{"text_format":"1","workbook":"xlsx","n_sheets":4,"sheets":["Student Record","Stu Data","Portfolio","Portfolio Eng"],"not_rendered":{"charts":0,"images":4,"macros":1,"external_links":1,"defined_names":7,"comments":0,"pivot_tables":0},"unopened":[],"bounds":{"document_bytes":16777216,"sheet_cells":100000,"rows_first":2000,"rows_last":500,"rows_between":2000,"halvings":0,"cell_chars":16384,"cell_head_chars":4096},"cells_cut":0,"cells_raw":0,"read":"whole","date_system":"1900"}

{"sheet":"Student Record","index":0,"n_rows":17,"n_cols":30,"rows_kept":17,"cut":false,"hidden":false,"merged":[]}
["Class","Section","SRNO","DOA","Name","Late Status","FatherName","MotherName","Gender","Dob","ClassRollNo","ExamRollNumber","School Total Working Days","Student Total Attendence","Category","Religion","Previous Year Marks","Name Of School","School UDise Code","Aadhar No of Student","Bhamashash Card","Mobile No Student(Father/Mother/Guardian","Student Permanent Address","Annual Parental Income","CWSN Status","BPL Status","Minority Status","Age On Present(In Years)","Co-Curricular Activity","Distance From School"]
[2,"A",75,null,"Anjna",null,"Babu Singh","Lalita","F","2016-10-16",null,null,7,null,"OBC",null,null,"GOVT. PRIMARY SCHOOL REECHHMAL DEWAS (409812)",8210608101,"XXXX6632",null,9461224515,null,null,"N","Y",null,7,null,0]
[2,"A",74,null,"Arjun",null,"Pratap Singh Rawat","Nandu Devi","M","2016-06-24",null,null,7,null,"OBC",null,null,"GOVT. PRIMARY SCHOOL REECHHMAL DEWAS (409812)",8210608101,null,null,7620450653,null,null,"N","Y",null,7,null,0]
[2,"A",70,null,"Bhawana",null,"Kailash Prajapat","Rekha Devi","F","2016-09-29",null,null,7,null,"OBC",null,null,"GOVT. PRIMARY SCHOOL REECHHMAL DEWAS (409812)",8210608101,"XXXX3694",null,8955927264,null,null,"N","Y",null,7,null,0]
[2,"A",72,null,"Bhawna",null,"Durga Singh","Kamla","F","2016-08-12",null,null,7,null,"OBC",null,null,"GOVT. PRIMARY SCHOOL REECHHMAL DEWAS (409812)",8210608101,null,null,7878967015,null,null,"N","Y",null,7,null,0]
[2,"A",67,null,"Krishna",null,"Trilok Singh","Sumitra","M","2016-11-11",null,null,7,null,"OBC",null,null,"GOVT. PRIMARY SCHOOL REECHHMAL DEWAS (409812)",8210608101,null,null,9461224515,null,null,"N","Y",null,7,null,0]
[2,"A",73,null,"Naitik",null,"Om Prakash","Chanchal","M","2017-05-12",null,null,7,null,"SC",null,null,"GOVT. PRIMARY SCHOOL REECHHMAL DEWAS (409812)",8210608101,"XXXX0552",null,9461224515,null,null,"N","Y",null,6,null,0]
[2,"A",68,null,"Niveeta Nath",null,"Meva Nath","Rekha Devi","F","2017-04-14",null,null,7,null,"OBC",null,null,"GOVT. PRIMARY SCHOOL REECHHMAL DEWAS (409812)",8210608101,"XXXX7695",null,8619334939,null,null,"N","Y",null,6,null,0]
[2,"A",69,null,"Raksha",null,"Pukhraj Prajapat","Ghani","F","2016-08-18",null,null,7,null,"OBC",null,null,"GOVT. PRIMARY SCHOOL REECHHMAL DEWAS (409812)",8210608101,"XXXX4742",null,9356576958,null,null,"N","Y",null,7,null,0]
[2,"A",71,null,"Sunil Singh",null,"Gopal Singh Rawat","Lalita","M","2017-02-19",null,null,7,null,"OBC",null,null,"GOVT. PRIMARY SCHOOL REECHHMAL DEWAS (409812)",8210608101,"XXXX5809",null,8619962981,null,null,"N","Y",null,6,null,0]
[3,"A",66,null,"Lalita",null,"Kailash Prajapat","Rekha Devi","F","2015-06-14",null,null,null,null,"OBC","Hindu",null,"GOVT. PRIMARY SCHOOL REECHHMAL DEWAS (409812)",8210608101,"XXXX3304","VZKACNN",9356576958,"REECHHMAL,MASUDA,REECHHMAL,305631",0,"N","N","No",8,"None",0]
[4,"A",62,null,"Ashok Singh",null,"Pratap Singh Rawat","Nandu","M","2015-07-01",null,null,null,null,"OBC","Hindu",null,"GOVT. PRIMARY SCHOOL REECHHMAL DEWAS (409812)",8210608101,"XXXX3136",null,9461224525,"REECHHMAL,MASUDA,REECHHMAL,305631",0,"N","N","No",8,"None",0]
[4,"A",63,null,"Komal",null,"Prabhu Singh","Rekha","F","2015-05-21",null,null,null,null,"OBC","Hindu",null,"GOVT. PRIMARY SCHOOL REECHHMAL DEWAS (409812)",8210608101,"XXXX3653",null,9461224515,"REECHHMAL,MASUDA,REECHHMAL,305631",0,"N","N","No",8,"None",0]
[5,"A",56,null,"MAMTA",null,"RAMESH SINGH","SUMITRA","F","2013-01-01",null,null,null,null,"OBC","Hindu",null,"GOVT. PRIMARY SCHOOL REECHHMAL DEWAS (409812)",8210608101,"XXXX3655",null,9461224515,"REECHHMAL,MASUDA,REECHHMAL,305631",0,"N","N","No",10,"None",0]
[5,"A",57,null,"Sanju Rawat",null,"Bhanwar Singh Rawat","Laxmi Rawat","F","2013-07-01",null,null,null,null,"OBC",null,null,"GOVT. PRIMARY SCHOOL REECHHMAL DEWAS (409812)",8210608101,null,null,9461224515,"REECHHMAL,MASUDA,REECHHMAL,305631",0,"N","N",null,10,"None",0]
[5,"A",76,null,"Umesh Nath",null,"Bhairu Nath","Chandi Devi","M","2013-08-28",null,null,null,null,"OBC",null,null,"GOVT. PRIMARY SCHOOL REECHHMAL DEWAS (409812)",8210608101,"XXXX0504",null,9772880638,null,null,"N","Y",null,10,null,0]
[5,"A",60,null,"Virat Nath",null,"Meva Nath","Rekha Devi","M","2014-08-24",null,null,null,null,"OBC","Hindu",null,"GOVT. PRIMARY SCHOOL REECHHMAL DEWAS (409812)",8210608101,"XXXX3506",null,9921788115,"REECHHMAL,MASUDA,REECHHMAL,305631",0,"N","N","No",9,"None",0]

{"sheet":"Stu Data","index":1,"n_rows":504,"n_cols":12,"rows_kept":504,"cut":false,"hidden":false,"merged":[[0,0,0,9],[1,0,1,9],[1,10,1,11],[0,10,0,11]]}
[]
["Student data"]
[]
["Sr.No.","Class","S.R.No.","Class Roll No.","Name of Student","Father's Name","Mother's Name","DOB","DOA","Aadhar No.","Mobile No.","Address"]
[{"$f":"IF(Table1[[#This Row],[Name of Student]]=\"\",\"\",ROWS($A$1:A1))","v":1},{"$f":"IF('Student Record'!A2=\"\",\"\",'Student Record'!A2)","v":2},{"$f":"IF('Student Record'!C2=\"\",\"\",'Student Record'!C2)","v":75},null,{"$f":"IF('Student Record'!E2=\"\",\"\",'Student Record'!E2)","v":"Anjna"},{"$f":"IF('Student Record'!G2=\"\",\"\",'Student Record'!G2)","v":"Babu Singh"},{"$f":"IF('Student Record'!H2=\"\",\"\",'Student Record'!H2)","v":"Lalita"},{"$f":"IF('Student Record'!J2=\"\",\"\",'Student Record'!J2)","v":"2016-10-16"},{"$f":"IF('Student Record'!D4=\"\",\"\",'Student Record'!D4)","v":""},{"$f":"IF('Student Record'!T2=\"\",\"\",'Student Record'!T2)","v":"XXXX6632"},{"$f":"IF('Student Record'!V2=\"\",\"\",'Student Record'!V2)","v":9461224515},{"$f":"IF('Student Record'!W2=\"\",\"\",'Student Record'!W2)","v":""}]
[{"$f":"IF(Table1[[#This Row],[Name of Student]]=\"\",\"\",ROWS($A$1:A2))","v":2},{"$f":"IF('Student Record'!A3=\"\",\"\",'Student Record'!A3)","v":2},{"$f":"IF('Student Record'!C3=\"\",\"\",'Student Record'!C3)","v":74},null,{"$f":"IF('Student Record'!E3=\"\",\"\",'Student Record'!E3)","v":"Arjun"},{"$f":"IF('Student Record'!G3=\"\",\"\",'Student Record'!G3)","v":"Pratap Singh Rawat"},{"$f":"IF('Student Record'!H3=\"\",\"\",'Student Record'!H3)","v":"Nandu Devi"},{"$f":"IF('Student Record'!J3=\"\",\"\",'Student Record'!J3)","v":"2016-06-24"},{"$f":"IF('Student Record'!D5=\"\",\"\",'Student Record'!D5)","v":""},{"$f":"IF('Student Record'!T3=\"\",\"\",'Student Record'!T3)","v":""},{"$f":"IF('Student Record'!V3=\"\",\"\",'Student Record'!V3)","v":7620450653},{"$f":"IF('Student Record'!W3=\"\",\"\",'Student Record'!W3)","v":""}]
[{"$f":"IF(Table1[[#This Row],[Name of Student]]=\"\",\"\",ROWS($A$1:A3))","v":3},{"$f":"IF('Student Record'!A4=\"\",\"\",'Student Record'!A4)","v":2},{"$f":"IF('Student Record'!C4=\"\",\"\",'Student Record'!C4)","v":70},null,{"$f":"IF('Student Record'!E4=\"\",\"\",'Student Record'!E4)","v":"Bhawana"},{"$f":"IF('Student Record'!G4=\"\",\"\",'Student Record'!G4)","v":"Kailash Prajapat"},{"$f":"IF('Student Record'!H4=\"\",\"\",'Student Record'!H4)","v":"Rekha Devi"},{"$f":"IF('Student Record'!J4=\"\",\"\",'Student Record'!J4)","v":"2016-09-29"},{"$f":"IF('Student Record'!D6=\"\",\"\",'Student Record'!D6)","v":""},{"$f":"IF('Student Record'!T4=\"\",\"\",'Student Record'!T4)","v":"XXXX3694"},{"$f":"IF('Student Record'!V4=\"\",\"\",'Student Record'!V4)","v":8955927264},{"$f":"IF('Student Record'!W4=\"\",\"\",'Student Record'!W4)","v":""}]
[{"$f":"IF(Table1[[#This Row],[Name of Student]]=\"\",\"\",ROWS($A$1:A4))","v":4},{"$f":"IF('Student Record'!A5=\"\",\"\",'Student Record'!A5)","v":2},{"$f":"IF('Student Record'!C5=\"\",\"\",'Student Record'!C5)","v":72},null,{"$f":"IF('Student Record'!E5=\"\",\"\",'Student Record'!E5)","v":"Bhawna"},{"$f":"IF('Student Record'!G5=\"\",\"\",'Student Record'!G5)","v":"Durga Singh"},{"$f":"IF('Student Record'!H5=\"\",\"\",'Student Record'!H5)","v":"Kamla"},{"$f":"IF('Student Record'!J5=\"\",\"\",'Student Record'!J5)","v":"2016-08-12"},{"$f":"IF('Student Record'!D7=\"\",\"\",'Student Record'!D7)","v":""},{"$f":"IF('Student Record'!T5=\"\",\"\",'Student Record'!T5)","v":""},{"$f":"IF('Student Record'!V5=\"\",\"\",'Student Record'!V5)","v":7878967015},{"$f":"IF('Student Record'!W5=\"\",\"\",'Student Record'!W5)","v":""}]
[{"$f":"IF(Table1[[#This Row],[Name of Student]]=\"\",\"\",ROWS($A$1:A5))","v":5},{"$f":"IF('Student Record'!A6=\"\",\"\",'Student Record'!A6)","v":2},{"$f":"IF('Student Record'!C6=\"\",\"\",'Student Record'!C6)","v":67},null,{"$f":"IF('Student Record'!E6=\"\",\"\",'Student Record'!E6)","v":"Krishna"},{"$f":"IF('Student Record'!G6=\"\",\"\",'Student Record'!G6)","v":"Trilok Singh"},{"$f":"IF('Student Record'!H6=\"\",\"\",'Student Record'!H6)","v":"Sumitra"},{"$f":"IF('Student Record'!J6=\"\",\"\",'Student Record'!J6)","v":"2016-11-11"},{"$f":"IF('Student Record'!D8=\"\",\"\",'Student Record'!D8)","v":""},{"$f":"IF('Student Record'!T6=\"\",\"\",'Student Record'!T6)","v":""},{"$f":"IF('Student Record'!V6=\"\",\"\",'Student Record'!V6)","v":9461224515},{"$f":"IF('Student Record'!W6=\"\",\"\",'Student Record'!W6)","v":""}]
[{"$f":"IF(Table1[[#This Row],[Name of Student]]=\"\",\"\",ROWS($A$1:A6))","v":6},{"$f":"IF('Student Record'!A7=\"\",\"\",'Student Record'!A7)","v":2},{"$f":"IF('Student Record'!C7=\"\",\"\",'Student Record'!C7)","v":73},null,{"$f":"IF('Student Record'!E7=\"\",\"\",'Student Record'!E7)","v":"Naitik"},{"$f":"IF('Student Record'!G7=\"\",\"\",'Student Record'!G7)","v":"Om Prakash"},{"$f":"IF('Student Record'!H7=\"\",\"\",'Student Record'!H7)","v":"Chanchal"},{"$f":"IF('Student Record'!J7=\"\",\"\",'Student Record'!J7)","v":"2017-05-12"},{"$f":"IF('Student Record'!D9=\"\",\"\",'Student Record'!D9)","v":""},{"$f":"IF('Student Record'!T7=\"\",\"\",'Student Record'!T7)","v":"XXXX0552"},{"$f":"IF('Student Record'!V7=\"\",\"\",'Student Record'!V7)","v":9461224515},{"$f":"IF('Student Record'!W7=\"\",\"\",'Student Record'!W7)","v":""}]
[{"$f":"IF(Table1[[#This Row],[Name of Student]]=\"\",\"\",ROWS($A$1:A7))","v":7},{"$f":"IF('Student Record'!A8=\"\",\"\",'Student Record'!A8)","v":2},{"$f":"IF('Student Record'!C8=\"\",\"\",'Student Record'!C8)","v":68},null,{"$f":"IF('Student Record'!E8=\"\",\"\",'Student Record'!E8)","v":"Niveeta Nath"},{"$f":"IF('Student Record'!G8=\"\",\"\",'Student Record'!G8)","v":"Meva Nath"},{"$f":"IF('Student Record'!H8=\"\",\"\",'Student Record'!H8)","v":"Rekha Devi"},{"$f":"IF('Student Record'!J8=\"\",\"\",'Student Record'!J8)","v":"2017-04-14"},{"$f":"IF('Student Record'!D10=\"\",\"\",'Student Record'!D10)","v":""},{"$f":"IF('Student Record'!T8=\"\",\"\",'Student Record'!T8)","v":"XXXX7695"},{"$f":"IF('Student Record'!V8=\"\",\"\",'Student Record'!V8)","v":8619334939},{"$f":"IF('Student Record'!W8=\"\",\"\",'Student Record'!W8)","v":""}]
[{"$f":"IF(Table1[[#This Row],[Name of Student]]=\"\",\"\",ROWS($A$1:A8))","v":8},{"$f":"IF('Student Record'!A9=\"\",\"\",'Student Record'!A9)","v":2},{"$f":"IF('Student Record'!C9=\"\",\"\",'Student Record'!C9)","v":69},null,{"$f":"IF('Student Record'!E9=\"\",\"\",'Student Record'!E9)","v":"Raksha"},{"$f":"IF('Student Record'!G9=\"\",\"\",'Student Record'!G9)","v":"Pukhraj Prajapat"},{"$f":"IF('Student Record'!H9=\"\",\"\",'Student Record'!H9)","v":"Ghani"},{"$f":"IF('Student Record'!J9=\"\",\"\",'Student Record'!J9)","v":"2016-08-18"},{"$f":"IF('Student Record'!D11=\"\",\"\",'Student Record'!D11)","v":""},{"$f":"IF('Student Record'!T9=\"\",\"\",'Student Record'!T9)","v":"XXXX4742"},{"$f":"IF('Student Record'!V9=\"\",\"\",'Student Record'!V9)","v":9356576958},{"$f":"IF('Student Record'!W9=\"\",\"\",'Student Record'!W9)","v":""}]
[{"$f":"IF(Table1[[#This Row],[Name of Student]]=\"\",\"\",ROWS($A$1:A9))","v":9},{"$f":"IF('Student Record'!A10=\"\",\"\",'Student Record'!A10)","v":2},{"$f":"IF('Student Record'!C10=\"\",\"\",'Student Record'!C10)","v":71},null,{"$f":"IF('Student Record'!E10=\"\",\"\",'Student Record'!E10)","v":"Sunil Singh"},{"$f":"IF('Student Record'!G10=\"\",\"\",'Student Record'!G10)","v":"Gopal Singh Rawat"},{"$f":"IF('Student Record'!H10=\"\",\"\",'Student Record'!H10)","v":"Lalita"},{"$f":"IF('Student Record'!J10=\"\",\"\",'Student Record'!J10)","v":"2017-02-19"},{"$f":"IF('Student Record'!D12=\"\",\"\",'Student Record'!D12)","v":""},{"$f":"IF('Student Record'!T10=\"\",\"\",'Student Record'!T10)","v":"XXXX5809"},{"$f":"IF('Student Record'!V10=\"\",\"\",'Student Record'!V10)","v":8619962981},{"$f":"IF('Student Record'!W10=\"\",\"\",'Student Record'!W10)","v":""}]
[{"$f":"IF(Table1[[#This Row],[Name of Student]]=\"\",\"\",ROWS($A$1:A10))","v":10},{"$f":"IF('Student Record'!A11=\"\",\"\",'Student Record'!A11)","v":3},{"$f":"IF('Student Record'!C11=\"\",\"\",'Student Record'!C11)","v":66},null,{"$f":"IF('Student Record'!E11=\"\",\"\",'Student Record'!E11)","v":"Lalita"},{"$f":"IF('Student Record'!G11=\"\",\"\",'Student Record'!G11)","v":"Kailash Prajapat"},{"$f":"IF('Student Record'!H11=\"\",\"\",'Student Record'!H11)","v":"Rekha Devi"},{"$f":"IF('Student Record'!J11=\"\",\"\",'Student Record'!J11)","v":"2015-06-14"},{"$f":"IF('Student Record'!D13=\"\",\"\",'Student Record'!D13)","v":""},{"$f":"IF('Student Record'!T11=\"\",\"\",'Student Record'!T11)","v":"XXXX3304"},{"$f":"IF('Student Record'!V11=\"\",\"\",'Student Record'!V11)","v":9356576958},{"$f":"IF('Student Record'!W11=\"\",\"\",'Student Record'!W11)","v":"REECHHMAL,MASUDA,REECHHMAL,305631"}]
[{"$f":"IF(Table1[[#This Row],[Name of Student]]=\"\",\"\",ROWS($A$1:A11))","v":11},{"$f":"IF('Student Record'!A12=\"\",\"\",'Student Record'!A12)","v":4},{"$f":"IF('Student Record'!C12=\"\",\"\",'Student Record'!C12)","v":62},null,{"$f":"IF('Student Record'!E12=\"\",\"\",'Student Record'!E12)","v":"Ashok Singh"},{"$f":"IF('Student Record'!G12=\"\",\"\",'Student Record'!G12)","v":"Pratap Singh Rawat"},{"$f":"IF('Student Record'!H12=\"\",\"\",'Student Record'!H12)","v":"Nandu"},{"$f":"IF('Student Record'!J12=\"\",\"\",'Student Record'!J12)","v":"2015-07-01"},{"$f":"IF('Student Record'!D14=\"\",\"\",'Student Record'!D14)","v":""},{"$f":"IF('Student Record'!T12=\"\",\"\",'Student Record'!T12)","v":"XXXX3136"},{"$f":"IF('Student Record'!V12=\"\",\"\",'Student Record'!V12)","v":9461224525},{"$f":"IF('Student Record'!W12=\"\",\"\",'Student Record'!W12)","v":"REECHHMAL,MASUDA,REECHHMAL,305631"}]
[{"$f":"IF(Table1[[#This Row],[Name of Student]]=\"\",\"\",ROWS($A$1:A12))","v":12},{"$f":"IF('Student Record'!A13=\"\",\"\",'Student Record'!A13)","v":4},{"$f":"IF('Student Record'!C13=\"\",\"\",'Student Record'!C13)","v":63},null,{"$f":"IF('Student Record'!E13=\"\",\"\",'Student Record'!E13)","v":"Komal"},{"$f":"IF('Student Record'!G13=\"\",\"\",'Student Record'!G13)","v":"Prabhu Singh"},{"$f":"IF('Student Record'!H13=\"\",\"\",'Student Record'!H13)","v":"Rekha"},{"$f":"IF('Student Record'!J13=\"\",\"\",'Student Record'!J13)","v":"2015-05-21"},{"$f":"IF('Student Record'!D15=\"\",\"\",'Student Record'!D15)","v":""},{"$f":"IF('Student Record'!T13=\"\",\"\",'Student Record'!T13)","v":"XXXX3653"},{"$f":"IF('Student Record'!V13=\"\",\"\",'Student Record'!V13)","v":9461224515},{"$f":"IF('Student Record'!W13=\"\",\"\",'Student Record'!W13)","v":"REECHHMAL,MASUDA,REECHHMAL,305631"}]
[{"$f":"IF(Table1[[#This Row],[Name of Student]]=\"\",\"\",ROWS($A$1:A13))","v":13},{"$f":"IF('Student Record'!A14=\"\",\"\",'Student Record'!A14)","v":5},{"$f":"IF('Student Record'!C14=\"\",\"\",'Student Record'!C14)","v":56},null,{"$f":"IF('Student Record'!E14=\"\",\"\",'Student Record'!E14)","v":"MAMTA"},{"$f":"IF('Student Record'!G14=\"\",\"\",'Student Record'!G14)","v":"RAMESH SINGH"},{"$f":"IF('Student Record'!H14=\"\",\"\",'Student Record'!H14)","v":"SUMITRA"},{"$f":"IF('Student Record'!J14=\"\",\"\",'Student Record'!J14)","v":"2013-01-01"},{"$f":"IF('Student Record'!D16=\"\",\"\",'Student Record'!D16)","v":""},{"$f":"IF('Student Record'!T14=\"\",\"\",'Student Record'!T14)","v":"XXXX3655"},{"$f":"IF('Student Record'!V14=\"\",\"\",'Student Record'!V14)","v":9461224515},{"$f":"IF('Student Record'!W14=\"\",\"\",'Student Record'!W14)","v":"REECHHMAL,MASUDA,REECHHMAL,305631"}]
[{"$f":"IF(Table1[[#This Row],[Name of Student]]=\"\",\"\",ROWS($A$1:A14))","v":14},{"$f":"IF('Student Record'!A15=\"\",\"\",'Student Record'!A15)","v":5},{"$f":"IF('Student Record'!C15=\"\",\"\",'Student Record'!C15)","v":57},null,{"$f":"IF('Student Record'!E15=\"\",\"\",'Student Record'!E15)","v":"Sanju Rawat"},{"$f":"IF('Student Record'!G15=\"\",\"\",'Student Record'!G15)","v":"Bhanwar Singh Rawat"},{"$f":"IF('Student Record'!H15=\"\",\"\",'Student Record'!H15)","v":"Laxmi Rawat"},{"$f":"IF('Student Record'!J15=\"\",\"\",'Student Record'!J15)","v":"2013-07-01"},{"$f":"IF('Student Record'!D17=\"\",\"\",'Student Record'!D17)","v":""},{"$f":"IF('Student Record'!T15=\"\",\"\",'Student Record'!T15)","v":""},{"$f":"IF('Student Record'!V15=\"\",\"\",'Student Record'!V15)","v":9461224515},{"$f":"IF('Student Record'!W15=\"\",\"\",'Student Record'!W15)","v":"REECHHMAL,MASUDA,REECHHMAL,305631"}]
[{"$f":"IF(Table1[[#This Row],[Name of Student]]=\"\",\"\",ROWS($A$1:A15))","v":15},{"$f":"IF('Student Record'!A16=\"\",\"\",'Student Record'!A16)","v":5},{"$f":"IF('Student Record'!C16=\"\",\"\",'Student Record'!C16)","v":76},null,{"$f":"IF('Student Record'!E16=\"\",\"\",'Student Record'!E16)","v":"Umesh Nath"},{"$f":"IF('Student Record'!G16=\"\",\"\",'Student Record'!G16)","v":"Bhairu Nath"},{"$f":"IF('Student Record'!H16=\"\",\"\",'Student Record'!H16)","v":"Chandi Devi"},{"$f":"IF('Student Record'!J16=\"\",\"\",'Student Record'!J16)","v":"2013-08-28"},{"$f":"IF('Student Record'!D18=\"\",\"\",'Student Record'!D18)","v":""},{"$f":"IF('Student Record'!T16=\"\",\"\",'Student Record'!T16)","v":"XXXX0504"},{"$f":"IF('Student Record'!V16=\"\",\"\",'Student Record'!V16)","v":9772880638},{"$f":"IF('Student Record'!W16=\"\",\"\",'Student Record'!W16)","v":""}]
[{"$f":"IF(Table1[[#This Row],[Name of Student]]=\"\",\"\",ROWS($A$1:A16))","v":16},{"$f":"IF('Student Record'!A17=\"\",\"\",'Student Record'!A17)","v":5},{"$f":"IF('Student Record'!C17=\"\",\"\",'Student Record'!C17)","v":60},null,{"$f":"IF('Student Record'!E17=\"\",\"\",'Student Record'!E17)","v":"Virat Nath"},{"$f":"IF('Student Record'!G17=\"\",\"\",'Student Record'!G17)","v":"Meva Nath"},{"$f":"IF('Student Record'!H17=\"\",\"\",'Student Record'!H17)","v":"Rekha Devi"},{"$f":"IF('Student Record'!J17=\"\",\"\",'Student Record'!J17)","v":"2014-08-24"},{"$f":"IF('Student Record'!D19=\"\",\"\",'Student Record'!D19)","v":""},{"$f":"IF('Student Record'!T17=\"\",\"\",'Student Record'!T17)","v":"XXXX3506"},{"$f":"IF('Student Record'!V17=\"\",\"\",'Student Record'!V17)","v":9921788115},{"$f":"IF('Student Record'!W17=\"\",\"\",'Student Record'!W17)","v":"REECHHMAL,MASUDA,REECHHMAL,305631"}]
[{"$f":"IF(Table1[[#This Row],[Name of Student]]=\"\",\"\",ROWS($A$1:A17))","v":""},{"$f":"IF('Student Record'!A18=\"\",\"\",'Student Record'!A18)","v":""},{"$f":"IF('Student Record'!C18=\"\",\"\",'Student Record'!C18)","v":""},null,{"$f":"IF('Student Record'!E18=\"\",\"\",'Student Record'!E18)","v":""},{"$f":"IF('Student Record'!G18=\"\",\"\",'Student Record'!G18)","v":""},{"$f":"IF('Student Record'!H18=\"\",\"\",'Student Record'!H18)","v":""},{"$f":"IF('Student Record'!J18=\"\",\"\",'Student Record'!J18)","v":""},{"$f":"IF('Student Record'!D20=\"\",\"\",'Student Record'!D20)","v":""},{"$f":"IF('Student Record'!T18=\"\",\"\",'Student Record'!T18)","v":""},{"$f":"IF('Student Record'!V18=\"\",\"\",'Student Record'!V18)","v":""},{"$f":"IF('Student Record'!W18=\"\",\"\",'Student Record'!W18)","v":""}]
[{"$f":"IF(Table1[[#This Row],[Name of Student]]=\"\",\"\",ROWS($A$1:A18))","v":""},{"$f":"IF('Student Record'!A19=\"\",\"\",'Student Record'!A19)","v":""},{"$f":"IF('Student Record'!C19=\"\",\"\",'Student Record'!C19)","v":""},null,{"$f":"IF('Student Record'!E19=\"\",\"\",'Student Record'!E19)","v":""},{"$f":"IF('Student Record'!G19=\"\",\"\",'Student Record'!G19)","v":""},{"$f":"IF('Student Record'!H19=\"\",\"\",'Student Record'!H19)","v":""},{"$f":"IF('Student Record'!J19=\"\",\"\",'Student Record'!J19)","v":""},{"$f":"IF('Student Record'!D21=\"\",\"\",'Student Record'!D21)","v":""},{"$f":"IF('Student Record'!T19=\"\",\"\",'Student Record'!T19)","v":""},{"$f":"IF('Student Record'!V19=\"\",\"\",'Student Record'!V19)","v":""},{"$f":"IF('Student Record'!W19=\"\",\"\",'Student Record'!W19)","v":""}]
[{"$f":"IF(Table1[[#This Row],[Name of Student]]=\"\",\"\",ROWS($A$1:A19))","v":""},{"$f":"IF('Student Record'!A20=\"\",\"\",'Student Record'!A20)","v":""},{"$f":"IF('Student Record'!C20=\"\",\"\",'Student Record'!C20)","v":""},null,{"$f":"IF('Student Record'!E20=\"\",\"\",'Student Record'!E20)","v":""},{"$f":"IF('Student Record'!G20=\"\",\"\",'Student Record'!G20)","v":""},{"$f":"IF('Student Record'!H20=\"\",\"\",'Student Record'!H20)","v":""},{"$f":"IF('Student Record'!J20=\"\",\"\",'Student Record'!J20)","v":""},{"$f":"IF('Student Record'!D22=\"\",\"\",'Student Record'!D22)","v":""},{"$f":"IF('Student Record'!T20=\"\",\"\",'Student Record'!T20)","v":""},{"$f":"IF('Student Record'!V20=\"\",\"\",'Student Record'!V20)","v":""},{"$f":"IF('Student Record'!W20=\"\",\"\",'Student Record'!W20)","v":""}]
[{"$f":"IF(Table1[[#This Row],[Name of Student]]=\"\",\"\",ROWS($A$1:A20))","v":""},{"$f":"IF('Student Record'!A21=\"\",\"\",'Student Record'!A21)","v":""},{"$f":"IF('Student Record'!C21=\"\",\"\",'Student Record'!C21)","v":""},null,{"$f":"IF('Student Record'!E21=\"\",\"\",'Student Record'!E21)","v":""},{"$f":"IF('Student Record'!G21=\"\",\"\",'Student Record'!G21)","v":""},{"$f":"IF('Student Record'!H21=\"\",\"\",'Student Record'!H21)","v":""},{"$f":"IF('Student Record'!J21=\"\",\"\",'Student Record'!J21)","v":""},{"$f":"IF('Student Record'!D23=\"\",\"\",'Student Record'!D23)","v":""},{"$f":"IF('Student Record'!T21=\"\",\"\",'Student Record'!T21)","v":""},{"$f":"IF('Student Record'!V21=\"\",\"\",'Student Record'!V21)","v":""},{"$f":"IF('Student Record'!W21=\"\",\"\",'Student Record'!W21)","v":""}]
[{"$f":"IF(Table1[[#This Row],[Name of Student]]=\"\",\"\",ROWS($A$1:A21))","v":""},{"$f":"IF('Student Record'!A22=\"\",\"\",'Student Record'!A22)","v":""},{"$f":"IF('Student Record'!C22=\"\",\"\",'Student Record'!C22)","v":""},null,{"$f":"IF('Student Record'!E22=\"\",\"\",'Student Record'!E22)","v":""},{"$f":"IF('Student Record'!G22=\"\",\"\",'Student Record'!G22)","v":""},{"$f":"IF('Student Record'!H22=\"\",\"\",'Student Record'!H22)","v":""},{"$f":"IF('Student Record'!J22=\"\",\"\",'Student Record'!J22)","v":""},{"$f":"IF('Student Record'!D24=\"\",\"\",'Student Record'!D24)","v":""},{"$f":"IF('Student Record'!T22=\"\",\"\",'Student Record'!T22)","v":""},{"$f":"IF('Student Record'!V22=\"\",\"\",'Student Record'!V22)","v":""},{"$f":"IF('Student Record'!W22=\"\",\"\",'Student Record'!W22)","v":""}]
[{"$f":"IF(Table1[[#This Row],[Name of Student]]=\"\",\"\",ROWS($A$1:A22))","v":""},{"$f":"IF('Student Record'!A23=\"\",\"\",'Student Record'!A23)","v":""},{"$f":"IF('Student Record'!C23=\"\",\"\",'Student Record'!C23)","v":""},null,{"$f":"IF('Student Record'!E23=\"\",\"\",'Student Record'!E23)","v":""},{"$f":"IF('Student Record'!G23=\"\",\"\",'Student Record'!G23)","v":""},{"$f":"IF('Student Record'!H23=\"\",\"\",'Student Record'!H23)","v":""},{"$f":"IF('Student Record'!J23=\"\",\"\",'Student Record'!J23)","v":""},{"$f":"IF('Student Record'!D25=\"\",\"\",'Student Record'!D25)","v":""},{"$f":"IF('Student Record'!T23=\"\",\"\",'Student Record'!T23)","v":""},{"$f":"IF('Student Record'!V23=\"\",\"\",'Student Record'!V23)","v":""},{"$f":"IF('Student Record'!W23=\"\",\"\",'Student Record'!W23)","v":""}]
[{"$f":"IF(Table1[[#This Row],[Name of Student]]=\"\",\"\",ROWS($A$1:A23))","v":""},{"$f":"IF('Student Record'!A24=\"\",\"\",'Student Record'!A24)","v":""},{"$f":"IF('Student Record'!C24=\"\",\"\",'Student Record'!C24)","v":""},null,{"$f":"IF('Student Record'!E24=\"\",\"\",'Student Record'!E24)","v":""},{"$f":"IF('Student Record'!G24=\"\",\"\",'Student Record'!G24)","v":""},{"$f":"IF('Student Record'!H24=\"\",\"\",'Student Record'!H24)","v":""},{"$f":"IF('Student Record'!J24=\"\",\"\",'Student Record'!J24)","v":""},{"$f":"IF('Student Record'!D26=\"\",\"\",'Student Record'!D26)","v":""},{"$f":"IF('Student Record'!T24=\"\",\"\",'Student Record'!T24)","v":""},{"$f":"IF('Student Record'!V24=\"\",\"\",'Student Record'!V24)","v":""},{"$f":"IF('Student Record'!W24=\"\",\"\",'Student Record'!W24)","v":""}]
[{"$f":"IF(Table1[[#This Row],[Name of Student]]=\"\",\"\",ROWS($A$1:A24))","v":""},{"$f":"IF('Student Record'!A25=\"\",\"\",'Student Record'!A25)","v":""},{"$f":"IF('Student Record'!C25=\"\",\"\",'Student Record'!C25)","v":""},null,{"$f":"IF('Student Record'!E25=\"\",\"\",'Student Record'!E25)","v":""},{"$f":"IF('Student Record'!G25=\"\",\"\",'Student Record'!G25)","v":""},{"$f":"IF('Student Record'!H25=\"\",\"\",'Student Record'!H25)","v":""},{"$f":"IF('Student Record'!J25=\"\",\"\",'Student Record'!J25)","v":""},{"$f":"IF('Student Record'!D27=\"\",\"\",'Student Record'!D27)","v":""},{"$f":"IF('Student Record'!T25=\"\",\"\",'Student Record'!T25)","v":""},{"$f":"IF('Student Record'!V25=\"\",\"\",'Student Record'!V25)","v":""},{"$f":"IF('Student Record'!W25=\"\",\"\",'Student Record'!W25)","v":""}]
[{"$f":"IF(Table1[[#This Row],[Name of Student]]=\"\",\"\",ROWS($A$1:A25))","v":""},{"$f":"IF('Student Record'!A26=\"\",\"\",'Student Record'!A26)","v":""},{"$f":"IF('Student Record'!C26=\"\",\"\",'Student Record'!C26)","v":""},null,{"$f":"IF('Student Record'!E26=\"\",\"\",'Student Record'!E26)","v":""},{"$f":"IF('Student Record'!G26=\"\",\"\",'Student Record'!G26)","v":""},{"$f":"IF('Student Record'!H26=\"\",\"\",'Student Record'!H26)","v":""},{"$f":"IF('Student Record'!J26=\"\",\"\",'Student Record'!J26)","v":""},{"$f":"IF('Student Record'!D28=\"\",\"\",'Student Record'!D28)","v":""},{"$f":"IF('Student Record'!T26=\"\",\"\",'Student Record'!T26)","v":""},{"$f":"IF('Student Record'!V26=\"\",\"\",'Student Record'!V26)","v":""},{"$f":"IF('Student Record'!W26=\"\",\"\",'Student Record'!W26)","v":""}]
[{"$f":"IF(Table1[[#This Row],[Name of Student]]=\"\",\"\",ROWS($A$1:A26))","v":""},{"$f":"IF('Student Record'!A27=\"\",\"\",'Student Record'!A27)","v":""},{"$f":"IF('Student Record'!C27=\"\",\"\",'Student Record'!C27)","v":""},null,{"$f":"IF('Student Record'!E27=\"\",\"\",'Student Record'!E27)","v":""},{"$f":"IF('Student Record'!G27=\"\",\"\",'Student Record'!G27)","v":""},{"$f":"IF('Student Record'!H27=\"\",\"\",'Student Record'!H27)","v":""},{"$f":"IF('Student Record'!J27=\"\",\"\",'Student Record'!J27)","v":""},{"$f":"IF('Student Record'!D29=\"\",\"\",'Student Record'!D29)","v":""},{"$f":"IF('Student Record'!T27=\"\",\"\",'Student Record'!T27)","v":""},{"$f":"IF('Student Record'!V27=\"\",\"\",'Student Record'!V27)","v":""},{"$f":"IF('Student Record'!W27=\"\",\"\",'Student Record'!W27)","v":""}]
[{"$f":"IF(Table1[[#This Row],[Name of Student]]=\"\",\"\",ROWS($A$1:A27))","v":""},{"$f":"IF('Student Record'!A28=\"\",\"\",'Student Record'!A28)","v":""},{"$f":"IF('Student Record'!C28=\"\",\"\",'Student Record'!C28)","v":""},null,{"$f":"IF('Student Record'!E28=\"\",\"\",'Student Record'!E28)","v":""},{"$f":"IF('Student Record'!G28=\"\",\"\",'Student Record'!G28)","v":""},{"$f":"IF('Student Record'!H28=\"\",\"\",'Student Record'!H28)","v":""},{"$f":"IF('Student Record'!J28=\"\",\"\",'Student Record'!J28)","v":""},{"$f":"IF('Student Record'!D30=\"\",\"\",'Student Record'!D30)","v":""},{"$f":"IF('Student Record'!T28=\"\",\"\",'Student Record'!T28)","v":""},{"$f":"IF('Student Record'!V28=\"\",\"\",'Student Record'!V28)","v":""},{"$f":"IF('Student Record'!W28=\"\",\"\",'Student Record'!W28)","v":""}]
[{"$f":"IF(Table1[[#This Row],[Name of Student]]=\"\",\"\",ROWS($A$1:A28))","v":""},{"$f":"IF('Student Record'!A29=\"\",\"\",'Student Record'!A29)","v":""},{"$f":"IF('Student Record'!C29=\"\",\"\",'Student Record'!C29)","v":""},null,{"$f":"IF('Student Record'!E29=\"\",\"\",'Student Record'!E29)","v":""},{"$f":"IF('Student Record'!G29=\"\",\"\",'Student Record'!G29)","v":""},{"$f":"IF('Student Record'!H29=\"\",\"\",'Student Record'!H29)","v":""},{"$f":"IF('Student Record'!J29=\"\",\"\",'Student Record'!J29)","v":""},{"$f":"IF('Student Record'!D31=\"\",\"\",'Student Record'!D31)","v":""},{"$f":"IF('Student Record'!T29=\"\",\"\",'Student Record'!T29)","v":""},{"$f":"IF('Student Record'!V29=\"\",\"\",'Student Record'!V29)","v":""},{"$f":"IF('Student Record'!W29=\"\",\"\",'Student Record'!W29)","v":""}]
[{"$f":"IF(Table1[[#This Row],[Name of Student]]=\"\",\"\",ROWS($A$1:A29))","v":""},{"$f":"IF('Student Record'!A30=\"\",\"\",'Student Record'!A30)","v":""},{"$f":"IF('Student Record'!C30=\"\",\"\",'Student Record'!C30)","v":""},null,{"$f":"IF('Student Record'!E30=\"\",\"\",'Student Record'!E30)","v":""},{"$f":"IF('Student Record'!G30=\"\",\"\",'Student Record'!G30)","v":""},{"$f":"IF('Student Record'!H30=\"\",\"\",'Student Record'!H30)","v":""},{"$f":"IF('Student Record'!J30=\"\",\"\",'Student Record'!J30)","v":""},{"$f":"IF('Student Record'!D32=\"\",\"\",'Student Record'!D32)","v":""},{"$f":"IF('Student Record'!T30=\"\",\"\",'Student Record'!T30)","v":""},{"$f":"IF('Student Record'!V30=\"\",\"\",'Student Record'!V30)","v":""},{"$f":"IF('Student Record'!W30=\"\",\"\",'Student Record'!W30)","v":""}]
[{"$f":"IF(Table1[[#This Row],[Name of Student]]=\"\",\"\",ROWS($A$1:A30))","v":""},{"$f":"IF('Student Record'!A31=\"\",\"\",'Student Record'!A31)","v":""},{"$f":"IF('Student Record'!C31=\"\",\"\",'Student Record'!C31)","v":""},null,{"$f":"IF('Student Record'!E31=\"\",\"\",'Student Record'!E31)","v":""},{"$f":"IF('Student Record'!G31=\"\",\"\",'Student Record'!G31)","v":""},{"$f":"IF('Student Record'!H31=\"\",\"\",'Student Record'!H31)","v":""},{"$f":"IF('Student Record'!J31=\"\",\"\",'Student Record'!J31)","v":""},{"$f":"IF('Student Record'!D33=\"\",\"\",'Student Record'!D33)","v":""},{"$f":"IF('Student Record'!T31=\"\",\"\",'Student Record'!T31)","v":""},{"$f":"IF('Student Record'!V31=\"\",\"\",'Student Record'!V31)","v":""},{"$f":"IF('Student Record'!W31=\"\",\"\",'Student Record'!W31)","v":""}]
[{"$f":"IF(Table1[[#This Row],[Name of Student]]=\"\",\"\",ROWS($A$1:A31))","v":""},{"$f":"IF('Student Record'!A32=\"\",\"\",'Student Record'!A32)","v":""},{"$f":"IF('Student Record'!C32=\"\",\"\",'Student Record'!C32)","v":""},null,{"$f":"IF('Student Record'!E32=\"\",\"\",'Student Record'!E32)","v":""},{"$f":"IF('Student Record'!G32=\"\",\"\",'Student Record'!G32)","v":""},{"$f":"IF('Student Record'!H32=\"\",\"\",'Student Record'!H32)","v":""},{"$f":"IF('Student Record'!J32=\"\",\"\",'Student Record'!J32)","v":""},{"$f":"IF('Student Record'!D34=\"\",\"\",'Student Record'!D34)","v":""},{"$f":"IF('Student Record'!T32=\"\",\"\",'Student Record'!T32)","v":""},{"$f":"IF('Student Record'!V32=\"\",\"\",'Student Record'!V32)","v":""},{"$f":"IF('Student Record'!W32=\"\",\"\",'Student Record'!W32)","v":""}]
[{"$f":"IF(Table1[[#This Row],[Name of Student]]=\"\",\"\",ROWS($A$1:A32))","v":""},{"$f":"IF('Student Record'!A33=\"\",\"\",'Student Record'!A33)","v":""},{"$f":"IF('Student Record'!C33=\"\",\"\",'Student Record'!C33)","v":""},null,{"$f":"IF('Student Record'!E33=\"\",\"\",'Student Record'!E33)","v":""},{"$f":"IF('Student Record'!G33=\"\",\"\",'Student Record'!G33)","v":""},{"$f":"IF('Student Record'!H33=\"\",\"\",'Student Record'!H33)","v":""},{"$f":"IF('Student Record'!J33=\"\",\"\",'Student Record'!J33)","v":""},{"$f":"IF('Student Record'!D35=\"\",\"\",'Student Record'!D35)","v":""},{"$f":"IF('Student Record'!T33=\"\",\"\",'Student Record'!T33)","v":""},{"$f":"IF('Student Record'!V33=\"\",\"\",'Student Record'!V33)","v":""},{"$f":"IF('Student Record'!W33=\"\",\"\",'Student Record'!W33)","v":""}]
[{"$f":"IF(Table1[[#This Row],[Name of Student]]=\"\",\"\",ROWS($A$1:A33))","v":""},{"$f":"IF('Student Record'!A34=\"\",\"\",'Student Record'!A34)","v":""},{"$f":"IF('Student Record'!C34=\"\",\"\",'Student Record'!C34)","v":""},null,{"$f":"IF('Student Record'!E34=\"\",\"\",'Student Record'!E34)","v":""},{"$f":"IF('Student Record'!G34=\"\",\"\",'Student Record'!G34)","v":""},{"$f":"IF('Student Record'!H34=\"\",\"\",'Student Record'!H34)","v":""},{"$f":"IF('Student Record'!J34=\"\",\"\",'Student Record'!J34)","v":""},{"$f":"IF('Student Record'!D36=\"\",\"\",'Student Record'!D36)","v":""},{"$f":"IF('Student Record'!T34=\"\",\"\",'Student Record'!T34)","v":""},{"$f":"IF('Student Record'!V34=\"\",\"\",'Student Record'!V34)","v":""},{"$f":"IF('Student Record'!W34=\"\",\"\",'Student Record'!W34)","v":""}]
[{"$f":"IF(Table1[[#This Row],[Name of Student]]=\"\",\"\",ROWS($A$1:A34))","v":""},{"$f":"IF('Student Record'!A35=\"\",\"\",'Student Record'!A35)","v":""},{"$f":"IF('Student Record'!C35=\"\",\"\",'Student Record'!C35)","v":""},null,{"$f":"IF('Student Record'!E35=\"\",\"\",'Student Record'!E35)","v":""},{"$f":"IF('Student Record'!G35=\"\",\"\",'Student Record'!G35)","v":""},{"$f":"IF('Student Record'!H35=\"\",\"\",'Student Record'!H35)","v":""},{"$f":"IF('Student Record'!J35=\"\",\"\",'Student Record'!J35)","v":""},{"$f":"IF('Student Record'!D37=\"\",\"\",'Student Record'!D37)","v":""},{"$f":"IF('Student Record'!T35=\"\",\"\",'Student Record'!T35)","v":""},{"$f":"IF('Student Record'!V35=\"\",\"\",'Student Record'!V35)","v":""},{"$f":"IF('Student Record'!W35=\"\",\"\",'Student Record'!W35)","v":""}]
[{"$f":"IF(Table1[[#This Row],[Name of Student]]=\"\",\"\",ROWS($A$1:A35))","v":""},{"$f":"IF('Student Record'!A36=\"\",\"\",'Student Record'!A36)","v":""},{"$f":"IF('Student Record'!C36=\"\",\"\",'Student Record'!C36)","v":""},null,{"$f":"IF('Student Record'!E36=\"\",\"\",'Student Record'!E36)","v":""},{"$f":"IF('Student Record'!G36=\"\",\"\",'Student Record'!G36)","v":""},{"$f":"IF('Student Record'!H36=\"\",\"\",'Student Record'!H36)","v":""},{"$f":"IF('Student Record'!J36=\"\",\"\",'Student Record'!J36)","v":""},{"$f":"IF('Student Record'!D38=\"\",\"\",'Student Record'!D38)","v":""},{"$f":"IF('Student Record'!T36=\"\",\"\",'Student Record'!T36)","v":""},{"$f":"IF('Student Record'!V36=\"\",\"\",'Student Record'!V36)","v":""},{"$f":"IF('Student Record'!W36=\"\",\"\",'Student Record'!W36)","v":""}]
[{"$f":"IF(Table1[[#This Row],[Name of Student]]=\"\",\"\",ROWS($A$1:A36))","v":""},{"$f":"IF('Student Record'!A37=\"\",\"\",'Student Record'!A37)","v":""},{"$f":"IF('Student Record'!C37=\"\",\"\",'Student Record'!C37)","v":""},null,{"$f":"IF('Student Record'!E37=\"\",\"\",'Student Record'!E37)","v":""},{"$f":"IF('Student Record'!G37=\"\",\"\",'Student Record'!G37)","v":""},{"$f":"IF('Student Record'!H37=\"\",\"\",'Student Record'!H37)","v":""},{"$f":"IF('Student Record'!J37=\"\",\"\",'Student Record'!J37)","v":""},{"$f":"IF('Student Record'!D39=\"\",\"\",'Student Record'!D39)","v":""},{"$f":"IF('Student Record'!T37=\"\",\"\",'Student Record'!T37)","v":""},{"$f":"IF('Student Record'!V37=\"\",\"\",'Student Record'!V37)","v":""},{"$f":"IF('Student Record'!W37=\"\",\"\",'Student Record'!W37)","v":""}]
[{"$f":"IF(Table1[[#This Row],[Name of Student]]=\"\",\"\",ROWS($A$1:A37))","v":""},{"$f":"IF('Student Record'!A38=\"\",\"\",'Student Record'!A38)","v":""},{"$f":"IF('Student Record'!C38=\"\",\"\",'Student Record'!C38)","v":""},null,{"$f":"IF('Student Record'!E38=\"\",\"\",'Student Record'!E38)","v":""},{"$f":"IF('Student Record'!G38=\"\",\"\",'Student Record'!G38)","v":""},{"$f":"IF('Student Record'!H38=\"\",\"\",'Student Record'!H38)","v":""},{"$f":"IF('Student Record'!J38=\"\",\"\",'Student Record'!J38)","v":""},{"$f":"IF('Student Record'!D40=\"\",\"\",'Student Record'!D40)","v":""},{"$f":"IF('Student Record'!T38=\"\",\"\",'Student Record'!T38)","v":""},{"$f":"IF('Student Record'!V38=\"\",\"\",'Student Record'!V38)","v":""},{"$f":"IF('Student Record'!W38=\"\",\"\",'Student Record'!W38)","v":""}]
[{"$f":"IF(Table1[[#This Row],[Name of Student]]=\"\",\"\",ROWS($A$1:A38))","v":""},{"$f":"IF('Student Record'!A39=\"\",\"\",'Student Record'!A39)","v":""},{"$f":"IF('Student Record'!C39=\"\",\"\",'Student Record'!C39)","v":""},null,{"$f":"IF('Student Record'!E39=\"\",\"\",'Student Record'!E39)","v":""},{"$f":"IF('Student Record'!G39=\"\",\"\",'Student Record'!G39)","v":""},{"$f":"IF('Student Record'!H39=\"\",\"\",'Student Record'!H39)","v":""},{"$f":"IF('Student Record'!J39=\"\",\"\",'Student Record'!J39)","v":""},{"$f":"IF('Student Record'!D41=\"\",\"\",'Student Record'!D41)","v":""},{"$f":"IF('Student Record'!T39=\"\",\"\",'Student Record'!T39)","v":""},{"$f":"IF('Student Record'!V39=\"\",\"\",'Student Record'!V39)","v":""},{"$f":"IF('Student Record'!W39=\"\",\"\",'Student Record'!W39)","v":""}]
[{"$f":"IF(Table1[[#This Row],[Name of Student]]=\"\",\"\",ROWS($A$1:A39))","v":""},{"$f":"IF('Student Record'!A40=\"\",\"\",'Student Record'!A40)","v":""},{"$f":"IF('Student Record'!C40=\"\",\"\",'Student Record'!C40)","v":""},null,{"$f":"IF('Student Record'!E40=\"\",\"\",'Student Record'!E40)","v":""},{"$f":"IF('Student Record'!G40=\"\",\"\",'Student Record'!G40)","v":""},{"$f":"IF('Student Record'!H40=\"\",\"\",'Student Record'!H40)","v":""},{"$f":"IF('Student Record'!J40=\"\",\"\",'Student Record'!J40)","v":""},{"$f":"IF('Student Record'!D42=\"\",\"\",'Student Record'!D42)","v":""},{"$f":"IF('Student Record'!T40=\"\",\"\",'Student Record'!T40)","v":""},{"$f":"IF('Student Record'!V40=\"\",\"\",'Student Record'!V40)","v":""},{"$f":"IF('Student Record'!W40=\"\",\"\",'Student Record'!W40)","v":""}]
[{"$f":"IF(Table1[[#This Row],[Name of Student]]=\"\",\"\",ROWS($A$1:A40))","v":""},{"$f":"IF('Student Record'!A41=\"\",\"\",'Student Record'!A41)","v":""},{"$f":"IF('Student Record'!C41=\"\",\"\",'Student Record'!C41)","v":""},null,{"$f":"IF('Student Record'!E41=\"\",\"\",'Student Record'!E41)","v":""},{"$f":"IF('Student Record'!G41=\"\",\"\",'Student Record'!G41)","v":""},{"$f":"IF('Student Record'!H41=\"\",\"\",'Student Record'!H41)","v":""},{"$f":"IF('Student Record'!J41=\"\",\"\",'Student Record'!J41)","v":""},{"$f":"IF('Student Record'!D43=\"\",\"\",'Student Record'!D43)","v":""},{"$f":"IF('Student Record'!T41=\"\",\"\",'Student Record'!T41)","v":""},{"$f":"IF('Student Record'!V41=\"\",\"\",'Student Record'!V41)","v":""},{"$f":"IF('Student Record'!W41=\"\",\"\",'Student Record'!W41)","v":""}]
[{"$f":"IF(Table1[[#This Row],[Name of Student]]=\"\",\"\",ROWS($A$1:A41))","v":""},{"$f":"IF('Student Record'!A42=\"\",\"\",'Student Record'!A42)","v":""},{"$f":"IF('Student Record'!C42=\"\",\"\",'Student Record'!C42)","v":""},null,{"$f":"IF('Student Record'!E42=\"\",\"\",'Student Record'!E42)","v":""},{"$f":"IF('Student Record'!G42=\"\",\"\",'Student Record'!G42)","v":""},{"$f":"IF('Student Record'!H42=\"\",\"\",'Student Record'!H42)","v":""},{"$f":"IF('Student Record'!J42=\"\",\"\",'Student Record'!J42)","v":""},{"$f":"IF('Student Record'!D44=\"\",\"\",'Student Record'!D44)","v":""},{"$f":"IF('Student Record'!T42=\"\",\"\",'Student Record'!T42)","v":""},{"$f":"IF('Student Record'!V42=\"\",\"\",'Student Record'!V42)","v":""},{"$f":"IF('Student Record'!W42=\"\",\"\",'Student Record'!W42)","v":""}]
[{"$f":"IF(Table1[[#This Row],[Name of Student]]=\"\",\"\",ROWS($A$1:A42))","v":""},{"$f":"IF('Student Record'!A43=\"\",\"\",'Student Record'!A43)","v":""},{"$f":"IF('Student Record'!C43=\"\",\"\",'Student Record'!C43)","v":""},null,{"$f":"IF('Student Record'!E43=\"\",\"\",'Student Record'!E43)","v":""},{"$f":"IF('Student Record'!G43=\"\",\"\",'Student Record'!G43)","v":""},{"$f":"IF('Student Record'!H43=\"\",\"\",'Student Record'!H43)","v":""},{"$f":"IF('Student Record'!J43=\"\",\"\",'Student Record'!J43)","v":""},{"$f":"IF('Student Record'!D45=\"\",\"\",'Student Record'!D45)","v":""},{"$f":"IF('Student Record'!T43=\"\",\"\",'Student Record'!T43)","v":""},{"$f":"IF('Student Record'!V43=\"\",\"\",'Student Record'!V43)","v":""},{"$f":"IF('Student Record'!W43=\"\",\"\",'Student Record'!W43)","v":""}]
[{"$f":"IF(Table1[[#This Row],[Name of Student]]=\"\",\"\",ROWS($A$1:A43))","v":""},{"$f":"IF('Student Record'!A44=\"\",\"\",'Student Record'!A44)","v":""},{"$f":"IF('Student Record'!C44=\"\",\"\",'Student Record'!C44)","v":""},null,{"$f":"IF('Student Record'!E44=\"\",\"\",'Student Record'!E44)","v":""},{"$f":"IF('Student Record'!G44=\"\",\"\",'Student Record'!G44)","v":""},{"$f":"IF('Student Record'!H44=\"\",\"\",'Student Record'!H44)","v":""},{"$f":"IF('Student Record'!J44=\"\",\"\",'Student Record'!J44)","v":""},{"$f":"IF('Student Record'!D46=\"\",\"\",'Student Record'!D46)","v":""},{"$f":"IF('Student Record'!T44=\"\",\"\",'Student Record'!T44)","v":""},{"$f":"IF('Student Record'!V44=\"\",\"\",'Student Record'!V44)","v":""},{"$f":"IF('Student Record'!W44=\"\",\"\",'Student Record'!W44)","v":""}]
[{"$f":"IF(Table1[[#This Row],[Name of Student]]=\"\",\"\",ROWS($A$1:A44))","v":""},{"$f":"IF('Student Record'!A45=\"\",\"\",'Student Record'!A45)","v":""},{"$f":"IF('Student Record'!C45=\"\",\"\",'Student Record'!C45)","v":""},null,{"$f":"IF('Student Record'!E45=\"\",\"\",'Student Record'!E45)","v":""},{"$f":"IF('Student Record'!G45=\"\",\"\",'Student Record'!G45)","v":""},{"$f":"IF('Student Record'!H45=\"\",\"\",'Student Record'!H45)","v":""},{"$f":"IF('Student Record'!J45=\"\",\"\",'Student Record'!J45)","v":""},{"$f":"IF('Student Record'!D47=\"\",\"\",'Student Record'!D47)","v":""},{"$f":"IF('Student Record'!T45=\"\",\"\",'Student Record'!T45)","v":""},{"$f":"IF('Student Record'!V45=\"\",\"\",'Student Record'!V45)","v":""},{"$f":"IF('Student Record'!W45=\"\",\"\",'Student Record'!W45)","v":""}]
[{"$f":"IF(Table1[[#This Row],[Name of Student]]=\"\",\"\",ROWS($A$1:A45))","v":""},{"$f":"IF('Student Record'!A46=\"\",\"\",'Student Record'!A46)","v":""},{"$f":"IF('Student Record'!C46=\"\",\"\",'Student Record'!C46)","v":""},null,{"$f":"IF('Student Record'!E46=\"\",\"\",'Student Record'!E46)","v":""},{"$f":"IF('Student Record'!G46=\"\",\"\",'Student Record'!G46)","v":""},{"$f":"IF('Student Record'!H46=\"\",\"\",'Student Record'!H46)","v":""},{"$f":"IF('Student Record'!J46=\"\",\"\",'Student Record'!J46)","v":""},{"$f":"IF('Student Record'!D48=\"\",\"\",'Student Record'!D48)","v":""},{"$f":"IF('Student Record'!T46=\"\",\"\",'Student Record'!T46)","v":""},{"$f":"IF('Student Record'!V46=\"\",\"\",'Student Record'!V46)","v":""},{"$f":"IF('Student Record'!W46=\"\",\"\",'Student Record'!W46)","v":""}]
[{"$f":"IF(Table1[[#This Row],[Name of Student]]=\"\",\"\",ROWS($A$1:A46))","v":""},{"$f":"IF('Student Record'!A47=\"\",\"\",'Student Record'!A47)","v":""},{"$f":"IF('Student Record'!C47=\"\",\"\",'Student Record'!C47)","v":""},null,{"$f":"IF('Student Record'!E47=\"\",\"\",'Student Record'!E47)","v":""},{"$f":"IF('Student Record'!G47=\"\",\"\",'Student Record'!G47)","v":""},{"$f":"IF('Student Record'!H47=\"\",\"\",'Student Record'!H47)","v":""},{"$f":"IF('Student Record'!J47=\"\",\"\",'Student Record'!J47)","v":""},{"$f":"IF('Student Record'!D49=\"\",\"\",'Student Record'!D49)","v":""},{"$f":"IF('Student Record'!T47=\"\",\"\",'Student Record'!T47)","v":""},{"$f":"IF('Student Record'!V47=\"\",\"\",'Student Record'!V47)","v":""},{"$f":"IF('Student Record'!W47=\"\",\"\",'Student Record'!W47)","v":""}]
[{"$f":"IF(Table1[[#This Row],[Name of Student]]=\"\",\"\",ROWS($A$1:A47))","v":""},{"$f":"IF('Student Record'!A48=\"\",\"\",'Student Record'!A48)","v":""},{"$f":"IF('Student Record'!C48=\"\",\"\",'Student Record'!C48)","v":""},null,{"$f":"IF('Student Record'!E48=\"\",\"\",'Student Record'!E48)","v":""},{"$f":"IF('Student Record'!G48=\"\",\"\",'Student Record'!G48)","v":""},{"$f":"IF('Student Record'!H48=\"\",\"\",'Student Record'!H48)","v":""},{"$f":"IF('Student Record'!J48=\"\",\"\",'Student Record'!J48)","v":""},{"$f":"IF('Student Record'!D50=\"\",\"\",'Student Record'!D50)","v":""},{"$f":"IF('Student Record'!T48=\"\",\"\",'Student Record'!T48)","v":""},{"$f":"IF('Student Record'!V48=\"\",\"\",'Student Record'!V48)","v":""},{"$f":"IF('Student Record'!W48=\"\",\"\",'Student Record'!W48)","v":""}]
[{"$f":"IF(Table1[[#This Row],[Name of Student]]=\"\",\"\",ROWS($A$1:A48))","v":""},{"$f":"IF('Student Record'!A49=\"\",\"\",'Student Record'!A49)","v":""},{"$f":"IF('Student Record'!C49=\"\",\"\",'Student Record'!C49)","v":""},null,{"$f":"IF('Student Record'!E49=\"\",\"\",'Student Record'!E49)","v":""},{"$f":"IF('Student Record'!G49=\"\",\"\",'Student Record'!G49)","v":""},{"$f":"IF('Student Record'!H49=\"\",\"\",'Student Record'!H49)","v":""},{"$f":"IF('Student Record'!J49=\"\",\"\",'Student Record'!J49)","v":""},{"$f":"IF('Student Record'!D51=\"\",\"\",'Student Record'!D51)","v":""},{"$f":"IF('Student Record'!T49=\"\",\"\",'Student Record'!T49)","v":""},{"$f":"IF('Student Record'!V49=\"\",\"\",'Student Record'!V49)","v":""},{"$f":"IF('Student Record'!W49=\"\",\"\",'Student Record'!W49)","v":""}]
[{"$f":"IF(Table1[[#This Row],[Name of Student]]=\"\",\"\",ROWS($A$1:A49))","v":""},{"$f":"IF('Student Record'!A50=\"\",\"\",'Student Record'!A50)","v":""},{"$f":"IF('Student Record'!C50=\"\",\"\",'Student Record'!C50)","v":""},null,{"$f":"IF('Student Record'!E50=\"\",\"\",'Student Record'!E50)","v":""},{"$f":"IF('Student Record'!G50=\"\",\"\",'Student Record'!G50)","v":""},{"$f":"IF('Student Record'!H50=\"\",\"\",'Student Record'!H50)","v":""},{"$f":"IF('Student Record'!J50=\"\",\"\",'Student Record'!J50)","v":""},{"$f":"IF('Student Record'!D52=\"\",\"\",'Student Record'!D52)","v":""},{"$f":"IF('Student Record'!T50=\"\",\"\",'Student Record'!T50)","v":""},{"$f":"IF('Student Record'!V50=\"\",\"\",'Student Record'!V50)","v":""},{"$f":"IF('Student Record'!W50=\"\",\"\",'Student Record'!W50)","v":""}]
[{"$f":"IF(Table1[[#This Row],[Name of Student]]=\"\",\"\",ROWS($A$1:A50))","v":""},{"$f":"IF('Student Record'!A51=\"\",\"\",'Student Record'!A51)","v":""},{"$f":"IF('Student Record'!C51=\"\",\"\",'Student Record'!C51)","v":""},null,{"$f":"IF('Student Record'!E51=\"\",\"\",'Student Record'!E51)","v":""},{"$f":"IF('Student Record'!G51=\"\",\"\",'Student Record'!G51)","v":""},{"$f":"IF('Student Record'!H51=\"\",\"\",'Student Record'!H51)","v":""},{"$f":"IF('Student Record'!J51=\"\",\"\",'Student Record'!J51)","v":""},{"$f":"IF('Student Record'!D53=\"\",\"\",'Student Record'!D53)","v":""},{"$f":"IF('Student Record'!T51=\"\",\"\",'Student Record'!T51)","v":""},{"$f":"IF('Student Record'!V51=\"\",\"\",'Student Record'!V51)","v":""},{"$f":"IF('Student Record'!W51=\"\",\"\",'Student Record'!W51)","v":""}]
[{"$f":"IF(Table1[[#This Row],[Name of Student]]=\"\",\"\",ROWS($A$1:A51))","v":""},{"$f":"IF('Student Record'!A52=\"\",\"\",'Student Record'!A52)","v":""},{"$f":"IF('Student Record'!C52=\"\",\"\",'Student Record'!C52)","v":""},null,{"$f":"IF('Student Record'!E52=\"\",\"\",'Student Record'!E52)","v":""},{"$f":"IF('Student Record'!G52=\"\",\"\",'Student Record'!G52)","v":""},{"$f":"IF('Student Record'!H52=\"\",\"\",'Student Record'!H52)","v":""},{"$f":"IF('Student Record'!J52=\"\",\"\",'Student Record'!J52)","v":""},{"$f":"IF('Student Record'!D54=\"\",\"\",'Student Record'!D54)","v":""},{"$f":"IF('Student Record'!T52=\"\",\"\",'Student Record'!T52)","v":""},{"$f":"IF('Student Record'!V52=\"\",\"\",'Student Record'!V52)","v":""},{"$f":"IF('Student Record'!W52=\"\",\"\",'Student Record'!W52)","v":""}]
[{"$f":"IF(Table1[[#This Row],[Name of Student]]=\"\",\"\",ROWS($A$1:A52))","v":""},{"$f":"IF('Student Record'!A53=\"\",\"\",'Student Record'!A53)","v":""},{"$f":"IF('Student Record'!C53=\"\",\"\",'Student Record'!C53)","v":""},null,{"$f":"IF('Student Record'!E53=\"\",\"\",'Student Record'!E53)","v":""},{"$f":"IF('Student Record'!G53=\"\",\"\",'Student Record'!G53)","v":""},{"$f":"IF('Student Record'!H53=\"\",\"\",'Student Record'!H53)","v":""},{"$f":"IF('Student Record'!J53=\"\",\"\",'Student Record'!J53)","v":""},{"$f":"IF('Student Record'!D55=\"\",\"\",'Student Record'!D55)","v":""},{"$f":"IF('Student Record'!T53=\"\",\"\",'Student Record'!T53)","v":""},{"$f":"IF('Student Record'!V53=\"\",\"\",'Student Record'!V53)","v":""},{"$f":"IF('Student Record'!W53=\"\",\"\",'Student Record'!W53)","v":""}]
[{"$f":"IF(Table1[[#This Row],[Name of Student]]=\"\",\"\",ROWS($A$1:A53))","v":""},{"$f":"IF('Student Record'!A54=\"\",\"\",'Student Record'!A54)","v":""},{"$f":"IF('Student Record'!C54=\"\",\"\",'Student Record'!C54)","v":""},null,{"$f":"IF('Student Record'!E54=\"\",\"\",'Student Record'!E54)","v":""},{"$f":"IF('Student Record'!G54=\"\",\"\",'Student Record'!G54)","v":""},{"$f":"IF('Student Record'!H54=\"\",\"\",'Student Record'!H54)","v":""},{"$f":"IF('Student Record'!J54=\"\",\"\",'Student Record'!J54)","v":""},{"$f":"IF('Student Record'!D56=\"\",\"\",'Student Record'!D56)","v":""},{"$f":"IF('Student Record'!T54=\"\",\"\",'Student Record'!T54)","v":""},{"$f":"IF('Student Record'!V54=\"\",\"\",'Student Record'!V54)","v":""},{"$f":"IF('Student Record'!W54=\"\",\"\",'Student Record'!W54)","v":""}]
[{"$f":"IF(Table1[[#This Row],[Name of Student]]=\"\",\"\",ROWS($A$1:A54))","v":""},{"$f":"IF('Student Record'!A55=\"\",\"\",'Student Record'!A55)","v":""},{"$f":"IF('Student Record'!C55=\"\",\"\",'Student Record'!C55)","v":""},null,{"$f":"IF('Student Record'!E55=\"\",\"\",'Student Record'!E55)","v":""},{"$f":"IF('Student Record'!G55=\"\",\"\",'Student Record'!G55)","v":""},{"$f":"IF('Student Record'!H55=\"\",\"\",'Student Record'!H55)","v":""},{"$f":"IF('Student Record'!J55=\"\",\"\",'Student Record'!J55)","v":""},{"$f":"IF('Student Record'!D57=\"\",\"\",'Student Record'!D57)","v":""},{"$f":"IF('Student Record'!T55=\"\",\"\",'Student Record'!T55)","v":""},{"$f":"IF('Student Record'!V55=\"\",\"\",'Student Record'!V55)","v":""},{"$f":"IF('Student Record'!W55=\"\",\"\",'Student Record'!W55)","v":""}]
[{"$f":"IF(Table1[[#This Row],[Name of Student]]=\"\",\"\",ROWS($A$1:A55))","v":""},{"$f":"IF('Student Record'!A56=\"\",\"\",'Student Record'!A56)","v":""},{"$f":"IF('Student Record'!C56=\"\",\"\",'Student Record'!C56)","v":""},null,{"$f":"IF('Student Record'!E56=\"\",\"\",'Student Record'!E56)","v":""},{"$f":"IF('Student Record'!G56=\"\",\"\",'Student Record'!G56)","v":""},{"$f":"IF('Student Record'!H56=\"\",\"\",'Student Record'!H56)","v":""},{"$f":"IF('Student Record'!J56=\"\",\"\",'Student Record'!J56)","v":""},{"$f":"IF('Student Record'!D58=\"\",\"\",'Student Record'!D58)","v":""},{"$f":"IF('Student Record'!T56=\"\",\"\",'Student Record'!T56)","v":""},{"$f":"IF('Student Record'!V56=\"\",\"\",'Student Record'!V56)","v":""},{"$f":"IF('Student Record'!W56=\"\",\"\",'Student Record'!W56)","v":""}]
[{"$f":"IF(Table1[[#This Row],[Name of Student]]=\"\",\"\",ROWS($A$1:A56))","v":""},{"$f":"IF('Student Record'!A57=\"\",\"\",'Student Record'!A57)","v":""},{"$f":"IF('Student Record'!C57=\"\",\"\",'Student Record'!C57)","v":""},null,{"$f":"IF('Student Record'!E57=\"\",\"\",'Student Record'!E57)","v":""},{"$f":"IF('Student Record'!G57=\"\",\"\",'Student Record'!G57)","v":""},{"$f":"IF('Student Record'!H57=\"\",\"\",'Student Record'!H57)","v":""},{"$f":"IF('Student Record'!J57=\"\",\"\",'Student Record'!J57)","v":""},{"$f":"IF('Student Record'!D59=\"\",\"\",'Student Record'!D59)","v":""},{"$f":"IF('Student Record'!T57=\"\",\"\",'Student Record'!T57)","v":""},{"$f":"IF('Student Record'!V57=\"\",\"\",'Student Record'!V57)","v":""},{"$f":"IF('Student Record'!W57=\"\",\"\",'Student Record'!W57)","v":""}]
[{"$f":"IF(Table1[[#This Row],[Name of Student]]=\"\",\"\",ROWS($A$1:A57))","v":""},{"$f":"IF('Student Record'!A58=\"\",\"\",'Student Record'!A58)","v":""},{"$f":"IF('Student Record'!C58=\"\",\"\",'Student Record'!C58)","v":""},null,{"$f":"IF('Student Record'!E58=\"\",\"\",'Student Record'!E58)","v":""},{"$f":"IF('Student Record'!G58=\"\",\"\",'Student Record'!G58)","v":""},{"$f":"IF('Student Record'!H58=\"\",\"\",'Student Record'!H58)","v":""},{"$f":"IF('Student Record'!J58=\"\",\"\",'Student Record'!J58)","v":""},{"$f":"IF('Student Record'!D60=\"\",\"\",'Student Record'!D60)","v":""},{"$f":"IF('Student Record'!T58=\"\",\"\",'Student Record'!T58)","v":""},{"$f":"IF('Student Record'!V58=\"\",\"\",'Student Record'!V58)","v":""},{"$f":"IF('Student Record'!W58=\"\",\"\",'Student Record'!W58)","v":""}]
[{"$f":"IF(Table1[[#This Row],[Name of Student]]=\"\",\"\",ROWS($A$1:A58))","v":""},{"$f":"IF('Student Record'!A59=\"\",\"\",'Student Record'!A59)","v":""},{"$f":"IF('Student Record'!C59=\"\",\"\",'Student Record'!C59)","v":""},null,{"$f":"IF('Student Record'!E59=\"\",\"\",'Student Record'!E59)","v":""},{"$f":"IF('Student Record'!G59=\"\",\"\",'Student Record'!G59)","v":""},{"$f":"IF('Student Record'!H59=\"\",\"\",'Student Record'!H59)","v":""},{"$f":"IF('Student Record'!J59=\"\",\"\",'Student Record'!J59)","v":""},{"$f":"IF('Student Record'!D61=\"\",\"\",'Student Record'!D61)","v":""},{"$f":"IF('Student Record'!T59=\"\",\"\",'Student Record'!T59)","v":""},{"$f":"IF('Student Record'!V59=\"\",\"\",'Student Record'!V59)","v":""},{"$f":"IF('Student Record'!W59=\"\",\"\",'Student Record'!W59)","v":""}]
[{"$f":"IF(Table1[[#This Row],[Name of Student]]=\"\",\"\",ROWS($A$1:A59))","v":""},{"$f":"IF('Student Record'!A60=\"\",\"\",'Student Record'!A60)","v":""},{"$f":"IF('Student Record'!C60=\"\",\"\",'Student Record'!C60)","v":""},null,{"$f":"IF('Student Record'!E60=\"\",\"\",'Student Record'!E60)","v":""},{"$f":"IF('Student Record'!G60=\"\",\"\",'Student Record'!G60)","v":""},{"$f":"IF('Student Record'!H60=\"\",\"\",'Student Record'!H60)","v":""},{"$f":"IF('Student Record'!J60=\"\",\"\",'Student Record'!J60)","v":""},{"$f":"IF('Student Record'!D62=\"\",\"\",'Student Record'!D62)","v":""},{"$f":"IF('Student Record'!T60=\"\",\"\",'Student Record'!T60)","v":""},{"$f":"IF('Student Record'!V60=\"\",\"\",'Student Record'!V60)","v":""},{"$f":"IF('Student Record'!W60=\"\",\"\",'Student Record'!W60)","v":""}]
[{"$f":"IF(Table1[[#This Row],[Name of Student]]=\"\",\"\",ROWS($A$1:A60))","v":""},{"$f":"IF('Student Record'!A61=\"\",\"\",'Student Record'!A61)","v":""},{"$f":"IF('Student Record'!C61=\"\",\"\",'Student Record'!C61)","v":""},null,{"$f":"IF('Student Record'!E61=\"\",\"\",'Student Record'!E61)","v":""},{"$f":"IF('Student Record'!G61=\"\",\"\",'Student Record'!G61)","v":""},{"$f":"IF('Student Record'!H61=\"\",\"\",'Student Record'!H61)","v":""},{"$f":"IF('Student Record'!J61=\"\",\"\",'Student Record'!J61)","v":""},{"$f":"IF('Student Record'!D63=\"\",\"\",'Student Record'!D63)","v":""},{"$f":"IF('Student Record'!T61=\"\",\"\",'Student Record'!T61)","v":""},{"$f":"IF('Student Record'!V61=\"\",\"\",'Student Record'!V61)","v":""},{"$f":"IF('Student Record'!W61=\"\",\"\",'Student Record'!W61)","v":""}]
[{"$f":"IF(Table1[[#This Row],[Name of Student]]=\"\",\"\",ROWS($A$1:A61))","v":""},{"$f":"IF('Student Record'!A62=\"\",\"\",'Student Record'!A62)","v":""},{"$f":"IF('Student Record'!C62=\"\",\"\",'Student Record'!C62)","v":""},null,{"$f":"IF('Student Record'!E62=\"\",\"\",'Student Record'!E62)","v":""},{"$f":"IF('Student Record'!G62=\"\",\"\",'Student Record'!G62)","v":""},{"$f":"IF('Student Record'!H62=\"\",\"\",'Student Record'!H62)","v":""},{"$f":"IF('Student Record'!J62=\"\",\"\",'Student Record'!J62)","v":""},{"$f":"IF('Student Record'!D64=\"\",\"\",'Student Record'!D64)","v":""},{"$f":"IF('Student Record'!T62=\"\",\"\",'Student Record'!T62)","v":""},{"$f":"IF('Student Record'!V62=\"\",\"\",'Student Record'!V62)","v":""},{"$f":"IF('Student Record'!W62=\"\",\"\",'Student Record'!W62)","v":""}]
[{"$f":"IF(Table1[[#This Row],[Name of Student]]=\"\",\"\",ROWS($A$1:A62))","v":""},{"$f":"IF('Student Record'!A63=\"\",\"\",'Student Record'!A63)","v":""},{"$f":"IF('Student Record'!C63=\"\",\"\",'Student Record'!C63)","v":""},null,{"$f":"IF('Student Record'!E63=\"\",\"\",'Student Record'!E63)","v":""},{"$f":"IF('Student Record'!G63=\"\",\"\",'Student Record'!G63)","v":""},{"$f":"IF('Student Record'!H63=\"\",\"\",'Student Record'!H63)","v":""},{"$f":"IF('Student Record'!J63=\"\",\"\",'Student Record'!J63)","v":""},{"$f":"IF('Student Record'!D65=\"\",\"\",'Student Record'!D65)","v":""},{"$f":"IF('Student Record'!T63=\"\",\"\",'Student Record'!T63)","v":""},{"$f":"IF('Student Record'!V63=\"\",\"\",'Student Record'!V63)","v":""},{"$f":"IF('Student Record'!W63=\"\",\"\",'Student Record'!W63)","v":""}]
[{"$f":"IF(Table1[[#This Row],[Name of Student]]=\"\",\"\",ROWS($A$1:A63))","v":""},{"$f":"IF('Student Record'!A64=\"\",\"\",'Student Record'!A64)","v":""},{"$f":"IF('Student Record'!C64=\"\",\"\",'Student Record'!C64)","v":""},null,{"$f":"IF('Student Record'!E64=\"\",\"\",'Student Record'!E64)","v":""},{"$f":"IF('Student Record'!G64=\"\",\"\",'Student Record'!G64)","v":""},{"$f":"IF('Student Record'!H64=\"\",\"\",'Student Record'!H64)","v":""},{"$f":"IF('Student Record'!J64=\"\",\"\",'Student Record'!J64)","v":""},{"$f":"IF('Student Record'!D66=\"\",\"\",'Student Record'!D66)","v":""},{"$f":"IF('Student Record'!T64=\"\",\"\",'Student Record'!T64)","v":""},{"$f":"IF('Student Record'!V64=\"\",\"\",'Student Record'!V64)","v":""},{"$f":"IF('Student Record'!W64=\"\",\"\",'Student Record'!W64)","v":""}]
[{"$f":"IF(Table1[[#This Row],[Name of Student]]=\"\",\"\",ROWS($A$1:A64))","v":""},{"$f":"IF('Student Record'!A65=\"\",\"\",'Student Record'!A65)","v":""},{"$f":"IF('Student Record'!C65=\"\",\"\",'Student Record'!C65)","v":""},null,{"$f":"IF('Student Record'!E65=\"\",\"\",'Student Record'!E65)","v":""},{"$f":"IF('Student Record'!G65=\"\",\"\",'Student Record'!G65)","v":""},{"$f":"IF('Student Record'!H65=\"\",\"\",'Student Record'!H65)","v":""},{"$f":"IF('Student Record'!J65=\"\",\"\",'Student Record'!J65)","v":""},{"$f":"IF('Student Record'!D67=\"\",\"\",'Student Record'!D67)","v":""},{"$f":"IF('Student Record'!T65=\"\",\"\",'Student Record'!T65)","v":""},{"$f":"IF('Student Record'!V65=\"\",\"\",'Student Record'!V65)","v":""},{"$f":"IF('Student Record'!W65=\"\",\"\",'Student Record'!W65)","v":""}]
[{"$f":"IF(Table1[[#This Row],[Name of Student]]=\"\",\"\",ROWS($A$1:A65))","v":""},{"$f":"IF('Student Record'!A66=\"\",\"\",'Student Record'!A66)","v":""},{"$f":"IF('Student Record'!C66=\"\",\"\",'Student Record'!C66)","v":""},null,{"$f":"IF('Student Record'!E66=\"\",\"\",'Student Record'!E66)","v":""},{"$f":"IF('Student Record'!G66=\"\",\"\",'Student Record'!G66)","v":""},{"$f":"IF('Student Record'!H66=\"\",\"\",'Student Record'!H66)","v":""},{"$f":"IF('Student Record'!J66=\"\",\"\",'Student Record'!J66)","v":""},{"$f":"IF('Student Record'!D68=\"\",\"\",'Student Record'!D68)","v":""},{"$f":"IF('Student Record'!T66=\"\",\"\",'Student Record'!T66)","v":""},{"$f":"IF('Student Record'!V66=\"\",\"\",'Student Record'!V66)","v":""},{"$f":"IF('Student Record'!W66=\"\",\"\",'Student Record'!W66)","v":""}]
[{"$f":"IF(Table1[[#This Row],[Name of Student]]=\"\",\"\",ROWS($A$1:A66))","v":""},{"$f":"IF('Student Record'!A67=\"\",\"\",'Student Record'!A67)","v":""},{"$f":"IF('Student Record'!C67=\"\",\"\",'Student Record'!C67)","v":""},null,{"$f":"IF('Student Record'!E67=\"\",\"\",'Student Record'!E67)","v":""},{"$f":"IF('Student Record'!G67=\"\",\"\",'Student Record'!G67)","v":""},{"$f":"IF('Student Record'!H67=\"\",\"\",'Student Record'!H67)","v":""},{"$f":"IF('Student Record'!J67=\"\",\"\",'Student Record'!J67)","v":""},{"$f":"IF('Student Record'!D69=\"\",\"\",'Student Record'!D69)","v":""},{"$f":"IF('Student Record'!T67=\"\",\"\",'Student Record'!T67)","v":""},{"$f":"IF('Student Record'!V67=\"\",\"\",'Student Record'!V67)","v":""},{"$f":"IF('Student Record'!W67=\"\",\"\",'Student Record'!W67)","v":""}]
[{"$f":"IF(Table1[[#This Row],[Name of Student]]=\"\",\"\",ROWS($A$1:A67))","v":""},{"$f":"IF('Student Record'!A68=\"\",\"\",'Student Record'!A68)","v":""},{"$f":"IF('Student Record'!C68=\"\",\"\",'Student Record'!C68)","v":""},null,{"$f":"IF('Student Record'!E68=\"\",\"\",'Student Record'!E68)","v":""},{"$f":"IF('Student Record'!G68=\"\",\"\",'Student Record'!G68)","v":""},{"$f":"IF('Student Record'!H68=\"\",\"\",'Student Record'!H68)","v":""},{"$f":"IF('Student Record'!J68=\"\",\"\",'Student Record'!J68)","v":""},{"$f":"IF('Student Record'!D70=\"\",\"\",'Student Record'!D70)","v":""},{"$f":"IF('Student Record'!T68=\"\",\"\",'Student Record'!T68)","v":""},{"$f":"IF('Student Record'!V68=\"\",\"\",'Student Record'!V68)","v":""},{"$f":"IF('Student Record'!W68=\"\",\"\",'Student Record'!W68)","v":""}]
[{"$f":"IF(Table1[[#This Row],[Name of Student]]=\"\",\"\",ROWS($A$1:A68))","v":""},{"$f":"IF('Student Record'!A69=\"\",\"\",'Student Record'!A69)","v":""},{"$f":"IF('Student Record'!C69=\"\",\"\",'Student Record'!C69)","v":""},null,{"$f":"IF('Student Record'!E69=\"\",\"\",'Student Record'!E69)","v":""},{"$f":"IF('Student Record'!G69=\"\",\"\",'Student Record'!G69)","v":""},{"$f":"IF('Student Record'!H69=\"\",\"\",'Student Record'!H69)","v":""},{"$f":"IF('Student Record'!J69=\"\",\"\",'Student Record'!J69)","v":""},{"$f":"IF('Student Record'!D71=\"\",\"\",'Student Record'!D71)","v":""},{"$f":"IF('Student Record'!T69=\"\",\"\",'Student Record'!T69)","v":""},{"$f":"IF('Student Record'!V69=\"\",\"\",'Student Record'!V69)","v":""},{"$f":"IF('Student Record'!W69=\"\",\"\",'Student Record'!W69)","v":""}]
[{"$f":"IF(Table1[[#This Row],[Name of Student]]=\"\",\"\",ROWS($A$1:A69))","v":""},{"$f":"IF('Student Record'!A70=\"\",\"\",'Student Record'!A70)","v":""},{"$f":"IF('Student Record'!C70=\"\",\"\",'Student Record'!C70)","v":""},null,{"$f":"IF('Student Record'!E70=\"\",\"\",'Student Record'!E70)","v":""},{"$f":"IF('Student Record'!G70=\"\",\"\",'Student Record'!G70)","v":""},{"$f":"IF('Student Record'!H70=\"\",\"\",'Student Record'!H70)","v":""},{"$f":"IF('Student Record'!J70=\"\",\"\",'Student Record'!J70)","v":""},{"$f":"IF('Student Record'!D72=\"\",\"\",'Student Record'!D72)","v":""},{"$f":"IF('Student Record'!T70=\"\",\"\",'Student Record'!T70)","v":""},{"$f":"IF('Student Record'!V70=\"\",\"\",'Student Record'!V70)","v":""},{"$f":"IF('Student Record'!W70=\"\",\"\",'Student Record'!W70)","v":""}]
[{"$f":"IF(Table1[[#This Row],[Name of Student]]=\"\",\"\",ROWS($A$1:A70))","v":""},{"$f":"IF('Student Record'!A71=\"\",\"\",'Student Record'!A71)","v":""},{"$f":"IF('Student Record'!C71=\"\",\"\",'Student Record'!C71)","v":""},null,{"$f":"IF('Student Record'!E71=\"\",\"\",'Student Record'!E71)","v":""},{"$f":"IF('Student Record'!G71=\"\",\"\",'Student Record'!G71)","v":""},{"$f":"IF('Student Record'!H71=\"\",\"\",'Student Record'!H71)","v":""},{"$f":"IF('Student Record'!J71=\"\",\"\",'Student Record'!J71)","v":""},{"$f":"IF('Student Record'!D73=\"\",\"\",'Student Record'!D73)","v":""},{"$f":"IF('Student Record'!T71=\"\",\"\",'Student Record'!T71)","v":""},{"$f":"IF('Student Record'!V71=\"\",\"\",'Student Record'!V71)","v":""},{"$f":"IF('Student Record'!W71=\"\",\"\",'Student Record'!W71)","v":""}]
[{"$f":"IF(Table1[[#This Row],[Name of Student]]=\"\",\"\",ROWS($A$1:A71))","v":""},{"$f":"IF('Student Record'!A72=\"\",\"\",'Student Record'!A72)","v":""},{"$f":"IF('Student Record'!C72=\"\",\"\",'Student Record'!C72)","v":""},null,{"$f":"IF('Student Record'!E72=\"\",\"\",'Student Record'!E72)","v":""},{"$f":"IF('Student Record'!G72=\"\",\"\",'Student Record'!G72)","v":""},{"$f":"IF('Student Record'!H72=\"\",\"\",'Student Record'!H72)","v":""},{"$f":"IF('Student Record'!J72=\"\",\"\",'Student Record'!J72)","v":""},{"$f":"IF('Student Record'!D74=\"\",\"\",'Student Record'!D74)","v":""},{"$f":"IF('Student Record'!T72=\"\",\"\",'Student Record'!T72)","v":""},{"$f":"IF('Student Record'!V72=\"\",\"\",'Student Record'!V72)","v":""},{"$f":"IF('Student Record'!W72=\"\",\"\",'Student Record'!W72)","v":""}]
[{"$f":"IF(Table1[[#This Row],[Name of Student]]=\"\",\"\",ROWS($A$1:A72))","v":""},{"$f":"IF('Student Record'!A73=\"\",\"\",'Student Record'!A73)","v":""},{"$f":"IF('Student Record'!C73=\"\",\"\",'Student Record'!C73)","v":""},null,{"$f":"IF('Student Record'!E73=\"\",\"\",'Student Record'!E73)","v":""},{"$f":"IF('Student Record'!G73=\"\",\"\",'Student Record'!G73)","v":""},{"$f":"IF('Student Record'!H73=\"\",\"\",'Student Record'!H73)","v":""},{"$f":"IF('Student Record'!J73=\"\",\"\",'Student Record'!J73)","v":""},{"$f":"IF('Student Record'!D75=\"\",\"\",'Student Record'!D75)","v":""},{"$f":"IF('Student Record'!T73=\"\",\"\",'Student Record'!T73)","v":""},{"$f":"IF('Student Record'!V73=\"\",\"\",'Student Record'!V73)","v":""},{"$f":"IF('Student Record'!W73=\"\",\"\",'Student Record'!W73)","v":""}]
[{"$f":"IF(Table1[[#This Row],[Name of Student]]=\"\",\"\",ROWS($A$1:A73))","v":""},{"$f":"IF('Student Record'!A74=\"\",\"\",'Student Record'!A74)","v":""},{"$f":"IF('Student Record'!C74=\"\",\"\",'Student Record'!C74)","v":""},null,{"$f":"IF('Student Record'!E74=\"\",\"\",'Student Record'!E74)","v":""},{"$f":"IF('Student Record'!G74=\"\",\"\",'Student Record'!G74)","v":""},{"$f":"IF('Student Record'!H74=\"\",\"\",'Student Record'!H74)","v":""},{"$f":"IF('Student Record'!J74=\"\",\"\",'Student Record'!J74)","v":""},{"$f":"IF('Student Record'!D76=\"\",\"\",'Student Record'!D76)","v":""},{"$f":"IF('Student Record'!T74=\"\",\"\",'Student Record'!T74)","v":""},{"$f":"IF('Student Record'!V74=\"\",\"\",'Student Record'!V74)","v":""},{"$f":"IF('Student Record'!W74=\"\",\"\",'Student Record'!W74)","v":""}]
[{"$f":"IF(Table1[[#This Row],[Name of Student]]=\"\",\"\",ROWS($A$1:A74))","v":""},{"$f":"IF('Student Record'!A75=\"\",\"\",'Student Record'!A75)","v":""},{"$f":"IF('Student Record'!C75=\"\",\"\",'Student Record'!C75)","v":""},null,{"$f":"IF('Student Record'!E75=\"\",\"\",'Student Record'!E75)","v":""},{"$f":"IF('Student Record'!G75=\"\",\"\",'Student Record'!G75)","v":""},{"$f":"IF('Student Record'!H75=\"\",\"\",'Student Record'!H75)","v":""},{"$f":"IF('Student Record'!J75=\"\",\"\",'Student Record'!J75)","v":""},{"$f":"IF('Student Record'!D77=\"\",\"\",'Student Record'!D77)","v":""},{"$f":"IF('Student Record'!T75=\"\",\"\",'Student Record'!T75)","v":""},{"$f":"IF('Student Record'!V75=\"\",\"\",'Student Record'!V75)","v":""},{"$f":"IF('Student Record'!W75=\"\",\"\",'Student Record'!W75)","v":""}]
[{"$f":"IF(Table1[[#This Row],[Name of Student]]=\"\",\"\",ROWS($A$1:A75))","v":""},{"$f":"IF('Student Record'!A76=\"\",\"\",'Student Record'!A76)","v":""},{"$f":"IF('Student Record'!C76=\"\",\"\",'Student Record'!C76)","v":""},null,{"$f":"IF('Student Record'!E76=\"\",\"\",'Student Record'!E76)","v":""},{"$f":"IF('Student Record'!G76=\"\",\"\",'Student Record'!G76)","v":""},{"$f":"IF('Student Record'!H76=\"\",\"\",'Student Record'!H76)","v":""},{"$f":"IF('Student Record'!J76=\"\",\"\",'Student Record'!J76)","v":""},{"$f":"IF('Student Record'!D78=\"\",\"\",'Student Record'!D78)","v":""},{"$f":"IF('Student Record'!T76=\"\",\"\",'Student Record'!T76)","v":""},{"$f":"IF('Student Record'!V76=\"\",\"\",'Student Record'!V76)","v":""},{"$f":"IF('Student Record'!W76=\"\",\"\",'Student Record'!W76)","v":""}]
[{"$f":"IF(Table1[[#This Row],[Name of Student]]=\"\",\"\",ROWS($A$1:A76))","v":""},{"$f":"IF('Student Record'!A77=\"\",\"\",'Student Record'!A77)","v":""},{"$f":"IF('Student Record'!C77=\"\",\"\",'Student Record'!C77)","v":""},null,{"$f":"IF('Student Record'!E77=\"\",\"\",'Student Record'!E77)","v":""},{"$f":"IF('Student Record'!G77=\"\",\"\",'Student Record'!G77)","v":""},{"$f":"IF('Student Record'!H77=\"\",\"\",'Student Record'!H77)","v":""},{"$f":"IF('Student Record'!J77=\"\",\"\",'Student Record'!J77)","v":""},{"$f":"IF('Student Record'!D79=\"\",\"\",'Student Record'!D79)","v":""},{"$f":"IF('Student Record'!T77=\"\",\"\",'Student Record'!T77)","v":""},{"$f":"IF('Student Record'!V77=\"\",\"\",'Student Record'!V77)","v":""},{"$f":"IF('Student Record'!W77=\"\",\"\",'Student Record'!W77)","v":""}]
[{"$f":"IF(Table1[[#This Row],[Name of Student]]=\"\",\"\",ROWS($A$1:A77))","v":""},{"$f":"IF('Student Record'!A78=\"\",\"\",'Student Record'!A78)","v":""},{"$f":"IF('Student Record'!C78=\"\",\"\",'Student Record'!C78)","v":""},null,{"$f":"IF('Student Record'!E78=\"\",\"\",'Student Record'!E78)","v":""},{"$f":"IF('Student Record'!G78=\"\",\"\",'Student Record'!G78)","v":""},{"$f":"IF('Student Record'!H78=\"\",\"\",'Student Record'!H78)","v":""},{"$f":"IF('Student Record'!J78=\"\",\"\",'Student Record'!J78)","v":""},{"$f":"IF('Student Record'!D80=\"\",\"\",'Student Record'!D80)","v":""},{"$f":"IF('Student Record'!T78=\"\",\"\",'Student Record'!T78)","v":""},{"$f":"IF('Student Record'!V78=\"\",\"\",'Student Record'!V78)","v":""},{"$f":"IF('Student Record'!W78=\"\",\"\",'Student Record'!W78)","v":""}]
[{"$f":"IF(Table1[[#This Row],[Name of Student]]=\"\",\"\",ROWS($A$1:A78))","v":""},{"$f":"IF('Student Record'!A79=\"\",\"\",'Student Record'!A79)","v":""},{"$f":"IF('Student Record'!C79=\"\",\"\",'Student Record'!C79)","v":""},null,{"$f":"IF('Student Record'!E79=\"\",\"\",'Student Record'!E79)","v":""},{"$f":"IF('Student Record'!G79=\"\",\"\",'Student Record'!G79)","v":""},{"$f":"IF('Student Record'!H79=\"\",\"\",'Student Record'!H79)","v":""},{"$f":"IF('Student Record'!J79=\"\",\"\",'Student Record'!J79)","v":""},{"$f":"IF('Student Record'!D81=\"\",\"\",'Student Record'!D81)","v":""},{"$f":"IF('Student Record'!T79=\"\",\"\",'Student Record'!T79)","v":""},{"$f":"IF('Student Record'!V79=\"\",\"\",'Student Record'!V79)","v":""},{"$f":"IF('Student Record'!W79=\"\",\"\",'Student Record'!W79)","v":""}]
[{"$f":"IF(Table1[[#This Row],[Name of Student]]=\"\",\"\",ROWS($A$1:A79))","v":""},{"$f":"IF('Student Record'!A80=\"\",\"\",'Student Record'!A80)","v":""},{"$f":"IF('Student Record'!C80=\"\",\"\",'Student Record'!C80)","v":""},null,{"$f":"IF('Student Record'!E80=\"\",\"\",'Student Record'!E80)","v":""},{"$f":"IF('Student Record'!G80=\"\",\"\",'Student Record'!G80)","v":""},{"$f":"IF('Student Record'!H80=\"\",\"\",'Student Record'!H80)","v":""},{"$f":"IF('Student Record'!J80=\"\",\"\",'Student Record'!J80)","v":""},{"$f":"IF('Student Record'!D82=\"\",\"\",'Student Record'!D82)","v":""},{"$f":"IF('Student Record'!T80=\"\",\"\",'Student Record'!T80)","v":""},{"$f":"IF('Student Record'!V80=\"\",\"\",'Student Record'!V80)","v":""},{"$f":"IF('Student Record'!W80=\"\",\"\",'Student Record'!W80)","v":""}]
[{"$f":"IF(Table1[[#This Row],[Name of Student]]=\"\",\"\",ROWS($A$1:A80))","v":""},{"$f":"IF('Student Record'!A81=\"\",\"\",'Student Record'!A81)","v":""},{"$f":"IF('Student Record'!C81=\"\",\"\",'Student Record'!C81)","v":""},null,{"$f":"IF('Student Record'!E81=\"\",\"\",'Student Record'!E81)","v":""},{"$f":"IF('Student Record'!G81=\"\",\"\",'Student Record'!G81)","v":""},{"$f":"IF('Student Record'!H81=\"\",\"\",'Student Record'!H81)","v":""},{"$f":"IF('Student Record'!J81=\"\",\"\",'Student Record'!J81)","v":""},{"$f":"IF('Student Record'!D83=\"\",\"\",'Student Record'!D83)","v":""},{"$f":"IF('Student Record'!T81=\"\",\"\",'Student Record'!T81)","v":""},{"$f":"IF('Student Record'!V81=\"\",\"\",'Student Record'!V81)","v":""},{"$f":"IF('Student Record'!W81=\"\",\"\",'Student Record'!W81)","v":""}]
[{"$f":"IF(Table1[[#This Row],[Name of Student]]=\"\",\"\",ROWS($A$1:A81))","v":""},{"$f":"IF('Student Record'!A82=\"\",\"\",'Student Record'!A82)","v":""},{"$f":"IF('Student Record'!C82=\"\",\"\",'Student Record'!C82)","v":""},null,{"$f":"IF('Student Record'!E82=\"\",\"\",'Student Record'!E82)","v":""},{"$f":"IF('Student Record'!G82=\"\",\"\",'Student Record'!G82)","v":""},{"$f":"IF('Student Record'!H82=\"\",\"\",'Student Record'!H82)","v":""},{"$f":"IF('Student Record'!J82=\"\",\"\",'Student Record'!J82)","v":""},{"$f":"IF('Student Record'!D84=\"\",\"\",'Student Record'!D84)","v":""},{"$f":"IF('Student Record'!T82=\"\",\"\",'Student Record'!T82)","v":""},{"$f":"IF('Student Record'!V82=\"\",\"\",'Student Record'!V82)","v":""},{"$f":"IF('Student Record'!W82=\"\",\"\",'Student Record'!W82)","v":""}]
[{"$f":"IF(Table1[[#This Row],[Name of Student]]=\"\",\"\",ROWS($A$1:A82))","v":""},{"$f":"IF('Student Record'!A83=\"\",\"\",'Student Record'!A83)","v":""},{"$f":"IF('Student Record'!C83=\"\",\"\",'Student Record'!C83)","v":""},null,{"$f":"IF('Student Record'!E83=\"\",\"\",'Student Record'!E83)","v":""},{"$f":"IF('Student Record'!G83=\"\",\"\",'Student Record'!G83)","v":""},{"$f":"IF('Student Record'!H83=\"\",\"\",'Student Record'!H83)","v":""},{"$f":"IF('Student Record'!J83=\"\",\"\",'Student Record'!J83)","v":""},{"$f":"IF('Student Record'!D85=\"\",\"\",'Student Record'!D85)","v":""},{"$f":"IF('Student Record'!T83=\"\",\"\",'Student Record'!T83)","v":""},{"$f":"IF('Student Record'!V83=\"\",\"\",'Student Record'!V83)","v":""},{"$f":"IF('Student Record'!W83=\"\",\"\",'Student Record'!W83)","v":""}]
[{"$f":"IF(Table1[[#This Row],[Name of Student]]=\"\",\"\",ROWS($A$1:A83))","v":""},{"$f":"IF('Student Record'!A84=\"\",\"\",'Student Record'!A84)","v":""},{"$f":"IF('Student Record'!C84=\"\",\"\",'Student Record'!C84)","v":""},null,{"$f":"IF('Student Record'!E84=\"\",\"\",'Student Record'!E84)","v":""},{"$f":"IF('Student Record'!G84=\"\",\"\",'Student Record'!G84)","v":""},{"$f":"IF('Student Record'!H84=\"\",\"\",'Student Record'!H84)","v":""},{"$f":"IF('Student Record'!J84=\"\",\"\",'Student Record'!J84)","v":""},{"$f":"IF('Student Record'!D86=\"\",\"\",'Student Record'!D86)","v":""},{"$f":"IF('Student Record'!T84=\"\",\"\",'Student Record'!T84)","v":""},{"$f":"IF('Student Record'!V84=\"\",\"\",'Student Record'!V84)","v":""},{"$f":"IF('Student Record'!W84=\"\",\"\",'Student Record'!W84)","v":""}]
[{"$f":"IF(Table1[[#This Row],[Name of Student]]=\"\",\"\",ROWS($A$1:A84))","v":""},{"$f":"IF('Student Record'!A85=\"\",\"\",'Student Record'!A85)","v":""},{"$f":"IF('Student Record'!C85=\"\",\"\",'Student Record'!C85)","v":""},null,{"$f":"IF('Student Record'!E85=\"\",\"\",'Student Record'!E85)","v":""},{"$f":"IF('Student Record'!G85=\"\",\"\",'Student Record'!G85)","v":""},{"$f":"IF('Student Record'!H85=\"\",\"\",'Student Record'!H85)","v":""},{"$f":"IF('Student Record'!J85=\"\",\"\",'Student Record'!J85)","v":""},{"$f":"IF('Student Record'!D87=\"\",\"\",'Student Record'!D87)","v":""},{"$f":"IF('Student Record'!T85=\"\",\"\",'Student Record'!T85)","v":""},{"$f":"IF('Student Record'!V85=\"\",\"\",'Student Record'!V85)","v":""},{"$f":"IF('Student Record'!W85=\"\",\"\",'Student Record'!W85)","v":""}]
[{"$f":"IF(Table1[[#This Row],[Name of Student]]=\"\",\"\",ROWS($A$1:A85))","v":""},{"$f":"IF('Student Record'!A86=\"\",\"\",'Student Record'!A86)","v":""},{"$f":"IF('Student Record'!C86=\"\",\"\",'Student Record'!C86)","v":""},null,{"$f":"IF('Student Record'!E86=\"\",\"\",'Student Record'!E86)","v":""},{"$f":"IF('Student Record'!G86=\"\",\"\",'Student Record'!G86)","v":""},{"$f":"IF('Student Record'!H86=\"\",\"\",'Student Record'!H86)","v":""},{"$f":"IF('Student Record'!J86=\"\",\"\",'Student Record'!J86)","v":""},{"$f":"IF('Student Record'!D88=\"\",\"\",'Student Record'!D88)","v":""},{"$f":"IF('Student Record'!T86=\"\",\"\",'Student Record'!T86)","v":""},{"$f":"IF('Student Record'!V86=\"\",\"\",'Student Record'!V86)","v":""},{"$f":"IF('Student Record'!W86=\"\",\"\",'Student Record'!W86)","v":""}]
[{"$f":"IF(Table1[[#This Row],[Name of Student]]=\"\",\"\",ROWS($A$1:A86))","v":""},{"$f":"IF('Student Record'!A87=\"\",\"\",'Student Record'!A87)","v":""},{"$f":"IF('Student Record'!C87=\"\",\"\",'Student Record'!C87)","v":""},null,{"$f":"IF('Student Record'!E87=\"\",\"\",'Student Record'!E87)","v":""},{"$f":"IF('Student Record'!G87=\"\",\"\",'Student Record'!G87)","v":""},{"$f":"IF('Student Record'!H87=\"\",\"\",'Student Record'!H87)","v":""},{"$f":"IF('Student Record'!J87=\"\",\"\",'Student Record'!J87)","v":""},{"$f":"IF('Student Record'!D89=\"\",\"\",'Student Record'!D89)","v":""},{"$f":"IF('Student Record'!T87=\"\",\"\",'Student Record'!T87)","v":""},{"$f":"IF('Student Record'!V87=\"\",\"\",'Student Record'!V87)","v":""},{"$f":"IF('Student Record'!W87=\"\",\"\",'Student Record'!W87)","v":""}]
[{"$f":"IF(Table1[[#This Row],[Name of Student]]=\"\",\"\",ROWS($A$1:A87))","v":""},{"$f":"IF('Student Record'!A88=\"\",\"\",'Student Record'!A88)","v":""},{"$f":"IF('Student Record'!C88=\"\",\"\",'Student Record'!C88)","v":""},null,{"$f":"IF('Student Record'!E88=\"\",\"\",'Student Record'!E88)","v":""},{"$f":"IF('Student Record'!G88=\"\",\"\",'Student Record'!G88)","v":""},{"$f":"IF('Student Record'!H88=\"\",\"\",'Student Record'!H88)","v":""},{"$f":"IF('Student Record'!J88=\"\",\"\",'Student Record'!J88)","v":""},{"$f":"IF('Student Record'!D90=\"\",\"\",'Student Record'!D90)","v":""},{"$f":"IF('Student Record'!T88=\"\",\"\",'Student Record'!T88)","v":""},{"$f":"IF('Student Record'!V88=\"\",\"\",'Student Record'!V88)","v":""},{"$f":"IF('Student Record'!W88=\"\",\"\",'Student Record'!W88)","v":""}]
[{"$f":"IF(Table1[[#This Row],[Name of Student]]=\"\",\"\",ROWS($A$1:A88))","v":""},{"$f":"IF('Student Record'!A89=\"\",\"\",'Student Record'!A89)","v":""},{"$f":"IF('Student Record'!C89=\"\",\"\",'Student Record'!C89)","v":""},null,{"$f":"IF('Student Record'!E89=\"\",\"\",'Student Record'!E89)","v":""},{"$f":"IF('Student Record'!G89=\"\",\"\",'Student Record'!G89)","v":""},{"$f":"IF('Student Record'!H89=\"\",\"\",'Student Record'!H89)","v":""},{"$f":"IF('Student Record'!J89=\"\",\"\",'Student Record'!J89)","v":""},{"$f":"IF('Student Record'!D91=\"\",\"\",'Student Record'!D91)","v":""},{"$f":"IF('Student Record'!T89=\"\",\"\",'Student Record'!T89)","v":""},{"$f":"IF('Student Record'!V89=\"\",\"\",'Student Record'!V89)","v":""},{"$f":"IF('Student Record'!W89=\"\",\"\",'Student Record'!W89)","v":""}]
[{"$f":"IF(Table1[[#This Row],[Name of Student]]=\"\",\"\",ROWS($A$1:A89))","v":""},{"$f":"IF('Student Record'!A90=\"\",\"\",'Student Record'!A90)","v":""},{"$f":"IF('Student Record'!C90=\"\",\"\",'Student Record'!C90)","v":""},null,{"$f":"IF('Student Record'!E90=\"\",\"\",'Student Record'!E90)","v":""},{"$f":"IF('Student Record'!G90=\"\",\"\",'Student Record'!G90)","v":""},{"$f":"IF('Student Record'!H90=\"\",\"\",'Student Record'!H90)","v":""},{"$f":"IF('Student Record'!J90=\"\",\"\",'Student Record'!J90)","v":""},{"$f":"IF('Student Record'!D92=\"\",\"\",'Student Record'!D92)","v":""},{"$f":"IF('Student Record'!T90=\"\",\"\",'Student Record'!T90)","v":""},{"$f":"IF('Student Record'!V90=\"\",\"\",'Student Record'!V90)","v":""},{"$f":"IF('Student Record'!W90=\"\",\"\",'Student Record'!W90)","v":""}]
[{"$f":"IF(Table1[[#This Row],[Name of Student]]=\"\",\"\",ROWS($A$1:A90))","v":""},{"$f":"IF('Student Record'!A91=\"\",\"\",'Student Record'!A91)","v":""},{"$f":"IF('Student Record'!C91=\"\",\"\",'Student Record'!C91)","v":""},null,{"$f":"IF('Student Record'!E91=\"\",\"\",'Student Record'!E91)","v":""},{"$f":"IF('Student Record'!G91=\"\",\"\",'Student Record'!G91)","v":""},{"$f":"IF('Student Record'!H91=\"\",\"\",'Student Record'!H91)","v":""},{"$f":"IF('Student Record'!J91=\"\",\"\",'Student Record'!J91)","v":""},{"$f":"IF('Student Record'!D93=\"\",\"\",'Student Record'!D93)","v":""},{"$f":"IF('Student Record'!T91=\"\",\"\",'Student Record'!T91)","v":""},{"$f":"IF('Student Record'!V91=\"\",\"\",'Student Record'!V91)","v":""},{"$f":"IF('Student Record'!W91=\"\",\"\",'Student Record'!W91)","v":""}]
[{"$f":"IF(Table1[[#This Row],[Name of Student]]=\"\",\"\",ROWS($A$1:A91))","v":""},{"$f":"IF('Student Record'!A92=\"\",\"\",'Student Record'!A92)","v":""},{"$f":"IF('Student Record'!C92=\"\",\"\",'Student Record'!C92)","v":""},null,{"$f":"IF('Student Record'!E92=\"\",\"\",'Student Record'!E92)","v":""},{"$f":"IF('Student Record'!G92=\"\",\"\",'Student Record'!G92)","v":""},{"$f":"IF('Student Record'!H92=\"\",\"\",'Student Record'!H92)","v":""},{"$f":"IF('Student Record'!J92=\"\",\"\",'Student Record'!J92)","v":""},{"$f":"IF('Student Record'!D94=\"\",\"\",'Student Record'!D94)","v":""},{"$f":"IF('Student Record'!T92=\"\",\"\",'Student Record'!T92)","v":""},{"$f":"IF('Student Record'!V92=\"\",\"\",'Student Record'!V92)","v":""},{"$f":"IF('Student Record'!W92=\"\",\"\",'Student Record'!W92)","v":""}]
[{"$f":"IF(Table1[[#This Row],[Name of Student]]=\"\",\"\",ROWS($A$1:A92))","v":""},{"$f":"IF('Student Record'!A93=\"\",\"\",'Student Record'!A93)","v":""},{"$f":"IF('Student Record'!C93=\"\",\"\",'Student Record'!C93)","v":""},null,{"$f":"IF('Student Record'!E93=\"\",\"\",'Student Record'!E93)","v":""},{"$f":"IF('Student Record'!G93=\"\",\"\",'Student Record'!G93)","v":""},{"$f":"IF('Student Record'!H93=\"\",\"\",'Student Record'!H93)","v":""},{"$f":"IF('Student Record'!J93=\"\",\"\",'Student Record'!J93)","v":""},{"$f":"IF('Student Record'!D95=\"\",\"\",'Student Record'!D95)","v":""},{"$f":"IF('Student Record'!T93=\"\",\"\",'Student Record'!T93)","v":""},{"$f":"IF('Student Record'!V93=\"\",\"\",'Student Record'!V93)","v":""},{"$f":"IF('Student Record'!W93=\"\",\"\",'Student Record'!W93)","v":""}]
[{"$f":"IF(Table1[[#This Row],[Name of Student]]=\"\",\"\",ROWS($A$1:A93))","v":""},{"$f":"IF('Student Record'!A94=\"\",\"\",'Student Record'!A94)","v":""},{"$f":"IF('Student Record'!C94=\"\",\"\",'Student Record'!C94)","v":""},null,{"$f":"IF('Student Record'!E94=\"\",\"\",'Student Record'!E94)","v":""},{"$f":"IF('Student Record'!G94=\"\",\"\",'Student Record'!G94)","v":""},{"$f":"IF('Student Record'!H94=\"\",\"\",'Student Record'!H94)","v":""},{"$f":"IF('Student Record'!J94=\"\",\"\",'Student Record'!J94)","v":""},{"$f":"IF('Student Record'!D96=\"\",\"\",'Student Record'!D96)","v":""},{"$f":"IF('Student Record'!T94=\"\",\"\",'Student Record'!T94)","v":""},{"$f":"IF('Student Record'!V94=\"\",\"\",'Student Record'!V94)","v":""},{"$f":"IF('Student Record'!W94=\"\",\"\",'Student Record'!W94)","v":""}]
[{"$f":"IF(Table1[[#This Row],[Name of Student]]=\"\",\"\",ROWS($A$1:A94))","v":""},{"$f":"IF('Student Record'!A95=\"\",\"\",'Student Record'!A95)","v":""},{"$f":"IF('Student Record'!C95=\"\",\"\",'Student Record'!C95)","v":""},null,{"$f":"IF('Student Record'!E95=\"\",\"\",'Student Record'!E95)","v":""},{"$f":"IF('Student Record'!G95=\"\",\"\",'Student Record'!G95)","v":""},{"$f":"IF('Student Record'!H95=\"\",\"\",'Student Record'!H95)","v":""},{"$f":"IF('Student Record'!J95=\"\",\"\",'Student Record'!J95)","v":""},{"$f":"IF('Student Record'!D97=\"\",\"\",'Student Record'!D97)","v":""},{"$f":"IF('Student Record'!T95=\"\",\"\",'Student Record'!T95)","v":""},{"$f":"IF('Student Record'!V95=\"\",\"\",'Student Record'!V95)","v":""},{"$f":"IF('Student Record'!W95=\"\",\"\",'Student Record'!W95)","v":""}]
[{"$f":"IF(Table1[[#This Row],[Name of Student]]=\"\",\"\",ROWS($A$1:A95))","v":""},{"$f":"IF('Student Record'!A96=\"\",\"\",'Student Record'!A96)","v":""},{"$f":"IF('Student Record'!C96=\"\",\"\",'Student Record'!C96)","v":""},null,{"$f":"IF('Student Record'!E96=\"\",\"\",'Student Record'!E96)","v":""},{"$f":"IF('Student Record'!G96=\"\",\"\",'Student Record'!G96)","v":""},{"$f":"IF('Student Record'!H96=\"\",\"\",'Student Record'!H96)","v":""},{"$f":"IF('Student Record'!J96=\"\",\"\",'Student Record'!J96)","v":""},{"$f":"IF('Student Record'!D98=\"\",\"\",'Student Record'!D98)","v":""},{"$f":"IF('Student Record'!T96=\"\",\"\",'Student Record'!T96)","v":""},{"$f":"IF('Student Record'!V96=\"\",\"\",'Student Record'!V96)","v":""},{"$f":"IF('Student Record'!W96=\"\",\"\",'Student Record'!W96)","v":""}]
[{"$f":"IF(Table1[[#This Row],[Name of Student]]=\"\",\"\",ROWS($A$1:A96))","v":""},{"$f":"IF('Student Record'!A97=\"\",\"\",'Student Record'!A97)","v":""},{"$f":"IF('Student Record'!C97=\"\",\"\",'Student Record'!C97)","v":""},null,{"$f":"IF('Student Record'!E97=\"\",\"\",'Student Record'!E97)","v":""},{"$f":"IF('Student Record'!G97=\"\",\"\",'Student Record'!G97)","v":""},{"$f":"IF('Student Record'!H97=\"\",\"\",'Student Record'!H97)","v":""},{"$f":"IF('Student Record'!J97=\"\",\"\",'Student Record'!J97)","v":""},{"$f":"IF('Student Record'!D99=\"\",\"\",'Student Record'!D99)","v":""},{"$f":"IF('Student Record'!T97=\"\",\"\",'Student Record'!T97)","v":""},{"$f":"IF('Student Record'!V97=\"\",\"\",'Student Record'!V97)","v":""},{"$f":"IF('Student Record'!W97=\"\",\"\",'Student Record'!W97)","v":""}]
[{"$f":"IF(Table1[[#This Row],[Name of Student]]=\"\",\"\",ROWS($A$1:A97))","v":""},{"$f":"IF('Student Record'!A98=\"\",\"\",'Student Record'!A98)","v":""},{"$f":"IF('Student Record'!C98=\"\",\"\",'Student Record'!C98)","v":""},null,{"$f":"IF('Student Record'!E98=\"\",\"\",'Student Record'!E98)","v":""},{"$f":"IF('Student Record'!G98=\"\",\"\",'Student Record'!G98)","v":""},{"$f":"IF('Student Record'!H98=\"\",\"\",'Student Record'!H98)","v":""},{"$f":"IF('Student Record'!J98=\"\",\"\",'Student Record'!J98)","v":""},{"$f":"IF('Student Record'!D100=\"\",\"\",'Student Record'!D100)","v":""},{"$f":"IF('Student Record'!T98=\"\",\"\",'Student Record'!T98)","v":""},{"$f":"IF('Student Record'!V98=\"\",\"\",'Student Record'!V98)","v":""},{"$f":"IF('Student Record'!W100=\"\",\"\",'Student Record'!W100)","v":""}]
[{"$f":"IF(Table1[[#This Row],[Name of Student]]=\"\",\"\",ROWS($A$1:A98))","v":""},{"$f":"IF('Student Record'!A99=\"\",\"\",'Student Record'!A99)","v":""},{"$f":"IF('Student Record'!C99=\"\",\"\",'Student Record'!C99)","v":""},null,{"$f":"IF('Student Record'!E99=\"\",\"\",'Student Record'!E99)","v":""},{"$f":"IF('Student Record'!G99=\"\",\"\",'Student Record'!G99)","v":""},{"$f":"IF('Student Record'!H99=\"\",\"\",'Student Record'!H99)","v":""},{"$f":"IF('Student Record'!J99=\"\",\"\",'Student Record'!J99)","v":""},{"$f":"IF('Student Record'!D101=\"\",\"\",'Student Record'!D101)","v":""},{"$f":"IF('Student Record'!T99=\"\",\"\",'Student Record'!T99)","v":""},{"$f":"IF('Student Record'!V99=\"\",\"\",'Student Record'!V99)","v":""},{"$f":"IF('Student Record'!W101=\"\",\"\",'Student Record'!W101)","v":""}]
[{"$f":"IF(Table1[[#This Row],[Name of Student]]=\"\",\"\",ROWS($A$1:A99))","v":""},{"$f":"IF('Student Record'!A100=\"\",\"\",'Student Record'!A100)","v":""},{"$f":"IF('Student Record'!C100=\"\",\"\",'Student Record'!C100)","v":""},null,{"$f":"IF('Student Record'!E100=\"\",\"\",'Student Record'!E100)","v":""},{"$f":"IF('Student Record'!G100=\"\",\"\",'Student Record'!G100)","v":""},{"$f":"IF('Student Record'!H100=\"\",\"\",'Student Record'!H100)","v":""},{"$f":"IF('Student Record'!J100=\"\",\"\",'Student Record'!J100)","v":""},{"$f":"IF('Student Record'!D102=\"\",\"\",'Student Record'!D102)","v":""},{"$f":"IF('Student Record'!T100=\"\",\"\",'Student Record'!T100)","v":""},{"$f":"IF('Student Record'!V100=\"\",\"\",'Student Record'!V100)","v":""},{"$f":"IF('Student Record'!W102=\"\",\"\",'Student Record'!W102)","v":""}]
[{"$f":"IF(Table1[[#This Row],[Name of Student]]=\"\",\"\",ROWS($A$1:A100))","v":""},{"$f":"IF('Student Record'!A101=\"\",\"\",'Student Record'!A101)","v":""},{"$f":"IF('Student Record'!C101=\"\",\"\",'Student Record'!C101)","v":""},null,{"$f":"IF('Student Record'!E101=\"\",\"\",'Student Record'!E101)","v":""},{"$f":"IF('Student Record'!G101=\"\",\"\",'Student Record'!G101)","v":""},{"$f":"IF('Student Record'!H101=\"\",\"\",'Student Record'!H101)","v":""},{"$f":"IF('Student Record'!J101=\"\",\"\",'Student Record'!J101)","v":""},{"$f":"IF('Student Record'!D103=\"\",\"\",'Student Record'!D103)","v":""},{"$f":"IF('Student Record'!T101=\"\",\"\",'Student Record'!T101)","v":""},{"$f":"IF('Student Record'!V101=\"\",\"\",'Student Record'!V101)","v":""},{"$f":"IF('Student Record'!W103=\"\",\"\",'Student Record'!W103)","v":""}]
[{"$f":"IF(Table1[[#This Row],[Name of Student]]=\"\",\"\",ROWS($A$1:A101))","v":""},{"$f":"IF('Student Record'!A102=\"\",\"\",'Student Record'!A102)","v":""},{"$f":"IF('Student Record'!C102=\"\",\"\",'Student Record'!C102)","v":""},null,{"$f":"IF('Student Record'!E102=\"\",\"\",'Student Record'!E102)","v":""},{"$f":"IF('Student Record'!G102=\"\",\"\",'Student Record'!G102)","v":""},{"$f":"IF('Student Record'!H102=\"\",\"\",'Student Record'!H102)","v":""},{"$f":"IF('Student Record'!J102=\"\",\"\",'Student Record'!J102)","v":""},{"$f":"IF('Student Record'!D104=\"\",\"\",'Student Record'!D104)","v":""},{"$f":"IF('Student Record'!T102=\"\",\"\",'Student Record'!T102)","v":""},{"$f":"IF('Student Record'!V102=\"\",\"\",'Student Record'!V102)","v":""},{"$f":"IF('Student Record'!W104=\"\",\"\",'Student Record'!W104)","v":""}]
[{"$f":"IF(Table1[[#This Row],[Name of Student]]=\"\",\"\",ROWS($A$1:A102))","v":""},{"$f":"IF('Student Record'!A103=\"\",\"\",'Student Record'!A103)","v":""},{"$f":"IF('Student Record'!C103=\"\",\"\",'Student Record'!C103)","v":""},null,{"$f":"IF('Student Record'!E103=\"\",\"\",'Student Record'!E103)","v":""},{"$f":"IF('Student Record'!G103=\"\",\"\",'Student Record'!G103)","v":""},{"$f":"IF('Student Record'!H103=\"\",\"\",'Student Record'!H103)","v":""},{"$f":"IF('Student Record'!J103=\"\",\"\",'Student Record'!J103)","v":""},{"$f":"IF('Student Record'!D105=\"\",\"\",'Student Record'!D105)","v":""},{"$f":"IF('Student Record'!T103=\"\",\"\",'Student Record'!T103)","v":""},{"$f":"IF('Student Record'!V103=\"\",\"\",'Student Record'!V103)","v":""},{"$f":"IF('Student Record'!W105=\"\",\"\",'Student Record'!W105)","v":""}]
[{"$f":"IF(Table1[[#This Row],[Name of Student]]=\"\",\"\",ROWS($A$1:A103))","v":""},{"$f":"IF('Student Record'!A104=\"\",\"\",'Student Record'!A104)","v":""},{"$f":"IF('Student Record'!C104=\"\",\"\",'Student Record'!C104)","v":""},null,{"$f":"IF('Student Record'!E104=\"\",\"\",'Student Record'!E104)","v":""},{"$f":"IF('Student Record'!G104=\"\",\"\",'Student Record'!G104)","v":""},{"$f":"IF('Student Record'!H104=\"\",\"\",'Student Record'!H104)","v":""},{"$f":"IF('Student Record'!J104=\"\",\"\",'Student Record'!J104)","v":""},{"$f":"IF('Student Record'!D106=\"\",\"\",'Student Record'!D106)","v":""},{"$f":"IF('Student Record'!T104=\"\",\"\",'Student Record'!T104)","v":""},{"$f":"IF('Student Record'!V104=\"\",\"\",'Student Record'!V104)","v":""},{"$f":"IF('Student Record'!W106=\"\",\"\",'Student Record'!W106)","v":""}]
[{"$f":"IF(Table1[[#This Row],[Name of Student]]=\"\",\"\",ROWS($A$1:A104))","v":""},{"$f":"IF('Student Record'!A105=\"\",\"\",'Student Record'!A105)","v":""},{"$f":"IF('Student Record'!C105=\"\",\"\",'Student Record'!C105)","v":""},null,{"$f":"IF('Student Record'!E105=\"\",\"\",'Student Record'!E105)","v":""},{"$f":"IF('Student Record'!G105=\"\",\"\",'Student Record'!G105)","v":""},{"$f":"IF('Student Record'!H105=\"\",\"\",'Student Record'!H105)","v":""},{"$f":"IF('Student Record'!J105=\"\",\"\",'Student Record'!J105)","v":""},{"$f":"IF('Student Record'!D107=\"\",\"\",'Student Record'!D107)","v":""},{"$f":"IF('Student Record'!T105=\"\",\"\",'Student Record'!T105)","v":""},{"$f":"IF('Student Record'!V105=\"\",\"\",'Student Record'!V105)","v":""},{"$f":"IF('Student Record'!W107=\"\",\"\",'Student Record'!W107)","v":""}]
[{"$f":"IF(Table1[[#This Row],[Name of Student]]=\"\",\"\",ROWS($A$1:A105))","v":""},{"$f":"IF('Student Record'!A106=\"\",\"\",'Student Record'!A106)","v":""},{"$f":"IF('Student Record'!C106=\"\",\"\",'Student Record'!C106)","v":""},null,{"$f":"IF('Student Record'!E106=\"\",\"\",'Student Record'!E106)","v":""},{"$f":"IF('Student Record'!G106=\"\",\"\",'Student Record'!G106)","v":""},{"$f":"IF('Student Record'!H106=\"\",\"\",'Student Record'!H106)","v":""},{"$f":"IF('Student Record'!J106=\"\",\"\",'Student Record'!J106)","v":""},{"$f":"IF('Student Record'!D108=\"\",\"\",'Student Record'!D108)","v":""},{"$f":"IF('Student Record'!T106=\"\",\"\",'Student Record'!T106)","v":""},{"$f":"IF('Student Record'!V106=\"\",\"\",'Student Record'!V106)","v":""},{"$f":"IF('Student Record'!W108=\"\",\"\",'Student Record'!W108)","v":""}]
[{"$f":"IF(Table1[[#This Row],[Name of Student]]=\"\",\"\",ROWS($A$1:A106))","v":""},{"$f":"IF('Student Record'!A107=\"\",\"\",'Student Record'!A107)","v":""},{"$f":"IF('Student Record'!C107=\"\",\"\",'Student Record'!C107)","v":""},null,{"$f":"IF('Student Record'!E107=\"\",\"\",'Student Record'!E107)","v":""},{"$f":"IF('Student Record'!G107=\"\",\"\",'Student Record'!G107)","v":""},{"$f":"IF('Student Record'!H107=\"\",\"\",'Student Record'!H107)","v":""},{"$f":"IF('Student Record'!J107=\"\",\"\",'Student Record'!J107)","v":""},{"$f":"IF('Student Record'!D109=\"\",\"\",'Student Record'!D109)","v":""},{"$f":"IF('Student Record'!T107=\"\",\"\",'Student Record'!T107)","v":""},{"$f":"IF('Student Record'!V107=\"\",\"\",'Student Record'!V107)","v":""},{"$f":"IF('Student Record'!W109=\"\",\"\",'Student Record'!W109)","v":""}]
[{"$f":"IF(Table1[[#This Row],[Name of Student]]=\"\",\"\",ROWS($A$1:A107))","v":""},{"$f":"IF('Student Record'!A108=\"\",\"\",'Student Record'!A108)","v":""},{"$f":"IF('Student Record'!C108=\"\",\"\",'Student Record'!C108)","v":""},null,{"$f":"IF('Student Record'!E108=\"\",\"\",'Student Record'!E108)","v":""},{"$f":"IF('Student Record'!G108=\"\",\"\",'Student Record'!G108)","v":""},{"$f":"IF('Student Record'!H108=\"\",\"\",'Student Record'!H108)","v":""},{"$f":"IF('Student Record'!J108=\"\",\"\",'Student Record'!J108)","v":""},{"$f":"IF('Student Record'!D110=\"\",\"\",'Student Record'!D110)","v":""},{"$f":"IF('Student Record'!T108=\"\",\"\",'Student Record'!T108)","v":""},{"$f":"IF('Student Record'!V108=\"\",\"\",'Student Record'!V108)","v":""},{"$f":"IF('Student Record'!W110=\"\",\"\",'Student Record'!W110)","v":""}]
[{"$f":"IF(Table1[[#This Row],[Name of Student]]=\"\",\"\",ROWS($A$1:A108))","v":""},{"$f":"IF('Student Record'!A109=\"\",\"\",'Student Record'!A109)","v":""},{"$f":"IF('Student Record'!C109=\"\",\"\",'Student Record'!C109)","v":""},null,{"$f":"IF('Student Record'!E109=\"\",\"\",'Student Record'!E109)","v":""},{"$f":"IF('Student Record'!G109=\"\",\"\",'Student Record'!G109)","v":""},{"$f":"IF('Student Record'!H109=\"\",\"\",'Student Record'!H109)","v":""},{"$f":"IF('Student Record'!J109=\"\",\"\",'Student Record'!J109)","v":""},{"$f":"IF('Student Record'!D111=\"\",\"\",'Student Record'!D111)","v":""},{"$f":"IF('Student Record'!T109=\"\",\"\",'Student Record'!T109)","v":""},{"$f":"IF('Student Record'!V109=\"\",\"\",'Student Record'!V109)","v":""},{"$f":"IF('Student Record'!W111=\"\",\"\",'Student Record'!W111)","v":""}]
[{"$f":"IF(Table1[[#This Row],[Name of Student]]=\"\",\"\",ROWS($A$1:A109))","v":""},{"$f":"IF('Student Record'!A110=\"\",\"\",'Student Record'!A110)","v":""},{"$f":"IF('Student Record'!C110=\"\",\"\",'Student Record'!C110)","v":""},null,{"$f":"IF('Student Record'!E110=\"\",\"\",'Student Record'!E110)","v":""},{"$f":"IF('Student Record'!G110=\"\",\"\",'Student Record'!G110)","v":""},{"$f":"IF('Student Record'!H110=\"\",\"\",'Student Record'!H110)","v":""},{"$f":"IF('Student Record'!J110=\"\",\"\",'Student Record'!J110)","v":""},{"$f":"IF('Student Record'!D112=\"\",\"\",'Student Record'!D112)","v":""},{"$f":"IF('Student Record'!T110=\"\",\"\",'Student Record'!T110)","v":""},{"$f":"IF('Student Record'!V110=\"\",\"\",'Student Record'!V110)","v":""},{"$f":"IF('Student Record'!W112=\"\",\"\",'Student Record'!W112)","v":""}]
[{"$f":"IF(Table1[[#This Row],[Name of Student]]=\"\",\"\",ROWS($A$1:A110))","v":""},{"$f":"IF('Student Record'!A111=\"\",\"\",'Student Record'!A111)","v":""},{"$f":"IF('Student Record'!C111=\"\",\"\",'Student Record'!C111)","v":""},null,{"$f":"IF('Student Record'!E111=\"\",\"\",'Student Record'!E111)","v":""},{"$f":"IF('Student Record'!G111=\"\",\"\",'Student Record'!G111)","v":""},{"$f":"IF('Student Record'!H111=\"\",\"\",'Student Record'!H111)","v":""},{"$f":"IF('Student Record'!J111=\"\",\"\",'Student Record'!J111)","v":""},{"$f":"IF('Student Record'!D113=\"\",\"\",'Student Record'!D113)","v":""},{"$f":"IF('Student Record'!T111=\"\",\"\",'Student Record'!T111)","v":""},{"$f":"IF('Student Record'!V111=\"\",\"\",'Student Record'!V111)","v":""},{"$f":"IF('Student Record'!W113=\"\",\"\",'Student Record'!W113)","v":""}]
[{"$f":"IF(Table1[[#This Row],[Name of Student]]=\"\",\"\",ROWS($A$1:A111))","v":""},{"$f":"IF('Student Record'!A112=\"\",\"\",'Student Record'!A112)","v":""},{"$f":"IF('Student Record'!C112=\"\",\"\",'Student Record'!C112)","v":""},null,{"$f":"IF('Student Record'!E112=\"\",\"\",'Student Record'!E112)","v":""},{"$f":"IF('Student Record'!G112=\"\",\"\",'Student Record'!G112)","v":""},{"$f":"IF('Student Record'!H112=\"\",\"\",'Student Record'!H112)","v":""},{"$f":"IF('Student Record'!J112=\"\",\"\",'Student Record'!J112)","v":""},{"$f":"IF('Student Record'!D114=\"\",\"\",'Student Record'!D114)","v":""},{"$f":"IF('Student Record'!T112=\"\",\"\",'Student Record'!T112)","v":""},{"$f":"IF('Student Record'!V112=\"\",\"\",'Student Record'!V112)","v":""},{"$f":"IF('Student Record'!W114=\"\",\"\",'Student Record'!W114)","v":""}]
[{"$f":"IF(Table1[[#This Row],[Name of Student]]=\"\",\"\",ROWS($A$1:A112))","v":""},{"$f":"IF('Student Record'!A113=\"\",\"\",'Student Record'!A113)","v":""},{"$f":"IF('Student Record'!C113=\"\",\"\",'Student Record'!C113)","v":""},null,{"$f":"IF('Student Record'!E113=\"\",\"\",'Student Record'!E113)","v":""},{"$f":"IF('Student Record'!G113=\"\",\"\",'Student Record'!G113)","v":""},{"$f":"IF('Student Record'!H113=\"\",\"\",'Student Record'!H113)","v":""},{"$f":"IF('Student Record'!J113=\"\",\"\",'Student Record'!J113)","v":""},{"$f":"IF('Student Record'!D115=\"\",\"\",'Student Record'!D115)","v":""},{"$f":"IF('Student Record'!T113=\"\",\"\",'Student Record'!T113)","v":""},{"$f":"IF('Student Record'!V113=\"\",\"\",'Student Record'!V113)","v":""},{"$f":"IF('Student Record'!W115=\"\",\"\",'Student Record'!W115)","v":""}]
[{"$f":"IF(Table1[[#This Row],[Name of Student]]=\"\",\"\",ROWS($A$1:A113))","v":""},{"$f":"IF('Student Record'!A114=\"\",\"\",'Student Record'!A114)","v":""},{"$f":"IF('Student Record'!C114=\"\",\"\",'Student Record'!C114)","v":""},null,{"$f":"IF('Student Record'!E114=\"\",\"\",'Student Record'!E114)","v":""},{"$f":"IF('Student Record'!G114=\"\",\"\",'Student Record'!G114)","v":""},{"$f":"IF('Student Record'!H114=\"\",\"\",'Student Record'!H114)","v":""},{"$f":"IF('Student Record'!J114=\"\",\"\",'Student Record'!J114)","v":""},{"$f":"IF('Student Record'!D116=\"\",\"\",'Student Record'!D116)","v":""},{"$f":"IF('Student Record'!T114=\"\",\"\",'Student Record'!T114)","v":""},{"$f":"IF('Student Record'!V114=\"\",\"\",'Student Record'!V114)","v":""},{"$f":"IF('Student Record'!W116=\"\",\"\",'Student Record'!W116)","v":""}]
[{"$f":"IF(Table1[[#This Row],[Name of Student]]=\"\",\"\",ROWS($A$1:A114))","v":""},{"$f":"IF('Student Record'!A115=\"\",\"\",'Student Record'!A115)","v":""},{"$f":"IF('Student Record'!C115=\"\",\"\",'Student Record'!C115)","v":""},null,{"$f":"IF('Student Record'!E115=\"\",\"\",'Student Record'!E115)","v":""},{"$f":"IF('Student Record'!G115=\"\",\"\",'Student Record'!G115)","v":""},{"$f":"IF('Student Record'!H115=\"\",\"\",'Student Record'!H115)","v":""},{"$f":"IF('Student Record'!J115=\"\",\"\",'Student Record'!J115)","v":""},{"$f":"IF('Student Record'!D117=\"\",\"\",'Student Record'!D117)","v":""},{"$f":"IF('Student Record'!T115=\"\",\"\",'Student Record'!T115)","v":""},{"$f":"IF('Student Record'!V115=\"\",\"\",'Student Record'!V115)","v":""},{"$f":"IF('Student Record'!W117=\"\",\"\",'Student Record'!W117)","v":""}]
[{"$f":"IF(Table1[[#This Row],[Name of Student]]=\"\",\"\",ROWS($A$1:A115))","v":""},{"$f":"IF('Student Record'!A116=\"\",\"\",'Student Record'!A116)","v":""},{"$f":"IF('Student Record'!C116=\"\",\"\",'Student Record'!C116)","v":""},null,{"$f":"IF('Student Record'!E116=\"\",\"\",'Student Record'!E116)","v":""},{"$f":"IF('Student Record'!G116=\"\",\"\",'Student Record'!G116)","v":""},{"$f":"IF('Student Record'!H116=\"\",\"\",'Student Record'!H116)","v":""},{"$f":"IF('Student Record'!J116=\"\",\"\",'Student Record'!J116)","v":""},{"$f":"IF('Student Record'!D118=\"\",\"\",'Student Record'!D118)","v":""},{"$f":"IF('Student Record'!T116=\"\",\"\",'Student Record'!T116)","v":""},{"$f":"IF('Student Record'!V116=\"\",\"\",'Student Record'!V116)","v":""},{"$f":"IF('Student Record'!W118=\"\",\"\",'Student Record'!W118)","v":""}]
[{"$f":"IF(Table1[[#This Row],[Name of Student]]=\"\",\"\",ROWS($A$1:A116))","v":""},{"$f":"IF('Student Record'!A117=\"\",\"\",'Student Record'!A117)","v":""},{"$f":"IF('Student Record'!C117=\"\",\"\",'Student Record'!C117)","v":""},null,{"$f":"IF('Student Record'!E117=\"\",\"\",'Student Record'!E117)","v":""},{"$f":"IF('Student Record'!G117=\"\",\"\",'Student Record'!G117)","v":""},{"$f":"IF('Student Record'!H117=\"\",\"\",'Student Record'!H117)","v":""},{"$f":"IF('Student Record'!J117=\"\",\"\",'Student Record'!J117)","v":""},{"$f":"IF('Student Record'!D119=\"\",\"\",'Student Record'!D119)","v":""},{"$f":"IF('Student Record'!T117=\"\",\"\",'Student Record'!T117)","v":""},{"$f":"IF('Student Record'!V117=\"\",\"\",'Student Record'!V117)","v":""},{"$f":"IF('Student Record'!W119=\"\",\"\",'Student Record'!W119)","v":""}]
[{"$f":"IF(Table1[[#This Row],[Name of Student]]=\"\",\"\",ROWS($A$1:A117))","v":""},{"$f":"IF('Student Record'!A118=\"\",\"\",'Student Record'!A118)","v":""},{"$f":"IF('Student Record'!C118=\"\",\"\",'Student Record'!C118)","v":""},null,{"$f":"IF('Student Record'!E118=\"\",\"\",'Student Record'!E118)","v":""},{"$f":"IF('Student Record'!G118=\"\",\"\",'Student Record'!G118)","v":""},{"$f":"IF('Student Record'!H118=\"\",\"\",'Student Record'!H118)","v":""},{"$f":"IF('Student Record'!J118=\"\",\"\",'Student Record'!J118)","v":""},{"$f":"IF('Student Record'!D120=\"\",\"\",'Student Record'!D120)","v":""},{"$f":"IF('Student Record'!T118=\"\",\"\",'Student Record'!T118)","v":""},{"$f":"IF('Student Record'!V118=\"\",\"\",'Student Record'!V118)","v":""},{"$f":"IF('Student Record'!W120=\"\",\"\",'Student Record'!W120)","v":""}]
[{"$f":"IF(Table1[[#This Row],[Name of Student]]=\"\",\"\",ROWS($A$1:A118))","v":""},{"$f":"IF('Student Record'!A119=\"\",\"\",'Student Record'!A119)","v":""},{"$f":"IF('Student Record'!C119=\"\",\"\",'Student Record'!C119)","v":""},null,{"$f":"IF('Student Record'!E119=\"\",\"\",'Student Record'!E119)","v":""},{"$f":"IF('Student Record'!G119=\"\",\"\",'Student Record'!G119)","v":""},{"$f":"IF('Student Record'!H119=\"\",\"\",'Student Record'!H119)","v":""},{"$f":"IF('Student Record'!J119=\"\",\"\",'Student Record'!J119)","v":""},{"$f":"IF('Student Record'!D121=\"\",\"\",'Student Record'!D121)","v":""},{"$f":"IF('Student Record'!T119=\"\",\"\",'Student Record'!T119)","v":""},{"$f":"IF('Student Record'!V119=\"\",\"\",'Student Record'!V119)","v":""},{"$f":"IF('Student Record'!W121=\"\",\"\",'Student Record'!W121)","v":""}]
[{"$f":"IF(Table1[[#This Row],[Name of Student]]=\"\",\"\",ROWS($A$1:A119))","v":""},{"$f":"IF('Student Record'!A120=\"\",\"\",'Student Record'!A120)","v":""},{"$f":"IF('Student Record'!C120=\"\",\"\",'Student Record'!C120)","v":""},null,{"$f":"IF('Student Record'!E120=\"\",\"\",'Student Record'!E120)","v":""},{"$f":"IF('Student Record'!G120=\"\",\"\",'Student Record'!G120)","v":""},{"$f":"IF('Student Record'!H120=\"\",\"\",'Student Record'!H120)","v":""},{"$f":"IF('Student Record'!J120=\"\",\"\",'Student Record'!J120)","v":""},{"$f":"IF('Student Record'!D122=\"\",\"\",'Student Record'!D122)","v":""},{"$f":"IF('Student Record'!T120=\"\",\"\",'Student Record'!T120)","v":""},{"$f":"IF('Student Record'!V120=\"\",\"\",'Student Record'!V120)","v":""},{"$f":"IF('Student Record'!W122=\"\",\"\",'Student Record'!W122)","v":""}]
[{"$f":"IF(Table1[[#This Row],[Name of Student]]=\"\",\"\",ROWS($A$1:A120))","v":""},{"$f":"IF('Student Record'!A121=\"\",\"\",'Student Record'!A121)","v":""},{"$f":"IF('Student Record'!C121=\"\",\"\",'Student Record'!C121)","v":""},null,{"$f":"IF('Student Record'!E121=\"\",\"\",'Student Record'!E121)","v":""},{"$f":"IF('Student Record'!G121=\"\",\"\",'Student Record'!G121)","v":""},{"$f":"IF('Student Record'!H121=\"\",\"\",'Student Record'!H121)","v":""},{"$f":"IF('Student Record'!J121=\"\",\"\",'Student Record'!J121)","v":""},{"$f":"IF('Student Record'!D123=\"\",\"\",'Student Record'!D123)","v":""},{"$f":"IF('Student Record'!T121=\"\",\"\",'Student Record'!T121)","v":""},{"$f":"IF('Student Record'!V121=\"\",\"\",'Student Record'!V121)","v":""},{"$f":"IF('Student Record'!W123=\"\",\"\",'Student Record'!W123)","v":""}]
[{"$f":"IF(Table1[[#This Row],[Name of Student]]=\"\",\"\",ROWS($A$1:A121))","v":""},{"$f":"IF('Student Record'!A122=\"\",\"\",'Student Record'!A122)","v":""},{"$f":"IF('Student Record'!C122=\"\",\"\",'Student Record'!C122)","v":""},null,{"$f":"IF('Student Record'!E122=\"\",\"\",'Student Record'!E122)","v":""},{"$f":"IF('Student Record'!G122=\"\",\"\",'Student Record'!G122)","v":""},{"$f":"IF('Student Record'!H122=\"\",\"\",'Student Record'!H122)","v":""},{"$f":"IF('Student Record'!J122=\"\",\"\",'Student Record'!J122)","v":""},{"$f":"IF('Student Record'!D124=\"\",\"\",'Student Record'!D124)","v":""},{"$f":"IF('Student Record'!T122=\"\",\"\",'Student Record'!T122)","v":""},{"$f":"IF('Student Record'!V122=\"\",\"\",'Student Record'!V122)","v":""},{"$f":"IF('Student Record'!W124=\"\",\"\",'Student Record'!W124)","v":""}]
[{"$f":"IF(Table1[[#This Row],[Name of Student]]=\"\",\"\",ROWS($A$1:A122))","v":""},{"$f":"IF('Student Record'!A123=\"\",\"\",'Student Record'!A123)","v":""},{"$f":"IF('Student Record'!C123=\"\",\"\",'Student Record'!C123)","v":""},null,{"$f":"IF('Student Record'!E123=\"\",\"\",'Student Record'!E123)","v":""},{"$f":"IF('Student Record'!G123=\"\",\"\",'Student Record'!G123)","v":""},{"$f":"IF('Student Record'!H123=\"\",\"\",'Student Record'!H123)","v":""},{"$f":"IF('Student Record'!J123=\"\",\"\",'Student Record'!J123)","v":""},{"$f":"IF('Student Record'!D125=\"\",\"\",'Student Record'!D125)","v":""},{"$f":"IF('Student Record'!T123=\"\",\"\",'Student Record'!T123)","v":""},{"$f":"IF('Student Record'!V123=\"\",\"\",'Student Record'!V123)","v":""},{"$f":"IF('Student Record'!W125=\"\",\"\",'Student Record'!W125)","v":""}]
[{"$f":"IF(Table1[[#This Row],[Name of Student]]=\"\",\"\",ROWS($A$1:A123))","v":""},{"$f":"IF('Student Record'!A124=\"\",\"\",'Student Record'!A124)","v":""},{"$f":"IF('Student Record'!C124=\"\",\"\",'Student Record'!C124)","v":""},null,{"$f":"IF('Student Record'!E124=\"\",\"\",'Student Record'!E124)","v":""},{"$f":"IF('Student Record'!G124=\"\",\"\",'Student Record'!G124)","v":""},{"$f":"IF('Student Record'!H124=\"\",\"\",'Student Record'!H124)","v":""},{"$f":"IF('Student Record'!J124=\"\",\"\",'Student Record'!J124)","v":""},{"$f":"IF('Student Record'!D126=\"\",\"\",'Student Record'!D126)","v":""},{"$f":"IF('Student Record'!T124=\"\",\"\",'Student Record'!T124)","v":""},{"$f":"IF('Student Record'!V124=\"\",\"\",'Student Record'!V124)","v":""},{"$f":"IF('Student Record'!W126=\"\",\"\",'Student Record'!W126)","v":""}]
[{"$f":"IF(Table1[[#This Row],[Name of Student]]=\"\",\"\",ROWS($A$1:A124))","v":""},{"$f":"IF('Student Record'!A125=\"\",\"\",'Student Record'!A125)","v":""},{"$f":"IF('Student Record'!C125=\"\",\"\",'Student Record'!C125)","v":""},null,{"$f":"IF('Student Record'!E125=\"\",\"\",'Student Record'!E125)","v":""},{"$f":"IF('Student Record'!G125=\"\",\"\",'Student Record'!G125)","v":""},{"$f":"IF('Student Record'!H125=\"\",\"\",'Student Record'!H125)","v":""},{"$f":"IF('Student Record'!J125=\"\",\"\",'Student Record'!J125)","v":""},{"$f":"IF('Student Record'!D127=\"\",\"\",'Student Record'!D127)","v":""},{"$f":"IF('Student Record'!T125=\"\",\"\",'Student Record'!T125)","v":""},{"$f":"IF('Student Record'!V125=\"\",\"\",'Student Record'!V125)","v":""},{"$f":"IF('Student Record'!W127=\"\",\"\",'Student Record'!W127)","v":""}]
[{"$f":"IF(Table1[[#This Row],[Name of Student]]=\"\",\"\",ROWS($A$1:A125))","v":""},{"$f":"IF('Student Record'!A126=\"\",\"\",'Student Record'!A126)","v":""},{"$f":"IF('Student Record'!C126=\"\",\"\",'Student Record'!C126)","v":""},null,{"$f":"IF('Student Record'!E126=\"\",\"\",'Student Record'!E126)","v":""},{"$f":"IF('Student Record'!G126=\"\",\"\",'Student Record'!G126)","v":""},{"$f":"IF('Student Record'!H126=\"\",\"\",'Student Record'!H126)","v":""},{"$f":"IF('Student Record'!J126=\"\",\"\",'Student Record'!J126)","v":""},{"$f":"IF('Student Record'!D128=\"\",\"\",'Student Record'!D128)","v":""},{"$f":"IF('Student Record'!T126=\"\",\"\",'Student Record'!T126)","v":""},{"$f":"IF('Student Record'!V126=\"\",\"\",'Student Record'!V126)","v":""},{"$f":"IF('Student Record'!W128=\"\",\"\",'Student Record'!W128)","v":""}]
[{"$f":"IF(Table1[[#This Row],[Name of Student]]=\"\",\"\",ROWS($A$1:A126))","v":""},{"$f":"IF('Student Record'!A127=\"\",\"\",'Student Record'!A127)","v":""},{"$f":"IF('Student Record'!C127=\"\",\"\",'Student Record'!C127)","v":""},null,{"$f":"IF('Student Record'!E127=\"\",\"\",'Student Record'!E127)","v":""},{"$f":"IF('Student Record'!G127=\"\",\"\",'Student Record'!G127)","v":""},{"$f":"IF('Student Record'!H127=\"\",\"\",'Student Record'!H127)","v":""},{"$f":"IF('Student Record'!J127=\"\",\"\",'Student Record'!J127)","v":""},{"$f":"IF('Student Record'!D129=\"\",\"\",'Student Record'!D129)","v":""},{"$f":"IF('Student Record'!T127=\"\",\"\",'Student Record'!T127)","v":""},{"$f":"IF('Student Record'!V127=\"\",\"\",'Student Record'!V127)","v":""},{"$f":"IF('Student Record'!W129=\"\",\"\",'Student Record'!W129)","v":""}]
[{"$f":"IF(Table1[[#This Row],[Name of Student]]=\"\",\"\",ROWS($A$1:A127))","v":""},{"$f":"IF('Student Record'!A128=\"\",\"\",'Student Record'!A128)","v":""},{"$f":"IF('Student Record'!C128=\"\",\"\",'Student Record'!C128)","v":""},null,{"$f":"IF('Student Record'!E128=\"\",\"\",'Student Record'!E128)","v":""},{"$f":"IF('Student Record'!G128=\"\",\"\",'Student Record'!G128)","v":""},{"$f":"IF('Student Record'!H128=\"\",\"\",'Student Record'!H128)","v":""},{"$f":"IF('Student Record'!J128=\"\",\"\",'Student Record'!J128)","v":""},{"$f":"IF('Student Record'!D130=\"\",\"\",'Student Record'!D130)","v":""},{"$f":"IF('Student Record'!T128=\"\",\"\",'Student Record'!T128)","v":""},{"$f":"IF('Student Record'!V128=\"\",\"\",'Student Record'!V128)","v":""},{"$f":"IF('Student Record'!W130=\"\",\"\",'Student Record'!W130)","v":""}]
[{"$f":"IF(Table1[[#This Row],[Name of Student]]=\"\",\"\",ROWS($A$1:A128))","v":""},{"$f":"IF('Student Record'!A129=\"\",\"\",'Student Record'!A129)","v":""},{"$f":"IF('Student Record'!C129=\"\",\"\",'Student Record'!C129)","v":""},{"$f":"IF('[1]Student Record'!K131=\"\",\"\",'[1]Student Record'!K131)","v":""},{"$f":"IF('Student Record'!E129=\"\",\"\",'Student Record'!E129)","v":""},{"$f":"IF('Student Record'!G129=\"\",\"\",'Student Record'!G129)","v":""},{"$f":"IF('Student Record'!H129=\"\",\"\",'Student Record'!H129)","v":""},{"$f":"IF('Student Record'!J129=\"\",\"\",'Student Record'!J129)","v":""},{"$f":"IF('Student Record'!D131=\"\",\"\",'Student Record'!D131)","v":""},{"$f":"IF('Student Record'!T129=\"\",\"\",'Student Record'!T129)","v":""},{"$f":"IF('Student Record'!V129=\"\",\"\",'Student Record'!V129)","v":""},{"$f":"IF('Student Record'!W131=\"\",\"\",'Student Record'!W131)","v":""}]
[{"$f":"IF(Table1[[#This Row],[Name of Student]]=\"\",\"\",ROWS($A$1:A129))","v":""},{"$f":"IF('Student Record'!A130=\"\",\"\",'Student Record'!A130)","v":""},{"$f":"IF('Student Record'!C130=\"\",\"\",'Student Record'!C130)","v":""},{"$f":"IF('[1]Student Record'!K132=\"\",\"\",'[1]Student Record'!K132)","v":""},{"$f":"IF('Student Record'!E130=\"\",\"\",'Student Record'!E130)","v":""},{"$f":"IF('Student Record'!G130=\"\",\"\",'Student Record'!G130)","v":""},{"$f":"IF('Student Record'!H130=\"\",\"\",'Student Record'!H130)","v":""},{"$f":"IF('Student Record'!J130=\"\",\"\",'Student Record'!J130)","v":""},{"$f":"IF('Student Record'!D132=\"\",\"\",'Student Record'!D132)","v":""},{"$f":"IF('Student Record'!T130=\"\",\"\",'Student Record'!T130)","v":""},{"$f":"IF('Student Record'!V130=\"\",\"\",'Student Record'!V130)","v":""},{"$f":"IF('Student Record'!W132=\"\",\"\",'Student Record'!W132)","v":""}]
[{"$f":"IF(Table1[[#This Row],[Name of Student]]=\"\",\"\",ROWS($A$1:A130))","v":""},{"$f":"IF('Student Record'!A131=\"\",\"\",'Student Record'!A131)","v":""},{"$f":"IF('Student Record'!C131=\"\",\"\",'Student Record'!C131)","v":""},{"$f":"IF('[1]Student Record'!K133=\"\",\"\",'[1]Student Record'!K133)","v":""},{"$f":"IF('Student Record'!E131=\"\",\"\",'Student Record'!E131)","v":""},{"$f":"IF('Student Record'!G131=\"\",\"\",'Student Record'!G131)","v":""},{"$f":"IF('Student Record'!H131=\"\",\"\",'Student Record'!H131)","v":""},{"$f":"IF('Student Record'!J131=\"\",\"\",'Student Record'!J131)","v":""},{"$f":"IF('Student Record'!D133=\"\",\"\",'Student Record'!D133)","v":""},{"$f":"IF('Student Record'!T131=\"\",\"\",'Student Record'!T131)","v":""},{"$f":"IF('Student Record'!V131=\"\",\"\",'Student Record'!V131)","v":""},{"$f":"IF('Student Record'!W133=\"\",\"\",'Student Record'!W133)","v":""}]
[{"$f":"IF(Table1[[#This Row],[Name of Student]]=\"\",\"\",ROWS($A$1:A131))","v":""},{"$f":"IF('Student Record'!A132=\"\",\"\",'Student Record'!A132)","v":""},{"$f":"IF('Student Record'!C132=\"\",\"\",'Student Record'!C132)","v":""},{"$f":"IF('[1]Student Record'!K134=\"\",\"\",'[1]Student Record'!K134)","v":""},{"$f":"IF('Student Record'!E132=\"\",\"\",'Student Record'!E132)","v":""},{"$f":"IF('Student Record'!G132=\"\",\"\",'Student Record'!G132)","v":""},{"$f":"IF('Student Record'!H132=\"\",\"\",'Student Record'!H132)","v":""},{"$f":"IF('Student Record'!J132=\"\",\"\",'Student Record'!J132)","v":""},{"$f":"IF('Student Record'!D134=\"\",\"\",'Student Record'!D134)","v":""},{"$f":"IF('Student Record'!T132=\"\",\"\",'Student Record'!T132)","v":""},{"$f":"IF('Student Record'!V132=\"\",\"\",'Student Record'!V132)","v":""},{"$f":"IF('Student Record'!W134=\"\",\"\",'Student Record'!W134)","v":""}]
[{"$f":"IF(Table1[[#This Row],[Name of Student]]=\"\",\"\",ROWS($A$1:A132))","v":""},{"$f":"IF('Student Record'!A133=\"\",\"\",'Student Record'!A133)","v":""},{"$f":"IF('Student Record'!C133=\"\",\"\",'Student Record'!C133)","v":""},{"$f":"IF('[1]Student Record'!K135=\"\",\"\",'[1]Student Record'!K135)","v":""},{"$f":"IF('Student Record'!E133=\"\",\"\",'Student Record'!E133)","v":""},{"$f":"IF('Student Record'!G133=\"\",\"\",'Student Record'!G133)","v":""},{"$f":"IF('Student Record'!H133=\"\",\"\",'Student Record'!H133)","v":""},{"$f":"IF('Student Record'!J133=\"\",\"\",'Student Record'!J133)","v":""},{"$f":"IF('Student Record'!D135=\"\",\"\",'Student Record'!D135)","v":""},{"$f":"IF('Student Record'!T133=\"\",\"\",'Student Record'!T133)","v":""},{"$f":"IF('Student Record'!V133=\"\",\"\",'Student Record'!V133)","v":""},{"$f":"IF('Student Record'!W135=\"\",\"\",'Student Record'!W135)","v":""}]
[{"$f":"IF(Table1[[#This Row],[Name of Student]]=\"\",\"\",ROWS($A$1:A133))","v":""},{"$f":"IF('Student Record'!A134=\"\",\"\",'Student Record'!A134)","v":""},{"$f":"IF('Student Record'!C134=\"\",\"\",'Student Record'!C134)","v":""},{"$f":"IF('[1]Student Record'!K136=\"\",\"\",'[1]Student Record'!K136)","v":""},{"$f":"IF('Student Record'!E134=\"\",\"\",'Student Record'!E134)","v":""},{"$f":"IF('Student Record'!G134=\"\",\"\",'Student Record'!G134)","v":""},{"$f":"IF('Student Record'!H134=\"\",\"\",'Student Record'!H134)","v":""},{"$f":"IF('Student Record'!J134=\"\",\"\",'Student Record'!J134)","v":""},{"$f":"IF('Student Record'!D136=\"\",\"\",'Student Record'!D136)","v":""},{"$f":"IF('Student Record'!T134=\"\",\"\",'Student Record'!T134)","v":""},{"$f":"IF('Student Record'!V134=\"\",\"\",'Student Record'!V134)","v":""},{"$f":"IF('Student Record'!W136=\"\",\"\",'Student Record'!W136)","v":""}]
[{"$f":"IF(Table1[[#This Row],[Name of Student]]=\"\",\"\",ROWS($A$1:A134))","v":""},{"$f":"IF('Student Record'!A135=\"\",\"\",'Student Record'!A135)","v":""},{"$f":"IF('Student Record'!C135=\"\",\"\",'Student Record'!C135)","v":""},{"$f":"IF('[1]Student Record'!K137=\"\",\"\",'[1]Student Record'!K137)","v":""},{"$f":"IF('Student Record'!E135=\"\",\"\",'Student Record'!E135)","v":""},{"$f":"IF('Student Record'!G135=\"\",\"\",'Student Record'!G135)","v":""},{"$f":"IF('Student Record'!H135=\"\",\"\",'Student Record'!H135)","v":""},{"$f":"IF('Student Record'!J135=\"\",\"\",'Student Record'!J135)","v":""},{"$f":"IF('Student Record'!D137=\"\",\"\",'Student Record'!D137)","v":""},{"$f":"IF('Student Record'!T135=\"\",\"\",'Student Record'!T135)","v":""},{"$f":"IF('Student Record'!V135=\"\",\"\",'Student Record'!V135)","v":""},{"$f":"IF('Student Record'!W137=\"\",\"\",'Student Record'!W137)","v":""}]
[{"$f":"IF(Table1[[#This Row],[Name of Student]]=\"\",\"\",ROWS($A$1:A135))","v":""},{"$f":"IF('Student Record'!A136=\"\",\"\",'Student Record'!A136)","v":""},{"$f":"IF('Student Record'!C136=\"\",\"\",'Student Record'!C136)","v":""},{"$f":"IF('[1]Student Record'!K138=\"\",\"\",'[1]Student Record'!K138)","v":""},{"$f":"IF('Student Record'!E136=\"\",\"\",'Student Record'!E136)","v":""},{"$f":"IF('Student Record'!G136=\"\",\"\",'Student Record'!G136)","v":""},{"$f":"IF('Student Record'!H136=\"\",\"\",'Student Record'!H136)","v":""},{"$f":"IF('Student Record'!J136=\"\",\"\",'Student Record'!J136)","v":""},{"$f":"IF('Student Record'!D138=\"\",\"\",'Student Record'!D138)","v":""},{"$f":"IF('Student Record'!T136=\"\",\"\",'Student Record'!T136)","v":""},{"$f":"IF('Student Record'!V136=\"\",\"\",'Student Record'!V136)","v":""},{"$f":"IF('Student Record'!W138=\"\",\"\",'Student Record'!W138)","v":""}]
[{"$f":"IF(Table1[[#This Row],[Name of Student]]=\"\",\"\",ROWS($A$1:A136))","v":""},{"$f":"IF('Student Record'!A137=\"\",\"\",'Student Record'!A137)","v":""},{"$f":"IF('Student Record'!C137=\"\",\"\",'Student Record'!C137)","v":""},{"$f":"IF('[1]Student Record'!K139=\"\",\"\",'[1]Student Record'!K139)","v":""},{"$f":"IF('Student Record'!E137=\"\",\"\",'Student Record'!E137)","v":""},{"$f":"IF('Student Record'!G137=\"\",\"\",'Student Record'!G137)","v":""},{"$f":"IF('Student Record'!H137=\"\",\"\",'Student Record'!H137)","v":""},{"$f":"IF('Student Record'!J137=\"\",\"\",'Student Record'!J137)","v":""},{"$f":"IF('Student Record'!D139=\"\",\"\",'Student Record'!D139)","v":""},{"$f":"IF('Student Record'!T137=\"\",\"\",'Student Record'!T137)","v":""},{"$f":"IF('Student Record'!V137=\"\",\"\",'Student Record'!V137)","v":""},{"$f":"IF('Student Record'!W139=\"\",\"\",'Student Record'!W139)","v":""}]
[{"$f":"IF(Table1[[#This Row],[Name of Student]]=\"\",\"\",ROWS($A$1:A137))","v":""},{"$f":"IF('Student Record'!A138=\"\",\"\",'Student Record'!A138)","v":""},{"$f":"IF('Student Record'!C138=\"\",\"\",'Student Record'!C138)","v":""},{"$f":"IF('[1]Student Record'!K140=\"\",\"\",'[1]Student Record'!K140)","v":""},{"$f":"IF('Student Record'!E138=\"\",\"\",'Student Record'!E138)","v":""},{"$f":"IF('Student Record'!G138=\"\",\"\",'Student Record'!G138)","v":""},{"$f":"IF('Student Record'!H138=\"\",\"\",'Student Record'!H138)","v":""},{"$f":"IF('Student Record'!J138=\"\",\"\",'Student Record'!J138)","v":""},{"$f":"IF('Student Record'!D140=\"\",\"\",'Student Record'!D140)","v":""},{"$f":"IF('Student Record'!T138=\"\",\"\",'Student Record'!T138)","v":""},{"$f":"IF('Student Record'!V138=\"\",\"\",'Student Record'!V138)","v":""},{"$f":"IF('Student Record'!W140=\"\",\"\",'Student Record'!W140)","v":""}]
[{"$f":"IF(Table1[[#This Row],[Name of Student]]=\"\",\"\",ROWS($A$1:A138))","v":""},{"$f":"IF('Student Record'!A139=\"\",\"\",'Student Record'!A139)","v":""},{"$f":"IF('Student Record'!C139=\"\",\"\",'Student Record'!C139)","v":""},{"$f":"IF('[1]Student Record'!K141=\"\",\"\",'[1]Student Record'!K141)","v":""},{"$f":"IF('Student Record'!E139=\"\",\"\",'Student Record'!E139)","v":""},{"$f":"IF('Student Record'!G139=\"\",\"\",'Student Record'!G139)","v":""},{"$f":"IF('Student Record'!H139=\"\",\"\",'Student Record'!H139)","v":""},{"$f":"IF('Student Record'!J139=\"\",\"\",'Student Record'!J139)","v":""},{"$f":"IF('Student Record'!D141=\"\",\"\",'Student Record'!D141)","v":""},{"$f":"IF('Student Record'!T139=\"\",\"\",'Student Record'!T139)","v":""},{"$f":"IF('Student Record'!V139=\"\",\"\",'Student Record'!V139)","v":""},{"$f":"IF('Student Record'!W141=\"\",\"\",'Student Record'!W141)","v":""}]
[{"$f":"IF(Table1[[#This Row],[Name of Student]]=\"\",\"\",ROWS($A$1:A139))","v":""},{"$f":"IF('Student Record'!A140=\"\",\"\",'Student Record'!A140)","v":""},{"$f":"IF('Student Record'!C140=\"\",\"\",'Student Record'!C140)","v":""},{"$f":"IF('[1]Student Record'!K142=\"\",\"\",'[1]Student Record'!K142)","v":""},{"$f":"IF('Student Record'!E140=\"\",\"\",'Student Record'!E140)","v":""},{"$f":"IF('Student Record'!G140=\"\",\"\",'Student Record'!G140)","v":""},{"$f":"IF('Student Record'!H140=\"\",\"\",'Student Record'!H140)","v":""},{"$f":"IF('Student Record'!J140=\"\",\"\",'Student Record'!J140)","v":""},{"$f":"IF('Student Record'!D142=\"\",\"\",'Student Record'!D142)","v":""},{"$f":"IF('Student Record'!T140=\"\",\"\",'Student Record'!T140)","v":""},{"$f":"IF('Student Record'!V140=\"\",\"\",'Student Record'!V140)","v":""},{"$f":"IF('Student Record'!W142=\"\",\"\",'Student Record'!W142)","v":""}]
[{"$f":"IF(Table1[[#This Row],[Name of Student]]=\"\",\"\",ROWS($A$1:A140))","v":""},{"$f":"IF('Student Record'!A141=\"\",\"\",'Student Record'!A141)","v":""},{"$f":"IF('Student Record'!C141=\"\",\"\",'Student Record'!C141)","v":""},{"$f":"IF('[1]Student Record'!K143=\"\",\"\",'[1]Student Record'!K143)","v":""},{"$f":"IF('Student Record'!E141=\"\",\"\",'Student Record'!E141)","v":""},{"$f":"IF('Student Record'!G141=\"\",\"\",'Student Record'!G141)","v":""},{"$f":"IF('Student Record'!H141=\"\",\"\",'Student Record'!H141)","v":""},{"$f":"IF('Student Record'!J141=\"\",\"\",'Student Record'!J141)","v":""},{"$f":"IF('Student Record'!D143=\"\",\"\",'Student Record'!D143)","v":""},{"$f":"IF('Student Record'!T141=\"\",\"\",'Student Record'!T141)","v":""},{"$f":"IF('Student Record'!V141=\"\",\"\",'Student Record'!V141)","v":""},{"$f":"IF('Student Record'!W143=\"\",\"\",'Student Record'!W143)","v":""}]
[{"$f":"IF(Table1[[#This Row],[Name of Student]]=\"\",\"\",ROWS($A$1:A141))","v":""},{"$f":"IF('Student Record'!A142=\"\",\"\",'Student Record'!A142)","v":""},{"$f":"IF('Student Record'!C142=\"\",\"\",'Student Record'!C142)","v":""},{"$f":"IF('[1]Student Record'!K144=\"\",\"\",'[1]Student Record'!K144)","v":""},{"$f":"IF('Student Record'!E142=\"\",\"\",'Student Record'!E142)","v":""},{"$f":"IF('Student Record'!G142=\"\",\"\",'Student Record'!G142)","v":""},{"$f":"IF('Student Record'!H142=\"\",\"\",'Student Record'!H142)","v":""},{"$f":"IF('Student Record'!J142=\"\",\"\",'Student Record'!J142)","v":""},{"$f":"IF('Student Record'!D144=\"\",\"\",'Student Record'!D144)","v":""},{"$f":"IF('Student Record'!T142=\"\",\"\",'Student Record'!T142)","v":""},{"$f":"IF('Student Record'!V142=\"\",\"\",'Student Record'!V142)","v":""},{"$f":"IF('Student Record'!W144=\"\",\"\",'Student Record'!W144)","v":""}]
[{"$f":"IF(Table1[[#This Row],[Name of Student]]=\"\",\"\",ROWS($A$1:A142))","v":""},{"$f":"IF('Student Record'!A143=\"\",\"\",'Student Record'!A143)","v":""},{"$f":"IF('Student Record'!C143=\"\",\"\",'Student Record'!C143)","v":""},{"$f":"IF('[1]Student Record'!K145=\"\",\"\",'[1]Student Record'!K145)","v":""},{"$f":"IF('Student Record'!E143=\"\",\"\",'Student Record'!E143)","v":""},{"$f":"IF('Student Record'!G143=\"\",\"\",'Student Record'!G143)","v":""},{"$f":"IF('Student Record'!H143=\"\",\"\",'Student Record'!H143)","v":""},{"$f":"IF('Student Record'!J143=\"\",\"\",'Student Record'!J143)","v":""},{"$f":"IF('Student Record'!D145=\"\",\"\",'Student Record'!D145)","v":""},{"$f":"IF('Student Record'!T143=\"\",\"\",'Student Record'!T143)","v":""},{"$f":"IF('Student Record'!V143=\"\",\"\",'Student Record'!V143)","v":""},{"$f":"IF('Student Record'!W145=\"\",\"\",'Student Record'!W145)","v":""}]
[{"$f":"IF(Table1[[#This Row],[Name of Student]]=\"\",\"\",ROWS($A$1:A143))","v":""},{"$f":"IF('Student Record'!A144=\"\",\"\",'Student Record'!A144)","v":""},{"$f":"IF('Student Record'!C144=\"\",\"\",'Student Record'!C144)","v":""},{"$f":"IF('[1]Student Record'!K146=\"\",\"\",'[1]Student Record'!K146)","v":""},{"$f":"IF('Student Record'!E144=\"\",\"\",'Student Record'!E144)","v":""},{"$f":"IF('Student Record'!G144=\"\",\"\",'Student Record'!G144)","v":""},{"$f":"IF('Student Record'!H144=\"\",\"\",'Student Record'!H144)","v":""},{"$f":"IF('Student Record'!J144=\"\",\"\",'Student Record'!J144)","v":""},{"$f":"IF('Student Record'!D146=\"\",\"\",'Student Record'!D146)","v":""},{"$f":"IF('Student Record'!T144=\"\",\"\",'Student Record'!T144)","v":""},{"$f":"IF('Student Record'!V144=\"\",\"\",'Student Record'!V144)","v":""},{"$f":"IF('Student Record'!W146=\"\",\"\",'Student Record'!W146)","v":""}]
[{"$f":"IF(Table1[[#This Row],[Name of Student]]=\"\",\"\",ROWS($A$1:A144))","v":""},{"$f":"IF('Student Record'!A145=\"\",\"\",'Student Record'!A145)","v":""},{"$f":"IF('Student Record'!C145=\"\",\"\",'Student Record'!C145)","v":""},{"$f":"IF('[1]Student Record'!K147=\"\",\"\",'[1]Student Record'!K147)","v":""},{"$f":"IF('Student Record'!E145=\"\",\"\",'Student Record'!E145)","v":""},{"$f":"IF('Student Record'!G145=\"\",\"\",'Student Record'!G145)","v":""},{"$f":"IF('Student Record'!H145=\"\",\"\",'Student Record'!H145)","v":""},{"$f":"IF('Student Record'!J145=\"\",\"\",'Student Record'!J145)","v":""},{"$f":"IF('Student Record'!D147=\"\",\"\",'Student Record'!D147)","v":""},{"$f":"IF('Student Record'!T145=\"\",\"\",'Student Record'!T145)","v":""},{"$f":"IF('Student Record'!V145=\"\",\"\",'Student Record'!V145)","v":""},{"$f":"IF('Student Record'!W147=\"\",\"\",'Student Record'!W147)","v":""}]
[{"$f":"IF(Table1[[#This Row],[Name of Student]]=\"\",\"\",ROWS($A$1:A145))","v":""},{"$f":"IF('Student Record'!A146=\"\",\"\",'Student Record'!A146)","v":""},{"$f":"IF('Student Record'!C146=\"\",\"\",'Student Record'!C146)","v":""},{"$f":"IF('[1]Student Record'!K148=\"\",\"\",'[1]Student Record'!K148)","v":""},{"$f":"IF('Student Record'!E146=\"\",\"\",'Student Record'!E146)","v":""},{"$f":"IF('Student Record'!G146=\"\",\"\",'Student Record'!G146)","v":""},{"$f":"IF('Student Record'!H146=\"\",\"\",'Student Record'!H146)","v":""},{"$f":"IF('Student Record'!J146=\"\",\"\",'Student Record'!J146)","v":""},{"$f":"IF('Student Record'!D148=\"\",\"\",'Student Record'!D148)","v":""},{"$f":"IF('Student Record'!T146=\"\",\"\",'Student Record'!T146)","v":""},{"$f":"IF('Student Record'!V146=\"\",\"\",'Student Record'!V146)","v":""},{"$f":"IF('Student Record'!W148=\"\",\"\",'Student Record'!W148)","v":""}]
[{"$f":"IF(Table1[[#This Row],[Name of Student]]=\"\",\"\",ROWS($A$1:A146))","v":""},{"$f":"IF('Student Record'!A147=\"\",\"\",'Student Record'!A147)","v":""},{"$f":"IF('Student Record'!C147=\"\",\"\",'Student Record'!C147)","v":""},{"$f":"IF('[1]Student Record'!K149=\"\",\"\",'[1]Student Record'!K149)","v":""},{"$f":"IF('Student Record'!E147=\"\",\"\",'Student Record'!E147)","v":""},{"$f":"IF('Student Record'!G147=\"\",\"\",'Student Record'!G147)","v":""},{"$f":"IF('Student Record'!H147=\"\",\"\",'Student Record'!H147)","v":""},{"$f":"IF('Student Record'!J147=\"\",\"\",'Student Record'!J147)","v":""},{"$f":"IF('Student Record'!D149=\"\",\"\",'Student Record'!D149)","v":""},{"$f":"IF('Student Record'!T147=\"\",\"\",'Student Record'!T147)","v":""},{"$f":"IF('Student Record'!V147=\"\",\"\",'Student Record'!V147)","v":""},{"$f":"IF('Student Record'!W149=\"\",\"\",'Student Record'!W149)","v":""}]
[{"$f":"IF(Table1[[#This Row],[Name of Student]]=\"\",\"\",ROWS($A$1:A147))","v":""},{"$f":"IF('Student Record'!A148=\"\",\"\",'Student Record'!A148)","v":""},{"$f":"IF('Student Record'!C148=\"\",\"\",'Student Record'!C148)","v":""},{"$f":"IF('[1]Student Record'!K150=\"\",\"\",'[1]Student Record'!K150)","v":""},{"$f":"IF('Student Record'!E148=\"\",\"\",'Student Record'!E148)","v":""},{"$f":"IF('Student Record'!G148=\"\",\"\",'Student Record'!G148)","v":""},{"$f":"IF('Student Record'!H148=\"\",\"\",'Student Record'!H148)","v":""},{"$f":"IF('Student Record'!J148=\"\",\"\",'Student Record'!J148)","v":""},{"$f":"IF('Student Record'!D150=\"\",\"\",'Student Record'!D150)","v":""},{"$f":"IF('Student Record'!T148=\"\",\"\",'Student Record'!T148)","v":""},{"$f":"IF('Student Record'!V148=\"\",\"\",'Student Record'!V148)","v":""},{"$f":"IF('Student Record'!W150=\"\",\"\",'Student Record'!W150)","v":""}]
[{"$f":"IF(Table1[[#This Row],[Name of Student]]=\"\",\"\",ROWS($A$1:A148))","v":""},{"$f":"IF('Student Record'!A149=\"\",\"\",'Student Record'!A149)","v":""},{"$f":"IF('Student Record'!C149=\"\",\"\",'Student Record'!C149)","v":""},{"$f":"IF('[1]Student Record'!K151=\"\",\"\",'[1]Student Record'!K151)","v":""},{"$f":"IF('Student Record'!E149=\"\",\"\",'Student Record'!E149)","v":""},{"$f":"IF('Student Record'!G149=\"\",\"\",'Student Record'!G149)","v":""},{"$f":"IF('Student Record'!H149=\"\",\"\",'Student Record'!H149)","v":""},{"$f":"IF('Student Record'!J149=\"\",\"\",'Student Record'!J149)","v":""},{"$f":"IF('Student Record'!D151=\"\",\"\",'Student Record'!D151)","v":""},{"$f":"IF('Student Record'!T149=\"\",\"\",'Student Record'!T149)","v":""},{"$f":"IF('Student Record'!V149=\"\",\"\",'Student Record'!V149)","v":""},{"$f":"IF('Student Record'!W151=\"\",\"\",'Student Record'!W151)","v":""}]
[{"$f":"IF(Table1[[#This Row],[Name of Student]]=\"\",\"\",ROWS($A$1:A149))","v":""},{"$f":"IF('Student Record'!A150=\"\",\"\",'Student Record'!A150)","v":""},{"$f":"IF('Student Record'!C150=\"\",\"\",'Student Record'!C150)","v":""},{"$f":"IF('[1]Student Record'!K152=\"\",\"\",'[1]Student Record'!K152)","v":""},{"$f":"IF('Student Record'!E150=\"\",\"\",'Student Record'!E150)","v":""},{"$f":"IF('Student Record'!G150=\"\",\"\",'Student Record'!G150)","v":""},{"$f":"IF('Student Record'!H150=\"\",\"\",'Student Record'!H150)","v":""},{"$f":"IF('Student Record'!J150=\"\",\"\",'Student Record'!J150)","v":""},{"$f":"IF('Student Record'!D152=\"\",\"\",'Student Record'!D152)","v":""},{"$f":"IF('Student Record'!T150=\"\",\"\",'Student Record'!T150)","v":""},{"$f":"IF('Student Record'!V150=\"\",\"\",'Student Record'!V150)","v":""},{"$f":"IF('Student Record'!W152=\"\",\"\",'Student Record'!W152)","v":""}]
[{"$f":"IF(Table1[[#This Row],[Name of Student]]=\"\",\"\",ROWS($A$1:A150))","v":""},{"$f":"IF('Student Record'!A151=\"\",\"\",'Student Record'!A151)","v":""},{"$f":"IF('Student Record'!C151=\"\",\"\",'Student Record'!C151)","v":""},{"$f":"IF('[1]Student Record'!K153=\"\",\"\",'[1]Student Record'!K153)","v":""},{"$f":"IF('Student Record'!E151=\"\",\"\",'Student Record'!E151)","v":""},{"$f":"IF('Student Record'!G151=\"\",\"\",'Student Record'!G151)","v":""},{"$f":"IF('Student Record'!H151=\"\",\"\",'Student Record'!H151)","v":""},{"$f":"IF('Student Record'!J151=\"\",\"\",'Student Record'!J151)","v":""},{"$f":"IF('Student Record'!D153=\"\",\"\",'Student Record'!D153)","v":""},{"$f":"IF('Student Record'!T151=\"\",\"\",'Student Record'!T151)","v":""},{"$f":"IF('Student Record'!V151=\"\",\"\",'Student Record'!V151)","v":""},{"$f":"IF('Student Record'!W153=\"\",\"\",'Student Record'!W153)","v":""}]
[{"$f":"IF(Table1[[#This Row],[Name of Student]]=\"\",\"\",ROWS($A$1:A151))","v":""},{"$f":"IF('Student Record'!A152=\"\",\"\",'Student Record'!A152)","v":""},{"$f":"IF('Student Record'!C152=\"\",\"\",'Student Record'!C152)","v":""},{"$f":"IF('[1]Student Record'!K154=\"\",\"\",'[1]Student Record'!K154)","v":""},{"$f":"IF('Student Record'!E152=\"\",\"\",'Student Record'!E152)","v":""},{"$f":"IF('Student Record'!G152=\"\",\"\",'Student Record'!G152)","v":""},{"$f":"IF('Student Record'!H152=\"\",\"\",'Student Record'!H152)","v":""},{"$f":"IF('Student Record'!J152=\"\",\"\",'Student Record'!J152)","v":""},{"$f":"IF('Student Record'!D154=\"\",\"\",'Student Record'!D154)","v":""},{"$f":"IF('Student Record'!T152=\"\",\"\",'Student Record'!T152)","v":""},{"$f":"IF('Student Record'!V152=\"\",\"\",'Student Record'!V152)","v":""},{"$f":"IF('Student Record'!W154=\"\",\"\",'Student Record'!W154)","v":""}]
[{"$f":"IF(Table1[[#This Row],[Name of Student]]=\"\",\"\",ROWS($A$1:A152))","v":""},{"$f":"IF('Student Record'!A153=\"\",\"\",'Student Record'!A153)","v":""},{"$f":"IF('Student Record'!C153=\"\",\"\",'Student Record'!C153)","v":""},{"$f":"IF('[1]Student Record'!K155=\"\",\"\",'[1]Student Record'!K155)","v":""},{"$f":"IF('Student Record'!E153=\"\",\"\",'Student Record'!E153)","v":""},{"$f":"IF('Student Record'!G153=\"\",\"\",'Student Record'!G153)","v":""},{"$f":"IF('Student Record'!H153=\"\",\"\",'Student Record'!H153)","v":""},{"$f":"IF('Student Record'!J153=\"\",\"\",'Student Record'!J153)","v":""},{"$f":"IF('Student Record'!D155=\"\",\"\",'Student Record'!D155)","v":""},{"$f":"IF('Student Record'!T153=\"\",\"\",'Student Record'!T153)","v":""},{"$f":"IF('Student Record'!V153=\"\",\"\",'Student Record'!V153)","v":""},{"$f":"IF('Student Record'!W155=\"\",\"\",'Student Record'!W155)","v":""}]
[{"$f":"IF(Table1[[#This Row],[Name of Student]]=\"\",\"\",ROWS($A$1:A153))","v":""},{"$f":"IF('Student Record'!A154=\"\",\"\",'Student Record'!A154)","v":""},{"$f":"IF('Student Record'!C154=\"\",\"\",'Student Record'!C154)","v":""},{"$f":"IF('[1]Student Record'!K156=\"\",\"\",'[1]Student Record'!K156)","v":""},{"$f":"IF('Student Record'!E154=\"\",\"\",'Student Record'!E154)","v":""},{"$f":"IF('Student Record'!G154=\"\",\"\",'Student Record'!G154)","v":""},{"$f":"IF('Student Record'!H154=\"\",\"\",'Student Record'!H154)","v":""},{"$f":"IF('Student Record'!J154=\"\",\"\",'Student Record'!J154)","v":""},{"$f":"IF('Student Record'!D156=\"\",\"\",'Student Record'!D156)","v":""},{"$f":"IF('Student Record'!T154=\"\",\"\",'Student Record'!T154)","v":""},{"$f":"IF('Student Record'!V154=\"\",\"\",'Student Record'!V154)","v":""},{"$f":"IF('Student Record'!W156=\"\",\"\",'Student Record'!W156)","v":""}]
[{"$f":"IF(Table1[[#This Row],[Name of Student]]=\"\",\"\",ROWS($A$1:A154))","v":""},{"$f":"IF('Student Record'!A155=\"\",\"\",'Student Record'!A155)","v":""},{"$f":"IF('Student Record'!C155=\"\",\"\",'Student Record'!C155)","v":""},{"$f":"IF('[1]Student Record'!K157=\"\",\"\",'[1]Student Record'!K157)","v":""},{"$f":"IF('Student Record'!E155=\"\",\"\",'Student Record'!E155)","v":""},{"$f":"IF('Student Record'!G155=\"\",\"\",'Student Record'!G155)","v":""},{"$f":"IF('Student Record'!H155=\"\",\"\",'Student Record'!H155)","v":""},{"$f":"IF('Student Record'!J155=\"\",\"\",'Student Record'!J155)","v":""},{"$f":"IF('Student Record'!D157=\"\",\"\",'Student Record'!D157)","v":""},{"$f":"IF('Student Record'!T155=\"\",\"\",'Student Record'!T155)","v":""},{"$f":"IF('Student Record'!V155=\"\",\"\",'Student Record'!V155)","v":""},{"$f":"IF('Student Record'!W157=\"\",\"\",'Student Record'!W157)","v":""}]
[{"$f":"IF(Table1[[#This Row],[Name of Student]]=\"\",\"\",ROWS($A$1:A155))","v":""},{"$f":"IF('Student Record'!A156=\"\",\"\",'Student Record'!A156)","v":""},{"$f":"IF('Student Record'!C156=\"\",\"\",'Student Record'!C156)","v":""},{"$f":"IF('[1]Student Record'!K158=\"\",\"\",'[1]Student Record'!K158)","v":""},{"$f":"IF('Student Record'!E156=\"\",\"\",'Student Record'!E156)","v":""},{"$f":"IF('Student Record'!G156=\"\",\"\",'Student Record'!G156)","v":""},{"$f":"IF('Student Record'!H156=\"\",\"\",'Student Record'!H156)","v":""},{"$f":"IF('Student Record'!J156=\"\",\"\",'Student Record'!J156)","v":""},{"$f":"IF('Student Record'!D158=\"\",\"\",'Student Record'!D158)","v":""},{"$f":"IF('Student Record'!T156=\"\",\"\",'Student Record'!T156)","v":""},{"$f":"IF('Student Record'!V156=\"\",\"\",'Student Record'!V156)","v":""},{"$f":"IF('Student Record'!W158=\"\",\"\",'Student Record'!W158)","v":""}]
[{"$f":"IF(Table1[[#This Row],[Name of Student]]=\"\",\"\",ROWS($A$1:A156))","v":""},{"$f":"IF('Student Record'!A157=\"\",\"\",'Student Record'!A157)","v":""},{"$f":"IF('Student Record'!C157=\"\",\"\",'Student Record'!C157)","v":""},{"$f":"IF('[1]Student Record'!K159=\"\",\"\",'[1]Student Record'!K159)","v":""},{"$f":"IF('Student Record'!E157=\"\",\"\",'Student Record'!E157)","v":""},{"$f":"IF('Student Record'!G157=\"\",\"\",'Student Record'!G157)","v":""},{"$f":"IF('Student Record'!H157=\"\",\"\",'Student Record'!H157)","v":""},{"$f":"IF('Student Record'!J157=\"\",\"\",'Student Record'!J157)","v":""},{"$f":"IF('Student Record'!D159=\"\",\"\",'Student Record'!D159)","v":""},{"$f":"IF('Student Record'!T157=\"\",\"\",'Student Record'!T157)","v":""},{"$f":"IF('Student Record'!V157=\"\",\"\",'Student Record'!V157)","v":""},{"$f":"IF('Student Record'!W159=\"\",\"\",'Student Record'!W159)","v":""}]
[{"$f":"IF(Table1[[#This Row],[Name of Student]]=\"\",\"\",ROWS($A$1:A157))","v":""},{"$f":"IF('Student Record'!A158=\"\",\"\",'Student Record'!A158)","v":""},{"$f":"IF('Student Record'!C158=\"\",\"\",'Student Record'!C158)","v":""},{"$f":"IF('[1]Student Record'!K160=\"\",\"\",'[1]Student Record'!K160)","v":""},{"$f":"IF('Student Record'!E158=\"\",\"\",'Student Record'!E158)","v":""},{"$f":"IF('Student Record'!G158=\"\",\"\",'Student Record'!G158)","v":""},{"$f":"IF('Student Record'!H158=\"\",\"\",'Student Record'!H158)","v":""},{"$f":"IF('Student Record'!J158=\"\",\"\",'Student Record'!J158)","v":""},{"$f":"IF('Student Record'!D160=\"\",\"\",'Student Record'!D160)","v":""},{"$f":"IF('Student Record'!T158=\"\",\"\",'Student Record'!T158)","v":""},{"$f":"IF('Student Record'!V158=\"\",\"\",'Student Record'!V158)","v":""},{"$f":"IF('Student Record'!W160=\"\",\"\",'Student Record'!W160)","v":""}]
[{"$f":"IF(Table1[[#This Row],[Name of Student]]=\"\",\"\",ROWS($A$1:A158))","v":""},{"$f":"IF('Student Record'!A159=\"\",\"\",'Student Record'!A159)","v":""},{"$f":"IF('Student Record'!C159=\"\",\"\",'Student Record'!C159)","v":""},{"$f":"IF('[1]Student Record'!K161=\"\",\"\",'[1]Student Record'!K161)","v":""},{"$f":"IF('Student Record'!E159=\"\",\"\",'Student Record'!E159)","v":""},{"$f":"IF('Student Record'!G159=\"\",\"\",'Student Record'!G159)","v":""},{"$f":"IF('Student Record'!H159=\"\",\"\",'Student Record'!H159)","v":""},{"$f":"IF('Student Record'!J159=\"\",\"\",'Student Record'!J159)","v":""},{"$f":"IF('Student Record'!D161=\"\",\"\",'Student Record'!D161)","v":""},{"$f":"IF('Student Record'!T159=\"\",\"\",'Student Record'!T159)","v":""},{"$f":"IF('Student Record'!V159=\"\",\"\",'Student Record'!V159)","v":""},{"$f":"IF('Student Record'!W161=\"\",\"\",'Student Record'!W161)","v":""}]
[{"$f":"IF(Table1[[#This Row],[Name of Student]]=\"\",\"\",ROWS($A$1:A159))","v":""},{"$f":"IF('Student Record'!A160=\"\",\"\",'Student Record'!A160)","v":""},{"$f":"IF('Student Record'!C160=\"\",\"\",'Student Record'!C160)","v":""},{"$f":"IF('[1]Student Record'!K162=\"\",\"\",'[1]Student Record'!K162)","v":""},{"$f":"IF('Student Record'!E160=\"\",\"\",'Student Record'!E160)","v":""},{"$f":"IF('Student Record'!G160=\"\",\"\",'Student Record'!G160)","v":""},{"$f":"IF('Student Record'!H160=\"\",\"\",'Student Record'!H160)","v":""},{"$f":"IF('Student Record'!J160=\"\",\"\",'Student Record'!J160)","v":""},{"$f":"IF('Student Record'!D162=\"\",\"\",'Student Record'!D162)","v":""},{"$f":"IF('Student Record'!T160=\"\",\"\",'Student Record'!T160)","v":""},{"$f":"IF('Student Record'!V160=\"\",\"\",'Student Record'!V160)","v":""},{"$f":"IF('Student Record'!W162=\"\",\"\",'Student Record'!W162)","v":""}]
[{"$f":"IF(Table1[[#This Row],[Name of Student]]=\"\",\"\",ROWS($A$1:A160))","v":""},{"$f":"IF('Student Record'!A161=\"\",\"\",'Student Record'!A161)","v":""},{"$f":"IF('Student Record'!C161=\"\",\"\",'Student Record'!C161)","v":""},{"$f":"IF('[1]Student Record'!K163=\"\",\"\",'[1]Student Record'!K163)","v":""},{"$f":"IF('Student Record'!E161=\"\",\"\",'Student Record'!E161)","v":""},{"$f":"IF('Student Record'!G161=\"\",\"\",'Student Record'!G161)","v":""},{"$f":"IF('Student Record'!H161=\"\",\"\",'Student Record'!H161)","v":""},{"$f":"IF('Student Record'!J161=\"\",\"\",'Student Record'!J161)","v":""},{"$f":"IF('Student Record'!D163=\"\",\"\",'Student Record'!D163)","v":""},{"$f":"IF('Student Record'!T161=\"\",\"\",'Student Record'!T161)","v":""},{"$f":"IF('Student Record'!V161=\"\",\"\",'Student Record'!V161)","v":""},{"$f":"IF('Student Record'!W163=\"\",\"\",'Student Record'!W163)","v":""}]
[{"$f":"IF(Table1[[#This Row],[Name of Student]]=\"\",\"\",ROWS($A$1:A161))","v":""},{"$f":"IF('Student Record'!A162=\"\",\"\",'Student Record'!A162)","v":""},{"$f":"IF('Student Record'!C162=\"\",\"\",'Student Record'!C162)","v":""},{"$f":"IF('[1]Student Record'!K164=\"\",\"\",'[1]Student Record'!K164)","v":""},{"$f":"IF('Student Record'!E162=\"\",\"\",'Student Record'!E162)","v":""},{"$f":"IF('Student Record'!G162=\"\",\"\",'Student Record'!G162)","v":""},{"$f":"IF('Student Record'!H162=\"\",\"\",'Student Record'!H162)","v":""},{"$f":"IF('Student Record'!J162=\"\",\"\",'Student Record'!J162)","v":""},{"$f":"IF('Student Record'!D164=\"\",\"\",'Student Record'!D164)","v":""},{"$f":"IF('Student Record'!T162=\"\",\"\",'Student Record'!T162)","v":""},{"$f":"IF('Student Record'!V162=\"\",\"\",'Student Record'!V162)","v":""},{"$f":"IF('Student Record'!W164=\"\",\"\",'Student Record'!W164)","v":""}]
[{"$f":"IF(Table1[[#This Row],[Name of Student]]=\"\",\"\",ROWS($A$1:A162))","v":""},{"$f":"IF('Student Record'!A163=\"\",\"\",'Student Record'!A163)","v":""},{"$f":"IF('Student Record'!C163=\"\",\"\",'Student Record'!C163)","v":""},{"$f":"IF('[1]Student Record'!K165=\"\",\"\",'[1]Student Record'!K165)","v":""},{"$f":"IF('Student Record'!E163=\"\",\"\",'Student Record'!E163)","v":""},{"$f":"IF('Student Record'!G163=\"\",\"\",'Student Record'!G163)","v":""},{"$f":"IF('Student Record'!H163=\"\",\"\",'Student Record'!H163)","v":""},{"$f":"IF('Student Record'!J163=\"\",\"\",'Student Record'!J163)","v":""},{"$f":"IF('Student Record'!D165=\"\",\"\",'Student Record'!D165)","v":""},{"$f":"IF('Student Record'!T163=\"\",\"\",'Student Record'!T163)","v":""},{"$f":"IF('Student Record'!V163=\"\",\"\",'Student Record'!V163)","v":""},{"$f":"IF('Student Record'!W165=\"\",\"\",'Student Record'!W165)","v":""}]
[{"$f":"IF(Table1[[#This Row],[Name of Student]]=\"\",\"\",ROWS($A$1:A163))","v":""},{"$f":"IF('Student Record'!A164=\"\",\"\",'Student Record'!A164)","v":""},{"$f":"IF('Student Record'!C164=\"\",\"\",'Student Record'!C164)","v":""},{"$f":"IF('[1]Student Record'!K166=\"\",\"\",'[1]Student Record'!K166)","v":""},{"$f":"IF('Student Record'!E164=\"\",\"\",'Student Record'!E164)","v":""},{"$f":"IF('Student Record'!G164=\"\",\"\",'Student Record'!G164)","v":""},{"$f":"IF('Student Record'!H164=\"\",\"\",'Student Record'!H164)","v":""},{"$f":"IF('Student Record'!J164=\"\",\"\",'Student Record'!J164)","v":""},{"$f":"IF('Student Record'!D166=\"\",\"\",'Student Record'!D166)","v":""},{"$f":"IF('Student Record'!T164=\"\",\"\",'Student Record'!T164)","v":""},{"$f":"IF('Student Record'!V164=\"\",\"\",'Student Record'!V164)","v":""},{"$f":"IF('Student Record'!W166=\"\",\"\",'Student Record'!W166)","v":""}]
[{"$f":"IF(Table1[[#This Row],[Name of Student]]=\"\",\"\",ROWS($A$1:A164))","v":""},{"$f":"IF('Student Record'!A165=\"\",\"\",'Student Record'!A165)","v":""},{"$f":"IF('Student Record'!C165=\"\",\"\",'Student Record'!C165)","v":""},{"$f":"IF('[1]Student Record'!K167=\"\",\"\",'[1]Student Record'!K167)","v":""},{"$f":"IF('Student Record'!E165=\"\",\"\",'Student Record'!E165)","v":""},{"$f":"IF('Student Record'!G165=\"\",\"\",'Student Record'!G165)","v":""},{"$f":"IF('Student Record'!H165=\"\",\"\",'Student Record'!H165)","v":""},{"$f":"IF('Student Record'!J165=\"\",\"\",'Student Record'!J165)","v":""},{"$f":"IF('Student Record'!D167=\"\",\"\",'Student Record'!D167)","v":""},{"$f":"IF('Student Record'!T165=\"\",\"\",'Student Record'!T165)","v":""},{"$f":"IF('Student Record'!V165=\"\",\"\",'Student Record'!V165)","v":""},{"$f":"IF('Student Record'!W167=\"\",\"\",'Student Record'!W167)","v":""}]
[{"$f":"IF(Table1[[#This Row],[Name of Student]]=\"\",\"\",ROWS($A$1:A165))","v":""},{"$f":"IF('Student Record'!A166=\"\",\"\",'Student Record'!A166)","v":""},{"$f":"IF('Student Record'!C166=\"\",\"\",'Student Record'!C166)","v":""},{"$f":"IF('[1]Student Record'!K168=\"\",\"\",'[1]Student Record'!K168)","v":""},{"$f":"IF('Student Record'!E166=\"\",\"\",'Student Record'!E166)","v":""},{"$f":"IF('Student Record'!G166=\"\",\"\",'Student Record'!G166)","v":""},{"$f":"IF('Student Record'!H166=\"\",\"\",'Student Record'!H166)","v":""},{"$f":"IF('Student Record'!J166=\"\",\"\",'Student Record'!J166)","v":""},{"$f":"IF('Student Record'!D168=\"\",\"\",'Student Record'!D168)","v":""},{"$f":"IF('Student Record'!T166=\"\",\"\",'Student Record'!T166)","v":""},{"$f":"IF('Student Record'!V166=\"\",\"\",'Student Record'!V166)","v":""},{"$f":"IF('Student Record'!W168=\"\",\"\",'Student Record'!W168)","v":""}]
[{"$f":"IF(Table1[[#This Row],[Name of Student]]=\"\",\"\",ROWS($A$1:A166))","v":""},{"$f":"IF('Student Record'!A167=\"\",\"\",'Student Record'!A167)","v":""},{"$f":"IF('Student Record'!C167=\"\",\"\",'Student Record'!C167)","v":""},{"$f":"IF('[1]Student Record'!K169=\"\",\"\",'[1]Student Record'!K169)","v":""},{"$f":"IF('Student Record'!E167=\"\",\"\",'Student Record'!E167)","v":""},{"$f":"IF('Student Record'!G167=\"\",\"\",'Student Record'!G167)","v":""},{"$f":"IF('Student Record'!H167=\"\",\"\",'Student Record'!H167)","v":""},{"$f":"IF('Student Record'!J167=\"\",\"\",'Student Record'!J167)","v":""},{"$f":"IF('Student Record'!D169=\"\",\"\",'Student Record'!D169)","v":""},{"$f":"IF('Student Record'!T167=\"\",\"\",'Student Record'!T167)","v":""},{"$f":"IF('Student Record'!V167=\"\",\"\",'Student Record'!V167)","v":""},{"$f":"IF('Student Record'!W169=\"\",\"\",'Student Record'!W169)","v":""}]
[{"$f":"IF(Table1[[#This Row],[Name of Student]]=\"\",\"\",ROWS($A$1:A167))","v":""},{"$f":"IF('Student Record'!A168=\"\",\"\",'Student Record'!A168)","v":""},{"$f":"IF('Student Record'!C168=\"\",\"\",'Student Record'!C168)","v":""},{"$f":"IF('[1]Student Record'!K170=\"\",\"\",'[1]Student Record'!K170)","v":""},{"$f":"IF('Student Record'!E168=\"\",\"\",'Student Record'!E168)","v":""},{"$f":"IF('Student Record'!G168=\"\",\"\",'Student Record'!G168)","v":""},{"$f":"IF('Student Record'!H168=\"\",\"\",'Student Record'!H168)","v":""},{"$f":"IF('Student Record'!J168=\"\",\"\",'Student Record'!J168)","v":""},{"$f":"IF('Student Record'!D170=\"\",\"\",'Student Record'!D170)","v":""},{"$f":"IF('Student Record'!T168=\"\",\"\",'Student Record'!T168)","v":""},{"$f":"IF('Student Record'!V168=\"\",\"\",'Student Record'!V168)","v":""},{"$f":"IF('Student Record'!W170=\"\",\"\",'Student Record'!W170)","v":""}]
[{"$f":"IF(Table1[[#This Row],[Name of Student]]=\"\",\"\",ROWS($A$1:A168))","v":""},{"$f":"IF('Student Record'!A169=\"\",\"\",'Student Record'!A169)","v":""},{"$f":"IF('Student Record'!C169=\"\",\"\",'Student Record'!C169)","v":""},{"$f":"IF('[1]Student Record'!K171=\"\",\"\",'[1]Student Record'!K171)","v":""},{"$f":"IF('Student Record'!E169=\"\",\"\",'Student Record'!E169)","v":""},{"$f":"IF('Student Record'!G169=\"\",\"\",'Student Record'!G169)","v":""},{"$f":"IF('Student Record'!H169=\"\",\"\",'Student Record'!H169)","v":""},{"$f":"IF('Student Record'!J169=\"\",\"\",'Student Record'!J169)","v":""},{"$f":"IF('Student Record'!D171=\"\",\"\",'Student Record'!D171)","v":""},{"$f":"IF('Student Record'!T169=\"\",\"\",'Student Record'!T169)","v":""},{"$f":"IF('Student Record'!V169=\"\",\"\",'Student Record'!V169)","v":""},{"$f":"IF('Student Record'!W171=\"\",\"\",'Student Record'!W171)","v":""}]
[{"$f":"IF(Table1[[#This Row],[Name of Student]]=\"\",\"\",ROWS($A$1:A169))","v":""},{"$f":"IF('Student Record'!A170=\"\",\"\",'Student Record'!A170)","v":""},{"$f":"IF('Student Record'!C170=\"\",\"\",'Student Record'!C170)","v":""},{"$f":"IF('[1]Student Record'!K172=\"\",\"\",'[1]Student Record'!K172)","v":""},{"$f":"IF('Student Record'!E170=\"\",\"\",'Student Record'!E170)","v":""},{"$f":"IF('Student Record'!G170=\"\",\"\",'Student Record'!G170)","v":""},{"$f":"IF('Student Record'!H170=\"\",\"\",'Student Record'!H170)","v":""},{"$f":"IF('Student Record'!J170=\"\",\"\",'Student Record'!J170)","v":""},{"$f":"IF('Student Record'!D172=\"\",\"\",'Student Record'!D172)","v":""},{"$f":"IF('Student Record'!T170=\"\",\"\",'Student Record'!T170)","v":""},{"$f":"IF('Student Record'!V170=\"\",\"\",'Student Record'!V170)","v":""},{"$f":"IF('Student Record'!W172=\"\",\"\",'Student Record'!W172)","v":""}]
[{"$f":"IF(Table1[[#This Row],[Name of Student]]=\"\",\"\",ROWS($A$1:A170))","v":""},{"$f":"IF('Student Record'!A171=\"\",\"\",'Student Record'!A171)","v":""},{"$f":"IF('Student Record'!C171=\"\",\"\",'Student Record'!C171)","v":""},{"$f":"IF('[1]Student Record'!K173=\"\",\"\",'[1]Student Record'!K173)","v":""},{"$f":"IF('Student Record'!E171=\"\",\"\",'Student Record'!E171)","v":""},{"$f":"IF('Student Record'!G171=\"\",\"\",'Student Record'!G171)","v":""},{"$f":"IF('Student Record'!H171=\"\",\"\",'Student Record'!H171)","v":""},{"$f":"IF('Student Record'!J171=\"\",\"\",'Student Record'!J171)","v":""},{"$f":"IF('Student Record'!D173=\"\",\"\",'Student Record'!D173)","v":""},{"$f":"IF('Student Record'!T171=\"\",\"\",'Student Record'!T171)","v":""},{"$f":"IF('Student Record'!V171=\"\",\"\",'Student Record'!V171)","v":""},{"$f":"IF('Student Record'!W173=\"\",\"\",'Student Record'!W173)","v":""}]
[{"$f":"IF(Table1[[#This Row],[Name of Student]]=\"\",\"\",ROWS($A$1:A171))","v":""},{"$f":"IF('Student Record'!A172=\"\",\"\",'Student Record'!A172)","v":""},{"$f":"IF('Student Record'!C172=\"\",\"\",'Student Record'!C172)","v":""},{"$f":"IF('[1]Student Record'!K174=\"\",\"\",'[1]Student Record'!K174)","v":""},{"$f":"IF('Student Record'!E172=\"\",\"\",'Student Record'!E172)","v":""},{"$f":"IF('Student Record'!G172=\"\",\"\",'Student Record'!G172)","v":""},{"$f":"IF('Student Record'!H172=\"\",\"\",'Student Record'!H172)","v":""},{"$f":"IF('Student Record'!J172=\"\",\"\",'Student Record'!J172)","v":""},{"$f":"IF('Student Record'!D174=\"\",\"\",'Student Record'!D174)","v":""},{"$f":"IF('Student Record'!T172=\"\",\"\",'Student Record'!T172)","v":""},{"$f":"IF('Student Record'!V172=\"\",\"\",'Student Record'!V172)","v":""},{"$f":"IF('Student Record'!W174=\"\",\"\",'Student Record'!W174)","v":""}]
[{"$f":"IF(Table1[[#This Row],[Name of Student]]=\"\",\"\",ROWS($A$1:A172))","v":""},{"$f":"IF('Student Record'!A173=\"\",\"\",'Student Record'!A173)","v":""},{"$f":"IF('Student Record'!C173=\"\",\"\",'Student Record'!C173)","v":""},{"$f":"IF('[1]Student Record'!K175=\"\",\"\",'[1]Student Record'!K175)","v":""},{"$f":"IF('Student Record'!E173=\"\",\"\",'Student Record'!E173)","v":""},{"$f":"IF('Student Record'!G173=\"\",\"\",'Student Record'!G173)","v":""},{"$f":"IF('Student Record'!H173=\"\",\"\",'Student Record'!H173)","v":""},{"$f":"IF('Student Record'!J173=\"\",\"\",'Student Record'!J173)","v":""},{"$f":"IF('Student Record'!D175=\"\",\"\",'Student Record'!D175)","v":""},{"$f":"IF('Student Record'!T173=\"\",\"\",'Student Record'!T173)","v":""},{"$f":"IF('Student Record'!V173=\"\",\"\",'Student Record'!V173)","v":""},{"$f":"IF('Student Record'!W175=\"\",\"\",'Student Record'!W175)","v":""}]
[{"$f":"IF(Table1[[#This Row],[Name of Student]]=\"\",\"\",ROWS($A$1:A173))","v":""},{"$f":"IF('Student Record'!A174=\"\",\"\",'Student Record'!A174)","v":""},{"$f":"IF('Student Record'!C174=\"\",\"\",'Student Record'!C174)","v":""},{"$f":"IF('[1]Student Record'!K176=\"\",\"\",'[1]Student Record'!K176)","v":""},{"$f":"IF('Student Record'!E174=\"\",\"\",'Student Record'!E174)","v":""},{"$f":"IF('Student Record'!G174=\"\",\"\",'Student Record'!G174)","v":""},{"$f":"IF('Student Record'!H174=\"\",\"\",'Student Record'!H174)","v":""},{"$f":"IF('Student Record'!J174=\"\",\"\",'Student Record'!J174)","v":""},{"$f":"IF('Student Record'!D176=\"\",\"\",'Student Record'!D176)","v":""},{"$f":"IF('Student Record'!T174=\"\",\"\",'Student Record'!T174)","v":""},{"$f":"IF('Student Record'!V174=\"\",\"\",'Student Record'!V174)","v":""},{"$f":"IF('Student Record'!W176=\"\",\"\",'Student Record'!W176)","v":""}]
[{"$f":"IF(Table1[[#This Row],[Name of Student]]=\"\",\"\",ROWS($A$1:A174))","v":""},{"$f":"IF('Student Record'!A175=\"\",\"\",'Student Record'!A175)","v":""},{"$f":"IF('Student Record'!C175=\"\",\"\",'Student Record'!C175)","v":""},{"$f":"IF('[1]Student Record'!K177=\"\",\"\",'[1]Student Record'!K177)","v":""},{"$f":"IF('Student Record'!E175=\"\",\"\",'Student Record'!E175)","v":""},{"$f":"IF('Student Record'!G175=\"\",\"\",'Student Record'!G175)","v":""},{"$f":"IF('Student Record'!H175=\"\",\"\",'Student Record'!H175)","v":""},{"$f":"IF('Student Record'!J175=\"\",\"\",'Student Record'!J175)","v":""},{"$f":"IF('Student Record'!D177=\"\",\"\",'Student Record'!D177)","v":""},{"$f":"IF('Student Record'!T175=\"\",\"\",'Student Record'!T175)","v":""},{"$f":"IF('Student Record'!V175=\"\",\"\",'Student Record'!V175)","v":""},{"$f":"IF('Student Record'!W177=\"\",\"\",'Student Record'!W177)","v":""}]
[{"$f":"IF(Table1[[#This Row],[Name of Student]]=\"\",\"\",ROWS($A$1:A175))","v":""},{"$f":"IF('Student Record'!A176=\"\",\"\",'Student Record'!A176)","v":""},{"$f":"IF('Student Record'!C176=\"\",\"\",'Student Record'!C176)","v":""},{"$f":"IF('[1]Student Record'!K178=\"\",\"\",'[1]Student Record'!K178)","v":""},{"$f":"IF('Student Record'!E176=\"\",\"\",'Student Record'!E176)","v":""},{"$f":"IF('Student Record'!G176=\"\",\"\",'Student Record'!G176)","v":""},{"$f":"IF('Student Record'!H176=\"\",\"\",'Student Record'!H176)","v":""},{"$f":"IF('Student Record'!J176=\"\",\"\",'Student Record'!J176)","v":""},{"$f":"IF('Student Record'!D178=\"\",\"\",'Student Record'!D178)","v":""},{"$f":"IF('Student Record'!T176=\"\",\"\",'Student Record'!T176)","v":""},{"$f":"IF('Student Record'!V176=\"\",\"\",'Student Record'!V176)","v":""},{"$f":"IF('Student Record'!W178=\"\",\"\",'Student Record'!W178)","v":""}]
[{"$f":"IF(Table1[[#This Row],[Name of Student]]=\"\",\"\",ROWS($A$1:A176))","v":""},{"$f":"IF('Student Record'!A177=\"\",\"\",'Student Record'!A177)","v":""},{"$f":"IF('Student Record'!C177=\"\",\"\",'Student Record'!C177)","v":""},{"$f":"IF('[1]Student Record'!K179=\"\",\"\",'[1]Student Record'!K179)","v":""},{"$f":"IF('Student Record'!E177=\"\",\"\",'Student Record'!E177)","v":""},{"$f":"IF('Student Record'!G177=\"\",\"\",'Student Record'!G177)","v":""},{"$f":"IF('Student Record'!H177=\"\",\"\",'Student Record'!H177)","v":""},{"$f":"IF('Student Record'!J177=\"\",\"\",'Student Record'!J177)","v":""},{"$f":"IF('Student Record'!D179=\"\",\"\",'Student Record'!D179)","v":""},{"$f":"IF('Student Record'!T177=\"\",\"\",'Student Record'!T177)","v":""},{"$f":"IF('Student Record'!V177=\"\",\"\",'Student Record'!V177)","v":""},{"$f":"IF('Student Record'!W179=\"\",\"\",'Student Record'!W179)","v":""}]
[{"$f":"IF(Table1[[#This Row],[Name of Student]]=\"\",\"\",ROWS($A$1:A177))","v":""},{"$f":"IF('Student Record'!A178=\"\",\"\",'Student Record'!A178)","v":""},{"$f":"IF('Student Record'!C178=\"\",\"\",'Student Record'!C178)","v":""},{"$f":"IF('[1]Student Record'!K180=\"\",\"\",'[1]Student Record'!K180)","v":""},{"$f":"IF('Student Record'!E178=\"\",\"\",'Student Record'!E178)","v":""},{"$f":"IF('Student Record'!G178=\"\",\"\",'Student Record'!G178)","v":""},{"$f":"IF('Student Record'!H178=\"\",\"\",'Student Record'!H178)","v":""},{"$f":"IF('Student Record'!J178=\"\",\"\",'Student Record'!J178)","v":""},{"$f":"IF('Student Record'!D180=\"\",\"\",'Student Record'!D180)","v":""},{"$f":"IF('Student Record'!T178=\"\",\"\",'Student Record'!T178)","v":""},{"$f":"IF('Student Record'!V178=\"\",\"\",'Student Record'!V178)","v":""},{"$f":"IF('Student Record'!W180=\"\",\"\",'Student Record'!W180)","v":""}]
[{"$f":"IF(Table1[[#This Row],[Name of Student]]=\"\",\"\",ROWS($A$1:A178))","v":""},{"$f":"IF('Student Record'!A179=\"\",\"\",'Student Record'!A179)","v":""},{"$f":"IF('Student Record'!C179=\"\",\"\",'Student Record'!C179)","v":""},{"$f":"IF('[1]Student Record'!K181=\"\",\"\",'[1]Student Record'!K181)","v":""},{"$f":"IF('Student Record'!E179=\"\",\"\",'Student Record'!E179)","v":""},{"$f":"IF('Student Record'!G179=\"\",\"\",'Student Record'!G179)","v":""},{"$f":"IF('Student Record'!H179=\"\",\"\",'Student Record'!H179)","v":""},{"$f":"IF('Student Record'!J179=\"\",\"\",'Student Record'!J179)","v":""},{"$f":"IF('Student Record'!D181=\"\",\"\",'Student Record'!D181)","v":""},{"$f":"IF('Student Record'!T179=\"\",\"\",'Student Record'!T179)","v":""},{"$f":"IF('Student Record'!V179=\"\",\"\",'Student Record'!V179)","v":""},{"$f":"IF('Student Record'!W181=\"\",\"\",'Student Record'!W181)","v":""}]
[{"$f":"IF(Table1[[#This Row],[Name of Student]]=\"\",\"\",ROWS($A$1:A179))","v":""},{"$f":"IF('Student Record'!A180=\"\",\"\",'Student Record'!A180)","v":""},{"$f":"IF('Student Record'!C180=\"\",\"\",'Student Record'!C180)","v":""},{"$f":"IF('[1]Student Record'!K182=\"\",\"\",'[1]Student Record'!K182)","v":""},{"$f":"IF('Student Record'!E180=\"\",\"\",'Student Record'!E180)","v":""},{"$f":"IF('Student Record'!G180=\"\",\"\",'Student Record'!G180)","v":""},{"$f":"IF('Student Record'!H180=\"\",\"\",'Student Record'!H180)","v":""},{"$f":"IF('Student Record'!J180=\"\",\"\",'Student Record'!J180)","v":""},{"$f":"IF('Student Record'!D182=\"\",\"\",'Student Record'!D182)","v":""},{"$f":"IF('Student Record'!T180=\"\",\"\",'Student Record'!T180)","v":""},{"$f":"IF('Student Record'!V180=\"\",\"\",'Student Record'!V180)","v":""},{"$f":"IF('Student Record'!W182=\"\",\"\",'Student Record'!W182)","v":""}]
[{"$f":"IF(Table1[[#This Row],[Name of Student]]=\"\",\"\",ROWS($A$1:A180))","v":""},{"$f":"IF('Student Record'!A181=\"\",\"\",'Student Record'!A181)","v":""},{"$f":"IF('Student Record'!C181=\"\",\"\",'Student Record'!C181)","v":""},{"$f":"IF('[1]Student Record'!K183=\"\",\"\",'[1]Student Record'!K183)","v":""},{"$f":"IF('Student Record'!E181=\"\",\"\",'Student Record'!E181)","v":""},{"$f":"IF('Student Record'!G181=\"\",\"\",'Student Record'!G181)","v":""},{"$f":"IF('Student Record'!H181=\"\",\"\",'Student Record'!H181)","v":""},{"$f":"IF('Student Record'!J181=\"\",\"\",'Student Record'!J181)","v":""},{"$f":"IF('Student Record'!D183=\"\",\"\",'Student Record'!D183)","v":""},{"$f":"IF('Student Record'!T181=\"\",\"\",'Student Record'!T181)","v":""},{"$f":"IF('Student Record'!V181=\"\",\"\",'Student Record'!V181)","v":""},{"$f":"IF('Student Record'!W183=\"\",\"\",'Student Record'!W183)","v":""}]
[{"$f":"IF(Table1[[#This Row],[Name of Student]]=\"\",\"\",ROWS($A$1:A181))","v":""},{"$f":"IF('Student Record'!A182=\"\",\"\",'Student Record'!A182)","v":""},{"$f":"IF('Student Record'!C182=\"\",\"\",'Student Record'!C182)","v":""},{"$f":"IF('[1]Student Record'!K184=\"\",\"\",'[1]Student Record'!K184)","v":""},{"$f":"IF('Student Record'!E182=\"\",\"\",'Student Record'!E182)","v":""},{"$f":"IF('Student Record'!G182=\"\",\"\",'Student Record'!G182)","v":""},{"$f":"IF('Student Record'!H182=\"\",\"\",'Student Record'!H182)","v":""},{"$f":"IF('Student Record'!J182=\"\",\"\",'Student Record'!J182)","v":""},{"$f":"IF('Student Record'!D184=\"\",\"\",'Student Record'!D184)","v":""},{"$f":"IF('Student Record'!T182=\"\",\"\",'Student Record'!T182)","v":""},{"$f":"IF('Student Record'!V182=\"\",\"\",'Student Record'!V182)","v":""},{"$f":"IF('Student Record'!W184=\"\",\"\",'Student Record'!W184)","v":""}]
[{"$f":"IF(Table1[[#This Row],[Name of Student]]=\"\",\"\",ROWS($A$1:A182))","v":""},{"$f":"IF('Student Record'!A183=\"\",\"\",'Student Record'!A183)","v":""},{"$f":"IF('Student Record'!C183=\"\",\"\",'Student Record'!C183)","v":""},{"$f":"IF('[1]Student Record'!K185=\"\",\"\",'[1]Student Record'!K185)","v":""},{"$f":"IF('Student Record'!E183=\"\",\"\",'Student Record'!E183)","v":""},{"$f":"IF('Student Record'!G183=\"\",\"\",'Student Record'!G183)","v":""},{"$f":"IF('Student Record'!H183=\"\",\"\",'Student Record'!H183)","v":""},{"$f":"IF('Student Record'!J183=\"\",\"\",'Student Record'!J183)","v":""},{"$f":"IF('Student Record'!D185=\"\",\"\",'Student Record'!D185)","v":""},{"$f":"IF('Student Record'!T183=\"\",\"\",'Student Record'!T183)","v":""},{"$f":"IF('Student Record'!V183=\"\",\"\",'Student Record'!V183)","v":""},{"$f":"IF('Student Record'!W185=\"\",\"\",'Student Record'!W185)","v":""}]
[{"$f":"IF(Table1[[#This Row],[Name of Student]]=\"\",\"\",ROWS($A$1:A183))","v":""},{"$f":"IF('Student Record'!A184=\"\",\"\",'Student Record'!A184)","v":""},{"$f":"IF('Student Record'!C184=\"\",\"\",'Student Record'!C184)","v":""},{"$f":"IF('[1]Student Record'!K186=\"\",\"\",'[1]Student Record'!K186)","v":""},{"$f":"IF('Student Record'!E184=\"\",\"\",'Student Record'!E184)","v":""},{"$f":"IF('Student Record'!G184=\"\",\"\",'Student Record'!G184)","v":""},{"$f":"IF('Student Record'!H184=\"\",\"\",'Student Record'!H184)","v":""},{"$f":"IF('Student Record'!J184=\"\",\"\",'Student Record'!J184)","v":""},{"$f":"IF('Student Record'!D186=\"\",\"\",'Student Record'!D186)","v":""},{"$f":"IF('Student Record'!T184=\"\",\"\",'Student Record'!T184)","v":""},{"$f":"IF('Student Record'!V184=\"\",\"\",'Student Record'!V184)","v":""},{"$f":"IF('Student Record'!W186=\"\",\"\",'Student Record'!W186)","v":""}]
[{"$f":"IF(Table1[[#This Row],[Name of Student]]=\"\",\"\",ROWS($A$1:A184))","v":""},{"$f":"IF('Student Record'!A185=\"\",\"\",'Student Record'!A185)","v":""},{"$f":"IF('Student Record'!C185=\"\",\"\",'Student Record'!C185)","v":""},{"$f":"IF('[1]Student Record'!K187=\"\",\"\",'[1]Student Record'!K187)","v":""},{"$f":"IF('Student Record'!E185=\"\",\"\",'Student Record'!E185)","v":""},{"$f":"IF('Student Record'!G185=\"\",\"\",'Student Record'!G185)","v":""},{"$f":"IF('Student Record'!H185=\"\",\"\",'Student Record'!H185)","v":""},{"$f":"IF('Student Record'!J185=\"\",\"\",'Student Record'!J185)","v":""},{"$f":"IF('Student Record'!D187=\"\",\"\",'Student Record'!D187)","v":""},{"$f":"IF('Student Record'!T185=\"\",\"\",'Student Record'!T185)","v":""},{"$f":"IF('Student Record'!V185=\"\",\"\",'Student Record'!V185)","v":""},{"$f":"IF('Student Record'!W187=\"\",\"\",'Student Record'!W187)","v":""}]
[{"$f":"IF(Table1[[#This Row],[Name of Student]]=\"\",\"\",ROWS($A$1:A185))","v":""},{"$f":"IF('Student Record'!A186=\"\",\"\",'Student Record'!A186)","v":""},{"$f":"IF('Student Record'!C186=\"\",\"\",'Student Record'!C186)","v":""},{"$f":"IF('[1]Student Record'!K188=\"\",\"\",'[1]Student Record'!K188)","v":""},{"$f":"IF('Student Record'!E186=\"\",\"\",'Student Record'!E186)","v":""},{"$f":"IF('Student Record'!G186=\"\",\"\",'Student Record'!G186)","v":""},{"$f":"IF('Student Record'!H186=\"\",\"\",'Student Record'!H186)","v":""},{"$f":"IF('Student Record'!J186=\"\",\"\",'Student Record'!J186)","v":""},{"$f":"IF('Student Record'!D188=\"\",\"\",'Student Record'!D188)","v":""},{"$f":"IF('Student Record'!T186=\"\",\"\",'Student Record'!T186)","v":""},{"$f":"IF('Student Record'!V186=\"\",\"\",'Student Record'!V186)","v":""},{"$f":"IF('Student Record'!W188=\"\",\"\",'Student Record'!W188)","v":""}]
[{"$f":"IF(Table1[[#This Row],[Name of Student]]=\"\",\"\",ROWS($A$1:A186))","v":""},{"$f":"IF('Student Record'!A187=\"\",\"\",'Student Record'!A187)","v":""},{"$f":"IF('Student Record'!C187=\"\",\"\",'Student Record'!C187)","v":""},{"$f":"IF('[1]Student Record'!K189=\"\",\"\",'[1]Student Record'!K189)","v":""},{"$f":"IF('Student Record'!E187=\"\",\"\",'Student Record'!E187)","v":""},{"$f":"IF('Student Record'!G187=\"\",\"\",'Student Record'!G187)","v":""},{"$f":"IF('Student Record'!H187=\"\",\"\",'Student Record'!H187)","v":""},{"$f":"IF('Student Record'!J187=\"\",\"\",'Student Record'!J187)","v":""},{"$f":"IF('Student Record'!D189=\"\",\"\",'Student Record'!D189)","v":""},{"$f":"IF('Student Record'!T187=\"\",\"\",'Student Record'!T187)","v":""},{"$f":"IF('Student Record'!V187=\"\",\"\",'Student Record'!V187)","v":""},{"$f":"IF('Student Record'!W189=\"\",\"\",'Student Record'!W189)","v":""}]
[{"$f":"IF(Table1[[#This Row],[Name of Student]]=\"\",\"\",ROWS($A$1:A187))","v":""},{"$f":"IF('Student Record'!A188=\"\",\"\",'Student Record'!A188)","v":""},{"$f":"IF('Student Record'!C188=\"\",\"\",'Student Record'!C188)","v":""},{"$f":"IF('[1]Student Record'!K190=\"\",\"\",'[1]Student Record'!K190)","v":""},{"$f":"IF('Student Record'!E188=\"\",\"\",'Student Record'!E188)","v":""},{"$f":"IF('Student Record'!G188=\"\",\"\",'Student Record'!G188)","v":""},{"$f":"IF('Student Record'!H188=\"\",\"\",'Student Record'!H188)","v":""},{"$f":"IF('Student Record'!J188=\"\",\"\",'Student Record'!J188)","v":""},{"$f":"IF('Student Record'!D190=\"\",\"\",'Student Record'!D190)","v":""},{"$f":"IF('Student Record'!T188=\"\",\"\",'Student Record'!T188)","v":""},{"$f":"IF('Student Record'!V188=\"\",\"\",'Student Record'!V188)","v":""},{"$f":"IF('Student Record'!W190=\"\",\"\",'Student Record'!W190)","v":""}]
[{"$f":"IF(Table1[[#This Row],[Name of Student]]=\"\",\"\",ROWS($A$1:A188))","v":""},{"$f":"IF('Student Record'!A189=\"\",\"\",'Student Record'!A189)","v":""},{"$f":"IF('Student Record'!C189=\"\",\"\",'Student Record'!C189)","v":""},{"$f":"IF('[1]Student Record'!K191=\"\",\"\",'[1]Student Record'!K191)","v":""},{"$f":"IF('Student Record'!E189=\"\",\"\",'Student Record'!E189)","v":""},{"$f":"IF('Student Record'!G189=\"\",\"\",'Student Record'!G189)","v":""},{"$f":"IF('Student Record'!H189=\"\",\"\",'Student Record'!H189)","v":""},{"$f":"IF('Student Record'!J189=\"\",\"\",'Student Record'!J189)","v":""},{"$f":"IF('Student Record'!D191=\"\",\"\",'Student Record'!D191)","v":""},{"$f":"IF('Student Record'!T189=\"\",\"\",'Student Record'!T189)","v":""},{"$f":"IF('Student Record'!V189=\"\",\"\",'Student Record'!V189)","v":""},{"$f":"IF('Student Record'!W191=\"\",\"\",'Student Record'!W191)","v":""}]
[{"$f":"IF(Table1[[#This Row],[Name of Student]]=\"\",\"\",ROWS($A$1:A189))","v":""},{"$f":"IF('Student Record'!A190=\"\",\"\",'Student Record'!A190)","v":""},{"$f":"IF('Student Record'!C190=\"\",\"\",'Student Record'!C190)","v":""},{"$f":"IF('[1]Student Record'!K192=\"\",\"\",'[1]Student Record'!K192)","v":""},{"$f":"IF('Student Record'!E190=\"\",\"\",'Student Record'!E190)","v":""},{"$f":"IF('Student Record'!G190=\"\",\"\",'Student Record'!G190)","v":""},{"$f":"IF('Student Record'!H190=\"\",\"\",'Student Record'!H190)","v":""},{"$f":"IF('Student Record'!J190=\"\",\"\",'Student Record'!J190)","v":""},{"$f":"IF('Student Record'!D192=\"\",\"\",'Student Record'!D192)","v":""},{"$f":"IF('Student Record'!T190=\"\",\"\",'Student Record'!T190)","v":""},{"$f":"IF('Student Record'!V190=\"\",\"\",'Student Record'!V190)","v":""},{"$f":"IF('Student Record'!W192=\"\",\"\",'Student Record'!W192)","v":""}]
[{"$f":"IF(Table1[[#This Row],[Name of Student]]=\"\",\"\",ROWS($A$1:A190))","v":""},{"$f":"IF('Student Record'!A191=\"\",\"\",'Student Record'!A191)","v":""},{"$f":"IF('Student Record'!C191=\"\",\"\",'Student Record'!C191)","v":""},{"$f":"IF('[1]Student Record'!K193=\"\",\"\",'[1]Student Record'!K193)","v":""},{"$f":"IF('Student Record'!E191=\"\",\"\",'Student Record'!E191)","v":""},{"$f":"IF('Student Record'!G191=\"\",\"\",'Student Record'!G191)","v":""},{"$f":"IF('Student Record'!H191=\"\",\"\",'Student Record'!H191)","v":""},{"$f":"IF('Student Record'!J191=\"\",\"\",'Student Record'!J191)","v":""},{"$f":"IF('Student Record'!D193=\"\",\"\",'Student Record'!D193)","v":""},{"$f":"IF('Student Record'!T191=\"\",\"\",'Student Record'!T191)","v":""},{"$f":"IF('Student Record'!V191=\"\",\"\",'Student Record'!V191)","v":""},{"$f":"IF('Student Record'!W193=\"\",\"\",'Student Record'!W193)","v":""}]
[{"$f":"IF(Table1[[#This Row],[Name of Student]]=\"\",\"\",ROWS($A$1:A191))","v":""},{"$f":"IF('Student Record'!A192=\"\",\"\",'Student Record'!A192)","v":""},{"$f":"IF('Student Record'!C192=\"\",\"\",'Student Record'!C192)","v":""},{"$f":"IF('[1]Student Record'!K194=\"\",\"\",'[1]Student Record'!K194)","v":""},{"$f":"IF('Student Record'!E192=\"\",\"\",'Student Record'!E192)","v":""},{"$f":"IF('Student Record'!G192=\"\",\"\",'Student Record'!G192)","v":""},{"$f":"IF('Student Record'!H192=\"\",\"\",'Student Record'!H192)","v":""},{"$f":"IF('Student Record'!J192=\"\",\"\",'Student Record'!J192)","v":""},{"$f":"IF('Student Record'!D194=\"\",\"\",'Student Record'!D194)","v":""},{"$f":"IF('Student Record'!T192=\"\",\"\",'Student Record'!T192)","v":""},{"$f":"IF('Student Record'!V192=\"\",\"\",'Student Record'!V192)","v":""},{"$f":"IF('Student Record'!W194=\"\",\"\",'Student Record'!W194)","v":""}]
[{"$f":"IF(Table1[[#This Row],[Name of Student]]=\"\",\"\",ROWS($A$1:A192))","v":""},{"$f":"IF('Student Record'!A193=\"\",\"\",'Student Record'!A193)","v":""},{"$f":"IF('Student Record'!C193=\"\",\"\",'Student Record'!C193)","v":""},{"$f":"IF('[1]Student Record'!K195=\"\",\"\",'[1]Student Record'!K195)","v":""},{"$f":"IF('Student Record'!E193=\"\",\"\",'Student Record'!E193)","v":""},{"$f":"IF('Student Record'!G193=\"\",\"\",'Student Record'!G193)","v":""},{"$f":"IF('Student Record'!H193=\"\",\"\",'Student Record'!H193)","v":""},{"$f":"IF('Student Record'!J193=\"\",\"\",'Student Record'!J193)","v":""},{"$f":"IF('Student Record'!D195=\"\",\"\",'Student Record'!D195)","v":""},{"$f":"IF('Student Record'!T193=\"\",\"\",'Student Record'!T193)","v":""},{"$f":"IF('Student Record'!V193=\"\",\"\",'Student Record'!V193)","v":""},{"$f":"IF('Student Record'!W195=\"\",\"\",'Student Record'!W195)","v":""}]
[{"$f":"IF(Table1[[#This Row],[Name of Student]]=\"\",\"\",ROWS($A$1:A193))","v":""},{"$f":"IF('Student Record'!A194=\"\",\"\",'Student Record'!A194)","v":""},{"$f":"IF('Student Record'!C194=\"\",\"\",'Student Record'!C194)","v":""},{"$f":"IF('[1]Student Record'!K196=\"\",\"\",'[1]Student Record'!K196)","v":""},{"$f":"IF('Student Record'!E194=\"\",\"\",'Student Record'!E194)","v":""},{"$f":"IF('Student Record'!G194=\"\",\"\",'Student Record'!G194)","v":""},{"$f":"IF('Student Record'!H194=\"\",\"\",'Student Record'!H194)","v":""},{"$f":"IF('Student Record'!J194=\"\",\"\",'Student Record'!J194)","v":""},{"$f":"IF('Student Record'!D196=\"\",\"\",'Student Record'!D196)","v":""},{"$f":"IF('Student Record'!T194=\"\",\"\",'Student Record'!T194)","v":""},{"$f":"IF('Student Record'!V194=\"\",\"\",'Student Record'!V194)","v":""},{"$f":"IF('Student Record'!W196=\"\",\"\",'Student Record'!W196)","v":""}]
[{"$f":"IF(Table1[[#This Row],[Name of Student]]=\"\",\"\",ROWS($A$1:A194))","v":""},{"$f":"IF('Student Record'!A195=\"\",\"\",'Student Record'!A195)","v":""},{"$f":"IF('Student Record'!C195=\"\",\"\",'Student Record'!C195)","v":""},{"$f":"IF('[1]Student Record'!K197=\"\",\"\",'[1]Student Record'!K197)","v":""},{"$f":"IF('Student Record'!E195=\"\",\"\",'Student Record'!E195)","v":""},{"$f":"IF('Student Record'!G195=\"\",\"\",'Student Record'!G195)","v":""},{"$f":"IF('Student Record'!H195=\"\",\"\",'Student Record'!H195)","v":""},{"$f":"IF('Student Record'!J195=\"\",\"\",'Student Record'!J195)","v":""},{"$f":"IF('Student Record'!D197=\"\",\"\",'Student Record'!D197)","v":""},{"$f":"IF('Student Record'!T195=\"\",\"\",'Student Record'!T195)","v":""},{"$f":"IF('Student Record'!V195=\"\",\"\",'Student Record'!V195)","v":""},{"$f":"IF('Student Record'!W197=\"\",\"\",'Student Record'!W197)","v":""}]
[{"$f":"IF(Table1[[#This Row],[Name of Student]]=\"\",\"\",ROWS($A$1:A195))","v":""},{"$f":"IF('Student Record'!A196=\"\",\"\",'Student Record'!A196)","v":""},{"$f":"IF('Student Record'!C196=\"\",\"\",'Student Record'!C196)","v":""},{"$f":"IF('[1]Student Record'!K198=\"\",\"\",'[1]Student Record'!K198)","v":""},{"$f":"IF('Student Record'!E196=\"\",\"\",'Student Record'!E196)","v":""},{"$f":"IF('Student Record'!G196=\"\",\"\",'Student Record'!G196)","v":""},{"$f":"IF('Student Record'!H196=\"\",\"\",'Student Record'!H196)","v":""},{"$f":"IF('Student Record'!J196=\"\",\"\",'Student Record'!J196)","v":""},{"$f":"IF('Student Record'!D198=\"\",\"\",'Student Record'!D198)","v":""},{"$f":"IF('Student Record'!T196=\"\",\"\",'Student Record'!T196)","v":""},{"$f":"IF('Student Record'!V196=\"\",\"\",'Student Record'!V196)","v":""},{"$f":"IF('Student Record'!W198=\"\",\"\",'Student Record'!W198)","v":""}]
[{"$f":"IF(Table1[[#This Row],[Name of Student]]=\"\",\"\",ROWS($A$1:A196))","v":""},{"$f":"IF('Student Record'!A197=\"\",\"\",'Student Record'!A197)","v":""},{"$f":"IF('Student Record'!C197=\"\",\"\",'Student Record'!C197)","v":""},{"$f":"IF('[1]Student Record'!K199=\"\",\"\",'[1]Student Record'!K199)","v":""},{"$f":"IF('Student Record'!E197=\"\",\"\",'Student Record'!E197)","v":""},{"$f":"IF('Student Record'!G197=\"\",\"\",'Student Record'!G197)","v":""},{"$f":"IF('Student Record'!H197=\"\",\"\",'Student Record'!H197)","v":""},{"$f":"IF('Student Record'!J197=\"\",\"\",'Student Record'!J197)","v":""},{"$f":"IF('Student Record'!D199=\"\",\"\",'Student Record'!D199)","v":""},{"$f":"IF('Student Record'!T197=\"\",\"\",'Student Record'!T197)","v":""},{"$f":"IF('Student Record'!V197=\"\",\"\",'Student Record'!V197)","v":""},{"$f":"IF('Student Record'!W199=\"\",\"\",'Student Record'!W199)","v":""}]
[{"$f":"IF(Table1[[#This Row],[Name of Student]]=\"\",\"\",ROWS($A$1:A197))","v":""},{"$f":"IF('Student Record'!A198=\"\",\"\",'Student Record'!A198)","v":""},{"$f":"IF('Student Record'!C198=\"\",\"\",'Student Record'!C198)","v":""},{"$f":"IF('[1]Student Record'!K200=\"\",\"\",'[1]Student Record'!K200)","v":""},{"$f":"IF('Student Record'!E198=\"\",\"\",'Student Record'!E198)","v":""},{"$f":"IF('Student Record'!G198=\"\",\"\",'Student Record'!G198)","v":""},{"$f":"IF('Student Record'!H198=\"\",\"\",'Student Record'!H198)","v":""},{"$f":"IF('Student Record'!J198=\"\",\"\",'Student Record'!J198)","v":""},{"$f":"IF('Student Record'!D200=\"\",\"\",'Student Record'!D200)","v":""},{"$f":"IF('Student Record'!T198=\"\",\"\",'Student Record'!T198)","v":""},{"$f":"IF('Student Record'!V198=\"\",\"\",'Student Record'!V198)","v":""},{"$f":"IF('Student Record'!W200=\"\",\"\",'Student Record'!W200)","v":""}]
[{"$f":"IF(Table1[[#This Row],[Name of Student]]=\"\",\"\",ROWS($A$1:A198))","v":""},{"$f":"IF('Student Record'!A199=\"\",\"\",'Student Record'!A199)","v":""},{"$f":"IF('Student Record'!C199=\"\",\"\",'Student Record'!C199)","v":""},{"$f":"IF('[1]Student Record'!K201=\"\",\"\",'[1]Student Record'!K201)","v":""},{"$f":"IF('Student Record'!E199=\"\",\"\",'Student Record'!E199)","v":""},{"$f":"IF('Student Record'!G199=\"\",\"\",'Student Record'!G199)","v":""},{"$f":"IF('Student Record'!H199=\"\",\"\",'Student Record'!H199)","v":""},{"$f":"IF('Student Record'!J199=\"\",\"\",'Student Record'!J199)","v":""},{"$f":"IF('Student Record'!D201=\"\",\"\",'Student Record'!D201)","v":""},{"$f":"IF('Student Record'!T199=\"\",\"\",'Student Record'!T199)","v":""},{"$f":"IF('Student Record'!V199=\"\",\"\",'Student Record'!V199)","v":""},{"$f":"IF('Student Record'!W201=\"\",\"\",'Student Record'!W201)","v":""}]
[{"$f":"IF(Table1[[#This Row],[Name of Student]]=\"\",\"\",ROWS($A$1:A199))","v":""},{"$f":"IF('Student Record'!A200=\"\",\"\",'Student Record'!A200)","v":""},{"$f":"IF('Student Record'!C200=\"\",\"\",'Student Record'!C200)","v":""},{"$f":"IF('[1]Student Record'!K202=\"\",\"\",'[1]Student Record'!K202)","v":""},{"$f":"IF('Student Record'!E200=\"\",\"\",'Student Record'!E200)","v":""},{"$f":"IF('Student Record'!G200=\"\",\"\",'Student Record'!G200)","v":""},{"$f":"IF('Student Record'!H200=\"\",\"\",'Student Record'!H200)","v":""},{"$f":"IF('Student Record'!J200=\"\",\"\",'Student Record'!J200)","v":""},{"$f":"IF('Student Record'!D202=\"\",\"\",'Student Record'!D202)","v":""},{"$f":"IF('Student Record'!T200=\"\",\"\",'Student Record'!T200)","v":""},{"$f":"IF('Student Record'!V200=\"\",\"\",'Student Record'!V200)","v":""},{"$f":"IF('Student Record'!W202=\"\",\"\",'Student Record'!W202)","v":""}]
[{"$f":"IF(Table1[[#This Row],[Name of Student]]=\"\",\"\",ROWS($A$1:A200))","v":""},{"$f":"IF('Student Record'!A201=\"\",\"\",'Student Record'!A201)","v":""},{"$f":"IF('Student Record'!C201=\"\",\"\",'Student Record'!C201)","v":""},{"$f":"IF('[1]Student Record'!K203=\"\",\"\",'[1]Student Record'!K203)","v":""},{"$f":"IF('Student Record'!E201=\"\",\"\",'Student Record'!E201)","v":""},{"$f":"IF('Student Record'!G201=\"\",\"\",'Student Record'!G201)","v":""},{"$f":"IF('Student Record'!H201=\"\",\"\",'Student Record'!H201)","v":""},{"$f":"IF('Student Record'!J201=\"\",\"\",'Student Record'!J201)","v":""},{"$f":"IF('Student Record'!D203=\"\",\"\",'Student Record'!D203)","v":""},{"$f":"IF('Student Record'!T201=\"\",\"\",'Student Record'!T201)","v":""},{"$f":"IF('Student Record'!V201=\"\",\"\",'Student Record'!V201)","v":""},{"$f":"IF('Student Record'!W203=\"\",\"\",'Student Record'!W203)","v":""}]
[{"$f":"IF(Table1[[#This Row],[Name of Student]]=\"\",\"\",ROWS($A$1:A201))","v":""},{"$f":"IF('Student Record'!A202=\"\",\"\",'Student Record'!A202)","v":""},{"$f":"IF('Student Record'!C202=\"\",\"\",'Student Record'!C202)","v":""},{"$f":"IF('[1]Student Record'!K204=\"\",\"\",'[1]Student Record'!K204)","v":""},{"$f":"IF('Student Record'!E202=\"\",\"\",'Student Record'!E202)","v":""},{"$f":"IF('Student Record'!G202=\"\",\"\",'Student Record'!G202)","v":""},{"$f":"IF('Student Record'!H202=\"\",\"\",'Student Record'!H202)","v":""},{"$f":"IF('Student Record'!J202=\"\",\"\",'Student Record'!J202)","v":""},{"$f":"IF('Student Record'!D204=\"\",\"\",'Student Record'!D204)","v":""},{"$f":"IF('Student Record'!T202=\"\",\"\",'Student Record'!T202)","v":""},{"$f":"IF('Student Record'!V202=\"\",\"\",'Student Record'!V202)","v":""},{"$f":"IF('Student Record'!W204=\"\",\"\",'Student Record'!W204)","v":""}]
[{"$f":"IF(Table1[[#This Row],[Name of Student]]=\"\",\"\",ROWS($A$1:A202))","v":""},{"$f":"IF('Student Record'!A203=\"\",\"\",'Student Record'!A203)","v":""},{"$f":"IF('Student Record'!C203=\"\",\"\",'Student Record'!C203)","v":""},{"$f":"IF('[1]Student Record'!K205=\"\",\"\",'[1]Student Record'!K205)","v":""},{"$f":"IF('Student Record'!E203=\"\",\"\",'Student Record'!E203)","v":""},{"$f":"IF('Student Record'!G203=\"\",\"\",'Student Record'!G203)","v":""},{"$f":"IF('Student Record'!H203=\"\",\"\",'Student Record'!H203)","v":""},{"$f":"IF('Student Record'!J203=\"\",\"\",'Student Record'!J203)","v":""},{"$f":"IF('Student Record'!D205=\"\",\"\",'Student Record'!D205)","v":""},{"$f":"IF('Student Record'!T203=\"\",\"\",'Student Record'!T203)","v":""},{"$f":"IF('Student Record'!V203=\"\",\"\",'Student Record'!V203)","v":""},{"$f":"IF('Student Record'!W205=\"\",\"\",'Student Record'!W205)","v":""}]
[{"$f":"IF(Table1[[#This Row],[Name of Student]]=\"\",\"\",ROWS($A$1:A203))","v":""},{"$f":"IF('Student Record'!A204=\"\",\"\",'Student Record'!A204)","v":""},{"$f":"IF('Student Record'!C204=\"\",\"\",'Student Record'!C204)","v":""},{"$f":"IF('[1]Student Record'!K206=\"\",\"\",'[1]Student Record'!K206)","v":""},{"$f":"IF('Student Record'!E204=\"\",\"\",'Student Record'!E204)","v":""},{"$f":"IF('Student Record'!G204=\"\",\"\",'Student Record'!G204)","v":""},{"$f":"IF('Student Record'!H204=\"\",\"\",'Student Record'!H204)","v":""},{"$f":"IF('Student Record'!J204=\"\",\"\",'Student Record'!J204)","v":""},{"$f":"IF('Student Record'!D206=\"\",\"\",'Student Record'!D206)","v":""},{"$f":"IF('Student Record'!T204=\"\",\"\",'Student Record'!T204)","v":""},{"$f":"IF('Student Record'!V204=\"\",\"\",'Student Record'!V204)","v":""},{"$f":"IF('Student Record'!W206=\"\",\"\",'Student Record'!W206)","v":""}]
[{"$f":"IF(Table1[[#This Row],[Name of Student]]=\"\",\"\",ROWS($A$1:A204))","v":""},{"$f":"IF('Student Record'!A205=\"\",\"\",'Student Record'!A205)","v":""},{"$f":"IF('Student Record'!C205=\"\",\"\",'Student Record'!C205)","v":""},{"$f":"IF('[1]Student Record'!K207=\"\",\"\",'[1]Student Record'!K207)","v":""},{"$f":"IF('Student Record'!E205=\"\",\"\",'Student Record'!E205)","v":""},{"$f":"IF('Student Record'!G205=\"\",\"\",'Student Record'!G205)","v":""},{"$f":"IF('Student Record'!H205=\"\",\"\",'Student Record'!H205)","v":""},{"$f":"IF('Student Record'!J205=\"\",\"\",'Student Record'!J205)","v":""},{"$f":"IF('Student Record'!D207=\"\",\"\",'Student Record'!D207)","v":""},{"$f":"IF('Student Record'!T205=\"\",\"\",'Student Record'!T205)","v":""},{"$f":"IF('Student Record'!V205=\"\",\"\",'Student Record'!V205)","v":""},{"$f":"IF('Student Record'!W207=\"\",\"\",'Student Record'!W207)","v":""}]
[{"$f":"IF(Table1[[#This Row],[Name of Student]]=\"\",\"\",ROWS($A$1:A205))","v":""},{"$f":"IF('Student Record'!A206=\"\",\"\",'Student Record'!A206)","v":""},{"$f":"IF('Student Record'!C206=\"\",\"\",'Student Record'!C206)","v":""},{"$f":"IF('[1]Student Record'!K208=\"\",\"\",'[1]Student Record'!K208)","v":""},{"$f":"IF('Student Record'!E206=\"\",\"\",'Student Record'!E206)","v":""},{"$f":"IF('Student Record'!G206=\"\",\"\",'Student Record'!G206)","v":""},{"$f":"IF('Student Record'!H206=\"\",\"\",'Student Record'!H206)","v":""},{"$f":"IF('Student Record'!J206=\"\",\"\",'Student Record'!J206)","v":""},{"$f":"IF('Student Record'!D208=\"\",\"\",'Student Record'!D208)","v":""},{"$f":"IF('Student Record'!T206=\"\",\"\",'Student Record'!T206)","v":""},{"$f":"IF('Student Record'!V206=\"\",\"\",'Student Record'!V206)","v":""},{"$f":"IF('Student Record'!W208=\"\",\"\",'Student Record'!W208)","v":""}]
[{"$f":"IF(Table1[[#This Row],[Name of Student]]=\"\",\"\",ROWS($A$1:A206))","v":""},{"$f":"IF('Student Record'!A207=\"\",\"\",'Student Record'!A207)","v":""},{"$f":"IF('Student Record'!C207=\"\",\"\",'Student Record'!C207)","v":""},{"$f":"IF('[1]Student Record'!K209=\"\",\"\",'[1]Student Record'!K209)","v":""},{"$f":"IF('Student Record'!E207=\"\",\"\",'Student Record'!E207)","v":""},{"$f":"IF('Student Record'!G207=\"\",\"\",'Student Record'!G207)","v":""},{"$f":"IF('Student Record'!H207=\"\",\"\",'Student Record'!H207)","v":""},{"$f":"IF('Student Record'!J207=\"\",\"\",'Student Record'!J207)","v":""},{"$f":"IF('Student Record'!D209=\"\",\"\",'Student Record'!D209)","v":""},{"$f":"IF('Student Record'!T207=\"\",\"\",'Student Record'!T207)","v":""},{"$f":"IF('Student Record'!V207=\"\",\"\",'Student Record'!V207)","v":""},{"$f":"IF('Student Record'!W209=\"\",\"\",'Student Record'!W209)","v":""}]
[{"$f":"IF(Table1[[#This Row],[Name of Student]]=\"\",\"\",ROWS($A$1:A207))","v":""},{"$f":"IF('Student Record'!A208=\"\",\"\",'Student Record'!A208)","v":""},{"$f":"IF('Student Record'!C208=\"\",\"\",'Student Record'!C208)","v":""},{"$f":"IF('[1]Student Record'!K210=\"\",\"\",'[1]Student Record'!K210)","v":""},{"$f":"IF('Student Record'!E208=\"\",\"\",'Student Record'!E208)","v":""},{"$f":"IF('Student Record'!G208=\"\",\"\",'Student Record'!G208)","v":""},{"$f":"IF('Student Record'!H208=\"\",\"\",'Student Record'!H208)","v":""},{"$f":"IF('Student Record'!J208=\"\",\"\",'Student Record'!J208)","v":""},{"$f":"IF('Student Record'!D210=\"\",\"\",'Student Record'!D210)","v":""},{"$f":"IF('Student Record'!T208=\"\",\"\",'Student Record'!T208)","v":""},{"$f":"IF('Student Record'!V208=\"\",\"\",'Student Record'!V208)","v":""},{"$f":"IF('Student Record'!W210=\"\",\"\",'Student Record'!W210)","v":""}]
[{"$f":"IF(Table1[[#This Row],[Name of Student]]=\"\",\"\",ROWS($A$1:A208))","v":""},{"$f":"IF('Student Record'!A209=\"\",\"\",'Student Record'!A209)","v":""},{"$f":"IF('Student Record'!C209=\"\",\"\",'Student Record'!C209)","v":""},{"$f":"IF('[1]Student Record'!K211=\"\",\"\",'[1]Student Record'!K211)","v":""},{"$f":"IF('Student Record'!E209=\"\",\"\",'Student Record'!E209)","v":""},{"$f":"IF('Student Record'!G209=\"\",\"\",'Student Record'!G209)","v":""},{"$f":"IF('Student Record'!H209=\"\",\"\",'Student Record'!H209)","v":""},{"$f":"IF('Student Record'!J209=\"\",\"\",'Student Record'!J209)","v":""},{"$f":"IF('Student Record'!D211=\"\",\"\",'Student Record'!D211)","v":""},{"$f":"IF('Student Record'!T209=\"\",\"\",'Student Record'!T209)","v":""},{"$f":"IF('Student Record'!V209=\"\",\"\",'Student Record'!V209)","v":""},{"$f":"IF('Student Record'!W211=\"\",\"\",'Student Record'!W211)","v":""}]
[{"$f":"IF(Table1[[#This Row],[Name of Student]]=\"\",\"\",ROWS($A$1:A209))","v":""},{"$f":"IF('Student Record'!A210=\"\",\"\",'Student Record'!A210)","v":""},{"$f":"IF('Student Record'!C210=\"\",\"\",'Student Record'!C210)","v":""},{"$f":"IF('[1]Student Record'!K212=\"\",\"\",'[1]Student Record'!K212)","v":""},{"$f":"IF('Student Record'!E210=\"\",\"\",'Student Record'!E210)","v":""},{"$f":"IF('Student Record'!G210=\"\",\"\",'Student Record'!G210)","v":""},{"$f":"IF('Student Record'!H210=\"\",\"\",'Student Record'!H210)","v":""},{"$f":"IF('Student Record'!J210=\"\",\"\",'Student Record'!J210)","v":""},{"$f":"IF('Student Record'!D212=\"\",\"\",'Student Record'!D212)","v":""},{"$f":"IF('Student Record'!T210=\"\",\"\",'Student Record'!T210)","v":""},{"$f":"IF('Student Record'!V210=\"\",\"\",'Student Record'!V210)","v":""},{"$f":"IF('Student Record'!W212=\"\",\"\",'Student Record'!W212)","v":""}]
[{"$f":"IF(Table1[[#This Row],[Name of Student]]=\"\",\"\",ROWS($A$1:A210))","v":""},{"$f":"IF('Student Record'!A211=\"\",\"\",'Student Record'!A211)","v":""},{"$f":"IF('Student Record'!C211=\"\",\"\",'Student Record'!C211)","v":""},{"$f":"IF('[1]Student Record'!K213=\"\",\"\",'[1]Student Record'!K213)","v":""},{"$f":"IF('Student Record'!E211=\"\",\"\",'Student Record'!E211)","v":""},{"$f":"IF('Student Record'!G211=\"\",\"\",'Student Record'!G211)","v":""},{"$f":"IF('Student Record'!H211=\"\",\"\",'Student Record'!H211)","v":""},{"$f":"IF('Student Record'!J211=\"\",\"\",'Student Record'!J211)","v":""},{"$f":"IF('Student Record'!D213=\"\",\"\",'Student Record'!D213)","v":""},{"$f":"IF('Student Record'!T211=\"\",\"\",'Student Record'!T211)","v":""},{"$f":"IF('Student Record'!V211=\"\",\"\",'Student Record'!V211)","v":""},{"$f":"IF('Student Record'!W213=\"\",\"\",'Student Record'!W213)","v":""}]
[{"$f":"IF(Table1[[#This Row],[Name of Student]]=\"\",\"\",ROWS($A$1:A211))","v":""},{"$f":"IF('Student Record'!A212=\"\",\"\",'Student Record'!A212)","v":""},{"$f":"IF('Student Record'!C212=\"\",\"\",'Student Record'!C212)","v":""},{"$f":"IF('[1]Student Record'!K214=\"\",\"\",'[1]Student Record'!K214)","v":""},{"$f":"IF('Student Record'!E212=\"\",\"\",'Student Record'!E212)","v":""},{"$f":"IF('Student Record'!G212=\"\",\"\",'Student Record'!G212)","v":""},{"$f":"IF('Student Record'!H212=\"\",\"\",'Student Record'!H212)","v":""},{"$f":"IF('Student Record'!J212=\"\",\"\",'Student Record'!J212)","v":""},{"$f":"IF('Student Record'!D214=\"\",\"\",'Student Record'!D214)","v":""},{"$f":"IF('Student Record'!T212=\"\",\"\",'Student Record'!T212)","v":""},{"$f":"IF('Student Record'!V212=\"\",\"\",'Student Record'!V212)","v":""},{"$f":"IF('Student Record'!W214=\"\",\"\",'Student Record'!W214)","v":""}]
[{"$f":"IF(Table1[[#This Row],[Name of Student]]=\"\",\"\",ROWS($A$1:A212))","v":""},{"$f":"IF('Student Record'!A213=\"\",\"\",'Student Record'!A213)","v":""},{"$f":"IF('Student Record'!C213=\"\",\"\",'Student Record'!C213)","v":""},{"$f":"IF('[1]Student Record'!K215=\"\",\"\",'[1]Student Record'!K215)","v":""},{"$f":"IF('Student Record'!E213=\"\",\"\",'Student Record'!E213)","v":""},{"$f":"IF('Student Record'!G213=\"\",\"\",'Student Record'!G213)","v":""},{"$f":"IF('Student Record'!H213=\"\",\"\",'Student Record'!H213)","v":""},{"$f":"IF('Student Record'!J213=\"\",\"\",'Student Record'!J213)","v":""},{"$f":"IF('Student Record'!D215=\"\",\"\",'Student Record'!D215)","v":""},{"$f":"IF('Student Record'!T213=\"\",\"\",'Student Record'!T213)","v":""},{"$f":"IF('Student Record'!V213=\"\",\"\",'Student Record'!V213)","v":""},{"$f":"IF('Student Record'!W215=\"\",\"\",'Student Record'!W215)","v":""}]
[{"$f":"IF(Table1[[#This Row],[Name of Student]]=\"\",\"\",ROWS($A$1:A213))","v":""},{"$f":"IF('Student Record'!A214=\"\",\"\",'Student Record'!A214)","v":""},{"$f":"IF('Student Record'!C214=\"\",\"\",'Student Record'!C214)","v":""},{"$f":"IF('[1]Student Record'!K216=\"\",\"\",'[1]Student Record'!K216)","v":""},{"$f":"IF('Student Record'!E214=\"\",\"\",'Student Record'!E214)","v":""},{"$f":"IF('Student Record'!G214=\"\",\"\",'Student Record'!G214)","v":""},{"$f":"IF('Student Record'!H214=\"\",\"\",'Student Record'!H214)","v":""},{"$f":"IF('Student Record'!J214=\"\",\"\",'Student Record'!J214)","v":""},{"$f":"IF('Student Record'!D216=\"\",\"\",'Student Record'!D216)","v":""},{"$f":"IF('Student Record'!T214=\"\",\"\",'Student Record'!T214)","v":""},{"$f":"IF('Student Record'!V214=\"\",\"\",'Student Record'!V214)","v":""},{"$f":"IF('Student Record'!W216=\"\",\"\",'Student Record'!W216)","v":""}]
[{"$f":"IF(Table1[[#This Row],[Name of Student]]=\"\",\"\",ROWS($A$1:A214))","v":""},{"$f":"IF('Student Record'!A215=\"\",\"\",'Student Record'!A215)","v":""},{"$f":"IF('Student Record'!C215=\"\",\"\",'Student Record'!C215)","v":""},{"$f":"IF('[1]Student Record'!K217=\"\",\"\",'[1]Student Record'!K217)","v":""},{"$f":"IF('Student Record'!E215=\"\",\"\",'Student Record'!E215)","v":""},{"$f":"IF('Student Record'!G215=\"\",\"\",'Student Record'!G215)","v":""},{"$f":"IF('Student Record'!H215=\"\",\"\",'Student Record'!H215)","v":""},{"$f":"IF('Student Record'!J215=\"\",\"\",'Student Record'!J215)","v":""},{"$f":"IF('Student Record'!D217=\"\",\"\",'Student Record'!D217)","v":""},{"$f":"IF('Student Record'!T215=\"\",\"\",'Student Record'!T215)","v":""},{"$f":"IF('Student Record'!V215=\"\",\"\",'Student Record'!V215)","v":""},{"$f":"IF('Student Record'!W217=\"\",\"\",'Student Record'!W217)","v":""}]
[{"$f":"IF(Table1[[#This Row],[Name of Student]]=\"\",\"\",ROWS($A$1:A215))","v":""},{"$f":"IF('Student Record'!A216=\"\",\"\",'Student Record'!A216)","v":""},{"$f":"IF('Student Record'!C216=\"\",\"\",'Student Record'!C216)","v":""},{"$f":"IF('[1]Student Record'!K218=\"\",\"\",'[1]Student Record'!K218)","v":""},{"$f":"IF('Student Record'!E216=\"\",\"\",'Student Record'!E216)","v":""},{"$f":"IF('Student Record'!G216=\"\",\"\",'Student Record'!G216)","v":""},{"$f":"IF('Student Record'!H216=\"\",\"\",'Student Record'!H216)","v":""},{"$f":"IF('Student Record'!J216=\"\",\"\",'Student Record'!J216)","v":""},{"$f":"IF('Student Record'!D218=\"\",\"\",'Student Record'!D218)","v":""},{"$f":"IF('Student Record'!T216=\"\",\"\",'Student Record'!T216)","v":""},{"$f":"IF('Student Record'!V216=\"\",\"\",'Student Record'!V216)","v":""},{"$f":"IF('Student Record'!W218=\"\",\"\",'Student Record'!W218)","v":""}]
[{"$f":"IF(Table1[[#This Row],[Name of Student]]=\"\",\"\",ROWS($A$1:A216))","v":""},{"$f":"IF('Student Record'!A217=\"\",\"\",'Student Record'!A217)","v":""},{"$f":"IF('Student Record'!C217=\"\",\"\",'Student Record'!C217)","v":""},{"$f":"IF('[1]Student Record'!K219=\"\",\"\",'[1]Student Record'!K219)","v":""},{"$f":"IF('Student Record'!E217=\"\",\"\",'Student Record'!E217)","v":""},{"$f":"IF('Student Record'!G217=\"\",\"\",'Student Record'!G217)","v":""},{"$f":"IF('Student Record'!H217=\"\",\"\",'Student Record'!H217)","v":""},{"$f":"IF('Student Record'!J217=\"\",\"\",'Student Record'!J217)","v":""},{"$f":"IF('Student Record'!D219=\"\",\"\",'Student Record'!D219)","v":""},{"$f":"IF('Student Record'!T217=\"\",\"\",'Student Record'!T217)","v":""},{"$f":"IF('Student Record'!V217=\"\",\"\",'Student Record'!V217)","v":""},{"$f":"IF('Student Record'!W219=\"\",\"\",'Student Record'!W219)","v":""}]
[{"$f":"IF(Table1[[#This Row],[Name of Student]]=\"\",\"\",ROWS($A$1:A217))","v":""},{"$f":"IF('Student Record'!A218=\"\",\"\",'Student Record'!A218)","v":""},{"$f":"IF('Student Record'!C218=\"\",\"\",'Student Record'!C218)","v":""},{"$f":"IF('[1]Student Record'!K220=\"\",\"\",'[1]Student Record'!K220)","v":""},{"$f":"IF('Student Record'!E218=\"\",\"\",'Student Record'!E218)","v":""},{"$f":"IF('Student Record'!G218=\"\",\"\",'Student Record'!G218)","v":""},{"$f":"IF('Student Record'!H218=\"\",\"\",'Student Record'!H218)","v":""},{"$f":"IF('Student Record'!J218=\"\",\"\",'Student Record'!J218)","v":""},{"$f":"IF('Student Record'!D220=\"\",\"\",'Student Record'!D220)","v":""},{"$f":"IF('Student Record'!T218=\"\",\"\",'Student Record'!T218)","v":""},{"$f":"IF('Student Record'!V218=\"\",\"\",'Student Record'!V218)","v":""},{"$f":"IF('Student Record'!W220=\"\",\"\",'Student Record'!W220)","v":""}]
[{"$f":"IF(Table1[[#This Row],[Name of Student]]=\"\",\"\",ROWS($A$1:A218))","v":""},{"$f":"IF('Student Record'!A219=\"\",\"\",'Student Record'!A219)","v":""},{"$f":"IF('Student Record'!C219=\"\",\"\",'Student Record'!C219)","v":""},{"$f":"IF('[1]Student Record'!K221=\"\",\"\",'[1]Student Record'!K221)","v":""},{"$f":"IF('Student Record'!E219=\"\",\"\",'Student Record'!E219)","v":""},{"$f":"IF('Student Record'!G219=\"\",\"\",'Student Record'!G219)","v":""},{"$f":"IF('Student Record'!H219=\"\",\"\",'Student Record'!H219)","v":""},{"$f":"IF('Student Record'!J219=\"\",\"\",'Student Record'!J219)","v":""},{"$f":"IF('Student Record'!D221=\"\",\"\",'Student Record'!D221)","v":""},{"$f":"IF('Student Record'!T219=\"\",\"\",'Student Record'!T219)","v":""},{"$f":"IF('Student Record'!V219=\"\",\"\",'Student Record'!V219)","v":""},{"$f":"IF('Student Record'!W221=\"\",\"\",'Student Record'!W221)","v":""}]
[{"$f":"IF(Table1[[#This Row],[Name of Student]]=\"\",\"\",ROWS($A$1:A219))","v":""},{"$f":"IF('Student Record'!A220=\"\",\"\",'Student Record'!A220)","v":""},{"$f":"IF('Student Record'!C220=\"\",\"\",'Student Record'!C220)","v":""},{"$f":"IF('[1]Student Record'!K222=\"\",\"\",'[1]Student Record'!K222)","v":""},{"$f":"IF('Student Record'!E220=\"\",\"\",'Student Record'!E220)","v":""},{"$f":"IF('Student Record'!G220=\"\",\"\",'Student Record'!G220)","v":""},{"$f":"IF('Student Record'!H220=\"\",\"\",'Student Record'!H220)","v":""},{"$f":"IF('Student Record'!J220=\"\",\"\",'Student Record'!J220)","v":""},{"$f":"IF('Student Record'!D222=\"\",\"\",'Student Record'!D222)","v":""},{"$f":"IF('Student Record'!T220=\"\",\"\",'Student Record'!T220)","v":""},{"$f":"IF('Student Record'!V220=\"\",\"\",'Student Record'!V220)","v":""},{"$f":"IF('Student Record'!W222=\"\",\"\",'Student Record'!W222)","v":""}]
[{"$f":"IF(Table1[[#This Row],[Name of Student]]=\"\",\"\",ROWS($A$1:A220))","v":""},{"$f":"IF('Student Record'!A221=\"\",\"\",'Student Record'!A221)","v":""},{"$f":"IF('Student Record'!C221=\"\",\"\",'Student Record'!C221)","v":""},{"$f":"IF('[1]Student Record'!K223=\"\",\"\",'[1]Student Record'!K223)","v":""},{"$f":"IF('Student Record'!E221=\"\",\"\",'Student Record'!E221)","v":""},{"$f":"IF('Student Record'!G221=\"\",\"\",'Student Record'!G221)","v":""},{"$f":"IF('Student Record'!H221=\"\",\"\",'Student Record'!H221)","v":""},{"$f":"IF('Student Record'!J221=\"\",\"\",'Student Record'!J221)","v":""},{"$f":"IF('Student Record'!D223=\"\",\"\",'Student Record'!D223)","v":""},{"$f":"IF('Student Record'!T221=\"\",\"\",'Student Record'!T221)","v":""},{"$f":"IF('Student Record'!V221=\"\",\"\",'Student Record'!V221)","v":""},{"$f":"IF('Student Record'!W223=\"\",\"\",'Student Record'!W223)","v":""}]
[{"$f":"IF(Table1[[#This Row],[Name of Student]]=\"\",\"\",ROWS($A$1:A221))","v":""},{"$f":"IF('Student Record'!A222=\"\",\"\",'Student Record'!A222)","v":""},{"$f":"IF('Student Record'!C222=\"\",\"\",'Student Record'!C222)","v":""},{"$f":"IF('[1]Student Record'!K224=\"\",\"\",'[1]Student Record'!K224)","v":""},{"$f":"IF('Student Record'!E222=\"\",\"\",'Student Record'!E222)","v":""},{"$f":"IF('Student Record'!G222=\"\",\"\",'Student Record'!G222)","v":""},{"$f":"IF('Student Record'!H222=\"\",\"\",'Student Record'!H222)","v":""},{"$f":"IF('Student Record'!J222=\"\",\"\",'Student Record'!J222)","v":""},{"$f":"IF('Student Record'!D224=\"\",\"\",'Student Record'!D224)","v":""},{"$f":"IF('Student Record'!T222=\"\",\"\",'Student Record'!T222)","v":""},{"$f":"IF('Student Record'!V222=\"\",\"\",'Student Record'!V222)","v":""},{"$f":"IF('Student Record'!W224=\"\",\"\",'Student Record'!W224)","v":""}]
[{"$f":"IF(Table1[[#This Row],[Name of Student]]=\"\",\"\",ROWS($A$1:A222))","v":""},{"$f":"IF('Student Record'!A223=\"\",\"\",'Student Record'!A223)","v":""},{"$f":"IF('Student Record'!C223=\"\",\"\",'Student Record'!C223)","v":""},{"$f":"IF('[1]Student Record'!K225=\"\",\"\",'[1]Student Record'!K225)","v":""},{"$f":"IF('Student Record'!E223=\"\",\"\",'Student Record'!E223)","v":""},{"$f":"IF('Student Record'!G223=\"\",\"\",'Student Record'!G223)","v":""},{"$f":"IF('Student Record'!H223=\"\",\"\",'Student Record'!H223)","v":""},{"$f":"IF('Student Record'!J223=\"\",\"\",'Student Record'!J223)","v":""},{"$f":"IF('Student Record'!D225=\"\",\"\",'Student Record'!D225)","v":""},{"$f":"IF('Student Record'!T223=\"\",\"\",'Student Record'!T223)","v":""},{"$f":"IF('Student Record'!V223=\"\",\"\",'Student Record'!V223)","v":""},{"$f":"IF('Student Record'!W225=\"\",\"\",'Student Record'!W225)","v":""}]
[{"$f":"IF(Table1[[#This Row],[Name of Student]]=\"\",\"\",ROWS($A$1:A223))","v":""},{"$f":"IF('Student Record'!A224=\"\",\"\",'Student Record'!A224)","v":""},{"$f":"IF('Student Record'!C224=\"\",\"\",'Student Record'!C224)","v":""},{"$f":"IF('[1]Student Record'!K226=\"\",\"\",'[1]Student Record'!K226)","v":""},{"$f":"IF('Student Record'!E224=\"\",\"\",'Student Record'!E224)","v":""},{"$f":"IF('Student Record'!G224=\"\",\"\",'Student Record'!G224)","v":""},{"$f":"IF('Student Record'!H224=\"\",\"\",'Student Record'!H224)","v":""},{"$f":"IF('Student Record'!J224=\"\",\"\",'Student Record'!J224)","v":""},{"$f":"IF('Student Record'!D226=\"\",\"\",'Student Record'!D226)","v":""},{"$f":"IF('Student Record'!T224=\"\",\"\",'Student Record'!T224)","v":""},{"$f":"IF('Student Record'!V224=\"\",\"\",'Student Record'!V224)","v":""},{"$f":"IF('Student Record'!W226=\"\",\"\",'Student Record'!W226)","v":""}]
[{"$f":"IF(Table1[[#This Row],[Name of Student]]=\"\",\"\",ROWS($A$1:A224))","v":""},{"$f":"IF('Student Record'!A225=\"\",\"\",'Student Record'!A225)","v":""},{"$f":"IF('Student Record'!C225=\"\",\"\",'Student Record'!C225)","v":""},{"$f":"IF('[1]Student Record'!K227=\"\",\"\",'[1]Student Record'!K227)","v":""},{"$f":"IF('Student Record'!E225=\"\",\"\",'Student Record'!E225)","v":""},{"$f":"IF('Student Record'!G225=\"\",\"\",'Student Record'!G225)","v":""},{"$f":"IF('Student Record'!H225=\"\",\"\",'Student Record'!H225)","v":""},{"$f":"IF('Student Record'!J225=\"\",\"\",'Student Record'!J225)","v":""},{"$f":"IF('Student Record'!D227=\"\",\"\",'Student Record'!D227)","v":""},{"$f":"IF('Student Record'!T225=\"\",\"\",'Student Record'!T225)","v":""},{"$f":"IF('Student Record'!V225=\"\",\"\",'Student Record'!V225)","v":""},{"$f":"IF('Student Record'!W227=\"\",\"\",'Student Record'!W227)","v":""}]
[{"$f":"IF(Table1[[#This Row],[Name of Student]]=\"\",\"\",ROWS($A$1:A225))","v":""},{"$f":"IF('Student Record'!A226=\"\",\"\",'Student Record'!A226)","v":""},{"$f":"IF('Student Record'!C226=\"\",\"\",'Student Record'!C226)","v":""},{"$f":"IF('[1]Student Record'!K228=\"\",\"\",'[1]Student Record'!K228)","v":""},{"$f":"IF('Student Record'!E226=\"\",\"\",'Student Record'!E226)","v":""},{"$f":"IF('Student Record'!G226=\"\",\"\",'Student Record'!G226)","v":""},{"$f":"IF('Student Record'!H226=\"\",\"\",'Student Record'!H226)","v":""},{"$f":"IF('Student Record'!J226=\"\",\"\",'Student Record'!J226)","v":""},{"$f":"IF('Student Record'!D228=\"\",\"\",'Student Record'!D228)","v":""},{"$f":"IF('Student Record'!T226=\"\",\"\",'Student Record'!T226)","v":""},{"$f":"IF('Student Record'!V226=\"\",\"\",'Student Record'!V226)","v":""},{"$f":"IF('Student Record'!W228=\"\",\"\",'Student Record'!W228)","v":""}]
[{"$f":"IF(Table1[[#This Row],[Name of Student]]=\"\",\"\",ROWS($A$1:A226))","v":""},{"$f":"IF('Student Record'!A227=\"\",\"\",'Student Record'!A227)","v":""},{"$f":"IF('Student Record'!C227=\"\",\"\",'Student Record'!C227)","v":""},{"$f":"IF('[1]Student Record'!K229=\"\",\"\",'[1]Student Record'!K229)","v":""},{"$f":"IF('Student Record'!E227=\"\",\"\",'Student Record'!E227)","v":""},{"$f":"IF('Student Record'!G227=\"\",\"\",'Student Record'!G227)","v":""},{"$f":"IF('Student Record'!H227=\"\",\"\",'Student Record'!H227)","v":""},{"$f":"IF('Student Record'!J227=\"\",\"\",'Student Record'!J227)","v":""},{"$f":"IF('Student Record'!D229=\"\",\"\",'Student Record'!D229)","v":""},{"$f":"IF('Student Record'!T227=\"\",\"\",'Student Record'!T227)","v":""},{"$f":"IF('Student Record'!V227=\"\",\"\",'Student Record'!V227)","v":""},{"$f":"IF('Student Record'!W229=\"\",\"\",'Student Record'!W229)","v":""}]
[{"$f":"IF(Table1[[#This Row],[Name of Student]]=\"\",\"\",ROWS($A$1:A227))","v":""},{"$f":"IF('Student Record'!A228=\"\",\"\",'Student Record'!A228)","v":""},{"$f":"IF('Student Record'!C228=\"\",\"\",'Student Record'!C228)","v":""},{"$f":"IF('[1]Student Record'!K230=\"\",\"\",'[1]Student Record'!K230)","v":""},{"$f":"IF('Student Record'!E228=\"\",\"\",'Student Record'!E228)","v":""},{"$f":"IF('Student Record'!G228=\"\",\"\",'Student Record'!G228)","v":""},{"$f":"IF('Student Record'!H228=\"\",\"\",'Student Record'!H228)","v":""},{"$f":"IF('Student Record'!J228=\"\",\"\",'Student Record'!J228)","v":""},{"$f":"IF('Student Record'!D230=\"\",\"\",'Student Record'!D230)","v":""},{"$f":"IF('Student Record'!T228=\"\",\"\",'Student Record'!T228)","v":""},{"$f":"IF('Student Record'!V228=\"\",\"\",'Student Record'!V228)","v":""},{"$f":"IF('Student Record'!W230=\"\",\"\",'Student Record'!W230)","v":""}]
[{"$f":"IF(Table1[[#This Row],[Name of Student]]=\"\",\"\",ROWS($A$1:A228))","v":""},{"$f":"IF('Student Record'!A229=\"\",\"\",'Student Record'!A229)","v":""},{"$f":"IF('Student Record'!C229=\"\",\"\",'Student Record'!C229)","v":""},{"$f":"IF('[1]Student Record'!K231=\"\",\"\",'[1]Student Record'!K231)","v":""},{"$f":"IF('Student Record'!E229=\"\",\"\",'Student Record'!E229)","v":""},{"$f":"IF('Student Record'!G229=\"\",\"\",'Student Record'!G229)","v":""},{"$f":"IF('Student Record'!H229=\"\",\"\",'Student Record'!H229)","v":""},{"$f":"IF('Student Record'!J229=\"\",\"\",'Student Record'!J229)","v":""},{"$f":"IF('Student Record'!D231=\"\",\"\",'Student Record'!D231)","v":""},{"$f":"IF('Student Record'!T229=\"\",\"\",'Student Record'!T229)","v":""},{"$f":"IF('Student Record'!V229=\"\",\"\",'Student Record'!V229)","v":""},{"$f":"IF('Student Record'!W231=\"\",\"\",'Student Record'!W231)","v":""}]
[{"$f":"IF(Table1[[#This Row],[Name of Student]]=\"\",\"\",ROWS($A$1:A229))","v":""},{"$f":"IF('Student Record'!A230=\"\",\"\",'Student Record'!A230)","v":""},{"$f":"IF('Student Record'!C230=\"\",\"\",'Student Record'!C230)","v":""},{"$f":"IF('[1]Student Record'!K232=\"\",\"\",'[1]Student Record'!K232)","v":""},{"$f":"IF('Student Record'!E230=\"\",\"\",'Student Record'!E230)","v":""},{"$f":"IF('Student Record'!G230=\"\",\"\",'Student Record'!G230)","v":""},{"$f":"IF('Student Record'!H230=\"\",\"\",'Student Record'!H230)","v":""},{"$f":"IF('Student Record'!J230=\"\",\"\",'Student Record'!J230)","v":""},{"$f":"IF('Student Record'!D232=\"\",\"\",'Student Record'!D232)","v":""},{"$f":"IF('Student Record'!T230=\"\",\"\",'Student Record'!T230)","v":""},{"$f":"IF('Student Record'!V230=\"\",\"\",'Student Record'!V230)","v":""},{"$f":"IF('Student Record'!W232=\"\",\"\",'Student Record'!W232)","v":""}]
[{"$f":"IF(Table1[[#This Row],[Name of Student]]=\"\",\"\",ROWS($A$1:A230))","v":""},{"$f":"IF('Student Record'!A231=\"\",\"\",'Student Record'!A231)","v":""},{"$f":"IF('Student Record'!C231=\"\",\"\",'Student Record'!C231)","v":""},{"$f":"IF('[1]Student Record'!K233=\"\",\"\",'[1]Student Record'!K233)","v":""},{"$f":"IF('Student Record'!E231=\"\",\"\",'Student Record'!E231)","v":""},{"$f":"IF('Student Record'!G231=\"\",\"\",'Student Record'!G231)","v":""},{"$f":"IF('Student Record'!H231=\"\",\"\",'Student Record'!H231)","v":""},{"$f":"IF('Student Record'!J231=\"\",\"\",'Student Record'!J231)","v":""},{"$f":"IF('Student Record'!D233=\"\",\"\",'Student Record'!D233)","v":""},{"$f":"IF('Student Record'!T231=\"\",\"\",'Student Record'!T231)","v":""},{"$f":"IF('Student Record'!V231=\"\",\"\",'Student Record'!V231)","v":""},{"$f":"IF('Student Record'!W233=\"\",\"\",'Student Record'!W233)","v":""}]
[{"$f":"IF(Table1[[#This Row],[Name of Student]]=\"\",\"\",ROWS($A$1:A231))","v":""},{"$f":"IF('Student Record'!A232=\"\",\"\",'Student Record'!A232)","v":""},{"$f":"IF('Student Record'!C232=\"\",\"\",'Student Record'!C232)","v":""},{"$f":"IF('[1]Student Record'!K234=\"\",\"\",'[1]Student Record'!K234)","v":""},{"$f":"IF('Student Record'!E232=\"\",\"\",'Student Record'!E232)","v":""},{"$f":"IF('Student Record'!G232=\"\",\"\",'Student Record'!G232)","v":""},{"$f":"IF('Student Record'!H232=\"\",\"\",'Student Record'!H232)","v":""},{"$f":"IF('Student Record'!J232=\"\",\"\",'Student Record'!J232)","v":""},{"$f":"IF('Student Record'!D234=\"\",\"\",'Student Record'!D234)","v":""},{"$f":"IF('Student Record'!T232=\"\",\"\",'Student Record'!T232)","v":""},{"$f":"IF('Student Record'!V232=\"\",\"\",'Student Record'!V232)","v":""},{"$f":"IF('Student Record'!W234=\"\",\"\",'Student Record'!W234)","v":""}]
[{"$f":"IF(Table1[[#This Row],[Name of Student]]=\"\",\"\",ROWS($A$1:A232))","v":""},{"$f":"IF('Student Record'!A233=\"\",\"\",'Student Record'!A233)","v":""},{"$f":"IF('Student Record'!C233=\"\",\"\",'Student Record'!C233)","v":""},{"$f":"IF('[1]Student Record'!K235=\"\",\"\",'[1]Student Record'!K235)","v":""},{"$f":"IF('Student Record'!E233=\"\",\"\",'Student Record'!E233)","v":""},{"$f":"IF('Student Record'!G233=\"\",\"\",'Student Record'!G233)","v":""},{"$f":"IF('Student Record'!H233=\"\",\"\",'Student Record'!H233)","v":""},{"$f":"IF('Student Record'!J233=\"\",\"\",'Student Record'!J233)","v":""},{"$f":"IF('Student Record'!D235=\"\",\"\",'Student Record'!D235)","v":""},{"$f":"IF('Student Record'!T233=\"\",\"\",'Student Record'!T233)","v":""},{"$f":"IF('Student Record'!V233=\"\",\"\",'Student Record'!V233)","v":""},{"$f":"IF('Student Record'!W235=\"\",\"\",'Student Record'!W235)","v":""}]
[{"$f":"IF(Table1[[#This Row],[Name of Student]]=\"\",\"\",ROWS($A$1:A233))","v":""},{"$f":"IF('Student Record'!A234=\"\",\"\",'Student Record'!A234)","v":""},{"$f":"IF('Student Record'!C234=\"\",\"\",'Student Record'!C234)","v":""},{"$f":"IF('[1]Student Record'!K236=\"\",\"\",'[1]Student Record'!K236)","v":""},{"$f":"IF('Student Record'!E234=\"\",\"\",'Student Record'!E234)","v":""},{"$f":"IF('Student Record'!G234=\"\",\"\",'Student Record'!G234)","v":""},{"$f":"IF('Student Record'!H234=\"\",\"\",'Student Record'!H234)","v":""},{"$f":"IF('Student Record'!J234=\"\",\"\",'Student Record'!J234)","v":""},{"$f":"IF('Student Record'!D236=\"\",\"\",'Student Record'!D236)","v":""},{"$f":"IF('Student Record'!T234=\"\",\"\",'Student Record'!T234)","v":""},{"$f":"IF('Student Record'!V234=\"\",\"\",'Student Record'!V234)","v":""},{"$f":"IF('Student Record'!W236=\"\",\"\",'Student Record'!W236)","v":""}]
[{"$f":"IF(Table1[[#This Row],[Name of Student]]=\"\",\"\",ROWS($A$1:A234))","v":""},{"$f":"IF('Student Record'!A235=\"\",\"\",'Student Record'!A235)","v":""},{"$f":"IF('Student Record'!C235=\"\",\"\",'Student Record'!C235)","v":""},{"$f":"IF('[1]Student Record'!K237=\"\",\"\",'[1]Student Record'!K237)","v":""},{"$f":"IF('Student Record'!E235=\"\",\"\",'Student Record'!E235)","v":""},{"$f":"IF('Student Record'!G235=\"\",\"\",'Student Record'!G235)","v":""},{"$f":"IF('Student Record'!H235=\"\",\"\",'Student Record'!H235)","v":""},{"$f":"IF('Student Record'!J235=\"\",\"\",'Student Record'!J235)","v":""},{"$f":"IF('Student Record'!D237=\"\",\"\",'Student Record'!D237)","v":""},{"$f":"IF('Student Record'!T235=\"\",\"\",'Student Record'!T235)","v":""},{"$f":"IF('Student Record'!V235=\"\",\"\",'Student Record'!V235)","v":""},{"$f":"IF('Student Record'!W237=\"\",\"\",'Student Record'!W237)","v":""}]
[{"$f":"IF(Table1[[#This Row],[Name of Student]]=\"\",\"\",ROWS($A$1:A235))","v":""},{"$f":"IF('Student Record'!A236=\"\",\"\",'Student Record'!A236)","v":""},{"$f":"IF('Student Record'!C236=\"\",\"\",'Student Record'!C236)","v":""},{"$f":"IF('[1]Student Record'!K238=\"\",\"\",'[1]Student Record'!K238)","v":""},{"$f":"IF('Student Record'!E236=\"\",\"\",'Student Record'!E236)","v":""},{"$f":"IF('Student Record'!G236=\"\",\"\",'Student Record'!G236)","v":""},{"$f":"IF('Student Record'!H236=\"\",\"\",'Student Record'!H236)","v":""},{"$f":"IF('Student Record'!J236=\"\",\"\",'Student Record'!J236)","v":""},{"$f":"IF('Student Record'!D238=\"\",\"\",'Student Record'!D238)","v":""},{"$f":"IF('Student Record'!T236=\"\",\"\",'Student Record'!T236)","v":""},{"$f":"IF('Student Record'!V236=\"\",\"\",'Student Record'!V236)","v":""},{"$f":"IF('Student Record'!W238=\"\",\"\",'Student Record'!W238)","v":""}]
[{"$f":"IF(Table1[[#This Row],[Name of Student]]=\"\",\"\",ROWS($A$1:A236))","v":""},{"$f":"IF('Student Record'!A237=\"\",\"\",'Student Record'!A237)","v":""},{"$f":"IF('Student Record'!C237=\"\",\"\",'Student Record'!C237)","v":""},{"$f":"IF('[1]Student Record'!K239=\"\",\"\",'[1]Student Record'!K239)","v":""},{"$f":"IF('Student Record'!E237=\"\",\"\",'Student Record'!E237)","v":""},{"$f":"IF('Student Record'!G237=\"\",\"\",'Student Record'!G237)","v":""},{"$f":"IF('Student Record'!H237=\"\",\"\",'Student Record'!H237)","v":""},{"$f":"IF('Student Record'!J237=\"\",\"\",'Student Record'!J237)","v":""},{"$f":"IF('Student Record'!D239=\"\",\"\",'Student Record'!D239)","v":""},{"$f":"IF('Student Record'!T237=\"\",\"\",'Student Record'!T237)","v":""},{"$f":"IF('Student Record'!V237=\"\",\"\",'Student Record'!V237)","v":""},{"$f":"IF('Student Record'!W239=\"\",\"\",'Student Record'!W239)","v":""}]
[{"$f":"IF(Table1[[#This Row],[Name of Student]]=\"\",\"\",ROWS($A$1:A237))","v":""},{"$f":"IF('Student Record'!A238=\"\",\"\",'Student Record'!A238)","v":""},{"$f":"IF('Student Record'!C238=\"\",\"\",'Student Record'!C238)","v":""},{"$f":"IF('[1]Student Record'!K240=\"\",\"\",'[1]Student Record'!K240)","v":""},{"$f":"IF('Student Record'!E238=\"\",\"\",'Student Record'!E238)","v":""},{"$f":"IF('Student Record'!G238=\"\",\"\",'Student Record'!G238)","v":""},{"$f":"IF('Student Record'!H238=\"\",\"\",'Student Record'!H238)","v":""},{"$f":"IF('Student Record'!J238=\"\",\"\",'Student Record'!J238)","v":""},{"$f":"IF('Student Record'!D240=\"\",\"\",'Student Record'!D240)","v":""},{"$f":"IF('Student Record'!T238=\"\",\"\",'Student Record'!T238)","v":""},{"$f":"IF('Student Record'!V238=\"\",\"\",'Student Record'!V238)","v":""},{"$f":"IF('Student Record'!W240=\"\",\"\",'Student Record'!W240)","v":""}]
[{"$f":"IF(Table1[[#This Row],[Name of Student]]=\"\",\"\",ROWS($A$1:A238))","v":""},{"$f":"IF('Student Record'!A239=\"\",\"\",'Student Record'!A239)","v":""},{"$f":"IF('Student Record'!C239=\"\",\"\",'Student Record'!C239)","v":""},{"$f":"IF('[1]Student Record'!K241=\"\",\"\",'[1]Student Record'!K241)","v":""},{"$f":"IF('Student Record'!E239=\"\",\"\",'Student Record'!E239)","v":""},{"$f":"IF('Student Record'!G239=\"\",\"\",'Student Record'!G239)","v":""},{"$f":"IF('Student Record'!H239=\"\",\"\",'Student Record'!H239)","v":""},{"$f":"IF('Student Record'!J239=\"\",\"\",'Student Record'!J239)","v":""},{"$f":"IF('Student Record'!D241=\"\",\"\",'Student Record'!D241)","v":""},{"$f":"IF('Student Record'!T239=\"\",\"\",'Student Record'!T239)","v":""},{"$f":"IF('Student Record'!V239=\"\",\"\",'Student Record'!V239)","v":""},{"$f":"IF('Student Record'!W241=\"\",\"\",'Student Record'!W241)","v":""}]
[{"$f":"IF(Table1[[#This Row],[Name of Student]]=\"\",\"\",ROWS($A$1:A239))","v":""},{"$f":"IF('Student Record'!A240=\"\",\"\",'Student Record'!A240)","v":""},{"$f":"IF('Student Record'!C240=\"\",\"\",'Student Record'!C240)","v":""},{"$f":"IF('[1]Student Record'!K242=\"\",\"\",'[1]Student Record'!K242)","v":""},{"$f":"IF('Student Record'!E240=\"\",\"\",'Student Record'!E240)","v":""},{"$f":"IF('Student Record'!G240=\"\",\"\",'Student Record'!G240)","v":""},{"$f":"IF('Student Record'!H240=\"\",\"\",'Student Record'!H240)","v":""},{"$f":"IF('Student Record'!J240=\"\",\"\",'Student Record'!J240)","v":""},{"$f":"IF('Student Record'!D242=\"\",\"\",'Student Record'!D242)","v":""},{"$f":"IF('Student Record'!T240=\"\",\"\",'Student Record'!T240)","v":""},{"$f":"IF('Student Record'!V240=\"\",\"\",'Student Record'!V240)","v":""},{"$f":"IF('Student Record'!W242=\"\",\"\",'Student Record'!W242)","v":""}]
[{"$f":"IF(Table1[[#This Row],[Name of Student]]=\"\",\"\",ROWS($A$1:A240))","v":""},{"$f":"IF('Student Record'!A241=\"\",\"\",'Student Record'!A241)","v":""},{"$f":"IF('Student Record'!C241=\"\",\"\",'Student Record'!C241)","v":""},{"$f":"IF('[1]Student Record'!K243=\"\",\"\",'[1]Student Record'!K243)","v":""},{"$f":"IF('Student Record'!E241=\"\",\"\",'Student Record'!E241)","v":""},{"$f":"IF('Student Record'!G241=\"\",\"\",'Student Record'!G241)","v":""},{"$f":"IF('Student Record'!H241=\"\",\"\",'Student Record'!H241)","v":""},{"$f":"IF('Student Record'!J241=\"\",\"\",'Student Record'!J241)","v":""},{"$f":"IF('Student Record'!D243=\"\",\"\",'Student Record'!D243)","v":""},{"$f":"IF('Student Record'!T241=\"\",\"\",'Student Record'!T241)","v":""},{"$f":"IF('Student Record'!V241=\"\",\"\",'Student Record'!V241)","v":""},{"$f":"IF('Student Record'!W243=\"\",\"\",'Student Record'!W243)","v":""}]
[{"$f":"IF(Table1[[#This Row],[Name of Student]]=\"\",\"\",ROWS($A$1:A241))","v":""},{"$f":"IF('Student Record'!A242=\"\",\"\",'Student Record'!A242)","v":""},{"$f":"IF('Student Record'!C242=\"\",\"\",'Student Record'!C242)","v":""},{"$f":"IF('[1]Student Record'!K244=\"\",\"\",'[1]Student Record'!K244)","v":""},{"$f":"IF('Student Record'!E242=\"\",\"\",'Student Record'!E242)","v":""},{"$f":"IF('Student Record'!G242=\"\",\"\",'Student Record'!G242)","v":""},{"$f":"IF('Student Record'!H242=\"\",\"\",'Student Record'!H242)","v":""},{"$f":"IF('Student Record'!J242=\"\",\"\",'Student Record'!J242)","v":""},{"$f":"IF('Student Record'!D244=\"\",\"\",'Student Record'!D244)","v":""},{"$f":"IF('Student Record'!T242=\"\",\"\",'Student Record'!T242)","v":""},{"$f":"IF('Student Record'!V242=\"\",\"\",'Student Record'!V242)","v":""},{"$f":"IF('Student Record'!W244=\"\",\"\",'Student Record'!W244)","v":""}]
[{"$f":"IF(Table1[[#This Row],[Name of Student]]=\"\",\"\",ROWS($A$1:A242))","v":""},{"$f":"IF('Student Record'!A243=\"\",\"\",'Student Record'!A243)","v":""},{"$f":"IF('Student Record'!C243=\"\",\"\",'Student Record'!C243)","v":""},{"$f":"IF('[1]Student Record'!K245=\"\",\"\",'[1]Student Record'!K245)","v":""},{"$f":"IF('Student Record'!E243=\"\",\"\",'Student Record'!E243)","v":""},{"$f":"IF('Student Record'!G243=\"\",\"\",'Student Record'!G243)","v":""},{"$f":"IF('Student Record'!H243=\"\",\"\",'Student Record'!H243)","v":""},{"$f":"IF('Student Record'!J243=\"\",\"\",'Student Record'!J243)","v":""},{"$f":"IF('Student Record'!D245=\"\",\"\",'Student Record'!D245)","v":""},{"$f":"IF('Student Record'!T243=\"\",\"\",'Student Record'!T243)","v":""},{"$f":"IF('Student Record'!V243=\"\",\"\",'Student Record'!V243)","v":""},{"$f":"IF('Student Record'!W245=\"\",\"\",'Student Record'!W245)","v":""}]
[{"$f":"IF(Table1[[#This Row],[Name of Student]]=\"\",\"\",ROWS($A$1:A243))","v":""},{"$f":"IF('Student Record'!A244=\"\",\"\",'Student Record'!A244)","v":""},{"$f":"IF('Student Record'!C244=\"\",\"\",'Student Record'!C244)","v":""},{"$f":"IF('[1]Student Record'!K246=\"\",\"\",'[1]Student Record'!K246)","v":""},{"$f":"IF('Student Record'!E244=\"\",\"\",'Student Record'!E244)","v":""},{"$f":"IF('Student Record'!G244=\"\",\"\",'Student Record'!G244)","v":""},{"$f":"IF('Student Record'!H244=\"\",\"\",'Student Record'!H244)","v":""},{"$f":"IF('Student Record'!J244=\"\",\"\",'Student Record'!J244)","v":""},{"$f":"IF('Student Record'!D246=\"\",\"\",'Student Record'!D246)","v":""},{"$f":"IF('Student Record'!T244=\"\",\"\",'Student Record'!T244)","v":""},{"$f":"IF('Student Record'!V244=\"\",\"\",'Student Record'!V244)","v":""},{"$f":"IF('Student Record'!W246=\"\",\"\",'Student Record'!W246)","v":""}]
[{"$f":"IF(Table1[[#This Row],[Name of Student]]=\"\",\"\",ROWS($A$1:A244))","v":""},{"$f":"IF('Student Record'!A245=\"\",\"\",'Student Record'!A245)","v":""},{"$f":"IF('Student Record'!C245=\"\",\"\",'Student Record'!C245)","v":""},{"$f":"IF('[1]Student Record'!K247=\"\",\"\",'[1]Student Record'!K247)","v":""},{"$f":"IF('Student Record'!E245=\"\",\"\",'Student Record'!E245)","v":""},{"$f":"IF('Student Record'!G245=\"\",\"\",'Student Record'!G245)","v":""},{"$f":"IF('Student Record'!H245=\"\",\"\",'Student Record'!H245)","v":""},{"$f":"IF('Student Record'!J245=\"\",\"\",'Student Record'!J245)","v":""},{"$f":"IF('Student Record'!D247=\"\",\"\",'Student Record'!D247)","v":""},{"$f":"IF('Student Record'!T245=\"\",\"\",'Student Record'!T245)","v":""},{"$f":"IF('Student Record'!V245=\"\",\"\",'Student Record'!V245)","v":""},{"$f":"IF('Student Record'!W247=\"\",\"\",'Student Record'!W247)","v":""}]
[{"$f":"IF(Table1[[#This Row],[Name of Student]]=\"\",\"\",ROWS($A$1:A245))","v":""},{"$f":"IF('Student Record'!A246=\"\",\"\",'Student Record'!A246)","v":""},{"$f":"IF('Student Record'!C246=\"\",\"\",'Student Record'!C246)","v":""},{"$f":"IF('[1]Student Record'!K248=\"\",\"\",'[1]Student Record'!K248)","v":""},{"$f":"IF('Student Record'!E246=\"\",\"\",'Student Record'!E246)","v":""},{"$f":"IF('Student Record'!G246=\"\",\"\",'Student Record'!G246)","v":""},{"$f":"IF('Student Record'!H246=\"\",\"\",'Student Record'!H246)","v":""},{"$f":"IF('Student Record'!J246=\"\",\"\",'Student Record'!J246)","v":""},{"$f":"IF('Student Record'!D248=\"\",\"\",'Student Record'!D248)","v":""},{"$f":"IF('Student Record'!T246=\"\",\"\",'Student Record'!T246)","v":""},{"$f":"IF('Student Record'!V246=\"\",\"\",'Student Record'!V246)","v":""},{"$f":"IF('Student Record'!W248=\"\",\"\",'Student Record'!W248)","v":""}]
[{"$f":"IF(Table1[[#This Row],[Name of Student]]=\"\",\"\",ROWS($A$1:A246))","v":""},{"$f":"IF('Student Record'!A247=\"\",\"\",'Student Record'!A247)","v":""},{"$f":"IF('Student Record'!C247=\"\",\"\",'Student Record'!C247)","v":""},{"$f":"IF('[1]Student Record'!K249=\"\",\"\",'[1]Student Record'!K249)","v":""},{"$f":"IF('Student Record'!E247=\"\",\"\",'Student Record'!E247)","v":""},{"$f":"IF('Student Record'!G247=\"\",\"\",'Student Record'!G247)","v":""},{"$f":"IF('Student Record'!H247=\"\",\"\",'Student Record'!H247)","v":""},{"$f":"IF('Student Record'!J247=\"\",\"\",'Student Record'!J247)","v":""},{"$f":"IF('Student Record'!D249=\"\",\"\",'Student Record'!D249)","v":""},{"$f":"IF('Student Record'!T247=\"\",\"\",'Student Record'!T247)","v":""},{"$f":"IF('Student Record'!V247=\"\",\"\",'Student Record'!V247)","v":""},{"$f":"IF('Student Record'!W249=\"\",\"\",'Student Record'!W249)","v":""}]
[{"$f":"IF(Table1[[#This Row],[Name of Student]]=\"\",\"\",ROWS($A$1:A247))","v":""},{"$f":"IF('Student Record'!A248=\"\",\"\",'Student Record'!A248)","v":""},{"$f":"IF('Student Record'!C248=\"\",\"\",'Student Record'!C248)","v":""},{"$f":"IF('[1]Student Record'!K250=\"\",\"\",'[1]Student Record'!K250)","v":""},{"$f":"IF('Student Record'!E248=\"\",\"\",'Student Record'!E248)","v":""},{"$f":"IF('Student Record'!G248=\"\",\"\",'Student Record'!G248)","v":""},{"$f":"IF('Student Record'!H248=\"\",\"\",'Student Record'!H248)","v":""},{"$f":"IF('Student Record'!J248=\"\",\"\",'Student Record'!J248)","v":""},{"$f":"IF('Student Record'!D250=\"\",\"\",'Student Record'!D250)","v":""},{"$f":"IF('Student Record'!T248=\"\",\"\",'Student Record'!T248)","v":""},{"$f":"IF('Student Record'!V248=\"\",\"\",'Student Record'!V248)","v":""},{"$f":"IF('Student Record'!W250=\"\",\"\",'Student Record'!W250)","v":""}]
[{"$f":"IF(Table1[[#This Row],[Name of Student]]=\"\",\"\",ROWS($A$1:A248))","v":""},{"$f":"IF('Student Record'!A249=\"\",\"\",'Student Record'!A249)","v":""},{"$f":"IF('Student Record'!C249=\"\",\"\",'Student Record'!C249)","v":""},{"$f":"IF('[1]Student Record'!K251=\"\",\"\",'[1]Student Record'!K251)","v":""},{"$f":"IF('Student Record'!E249=\"\",\"\",'Student Record'!E249)","v":""},{"$f":"IF('Student Record'!G249=\"\",\"\",'Student Record'!G249)","v":""},{"$f":"IF('Student Record'!H249=\"\",\"\",'Student Record'!H249)","v":""},{"$f":"IF('Student Record'!J249=\"\",\"\",'Student Record'!J249)","v":""},{"$f":"IF('Student Record'!D251=\"\",\"\",'Student Record'!D251)","v":""},{"$f":"IF('Student Record'!T249=\"\",\"\",'Student Record'!T249)","v":""},{"$f":"IF('Student Record'!V249=\"\",\"\",'Student Record'!V249)","v":""},{"$f":"IF('Student Record'!W251=\"\",\"\",'Student Record'!W251)","v":""}]
[{"$f":"IF(Table1[[#This Row],[Name of Student]]=\"\",\"\",ROWS($A$1:A249))","v":""},{"$f":"IF('Student Record'!A250=\"\",\"\",'Student Record'!A250)","v":""},{"$f":"IF('Student Record'!C250=\"\",\"\",'Student Record'!C250)","v":""},{"$f":"IF('[1]Student Record'!K252=\"\",\"\",'[1]Student Record'!K252)","v":""},{"$f":"IF('Student Record'!E250=\"\",\"\",'Student Record'!E250)","v":""},{"$f":"IF('Student Record'!G250=\"\",\"\",'Student Record'!G250)","v":""},{"$f":"IF('Student Record'!H250=\"\",\"\",'Student Record'!H250)","v":""},{"$f":"IF('Student Record'!J250=\"\",\"\",'Student Record'!J250)","v":""},{"$f":"IF('Student Record'!D252=\"\",\"\",'Student Record'!D252)","v":""},{"$f":"IF('Student Record'!T250=\"\",\"\",'Student Record'!T250)","v":""},{"$f":"IF('Student Record'!V250=\"\",\"\",'Student Record'!V250)","v":""},{"$f":"IF('Student Record'!W252=\"\",\"\",'Student Record'!W252)","v":""}]
[{"$f":"IF(Table1[[#This Row],[Name of Student]]=\"\",\"\",ROWS($A$1:A250))","v":""},{"$f":"IF('Student Record'!A251=\"\",\"\",'Student Record'!A251)","v":""},{"$f":"IF('Student Record'!C251=\"\",\"\",'Student Record'!C251)","v":""},{"$f":"IF('[1]Student Record'!K253=\"\",\"\",'[1]Student Record'!K253)","v":""},{"$f":"IF('Student Record'!E251=\"\",\"\",'Student Record'!E251)","v":""},{"$f":"IF('Student Record'!G251=\"\",\"\",'Student Record'!G251)","v":""},{"$f":"IF('Student Record'!H251=\"\",\"\",'Student Record'!H251)","v":""},{"$f":"IF('Student Record'!J251=\"\",\"\",'Student Record'!J251)","v":""},{"$f":"IF('Student Record'!D253=\"\",\"\",'Student Record'!D253)","v":""},{"$f":"IF('Student Record'!T251=\"\",\"\",'Student Record'!T251)","v":""},{"$f":"IF('Student Record'!V251=\"\",\"\",'Student Record'!V251)","v":""},{"$f":"IF('Student Record'!W253=\"\",\"\",'Student Record'!W253)","v":""}]
[{"$f":"IF(Table1[[#This Row],[Name of Student]]=\"\",\"\",ROWS($A$1:A251))","v":""},{"$f":"IF('Student Record'!A252=\"\",\"\",'Student Record'!A252)","v":""},{"$f":"IF('Student Record'!C252=\"\",\"\",'Student Record'!C252)","v":""},{"$f":"IF('[1]Student Record'!K254=\"\",\"\",'[1]Student Record'!K254)","v":""},{"$f":"IF('Student Record'!E252=\"\",\"\",'Student Record'!E252)","v":""},{"$f":"IF('Student Record'!G252=\"\",\"\",'Student Record'!G252)","v":""},{"$f":"IF('Student Record'!H252=\"\",\"\",'Student Record'!H252)","v":""},{"$f":"IF('Student Record'!J252=\"\",\"\",'Student Record'!J252)","v":""},{"$f":"IF('Student Record'!D254=\"\",\"\",'Student Record'!D254)","v":""},{"$f":"IF('Student Record'!T252=\"\",\"\",'Student Record'!T252)","v":""},{"$f":"IF('Student Record'!V252=\"\",\"\",'Student Record'!V252)","v":""},{"$f":"IF('Student Record'!W254=\"\",\"\",'Student Record'!W254)","v":""}]
[{"$f":"IF(Table1[[#This Row],[Name of Student]]=\"\",\"\",ROWS($A$1:A252))","v":""},{"$f":"IF('Student Record'!A253=\"\",\"\",'Student Record'!A253)","v":""},{"$f":"IF('Student Record'!C253=\"\",\"\",'Student Record'!C253)","v":""},{"$f":"IF('[1]Student Record'!K255=\"\",\"\",'[1]Student Record'!K255)","v":""},{"$f":"IF('Student Record'!E253=\"\",\"\",'Student Record'!E253)","v":""},{"$f":"IF('Student Record'!G253=\"\",\"\",'Student Record'!G253)","v":""},{"$f":"IF('Student Record'!H253=\"\",\"\",'Student Record'!H253)","v":""},{"$f":"IF('Student Record'!J253=\"\",\"\",'Student Record'!J253)","v":""},{"$f":"IF('Student Record'!D255=\"\",\"\",'Student Record'!D255)","v":""},{"$f":"IF('Student Record'!T253=\"\",\"\",'Student Record'!T253)","v":""},{"$f":"IF('Student Record'!V253=\"\",\"\",'Student Record'!V253)","v":""},{"$f":"IF('Student Record'!W255=\"\",\"\",'Student Record'!W255)","v":""}]
[{"$f":"IF(Table1[[#This Row],[Name of Student]]=\"\",\"\",ROWS($A$1:A253))","v":""},{"$f":"IF('Student Record'!A254=\"\",\"\",'Student Record'!A254)","v":""},{"$f":"IF('Student Record'!C254=\"\",\"\",'Student Record'!C254)","v":""},{"$f":"IF('[1]Student Record'!K256=\"\",\"\",'[1]Student Record'!K256)","v":""},{"$f":"IF('Student Record'!E254=\"\",\"\",'Student Record'!E254)","v":""},{"$f":"IF('Student Record'!G254=\"\",\"\",'Student Record'!G254)","v":""},{"$f":"IF('Student Record'!H254=\"\",\"\",'Student Record'!H254)","v":""},{"$f":"IF('Student Record'!J254=\"\",\"\",'Student Record'!J254)","v":""},{"$f":"IF('Student Record'!D256=\"\",\"\",'Student Record'!D256)","v":""},{"$f":"IF('Student Record'!T254=\"\",\"\",'Student Record'!T254)","v":""},{"$f":"IF('Student Record'!V254=\"\",\"\",'Student Record'!V254)","v":""},{"$f":"IF('Student Record'!W256=\"\",\"\",'Student Record'!W256)","v":""}]
[{"$f":"IF(Table1[[#This Row],[Name of Student]]=\"\",\"\",ROWS($A$1:A254))","v":""},{"$f":"IF('Student Record'!A255=\"\",\"\",'Student Record'!A255)","v":""},{"$f":"IF('Student Record'!C255=\"\",\"\",'Student Record'!C255)","v":""},{"$f":"IF('[1]Student Record'!K257=\"\",\"\",'[1]Student Record'!K257)","v":""},{"$f":"IF('Student Record'!E255=\"\",\"\",'Student Record'!E255)","v":""},{"$f":"IF('Student Record'!G255=\"\",\"\",'Student Record'!G255)","v":""},{"$f":"IF('Student Record'!H255=\"\",\"\",'Student Record'!H255)","v":""},{"$f":"IF('Student Record'!J255=\"\",\"\",'Student Record'!J255)","v":""},{"$f":"IF('Student Record'!D257=\"\",\"\",'Student Record'!D257)","v":""},{"$f":"IF('Student Record'!T255=\"\",\"\",'Student Record'!T255)","v":""},{"$f":"IF('Student Record'!V255=\"\",\"\",'Student Record'!V255)","v":""},{"$f":"IF('Student Record'!W257=\"\",\"\",'Student Record'!W257)","v":""}]
[{"$f":"IF(Table1[[#This Row],[Name of Student]]=\"\",\"\",ROWS($A$1:A255))","v":""},{"$f":"IF('Student Record'!A256=\"\",\"\",'Student Record'!A256)","v":""},{"$f":"IF('Student Record'!C256=\"\",\"\",'Student Record'!C256)","v":""},{"$f":"IF('[1]Student Record'!K258=\"\",\"\",'[1]Student Record'!K258)","v":""},{"$f":"IF('Student Record'!E256=\"\",\"\",'Student Record'!E256)","v":""},{"$f":"IF('Student Record'!G256=\"\",\"\",'Student Record'!G256)","v":""},{"$f":"IF('Student Record'!H256=\"\",\"\",'Student Record'!H256)","v":""},{"$f":"IF('Student Record'!J256=\"\",\"\",'Student Record'!J256)","v":""},{"$f":"IF('Student Record'!D258=\"\",\"\",'Student Record'!D258)","v":""},{"$f":"IF('Student Record'!T256=\"\",\"\",'Student Record'!T256)","v":""},{"$f":"IF('Student Record'!V256=\"\",\"\",'Student Record'!V256)","v":""},{"$f":"IF('Student Record'!W258=\"\",\"\",'Student Record'!W258)","v":""}]
[{"$f":"IF(Table1[[#This Row],[Name of Student]]=\"\",\"\",ROWS($A$1:A256))","v":""},{"$f":"IF('Student Record'!A257=\"\",\"\",'Student Record'!A257)","v":""},{"$f":"IF('Student Record'!C257=\"\",\"\",'Student Record'!C257)","v":""},{"$f":"IF('[1]Student Record'!K259=\"\",\"\",'[1]Student Record'!K259)","v":""},{"$f":"IF('Student Record'!E257=\"\",\"\",'Student Record'!E257)","v":""},{"$f":"IF('Student Record'!G257=\"\",\"\",'Student Record'!G257)","v":""},{"$f":"IF('Student Record'!H257=\"\",\"\",'Student Record'!H257)","v":""},{"$f":"IF('Student Record'!J257=\"\",\"\",'Student Record'!J257)","v":""},{"$f":"IF('Student Record'!D259=\"\",\"\",'Student Record'!D259)","v":""},{"$f":"IF('Student Record'!T257=\"\",\"\",'Student Record'!T257)","v":""},{"$f":"IF('Student Record'!V257=\"\",\"\",'Student Record'!V257)","v":""},{"$f":"IF('Student Record'!W259=\"\",\"\",'Student Record'!W259)","v":""}]
[{"$f":"IF(Table1[[#This Row],[Name of Student]]=\"\",\"\",ROWS($A$1:A257))","v":""},{"$f":"IF('Student Record'!A258=\"\",\"\",'Student Record'!A258)","v":""},{"$f":"IF('Student Record'!C258=\"\",\"\",'Student Record'!C258)","v":""},{"$f":"IF('[1]Student Record'!K260=\"\",\"\",'[1]Student Record'!K260)","v":""},{"$f":"IF('Student Record'!E258=\"\",\"\",'Student Record'!E258)","v":""},{"$f":"IF('Student Record'!G258=\"\",\"\",'Student Record'!G258)","v":""},{"$f":"IF('Student Record'!H258=\"\",\"\",'Student Record'!H258)","v":""},{"$f":"IF('Student Record'!J258=\"\",\"\",'Student Record'!J258)","v":""},{"$f":"IF('Student Record'!D260=\"\",\"\",'Student Record'!D260)","v":""},{"$f":"IF('Student Record'!T258=\"\",\"\",'Student Record'!T258)","v":""},{"$f":"IF('Student Record'!V258=\"\",\"\",'Student Record'!V258)","v":""},{"$f":"IF('Student Record'!W260=\"\",\"\",'Student Record'!W260)","v":""}]
[{"$f":"IF(Table1[[#This Row],[Name of Student]]=\"\",\"\",ROWS($A$1:A258))","v":""},{"$f":"IF('Student Record'!A259=\"\",\"\",'Student Record'!A259)","v":""},{"$f":"IF('Student Record'!C259=\"\",\"\",'Student Record'!C259)","v":""},{"$f":"IF('[1]Student Record'!K261=\"\",\"\",'[1]Student Record'!K261)","v":""},{"$f":"IF('Student Record'!E259=\"\",\"\",'Student Record'!E259)","v":""},{"$f":"IF('Student Record'!G259=\"\",\"\",'Student Record'!G259)","v":""},{"$f":"IF('Student Record'!H259=\"\",\"\",'Student Record'!H259)","v":""},{"$f":"IF('Student Record'!J259=\"\",\"\",'Student Record'!J259)","v":""},{"$f":"IF('Student Record'!D261=\"\",\"\",'Student Record'!D261)","v":""},{"$f":"IF('Student Record'!T259=\"\",\"\",'Student Record'!T259)","v":""},{"$f":"IF('Student Record'!V259=\"\",\"\",'Student Record'!V259)","v":""},{"$f":"IF('Student Record'!W261=\"\",\"\",'Student Record'!W261)","v":""}]
[{"$f":"IF(Table1[[#This Row],[Name of Student]]=\"\",\"\",ROWS($A$1:A259))","v":""},{"$f":"IF('Student Record'!A260=\"\",\"\",'Student Record'!A260)","v":""},{"$f":"IF('Student Record'!C260=\"\",\"\",'Student Record'!C260)","v":""},{"$f":"IF('[1]Student Record'!K262=\"\",\"\",'[1]Student Record'!K262)","v":""},{"$f":"IF('Student Record'!E260=\"\",\"\",'Student Record'!E260)","v":""},{"$f":"IF('Student Record'!G260=\"\",\"\",'Student Record'!G260)","v":""},{"$f":"IF('Student Record'!H260=\"\",\"\",'Student Record'!H260)","v":""},{"$f":"IF('Student Record'!J260=\"\",\"\",'Student Record'!J260)","v":""},{"$f":"IF('Student Record'!D262=\"\",\"\",'Student Record'!D262)","v":""},{"$f":"IF('Student Record'!T260=\"\",\"\",'Student Record'!T260)","v":""},{"$f":"IF('Student Record'!V260=\"\",\"\",'Student Record'!V260)","v":""},{"$f":"IF('Student Record'!W262=\"\",\"\",'Student Record'!W262)","v":""}]
[{"$f":"IF(Table1[[#This Row],[Name of Student]]=\"\",\"\",ROWS($A$1:A260))","v":""},{"$f":"IF('Student Record'!A261=\"\",\"\",'Student Record'!A261)","v":""},{"$f":"IF('Student Record'!C261=\"\",\"\",'Student Record'!C261)","v":""},{"$f":"IF('[1]Student Record'!K263=\"\",\"\",'[1]Student Record'!K263)","v":""},{"$f":"IF('Student Record'!E261=\"\",\"\",'Student Record'!E261)","v":""},{"$f":"IF('Student Record'!G261=\"\",\"\",'Student Record'!G261)","v":""},{"$f":"IF('Student Record'!H261=\"\",\"\",'Student Record'!H261)","v":""},{"$f":"IF('Student Record'!J261=\"\",\"\",'Student Record'!J261)","v":""},{"$f":"IF('Student Record'!D263=\"\",\"\",'Student Record'!D263)","v":""},{"$f":"IF('Student Record'!T261=\"\",\"\",'Student Record'!T261)","v":""},{"$f":"IF('Student Record'!V261=\"\",\"\",'Student Record'!V261)","v":""},{"$f":"IF('Student Record'!W263=\"\",\"\",'Student Record'!W263)","v":""}]
[{"$f":"IF(Table1[[#This Row],[Name of Student]]=\"\",\"\",ROWS($A$1:A261))","v":""},{"$f":"IF('Student Record'!A262=\"\",\"\",'Student Record'!A262)","v":""},{"$f":"IF('Student Record'!C262=\"\",\"\",'Student Record'!C262)","v":""},{"$f":"IF('[1]Student Record'!K264=\"\",\"\",'[1]Student Record'!K264)","v":""},{"$f":"IF('Student Record'!E262=\"\",\"\",'Student Record'!E262)","v":""},{"$f":"IF('Student Record'!G262=\"\",\"\",'Student Record'!G262)","v":""},{"$f":"IF('Student Record'!H262=\"\",\"\",'Student Record'!H262)","v":""},{"$f":"IF('Student Record'!J262=\"\",\"\",'Student Record'!J262)","v":""},{"$f":"IF('Student Record'!D264=\"\",\"\",'Student Record'!D264)","v":""},{"$f":"IF('Student Record'!T262=\"\",\"\",'Student Record'!T262)","v":""},{"$f":"IF('Student Record'!V262=\"\",\"\",'Student Record'!V262)","v":""},{"$f":"IF('Student Record'!W264=\"\",\"\",'Student Record'!W264)","v":""}]
[{"$f":"IF(Table1[[#This Row],[Name of Student]]=\"\",\"\",ROWS($A$1:A262))","v":""},{"$f":"IF('Student Record'!A263=\"\",\"\",'Student Record'!A263)","v":""},{"$f":"IF('Student Record'!C263=\"\",\"\",'Student Record'!C263)","v":""},{"$f":"IF('[1]Student Record'!K265=\"\",\"\",'[1]Student Record'!K265)","v":""},{"$f":"IF('Student Record'!E263=\"\",\"\",'Student Record'!E263)","v":""},{"$f":"IF('Student Record'!G263=\"\",\"\",'Student Record'!G263)","v":""},{"$f":"IF('Student Record'!H263=\"\",\"\",'Student Record'!H263)","v":""},{"$f":"IF('Student Record'!J263=\"\",\"\",'Student Record'!J263)","v":""},{"$f":"IF('Student Record'!D265=\"\",\"\",'Student Record'!D265)","v":""},{"$f":"IF('Student Record'!T263=\"\",\"\",'Student Record'!T263)","v":""},{"$f":"IF('Student Record'!V263=\"\",\"\",'Student Record'!V263)","v":""},{"$f":"IF('Student Record'!W265=\"\",\"\",'Student Record'!W265)","v":""}]
[{"$f":"IF(Table1[[#This Row],[Name of Student]]=\"\",\"\",ROWS($A$1:A263))","v":""},{"$f":"IF('Student Record'!A264=\"\",\"\",'Student Record'!A264)","v":""},{"$f":"IF('Student Record'!C264=\"\",\"\",'Student Record'!C264)","v":""},{"$f":"IF('[1]Student Record'!K266=\"\",\"\",'[1]Student Record'!K266)","v":""},{"$f":"IF('Student Record'!E264=\"\",\"\",'Student Record'!E264)","v":""},{"$f":"IF('Student Record'!G264=\"\",\"\",'Student Record'!G264)","v":""},{"$f":"IF('Student Record'!H264=\"\",\"\",'Student Record'!H264)","v":""},{"$f":"IF('Student Record'!J264=\"\",\"\",'Student Record'!J264)","v":""},{"$f":"IF('Student Record'!D266=\"\",\"\",'Student Record'!D266)","v":""},{"$f":"IF('Student Record'!T264=\"\",\"\",'Student Record'!T264)","v":""},{"$f":"IF('Student Record'!V264=\"\",\"\",'Student Record'!V264)","v":""},{"$f":"IF('Student Record'!W266=\"\",\"\",'Student Record'!W266)","v":""}]
[{"$f":"IF(Table1[[#This Row],[Name of Student]]=\"\",\"\",ROWS($A$1:A264))","v":""},{"$f":"IF('Student Record'!A265=\"\",\"\",'Student Record'!A265)","v":""},{"$f":"IF('Student Record'!C265=\"\",\"\",'Student Record'!C265)","v":""},{"$f":"IF('[1]Student Record'!K267=\"\",\"\",'[1]Student Record'!K267)","v":""},{"$f":"IF('Student Record'!E265=\"\",\"\",'Student Record'!E265)","v":""},{"$f":"IF('Student Record'!G265=\"\",\"\",'Student Record'!G265)","v":""},{"$f":"IF('Student Record'!H265=\"\",\"\",'Student Record'!H265)","v":""},{"$f":"IF('Student Record'!J265=\"\",\"\",'Student Record'!J265)","v":""},{"$f":"IF('Student Record'!D267=\"\",\"\",'Student Record'!D267)","v":""},{"$f":"IF('Student Record'!T265=\"\",\"\",'Student Record'!T265)","v":""},{"$f":"IF('Student Record'!V265=\"\",\"\",'Student Record'!V265)","v":""},{"$f":"IF('Student Record'!W267=\"\",\"\",'Student Record'!W267)","v":""}]
[{"$f":"IF(Table1[[#This Row],[Name of Student]]=\"\",\"\",ROWS($A$1:A265))","v":""},{"$f":"IF('Student Record'!A266=\"\",\"\",'Student Record'!A266)","v":""},{"$f":"IF('Student Record'!C266=\"\",\"\",'Student Record'!C266)","v":""},{"$f":"IF('[1]Student Record'!K268=\"\",\"\",'[1]Student Record'!K268)","v":""},{"$f":"IF('Student Record'!E266=\"\",\"\",'Student Record'!E266)","v":""},{"$f":"IF('Student Record'!G266=\"\",\"\",'Student Record'!G266)","v":""},{"$f":"IF('Student Record'!H266=\"\",\"\",'Student Record'!H266)","v":""},{"$f":"IF('Student Record'!J266=\"\",\"\",'Student Record'!J266)","v":""},{"$f":"IF('Student Record'!D268=\"\",\"\",'Student Record'!D268)","v":""},{"$f":"IF('Student Record'!T266=\"\",\"\",'Student Record'!T266)","v":""},{"$f":"IF('Student Record'!V266=\"\",\"\",'Student Record'!V266)","v":""},{"$f":"IF('Student Record'!W268=\"\",\"\",'Student Record'!W268)","v":""}]
[{"$f":"IF(Table1[[#This Row],[Name of Student]]=\"\",\"\",ROWS($A$1:A266))","v":""},{"$f":"IF('Student Record'!A267=\"\",\"\",'Student Record'!A267)","v":""},{"$f":"IF('Student Record'!C267=\"\",\"\",'Student Record'!C267)","v":""},{"$f":"IF('[1]Student Record'!K269=\"\",\"\",'[1]Student Record'!K269)","v":""},{"$f":"IF('Student Record'!E267=\"\",\"\",'Student Record'!E267)","v":""},{"$f":"IF('Student Record'!G267=\"\",\"\",'Student Record'!G267)","v":""},{"$f":"IF('Student Record'!H267=\"\",\"\",'Student Record'!H267)","v":""},{"$f":"IF('Student Record'!J267=\"\",\"\",'Student Record'!J267)","v":""},{"$f":"IF('Student Record'!D269=\"\",\"\",'Student Record'!D269)","v":""},{"$f":"IF('Student Record'!T267=\"\",\"\",'Student Record'!T267)","v":""},{"$f":"IF('Student Record'!V267=\"\",\"\",'Student Record'!V267)","v":""},{"$f":"IF('Student Record'!W269=\"\",\"\",'Student Record'!W269)","v":""}]
[{"$f":"IF(Table1[[#This Row],[Name of Student]]=\"\",\"\",ROWS($A$1:A267))","v":""},{"$f":"IF('Student Record'!A268=\"\",\"\",'Student Record'!A268)","v":""},{"$f":"IF('Student Record'!C268=\"\",\"\",'Student Record'!C268)","v":""},{"$f":"IF('[1]Student Record'!K270=\"\",\"\",'[1]Student Record'!K270)","v":""},{"$f":"IF('Student Record'!E268=\"\",\"\",'Student Record'!E268)","v":""},{"$f":"IF('Student Record'!G268=\"\",\"\",'Student Record'!G268)","v":""},{"$f":"IF('Student Record'!H268=\"\",\"\",'Student Record'!H268)","v":""},{"$f":"IF('Student Record'!J268=\"\",\"\",'Student Record'!J268)","v":""},{"$f":"IF('Student Record'!D270=\"\",\"\",'Student Record'!D270)","v":""},{"$f":"IF('Student Record'!T268=\"\",\"\",'Student Record'!T268)","v":""},{"$f":"IF('Student Record'!V268=\"\",\"\",'Student Record'!V268)","v":""},{"$f":"IF('Student Record'!W270=\"\",\"\",'Student Record'!W270)","v":""}]
[{"$f":"IF(Table1[[#This Row],[Name of Student]]=\"\",\"\",ROWS($A$1:A268))","v":""},{"$f":"IF('Student Record'!A269=\"\",\"\",'Student Record'!A269)","v":""},{"$f":"IF('Student Record'!C269=\"\",\"\",'Student Record'!C269)","v":""},{"$f":"IF('[1]Student Record'!K271=\"\",\"\",'[1]Student Record'!K271)","v":""},{"$f":"IF('Student Record'!E269=\"\",\"\",'Student Record'!E269)","v":""},{"$f":"IF('Student Record'!G269=\"\",\"\",'Student Record'!G269)","v":""},{"$f":"IF('Student Record'!H269=\"\",\"\",'Student Record'!H269)","v":""},{"$f":"IF('Student Record'!J269=\"\",\"\",'Student Record'!J269)","v":""},{"$f":"IF('Student Record'!D271=\"\",\"\",'Student Record'!D271)","v":""},{"$f":"IF('Student Record'!T269=\"\",\"\",'Student Record'!T269)","v":""},{"$f":"IF('Student Record'!V269=\"\",\"\",'Student Record'!V269)","v":""},{"$f":"IF('Student Record'!W271=\"\",\"\",'Student Record'!W271)","v":""}]
[{"$f":"IF(Table1[[#This Row],[Name of Student]]=\"\",\"\",ROWS($A$1:A269))","v":""},{"$f":"IF('Student Record'!A270=\"\",\"\",'Student Record'!A270)","v":""},{"$f":"IF('Student Record'!C270=\"\",\"\",'Student Record'!C270)","v":""},{"$f":"IF('[1]Student Record'!K272=\"\",\"\",'[1]Student Record'!K272)","v":""},{"$f":"IF('Student Record'!E270=\"\",\"\",'Student Record'!E270)","v":""},{"$f":"IF('Student Record'!G270=\"\",\"\",'Student Record'!G270)","v":""},{"$f":"IF('Student Record'!H270=\"\",\"\",'Student Record'!H270)","v":""},{"$f":"IF('Student Record'!J270=\"\",\"\",'Student Record'!J270)","v":""},{"$f":"IF('Student Record'!D272=\"\",\"\",'Student Record'!D272)","v":""},{"$f":"IF('Student Record'!T270=\"\",\"\",'Student Record'!T270)","v":""},{"$f":"IF('Student Record'!V270=\"\",\"\",'Student Record'!V270)","v":""},{"$f":"IF('Student Record'!W272=\"\",\"\",'Student Record'!W272)","v":""}]
[{"$f":"IF(Table1[[#This Row],[Name of Student]]=\"\",\"\",ROWS($A$1:A270))","v":""},{"$f":"IF('Student Record'!A271=\"\",\"\",'Student Record'!A271)","v":""},{"$f":"IF('Student Record'!C271=\"\",\"\",'Student Record'!C271)","v":""},{"$f":"IF('[1]Student Record'!K273=\"\",\"\",'[1]Student Record'!K273)","v":""},{"$f":"IF('Student Record'!E271=\"\",\"\",'Student Record'!E271)","v":""},{"$f":"IF('Student Record'!G271=\"\",\"\",'Student Record'!G271)","v":""},{"$f":"IF('Student Record'!H271=\"\",\"\",'Student Record'!H271)","v":""},{"$f":"IF('Student Record'!J271=\"\",\"\",'Student Record'!J271)","v":""},{"$f":"IF('Student Record'!D273=\"\",\"\",'Student Record'!D273)","v":""},{"$f":"IF('Student Record'!T271=\"\",\"\",'Student Record'!T271)","v":""},{"$f":"IF('Student Record'!V271=\"\",\"\",'Student Record'!V271)","v":""},{"$f":"IF('Student Record'!W273=\"\",\"\",'Student Record'!W273)","v":""}]
[{"$f":"IF(Table1[[#This Row],[Name of Student]]=\"\",\"\",ROWS($A$1:A271))","v":""},{"$f":"IF('Student Record'!A272=\"\",\"\",'Student Record'!A272)","v":""},{"$f":"IF('Student Record'!C272=\"\",\"\",'Student Record'!C272)","v":""},{"$f":"IF('[1]Student Record'!K274=\"\",\"\",'[1]Student Record'!K274)","v":""},{"$f":"IF('Student Record'!E272=\"\",\"\",'Student Record'!E272)","v":""},{"$f":"IF('Student Record'!G272=\"\",\"\",'Student Record'!G272)","v":""},{"$f":"IF('Student Record'!H272=\"\",\"\",'Student Record'!H272)","v":""},{"$f":"IF('Student Record'!J272=\"\",\"\",'Student Record'!J272)","v":""},{"$f":"IF('Student Record'!D274=\"\",\"\",'Student Record'!D274)","v":""},{"$f":"IF('Student Record'!T272=\"\",\"\",'Student Record'!T272)","v":""},{"$f":"IF('Student Record'!V272=\"\",\"\",'Student Record'!V272)","v":""},{"$f":"IF('Student Record'!W274=\"\",\"\",'Student Record'!W274)","v":""}]
[{"$f":"IF(Table1[[#This Row],[Name of Student]]=\"\",\"\",ROWS($A$1:A272))","v":""},{"$f":"IF('Student Record'!A273=\"\",\"\",'Student Record'!A273)","v":""},{"$f":"IF('Student Record'!C273=\"\",\"\",'Student Record'!C273)","v":""},{"$f":"IF('[1]Student Record'!K275=\"\",\"\",'[1]Student Record'!K275)","v":""},{"$f":"IF('Student Record'!E273=\"\",\"\",'Student Record'!E273)","v":""},{"$f":"IF('Student Record'!G273=\"\",\"\",'Student Record'!G273)","v":""},{"$f":"IF('Student Record'!H273=\"\",\"\",'Student Record'!H273)","v":""},{"$f":"IF('Student Record'!J273=\"\",\"\",'Student Record'!J273)","v":""},{"$f":"IF('Student Record'!D275=\"\",\"\",'Student Record'!D275)","v":""},{"$f":"IF('Student Record'!T273=\"\",\"\",'Student Record'!T273)","v":""},{"$f":"IF('Student Record'!V273=\"\",\"\",'Student Record'!V273)","v":""},{"$f":"IF('Student Record'!W275=\"\",\"\",'Student Record'!W275)","v":""}]
[{"$f":"IF(Table1[[#This Row],[Name of Student]]=\"\",\"\",ROWS($A$1:A273))","v":""},{"$f":"IF('Student Record'!A274=\"\",\"\",'Student Record'!A274)","v":""},{"$f":"IF('Student Record'!C274=\"\",\"\",'Student Record'!C274)","v":""},{"$f":"IF('[1]Student Record'!K276=\"\",\"\",'[1]Student Record'!K276)","v":""},{"$f":"IF('Student Record'!E274=\"\",\"\",'Student Record'!E274)","v":""},{"$f":"IF('Student Record'!G274=\"\",\"\",'Student Record'!G274)","v":""},{"$f":"IF('Student Record'!H274=\"\",\"\",'Student Record'!H274)","v":""},{"$f":"IF('Student Record'!J274=\"\",\"\",'Student Record'!J274)","v":""},{"$f":"IF('Student Record'!D276=\"\",\"\",'Student Record'!D276)","v":""},{"$f":"IF('Student Record'!T274=\"\",\"\",'Student Record'!T274)","v":""},{"$f":"IF('Student Record'!V274=\"\",\"\",'Student Record'!V274)","v":""},{"$f":"IF('Student Record'!W276=\"\",\"\",'Student Record'!W276)","v":""}]
[{"$f":"IF(Table1[[#This Row],[Name of Student]]=\"\",\"\",ROWS($A$1:A274))","v":""},{"$f":"IF('Student Record'!A275=\"\",\"\",'Student Record'!A275)","v":""},{"$f":"IF('Student Record'!C275=\"\",\"\",'Student Record'!C275)","v":""},{"$f":"IF('[1]Student Record'!K277=\"\",\"\",'[1]Student Record'!K277)","v":""},{"$f":"IF('Student Record'!E275=\"\",\"\",'Student Record'!E275)","v":""},{"$f":"IF('Student Record'!G275=\"\",\"\",'Student Record'!G275)","v":""},{"$f":"IF('Student Record'!H275=\"\",\"\",'Student Record'!H275)","v":""},{"$f":"IF('Student Record'!J275=\"\",\"\",'Student Record'!J275)","v":""},{"$f":"IF('Student Record'!D277=\"\",\"\",'Student Record'!D277)","v":""},{"$f":"IF('Student Record'!T275=\"\",\"\",'Student Record'!T275)","v":""},{"$f":"IF('Student Record'!V275=\"\",\"\",'Student Record'!V275)","v":""},{"$f":"IF('Student Record'!W277=\"\",\"\",'Student Record'!W277)","v":""}]
[{"$f":"IF(Table1[[#This Row],[Name of Student]]=\"\",\"\",ROWS($A$1:A275))","v":""},{"$f":"IF('Student Record'!A276=\"\",\"\",'Student Record'!A276)","v":""},{"$f":"IF('Student Record'!C276=\"\",\"\",'Student Record'!C276)","v":""},{"$f":"IF('[1]Student Record'!K278=\"\",\"\",'[1]Student Record'!K278)","v":""},{"$f":"IF('Student Record'!E276=\"\",\"\",'Student Record'!E276)","v":""},{"$f":"IF('Student Record'!G276=\"\",\"\",'Student Record'!G276)","v":""},{"$f":"IF('Student Record'!H276=\"\",\"\",'Student Record'!H276)","v":""},{"$f":"IF('Student Record'!J276=\"\",\"\",'Student Record'!J276)","v":""},{"$f":"IF('Student Record'!D278=\"\",\"\",'Student Record'!D278)","v":""},{"$f":"IF('Student Record'!T276=\"\",\"\",'Student Record'!T276)","v":""},{"$f":"IF('Student Record'!V276=\"\",\"\",'Student Record'!V276)","v":""},{"$f":"IF('Student Record'!W278=\"\",\"\",'Student Record'!W278)","v":""}]
[{"$f":"IF(Table1[[#This Row],[Name of Student]]=\"\",\"\",ROWS($A$1:A276))","v":""},{"$f":"IF('Student Record'!A277=\"\",\"\",'Student Record'!A277)","v":""},{"$f":"IF('Student Record'!C277=\"\",\"\",'Student Record'!C277)","v":""},{"$f":"IF('[1]Student Record'!K279=\"\",\"\",'[1]Student Record'!K279)","v":""},{"$f":"IF('Student Record'!E277=\"\",\"\",'Student Record'!E277)","v":""},{"$f":"IF('Student Record'!G277=\"\",\"\",'Student Record'!G277)","v":""},{"$f":"IF('Student Record'!H277=\"\",\"\",'Student Record'!H277)","v":""},{"$f":"IF('Student Record'!J277=\"\",\"\",'Student Record'!J277)","v":""},{"$f":"IF('Student Record'!D279=\"\",\"\",'Student Record'!D279)","v":""},{"$f":"IF('Student Record'!T277=\"\",\"\",'Student Record'!T277)","v":""},{"$f":"IF('Student Record'!V277=\"\",\"\",'Student Record'!V277)","v":""},{"$f":"IF('Student Record'!W279=\"\",\"\",'Student Record'!W279)","v":""}]
[{"$f":"IF(Table1[[#This Row],[Name of Student]]=\"\",\"\",ROWS($A$1:A277))","v":""},{"$f":"IF('Student Record'!A278=\"\",\"\",'Student Record'!A278)","v":""},{"$f":"IF('Student Record'!C278=\"\",\"\",'Student Record'!C278)","v":""},{"$f":"IF('[1]Student Record'!K280=\"\",\"\",'[1]Student Record'!K280)","v":""},{"$f":"IF('Student Record'!E278=\"\",\"\",'Student Record'!E278)","v":""},{"$f":"IF('Student Record'!G278=\"\",\"\",'Student Record'!G278)","v":""},{"$f":"IF('Student Record'!H278=\"\",\"\",'Student Record'!H278)","v":""},{"$f":"IF('Student Record'!J278=\"\",\"\",'Student Record'!J278)","v":""},{"$f":"IF('Student Record'!D280=\"\",\"\",'Student Record'!D280)","v":""},{"$f":"IF('Student Record'!T278=\"\",\"\",'Student Record'!T278)","v":""},{"$f":"IF('Student Record'!V278=\"\",\"\",'Student Record'!V278)","v":""},{"$f":"IF('Student Record'!W280=\"\",\"\",'Student Record'!W280)","v":""}]
[{"$f":"IF(Table1[[#This Row],[Name of Student]]=\"\",\"\",ROWS($A$1:A278))","v":""},{"$f":"IF('Student Record'!A279=\"\",\"\",'Student Record'!A279)","v":""},{"$f":"IF('Student Record'!C279=\"\",\"\",'Student Record'!C279)","v":""},{"$f":"IF('[1]Student Record'!K281=\"\",\"\",'[1]Student Record'!K281)","v":""},{"$f":"IF('Student Record'!E279=\"\",\"\",'Student Record'!E279)","v":""},{"$f":"IF('Student Record'!G279=\"\",\"\",'Student Record'!G279)","v":""},{"$f":"IF('Student Record'!H279=\"\",\"\",'Student Record'!H279)","v":""},{"$f":"IF('Student Record'!J279=\"\",\"\",'Student Record'!J279)","v":""},{"$f":"IF('Student Record'!D281=\"\",\"\",'Student Record'!D281)","v":""},{"$f":"IF('Student Record'!T279=\"\",\"\",'Student Record'!T279)","v":""},{"$f":"IF('Student Record'!V279=\"\",\"\",'Student Record'!V279)","v":""},{"$f":"IF('Student Record'!W281=\"\",\"\",'Student Record'!W281)","v":""}]
[{"$f":"IF(Table1[[#This Row],[Name of Student]]=\"\",\"\",ROWS($A$1:A279))","v":""},{"$f":"IF('Student Record'!A280=\"\",\"\",'Student Record'!A280)","v":""},{"$f":"IF('Student Record'!C280=\"\",\"\",'Student Record'!C280)","v":""},{"$f":"IF('[1]Student Record'!K282=\"\",\"\",'[1]Student Record'!K282)","v":""},{"$f":"IF('Student Record'!E280=\"\",\"\",'Student Record'!E280)","v":""},{"$f":"IF('Student Record'!G280=\"\",\"\",'Student Record'!G280)","v":""},{"$f":"IF('Student Record'!H280=\"\",\"\",'Student Record'!H280)","v":""},{"$f":"IF('Student Record'!J280=\"\",\"\",'Student Record'!J280)","v":""},{"$f":"IF('Student Record'!D282=\"\",\"\",'Student Record'!D282)","v":""},{"$f":"IF('Student Record'!T280=\"\",\"\",'Student Record'!T280)","v":""},{"$f":"IF('Student Record'!V280=\"\",\"\",'Student Record'!V280)","v":""},{"$f":"IF('Student Record'!W282=\"\",\"\",'Student Record'!W282)","v":""}]
[{"$f":"IF(Table1[[#This Row],[Name of Student]]=\"\",\"\",ROWS($A$1:A280))","v":""},{"$f":"IF('Student Record'!A281=\"\",\"\",'Student Record'!A281)","v":""},{"$f":"IF('Student Record'!C281=\"\",\"\",'Student Record'!C281)","v":""},{"$f":"IF('[1]Student Record'!K283=\"\",\"\",'[1]Student Record'!K283)","v":""},{"$f":"IF('Student Record'!E281=\"\",\"\",'Student Record'!E281)","v":""},{"$f":"IF('Student Record'!G281=\"\",\"\",'Student Record'!G281)","v":""},{"$f":"IF('Student Record'!H281=\"\",\"\",'Student Record'!H281)","v":""},{"$f":"IF('Student Record'!J281=\"\",\"\",'Student Record'!J281)","v":""},{"$f":"IF('Student Record'!D283=\"\",\"\",'Student Record'!D283)","v":""},{"$f":"IF('Student Record'!T281=\"\",\"\",'Student Record'!T281)","v":""},{"$f":"IF('Student Record'!V281=\"\",\"\",'Student Record'!V281)","v":""},{"$f":"IF('Student Record'!W283=\"\",\"\",'Student Record'!W283)","v":""}]
[{"$f":"IF(Table1[[#This Row],[Name of Student]]=\"\",\"\",ROWS($A$1:A281))","v":""},{"$f":"IF('Student Record'!A282=\"\",\"\",'Student Record'!A282)","v":""},{"$f":"IF('Student Record'!C282=\"\",\"\",'Student Record'!C282)","v":""},{"$f":"IF('[1]Student Record'!K284=\"\",\"\",'[1]Student Record'!K284)","v":""},{"$f":"IF('Student Record'!E282=\"\",\"\",'Student Record'!E282)","v":""},{"$f":"IF('Student Record'!G282=\"\",\"\",'Student Record'!G282)","v":""},{"$f":"IF('Student Record'!H282=\"\",\"\",'Student Record'!H282)","v":""},{"$f":"IF('Student Record'!J282=\"\",\"\",'Student Record'!J282)","v":""},{"$f":"IF('Student Record'!D284=\"\",\"\",'Student Record'!D284)","v":""},{"$f":"IF('Student Record'!T282=\"\",\"\",'Student Record'!T282)","v":""},{"$f":"IF('Student Record'!V282=\"\",\"\",'Student Record'!V282)","v":""},{"$f":"IF('Student Record'!W284=\"\",\"\",'Student Record'!W284)","v":""}]
[{"$f":"IF(Table1[[#This Row],[Name of Student]]=\"\",\"\",ROWS($A$1:A282))","v":""},{"$f":"IF('Student Record'!A283=\"\",\"\",'Student Record'!A283)","v":""},{"$f":"IF('Student Record'!C283=\"\",\"\",'Student Record'!C283)","v":""},{"$f":"IF('[1]Student Record'!K285=\"\",\"\",'[1]Student Record'!K285)","v":""},{"$f":"IF('Student Record'!E283=\"\",\"\",'Student Record'!E283)","v":""},{"$f":"IF('Student Record'!G283=\"\",\"\",'Student Record'!G283)","v":""},{"$f":"IF('Student Record'!H283=\"\",\"\",'Student Record'!H283)","v":""},{"$f":"IF('Student Record'!J283=\"\",\"\",'Student Record'!J283)","v":""},{"$f":"IF('Student Record'!D285=\"\",\"\",'Student Record'!D285)","v":""},{"$f":"IF('Student Record'!T283=\"\",\"\",'Student Record'!T283)","v":""},{"$f":"IF('Student Record'!V283=\"\",\"\",'Student Record'!V283)","v":""},{"$f":"IF('Student Record'!W285=\"\",\"\",'Student Record'!W285)","v":""}]
[{"$f":"IF(Table1[[#This Row],[Name of Student]]=\"\",\"\",ROWS($A$1:A283))","v":""},{"$f":"IF('Student Record'!A284=\"\",\"\",'Student Record'!A284)","v":""},{"$f":"IF('Student Record'!C284=\"\",\"\",'Student Record'!C284)","v":""},{"$f":"IF('[1]Student Record'!K286=\"\",\"\",'[1]Student Record'!K286)","v":""},{"$f":"IF('Student Record'!E284=\"\",\"\",'Student Record'!E284)","v":""},{"$f":"IF('Student Record'!G284=\"\",\"\",'Student Record'!G284)","v":""},{"$f":"IF('Student Record'!H284=\"\",\"\",'Student Record'!H284)","v":""},{"$f":"IF('Student Record'!J284=\"\",\"\",'Student Record'!J284)","v":""},{"$f":"IF('Student Record'!D286=\"\",\"\",'Student Record'!D286)","v":""},{"$f":"IF('Student Record'!T284=\"\",\"\",'Student Record'!T284)","v":""},{"$f":"IF('Student Record'!V284=\"\",\"\",'Student Record'!V284)","v":""},{"$f":"IF('Student Record'!W286=\"\",\"\",'Student Record'!W286)","v":""}]
[{"$f":"IF(Table1[[#This Row],[Name of Student]]=\"\",\"\",ROWS($A$1:A284))","v":""},{"$f":"IF('Student Record'!A285=\"\",\"\",'Student Record'!A285)","v":""},{"$f":"IF('Student Record'!C285=\"\",\"\",'Student Record'!C285)","v":""},{"$f":"IF('[1]Student Record'!K287=\"\",\"\",'[1]Student Record'!K287)","v":""},{"$f":"IF('Student Record'!E285=\"\",\"\",'Student Record'!E285)","v":""},{"$f":"IF('Student Record'!G285=\"\",\"\",'Student Record'!G285)","v":""},{"$f":"IF('Student Record'!H285=\"\",\"\",'Student Record'!H285)","v":""},{"$f":"IF('Student Record'!J285=\"\",\"\",'Student Record'!J285)","v":""},{"$f":"IF('Student Record'!D287=\"\",\"\",'Student Record'!D287)","v":""},{"$f":"IF('Student Record'!T285=\"\",\"\",'Student Record'!T285)","v":""},{"$f":"IF('Student Record'!V285=\"\",\"\",'Student Record'!V285)","v":""},{"$f":"IF('Student Record'!W287=\"\",\"\",'Student Record'!W287)","v":""}]
[{"$f":"IF(Table1[[#This Row],[Name of Student]]=\"\",\"\",ROWS($A$1:A285))","v":""},{"$f":"IF('Student Record'!A286=\"\",\"\",'Student Record'!A286)","v":""},{"$f":"IF('Student Record'!C286=\"\",\"\",'Student Record'!C286)","v":""},{"$f":"IF('[1]Student Record'!K288=\"\",\"\",'[1]Student Record'!K288)","v":""},{"$f":"IF('Student Record'!E286=\"\",\"\",'Student Record'!E286)","v":""},{"$f":"IF('Student Record'!G286=\"\",\"\",'Student Record'!G286)","v":""},{"$f":"IF('Student Record'!H286=\"\",\"\",'Student Record'!H286)","v":""},{"$f":"IF('Student Record'!J286=\"\",\"\",'Student Record'!J286)","v":""},{"$f":"IF('Student Record'!D288=\"\",\"\",'Student Record'!D288)","v":""},{"$f":"IF('Student Record'!T286=\"\",\"\",'Student Record'!T286)","v":""},{"$f":"IF('Student Record'!V286=\"\",\"\",'Student Record'!V286)","v":""},{"$f":"IF('Student Record'!W288=\"\",\"\",'Student Record'!W288)","v":""}]
[{"$f":"IF(Table1[[#This Row],[Name of Student]]=\"\",\"\",ROWS($A$1:A286))","v":""},{"$f":"IF('Student Record'!A287=\"\",\"\",'Student Record'!A287)","v":""},{"$f":"IF('Student Record'!C287=\"\",\"\",'Student Record'!C287)","v":""},{"$f":"IF('[1]Student Record'!K289=\"\",\"\",'[1]Student Record'!K289)","v":""},{"$f":"IF('Student Record'!E287=\"\",\"\",'Student Record'!E287)","v":""},{"$f":"IF('Student Record'!G287=\"\",\"\",'Student Record'!G287)","v":""},{"$f":"IF('Student Record'!H287=\"\",\"\",'Student Record'!H287)","v":""},{"$f":"IF('Student Record'!J287=\"\",\"\",'Student Record'!J287)","v":""},{"$f":"IF('Student Record'!D289=\"\",\"\",'Student Record'!D289)","v":""},{"$f":"IF('Student Record'!T287=\"\",\"\",'Student Record'!T287)","v":""},{"$f":"IF('Student Record'!V287=\"\",\"\",'Student Record'!V287)","v":""},{"$f":"IF('Student Record'!W289=\"\",\"\",'Student Record'!W289)","v":""}]
[{"$f":"IF(Table1[[#This Row],[Name of Student]]=\"\",\"\",ROWS($A$1:A287))","v":""},{"$f":"IF('Student Record'!A288=\"\",\"\",'Student Record'!A288)","v":""},{"$f":"IF('Student Record'!C288=\"\",\"\",'Student Record'!C288)","v":""},{"$f":"IF('[1]Student Record'!K290=\"\",\"\",'[1]Student Record'!K290)","v":""},{"$f":"IF('Student Record'!E288=\"\",\"\",'Student Record'!E288)","v":""},{"$f":"IF('Student Record'!G288=\"\",\"\",'Student Record'!G288)","v":""},{"$f":"IF('Student Record'!H288=\"\",\"\",'Student Record'!H288)","v":""},{"$f":"IF('Student Record'!J288=\"\",\"\",'Student Record'!J288)","v":""},{"$f":"IF('Student Record'!D290=\"\",\"\",'Student Record'!D290)","v":""},{"$f":"IF('Student Record'!T288=\"\",\"\",'Student Record'!T288)","v":""},{"$f":"IF('Student Record'!V288=\"\",\"\",'Student Record'!V288)","v":""},{"$f":"IF('Student Record'!W290=\"\",\"\",'Student Record'!W290)","v":""}]
[{"$f":"IF(Table1[[#This Row],[Name of Student]]=\"\",\"\",ROWS($A$1:A288))","v":""},{"$f":"IF('Student Record'!A289=\"\",\"\",'Student Record'!A289)","v":""},{"$f":"IF('Student Record'!C289=\"\",\"\",'Student Record'!C289)","v":""},{"$f":"IF('[1]Student Record'!K291=\"\",\"\",'[1]Student Record'!K291)","v":""},{"$f":"IF('Student Record'!E289=\"\",\"\",'Student Record'!E289)","v":""},{"$f":"IF('Student Record'!G289=\"\",\"\",'Student Record'!G289)","v":""},{"$f":"IF('Student Record'!H289=\"\",\"\",'Student Record'!H289)","v":""},{"$f":"IF('Student Record'!J289=\"\",\"\",'Student Record'!J289)","v":""},{"$f":"IF('Student Record'!D291=\"\",\"\",'Student Record'!D291)","v":""},{"$f":"IF('Student Record'!T289=\"\",\"\",'Student Record'!T289)","v":""},{"$f":"IF('Student Record'!V289=\"\",\"\",'Student Record'!V289)","v":""},{"$f":"IF('Student Record'!W291=\"\",\"\",'Student Record'!W291)","v":""}]
[{"$f":"IF(Table1[[#This Row],[Name of Student]]=\"\",\"\",ROWS($A$1:A289))","v":""},{"$f":"IF('Student Record'!A290=\"\",\"\",'Student Record'!A290)","v":""},{"$f":"IF('Student Record'!C290=\"\",\"\",'Student Record'!C290)","v":""},{"$f":"IF('[1]Student Record'!K292=\"\",\"\",'[1]Student Record'!K292)","v":""},{"$f":"IF('Student Record'!E290=\"\",\"\",'Student Record'!E290)","v":""},{"$f":"IF('Student Record'!G290=\"\",\"\",'Student Record'!G290)","v":""},{"$f":"IF('Student Record'!H290=\"\",\"\",'Student Record'!H290)","v":""},{"$f":"IF('Student Record'!J290=\"\",\"\",'Student Record'!J290)","v":""},{"$f":"IF('Student Record'!D292=\"\",\"\",'Student Record'!D292)","v":""},{"$f":"IF('Student Record'!T290=\"\",\"\",'Student Record'!T290)","v":""},{"$f":"IF('Student Record'!V290=\"\",\"\",'Student Record'!V290)","v":""},{"$f":"IF('Student Record'!W292=\"\",\"\",'Student Record'!W292)","v":""}]
[{"$f":"IF(Table1[[#This Row],[Name of Student]]=\"\",\"\",ROWS($A$1:A290))","v":""},{"$f":"IF('Student Record'!A291=\"\",\"\",'Student Record'!A291)","v":""},{"$f":"IF('Student Record'!C291=\"\",\"\",'Student Record'!C291)","v":""},{"$f":"IF('[1]Student Record'!K293=\"\",\"\",'[1]Student Record'!K293)","v":""},{"$f":"IF('Student Record'!E291=\"\",\"\",'Student Record'!E291)","v":""},{"$f":"IF('Student Record'!G291=\"\",\"\",'Student Record'!G291)","v":""},{"$f":"IF('Student Record'!H291=\"\",\"\",'Student Record'!H291)","v":""},{"$f":"IF('Student Record'!J291=\"\",\"\",'Student Record'!J291)","v":""},{"$f":"IF('Student Record'!D293=\"\",\"\",'Student Record'!D293)","v":""},{"$f":"IF('Student Record'!T291=\"\",\"\",'Student Record'!T291)","v":""},{"$f":"IF('Student Record'!V291=\"\",\"\",'Student Record'!V291)","v":""},{"$f":"IF('Student Record'!W293=\"\",\"\",'Student Record'!W293)","v":""}]
[{"$f":"IF(Table1[[#This Row],[Name of Student]]=\"\",\"\",ROWS($A$1:A291))","v":""},{"$f":"IF('Student Record'!A292=\"\",\"\",'Student Record'!A292)","v":""},{"$f":"IF('Student Record'!C292=\"\",\"\",'Student Record'!C292)","v":""},{"$f":"IF('[1]Student Record'!K294=\"\",\"\",'[1]Student Record'!K294)","v":""},{"$f":"IF('Student Record'!E292=\"\",\"\",'Student Record'!E292)","v":""},{"$f":"IF('Student Record'!G292=\"\",\"\",'Student Record'!G292)","v":""},{"$f":"IF('Student Record'!H292=\"\",\"\",'Student Record'!H292)","v":""},{"$f":"IF('Student Record'!J292=\"\",\"\",'Student Record'!J292)","v":""},{"$f":"IF('Student Record'!D294=\"\",\"\",'Student Record'!D294)","v":""},{"$f":"IF('Student Record'!T292=\"\",\"\",'Student Record'!T292)","v":""},{"$f":"IF('Student Record'!V292=\"\",\"\",'Student Record'!V292)","v":""},{"$f":"IF('Student Record'!W294=\"\",\"\",'Student Record'!W294)","v":""}]
[{"$f":"IF(Table1[[#This Row],[Name of Student]]=\"\",\"\",ROWS($A$1:A292))","v":""},{"$f":"IF('Student Record'!A293=\"\",\"\",'Student Record'!A293)","v":""},{"$f":"IF('Student Record'!C293=\"\",\"\",'Student Record'!C293)","v":""},{"$f":"IF('[1]Student Record'!K295=\"\",\"\",'[1]Student Record'!K295)","v":""},{"$f":"IF('Student Record'!E293=\"\",\"\",'Student Record'!E293)","v":""},{"$f":"IF('Student Record'!G293=\"\",\"\",'Student Record'!G293)","v":""},{"$f":"IF('Student Record'!H293=\"\",\"\",'Student Record'!H293)","v":""},{"$f":"IF('Student Record'!J293=\"\",\"\",'Student Record'!J293)","v":""},{"$f":"IF('Student Record'!D295=\"\",\"\",'Student Record'!D295)","v":""},{"$f":"IF('Student Record'!T293=\"\",\"\",'Student Record'!T293)","v":""},{"$f":"IF('Student Record'!V293=\"\",\"\",'Student Record'!V293)","v":""},{"$f":"IF('Student Record'!W295=\"\",\"\",'Student Record'!W295)","v":""}]
[{"$f":"IF(Table1[[#This Row],[Name of Student]]=\"\",\"\",ROWS($A$1:A293))","v":""},{"$f":"IF('Student Record'!A294=\"\",\"\",'Student Record'!A294)","v":""},{"$f":"IF('Student Record'!C294=\"\",\"\",'Student Record'!C294)","v":""},{"$f":"IF('[1]Student Record'!K296=\"\",\"\",'[1]Student Record'!K296)","v":""},{"$f":"IF('Student Record'!E294=\"\",\"\",'Student Record'!E294)","v":""},{"$f":"IF('Student Record'!G294=\"\",\"\",'Student Record'!G294)","v":""},{"$f":"IF('Student Record'!H294=\"\",\"\",'Student Record'!H294)","v":""},{"$f":"IF('Student Record'!J294=\"\",\"\",'Student Record'!J294)","v":""},{"$f":"IF('Student Record'!D296=\"\",\"\",'Student Record'!D296)","v":""},{"$f":"IF('Student Record'!T294=\"\",\"\",'Student Record'!T294)","v":""},{"$f":"IF('Student Record'!V294=\"\",\"\",'Student Record'!V294)","v":""},{"$f":"IF('Student Record'!W296=\"\",\"\",'Student Record'!W296)","v":""}]
[{"$f":"IF(Table1[[#This Row],[Name of Student]]=\"\",\"\",ROWS($A$1:A294))","v":""},{"$f":"IF('Student Record'!A295=\"\",\"\",'Student Record'!A295)","v":""},{"$f":"IF('Student Record'!C295=\"\",\"\",'Student Record'!C295)","v":""},{"$f":"IF('[1]Student Record'!K297=\"\",\"\",'[1]Student Record'!K297)","v":""},{"$f":"IF('Student Record'!E295=\"\",\"\",'Student Record'!E295)","v":""},{"$f":"IF('Student Record'!G295=\"\",\"\",'Student Record'!G295)","v":""},{"$f":"IF('Student Record'!H295=\"\",\"\",'Student Record'!H295)","v":""},{"$f":"IF('Student Record'!J295=\"\",\"\",'Student Record'!J295)","v":""},{"$f":"IF('Student Record'!D297=\"\",\"\",'Student Record'!D297)","v":""},{"$f":"IF('Student Record'!T295=\"\",\"\",'Student Record'!T295)","v":""},{"$f":"IF('Student Record'!V295=\"\",\"\",'Student Record'!V295)","v":""},{"$f":"IF('Student Record'!W297=\"\",\"\",'Student Record'!W297)","v":""}]
[{"$f":"IF(Table1[[#This Row],[Name of Student]]=\"\",\"\",ROWS($A$1:A295))","v":""},{"$f":"IF('Student Record'!A296=\"\",\"\",'Student Record'!A296)","v":""},{"$f":"IF('Student Record'!C296=\"\",\"\",'Student Record'!C296)","v":""},{"$f":"IF('[1]Student Record'!K298=\"\",\"\",'[1]Student Record'!K298)","v":""},{"$f":"IF('Student Record'!E296=\"\",\"\",'Student Record'!E296)","v":""},{"$f":"IF('Student Record'!G296=\"\",\"\",'Student Record'!G296)","v":""},{"$f":"IF('Student Record'!H296=\"\",\"\",'Student Record'!H296)","v":""},{"$f":"IF('Student Record'!J296=\"\",\"\",'Student Record'!J296)","v":""},{"$f":"IF('Student Record'!D298=\"\",\"\",'Student Record'!D298)","v":""},{"$f":"IF('Student Record'!T296=\"\",\"\",'Student Record'!T296)","v":""},{"$f":"IF('Student Record'!V296=\"\",\"\",'Student Record'!V296)","v":""},{"$f":"IF('Student Record'!W298=\"\",\"\",'Student Record'!W298)","v":""}]
[{"$f":"IF(Table1[[#This Row],[Name of Student]]=\"\",\"\",ROWS($A$1:A296))","v":""},{"$f":"IF('Student Record'!A297=\"\",\"\",'Student Record'!A297)","v":""},{"$f":"IF('Student Record'!C297=\"\",\"\",'Student Record'!C297)","v":""},{"$f":"IF('[1]Student Record'!K299=\"\",\"\",'[1]Student Record'!K299)","v":""},{"$f":"IF('Student Record'!E297=\"\",\"\",'Student Record'!E297)","v":""},{"$f":"IF('Student Record'!G297=\"\",\"\",'Student Record'!G297)","v":""},{"$f":"IF('Student Record'!H297=\"\",\"\",'Student Record'!H297)","v":""},{"$f":"IF('Student Record'!J297=\"\",\"\",'Student Record'!J297)","v":""},{"$f":"IF('Student Record'!D299=\"\",\"\",'Student Record'!D299)","v":""},{"$f":"IF('Student Record'!T297=\"\",\"\",'Student Record'!T297)","v":""},{"$f":"IF('Student Record'!V297=\"\",\"\",'Student Record'!V297)","v":""},{"$f":"IF('Student Record'!W299=\"\",\"\",'Student Record'!W299)","v":""}]
[{"$f":"IF(Table1[[#This Row],[Name of Student]]=\"\",\"\",ROWS($A$1:A297))","v":""},{"$f":"IF('Student Record'!A298=\"\",\"\",'Student Record'!A298)","v":""},{"$f":"IF('Student Record'!C298=\"\",\"\",'Student Record'!C298)","v":""},{"$f":"IF('[1]Student Record'!K300=\"\",\"\",'[1]Student Record'!K300)","v":""},{"$f":"IF('Student Record'!E298=\"\",\"\",'Student Record'!E298)","v":""},{"$f":"IF('Student Record'!G298=\"\",\"\",'Student Record'!G298)","v":""},{"$f":"IF('Student Record'!H298=\"\",\"\",'Student Record'!H298)","v":""},{"$f":"IF('Student Record'!J298=\"\",\"\",'Student Record'!J298)","v":""},{"$f":"IF('Student Record'!D300=\"\",\"\",'Student Record'!D300)","v":""},{"$f":"IF('Student Record'!T298=\"\",\"\",'Student Record'!T298)","v":""},{"$f":"IF('Student Record'!V298=\"\",\"\",'Student Record'!V298)","v":""},{"$f":"IF('Student Record'!W300=\"\",\"\",'Student Record'!W300)","v":""}]
[{"$f":"IF(Table1[[#This Row],[Name of Student]]=\"\",\"\",ROWS($A$1:A298))","v":""},{"$f":"IF('Student Record'!A299=\"\",\"\",'Student Record'!A299)","v":""},{"$f":"IF('Student Record'!C299=\"\",\"\",'Student Record'!C299)","v":""},{"$f":"IF('[1]Student Record'!K301=\"\",\"\",'[1]Student Record'!K301)","v":""},{"$f":"IF('Student Record'!E299=\"\",\"\",'Student Record'!E299)","v":""},{"$f":"IF('Student Record'!G299=\"\",\"\",'Student Record'!G299)","v":""},{"$f":"IF('Student Record'!H299=\"\",\"\",'Student Record'!H299)","v":""},{"$f":"IF('Student Record'!J299=\"\",\"\",'Student Record'!J299)","v":""},{"$f":"IF('Student Record'!D301=\"\",\"\",'Student Record'!D301)","v":""},{"$f":"IF('Student Record'!T299=\"\",\"\",'Student Record'!T299)","v":""},{"$f":"IF('Student Record'!V299=\"\",\"\",'Student Record'!V299)","v":""},{"$f":"IF('Student Record'!W301=\"\",\"\",'Student Record'!W301)","v":""}]
[{"$f":"IF(Table1[[#This Row],[Name of Student]]=\"\",\"\",ROWS($A$1:A299))","v":""},{"$f":"IF('Student Record'!A300=\"\",\"\",'Student Record'!A300)","v":""},{"$f":"IF('Student Record'!C300=\"\",\"\",'Student Record'!C300)","v":""},{"$f":"IF('[1]Student Record'!K302=\"\",\"\",'[1]Student Record'!K302)","v":""},{"$f":"IF('Student Record'!E300=\"\",\"\",'Student Record'!E300)","v":""},{"$f":"IF('Student Record'!G300=\"\",\"\",'Student Record'!G300)","v":""},{"$f":"IF('Student Record'!H300=\"\",\"\",'Student Record'!H300)","v":""},{"$f":"IF('Student Record'!J300=\"\",\"\",'Student Record'!J300)","v":""},{"$f":"IF('Student Record'!D302=\"\",\"\",'Student Record'!D302)","v":""},{"$f":"IF('Student Record'!T300=\"\",\"\",'Student Record'!T300)","v":""},{"$f":"IF('Student Record'!V300=\"\",\"\",'Student Record'!V300)","v":""},{"$f":"IF('Student Record'!W302=\"\",\"\",'Student Record'!W302)","v":""}]
[{"$f":"IF(Table1[[#This Row],[Name of Student]]=\"\",\"\",ROWS($A$1:A300))","v":""},{"$f":"IF('Student Record'!A301=\"\",\"\",'Student Record'!A301)","v":""},{"$f":"IF('Student Record'!C301=\"\",\"\",'Student Record'!C301)","v":""},{"$f":"IF('[1]Student Record'!K303=\"\",\"\",'[1]Student Record'!K303)","v":""},{"$f":"IF('Student Record'!E301=\"\",\"\",'Student Record'!E301)","v":""},{"$f":"IF('Student Record'!G301=\"\",\"\",'Student Record'!G301)","v":""},{"$f":"IF('Student Record'!H301=\"\",\"\",'Student Record'!H301)","v":""},{"$f":"IF('Student Record'!J301=\"\",\"\",'Student Record'!J301)","v":""},{"$f":"IF('Student Record'!D303=\"\",\"\",'Student Record'!D303)","v":""},{"$f":"IF('Student Record'!T301=\"\",\"\",'Student Record'!T301)","v":""},{"$f":"IF('Student Record'!V301=\"\",\"\",'Student Record'!V301)","v":""},{"$f":"IF('Student Record'!W303=\"\",\"\",'Student Record'!W303)","v":""}]
[{"$f":"IF(Table1[[#This Row],[Name of Student]]=\"\",\"\",ROWS($A$1:A301))","v":""},{"$f":"IF('Student Record'!A302=\"\",\"\",'Student Record'!A302)","v":""},{"$f":"IF('Student Record'!C302=\"\",\"\",'Student Record'!C302)","v":""},{"$f":"IF('[1]Student Record'!K304=\"\",\"\",'[1]Student Record'!K304)","v":""},{"$f":"IF('Student Record'!E302=\"\",\"\",'Student Record'!E302)","v":""},{"$f":"IF('Student Record'!G302=\"\",\"\",'Student Record'!G302)","v":""},{"$f":"IF('Student Record'!H302=\"\",\"\",'Student Record'!H302)","v":""},{"$f":"IF('Student Record'!J302=\"\",\"\",'Student Record'!J302)","v":""},{"$f":"IF('Student Record'!D304=\"\",\"\",'Student Record'!D304)","v":""},{"$f":"IF('Student Record'!T302=\"\",\"\",'Student Record'!T302)","v":""},{"$f":"IF('Student Record'!V302=\"\",\"\",'Student Record'!V302)","v":""},{"$f":"IF('Student Record'!W304=\"\",\"\",'Student Record'!W304)","v":""}]
[{"$f":"IF(Table1[[#This Row],[Name of Student]]=\"\",\"\",ROWS($A$1:A302))","v":""},{"$f":"IF('Student Record'!A303=\"\",\"\",'Student Record'!A303)","v":""},{"$f":"IF('Student Record'!C303=\"\",\"\",'Student Record'!C303)","v":""},{"$f":"IF('[1]Student Record'!K305=\"\",\"\",'[1]Student Record'!K305)","v":""},{"$f":"IF('Student Record'!E303=\"\",\"\",'Student Record'!E303)","v":""},{"$f":"IF('Student Record'!G303=\"\",\"\",'Student Record'!G303)","v":""},{"$f":"IF('Student Record'!H303=\"\",\"\",'Student Record'!H303)","v":""},{"$f":"IF('Student Record'!J303=\"\",\"\",'Student Record'!J303)","v":""},{"$f":"IF('Student Record'!D305=\"\",\"\",'Student Record'!D305)","v":""},{"$f":"IF('Student Record'!T303=\"\",\"\",'Student Record'!T303)","v":""},{"$f":"IF('Student Record'!V303=\"\",\"\",'Student Record'!V303)","v":""},{"$f":"IF('Student Record'!W305=\"\",\"\",'Student Record'!W305)","v":""}]
[{"$f":"IF(Table1[[#This Row],[Name of Student]]=\"\",\"\",ROWS($A$1:A303))","v":""},{"$f":"IF('Student Record'!A304=\"\",\"\",'Student Record'!A304)","v":""},{"$f":"IF('Student Record'!C304=\"\",\"\",'Student Record'!C304)","v":""},{"$f":"IF('[1]Student Record'!K306=\"\",\"\",'[1]Student Record'!K306)","v":""},{"$f":"IF('Student Record'!E304=\"\",\"\",'Student Record'!E304)","v":""},{"$f":"IF('Student Record'!G304=\"\",\"\",'Student Record'!G304)","v":""},{"$f":"IF('Student Record'!H304=\"\",\"\",'Student Record'!H304)","v":""},{"$f":"IF('Student Record'!J304=\"\",\"\",'Student Record'!J304)","v":""},{"$f":"IF('Student Record'!D306=\"\",\"\",'Student Record'!D306)","v":""},{"$f":"IF('Student Record'!T304=\"\",\"\",'Student Record'!T304)","v":""},{"$f":"IF('Student Record'!V304=\"\",\"\",'Student Record'!V304)","v":""},{"$f":"IF('Student Record'!W306=\"\",\"\",'Student Record'!W306)","v":""}]
[{"$f":"IF(Table1[[#This Row],[Name of Student]]=\"\",\"\",ROWS($A$1:A304))","v":""},{"$f":"IF('Student Record'!A305=\"\",\"\",'Student Record'!A305)","v":""},{"$f":"IF('Student Record'!C305=\"\",\"\",'Student Record'!C305)","v":""},{"$f":"IF('[1]Student Record'!K307=\"\",\"\",'[1]Student Record'!K307)","v":""},{"$f":"IF('Student Record'!E305=\"\",\"\",'Student Record'!E305)","v":""},{"$f":"IF('Student Record'!G305=\"\",\"\",'Student Record'!G305)","v":""},{"$f":"IF('Student Record'!H305=\"\",\"\",'Student Record'!H305)","v":""},{"$f":"IF('Student Record'!J305=\"\",\"\",'Student Record'!J305)","v":""},{"$f":"IF('Student Record'!D307=\"\",\"\",'Student Record'!D307)","v":""},{"$f":"IF('Student Record'!T305=\"\",\"\",'Student Record'!T305)","v":""},{"$f":"IF('Student Record'!V305=\"\",\"\",'Student Record'!V305)","v":""},{"$f":"IF('Student Record'!W307=\"\",\"\",'Student Record'!W307)","v":""}]
[{"$f":"IF(Table1[[#This Row],[Name of Student]]=\"\",\"\",ROWS($A$1:A305))","v":""},{"$f":"IF('Student Record'!A306=\"\",\"\",'Student Record'!A306)","v":""},{"$f":"IF('Student Record'!C306=\"\",\"\",'Student Record'!C306)","v":""},{"$f":"IF('[1]Student Record'!K308=\"\",\"\",'[1]Student Record'!K308)","v":""},{"$f":"IF('Student Record'!E306=\"\",\"\",'Student Record'!E306)","v":""},{"$f":"IF('Student Record'!G306=\"\",\"\",'Student Record'!G306)","v":""},{"$f":"IF('Student Record'!H306=\"\",\"\",'Student Record'!H306)","v":""},{"$f":"IF('Student Record'!J306=\"\",\"\",'Student Record'!J306)","v":""},{"$f":"IF('Student Record'!D308=\"\",\"\",'Student Record'!D308)","v":""},{"$f":"IF('Student Record'!T306=\"\",\"\",'Student Record'!T306)","v":""},{"$f":"IF('Student Record'!V306=\"\",\"\",'Student Record'!V306)","v":""},{"$f":"IF('Student Record'!W308=\"\",\"\",'Student Record'!W308)","v":""}]
[{"$f":"IF(Table1[[#This Row],[Name of Student]]=\"\",\"\",ROWS($A$1:A306))","v":""},{"$f":"IF('Student Record'!A307=\"\",\"\",'Student Record'!A307)","v":""},{"$f":"IF('Student Record'!C307=\"\",\"\",'Student Record'!C307)","v":""},{"$f":"IF('[1]Student Record'!K309=\"\",\"\",'[1]Student Record'!K309)","v":""},{"$f":"IF('Student Record'!E307=\"\",\"\",'Student Record'!E307)","v":""},{"$f":"IF('Student Record'!G307=\"\",\"\",'Student Record'!G307)","v":""},{"$f":"IF('Student Record'!H307=\"\",\"\",'Student Record'!H307)","v":""},{"$f":"IF('Student Record'!J307=\"\",\"\",'Student Record'!J307)","v":""},{"$f":"IF('Student Record'!D309=\"\",\"\",'Student Record'!D309)","v":""},{"$f":"IF('Student Record'!T307=\"\",\"\",'Student Record'!T307)","v":""},{"$f":"IF('Student Record'!V307=\"\",\"\",'Student Record'!V307)","v":""},{"$f":"IF('Student Record'!W309=\"\",\"\",'Student Record'!W309)","v":""}]
[{"$f":"IF(Table1[[#This Row],[Name of Student]]=\"\",\"\",ROWS($A$1:A307))","v":""},{"$f":"IF('Student Record'!A308=\"\",\"\",'Student Record'!A308)","v":""},{"$f":"IF('Student Record'!C308=\"\",\"\",'Student Record'!C308)","v":""},{"$f":"IF('[1]Student Record'!K310=\"\",\"\",'[1]Student Record'!K310)","v":""},{"$f":"IF('Student Record'!E308=\"\",\"\",'Student Record'!E308)","v":""},{"$f":"IF('Student Record'!G308=\"\",\"\",'Student Record'!G308)","v":""},{"$f":"IF('Student Record'!H308=\"\",\"\",'Student Record'!H308)","v":""},{"$f":"IF('Student Record'!J308=\"\",\"\",'Student Record'!J308)","v":""},{"$f":"IF('Student Record'!D310=\"\",\"\",'Student Record'!D310)","v":""},{"$f":"IF('Student Record'!T308=\"\",\"\",'Student Record'!T308)","v":""},{"$f":"IF('Student Record'!V308=\"\",\"\",'Student Record'!V308)","v":""},{"$f":"IF('Student Record'!W310=\"\",\"\",'Student Record'!W310)","v":""}]
[{"$f":"IF(Table1[[#This Row],[Name of Student]]=\"\",\"\",ROWS($A$1:A308))","v":""},{"$f":"IF('Student Record'!A309=\"\",\"\",'Student Record'!A309)","v":""},{"$f":"IF('Student Record'!C309=\"\",\"\",'Student Record'!C309)","v":""},{"$f":"IF('[1]Student Record'!K311=\"\",\"\",'[1]Student Record'!K311)","v":""},{"$f":"IF('Student Record'!E309=\"\",\"\",'Student Record'!E309)","v":""},{"$f":"IF('Student Record'!G309=\"\",\"\",'Student Record'!G309)","v":""},{"$f":"IF('Student Record'!H309=\"\",\"\",'Student Record'!H309)","v":""},{"$f":"IF('Student Record'!J309=\"\",\"\",'Student Record'!J309)","v":""},{"$f":"IF('Student Record'!D311=\"\",\"\",'Student Record'!D311)","v":""},{"$f":"IF('Student Record'!T309=\"\",\"\",'Student Record'!T309)","v":""},{"$f":"IF('Student Record'!V309=\"\",\"\",'Student Record'!V309)","v":""},{"$f":"IF('Student Record'!W311=\"\",\"\",'Student Record'!W311)","v":""}]
[{"$f":"IF(Table1[[#This Row],[Name of Student]]=\"\",\"\",ROWS($A$1:A309))","v":""},{"$f":"IF('Student Record'!A310=\"\",\"\",'Student Record'!A310)","v":""},{"$f":"IF('Student Record'!C310=\"\",\"\",'Student Record'!C310)","v":""},{"$f":"IF('[1]Student Record'!K312=\"\",\"\",'[1]Student Record'!K312)","v":""},{"$f":"IF('Student Record'!E310=\"\",\"\",'Student Record'!E310)","v":""},{"$f":"IF('Student Record'!G310=\"\",\"\",'Student Record'!G310)","v":""},{"$f":"IF('Student Record'!H310=\"\",\"\",'Student Record'!H310)","v":""},{"$f":"IF('Student Record'!J310=\"\",\"\",'Student Record'!J310)","v":""},{"$f":"IF('Student Record'!D312=\"\",\"\",'Student Record'!D312)","v":""},{"$f":"IF('Student Record'!T310=\"\",\"\",'Student Record'!T310)","v":""},{"$f":"IF('Student Record'!V310=\"\",\"\",'Student Record'!V310)","v":""},{"$f":"IF('Student Record'!W312=\"\",\"\",'Student Record'!W312)","v":""}]
[{"$f":"IF(Table1[[#This Row],[Name of Student]]=\"\",\"\",ROWS($A$1:A310))","v":""},{"$f":"IF('Student Record'!A311=\"\",\"\",'Student Record'!A311)","v":""},{"$f":"IF('Student Record'!C311=\"\",\"\",'Student Record'!C311)","v":""},{"$f":"IF('[1]Student Record'!K313=\"\",\"\",'[1]Student Record'!K313)","v":""},{"$f":"IF('Student Record'!E311=\"\",\"\",'Student Record'!E311)","v":""},{"$f":"IF('Student Record'!G311=\"\",\"\",'Student Record'!G311)","v":""},{"$f":"IF('Student Record'!H311=\"\",\"\",'Student Record'!H311)","v":""},{"$f":"IF('Student Record'!J311=\"\",\"\",'Student Record'!J311)","v":""},{"$f":"IF('Student Record'!D313=\"\",\"\",'Student Record'!D313)","v":""},{"$f":"IF('Student Record'!T311=\"\",\"\",'Student Record'!T311)","v":""},{"$f":"IF('Student Record'!V311=\"\",\"\",'Student Record'!V311)","v":""},{"$f":"IF('Student Record'!W313=\"\",\"\",'Student Record'!W313)","v":""}]
[{"$f":"IF(Table1[[#This Row],[Name of Student]]=\"\",\"\",ROWS($A$1:A311))","v":""},{"$f":"IF('Student Record'!A312=\"\",\"\",'Student Record'!A312)","v":""},{"$f":"IF('Student Record'!C312=\"\",\"\",'Student Record'!C312)","v":""},{"$f":"IF('[1]Student Record'!K314=\"\",\"\",'[1]Student Record'!K314)","v":""},{"$f":"IF('Student Record'!E312=\"\",\"\",'Student Record'!E312)","v":""},{"$f":"IF('Student Record'!G312=\"\",\"\",'Student Record'!G312)","v":""},{"$f":"IF('Student Record'!H312=\"\",\"\",'Student Record'!H312)","v":""},{"$f":"IF('Student Record'!J312=\"\",\"\",'Student Record'!J312)","v":""},{"$f":"IF('Student Record'!D314=\"\",\"\",'Student Record'!D314)","v":""},{"$f":"IF('Student Record'!T312=\"\",\"\",'Student Record'!T312)","v":""},{"$f":"IF('Student Record'!V312=\"\",\"\",'Student Record'!V312)","v":""},{"$f":"IF('Student Record'!W314=\"\",\"\",'Student Record'!W314)","v":""}]
[{"$f":"IF(Table1[[#This Row],[Name of Student]]=\"\",\"\",ROWS($A$1:A312))","v":""},{"$f":"IF('Student Record'!A313=\"\",\"\",'Student Record'!A313)","v":""},{"$f":"IF('Student Record'!C313=\"\",\"\",'Student Record'!C313)","v":""},{"$f":"IF('[1]Student Record'!K315=\"\",\"\",'[1]Student Record'!K315)","v":""},{"$f":"IF('Student Record'!E313=\"\",\"\",'Student Record'!E313)","v":""},{"$f":"IF('Student Record'!G313=\"\",\"\",'Student Record'!G313)","v":""},{"$f":"IF('Student Record'!H313=\"\",\"\",'Student Record'!H313)","v":""},{"$f":"IF('Student Record'!J313=\"\",\"\",'Student Record'!J313)","v":""},{"$f":"IF('Student Record'!D315=\"\",\"\",'Student Record'!D315)","v":""},{"$f":"IF('Student Record'!T313=\"\",\"\",'Student Record'!T313)","v":""},{"$f":"IF('Student Record'!V313=\"\",\"\",'Student Record'!V313)","v":""},{"$f":"IF('Student Record'!W315=\"\",\"\",'Student Record'!W315)","v":""}]
[{"$f":"IF(Table1[[#This Row],[Name of Student]]=\"\",\"\",ROWS($A$1:A313))","v":""},{"$f":"IF('Student Record'!A314=\"\",\"\",'Student Record'!A314)","v":""},{"$f":"IF('Student Record'!C314=\"\",\"\",'Student Record'!C314)","v":""},{"$f":"IF('[1]Student Record'!K316=\"\",\"\",'[1]Student Record'!K316)","v":""},{"$f":"IF('Student Record'!E314=\"\",\"\",'Student Record'!E314)","v":""},{"$f":"IF('Student Record'!G314=\"\",\"\",'Student Record'!G314)","v":""},{"$f":"IF('Student Record'!H314=\"\",\"\",'Student Record'!H314)","v":""},{"$f":"IF('Student Record'!J314=\"\",\"\",'Student Record'!J314)","v":""},{"$f":"IF('Student Record'!D316=\"\",\"\",'Student Record'!D316)","v":""},{"$f":"IF('Student Record'!T314=\"\",\"\",'Student Record'!T314)","v":""},{"$f":"IF('Student Record'!V314=\"\",\"\",'Student Record'!V314)","v":""},{"$f":"IF('Student Record'!W316=\"\",\"\",'Student Record'!W316)","v":""}]
[{"$f":"IF(Table1[[#This Row],[Name of Student]]=\"\",\"\",ROWS($A$1:A314))","v":""},{"$f":"IF('Student Record'!A315=\"\",\"\",'Student Record'!A315)","v":""},{"$f":"IF('Student Record'!C315=\"\",\"\",'Student Record'!C315)","v":""},{"$f":"IF('[1]Student Record'!K317=\"\",\"\",'[1]Student Record'!K317)","v":""},{"$f":"IF('Student Record'!E315=\"\",\"\",'Student Record'!E315)","v":""},{"$f":"IF('Student Record'!G315=\"\",\"\",'Student Record'!G315)","v":""},{"$f":"IF('Student Record'!H315=\"\",\"\",'Student Record'!H315)","v":""},{"$f":"IF('Student Record'!J315=\"\",\"\",'Student Record'!J315)","v":""},{"$f":"IF('Student Record'!D317=\"\",\"\",'Student Record'!D317)","v":""},{"$f":"IF('Student Record'!T315=\"\",\"\",'Student Record'!T315)","v":""},{"$f":"IF('Student Record'!V315=\"\",\"\",'Student Record'!V315)","v":""},{"$f":"IF('Student Record'!W317=\"\",\"\",'Student Record'!W317)","v":""}]
[{"$f":"IF(Table1[[#This Row],[Name of Student]]=\"\",\"\",ROWS($A$1:A315))","v":""},{"$f":"IF('Student Record'!A316=\"\",\"\",'Student Record'!A316)","v":""},{"$f":"IF('Student Record'!C316=\"\",\"\",'Student Record'!C316)","v":""},{"$f":"IF('[1]Student Record'!K318=\"\",\"\",'[1]Student Record'!K318)","v":""},{"$f":"IF('Student Record'!E316=\"\",\"\",'Student Record'!E316)","v":""},{"$f":"IF('Student Record'!G316=\"\",\"\",'Student Record'!G316)","v":""},{"$f":"IF('Student Record'!H316=\"\",\"\",'Student Record'!H316)","v":""},{"$f":"IF('Student Record'!J316=\"\",\"\",'Student Record'!J316)","v":""},{"$f":"IF('Student Record'!D318=\"\",\"\",'Student Record'!D318)","v":""},{"$f":"IF('Student Record'!T316=\"\",\"\",'Student Record'!T316)","v":""},{"$f":"IF('Student Record'!V316=\"\",\"\",'Student Record'!V316)","v":""},{"$f":"IF('Student Record'!W318=\"\",\"\",'Student Record'!W318)","v":""}]
[{"$f":"IF(Table1[[#This Row],[Name of Student]]=\"\",\"\",ROWS($A$1:A316))","v":""},{"$f":"IF('Student Record'!A317=\"\",\"\",'Student Record'!A317)","v":""},{"$f":"IF('Student Record'!C317=\"\",\"\",'Student Record'!C317)","v":""},{"$f":"IF('[1]Student Record'!K319=\"\",\"\",'[1]Student Record'!K319)","v":""},{"$f":"IF('Student Record'!E317=\"\",\"\",'Student Record'!E317)","v":""},{"$f":"IF('Student Record'!G317=\"\",\"\",'Student Record'!G317)","v":""},{"$f":"IF('Student Record'!H317=\"\",\"\",'Student Record'!H317)","v":""},{"$f":"IF('Student Record'!J317=\"\",\"\",'Student Record'!J317)","v":""},{"$f":"IF('Student Record'!D319=\"\",\"\",'Student Record'!D319)","v":""},{"$f":"IF('Student Record'!T317=\"\",\"\",'Student Record'!T317)","v":""},{"$f":"IF('Student Record'!V317=\"\",\"\",'Student Record'!V317)","v":""},{"$f":"IF('Student Record'!W319=\"\",\"\",'Student Record'!W319)","v":""}]
[{"$f":"IF(Table1[[#This Row],[Name of Student]]=\"\",\"\",ROWS($A$1:A317))","v":""},{"$f":"IF('Student Record'!A318=\"\",\"\",'Student Record'!A318)","v":""},{"$f":"IF('Student Record'!C318=\"\",\"\",'Student Record'!C318)","v":""},{"$f":"IF('[1]Student Record'!K320=\"\",\"\",'[1]Student Record'!K320)","v":""},{"$f":"IF('Student Record'!E318=\"\",\"\",'Student Record'!E318)","v":""},{"$f":"IF('Student Record'!G318=\"\",\"\",'Student Record'!G318)","v":""},{"$f":"IF('Student Record'!H318=\"\",\"\",'Student Record'!H318)","v":""},{"$f":"IF('Student Record'!J318=\"\",\"\",'Student Record'!J318)","v":""},{"$f":"IF('Student Record'!D320=\"\",\"\",'Student Record'!D320)","v":""},{"$f":"IF('Student Record'!T318=\"\",\"\",'Student Record'!T318)","v":""},{"$f":"IF('Student Record'!V318=\"\",\"\",'Student Record'!V318)","v":""},{"$f":"IF('Student Record'!W320=\"\",\"\",'Student Record'!W320)","v":""}]
[{"$f":"IF(Table1[[#This Row],[Name of Student]]=\"\",\"\",ROWS($A$1:A318))","v":""},{"$f":"IF('Student Record'!A319=\"\",\"\",'Student Record'!A319)","v":""},{"$f":"IF('Student Record'!C319=\"\",\"\",'Student Record'!C319)","v":""},{"$f":"IF('[1]Student Record'!K321=\"\",\"\",'[1]Student Record'!K321)","v":""},{"$f":"IF('Student Record'!E319=\"\",\"\",'Student Record'!E319)","v":""},{"$f":"IF('Student Record'!G319=\"\",\"\",'Student Record'!G319)","v":""},{"$f":"IF('Student Record'!H319=\"\",\"\",'Student Record'!H319)","v":""},{"$f":"IF('Student Record'!J319=\"\",\"\",'Student Record'!J319)","v":""},{"$f":"IF('Student Record'!D321=\"\",\"\",'Student Record'!D321)","v":""},{"$f":"IF('Student Record'!T319=\"\",\"\",'Student Record'!T319)","v":""},{"$f":"IF('Student Record'!V319=\"\",\"\",'Student Record'!V319)","v":""},{"$f":"IF('Student Record'!W321=\"\",\"\",'Student Record'!W321)","v":""}]
[{"$f":"IF(Table1[[#This Row],[Name of Student]]=\"\",\"\",ROWS($A$1:A319))","v":""},{"$f":"IF('Student Record'!A320=\"\",\"\",'Student Record'!A320)","v":""},{"$f":"IF('Student Record'!C320=\"\",\"\",'Student Record'!C320)","v":""},{"$f":"IF('[1]Student Record'!K322=\"\",\"\",'[1]Student Record'!K322)","v":""},{"$f":"IF('Student Record'!E320=\"\",\"\",'Student Record'!E320)","v":""},{"$f":"IF('Student Record'!G320=\"\",\"\",'Student Record'!G320)","v":""},{"$f":"IF('Student Record'!H320=\"\",\"\",'Student Record'!H320)","v":""},{"$f":"IF('Student Record'!J320=\"\",\"\",'Student Record'!J320)","v":""},{"$f":"IF('Student Record'!D322=\"\",\"\",'Student Record'!D322)","v":""},{"$f":"IF('Student Record'!T320=\"\",\"\",'Student Record'!T320)","v":""},{"$f":"IF('Student Record'!V320=\"\",\"\",'Student Record'!V320)","v":""},{"$f":"IF('Student Record'!W322=\"\",\"\",'Student Record'!W322)","v":""}]
[{"$f":"IF(Table1[[#This Row],[Name of Student]]=\"\",\"\",ROWS($A$1:A320))","v":""},{"$f":"IF('Student Record'!A321=\"\",\"\",'Student Record'!A321)","v":""},{"$f":"IF('Student Record'!C321=\"\",\"\",'Student Record'!C321)","v":""},{"$f":"IF('[1]Student Record'!K323=\"\",\"\",'[1]Student Record'!K323)","v":""},{"$f":"IF('Student Record'!E321=\"\",\"\",'Student Record'!E321)","v":""},{"$f":"IF('Student Record'!G321=\"\",\"\",'Student Record'!G321)","v":""},{"$f":"IF('Student Record'!H321=\"\",\"\",'Student Record'!H321)","v":""},{"$f":"IF('Student Record'!J321=\"\",\"\",'Student Record'!J321)","v":""},{"$f":"IF('Student Record'!D323=\"\",\"\",'Student Record'!D323)","v":""},{"$f":"IF('Student Record'!T321=\"\",\"\",'Student Record'!T321)","v":""},{"$f":"IF('Student Record'!V321=\"\",\"\",'Student Record'!V321)","v":""},{"$f":"IF('Student Record'!W323=\"\",\"\",'Student Record'!W323)","v":""}]
[{"$f":"IF(Table1[[#This Row],[Name of Student]]=\"\",\"\",ROWS($A$1:A321))","v":""},{"$f":"IF('Student Record'!A322=\"\",\"\",'Student Record'!A322)","v":""},{"$f":"IF('Student Record'!C322=\"\",\"\",'Student Record'!C322)","v":""},{"$f":"IF('[1]Student Record'!K324=\"\",\"\",'[1]Student Record'!K324)","v":""},{"$f":"IF('Student Record'!E322=\"\",\"\",'Student Record'!E322)","v":""},{"$f":"IF('Student Record'!G322=\"\",\"\",'Student Record'!G322)","v":""},{"$f":"IF('Student Record'!H322=\"\",\"\",'Student Record'!H322)","v":""},{"$f":"IF('Student Record'!J322=\"\",\"\",'Student Record'!J322)","v":""},{"$f":"IF('Student Record'!D324=\"\",\"\",'Student Record'!D324)","v":""},{"$f":"IF('Student Record'!T322=\"\",\"\",'Student Record'!T322)","v":""},{"$f":"IF('Student Record'!V322=\"\",\"\",'Student Record'!V322)","v":""},{"$f":"IF('Student Record'!W324=\"\",\"\",'Student Record'!W324)","v":""}]
[{"$f":"IF(Table1[[#This Row],[Name of Student]]=\"\",\"\",ROWS($A$1:A322))","v":""},{"$f":"IF('Student Record'!A323=\"\",\"\",'Student Record'!A323)","v":""},{"$f":"IF('Student Record'!C323=\"\",\"\",'Student Record'!C323)","v":""},{"$f":"IF('[1]Student Record'!K325=\"\",\"\",'[1]Student Record'!K325)","v":""},{"$f":"IF('Student Record'!E323=\"\",\"\",'Student Record'!E323)","v":""},{"$f":"IF('Student Record'!G323=\"\",\"\",'Student Record'!G323)","v":""},{"$f":"IF('Student Record'!H323=\"\",\"\",'Student Record'!H323)","v":""},{"$f":"IF('Student Record'!J323=\"\",\"\",'Student Record'!J323)","v":""},{"$f":"IF('Student Record'!D325=\"\",\"\",'Student Record'!D325)","v":""},{"$f":"IF('Student Record'!T323=\"\",\"\",'Student Record'!T323)","v":""},{"$f":"IF('Student Record'!V323=\"\",\"\",'Student Record'!V323)","v":""},{"$f":"IF('Student Record'!W325=\"\",\"\",'Student Record'!W325)","v":""}]
[{"$f":"IF(Table1[[#This Row],[Name of Student]]=\"\",\"\",ROWS($A$1:A323))","v":""},{"$f":"IF('Student Record'!A324=\"\",\"\",'Student Record'!A324)","v":""},{"$f":"IF('Student Record'!C324=\"\",\"\",'Student Record'!C324)","v":""},{"$f":"IF('[1]Student Record'!K326=\"\",\"\",'[1]Student Record'!K326)","v":""},{"$f":"IF('Student Record'!E324=\"\",\"\",'Student Record'!E324)","v":""},{"$f":"IF('Student Record'!G324=\"\",\"\",'Student Record'!G324)","v":""},{"$f":"IF('Student Record'!H324=\"\",\"\",'Student Record'!H324)","v":""},{"$f":"IF('Student Record'!J324=\"\",\"\",'Student Record'!J324)","v":""},{"$f":"IF('Student Record'!D326=\"\",\"\",'Student Record'!D326)","v":""},{"$f":"IF('Student Record'!T324=\"\",\"\",'Student Record'!T324)","v":""},{"$f":"IF('Student Record'!V324=\"\",\"\",'Student Record'!V324)","v":""},{"$f":"IF('Student Record'!W326=\"\",\"\",'Student Record'!W326)","v":""}]
[{"$f":"IF(Table1[[#This Row],[Name of Student]]=\"\",\"\",ROWS($A$1:A324))","v":""},{"$f":"IF('Student Record'!A325=\"\",\"\",'Student Record'!A325)","v":""},{"$f":"IF('Student Record'!C325=\"\",\"\",'Student Record'!C325)","v":""},{"$f":"IF('[1]Student Record'!K327=\"\",\"\",'[1]Student Record'!K327)","v":""},{"$f":"IF('Student Record'!E325=\"\",\"\",'Student Record'!E325)","v":""},{"$f":"IF('Student Record'!G325=\"\",\"\",'Student Record'!G325)","v":""},{"$f":"IF('Student Record'!H325=\"\",\"\",'Student Record'!H325)","v":""},{"$f":"IF('Student Record'!J325=\"\",\"\",'Student Record'!J325)","v":""},{"$f":"IF('Student Record'!D327=\"\",\"\",'Student Record'!D327)","v":""},{"$f":"IF('Student Record'!T325=\"\",\"\",'Student Record'!T325)","v":""},{"$f":"IF('Student Record'!V325=\"\",\"\",'Student Record'!V325)","v":""},{"$f":"IF('Student Record'!W327=\"\",\"\",'Student Record'!W327)","v":""}]
[{"$f":"IF(Table1[[#This Row],[Name of Student]]=\"\",\"\",ROWS($A$1:A325))","v":""},{"$f":"IF('Student Record'!A326=\"\",\"\",'Student Record'!A326)","v":""},{"$f":"IF('Student Record'!C326=\"\",\"\",'Student Record'!C326)","v":""},{"$f":"IF('[1]Student Record'!K328=\"\",\"\",'[1]Student Record'!K328)","v":""},{"$f":"IF('Student Record'!E326=\"\",\"\",'Student Record'!E326)","v":""},{"$f":"IF('Student Record'!G326=\"\",\"\",'Student Record'!G326)","v":""},{"$f":"IF('Student Record'!H326=\"\",\"\",'Student Record'!H326)","v":""},{"$f":"IF('Student Record'!J326=\"\",\"\",'Student Record'!J326)","v":""},{"$f":"IF('Student Record'!D328=\"\",\"\",'Student Record'!D328)","v":""},{"$f":"IF('Student Record'!T326=\"\",\"\",'Student Record'!T326)","v":""},{"$f":"IF('Student Record'!V326=\"\",\"\",'Student Record'!V326)","v":""},{"$f":"IF('Student Record'!W328=\"\",\"\",'Student Record'!W328)","v":""}]
[{"$f":"IF(Table1[[#This Row],[Name of Student]]=\"\",\"\",ROWS($A$1:A326))","v":""},{"$f":"IF('Student Record'!A327=\"\",\"\",'Student Record'!A327)","v":""},{"$f":"IF('Student Record'!C327=\"\",\"\",'Student Record'!C327)","v":""},{"$f":"IF('[1]Student Record'!K329=\"\",\"\",'[1]Student Record'!K329)","v":""},{"$f":"IF('Student Record'!E327=\"\",\"\",'Student Record'!E327)","v":""},{"$f":"IF('Student Record'!G327=\"\",\"\",'Student Record'!G327)","v":""},{"$f":"IF('Student Record'!H327=\"\",\"\",'Student Record'!H327)","v":""},{"$f":"IF('Student Record'!J327=\"\",\"\",'Student Record'!J327)","v":""},{"$f":"IF('Student Record'!D329=\"\",\"\",'Student Record'!D329)","v":""},{"$f":"IF('Student Record'!T327=\"\",\"\",'Student Record'!T327)","v":""},{"$f":"IF('Student Record'!V327=\"\",\"\",'Student Record'!V327)","v":""},{"$f":"IF('Student Record'!W329=\"\",\"\",'Student Record'!W329)","v":""}]
[{"$f":"IF(Table1[[#This Row],[Name of Student]]=\"\",\"\",ROWS($A$1:A327))","v":""},{"$f":"IF('Student Record'!A328=\"\",\"\",'Student Record'!A328)","v":""},{"$f":"IF('Student Record'!C328=\"\",\"\",'Student Record'!C328)","v":""},{"$f":"IF('[1]Student Record'!K330=\"\",\"\",'[1]Student Record'!K330)","v":""},{"$f":"IF('Student Record'!E328=\"\",\"\",'Student Record'!E328)","v":""},{"$f":"IF('Student Record'!G328=\"\",\"\",'Student Record'!G328)","v":""},{"$f":"IF('Student Record'!H328=\"\",\"\",'Student Record'!H328)","v":""},{"$f":"IF('Student Record'!J328=\"\",\"\",'Student Record'!J328)","v":""},{"$f":"IF('Student Record'!D330=\"\",\"\",'Student Record'!D330)","v":""},{"$f":"IF('Student Record'!T328=\"\",\"\",'Student Record'!T328)","v":""},{"$f":"IF('Student Record'!V328=\"\",\"\",'Student Record'!V328)","v":""},{"$f":"IF('Student Record'!W330=\"\",\"\",'Student Record'!W330)","v":""}]
[{"$f":"IF(Table1[[#This Row],[Name of Student]]=\"\",\"\",ROWS($A$1:A328))","v":""},{"$f":"IF('Student Record'!A329=\"\",\"\",'Student Record'!A329)","v":""},{"$f":"IF('Student Record'!C329=\"\",\"\",'Student Record'!C329)","v":""},{"$f":"IF('[1]Student Record'!K331=\"\",\"\",'[1]Student Record'!K331)","v":""},{"$f":"IF('Student Record'!E329=\"\",\"\",'Student Record'!E329)","v":""},{"$f":"IF('Student Record'!G329=\"\",\"\",'Student Record'!G329)","v":""},{"$f":"IF('Student Record'!H329=\"\",\"\",'Student Record'!H329)","v":""},{"$f":"IF('Student Record'!J329=\"\",\"\",'Student Record'!J329)","v":""},{"$f":"IF('Student Record'!D331=\"\",\"\",'Student Record'!D331)","v":""},{"$f":"IF('Student Record'!T329=\"\",\"\",'Student Record'!T329)","v":""},{"$f":"IF('Student Record'!V329=\"\",\"\",'Student Record'!V329)","v":""},{"$f":"IF('Student Record'!W331=\"\",\"\",'Student Record'!W331)","v":""}]
[{"$f":"IF(Table1[[#This Row],[Name of Student]]=\"\",\"\",ROWS($A$1:A329))","v":""},{"$f":"IF('Student Record'!A330=\"\",\"\",'Student Record'!A330)","v":""},{"$f":"IF('Student Record'!C330=\"\",\"\",'Student Record'!C330)","v":""},{"$f":"IF('[1]Student Record'!K332=\"\",\"\",'[1]Student Record'!K332)","v":""},{"$f":"IF('Student Record'!E330=\"\",\"\",'Student Record'!E330)","v":""},{"$f":"IF('Student Record'!G330=\"\",\"\",'Student Record'!G330)","v":""},{"$f":"IF('Student Record'!H330=\"\",\"\",'Student Record'!H330)","v":""},{"$f":"IF('Student Record'!J330=\"\",\"\",'Student Record'!J330)","v":""},{"$f":"IF('Student Record'!D332=\"\",\"\",'Student Record'!D332)","v":""},{"$f":"IF('Student Record'!T330=\"\",\"\",'Student Record'!T330)","v":""},{"$f":"IF('Student Record'!V330=\"\",\"\",'Student Record'!V330)","v":""},{"$f":"IF('Student Record'!W332=\"\",\"\",'Student Record'!W332)","v":""}]
[{"$f":"IF(Table1[[#This Row],[Name of Student]]=\"\",\"\",ROWS($A$1:A330))","v":""},{"$f":"IF('Student Record'!A331=\"\",\"\",'Student Record'!A331)","v":""},{"$f":"IF('Student Record'!C331=\"\",\"\",'Student Record'!C331)","v":""},{"$f":"IF('[1]Student Record'!K333=\"\",\"\",'[1]Student Record'!K333)","v":""},{"$f":"IF('Student Record'!E331=\"\",\"\",'Student Record'!E331)","v":""},{"$f":"IF('Student Record'!G331=\"\",\"\",'Student Record'!G331)","v":""},{"$f":"IF('Student Record'!H331=\"\",\"\",'Student Record'!H331)","v":""},{"$f":"IF('Student Record'!J331=\"\",\"\",'Student Record'!J331)","v":""},{"$f":"IF('Student Record'!D333=\"\",\"\",'Student Record'!D333)","v":""},{"$f":"IF('Student Record'!T331=\"\",\"\",'Student Record'!T331)","v":""},{"$f":"IF('Student Record'!V331=\"\",\"\",'Student Record'!V331)","v":""},{"$f":"IF('Student Record'!W333=\"\",\"\",'Student Record'!W333)","v":""}]
[{"$f":"IF(Table1[[#This Row],[Name of Student]]=\"\",\"\",ROWS($A$1:A331))","v":""},{"$f":"IF('Student Record'!A332=\"\",\"\",'Student Record'!A332)","v":""},{"$f":"IF('Student Record'!C332=\"\",\"\",'Student Record'!C332)","v":""},{"$f":"IF('[1]Student Record'!K334=\"\",\"\",'[1]Student Record'!K334)","v":""},{"$f":"IF('Student Record'!E332=\"\",\"\",'Student Record'!E332)","v":""},{"$f":"IF('Student Record'!G332=\"\",\"\",'Student Record'!G332)","v":""},{"$f":"IF('Student Record'!H332=\"\",\"\",'Student Record'!H332)","v":""},{"$f":"IF('Student Record'!J332=\"\",\"\",'Student Record'!J332)","v":""},{"$f":"IF('Student Record'!D334=\"\",\"\",'Student Record'!D334)","v":""},{"$f":"IF('Student Record'!T332=\"\",\"\",'Student Record'!T332)","v":""},{"$f":"IF('Student Record'!V332=\"\",\"\",'Student Record'!V332)","v":""},{"$f":"IF('Student Record'!W334=\"\",\"\",'Student Record'!W334)","v":""}]
[{"$f":"IF(Table1[[#This Row],[Name of Student]]=\"\",\"\",ROWS($A$1:A332))","v":""},{"$f":"IF('Student Record'!A333=\"\",\"\",'Student Record'!A333)","v":""},{"$f":"IF('Student Record'!C333=\"\",\"\",'Student Record'!C333)","v":""},{"$f":"IF('[1]Student Record'!K335=\"\",\"\",'[1]Student Record'!K335)","v":""},{"$f":"IF('Student Record'!E333=\"\",\"\",'Student Record'!E333)","v":""},{"$f":"IF('Student Record'!G333=\"\",\"\",'Student Record'!G333)","v":""},{"$f":"IF('Student Record'!H333=\"\",\"\",'Student Record'!H333)","v":""},{"$f":"IF('Student Record'!J333=\"\",\"\",'Student Record'!J333)","v":""},{"$f":"IF('Student Record'!D335=\"\",\"\",'Student Record'!D335)","v":""},{"$f":"IF('Student Record'!T333=\"\",\"\",'Student Record'!T333)","v":""},{"$f":"IF('Student Record'!V333=\"\",\"\",'Student Record'!V333)","v":""},{"$f":"IF('Student Record'!W335=\"\",\"\",'Student Record'!W335)","v":""}]
[{"$f":"IF(Table1[[#This Row],[Name of Student]]=\"\",\"\",ROWS($A$1:A333))","v":""},{"$f":"IF('Student Record'!A334=\"\",\"\",'Student Record'!A334)","v":""},{"$f":"IF('Student Record'!C334=\"\",\"\",'Student Record'!C334)","v":""},{"$f":"IF('[1]Student Record'!K336=\"\",\"\",'[1]Student Record'!K336)","v":""},{"$f":"IF('Student Record'!E334=\"\",\"\",'Student Record'!E334)","v":""},{"$f":"IF('Student Record'!G334=\"\",\"\",'Student Record'!G334)","v":""},{"$f":"IF('Student Record'!H334=\"\",\"\",'Student Record'!H334)","v":""},{"$f":"IF('Student Record'!J334=\"\",\"\",'Student Record'!J334)","v":""},{"$f":"IF('Student Record'!D336=\"\",\"\",'Student Record'!D336)","v":""},{"$f":"IF('Student Record'!T334=\"\",\"\",'Student Record'!T334)","v":""},{"$f":"IF('Student Record'!V334=\"\",\"\",'Student Record'!V334)","v":""},{"$f":"IF('Student Record'!W336=\"\",\"\",'Student Record'!W336)","v":""}]
[{"$f":"IF(Table1[[#This Row],[Name of Student]]=\"\",\"\",ROWS($A$1:A334))","v":""},{"$f":"IF('Student Record'!A335=\"\",\"\",'Student Record'!A335)","v":""},{"$f":"IF('Student Record'!C335=\"\",\"\",'Student Record'!C335)","v":""},{"$f":"IF('[1]Student Record'!K337=\"\",\"\",'[1]Student Record'!K337)","v":""},{"$f":"IF('Student Record'!E335=\"\",\"\",'Student Record'!E335)","v":""},{"$f":"IF('Student Record'!G335=\"\",\"\",'Student Record'!G335)","v":""},{"$f":"IF('Student Record'!H335=\"\",\"\",'Student Record'!H335)","v":""},{"$f":"IF('Student Record'!J335=\"\",\"\",'Student Record'!J335)","v":""},{"$f":"IF('Student Record'!D337=\"\",\"\",'Student Record'!D337)","v":""},{"$f":"IF('Student Record'!T335=\"\",\"\",'Student Record'!T335)","v":""},{"$f":"IF('Student Record'!V335=\"\",\"\",'Student Record'!V335)","v":""},{"$f":"IF('Student Record'!W337=\"\",\"\",'Student Record'!W337)","v":""}]
[{"$f":"IF(Table1[[#This Row],[Name of Student]]=\"\",\"\",ROWS($A$1:A335))","v":""},{"$f":"IF('Student Record'!A336=\"\",\"\",'Student Record'!A336)","v":""},{"$f":"IF('Student Record'!C336=\"\",\"\",'Student Record'!C336)","v":""},{"$f":"IF('[1]Student Record'!K338=\"\",\"\",'[1]Student Record'!K338)","v":""},{"$f":"IF('Student Record'!E336=\"\",\"\",'Student Record'!E336)","v":""},{"$f":"IF('Student Record'!G336=\"\",\"\",'Student Record'!G336)","v":""},{"$f":"IF('Student Record'!H336=\"\",\"\",'Student Record'!H336)","v":""},{"$f":"IF('Student Record'!J336=\"\",\"\",'Student Record'!J336)","v":""},{"$f":"IF('Student Record'!D338=\"\",\"\",'Student Record'!D338)","v":""},{"$f":"IF('Student Record'!T336=\"\",\"\",'Student Record'!T336)","v":""},{"$f":"IF('Student Record'!V336=\"\",\"\",'Student Record'!V336)","v":""},{"$f":"IF('Student Record'!W338=\"\",\"\",'Student Record'!W338)","v":""}]
[{"$f":"IF(Table1[[#This Row],[Name of Student]]=\"\",\"\",ROWS($A$1:A336))","v":""},{"$f":"IF('Student Record'!A337=\"\",\"\",'Student Record'!A337)","v":""},{"$f":"IF('Student Record'!C337=\"\",\"\",'Student Record'!C337)","v":""},{"$f":"IF('[1]Student Record'!K339=\"\",\"\",'[1]Student Record'!K339)","v":""},{"$f":"IF('Student Record'!E337=\"\",\"\",'Student Record'!E337)","v":""},{"$f":"IF('Student Record'!G337=\"\",\"\",'Student Record'!G337)","v":""},{"$f":"IF('Student Record'!H337=\"\",\"\",'Student Record'!H337)","v":""},{"$f":"IF('Student Record'!J337=\"\",\"\",'Student Record'!J337)","v":""},{"$f":"IF('Student Record'!D339=\"\",\"\",'Student Record'!D339)","v":""},{"$f":"IF('Student Record'!T337=\"\",\"\",'Student Record'!T337)","v":""},{"$f":"IF('Student Record'!V337=\"\",\"\",'Student Record'!V337)","v":""},{"$f":"IF('Student Record'!W339=\"\",\"\",'Student Record'!W339)","v":""}]
[{"$f":"IF(Table1[[#This Row],[Name of Student]]=\"\",\"\",ROWS($A$1:A337))","v":""},{"$f":"IF('Student Record'!A338=\"\",\"\",'Student Record'!A338)","v":""},{"$f":"IF('Student Record'!C338=\"\",\"\",'Student Record'!C338)","v":""},{"$f":"IF('[1]Student Record'!K340=\"\",\"\",'[1]Student Record'!K340)","v":""},{"$f":"IF('Student Record'!E338=\"\",\"\",'Student Record'!E338)","v":""},{"$f":"IF('Student Record'!G338=\"\",\"\",'Student Record'!G338)","v":""},{"$f":"IF('Student Record'!H338=\"\",\"\",'Student Record'!H338)","v":""},{"$f":"IF('Student Record'!J338=\"\",\"\",'Student Record'!J338)","v":""},{"$f":"IF('Student Record'!D340=\"\",\"\",'Student Record'!D340)","v":""},{"$f":"IF('Student Record'!T338=\"\",\"\",'Student Record'!T338)","v":""},{"$f":"IF('Student Record'!V338=\"\",\"\",'Student Record'!V338)","v":""},{"$f":"IF('Student Record'!W340=\"\",\"\",'Student Record'!W340)","v":""}]
[{"$f":"IF(Table1[[#This Row],[Name of Student]]=\"\",\"\",ROWS($A$1:A338))","v":""},{"$f":"IF('Student Record'!A339=\"\",\"\",'Student Record'!A339)","v":""},{"$f":"IF('Student Record'!C339=\"\",\"\",'Student Record'!C339)","v":""},{"$f":"IF('[1]Student Record'!K341=\"\",\"\",'[1]Student Record'!K341)","v":""},{"$f":"IF('Student Record'!E339=\"\",\"\",'Student Record'!E339)","v":""},{"$f":"IF('Student Record'!G339=\"\",\"\",'Student Record'!G339)","v":""},{"$f":"IF('Student Record'!H339=\"\",\"\",'Student Record'!H339)","v":""},{"$f":"IF('Student Record'!J339=\"\",\"\",'Student Record'!J339)","v":""},{"$f":"IF('Student Record'!D341=\"\",\"\",'Student Record'!D341)","v":""},{"$f":"IF('Student Record'!T339=\"\",\"\",'Student Record'!T339)","v":""},{"$f":"IF('Student Record'!V339=\"\",\"\",'Student Record'!V339)","v":""},{"$f":"IF('Student Record'!W341=\"\",\"\",'Student Record'!W341)","v":""}]
[{"$f":"IF(Table1[[#This Row],[Name of Student]]=\"\",\"\",ROWS($A$1:A339))","v":""},{"$f":"IF('Student Record'!A340=\"\",\"\",'Student Record'!A340)","v":""},{"$f":"IF('Student Record'!C340=\"\",\"\",'Student Record'!C340)","v":""},{"$f":"IF('[1]Student Record'!K342=\"\",\"\",'[1]Student Record'!K342)","v":""},{"$f":"IF('Student Record'!E340=\"\",\"\",'Student Record'!E340)","v":""},{"$f":"IF('Student Record'!G340=\"\",\"\",'Student Record'!G340)","v":""},{"$f":"IF('Student Record'!H340=\"\",\"\",'Student Record'!H340)","v":""},{"$f":"IF('Student Record'!J340=\"\",\"\",'Student Record'!J340)","v":""},{"$f":"IF('Student Record'!D342=\"\",\"\",'Student Record'!D342)","v":""},{"$f":"IF('Student Record'!T340=\"\",\"\",'Student Record'!T340)","v":""},{"$f":"IF('Student Record'!V340=\"\",\"\",'Student Record'!V340)","v":""},{"$f":"IF('Student Record'!W342=\"\",\"\",'Student Record'!W342)","v":""}]
[{"$f":"IF(Table1[[#This Row],[Name of Student]]=\"\",\"\",ROWS($A$1:A340))","v":""},{"$f":"IF('Student Record'!A341=\"\",\"\",'Student Record'!A341)","v":""},{"$f":"IF('Student Record'!C341=\"\",\"\",'Student Record'!C341)","v":""},{"$f":"IF('[1]Student Record'!K343=\"\",\"\",'[1]Student Record'!K343)","v":""},{"$f":"IF('Student Record'!E341=\"\",\"\",'Student Record'!E341)","v":""},{"$f":"IF('Student Record'!G341=\"\",\"\",'Student Record'!G341)","v":""},{"$f":"IF('Student Record'!H341=\"\",\"\",'Student Record'!H341)","v":""},{"$f":"IF('Student Record'!J341=\"\",\"\",'Student Record'!J341)","v":""},{"$f":"IF('Student Record'!D343=\"\",\"\",'Student Record'!D343)","v":""},{"$f":"IF('Student Record'!T341=\"\",\"\",'Student Record'!T341)","v":""},{"$f":"IF('Student Record'!V341=\"\",\"\",'Student Record'!V341)","v":""},{"$f":"IF('Student Record'!W343=\"\",\"\",'Student Record'!W343)","v":""}]
[{"$f":"IF(Table1[[#This Row],[Name of Student]]=\"\",\"\",ROWS($A$1:A341))","v":""},{"$f":"IF('Student Record'!A342=\"\",\"\",'Student Record'!A342)","v":""},{"$f":"IF('Student Record'!C342=\"\",\"\",'Student Record'!C342)","v":""},{"$f":"IF('[1]Student Record'!K344=\"\",\"\",'[1]Student Record'!K344)","v":""},{"$f":"IF('Student Record'!E342=\"\",\"\",'Student Record'!E342)","v":""},{"$f":"IF('Student Record'!G342=\"\",\"\",'Student Record'!G342)","v":""},{"$f":"IF('Student Record'!H342=\"\",\"\",'Student Record'!H342)","v":""},{"$f":"IF('Student Record'!J342=\"\",\"\",'Student Record'!J342)","v":""},{"$f":"IF('Student Record'!D344=\"\",\"\",'Student Record'!D344)","v":""},{"$f":"IF('Student Record'!T342=\"\",\"\",'Student Record'!T342)","v":""},{"$f":"IF('Student Record'!V342=\"\",\"\",'Student Record'!V342)","v":""},{"$f":"IF('Student Record'!W344=\"\",\"\",'Student Record'!W344)","v":""}]
[{"$f":"IF(Table1[[#This Row],[Name of Student]]=\"\",\"\",ROWS($A$1:A342))","v":""},{"$f":"IF('Student Record'!A343=\"\",\"\",'Student Record'!A343)","v":""},{"$f":"IF('Student Record'!C343=\"\",\"\",'Student Record'!C343)","v":""},{"$f":"IF('[1]Student Record'!K345=\"\",\"\",'[1]Student Record'!K345)","v":""},{"$f":"IF('Student Record'!E343=\"\",\"\",'Student Record'!E343)","v":""},{"$f":"IF('Student Record'!G343=\"\",\"\",'Student Record'!G343)","v":""},{"$f":"IF('Student Record'!H343=\"\",\"\",'Student Record'!H343)","v":""},{"$f":"IF('Student Record'!J343=\"\",\"\",'Student Record'!J343)","v":""},{"$f":"IF('Student Record'!D345=\"\",\"\",'Student Record'!D345)","v":""},{"$f":"IF('Student Record'!T343=\"\",\"\",'Student Record'!T343)","v":""},{"$f":"IF('Student Record'!V343=\"\",\"\",'Student Record'!V343)","v":""},{"$f":"IF('Student Record'!W345=\"\",\"\",'Student Record'!W345)","v":""}]
[{"$f":"IF(Table1[[#This Row],[Name of Student]]=\"\",\"\",ROWS($A$1:A343))","v":""},{"$f":"IF('Student Record'!A344=\"\",\"\",'Student Record'!A344)","v":""},{"$f":"IF('Student Record'!C344=\"\",\"\",'Student Record'!C344)","v":""},{"$f":"IF('[1]Student Record'!K346=\"\",\"\",'[1]Student Record'!K346)","v":""},{"$f":"IF('Student Record'!E344=\"\",\"\",'Student Record'!E344)","v":""},{"$f":"IF('Student Record'!G344=\"\",\"\",'Student Record'!G344)","v":""},{"$f":"IF('Student Record'!H344=\"\",\"\",'Student Record'!H344)","v":""},{"$f":"IF('Student Record'!J344=\"\",\"\",'Student Record'!J344)","v":""},{"$f":"IF('Student Record'!D346=\"\",\"\",'Student Record'!D346)","v":""},{"$f":"IF('Student Record'!T344=\"\",\"\",'Student Record'!T344)","v":""},{"$f":"IF('Student Record'!V344=\"\",\"\",'Student Record'!V344)","v":""},{"$f":"IF('Student Record'!W346=\"\",\"\",'Student Record'!W346)","v":""}]
[{"$f":"IF(Table1[[#This Row],[Name of Student]]=\"\",\"\",ROWS($A$1:A344))","v":""},{"$f":"IF('Student Record'!A345=\"\",\"\",'Student Record'!A345)","v":""},{"$f":"IF('Student Record'!C345=\"\",\"\",'Student Record'!C345)","v":""},{"$f":"IF('[1]Student Record'!K347=\"\",\"\",'[1]Student Record'!K347)","v":""},{"$f":"IF('Student Record'!E345=\"\",\"\",'Student Record'!E345)","v":""},{"$f":"IF('Student Record'!G345=\"\",\"\",'Student Record'!G345)","v":""},{"$f":"IF('Student Record'!H345=\"\",\"\",'Student Record'!H345)","v":""},{"$f":"IF('Student Record'!J345=\"\",\"\",'Student Record'!J345)","v":""},{"$f":"IF('Student Record'!D347=\"\",\"\",'Student Record'!D347)","v":""},{"$f":"IF('Student Record'!T345=\"\",\"\",'Student Record'!T345)","v":""},{"$f":"IF('Student Record'!V345=\"\",\"\",'Student Record'!V345)","v":""},{"$f":"IF('Student Record'!W347=\"\",\"\",'Student Record'!W347)","v":""}]
[{"$f":"IF(Table1[[#This Row],[Name of Student]]=\"\",\"\",ROWS($A$1:A345))","v":""},{"$f":"IF('Student Record'!A346=\"\",\"\",'Student Record'!A346)","v":""},{"$f":"IF('Student Record'!C346=\"\",\"\",'Student Record'!C346)","v":""},{"$f":"IF('[1]Student Record'!K348=\"\",\"\",'[1]Student Record'!K348)","v":""},{"$f":"IF('Student Record'!E346=\"\",\"\",'Student Record'!E346)","v":""},{"$f":"IF('Student Record'!G346=\"\",\"\",'Student Record'!G346)","v":""},{"$f":"IF('Student Record'!H346=\"\",\"\",'Student Record'!H346)","v":""},{"$f":"IF('Student Record'!J346=\"\",\"\",'Student Record'!J346)","v":""},{"$f":"IF('Student Record'!D348=\"\",\"\",'Student Record'!D348)","v":""},{"$f":"IF('Student Record'!T346=\"\",\"\",'Student Record'!T346)","v":""},{"$f":"IF('Student Record'!V346=\"\",\"\",'Student Record'!V346)","v":""},{"$f":"IF('Student Record'!W348=\"\",\"\",'Student Record'!W348)","v":""}]
[{"$f":"IF(Table1[[#This Row],[Name of Student]]=\"\",\"\",ROWS($A$1:A346))","v":""},{"$f":"IF('Student Record'!A347=\"\",\"\",'Student Record'!A347)","v":""},{"$f":"IF('Student Record'!C347=\"\",\"\",'Student Record'!C347)","v":""},{"$f":"IF('[1]Student Record'!K349=\"\",\"\",'[1]Student Record'!K349)","v":""},{"$f":"IF('Student Record'!E347=\"\",\"\",'Student Record'!E347)","v":""},{"$f":"IF('Student Record'!G347=\"\",\"\",'Student Record'!G347)","v":""},{"$f":"IF('Student Record'!H347=\"\",\"\",'Student Record'!H347)","v":""},{"$f":"IF('Student Record'!J347=\"\",\"\",'Student Record'!J347)","v":""},{"$f":"IF('Student Record'!D349=\"\",\"\",'Student Record'!D349)","v":""},{"$f":"IF('Student Record'!T347=\"\",\"\",'Student Record'!T347)","v":""},{"$f":"IF('Student Record'!V347=\"\",\"\",'Student Record'!V347)","v":""},{"$f":"IF('Student Record'!W349=\"\",\"\",'Student Record'!W349)","v":""}]
[{"$f":"IF(Table1[[#This Row],[Name of Student]]=\"\",\"\",ROWS($A$1:A347))","v":""},{"$f":"IF('Student Record'!A348=\"\",\"\",'Student Record'!A348)","v":""},{"$f":"IF('Student Record'!C348=\"\",\"\",'Student Record'!C348)","v":""},{"$f":"IF('[1]Student Record'!K350=\"\",\"\",'[1]Student Record'!K350)","v":""},{"$f":"IF('Student Record'!E348=\"\",\"\",'Student Record'!E348)","v":""},{"$f":"IF('Student Record'!G348=\"\",\"\",'Student Record'!G348)","v":""},{"$f":"IF('Student Record'!H348=\"\",\"\",'Student Record'!H348)","v":""},{"$f":"IF('Student Record'!J348=\"\",\"\",'Student Record'!J348)","v":""},{"$f":"IF('Student Record'!D350=\"\",\"\",'Student Record'!D350)","v":""},{"$f":"IF('Student Record'!T348=\"\",\"\",'Student Record'!T348)","v":""},{"$f":"IF('Student Record'!V348=\"\",\"\",'Student Record'!V348)","v":""},{"$f":"IF('Student Record'!W350=\"\",\"\",'Student Record'!W350)","v":""}]
[{"$f":"IF(Table1[[#This Row],[Name of Student]]=\"\",\"\",ROWS($A$1:A348))","v":""},{"$f":"IF('Student Record'!A349=\"\",\"\",'Student Record'!A349)","v":""},{"$f":"IF('Student Record'!C349=\"\",\"\",'Student Record'!C349)","v":""},{"$f":"IF('[1]Student Record'!K351=\"\",\"\",'[1]Student Record'!K351)","v":""},{"$f":"IF('Student Record'!E349=\"\",\"\",'Student Record'!E349)","v":""},{"$f":"IF('Student Record'!G349=\"\",\"\",'Student Record'!G349)","v":""},{"$f":"IF('Student Record'!H349=\"\",\"\",'Student Record'!H349)","v":""},{"$f":"IF('Student Record'!J349=\"\",\"\",'Student Record'!J349)","v":""},{"$f":"IF('Student Record'!D351=\"\",\"\",'Student Record'!D351)","v":""},{"$f":"IF('Student Record'!T349=\"\",\"\",'Student Record'!T349)","v":""},{"$f":"IF('Student Record'!V349=\"\",\"\",'Student Record'!V349)","v":""},{"$f":"IF('Student Record'!W351=\"\",\"\",'Student Record'!W351)","v":""}]
[{"$f":"IF(Table1[[#This Row],[Name of Student]]=\"\",\"\",ROWS($A$1:A349))","v":""},{"$f":"IF('Student Record'!A350=\"\",\"\",'Student Record'!A350)","v":""},{"$f":"IF('Student Record'!C350=\"\",\"\",'Student Record'!C350)","v":""},{"$f":"IF('[1]Student Record'!K352=\"\",\"\",'[1]Student Record'!K352)","v":""},{"$f":"IF('Student Record'!E350=\"\",\"\",'Student Record'!E350)","v":""},{"$f":"IF('Student Record'!G350=\"\",\"\",'Student Record'!G350)","v":""},{"$f":"IF('Student Record'!H350=\"\",\"\",'Student Record'!H350)","v":""},{"$f":"IF('Student Record'!J350=\"\",\"\",'Student Record'!J350)","v":""},{"$f":"IF('Student Record'!D352=\"\",\"\",'Student Record'!D352)","v":""},{"$f":"IF('Student Record'!T350=\"\",\"\",'Student Record'!T350)","v":""},{"$f":"IF('Student Record'!V350=\"\",\"\",'Student Record'!V350)","v":""},{"$f":"IF('Student Record'!W352=\"\",\"\",'Student Record'!W352)","v":""}]
[{"$f":"IF(Table1[[#This Row],[Name of Student]]=\"\",\"\",ROWS($A$1:A350))","v":""},{"$f":"IF('Student Record'!A351=\"\",\"\",'Student Record'!A351)","v":""},{"$f":"IF('Student Record'!C351=\"\",\"\",'Student Record'!C351)","v":""},{"$f":"IF('[1]Student Record'!K353=\"\",\"\",'[1]Student Record'!K353)","v":""},{"$f":"IF('Student Record'!E351=\"\",\"\",'Student Record'!E351)","v":""},{"$f":"IF('Student Record'!G351=\"\",\"\",'Student Record'!G351)","v":""},{"$f":"IF('Student Record'!H351=\"\",\"\",'Student Record'!H351)","v":""},{"$f":"IF('Student Record'!J351=\"\",\"\",'Student Record'!J351)","v":""},{"$f":"IF('Student Record'!D353=\"\",\"\",'Student Record'!D353)","v":""},{"$f":"IF('Student Record'!T351=\"\",\"\",'Student Record'!T351)","v":""},{"$f":"IF('Student Record'!V351=\"\",\"\",'Student Record'!V351)","v":""},{"$f":"IF('Student Record'!W353=\"\",\"\",'Student Record'!W353)","v":""}]
[{"$f":"IF(Table1[[#This Row],[Name of Student]]=\"\",\"\",ROWS($A$1:A351))","v":""},{"$f":"IF('Student Record'!A352=\"\",\"\",'Student Record'!A352)","v":""},{"$f":"IF('Student Record'!C352=\"\",\"\",'Student Record'!C352)","v":""},{"$f":"IF('[1]Student Record'!K354=\"\",\"\",'[1]Student Record'!K354)","v":""},{"$f":"IF('Student Record'!E352=\"\",\"\",'Student Record'!E352)","v":""},{"$f":"IF('Student Record'!G352=\"\",\"\",'Student Record'!G352)","v":""},{"$f":"IF('Student Record'!H352=\"\",\"\",'Student Record'!H352)","v":""},{"$f":"IF('Student Record'!J352=\"\",\"\",'Student Record'!J352)","v":""},{"$f":"IF('Student Record'!D354=\"\",\"\",'Student Record'!D354)","v":""},{"$f":"IF('Student Record'!T352=\"\",\"\",'Student Record'!T352)","v":""},{"$f":"IF('Student Record'!V352=\"\",\"\",'Student Record'!V352)","v":""},{"$f":"IF('Student Record'!W354=\"\",\"\",'Student Record'!W354)","v":""}]
[{"$f":"IF(Table1[[#This Row],[Name of Student]]=\"\",\"\",ROWS($A$1:A352))","v":""},{"$f":"IF('Student Record'!A353=\"\",\"\",'Student Record'!A353)","v":""},{"$f":"IF('Student Record'!C353=\"\",\"\",'Student Record'!C353)","v":""},{"$f":"IF('[1]Student Record'!K355=\"\",\"\",'[1]Student Record'!K355)","v":""},{"$f":"IF('Student Record'!E353=\"\",\"\",'Student Record'!E353)","v":""},{"$f":"IF('Student Record'!G353=\"\",\"\",'Student Record'!G353)","v":""},{"$f":"IF('Student Record'!H353=\"\",\"\",'Student Record'!H353)","v":""},{"$f":"IF('Student Record'!J353=\"\",\"\",'Student Record'!J353)","v":""},{"$f":"IF('Student Record'!D355=\"\",\"\",'Student Record'!D355)","v":""},{"$f":"IF('Student Record'!T353=\"\",\"\",'Student Record'!T353)","v":""},{"$f":"IF('Student Record'!V353=\"\",\"\",'Student Record'!V353)","v":""},{"$f":"IF('Student Record'!W355=\"\",\"\",'Student Record'!W355)","v":""}]
[{"$f":"IF(Table1[[#This Row],[Name of Student]]=\"\",\"\",ROWS($A$1:A353))","v":""},{"$f":"IF('Student Record'!A354=\"\",\"\",'Student Record'!A354)","v":""},{"$f":"IF('Student Record'!C354=\"\",\"\",'Student Record'!C354)","v":""},{"$f":"IF('[1]Student Record'!K356=\"\",\"\",'[1]Student Record'!K356)","v":""},{"$f":"IF('Student Record'!E354=\"\",\"\",'Student Record'!E354)","v":""},{"$f":"IF('Student Record'!G354=\"\",\"\",'Student Record'!G354)","v":""},{"$f":"IF('Student Record'!H354=\"\",\"\",'Student Record'!H354)","v":""},{"$f":"IF('Student Record'!J354=\"\",\"\",'Student Record'!J354)","v":""},{"$f":"IF('Student Record'!D356=\"\",\"\",'Student Record'!D356)","v":""},{"$f":"IF('Student Record'!T354=\"\",\"\",'Student Record'!T354)","v":""},{"$f":"IF('Student Record'!V354=\"\",\"\",'Student Record'!V354)","v":""},{"$f":"IF('Student Record'!W356=\"\",\"\",'Student Record'!W356)","v":""}]
[{"$f":"IF(Table1[[#This Row],[Name of Student]]=\"\",\"\",ROWS($A$1:A354))","v":""},{"$f":"IF('Student Record'!A355=\"\",\"\",'Student Record'!A355)","v":""},{"$f":"IF('Student Record'!C355=\"\",\"\",'Student Record'!C355)","v":""},{"$f":"IF('[1]Student Record'!K357=\"\",\"\",'[1]Student Record'!K357)","v":""},{"$f":"IF('Student Record'!E355=\"\",\"\",'Student Record'!E355)","v":""},{"$f":"IF('Student Record'!G355=\"\",\"\",'Student Record'!G355)","v":""},{"$f":"IF('Student Record'!H355=\"\",\"\",'Student Record'!H355)","v":""},{"$f":"IF('Student Record'!J355=\"\",\"\",'Student Record'!J355)","v":""},{"$f":"IF('Student Record'!D357=\"\",\"\",'Student Record'!D357)","v":""},{"$f":"IF('Student Record'!T355=\"\",\"\",'Student Record'!T355)","v":""},{"$f":"IF('Student Record'!V355=\"\",\"\",'Student Record'!V355)","v":""},{"$f":"IF('Student Record'!W357=\"\",\"\",'Student Record'!W357)","v":""}]
[{"$f":"IF(Table1[[#This Row],[Name of Student]]=\"\",\"\",ROWS($A$1:A355))","v":""},{"$f":"IF('Student Record'!A356=\"\",\"\",'Student Record'!A356)","v":""},{"$f":"IF('Student Record'!C356=\"\",\"\",'Student Record'!C356)","v":""},{"$f":"IF('[1]Student Record'!K358=\"\",\"\",'[1]Student Record'!K358)","v":""},{"$f":"IF('Student Record'!E356=\"\",\"\",'Student Record'!E356)","v":""},{"$f":"IF('Student Record'!G356=\"\",\"\",'Student Record'!G356)","v":""},{"$f":"IF('Student Record'!H356=\"\",\"\",'Student Record'!H356)","v":""},{"$f":"IF('Student Record'!J356=\"\",\"\",'Student Record'!J356)","v":""},{"$f":"IF('Student Record'!D358=\"\",\"\",'Student Record'!D358)","v":""},{"$f":"IF('Student Record'!T356=\"\",\"\",'Student Record'!T356)","v":""},{"$f":"IF('Student Record'!V356=\"\",\"\",'Student Record'!V356)","v":""},{"$f":"IF('Student Record'!W358=\"\",\"\",'Student Record'!W358)","v":""}]
[{"$f":"IF(Table1[[#This Row],[Name of Student]]=\"\",\"\",ROWS($A$1:A356))","v":""},{"$f":"IF('Student Record'!A357=\"\",\"\",'Student Record'!A357)","v":""},{"$f":"IF('Student Record'!C357=\"\",\"\",'Student Record'!C357)","v":""},{"$f":"IF('[1]Student Record'!K359=\"\",\"\",'[1]Student Record'!K359)","v":""},{"$f":"IF('Student Record'!E357=\"\",\"\",'Student Record'!E357)","v":""},{"$f":"IF('Student Record'!G357=\"\",\"\",'Student Record'!G357)","v":""},{"$f":"IF('Student Record'!H357=\"\",\"\",'Student Record'!H357)","v":""},{"$f":"IF('Student Record'!J357=\"\",\"\",'Student Record'!J357)","v":""},{"$f":"IF('Student Record'!D359=\"\",\"\",'Student Record'!D359)","v":""},{"$f":"IF('Student Record'!T357=\"\",\"\",'Student Record'!T357)","v":""},{"$f":"IF('Student Record'!V357=\"\",\"\",'Student Record'!V357)","v":""},{"$f":"IF('Student Record'!W359=\"\",\"\",'Student Record'!W359)","v":""}]
[{"$f":"IF(Table1[[#This Row],[Name of Student]]=\"\",\"\",ROWS($A$1:A357))","v":""},{"$f":"IF('Student Record'!A358=\"\",\"\",'Student Record'!A358)","v":""},{"$f":"IF('Student Record'!C358=\"\",\"\",'Student Record'!C358)","v":""},{"$f":"IF('[1]Student Record'!K360=\"\",\"\",'[1]Student Record'!K360)","v":""},{"$f":"IF('Student Record'!E358=\"\",\"\",'Student Record'!E358)","v":""},{"$f":"IF('Student Record'!G358=\"\",\"\",'Student Record'!G358)","v":""},{"$f":"IF('Student Record'!H358=\"\",\"\",'Student Record'!H358)","v":""},{"$f":"IF('Student Record'!J358=\"\",\"\",'Student Record'!J358)","v":""},{"$f":"IF('Student Record'!D360=\"\",\"\",'Student Record'!D360)","v":""},{"$f":"IF('Student Record'!T358=\"\",\"\",'Student Record'!T358)","v":""},{"$f":"IF('Student Record'!V358=\"\",\"\",'Student Record'!V358)","v":""},{"$f":"IF('Student Record'!W360=\"\",\"\",'Student Record'!W360)","v":""}]
[{"$f":"IF(Table1[[#This Row],[Name of Student]]=\"\",\"\",ROWS($A$1:A358))","v":""},{"$f":"IF('Student Record'!A359=\"\",\"\",'Student Record'!A359)","v":""},{"$f":"IF('Student Record'!C359=\"\",\"\",'Student Record'!C359)","v":""},{"$f":"IF('[1]Student Record'!K361=\"\",\"\",'[1]Student Record'!K361)","v":""},{"$f":"IF('Student Record'!E359=\"\",\"\",'Student Record'!E359)","v":""},{"$f":"IF('Student Record'!G359=\"\",\"\",'Student Record'!G359)","v":""},{"$f":"IF('Student Record'!H359=\"\",\"\",'Student Record'!H359)","v":""},{"$f":"IF('Student Record'!J359=\"\",\"\",'Student Record'!J359)","v":""},{"$f":"IF('Student Record'!D361=\"\",\"\",'Student Record'!D361)","v":""},{"$f":"IF('Student Record'!T359=\"\",\"\",'Student Record'!T359)","v":""},{"$f":"IF('Student Record'!V359=\"\",\"\",'Student Record'!V359)","v":""},{"$f":"IF('Student Record'!W361=\"\",\"\",'Student Record'!W361)","v":""}]
[{"$f":"IF(Table1[[#This Row],[Name of Student]]=\"\",\"\",ROWS($A$1:A359))","v":""},{"$f":"IF('Student Record'!A360=\"\",\"\",'Student Record'!A360)","v":""},{"$f":"IF('Student Record'!C360=\"\",\"\",'Student Record'!C360)","v":""},{"$f":"IF('[1]Student Record'!K362=\"\",\"\",'[1]Student Record'!K362)","v":""},{"$f":"IF('Student Record'!E360=\"\",\"\",'Student Record'!E360)","v":""},{"$f":"IF('Student Record'!G360=\"\",\"\",'Student Record'!G360)","v":""},{"$f":"IF('Student Record'!H360=\"\",\"\",'Student Record'!H360)","v":""},{"$f":"IF('Student Record'!J360=\"\",\"\",'Student Record'!J360)","v":""},{"$f":"IF('Student Record'!D362=\"\",\"\",'Student Record'!D362)","v":""},{"$f":"IF('Student Record'!T360=\"\",\"\",'Student Record'!T360)","v":""},{"$f":"IF('Student Record'!V360=\"\",\"\",'Student Record'!V360)","v":""},{"$f":"IF('Student Record'!W362=\"\",\"\",'Student Record'!W362)","v":""}]
[{"$f":"IF(Table1[[#This Row],[Name of Student]]=\"\",\"\",ROWS($A$1:A360))","v":""},{"$f":"IF('Student Record'!A361=\"\",\"\",'Student Record'!A361)","v":""},{"$f":"IF('Student Record'!C361=\"\",\"\",'Student Record'!C361)","v":""},{"$f":"IF('[1]Student Record'!K363=\"\",\"\",'[1]Student Record'!K363)","v":""},{"$f":"IF('Student Record'!E361=\"\",\"\",'Student Record'!E361)","v":""},{"$f":"IF('Student Record'!G361=\"\",\"\",'Student Record'!G361)","v":""},{"$f":"IF('Student Record'!H361=\"\",\"\",'Student Record'!H361)","v":""},{"$f":"IF('Student Record'!J361=\"\",\"\",'Student Record'!J361)","v":""},{"$f":"IF('Student Record'!D363=\"\",\"\",'Student Record'!D363)","v":""},{"$f":"IF('Student Record'!T361=\"\",\"\",'Student Record'!T361)","v":""},{"$f":"IF('Student Record'!V361=\"\",\"\",'Student Record'!V361)","v":""},{"$f":"IF('Student Record'!W363=\"\",\"\",'Student Record'!W363)","v":""}]
[{"$f":"IF(Table1[[#This Row],[Name of Student]]=\"\",\"\",ROWS($A$1:A361))","v":""},{"$f":"IF('Student Record'!A362=\"\",\"\",'Student Record'!A362)","v":""},{"$f":"IF('Student Record'!C362=\"\",\"\",'Student Record'!C362)","v":""},{"$f":"IF('[1]Student Record'!K364=\"\",\"\",'[1]Student Record'!K364)","v":""},{"$f":"IF('Student Record'!E362=\"\",\"\",'Student Record'!E362)","v":""},{"$f":"IF('Student Record'!G362=\"\",\"\",'Student Record'!G362)","v":""},{"$f":"IF('Student Record'!H362=\"\",\"\",'Student Record'!H362)","v":""},{"$f":"IF('Student Record'!J362=\"\",\"\",'Student Record'!J362)","v":""},{"$f":"IF('Student Record'!D364=\"\",\"\",'Student Record'!D364)","v":""},{"$f":"IF('Student Record'!T362=\"\",\"\",'Student Record'!T362)","v":""},{"$f":"IF('Student Record'!V362=\"\",\"\",'Student Record'!V362)","v":""},{"$f":"IF('Student Record'!W364=\"\",\"\",'Student Record'!W364)","v":""}]
[{"$f":"IF(Table1[[#This Row],[Name of Student]]=\"\",\"\",ROWS($A$1:A362))","v":""},{"$f":"IF('Student Record'!A363=\"\",\"\",'Student Record'!A363)","v":""},{"$f":"IF('Student Record'!C363=\"\",\"\",'Student Record'!C363)","v":""},{"$f":"IF('[1]Student Record'!K365=\"\",\"\",'[1]Student Record'!K365)","v":""},{"$f":"IF('Student Record'!E363=\"\",\"\",'Student Record'!E363)","v":""},{"$f":"IF('Student Record'!G363=\"\",\"\",'Student Record'!G363)","v":""},{"$f":"IF('Student Record'!H363=\"\",\"\",'Student Record'!H363)","v":""},{"$f":"IF('Student Record'!J363=\"\",\"\",'Student Record'!J363)","v":""},{"$f":"IF('Student Record'!D365=\"\",\"\",'Student Record'!D365)","v":""},{"$f":"IF('Student Record'!T363=\"\",\"\",'Student Record'!T363)","v":""},{"$f":"IF('Student Record'!V363=\"\",\"\",'Student Record'!V363)","v":""},{"$f":"IF('Student Record'!W365=\"\",\"\",'Student Record'!W365)","v":""}]
[{"$f":"IF(Table1[[#This Row],[Name of Student]]=\"\",\"\",ROWS($A$1:A363))","v":""},{"$f":"IF('Student Record'!A364=\"\",\"\",'Student Record'!A364)","v":""},{"$f":"IF('Student Record'!C364=\"\",\"\",'Student Record'!C364)","v":""},{"$f":"IF('[1]Student Record'!K366=\"\",\"\",'[1]Student Record'!K366)","v":""},{"$f":"IF('Student Record'!E364=\"\",\"\",'Student Record'!E364)","v":""},{"$f":"IF('Student Record'!G364=\"\",\"\",'Student Record'!G364)","v":""},{"$f":"IF('Student Record'!H364=\"\",\"\",'Student Record'!H364)","v":""},{"$f":"IF('Student Record'!J364=\"\",\"\",'Student Record'!J364)","v":""},{"$f":"IF('Student Record'!D366=\"\",\"\",'Student Record'!D366)","v":""},{"$f":"IF('Student Record'!T364=\"\",\"\",'Student Record'!T364)","v":""},{"$f":"IF('Student Record'!V364=\"\",\"\",'Student Record'!V364)","v":""},{"$f":"IF('Student Record'!W366=\"\",\"\",'Student Record'!W366)","v":""}]
[{"$f":"IF(Table1[[#This Row],[Name of Student]]=\"\",\"\",ROWS($A$1:A364))","v":""},{"$f":"IF('Student Record'!A365=\"\",\"\",'Student Record'!A365)","v":""},{"$f":"IF('Student Record'!C365=\"\",\"\",'Student Record'!C365)","v":""},{"$f":"IF('[1]Student Record'!K367=\"\",\"\",'[1]Student Record'!K367)","v":""},{"$f":"IF('Student Record'!E365=\"\",\"\",'Student Record'!E365)","v":""},{"$f":"IF('Student Record'!G365=\"\",\"\",'Student Record'!G365)","v":""},{"$f":"IF('Student Record'!H365=\"\",\"\",'Student Record'!H365)","v":""},{"$f":"IF('Student Record'!J365=\"\",\"\",'Student Record'!J365)","v":""},{"$f":"IF('Student Record'!D367=\"\",\"\",'Student Record'!D367)","v":""},{"$f":"IF('Student Record'!T365=\"\",\"\",'Student Record'!T365)","v":""},{"$f":"IF('Student Record'!V365=\"\",\"\",'Student Record'!V365)","v":""},{"$f":"IF('Student Record'!W367=\"\",\"\",'Student Record'!W367)","v":""}]
[{"$f":"IF(Table1[[#This Row],[Name of Student]]=\"\",\"\",ROWS($A$1:A365))","v":""},{"$f":"IF('Student Record'!A366=\"\",\"\",'Student Record'!A366)","v":""},{"$f":"IF('Student Record'!C366=\"\",\"\",'Student Record'!C366)","v":""},{"$f":"IF('[1]Student Record'!K368=\"\",\"\",'[1]Student Record'!K368)","v":""},{"$f":"IF('Student Record'!E366=\"\",\"\",'Student Record'!E366)","v":""},{"$f":"IF('Student Record'!G366=\"\",\"\",'Student Record'!G366)","v":""},{"$f":"IF('Student Record'!H366=\"\",\"\",'Student Record'!H366)","v":""},{"$f":"IF('Student Record'!J366=\"\",\"\",'Student Record'!J366)","v":""},{"$f":"IF('Student Record'!D368=\"\",\"\",'Student Record'!D368)","v":""},{"$f":"IF('Student Record'!T366=\"\",\"\",'Student Record'!T366)","v":""},{"$f":"IF('Student Record'!V366=\"\",\"\",'Student Record'!V366)","v":""},{"$f":"IF('Student Record'!W368=\"\",\"\",'Student Record'!W368)","v":""}]
[{"$f":"IF(Table1[[#This Row],[Name of Student]]=\"\",\"\",ROWS($A$1:A366))","v":""},{"$f":"IF('Student Record'!A367=\"\",\"\",'Student Record'!A367)","v":""},{"$f":"IF('Student Record'!C367=\"\",\"\",'Student Record'!C367)","v":""},{"$f":"IF('[1]Student Record'!K369=\"\",\"\",'[1]Student Record'!K369)","v":""},{"$f":"IF('Student Record'!E367=\"\",\"\",'Student Record'!E367)","v":""},{"$f":"IF('Student Record'!G367=\"\",\"\",'Student Record'!G367)","v":""},{"$f":"IF('Student Record'!H367=\"\",\"\",'Student Record'!H367)","v":""},{"$f":"IF('Student Record'!J367=\"\",\"\",'Student Record'!J367)","v":""},{"$f":"IF('Student Record'!D369=\"\",\"\",'Student Record'!D369)","v":""},{"$f":"IF('Student Record'!T367=\"\",\"\",'Student Record'!T367)","v":""},{"$f":"IF('Student Record'!V367=\"\",\"\",'Student Record'!V367)","v":""},{"$f":"IF('Student Record'!W369=\"\",\"\",'Student Record'!W369)","v":""}]
[{"$f":"IF(Table1[[#This Row],[Name of Student]]=\"\",\"\",ROWS($A$1:A367))","v":""},{"$f":"IF('Student Record'!A368=\"\",\"\",'Student Record'!A368)","v":""},{"$f":"IF('Student Record'!C368=\"\",\"\",'Student Record'!C368)","v":""},{"$f":"IF('[1]Student Record'!K370=\"\",\"\",'[1]Student Record'!K370)","v":""},{"$f":"IF('Student Record'!E368=\"\",\"\",'Student Record'!E368)","v":""},{"$f":"IF('Student Record'!G368=\"\",\"\",'Student Record'!G368)","v":""},{"$f":"IF('Student Record'!H368=\"\",\"\",'Student Record'!H368)","v":""},{"$f":"IF('Student Record'!J368=\"\",\"\",'Student Record'!J368)","v":""},{"$f":"IF('Student Record'!D370=\"\",\"\",'Student Record'!D370)","v":""},{"$f":"IF('Student Record'!T368=\"\",\"\",'Student Record'!T368)","v":""},{"$f":"IF('Student Record'!V368=\"\",\"\",'Student Record'!V368)","v":""},{"$f":"IF('Student Record'!W370=\"\",\"\",'Student Record'!W370)","v":""}]
[{"$f":"IF(Table1[[#This Row],[Name of Student]]=\"\",\"\",ROWS($A$1:A368))","v":""},{"$f":"IF('Student Record'!A369=\"\",\"\",'Student Record'!A369)","v":""},{"$f":"IF('Student Record'!C369=\"\",\"\",'Student Record'!C369)","v":""},{"$f":"IF('[1]Student Record'!K371=\"\",\"\",'[1]Student Record'!K371)","v":""},{"$f":"IF('Student Record'!E369=\"\",\"\",'Student Record'!E369)","v":""},{"$f":"IF('Student Record'!G369=\"\",\"\",'Student Record'!G369)","v":""},{"$f":"IF('Student Record'!H369=\"\",\"\",'Student Record'!H369)","v":""},{"$f":"IF('Student Record'!J369=\"\",\"\",'Student Record'!J369)","v":""},{"$f":"IF('Student Record'!D371=\"\",\"\",'Student Record'!D371)","v":""},{"$f":"IF('Student Record'!T369=\"\",\"\",'Student Record'!T369)","v":""},{"$f":"IF('Student Record'!V369=\"\",\"\",'Student Record'!V369)","v":""},{"$f":"IF('Student Record'!W371=\"\",\"\",'Student Record'!W371)","v":""}]
[{"$f":"IF(Table1[[#This Row],[Name of Student]]=\"\",\"\",ROWS($A$1:A369))","v":""},{"$f":"IF('Student Record'!A370=\"\",\"\",'Student Record'!A370)","v":""},{"$f":"IF('Student Record'!C370=\"\",\"\",'Student Record'!C370)","v":""},{"$f":"IF('[1]Student Record'!K372=\"\",\"\",'[1]Student Record'!K372)","v":""},{"$f":"IF('Student Record'!E370=\"\",\"\",'Student Record'!E370)","v":""},{"$f":"IF('Student Record'!G370=\"\",\"\",'Student Record'!G370)","v":""},{"$f":"IF('Student Record'!H370=\"\",\"\",'Student Record'!H370)","v":""},{"$f":"IF('Student Record'!J370=\"\",\"\",'Student Record'!J370)","v":""},{"$f":"IF('Student Record'!D372=\"\",\"\",'Student Record'!D372)","v":""},{"$f":"IF('Student Record'!T370=\"\",\"\",'Student Record'!T370)","v":""},{"$f":"IF('Student Record'!V370=\"\",\"\",'Student Record'!V370)","v":""},{"$f":"IF('Student Record'!W372=\"\",\"\",'Student Record'!W372)","v":""}]
[{"$f":"IF(Table1[[#This Row],[Name of Student]]=\"\",\"\",ROWS($A$1:A370))","v":""},{"$f":"IF('Student Record'!A371=\"\",\"\",'Student Record'!A371)","v":""},{"$f":"IF('Student Record'!C371=\"\",\"\",'Student Record'!C371)","v":""},{"$f":"IF('[1]Student Record'!K373=\"\",\"\",'[1]Student Record'!K373)","v":""},{"$f":"IF('Student Record'!E371=\"\",\"\",'Student Record'!E371)","v":""},{"$f":"IF('Student Record'!G371=\"\",\"\",'Student Record'!G371)","v":""},{"$f":"IF('Student Record'!H371=\"\",\"\",'Student Record'!H371)","v":""},{"$f":"IF('Student Record'!J371=\"\",\"\",'Student Record'!J371)","v":""},{"$f":"IF('Student Record'!D373=\"\",\"\",'Student Record'!D373)","v":""},{"$f":"IF('Student Record'!T371=\"\",\"\",'Student Record'!T371)","v":""},{"$f":"IF('Student Record'!V371=\"\",\"\",'Student Record'!V371)","v":""},{"$f":"IF('Student Record'!W373=\"\",\"\",'Student Record'!W373)","v":""}]
[{"$f":"IF(Table1[[#This Row],[Name of Student]]=\"\",\"\",ROWS($A$1:A371))","v":""},{"$f":"IF('Student Record'!A372=\"\",\"\",'Student Record'!A372)","v":""},{"$f":"IF('Student Record'!C372=\"\",\"\",'Student Record'!C372)","v":""},{"$f":"IF('[1]Student Record'!K374=\"\",\"\",'[1]Student Record'!K374)","v":""},{"$f":"IF('Student Record'!E372=\"\",\"\",'Student Record'!E372)","v":""},{"$f":"IF('Student Record'!G372=\"\",\"\",'Student Record'!G372)","v":""},{"$f":"IF('Student Record'!H372=\"\",\"\",'Student Record'!H372)","v":""},{"$f":"IF('Student Record'!J372=\"\",\"\",'Student Record'!J372)","v":""},{"$f":"IF('Student Record'!D374=\"\",\"\",'Student Record'!D374)","v":""},{"$f":"IF('Student Record'!T372=\"\",\"\",'Student Record'!T372)","v":""},{"$f":"IF('Student Record'!V372=\"\",\"\",'Student Record'!V372)","v":""},{"$f":"IF('Student Record'!W374=\"\",\"\",'Student Record'!W374)","v":""}]
[{"$f":"IF(Table1[[#This Row],[Name of Student]]=\"\",\"\",ROWS($A$1:A372))","v":""},{"$f":"IF('Student Record'!A373=\"\",\"\",'Student Record'!A373)","v":""},{"$f":"IF('Student Record'!C373=\"\",\"\",'Student Record'!C373)","v":""},{"$f":"IF('[1]Student Record'!K375=\"\",\"\",'[1]Student Record'!K375)","v":""},{"$f":"IF('Student Record'!E373=\"\",\"\",'Student Record'!E373)","v":""},{"$f":"IF('Student Record'!G373=\"\",\"\",'Student Record'!G373)","v":""},{"$f":"IF('Student Record'!H373=\"\",\"\",'Student Record'!H373)","v":""},{"$f":"IF('Student Record'!J373=\"\",\"\",'Student Record'!J373)","v":""},{"$f":"IF('Student Record'!D375=\"\",\"\",'Student Record'!D375)","v":""},{"$f":"IF('Student Record'!T373=\"\",\"\",'Student Record'!T373)","v":""},{"$f":"IF('Student Record'!V373=\"\",\"\",'Student Record'!V373)","v":""},{"$f":"IF('Student Record'!W375=\"\",\"\",'Student Record'!W375)","v":""}]
[{"$f":"IF(Table1[[#This Row],[Name of Student]]=\"\",\"\",ROWS($A$1:A373))","v":""},{"$f":"IF('Student Record'!A374=\"\",\"\",'Student Record'!A374)","v":""},{"$f":"IF('Student Record'!C374=\"\",\"\",'Student Record'!C374)","v":""},{"$f":"IF('[1]Student Record'!K376=\"\",\"\",'[1]Student Record'!K376)","v":""},{"$f":"IF('Student Record'!E374=\"\",\"\",'Student Record'!E374)","v":""},{"$f":"IF('Student Record'!G374=\"\",\"\",'Student Record'!G374)","v":""},{"$f":"IF('Student Record'!H374=\"\",\"\",'Student Record'!H374)","v":""},{"$f":"IF('Student Record'!J374=\"\",\"\",'Student Record'!J374)","v":""},{"$f":"IF('Student Record'!D376=\"\",\"\",'Student Record'!D376)","v":""},{"$f":"IF('Student Record'!T374=\"\",\"\",'Student Record'!T374)","v":""},{"$f":"IF('Student Record'!V374=\"\",\"\",'Student Record'!V374)","v":""},{"$f":"IF('Student Record'!W376=\"\",\"\",'Student Record'!W376)","v":""}]
[{"$f":"IF(Table1[[#This Row],[Name of Student]]=\"\",\"\",ROWS($A$1:A374))","v":""},{"$f":"IF('Student Record'!A375=\"\",\"\",'Student Record'!A375)","v":""},{"$f":"IF('Student Record'!C375=\"\",\"\",'Student Record'!C375)","v":""},{"$f":"IF('[1]Student Record'!K377=\"\",\"\",'[1]Student Record'!K377)","v":""},{"$f":"IF('Student Record'!E375=\"\",\"\",'Student Record'!E375)","v":""},{"$f":"IF('Student Record'!G375=\"\",\"\",'Student Record'!G375)","v":""},{"$f":"IF('Student Record'!H375=\"\",\"\",'Student Record'!H375)","v":""},{"$f":"IF('Student Record'!J375=\"\",\"\",'Student Record'!J375)","v":""},{"$f":"IF('Student Record'!D377=\"\",\"\",'Student Record'!D377)","v":""},{"$f":"IF('Student Record'!T375=\"\",\"\",'Student Record'!T375)","v":""},{"$f":"IF('Student Record'!V375=\"\",\"\",'Student Record'!V375)","v":""},{"$f":"IF('Student Record'!W377=\"\",\"\",'Student Record'!W377)","v":""}]
[{"$f":"IF(Table1[[#This Row],[Name of Student]]=\"\",\"\",ROWS($A$1:A375))","v":""},{"$f":"IF('Student Record'!A376=\"\",\"\",'Student Record'!A376)","v":""},{"$f":"IF('Student Record'!C376=\"\",\"\",'Student Record'!C376)","v":""},{"$f":"IF('[1]Student Record'!K378=\"\",\"\",'[1]Student Record'!K378)","v":""},{"$f":"IF('Student Record'!E376=\"\",\"\",'Student Record'!E376)","v":""},{"$f":"IF('Student Record'!G376=\"\",\"\",'Student Record'!G376)","v":""},{"$f":"IF('Student Record'!H376=\"\",\"\",'Student Record'!H376)","v":""},{"$f":"IF('Student Record'!J376=\"\",\"\",'Student Record'!J376)","v":""},{"$f":"IF('Student Record'!D378=\"\",\"\",'Student Record'!D378)","v":""},{"$f":"IF('Student Record'!T376=\"\",\"\",'Student Record'!T376)","v":""},{"$f":"IF('Student Record'!V376=\"\",\"\",'Student Record'!V376)","v":""},{"$f":"IF('Student Record'!W378=\"\",\"\",'Student Record'!W378)","v":""}]
[{"$f":"IF(Table1[[#This Row],[Name of Student]]=\"\",\"\",ROWS($A$1:A376))","v":""},{"$f":"IF('Student Record'!A377=\"\",\"\",'Student Record'!A377)","v":""},{"$f":"IF('Student Record'!C377=\"\",\"\",'Student Record'!C377)","v":""},{"$f":"IF('[1]Student Record'!K379=\"\",\"\",'[1]Student Record'!K379)","v":""},{"$f":"IF('Student Record'!E377=\"\",\"\",'Student Record'!E377)","v":""},{"$f":"IF('Student Record'!G377=\"\",\"\",'Student Record'!G377)","v":""},{"$f":"IF('Student Record'!H377=\"\",\"\",'Student Record'!H377)","v":""},{"$f":"IF('Student Record'!J377=\"\",\"\",'Student Record'!J377)","v":""},{"$f":"IF('Student Record'!D379=\"\",\"\",'Student Record'!D379)","v":""},{"$f":"IF('Student Record'!T377=\"\",\"\",'Student Record'!T377)","v":""},{"$f":"IF('Student Record'!V377=\"\",\"\",'Student Record'!V377)","v":""},{"$f":"IF('Student Record'!W379=\"\",\"\",'Student Record'!W379)","v":""}]
[{"$f":"IF(Table1[[#This Row],[Name of Student]]=\"\",\"\",ROWS($A$1:A377))","v":""},{"$f":"IF('Student Record'!A378=\"\",\"\",'Student Record'!A378)","v":""},{"$f":"IF('Student Record'!C378=\"\",\"\",'Student Record'!C378)","v":""},{"$f":"IF('[1]Student Record'!K380=\"\",\"\",'[1]Student Record'!K380)","v":""},{"$f":"IF('Student Record'!E378=\"\",\"\",'Student Record'!E378)","v":""},{"$f":"IF('Student Record'!G378=\"\",\"\",'Student Record'!G378)","v":""},{"$f":"IF('Student Record'!H378=\"\",\"\",'Student Record'!H378)","v":""},{"$f":"IF('Student Record'!J378=\"\",\"\",'Student Record'!J378)","v":""},{"$f":"IF('Student Record'!D380=\"\",\"\",'Student Record'!D380)","v":""},{"$f":"IF('Student Record'!T378=\"\",\"\",'Student Record'!T378)","v":""},{"$f":"IF('Student Record'!V378=\"\",\"\",'Student Record'!V378)","v":""},{"$f":"IF('Student Record'!W380=\"\",\"\",'Student Record'!W380)","v":""}]
[{"$f":"IF(Table1[[#This Row],[Name of Student]]=\"\",\"\",ROWS($A$1:A378))","v":""},{"$f":"IF('Student Record'!A379=\"\",\"\",'Student Record'!A379)","v":""},{"$f":"IF('Student Record'!C379=\"\",\"\",'Student Record'!C379)","v":""},{"$f":"IF('[1]Student Record'!K381=\"\",\"\",'[1]Student Record'!K381)","v":""},{"$f":"IF('Student Record'!E379=\"\",\"\",'Student Record'!E379)","v":""},{"$f":"IF('Student Record'!G379=\"\",\"\",'Student Record'!G379)","v":""},{"$f":"IF('Student Record'!H379=\"\",\"\",'Student Record'!H379)","v":""},{"$f":"IF('Student Record'!J379=\"\",\"\",'Student Record'!J379)","v":""},{"$f":"IF('Student Record'!D381=\"\",\"\",'Student Record'!D381)","v":""},{"$f":"IF('Student Record'!T379=\"\",\"\",'Student Record'!T379)","v":""},{"$f":"IF('Student Record'!V379=\"\",\"\",'Student Record'!V379)","v":""},{"$f":"IF('Student Record'!W381=\"\",\"\",'Student Record'!W381)","v":""}]
[{"$f":"IF(Table1[[#This Row],[Name of Student]]=\"\",\"\",ROWS($A$1:A379))","v":""},{"$f":"IF('Student Record'!A380=\"\",\"\",'Student Record'!A380)","v":""},{"$f":"IF('Student Record'!C380=\"\",\"\",'Student Record'!C380)","v":""},{"$f":"IF('[1]Student Record'!K382=\"\",\"\",'[1]Student Record'!K382)","v":""},{"$f":"IF('Student Record'!E380=\"\",\"\",'Student Record'!E380)","v":""},{"$f":"IF('Student Record'!G380=\"\",\"\",'Student Record'!G380)","v":""},{"$f":"IF('Student Record'!H380=\"\",\"\",'Student Record'!H380)","v":""},{"$f":"IF('Student Record'!J380=\"\",\"\",'Student Record'!J380)","v":""},{"$f":"IF('Student Record'!D382=\"\",\"\",'Student Record'!D382)","v":""},{"$f":"IF('Student Record'!T380=\"\",\"\",'Student Record'!T380)","v":""},{"$f":"IF('Student Record'!V380=\"\",\"\",'Student Record'!V380)","v":""},{"$f":"IF('Student Record'!W382=\"\",\"\",'Student Record'!W382)","v":""}]
[{"$f":"IF(Table1[[#This Row],[Name of Student]]=\"\",\"\",ROWS($A$1:A380))","v":""},{"$f":"IF('Student Record'!A381=\"\",\"\",'Student Record'!A381)","v":""},{"$f":"IF('Student Record'!C381=\"\",\"\",'Student Record'!C381)","v":""},{"$f":"IF('[1]Student Record'!K383=\"\",\"\",'[1]Student Record'!K383)","v":""},{"$f":"IF('Student Record'!E381=\"\",\"\",'Student Record'!E381)","v":""},{"$f":"IF('Student Record'!G381=\"\",\"\",'Student Record'!G381)","v":""},{"$f":"IF('Student Record'!H381=\"\",\"\",'Student Record'!H381)","v":""},{"$f":"IF('Student Record'!J381=\"\",\"\",'Student Record'!J381)","v":""},{"$f":"IF('Student Record'!D383=\"\",\"\",'Student Record'!D383)","v":""},{"$f":"IF('Student Record'!T381=\"\",\"\",'Student Record'!T381)","v":""},{"$f":"IF('Student Record'!V381=\"\",\"\",'Student Record'!V381)","v":""},{"$f":"IF('Student Record'!W383=\"\",\"\",'Student Record'!W383)","v":""}]
[{"$f":"IF(Table1[[#This Row],[Name of Student]]=\"\",\"\",ROWS($A$1:A381))","v":""},{"$f":"IF('Student Record'!A382=\"\",\"\",'Student Record'!A382)","v":""},{"$f":"IF('Student Record'!C382=\"\",\"\",'Student Record'!C382)","v":""},{"$f":"IF('[1]Student Record'!K384=\"\",\"\",'[1]Student Record'!K384)","v":""},{"$f":"IF('Student Record'!E382=\"\",\"\",'Student Record'!E382)","v":""},{"$f":"IF('Student Record'!G382=\"\",\"\",'Student Record'!G382)","v":""},{"$f":"IF('Student Record'!H382=\"\",\"\",'Student Record'!H382)","v":""},{"$f":"IF('Student Record'!J382=\"\",\"\",'Student Record'!J382)","v":""},{"$f":"IF('Student Record'!D384=\"\",\"\",'Student Record'!D384)","v":""},{"$f":"IF('Student Record'!T382=\"\",\"\",'Student Record'!T382)","v":""},{"$f":"IF('Student Record'!V382=\"\",\"\",'Student Record'!V382)","v":""},{"$f":"IF('Student Record'!W384=\"\",\"\",'Student Record'!W384)","v":""}]
[{"$f":"IF(Table1[[#This Row],[Name of Student]]=\"\",\"\",ROWS($A$1:A382))","v":""},{"$f":"IF('Student Record'!A383=\"\",\"\",'Student Record'!A383)","v":""},{"$f":"IF('Student Record'!C383=\"\",\"\",'Student Record'!C383)","v":""},{"$f":"IF('[1]Student Record'!K385=\"\",\"\",'[1]Student Record'!K385)","v":""},{"$f":"IF('Student Record'!E383=\"\",\"\",'Student Record'!E383)","v":""},{"$f":"IF('Student Record'!G383=\"\",\"\",'Student Record'!G383)","v":""},{"$f":"IF('Student Record'!H383=\"\",\"\",'Student Record'!H383)","v":""},{"$f":"IF('Student Record'!J383=\"\",\"\",'Student Record'!J383)","v":""},{"$f":"IF('Student Record'!D385=\"\",\"\",'Student Record'!D385)","v":""},{"$f":"IF('Student Record'!T383=\"\",\"\",'Student Record'!T383)","v":""},{"$f":"IF('Student Record'!V383=\"\",\"\",'Student Record'!V383)","v":""},{"$f":"IF('Student Record'!W385=\"\",\"\",'Student Record'!W385)","v":""}]
[{"$f":"IF(Table1[[#This Row],[Name of Student]]=\"\",\"\",ROWS($A$1:A383))","v":""},{"$f":"IF('Student Record'!A384=\"\",\"\",'Student Record'!A384)","v":""},{"$f":"IF('Student Record'!C384=\"\",\"\",'Student Record'!C384)","v":""},{"$f":"IF('[1]Student Record'!K386=\"\",\"\",'[1]Student Record'!K386)","v":""},{"$f":"IF('Student Record'!E384=\"\",\"\",'Student Record'!E384)","v":""},{"$f":"IF('Student Record'!G384=\"\",\"\",'Student Record'!G384)","v":""},{"$f":"IF('Student Record'!H384=\"\",\"\",'Student Record'!H384)","v":""},{"$f":"IF('Student Record'!J384=\"\",\"\",'Student Record'!J384)","v":""},{"$f":"IF('Student Record'!D386=\"\",\"\",'Student Record'!D386)","v":""},{"$f":"IF('Student Record'!T384=\"\",\"\",'Student Record'!T384)","v":""},{"$f":"IF('Student Record'!V384=\"\",\"\",'Student Record'!V384)","v":""},{"$f":"IF('Student Record'!W386=\"\",\"\",'Student Record'!W386)","v":""}]
[{"$f":"IF(Table1[[#This Row],[Name of Student]]=\"\",\"\",ROWS($A$1:A384))","v":""},{"$f":"IF('Student Record'!A385=\"\",\"\",'Student Record'!A385)","v":""},{"$f":"IF('Student Record'!C385=\"\",\"\",'Student Record'!C385)","v":""},{"$f":"IF('[1]Student Record'!K387=\"\",\"\",'[1]Student Record'!K387)","v":""},{"$f":"IF('Student Record'!E385=\"\",\"\",'Student Record'!E385)","v":""},{"$f":"IF('Student Record'!G385=\"\",\"\",'Student Record'!G385)","v":""},{"$f":"IF('Student Record'!H385=\"\",\"\",'Student Record'!H385)","v":""},{"$f":"IF('Student Record'!J385=\"\",\"\",'Student Record'!J385)","v":""},{"$f":"IF('Student Record'!D387=\"\",\"\",'Student Record'!D387)","v":""},{"$f":"IF('Student Record'!T385=\"\",\"\",'Student Record'!T385)","v":""},{"$f":"IF('Student Record'!V385=\"\",\"\",'Student Record'!V385)","v":""},{"$f":"IF('Student Record'!W387=\"\",\"\",'Student Record'!W387)","v":""}]
[{"$f":"IF(Table1[[#This Row],[Name of Student]]=\"\",\"\",ROWS($A$1:A385))","v":""},{"$f":"IF('Student Record'!A386=\"\",\"\",'Student Record'!A386)","v":""},{"$f":"IF('Student Record'!C386=\"\",\"\",'Student Record'!C386)","v":""},{"$f":"IF('[1]Student Record'!K388=\"\",\"\",'[1]Student Record'!K388)","v":""},{"$f":"IF('Student Record'!E386=\"\",\"\",'Student Record'!E386)","v":""},{"$f":"IF('Student Record'!G386=\"\",\"\",'Student Record'!G386)","v":""},{"$f":"IF('Student Record'!H386=\"\",\"\",'Student Record'!H386)","v":""},{"$f":"IF('Student Record'!J386=\"\",\"\",'Student Record'!J386)","v":""},{"$f":"IF('Student Record'!D388=\"\",\"\",'Student Record'!D388)","v":""},{"$f":"IF('Student Record'!T386=\"\",\"\",'Student Record'!T386)","v":""},{"$f":"IF('Student Record'!V386=\"\",\"\",'Student Record'!V386)","v":""},{"$f":"IF('Student Record'!W388=\"\",\"\",'Student Record'!W388)","v":""}]
[{"$f":"IF(Table1[[#This Row],[Name of Student]]=\"\",\"\",ROWS($A$1:A386))","v":""},{"$f":"IF('Student Record'!A387=\"\",\"\",'Student Record'!A387)","v":""},{"$f":"IF('Student Record'!C387=\"\",\"\",'Student Record'!C387)","v":""},{"$f":"IF('[1]Student Record'!K389=\"\",\"\",'[1]Student Record'!K389)","v":""},{"$f":"IF('Student Record'!E387=\"\",\"\",'Student Record'!E387)","v":""},{"$f":"IF('Student Record'!G387=\"\",\"\",'Student Record'!G387)","v":""},{"$f":"IF('Student Record'!H387=\"\",\"\",'Student Record'!H387)","v":""},{"$f":"IF('Student Record'!J387=\"\",\"\",'Student Record'!J387)","v":""},{"$f":"IF('Student Record'!D389=\"\",\"\",'Student Record'!D389)","v":""},{"$f":"IF('Student Record'!T387=\"\",\"\",'Student Record'!T387)","v":""},{"$f":"IF('Student Record'!V387=\"\",\"\",'Student Record'!V387)","v":""},{"$f":"IF('Student Record'!W389=\"\",\"\",'Student Record'!W389)","v":""}]
[{"$f":"IF(Table1[[#This Row],[Name of Student]]=\"\",\"\",ROWS($A$1:A387))","v":""},{"$f":"IF('Student Record'!A388=\"\",\"\",'Student Record'!A388)","v":""},{"$f":"IF('Student Record'!C388=\"\",\"\",'Student Record'!C388)","v":""},{"$f":"IF('[1]Student Record'!K390=\"\",\"\",'[1]Student Record'!K390)","v":""},{"$f":"IF('Student Record'!E388=\"\",\"\",'Student Record'!E388)","v":""},{"$f":"IF('Student Record'!G388=\"\",\"\",'Student Record'!G388)","v":""},{"$f":"IF('Student Record'!H388=\"\",\"\",'Student Record'!H388)","v":""},{"$f":"IF('Student Record'!J388=\"\",\"\",'Student Record'!J388)","v":""},{"$f":"IF('Student Record'!D390=\"\",\"\",'Student Record'!D390)","v":""},{"$f":"IF('Student Record'!T388=\"\",\"\",'Student Record'!T388)","v":""},{"$f":"IF('Student Record'!V388=\"\",\"\",'Student Record'!V388)","v":""},{"$f":"IF('Student Record'!W390=\"\",\"\",'Student Record'!W390)","v":""}]
[{"$f":"IF(Table1[[#This Row],[Name of Student]]=\"\",\"\",ROWS($A$1:A388))","v":""},{"$f":"IF('Student Record'!A389=\"\",\"\",'Student Record'!A389)","v":""},{"$f":"IF('Student Record'!C389=\"\",\"\",'Student Record'!C389)","v":""},{"$f":"IF('[1]Student Record'!K391=\"\",\"\",'[1]Student Record'!K391)","v":""},{"$f":"IF('Student Record'!E389=\"\",\"\",'Student Record'!E389)","v":""},{"$f":"IF('Student Record'!G389=\"\",\"\",'Student Record'!G389)","v":""},{"$f":"IF('Student Record'!H389=\"\",\"\",'Student Record'!H389)","v":""},{"$f":"IF('Student Record'!J389=\"\",\"\",'Student Record'!J389)","v":""},{"$f":"IF('Student Record'!D391=\"\",\"\",'Student Record'!D391)","v":""},{"$f":"IF('Student Record'!T389=\"\",\"\",'Student Record'!T389)","v":""},{"$f":"IF('Student Record'!V389=\"\",\"\",'Student Record'!V389)","v":""},{"$f":"IF('Student Record'!W391=\"\",\"\",'Student Record'!W391)","v":""}]
[{"$f":"IF(Table1[[#This Row],[Name of Student]]=\"\",\"\",ROWS($A$1:A389))","v":""},{"$f":"IF('Student Record'!A390=\"\",\"\",'Student Record'!A390)","v":""},{"$f":"IF('Student Record'!C390=\"\",\"\",'Student Record'!C390)","v":""},{"$f":"IF('[1]Student Record'!K392=\"\",\"\",'[1]Student Record'!K392)","v":""},{"$f":"IF('Student Record'!E390=\"\",\"\",'Student Record'!E390)","v":""},{"$f":"IF('Student Record'!G390=\"\",\"\",'Student Record'!G390)","v":""},{"$f":"IF('Student Record'!H390=\"\",\"\",'Student Record'!H390)","v":""},{"$f":"IF('Student Record'!J390=\"\",\"\",'Student Record'!J390)","v":""},{"$f":"IF('Student Record'!D392=\"\",\"\",'Student Record'!D392)","v":""},{"$f":"IF('Student Record'!T390=\"\",\"\",'Student Record'!T390)","v":""},{"$f":"IF('Student Record'!V390=\"\",\"\",'Student Record'!V390)","v":""},{"$f":"IF('Student Record'!W392=\"\",\"\",'Student Record'!W392)","v":""}]
[{"$f":"IF(Table1[[#This Row],[Name of Student]]=\"\",\"\",ROWS($A$1:A390))","v":""},{"$f":"IF('Student Record'!A391=\"\",\"\",'Student Record'!A391)","v":""},{"$f":"IF('Student Record'!C391=\"\",\"\",'Student Record'!C391)","v":""},{"$f":"IF('[1]Student Record'!K393=\"\",\"\",'[1]Student Record'!K393)","v":""},{"$f":"IF('Student Record'!E391=\"\",\"\",'Student Record'!E391)","v":""},{"$f":"IF('Student Record'!G391=\"\",\"\",'Student Record'!G391)","v":""},{"$f":"IF('Student Record'!H391=\"\",\"\",'Student Record'!H391)","v":""},{"$f":"IF('Student Record'!J391=\"\",\"\",'Student Record'!J391)","v":""},{"$f":"IF('Student Record'!D393=\"\",\"\",'Student Record'!D393)","v":""},{"$f":"IF('Student Record'!T391=\"\",\"\",'Student Record'!T391)","v":""},{"$f":"IF('Student Record'!V391=\"\",\"\",'Student Record'!V391)","v":""},{"$f":"IF('Student Record'!W393=\"\",\"\",'Student Record'!W393)","v":""}]
[{"$f":"IF(Table1[[#This Row],[Name of Student]]=\"\",\"\",ROWS($A$1:A391))","v":""},{"$f":"IF('Student Record'!A392=\"\",\"\",'Student Record'!A392)","v":""},{"$f":"IF('Student Record'!C392=\"\",\"\",'Student Record'!C392)","v":""},{"$f":"IF('[1]Student Record'!K394=\"\",\"\",'[1]Student Record'!K394)","v":""},{"$f":"IF('Student Record'!E392=\"\",\"\",'Student Record'!E392)","v":""},{"$f":"IF('Student Record'!G392=\"\",\"\",'Student Record'!G392)","v":""},{"$f":"IF('Student Record'!H392=\"\",\"\",'Student Record'!H392)","v":""},{"$f":"IF('Student Record'!J392=\"\",\"\",'Student Record'!J392)","v":""},{"$f":"IF('Student Record'!D394=\"\",\"\",'Student Record'!D394)","v":""},{"$f":"IF('Student Record'!T392=\"\",\"\",'Student Record'!T392)","v":""},{"$f":"IF('Student Record'!V392=\"\",\"\",'Student Record'!V392)","v":""},{"$f":"IF('Student Record'!W394=\"\",\"\",'Student Record'!W394)","v":""}]
[{"$f":"IF(Table1[[#This Row],[Name of Student]]=\"\",\"\",ROWS($A$1:A392))","v":""},{"$f":"IF('Student Record'!A393=\"\",\"\",'Student Record'!A393)","v":""},{"$f":"IF('Student Record'!C393=\"\",\"\",'Student Record'!C393)","v":""},{"$f":"IF('[1]Student Record'!K395=\"\",\"\",'[1]Student Record'!K395)","v":""},{"$f":"IF('Student Record'!E393=\"\",\"\",'Student Record'!E393)","v":""},{"$f":"IF('Student Record'!G393=\"\",\"\",'Student Record'!G393)","v":""},{"$f":"IF('Student Record'!H393=\"\",\"\",'Student Record'!H393)","v":""},{"$f":"IF('Student Record'!J393=\"\",\"\",'Student Record'!J393)","v":""},{"$f":"IF('Student Record'!D395=\"\",\"\",'Student Record'!D395)","v":""},{"$f":"IF('Student Record'!T393=\"\",\"\",'Student Record'!T393)","v":""},{"$f":"IF('Student Record'!V393=\"\",\"\",'Student Record'!V393)","v":""},{"$f":"IF('Student Record'!W395=\"\",\"\",'Student Record'!W395)","v":""}]
[{"$f":"IF(Table1[[#This Row],[Name of Student]]=\"\",\"\",ROWS($A$1:A393))","v":""},{"$f":"IF('Student Record'!A394=\"\",\"\",'Student Record'!A394)","v":""},{"$f":"IF('Student Record'!C394=\"\",\"\",'Student Record'!C394)","v":""},{"$f":"IF('[1]Student Record'!K396=\"\",\"\",'[1]Student Record'!K396)","v":""},{"$f":"IF('Student Record'!E394=\"\",\"\",'Student Record'!E394)","v":""},{"$f":"IF('Student Record'!G394=\"\",\"\",'Student Record'!G394)","v":""},{"$f":"IF('Student Record'!H394=\"\",\"\",'Student Record'!H394)","v":""},{"$f":"IF('Student Record'!J394=\"\",\"\",'Student Record'!J394)","v":""},{"$f":"IF('Student Record'!D396=\"\",\"\",'Student Record'!D396)","v":""},{"$f":"IF('Student Record'!T394=\"\",\"\",'Student Record'!T394)","v":""},{"$f":"IF('Student Record'!V394=\"\",\"\",'Student Record'!V394)","v":""},{"$f":"IF('Student Record'!W396=\"\",\"\",'Student Record'!W396)","v":""}]
[{"$f":"IF(Table1[[#This Row],[Name of Student]]=\"\",\"\",ROWS($A$1:A394))","v":""},{"$f":"IF('Student Record'!A395=\"\",\"\",'Student Record'!A395)","v":""},{"$f":"IF('Student Record'!C395=\"\",\"\",'Student Record'!C395)","v":""},{"$f":"IF('[1]Student Record'!K397=\"\",\"\",'[1]Student Record'!K397)","v":""},{"$f":"IF('Student Record'!E395=\"\",\"\",'Student Record'!E395)","v":""},{"$f":"IF('Student Record'!G395=\"\",\"\",'Student Record'!G395)","v":""},{"$f":"IF('Student Record'!H395=\"\",\"\",'Student Record'!H395)","v":""},{"$f":"IF('Student Record'!J395=\"\",\"\",'Student Record'!J395)","v":""},{"$f":"IF('Student Record'!D397=\"\",\"\",'Student Record'!D397)","v":""},{"$f":"IF('Student Record'!T395=\"\",\"\",'Student Record'!T395)","v":""},{"$f":"IF('Student Record'!V395=\"\",\"\",'Student Record'!V395)","v":""},{"$f":"IF('Student Record'!W397=\"\",\"\",'Student Record'!W397)","v":""}]
[{"$f":"IF(Table1[[#This Row],[Name of Student]]=\"\",\"\",ROWS($A$1:A395))","v":""},{"$f":"IF('Student Record'!A396=\"\",\"\",'Student Record'!A396)","v":""},{"$f":"IF('Student Record'!C396=\"\",\"\",'Student Record'!C396)","v":""},{"$f":"IF('[1]Student Record'!K398=\"\",\"\",'[1]Student Record'!K398)","v":""},{"$f":"IF('Student Record'!E396=\"\",\"\",'Student Record'!E396)","v":""},{"$f":"IF('Student Record'!G396=\"\",\"\",'Student Record'!G396)","v":""},{"$f":"IF('Student Record'!H396=\"\",\"\",'Student Record'!H396)","v":""},{"$f":"IF('Student Record'!J396=\"\",\"\",'Student Record'!J396)","v":""},{"$f":"IF('Student Record'!D398=\"\",\"\",'Student Record'!D398)","v":""},{"$f":"IF('Student Record'!T396=\"\",\"\",'Student Record'!T396)","v":""},{"$f":"IF('Student Record'!V396=\"\",\"\",'Student Record'!V396)","v":""},{"$f":"IF('Student Record'!W398=\"\",\"\",'Student Record'!W398)","v":""}]
[{"$f":"IF(Table1[[#This Row],[Name of Student]]=\"\",\"\",ROWS($A$1:A396))","v":""},{"$f":"IF('Student Record'!A397=\"\",\"\",'Student Record'!A397)","v":""},{"$f":"IF('Student Record'!C397=\"\",\"\",'Student Record'!C397)","v":""},{"$f":"IF('[1]Student Record'!K399=\"\",\"\",'[1]Student Record'!K399)","v":""},{"$f":"IF('Student Record'!E397=\"\",\"\",'Student Record'!E397)","v":""},{"$f":"IF('Student Record'!G397=\"\",\"\",'Student Record'!G397)","v":""},{"$f":"IF('Student Record'!H397=\"\",\"\",'Student Record'!H397)","v":""},{"$f":"IF('Student Record'!J397=\"\",\"\",'Student Record'!J397)","v":""},{"$f":"IF('Student Record'!D399=\"\",\"\",'Student Record'!D399)","v":""},{"$f":"IF('Student Record'!T397=\"\",\"\",'Student Record'!T397)","v":""},{"$f":"IF('Student Record'!V397=\"\",\"\",'Student Record'!V397)","v":""},{"$f":"IF('Student Record'!W399=\"\",\"\",'Student Record'!W399)","v":""}]
[{"$f":"IF(Table1[[#This Row],[Name of Student]]=\"\",\"\",ROWS($A$1:A397))","v":""},{"$f":"IF('Student Record'!A398=\"\",\"\",'Student Record'!A398)","v":""},{"$f":"IF('Student Record'!C398=\"\",\"\",'Student Record'!C398)","v":""},{"$f":"IF('[1]Student Record'!K400=\"\",\"\",'[1]Student Record'!K400)","v":""},{"$f":"IF('Student Record'!E398=\"\",\"\",'Student Record'!E398)","v":""},{"$f":"IF('Student Record'!G398=\"\",\"\",'Student Record'!G398)","v":""},{"$f":"IF('Student Record'!H398=\"\",\"\",'Student Record'!H398)","v":""},{"$f":"IF('Student Record'!J398=\"\",\"\",'Student Record'!J398)","v":""},{"$f":"IF('Student Record'!D400=\"\",\"\",'Student Record'!D400)","v":""},{"$f":"IF('Student Record'!T398=\"\",\"\",'Student Record'!T398)","v":""},{"$f":"IF('Student Record'!V398=\"\",\"\",'Student Record'!V398)","v":""},{"$f":"IF('Student Record'!W400=\"\",\"\",'Student Record'!W400)","v":""}]
[{"$f":"IF(Table1[[#This Row],[Name of Student]]=\"\",\"\",ROWS($A$1:A398))","v":""},{"$f":"IF('Student Record'!A399=\"\",\"\",'Student Record'!A399)","v":""},{"$f":"IF('Student Record'!C399=\"\",\"\",'Student Record'!C399)","v":""},{"$f":"IF('[1]Student Record'!K401=\"\",\"\",'[1]Student Record'!K401)","v":""},{"$f":"IF('Student Record'!E399=\"\",\"\",'Student Record'!E399)","v":""},{"$f":"IF('Student Record'!G399=\"\",\"\",'Student Record'!G399)","v":""},{"$f":"IF('Student Record'!H399=\"\",\"\",'Student Record'!H399)","v":""},{"$f":"IF('Student Record'!J399=\"\",\"\",'Student Record'!J399)","v":""},{"$f":"IF('Student Record'!D401=\"\",\"\",'Student Record'!D401)","v":""},{"$f":"IF('Student Record'!T399=\"\",\"\",'Student Record'!T399)","v":""},{"$f":"IF('Student Record'!V399=\"\",\"\",'Student Record'!V399)","v":""},{"$f":"IF('Student Record'!W401=\"\",\"\",'Student Record'!W401)","v":""}]
[{"$f":"IF(Table1[[#This Row],[Name of Student]]=\"\",\"\",ROWS($A$1:A399))","v":""},{"$f":"IF('Student Record'!A400=\"\",\"\",'Student Record'!A400)","v":""},{"$f":"IF('Student Record'!C400=\"\",\"\",'Student Record'!C400)","v":""},{"$f":"IF('[1]Student Record'!K402=\"\",\"\",'[1]Student Record'!K402)","v":""},{"$f":"IF('Student Record'!E400=\"\",\"\",'Student Record'!E400)","v":""},{"$f":"IF('Student Record'!G400=\"\",\"\",'Student Record'!G400)","v":""},{"$f":"IF('Student Record'!H400=\"\",\"\",'Student Record'!H400)","v":""},{"$f":"IF('Student Record'!J400=\"\",\"\",'Student Record'!J400)","v":""},{"$f":"IF('Student Record'!D402=\"\",\"\",'Student Record'!D402)","v":""},{"$f":"IF('Student Record'!T400=\"\",\"\",'Student Record'!T400)","v":""},{"$f":"IF('Student Record'!V400=\"\",\"\",'Student Record'!V400)","v":""},{"$f":"IF('Student Record'!W402=\"\",\"\",'Student Record'!W402)","v":""}]
[{"$f":"IF(Table1[[#This Row],[Name of Student]]=\"\",\"\",ROWS($A$1:A400))","v":""},{"$f":"IF('Student Record'!A401=\"\",\"\",'Student Record'!A401)","v":""},{"$f":"IF('Student Record'!C401=\"\",\"\",'Student Record'!C401)","v":""},{"$f":"IF('[1]Student Record'!K403=\"\",\"\",'[1]Student Record'!K403)","v":""},{"$f":"IF('Student Record'!E401=\"\",\"\",'Student Record'!E401)","v":""},{"$f":"IF('Student Record'!G401=\"\",\"\",'Student Record'!G401)","v":""},{"$f":"IF('Student Record'!H401=\"\",\"\",'Student Record'!H401)","v":""},{"$f":"IF('Student Record'!J401=\"\",\"\",'Student Record'!J401)","v":""},{"$f":"IF('Student Record'!D403=\"\",\"\",'Student Record'!D403)","v":""},{"$f":"IF('Student Record'!T401=\"\",\"\",'Student Record'!T401)","v":""},{"$f":"IF('Student Record'!V401=\"\",\"\",'Student Record'!V401)","v":""},{"$f":"IF('Student Record'!W403=\"\",\"\",'Student Record'!W403)","v":""}]
[{"$f":"IF(Table1[[#This Row],[Name of Student]]=\"\",\"\",ROWS($A$1:A401))","v":""},{"$f":"IF('Student Record'!A402=\"\",\"\",'Student Record'!A402)","v":""},{"$f":"IF('Student Record'!C402=\"\",\"\",'Student Record'!C402)","v":""},{"$f":"IF('[1]Student Record'!K404=\"\",\"\",'[1]Student Record'!K404)","v":""},{"$f":"IF('Student Record'!E402=\"\",\"\",'Student Record'!E402)","v":""},{"$f":"IF('Student Record'!G402=\"\",\"\",'Student Record'!G402)","v":""},{"$f":"IF('Student Record'!H402=\"\",\"\",'Student Record'!H402)","v":""},{"$f":"IF('Student Record'!J402=\"\",\"\",'Student Record'!J402)","v":""},{"$f":"IF('Student Record'!D404=\"\",\"\",'Student Record'!D404)","v":""},{"$f":"IF('Student Record'!T402=\"\",\"\",'Student Record'!T402)","v":""},{"$f":"IF('Student Record'!V402=\"\",\"\",'Student Record'!V402)","v":""},{"$f":"IF('Student Record'!W404=\"\",\"\",'Student Record'!W404)","v":""}]
[{"$f":"IF(Table1[[#This Row],[Name of Student]]=\"\",\"\",ROWS($A$1:A402))","v":""},{"$f":"IF('Student Record'!A403=\"\",\"\",'Student Record'!A403)","v":""},{"$f":"IF('Student Record'!C403=\"\",\"\",'Student Record'!C403)","v":""},{"$f":"IF('[1]Student Record'!K405=\"\",\"\",'[1]Student Record'!K405)","v":""},{"$f":"IF('Student Record'!E403=\"\",\"\",'Student Record'!E403)","v":""},{"$f":"IF('Student Record'!G403=\"\",\"\",'Student Record'!G403)","v":""},{"$f":"IF('Student Record'!H403=\"\",\"\",'Student Record'!H403)","v":""},{"$f":"IF('Student Record'!J403=\"\",\"\",'Student Record'!J403)","v":""},{"$f":"IF('Student Record'!D405=\"\",\"\",'Student Record'!D405)","v":""},{"$f":"IF('Student Record'!T403=\"\",\"\",'Student Record'!T403)","v":""},{"$f":"IF('Student Record'!V403=\"\",\"\",'Student Record'!V403)","v":""},{"$f":"IF('Student Record'!W405=\"\",\"\",'Student Record'!W405)","v":""}]
[{"$f":"IF(Table1[[#This Row],[Name of Student]]=\"\",\"\",ROWS($A$1:A403))","v":""},{"$f":"IF('Student Record'!A404=\"\",\"\",'Student Record'!A404)","v":""},{"$f":"IF('Student Record'!C404=\"\",\"\",'Student Record'!C404)","v":""},{"$f":"IF('[1]Student Record'!K406=\"\",\"\",'[1]Student Record'!K406)","v":""},{"$f":"IF('Student Record'!E404=\"\",\"\",'Student Record'!E404)","v":""},{"$f":"IF('Student Record'!G404=\"\",\"\",'Student Record'!G404)","v":""},{"$f":"IF('Student Record'!H404=\"\",\"\",'Student Record'!H404)","v":""},{"$f":"IF('Student Record'!J404=\"\",\"\",'Student Record'!J404)","v":""},{"$f":"IF('Student Record'!D406=\"\",\"\",'Student Record'!D406)","v":""},{"$f":"IF('Student Record'!T404=\"\",\"\",'Student Record'!T404)","v":""},{"$f":"IF('Student Record'!V404=\"\",\"\",'Student Record'!V404)","v":""},{"$f":"IF('Student Record'!W406=\"\",\"\",'Student Record'!W406)","v":""}]
[{"$f":"IF(Table1[[#This Row],[Name of Student]]=\"\",\"\",ROWS($A$1:A404))","v":""},{"$f":"IF('Student Record'!A405=\"\",\"\",'Student Record'!A405)","v":""},{"$f":"IF('Student Record'!C405=\"\",\"\",'Student Record'!C405)","v":""},{"$f":"IF('[1]Student Record'!K407=\"\",\"\",'[1]Student Record'!K407)","v":""},{"$f":"IF('Student Record'!E405=\"\",\"\",'Student Record'!E405)","v":""},{"$f":"IF('Student Record'!G405=\"\",\"\",'Student Record'!G405)","v":""},{"$f":"IF('Student Record'!H405=\"\",\"\",'Student Record'!H405)","v":""},{"$f":"IF('Student Record'!J405=\"\",\"\",'Student Record'!J405)","v":""},{"$f":"IF('Student Record'!D407=\"\",\"\",'Student Record'!D407)","v":""},{"$f":"IF('Student Record'!T405=\"\",\"\",'Student Record'!T405)","v":""},{"$f":"IF('Student Record'!V405=\"\",\"\",'Student Record'!V405)","v":""},{"$f":"IF('Student Record'!W407=\"\",\"\",'Student Record'!W407)","v":""}]
[{"$f":"IF(Table1[[#This Row],[Name of Student]]=\"\",\"\",ROWS($A$1:A405))","v":""},{"$f":"IF('Student Record'!A406=\"\",\"\",'Student Record'!A406)","v":""},{"$f":"IF('Student Record'!C406=\"\",\"\",'Student Record'!C406)","v":""},{"$f":"IF('[1]Student Record'!K408=\"\",\"\",'[1]Student Record'!K408)","v":""},{"$f":"IF('Student Record'!E406=\"\",\"\",'Student Record'!E406)","v":""},{"$f":"IF('Student Record'!G406=\"\",\"\",'Student Record'!G406)","v":""},{"$f":"IF('Student Record'!H406=\"\",\"\",'Student Record'!H406)","v":""},{"$f":"IF('Student Record'!J406=\"\",\"\",'Student Record'!J406)","v":""},{"$f":"IF('Student Record'!D408=\"\",\"\",'Student Record'!D408)","v":""},{"$f":"IF('Student Record'!T406=\"\",\"\",'Student Record'!T406)","v":""},{"$f":"IF('Student Record'!V406=\"\",\"\",'Student Record'!V406)","v":""},{"$f":"IF('Student Record'!W408=\"\",\"\",'Student Record'!W408)","v":""}]
[{"$f":"IF(Table1[[#This Row],[Name of Student]]=\"\",\"\",ROWS($A$1:A406))","v":""},{"$f":"IF('Student Record'!A407=\"\",\"\",'Student Record'!A407)","v":""},{"$f":"IF('Student Record'!C407=\"\",\"\",'Student Record'!C407)","v":""},{"$f":"IF('[1]Student Record'!K409=\"\",\"\",'[1]Student Record'!K409)","v":""},{"$f":"IF('Student Record'!E407=\"\",\"\",'Student Record'!E407)","v":""},{"$f":"IF('Student Record'!G407=\"\",\"\",'Student Record'!G407)","v":""},{"$f":"IF('Student Record'!H407=\"\",\"\",'Student Record'!H407)","v":""},{"$f":"IF('Student Record'!J407=\"\",\"\",'Student Record'!J407)","v":""},{"$f":"IF('Student Record'!D409=\"\",\"\",'Student Record'!D409)","v":""},{"$f":"IF('Student Record'!T407=\"\",\"\",'Student Record'!T407)","v":""},{"$f":"IF('Student Record'!V407=\"\",\"\",'Student Record'!V407)","v":""},{"$f":"IF('Student Record'!W409=\"\",\"\",'Student Record'!W409)","v":""}]
[{"$f":"IF(Table1[[#This Row],[Name of Student]]=\"\",\"\",ROWS($A$1:A407))","v":""},{"$f":"IF('Student Record'!A408=\"\",\"\",'Student Record'!A408)","v":""},{"$f":"IF('Student Record'!C408=\"\",\"\",'Student Record'!C408)","v":""},{"$f":"IF('[1]Student Record'!K410=\"\",\"\",'[1]Student Record'!K410)","v":""},{"$f":"IF('Student Record'!E408=\"\",\"\",'Student Record'!E408)","v":""},{"$f":"IF('Student Record'!G408=\"\",\"\",'Student Record'!G408)","v":""},{"$f":"IF('Student Record'!H408=\"\",\"\",'Student Record'!H408)","v":""},{"$f":"IF('Student Record'!J408=\"\",\"\",'Student Record'!J408)","v":""},{"$f":"IF('Student Record'!D410=\"\",\"\",'Student Record'!D410)","v":""},{"$f":"IF('Student Record'!T408=\"\",\"\",'Student Record'!T408)","v":""},{"$f":"IF('Student Record'!V408=\"\",\"\",'Student Record'!V408)","v":""},{"$f":"IF('Student Record'!W410=\"\",\"\",'Student Record'!W410)","v":""}]
[{"$f":"IF(Table1[[#This Row],[Name of Student]]=\"\",\"\",ROWS($A$1:A408))","v":""},{"$f":"IF('Student Record'!A409=\"\",\"\",'Student Record'!A409)","v":""},{"$f":"IF('Student Record'!C409=\"\",\"\",'Student Record'!C409)","v":""},{"$f":"IF('[1]Student Record'!K411=\"\",\"\",'[1]Student Record'!K411)","v":""},{"$f":"IF('Student Record'!E409=\"\",\"\",'Student Record'!E409)","v":""},{"$f":"IF('Student Record'!G409=\"\",\"\",'Student Record'!G409)","v":""},{"$f":"IF('Student Record'!H409=\"\",\"\",'Student Record'!H409)","v":""},{"$f":"IF('Student Record'!J409=\"\",\"\",'Student Record'!J409)","v":""},{"$f":"IF('Student Record'!D411=\"\",\"\",'Student Record'!D411)","v":""},{"$f":"IF('Student Record'!T409=\"\",\"\",'Student Record'!T409)","v":""},{"$f":"IF('Student Record'!V409=\"\",\"\",'Student Record'!V409)","v":""},{"$f":"IF('Student Record'!W411=\"\",\"\",'Student Record'!W411)","v":""}]
[{"$f":"IF(Table1[[#This Row],[Name of Student]]=\"\",\"\",ROWS($A$1:A409))","v":""},{"$f":"IF('Student Record'!A410=\"\",\"\",'Student Record'!A410)","v":""},{"$f":"IF('Student Record'!C410=\"\",\"\",'Student Record'!C410)","v":""},{"$f":"IF('[1]Student Record'!K412=\"\",\"\",'[1]Student Record'!K412)","v":""},{"$f":"IF('Student Record'!E410=\"\",\"\",'Student Record'!E410)","v":""},{"$f":"IF('Student Record'!G410=\"\",\"\",'Student Record'!G410)","v":""},{"$f":"IF('Student Record'!H410=\"\",\"\",'Student Record'!H410)","v":""},{"$f":"IF('Student Record'!J410=\"\",\"\",'Student Record'!J410)","v":""},{"$f":"IF('Student Record'!D412=\"\",\"\",'Student Record'!D412)","v":""},{"$f":"IF('Student Record'!T410=\"\",\"\",'Student Record'!T410)","v":""},{"$f":"IF('Student Record'!V410=\"\",\"\",'Student Record'!V410)","v":""},{"$f":"IF('Student Record'!W412=\"\",\"\",'Student Record'!W412)","v":""}]
[{"$f":"IF(Table1[[#This Row],[Name of Student]]=\"\",\"\",ROWS($A$1:A410))","v":""},{"$f":"IF('Student Record'!A411=\"\",\"\",'Student Record'!A411)","v":""},{"$f":"IF('Student Record'!C411=\"\",\"\",'Student Record'!C411)","v":""},{"$f":"IF('[1]Student Record'!K413=\"\",\"\",'[1]Student Record'!K413)","v":""},{"$f":"IF('Student Record'!E411=\"\",\"\",'Student Record'!E411)","v":""},{"$f":"IF('Student Record'!G411=\"\",\"\",'Student Record'!G411)","v":""},{"$f":"IF('Student Record'!H411=\"\",\"\",'Student Record'!H411)","v":""},{"$f":"IF('Student Record'!J411=\"\",\"\",'Student Record'!J411)","v":""},{"$f":"IF('Student Record'!D413=\"\",\"\",'Student Record'!D413)","v":""},{"$f":"IF('Student Record'!T411=\"\",\"\",'Student Record'!T411)","v":""},{"$f":"IF('Student Record'!V411=\"\",\"\",'Student Record'!V411)","v":""},{"$f":"IF('Student Record'!W413=\"\",\"\",'Student Record'!W413)","v":""}]
[{"$f":"IF(Table1[[#This Row],[Name of Student]]=\"\",\"\",ROWS($A$1:A411))","v":""},{"$f":"IF('Student Record'!A412=\"\",\"\",'Student Record'!A412)","v":""},{"$f":"IF('Student Record'!C412=\"\",\"\",'Student Record'!C412)","v":""},{"$f":"IF('[1]Student Record'!K414=\"\",\"\",'[1]Student Record'!K414)","v":""},{"$f":"IF('Student Record'!E412=\"\",\"\",'Student Record'!E412)","v":""},{"$f":"IF('Student Record'!G412=\"\",\"\",'Student Record'!G412)","v":""},{"$f":"IF('Student Record'!H412=\"\",\"\",'Student Record'!H412)","v":""},{"$f":"IF('Student Record'!J412=\"\",\"\",'Student Record'!J412)","v":""},{"$f":"IF('Student Record'!D414=\"\",\"\",'Student Record'!D414)","v":""},{"$f":"IF('Student Record'!T412=\"\",\"\",'Student Record'!T412)","v":""},{"$f":"IF('Student Record'!V412=\"\",\"\",'Student Record'!V412)","v":""},{"$f":"IF('Student Record'!W414=\"\",\"\",'Student Record'!W414)","v":""}]
[{"$f":"IF(Table1[[#This Row],[Name of Student]]=\"\",\"\",ROWS($A$1:A412))","v":""},{"$f":"IF('Student Record'!A413=\"\",\"\",'Student Record'!A413)","v":""},{"$f":"IF('Student Record'!C413=\"\",\"\",'Student Record'!C413)","v":""},{"$f":"IF('[1]Student Record'!K415=\"\",\"\",'[1]Student Record'!K415)","v":""},{"$f":"IF('Student Record'!E413=\"\",\"\",'Student Record'!E413)","v":""},{"$f":"IF('Student Record'!G413=\"\",\"\",'Student Record'!G413)","v":""},{"$f":"IF('Student Record'!H413=\"\",\"\",'Student Record'!H413)","v":""},{"$f":"IF('Student Record'!J413=\"\",\"\",'Student Record'!J413)","v":""},{"$f":"IF('Student Record'!D415=\"\",\"\",'Student Record'!D415)","v":""},{"$f":"IF('Student Record'!T413=\"\",\"\",'Student Record'!T413)","v":""},{"$f":"IF('Student Record'!V413=\"\",\"\",'Student Record'!V413)","v":""},{"$f":"IF('Student Record'!W415=\"\",\"\",'Student Record'!W415)","v":""}]
[{"$f":"IF(Table1[[#This Row],[Name of Student]]=\"\",\"\",ROWS($A$1:A413))","v":""},{"$f":"IF('Student Record'!A414=\"\",\"\",'Student Record'!A414)","v":""},{"$f":"IF('Student Record'!C414=\"\",\"\",'Student Record'!C414)","v":""},{"$f":"IF('[1]Student Record'!K416=\"\",\"\",'[1]Student Record'!K416)","v":""},{"$f":"IF('Student Record'!E414=\"\",\"\",'Student Record'!E414)","v":""},{"$f":"IF('Student Record'!G414=\"\",\"\",'Student Record'!G414)","v":""},{"$f":"IF('Student Record'!H414=\"\",\"\",'Student Record'!H414)","v":""},{"$f":"IF('Student Record'!J414=\"\",\"\",'Student Record'!J414)","v":""},{"$f":"IF('Student Record'!D416=\"\",\"\",'Student Record'!D416)","v":""},{"$f":"IF('Student Record'!T414=\"\",\"\",'Student Record'!T414)","v":""},{"$f":"IF('Student Record'!V414=\"\",\"\",'Student Record'!V414)","v":""},{"$f":"IF('Student Record'!W416=\"\",\"\",'Student Record'!W416)","v":""}]
[{"$f":"IF(Table1[[#This Row],[Name of Student]]=\"\",\"\",ROWS($A$1:A414))","v":""},{"$f":"IF('Student Record'!A415=\"\",\"\",'Student Record'!A415)","v":""},{"$f":"IF('Student Record'!C415=\"\",\"\",'Student Record'!C415)","v":""},{"$f":"IF('[1]Student Record'!K417=\"\",\"\",'[1]Student Record'!K417)","v":""},{"$f":"IF('Student Record'!E415=\"\",\"\",'Student Record'!E415)","v":""},{"$f":"IF('Student Record'!G415=\"\",\"\",'Student Record'!G415)","v":""},{"$f":"IF('Student Record'!H415=\"\",\"\",'Student Record'!H415)","v":""},{"$f":"IF('Student Record'!J415=\"\",\"\",'Student Record'!J415)","v":""},{"$f":"IF('Student Record'!D417=\"\",\"\",'Student Record'!D417)","v":""},{"$f":"IF('Student Record'!T415=\"\",\"\",'Student Record'!T415)","v":""},{"$f":"IF('Student Record'!V415=\"\",\"\",'Student Record'!V415)","v":""},{"$f":"IF('Student Record'!W417=\"\",\"\",'Student Record'!W417)","v":""}]
[{"$f":"IF(Table1[[#This Row],[Name of Student]]=\"\",\"\",ROWS($A$1:A415))","v":""},{"$f":"IF('Student Record'!A416=\"\",\"\",'Student Record'!A416)","v":""},{"$f":"IF('Student Record'!C416=\"\",\"\",'Student Record'!C416)","v":""},{"$f":"IF('[1]Student Record'!K418=\"\",\"\",'[1]Student Record'!K418)","v":""},{"$f":"IF('Student Record'!E416=\"\",\"\",'Student Record'!E416)","v":""},{"$f":"IF('Student Record'!G416=\"\",\"\",'Student Record'!G416)","v":""},{"$f":"IF('Student Record'!H416=\"\",\"\",'Student Record'!H416)","v":""},{"$f":"IF('Student Record'!J416=\"\",\"\",'Student Record'!J416)","v":""},{"$f":"IF('Student Record'!D418=\"\",\"\",'Student Record'!D418)","v":""},{"$f":"IF('Student Record'!T416=\"\",\"\",'Student Record'!T416)","v":""},{"$f":"IF('Student Record'!V416=\"\",\"\",'Student Record'!V416)","v":""},{"$f":"IF('Student Record'!W418=\"\",\"\",'Student Record'!W418)","v":""}]
[{"$f":"IF(Table1[[#This Row],[Name of Student]]=\"\",\"\",ROWS($A$1:A416))","v":""},{"$f":"IF('Student Record'!A417=\"\",\"\",'Student Record'!A417)","v":""},{"$f":"IF('Student Record'!C417=\"\",\"\",'Student Record'!C417)","v":""},{"$f":"IF('[1]Student Record'!K419=\"\",\"\",'[1]Student Record'!K419)","v":""},{"$f":"IF('Student Record'!E417=\"\",\"\",'Student Record'!E417)","v":""},{"$f":"IF('Student Record'!G417=\"\",\"\",'Student Record'!G417)","v":""},{"$f":"IF('Student Record'!H417=\"\",\"\",'Student Record'!H417)","v":""},{"$f":"IF('Student Record'!J417=\"\",\"\",'Student Record'!J417)","v":""},{"$f":"IF('Student Record'!D419=\"\",\"\",'Student Record'!D419)","v":""},{"$f":"IF('Student Record'!T417=\"\",\"\",'Student Record'!T417)","v":""},{"$f":"IF('Student Record'!V417=\"\",\"\",'Student Record'!V417)","v":""},{"$f":"IF('Student Record'!W419=\"\",\"\",'Student Record'!W419)","v":""}]
[{"$f":"IF(Table1[[#This Row],[Name of Student]]=\"\",\"\",ROWS($A$1:A417))","v":""},{"$f":"IF('Student Record'!A418=\"\",\"\",'Student Record'!A418)","v":""},{"$f":"IF('Student Record'!C418=\"\",\"\",'Student Record'!C418)","v":""},{"$f":"IF('[1]Student Record'!K420=\"\",\"\",'[1]Student Record'!K420)","v":""},{"$f":"IF('Student Record'!E418=\"\",\"\",'Student Record'!E418)","v":""},{"$f":"IF('Student Record'!G418=\"\",\"\",'Student Record'!G418)","v":""},{"$f":"IF('Student Record'!H418=\"\",\"\",'Student Record'!H418)","v":""},{"$f":"IF('Student Record'!J418=\"\",\"\",'Student Record'!J418)","v":""},{"$f":"IF('Student Record'!D420=\"\",\"\",'Student Record'!D420)","v":""},{"$f":"IF('Student Record'!T418=\"\",\"\",'Student Record'!T418)","v":""},{"$f":"IF('Student Record'!V418=\"\",\"\",'Student Record'!V418)","v":""},{"$f":"IF('Student Record'!W420=\"\",\"\",'Student Record'!W420)","v":""}]
[{"$f":"IF(Table1[[#This Row],[Name of Student]]=\"\",\"\",ROWS($A$1:A418))","v":""},{"$f":"IF('Student Record'!A419=\"\",\"\",'Student Record'!A419)","v":""},{"$f":"IF('Student Record'!C419=\"\",\"\",'Student Record'!C419)","v":""},{"$f":"IF('[1]Student Record'!K421=\"\",\"\",'[1]Student Record'!K421)","v":""},{"$f":"IF('Student Record'!E419=\"\",\"\",'Student Record'!E419)","v":""},{"$f":"IF('Student Record'!G419=\"\",\"\",'Student Record'!G419)","v":""},{"$f":"IF('Student Record'!H419=\"\",\"\",'Student Record'!H419)","v":""},{"$f":"IF('Student Record'!J419=\"\",\"\",'Student Record'!J419)","v":""},{"$f":"IF('Student Record'!D421=\"\",\"\",'Student Record'!D421)","v":""},{"$f":"IF('Student Record'!T419=\"\",\"\",'Student Record'!T419)","v":""},{"$f":"IF('Student Record'!V419=\"\",\"\",'Student Record'!V419)","v":""},{"$f":"IF('Student Record'!W421=\"\",\"\",'Student Record'!W421)","v":""}]
[{"$f":"IF(Table1[[#This Row],[Name of Student]]=\"\",\"\",ROWS($A$1:A419))","v":""},{"$f":"IF('Student Record'!A420=\"\",\"\",'Student Record'!A420)","v":""},{"$f":"IF('Student Record'!C420=\"\",\"\",'Student Record'!C420)","v":""},{"$f":"IF('[1]Student Record'!K422=\"\",\"\",'[1]Student Record'!K422)","v":""},{"$f":"IF('Student Record'!E420=\"\",\"\",'Student Record'!E420)","v":""},{"$f":"IF('Student Record'!G420=\"\",\"\",'Student Record'!G420)","v":""},{"$f":"IF('Student Record'!H420=\"\",\"\",'Student Record'!H420)","v":""},{"$f":"IF('Student Record'!J420=\"\",\"\",'Student Record'!J420)","v":""},{"$f":"IF('Student Record'!D422=\"\",\"\",'Student Record'!D422)","v":""},{"$f":"IF('Student Record'!T420=\"\",\"\",'Student Record'!T420)","v":""},{"$f":"IF('Student Record'!V420=\"\",\"\",'Student Record'!V420)","v":""},{"$f":"IF('Student Record'!W422=\"\",\"\",'Student Record'!W422)","v":""}]
[{"$f":"IF(Table1[[#This Row],[Name of Student]]=\"\",\"\",ROWS($A$1:A420))","v":""},{"$f":"IF('Student Record'!A421=\"\",\"\",'Student Record'!A421)","v":""},{"$f":"IF('Student Record'!C421=\"\",\"\",'Student Record'!C421)","v":""},{"$f":"IF('[1]Student Record'!K423=\"\",\"\",'[1]Student Record'!K423)","v":""},{"$f":"IF('Student Record'!E421=\"\",\"\",'Student Record'!E421)","v":""},{"$f":"IF('Student Record'!G421=\"\",\"\",'Student Record'!G421)","v":""},{"$f":"IF('Student Record'!H421=\"\",\"\",'Student Record'!H421)","v":""},{"$f":"IF('Student Record'!J421=\"\",\"\",'Student Record'!J421)","v":""},{"$f":"IF('Student Record'!D423=\"\",\"\",'Student Record'!D423)","v":""},{"$f":"IF('Student Record'!T421=\"\",\"\",'Student Record'!T421)","v":""},{"$f":"IF('Student Record'!V421=\"\",\"\",'Student Record'!V421)","v":""},{"$f":"IF('Student Record'!W423=\"\",\"\",'Student Record'!W423)","v":""}]
[{"$f":"IF(Table1[[#This Row],[Name of Student]]=\"\",\"\",ROWS($A$1:A421))","v":""},{"$f":"IF('Student Record'!A422=\"\",\"\",'Student Record'!A422)","v":""},{"$f":"IF('Student Record'!C422=\"\",\"\",'Student Record'!C422)","v":""},{"$f":"IF('[1]Student Record'!K424=\"\",\"\",'[1]Student Record'!K424)","v":""},{"$f":"IF('Student Record'!E422=\"\",\"\",'Student Record'!E422)","v":""},{"$f":"IF('Student Record'!G422=\"\",\"\",'Student Record'!G422)","v":""},{"$f":"IF('Student Record'!H422=\"\",\"\",'Student Record'!H422)","v":""},{"$f":"IF('Student Record'!J422=\"\",\"\",'Student Record'!J422)","v":""},{"$f":"IF('Student Record'!D424=\"\",\"\",'Student Record'!D424)","v":""},{"$f":"IF('Student Record'!T422=\"\",\"\",'Student Record'!T422)","v":""},{"$f":"IF('Student Record'!V422=\"\",\"\",'Student Record'!V422)","v":""},{"$f":"IF('Student Record'!W424=\"\",\"\",'Student Record'!W424)","v":""}]
[{"$f":"IF(Table1[[#This Row],[Name of Student]]=\"\",\"\",ROWS($A$1:A422))","v":""},{"$f":"IF('Student Record'!A423=\"\",\"\",'Student Record'!A423)","v":""},{"$f":"IF('Student Record'!C423=\"\",\"\",'Student Record'!C423)","v":""},{"$f":"IF('[1]Student Record'!K425=\"\",\"\",'[1]Student Record'!K425)","v":""},{"$f":"IF('Student Record'!E423=\"\",\"\",'Student Record'!E423)","v":""},{"$f":"IF('Student Record'!G423=\"\",\"\",'Student Record'!G423)","v":""},{"$f":"IF('Student Record'!H423=\"\",\"\",'Student Record'!H423)","v":""},{"$f":"IF('Student Record'!J423=\"\",\"\",'Student Record'!J423)","v":""},{"$f":"IF('Student Record'!D425=\"\",\"\",'Student Record'!D425)","v":""},{"$f":"IF('Student Record'!T423=\"\",\"\",'Student Record'!T423)","v":""},{"$f":"IF('Student Record'!V423=\"\",\"\",'Student Record'!V423)","v":""},{"$f":"IF('Student Record'!W425=\"\",\"\",'Student Record'!W425)","v":""}]
[{"$f":"IF(Table1[[#This Row],[Name of Student]]=\"\",\"\",ROWS($A$1:A423))","v":""},{"$f":"IF('Student Record'!A424=\"\",\"\",'Student Record'!A424)","v":""},{"$f":"IF('Student Record'!C424=\"\",\"\",'Student Record'!C424)","v":""},{"$f":"IF('[1]Student Record'!K426=\"\",\"\",'[1]Student Record'!K426)","v":""},{"$f":"IF('Student Record'!E424=\"\",\"\",'Student Record'!E424)","v":""},{"$f":"IF('Student Record'!G424=\"\",\"\",'Student Record'!G424)","v":""},{"$f":"IF('Student Record'!H424=\"\",\"\",'Student Record'!H424)","v":""},{"$f":"IF('Student Record'!J424=\"\",\"\",'Student Record'!J424)","v":""},{"$f":"IF('Student Record'!D426=\"\",\"\",'Student Record'!D426)","v":""},{"$f":"IF('Student Record'!T424=\"\",\"\",'Student Record'!T424)","v":""},{"$f":"IF('Student Record'!V424=\"\",\"\",'Student Record'!V424)","v":""},{"$f":"IF('Student Record'!W426=\"\",\"\",'Student Record'!W426)","v":""}]
[{"$f":"IF(Table1[[#This Row],[Name of Student]]=\"\",\"\",ROWS($A$1:A424))","v":""},{"$f":"IF('Student Record'!A425=\"\",\"\",'Student Record'!A425)","v":""},{"$f":"IF('Student Record'!C425=\"\",\"\",'Student Record'!C425)","v":""},{"$f":"IF('[1]Student Record'!K427=\"\",\"\",'[1]Student Record'!K427)","v":""},{"$f":"IF('Student Record'!E425=\"\",\"\",'Student Record'!E425)","v":""},{"$f":"IF('Student Record'!G425=\"\",\"\",'Student Record'!G425)","v":""},{"$f":"IF('Student Record'!H425=\"\",\"\",'Student Record'!H425)","v":""},{"$f":"IF('Student Record'!J425=\"\",\"\",'Student Record'!J425)","v":""},{"$f":"IF('Student Record'!D427=\"\",\"\",'Student Record'!D427)","v":""},{"$f":"IF('Student Record'!T425=\"\",\"\",'Student Record'!T425)","v":""},{"$f":"IF('Student Record'!V425=\"\",\"\",'Student Record'!V425)","v":""},{"$f":"IF('Student Record'!W427=\"\",\"\",'Student Record'!W427)","v":""}]
[{"$f":"IF(Table1[[#This Row],[Name of Student]]=\"\",\"\",ROWS($A$1:A425))","v":""},{"$f":"IF('Student Record'!A426=\"\",\"\",'Student Record'!A426)","v":""},{"$f":"IF('Student Record'!C426=\"\",\"\",'Student Record'!C426)","v":""},{"$f":"IF('[1]Student Record'!K428=\"\",\"\",'[1]Student Record'!K428)","v":""},{"$f":"IF('Student Record'!E426=\"\",\"\",'Student Record'!E426)","v":""},{"$f":"IF('Student Record'!G426=\"\",\"\",'Student Record'!G426)","v":""},{"$f":"IF('Student Record'!H426=\"\",\"\",'Student Record'!H426)","v":""},{"$f":"IF('Student Record'!J426=\"\",\"\",'Student Record'!J426)","v":""},{"$f":"IF('Student Record'!D428=\"\",\"\",'Student Record'!D428)","v":""},{"$f":"IF('Student Record'!T426=\"\",\"\",'Student Record'!T426)","v":""},{"$f":"IF('Student Record'!V426=\"\",\"\",'Student Record'!V426)","v":""},{"$f":"IF('Student Record'!W428=\"\",\"\",'Student Record'!W428)","v":""}]
[{"$f":"IF(Table1[[#This Row],[Name of Student]]=\"\",\"\",ROWS($A$1:A426))","v":""},{"$f":"IF('Student Record'!A427=\"\",\"\",'Student Record'!A427)","v":""},{"$f":"IF('Student Record'!C427=\"\",\"\",'Student Record'!C427)","v":""},{"$f":"IF('[1]Student Record'!K429=\"\",\"\",'[1]Student Record'!K429)","v":""},{"$f":"IF('Student Record'!E427=\"\",\"\",'Student Record'!E427)","v":""},{"$f":"IF('Student Record'!G427=\"\",\"\",'Student Record'!G427)","v":""},{"$f":"IF('Student Record'!H427=\"\",\"\",'Student Record'!H427)","v":""},{"$f":"IF('Student Record'!J427=\"\",\"\",'Student Record'!J427)","v":""},{"$f":"IF('Student Record'!D429=\"\",\"\",'Student Record'!D429)","v":""},{"$f":"IF('Student Record'!T427=\"\",\"\",'Student Record'!T427)","v":""},{"$f":"IF('Student Record'!V427=\"\",\"\",'Student Record'!V427)","v":""},{"$f":"IF('Student Record'!W429=\"\",\"\",'Student Record'!W429)","v":""}]
[{"$f":"IF(Table1[[#This Row],[Name of Student]]=\"\",\"\",ROWS($A$1:A427))","v":""},{"$f":"IF('Student Record'!A428=\"\",\"\",'Student Record'!A428)","v":""},{"$f":"IF('Student Record'!C428=\"\",\"\",'Student Record'!C428)","v":""},{"$f":"IF('[1]Student Record'!K430=\"\",\"\",'[1]Student Record'!K430)","v":""},{"$f":"IF('Student Record'!E428=\"\",\"\",'Student Record'!E428)","v":""},{"$f":"IF('Student Record'!G428=\"\",\"\",'Student Record'!G428)","v":""},{"$f":"IF('Student Record'!H428=\"\",\"\",'Student Record'!H428)","v":""},{"$f":"IF('Student Record'!J428=\"\",\"\",'Student Record'!J428)","v":""},{"$f":"IF('Student Record'!D430=\"\",\"\",'Student Record'!D430)","v":""},{"$f":"IF('Student Record'!T428=\"\",\"\",'Student Record'!T428)","v":""},{"$f":"IF('Student Record'!V428=\"\",\"\",'Student Record'!V428)","v":""},{"$f":"IF('Student Record'!W430=\"\",\"\",'Student Record'!W430)","v":""}]
[{"$f":"IF(Table1[[#This Row],[Name of Student]]=\"\",\"\",ROWS($A$1:A428))","v":""},{"$f":"IF('Student Record'!A429=\"\",\"\",'Student Record'!A429)","v":""},{"$f":"IF('Student Record'!C429=\"\",\"\",'Student Record'!C429)","v":""},{"$f":"IF('[1]Student Record'!K431=\"\",\"\",'[1]Student Record'!K431)","v":""},{"$f":"IF('Student Record'!E429=\"\",\"\",'Student Record'!E429)","v":""},{"$f":"IF('Student Record'!G429=\"\",\"\",'Student Record'!G429)","v":""},{"$f":"IF('Student Record'!H429=\"\",\"\",'Student Record'!H429)","v":""},{"$f":"IF('Student Record'!J429=\"\",\"\",'Student Record'!J429)","v":""},{"$f":"IF('Student Record'!D431=\"\",\"\",'Student Record'!D431)","v":""},{"$f":"IF('Student Record'!T429=\"\",\"\",'Student Record'!T429)","v":""},{"$f":"IF('Student Record'!V429=\"\",\"\",'Student Record'!V429)","v":""},{"$f":"IF('Student Record'!W431=\"\",\"\",'Student Record'!W431)","v":""}]
[{"$f":"IF(Table1[[#This Row],[Name of Student]]=\"\",\"\",ROWS($A$1:A429))","v":""},{"$f":"IF('Student Record'!A430=\"\",\"\",'Student Record'!A430)","v":""},{"$f":"IF('Student Record'!C430=\"\",\"\",'Student Record'!C430)","v":""},{"$f":"IF('[1]Student Record'!K432=\"\",\"\",'[1]Student Record'!K432)","v":""},{"$f":"IF('Student Record'!E430=\"\",\"\",'Student Record'!E430)","v":""},{"$f":"IF('Student Record'!G430=\"\",\"\",'Student Record'!G430)","v":""},{"$f":"IF('Student Record'!H430=\"\",\"\",'Student Record'!H430)","v":""},{"$f":"IF('Student Record'!J430=\"\",\"\",'Student Record'!J430)","v":""},{"$f":"IF('Student Record'!D432=\"\",\"\",'Student Record'!D432)","v":""},{"$f":"IF('Student Record'!T430=\"\",\"\",'Student Record'!T430)","v":""},{"$f":"IF('Student Record'!V430=\"\",\"\",'Student Record'!V430)","v":""},{"$f":"IF('Student Record'!W432=\"\",\"\",'Student Record'!W432)","v":""}]
[{"$f":"IF(Table1[[#This Row],[Name of Student]]=\"\",\"\",ROWS($A$1:A430))","v":""},{"$f":"IF('Student Record'!A431=\"\",\"\",'Student Record'!A431)","v":""},{"$f":"IF('Student Record'!C431=\"\",\"\",'Student Record'!C431)","v":""},{"$f":"IF('[1]Student Record'!K433=\"\",\"\",'[1]Student Record'!K433)","v":""},{"$f":"IF('Student Record'!E431=\"\",\"\",'Student Record'!E431)","v":""},{"$f":"IF('Student Record'!G431=\"\",\"\",'Student Record'!G431)","v":""},{"$f":"IF('Student Record'!H431=\"\",\"\",'Student Record'!H431)","v":""},{"$f":"IF('Student Record'!J431=\"\",\"\",'Student Record'!J431)","v":""},{"$f":"IF('Student Record'!D433=\"\",\"\",'Student Record'!D433)","v":""},{"$f":"IF('Student Record'!T431=\"\",\"\",'Student Record'!T431)","v":""},{"$f":"IF('Student Record'!V431=\"\",\"\",'Student Record'!V431)","v":""},{"$f":"IF('Student Record'!W433=\"\",\"\",'Student Record'!W433)","v":""}]
[{"$f":"IF(Table1[[#This Row],[Name of Student]]=\"\",\"\",ROWS($A$1:A431))","v":""},{"$f":"IF('Student Record'!A432=\"\",\"\",'Student Record'!A432)","v":""},{"$f":"IF('Student Record'!C432=\"\",\"\",'Student Record'!C432)","v":""},{"$f":"IF('[1]Student Record'!K434=\"\",\"\",'[1]Student Record'!K434)","v":""},{"$f":"IF('Student Record'!E432=\"\",\"\",'Student Record'!E432)","v":""},{"$f":"IF('Student Record'!G432=\"\",\"\",'Student Record'!G432)","v":""},{"$f":"IF('Student Record'!H432=\"\",\"\",'Student Record'!H432)","v":""},{"$f":"IF('Student Record'!J432=\"\",\"\",'Student Record'!J432)","v":""},{"$f":"IF('Student Record'!D434=\"\",\"\",'Student Record'!D434)","v":""},{"$f":"IF('Student Record'!T432=\"\",\"\",'Student Record'!T432)","v":""},{"$f":"IF('Student Record'!V432=\"\",\"\",'Student Record'!V432)","v":""},{"$f":"IF('Student Record'!W434=\"\",\"\",'Student Record'!W434)","v":""}]
[{"$f":"IF(Table1[[#This Row],[Name of Student]]=\"\",\"\",ROWS($A$1:A432))","v":""},{"$f":"IF('Student Record'!A433=\"\",\"\",'Student Record'!A433)","v":""},{"$f":"IF('Student Record'!C433=\"\",\"\",'Student Record'!C433)","v":""},{"$f":"IF('[1]Student Record'!K435=\"\",\"\",'[1]Student Record'!K435)","v":""},{"$f":"IF('Student Record'!E433=\"\",\"\",'Student Record'!E433)","v":""},{"$f":"IF('Student Record'!G433=\"\",\"\",'Student Record'!G433)","v":""},{"$f":"IF('Student Record'!H433=\"\",\"\",'Student Record'!H433)","v":""},{"$f":"IF('Student Record'!J433=\"\",\"\",'Student Record'!J433)","v":""},{"$f":"IF('Student Record'!D435=\"\",\"\",'Student Record'!D435)","v":""},{"$f":"IF('Student Record'!T433=\"\",\"\",'Student Record'!T433)","v":""},{"$f":"IF('Student Record'!V433=\"\",\"\",'Student Record'!V433)","v":""},{"$f":"IF('Student Record'!W435=\"\",\"\",'Student Record'!W435)","v":""}]
[{"$f":"IF(Table1[[#This Row],[Name of Student]]=\"\",\"\",ROWS($A$1:A433))","v":""},{"$f":"IF('Student Record'!A434=\"\",\"\",'Student Record'!A434)","v":""},{"$f":"IF('Student Record'!C434=\"\",\"\",'Student Record'!C434)","v":""},{"$f":"IF('[1]Student Record'!K436=\"\",\"\",'[1]Student Record'!K436)","v":""},{"$f":"IF('Student Record'!E434=\"\",\"\",'Student Record'!E434)","v":""},{"$f":"IF('Student Record'!G434=\"\",\"\",'Student Record'!G434)","v":""},{"$f":"IF('Student Record'!H434=\"\",\"\",'Student Record'!H434)","v":""},{"$f":"IF('Student Record'!J434=\"\",\"\",'Student Record'!J434)","v":""},{"$f":"IF('Student Record'!D436=\"\",\"\",'Student Record'!D436)","v":""},{"$f":"IF('Student Record'!T434=\"\",\"\",'Student Record'!T434)","v":""},{"$f":"IF('Student Record'!V434=\"\",\"\",'Student Record'!V434)","v":""},{"$f":"IF('Student Record'!W436=\"\",\"\",'Student Record'!W436)","v":""}]
[{"$f":"IF(Table1[[#This Row],[Name of Student]]=\"\",\"\",ROWS($A$1:A434))","v":""},{"$f":"IF('Student Record'!A435=\"\",\"\",'Student Record'!A435)","v":""},{"$f":"IF('Student Record'!C435=\"\",\"\",'Student Record'!C435)","v":""},{"$f":"IF('[1]Student Record'!K437=\"\",\"\",'[1]Student Record'!K437)","v":""},{"$f":"IF('Student Record'!E435=\"\",\"\",'Student Record'!E435)","v":""},{"$f":"IF('Student Record'!G435=\"\",\"\",'Student Record'!G435)","v":""},{"$f":"IF('Student Record'!H435=\"\",\"\",'Student Record'!H435)","v":""},{"$f":"IF('Student Record'!J435=\"\",\"\",'Student Record'!J435)","v":""},{"$f":"IF('Student Record'!D437=\"\",\"\",'Student Record'!D437)","v":""},{"$f":"IF('Student Record'!T435=\"\",\"\",'Student Record'!T435)","v":""},{"$f":"IF('Student Record'!V435=\"\",\"\",'Student Record'!V435)","v":""},{"$f":"IF('Student Record'!W437=\"\",\"\",'Student Record'!W437)","v":""}]
[{"$f":"IF(Table1[[#This Row],[Name of Student]]=\"\",\"\",ROWS($A$1:A435))","v":""},{"$f":"IF('Student Record'!A436=\"\",\"\",'Student Record'!A436)","v":""},{"$f":"IF('Student Record'!C436=\"\",\"\",'Student Record'!C436)","v":""},{"$f":"IF('[1]Student Record'!K438=\"\",\"\",'[1]Student Record'!K438)","v":""},{"$f":"IF('Student Record'!E436=\"\",\"\",'Student Record'!E436)","v":""},{"$f":"IF('Student Record'!G436=\"\",\"\",'Student Record'!G436)","v":""},{"$f":"IF('Student Record'!H436=\"\",\"\",'Student Record'!H436)","v":""},{"$f":"IF('Student Record'!J436=\"\",\"\",'Student Record'!J436)","v":""},{"$f":"IF('Student Record'!D438=\"\",\"\",'Student Record'!D438)","v":""},{"$f":"IF('Student Record'!T436=\"\",\"\",'Student Record'!T436)","v":""},{"$f":"IF('Student Record'!V436=\"\",\"\",'Student Record'!V436)","v":""},{"$f":"IF('Student Record'!W438=\"\",\"\",'Student Record'!W438)","v":""}]
[{"$f":"IF(Table1[[#This Row],[Name of Student]]=\"\",\"\",ROWS($A$1:A436))","v":""},{"$f":"IF('Student Record'!A437=\"\",\"\",'Student Record'!A437)","v":""},{"$f":"IF('Student Record'!C437=\"\",\"\",'Student Record'!C437)","v":""},{"$f":"IF('[1]Student Record'!K439=\"\",\"\",'[1]Student Record'!K439)","v":""},{"$f":"IF('Student Record'!E437=\"\",\"\",'Student Record'!E437)","v":""},{"$f":"IF('Student Record'!G437=\"\",\"\",'Student Record'!G437)","v":""},{"$f":"IF('Student Record'!H437=\"\",\"\",'Student Record'!H437)","v":""},{"$f":"IF('Student Record'!J437=\"\",\"\",'Student Record'!J437)","v":""},{"$f":"IF('Student Record'!D439=\"\",\"\",'Student Record'!D439)","v":""},{"$f":"IF('Student Record'!T437=\"\",\"\",'Student Record'!T437)","v":""},{"$f":"IF('Student Record'!V437=\"\",\"\",'Student Record'!V437)","v":""},{"$f":"IF('Student Record'!W439=\"\",\"\",'Student Record'!W439)","v":""}]
[{"$f":"IF(Table1[[#This Row],[Name of Student]]=\"\",\"\",ROWS($A$1:A437))","v":""},{"$f":"IF('Student Record'!A438=\"\",\"\",'Student Record'!A438)","v":""},{"$f":"IF('Student Record'!C438=\"\",\"\",'Student Record'!C438)","v":""},{"$f":"IF('[1]Student Record'!K440=\"\",\"\",'[1]Student Record'!K440)","v":""},{"$f":"IF('Student Record'!E438=\"\",\"\",'Student Record'!E438)","v":""},{"$f":"IF('Student Record'!G438=\"\",\"\",'Student Record'!G438)","v":""},{"$f":"IF('Student Record'!H438=\"\",\"\",'Student Record'!H438)","v":""},{"$f":"IF('Student Record'!J438=\"\",\"\",'Student Record'!J438)","v":""},{"$f":"IF('Student Record'!D440=\"\",\"\",'Student Record'!D440)","v":""},{"$f":"IF('Student Record'!T438=\"\",\"\",'Student Record'!T438)","v":""},{"$f":"IF('Student Record'!V438=\"\",\"\",'Student Record'!V438)","v":""},{"$f":"IF('Student Record'!W440=\"\",\"\",'Student Record'!W440)","v":""}]
[{"$f":"IF(Table1[[#This Row],[Name of Student]]=\"\",\"\",ROWS($A$1:A438))","v":""},{"$f":"IF('Student Record'!A439=\"\",\"\",'Student Record'!A439)","v":""},{"$f":"IF('Student Record'!C439=\"\",\"\",'Student Record'!C439)","v":""},{"$f":"IF('[1]Student Record'!K441=\"\",\"\",'[1]Student Record'!K441)","v":""},{"$f":"IF('Student Record'!E439=\"\",\"\",'Student Record'!E439)","v":""},{"$f":"IF('Student Record'!G439=\"\",\"\",'Student Record'!G439)","v":""},{"$f":"IF('Student Record'!H439=\"\",\"\",'Student Record'!H439)","v":""},{"$f":"IF('Student Record'!J439=\"\",\"\",'Student Record'!J439)","v":""},{"$f":"IF('Student Record'!D441=\"\",\"\",'Student Record'!D441)","v":""},{"$f":"IF('Student Record'!T439=\"\",\"\",'Student Record'!T439)","v":""},{"$f":"IF('Student Record'!V439=\"\",\"\",'Student Record'!V439)","v":""},{"$f":"IF('Student Record'!W441=\"\",\"\",'Student Record'!W441)","v":""}]
[{"$f":"IF(Table1[[#This Row],[Name of Student]]=\"\",\"\",ROWS($A$1:A439))","v":""},{"$f":"IF('Student Record'!A440=\"\",\"\",'Student Record'!A440)","v":""},{"$f":"IF('Student Record'!C440=\"\",\"\",'Student Record'!C440)","v":""},{"$f":"IF('[1]Student Record'!K442=\"\",\"\",'[1]Student Record'!K442)","v":""},{"$f":"IF('Student Record'!E440=\"\",\"\",'Student Record'!E440)","v":""},{"$f":"IF('Student Record'!G440=\"\",\"\",'Student Record'!G440)","v":""},{"$f":"IF('Student Record'!H440=\"\",\"\",'Student Record'!H440)","v":""},{"$f":"IF('Student Record'!J440=\"\",\"\",'Student Record'!J440)","v":""},{"$f":"IF('Student Record'!D442=\"\",\"\",'Student Record'!D442)","v":""},{"$f":"IF('Student Record'!T440=\"\",\"\",'Student Record'!T440)","v":""},{"$f":"IF('Student Record'!V440=\"\",\"\",'Student Record'!V440)","v":""},{"$f":"IF('Student Record'!W442=\"\",\"\",'Student Record'!W442)","v":""}]
[{"$f":"IF(Table1[[#This Row],[Name of Student]]=\"\",\"\",ROWS($A$1:A440))","v":""},{"$f":"IF('Student Record'!A441=\"\",\"\",'Student Record'!A441)","v":""},{"$f":"IF('Student Record'!C441=\"\",\"\",'Student Record'!C441)","v":""},{"$f":"IF('[1]Student Record'!K443=\"\",\"\",'[1]Student Record'!K443)","v":""},{"$f":"IF('Student Record'!E441=\"\",\"\",'Student Record'!E441)","v":""},{"$f":"IF('Student Record'!G441=\"\",\"\",'Student Record'!G441)","v":""},{"$f":"IF('Student Record'!H441=\"\",\"\",'Student Record'!H441)","v":""},{"$f":"IF('Student Record'!J441=\"\",\"\",'Student Record'!J441)","v":""},{"$f":"IF('Student Record'!D443=\"\",\"\",'Student Record'!D443)","v":""},{"$f":"IF('Student Record'!T441=\"\",\"\",'Student Record'!T441)","v":""},{"$f":"IF('Student Record'!V441=\"\",\"\",'Student Record'!V441)","v":""},{"$f":"IF('Student Record'!W443=\"\",\"\",'Student Record'!W443)","v":""}]
[{"$f":"IF(Table1[[#This Row],[Name of Student]]=\"\",\"\",ROWS($A$1:A441))","v":""},{"$f":"IF('Student Record'!A442=\"\",\"\",'Student Record'!A442)","v":""},{"$f":"IF('Student Record'!C442=\"\",\"\",'Student Record'!C442)","v":""},{"$f":"IF('[1]Student Record'!K444=\"\",\"\",'[1]Student Record'!K444)","v":""},{"$f":"IF('Student Record'!E442=\"\",\"\",'Student Record'!E442)","v":""},{"$f":"IF('Student Record'!G442=\"\",\"\",'Student Record'!G442)","v":""},{"$f":"IF('Student Record'!H442=\"\",\"\",'Student Record'!H442)","v":""},{"$f":"IF('Student Record'!J442=\"\",\"\",'Student Record'!J442)","v":""},{"$f":"IF('Student Record'!D444=\"\",\"\",'Student Record'!D444)","v":""},{"$f":"IF('Student Record'!T442=\"\",\"\",'Student Record'!T442)","v":""},{"$f":"IF('Student Record'!V442=\"\",\"\",'Student Record'!V442)","v":""},{"$f":"IF('Student Record'!W444=\"\",\"\",'Student Record'!W444)","v":""}]
[{"$f":"IF(Table1[[#This Row],[Name of Student]]=\"\",\"\",ROWS($A$1:A442))","v":""},{"$f":"IF('Student Record'!A443=\"\",\"\",'Student Record'!A443)","v":""},{"$f":"IF('Student Record'!C443=\"\",\"\",'Student Record'!C443)","v":""},{"$f":"IF('[1]Student Record'!K445=\"\",\"\",'[1]Student Record'!K445)","v":""},{"$f":"IF('Student Record'!E443=\"\",\"\",'Student Record'!E443)","v":""},{"$f":"IF('Student Record'!G443=\"\",\"\",'Student Record'!G443)","v":""},{"$f":"IF('Student Record'!H443=\"\",\"\",'Student Record'!H443)","v":""},{"$f":"IF('Student Record'!J443=\"\",\"\",'Student Record'!J443)","v":""},{"$f":"IF('Student Record'!D445=\"\",\"\",'Student Record'!D445)","v":""},{"$f":"IF('Student Record'!T443=\"\",\"\",'Student Record'!T443)","v":""},{"$f":"IF('Student Record'!V443=\"\",\"\",'Student Record'!V443)","v":""},{"$f":"IF('Student Record'!W445=\"\",\"\",'Student Record'!W445)","v":""}]
[{"$f":"IF(Table1[[#This Row],[Name of Student]]=\"\",\"\",ROWS($A$1:A443))","v":""},{"$f":"IF('Student Record'!A444=\"\",\"\",'Student Record'!A444)","v":""},{"$f":"IF('Student Record'!C444=\"\",\"\",'Student Record'!C444)","v":""},{"$f":"IF('[1]Student Record'!K446=\"\",\"\",'[1]Student Record'!K446)","v":""},{"$f":"IF('Student Record'!E444=\"\",\"\",'Student Record'!E444)","v":""},{"$f":"IF('Student Record'!G444=\"\",\"\",'Student Record'!G444)","v":""},{"$f":"IF('Student Record'!H444=\"\",\"\",'Student Record'!H444)","v":""},{"$f":"IF('Student Record'!J444=\"\",\"\",'Student Record'!J444)","v":""},{"$f":"IF('Student Record'!D446=\"\",\"\",'Student Record'!D446)","v":""},{"$f":"IF('Student Record'!T444=\"\",\"\",'Student Record'!T444)","v":""},{"$f":"IF('Student Record'!V444=\"\",\"\",'Student Record'!V444)","v":""},{"$f":"IF('Student Record'!W446=\"\",\"\",'Student Record'!W446)","v":""}]
[{"$f":"IF(Table1[[#This Row],[Name of Student]]=\"\",\"\",ROWS($A$1:A444))","v":""},{"$f":"IF('Student Record'!A445=\"\",\"\",'Student Record'!A445)","v":""},{"$f":"IF('Student Record'!C445=\"\",\"\",'Student Record'!C445)","v":""},{"$f":"IF('[1]Student Record'!K447=\"\",\"\",'[1]Student Record'!K447)","v":""},{"$f":"IF('Student Record'!E445=\"\",\"\",'Student Record'!E445)","v":""},{"$f":"IF('Student Record'!G445=\"\",\"\",'Student Record'!G445)","v":""},{"$f":"IF('Student Record'!H445=\"\",\"\",'Student Record'!H445)","v":""},{"$f":"IF('Student Record'!J445=\"\",\"\",'Student Record'!J445)","v":""},{"$f":"IF('Student Record'!D447=\"\",\"\",'Student Record'!D447)","v":""},{"$f":"IF('Student Record'!T445=\"\",\"\",'Student Record'!T445)","v":""},{"$f":"IF('Student Record'!V445=\"\",\"\",'Student Record'!V445)","v":""},{"$f":"IF('Student Record'!W447=\"\",\"\",'Student Record'!W447)","v":""}]
[{"$f":"IF(Table1[[#This Row],[Name of Student]]=\"\",\"\",ROWS($A$1:A445))","v":""},{"$f":"IF('Student Record'!A446=\"\",\"\",'Student Record'!A446)","v":""},{"$f":"IF('Student Record'!C446=\"\",\"\",'Student Record'!C446)","v":""},{"$f":"IF('[1]Student Record'!K448=\"\",\"\",'[1]Student Record'!K448)","v":""},{"$f":"IF('Student Record'!E446=\"\",\"\",'Student Record'!E446)","v":""},{"$f":"IF('Student Record'!G446=\"\",\"\",'Student Record'!G446)","v":""},{"$f":"IF('Student Record'!H446=\"\",\"\",'Student Record'!H446)","v":""},{"$f":"IF('Student Record'!J446=\"\",\"\",'Student Record'!J446)","v":""},{"$f":"IF('Student Record'!D448=\"\",\"\",'Student Record'!D448)","v":""},{"$f":"IF('Student Record'!T446=\"\",\"\",'Student Record'!T446)","v":""},{"$f":"IF('Student Record'!V446=\"\",\"\",'Student Record'!V446)","v":""},{"$f":"IF('Student Record'!W448=\"\",\"\",'Student Record'!W448)","v":""}]
[{"$f":"IF(Table1[[#This Row],[Name of Student]]=\"\",\"\",ROWS($A$1:A446))","v":""},{"$f":"IF('Student Record'!A447=\"\",\"\",'Student Record'!A447)","v":""},{"$f":"IF('Student Record'!C447=\"\",\"\",'Student Record'!C447)","v":""},{"$f":"IF('[1]Student Record'!K449=\"\",\"\",'[1]Student Record'!K449)","v":""},{"$f":"IF('Student Record'!E447=\"\",\"\",'Student Record'!E447)","v":""},{"$f":"IF('Student Record'!G447=\"\",\"\",'Student Record'!G447)","v":""},{"$f":"IF('Student Record'!H447=\"\",\"\",'Student Record'!H447)","v":""},{"$f":"IF('Student Record'!J447=\"\",\"\",'Student Record'!J447)","v":""},{"$f":"IF('Student Record'!D449=\"\",\"\",'Student Record'!D449)","v":""},{"$f":"IF('Student Record'!T447=\"\",\"\",'Student Record'!T447)","v":""},{"$f":"IF('Student Record'!V447=\"\",\"\",'Student Record'!V447)","v":""},{"$f":"IF('Student Record'!W449=\"\",\"\",'Student Record'!W449)","v":""}]
[{"$f":"IF(Table1[[#This Row],[Name of Student]]=\"\",\"\",ROWS($A$1:A447))","v":""},{"$f":"IF('Student Record'!A448=\"\",\"\",'Student Record'!A448)","v":""},{"$f":"IF('Student Record'!C448=\"\",\"\",'Student Record'!C448)","v":""},{"$f":"IF('[1]Student Record'!K450=\"\",\"\",'[1]Student Record'!K450)","v":""},{"$f":"IF('Student Record'!E448=\"\",\"\",'Student Record'!E448)","v":""},{"$f":"IF('Student Record'!G448=\"\",\"\",'Student Record'!G448)","v":""},{"$f":"IF('Student Record'!H448=\"\",\"\",'Student Record'!H448)","v":""},{"$f":"IF('Student Record'!J448=\"\",\"\",'Student Record'!J448)","v":""},{"$f":"IF('Student Record'!D450=\"\",\"\",'Student Record'!D450)","v":""},{"$f":"IF('Student Record'!T448=\"\",\"\",'Student Record'!T448)","v":""},{"$f":"IF('Student Record'!V448=\"\",\"\",'Student Record'!V448)","v":""},{"$f":"IF('Student Record'!W450=\"\",\"\",'Student Record'!W450)","v":""}]
[{"$f":"IF(Table1[[#This Row],[Name of Student]]=\"\",\"\",ROWS($A$1:A448))","v":""},{"$f":"IF('Student Record'!A449=\"\",\"\",'Student Record'!A449)","v":""},{"$f":"IF('Student Record'!C449=\"\",\"\",'Student Record'!C449)","v":""},{"$f":"IF('[1]Student Record'!K451=\"\",\"\",'[1]Student Record'!K451)","v":""},{"$f":"IF('Student Record'!E449=\"\",\"\",'Student Record'!E449)","v":""},{"$f":"IF('Student Record'!G449=\"\",\"\",'Student Record'!G449)","v":""},{"$f":"IF('Student Record'!H449=\"\",\"\",'Student Record'!H449)","v":""},{"$f":"IF('Student Record'!J449=\"\",\"\",'Student Record'!J449)","v":""},{"$f":"IF('Student Record'!D451=\"\",\"\",'Student Record'!D451)","v":""},{"$f":"IF('Student Record'!T449=\"\",\"\",'Student Record'!T449)","v":""},{"$f":"IF('Student Record'!V449=\"\",\"\",'Student Record'!V449)","v":""},{"$f":"IF('Student Record'!W451=\"\",\"\",'Student Record'!W451)","v":""}]
[{"$f":"IF(Table1[[#This Row],[Name of Student]]=\"\",\"\",ROWS($A$1:A449))","v":""},{"$f":"IF('Student Record'!A450=\"\",\"\",'Student Record'!A450)","v":""},{"$f":"IF('Student Record'!C450=\"\",\"\",'Student Record'!C450)","v":""},{"$f":"IF('[1]Student Record'!K452=\"\",\"\",'[1]Student Record'!K452)","v":""},{"$f":"IF('Student Record'!E450=\"\",\"\",'Student Record'!E450)","v":""},{"$f":"IF('Student Record'!G450=\"\",\"\",'Student Record'!G450)","v":""},{"$f":"IF('Student Record'!H450=\"\",\"\",'Student Record'!H450)","v":""},{"$f":"IF('Student Record'!J450=\"\",\"\",'Student Record'!J450)","v":""},{"$f":"IF('Student Record'!D452=\"\",\"\",'Student Record'!D452)","v":""},{"$f":"IF('Student Record'!T450=\"\",\"\",'Student Record'!T450)","v":""},{"$f":"IF('Student Record'!V450=\"\",\"\",'Student Record'!V450)","v":""},{"$f":"IF('Student Record'!W452=\"\",\"\",'Student Record'!W452)","v":""}]
[{"$f":"IF(Table1[[#This Row],[Name of Student]]=\"\",\"\",ROWS($A$1:A450))","v":""},{"$f":"IF('Student Record'!A451=\"\",\"\",'Student Record'!A451)","v":""},{"$f":"IF('Student Record'!C451=\"\",\"\",'Student Record'!C451)","v":""},{"$f":"IF('[1]Student Record'!K453=\"\",\"\",'[1]Student Record'!K453)","v":""},{"$f":"IF('Student Record'!E451=\"\",\"\",'Student Record'!E451)","v":""},{"$f":"IF('Student Record'!G451=\"\",\"\",'Student Record'!G451)","v":""},{"$f":"IF('Student Record'!H451=\"\",\"\",'Student Record'!H451)","v":""},{"$f":"IF('Student Record'!J451=\"\",\"\",'Student Record'!J451)","v":""},{"$f":"IF('Student Record'!D453=\"\",\"\",'Student Record'!D453)","v":""},{"$f":"IF('Student Record'!T451=\"\",\"\",'Student Record'!T451)","v":""},{"$f":"IF('Student Record'!V451=\"\",\"\",'Student Record'!V451)","v":""},{"$f":"IF('Student Record'!W453=\"\",\"\",'Student Record'!W453)","v":""}]
[{"$f":"IF(Table1[[#This Row],[Name of Student]]=\"\",\"\",ROWS($A$1:A451))","v":""},{"$f":"IF('Student Record'!A452=\"\",\"\",'Student Record'!A452)","v":""},{"$f":"IF('Student Record'!C452=\"\",\"\",'Student Record'!C452)","v":""},{"$f":"IF('[1]Student Record'!K454=\"\",\"\",'[1]Student Record'!K454)","v":""},{"$f":"IF('Student Record'!E452=\"\",\"\",'Student Record'!E452)","v":""},{"$f":"IF('Student Record'!G452=\"\",\"\",'Student Record'!G452)","v":""},{"$f":"IF('Student Record'!H452=\"\",\"\",'Student Record'!H452)","v":""},{"$f":"IF('Student Record'!J452=\"\",\"\",'Student Record'!J452)","v":""},{"$f":"IF('Student Record'!D454=\"\",\"\",'Student Record'!D454)","v":""},{"$f":"IF('Student Record'!T452=\"\",\"\",'Student Record'!T452)","v":""},{"$f":"IF('Student Record'!V452=\"\",\"\",'Student Record'!V452)","v":""},{"$f":"IF('Student Record'!W454=\"\",\"\",'Student Record'!W454)","v":""}]
[{"$f":"IF(Table1[[#This Row],[Name of Student]]=\"\",\"\",ROWS($A$1:A452))","v":""},{"$f":"IF('Student Record'!A453=\"\",\"\",'Student Record'!A453)","v":""},{"$f":"IF('Student Record'!C453=\"\",\"\",'Student Record'!C453)","v":""},{"$f":"IF('[1]Student Record'!K455=\"\",\"\",'[1]Student Record'!K455)","v":""},{"$f":"IF('Student Record'!E453=\"\",\"\",'Student Record'!E453)","v":""},{"$f":"IF('Student Record'!G453=\"\",\"\",'Student Record'!G453)","v":""},{"$f":"IF('Student Record'!H453=\"\",\"\",'Student Record'!H453)","v":""},{"$f":"IF('Student Record'!J453=\"\",\"\",'Student Record'!J453)","v":""},{"$f":"IF('Student Record'!D455=\"\",\"\",'Student Record'!D455)","v":""},{"$f":"IF('Student Record'!T453=\"\",\"\",'Student Record'!T453)","v":""},{"$f":"IF('Student Record'!V453=\"\",\"\",'Student Record'!V453)","v":""},{"$f":"IF('Student Record'!W455=\"\",\"\",'Student Record'!W455)","v":""}]
[{"$f":"IF(Table1[[#This Row],[Name of Student]]=\"\",\"\",ROWS($A$1:A453))","v":""},{"$f":"IF('Student Record'!A454=\"\",\"\",'Student Record'!A454)","v":""},{"$f":"IF('Student Record'!C454=\"\",\"\",'Student Record'!C454)","v":""},{"$f":"IF('[1]Student Record'!K456=\"\",\"\",'[1]Student Record'!K456)","v":""},{"$f":"IF('Student Record'!E454=\"\",\"\",'Student Record'!E454)","v":""},{"$f":"IF('Student Record'!G454=\"\",\"\",'Student Record'!G454)","v":""},{"$f":"IF('Student Record'!H454=\"\",\"\",'Student Record'!H454)","v":""},{"$f":"IF('Student Record'!J454=\"\",\"\",'Student Record'!J454)","v":""},{"$f":"IF('Student Record'!D456=\"\",\"\",'Student Record'!D456)","v":""},{"$f":"IF('Student Record'!T454=\"\",\"\",'Student Record'!T454)","v":""},{"$f":"IF('Student Record'!V454=\"\",\"\",'Student Record'!V454)","v":""},{"$f":"IF('Student Record'!W456=\"\",\"\",'Student Record'!W456)","v":""}]
[{"$f":"IF(Table1[[#This Row],[Name of Student]]=\"\",\"\",ROWS($A$1:A454))","v":""},{"$f":"IF('Student Record'!A455=\"\",\"\",'Student Record'!A455)","v":""},{"$f":"IF('Student Record'!C455=\"\",\"\",'Student Record'!C455)","v":""},{"$f":"IF('[1]Student Record'!K457=\"\",\"\",'[1]Student Record'!K457)","v":""},{"$f":"IF('Student Record'!E455=\"\",\"\",'Student Record'!E455)","v":""},{"$f":"IF('Student Record'!G455=\"\",\"\",'Student Record'!G455)","v":""},{"$f":"IF('Student Record'!H455=\"\",\"\",'Student Record'!H455)","v":""},{"$f":"IF('Student Record'!J455=\"\",\"\",'Student Record'!J455)","v":""},{"$f":"IF('Student Record'!D457=\"\",\"\",'Student Record'!D457)","v":""},{"$f":"IF('Student Record'!T455=\"\",\"\",'Student Record'!T455)","v":""},{"$f":"IF('Student Record'!V455=\"\",\"\",'Student Record'!V455)","v":""},{"$f":"IF('Student Record'!W457=\"\",\"\",'Student Record'!W457)","v":""}]
[{"$f":"IF(Table1[[#This Row],[Name of Student]]=\"\",\"\",ROWS($A$1:A455))","v":""},{"$f":"IF('Student Record'!A456=\"\",\"\",'Student Record'!A456)","v":""},{"$f":"IF('Student Record'!C456=\"\",\"\",'Student Record'!C456)","v":""},{"$f":"IF('[1]Student Record'!K458=\"\",\"\",'[1]Student Record'!K458)","v":""},{"$f":"IF('Student Record'!E456=\"\",\"\",'Student Record'!E456)","v":""},{"$f":"IF('Student Record'!G456=\"\",\"\",'Student Record'!G456)","v":""},{"$f":"IF('Student Record'!H456=\"\",\"\",'Student Record'!H456)","v":""},{"$f":"IF('Student Record'!J456=\"\",\"\",'Student Record'!J456)","v":""},{"$f":"IF('Student Record'!D458=\"\",\"\",'Student Record'!D458)","v":""},{"$f":"IF('Student Record'!T456=\"\",\"\",'Student Record'!T456)","v":""},{"$f":"IF('Student Record'!V456=\"\",\"\",'Student Record'!V456)","v":""},{"$f":"IF('Student Record'!W458=\"\",\"\",'Student Record'!W458)","v":""}]
[{"$f":"IF(Table1[[#This Row],[Name of Student]]=\"\",\"\",ROWS($A$1:A456))","v":""},{"$f":"IF('Student Record'!A457=\"\",\"\",'Student Record'!A457)","v":""},{"$f":"IF('Student Record'!C457=\"\",\"\",'Student Record'!C457)","v":""},{"$f":"IF('[1]Student Record'!K459=\"\",\"\",'[1]Student Record'!K459)","v":""},{"$f":"IF('Student Record'!E457=\"\",\"\",'Student Record'!E457)","v":""},{"$f":"IF('Student Record'!G457=\"\",\"\",'Student Record'!G457)","v":""},{"$f":"IF('Student Record'!H457=\"\",\"\",'Student Record'!H457)","v":""},{"$f":"IF('Student Record'!J457=\"\",\"\",'Student Record'!J457)","v":""},{"$f":"IF('Student Record'!D459=\"\",\"\",'Student Record'!D459)","v":""},{"$f":"IF('Student Record'!T457=\"\",\"\",'Student Record'!T457)","v":""},{"$f":"IF('Student Record'!V457=\"\",\"\",'Student Record'!V457)","v":""},{"$f":"IF('Student Record'!W459=\"\",\"\",'Student Record'!W459)","v":""}]
[{"$f":"IF(Table1[[#This Row],[Name of Student]]=\"\",\"\",ROWS($A$1:A457))","v":""},{"$f":"IF('Student Record'!A458=\"\",\"\",'Student Record'!A458)","v":""},{"$f":"IF('Student Record'!C458=\"\",\"\",'Student Record'!C458)","v":""},{"$f":"IF('[1]Student Record'!K460=\"\",\"\",'[1]Student Record'!K460)","v":""},{"$f":"IF('Student Record'!E458=\"\",\"\",'Student Record'!E458)","v":""},{"$f":"IF('Student Record'!G458=\"\",\"\",'Student Record'!G458)","v":""},{"$f":"IF('Student Record'!H458=\"\",\"\",'Student Record'!H458)","v":""},{"$f":"IF('Student Record'!J458=\"\",\"\",'Student Record'!J458)","v":""},{"$f":"IF('Student Record'!D460=\"\",\"\",'Student Record'!D460)","v":""},{"$f":"IF('Student Record'!T458=\"\",\"\",'Student Record'!T458)","v":""},{"$f":"IF('Student Record'!V458=\"\",\"\",'Student Record'!V458)","v":""},{"$f":"IF('Student Record'!W460=\"\",\"\",'Student Record'!W460)","v":""}]
[{"$f":"IF(Table1[[#This Row],[Name of Student]]=\"\",\"\",ROWS($A$1:A458))","v":""},{"$f":"IF('Student Record'!A459=\"\",\"\",'Student Record'!A459)","v":""},{"$f":"IF('Student Record'!C459=\"\",\"\",'Student Record'!C459)","v":""},{"$f":"IF('[1]Student Record'!K461=\"\",\"\",'[1]Student Record'!K461)","v":""},{"$f":"IF('Student Record'!E459=\"\",\"\",'Student Record'!E459)","v":""},{"$f":"IF('Student Record'!G459=\"\",\"\",'Student Record'!G459)","v":""},{"$f":"IF('Student Record'!H459=\"\",\"\",'Student Record'!H459)","v":""},{"$f":"IF('Student Record'!J459=\"\",\"\",'Student Record'!J459)","v":""},{"$f":"IF('Student Record'!D461=\"\",\"\",'Student Record'!D461)","v":""},{"$f":"IF('Student Record'!T459=\"\",\"\",'Student Record'!T459)","v":""},{"$f":"IF('Student Record'!V459=\"\",\"\",'Student Record'!V459)","v":""},{"$f":"IF('Student Record'!W461=\"\",\"\",'Student Record'!W461)","v":""}]
[{"$f":"IF(Table1[[#This Row],[Name of Student]]=\"\",\"\",ROWS($A$1:A459))","v":""},{"$f":"IF('Student Record'!A460=\"\",\"\",'Student Record'!A460)","v":""},{"$f":"IF('Student Record'!C460=\"\",\"\",'Student Record'!C460)","v":""},{"$f":"IF('[1]Student Record'!K462=\"\",\"\",'[1]Student Record'!K462)","v":""},{"$f":"IF('Student Record'!E460=\"\",\"\",'Student Record'!E460)","v":""},{"$f":"IF('Student Record'!G460=\"\",\"\",'Student Record'!G460)","v":""},{"$f":"IF('Student Record'!H460=\"\",\"\",'Student Record'!H460)","v":""},{"$f":"IF('Student Record'!J460=\"\",\"\",'Student Record'!J460)","v":""},{"$f":"IF('Student Record'!D462=\"\",\"\",'Student Record'!D462)","v":""},{"$f":"IF('Student Record'!T460=\"\",\"\",'Student Record'!T460)","v":""},{"$f":"IF('Student Record'!V460=\"\",\"\",'Student Record'!V460)","v":""},{"$f":"IF('Student Record'!W462=\"\",\"\",'Student Record'!W462)","v":""}]
[{"$f":"IF(Table1[[#This Row],[Name of Student]]=\"\",\"\",ROWS($A$1:A460))","v":""},{"$f":"IF('Student Record'!A461=\"\",\"\",'Student Record'!A461)","v":""},{"$f":"IF('Student Record'!C461=\"\",\"\",'Student Record'!C461)","v":""},{"$f":"IF('[1]Student Record'!K463=\"\",\"\",'[1]Student Record'!K463)","v":""},{"$f":"IF('Student Record'!E461=\"\",\"\",'Student Record'!E461)","v":""},{"$f":"IF('Student Record'!G461=\"\",\"\",'Student Record'!G461)","v":""},{"$f":"IF('Student Record'!H461=\"\",\"\",'Student Record'!H461)","v":""},{"$f":"IF('Student Record'!J461=\"\",\"\",'Student Record'!J461)","v":""},{"$f":"IF('Student Record'!D463=\"\",\"\",'Student Record'!D463)","v":""},{"$f":"IF('Student Record'!T461=\"\",\"\",'Student Record'!T461)","v":""},{"$f":"IF('Student Record'!V461=\"\",\"\",'Student Record'!V461)","v":""},{"$f":"IF('Student Record'!W463=\"\",\"\",'Student Record'!W463)","v":""}]
[{"$f":"IF(Table1[[#This Row],[Name of Student]]=\"\",\"\",ROWS($A$1:A461))","v":""},{"$f":"IF('Student Record'!A462=\"\",\"\",'Student Record'!A462)","v":""},{"$f":"IF('Student Record'!C462=\"\",\"\",'Student Record'!C462)","v":""},{"$f":"IF('[1]Student Record'!K464=\"\",\"\",'[1]Student Record'!K464)","v":""},{"$f":"IF('Student Record'!E462=\"\",\"\",'Student Record'!E462)","v":""},{"$f":"IF('Student Record'!G462=\"\",\"\",'Student Record'!G462)","v":""},{"$f":"IF('Student Record'!H462=\"\",\"\",'Student Record'!H462)","v":""},{"$f":"IF('Student Record'!J462=\"\",\"\",'Student Record'!J462)","v":""},{"$f":"IF('Student Record'!D464=\"\",\"\",'Student Record'!D464)","v":""},{"$f":"IF('Student Record'!T462=\"\",\"\",'Student Record'!T462)","v":""},{"$f":"IF('Student Record'!V462=\"\",\"\",'Student Record'!V462)","v":""},{"$f":"IF('Student Record'!W464=\"\",\"\",'Student Record'!W464)","v":""}]
[{"$f":"IF(Table1[[#This Row],[Name of Student]]=\"\",\"\",ROWS($A$1:A462))","v":""},{"$f":"IF('Student Record'!A463=\"\",\"\",'Student Record'!A463)","v":""},{"$f":"IF('Student Record'!C463=\"\",\"\",'Student Record'!C463)","v":""},{"$f":"IF('[1]Student Record'!K465=\"\",\"\",'[1]Student Record'!K465)","v":""},{"$f":"IF('Student Record'!E463=\"\",\"\",'Student Record'!E463)","v":""},{"$f":"IF('Student Record'!G463=\"\",\"\",'Student Record'!G463)","v":""},{"$f":"IF('Student Record'!H463=\"\",\"\",'Student Record'!H463)","v":""},{"$f":"IF('Student Record'!J463=\"\",\"\",'Student Record'!J463)","v":""},{"$f":"IF('Student Record'!D465=\"\",\"\",'Student Record'!D465)","v":""},{"$f":"IF('Student Record'!T463=\"\",\"\",'Student Record'!T463)","v":""},{"$f":"IF('Student Record'!V463=\"\",\"\",'Student Record'!V463)","v":""},{"$f":"IF('Student Record'!W465=\"\",\"\",'Student Record'!W465)","v":""}]
[{"$f":"IF(Table1[[#This Row],[Name of Student]]=\"\",\"\",ROWS($A$1:A463))","v":""},{"$f":"IF('Student Record'!A464=\"\",\"\",'Student Record'!A464)","v":""},{"$f":"IF('Student Record'!C464=\"\",\"\",'Student Record'!C464)","v":""},{"$f":"IF('[1]Student Record'!K466=\"\",\"\",'[1]Student Record'!K466)","v":""},{"$f":"IF('Student Record'!E464=\"\",\"\",'Student Record'!E464)","v":""},{"$f":"IF('Student Record'!G464=\"\",\"\",'Student Record'!G464)","v":""},{"$f":"IF('Student Record'!H464=\"\",\"\",'Student Record'!H464)","v":""},{"$f":"IF('Student Record'!J464=\"\",\"\",'Student Record'!J464)","v":""},{"$f":"IF('Student Record'!D466=\"\",\"\",'Student Record'!D466)","v":""},{"$f":"IF('Student Record'!T464=\"\",\"\",'Student Record'!T464)","v":""},{"$f":"IF('Student Record'!V464=\"\",\"\",'Student Record'!V464)","v":""},{"$f":"IF('Student Record'!W466=\"\",\"\",'Student Record'!W466)","v":""}]
[{"$f":"IF(Table1[[#This Row],[Name of Student]]=\"\",\"\",ROWS($A$1:A464))","v":""},{"$f":"IF('Student Record'!A465=\"\",\"\",'Student Record'!A465)","v":""},{"$f":"IF('Student Record'!C465=\"\",\"\",'Student Record'!C465)","v":""},{"$f":"IF('[1]Student Record'!K467=\"\",\"\",'[1]Student Record'!K467)","v":""},{"$f":"IF('Student Record'!E465=\"\",\"\",'Student Record'!E465)","v":""},{"$f":"IF('Student Record'!G465=\"\",\"\",'Student Record'!G465)","v":""},{"$f":"IF('Student Record'!H465=\"\",\"\",'Student Record'!H465)","v":""},{"$f":"IF('Student Record'!J465=\"\",\"\",'Student Record'!J465)","v":""},{"$f":"IF('Student Record'!D467=\"\",\"\",'Student Record'!D467)","v":""},{"$f":"IF('Student Record'!T465=\"\",\"\",'Student Record'!T465)","v":""},{"$f":"IF('Student Record'!V465=\"\",\"\",'Student Record'!V465)","v":""},{"$f":"IF('Student Record'!W467=\"\",\"\",'Student Record'!W467)","v":""}]
[{"$f":"IF(Table1[[#This Row],[Name of Student]]=\"\",\"\",ROWS($A$1:A465))","v":""},{"$f":"IF('Student Record'!A466=\"\",\"\",'Student Record'!A466)","v":""},{"$f":"IF('Student Record'!C466=\"\",\"\",'Student Record'!C466)","v":""},{"$f":"IF('[1]Student Record'!K468=\"\",\"\",'[1]Student Record'!K468)","v":""},{"$f":"IF('Student Record'!E466=\"\",\"\",'Student Record'!E466)","v":""},{"$f":"IF('Student Record'!G466=\"\",\"\",'Student Record'!G466)","v":""},{"$f":"IF('Student Record'!H466=\"\",\"\",'Student Record'!H466)","v":""},{"$f":"IF('Student Record'!J466=\"\",\"\",'Student Record'!J466)","v":""},{"$f":"IF('Student Record'!D468=\"\",\"\",'Student Record'!D468)","v":""},{"$f":"IF('Student Record'!T466=\"\",\"\",'Student Record'!T466)","v":""},{"$f":"IF('Student Record'!V466=\"\",\"\",'Student Record'!V466)","v":""},{"$f":"IF('Student Record'!W468=\"\",\"\",'Student Record'!W468)","v":""}]
[{"$f":"IF(Table1[[#This Row],[Name of Student]]=\"\",\"\",ROWS($A$1:A466))","v":""},{"$f":"IF('Student Record'!A467=\"\",\"\",'Student Record'!A467)","v":""},{"$f":"IF('Student Record'!C467=\"\",\"\",'Student Record'!C467)","v":""},{"$f":"IF('[1]Student Record'!K469=\"\",\"\",'[1]Student Record'!K469)","v":""},{"$f":"IF('Student Record'!E467=\"\",\"\",'Student Record'!E467)","v":""},{"$f":"IF('Student Record'!G467=\"\",\"\",'Student Record'!G467)","v":""},{"$f":"IF('Student Record'!H467=\"\",\"\",'Student Record'!H467)","v":""},{"$f":"IF('Student Record'!J467=\"\",\"\",'Student Record'!J467)","v":""},{"$f":"IF('Student Record'!D469=\"\",\"\",'Student Record'!D469)","v":""},{"$f":"IF('Student Record'!T467=\"\",\"\",'Student Record'!T467)","v":""},{"$f":"IF('Student Record'!V467=\"\",\"\",'Student Record'!V467)","v":""},{"$f":"IF('Student Record'!W469=\"\",\"\",'Student Record'!W469)","v":""}]
[{"$f":"IF(Table1[[#This Row],[Name of Student]]=\"\",\"\",ROWS($A$1:A467))","v":""},{"$f":"IF('Student Record'!A468=\"\",\"\",'Student Record'!A468)","v":""},{"$f":"IF('Student Record'!C468=\"\",\"\",'Student Record'!C468)","v":""},{"$f":"IF('[1]Student Record'!K470=\"\",\"\",'[1]Student Record'!K470)","v":""},{"$f":"IF('Student Record'!E468=\"\",\"\",'Student Record'!E468)","v":""},{"$f":"IF('Student Record'!G468=\"\",\"\",'Student Record'!G468)","v":""},{"$f":"IF('Student Record'!H468=\"\",\"\",'Student Record'!H468)","v":""},{"$f":"IF('Student Record'!J468=\"\",\"\",'Student Record'!J468)","v":""},{"$f":"IF('Student Record'!D470=\"\",\"\",'Student Record'!D470)","v":""},{"$f":"IF('Student Record'!T468=\"\",\"\",'Student Record'!T468)","v":""},{"$f":"IF('Student Record'!V468=\"\",\"\",'Student Record'!V468)","v":""},{"$f":"IF('Student Record'!W470=\"\",\"\",'Student Record'!W470)","v":""}]
[{"$f":"IF(Table1[[#This Row],[Name of Student]]=\"\",\"\",ROWS($A$1:A468))","v":""},{"$f":"IF('Student Record'!A469=\"\",\"\",'Student Record'!A469)","v":""},{"$f":"IF('Student Record'!C469=\"\",\"\",'Student Record'!C469)","v":""},{"$f":"IF('[1]Student Record'!K471=\"\",\"\",'[1]Student Record'!K471)","v":""},{"$f":"IF('Student Record'!E469=\"\",\"\",'Student Record'!E469)","v":""},{"$f":"IF('Student Record'!G469=\"\",\"\",'Student Record'!G469)","v":""},{"$f":"IF('Student Record'!H469=\"\",\"\",'Student Record'!H469)","v":""},{"$f":"IF('Student Record'!J469=\"\",\"\",'Student Record'!J469)","v":""},{"$f":"IF('Student Record'!D471=\"\",\"\",'Student Record'!D471)","v":""},{"$f":"IF('Student Record'!T469=\"\",\"\",'Student Record'!T469)","v":""},{"$f":"IF('Student Record'!V469=\"\",\"\",'Student Record'!V469)","v":""},{"$f":"IF('Student Record'!W471=\"\",\"\",'Student Record'!W471)","v":""}]
[{"$f":"IF(Table1[[#This Row],[Name of Student]]=\"\",\"\",ROWS($A$1:A469))","v":""},{"$f":"IF('Student Record'!A470=\"\",\"\",'Student Record'!A470)","v":""},{"$f":"IF('Student Record'!C470=\"\",\"\",'Student Record'!C470)","v":""},{"$f":"IF('[1]Student Record'!K472=\"\",\"\",'[1]Student Record'!K472)","v":""},{"$f":"IF('Student Record'!E470=\"\",\"\",'Student Record'!E470)","v":""},{"$f":"IF('Student Record'!G470=\"\",\"\",'Student Record'!G470)","v":""},{"$f":"IF('Student Record'!H470=\"\",\"\",'Student Record'!H470)","v":""},{"$f":"IF('Student Record'!J470=\"\",\"\",'Student Record'!J470)","v":""},{"$f":"IF('Student Record'!D472=\"\",\"\",'Student Record'!D472)","v":""},{"$f":"IF('Student Record'!T470=\"\",\"\",'Student Record'!T470)","v":""},{"$f":"IF('Student Record'!V470=\"\",\"\",'Student Record'!V470)","v":""},{"$f":"IF('Student Record'!W472=\"\",\"\",'Student Record'!W472)","v":""}]
[{"$f":"IF(Table1[[#This Row],[Name of Student]]=\"\",\"\",ROWS($A$1:A470))","v":""},{"$f":"IF('Student Record'!A471=\"\",\"\",'Student Record'!A471)","v":""},{"$f":"IF('Student Record'!C471=\"\",\"\",'Student Record'!C471)","v":""},{"$f":"IF('[1]Student Record'!K473=\"\",\"\",'[1]Student Record'!K473)","v":""},{"$f":"IF('Student Record'!E471=\"\",\"\",'Student Record'!E471)","v":""},{"$f":"IF('Student Record'!G471=\"\",\"\",'Student Record'!G471)","v":""},{"$f":"IF('Student Record'!H471=\"\",\"\",'Student Record'!H471)","v":""},{"$f":"IF('Student Record'!J471=\"\",\"\",'Student Record'!J471)","v":""},{"$f":"IF('Student Record'!D473=\"\",\"\",'Student Record'!D473)","v":""},{"$f":"IF('Student Record'!T471=\"\",\"\",'Student Record'!T471)","v":""},{"$f":"IF('Student Record'!V471=\"\",\"\",'Student Record'!V471)","v":""},{"$f":"IF('Student Record'!W473=\"\",\"\",'Student Record'!W473)","v":""}]
[{"$f":"IF(Table1[[#This Row],[Name of Student]]=\"\",\"\",ROWS($A$1:A471))","v":""},{"$f":"IF('Student Record'!A472=\"\",\"\",'Student Record'!A472)","v":""},{"$f":"IF('Student Record'!C472=\"\",\"\",'Student Record'!C472)","v":""},{"$f":"IF('[1]Student Record'!K474=\"\",\"\",'[1]Student Record'!K474)","v":""},{"$f":"IF('Student Record'!E472=\"\",\"\",'Student Record'!E472)","v":""},{"$f":"IF('Student Record'!G472=\"\",\"\",'Student Record'!G472)","v":""},{"$f":"IF('Student Record'!H472=\"\",\"\",'Student Record'!H472)","v":""},{"$f":"IF('Student Record'!J472=\"\",\"\",'Student Record'!J472)","v":""},{"$f":"IF('Student Record'!D474=\"\",\"\",'Student Record'!D474)","v":""},{"$f":"IF('Student Record'!T472=\"\",\"\",'Student Record'!T472)","v":""},{"$f":"IF('Student Record'!V472=\"\",\"\",'Student Record'!V472)","v":""},{"$f":"IF('Student Record'!W474=\"\",\"\",'Student Record'!W474)","v":""}]
[{"$f":"IF(Table1[[#This Row],[Name of Student]]=\"\",\"\",ROWS($A$1:A472))","v":""},{"$f":"IF('Student Record'!A473=\"\",\"\",'Student Record'!A473)","v":""},{"$f":"IF('Student Record'!C473=\"\",\"\",'Student Record'!C473)","v":""},{"$f":"IF('[1]Student Record'!K475=\"\",\"\",'[1]Student Record'!K475)","v":""},{"$f":"IF('Student Record'!E473=\"\",\"\",'Student Record'!E473)","v":""},{"$f":"IF('Student Record'!G473=\"\",\"\",'Student Record'!G473)","v":""},{"$f":"IF('Student Record'!H473=\"\",\"\",'Student Record'!H473)","v":""},{"$f":"IF('Student Record'!J473=\"\",\"\",'Student Record'!J473)","v":""},{"$f":"IF('Student Record'!D475=\"\",\"\",'Student Record'!D475)","v":""},{"$f":"IF('Student Record'!T473=\"\",\"\",'Student Record'!T473)","v":""},{"$f":"IF('Student Record'!V473=\"\",\"\",'Student Record'!V473)","v":""},{"$f":"IF('Student Record'!W475=\"\",\"\",'Student Record'!W475)","v":""}]
[{"$f":"IF(Table1[[#This Row],[Name of Student]]=\"\",\"\",ROWS($A$1:A473))","v":""},{"$f":"IF('Student Record'!A474=\"\",\"\",'Student Record'!A474)","v":""},{"$f":"IF('Student Record'!C474=\"\",\"\",'Student Record'!C474)","v":""},{"$f":"IF('[1]Student Record'!K476=\"\",\"\",'[1]Student Record'!K476)","v":""},{"$f":"IF('Student Record'!E474=\"\",\"\",'Student Record'!E474)","v":""},{"$f":"IF('Student Record'!G474=\"\",\"\",'Student Record'!G474)","v":""},{"$f":"IF('Student Record'!H474=\"\",\"\",'Student Record'!H474)","v":""},{"$f":"IF('Student Record'!J474=\"\",\"\",'Student Record'!J474)","v":""},{"$f":"IF('Student Record'!D476=\"\",\"\",'Student Record'!D476)","v":""},{"$f":"IF('Student Record'!T474=\"\",\"\",'Student Record'!T474)","v":""},{"$f":"IF('Student Record'!V474=\"\",\"\",'Student Record'!V474)","v":""},{"$f":"IF('Student Record'!W476=\"\",\"\",'Student Record'!W476)","v":""}]
[{"$f":"IF(Table1[[#This Row],[Name of Student]]=\"\",\"\",ROWS($A$1:A474))","v":""},{"$f":"IF('Student Record'!A475=\"\",\"\",'Student Record'!A475)","v":""},{"$f":"IF('Student Record'!C475=\"\",\"\",'Student Record'!C475)","v":""},{"$f":"IF('[1]Student Record'!K477=\"\",\"\",'[1]Student Record'!K477)","v":""},{"$f":"IF('Student Record'!E475=\"\",\"\",'Student Record'!E475)","v":""},{"$f":"IF('Student Record'!G475=\"\",\"\",'Student Record'!G475)","v":""},{"$f":"IF('Student Record'!H475=\"\",\"\",'Student Record'!H475)","v":""},{"$f":"IF('Student Record'!J475=\"\",\"\",'Student Record'!J475)","v":""},{"$f":"IF('Student Record'!D477=\"\",\"\",'Student Record'!D477)","v":""},{"$f":"IF('Student Record'!T475=\"\",\"\",'Student Record'!T475)","v":""},{"$f":"IF('Student Record'!V475=\"\",\"\",'Student Record'!V475)","v":""},{"$f":"IF('Student Record'!W477=\"\",\"\",'Student Record'!W477)","v":""}]
[{"$f":"IF(Table1[[#This Row],[Name of Student]]=\"\",\"\",ROWS($A$1:A475))","v":""},{"$f":"IF('Student Record'!A476=\"\",\"\",'Student Record'!A476)","v":""},{"$f":"IF('Student Record'!C476=\"\",\"\",'Student Record'!C476)","v":""},{"$f":"IF('[1]Student Record'!K478=\"\",\"\",'[1]Student Record'!K478)","v":""},{"$f":"IF('Student Record'!E476=\"\",\"\",'Student Record'!E476)","v":""},{"$f":"IF('Student Record'!G476=\"\",\"\",'Student Record'!G476)","v":""},{"$f":"IF('Student Record'!H476=\"\",\"\",'Student Record'!H476)","v":""},{"$f":"IF('Student Record'!J476=\"\",\"\",'Student Record'!J476)","v":""},{"$f":"IF('Student Record'!D478=\"\",\"\",'Student Record'!D478)","v":""},{"$f":"IF('Student Record'!T476=\"\",\"\",'Student Record'!T476)","v":""},{"$f":"IF('Student Record'!V476=\"\",\"\",'Student Record'!V476)","v":""},{"$f":"IF('Student Record'!W478=\"\",\"\",'Student Record'!W478)","v":""}]
[{"$f":"IF(Table1[[#This Row],[Name of Student]]=\"\",\"\",ROWS($A$1:A476))","v":""},{"$f":"IF('Student Record'!A477=\"\",\"\",'Student Record'!A477)","v":""},{"$f":"IF('Student Record'!C477=\"\",\"\",'Student Record'!C477)","v":""},{"$f":"IF('[1]Student Record'!K479=\"\",\"\",'[1]Student Record'!K479)","v":""},{"$f":"IF('Student Record'!E477=\"\",\"\",'Student Record'!E477)","v":""},{"$f":"IF('Student Record'!G477=\"\",\"\",'Student Record'!G477)","v":""},{"$f":"IF('Student Record'!H477=\"\",\"\",'Student Record'!H477)","v":""},{"$f":"IF('Student Record'!J477=\"\",\"\",'Student Record'!J477)","v":""},{"$f":"IF('Student Record'!D479=\"\",\"\",'Student Record'!D479)","v":""},{"$f":"IF('Student Record'!T477=\"\",\"\",'Student Record'!T477)","v":""},{"$f":"IF('Student Record'!V477=\"\",\"\",'Student Record'!V477)","v":""},{"$f":"IF('Student Record'!W479=\"\",\"\",'Student Record'!W479)","v":""}]
[{"$f":"IF(Table1[[#This Row],[Name of Student]]=\"\",\"\",ROWS($A$1:A477))","v":""},{"$f":"IF('Student Record'!A478=\"\",\"\",'Student Record'!A478)","v":""},{"$f":"IF('Student Record'!C478=\"\",\"\",'Student Record'!C478)","v":""},{"$f":"IF('[1]Student Record'!K480=\"\",\"\",'[1]Student Record'!K480)","v":""},{"$f":"IF('Student Record'!E478=\"\",\"\",'Student Record'!E478)","v":""},{"$f":"IF('Student Record'!G478=\"\",\"\",'Student Record'!G478)","v":""},{"$f":"IF('Student Record'!H478=\"\",\"\",'Student Record'!H478)","v":""},{"$f":"IF('Student Record'!J478=\"\",\"\",'Student Record'!J478)","v":""},{"$f":"IF('Student Record'!D480=\"\",\"\",'Student Record'!D480)","v":""},{"$f":"IF('Student Record'!T478=\"\",\"\",'Student Record'!T478)","v":""},{"$f":"IF('Student Record'!V478=\"\",\"\",'Student Record'!V478)","v":""},{"$f":"IF('Student Record'!W480=\"\",\"\",'Student Record'!W480)","v":""}]
[{"$f":"IF(Table1[[#This Row],[Name of Student]]=\"\",\"\",ROWS($A$1:A478))","v":""},{"$f":"IF('Student Record'!A479=\"\",\"\",'Student Record'!A479)","v":""},{"$f":"IF('Student Record'!C479=\"\",\"\",'Student Record'!C479)","v":""},{"$f":"IF('[1]Student Record'!K481=\"\",\"\",'[1]Student Record'!K481)","v":""},{"$f":"IF('Student Record'!E479=\"\",\"\",'Student Record'!E479)","v":""},{"$f":"IF('Student Record'!G479=\"\",\"\",'Student Record'!G479)","v":""},{"$f":"IF('Student Record'!H479=\"\",\"\",'Student Record'!H479)","v":""},{"$f":"IF('Student Record'!J479=\"\",\"\",'Student Record'!J479)","v":""},{"$f":"IF('Student Record'!D481=\"\",\"\",'Student Record'!D481)","v":""},{"$f":"IF('Student Record'!T479=\"\",\"\",'Student Record'!T479)","v":""},{"$f":"IF('Student Record'!V479=\"\",\"\",'Student Record'!V479)","v":""},{"$f":"IF('Student Record'!W481=\"\",\"\",'Student Record'!W481)","v":""}]
[{"$f":"IF(Table1[[#This Row],[Name of Student]]=\"\",\"\",ROWS($A$1:A479))","v":""},{"$f":"IF('Student Record'!A480=\"\",\"\",'Student Record'!A480)","v":""},{"$f":"IF('Student Record'!C480=\"\",\"\",'Student Record'!C480)","v":""},{"$f":"IF('[1]Student Record'!K482=\"\",\"\",'[1]Student Record'!K482)","v":""},{"$f":"IF('Student Record'!E480=\"\",\"\",'Student Record'!E480)","v":""},{"$f":"IF('Student Record'!G480=\"\",\"\",'Student Record'!G480)","v":""},{"$f":"IF('Student Record'!H480=\"\",\"\",'Student Record'!H480)","v":""},{"$f":"IF('Student Record'!J480=\"\",\"\",'Student Record'!J480)","v":""},{"$f":"IF('Student Record'!D482=\"\",\"\",'Student Record'!D482)","v":""},{"$f":"IF('Student Record'!T480=\"\",\"\",'Student Record'!T480)","v":""},{"$f":"IF('Student Record'!V480=\"\",\"\",'Student Record'!V480)","v":""},{"$f":"IF('Student Record'!W482=\"\",\"\",'Student Record'!W482)","v":""}]
[{"$f":"IF(Table1[[#This Row],[Name of Student]]=\"\",\"\",ROWS($A$1:A480))","v":""},{"$f":"IF('Student Record'!A481=\"\",\"\",'Student Record'!A481)","v":""},{"$f":"IF('Student Record'!C481=\"\",\"\",'Student Record'!C481)","v":""},{"$f":"IF('[1]Student Record'!K483=\"\",\"\",'[1]Student Record'!K483)","v":""},{"$f":"IF('Student Record'!E481=\"\",\"\",'Student Record'!E481)","v":""},{"$f":"IF('Student Record'!G481=\"\",\"\",'Student Record'!G481)","v":""},{"$f":"IF('Student Record'!H481=\"\",\"\",'Student Record'!H481)","v":""},{"$f":"IF('Student Record'!J481=\"\",\"\",'Student Record'!J481)","v":""},{"$f":"IF('Student Record'!D483=\"\",\"\",'Student Record'!D483)","v":""},{"$f":"IF('Student Record'!T481=\"\",\"\",'Student Record'!T481)","v":""},{"$f":"IF('Student Record'!V481=\"\",\"\",'Student Record'!V481)","v":""},{"$f":"IF('Student Record'!W483=\"\",\"\",'Student Record'!W483)","v":""}]
[{"$f":"IF(Table1[[#This Row],[Name of Student]]=\"\",\"\",ROWS($A$1:A481))","v":""},{"$f":"IF('Student Record'!A482=\"\",\"\",'Student Record'!A482)","v":""},{"$f":"IF('Student Record'!C482=\"\",\"\",'Student Record'!C482)","v":""},{"$f":"IF('[1]Student Record'!K484=\"\",\"\",'[1]Student Record'!K484)","v":""},{"$f":"IF('Student Record'!E482=\"\",\"\",'Student Record'!E482)","v":""},{"$f":"IF('Student Record'!G482=\"\",\"\",'Student Record'!G482)","v":""},{"$f":"IF('Student Record'!H482=\"\",\"\",'Student Record'!H482)","v":""},{"$f":"IF('Student Record'!J482=\"\",\"\",'Student Record'!J482)","v":""},{"$f":"IF('Student Record'!D484=\"\",\"\",'Student Record'!D484)","v":""},{"$f":"IF('Student Record'!T482=\"\",\"\",'Student Record'!T482)","v":""},{"$f":"IF('Student Record'!V482=\"\",\"\",'Student Record'!V482)","v":""},{"$f":"IF('Student Record'!W484=\"\",\"\",'Student Record'!W484)","v":""}]
[{"$f":"IF(Table1[[#This Row],[Name of Student]]=\"\",\"\",ROWS($A$1:A482))","v":""},{"$f":"IF('Student Record'!A483=\"\",\"\",'Student Record'!A483)","v":""},{"$f":"IF('Student Record'!C483=\"\",\"\",'Student Record'!C483)","v":""},{"$f":"IF('[1]Student Record'!K485=\"\",\"\",'[1]Student Record'!K485)","v":""},{"$f":"IF('Student Record'!E483=\"\",\"\",'Student Record'!E483)","v":""},{"$f":"IF('Student Record'!G483=\"\",\"\",'Student Record'!G483)","v":""},{"$f":"IF('Student Record'!H483=\"\",\"\",'Student Record'!H483)","v":""},{"$f":"IF('Student Record'!J483=\"\",\"\",'Student Record'!J483)","v":""},{"$f":"IF('Student Record'!D485=\"\",\"\",'Student Record'!D485)","v":""},{"$f":"IF('Student Record'!T483=\"\",\"\",'Student Record'!T483)","v":""},{"$f":"IF('Student Record'!V483=\"\",\"\",'Student Record'!V483)","v":""},{"$f":"IF('Student Record'!W485=\"\",\"\",'Student Record'!W485)","v":""}]
[{"$f":"IF(Table1[[#This Row],[Name of Student]]=\"\",\"\",ROWS($A$1:A483))","v":""},{"$f":"IF('Student Record'!A484=\"\",\"\",'Student Record'!A484)","v":""},{"$f":"IF('Student Record'!C484=\"\",\"\",'Student Record'!C484)","v":""},{"$f":"IF('[1]Student Record'!K486=\"\",\"\",'[1]Student Record'!K486)","v":""},{"$f":"IF('Student Record'!E484=\"\",\"\",'Student Record'!E484)","v":""},{"$f":"IF('Student Record'!G484=\"\",\"\",'Student Record'!G484)","v":""},{"$f":"IF('Student Record'!H484=\"\",\"\",'Student Record'!H484)","v":""},{"$f":"IF('Student Record'!J484=\"\",\"\",'Student Record'!J484)","v":""},{"$f":"IF('Student Record'!D486=\"\",\"\",'Student Record'!D486)","v":""},{"$f":"IF('Student Record'!T484=\"\",\"\",'Student Record'!T484)","v":""},{"$f":"IF('Student Record'!V484=\"\",\"\",'Student Record'!V484)","v":""},{"$f":"IF('Student Record'!W486=\"\",\"\",'Student Record'!W486)","v":""}]
[{"$f":"IF(Table1[[#This Row],[Name of Student]]=\"\",\"\",ROWS($A$1:A484))","v":""},{"$f":"IF('Student Record'!A485=\"\",\"\",'Student Record'!A485)","v":""},{"$f":"IF('Student Record'!C485=\"\",\"\",'Student Record'!C485)","v":""},{"$f":"IF('[1]Student Record'!K487=\"\",\"\",'[1]Student Record'!K487)","v":""},{"$f":"IF('Student Record'!E485=\"\",\"\",'Student Record'!E485)","v":""},{"$f":"IF('Student Record'!G485=\"\",\"\",'Student Record'!G485)","v":""},{"$f":"IF('Student Record'!H485=\"\",\"\",'Student Record'!H485)","v":""},{"$f":"IF('Student Record'!J485=\"\",\"\",'Student Record'!J485)","v":""},{"$f":"IF('Student Record'!D487=\"\",\"\",'Student Record'!D487)","v":""},{"$f":"IF('Student Record'!T485=\"\",\"\",'Student Record'!T485)","v":""},{"$f":"IF('Student Record'!V485=\"\",\"\",'Student Record'!V485)","v":""},{"$f":"IF('Student Record'!W487=\"\",\"\",'Student Record'!W487)","v":""}]
[{"$f":"IF(Table1[[#This Row],[Name of Student]]=\"\",\"\",ROWS($A$1:A485))","v":""},{"$f":"IF('Student Record'!A486=\"\",\"\",'Student Record'!A486)","v":""},{"$f":"IF('Student Record'!C486=\"\",\"\",'Student Record'!C486)","v":""},{"$f":"IF('[1]Student Record'!K488=\"\",\"\",'[1]Student Record'!K488)","v":""},{"$f":"IF('Student Record'!E486=\"\",\"\",'Student Record'!E486)","v":""},{"$f":"IF('Student Record'!G486=\"\",\"\",'Student Record'!G486)","v":""},{"$f":"IF('Student Record'!H486=\"\",\"\",'Student Record'!H486)","v":""},{"$f":"IF('Student Record'!J486=\"\",\"\",'Student Record'!J486)","v":""},{"$f":"IF('Student Record'!D488=\"\",\"\",'Student Record'!D488)","v":""},{"$f":"IF('Student Record'!T486=\"\",\"\",'Student Record'!T486)","v":""},{"$f":"IF('Student Record'!V486=\"\",\"\",'Student Record'!V486)","v":""},{"$f":"IF('Student Record'!W488=\"\",\"\",'Student Record'!W488)","v":""}]
[{"$f":"IF(Table1[[#This Row],[Name of Student]]=\"\",\"\",ROWS($A$1:A486))","v":""},{"$f":"IF('Student Record'!A487=\"\",\"\",'Student Record'!A487)","v":""},{"$f":"IF('Student Record'!C487=\"\",\"\",'Student Record'!C487)","v":""},{"$f":"IF('[1]Student Record'!K489=\"\",\"\",'[1]Student Record'!K489)","v":""},{"$f":"IF('Student Record'!E487=\"\",\"\",'Student Record'!E487)","v":""},{"$f":"IF('Student Record'!G487=\"\",\"\",'Student Record'!G487)","v":""},{"$f":"IF('Student Record'!H487=\"\",\"\",'Student Record'!H487)","v":""},{"$f":"IF('Student Record'!J487=\"\",\"\",'Student Record'!J487)","v":""},{"$f":"IF('Student Record'!D489=\"\",\"\",'Student Record'!D489)","v":""},{"$f":"IF('Student Record'!T487=\"\",\"\",'Student Record'!T487)","v":""},{"$f":"IF('Student Record'!V487=\"\",\"\",'Student Record'!V487)","v":""},{"$f":"IF('Student Record'!W489=\"\",\"\",'Student Record'!W489)","v":""}]
[{"$f":"IF(Table1[[#This Row],[Name of Student]]=\"\",\"\",ROWS($A$1:A487))","v":""},{"$f":"IF('Student Record'!A488=\"\",\"\",'Student Record'!A488)","v":""},{"$f":"IF('Student Record'!C488=\"\",\"\",'Student Record'!C488)","v":""},{"$f":"IF('[1]Student Record'!K490=\"\",\"\",'[1]Student Record'!K490)","v":""},{"$f":"IF('Student Record'!E488=\"\",\"\",'Student Record'!E488)","v":""},{"$f":"IF('Student Record'!G488=\"\",\"\",'Student Record'!G488)","v":""},{"$f":"IF('Student Record'!H488=\"\",\"\",'Student Record'!H488)","v":""},{"$f":"IF('Student Record'!J488=\"\",\"\",'Student Record'!J488)","v":""},{"$f":"IF('Student Record'!D490=\"\",\"\",'Student Record'!D490)","v":""},{"$f":"IF('Student Record'!T488=\"\",\"\",'Student Record'!T488)","v":""},{"$f":"IF('Student Record'!V488=\"\",\"\",'Student Record'!V488)","v":""},{"$f":"IF('Student Record'!W490=\"\",\"\",'Student Record'!W490)","v":""}]
[{"$f":"IF(Table1[[#This Row],[Name of Student]]=\"\",\"\",ROWS($A$1:A488))","v":""},{"$f":"IF('Student Record'!A489=\"\",\"\",'Student Record'!A489)","v":""},{"$f":"IF('Student Record'!C489=\"\",\"\",'Student Record'!C489)","v":""},{"$f":"IF('[1]Student Record'!K491=\"\",\"\",'[1]Student Record'!K491)","v":""},{"$f":"IF('Student Record'!E489=\"\",\"\",'Student Record'!E489)","v":""},{"$f":"IF('Student Record'!G489=\"\",\"\",'Student Record'!G489)","v":""},{"$f":"IF('Student Record'!H489=\"\",\"\",'Student Record'!H489)","v":""},{"$f":"IF('Student Record'!J489=\"\",\"\",'Student Record'!J489)","v":""},{"$f":"IF('Student Record'!D491=\"\",\"\",'Student Record'!D491)","v":""},{"$f":"IF('Student Record'!T489=\"\",\"\",'Student Record'!T489)","v":""},{"$f":"IF('Student Record'!V489=\"\",\"\",'Student Record'!V489)","v":""},{"$f":"IF('Student Record'!W491=\"\",\"\",'Student Record'!W491)","v":""}]
[{"$f":"IF(Table1[[#This Row],[Name of Student]]=\"\",\"\",ROWS($A$1:A489))","v":""},{"$f":"IF('Student Record'!A490=\"\",\"\",'Student Record'!A490)","v":""},{"$f":"IF('Student Record'!C490=\"\",\"\",'Student Record'!C490)","v":""},{"$f":"IF('[1]Student Record'!K492=\"\",\"\",'[1]Student Record'!K492)","v":""},{"$f":"IF('Student Record'!E490=\"\",\"\",'Student Record'!E490)","v":""},{"$f":"IF('Student Record'!G490=\"\",\"\",'Student Record'!G490)","v":""},{"$f":"IF('Student Record'!H490=\"\",\"\",'Student Record'!H490)","v":""},{"$f":"IF('Student Record'!J490=\"\",\"\",'Student Record'!J490)","v":""},{"$f":"IF('Student Record'!D492=\"\",\"\",'Student Record'!D492)","v":""},{"$f":"IF('Student Record'!T490=\"\",\"\",'Student Record'!T490)","v":""},{"$f":"IF('Student Record'!V490=\"\",\"\",'Student Record'!V490)","v":""},{"$f":"IF('Student Record'!W492=\"\",\"\",'Student Record'!W492)","v":""}]
[{"$f":"IF(Table1[[#This Row],[Name of Student]]=\"\",\"\",ROWS($A$1:A490))","v":""},{"$f":"IF('Student Record'!A491=\"\",\"\",'Student Record'!A491)","v":""},{"$f":"IF('Student Record'!C491=\"\",\"\",'Student Record'!C491)","v":""},{"$f":"IF('[1]Student Record'!K493=\"\",\"\",'[1]Student Record'!K493)","v":""},{"$f":"IF('Student Record'!E491=\"\",\"\",'Student Record'!E491)","v":""},{"$f":"IF('Student Record'!G491=\"\",\"\",'Student Record'!G491)","v":""},{"$f":"IF('Student Record'!H491=\"\",\"\",'Student Record'!H491)","v":""},{"$f":"IF('Student Record'!J491=\"\",\"\",'Student Record'!J491)","v":""},{"$f":"IF('Student Record'!D493=\"\",\"\",'Student Record'!D493)","v":""},{"$f":"IF('Student Record'!T491=\"\",\"\",'Student Record'!T491)","v":""},{"$f":"IF('Student Record'!V491=\"\",\"\",'Student Record'!V491)","v":""},{"$f":"IF('Student Record'!W493=\"\",\"\",'Student Record'!W493)","v":""}]
[{"$f":"IF(Table1[[#This Row],[Name of Student]]=\"\",\"\",ROWS($A$1:A491))","v":""},{"$f":"IF('Student Record'!A492=\"\",\"\",'Student Record'!A492)","v":""},{"$f":"IF('Student Record'!C492=\"\",\"\",'Student Record'!C492)","v":""},{"$f":"IF('[1]Student Record'!K494=\"\",\"\",'[1]Student Record'!K494)","v":""},{"$f":"IF('Student Record'!E492=\"\",\"\",'Student Record'!E492)","v":""},{"$f":"IF('Student Record'!G492=\"\",\"\",'Student Record'!G492)","v":""},{"$f":"IF('Student Record'!H492=\"\",\"\",'Student Record'!H492)","v":""},{"$f":"IF('Student Record'!J492=\"\",\"\",'Student Record'!J492)","v":""},{"$f":"IF('Student Record'!D494=\"\",\"\",'Student Record'!D494)","v":""},{"$f":"IF('Student Record'!T492=\"\",\"\",'Student Record'!T492)","v":""},{"$f":"IF('Student Record'!V492=\"\",\"\",'Student Record'!V492)","v":""},{"$f":"IF('Student Record'!W494=\"\",\"\",'Student Record'!W494)","v":""}]
[{"$f":"IF(Table1[[#This Row],[Name of Student]]=\"\",\"\",ROWS($A$1:A492))","v":""},{"$f":"IF('Student Record'!A493=\"\",\"\",'Student Record'!A493)","v":""},{"$f":"IF('Student Record'!C493=\"\",\"\",'Student Record'!C493)","v":""},{"$f":"IF('[1]Student Record'!K495=\"\",\"\",'[1]Student Record'!K495)","v":""},{"$f":"IF('Student Record'!E493=\"\",\"\",'Student Record'!E493)","v":""},{"$f":"IF('Student Record'!G493=\"\",\"\",'Student Record'!G493)","v":""},{"$f":"IF('Student Record'!H493=\"\",\"\",'Student Record'!H493)","v":""},{"$f":"IF('Student Record'!J493=\"\",\"\",'Student Record'!J493)","v":""},{"$f":"IF('Student Record'!D495=\"\",\"\",'Student Record'!D495)","v":""},{"$f":"IF('Student Record'!T493=\"\",\"\",'Student Record'!T493)","v":""},{"$f":"IF('Student Record'!V493=\"\",\"\",'Student Record'!V493)","v":""},{"$f":"IF('Student Record'!W495=\"\",\"\",'Student Record'!W495)","v":""}]
[{"$f":"IF(Table1[[#This Row],[Name of Student]]=\"\",\"\",ROWS($A$1:A493))","v":""},{"$f":"IF('Student Record'!A494=\"\",\"\",'Student Record'!A494)","v":""},{"$f":"IF('Student Record'!C494=\"\",\"\",'Student Record'!C494)","v":""},{"$f":"IF('[1]Student Record'!K496=\"\",\"\",'[1]Student Record'!K496)","v":""},{"$f":"IF('Student Record'!E494=\"\",\"\",'Student Record'!E494)","v":""},{"$f":"IF('Student Record'!G494=\"\",\"\",'Student Record'!G494)","v":""},{"$f":"IF('Student Record'!H494=\"\",\"\",'Student Record'!H494)","v":""},{"$f":"IF('Student Record'!J494=\"\",\"\",'Student Record'!J494)","v":""},{"$f":"IF('Student Record'!D496=\"\",\"\",'Student Record'!D496)","v":""},{"$f":"IF('Student Record'!T494=\"\",\"\",'Student Record'!T494)","v":""},{"$f":"IF('Student Record'!V494=\"\",\"\",'Student Record'!V494)","v":""},{"$f":"IF('Student Record'!W496=\"\",\"\",'Student Record'!W496)","v":""}]
[{"$f":"IF(Table1[[#This Row],[Name of Student]]=\"\",\"\",ROWS($A$1:A494))","v":""},{"$f":"IF('Student Record'!A495=\"\",\"\",'Student Record'!A495)","v":""},{"$f":"IF('Student Record'!C495=\"\",\"\",'Student Record'!C495)","v":""},{"$f":"IF('[1]Student Record'!K497=\"\",\"\",'[1]Student Record'!K497)","v":""},{"$f":"IF('Student Record'!E495=\"\",\"\",'Student Record'!E495)","v":""},{"$f":"IF('Student Record'!G495=\"\",\"\",'Student Record'!G495)","v":""},{"$f":"IF('Student Record'!H495=\"\",\"\",'Student Record'!H495)","v":""},{"$f":"IF('Student Record'!J495=\"\",\"\",'Student Record'!J495)","v":""},{"$f":"IF('Student Record'!D497=\"\",\"\",'Student Record'!D497)","v":""},{"$f":"IF('Student Record'!T495=\"\",\"\",'Student Record'!T495)","v":""},{"$f":"IF('Student Record'!V495=\"\",\"\",'Student Record'!V495)","v":""},{"$f":"IF('Student Record'!W497=\"\",\"\",'Student Record'!W497)","v":""}]
[{"$f":"IF(Table1[[#This Row],[Name of Student]]=\"\",\"\",ROWS($A$1:A495))","v":""},{"$f":"IF('Student Record'!A496=\"\",\"\",'Student Record'!A496)","v":""},{"$f":"IF('Student Record'!C496=\"\",\"\",'Student Record'!C496)","v":""},{"$f":"IF('[1]Student Record'!K498=\"\",\"\",'[1]Student Record'!K498)","v":""},{"$f":"IF('Student Record'!E496=\"\",\"\",'Student Record'!E496)","v":""},{"$f":"IF('Student Record'!G496=\"\",\"\",'Student Record'!G496)","v":""},{"$f":"IF('Student Record'!H496=\"\",\"\",'Student Record'!H496)","v":""},{"$f":"IF('Student Record'!J496=\"\",\"\",'Student Record'!J496)","v":""},{"$f":"IF('Student Record'!D498=\"\",\"\",'Student Record'!D498)","v":""},{"$f":"IF('Student Record'!T496=\"\",\"\",'Student Record'!T496)","v":""},{"$f":"IF('Student Record'!V496=\"\",\"\",'Student Record'!V496)","v":""},{"$f":"IF('Student Record'!W498=\"\",\"\",'Student Record'!W498)","v":""}]
[{"$f":"IF(Table1[[#This Row],[Name of Student]]=\"\",\"\",ROWS($A$1:A496))","v":""},{"$f":"IF('Student Record'!A497=\"\",\"\",'Student Record'!A497)","v":""},{"$f":"IF('Student Record'!C497=\"\",\"\",'Student Record'!C497)","v":""},{"$f":"IF('[1]Student Record'!K499=\"\",\"\",'[1]Student Record'!K499)","v":""},{"$f":"IF('Student Record'!E497=\"\",\"\",'Student Record'!E497)","v":""},{"$f":"IF('Student Record'!G497=\"\",\"\",'Student Record'!G497)","v":""},{"$f":"IF('Student Record'!H497=\"\",\"\",'Student Record'!H497)","v":""},{"$f":"IF('Student Record'!J497=\"\",\"\",'Student Record'!J497)","v":""},{"$f":"IF('Student Record'!D499=\"\",\"\",'Student Record'!D499)","v":""},{"$f":"IF('Student Record'!T497=\"\",\"\",'Student Record'!T497)","v":""},{"$f":"IF('Student Record'!V497=\"\",\"\",'Student Record'!V497)","v":""},{"$f":"IF('Student Record'!W499=\"\",\"\",'Student Record'!W499)","v":""}]
[{"$f":"IF(Table1[[#This Row],[Name of Student]]=\"\",\"\",ROWS($A$1:A497))","v":""},{"$f":"IF('Student Record'!A498=\"\",\"\",'Student Record'!A498)","v":""},{"$f":"IF('Student Record'!C498=\"\",\"\",'Student Record'!C498)","v":""},{"$f":"IF('[1]Student Record'!K500=\"\",\"\",'[1]Student Record'!K500)","v":""},{"$f":"IF('Student Record'!E498=\"\",\"\",'Student Record'!E498)","v":""},{"$f":"IF('Student Record'!G498=\"\",\"\",'Student Record'!G498)","v":""},{"$f":"IF('Student Record'!H498=\"\",\"\",'Student Record'!H498)","v":""},{"$f":"IF('Student Record'!J498=\"\",\"\",'Student Record'!J498)","v":""},{"$f":"IF('Student Record'!D500=\"\",\"\",'Student Record'!D500)","v":""},{"$f":"IF('Student Record'!T498=\"\",\"\",'Student Record'!T498)","v":""},{"$f":"IF('Student Record'!V498=\"\",\"\",'Student Record'!V498)","v":""},{"$f":"IF('Student Record'!W500=\"\",\"\",'Student Record'!W500)","v":""}]
[{"$f":"IF(Table1[[#This Row],[Name of Student]]=\"\",\"\",ROWS($A$1:A498))","v":""},{"$f":"IF('Student Record'!A499=\"\",\"\",'Student Record'!A499)","v":""},{"$f":"IF('Student Record'!C499=\"\",\"\",'Student Record'!C499)","v":""},{"$f":"IF('[1]Student Record'!K501=\"\",\"\",'[1]Student Record'!K501)","v":""},{"$f":"IF('Student Record'!E499=\"\",\"\",'Student Record'!E499)","v":""},{"$f":"IF('Student Record'!G499=\"\",\"\",'Student Record'!G499)","v":""},{"$f":"IF('Student Record'!H499=\"\",\"\",'Student Record'!H499)","v":""},{"$f":"IF('Student Record'!J499=\"\",\"\",'Student Record'!J499)","v":""},{"$f":"IF('Student Record'!D501=\"\",\"\",'Student Record'!D501)","v":""},{"$f":"IF('Student Record'!T499=\"\",\"\",'Student Record'!T499)","v":""},{"$f":"IF('Student Record'!V499=\"\",\"\",'Student Record'!V499)","v":""},{"$f":"IF('Student Record'!W501=\"\",\"\",'Student Record'!W501)","v":""}]
[{"$f":"IF(Table1[[#This Row],[Name of Student]]=\"\",\"\",ROWS($A$1:A499))","v":""},{"$f":"IF('Student Record'!A500=\"\",\"\",'Student Record'!A500)","v":""},{"$f":"IF('Student Record'!C500=\"\",\"\",'Student Record'!C500)","v":""},{"$f":"IF('[1]Student Record'!K502=\"\",\"\",'[1]Student Record'!K502)","v":""},{"$f":"IF('Student Record'!E500=\"\",\"\",'Student Record'!E500)","v":""},{"$f":"IF('Student Record'!G500=\"\",\"\",'Student Record'!G500)","v":""},{"$f":"IF('Student Record'!H500=\"\",\"\",'Student Record'!H500)","v":""},{"$f":"IF('Student Record'!J500=\"\",\"\",'Student Record'!J500)","v":""},{"$f":"IF('Student Record'!D502=\"\",\"\",'Student Record'!D502)","v":""},{"$f":"IF('Student Record'!T500=\"\",\"\",'Student Record'!T500)","v":""},{"$f":"IF('Student Record'!V500=\"\",\"\",'Student Record'!V500)","v":""},{"$f":"IF('Student Record'!W502=\"\",\"\",'Student Record'!W502)","v":""}]
[{"$f":"IF(Table1[[#This Row],[Name of Student]]=\"\",\"\",ROWS($A$1:A500))","v":""},{"$f":"IF('Student Record'!A501=\"\",\"\",'Student Record'!A501)","v":""},{"$f":"IF('Student Record'!C501=\"\",\"\",'Student Record'!C501)","v":""},{"$f":"IF('[1]Student Record'!K503=\"\",\"\",'[1]Student Record'!K503)","v":""},{"$f":"IF('Student Record'!E501=\"\",\"\",'Student Record'!E501)","v":""},{"$f":"IF('Student Record'!G501=\"\",\"\",'Student Record'!G501)","v":""},{"$f":"IF('Student Record'!H501=\"\",\"\",'Student Record'!H501)","v":""},{"$f":"IF('Student Record'!J501=\"\",\"\",'Student Record'!J501)","v":""},{"$f":"IF('Student Record'!D503=\"\",\"\",'Student Record'!D503)","v":""},{"$f":"IF('Student Record'!T501=\"\",\"\",'Student Record'!T501)","v":""},{"$f":"IF('Student Record'!V501=\"\",\"\",'Student Record'!V501)","v":""},{"$f":"IF('Student Record'!W503=\"\",\"\",'Student Record'!W503)","v":""}]

{"sheet":"Portfolio","index":2,"n_rows":2899,"n_cols":27,"rows_kept":2899,"cut":false,"hidden":false,"merged":[[2650,1,2650,4],[2651,1,2651,4],[2652,1,2652,4],[2653,1,2653,6],[2654,1,2654,6],[2655,1,2655,6],[2665,1,2665,2],[2665,3,2665,4],[2665,5,2665,6],[2666,1,2666,2],[2666,3,2666,4],[2666,5,2666,6],[2621,1,2621,4],[2622,1,2622,4],[2623,1,2623,4],[2624,1,2624,6],[2625,1,2625,6],[2626,1,2626,6],[2636,1,2636,2],[2636,3,2636,4],[2636,5,2636,6],[2637,1,2637,2],[2637,3,2637,4],[2637,5,2637,6],[2639,0,2639,6],[2640,0,2640,6],[2642,0,2642,6],[2643,2,2643,4],[2644,1,2644,4],[2644,5,2649,6],[2645,1,2645,4],[2646,1,2646,4],[2647,1,2647,4],[2648,1,2648,4],[2649,1,2649,4],[2592,1,2592,4],[2593,1,2593,4],[2594,1,2594,4],[2595,1,2595,6],[2596,1,2596,6],[2597,1,2597,6],[2607,1,2607,2],[2607,3,2607,4],[2607,5,2607,6],[2608,1,2608,2],[2608,3,2608,4],[2608,5,2608,6],[2610,0,2610,6],[2611,0,2611,6],[2613,0,2613,6],[2614,2,2614,4],[2615,1,2615,4],[2615,5,2620,6],[2616,1,2616,4],[2617,1,2617,4],[2618,1,2618,4],[2619,1,2619,4],[2620,1,2620,4],[2563,1,2563,4],[2564,1,2564,4],[2565,1,2565,4],[2566,1,2566,6],[2567,1,2567,6],[2568,1,2568,6],[2578,1,2578,2],[2578,3,2578,4],[2578,5,2578,6],[2579,1,2579,2],[2579,3,2579,4],[2579,5,2579,6],[2581,0,2581,6],[2582,0,2582,6],[2584,0,2584,6],[2585,2,2585,4],[2586,1,2586,4],[2586,5,2591,6],[2587,1,2587,4],[2588,1,2588,4],[2589,1,2589,4],[2590,1,2590,4],[2591,1,2591,4],[2534,1,2534,4],[2535,1,2535,4],[2536,1,2536,4],[2537,1,2537,6],[2538,1,2538,6],[2539,1,2539,6],[2549,1,2549,2],[2549,3,2549,4],[2549,5,2549,6],[2550,1,2550,2],[2550,3,2550,4],[2550,5,2550,6],[2552,0,2552,6],[2553,0,2553,6],[2555,0,2555,6],[2556,2,2556,4],[2557,1,2557,4],[2557,5,2562,6],[2558,1,2558,4],[2559,1,2559,4],[2560,1,2560,4],[2561,1,2561,4],[2562,1,2562,4],[2505,1,2505,4],[2506,1,2506,4],[2507,1,2507,4],[2508,1,2508,6],[2509,1,2509,6],[2510,1,2510,6],[2520,1,2520,2],[2520,3,2520,4],[2520,5,2520,6],[2521,1,2521,2],[2521,3,2521,4],[2521,5,2521,6],[2523,0,2523,6],[2524,0,2524,6],[2526,0,2526,6],[2527,2,2527,4],[2528,1,2528,4],[2528,5,2533,6],[2529,1,2529,4],[2530,1,2530,4],[2531,1,2531,4],[2532,1,2532,4],[2533,1,2533,4],[2476,1,2476,4],[2477,1,2477,4],[2478,1,2478,4],[2479,1,2479,6],[2480,1,2480,6],[2481,1,2481,6],[2491,1,2491,2],[2491,3,2491,4],[2491,5,2491,6],[2492,1,2492,2],[2492,3,2492,4],[2492,5,2492,6],[2494,0,2494,6],[2495,0,2495,6],[2497,0,2497,6],[2498,2,2498,4],[2499,1,2499,4],[2499,5,2504,6],[2500,1,2500,4],[2501,1,2501,4],[2502,1,2502,4],[2503,1,2503,4],[2504,1,2504,4],[2447,1,2447,4],[2448,1,2448,4],[2449,1,2449,4],[2450,1,2450,6],[2451,1,2451,6],[2452,1,2452,6],[2462,1,2462,2],[2462,3,2462,4],[2462,5,2462,6],[2463,1,2463,2],[2463,3,2463,4],[2463,5,2463,6],[2465,0,2465,6],[2466,0,2466,6],[2468,0,2468,6],[2469,2,2469,4],[2470,1,2470,4],[2470,5,2475,6],[2471,1,2471,4],[2472,1,2472,4],[2473,1,2473,4],[2474,1,2474,4],[2475,1,2475,4],[2418,1,2418,4],[2419,1,2419,4],[2420,1,2420,4],[2421,1,2421,6],[2422,1,2422,6],[2423,1,2423,6],[2433,1,2433,2],[2433,3,2433,4],[2433,5,2433,6],[2434,1,2434,2],[2434,3,2434,4],[2434,5,2434,6],[2436,0,2436,6],[2437,0,2437,6],[2439,0,2439,6],[2440,2,2440,4],[2441,1,2441,4],[2441,5,2446,6],[2442,1,2442,4],[2443,1,2443,4],[2444,1,2444,4],[2445,1,2445,4],[2446,1,2446,4],[2389,1,2389,4],[2390,1,2390,4],[2391,1,2391,4],[2392,1,2392,6],[2393,1,2393,6],[2394,1,2394,6],[2404,1,2404,2],[2404,3,2404,4],[2404,5,2404,6],[2405,1,2405,2],[2405,3,2405,4],[2405,5,2405,6],[2407,0,2407,6],[2408,0,2408,6],[2410,0,2410,6],[2411,2,2411,4],[2412,1,2412,4],[2412,5,2417,6],[2413,1,2413,4],[2414,1,2414,4],[2415,1,2415,4],[2416,1,2416,4],[2417,1,2417,4],[2360,1,2360,4],[2361,1,2361,4],[2362,1,2362,4],[2363,1,2363,6],[2364,1,2364,6],[2365,1,2365,6],[2375,1,2375,2],[2375,3,2375,4],[2375,5,2375,6],[2376,1,2376,2],[2376,3,2376,4],[2376,5,2376,6],[2378,0,2378,6],[2379,0,2379,6],[2381,0,2381,6],[2382,2,2382,4],[2383,1,2383,4],[2383,5,2388,6],[2384,1,2384,4],[2385,1,2385,4],[2386,1,2386,4],[2387,1,2387,4],[2388,1,2388,4],[2331,1,2331,4],[2332,1,2332,4],[2333,1,2333,4],[2334,1,2334,6],[2335,1,2335,6],[2336,1,2336,6],[2346,1,2346,2],[2346,3,2346,4],[2346,5,2346,6],[2347,1,2347,2],[2347,3,2347,4],[2347,5,2347,6],[2349,0,2349,6],[2350,0,2350,6],[2352,0,2352,6],[2353,2,2353,4],[2354,1,2354,4],[2354,5,2359,6],[2355,1,2355,4],[2356,1,2356,4],[2357,1,2357,4],[2358,1,2358,4],[2359,1,2359,4],[2302,1,2302,4],[2303,1,2303,4],[2304,1,2304,4],[2305,1,2305,6],[2306,1,2306,6],[2307,1,2307,6],[2317,1,2317,2],[2317,3,2317,4],[2317,5,2317,6],[2318,1,2318,2],[2318,3,2318,4],[2318,5,2318,6],[2320,0,2320,6],[2321,0,2321,6],[2323,0,2323,6],[2324,2,2324,4],[2325,1,2325,4],[2325,5,2330,6],[2326,1,2326,4],[2327,1,2327,4],[2328,1,2328,4],[2329,1,2329,4],[2330,1,2330,4],[2273,1,2273,4],[2274,1,2274,4],[2275,1,2275,4],[2276,1,2276,6],[2277,1,2277,6],[2278,1,2278,6],[2288,1,2288,2],[2288,3,2288,4],[2288,5,2288,6],[2289,1,2289,2],[2289,3,2289,4],[2289,5,2289,6],[2291,0,2291,6],[2292,0,2292,6],[2294,0,2294,6],[2295,2,2295,4],[2296,1,2296,4],[2296,5,2301,6],[2297,1,2297,4],[2298,1,2298,4],[2299,1,2299,4],[2300,1,2300,4],[2301,1,2301,4],[2244,1,2244,4],[2245,1,2245,4],[2246,1,2246,4],[2247,1,2247,6],[2248,1,2248,6],[2249,1,2249,6],[2259,1,2259,2],[2259,3,2259,4],[2259,5,2259,6],[2260,1,2260,2],[2260,3,2260,4],[2260,5,2260,6],[2262,0,2262,6],[2263,0,2263,6],[2265,0,2265,6],[2266,2,2266,4],[2267,1,2267,4],[2267,5,2272,6],[2268,1,2268,4],[2269,1,2269,4],[2270,1,2270,4],[2271,1,2271,4],[2272,1,2272,4],[2215,1,2215,4],[2216,1,2216,4],[2217,1,2217,4],[2218,1,2218,6],[2219,1,2219,6],[2220,1,2220,6],[2230,1,2230,2],[2230,3,2230,4],[2230,5,2230,6],[2231,1,2231,2],[2231,3,2231,4],[2231,5,2231,6],[2233,0,2233,6],[2234,0,2234,6],[2236,0,2236,6],[2237,2,2237,4],[2238,1,2238,4],[2238,5,2243,6],[2239,1,2239,4],[2240,1,2240,4],[2241,1,2241,4],[2242,1,2242,4],[2243,1,2243,4],[2186,1,2186,4],[2187,1,2187,4],[2188,1,2188,4],[2189,1,2189,6],[2190,1,2190,6],[2191,1,2191,6],[2201,1,2201,2],[2201,3,2201,4],[2201,5,2201,6],[2202,1,2202,2],[2202,3,2202,4],[2202,5,2202,6],[2204,0,2204,6],[2205,0,2205,6],[2207,0,2207,6],[2208,2,2208,4],[2209,1,2209,4],[2209,5,2214,6],[2210,1,2210,4],[2211,1,2211,4],[2212,1,2212,4],[2213,1,2213,4],[2214,1,2214,4],[2172,1,2172,2],[2172,3,2172,4],[2172,5,2172,6],[2173,1,2173,2],[2173,3,2173,4],[2173,5,2173,6],[2175,0,2175,6],[2176,0,2176,6],[2178,0,2178,6],[2179,2,2179,4],[2180,1,2180,4],[2180,5,2185,6],[2181,1,2181,4],[2182,1,2182,4],[2183,1,2183,4],[2184,1,2184,4],[2185,1,2185,4],[2146,0,2146,6],[2147,0,2147,6],[2149,0,2149,6],[2150,2,2150,4],[2151,1,2151,4],[2151,5,2156,6],[2152,1,2152,4],[2153,1,2153,4],[2154,1,2154,4],[2155,1,2155,4],[2156,1,2156,4],[2157,1,2157,4],[2158,1,2158,4],[2159,1,2159,4],[2160,1,2160,6],[2161,1,2161,6],[2162,1,2162,6],[2122,1,2122,4],[2122,5,2127,6],[2123,1,2123,4],[2124,1,2124,4],[2125,1,2125,4],[2126,1,2126,4],[2127,1,2127,4],[2128,1,2128,4],[2129,1,2129,4],[2130,1,2130,4],[2131,1,2131,6],[2132,1,2132,6],[2133,1,2133,6],[2143,1,2143,2],[2143,3,2143,4],[2143,5,2143,6],[2144,1,2144,2],[2144,3,2144,4],[2144,5,2144,6],[2085,3,2085,4],[2085,5,2085,6],[2086,1,2086,2],[2086,3,2086,4],[2086,5,2086,6],[2088,0,2088,6],[2089,0,2089,6],[2091,0,2091,6],[2092,2,2092,4],[2093,1,2093,4],[2093,5,2098,6],[2094,1,2094,4],[2095,1,2095,4],[2096,1,2096,4],[2097,1,2097,4],[2098,1,2098,4],[2121,2,2121,4],[2115,1,2115,2],[2115,3,2115,4],[2115,5,2115,6],[2117,0,2117,6],[2118,0,2118,6],[2120,0,2120,6],[2099,1,2099,4],[2100,1,2100,4],[2101,1,2101,4],[2102,1,2102,6],[2103,1,2103,6],[2104,1,2104,6],[2085,1,2085,2],[2038,1,2038,4],[2039,1,2039,4],[2040,1,2040,4],[2012,1,2012,4],[2013,1,2013,4],[2014,1,2014,4],[2015,1,2015,6],[2016,1,2016,6],[2017,1,2017,6],[2027,1,2027,2],[2027,3,2027,4],[2027,5,2027,6],[2028,1,2028,2],[2028,3,2028,4],[2073,1,2073,6],[2074,1,2074,6],[2075,1,2075,6],[2062,0,2062,6],[2063,2,2063,4],[2064,1,2064,4],[2064,5,2069,6],[2065,1,2065,4],[2066,1,2066,4],[2067,1,2067,4],[2030,0,2030,6],[2031,0,2031,6],[2033,0,2033,6],[2034,2,2034,4],[2035,1,2035,4],[2035,5,2040,6],[2036,1,2036,4],[2037,1,2037,4],[1925,1,1925,4],[1926,1,1926,4],[1927,1,1927,4],[1928,1,1928,6],[1929,1,1929,6],[1930,1,1930,6],[1901,1,1901,6],[1911,1,1911,2],[1911,3,1911,4],[1911,5,1911,6],[1912,1,1912,2],[1912,3,1912,4],[1912,5,1912,6],[1914,0,1914,6],[1915,0,1915,6],[1940,1,1940,2],[1940,3,1940,4],[1940,5,1940,6],[1890,5,1895,6],[1891,1,1891,4],[1892,1,1892,4],[1893,1,1893,4],[1894,1,1894,4],[1882,1,1882,2],[1882,3,1882,4],[1882,5,1882,6],[1895,1,1895,4],[1899,1,1899,6],[1900,1,1900,6],[1917,0,1917,6],[1918,2,1918,4],[1919,1,1919,4],[1919,5,1924,6],[1920,1,1920,4],[1921,1,1921,4],[1922,1,1922,4],[1923,1,1923,4],[1924,1,1924,4],[1896,1,1896,4],[1897,1,1897,4],[1898,1,1898,4],[1886,0,1886,6],[1888,0,1888,6],[1889,2,1889,4],[1890,1,1890,4],[1869,1,1869,4],[1872,1,1872,6],[1883,1,1883,2],[1883,3,1883,4],[1883,5,1883,6],[1885,0,1885,6],[1832,1,1832,4],[1833,1,1833,4],[1856,0,1856,6],[1838,1,1838,4],[1839,1,1839,4],[1840,1,1840,4],[1841,1,1841,6],[1842,1,1842,6],[1843,1,1843,6],[1853,1,1853,2],[1853,3,1853,4],[1853,5,1853,6],[1854,1,1854,2],[1854,3,1854,4],[1854,5,1854,6],[1870,1,1870,6],[1871,1,1871,6],[1859,0,1859,6],[1860,2,1860,4],[1861,5,1866,6],[1857,0,1857,6],[1865,1,1865,4],[1866,1,1866,4],[1867,1,1867,4],[1868,1,1868,4],[1830,0,1830,6],[1831,2,1831,4],[1832,5,1837,6],[1834,1,1834,4],[1835,1,1835,4],[1836,1,1836,4],[1837,1,1837,4],[1755,1,1755,6],[1756,1,1756,6],[1766,1,1766,2],[1766,3,1766,4],[1766,5,1766,6],[1767,1,1767,2],[1767,3,1767,4],[1767,5,1767,6],[1769,0,1769,6],[1796,1,1796,2],[1796,3,1796,4],[1796,5,1796,6],[1798,0,1798,6],[1799,0,1799,6],[1824,1,1824,2],[1824,3,1824,4],[1824,5,1824,6],[1825,1,1825,2],[1825,3,1825,4],[1825,5,1825,6],[1827,0,1827,6],[1828,0,1828,6],[1598,0,1598,6],[1599,2,1599,4],[1600,5,1605,6],[1601,1,1601,4],[1602,1,1602,4],[1603,1,1603,4],[1604,1,1604,4],[1605,1,1605,4],[1606,1,1606,4],[1607,1,1607,4],[1608,1,1608,4],[1609,1,1609,6],[1621,1,1621,2],[1621,3,1621,4],[1621,5,1621,6],[1622,1,1622,2],[1622,3,1622,4],[1622,5,1622,6],[1535,1,1535,2],[1535,3,1535,4],[1535,5,1535,6],[1537,0,1537,6],[1538,0,1538,6],[1541,2,1541,4],[1542,1,1542,4],[1542,5,1547,6],[1543,1,1543,4],[1544,1,1544,4],[1569,0,1569,6],[1570,2,1570,4],[1571,1,1571,4],[1571,5,1576,6],[1572,1,1572,4],[1573,1,1573,4],[1574,1,1574,4],[1575,1,1575,4],[1576,1,1576,4],[1546,1,1546,4],[1547,1,1547,4],[1548,1,1548,4],[1549,1,1549,4],[1550,1,1550,4],[1551,1,1551,6],[1552,1,1552,6],[1553,1,1553,6],[1563,1,1563,2],[1563,3,1563,4],[1563,5,1563,6],[1564,1,1564,2],[1564,3,1564,4],[1521,1,1521,4],[1522,1,1522,6],[1523,1,1523,6],[1524,1,1524,6],[1534,1,1534,2],[1534,3,1534,4],[1534,5,1534,6],[1508,0,1508,6],[1513,1,1513,4],[1514,1,1514,4],[1515,1,1515,4],[1490,1,1490,4],[1491,1,1491,4],[1492,1,1492,4],[1493,1,1493,6],[1494,1,1494,6],[1495,1,1495,6],[1505,1,1505,2],[1505,3,1505,4],[1505,5,1505,6],[1506,1,1506,2],[1506,3,1506,4],[1518,1,1518,4],[1506,5,1506,6],[1509,0,1509,6],[1511,0,1511,6],[1512,2,1512,4],[1513,5,1518,6],[1519,1,1519,4],[1458,1,1458,4],[1459,1,1459,4],[1460,1,1460,4],[1426,1,1426,4],[1426,5,1431,6],[1427,1,1427,4],[1435,1,1435,6],[1482,0,1482,6],[1483,2,1483,4],[1484,1,1484,4],[1484,5,1489,6],[1485,1,1485,4],[1486,1,1486,4],[1487,1,1487,4],[1488,1,1488,4],[1489,1,1489,4],[1520,1,1520,4],[1479,0,1479,6],[1480,0,1480,6],[1462,1,1462,4],[1463,1,1463,4],[1464,1,1464,6],[1465,1,1465,6],[1466,1,1466,6],[1476,1,1476,2],[1476,3,1476,4],[1476,5,1476,6],[1477,1,1477,2],[1477,3,1477,4],[1477,5,1477,6],[1516,1,1516,4],[1517,1,1517,4],[1373,1,1373,4],[1374,1,1374,4],[1375,1,1375,4],[1345,1,1345,4],[1346,1,1346,4],[1347,1,1347,4],[1348,1,1348,6],[1349,1,1349,6],[1350,1,1350,6],[1360,1,1360,2],[1419,1,1419,2],[1419,3,1419,4],[1419,5,1419,6],[1421,0,1421,6],[1424,0,1424,6],[1425,2,1425,4],[1397,1,1397,4],[1398,1,1398,4],[1399,1,1399,4],[1360,3,1360,4],[1360,5,1360,6],[1361,1,1361,2],[1361,3,1361,4],[1392,0,1392,6],[1368,1,1368,4],[1369,1,1369,4],[1361,5,1361,6],[1363,0,1363,6],[1364,0,1364,6],[1367,2,1367,4],[1368,5,1373,6],[1366,0,1366,6],[1331,1,1331,2],[1331,3,1331,4],[1331,5,1331,6],[1332,1,1332,2],[1332,3,1332,4],[1332,5,1332,6],[1334,0,1334,6],[1335,0,1335,6],[1337,0,1337,6],[1338,2,1338,4],[1316,1,1316,4],[1339,5,1344,6],[1344,1,1344,4],[1339,1,1339,4],[1340,1,1340,4],[1341,1,1341,4],[1342,1,1342,4],[1343,1,1343,4],[1320,1,1320,6],[1321,1,1321,6],[1221,0,1221,6],[1222,2,1222,4],[1223,1,1223,4],[1223,5,1228,6],[1224,1,1224,4],[1231,1,1231,4],[1251,2,1251,4],[1252,1,1252,4],[1252,5,1257,6],[1253,1,1253,4],[1254,1,1254,4],[1255,1,1255,4],[1280,2,1280,4],[1281,1,1281,4],[1317,1,1317,4],[1318,1,1318,4],[1319,1,1319,6],[1274,3,1274,4],[1274,5,1274,6],[1276,0,1276,6],[1277,0,1277,6],[1279,0,1279,6],[1282,1,1282,4],[1283,1,1283,4],[1284,1,1284,4],[1285,1,1285,4],[1286,1,1286,4],[1245,1,1245,2],[1245,3,1245,4],[1245,5,1245,6],[1292,1,1292,6],[1302,1,1302,2],[1168,1,1168,4],[1169,1,1169,4],[1170,1,1170,4],[1171,1,1171,4],[1161,0,1161,6],[1189,0,1189,6],[1193,2,1193,4],[1194,1,1194,4],[1194,5,1199,6],[1203,1,1203,6],[1215,1,1215,2],[1215,3,1215,4],[1215,5,1215,6],[1205,1,1205,6],[1174,1,1174,6],[1192,0,1192,6],[1197,1,1197,4],[1198,1,1198,4],[1199,1,1199,4],[1200,1,1200,4],[1190,0,1190,6],[1195,1,1195,4],[1196,1,1196,4],[1204,1,1204,6],[1084,1,1084,4],[1085,1,1085,4],[1086,1,1086,4],[1087,1,1087,6],[1088,1,1088,6],[1089,1,1089,6],[1099,1,1099,2],[1099,3,1099,4],[1099,5,1099,6],[1100,1,1100,2],[1100,3,1100,4],[1100,5,1100,6],[1102,0,1102,6],[1103,0,1103,6],[1105,0,1105,6],[1106,2,1106,4],[1107,1,1107,4],[1107,5,1112,6],[1108,1,1108,4],[1109,1,1109,4],[1110,1,1110,4],[1111,1,1111,4],[1112,1,1112,4],[1070,1,1070,2],[1070,3,1070,4],[1070,5,1070,6],[1071,1,1071,2],[1071,3,1071,4],[1071,5,1071,6],[1073,0,1073,6],[1074,0,1074,6],[1076,0,1076,6],[1077,2,1077,4],[1078,1,1078,4],[1078,5,1083,6],[1079,1,1079,4],[1080,1,1080,4],[1081,1,1081,4],[1082,1,1082,4],[1083,1,1083,4],[971,1,971,6],[972,1,972,6],[970,1,970,4],[997,1,997,4],[998,1,998,4],[1000,1,1000,6],[1001,1,1001,6],[1002,1,1002,6],[1012,1,1012,2],[1012,3,1012,4],[1012,5,1012,6],[1013,1,1013,2],[1013,3,1013,4],[1013,5,1013,6],[1044,0,1044,6],[1045,0,1045,6],[995,1,995,4],[996,1,996,4],[973,1,973,6],[1041,1,1041,2],[1041,3,1041,4],[1041,5,1041,6],[1042,1,1042,2],[1042,3,1042,4],[1042,5,1042,6],[990,2,990,4],[991,5,996,6],[994,1,994,4],[999,1,999,4],[879,1,879,4],[884,1,884,6],[885,1,885,6],[886,1,886,6],[965,1,965,4],[925,1,925,2],[925,3,925,4],[925,5,925,6],[926,1,926,2],[926,3,926,4],[926,5,926,6],[929,0,929,6],[931,0,931,6],[932,2,932,4],[883,1,883,4],[896,1,896,2],[896,3,896,4],[896,5,896,6],[897,1,897,2],[897,3,897,4],[903,2,903,4],[904,5,909,6],[908,1,908,4],[909,1,909,4],[910,1,910,4],[911,1,911,4],[914,1,914,6],[915,1,915,6],[940,1,940,4],[942,1,942,6],[943,1,943,6],[935,1,935,4],[822,1,822,4],[823,1,823,4],[824,1,824,4],[825,1,825,4],[826,1,826,6],[827,1,827,6],[828,1,828,6],[838,1,838,2],[838,3,838,4],[838,5,838,6],[839,1,839,2],[839,3,839,4],[839,5,839,6],[842,0,842,6],[844,0,844,6],[841,0,841,6],[857,1,857,6],[845,2,845,4],[846,1,846,4],[847,1,847,4],[848,1,848,4],[849,1,849,4],[850,1,850,4],[851,1,851,4],[852,1,852,4],[853,1,853,4],[855,1,855,6],[856,1,856,6],[846,5,851,6],[854,1,854,4],[768,1,768,6],[769,1,769,6],[770,1,770,6],[780,1,780,2],[780,3,780,4],[780,5,780,6],[781,1,781,2],[781,3,781,4],[781,5,781,6],[783,0,783,6],[784,0,784,6],[786,0,786,6],[787,2,787,4],[788,1,788,4],[788,5,793,6],[789,1,789,4],[790,1,790,4],[791,1,791,4],[792,1,792,4],[793,1,793,4],[752,1,752,2],[752,3,752,4],[752,5,752,6],[754,0,754,6],[755,0,755,6],[757,0,757,6],[758,2,758,4],[759,1,759,4],[759,5,764,6],[760,1,760,4],[761,1,761,4],[762,1,762,4],[763,1,763,4],[764,1,764,4],[765,1,765,4],[766,1,766,4],[767,1,767,4],[665,1,665,2],[665,3,665,4],[665,5,665,6],[643,1,643,4],[751,1,751,2],[751,3,751,4],[751,5,751,6],[734,1,734,4],[739,1,739,6],[735,1,735,4],[736,1,736,4],[737,1,737,4],[738,1,738,4]],"merged_total":2315,"flags":["merged_cut"]}
[{"$f":"$I$4","v":"GOVT.SENIOR SECONDARY SCHOOL ------------,MASUDA(BEAWAR)"}]
[null,null,null,null,null,null,null,null,null,null,"fo|ky; dk uke fy[ks  ",null,null,null,null,null,null,null,null,null,null,null,null,null,null,null,"Session :: 2024-25"]
[null,null,null,null,null,null,null,null,null,null,null,null,null,null,null,null,null,null,null,null,null,null,null,null,null,null,"Session :: 2025-26"]
[null,null,null,null,null,null,null,null,"GOVT.SENIOR SECONDARY SCHOOL ------------,MASUDA(BEAWAR)",null,null,null,null,null,null,null,null,null,null,null,null,null,null,null,null,null,"Session :: 2026-27"]
["Sr.No.",1,{"$f":"$K$5","v":"Session :: 2024-25"},null,null,null,null,null,"l= pqusa&",null,"Session :: 2024-25",null,null,null,null,null,null,null,null,null,null,null,null,null,null,null,"Session :: 2027-28"]
["U Dise Code ::-",{"$f":"$M$11","v":"0 ---------------"},null,null,null,"Paste Here Latest Passport Size Photo of Student",null,null,"BY-","KAILASH CHANDRA SHARMA,TEACHER ,L-1",null,null,null,null,null,null,null,null,null,null,null,null,null,null,null,null,"Session :: 2028-29"]
["Name of Student ::-",{"$f":"VLOOKUP(B5,StuData,5,0)","v":"Anjna"},null,null,null,null,null,null,null,null,"GSSS JEEWANA,MASUDA,AJMER",null,null,null,null,null,null,null,null,null,null,null,null,1]
["Father's Name ::-",{"$f":"VLOOKUP(B5,StuData,6,0)","v":"Babu Singh"},null,null,null,null,null,null,"Mail",null,"Klsharma1971@gmail.com",null,null,null,null,null,null,null,null,null,null,null,null,2]
["Mother's Name ::-",{"$f":"VLOOKUP(B5,StuData,7,0)","v":"Lalita"},null,null,null,null,null,null,"My web."]
["Class ::-",{"$f":"VLOOKUP(B5,StuData,2,0)","v":2}]
["Scholar No. ::-",{"$f":"VLOOKUP(B5,StuData,3,0)","v":75},null,null,null,null,null,null,null,"ENTER U DISE CODE",null,null,"0 ---------------"]
["Class Roll No. ::-",{"$f":"VLOOKUP(B5,StuData,4,0)","v":0},null,null,null,null,null,null,"uksV&"," 'kkyk niZ.k ls student record download djds mls dkWih dj student record esa class ij special paste esa paste djsaA"]
["Date of Birth ::-",{"$f":"VLOOKUP(B5,StuData,8,0)","v":"2016-10-16"}]
["Date of Admission ::-",{"$f":"VLOOKUP(B5,StuData,9,0)","v":""}]
["Aadhar No. ::-",{"$f":"VLOOKUP(B5,StuData,10,0)","v":"XXXX6632"}]
["Mobile No. ::-",{"$f":"VLOOKUP(B5,StuData,11,0)","v":9461224515}]
["Address ::-",{"$f":"VLOOKUP(B5,StuData,12,0)","v":""}]
[]
["fo\"k;@xzsM","fgUnh","vxzsath","xf.kr","Ik;kZoj.k@foKku","lk-foKku","laLd`r"]
["vkadyu 1"]
["vkadyu 2"]
["vkadyu 3"]
["lesfdr vkadyu"]
[]
[]
[]
[]
["g- fo|kFkhZ","g- vfHkHkkod",null,"g- d{kk/;kid",null,"g- 'kkykiz/kku"]
[]
[{"$f":"$I$4","v":"GOVT.SENIOR SECONDARY SCHOOL ------------,MASUDA(BEAWAR)"}]
[]
[]
[]
["Sr.No.",2,{"$f":"$K$5","v":"Session :: 2024-25"}]
["U Dise Code ::-",{"$f":"$M$11","v":"0 ---------------"},null,null,null,"Paste Here Latest Passport Size Photo of Student"]
["Name of Student ::-",{"$f":"VLOOKUP(B34,StuData,5,0)","v":"Arjun"}]
["Father's Name ::-",{"$f":"VLOOKUP(B34,StuData,6,0)","v":"Pratap Singh Rawat"}]
["Mother's Name ::-",{"$f":"VLOOKUP(B34,StuData,7,0)","v":"Nandu Devi"}]
["Class ::-",{"$f":"VLOOKUP(B34,StuData,2,0)","v":2}]
["Scholar No. ::-",{"$f":"VLOOKUP(B34,StuData,3,0)","v":74}]
["Class Roll No. ::-",{"$f":"VLOOKUP(B34,StuData,4,0)","v":0}]
["Date of Birth ::-",{"$f":"VLOOKUP(B34,StuData,8,0)","v":"2016-06-24"}]
["Date of Admission ::-",{"$f":"VLOOKUP(B34,StuData,9,0)","v":""}]
["Aadhar No. ::-",{"$f":"VLOOKUP(B34,StuData,10,0)","v":""}]
["Mobile No. ::-",{"$f":"VLOOKUP(B34,StuData,11,0)","v":7620450653}]
["Address ::-",{"$f":"VLOOKUP(B34,StuData,12,0)","v":""}]
[]
["fo\"k;@xzsM","fgUnh","vxzsath","xf.kr","Ik;kZoj.k@foKku","lk-foKku","laLd`r"]
["vkadyu 1"]
["vkadyu 2"]
["vkadyu 3"]
["lesfdr vkadyu"]
[]
[]
[]
[]
["g- fo|kFkhZ","g- vfHkHkkod",null,"g- d{kk/;kid",null,"g- 'kkykiz/kku"]
[]
[{"$f":"$I$4","v":"GOVT.SENIOR SECONDARY SCHOOL ------------,MASUDA(BEAWAR)"}]
[]
[]
[]
["Sr.No.",3,{"$f":"$K$5","v":"Session :: 2024-25"}]
["U Dise Code ::-",{"$f":"$M$11","v":"0 ---------------"},null,null,null,"Paste Here Latest Passport Size Photo of Student"]
["Name of Student ::-",{"$f":"VLOOKUP(B63,StuData,5,0)","v":"Bhawana"}]
["Father's Name ::-",{"$f":"VLOOKUP(B63,StuData,6,0)","v":"Kailash Prajapat"}]
["Mother's Name ::-",{"$f":"VLOOKUP(B63,StuData,7,0)","v":"Rekha Devi"}]
["Class ::-",{"$f":"VLOOKUP(B63,StuData,2,0)","v":2}]
["Scholar No. ::-",{"$f":"VLOOKUP(B63,StuData,3,0)","v":70}]
["Class Roll No. ::-",{"$f":"VLOOKUP(B63,StuData,4,0)","v":0}]
["Date of Birth ::-",{"$f":"VLOOKUP(B63,StuData,8,0)","v":"2016-09-29"}]
["Date of Admission ::-",{"$f":"VLOOKUP(B63,StuData,9,0)","v":""}]
["Aadhar No. ::-",{"$f":"VLOOKUP(B63,StuData,10,0)","v":"XXXX3694"}]
["Mobile No. ::-",{"$f":"VLOOKUP(B63,StuData,11,0)","v":8955927264}]
["Address ::-",{"$f":"VLOOKUP(B63,StuData,12,0)","v":""}]
[]
["fo\"k;@xzsM","fgUnh","vxzsath","xf.kr","Ik;kZoj.k@foKku","lk-foKku","laLd`r"]
["vkadyu 1"]
["vkadyu 2"]
["vkadyu 3"]
["lesfdr vkadyu"]
[]
[]
[]
[]
["g- fo|kFkhZ","g- vfHkHkkod",null,"g- d{kk/;kid",null,"g- 'kkykiz/kku"]
[]
[{"$f":"$I$4","v":"GOVT.SENIOR SECONDARY SCHOOL ------------,MASUDA(BEAWAR)"}]
[]
[]
[]
["Sr.No.",4,{"$f":"$K$5","v":"Session :: 2024-25"}]
["U Dise Code ::-",{"$f":"$M$11","v":"0 ---------------"},null,null,null,"Paste Here Latest Passport Size Photo of Student"]
["Name of Student ::-",{"$f":"VLOOKUP(B92,StuData,5,0)","v":"Bhawna"}]
["Father's Name ::-",{"$f":"VLOOKUP(B92,StuData,6,0)","v":"Durga Singh"}]
["Mother's Name ::-",{"$f":"VLOOKUP(B92,StuData,7,0)","v":"Kamla"}]
["Class ::-",{"$f":"VLOOKUP(B92,StuData,2,0)","v":2}]
["Scholar No. ::-",{"$f":"VLOOKUP(B92,StuData,3,0)","v":72}]
["Class Roll No. ::-",{"$f":"VLOOKUP(B92,StuData,4,0)","v":0}]
["Date of Birth ::-",{"$f":"VLOOKUP(B92,StuData,8,0)","v":"2016-08-12"}]
["Date of Admission ::-",{"$f":"VLOOKUP(B92,StuData,9,0)","v":""}]
["Aadhar No. ::-",{"$f":"VLOOKUP(B92,StuData,10,0)","v":""}]
["Mobile No. ::-",{"$f":"VLOOKUP(B92,StuData,11,0)","v":7878967015}]
["Address ::-",{"$f":"VLOOKUP(B92,StuData,12,0)","v":""}]
[]
["fo\"k;@xzsM","fgUnh","vxzsath","xf.kr","Ik;kZoj.k@foKku","lk-foKku","laLd`r"]
["vkadyu 1"]
["vkadyu 2"]
["vkadyu 3"]
["lesfdr vkadyu"]
[]
[]
[]
[]
["g- fo|kFkhZ","g- vfHkHkkod",null,"g- d{kk/;kid",null,"g- 'kkykiz/kku"]
[]
[{"$f":"$I$4","v":"GOVT.SENIOR SECONDARY SCHOOL ------------,MASUDA(BEAWAR)"}]
[]
[]
[]
["Sr.No.",5,{"$f":"$K$5","v":"Session :: 2024-25"}]
["U Dise Code ::-",{"$f":"$M$11","v":"0 ---------------"},null,null,null,"Paste Here Latest Passport Size Photo of Student"]
["Name of Student ::-",{"$f":"VLOOKUP(B121,StuData,5,0)","v":"Krishna"}]
["Father's Name ::-",{"$f":"VLOOKUP(B121,StuData,6,0)","v":"Trilok Singh"}]
["Mother's Name ::-",{"$f":"VLOOKUP(B121,StuData,7,0)","v":"Sumitra"}]
["Class ::-",{"$f":"VLOOKUP(B121,StuData,2,0)","v":2}]
["Scholar No. ::-",{"$f":"VLOOKUP(B121,StuData,3,0)","v":67}]
["Class Roll No. ::-",{"$f":"VLOOKUP(B121,StuData,4,0)","v":0}]
["Date of Birth ::-",{"$f":"VLOOKUP(B121,StuData,8,0)","v":"2016-11-11"}]
["Date of Admission ::-",{"$f":"VLOOKUP(B121,StuData,9,0)","v":""}]
["Aadhar No. ::-",{"$f":"VLOOKUP(B121,StuData,10,0)","v":""}]
["Mobile No. ::-",{"$f":"VLOOKUP(B121,StuData,11,0)","v":9461224515}]
["Address ::-",{"$f":"VLOOKUP(B121,StuData,12,0)","v":""}]
[]
["fo\"k;@xzsM","fgUnh","vxzsath","xf.kr","Ik;kZoj.k@foKku","lk-foKku","laLd`r"]
["vkadyu 1"]
["vkadyu 2"]
["vkadyu 3"]
["lesfdr vkadyu"]
[]
[]
[]
[]
["g- fo|kFkhZ","g- vfHkHkkod",null,"g- d{kk/;kid",null,"g- 'kkykiz/kku"]
[]
[{"$f":"$I$4","v":"GOVT.SENIOR SECONDARY SCHOOL ------------,MASUDA(BEAWAR)"}]
[]
[]
[]
["Sr.No.",6,{"$f":"$K$5","v":"Session :: 2024-25"}]
["U Dise Code ::-",{"$f":"$M$11","v":"0 ---------------"},null,null,null,"Paste Here Latest Passport Size Photo of Student"]
["Name of Student ::-",{"$f":"VLOOKUP(B150,StuData,5,0)","v":"Naitik"}]
["Father's Name ::-",{"$f":"VLOOKUP(B150,StuData,6,0)","v":"Om Prakash"}]
["Mother's Name ::-",{"$f":"VLOOKUP(B150,StuData,7,0)","v":"Chanchal"}]
["Class ::-",{"$f":"VLOOKUP(B150,StuData,2,0)","v":2}]
["Scholar No. ::-",{"$f":"VLOOKUP(B150,StuData,3,0)","v":73}]
["Class Roll No. ::-",{"$f":"VLOOKUP(B150,StuData,4,0)","v":0}]
["Date of Birth ::-",{"$f":"VLOOKUP(B150,StuData,8,0)","v":"2017-05-12"}]
["Date of Admission ::-",{"$f":"VLOOKUP(B150,StuData,9,0)","v":""}]
["Aadhar No. ::-",{"$f":"VLOOKUP(B150,StuData,10,0)","v":"XXXX0552"}]
["Mobile No. ::-",{"$f":"VLOOKUP(B150,StuData,11,0)","v":9461224515}]
["Address ::-",{"$f":"VLOOKUP(B150,StuData,12,0)","v":""}]
[]
["fo\"k;@xzsM","fgUnh","vxzsath","xf.kr","Ik;kZoj.k@foKku","lk-foKku","laLd`r"]
["vkadyu 1"]
["vkadyu 2"]
["vkadyu 3"]
["lesfdr vkadyu"]
[]
[]
[]
[]
["g- fo|kFkhZ","g- vfHkHkkod",null,"g- d{kk/;kid",null,"g- 'kkykiz/kku"]
[]
[{"$f":"$I$4","v":"GOVT.SENIOR SECONDARY SCHOOL ------------,MASUDA(BEAWAR)"}]
[]
[]
[]
["Sr.No.",7,{"$f":"$K$5","v":"Session :: 2024-25"}]
["U Dise Code ::-",{"$f":"$M$11","v":"0 ---------------"},null,null,null,"Paste Here Latest Passport Size Photo of Student"]
["Name of Student ::-",{"$f":"VLOOKUP(B179,StuData,5,0)","v":"Niveeta Nath"}]
["Father's Name ::-",{"$f":"VLOOKUP(B179,StuData,6,0)","v":"Meva Nath"}]
["Mother's Name ::-",{"$f":"VLOOKUP(B179,StuData,7,0)","v":"Rekha Devi"}]
["Class ::-",{"$f":"VLOOKUP(B179,StuData,2,0)","v":2}]
["Scholar No. ::-",{"$f":"VLOOKUP(B179,StuData,3,0)","v":68}]
["Class Roll No. ::-",{"$f":"VLOOKUP(B179,StuData,4,0)","v":0}]
["Date of Birth ::-",{"$f":"VLOOKUP(B179,StuData,8,0)","v":"2017-04-14"}]
["Date of Admission ::-",{"$f":"VLOOKUP(B179,StuData,9,0)","v":""}]
["Aadhar No. ::-",{"$f":"VLOOKUP(B179,StuData,10,0)","v":"XXXX7695"}]
["Mobile No. ::-",{"$f":"VLOOKUP(B179,StuData,11,0)","v":8619334939}]
["Address ::-",{"$f":"VLOOKUP(B179,StuData,12,0)","v":""}]
[]
["fo\"k;@xzsM","fgUnh","vxzsath","xf.kr","Ik;kZoj.k@foKku","lk-foKku","laLd`r"]
["vkadyu 1"]
["vkadyu 2"]
["vkadyu 3"]
["lesfdr vkadyu"]
[]
[]
[]
[]
["g- fo|kFkhZ","g- vfHkHkkod",null,"g- d{kk/;kid",null,"g- 'kkykiz/kku"]
[]
[{"$f":"$I$4","v":"GOVT.SENIOR SECONDARY SCHOOL ------------,MASUDA(BEAWAR)"}]
[]
[]
[]
["Sr.No.",8,{"$f":"$K$5","v":"Session :: 2024-25"}]
["U Dise Code ::-",{"$f":"$M$11","v":"0 ---------------"},null,null,null,"Paste Here Latest Passport Size Photo of Student"]
["Name of Student ::-",{"$f":"VLOOKUP(B208,StuData,5,0)","v":"Raksha"}]
["Father's Name ::-",{"$f":"VLOOKUP(B208,StuData,6,0)","v":"Pukhraj Prajapat"}]
["Mother's Name ::-",{"$f":"VLOOKUP(B208,StuData,7,0)","v":"Ghani"}]
["Class ::-",{"$f":"VLOOKUP(B208,StuData,2,0)","v":2}]
["Scholar No. ::-",{"$f":"VLOOKUP(B208,StuData,3,0)","v":69}]
["Class Roll No. ::-",{"$f":"VLOOKUP(B208,StuData,4,0)","v":0}]
["Date of Birth ::-",{"$f":"VLOOKUP(B208,StuData,8,0)","v":"2016-08-18"}]
["Date of Admission ::-",{"$f":"VLOOKUP(B208,StuData,9,0)","v":""}]
["Aadhar No. ::-",{"$f":"VLOOKUP(B208,StuData,10,0)","v":"XXXX4742"}]
["Mobile No. ::-",{"$f":"VLOOKUP(B208,StuData,11,0)","v":9356576958}]
["Address ::-",{"$f":"VLOOKUP(B208,StuData,12,0)","v":""}]
[]
["fo\"k;@xzsM","fgUnh","vxzsath","xf.kr","Ik;kZoj.k@foKku","lk-foKku","laLd`r"]
["vkadyu 1"]
["vkadyu 2"]
["vkadyu 3"]
["lesfdr vkadyu"]
[]
[]
[]
[]
["g- fo|kFkhZ","g- vfHkHkkod",null,"g- d{kk/;kid",null,"g- 'kkykiz/kku"]
[]
[{"$f":"$I$4","v":"GOVT.SENIOR SECONDARY SCHOOL ------------,MASUDA(BEAWAR)"}]
[]
[]
[]
["Sr.No.",9,{"$f":"$K$5","v":"Session :: 2024-25"}]
["U Dise Code ::-",{"$f":"$M$11","v":"0 ---------------"},null,null,null,"Paste Here Latest Passport Size Photo of Student"]
["Name of Student ::-",{"$f":"VLOOKUP(B237,StuData,5,0)","v":"Sunil Singh"}]
["Father's Name ::-",{"$f":"VLOOKUP(B237,StuData,6,0)","v":"Gopal Singh Rawat"}]
["Mother's Name ::-",{"$f":"VLOOKUP(B237,StuData,7,0)","v":"Lalita"}]
["Class ::-",{"$f":"VLOOKUP(B237,StuData,2,0)","v":2}]
["Scholar No. ::-",{"$f":"VLOOKUP(B237,StuData,3,0)","v":71}]
["Class Roll No. ::-",{"$f":"VLOOKUP(B237,StuData,4,0)","v":0}]
["Date of Birth ::-",{"$f":"VLOOKUP(B237,StuData,8,0)","v":"2017-02-19"}]
["Date of Admission ::-",{"$f":"VLOOKUP(B237,StuData,9,0)","v":""}]
["Aadhar No. ::-",{"$f":"VLOOKUP(B237,StuData,10,0)","v":"XXXX5809"}]
["Mobile No. ::-",{"$f":"VLOOKUP(B237,StuData,11,0)","v":8619962981}]
["Address ::-",{"$f":"VLOOKUP(B237,StuData,12,0)","v":""}]
[]
["fo\"k;@xzsM","fgUnh","vxzsath","xf.kr","Ik;kZoj.k@foKku","lk-foKku","laLd`r"]
["vkadyu 1"]
["vkadyu 2"]
["vkadyu 3"]
["lesfdr vkadyu"]
[]
[]
[]
[]
["g- fo|kFkhZ","g- vfHkHkkod",null,"g- d{kk/;kid",null,"g- 'kkykiz/kku"]
[]
[{"$f":"$I$4","v":"GOVT.SENIOR SECONDARY SCHOOL ------------,MASUDA(BEAWAR)"}]
[]
[]
[]
["Sr.No.",10,{"$f":"$K$5","v":"Session :: 2024-25"}]
["U Dise Code ::-",{"$f":"$M$11","v":"0 ---------------"},null,null,null,"Paste Here Latest Passport Size Photo of Student"]
["Name of Student ::-",{"$f":"VLOOKUP(B266,StuData,5,0)","v":"Lalita"}]
["Father's Name ::-",{"$f":"VLOOKUP(B266,StuData,6,0)","v":"Kailash Prajapat"}]
["Mother's Name ::-",{"$f":"VLOOKUP(B266,StuData,7,0)","v":"Rekha Devi"}]
["Class ::-",{"$f":"VLOOKUP(B266,StuData,2,0)","v":3}]
["Scholar No. ::-",{"$f":"VLOOKUP(B266,StuData,3,0)","v":66}]
["Class Roll No. ::-",{"$f":"VLOOKUP(B266,StuData,4,0)","v":0}]
["Date of Birth ::-",{"$f":"VLOOKUP(B266,StuData,8,0)","v":"2015-06-14"}]
["Date of Admission ::-",{"$f":"VLOOKUP(B266,StuData,9,0)","v":""}]
["Aadhar No. ::-",{"$f":"VLOOKUP(B266,StuData,10,0)","v":"XXXX3304"}]
["Mobile No. ::-",{"$f":"VLOOKUP(B266,StuData,11,0)","v":9356576958}]
["Address ::-",{"$f":"VLOOKUP(B266,StuData,12,0)","v":"REECHHMAL,MASUDA,REECHHMAL,305631"}]
[]
["fo\"k;@xzsM","fgUnh","vxzsath","xf.kr","Ik;kZoj.k@foKku","lk-foKku","laLd`r"]
["vkadyu 1"]
["vkadyu 2"]
["vkadyu 3"]
["lesfdr vkadyu"]
[]
[]
[]
[]
["g- fo|kFkhZ","g- vfHkHkkod",null,"g- d{kk/;kid",null,"g- 'kkykiz/kku"]
[]
[{"$f":"$I$4","v":"GOVT.SENIOR SECONDARY SCHOOL ------------,MASUDA(BEAWAR)"}]
[]
[]
[]
["Sr.No.",11,{"$f":"$K$5","v":"Session :: 2024-25"}]
["U Dise Code ::-",{"$f":"$M$11","v":"0 ---------------"},null,null,null,"Paste Here Latest Passport Size Photo of Student"]
["Name of Student ::-",{"$f":"VLOOKUP(B295,StuData,5,0)","v":"Ashok Singh"}]
["Father's Name ::-",{"$f":"VLOOKUP(B295,StuData,6,0)","v":"Pratap Singh Rawat"}]
["Mother's Name ::-",{"$f":"VLOOKUP(B295,StuData,7,0)","v":"Nandu"}]
["Class ::-",{"$f":"VLOOKUP(B295,StuData,2,0)","v":4}]
["Scholar No. ::-",{"$f":"VLOOKUP(B295,StuData,3,0)","v":62}]
["Class Roll No. ::-",{"$f":"VLOOKUP(B295,StuData,4,0)","v":0}]
["Date of Birth ::-",{"$f":"VLOOKUP(B295,StuData,8,0)","v":"2015-07-01"}]
["Date of Admission ::-",{"$f":"VLOOKUP(B295,StuData,9,0)","v":""}]
["Aadhar No. ::-",{"$f":"VLOOKUP(B295,StuData,10,0)","v":"XXXX3136"}]
["Mobile No. ::-",{"$f":"VLOOKUP(B295,StuData,11,0)","v":9461224525}]
["Address ::-",{"$f":"VLOOKUP(B295,StuData,12,0)","v":"REECHHMAL,MASUDA,REECHHMAL,305631"}]
[]
["fo\"k;@xzsM","fgUnh","vxzsath","xf.kr","Ik;kZoj.k@foKku","lk-foKku","laLd`r"]
["vkadyu 1"]
["vkadyu 2"]
["vkadyu 3"]
["lesfdr vkadyu"]
[]
[]
[]
[]
["g- fo|kFkhZ","g- vfHkHkkod",null,"g- d{kk/;kid",null,"g- 'kkykiz/kku"]
[]
[{"$f":"$I$4","v":"GOVT.SENIOR SECONDARY SCHOOL ------------,MASUDA(BEAWAR)"}]
[]
[]
[]
["Sr.No.",12,{"$f":"$K$5","v":"Session :: 2024-25"}]
["U Dise Code ::-",{"$f":"$M$11","v":"0 ---------------"},null,null,null,"Paste Here Latest Passport Size Photo of Student"]
["Name of Student ::-",{"$f":"VLOOKUP(B324,StuData,5,0)","v":"Komal"}]
["Father's Name ::-",{"$f":"VLOOKUP(B324,StuData,6,0)","v":"Prabhu Singh"}]
["Mother's Name ::-",{"$f":"VLOOKUP(B324,StuData,7,0)","v":"Rekha"}]
["Class ::-",{"$f":"VLOOKUP(B324,StuData,2,0)","v":4}]
["Scholar No. ::-",{"$f":"VLOOKUP(B324,StuData,3,0)","v":63}]
["Class Roll No. ::-",{"$f":"VLOOKUP(B324,StuData,4,0)","v":0}]
["Date of Birth ::-",{"$f":"VLOOKUP(B324,StuData,8,0)","v":"2015-05-21"}]
["Date of Admission ::-",{"$f":"VLOOKUP(B324,StuData,9,0)","v":""}]
["Aadhar No. ::-",{"$f":"VLOOKUP(B324,StuData,10,0)","v":"XXXX3653"}]
["Mobile No. ::-",{"$f":"VLOOKUP(B324,StuData,11,0)","v":9461224515}]
["Address ::-",{"$f":"VLOOKUP(B324,StuData,12,0)","v":"REECHHMAL,MASUDA,REECHHMAL,305631"}]
[]
["fo\"k;@xzsM","fgUnh","vxzsath","xf.kr","Ik;kZoj.k@foKku","lk-foKku","laLd`r"]
["vkadyu 1"]
["vkadyu 2"]
["vkadyu 3"]
["lesfdr vkadyu"]
[]
[]
[]
[]
["g- fo|kFkhZ","g- vfHkHkkod",null,"g- d{kk/;kid",null,"g- 'kkykiz/kku"]
[]
[{"$f":"$I$4","v":"GOVT.SENIOR SECONDARY SCHOOL ------------,MASUDA(BEAWAR)"}]
[]
[]
[]
["Sr.No.",13,{"$f":"$K$5","v":"Session :: 2024-25"}]
["U Dise Code ::-",{"$f":"$M$11","v":"0 ---------------"},null,null,null,"Paste Here Latest Passport Size Photo of Student"]
["Name of Student ::-",{"$f":"VLOOKUP(B353,StuData,5,0)","v":"MAMTA"}]
["Father's Name ::-",{"$f":"VLOOKUP(B353,StuData,6,0)","v":"RAMESH SINGH"}]
["Mother's Name ::-",{"$f":"VLOOKUP(B353,StuData,7,0)","v":"SUMITRA"}]
["Class ::-",{"$f":"VLOOKUP(B353,StuData,2,0)","v":5}]
["Scholar No. ::-",{"$f":"VLOOKUP(B353,StuData,3,0)","v":56}]
["Class Roll No. ::-",{"$f":"VLOOKUP(B353,StuData,4,0)","v":0}]
["Date of Birth ::-",{"$f":"VLOOKUP(B353,StuData,8,0)","v":"2013-01-01"}]
["Date of Admission ::-",{"$f":"VLOOKUP(B353,StuData,9,0)","v":""}]
["Aadhar No. ::-",{"$f":"VLOOKUP(B353,StuData,10,0)","v":"XXXX3655"}]
["Mobile No. ::-",{"$f":"VLOOKUP(B353,StuData,11,0)","v":9461224515}]
["Address ::-",{"$f":"VLOOKUP(B353,StuData,12,0)","v":"REECHHMAL,MASUDA,REECHHMAL,305631"}]
[]
["fo\"k;@xzsM","fgUnh","vxzsath","xf.kr","Ik;kZoj.k@foKku","lk-foKku","laLd`r"]
["vkadyu 1"]
["vkadyu 2"]
["vkadyu 3"]
["lesfdr vkadyu"]
[]
[]
[]
[]
["g- fo|kFkhZ","g- vfHkHkkod",null,"g- d{kk/;kid",null,"g- 'kkykiz/kku"]
[]
[{"$f":"$I$4","v":"GOVT.SENIOR SECONDARY SCHOOL ------------,MASUDA(BEAWAR)"}]
[]
[]
[]
["Sr.No.",14,{"$f":"$K$5","v":"Session :: 2024-25"}]
["U Dise Code ::-",{"$f":"$M$11","v":"0 ---------------"},null,null,null,"Paste Here Latest Passport Size Photo of Student"]
["Name of Student ::-",{"$f":"VLOOKUP(B382,StuData,5,0)","v":"Sanju Rawat"}]
["Father's Name ::-",{"$f":"VLOOKUP(B382,StuData,6,0)","v":"Bhanwar Singh Rawat"}]
["Mother's Name ::-",{"$f":"VLOOKUP(B382,StuData,7,0)","v":"Laxmi Rawat"}]
["Class ::-",{"$f":"VLOOKUP(B382,StuData,2,0)","v":5}]
["Scholar No. ::-",{"$f":"VLOOKUP(B382,StuData,3,0)","v":57}]
["Class Roll No. ::-",{"$f":"VLOOKUP(B382,StuData,4,0)","v":0}]
["Date of Birth ::-",{"$f":"VLOOKUP(B382,StuData,8,0)","v":"2013-07-01"}]
["Date of Admission ::-",{"$f":"VLOOKUP(B382,StuData,9,0)","v":""}]
["Aadhar No. ::-",{"$f":"VLOOKUP(B382,StuData,10,0)","v":""}]
["Mobile No. ::-",{"$f":"VLOOKUP(B382,StuData,11,0)","v":9461224515}]
["Address ::-",{"$f":"VLOOKUP(B382,StuData,12,0)","v":"REECHHMAL,MASUDA,REECHHMAL,305631"}]
[]
["fo\"k;@xzsM","fgUnh","vxzsath","xf.kr","Ik;kZoj.k@foKku","lk-foKku","laLd`r"]
["vkadyu 1"]
["vkadyu 2"]
["vkadyu 3"]
["lesfdr vkadyu"]
[]
[]
[]
[]
["g- fo|kFkhZ","g- vfHkHkkod",null,"g- d{kk/;kid",null,"g- 'kkykiz/kku"]
[]
[{"$f":"$I$4","v":"GOVT.SENIOR SECONDARY SCHOOL ------------,MASUDA(BEAWAR)"}]
[]
[]
[]
["Sr.No.",15,{"$f":"$K$5","v":"Session :: 2024-25"}]
["U Dise Code ::-",{"$f":"$M$11","v":"0 ---------------"},null,null,null,"Paste Here Latest Passport Size Photo of Student"]
["Name of Student ::-",{"$f":"VLOOKUP(B411,StuData,5,0)","v":"Umesh Nath"}]
["Father's Name ::-",{"$f":"VLOOKUP(B411,StuData,6,0)","v":"Bhairu Nath"}]
["Mother's Name ::-",{"$f":"VLOOKUP(B411,StuData,7,0)","v":"Chandi Devi"}]
["Class ::-",{"$f":"VLOOKUP(B411,StuData,2,0)","v":5}]
["Scholar No. ::-",{"$f":"VLOOKUP(B411,StuData,3,0)","v":76}]
["Class Roll No. ::-",{"$f":"VLOOKUP(B411,StuData,4,0)","v":0}]
["Date of Birth ::-",{"$f":"VLOOKUP(B411,StuData,8,0)","v":"2013-08-28"}]
["Date of Admission ::-",{"$f":"VLOOKUP(B411,StuData,9,0)","v":""}]
["Aadhar No. ::-",{"$f":"VLOOKUP(B411,StuData,10,0)","v":"XXXX0504"}]
["Mobile No. ::-",{"$f":"VLOOKUP(B411,StuData,11,0)","v":9772880638}]
["Address ::-",{"$f":"VLOOKUP(B411,StuData,12,0)","v":""}]
[]
["fo\"k;@xzsM","fgUnh","vxzsath","xf.kr","Ik;kZoj.k@foKku","lk-foKku","laLd`r"]
["vkadyu 1"]
["vkadyu 2"]
["vkadyu 3"]
["lesfdr vkadyu"]
[]
[]
[]
[]
["g- fo|kFkhZ","g- vfHkHkkod",null,"g- d{kk/;kid",null,"g- 'kkykiz/kku"]
[]
[{"$f":"$I$4","v":"GOVT.SENIOR SECONDARY SCHOOL ------------,MASUDA(BEAWAR)"}]
[]
[]
[]
["Sr.No.",16,{"$f":"$K$5","v":"Session :: 2024-25"}]
["U Dise Code ::-",{"$f":"$M$11","v":"0 ---------------"},null,null,null,"Paste Here Latest Passport Size Photo of Student"]
["Name of Student ::-",{"$f":"VLOOKUP(B440,StuData,5,0)","v":"Virat Nath"}]
["Father's Name ::-",{"$f":"VLOOKUP(B440,StuData,6,0)","v":"Meva Nath"}]
["Mother's Name ::-",{"$f":"VLOOKUP(B440,StuData,7,0)","v":"Rekha Devi"}]
["Class ::-",{"$f":"VLOOKUP(B440,StuData,2,0)","v":5}]
["Scholar No. ::-",{"$f":"VLOOKUP(B440,StuData,3,0)","v":60}]
["Class Roll No. ::-",{"$f":"VLOOKUP(B440,StuData,4,0)","v":0}]
["Date of Birth ::-",{"$f":"VLOOKUP(B440,StuData,8,0)","v":"2014-08-24"}]
["Date of Admission ::-",{"$f":"VLOOKUP(B440,StuData,9,0)","v":""}]
["Aadhar No. ::-",{"$f":"VLOOKUP(B440,StuData,10,0)","v":"XXXX3506"}]
["Mobile No. ::-",{"$f":"VLOOKUP(B440,StuData,11,0)","v":9921788115}]
["Address ::-",{"$f":"VLOOKUP(B440,StuData,12,0)","v":"REECHHMAL,MASUDA,REECHHMAL,305631"}]
[]
["fo\"k;@xzsM","fgUnh","vxzsath","xf.kr","Ik;kZoj.k@foKku","lk-foKku","laLd`r"]
["vkadyu 1"]
["vkadyu 2"]
["vkadyu 3"]
["lesfdr vkadyu"]
[]
[]
[]
[]
["g- fo|kFkhZ","g- vfHkHkkod",null,"g- d{kk/;kid",null,"g- 'kkykiz/kku"]
[]
[{"$f":"$I$4","v":"GOVT.SENIOR SECONDARY SCHOOL ------------,MASUDA(BEAWAR)"}]
[]
[]
[]
["Sr.No.",17,{"$f":"$K$5","v":"Session :: 2024-25"}]
["U Dise Code ::-",{"$f":"$M$11","v":"0 ---------------"},null,null,null,"Paste Here Latest Passport Size Photo of Student"]
["Name of Student ::-",{"$f":"VLOOKUP(B469,StuData,5,0)","v":{"$error":"#N/A"}}]
["Father's Name ::-",{"$f":"VLOOKUP(B469,StuData,6,0)","v":{"$error":"#N/A"}}]
["Mother's Name ::-",{"$f":"VLOOKUP(B469,StuData,7,0)","v":{"$error":"#N/A"}}]
["Class ::-",{"$f":"VLOOKUP(B469,StuData,2,0)","v":{"$error":"#N/A"}}]
["Scholar No. ::-",{"$f":"VLOOKUP(B469,StuData,3,0)","v":{"$error":"#N/A"}}]
["Class Roll No. ::-",{"$f":"VLOOKUP(B469,StuData,4,0)","v":{"$error":"#N/A"}}]
["Date of Birth ::-",{"$f":"VLOOKUP(B469,StuData,8,0)","v":{"$error":"#N/A"}}]
["Date of Admission ::-",{"$f":"VLOOKUP(B469,StuData,9,0)","v":{"$error":"#N/A"}}]
["Aadhar No. ::-",{"$f":"VLOOKUP(B469,StuData,10,0)","v":{"$error":"#N/A"}}]
["Mobile No. ::-",{"$f":"VLOOKUP(B469,StuData,11,0)","v":{"$error":"#N/A"}}]
["Address ::-",{"$f":"VLOOKUP(B469,StuData,12,0)","v":{"$error":"#N/A"}}]
[]
["fo\"k;@xzsM","fgUnh","vxzsath","xf.kr","Ik;kZoj.k@foKku","lk-foKku","laLd`r"]
["vkadyu 1"]
["vkadyu 2"]
["vkadyu 3"]
["lesfdr vkadyu"]
[]
[]
[]
[]
["g- fo|kFkhZ","g- vfHkHkkod",null,"g- d{kk/;kid",null,"g- 'kkykiz/kku"]
[]
[{"$f":"$I$4","v":"GOVT.SENIOR SECONDARY SCHOOL ------------,MASUDA(BEAWAR)"}]
[]
[]
[]
["Sr.No.",18,{"$f":"$K$5","v":"Session :: 2024-25"}]
["U Dise Code ::-",{"$f":"$M$11","v":"0 ---------------"},null,null,null,"Paste Here Latest Passport Size Photo of Student"]
["Name of Student ::-",{"$f":"VLOOKUP(B498,StuData,5,0)","v":{"$error":"#N/A"}}]
["Father's Name ::-",{"$f":"VLOOKUP(B498,StuData,6,0)","v":{"$error":"#N/A"}}]
["Mother's Name ::-",{"$f":"VLOOKUP(B498,StuData,7,0)","v":{"$error":"#N/A"}}]
["Class ::-",{"$f":"VLOOKUP(B498,StuData,2,0)","v":{"$error":"#N/A"}}]
["Scholar No. ::-",{"$f":"VLOOKUP(B498,StuData,3,0)","v":{"$error":"#N/A"}}]
["Class Roll No. ::-",{"$f":"VLOOKUP(B498,StuData,4,0)","v":{"$error":"#N/A"}}]
["Date of Birth ::-",{"$f":"VLOOKUP(B498,StuData,8,0)","v":{"$error":"#N/A"}}]
["Date of Admission ::-",{"$f":"VLOOKUP(B498,StuData,9,0)","v":{"$error":"#N/A"}}]
["Aadhar No. ::-",{"$f":"VLOOKUP(B498,StuData,10,0)","v":{"$error":"#N/A"}}]
["Mobile No. ::-",{"$f":"VLOOKUP(B498,StuData,11,0)","v":{"$error":"#N/A"}}]
["Address ::-",{"$f":"VLOOKUP(B498,StuData,12,0)","v":{"$error":"#N/A"}}]
[]
["fo\"k;@xzsM","fgUnh","vxzsath","xf.kr","Ik;kZoj.k@foKku","lk-foKku","laLd`r"]
["vkadyu 1"]
["vkadyu 2"]
["vkadyu 3"]
["lesfdr vkadyu"]
[]
[]
[]
[]
["g- fo|kFkhZ","g- vfHkHkkod",null,"g- d{kk/;kid",null,"g- 'kkykiz/kku"]
[]
[{"$f":"$I$4","v":"GOVT.SENIOR SECONDARY SCHOOL ------------,MASUDA(BEAWAR)"}]
[]
[]
[]
["Sr.No.",19,{"$f":"$K$5","v":"Session :: 2024-25"}]
["U Dise Code ::-",{"$f":"$M$11","v":"0 ---------------"},null,null,null,"Paste Here Latest Passport Size Photo of Student"]
["Name of Student ::-",{"$f":"VLOOKUP(B527,StuData,5,0)","v":{"$error":"#N/A"}}]
["Father's Name ::-",{"$f":"VLOOKUP(B527,StuData,6,0)","v":{"$error":"#N/A"}}]
["Mother's Name ::-",{"$f":"VLOOKUP(B527,StuData,7,0)","v":{"$error":"#N/A"}}]
["Class ::-",{"$f":"VLOOKUP(B527,StuData,2,0)","v":{"$error":"#N/A"}}]
["Scholar No. ::-",{"$f":"VLOOKUP(B527,StuData,3,0)","v":{"$error":"#N/A"}}]
["Class Roll No. ::-",{"$f":"VLOOKUP(B527,StuData,4,0)","v":{"$error":"#N/A"}}]
["Date of Birth ::-",{"$f":"VLOOKUP(B527,StuData,8,0)","v":{"$error":"#N/A"}}]
["Date of Admission ::-",{"$f":"VLOOKUP(B527,StuData,9,0)","v":{"$error":"#N/A"}}]
["Aadhar No. ::-",{"$f":"VLOOKUP(B527,StuData,10,0)","v":{"$error":"#N/A"}}]
["Mobile No. ::-",{"$f":"VLOOKUP(B527,StuData,11,0)","v":{"$error":"#N/A"}}]
["Address ::-",{"$f":"VLOOKUP(B527,StuData,12,0)","v":{"$error":"#N/A"}}]
[]
["fo\"k;@xzsM","fgUnh","vxzsath","xf.kr","Ik;kZoj.k@foKku","lk-foKku","laLd`r"]
["vkadyu 1"]
["vkadyu 2"]
["vkadyu 3"]
["lesfdr vkadyu"]
[]
[]
[]
[]
["g- fo|kFkhZ","g- vfHkHkkod",null,"g- d{kk/;kid",null,"g- 'kkykiz/kku"]
[]
[{"$f":"$I$4","v":"GOVT.SENIOR SECONDARY SCHOOL ------------,MASUDA(BEAWAR)"}]
[]
[]
[]
["Sr.No.",20,{"$f":"$K$5","v":"Session :: 2024-25"}]
["U Dise Code ::-",{"$f":"$M$11","v":"0 ---------------"},null,null,null,"Paste Here Latest Passport Size Photo of Student"]
["Name of Student ::-",{"$f":"VLOOKUP(B556,StuData,5,0)","v":{"$error":"#N/A"}}]
["Father's Name ::-",{"$f":"VLOOKUP(B556,StuData,6,0)","v":{"$error":"#N/A"}}]
["Mother's Name ::-",{"$f":"VLOOKUP(B556,StuData,7,0)","v":{"$error":"#N/A"}}]
["Class ::-",{"$f":"VLOOKUP(B556,StuData,2,0)","v":{"$error":"#N/A"}}]
["Scholar No. ::-",{"$f":"VLOOKUP(B556,StuData,3,0)","v":{"$error":"#N/A"}}]
["Class Roll No. ::-",{"$f":"VLOOKUP(B556,StuData,4,0)","v":{"$error":"#N/A"}}]
["Date of Birth ::-",{"$f":"VLOOKUP(B556,StuData,8,0)","v":{"$error":"#N/A"}}]
["Date of Admission ::-",{"$f":"VLOOKUP(B556,StuData,9,0)","v":{"$error":"#N/A"}}]
["Aadhar No. ::-",{"$f":"VLOOKUP(B556,StuData,10,0)","v":{"$error":"#N/A"}}]
["Mobile No. ::-",{"$f":"VLOOKUP(B556,StuData,11,0)","v":{"$error":"#N/A"}}]
["Address ::-",{"$f":"VLOOKUP(B556,StuData,12,0)","v":{"$error":"#N/A"}}]
[]
["fo\"k;@xzsM","fgUnh","vxzsath","xf.kr","Ik;kZoj.k@foKku","lk-foKku","laLd`r"]
["vkadyu 1"]
["vkadyu 2"]
["vkadyu 3"]
["lesfdr vkadyu"]
[]
[]
[]
[]
["g- fo|kFkhZ","g- vfHkHkkod",null,"g- d{kk/;kid",null,"g- 'kkykiz/kku"]
[]
[{"$f":"$I$4","v":"GOVT.SENIOR SECONDARY SCHOOL ------------,MASUDA(BEAWAR)"}]
[]
[]
[]
["Sr.No.",21,{"$f":"$K$5","v":"Session :: 2024-25"}]
["U Dise Code ::-",{"$f":"$M$11","v":"0 ---------------"},null,null,null,"Paste Here Latest Passport Size Photo of Student"]
["Name of Student ::-",{"$f":"VLOOKUP(B585,StuData,5,0)","v":{"$error":"#N/A"}}]
["Father's Name ::-",{"$f":"VLOOKUP(B585,StuData,6,0)","v":{"$error":"#N/A"}}]
["Mother's Name ::-",{"$f":"VLOOKUP(B585,StuData,7,0)","v":{"$error":"#N/A"}}]
["Class ::-",{"$f":"VLOOKUP(B585,StuData,2,0)","v":{"$error":"#N/A"}}]
["Scholar No. ::-",{"$f":"VLOOKUP(B585,StuData,3,0)","v":{"$error":"#N/A"}}]
["Class Roll No. ::-",{"$f":"VLOOKUP(B585,StuData,4,0)","v":{"$error":"#N/A"}}]
["Date of Birth ::-",{"$f":"VLOOKUP(B585,StuData,8,0)","v":{"$error":"#N/A"}}]
["Date of Admission ::-",{"$f":"VLOOKUP(B585,StuData,9,0)","v":{"$error":"#N/A"}}]
["Aadhar No. ::-",{"$f":"VLOOKUP(B585,StuData,10,0)","v":{"$error":"#N/A"}}]
["Mobile No. ::-",{"$f":"VLOOKUP(B585,StuData,11,0)","v":{"$error":"#N/A"}}]
["Address ::-",{"$f":"VLOOKUP(B585,StuData,12,0)","v":{"$error":"#N/A"}}]
[]
["fo\"k;@xzsM","fgUnh","vxzsath","xf.kr","Ik;kZoj.k@foKku","lk-foKku","laLd`r"]
["vkadyu 1"]
["vkadyu 2"]
["vkadyu 3"]
["lesfdr vkadyu"]
[]
[]
[]
[]
["g- fo|kFkhZ","g- vfHkHkkod",null,"g- d{kk/;kid",null,"g- 'kkykiz/kku"]
[]
[{"$f":"$I$4","v":"GOVT.SENIOR SECONDARY SCHOOL ------------,MASUDA(BEAWAR)"}]
[]
[]
[]
["Sr.No.",22,{"$f":"$K$5","v":"Session :: 2024-25"}]
["U Dise Code ::-",{"$f":"$M$11","v":"0 ---------------"},null,null,null,"Paste Here Latest Passport Size Photo of Student"]
["Name of Student ::-",{"$f":"VLOOKUP(B614,StuData,5,0)","v":{"$error":"#N/A"}}]
["Father's Name ::-",{"$f":"VLOOKUP(B614,StuData,6,0)","v":{"$error":"#N/A"}}]
["Mother's Name ::-",{"$f":"VLOOKUP(B614,StuData,7,0)","v":{"$error":"#N/A"}}]
["Class ::-",{"$f":"VLOOKUP(B614,StuData,2,0)","v":{"$error":"#N/A"}}]
["Scholar No. ::-",{"$f":"VLOOKUP(B614,StuData,3,0)","v":{"$error":"#N/A"}}]
["Class Roll No. ::-",{"$f":"VLOOKUP(B614,StuData,4,0)","v":{"$error":"#N/A"}}]
["Date of Birth ::-",{"$f":"VLOOKUP(B614,StuData,8,0)","v":{"$error":"#N/A"}}]
["Date of Admission ::-",{"$f":"VLOOKUP(B614,StuData,9,0)","v":{"$error":"#N/A"}}]
["Aadhar No. ::-",{"$f":"VLOOKUP(B614,StuData,10,0)","v":{"$error":"#N/A"}}]
["Mobile No. ::-",{"$f":"VLOOKUP(B614,StuData,11,0)","v":{"$error":"#N/A"}}]
["Address ::-",{"$f":"VLOOKUP(B614,StuData,12,0)","v":{"$error":"#N/A"}}]
[]
["fo\"k;@xzsM","fgUnh","vxzsath","xf.kr","Ik;kZoj.k@foKku","lk-foKku","laLd`r"]
["vkadyu 1"]
["vkadyu 2"]
["vkadyu 3"]
["lesfdr vkadyu"]
[]
[]
[]
[]
["g- fo|kFkhZ","g- vfHkHkkod",null,"g- d{kk/;kid",null,"g- 'kkykiz/kku"]
[]
[{"$f":"$I$4","v":"GOVT.SENIOR SECONDARY SCHOOL ------------,MASUDA(BEAWAR)"}]
[]
[]
[]
["Sr.No.",23,{"$f":"$K$5","v":"Session :: 2024-25"}]
["U Dise Code ::-",{"$f":"$M$11","v":"0 ---------------"},null,null,null,"Paste Here Latest Passport Size Photo of Student"]
["Name of Student ::-",{"$f":"VLOOKUP(B643,StuData,5,0)","v":{"$error":"#N/A"}}]
["Father's Name ::-",{"$f":"VLOOKUP(B643,StuData,6,0)","v":{"$error":"#N/A"}}]
["Mother's Name ::-",{"$f":"VLOOKUP(B643,StuData,7,0)","v":{"$error":"#N/A"}}]
["Class ::-",{"$f":"VLOOKUP(B643,StuData,2,0)","v":{"$error":"#N/A"}}]
["Scholar No. ::-",{"$f":"VLOOKUP(B643,StuData,3,0)","v":{"$error":"#N/A"}}]
["Class Roll No. ::-",{"$f":"VLOOKUP(B643,StuData,4,0)","v":{"$error":"#N/A"}}]
["Date of Birth ::-",{"$f":"VLOOKUP(B643,StuData,8,0)","v":{"$error":"#N/A"}}]
["Date of Admission ::-",{"$f":"VLOOKUP(B643,StuData,9,0)","v":{"$error":"#N/A"}}]
["Aadhar No. ::-",{"$f":"VLOOKUP(B643,StuData,10,0)","v":{"$error":"#N/A"}}]
["Mobile No. ::-",{"$f":"VLOOKUP(B643,StuData,11,0)","v":{"$error":"#N/A"}}]
["Address ::-",{"$f":"VLOOKUP(B643,StuData,12,0)","v":{"$error":"#N/A"}}]
[]
["fo\"k;@xzsM","fgUnh","vxzsath","xf.kr","Ik;kZoj.k@foKku","lk-foKku","laLd`r"]
["vkadyu 1"]
["vkadyu 2"]
["vkadyu 3"]
["lesfdr vkadyu"]
[]
[]
[]
[]
["g- fo|kFkhZ","g- vfHkHkkod",null,"g- d{kk/;kid",null,"g- 'kkykiz/kku"]
[]
[{"$f":"$I$4","v":"GOVT.SENIOR SECONDARY SCHOOL ------------,MASUDA(BEAWAR)"}]
[]
[]
[]
["Sr.No.",24,{"$f":"$K$5","v":"Session :: 2024-25"}]
["U Dise Code ::-",{"$f":"$M$11","v":"0 ---------------"},null,null,null,"Paste Here Latest Passport Size Photo of Student"]
["Name of Student ::-",{"$f":"VLOOKUP(B672,StuData,5,0)","v":{"$error":"#N/A"}}]
["Father's Name ::-",{"$f":"VLOOKUP(B672,StuData,6,0)","v":{"$error":"#N/A"}}]
["Mother's Name ::-",{"$f":"VLOOKUP(B672,StuData,7,0)","v":{"$error":"#N/A"}}]
["Class ::-",{"$f":"VLOOKUP(B672,StuData,2,0)","v":{"$error":"#N/A"}}]
["Scholar No. ::-",{"$f":"VLOOKUP(B672,StuData,3,0)","v":{"$error":"#N/A"}}]
["Class Roll No. ::-",{"$f":"VLOOKUP(B672,StuData,4,0)","v":{"$error":"#N/A"}}]
["Date of Birth ::-",{"$f":"VLOOKUP(B672,StuData,8,0)","v":{"$error":"#N/A"}}]
["Date of Admission ::-",{"$f":"VLOOKUP(B672,StuData,9,0)","v":{"$error":"#N/A"}}]
["Aadhar No. ::-",{"$f":"VLOOKUP(B672,StuData,10,0)","v":{"$error":"#N/A"}}]
["Mobile No. ::-",{"$f":"VLOOKUP(B672,StuData,11,0)","v":{"$error":"#N/A"}}]
["Address ::-",{"$f":"VLOOKUP(B672,StuData,12,0)","v":{"$error":"#N/A"}}]
[]
["fo\"k;@xzsM","fgUnh","vxzsath","xf.kr","Ik;kZoj.k@foKku","lk-foKku","laLd`r"]
["vkadyu 1"]
["vkadyu 2"]
["vkadyu 3"]
["lesfdr vkadyu"]
[]
[]
[]
[]
["g- fo|kFkhZ","g- vfHkHkkod",null,"g- d{kk/;kid",null,"g- 'kkykiz/kku"]
[]
[{"$f":"$I$4","v":"GOVT.SENIOR SECONDARY SCHOOL ------------,MASUDA(BEAWAR)"}]
[]
[]
[]
["Sr.No.",25,{"$f":"$K$5","v":"Session :: 2024-25"}]
["U Dise Code ::-",{"$f":"$M$11","v":"0 ---------------"},null,null,null,"Paste Here Latest Passport Size Photo of Student"]
["Name of Student ::-",{"$f":"VLOOKUP(B701,StuData,5,0)","v":{"$error":"#N/A"}}]
["Father's Name ::-",{"$f":"VLOOKUP(B701,StuData,6,0)","v":{"$error":"#N/A"}}]
["Mother's Name ::-",{"$f":"VLOOKUP(B701,StuData,7,0)","v":{"$error":"#N/A"}}]
["Class ::-",{"$f":"VLOOKUP(B701,StuData,2,0)","v":{"$error":"#N/A"}}]
["Scholar No. ::-",{"$f":"VLOOKUP(B701,StuData,3,0)","v":{"$error":"#N/A"}}]
["Class Roll No. ::-",{"$f":"VLOOKUP(B701,StuData,4,0)","v":{"$error":"#N/A"}}]
["Date of Birth ::-",{"$f":"VLOOKUP(B701,StuData,8,0)","v":{"$error":"#N/A"}}]
["Date of Admission ::-",{"$f":"VLOOKUP(B701,StuData,9,0)","v":{"$error":"#N/A"}}]
["Aadhar No. ::-",{"$f":"VLOOKUP(B701,StuData,10,0)","v":{"$error":"#N/A"}}]
["Mobile No. ::-",{"$f":"VLOOKUP(B701,StuData,11,0)","v":{"$error":"#N/A"}}]
["Address ::-",{"$f":"VLOOKUP(B701,StuData,12,0)","v":{"$error":"#N/A"}}]
[]
["fo\"k;@xzsM","fgUnh","vxzsath","xf.kr","Ik;kZoj.k@foKku","lk-foKku","laLd`r"]
["vkadyu 1"]
["vkadyu 2"]
["vkadyu 3"]
["lesfdr vkadyu"]
[]
[]
[]
[]
["g- fo|kFkhZ","g- vfHkHkkod",null,"g- d{kk/;kid",null,"g- 'kkykiz/kku"]
[]
[{"$f":"$I$4","v":"GOVT.SENIOR SECONDARY SCHOOL ------------,MASUDA(BEAWAR)"}]
[]
[]
[]
["Sr.No.",26,{"$f":"$K$5","v":"Session :: 2024-25"}]
["U Dise Code ::-",{"$f":"$M$11","v":"0 ---------------"},null,null,null,"Paste Here Latest Passport Size Photo of Student"]
["Name of Student ::-",{"$f":"VLOOKUP(B730,StuData,5,0)","v":{"$error":"#N/A"}}]
["Father's Name ::-",{"$f":"VLOOKUP(B730,StuData,6,0)","v":{"$error":"#N/A"}}]
["Mother's Name ::-",{"$f":"VLOOKUP(B730,StuData,7,0)","v":{"$error":"#N/A"}}]
["Class ::-",{"$f":"VLOOKUP(B730,StuData,2,0)","v":{"$error":"#N/A"}}]
["Scholar No. ::-",{"$f":"VLOOKUP(B730,StuData,3,0)","v":{"$error":"#N/A"}}]
["Class Roll No. ::-",{"$f":"VLOOKUP(B730,StuData,4,0)","v":{"$error":"#N/A"}}]
["Date of Birth ::-",{"$f":"VLOOKUP(B730,StuData,8,0)","v":{"$error":"#N/A"}}]
["Date of Admission ::-",{"$f":"VLOOKUP(B730,StuData,9,0)","v":{"$error":"#N/A"}}]
["Aadhar No. ::-",{"$f":"VLOOKUP(B730,StuData,10,0)","v":{"$error":"#N/A"}}]
["Mobile No. ::-",{"$f":"VLOOKUP(B730,StuData,11,0)","v":{"$error":"#N/A"}}]
["Address ::-",{"$f":"VLOOKUP(B730,StuData,12,0)","v":{"$error":"#N/A"}}]
[]
["fo\"k;@xzsM","fgUnh","vxzsath","xf.kr","Ik;kZoj.k@foKku","lk-foKku","laLd`r"]
["vkadyu 1"]
["vkadyu 2"]
["vkadyu 3"]
["lesfdr vkadyu"]
[]
[]
[]
[]
["g- fo|kFkhZ","g- vfHkHkkod",null,"g- d{kk/;kid",null,"g- 'kkykiz/kku"]
[]
[{"$f":"$I$4","v":"GOVT.SENIOR SECONDARY SCHOOL ------------,MASUDA(BEAWAR)"}]
[]
[]
[]
["Sr.No.",27,{"$f":"$K$5","v":"Session :: 2024-25"}]
["U Dise Code ::-",{"$f":"$M$11","v":"0 ---------------"},null,null,null,"Paste Here Latest Passport Size Photo of Student"]
["Name of Student ::-",{"$f":"VLOOKUP(B759,StuData,5,0)","v":{"$error":"#N/A"}}]
["Father's Name ::-",{"$f":"VLOOKUP(B759,StuData,6,0)","v":{"$error":"#N/A"}}]
["Mother's Name ::-",{"$f":"VLOOKUP(B759,StuData,7,0)","v":{"$error":"#N/A"}}]
["Class ::-",{"$f":"VLOOKUP(B759,StuData,2,0)","v":{"$error":"#N/A"}}]
["Scholar No. ::-",{"$f":"VLOOKUP(B759,StuData,3,0)","v":{"$error":"#N/A"}}]
["Class Roll No. ::-",{"$f":"VLOOKUP(B759,StuData,4,0)","v":{"$error":"#N/A"}}]
["Date of Birth ::-",{"$f":"VLOOKUP(B759,StuData,8,0)","v":{"$error":"#N/A"}}]
["Date of Admission ::-",{"$f":"VLOOKUP(B759,StuData,9,0)","v":{"$error":"#N/A"}}]
["Aadhar No. ::-",{"$f":"VLOOKUP(B759,StuData,10,0)","v":{"$error":"#N/A"}}]
["Mobile No. ::-",{"$f":"VLOOKUP(B759,StuData,11,0)","v":{"$error":"#N/A"}}]
["Address ::-",{"$f":"VLOOKUP(B759,StuData,12,0)","v":{"$error":"#N/A"}}]
[]
["fo\"k;@xzsM","fgUnh","vxzsath","xf.kr","Ik;kZoj.k@foKku","lk-foKku","laLd`r"]
["vkadyu 1"]
["vkadyu 2"]
["vkadyu 3"]
["lesfdr vkadyu"]
[]
[]
[]
[]
["g- fo|kFkhZ","g- vfHkHkkod",null,"g- d{kk/;kid",null,"g- 'kkykiz/kku"]
[]
[{"$f":"$I$4","v":"GOVT.SENIOR SECONDARY SCHOOL ------------,MASUDA(BEAWAR)"}]
[]
[]
[]
["Sr.No.",28,{"$f":"$K$5","v":"Session :: 2024-25"}]
["U Dise Code ::-",{"$f":"$M$11","v":"0 ---------------"},null,null,null,"Paste Here Latest Passport Size Photo of Student"]
["Name of Student ::-",{"$f":"VLOOKUP(B788,StuData,5,0)","v":{"$error":"#N/A"}}]
["Father's Name ::-",{"$f":"VLOOKUP(B788,StuData,6,0)","v":{"$error":"#N/A"}}]
["Mother's Name ::-",{"$f":"VLOOKUP(B788,StuData,7,0)","v":{"$error":"#N/A"}}]
["Class ::-",{"$f":"VLOOKUP(B788,StuData,2,0)","v":{"$error":"#N/A"}}]
["Scholar No. ::-",{"$f":"VLOOKUP(B788,StuData,3,0)","v":{"$error":"#N/A"}}]
["Class Roll No. ::-",{"$f":"VLOOKUP(B788,StuData,4,0)","v":{"$error":"#N/A"}}]
["Date of Birth ::-",{"$f":"VLOOKUP(B788,StuData,8,0)","v":{"$error":"#N/A"}}]
["Date of Admission ::-",{"$f":"VLOOKUP(B788,StuData,9,0)","v":{"$error":"#N/A"}}]
["Aadhar No. ::-",{"$f":"VLOOKUP(B788,StuData,10,0)","v":{"$error":"#N/A"}}]
["Mobile No. ::-",{"$f":"VLOOKUP(B788,StuData,11,0)","v":{"$error":"#N/A"}}]
["Address ::-",{"$f":"VLOOKUP(B788,StuData,12,0)","v":{"$error":"#N/A"}}]
[]
["fo\"k;@xzsM","fgUnh","vxzsath","xf.kr","Ik;kZoj.k@foKku","lk-foKku","laLd`r"]
["vkadyu 1"]
["vkadyu 2"]
["vkadyu 3"]
["lesfdr vkadyu"]
[]
[]
[]
[]
["g- fo|kFkhZ","g- vfHkHkkod",null,"g- d{kk/;kid",null,"g- 'kkykiz/kku"]
[]
[{"$f":"$I$4","v":"GOVT.SENIOR SECONDARY SCHOOL ------------,MASUDA(BEAWAR)"}]
[]
[]
[]
["Sr.No.",29,{"$f":"$K$5","v":"Session :: 2024-25"}]
["U Dise Code ::-",{"$f":"$M$11","v":"0 ---------------"},null,null,null,"Paste Here Latest Passport Size Photo of Student"]
["Name of Student ::-",{"$f":"VLOOKUP(B817,StuData,5,0)","v":{"$error":"#N/A"}}]
["Father's Name ::-",{"$f":"VLOOKUP(B817,StuData,6,0)","v":{"$error":"#N/A"}}]
["Mother's Name ::-",{"$f":"VLOOKUP(B817,StuData,7,0)","v":{"$error":"#N/A"}}]
["Class ::-",{"$f":"VLOOKUP(B817,StuData,2,0)","v":{"$error":"#N/A"}}]
["Scholar No. ::-",{"$f":"VLOOKUP(B817,StuData,3,0)","v":{"$error":"#N/A"}}]
["Class Roll No. ::-",{"$f":"VLOOKUP(B817,StuData,4,0)","v":{"$error":"#N/A"}}]
["Date of Birth ::-",{"$f":"VLOOKUP(B817,StuData,8,0)","v":{"$error":"#N/A"}}]
["Date of Admission ::-",{"$f":"VLOOKUP(B817,StuData,9,0)","v":{"$error":"#N/A"}}]
["Aadhar No. ::-",{"$f":"VLOOKUP(B817,StuData,10,0)","v":{"$error":"#N/A"}}]
["Mobile No. ::-",{"$f":"VLOOKUP(B817,StuData,11,0)","v":{"$error":"#N/A"}}]
["Address ::-",{"$f":"VLOOKUP(B817,StuData,12,0)","v":{"$error":"#N/A"}}]
[]
["fo\"k;@xzsM","fgUnh","vxzsath","xf.kr","Ik;kZoj.k@foKku","lk-foKku","laLd`r"]
["vkadyu 1"]
["vkadyu 2"]
["vkadyu 3"]
["lesfdr vkadyu"]
[]
[]
[]
[]
["g- fo|kFkhZ","g- vfHkHkkod",null,"g- d{kk/;kid",null,"g- 'kkykiz/kku"]
[]
[{"$f":"$I$4","v":"GOVT.SENIOR SECONDARY SCHOOL ------------,MASUDA(BEAWAR)"}]
[]
[]
[]
["Sr.No.",30,{"$f":"$K$5","v":"Session :: 2024-25"}]
["U Dise Code ::-",{"$f":"$M$11","v":"0 ---------------"},null,null,null,"Paste Here Latest Passport Size Photo of Student"]
["Name of Student ::-",{"$f":"VLOOKUP(B846,StuData,5,0)","v":{"$error":"#N/A"}}]
["Father's Name ::-",{"$f":"VLOOKUP(B846,StuData,6,0)","v":{"$error":"#N/A"}}]
["Mother's Name ::-",{"$f":"VLOOKUP(B846,StuData,7,0)","v":{"$error":"#N/A"}}]
["Class ::-",{"$f":"VLOOKUP(B846,StuData,2,0)","v":{"$error":"#N/A"}}]
["Scholar No. ::-",{"$f":"VLOOKUP(B846,StuData,3,0)","v":{"$error":"#N/A"}}]
["Class Roll No. ::-",{"$f":"VLOOKUP(B846,StuData,4,0)","v":{"$error":"#N/A"}}]
["Date of Birth ::-",{"$f":"VLOOKUP(B846,StuData,8,0)","v":{"$error":"#N/A"}}]
["Date of Admission ::-",{"$f":"VLOOKUP(B846,StuData,9,0)","v":{"$error":"#N/A"}}]
["Aadhar No. ::-",{"$f":"VLOOKUP(B846,StuData,10,0)","v":{"$error":"#N/A"}}]
["Mobile No. ::-",{"$f":"VLOOKUP(B846,StuData,11,0)","v":{"$error":"#N/A"}}]
["Address ::-",{"$f":"VLOOKUP(B846,StuData,12,0)","v":{"$error":"#N/A"}}]
[]
["fo\"k;@xzsM","fgUnh","vxzsath","xf.kr","Ik;kZoj.k@foKku","lk-foKku","laLd`r"]
["vkadyu 1"]
["vkadyu 2"]
["vkadyu 3"]
["lesfdr vkadyu"]
[]
[]
[]
[]
["g- fo|kFkhZ","g- vfHkHkkod",null,"g- d{kk/;kid",null,"g- 'kkykiz/kku"]
[]
[{"$f":"$I$4","v":"GOVT.SENIOR SECONDARY SCHOOL ------------,MASUDA(BEAWAR)"}]
[]
[]
[]
["Sr.No.",31,{"$f":"$K$5","v":"Session :: 2024-25"}]
["U Dise Code ::-",{"$f":"$M$11","v":"0 ---------------"},null,null,null,"Paste Here Latest Passport Size Photo of Student"]
["Name of Student ::-",{"$f":"VLOOKUP(B875,StuData,5,0)","v":{"$error":"#N/A"}}]
["Father's Name ::-",{"$f":"VLOOKUP(B875,StuData,6,0)","v":{"$error":"#N/A"}}]
["Mother's Name ::-",{"$f":"VLOOKUP(B875,StuData,7,0)","v":{"$error":"#N/A"}}]
["Class ::-",{"$f":"VLOOKUP(B875,StuData,2,0)","v":{"$error":"#N/A"}}]
["Scholar No. ::-",{"$f":"VLOOKUP(B875,StuData,3,0)","v":{"$error":"#N/A"}}]
["Class Roll No. ::-",{"$f":"VLOOKUP(B875,StuData,4,0)","v":{"$error":"#N/A"}}]
["Date of Birth ::-",{"$f":"VLOOKUP(B875,StuData,8,0)","v":{"$error":"#N/A"}}]
["Date of Admission ::-",{"$f":"VLOOKUP(B875,StuData,9,0)","v":{"$error":"#N/A"}}]
["Aadhar No. ::-",{"$f":"VLOOKUP(B875,StuData,10,0)","v":{"$error":"#N/A"}}]
["Mobile No. ::-",{"$f":"VLOOKUP(B875,StuData,11,0)","v":{"$error":"#N/A"}}]
["Address ::-",{"$f":"VLOOKUP(B875,StuData,12,0)","v":{"$error":"#N/A"}}]
[]
["fo\"k;@xzsM","fgUnh","vxzsath","xf.kr","Ik;kZoj.k@foKku","lk-foKku","laLd`r"]
["vkadyu 1"]
["vkadyu 2"]
["vkadyu 3"]
["lesfdr vkadyu"]
[]
[]
[]
[]
["g- fo|kFkhZ","g- vfHkHkkod",null,"g- d{kk/;kid",null,"g- 'kkykiz/kku"]
[]
[{"$f":"$I$4","v":"GOVT.SENIOR SECONDARY SCHOOL ------------,MASUDA(BEAWAR)"}]
[]
[]
[]
["Sr.No.",32,{"$f":"$K$5","v":"Session :: 2024-25"}]
["U Dise Code ::-",{"$f":"$M$11","v":"0 ---------------"},null,null,null,"Paste Here Latest Passport Size Photo of Student"]
["Name of Student ::-",{"$f":"VLOOKUP(B904,StuData,5,0)","v":{"$error":"#N/A"}}]
["Father's Name ::-",{"$f":"VLOOKUP(B904,StuData,6,0)","v":{"$error":"#N/A"}}]
["Mother's Name ::-",{"$f":"VLOOKUP(B904,StuData,7,0)","v":{"$error":"#N/A"}}]
["Class ::-",{"$f":"VLOOKUP(B904,StuData,2,0)","v":{"$error":"#N/A"}}]
["Scholar No. ::-",{"$f":"VLOOKUP(B904,StuData,3,0)","v":{"$error":"#N/A"}}]
["Class Roll No. ::-",{"$f":"VLOOKUP(B904,StuData,4,0)","v":{"$error":"#N/A"}}]
["Date of Birth ::-",{"$f":"VLOOKUP(B904,StuData,8,0)","v":{"$error":"#N/A"}}]
["Date of Admission ::-",{"$f":"VLOOKUP(B904,StuData,9,0)","v":{"$error":"#N/A"}}]
["Aadhar No. ::-",{"$f":"VLOOKUP(B904,StuData,10,0)","v":{"$error":"#N/A"}}]
["Mobile No. ::-",{"$f":"VLOOKUP(B904,StuData,11,0)","v":{"$error":"#N/A"}}]
["Address ::-",{"$f":"VLOOKUP(B904,StuData,12,0)","v":{"$error":"#N/A"}}]
[]
["fo\"k;@xzsM","fgUnh","vxzsath","xf.kr","Ik;kZoj.k@foKku","lk-foKku","laLd`r"]
["vkadyu 1"]
["vkadyu 2"]
["vkadyu 3"]
["lesfdr vkadyu"]
[]
[]
[]
[]
["g- fo|kFkhZ","g- vfHkHkkod",null,"g- d{kk/;kid",null,"g- 'kkykiz/kku"]
[]
[{"$f":"$I$4","v":"GOVT.SENIOR SECONDARY SCHOOL ------------,MASUDA(BEAWAR)"}]
[]
[]
[]
["Sr.No.",33,{"$f":"$K$5","v":"Session :: 2024-25"}]
["U Dise Code ::-",{"$f":"$M$11","v":"0 ---------------"},null,null,null,"Paste Here Latest Passport Size Photo of Student"]
["Name of Student ::-",{"$f":"VLOOKUP(B933,StuData,5,0)","v":{"$error":"#N/A"}}]
["Father's Name ::-",{"$f":"VLOOKUP(B933,StuData,6,0)","v":{"$error":"#N/A"}}]
["Mother's Name ::-",{"$f":"VLOOKUP(B933,StuData,7,0)","v":{"$error":"#N/A"}}]
["Class ::-",{"$f":"VLOOKUP(B933,StuData,2,0)","v":{"$error":"#N/A"}}]
["Scholar No. ::-",{"$f":"VLOOKUP(B933,StuData,3,0)","v":{"$error":"#N/A"}}]
["Class Roll No. ::-",{"$f":"VLOOKUP(B933,StuData,4,0)","v":{"$error":"#N/A"}}]
["Date of Birth ::-",{"$f":"VLOOKUP(B933,StuData,8,0)","v":{"$error":"#N/A"}}]
["Date of Admission ::-",{"$f":"VLOOKUP(B933,StuData,9,0)","v":{"$error":"#N/A"}}]
["Aadhar No. ::-",{"$f":"VLOOKUP(B933,StuData,10,0)","v":{"$error":"#N/A"}}]
["Mobile No. ::-",{"$f":"VLOOKUP(B933,StuData,11,0)","v":{"$error":"#N/A"}}]
["Address ::-",{"$f":"VLOOKUP(B933,StuData,12,0)","v":{"$error":"#N/A"}}]
[]
["fo\"k;@xzsM","fgUnh","vxzsath","xf.kr","Ik;kZoj.k@foKku","lk-foKku","laLd`r"]
["vkadyu 1"]
["vkadyu 2"]
["vkadyu 3"]
["lesfdr vkadyu"]
[]
[]
[]
[]
["g- fo|kFkhZ","g- vfHkHkkod",null,"g- d{kk/;kid",null,"g- 'kkykiz/kku"]
[]
[{"$f":"$I$4","v":"GOVT.SENIOR SECONDARY SCHOOL ------------,MASUDA(BEAWAR)"}]
[]
[]
[]
["Sr.No.",34,{"$f":"$K$5","v":"Session :: 2024-25"}]
["U Dise Code ::-",{"$f":"$M$11","v":"0 ---------------"},null,null,null,"Paste Here Latest Passport Size Photo of Student"]
["Name of Student ::-",{"$f":"VLOOKUP(B962,StuData,5,0)","v":{"$error":"#N/A"}}]
["Father's Name ::-",{"$f":"VLOOKUP(B962,StuData,6,0)","v":{"$error":"#N/A"}}]
["Mother's Name ::-",{"$f":"VLOOKUP(B962,StuData,7,0)","v":{"$error":"#N/A"}}]
["Class ::-",{"$f":"VLOOKUP(B962,StuData,2,0)","v":{"$error":"#N/A"}}]
["Scholar No. ::-",{"$f":"VLOOKUP(B962,StuData,3,0)","v":{"$error":"#N/A"}}]
["Class Roll No. ::-",{"$f":"VLOOKUP(B962,StuData,4,0)","v":{"$error":"#N/A"}}]
["Date of Birth ::-",{"$f":"VLOOKUP(B962,StuData,8,0)","v":{"$error":"#N/A"}}]
["Date of Admission ::-",{"$f":"VLOOKUP(B962,StuData,9,0)","v":{"$error":"#N/A"}}]
["Aadhar No. ::-",{"$f":"VLOOKUP(B962,StuData,10,0)","v":{"$error":"#N/A"}}]
["Mobile No. ::-",{"$f":"VLOOKUP(B962,StuData,11,0)","v":{"$error":"#N/A"}}]
["Address ::-",{"$f":"VLOOKUP(B962,StuData,12,0)","v":{"$error":"#N/A"}}]
[]
["fo\"k;@xzsM","fgUnh","vxzsath","xf.kr","Ik;kZoj.k@foKku","lk-foKku","laLd`r"]
["vkadyu 1"]
["vkadyu 2"]
["vkadyu 3"]
["lesfdr vkadyu"]
[]
[]
[]
[]
["g- fo|kFkhZ","g- vfHkHkkod",null,"g- d{kk/;kid",null,"g- 'kkykiz/kku"]
[]
[{"$f":"$I$4","v":"GOVT.SENIOR SECONDARY SCHOOL ------------,MASUDA(BEAWAR)"}]
[]
[]
[]
["Sr.No.",35,{"$f":"$K$5","v":"Session :: 2024-25"}]
["U Dise Code ::-",{"$f":"$M$11","v":"0 ---------------"},null,null,null,"Paste Here Latest Passport Size Photo of Student"]
["Name of Student ::-",{"$f":"VLOOKUP(B991,StuData,5,0)","v":{"$error":"#N/A"}}]
["Father's Name ::-",{"$f":"VLOOKUP(B991,StuData,6,0)","v":{"$error":"#N/A"}}]
["Mother's Name ::-",{"$f":"VLOOKUP(B991,StuData,7,0)","v":{"$error":"#N/A"}}]
["Class ::-",{"$f":"VLOOKUP(B991,StuData,2,0)","v":{"$error":"#N/A"}}]
["Scholar No. ::-",{"$f":"VLOOKUP(B991,StuData,3,0)","v":{"$error":"#N/A"}}]
["Class Roll No. ::-",{"$f":"VLOOKUP(B991,StuData,4,0)","v":{"$error":"#N/A"}}]
["Date of Birth ::-",{"$f":"VLOOKUP(B991,StuData,8,0)","v":{"$error":"#N/A"}}]
["Date of Admission ::-",{"$f":"VLOOKUP(B991,StuData,9,0)","v":{"$error":"#N/A"}}]
["Aadhar No. ::-",{"$f":"VLOOKUP(B991,StuData,10,0)","v":{"$error":"#N/A"}}]
["Mobile No. ::-",{"$f":"VLOOKUP(B991,StuData,11,0)","v":{"$error":"#N/A"}}]
["Address ::-",{"$f":"VLOOKUP(B991,StuData,12,0)","v":{"$error":"#N/A"}}]
[]
["fo\"k;@xzsM","fgUnh","vxzsath","xf.kr","Ik;kZoj.k@foKku","lk-foKku","laLd`r"]
["vkadyu 1"]
["vkadyu 2"]
["vkadyu 3"]
["lesfdr vkadyu"]
[]
[]
[]
[]
["g- fo|kFkhZ","g- vfHkHkkod",null,"g- d{kk/;kid",null,"g- 'kkykiz/kku"]
[]
[{"$f":"$I$4","v":"GOVT.SENIOR SECONDARY SCHOOL ------------,MASUDA(BEAWAR)"}]
[]
[]
[]
["Sr.No.",36,{"$f":"$K$5","v":"Session :: 2024-25"}]
["U Dise Code ::-",{"$f":"$M$11","v":"0 ---------------"},null,null,null,"Paste Here Latest Passport Size Photo of Student"]
["Name of Student ::-",{"$f":"VLOOKUP(B1020,StuData,5,0)","v":{"$error":"#N/A"}}]
["Father's Name ::-",{"$f":"VLOOKUP(B1020,StuData,6,0)","v":{"$error":"#N/A"}}]
["Mother's Name ::-",{"$f":"VLOOKUP(B1020,StuData,7,0)","v":{"$error":"#N/A"}}]
["Class ::-",{"$f":"VLOOKUP(B1020,StuData,2,0)","v":{"$error":"#N/A"}}]
["Scholar No. ::-",{"$f":"VLOOKUP(B1020,StuData,3,0)","v":{"$error":"#N/A"}}]
["Class Roll No. ::-",{"$f":"VLOOKUP(B1020,StuData,4,0)","v":{"$error":"#N/A"}}]
["Date of Birth ::-",{"$f":"VLOOKUP(B1020,StuData,8,0)","v":{"$error":"#N/A"}}]
["Date of Admission ::-",{"$f":"VLOOKUP(B1020,StuData,9,0)","v":{"$error":"#N/A"}}]
["Aadhar No. ::-",{"$f":"VLOOKUP(B1020,StuData,10,0)","v":{"$error":"#N/A"}}]
["Mobile No. ::-",{"$f":"VLOOKUP(B1020,StuData,11,0)","v":{"$error":"#N/A"}}]
["Address ::-",{"$f":"VLOOKUP(B1020,StuData,12,0)","v":{"$error":"#N/A"}}]
[]
["fo\"k;@xzsM","fgUnh","vxzsath","xf.kr","Ik;kZoj.k@foKku","lk-foKku","laLd`r"]
["vkadyu 1"]
["vkadyu 2"]
["vkadyu 3"]
["lesfdr vkadyu"]
[]
[]
[]
[]
["g- fo|kFkhZ","g- vfHkHkkod",null,"g- d{kk/;kid",null,"g- 'kkykiz/kku"]
[]
[{"$f":"$I$4","v":"GOVT.SENIOR SECONDARY SCHOOL ------------,MASUDA(BEAWAR)"}]
[]
[]
[]
["Sr.No.",37,{"$f":"$K$5","v":"Session :: 2024-25"}]
["U Dise Code ::-",{"$f":"$M$11","v":"0 ---------------"},null,null,null,"Paste Here Latest Passport Size Photo of Student"]
["Name of Student ::-",{"$f":"VLOOKUP(B1049,StuData,5,0)","v":{"$error":"#N/A"}}]
["Father's Name ::-",{"$f":"VLOOKUP(B1049,StuData,6,0)","v":{"$error":"#N/A"}}]
["Mother's Name ::-",{"$f":"VLOOKUP(B1049,StuData,7,0)","v":{"$error":"#N/A"}}]
["Class ::-",{"$f":"VLOOKUP(B1049,StuData,2,0)","v":{"$error":"#N/A"}}]
["Scholar No. ::-",{"$f":"VLOOKUP(B1049,StuData,3,0)","v":{"$error":"#N/A"}}]
["Class Roll No. ::-",{"$f":"VLOOKUP(B1049,StuData,4,0)","v":{"$error":"#N/A"}}]
["Date of Birth ::-",{"$f":"VLOOKUP(B1049,StuData,8,0)","v":{"$error":"#N/A"}}]
["Date of Admission ::-",{"$f":"VLOOKUP(B1049,StuData,9,0)","v":{"$error":"#N/A"}}]
["Aadhar No. ::-",{"$f":"VLOOKUP(B1049,StuData,10,0)","v":{"$error":"#N/A"}}]
["Mobile No. ::-",{"$f":"VLOOKUP(B1049,StuData,11,0)","v":{"$error":"#N/A"}}]
["Address ::-",{"$f":"VLOOKUP(B1049,StuData,12,0)","v":{"$error":"#N/A"}}]
[]
["fo\"k;@xzsM","fgUnh","vxzsath","xf.kr","Ik;kZoj.k@foKku","lk-foKku","laLd`r"]
["vkadyu 1"]
["vkadyu 2"]
["vkadyu 3"]
["lesfdr vkadyu"]
[]
[]
[]
[]
["g- fo|kFkhZ","g- vfHkHkkod",null,"g- d{kk/;kid",null,"g- 'kkykiz/kku"]
[]
[{"$f":"$I$4","v":"GOVT.SENIOR SECONDARY SCHOOL ------------,MASUDA(BEAWAR)"}]
[]
[]
[]
["Sr.No.",38,{"$f":"$K$5","v":"Session :: 2024-25"}]
["U Dise Code ::-",{"$f":"$M$11","v":"0 ---------------"},null,null,null,"Paste Here Latest Passport Size Photo of Student"]
["Name of Student ::-",{"$f":"VLOOKUP(B1078,StuData,5,0)","v":{"$error":"#N/A"}}]
["Father's Name ::-",{"$f":"VLOOKUP(B1078,StuData,6,0)","v":{"$error":"#N/A"}}]
["Mother's Name ::-",{"$f":"VLOOKUP(B1078,StuData,7,0)","v":{"$error":"#N/A"}}]
["Class ::-",{"$f":"VLOOKUP(B1078,StuData,2,0)","v":{"$error":"#N/A"}}]
["Scholar No. ::-",{"$f":"VLOOKUP(B1078,StuData,3,0)","v":{"$error":"#N/A"}}]
["Class Roll No. ::-",{"$f":"VLOOKUP(B1078,StuData,4,0)","v":{"$error":"#N/A"}}]
["Date of Birth ::-",{"$f":"VLOOKUP(B1078,StuData,8,0)","v":{"$error":"#N/A"}}]
["Date of Admission ::-",{"$f":"VLOOKUP(B1078,StuData,9,0)","v":{"$error":"#N/A"}}]
["Aadhar No. ::-",{"$f":"VLOOKUP(B1078,StuData,10,0)","v":{"$error":"#N/A"}}]
["Mobile No. ::-",{"$f":"VLOOKUP(B1078,StuData,11,0)","v":{"$error":"#N/A"}}]
["Address ::-",{"$f":"VLOOKUP(B1078,StuData,12,0)","v":{"$error":"#N/A"}}]
[]
["fo\"k;@xzsM","fgUnh","vxzsath","xf.kr","Ik;kZoj.k@foKku","lk-foKku","laLd`r"]
["vkadyu 1"]
["vkadyu 2"]
["vkadyu 3"]
["lesfdr vkadyu"]
[]
[]
[]
[]
["g- fo|kFkhZ","g- vfHkHkkod",null,"g- d{kk/;kid",null,"g- 'kkykiz/kku"]
[]
[{"$f":"$I$4","v":"GOVT.SENIOR SECONDARY SCHOOL ------------,MASUDA(BEAWAR)"}]
[]
[]
[]
["Sr.No.",39,{"$f":"$K$5","v":"Session :: 2024-25"}]
["U Dise Code ::-",{"$f":"$M$11","v":"0 ---------------"},null,null,null,"Paste Here Latest Passport Size Photo of Student"]
["Name of Student ::-",{"$f":"VLOOKUP(B1107,StuData,5,0)","v":{"$error":"#N/A"}}]
["Father's Name ::-",{"$f":"VLOOKUP(B1107,StuData,6,0)","v":{"$error":"#N/A"}}]
["Mother's Name ::-",{"$f":"VLOOKUP(B1107,StuData,7,0)","v":{"$error":"#N/A"}}]
["Class ::-",{"$f":"VLOOKUP(B1107,StuData,2,0)","v":{"$error":"#N/A"}}]
["Scholar No. ::-",{"$f":"VLOOKUP(B1107,StuData,3,0)","v":{"$error":"#N/A"}}]
["Class Roll No. ::-",{"$f":"VLOOKUP(B1107,StuData,4,0)","v":{"$error":"#N/A"}}]
["Date of Birth ::-",{"$f":"VLOOKUP(B1107,StuData,8,0)","v":{"$error":"#N/A"}}]
["Date of Admission ::-",{"$f":"VLOOKUP(B1107,StuData,9,0)","v":{"$error":"#N/A"}}]
["Aadhar No. ::-",{"$f":"VLOOKUP(B1107,StuData,10,0)","v":{"$error":"#N/A"}}]
["Mobile No. ::-",{"$f":"VLOOKUP(B1107,StuData,11,0)","v":{"$error":"#N/A"}}]
["Address ::-",{"$f":"VLOOKUP(B1107,StuData,12,0)","v":{"$error":"#N/A"}}]
[]
["fo\"k;@xzsM","fgUnh","vxzsath","xf.kr","Ik;kZoj.k@foKku","lk-foKku","laLd`r"]
["vkadyu 1"]
["vkadyu 2"]
["vkadyu 3"]
["lesfdr vkadyu"]
[]
[]
[]
[]
["g- fo|kFkhZ","g- vfHkHkkod",null,"g- d{kk/;kid",null,"g- 'kkykiz/kku"]
[]
[{"$f":"$I$4","v":"GOVT.SENIOR SECONDARY SCHOOL ------------,MASUDA(BEAWAR)"}]
[]
[]
[]
["Sr.No.",40,{"$f":"$K$5","v":"Session :: 2024-25"}]
["U Dise Code ::-",{"$f":"$M$11","v":"0 ---------------"},null,null,null,"Paste Here Latest Passport Size Photo of Student"]
["Name of Student ::-",{"$f":"VLOOKUP(B1136,StuData,5,0)","v":{"$error":"#N/A"}}]
["Father's Name ::-",{"$f":"VLOOKUP(B1136,StuData,6,0)","v":{"$error":"#N/A"}}]
["Mother's Name ::-",{"$f":"VLOOKUP(B1136,StuData,7,0)","v":{"$error":"#N/A"}}]
["Class ::-",{"$f":"VLOOKUP(B1136,StuData,2,0)","v":{"$error":"#N/A"}}]
["Scholar No. ::-",{"$f":"VLOOKUP(B1136,StuData,3,0)","v":{"$error":"#N/A"}}]
["Class Roll No. ::-",{"$f":"VLOOKUP(B1136,StuData,4,0)","v":{"$error":"#N/A"}}]
["Date of Birth ::-",{"$f":"VLOOKUP(B1136,StuData,8,0)","v":{"$error":"#N/A"}}]
["Date of Admission ::-",{"$f":"VLOOKUP(B1136,StuData,9,0)","v":{"$error":"#N/A"}}]
["Aadhar No. ::-",{"$f":"VLOOKUP(B1136,StuData,10,0)","v":{"$error":"#N/A"}}]
["Mobile No. ::-",{"$f":"VLOOKUP(B1136,StuData,11,0)","v":{"$error":"#N/A"}}]
["Address ::-",{"$f":"VLOOKUP(B1136,StuData,12,0)","v":{"$error":"#N/A"}}]
[]
["fo\"k;@xzsM","fgUnh","vxzsath","xf.kr","Ik;kZoj.k@foKku","lk-foKku","laLd`r"]
["vkadyu 1"]
["vkadyu 2"]
["vkadyu 3"]
["lesfdr vkadyu"]
[]
[]
[]
[]
["g- fo|kFkhZ","g- vfHkHkkod",null,"g- d{kk/;kid",null,"g- 'kkykiz/kku"]
[]
[{"$f":"$I$4","v":"GOVT.SENIOR SECONDARY SCHOOL ------------,MASUDA(BEAWAR)"}]
[]
[]
[]
["Sr.No.",41,{"$f":"$K$5","v":"Session :: 2024-25"}]
["U Dise Code ::-",{"$f":"$M$11","v":"0 ---------------"},null,null,null,"Paste Here Latest Passport Size Photo of Student"]
["Name of Student ::-",{"$f":"VLOOKUP(B1165,StuData,5,0)","v":{"$error":"#N/A"}}]
["Father's Name ::-",{"$f":"VLOOKUP(B1165,StuData,6,0)","v":{"$error":"#N/A"}}]
["Mother's Name ::-",{"$f":"VLOOKUP(B1165,StuData,7,0)","v":{"$error":"#N/A"}}]
["Class ::-",{"$f":"VLOOKUP(B1165,StuData,2,0)","v":{"$error":"#N/A"}}]
["Scholar No. ::-",{"$f":"VLOOKUP(B1165,StuData,3,0)","v":{"$error":"#N/A"}}]
["Class Roll No. ::-",{"$f":"VLOOKUP(B1165,StuData,4,0)","v":{"$error":"#N/A"}}]
["Date of Birth ::-",{"$f":"VLOOKUP(B1165,StuData,8,0)","v":{"$error":"#N/A"}}]
["Date of Admission ::-",{"$f":"VLOOKUP(B1165,StuData,9,0)","v":{"$error":"#N/A"}}]
["Aadhar No. ::-",{"$f":"VLOOKUP(B1165,StuData,10,0)","v":{"$error":"#N/A"}}]
["Mobile No. ::-",{"$f":"VLOOKUP(B1165,StuData,11,0)","v":{"$error":"#N/A"}}]
["Address ::-",{"$f":"VLOOKUP(B1165,StuData,12,0)","v":{"$error":"#N/A"}}]
[]
["fo\"k;@xzsM","fgUnh","vxzsath","xf.kr","Ik;kZoj.k@foKku","lk-foKku","laLd`r"]
["vkadyu 1"]
["vkadyu 2"]
["vkadyu 3"]
["lesfdr vkadyu"]
[]
[]
[]
[]
["g- fo|kFkhZ","g- vfHkHkkod",null,"g- d{kk/;kid",null,"g- 'kkykiz/kku"]
[]
[{"$f":"$I$4","v":"GOVT.SENIOR SECONDARY SCHOOL ------------,MASUDA(BEAWAR)"}]
[]
[]
[]
["Sr.No.",42,{"$f":"$K$5","v":"Session :: 2024-25"}]
["U Dise Code ::-",{"$f":"$M$11","v":"0 ---------------"},null,null,null,"Paste Here Latest Passport Size Photo of Student"]
["Name of Student ::-",{"$f":"VLOOKUP(B1194,StuData,5,0)","v":{"$error":"#N/A"}}]
["Father's Name ::-",{"$f":"VLOOKUP(B1194,StuData,6,0)","v":{"$error":"#N/A"}}]
["Mother's Name ::-",{"$f":"VLOOKUP(B1194,StuData,7,0)","v":{"$error":"#N/A"}}]
["Class ::-",{"$f":"VLOOKUP(B1194,StuData,2,0)","v":{"$error":"#N/A"}}]
["Scholar No. ::-",{"$f":"VLOOKUP(B1194,StuData,3,0)","v":{"$error":"#N/A"}}]
["Class Roll No. ::-",{"$f":"VLOOKUP(B1194,StuData,4,0)","v":{"$error":"#N/A"}}]
["Date of Birth ::-",{"$f":"VLOOKUP(B1194,StuData,8,0)","v":{"$error":"#N/A"}}]
["Date of Admission ::-",{"$f":"VLOOKUP(B1194,StuData,9,0)","v":{"$error":"#N/A"}}]
["Aadhar No. ::-",{"$f":"VLOOKUP(B1194,StuData,10,0)","v":{"$error":"#N/A"}}]
["Mobile No. ::-",{"$f":"VLOOKUP(B1194,StuData,11,0)","v":{"$error":"#N/A"}}]
["Address ::-",{"$f":"VLOOKUP(B1194,StuData,12,0)","v":{"$error":"#N/A"}}]
[]
["fo\"k;@xzsM","fgUnh","vxzsath","xf.kr","Ik;kZoj.k@foKku","lk-foKku","laLd`r"]
["vkadyu 1"]
["vkadyu 2"]
["vkadyu 3"]
["lesfdr vkadyu"]
[]
[]
[]
[]
["g- fo|kFkhZ","g- vfHkHkkod",null,"g- d{kk/;kid",null,"g- 'kkykiz/kku"]
[]
[{"$f":"$I$4","v":"GOVT.SENIOR SECONDARY SCHOOL ------------,MASUDA(BEAWAR)"}]
[]
[]
[]
["Sr.No.",43,{"$f":"$K$5","v":"Session :: 2024-25"}]
["U Dise Code ::-",{"$f":"$M$11","v":"0 ---------------"},null,null,null,"Paste Here Latest Passport Size Photo of Student"]
["Name of Student ::-",{"$f":"VLOOKUP(B1223,StuData,5,0)","v":{"$error":"#N/A"}}]
["Father's Name ::-",{"$f":"VLOOKUP(B1223,StuData,6,0)","v":{"$error":"#N/A"}}]
["Mother's Name ::-",{"$f":"VLOOKUP(B1223,StuData,7,0)","v":{"$error":"#N/A"}}]
["Class ::-",{"$f":"VLOOKUP(B1223,StuData,2,0)","v":{"$error":"#N/A"}}]
["Scholar No. ::-",{"$f":"VLOOKUP(B1223,StuData,3,0)","v":{"$error":"#N/A"}}]
["Class Roll No. ::-",{"$f":"VLOOKUP(B1223,StuData,4,0)","v":{"$error":"#N/A"}}]
["Date of Birth ::-",{"$f":"VLOOKUP(B1223,StuData,8,0)","v":{"$error":"#N/A"}}]
["Date of Admission ::-",{"$f":"VLOOKUP(B1223,StuData,9,0)","v":{"$error":"#N/A"}}]
["Aadhar No. ::-",{"$f":"VLOOKUP(B1223,StuData,10,0)","v":{"$error":"#N/A"}}]
["Mobile No. ::-",{"$f":"VLOOKUP(B1223,StuData,11,0)","v":{"$error":"#N/A"}}]
["Address ::-",{"$f":"VLOOKUP(B1223,StuData,12,0)","v":{"$error":"#N/A"}}]
[]
["fo\"k;@xzsM","fgUnh","vxzsath","xf.kr","Ik;kZoj.k@foKku","lk-foKku","laLd`r"]
["vkadyu 1"]
["vkadyu 2"]
["vkadyu 3"]
["lesfdr vkadyu"]
[]
[]
[]
[]
["g- fo|kFkhZ","g- vfHkHkkod",null,"g- d{kk/;kid",null,"g- 'kkykiz/kku"]
[]
[{"$f":"$I$4","v":"GOVT.SENIOR SECONDARY SCHOOL ------------,MASUDA(BEAWAR)"}]
[]
[]
[]
["Sr.No.",44,{"$f":"$K$5","v":"Session :: 2024-25"}]
["U Dise Code ::-",{"$f":"$M$11","v":"0 ---------------"},null,null,null,"Paste Here Latest Passport Size Photo of Student"]
["Name of Student ::-",{"$f":"VLOOKUP(B1252,StuData,5,0)","v":{"$error":"#N/A"}}]
["Father's Name ::-",{"$f":"VLOOKUP(B1252,StuData,6,0)","v":{"$error":"#N/A"}}]
["Mother's Name ::-",{"$f":"VLOOKUP(B1252,StuData,7,0)","v":{"$error":"#N/A"}}]
["Class ::-",{"$f":"VLOOKUP(B1252,StuData,2,0)","v":{"$error":"#N/A"}}]
["Scholar No. ::-",{"$f":"VLOOKUP(B1252,StuData,3,0)","v":{"$error":"#N/A"}}]
["Class Roll No. ::-",{"$f":"VLOOKUP(B1252,StuData,4,0)","v":{"$error":"#N/A"}}]
["Date of Birth ::-",{"$f":"VLOOKUP(B1252,StuData,8,0)","v":{"$error":"#N/A"}}]
["Date of Admission ::-",{"$f":"VLOOKUP(B1252,StuData,9,0)","v":{"$error":"#N/A"}}]
["Aadhar No. ::-",{"$f":"VLOOKUP(B1252,StuData,10,0)","v":{"$error":"#N/A"}}]
["Mobile No. ::-",{"$f":"VLOOKUP(B1252,StuData,11,0)","v":{"$error":"#N/A"}}]
["Address ::-",{"$f":"VLOOKUP(B1252,StuData,12,0)","v":{"$error":"#N/A"}}]
[]
["fo\"k;@xzsM","fgUnh","vxzsath","xf.kr","Ik;kZoj.k@foKku","lk-foKku","laLd`r"]
["vkadyu 1"]
["vkadyu 2"]
["vkadyu 3"]
["lesfdr vkadyu"]
[]
[]
[]
[]
["g- fo|kFkhZ","g- vfHkHkkod",null,"g- d{kk/;kid",null,"g- 'kkykiz/kku"]
[]
[{"$f":"$I$4","v":"GOVT.SENIOR SECONDARY SCHOOL ------------,MASUDA(BEAWAR)"}]
[]
[]
[]
["Sr.No.",45,{"$f":"$K$5","v":"Session :: 2024-25"}]
["U Dise Code ::-",{"$f":"$M$11","v":"0 ---------------"},null,null,null,"Paste Here Latest Passport Size Photo of Student"]
["Name of Student ::-",{"$f":"VLOOKUP(B1281,StuData,5,0)","v":{"$error":"#N/A"}}]
["Father's Name ::-",{"$f":"VLOOKUP(B1281,StuData,6,0)","v":{"$error":"#N/A"}}]
["Mother's Name ::-",{"$f":"VLOOKUP(B1281,StuData,7,0)","v":{"$error":"#N/A"}}]
["Class ::-",{"$f":"VLOOKUP(B1281,StuData,2,0)","v":{"$error":"#N/A"}}]
["Scholar No. ::-",{"$f":"VLOOKUP(B1281,StuData,3,0)","v":{"$error":"#N/A"}}]
["Class Roll No. ::-",{"$f":"VLOOKUP(B1281,StuData,4,0)","v":{"$error":"#N/A"}}]
["Date of Birth ::-",{"$f":"VLOOKUP(B1281,StuData,8,0)","v":{"$error":"#N/A"}}]
["Date of Admission ::-",{"$f":"VLOOKUP(B1281,StuData,9,0)","v":{"$error":"#N/A"}}]
["Aadhar No. ::-",{"$f":"VLOOKUP(B1281,StuData,10,0)","v":{"$error":"#N/A"}}]
["Mobile No. ::-",{"$f":"VLOOKUP(B1281,StuData,11,0)","v":{"$error":"#N/A"}}]
["Address ::-",{"$f":"VLOOKUP(B1281,StuData,12,0)","v":{"$error":"#N/A"}}]
[]
["fo\"k;@xzsM","fgUnh","vxzsath","xf.kr","Ik;kZoj.k@foKku","lk-foKku","laLd`r"]
["vkadyu 1"]
["vkadyu 2"]
["vkadyu 3"]
["lesfdr vkadyu"]
[]
[]
[]
[]
["g- fo|kFkhZ","g- vfHkHkkod",null,"g- d{kk/;kid",null,"g- 'kkykiz/kku"]
[]
[{"$f":"$I$4","v":"GOVT.SENIOR SECONDARY SCHOOL ------------,MASUDA(BEAWAR)"}]
[]
[]
[]
["Sr.No.",46,{"$f":"$K$5","v":"Session :: 2024-25"}]
["U Dise Code ::-",{"$f":"$M$11","v":"0 ---------------"},null,null,null,"Paste Here Latest Passport Size Photo of Student"]
["Name of Student ::-",{"$f":"VLOOKUP(B1310,StuData,5,0)","v":{"$error":"#N/A"}}]
["Father's Name ::-",{"$f":"VLOOKUP(B1310,StuData,6,0)","v":{"$error":"#N/A"}}]
["Mother's Name ::-",{"$f":"VLOOKUP(B1310,StuData,7,0)","v":{"$error":"#N/A"}}]
["Class ::-",{"$f":"VLOOKUP(B1310,StuData,2,0)","v":{"$error":"#N/A"}}]
["Scholar No. ::-",{"$f":"VLOOKUP(B1310,StuData,3,0)","v":{"$error":"#N/A"}}]
["Class Roll No. ::-",{"$f":"VLOOKUP(B1310,StuData,4,0)","v":{"$error":"#N/A"}}]
["Date of Birth ::-",{"$f":"VLOOKUP(B1310,StuData,8,0)","v":{"$error":"#N/A"}}]
["Date of Admission ::-",{"$f":"VLOOKUP(B1310,StuData,9,0)","v":{"$error":"#N/A"}}]
["Aadhar No. ::-",{"$f":"VLOOKUP(B1310,StuData,10,0)","v":{"$error":"#N/A"}}]
["Mobile No. ::-",{"$f":"VLOOKUP(B1310,StuData,11,0)","v":{"$error":"#N/A"}}]
["Address ::-",{"$f":"VLOOKUP(B1310,StuData,12,0)","v":{"$error":"#N/A"}}]
[]
["fo\"k;@xzsM","fgUnh","vxzsath","xf.kr","Ik;kZoj.k@foKku","lk-foKku","laLd`r"]
["vkadyu 1"]
["vkadyu 2"]
["vkadyu 3"]
["lesfdr vkadyu"]
[]
[]
[]
[]
["g- fo|kFkhZ","g- vfHkHkkod",null,"g- d{kk/;kid",null,"g- 'kkykiz/kku"]
[]
[{"$f":"$I$4","v":"GOVT.SENIOR SECONDARY SCHOOL ------------,MASUDA(BEAWAR)"}]
[]
[]
[]
["Sr.No.",47,{"$f":"$K$5","v":"Session :: 2024-25"}]
["U Dise Code ::-",{"$f":"$M$11","v":"0 ---------------"},null,null,null,"Paste Here Latest Passport Size Photo of Student"]
["Name of Student ::-",{"$f":"VLOOKUP(B1339,StuData,5,0)","v":{"$error":"#N/A"}}]
["Father's Name ::-",{"$f":"VLOOKUP(B1339,StuData,6,0)","v":{"$error":"#N/A"}}]
["Mother's Name ::-",{"$f":"VLOOKUP(B1339,StuData,7,0)","v":{"$error":"#N/A"}}]
["Class ::-",{"$f":"VLOOKUP(B1339,StuData,2,0)","v":{"$error":"#N/A"}}]
["Scholar No. ::-",{"$f":"VLOOKUP(B1339,StuData,3,0)","v":{"$error":"#N/A"}}]
["Class Roll No. ::-",{"$f":"VLOOKUP(B1339,StuData,4,0)","v":{"$error":"#N/A"}}]
["Date of Birth ::-",{"$f":"VLOOKUP(B1339,StuData,8,0)","v":{"$error":"#N/A"}}]
["Date of Admission ::-",{"$f":"VLOOKUP(B1339,StuData,9,0)","v":{"$error":"#N/A"}}]
["Aadhar No. ::-",{"$f":"VLOOKUP(B1339,StuData,10,0)","v":{"$error":"#N/A"}}]
["Mobile No. ::-",{"$f":"VLOOKUP(B1339,StuData,11,0)","v":{"$error":"#N/A"}}]
["Address ::-",{"$f":"VLOOKUP(B1339,StuData,12,0)","v":{"$error":"#N/A"}}]
[]
["fo\"k;@xzsM","fgUnh","vxzsath","xf.kr","Ik;kZoj.k@foKku","lk-foKku","laLd`r"]
["vkadyu 1"]
["vkadyu 2"]
["vkadyu 3"]
["lesfdr vkadyu"]
[]
[]
[]
[]
["g- fo|kFkhZ","g- vfHkHkkod",null,"g- d{kk/;kid",null,"g- 'kkykiz/kku"]
[]
[{"$f":"$I$4","v":"GOVT.SENIOR SECONDARY SCHOOL ------------,MASUDA(BEAWAR)"}]
[]
[]
[]
["Sr.No.",48,{"$f":"$K$5","v":"Session :: 2024-25"}]
["U Dise Code ::-",{"$f":"$M$11","v":"0 ---------------"},null,null,null,"Paste Here Latest Passport Size Photo of Student"]
["Name of Student ::-",{"$f":"VLOOKUP(B1368,StuData,5,0)","v":{"$error":"#N/A"}}]
["Father's Name ::-",{"$f":"VLOOKUP(B1368,StuData,6,0)","v":{"$error":"#N/A"}}]
["Mother's Name ::-",{"$f":"VLOOKUP(B1368,StuData,7,0)","v":{"$error":"#N/A"}}]
["Class ::-",{"$f":"VLOOKUP(B1368,StuData,2,0)","v":{"$error":"#N/A"}}]
["Scholar No. ::-",{"$f":"VLOOKUP(B1368,StuData,3,0)","v":{"$error":"#N/A"}}]
["Class Roll No. ::-",{"$f":"VLOOKUP(B1368,StuData,4,0)","v":{"$error":"#N/A"}}]
["Date of Birth ::-",{"$f":"VLOOKUP(B1368,StuData,8,0)","v":{"$error":"#N/A"}}]
["Date of Admission ::-",{"$f":"VLOOKUP(B1368,StuData,9,0)","v":{"$error":"#N/A"}}]
["Aadhar No. ::-",{"$f":"VLOOKUP(B1368,StuData,10,0)","v":{"$error":"#N/A"}}]
["Mobile No. ::-",{"$f":"VLOOKUP(B1368,StuData,11,0)","v":{"$error":"#N/A"}}]
["Address ::-",{"$f":"VLOOKUP(B1368,StuData,12,0)","v":{"$error":"#N/A"}}]
[]
["fo\"k;@xzsM","fgUnh","vxzsath","xf.kr","Ik;kZoj.k@foKku","lk-foKku","laLd`r"]
["vkadyu 1"]
["vkadyu 2"]
["vkadyu 3"]
["lesfdr vkadyu"]
[]
[]
[]
[]
["g- fo|kFkhZ","g- vfHkHkkod",null,"g- d{kk/;kid",null,"g- 'kkykiz/kku"]
[]
[{"$f":"$I$4","v":"GOVT.SENIOR SECONDARY SCHOOL ------------,MASUDA(BEAWAR)"}]
[]
[]
[]
["Sr.No.",49,{"$f":"$K$5","v":"Session :: 2024-25"}]
["U Dise Code ::-",{"$f":"$M$11","v":"0 ---------------"},null,null,null,"Paste Here Latest Passport Size Photo of Student"]
["Name of Student ::-",{"$f":"VLOOKUP(B1397,StuData,5,0)","v":{"$error":"#N/A"}}]
["Father's Name ::-",{"$f":"VLOOKUP(B1397,StuData,6,0)","v":{"$error":"#N/A"}}]
["Mother's Name ::-",{"$f":"VLOOKUP(B1397,StuData,7,0)","v":{"$error":"#N/A"}}]
["Class ::-",{"$f":"VLOOKUP(B1397,StuData,2,0)","v":{"$error":"#N/A"}}]
["Scholar No. ::-",{"$f":"VLOOKUP(B1397,StuData,3,0)","v":{"$error":"#N/A"}}]
["Class Roll No. ::-",{"$f":"VLOOKUP(B1397,StuData,4,0)","v":{"$error":"#N/A"}}]
["Date of Birth ::-",{"$f":"VLOOKUP(B1397,StuData,8,0)","v":{"$error":"#N/A"}}]
["Date of Admission ::-",{"$f":"VLOOKUP(B1397,StuData,9,0)","v":{"$error":"#N/A"}}]
["Aadhar No. ::-",{"$f":"VLOOKUP(B1397,StuData,10,0)","v":{"$error":"#N/A"}}]
["Mobile No. ::-",{"$f":"VLOOKUP(B1397,StuData,11,0)","v":{"$error":"#N/A"}}]
["Address ::-",{"$f":"VLOOKUP(B1397,StuData,12,0)","v":{"$error":"#N/A"}}]
[]
["fo\"k;@xzsM","fgUnh","vxzsath","xf.kr","Ik;kZoj.k@foKku","lk-foKku","laLd`r"]
["vkadyu 1"]
["vkadyu 2"]
["vkadyu 3"]
["lesfdr vkadyu"]
[]
[]
[]
[]
["g- fo|kFkhZ","g- vfHkHkkod",null,"g- d{kk/;kid",null,"g- 'kkykiz/kku"]
[]
[{"$f":"$I$4","v":"GOVT.SENIOR SECONDARY SCHOOL ------------,MASUDA(BEAWAR)"}]
[]
[]
[]
["Sr.No.",50,{"$f":"$K$5","v":"Session :: 2024-25"}]
["U Dise Code ::-",{"$f":"$M$11","v":"0 ---------------"},null,null,null,"Paste Here Latest Passport Size Photo of Student"]
["Name of Student ::-",{"$f":"VLOOKUP(B1426,StuData,5,0)","v":{"$error":"#N/A"}}]
["Father's Name ::-",{"$f":"VLOOKUP(B1426,StuData,6,0)","v":{"$error":"#N/A"}}]
["Mother's Name ::-",{"$f":"VLOOKUP(B1426,StuData,7,0)","v":{"$error":"#N/A"}}]
["Class ::-",{"$f":"VLOOKUP(B1426,StuData,2,0)","v":{"$error":"#N/A"}}]
["Scholar No. ::-",{"$f":"VLOOKUP(B1426,StuData,3,0)","v":{"$error":"#N/A"}}]
["Class Roll No. ::-",{"$f":"VLOOKUP(B1426,StuData,4,0)","v":{"$error":"#N/A"}}]
["Date of Birth ::-",{"$f":"VLOOKUP(B1426,StuData,8,0)","v":{"$error":"#N/A"}}]
["Date of Admission ::-",{"$f":"VLOOKUP(B1426,StuData,9,0)","v":{"$error":"#N/A"}}]
["Aadhar No. ::-",{"$f":"VLOOKUP(B1426,StuData,10,0)","v":{"$error":"#N/A"}}]
["Mobile No. ::-",{"$f":"VLOOKUP(B1426,StuData,11,0)","v":{"$error":"#N/A"}}]
["Address ::-",{"$f":"VLOOKUP(B1426,StuData,12,0)","v":{"$error":"#N/A"}}]
[]
["fo\"k;@xzsM","fgUnh","vxzsath","xf.kr","Ik;kZoj.k@foKku","lk-foKku","laLd`r"]
["vkadyu 1"]
["vkadyu 2"]
["vkadyu 3"]
["lesfdr vkadyu"]
[]
[]
[]
[]
["g- fo|kFkhZ","g- vfHkHkkod",null,"g- d{kk/;kid",null,"g- 'kkykiz/kku"]
[]
[{"$f":"$I$4","v":"GOVT.SENIOR SECONDARY SCHOOL ------------,MASUDA(BEAWAR)"}]
[]
[]
[]
["Sr.No.",51,{"$f":"$K$5","v":"Session :: 2024-25"}]
["U Dise Code ::-",{"$f":"$M$11","v":"0 ---------------"},null,null,null,"Paste Here Latest Passport Size Photo of Student"]
["Name of Student ::-",{"$f":"VLOOKUP(B1455,StuData,5,0)","v":{"$error":"#N/A"}}]
["Father's Name ::-",{"$f":"VLOOKUP(B1455,StuData,6,0)","v":{"$error":"#N/A"}}]
["Mother's Name ::-",{"$f":"VLOOKUP(B1455,StuData,7,0)","v":{"$error":"#N/A"}}]
["Class ::-",{"$f":"VLOOKUP(B1455,StuData,2,0)","v":{"$error":"#N/A"}}]
["Scholar No. ::-",{"$f":"VLOOKUP(B1455,StuData,3,0)","v":{"$error":"#N/A"}}]
["Class Roll No. ::-",{"$f":"VLOOKUP(B1455,StuData,4,0)","v":{"$error":"#N/A"}}]
["Date of Birth ::-",{"$f":"VLOOKUP(B1455,StuData,8,0)","v":{"$error":"#N/A"}}]
["Date of Admission ::-",{"$f":"VLOOKUP(B1455,StuData,9,0)","v":{"$error":"#N/A"}}]
["Aadhar No. ::-",{"$f":"VLOOKUP(B1455,StuData,10,0)","v":{"$error":"#N/A"}}]
["Mobile No. ::-",{"$f":"VLOOKUP(B1455,StuData,11,0)","v":{"$error":"#N/A"}}]
["Address ::-",{"$f":"VLOOKUP(B1455,StuData,12,0)","v":{"$error":"#N/A"}}]
[]
["fo\"k;@xzsM","fgUnh","vxzsath","xf.kr","Ik;kZoj.k@foKku","lk-foKku","laLd`r"]
["vkadyu 1"]
["vkadyu 2"]
["vkadyu 3"]
["lesfdr vkadyu"]
[]
[]
[]
[]
["g- fo|kFkhZ","g- vfHkHkkod",null,"g- d{kk/;kid",null,"g- 'kkykiz/kku"]
[]
[{"$f":"$I$4","v":"GOVT.SENIOR SECONDARY SCHOOL ------------,MASUDA(BEAWAR)"}]
[]
[]
[]
["Sr.No.",52,{"$f":"$K$5","v":"Session :: 2024-25"}]
["U Dise Code ::-",{"$f":"$M$11","v":"0 ---------------"},null,null,null,"Paste Here Latest Passport Size Photo of Student"]
["Name of Student ::-",{"$f":"VLOOKUP(B1484,StuData,5,0)","v":{"$error":"#N/A"}}]
["Father's Name ::-",{"$f":"VLOOKUP(B1484,StuData,6,0)","v":{"$error":"#N/A"}}]
["Mother's Name ::-",{"$f":"VLOOKUP(B1484,StuData,7,0)","v":{"$error":"#N/A"}}]
["Class ::-",{"$f":"VLOOKUP(B1484,StuData,2,0)","v":{"$error":"#N/A"}}]
["Scholar No. ::-",{"$f":"VLOOKUP(B1484,StuData,3,0)","v":{"$error":"#N/A"}}]
["Class Roll No. ::-",{"$f":"VLOOKUP(B1484,StuData,4,0)","v":{"$error":"#N/A"}}]
["Date of Birth ::-",{"$f":"VLOOKUP(B1484,StuData,8,0)","v":{"$error":"#N/A"}}]
["Date of Admission ::-",{"$f":"VLOOKUP(B1484,StuData,9,0)","v":{"$error":"#N/A"}}]
["Aadhar No. ::-",{"$f":"VLOOKUP(B1484,StuData,10,0)","v":{"$error":"#N/A"}}]
["Mobile No. ::-",{"$f":"VLOOKUP(B1484,StuData,11,0)","v":{"$error":"#N/A"}}]
["Address ::-",{"$f":"VLOOKUP(B1484,StuData,12,0)","v":{"$error":"#N/A"}}]
[]
["fo\"k;@xzsM","fgUnh","vxzsath","xf.kr","Ik;kZoj.k@foKku","lk-foKku","laLd`r"]
["vkadyu 1"]
["vkadyu 2"]
["vkadyu 3"]
["lesfdr vkadyu"]
[]
[]
[]
[]
["g- fo|kFkhZ","g- vfHkHkkod",null,"g- d{kk/;kid",null,"g- 'kkykiz/kku"]
[]
[{"$f":"$I$4","v":"GOVT.SENIOR SECONDARY SCHOOL ------------,MASUDA(BEAWAR)"}]
[]
[]
[]
["Sr.No.",53,{"$f":"$K$5","v":"Session :: 2024-25"}]
["U Dise Code ::-",{"$f":"$M$11","v":"0 ---------------"},null,null,null,"Paste Here Latest Passport Size Photo of Student"]
["Name of Student ::-",{"$f":"VLOOKUP(B1513,StuData,5,0)","v":{"$error":"#N/A"}}]
["Father's Name ::-",{"$f":"VLOOKUP(B1513,StuData,6,0)","v":{"$error":"#N/A"}}]
["Mother's Name ::-",{"$f":"VLOOKUP(B1513,StuData,7,0)","v":{"$error":"#N/A"}}]
["Class ::-",{"$f":"VLOOKUP(B1513,StuData,2,0)","v":{"$error":"#N/A"}}]
["Scholar No. ::-",{"$f":"VLOOKUP(B1513,StuData,3,0)","v":{"$error":"#N/A"}}]
["Class Roll No. ::-",{"$f":"VLOOKUP(B1513,StuData,4,0)","v":{"$error":"#N/A"}}]
["Date of Birth ::-",{"$f":"VLOOKUP(B1513,StuData,8,0)","v":{"$error":"#N/A"}}]
["Date of Admission ::-",{"$f":"VLOOKUP(B1513,StuData,9,0)","v":{"$error":"#N/A"}}]
["Aadhar No. ::-",{"$f":"VLOOKUP(B1513,StuData,10,0)","v":{"$error":"#N/A"}}]
["Mobile No. ::-",{"$f":"VLOOKUP(B1513,StuData,11,0)","v":{"$error":"#N/A"}}]
["Address ::-",{"$f":"VLOOKUP(B1513,StuData,12,0)","v":{"$error":"#N/A"}}]
[]
["fo\"k;@xzsM","fgUnh","vxzsath","xf.kr","Ik;kZoj.k@foKku","lk-foKku","laLd`r"]
["vkadyu 1"]
["vkadyu 2"]
["vkadyu 3"]
["lesfdr vkadyu"]
[]
[]
[]
[]
["g- fo|kFkhZ","g- vfHkHkkod",null,"g- d{kk/;kid",null,"g- 'kkykiz/kku"]
[]
[{"$f":"$I$4","v":"GOVT.SENIOR SECONDARY SCHOOL ------------,MASUDA(BEAWAR)"}]
[]
[]
[]
["Sr.No.",54,{"$f":"$K$5","v":"Session :: 2024-25"}]
["U Dise Code ::-",{"$f":"$M$11","v":"0 ---------------"},null,null,null,"Paste Here Latest Passport Size Photo of Student"]
["Name of Student ::-",{"$f":"VLOOKUP(B1542,StuData,5,0)","v":{"$error":"#N/A"}}]
["Father's Name ::-",{"$f":"VLOOKUP(B1542,StuData,6,0)","v":{"$error":"#N/A"}}]
["Mother's Name ::-",{"$f":"VLOOKUP(B1542,StuData,7,0)","v":{"$error":"#N/A"}}]
["Class ::-",{"$f":"VLOOKUP(B1542,StuData,2,0)","v":{"$error":"#N/A"}}]
["Scholar No. ::-",{"$f":"VLOOKUP(B1542,StuData,3,0)","v":{"$error":"#N/A"}}]
["Class Roll No. ::-",{"$f":"VLOOKUP(B1542,StuData,4,0)","v":{"$error":"#N/A"}}]
["Date of Birth ::-",{"$f":"VLOOKUP(B1542,StuData,8,0)","v":{"$error":"#N/A"}}]
["Date of Admission ::-",{"$f":"VLOOKUP(B1542,StuData,9,0)","v":{"$error":"#N/A"}}]
["Aadhar No. ::-",{"$f":"VLOOKUP(B1542,StuData,10,0)","v":{"$error":"#N/A"}}]
["Mobile No. ::-",{"$f":"VLOOKUP(B1542,StuData,11,0)","v":{"$error":"#N/A"}}]
["Address ::-",{"$f":"VLOOKUP(B1542,StuData,12,0)","v":{"$error":"#N/A"}}]
[]
["fo\"k;@xzsM","fgUnh","vxzsath","xf.kr","Ik;kZoj.k@foKku","lk-foKku","laLd`r"]
["vkadyu 1"]
["vkadyu 2"]
["vkadyu 3"]
["lesfdr vkadyu"]
[]
[]
[]
[]
["g- fo|kFkhZ","g- vfHkHkkod",null,"g- d{kk/;kid",null,"g- 'kkykiz/kku"]
[]
[{"$f":"$I$4","v":"GOVT.SENIOR SECONDARY SCHOOL ------------,MASUDA(BEAWAR)"}]
[]
[]
[]
["Sr.No.",55,{"$f":"$K$5","v":"Session :: 2024-25"}]
["U Dise Code ::-",{"$f":"$M$11","v":"0 ---------------"},null,null,null,"Paste Here Latest Passport Size Photo of Student"]
["Name of Student ::-",{"$f":"VLOOKUP(B1571,StuData,5,0)","v":{"$error":"#N/A"}}]
["Father's Name ::-",{"$f":"VLOOKUP(B1571,StuData,6,0)","v":{"$error":"#N/A"}}]
["Mother's Name ::-",{"$f":"VLOOKUP(B1571,StuData,7,0)","v":{"$error":"#N/A"}}]
["Class ::-",{"$f":"VLOOKUP(B1571,StuData,2,0)","v":{"$error":"#N/A"}}]
["Scholar No. ::-",{"$f":"VLOOKUP(B1571,StuData,3,0)","v":{"$error":"#N/A"}}]
["Class Roll No. ::-",{"$f":"VLOOKUP(B1571,StuData,4,0)","v":{"$error":"#N/A"}}]
["Date of Birth ::-",{"$f":"VLOOKUP(B1571,StuData,8,0)","v":{"$error":"#N/A"}}]
["Date of Admission ::-",{"$f":"VLOOKUP(B1571,StuData,9,0)","v":{"$error":"#N/A"}}]
["Aadhar No. ::-",{"$f":"VLOOKUP(B1571,StuData,10,0)","v":{"$error":"#N/A"}}]
["Mobile No. ::-",{"$f":"VLOOKUP(B1571,StuData,11,0)","v":{"$error":"#N/A"}}]
["Address ::-",{"$f":"VLOOKUP(B1571,StuData,12,0)","v":{"$error":"#N/A"}}]
[]
["fo\"k;@xzsM","fgUnh","vxzsath","xf.kr","Ik;kZoj.k@foKku","lk-foKku","laLd`r"]
["vkadyu 1"]
["vkadyu 2"]
["vkadyu 3"]
["lesfdr vkadyu"]
[]
[]
[]
[]
["g- fo|kFkhZ","g- vfHkHkkod",null,"g- d{kk/;kid",null,"g- 'kkykiz/kku"]
[]
[{"$f":"$I$4","v":"GOVT.SENIOR SECONDARY SCHOOL ------------,MASUDA(BEAWAR)"}]
[]
[]
[]
["Sr.No.",56,{"$f":"$K$5","v":"Session :: 2024-25"}]
["U Dise Code ::-",{"$f":"$M$11","v":"0 ---------------"},null,null,null,"Paste Here Latest Passport Size Photo of Student"]
["Name of Student ::-",{"$f":"VLOOKUP(B1600,StuData,5,0)","v":{"$error":"#N/A"}}]
["Father's Name ::-",{"$f":"VLOOKUP(B1600,StuData,6,0)","v":{"$error":"#N/A"}}]
["Mother's Name ::-",{"$f":"VLOOKUP(B1600,StuData,7,0)","v":{"$error":"#N/A"}}]
["Class ::-",{"$f":"VLOOKUP(B1600,StuData,2,0)","v":{"$error":"#N/A"}}]
["Scholar No. ::-",{"$f":"VLOOKUP(B1600,StuData,3,0)","v":{"$error":"#N/A"}}]
["Class Roll No. ::-",{"$f":"VLOOKUP(B1600,StuData,4,0)","v":{"$error":"#N/A"}}]
["Date of Birth ::-",{"$f":"VLOOKUP(B1600,StuData,8,0)","v":{"$error":"#N/A"}}]
["Date of Admission ::-",{"$f":"VLOOKUP(B1600,StuData,9,0)","v":{"$error":"#N/A"}}]
["Aadhar No. ::-",{"$f":"VLOOKUP(B1600,StuData,10,0)","v":{"$error":"#N/A"}}]
["Mobile No. ::-",{"$f":"VLOOKUP(B1600,StuData,11,0)","v":{"$error":"#N/A"}}]
["Address ::-",{"$f":"VLOOKUP(B1600,StuData,12,0)","v":{"$error":"#N/A"}}]
[]
["fo\"k;@xzsM","fgUnh","vxzsath","xf.kr","Ik;kZoj.k@foKku","lk-foKku","laLd`r"]
["vkadyu 1"]
["vkadyu 2"]
["vkadyu 3"]
["lesfdr vkadyu"]
[]
[]
[]
[]
["g- fo|kFkhZ","g- vfHkHkkod",null,"g- d{kk/;kid",null,"g- 'kkykiz/kku"]
[]
[{"$f":"$I$4","v":"GOVT.SENIOR SECONDARY SCHOOL ------------,MASUDA(BEAWAR)"}]
[]
[]
[]
["Sr.No.",57,{"$f":"$K$5","v":"Session :: 2024-25"}]
["U Dise Code ::-",{"$f":"$M$11","v":"0 ---------------"},null,null,null,"Paste Here Latest Passport Size Photo of Student"]
["Name of Student ::-",{"$f":"VLOOKUP(B1629,StuData,5,0)","v":{"$error":"#N/A"}}]
["Father's Name ::-",{"$f":"VLOOKUP(B1629,StuData,6,0)","v":{"$error":"#N/A"}}]
["Mother's Name ::-",{"$f":"VLOOKUP(B1629,StuData,7,0)","v":{"$error":"#N/A"}}]
["Class ::-",{"$f":"VLOOKUP(B1629,StuData,2,0)","v":{"$error":"#N/A"}}]
["Scholar No. ::-",{"$f":"VLOOKUP(B1629,StuData,3,0)","v":{"$error":"#N/A"}}]
["Class Roll No. ::-",{"$f":"VLOOKUP(B1629,StuData,4,0)","v":{"$error":"#N/A"}}]
["Date of Birth ::-",{"$f":"VLOOKUP(B1629,StuData,8,0)","v":{"$error":"#N/A"}}]
["Date of Admission ::-",{"$f":"VLOOKUP(B1629,StuData,9,0)","v":{"$error":"#N/A"}}]
["Aadhar No. ::-",{"$f":"VLOOKUP(B1629,StuData,10,0)","v":{"$error":"#N/A"}}]
["Mobile No. ::-",{"$f":"VLOOKUP(B1629,StuData,11,0)","v":{"$error":"#N/A"}}]
["Address ::-",{"$f":"VLOOKUP(B1629,StuData,12,0)","v":{"$error":"#N/A"}}]
[]
["fo\"k;@xzsM","fgUnh","vxzsath","xf.kr","Ik;kZoj.k@foKku","lk-foKku","laLd`r"]
["vkadyu 1"]
["vkadyu 2"]
["vkadyu 3"]
["lesfdr vkadyu"]
[]
[]
[]
[]
["g- fo|kFkhZ","g- vfHkHkkod",null,"g- d{kk/;kid",null,"g- 'kkykiz/kku"]
[]
[{"$f":"$I$4","v":"GOVT.SENIOR SECONDARY SCHOOL ------------,MASUDA(BEAWAR)"}]
[]
[]
[]
["Sr.No.",58,{"$f":"$K$5","v":"Session :: 2024-25"}]
["U Dise Code ::-",{"$f":"$M$11","v":"0 ---------------"},null,null,null,"Paste Here Latest Passport Size Photo of Student"]
["Name of Student ::-",{"$f":"VLOOKUP(B1658,StuData,5,0)","v":{"$error":"#N/A"}}]
["Father's Name ::-",{"$f":"VLOOKUP(B1658,StuData,6,0)","v":{"$error":"#N/A"}}]
["Mother's Name ::-",{"$f":"VLOOKUP(B1658,StuData,7,0)","v":{"$error":"#N/A"}}]
["Class ::-",{"$f":"VLOOKUP(B1658,StuData,2,0)","v":{"$error":"#N/A"}}]
["Scholar No. ::-",{"$f":"VLOOKUP(B1658,StuData,3,0)","v":{"$error":"#N/A"}}]
["Class Roll No. ::-",{"$f":"VLOOKUP(B1658,StuData,4,0)","v":{"$error":"#N/A"}}]
["Date of Birth ::-",{"$f":"VLOOKUP(B1658,StuData,8,0)","v":{"$error":"#N/A"}}]
["Date of Admission ::-",{"$f":"VLOOKUP(B1658,StuData,9,0)","v":{"$error":"#N/A"}}]
["Aadhar No. ::-",{"$f":"VLOOKUP(B1658,StuData,10,0)","v":{"$error":"#N/A"}}]
["Mobile No. ::-",{"$f":"VLOOKUP(B1658,StuData,11,0)","v":{"$error":"#N/A"}}]
["Address ::-",{"$f":"VLOOKUP(B1658,StuData,12,0)","v":{"$error":"#N/A"}}]
[]
["fo\"k;@xzsM","fgUnh","vxzsath","xf.kr","Ik;kZoj.k@foKku","lk-foKku","laLd`r"]
["vkadyu 1"]
["vkadyu 2"]
["vkadyu 3"]
["lesfdr vkadyu"]
[]
[]
[]
[]
["g- fo|kFkhZ","g- vfHkHkkod",null,"g- d{kk/;kid",null,"g- 'kkykiz/kku"]
[]
[{"$f":"$I$4","v":"GOVT.SENIOR SECONDARY SCHOOL ------------,MASUDA(BEAWAR)"}]
[]
[]
[]
["Sr.No.",59,{"$f":"$K$5","v":"Session :: 2024-25"}]
["U Dise Code ::-",{"$f":"$M$11","v":"0 ---------------"},null,null,null,"Paste Here Latest Passport Size Photo of Student"]
["Name of Student ::-",{"$f":"VLOOKUP(B1687,StuData,5,0)","v":{"$error":"#N/A"}}]
["Father's Name ::-",{"$f":"VLOOKUP(B1687,StuData,6,0)","v":{"$error":"#N/A"}}]
["Mother's Name ::-",{"$f":"VLOOKUP(B1687,StuData,7,0)","v":{"$error":"#N/A"}}]
["Class ::-",{"$f":"VLOOKUP(B1687,StuData,2,0)","v":{"$error":"#N/A"}}]
["Scholar No. ::-",{"$f":"VLOOKUP(B1687,StuData,3,0)","v":{"$error":"#N/A"}}]
["Class Roll No. ::-",{"$f":"VLOOKUP(B1687,StuData,4,0)","v":{"$error":"#N/A"}}]
["Date of Birth ::-",{"$f":"VLOOKUP(B1687,StuData,8,0)","v":{"$error":"#N/A"}}]
["Date of Admission ::-",{"$f":"VLOOKUP(B1687,StuData,9,0)","v":{"$error":"#N/A"}}]
["Aadhar No. ::-",{"$f":"VLOOKUP(B1687,StuData,10,0)","v":{"$error":"#N/A"}}]
["Mobile No. ::-",{"$f":"VLOOKUP(B1687,StuData,11,0)","v":{"$error":"#N/A"}}]
["Address ::-",{"$f":"VLOOKUP(B1687,StuData,12,0)","v":{"$error":"#N/A"}}]
[]
["fo\"k;@xzsM","fgUnh","vxzsath","xf.kr","Ik;kZoj.k@foKku","lk-foKku","laLd`r"]
["vkadyu 1"]
["vkadyu 2"]
["vkadyu 3"]
["lesfdr vkadyu"]
[]
[]
[]
[]
["g- fo|kFkhZ","g- vfHkHkkod",null,"g- d{kk/;kid",null,"g- 'kkykiz/kku"]
[]
[{"$f":"$I$4","v":"GOVT.SENIOR SECONDARY SCHOOL ------------,MASUDA(BEAWAR)"}]
[]
[]
[]
["Sr.No.",60,{"$f":"$K$5","v":"Session :: 2024-25"}]
["U Dise Code ::-",{"$f":"$M$11","v":"0 ---------------"},null,null,null,"Paste Here Latest Passport Size Photo of Student"]
["Name of Student ::-",{"$f":"VLOOKUP(B1716,StuData,5,0)","v":{"$error":"#N/A"}}]
["Father's Name ::-",{"$f":"VLOOKUP(B1716,StuData,6,0)","v":{"$error":"#N/A"}}]
["Mother's Name ::-",{"$f":"VLOOKUP(B1716,StuData,7,0)","v":{"$error":"#N/A"}}]
["Class ::-",{"$f":"VLOOKUP(B1716,StuData,2,0)","v":{"$error":"#N/A"}}]
["Scholar No. ::-",{"$f":"VLOOKUP(B1716,StuData,3,0)","v":{"$error":"#N/A"}}]
["Class Roll No. ::-",{"$f":"VLOOKUP(B1716,StuData,4,0)","v":{"$error":"#N/A"}}]
["Date of Birth ::-",{"$f":"VLOOKUP(B1716,StuData,8,0)","v":{"$error":"#N/A"}}]
["Date of Admission ::-",{"$f":"VLOOKUP(B1716,StuData,9,0)","v":{"$error":"#N/A"}}]
["Aadhar No. ::-",{"$f":"VLOOKUP(B1716,StuData,10,0)","v":{"$error":"#N/A"}}]
["Mobile No. ::-",{"$f":"VLOOKUP(B1716,StuData,11,0)","v":{"$error":"#N/A"}}]
["Address ::-",{"$f":"VLOOKUP(B1716,StuData,12,0)","v":{"$error":"#N/A"}}]
[]
["fo\"k;@xzsM","fgUnh","vxzsath","xf.kr","Ik;kZoj.k@foKku","lk-foKku","laLd`r"]
["vkadyu 1"]
["vkadyu 2"]
["vkadyu 3"]
["lesfdr vkadyu"]
[]
[]
[]
[]
["g- fo|kFkhZ","g- vfHkHkkod",null,"g- d{kk/;kid",null,"g- 'kkykiz/kku"]
[]
[{"$f":"$I$4","v":"GOVT.SENIOR SECONDARY SCHOOL ------------,MASUDA(BEAWAR)"}]
[]
[]
[]
["Sr.No.",61,{"$f":"$K$5","v":"Session :: 2024-25"}]
["U Dise Code ::-",{"$f":"$M$11","v":"0 ---------------"},null,null,null,"Paste Here Latest Passport Size Photo of Student"]
["Name of Student ::-",{"$f":"VLOOKUP(B1745,StuData,5,0)","v":{"$error":"#N/A"}}]
["Father's Name ::-",{"$f":"VLOOKUP(B1745,StuData,6,0)","v":{"$error":"#N/A"}}]
["Mother's Name ::-",{"$f":"VLOOKUP(B1745,StuData,7,0)","v":{"$error":"#N/A"}}]
["Class ::-",{"$f":"VLOOKUP(B1745,StuData,2,0)","v":{"$error":"#N/A"}}]
["Scholar No. ::-",{"$f":"VLOOKUP(B1745,StuData,3,0)","v":{"$error":"#N/A"}}]
["Class Roll No. ::-",{"$f":"VLOOKUP(B1745,StuData,4,0)","v":{"$error":"#N/A"}}]
["Date of Birth ::-",{"$f":"VLOOKUP(B1745,StuData,8,0)","v":{"$error":"#N/A"}}]
["Date of Admission ::-",{"$f":"VLOOKUP(B1745,StuData,9,0)","v":{"$error":"#N/A"}}]
["Aadhar No. ::-",{"$f":"VLOOKUP(B1745,StuData,10,0)","v":{"$error":"#N/A"}}]
["Mobile No. ::-",{"$f":"VLOOKUP(B1745,StuData,11,0)","v":{"$error":"#N/A"}}]
["Address ::-",{"$f":"VLOOKUP(B1745,StuData,12,0)","v":{"$error":"#N/A"}}]
[]
["fo\"k;@xzsM","fgUnh","vxzsath","xf.kr","Ik;kZoj.k@foKku","lk-foKku","laLd`r"]
["vkadyu 1"]
["vkadyu 2"]
["vkadyu 3"]
["lesfdr vkadyu"]
[]
[]
[]
[]
["g- fo|kFkhZ","g- vfHkHkkod",null,"g- d{kk/;kid",null,"g- 'kkykiz/kku"]
[]
[{"$f":"$I$4","v":"GOVT.SENIOR SECONDARY SCHOOL ------------,MASUDA(BEAWAR)"}]
[]
[]
[]
["Sr.No.",62,{"$f":"$K$5","v":"Session :: 2024-25"}]
["U Dise Code ::-",{"$f":"$M$11","v":"0 ---------------"},null,null,null,"Paste Here Latest Passport Size Photo of Student"]
["Name of Student ::-",{"$f":"VLOOKUP(B1774,StuData,5,0)","v":{"$error":"#N/A"}}]
["Father's Name ::-",{"$f":"VLOOKUP(B1774,StuData,6,0)","v":{"$error":"#N/A"}}]
["Mother's Name ::-",{"$f":"VLOOKUP(B1774,StuData,7,0)","v":{"$error":"#N/A"}}]
["Class ::-",{"$f":"VLOOKUP(B1774,StuData,2,0)","v":{"$error":"#N/A"}}]
["Scholar No. ::-",{"$f":"VLOOKUP(B1774,StuData,3,0)","v":{"$error":"#N/A"}}]
["Class Roll No. ::-",{"$f":"VLOOKUP(B1774,StuData,4,0)","v":{"$error":"#N/A"}}]
["Date of Birth ::-",{"$f":"VLOOKUP(B1774,StuData,8,0)","v":{"$error":"#N/A"}}]
["Date of Admission ::-",{"$f":"VLOOKUP(B1774,StuData,9,0)","v":{"$error":"#N/A"}}]
["Aadhar No. ::-",{"$f":"VLOOKUP(B1774,StuData,10,0)","v":{"$error":"#N/A"}}]
["Mobile No. ::-",{"$f":"VLOOKUP(B1774,StuData,11,0)","v":{"$error":"#N/A"}}]
["Address ::-",{"$f":"VLOOKUP(B1774,StuData,12,0)","v":{"$error":"#N/A"}}]
[]
["fo\"k;@xzsM","fgUnh","vxzsath","xf.kr","Ik;kZoj.k@foKku","lk-foKku","laLd`r"]
["vkadyu 1"]
["vkadyu 2"]
["vkadyu 3"]
["lesfdr vkadyu"]
[]
[]
[]
[]
["g- fo|kFkhZ","g- vfHkHkkod",null,"g- d{kk/;kid",null,"g- 'kkykiz/kku"]
[]
[{"$f":"$I$4","v":"GOVT.SENIOR SECONDARY SCHOOL ------------,MASUDA(BEAWAR)"}]
[]
[]
[]
["Sr.No.",63,{"$f":"$K$5","v":"Session :: 2024-25"}]
["U Dise Code ::-",{"$f":"$M$11","v":"0 ---------------"},null,null,null,"Paste Here Latest Passport Size Photo of Student"]
["Name of Student ::-",{"$f":"VLOOKUP(B1803,StuData,5,0)","v":{"$error":"#N/A"}}]
["Father's Name ::-",{"$f":"VLOOKUP(B1803,StuData,6,0)","v":{"$error":"#N/A"}}]
["Mother's Name ::-",{"$f":"VLOOKUP(B1803,StuData,7,0)","v":{"$error":"#N/A"}}]
["Class ::-",{"$f":"VLOOKUP(B1803,StuData,2,0)","v":{"$error":"#N/A"}}]
["Scholar No. ::-",{"$f":"VLOOKUP(B1803,StuData,3,0)","v":{"$error":"#N/A"}}]
["Class Roll No. ::-",{"$f":"VLOOKUP(B1803,StuData,4,0)","v":{"$error":"#N/A"}}]
["Date of Birth ::-",{"$f":"VLOOKUP(B1803,StuData,8,0)","v":{"$error":"#N/A"}}]
["Date of Admission ::-",{"$f":"VLOOKUP(B1803,StuData,9,0)","v":{"$error":"#N/A"}}]
["Aadhar No. ::-",{"$f":"VLOOKUP(B1803,StuData,10,0)","v":{"$error":"#N/A"}}]
["Mobile No. ::-",{"$f":"VLOOKUP(B1803,StuData,11,0)","v":{"$error":"#N/A"}}]
["Address ::-",{"$f":"VLOOKUP(B1803,StuData,12,0)","v":{"$error":"#N/A"}}]
[]
["fo\"k;@xzsM","fgUnh","vxzsath","xf.kr","Ik;kZoj.k@foKku","lk-foKku","laLd`r"]
["vkadyu 1"]
["vkadyu 2"]
["vkadyu 3"]
["lesfdr vkadyu"]
[]
[]
[]
[]
["g- fo|kFkhZ","g- vfHkHkkod",null,"g- d{kk/;kid",null,"g- 'kkykiz/kku"]
[]
[{"$f":"$I$4","v":"GOVT.SENIOR SECONDARY SCHOOL ------------,MASUDA(BEAWAR)"}]
[]
[]
[]
["Sr.No.",64,{"$f":"$K$5","v":"Session :: 2024-25"}]
["U Dise Code ::-",{"$f":"$M$11","v":"0 ---------------"},null,null,null,"Paste Here Latest Passport Size Photo of Student"]
["Name of Student ::-",{"$f":"VLOOKUP(B1832,StuData,5,0)","v":{"$error":"#N/A"}}]
["Father's Name ::-",{"$f":"VLOOKUP(B1832,StuData,6,0)","v":{"$error":"#N/A"}}]
["Mother's Name ::-",{"$f":"VLOOKUP(B1832,StuData,7,0)","v":{"$error":"#N/A"}}]
["Class ::-",{"$f":"VLOOKUP(B1832,StuData,2,0)","v":{"$error":"#N/A"}}]
["Scholar No. ::-",{"$f":"VLOOKUP(B1832,StuData,3,0)","v":{"$error":"#N/A"}}]
["Class Roll No. ::-",{"$f":"VLOOKUP(B1832,StuData,4,0)","v":{"$error":"#N/A"}}]
["Date of Birth ::-",{"$f":"VLOOKUP(B1832,StuData,8,0)","v":{"$error":"#N/A"}}]
["Date of Admission ::-",{"$f":"VLOOKUP(B1832,StuData,9,0)","v":{"$error":"#N/A"}}]
["Aadhar No. ::-",{"$f":"VLOOKUP(B1832,StuData,10,0)","v":{"$error":"#N/A"}}]
["Mobile No. ::-",{"$f":"VLOOKUP(B1832,StuData,11,0)","v":{"$error":"#N/A"}}]
["Address ::-",{"$f":"VLOOKUP(B1832,StuData,12,0)","v":{"$error":"#N/A"}}]
[]
["fo\"k;@xzsM","fgUnh","vxzsath","xf.kr","Ik;kZoj.k@foKku","lk-foKku","laLd`r"]
["vkadyu 1"]
["vkadyu 2"]
["vkadyu 3"]
["lesfdr vkadyu"]
[]
[]
[]
[]
["g- fo|kFkhZ","g- vfHkHkkod",null,"g- d{kk/;kid",null,"g- 'kkykiz/kku"]
[]
[{"$f":"$I$4","v":"GOVT.SENIOR SECONDARY SCHOOL ------------,MASUDA(BEAWAR)"}]
[]
[]
[]
["Sr.No.",65,{"$f":"$K$5","v":"Session :: 2024-25"}]
["U Dise Code ::-",{"$f":"$M$11","v":"0 ---------------"},null,null,null,"Paste Here Latest Passport Size Photo of Student"]
["Name of Student ::-",{"$f":"VLOOKUP(B1861,StuData,5,0)","v":{"$error":"#N/A"}}]
["Father's Name ::-",{"$f":"VLOOKUP(B1861,StuData,6,0)","v":{"$error":"#N/A"}}]
["Mother's Name ::-",{"$f":"VLOOKUP(B1861,StuData,7,0)","v":{"$error":"#N/A"}}]
["Class ::-",{"$f":"VLOOKUP(B1861,StuData,2,0)","v":{"$error":"#N/A"}}]
["Scholar No. ::-",{"$f":"VLOOKUP(B1861,StuData,3,0)","v":{"$error":"#N/A"}}]
["Class Roll No. ::-",{"$f":"VLOOKUP(B1861,StuData,4,0)","v":{"$error":"#N/A"}}]
["Date of Birth ::-",{"$f":"VLOOKUP(B1861,StuData,8,0)","v":{"$error":"#N/A"}}]
["Date of Admission ::-",{"$f":"VLOOKUP(B1861,StuData,9,0)","v":{"$error":"#N/A"}}]
["Aadhar No. ::-",{"$f":"VLOOKUP(B1861,StuData,10,0)","v":{"$error":"#N/A"}}]
["Mobile No. ::-",{"$f":"VLOOKUP(B1861,StuData,11,0)","v":{"$error":"#N/A"}}]
["Address ::-",{"$f":"VLOOKUP(B1861,StuData,12,0)","v":{"$error":"#N/A"}}]
[]
["fo\"k;@xzsM","fgUnh","vxzsath","xf.kr","Ik;kZoj.k@foKku","lk-foKku","laLd`r"]
["vkadyu 1"]
["vkadyu 2"]
["vkadyu 3"]
["lesfdr vkadyu"]
[]
[]
[]
[]
["g- fo|kFkhZ","g- vfHkHkkod",null,"g- d{kk/;kid",null,"g- 'kkykiz/kku"]
[]
[{"$f":"$I$4","v":"GOVT.SENIOR SECONDARY SCHOOL ------------,MASUDA(BEAWAR)"}]
[]
[]
[]
["Sr.No.",66,{"$f":"$K$5","v":"Session :: 2024-25"}]
["U Dise Code ::-",{"$f":"$M$11","v":"0 ---------------"},null,null,null,"Paste Here Latest Passport Size Photo of Student"]
["Name of Student ::-",{"$f":"VLOOKUP(B1890,StuData,5,0)","v":{"$error":"#N/A"}}]
["Father's Name ::-",{"$f":"VLOOKUP(B1890,StuData,6,0)","v":{"$error":"#N/A"}}]
["Mother's Name ::-",{"$f":"VLOOKUP(B1890,StuData,7,0)","v":{"$error":"#N/A"}}]
["Class ::-",{"$f":"VLOOKUP(B1890,StuData,2,0)","v":{"$error":"#N/A"}}]
["Scholar No. ::-",{"$f":"VLOOKUP(B1890,StuData,3,0)","v":{"$error":"#N/A"}}]
["Class Roll No. ::-",{"$f":"VLOOKUP(B1890,StuData,4,0)","v":{"$error":"#N/A"}}]
["Date of Birth ::-",{"$f":"VLOOKUP(B1890,StuData,8,0)","v":{"$error":"#N/A"}}]
["Date of Admission ::-",{"$f":"VLOOKUP(B1890,StuData,9,0)","v":{"$error":"#N/A"}}]
["Aadhar No. ::-",{"$f":"VLOOKUP(B1890,StuData,10,0)","v":{"$error":"#N/A"}}]
["Mobile No. ::-",{"$f":"VLOOKUP(B1890,StuData,11,0)","v":{"$error":"#N/A"}}]
["Address ::-",{"$f":"VLOOKUP(B1890,StuData,12,0)","v":{"$error":"#N/A"}}]
[]
["fo\"k;@xzsM","fgUnh","vxzsath","xf.kr","Ik;kZoj.k@foKku","lk-foKku","laLd`r"]
["vkadyu 1"]
["vkadyu 2"]
["vkadyu 3"]
["lesfdr vkadyu"]
[]
[]
[]
[]
["g- fo|kFkhZ","g- vfHkHkkod",null,"g- d{kk/;kid",null,"g- 'kkykiz/kku"]
[]
[{"$f":"$I$4","v":"GOVT.SENIOR SECONDARY SCHOOL ------------,MASUDA(BEAWAR)"}]
[]
[]
[]
["Sr.No.",67,{"$f":"$K$5","v":"Session :: 2024-25"}]
["U Dise Code ::-",{"$f":"$M$11","v":"0 ---------------"},null,null,null,"Paste Here Latest Passport Size Photo of Student"]
["Name of Student ::-",{"$f":"VLOOKUP(B1919,StuData,5,0)","v":{"$error":"#N/A"}}]
["Father's Name ::-",{"$f":"VLOOKUP(B1919,StuData,6,0)","v":{"$error":"#N/A"}}]
["Mother's Name ::-",{"$f":"VLOOKUP(B1919,StuData,7,0)","v":{"$error":"#N/A"}}]
["Class ::-",{"$f":"VLOOKUP(B1919,StuData,2,0)","v":{"$error":"#N/A"}}]
["Scholar No. ::-",{"$f":"VLOOKUP(B1919,StuData,3,0)","v":{"$error":"#N/A"}}]
["Class Roll No. ::-",{"$f":"VLOOKUP(B1919,StuData,4,0)","v":{"$error":"#N/A"}}]
["Date of Birth ::-",{"$f":"VLOOKUP(B1919,StuData,8,0)","v":{"$error":"#N/A"}}]
["Date of Admission ::-",{"$f":"VLOOKUP(B1919,StuData,9,0)","v":{"$error":"#N/A"}}]
["Aadhar No. ::-",{"$f":"VLOOKUP(B1919,StuData,10,0)","v":{"$error":"#N/A"}}]
["Mobile No. ::-",{"$f":"VLOOKUP(B1919,StuData,11,0)","v":{"$error":"#N/A"}}]
["Address ::-",{"$f":"VLOOKUP(B1919,StuData,12,0)","v":{"$error":"#N/A"}}]
[]
["fo\"k;@xzsM","fgUnh","vxzsath","xf.kr","Ik;kZoj.k@foKku","lk-foKku","laLd`r"]
["vkadyu 1"]
["vkadyu 2"]
["vkadyu 3"]
["lesfdr vkadyu"]
[]
[]
[]
[]
["g- fo|kFkhZ","g- vfHkHkkod",null,"g- d{kk/;kid",null,"g- 'kkykiz/kku"]
[]
[{"$f":"$I$4","v":"GOVT.SENIOR SECONDARY SCHOOL ------------,MASUDA(BEAWAR)"}]
[]
[]
[]
["Sr.No.",68,{"$f":"$K$5","v":"Session :: 2024-25"}]
["U Dise Code ::-",{"$f":"$M$11","v":"0 ---------------"},null,null,null,"Paste Here Latest Passport Size Photo of Student"]
["Name of Student ::-",{"$f":"VLOOKUP(B1948,StuData,5,0)","v":{"$error":"#N/A"}}]
["Father's Name ::-",{"$f":"VLOOKUP(B1948,StuData,6,0)","v":{"$error":"#N/A"}}]
["Mother's Name ::-",{"$f":"VLOOKUP(B1948,StuData,7,0)","v":{"$error":"#N/A"}}]
["Class ::-",{"$f":"VLOOKUP(B1948,StuData,2,0)","v":{"$error":"#N/A"}}]
["Scholar No. ::-",{"$f":"VLOOKUP(B1948,StuData,3,0)","v":{"$error":"#N/A"}}]
["Class Roll No. ::-",{"$f":"VLOOKUP(B1948,StuData,4,0)","v":{"$error":"#N/A"}}]
["Date of Birth ::-",{"$f":"VLOOKUP(B1948,StuData,8,0)","v":{"$error":"#N/A"}}]
["Date of Admission ::-",{"$f":"VLOOKUP(B1948,StuData,9,0)","v":{"$error":"#N/A"}}]
["Aadhar No. ::-",{"$f":"VLOOKUP(B1948,StuData,10,0)","v":{"$error":"#N/A"}}]
["Mobile No. ::-",{"$f":"VLOOKUP(B1948,StuData,11,0)","v":{"$error":"#N/A"}}]
["Address ::-",{"$f":"VLOOKUP(B1948,StuData,12,0)","v":{"$error":"#N/A"}}]
[]
["fo\"k;@xzsM","fgUnh","vxzsath","xf.kr","Ik;kZoj.k@foKku","lk-foKku","laLd`r"]
["vkadyu 1"]
["vkadyu 2"]
["vkadyu 3"]
["lesfdr vkadyu"]
[]
[]
[]
[]
["g- fo|kFkhZ","g- vfHkHkkod",null,"g- d{kk/;kid",null,"g- 'kkykiz/kku"]
[]
[{"$f":"$I$4","v":"GOVT.SENIOR SECONDARY SCHOOL ------------,MASUDA(BEAWAR)"}]
[]
[]
[]
["Sr.No.",69,{"$f":"$K$5","v":"Session :: 2024-25"}]
["U Dise Code ::-",{"$f":"$M$11","v":"0 ---------------"},null,null,null,"Paste Here Latest Passport Size Photo of Student"]
["Name of Student ::-",{"$f":"VLOOKUP(B1977,StuData,5,0)","v":{"$error":"#N/A"}}]
["Father's Name ::-",{"$f":"VLOOKUP(B1977,StuData,6,0)","v":{"$error":"#N/A"}}]
["Mother's Name ::-",{"$f":"VLOOKUP(B1977,StuData,7,0)","v":{"$error":"#N/A"}}]
["Class ::-",{"$f":"VLOOKUP(B1977,StuData,2,0)","v":{"$error":"#N/A"}}]
["Scholar No. ::-",{"$f":"VLOOKUP(B1977,StuData,3,0)","v":{"$error":"#N/A"}}]
["Class Roll No. ::-",{"$f":"VLOOKUP(B1977,StuData,4,0)","v":{"$error":"#N/A"}}]
["Date of Birth ::-",{"$f":"VLOOKUP(B1977,StuData,8,0)","v":{"$error":"#N/A"}}]
["Date of Admission ::-",{"$f":"VLOOKUP(B1977,StuData,9,0)","v":{"$error":"#N/A"}}]
["Aadhar No. ::-",{"$f":"VLOOKUP(B1977,StuData,10,0)","v":{"$error":"#N/A"}}]
["Mobile No. ::-",{"$f":"VLOOKUP(B1977,StuData,11,0)","v":{"$error":"#N/A"}}]
["Address ::-",{"$f":"VLOOKUP(B1977,StuData,12,0)","v":{"$error":"#N/A"}}]
[]
["fo\"k;@xzsM","fgUnh","vxzsath","xf.kr","Ik;kZoj.k@foKku","lk-foKku","laLd`r"]
["vkadyu 1"]
["vkadyu 2"]
["vkadyu 3"]
["lesfdr vkadyu"]
[]
[]
[]
[]
["g- fo|kFkhZ","g- vfHkHkkod",null,"g- d{kk/;kid",null,"g- 'kkykiz/kku"]
[]
[{"$f":"$I$4","v":"GOVT.SENIOR SECONDARY SCHOOL ------------,MASUDA(BEAWAR)"}]
[]
[]
[]
["Sr.No.",70,{"$f":"$K$5","v":"Session :: 2024-25"}]
["U Dise Code ::-",{"$f":"$M$11","v":"0 ---------------"},null,null,null,"Paste Here Latest Passport Size Photo of Student"]
["Name of Student ::-",{"$f":"VLOOKUP(B2006,StuData,5,0)","v":{"$error":"#N/A"}}]
["Father's Name ::-",{"$f":"VLOOKUP(B2006,StuData,6,0)","v":{"$error":"#N/A"}}]
["Mother's Name ::-",{"$f":"VLOOKUP(B2006,StuData,7,0)","v":{"$error":"#N/A"}}]
["Class ::-",{"$f":"VLOOKUP(B2006,StuData,2,0)","v":{"$error":"#N/A"}}]
["Scholar No. ::-",{"$f":"VLOOKUP(B2006,StuData,3,0)","v":{"$error":"#N/A"}}]
["Class Roll No. ::-",{"$f":"VLOOKUP(B2006,StuData,4,0)","v":{"$error":"#N/A"}}]
["Date of Birth ::-",{"$f":"VLOOKUP(B2006,StuData,8,0)","v":{"$error":"#N/A"}}]
["Date of Admission ::-",{"$f":"VLOOKUP(B2006,StuData,9,0)","v":{"$error":"#N/A"}}]
["Aadhar No. ::-",{"$f":"VLOOKUP(B2006,StuData,10,0)","v":{"$error":"#N/A"}}]
["Mobile No. ::-",{"$f":"VLOOKUP(B2006,StuData,11,0)","v":{"$error":"#N/A"}}]
["Address ::-",{"$f":"VLOOKUP(B2006,StuData,12,0)","v":{"$error":"#N/A"}}]
[]
["fo\"k;@xzsM","fgUnh","vxzsath","xf.kr","Ik;kZoj.k@foKku","lk-foKku","laLd`r"]
["vkadyu 1"]
["vkadyu 2"]
["vkadyu 3"]
["lesfdr vkadyu"]
[]
[]
[]
[]
["g- fo|kFkhZ","g- vfHkHkkod",null,"g- d{kk/;kid",null,"g- 'kkykiz/kku"]
[]
[{"$f":"$I$4","v":"GOVT.SENIOR SECONDARY SCHOOL ------------,MASUDA(BEAWAR)"}]
[]
[]
[]
["Sr.No.",71,{"$f":"$K$5","v":"Session :: 2024-25"}]
["U Dise Code ::-",{"$f":"$M$11","v":"0 ---------------"},null,null,null,"Paste Here Latest Passport Size Photo of Student"]
["Name of Student ::-",{"$f":"VLOOKUP(B2035,StuData,5,0)","v":{"$error":"#N/A"}}]
["Father's Name ::-",{"$f":"VLOOKUP(B2035,StuData,6,0)","v":{"$error":"#N/A"}}]
["Mother's Name ::-",{"$f":"VLOOKUP(B2035,StuData,7,0)","v":{"$error":"#N/A"}}]
["Class ::-",{"$f":"VLOOKUP(B2035,StuData,2,0)","v":{"$error":"#N/A"}}]
["Scholar No. ::-",{"$f":"VLOOKUP(B2035,StuData,3,0)","v":{"$error":"#N/A"}}]
["Class Roll No. ::-",{"$f":"VLOOKUP(B2035,StuData,4,0)","v":{"$error":"#N/A"}}]
["Date of Birth ::-",{"$f":"VLOOKUP(B2035,StuData,8,0)","v":{"$error":"#N/A"}}]
["Date of Admission ::-",{"$f":"VLOOKUP(B2035,StuData,9,0)","v":{"$error":"#N/A"}}]
["Aadhar No. ::-",{"$f":"VLOOKUP(B2035,StuData,10,0)","v":{"$error":"#N/A"}}]
["Mobile No. ::-",{"$f":"VLOOKUP(B2035,StuData,11,0)","v":{"$error":"#N/A"}}]
["Address ::-",{"$f":"VLOOKUP(B2035,StuData,12,0)","v":{"$error":"#N/A"}}]
[]
["fo\"k;@xzsM","fgUnh","vxzsath","xf.kr","Ik;kZoj.k@foKku","lk-foKku","laLd`r"]
["vkadyu 1"]
["vkadyu 2"]
["vkadyu 3"]
["lesfdr vkadyu"]
[]
[]
[]
[]
["g- fo|kFkhZ","g- vfHkHkkod",null,"g- d{kk/;kid",null,"g- 'kkykiz/kku"]
[]
[{"$f":"$I$4","v":"GOVT.SENIOR SECONDARY SCHOOL ------------,MASUDA(BEAWAR)"}]
[]
[]
[]
["Sr.No.",72,{"$f":"$K$5","v":"Session :: 2024-25"}]
["U Dise Code ::-",{"$f":"$M$11","v":"0 ---------------"},null,null,null,"Paste Here Latest Passport Size Photo of Student"]
["Name of Student ::-",{"$f":"VLOOKUP(B2064,StuData,5,0)","v":{"$error":"#N/A"}}]
["Father's Name ::-",{"$f":"VLOOKUP(B2064,StuData,6,0)","v":{"$error":"#N/A"}}]
["Mother's Name ::-",{"$f":"VLOOKUP(B2064,StuData,7,0)","v":{"$error":"#N/A"}}]
["Class ::-",{"$f":"VLOOKUP(B2064,StuData,2,0)","v":{"$error":"#N/A"}}]
["Scholar No. ::-",{"$f":"VLOOKUP(B2064,StuData,3,0)","v":{"$error":"#N/A"}}]
["Class Roll No. ::-",{"$f":"VLOOKUP(B2064,StuData,4,0)","v":{"$error":"#N/A"}}]
["Date of Birth ::-",{"$f":"VLOOKUP(B2064,StuData,8,0)","v":{"$error":"#N/A"}}]
["Date of Admission ::-",{"$f":"VLOOKUP(B2064,StuData,9,0)","v":{"$error":"#N/A"}}]
["Aadhar No. ::-",{"$f":"VLOOKUP(B2064,StuData,10,0)","v":{"$error":"#N/A"}}]
["Mobile No. ::-",{"$f":"VLOOKUP(B2064,StuData,11,0)","v":{"$error":"#N/A"}}]
["Address ::-",{"$f":"VLOOKUP(B2064,StuData,12,0)","v":{"$error":"#N/A"}}]
[]
["fo\"k;@xzsM","fgUnh","vxzsath","xf.kr","Ik;kZoj.k@foKku","lk-foKku","laLd`r"]
["vkadyu 1"]
["vkadyu 2"]
["vkadyu 3"]
["lesfdr vkadyu"]
[]
[]
[]
[]
["g- fo|kFkhZ","g- vfHkHkkod",null,"g- d{kk/;kid",null,"g- 'kkykiz/kku"]
[]
[{"$f":"$I$4","v":"GOVT.SENIOR SECONDARY SCHOOL ------------,MASUDA(BEAWAR)"}]
[]
[]
[]
["Sr.No.",73,{"$f":"$K$5","v":"Session :: 2024-25"}]
["U Dise Code ::-",{"$f":"$M$11","v":"0 ---------------"},null,null,null,"Paste Here Latest Passport Size Photo of Student"]
["Name of Student ::-",{"$f":"VLOOKUP(B2093,StuData,5,0)","v":{"$error":"#N/A"}}]
["Father's Name ::-",{"$f":"VLOOKUP(B2093,StuData,6,0)","v":{"$error":"#N/A"}}]
["Mother's Name ::-",{"$f":"VLOOKUP(B2093,StuData,7,0)","v":{"$error":"#N/A"}}]
["Class ::-",{"$f":"VLOOKUP(B2093,StuData,2,0)","v":{"$error":"#N/A"}}]
["Scholar No. ::-",{"$f":"VLOOKUP(B2093,StuData,3,0)","v":{"$error":"#N/A"}}]
["Class Roll No. ::-",{"$f":"VLOOKUP(B2093,StuData,4,0)","v":{"$error":"#N/A"}}]
["Date of Birth ::-",{"$f":"VLOOKUP(B2093,StuData,8,0)","v":{"$error":"#N/A"}}]
["Date of Admission ::-",{"$f":"VLOOKUP(B2093,StuData,9,0)","v":{"$error":"#N/A"}}]
["Aadhar No. ::-",{"$f":"VLOOKUP(B2093,StuData,10,0)","v":{"$error":"#N/A"}}]
["Mobile No. ::-",{"$f":"VLOOKUP(B2093,StuData,11,0)","v":{"$error":"#N/A"}}]
["Address ::-",{"$f":"VLOOKUP(B2093,StuData,12,0)","v":{"$error":"#N/A"}}]
[]
["fo\"k;@xzsM","fgUnh","vxzsath","xf.kr","Ik;kZoj.k@foKku","lk-foKku","laLd`r"]
["vkadyu 1"]
["vkadyu 2"]
["vkadyu 3"]
["lesfdr vkadyu"]
[]
[]
[]
[]
["g- fo|kFkhZ","g- vfHkHkkod",null,"g- d{kk/;kid",null,"g- 'kkykiz/kku"]
[]
[{"$f":"$I$4","v":"GOVT.SENIOR SECONDARY SCHOOL ------------,MASUDA(BEAWAR)"}]
[]
[]
[]
["Sr.No.",74,{"$f":"$K$5","v":"Session :: 2024-25"}]
["U Dise Code ::-",{"$f":"$M$11","v":"0 ---------------"},null,null,null,"Paste Here Latest Passport Size Photo of Student"]
["Name of Student ::-",{"$f":"VLOOKUP(B2122,StuData,5,0)","v":{"$error":"#N/A"}}]
["Father's Name ::-",{"$f":"VLOOKUP(B2122,StuData,6,0)","v":{"$error":"#N/A"}}]
["Mother's Name ::-",{"$f":"VLOOKUP(B2122,StuData,7,0)","v":{"$error":"#N/A"}}]
["Class ::-",{"$f":"VLOOKUP(B2122,StuData,2,0)","v":{"$error":"#N/A"}}]
["Scholar No. ::-",{"$f":"VLOOKUP(B2122,StuData,3,0)","v":{"$error":"#N/A"}}]
["Class Roll No. ::-",{"$f":"VLOOKUP(B2122,StuData,4,0)","v":{"$error":"#N/A"}}]
["Date of Birth ::-",{"$f":"VLOOKUP(B2122,StuData,8,0)","v":{"$error":"#N/A"}}]
["Date of Admission ::-",{"$f":"VLOOKUP(B2122,StuData,9,0)","v":{"$error":"#N/A"}}]
["Aadhar No. ::-",{"$f":"VLOOKUP(B2122,StuData,10,0)","v":{"$error":"#N/A"}}]
["Mobile No. ::-",{"$f":"VLOOKUP(B2122,StuData,11,0)","v":{"$error":"#N/A"}}]
["Address ::-",{"$f":"VLOOKUP(B2122,StuData,12,0)","v":{"$error":"#N/A"}}]
[]
["fo\"k;@xzsM","fgUnh","vxzsath","xf.kr","Ik;kZoj.k@foKku","lk-foKku","laLd`r"]
["vkadyu 1"]
["vkadyu 2"]
["vkadyu 3"]
["lesfdr vkadyu"]
[]
[]
[]
[]
["g- fo|kFkhZ","g- vfHkHkkod",null,"g- d{kk/;kid",null,"g- 'kkykiz/kku"]
[]
[{"$f":"$I$4","v":"GOVT.SENIOR SECONDARY SCHOOL ------------,MASUDA(BEAWAR)"}]
[]
[]
[]
["Sr.No.",75,{"$f":"$K$5","v":"Session :: 2024-25"}]
["U Dise Code ::-",{"$f":"$M$11","v":"0 ---------------"},null,null,null,"Paste Here Latest Passport Size Photo of Student"]
["Name of Student ::-",{"$f":"VLOOKUP(B2151,StuData,5,0)","v":{"$error":"#N/A"}}]
["Father's Name ::-",{"$f":"VLOOKUP(B2151,StuData,6,0)","v":{"$error":"#N/A"}}]
["Mother's Name ::-",{"$f":"VLOOKUP(B2151,StuData,7,0)","v":{"$error":"#N/A"}}]
["Class ::-",{"$f":"VLOOKUP(B2151,StuData,2,0)","v":{"$error":"#N/A"}}]
["Scholar No. ::-",{"$f":"VLOOKUP(B2151,StuData,3,0)","v":{"$error":"#N/A"}}]
["Class Roll No. ::-",{"$f":"VLOOKUP(B2151,StuData,4,0)","v":{"$error":"#N/A"}}]
["Date of Birth ::-",{"$f":"VLOOKUP(B2151,StuData,8,0)","v":{"$error":"#N/A"}}]
["Date of Admission ::-",{"$f":"VLOOKUP(B2151,StuData,9,0)","v":{"$error":"#N/A"}}]
["Aadhar No. ::-",{"$f":"VLOOKUP(B2151,StuData,10,0)","v":{"$error":"#N/A"}}]
["Mobile No. ::-",{"$f":"VLOOKUP(B2151,StuData,11,0)","v":{"$error":"#N/A"}}]
["Address ::-",{"$f":"VLOOKUP(B2151,StuData,12,0)","v":{"$error":"#N/A"}}]
[]
["fo\"k;@xzsM","fgUnh","vxzsath","xf.kr","Ik;kZoj.k@foKku","lk-foKku","laLd`r"]
["vkadyu 1"]
["vkadyu 2"]
["vkadyu 3"]
["lesfdr vkadyu"]
[]
[]
[]
[]
["g- fo|kFkhZ","g- vfHkHkkod",null,"g- d{kk/;kid",null,"g- 'kkykiz/kku"]
[]
[{"$f":"$I$4","v":"GOVT.SENIOR SECONDARY SCHOOL ------------,MASUDA(BEAWAR)"}]
[]
[]
[]
["Sr.No.",76,{"$f":"$K$5","v":"Session :: 2024-25"}]
["U Dise Code ::-",{"$f":"$M$11","v":"0 ---------------"},null,null,null,"Paste Here Latest Passport Size Photo of Student"]
["Name of Student ::-",{"$f":"VLOOKUP(B2180,StuData,5,0)","v":{"$error":"#N/A"}}]
["Father's Name ::-",{"$f":"VLOOKUP(B2180,StuData,6,0)","v":{"$error":"#N/A"}}]
["Mother's Name ::-",{"$f":"VLOOKUP(B2180,StuData,7,0)","v":{"$error":"#N/A"}}]
["Class ::-",{"$f":"VLOOKUP(B2180,StuData,2,0)","v":{"$error":"#N/A"}}]
["Scholar No. ::-",{"$f":"VLOOKUP(B2180,StuData,3,0)","v":{"$error":"#N/A"}}]
["Class Roll No. ::-",{"$f":"VLOOKUP(B2180,StuData,4,0)","v":{"$error":"#N/A"}}]
["Date of Birth ::-",{"$f":"VLOOKUP(B2180,StuData,8,0)","v":{"$error":"#N/A"}}]
["Date of Admission ::-",{"$f":"VLOOKUP(B2180,StuData,9,0)","v":{"$error":"#N/A"}}]
["Aadhar No. ::-",{"$f":"VLOOKUP(B2180,StuData,10,0)","v":{"$error":"#N/A"}}]
["Mobile No. ::-",{"$f":"VLOOKUP(B2180,StuData,11,0)","v":{"$error":"#N/A"}}]
["Address ::-",{"$f":"VLOOKUP(B2180,StuData,12,0)","v":{"$error":"#N/A"}}]
[]
["fo\"k;@xzsM","fgUnh","vxzsath","xf.kr","Ik;kZoj.k@foKku","lk-foKku","laLd`r"]
["vkadyu 1"]
["vkadyu 2"]
["vkadyu 3"]
["lesfdr vkadyu"]
[]
[]
[]
[]
["g- fo|kFkhZ","g- vfHkHkkod",null,"g- d{kk/;kid",null,"g- 'kkykiz/kku"]
[]
[{"$f":"$I$4","v":"GOVT.SENIOR SECONDARY SCHOOL ------------,MASUDA(BEAWAR)"}]
[]
[]
[]
["Sr.No.",77,{"$f":"$K$5","v":"Session :: 2024-25"}]
["U Dise Code ::-",{"$f":"$M$11","v":"0 ---------------"},null,null,null,"Paste Here Latest Passport Size Photo of Student"]
["Name of Student ::-",{"$f":"VLOOKUP(B2209,StuData,5,0)","v":{"$error":"#N/A"}}]
["Father's Name ::-",{"$f":"VLOOKUP(B2209,StuData,6,0)","v":{"$error":"#N/A"}}]
["Mother's Name ::-",{"$f":"VLOOKUP(B2209,StuData,7,0)","v":{"$error":"#N/A"}}]
["Class ::-",{"$f":"VLOOKUP(B2209,StuData,2,0)","v":{"$error":"#N/A"}}]
["Scholar No. ::-",{"$f":"VLOOKUP(B2209,StuData,3,0)","v":{"$error":"#N/A"}}]
["Class Roll No. ::-",{"$f":"VLOOKUP(B2209,StuData,4,0)","v":{"$error":"#N/A"}}]
["Date of Birth ::-",{"$f":"VLOOKUP(B2209,StuData,8,0)","v":{"$error":"#N/A"}}]
["Date of Admission ::-",{"$f":"VLOOKUP(B2209,StuData,9,0)","v":{"$error":"#N/A"}}]
["Aadhar No. ::-",{"$f":"VLOOKUP(B2209,StuData,10,0)","v":{"$error":"#N/A"}}]
["Mobile No. ::-",{"$f":"VLOOKUP(B2209,StuData,11,0)","v":{"$error":"#N/A"}}]
["Address ::-",{"$f":"VLOOKUP(B2209,StuData,12,0)","v":{"$error":"#N/A"}}]
[]
["fo\"k;@xzsM","fgUnh","vxzsath","xf.kr","Ik;kZoj.k@foKku","lk-foKku","laLd`r"]
["vkadyu 1"]
["vkadyu 2"]
["vkadyu 3"]
["lesfdr vkadyu"]
[]
[]
[]
[]
["g- fo|kFkhZ","g- vfHkHkkod",null,"g- d{kk/;kid",null,"g- 'kkykiz/kku"]
[]
[{"$f":"$I$4","v":"GOVT.SENIOR SECONDARY SCHOOL ------------,MASUDA(BEAWAR)"}]
[]
[]
[]
["Sr.No.",78,{"$f":"$K$5","v":"Session :: 2024-25"}]
["U Dise Code ::-",{"$f":"$M$11","v":"0 ---------------"},null,null,null,"Paste Here Latest Passport Size Photo of Student"]
["Name of Student ::-",{"$f":"VLOOKUP(B2238,StuData,5,0)","v":{"$error":"#N/A"}}]
["Father's Name ::-",{"$f":"VLOOKUP(B2238,StuData,6,0)","v":{"$error":"#N/A"}}]
["Mother's Name ::-",{"$f":"VLOOKUP(B2238,StuData,7,0)","v":{"$error":"#N/A"}}]
["Class ::-",{"$f":"VLOOKUP(B2238,StuData,2,0)","v":{"$error":"#N/A"}}]
["Scholar No. ::-",{"$f":"VLOOKUP(B2238,StuData,3,0)","v":{"$error":"#N/A"}}]
["Class Roll No. ::-",{"$f":"VLOOKUP(B2238,StuData,4,0)","v":{"$error":"#N/A"}}]
["Date of Birth ::-",{"$f":"VLOOKUP(B2238,StuData,8,0)","v":{"$error":"#N/A"}}]
["Date of Admission ::-",{"$f":"VLOOKUP(B2238,StuData,9,0)","v":{"$error":"#N/A"}}]
["Aadhar No. ::-",{"$f":"VLOOKUP(B2238,StuData,10,0)","v":{"$error":"#N/A"}}]
["Mobile No. ::-",{"$f":"VLOOKUP(B2238,StuData,11,0)","v":{"$error":"#N/A"}}]
["Address ::-",{"$f":"VLOOKUP(B2238,StuData,12,0)","v":{"$error":"#N/A"}}]
[]
["fo\"k;@xzsM","fgUnh","vxzsath","xf.kr","Ik;kZoj.k@foKku","lk-foKku","laLd`r"]
["vkadyu 1"]
["vkadyu 2"]
["vkadyu 3"]
["lesfdr vkadyu"]
[]
[]
[]
[]
["g- fo|kFkhZ","g- vfHkHkkod",null,"g- d{kk/;kid",null,"g- 'kkykiz/kku"]
[]
[{"$f":"$I$4","v":"GOVT.SENIOR SECONDARY SCHOOL ------------,MASUDA(BEAWAR)"}]
[]
[]
[]
["Sr.No.",79,{"$f":"$K$5","v":"Session :: 2024-25"}]
["U Dise Code ::-",{"$f":"$M$11","v":"0 ---------------"},null,null,null,"Paste Here Latest Passport Size Photo of Student"]
["Name of Student ::-",{"$f":"VLOOKUP(B2267,StuData,5,0)","v":{"$error":"#N/A"}}]
["Father's Name ::-",{"$f":"VLOOKUP(B2267,StuData,6,0)","v":{"$error":"#N/A"}}]
["Mother's Name ::-",{"$f":"VLOOKUP(B2267,StuData,7,0)","v":{"$error":"#N/A"}}]
["Class ::-",{"$f":"VLOOKUP(B2267,StuData,2,0)","v":{"$error":"#N/A"}}]
["Scholar No. ::-",{"$f":"VLOOKUP(B2267,StuData,3,0)","v":{"$error":"#N/A"}}]
["Class Roll No. ::-",{"$f":"VLOOKUP(B2267,StuData,4,0)","v":{"$error":"#N/A"}}]
["Date of Birth ::-",{"$f":"VLOOKUP(B2267,StuData,8,0)","v":{"$error":"#N/A"}}]
["Date of Admission ::-",{"$f":"VLOOKUP(B2267,StuData,9,0)","v":{"$error":"#N/A"}}]
["Aadhar No. ::-",{"$f":"VLOOKUP(B2267,StuData,10,0)","v":{"$error":"#N/A"}}]
["Mobile No. ::-",{"$f":"VLOOKUP(B2267,StuData,11,0)","v":{"$error":"#N/A"}}]
["Address ::-",{"$f":"VLOOKUP(B2267,StuData,12,0)","v":{"$error":"#N/A"}}]
[]
["fo\"k;@xzsM","fgUnh","vxzsath","xf.kr","Ik;kZoj.k@foKku","lk-foKku","laLd`r"]
["vkadyu 1"]
["vkadyu 2"]
["vkadyu 3"]
["lesfdr vkadyu"]
[]
[]
[]
[]
["g- fo|kFkhZ","g- vfHkHkkod",null,"g- d{kk/;kid",null,"g- 'kkykiz/kku"]
[]
[{"$f":"$I$4","v":"GOVT.SENIOR SECONDARY SCHOOL ------------,MASUDA(BEAWAR)"}]
[]
[]
[]
["Sr.No.",80,{"$f":"$K$5","v":"Session :: 2024-25"}]
["U Dise Code ::-",{"$f":"$M$11","v":"0 ---------------"},null,null,null,"Paste Here Latest Passport Size Photo of Student"]
["Name of Student ::-",{"$f":"VLOOKUP(B2296,StuData,5,0)","v":{"$error":"#N/A"}}]
["Father's Name ::-",{"$f":"VLOOKUP(B2296,StuData,6,0)","v":{"$error":"#N/A"}}]
["Mother's Name ::-",{"$f":"VLOOKUP(B2296,StuData,7,0)","v":{"$error":"#N/A"}}]
["Class ::-",{"$f":"VLOOKUP(B2296,StuData,2,0)","v":{"$error":"#N/A"}}]
["Scholar No. ::-",{"$f":"VLOOKUP(B2296,StuData,3,0)","v":{"$error":"#N/A"}}]
["Class Roll No. ::-",{"$f":"VLOOKUP(B2296,StuData,4,0)","v":{"$error":"#N/A"}}]
["Date of Birth ::-",{"$f":"VLOOKUP(B2296,StuData,8,0)","v":{"$error":"#N/A"}}]
["Date of Admission ::-",{"$f":"VLOOKUP(B2296,StuData,9,0)","v":{"$error":"#N/A"}}]
["Aadhar No. ::-",{"$f":"VLOOKUP(B2296,StuData,10,0)","v":{"$error":"#N/A"}}]
["Mobile No. ::-",{"$f":"VLOOKUP(B2296,StuData,11,0)","v":{"$error":"#N/A"}}]
["Address ::-",{"$f":"VLOOKUP(B2296,StuData,12,0)","v":{"$error":"#N/A"}}]
[]
["fo\"k;@xzsM","fgUnh","vxzsath","xf.kr","Ik;kZoj.k@foKku","lk-foKku","laLd`r"]
["vkadyu 1"]
["vkadyu 2"]
["vkadyu 3"]
["lesfdr vkadyu"]
[]
[]
[]
[]
["g- fo|kFkhZ","g- vfHkHkkod",null,"g- d{kk/;kid",null,"g- 'kkykiz/kku"]
[]
[{"$f":"$I$4","v":"GOVT.SENIOR SECONDARY SCHOOL ------------,MASUDA(BEAWAR)"}]
[]
[]
[]
["Sr.No.",81,{"$f":"$K$5","v":"Session :: 2024-25"}]
["U Dise Code ::-",{"$f":"$M$11","v":"0 ---------------"},null,null,null,"Paste Here Latest Passport Size Photo of Student"]
["Name of Student ::-",{"$f":"VLOOKUP(B2325,StuData,5,0)","v":{"$error":"#N/A"}}]
["Father's Name ::-",{"$f":"VLOOKUP(B2325,StuData,6,0)","v":{"$error":"#N/A"}}]
["Mother's Name ::-",{"$f":"VLOOKUP(B2325,StuData,7,0)","v":{"$error":"#N/A"}}]
["Class ::-",{"$f":"VLOOKUP(B2325,StuData,2,0)","v":{"$error":"#N/A"}}]
["Scholar No. ::-",{"$f":"VLOOKUP(B2325,StuData,3,0)","v":{"$error":"#N/A"}}]
["Class Roll No. ::-",{"$f":"VLOOKUP(B2325,StuData,4,0)","v":{"$error":"#N/A"}}]
["Date of Birth ::-",{"$f":"VLOOKUP(B2325,StuData,8,0)","v":{"$error":"#N/A"}}]
["Date of Admission ::-",{"$f":"VLOOKUP(B2325,StuData,9,0)","v":{"$error":"#N/A"}}]
["Aadhar No. ::-",{"$f":"VLOOKUP(B2325,StuData,10,0)","v":{"$error":"#N/A"}}]
["Mobile No. ::-",{"$f":"VLOOKUP(B2325,StuData,11,0)","v":{"$error":"#N/A"}}]
["Address ::-",{"$f":"VLOOKUP(B2325,StuData,12,0)","v":{"$error":"#N/A"}}]
[]
["fo\"k;@xzsM","fgUnh","vxzsath","xf.kr","Ik;kZoj.k@foKku","lk-foKku","laLd`r"]
["vkadyu 1"]
["vkadyu 2"]
["vkadyu 3"]
["lesfdr vkadyu"]
[]
[]
[]
[]
["g- fo|kFkhZ","g- vfHkHkkod",null,"g- d{kk/;kid",null,"g- 'kkykiz/kku"]
[]
[{"$f":"$I$4","v":"GOVT.SENIOR SECONDARY SCHOOL ------------,MASUDA(BEAWAR)"}]
[]
[]
[]
["Sr.No.",82,{"$f":"$K$5","v":"Session :: 2024-25"}]
["U Dise Code ::-",{"$f":"$M$11","v":"0 ---------------"},null,null,null,"Paste Here Latest Passport Size Photo of Student"]
["Name of Student ::-",{"$f":"VLOOKUP(B2354,StuData,5,0)","v":{"$error":"#N/A"}}]
["Father's Name ::-",{"$f":"VLOOKUP(B2354,StuData,6,0)","v":{"$error":"#N/A"}}]
["Mother's Name ::-",{"$f":"VLOOKUP(B2354,StuData,7,0)","v":{"$error":"#N/A"}}]
["Class ::-",{"$f":"VLOOKUP(B2354,StuData,2,0)","v":{"$error":"#N/A"}}]
["Scholar No. ::-",{"$f":"VLOOKUP(B2354,StuData,3,0)","v":{"$error":"#N/A"}}]
["Class Roll No. ::-",{"$f":"VLOOKUP(B2354,StuData,4,0)","v":{"$error":"#N/A"}}]
["Date of Birth ::-",{"$f":"VLOOKUP(B2354,StuData,8,0)","v":{"$error":"#N/A"}}]
["Date of Admission ::-",{"$f":"VLOOKUP(B2354,StuData,9,0)","v":{"$error":"#N/A"}}]
["Aadhar No. ::-",{"$f":"VLOOKUP(B2354,StuData,10,0)","v":{"$error":"#N/A"}}]
["Mobile No. ::-",{"$f":"VLOOKUP(B2354,StuData,11,0)","v":{"$error":"#N/A"}}]
["Address ::-",{"$f":"VLOOKUP(B2354,StuData,12,0)","v":{"$error":"#N/A"}}]
[]
["fo\"k;@xzsM","fgUnh","vxzsath","xf.kr","Ik;kZoj.k@foKku","lk-foKku","laLd`r"]
["vkadyu 1"]
["vkadyu 2"]
["vkadyu 3"]
["lesfdr vkadyu"]
[]
[]
[]
[]
["g- fo|kFkhZ","g- vfHkHkkod",null,"g- d{kk/;kid",null,"g- 'kkykiz/kku"]
[]
[{"$f":"$I$4","v":"GOVT.SENIOR SECONDARY SCHOOL ------------,MASUDA(BEAWAR)"}]
[]
[]
[]
["Sr.No.",83,{"$f":"$K$5","v":"Session :: 2024-25"}]
["U Dise Code ::-",{"$f":"$M$11","v":"0 ---------------"},null,null,null,"Paste Here Latest Passport Size Photo of Student"]
["Name of Student ::-",{"$f":"VLOOKUP(B2383,StuData,5,0)","v":{"$error":"#N/A"}}]
["Father's Name ::-",{"$f":"VLOOKUP(B2383,StuData,6,0)","v":{"$error":"#N/A"}}]
["Mother's Name ::-",{"$f":"VLOOKUP(B2383,StuData,7,0)","v":{"$error":"#N/A"}}]
["Class ::-",{"$f":"VLOOKUP(B2383,StuData,2,0)","v":{"$error":"#N/A"}}]
["Scholar No. ::-",{"$f":"VLOOKUP(B2383,StuData,3,0)","v":{"$error":"#N/A"}}]
["Class Roll No. ::-",{"$f":"VLOOKUP(B2383,StuData,4,0)","v":{"$error":"#N/A"}}]
["Date of Birth ::-",{"$f":"VLOOKUP(B2383,StuData,8,0)","v":{"$error":"#N/A"}}]
["Date of Admission ::-",{"$f":"VLOOKUP(B2383,StuData,9,0)","v":{"$error":"#N/A"}}]
["Aadhar No. ::-",{"$f":"VLOOKUP(B2383,StuData,10,0)","v":{"$error":"#N/A"}}]
["Mobile No. ::-",{"$f":"VLOOKUP(B2383,StuData,11,0)","v":{"$error":"#N/A"}}]
["Address ::-",{"$f":"VLOOKUP(B2383,StuData,12,0)","v":{"$error":"#N/A"}}]
[]
["fo\"k;@xzsM","fgUnh","vxzsath","xf.kr","Ik;kZoj.k@foKku","lk-foKku","laLd`r"]
["vkadyu 1"]
["vkadyu 2"]
["vkadyu 3"]
["lesfdr vkadyu"]
[]
[]
[]
[]
["g- fo|kFkhZ","g- vfHkHkkod",null,"g- d{kk/;kid",null,"g- 'kkykiz/kku"]
[]
[{"$f":"$I$4","v":"GOVT.SENIOR SECONDARY SCHOOL ------------,MASUDA(BEAWAR)"}]
[]
[]
[]
["Sr.No.",84,{"$f":"$K$5","v":"Session :: 2024-25"}]
["U Dise Code ::-",{"$f":"$M$11","v":"0 ---------------"},null,null,null,"Paste Here Latest Passport Size Photo of Student"]
["Name of Student ::-",{"$f":"VLOOKUP(B2412,StuData,5,0)","v":{"$error":"#N/A"}}]
["Father's Name ::-",{"$f":"VLOOKUP(B2412,StuData,6,0)","v":{"$error":"#N/A"}}]
["Mother's Name ::-",{"$f":"VLOOKUP(B2412,StuData,7,0)","v":{"$error":"#N/A"}}]
["Class ::-",{"$f":"VLOOKUP(B2412,StuData,2,0)","v":{"$error":"#N/A"}}]
["Scholar No. ::-",{"$f":"VLOOKUP(B2412,StuData,3,0)","v":{"$error":"#N/A"}}]
["Class Roll No. ::-",{"$f":"VLOOKUP(B2412,StuData,4,0)","v":{"$error":"#N/A"}}]
["Date of Birth ::-",{"$f":"VLOOKUP(B2412,StuData,8,0)","v":{"$error":"#N/A"}}]
["Date of Admission ::-",{"$f":"VLOOKUP(B2412,StuData,9,0)","v":{"$error":"#N/A"}}]
["Aadhar No. ::-",{"$f":"VLOOKUP(B2412,StuData,10,0)","v":{"$error":"#N/A"}}]
["Mobile No. ::-",{"$f":"VLOOKUP(B2412,StuData,11,0)","v":{"$error":"#N/A"}}]
["Address ::-",{"$f":"VLOOKUP(B2412,StuData,12,0)","v":{"$error":"#N/A"}}]
[]
["fo\"k;@xzsM","fgUnh","vxzsath","xf.kr","Ik;kZoj.k@foKku","lk-foKku","laLd`r"]
["vkadyu 1"]
["vkadyu 2"]
["vkadyu 3"]
["lesfdr vkadyu"]
[]
[]
[]
[]
["g- fo|kFkhZ","g- vfHkHkkod",null,"g- d{kk/;kid",null,"g- 'kkykiz/kku"]
[]
[{"$f":"$I$4","v":"GOVT.SENIOR SECONDARY SCHOOL ------------,MASUDA(BEAWAR)"}]
[]
[]
[]
["Sr.No.",85,{"$f":"$K$5","v":"Session :: 2024-25"}]
["U Dise Code ::-",{"$f":"$M$11","v":"0 ---------------"},null,null,null,"Paste Here Latest Passport Size Photo of Student"]
["Name of Student ::-",{"$f":"VLOOKUP(B2441,StuData,5,0)","v":{"$error":"#N/A"}}]
["Father's Name ::-",{"$f":"VLOOKUP(B2441,StuData,6,0)","v":{"$error":"#N/A"}}]
["Mother's Name ::-",{"$f":"VLOOKUP(B2441,StuData,7,0)","v":{"$error":"#N/A"}}]
["Class ::-",{"$f":"VLOOKUP(B2441,StuData,2,0)","v":{"$error":"#N/A"}}]
["Scholar No. ::-",{"$f":"VLOOKUP(B2441,StuData,3,0)","v":{"$error":"#N/A"}}]
["Class Roll No. ::-",{"$f":"VLOOKUP(B2441,StuData,4,0)","v":{"$error":"#N/A"}}]
["Date of Birth ::-",{"$f":"VLOOKUP(B2441,StuData,8,0)","v":{"$error":"#N/A"}}]
["Date of Admission ::-",{"$f":"VLOOKUP(B2441,StuData,9,0)","v":{"$error":"#N/A"}}]
["Aadhar No. ::-",{"$f":"VLOOKUP(B2441,StuData,10,0)","v":{"$error":"#N/A"}}]
["Mobile No. ::-",{"$f":"VLOOKUP(B2441,StuData,11,0)","v":{"$error":"#N/A"}}]
["Address ::-",{"$f":"VLOOKUP(B2441,StuData,12,0)","v":{"$error":"#N/A"}}]
[]
["fo\"k;@xzsM","fgUnh","vxzsath","xf.kr","Ik;kZoj.k@foKku","lk-foKku","laLd`r"]
["vkadyu 1"]
["vkadyu 2"]
["vkadyu 3"]
["lesfdr vkadyu"]
[]
[]
[]
[]
["g- fo|kFkhZ","g- vfHkHkkod",null,"g- d{kk/;kid",null,"g- 'kkykiz/kku"]
[]
[{"$f":"$I$4","v":"GOVT.SENIOR SECONDARY SCHOOL ------------,MASUDA(BEAWAR)"}]
[]
[]
[]
["Sr.No.",86,{"$f":"$K$5","v":"Session :: 2024-25"}]
["U Dise Code ::-",{"$f":"$M$11","v":"0 ---------------"},null,null,null,"Paste Here Latest Passport Size Photo of Student"]
["Name of Student ::-",{"$f":"VLOOKUP(B2470,StuData,5,0)","v":{"$error":"#N/A"}}]
["Father's Name ::-",{"$f":"VLOOKUP(B2470,StuData,6,0)","v":{"$error":"#N/A"}}]
["Mother's Name ::-",{"$f":"VLOOKUP(B2470,StuData,7,0)","v":{"$error":"#N/A"}}]
["Class ::-",{"$f":"VLOOKUP(B2470,StuData,2,0)","v":{"$error":"#N/A"}}]
["Scholar No. ::-",{"$f":"VLOOKUP(B2470,StuData,3,0)","v":{"$error":"#N/A"}}]
["Class Roll No. ::-",{"$f":"VLOOKUP(B2470,StuData,4,0)","v":{"$error":"#N/A"}}]
["Date of Birth ::-",{"$f":"VLOOKUP(B2470,StuData,8,0)","v":{"$error":"#N/A"}}]
["Date of Admission ::-",{"$f":"VLOOKUP(B2470,StuData,9,0)","v":{"$error":"#N/A"}}]
["Aadhar No. ::-",{"$f":"VLOOKUP(B2470,StuData,10,0)","v":{"$error":"#N/A"}}]
["Mobile No. ::-",{"$f":"VLOOKUP(B2470,StuData,11,0)","v":{"$error":"#N/A"}}]
["Address ::-",{"$f":"VLOOKUP(B2470,StuData,12,0)","v":{"$error":"#N/A"}}]
[]
["fo\"k;@xzsM","fgUnh","vxzsath","xf.kr","Ik;kZoj.k@foKku","lk-foKku","laLd`r"]
["vkadyu 1"]
["vkadyu 2"]
["vkadyu 3"]
["lesfdr vkadyu"]
[]
[]
[]
[]
["g- fo|kFkhZ","g- vfHkHkkod",null,"g- d{kk/;kid",null,"g- 'kkykiz/kku"]
[]
[{"$f":"$I$4","v":"GOVT.SENIOR SECONDARY SCHOOL ------------,MASUDA(BEAWAR)"}]
[]
[]
[]
["Sr.No.",87,{"$f":"$K$5","v":"Session :: 2024-25"}]
["U Dise Code ::-",{"$f":"$M$11","v":"0 ---------------"},null,null,null,"Paste Here Latest Passport Size Photo of Student"]
["Name of Student ::-",{"$f":"VLOOKUP(B2499,StuData,5,0)","v":{"$error":"#N/A"}}]
["Father's Name ::-",{"$f":"VLOOKUP(B2499,StuData,6,0)","v":{"$error":"#N/A"}}]
["Mother's Name ::-",{"$f":"VLOOKUP(B2499,StuData,7,0)","v":{"$error":"#N/A"}}]
["Class ::-",{"$f":"VLOOKUP(B2499,StuData,2,0)","v":{"$error":"#N/A"}}]
["Scholar No. ::-",{"$f":"VLOOKUP(B2499,StuData,3,0)","v":{"$error":"#N/A"}}]
["Class Roll No. ::-",{"$f":"VLOOKUP(B2499,StuData,4,0)","v":{"$error":"#N/A"}}]
["Date of Birth ::-",{"$f":"VLOOKUP(B2499,StuData,8,0)","v":{"$error":"#N/A"}}]
["Date of Admission ::-",{"$f":"VLOOKUP(B2499,StuData,9,0)","v":{"$error":"#N/A"}}]
["Aadhar No. ::-",{"$f":"VLOOKUP(B2499,StuData,10,0)","v":{"$error":"#N/A"}}]
["Mobile No. ::-",{"$f":"VLOOKUP(B2499,StuData,11,0)","v":{"$error":"#N/A"}}]
["Address ::-",{"$f":"VLOOKUP(B2499,StuData,12,0)","v":{"$error":"#N/A"}}]
[]
["fo\"k;@xzsM","fgUnh","vxzsath","xf.kr","Ik;kZoj.k@foKku","lk-foKku","laLd`r"]
["vkadyu 1"]
["vkadyu 2"]
["vkadyu 3"]
["lesfdr vkadyu"]
[]
[]
[]
[]
["g- fo|kFkhZ","g- vfHkHkkod",null,"g- d{kk/;kid",null,"g- 'kkykiz/kku"]
[]
[{"$f":"$I$4","v":"GOVT.SENIOR SECONDARY SCHOOL ------------,MASUDA(BEAWAR)"}]
[]
[]
[]
["Sr.No.",88,{"$f":"$K$5","v":"Session :: 2024-25"}]
["U Dise Code ::-",{"$f":"$M$11","v":"0 ---------------"},null,null,null,"Paste Here Latest Passport Size Photo of Student"]
["Name of Student ::-",{"$f":"VLOOKUP(B2528,StuData,5,0)","v":{"$error":"#N/A"}}]
["Father's Name ::-",{"$f":"VLOOKUP(B2528,StuData,6,0)","v":{"$error":"#N/A"}}]
["Mother's Name ::-",{"$f":"VLOOKUP(B2528,StuData,7,0)","v":{"$error":"#N/A"}}]
["Class ::-",{"$f":"VLOOKUP(B2528,StuData,2,0)","v":{"$error":"#N/A"}}]
["Scholar No. ::-",{"$f":"VLOOKUP(B2528,StuData,3,0)","v":{"$error":"#N/A"}}]
["Class Roll No. ::-",{"$f":"VLOOKUP(B2528,StuData,4,0)","v":{"$error":"#N/A"}}]
["Date of Birth ::-",{"$f":"VLOOKUP(B2528,StuData,8,0)","v":{"$error":"#N/A"}}]
["Date of Admission ::-",{"$f":"VLOOKUP(B2528,StuData,9,0)","v":{"$error":"#N/A"}}]
["Aadhar No. ::-",{"$f":"VLOOKUP(B2528,StuData,10,0)","v":{"$error":"#N/A"}}]
["Mobile No. ::-",{"$f":"VLOOKUP(B2528,StuData,11,0)","v":{"$error":"#N/A"}}]
["Address ::-",{"$f":"VLOOKUP(B2528,StuData,12,0)","v":{"$error":"#N/A"}}]
[]
["fo\"k;@xzsM","fgUnh","vxzsath","xf.kr","Ik;kZoj.k@foKku","lk-foKku","laLd`r"]
["vkadyu 1"]
["vkadyu 2"]
["vkadyu 3"]
["lesfdr vkadyu"]
[]
[]
[]
[]
["g- fo|kFkhZ","g- vfHkHkkod",null,"g- d{kk/;kid",null,"g- 'kkykiz/kku"]
[]
[{"$f":"$I$4","v":"GOVT.SENIOR SECONDARY SCHOOL ------------,MASUDA(BEAWAR)"}]
[]
[]
[]
["Sr.No.",89,{"$f":"$K$5","v":"Session :: 2024-25"}]
["U Dise Code ::-",{"$f":"$M$11","v":"0 ---------------"},null,null,null,"Paste Here Latest Passport Size Photo of Student"]
["Name of Student ::-",{"$f":"VLOOKUP(B2557,StuData,5,0)","v":{"$error":"#N/A"}}]
["Father's Name ::-",{"$f":"VLOOKUP(B2557,StuData,6,0)","v":{"$error":"#N/A"}}]
["Mother's Name ::-",{"$f":"VLOOKUP(B2557,StuData,7,0)","v":{"$error":"#N/A"}}]
["Class ::-",{"$f":"VLOOKUP(B2557,StuData,2,0)","v":{"$error":"#N/A"}}]
["Scholar No. ::-",{"$f":"VLOOKUP(B2557,StuData,3,0)","v":{"$error":"#N/A"}}]
["Class Roll No. ::-",{"$f":"VLOOKUP(B2557,StuData,4,0)","v":{"$error":"#N/A"}}]
["Date of Birth ::-",{"$f":"VLOOKUP(B2557,StuData,8,0)","v":{"$error":"#N/A"}}]
["Date of Admission ::-",{"$f":"VLOOKUP(B2557,StuData,9,0)","v":{"$error":"#N/A"}}]
["Aadhar No. ::-",{"$f":"VLOOKUP(B2557,StuData,10,0)","v":{"$error":"#N/A"}}]
["Mobile No. ::-",{"$f":"VLOOKUP(B2557,StuData,11,0)","v":{"$error":"#N/A"}}]
["Address ::-",{"$f":"VLOOKUP(B2557,StuData,12,0)","v":{"$error":"#N/A"}}]
[]
["fo\"k;@xzsM","fgUnh","vxzsath","xf.kr","Ik;kZoj.k@foKku","lk-foKku","laLd`r"]
["vkadyu 1"]
["vkadyu 2"]
["vkadyu 3"]
["lesfdr vkadyu"]
[]
[]
[]
[]
["g- fo|kFkhZ","g- vfHkHkkod",null,"g- d{kk/;kid",null,"g- 'kkykiz/kku"]
[]
[{"$f":"$I$4","v":"GOVT.SENIOR SECONDARY SCHOOL ------------,MASUDA(BEAWAR)"}]
[]
[]
[]
["Sr.No.",90,{"$f":"$K$5","v":"Session :: 2024-25"}]
["U Dise Code ::-",{"$f":"$M$11","v":"0 ---------------"},null,null,null,"Paste Here Latest Passport Size Photo of Student"]
["Name of Student ::-",{"$f":"VLOOKUP(B2586,StuData,5,0)","v":{"$error":"#N/A"}}]
["Father's Name ::-",{"$f":"VLOOKUP(B2586,StuData,6,0)","v":{"$error":"#N/A"}}]
["Mother's Name ::-",{"$f":"VLOOKUP(B2586,StuData,7,0)","v":{"$error":"#N/A"}}]
["Class ::-",{"$f":"VLOOKUP(B2586,StuData,2,0)","v":{"$error":"#N/A"}}]
["Scholar No. ::-",{"$f":"VLOOKUP(B2586,StuData,3,0)","v":{"$error":"#N/A"}}]
["Class Roll No. ::-",{"$f":"VLOOKUP(B2586,StuData,4,0)","v":{"$error":"#N/A"}}]
["Date of Birth ::-",{"$f":"VLOOKUP(B2586,StuData,8,0)","v":{"$error":"#N/A"}}]
["Date of Admission ::-",{"$f":"VLOOKUP(B2586,StuData,9,0)","v":{"$error":"#N/A"}}]
["Aadhar No. ::-",{"$f":"VLOOKUP(B2586,StuData,10,0)","v":{"$error":"#N/A"}}]
["Mobile No. ::-",{"$f":"VLOOKUP(B2586,StuData,11,0)","v":{"$error":"#N/A"}}]
["Address ::-",{"$f":"VLOOKUP(B2586,StuData,12,0)","v":{"$error":"#N/A"}}]
[]
["fo\"k;@xzsM","fgUnh","vxzsath","xf.kr","Ik;kZoj.k@foKku","lk-foKku","laLd`r"]
["vkadyu 1"]
["vkadyu 2"]
["vkadyu 3"]
["lesfdr vkadyu"]
[]
[]
[]
[]
["g- fo|kFkhZ","g- vfHkHkkod",null,"g- d{kk/;kid",null,"g- 'kkykiz/kku"]
[]
[{"$f":"$I$4","v":"GOVT.SENIOR SECONDARY SCHOOL ------------,MASUDA(BEAWAR)"}]
[]
[]
[]
["Sr.No.",91,{"$f":"$K$5","v":"Session :: 2024-25"}]
["U Dise Code ::-",{"$f":"$M$11","v":"0 ---------------"},null,null,null,"Paste Here Latest Passport Size Photo of Student"]
["Name of Student ::-",{"$f":"VLOOKUP(B2615,StuData,5,0)","v":{"$error":"#N/A"}}]
["Father's Name ::-",{"$f":"VLOOKUP(B2615,StuData,6,0)","v":{"$error":"#N/A"}}]
["Mother's Name ::-",{"$f":"VLOOKUP(B2615,StuData,7,0)","v":{"$error":"#N/A"}}]
["Class ::-",{"$f":"VLOOKUP(B2615,StuData,2,0)","v":{"$error":"#N/A"}}]
["Scholar No. ::-",{"$f":"VLOOKUP(B2615,StuData,3,0)","v":{"$error":"#N/A"}}]
["Class Roll No. ::-",{"$f":"VLOOKUP(B2615,StuData,4,0)","v":{"$error":"#N/A"}}]
["Date of Birth ::-",{"$f":"VLOOKUP(B2615,StuData,8,0)","v":{"$error":"#N/A"}}]
["Date of Admission ::-",{"$f":"VLOOKUP(B2615,StuData,9,0)","v":{"$error":"#N/A"}}]
["Aadhar No. ::-",{"$f":"VLOOKUP(B2615,StuData,10,0)","v":{"$error":"#N/A"}}]
["Mobile No. ::-",{"$f":"VLOOKUP(B2615,StuData,11,0)","v":{"$error":"#N/A"}}]
["Address ::-",{"$f":"VLOOKUP(B2615,StuData,12,0)","v":{"$error":"#N/A"}}]
[]
["fo\"k;@xzsM","fgUnh","vxzsath","xf.kr","Ik;kZoj.k@foKku","lk-foKku","laLd`r"]
["vkadyu 1"]
["vkadyu 2"]
["vkadyu 3"]
["lesfdr vkadyu"]
[]
[]
[]
[]
["g- fo|kFkhZ","g- vfHkHkkod",null,"g- d{kk/;kid",null,"g- 'kkykiz/kku"]
[]
[{"$f":"$I$4","v":"GOVT.SENIOR SECONDARY SCHOOL ------------,MASUDA(BEAWAR)"}]
[]
[]
[]
["Sr.No.",92,{"$f":"$K$5","v":"Session :: 2024-25"}]
["U Dise Code ::-",{"$f":"$M$11","v":"0 ---------------"},null,null,null,"Paste Here Latest Passport Size Photo of Student"]
["Name of Student ::-",{"$f":"VLOOKUP(B2644,StuData,5,0)","v":{"$error":"#N/A"}}]
["Father's Name ::-",{"$f":"VLOOKUP(B2644,StuData,6,0)","v":{"$error":"#N/A"}}]
["Mother's Name ::-",{"$f":"VLOOKUP(B2644,StuData,7,0)","v":{"$error":"#N/A"}}]
["Class ::-",{"$f":"VLOOKUP(B2644,StuData,2,0)","v":{"$error":"#N/A"}}]
["Scholar No. ::-",{"$f":"VLOOKUP(B2644,StuData,3,0)","v":{"$error":"#N/A"}}]
["Class Roll No. ::-",{"$f":"VLOOKUP(B2644,StuData,4,0)","v":{"$error":"#N/A"}}]
["Date of Birth ::-",{"$f":"VLOOKUP(B2644,StuData,8,0)","v":{"$error":"#N/A"}}]
["Date of Admission ::-",{"$f":"VLOOKUP(B2644,StuData,9,0)","v":{"$error":"#N/A"}}]
["Aadhar No. ::-",{"$f":"VLOOKUP(B2644,StuData,10,0)","v":{"$error":"#N/A"}}]
["Mobile No. ::-",{"$f":"VLOOKUP(B2644,StuData,11,0)","v":{"$error":"#N/A"}}]
["Address ::-",{"$f":"VLOOKUP(B2644,StuData,12,0)","v":{"$error":"#N/A"}}]
[]
["fo\"k;@xzsM","fgUnh","vxzsath","xf.kr","Ik;kZoj.k@foKku","lk-foKku","laLd`r"]
["vkadyu 1"]
["vkadyu 2"]
["vkadyu 3"]
["lesfdr vkadyu"]
[]
[]
[]
[]
["g- fo|kFkhZ","g- vfHkHkkod",null,"g- d{kk/;kid",null,"g- 'kkykiz/kku"]
[]
[{"$f":"$I$4","v":"GOVT.SENIOR SECONDARY SCHOOL ------------,MASUDA(BEAWAR)"}]
[]
[]
[]
["Sr.No.",93,{"$f":"$K$5","v":"Session :: 2024-25"}]
["U Dise Code ::-",{"$f":"$M$11","v":"0 ---------------"},null,null,null,"Paste Here Latest Passport Size Photo of Student"]
["Name of Student ::-",{"$f":"VLOOKUP(B2673,StuData,5,0)","v":{"$error":"#N/A"}}]
["Father's Name ::-",{"$f":"VLOOKUP(B2673,StuData,6,0)","v":{"$error":"#N/A"}}]
["Mother's Name ::-",{"$f":"VLOOKUP(B2673,StuData,7,0)","v":{"$error":"#N/A"}}]
["Class ::-",{"$f":"VLOOKUP(B2673,StuData,2,0)","v":{"$error":"#N/A"}}]
["Scholar No. ::-",{"$f":"VLOOKUP(B2673,StuData,3,0)","v":{"$error":"#N/A"}}]
["Class Roll No. ::-",{"$f":"VLOOKUP(B2673,StuData,4,0)","v":{"$error":"#N/A"}}]
["Date of Birth ::-",{"$f":"VLOOKUP(B2673,StuData,8,0)","v":{"$error":"#N/A"}}]
["Date of Admission ::-",{"$f":"VLOOKUP(B2673,StuData,9,0)","v":{"$error":"#N/A"}}]
["Aadhar No. ::-",{"$f":"VLOOKUP(B2673,StuData,10,0)","v":{"$error":"#N/A"}}]
["Mobile No. ::-",{"$f":"VLOOKUP(B2673,StuData,11,0)","v":{"$error":"#N/A"}}]
["Address ::-",{"$f":"VLOOKUP(B2673,StuData,12,0)","v":{"$error":"#N/A"}}]
[]
["fo\"k;@xzsM","fgUnh","vxzsath","xf.kr","Ik;kZoj.k@foKku","lk-foKku","laLd`r"]
["vkadyu 1"]
["vkadyu 2"]
["vkadyu 3"]
["lesfdr vkadyu"]
[]
[]
[]
[]
["g- fo|kFkhZ","g- vfHkHkkod",null,"g- d{kk/;kid",null,"g- 'kkykiz/kku"]
[]
[{"$f":"$I$4","v":"GOVT.SENIOR SECONDARY SCHOOL ------------,MASUDA(BEAWAR)"}]
[]
[]
[]
["Sr.No.",94,{"$f":"$K$5","v":"Session :: 2024-25"}]
["U Dise Code ::-",{"$f":"$M$11","v":"0 ---------------"},null,null,null,"Paste Here Latest Passport Size Photo of Student"]
["Name of Student ::-",{"$f":"VLOOKUP(B2702,StuData,5,0)","v":{"$error":"#N/A"}}]
["Father's Name ::-",{"$f":"VLOOKUP(B2702,StuData,6,0)","v":{"$error":"#N/A"}}]
["Mother's Name ::-",{"$f":"VLOOKUP(B2702,StuData,7,0)","v":{"$error":"#N/A"}}]
["Class ::-",{"$f":"VLOOKUP(B2702,StuData,2,0)","v":{"$error":"#N/A"}}]
["Scholar No. ::-",{"$f":"VLOOKUP(B2702,StuData,3,0)","v":{"$error":"#N/A"}}]
["Class Roll No. ::-",{"$f":"VLOOKUP(B2702,StuData,4,0)","v":{"$error":"#N/A"}}]
["Date of Birth ::-",{"$f":"VLOOKUP(B2702,StuData,8,0)","v":{"$error":"#N/A"}}]
["Date of Admission ::-",{"$f":"VLOOKUP(B2702,StuData,9,0)","v":{"$error":"#N/A"}}]
["Aadhar No. ::-",{"$f":"VLOOKUP(B2702,StuData,10,0)","v":{"$error":"#N/A"}}]
["Mobile No. ::-",{"$f":"VLOOKUP(B2702,StuData,11,0)","v":{"$error":"#N/A"}}]
["Address ::-",{"$f":"VLOOKUP(B2702,StuData,12,0)","v":{"$error":"#N/A"}}]
[]
["fo\"k;@xzsM","fgUnh","vxzsath","xf.kr","Ik;kZoj.k@foKku","lk-foKku","laLd`r"]
["vkadyu 1"]
["vkadyu 2"]
["vkadyu 3"]
["lesfdr vkadyu"]
[]
[]
[]
[]
["g- fo|kFkhZ","g- vfHkHkkod",null,"g- d{kk/;kid",null,"g- 'kkykiz/kku"]
[]
[{"$f":"$I$4","v":"GOVT.SENIOR SECONDARY SCHOOL ------------,MASUDA(BEAWAR)"}]
[]
[]
[]
["Sr.No.",95,{"$f":"$K$5","v":"Session :: 2024-25"}]
["U Dise Code ::-",{"$f":"$M$11","v":"0 ---------------"},null,null,null,"Paste Here Latest Passport Size Photo of Student"]
["Name of Student ::-",{"$f":"VLOOKUP(B2731,StuData,5,0)","v":{"$error":"#N/A"}}]
["Father's Name ::-",{"$f":"VLOOKUP(B2731,StuData,6,0)","v":{"$error":"#N/A"}}]
["Mother's Name ::-",{"$f":"VLOOKUP(B2731,StuData,7,0)","v":{"$error":"#N/A"}}]
["Class ::-",{"$f":"VLOOKUP(B2731,StuData,2,0)","v":{"$error":"#N/A"}}]
["Scholar No. ::-",{"$f":"VLOOKUP(B2731,StuData,3,0)","v":{"$error":"#N/A"}}]
["Class Roll No. ::-",{"$f":"VLOOKUP(B2731,StuData,4,0)","v":{"$error":"#N/A"}}]
["Date of Birth ::-",{"$f":"VLOOKUP(B2731,StuData,8,0)","v":{"$error":"#N/A"}}]
["Date of Admission ::-",{"$f":"VLOOKUP(B2731,StuData,9,0)","v":{"$error":"#N/A"}}]
["Aadhar No. ::-",{"$f":"VLOOKUP(B2731,StuData,10,0)","v":{"$error":"#N/A"}}]
["Mobile No. ::-",{"$f":"VLOOKUP(B2731,StuData,11,0)","v":{"$error":"#N/A"}}]
["Address ::-",{"$f":"VLOOKUP(B2731,StuData,12,0)","v":{"$error":"#N/A"}}]
[]
["fo\"k;@xzsM","fgUnh","vxzsath","xf.kr","Ik;kZoj.k@foKku","lk-foKku","laLd`r"]
["vkadyu 1"]
["vkadyu 2"]
["vkadyu 3"]
["lesfdr vkadyu"]
[]
[]
[]
[]
["g- fo|kFkhZ","g- vfHkHkkod",null,"g- d{kk/;kid",null,"g- 'kkykiz/kku"]
[]
[{"$f":"$I$4","v":"GOVT.SENIOR SECONDARY SCHOOL ------------,MASUDA(BEAWAR)"}]
[]
[]
[]
["Sr.No.",96,{"$f":"$K$5","v":"Session :: 2024-25"}]
["U Dise Code ::-",{"$f":"$M$11","v":"0 ---------------"},null,null,null,"Paste Here Latest Passport Size Photo of Student"]
["Name of Student ::-",{"$f":"VLOOKUP(B2760,StuData,5,0)","v":{"$error":"#N/A"}}]
["Father's Name ::-",{"$f":"VLOOKUP(B2760,StuData,6,0)","v":{"$error":"#N/A"}}]
["Mother's Name ::-",{"$f":"VLOOKUP(B2760,StuData,7,0)","v":{"$error":"#N/A"}}]
["Class ::-",{"$f":"VLOOKUP(B2760,StuData,2,0)","v":{"$error":"#N/A"}}]
["Scholar No. ::-",{"$f":"VLOOKUP(B2760,StuData,3,0)","v":{"$error":"#N/A"}}]
["Class Roll No. ::-",{"$f":"VLOOKUP(B2760,StuData,4,0)","v":{"$error":"#N/A"}}]
["Date of Birth ::-",{"$f":"VLOOKUP(B2760,StuData,8,0)","v":{"$error":"#N/A"}}]
["Date of Admission ::-",{"$f":"VLOOKUP(B2760,StuData,9,0)","v":{"$error":"#N/A"}}]
["Aadhar No. ::-",{"$f":"VLOOKUP(B2760,StuData,10,0)","v":{"$error":"#N/A"}}]
["Mobile No. ::-",{"$f":"VLOOKUP(B2760,StuData,11,0)","v":{"$error":"#N/A"}}]
["Address ::-",{"$f":"VLOOKUP(B2760,StuData,12,0)","v":{"$error":"#N/A"}}]
[]
["fo\"k;@xzsM","fgUnh","vxzsath","xf.kr","Ik;kZoj.k@foKku","lk-foKku","laLd`r"]
["vkadyu 1"]
["vkadyu 2"]
["vkadyu 3"]
["lesfdr vkadyu"]
[]
[]
[]
[]
["g- fo|kFkhZ","g- vfHkHkkod",null,"g- d{kk/;kid",null,"g- 'kkykiz/kku"]
[]
[{"$f":"$I$4","v":"GOVT.SENIOR SECONDARY SCHOOL ------------,MASUDA(BEAWAR)"}]
[]
[]
[]
["Sr.No.",97,{"$f":"$K$5","v":"Session :: 2024-25"}]
["U Dise Code ::-",{"$f":"$M$11","v":"0 ---------------"},null,null,null,"Paste Here Latest Passport Size Photo of Student"]
["Name of Student ::-",{"$f":"VLOOKUP(B2789,StuData,5,0)","v":{"$error":"#N/A"}}]
["Father's Name ::-",{"$f":"VLOOKUP(B2789,StuData,6,0)","v":{"$error":"#N/A"}}]
["Mother's Name ::-",{"$f":"VLOOKUP(B2789,StuData,7,0)","v":{"$error":"#N/A"}}]
["Class ::-",{"$f":"VLOOKUP(B2789,StuData,2,0)","v":{"$error":"#N/A"}}]
["Scholar No. ::-",{"$f":"VLOOKUP(B2789,StuData,3,0)","v":{"$error":"#N/A"}}]
["Class Roll No. ::-",{"$f":"VLOOKUP(B2789,StuData,4,0)","v":{"$error":"#N/A"}}]
["Date of Birth ::-",{"$f":"VLOOKUP(B2789,StuData,8,0)","v":{"$error":"#N/A"}}]
["Date of Admission ::-",{"$f":"VLOOKUP(B2789,StuData,9,0)","v":{"$error":"#N/A"}}]
["Aadhar No. ::-",{"$f":"VLOOKUP(B2789,StuData,10,0)","v":{"$error":"#N/A"}}]
["Mobile No. ::-",{"$f":"VLOOKUP(B2789,StuData,11,0)","v":{"$error":"#N/A"}}]
["Address ::-",{"$f":"VLOOKUP(B2789,StuData,12,0)","v":{"$error":"#N/A"}}]
[]
["fo\"k;@xzsM","fgUnh","vxzsath","xf.kr","Ik;kZoj.k@foKku","lk-foKku","laLd`r"]
["vkadyu 1"]
["vkadyu 2"]
["vkadyu 3"]
["lesfdr vkadyu"]
[]
[]
[]
[]
["g- fo|kFkhZ","g- vfHkHkkod",null,"g- d{kk/;kid",null,"g- 'kkykiz/kku"]
[]
[{"$f":"$I$4","v":"GOVT.SENIOR SECONDARY SCHOOL ------------,MASUDA(BEAWAR)"}]
[]
[]
[]
["Sr.No.",98,{"$f":"$K$5","v":"Session :: 2024-25"}]
["U Dise Code ::-",{"$f":"$M$11","v":"0 ---------------"},null,null,null,"Paste Here Latest Passport Size Photo of Student"]
["Name of Student ::-",{"$f":"VLOOKUP(B2818,StuData,5,0)","v":{"$error":"#N/A"}}]
["Father's Name ::-",{"$f":"VLOOKUP(B2818,StuData,6,0)","v":{"$error":"#N/A"}}]
["Mother's Name ::-",{"$f":"VLOOKUP(B2818,StuData,7,0)","v":{"$error":"#N/A"}}]
["Class ::-",{"$f":"VLOOKUP(B2818,StuData,2,0)","v":{"$error":"#N/A"}}]
["Scholar No. ::-",{"$f":"VLOOKUP(B2818,StuData,3,0)","v":{"$error":"#N/A"}}]
["Class Roll No. ::-",{"$f":"VLOOKUP(B2818,StuData,4,0)","v":{"$error":"#N/A"}}]
["Date of Birth ::-",{"$f":"VLOOKUP(B2818,StuData,8,0)","v":{"$error":"#N/A"}}]
["Date of Admission ::-",{"$f":"VLOOKUP(B2818,StuData,9,0)","v":{"$error":"#N/A"}}]
["Aadhar No. ::-",{"$f":"VLOOKUP(B2818,StuData,10,0)","v":{"$error":"#N/A"}}]
["Mobile No. ::-",{"$f":"VLOOKUP(B2818,StuData,11,0)","v":{"$error":"#N/A"}}]
["Address ::-",{"$f":"VLOOKUP(B2818,StuData,12,0)","v":{"$error":"#N/A"}}]
[]
["fo\"k;@xzsM","fgUnh","vxzsath","xf.kr","Ik;kZoj.k@foKku","lk-foKku","laLd`r"]
["vkadyu 1"]
["vkadyu 2"]
["vkadyu 3"]
["lesfdr vkadyu"]
[]
[]
[]
[]
["g- fo|kFkhZ","g- vfHkHkkod",null,"g- d{kk/;kid",null,"g- 'kkykiz/kku"]
[]
[{"$f":"$I$4","v":"GOVT.SENIOR SECONDARY SCHOOL ------------,MASUDA(BEAWAR)"}]
[]
[]
[]
["Sr.No.",99,{"$f":"$K$5","v":"Session :: 2024-25"}]
["U Dise Code ::-",{"$f":"$M$11","v":"0 ---------------"},null,null,null,"Paste Here Latest Passport Size Photo of Student"]
["Name of Student ::-",{"$f":"VLOOKUP(B2847,StuData,5,0)","v":{"$error":"#N/A"}}]
["Father's Name ::-",{"$f":"VLOOKUP(B2847,StuData,6,0)","v":{"$error":"#N/A"}}]
["Mother's Name ::-",{"$f":"VLOOKUP(B2847,StuData,7,0)","v":{"$error":"#N/A"}}]
["Class ::-",{"$f":"VLOOKUP(B2847,StuData,2,0)","v":{"$error":"#N/A"}}]
["Scholar No. ::-",{"$f":"VLOOKUP(B2847,StuData,3,0)","v":{"$error":"#N/A"}}]
["Class Roll No. ::-",{"$f":"VLOOKUP(B2847,StuData,4,0)","v":{"$error":"#N/A"}}]
["Date of Birth ::-",{"$f":"VLOOKUP(B2847,StuData,8,0)","v":{"$error":"#N/A"}}]
["Date of Admission ::-",{"$f":"VLOOKUP(B2847,StuData,9,0)","v":{"$error":"#N/A"}}]
["Aadhar No. ::-",{"$f":"VLOOKUP(B2847,StuData,10,0)","v":{"$error":"#N/A"}}]
["Mobile No. ::-",{"$f":"VLOOKUP(B2847,StuData,11,0)","v":{"$error":"#N/A"}}]
["Address ::-",{"$f":"VLOOKUP(B2847,StuData,12,0)","v":{"$error":"#N/A"}}]
[]
["fo\"k;@xzsM","fgUnh","vxzsath","xf.kr","Ik;kZoj.k@foKku","lk-foKku","laLd`r"]
["vkadyu 1"]
["vkadyu 2"]
["vkadyu 3"]
["lesfdr vkadyu"]
[]
[]
[]
[]
["g- fo|kFkhZ","g- vfHkHkkod",null,"g- d{kk/;kid",null,"g- 'kkykiz/kku"]
[]
[{"$f":"$I$4","v":"GOVT.SENIOR SECONDARY SCHOOL ------------,MASUDA(BEAWAR)"}]
[]
[]
[]
["Sr.No.",100,{"$f":"$K$5","v":"Session :: 2024-25"}]
["U Dise Code ::-",{"$f":"$M$11","v":"0 ---------------"},null,null,null,"Paste Here Latest Passport Size Photo of Student"]
["Name of Student ::-",{"$f":"VLOOKUP(B2876,StuData,5,0)","v":{"$error":"#N/A"}}]
["Father's Name ::-",{"$f":"VLOOKUP(B2876,StuData,6,0)","v":{"$error":"#N/A"}}]
["Mother's Name ::-",{"$f":"VLOOKUP(B2876,StuData,7,0)","v":{"$error":"#N/A"}}]
["Class ::-",{"$f":"VLOOKUP(B2876,StuData,2,0)","v":{"$error":"#N/A"}}]
["Scholar No. ::-",{"$f":"VLOOKUP(B2876,StuData,3,0)","v":{"$error":"#N/A"}}]
["Class Roll No. ::-",{"$f":"VLOOKUP(B2876,StuData,4,0)","v":{"$error":"#N/A"}}]
["Date of Birth ::-",{"$f":"VLOOKUP(B2876,StuData,8,0)","v":{"$error":"#N/A"}}]
["Date of Admission ::-",{"$f":"VLOOKUP(B2876,StuData,9,0)","v":{"$error":"#N/A"}}]
["Aadhar No. ::-",{"$f":"VLOOKUP(B2876,StuData,10,0)","v":{"$error":"#N/A"}}]
["Mobile No. ::-",{"$f":"VLOOKUP(B2876,StuData,11,0)","v":{"$error":"#N/A"}}]
["Address ::-",{"$f":"VLOOKUP(B2876,StuData,12,0)","v":{"$error":"#N/A"}}]
[]
["fo\"k;@xzsM","fgUnh","vxzsath","xf.kr","Ik;kZoj.k@foKku","lk-foKku","laLd`r"]
["vkadyu 1"]
["vkadyu 2"]
["vkadyu 3"]
["lesfdr vkadyu"]
[]
[]
[]
[]
["g- fo|kFkhZ","g- vfHkHkkod",null,"g- d{kk/;kid",null,"g- 'kkykiz/kku"]

{"sheet":"Portfolio Eng","index":3,"n_rows":2999,"n_cols":7,"rows_kept":2999,"cut":false,"hidden":false,"merged":[[10,1,10,4],[11,1,11,4],[12,1,12,4],[13,1,13,4],[14,1,14,4],[15,1,15,4],[0,0,0,6],[1,0,1,6],[3,0,3,6],[4,2,4,4],[5,1,5,4],[5,5,10,6],[6,1,6,4],[7,1,7,4],[8,1,8,4],[9,1,9,4],[30,0,30,6],[31,0,31,6],[33,0,33,6],[34,2,34,4],[35,1,35,4],[35,5,40,6],[36,1,36,4],[37,1,37,4],[38,1,38,4],[22,0,22,1],[22,5,22,6],[23,1,23,2],[23,3,23,4],[23,5,23,6],[28,1,28,2],[16,1,16,4],[19,0,19,1],[19,5,19,6],[20,0,20,1],[20,5,20,6],[21,0,21,1],[21,5,21,6],[51,0,51,1],[51,5,51,6],[52,0,52,1],[52,5,52,6],[53,1,53,2],[53,3,53,4],[53,5,53,6],[45,1,45,4],[46,1,46,4],[49,0,49,1],[49,5,49,6],[50,0,50,1],[50,5,50,6],[39,1,39,4],[40,1,40,4],[41,1,41,4],[42,1,42,4],[43,1,43,4],[44,1,44,4],[75,1,75,4],[76,1,76,4],[79,0,79,1],[79,5,79,6],[80,0,80,1],[80,5,80,6],[69,1,69,4],[70,1,70,4],[71,1,71,4],[72,1,72,4],[73,1,73,4],[74,1,74,4],[58,1,58,2],[60,0,60,6],[61,0,61,6],[63,0,63,6],[64,2,64,4],[65,1,65,4],[65,5,70,6],[66,1,66,4],[67,1,67,4],[68,1,68,4],[88,1,88,2],[90,0,90,6],[91,0,91,6],[93,0,93,6],[94,2,94,4],[95,1,95,4],[95,5,100,6],[96,1,96,4],[97,1,97,4],[98,1,98,4],[81,0,81,1],[81,5,81,6],[82,0,82,1],[82,5,82,6],[83,1,83,2],[83,3,83,4],[83,5,83,6],[111,0,111,1],[111,5,111,6],[112,0,112,1],[112,5,112,6],[113,1,113,2],[113,3,113,4],[113,5,113,6],[105,1,105,4],[106,1,106,4],[109,0,109,1],[109,5,109,6],[110,0,110,1],[110,5,110,6],[99,1,99,4],[100,1,100,4],[101,1,101,4],[102,1,102,4],[103,1,103,4],[104,1,104,4],[135,1,135,4],[136,1,136,4],[139,0,139,1],[139,5,139,6],[140,0,140,1],[140,5,140,6],[129,1,129,4],[130,1,130,4],[131,1,131,4],[132,1,132,4],[133,1,133,4],[134,1,134,4],[118,1,118,2],[120,0,120,6],[121,0,121,6],[123,0,123,6],[124,2,124,4],[125,1,125,4],[125,5,130,6],[126,1,126,4],[127,1,127,4],[128,1,128,4],[148,1,148,2],[150,0,150,6],[151,0,151,6],[153,0,153,6],[154,2,154,4],[155,1,155,4],[155,5,160,6],[156,1,156,4],[157,1,157,4],[158,1,158,4],[141,0,141,1],[141,5,141,6],[142,0,142,1],[142,5,142,6],[143,1,143,2],[143,3,143,4],[143,5,143,6],[171,0,171,1],[171,5,171,6],[172,0,172,1],[172,5,172,6],[173,1,173,2],[173,3,173,4],[173,5,173,6],[165,1,165,4],[166,1,166,4],[169,0,169,1],[169,5,169,6],[170,0,170,1],[170,5,170,6],[159,1,159,4],[160,1,160,4],[161,1,161,4],[162,1,162,4],[163,1,163,4],[164,1,164,4],[195,1,195,4],[196,1,196,4],[199,0,199,1],[199,5,199,6],[200,0,200,1],[200,5,200,6],[189,1,189,4],[190,1,190,4],[191,1,191,4],[192,1,192,4],[193,1,193,4],[194,1,194,4],[178,1,178,2],[180,0,180,6],[181,0,181,6],[183,0,183,6],[184,2,184,4],[185,1,185,4],[185,5,190,6],[186,1,186,4],[187,1,187,4],[188,1,188,4],[208,1,208,2],[210,0,210,6],[211,0,211,6],[213,0,213,6],[214,2,214,4],[215,1,215,4],[215,5,220,6],[216,1,216,4],[217,1,217,4],[218,1,218,4],[201,0,201,1],[201,5,201,6],[202,0,202,1],[202,5,202,6],[203,1,203,2],[203,3,203,4],[203,5,203,6],[231,0,231,1],[231,5,231,6],[232,0,232,1],[232,5,232,6],[233,1,233,2],[233,3,233,4],[233,5,233,6],[225,1,225,4],[226,1,226,4],[229,0,229,1],[229,5,229,6],[230,0,230,1],[230,5,230,6],[219,1,219,4],[220,1,220,4],[221,1,221,4],[222,1,222,4],[223,1,223,4],[224,1,224,4],[255,1,255,4],[256,1,256,4],[259,0,259,1],[259,5,259,6],[260,0,260,1],[260,5,260,6],[249,1,249,4],[250,1,250,4],[251,1,251,4],[252,1,252,4],[253,1,253,4],[254,1,254,4],[238,1,238,2],[240,0,240,6],[241,0,241,6],[243,0,243,6],[244,2,244,4],[245,1,245,4],[245,5,250,6],[246,1,246,4],[247,1,247,4],[248,1,248,4],[268,1,268,2],[270,0,270,6],[271,0,271,6],[273,0,273,6],[274,2,274,4],[275,1,275,4],[275,5,280,6],[276,1,276,4],[277,1,277,4],[278,1,278,4],[261,0,261,1],[261,5,261,6],[262,0,262,1],[262,5,262,6],[263,1,263,2],[263,3,263,4],[263,5,263,6],[291,0,291,1],[291,5,291,6],[292,0,292,1],[292,5,292,6],[293,1,293,2],[293,3,293,4],[293,5,293,6],[285,1,285,4],[286,1,286,4],[289,0,289,1],[289,5,289,6],[290,0,290,1],[290,5,290,6],[279,1,279,4],[280,1,280,4],[281,1,281,4],[282,1,282,4],[283,1,283,4],[284,1,284,4],[315,1,315,4],[316,1,316,4],[319,0,319,1],[319,5,319,6],[320,0,320,1],[320,5,320,6],[309,1,309,4],[310,1,310,4],[311,1,311,4],[312,1,312,4],[313,1,313,4],[314,1,314,4],[298,1,298,2],[300,0,300,6],[301,0,301,6],[303,0,303,6],[304,2,304,4],[305,1,305,4],[305,5,310,6],[306,1,306,4],[307,1,307,4],[308,1,308,4],[328,1,328,2],[330,0,330,6],[331,0,331,6],[333,0,333,6],[334,2,334,4],[335,1,335,4],[335,5,340,6],[336,1,336,4],[337,1,337,4],[338,1,338,4],[321,0,321,1],[321,5,321,6],[322,0,322,1],[322,5,322,6],[323,1,323,2],[323,3,323,4],[323,5,323,6],[351,0,351,1],[351,5,351,6],[352,0,352,1],[352,5,352,6],[353,1,353,2],[353,3,353,4],[353,5,353,6],[345,1,345,4],[346,1,346,4],[349,0,349,1],[349,5,349,6],[350,0,350,1],[350,5,350,6],[339,1,339,4],[340,1,340,4],[341,1,341,4],[342,1,342,4],[343,1,343,4],[344,1,344,4],[375,1,375,4],[376,1,376,4],[379,0,379,1],[379,5,379,6],[380,0,380,1],[380,5,380,6],[369,1,369,4],[370,1,370,4],[371,1,371,4],[372,1,372,4],[373,1,373,4],[374,1,374,4],[358,1,358,2],[360,0,360,6],[361,0,361,6],[363,0,363,6],[364,2,364,4],[365,1,365,4],[365,5,370,6],[366,1,366,4],[367,1,367,4],[368,1,368,4],[388,1,388,2],[390,0,390,6],[391,0,391,6],[393,0,393,6],[394,2,394,4],[395,1,395,4],[395,5,400,6],[396,1,396,4],[397,1,397,4],[398,1,398,4],[381,0,381,1],[381,5,381,6],[382,0,382,1],[382,5,382,6],[383,1,383,2],[383,3,383,4],[383,5,383,6],[411,0,411,1],[411,5,411,6],[412,0,412,1],[412,5,412,6],[413,1,413,2],[413,3,413,4],[413,5,413,6],[405,1,405,4],[406,1,406,4],[409,0,409,1],[409,5,409,6],[410,0,410,1],[410,5,410,6],[399,1,399,4],[400,1,400,4],[401,1,401,4],[402,1,402,4],[403,1,403,4],[404,1,404,4],[435,1,435,4],[436,1,436,4],[439,0,439,1],[439,5,439,6],[440,0,440,1],[440,5,440,6],[429,1,429,4],[430,1,430,4],[431,1,431,4],[432,1,432,4],[433,1,433,4],[434,1,434,4],[418,1,418,2],[420,0,420,6],[421,0,421,6],[423,0,423,6],[424,2,424,4],[425,1,425,4],[425,5,430,6],[426,1,426,4],[427,1,427,4],[428,1,428,4],[448,1,448,2],[450,0,450,6],[451,0,451,6],[453,0,453,6],[454,2,454,4],[455,1,455,4],[455,5,460,6],[456,1,456,4],[457,1,457,4],[458,1,458,4],[441,0,441,1],[441,5,441,6],[442,0,442,1],[442,5,442,6],[443,1,443,2],[443,3,443,4],[443,5,443,6],[471,0,471,1],[471,5,471,6],[472,0,472,1],[472,5,472,6],[473,1,473,2],[473,3,473,4],[473,5,473,6],[465,1,465,4],[466,1,466,4],[469,0,469,1],[469,5,469,6],[470,0,470,1],[470,5,470,6],[459,1,459,4],[460,1,460,4],[461,1,461,4],[462,1,462,4],[463,1,463,4],[464,1,464,4],[495,1,495,4],[496,1,496,4],[499,0,499,1],[499,5,499,6],[500,0,500,1],[500,5,500,6],[489,1,489,4],[490,1,490,4],[491,1,491,4],[492,1,492,4],[493,1,493,4],[494,1,494,4],[478,1,478,2],[480,0,480,6],[481,0,481,6],[483,0,483,6],[484,2,484,4],[485,1,485,4],[485,5,490,6],[486,1,486,4],[487,1,487,4],[488,1,488,4],[508,1,508,2],[510,0,510,6],[511,0,511,6],[513,0,513,6],[514,2,514,4],[515,1,515,4],[515,5,520,6],[516,1,516,4],[517,1,517,4],[518,1,518,4],[501,0,501,1],[501,5,501,6],[502,0,502,1],[502,5,502,6],[503,1,503,2],[503,3,503,4],[503,5,503,6],[531,0,531,1],[531,5,531,6],[532,0,532,1],[532,5,532,6],[533,1,533,2],[533,3,533,4],[533,5,533,6],[525,1,525,4],[526,1,526,4],[529,0,529,1],[529,5,529,6],[530,0,530,1],[530,5,530,6],[519,1,519,4],[520,1,520,4],[521,1,521,4],[522,1,522,4],[523,1,523,4],[524,1,524,4],[555,1,555,4],[556,1,556,4],[559,0,559,1],[559,5,559,6],[560,0,560,1],[560,5,560,6],[549,1,549,4],[550,1,550,4],[551,1,551,4],[552,1,552,4],[553,1,553,4],[554,1,554,4],[538,1,538,2],[540,0,540,6],[541,0,541,6],[543,0,543,6],[544,2,544,4],[545,1,545,4],[545,5,550,6],[546,1,546,4],[547,1,547,4],[548,1,548,4],[568,1,568,2],[570,0,570,6],[571,0,571,6],[573,0,573,6],[574,2,574,4],[575,1,575,4],[575,5,580,6],[576,1,576,4],[577,1,577,4],[578,1,578,4],[561,0,561,1],[561,5,561,6],[562,0,562,1],[562,5,562,6],[563,1,563,2],[563,3,563,4],[563,5,563,6],[591,0,591,1],[591,5,591,6],[592,0,592,1],[592,5,592,6],[593,1,593,2],[593,3,593,4],[593,5,593,6],[585,1,585,4],[586,1,586,4],[589,0,589,1],[589,5,589,6],[590,0,590,1],[590,5,590,6],[579,1,579,4],[580,1,580,4],[581,1,581,4],[582,1,582,4],[583,1,583,4],[584,1,584,4],[615,1,615,4],[616,1,616,4],[619,0,619,1],[619,5,619,6],[620,0,620,1],[620,5,620,6],[609,1,609,4],[610,1,610,4],[611,1,611,4],[612,1,612,4],[613,1,613,4],[614,1,614,4],[598,1,598,2],[600,0,600,6],[601,0,601,6],[603,0,603,6],[604,2,604,4],[605,1,605,4],[605,5,610,6],[606,1,606,4],[607,1,607,4],[608,1,608,4],[628,1,628,2],[630,0,630,6],[631,0,631,6],[633,0,633,6],[634,2,634,4],[635,1,635,4],[635,5,640,6],[636,1,636,4],[637,1,637,4],[638,1,638,4],[621,0,621,1],[621,5,621,6],[622,0,622,1],[622,5,622,6],[623,1,623,2],[623,3,623,4],[623,5,623,6],[651,0,651,1],[651,5,651,6],[652,0,652,1],[652,5,652,6],[653,1,653,2],[653,3,653,4],[653,5,653,6],[645,1,645,4],[646,1,646,4],[649,0,649,1],[649,5,649,6],[650,0,650,1],[650,5,650,6],[639,1,639,4],[640,1,640,4],[641,1,641,4],[642,1,642,4],[643,1,643,4],[644,1,644,4],[675,1,675,4],[676,1,676,4],[679,0,679,1],[679,5,679,6],[680,0,680,1],[680,5,680,6],[669,1,669,4],[670,1,670,4],[671,1,671,4],[672,1,672,4],[673,1,673,4],[674,1,674,4],[658,1,658,2],[660,0,660,6],[661,0,661,6],[663,0,663,6],[664,2,664,4],[665,1,665,4],[665,5,670,6],[666,1,666,4],[667,1,667,4],[668,1,668,4],[688,1,688,2],[690,0,690,6],[691,0,691,6],[693,0,693,6],[694,2,694,4],[695,1,695,4],[695,5,700,6],[696,1,696,4],[697,1,697,4],[698,1,698,4],[681,0,681,1],[681,5,681,6],[682,0,682,1],[682,5,682,6],[683,1,683,2],[683,3,683,4],[683,5,683,6],[711,0,711,1],[711,5,711,6],[712,0,712,1],[712,5,712,6],[713,1,713,2],[713,3,713,4],[713,5,713,6],[705,1,705,4],[706,1,706,4],[709,0,709,1],[709,5,709,6],[710,0,710,1],[710,5,710,6],[699,1,699,4],[700,1,700,4],[701,1,701,4],[702,1,702,4],[703,1,703,4],[704,1,704,4],[735,1,735,4],[736,1,736,4],[739,0,739,1],[739,5,739,6],[740,0,740,1],[740,5,740,6],[729,1,729,4],[730,1,730,4],[731,1,731,4],[732,1,732,4],[733,1,733,4],[734,1,734,4],[718,1,718,2],[720,0,720,6],[721,0,721,6],[723,0,723,6],[724,2,724,4],[725,1,725,4],[725,5,730,6],[726,1,726,4],[727,1,727,4],[728,1,728,4],[748,1,748,2],[750,0,750,6],[751,0,751,6],[753,0,753,6],[754,2,754,4],[755,1,755,4],[755,5,760,6],[756,1,756,4],[757,1,757,4],[758,1,758,4],[741,0,741,1],[741,5,741,6],[742,0,742,1],[742,5,742,6],[743,1,743,2],[743,3,743,4],[743,5,743,6],[771,0,771,1],[771,5,771,6],[772,0,772,1],[772,5,772,6],[773,1,773,2],[773,3,773,4],[773,5,773,6],[765,1,765,4],[766,1,766,4],[769,0,769,1],[769,5,769,6],[770,0,770,1],[770,5,770,6],[759,1,759,4],[760,1,760,4],[761,1,761,4],[762,1,762,4],[763,1,763,4],[764,1,764,4],[795,1,795,4],[796,1,796,4],[799,0,799,1],[799,5,799,6],[800,0,800,1],[800,5,800,6],[789,1,789,4],[790,1,790,4],[791,1,791,4],[792,1,792,4],[793,1,793,4],[794,1,794,4],[778,1,778,2],[780,0,780,6],[781,0,781,6],[783,0,783,6],[784,2,784,4],[785,1,785,4],[785,5,790,6],[786,1,786,4],[787,1,787,4],[788,1,788,4],[808,1,808,2],[810,0,810,6],[811,0,811,6],[813,0,813,6],[814,2,814,4],[815,1,815,4],[815,5,820,6],[816,1,816,4],[817,1,817,4],[818,1,818,4],[801,0,801,1],[801,5,801,6],[802,0,802,1],[802,5,802,6],[803,1,803,2],[803,3,803,4],[803,5,803,6],[831,0,831,1],[831,5,831,6],[832,0,832,1],[832,5,832,6],[833,1,833,2],[833,3,833,4],[833,5,833,6],[825,1,825,4],[826,1,826,4],[829,0,829,1],[829,5,829,6],[830,0,830,1],[830,5,830,6],[819,1,819,4],[820,1,820,4],[821,1,821,4],[822,1,822,4],[823,1,823,4],[824,1,824,4],[855,1,855,4],[856,1,856,4],[859,0,859,1],[859,5,859,6],[860,0,860,1],[860,5,860,6],[849,1,849,4],[850,1,850,4],[851,1,851,4],[852,1,852,4],[853,1,853,4],[854,1,854,4],[838,1,838,2],[840,0,840,6],[841,0,841,6],[843,0,843,6],[844,2,844,4],[845,1,845,4],[845,5,850,6],[846,1,846,4],[847,1,847,4],[848,1,848,4],[868,1,868,2],[870,0,870,6],[871,0,871,6],[873,0,873,6],[874,2,874,4],[875,1,875,4],[875,5,880,6],[876,1,876,4],[877,1,877,4],[878,1,878,4],[861,0,861,1],[861,5,861,6],[862,0,862,1],[862,5,862,6],[863,1,863,2],[863,3,863,4],[863,5,863,6],[891,0,891,1],[891,5,891,6],[892,0,892,1],[892,5,892,6],[893,1,893,2],[893,3,893,4],[893,5,893,6],[885,1,885,4],[886,1,886,4],[889,0,889,1],[889,5,889,6],[890,0,890,1],[890,5,890,6],[879,1,879,4],[880,1,880,4],[881,1,881,4],[882,1,882,4],[883,1,883,4],[884,1,884,4],[915,1,915,4],[916,1,916,4],[919,0,919,1],[919,5,919,6],[920,0,920,1],[920,5,920,6],[909,1,909,4],[910,1,910,4],[911,1,911,4],[912,1,912,4],[913,1,913,4],[914,1,914,4],[898,1,898,2],[900,0,900,6],[901,0,901,6],[903,0,903,6],[904,2,904,4],[905,1,905,4],[905,5,910,6],[906,1,906,4],[907,1,907,4],[908,1,908,4],[928,1,928,2],[930,0,930,6],[931,0,931,6],[933,0,933,6],[934,2,934,4],[935,1,935,4],[935,5,940,6],[936,1,936,4],[937,1,937,4],[938,1,938,4],[921,0,921,1],[921,5,921,6],[922,0,922,1],[922,5,922,6],[923,1,923,2],[923,3,923,4],[923,5,923,6],[951,0,951,1],[951,5,951,6],[952,0,952,1],[952,5,952,6],[953,1,953,2],[953,3,953,4],[953,5,953,6],[945,1,945,4],[946,1,946,4],[949,0,949,1],[949,5,949,6],[950,0,950,1],[950,5,950,6],[939,1,939,4],[940,1,940,4],[941,1,941,4],[942,1,942,4],[943,1,943,4],[944,1,944,4],[975,1,975,4],[976,1,976,4],[979,0,979,1],[979,5,979,6],[980,0,980,1],[980,5,980,6],[969,1,969,4],[970,1,970,4],[971,1,971,4],[972,1,972,4],[973,1,973,4],[974,1,974,4],[958,1,958,2],[960,0,960,6],[961,0,961,6],[963,0,963,6],[964,2,964,4],[965,1,965,4],[965,5,970,6],[966,1,966,4],[967,1,967,4],[968,1,968,4],[988,1,988,2],[990,0,990,6],[991,0,991,6],[993,0,993,6],[994,2,994,4],[995,1,995,4],[995,5,1000,6],[996,1,996,4],[997,1,997,4],[998,1,998,4],[981,0,981,1],[981,5,981,6],[982,0,982,1],[982,5,982,6],[983,1,983,2],[983,3,983,4],[983,5,983,6],[1011,0,1011,1],[1011,5,1011,6],[1012,0,1012,1],[1012,5,1012,6],[1013,1,1013,2],[1013,3,1013,4],[1013,5,1013,6],[1005,1,1005,4],[1006,1,1006,4],[1009,0,1009,1],[1009,5,1009,6],[1010,0,1010,1],[1010,5,1010,6],[999,1,999,4],[1000,1,1000,4],[1001,1,1001,4],[1002,1,1002,4],[1003,1,1003,4],[1004,1,1004,4],[1035,1,1035,4],[1036,1,1036,4],[1039,0,1039,1],[1039,5,1039,6],[1040,0,1040,1],[1040,5,1040,6],[1029,1,1029,4],[1030,1,1030,4],[1031,1,1031,4],[1032,1,1032,4],[1033,1,1033,4],[1034,1,1034,4],[1018,1,1018,2],[1020,0,1020,6],[1021,0,1021,6]],"merged_total":2900,"flags":["merged_cut"]}
[{"$f":"Portfolio!$I$4","v":"GOVT.SENIOR SECONDARY SCHOOL ------------,MASUDA(BEAWAR)"}]
[]
[]
[]
["Sr.No.",1,{"$f":"Portfolio!$K$5","v":"Session :: 2024-25"}]
["U Dise Code ::-",{"$f":"Portfolio!$M$11","v":"0 ---------------"},null,null,null,"Paste Here Latest Passport Size Photo of Student"]
["Name of Student ::-",{"$f":"VLOOKUP(B5,StuData,5,0)","v":"Anjna"}]
["Father's Name ::-",{"$f":"VLOOKUP(B5,StuData,6,0)","v":"Babu Singh"}]
["Mother's Name ::-",{"$f":"VLOOKUP(B5,StuData,7,0)","v":"Lalita"}]
["Class ::-",{"$f":"VLOOKUP(B5,StuData,2,0)","v":2}]
["Scholar No. ::-",{"$f":"VLOOKUP(B5,StuData,3,0)","v":75}]
["Class Roll No. ::-",{"$f":"VLOOKUP(B5,StuData,4,0)","v":0}]
["Date of Birth ::-",{"$f":"VLOOKUP(B5,StuData,8,0)","v":42659}]
["Date of Admission ::-",{"$f":"VLOOKUP(B5,StuData,9,0)","v":""}]
["Aadhar No. ::-",{"$f":"VLOOKUP(B5,StuData,10,0)","v":"XXXX6632"}]
["Mobile No. ::-",{"$f":"VLOOKUP(B5,StuData,11,0)","v":9461224515}]
["Address ::-",{"$f":"VLOOKUP(B5,StuData,12,0)","v":""}]
["Weight Starting",null,"Kg.","Ending",null,"Kg."]
["Height Starting",null,"Cm.","Ending",null,"Cm."]
["Subject/Grade",null,"Hindi","English","Math","EVS"]
["Summative Assessment-I"]
["Summative Assessment-II"]
["Summative Assessment-III"]
[]
[]
[]
[]
[]
["Student","Parents",null,null,"Class Teacher",null,"School Head"]
[]
[{"$f":"Portfolio!$I$4","v":"GOVT.SENIOR SECONDARY SCHOOL ------------,MASUDA(BEAWAR)"}]
[]
[]
[]
["Sr.No.",2,{"$f":"Portfolio!$K$5","v":"Session :: 2024-25"}]
["U Dise Code ::-",{"$f":"Portfolio!$M$11","v":"0 ---------------"},null,null,null,"Paste Here Latest Passport Size Photo of Student"]
["Name of Student ::-",{"$f":"VLOOKUP(B35,StuData,5,0)","v":"Arjun"}]
["Father's Name ::-",{"$f":"VLOOKUP(B35,StuData,6,0)","v":"Pratap Singh Rawat"}]
["Mother's Name ::-",{"$f":"VLOOKUP(B35,StuData,7,0)","v":"Nandu Devi"}]
["Class ::-",{"$f":"VLOOKUP(B35,StuData,2,0)","v":2}]
["Scholar No. ::-",{"$f":"VLOOKUP(B35,StuData,3,0)","v":74}]
["Class Roll No. ::-",{"$f":"VLOOKUP(B35,StuData,4,0)","v":0}]
["Date of Birth ::-",{"$f":"VLOOKUP(B35,StuData,8,0)","v":42545}]
["Date of Admission ::-",{"$f":"VLOOKUP(B35,StuData,9,0)","v":""}]
["Aadhar No. ::-",{"$f":"VLOOKUP(B35,StuData,10,0)","v":""}]
["Mobile No. ::-",{"$f":"VLOOKUP(B35,StuData,11,0)","v":7620450653}]
["Address ::-",{"$f":"VLOOKUP(B35,StuData,12,0)","v":""}]
["Weight Starting",null,"Kg.","Ending",null,"Kg."]
["Height Starting",null,"Cm.","Ending",null,"Cm."]
["Subject/Grade",null,"Hindi","English","Math","EVS"]
["Summative Assessment-I"]
["Summative Assessment-II"]
["Summative Assessment-III"]
[]
[]
[]
[]
[]
["Student","Parents",null,null,"Class Teacher",null,"School Head"]
[]
[{"$f":"Portfolio!$I$4","v":"GOVT.SENIOR SECONDARY SCHOOL ------------,MASUDA(BEAWAR)"}]
[]
[]
[]
["Sr.No.",3,{"$f":"Portfolio!$K$5","v":"Session :: 2024-25"}]
["U Dise Code ::-",{"$f":"Portfolio!$M$11","v":"0 ---------------"},null,null,null,"Paste Here Latest Passport Size Photo of Student"]
["Name of Student ::-",{"$f":"VLOOKUP(B65,StuData,5,0)","v":"Bhawana"}]
["Father's Name ::-",{"$f":"VLOOKUP(B65,StuData,6,0)","v":"Kailash Prajapat"}]
["Mother's Name ::-",{"$f":"VLOOKUP(B65,StuData,7,0)","v":"Rekha Devi"}]
["Class ::-",{"$f":"VLOOKUP(B65,StuData,2,0)","v":2}]
["Scholar No. ::-",{"$f":"VLOOKUP(B65,StuData,3,0)","v":70}]
["Class Roll No. ::-",{"$f":"VLOOKUP(B65,StuData,4,0)","v":0}]
["Date of Birth ::-",{"$f":"VLOOKUP(B65,StuData,8,0)","v":42642}]
["Date of Admission ::-",{"$f":"VLOOKUP(B65,StuData,9,0)","v":""}]
["Aadhar No. ::-",{"$f":"VLOOKUP(B65,StuData,10,0)","v":"XXXX3694"}]
["Mobile No. ::-",{"$f":"VLOOKUP(B65,StuData,11,0)","v":8955927264}]
["Address ::-",{"$f":"VLOOKUP(B65,StuData,12,0)","v":""}]
["Weight Starting",null,"Kg.","Ending",null,"Kg."]
["Height Starting",null,"Cm.","Ending",null,"Cm."]
["Subject/Grade",null,"Hindi","English","Math","EVS"]
["Summative Assessment-I"]
["Summative Assessment-II"]
["Summative Assessment-III"]
[]
[]
[]
[]
[]
["Student","Parents",null,null,"Class Teacher",null,"School Head"]
[]
[{"$f":"Portfolio!$I$4","v":"GOVT.SENIOR SECONDARY SCHOOL ------------,MASUDA(BEAWAR)"}]
[]
[]
[]
["Sr.No.",4,{"$f":"Portfolio!$K$5","v":"Session :: 2024-25"}]
["U Dise Code ::-",{"$f":"Portfolio!$M$11","v":"0 ---------------"},null,null,null,"Paste Here Latest Passport Size Photo of Student"]
["Name of Student ::-",{"$f":"VLOOKUP(B95,StuData,5,0)","v":"Bhawna"}]
["Father's Name ::-",{"$f":"VLOOKUP(B95,StuData,6,0)","v":"Durga Singh"}]
["Mother's Name ::-",{"$f":"VLOOKUP(B95,StuData,7,0)","v":"Kamla"}]
["Class ::-",{"$f":"VLOOKUP(B95,StuData,2,0)","v":2}]
["Scholar No. ::-",{"$f":"VLOOKUP(B95,StuData,3,0)","v":72}]
["Class Roll No. ::-",{"$f":"VLOOKUP(B95,StuData,4,0)","v":0}]
["Date of Birth ::-",{"$f":"VLOOKUP(B95,StuData,8,0)","v":42594}]
["Date of Admission ::-",{"$f":"VLOOKUP(B95,StuData,9,0)","v":""}]
["Aadhar No. ::-",{"$f":"VLOOKUP(B95,StuData,10,0)","v":""}]
["Mobile No. ::-",{"$f":"VLOOKUP(B95,StuData,11,0)","v":7878967015}]
["Address ::-",{"$f":"VLOOKUP(B95,StuData,12,0)","v":""}]
["Weight Starting",null,"Kg.","Ending",null,"Kg."]
["Height Starting",null,"Cm.","Ending",null,"Cm."]
["Subject/Grade",null,"Hindi","English","Math","EVS"]
["Summative Assessment-I"]
["Summative Assessment-II"]
["Summative Assessment-III"]
[]
[]
[]
[]
[]
["Student","Parents",null,null,"Class Teacher",null,"School Head"]
[]
[{"$f":"Portfolio!$I$4","v":"GOVT.SENIOR SECONDARY SCHOOL ------------,MASUDA(BEAWAR)"}]
[]
[]
[]
["Sr.No.",5,{"$f":"Portfolio!$K$5","v":"Session :: 2024-25"}]
["U Dise Code ::-",{"$f":"Portfolio!$M$11","v":"0 ---------------"},null,null,null,"Paste Here Latest Passport Size Photo of Student"]
["Name of Student ::-",{"$f":"VLOOKUP(B125,StuData,5,0)","v":"Krishna"}]
["Father's Name ::-",{"$f":"VLOOKUP(B125,StuData,6,0)","v":"Trilok Singh"}]
["Mother's Name ::-",{"$f":"VLOOKUP(B125,StuData,7,0)","v":"Sumitra"}]
["Class ::-",{"$f":"VLOOKUP(B125,StuData,2,0)","v":2}]
["Scholar No. ::-",{"$f":"VLOOKUP(B125,StuData,3,0)","v":67}]
["Class Roll No. ::-",{"$f":"VLOOKUP(B125,StuData,4,0)","v":0}]
["Date of Birth ::-",{"$f":"VLOOKUP(B125,StuData,8,0)","v":42685}]
["Date of Admission ::-",{"$f":"VLOOKUP(B125,StuData,9,0)","v":""}]
["Aadhar No. ::-",{"$f":"VLOOKUP(B125,StuData,10,0)","v":""}]
["Mobile No. ::-",{"$f":"VLOOKUP(B125,StuData,11,0)","v":9461224515}]
["Address ::-",{"$f":"VLOOKUP(B125,StuData,12,0)","v":""}]
["Weight Starting",null,"Kg.","Ending",null,"Kg."]
["Height Starting",null,"Cm.","Ending",null,"Cm."]
["Subject/Grade",null,"Hindi","English","Math","EVS"]
["Summative Assessment-I"]
["Summative Assessment-II"]
["Summative Assessment-III"]
[]
[]
[]
[]
[]
["Student","Parents",null,null,"Class Teacher",null,"School Head"]
[]
[{"$f":"Portfolio!$I$4","v":"GOVT.SENIOR SECONDARY SCHOOL ------------,MASUDA(BEAWAR)"}]
[]
[]
[]
["Sr.No.",6,{"$f":"Portfolio!$K$5","v":"Session :: 2024-25"}]
["U Dise Code ::-",{"$f":"Portfolio!$M$11","v":"0 ---------------"},null,null,null,"Paste Here Latest Passport Size Photo of Student"]
["Name of Student ::-",{"$f":"VLOOKUP(B155,StuData,5,0)","v":"Naitik"}]
["Father's Name ::-",{"$f":"VLOOKUP(B155,StuData,6,0)","v":"Om Prakash"}]
["Mother's Name ::-",{"$f":"VLOOKUP(B155,StuData,7,0)","v":"Chanchal"}]
["Class ::-",{"$f":"VLOOKUP(B155,StuData,2,0)","v":2}]
["Scholar No. ::-",{"$f":"VLOOKUP(B155,StuData,3,0)","v":73}]
["Class Roll No. ::-",{"$f":"VLOOKUP(B155,StuData,4,0)","v":0}]
["Date of Birth ::-",{"$f":"VLOOKUP(B155,StuData,8,0)","v":42867}]
["Date of Admission ::-",{"$f":"VLOOKUP(B155,StuData,9,0)","v":""}]
["Aadhar No. ::-",{"$f":"VLOOKUP(B155,StuData,10,0)","v":"XXXX0552"}]
["Mobile No. ::-",{"$f":"VLOOKUP(B155,StuData,11,0)","v":9461224515}]
["Address ::-",{"$f":"VLOOKUP(B155,StuData,12,0)","v":""}]
["Weight Starting",null,"Kg.","Ending",null,"Kg."]
["Height Starting",null,"Cm.","Ending",null,"Cm."]
["Subject/Grade",null,"Hindi","English","Math","EVS"]
["Summative Assessment-I"]
["Summative Assessment-II"]
["Summative Assessment-III"]
[]
[]
[]
[]
[]
["Student","Parents",null,null,"Class Teacher",null,"School Head"]
[]
[{"$f":"Portfolio!$I$4","v":"GOVT.SENIOR SECONDARY SCHOOL ------------,MASUDA(BEAWAR)"}]
[]
[]
[]
["Sr.No.",7,{"$f":"Portfolio!$K$5","v":"Session :: 2024-25"}]
["U Dise Code ::-",{"$f":"Portfolio!$M$11","v":"0 ---------------"},null,null,null,"Paste Here Latest Passport Size Photo of Student"]
["Name of Student ::-",{"$f":"VLOOKUP(B185,StuData,5,0)","v":"Niveeta Nath"}]
["Father's Name ::-",{"$f":"VLOOKUP(B185,StuData,6,0)","v":"Meva Nath"}]
["Mother's Name ::-",{"$f":"VLOOKUP(B185,StuData,7,0)","v":"Rekha Devi"}]
["Class ::-",{"$f":"VLOOKUP(B185,StuData,2,0)","v":2}]
["Scholar No. ::-",{"$f":"VLOOKUP(B185,StuData,3,0)","v":68}]
["Class Roll No. ::-",{"$f":"VLOOKUP(B185,StuData,4,0)","v":0}]
["Date of Birth ::-",{"$f":"VLOOKUP(B185,StuData,8,0)","v":42839}]
["Date of Admission ::-",{"$f":"VLOOKUP(B185,StuData,9,0)","v":""}]
["Aadhar No. ::-",{"$f":"VLOOKUP(B185,StuData,10,0)","v":"XXXX7695"}]
["Mobile No. ::-",{"$f":"VLOOKUP(B185,StuData,11,0)","v":8619334939}]
["Address ::-",{"$f":"VLOOKUP(B185,StuData,12,0)","v":""}]
["Weight Starting",null,"Kg.","Ending",null,"Kg."]
["Height Starting",null,"Cm.","Ending",null,"Cm."]
["Subject/Grade",null,"Hindi","English","Math","EVS"]
["Summative Assessment-I"]
["Summative Assessment-II"]
["Summative Assessment-III"]
[]
[]
[]
[]
[]
["Student","Parents",null,null,"Class Teacher",null,"School Head"]
[]
[{"$f":"Portfolio!$I$4","v":"GOVT.SENIOR SECONDARY SCHOOL ------------,MASUDA(BEAWAR)"}]
[]
[]
[]
["Sr.No.",8,{"$f":"Portfolio!$K$5","v":"Session :: 2024-25"}]
["U Dise Code ::-",{"$f":"Portfolio!$M$11","v":"0 ---------------"},null,null,null,"Paste Here Latest Passport Size Photo of Student"]
["Name of Student ::-",{"$f":"VLOOKUP(B215,StuData,5,0)","v":"Raksha"}]
["Father's Name ::-",{"$f":"VLOOKUP(B215,StuData,6,0)","v":"Pukhraj Prajapat"}]
["Mother's Name ::-",{"$f":"VLOOKUP(B215,StuData,7,0)","v":"Ghani"}]
["Class ::-",{"$f":"VLOOKUP(B215,StuData,2,0)","v":2}]
["Scholar No. ::-",{"$f":"VLOOKUP(B215,StuData,3,0)","v":69}]
["Class Roll No. ::-",{"$f":"VLOOKUP(B215,StuData,4,0)","v":0}]
["Date of Birth ::-",{"$f":"VLOOKUP(B215,StuData,8,0)","v":42600}]
["Date of Admission ::-",{"$f":"VLOOKUP(B215,StuData,9,0)","v":""}]
["Aadhar No. ::-",{"$f":"VLOOKUP(B215,StuData,10,0)","v":"XXXX4742"}]
["Mobile No. ::-",{"$f":"VLOOKUP(B215,StuData,11,0)","v":9356576958}]
["Address ::-",{"$f":"VLOOKUP(B215,StuData,12,0)","v":""}]
["Weight Starting",null,"Kg.","Ending",null,"Kg."]
["Height Starting",null,"Cm.","Ending",null,"Cm."]
["Subject/Grade",null,"Hindi","English","Math","EVS"]
["Summative Assessment-I"]
["Summative Assessment-II"]
["Summative Assessment-III"]
[]
[]
[]
[]
[]
["Student","Parents",null,null,"Class Teacher",null,"School Head"]
[]
[{"$f":"Portfolio!$I$4","v":"GOVT.SENIOR SECONDARY SCHOOL ------------,MASUDA(BEAWAR)"}]
[]
[]
[]
["Sr.No.",9,{"$f":"Portfolio!$K$5","v":"Session :: 2024-25"}]
["U Dise Code ::-",{"$f":"Portfolio!$M$11","v":"0 ---------------"},null,null,null,"Paste Here Latest Passport Size Photo of Student"]
["Name of Student ::-",{"$f":"VLOOKUP(B245,StuData,5,0)","v":"Sunil Singh"}]
["Father's Name ::-",{"$f":"VLOOKUP(B245,StuData,6,0)","v":"Gopal Singh Rawat"}]
["Mother's Name ::-",{"$f":"VLOOKUP(B245,StuData,7,0)","v":"Lalita"}]
["Class ::-",{"$f":"VLOOKUP(B245,StuData,2,0)","v":2}]
["Scholar No. ::-",{"$f":"VLOOKUP(B245,StuData,3,0)","v":71}]
["Class Roll No. ::-",{"$f":"VLOOKUP(B245,StuData,4,0)","v":0}]
["Date of Birth ::-",{"$f":"VLOOKUP(B245,StuData,8,0)","v":42785}]
["Date of Admission ::-",{"$f":"VLOOKUP(B245,StuData,9,0)","v":""}]
["Aadhar No. ::-",{"$f":"VLOOKUP(B245,StuData,10,0)","v":"XXXX5809"}]
["Mobile No. ::-",{"$f":"VLOOKUP(B245,StuData,11,0)","v":8619962981}]
["Address ::-",{"$f":"VLOOKUP(B245,StuData,12,0)","v":""}]
["Weight Starting",null,"Kg.","Ending",null,"Kg."]
["Height Starting",null,"Cm.","Ending",null,"Cm."]
["Subject/Grade",null,"Hindi","English","Math","EVS"]
["Summative Assessment-I"]
["Summative Assessment-II"]
["Summative Assessment-III"]
[]
[]
[]
[]
[]
["Student","Parents",null,null,"Class Teacher",null,"School Head"]
[]
[{"$f":"Portfolio!$I$4","v":"GOVT.SENIOR SECONDARY SCHOOL ------------,MASUDA(BEAWAR)"}]
[]
[]
[]
["Sr.No.",10,{"$f":"Portfolio!$K$5","v":"Session :: 2024-25"}]
["U Dise Code ::-",{"$f":"Portfolio!$M$11","v":"0 ---------------"},null,null,null,"Paste Here Latest Passport Size Photo of Student"]
["Name of Student ::-",{"$f":"VLOOKUP(B275,StuData,5,0)","v":"Lalita"}]
["Father's Name ::-",{"$f":"VLOOKUP(B275,StuData,6,0)","v":"Kailash Prajapat"}]
["Mother's Name ::-",{"$f":"VLOOKUP(B275,StuData,7,0)","v":"Rekha Devi"}]
["Class ::-",{"$f":"VLOOKUP(B275,StuData,2,0)","v":3}]
["Scholar No. ::-",{"$f":"VLOOKUP(B275,StuData,3,0)","v":66}]
["Class Roll No. ::-",{"$f":"VLOOKUP(B275,StuData,4,0)","v":0}]
["Date of Birth ::-",{"$f":"VLOOKUP(B275,StuData,8,0)","v":42169}]
["Date of Admission ::-",{"$f":"VLOOKUP(B275,StuData,9,0)","v":""}]
["Aadhar No. ::-",{"$f":"VLOOKUP(B275,StuData,10,0)","v":"XXXX3304"}]
["Mobile No. ::-",{"$f":"VLOOKUP(B275,StuData,11,0)","v":9356576958}]
["Address ::-",{"$f":"VLOOKUP(B275,StuData,12,0)","v":"REECHHMAL,MASUDA,REECHHMAL,305631"}]
["Weight Starting",null,"Kg.","Ending",null,"Kg."]
["Height Starting",null,"Cm.","Ending",null,"Cm."]
["Subject/Grade",null,"Hindi","English","Math","EVS"]
["Summative Assessment-I"]
["Summative Assessment-II"]
["Summative Assessment-III"]
[]
[]
[]
[]
[]
["Student","Parents",null,null,"Class Teacher",null,"School Head"]
[]
[{"$f":"Portfolio!$I$4","v":"GOVT.SENIOR SECONDARY SCHOOL ------------,MASUDA(BEAWAR)"}]
[]
[]
[]
["Sr.No.",11,{"$f":"Portfolio!$K$5","v":"Session :: 2024-25"}]
["U Dise Code ::-",{"$f":"Portfolio!$M$11","v":"0 ---------------"},null,null,null,"Paste Here Latest Passport Size Photo of Student"]
["Name of Student ::-",{"$f":"VLOOKUP(B305,StuData,5,0)","v":"Ashok Singh"}]
["Father's Name ::-",{"$f":"VLOOKUP(B305,StuData,6,0)","v":"Pratap Singh Rawat"}]
["Mother's Name ::-",{"$f":"VLOOKUP(B305,StuData,7,0)","v":"Nandu"}]
["Class ::-",{"$f":"VLOOKUP(B305,StuData,2,0)","v":4}]
["Scholar No. ::-",{"$f":"VLOOKUP(B305,StuData,3,0)","v":62}]
["Class Roll No. ::-",{"$f":"VLOOKUP(B305,StuData,4,0)","v":0}]
["Date of Birth ::-",{"$f":"VLOOKUP(B305,StuData,8,0)","v":42186}]
["Date of Admission ::-",{"$f":"VLOOKUP(B305,StuData,9,0)","v":""}]
["Aadhar No. ::-",{"$f":"VLOOKUP(B305,StuData,10,0)","v":"XXXX3136"}]
["Mobile No. ::-",{"$f":"VLOOKUP(B305,StuData,11,0)","v":9461224525}]
["Address ::-",{"$f":"VLOOKUP(B305,StuData,12,0)","v":"REECHHMAL,MASUDA,REECHHMAL,305631"}]
["Weight Starting",null,"Kg.","Ending",null,"Kg."]
["Height Starting",null,"Cm.","Ending",null,"Cm."]
["Subject/Grade",null,"Hindi","English","Math","EVS"]
["Summative Assessment-I"]
["Summative Assessment-II"]
["Summative Assessment-III"]
[]
[]
[]
[]
[]
["Student","Parents",null,null,"Class Teacher",null,"School Head"]
[]
[{"$f":"Portfolio!$I$4","v":"GOVT.SENIOR SECONDARY SCHOOL ------------,MASUDA(BEAWAR)"}]
[]
[]
[]
["Sr.No.",12,{"$f":"Portfolio!$K$5","v":"Session :: 2024-25"}]
["U Dise Code ::-",{"$f":"Portfolio!$M$11","v":"0 ---------------"},null,null,null,"Paste Here Latest Passport Size Photo of Student"]
["Name of Student ::-",{"$f":"VLOOKUP(B335,StuData,5,0)","v":"Komal"}]
["Father's Name ::-",{"$f":"VLOOKUP(B335,StuData,6,0)","v":"Prabhu Singh"}]
["Mother's Name ::-",{"$f":"VLOOKUP(B335,StuData,7,0)","v":"Rekha"}]
["Class ::-",{"$f":"VLOOKUP(B335,StuData,2,0)","v":4}]
["Scholar No. ::-",{"$f":"VLOOKUP(B335,StuData,3,0)","v":63}]
["Class Roll No. ::-",{"$f":"VLOOKUP(B335,StuData,4,0)","v":0}]
["Date of Birth ::-",{"$f":"VLOOKUP(B335,StuData,8,0)","v":42145}]
["Date of Admission ::-",{"$f":"VLOOKUP(B335,StuData,9,0)","v":""}]
["Aadhar No. ::-",{"$f":"VLOOKUP(B335,StuData,10,0)","v":"XXXX3653"}]
["Mobile No. ::-",{"$f":"VLOOKUP(B335,StuData,11,0)","v":9461224515}]
["Address ::-",{"$f":"VLOOKUP(B335,StuData,12,0)","v":"REECHHMAL,MASUDA,REECHHMAL,305631"}]
["Weight Starting",null,"Kg.","Ending",null,"Kg."]
["Height Starting",null,"Cm.","Ending",null,"Cm."]
["Subject/Grade",null,"Hindi","English","Math","EVS"]
["Summative Assessment-I"]
["Summative Assessment-II"]
["Summative Assessment-III"]
[]
[]
[]
[]
[]
["Student","Parents",null,null,"Class Teacher",null,"School Head"]
[]
[{"$f":"Portfolio!$I$4","v":"GOVT.SENIOR SECONDARY SCHOOL ------------,MASUDA(BEAWAR)"}]
[]
[]
[]
["Sr.No.",13,{"$f":"Portfolio!$K$5","v":"Session :: 2024-25"}]
["U Dise Code ::-",{"$f":"Portfolio!$M$11","v":"0 ---------------"},null,null,null,"Paste Here Latest Passport Size Photo of Student"]
["Name of Student ::-",{"$f":"VLOOKUP(B365,StuData,5,0)","v":"MAMTA"}]
["Father's Name ::-",{"$f":"VLOOKUP(B365,StuData,6,0)","v":"RAMESH SINGH"}]
["Mother's Name ::-",{"$f":"VLOOKUP(B365,StuData,7,0)","v":"SUMITRA"}]
["Class ::-",{"$f":"VLOOKUP(B365,StuData,2,0)","v":5}]
["Scholar No. ::-",{"$f":"VLOOKUP(B365,StuData,3,0)","v":56}]
["Class Roll No. ::-",{"$f":"VLOOKUP(B365,StuData,4,0)","v":0}]
["Date of Birth ::-",{"$f":"VLOOKUP(B365,StuData,8,0)","v":41275}]
["Date of Admission ::-",{"$f":"VLOOKUP(B365,StuData,9,0)","v":""}]
["Aadhar No. ::-",{"$f":"VLOOKUP(B365,StuData,10,0)","v":"XXXX3655"}]
["Mobile No. ::-",{"$f":"VLOOKUP(B365,StuData,11,0)","v":9461224515}]
["Address ::-",{"$f":"VLOOKUP(B365,StuData,12,0)","v":"REECHHMAL,MASUDA,REECHHMAL,305631"}]
["Weight Starting",null,"Kg.","Ending",null,"Kg."]
["Height Starting",null,"Cm.","Ending",null,"Cm."]
["Subject/Grade",null,"Hindi","English","Math","EVS"]
["Summative Assessment-I"]
["Summative Assessment-II"]
["Summative Assessment-III"]
[]
[]
[]
[]
[]
["Student","Parents",null,null,"Class Teacher",null,"School Head"]
[]
[{"$f":"Portfolio!$I$4","v":"GOVT.SENIOR SECONDARY SCHOOL ------------,MASUDA(BEAWAR)"}]
[]
[]
[]
["Sr.No.",14,{"$f":"Portfolio!$K$5","v":"Session :: 2024-25"}]
["U Dise Code ::-",{"$f":"Portfolio!$M$11","v":"0 ---------------"},null,null,null,"Paste Here Latest Passport Size Photo of Student"]
["Name of Student ::-",{"$f":"VLOOKUP(B395,StuData,5,0)","v":"Sanju Rawat"}]
["Father's Name ::-",{"$f":"VLOOKUP(B395,StuData,6,0)","v":"Bhanwar Singh Rawat"}]
["Mother's Name ::-",{"$f":"VLOOKUP(B395,StuData,7,0)","v":"Laxmi Rawat"}]
["Class ::-",{"$f":"VLOOKUP(B395,StuData,2,0)","v":5}]
["Scholar No. ::-",{"$f":"VLOOKUP(B395,StuData,3,0)","v":57}]
["Class Roll No. ::-",{"$f":"VLOOKUP(B395,StuData,4,0)","v":0}]
["Date of Birth ::-",{"$f":"VLOOKUP(B395,StuData,8,0)","v":41456}]
["Date of Admission ::-",{"$f":"VLOOKUP(B395,StuData,9,0)","v":""}]
["Aadhar No. ::-",{"$f":"VLOOKUP(B395,StuData,10,0)","v":""}]
["Mobile No. ::-",{"$f":"VLOOKUP(B395,StuData,11,0)","v":9461224515}]
["Address ::-",{"$f":"VLOOKUP(B395,StuData,12,0)","v":"REECHHMAL,MASUDA,REECHHMAL,305631"}]
["Weight Starting",null,"Kg.","Ending",null,"Kg."]
["Height Starting",null,"Cm.","Ending",null,"Cm."]
["Subject/Grade",null,"Hindi","English","Math","EVS"]
["Summative Assessment-I"]
["Summative Assessment-II"]
["Summative Assessment-III"]
[]
[]
[]
[]
[]
["Student","Parents",null,null,"Class Teacher",null,"School Head"]
[]
[{"$f":"Portfolio!$I$4","v":"GOVT.SENIOR SECONDARY SCHOOL ------------,MASUDA(BEAWAR)"}]
[]
[]
[]
["Sr.No.",15,{"$f":"Portfolio!$K$5","v":"Session :: 2024-25"}]
["U Dise Code ::-",{"$f":"Portfolio!$M$11","v":"0 ---------------"},null,null,null,"Paste Here Latest Passport Size Photo of Student"]
["Name of Student ::-",{"$f":"VLOOKUP(B425,StuData,5,0)","v":"Umesh Nath"}]
["Father's Name ::-",{"$f":"VLOOKUP(B425,StuData,6,0)","v":"Bhairu Nath"}]
["Mother's Name ::-",{"$f":"VLOOKUP(B425,StuData,7,0)","v":"Chandi Devi"}]
["Class ::-",{"$f":"VLOOKUP(B425,StuData,2,0)","v":5}]
["Scholar No. ::-",{"$f":"VLOOKUP(B425,StuData,3,0)","v":76}]
["Class Roll No. ::-",{"$f":"VLOOKUP(B425,StuData,4,0)","v":0}]
["Date of Birth ::-",{"$f":"VLOOKUP(B425,StuData,8,0)","v":41514}]
["Date of Admission ::-",{"$f":"VLOOKUP(B425,StuData,9,0)","v":""}]
["Aadhar No. ::-",{"$f":"VLOOKUP(B425,StuData,10,0)","v":"XXXX0504"}]
["Mobile No. ::-",{"$f":"VLOOKUP(B425,StuData,11,0)","v":9772880638}]
["Address ::-",{"$f":"VLOOKUP(B425,StuData,12,0)","v":""}]
["Weight Starting",null,"Kg.","Ending",null,"Kg."]
["Height Starting",null,"Cm.","Ending",null,"Cm."]
["Subject/Grade",null,"Hindi","English","Math","EVS"]
["Summative Assessment-I"]
["Summative Assessment-II"]
["Summative Assessment-III"]
[]
[]
[]
[]
[]
["Student","Parents",null,null,"Class Teacher",null,"School Head"]
[]
[{"$f":"Portfolio!$I$4","v":"GOVT.SENIOR SECONDARY SCHOOL ------------,MASUDA(BEAWAR)"}]
[]
[]
[]
["Sr.No.",16,{"$f":"Portfolio!$K$5","v":"Session :: 2024-25"}]
["U Dise Code ::-",{"$f":"Portfolio!$M$11","v":"0 ---------------"},null,null,null,"Paste Here Latest Passport Size Photo of Student"]
["Name of Student ::-",{"$f":"VLOOKUP(B455,StuData,5,0)","v":"Virat Nath"}]
["Father's Name ::-",{"$f":"VLOOKUP(B455,StuData,6,0)","v":"Meva Nath"}]
["Mother's Name ::-",{"$f":"VLOOKUP(B455,StuData,7,0)","v":"Rekha Devi"}]
["Class ::-",{"$f":"VLOOKUP(B455,StuData,2,0)","v":5}]
["Scholar No. ::-",{"$f":"VLOOKUP(B455,StuData,3,0)","v":60}]
["Class Roll No. ::-",{"$f":"VLOOKUP(B455,StuData,4,0)","v":0}]
["Date of Birth ::-",{"$f":"VLOOKUP(B455,StuData,8,0)","v":41875}]
["Date of Admission ::-",{"$f":"VLOOKUP(B455,StuData,9,0)","v":""}]
["Aadhar No. ::-",{"$f":"VLOOKUP(B455,StuData,10,0)","v":"XXXX3506"}]
["Mobile No. ::-",{"$f":"VLOOKUP(B455,StuData,11,0)","v":9921788115}]
["Address ::-",{"$f":"VLOOKUP(B455,StuData,12,0)","v":"REECHHMAL,MASUDA,REECHHMAL,305631"}]
["Weight Starting",null,"Kg.","Ending",null,"Kg."]
["Height Starting",null,"Cm.","Ending",null,"Cm."]
["Subject/Grade",null,"Hindi","English","Math","EVS"]
["Summative Assessment-I"]
["Summative Assessment-II"]
["Summative Assessment-III"]
[]
[]
[]
[]
[]
["Student","Parents",null,null,"Class Teacher",null,"School Head"]
[]
[{"$f":"Portfolio!$I$4","v":"GOVT.SENIOR SECONDARY SCHOOL ------------,MASUDA(BEAWAR)"}]
[]
[]
[]
["Sr.No.",17,{"$f":"Portfolio!$K$5","v":"Session :: 2024-25"}]
["U Dise Code ::-",{"$f":"Portfolio!$M$11","v":"0 ---------------"},null,null,null,"Paste Here Latest Passport Size Photo of Student"]
["Name of Student ::-",{"$f":"VLOOKUP(B485,StuData,5,0)","v":{"$error":"#N/A"}}]
["Father's Name ::-",{"$f":"VLOOKUP(B485,StuData,6,0)","v":{"$error":"#N/A"}}]
["Mother's Name ::-",{"$f":"VLOOKUP(B485,StuData,7,0)","v":{"$error":"#N/A"}}]
["Class ::-",{"$f":"VLOOKUP(B485,StuData,2,0)","v":{"$error":"#N/A"}}]
["Scholar No. ::-",{"$f":"VLOOKUP(B485,StuData,3,0)","v":{"$error":"#N/A"}}]
["Class Roll No. ::-",{"$f":"VLOOKUP(B485,StuData,4,0)","v":{"$error":"#N/A"}}]
["Date of Birth ::-",{"$f":"VLOOKUP(B485,StuData,8,0)","v":{"$error":"#N/A"}}]
["Date of Admission ::-",{"$f":"VLOOKUP(B485,StuData,9,0)","v":{"$error":"#N/A"}}]
["Aadhar No. ::-",{"$f":"VLOOKUP(B485,StuData,10,0)","v":{"$error":"#N/A"}}]
["Mobile No. ::-",{"$f":"VLOOKUP(B485,StuData,11,0)","v":{"$error":"#N/A"}}]
["Address ::-",{"$f":"VLOOKUP(B485,StuData,12,0)","v":{"$error":"#N/A"}}]
["Weight Starting",null,"Kg.","Ending",null,"Kg."]
["Height Starting",null,"Cm.","Ending",null,"Cm."]
["Subject/Grade",null,"Hindi","English","Math","EVS"]
["Summative Assessment-I"]
["Summative Assessment-II"]
["Summative Assessment-III"]
[]
[]
[]
[]
[]
["Student","Parents",null,null,"Class Teacher",null,"School Head"]
[]
[{"$f":"Portfolio!$I$4","v":"GOVT.SENIOR SECONDARY SCHOOL ------------,MASUDA(BEAWAR)"}]
[]
[]
[]
["Sr.No.",18,{"$f":"Portfolio!$K$5","v":"Session :: 2024-25"}]
["U Dise Code ::-",{"$f":"Portfolio!$M$11","v":"0 ---------------"},null,null,null,"Paste Here Latest Passport Size Photo of Student"]
["Name of Student ::-",{"$f":"VLOOKUP(B515,StuData,5,0)","v":{"$error":"#N/A"}}]
["Father's Name ::-",{"$f":"VLOOKUP(B515,StuData,6,0)","v":{"$error":"#N/A"}}]
["Mother's Name ::-",{"$f":"VLOOKUP(B515,StuData,7,0)","v":{"$error":"#N/A"}}]
["Class ::-",{"$f":"VLOOKUP(B515,StuData,2,0)","v":{"$error":"#N/A"}}]
["Scholar No. ::-",{"$f":"VLOOKUP(B515,StuData,3,0)","v":{"$error":"#N/A"}}]
["Class Roll No. ::-",{"$f":"VLOOKUP(B515,StuData,4,0)","v":{"$error":"#N/A"}}]
["Date of Birth ::-",{"$f":"VLOOKUP(B515,StuData,8,0)","v":{"$error":"#N/A"}}]
["Date of Admission ::-",{"$f":"VLOOKUP(B515,StuData,9,0)","v":{"$error":"#N/A"}}]
["Aadhar No. ::-",{"$f":"VLOOKUP(B515,StuData,10,0)","v":{"$error":"#N/A"}}]
["Mobile No. ::-",{"$f":"VLOOKUP(B515,StuData,11,0)","v":{"$error":"#N/A"}}]
["Address ::-",{"$f":"VLOOKUP(B515,StuData,12,0)","v":{"$error":"#N/A"}}]
["Weight Starting",null,"Kg.","Ending",null,"Kg."]
["Height Starting",null,"Cm.","Ending",null,"Cm."]
["Subject/Grade",null,"Hindi","English","Math","EVS"]
["Summative Assessment-I"]
["Summative Assessment-II"]
["Summative Assessment-III"]
[]
[]
[]
[]
[]
["Student","Parents",null,null,"Class Teacher",null,"School Head"]
[]
[{"$f":"Portfolio!$I$4","v":"GOVT.SENIOR SECONDARY SCHOOL ------------,MASUDA(BEAWAR)"}]
[]
[]
[]
["Sr.No.",19,{"$f":"Portfolio!$K$5","v":"Session :: 2024-25"}]
["U Dise Code ::-",{"$f":"Portfolio!$M$11","v":"0 ---------------"},null,null,null,"Paste Here Latest Passport Size Photo of Student"]
["Name of Student ::-",{"$f":"VLOOKUP(B545,StuData,5,0)","v":{"$error":"#N/A"}}]
["Father's Name ::-",{"$f":"VLOOKUP(B545,StuData,6,0)","v":{"$error":"#N/A"}}]
["Mother's Name ::-",{"$f":"VLOOKUP(B545,StuData,7,0)","v":{"$error":"#N/A"}}]
["Class ::-",{"$f":"VLOOKUP(B545,StuData,2,0)","v":{"$error":"#N/A"}}]
["Scholar No. ::-",{"$f":"VLOOKUP(B545,StuData,3,0)","v":{"$error":"#N/A"}}]
["Class Roll No. ::-",{"$f":"VLOOKUP(B545,StuData,4,0)","v":{"$error":"#N/A"}}]
["Date of Birth ::-",{"$f":"VLOOKUP(B545,StuData,8,0)","v":{"$error":"#N/A"}}]
["Date of Admission ::-",{"$f":"VLOOKUP(B545,StuData,9,0)","v":{"$error":"#N/A"}}]
["Aadhar No. ::-",{"$f":"VLOOKUP(B545,StuData,10,0)","v":{"$error":"#N/A"}}]
["Mobile No. ::-",{"$f":"VLOOKUP(B545,StuData,11,0)","v":{"$error":"#N/A"}}]
["Address ::-",{"$f":"VLOOKUP(B545,StuData,12,0)","v":{"$error":"#N/A"}}]
["Weight Starting",null,"Kg.","Ending",null,"Kg."]
["Height Starting",null,"Cm.","Ending",null,"Cm."]
["Subject/Grade",null,"Hindi","English","Math","EVS"]
["Summative Assessment-I"]
["Summative Assessment-II"]
["Summative Assessment-III"]
[]
[]
[]
[]
[]
["Student","Parents",null,null,"Class Teacher",null,"School Head"]
[]
[{"$f":"Portfolio!$I$4","v":"GOVT.SENIOR SECONDARY SCHOOL ------------,MASUDA(BEAWAR)"}]
[]
[]
[]
["Sr.No.",20,{"$f":"Portfolio!$K$5","v":"Session :: 2024-25"}]
["U Dise Code ::-",{"$f":"Portfolio!$M$11","v":"0 ---------------"},null,null,null,"Paste Here Latest Passport Size Photo of Student"]
["Name of Student ::-",{"$f":"VLOOKUP(B575,StuData,5,0)","v":{"$error":"#N/A"}}]
["Father's Name ::-",{"$f":"VLOOKUP(B575,StuData,6,0)","v":{"$error":"#N/A"}}]
["Mother's Name ::-",{"$f":"VLOOKUP(B575,StuData,7,0)","v":{"$error":"#N/A"}}]
["Class ::-",{"$f":"VLOOKUP(B575,StuData,2,0)","v":{"$error":"#N/A"}}]
["Scholar No. ::-",{"$f":"VLOOKUP(B575,StuData,3,0)","v":{"$error":"#N/A"}}]
["Class Roll No. ::-",{"$f":"VLOOKUP(B575,StuData,4,0)","v":{"$error":"#N/A"}}]
["Date of Birth ::-",{"$f":"VLOOKUP(B575,StuData,8,0)","v":{"$error":"#N/A"}}]
["Date of Admission ::-",{"$f":"VLOOKUP(B575,StuData,9,0)","v":{"$error":"#N/A"}}]
["Aadhar No. ::-",{"$f":"VLOOKUP(B575,StuData,10,0)","v":{"$error":"#N/A"}}]
["Mobile No. ::-",{"$f":"VLOOKUP(B575,StuData,11,0)","v":{"$error":"#N/A"}}]
["Address ::-",{"$f":"VLOOKUP(B575,StuData,12,0)","v":{"$error":"#N/A"}}]
["Weight Starting",null,"Kg.","Ending",null,"Kg."]
["Height Starting",null,"Cm.","Ending",null,"Cm."]
["Subject/Grade",null,"Hindi","English","Math","EVS"]
["Summative Assessment-I"]
["Summative Assessment-II"]
["Summative Assessment-III"]
[]
[]
[]
[]
[]
["Student","Parents",null,null,"Class Teacher",null,"School Head"]
[]
[{"$f":"Portfolio!$I$4","v":"GOVT.SENIOR SECONDARY SCHOOL ------------,MASUDA(BEAWAR)"}]
[]
[]
[]
["Sr.No.",21,{"$f":"Portfolio!$K$5","v":"Session :: 2024-25"}]
["U Dise Code ::-",{"$f":"Portfolio!$M$11","v":"0 ---------------"},null,null,null,"Paste Here Latest Passport Size Photo of Student"]
["Name of Student ::-",{"$f":"VLOOKUP(B605,StuData,5,0)","v":{"$error":"#N/A"}}]
["Father's Name ::-",{"$f":"VLOOKUP(B605,StuData,6,0)","v":{"$error":"#N/A"}}]
["Mother's Name ::-",{"$f":"VLOOKUP(B605,StuData,7,0)","v":{"$error":"#N/A"}}]
["Class ::-",{"$f":"VLOOKUP(B605,StuData,2,0)","v":{"$error":"#N/A"}}]
["Scholar No. ::-",{"$f":"VLOOKUP(B605,StuData,3,0)","v":{"$error":"#N/A"}}]
["Class Roll No. ::-",{"$f":"VLOOKUP(B605,StuData,4,0)","v":{"$error":"#N/A"}}]
["Date of Birth ::-",{"$f":"VLOOKUP(B605,StuData,8,0)","v":{"$error":"#N/A"}}]
["Date of Admission ::-",{"$f":"VLOOKUP(B605,StuData,9,0)","v":{"$error":"#N/A"}}]
["Aadhar No. ::-",{"$f":"VLOOKUP(B605,StuData,10,0)","v":{"$error":"#N/A"}}]
["Mobile No. ::-",{"$f":"VLOOKUP(B605,StuData,11,0)","v":{"$error":"#N/A"}}]
["Address ::-",{"$f":"VLOOKUP(B605,StuData,12,0)","v":{"$error":"#N/A"}}]
["Weight Starting",null,"Kg.","Ending",null,"Kg."]
["Height Starting",null,"Cm.","Ending",null,"Cm."]
["Subject/Grade",null,"Hindi","English","Math","EVS"]
["Summative Assessment-I"]
["Summative Assessment-II"]
["Summative Assessment-III"]
[]
[]
[]
[]
[]
["Student","Parents",null,null,"Class Teacher",null,"School Head"]
[]
[{"$f":"Portfolio!$I$4","v":"GOVT.SENIOR SECONDARY SCHOOL ------------,MASUDA(BEAWAR)"}]
[]
[]
[]
["Sr.No.",22,{"$f":"Portfolio!$K$5","v":"Session :: 2024-25"}]
["U Dise Code ::-",{"$f":"Portfolio!$M$11","v":"0 ---------------"},null,null,null,"Paste Here Latest Passport Size Photo of Student"]
["Name of Student ::-",{"$f":"VLOOKUP(B635,StuData,5,0)","v":{"$error":"#N/A"}}]
["Father's Name ::-",{"$f":"VLOOKUP(B635,StuData,6,0)","v":{"$error":"#N/A"}}]
["Mother's Name ::-",{"$f":"VLOOKUP(B635,StuData,7,0)","v":{"$error":"#N/A"}}]
["Class ::-",{"$f":"VLOOKUP(B635,StuData,2,0)","v":{"$error":"#N/A"}}]
["Scholar No. ::-",{"$f":"VLOOKUP(B635,StuData,3,0)","v":{"$error":"#N/A"}}]
["Class Roll No. ::-",{"$f":"VLOOKUP(B635,StuData,4,0)","v":{"$error":"#N/A"}}]
["Date of Birth ::-",{"$f":"VLOOKUP(B635,StuData,8,0)","v":{"$error":"#N/A"}}]
["Date of Admission ::-",{"$f":"VLOOKUP(B635,StuData,9,0)","v":{"$error":"#N/A"}}]
["Aadhar No. ::-",{"$f":"VLOOKUP(B635,StuData,10,0)","v":{"$error":"#N/A"}}]
["Mobile No. ::-",{"$f":"VLOOKUP(B635,StuData,11,0)","v":{"$error":"#N/A"}}]
["Address ::-",{"$f":"VLOOKUP(B635,StuData,12,0)","v":{"$error":"#N/A"}}]
["Weight Starting",null,"Kg.","Ending",null,"Kg."]
["Height Starting",null,"Cm.","Ending",null,"Cm."]
["Subject/Grade",null,"Hindi","English","Math","EVS"]
["Summative Assessment-I"]
["Summative Assessment-II"]
["Summative Assessment-III"]
[]
[]
[]
[]
[]
["Student","Parents",null,null,"Class Teacher",null,"School Head"]
[]
[{"$f":"Portfolio!$I$4","v":"GOVT.SENIOR SECONDARY SCHOOL ------------,MASUDA(BEAWAR)"}]
[]
[]
[]
["Sr.No.",23,{"$f":"Portfolio!$K$5","v":"Session :: 2024-25"}]
["U Dise Code ::-",{"$f":"Portfolio!$M$11","v":"0 ---------------"},null,null,null,"Paste Here Latest Passport Size Photo of Student"]
["Name of Student ::-",{"$f":"VLOOKUP(B665,StuData,5,0)","v":{"$error":"#N/A"}}]
["Father's Name ::-",{"$f":"VLOOKUP(B665,StuData,6,0)","v":{"$error":"#N/A"}}]
["Mother's Name ::-",{"$f":"VLOOKUP(B665,StuData,7,0)","v":{"$error":"#N/A"}}]
["Class ::-",{"$f":"VLOOKUP(B665,StuData,2,0)","v":{"$error":"#N/A"}}]
["Scholar No. ::-",{"$f":"VLOOKUP(B665,StuData,3,0)","v":{"$error":"#N/A"}}]
["Class Roll No. ::-",{"$f":"VLOOKUP(B665,StuData,4,0)","v":{"$error":"#N/A"}}]
["Date of Birth ::-",{"$f":"VLOOKUP(B665,StuData,8,0)","v":{"$error":"#N/A"}}]
["Date of Admission ::-",{"$f":"VLOOKUP(B665,StuData,9,0)","v":{"$error":"#N/A"}}]
["Aadhar No. ::-",{"$f":"VLOOKUP(B665,StuData,10,0)","v":{"$error":"#N/A"}}]
["Mobile No. ::-",{"$f":"VLOOKUP(B665,StuData,11,0)","v":{"$error":"#N/A"}}]
["Address ::-",{"$f":"VLOOKUP(B665,StuData,12,0)","v":{"$error":"#N/A"}}]
["Weight Starting",null,"Kg.","Ending",null,"Kg."]
["Height Starting",null,"Cm.","Ending",null,"Cm."]
["Subject/Grade",null,"Hindi","English","Math","EVS"]
["Summative Assessment-I"]
["Summative Assessment-II"]
["Summative Assessment-III"]
[]
[]
[]
[]
[]
["Student","Parents",null,null,"Class Teacher",null,"School Head"]
[]
[{"$f":"Portfolio!$I$4","v":"GOVT.SENIOR SECONDARY SCHOOL ------------,MASUDA(BEAWAR)"}]
[]
[]
[]
["Sr.No.",24,{"$f":"Portfolio!$K$5","v":"Session :: 2024-25"}]
["U Dise Code ::-",{"$f":"Portfolio!$M$11","v":"0 ---------------"},null,null,null,"Paste Here Latest Passport Size Photo of Student"]
["Name of Student ::-",{"$f":"VLOOKUP(B695,StuData,5,0)","v":{"$error":"#N/A"}}]
["Father's Name ::-",{"$f":"VLOOKUP(B695,StuData,6,0)","v":{"$error":"#N/A"}}]
["Mother's Name ::-",{"$f":"VLOOKUP(B695,StuData,7,0)","v":{"$error":"#N/A"}}]
["Class ::-",{"$f":"VLOOKUP(B695,StuData,2,0)","v":{"$error":"#N/A"}}]
["Scholar No. ::-",{"$f":"VLOOKUP(B695,StuData,3,0)","v":{"$error":"#N/A"}}]
["Class Roll No. ::-",{"$f":"VLOOKUP(B695,StuData,4,0)","v":{"$error":"#N/A"}}]
["Date of Birth ::-",{"$f":"VLOOKUP(B695,StuData,8,0)","v":{"$error":"#N/A"}}]
["Date of Admission ::-",{"$f":"VLOOKUP(B695,StuData,9,0)","v":{"$error":"#N/A"}}]
["Aadhar No. ::-",{"$f":"VLOOKUP(B695,StuData,10,0)","v":{"$error":"#N/A"}}]
["Mobile No. ::-",{"$f":"VLOOKUP(B695,StuData,11,0)","v":{"$error":"#N/A"}}]
["Address ::-",{"$f":"VLOOKUP(B695,StuData,12,0)","v":{"$error":"#N/A"}}]
["Weight Starting",null,"Kg.","Ending",null,"Kg."]
["Height Starting",null,"Cm.","Ending",null,"Cm."]
["Subject/Grade",null,"Hindi","English","Math","EVS"]
["Summative Assessment-I"]
["Summative Assessment-II"]
["Summative Assessment-III"]
[]
[]
[]
[]
[]
["Student","Parents",null,null,"Class Teacher",null,"School Head"]
[]
[{"$f":"Portfolio!$I$4","v":"GOVT.SENIOR SECONDARY SCHOOL ------------,MASUDA(BEAWAR)"}]
[]
[]
[]
["Sr.No.",25,{"$f":"Portfolio!$K$5","v":"Session :: 2024-25"}]
["U Dise Code ::-",{"$f":"Portfolio!$M$11","v":"0 ---------------"},null,null,null,"Paste Here Latest Passport Size Photo of Student"]
["Name of Student ::-",{"$f":"VLOOKUP(B725,StuData,5,0)","v":{"$error":"#N/A"}}]
["Father's Name ::-",{"$f":"VLOOKUP(B725,StuData,6,0)","v":{"$error":"#N/A"}}]
["Mother's Name ::-",{"$f":"VLOOKUP(B725,StuData,7,0)","v":{"$error":"#N/A"}}]
["Class ::-",{"$f":"VLOOKUP(B725,StuData,2,0)","v":{"$error":"#N/A"}}]
["Scholar No. ::-",{"$f":"VLOOKUP(B725,StuData,3,0)","v":{"$error":"#N/A"}}]
["Class Roll No. ::-",{"$f":"VLOOKUP(B725,StuData,4,0)","v":{"$error":"#N/A"}}]
["Date of Birth ::-",{"$f":"VLOOKUP(B725,StuData,8,0)","v":{"$error":"#N/A"}}]
["Date of Admission ::-",{"$f":"VLOOKUP(B725,StuData,9,0)","v":{"$error":"#N/A"}}]
["Aadhar No. ::-",{"$f":"VLOOKUP(B725,StuData,10,0)","v":{"$error":"#N/A"}}]
["Mobile No. ::-",{"$f":"VLOOKUP(B725,StuData,11,0)","v":{"$error":"#N/A"}}]
["Address ::-",{"$f":"VLOOKUP(B725,StuData,12,0)","v":{"$error":"#N/A"}}]
["Weight Starting",null,"Kg.","Ending",null,"Kg."]
["Height Starting",null,"Cm.","Ending",null,"Cm."]
["Subject/Grade",null,"Hindi","English","Math","EVS"]
["Summative Assessment-I"]
["Summative Assessment-II"]
["Summative Assessment-III"]
[]
[]
[]
[]
[]
["Student","Parents",null,null,"Class Teacher",null,"School Head"]
[]
[{"$f":"Portfolio!$I$4","v":"GOVT.SENIOR SECONDARY SCHOOL ------------,MASUDA(BEAWAR)"}]
[]
[]
[]
["Sr.No.",26,{"$f":"Portfolio!$K$5","v":"Session :: 2024-25"}]
["U Dise Code ::-",{"$f":"Portfolio!$M$11","v":"0 ---------------"},null,null,null,"Paste Here Latest Passport Size Photo of Student"]
["Name of Student ::-",{"$f":"VLOOKUP(B755,StuData,5,0)","v":{"$error":"#N/A"}}]
["Father's Name ::-",{"$f":"VLOOKUP(B755,StuData,6,0)","v":{"$error":"#N/A"}}]
["Mother's Name ::-",{"$f":"VLOOKUP(B755,StuData,7,0)","v":{"$error":"#N/A"}}]
["Class ::-",{"$f":"VLOOKUP(B755,StuData,2,0)","v":{"$error":"#N/A"}}]
["Scholar No. ::-",{"$f":"VLOOKUP(B755,StuData,3,0)","v":{"$error":"#N/A"}}]
["Class Roll No. ::-",{"$f":"VLOOKUP(B755,StuData,4,0)","v":{"$error":"#N/A"}}]
["Date of Birth ::-",{"$f":"VLOOKUP(B755,StuData,8,0)","v":{"$error":"#N/A"}}]
["Date of Admission ::-",{"$f":"VLOOKUP(B755,StuData,9,0)","v":{"$error":"#N/A"}}]
["Aadhar No. ::-",{"$f":"VLOOKUP(B755,StuData,10,0)","v":{"$error":"#N/A"}}]
["Mobile No. ::-",{"$f":"VLOOKUP(B755,StuData,11,0)","v":{"$error":"#N/A"}}]
["Address ::-",{"$f":"VLOOKUP(B755,StuData,12,0)","v":{"$error":"#N/A"}}]
["Weight Starting",null,"Kg.","Ending",null,"Kg."]
["Height Starting",null,"Cm.","Ending",null,"Cm."]
["Subject/Grade",null,"Hindi","English","Math","EVS"]
["Summative Assessment-I"]
["Summative Assessment-II"]
["Summative Assessment-III"]
[]
[]
[]
[]
[]
["Student","Parents",null,null,"Class Teacher",null,"School Head"]
[]
[{"$f":"Portfolio!$I$4","v":"GOVT.SENIOR SECONDARY SCHOOL ------------,MASUDA(BEAWAR)"}]
[]
[]
[]
["Sr.No.",27,{"$f":"Portfolio!$K$5","v":"Session :: 2024-25"}]
["U Dise Code ::-",{"$f":"Portfolio!$M$11","v":"0 ---------------"},null,null,null,"Paste Here Latest Passport Size Photo of Student"]
["Name of Student ::-",{"$f":"VLOOKUP(B785,StuData,5,0)","v":{"$error":"#N/A"}}]
["Father's Name ::-",{"$f":"VLOOKUP(B785,StuData,6,0)","v":{"$error":"#N/A"}}]
["Mother's Name ::-",{"$f":"VLOOKUP(B785,StuData,7,0)","v":{"$error":"#N/A"}}]
["Class ::-",{"$f":"VLOOKUP(B785,StuData,2,0)","v":{"$error":"#N/A"}}]
["Scholar No. ::-",{"$f":"VLOOKUP(B785,StuData,3,0)","v":{"$error":"#N/A"}}]
["Class Roll No. ::-",{"$f":"VLOOKUP(B785,StuData,4,0)","v":{"$error":"#N/A"}}]
["Date of Birth ::-",{"$f":"VLOOKUP(B785,StuData,8,0)","v":{"$error":"#N/A"}}]
["Date of Admission ::-",{"$f":"VLOOKUP(B785,StuData,9,0)","v":{"$error":"#N/A"}}]
["Aadhar No. ::-",{"$f":"VLOOKUP(B785,StuData,10,0)","v":{"$error":"#N/A"}}]
["Mobile No. ::-",{"$f":"VLOOKUP(B785,StuData,11,0)","v":{"$error":"#N/A"}}]
["Address ::-",{"$f":"VLOOKUP(B785,StuData,12,0)","v":{"$error":"#N/A"}}]
["Weight Starting",null,"Kg.","Ending",null,"Kg."]
["Height Starting",null,"Cm.","Ending",null,"Cm."]
["Subject/Grade",null,"Hindi","English","Math","EVS"]
["Summative Assessment-I"]
["Summative Assessment-II"]
["Summative Assessment-III"]
[]
[]
[]
[]
[]
["Student","Parents",null,null,"Class Teacher",null,"School Head"]
[]
[{"$f":"Portfolio!$I$4","v":"GOVT.SENIOR SECONDARY SCHOOL ------------,MASUDA(BEAWAR)"}]
[]
[]
[]
["Sr.No.",28,{"$f":"Portfolio!$K$5","v":"Session :: 2024-25"}]
["U Dise Code ::-",{"$f":"Portfolio!$M$11","v":"0 ---------------"},null,null,null,"Paste Here Latest Passport Size Photo of Student"]
["Name of Student ::-",{"$f":"VLOOKUP(B815,StuData,5,0)","v":{"$error":"#N/A"}}]
["Father's Name ::-",{"$f":"VLOOKUP(B815,StuData,6,0)","v":{"$error":"#N/A"}}]
["Mother's Name ::-",{"$f":"VLOOKUP(B815,StuData,7,0)","v":{"$error":"#N/A"}}]
["Class ::-",{"$f":"VLOOKUP(B815,StuData,2,0)","v":{"$error":"#N/A"}}]
["Scholar No. ::-",{"$f":"VLOOKUP(B815,StuData,3,0)","v":{"$error":"#N/A"}}]
["Class Roll No. ::-",{"$f":"VLOOKUP(B815,StuData,4,0)","v":{"$error":"#N/A"}}]
["Date of Birth ::-",{"$f":"VLOOKUP(B815,StuData,8,0)","v":{"$error":"#N/A"}}]
["Date of Admission ::-",{"$f":"VLOOKUP(B815,StuData,9,0)","v":{"$error":"#N/A"}}]
["Aadhar No. ::-",{"$f":"VLOOKUP(B815,StuData,10,0)","v":{"$error":"#N/A"}}]
["Mobile No. ::-",{"$f":"VLOOKUP(B815,StuData,11,0)","v":{"$error":"#N/A"}}]
["Address ::-",{"$f":"VLOOKUP(B815,StuData,12,0)","v":{"$error":"#N/A"}}]
["Weight Starting",null,"Kg.","Ending",null,"Kg."]
["Height Starting",null,"Cm.","Ending",null,"Cm."]
["Subject/Grade",null,"Hindi","English","Math","EVS"]
["Summative Assessment-I"]
["Summative Assessment-II"]
["Summative Assessment-III"]
[]
[]
[]
[]
[]
["Student","Parents",null,null,"Class Teacher",null,"School Head"]
[]
[{"$f":"Portfolio!$I$4","v":"GOVT.SENIOR SECONDARY SCHOOL ------------,MASUDA(BEAWAR)"}]
[]
[]
[]
["Sr.No.",29,{"$f":"Portfolio!$K$5","v":"Session :: 2024-25"}]
["U Dise Code ::-",{"$f":"Portfolio!$M$11","v":"0 ---------------"},null,null,null,"Paste Here Latest Passport Size Photo of Student"]
["Name of Student ::-",{"$f":"VLOOKUP(B845,StuData,5,0)","v":{"$error":"#N/A"}}]
["Father's Name ::-",{"$f":"VLOOKUP(B845,StuData,6,0)","v":{"$error":"#N/A"}}]
["Mother's Name ::-",{"$f":"VLOOKUP(B845,StuData,7,0)","v":{"$error":"#N/A"}}]
["Class ::-",{"$f":"VLOOKUP(B845,StuData,2,0)","v":{"$error":"#N/A"}}]
["Scholar No. ::-",{"$f":"VLOOKUP(B845,StuData,3,0)","v":{"$error":"#N/A"}}]
["Class Roll No. ::-",{"$f":"VLOOKUP(B845,StuData,4,0)","v":{"$error":"#N/A"}}]
["Date of Birth ::-",{"$f":"VLOOKUP(B845,StuData,8,0)","v":{"$error":"#N/A"}}]
["Date of Admission ::-",{"$f":"VLOOKUP(B845,StuData,9,0)","v":{"$error":"#N/A"}}]
["Aadhar No. ::-",{"$f":"VLOOKUP(B845,StuData,10,0)","v":{"$error":"#N/A"}}]
["Mobile No. ::-",{"$f":"VLOOKUP(B845,StuData,11,0)","v":{"$error":"#N/A"}}]
["Address ::-",{"$f":"VLOOKUP(B845,StuData,12,0)","v":{"$error":"#N/A"}}]
["Weight Starting",null,"Kg.","Ending",null,"Kg."]
["Height Starting",null,"Cm.","Ending",null,"Cm."]
["Subject/Grade",null,"Hindi","English","Math","EVS"]
["Summative Assessment-I"]
["Summative Assessment-II"]
["Summative Assessment-III"]
[]
[]
[]
[]
[]
["Student","Parents",null,null,"Class Teacher",null,"School Head"]
[]
[{"$f":"Portfolio!$I$4","v":"GOVT.SENIOR SECONDARY SCHOOL ------------,MASUDA(BEAWAR)"}]
[]
[]
[]
["Sr.No.",30,{"$f":"Portfolio!$K$5","v":"Session :: 2024-25"}]
["U Dise Code ::-",{"$f":"Portfolio!$M$11","v":"0 ---------------"},null,null,null,"Paste Here Latest Passport Size Photo of Student"]
["Name of Student ::-",{"$f":"VLOOKUP(B875,StuData,5,0)","v":{"$error":"#N/A"}}]
["Father's Name ::-",{"$f":"VLOOKUP(B875,StuData,6,0)","v":{"$error":"#N/A"}}]
["Mother's Name ::-",{"$f":"VLOOKUP(B875,StuData,7,0)","v":{"$error":"#N/A"}}]
["Class ::-",{"$f":"VLOOKUP(B875,StuData,2,0)","v":{"$error":"#N/A"}}]
["Scholar No. ::-",{"$f":"VLOOKUP(B875,StuData,3,0)","v":{"$error":"#N/A"}}]
["Class Roll No. ::-",{"$f":"VLOOKUP(B875,StuData,4,0)","v":{"$error":"#N/A"}}]
["Date of Birth ::-",{"$f":"VLOOKUP(B875,StuData,8,0)","v":{"$error":"#N/A"}}]
["Date of Admission ::-",{"$f":"VLOOKUP(B875,StuData,9,0)","v":{"$error":"#N/A"}}]
["Aadhar No. ::-",{"$f":"VLOOKUP(B875,StuData,10,0)","v":{"$error":"#N/A"}}]
["Mobile No. ::-",{"$f":"VLOOKUP(B875,StuData,11,0)","v":{"$error":"#N/A"}}]
["Address ::-",{"$f":"VLOOKUP(B875,StuData,12,0)","v":{"$error":"#N/A"}}]
["Weight Starting",null,"Kg.","Ending",null,"Kg."]
["Height Starting",null,"Cm.","Ending",null,"Cm."]
["Subject/Grade",null,"Hindi","English","Math","EVS"]
["Summative Assessment-I"]
["Summative Assessment-II"]
["Summative Assessment-III"]
[]
[]
[]
[]
[]
["Student","Parents",null,null,"Class Teacher",null,"School Head"]
[]
[{"$f":"Portfolio!$I$4","v":"GOVT.SENIOR SECONDARY SCHOOL ------------,MASUDA(BEAWAR)"}]
[]
[]
[]
["Sr.No.",31,{"$f":"Portfolio!$K$5","v":"Session :: 2024-25"}]
["U Dise Code ::-",{"$f":"Portfolio!$M$11","v":"0 ---------------"},null,null,null,"Paste Here Latest Passport Size Photo of Student"]
["Name of Student ::-",{"$f":"VLOOKUP(B905,StuData,5,0)","v":{"$error":"#N/A"}}]
["Father's Name ::-",{"$f":"VLOOKUP(B905,StuData,6,0)","v":{"$error":"#N/A"}}]
["Mother's Name ::-",{"$f":"VLOOKUP(B905,StuData,7,0)","v":{"$error":"#N/A"}}]
["Class ::-",{"$f":"VLOOKUP(B905,StuData,2,0)","v":{"$error":"#N/A"}}]
["Scholar No. ::-",{"$f":"VLOOKUP(B905,StuData,3,0)","v":{"$error":"#N/A"}}]
["Class Roll No. ::-",{"$f":"VLOOKUP(B905,StuData,4,0)","v":{"$error":"#N/A"}}]
["Date of Birth ::-",{"$f":"VLOOKUP(B905,StuData,8,0)","v":{"$error":"#N/A"}}]
["Date of Admission ::-",{"$f":"VLOOKUP(B905,StuData,9,0)","v":{"$error":"#N/A"}}]
["Aadhar No. ::-",{"$f":"VLOOKUP(B905,StuData,10,0)","v":{"$error":"#N/A"}}]
["Mobile No. ::-",{"$f":"VLOOKUP(B905,StuData,11,0)","v":{"$error":"#N/A"}}]
["Address ::-",{"$f":"VLOOKUP(B905,StuData,12,0)","v":{"$error":"#N/A"}}]
["Weight Starting",null,"Kg.","Ending",null,"Kg."]
["Height Starting",null,"Cm.","Ending",null,"Cm."]
["Subject/Grade",null,"Hindi","English","Math","EVS"]
["Summative Assessment-I"]
["Summative Assessment-II"]
["Summative Assessment-III"]
[]
[]
[]
[]
[]
["Student","Parents",null,null,"Class Teacher",null,"School Head"]
[]
[{"$f":"Portfolio!$I$4","v":"GOVT.SENIOR SECONDARY SCHOOL ------------,MASUDA(BEAWAR)"}]
[]
[]
[]
["Sr.No.",32,{"$f":"Portfolio!$K$5","v":"Session :: 2024-25"}]
["U Dise Code ::-",{"$f":"Portfolio!$M$11","v":"0 ---------------"},null,null,null,"Paste Here Latest Passport Size Photo of Student"]
["Name of Student ::-",{"$f":"VLOOKUP(B935,StuData,5,0)","v":{"$error":"#N/A"}}]
["Father's Name ::-",{"$f":"VLOOKUP(B935,StuData,6,0)","v":{"$error":"#N/A"}}]
["Mother's Name ::-",{"$f":"VLOOKUP(B935,StuData,7,0)","v":{"$error":"#N/A"}}]
["Class ::-",{"$f":"VLOOKUP(B935,StuData,2,0)","v":{"$error":"#N/A"}}]
["Scholar No. ::-",{"$f":"VLOOKUP(B935,StuData,3,0)","v":{"$error":"#N/A"}}]
["Class Roll No. ::-",{"$f":"VLOOKUP(B935,StuData,4,0)","v":{"$error":"#N/A"}}]
["Date of Birth ::-",{"$f":"VLOOKUP(B935,StuData,8,0)","v":{"$error":"#N/A"}}]
["Date of Admission ::-",{"$f":"VLOOKUP(B935,StuData,9,0)","v":{"$error":"#N/A"}}]
["Aadhar No. ::-",{"$f":"VLOOKUP(B935,StuData,10,0)","v":{"$error":"#N/A"}}]
["Mobile No. ::-",{"$f":"VLOOKUP(B935,StuData,11,0)","v":{"$error":"#N/A"}}]
["Address ::-",{"$f":"VLOOKUP(B935,StuData,12,0)","v":{"$error":"#N/A"}}]
["Weight Starting",null,"Kg.","Ending",null,"Kg."]
["Height Starting",null,"Cm.","Ending",null,"Cm."]
["Subject/Grade",null,"Hindi","English","Math","EVS"]
["Summative Assessment-I"]
["Summative Assessment-II"]
["Summative Assessment-III"]
[]
[]
[]
[]
[]
["Student","Parents",null,null,"Class Teacher",null,"School Head"]
[]
[{"$f":"Portfolio!$I$4","v":"GOVT.SENIOR SECONDARY SCHOOL ------------,MASUDA(BEAWAR)"}]
[]
[]
[]
["Sr.No.",33,{"$f":"Portfolio!$K$5","v":"Session :: 2024-25"}]
["U Dise Code ::-",{"$f":"Portfolio!$M$11","v":"0 ---------------"},null,null,null,"Paste Here Latest Passport Size Photo of Student"]
["Name of Student ::-",{"$f":"VLOOKUP(B965,StuData,5,0)","v":{"$error":"#N/A"}}]
["Father's Name ::-",{"$f":"VLOOKUP(B965,StuData,6,0)","v":{"$error":"#N/A"}}]
["Mother's Name ::-",{"$f":"VLOOKUP(B965,StuData,7,0)","v":{"$error":"#N/A"}}]
["Class ::-",{"$f":"VLOOKUP(B965,StuData,2,0)","v":{"$error":"#N/A"}}]
["Scholar No. ::-",{"$f":"VLOOKUP(B965,StuData,3,0)","v":{"$error":"#N/A"}}]
["Class Roll No. ::-",{"$f":"VLOOKUP(B965,StuData,4,0)","v":{"$error":"#N/A"}}]
["Date of Birth ::-",{"$f":"VLOOKUP(B965,StuData,8,0)","v":{"$error":"#N/A"}}]
["Date of Admission ::-",{"$f":"VLOOKUP(B965,StuData,9,0)","v":{"$error":"#N/A"}}]
["Aadhar No. ::-",{"$f":"VLOOKUP(B965,StuData,10,0)","v":{"$error":"#N/A"}}]
["Mobile No. ::-",{"$f":"VLOOKUP(B965,StuData,11,0)","v":{"$error":"#N/A"}}]
["Address ::-",{"$f":"VLOOKUP(B965,StuData,12,0)","v":{"$error":"#N/A"}}]
["Weight Starting",null,"Kg.","Ending",null,"Kg."]
["Height Starting",null,"Cm.","Ending",null,"Cm."]
["Subject/Grade",null,"Hindi","English","Math","EVS"]
["Summative Assessment-I"]
["Summative Assessment-II"]
["Summative Assessment-III"]
[]
[]
[]
[]
[]
["Student","Parents",null,null,"Class Teacher",null,"School Head"]
[]
[{"$f":"Portfolio!$I$4","v":"GOVT.SENIOR SECONDARY SCHOOL ------------,MASUDA(BEAWAR)"}]
[]
[]
[]
["Sr.No.",34,{"$f":"Portfolio!$K$5","v":"Session :: 2024-25"}]
["U Dise Code ::-",{"$f":"Portfolio!$M$11","v":"0 ---------------"},null,null,null,"Paste Here Latest Passport Size Photo of Student"]
["Name of Student ::-",{"$f":"VLOOKUP(B995,StuData,5,0)","v":{"$error":"#N/A"}}]
["Father's Name ::-",{"$f":"VLOOKUP(B995,StuData,6,0)","v":{"$error":"#N/A"}}]
["Mother's Name ::-",{"$f":"VLOOKUP(B995,StuData,7,0)","v":{"$error":"#N/A"}}]
["Class ::-",{"$f":"VLOOKUP(B995,StuData,2,0)","v":{"$error":"#N/A"}}]
["Scholar No. ::-",{"$f":"VLOOKUP(B995,StuData,3,0)","v":{"$error":"#N/A"}}]
["Class Roll No. ::-",{"$f":"VLOOKUP(B995,StuData,4,0)","v":{"$error":"#N/A"}}]
["Date of Birth ::-",{"$f":"VLOOKUP(B995,StuData,8,0)","v":{"$error":"#N/A"}}]
["Date of Admission ::-",{"$f":"VLOOKUP(B995,StuData,9,0)","v":{"$error":"#N/A"}}]
["Aadhar No. ::-",{"$f":"VLOOKUP(B995,StuData,10,0)","v":{"$error":"#N/A"}}]
["Mobile No. ::-",{"$f":"VLOOKUP(B995,StuData,11,0)","v":{"$error":"#N/A"}}]
["Address ::-",{"$f":"VLOOKUP(B995,StuData,12,0)","v":{"$error":"#N/A"}}]
["Weight Starting",null,"Kg.","Ending",null,"Kg."]
["Height Starting",null,"Cm.","Ending",null,"Cm."]
["Subject/Grade",null,"Hindi","English","Math","EVS"]
["Summative Assessment-I"]
["Summative Assessment-II"]
["Summative Assessment-III"]
[]
[]
[]
[]
[]
["Student","Parents",null,null,"Class Teacher",null,"School Head"]
[]
[{"$f":"Portfolio!$I$4","v":"GOVT.SENIOR SECONDARY SCHOOL ------------,MASUDA(BEAWAR)"}]
[]
[]
[]
["Sr.No.",35,{"$f":"Portfolio!$K$5","v":"Session :: 2024-25"}]
["U Dise Code ::-",{"$f":"Portfolio!$M$11","v":"0 ---------------"},null,null,null,"Paste Here Latest Passport Size Photo of Student"]
["Name of Student ::-",{"$f":"VLOOKUP(B1025,StuData,5,0)","v":{"$error":"#N/A"}}]
["Father's Name ::-",{"$f":"VLOOKUP(B1025,StuData,6,0)","v":{"$error":"#N/A"}}]
["Mother's Name ::-",{"$f":"VLOOKUP(B1025,StuData,7,0)","v":{"$error":"#N/A"}}]
["Class ::-",{"$f":"VLOOKUP(B1025,StuData,2,0)","v":{"$error":"#N/A"}}]
["Scholar No. ::-",{"$f":"VLOOKUP(B1025,StuData,3,0)","v":{"$error":"#N/A"}}]
["Class Roll No. ::-",{"$f":"VLOOKUP(B1025,StuData,4,0)","v":{"$error":"#N/A"}}]
["Date of Birth ::-",{"$f":"VLOOKUP(B1025,StuData,8,0)","v":{"$error":"#N/A"}}]
["Date of Admission ::-",{"$f":"VLOOKUP(B1025,StuData,9,0)","v":{"$error":"#N/A"}}]
["Aadhar No. ::-",{"$f":"VLOOKUP(B1025,StuData,10,0)","v":{"$error":"#N/A"}}]
["Mobile No. ::-",{"$f":"VLOOKUP(B1025,StuData,11,0)","v":{"$error":"#N/A"}}]
["Address ::-",{"$f":"VLOOKUP(B1025,StuData,12,0)","v":{"$error":"#N/A"}}]
["Weight Starting",null,"Kg.","Ending",null,"Kg."]
["Height Starting",null,"Cm.","Ending",null,"Cm."]
["Subject/Grade",null,"Hindi","English","Math","EVS"]
["Summative Assessment-I"]
["Summative Assessment-II"]
["Summative Assessment-III"]
[]
[]
[]
[]
[]
["Student","Parents",null,null,"Class Teacher",null,"School Head"]
[]
[{"$f":"Portfolio!$I$4","v":"GOVT.SENIOR SECONDARY SCHOOL ------------,MASUDA(BEAWAR)"}]
[]
[]
[]
["Sr.No.",36,{"$f":"Portfolio!$K$5","v":"Session :: 2024-25"}]
["U Dise Code ::-",{"$f":"Portfolio!$M$11","v":"0 ---------------"},null,null,null,"Paste Here Latest Passport Size Photo of Student"]
["Name of Student ::-",{"$f":"VLOOKUP(B1055,StuData,5,0)","v":{"$error":"#N/A"}}]
["Father's Name ::-",{"$f":"VLOOKUP(B1055,StuData,6,0)","v":{"$error":"#N/A"}}]
["Mother's Name ::-",{"$f":"VLOOKUP(B1055,StuData,7,0)","v":{"$error":"#N/A"}}]
["Class ::-",{"$f":"VLOOKUP(B1055,StuData,2,0)","v":{"$error":"#N/A"}}]
["Scholar No. ::-",{"$f":"VLOOKUP(B1055,StuData,3,0)","v":{"$error":"#N/A"}}]
["Class Roll No. ::-",{"$f":"VLOOKUP(B1055,StuData,4,0)","v":{"$error":"#N/A"}}]
["Date of Birth ::-",{"$f":"VLOOKUP(B1055,StuData,8,0)","v":{"$error":"#N/A"}}]
["Date of Admission ::-",{"$f":"VLOOKUP(B1055,StuData,9,0)","v":{"$error":"#N/A"}}]
["Aadhar No. ::-",{"$f":"VLOOKUP(B1055,StuData,10,0)","v":{"$error":"#N/A"}}]
["Mobile No. ::-",{"$f":"VLOOKUP(B1055,StuData,11,0)","v":{"$error":"#N/A"}}]
["Address ::-",{"$f":"VLOOKUP(B1055,StuData,12,0)","v":{"$error":"#N/A"}}]
["Weight Starting",null,"Kg.","Ending",null,"Kg."]
["Height Starting",null,"Cm.","Ending",null,"Cm."]
["Subject/Grade",null,"Hindi","English","Math","EVS"]
["Summative Assessment-I"]
["Summative Assessment-II"]
["Summative Assessment-III"]
[]
[]
[]
[]
[]
["Student","Parents",null,null,"Class Teacher",null,"School Head"]
[]
[{"$f":"Portfolio!$I$4","v":"GOVT.SENIOR SECONDARY SCHOOL ------------,MASUDA(BEAWAR)"}]
[]
[]
[]
["Sr.No.",37,{"$f":"Portfolio!$K$5","v":"Session :: 2024-25"}]
["U Dise Code ::-",{"$f":"Portfolio!$M$11","v":"0 ---------------"},null,null,null,"Paste Here Latest Passport Size Photo of Student"]
["Name of Student ::-",{"$f":"VLOOKUP(B1085,StuData,5,0)","v":{"$error":"#N/A"}}]
["Father's Name ::-",{"$f":"VLOOKUP(B1085,StuData,6,0)","v":{"$error":"#N/A"}}]
["Mother's Name ::-",{"$f":"VLOOKUP(B1085,StuData,7,0)","v":{"$error":"#N/A"}}]
["Class ::-",{"$f":"VLOOKUP(B1085,StuData,2,0)","v":{"$error":"#N/A"}}]
["Scholar No. ::-",{"$f":"VLOOKUP(B1085,StuData,3,0)","v":{"$error":"#N/A"}}]
["Class Roll No. ::-",{"$f":"VLOOKUP(B1085,StuData,4,0)","v":{"$error":"#N/A"}}]
["Date of Birth ::-",{"$f":"VLOOKUP(B1085,StuData,8,0)","v":{"$error":"#N/A"}}]
["Date of Admission ::-",{"$f":"VLOOKUP(B1085,StuData,9,0)","v":{"$error":"#N/A"}}]
["Aadhar No. ::-",{"$f":"VLOOKUP(B1085,StuData,10,0)","v":{"$error":"#N/A"}}]
["Mobile No. ::-",{"$f":"VLOOKUP(B1085,StuData,11,0)","v":{"$error":"#N/A"}}]
["Address ::-",{"$f":"VLOOKUP(B1085,StuData,12,0)","v":{"$error":"#N/A"}}]
["Weight Starting",null,"Kg.","Ending",null,"Kg."]
["Height Starting",null,"Cm.","Ending",null,"Cm."]
["Subject/Grade",null,"Hindi","English","Math","EVS"]
["Summative Assessment-I"]
["Summative Assessment-II"]
["Summative Assessment-III"]
[]
[]
[]
[]
[]
["Student","Parents",null,null,"Class Teacher",null,"School Head"]
[]
[{"$f":"Portfolio!$I$4","v":"GOVT.SENIOR SECONDARY SCHOOL ------------,MASUDA(BEAWAR)"}]
[]
[]
[]
["Sr.No.",38,{"$f":"Portfolio!$K$5","v":"Session :: 2024-25"}]
["U Dise Code ::-",{"$f":"Portfolio!$M$11","v":"0 ---------------"},null,null,null,"Paste Here Latest Passport Size Photo of Student"]
["Name of Student ::-",{"$f":"VLOOKUP(B1115,StuData,5,0)","v":{"$error":"#N/A"}}]
["Father's Name ::-",{"$f":"VLOOKUP(B1115,StuData,6,0)","v":{"$error":"#N/A"}}]
["Mother's Name ::-",{"$f":"VLOOKUP(B1115,StuData,7,0)","v":{"$error":"#N/A"}}]
["Class ::-",{"$f":"VLOOKUP(B1115,StuData,2,0)","v":{"$error":"#N/A"}}]
["Scholar No. ::-",{"$f":"VLOOKUP(B1115,StuData,3,0)","v":{"$error":"#N/A"}}]
["Class Roll No. ::-",{"$f":"VLOOKUP(B1115,StuData,4,0)","v":{"$error":"#N/A"}}]
["Date of Birth ::-",{"$f":"VLOOKUP(B1115,StuData,8,0)","v":{"$error":"#N/A"}}]
["Date of Admission ::-",{"$f":"VLOOKUP(B1115,StuData,9,0)","v":{"$error":"#N/A"}}]
["Aadhar No. ::-",{"$f":"VLOOKUP(B1115,StuData,10,0)","v":{"$error":"#N/A"}}]
["Mobile No. ::-",{"$f":"VLOOKUP(B1115,StuData,11,0)","v":{"$error":"#N/A"}}]
["Address ::-",{"$f":"VLOOKUP(B1115,StuData,12,0)","v":{"$error":"#N/A"}}]
["Weight Starting",null,"Kg.","Ending",null,"Kg."]
["Height Starting",null,"Cm.","Ending",null,"Cm."]
["Subject/Grade",null,"Hindi","English","Math","EVS"]
["Summative Assessment-I"]
["Summative Assessment-II"]
["Summative Assessment-III"]
[]
[]
[]
[]
[]
["Student","Parents",null,null,"Class Teacher",null,"School Head"]
[]
[{"$f":"Portfolio!$I$4","v":"GOVT.SENIOR SECONDARY SCHOOL ------------,MASUDA(BEAWAR)"}]
[]
[]
[]
["Sr.No.",39,{"$f":"Portfolio!$K$5","v":"Session :: 2024-25"}]
["U Dise Code ::-",{"$f":"Portfolio!$M$11","v":"0 ---------------"},null,null,null,"Paste Here Latest Passport Size Photo of Student"]
["Name of Student ::-",{"$f":"VLOOKUP(B1145,StuData,5,0)","v":{"$error":"#N/A"}}]
["Father's Name ::-",{"$f":"VLOOKUP(B1145,StuData,6,0)","v":{"$error":"#N/A"}}]
["Mother's Name ::-",{"$f":"VLOOKUP(B1145,StuData,7,0)","v":{"$error":"#N/A"}}]
["Class ::-",{"$f":"VLOOKUP(B1145,StuData,2,0)","v":{"$error":"#N/A"}}]
["Scholar No. ::-",{"$f":"VLOOKUP(B1145,StuData,3,0)","v":{"$error":"#N/A"}}]
["Class Roll No. ::-",{"$f":"VLOOKUP(B1145,StuData,4,0)","v":{"$error":"#N/A"}}]
["Date of Birth ::-",{"$f":"VLOOKUP(B1145,StuData,8,0)","v":{"$error":"#N/A"}}]
["Date of Admission ::-",{"$f":"VLOOKUP(B1145,StuData,9,0)","v":{"$error":"#N/A"}}]
["Aadhar No. ::-",{"$f":"VLOOKUP(B1145,StuData,10,0)","v":{"$error":"#N/A"}}]
["Mobile No. ::-",{"$f":"VLOOKUP(B1145,StuData,11,0)","v":{"$error":"#N/A"}}]
["Address ::-",{"$f":"VLOOKUP(B1145,StuData,12,0)","v":{"$error":"#N/A"}}]
["Weight Starting",null,"Kg.","Ending",null,"Kg."]
["Height Starting",null,"Cm.","Ending",null,"Cm."]
["Subject/Grade",null,"Hindi","English","Math","EVS"]
["Summative Assessment-I"]
["Summative Assessment-II"]
["Summative Assessment-III"]
[]
[]
[]
[]
[]
["Student","Parents",null,null,"Class Teacher",null,"School Head"]
[]
[{"$f":"Portfolio!$I$4","v":"GOVT.SENIOR SECONDARY SCHOOL ------------,MASUDA(BEAWAR)"}]
[]
[]
[]
["Sr.No.",40,{"$f":"Portfolio!$K$5","v":"Session :: 2024-25"}]
["U Dise Code ::-",{"$f":"Portfolio!$M$11","v":"0 ---------------"},null,null,null,"Paste Here Latest Passport Size Photo of Student"]
["Name of Student ::-",{"$f":"VLOOKUP(B1175,StuData,5,0)","v":{"$error":"#N/A"}}]
["Father's Name ::-",{"$f":"VLOOKUP(B1175,StuData,6,0)","v":{"$error":"#N/A"}}]
["Mother's Name ::-",{"$f":"VLOOKUP(B1175,StuData,7,0)","v":{"$error":"#N/A"}}]
["Class ::-",{"$f":"VLOOKUP(B1175,StuData,2,0)","v":{"$error":"#N/A"}}]
["Scholar No. ::-",{"$f":"VLOOKUP(B1175,StuData,3,0)","v":{"$error":"#N/A"}}]
["Class Roll No. ::-",{"$f":"VLOOKUP(B1175,StuData,4,0)","v":{"$error":"#N/A"}}]
["Date of Birth ::-",{"$f":"VLOOKUP(B1175,StuData,8,0)","v":{"$error":"#N/A"}}]
["Date of Admission ::-",{"$f":"VLOOKUP(B1175,StuData,9,0)","v":{"$error":"#N/A"}}]
["Aadhar No. ::-",{"$f":"VLOOKUP(B1175,StuData,10,0)","v":{"$error":"#N/A"}}]
["Mobile No. ::-",{"$f":"VLOOKUP(B1175,StuData,11,0)","v":{"$error":"#N/A"}}]
["Address ::-",{"$f":"VLOOKUP(B1175,StuData,12,0)","v":{"$error":"#N/A"}}]
["Weight Starting",null,"Kg.","Ending",null,"Kg."]
["Height Starting",null,"Cm.","Ending",null,"Cm."]
["Subject/Grade",null,"Hindi","English","Math","EVS"]
["Summative Assessment-I"]
["Summative Assessment-II"]
["Summative Assessment-III"]
[]
[]
[]
[]
[]
["Student","Parents",null,null,"Class Teacher",null,"School Head"]
[]
[{"$f":"Portfolio!$I$4","v":"GOVT.SENIOR SECONDARY SCHOOL ------------,MASUDA(BEAWAR)"}]
[]
[]
[]
["Sr.No.",41,{"$f":"Portfolio!$K$5","v":"Session :: 2024-25"}]
["U Dise Code ::-",{"$f":"Portfolio!$M$11","v":"0 ---------------"},null,null,null,"Paste Here Latest Passport Size Photo of Student"]
["Name of Student ::-",{"$f":"VLOOKUP(B1205,StuData,5,0)","v":{"$error":"#N/A"}}]
["Father's Name ::-",{"$f":"VLOOKUP(B1205,StuData,6,0)","v":{"$error":"#N/A"}}]
["Mother's Name ::-",{"$f":"VLOOKUP(B1205,StuData,7,0)","v":{"$error":"#N/A"}}]
["Class ::-",{"$f":"VLOOKUP(B1205,StuData,2,0)","v":{"$error":"#N/A"}}]
["Scholar No. ::-",{"$f":"VLOOKUP(B1205,StuData,3,0)","v":{"$error":"#N/A"}}]
["Class Roll No. ::-",{"$f":"VLOOKUP(B1205,StuData,4,0)","v":{"$error":"#N/A"}}]
["Date of Birth ::-",{"$f":"VLOOKUP(B1205,StuData,8,0)","v":{"$error":"#N/A"}}]
["Date of Admission ::-",{"$f":"VLOOKUP(B1205,StuData,9,0)","v":{"$error":"#N/A"}}]
["Aadhar No. ::-",{"$f":"VLOOKUP(B1205,StuData,10,0)","v":{"$error":"#N/A"}}]
["Mobile No. ::-",{"$f":"VLOOKUP(B1205,StuData,11,0)","v":{"$error":"#N/A"}}]
["Address ::-",{"$f":"VLOOKUP(B1205,StuData,12,0)","v":{"$error":"#N/A"}}]
["Weight Starting",null,"Kg.","Ending",null,"Kg."]
["Height Starting",null,"Cm.","Ending",null,"Cm."]
["Subject/Grade",null,"Hindi","English","Math","EVS"]
["Summative Assessment-I"]
["Summative Assessment-II"]
["Summative Assessment-III"]
[]
[]
[]
[]
[]
["Student","Parents",null,null,"Class Teacher",null,"School Head"]
[]
[{"$f":"Portfolio!$I$4","v":"GOVT.SENIOR SECONDARY SCHOOL ------------,MASUDA(BEAWAR)"}]
[]
[]
[]
["Sr.No.",42,{"$f":"Portfolio!$K$5","v":"Session :: 2024-25"}]
["U Dise Code ::-",{"$f":"Portfolio!$M$11","v":"0 ---------------"},null,null,null,"Paste Here Latest Passport Size Photo of Student"]
["Name of Student ::-",{"$f":"VLOOKUP(B1235,StuData,5,0)","v":{"$error":"#N/A"}}]
["Father's Name ::-",{"$f":"VLOOKUP(B1235,StuData,6,0)","v":{"$error":"#N/A"}}]
["Mother's Name ::-",{"$f":"VLOOKUP(B1235,StuData,7,0)","v":{"$error":"#N/A"}}]
["Class ::-",{"$f":"VLOOKUP(B1235,StuData,2,0)","v":{"$error":"#N/A"}}]
["Scholar No. ::-",{"$f":"VLOOKUP(B1235,StuData,3,0)","v":{"$error":"#N/A"}}]
["Class Roll No. ::-",{"$f":"VLOOKUP(B1235,StuData,4,0)","v":{"$error":"#N/A"}}]
["Date of Birth ::-",{"$f":"VLOOKUP(B1235,StuData,8,0)","v":{"$error":"#N/A"}}]
["Date of Admission ::-",{"$f":"VLOOKUP(B1235,StuData,9,0)","v":{"$error":"#N/A"}}]
["Aadhar No. ::-",{"$f":"VLOOKUP(B1235,StuData,10,0)","v":{"$error":"#N/A"}}]
["Mobile No. ::-",{"$f":"VLOOKUP(B1235,StuData,11,0)","v":{"$error":"#N/A"}}]
["Address ::-",{"$f":"VLOOKUP(B1235,StuData,12,0)","v":{"$error":"#N/A"}}]
["Weight Starting",null,"Kg.","Ending",null,"Kg."]
["Height Starting",null,"Cm.","Ending",null,"Cm."]
["Subject/Grade",null,"Hindi","English","Math","EVS"]
["Summative Assessment-I"]
["Summative Assessment-II"]
["Summative Assessment-III"]
[]
[]
[]
[]
[]
["Student","Parents",null,null,"Class Teacher",null,"School Head"]
[]
[{"$f":"Portfolio!$I$4","v":"GOVT.SENIOR SECONDARY SCHOOL ------------,MASUDA(BEAWAR)"}]
[]
[]
[]
["Sr.No.",43,{"$f":"Portfolio!$K$5","v":"Session :: 2024-25"}]
["U Dise Code ::-",{"$f":"Portfolio!$M$11","v":"0 ---------------"},null,null,null,"Paste Here Latest Passport Size Photo of Student"]
["Name of Student ::-",{"$f":"VLOOKUP(B1265,StuData,5,0)","v":{"$error":"#N/A"}}]
["Father's Name ::-",{"$f":"VLOOKUP(B1265,StuData,6,0)","v":{"$error":"#N/A"}}]
["Mother's Name ::-",{"$f":"VLOOKUP(B1265,StuData,7,0)","v":{"$error":"#N/A"}}]
["Class ::-",{"$f":"VLOOKUP(B1265,StuData,2,0)","v":{"$error":"#N/A"}}]
["Scholar No. ::-",{"$f":"VLOOKUP(B1265,StuData,3,0)","v":{"$error":"#N/A"}}]
["Class Roll No. ::-",{"$f":"VLOOKUP(B1265,StuData,4,0)","v":{"$error":"#N/A"}}]
["Date of Birth ::-",{"$f":"VLOOKUP(B1265,StuData,8,0)","v":{"$error":"#N/A"}}]
["Date of Admission ::-",{"$f":"VLOOKUP(B1265,StuData,9,0)","v":{"$error":"#N/A"}}]
["Aadhar No. ::-",{"$f":"VLOOKUP(B1265,StuData,10,0)","v":{"$error":"#N/A"}}]
["Mobile No. ::-",{"$f":"VLOOKUP(B1265,StuData,11,0)","v":{"$error":"#N/A"}}]
["Address ::-",{"$f":"VLOOKUP(B1265,StuData,12,0)","v":{"$error":"#N/A"}}]
["Weight Starting",null,"Kg.","Ending",null,"Kg."]
["Height Starting",null,"Cm.","Ending",null,"Cm."]
["Subject/Grade",null,"Hindi","English","Math","EVS"]
["Summative Assessment-I"]
["Summative Assessment-II"]
["Summative Assessment-III"]
[]
[]
[]
[]
[]
["Student","Parents",null,null,"Class Teacher",null,"School Head"]
[]
[{"$f":"Portfolio!$I$4","v":"GOVT.SENIOR SECONDARY SCHOOL ------------,MASUDA(BEAWAR)"}]
[]
[]
[]
["Sr.No.",44,{"$f":"Portfolio!$K$5","v":"Session :: 2024-25"}]
["U Dise Code ::-",{"$f":"Portfolio!$M$11","v":"0 ---------------"},null,null,null,"Paste Here Latest Passport Size Photo of Student"]
["Name of Student ::-",{"$f":"VLOOKUP(B1295,StuData,5,0)","v":{"$error":"#N/A"}}]
["Father's Name ::-",{"$f":"VLOOKUP(B1295,StuData,6,0)","v":{"$error":"#N/A"}}]
["Mother's Name ::-",{"$f":"VLOOKUP(B1295,StuData,7,0)","v":{"$error":"#N/A"}}]
["Class ::-",{"$f":"VLOOKUP(B1295,StuData,2,0)","v":{"$error":"#N/A"}}]
["Scholar No. ::-",{"$f":"VLOOKUP(B1295,StuData,3,0)","v":{"$error":"#N/A"}}]
["Class Roll No. ::-",{"$f":"VLOOKUP(B1295,StuData,4,0)","v":{"$error":"#N/A"}}]
["Date of Birth ::-",{"$f":"VLOOKUP(B1295,StuData,8,0)","v":{"$error":"#N/A"}}]
["Date of Admission ::-",{"$f":"VLOOKUP(B1295,StuData,9,0)","v":{"$error":"#N/A"}}]
["Aadhar No. ::-",{"$f":"VLOOKUP(B1295,StuData,10,0)","v":{"$error":"#N/A"}}]
["Mobile No. ::-",{"$f":"VLOOKUP(B1295,StuData,11,0)","v":{"$error":"#N/A"}}]
["Address ::-",{"$f":"VLOOKUP(B1295,StuData,12,0)","v":{"$error":"#N/A"}}]
["Weight Starting",null,"Kg.","Ending",null,"Kg."]
["Height Starting",null,"Cm.","Ending",null,"Cm."]
["Subject/Grade",null,"Hindi","English","Math","EVS"]
["Summative Assessment-I"]
["Summative Assessment-II"]
["Summative Assessment-III"]
[]
[]
[]
[]
[]
["Student","Parents",null,null,"Class Teacher",null,"School Head"]
[]
[{"$f":"Portfolio!$I$4","v":"GOVT.SENIOR SECONDARY SCHOOL ------------,MASUDA(BEAWAR)"}]
[]
[]
[]
["Sr.No.",45,{"$f":"Portfolio!$K$5","v":"Session :: 2024-25"}]
["U Dise Code ::-",{"$f":"Portfolio!$M$11","v":"0 ---------------"},null,null,null,"Paste Here Latest Passport Size Photo of Student"]
["Name of Student ::-",{"$f":"VLOOKUP(B1325,StuData,5,0)","v":{"$error":"#N/A"}}]
["Father's Name ::-",{"$f":"VLOOKUP(B1325,StuData,6,0)","v":{"$error":"#N/A"}}]
["Mother's Name ::-",{"$f":"VLOOKUP(B1325,StuData,7,0)","v":{"$error":"#N/A"}}]
["Class ::-",{"$f":"VLOOKUP(B1325,StuData,2,0)","v":{"$error":"#N/A"}}]
["Scholar No. ::-",{"$f":"VLOOKUP(B1325,StuData,3,0)","v":{"$error":"#N/A"}}]
["Class Roll No. ::-",{"$f":"VLOOKUP(B1325,StuData,4,0)","v":{"$error":"#N/A"}}]
["Date of Birth ::-",{"$f":"VLOOKUP(B1325,StuData,8,0)","v":{"$error":"#N/A"}}]
["Date of Admission ::-",{"$f":"VLOOKUP(B1325,StuData,9,0)","v":{"$error":"#N/A"}}]
["Aadhar No. ::-",{"$f":"VLOOKUP(B1325,StuData,10,0)","v":{"$error":"#N/A"}}]
["Mobile No. ::-",{"$f":"VLOOKUP(B1325,StuData,11,0)","v":{"$error":"#N/A"}}]
["Address ::-",{"$f":"VLOOKUP(B1325,StuData,12,0)","v":{"$error":"#N/A"}}]
["Weight Starting",null,"Kg.","Ending",null,"Kg."]
["Height Starting",null,"Cm.","Ending",null,"Cm."]
["Subject/Grade",null,"Hindi","English","Math","EVS"]
["Summative Assessment-I"]
["Summative Assessment-II"]
["Summative Assessment-III"]
[]
[]
[]
[]
[]
["Student","Parents",null,null,"Class Teacher",null,"School Head"]
[]
[{"$f":"Portfolio!$I$4","v":"GOVT.SENIOR SECONDARY SCHOOL ------------,MASUDA(BEAWAR)"}]
[]
[]
[]
["Sr.No.",46,{"$f":"Portfolio!$K$5","v":"Session :: 2024-25"}]
["U Dise Code ::-",{"$f":"Portfolio!$M$11","v":"0 ---------------"},null,null,null,"Paste Here Latest Passport Size Photo of Student"]
["Name of Student ::-",{"$f":"VLOOKUP(B1355,StuData,5,0)","v":{"$error":"#N/A"}}]
["Father's Name ::-",{"$f":"VLOOKUP(B1355,StuData,6,0)","v":{"$error":"#N/A"}}]
["Mother's Name ::-",{"$f":"VLOOKUP(B1355,StuData,7,0)","v":{"$error":"#N/A"}}]
["Class ::-",{"$f":"VLOOKUP(B1355,StuData,2,0)","v":{"$error":"#N/A"}}]
["Scholar No. ::-",{"$f":"VLOOKUP(B1355,StuData,3,0)","v":{"$error":"#N/A"}}]
["Class Roll No. ::-",{"$f":"VLOOKUP(B1355,StuData,4,0)","v":{"$error":"#N/A"}}]
["Date of Birth ::-",{"$f":"VLOOKUP(B1355,StuData,8,0)","v":{"$error":"#N/A"}}]
["Date of Admission ::-",{"$f":"VLOOKUP(B1355,StuData,9,0)","v":{"$error":"#N/A"}}]
["Aadhar No. ::-",{"$f":"VLOOKUP(B1355,StuData,10,0)","v":{"$error":"#N/A"}}]
["Mobile No. ::-",{"$f":"VLOOKUP(B1355,StuData,11,0)","v":{"$error":"#N/A"}}]
["Address ::-",{"$f":"VLOOKUP(B1355,StuData,12,0)","v":{"$error":"#N/A"}}]
["Weight Starting",null,"Kg.","Ending",null,"Kg."]
["Height Starting",null,"Cm.","Ending",null,"Cm."]
["Subject/Grade",null,"Hindi","English","Math","EVS"]
["Summative Assessment-I"]
["Summative Assessment-II"]
["Summative Assessment-III"]
[]
[]
[]
[]
[]
["Student","Parents",null,null,"Class Teacher",null,"School Head"]
[]
[{"$f":"Portfolio!$I$4","v":"GOVT.SENIOR SECONDARY SCHOOL ------------,MASUDA(BEAWAR)"}]
[]
[]
[]
["Sr.No.",47,{"$f":"Portfolio!$K$5","v":"Session :: 2024-25"}]
["U Dise Code ::-",{"$f":"Portfolio!$M$11","v":"0 ---------------"},null,null,null,"Paste Here Latest Passport Size Photo of Student"]
["Name of Student ::-",{"$f":"VLOOKUP(B1385,StuData,5,0)","v":{"$error":"#N/A"}}]
["Father's Name ::-",{"$f":"VLOOKUP(B1385,StuData,6,0)","v":{"$error":"#N/A"}}]
["Mother's Name ::-",{"$f":"VLOOKUP(B1385,StuData,7,0)","v":{"$error":"#N/A"}}]
["Class ::-",{"$f":"VLOOKUP(B1385,StuData,2,0)","v":{"$error":"#N/A"}}]
["Scholar No. ::-",{"$f":"VLOOKUP(B1385,StuData,3,0)","v":{"$error":"#N/A"}}]
["Class Roll No. ::-",{"$f":"VLOOKUP(B1385,StuData,4,0)","v":{"$error":"#N/A"}}]
["Date of Birth ::-",{"$f":"VLOOKUP(B1385,StuData,8,0)","v":{"$error":"#N/A"}}]
["Date of Admission ::-",{"$f":"VLOOKUP(B1385,StuData,9,0)","v":{"$error":"#N/A"}}]
["Aadhar No. ::-",{"$f":"VLOOKUP(B1385,StuData,10,0)","v":{"$error":"#N/A"}}]
["Mobile No. ::-",{"$f":"VLOOKUP(B1385,StuData,11,0)","v":{"$error":"#N/A"}}]
["Address ::-",{"$f":"VLOOKUP(B1385,StuData,12,0)","v":{"$error":"#N/A"}}]
["Weight Starting",null,"Kg.","Ending",null,"Kg."]
["Height Starting",null,"Cm.","Ending",null,"Cm."]
["Subject/Grade",null,"Hindi","English","Math","EVS"]
["Summative Assessment-I"]
["Summative Assessment-II"]
["Summative Assessment-III"]
[]
[]
[]
[]
[]
["Student","Parents",null,null,"Class Teacher",null,"School Head"]
[]
[{"$f":"Portfolio!$I$4","v":"GOVT.SENIOR SECONDARY SCHOOL ------------,MASUDA(BEAWAR)"}]
[]
[]
[]
["Sr.No.",48,{"$f":"Portfolio!$K$5","v":"Session :: 2024-25"}]
["U Dise Code ::-",{"$f":"Portfolio!$M$11","v":"0 ---------------"},null,null,null,"Paste Here Latest Passport Size Photo of Student"]
["Name of Student ::-",{"$f":"VLOOKUP(B1415,StuData,5,0)","v":{"$error":"#N/A"}}]
["Father's Name ::-",{"$f":"VLOOKUP(B1415,StuData,6,0)","v":{"$error":"#N/A"}}]
["Mother's Name ::-",{"$f":"VLOOKUP(B1415,StuData,7,0)","v":{"$error":"#N/A"}}]
["Class ::-",{"$f":"VLOOKUP(B1415,StuData,2,0)","v":{"$error":"#N/A"}}]
["Scholar No. ::-",{"$f":"VLOOKUP(B1415,StuData,3,0)","v":{"$error":"#N/A"}}]
["Class Roll No. ::-",{"$f":"VLOOKUP(B1415,StuData,4,0)","v":{"$error":"#N/A"}}]
["Date of Birth ::-",{"$f":"VLOOKUP(B1415,StuData,8,0)","v":{"$error":"#N/A"}}]
["Date of Admission ::-",{"$f":"VLOOKUP(B1415,StuData,9,0)","v":{"$error":"#N/A"}}]
["Aadhar No. ::-",{"$f":"VLOOKUP(B1415,StuData,10,0)","v":{"$error":"#N/A"}}]
["Mobile No. ::-",{"$f":"VLOOKUP(B1415,StuData,11,0)","v":{"$error":"#N/A"}}]
["Address ::-",{"$f":"VLOOKUP(B1415,StuData,12,0)","v":{"$error":"#N/A"}}]
["Weight Starting",null,"Kg.","Ending",null,"Kg."]
["Height Starting",null,"Cm.","Ending",null,"Cm."]
["Subject/Grade",null,"Hindi","English","Math","EVS"]
["Summative Assessment-I"]
["Summative Assessment-II"]
["Summative Assessment-III"]
[]
[]
[]
[]
[]
["Student","Parents",null,null,"Class Teacher",null,"School Head"]
[]
[{"$f":"Portfolio!$I$4","v":"GOVT.SENIOR SECONDARY SCHOOL ------------,MASUDA(BEAWAR)"}]
[]
[]
[]
["Sr.No.",49,{"$f":"Portfolio!$K$5","v":"Session :: 2024-25"}]
["U Dise Code ::-",{"$f":"Portfolio!$M$11","v":"0 ---------------"},null,null,null,"Paste Here Latest Passport Size Photo of Student"]
["Name of Student ::-",{"$f":"VLOOKUP(B1445,StuData,5,0)","v":{"$error":"#N/A"}}]
["Father's Name ::-",{"$f":"VLOOKUP(B1445,StuData,6,0)","v":{"$error":"#N/A"}}]
["Mother's Name ::-",{"$f":"VLOOKUP(B1445,StuData,7,0)","v":{"$error":"#N/A"}}]
["Class ::-",{"$f":"VLOOKUP(B1445,StuData,2,0)","v":{"$error":"#N/A"}}]
["Scholar No. ::-",{"$f":"VLOOKUP(B1445,StuData,3,0)","v":{"$error":"#N/A"}}]
["Class Roll No. ::-",{"$f":"VLOOKUP(B1445,StuData,4,0)","v":{"$error":"#N/A"}}]
["Date of Birth ::-",{"$f":"VLOOKUP(B1445,StuData,8,0)","v":{"$error":"#N/A"}}]
["Date of Admission ::-",{"$f":"VLOOKUP(B1445,StuData,9,0)","v":{"$error":"#N/A"}}]
["Aadhar No. ::-",{"$f":"VLOOKUP(B1445,StuData,10,0)","v":{"$error":"#N/A"}}]
["Mobile No. ::-",{"$f":"VLOOKUP(B1445,StuData,11,0)","v":{"$error":"#N/A"}}]
["Address ::-",{"$f":"VLOOKUP(B1445,StuData,12,0)","v":{"$error":"#N/A"}}]
["Weight Starting",null,"Kg.","Ending",null,"Kg."]
["Height Starting",null,"Cm.","Ending",null,"Cm."]
["Subject/Grade",null,"Hindi","English","Math","EVS"]
["Summative Assessment-I"]
["Summative Assessment-II"]
["Summative Assessment-III"]
[]
[]
[]
[]
[]
["Student","Parents",null,null,"Class Teacher",null,"School Head"]
[]
[{"$f":"Portfolio!$I$4","v":"GOVT.SENIOR SECONDARY SCHOOL ------------,MASUDA(BEAWAR)"}]
[]
[]
[]
["Sr.No.",50,{"$f":"Portfolio!$K$5","v":"Session :: 2024-25"}]
["U Dise Code ::-",{"$f":"Portfolio!$M$11","v":"0 ---------------"},null,null,null,"Paste Here Latest Passport Size Photo of Student"]
["Name of Student ::-",{"$f":"VLOOKUP(B1475,StuData,5,0)","v":{"$error":"#N/A"}}]
["Father's Name ::-",{"$f":"VLOOKUP(B1475,StuData,6,0)","v":{"$error":"#N/A"}}]
["Mother's Name ::-",{"$f":"VLOOKUP(B1475,StuData,7,0)","v":{"$error":"#N/A"}}]
["Class ::-",{"$f":"VLOOKUP(B1475,StuData,2,0)","v":{"$error":"#N/A"}}]
["Scholar No. ::-",{"$f":"VLOOKUP(B1475,StuData,3,0)","v":{"$error":"#N/A"}}]
["Class Roll No. ::-",{"$f":"VLOOKUP(B1475,StuData,4,0)","v":{"$error":"#N/A"}}]
["Date of Birth ::-",{"$f":"VLOOKUP(B1475,StuData,8,0)","v":{"$error":"#N/A"}}]
["Date of Admission ::-",{"$f":"VLOOKUP(B1475,StuData,9,0)","v":{"$error":"#N/A"}}]
["Aadhar No. ::-",{"$f":"VLOOKUP(B1475,StuData,10,0)","v":{"$error":"#N/A"}}]
["Mobile No. ::-",{"$f":"VLOOKUP(B1475,StuData,11,0)","v":{"$error":"#N/A"}}]
["Address ::-",{"$f":"VLOOKUP(B1475,StuData,12,0)","v":{"$error":"#N/A"}}]
["Weight Starting",null,"Kg.","Ending",null,"Kg."]
["Height Starting",null,"Cm.","Ending",null,"Cm."]
["Subject/Grade",null,"Hindi","English","Math","EVS"]
["Summative Assessment-I"]
["Summative Assessment-II"]
["Summative Assessment-III"]
[]
[]
[]
[]
[]
["Student","Parents",null,null,"Class Teacher",null,"School Head"]
[]
[{"$f":"Portfolio!$I$4","v":"GOVT.SENIOR SECONDARY SCHOOL ------------,MASUDA(BEAWAR)"}]
[]
[]
[]
["Sr.No.",51,{"$f":"Portfolio!$K$5","v":"Session :: 2024-25"}]
["U Dise Code ::-",{"$f":"Portfolio!$M$11","v":"0 ---------------"},null,null,null,"Paste Here Latest Passport Size Photo of Student"]
["Name of Student ::-",{"$f":"VLOOKUP(B1505,StuData,5,0)","v":{"$error":"#N/A"}}]
["Father's Name ::-",{"$f":"VLOOKUP(B1505,StuData,6,0)","v":{"$error":"#N/A"}}]
["Mother's Name ::-",{"$f":"VLOOKUP(B1505,StuData,7,0)","v":{"$error":"#N/A"}}]
["Class ::-",{"$f":"VLOOKUP(B1505,StuData,2,0)","v":{"$error":"#N/A"}}]
["Scholar No. ::-",{"$f":"VLOOKUP(B1505,StuData,3,0)","v":{"$error":"#N/A"}}]
["Class Roll No. ::-",{"$f":"VLOOKUP(B1505,StuData,4,0)","v":{"$error":"#N/A"}}]
["Date of Birth ::-",{"$f":"VLOOKUP(B1505,StuData,8,0)","v":{"$error":"#N/A"}}]
["Date of Admission ::-",{"$f":"VLOOKUP(B1505,StuData,9,0)","v":{"$error":"#N/A"}}]
["Aadhar No. ::-",{"$f":"VLOOKUP(B1505,StuData,10,0)","v":{"$error":"#N/A"}}]
["Mobile No. ::-",{"$f":"VLOOKUP(B1505,StuData,11,0)","v":{"$error":"#N/A"}}]
["Address ::-",{"$f":"VLOOKUP(B1505,StuData,12,0)","v":{"$error":"#N/A"}}]
["Weight Starting",null,"Kg.","Ending",null,"Kg."]
["Height Starting",null,"Cm.","Ending",null,"Cm."]
["Subject/Grade",null,"Hindi","English","Math","EVS"]
["Summative Assessment-I"]
["Summative Assessment-II"]
["Summative Assessment-III"]
[]
[]
[]
[]
[]
["Student","Parents",null,null,"Class Teacher",null,"School Head"]
[]
[{"$f":"Portfolio!$I$4","v":"GOVT.SENIOR SECONDARY SCHOOL ------------,MASUDA(BEAWAR)"}]
[]
[]
[]
["Sr.No.",52,{"$f":"Portfolio!$K$5","v":"Session :: 2024-25"}]
["U Dise Code ::-",{"$f":"Portfolio!$M$11","v":"0 ---------------"},null,null,null,"Paste Here Latest Passport Size Photo of Student"]
["Name of Student ::-",{"$f":"VLOOKUP(B1535,StuData,5,0)","v":{"$error":"#N/A"}}]
["Father's Name ::-",{"$f":"VLOOKUP(B1535,StuData,6,0)","v":{"$error":"#N/A"}}]
["Mother's Name ::-",{"$f":"VLOOKUP(B1535,StuData,7,0)","v":{"$error":"#N/A"}}]
["Class ::-",{"$f":"VLOOKUP(B1535,StuData,2,0)","v":{"$error":"#N/A"}}]
["Scholar No. ::-",{"$f":"VLOOKUP(B1535,StuData,3,0)","v":{"$error":"#N/A"}}]
["Class Roll No. ::-",{"$f":"VLOOKUP(B1535,StuData,4,0)","v":{"$error":"#N/A"}}]
["Date of Birth ::-",{"$f":"VLOOKUP(B1535,StuData,8,0)","v":{"$error":"#N/A"}}]
["Date of Admission ::-",{"$f":"VLOOKUP(B1535,StuData,9,0)","v":{"$error":"#N/A"}}]
["Aadhar No. ::-",{"$f":"VLOOKUP(B1535,StuData,10,0)","v":{"$error":"#N/A"}}]
["Mobile No. ::-",{"$f":"VLOOKUP(B1535,StuData,11,0)","v":{"$error":"#N/A"}}]
["Address ::-",{"$f":"VLOOKUP(B1535,StuData,12,0)","v":{"$error":"#N/A"}}]
["Weight Starting",null,"Kg.","Ending",null,"Kg."]
["Height Starting",null,"Cm.","Ending",null,"Cm."]
["Subject/Grade",null,"Hindi","English","Math","EVS"]
["Summative Assessment-I"]
["Summative Assessment-II"]
["Summative Assessment-III"]
[]
[]
[]
[]
[]
["Student","Parents",null,null,"Class Teacher",null,"School Head"]
[]
[{"$f":"Portfolio!$I$4","v":"GOVT.SENIOR SECONDARY SCHOOL ------------,MASUDA(BEAWAR)"}]
[]
[]
[]
["Sr.No.",53,{"$f":"Portfolio!$K$5","v":"Session :: 2024-25"}]
["U Dise Code ::-",{"$f":"Portfolio!$M$11","v":"0 ---------------"},null,null,null,"Paste Here Latest Passport Size Photo of Student"]
["Name of Student ::-",{"$f":"VLOOKUP(B1565,StuData,5,0)","v":{"$error":"#N/A"}}]
["Father's Name ::-",{"$f":"VLOOKUP(B1565,StuData,6,0)","v":{"$error":"#N/A"}}]
["Mother's Name ::-",{"$f":"VLOOKUP(B1565,StuData,7,0)","v":{"$error":"#N/A"}}]
["Class ::-",{"$f":"VLOOKUP(B1565,StuData,2,0)","v":{"$error":"#N/A"}}]
["Scholar No. ::-",{"$f":"VLOOKUP(B1565,StuData,3,0)","v":{"$error":"#N/A"}}]
["Class Roll No. ::-",{"$f":"VLOOKUP(B1565,StuData,4,0)","v":{"$error":"#N/A"}}]
["Date of Birth ::-",{"$f":"VLOOKUP(B1565,StuData,8,0)","v":{"$error":"#N/A"}}]
["Date of Admission ::-",{"$f":"VLOOKUP(B1565,StuData,9,0)","v":{"$error":"#N/A"}}]
["Aadhar No. ::-",{"$f":"VLOOKUP(B1565,StuData,10,0)","v":{"$error":"#N/A"}}]
["Mobile No. ::-",{"$f":"VLOOKUP(B1565,StuData,11,0)","v":{"$error":"#N/A"}}]
["Address ::-",{"$f":"VLOOKUP(B1565,StuData,12,0)","v":{"$error":"#N/A"}}]
["Weight Starting",null,"Kg.","Ending",null,"Kg."]
["Height Starting",null,"Cm.","Ending",null,"Cm."]
["Subject/Grade",null,"Hindi","English","Math","EVS"]
["Summative Assessment-I"]
["Summative Assessment-II"]
["Summative Assessment-III"]
[]
[]
[]
[]
[]
["Student","Parents",null,null,"Class Teacher",null,"School Head"]
[]
[{"$f":"Portfolio!$I$4","v":"GOVT.SENIOR SECONDARY SCHOOL ------------,MASUDA(BEAWAR)"}]
[]
[]
[]
["Sr.No.",54,{"$f":"Portfolio!$K$5","v":"Session :: 2024-25"}]
["U Dise Code ::-",{"$f":"Portfolio!$M$11","v":"0 ---------------"},null,null,null,"Paste Here Latest Passport Size Photo of Student"]
["Name of Student ::-",{"$f":"VLOOKUP(B1595,StuData,5,0)","v":{"$error":"#N/A"}}]
["Father's Name ::-",{"$f":"VLOOKUP(B1595,StuData,6,0)","v":{"$error":"#N/A"}}]
["Mother's Name ::-",{"$f":"VLOOKUP(B1595,StuData,7,0)","v":{"$error":"#N/A"}}]
["Class ::-",{"$f":"VLOOKUP(B1595,StuData,2,0)","v":{"$error":"#N/A"}}]
["Scholar No. ::-",{"$f":"VLOOKUP(B1595,StuData,3,0)","v":{"$error":"#N/A"}}]
["Class Roll No. ::-",{"$f":"VLOOKUP(B1595,StuData,4,0)","v":{"$error":"#N/A"}}]
["Date of Birth ::-",{"$f":"VLOOKUP(B1595,StuData,8,0)","v":{"$error":"#N/A"}}]
["Date of Admission ::-",{"$f":"VLOOKUP(B1595,StuData,9,0)","v":{"$error":"#N/A"}}]
["Aadhar No. ::-",{"$f":"VLOOKUP(B1595,StuData,10,0)","v":{"$error":"#N/A"}}]
["Mobile No. ::-",{"$f":"VLOOKUP(B1595,StuData,11,0)","v":{"$error":"#N/A"}}]
["Address ::-",{"$f":"VLOOKUP(B1595,StuData,12,0)","v":{"$error":"#N/A"}}]
["Weight Starting",null,"Kg.","Ending",null,"Kg."]
["Height Starting",null,"Cm.","Ending",null,"Cm."]
["Subject/Grade",null,"Hindi","English","Math","EVS"]
["Summative Assessment-I"]
["Summative Assessment-II"]
["Summative Assessment-III"]
[]
[]
[]
[]
[]
["Student","Parents",null,null,"Class Teacher",null,"School Head"]
[]
[{"$f":"Portfolio!$I$4","v":"GOVT.SENIOR SECONDARY SCHOOL ------------,MASUDA(BEAWAR)"}]
[]
[]
[]
["Sr.No.",55,{"$f":"Portfolio!$K$5","v":"Session :: 2024-25"}]
["U Dise Code ::-",{"$f":"Portfolio!$M$11","v":"0 ---------------"},null,null,null,"Paste Here Latest Passport Size Photo of Student"]
["Name of Student ::-",{"$f":"VLOOKUP(B1625,StuData,5,0)","v":{"$error":"#N/A"}}]
["Father's Name ::-",{"$f":"VLOOKUP(B1625,StuData,6,0)","v":{"$error":"#N/A"}}]
["Mother's Name ::-",{"$f":"VLOOKUP(B1625,StuData,7,0)","v":{"$error":"#N/A"}}]
["Class ::-",{"$f":"VLOOKUP(B1625,StuData,2,0)","v":{"$error":"#N/A"}}]
["Scholar No. ::-",{"$f":"VLOOKUP(B1625,StuData,3,0)","v":{"$error":"#N/A"}}]
["Class Roll No. ::-",{"$f":"VLOOKUP(B1625,StuData,4,0)","v":{"$error":"#N/A"}}]
["Date of Birth ::-",{"$f":"VLOOKUP(B1625,StuData,8,0)","v":{"$error":"#N/A"}}]
["Date of Admission ::-",{"$f":"VLOOKUP(B1625,StuData,9,0)","v":{"$error":"#N/A"}}]
["Aadhar No. ::-",{"$f":"VLOOKUP(B1625,StuData,10,0)","v":{"$error":"#N/A"}}]
["Mobile No. ::-",{"$f":"VLOOKUP(B1625,StuData,11,0)","v":{"$error":"#N/A"}}]
["Address ::-",{"$f":"VLOOKUP(B1625,StuData,12,0)","v":{"$error":"#N/A"}}]
["Weight Starting",null,"Kg.","Ending",null,"Kg."]
["Height Starting",null,"Cm.","Ending",null,"Cm."]
["Subject/Grade",null,"Hindi","English","Math","EVS"]
["Summative Assessment-I"]
["Summative Assessment-II"]
["Summative Assessment-III"]
[]
[]
[]
[]
[]
["Student","Parents",null,null,"Class Teacher",null,"School Head"]
[]
[{"$f":"Portfolio!$I$4","v":"GOVT.SENIOR SECONDARY SCHOOL ------------,MASUDA(BEAWAR)"}]
[]
[]
[]
["Sr.No.",56,{"$f":"Portfolio!$K$5","v":"Session :: 2024-25"}]
["U Dise Code ::-",{"$f":"Portfolio!$M$11","v":"0 ---------------"},null,null,null,"Paste Here Latest Passport Size Photo of Student"]
["Name of Student ::-",{"$f":"VLOOKUP(B1655,StuData,5,0)","v":{"$error":"#N/A"}}]
["Father's Name ::-",{"$f":"VLOOKUP(B1655,StuData,6,0)","v":{"$error":"#N/A"}}]
["Mother's Name ::-",{"$f":"VLOOKUP(B1655,StuData,7,0)","v":{"$error":"#N/A"}}]
["Class ::-",{"$f":"VLOOKUP(B1655,StuData,2,0)","v":{"$error":"#N/A"}}]
["Scholar No. ::-",{"$f":"VLOOKUP(B1655,StuData,3,0)","v":{"$error":"#N/A"}}]
["Class Roll No. ::-",{"$f":"VLOOKUP(B1655,StuData,4,0)","v":{"$error":"#N/A"}}]
["Date of Birth ::-",{"$f":"VLOOKUP(B1655,StuData,8,0)","v":{"$error":"#N/A"}}]
["Date of Admission ::-",{"$f":"VLOOKUP(B1655,StuData,9,0)","v":{"$error":"#N/A"}}]
["Aadhar No. ::-",{"$f":"VLOOKUP(B1655,StuData,10,0)","v":{"$error":"#N/A"}}]
["Mobile No. ::-",{"$f":"VLOOKUP(B1655,StuData,11,0)","v":{"$error":"#N/A"}}]
["Address ::-",{"$f":"VLOOKUP(B1655,StuData,12,0)","v":{"$error":"#N/A"}}]
["Weight Starting",null,"Kg.","Ending",null,"Kg."]
["Height Starting",null,"Cm.","Ending",null,"Cm."]
["Subject/Grade",null,"Hindi","English","Math","EVS"]
["Summative Assessment-I"]
["Summative Assessment-II"]
["Summative Assessment-III"]
[]
[]
[]
[]
[]
["Student","Parents",null,null,"Class Teacher",null,"School Head"]
[]
[{"$f":"Portfolio!$I$4","v":"GOVT.SENIOR SECONDARY SCHOOL ------------,MASUDA(BEAWAR)"}]
[]
[]
[]
["Sr.No.",57,{"$f":"Portfolio!$K$5","v":"Session :: 2024-25"}]
["U Dise Code ::-",{"$f":"Portfolio!$M$11","v":"0 ---------------"},null,null,null,"Paste Here Latest Passport Size Photo of Student"]
["Name of Student ::-",{"$f":"VLOOKUP(B1685,StuData,5,0)","v":{"$error":"#N/A"}}]
["Father's Name ::-",{"$f":"VLOOKUP(B1685,StuData,6,0)","v":{"$error":"#N/A"}}]
["Mother's Name ::-",{"$f":"VLOOKUP(B1685,StuData,7,0)","v":{"$error":"#N/A"}}]
["Class ::-",{"$f":"VLOOKUP(B1685,StuData,2,0)","v":{"$error":"#N/A"}}]
["Scholar No. ::-",{"$f":"VLOOKUP(B1685,StuData,3,0)","v":{"$error":"#N/A"}}]
["Class Roll No. ::-",{"$f":"VLOOKUP(B1685,StuData,4,0)","v":{"$error":"#N/A"}}]
["Date of Birth ::-",{"$f":"VLOOKUP(B1685,StuData,8,0)","v":{"$error":"#N/A"}}]
["Date of Admission ::-",{"$f":"VLOOKUP(B1685,StuData,9,0)","v":{"$error":"#N/A"}}]
["Aadhar No. ::-",{"$f":"VLOOKUP(B1685,StuData,10,0)","v":{"$error":"#N/A"}}]
["Mobile No. ::-",{"$f":"VLOOKUP(B1685,StuData,11,0)","v":{"$error":"#N/A"}}]
["Address ::-",{"$f":"VLOOKUP(B1685,StuData,12,0)","v":{"$error":"#N/A"}}]
["Weight Starting",null,"Kg.","Ending",null,"Kg."]
["Height Starting",null,"Cm.","Ending",null,"Cm."]
["Subject/Grade",null,"Hindi","English","Math","EVS"]
["Summative Assessment-I"]
["Summative Assessment-II"]
["Summative Assessment-III"]
[]
[]
[]
[]
[]
["Student","Parents",null,null,"Class Teacher",null,"School Head"]
[]
[{"$f":"Portfolio!$I$4","v":"GOVT.SENIOR SECONDARY SCHOOL ------------,MASUDA(BEAWAR)"}]
[]
[]
[]
["Sr.No.",58,{"$f":"Portfolio!$K$5","v":"Session :: 2024-25"}]
["U Dise Code ::-",{"$f":"Portfolio!$M$11","v":"0 ---------------"},null,null,null,"Paste Here Latest Passport Size Photo of Student"]
["Name of Student ::-",{"$f":"VLOOKUP(B1715,StuData,5,0)","v":{"$error":"#N/A"}}]
["Father's Name ::-",{"$f":"VLOOKUP(B1715,StuData,6,0)","v":{"$error":"#N/A"}}]
["Mother's Name ::-",{"$f":"VLOOKUP(B1715,StuData,7,0)","v":{"$error":"#N/A"}}]
["Class ::-",{"$f":"VLOOKUP(B1715,StuData,2,0)","v":{"$error":"#N/A"}}]
["Scholar No. ::-",{"$f":"VLOOKUP(B1715,StuData,3,0)","v":{"$error":"#N/A"}}]
["Class Roll No. ::-",{"$f":"VLOOKUP(B1715,StuData,4,0)","v":{"$error":"#N/A"}}]
["Date of Birth ::-",{"$f":"VLOOKUP(B1715,StuData,8,0)","v":{"$error":"#N/A"}}]
["Date of Admission ::-",{"$f":"VLOOKUP(B1715,StuData,9,0)","v":{"$error":"#N/A"}}]
["Aadhar No. ::-",{"$f":"VLOOKUP(B1715,StuData,10,0)","v":{"$error":"#N/A"}}]
["Mobile No. ::-",{"$f":"VLOOKUP(B1715,StuData,11,0)","v":{"$error":"#N/A"}}]
["Address ::-",{"$f":"VLOOKUP(B1715,StuData,12,0)","v":{"$error":"#N/A"}}]
["Weight Starting",null,"Kg.","Ending",null,"Kg."]
["Height Starting",null,"Cm.","Ending",null,"Cm."]
["Subject/Grade",null,"Hindi","English","Math","EVS"]
["Summative Assessment-I"]
["Summative Assessment-II"]
["Summative Assessment-III"]
[]
[]
[]
[]
[]
["Student","Parents",null,null,"Class Teacher",null,"School Head"]
[]
[{"$f":"Portfolio!$I$4","v":"GOVT.SENIOR SECONDARY SCHOOL ------------,MASUDA(BEAWAR)"}]
[]
[]
[]
["Sr.No.",59,{"$f":"Portfolio!$K$5","v":"Session :: 2024-25"}]
["U Dise Code ::-",{"$f":"Portfolio!$M$11","v":"0 ---------------"},null,null,null,"Paste Here Latest Passport Size Photo of Student"]
["Name of Student ::-",{"$f":"VLOOKUP(B1745,StuData,5,0)","v":{"$error":"#N/A"}}]
["Father's Name ::-",{"$f":"VLOOKUP(B1745,StuData,6,0)","v":{"$error":"#N/A"}}]
["Mother's Name ::-",{"$f":"VLOOKUP(B1745,StuData,7,0)","v":{"$error":"#N/A"}}]
["Class ::-",{"$f":"VLOOKUP(B1745,StuData,2,0)","v":{"$error":"#N/A"}}]
["Scholar No. ::-",{"$f":"VLOOKUP(B1745,StuData,3,0)","v":{"$error":"#N/A"}}]
["Class Roll No. ::-",{"$f":"VLOOKUP(B1745,StuData,4,0)","v":{"$error":"#N/A"}}]
["Date of Birth ::-",{"$f":"VLOOKUP(B1745,StuData,8,0)","v":{"$error":"#N/A"}}]
["Date of Admission ::-",{"$f":"VLOOKUP(B1745,StuData,9,0)","v":{"$error":"#N/A"}}]
["Aadhar No. ::-",{"$f":"VLOOKUP(B1745,StuData,10,0)","v":{"$error":"#N/A"}}]
["Mobile No. ::-",{"$f":"VLOOKUP(B1745,StuData,11,0)","v":{"$error":"#N/A"}}]
["Address ::-",{"$f":"VLOOKUP(B1745,StuData,12,0)","v":{"$error":"#N/A"}}]
["Weight Starting",null,"Kg.","Ending",null,"Kg."]
["Height Starting",null,"Cm.","Ending",null,"Cm."]
["Subject/Grade",null,"Hindi","English","Math","EVS"]
["Summative Assessment-I"]
["Summative Assessment-II"]
["Summative Assessment-III"]
[]
[]
[]
[]
[]
["Student","Parents",null,null,"Class Teacher",null,"School Head"]
[]
[{"$f":"Portfolio!$I$4","v":"GOVT.SENIOR SECONDARY SCHOOL ------------,MASUDA(BEAWAR)"}]
[]
[]
[]
["Sr.No.",60,{"$f":"Portfolio!$K$5","v":"Session :: 2024-25"}]
["U Dise Code ::-",{"$f":"Portfolio!$M$11","v":"0 ---------------"},null,null,null,"Paste Here Latest Passport Size Photo of Student"]
["Name of Student ::-",{"$f":"VLOOKUP(B1775,StuData,5,0)","v":{"$error":"#N/A"}}]
["Father's Name ::-",{"$f":"VLOOKUP(B1775,StuData,6,0)","v":{"$error":"#N/A"}}]
["Mother's Name ::-",{"$f":"VLOOKUP(B1775,StuData,7,0)","v":{"$error":"#N/A"}}]
["Class ::-",{"$f":"VLOOKUP(B1775,StuData,2,0)","v":{"$error":"#N/A"}}]
["Scholar No. ::-",{"$f":"VLOOKUP(B1775,StuData,3,0)","v":{"$error":"#N/A"}}]
["Class Roll No. ::-",{"$f":"VLOOKUP(B1775,StuData,4,0)","v":{"$error":"#N/A"}}]
["Date of Birth ::-",{"$f":"VLOOKUP(B1775,StuData,8,0)","v":{"$error":"#N/A"}}]
["Date of Admission ::-",{"$f":"VLOOKUP(B1775,StuData,9,0)","v":{"$error":"#N/A"}}]
["Aadhar No. ::-",{"$f":"VLOOKUP(B1775,StuData,10,0)","v":{"$error":"#N/A"}}]
["Mobile No. ::-",{"$f":"VLOOKUP(B1775,StuData,11,0)","v":{"$error":"#N/A"}}]
["Address ::-",{"$f":"VLOOKUP(B1775,StuData,12,0)","v":{"$error":"#N/A"}}]
["Weight Starting",null,"Kg.","Ending",null,"Kg."]
["Height Starting",null,"Cm.","Ending",null,"Cm."]
["Subject/Grade",null,"Hindi","English","Math","EVS"]
["Summative Assessment-I"]
["Summative Assessment-II"]
["Summative Assessment-III"]
[]
[]
[]
[]
[]
["Student","Parents",null,null,"Class Teacher",null,"School Head"]
[]
[{"$f":"Portfolio!$I$4","v":"GOVT.SENIOR SECONDARY SCHOOL ------------,MASUDA(BEAWAR)"}]
[]
[]
[]
["Sr.No.",61,{"$f":"Portfolio!$K$5","v":"Session :: 2024-25"}]
["U Dise Code ::-",{"$f":"Portfolio!$M$11","v":"0 ---------------"},null,null,null,"Paste Here Latest Passport Size Photo of Student"]
["Name of Student ::-",{"$f":"VLOOKUP(B1805,StuData,5,0)","v":{"$error":"#N/A"}}]
["Father's Name ::-",{"$f":"VLOOKUP(B1805,StuData,6,0)","v":{"$error":"#N/A"}}]
["Mother's Name ::-",{"$f":"VLOOKUP(B1805,StuData,7,0)","v":{"$error":"#N/A"}}]
["Class ::-",{"$f":"VLOOKUP(B1805,StuData,2,0)","v":{"$error":"#N/A"}}]
["Scholar No. ::-",{"$f":"VLOOKUP(B1805,StuData,3,0)","v":{"$error":"#N/A"}}]
["Class Roll No. ::-",{"$f":"VLOOKUP(B1805,StuData,4,0)","v":{"$error":"#N/A"}}]
["Date of Birth ::-",{"$f":"VLOOKUP(B1805,StuData,8,0)","v":{"$error":"#N/A"}}]
["Date of Admission ::-",{"$f":"VLOOKUP(B1805,StuData,9,0)","v":{"$error":"#N/A"}}]
["Aadhar No. ::-",{"$f":"VLOOKUP(B1805,StuData,10,0)","v":{"$error":"#N/A"}}]
["Mobile No. ::-",{"$f":"VLOOKUP(B1805,StuData,11,0)","v":{"$error":"#N/A"}}]
["Address ::-",{"$f":"VLOOKUP(B1805,StuData,12,0)","v":{"$error":"#N/A"}}]
["Weight Starting",null,"Kg.","Ending",null,"Kg."]
["Height Starting",null,"Cm.","Ending",null,"Cm."]
["Subject/Grade",null,"Hindi","English","Math","EVS"]
["Summative Assessment-I"]
["Summative Assessment-II"]
["Summative Assessment-III"]
[]
[]
[]
[]
[]
["Student","Parents",null,null,"Class Teacher",null,"School Head"]
[]
[{"$f":"Portfolio!$I$4","v":"GOVT.SENIOR SECONDARY SCHOOL ------------,MASUDA(BEAWAR)"}]
[]
[]
[]
["Sr.No.",62,{"$f":"Portfolio!$K$5","v":"Session :: 2024-25"}]
["U Dise Code ::-",{"$f":"Portfolio!$M$11","v":"0 ---------------"},null,null,null,"Paste Here Latest Passport Size Photo of Student"]
["Name of Student ::-",{"$f":"VLOOKUP(B1835,StuData,5,0)","v":{"$error":"#N/A"}}]
["Father's Name ::-",{"$f":"VLOOKUP(B1835,StuData,6,0)","v":{"$error":"#N/A"}}]
["Mother's Name ::-",{"$f":"VLOOKUP(B1835,StuData,7,0)","v":{"$error":"#N/A"}}]
["Class ::-",{"$f":"VLOOKUP(B1835,StuData,2,0)","v":{"$error":"#N/A"}}]
["Scholar No. ::-",{"$f":"VLOOKUP(B1835,StuData,3,0)","v":{"$error":"#N/A"}}]
["Class Roll No. ::-",{"$f":"VLOOKUP(B1835,StuData,4,0)","v":{"$error":"#N/A"}}]
["Date of Birth ::-",{"$f":"VLOOKUP(B1835,StuData,8,0)","v":{"$error":"#N/A"}}]
["Date of Admission ::-",{"$f":"VLOOKUP(B1835,StuData,9,0)","v":{"$error":"#N/A"}}]
["Aadhar No. ::-",{"$f":"VLOOKUP(B1835,StuData,10,0)","v":{"$error":"#N/A"}}]
["Mobile No. ::-",{"$f":"VLOOKUP(B1835,StuData,11,0)","v":{"$error":"#N/A"}}]
["Address ::-",{"$f":"VLOOKUP(B1835,StuData,12,0)","v":{"$error":"#N/A"}}]
["Weight Starting",null,"Kg.","Ending",null,"Kg."]
["Height Starting",null,"Cm.","Ending",null,"Cm."]
["Subject/Grade",null,"Hindi","English","Math","EVS"]
["Summative Assessment-I"]
["Summative Assessment-II"]
["Summative Assessment-III"]
[]
[]
[]
[]
[]
["Student","Parents",null,null,"Class Teacher",null,"School Head"]
[]
[{"$f":"Portfolio!$I$4","v":"GOVT.SENIOR SECONDARY SCHOOL ------------,MASUDA(BEAWAR)"}]
[]
[]
[]
["Sr.No.",63,{"$f":"Portfolio!$K$5","v":"Session :: 2024-25"}]
["U Dise Code ::-",{"$f":"Portfolio!$M$11","v":"0 ---------------"},null,null,null,"Paste Here Latest Passport Size Photo of Student"]
["Name of Student ::-",{"$f":"VLOOKUP(B1865,StuData,5,0)","v":{"$error":"#N/A"}}]
["Father's Name ::-",{"$f":"VLOOKUP(B1865,StuData,6,0)","v":{"$error":"#N/A"}}]
["Mother's Name ::-",{"$f":"VLOOKUP(B1865,StuData,7,0)","v":{"$error":"#N/A"}}]
["Class ::-",{"$f":"VLOOKUP(B1865,StuData,2,0)","v":{"$error":"#N/A"}}]
["Scholar No. ::-",{"$f":"VLOOKUP(B1865,StuData,3,0)","v":{"$error":"#N/A"}}]
["Class Roll No. ::-",{"$f":"VLOOKUP(B1865,StuData,4,0)","v":{"$error":"#N/A"}}]
["Date of Birth ::-",{"$f":"VLOOKUP(B1865,StuData,8,0)","v":{"$error":"#N/A"}}]
["Date of Admission ::-",{"$f":"VLOOKUP(B1865,StuData,9,0)","v":{"$error":"#N/A"}}]
["Aadhar No. ::-",{"$f":"VLOOKUP(B1865,StuData,10,0)","v":{"$error":"#N/A"}}]
["Mobile No. ::-",{"$f":"VLOOKUP(B1865,StuData,11,0)","v":{"$error":"#N/A"}}]
["Address ::-",{"$f":"VLOOKUP(B1865,StuData,12,0)","v":{"$error":"#N/A"}}]
["Weight Starting",null,"Kg.","Ending",null,"Kg."]
["Height Starting",null,"Cm.","Ending",null,"Cm."]
["Subject/Grade",null,"Hindi","English","Math","EVS"]
["Summative Assessment-I"]
["Summative Assessment-II"]
["Summative Assessment-III"]
[]
[]
[]
[]
[]
["Student","Parents",null,null,"Class Teacher",null,"School Head"]
[]
[{"$f":"Portfolio!$I$4","v":"GOVT.SENIOR SECONDARY SCHOOL ------------,MASUDA(BEAWAR)"}]
[]
[]
[]
["Sr.No.",64,{"$f":"Portfolio!$K$5","v":"Session :: 2024-25"}]
["U Dise Code ::-",{"$f":"Portfolio!$M$11","v":"0 ---------------"},null,null,null,"Paste Here Latest Passport Size Photo of Student"]
["Name of Student ::-",{"$f":"VLOOKUP(B1895,StuData,5,0)","v":{"$error":"#N/A"}}]
["Father's Name ::-",{"$f":"VLOOKUP(B1895,StuData,6,0)","v":{"$error":"#N/A"}}]
["Mother's Name ::-",{"$f":"VLOOKUP(B1895,StuData,7,0)","v":{"$error":"#N/A"}}]
["Class ::-",{"$f":"VLOOKUP(B1895,StuData,2,0)","v":{"$error":"#N/A"}}]
["Scholar No. ::-",{"$f":"VLOOKUP(B1895,StuData,3,0)","v":{"$error":"#N/A"}}]
["Class Roll No. ::-",{"$f":"VLOOKUP(B1895,StuData,4,0)","v":{"$error":"#N/A"}}]
["Date of Birth ::-",{"$f":"VLOOKUP(B1895,StuData,8,0)","v":{"$error":"#N/A"}}]
["Date of Admission ::-",{"$f":"VLOOKUP(B1895,StuData,9,0)","v":{"$error":"#N/A"}}]
["Aadhar No. ::-",{"$f":"VLOOKUP(B1895,StuData,10,0)","v":{"$error":"#N/A"}}]
["Mobile No. ::-",{"$f":"VLOOKUP(B1895,StuData,11,0)","v":{"$error":"#N/A"}}]
["Address ::-",{"$f":"VLOOKUP(B1895,StuData,12,0)","v":{"$error":"#N/A"}}]
["Weight Starting",null,"Kg.","Ending",null,"Kg."]
["Height Starting",null,"Cm.","Ending",null,"Cm."]
["Subject/Grade",null,"Hindi","English","Math","EVS"]
["Summative Assessment-I"]
["Summative Assessment-II"]
["Summative Assessment-III"]
[]
[]
[]
[]
[]
["Student","Parents",null,null,"Class Teacher",null,"School Head"]
[]
[{"$f":"Portfolio!$I$4","v":"GOVT.SENIOR SECONDARY SCHOOL ------------,MASUDA(BEAWAR)"}]
[]
[]
[]
["Sr.No.",65,{"$f":"Portfolio!$K$5","v":"Session :: 2024-25"}]
["U Dise Code ::-",{"$f":"Portfolio!$M$11","v":"0 ---------------"},null,null,null,"Paste Here Latest Passport Size Photo of Student"]
["Name of Student ::-",{"$f":"VLOOKUP(B1925,StuData,5,0)","v":{"$error":"#N/A"}}]
["Father's Name ::-",{"$f":"VLOOKUP(B1925,StuData,6,0)","v":{"$error":"#N/A"}}]
["Mother's Name ::-",{"$f":"VLOOKUP(B1925,StuData,7,0)","v":{"$error":"#N/A"}}]
["Class ::-",{"$f":"VLOOKUP(B1925,StuData,2,0)","v":{"$error":"#N/A"}}]
["Scholar No. ::-",{"$f":"VLOOKUP(B1925,StuData,3,0)","v":{"$error":"#N/A"}}]
["Class Roll No. ::-",{"$f":"VLOOKUP(B1925,StuData,4,0)","v":{"$error":"#N/A"}}]
["Date of Birth ::-",{"$f":"VLOOKUP(B1925,StuData,8,0)","v":{"$error":"#N/A"}}]
["Date of Admission ::-",{"$f":"VLOOKUP(B1925,StuData,9,0)","v":{"$error":"#N/A"}}]
["Aadhar No. ::-",{"$f":"VLOOKUP(B1925,StuData,10,0)","v":{"$error":"#N/A"}}]
["Mobile No. ::-",{"$f":"VLOOKUP(B1925,StuData,11,0)","v":{"$error":"#N/A"}}]
["Address ::-",{"$f":"VLOOKUP(B1925,StuData,12,0)","v":{"$error":"#N/A"}}]
["Weight Starting",null,"Kg.","Ending",null,"Kg."]
["Height Starting",null,"Cm.","Ending",null,"Cm."]
["Subject/Grade",null,"Hindi","English","Math","EVS"]
["Summative Assessment-I"]
["Summative Assessment-II"]
["Summative Assessment-III"]
[]
[]
[]
[]
[]
["Student","Parents",null,null,"Class Teacher",null,"School Head"]
[]
[{"$f":"Portfolio!$I$4","v":"GOVT.SENIOR SECONDARY SCHOOL ------------,MASUDA(BEAWAR)"}]
[]
[]
[]
["Sr.No.",66,{"$f":"Portfolio!$K$5","v":"Session :: 2024-25"}]
["U Dise Code ::-",{"$f":"Portfolio!$M$11","v":"0 ---------------"},null,null,null,"Paste Here Latest Passport Size Photo of Student"]
["Name of Student ::-",{"$f":"VLOOKUP(B1955,StuData,5,0)","v":{"$error":"#N/A"}}]
["Father's Name ::-",{"$f":"VLOOKUP(B1955,StuData,6,0)","v":{"$error":"#N/A"}}]
["Mother's Name ::-",{"$f":"VLOOKUP(B1955,StuData,7,0)","v":{"$error":"#N/A"}}]
["Class ::-",{"$f":"VLOOKUP(B1955,StuData,2,0)","v":{"$error":"#N/A"}}]
["Scholar No. ::-",{"$f":"VLOOKUP(B1955,StuData,3,0)","v":{"$error":"#N/A"}}]
["Class Roll No. ::-",{"$f":"VLOOKUP(B1955,StuData,4,0)","v":{"$error":"#N/A"}}]
["Date of Birth ::-",{"$f":"VLOOKUP(B1955,StuData,8,0)","v":{"$error":"#N/A"}}]
["Date of Admission ::-",{"$f":"VLOOKUP(B1955,StuData,9,0)","v":{"$error":"#N/A"}}]
["Aadhar No. ::-",{"$f":"VLOOKUP(B1955,StuData,10,0)","v":{"$error":"#N/A"}}]
["Mobile No. ::-",{"$f":"VLOOKUP(B1955,StuData,11,0)","v":{"$error":"#N/A"}}]
["Address ::-",{"$f":"VLOOKUP(B1955,StuData,12,0)","v":{"$error":"#N/A"}}]
["Weight Starting",null,"Kg.","Ending",null,"Kg."]
["Height Starting",null,"Cm.","Ending",null,"Cm."]
["Subject/Grade",null,"Hindi","English","Math","EVS"]
["Summative Assessment-I"]
["Summative Assessment-II"]
["Summative Assessment-III"]
[]
[]
[]
[]
[]
["Student","Parents",null,null,"Class Teacher",null,"School Head"]
[]
[{"$f":"Portfolio!$I$4","v":"GOVT.SENIOR SECONDARY SCHOOL ------------,MASUDA(BEAWAR)"}]
[]
[]
[]
["Sr.No.",67,{"$f":"Portfolio!$K$5","v":"Session :: 2024-25"}]
["U Dise Code ::-",{"$f":"Portfolio!$M$11","v":"0 ---------------"},null,null,null,"Paste Here Latest Passport Size Photo of Student"]
["Name of Student ::-",{"$f":"VLOOKUP(B1985,StuData,5,0)","v":{"$error":"#N/A"}}]
["Father's Name ::-",{"$f":"VLOOKUP(B1985,StuData,6,0)","v":{"$error":"#N/A"}}]
["Mother's Name ::-",{"$f":"VLOOKUP(B1985,StuData,7,0)","v":{"$error":"#N/A"}}]
["Class ::-",{"$f":"VLOOKUP(B1985,StuData,2,0)","v":{"$error":"#N/A"}}]
["Scholar No. ::-",{"$f":"VLOOKUP(B1985,StuData,3,0)","v":{"$error":"#N/A"}}]
["Class Roll No. ::-",{"$f":"VLOOKUP(B1985,StuData,4,0)","v":{"$error":"#N/A"}}]
["Date of Birth ::-",{"$f":"VLOOKUP(B1985,StuData,8,0)","v":{"$error":"#N/A"}}]
["Date of Admission ::-",{"$f":"VLOOKUP(B1985,StuData,9,0)","v":{"$error":"#N/A"}}]
["Aadhar No. ::-",{"$f":"VLOOKUP(B1985,StuData,10,0)","v":{"$error":"#N/A"}}]
["Mobile No. ::-",{"$f":"VLOOKUP(B1985,StuData,11,0)","v":{"$error":"#N/A"}}]
["Address ::-",{"$f":"VLOOKUP(B1985,StuData,12,0)","v":{"$error":"#N/A"}}]
["Weight Starting",null,"Kg.","Ending",null,"Kg."]
["Height Starting",null,"Cm.","Ending",null,"Cm."]
["Subject/Grade",null,"Hindi","English","Math","EVS"]
["Summative Assessment-I"]
["Summative Assessment-II"]
["Summative Assessment-III"]
[]
[]
[]
[]
[]
["Student","Parents",null,null,"Class Teacher",null,"School Head"]
[]
[{"$f":"Portfolio!$I$4","v":"GOVT.SENIOR SECONDARY SCHOOL ------------,MASUDA(BEAWAR)"}]
[]
[]
[]
["Sr.No.",68,{"$f":"Portfolio!$K$5","v":"Session :: 2024-25"}]
["U Dise Code ::-",{"$f":"Portfolio!$M$11","v":"0 ---------------"},null,null,null,"Paste Here Latest Passport Size Photo of Student"]
["Name of Student ::-",{"$f":"VLOOKUP(B2015,StuData,5,0)","v":{"$error":"#N/A"}}]
["Father's Name ::-",{"$f":"VLOOKUP(B2015,StuData,6,0)","v":{"$error":"#N/A"}}]
["Mother's Name ::-",{"$f":"VLOOKUP(B2015,StuData,7,0)","v":{"$error":"#N/A"}}]
["Class ::-",{"$f":"VLOOKUP(B2015,StuData,2,0)","v":{"$error":"#N/A"}}]
["Scholar No. ::-",{"$f":"VLOOKUP(B2015,StuData,3,0)","v":{"$error":"#N/A"}}]
["Class Roll No. ::-",{"$f":"VLOOKUP(B2015,StuData,4,0)","v":{"$error":"#N/A"}}]
["Date of Birth ::-",{"$f":"VLOOKUP(B2015,StuData,8,0)","v":{"$error":"#N/A"}}]
["Date of Admission ::-",{"$f":"VLOOKUP(B2015,StuData,9,0)","v":{"$error":"#N/A"}}]
["Aadhar No. ::-",{"$f":"VLOOKUP(B2015,StuData,10,0)","v":{"$error":"#N/A"}}]
["Mobile No. ::-",{"$f":"VLOOKUP(B2015,StuData,11,0)","v":{"$error":"#N/A"}}]
["Address ::-",{"$f":"VLOOKUP(B2015,StuData,12,0)","v":{"$error":"#N/A"}}]
["Weight Starting",null,"Kg.","Ending",null,"Kg."]
["Height Starting",null,"Cm.","Ending",null,"Cm."]
["Subject/Grade",null,"Hindi","English","Math","EVS"]
["Summative Assessment-I"]
["Summative Assessment-II"]
["Summative Assessment-III"]
[]
[]
[]
[]
[]
["Student","Parents",null,null,"Class Teacher",null,"School Head"]
[]
[{"$f":"Portfolio!$I$4","v":"GOVT.SENIOR SECONDARY SCHOOL ------------,MASUDA(BEAWAR)"}]
[]
[]
[]
["Sr.No.",69,{"$f":"Portfolio!$K$5","v":"Session :: 2024-25"}]
["U Dise Code ::-",{"$f":"Portfolio!$M$11","v":"0 ---------------"},null,null,null,"Paste Here Latest Passport Size Photo of Student"]
["Name of Student ::-",{"$f":"VLOOKUP(B2045,StuData,5,0)","v":{"$error":"#N/A"}}]
["Father's Name ::-",{"$f":"VLOOKUP(B2045,StuData,6,0)","v":{"$error":"#N/A"}}]
["Mother's Name ::-",{"$f":"VLOOKUP(B2045,StuData,7,0)","v":{"$error":"#N/A"}}]
["Class ::-",{"$f":"VLOOKUP(B2045,StuData,2,0)","v":{"$error":"#N/A"}}]
["Scholar No. ::-",{"$f":"VLOOKUP(B2045,StuData,3,0)","v":{"$error":"#N/A"}}]
["Class Roll No. ::-",{"$f":"VLOOKUP(B2045,StuData,4,0)","v":{"$error":"#N/A"}}]
["Date of Birth ::-",{"$f":"VLOOKUP(B2045,StuData,8,0)","v":{"$error":"#N/A"}}]
["Date of Admission ::-",{"$f":"VLOOKUP(B2045,StuData,9,0)","v":{"$error":"#N/A"}}]
["Aadhar No. ::-",{"$f":"VLOOKUP(B2045,StuData,10,0)","v":{"$error":"#N/A"}}]
["Mobile No. ::-",{"$f":"VLOOKUP(B2045,StuData,11,0)","v":{"$error":"#N/A"}}]
["Address ::-",{"$f":"VLOOKUP(B2045,StuData,12,0)","v":{"$error":"#N/A"}}]
["Weight Starting",null,"Kg.","Ending",null,"Kg."]
["Height Starting",null,"Cm.","Ending",null,"Cm."]
["Subject/Grade",null,"Hindi","English","Math","EVS"]
["Summative Assessment-I"]
["Summative Assessment-II"]
["Summative Assessment-III"]
[]
[]
[]
[]
[]
["Student","Parents",null,null,"Class Teacher",null,"School Head"]
[]
[{"$f":"Portfolio!$I$4","v":"GOVT.SENIOR SECONDARY SCHOOL ------------,MASUDA(BEAWAR)"}]
[]
[]
[]
["Sr.No.",70,{"$f":"Portfolio!$K$5","v":"Session :: 2024-25"}]
["U Dise Code ::-",{"$f":"Portfolio!$M$11","v":"0 ---------------"},null,null,null,"Paste Here Latest Passport Size Photo of Student"]
["Name of Student ::-",{"$f":"VLOOKUP(B2075,StuData,5,0)","v":{"$error":"#N/A"}}]
["Father's Name ::-",{"$f":"VLOOKUP(B2075,StuData,6,0)","v":{"$error":"#N/A"}}]
["Mother's Name ::-",{"$f":"VLOOKUP(B2075,StuData,7,0)","v":{"$error":"#N/A"}}]
["Class ::-",{"$f":"VLOOKUP(B2075,StuData,2,0)","v":{"$error":"#N/A"}}]
["Scholar No. ::-",{"$f":"VLOOKUP(B2075,StuData,3,0)","v":{"$error":"#N/A"}}]
["Class Roll No. ::-",{"$f":"VLOOKUP(B2075,StuData,4,0)","v":{"$error":"#N/A"}}]
["Date of Birth ::-",{"$f":"VLOOKUP(B2075,StuData,8,0)","v":{"$error":"#N/A"}}]
["Date of Admission ::-",{"$f":"VLOOKUP(B2075,StuData,9,0)","v":{"$error":"#N/A"}}]
["Aadhar No. ::-",{"$f":"VLOOKUP(B2075,StuData,10,0)","v":{"$error":"#N/A"}}]
["Mobile No. ::-",{"$f":"VLOOKUP(B2075,StuData,11,0)","v":{"$error":"#N/A"}}]
["Address ::-",{"$f":"VLOOKUP(B2075,StuData,12,0)","v":{"$error":"#N/A"}}]
["Weight Starting",null,"Kg.","Ending",null,"Kg."]
["Height Starting",null,"Cm.","Ending",null,"Cm."]
["Subject/Grade",null,"Hindi","English","Math","EVS"]
["Summative Assessment-I"]
["Summative Assessment-II"]
["Summative Assessment-III"]
[]
[]
[]
[]
[]
["Student","Parents",null,null,"Class Teacher",null,"School Head"]
[]
[{"$f":"Portfolio!$I$4","v":"GOVT.SENIOR SECONDARY SCHOOL ------------,MASUDA(BEAWAR)"}]
[]
[]
[]
["Sr.No.",71,{"$f":"Portfolio!$K$5","v":"Session :: 2024-25"}]
["U Dise Code ::-",{"$f":"Portfolio!$M$11","v":"0 ---------------"},null,null,null,"Paste Here Latest Passport Size Photo of Student"]
["Name of Student ::-",{"$f":"VLOOKUP(B2105,StuData,5,0)","v":{"$error":"#N/A"}}]
["Father's Name ::-",{"$f":"VLOOKUP(B2105,StuData,6,0)","v":{"$error":"#N/A"}}]
["Mother's Name ::-",{"$f":"VLOOKUP(B2105,StuData,7,0)","v":{"$error":"#N/A"}}]
["Class ::-",{"$f":"VLOOKUP(B2105,StuData,2,0)","v":{"$error":"#N/A"}}]
["Scholar No. ::-",{"$f":"VLOOKUP(B2105,StuData,3,0)","v":{"$error":"#N/A"}}]
["Class Roll No. ::-",{"$f":"VLOOKUP(B2105,StuData,4,0)","v":{"$error":"#N/A"}}]
["Date of Birth ::-",{"$f":"VLOOKUP(B2105,StuData,8,0)","v":{"$error":"#N/A"}}]
["Date of Admission ::-",{"$f":"VLOOKUP(B2105,StuData,9,0)","v":{"$error":"#N/A"}}]
["Aadhar No. ::-",{"$f":"VLOOKUP(B2105,StuData,10,0)","v":{"$error":"#N/A"}}]
["Mobile No. ::-",{"$f":"VLOOKUP(B2105,StuData,11,0)","v":{"$error":"#N/A"}}]
["Address ::-",{"$f":"VLOOKUP(B2105,StuData,12,0)","v":{"$error":"#N/A"}}]
["Weight Starting",null,"Kg.","Ending",null,"Kg."]
["Height Starting",null,"Cm.","Ending",null,"Cm."]
["Subject/Grade",null,"Hindi","English","Math","EVS"]
["Summative Assessment-I"]
["Summative Assessment-II"]
["Summative Assessment-III"]
[]
[]
[]
[]
[]
["Student","Parents",null,null,"Class Teacher",null,"School Head"]
[]
[{"$f":"Portfolio!$I$4","v":"GOVT.SENIOR SECONDARY SCHOOL ------------,MASUDA(BEAWAR)"}]
[]
[]
[]
["Sr.No.",72,{"$f":"Portfolio!$K$5","v":"Session :: 2024-25"}]
["U Dise Code ::-",{"$f":"Portfolio!$M$11","v":"0 ---------------"},null,null,null,"Paste Here Latest Passport Size Photo of Student"]
["Name of Student ::-",{"$f":"VLOOKUP(B2135,StuData,5,0)","v":{"$error":"#N/A"}}]
["Father's Name ::-",{"$f":"VLOOKUP(B2135,StuData,6,0)","v":{"$error":"#N/A"}}]
["Mother's Name ::-",{"$f":"VLOOKUP(B2135,StuData,7,0)","v":{"$error":"#N/A"}}]
["Class ::-",{"$f":"VLOOKUP(B2135,StuData,2,0)","v":{"$error":"#N/A"}}]
["Scholar No. ::-",{"$f":"VLOOKUP(B2135,StuData,3,0)","v":{"$error":"#N/A"}}]
["Class Roll No. ::-",{"$f":"VLOOKUP(B2135,StuData,4,0)","v":{"$error":"#N/A"}}]
["Date of Birth ::-",{"$f":"VLOOKUP(B2135,StuData,8,0)","v":{"$error":"#N/A"}}]
["Date of Admission ::-",{"$f":"VLOOKUP(B2135,StuData,9,0)","v":{"$error":"#N/A"}}]
["Aadhar No. ::-",{"$f":"VLOOKUP(B2135,StuData,10,0)","v":{"$error":"#N/A"}}]
["Mobile No. ::-",{"$f":"VLOOKUP(B2135,StuData,11,0)","v":{"$error":"#N/A"}}]
["Address ::-",{"$f":"VLOOKUP(B2135,StuData,12,0)","v":{"$error":"#N/A"}}]
["Weight Starting",null,"Kg.","Ending",null,"Kg."]
["Height Starting",null,"Cm.","Ending",null,"Cm."]
["Subject/Grade",null,"Hindi","English","Math","EVS"]
["Summative Assessment-I"]
["Summative Assessment-II"]
["Summative Assessment-III"]
[]
[]
[]
[]
[]
["Student","Parents",null,null,"Class Teacher",null,"School Head"]
[]
[{"$f":"Portfolio!$I$4","v":"GOVT.SENIOR SECONDARY SCHOOL ------------,MASUDA(BEAWAR)"}]
[]
[]
[]
["Sr.No.",73,{"$f":"Portfolio!$K$5","v":"Session :: 2024-25"}]
["U Dise Code ::-",{"$f":"Portfolio!$M$11","v":"0 ---------------"},null,null,null,"Paste Here Latest Passport Size Photo of Student"]
["Name of Student ::-",{"$f":"VLOOKUP(B2165,StuData,5,0)","v":{"$error":"#N/A"}}]
["Father's Name ::-",{"$f":"VLOOKUP(B2165,StuData,6,0)","v":{"$error":"#N/A"}}]
["Mother's Name ::-",{"$f":"VLOOKUP(B2165,StuData,7,0)","v":{"$error":"#N/A"}}]
["Class ::-",{"$f":"VLOOKUP(B2165,StuData,2,0)","v":{"$error":"#N/A"}}]
["Scholar No. ::-",{"$f":"VLOOKUP(B2165,StuData,3,0)","v":{"$error":"#N/A"}}]
["Class Roll No. ::-",{"$f":"VLOOKUP(B2165,StuData,4,0)","v":{"$error":"#N/A"}}]
["Date of Birth ::-",{"$f":"VLOOKUP(B2165,StuData,8,0)","v":{"$error":"#N/A"}}]
["Date of Admission ::-",{"$f":"VLOOKUP(B2165,StuData,9,0)","v":{"$error":"#N/A"}}]
["Aadhar No. ::-",{"$f":"VLOOKUP(B2165,StuData,10,0)","v":{"$error":"#N/A"}}]
["Mobile No. ::-",{"$f":"VLOOKUP(B2165,StuData,11,0)","v":{"$error":"#N/A"}}]
["Address ::-",{"$f":"VLOOKUP(B2165,StuData,12,0)","v":{"$error":"#N/A"}}]
["Weight Starting",null,"Kg.","Ending",null,"Kg."]
["Height Starting",null,"Cm.","Ending",null,"Cm."]
["Subject/Grade",null,"Hindi","English","Math","EVS"]
["Summative Assessment-I"]
["Summative Assessment-II"]
["Summative Assessment-III"]
[]
[]
[]
[]
[]
["Student","Parents",null,null,"Class Teacher",null,"School Head"]
[]
[{"$f":"Portfolio!$I$4","v":"GOVT.SENIOR SECONDARY SCHOOL ------------,MASUDA(BEAWAR)"}]
[]
[]
[]
["Sr.No.",74,{"$f":"Portfolio!$K$5","v":"Session :: 2024-25"}]
["U Dise Code ::-",{"$f":"Portfolio!$M$11","v":"0 ---------------"},null,null,null,"Paste Here Latest Passport Size Photo of Student"]
["Name of Student ::-",{"$f":"VLOOKUP(B2195,StuData,5,0)","v":{"$error":"#N/A"}}]
["Father's Name ::-",{"$f":"VLOOKUP(B2195,StuData,6,0)","v":{"$error":"#N/A"}}]
["Mother's Name ::-",{"$f":"VLOOKUP(B2195,StuData,7,0)","v":{"$error":"#N/A"}}]
["Class ::-",{"$f":"VLOOKUP(B2195,StuData,2,0)","v":{"$error":"#N/A"}}]
["Scholar No. ::-",{"$f":"VLOOKUP(B2195,StuData,3,0)","v":{"$error":"#N/A"}}]
["Class Roll No. ::-",{"$f":"VLOOKUP(B2195,StuData,4,0)","v":{"$error":"#N/A"}}]
["Date of Birth ::-",{"$f":"VLOOKUP(B2195,StuData,8,0)","v":{"$error":"#N/A"}}]
["Date of Admission ::-",{"$f":"VLOOKUP(B2195,StuData,9,0)","v":{"$error":"#N/A"}}]
["Aadhar No. ::-",{"$f":"VLOOKUP(B2195,StuData,10,0)","v":{"$error":"#N/A"}}]
["Mobile No. ::-",{"$f":"VLOOKUP(B2195,StuData,11,0)","v":{"$error":"#N/A"}}]
["Address ::-",{"$f":"VLOOKUP(B2195,StuData,12,0)","v":{"$error":"#N/A"}}]
["Weight Starting",null,"Kg.","Ending",null,"Kg."]
["Height Starting",null,"Cm.","Ending",null,"Cm."]
["Subject/Grade",null,"Hindi","English","Math","EVS"]
["Summative Assessment-I"]
["Summative Assessment-II"]
["Summative Assessment-III"]
[]
[]
[]
[]
[]
["Student","Parents",null,null,"Class Teacher",null,"School Head"]
[]
[{"$f":"Portfolio!$I$4","v":"GOVT.SENIOR SECONDARY SCHOOL ------------,MASUDA(BEAWAR)"}]
[]
[]
[]
["Sr.No.",75,{"$f":"Portfolio!$K$5","v":"Session :: 2024-25"}]
["U Dise Code ::-",{"$f":"Portfolio!$M$11","v":"0 ---------------"},null,null,null,"Paste Here Latest Passport Size Photo of Student"]
["Name of Student ::-",{"$f":"VLOOKUP(B2225,StuData,5,0)","v":{"$error":"#N/A"}}]
["Father's Name ::-",{"$f":"VLOOKUP(B2225,StuData,6,0)","v":{"$error":"#N/A"}}]
["Mother's Name ::-",{"$f":"VLOOKUP(B2225,StuData,7,0)","v":{"$error":"#N/A"}}]
["Class ::-",{"$f":"VLOOKUP(B2225,StuData,2,0)","v":{"$error":"#N/A"}}]
["Scholar No. ::-",{"$f":"VLOOKUP(B2225,StuData,3,0)","v":{"$error":"#N/A"}}]
["Class Roll No. ::-",{"$f":"VLOOKUP(B2225,StuData,4,0)","v":{"$error":"#N/A"}}]
["Date of Birth ::-",{"$f":"VLOOKUP(B2225,StuData,8,0)","v":{"$error":"#N/A"}}]
["Date of Admission ::-",{"$f":"VLOOKUP(B2225,StuData,9,0)","v":{"$error":"#N/A"}}]
["Aadhar No. ::-",{"$f":"VLOOKUP(B2225,StuData,10,0)","v":{"$error":"#N/A"}}]
["Mobile No. ::-",{"$f":"VLOOKUP(B2225,StuData,11,0)","v":{"$error":"#N/A"}}]
["Address ::-",{"$f":"VLOOKUP(B2225,StuData,12,0)","v":{"$error":"#N/A"}}]
["Weight Starting",null,"Kg.","Ending",null,"Kg."]
["Height Starting",null,"Cm.","Ending",null,"Cm."]
["Subject/Grade",null,"Hindi","English","Math","EVS"]
["Summative Assessment-I"]
["Summative Assessment-II"]
["Summative Assessment-III"]
[]
[]
[]
[]
[]
["Student","Parents",null,null,"Class Teacher",null,"School Head"]
[]
[{"$f":"Portfolio!$I$4","v":"GOVT.SENIOR SECONDARY SCHOOL ------------,MASUDA(BEAWAR)"}]
[]
[]
[]
["Sr.No.",76,{"$f":"Portfolio!$K$5","v":"Session :: 2024-25"}]
["U Dise Code ::-",{"$f":"Portfolio!$M$11","v":"0 ---------------"},null,null,null,"Paste Here Latest Passport Size Photo of Student"]
["Name of Student ::-",{"$f":"VLOOKUP(B2255,StuData,5,0)","v":{"$error":"#N/A"}}]
["Father's Name ::-",{"$f":"VLOOKUP(B2255,StuData,6,0)","v":{"$error":"#N/A"}}]
["Mother's Name ::-",{"$f":"VLOOKUP(B2255,StuData,7,0)","v":{"$error":"#N/A"}}]
["Class ::-",{"$f":"VLOOKUP(B2255,StuData,2,0)","v":{"$error":"#N/A"}}]
["Scholar No. ::-",{"$f":"VLOOKUP(B2255,StuData,3,0)","v":{"$error":"#N/A"}}]
["Class Roll No. ::-",{"$f":"VLOOKUP(B2255,StuData,4,0)","v":{"$error":"#N/A"}}]
["Date of Birth ::-",{"$f":"VLOOKUP(B2255,StuData,8,0)","v":{"$error":"#N/A"}}]
["Date of Admission ::-",{"$f":"VLOOKUP(B2255,StuData,9,0)","v":{"$error":"#N/A"}}]
["Aadhar No. ::-",{"$f":"VLOOKUP(B2255,StuData,10,0)","v":{"$error":"#N/A"}}]
["Mobile No. ::-",{"$f":"VLOOKUP(B2255,StuData,11,0)","v":{"$error":"#N/A"}}]
["Address ::-",{"$f":"VLOOKUP(B2255,StuData,12,0)","v":{"$error":"#N/A"}}]
["Weight Starting",null,"Kg.","Ending",null,"Kg."]
["Height Starting",null,"Cm.","Ending",null,"Cm."]
["Subject/Grade",null,"Hindi","English","Math","EVS"]
["Summative Assessment-I"]
["Summative Assessment-II"]
["Summative Assessment-III"]
[]
[]
[]
[]
[]
["Student","Parents",null,null,"Class Teacher",null,"School Head"]
[]
[{"$f":"Portfolio!$I$4","v":"GOVT.SENIOR SECONDARY SCHOOL ------------,MASUDA(BEAWAR)"}]
[]
[]
[]
["Sr.No.",77,{"$f":"Portfolio!$K$5","v":"Session :: 2024-25"}]
["U Dise Code ::-",{"$f":"Portfolio!$M$11","v":"0 ---------------"},null,null,null,"Paste Here Latest Passport Size Photo of Student"]
["Name of Student ::-",{"$f":"VLOOKUP(B2285,StuData,5,0)","v":{"$error":"#N/A"}}]
["Father's Name ::-",{"$f":"VLOOKUP(B2285,StuData,6,0)","v":{"$error":"#N/A"}}]
["Mother's Name ::-",{"$f":"VLOOKUP(B2285,StuData,7,0)","v":{"$error":"#N/A"}}]
["Class ::-",{"$f":"VLOOKUP(B2285,StuData,2,0)","v":{"$error":"#N/A"}}]
["Scholar No. ::-",{"$f":"VLOOKUP(B2285,StuData,3,0)","v":{"$error":"#N/A"}}]
["Class Roll No. ::-",{"$f":"VLOOKUP(B2285,StuData,4,0)","v":{"$error":"#N/A"}}]
["Date of Birth ::-",{"$f":"VLOOKUP(B2285,StuData,8,0)","v":{"$error":"#N/A"}}]
["Date of Admission ::-",{"$f":"VLOOKUP(B2285,StuData,9,0)","v":{"$error":"#N/A"}}]
["Aadhar No. ::-",{"$f":"VLOOKUP(B2285,StuData,10,0)","v":{"$error":"#N/A"}}]
["Mobile No. ::-",{"$f":"VLOOKUP(B2285,StuData,11,0)","v":{"$error":"#N/A"}}]
["Address ::-",{"$f":"VLOOKUP(B2285,StuData,12,0)","v":{"$error":"#N/A"}}]
["Weight Starting",null,"Kg.","Ending",null,"Kg."]
["Height Starting",null,"Cm.","Ending",null,"Cm."]
["Subject/Grade",null,"Hindi","English","Math","EVS"]
["Summative Assessment-I"]
["Summative Assessment-II"]
["Summative Assessment-III"]
[]
[]
[]
[]
[]
["Student","Parents",null,null,"Class Teacher",null,"School Head"]
[]
[{"$f":"Portfolio!$I$4","v":"GOVT.SENIOR SECONDARY SCHOOL ------------,MASUDA(BEAWAR)"}]
[]
[]
[]
["Sr.No.",78,{"$f":"Portfolio!$K$5","v":"Session :: 2024-25"}]
["U Dise Code ::-",{"$f":"Portfolio!$M$11","v":"0 ---------------"},null,null,null,"Paste Here Latest Passport Size Photo of Student"]
["Name of Student ::-",{"$f":"VLOOKUP(B2315,StuData,5,0)","v":{"$error":"#N/A"}}]
["Father's Name ::-",{"$f":"VLOOKUP(B2315,StuData,6,0)","v":{"$error":"#N/A"}}]
["Mother's Name ::-",{"$f":"VLOOKUP(B2315,StuData,7,0)","v":{"$error":"#N/A"}}]
["Class ::-",{"$f":"VLOOKUP(B2315,StuData,2,0)","v":{"$error":"#N/A"}}]
["Scholar No. ::-",{"$f":"VLOOKUP(B2315,StuData,3,0)","v":{"$error":"#N/A"}}]
["Class Roll No. ::-",{"$f":"VLOOKUP(B2315,StuData,4,0)","v":{"$error":"#N/A"}}]
["Date of Birth ::-",{"$f":"VLOOKUP(B2315,StuData,8,0)","v":{"$error":"#N/A"}}]
["Date of Admission ::-",{"$f":"VLOOKUP(B2315,StuData,9,0)","v":{"$error":"#N/A"}}]
["Aadhar No. ::-",{"$f":"VLOOKUP(B2315,StuData,10,0)","v":{"$error":"#N/A"}}]
["Mobile No. ::-",{"$f":"VLOOKUP(B2315,StuData,11,0)","v":{"$error":"#N/A"}}]
["Address ::-",{"$f":"VLOOKUP(B2315,StuData,12,0)","v":{"$error":"#N/A"}}]
["Weight Starting",null,"Kg.","Ending",null,"Kg."]
["Height Starting",null,"Cm.","Ending",null,"Cm."]
["Subject/Grade",null,"Hindi","English","Math","EVS"]
["Summative Assessment-I"]
["Summative Assessment-II"]
["Summative Assessment-III"]
[]
[]
[]
[]
[]
["Student","Parents",null,null,"Class Teacher",null,"School Head"]
[]
[{"$f":"Portfolio!$I$4","v":"GOVT.SENIOR SECONDARY SCHOOL ------------,MASUDA(BEAWAR)"}]
[]
[]
[]
["Sr.No.",79,{"$f":"Portfolio!$K$5","v":"Session :: 2024-25"}]
["U Dise Code ::-",{"$f":"Portfolio!$M$11","v":"0 ---------------"},null,null,null,"Paste Here Latest Passport Size Photo of Student"]
["Name of Student ::-",{"$f":"VLOOKUP(B2345,StuData,5,0)","v":{"$error":"#N/A"}}]
["Father's Name ::-",{"$f":"VLOOKUP(B2345,StuData,6,0)","v":{"$error":"#N/A"}}]
["Mother's Name ::-",{"$f":"VLOOKUP(B2345,StuData,7,0)","v":{"$error":"#N/A"}}]
["Class ::-",{"$f":"VLOOKUP(B2345,StuData,2,0)","v":{"$error":"#N/A"}}]
["Scholar No. ::-",{"$f":"VLOOKUP(B2345,StuData,3,0)","v":{"$error":"#N/A"}}]
["Class Roll No. ::-",{"$f":"VLOOKUP(B2345,StuData,4,0)","v":{"$error":"#N/A"}}]
["Date of Birth ::-",{"$f":"VLOOKUP(B2345,StuData,8,0)","v":{"$error":"#N/A"}}]
["Date of Admission ::-",{"$f":"VLOOKUP(B2345,StuData,9,0)","v":{"$error":"#N/A"}}]
["Aadhar No. ::-",{"$f":"VLOOKUP(B2345,StuData,10,0)","v":{"$error":"#N/A"}}]
["Mobile No. ::-",{"$f":"VLOOKUP(B2345,StuData,11,0)","v":{"$error":"#N/A"}}]
["Address ::-",{"$f":"VLOOKUP(B2345,StuData,12,0)","v":{"$error":"#N/A"}}]
["Weight Starting",null,"Kg.","Ending",null,"Kg."]
["Height Starting",null,"Cm.","Ending",null,"Cm."]
["Subject/Grade",null,"Hindi","English","Math","EVS"]
["Summative Assessment-I"]
["Summative Assessment-II"]
["Summative Assessment-III"]
[]
[]
[]
[]
[]
["Student","Parents",null,null,"Class Teacher",null,"School Head"]
[]
[{"$f":"Portfolio!$I$4","v":"GOVT.SENIOR SECONDARY SCHOOL ------------,MASUDA(BEAWAR)"}]
[]
[]
[]
["Sr.No.",80,{"$f":"Portfolio!$K$5","v":"Session :: 2024-25"}]
["U Dise Code ::-",{"$f":"Portfolio!$M$11","v":"0 ---------------"},null,null,null,"Paste Here Latest Passport Size Photo of Student"]
["Name of Student ::-",{"$f":"VLOOKUP(B2375,StuData,5,0)","v":{"$error":"#N/A"}}]
["Father's Name ::-",{"$f":"VLOOKUP(B2375,StuData,6,0)","v":{"$error":"#N/A"}}]
["Mother's Name ::-",{"$f":"VLOOKUP(B2375,StuData,7,0)","v":{"$error":"#N/A"}}]
["Class ::-",{"$f":"VLOOKUP(B2375,StuData,2,0)","v":{"$error":"#N/A"}}]
["Scholar No. ::-",{"$f":"VLOOKUP(B2375,StuData,3,0)","v":{"$error":"#N/A"}}]
["Class Roll No. ::-",{"$f":"VLOOKUP(B2375,StuData,4,0)","v":{"$error":"#N/A"}}]
["Date of Birth ::-",{"$f":"VLOOKUP(B2375,StuData,8,0)","v":{"$error":"#N/A"}}]
["Date of Admission ::-",{"$f":"VLOOKUP(B2375,StuData,9,0)","v":{"$error":"#N/A"}}]
["Aadhar No. ::-",{"$f":"VLOOKUP(B2375,StuData,10,0)","v":{"$error":"#N/A"}}]
["Mobile No. ::-",{"$f":"VLOOKUP(B2375,StuData,11,0)","v":{"$error":"#N/A"}}]
["Address ::-",{"$f":"VLOOKUP(B2375,StuData,12,0)","v":{"$error":"#N/A"}}]
["Weight Starting",null,"Kg.","Ending",null,"Kg."]
["Height Starting",null,"Cm.","Ending",null,"Cm."]
["Subject/Grade",null,"Hindi","English","Math","EVS"]
["Summative Assessment-I"]
["Summative Assessment-II"]
["Summative Assessment-III"]
[]
[]
[]
[]
[]
["Student","Parents",null,null,"Class Teacher",null,"School Head"]
[]
[{"$f":"Portfolio!$I$4","v":"GOVT.SENIOR SECONDARY SCHOOL ------------,MASUDA(BEAWAR)"}]
[]
[]
[]
["Sr.No.",81,{"$f":"Portfolio!$K$5","v":"Session :: 2024-25"}]
["U Dise Code ::-",{"$f":"Portfolio!$M$11","v":"0 ---------------"},null,null,null,"Paste Here Latest Passport Size Photo of Student"]
["Name of Student ::-",{"$f":"VLOOKUP(B2405,StuData,5,0)","v":{"$error":"#N/A"}}]
["Father's Name ::-",{"$f":"VLOOKUP(B2405,StuData,6,0)","v":{"$error":"#N/A"}}]
["Mother's Name ::-",{"$f":"VLOOKUP(B2405,StuData,7,0)","v":{"$error":"#N/A"}}]
["Class ::-",{"$f":"VLOOKUP(B2405,StuData,2,0)","v":{"$error":"#N/A"}}]
["Scholar No. ::-",{"$f":"VLOOKUP(B2405,StuData,3,0)","v":{"$error":"#N/A"}}]
["Class Roll No. ::-",{"$f":"VLOOKUP(B2405,StuData,4,0)","v":{"$error":"#N/A"}}]
["Date of Birth ::-",{"$f":"VLOOKUP(B2405,StuData,8,0)","v":{"$error":"#N/A"}}]
["Date of Admission ::-",{"$f":"VLOOKUP(B2405,StuData,9,0)","v":{"$error":"#N/A"}}]
["Aadhar No. ::-",{"$f":"VLOOKUP(B2405,StuData,10,0)","v":{"$error":"#N/A"}}]
["Mobile No. ::-",{"$f":"VLOOKUP(B2405,StuData,11,0)","v":{"$error":"#N/A"}}]
["Address ::-",{"$f":"VLOOKUP(B2405,StuData,12,0)","v":{"$error":"#N/A"}}]
["Weight Starting",null,"Kg.","Ending",null,"Kg."]
["Height Starting",null,"Cm.","Ending",null,"Cm."]
["Subject/Grade",null,"Hindi","English","Math","EVS"]
["Summative Assessment-I"]
["Summative Assessment-II"]
["Summative Assessment-III"]
[]
[]
[]
[]
[]
["Student","Parents",null,null,"Class Teacher",null,"School Head"]
[]
[{"$f":"Portfolio!$I$4","v":"GOVT.SENIOR SECONDARY SCHOOL ------------,MASUDA(BEAWAR)"}]
[]
[]
[]
["Sr.No.",82,{"$f":"Portfolio!$K$5","v":"Session :: 2024-25"}]
["U Dise Code ::-",{"$f":"Portfolio!$M$11","v":"0 ---------------"},null,null,null,"Paste Here Latest Passport Size Photo of Student"]
["Name of Student ::-",{"$f":"VLOOKUP(B2435,StuData,5,0)","v":{"$error":"#N/A"}}]
["Father's Name ::-",{"$f":"VLOOKUP(B2435,StuData,6,0)","v":{"$error":"#N/A"}}]
["Mother's Name ::-",{"$f":"VLOOKUP(B2435,StuData,7,0)","v":{"$error":"#N/A"}}]
["Class ::-",{"$f":"VLOOKUP(B2435,StuData,2,0)","v":{"$error":"#N/A"}}]
["Scholar No. ::-",{"$f":"VLOOKUP(B2435,StuData,3,0)","v":{"$error":"#N/A"}}]
["Class Roll No. ::-",{"$f":"VLOOKUP(B2435,StuData,4,0)","v":{"$error":"#N/A"}}]
["Date of Birth ::-",{"$f":"VLOOKUP(B2435,StuData,8,0)","v":{"$error":"#N/A"}}]
["Date of Admission ::-",{"$f":"VLOOKUP(B2435,StuData,9,0)","v":{"$error":"#N/A"}}]
["Aadhar No. ::-",{"$f":"VLOOKUP(B2435,StuData,10,0)","v":{"$error":"#N/A"}}]
["Mobile No. ::-",{"$f":"VLOOKUP(B2435,StuData,11,0)","v":{"$error":"#N/A"}}]
["Address ::-",{"$f":"VLOOKUP(B2435,StuData,12,0)","v":{"$error":"#N/A"}}]
["Weight Starting",null,"Kg.","Ending",null,"Kg."]
["Height Starting",null,"Cm.","Ending",null,"Cm."]
["Subject/Grade",null,"Hindi","English","Math","EVS"]
["Summative Assessment-I"]
["Summative Assessment-II"]
["Summative Assessment-III"]
[]
[]
[]
[]
[]
["Student","Parents",null,null,"Class Teacher",null,"School Head"]
[]
[{"$f":"Portfolio!$I$4","v":"GOVT.SENIOR SECONDARY SCHOOL ------------,MASUDA(BEAWAR)"}]
[]
[]
[]
["Sr.No.",83,{"$f":"Portfolio!$K$5","v":"Session :: 2024-25"}]
["U Dise Code ::-",{"$f":"Portfolio!$M$11","v":"0 ---------------"},null,null,null,"Paste Here Latest Passport Size Photo of Student"]
["Name of Student ::-",{"$f":"VLOOKUP(B2465,StuData,5,0)","v":{"$error":"#N/A"}}]
["Father's Name ::-",{"$f":"VLOOKUP(B2465,StuData,6,0)","v":{"$error":"#N/A"}}]
["Mother's Name ::-",{"$f":"VLOOKUP(B2465,StuData,7,0)","v":{"$error":"#N/A"}}]
["Class ::-",{"$f":"VLOOKUP(B2465,StuData,2,0)","v":{"$error":"#N/A"}}]
["Scholar No. ::-",{"$f":"VLOOKUP(B2465,StuData,3,0)","v":{"$error":"#N/A"}}]
["Class Roll No. ::-",{"$f":"VLOOKUP(B2465,StuData,4,0)","v":{"$error":"#N/A"}}]
["Date of Birth ::-",{"$f":"VLOOKUP(B2465,StuData,8,0)","v":{"$error":"#N/A"}}]
["Date of Admission ::-",{"$f":"VLOOKUP(B2465,StuData,9,0)","v":{"$error":"#N/A"}}]
["Aadhar No. ::-",{"$f":"VLOOKUP(B2465,StuData,10,0)","v":{"$error":"#N/A"}}]
["Mobile No. ::-",{"$f":"VLOOKUP(B2465,StuData,11,0)","v":{"$error":"#N/A"}}]
["Address ::-",{"$f":"VLOOKUP(B2465,StuData,12,0)","v":{"$error":"#N/A"}}]
["Weight Starting",null,"Kg.","Ending",null,"Kg."]
["Height Starting",null,"Cm.","Ending",null,"Cm."]
["Subject/Grade",null,"Hindi","English","Math","EVS"]
["Summative Assessment-I"]
["Summative Assessment-II"]
["Summative Assessment-III"]
[]
[]
[]
[]
[]
["Student","Parents",null,null,"Class Teacher",null,"School Head"]
[]
[{"$f":"Portfolio!$I$4","v":"GOVT.SENIOR SECONDARY SCHOOL ------------,MASUDA(BEAWAR)"}]
[]
[]
[]
["Sr.No.",84,{"$f":"Portfolio!$K$5","v":"Session :: 2024-25"}]
["U Dise Code ::-",{"$f":"Portfolio!$M$11","v":"0 ---------------"},null,null,null,"Paste Here Latest Passport Size Photo of Student"]
["Name of Student ::-",{"$f":"VLOOKUP(B2495,StuData,5,0)","v":{"$error":"#N/A"}}]
["Father's Name ::-",{"$f":"VLOOKUP(B2495,StuData,6,0)","v":{"$error":"#N/A"}}]
["Mother's Name ::-",{"$f":"VLOOKUP(B2495,StuData,7,0)","v":{"$error":"#N/A"}}]
["Class ::-",{"$f":"VLOOKUP(B2495,StuData,2,0)","v":{"$error":"#N/A"}}]
["Scholar No. ::-",{"$f":"VLOOKUP(B2495,StuData,3,0)","v":{"$error":"#N/A"}}]
["Class Roll No. ::-",{"$f":"VLOOKUP(B2495,StuData,4,0)","v":{"$error":"#N/A"}}]
["Date of Birth ::-",{"$f":"VLOOKUP(B2495,StuData,8,0)","v":{"$error":"#N/A"}}]
["Date of Admission ::-",{"$f":"VLOOKUP(B2495,StuData,9,0)","v":{"$error":"#N/A"}}]
["Aadhar No. ::-",{"$f":"VLOOKUP(B2495,StuData,10,0)","v":{"$error":"#N/A"}}]
["Mobile No. ::-",{"$f":"VLOOKUP(B2495,StuData,11,0)","v":{"$error":"#N/A"}}]
["Address ::-",{"$f":"VLOOKUP(B2495,StuData,12,0)","v":{"$error":"#N/A"}}]
["Weight Starting",null,"Kg.","Ending",null,"Kg."]
["Height Starting",null,"Cm.","Ending",null,"Cm."]
["Subject/Grade",null,"Hindi","English","Math","EVS"]
["Summative Assessment-I"]
["Summative Assessment-II"]
["Summative Assessment-III"]
[]
[]
[]
[]
[]
["Student","Parents",null,null,"Class Teacher",null,"School Head"]
[]
[{"$f":"Portfolio!$I$4","v":"GOVT.SENIOR SECONDARY SCHOOL ------------,MASUDA(BEAWAR)"}]
[]
[]
[]
["Sr.No.",85,{"$f":"Portfolio!$K$5","v":"Session :: 2024-25"}]
["U Dise Code ::-",{"$f":"Portfolio!$M$11","v":"0 ---------------"},null,null,null,"Paste Here Latest Passport Size Photo of Student"]
["Name of Student ::-",{"$f":"VLOOKUP(B2525,StuData,5,0)","v":{"$error":"#N/A"}}]
["Father's Name ::-",{"$f":"VLOOKUP(B2525,StuData,6,0)","v":{"$error":"#N/A"}}]
["Mother's Name ::-",{"$f":"VLOOKUP(B2525,StuData,7,0)","v":{"$error":"#N/A"}}]
["Class ::-",{"$f":"VLOOKUP(B2525,StuData,2,0)","v":{"$error":"#N/A"}}]
["Scholar No. ::-",{"$f":"VLOOKUP(B2525,StuData,3,0)","v":{"$error":"#N/A"}}]
["Class Roll No. ::-",{"$f":"VLOOKUP(B2525,StuData,4,0)","v":{"$error":"#N/A"}}]
["Date of Birth ::-",{"$f":"VLOOKUP(B2525,StuData,8,0)","v":{"$error":"#N/A"}}]
["Date of Admission ::-",{"$f":"VLOOKUP(B2525,StuData,9,0)","v":{"$error":"#N/A"}}]
["Aadhar No. ::-",{"$f":"VLOOKUP(B2525,StuData,10,0)","v":{"$error":"#N/A"}}]
["Mobile No. ::-",{"$f":"VLOOKUP(B2525,StuData,11,0)","v":{"$error":"#N/A"}}]
["Address ::-",{"$f":"VLOOKUP(B2525,StuData,12,0)","v":{"$error":"#N/A"}}]
["Weight Starting",null,"Kg.","Ending",null,"Kg."]
["Height Starting",null,"Cm.","Ending",null,"Cm."]
["Subject/Grade",null,"Hindi","English","Math","EVS"]
["Summative Assessment-I"]
["Summative Assessment-II"]
["Summative Assessment-III"]
[]
[]
[]
[]
[]
["Student","Parents",null,null,"Class Teacher",null,"School Head"]
[]
[{"$f":"Portfolio!$I$4","v":"GOVT.SENIOR SECONDARY SCHOOL ------------,MASUDA(BEAWAR)"}]
[]
[]
[]
["Sr.No.",86,{"$f":"Portfolio!$K$5","v":"Session :: 2024-25"}]
["U Dise Code ::-",{"$f":"Portfolio!$M$11","v":"0 ---------------"},null,null,null,"Paste Here Latest Passport Size Photo of Student"]
["Name of Student ::-",{"$f":"VLOOKUP(B2555,StuData,5,0)","v":{"$error":"#N/A"}}]
["Father's Name ::-",{"$f":"VLOOKUP(B2555,StuData,6,0)","v":{"$error":"#N/A"}}]
["Mother's Name ::-",{"$f":"VLOOKUP(B2555,StuData,7,0)","v":{"$error":"#N/A"}}]
["Class ::-",{"$f":"VLOOKUP(B2555,StuData,2,0)","v":{"$error":"#N/A"}}]
["Scholar No. ::-",{"$f":"VLOOKUP(B2555,StuData,3,0)","v":{"$error":"#N/A"}}]
["Class Roll No. ::-",{"$f":"VLOOKUP(B2555,StuData,4,0)","v":{"$error":"#N/A"}}]
["Date of Birth ::-",{"$f":"VLOOKUP(B2555,StuData,8,0)","v":{"$error":"#N/A"}}]
["Date of Admission ::-",{"$f":"VLOOKUP(B2555,StuData,9,0)","v":{"$error":"#N/A"}}]
["Aadhar No. ::-",{"$f":"VLOOKUP(B2555,StuData,10,0)","v":{"$error":"#N/A"}}]
["Mobile No. ::-",{"$f":"VLOOKUP(B2555,StuData,11,0)","v":{"$error":"#N/A"}}]
["Address ::-",{"$f":"VLOOKUP(B2555,StuData,12,0)","v":{"$error":"#N/A"}}]
["Weight Starting",null,"Kg.","Ending",null,"Kg."]
["Height Starting",null,"Cm.","Ending",null,"Cm."]
["Subject/Grade",null,"Hindi","English","Math","EVS"]
["Summative Assessment-I"]
["Summative Assessment-II"]
["Summative Assessment-III"]
[]
[]
[]
[]
[]
["Student","Parents",null,null,"Class Teacher",null,"School Head"]
[]
[{"$f":"Portfolio!$I$4","v":"GOVT.SENIOR SECONDARY SCHOOL ------------,MASUDA(BEAWAR)"}]
[]
[]
[]
["Sr.No.",87,{"$f":"Portfolio!$K$5","v":"Session :: 2024-25"}]
["U Dise Code ::-",{"$f":"Portfolio!$M$11","v":"0 ---------------"},null,null,null,"Paste Here Latest Passport Size Photo of Student"]
["Name of Student ::-",{"$f":"VLOOKUP(B2585,StuData,5,0)","v":{"$error":"#N/A"}}]
["Father's Name ::-",{"$f":"VLOOKUP(B2585,StuData,6,0)","v":{"$error":"#N/A"}}]
["Mother's Name ::-",{"$f":"VLOOKUP(B2585,StuData,7,0)","v":{"$error":"#N/A"}}]
["Class ::-",{"$f":"VLOOKUP(B2585,StuData,2,0)","v":{"$error":"#N/A"}}]
["Scholar No. ::-",{"$f":"VLOOKUP(B2585,StuData,3,0)","v":{"$error":"#N/A"}}]
["Class Roll No. ::-",{"$f":"VLOOKUP(B2585,StuData,4,0)","v":{"$error":"#N/A"}}]
["Date of Birth ::-",{"$f":"VLOOKUP(B2585,StuData,8,0)","v":{"$error":"#N/A"}}]
["Date of Admission ::-",{"$f":"VLOOKUP(B2585,StuData,9,0)","v":{"$error":"#N/A"}}]
["Aadhar No. ::-",{"$f":"VLOOKUP(B2585,StuData,10,0)","v":{"$error":"#N/A"}}]
["Mobile No. ::-",{"$f":"VLOOKUP(B2585,StuData,11,0)","v":{"$error":"#N/A"}}]
["Address ::-",{"$f":"VLOOKUP(B2585,StuData,12,0)","v":{"$error":"#N/A"}}]
["Weight Starting",null,"Kg.","Ending",null,"Kg."]
["Height Starting",null,"Cm.","Ending",null,"Cm."]
["Subject/Grade",null,"Hindi","English","Math","EVS"]
["Summative Assessment-I"]
["Summative Assessment-II"]
["Summative Assessment-III"]
[]
[]
[]
[]
[]
["Student","Parents",null,null,"Class Teacher",null,"School Head"]
[]
[{"$f":"Portfolio!$I$4","v":"GOVT.SENIOR SECONDARY SCHOOL ------------,MASUDA(BEAWAR)"}]
[]
[]
[]
["Sr.No.",88,{"$f":"Portfolio!$K$5","v":"Session :: 2024-25"}]
["U Dise Code ::-",{"$f":"Portfolio!$M$11","v":"0 ---------------"},null,null,null,"Paste Here Latest Passport Size Photo of Student"]
["Name of Student ::-",{"$f":"VLOOKUP(B2615,StuData,5,0)","v":{"$error":"#N/A"}}]
["Father's Name ::-",{"$f":"VLOOKUP(B2615,StuData,6,0)","v":{"$error":"#N/A"}}]
["Mother's Name ::-",{"$f":"VLOOKUP(B2615,StuData,7,0)","v":{"$error":"#N/A"}}]
["Class ::-",{"$f":"VLOOKUP(B2615,StuData,2,0)","v":{"$error":"#N/A"}}]
["Scholar No. ::-",{"$f":"VLOOKUP(B2615,StuData,3,0)","v":{"$error":"#N/A"}}]
["Class Roll No. ::-",{"$f":"VLOOKUP(B2615,StuData,4,0)","v":{"$error":"#N/A"}}]
["Date of Birth ::-",{"$f":"VLOOKUP(B2615,StuData,8,0)","v":{"$error":"#N/A"}}]
["Date of Admission ::-",{"$f":"VLOOKUP(B2615,StuData,9,0)","v":{"$error":"#N/A"}}]
["Aadhar No. ::-",{"$f":"VLOOKUP(B2615,StuData,10,0)","v":{"$error":"#N/A"}}]
["Mobile No. ::-",{"$f":"VLOOKUP(B2615,StuData,11,0)","v":{"$error":"#N/A"}}]
["Address ::-",{"$f":"VLOOKUP(B2615,StuData,12,0)","v":{"$error":"#N/A"}}]
["Weight Starting",null,"Kg.","Ending",null,"Kg."]
["Height Starting",null,"Cm.","Ending",null,"Cm."]
["Subject/Grade",null,"Hindi","English","Math","EVS"]
["Summative Assessment-I"]
["Summative Assessment-II"]
["Summative Assessment-III"]
[]
[]
[]
[]
[]
["Student","Parents",null,null,"Class Teacher",null,"School Head"]
[]
[{"$f":"Portfolio!$I$4","v":"GOVT.SENIOR SECONDARY SCHOOL ------------,MASUDA(BEAWAR)"}]
[]
[]
[]
["Sr.No.",89,{"$f":"Portfolio!$K$5","v":"Session :: 2024-25"}]
["U Dise Code ::-",{"$f":"Portfolio!$M$11","v":"0 ---------------"},null,null,null,"Paste Here Latest Passport Size Photo of Student"]
["Name of Student ::-",{"$f":"VLOOKUP(B2645,StuData,5,0)","v":{"$error":"#N/A"}}]
["Father's Name ::-",{"$f":"VLOOKUP(B2645,StuData,6,0)","v":{"$error":"#N/A"}}]
["Mother's Name ::-",{"$f":"VLOOKUP(B2645,StuData,7,0)","v":{"$error":"#N/A"}}]
["Class ::-",{"$f":"VLOOKUP(B2645,StuData,2,0)","v":{"$error":"#N/A"}}]
["Scholar No. ::-",{"$f":"VLOOKUP(B2645,StuData,3,0)","v":{"$error":"#N/A"}}]
["Class Roll No. ::-",{"$f":"VLOOKUP(B2645,StuData,4,0)","v":{"$error":"#N/A"}}]
["Date of Birth ::-",{"$f":"VLOOKUP(B2645,StuData,8,0)","v":{"$error":"#N/A"}}]
["Date of Admission ::-",{"$f":"VLOOKUP(B2645,StuData,9,0)","v":{"$error":"#N/A"}}]
["Aadhar No. ::-",{"$f":"VLOOKUP(B2645,StuData,10,0)","v":{"$error":"#N/A"}}]
["Mobile No. ::-",{"$f":"VLOOKUP(B2645,StuData,11,0)","v":{"$error":"#N/A"}}]
["Address ::-",{"$f":"VLOOKUP(B2645,StuData,12,0)","v":{"$error":"#N/A"}}]
["Weight Starting",null,"Kg.","Ending",null,"Kg."]
["Height Starting",null,"Cm.","Ending",null,"Cm."]
["Subject/Grade",null,"Hindi","English","Math","EVS"]
["Summative Assessment-I"]
["Summative Assessment-II"]
["Summative Assessment-III"]
[]
[]
[]
[]
[]
["Student","Parents",null,null,"Class Teacher",null,"School Head"]
[]
[{"$f":"Portfolio!$I$4","v":"GOVT.SENIOR SECONDARY SCHOOL ------------,MASUDA(BEAWAR)"}]
[]
[]
[]
["Sr.No.",90,{"$f":"Portfolio!$K$5","v":"Session :: 2024-25"}]
["U Dise Code ::-",{"$f":"Portfolio!$M$11","v":"0 ---------------"},null,null,null,"Paste Here Latest Passport Size Photo of Student"]
["Name of Student ::-",{"$f":"VLOOKUP(B2675,StuData,5,0)","v":{"$error":"#N/A"}}]
["Father's Name ::-",{"$f":"VLOOKUP(B2675,StuData,6,0)","v":{"$error":"#N/A"}}]
["Mother's Name ::-",{"$f":"VLOOKUP(B2675,StuData,7,0)","v":{"$error":"#N/A"}}]
["Class ::-",{"$f":"VLOOKUP(B2675,StuData,2,0)","v":{"$error":"#N/A"}}]
["Scholar No. ::-",{"$f":"VLOOKUP(B2675,StuData,3,0)","v":{"$error":"#N/A"}}]
["Class Roll No. ::-",{"$f":"VLOOKUP(B2675,StuData,4,0)","v":{"$error":"#N/A"}}]
["Date of Birth ::-",{"$f":"VLOOKUP(B2675,StuData,8,0)","v":{"$error":"#N/A"}}]
["Date of Admission ::-",{"$f":"VLOOKUP(B2675,StuData,9,0)","v":{"$error":"#N/A"}}]
["Aadhar No. ::-",{"$f":"VLOOKUP(B2675,StuData,10,0)","v":{"$error":"#N/A"}}]
["Mobile No. ::-",{"$f":"VLOOKUP(B2675,StuData,11,0)","v":{"$error":"#N/A"}}]
["Address ::-",{"$f":"VLOOKUP(B2675,StuData,12,0)","v":{"$error":"#N/A"}}]
["Weight Starting",null,"Kg.","Ending",null,"Kg."]
["Height Starting",null,"Cm.","Ending",null,"Cm."]
["Subject/Grade",null,"Hindi","English","Math","EVS"]
["Summative Assessment-I"]
["Summative Assessment-II"]
["Summative Assessment-III"]
[]
[]
[]
[]
[]
["Student","Parents",null,null,"Class Teacher",null,"School Head"]
[]
[{"$f":"Portfolio!$I$4","v":"GOVT.SENIOR SECONDARY SCHOOL ------------,MASUDA(BEAWAR)"}]
[]
[]
[]
["Sr.No.",91,{"$f":"Portfolio!$K$5","v":"Session :: 2024-25"}]
["U Dise Code ::-",{"$f":"Portfolio!$M$11","v":"0 ---------------"},null,null,null,"Paste Here Latest Passport Size Photo of Student"]
["Name of Student ::-",{"$f":"VLOOKUP(B2705,StuData,5,0)","v":{"$error":"#N/A"}}]
["Father's Name ::-",{"$f":"VLOOKUP(B2705,StuData,6,0)","v":{"$error":"#N/A"}}]
["Mother's Name ::-",{"$f":"VLOOKUP(B2705,StuData,7,0)","v":{"$error":"#N/A"}}]
["Class ::-",{"$f":"VLOOKUP(B2705,StuData,2,0)","v":{"$error":"#N/A"}}]
["Scholar No. ::-",{"$f":"VLOOKUP(B2705,StuData,3,0)","v":{"$error":"#N/A"}}]
["Class Roll No. ::-",{"$f":"VLOOKUP(B2705,StuData,4,0)","v":{"$error":"#N/A"}}]
["Date of Birth ::-",{"$f":"VLOOKUP(B2705,StuData,8,0)","v":{"$error":"#N/A"}}]
["Date of Admission ::-",{"$f":"VLOOKUP(B2705,StuData,9,0)","v":{"$error":"#N/A"}}]
["Aadhar No. ::-",{"$f":"VLOOKUP(B2705,StuData,10,0)","v":{"$error":"#N/A"}}]
["Mobile No. ::-",{"$f":"VLOOKUP(B2705,StuData,11,0)","v":{"$error":"#N/A"}}]
["Address ::-",{"$f":"VLOOKUP(B2705,StuData,12,0)","v":{"$error":"#N/A"}}]
["Weight Starting",null,"Kg.","Ending",null,"Kg."]
["Height Starting",null,"Cm.","Ending",null,"Cm."]
["Subject/Grade",null,"Hindi","English","Math","EVS"]
["Summative Assessment-I"]
["Summative Assessment-II"]
["Summative Assessment-III"]
[]
[]
[]
[]
[]
["Student","Parents",null,null,"Class Teacher",null,"School Head"]
[]
[{"$f":"Portfolio!$I$4","v":"GOVT.SENIOR SECONDARY SCHOOL ------------,MASUDA(BEAWAR)"}]
[]
[]
[]
["Sr.No.",92,{"$f":"Portfolio!$K$5","v":"Session :: 2024-25"}]
["U Dise Code ::-",{"$f":"Portfolio!$M$11","v":"0 ---------------"},null,null,null,"Paste Here Latest Passport Size Photo of Student"]
["Name of Student ::-",{"$f":"VLOOKUP(B2735,StuData,5,0)","v":{"$error":"#N/A"}}]
["Father's Name ::-",{"$f":"VLOOKUP(B2735,StuData,6,0)","v":{"$error":"#N/A"}}]
["Mother's Name ::-",{"$f":"VLOOKUP(B2735,StuData,7,0)","v":{"$error":"#N/A"}}]
["Class ::-",{"$f":"VLOOKUP(B2735,StuData,2,0)","v":{"$error":"#N/A"}}]
["Scholar No. ::-",{"$f":"VLOOKUP(B2735,StuData,3,0)","v":{"$error":"#N/A"}}]
["Class Roll No. ::-",{"$f":"VLOOKUP(B2735,StuData,4,0)","v":{"$error":"#N/A"}}]
["Date of Birth ::-",{"$f":"VLOOKUP(B2735,StuData,8,0)","v":{"$error":"#N/A"}}]
["Date of Admission ::-",{"$f":"VLOOKUP(B2735,StuData,9,0)","v":{"$error":"#N/A"}}]
["Aadhar No. ::-",{"$f":"VLOOKUP(B2735,StuData,10,0)","v":{"$error":"#N/A"}}]
["Mobile No. ::-",{"$f":"VLOOKUP(B2735,StuData,11,0)","v":{"$error":"#N/A"}}]
["Address ::-",{"$f":"VLOOKUP(B2735,StuData,12,0)","v":{"$error":"#N/A"}}]
["Weight Starting",null,"Kg.","Ending",null,"Kg."]
["Height Starting",null,"Cm.","Ending",null,"Cm."]
["Subject/Grade",null,"Hindi","English","Math","EVS"]
["Summative Assessment-I"]
["Summative Assessment-II"]
["Summative Assessment-III"]
[]
[]
[]
[]
[]
["Student","Parents",null,null,"Class Teacher",null,"School Head"]
[]
[{"$f":"Portfolio!$I$4","v":"GOVT.SENIOR SECONDARY SCHOOL ------------,MASUDA(BEAWAR)"}]
[]
[]
[]
["Sr.No.",93,{"$f":"Portfolio!$K$5","v":"Session :: 2024-25"}]
["U Dise Code ::-",{"$f":"Portfolio!$M$11","v":"0 ---------------"},null,null,null,"Paste Here Latest Passport Size Photo of Student"]
["Name of Student ::-",{"$f":"VLOOKUP(B2765,StuData,5,0)","v":{"$error":"#N/A"}}]
["Father's Name ::-",{"$f":"VLOOKUP(B2765,StuData,6,0)","v":{"$error":"#N/A"}}]
["Mother's Name ::-",{"$f":"VLOOKUP(B2765,StuData,7,0)","v":{"$error":"#N/A"}}]
["Class ::-",{"$f":"VLOOKUP(B2765,StuData,2,0)","v":{"$error":"#N/A"}}]
["Scholar No. ::-",{"$f":"VLOOKUP(B2765,StuData,3,0)","v":{"$error":"#N/A"}}]
["Class Roll No. ::-",{"$f":"VLOOKUP(B2765,StuData,4,0)","v":{"$error":"#N/A"}}]
["Date of Birth ::-",{"$f":"VLOOKUP(B2765,StuData,8,0)","v":{"$error":"#N/A"}}]
["Date of Admission ::-",{"$f":"VLOOKUP(B2765,StuData,9,0)","v":{"$error":"#N/A"}}]
["Aadhar No. ::-",{"$f":"VLOOKUP(B2765,StuData,10,0)","v":{"$error":"#N/A"}}]
["Mobile No. ::-",{"$f":"VLOOKUP(B2765,StuData,11,0)","v":{"$error":"#N/A"}}]
["Address ::-",{"$f":"VLOOKUP(B2765,StuData,12,0)","v":{"$error":"#N/A"}}]
["Weight Starting",null,"Kg.","Ending",null,"Kg."]
["Height Starting",null,"Cm.","Ending",null,"Cm."]
["Subject/Grade",null,"Hindi","English","Math","EVS"]
["Summative Assessment-I"]
["Summative Assessment-II"]
["Summative Assessment-III"]
[]
[]
[]
[]
[]
["Student","Parents",null,null,"Class Teacher",null,"School Head"]
[]
[{"$f":"Portfolio!$I$4","v":"GOVT.SENIOR SECONDARY SCHOOL ------------,MASUDA(BEAWAR)"}]
[]
[]
[]
["Sr.No.",94,{"$f":"Portfolio!$K$5","v":"Session :: 2024-25"}]
["U Dise Code ::-",{"$f":"Portfolio!$M$11","v":"0 ---------------"},null,null,null,"Paste Here Latest Passport Size Photo of Student"]
["Name of Student ::-",{"$f":"VLOOKUP(B2795,StuData,5,0)","v":{"$error":"#N/A"}}]
["Father's Name ::-",{"$f":"VLOOKUP(B2795,StuData,6,0)","v":{"$error":"#N/A"}}]
["Mother's Name ::-",{"$f":"VLOOKUP(B2795,StuData,7,0)","v":{"$error":"#N/A"}}]
["Class ::-",{"$f":"VLOOKUP(B2795,StuData,2,0)","v":{"$error":"#N/A"}}]
["Scholar No. ::-",{"$f":"VLOOKUP(B2795,StuData,3,0)","v":{"$error":"#N/A"}}]
["Class Roll No. ::-",{"$f":"VLOOKUP(B2795,StuData,4,0)","v":{"$error":"#N/A"}}]
["Date of Birth ::-",{"$f":"VLOOKUP(B2795,StuData,8,0)","v":{"$error":"#N/A"}}]
["Date of Admission ::-",{"$f":"VLOOKUP(B2795,StuData,9,0)","v":{"$error":"#N/A"}}]
["Aadhar No. ::-",{"$f":"VLOOKUP(B2795,StuData,10,0)","v":{"$error":"#N/A"}}]
["Mobile No. ::-",{"$f":"VLOOKUP(B2795,StuData,11,0)","v":{"$error":"#N/A"}}]
["Address ::-",{"$f":"VLOOKUP(B2795,StuData,12,0)","v":{"$error":"#N/A"}}]
["Weight Starting",null,"Kg.","Ending",null,"Kg."]
["Height Starting",null,"Cm.","Ending",null,"Cm."]
["Subject/Grade",null,"Hindi","English","Math","EVS"]
["Summative Assessment-I"]
["Summative Assessment-II"]
["Summative Assessment-III"]
[]
[]
[]
[]
[]
["Student","Parents",null,null,"Class Teacher",null,"School Head"]
[]
[{"$f":"Portfolio!$I$4","v":"GOVT.SENIOR SECONDARY SCHOOL ------------,MASUDA(BEAWAR)"}]
[]
[]
[]
["Sr.No.",95,{"$f":"Portfolio!$K$5","v":"Session :: 2024-25"}]
["U Dise Code ::-",{"$f":"Portfolio!$M$11","v":"0 ---------------"},null,null,null,"Paste Here Latest Passport Size Photo of Student"]
["Name of Student ::-",{"$f":"VLOOKUP(B2825,StuData,5,0)","v":{"$error":"#N/A"}}]
["Father's Name ::-",{"$f":"VLOOKUP(B2825,StuData,6,0)","v":{"$error":"#N/A"}}]
["Mother's Name ::-",{"$f":"VLOOKUP(B2825,StuData,7,0)","v":{"$error":"#N/A"}}]
["Class ::-",{"$f":"VLOOKUP(B2825,StuData,2,0)","v":{"$error":"#N/A"}}]
["Scholar No. ::-",{"$f":"VLOOKUP(B2825,StuData,3,0)","v":{"$error":"#N/A"}}]
["Class Roll No. ::-",{"$f":"VLOOKUP(B2825,StuData,4,0)","v":{"$error":"#N/A"}}]
["Date of Birth ::-",{"$f":"VLOOKUP(B2825,StuData,8,0)","v":{"$error":"#N/A"}}]
["Date of Admission ::-",{"$f":"VLOOKUP(B2825,StuData,9,0)","v":{"$error":"#N/A"}}]
["Aadhar No. ::-",{"$f":"VLOOKUP(B2825,StuData,10,0)","v":{"$error":"#N/A"}}]
["Mobile No. ::-",{"$f":"VLOOKUP(B2825,StuData,11,0)","v":{"$error":"#N/A"}}]
["Address ::-",{"$f":"VLOOKUP(B2825,StuData,12,0)","v":{"$error":"#N/A"}}]
["Weight Starting",null,"Kg.","Ending",null,"Kg."]
["Height Starting",null,"Cm.","Ending",null,"Cm."]
["Subject/Grade",null,"Hindi","English","Math","EVS"]
["Summative Assessment-I"]
["Summative Assessment-II"]
["Summative Assessment-III"]
[]
[]
[]
[]
[]
["Student","Parents",null,null,"Class Teacher",null,"School Head"]
[]
[{"$f":"Portfolio!$I$4","v":"GOVT.SENIOR SECONDARY SCHOOL ------------,MASUDA(BEAWAR)"}]
[]
[]
[]
["Sr.No.",96,{"$f":"Portfolio!$K$5","v":"Session :: 2024-25"}]
["U Dise Code ::-",{"$f":"Portfolio!$M$11","v":"0 ---------------"},null,null,null,"Paste Here Latest Passport Size Photo of Student"]
["Name of Student ::-",{"$f":"VLOOKUP(B2855,StuData,5,0)","v":{"$error":"#N/A"}}]
["Father's Name ::-",{"$f":"VLOOKUP(B2855,StuData,6,0)","v":{"$error":"#N/A"}}]
["Mother's Name ::-",{"$f":"VLOOKUP(B2855,StuData,7,0)","v":{"$error":"#N/A"}}]
["Class ::-",{"$f":"VLOOKUP(B2855,StuData,2,0)","v":{"$error":"#N/A"}}]
["Scholar No. ::-",{"$f":"VLOOKUP(B2855,StuData,3,0)","v":{"$error":"#N/A"}}]
["Class Roll No. ::-",{"$f":"VLOOKUP(B2855,StuData,4,0)","v":{"$error":"#N/A"}}]
["Date of Birth ::-",{"$f":"VLOOKUP(B2855,StuData,8,0)","v":{"$error":"#N/A"}}]
["Date of Admission ::-",{"$f":"VLOOKUP(B2855,StuData,9,0)","v":{"$error":"#N/A"}}]
["Aadhar No. ::-",{"$f":"VLOOKUP(B2855,StuData,10,0)","v":{"$error":"#N/A"}}]
["Mobile No. ::-",{"$f":"VLOOKUP(B2855,StuData,11,0)","v":{"$error":"#N/A"}}]
["Address ::-",{"$f":"VLOOKUP(B2855,StuData,12,0)","v":{"$error":"#N/A"}}]
["Weight Starting",null,"Kg.","Ending",null,"Kg."]
["Height Starting",null,"Cm.","Ending",null,"Cm."]
["Subject/Grade",null,"Hindi","English","Math","EVS"]
["Summative Assessment-I"]
["Summative Assessment-II"]
["Summative Assessment-III"]
[]
[]
[]
[]
[]
["Student","Parents",null,null,"Class Teacher",null,"School Head"]
[]
[{"$f":"Portfolio!$I$4","v":"GOVT.SENIOR SECONDARY SCHOOL ------------,MASUDA(BEAWAR)"}]
[]
[]
[]
["Sr.No.",97,{"$f":"Portfolio!$K$5","v":"Session :: 2024-25"}]
["U Dise Code ::-",{"$f":"Portfolio!$M$11","v":"0 ---------------"},null,null,null,"Paste Here Latest Passport Size Photo of Student"]
["Name of Student ::-",{"$f":"VLOOKUP(B2885,StuData,5,0)","v":{"$error":"#N/A"}}]
["Father's Name ::-",{"$f":"VLOOKUP(B2885,StuData,6,0)","v":{"$error":"#N/A"}}]
["Mother's Name ::-",{"$f":"VLOOKUP(B2885,StuData,7,0)","v":{"$error":"#N/A"}}]
["Class ::-",{"$f":"VLOOKUP(B2885,StuData,2,0)","v":{"$error":"#N/A"}}]
["Scholar No. ::-",{"$f":"VLOOKUP(B2885,StuData,3,0)","v":{"$error":"#N/A"}}]
["Class Roll No. ::-",{"$f":"VLOOKUP(B2885,StuData,4,0)","v":{"$error":"#N/A"}}]
["Date of Birth ::-",{"$f":"VLOOKUP(B2885,StuData,8,0)","v":{"$error":"#N/A"}}]
["Date of Admission ::-",{"$f":"VLOOKUP(B2885,StuData,9,0)","v":{"$error":"#N/A"}}]
["Aadhar No. ::-",{"$f":"VLOOKUP(B2885,StuData,10,0)","v":{"$error":"#N/A"}}]
["Mobile No. ::-",{"$f":"VLOOKUP(B2885,StuData,11,0)","v":{"$error":"#N/A"}}]
["Address ::-",{"$f":"VLOOKUP(B2885,StuData,12,0)","v":{"$error":"#N/A"}}]
["Weight Starting",null,"Kg.","Ending",null,"Kg."]
["Height Starting",null,"Cm.","Ending",null,"Cm."]
["Subject/Grade",null,"Hindi","English","Math","EVS"]
["Summative Assessment-I"]
["Summative Assessment-II"]
["Summative Assessment-III"]
[]
[]
[]
[]
[]
["Student","Parents",null,null,"Class Teacher",null,"School Head"]
[]
[{"$f":"Portfolio!$I$4","v":"GOVT.SENIOR SECONDARY SCHOOL ------------,MASUDA(BEAWAR)"}]
[]
[]
[]
["Sr.No.",98,{"$f":"Portfolio!$K$5","v":"Session :: 2024-25"}]
["U Dise Code ::-",{"$f":"Portfolio!$M$11","v":"0 ---------------"},null,null,null,"Paste Here Latest Passport Size Photo of Student"]
["Name of Student ::-",{"$f":"VLOOKUP(B2915,StuData,5,0)","v":{"$error":"#N/A"}}]
["Father's Name ::-",{"$f":"VLOOKUP(B2915,StuData,6,0)","v":{"$error":"#N/A"}}]
["Mother's Name ::-",{"$f":"VLOOKUP(B2915,StuData,7,0)","v":{"$error":"#N/A"}}]
["Class ::-",{"$f":"VLOOKUP(B2915,StuData,2,0)","v":{"$error":"#N/A"}}]
["Scholar No. ::-",{"$f":"VLOOKUP(B2915,StuData,3,0)","v":{"$error":"#N/A"}}]
["Class Roll No. ::-",{"$f":"VLOOKUP(B2915,StuData,4,0)","v":{"$error":"#N/A"}}]
["Date of Birth ::-",{"$f":"VLOOKUP(B2915,StuData,8,0)","v":{"$error":"#N/A"}}]
["Date of Admission ::-",{"$f":"VLOOKUP(B2915,StuData,9,0)","v":{"$error":"#N/A"}}]
["Aadhar No. ::-",{"$f":"VLOOKUP(B2915,StuData,10,0)","v":{"$error":"#N/A"}}]
["Mobile No. ::-",{"$f":"VLOOKUP(B2915,StuData,11,0)","v":{"$error":"#N/A"}}]
["Address ::-",{"$f":"VLOOKUP(B2915,StuData,12,0)","v":{"$error":"#N/A"}}]
["Weight Starting",null,"Kg.","Ending",null,"Kg."]
["Height Starting",null,"Cm.","Ending",null,"Cm."]
["Subject/Grade",null,"Hindi","English","Math","EVS"]
["Summative Assessment-I"]
["Summative Assessment-II"]
["Summative Assessment-III"]
[]
[]
[]
[]
[]
["Student","Parents",null,null,"Class Teacher",null,"School Head"]
[]
[{"$f":"Portfolio!$I$4","v":"GOVT.SENIOR SECONDARY SCHOOL ------------,MASUDA(BEAWAR)"}]
[]
[]
[]
["Sr.No.",99,{"$f":"Portfolio!$K$5","v":"Session :: 2024-25"}]
["U Dise Code ::-",{"$f":"Portfolio!$M$11","v":"0 ---------------"},null,null,null,"Paste Here Latest Passport Size Photo of Student"]
["Name of Student ::-",{"$f":"VLOOKUP(B2945,StuData,5,0)","v":{"$error":"#N/A"}}]
["Father's Name ::-",{"$f":"VLOOKUP(B2945,StuData,6,0)","v":{"$error":"#N/A"}}]
["Mother's Name ::-",{"$f":"VLOOKUP(B2945,StuData,7,0)","v":{"$error":"#N/A"}}]
["Class ::-",{"$f":"VLOOKUP(B2945,StuData,2,0)","v":{"$error":"#N/A"}}]
["Scholar No. ::-",{"$f":"VLOOKUP(B2945,StuData,3,0)","v":{"$error":"#N/A"}}]
["Class Roll No. ::-",{"$f":"VLOOKUP(B2945,StuData,4,0)","v":{"$error":"#N/A"}}]
["Date of Birth ::-",{"$f":"VLOOKUP(B2945,StuData,8,0)","v":{"$error":"#N/A"}}]
["Date of Admission ::-",{"$f":"VLOOKUP(B2945,StuData,9,0)","v":{"$error":"#N/A"}}]
["Aadhar No. ::-",{"$f":"VLOOKUP(B2945,StuData,10,0)","v":{"$error":"#N/A"}}]
["Mobile No. ::-",{"$f":"VLOOKUP(B2945,StuData,11,0)","v":{"$error":"#N/A"}}]
["Address ::-",{"$f":"VLOOKUP(B2945,StuData,12,0)","v":{"$error":"#N/A"}}]
["Weight Starting",null,"Kg.","Ending",null,"Kg."]
["Height Starting",null,"Cm.","Ending",null,"Cm."]
["Subject/Grade",null,"Hindi","English","Math","EVS"]
["Summative Assessment-I"]
["Summative Assessment-II"]
["Summative Assessment-III"]
[]
[]
[]
[]
[]
["Student","Parents",null,null,"Class Teacher",null,"School Head"]
[]
[{"$f":"Portfolio!$I$4","v":"GOVT.SENIOR SECONDARY SCHOOL ------------,MASUDA(BEAWAR)"}]
[]
[]
[]
["Sr.No.",100,{"$f":"Portfolio!$K$5","v":"Session :: 2024-25"}]
["U Dise Code ::-",{"$f":"Portfolio!$M$11","v":"0 ---------------"},null,null,null,"Paste Here Latest Passport Size Photo of Student"]
["Name of Student ::-",{"$f":"VLOOKUP(B2975,StuData,5,0)","v":{"$error":"#N/A"}}]
["Father's Name ::-",{"$f":"VLOOKUP(B2975,StuData,6,0)","v":{"$error":"#N/A"}}]
["Mother's Name ::-",{"$f":"VLOOKUP(B2975,StuData,7,0)","v":{"$error":"#N/A"}}]
["Class ::-",{"$f":"VLOOKUP(B2975,StuData,2,0)","v":{"$error":"#N/A"}}]
["Scholar No. ::-",{"$f":"VLOOKUP(B2975,StuData,3,0)","v":{"$error":"#N/A"}}]
["Class Roll No. ::-",{"$f":"VLOOKUP(B2975,StuData,4,0)","v":{"$error":"#N/A"}}]
["Date of Birth ::-",{"$f":"VLOOKUP(B2975,StuData,8,0)","v":{"$error":"#N/A"}}]
["Date of Admission ::-",{"$f":"VLOOKUP(B2975,StuData,9,0)","v":{"$error":"#N/A"}}]
["Aadhar No. ::-",{"$f":"VLOOKUP(B2975,StuData,10,0)","v":{"$error":"#N/A"}}]
["Mobile No. ::-",{"$f":"VLOOKUP(B2975,StuData,11,0)","v":{"$error":"#N/A"}}]
["Address ::-",{"$f":"VLOOKUP(B2975,StuData,12,0)","v":{"$error":"#N/A"}}]
["Weight Starting",null,"Kg.","Ending",null,"Kg."]
["Height Starting",null,"Cm.","Ending",null,"Cm."]
["Subject/Grade",null,"Hindi","English","Math","EVS"]
["Summative Assessment-I"]
["Summative Assessment-II"]
["Summative Assessment-III"]
[]
[]
[]
[]
[]
["Student","Parents",null,null,"Class Teacher",null,"School Head"]