{"text_format":"1","workbook":"xlsx","n_sheets":17,"sheets":["master","shaladarpan ","SD LOCKED","portfolio1-5","PORTFOLIO 6-8","ON OFF LINE LIST","calling form","ENROLLMENT","PRAPATRA A","PRAPATRA B","MONITERING DATA","9-12 REPORT","HW RECORD","QUIZ RECORD2","HW CLASSWISE","HW school","WEEKLY HW "],"not_rendered":{"charts":0,"images":6,"macros":1,"external_links":0,"defined_names":23,"comments":0,"pivot_tables":0},"unopened":[],"bounds":{"document_bytes":16777216,"sheet_cells":100000,"rows_first":2000,"rows_last":500,"rows_between":2000,"halvings":0,"cell_chars":16384,"cell_head_chars":4096},"cells_cut":0,"cells_raw":0,"read":"whole","date_system":"1900"}

{"sheet":"master","index":0,"n_rows":29,"n_cols":13,"rows_kept":29,"cut":false,"hidden":false,"merged":[[25,5,25,10],[17,5,17,10],[18,5,18,10],[19,5,19,10],[20,5,20,10],[21,5,21,10],[4,3,4,10],[9,2,9,4],[10,2,10,4],[5,1,5,3],[8,5,8,7],[1,1,1,10],[2,2,2,9],[21,2,21,4],[22,2,22,4],[18,2,18,4],[19,2,19,4],[3,1,3,2],[3,3,3,10],[15,5,15,7],[9,8,9,10],[10,8,10,10],[11,8,11,10],[11,2,11,4],[11,5,11,7],[5,9,5,10],[6,9,6,10],[24,2,24,4],[25,2,25,4],[23,2,23,4],[12,8,12,10],[13,8,13,10],[14,8,14,10],[15,8,15,10],[12,2,12,4],[13,2,13,4],[14,2,14,4],[12,5,12,7],[13,5,13,7],[14,5,14,7],[22,5,22,10],[23,5,23,10],[24,5,24,10],[28,4,29,10],[28,11,29,15],[1,12,1,14],[24,12,26,14],[11,12,11,14],[15,12,17,14],[5,4,5,7],[6,4,6,7],[9,5,9,7],[10,5,10,7],[8,8,8,10],[20,2,20,4],[15,2,15,4],[7,2,7,9],[16,2,16,9],[17,2,17,4]]}
[]
[null,"    Smile 3.0 esa vkidk Lokxr gSA",null,null,null,null,null,null,null,null,null,null,"jk/kkLokeh"]
[null,null,"MASTER DATA ENTRY djs "]
[null,"ihbbvks fo|ky; dk uke",null,"jktdh; mPPk ek/;fed fo|ky; vkyfu;kokl ftyk &ukXkkSj"]
[null,"fo|ky; dk uke",null,"jktdh; mPPk ek/;fed fo|ky; vkyfu;kokl ftyk &ukXkkSj"]
[null,"laLFkk iz/kku dk uke",null,null,"Jh fnus'k dqekj vks>k",null,null,null,"eksckby ua-",7340063893]
[null,"LEkkby dk;Zdze izHkkjh dk uke",null,null,"Jh fot; dqekj iztkir",null,null,null,"eksckby ua-",9828120697]
[null,null,"d{kk 1 ls 8 rd fo\"k;k/;kid dk uke"]
[null,null,null,null,null,"d{kk 1 ls 5 rd",null,null,"d{kk 6 ls 8 rd"]
[null,null,"fo\"k; ",null,null,"fo\"k;k/;kid dk uke",null,null,"fo\"k;k/;kid dk uke"]
[null,null,"fgUnh",null,null,"Jh Vhdepan dqekor",null,null,"Jh c'khj eksgEen"]
[null,null,"vaxzsth",null,null,"Jh psukjke cjkMk",null,null,"Jh fot; dqekj iztkir",null,null,null," 'kSf{kd lekpkj gsrq ns[sk "]
[null,null,"xf.kr",null,null,"Jh dkywjke",null,null,"Jh jkefuokl",null,null,null,"http://www.ashwinikumar.com"]
[null,null,"i;kZoj.k@lkekftd",null,null,"Jherh lEir pkS/kjh",null,null,"Jh NksVwjke",null,null,null,"http://www.shalasugam.com"]
[null,null,"laLd`r",null,null,null,null,null,"Jh jkefd'kksj",null,null,null,"http://www.rajsevak.com"]
[null,null,"foKku",null,null,null,null,null,"Jh gfjvkse eh.kk",null,null,null,"vf/kd tkudkjh ds fy;s esajk YOUTUBE CHANNAl like vkSj subecribe djsA"]
[null,null,"d{kk 1 ls 8 rd d{kk/;kid dk uke"]
[null,null,"d{kk",null,null,"d{kk/;kid dk uke"]
[null,null,1,null,null,"Jh psukjke cjkMk",null,null,null,null,null,null,"https://youtu.be/JHyNhaKLHgs"]
[null,null,2,null,null,"Jh Vhdepan dqekor"]
[null,null,3,null,null,"Jherh eatw jkBh"]
[null,null,4,null,null,"Jherh lEir pkS/kjh"]
[null,null,5,null,null,"Jh dkywjke"]
[null,null,6,null,null,"Jh izse izdk'k tkV "]
[null,null,7,null,null,"Jh NksVwjke",null,null,null,null,null,null,"ANY PROBLEM MAIL-gupskalani@gmail.com"]
[null,null,8,null,null,"Jh c'khj eksgEEkn"]
[]
[]
[null,null,null,null,"vf/kd tkudkjh gsrq esjk ;wV;wc pSuy ns[ks ykbd vkSj lCldzkbc djs ",null,null,null,null,null,null,"http://youtu.be/JHyNhaKLHgs"]

{"sheet":"shaladarpan ","index":1,"n_rows":729,"n_cols":30,"rows_kept":729,"cut":false,"hidden":false,"merged":[]}
["Class","Section","SRNO","DOA","Name","Late Status","FatherName","MotherName","Gender","Dob","ClassRollNo","ExamRollNumber","School Total Working Days","Student Total Attendence","Category","Religion","Previous Year Marks","Name Of School","School UDise Code","Aadhar No of Student","Bhamashash Card","Mobile No Student(Father/Mother/Guardian","Student Permanent Address","Annual Parental Income","CWSN Status","BPL Status","Minority Status","Age On Present(In Years)","Co-Curricular Activity","Distance From School"]
[1,"A",4858,null,"manjeet1",null,"vijay1","beautiful1","F","2015-05-18","yes",1,null,null,"OBC",null,null,"GOVT. SENIOR SECONDARY SCHOOL ALNIYAWAS (219445)",8140200308,null,null,9828120697,"alniyawas1",null,"N","Y",null,5,null,1]
[1,"A",4863,null,"manjeet2",null,"vijay2","beautiful2","F","2015-04-05","yes",2,null,null,"OBC",null,null,"GOVT. SENIOR SECONDARY SCHOOL ALNIYAWAS (219445)",8140200308,null,null,9828120698,"alniyawas2",null,"N","Y",null,5,null,0]
[1,"A",4860,null,"manjeet3",null,"vijay3","beautiful3","M","2014-08-25","no",3,null,null,"GEN",null,null,"GOVT. SENIOR SECONDARY SCHOOL ALNIYAWAS (219445)",8140200308,null,null,9828120699,"alniyawas3",null,"N","Y",null,6,null,1]
[1,"A",4791,"2020-07-04","manjeet4",null,"vijay4","beautiful4","F","2015-04-09","yes",4,null,null,"SC","Hindu",null,"GOVT. SENIOR SECONDARY SCHOOL ALNIYAWAS (219445)",8140200308,null,null,9828120700,"alniyawas4",25000,"N","N","No",5,"None",1]
[1,"A",4864,null,"manjeet5",null,"vijay5","beautiful5","M","2014-02-05","yes",5,null,null,"OBC",null,null,"GOVT. SENIOR SECONDARY SCHOOL ALNIYAWAS (219445)",8140200308,null,null,9828120701,"alniyawas5",null,"N","Y",null,6,null,0]
[1,"A",4865,null,"manjeet6",null,"vijay6","beautiful6","F","2015-06-16","no",6,null,null,"OBC",null,null,"GOVT. SENIOR SECONDARY SCHOOL ALNIYAWAS (219445)",8140200308,null,null,9828120702,"alniyawas6",null,"N","Y",null,5,null,0]
[1,"A",4795,null,"manjeet7",null,"vijay7","beautiful7","F","2012-08-15","yes",7,null,null,"SBC",null,null,"GOVT. SENIOR SECONDARY SCHOOL ALNIYAWAS (219445)",8140200308,null,null,9828120703,"alniyawas7",null,"N","Y",null,8,null,1]
[1,"A",4793,"2020-07-14","manjeet8",null,"vijay8","beautiful8","M","2013-11-26","yes",8,null,null,"OBC","Muslim",null,"GOVT. SENIOR SECONDARY SCHOOL ALNIYAWAS (219445)",8140200308,null,null,9828120704,"alniyawas8",40000,"N","N","Yes",7,"None",0]
[1,"A",4805,null,"manjeet9",null,"vijay9","beautiful9","M","2014-06-07","no",9,null,null,"OBC",null,null,"GOVT. SENIOR SECONDARY SCHOOL ALNIYAWAS (219445)",8140200308,null,null,9828120705,"alniyawas9",null,"N","Y",null,6,null,0]
[1,"A",4790,"2020-07-04","manjeet10",null,"vijay10","beautiful10","M","2015-07-07","yes",10,null,null,"SC","Hindu",null,"GOVT. SENIOR SECONDARY SCHOOL ALNIYAWAS (219445)",8140200308,null,null,9828120706,"alniyawas10",25000,"N","N","No",5,"None",1]
[1,"A",4788,"2020-07-04","manjeet11",null,"vijay11","beautiful11","M","2014-07-26","yes",11,null,null,"SC","Hindu",null,"GOVT. SENIOR SECONDARY SCHOOL ALNIYAWAS (219445)",8140200308,"XXXX8724",null,9828120707,"alniyawas11",25000,"N","N","No",6,"None",1]
[1,"A",4789,"2020-07-04","manjeet12",null,"vijay12","beautiful12","M","2015-05-02","no",12,null,null,"OBC","Hindu",null,"GOVT. SENIOR SECONDARY SCHOOL ALNIYAWAS (219445)",8140200308,null,null,9828120708,"alniyawas12",30000,"N","N","No",5,"None",1]
[1,"A",4859,null,"manjeet13",null,"vijay13","beautiful13","F","2015-01-30","yes",13,null,null,"OBC",null,null,"GOVT. SENIOR SECONDARY SCHOOL ALNIYAWAS (219445)",8140200308,null,null,9828120709,"alniyawas13",null,"N","Y",null,5,null,1]
[1,"A",4794,null,"manjeet14",null,"vijay14","beautiful14","M","2014-08-30","yes",14,null,null,"GEN",null,null,"GOVT. SENIOR SECONDARY SCHOOL ALNIYAWAS (219445)",8140200308,null,null,9828120710,"alniyawas14",null,"N","Y",null,6,null,1]
[1,"A",4874,null,"manjeet15",null,"vijay15","beautiful15","F","2015-10-08","no",15,null,null,"OBC",null,null,"GOVT. SENIOR SECONDARY SCHOOL ALNIYAWAS (219445)",8140200308,null,null,9828120711,"alniyawas15",null,"N","Y",null,5,null,0]
[1,"A",4862,null,"manjeet16",null,"vijay16","beautiful16","F","2015-01-02","yes",16,null,null,"OBC",null,null,"GOVT. SENIOR SECONDARY SCHOOL ALNIYAWAS (219445)",8140200308,null,null,9828120712,"alniyawas16",null,"N","Y",null,5,null,0]
[1,"A",4867,null,"manjeet17",null,"vijay17","beautiful17","F","2015-09-15","yes",17,null,null,"OBC",null,null,"GOVT. SENIOR SECONDARY SCHOOL ALNIYAWAS (219445)",8140200308,null,null,9828120713,"alniyawas17",null,"N","Y",null,5,null,0]
[1,"A",4869,null,"manjeet18",null,"vijay18","beautiful18","F","2014-03-21","no",18,null,null,"OBC",null,null,"GOVT. SENIOR SECONDARY SCHOOL ALNIYAWAS (219445)",8140200308,null,null,9828120714,"alniyawas18",null,"N","Y",null,6,null,0]
[1,"A",4868,null,"manjeet19",null,"vijay19","beautiful19","F","2012-12-07","yes",19,null,null,"OBC",null,null,"GOVT. SENIOR SECONDARY SCHOOL ALNIYAWAS (219445)",8140200308,null,null,9828120715,"alniyawas19",null,"N","Y",null,8,null,0]
[1,"A",4803,null,"manjeet20",null,"vijay20","beautiful20","M","2014-12-04","yes",20,null,null,"OBC",null,null,"GOVT. SENIOR SECONDARY SCHOOL ALNIYAWAS (219445)",8140200308,null,null,9828120716,"alniyawas20",null,"N","Y",null,6,null,1]
[1,"A",4807,null,"manjeet21",null,"vijay21","beautiful21","F","2013-07-02","no",21,null,null,"OBC",null,null,"GOVT. SENIOR SECONDARY SCHOOL ALNIYAWAS (219445)",8140200308,null,null,9828120717,"alniyawas21",null,"N","Y",null,7,null,1]
[1,"A",4870,null,"manjeet22",null,"vijay22","beautiful22","F","2015-04-07","yes",22,null,null,"OBC",null,null,"GOVT. SENIOR SECONDARY SCHOOL ALNIYAWAS (219445)",8140200308,null,null,9828120718,"alniyawas22",null,"N","Y",null,5,null,0]
[1,"A",4804,null,"manjeet23",null,"vijay23","beautiful23","F","2015-01-30","yes",23,null,null,"OBC",null,null,"GOVT. SENIOR SECONDARY SCHOOL ALNIYAWAS (219445)",8140200308,null,null,9828120719,"alniyawas23",null,"N","Y",null,5,null,1]
[1,"A",4806,null,"manjeet24",null,"vijay24","beautiful24","M","2014-02-17","no",24,null,null,"OBC",null,null,"GOVT. SENIOR SECONDARY SCHOOL ALNIYAWAS (219445)",8140200308,null,null,9828120720,"alniyawas24",null,"N","Y",null,6,null,0]
[1,"A",4872,null,"manjeet25",null,"vijay25","beautiful25","M","2014-11-29","yes",25,null,null,"OBC",null,null,"GOVT. SENIOR SECONDARY SCHOOL ALNIYAWAS (219445)",8140200308,null,null,9828120721,"alniyawas25",null,"N","Y",null,6,null,0]
[1,"A",4861,null,"manjeet26",null,"vijay26","beautiful26","F","2015-03-21","yes",26,null,null,"OBC",null,null,"GOVT. SENIOR SECONDARY SCHOOL ALNIYAWAS (219445)",8140200308,null,null,9828120722,"alniyawas26",null,"N","Y",null,5,null,1]
[2,"A",4718,"2019-07-12","manjeet27",null,"vijay27","beautiful27","F","2014-02-07","no",27,null,null,"OBC","Muslim",null,"GOVT. SENIOR SECONDARY SCHOOL ALNIYAWAS (219445)",8140200308,"XXXX0872","yswuiqb",9828120723,"alniyawas27",50000,"N","N","Yes",6,"None",0]
[2,"A",4729,"2019-07-13","manjeet28",null,"vijay28","beautiful28","M","2014-02-14","yes",28,null,null,"OBC","Muslim",null,"GOVT. SENIOR SECONDARY SCHOOL ALNIYAWAS (219445)",8140200308,"XXXX1543","vxozzoh",9828120724,"alniyawas28",50000,"N","N","Yes",6,"None",0]
[2,"A",4630,"2019-07-02","manjeet29",null,"vijay29","beautiful29","F","2014-04-22","yes",29,null,null,"OBC","Muslim",null,"GOVT. SENIOR SECONDARY SCHOOL ALNIYAWAS (219445)",8140200308,"XXXX2071",null,9828120725,"alniyawas29",60000,"N","N","Yes",6,"None",0]
[2,"A",4676,"2019-07-08","manjeet30",null,"vijay30","beautiful30","F","2014-11-05","no",30,null,null,"OBC","Muslim",null,"GOVT. SENIOR SECONDARY SCHOOL ALNIYAWAS (219445)",8140200308,null,null,9828120726,"alniyawas30",60000,"N","N","Yes",6,"None",0]
[2,"A",4710,"2019-07-11","manjeet31",null,"vijay31","beautiful31","F","2013-05-14","yes",31,null,null,"SC","Hindu",null,"GOVT. SENIOR SECONDARY SCHOOL ALNIYAWAS (219445)",8140200308,null,null,9828120727,"alniyawas31",50000,"N","N","No",7,"None",1]
[2,"A",4628,"2019-05-08","manjeet32",null,"vijay32","beautiful32","F","2014-04-26","yes",32,null,null,"OBC","Hindu",null,"GOVT. SENIOR SECONDARY SCHOOL ALNIYAWAS (219445)",8140200308,null,"vxkbntn",9828120728,"alniyawas32",50000,"N","N","No",6,"None",0]
[2,"A",4771,"2019-07-25","manjeet33",null,"vijay33","beautiful33","F","2013-10-15","no",33,null,null,"OBC","Hindu",null,"GOVT. SENIOR SECONDARY SCHOOL ALNIYAWAS (219445)",8140200308,null,"vpxbpxh",9828120729,"alniyawas33",60000,"N","N","No",7,"None",5]
[2,"A",4728,"2019-07-13","manjeet34",null,"vijay34","beautiful34","M","2014-02-08","yes",34,null,null,"OBC","Hindu",null,"GOVT. SENIOR SECONDARY SCHOOL ALNIYAWAS (219445)",8140200308,"XXXX1233","ymuicow",9828120730,"alniyawas34",50000,"N","N","No",6,"None",0]
[2,"A",4695,"2019-07-10","manjeet35",null,"vijay35","beautiful35","M","2014-04-16","yes",35,null,null,"OBC","Muslim",null,"GOVT. SENIOR SECONDARY SCHOOL ALNIYAWAS (219445)",8140200308,null,null,9828120731,"alniyawas35",60000,"N","N","Yes",6,"None",0]
[2,"A",4627,"2019-05-08","manjeet36",null,"vijay36","beautiful36","F","2014-03-09","no",36,null,null,"OBC","Hindu",null,"GOVT. SENIOR SECONDARY SCHOOL ALNIYAWAS (219445)",8140200308,null,null,9828120732,"alniyawas36",60000,"N","N","No",6,"None",0]
[2,"A",4711,"2019-07-11","manjeet37",null,"vijay37","beautiful37","F","2012-05-14","yes",37,null,null,"SC","Hindu",null,"GOVT. SENIOR SECONDARY SCHOOL ALNIYAWAS (219445)",8140200308,null,null,9828120733,"alniyawas37",200000,"N","N","No",8,"None",1]
[2,"A",4787,null,"manjeet38",null,"vijay38","beautiful38","F","2012-12-03","yes",38,null,null,"SC",null,null,"GOVT. SENIOR SECONDARY SCHOOL ALNIYAWAS (219445)",8140200308,null,null,9828120734,"alniyawas38",null,"N","Y",null,8,null,1]
[2,"A",4642,"2019-07-04","manjeet39",null,"vijay39","beautiful39","F","2015-01-01","no",39,null,null,"OBC","Muslim",null,"GOVT. SENIOR SECONDARY SCHOOL ALNIYAWAS (219445)",8140200308,null,"vvxsxhr",9828120735,"alniyawas39",60000,"N","N","Yes",5,"None",0]
[2,"A",4738,"2019-07-15","manjeet40",null,"vijay40","beautiful40","F","2013-05-05","yes",40,null,null,"SC","Hindu",null,"GOVT. SENIOR SECONDARY SCHOOL ALNIYAWAS (219445)",8140200308,null,"yobayib",9828120736,"alniyawas40",50000,"N","N","No",7,"None",0]
[2,"A",4690,"2019-07-09","manjeet41",null,"vijay41","beautiful41","M","2014-01-21","yes",41,null,null,"SC","Hindu",null,"GOVT. SENIOR SECONDARY SCHOOL ALNIYAWAS (219445)",8140200308,null,null,9828120737,"alniyawas41",60000,"N","N","No",6,"None",0]
[2,"A",4873,null,"manjeet42",null,"vijay42","beautiful42","M","2014-09-25","no",42,null,null,"OBC",null,null,"GOVT. SENIOR SECONDARY SCHOOL ALNIYAWAS (219445)",8140200308,null,null,9828120738,"alniyawas42",null,"N","Y",null,6,null,1]
[2,"A",4626,"2019-05-08","manjeet43",null,"vijay43","beautiful43","F","2014-02-01","yes",43,null,null,"OBC","Muslim",null,"GOVT. SENIOR SECONDARY SCHOOL ALNIYAWAS (219445)",8140200308,"XXXX4865",null,9828120739,"alniyawas43",60000,"N","N","Yes",6,"None",0]
[2,"A",4698,"2019-07-10","manjeet44",null,"vijay44","beautiful44","M","2012-07-09","yes",44,null,null,"OBC","Muslim",null,"GOVT. SENIOR SECONDARY SCHOOL ALNIYAWAS (219445)",8140200308,null,null,9828120740,"alniyawas44",50000,"N","N","Yes",8,"None",1]
[2,"A",4633,"2019-07-03","manjeet45",null,"vijay45","beautiful45","F","2012-11-02","no",45,null,null,"GEN","Muslim",null,"GOVT. SENIOR SECONDARY SCHOOL ALNIYAWAS (219445)",8140200308,"XXXX0826","tmsuucc",9828120741,"alniyawas45",60000,"N","N","Yes",8,"None",0]
[2,"A",4780,"2019-08-03","manjeet46",null,"vijay46","beautiful46","F","2014-06-23","yes",46,null,null,"OBC","Muslim",null,"GOVT. SENIOR SECONDARY SCHOOL ALNIYAWAS (219445)",8140200308,null,"ysqcywo",9828120742,"alniyawas46",60000,"N","N","Yes",6,"None",0]
[3,"A",4522,"2018-07-07","manjeet47",null,"vijay47","beautiful47","F","2012-12-31","yes",47,null,null,"OBC","Muslim",null,"GOVT. SENIOR SECONDARY SCHOOL ALNIYAWAS (219445)",8140200308,"XXXX8462","VXKBNTN",9828120743,"alniyawas47",40000,"N","N","Yes",8,"None",1]
[3,"A",4582,"2018-07-18","manjeet48",null,"vijay48","beautiful48","F","2012-12-07","no",48,null,null,"OBC","Muslim",null,"GOVT. SENIOR SECONDARY SCHOOL ALNIYAWAS (219445)",8140200308,null,null,9828120744,"alniyawas48",40000,"N","N","Yes",8,"None",0]
[3,"A",4620,"2018-09-24","manjeet49",null,"vijay49","beautiful49","M","2012-02-04","yes",49,null,null,"OBC","Muslim",null,"GOVT. SENIOR SECONDARY SCHOOL ALNIYAWAS (219445)",8140200308,"XXXX0705","YQQGUEG",9828120745,"alniyawas49",40000,"N","N","Yes",8,"None",0]
[3,"A",4581,"2018-07-18","manjeet50",null,"vijay50","beautiful50","M","2012-04-15","yes",50,null,null,"OBC","Hindu",null,"GOVT. SENIOR SECONDARY SCHOOL ALNIYAWAS (219445)",8140200308,"XXXX0449","VPWJVGR",9828120746,"alniyawas50",36000,"N","N","No",8,"None",1]
[3,"A",4855,null,"manjeet51",null,"vijay51","beautiful51","F","2012-10-10","no",51,null,null,"SBC",null,null,"GOVT. SENIOR SECONDARY SCHOOL ALNIYAWAS (219445)",8140200308,null,null,9828120747,"alniyawas51",null,"N","Y",null,8,null,1]
[3,"A",4526,"2018-07-07","manjeet52",null,"vijay52","beautiful52","F","2012-12-11","yes",52,null,null,"OBC","Muslim",null,"GOVT. SENIOR SECONDARY SCHOOL ALNIYAWAS (219445)",8140200308,"XXXX8261",null,9828120748,"alniyawas52",40000,"N","N","Yes",8,"None",0]
[3,"A",4610,"2018-08-02","manjeet53",null,"vijay53","beautiful53","F","2013-06-28","yes",53,null,null,"OBC","Muslim",null,"GOVT. SENIOR SECONDARY SCHOOL ALNIYAWAS (219445)",8140200308,"XXXX7614",null,9828120749,"alniyawas53",40000,"N","N","Yes",7,"None",0]
[3,"A",4591,"2018-07-21","manjeet54",null,"vijay54","beautiful54","F","2013-02-21","no",54,null,null,"OBC","Muslim",null,"GOVT. SENIOR SECONDARY SCHOOL ALNIYAWAS (219445)",8140200308,null,null,9828120750,"alniyawas54",40000,"N","N","Yes",7,"None",0]
[3,"A",4520,"2018-07-07","manjeet55",null,"vijay55","beautiful55","F","2013-10-01","yes",55,null,null,"OBC","Muslim",null,"GOVT. SENIOR SECONDARY SCHOOL ALNIYAWAS (219445)",8140200308,"XXXX9420","VONSWJT",9828120751,"alniyawas55",40000,"N","N","Yes",7,"None",0]
[3,"A",4480,"2018-07-04","manjeet56",null,"vijay56","beautiful56","F","2012-11-03","yes",56,null,null,"SC","Hindu",null,"GOVT. SENIOR SECONDARY SCHOOL ALNIYAWAS (219445)",8140200308,null,null,9828120752,"alniyawas56",40000,"N","N","No",8,"None",1]
[3,"A",4856,null,"manjeet57",null,"vijay57","beautiful57","M","2010-07-03","no",57,null,null,"GEN",null,null,"GOVT. SENIOR SECONDARY SCHOOL ALNIYAWAS (219445)",8140200308,null,null,9828120753,"alniyawas57",null,"N","Y",null,10,null,1]
[3,"A",4499,"2018-07-05","manjeet58",null,"vijay58","beautiful58","M","2010-12-11","yes",58,null,null,"OBC","Muslim",null,"GOVT. SENIOR SECONDARY SCHOOL ALNIYAWAS (219445)",8140200308,"XXXX0260",null,9828120754,"alniyawas58",40000,"N","N","Yes",10,"None",1]
[3,"A",4622,"2018-09-24","manjeet59",null,"vijay59","beautiful59","M","2012-01-07","yes",59,null,null,"OBC","Muslim",null,"GOVT. SENIOR SECONDARY SCHOOL ALNIYAWAS (219445)",8140200308,"XXXX9555","yqqmbcw",9828120755,"alniyawas59",36000,"N","N","Yes",8,"None",0]
[3,"A",4537,"2018-07-10","manjeet60",null,"vijay60","beautiful60","M","2013-06-14","no",60,null,null,"OBC","Hindu",null,"GOVT. SENIOR SECONDARY SCHOOL ALNIYAWAS (219445)",8140200308,"XXXX6106",null,9828120756,"alniyawas60",36000,"N","N","No",7,"None",1]
[3,"A",4565,"2018-07-14","manjeet61",null,"vijay61","beautiful61","M","2012-09-28","yes",61,null,null,"SC","Hindu",null,"GOVT. SENIOR SECONDARY SCHOOL ALNIYAWAS (219445)",8140200308,null,null,9828120757,"alniyawas61",36000,"N","N","No",8,"None",1]
[3,"A",4474,"2018-07-04","manjeet62",null,"vijay62","beautiful62","F","2013-04-26","yes",62,null,null,"OBC","Muslim",null,"GOVT. SENIOR SECONDARY SCHOOL ALNIYAWAS (219445)",8140200308,"XXXX2246",null,9828120758,"alniyawas62",30000,"N","N","Yes",7,"None",0]
[3,"A",4478,"2018-07-04","manjeet63",null,"vijay63","beautiful63","F","2012-09-06","no",63,null,null,"OBC","Hindu",null,"GOVT. SENIOR SECONDARY SCHOOL ALNIYAWAS (219445)",8140200308,"XXXX0646","vxkbntn",9828120759,"alniyawas63",50000,"N","N","No",8,"None",0]
[3,"A",4727,"2019-07-13","manjeet64",null,"vijay64","beautiful64","F","2013-01-07","yes",64,null,null,"OBC","Hindu",null,"GOVT. SENIOR SECONDARY SCHOOL ALNIYAWAS (219445)",8140200308,null,null,9828120760,"alniyawas64",60000,"N","N","No",7,"None",0]
[3,"A",4601,"2018-07-26","manjeet65",null,"vijay65","beautiful65","F","2012-06-05","yes",65,null,null,"OBC","Hindu",null,"GOVT. SENIOR SECONDARY SCHOOL ALNIYAWAS (219445)",8140200308,null,null,9828120761,"alniyawas65",36000,"N","N","No",8,"None",0]
[3,"A",4521,"2018-07-07","manjeet66",null,"vijay66","beautiful66","M","2013-05-29","no",66,null,null,"OBC","Muslim",null,"GOVT. SENIOR SECONDARY SCHOOL ALNIYAWAS (219445)",8140200308,"XXXX1195","YQGYEBS",9828120762,"alniyawas66",40000,"N","N","Yes",7,"None",0]
[3,"A",4473,"2018-07-04","manjeet67",null,"vijay67","beautiful67","M","2012-01-01","yes",67,null,null,"OBC","Muslim",null,"GOVT. SENIOR SECONDARY SCHOOL ALNIYAWAS (219445)",8140200308,null,"VWSPONV",9828120763,"alniyawas67",40000,"N","N","Yes",8,"None",1]
[3,"A",4475,"2018-07-04","manjeet68",null,"vijay68","beautiful68","F","2012-11-10","yes",68,null,null,"OBC","Muslim",null,"GOVT. SENIOR SECONDARY SCHOOL ALNIYAWAS (219445)",8140200308,null,null,9828120764,"alniyawas68",40000,"N","N","Yes",8,"None",0]
[3,"A",4611,"2018-08-07","manjeet69",null,"vijay69","beautiful69","F","2012-07-07","no",69,null,null,"OBC","Muslim",null,"GOVT. SENIOR SECONDARY SCHOOL ALNIYAWAS (219445)",8140200308,"XXXX3442","YMKQMYO",9828120765,"alniyawas69",40000,"N","N","Yes",8,"None",0]
[3,"A",4694,"2019-07-10","manjeet70",null,"vijay70","beautiful70","M","2010-06-07","yes",70,null,null,"OBC","Muslim",null,"GOVT. SENIOR SECONDARY SCHOOL ALNIYAWAS (219445)",8140200308,null,null,9828120766,"alniyawas70",60000,"N","N","Yes",10,"None",0]
[3,"A",4527,"2018-07-07","manjeet71",null,"vijay71","beautiful71","M","2013-06-28","yes",71,null,null,"OBC","Muslim",null,"GOVT. SENIOR SECONDARY SCHOOL ALNIYAWAS (219445)",8140200308,null,"VPGZNOJ",9828120767,"alniyawas71",40000,"N","N","Yes",7,"None",0]
[3,"A",4538,"2018-07-10","manjeet72",null,"vijay72","beautiful72","M","2013-01-01","no",72,null,null,"OBC","Hindu",null,"GOVT. SENIOR SECONDARY SCHOOL ALNIYAWAS (219445)",8140200308,"XXXX4404",null,9828120768,"alniyawas72",40000,"N","N","No",7,"None",2]
[3,"A",4497,"2018-07-05","manjeet73",null,"vijay73","beautiful73","F","2012-05-07","yes",73,null,null,"SC","Muslim",null,"GOVT. SENIOR SECONDARY SCHOOL ALNIYAWAS (219445)",8140200308,"XXXX3195","VBGRPSH",9828120769,"alniyawas73",36000,"N","N","Yes",8,"None",1]
[3,"A",4700,"2019-07-10","manjeet74",null,"vijay74","beautiful74","M","2012-05-08","yes",74,null,null,"SC","Hindu",null,"GOVT. SENIOR SECONDARY SCHOOL ALNIYAWAS (219445)",8140200308,null,null,9828120770,"alniyawas74",60000,"N","N","No",8,"None",0]
[3,"A",4691,"2019-07-09","manjeet75",null,"vijay75","beautiful75","F","2013-01-21","no",75,null,null,"SC","Hindu",null,"GOVT. SENIOR SECONDARY SCHOOL ALNIYAWAS (219445)",8140200308,null,null,9828120771,"alniyawas75",60000,"N","N","No",7,"None",1]
[3,"A",4621,"2018-09-24","manjeet76",null,"vijay76","beautiful76","F","2012-03-02","yes",76,null,null,"OBC","Muslim",null,"GOVT. SENIOR SECONDARY SCHOOL ALNIYAWAS (219445)",8140200308,null,"YIEUBQF",9828120772,"alniyawas76",40000,"N","N","Yes",8,"None",0]
[3,"A",4750,"2019-07-17","manjeet77",null,"vijay77","beautiful77","M","2011-11-07","yes",77,null,null,"SC","Hindu",null,"GOVT. SENIOR SECONDARY SCHOOL ALNIYAWAS (219445)",8140200308,"XXXX9540",null,9828120773,"alniyawas77",60000,"N","N","No",9,"None",0]
[3,"A",4477,"2018-07-04","manjeet78",null,"vijay78","beautiful78","M","2012-11-15","no",78,null,null,"SC","Hindu",null,"GOVT. SENIOR SECONDARY SCHOOL ALNIYAWAS (219445)",8140200308,"XXXX5557","YBCQKQK",9828120774,"alniyawas78",40000,"N","N","No",8,"None",1]
[4,"A",4367,"2017-07-10","manjeet79",null,"vijay79","beautiful79","F","2012-04-09","yes",79,null,null,"OBC","Muslim",null,"GOVT. SENIOR SECONDARY SCHOOL ALNIYAWAS (219445)",8140200308,"XXXX4827",null,9828120775,"alniyawas79",35000,"N","N","Yes",8,"None",1]
[4,"A",4277,"2017-06-29","manjeet80",null,"vijay80","beautiful80","F","2010-12-08","yes",80,null,null,"OBC",null,null,"GOVT. SENIOR SECONDARY SCHOOL ALNIYAWAS (219445)",8140200308,"XXXX3992",null,9828120776,"alniyawas80",48000,"N","N",null,10,"None",1]
[4,"A",4370,"2017-07-10","manjeet81",null,"vijay81","beautiful81","M","2011-06-03","no",81,null,null,"OBC","Muslim",null,"GOVT. SENIOR SECONDARY SCHOOL ALNIYAWAS (219445)",8140200308,"XXXX8044",null,9828120777,"alniyawas81",40000,"N","N","Yes",9,"None",1]
[4,"A",4673,"2019-07-08","manjeet82",null,"vijay82","beautiful82","M","2010-05-06","yes",82,null,null,"OBC","Muslim",null,"GOVT. SENIOR SECONDARY SCHOOL ALNIYAWAS (219445)",8140200308,"XXXX7051","ymwegoc",9828120778,"alniyawas82",60000,"Y","N","Yes",10,"None",0]
[4,"A",4431,"2017-08-25","manjeet83",null,"vijay83","beautiful83","F","2012-08-03","yes",83,null,null,"OBC","Muslim",null,"GOVT. SENIOR SECONDARY SCHOOL ALNIYAWAS (219445)",8140200308,"XXXX1922",null,9828120779,"alniyawas83",30000,"N","N","Yes",8,"None",1]
[4,"A",4433,"2017-08-25","manjeet84",null,"vijay84","beautiful84","M","2012-03-04","no",84,null,null,"OBC","Hindu",null,"GOVT. SENIOR SECONDARY SCHOOL ALNIYAWAS (219445)",8140200308,null,null,9828120780,"alniyawas84",50000,"N","N","No",8,"None",1]
[4,"A",4337,"2017-07-04","manjeet85",null,"vijay85","beautiful85","F","2010-07-10","yes",85,null,null,"OBC","Muslim",null,"GOVT. SENIOR SECONDARY SCHOOL ALNIYAWAS (219445)",8140200308,"XXXX5784",null,9828120781,"alniyawas85",0,"N","N","Yes",10,"None",1]
[4,"A",4438,"2017-09-05","manjeet86",null,"vijay86","beautiful86","M","2007-01-01","yes",86,null,null,"SC","Hindu",null,"GOVT. SENIOR SECONDARY SCHOOL ALNIYAWAS (219445)",8140200308,"XXXX1370",null,9828120782,"alniyawas86",0,"N","N","No",13,"None",1]
[4,"A",4500,"2018-07-05","manjeet87",null,"vijay87","beautiful87","F","2011-04-04","no",87,null,null,"OBC","Hindu",null,"GOVT. SENIOR SECONDARY SCHOOL ALNIYAWAS (219445)",8140200308,"XXXX5702",null,9828120783,"alniyawas87",40000,"N","N","No",9,"None",3]
[4,"A",4439,"2017-11-28","manjeet88",null,"vijay88","beautiful88","F","2011-07-07","yes",88,null,null,"SC","Hindu",null,"GOVT. SENIOR SECONDARY SCHOOL ALNIYAWAS (219445)",8140200308,"XXXX4151",null,9828120784,"alniyawas88",400000,"N","N","No",9,"None",1]
[4,"A",4368,"2017-07-10","manjeet89",null,"vijay89","beautiful89","F","2012-05-03","yes",89,null,null,"OBC","Muslim",null,"GOVT. SENIOR SECONDARY SCHOOL ALNIYAWAS (219445)",8140200308,"XXXX4896",null,9828120785,"alniyawas89",35000,"Y","N","Yes",8,"None",1]
[4,"A",4335,"2017-07-04","manjeet90",null,"vijay90","beautiful90","F","2008-01-15","no",90,null,null,"OBC","Muslim",null,"GOVT. SENIOR SECONDARY SCHOOL ALNIYAWAS (219445)",8140200308,null,null,9828120786,"alniyawas90",0,"N","N","Yes",12,"None",1]
[4,"A",4333,"2017-07-04","manjeet91",null,"vijay91","beautiful91","F","2012-05-15","yes",91,null,null,"OBC","Hindu",null,"GOVT. SENIOR SECONDARY SCHOOL ALNIYAWAS (219445)",8140200308,null,null,9828120787,"alniyawas91",0,"N","N","No",8,"None",1]
[4,"A",4371,"2017-07-10","manjeet92",null,"vijay92","beautiful92","F","2011-05-02","yes",92,null,null,"OBC","Hindu",null,"GOVT. SENIOR SECONDARY SCHOOL ALNIYAWAS (219445)",8140200308,"XXXX3157",null,9828120788,"alniyawas92",35000,"N","N","No",9,"None",1]
[4,"A",4857,null,"manjeet93",null,"vijay93","beautiful93","F","2013-01-01","no",93,null,null,"OBC",null,null,"GOVT. SENIOR SECONDARY SCHOOL ALNIYAWAS (219445)",8140200308,null,null,9828120789,"alniyawas93",null,"N","Y",null,7,null,1]
[4,"A",4283,"2017-06-29","manjeet94",null,"vijay94","beautiful94","F","2012-07-09","yes",94,null,null,"OBC","Hindu",null,"GOVT. SENIOR SECONDARY SCHOOL ALNIYAWAS (219445)",8140200308,"XXXX9015",null,9828120790,"alniyawas94",48000,"N","N","No",8,"None",1]
[4,"A",4326,"2017-07-04","manjeet95",null,"vijay95","beautiful95","M","2012-06-10","yes",95,null,null,"OBC",null,null,"GOVT. SENIOR SECONDARY SCHOOL ALNIYAWAS (219445)",8140200308,"XXXX7339",null,9828120791,"alniyawas95",0,"N","N",null,8,"None",1]
[4,"A",4699,"2019-07-10","manjeet96",null,"vijay96","beautiful96","M","2010-07-07","no",96,null,null,"SC","Hindu",null,"GOVT. SENIOR SECONDARY SCHOOL ALNIYAWAS (219445)",8140200308,null,null,9828120792,"alniyawas96",60000,"N","N","No",10,"None",0]
[4,"A",4336,"2017-07-04","manjeet97",null,"vijay97","beautiful97","F","2009-03-10","yes",97,null,null,"OBC","Muslim",null,"GOVT. SENIOR SECONDARY SCHOOL ALNIYAWAS (219445)",8140200308,"XXXX0687",null,9828120793,"alniyawas97",0,"N","N","Yes",11,"None",1]
[4,"A",4276,"1900-05-29","manjeet98",null,"vijay98","beautiful98","M","2012-02-15","yes",98,null,null,"SC","Hindu",null,"GOVT. SENIOR SECONDARY SCHOOL ALNIYAWAS (219445)",8140200308,"XXXX3171",null,9828120794,"alniyawas98",35000,"N","N","No",8,"None",1]
[4,"A",4324,"2017-07-04","manjeet99",null,"vijay99","beautiful99","F","2011-06-02","no",99,null,null,"OBC","Muslim",null,"GOVT. SENIOR SECONDARY SCHOOL ALNIYAWAS (219445)",8140200308,"XXXX7296",null,9828120795,"alniyawas99",0,"N","N","Yes",9,"None",1]
[4,"A",4339,"2017-07-04","manjeet100",null,"vijay100","beautiful100","M","2010-07-15","yes",100,null,null,"OBC","Muslim",null,"GOVT. SENIOR SECONDARY SCHOOL ALNIYAWAS (219445)",8140200308,"XXXX0709",null,9828120796,"alniyawas100",35000,"N","N","Yes",10,"None",1]
[4,"A",4325,"2017-07-04","manjeet101",null,"vijay101","beautiful101","F","2011-06-15","yes",101,null,null,"OBC","Hindu",null,"GOVT. SENIOR SECONDARY SCHOOL ALNIYAWAS (219445)",8140200308,"XXXX5554",null,9828120797,"alniyawas101",0,"N","N","No",9,"None",1]
[4,"A",4435,"2017-08-25","manjeet102",null,"vijay102","beautiful102","F","2011-01-03","no",102,null,null,"OBC","Muslim",null,"GOVT. SENIOR SECONDARY SCHOOL ALNIYAWAS (219445)",8140200308,"XXXX3683",null,9828120798,"alniyawas102",0,"N","N","Yes",9,"None",1]
[4,"A",4419,"2017-07-18","manjeet103",null,"vijay103","beautiful103","M","2011-05-07","yes",103,null,null,"OBC","Muslim",null,"GOVT. SENIOR SECONDARY SCHOOL ALNIYAWAS (219445)",8140200308,null,null,9828120799,"alniyawas103",35000,"N","N","Yes",9,"None",1]
[4,"A",4437,"2017-08-29","manjeet104",null,"vijay104","beautiful104","M","2012-04-09","yes",104,null,null,"OBC","Muslim",null,"GOVT. SENIOR SECONDARY SCHOOL ALNIYAWAS (219445)",8140200308,"XXXX3496",null,9828120800,"alniyawas104",35000,"N","N","Yes",8,"None",1]
[4,"A",4369,"2017-07-10","manjeet105",null,"vijay105","beautiful105","M","2012-03-05","no",105,null,null,"OBC","Muslim",null,"GOVT. SENIOR SECONDARY SCHOOL ALNIYAWAS (219445)",8140200308,"XXXX5376",null,9828120801,"alniyawas105",50000,"N","N","Yes",8,"None",1]
[4,"A",4275,"1900-05-29","manjeet106",null,"vijay106","beautiful106","M","2011-12-04","yes",106,null,null,"OBC","Hindu",null,"GOVT. SENIOR SECONDARY SCHOOL ALNIYAWAS (219445)",8140200308,"XXXX3171",null,9828120802,"alniyawas106",48000,"N","N","No",9,"None",1]
[4,"A",4434,"2017-08-25","manjeet107",null,"vijay107","beautiful107","F","2012-07-05","yes",107,null,null,"OBC","Muslim",null,"GOVT. SENIOR SECONDARY SCHOOL ALNIYAWAS (219445)",8140200308,"XXXX7810",null,9828120803,"alniyawas107",42000,"N","N","Yes",8,"None",0]
[4,"A",4436,"2017-08-29","manjeet108",null,"vijay108","beautiful108","F","2012-04-09","no",108,null,null,"OBC","Muslim",null,"GOVT. SENIOR SECONDARY SCHOOL ALNIYAWAS (219445)",8140200308,"XXXX4652",null,9828120804,"alniyawas108",35000,"N","N","Yes",8,"None",1]
[4,"A",4432,"2017-08-25","manjeet109",null,"vijay109","beautiful109","F","2012-08-03","yes",109,null,null,"OBC","Muslim",null,"GOVT. SENIOR SECONDARY SCHOOL ALNIYAWAS (219445)",8140200308,"XXXX8434",null,9828120805,"alniyawas109",48000,"N","N","Yes",8,"None",0]
[4,"A",4307,"2017-07-01","manjeet110",null,"vijay110","beautiful110","F","2012-01-01","yes",110,null,null,"OBC","Muslim",null,"GOVT. SENIOR SECONDARY SCHOOL ALNIYAWAS (219445)",8140200308,"XXXX6069",null,9828120806,"alniyawas110",0,"N","N","Yes",8,"None",1]
[4,"A",4323,"2017-07-04","manjeet111","Late","vijay111","beautiful111","M","2009-01-01","no",111,null,null,"SC","Hindu",null,"GOVT. SENIOR SECONDARY SCHOOL ALNIYAWAS (219445)",8140200308,"XXXX8740",null,9828120807,"alniyawas111",20000,"N","N","No",11,"None",1]
[4,"A",4338,"2017-07-04","manjeet112",null,"vijay112","beautiful112","M","2011-07-13","yes",112,null,null,"OBC",null,null,"GOVT. SENIOR SECONDARY SCHOOL ALNIYAWAS (219445)",8140200308,null,null,9828120808,"alniyawas112",0,"N","N",null,9,"None",1]
[5,"A",4290,"2017-06-30","manjeet113",null,"vijay113","beautiful113","F","2010-01-01","yes",113,null,null,"OBC","Muslim",null,"GOVT. SENIOR SECONDARY SCHOOL ALNIYAWAS (219445)",8140200308,"XXXX5164",null,9828120809,"alniyawas113",35000,"N","N","Yes",10,"None",1]
[5,"A",4304,"2017-07-01","manjeet114",null,"vijay114","beautiful114","M","2005-06-10","no",114,null,null,"GEN","Hindu",null,"GOVT. SENIOR SECONDARY SCHOOL ALNIYAWAS (219445)",8140200308,"XXXX3283",null,9828120810,"alniyawas114",40000,"N","N","No",15,"None",1]
[5,"A",4246,"2016-08-05","manjeet115",null,"vijay115","beautiful115","M","2010-07-05","yes",115,null,null,"OBC","Muslim",null,"GOVT. SENIOR SECONDARY SCHOOL ALNIYAWAS (219445)",8140200308,null,null,9828120811,"alniyawas115",0,"N","N","Yes",10,"None",1]
[5,"A",4740,"2019-07-15","manjeet116",null,"vijay116","beautiful116","M","2009-07-05","yes",116,null,null,"SC","Hindu",null,"GOVT. SENIOR SECONDARY SCHOOL ALNIYAWAS (219445)",8140200308,null,null,9828120812,"alniyawas116",50000,"N","N","No",11,"None",1]
[5,"A",4193,"2016-07-11","manjeet117",null,"vijay117","beautiful117","M","2010-05-07","no",117,null,null,"OBC",null,null,"GOVT. SENIOR SECONDARY SCHOOL ALNIYAWAS (219445)",8140200308,"XXXX5083",null,9828120813,"alniyawas117",0,"N","N",null,10,"None",0]
[5,"A",4109,"2016-06-28","manjeet118",null,"vijay118","beautiful118","F","2010-06-25","yes",118,null,null,"OBC","Muslim",null,"GOVT. SENIOR SECONDARY SCHOOL ALNIYAWAS (219445)",8140200308,null,null,9828120814,"alniyawas118",45000,"N","N","Yes",10,"None",1]
[5,"A",4248,"2016-08-11","manjeet119",null,"vijay119","beautiful119","M","2010-07-05","yes",119,null,null,"OBC","Muslim",null,"GOVT. SENIOR SECONDARY SCHOOL ALNIYAWAS (219445)",8140200308,"XXXX7100",null,9828120815,"alniyawas119",0,"N","N","Yes",10,"None",1]
[5,"A",4167,"2016-07-04","manjeet120",null,"vijay120","beautiful120","F","2011-05-07","no",120,null,null,"OBC","Hindu",null,"GOVT. SENIOR SECONDARY SCHOOL ALNIYAWAS (219445)",8140200308,"XXXX4049",null,9828120816,"alniyawas120",0,"N","N","No",9,"None",1]
[5,"A",4589,"2018-07-21","manjeet121",null,"vijay121","beautiful121","M","2011-03-01","yes",121,null,null,"OBC","Hindu",null,"GOVT. SENIOR SECONDARY SCHOOL ALNIYAWAS (219445)",8140200308,"XXXX2976",null,9828120817,"alniyawas121",40000,"N","N","No",9,"None",0]
[5,"A",4257,"2016-11-24","manjeet122",null,"vijay122","beautiful122","M","2011-04-05","yes",122,null,null,"OBC","Muslim",null,"GOVT. SENIOR SECONDARY SCHOOL ALNIYAWAS (219445)",8140200308,"XXXX8178",null,9828120818,"alniyawas122",0,"N","N","Yes",9,"None",1]
[5,"A",4122,"2016-06-30","manjeet123",null,"vijay123","beautiful123","F","2008-06-11","no",123,null,null,"OBC",null,null,"GOVT. SENIOR SECONDARY SCHOOL ALNIYAWAS (219445)",8140200308,"XXXX0920",null,9828120819,"alniyawas123",0,"N","N",null,12,"None",1]
[5,"A",4110,"2016-06-28","manjeet124",null,"vijay124","beautiful124","M","2011-05-15","yes",124,null,null,"OBC","Muslim",null,"GOVT. SENIOR SECONDARY SCHOOL ALNIYAWAS (219445)",8140200308,"XXXX6056",null,9828120820,"alniyawas124",45000,"N","N","Yes",9,"None",1]
[5,"A",4250,"2016-08-16","manjeet125",null,"vijay125","beautiful125","M","2009-05-07","yes",125,null,null,"OBC","Muslim",null,"GOVT. SENIOR SECONDARY SCHOOL ALNIYAWAS (219445)",8140200308,"XXXX9983",null,9828120821,"alniyawas125",0,"N","N","Yes",11,"None",1]
[5,"A",4674,"2019-07-08","manjeet126",null,"vijay126","beautiful126","M","2007-09-04","no",126,null,null,"OBC","Muslim",null,"GOVT. SENIOR SECONDARY SCHOOL ALNIYAWAS (219445)",8140200308,"XXXX0503",null,9828120822,"alniyawas126",60000,"N","N","Yes",13,"None",0]
[5,"A",4672,"2019-07-08","manjeet127",null,"vijay127","beautiful127","M","2007-12-05","yes",127,null,null,"OBC","Muslim",null,"GOVT. SENIOR SECONDARY SCHOOL ALNIYAWAS (219445)",8140200308,null,"vpsncvp",9828120823,"alniyawas127",50000,"N","N","Yes",13,"None",0]
[5,"A",4117,"2016-06-28","manjeet128",null,"vijay128","beautiful128","F","2010-07-21","yes",128,null,null,"OBC",null,null,"GOVT. SENIOR SECONDARY SCHOOL ALNIYAWAS (219445)",8140200308,"XXXX5444",null,9828120824,"alniyawas128",0,"N","N",null,10,"None",1]
[5,"A",4802,null,"manjeet129",null,"vijay129","beautiful129","F","2011-01-14","no",129,null,null,"OBC",null,null,"GOVT. SENIOR SECONDARY SCHOOL ALNIYAWAS (219445)",8140200308,null,null,9828120825,"alniyawas129",null,"N","Y",null,9,null,1]
[5,"A",4131,"2016-07-01","manjeet130",null,"vijay130","beautiful130","F","2008-03-05","yes",130,null,null,"OBC","Hindu",null,"GOVT. SENIOR SECONDARY SCHOOL ALNIYAWAS (219445)",8140200308,"XXXX4024",null,9828120826,"alniyawas130",40000,"N","N","No",12,"None",1]
[5,"A",4652,"2019-07-05","manjeet131",null,"vijay131","beautiful131","M","2007-12-10","yes",131,null,null,"OBC","Hindu",null,"GOVT. SENIOR SECONDARY SCHOOL ALNIYAWAS (219445)",8140200308,"XXXX4312",null,9828120827,"alniyawas131",60000,"N","N","No",13,"None",7]
[5,"A",4722,"2019-07-12","manjeet132",null,"vijay132","beautiful132","M","2009-01-01","no",132,null,null,"SBC","Hindu",null,"GOVT. SENIOR SECONDARY SCHOOL ALNIYAWAS (219445)",8140200308,"XXXX1833","vpsgoov",9828120828,"alniyawas132",60000,"N","N","No",11,"None",1]
[5,"A",4692,"2019-07-09","manjeet133",null,"vijay133","beautiful133","M","2008-07-07","yes",133,null,null,"SC","Hindu",null,"GOVT. SENIOR SECONDARY SCHOOL ALNIYAWAS (219445)",8140200308,"XXXX8939","vpjwnct",9828120829,"alniyawas133",60000,"N","N","No",12,"None",1]
[5,"A",4749,"2019-07-17","manjeet134",null,"vijay134","beautiful134","M","2010-05-06","yes",134,null,null,"SC","Hindu",null,"GOVT. SENIOR SECONDARY SCHOOL ALNIYAWAS (219445)",8140200308,"XXXX1516",null,9828120830,"alniyawas134",50000,"N","N","No",10,"None",2]
[5,"A",4742,"2019-07-16","manjeet135",null,"vijay135","beautiful135","F","2010-01-01","no",135,null,null,"OBC","Hindu",null,"GOVT. SENIOR SECONDARY SCHOOL ALNIYAWAS (219445)",8140200308,"XXXX9240","ymukugo",9828120831,"alniyawas135",50000,"N","N","No",10,"None",2]
[5,"A",4878,null,"manjeet136",null,"vijay136","beautiful136","M","2008-07-04","yes",136,null,null,"OBC",null,null,"GOVT. SENIOR SECONDARY SCHOOL ALNIYAWAS (219445)",8140200308,null,null,9828120832,"alniyawas136",null,"N","Y",null,12,null,1]
[5,"A",4255,"2016-11-24","manjeet137",null,"vijay137","beautiful137","M","2010-03-07","yes",137,null,null,"OBC","Muslim",null,"GOVT. SENIOR SECONDARY SCHOOL ALNIYAWAS (219445)",8140200308,"XXXX7818",null,9828120833,"alniyawas137",0,"N","N","Yes",10,"None",1]
[5,"A",4258,"2016-11-26","manjeet138",null,"vijay138","beautiful138","M","2010-07-07","no",138,null,null,"OBC","Muslim",null,"GOVT. SENIOR SECONDARY SCHOOL ALNIYAWAS (219445)",8140200308,"XXXX0810",null,9828120834,"alniyawas138",0,"N","N","Yes",10,"None",1]
[5,"A",4100,"2016-05-09","manjeet139",null,"vijay139","beautiful139","F","2010-11-05","yes",139,null,null,"OBC","Muslim",null,"GOVT. SENIOR SECONDARY SCHOOL ALNIYAWAS (219445)",8140200308,"XXXX4370",null,9828120835,"alniyawas139",0,"N","N","Yes",10,"None",1]
[5,"A",4245,"2016-08-05","manjeet140",null,"vijay140","beautiful140","M","2010-05-02","yes",140,null,null,"OBC","Muslim",null,"GOVT. SENIOR SECONDARY SCHOOL ALNIYAWAS (219445)",8140200308,"XXXX3401",null,9828120836,"alniyawas140",0,"N","N","Yes",10,"None",1]
[5,"A",4206,"2016-07-15","manjeet141",null,"vijay141","beautiful141","F","2010-07-02","no",141,null,null,"OBC","Muslim",null,"GOVT. SENIOR SECONDARY SCHOOL ALNIYAWAS (219445)",8140200308,null,null,9828120837,"alniyawas141",0,"N","N","Yes",10,"None",1]
[5,"A",4602,"2018-07-26","manjeet142",null,"vijay142","beautiful142","M","2009-06-14","yes",142,null,null,"OBC","Hindu",null,"GOVT. SENIOR SECONDARY SCHOOL ALNIYAWAS (219445)",8140200308,"XXXX1553","VPWJVGR",9828120838,"alniyawas142",40000,"N","N","No",11,"None",0]
[5,"A",4132,"2016-07-01","manjeet143",null,"vijay143","beautiful143","F","2009-06-05","yes",143,null,null,"OBC","Hindu",null,"GOVT. SENIOR SECONDARY SCHOOL ALNIYAWAS (219445)",8140200308,"XXXX9502",null,9828120839,"alniyawas143",45000,"N","N","No",11,"None",1]
[5,"A",4130,"2016-07-01","manjeet144",null,"vijay144","beautiful144","F","2010-06-07","no",144,null,null,"OBC","Hindu",null,"GOVT. SENIOR SECONDARY SCHOOL ALNIYAWAS (219445)",8140200308,"XXXX5336",null,9828120840,"alniyawas144",0,"N","N","No",10,"None",1]
[5,"A",4244,"2016-08-05","manjeet145",null,"vijay145","beautiful145","M","2008-07-05","yes",145,null,null,"OBC","Muslim",null,"GOVT. SENIOR SECONDARY SCHOOL ALNIYAWAS (219445)",8140200308,"XXXX1035",null,9828120841,"alniyawas145",0,"N","N","Yes",12,"None",1]
[5,"A",4254,"2016-11-24","manjeet146",null,"vijay146","beautiful146","F","2010-09-04","yes",146,null,null,"OBC","Muslim",null,"GOVT. SENIOR SECONDARY SCHOOL ALNIYAWAS (219445)",8140200308,"XXXX6313",null,9828120842,"alniyawas146",0,"N","N","Yes",10,"None",1]
[5,"A",4101,"2016-05-09","manjeet147",null,"vijay147","beautiful147","M","2011-02-28","no",147,null,null,"OBC","Muslim",null,"GOVT. SENIOR SECONDARY SCHOOL ALNIYAWAS (219445)",8140200308,"XXXX8546",null,9828120843,"alniyawas147",45000,"N","N","Yes",9,"None",0]
[5,"A",4129,"2016-07-01","manjeet148",null,"vijay148","beautiful148","F","2011-04-02","yes",148,null,null,"OBC","Hindu",null,"GOVT. SENIOR SECONDARY SCHOOL ALNIYAWAS (219445)",8140200308,"XXXX7714",null,9828120844,"alniyawas148",0,"N","N","No",9,"None",1]
[5,"A",4256,"2016-11-24","manjeet149",null,"vijay149","beautiful149","F","2010-10-11","yes",149,null,null,"OBC","Muslim",null,"GOVT. SENIOR SECONDARY SCHOOL ALNIYAWAS (219445)",8140200308,"XXXX5194",null,9828120845,"alniyawas149",0,"N","N","Yes",10,"None",1]
[5,"A",4118,"2016-06-29","manjeet150",null,"vijay150","beautiful150","M","2010-09-04","no",150,null,null,"OBC","Muslim",null,"GOVT. SENIOR SECONDARY SCHOOL ALNIYAWAS (219445)",8140200308,null,null,9828120846,"alniyawas150",0,"N","N","Yes",10,"None",1]
[5,"A",4102,"2016-05-09","manjeet151",null,"vijay151","beautiful151","M","2009-05-05","yes",151,null,null,"OBC","Muslim",null,"GOVT. SENIOR SECONDARY SCHOOL ALNIYAWAS (219445)",8140200308,"XXXX3042",null,9828120847,"alniyawas151",0,"N","N","Yes",11,"None",1]
[5,"A",4099,"2016-05-09","manjeet152",null,"vijay152","beautiful152","F","2011-02-07","yes",152,null,null,"SC","Hindu",null,"GOVT. SENIOR SECONDARY SCHOOL ALNIYAWAS (219445)",8140200308,"XXXX1761",null,9828120848,"alniyawas152",48000,"N","N","No",9,"None",1]
[5,"A",4224,"2016-07-19","manjeet153",null,"vijay153","beautiful153","M","2010-07-15","no",153,null,null,"OBC","Hindu",null,"GOVT. SENIOR SECONDARY SCHOOL ALNIYAWAS (219445)",8140200308,null,null,9828120849,"alniyawas153",0,"N","N","No",10,"None",0]
[5,"A",4501,"2018-07-05","manjeet154",null,"vijay154","beautiful154","F","2010-06-15","yes",154,null,null,"SC","Hindu",null,"GOVT. SENIOR SECONDARY SCHOOL ALNIYAWAS (219445)",8140200308,"XXXX4383","VBJRPSH",9828120850,"alniyawas154",36000,"N","Y","No",10,"None",1]
[6,"A",4714,"2015-08-19","manjeet155",null,"vijay155","beautiful155","F","2009-07-30","yes",155,null,null,"OBC","Hindu",null,"GOVT. SENIOR SECONDARY SCHOOL ALNIYAWAS (219445)",8140200308,"XXXX3631",null,9828120851,"alniyawas155",40000,"N","N","No",11,"None",2]
[6,"A",4015,"2015-07-08","manjeet156",null,"vijay156","beautiful156","M","2010-07-10","no",156,null,null,"OBC","Muslim",null,"GOVT. SENIOR SECONDARY SCHOOL ALNIYAWAS (219445)",8140200308,"XXXX5363",null,9828120852,"alniyawas156",100000,"N","N","Yes",10,"None",1]
[6,"A",3956,"2015-06-30","manjeet157",null,"vijay157","beautiful157","F","2010-05-05","yes",157,null,null,"OBC","Muslim",null,"GOVT. SENIOR SECONDARY SCHOOL ALNIYAWAS (219445)",8140200308,null,null,9828120853,"alniyawas157",0,"N","N","Yes",10,"None",1]
[6,"A",4088,"2015-08-01","manjeet158",null,"vijay158","beautiful158","F","2009-07-05","yes",158,null,null,"OBC","Muslim",null,"GOVT. SENIOR SECONDARY SCHOOL ALNIYAWAS (219445)",8140200308,"XXXX3649",null,9828120854,"alniyawas158",0,"N","N","Yes",11,"None",1]
[6,"A",4049,"2015-07-10","manjeet159",null,"vijay159","beautiful159","M","2009-02-05","no",159,null,null,"OBC","Muslim",null,"GOVT. SENIOR SECONDARY SCHOOL ALNIYAWAS (219445)",8140200308,"XXXX7740",null,9828120855,"alniyawas159",100000,"N","N","Yes",11,"None",1]
[6,"A",4876,"2018-07-02","manjeet160",null,"vijay160","beautiful160","F","2009-06-22","yes",160,null,null,"GEN","Hindu",null,"GOVT. SENIOR SECONDARY SCHOOL ALNIYAWAS (219445)",8140200308,"XXXX4846","YACYBEG",9828120856,"alniyawas160",50000,"N","N","No",11,"None",1]
[6,"A",3995,"2015-07-06","manjeet161",null,"vijay161","beautiful161","M","2010-04-09","yes",161,null,null,"OBC","Muslim",null,"GOVT. SENIOR SECONDARY SCHOOL ALNIYAWAS (219445)",8140200308,"XXXX7960",null,9828120857,"alniyawas161",0,"N","N","Yes",10,"None",1]
[6,"A",4046,"2015-07-10","manjeet162",null,"vijay162","beautiful162","M","2010-02-01","no",162,null,null,"OBC","Hindu",null,"GOVT. SENIOR SECONDARY SCHOOL ALNIYAWAS (219445)",8140200308,null,null,9828120858,"alniyawas162",0,"N","N","No",10,"None",2]
[6,"A",4440,"2018-05-05","manjeet163",null,"vijay163","beautiful163","M","2009-05-10","yes",163,null,null,"SC","Hindu",null,"GOVT. SENIOR SECONDARY SCHOOL ALNIYAWAS (219445)",8140200308,"XXXX1311","YBCOKQK",9828120859,"alniyawas163",60000,"N","N","No",11,"None",2]
[6,"A",4519,"2018-07-07","manjeet164",null,"vijay164","beautiful164","M","2008-08-09","yes",164,null,null,"OBC","Muslim",null,"GOVT. SENIOR SECONDARY SCHOOL ALNIYAWAS (219445)",8140200308,"XXXX0428",null,9828120860,"alniyawas164",45000,"N","N","Yes",12,"None",0]
[6,"A",4739,"2019-07-15","manjeet165",null,"vijay165","beautiful165","M","2007-07-05","no",165,null,null,"SC","Hindu",null,"GOVT. SENIOR SECONDARY SCHOOL ALNIYAWAS (219445)",8140200308,"XXXX2216",null,9828120861,"alniyawas165",50000,"N","N","No",13,"None",1]
[6,"A",4567,"2018-07-14","manjeet166",null,"vijay166","beautiful166","M","2009-03-05","yes",166,null,null,"OBC","Hindu",null,"GOVT. SENIOR SECONDARY SCHOOL ALNIYAWAS (219445)",8140200308,"XXXX8778",null,9828120862,"alniyawas166",40000,"N","N","No",11,"None",1]
[6,"A",3938,"2015-05-12","manjeet167",null,"vijay167","beautiful167","F","2010-03-02","yes",167,null,null,"SC","Hindu",null,"GOVT. SENIOR SECONDARY SCHOOL ALNIYAWAS (219445)",8140200308,"XXXX8675",null,9828120863,"alniyawas167",0,"N","N","No",10,"None",1]
[6,"A",4819,"2014-07-02","manjeet168",null,"vijay168","beautiful168","F","2008-12-10","no",168,null,null,"OBC","Hindu",null,"GOVT. SENIOR SECONDARY SCHOOL ALNIYAWAS (219445)",8140200308,"XXXX1703",null,9828120864,"alniyawas168",80000,"N","N","No",12,"None",1]
[6,"A",4514,"2018-07-07","manjeet169",null,"vijay169","beautiful169","F","2010-07-05","yes",169,null,null,"OBC","Hindu",null,"GOVT. SENIOR SECONDARY SCHOOL ALNIYAWAS (219445)",8140200308,"XXXX5969","VHTZJWT",9828120865,"alniyawas169",40000,"N","N","No",10,"None",4]
[6,"A",4875,"2015-07-01","manjeet170",null,"vijay170","beautiful170","F","2009-07-18","yes",170,null,null,"OBC","Hindu",null,"GOVT. SENIOR SECONDARY SCHOOL ALNIYAWAS (219445)",8140200308,"XXXX0506","BHXCWCP",9828120866,"alniyawas170",45000,"N","N","No",11,"None",0]
[6,"A",4443,"2018-06-30","manjeet171",null,"vijay171","beautiful171","M","2007-09-09","no",171,null,null,"OBC","Muslim",null,"GOVT. SENIOR SECONDARY SCHOOL ALNIYAWAS (219445)",8140200308,"XXXX8946","VHHNBHR",9828120867,"alniyawas171",45000,"N","N","Yes",13,"None",2]
[6,"A",4087,"2015-08-01","manjeet172",null,"vijay172","beautiful172","F","2009-07-15","yes",172,null,null,"SC","Hindu",null,"GOVT. SENIOR SECONDARY SCHOOL ALNIYAWAS (219445)",8140200308,"XXXX4126",null,9828120868,"alniyawas172",0,"N","N","No",11,"None",1]
[6,"A",3972,"2015-07-02","manjeet173",null,"vijay173","beautiful173","F","2008-06-07","yes",173,null,null,"OBC","Muslim",null,"GOVT. SENIOR SECONDARY SCHOOL ALNIYAWAS (219445)",8140200308,"XXXX7051",null,9828120869,"alniyawas173",0,"N","N","Yes",12,"None",1]
[6,"A",4014,"2015-07-08","manjeet174",null,"vijay174","beautiful174","F","2008-07-05","no",174,null,null,"OBC","Muslim",null,"GOVT. SENIOR SECONDARY SCHOOL ALNIYAWAS (219445)",8140200308,"XXXX9582",null,9828120870,"alniyawas174",100000,"N","N","Yes",12,"None",1]
[6,"A",3998,"2015-07-06","manjeet175",null,"vijay175","beautiful175","F","2008-08-20","yes",175,null,null,"OBC","Muslim",null,"GOVT. SENIOR SECONDARY SCHOOL ALNIYAWAS (219445)",8140200308,"XXXX1629",null,9828120871,"alniyawas175",0,"N","N","Yes",12,"None",1]
[6,"A",4515,"2018-07-07","manjeet176",null,"vijay176","beautiful176","F","2009-07-01","yes",176,null,null,"OBC","Hindu",null,"GOVT. SENIOR SECONDARY SCHOOL ALNIYAWAS (219445)",8140200308,"XXXX9569","VHTZJWJ",9828120872,"alniyawas176",40000,"N","N","No",11,"None",4]
[6,"A",4018,"2015-07-09","manjeet177",null,"vijay177","beautiful177","M","2008-07-15","no",177,null,null,"SC",null,null,"GOVT. SENIOR SECONDARY SCHOOL ALNIYAWAS (219445)",8140200308,"XXXX7167",null,9828120873,"alniyawas177",0,"N","N",null,12,"None",1]
[6,"A",4697,"2019-07-10","manjeet178",null,"vijay178","beautiful178","M","2010-11-03","yes",178,null,null,"OBC","Hindu",null,"GOVT. SENIOR SECONDARY SCHOOL ALNIYAWAS (219445)",8140200308,"XXXX5823","yoesuys",9828120874,"alniyawas178",500000,"N","N","No",10,"None",5]
[6,"A",4894,"2017-06-30","manjeet179",null,"vijay179","beautiful179","M","2011-07-01","yes",179,null,null,"OBC",null,null,"GOVT. SENIOR SECONDARY SCHOOL ALNIYAWAS (219445)",8140200308,null,null,9828120875,"alniyawas179",100000,"N","N",null,9,"None",0]
[6,"A",4892,"2015-07-17","manjeet180",null,"vijay180","beautiful180","F","2010-06-10","no",180,null,null,"OBC",null,null,"GOVT. SENIOR SECONDARY SCHOOL ALNIYAWAS (219445)",8140200308,null,null,9828120876,"alniyawas180",60000,"N","N",null,10,"None",0]
[6,"A",4792,"2015-05-11","manjeet181",null,"vijay181","beautiful181","M","2008-04-30","yes",181,null,null,"SC",null,null,"GOVT. SENIOR SECONDARY SCHOOL ALNIYAWAS (219445)",8140200308,"XXXX1475",null,9828120877,"alniyawas181",0,"N","N",null,12,"None",0]
[6,"A",4579,"2018-07-18","manjeet182",null,"vijay182","beautiful182","M","2011-07-10","yes",182,null,null,"SC","Hindu",null,"GOVT. SENIOR SECONDARY SCHOOL ALNIYAWAS (219445)",8140200308,"XXXX3266","YOHXTSP",9828120878,"alniyawas182",36000,"N","N","No",9,"None",0]
[6,"A",4696,"2019-07-10","manjeet183",null,"vijay183","beautiful183","M","2009-07-02","no",183,null,null,"OBC","Muslim",null,"GOVT. SENIOR SECONDARY SCHOOL ALNIYAWAS (219445)",8140200308,null,"vwwrnvh",9828120879,"alniyawas183",60000,"N","N","Yes",11,"None",1]
[6,"A",3975,"2015-07-03","manjeet184",null,"vijay184","beautiful184","M","2009-07-15","yes",184,null,null,"OBC","Muslim",null,"GOVT. SENIOR SECONDARY SCHOOL ALNIYAWAS (219445)",8140200308,"XXXX1743",null,9828120880,"alniyawas184",0,"N","N","Yes",11,"None",1]
[6,"A",4012,"2015-07-07","manjeet185",null,"vijay185","beautiful185","F","2008-10-05","yes",185,null,null,"OBC","Muslim",null,"GOVT. SENIOR SECONDARY SCHOOL ALNIYAWAS (219445)",8140200308,"XXXX2886",null,9828120881,"alniyawas185",100000,"Y","N","Yes",12,"None",1]
[6,"A",3944,"2015-05-16","manjeet186",null,"vijay186","beautiful186","M","2010-05-21","no",186,null,null,"OBC","Muslim",null,"GOVT. SENIOR SECONDARY SCHOOL ALNIYAWAS (219445)",8140200308,"XXXX3820",null,9828120882,"alniyawas186",100000,"N","N","Yes",10,"None",1]
[6,"A",4064,"2015-07-15","manjeet187",null,"vijay187","beautiful187","F","2009-12-05","yes",187,null,null,"OBC","Muslim",null,"GOVT. SENIOR SECONDARY SCHOOL ALNIYAWAS (219445)",8140200308,"XXXX7397",null,9828120883,"alniyawas187",0,"N","N","Yes",11,"None",1]
[6,"A",3985,"2015-07-04","manjeet188",null,"vijay188","beautiful188","F","2009-06-05","yes",188,null,null,"OBC","Muslim",null,"GOVT. SENIOR SECONDARY SCHOOL ALNIYAWAS (219445)",8140200308,"XXXX5696",null,9828120884,"alniyawas188",0,"N","N","Yes",11,"None",1]
[6,"A",3866,"2015-05-11","manjeet189",null,"vijay189","beautiful189","M","2007-05-07","no",189,null,null,"OBC","Muslim",null,"GOVT. SENIOR SECONDARY SCHOOL ALNIYAWAS (219445)",8140200308,"XXXX4575",null,9828120885,"alniyawas189",0,"N","N","Yes",13,"None",0]
[6,"A",4013,"2015-07-08","manjeet190",null,"vijay190","beautiful190","M","2009-07-15","yes",190,null,null,"OBC","Muslim",null,"GOVT. SENIOR SECONDARY SCHOOL ALNIYAWAS (219445)",8140200308,"XXXX8999",null,9828120886,"alniyawas190",60000,"N","N","Yes",11,"None",1]
[6,"A",3973,"2015-07-02","manjeet191",null,"vijay191","beautiful191","M","2010-05-05","yes",191,null,null,"OBC","Muslim",null,"GOVT. SENIOR SECONDARY SCHOOL ALNIYAWAS (219445)",8140200308,"XXXX6735",null,9828120887,"alniyawas191",0,"N","N","Yes",10,"None",1]
[6,"A",4516,"2018-07-07","manjeet192",null,"vijay192","beautiful192","F","2010-05-05","no",192,null,null,"OBC","Muslim",null,"GOVT. SENIOR SECONDARY SCHOOL ALNIYAWAS (219445)",8140200308,"XXXX7140",null,9828120888,"alniyawas192",36000,"N","N","Yes",10,"None",0]
[6,"A",3997,"2015-07-06","manjeet193",null,"vijay193","beautiful193","F","2009-07-05","yes",193,null,null,"OBC","Muslim",null,"GOVT. SENIOR SECONDARY SCHOOL ALNIYAWAS (219445)",8140200308,"XXXX4946",null,9828120889,"alniyawas193",0,"N","N","Yes",11,"None",1]
[7,"A",4609,"2018-08-01","manjeet194",null,"vijay194","beautiful194","F","2008-12-10","yes",194,null,null,"OBC","Muslim",null,"GOVT. SENIOR SECONDARY SCHOOL ALNIYAWAS (219445)",8140200308,"XXXX9364","WXVJHNV",9828120890,"alniyawas194",40000,"N","N","Yes",12,"None",0]
[7,"A",3921,"2015-05-11","manjeet195",null,"vijay195","beautiful195","M","2008-07-10","no",195,null,null,"OBC",null,null,"GOVT. SENIOR SECONDARY SCHOOL ALNIYAWAS (219445)",8140200308,"XXXX6032",null,9828120891,"alniyawas195",0,"N","N",null,12,"None",1]
[7,"A",4779,"2019-07-30","manjeet196",null,"vijay196","beautiful196","F","2009-09-06","yes",196,null,null,"SBC","Hindu",null,"GOVT. SENIOR SECONDARY SCHOOL ALNIYAWAS (219445)",8140200308,"XXXX5129","yqkfwmf",9828120892,"alniyawas196",60000,"N","N","No",11,"None",0]
[7,"A",4786,"2019-11-28","manjeet197",null,"vijay197","beautiful197","M","2006-07-05","yes",197,null,null,"OBC","Muslim",null,"GOVT. SENIOR SECONDARY SCHOOL ALNIYAWAS (219445)",8140200308,"XXXX5901","YMWEGOC",9828120893,"alniyawas197",60000,"N","N","Yes",14,"None",1]
[7,"A",3923,"2015-05-11","manjeet198",null,"vijay198","beautiful198","M","2007-07-05","no",198,null,null,"SC","Hindu",null,"GOVT. SENIOR SECONDARY SCHOOL ALNIYAWAS (219445)",8140200308,"XXXX8024",null,9828120894,"alniyawas198",0,"N","N","No",13,"None",1]
[7,"A",3903,"2015-05-11","manjeet199",null,"vijay199","beautiful199","M","2008-05-15","yes",199,null,null,"SC","Hindu",null,"GOVT. SENIOR SECONDARY SCHOOL ALNIYAWAS (219445)",8140200308,"XXXX7165",null,9828120895,"alniyawas199",0,"N","N","No",12,"None",1]
[7,"A",4717,"2014-07-01","manjeet200",null,"vijay200","beautiful200","M","2010-06-11","yes",200,null,null,"SC",null,null,"GOVT. SENIOR SECONDARY SCHOOL ALNIYAWAS (219445)",8140200308,"XXXX0828",null,9828120896,"alniyawas200",60000,"N","N",null,10,"None",4]
[7,"A",4712,"2019-07-11","manjeet201",null,"vijay201","beautiful201","M","2009-01-05","no",201,null,null,"OBC","Hindu",null,"GOVT. SENIOR SECONDARY SCHOOL ALNIYAWAS (219445)",8140200308,"XXXX5021",null,9828120897,"alniyawas201",60000,"N","N","No",11,"None",1]
[7,"A",4766,"2014-07-08","manjeet202",null,"vijay202","beautiful202","M","2008-02-08","yes",202,null,null,"SC","Hindu",null,"GOVT. SENIOR SECONDARY SCHOOL ALNIYAWAS (219445)",8140200308,"XXXX3524",null,9828120898,"alniyawas202",40000,"N","N","No",12,"None",2]
[7,"A",3934,"2015-05-11","manjeet203",null,"vijay203","beautiful203","M","2008-07-15","yes",203,null,null,"OBC","Muslim",null,"GOVT. SENIOR SECONDARY SCHOOL ALNIYAWAS (219445)",8140200308,"XXXX4784",null,9828120899,"alniyawas203",0,"N","N","Yes",12,"None",1]
[7,"A",3928,"2015-05-11","manjeet204",null,"vijay204","beautiful204","M","2008-08-02","no",204,null,null,"OBC","Muslim",null,"GOVT. SENIOR SECONDARY SCHOOL ALNIYAWAS (219445)",8140200308,"XXXX5190",null,9828120900,"alniyawas204",0,"N","N","Yes",12,"None",0]
[7,"A",4632,"2019-07-02","manjeet205",null,"vijay205","beautiful205","M","2008-10-23","yes",205,null,null,"OBC","Hindu",null,"GOVT. SENIOR SECONDARY SCHOOL ALNIYAWAS (219445)",8140200308,"XXXX3939","vxpkbpx",9828120901,"alniyawas205",72000,"N","N","No",12,"None",0]
[7,"A",3898,"2015-05-11","manjeet206",null,"vijay206","beautiful206","M","2008-08-02","yes",206,null,null,"SC","Hindu",null,"GOVT. SENIOR SECONDARY SCHOOL ALNIYAWAS (219445)",8140200308,"XXXX0222",null,9828120902,"alniyawas206",0,"N","N","No",12,"None",1]
[7,"A",4517,"2018-07-07","manjeet207",null,"vijay207","beautiful207","M","2007-08-01","no",207,null,null,"GEN","Hindu",null,"GOVT. SENIOR SECONDARY SCHOOL ALNIYAWAS (219445)",8140200308,"XXXX2669",null,9828120903,"alniyawas207",42000,"N","N","No",13,"None",5]
[7,"A",3911,"2015-05-11","manjeet208",null,"vijay208","beautiful208","M","2008-04-25","yes",208,null,null,"SC","Hindu",null,"GOVT. SENIOR SECONDARY SCHOOL ALNIYAWAS (219445)",8140200308,"XXXX0880",null,9828120904,"alniyawas208",0,"N","N","No",12,"None",1]
[7,"A",4748,"2013-07-29","manjeet209",null,"vijay209","beautiful209","M","2007-06-15","yes",209,null,null,"OBC","Hindu",null,"GOVT. SENIOR SECONDARY SCHOOL ALNIYAWAS (219445)",8140200308,"XXXX7303",null,9828120905,"alniyawas209",55000,"N","N","No",13,"None",2]
[7,"A",3936,"2015-05-11","manjeet210",null,"vijay210","beautiful210","M","2008-05-01","no",210,null,null,"SC","Hindu",null,"GOVT. SENIOR SECONDARY SCHOOL ALNIYAWAS (219445)",8140200308,"XXXX8796",null,9828120906,"alniyawas210",0,"N","N","No",12,"None",1]
[7,"A",4745,"2014-07-04","manjeet211",null,"vijay211","beautiful211","F","2008-05-07","yes",211,null,null,"SC","Hindu",null,"GOVT. SENIOR SECONDARY SCHOOL ALNIYAWAS (219445)",8140200308,"XXXX0496",null,9828120907,"alniyawas211",40000,"N","N","No",12,"None",2]
[7,"A",4736,"2017-07-13","manjeet212",null,"vijay212","beautiful212","F","2008-06-03","yes",212,null,null,"OBC","Hindu",null,"GOVT. SENIOR SECONDARY SCHOOL ALNIYAWAS (219445)",8140200308,"XXXX6670",null,9828120908,"alniyawas212",45000,"N","N","No",12,"None",2]
[7,"A",4650,"2018-07-31","manjeet213",null,"vijay213","beautiful213","M","2009-04-17","no",213,null,null,"OBC","Hindu",null,"GOVT. SENIOR SECONDARY SCHOOL ALNIYAWAS (219445)",8140200308,"XXXX5861",null,9828120909,"alniyawas213",36000,"N","N","No",11,"None",4]
[7,"A",3917,"2015-05-11","manjeet214",null,"vijay214","beautiful214","F","2008-07-07","yes",214,null,null,"OBC","Muslim",null,"GOVT. SENIOR SECONDARY SCHOOL ALNIYAWAS (219445)",8140200308,"XXXX2375",null,9828120910,"alniyawas214",0,"N","N","Yes",12,"None",1]
[7,"A",3909,"2015-05-11","manjeet215",null,"vijay215","beautiful215","M","2008-06-03","yes",215,null,null,"OBC","Muslim",null,"GOVT. SENIOR SECONDARY SCHOOL ALNIYAWAS (219445)",8140200308,null,null,9828120911,"alniyawas215",0,"N","N","Yes",12,"None",1]
[7,"A",4066,"2015-07-15","manjeet216",null,"vijay216","beautiful216","F","2007-07-25","no",216,null,null,"OBC","Muslim",null,"GOVT. SENIOR SECONDARY SCHOOL ALNIYAWAS (219445)",8140200308,null,null,9828120912,"alniyawas216",0,"N","N","Yes",13,"None",1]
[7,"A",4518,"2018-07-07","manjeet217",null,"vijay217","beautiful217","M","2007-06-30","yes",217,null,null,"OBC","Hindu",null,"GOVT. SENIOR SECONDARY SCHOOL ALNIYAWAS (219445)",8140200308,"XXXX8437","VZWCSSN",9828120913,"alniyawas217",40000,"N","N","No",13,"None",0]
[7,"A",4097,"2016-05-09","manjeet218",null,"vijay218","beautiful218","M","2007-11-15","yes",218,null,null,"OBC","Hindu",null,"GOVT. SENIOR SECONDARY SCHOOL ALNIYAWAS (219445)",8140200308,"XXXX4420",null,9828120914,"alniyawas218",0,"N","N","No",13,"None",1]
[7,"A",4756,"2019-07-19","manjeet219",null,"vijay219","beautiful219","M","2008-08-16","no",219,null,null,"OBC","Hindu",null,"GOVT. SENIOR SECONDARY SCHOOL ALNIYAWAS (219445)",8140200308,"XXXX9122","ymkiawg",9828120915,"alniyawas219",60000,"N","N","No",12,"None",3]
[7,"A",4747,"2019-07-16","manjeet220",null,"vijay220","beautiful220","F","2008-05-10","yes",220,null,null,"SC","Hindu",null,"GOVT. SENIOR SECONDARY SCHOOL ALNIYAWAS (219445)",8140200308,"XXXX9110","VOHCSOH",9828120916,"alniyawas220",40000,"N","N","No",12,"None",5]
[7,"A",4743,"2014-07-12","manjeet221",null,"vijay221","beautiful221","F","2008-07-21","yes",221,null,null,"SC","Hindu",null,"GOVT. SENIOR SECONDARY SCHOOL ALNIYAWAS (219445)",8140200308,"XXXX7525","VBKWWZX",9828120917,"alniyawas221",40000,"N","N","No",12,"None",5]
[7,"A",4744,"2018-07-13","manjeet222",null,"vijay222","beautiful222","F","2007-03-15","no",222,null,null,"SC","Hindu",null,"GOVT. SENIOR SECONDARY SCHOOL ALNIYAWAS (219445)",8140200308,"XXXX6556",null,9828120918,"alniyawas222",36000,"N","N","No",13,"None",2]
[7,"A",4585,"2018-07-19","manjeet223",null,"vijay223","beautiful223","M","2011-07-08","yes",223,null,null,"OBC","Hindu",null,"GOVT. SENIOR SECONDARY SCHOOL ALNIYAWAS (219445)",8140200308,"XXXX4817","BHNVXXH",9828120919,"alniyawas223",45000,"N","N","No",9,"None",0]
[7,"A",3905,"2015-05-11","manjeet224",null,"vijay224","beautiful224","M","2008-07-01","yes",224,null,null,"SC","Hindu",null,"GOVT. SENIOR SECONDARY SCHOOL ALNIYAWAS (219445)",8140200308,"XXXX6778",null,9828120920,"alniyawas224",0,"N","N","No",12,"None",1]
[7,"A",4752,"2014-07-07","manjeet225",null,"vijay225","beautiful225","F","2008-05-13","no",225,null,null,"GEN","Hindu",null,"GOVT. SENIOR SECONDARY SCHOOL ALNIYAWAS (219445)",8140200308,"XXXX6183","YQOFYAK",9828120921,"alniyawas225",40000,"N","N","No",12,"None",5]
[7,"A",3924,"2015-05-11","manjeet226",null,"vijay226","beautiful226","F","2007-07-05","yes",226,null,null,"OBC","Hindu",null,"GOVT. SENIOR SECONDARY SCHOOL ALNIYAWAS (219445)",8140200308,null,null,9828120922,"alniyawas226",0,"N","N","No",13,"None",1]
[7,"A",3926,"2015-05-11","manjeet227",null,"vijay227","beautiful227","M","2007-01-07","yes",227,null,null,"OBC","Muslim",null,"GOVT. SENIOR SECONDARY SCHOOL ALNIYAWAS (219445)",8140200308,null,null,9828120923,"alniyawas227",0,"N","N","Yes",13,"None",1]
[7,"A",3925,"2015-05-11","manjeet228",null,"vijay228","beautiful228","M","2008-07-02","no",228,null,null,"OBC","Hindu",null,"GOVT. SENIOR SECONDARY SCHOOL ALNIYAWAS (219445)",8140200308,"XXXX1141",null,9828120924,"alniyawas228",0,"N","N","No",12,"None",1]
[7,"A",4767,"2017-07-05","manjeet229",null,"vijay229","beautiful229","F","2009-06-03","yes",229,null,null,"OBC",null,null,"GOVT. SENIOR SECONDARY SCHOOL ALNIYAWAS (219445)",8140200308,"XXXX0730",null,9828120925,"alniyawas229",45000,"N","N",null,11,"None",0]
[7,"A",4765,"2013-07-12","manjeet230",null,"vijay230","beautiful230","F","2007-05-15","yes",230,null,null,"OBC","Hindu",null,"GOVT. SENIOR SECONDARY SCHOOL ALNIYAWAS (219445)",8140200308,"XXXX2477",null,9828120926,"alniyawas230",55000,"N","N","No",13,"None",2]
[7,"A",3907,"2015-05-11","manjeet231",null,"vijay231","beautiful231","F","2008-07-02","no",231,null,null,"OBC","Muslim",null,"GOVT. SENIOR SECONDARY SCHOOL ALNIYAWAS (219445)",8140200308,"XXXX2550",null,9828120927,"alniyawas231",0,"N","N","Yes",12,"None",1]
[7,"A",4775,"2014-07-04","manjeet232",null,"vijay232","beautiful232","F","2008-02-05","yes",232,null,null,"OBC","Hindu",null,"GOVT. SENIOR SECONDARY SCHOOL ALNIYAWAS (219445)",8140200308,"XXXX2033",null,9828120928,"alniyawas232",40000,"N","N","No",12,"None",5]
[7,"A",4753,"2014-07-03","manjeet233",null,"vijay233","beautiful233","F","2008-02-12","yes",233,null,null,"GEN","Hindu",null,"GOVT. SENIOR SECONDARY SCHOOL ALNIYAWAS (219445)",8140200308,"XXXX3758","YAMYDQW",9828120929,"alniyawas233",40000,"N","N","No",12,"None",5]
[7,"A",4112,"2016-06-28","manjeet234",null,"vijay234","beautiful234","F","2008-05-07","no",234,null,null,"OBC","Hindu",null,"GOVT. SENIOR SECONDARY SCHOOL ALNIYAWAS (219445)",8140200308,"XXXX1490",null,9828120930,"alniyawas234",0,"N","N","No",12,"None",1]
[7,"A",4746,"2014-07-12","manjeet235",null,"vijay235","beautiful235","F","2008-07-21","yes",235,null,null,"SC","Hindu",null,"GOVT. SENIOR SECONDARY SCHOOL ALNIYAWAS (219445)",8140200308,"XXXX5353","VBKWWZX",9828120931,"alniyawas235",40000,"N","N","No",12,"None",5]
[7,"A",3946,"2015-06-27","manjeet236",null,"vijay236","beautiful236","M","2005-10-12","yes",236,null,null,"SC","Hindu",null,"GOVT. SENIOR SECONDARY SCHOOL ALNIYAWAS (219445)",8140200308,"XXXX3418",null,9828120932,"alniyawas236",0,"N","N","No",15,"None",1]
[7,"A",4580,"2018-07-18","manjeet237",null,"vijay237","beautiful237","M","2010-07-07","no",237,null,null,"SC","Hindu",null,"GOVT. SENIOR SECONDARY SCHOOL ALNIYAWAS (219445)",8140200308,null,null,9828120933,"alniyawas237",40000,"N","N","No",10,"None",0]
[7,"A",4776,"2015-05-11","manjeet238",null,"vijay238","beautiful238","F","2008-03-23","yes",238,null,null,"GEN","Hindu",null,"GOVT. SENIOR SECONDARY SCHOOL ALNIYAWAS (219445)",8140200308,"XXXX0142","VXPNBWN",9828120934,"alniyawas238",40000,"N","N","No",12,"None",5]
[7,"A",3927,"2015-05-11","manjeet239",null,"vijay239","beautiful239","F","2008-07-10","yes",239,null,null,"OBC","Muslim",null,"GOVT. SENIOR SECONDARY SCHOOL ALNIYAWAS (219445)",8140200308,"XXXX0996",null,9828120935,"alniyawas239",0,"N","N","Yes",12,"None",1]
[7,"A",4631,"2019-07-02","manjeet240",null,"vijay240","beautiful240","F","2008-07-10","no",240,null,null,"OBC","Muslim",null,"GOVT. SENIOR SECONDARY SCHOOL ALNIYAWAS (219445)",8140200308,"XXXX2848","vrpbknr",9828120936,"alniyawas240",100000,"N","N","Yes",12,"None",0]
[7,"A",4757,"2014-07-28","manjeet241",null,"vijay241","beautiful241","M","2009-02-07","yes",241,null,null,"SC","Hindu",null,"GOVT. SENIOR SECONDARY SCHOOL ALNIYAWAS (219445)",8140200308,"XXXX2675","VOJRTTX",9828120937,"alniyawas241",40000,"N","N","No",11,"None",5]
[7,"A",3900,"2015-05-11","manjeet242",null,"vijay242","beautiful242","F","2008-06-07","yes",242,null,null,"OBC","Muslim",null,"GOVT. SENIOR SECONDARY SCHOOL ALNIYAWAS (219445)",8140200308,"XXXX2625",null,9828120938,"alniyawas242",0,"N","N","Yes",12,"None",1]
[7,"A",3913,"2015-05-11","manjeet243",null,"vijay243","beautiful243","F","2008-07-07","no",243,null,null,"OBC","Muslim",null,"GOVT. SENIOR SECONDARY SCHOOL ALNIYAWAS (219445)",8140200308,"XXXX4930",null,9828120939,"alniyawas243",0,"N","N","Yes",12,"None",1]
[7,"A",3920,"2015-05-11","manjeet244",null,"vijay244","beautiful244","M","2007-07-05","yes",244,null,null,"OBC","Muslim",null,"GOVT. SENIOR SECONDARY SCHOOL ALNIYAWAS (219445)",8140200308,"XXXX0325",null,9828120940,"alniyawas244",0,"N","N","Yes",13,"None",1]
[7,"A",4584,"2018-07-19","manjeet245",null,"vijay245","beautiful245","F","2010-07-10","yes",245,null,null,"OBC","Hindu",null,"GOVT. SENIOR SECONDARY SCHOOL ALNIYAWAS (219445)",8140200308,"XXXX4817",null,9828120941,"alniyawas245",36000,"N","N","No",10,"None",0]
[7,"A",3908,"2015-05-11","manjeet246",null,"vijay246","beautiful246","F","2008-07-02","no",246,null,null,"SC","Hindu",null,"GOVT. SENIOR SECONDARY SCHOOL ALNIYAWAS (219445)",8140200308,"XXXX6023",null,9828120942,"alniyawas246",0,"N","N","No",12,"None",1]
[7,"A",3933,"2015-05-11","manjeet247",null,"vijay247","beautiful247","M","2008-07-05","yes",247,null,null,"OBC","Muslim",null,"GOVT. SENIOR SECONDARY SCHOOL ALNIYAWAS (219445)",8140200308,"XXXX1861",null,9828120943,"alniyawas247",0,"N","N","Yes",12,"None",0]
[7,"A",4549,"2018-07-11","manjeet248",null,"vijay248","beautiful248","F","2009-09-30","yes",248,null,null,"OBC","Hindu",null,"GOVT. SENIOR SECONDARY SCHOOL ALNIYAWAS (219445)",8140200308,"XXXX5958","VVGOPGT",9828120944,"alniyawas248",45000,"N","N","No",11,"None",1]
[7,"A",4754,"2016-06-29","manjeet249",null,"vijay249","beautiful249","M","2007-02-11","no",249,null,null,"OBC","Hindu",null,"GOVT. SENIOR SECONDARY SCHOOL ALNIYAWAS (219445)",8140200308,"XXXX3814",null,9828120945,"alniyawas249",40000,"N","N","No",13,"None",1]
[7,"A",4886,null,"manjeet250",null,"vijay250","beautiful250","F","2009-10-16","yes",250,null,null,"OBC",null,null,"GOVT. SENIOR SECONDARY SCHOOL ALNIYAWAS (219445)",8140200308,null,null,9828120946,"alniyawas250",null,"N","Y",null,11,null,1]
[7,"A",3915,"2015-05-11","manjeet251",null,"vijay251","beautiful251","F","2006-03-10","yes",251,null,null,"OBC","Hindu",null,"GOVT. SENIOR SECONDARY SCHOOL ALNIYAWAS (219445)",8140200308,"XXXX0682",null,9828120947,"alniyawas251",0,"N","N","No",14,"None",1]
[8,"A",3857,"2015-05-11","manjeet252",null,"vijay252","beautiful252","M","2007-02-02","no",252,null,null,"OBC","Muslim",null,"GOVT. SENIOR SECONDARY SCHOOL ALNIYAWAS (219445)",8140200308,"XXXX6918",null,9828120948,"alniyawas252",0,"N","N","Yes",13,"None",1]
[8,"A",4641,"2019-07-04","manjeet253",null,"vijay253","beautiful253","M","2007-07-09","yes",253,null,null,"OBC","Muslim",null,"GOVT. SENIOR SECONDARY SCHOOL ALNIYAWAS (219445)",8140200308,"XXXX3614","vrpbknr",9828120949,"alniyawas253",72000,"N","N","Yes",13,"None",0]
[8,"A",4462,"2018-07-03","manjeet254",null,"vijay254","beautiful254","F","2009-06-05","yes",254,null,null,"OBC","Hindu",null,"GOVT. SENIOR SECONDARY SCHOOL ALNIYAWAS (219445)",8140200308,"XXXX4426",null,9828120950,"alniyawas254",40000,"N","N","No",11,"None",3]
[8,"A",4607,"2018-07-31","manjeet255",null,"vijay255","beautiful255","F","2008-01-01","no",255,null,null,"GEN","Hindu",null,"GOVT. SENIOR SECONDARY SCHOOL ALNIYAWAS (219445)",8140200308,"XXXX8983",null,9828120951,"alniyawas255",36000,"N","N","No",12,"None",5]
[8,"A",4561,"2018-07-14","manjeet256",null,"vijay256","beautiful256","M","2007-01-07","yes",256,null,null,"SC","Hindu",null,"GOVT. SENIOR SECONDARY SCHOOL ALNIYAWAS (219445)",8140200308,"XXXX6778",null,9828120952,"alniyawas256",36000,"N","N","No",13,"None",1]
[8,"A",3888,"2015-05-11","manjeet257",null,"vijay257","beautiful257","M","2005-09-05","yes",257,null,null,"OBC","Muslim",null,"GOVT. SENIOR SECONDARY SCHOOL ALNIYAWAS (219445)",8140200308,"XXXX3849",null,9828120953,"alniyawas257",0,"N","N","Yes",15,"None",1]
[8,"A",4263,"1900-05-28","manjeet258",null,"vijay258","beautiful258","M","2008-11-04","no",258,null,null,"SBC","Hindu",null,"GOVT. SENIOR SECONDARY SCHOOL ALNIYAWAS (219445)",8140200308,null,null,9828120954,"alniyawas258",0,"N","N","No",12,"None",1]
[8,"A",4801,"2020-08-13","manjeet259",null,"vijay259","beautiful259","M","2008-09-18","yes",259,null,null,"SC","Hindu",null,"GOVT. SENIOR SECONDARY SCHOOL ALNIYAWAS (219445)",8140200308,"XXXX3645",null,9828120955,"alniyawas259",80000,"N","N","No",12,"None",1]
[8,"A",4057,"2015-07-15","manjeet260",null,"vijay260","beautiful260","M","2007-06-18","yes",260,null,null,"SC","Hindu",null,"GOVT. SENIOR SECONDARY SCHOOL ALNIYAWAS (219445)",8140200308,"XXXX9730",null,9828120956,"alniyawas260",0,"N","N","No",13,"None",1]
[8,"A",4421,"2017-07-19","manjeet261",null,"vijay261","beautiful261","M","2005-07-17","no",261,null,null,"OBC","Hindu",null,"GOVT. SENIOR SECONDARY SCHOOL ALNIYAWAS (219445)",8140200308,null,null,9828120957,"alniyawas261",0,"N","N","No",15,"None",1]
[8,"A",3892,"2015-05-11","manjeet262",null,"vijay262","beautiful262","M","2005-10-12","yes",262,null,null,"SC","Hindu",null,"GOVT. SENIOR SECONDARY SCHOOL ALNIYAWAS (219445)",8140200308,"XXXX1383",null,9828120958,"alniyawas262",0,"N","N","No",15,"None",1]
[8,"A",3884,"2015-05-11","manjeet263",null,"vijay263","beautiful263","M","2007-08-05","yes",263,null,null,"SC","Hindu",null,"GOVT. SENIOR SECONDARY SCHOOL ALNIYAWAS (219445)",8140200308,"XXXX4735",null,9828120959,"alniyawas263",0,"N","N","No",13,"None",1]
[8,"A",4169,"2016-07-04","manjeet264",null,"vijay264","beautiful264","M","2008-10-20","no",264,null,null,"SC","Hindu",null,"GOVT. SENIOR SECONDARY SCHOOL ALNIYAWAS (219445)",8140200308,"XXXX2071",null,9828120960,"alniyawas264",0,"N","N","No",12,"None",1]
[8,"A",4576,"2018-07-16","manjeet265",null,"vijay265","beautiful265","F","2009-09-10","yes",265,null,null,"OBC","Hindu",null,"GOVT. SENIOR SECONDARY SCHOOL ALNIYAWAS (219445)",8140200308,"XXXX5591","YOEISWF",9828120961,"alniyawas265",40000,"N","N","No",11,"None",3]
[8,"A",4452,"2018-07-02","manjeet266",null,"vijay266","beautiful266","F","2006-05-15","yes",266,null,null,"GEN","Hindu",null,"GOVT. SENIOR SECONDARY SCHOOL ALNIYAWAS (219445)",8140200308,"XXXX6101",null,9828120962,"alniyawas266",40000,"N","N","No",14,"None",5]
[8,"A",3895,"2015-05-11","manjeet267",null,"vijay267","beautiful267","M","2006-07-05","no",267,null,null,"SC","Hindu",null,"GOVT. SENIOR SECONDARY SCHOOL ALNIYAWAS (219445)",8140200308,"XXXX6149",null,9828120963,"alniyawas267",0,"N","N","No",14,"None",1]
[8,"A",4485,"2018-07-04","manjeet268",null,"vijay268","beautiful268","M","2007-10-26","yes",268,null,null,"GEN","Hindu",null,"GOVT. SENIOR SECONDARY SCHOOL ALNIYAWAS (219445)",8140200308,"XXXX0484","YMFKEMC",9828120964,"alniyawas268",36000,"N","N","No",13,"None",5]
[8,"A",4709,"2019-07-10","manjeet269",null,"vijay269","beautiful269","M","2008-04-01","yes",269,null,null,"SBC","Hindu",null,"GOVT. SENIOR SECONDARY SCHOOL ALNIYAWAS (219445)",8140200308,"XXXX9571","ydbigww",9828120965,"alniyawas269",40000,"N","N","No",12,"None",1]
[8,"A",3887,"2015-05-11","manjeet270",null,"vijay270","beautiful270","F","2007-05-07","no",270,null,null,"GEN","Hindu",null,"GOVT. SENIOR SECONDARY SCHOOL ALNIYAWAS (219445)",8140200308,"XXXX5823",null,9828120966,"alniyawas270",0,"N","N","No",13,"None",1]
[8,"A",4486,"2018-07-04","manjeet271",null,"vijay271","beautiful271","F","2004-10-06","yes",271,null,null,"OBC","Hindu",null,"GOVT. SENIOR SECONDARY SCHOOL ALNIYAWAS (219445)",8140200308,"XXXX4559","YQQKCGB",9828120967,"alniyawas271",40000,"N","N","No",16,"None",3]
[8,"A",4321,"2017-07-04","manjeet272",null,"vijay272","beautiful272","F","2006-12-26","yes",272,null,null,"OBC","Hindu",null,"GOVT. SENIOR SECONDARY SCHOOL ALNIYAWAS (219445)",8140200308,"XXXX1497",null,9828120968,"alniyawas272",0,"N","N","No",14,"None",2]
[8,"A",4783,"2019-08-27","manjeet273",null,"vijay273","beautiful273","F","2009-10-01","no",273,null,null,"OBC","Hindu",null,"GOVT. SENIOR SECONDARY SCHOOL ALNIYAWAS (219445)",8140200308,null,null,9828120969,"alniyawas273",60000,"N","N","No",11,"None",7]
[8,"A",4713,"2015-08-20","manjeet274",null,"vijay274","beautiful274","F","2007-12-10","yes",274,null,null,"OBC","Hindu",null,"GOVT. SENIOR SECONDARY SCHOOL ALNIYAWAS (219445)",8140200308,"XXXX5334","YMKBDUC",9828120970,"alniyawas274",40000,"N","N","No",13,"None",2]
[8,"A",4484,"2018-07-04","manjeet275",null,"vijay275","beautiful275","F","2007-01-13","yes",275,null,null,"OBC","Hindu",null,"GOVT. SENIOR SECONDARY SCHOOL ALNIYAWAS (219445)",8140200308,"XXXX9111",null,9828120971,"alniyawas275",72000,"N","N","No",13,"None",3]
[8,"A",4272,"2017-06-28","manjeet276",null,"vijay276","beautiful276","M","2006-12-10","no",276,null,null,"GEN","Hindu",null,"GOVT. SENIOR SECONDARY SCHOOL ALNIYAWAS (219445)",8140200308,"XXXX4307",null,9828120972,"alniyawas276",0,"N","N","No",14,"None",1]
[8,"A",3863,"2015-05-11","manjeet277",null,"vijay277","beautiful277","M","2007-05-02","yes",277,null,null,"SC","Hindu",null,"GOVT. SENIOR SECONDARY SCHOOL ALNIYAWAS (219445)",8140200308,"XXXX7955",null,9828120973,"alniyawas277",0,"N","N","No",13,"None",1]
[8,"A",4651,"2019-07-05","manjeet278",null,"vijay278","beautiful278","F","2007-10-05","yes",278,null,null,"OBC","Hindu",null,"GOVT. SENIOR SECONDARY SCHOOL ALNIYAWAS (219445)",8140200308,"XXXX5878","vgbbgzy",9828120974,"alniyawas278",100000,"N","N","No",13,"None",4]
[8,"A",4487,"2018-07-04","manjeet279",null,"vijay279","beautiful279","F","2005-10-04","no",279,null,null,"OBC","Hindu",null,"GOVT. SENIOR SECONDARY SCHOOL ALNIYAWAS (219445)",8140200308,"XXXX3354","YQMESMS",9828120975,"alniyawas279",45000,"N","N","No",15,"None",3]
[8,"A",3878,"2015-05-11","manjeet280",null,"vijay280","beautiful280","F","2007-07-05","yes",280,null,null,"SC","Hindu",null,"GOVT. SENIOR SECONDARY SCHOOL ALNIYAWAS (219445)",8140200308,"XXXX6574",null,9828120976,"alniyawas280",0,"N","N","No",13,"None",1]
[8,"A",4563,"2018-07-14","manjeet281",null,"vijay281","beautiful281","F","2007-02-06","yes",281,null,null,"OBC","Hindu",null,"GOVT. SENIOR SECONDARY SCHOOL ALNIYAWAS (219445)",8140200308,"XXXX3593",null,9828120977,"alniyawas281",45000,"N","N","No",13,"None",3]
[8,"A",3859,"2015-05-11","manjeet282",null,"vijay282","beautiful282","M","2006-04-05","no",282,null,null,"SC","Hindu",null,"GOVT. SENIOR SECONDARY SCHOOL ALNIYAWAS (219445)",8140200308,"XXXX3326",null,9828120978,"alniyawas282",0,"N","N","No",14,"None",1]
[8,"A",3882,"2015-05-11","manjeet283",null,"vijay283","beautiful283","F","2007-07-05","yes",283,null,null,"OBC","Muslim",null,"GOVT. SENIOR SECONDARY SCHOOL ALNIYAWAS (219445)",8140200308,"XXXX7232",null,9828120979,"alniyawas283",0,"N","N","Yes",13,"None",1]
[8,"A",4562,"2018-07-14","manjeet284",null,"vijay284","beautiful284","M","2004-10-22","yes",284,null,null,"SC","Hindu",null,"GOVT. SENIOR SECONDARY SCHOOL ALNIYAWAS (219445)",8140200308,"XXXX4751","VONTPBX",9828120980,"alniyawas284",40000,"N","N","No",16,"None",5]
[8,"A",4449,"2018-07-02","manjeet285",null,"vijay285","beautiful285","F","2007-10-20","no",285,null,null,"GEN","Hindu",null,"GOVT. SENIOR SECONDARY SCHOOL ALNIYAWAS (219445)",8140200308,"XXXX3890",null,9828120981,"alniyawas285",45000,"N","N","No",13,"None",5]
[8,"A",3867,"2015-05-11","manjeet286",null,"vijay286","beautiful286","F","2007-07-05","yes",286,null,null,"OBC","Muslim",null,"GOVT. SENIOR SECONDARY SCHOOL ALNIYAWAS (219445)",8140200308,"XXXX9794",null,9828120982,"alniyawas286",72000,"N","N","Yes",13,"None",1]
[8,"A",3880,"2015-05-11","manjeet287",null,"vijay287","beautiful287","F","2007-07-02","yes",287,null,null,"OBC","Muslim",null,"GOVT. SENIOR SECONDARY SCHOOL ALNIYAWAS (219445)",8140200308,null,null,9828120983,"alniyawas287",0,"N","N","Yes",13,"None",1]
[8,"A",4778,"2019-07-29","manjeet288",null,"vijay288","beautiful288","M","2006-05-07","no",288,null,null,"OBC","Muslim",null,"GOVT. SENIOR SECONDARY SCHOOL ALNIYAWAS (219445)",8140200308,"XXXX3206",null,9828120984,"alniyawas288",60000,"N","N","Yes",14,"None",0]
[8,"A",4677,"2019-07-09","manjeet289",null,"vijay289","beautiful289","F","2008-10-22","yes",289,null,null,"OBC","Muslim",null,"GOVT. SENIOR SECONDARY SCHOOL ALNIYAWAS (219445)",8140200308,"XXXX8961","vpojxjj",9828120985,"alniyawas289",60000,"N","N","Yes",12,"None",1]
[8,"A",4845,null,"manjeet290",null,"vijay290","beautiful290","M","2007-02-05","yes",290,null,null,"GEN",null,null,"GOVT. SENIOR SECONDARY SCHOOL ALNIYAWAS (219445)",8140200308,null,null,9828120986,"alniyawas290",null,"N","Y",null,13,null,1]
[8,"A",4640,"2019-07-04","manjeet291",null,"vijay291","beautiful291","M","2007-01-11","no",291,null,null,"GEN","Hindu",null,"GOVT. SENIOR SECONDARY SCHOOL ALNIYAWAS (219445)",8140200308,"XXXX1189",null,9828120987,"alniyawas291",75000,"N","N","No",13,"None",1]
[8,"A",4623,"2018-09-25","manjeet292",null,"vijay292","beautiful292","F","2005-03-02","yes",292,null,null,"OBC","Muslim",null,"GOVT. SENIOR SECONDARY SCHOOL ALNIYAWAS (219445)",8140200308,"XXXX0719",null,9828120988,"alniyawas292",40000,"N","N","Yes",15,"None",0]
[8,"A",3879,"2015-05-11","manjeet293",null,"vijay293","beautiful293","M","2007-07-02","yes",293,null,null,"SC","Hindu",null,"GOVT. SENIOR SECONDARY SCHOOL ALNIYAWAS (219445)",8140200308,null,null,9828120989,"alniyawas293",0,"N","N","No",13,"None",1]
[8,"A",3861,"2015-05-11","manjeet294",null,"vijay294","beautiful294","M","2006-05-07","no",294,null,null,"SC","Hindu",null,"GOVT. SENIOR SECONDARY SCHOOL ALNIYAWAS (219445)",8140200308,"XXXX1991",null,9828120990,"alniyawas294",0,"N","N","No",14,"None",1]
[8,"A",3868,"2015-05-11","manjeet295",null,"vijay295","beautiful295","M","2007-07-02","yes",295,null,null,"OBC","Muslim",null,"GOVT. SENIOR SECONDARY SCHOOL ALNIYAWAS (219445)",8140200308,"XXXX1777",null,9828120991,"alniyawas295",0,"N","N","Yes",13,"None",1]
[8,"A",3897,"2015-05-11","manjeet296",null,"vijay296","beautiful296","M","2007-08-02","yes",296,null,null,"OBC","Muslim",null,"GOVT. SENIOR SECONDARY SCHOOL ALNIYAWAS (219445)",8140200308,"XXXX0724",null,9828120992,"alniyawas296",0,"N","N","Yes",13,"None",1]
[8,"A",4523,"2018-07-07","manjeet297",null,"vijay297","beautiful297","M","2007-04-04","no",297,null,null,"OBC","Hindu",null,"GOVT. SENIOR SECONDARY SCHOOL ALNIYAWAS (219445)",8140200308,"XXXX6757",null,9828120993,"alniyawas297",45000,"N","N","No",13,"None",2]
[8,"A",4568,"2018-07-14","manjeet298",null,"vijay298","beautiful298","F","2007-01-21","yes",298,null,null,"OBC","Muslim",null,"GOVT. SENIOR SECONDARY SCHOOL ALNIYAWAS (219445)",8140200308,"XXXX9842","VOTKRJX",9828120994,"alniyawas298",72000,"N","N","Yes",13,"None",0]
[8,"A",4461,"2018-07-03","manjeet299",null,"vijay299","beautiful299","M","2007-03-10","yes",299,null,null,"OBC","Hindu",null,"GOVT. SENIOR SECONDARY SCHOOL ALNIYAWAS (219445)",8140200308,"XXXX9369","VSXWCHT",9828120995,"alniyawas299",45000,"N","N","No",13,"None",4]
[8,"A",3875,"2015-05-11","manjeet300",null,"vijay300","beautiful300","M","2007-07-02","no",300,null,null,"OBC","Muslim",null,"GOVT. SENIOR SECONDARY SCHOOL ALNIYAWAS (219445)",8140200308,"XXXX4496",null,9828120996,"alniyawas300",0,"N","N","Yes",13,"None",1]
[8,"A",4543,"2018-07-10","manjeet301",null,"vijay301","beautiful301","M","2006-08-12","yes",301,null,null,"OBC","Muslim",null,"GOVT. SENIOR SECONDARY SCHOOL ALNIYAWAS (219445)",8140200308,"XXXX6595","YAOKOSS",9828120997,"alniyawas301",45000,"N","N","Yes",14,"None",1]
[8,"A",4482,"2018-07-04","manjeet302",null,"vijay302","beautiful302","F","2006-10-07","yes",302,null,null,"SC","Hindu",null,"GOVT. SENIOR SECONDARY SCHOOL ALNIYAWAS (219445)",8140200308,"XXXX2547","YMGOQMF",9828120998,"alniyawas302",36000,"N","N","No",14,"None",3]
[8,"A",4460,"2018-07-03","manjeet303",null,"vijay303","beautiful303","F","2007-04-25","no",303,null,null,"OBC","Hindu",null,"GOVT. SENIOR SECONDARY SCHOOL ALNIYAWAS (219445)",8140200308,"XXXX4213","YQGFFKC",9828120999,"alniyawas303",50000,"N","N","No",13,"None",3]
[8,"A",4781,"2018-06-28","manjeet304",null,"vijay304","beautiful304","F","2007-07-18","yes",304,null,null,"GEN","Hindu",null,"GOVT. SENIOR SECONDARY SCHOOL ALNIYAWAS (219445)",8140200308,"XXXX4135",null,9828121000,"alniyawas304",0,"N","N","No",13,"None",5]
[8,"A",4571,"2018-07-14","manjeet305",null,"vijay305","beautiful305","F","2008-07-15","yes",305,null,null,"SBC","Hindu",null,"GOVT. SENIOR SECONDARY SCHOOL ALNIYAWAS (219445)",8140200308,null,"VPSGOOV",9828121001,"alniyawas305",36000,"N","N","No",12,"None",1]
[8,"A",3855,"2015-05-11","manjeet306",null,"vijay306","beautiful306","M","2007-04-02","no",306,null,null,"SC","Hindu",null,"GOVT. SENIOR SECONDARY SCHOOL ALNIYAWAS (219445)",8140200308,"XXXX1962",null,9828121002,"alniyawas306",0,"N","N","No",13,"None",1]
[8,"A",3860,"2015-05-11","manjeet307",null,"vijay307","beautiful307","M","2008-01-02","yes",307,null,null,"SC","Hindu",null,"GOVT. SENIOR SECONDARY SCHOOL ALNIYAWAS (219445)",8140200308,"XXXX4085",null,9828121003,"alniyawas307",0,"N","N","No",12,"None",1]
[8,"A",4455,"2018-07-02","manjeet308",null,"vijay308","beautiful308","M","2009-10-05","yes",308,null,null,"SC","Hindu",null,"GOVT. SENIOR SECONDARY SCHOOL ALNIYAWAS (219445)",8140200308,"XXXX7504",null,9828121004,"alniyawas308",36000,"N","N","No",11,"None",6]
[8,"A",4774,"2019-07-26","manjeet309",null,"vijay309","beautiful309","M","2008-07-01","no",309,null,null,"SC","Hindu",null,"GOVT. SENIOR SECONDARY SCHOOL ALNIYAWAS (219445)",8140200308,"XXXX7938",null,9828121005,"alniyawas309",60000,"N","N","No",12,"None",1]
[8,"A",4604,"2018-07-30","manjeet310",null,"vijay310","beautiful310","M","2008-04-11","yes",310,null,null,"OBC","Hindu",null,"GOVT. SENIOR SECONDARY SCHOOL ALNIYAWAS (219445)",8140200308,"XXXX7593",null,9828121006,"alniyawas310",38000,"N","N","No",12,"None",2]
[8,"A",4693,"2019-07-10","manjeet311",null,"vijay311","beautiful311","M","2007-04-05","yes",311,null,null,"OBC","Hindu",null,"GOVT. SENIOR SECONDARY SCHOOL ALNIYAWAS (219445)",8140200308,"XXXX2295","vpnhgzp",9828121007,"alniyawas311",60000,"N","N","No",13,"None",2]
[8,"A",4598,"2018-07-25","manjeet312",null,"vijay312","beautiful312","F","2008-12-28","no",312,null,null,"OBC","Muslim",null,"GOVT. SENIOR SECONDARY SCHOOL ALNIYAWAS (219445)",8140200308,"XXXX5356",null,9828121008,"alniyawas312",40000,"N","N","Yes",12,"None",0]
[8,"A",3894,"2015-05-11","manjeet313",null,"vijay313","beautiful313","M","2006-07-01","yes",313,null,null,"SC","Hindu",null,"GOVT. SENIOR SECONDARY SCHOOL ALNIYAWAS (219445)",8140200308,"XXXX2625",null,9828121009,"alniyawas313",0,"N","N","No",14,"None",1]
[8,"A",4188,"2016-07-11","manjeet314",null,"vijay314","beautiful314","F","2006-08-10","yes",314,null,null,"OBC","Hindu",null,"GOVT. SENIOR SECONDARY SCHOOL ALNIYAWAS (219445)",8140200308,null,null,9828121010,"alniyawas314",0,"N","N","No",14,"None",2]
[8,"A",3893,"2015-05-11","manjeet315",null,"vijay315","beautiful315","M","2006-10-15","no",315,null,null,"SC","Hindu",null,"GOVT. SENIOR SECONDARY SCHOOL ALNIYAWAS (219445)",8140200308,"XXXX1044",null,9828121011,"alniyawas315",0,"N","N","No",14,"None",0]
[8,"A",4608,"2018-07-31","manjeet316",null,"vijay316","beautiful316","M","2005-07-01","yes",316,null,null,"GEN","Hindu",null,"GOVT. SENIOR SECONDARY SCHOOL ALNIYAWAS (219445)",8140200308,"XXXX6608","WDYCFMW",9828121012,"alniyawas316",45000,"N","N","No",15,"None",5]
[9,"A",3822,"2015-05-11","manjeet317",null,"vijay317","beautiful317","M","2006-05-01","yes",317,null,null,"OBC","Muslim",null,"GOVT. SENIOR SECONDARY SCHOOL ALNIYAWAS (219445)",8140200308,"XXXX8904",null,9828121013,"alniyawas317",0,"N","N","Yes",14,"None",0]
[9,"A",4266,"1900-05-27","manjeet318",null,"vijay318","beautiful318","M","2007-01-02","no",318,null,null,"SBC","Hindu",null,"GOVT. SENIOR SECONDARY SCHOOL ALNIYAWAS (219445)",8140200308,"XXXX5851",null,9828121014,"alniyawas318",0,"N","N","No",13,"None",1]
[9,"A",4773,"2019-07-25","manjeet319",null,"vijay319","beautiful319","F","2006-12-09","yes",319,null,null,"OBC","Hindu",null,"GOVT. SENIOR SECONDARY SCHOOL ALNIYAWAS (219445)",8140200308,"XXXX8061",null,9828121015,"alniyawas319",60000,"N","N","No",14,"None",3]
[9,"A",3844,"2015-05-11","manjeet320",null,"vijay320","beautiful320","F","2005-07-10","yes",320,null,null,"OBC","Muslim",null,"GOVT. SENIOR SECONDARY SCHOOL ALNIYAWAS (219445)",8140200308,"XXXX0408",null,9828121016,"alniyawas320",36000,"N","N","Yes",15,"None",1]
[9,"A",4821,"2012-05-03","manjeet321",null,"vijay321","beautiful321","M","2007-09-17","no",321,null,null,"OBC","Muslim",null,"GOVT. SENIOR SECONDARY SCHOOL ALNIYAWAS (219445)",8140200308,"XXXX2055","YQQWKUF",9828121017,"alniyawas321",60000,"N","N","Yes",13,"None",0]
[9,"A",4454,"2018-07-02","manjeet322",null,"vijay322","beautiful322","M","2007-05-25","yes",322,null,null,"OBC","Hindu",null,"GOVT. SENIOR SECONDARY SCHOOL ALNIYAWAS (219445)",8140200308,"XXXX8900",null,9828121018,"alniyawas322",50000,"N","N","No",13,"None",2]
[9,"A",4828,null,"manjeet323",null,"vijay323","beautiful323","M","2008-04-23","yes",323,null,null,"GEN",null,null,"GOVT. SENIOR SECONDARY SCHOOL ALNIYAWAS (219445)",8140200308,null,null,9828121019,"alniyawas323",null,"N","Y",null,12,null,1]
[9,"A",4544,"2018-07-10","manjeet324",null,"vijay324","beautiful324","F","2007-07-07","no",324,null,null,"OBC","Hindu",null,"GOVT. SENIOR SECONDARY SCHOOL ALNIYAWAS (219445)",8140200308,"XXXX4412",null,9828121020,"alniyawas324",60000,"N","N","No",13,"None",1]
[9,"A",3820,"2015-05-11","manjeet325",null,"vijay325","beautiful325","M","2006-03-05","yes",325,null,null,"OBC","Muslim",null,"GOVT. SENIOR SECONDARY SCHOOL ALNIYAWAS (219445)",8140200308,"XXXX2763",null,9828121021,"alniyawas325",0,"N","N","Yes",14,"None",1]
[9,"A",4823,null,"manjeet326",null,"vijay326","beautiful326","F","2006-05-10","yes",326,null,null,"OBC",null,null,"GOVT. SENIOR SECONDARY SCHOOL ALNIYAWAS (219445)",8140200308,null,null,9828121022,"alniyawas326",null,"N","Y",null,14,null,2]
[9,"A",4824,null,"manjeet327",null,"vijay327","beautiful327","F","2004-07-07","no",327,null,null,"OBC",null,null,"GOVT. SENIOR SECONDARY SCHOOL ALNIYAWAS (219445)",8140200308,null,null,9828121023,"alniyawas327",null,"N","Y",null,16,null,2]
[9,"A",4145,"2016-07-02","manjeet328",null,"vijay328","beautiful328","M","2004-05-12","yes",328,null,null,"SC","Hindu",null,"GOVT. SENIOR SECONDARY SCHOOL ALNIYAWAS (219445)",8140200308,"XXXX0192",null,9828121024,"alniyawas328",0,"N","N","No",16,"None",3]
[9,"A",4273,"2017-06-29","manjeet329",null,"vijay329","beautiful329","F","2006-06-24","yes",329,null,null,"OBC","Hindu",null,"GOVT. SENIOR SECONDARY SCHOOL ALNIYAWAS (219445)",8140200308,"XXXX6856",null,9828121025,"alniyawas329",0,"N","N","No",14,"None",5]
[9,"A",3846,"2015-05-11","manjeet330",null,"vijay330","beautiful330","F","2006-06-05","no",330,null,null,"OBC","Muslim",null,"GOVT. SENIOR SECONDARY SCHOOL ALNIYAWAS (219445)",8140200308,"XXXX5653",null,9828121026,"alniyawas330",0,"N","N","Yes",14,"None",1]
[9,"A",3833,"2015-05-11","manjeet331",null,"vijay331","beautiful331","F","2006-07-07","yes",331,null,null,"SC","Hindu",null,"GOVT. SENIOR SECONDARY SCHOOL ALNIYAWAS (219445)",8140200308,"XXXX0525","YBOKWIK",9828121027,"alniyawas331",120000,"N","N","No",14,"None",1]
[9,"A",4387,"2017-07-14","manjeet332",null,"vijay332","beautiful332","F","2006-07-06","yes",332,null,null,"GEN","Hindu",null,"GOVT. SENIOR SECONDARY SCHOOL ALNIYAWAS (219445)",8140200308,"XXXX9406",null,9828121028,"alniyawas332",0,"N","N","No",14,"None",5]
[9,"A",4813,"2013-05-08","manjeet333",null,"vijay333","beautiful333","M","2004-08-15","no",333,null,null,"OBC","Hindu",null,"GOVT. SENIOR SECONDARY SCHOOL ALNIYAWAS (219445)",8140200308,"XXXX0242","YOEOCMW",9828121029,"alniyawas333",65000,"N","N","No",16,"None",2.5]
[9,"A",4291,"2017-06-30","manjeet334",null,"vijay334","beautiful334","F","2006-02-08","yes",334,null,null,"OBC","Hindu",null,"GOVT. SENIOR SECONDARY SCHOOL ALNIYAWAS (219445)",8140200308,"XXXX6009",null,9828121030,"alniyawas334",0,"N","N","No",14,"None",3]
[9,"A",4889,"2016-07-12","manjeet335",null,"vijay335","beautiful335","M","2007-07-25","yes",335,null,null,"OBC","Muslim",null,"GOVT. SENIOR SECONDARY SCHOOL ALNIYAWAS (219445)",8140200308,"XXXX6794","VXSWSZH",9828121031,"alniyawas335",120000,"N","N","Yes",13,"None",0]
[9,"A",4643,"2019-07-04","manjeet336",null,"vijay336","beautiful336","M","2008-08-17","no",336,null,null,"GEN","Hindu",null,"GOVT. SENIOR SECONDARY SCHOOL ALNIYAWAS (219445)",8140200308,"XXXX0104",null,9828121032,"alniyawas336",60000,"N","N","No",12,"None",0]
[9,"A",3817,"2015-05-11","manjeet337",null,"vijay337","beautiful337","F","2006-04-11","yes",337,null,null,"OBC","Muslim",null,"GOVT. SENIOR SECONDARY SCHOOL ALNIYAWAS (219445)",8140200308,"XXXX0577",null,9828121033,"alniyawas337",0,"N","N","Yes",14,"None",1]
[9,"A",4772,"2019-07-25","manjeet338",null,"vijay338","beautiful338","F","2005-08-27","yes",338,null,null,"OBC","Hindu",null,"GOVT. SENIOR SECONDARY SCHOOL ALNIYAWAS (219445)",8140200308,"XXXX2916","ymukugo",9828121034,"alniyawas338",50000,"N","N","No",15,"None",3]
[9,"A",4800,"2020-08-13","manjeet339",null,"vijay339","beautiful339","F","2006-07-07","no",339,null,null,"SC","Hindu",null,"GOVT. SENIOR SECONDARY SCHOOL ALNIYAWAS (219445)",8140200308,"XXXX3961",null,9828121035,"alniyawas339",80000,"N","N","No",14,"None",1]
[9,"A",4825,"2019-07-04","manjeet340",null,"vijay340","beautiful340","F","2006-07-27","yes",340,null,null,"OBC","Hindu",null,"GOVT. SENIOR SECONDARY SCHOOL ALNIYAWAS (219445)",8140200308,"XXXX9894","YOBYDGC",9828121036,"alniyawas340",170000,"N","N","No",14,"None",3]
[9,"A",3854,"2015-05-11","manjeet341",null,"vijay341","beautiful341","F","2006-07-21","yes",341,null,null,"OBC","Muslim",null,"GOVT. SENIOR SECONDARY SCHOOL ALNIYAWAS (219445)",8140200308,"XXXX0201",null,9828121037,"alniyawas341",100000,"N","N","Yes",14,"None",1]
[9,"A",3839,"2015-05-11","manjeet342",null,"vijay342","beautiful342","F","2005-06-21","no",342,null,null,"SC","Hindu",null,"GOVT. SENIOR SECONDARY SCHOOL ALNIYAWAS (219445)",8140200308,"XXXX6018",null,9828121038,"alniyawas342",0,"N","N","No",15,"None",1]
[9,"A",4317,"2017-07-04","manjeet343",null,"vijay343","beautiful343","F","2008-05-17","yes",343,null,null,"OBC","Hindu",null,"GOVT. SENIOR SECONDARY SCHOOL ALNIYAWAS (219445)",8140200308,"XXXX9385",null,9828121039,"alniyawas343",0,"N","N","No",12,"None",1]
[9,"A",4817,"2015-07-03","manjeet344",null,"vijay344","beautiful344","F","2005-01-18","yes",344,null,null,"SC","Hindu",null,"GOVT. SENIOR SECONDARY SCHOOL ALNIYAWAS (219445)",8140200308,"XXXX2922","VRRKWKR",9828121040,"alniyawas344",60000,"N","N","No",15,"None",3]
[9,"A",4726,"2019-07-13","manjeet345",null,"vijay345","beautiful345","F","2005-09-08","no",345,null,null,"OBC","Hindu",null,"GOVT. SENIOR SECONDARY SCHOOL ALNIYAWAS (219445)",8140200308,"XXXX0414",null,9828121041,"alniyawas345",50000,"N","N","No",15,"None",3]
[9,"A",4761,"2019-07-22","manjeet346",null,"vijay346","beautiful346","M","2005-03-29","yes",346,null,null,"GEN","Hindu",null,"GOVT. SENIOR SECONDARY SCHOOL ALNIYAWAS (219445)",8140200308,"XXXX0518","ysoiydb",9828121042,"alniyawas346",40000,"N","N","No",15,"None",1]
[9,"A",4284,"2017-06-28","manjeet347",null,"vijay347","beautiful347","M","2005-02-10","yes",347,null,null,"OBC","Hindu",null,"GOVT. SENIOR SECONDARY SCHOOL ALNIYAWAS (219445)",8140200308,"XXXX6027",null,9828121043,"alniyawas347",0,"N","N","No",15,"None",3]
[9,"A",4846,"2018-07-06","manjeet348",null,"vijay348","beautiful348","F","2005-04-20","no",348,null,null,"OBC","Hindu",null,"GOVT. SENIOR SECONDARY SCHOOL ALNIYAWAS (219445)",8140200308,"XXXX5511","YOYDFYF",9828121044,"alniyawas348",120000,"N","N","No",15,"None",0]
[9,"A",4820,null,"manjeet349",null,"vijay349","beautiful349","F","2005-07-25","yes",349,null,null,"OBC",null,null,"GOVT. SENIOR SECONDARY SCHOOL ALNIYAWAS (219445)",8140200308,null,null,9828121045,"alniyawas349",null,"N","Y",null,15,null,3]
[9,"A",4827,"2019-12-14","manjeet350",null,"vijay350","beautiful350","M","2006-07-04","yes",350,null,null,"OBC","Hindu",null,"GOVT. SENIOR SECONDARY SCHOOL ALNIYAWAS (219445)",8140200308,"XXXX5951","YMKYEOK",9828121046,"alniyawas350",60000,"N","N","No",14,"None",2]
[9,"A",4816,"2013-07-03","manjeet351",null,"vijay351","beautiful351","M","2006-10-10","no",351,null,null,"OBC","Hindu",null,"GOVT. SENIOR SECONDARY SCHOOL ALNIYAWAS (219445)",8140200308,"XXXX3766","WDYCWMO",9828121047,"alniyawas351",60000,"N","N","No",14,"None",2.5]
[9,"A",4785,"2019-10-14","manjeet352",null,"vijay352","beautiful352","F","2006-07-05","yes",352,null,null,"GEN","Hindu",null,"GOVT. SENIOR SECONDARY SCHOOL ALNIYAWAS (219445)",8140200308,"XXXX3493","ymffwdf",9828121048,"alniyawas352",120000,"N","N","No",14,"None",1]
[9,"A",4721,"2019-07-12","manjeet353",null,"vijay353","beautiful353","F","2005-07-03","yes",353,null,null,"OBC","Muslim",null,"GOVT. SENIOR SECONDARY SCHOOL ALNIYAWAS (219445)",8140200308,"XXXX8934",null,9828121049,"alniyawas353",0,"N","N","Yes",15,"None",1]
[9,"A",4812,"2014-08-04","manjeet354",null,"vijay354","beautiful354","M","2004-05-05","no",354,null,null,"OBC","Hindu",null,"GOVT. SENIOR SECONDARY SCHOOL ALNIYAWAS (219445)",8140200308,"XXXX3677",null,9828121050,"alniyawas354",60000,"N","N","No",16,"None",2.5]
[9,"A",4822,"2011-07-11","manjeet355",null,"vijay355","beautiful355","F","2005-09-03","yes",355,null,null,"SC","Hindu",null,"GOVT. SENIOR SECONDARY SCHOOL ALNIYAWAS (219445)",8140200308,"XXXX2410","YMKAOGK",9828121051,"alniyawas355",60000,"N","N","No",15,"None",0]
[9,"A",4818,"2017-08-05","manjeet356",null,"vijay356","beautiful356","M","2005-06-11","yes",356,null,null,"OBC",null,null,"GOVT. SENIOR SECONDARY SCHOOL ALNIYAWAS (219445)",8140200308,"XXXX9289",null,9828121052,"alniyawas356",150000,"N","N",null,15,"None",1]
[9,"A",4814,"2011-07-09","manjeet357",null,"vijay357","beautiful357","F","2006-01-26","no",357,null,null,"SC",null,null,"GOVT. SENIOR SECONDARY SCHOOL ALNIYAWAS (219445)",8140200308,"XXXX5685",null,9828121053,"alniyawas357",0,"N","N",null,14,"None",0]
[9,"A",4463,"2018-07-03","manjeet358",null,"vijay358","beautiful358","F","2005-04-12","yes",358,null,null,"OBC","Hindu",null,"GOVT. SENIOR SECONDARY SCHOOL ALNIYAWAS (219445)",8140200308,"XXXX1340",null,9828121054,"alniyawas358",50000,"N","N","No",15,"None",3]
[9,"A",4798,null,"manjeet359",null,"vijay359","beautiful359","M","2007-07-01","yes",359,null,null,"OBC",null,null,"GOVT. SENIOR SECONDARY SCHOOL ALNIYAWAS (219445)",8140200308,null,null,9828121055,"alniyawas359",null,"N","Y",null,13,null,1]
[9,"A",4375,"2017-07-11","manjeet360",null,"vijay360","beautiful360","M","2005-06-03","no",360,null,null,"GEN","Hindu",null,"GOVT. SENIOR SECONDARY SCHOOL ALNIYAWAS (219445)",8140200308,"XXXX4226",null,9828121056,"alniyawas360",0,"N","N","No",15,"None",1]
[9,"A",4294,"2017-06-30","manjeet361",null,"vijay361","beautiful361","F","2005-06-07","yes",361,null,null,"OBC","Hindu",null,"GOVT. SENIOR SECONDARY SCHOOL ALNIYAWAS (219445)",8140200308,"XXXX9444",null,9828121057,"alniyawas361",72000,"N","N","No",15,"None",5]
[9,"A",4569,"2018-07-14","manjeet362",null,"vijay362","beautiful362","F","2006-12-10","yes",362,null,null,"SBC","Hindu",null,"GOVT. SENIOR SECONDARY SCHOOL ALNIYAWAS (219445)",8140200308,"XXXX3402",null,9828121058,"alniyawas362",50000,"N","N","No",14,"None",1]
[9,"A",4811,"2016-06-30","manjeet363",null,"vijay363","beautiful363","M","2007-07-20","no",363,null,null,"OBC","Hindu",null,"GOVT. SENIOR SECONDARY SCHOOL ALNIYAWAS (219445)",8140200308,"XXXX1339","YQGSDMS",9828121059,"alniyawas363",65000,"N","N","No",13,"None",2]
[9,"A",4098,"2016-05-09","manjeet364",null,"vijay364","beautiful364","M","2006-02-23","yes",364,null,null,"OBC","Hindu",null,"GOVT. SENIOR SECONDARY SCHOOL ALNIYAWAS (219445)",8140200308,"XXXX5163",null,9828121060,"alniyawas364",0,"N","N","No",14,"None",1]
[9,"A",4810,"2013-05-11","manjeet365",null,"vijay365","beautiful365","M","2006-01-07","yes",365,null,null,"OBC","Hindu",null,"GOVT. SENIOR SECONDARY SCHOOL ALNIYAWAS (219445)",8140200308,"XXXX3052",null,9828121061,"alniyawas365",65000,"N","N","No",14,"None",2]
[9,"B",4347,"2017-07-06","manjeet366",null,"vijay366","beautiful366","F","2005-04-10","no",366,null,null,"OBC","Hindu",null,"GOVT. SENIOR SECONDARY SCHOOL ALNIYAWAS (219445)",8140200308,"XXXX1692",null,9828121062,"alniyawas366",0,"N","N","No",15,"None",3]
[9,"B",3843,"2015-05-11","manjeet367",null,"vijay367","beautiful367","M","2005-08-25","yes",367,null,null,"OBC","Muslim",null,"GOVT. SENIOR SECONDARY SCHOOL ALNIYAWAS (219445)",8140200308,"XXXX5671",null,9828121063,"alniyawas367",0,"N","N","Yes",15,"None",1]
[9,"B",3834,"2015-05-11","manjeet368",null,"vijay368","beautiful368","M","2006-07-03","yes",368,null,null,"SC","Hindu",null,"GOVT. SENIOR SECONDARY SCHOOL ALNIYAWAS (219445)",8140200308,"XXXX3165",null,9828121064,"alniyawas368",0,"N","N","No",14,"None",1]
[9,"B",4599,"2018-07-25","manjeet369",null,"vijay369","beautiful369","M","2006-07-05","no",369,null,null,"OBC","Hindu",null,"GOVT. SENIOR SECONDARY SCHOOL ALNIYAWAS (219445)",8140200308,"XXXX4211",null,9828121065,"alniyawas369",50000,"N","N","No",14,"None",0]
[9,"B",4847,null,"manjeet370",null,"vijay370","beautiful370","F","2006-03-02","yes",370,null,null,"OBC",null,null,"GOVT. SENIOR SECONDARY SCHOOL ALNIYAWAS (219445)",8140200308,null,null,9828121066,"alniyawas370",null,"N","Y",null,14,null,3]
[9,"B",3819,"2015-05-11","manjeet371",null,"vijay371","beautiful371","M","2006-04-02","yes",371,null,null,"OBC","Muslim",null,"GOVT. SENIOR SECONDARY SCHOOL ALNIYAWAS (219445)",8140200308,"XXXX8637",null,9828121067,"alniyawas371",0,"N","N","Yes",14,"None",0]
[9,"B",4295,"2017-06-30","manjeet372",null,"vijay372","beautiful372","M","2007-09-21","no",372,null,null,"OBC","Hindu",null,"GOVT. SENIOR SECONDARY SCHOOL ALNIYAWAS (219445)",8140200308,"XXXX3283",null,9828121068,"alniyawas372",0,"N","N","No",13,"None",1]
[9,"B",3832,"2015-05-11","manjeet373",null,"vijay373","beautiful373","M","2005-02-02","yes",373,null,null,"SC","Hindu",null,"GOVT. SENIOR SECONDARY SCHOOL ALNIYAWAS (219445)",8140200308,"XXXX4317","YBOKWIK",9828121069,"alniyawas373",60000,"N","N","No",15,"None",1]
[9,"B",4836,"2014-11-15","manjeet374",null,"vijay374","beautiful374","M","2006-12-07","yes",374,null,null,"SC","Hindu",null,"GOVT. SENIOR SECONDARY SCHOOL ALNIYAWAS (219445)",8140200308,"XXXX8572","YYYUIIO",9828121070,"alniyawas374",40000,"N","N","No",14,"None",0]
[9,"B",4637,"2019-07-03","manjeet375",null,"vijay375","beautiful375","M","2004-06-02","no",375,null,null,"GEN","Hindu",null,"GOVT. SENIOR SECONDARY SCHOOL ALNIYAWAS (219445)",8140200308,"XXXX5727","wxvczgx",9828121071,"alniyawas375",60000,"N","N","No",16,"None",2]
[9,"B",4853,"2011-11-01","manjeet376",null,"vijay376","beautiful376","F","2005-10-05","yes",376,null,null,"OBC","Hindu",null,"GOVT. SENIOR SECONDARY SCHOOL ALNIYAWAS (219445)",8140200308,"XXXX2937","YMSUYSS",9828121072,"alniyawas376",60000,"N","N","No",15,"None",0]
[9,"B",4636,"2019-07-03","manjeet377",null,"vijay377","beautiful377","M","2005-02-01","yes",377,null,null,"OBC","Hindu",null,"GOVT. SENIOR SECONDARY SCHOOL ALNIYAWAS (219445)",8140200308,"XXXX9464",null,9828121073,"alniyawas377",60000,"N","N","No",15,"None",3]
[9,"B",4831,"2020-08-31","manjeet378",null,"vijay378","beautiful378","F","2006-01-04","no",378,null,null,"SC","Hindu",null,"GOVT. SENIOR SECONDARY SCHOOL ALNIYAWAS (219445)",8140200308,"XXXX4208","YMQFQAG",9828121074,"alniyawas378",60000,"N","N","No",14,"None",0]
[9,"B",4546,"2018-07-10","manjeet379",null,"vijay379","beautiful379","M","2007-01-05","yes",379,null,null,"GEN","Hindu",null,"GOVT. SENIOR SECONDARY SCHOOL ALNIYAWAS (219445)",8140200308,"XXXX1906",null,9828121075,"alniyawas379",50000,"N","N","No",13,"None",1]
[9,"B",4126,"2016-06-30","manjeet380",null,"vijay380","beautiful380","M","2005-02-01","yes",380,null,null,"OBC","Muslim",null,"GOVT. SENIOR SECONDARY SCHOOL ALNIYAWAS (219445)",8140200308,"XXXX6789",null,9828121076,"alniyawas380",0,"N","N","Yes",15,"None",2]
[9,"B",4882,"2014-07-24","manjeet381",null,"vijay381","beautiful381","F","2005-10-10","no",381,null,null,"SC","Hindu",null,"GOVT. SENIOR SECONDARY SCHOOL ALNIYAWAS (219445)",8140200308,"XXXX6839",null,9828121077,"alniyawas381",50000,"N","N","No",15,"None",0]
[9,"B",4222,"2016-07-15","manjeet382",null,"vijay382","beautiful382","M","2005-07-04","yes",382,null,null,"OBC","Muslim",null,"GOVT. SENIOR SECONDARY SCHOOL ALNIYAWAS (219445)",8140200308,"XXXX7391",null,9828121078,"alniyawas382",0,"N","N","Yes",15,"None",0]
[9,"B",4879,null,"manjeet383",null,"vijay383","beautiful383","F","2005-05-28","yes",383,null,null,"OBC",null,null,"GOVT. SENIOR SECONDARY SCHOOL ALNIYAWAS (219445)",8140200308,null,null,9828121079,"alniyawas383",null,"N","Y",null,15,null,0]
[9,"B",4842,null,"manjeet384",null,"vijay384","beautiful384","M","2007-01-01","no",384,null,null,"OBC",null,null,"GOVT. SENIOR SECONDARY SCHOOL ALNIYAWAS (219445)",8140200308,null,null,9828121080,"alniyawas384",null,"N","Y",null,13,null,1]
[9,"B",4488,"2017-06-27","manjeet385",null,"vijay385","beautiful385","M","2006-06-13","yes",385,null,null,"SC","Hindu",null,"GOVT. SENIOR SECONDARY SCHOOL ALNIYAWAS (219445)",8140200308,"XXXX3359","VBKWWZX",9828121081,"alniyawas385",50000,"N","N","No",14,"None",5]
[9,"B",4848,null,"manjeet386",null,"vijay386","beautiful386","M","2005-10-10","yes",386,null,null,"OBC",null,null,"GOVT. SENIOR SECONDARY SCHOOL ALNIYAWAS (219445)",8140200308,null,null,9828121082,"alniyawas386",null,"N","Y",null,15,null,2]
[9,"B",4851,null,"manjeet387",null,"vijay387","beautiful387","M","2004-02-15","no",387,null,null,"OBC",null,null,"GOVT. SENIOR SECONDARY SCHOOL ALNIYAWAS (219445)",8140200308,null,null,9828121083,"alniyawas387",null,"N","Y",null,16,null,3]
[9,"B",4107,"2016-06-25","manjeet388",null,"vijay388","beautiful388","M","2006-04-15","yes",388,null,null,"SC","Hindu",null,"GOVT. SENIOR SECONDARY SCHOOL ALNIYAWAS (219445)",8140200308,"XXXX1846",null,9828121084,"alniyawas388",0,"N","N","No",14,"None",1]
[9,"B",4262,"1900-05-27","manjeet389",null,"vijay389","beautiful389","M","2005-09-07","yes",389,null,null,"OBC","Hindu",null,"GOVT. SENIOR SECONDARY SCHOOL ALNIYAWAS (219445)",8140200308,"XXXX0744",null,9828121085,"alniyawas389",0,"N","N","No",15,"None",3]
[9,"B",4768,"2019-07-24","manjeet390",null,"vijay390","beautiful390","M","2008-07-07","no",390,null,null,"OBC","Hindu",null,"GOVT. SENIOR SECONDARY SCHOOL ALNIYAWAS (219445)",8140200308,"XXXX9859","yqqoswo",9828121086,"alniyawas390",100000,"N","N","No",12,"None",3]
[9,"B",4891,null,"manjeet391",null,"vijay391","beautiful391","F","2009-08-01","yes",391,null,null,"OBC",null,null,"GOVT. SENIOR SECONDARY SCHOOL ALNIYAWAS (219445)",8140200308,null,null,9828121087,"alniyawas391",null,"N","Y",null,11,null,1]
[9,"B",4639,"2019-07-03","manjeet392",null,"vijay392","beautiful392","M","2006-01-01","yes",392,null,null,"OBC","Hindu",null,"GOVT. SENIOR SECONDARY SCHOOL ALNIYAWAS (219445)",8140200308,"XXXX0595",null,9828121088,"alniyawas392",60000,"N","N","No",14,"None",0]
[9,"B",3848,"2015-05-11","manjeet393",null,"vijay393","beautiful393","F","2005-07-05","no",393,null,null,"OBC","Muslim",null,"GOVT. SENIOR SECONDARY SCHOOL ALNIYAWAS (219445)",8140200308,"XXXX9672","VXKHSXJ",9828121089,"alniyawas393",36000,"N","N","Yes",15,"None",1]
[9,"B",4808,null,"manjeet394",null,"vijay394","beautiful394","M","2007-11-22","yes",394,null,null,"GEN",null,null,"GOVT. SENIOR SECONDARY SCHOOL ALNIYAWAS (219445)",8140200308,null,null,9828121090,"alniyawas394",null,"N","Y",null,13,null,1]
[9,"B",4835,"2010-07-05","manjeet395",null,"vijay395","beautiful395","F","2006-09-20","yes",395,null,null,"SC","Hindu",null,"GOVT. SENIOR SECONDARY SCHOOL ALNIYAWAS (219445)",8140200308,"XXXX5096","YKKSIGK",9828121091,"alniyawas395",36000,"N","N","No",14,"None",0]
[9,"B",3837,"2015-05-11","manjeet396",null,"vijay396","beautiful396","F","2006-06-05","no",396,null,null,"OBC","Muslim",null,"GOVT. SENIOR SECONDARY SCHOOL ALNIYAWAS (219445)",8140200308,"XXXX4972",null,9828121092,"alniyawas396",0,"N","N","Yes",14,"None",1]
[9,"B",4854,null,"manjeet397",null,"vijay397","beautiful397","M","2005-06-28","yes",397,null,null,"OBC",null,null,"GOVT. SENIOR SECONDARY SCHOOL ALNIYAWAS (219445)",8140200308,null,null,9828121093,"alniyawas397",null,"N","Y",null,15,null,1]
[9,"B",4832,"2020-08-31","manjeet398",null,"vijay398","beautiful398","M","2007-01-25","yes",398,null,null,"OBC",null,null,"GOVT. SENIOR SECONDARY SCHOOL ALNIYAWAS (219445)",8140200308,null,null,9828121094,"alniyawas398",null,"N","N",null,13,"None",1]
[9,"B",3841,"2015-05-11","manjeet399",null,"vijay399","beautiful399","F","2006-11-12","no",399,null,null,"SC","Hindu",null,"GOVT. SENIOR SECONDARY SCHOOL ALNIYAWAS (219445)",8140200308,"XXXX4524",null,9828121095,"alniyawas399",0,"N","N","No",14,"None",0]
[9,"B",4840,null,"manjeet400",null,"vijay400","beautiful400","F","2005-01-01","yes",400,null,null,"GEN",null,null,"GOVT. SENIOR SECONDARY SCHOOL ALNIYAWAS (219445)",8140200308,null,null,9828121096,"alniyawas400",null,"N","Y",null,15,null,5]
[9,"B",4638,"2019-07-03","manjeet401",null,"vijay401","beautiful401","F","2005-05-15","yes",401,null,null,"OBC","Hindu",null,"GOVT. SENIOR SECONDARY SCHOOL ALNIYAWAS (219445)",8140200308,"XXXX8844",null,9828121097,"alniyawas401",105000,"N","N","No",15,"None",3]
[9,"B",4841,"2011-07-07","manjeet402",null,"vijay402","beautiful402","M","2006-05-03","no",402,null,null,"OBC","Hindu",null,"GOVT. SENIOR SECONDARY SCHOOL ALNIYAWAS (219445)",8140200308,"XXXX8493","VVOBWVH",9828121098,"alniyawas402",50000,"N","N","No",14,"None",0]
[9,"B",4877,"2018-07-30","manjeet403",null,"vijay403","beautiful403","M","2006-12-06","yes",403,null,null,"OBC","Hindu",null,"GOVT. SENIOR SECONDARY SCHOOL ALNIYAWAS (219445)",8140200308,"XXXX9561","VRWXJJH",9828121099,"alniyawas403",65000,"N","N","No",14,"None",3]
[9,"B",3821,"2015-05-11","manjeet404",null,"vijay404","beautiful404","M","2006-08-05","yes",404,null,null,"OBC","Muslim",null,"GOVT. SENIOR SECONDARY SCHOOL ALNIYAWAS (219445)",8140200308,"XXXX8159",null,9828121100,"alniyawas404",0,"N","N","Yes",14,"None",1]
[9,"B",4939,"2012-05-03","manjeet405",null,"vijay405","beautiful405","F","2006-10-14","no",405,null,null,"OBC","Muslim",null,"GOVT. SENIOR SECONDARY SCHOOL ALNIYAWAS (219445)",8140200308,"XXXX8175","VKTOORH",9828121101,"alniyawas405",50000,"N","N","Yes",14,"None",0]
[9,"B",3825,"2015-05-11","manjeet406",null,"vijay406","beautiful406","F","2005-01-01","yes",406,null,null,"OBC","Muslim",null,"GOVT. SENIOR SECONDARY SCHOOL ALNIYAWAS (219445)",8140200308,"XXXX3179",null,9828121102,"alniyawas406",100000,"N","N","Yes",15,"None",0]
[9,"B",3835,"2015-05-11","manjeet407",null,"vijay407","beautiful407","F","2006-08-07","yes",407,null,null,"OBC","Muslim",null,"GOVT. SENIOR SECONDARY SCHOOL ALNIYAWAS (219445)",8140200308,"XXXX5216",null,9828121103,"alniyawas407",0,"N","N","Yes",14,"None",1]
[9,"B",4271,"1900-05-27","manjeet408",null,"vijay408","beautiful408","F","2006-02-08","no",408,null,null,"OBC","Hindu",null,"GOVT. SENIOR SECONDARY SCHOOL ALNIYAWAS (219445)",8140200308,"XXXX7303",null,9828121104,"alniyawas408",0,"N","N","No",14,"None",3]
[9,"B",4426,"2017-07-22","manjeet409",null,"vijay409","beautiful409","F","2006-06-25","yes",409,null,null,"OBC","Hindu",null,"GOVT. SENIOR SECONDARY SCHOOL ALNIYAWAS (219445)",8140200308,"XXXX1720",null,9828121105,"alniyawas409",0,"N","N","No",14,"None",5]
[9,"B",4837,"2018-07-20","manjeet410",null,"vijay410","beautiful410","F","2008-03-02","yes",410,null,null,"OBC","Hindu",null,"GOVT. SENIOR SECONDARY SCHOOL ALNIYAWAS (219445)",8140200308,"XXXX6989","VWRTJVH",9828121106,"alniyawas410",36000,"N","N","No",12,"None",0]
[9,"B",4833,"2020-08-31","manjeet411",null,"vijay411","beautiful411","F","2006-02-28","no",411,null,null,"OBC","Hindu",null,"GOVT. SENIOR SECONDARY SCHOOL ALNIYAWAS (219445)",8140200308,"XXXX0420",null,9828121107,"alniyawas411",60000,"N","N","No",14,"None",2]
[9,"B",4893,null,"manjeet412",null,"vijay412","beautiful412","F","2005-09-04","yes",412,null,null,"OBC",null,null,"GOVT. SENIOR SECONDARY SCHOOL ALNIYAWAS (219445)",8140200308,null,null,9828121108,"alniyawas412",null,"N","Y",null,15,null,2]
[9,"B",4880,"2018-06-28","manjeet413",null,"vijay413","beautiful413","F","2005-07-08","yes",413,null,null,"OBC","Hindu",null,"GOVT. SENIOR SECONDARY SCHOOL ALNIYAWAS (219445)",8140200308,"XXXX4309",null,9828121109,"alniyawas413",80000,"N","N","No",15,"None",6]
[9,"B",4883,"2011-07-06","manjeet414",null,"vijay414","beautiful414","F","2007-04-08","no",414,null,null,"OBC","Hindu",null,"GOVT. SENIOR SECONDARY SCHOOL ALNIYAWAS (219445)",8140200308,"XXXX3549","VTSOKXJ",9828121110,"alniyawas414",50000,"N","N","No",13,"None",0]
[9,"B",3823,"2015-05-11","manjeet415",null,"vijay415","beautiful415","M","2006-07-05","yes",415,null,null,"OBC","Hindu",null,"GOVT. SENIOR SECONDARY SCHOOL ALNIYAWAS (219445)",8140200308,"XXXX3790",null,9828121111,"alniyawas415",0,"N","N","No",14,"None",5]
[9,"B",4444,"2018-07-02","manjeet416",null,"vijay416","beautiful416","M","2006-07-01","yes",416,null,null,"OBC","Hindu",null,"GOVT. SENIOR SECONDARY SCHOOL ALNIYAWAS (219445)",8140200308,"XXXX8335",null,9828121112,"alniyawas416",60000,"N","N","No",14,"None",5]
[9,"B",4890,null,"manjeet417",null,"vijay417","beautiful417","M","2007-02-10","no",417,null,null,"OBC",null,null,"GOVT. SENIOR SECONDARY SCHOOL ALNIYAWAS (219445)",8140200308,null,null,9828121113,"alniyawas417",null,"N","Y",null,13,null,1]
[9,"B",4315,"2017-07-04","manjeet418",null,"vijay418","beautiful418","M","2005-07-07","yes",418,null,null,"OBC","Hindu",null,"GOVT. SENIOR SECONDARY SCHOOL ALNIYAWAS (219445)",8140200308,"XXXX3683",null,9828121114,"alniyawas418",0,"N","N","No",15,"None",3]
[9,"B",4830,"2020-08-29","manjeet419",null,"vijay419","beautiful419","F","2006-02-16","yes",419,null,null,"GEN",null,null,"GOVT. SENIOR SECONDARY SCHOOL ALNIYAWAS (219445)",8140200308,"XXXX5229",null,9828121115,"alniyawas419",0,"N","N",null,14,"None",5]
[10,"A",4120,"2016-06-30","manjeet420",null,"vijay420","beautiful420","M","2006-06-27","no",420,null,null,"GEN","Hindu",null,"GOVT. SENIOR SECONDARY SCHOOL ALNIYAWAS (219445)",8140200308,"XXXX3034",null,9828121116,"alniyawas420",0,"N","N","No",14,"None",1]
[10,"A",3773,"2015-05-11","manjeet421",null,"vijay421","beautiful421","M","2005-07-01","yes",421,null,null,"OBC","Muslim",null,"GOVT. SENIOR SECONDARY SCHOOL ALNIYAWAS (219445)",8140200308,"XXXX6919",null,9828121117,"alniyawas421",0,"N","N","Yes",15,"None",1]
[10,"A",4532,"2018-07-07","manjeet422",null,"vijay422","beautiful422","M","2006-09-09","yes",422,null,null,"OBC","Hindu",null,"GOVT. SENIOR SECONDARY SCHOOL ALNIYAWAS (219445)",8140200308,"XXXX2372",null,9828121118,"alniyawas422",45000,"N","N","No",14,"None",1]
[10,"A",3569,"2014-05-13","manjeet423",null,"vijay423","beautiful423","M","2003-07-31","no",423,null,null,"GEN",null,null,"GOVT. SENIOR SECONDARY SCHOOL ALNIYAWAS (219445)",8140200308,"XXXX3161",null,9828121119,"alniyawas423",0,"N","N",null,17,"None",1]
[10,"A",4659,"2019-07-06","manjeet424",null,"vijay424","beautiful424","F","2005-06-05","yes",424,null,null,"GEN","Hindu",null,"GOVT. SENIOR SECONDARY SCHOOL ALNIYAWAS (219445)",8140200308,"XXXX1529","yoiysgs",9828121120,"alniyawas424",60000,"N","N","No",15,"None",0]
[10,"A",4574,"2018-07-16","manjeet425",null,"vijay425","beautiful425","F","2006-08-08","yes",425,null,null,"SC","Hindu",null,"GOVT. SENIOR SECONDARY SCHOOL ALNIYAWAS (219445)",8140200308,"XXXX0567",null,9828121121,"alniyawas425",40000,"N","N","No",14,"None",4]
[10,"A",4665,"2019-07-06","manjeet426",null,"vijay426","beautiful426","M","2006-05-18","no",426,null,null,"GEN","Hindu",null,"GOVT. SENIOR SECONDARY SCHOOL ALNIYAWAS (219445)",8140200308,"XXXX0949","yfwcdyk",9828121122,"alniyawas426",60000,"N","N","No",14,"None",0]
[10,"A",4657,"2019-07-05","manjeet427",null,"vijay427","beautiful427","M","2005-07-06","yes",427,null,null,"OBC","Hindu",null,"GOVT. SENIOR SECONDARY SCHOOL ALNIYAWAS (219445)",8140200308,"XXXX3457","yfuskkw",9828121123,"alniyawas427",80000,"N","N","No",15,"None",2]
[10,"A",3796,"2015-05-11","manjeet428",null,"vijay428","beautiful428","F","2005-07-09","yes",428,null,null,"SC","Hindu",null,"GOVT. SENIOR SECONDARY SCHOOL ALNIYAWAS (219445)",8140200308,"XXXX8459",null,9828121124,"alniyawas428",0,"N","N","No",15,"None",1]
[10,"A",4489,"2018-07-05","manjeet429",null,"vijay429","beautiful429","M","2004-09-27","no",429,null,null,"OBC","Hindu",null,"GOVT. SENIOR SECONDARY SCHOOL ALNIYAWAS (219445)",8140200308,"XXXX0357",null,9828121125,"alniyawas429",50000,"N","N","No",16,"None",5]
[10,"A",4658,"2019-07-05","manjeet430",null,"vijay430","beautiful430","F","2006-05-05","yes",430,null,null,"SC","Hindu",null,"GOVT. SENIOR SECONDARY SCHOOL ALNIYAWAS (219445)",8140200308,"XXXX4286","voxovtr",9828121126,"alniyawas430",100000,"N","N","No",14,"None",1]
[10,"A",4649,"2019-07-04","manjeet431",null,"vijay431","beautiful431","M","2003-06-30","yes",431,null,null,"GEN","Hindu",null,"GOVT. SENIOR SECONDARY SCHOOL ALNIYAWAS (219445)",8140200308,"XXXX8974","yfuskik",9828121127,"alniyawas431",80000,"N","N","No",17,"None",1]
[10,"A",4564,"2018-07-14","manjeet432",null,"vijay432","beautiful432","M","2005-07-01","no",432,null,null,"GEN","Hindu",null,"GOVT. SENIOR SECONDARY SCHOOL ALNIYAWAS (219445)",8140200308,"XXXX2230",null,9828121128,"alniyawas432",40000,"N","N","No",15,"None",5]
[10,"A",3799,"2015-05-11","manjeet433",null,"vijay433","beautiful433","M","2005-03-08","yes",433,null,null,"SC","Hindu",null,"GOVT. SENIOR SECONDARY SCHOOL ALNIYAWAS (219445)",8140200308,"XXXX2570",null,9828121129,"alniyawas433",0,"N","N","No",15,"None",1]
[10,"A",4594,"2018-07-23","manjeet434",null,"vijay434","beautiful434","M","2006-01-01","yes",434,null,null,"OBC","Muslim",null,"GOVT. SENIOR SECONDARY SCHOOL ALNIYAWAS (219445)",8140200308,"XXXX9313","YOBYYOO",9828121130,"alniyawas434",40000,"N","N","Yes",14,"None",1]
[10,"A",4667,"2019-07-06","manjeet435",null,"vijay435","beautiful435","F","2006-05-03","no",435,null,null,"OBC","Hindu",null,"GOVT. SENIOR SECONDARY SCHOOL ALNIYAWAS (219445)",8140200308,"XXXX0201","ybccmyk",9828121131,"alniyawas435",100000,"N","N","No",14,"None",1]
[10,"A",4719,"2019-07-12","manjeet436",null,"vijay436","beautiful436","F","2006-06-25","yes",436,null,null,"SC","Hindu",null,"GOVT. SENIOR SECONDARY SCHOOL ALNIYAWAS (219445)",8140200308,"XXXX1060","VBCROWJ",9828121132,"alniyawas436",72000,"N","N","No",14,"None",1]
[10,"A",4888,null,"manjeet437",null,"vijay437","beautiful437","M","2005-10-31","yes",437,null,null,"GEN",null,null,"GOVT. SENIOR SECONDARY SCHOOL ALNIYAWAS (219445)",8140200308,null,null,9828121133,"alniyawas437",null,"N","Y",null,15,null,1]
[10,"A",4762,"2019-07-23","manjeet438",null,"vijay438","beautiful438","F","2005-05-30","no",438,null,null,"OBC","Hindu",null,"GOVT. SENIOR SECONDARY SCHOOL ALNIYAWAS (219445)",8140200308,"XXXX8489","YOCOIDS",9828121134,"alniyawas438",50000,"N","N","No",15,"None",0]
[10,"A",4666,"2019-07-06","manjeet439",null,"vijay439","beautiful439","M","2005-08-02","yes",439,null,null,"OBC","Muslim",null,"GOVT. SENIOR SECONDARY SCHOOL ALNIYAWAS (219445)",8140200308,"XXXX0836","vrpbknr",9828121135,"alniyawas439",80000,"N","N","Yes",15,"None",1]
[10,"A",3959,"2015-07-01","manjeet440",null,"vijay440","beautiful440","M","2006-09-08","yes",440,null,null,"OBC","Hindu",null,"GOVT. SENIOR SECONDARY SCHOOL ALNIYAWAS (219445)",8140200308,"XXXX6591","YWQSOFB",9828121136,"alniyawas440",60000,"N","N","No",14,"None",1]
[10,"A",4210,"2016-07-15","manjeet441",null,"vijay441","beautiful441","F","2006-06-01","no",441,null,null,"OBC","Hindu",null,"GOVT. SENIOR SECONDARY SCHOOL ALNIYAWAS (219445)",8140200308,"XXXX5754",null,9828121137,"alniyawas441",0,"N","N","No",14,"None",2]
[10,"A",4511,"2018-07-06","manjeet442",null,"vijay442","beautiful442","M","2003-07-07","yes",442,null,null,"GEN","Hindu",null,"GOVT. SENIOR SECONDARY SCHOOL ALNIYAWAS (219445)",8140200308,"XXXX5320","VOJNBCN",9828121138,"alniyawas442",40000,"Y","N","No",17,"None",3]
[10,"A",3791,"2015-05-11","manjeet443",null,"vijay443","beautiful443","F","2004-05-03","yes",443,null,null,"SC","Hindu",null,"GOVT. SENIOR SECONDARY SCHOOL ALNIYAWAS (219445)",8140200308,"XXXX0817",null,9828121139,"alniyawas443",0,"N","N","No",16,"None",1]
[10,"A",4360,"2017-07-08","manjeet444",null,"vijay444","beautiful444","M","2006-07-16","no",444,null,null,"OBC","Muslim",null,"GOVT. SENIOR SECONDARY SCHOOL ALNIYAWAS (219445)",8140200308,"XXXX7668",null,9828121140,"alniyawas444",0,"N","N","Yes",14,"None",1]
[10,"A",4670,"2019-07-08","manjeet445",null,"vijay445","beautiful445","F","2006-03-09","yes",445,null,null,"OBC","Hindu",null,"GOVT. SENIOR SECONDARY SCHOOL ALNIYAWAS (219445)",8140200308,"XXXX4413","vpkcjkr",9828121141,"alniyawas445",80000,"N","N","No",14,"None",1]
[10,"A",4679,"2019-07-09","manjeet446",null,"vijay446","beautiful446","F","2004-08-04","yes",446,null,null,"SC","Hindu",null,"GOVT. SENIOR SECONDARY SCHOOL ALNIYAWAS (219445)",8140200308,"XXXX5291","YUYKFBK",9828121142,"alniyawas446",60000,"N","N","No",16,"None",0]
[10,"A",4570,"2018-07-14","manjeet447",null,"vijay447","beautiful447","F","2005-08-21","no",447,null,null,"SBC","Hindu",null,"GOVT. SENIOR SECONDARY SCHOOL ALNIYAWAS (219445)",8140200308,"XXXX5348","YQKFWMF",9828121143,"alniyawas447",45000,"N","N","No",15,"None",1]
[10,"A",3789,"2015-05-11","manjeet448",null,"vijay448","beautiful448","F","2005-07-05","yes",448,null,null,"SC","Hindu",null,"GOVT. SENIOR SECONDARY SCHOOL ALNIYAWAS (219445)",8140200308,"XXXX8244",null,9828121144,"alniyawas448",0,"N","N","No",15,"None",1]
[10,"A",4656,"2019-07-05","manjeet449",null,"vijay449","beautiful449","F","2006-02-25","yes",449,null,null,"OBC","Hindu",null,"GOVT. SENIOR SECONDARY SCHOOL ALNIYAWAS (219445)",8140200308,"XXXX6742","vtzozpr",9828121145,"alniyawas449",40000,"N","N","No",14,"None",0]
[10,"A",3813,"2015-05-11","manjeet450",null,"vijay450","beautiful450","F","2004-01-13","no",450,null,null,"SBC","Hindu",null,"GOVT. SENIOR SECONDARY SCHOOL ALNIYAWAS (219445)",8140200308,"XXXX4243",null,9828121146,"alniyawas450",0,"N","N","No",16,"None",1]
[10,"A",4647,"2019-07-04","manjeet451",null,"vijay451","beautiful451","M","2005-07-14","yes",451,null,null,"OBC","Hindu",null,"GOVT. SENIOR SECONDARY SCHOOL ALNIYAWAS (219445)",8140200308,"XXXX5085","yqkauew",9828121147,"alniyawas451",80000,"N","N","No",15,"None",1]
[10,"A",4708,"2019-07-10","manjeet452",null,"vijay452","beautiful452","F","2005-04-02","yes",452,null,null,"SBC","Hindu",null,"GOVT. SENIOR SECONDARY SCHOOL ALNIYAWAS (219445)",8140200308,"XXXX7069","vorphkn",9828121148,"alniyawas452",80000,"N","N","No",15,"None",5]
[10,"A",3792,"2015-05-11","manjeet453",null,"vijay453","beautiful453","F","2005-05-05","no",453,null,null,"OBC","Hindu",null,"GOVT. SENIOR SECONDARY SCHOOL ALNIYAWAS (219445)",8140200308,"XXXX6323",null,9828121149,"alniyawas453",60000,"N","N","No",15,"None",1]
[10,"A",3795,"2015-05-11","manjeet454",null,"vijay454","beautiful454","M","2005-05-10","yes",454,null,null,"OBC","Muslim",null,"GOVT. SENIOR SECONDARY SCHOOL ALNIYAWAS (219445)",8140200308,"XXXX8772",null,9828121150,"alniyawas454",0,"N","N","Yes",15,"None",1]
[10,"A",3805,"2015-05-11","manjeet455",null,"vijay455","beautiful455","M","2006-07-15","yes",455,null,null,"OBC","Muslim",null,"GOVT. SENIOR SECONDARY SCHOOL ALNIYAWAS (219445)",8140200308,"XXXX8698",null,9828121151,"alniyawas455",0,"N","N","Yes",14,"None",1]
[10,"A",3802,"2015-05-11","manjeet456",null,"vijay456","beautiful456","M","2005-01-01","no",456,null,null,"OBC","Muslim",null,"GOVT. SENIOR SECONDARY SCHOOL ALNIYAWAS (219445)",8140200308,"XXXX8587",null,9828121152,"alniyawas456",100000,"N","N","Yes",15,"None",1]
[10,"A",4706,"2019-07-10","manjeet457",null,"vijay457","beautiful457","M","2006-07-28","yes",457,null,null,"OBC","Hindu",null,"GOVT. SENIOR SECONDARY SCHOOL ALNIYAWAS (219445)",8140200308,"XXXX7258","wdyeceg",9828121153,"alniyawas457",60000,"N","N","No",14,"None",1]
[10,"A",4730,"2011-07-08","manjeet458",null,"vijay458","beautiful458","M","2005-10-10","yes",458,null,null,"OBC","Muslim",null,"GOVT. SENIOR SECONDARY SCHOOL ALNIYAWAS (219445)",8140200308,"XXXX2051",null,9828121154,"alniyawas458",60000,"N","N","Yes",15,"None",0]
[10,"A",4229,"2016-07-20","manjeet459",null,"vijay459","beautiful459","M","2006-10-08","no",459,null,null,"OBC","Hindu",null,"GOVT. SENIOR SECONDARY SCHOOL ALNIYAWAS (219445)",8140200308,"XXXX2854",null,9828121155,"alniyawas459",0,"N","N","No",14,"None",1]
[10,"A",4688,"2013-07-04","manjeet460",null,"vijay460","beautiful460","M","2005-09-04","yes",460,null,null,"OBC","Hindu",null,"GOVT. SENIOR SECONDARY SCHOOL ALNIYAWAS (219445)",8140200308,"XXXX2398","WXVJHNH",9828121156,"alniyawas460",65000,"N","N","No",15,"None",2]
[10,"A",4306,"2017-07-01","manjeet461",null,"vijay461","beautiful461","M","2005-05-03","yes",461,null,null,"OBC","Hindu",null,"GOVT. SENIOR SECONDARY SCHOOL ALNIYAWAS (219445)",8140200308,"XXXX5513",null,9828121157,"alniyawas461",0,"N","N","No",15,"None",1]
[10,"A",4020,"2015-07-09","manjeet462",null,"vijay462","beautiful462","M","2005-07-07","no",462,null,null,"OBC","Hindu",null,"GOVT. SENIOR SECONDARY SCHOOL ALNIYAWAS (219445)",8140200308,"XXXX3929","WXVJCGN",9828121158,"alniyawas462",60000,"N","N","No",15,"None",1]
[10,"A",4704,"2019-07-10","manjeet463",null,"vijay463","beautiful463","F","2005-06-05","yes",463,null,null,"OBC","Muslim",null,"GOVT. SENIOR SECONDARY SCHOOL ALNIYAWAS (219445)",8140200308,"XXXX2231","YMWESGS",9828121159,"alniyawas463",60000,"N","N","Yes",15,"None",0]
[10,"A",4769,"2016-06-25","manjeet464",null,"vijay464","beautiful464","F","2005-09-01","yes",464,null,null,"SC",null,null,"GOVT. SENIOR SECONDARY SCHOOL ALNIYAWAS (219445)",8140200308,"XXXX6466","VOJRTTX",9828121160,"alniyawas464",45000,"N","N",null,15,"None",0]
[10,"A",4741,"2019-07-16","manjeet465",null,"vijay465","beautiful465","F","2005-07-15","no",465,null,null,"OBC","Hindu",null,"GOVT. SENIOR SECONDARY SCHOOL ALNIYAWAS (219445)",8140200308,"XXXX2552","wxxvktn",9828121161,"alniyawas465",60000,"N","N","No",15,"None",0]
[10,"A",4137,"2016-07-01","manjeet466",null,"vijay466","beautiful466","F","2004-07-05","yes",466,null,null,"OBC","Hindu",null,"GOVT. SENIOR SECONDARY SCHOOL ALNIYAWAS (219445)",8140200308,"XXXX4030",null,9828121162,"alniyawas466",0,"N","N","No",16,"None",1]
[10,"A",4464,"2018-07-03","manjeet467",null,"vijay467","beautiful467","M","2005-08-03","yes",467,null,null,"OBC","Hindu",null,"GOVT. SENIOR SECONDARY SCHOOL ALNIYAWAS (219445)",8140200308,"XXXX0776","YODQCYG",9828121163,"alniyawas467",45000,"N","N","No",15,"None",1]
[10,"A",4165,"2016-07-04","manjeet468",null,"vijay468","beautiful468","M","2005-11-14","no",468,null,null,"SC","Hindu",null,"GOVT. SENIOR SECONDARY SCHOOL ALNIYAWAS (219445)",8140200308,"XXXX6338","YMQOUFB",9828121164,"alniyawas468",36000,"N","N","No",15,"None",1]
[10,"A",4448,"2018-07-02","manjeet469",null,"vijay469","beautiful469","M","2003-05-16","yes",469,null,null,"OBC","Hindu",null,"GOVT. SENIOR SECONDARY SCHOOL ALNIYAWAS (219445)",8140200308,"XXXX6236",null,9828121165,"alniyawas469",60000,"N","N","No",17,"None",2]
[10,"A",4703,"2011-07-07","manjeet470",null,"vijay470","beautiful470","F","2006-10-03","yes",470,null,null,"OBC","Hindu",null,"GOVT. SENIOR SECONDARY SCHOOL ALNIYAWAS (219445)",8140200308,"XXXX2918",null,9828121166,"alniyawas470",60000,"N","N","No",14,"None",0.5]
[10,"A",3784,"2015-05-11","manjeet471",null,"vijay471","beautiful471","M","2005-02-08","no",471,null,null,"SC","Hindu",null,"GOVT. SENIOR SECONDARY SCHOOL ALNIYAWAS (219445)",8140200308,"XXXX9979",null,9828121167,"alniyawas471",0,"N","N","No",15,"None",1]
[10,"A",3743,"2015-05-11","manjeet472",null,"vijay472","beautiful472","F","2005-08-14","yes",472,null,null,"SC","Hindu",null,"GOVT. SENIOR SECONDARY SCHOOL ALNIYAWAS (219445)",8140200308,"XXXX6457",null,9828121168,"alniyawas472",0,"N","N","No",15,"None",0]
[10,"A",4180,"2016-07-08","manjeet473",null,"vijay473","beautiful473","M","2006-07-10","yes",473,null,null,"OBC","Hindu",null,"GOVT. SENIOR SECONDARY SCHOOL ALNIYAWAS (219445)",8140200308,"XXXX2557",null,9828121169,"alniyawas473",0,"N","N","No",14,"None",2]
[10,"A",4348,"2017-07-06","manjeet474",null,"vijay474","beautiful474","M","2006-08-06","no",474,null,null,"OBC","Hindu",null,"GOVT. SENIOR SECONDARY SCHOOL ALNIYAWAS (219445)",8140200308,"XXXX7806",null,9828121170,"alniyawas474",0,"N","N","No",14,"None",1]
[10,"A",4669,"2019-07-08","manjeet475",null,"vijay475","beautiful475","M","2005-11-04","yes",475,null,null,"OBC","Hindu",null,"GOVT. SENIOR SECONDARY SCHOOL ALNIYAWAS (219445)",8140200308,"XXXX2195","vokgtrn",9828121171,"alniyawas475",80000,"N","N","No",15,"None",1]
[10,"A",4241,"2016-07-26","manjeet476",null,"vijay476","beautiful476","M","2005-06-07","yes",476,null,null,"SC","Hindu",null,"GOVT. SENIOR SECONDARY SCHOOL ALNIYAWAS (219445)",8140200308,"XXXX8647",null,9828121172,"alniyawas476",0,"N","N","No",15,"None",1]
[10,"A",4685,"2019-07-09","manjeet477",null,"vijay477","beautiful477","M","2004-04-15","no",477,null,null,"OBC","Hindu",null,"GOVT. SENIOR SECONDARY SCHOOL ALNIYAWAS (219445)",8140200308,"XXXX4559","vppxhsx",9828121173,"alniyawas477",80000,"N","N","No",16,"None",0]
[10,"A",4388,"2017-07-14","manjeet478",null,"vijay478","beautiful478","M","2007-07-06","yes",478,null,null,"GEN","Hindu",null,"GOVT. SENIOR SECONDARY SCHOOL ALNIYAWAS (219445)",8140200308,"XXXX3795",null,9828121174,"alniyawas478",0,"N","N","No",13,"None",1]
[10,"A",4573,"2018-07-16","manjeet479",null,"vijay479","beautiful479","M","2007-05-05","yes",479,null,null,"SC","Hindu",null,"GOVT. SENIOR SECONDARY SCHOOL ALNIYAWAS (219445)",8140200308,"XXXX8449","BHCWWZX",9828121175,"alniyawas479",36000,"N","N","No",13,"None",1]
[10,"A",3785,"2015-05-11","manjeet480",null,"vijay480","beautiful480","M","2005-08-16","no",480,null,null,"OBC","Muslim",null,"GOVT. SENIOR SECONDARY SCHOOL ALNIYAWAS (219445)",8140200308,"XXXX9526",null,9828121176,"alniyawas480",0,"N","N","Yes",15,"None",1]
[10,"A",3793,"2015-05-11","manjeet481",null,"vijay481","beautiful481","M","2005-06-05","yes",481,null,null,"OBC","Muslim",null,"GOVT. SENIOR SECONDARY SCHOOL ALNIYAWAS (219445)",8140200308,"XXXX1437",null,9828121177,"alniyawas481",0,"N","N","Yes",15,"None",1]
[10,"A",4451,"2018-07-02","manjeet482",null,"vijay482","beautiful482","F","2006-07-11","yes",482,null,null,"SC","Hindu",null,"GOVT. SENIOR SECONDARY SCHOOL ALNIYAWAS (219445)",8140200308,"XXXX4911","VNTPSKJ",9828121178,"alniyawas482",36000,"N","N","No",14,"None",2]
[10,"A",4525,"2018-07-07","manjeet483",null,"vijay483","beautiful483","F","2006-09-20","no",483,null,null,"OBC","Hindu",null,"GOVT. SENIOR SECONDARY SCHOOL ALNIYAWAS (219445)",8140200308,"XXXX8593","VHTZJWJ",9828121179,"alniyawas483",36000,"N","N","No",14,"None",4]
[10,"A",4552,"2018-07-11","manjeet484",null,"vijay484","beautiful484","M","2007-10-10","yes",484,null,null,"GEN","Hindu",null,"GOVT. SENIOR SECONDARY SCHOOL ALNIYAWAS (219445)",8140200308,"XXXX0014","WDYEIDF",9828121180,"alniyawas484",45000,"N","N","No",13,"None",1]
[10,"A",3806,"2015-05-11","manjeet485",null,"vijay485","beautiful485","F","2005-07-25","yes",485,null,null,"SC","Hindu",null,"GOVT. SENIOR SECONDARY SCHOOL ALNIYAWAS (219445)",8140200308,"XXXX3964",null,9828121181,"alniyawas485",0,"N","N","No",15,"None",1]
[10,"A",3758,"2015-05-11","manjeet486",null,"vijay486","beautiful486","M","2005-09-10","no",486,null,null,"OBC","Muslim",null,"GOVT. SENIOR SECONDARY SCHOOL ALNIYAWAS (219445)",8140200308,"XXXX6272",null,9828121182,"alniyawas486",0,"N","N","Yes",15,"None",1]
[10,"A",4553,"2018-07-11","manjeet487",null,"vijay487","beautiful487","M","2007-05-10","yes",487,null,null,"OBC","Hindu",null,"GOVT. SENIOR SECONDARY SCHOOL ALNIYAWAS (219445)",8140200308,"XXXX8717","VHJOZOR",9828121183,"alniyawas487",45000,"N","N","No",13,"None",5]
[10,"A",4764,"2019-07-24","manjeet488",null,"vijay488","beautiful488","M","2008-03-02","yes",488,null,null,"OBC","Hindu",null,"GOVT. SENIOR SECONDARY SCHOOL ALNIYAWAS (219445)",8140200308,"XXXX0284","vrpnrtt",9828121184,"alniyawas488",80000,"N","N","No",12,"None",1]
[10,"A",4661,"2019-07-06","manjeet489",null,"vijay489","beautiful489","F","2005-12-25","no",489,null,null,"OBC","Hindu",null,"GOVT. SENIOR SECONDARY SCHOOL ALNIYAWAS (219445)",8140200308,"XXXX1228","YOUDUCC",9828121185,"alniyawas489",225000,"N","N","No",15,"None",0]
[10,"A",4259,"2017-06-27","manjeet490",null,"vijay490","beautiful490","M","2005-08-26","yes",490,null,null,"GEN","Hindu",null,"GOVT. SENIOR SECONDARY SCHOOL ALNIYAWAS (219445)",8140200308,"XXXX9386",null,9828121186,"alniyawas490",0,"N","N","No",15,"None",1]
[10,"A",4705,"2013-07-06","manjeet491",null,"vijay491","beautiful491","M","2005-07-05","yes",491,null,null,"OBC","Hindu",null,"GOVT. SENIOR SECONDARY SCHOOL ALNIYAWAS (219445)",8140200308,"XXXX8072","WXVCVCJ",9828121187,"alniyawas491",60000,"N","N","No",15,"None",0.5]
[10,"A",4390,"2017-07-14","manjeet492",null,"vijay492","beautiful492","M","2004-07-01","no",492,null,null,"GEN","Hindu",null,"GOVT. SENIOR SECONDARY SCHOOL ALNIYAWAS (219445)",8140200308,"XXXX9807",null,9828121188,"alniyawas492",0,"N","N","No",16,"None",1]
[10,"A",4108,"2016-06-25","manjeet493",null,"vijay493","beautiful493","M","2004-08-01","yes",493,null,null,"SC","Hindu",null,"GOVT. SENIOR SECONDARY SCHOOL ALNIYAWAS (219445)",8140200308,"XXXX7497",null,9828121189,"alniyawas493",0,"N","N","No",16,"None",2]
[10,"A",4320,"2017-07-04","manjeet494",null,"vijay494","beautiful494","M","2003-09-02","yes",494,null,null,"OBC","Hindu",null,"GOVT. SENIOR SECONDARY SCHOOL ALNIYAWAS (219445)",8140200308,"XXXX8179",null,9828121190,"alniyawas494",0,"N","N","No",17,"None",1]
[10,"B",3810,"2015-05-11","manjeet495",null,"vijay495","beautiful495","M","2003-10-09","no",495,null,null,"OBC","Muslim",null,"GOVT. SENIOR SECONDARY SCHOOL ALNIYAWAS (219445)",8140200308,"XXXX0193",null,9828121191,"alniyawas495",60000,"N","N","Yes",17,"None",1]
[10,"B",4684,"2014-07-09","manjeet496",null,"vijay496","beautiful496","F","2003-03-06","yes",496,null,null,"OBC","Hindu",null,"GOVT. SENIOR SECONDARY SCHOOL ALNIYAWAS (219445)",8140200308,"XXXX1249","WDYEACC",9828121192,"alniyawas496",0,"N","N","No",17,"None",2.5]
[10,"B",4351,"2017-07-07","manjeet497",null,"vijay497","beautiful497","F","2003-07-07","yes",497,null,null,"SC","Hindu",null,"GOVT. SENIOR SECONDARY SCHOOL ALNIYAWAS (219445)",8140200308,"XXXX9246",null,9828121193,"alniyawas497",36000,"N","N","No",17,"None",1]
[10,"B",4539,"2018-07-10","manjeet498",null,"vijay498","beautiful498","F","2002-08-01","no",498,null,null,"SC","Hindu",null,"GOVT. SENIOR SECONDARY SCHOOL ALNIYAWAS (219445)",8140200308,"XXXX4092","YYUBKQO",9828121194,"alniyawas498",100000,"N","N","No",18,"None",1]
[10,"B",3777,"2015-05-11","manjeet499",null,"vijay499","beautiful499","M","2005-06-14","yes",499,null,null,"SC","Hindu",null,"GOVT. SENIOR SECONDARY SCHOOL ALNIYAWAS (219445)",8140200308,"XXXX2856",null,9828121195,"alniyawas499",0,"N","N","No",15,"None",2]
[10,"B",4318,"2017-07-04","manjeet500",null,"vijay500","beautiful500","M","2005-10-05","yes",500,null,null,"SC","Hindu",null,"GOVT. SENIOR SECONDARY SCHOOL ALNIYAWAS (219445)",8140200308,"XXXX8827",null,9828121196,"alniyawas500",0,"N","N","No",15,"None",1]
[10,"B",4770,"2019-07-22","manjeet501",null,"vijay501","beautiful501","M","2005-07-08","no",501,null,null,"SBC","Hindu",null,"GOVT. SENIOR SECONDARY SCHOOL ALNIYAWAS (219445)",8140200308,"XXXX1742",null,9828121197,"alniyawas501",60000,"N","N","No",15,"None",4]
[10,"B",4644,"2019-07-04","manjeet502",null,"vijay502","beautiful502","M","2004-08-06","yes",502,null,null,"OBC","Hindu",null,"GOVT. SENIOR SECONDARY SCHOOL ALNIYAWAS (219445)",8140200308,"XXXX2257","wxvjnon",9828121198,"alniyawas502",80000,"N","N","No",16,"None",0]
[10,"B",4378,"2017-07-12","manjeet503",null,"vijay503","beautiful503","M","2006-05-10","yes",503,null,null,"GEN","Hindu",null,"GOVT. SENIOR SECONDARY SCHOOL ALNIYAWAS (219445)",8140200308,"XXXX5580",null,9828121199,"alniyawas503",0,"N","N","No",14,"None",1]
[10,"B",4648,"2019-07-04","manjeet504",null,"vijay504","beautiful504","F","2006-01-05","no",504,null,null,"GEN","Hindu",null,"GOVT. SENIOR SECONDARY SCHOOL ALNIYAWAS (219445)",8140200308,"XXXX1235","wxvjhwx",9828121200,"alniyawas504",80000,"N","N","No",14,"None",1]
[10,"B",4758,"2018-07-06","manjeet505",null,"vijay505","beautiful505","M","2006-06-12","yes",505,null,null,"OBC","Hindu",null,"GOVT. SENIOR SECONDARY SCHOOL ALNIYAWAS (219445)",8140200308,"XXXX6622","VWHCPON",9828121201,"alniyawas505",35000,"N","N","No",14,"None",1]
[10,"B",4554,"2018-07-11","manjeet506",null,"vijay506","beautiful506","M","2002-08-14","yes",506,null,null,"GEN","Hindu",null,"GOVT. SENIOR SECONDARY SCHOOL ALNIYAWAS (219445)",8140200308,"XXXX6463","VTVNBSN",9828121202,"alniyawas506",45000,"N","N","No",18,"None",1]
[10,"B",4575,"2018-07-16","manjeet507",null,"vijay507","beautiful507","M","2005-05-07","no",507,null,null,"SC","Hindu",null,"GOVT. SENIOR SECONDARY SCHOOL ALNIYAWAS (219445)",8140200308,"XXXX6428",null,9828121203,"alniyawas507",40000,"N","N","No",15,"None",1]
[10,"B",4760,"2019-07-22","manjeet508",null,"vijay508","beautiful508","M","2004-06-04","yes",508,null,null,"SBC","Hindu",null,"GOVT. SENIOR SECONDARY SCHOOL ALNIYAWAS (219445)",8140200308,"XXXX8618","YOWKWEG",9828121204,"alniyawas508",60000,"N","N","No",16,"None",6]
[10,"B",3961,"2015-07-01","manjeet509",null,"vijay509","beautiful509","M","2007-01-14","yes",509,null,null,"OBC","Hindu",null,"GOVT. SENIOR SECONDARY SCHOOL ALNIYAWAS (219445)",8140200308,"XXXX8032","VPXVBSP",9828121205,"alniyawas509",36000,"N","N","No",13,"None",0]
[10,"B",4551,"2018-07-11","manjeet510",null,"vijay510","beautiful510","F","2006-06-07","no",510,null,null,"GEN","Hindu",null,"GOVT. SENIOR SECONDARY SCHOOL ALNIYAWAS (219445)",8140200308,"XXXX7051","WDYEIDF",9828121206,"alniyawas510",50000,"N","N","No",14,"None",1]
[10,"B",4023,"2015-07-09","manjeet511",null,"vijay511","beautiful511","M","2005-05-25","yes",511,null,null,"OBC","Hindu",null,"GOVT. SENIOR SECONDARY SCHOOL ALNIYAWAS (219445)",8140200308,"XXXX0740",null,9828121207,"alniyawas511",0,"N","N","No",15,"None",2]
[10,"B",4577,"2018-07-16","manjeet512",null,"vijay512","beautiful512","F","2006-07-02","yes",512,null,null,"OBC","Hindu",null,"GOVT. SENIOR SECONDARY SCHOOL ALNIYAWAS (219445)",8140200308,"XXXX8312","YOEISWF",9828121208,"alniyawas512",42000,"N","N","No",14,"None",1]
[10,"B",3776,"2016-10-11","manjeet513",null,"vijay513","beautiful513","F","2005-05-10","no",513,null,null,"OBC","Hindu",null,"GOVT. SENIOR SECONDARY SCHOOL ALNIYAWAS (219445)",8140200308,"XXXX2357",null,9828121209,"alniyawas513",0,"N","N","No",15,"None",1]
[10,"B",4759,"2019-07-22","manjeet514",null,"vijay514","beautiful514","M","2006-07-07","yes",514,null,null,"OBC","Hindu",null,"GOVT. SENIOR SECONDARY SCHOOL ALNIYAWAS (219445)",8140200308,"XXXX5144","YMEDWQO",9828121210,"alniyawas514",60000,"N","N","No",14,"None",0]
[10,"B",4687,"2019-07-09","manjeet515",null,"vijay515","beautiful515","F","2006-06-02","yes",515,null,null,"SC","Hindu",null,"GOVT. SENIOR SECONDARY SCHOOL ALNIYAWAS (219445)",8140200308,null,"YBDDDAC",9828121211,"alniyawas515",50000,"N","N","No",14,"None",1]
[10,"B",4686,"2011-07-14","manjeet516",null,"vijay516","beautiful516","F","2006-08-08","no",516,null,null,"SC","Hindu",null,"GOVT. SENIOR SECONDARY SCHOOL ALNIYAWAS (219445)",8140200308,"XXXX7646",null,9828121212,"alniyawas516",40000,"N","N","No",14,"None",1]
[10,"B",4177,"2016-07-06","manjeet517",null,"vijay517","beautiful517","M","2008-07-01","yes",517,null,null,"OBC",null,null,"GOVT. SENIOR SECONDARY SCHOOL ALNIYAWAS (219445)",8140200308,"XXXX2056",null,9828121213,"alniyawas517",0,"N","N",null,12,"None",2]
[10,"B",4707,"2019-07-10","manjeet518",null,"vijay518","beautiful518","F","2006-08-10","yes",518,null,null,"SBC","Hindu",null,"GOVT. SENIOR SECONDARY SCHOOL ALNIYAWAS (219445)",8140200308,"XXXX4055","VORPHKN",9828121214,"alniyawas518",80000,"N","N","No",14,"None",1]
[10,"B",4663,"2019-07-06","manjeet519",null,"vijay519","beautiful519","M","2006-01-15","no",519,null,null,"OBC","Hindu",null,"GOVT. SENIOR SECONDARY SCHOOL ALNIYAWAS (219445)",8140200308,"XXXX7686","vpnhtgx",9828121215,"alniyawas519",80000,"N","N","No",14,"None",1]
[10,"B",4612,"2018-08-08","manjeet520",null,"vijay520","beautiful520","M","2006-11-10","yes",520,null,null,"SC","Hindu",null,"GOVT. SENIOR SECONDARY SCHOOL ALNIYAWAS (219445)",8140200308,"XXXX6475",null,9828121216,"alniyawas520",45000,"N","N","No",14,"None",0]
[10,"B",4671,"2019-07-08","manjeet521",null,"vijay521","beautiful521","M","2005-04-04","yes",521,null,null,"SC","Hindu",null,"GOVT. SENIOR SECONDARY SCHOOL ALNIYAWAS (219445)",8140200308,"XXXX9165",null,9828121217,"alniyawas521",60000,"N","N","No",15,"None",0]
[10,"B",4646,"2019-07-04","manjeet522",null,"vijay522","beautiful522","M","2004-11-18","no",522,null,null,"OBC","Hindu",null,"GOVT. SENIOR SECONDARY SCHOOL ALNIYAWAS (219445)",8140200308,"XXXX2037","ykikifk",9828121218,"alniyawas522",60000,"N","N","No",16,"None",0]
[10,"B",4483,"2018-07-04","manjeet523",null,"vijay523","beautiful523","M","2004-11-13","yes",523,null,null,"OBC","Muslim",null,"GOVT. SENIOR SECONDARY SCHOOL ALNIYAWAS (219445)",8140200308,"XXXX4380",null,9828121219,"alniyawas523",45000,"N","N","Yes",16,"None",1]
[10,"B",4531,"2018-07-07","manjeet524",null,"vijay524","beautiful524","F","2006-04-14","yes",524,null,null,"OBC","Hindu",null,"GOVT. SENIOR SECONDARY SCHOOL ALNIYAWAS (219445)",8140200308,"XXXX6006","VWCPHHP",9828121220,"alniyawas524",100000,"N","N","No",14,"None",1]
[10,"B",4660,"2019-07-06","manjeet525",null,"vijay525","beautiful525","F","2006-04-01","no",525,null,null,"OBC","Hindu",null,"GOVT. SENIOR SECONDARY SCHOOL ALNIYAWAS (219445)",8140200308,"XXXX4090","yoiysgs",9828121221,"alniyawas525",60000,"N","N","No",14,"None",2]
[10,"B",4838,"2017-07-28","manjeet526",null,"vijay526","beautiful526","F","2005-06-10","yes",526,null,null,"OBC","Muslim",null,"GOVT. SENIOR SECONDARY SCHOOL ALNIYAWAS (219445)",8140200308,"XXXX7869","VOCOCXR",9828121222,"alniyawas526",0,"N","N","Yes",15,"None",1]
[10,"B",4662,"2018-07-16","manjeet527",null,"vijay527","beautiful527","F","2006-01-01","yes",527,null,null,"OBC","Muslim",null,"GOVT. SENIOR SECONDARY SCHOOL ALNIYAWAS (219445)",8140200308,"XXXX8352",null,9828121223,"alniyawas527",60000,"N","N","Yes",14,"None",0]
[10,"B",3572,"2014-05-13","manjeet528",null,"vijay528","beautiful528","F","2004-05-10","no",528,null,null,"OBC","Muslim",null,"GOVT. SENIOR SECONDARY SCHOOL ALNIYAWAS (219445)",8140200308,"XXXX0545",null,9828121224,"alniyawas528",14000,"N","N","Yes",16,"None",1]
[10,"B",4655,"2019-07-05","manjeet529",null,"vijay529","beautiful529","F","2005-07-14","yes",529,null,null,"OBC","Hindu",null,"GOVT. SENIOR SECONDARY SCHOOL ALNIYAWAS (219445)",8140200308,"XXXX7867","vpgwcnj",9828121225,"alniyawas529",60000,"N","N","No",15,"None",1]
[10,"B",4732,"2019-07-15","manjeet530",null,"vijay530","beautiful530","F","2006-11-29","yes",530,null,null,"OBC","Hindu",null,"GOVT. SENIOR SECONDARY SCHOOL ALNIYAWAS (219445)",8140200308,"XXXX8859","yobydgo",9828121226,"alniyawas530",60000,"N","N","No",14,"None",3]
[10,"B",4557,"2018-07-12","manjeet531",null,"vijay531","beautiful531","M","2005-01-10","no",531,null,null,"OBC","Hindu",null,"GOVT. SENIOR SECONDARY SCHOOL ALNIYAWAS (219445)",8140200308,"XXXX9502","VVGOPGT",9828121227,"alniyawas531",60000,"N","N","No",15,"None",1]
[10,"B",4314,"2017-07-04","manjeet532",null,"vijay532","beautiful532","M","2005-01-05","yes",532,null,null,"OBC","Hindu",null,"GOVT. SENIOR SECONDARY SCHOOL ALNIYAWAS (219445)",8140200308,"XXXX8406",null,9828121228,"alniyawas532",0,"N","N","No",15,"None",1]
[10,"B",4504,"2018-07-06","manjeet533",null,"vijay533","beautiful533","M","2003-06-23","yes",533,null,null,"OBC","Hindu",null,"GOVT. SENIOR SECONDARY SCHOOL ALNIYAWAS (219445)",8140200308,"XXXX9939",null,9828121229,"alniyawas533",50000,"N","N","No",17,"None",1]
[10,"B",4683,"2010-07-15","manjeet534",null,"vijay534","beautiful534","F","2005-04-15","no",534,null,null,"OBC","Hindu",null,"GOVT. SENIOR SECONDARY SCHOOL ALNIYAWAS (219445)",8140200308,"XXXX7355",null,9828121230,"alniyawas534",65000,"N","N","No",15,"None",3]
[10,"B",4524,"2018-07-07","manjeet535",null,"vijay535","beautiful535","F","2006-09-20","yes",535,null,null,"OBC","Hindu",null,"GOVT. SENIOR SECONDARY SCHOOL ALNIYAWAS (219445)",8140200308,"XXXX8483","VHTZJWJ",9828121231,"alniyawas535",36000,"N","N","No",14,"None",4]
[10,"B",4164,"2016-07-04","manjeet536",null,"vijay536","beautiful536","F","2005-03-19","yes",536,null,null,"GEN","Hindu",null,"GOVT. SENIOR SECONDARY SCHOOL ALNIYAWAS (219445)",8140200308,"XXXX5228",null,9828121232,"alniyawas536",0,"N","N","No",15,"None",2]
[10,"B",4731,"2019-07-15","manjeet537",null,"vijay537","beautiful537","F","2005-09-03","no",537,null,null,"SC","Hindu",null,"GOVT. SENIOR SECONDARY SCHOOL ALNIYAWAS (219445)",8140200308,"XXXX9105",null,9828121233,"alniyawas537",80000,"N","N","No",15,"None",3]
[10,"B",4597,"2018-05-01","manjeet538",null,"vijay538","beautiful538","M","2005-05-13","yes",538,null,null,"SC","Hindu",null,"GOVT. SENIOR SECONDARY SCHOOL ALNIYAWAS (219445)",8140200308,"XXXX5910",null,9828121234,"alniyawas538",45000,"N","N","No",15,"None",1]
[10,"B",4292,"2017-06-30","manjeet539",null,"vijay539","beautiful539","F","2005-12-20","yes",539,null,null,"GEN","Hindu",null,"GOVT. SENIOR SECONDARY SCHOOL ALNIYAWAS (219445)",8140200308,"XXXX3612",null,9828121235,"alniyawas539",0,"N","N","No",15,"None",1]
[10,"B",3788,"2015-05-11","manjeet540",null,"vijay540","beautiful540","F","2005-05-07","no",540,null,null,"OBC","Muslim",null,"GOVT. SENIOR SECONDARY SCHOOL ALNIYAWAS (219445)",8140200308,"XXXX4244",null,9828121236,"alniyawas540",0,"N","N","Yes",15,"None",1]
[10,"B",4701,"2011-07-01","manjeet541",null,"vijay541","beautiful541","M","2005-08-07","yes",541,null,null,"OBC","Hindu",null,"GOVT. SENIOR SECONDARY SCHOOL ALNIYAWAS (219445)",8140200308,"XXXX0050","VNNNTOV",9828121237,"alniyawas541",60000,"N","N","No",15,"None",0]
[10,"B",4453,"2018-07-02","manjeet542",null,"vijay542","beautiful542","M","2005-09-03","yes",542,null,null,"GEN","Hindu",null,"GOVT. SENIOR SECONDARY SCHOOL ALNIYAWAS (219445)",8140200308,"XXXX6995","VHJRXSR",9828121238,"alniyawas542",45000,"N","N","No",15,"None",3]
[10,"B",4331,"2017-07-04","manjeet543",null,"vijay543","beautiful543","F","2005-07-03","no",543,null,null,"OBC","Hindu",null,"GOVT. SENIOR SECONDARY SCHOOL ALNIYAWAS (219445)",8140200308,"XXXX0939","VXPKBPX",9828121239,"alniyawas543",100000,"N","N","No",15,"None",1]
[10,"B",4682,"2018-10-11","manjeet544",null,"vijay544","beautiful544","M","2003-10-15","yes",544,null,null,"SBC","Hindu",null,"GOVT. SENIOR SECONDARY SCHOOL ALNIYAWAS (219445)",8140200308,"XXXX6725","YUCBOCB",9828121240,"alniyawas544",60000,"N","N","No",17,"None",3]
[10,"B",4458,"2018-07-03","manjeet545",null,"vijay545","beautiful545","F","2003-06-11","yes",545,null,null,"OBC","Hindu",null,"GOVT. SENIOR SECONDARY SCHOOL ALNIYAWAS (219445)",8140200308,"XXXX4333","ymiauic",9828121241,"alniyawas545",36000,"N","N","No",17,"None",5]
[10,"B",4653,"2019-07-05","manjeet546",null,"vijay546","beautiful546","F","2004-05-12","no",546,null,null,"OBC","Muslim",null,"GOVT. SENIOR SECONDARY SCHOOL ALNIYAWAS (219445)",8140200308,"XXXX0246","WXVJCZT",9828121242,"alniyawas546",60000,"Y","N","Yes",16,"None",0]
[10,"B",4509,"2018-07-06","manjeet547",null,"vijay547","beautiful547","M","2004-01-16","yes",547,null,null,"OBC","Hindu",null,"GOVT. SENIOR SECONDARY SCHOOL ALNIYAWAS (219445)",8140200308,"XXXX7326","VOJVXST",9828121243,"alniyawas547",45000,"N","N","No",16,"None",1]
[10,"B",4702,"2019-07-10","manjeet548",null,"vijay548","beautiful548","F","2005-10-02","yes",548,null,null,"OBC","Muslim",null,"GOVT. SENIOR SECONDARY SCHOOL ALNIYAWAS (219445)",8140200308,"XXXX0907","YOBYYOO",9828121244,"alniyawas548",50000,"N","N","Yes",15,"None",0]
[10,"B",4189,"2016-07-11","manjeet549",null,"vijay549","beautiful549","M","2005-09-04","no",549,null,null,"OBC","Muslim",null,"GOVT. SENIOR SECONDARY SCHOOL ALNIYAWAS (219445)",8140200308,"XXXX8958",null,9828121245,"alniyawas549",0,"N","N","Yes",15,"None",1]
[10,"B",3801,"2015-05-11","manjeet550",null,"vijay550","beautiful550","F","2005-11-05","yes",550,null,null,"OBC","Muslim",null,"GOVT. SENIOR SECONDARY SCHOOL ALNIYAWAS (219445)",8140200308,"XXXX1867",null,9828121246,"alniyawas550",80000,"N","N","Yes",15,"None",1]
[10,"B",4678,"2019-07-09","manjeet551",null,"vijay551","beautiful551","F","2005-07-01","yes",551,null,null,"OBC","Hindu",null,"GOVT. SENIOR SECONDARY SCHOOL ALNIYAWAS (219445)",8140200308,null,null,9828121247,"alniyawas551",80000,"N","N","No",15,"None",1]
[10,"B",4146,"2016-07-02","manjeet552",null,"vijay552","beautiful552","F","2006-01-15","no",552,null,null,"OBC","Hindu",null,"GOVT. SENIOR SECONDARY SCHOOL ALNIYAWAS (219445)",8140200308,"XXXX9441",null,9828121248,"alniyawas552",0,"N","N","No",14,"None",1]
[10,"B",4734,"2019-07-15","manjeet553",null,"vijay553","beautiful553","F","2004-02-18","yes",553,null,null,"OBC","Hindu",null,"GOVT. SENIOR SECONDARY SCHOOL ALNIYAWAS (219445)",8140200308,"XXXX3495","yfmgcsf",9828121249,"alniyawas553",60000,"N","N","No",16,"None",0]
[10,"B",3790,"2015-05-11","manjeet554",null,"vijay554","beautiful554","F","2005-09-22","yes",554,null,null,"OBC","Muslim",null,"GOVT. SENIOR SECONDARY SCHOOL ALNIYAWAS (219445)",8140200308,"XXXX4710",null,9828121250,"alniyawas554",72000,"N","N","Yes",15,"None",1]
[10,"B",4850,null,"manjeet555",null,"vijay555","beautiful555","M","2005-06-29","no",555,null,null,"OBC",null,null,"GOVT. SENIOR SECONDARY SCHOOL ALNIYAWAS (219445)",8140200308,null,null,9828121251,"alniyawas555",null,"N","Y",null,15,null,3]
[10,"B",4103,"2016-05-09","manjeet556",null,"vijay556","beautiful556","F","2006-04-08","yes",556,null,null,"SC","Hindu",null,"GOVT. SENIOR SECONDARY SCHOOL ALNIYAWAS (219445)",8140200308,"XXXX2679","YUYKFBK",9828121252,"alniyawas556",60000,"N","N","No",14,"None",1]
[10,"B",3783,"2015-05-11","manjeet557",null,"vijay557","beautiful557","M","2006-10-12","yes",557,null,null,"SC","Hindu",null,"GOVT. SENIOR SECONDARY SCHOOL ALNIYAWAS (219445)",8140200308,"XXXX4638",null,9828121253,"alniyawas557",0,"N","N","No",14,"None",2]
[10,"B",4373,"2017-07-10","manjeet558",null,"vijay558","beautiful558","M","2005-06-03","no",558,null,null,"OBC","Hindu",null,"GOVT. SENIOR SECONDARY SCHOOL ALNIYAWAS (219445)",8140200308,"XXXX2227",null,9828121254,"alniyawas558",0,"N","N","No",15,"None",1]
[10,"B",4654,"2019-07-05","manjeet559",null,"vijay559","beautiful559","M","2005-11-15","yes",559,null,null,"OBC","Hindu",null,"GOVT. SENIOR SECONDARY SCHOOL ALNIYAWAS (219445)",8140200308,"XXXX9264","vpggtpj",9828121255,"alniyawas559",60000,"N","N","No",15,"None",1]
[10,"B",4645,"2019-07-04","manjeet560",null,"vijay560","beautiful560","F","2006-08-05","yes",560,null,null,"SC","Hindu",null,"GOVT. SENIOR SECONDARY SCHOOL ALNIYAWAS (219445)",8140200308,"XXXX4423","yoemuyb",9828121256,"alniyawas560",60000,"N","N","No",14,"None",1]
[10,"B",4668,"2019-07-06","manjeet561",null,"vijay561","beautiful561","F","2004-06-04","no",561,null,null,"OBC","Muslim",null,"GOVT. SENIOR SECONDARY SCHOOL ALNIYAWAS (219445)",8140200308,"XXXX5925","ybccmyk",9828121257,"alniyawas561",100000,"N","N","Yes",16,"None",1]
[10,"B",4723,"2019-07-13","manjeet562",null,"vijay562","beautiful562","M","2006-07-08","yes",562,null,null,"OBC","Hindu",null,"GOVT. SENIOR SECONDARY SCHOOL ALNIYAWAS (219445)",8140200308,"XXXX7885",null,9828121258,"alniyawas562",60000,"N","N","No",14,"None",3]
[11,"A",4737,"2019-07-15","manjeet563",null,"vijay563","beautiful563","M","2004-10-12","yes",563,null,null,"OBC","Muslim",null,"GOVT. SENIOR SECONDARY SCHOOL ALNIYAWAS (219445)",8140200308,"XXXX6495","YWKYMKC",9828121259,"alniyawas563",80000,"N","N","Yes",16,"None",0]
[11,"A",4624,"2018-07-04","manjeet564",null,"vijay564","beautiful564","F","2004-05-05","no",564,null,null,"OBC","Muslim",null,"GOVT. SENIOR SECONDARY SCHOOL ALNIYAWAS (219445)",8140200308,"XXXX7338",null,9828121260,"alniyawas564",40000,"N","N","Yes",16,"None",1]
[11,"A",4442,"2018-06-29","manjeet565",null,"vijay565","beautiful565","M","2007-01-26","yes",565,null,null,"OBC","Muslim",null,"GOVT. SENIOR SECONDARY SCHOOL ALNIYAWAS (219445)",8140200308,"XXXX6497","WDYCBYO",9828121261,"alniyawas565",36000,"N","N","Yes",13,"None",2]
[11,"A",4849,null,"manjeet566",null,"vijay566","beautiful566","F","2004-11-10","yes",566,null,null,"OBC",null,null,"GOVT. SENIOR SECONDARY SCHOOL ALNIYAWAS (219445)",8140200308,null,null,9828121262,"alniyawas566",null,"N","Y",null,16,null,3]
[11,"A",4345,"2017-07-06","manjeet567",null,"vijay567","beautiful567","M","2003-06-23","no",567,null,null,"OBC","Hindu",null,"GOVT. SENIOR SECONDARY SCHOOL ALNIYAWAS (219445)",8140200308,"XXXX7594",null,9828121263,"alniyawas567",0,"N","N","No",17,"None",1]
[11,"A",4541,"2018-07-10","manjeet568",null,"vijay568","beautiful568","M","2003-07-11","yes",568,null,null,"OBC","Hindu",null,"GOVT. SENIOR SECONDARY SCHOOL ALNIYAWAS (219445)",8140200308,"XXXX9368","YQMESMS",9828121264,"alniyawas568",40000,"N","N","No",17,"None",1]
[11,"A",3556,"2014-05-13","manjeet569",null,"vijay569","beautiful569","M","2004-10-15","yes",569,null,null,"OBC",null,null,"GOVT. SENIOR SECONDARY SCHOOL ALNIYAWAS (219445)",8140200308,"XXXX8625",null,9828121265,"alniyawas569",0,"N","N",null,16,"None",1]
[11,"A",4809,null,"manjeet570",null,"vijay570","beautiful570","M","2005-11-12","no",570,null,null,"OBC",null,null,"GOVT. SENIOR SECONDARY SCHOOL ALNIYAWAS (219445)",8140200308,null,null,9828121266,"alniyawas570",null,"N","Y",null,15,null,1]
[11,"A",3971,"2015-07-02","manjeet571",null,"vijay571","beautiful571","M","2005-07-05","yes",571,null,null,"SC","Hindu",null,"GOVT. SENIOR SECONDARY SCHOOL ALNIYAWAS (219445)",8140200308,"XXXX2300","VOCJWZX",9828121267,"alniyawas571",42000,"N","N","No",15,"None",2]
[11,"A",4884,null,"manjeet572",null,"vijay572","beautiful572","M","2005-03-03","yes",572,null,null,"SC",null,null,"GOVT. SENIOR SECONDARY SCHOOL ALNIYAWAS (219445)",8140200308,null,null,9828121268,"alniyawas572",null,"N","Y",null,15,null,6]
[11,"A",4506,"2018-07-06","manjeet573",null,"vijay573","beautiful573","M","2005-01-05","no",573,null,null,"OBC","Hindu",null,"GOVT. SENIOR SECONDARY SCHOOL ALNIYAWAS (219445)",8140200308,"XXXX6684",null,9828121269,"alniyawas573",50000,"N","N","No",15,"None",1]
[11,"A",4423,"2017-07-19","manjeet574",null,"vijay574","beautiful574","M","2004-07-13","yes",574,null,null,"OBC","Hindu",null,"GOVT. SENIOR SECONDARY SCHOOL ALNIYAWAS (219445)",8140200308,"XXXX9575",null,9828121270,"alniyawas574",0,"N","N","No",16,"None",1]
[11,"A",4466,"2018-07-04","manjeet575",null,"vijay575","beautiful575","F","2003-06-15","yes",575,null,null,"OBC","Muslim",null,"GOVT. SENIOR SECONDARY SCHOOL ALNIYAWAS (219445)",8140200308,"XXXX4525",null,9828121271,"alniyawas575",36000,"N","N","Yes",17,"None",5]
[11,"A",3772,"2015-05-11","manjeet576",null,"vijay576","beautiful576","F","2005-07-10","no",576,null,null,"OBC","Muslim",null,"GOVT. SENIOR SECONDARY SCHOOL ALNIYAWAS (219445)",8140200308,"XXXX6634",null,9828121272,"alniyawas576",0,"N","N","Yes",15,"None",1]
[11,"A",4231,"2016-07-20","manjeet577",null,"vijay577","beautiful577","F","2005-07-01","yes",577,null,null,"OBC","Muslim",null,"GOVT. SENIOR SECONDARY SCHOOL ALNIYAWAS (219445)",8140200308,"XXXX7725",null,9828121273,"alniyawas577",0,"N","N","Yes",15,"None",2]
[11,"A",3753,"2015-05-11","manjeet578",null,"vijay578","beautiful578","M","2003-07-05","yes",578,null,null,"OBC","Muslim",null,"GOVT. SENIOR SECONDARY SCHOOL ALNIYAWAS (219445)",8140200308,"XXXX3219","WXVCTHX",9828121274,"alniyawas578",60000,"N","N","Yes",17,"None",1]
[11,"A",4635,"2015-07-01","manjeet579",null,"vijay579","beautiful579","F","2005-12-01","no",579,null,null,"SC","Hindu",null,"GOVT. SENIOR SECONDARY SCHOOL ALNIYAWAS (219445)",8140200308,"XXXX0215",null,9828121275,"alniyawas579",38000,"N","N","No",15,"None",7]
[11,"A",3764,"2015-05-11","manjeet580",null,"vijay580","beautiful580","F","2002-05-05","yes",580,null,null,"OBC","Muslim",null,"GOVT. SENIOR SECONDARY SCHOOL ALNIYAWAS (219445)",8140200308,"XXXX2980",null,9828121276,"alniyawas580",0,"N","N","Yes",18,"None",2]
[11,"A",4592,"2018-07-23","manjeet581",null,"vijay581","beautiful581","F","2004-03-02","yes",581,null,null,"OBC","Hindu",null,"GOVT. SENIOR SECONDARY SCHOOL ALNIYAWAS (219445)",8140200308,"XXXX9300",null,9828121277,"alniyawas581",36000,"N","N","No",16,"None",3]
[11,"A",4293,"2017-06-30","manjeet582",null,"vijay582","beautiful582","F","2004-05-14","no",582,null,null,"GEN","Hindu",null,"GOVT. SENIOR SECONDARY SCHOOL ALNIYAWAS (219445)",8140200308,"XXXX0669",null,9828121278,"alniyawas582",0,"N","N","No",16,"None",1]
[11,"A",4356,"2017-07-07","manjeet583",null,"vijay583","beautiful583","M","2005-08-01","yes",583,null,null,"OBC","Hindu",null,"GOVT. SENIOR SECONDARY SCHOOL ALNIYAWAS (219445)",8140200308,"XXXX4228",null,9828121279,"alniyawas583",0,"N","N","No",15,"None",1]
[11,"A",4227,"2016-07-20","manjeet584",null,"vijay584","beautiful584","F","2004-10-15","yes",584,null,null,"OBC","Muslim",null,"GOVT. SENIOR SECONDARY SCHOOL ALNIYAWAS (219445)",8140200308,"XXXX9772",null,9828121280,"alniyawas584",0,"N","N","Yes",16,"None",1]
[11,"A",4025,"2015-07-09","manjeet585",null,"vijay585","beautiful585","M","2004-09-13","no",585,null,null,"OBC","Hindu",null,"GOVT. SENIOR SECONDARY SCHOOL ALNIYAWAS (219445)",8140200308,"XXXX3422",null,9828121281,"alniyawas585",0,"N","N","No",16,"None",2]
[11,"A",4471,"2018-07-04","manjeet586",null,"vijay586","beautiful586","F","2004-12-15","yes",586,null,null,"SBC","Hindu",null,"GOVT. SENIOR SECONDARY SCHOOL ALNIYAWAS (219445)",8140200308,"XXXX7230","VWCHWWJ",9828121282,"alniyawas586",60000,"N","N","No",16,"None",1]
[11,"A",3748,"2015-05-11","manjeet587",null,"vijay587","beautiful587","F","2005-07-01","yes",587,null,null,"SC","Hindu",null,"GOVT. SENIOR SECONDARY SCHOOL ALNIYAWAS (219445)",8140200308,"XXXX0394",null,9828121283,"alniyawas587",60000,"N","N","No",15,"None",0]
[11,"A",4472,"2018-07-04","manjeet588",null,"vijay588","beautiful588","F","2003-11-06","no",588,null,null,"SBC","Hindu",null,"GOVT. SENIOR SECONDARY SCHOOL ALNIYAWAS (219445)",8140200308,"XXXX2334","VWCHWWJ",9828121284,"alniyawas588",60000,"N","N","No",17,"None",1]
[11,"A",4225,"2016-07-19","manjeet589",null,"vijay589","beautiful589","M","2006-03-30","yes",589,null,null,"OBC","Hindu",null,"GOVT. SENIOR SECONDARY SCHOOL ALNIYAWAS (219445)",8140200308,"XXXX8356","VOCXJBP",9828121285,"alniyawas589",40000,"N","N","No",14,"None",1]
[11,"A",4502,"2018-07-06","manjeet590",null,"vijay590","beautiful590","F","2003-10-05","yes",590,null,null,"OBC","Hindu",null,"GOVT. SENIOR SECONDARY SCHOOL ALNIYAWAS (219445)",8140200308,"XXXX2012","VNNNTOV",9828121286,"alniyawas590",36000,"N","N","No",17,"None",5]
[11,"A",4777,"2018-07-16","manjeet591",null,"vijay591","beautiful591","F","2004-04-08","no",591,null,null,"GEN","Hindu",null,"GOVT. SENIOR SECONDARY SCHOOL ALNIYAWAS (219445)",8140200308,"XXXX4755","VKPZNHX",9828121287,"alniyawas591",0,"N","N","No",16,"None",2]
[11,"A",4247,"2016-08-09","manjeet592",null,"vijay592","beautiful592","M","2003-03-16","yes",592,null,null,"OBC","Muslim",null,"GOVT. SENIOR SECONDARY SCHOOL ALNIYAWAS (219445)",8140200308,"XXXX0244",null,9828121288,"alniyawas592",0,"N","N","Yes",17,"None",2]
[11,"A",3568,"2014-05-13","manjeet593",null,"vijay593","beautiful593","F","2004-07-02","yes",593,null,null,"OBC","Muslim",null,"GOVT. SENIOR SECONDARY SCHOOL ALNIYAWAS (219445)",8140200308,"XXXX4063",null,9828121289,"alniyawas593",0,"N","N","Yes",16,"None",2]
[11,"A",3762,"2015-05-11","manjeet594",null,"vijay594","beautiful594","M","2004-09-18","no",594,null,null,"OBC","Muslim",null,"GOVT. SENIOR SECONDARY SCHOOL ALNIYAWAS (219445)",8140200308,"XXXX3463",null,9828121290,"alniyawas594",0,"N","N","Yes",16,"None",1]
[11,"A",3962,"2015-07-02","manjeet595",null,"vijay595","beautiful595","F","2003-06-30","yes",595,null,null,"OBC","Hindu",null,"GOVT. SENIOR SECONDARY SCHOOL ALNIYAWAS (219445)",8140200308,"XXXX9060",null,9828121291,"alniyawas595",0,"N","N","No",17,"None",1]
[11,"A",3574,"2014-05-13","manjeet596",null,"vijay596","beautiful596","F","2004-02-03","yes",596,null,null,"SC","Hindu",null,"GOVT. SENIOR SECONDARY SCHOOL ALNIYAWAS (219445)",8140200308,"XXXX3336","WDYEIEB",9828121292,"alniyawas596",36000,"N","N","No",16,"None",2]
[11,"A",4211,"2016-07-15","manjeet597",null,"vijay597","beautiful597","F","2002-01-30","no",597,null,null,"OBC","Hindu",null,"GOVT. SENIOR SECONDARY SCHOOL ALNIYAWAS (219445)",8140200308,"XXXX4385",null,9828121293,"alniyawas597",0,"N","N","No",18,"None",1]
[11,"A",4496,"2018-07-05","manjeet598",null,"vijay598","beautiful598","F","2003-02-10","yes",598,null,null,"OBC","Hindu",null,"GOVT. SENIOR SECONDARY SCHOOL ALNIYAWAS (219445)",8140200308,"XXXX9356","VWTCKRN",9828121294,"alniyawas598",36000,"N","N","No",17,"None",2]
[11,"A",4681,"2015-07-11","manjeet599",null,"vijay599","beautiful599","F","2004-07-05","yes",599,null,null,"OBC","Hindu",null,"GOVT. SENIOR SECONDARY SCHOOL ALNIYAWAS (219445)",8140200308,"XXXX8436",null,9828121295,"alniyawas599",30000,"N","N","No",16,"None",1]
[11,"A",4606,"2018-07-31","manjeet600",null,"vijay600","beautiful600","M","2005-07-07","no",600,null,null,"OBC","Hindu",null,"GOVT. SENIOR SECONDARY SCHOOL ALNIYAWAS (219445)",8140200308,"XXXX8014","VVTVXTX",9828121296,"alniyawas600",40000,"N","N","No",15,"None",3]
[11,"A",4834,null,"manjeet601",null,"vijay601","beautiful601","M","2005-08-04","yes",601,null,null,"SC",null,null,"GOVT. SENIOR SECONDARY SCHOOL ALNIYAWAS (219445)",8140200308,null,null,9828121297,"alniyawas601",null,"N","Y",null,15,null,1]
[11,"A",4138,"2016-07-01","manjeet602",null,"vijay602","beautiful602","M","2004-06-17","yes",602,null,null,"OBC","Hindu",null,"GOVT. SENIOR SECONDARY SCHOOL ALNIYAWAS (219445)",8140200308,"XXXX0682",null,9828121298,"alniyawas602",0,"N","N","No",16,"None",1]
[11,"A",4385,"2017-07-13","manjeet603",null,"vijay603","beautiful603","M","2004-08-05","no",603,null,null,"OBC","Hindu",null,"GOVT. SENIOR SECONDARY SCHOOL ALNIYAWAS (219445)",8140200308,"XXXX8569",null,9828121299,"alniyawas603",0,"N","N","No",16,"None",1]
[11,"A",4346,"2017-07-06","manjeet604",null,"vijay604","beautiful604","M","2004-07-15","yes",604,null,null,"OBC","Hindu",null,"GOVT. SENIOR SECONDARY SCHOOL ALNIYAWAS (219445)",8140200308,"XXXX9002",null,9828121300,"alniyawas604",0,"N","N","No",16,"None",1]
[11,"A",3982,"2015-07-11","manjeet605",null,"vijay605","beautiful605","M","2002-11-16","yes",605,null,null,"SC","Hindu",null,"GOVT. SENIOR SECONDARY SCHOOL ALNIYAWAS (219445)",8140200308,"XXXX1009",null,9828121301,"alniyawas605",0,"N","N","No",18,"None",0]
[11,"A",3754,"2015-05-11","manjeet606",null,"vijay606","beautiful606","F","2005-07-15","no",606,null,null,"OBC","Muslim",null,"GOVT. SENIOR SECONDARY SCHOOL ALNIYAWAS (219445)",8140200308,"XXXX8526","WXVCTHX",9828121302,"alniyawas606",60000,"N","N","Yes",15,"None",2]
[11,"A",3756,"2015-05-11","manjeet607",null,"vijay607","beautiful607","F","2005-07-15","yes",607,null,null,"OBC","Muslim",null,"GOVT. SENIOR SECONDARY SCHOOL ALNIYAWAS (219445)",8140200308,"XXXX1659",null,9828121303,"alniyawas607",0,"N","N","Yes",15,"None",2]
[11,"A",4493,"2018-07-05","manjeet608",null,"vijay608","beautiful608","M","2001-12-03","yes",608,null,null,"SC","Hindu",null,"GOVT. SENIOR SECONDARY SCHOOL ALNIYAWAS (219445)",8140200308,"XXXX7720",null,9828121304,"alniyawas608",42000,"N","N","No",19,"None",1]
[11,"A",4105,"2016-06-22","manjeet609",null,"vijay609","beautiful609","F","2004-10-10","no",609,null,null,"OBC","Hindu",null,"GOVT. SENIOR SECONDARY SCHOOL ALNIYAWAS (219445)",8140200308,"XXXX1198",null,9828121305,"alniyawas609",40000,"N","N","No",16,"None",2]
[11,"A",4319,"2017-07-04","manjeet610",null,"vijay610","beautiful610","F","2005-07-07","yes",610,null,null,"OBC","Hindu",null,"GOVT. SENIOR SECONDARY SCHOOL ALNIYAWAS (219445)",8140200308,"XXXX7320",null,9828121306,"alniyawas610",0,"N","N","No",15,"None",1]
[11,"A",4590,"2018-07-21","manjeet611",null,"vijay611","beautiful611","F","2004-05-01","yes",611,null,null,"SC","Hindu",null,"GOVT. SENIOR SECONDARY SCHOOL ALNIYAWAS (219445)",8140200308,"XXXX8632","ymkqidf",9828121307,"alniyawas611",36000,"N","N","No",16,"None",3]
[11,"A",4374,"2017-07-11","manjeet612",null,"vijay612","beautiful612","F","2005-07-03","no",612,null,null,"OBC","Hindu",null,"GOVT. SENIOR SECONDARY SCHOOL ALNIYAWAS (219445)",8140200308,"XXXX7645",null,9828121308,"alniyawas612",0,"N","N","No",15,"None",1]
[11,"A",4634,"2015-07-01","manjeet613",null,"vijay613","beautiful613","F","2005-12-02","yes",613,null,null,"SC","Hindu",null,"GOVT. SENIOR SECONDARY SCHOOL ALNIYAWAS (219445)",8140200308,"XXXX2642",null,9828121309,"alniyawas613",94800,"N","N","No",15,"None",7]
[11,"A",3765,"2015-05-11","manjeet614",null,"vijay614","beautiful614","F","2004-07-05","yes",614,null,null,"OBC","Muslim",null,"GOVT. SENIOR SECONDARY SCHOOL ALNIYAWAS (219445)",8140200308,"XXXX9161",null,9828121310,"alniyawas614",0,"N","N","Yes",16,"None",2]
[11,"A",3554,"2014-05-13","manjeet615",null,"vijay615","beautiful615","F","2002-04-11","no",615,null,null,"OBC","Muslim",null,"GOVT. SENIOR SECONDARY SCHOOL ALNIYAWAS (219445)",8140200308,"XXXX3977",null,9828121311,"alniyawas615",0,"N","N","Yes",18,"None",1]
[11,"A",4885,null,"manjeet616",null,"vijay616","beautiful616","M","2005-05-10","yes",616,null,null,"SC",null,null,"GOVT. SENIOR SECONDARY SCHOOL ALNIYAWAS (219445)",8140200308,null,null,9828121312,"alniyawas616",null,"N","Y",null,15,null,7]
[11,"A",4491,"2018-07-05","manjeet617",null,"vijay617","beautiful617","F","2005-06-11","yes",617,null,null,"OBC","Hindu",null,"GOVT. SENIOR SECONDARY SCHOOL ALNIYAWAS (219445)",8140200308,"XXXX4484","VPWCXBV",9828121313,"alniyawas617",36000,"N","N","No",15,"None",5]
[11,"A",4490,"2018-07-05","manjeet618",null,"vijay618","beautiful618","F","2003-06-05","no",618,null,null,"OBC","Hindu",null,"GOVT. SENIOR SECONDARY SCHOOL ALNIYAWAS (219445)",8140200308,"XXXX6148","YQQKAQB",9828121314,"alniyawas618",36000,"N","N","No",17,"None",5]
[11,"A",4680,"2019-07-09","manjeet619",null,"vijay619","beautiful619","F","2004-04-20","yes",619,null,null,"OBC","Hindu",null,"GOVT. SENIOR SECONDARY SCHOOL ALNIYAWAS (219445)",8140200308,"XXXX4339",null,9828121315,"alniyawas619",40000,"N","N","No",16,"None",1]
[11,"A",4495,"2018-07-05","manjeet620",null,"vijay620","beautiful620","M","2005-10-06","yes",620,null,null,"OBC","Hindu",null,"GOVT. SENIOR SECONDARY SCHOOL ALNIYAWAS (219445)",8140200308,"XXXX6636","VROKKCT",9828121316,"alniyawas620",36000,"N","N","No",15,"None",5]
[11,"A",4352,"2017-07-07","manjeet621",null,"vijay621","beautiful621","F","2003-07-10","no",621,null,null,"SC","Hindu",null,"GOVT. SENIOR SECONDARY SCHOOL ALNIYAWAS (219445)",8140200308,"XXXX1155","VRCKOOP",9828121317,"alniyawas621",36000,"N","N","No",17,"None",1]
[11,"A",4512,"2018-07-06","manjeet622",null,"vijay622","beautiful622","M","2004-08-27","yes",622,null,null,"OBC","Hindu",null,"GOVT. SENIOR SECONDARY SCHOOL ALNIYAWAS (219445)",8140200308,"XXXX4860","VPGKJSV",9828121318,"alniyawas622",36000,"N","N","No",16,"None",2]
[11,"A",4445,"2018-07-02","manjeet623",null,"vijay623","beautiful623","F","2004-05-15","yes",623,null,null,"OBC","Muslim",null,"GOVT. SENIOR SECONDARY SCHOOL ALNIYAWAS (219445)",8140200308,"XXXX7353","YMWESGS",9828121319,"alniyawas623",40000,"N","N","Yes",16,"None",2]
[11,"A",3939,"2015-05-13","manjeet624",null,"vijay624","beautiful624","M","2005-12-07","no",624,null,null,"SC","Hindu",null,"GOVT. SENIOR SECONDARY SCHOOL ALNIYAWAS (219445)",8140200308,"XXXX0382","YQCGGDC",9828121320,"alniyawas624",46000,"N","N","No",15,"None",2]
[11,"A",4457,"2018-07-03","manjeet625",null,"vijay625","beautiful625","F","2005-08-15","yes",625,null,null,"OBC","Hindu",null,"GOVT. SENIOR SECONDARY SCHOOL ALNIYAWAS (219445)",8140200308,"XXXX4771","YMIAUIC",9828121321,"alniyawas625",36000,"N","N","No",15,"None",5]
[11,"A",4021,"2015-07-09","manjeet626",null,"vijay626","beautiful626","M","2003-07-11","yes",626,null,null,"OBC","Hindu",null,"GOVT. SENIOR SECONDARY SCHOOL ALNIYAWAS (219445)",8140200308,"XXXX5952",null,9828121322,"alniyawas626",0,"N","N","No",17,"None",2]
[11,"A",3983,"2015-07-04","manjeet627",null,"vijay627","beautiful627","M","2004-08-04","no",627,null,null,"OBC","Muslim",null,"GOVT. SENIOR SECONDARY SCHOOL ALNIYAWAS (219445)",8140200308,"XXXX7219",null,9828121323,"alniyawas627",0,"N","N","Yes",16,"None",2]
[11,"B",4316,"2017-07-04","manjeet628",null,"vijay628","beautiful628","M","2005-08-03","yes",628,null,null,"OBC","Muslim",null,"GOVT. SENIOR SECONDARY SCHOOL ALNIYAWAS (219445)",8140200308,"XXXX4746",null,9828121324,"alniyawas628",0,"N","N","Yes",15,"None",1]
[11,"B",4354,"2017-07-07","manjeet629",null,"vijay629","beautiful629","F","2005-10-15","yes",629,null,null,"SC","Hindu",null,"GOVT. SENIOR SECONDARY SCHOOL ALNIYAWAS (219445)",8140200308,"XXXX8836","YOFDKUC",9828121325,"alniyawas629",48000,"N","N","No",15,"None",3]
[11,"B",3767,"2015-05-11","manjeet630",null,"vijay630","beautiful630","M","2004-03-06","no",630,null,null,"SC","Hindu",null,"GOVT. SENIOR SECONDARY SCHOOL ALNIYAWAS (219445)",8140200308,"XXXX4272","YOWFEUS",9828121326,"alniyawas630",36000,"N","N","No",16,"None",1]
[11,"B",4468,"2018-07-04","manjeet631",null,"vijay631","beautiful631","F","2004-12-17","yes",631,null,null,"SC","Hindu",null,"GOVT. SENIOR SECONDARY SCHOOL ALNIYAWAS (219445)",8140200308,"XXXX2302",null,9828121327,"alniyawas631",40000,"N","N","No",16,"None",1]
[11,"B",4797,"2017-07-04","manjeet632",null,"vijay632","beautiful632","M","2004-06-12","yes",632,null,null,"GEN","Hindu",null,"GOVT. SENIOR SECONDARY SCHOOL ALNIYAWAS (219445)",8140200308,"XXXX5517","YISYFAS",9828121328,"alniyawas632",35000,"N","N","No",16,"None",0]
[11,"B",4887,null,"manjeet633",null,"vijay633","beautiful633","M","2004-09-05","no",633,null,null,"OBC",null,null,"GOVT. SENIOR SECONDARY SCHOOL ALNIYAWAS (219445)",8140200308,null,null,9828121329,"alniyawas633",null,"N","Y",null,16,null,6]
[11,"B",4843,"2020-08-24","manjeet634",null,"vijay634","beautiful634","M","2004-07-19","yes",634,null,null,"SC","Hindu",null,"GOVT. SENIOR SECONDARY SCHOOL ALNIYAWAS (219445)",8140200308,"XXXX0516","WDYCSOC",9828121330,"alniyawas634",10000,"N","N","No",16,"None",3]
[11,"B",4826,null,"manjeet635",null,"vijay635","beautiful635","M","2004-07-05","yes",635,null,null,"OBC",null,null,"GOVT. SENIOR SECONDARY SCHOOL ALNIYAWAS (219445)",8140200308,null,null,9828121331,"alniyawas635",null,"N","Y",null,16,null,1]
[11,"B",4540,"2018-07-10","manjeet636",null,"vijay636","beautiful636","M","2003-10-25","no",636,null,null,"OBC","Hindu",null,"GOVT. SENIOR SECONDARY SCHOOL ALNIYAWAS (219445)",8140200308,"XXXX4941",null,9828121332,"alniyawas636",40000,"N","N","No",17,"None",5]
[11,"B",4866,null,"manjeet637",null,"vijay637","beautiful637","M","2004-02-09","yes",637,null,null,"SC",null,null,"GOVT. SENIOR SECONDARY SCHOOL ALNIYAWAS (219445)",8140200308,null,null,9828121333,"alniyawas637",null,"N","Y",null,16,null,0]
[11,"B",4456,"2018-07-03","manjeet638",null,"vijay638","beautiful638","M","2003-02-23","yes",638,null,null,"OBC","Hindu",null,"GOVT. SENIOR SECONDARY SCHOOL ALNIYAWAS (219445)",8140200308,"XXXX8153","vvvpjnr",9828121334,"alniyawas638",40000,"N","N","No",17,"None",6]
[11,"B",4529,"2018-07-07","manjeet639",null,"vijay639","beautiful639","M","2006-07-13","no",639,null,null,"OBC","Hindu",null,"GOVT. SENIOR SECONDARY SCHOOL ALNIYAWAS (219445)",8140200308,"XXXX0324","VONTBPX",9828121335,"alniyawas639",36000,"N","Y","No",14,"None",1]
[11,"B",4441,"2018-06-29","manjeet640",null,"vijay640","beautiful640","M","2005-07-02","yes",640,null,null,"OBC","Hindu",null,"GOVT. SENIOR SECONDARY SCHOOL ALNIYAWAS (219445)",8140200308,"XXXX0103",null,9828121336,"alniyawas640",36000,"N","N","No",15,"None",2]
[11,"B",4799,null,"manjeet641",null,"vijay641","beautiful641","F","2005-06-07","yes",641,null,null,"OBC",null,null,"GOVT. SENIOR SECONDARY SCHOOL ALNIYAWAS (219445)",8140200308,null,null,9828121337,"alniyawas641",null,"N","Y",null,15,null,1]
[11,"B",4465,"2018-07-04","manjeet642",null,"vijay642","beautiful642","M","2007-01-25","no",642,null,null,"SC","Hindu",null,"GOVT. SENIOR SECONDARY SCHOOL ALNIYAWAS (219445)",8140200308,"XXXX1969","YQCIQEK",9828121338,"alniyawas642",60000,"N","N","No",13,"None",2]
[11,"B",4357,"2017-07-08","manjeet643",null,"vijay643","beautiful643","M","2004-06-08","yes",643,null,null,"OBC","Hindu",null,"GOVT. SENIOR SECONDARY SCHOOL ALNIYAWAS (219445)",8140200308,"XXXX6662",null,9828121339,"alniyawas643",0,"N","N","No",16,"None",1]
[11,"B",4358,"2017-07-08","manjeet644",null,"vijay644","beautiful644","F","2005-05-09","yes",644,null,null,"SC","Hindu",null,"GOVT. SENIOR SECONDARY SCHOOL ALNIYAWAS (219445)",8140200308,"XXXX8361","YOEMUYB",9828121340,"alniyawas644",42000,"N","N","No",15,"None",1]
[11,"B",4503,"2018-07-06","manjeet645",null,"vijay645","beautiful645","M","2005-12-04","no",645,null,null,"GEN","Hindu",null,"GOVT. SENIOR SECONDARY SCHOOL ALNIYAWAS (219445)",8140200308,"XXXX5489",null,9828121341,"alniyawas645",36000,"N","N","No",15,"None",1]
[11,"B",4852,"2018-07-09","manjeet646",null,"vijay646","beautiful646","M","2005-04-19","yes",646,null,null,"SBC","Hindu",null,"GOVT. SENIOR SECONDARY SCHOOL ALNIYAWAS (219445)",8140200308,"XXXX2213","YQMSFCK",9828121342,"alniyawas646",30000,"N","N","No",15,"None",2]
[11,"B",4533,"2018-07-07","manjeet647",null,"vijay647","beautiful647","M","2005-03-03","yes",647,null,null,"OBC","Hindu",null,"GOVT. SENIOR SECONDARY SCHOOL ALNIYAWAS (219445)",8140200308,"XXXX3014",null,9828121343,"alniyawas647",40000,"N","N","No",15,"None",1]
[11,"B",4796,"2018-07-07","manjeet648",null,"vijay648","beautiful648","M","2005-05-05","no",648,null,null,"OBC","Hindu",null,"GOVT. SENIOR SECONDARY SCHOOL ALNIYAWAS (219445)",8140200308,"XXXX4749",null,9828121344,"alniyawas648",35000,"N","N","No",15,"None",3]
[11,"B",4613,"2018-08-08","manjeet649",null,"vijay649","beautiful649","M","2003-08-25","yes",649,null,null,"OBC","Hindu",null,"GOVT. SENIOR SECONDARY SCHOOL ALNIYAWAS (219445)",8140200308,"XXXX3772",null,9828121345,"alniyawas649",75000,"N","N","No",17,"None",16]
[11,"B",3751,"2015-05-11","manjeet650",null,"vijay650","beautiful650","F","2004-05-03","yes",650,null,null,"OBC","Muslim",null,"GOVT. SENIOR SECONDARY SCHOOL ALNIYAWAS (219445)",8140200308,"XXXX3519",null,9828121346,"alniyawas650",0,"N","N","Yes",16,"None",1]
[11,"B",4829,"2017-07-10","manjeet651",null,"vijay651","beautiful651","M","2005-07-02","no",651,null,null,"SBC","Hindu",null,"GOVT. SENIOR SECONDARY SCHOOL ALNIYAWAS (219445)",8140200308,"XXXX2688",null,9828121347,"alniyawas651",30000,"N","N","No",15,"None",0]
[11,"B",4447,"2018-07-02","manjeet652",null,"vijay652","beautiful652","F","2004-10-08","yes",652,null,null,"SC","Hindu",null,"GOVT. SENIOR SECONDARY SCHOOL ALNIYAWAS (219445)",8140200308,"XXXX4038","YKKSIGK",9828121348,"alniyawas652",36000,"N","N","No",16,"None",0]
[12,"A",4270,"2017-06-27","manjeet653",null,"vijay653","beautiful653","F","2003-03-03","yes",653,null,null,"GEN","Hindu",null,"GOVT. SENIOR SECONDARY SCHOOL ALNIYAWAS (219445)",8140200308,"XXXX8102",null,9828121349,"alniyawas653",40000,"N","N","No",17,"None",1]
[12,"A",4555,"2018-07-12","manjeet654",null,"vijay654","beautiful654","M","2004-07-01","no",654,null,null,"OBC","Muslim",null,"GOVT. SENIOR SECONDARY SCHOOL ALNIYAWAS (219445)",8140200308,"XXXX4133",null,9828121350,"alniyawas654",60000,"N","N","Yes",16,"None",1]
[12,"A",4288,"2017-06-29","manjeet655",null,"vijay655","beautiful655","M","2004-03-04","yes",655,null,null,"SC","Hindu",null,"GOVT. SENIOR SECONDARY SCHOOL ALNIYAWAS (219445)",8140200308,"XXXX5982",null,9828121351,"alniyawas655",40000,"N","N","No",16,"None",1]
[12,"A",4308,"2017-07-01","manjeet656",null,"vijay656","beautiful656","M","2004-11-07","yes",656,null,null,"SC","Hindu",null,"GOVT. SENIOR SECONDARY SCHOOL ALNIYAWAS (219445)",8140200308,"XXXX3899",null,9828121352,"alniyawas656",0,"N","N","No",16,"None",1]
[12,"A",3558,"2014-05-13","manjeet657",null,"vijay657","beautiful657","F","2002-05-08","no",657,null,null,"SC",null,null,"GOVT. SENIOR SECONDARY SCHOOL ALNIYAWAS (219445)",8140200308,"XXXX1749","YBDOGMC",9828121353,"alniyawas657",60000,"N","N",null,18,"None",0]
[12,"A",3659,"2014-07-10","manjeet658",null,"vijay658","beautiful658","F","2003-08-20","yes",658,null,null,"OBC",null,null,"GOVT. SENIOR SECONDARY SCHOOL ALNIYAWAS (219445)",8140200308,"XXXX7739",null,9828121354,"alniyawas658",0,"N","N",null,17,"None",1]
[12,"A",4394,"2017-07-14","manjeet659",null,"vijay659","beautiful659","M","2003-04-20","yes",659,null,null,"OBC","Hindu",null,"GOVT. SENIOR SECONDARY SCHOOL ALNIYAWAS (219445)",8140200308,"XXXX3681",null,9828121355,"alniyawas659",0,"N","N","No",17,"None",1]
[12,"A",4297,"2017-06-30","manjeet660",null,"vijay660","beautiful660","M","2001-07-04","no",660,null,null,"OBC","Hindu",null,"GOVT. SENIOR SECONDARY SCHOOL ALNIYAWAS (219445)",8140200308,"XXXX1980",null,9828121356,"alniyawas660",40000,"N","N","No",19,"None",1]
[12,"A",4410,"2017-07-14","manjeet661",null,"vijay661","beautiful661","M","2004-02-05","yes",661,null,null,"OBC","Hindu",null,"GOVT. SENIOR SECONDARY SCHOOL ALNIYAWAS (219445)",8140200308,"XXXX1272",null,9828121357,"alniyawas661",0,"N","N","No",16,"None",1]
[12,"A",4002,"2015-07-06","manjeet662",null,"vijay662","beautiful662","M","2004-02-08","yes",662,null,null,"SBC","Hindu",null,"GOVT. SENIOR SECONDARY SCHOOL ALNIYAWAS (219445)",8140200308,"XXXX3448",null,9828121358,"alniyawas662",36000,"N","N","No",16,"None",1]
[12,"A",4414,"2017-07-14","manjeet663",null,"vijay663","beautiful663","M","2003-12-07","no",663,null,null,"OBC","Hindu",null,"GOVT. SENIOR SECONDARY SCHOOL ALNIYAWAS (219445)",8140200308,"XXXX4059",null,9828121359,"alniyawas663",0,"N","N","No",17,"None",1]
[12,"A",3559,"2014-05-13","manjeet664",null,"vijay664","beautiful664","M","2004-04-10","yes",664,null,null,"SC","Hindu",null,"GOVT. SENIOR SECONDARY SCHOOL ALNIYAWAS (219445)",8140200308,"XXXX8283","YMQAYFB",9828121360,"alniyawas664",60000,"N","N","No",16,"None",1]
[12,"A",4424,"2017-07-20","manjeet665",null,"vijay665","beautiful665","M","2002-07-14","yes",665,null,null,"SC","Hindu",null,"GOVT. SENIOR SECONDARY SCHOOL ALNIYAWAS (219445)",8140200308,"XXXX9622","VPGTJWJ",9828121361,"alniyawas665",60000,"N","N","No",18,"None",1]
[12,"A",4534,"2018-07-09","manjeet666",null,"vijay666","beautiful666","M","2002-10-05","no",666,null,null,"GEN","Hindu",null,"GOVT. SENIOR SECONDARY SCHOOL ALNIYAWAS (219445)",8140200308,"XXXX9728",null,9828121362,"alniyawas666",60000,"N","N","No",18,"None",5]
[12,"A",4605,"2018-07-30","manjeet667",null,"vijay667","beautiful667","M","2003-07-06","yes",667,null,null,"SC","Hindu",null,"GOVT. SENIOR SECONDARY SCHOOL ALNIYAWAS (219445)",8140200308,"XXXX0378",null,9828121363,"alniyawas667",60000,"N","N","No",17,"None",1]
[12,"A",3429,"2013-05-06","manjeet668",null,"vijay668","beautiful668","M","2002-06-16","yes",668,null,null,"OBC","Hindu",null,"GOVT. SENIOR SECONDARY SCHOOL ALNIYAWAS (219445)",8140200308,"XXXX7541",null,9828121364,"alniyawas668",0,"N","N","No",18,"None",2]
[12,"A",3573,"2014-05-13","manjeet669",null,"vijay669","beautiful669","F","2003-06-26","no",669,null,null,"SC",null,null,"GOVT. SENIOR SECONDARY SCHOOL ALNIYAWAS (219445)",8140200308,"XXXX6524",null,9828121365,"alniyawas669",36000,"N","N",null,17,"None",1]
[12,"A",4350,"2017-07-07","manjeet670",null,"vijay670","beautiful670","F","2004-05-28","yes",670,null,null,"GEN","Hindu",null,"GOVT. SENIOR SECONDARY SCHOOL ALNIYAWAS (219445)",8140200308,"XXXX9630",null,9828121366,"alniyawas670",0,"N","N","No",16,"None",1]
[12,"A",3647,"2014-07-09","manjeet671",null,"vijay671","beautiful671","M","2002-05-10","yes",671,null,null,"GEN","Hindu",null,"GOVT. SENIOR SECONDARY SCHOOL ALNIYAWAS (219445)",8140200308,"XXXX3847",null,9828121367,"alniyawas671",0,"N","N","No",18,"None",1]
[12,"A",4583,"2018-07-18","manjeet672",null,"vijay672","beautiful672","M","2002-11-03","no",672,null,null,"SC","Hindu",null,"GOVT. SENIOR SECONDARY SCHOOL ALNIYAWAS (219445)",8140200308,"XXXX0140",null,9828121368,"alniyawas672",50000,"N","N","No",18,"None",0]
[12,"A",3621,"2014-07-05","manjeet673",null,"vijay673","beautiful673","M","2003-04-02","yes",673,null,null,"GEN","Hindu",null,"GOVT. SENIOR SECONDARY SCHOOL ALNIYAWAS (219445)",8140200308,"XXXX6145",null,9828121369,"alniyawas673",0,"N","N","No",17,"None",1]
[12,"A",3964,"2015-07-02","manjeet674",null,"vijay674","beautiful674","M","2003-07-20","yes",674,null,null,"OBC","Hindu",null,"GOVT. SENIOR SECONDARY SCHOOL ALNIYAWAS (219445)",8140200308,"XXXX7908",null,9828121370,"alniyawas674",0,"N","N","No",17,"None",1]
[12,"A",4106,"2016-06-24","manjeet675",null,"vijay675","beautiful675","F","2004-07-11","no",675,null,null,"OBC","Hindu",null,"GOVT. SENIOR SECONDARY SCHOOL ALNIYAWAS (219445)",8140200308,"XXXX1242",null,9828121371,"alniyawas675",0,"N","N","No",16,"None",0.15]
[12,"A",4395,"2017-07-14","manjeet676",null,"vijay676","beautiful676","M","2005-01-21","yes",676,null,null,"OBC","Hindu",null,"GOVT. SENIOR SECONDARY SCHOOL ALNIYAWAS (219445)",8140200308,"XXXX2052",null,9828121372,"alniyawas676",0,"N","N","No",15,"None",1]
[12,"A",4139,"2016-07-01","manjeet677",null,"vijay677","beautiful677","F","2002-03-07","yes",677,null,null,"OBC",null,null,"GOVT. SENIOR SECONDARY SCHOOL ALNIYAWAS (219445)",8140200308,"XXXX6005",null,9828121373,"alniyawas677",0,"N","N",null,18,"None",1]
[12,"A",4309,"2017-07-01","manjeet678",null,"vijay678","beautiful678","F","2003-11-19","no",678,null,null,"GEN","Hindu",null,"GOVT. SENIOR SECONDARY SCHOOL ALNIYAWAS (219445)",8140200308,"XXXX1018",null,9828121374,"alniyawas678",0,"N","N","No",17,"None",1]
[12,"A",4342,"2017-07-06","manjeet679",null,"vijay679","beautiful679","F","2005-02-25","yes",679,null,null,"OBC","Hindu",null,"GOVT. SENIOR SECONDARY SCHOOL ALNIYAWAS (219445)",8140200308,"XXXX4594",null,9828121375,"alniyawas679",0,"N","N","No",15,"None",1]
[12,"A",4296,"2017-06-30","manjeet680",null,"vijay680","beautiful680","F","2004-07-01","yes",680,null,null,"OBC","Hindu",null,"GOVT. SENIOR SECONDARY SCHOOL ALNIYAWAS (219445)",8140200308,"XXXX4744","WXBKZGR",9828121376,"alniyawas680",60000,"N","N","No",16,"None",1]
[12,"A",3567,"2014-05-13","manjeet681",null,"vijay681","beautiful681","F","2004-05-01","no",681,null,null,"OBC","Muslim",null,"GOVT. SENIOR SECONDARY SCHOOL ALNIYAWAS (219445)",8140200308,"XXXX2820",null,9828121377,"alniyawas681",0,"N","N","Yes",16,"None",1]
[12,"A",3432,"2013-05-06","manjeet682",null,"vijay682","beautiful682","M","2001-12-10","yes",682,null,null,"OBC","Hindu",null,"GOVT. SENIOR SECONDARY SCHOOL ALNIYAWAS (219445)",8140200308,"XXXX8347",null,9828121378,"alniyawas682",0,"N","N","No",19,"None",1]
[12,"A",4763,"2019-07-23","manjeet683",null,"vijay683","beautiful683","F","2003-07-02","yes",683,null,null,"OBC","Hindu",null,"GOVT. SENIOR SECONDARY SCHOOL ALNIYAWAS (219445)",8140200308,"XXXX3665","YQQOSWO",9828121379,"alniyawas683",60000,"N","N","No",17,"None",1]
[12,"A",4408,"2017-07-14","manjeet684",null,"vijay684","beautiful684","F","2004-08-06","no",684,null,null,"OBC","Hindu",null,"GOVT. SENIOR SECONDARY SCHOOL ALNIYAWAS (219445)",8140200308,"XXXX0245",null,9828121380,"alniyawas684",0,"N","N","No",16,"None",1]
[12,"A",3571,"2014-05-13","manjeet685",null,"vijay685","beautiful685","F","2003-02-26","yes",685,null,null,"SC","Hindu",null,"GOVT. SENIOR SECONDARY SCHOOL ALNIYAWAS (219445)",8140200308,"XXXX2217","YWKYMKG",9828121381,"alniyawas685",60000,"N","N","No",17,"None",1]
[12,"A",4392,"2017-07-14","manjeet686",null,"vijay686","beautiful686","M","2002-10-04","yes",686,null,null,"SC","Hindu",null,"GOVT. SENIOR SECONDARY SCHOOL ALNIYAWAS (219445)",8140200308,"XXXX5813",null,9828121382,"alniyawas686",0,"N","N","No",18,"None",1]
[12,"A",4264,"1900-05-27","manjeet687",null,"vijay687","beautiful687","F","2003-02-10","no",687,null,null,"OBC","Hindu",null,"GOVT. SENIOR SECONDARY SCHOOL ALNIYAWAS (219445)",8140200308,"XXXX9901","VWSPONX",9828121383,"alniyawas687",60000,"N","N","No",17,"None",1]
[12,"A",4391,"2017-07-14","manjeet688",null,"vijay688","beautiful688","M","2005-11-28","yes",688,null,null,"SC","Hindu",null,"GOVT. SENIOR SECONDARY SCHOOL ALNIYAWAS (219445)",8140200308,"XXXX2315","YKKSIGK",9828121384,"alniyawas688",30000,"N","N","No",15,"None",1]
[12,"A",3624,"2014-07-05","manjeet689",null,"vijay689","beautiful689","M","2003-05-02","yes",689,null,null,"OBC","Hindu",null,"GOVT. SENIOR SECONDARY SCHOOL ALNIYAWAS (219445)",8140200308,"XXXX1050",null,9828121385,"alniyawas689",0,"N","N","No",17,"None",2]
[12,"A",3578,"2014-05-22","manjeet690",null,"vijay690","beautiful690","M","2004-02-07","no",690,null,null,"OBC","Hindu",null,"GOVT. SENIOR SECONDARY SCHOOL ALNIYAWAS (219445)",8140200308,"XXXX4855",null,9828121386,"alniyawas690",0,"N","N","No",16,"None",1]
[12,"A",4082,"2015-08-01","manjeet691",null,"vijay691","beautiful691","M","2003-07-20","yes",691,null,null,"GEN","Hindu",null,"GOVT. SENIOR SECONDARY SCHOOL ALNIYAWAS (219445)",8140200308,"XXXX6216",null,9828121387,"alniyawas691",0,"N","N","No",17,"None",5]
[12,"A",4344,"2017-07-06","manjeet692",null,"vijay692","beautiful692","F","2004-02-05","yes",692,null,null,"OBC","Hindu",null,"GOVT. SENIOR SECONDARY SCHOOL ALNIYAWAS (219445)",8140200308,"XXXX5565",null,9828121388,"alniyawas692",0,"N","N","No",16,"None",1]
[12,"A",4269,"2017-06-27","manjeet693",null,"vijay693","beautiful693","F","2001-12-10","no",693,null,null,"GEN","Hindu",null,"GOVT. SENIOR SECONDARY SCHOOL ALNIYAWAS (219445)",8140200308,"XXXX3288",null,9828121389,"alniyawas693",40000,"N","N","No",19,"None",1]
[12,"A",4265,"1900-05-27","manjeet694",null,"vijay694","beautiful694","F","2001-05-01","yes",694,null,null,"OBC","Hindu",null,"GOVT. SENIOR SECONDARY SCHOOL ALNIYAWAS (219445)",8140200308,"XXXX7224",null,9828121390,"alniyawas694",0,"N","N","No",19,"None",1]
[12,"A",4287,"2017-06-29","manjeet695",null,"vijay695","beautiful695","M","2003-08-07","yes",695,null,null,"OBC","Hindu",null,"GOVT. SENIOR SECONDARY SCHOOL ALNIYAWAS (219445)",8140200308,"XXXX4936",null,9828121391,"alniyawas695",0,"N","N","No",17,"None",1]
[12,"A",4289,"2017-06-29","manjeet696",null,"vijay696","beautiful696","M","2005-08-08","no",696,null,null,"OBC","Muslim",null,"GOVT. SENIOR SECONDARY SCHOOL ALNIYAWAS (219445)",8140200308,"XXXX3580","WDYCBYO",9828121392,"alniyawas696",30000,"N","N","Yes",15,"None",1]
[12,"A",4396,"2017-07-14","manjeet697",null,"vijay697","beautiful697","F","2002-10-15","yes",697,null,null,"OBC","Muslim",null,"GOVT. SENIOR SECONDARY SCHOOL ALNIYAWAS (219445)",8140200308,"XXXX6524",null,9828121393,"alniyawas697",0,"N","N","Yes",18,"None",1]
[12,"A",4407,"2017-07-14","manjeet698",null,"vijay698","beautiful698","M","2006-03-15","yes",698,null,null,"OBC","Hindu",null,"GOVT. SENIOR SECONDARY SCHOOL ALNIYAWAS (219445)",8140200308,"XXXX2818",null,9828121394,"alniyawas698",0,"N","N","No",14,"None",1]
[12,"A",4547,"2018-07-10","manjeet699",null,"vijay699","beautiful699","F","2004-04-18","no",699,null,null,"OBC","Muslim",null,"GOVT. SENIOR SECONDARY SCHOOL ALNIYAWAS (219445)",8140200308,"XXXX3684",null,9828121395,"alniyawas699",60000,"N","N","Yes",16,"None",1]
[12,"A",4349,"2017-07-07","manjeet700",null,"vijay700","beautiful700","F","2003-09-15","yes",700,null,null,"OBC","Hindu",null,"GOVT. SENIOR SECONDARY SCHOOL ALNIYAWAS (219445)",8140200308,"XXXX0385",null,9828121396,"alniyawas700",0,"N","N","No",17,"None",1]
[12,"A",3590,"2014-07-03","manjeet701",null,"vijay701","beautiful701","F","2004-01-01","yes",701,null,null,"OBC","Muslim",null,"GOVT. SENIOR SECONDARY SCHOOL ALNIYAWAS (219445)",8140200308,"XXXX5762",null,9828121397,"alniyawas701",0,"N","N","Yes",16,"None",1]
[12,"A",4401,"2017-07-14","manjeet702",null,"vijay702","beautiful702","F","2003-05-03","no",702,null,null,"OBC","Hindu",null,"GOVT. SENIOR SECONDARY SCHOOL ALNIYAWAS (219445)",8140200308,"XXXX5031",null,9828121398,"alniyawas702",0,"N","N","No",17,"None",1]
[12,"A",3467,"2013-07-06","manjeet703",null,"vijay703","beautiful703","M","2003-04-15","yes",703,null,null,"OBC","Hindu",null,"GOVT. SENIOR SECONDARY SCHOOL ALNIYAWAS (219445)",8140200308,"XXXX7866",null,9828121399,"alniyawas703",0,"N","N","No",17,"None",1]
[12,"A",3589,"2014-07-03","manjeet704",null,"vijay704","beautiful704","M","2004-10-02","yes",704,null,null,"OBC","Hindu",null,"GOVT. SENIOR SECONDARY SCHOOL ALNIYAWAS (219445)",8140200308,"XXXX3157",null,9828121400,"alniyawas704",0,"N","N","No",16,"None",2]
[12,"A",3468,"2013-07-06","manjeet705",null,"vijay705","beautiful705","M","2003-04-30","no",705,null,null,"OBC","Hindu",null,"GOVT. SENIOR SECONDARY SCHOOL ALNIYAWAS (219445)",8140200308,"XXXX2780",null,9828121401,"alniyawas705",0,"N","N","No",17,"None",1]
[12,"A",3555,"2014-05-13","manjeet706",null,"vijay706","beautiful706","F","2003-03-22","yes",706,null,null,"OBC","Muslim",null,"GOVT. SENIOR SECONDARY SCHOOL ALNIYAWAS (219445)",8140200308,"XXXX3847",null,9828121402,"alniyawas706",36000,"N","N","Yes",17,"None",0]
[12,"B",4400,"2017-07-14","manjeet707",null,"vijay707","beautiful707","M","2003-07-29","yes",707,null,null,"SC","Hindu",null,"GOVT. SENIOR SECONDARY SCHOOL ALNIYAWAS (219445)",8140200308,"XXXX0724",null,9828121403,"alniyawas707",0,"N","N","No",17,"None",1]
[12,"B",4755,"2019-07-18","manjeet708",null,"vijay708","beautiful708","M","2002-05-22","no",708,null,null,"ST","Hindu",null,"GOVT. SENIOR SECONDARY SCHOOL ALNIYAWAS (219445)",8140200308,"XXXX5174","YKIKBFW",9828121404,"alniyawas708",50000,"N","N","No",18,"None",1]
[12,"B",4313,"2017-07-03","manjeet709",null,"vijay709","beautiful709","M","2003-07-17","yes",709,null,null,"OBC","Hindu",null,"GOVT. SENIOR SECONDARY SCHOOL ALNIYAWAS (219445)",8140200308,"XXXX9524",null,9828121405,"alniyawas709",0,"N","N","No",17,"None",1]
[12,"B",4399,"2017-07-14","manjeet710",null,"vijay710","beautiful710","F","2003-07-29","yes",710,null,null,"SC","Hindu",null,"GOVT. SENIOR SECONDARY SCHOOL ALNIYAWAS (219445)",8140200308,"XXXX5764",null,9828121406,"alniyawas710",0,"N","N","No",17,"None",1]
[12,"B",4751,"2019-07-17","manjeet711",null,"vijay711","beautiful711","M","2005-01-22","no",711,null,null,"SBC","Hindu",null,"GOVT. SENIOR SECONDARY SCHOOL ALNIYAWAS (219445)",8140200308,"XXXX8202","vzjctot",9828121407,"alniyawas711",40000,"N","N","No",15,"None",1]
[12,"B",4715,"2016-07-04","manjeet712",null,"vijay712","beautiful712","M","2003-07-04","yes",712,null,null,"OBC","Hindu",null,"GOVT. SENIOR SECONDARY SCHOOL ALNIYAWAS (219445)",8140200308,"XXXX7933","VMCFGAF",9828121408,"alniyawas712",40000,"N","N","No",17,"None",2]
[12,"B",4724,"2019-07-13","manjeet713",null,"vijay713","beautiful713","M","2005-01-01","yes",713,null,null,"OBC","Hindu",null,"GOVT. SENIOR SECONDARY SCHOOL ALNIYAWAS (219445)",8140200308,"XXXX7492","yocoids",9828121409,"alniyawas713",50000,"N","N","No",15,"None",5]
[12,"B",3609,"2014-07-03","manjeet714",null,"vijay714","beautiful714","M","2004-10-10","no",714,null,null,"SC",null,null,"GOVT. SENIOR SECONDARY SCHOOL ALNIYAWAS (219445)",8140200308,"XXXX2037","YQCGGDC",9828121410,"alniyawas714",46000,"N","N",null,16,"None",1]
[12,"B",4404,"2017-07-14","manjeet715",null,"vijay715","beautiful715","F","2005-11-29","yes",715,null,null,"OBC","Hindu",null,"GOVT. SENIOR SECONDARY SCHOOL ALNIYAWAS (219445)",8140200308,"XXXX4944","YSBBWQG",9828121411,"alniyawas715",36000,"N","N","No",15,"None",1]
[12,"B",4416,"2017-07-15","manjeet716",null,"vijay716","beautiful716","F","2002-03-02","yes",716,null,null,"OBC","Hindu",null,"GOVT. SENIOR SECONDARY SCHOOL ALNIYAWAS (219445)",8140200308,"XXXX3408",null,9828121412,"alniyawas716",0,"N","N","No",18,"None",1]
[12,"B",4725,"2019-07-13","manjeet717",null,"vijay717","beautiful717","F","2002-07-30","no",717,null,null,"OBC","Hindu",null,"GOVT. SENIOR SECONDARY SCHOOL ALNIYAWAS (219445)",8140200308,"XXXX0184","vonwkkp",9828121413,"alniyawas717",50000,"N","N","No",18,"None",5]
[12,"B",3620,"2014-07-03","manjeet718",null,"vijay718","beautiful718","F","2004-01-05","yes",718,null,null,"OBC","Hindu",null,"GOVT. SENIOR SECONDARY SCHOOL ALNIYAWAS (219445)",8140200308,"XXXX6807",null,9828121414,"alniyawas718",0,"N","N","No",16,"None",1]
[12,"B",4300,"2017-06-30","manjeet719",null,"vijay719","beautiful719","F","2002-10-10","yes",719,null,null,"SBC","Hindu",null,"GOVT. SENIOR SECONDARY SCHOOL ALNIYAWAS (219445)",8140200308,"XXXX1512",null,9828121415,"alniyawas719",0,"N","N","No",18,"None",1]
[12,"B",4003,"2015-07-06","manjeet720",null,"vijay720","beautiful720","M","2004-10-17","no",720,null,null,"SBC","Hindu",null,"GOVT. SENIOR SECONDARY SCHOOL ALNIYAWAS (219445)",8140200308,"XXXX5822",null,9828121416,"alniyawas720",60000,"N","N","No",16,"None",1]
[12,"B",4181,"2016-07-08","manjeet721",null,"vijay721","beautiful721","M","2004-12-15","yes",721,null,null,"OBC","Hindu",null,"GOVT. SENIOR SECONDARY SCHOOL ALNIYAWAS (219445)",8140200308,"XXXX3935",null,9828121417,"alniyawas721",0,"N","N","No",16,"None",2]
[12,"B",3583,"2014-07-01","manjeet722",null,"vijay722","beautiful722","M","2003-05-08","yes",722,null,null,"OBC","Muslim",null,"GOVT. SENIOR SECONDARY SCHOOL ALNIYAWAS (219445)",8140200308,"XXXX9047",null,9828121418,"alniyawas722",0,"N","N","Yes",17,"None",1]
[12,"B",4286,"2017-06-29","manjeet723",null,"vijay723","beautiful723","M","2005-08-20","no",723,null,null,"SC","Hindu",null,"GOVT. SENIOR SECONDARY SCHOOL ALNIYAWAS (219445)",8140200308,"XXXX7236","YQCIQEK",9828121419,"alniyawas723",42000,"N","N","No",15,"None",1]
[12,"B",4343,"2017-07-06","manjeet724",null,"vijay724","beautiful724","F","2003-03-02","yes",724,null,null,"OBC","Hindu",null,"GOVT. SENIOR SECONDARY SCHOOL ALNIYAWAS (219445)",8140200308,"XXXX7505",null,9828121420,"alniyawas724",0,"N","N","No",17,"None",1]
[12,"B",4425,"2017-07-20","manjeet725",null,"vijay725","beautiful725","F","2003-09-03","yes",725,null,null,"OBC","Hindu",null,"GOVT. SENIOR SECONDARY SCHOOL ALNIYAWAS (219445)",8140200308,"XXXX2532",null,9828121421,"alniyawas725",0,"N","N","No",17,"None",1]
[12,"B",4508,"2018-07-06","manjeet726",null,"vijay726","beautiful726","M","2005-02-23","no",726,null,null,"GEN","Hindu",null,"GOVT. SENIOR SECONDARY SCHOOL ALNIYAWAS (219445)",8140200308,"XXXX0462",null,9828121422,"alniyawas726",60000,"N","N","No",15,"None",1]
[12,"B",4720,"2019-07-12","manjeet727",null,"vijay727","beautiful727","M","2003-07-15","yes",727,null,null,"OBC","Hindu",null,"GOVT. SENIOR SECONDARY SCHOOL ALNIYAWAS (219445)",8140200308,"XXXX7126","vgttnrj",9828121423,"alniyawas727",60000,"N","N","No",17,"None",5]
[12,"B",4881,"2019-07-24","manjeet728",null,"vijay728","beautiful728","M","2004-12-23","yes",728,null,null,"OBC",null,null,"GOVT. SENIOR SECONDARY SCHOOL ALNIYAWAS (219445)",8140200308,"XXXX5672",null,9828121424,"alniyawas728",0,"N","N",null,16,"None",2]

{"sheet":"SD LOCKED","index":2,"n_rows":754,"n_cols":31,"rows_kept":754,"cut":false,"hidden":false,"merged":[]}
[1,2,3,4,5,6,7,8,9,10,11,12,13,14,15,16,17,18,19,20,21,22,23,24,25,26]
["S.NO.","CLASS","Section","SRNO","DOA","Name","Late Status","FatherName","MotherName","Gender","Dob","online","ExamRollNumber","School Total Working Days","Student Total Attendence","Category","Religion","Previous Year Marks","Name Of School","School UDise Code","Aadhar No of Student","Bhamashash Card","Mobile No Student(Father/Mother/Guardian","Student Permanent Address","Annual Parental Income","CWSN Status","BPL Status","Minority Status","Age On Present(In Years)","Co-Curricular Activity","Distance From School"]
[{"$f":"IF(F3=\" \",\" \",ROWS($A$3:A3))","v":1},{"$f":"'shaladarpan '!A2","v":1},{"$f":"'shaladarpan '!B2","v":"A"},{"$f":"'shaladarpan '!C2","v":4858},{"$f":"'shaladarpan '!D2","v":"00:00:00"},{"$f":"'shaladarpan '!E2","v":"manjeet1"},{"$f":"'shaladarpan '!F2","v":"00:00:00"},{"$f":"'shaladarpan '!G2","v":"vijay1"},{"$f":"'shaladarpan '!H2","v":"beautiful1"},{"$f":"'shaladarpan '!I2","v":"F"},{"$f":"'shaladarpan '!J2","v":"2015-05-18"},{"$f":"'shaladarpan '!K2","v":"yes"},{"$f":"'shaladarpan '!L2","v":1},{"$f":"'shaladarpan '!M2","v":0},{"$f":"'shaladarpan '!N2","v":0},{"$f":"'shaladarpan '!O2","v":"OBC"},{"$f":"'shaladarpan '!P2","v":0},{"$f":"'shaladarpan '!Q2","v":0},{"$f":"'shaladarpan '!R2","v":"GOVT. SENIOR SECONDARY SCHOOL ALNIYAWAS (219445)"},{"$f":"'shaladarpan '!S2","v":8140200308},{"$f":"'shaladarpan '!T2","v":0},{"$f":"'shaladarpan '!U2","v":0},{"$f":"'shaladarpan '!V2","v":9828120697},{"$f":"'shaladarpan '!W2","v":"alniyawas1"},{"$f":"'shaladarpan '!X2","v":0},{"$f":"'shaladarpan '!Y2","v":"N"},{"$f":"'shaladarpan '!Z2","v":"Y"},{"$f":"'shaladarpan '!AA2","v":0},{"$f":"'shaladarpan '!AB2","v":5},{"$f":"'shaladarpan '!AC2","v":0},{"$f":"'shaladarpan '!AD2","v":1}]
[{"$f":"IF(F4=\" \",\" \",ROWS($A$3:A4))","v":2},{"$f":"'shaladarpan '!A3","v":1},{"$f":"'shaladarpan '!B3","v":"A"},{"$f":"'shaladarpan '!C3","v":4863},{"$f":"'shaladarpan '!D3","v":"00:00:00"},{"$f":"'shaladarpan '!E3","v":"manjeet2"},{"$f":"'shaladarpan '!F3","v":"00:00:00"},{"$f":"'shaladarpan '!G3","v":"vijay2"},{"$f":"'shaladarpan '!H3","v":"beautiful2"},{"$f":"'shaladarpan '!I3","v":"F"},{"$f":"'shaladarpan '!J3","v":"2015-04-05"},{"$f":"'shaladarpan '!K3","v":"yes"},{"$f":"'shaladarpan '!L3","v":2},{"$f":"'shaladarpan '!M3","v":0},{"$f":"'shaladarpan '!N3","v":0},{"$f":"'shaladarpan '!O3","v":"OBC"},{"$f":"'shaladarpan '!P3","v":0},{"$f":"'shaladarpan '!Q3","v":0},{"$f":"'shaladarpan '!R3","v":"GOVT. SENIOR SECONDARY SCHOOL ALNIYAWAS (219445)"},{"$f":"'shaladarpan '!S3","v":8140200308},{"$f":"'shaladarpan '!T3","v":0},{"$f":"'shaladarpan '!U3","v":0},{"$f":"'shaladarpan '!V3","v":9828120698},{"$f":"'shaladarpan '!W3","v":"alniyawas2"},{"$f":"'shaladarpan '!X3","v":0},{"$f":"'shaladarpan '!Y3","v":"N"},{"$f":"'shaladarpan '!Z3","v":"Y"},{"$f":"'shaladarpan '!AA3","v":0},{"$f":"'shaladarpan '!AB3","v":5},{"$f":"'shaladarpan '!AC3","v":0},{"$f":"'shaladarpan '!AD3","v":0}]
[{"$f":"IF(F5=\" \",\" \",ROWS($A$3:A5))","v":3},{"$f":"'shaladarpan '!A4","v":1},{"$f":"'shaladarpan '!B4","v":"A"},{"$f":"'shaladarpan '!C4","v":4860},{"$f":"'shaladarpan '!D4","v":"00:00:00"},{"$f":"'shaladarpan '!E4","v":"manjeet3"},{"$f":"'shaladarpan '!F4","v":"00:00:00"},{"$f":"'shaladarpan '!G4","v":"vijay3"},{"$f":"'shaladarpan '!H4","v":"beautiful3"},{"$f":"'shaladarpan '!I4","v":"M"},{"$f":"'shaladarpan '!J4","v":"2014-08-25"},{"$f":"'shaladarpan '!K4","v":"no"},{"$f":"'shaladarpan '!L4","v":3},{"$f":"'shaladarpan '!M4","v":0},{"$f":"'shaladarpan '!N4","v":0},{"$f":"'shaladarpan '!O4","v":"GEN"},{"$f":"'shaladarpan '!P4","v":0},{"$f":"'shaladarpan '!Q4","v":0},{"$f":"'shaladarpan '!R4","v":"GOVT. SENIOR SECONDARY SCHOOL ALNIYAWAS (219445)"},{"$f":"'shaladarpan '!S4","v":8140200308},{"$f":"'shaladarpan '!T4","v":0},{"$f":"'shaladarpan '!U4","v":0},{"$f":"'shaladarpan '!V4","v":9828120699},{"$f":"'shaladarpan '!W4","v":"alniyawas3"},{"$f":"'shaladarpan '!X4","v":0},{"$f":"'shaladarpan '!Y4","v":"N"},{"$f":"'shaladarpan '!Z4","v":"Y"},{"$f":"'shaladarpan '!AA4","v":0},{"$f":"'shaladarpan '!AB4","v":6},{"$f":"'shaladarpan '!AC4","v":0},{"$f":"'shaladarpan '!AD4","v":1}]
[{"$f":"IF(F6=\" \",\" \",ROWS($A$3:A6))","v":4},{"$f":"'shaladarpan '!A5","v":1},{"$f":"'shaladarpan '!B5","v":"A"},{"$f":"'shaladarpan '!C5","v":4791},{"$f":"'shaladarpan '!D5","v":"2020-07-04"},{"$f":"'shaladarpan '!E5","v":"manjeet4"},{"$f":"'shaladarpan '!F5","v":"00:00:00"},{"$f":"'shaladarpan '!G5","v":"vijay4"},{"$f":"'shaladarpan '!H5","v":"beautiful4"},{"$f":"'shaladarpan '!I5","v":"F"},{"$f":"'shaladarpan '!J5","v":"2015-04-09"},{"$f":"'shaladarpan '!K5","v":"yes"},{"$f":"'shaladarpan '!L5","v":4},{"$f":"'shaladarpan '!M5","v":0},{"$f":"'shaladarpan '!N5","v":0},{"$f":"'shaladarpan '!O5","v":"SC"},{"$f":"'shaladarpan '!P5","v":"Hindu"},{"$f":"'shaladarpan '!Q5","v":0},{"$f":"'shaladarpan '!R5","v":"GOVT. SENIOR SECONDARY SCHOOL ALNIYAWAS (219445)"},{"$f":"'shaladarpan '!S5","v":8140200308},{"$f":"'shaladarpan '!T5","v":0},{"$f":"'shaladarpan '!U5","v":0},{"$f":"'shaladarpan '!V5","v":9828120700},{"$f":"'shaladarpan '!W5","v":"alniyawas4"},{"$f":"'shaladarpan '!X5","v":25000},{"$f":"'shaladarpan '!Y5","v":"N"},{"$f":"'shaladarpan '!Z5","v":"N"},{"$f":"'shaladarpan '!AA5","v":"No"},{"$f":"'shaladarpan '!AB5","v":5},{"$f":"'shaladarpan '!AC5","v":"None"},{"$f":"'shaladarpan '!AD5","v":1}]
[{"$f":"IF(F7=\" \",\" \",ROWS($A$3:A7))","v":5},{"$f":"'shaladarpan '!A6","v":1},{"$f":"'shaladarpan '!B6","v":"A"},{"$f":"'shaladarpan '!C6","v":4864},{"$f":"'shaladarpan '!D6","v":"00:00:00"},{"$f":"'shaladarpan '!E6","v":"manjeet5"},{"$f":"'shaladarpan '!F6","v":"00:00:00"},{"$f":"'shaladarpan '!G6","v":"vijay5"},{"$f":"'shaladarpan '!H6","v":"beautiful5"},{"$f":"'shaladarpan '!I6","v":"M"},{"$f":"'shaladarpan '!J6","v":"2014-02-05"},{"$f":"'shaladarpan '!K6","v":"yes"},{"$f":"'shaladarpan '!L6","v":5},{"$f":"'shaladarpan '!M6","v":0},{"$f":"'shaladarpan '!N6","v":0},{"$f":"'shaladarpan '!O6","v":"OBC"},{"$f":"'shaladarpan '!P6","v":0},{"$f":"'shaladarpan '!Q6","v":0},{"$f":"'shaladarpan '!R6","v":"GOVT. SENIOR SECONDARY SCHOOL ALNIYAWAS (219445)"},{"$f":"'shaladarpan '!S6","v":8140200308},{"$f":"'shaladarpan '!T6","v":0},{"$f":"'shaladarpan '!U6","v":0},{"$f":"'shaladarpan '!V6","v":9828120701},{"$f":"'shaladarpan '!W6","v":"alniyawas5"},{"$f":"'shaladarpan '!X6","v":0},{"$f":"'shaladarpan '!Y6","v":"N"},{"$f":"'shaladarpan '!Z6","v":"Y"},{"$f":"'shaladarpan '!AA6","v":0},{"$f":"'shaladarpan '!AB6","v":6},{"$f":"'shaladarpan '!AC6","v":0},{"$f":"'shaladarpan '!AD6","v":0}]
[{"$f":"IF(F8=\" \",\" \",ROWS($A$3:A8))","v":6},{"$f":"'shaladarpan '!A7","v":1},{"$f":"'shaladarpan '!B7","v":"A"},{"$f":"'shaladarpan '!C7","v":4865},{"$f":"'shaladarpan '!D7","v":"00:00:00"},{"$f":"'shaladarpan '!E7","v":"manjeet6"},{"$f":"'shaladarpan '!F7","v":"00:00:00"},{"$f":"'shaladarpan '!G7","v":"vijay6"},{"$f":"'shaladarpan '!H7","v":"beautiful6"},{"$f":"'shaladarpan '!I7","v":"F"},{"$f":"'shaladarpan '!J7","v":"2015-06-16"},{"$f":"'shaladarpan '!K7","v":"no"},{"$f":"'shaladarpan '!L7","v":6},{"$f":"'shaladarpan '!M7","v":0},{"$f":"'shaladarpan '!N7","v":0},{"$f":"'shaladarpan '!O7","v":"OBC"},{"$f":"'shaladarpan '!P7","v":0},{"$f":"'shaladarpan '!Q7","v":0},{"$f":"'shaladarpan '!R7","v":"GOVT. SENIOR SECONDARY SCHOOL ALNIYAWAS (219445)"},{"$f":"'shaladarpan '!S7","v":8140200308},{"$f":"'shaladarpan '!T7","v":0},{"$f":"'shaladarpan '!U7","v":0},{"$f":"'shaladarpan '!V7","v":9828120702},{"$f":"'shaladarpan '!W7","v":"alniyawas6"},{"$f":"'shaladarpan '!X7","v":0},{"$f":"'shaladarpan '!Y7","v":"N"},{"$f":"'shaladarpan '!Z7","v":"Y"},{"$f":"'shaladarpan '!AA7","v":0},{"$f":"'shaladarpan '!AB7","v":5},{"$f":"'shaladarpan '!AC7","v":0},{"$f":"'shaladarpan '!AD7","v":0}]
[{"$f":"IF(F9=\" \",\" \",ROWS($A$3:A9))","v":7},{"$f":"'shaladarpan '!A8","v":1},{"$f":"'shaladarpan '!B8","v":"A"},{"$f":"'shaladarpan '!C8","v":4795},{"$f":"'shaladarpan '!D8","v":"00:00:00"},{"$f":"'shaladarpan '!E8","v":"manjeet7"},{"$f":"'shaladarpan '!F8","v":"00:00:00"},{"$f":"'shaladarpan '!G8","v":"vijay7"},{"$f":"'shaladarpan '!H8","v":"beautiful7"},{"$f":"'shaladarpan '!I8","v":"F"},{"$f":"'shaladarpan '!J8","v":"2012-08-15"},{"$f":"'shaladarpan '!K8","v":"yes"},{"$f":"'shaladarpan '!L8","v":7},{"$f":"'shaladarpan '!M8","v":0},{"$f":"'shaladarpan '!N8","v":0},{"$f":"'shaladarpan '!O8","v":"SBC"},{"$f":"'shaladarpan '!P8","v":0},{"$f":"'shaladarpan '!Q8","v":0},{"$f":"'shaladarpan '!R8","v":"GOVT. SENIOR SECONDARY SCHOOL ALNIYAWAS (219445)"},{"$f":"'shaladarpan '!S8","v":8140200308},{"$f":"'shaladarpan '!T8","v":0},{"$f":"'shaladarpan '!U8","v":0},{"$f":"'shaladarpan '!V8","v":9828120703},{"$f":"'shaladarpan '!W8","v":"alniyawas7"},{"$f":"'shaladarpan '!X8","v":0},{"$f":"'shaladarpan '!Y8","v":"N"},{"$f":"'shaladarpan '!Z8","v":"Y"},{"$f":"'shaladarpan '!AA8","v":0},{"$f":"'shaladarpan '!AB8","v":8},{"$f":"'shaladarpan '!AC8","v":0},{"$f":"'shaladarpan '!AD8","v":1}]
[{"$f":"IF(F10=\" \",\" \",ROWS($A$3:A10))","v":8},{"$f":"'shaladarpan '!A9","v":1},{"$f":"'shaladarpan '!B9","v":"A"},{"$f":"'shaladarpan '!C9","v":4793},{"$f":"'shaladarpan '!D9","v":"2020-07-14"},{"$f":"'shaladarpan '!E9","v":"manjeet8"},{"$f":"'shaladarpan '!F9","v":"00:00:00"},{"$f":"'shaladarpan '!G9","v":"vijay8"},{"$f":"'shaladarpan '!H9","v":"beautiful8"},{"$f":"'shaladarpan '!I9","v":"M"},{"$f":"'shaladarpan '!J9","v":"2013-11-26"},{"$f":"'shaladarpan '!K9","v":"yes"},{"$f":"'shaladarpan '!L9","v":8},{"$f":"'shaladarpan '!M9","v":0},{"$f":"'shaladarpan '!N9","v":0},{"$f":"'shaladarpan '!O9","v":"OBC"},{"$f":"'shaladarpan '!P9","v":"Muslim"},{"$f":"'shaladarpan '!Q9","v":0},{"$f":"'shaladarpan '!R9","v":"GOVT. SENIOR SECONDARY SCHOOL ALNIYAWAS (219445)"},{"$f":"'shaladarpan '!S9","v":8140200308},{"$f":"'shaladarpan '!T9","v":0},{"$f":"'shaladarpan '!U9","v":0},{"$f":"'shaladarpan '!V9","v":9828120704},{"$f":"'shaladarpan '!W9","v":"alniyawas8"},{"$f":"'shaladarpan '!X9","v":40000},{"$f":"'shaladarpan '!Y9","v":"N"},{"$f":"'shaladarpan '!Z9","v":"N"},{"$f":"'shaladarpan '!AA9","v":"Yes"},{"$f":"'shaladarpan '!AB9","v":7},{"$f":"'shaladarpan '!AC9","v":"None"},{"$f":"'shaladarpan '!AD9","v":0}]
[{"$f":"IF(F11=\" \",\" \",ROWS($A$3:A11))","v":9},{"$f":"'shaladarpan '!A10","v":1},{"$f":"'shaladarpan '!B10","v":"A"},{"$f":"'shaladarpan '!C10","v":4805},{"$f":"'shaladarpan '!D10","v":"00:00:00"},{"$f":"'shaladarpan '!E10","v":"manjeet9"},{"$f":"'shaladarpan '!F10","v":"00:00:00"},{"$f":"'shaladarpan '!G10","v":"vijay9"},{"$f":"'shaladarpan '!H10","v":"beautiful9"},{"$f":"'shaladarpan '!I10","v":"M"},{"$f":"'shaladarpan '!J10","v":"2014-06-07"},{"$f":"'shaladarpan '!K10","v":"no"},{"$f":"'shaladarpan '!L10","v":9},{"$f":"'shaladarpan '!M10","v":0},{"$f":"'shaladarpan '!N10","v":0},{"$f":"'shaladarpan '!O10","v":"OBC"},{"$f":"'shaladarpan '!P10","v":0},{"$f":"'shaladarpan '!Q10","v":0},{"$f":"'shaladarpan '!R10","v":"GOVT. SENIOR SECONDARY SCHOOL ALNIYAWAS (219445)"},{"$f":"'shaladarpan '!S10","v":8140200308},{"$f":"'shaladarpan '!T10","v":0},{"$f":"'shaladarpan '!U10","v":0},{"$f":"'shaladarpan '!V10","v":9828120705},{"$f":"'shaladarpan '!W10","v":"alniyawas9"},{"$f":"'shaladarpan '!X10","v":0},{"$f":"'shaladarpan '!Y10","v":"N"},{"$f":"'shaladarpan '!Z10","v":"Y"},{"$f":"'shaladarpan '!AA10","v":0},{"$f":"'shaladarpan '!AB10","v":6},{"$f":"'shaladarpan '!AC10","v":0},{"$f":"'shaladarpan '!AD10","v":0}]
[{"$f":"IF(F12=\" \",\" \",ROWS($A$3:A12))","v":10},{"$f":"'shaladarpan '!A11","v":1},{"$f":"'shaladarpan '!B11","v":"A"},{"$f":"'shaladarpan '!C11","v":4790},{"$f":"'shaladarpan '!D11","v":"2020-07-04"},{"$f":"'shaladarpan '!E11","v":"manjeet10"},{"$f":"'shaladarpan '!F11","v":"00:00:00"},{"$f":"'shaladarpan '!G11","v":"vijay10"},{"$f":"'shaladarpan '!H11","v":"beautiful10"},{"$f":"'shaladarpan '!I11","v":"M"},{"$f":"'shaladarpan '!J11","v":"2015-07-07"},{"$f":"'shaladarpan '!K11","v":"yes"},{"$f":"'shaladarpan '!L11","v":10},{"$f":"'shaladarpan '!M11","v":0},{"$f":"'shaladarpan '!N11","v":0},{"$f":"'shaladarpan '!O11","v":"SC"},{"$f":"'shaladarpan '!P11","v":"Hindu"},{"$f":"'shaladarpan '!Q11","v":0},{"$f":"'shaladarpan '!R11","v":"GOVT. SENIOR SECONDARY SCHOOL ALNIYAWAS (219445)"},{"$f":"'shaladarpan '!S11","v":8140200308},{"$f":"'shaladarpan '!T11","v":0},{"$f":"'shaladarpan '!U11","v":0},{"$f":"'shaladarpan '!V11","v":9828120706},{"$f":"'shaladarpan '!W11","v":"alniyawas10"},{"$f":"'shaladarpan '!X11","v":25000},{"$f":"'shaladarpan '!Y11","v":"N"},{"$f":"'shaladarpan '!Z11","v":"N"},{"$f":"'shaladarpan '!AA11","v":"No"},{"$f":"'shaladarpan '!AB11","v":5},{"$f":"'shaladarpan '!AC11","v":"None"},{"$f":"'shaladarpan '!AD11","v":1}]
[{"$f":"IF(F13=\" \",\" \",ROWS($A$3:A13))","v":11},{"$f":"'shaladarpan '!A12","v":1},{"$f":"'shaladarpan '!B12","v":"A"},{"$f":"'shaladarpan '!C12","v":4788},{"$f":"'shaladarpan '!D12","v":"2020-07-04"},{"$f":"'shaladarpan '!E12","v":"manjeet11"},{"$f":"'shaladarpan '!F12","v":"00:00:00"},{"$f":"'shaladarpan '!G12","v":"vijay11"},{"$f":"'shaladarpan '!H12","v":"beautiful11"},{"$f":"'shaladarpan '!I12","v":"M"},{"$f":"'shaladarpan '!J12","v":"2014-07-26"},{"$f":"'shaladarpan '!K12","v":"yes"},{"$f":"'shaladarpan '!L12","v":11},{"$f":"'shaladarpan '!M12","v":0},{"$f":"'shaladarpan '!N12","v":0},{"$f":"'shaladarpan '!O12","v":"SC"},{"$f":"'shaladarpan '!P12","v":"Hindu"},{"$f":"'shaladarpan '!Q12","v":0},{"$f":"'shaladarpan '!R12","v":"GOVT. SENIOR SECONDARY SCHOOL ALNIYAWAS (219445)"},{"$f":"'shaladarpan '!S12","v":8140200308},{"$f":"'shaladarpan '!T12","v":"XXXX8724"},{"$f":"'shaladarpan '!U12","v":0},{"$f":"'shaladarpan '!V12","v":9828120707},{"$f":"'shaladarpan '!W12","v":"alniyawas11"},{"$f":"'shaladarpan '!X12","v":25000},{"$f":"'shaladarpan '!Y12","v":"N"},{"$f":"'shaladarpan '!Z12","v":"N"},{"$f":"'shaladarpan '!AA12","v":"No"},{"$f":"'shaladarpan '!AB12","v":6},{"$f":"'shaladarpan '!AC12","v":"None"},{"$f":"'shaladarpan '!AD12","v":1}]
[{"$f":"IF(F14=\" \",\" \",ROWS($A$3:A14))","v":12},{"$f":"'shaladarpan '!A13","v":1},{"$f":"'shaladarpan '!B13","v":"A"},{"$f":"'shaladarpan '!C13","v":4789},{"$f":"'shaladarpan '!D13","v":"2020-07-04"},{"$f":"'shaladarpan '!E13","v":"manjeet12"},{"$f":"'shaladarpan '!F13","v":"00:00:00"},{"$f":"'shaladarpan '!G13","v":"vijay12"},{"$f":"'shaladarpan '!H13","v":"beautiful12"},{"$f":"'shaladarpan '!I13","v":"M"},{"$f":"'shaladarpan '!J13","v":"2015-05-02"},{"$f":"'shaladarpan '!K13","v":"no"},{"$f":"'shaladarpan '!L13","v":12},{"$f":"'shaladarpan '!M13","v":0},{"$f":"'shaladarpan '!N13","v":0},{"$f":"'shaladarpan '!O13","v":"OBC"},{"$f":"'shaladarpan '!P13","v":"Hindu"},{"$f":"'shaladarpan '!Q13","v":0},{"$f":"'shaladarpan '!R13","v":"GOVT. SENIOR SECONDARY SCHOOL ALNIYAWAS (219445)"},{"$f":"'shaladarpan '!S13","v":8140200308},{"$f":"'shaladarpan '!T13","v":0},{"$f":"'shaladarpan '!U13","v":0},{"$f":"'shaladarpan '!V13","v":9828120708},{"$f":"'shaladarpan '!W13","v":"alniyawas12"},{"$f":"'shaladarpan '!X13","v":30000},{"$f":"'shaladarpan '!Y13","v":"N"},{"$f":"'shaladarpan '!Z13","v":"N"},{"$f":"'shaladarpan '!AA13","v":"No"},{"$f":"'shaladarpan '!AB13","v":5},{"$f":"'shaladarpan '!AC13","v":"None"},{"$f":"'shaladarpan '!AD13","v":1}]
[{"$f":"IF(F15=\" \",\" \",ROWS($A$3:A15))","v":13},{"$f":"'shaladarpan '!A14","v":1},{"$f":"'shaladarpan '!B14","v":"A"},{"$f":"'shaladarpan '!C14","v":4859},{"$f":"'shaladarpan '!D14","v":"00:00:00"},{"$f":"'shaladarpan '!E14","v":"manjeet13"},{"$f":"'shaladarpan '!F14","v":"00:00:00"},{"$f":"'shaladarpan '!G14","v":"vijay13"},{"$f":"'shaladarpan '!H14","v":"beautiful13"},{"$f":"'shaladarpan '!I14","v":"F"},{"$f":"'shaladarpan '!J14","v":"2015-01-30"},{"$f":"'shaladarpan '!K14","v":"yes"},{"$f":"'shaladarpan '!L14","v":13},{"$f":"'shaladarpan '!M14","v":0},{"$f":"'shaladarpan '!N14","v":0},{"$f":"'shaladarpan '!O14","v":"OBC"},{"$f":"'shaladarpan '!P14","v":0},{"$f":"'shaladarpan '!Q14","v":0},{"$f":"'shaladarpan '!R14","v":"GOVT. SENIOR SECONDARY SCHOOL ALNIYAWAS (219445)"},{"$f":"'shaladarpan '!S14","v":8140200308},{"$f":"'shaladarpan '!T14","v":0},{"$f":"'shaladarpan '!U14","v":0},{"$f":"'shaladarpan '!V14","v":9828120709},{"$f":"'shaladarpan '!W14","v":"alniyawas13"},{"$f":"'shaladarpan '!X14","v":0},{"$f":"'shaladarpan '!Y14","v":"N"},{"$f":"'shaladarpan '!Z14","v":"Y"},{"$f":"'shaladarpan '!AA14","v":0},{"$f":"'shaladarpan '!AB14","v":5},{"$f":"'shaladarpan '!AC14","v":0},{"$f":"'shaladarpan '!AD14","v":1}]
[{"$f":"IF(F16=\" \",\" \",ROWS($A$3:A16))","v":14},{"$f":"'shaladarpan '!A15","v":1},{"$f":"'shaladarpan '!B15","v":"A"},{"$f":"'shaladarpan '!C15","v":4794},{"$f":"'shaladarpan '!D15","v":"00:00:00"},{"$f":"'shaladarpan '!E15","v":"manjeet14"},{"$f":"'shaladarpan '!F15","v":"00:00:00"},{"$f":"'shaladarpan '!G15","v":"vijay14"},{"$f":"'shaladarpan '!H15","v":"beautiful14"},{"$f":"'shaladarpan '!I15","v":"M"},{"$f":"'shaladarpan '!J15","v":"2014-08-30"},{"$f":"'shaladarpan '!K15","v":"yes"},{"$f":"'shaladarpan '!L15","v":14},{"$f":"'shaladarpan '!M15","v":0},{"$f":"'shaladarpan '!N15","v":0},{"$f":"'shaladarpan '!O15","v":"GEN"},{"$f":"'shaladarpan '!P15","v":0},{"$f":"'shaladarpan '!Q15","v":0},{"$f":"'shaladarpan '!R15","v":"GOVT. SENIOR SECONDARY SCHOOL ALNIYAWAS (219445)"},{"$f":"'shaladarpan '!S15","v":8140200308},{"$f":"'shaladarpan '!T15","v":0},{"$f":"'shaladarpan '!U15","v":0},{"$f":"'shaladarpan '!V15","v":9828120710},{"$f":"'shaladarpan '!W15","v":"alniyawas14"},{"$f":"'shaladarpan '!X15","v":0},{"$f":"'shaladarpan '!Y15","v":"N"},{"$f":"'shaladarpan '!Z15","v":"Y"},{"$f":"'shaladarpan '!AA15","v":0},{"$f":"'shaladarpan '!AB15","v":6},{"$f":"'shaladarpan '!AC15","v":0},{"$f":"'shaladarpan '!AD15","v":1}]
[{"$f":"IF(F17=\" \",\" \",ROWS($A$3:A17))","v":15},{"$f":"'shaladarpan '!A16","v":1},{"$f":"'shaladarpan '!B16","v":"A"},{"$f":"'shaladarpan '!C16","v":4874},{"$f":"'shaladarpan '!D16","v":"00:00:00"},{"$f":"'shaladarpan '!E16","v":"manjeet15"},{"$f":"'shaladarpan '!F16","v":"00:00:00"},{"$f":"'shaladarpan '!G16","v":"vijay15"},{"$f":"'shaladarpan '!H16","v":"beautiful15"},{"$f":"'shaladarpan '!I16","v":"F"},{"$f":"'shaladarpan '!J16","v":"2015-10-08"},{"$f":"'shaladarpan '!K16","v":"no"},{"$f":"'shaladarpan '!L16","v":15},{"$f":"'shaladarpan '!M16","v":0},{"$f":"'shaladarpan '!N16","v":0},{"$f":"'shaladarpan '!O16","v":"OBC"},{"$f":"'shaladarpan '!P16","v":0},{"$f":"'shaladarpan '!Q16","v":0},{"$f":"'shaladarpan '!R16","v":"GOVT. SENIOR SECONDARY SCHOOL ALNIYAWAS (219445)"},{"$f":"'shaladarpan '!S16","v":8140200308},{"$f":"'shaladarpan '!T16","v":0},{"$f":"'shaladarpan '!U16","v":0},{"$f":"'shaladarpan '!V16","v":9828120711},{"$f":"'shaladarpan '!W16","v":"alniyawas15"},{"$f":"'shaladarpan '!X16","v":0},{"$f":"'shaladarpan '!Y16","v":"N"},{"$f":"'shaladarpan '!Z16","v":"Y"},{"$f":"'shaladarpan '!AA16","v":0},{"$f":"'shaladarpan '!AB16","v":5},{"$f":"'shaladarpan '!AC16","v":0},{"$f":"'shaladarpan '!AD16","v":0}]
[{"$f":"IF(F18=\" \",\" \",ROWS($A$3:A18))","v":16},{"$f":"'shaladarpan '!A17","v":1},{"$f":"'shaladarpan '!B17","v":"A"},{"$f":"'shaladarpan '!C17","v":4862},{"$f":"'shaladarpan '!D17","v":"00:00:00"},{"$f":"'shaladarpan '!E17","v":"manjeet16"},{"$f":"'shaladarpan '!F17","v":"00:00:00"},{"$f":"'shaladarpan '!G17","v":"vijay16"},{"$f":"'shaladarpan '!H17","v":"beautiful16"},{"$f":"'shaladarpan '!I17","v":"F"},{"$f":"'shaladarpan '!J17","v":"2015-01-02"},{"$f":"'shaladarpan '!K17","v":"yes"},{"$f":"'shaladarpan '!L17","v":16},{"$f":"'shaladarpan '!M17","v":0},{"$f":"'shaladarpan '!N17","v":0},{"$f":"'shaladarpan '!O17","v":"OBC"},{"$f":"'shaladarpan '!P17","v":0},{"$f":"'shaladarpan '!Q17","v":0},{"$f":"'shaladarpan '!R17","v":"GOVT. SENIOR SECONDARY SCHOOL ALNIYAWAS (219445)"},{"$f":"'shaladarpan '!S17","v":8140200308},{"$f":"'shaladarpan '!T17","v":0},{"$f":"'shaladarpan '!U17","v":0},{"$f":"'shaladarpan '!V17","v":9828120712},{"$f":"'shaladarpan '!W17","v":"alniyawas16"},{"$f":"'shaladarpan '!X17","v":0},{"$f":"'shaladarpan '!Y17","v":"N"},{"$f":"'shaladarpan '!Z17","v":"Y"},{"$f":"'shaladarpan '!AA17","v":0},{"$f":"'shaladarpan '!AB17","v":5},{"$f":"'shaladarpan '!AC17","v":0},{"$f":"'shaladarpan '!AD17","v":0}]
[{"$f":"IF(F19=\" \",\" \",ROWS($A$3:A19))","v":17},{"$f":"'shaladarpan '!A18","v":1},{"$f":"'shaladarpan '!B18","v":"A"},{"$f":"'shaladarpan '!C18","v":4867},{"$f":"'shaladarpan '!D18","v":"00:00:00"},{"$f":"'shaladarpan '!E18","v":"manjeet17"},{"$f":"'shaladarpan '!F18","v":"00:00:00"},{"$f":"'shaladarpan '!G18","v":"vijay17"},{"$f":"'shaladarpan '!H18","v":"beautiful17"},{"$f":"'shaladarpan '!I18","v":"F"},{"$f":"'shaladarpan '!J18","v":"2015-09-15"},{"$f":"'shaladarpan '!K18","v":"yes"},{"$f":"'shaladarpan '!L18","v":17},{"$f":"'shaladarpan '!M18","v":0},{"$f":"'shaladarpan '!N18","v":0},{"$f":"'shaladarpan '!O18","v":"OBC"},{"$f":"'shaladarpan '!P18","v":0},{"$f":"'shaladarpan '!Q18","v":0},{"$f":"'shaladarpan '!R18","v":"GOVT. SENIOR SECONDARY SCHOOL ALNIYAWAS (219445)"},{"$f":"'shaladarpan '!S18","v":8140200308},{"$f":"'shaladarpan '!T18","v":0},{"$f":"'shaladarpan '!U18","v":0},{"$f":"'shaladarpan '!V18","v":9828120713},{"$f":"'shaladarpan '!W18","v":"alniyawas17"},{"$f":"'shaladarpan '!X18","v":0},{"$f":"'shaladarpan '!Y18","v":"N"},{"$f":"'shaladarpan '!Z18","v":"Y"},{"$f":"'shaladarpan '!AA18","v":0},{"$f":"'shaladarpan '!AB18","v":5},{"$f":"'shaladarpan '!AC18","v":0},{"$f":"'shaladarpan '!AD18","v":0}]
[{"$f":"IF(F20=\" \",\" \",ROWS($A$3:A20))","v":18},{"$f":"'shaladarpan '!A19","v":1},{"$f":"'shaladarpan '!B19","v":"A"},{"$f":"'shaladarpan '!C19","v":4869},{"$f":"'shaladarpan '!D19","v":"00:00:00"},{"$f":"'shaladarpan '!E19","v":"manjeet18"},{"$f":"'shaladarpan '!F19","v":"00:00:00"},{"$f":"'shaladarpan '!G19","v":"vijay18"},{"$f":"'shaladarpan '!H19","v":"beautiful18"},{"$f":"'shaladarpan '!I19","v":"F"},{"$f":"'shaladarpan '!J19","v":"2014-03-21"},{"$f":"'shaladarpan '!K19","v":"no"},{"$f":"'shaladarpan '!L19","v":18},{"$f":"'shaladarpan '!M19","v":0},{"$f":"'shaladarpan '!N19","v":0},{"$f":"'shaladarpan '!O19","v":"OBC"},{"$f":"'shaladarpan '!P19","v":0},{"$f":"'shaladarpan '!Q19","v":0},{"$f":"'shaladarpan '!R19","v":"GOVT. SENIOR SECONDARY SCHOOL ALNIYAWAS (219445)"},{"$f":"'shaladarpan '!S19","v":8140200308},{"$f":"'shaladarpan '!T19","v":0},{"$f":"'shaladarpan '!U19","v":0},{"$f":"'shaladarpan '!V19","v":9828120714},{"$f":"'shaladarpan '!W19","v":"alniyawas18"},{"$f":"'shaladarpan '!X19","v":0},{"$f":"'shaladarpan '!Y19","v":"N"},{"$f":"'shaladarpan '!Z19","v":"Y"},{"$f":"'shaladarpan '!AA19","v":0},{"$f":"'shaladarpan '!AB19","v":6},{"$f":"'shaladarpan '!AC19","v":0},{"$f":"'shaladarpan '!AD19","v":0}]
[{"$f":"IF(F21=\" \",\" \",ROWS($A$3:A21))","v":19},{"$f":"'shaladarpan '!A20","v":1},{"$f":"'shaladarpan '!B20","v":"A"},{"$f":"'shaladarpan '!C20","v":4868},{"$f":"'shaladarpan '!D20","v":"00:00:00"},{"$f":"'shaladarpan '!E20","v":"manjeet19"},{"$f":"'shaladarpan '!F20","v":"00:00:00"},{"$f":"'shaladarpan '!G20","v":"vijay19"},{"$f":"'shaladarpan '!H20","v":"beautiful19"},{"$f":"'shaladarpan '!I20","v":"F"},{"$f":"'shaladarpan '!J20","v":"2012-12-07"},{"$f":"'shaladarpan '!K20","v":"yes"},{"$f":"'shaladarpan '!L20","v":19},{"$f":"'shaladarpan '!M20","v":0},{"$f":"'shaladarpan '!N20","v":0},{"$f":"'shaladarpan '!O20","v":"OBC"},{"$f":"'shaladarpan '!P20","v":0},{"$f":"'shaladarpan '!Q20","v":0},{"$f":"'shaladarpan '!R20","v":"GOVT. SENIOR SECONDARY SCHOOL ALNIYAWAS (219445)"},{"$f":"'shaladarpan '!S20","v":8140200308},{"$f":"'shaladarpan '!T20","v":0},{"$f":"'shaladarpan '!U20","v":0},{"$f":"'shaladarpan '!V20","v":9828120715},{"$f":"'shaladarpan '!W20","v":"alniyawas19"},{"$f":"'shaladarpan '!X20","v":0},{"$f":"'shaladarpan '!Y20","v":"N"},{"$f":"'shaladarpan '!Z20","v":"Y"},{"$f":"'shaladarpan '!AA20","v":0},{"$f":"'shaladarpan '!AB20","v":8},{"$f":"'shaladarpan '!AC20","v":0},{"$f":"'shaladarpan '!AD20","v":0}]
[{"$f":"IF(F22=\" \",\" \",ROWS($A$3:A22))","v":20},{"$f":"'shaladarpan '!A21","v":1},{"$f":"'shaladarpan '!B21","v":"A"},{"$f":"'shaladarpan '!C21","v":4803},{"$f":"'shaladarpan '!D21","v":"00:00:00"},{"$f":"'shaladarpan '!E21","v":"manjeet20"},{"$f":"'shaladarpan '!F21","v":"00:00:00"},{"$f":"'shaladarpan '!G21","v":"vijay20"},{"$f":"'shaladarpan '!H21","v":"beautiful20"},{"$f":"'shaladarpan '!I21","v":"M"},{"$f":"'shaladarpan '!J21","v":"2014-12-04"},{"$f":"'shaladarpan '!K21","v":"yes"},{"$f":"'shaladarpan '!L21","v":20},{"$f":"'shaladarpan '!M21","v":0},{"$f":"'shaladarpan '!N21","v":0},{"$f":"'shaladarpan '!O21","v":"OBC"},{"$f":"'shaladarpan '!P21","v":0},{"$f":"'shaladarpan '!Q21","v":0},{"$f":"'shaladarpan '!R21","v":"GOVT. SENIOR SECONDARY SCHOOL ALNIYAWAS (219445)"},{"$f":"'shaladarpan '!S21","v":8140200308},{"$f":"'shaladarpan '!T21","v":0},{"$f":"'shaladarpan '!U21","v":0},{"$f":"'shaladarpan '!V21","v":9828120716},{"$f":"'shaladarpan '!W21","v":"alniyawas20"},{"$f":"'shaladarpan '!X21","v":0},{"$f":"'shaladarpan '!Y21","v":"N"},{"$f":"'shaladarpan '!Z21","v":"Y"},{"$f":"'shaladarpan '!AA21","v":0},{"$f":"'shaladarpan '!AB21","v":6},{"$f":"'shaladarpan '!AC21","v":0},{"$f":"'shaladarpan '!AD21","v":1}]
[{"$f":"IF(F23=\" \",\" \",ROWS($A$3:A23))","v":21},{"$f":"'shaladarpan '!A22","v":1},{"$f":"'shaladarpan '!B22","v":"A"},{"$f":"'shaladarpan '!C22","v":4807},{"$f":"'shaladarpan '!D22","v":"00:00:00"},{"$f":"'shaladarpan '!E22","v":"manjeet21"},{"$f":"'shaladarpan '!F22","v":"00:00:00"},{"$f":"'shaladarpan '!G22","v":"vijay21"},{"$f":"'shaladarpan '!H22","v":"beautiful21"},{"$f":"'shaladarpan '!I22","v":"F"},{"$f":"'shaladarpan '!J22","v":"2013-07-02"},{"$f":"'shaladarpan '!K22","v":"no"},{"$f":"'shaladarpan '!L22","v":21},{"$f":"'shaladarpan '!M22","v":0},{"$f":"'shaladarpan '!N22","v":0},{"$f":"'shaladarpan '!O22","v":"OBC"},{"$f":"'shaladarpan '!P22","v":0},{"$f":"'shaladarpan '!Q22","v":0},{"$f":"'shaladarpan '!R22","v":"GOVT. SENIOR SECONDARY SCHOOL ALNIYAWAS (219445)"},{"$f":"'shaladarpan '!S22","v":8140200308},{"$f":"'shaladarpan '!T22","v":0},{"$f":"'shaladarpan '!U22","v":0},{"$f":"'shaladarpan '!V22","v":9828120717},{"$f":"'shaladarpan '!W22","v":"alniyawas21"},{"$f":"'shaladarpan '!X22","v":0},{"$f":"'shaladarpan '!Y22","v":"N"},{"$f":"'shaladarpan '!Z22","v":"Y"},{"$f":"'shaladarpan '!AA22","v":0},{"$f":"'shaladarpan '!AB22","v":7},{"$f":"'shaladarpan '!AC22","v":0},{"$f":"'shaladarpan '!AD22","v":1}]
[{"$f":"IF(F24=\" \",\" \",ROWS($A$3:A24))","v":22},{"$f":"'shaladarpan '!A23","v":1},{"$f":"'shaladarpan '!B23","v":"A"},{"$f":"'shaladarpan '!C23","v":4870},{"$f":"'shaladarpan '!D23","v":"00:00:00"},{"$f":"'shaladarpan '!E23","v":"manjeet22"},{"$f":"'shaladarpan '!F23","v":"00:00:00"},{"$f":"'shaladarpan '!G23","v":"vijay22"},{"$f":"'shaladarpan '!H23","v":"beautiful22"},{"$f":"'shaladarpan '!I23","v":"F"},{"$f":"'shaladarpan '!J23","v":"2015-04-07"},{"$f":"'shaladarpan '!K23","v":"yes"},{"$f":"'shaladarpan '!L23","v":22},{"$f":"'shaladarpan '!M23","v":0},{"$f":"'shaladarpan '!N23","v":0},{"$f":"'shaladarpan '!O23","v":"OBC"},{"$f":"'shaladarpan '!P23","v":0},{"$f":"'shaladarpan '!Q23","v":0},{"$f":"'shaladarpan '!R23","v":"GOVT. SENIOR SECONDARY SCHOOL ALNIYAWAS (219445)"},{"$f":"'shaladarpan '!S23","v":8140200308},{"$f":"'shaladarpan '!T23","v":0},{"$f":"'shaladarpan '!U23","v":0},{"$f":"'shaladarpan '!V23","v":9828120718},{"$f":"'shaladarpan '!W23","v":"alniyawas22"},{"$f":"'shaladarpan '!X23","v":0},{"$f":"'shaladarpan '!Y23","v":"N"},{"$f":"'shaladarpan '!Z23","v":"Y"},{"$f":"'shaladarpan '!AA23","v":0},{"$f":"'shaladarpan '!AB23","v":5},{"$f":"'shaladarpan '!AC23","v":0},{"$f":"'shaladarpan '!AD23","v":0}]
[{"$f":"IF(F25=\" \",\" \",ROWS($A$3:A25))","v":23},{"$f":"'shaladarpan '!A24","v":1},{"$f":"'shaladarpan '!B24","v":"A"},{"$f":"'shaladarpan '!C24","v":4804},{"$f":"'shaladarpan '!D24","v":"00:00:00"},{"$f":"'shaladarpan '!E24","v":"manjeet23"},{"$f":"'shaladarpan '!F24","v":"00:00:00"},{"$f":"'shaladarpan '!G24","v":"vijay23"},{"$f":"'shaladarpan '!H24","v":"beautiful23"},{"$f":"'shaladarpan '!I24","v":"F"},{"$f":"'shaladarpan '!J24","v":"2015-01-30"},{"$f":"'shaladarpan '!K24","v":"yes"},{"$f":"'shaladarpan '!L24","v":23},{"$f":"'shaladarpan '!M24","v":0},{"$f":"'shaladarpan '!N24","v":0},{"$f":"'shaladarpan '!O24","v":"OBC"},{"$f":"'shaladarpan '!P24","v":0},{"$f":"'shaladarpan '!Q24","v":0},{"$f":"'shaladarpan '!R24","v":"GOVT. SENIOR SECONDARY SCHOOL ALNIYAWAS (219445)"},{"$f":"'shaladarpan '!S24","v":8140200308},{"$f":"'shaladarpan '!T24","v":0},{"$f":"'shaladarpan '!U24","v":0},{"$f":"'shaladarpan '!V24","v":9828120719},{"$f":"'shaladarpan '!W24","v":"alniyawas23"},{"$f":"'shaladarpan '!X24","v":0},{"$f":"'shaladarpan '!Y24","v":"N"},{"$f":"'shaladarpan '!Z24","v":"Y"},{"$f":"'shaladarpan '!AA24","v":0},{"$f":"'shaladarpan '!AB24","v":5},{"$f":"'shaladarpan '!AC24","v":0},{"$f":"'shaladarpan '!AD24","v":1}]
[{"$f":"IF(F26=\" \",\" \",ROWS($A$3:A26))","v":24},{"$f":"'shaladarpan '!A25","v":1},{"$f":"'shaladarpan '!B25","v":"A"},{"$f":"'shaladarpan '!C25","v":4806},{"$f":"'shaladarpan '!D25","v":"00:00:00"},{"$f":"'shaladarpan '!E25","v":"manjeet24"},{"$f":"'shaladarpan '!F25","v":"00:00:00"},{"$f":"'shaladarpan '!G25","v":"vijay24"},{"$f":"'shaladarpan '!H25","v":"beautiful24"},{"$f":"'shaladarpan '!I25","v":"M"},{"$f":"'shaladarpan '!J25","v":"2014-02-17"},{"$f":"'shaladarpan '!K25","v":"no"},{"$f":"'shaladarpan '!L25","v":24},{"$f":"'shaladarpan '!M25","v":0},{"$f":"'shaladarpan '!N25","v":0},{"$f":"'shaladarpan '!O25","v":"OBC"},{"$f":"'shaladarpan '!P25","v":0},{"$f":"'shaladarpan '!Q25","v":0},{"$f":"'shaladarpan '!R25","v":"GOVT. SENIOR SECONDARY SCHOOL ALNIYAWAS (219445)"},{"$f":"'shaladarpan '!S25","v":8140200308},{"$f":"'shaladarpan '!T25","v":0},{"$f":"'shaladarpan '!U25","v":0},{"$f":"'shaladarpan '!V25","v":9828120720},{"$f":"'shaladarpan '!W25","v":"alniyawas24"},{"$f":"'shaladarpan '!X25","v":0},{"$f":"'shaladarpan '!Y25","v":"N"},{"$f":"'shaladarpan '!Z25","v":"Y"},{"$f":"'shaladarpan '!AA25","v":0},{"$f":"'shaladarpan '!AB25","v":6},{"$f":"'shaladarpan '!AC25","v":0},{"$f":"'shaladarpan '!AD25","v":0}]
[{"$f":"IF(F27=\" \",\" \",ROWS($A$3:A27))","v":25},{"$f":"'shaladarpan '!A26","v":1},{"$f":"'shaladarpan '!B26","v":"A"},{"$f":"'shaladarpan '!C26","v":4872},{"$f":"'shaladarpan '!D26","v":"00:00:00"},{"$f":"'shaladarpan '!E26","v":"manjeet25"},{"$f":"'shaladarpan '!F26","v":"00:00:00"},{"$f":"'shaladarpan '!G26","v":"vijay25"},{"$f":"'shaladarpan '!H26","v":"beautiful25"},{"$f":"'shaladarpan '!I26","v":"M"},{"$f":"'shaladarpan '!J26","v":"2014-11-29"},{"$f":"'shaladarpan '!K26","v":"yes"},{"$f":"'shaladarpan '!L26","v":25},{"$f":"'shaladarpan '!M26","v":0},{"$f":"'shaladarpan '!N26","v":0},{"$f":"'shaladarpan '!O26","v":"OBC"},{"$f":"'shaladarpan '!P26","v":0},{"$f":"'shaladarpan '!Q26","v":0},{"$f":"'shaladarpan '!R26","v":"GOVT. SENIOR SECONDARY SCHOOL ALNIYAWAS (219445)"},{"$f":"'shaladarpan '!S26","v":8140200308},{"$f":"'shaladarpan '!T26","v":0},{"$f":"'shaladarpan '!U26","v":0},{"$f":"'shaladarpan '!V26","v":9828120721},{"$f":"'shaladarpan '!W26","v":"alniyawas25"},{"$f":"'shaladarpan '!X26","v":0},{"$f":"'shaladarpan '!Y26","v":"N"},{"$f":"'shaladarpan '!Z26","v":"Y"},{"$f":"'shaladarpan '!AA26","v":0},{"$f":"'shaladarpan '!AB26","v":6},{"$f":"'shaladarpan '!AC26","v":0},{"$f":"'shaladarpan '!AD26","v":0}]
[{"$f":"IF(F28=\" \",\" \",ROWS($A$3:A28))","v":26},{"$f":"'shaladarpan '!A27","v":1},{"$f":"'shaladarpan '!B27","v":"A"},{"$f":"'shaladarpan '!C27","v":4861},{"$f":"'shaladarpan '!D27","v":"00:00:00"},{"$f":"'shaladarpan '!E27","v":"manjeet26"},{"$f":"'shaladarpan '!F27","v":"00:00:00"},{"$f":"'shaladarpan '!G27","v":"vijay26"},{"$f":"'shaladarpan '!H27","v":"beautiful26"},{"$f":"'shaladarpan '!I27","v":"F"},{"$f":"'shaladarpan '!J27","v":"2015-03-21"},{"$f":"'shaladarpan '!K27","v":"yes"},{"$f":"'shaladarpan '!L27","v":26},{"$f":"'shaladarpan '!M27","v":0},{"$f":"'shaladarpan '!N27","v":0},{"$f":"'shaladarpan '!O27","v":"OBC"},{"$f":"'shaladarpan '!P27","v":0},{"$f":"'shaladarpan '!Q27","v":0},{"$f":"'shaladarpan '!R27","v":"GOVT. SENIOR SECONDARY SCHOOL ALNIYAWAS (219445)"},{"$f":"'shaladarpan '!S27","v":8140200308},{"$f":"'shaladarpan '!T27","v":0},{"$f":"'shaladarpan '!U27","v":0},{"$f":"'shaladarpan '!V27","v":9828120722},{"$f":"'shaladarpan '!W27","v":"alniyawas26"},{"$f":"'shaladarpan '!X27","v":0},{"$f":"'shaladarpan '!Y27","v":"N"},{"$f":"'shaladarpan '!Z27","v":"Y"},{"$f":"'shaladarpan '!AA27","v":0},{"$f":"'shaladarpan '!AB27","v":5},{"$f":"'shaladarpan '!AC27","v":0},{"$f":"'shaladarpan '!AD27","v":1}]
[{"$f":"IF(F29=\" \",\" \",ROWS($A$3:A29))","v":27},{"$f":"'shaladarpan '!A28","v":2},{"$f":"'shaladarpan '!B28","v":"A"},{"$f":"'shaladarpan '!C28","v":4718},{"$f":"'shaladarpan '!D28","v":"2019-07-12"},{"$f":"'shaladarpan '!E28","v":"manjeet27"},{"$f":"'shaladarpan '!F28","v":"00:00:00"},{"$f":"'shaladarpan '!G28","v":"vijay27"},{"$f":"'shaladarpan '!H28","v":"beautiful27"},{"$f":"'shaladarpan '!I28","v":"F"},{"$f":"'shaladarpan '!J28","v":"2014-02-07"},{"$f":"'shaladarpan '!K28","v":"no"},{"$f":"'shaladarpan '!L28","v":27},{"$f":"'shaladarpan '!M28","v":0},{"$f":"'shaladarpan '!N28","v":0},{"$f":"'shaladarpan '!O28","v":"OBC"},{"$f":"'shaladarpan '!P28","v":"Muslim"},{"$f":"'shaladarpan '!Q28","v":0},{"$f":"'shaladarpan '!R28","v":"GOVT. SENIOR SECONDARY SCHOOL ALNIYAWAS (219445)"},{"$f":"'shaladarpan '!S28","v":8140200308},{"$f":"'shaladarpan '!T28","v":"XXXX0872"},{"$f":"'shaladarpan '!U28","v":"yswuiqb"},{"$f":"'shaladarpan '!V28","v":9828120723},{"$f":"'shaladarpan '!W28","v":"alniyawas27"},{"$f":"'shaladarpan '!X28","v":50000},{"$f":"'shaladarpan '!Y28","v":"N"},{"$f":"'shaladarpan '!Z28","v":"N"},{"$f":"'shaladarpan '!AA28","v":"Yes"},{"$f":"'shaladarpan '!AB28","v":6},{"$f":"'shaladarpan '!AC28","v":"None"},{"$f":"'shaladarpan '!AD28","v":0}]
[{"$f":"IF(F30=\" \",\" \",ROWS($A$3:A30))","v":28},{"$f":"'shaladarpan '!A29","v":2},{"$f":"'shaladarpan '!B29","v":"A"},{"$f":"'shaladarpan '!C29","v":4729},{"$f":"'shaladarpan '!D29","v":"2019-07-13"},{"$f":"'shaladarpan '!E29","v":"manjeet28"},{"$f":"'shaladarpan '!F29","v":"00:00:00"},{"$f":"'shaladarpan '!G29","v":"vijay28"},{"$f":"'shaladarpan '!H29","v":"beautiful28"},{"$f":"'shaladarpan '!I29","v":"M"},{"$f":"'shaladarpan '!J29","v":"2014-02-14"},{"$f":"'shaladarpan '!K29","v":"yes"},{"$f":"'shaladarpan '!L29","v":28},{"$f":"'shaladarpan '!M29","v":0},{"$f":"'shaladarpan '!N29","v":0},{"$f":"'shaladarpan '!O29","v":"OBC"},{"$f":"'shaladarpan '!P29","v":"Muslim"},{"$f":"'shaladarpan '!Q29","v":0},{"$f":"'shaladarpan '!R29","v":"GOVT. SENIOR SECONDARY SCHOOL ALNIYAWAS (219445)"},{"$f":"'shaladarpan '!S29","v":8140200308},{"$f":"'shaladarpan '!T29","v":"XXXX1543"},{"$f":"'shaladarpan '!U29","v":"vxozzoh"},{"$f":"'shaladarpan '!V29","v":9828120724},{"$f":"'shaladarpan '!W29","v":"alniyawas28"},{"$f":"'shaladarpan '!X29","v":50000},{"$f":"'shaladarpan '!Y29","v":"N"},{"$f":"'shaladarpan '!Z29","v":"N"},{"$f":"'shaladarpan '!AA29","v":"Yes"},{"$f":"'shaladarpan '!AB29","v":6},{"$f":"'shaladarpan '!AC29","v":"None"},{"$f":"'shaladarpan '!AD29","v":0}]
[{"$f":"IF(F31=\" \",\" \",ROWS($A$3:A31))","v":29},{"$f":"'shaladarpan '!A30","v":2},{"$f":"'shaladarpan '!B30","v":"A"},{"$f":"'shaladarpan '!C30","v":4630},{"$f":"'shaladarpan '!D30","v":"2019-07-02"},{"$f":"'shaladarpan '!E30","v":"manjeet29"},{"$f":"'shaladarpan '!F30","v":"00:00:00"},{"$f":"'shaladarpan '!G30","v":"vijay29"},{"$f":"'shaladarpan '!H30","v":"beautiful29"},{"$f":"'shaladarpan '!I30","v":"F"},{"$f":"'shaladarpan '!J30","v":"2014-04-22"},{"$f":"'shaladarpan '!K30","v":"yes"},{"$f":"'shaladarpan '!L30","v":29},{"$f":"'shaladarpan '!M30","v":0},{"$f":"'shaladarpan '!N30","v":0},{"$f":"'shaladarpan '!O30","v":"OBC"},{"$f":"'shaladarpan '!P30","v":"Muslim"},{"$f":"'shaladarpan '!Q30","v":0},{"$f":"'shaladarpan '!R30","v":"GOVT. SENIOR SECONDARY SCHOOL ALNIYAWAS (219445)"},{"$f":"'shaladarpan '!S30","v":8140200308},{"$f":"'shaladarpan '!T30","v":"XXXX2071"},{"$f":"'shaladarpan '!U30","v":0},{"$f":"'shaladarpan '!V30","v":9828120725},{"$f":"'shaladarpan '!W30","v":"alniyawas29"},{"$f":"'shaladarpan '!X30","v":60000},{"$f":"'shaladarpan '!Y30","v":"N"},{"$f":"'shaladarpan '!Z30","v":"N"},{"$f":"'shaladarpan '!AA30","v":"Yes"},{"$f":"'shaladarpan '!AB30","v":6},{"$f":"'shaladarpan '!AC30","v":"None"},{"$f":"'shaladarpan '!AD30","v":0}]
[{"$f":"IF(F32=\" \",\" \",ROWS($A$3:A32))","v":30},{"$f":"'shaladarpan '!A31","v":2},{"$f":"'shaladarpan '!B31","v":"A"},{"$f":"'shaladarpan '!C31","v":4676},{"$f":"'shaladarpan '!D31","v":"2019-07-08"},{"$f":"'shaladarpan '!E31","v":"manjeet30"},{"$f":"'shaladarpan '!F31","v":"00:00:00"},{"$f":"'shaladarpan '!G31","v":"vijay30"},{"$f":"'shaladarpan '!H31","v":"beautiful30"},{"$f":"'shaladarpan '!I31","v":"F"},{"$f":"'shaladarpan '!J31","v":"2014-11-05"},{"$f":"'shaladarpan '!K31","v":"no"},{"$f":"'shaladarpan '!L31","v":30},{"$f":"'shaladarpan '!M31","v":0},{"$f":"'shaladarpan '!N31","v":0},{"$f":"'shaladarpan '!O31","v":"OBC"},{"$f":"'shaladarpan '!P31","v":"Muslim"},{"$f":"'shaladarpan '!Q31","v":0},{"$f":"'shaladarpan '!R31","v":"GOVT. SENIOR SECONDARY SCHOOL ALNIYAWAS (219445)"},{"$f":"'shaladarpan '!S31","v":8140200308},{"$f":"'shaladarpan '!T31","v":0},{"$f":"'shaladarpan '!U31","v":0},{"$f":"'shaladarpan '!V31","v":9828120726},{"$f":"'shaladarpan '!W31","v":"alniyawas30"},{"$f":"'shaladarpan '!X31","v":60000},{"$f":"'shaladarpan '!Y31","v":"N"},{"$f":"'shaladarpan '!Z31","v":"N"},{"$f":"'shaladarpan '!AA31","v":"Yes"},{"$f":"'shaladarpan '!AB31","v":6},{"$f":"'shaladarpan '!AC31","v":"None"},{"$f":"'shaladarpan '!AD31","v":0}]
[{"$f":"IF(F33=\" \",\" \",ROWS($A$3:A33))","v":31},{"$f":"'shaladarpan '!A32","v":2},{"$f":"'shaladarpan '!B32","v":"A"},{"$f":"'shaladarpan '!C32","v":4710},{"$f":"'shaladarpan '!D32","v":"2019-07-11"},{"$f":"'shaladarpan '!E32","v":"manjeet31"},{"$f":"'shaladarpan '!F32","v":"00:00:00"},{"$f":"'shaladarpan '!G32","v":"vijay31"},{"$f":"'shaladarpan '!H32","v":"beautiful31"},{"$f":"'shaladarpan '!I32","v":"F"},{"$f":"'shaladarpan '!J32","v":"2013-05-14"},{"$f":"'shaladarpan '!K32","v":"yes"},{"$f":"'shaladarpan '!L32","v":31},{"$f":"'shaladarpan '!M32","v":0},{"$f":"'shaladarpan '!N32","v":0},{"$f":"'shaladarpan '!O32","v":"SC"},{"$f":"'shaladarpan '!P32","v":"Hindu"},{"$f":"'shaladarpan '!Q32","v":0},{"$f":"'shaladarpan '!R32","v":"GOVT. SENIOR SECONDARY SCHOOL ALNIYAWAS (219445)"},{"$f":"'shaladarpan '!S32","v":8140200308},{"$f":"'shaladarpan '!T32","v":0},{"$f":"'shaladarpan '!U32","v":0},{"$f":"'shaladarpan '!V32","v":9828120727},{"$f":"'shaladarpan '!W32","v":"alniyawas31"},{"$f":"'shaladarpan '!X32","v":50000},{"$f":"'shaladarpan '!Y32","v":"N"},{"$f":"'shaladarpan '!Z32","v":"N"},{"$f":"'shaladarpan '!AA32","v":"No"},{"$f":"'shaladarpan '!AB32","v":7},{"$f":"'shaladarpan '!AC32","v":"None"},{"$f":"'shaladarpan '!AD32","v":1}]
[{"$f":"IF(F34=\" \",\" \",ROWS($A$3:A34))","v":32},{"$f":"'shaladarpan '!A33","v":2},{"$f":"'shaladarpan '!B33","v":"A"},{"$f":"'shaladarpan '!C33","v":4628},{"$f":"'shaladarpan '!D33","v":"2019-05-08"},{"$f":"'shaladarpan '!E33","v":"manjeet32"},{"$f":"'shaladarpan '!F33","v":"00:00:00"},{"$f":"'shaladarpan '!G33","v":"vijay32"},{"$f":"'shaladarpan '!H33","v":"beautiful32"},{"$f":"'shaladarpan '!I33","v":"F"},{"$f":"'shaladarpan '!J33","v":"2014-04-26"},{"$f":"'shaladarpan '!K33","v":"yes"},{"$f":"'shaladarpan '!L33","v":32},{"$f":"'shaladarpan '!M33","v":0},{"$f":"'shaladarpan '!N33","v":0},{"$f":"'shaladarpan '!O33","v":"OBC"},{"$f":"'shaladarpan '!P33","v":"Hindu"},{"$f":"'shaladarpan '!Q33","v":0},{"$f":"'shaladarpan '!R33","v":"GOVT. SENIOR SECONDARY SCHOOL ALNIYAWAS (219445)"},{"$f":"'shaladarpan '!S33","v":8140200308},{"$f":"'shaladarpan '!T33","v":0},{"$f":"'shaladarpan '!U33","v":"vxkbntn"},{"$f":"'shaladarpan '!V33","v":9828120728},{"$f":"'shaladarpan '!W33","v":"alniyawas32"},{"$f":"'shaladarpan '!X33","v":50000},{"$f":"'shaladarpan '!Y33","v":"N"},{"$f":"'shaladarpan '!Z33","v":"N"},{"$f":"'shaladarpan '!AA33","v":"No"},{"$f":"'shaladarpan '!AB33","v":6},{"$f":"'shaladarpan '!AC33","v":"None"},{"$f":"'shaladarpan '!AD33","v":0}]
[{"$f":"IF(F35=\" \",\" \",ROWS($A$3:A35))","v":33},{"$f":"'shaladarpan '!A34","v":2},{"$f":"'shaladarpan '!B34","v":"A"},{"$f":"'shaladarpan '!C34","v":4771},{"$f":"'shaladarpan '!D34","v":"2019-07-25"},{"$f":"'shaladarpan '!E34","v":"manjeet33"},{"$f":"'shaladarpan '!F34","v":"00:00:00"},{"$f":"'shaladarpan '!G34","v":"vijay33"},{"$f":"'shaladarpan '!H34","v":"beautiful33"},{"$f":"'shaladarpan '!I34","v":"F"},{"$f":"'shaladarpan '!J34","v":"2013-10-15"},{"$f":"'shaladarpan '!K34","v":"no"},{"$f":"'shaladarpan '!L34","v":33},{"$f":"'shaladarpan '!M34","v":0},{"$f":"'shaladarpan '!N34","v":0},{"$f":"'shaladarpan '!O34","v":"OBC"},{"$f":"'shaladarpan '!P34","v":"Hindu"},{"$f":"'shaladarpan '!Q34","v":0},{"$f":"'shaladarpan '!R34","v":"GOVT. SENIOR SECONDARY SCHOOL ALNIYAWAS (219445)"},{"$f":"'shaladarpan '!S34","v":8140200308},{"$f":"'shaladarpan '!T34","v":0},{"$f":"'shaladarpan '!U34","v":"vpxbpxh"},{"$f":"'shaladarpan '!V34","v":9828120729},{"$f":"'shaladarpan '!W34","v":"alniyawas33"},{"$f":"'shaladarpan '!X34","v":60000},{"$f":"'shaladarpan '!Y34","v":"N"},{"$f":"'shaladarpan '!Z34","v":"N"},{"$f":"'shaladarpan '!AA34","v":"No"},{"$f":"'shaladarpan '!AB34","v":7},{"$f":"'shaladarpan '!AC34","v":"None"},{"$f":"'shaladarpan '!AD34","v":5}]
[{"$f":"IF(F36=\" \",\" \",ROWS($A$3:A36))","v":34},{"$f":"'shaladarpan '!A35","v":2},{"$f":"'shaladarpan '!B35","v":"A"},{"$f":"'shaladarpan '!C35","v":4728},{"$f":"'shaladarpan '!D35","v":"2019-07-13"},{"$f":"'shaladarpan '!E35","v":"manjeet34"},{"$f":"'shaladarpan '!F35","v":"00:00:00"},{"$f":"'shaladarpan '!G35","v":"vijay34"},{"$f":"'shaladarpan '!H35","v":"beautiful34"},{"$f":"'shaladarpan '!I35","v":"M"},{"$f":"'shaladarpan '!J35","v":"2014-02-08"},{"$f":"'shaladarpan '!K35","v":"yes"},{"$f":"'shaladarpan '!L35","v":34},{"$f":"'shaladarpan '!M35","v":0},{"$f":"'shaladarpan '!N35","v":0},{"$f":"'shaladarpan '!O35","v":"OBC"},{"$f":"'shaladarpan '!P35","v":"Hindu"},{"$f":"'shaladarpan '!Q35","v":0},{"$f":"'shaladarpan '!R35","v":"GOVT. SENIOR SECONDARY SCHOOL ALNIYAWAS (219445)"},{"$f":"'shaladarpan '!S35","v":8140200308},{"$f":"'shaladarpan '!T35","v":"XXXX1233"},{"$f":"'shaladarpan '!U35","v":"ymuicow"},{"$f":"'shaladarpan '!V35","v":9828120730},{"$f":"'shaladarpan '!W35","v":"alniyawas34"},{"$f":"'shaladarpan '!X35","v":50000},{"$f":"'shaladarpan '!Y35","v":"N"},{"$f":"'shaladarpan '!Z35","v":"N"},{"$f":"'shaladarpan '!AA35","v":"No"},{"$f":"'shaladarpan '!AB35","v":6},{"$f":"'shaladarpan '!AC35","v":"None"},{"$f":"'shaladarpan '!AD35","v":0}]
[{"$f":"IF(F37=\" \",\" \",ROWS($A$3:A37))","v":35},{"$f":"'shaladarpan '!A36","v":2},{"$f":"'shaladarpan '!B36","v":"A"},{"$f":"'shaladarpan '!C36","v":4695},{"$f":"'shaladarpan '!D36","v":"2019-07-10"},{"$f":"'shaladarpan '!E36","v":"manjeet35"},{"$f":"'shaladarpan '!F36","v":"00:00:00"},{"$f":"'shaladarpan '!G36","v":"vijay35"},{"$f":"'shaladarpan '!H36","v":"beautiful35"},{"$f":"'shaladarpan '!I36","v":"M"},{"$f":"'shaladarpan '!J36","v":"2014-04-16"},{"$f":"'shaladarpan '!K36","v":"yes"},{"$f":"'shaladarpan '!L36","v":35},{"$f":"'shaladarpan '!M36","v":0},{"$f":"'shaladarpan '!N36","v":0},{"$f":"'shaladarpan '!O36","v":"OBC"},{"$f":"'shaladarpan '!P36","v":"Muslim"},{"$f":"'shaladarpan '!Q36","v":0},{"$f":"'shaladarpan '!R36","v":"GOVT. SENIOR SECONDARY SCHOOL ALNIYAWAS (219445)"},{"$f":"'shaladarpan '!S36","v":8140200308},{"$f":"'shaladarpan '!T36","v":0},{"$f":"'shaladarpan '!U36","v":0},{"$f":"'shaladarpan '!V36","v":9828120731},{"$f":"'shaladarpan '!W36","v":"alniyawas35"},{"$f":"'shaladarpan '!X36","v":60000},{"$f":"'shaladarpan '!Y36","v":"N"},{"$f":"'shaladarpan '!Z36","v":"N"},{"$f":"'shaladarpan '!AA36","v":"Yes"},{"$f":"'shaladarpan '!AB36","v":6},{"$f":"'shaladarpan '!AC36","v":"None"},{"$f":"'shaladarpan '!AD36","v":0}]
[{"$f":"IF(F38=\" \",\" \",ROWS($A$3:A38))","v":36},{"$f":"'shaladarpan '!A37","v":2},{"$f":"'shaladarpan '!B37","v":"A"},{"$f":"'shaladarpan '!C37","v":4627},{"$f":"'shaladarpan '!D37","v":"2019-05-08"},{"$f":"'shaladarpan '!E37","v":"manjeet36"},{"$f":"'shaladarpan '!F37","v":"00:00:00"},{"$f":"'shaladarpan '!G37","v":"vijay36"},{"$f":"'shaladarpan '!H37","v":"beautiful36"},{"$f":"'shaladarpan '!I37","v":"F"},{"$f":"'shaladarpan '!J37","v":"2014-03-09"},{"$f":"'shaladarpan '!K37","v":"no"},{"$f":"'shaladarpan '!L37","v":36},{"$f":"'shaladarpan '!M37","v":0},{"$f":"'shaladarpan '!N37","v":0},{"$f":"'shaladarpan '!O37","v":"OBC"},{"$f":"'shaladarpan '!P37","v":"Hindu"},{"$f":"'shaladarpan '!Q37","v":0},{"$f":"'shaladarpan '!R37","v":"GOVT. SENIOR SECONDARY SCHOOL ALNIYAWAS (219445)"},{"$f":"'shaladarpan '!S37","v":8140200308},{"$f":"'shaladarpan '!T37","v":0},{"$f":"'shaladarpan '!U37","v":0},{"$f":"'shaladarpan '!V37","v":9828120732},{"$f":"'shaladarpan '!W37","v":"alniyawas36"},{"$f":"'shaladarpan '!X37","v":60000},{"$f":"'shaladarpan '!Y37","v":"N"},{"$f":"'shaladarpan '!Z37","v":"N"},{"$f":"'shaladarpan '!AA37","v":"No"},{"$f":"'shaladarpan '!AB37","v":6},{"$f":"'shaladarpan '!AC37","v":"None"},{"$f":"'shaladarpan '!AD37","v":0}]
[{"$f":"IF(F39=\" \",\" \",ROWS($A$3:A39))","v":37},{"$f":"'shaladarpan '!A38","v":2},{"$f":"'shaladarpan '!B38","v":"A"},{"$f":"'shaladarpan '!C38","v":4711},{"$f":"'shaladarpan '!D38","v":"2019-07-11"},{"$f":"'shaladarpan '!E38","v":"manjeet37"},{"$f":"'shaladarpan '!F38","v":"00:00:00"},{"$f":"'shaladarpan '!G38","v":"vijay37"},{"$f":"'shaladarpan '!H38","v":"beautiful37"},{"$f":"'shaladarpan '!I38","v":"F"},{"$f":"'shaladarpan '!J38","v":"2012-05-14"},{"$f":"'shaladarpan '!K38","v":"yes"},{"$f":"'shaladarpan '!L38","v":37},{"$f":"'shaladarpan '!M38","v":0},{"$f":"'shaladarpan '!N38","v":0},{"$f":"'shaladarpan '!O38","v":"SC"},{"$f":"'shaladarpan '!P38","v":"Hindu"},{"$f":"'shaladarpan '!Q38","v":0},{"$f":"'shaladarpan '!R38","v":"GOVT. SENIOR SECONDARY SCHOOL ALNIYAWAS (219445)"},{"$f":"'shaladarpan '!S38","v":8140200308},{"$f":"'shaladarpan '!T38","v":0},{"$f":"'shaladarpan '!U38","v":0},{"$f":"'shaladarpan '!V38","v":9828120733},{"$f":"'shaladarpan '!W38","v":"alniyawas37"},{"$f":"'shaladarpan '!X38","v":200000},{"$f":"'shaladarpan '!Y38","v":"N"},{"$f":"'shaladarpan '!Z38","v":"N"},{"$f":"'shaladarpan '!AA38","v":"No"},{"$f":"'shaladarpan '!AB38","v":8},{"$f":"'shaladarpan '!AC38","v":"None"},{"$f":"'shaladarpan '!AD38","v":1}]
[{"$f":"IF(F40=\" \",\" \",ROWS($A$3:A40))","v":38},{"$f":"'shaladarpan '!A39","v":2},{"$f":"'shaladarpan '!B39","v":"A"},{"$f":"'shaladarpan '!C39","v":4787},{"$f":"'shaladarpan '!D39","v":"00:00:00"},{"$f":"'shaladarpan '!E39","v":"manjeet38"},{"$f":"'shaladarpan '!F39","v":"00:00:00"},{"$f":"'shaladarpan '!G39","v":"vijay38"},{"$f":"'shaladarpan '!H39","v":"beautiful38"},{"$f":"'shaladarpan '!I39","v":"F"},{"$f":"'shaladarpan '!J39","v":"2012-12-03"},{"$f":"'shaladarpan '!K39","v":"yes"},{"$f":"'shaladarpan '!L39","v":38},{"$f":"'shaladarpan '!M39","v":0},{"$f":"'shaladarpan '!N39","v":0},{"$f":"'shaladarpan '!O39","v":"SC"},{"$f":"'shaladarpan '!P39","v":0},{"$f":"'shaladarpan '!Q39","v":0},{"$f":"'shaladarpan '!R39","v":"GOVT. SENIOR SECONDARY SCHOOL ALNIYAWAS (219445)"},{"$f":"'shaladarpan '!S39","v":8140200308},{"$f":"'shaladarpan '!T39","v":0},{"$f":"'shaladarpan '!U39","v":0},{"$f":"'shaladarpan '!V39","v":9828120734},{"$f":"'shaladarpan '!W39","v":"alniyawas38"},{"$f":"'shaladarpan '!X39","v":0},{"$f":"'shaladarpan '!Y39","v":"N"},{"$f":"'shaladarpan '!Z39","v":"Y"},{"$f":"'shaladarpan '!AA39","v":0},{"$f":"'shaladarpan '!AB39","v":8},{"$f":"'shaladarpan '!AC39","v":0},{"$f":"'shaladarpan '!AD39","v":1}]
[{"$f":"IF(F41=\" \",\" \",ROWS($A$3:A41))","v":39},{"$f":"'shaladarpan '!A40","v":2},{"$f":"'shaladarpan '!B40","v":"A"},{"$f":"'shaladarpan '!C40","v":4642},{"$f":"'shaladarpan '!D40","v":"2019-07-04"},{"$f":"'shaladarpan '!E40","v":"manjeet39"},{"$f":"'shaladarpan '!F40","v":"00:00:00"},{"$f":"'shaladarpan '!G40","v":"vijay39"},{"$f":"'shaladarpan '!H40","v":"beautiful39"},{"$f":"'shaladarpan '!I40","v":"F"},{"$f":"'shaladarpan '!J40","v":"2015-01-01"},{"$f":"'shaladarpan '!K40","v":"no"},{"$f":"'shaladarpan '!L40","v":39},{"$f":"'shaladarpan '!M40","v":0},{"$f":"'shaladarpan '!N40","v":0},{"$f":"'shaladarpan '!O40","v":"OBC"},{"$f":"'shaladarpan '!P40","v":"Muslim"},{"$f":"'shaladarpan '!Q40","v":0},{"$f":"'shaladarpan '!R40","v":"GOVT. SENIOR SECONDARY SCHOOL ALNIYAWAS (219445)"},{"$f":"'shaladarpan '!S40","v":8140200308},{"$f":"'shaladarpan '!T40","v":0},{"$f":"'shaladarpan '!U40","v":"vvxsxhr"},{"$f":"'shaladarpan '!V40","v":9828120735},{"$f":"'shaladarpan '!W40","v":"alniyawas39"},{"$f":"'shaladarpan '!X40","v":60000},{"$f":"'shaladarpan '!Y40","v":"N"},{"$f":"'shaladarpan '!Z40","v":"N"},{"$f":"'shaladarpan '!AA40","v":"Yes"},{"$f":"'shaladarpan '!AB40","v":5},{"$f":"'shaladarpan '!AC40","v":"None"},{"$f":"'shaladarpan '!AD40","v":0}]
[{"$f":"IF(F42=\" \",\" \",ROWS($A$3:A42))","v":40},{"$f":"'shaladarpan '!A41","v":2},{"$f":"'shaladarpan '!B41","v":"A"},{"$f":"'shaladarpan '!C41","v":4738},{"$f":"'shaladarpan '!D41","v":"2019-07-15"},{"$f":"'shaladarpan '!E41","v":"manjeet40"},{"$f":"'shaladarpan '!F41","v":"00:00:00"},{"$f":"'shaladarpan '!G41","v":"vijay40"},{"$f":"'shaladarpan '!H41","v":"beautiful40"},{"$f":"'shaladarpan '!I41","v":"F"},{"$f":"'shaladarpan '!J41","v":"2013-05-05"},{"$f":"'shaladarpan '!K41","v":"yes"},{"$f":"'shaladarpan '!L41","v":40},{"$f":"'shaladarpan '!M41","v":0},{"$f":"'shaladarpan '!N41","v":0},{"$f":"'shaladarpan '!O41","v":"SC"},{"$f":"'shaladarpan '!P41","v":"Hindu"},{"$f":"'shaladarpan '!Q41","v":0},{"$f":"'shaladarpan '!R41","v":"GOVT. SENIOR SECONDARY SCHOOL ALNIYAWAS (219445)"},{"$f":"'shaladarpan '!S41","v":8140200308},{"$f":"'shaladarpan '!T41","v":0},{"$f":"'shaladarpan '!U41","v":"yobayib"},{"$f":"'shaladarpan '!V41","v":9828120736},{"$f":"'shaladarpan '!W41","v":"alniyawas40"},{"$f":"'shaladarpan '!X41","v":50000},{"$f":"'shaladarpan '!Y41","v":"N"},{"$f":"'shaladarpan '!Z41","v":"N"},{"$f":"'shaladarpan '!AA41","v":"No"},{"$f":"'shaladarpan '!AB41","v":7},{"$f":"'shaladarpan '!AC41","v":"None"},{"$f":"'shaladarpan '!AD41","v":0}]
[{"$f":"IF(F43=\" \",\" \",ROWS($A$3:A43))","v":41},{"$f":"'shaladarpan '!A42","v":2},{"$f":"'shaladarpan '!B42","v":"A"},{"$f":"'shaladarpan '!C42","v":4690},{"$f":"'shaladarpan '!D42","v":"2019-07-09"},{"$f":"'shaladarpan '!E42","v":"manjeet41"},{"$f":"'shaladarpan '!F42","v":"00:00:00"},{"$f":"'shaladarpan '!G42","v":"vijay41"},{"$f":"'shaladarpan '!H42","v":"beautiful41"},{"$f":"'shaladarpan '!I42","v":"M"},{"$f":"'shaladarpan '!J42","v":"2014-01-21"},{"$f":"'shaladarpan '!K42","v":"yes"},{"$f":"'shaladarpan '!L42","v":41},{"$f":"'shaladarpan '!M42","v":0},{"$f":"'shaladarpan '!N42","v":0},{"$f":"'shaladarpan '!O42","v":"SC"},{"$f":"'shaladarpan '!P42","v":"Hindu"},{"$f":"'shaladarpan '!Q42","v":0},{"$f":"'shaladarpan '!R42","v":"GOVT. SENIOR SECONDARY SCHOOL ALNIYAWAS (219445)"},{"$f":"'shaladarpan '!S42","v":8140200308},{"$f":"'shaladarpan '!T42","v":0},{"$f":"'shaladarpan '!U42","v":0},{"$f":"'shaladarpan '!V42","v":9828120737},{"$f":"'shaladarpan '!W42","v":"alniyawas41"},{"$f":"'shaladarpan '!X42","v":60000},{"$f":"'shaladarpan '!Y42","v":"N"},{"$f":"'shaladarpan '!Z42","v":"N"},{"$f":"'shaladarpan '!AA42","v":"No"},{"$f":"'shaladarpan '!AB42","v":6},{"$f":"'shaladarpan '!AC42","v":"None"},{"$f":"'shaladarpan '!AD42","v":0}]
[{"$f":"IF(F44=\" \",\" \",ROWS($A$3:A44))","v":42},{"$f":"'shaladarpan '!A43","v":2},{"$f":"'shaladarpan '!B43","v":"A"},{"$f":"'shaladarpan '!C43","v":4873},{"$f":"'shaladarpan '!D43","v":"00:00:00"},{"$f":"'shaladarpan '!E43","v":"manjeet42"},{"$f":"'shaladarpan '!F43","v":"00:00:00"},{"$f":"'shaladarpan '!G43","v":"vijay42"},{"$f":"'shaladarpan '!H43","v":"beautiful42"},{"$f":"'shaladarpan '!I43","v":"M"},{"$f":"'shaladarpan '!J43","v":"2014-09-25"},{"$f":"'shaladarpan '!K43","v":"no"},{"$f":"'shaladarpan '!L43","v":42},{"$f":"'shaladarpan '!M43","v":0},{"$f":"'shaladarpan '!N43","v":0},{"$f":"'shaladarpan '!O43","v":"OBC"},{"$f":"'shaladarpan '!P43","v":0},{"$f":"'shaladarpan '!Q43","v":0},{"$f":"'shaladarpan '!R43","v":"GOVT. SENIOR SECONDARY SCHOOL ALNIYAWAS (219445)"},{"$f":"'shaladarpan '!S43","v":8140200308},{"$f":"'shaladarpan '!T43","v":0},{"$f":"'shaladarpan '!U43","v":0},{"$f":"'shaladarpan '!V43","v":9828120738},{"$f":"'shaladarpan '!W43","v":"alniyawas42"},{"$f":"'shaladarpan '!X43","v":0},{"$f":"'shaladarpan '!Y43","v":"N"},{"$f":"'shaladarpan '!Z43","v":"Y"},{"$f":"'shaladarpan '!AA43","v":0},{"$f":"'shaladarpan '!AB43","v":6},{"$f":"'shaladarpan '!AC43","v":0},{"$f":"'shaladarpan '!AD43","v":1}]
[{"$f":"IF(F45=\" \",\" \",ROWS($A$3:A45))","v":43},{"$f":"'shaladarpan '!A44","v":2},{"$f":"'shaladarpan '!B44","v":"A"},{"$f":"'shaladarpan '!C44","v":4626},{"$f":"'shaladarpan '!D44","v":"2019-05-08"},{"$f":"'shaladarpan '!E44","v":"manjeet43"},{"$f":"'shaladarpan '!F44","v":"00:00:00"},{"$f":"'shaladarpan '!G44","v":"vijay43"},{"$f":"'shaladarpan '!H44","v":"beautiful43"},{"$f":"'shaladarpan '!I44","v":"F"},{"$f":"'shaladarpan '!J44","v":"2014-02-01"},{"$f":"'shaladarpan '!K44","v":"yes"},{"$f":"'shaladarpan '!L44","v":43},{"$f":"'shaladarpan '!M44","v":0},{"$f":"'shaladarpan '!N44","v":0},{"$f":"'shaladarpan '!O44","v":"OBC"},{"$f":"'shaladarpan '!P44","v":"Muslim"},{"$f":"'shaladarpan '!Q44","v":0},{"$f":"'shaladarpan '!R44","v":"GOVT. SENIOR SECONDARY SCHOOL ALNIYAWAS (219445)"},{"$f":"'shaladarpan '!S44","v":8140200308},{"$f":"'shaladarpan '!T44","v":"XXXX4865"},{"$f":"'shaladarpan '!U44","v":0},{"$f":"'shaladarpan '!V44","v":9828120739},{"$f":"'shaladarpan '!W44","v":"alniyawas43"},{"$f":"'shaladarpan '!X44","v":60000},{"$f":"'shaladarpan '!Y44","v":"N"},{"$f":"'shaladarpan '!Z44","v":"N"},{"$f":"'shaladarpan '!AA44","v":"Yes"},{"$f":"'shaladarpan '!AB44","v":6},{"$f":"'shaladarpan '!AC44","v":"None"},{"$f":"'shaladarpan '!AD44","v":0}]
[{"$f":"IF(F46=\" \",\" \",ROWS($A$3:A46))","v":44},{"$f":"'shaladarpan '!A45","v":2},{"$f":"'shaladarpan '!B45","v":"A"},{"$f":"'shaladarpan '!C45","v":4698},{"$f":"'shaladarpan '!D45","v":"2019-07-10"},{"$f":"'shaladarpan '!E45","v":"manjeet44"},{"$f":"'shaladarpan '!F45","v":"00:00:00"},{"$f":"'shaladarpan '!G45","v":"vijay44"},{"$f":"'shaladarpan '!H45","v":"beautiful44"},{"$f":"'shaladarpan '!I45","v":"M"},{"$f":"'shaladarpan '!J45","v":"2012-07-09"},{"$f":"'shaladarpan '!K45","v":"yes"},{"$f":"'shaladarpan '!L45","v":44},{"$f":"'shaladarpan '!M45","v":0},{"$f":"'shaladarpan '!N45","v":0},{"$f":"'shaladarpan '!O45","v":"OBC"},{"$f":"'shaladarpan '!P45","v":"Muslim"},{"$f":"'shaladarpan '!Q45","v":0},{"$f":"'shaladarpan '!R45","v":"GOVT. SENIOR SECONDARY SCHOOL ALNIYAWAS (219445)"},{"$f":"'shaladarpan '!S45","v":8140200308},{"$f":"'shaladarpan '!T45","v":0},{"$f":"'shaladarpan '!U45","v":0},{"$f":"'shaladarpan '!V45","v":9828120740},{"$f":"'shaladarpan '!W45","v":"alniyawas44"},{"$f":"'shaladarpan '!X45","v":50000},{"$f":"'shaladarpan '!Y45","v":"N"},{"$f":"'shaladarpan '!Z45","v":"N"},{"$f":"'shaladarpan '!AA45","v":"Yes"},{"$f":"'shaladarpan '!AB45","v":8},{"$f":"'shaladarpan '!AC45","v":"None"},{"$f":"'shaladarpan '!AD45","v":1}]
[{"$f":"IF(F47=\" \",\" \",ROWS($A$3:A47))","v":45},{"$f":"'shaladarpan '!A46","v":2},{"$f":"'shaladarpan '!B46","v":"A"},{"$f":"'shaladarpan '!C46","v":4633},{"$f":"'shaladarpan '!D46","v":"2019-07-03"},{"$f":"'shaladarpan '!E46","v":"manjeet45"},{"$f":"'shaladarpan '!F46","v":"00:00:00"},{"$f":"'shaladarpan '!G46","v":"vijay45"},{"$f":"'shaladarpan '!H46","v":"beautiful45"},{"$f":"'shaladarpan '!I46","v":"F"},{"$f":"'shaladarpan '!J46","v":"2012-11-02"},{"$f":"'shaladarpan '!K46","v":"no"},{"$f":"'shaladarpan '!L46","v":45},{"$f":"'shaladarpan '!M46","v":0},{"$f":"'shaladarpan '!N46","v":0},{"$f":"'shaladarpan '!O46","v":"GEN"},{"$f":"'shaladarpan '!P46","v":"Muslim"},{"$f":"'shaladarpan '!Q46","v":0},{"$f":"'shaladarpan '!R46","v":"GOVT. SENIOR SECONDARY SCHOOL ALNIYAWAS (219445)"},{"$f":"'shaladarpan '!S46","v":8140200308},{"$f":"'shaladarpan '!T46","v":"XXXX0826"},{"$f":"'shaladarpan '!U46","v":"tmsuucc"},{"$f":"'shaladarpan '!V46","v":9828120741},{"$f":"'shaladarpan '!W46","v":"alniyawas45"},{"$f":"'shaladarpan '!X46","v":60000},{"$f":"'shaladarpan '!Y46","v":"N"},{"$f":"'shaladarpan '!Z46","v":"N"},{"$f":"'shaladarpan '!AA46","v":"Yes"},{"$f":"'shaladarpan '!AB46","v":8},{"$f":"'shaladarpan '!AC46","v":"None"},{"$f":"'shaladarpan '!AD46","v":0}]
[{"$f":"IF(F48=\" \",\" \",ROWS($A$3:A48))","v":46},{"$f":"'shaladarpan '!A47","v":2},{"$f":"'shaladarpan '!B47","v":"A"},{"$f":"'shaladarpan '!C47","v":4780},{"$f":"'shaladarpan '!D47","v":"2019-08-03"},{"$f":"'shaladarpan '!E47","v":"manjeet46"},{"$f":"'shaladarpan '!F47","v":"00:00:00"},{"$f":"'shaladarpan '!G47","v":"vijay46"},{"$f":"'shaladarpan '!H47","v":"beautiful46"},{"$f":"'shaladarpan '!I47","v":"F"},{"$f":"'shaladarpan '!J47","v":"2014-06-23"},{"$f":"'shaladarpan '!K47","v":"yes"},{"$f":"'shaladarpan '!L47","v":46},{"$f":"'shaladarpan '!M47","v":0},{"$f":"'shaladarpan '!N47","v":0},{"$f":"'shaladarpan '!O47","v":"OBC"},{"$f":"'shaladarpan '!P47","v":"Muslim"},{"$f":"'shaladarpan '!Q47","v":0},{"$f":"'shaladarpan '!R47","v":"GOVT. SENIOR SECONDARY SCHOOL ALNIYAWAS (219445)"},{"$f":"'shaladarpan '!S47","v":8140200308},{"$f":"'shaladarpan '!T47","v":0},{"$f":"'shaladarpan '!U47","v":"ysqcywo"},{"$f":"'shaladarpan '!V47","v":9828120742},{"$f":"'shaladarpan '!W47","v":"alniyawas46"},{"$f":"'shaladarpan '!X47","v":60000},{"$f":"'shaladarpan '!Y47","v":"N"},{"$f":"'shaladarpan '!Z47","v":"N"},{"$f":"'shaladarpan '!AA47","v":"Yes"},{"$f":"'shaladarpan '!AB47","v":6},{"$f":"'shaladarpan '!AC47","v":"None"},{"$f":"'shaladarpan '!AD47","v":0}]
[{"$f":"IF(F49=\" \",\" \",ROWS($A$3:A49))","v":47},{"$f":"'shaladarpan '!A48","v":3},{"$f":"'shaladarpan '!B48","v":"A"},{"$f":"'shaladarpan '!C48","v":4522},{"$f":"'shaladarpan '!D48","v":"2018-07-07"},{"$f":"'shaladarpan '!E48","v":"manjeet47"},{"$f":"'shaladarpan '!F48","v":"00:00:00"},{"$f":"'shaladarpan '!G48","v":"vijay47"},{"$f":"'shaladarpan '!H48","v":"beautiful47"},{"$f":"'shaladarpan '!I48","v":"F"},{"$f":"'shaladarpan '!J48","v":"2012-12-31"},{"$f":"'shaladarpan '!K48","v":"yes"},{"$f":"'shaladarpan '!L48","v":47},{"$f":"'shaladarpan '!M48","v":0},{"$f":"'shaladarpan '!N48","v":0},{"$f":"'shaladarpan '!O48","v":"OBC"},{"$f":"'shaladarpan '!P48","v":"Muslim"},{"$f":"'shaladarpan '!Q48","v":0},{"$f":"'shaladarpan '!R48","v":"GOVT. SENIOR SECONDARY SCHOOL ALNIYAWAS (219445)"},{"$f":"'shaladarpan '!S48","v":8140200308},{"$f":"'shaladarpan '!T48","v":"XXXX8462"},{"$f":"'shaladarpan '!U48","v":"VXKBNTN"},{"$f":"'shaladarpan '!V48","v":9828120743},{"$f":"'shaladarpan '!W48","v":"alniyawas47"},{"$f":"'shaladarpan '!X48","v":40000},{"$f":"'shaladarpan '!Y48","v":"N"},{"$f":"'shaladarpan '!Z48","v":"N"},{"$f":"'shaladarpan '!AA48","v":"Yes"},{"$f":"'shaladarpan '!AB48","v":8},{"$f":"'shaladarpan '!AC48","v":"None"},{"$f":"'shaladarpan '!AD48","v":1}]
[{"$f":"IF(F50=\" \",\" \",ROWS($A$3:A50))","v":48},{"$f":"'shaladarpan '!A49","v":3},{"$f":"'shaladarpan '!B49","v":"A"},{"$f":"'shaladarpan '!C49","v":4582},{"$f":"'shaladarpan '!D49","v":"2018-07-18"},{"$f":"'shaladarpan '!E49","v":"manjeet48"},{"$f":"'shaladarpan '!F49","v":"00:00:00"},{"$f":"'shaladarpan '!G49","v":"vijay48"},{"$f":"'shaladarpan '!H49","v":"beautiful48"},{"$f":"'shaladarpan '!I49","v":"F"},{"$f":"'shaladarpan '!J49","v":"2012-12-07"},{"$f":"'shaladarpan '!K49","v":"no"},{"$f":"'shaladarpan '!L49","v":48},{"$f":"'shaladarpan '!M49","v":0},{"$f":"'shaladarpan '!N49","v":0},{"$f":"'shaladarpan '!O49","v":"OBC"},{"$f":"'shaladarpan '!P49","v":"Muslim"},{"$f":"'shaladarpan '!Q49","v":0},{"$f":"'shaladarpan '!R49","v":"GOVT. SENIOR SECONDARY SCHOOL ALNIYAWAS (219445)"},{"$f":"'shaladarpan '!S49","v":8140200308},{"$f":"'shaladarpan '!T49","v":0},{"$f":"'shaladarpan '!U49","v":0},{"$f":"'shaladarpan '!V49","v":9828120744},{"$f":"'shaladarpan '!W49","v":"alniyawas48"},{"$f":"'shaladarpan '!X49","v":40000},{"$f":"'shaladarpan '!Y49","v":"N"},{"$f":"'shaladarpan '!Z49","v":"N"},{"$f":"'shaladarpan '!AA49","v":"Yes"},{"$f":"'shaladarpan '!AB49","v":8},{"$f":"'shaladarpan '!AC49","v":"None"},{"$f":"'shaladarpan '!AD49","v":0}]
[{"$f":"IF(F51=\" \",\" \",ROWS($A$3:A51))","v":49},{"$f":"'shaladarpan '!A50","v":3},{"$f":"'shaladarpan '!B50","v":"A"},{"$f":"'shaladarpan '!C50","v":4620},{"$f":"'shaladarpan '!D50","v":"2018-09-24"},{"$f":"'shaladarpan '!E50","v":"manjeet49"},{"$f":"'shaladarpan '!F50","v":"00:00:00"},{"$f":"'shaladarpan '!G50","v":"vijay49"},{"$f":"'shaladarpan '!H50","v":"beautiful49"},{"$f":"'shaladarpan '!I50","v":"M"},{"$f":"'shaladarpan '!J50","v":"2012-02-04"},{"$f":"'shaladarpan '!K50","v":"yes"},{"$f":"'shaladarpan '!L50","v":49},{"$f":"'shaladarpan '!M50","v":0},{"$f":"'shaladarpan '!N50","v":0},{"$f":"'shaladarpan '!O50","v":"OBC"},{"$f":"'shaladarpan '!P50","v":"Muslim"},{"$f":"'shaladarpan '!Q50","v":0},{"$f":"'shaladarpan '!R50","v":"GOVT. SENIOR SECONDARY SCHOOL ALNIYAWAS (219445)"},{"$f":"'shaladarpan '!S50","v":8140200308},{"$f":"'shaladarpan '!T50","v":"XXXX0705"},{"$f":"'shaladarpan '!U50","v":"YQQGUEG"},{"$f":"'shaladarpan '!V50","v":9828120745},{"$f":"'shaladarpan '!W50","v":"alniyawas49"},{"$f":"'shaladarpan '!X50","v":40000},{"$f":"'shaladarpan '!Y50","v":"N"},{"$f":"'shaladarpan '!Z50","v":"N"},{"$f":"'shaladarpan '!AA50","v":"Yes"},{"$f":"'shaladarpan '!AB50","v":8},{"$f":"'shaladarpan '!AC50","v":"None"},{"$f":"'shaladarpan '!AD50","v":0}]
[{"$f":"IF(F52=\" \",\" \",ROWS($A$3:A52))","v":50},{"$f":"'shaladarpan '!A51","v":3},{"$f":"'shaladarpan '!B51","v":"A"},{"$f":"'shaladarpan '!C51","v":4581},{"$f":"'shaladarpan '!D51","v":"2018-07-18"},{"$f":"'shaladarpan '!E51","v":"manjeet50"},{"$f":"'shaladarpan '!F51","v":"00:00:00"},{"$f":"'shaladarpan '!G51","v":"vijay50"},{"$f":"'shaladarpan '!H51","v":"beautiful50"},{"$f":"'shaladarpan '!I51","v":"M"},{"$f":"'shaladarpan '!J51","v":"2012-04-15"},{"$f":"'shaladarpan '!K51","v":"yes"},{"$f":"'shaladarpan '!L51","v":50},{"$f":"'shaladarpan '!M51","v":0},{"$f":"'shaladarpan '!N51","v":0},{"$f":"'shaladarpan '!O51","v":"OBC"},{"$f":"'shaladarpan '!P51","v":"Hindu"},{"$f":"'shaladarpan '!Q51","v":0},{"$f":"'shaladarpan '!R51","v":"GOVT. SENIOR SECONDARY SCHOOL ALNIYAWAS (219445)"},{"$f":"'shaladarpan '!S51","v":8140200308},{"$f":"'shaladarpan '!T51","v":"XXXX0449"},{"$f":"'shaladarpan '!U51","v":"VPWJVGR"},{"$f":"'shaladarpan '!V51","v":9828120746},{"$f":"'shaladarpan '!W51","v":"alniyawas50"},{"$f":"'shaladarpan '!X51","v":36000},{"$f":"'shaladarpan '!Y51","v":"N"},{"$f":"'shaladarpan '!Z51","v":"N"},{"$f":"'shaladarpan '!AA51","v":"No"},{"$f":"'shaladarpan '!AB51","v":8},{"$f":"'shaladarpan '!AC51","v":"None"},{"$f":"'shaladarpan '!AD51","v":1}]
[{"$f":"IF(F53=\" \",\" \",ROWS($A$3:A53))","v":51},{"$f":"'shaladarpan '!A52","v":3},{"$f":"'shaladarpan '!B52","v":"A"},{"$f":"'shaladarpan '!C52","v":4855},{"$f":"'shaladarpan '!D52","v":"00:00:00"},{"$f":"'shaladarpan '!E52","v":"manjeet51"},{"$f":"'shaladarpan '!F52","v":"00:00:00"},{"$f":"'shaladarpan '!G52","v":"vijay51"},{"$f":"'shaladarpan '!H52","v":"beautiful51"},{"$f":"'shaladarpan '!I52","v":"F"},{"$f":"'shaladarpan '!J52","v":"2012-10-10"},{"$f":"'shaladarpan '!K52","v":"no"},{"$f":"'shaladarpan '!L52","v":51},{"$f":"'shaladarpan '!M52","v":0},{"$f":"'shaladarpan '!N52","v":0},{"$f":"'shaladarpan '!O52","v":"SBC"},{"$f":"'shaladarpan '!P52","v":0},{"$f":"'shaladarpan '!Q52","v":0},{"$f":"'shaladarpan '!R52","v":"GOVT. SENIOR SECONDARY SCHOOL ALNIYAWAS (219445)"},{"$f":"'shaladarpan '!S52","v":8140200308},{"$f":"'shaladarpan '!T52","v":0},{"$f":"'shaladarpan '!U52","v":0},{"$f":"'shaladarpan '!V52","v":9828120747},{"$f":"'shaladarpan '!W52","v":"alniyawas51"},{"$f":"'shaladarpan '!X52","v":0},{"$f":"'shaladarpan '!Y52","v":"N"},{"$f":"'shaladarpan '!Z52","v":"Y"},{"$f":"'shaladarpan '!AA52","v":0},{"$f":"'shaladarpan '!AB52","v":8},{"$f":"'shaladarpan '!AC52","v":0},{"$f":"'shaladarpan '!AD52","v":1}]
[{"$f":"IF(F54=\" \",\" \",ROWS($A$3:A54))","v":52},{"$f":"'shaladarpan '!A53","v":3},{"$f":"'shaladarpan '!B53","v":"A"},{"$f":"'shaladarpan '!C53","v":4526},{"$f":"'shaladarpan '!D53","v":"2018-07-07"},{"$f":"'shaladarpan '!E53","v":"manjeet52"},{"$f":"'shaladarpan '!F53","v":"00:00:00"},{"$f":"'shaladarpan '!G53","v":"vijay52"},{"$f":"'shaladarpan '!H53","v":"beautiful52"},{"$f":"'shaladarpan '!I53","v":"F"},{"$f":"'shaladarpan '!J53","v":"2012-12-11"},{"$f":"'shaladarpan '!K53","v":"yes"},{"$f":"'shaladarpan '!L53","v":52},{"$f":"'shaladarpan '!M53","v":0},{"$f":"'shaladarpan '!N53","v":0},{"$f":"'shaladarpan '!O53","v":"OBC"},{"$f":"'shaladarpan '!P53","v":"Muslim"},{"$f":"'shaladarpan '!Q53","v":0},{"$f":"'shaladarpan '!R53","v":"GOVT. SENIOR SECONDARY SCHOOL ALNIYAWAS (219445)"},{"$f":"'shaladarpan '!S53","v":8140200308},{"$f":"'shaladarpan '!T53","v":"XXXX8261"},{"$f":"'shaladarpan '!U53","v":0},{"$f":"'shaladarpan '!V53","v":9828120748},{"$f":"'shaladarpan '!W53","v":"alniyawas52"},{"$f":"'shaladarpan '!X53","v":40000},{"$f":"'shaladarpan '!Y53","v":"N"},{"$f":"'shaladarpan '!Z53","v":"N"},{"$f":"'shaladarpan '!AA53","v":"Yes"},{"$f":"'shaladarpan '!AB53","v":8},{"$f":"'shaladarpan '!AC53","v":"None"},{"$f":"'shaladarpan '!AD53","v":0}]
[{"$f":"IF(F55=\" \",\" \",ROWS($A$3:A55))","v":53},{"$f":"'shaladarpan '!A54","v":3},{"$f":"'shaladarpan '!B54","v":"A"},{"$f":"'shaladarpan '!C54","v":4610},{"$f":"'shaladarpan '!D54","v":"2018-08-02"},{"$f":"'shaladarpan '!E54","v":"manjeet53"},{"$f":"'shaladarpan '!F54","v":"00:00:00"},{"$f":"'shaladarpan '!G54","v":"vijay53"},{"$f":"'shaladarpan '!H54","v":"beautiful53"},{"$f":"'shaladarpan '!I54","v":"F"},{"$f":"'shaladarpan '!J54","v":"2013-06-28"},{"$f":"'shaladarpan '!K54","v":"yes"},{"$f":"'shaladarpan '!L54","v":53},{"$f":"'shaladarpan '!M54","v":0},{"$f":"'shaladarpan '!N54","v":0},{"$f":"'shaladarpan '!O54","v":"OBC"},{"$f":"'shaladarpan '!P54","v":"Muslim"},{"$f":"'shaladarpan '!Q54","v":0},{"$f":"'shaladarpan '!R54","v":"GOVT. SENIOR SECONDARY SCHOOL ALNIYAWAS (219445)"},{"$f":"'shaladarpan '!S54","v":8140200308},{"$f":"'shaladarpan '!T54","v":"XXXX7614"},{"$f":"'shaladarpan '!U54","v":0},{"$f":"'shaladarpan '!V54","v":9828120749},{"$f":"'shaladarpan '!W54","v":"alniyawas53"},{"$f":"'shaladarpan '!X54","v":40000},{"$f":"'shaladarpan '!Y54","v":"N"},{"$f":"'shaladarpan '!Z54","v":"N"},{"$f":"'shaladarpan '!AA54","v":"Yes"},{"$f":"'shaladarpan '!AB54","v":7},{"$f":"'shaladarpan '!AC54","v":"None"},{"$f":"'shaladarpan '!AD54","v":0}]
[{"$f":"IF(F56=\" \",\" \",ROWS($A$3:A56))","v":54},{"$f":"'shaladarpan '!A55","v":3},{"$f":"'shaladarpan '!B55","v":"A"},{"$f":"'shaladarpan '!C55","v":4591},{"$f":"'shaladarpan '!D55","v":"2018-07-21"},{"$f":"'shaladarpan '!E55","v":"manjeet54"},{"$f":"'shaladarpan '!F55","v":"00:00:00"},{"$f":"'shaladarpan '!G55","v":"vijay54"},{"$f":"'shaladarpan '!H55","v":"beautiful54"},{"$f":"'shaladarpan '!I55","v":"F"},{"$f":"'shaladarpan '!J55","v":"2013-02-21"},{"$f":"'shaladarpan '!K55","v":"no"},{"$f":"'shaladarpan '!L55","v":54},{"$f":"'shaladarpan '!M55","v":0},{"$f":"'shaladarpan '!N55","v":0},{"$f":"'shaladarpan '!O55","v":"OBC"},{"$f":"'shaladarpan '!P55","v":"Muslim"},{"$f":"'shaladarpan '!Q55","v":0},{"$f":"'shaladarpan '!R55","v":"GOVT. SENIOR SECONDARY SCHOOL ALNIYAWAS (219445)"},{"$f":"'shaladarpan '!S55","v":8140200308},{"$f":"'shaladarpan '!T55","v":0},{"$f":"'shaladarpan '!U55","v":0},{"$f":"'shaladarpan '!V55","v":9828120750},{"$f":"'shaladarpan '!W55","v":"alniyawas54"},{"$f":"'shaladarpan '!X55","v":40000},{"$f":"'shaladarpan '!Y55","v":"N"},{"$f":"'shaladarpan '!Z55","v":"N"},{"$f":"'shaladarpan '!AA55","v":"Yes"},{"$f":"'shaladarpan '!AB55","v":7},{"$f":"'shaladarpan '!AC55","v":"None"},{"$f":"'shaladarpan '!AD55","v":0}]
[{"$f":"IF(F57=\" \",\" \",ROWS($A$3:A57))","v":55},{"$f":"'shaladarpan '!A56","v":3},{"$f":"'shaladarpan '!B56","v":"A"},{"$f":"'shaladarpan '!C56","v":4520},{"$f":"'shaladarpan '!D56","v":"2018-07-07"},{"$f":"'shaladarpan '!E56","v":"manjeet55"},{"$f":"'shaladarpan '!F56","v":"00:00:00"},{"$f":"'shaladarpan '!G56","v":"vijay55"},{"$f":"'shaladarpan '!H56","v":"beautiful55"},{"$f":"'shaladarpan '!I56","v":"F"},{"$f":"'shaladarpan '!J56","v":"2013-10-01"},{"$f":"'shaladarpan '!K56","v":"yes"},{"$f":"'shaladarpan '!L56","v":55},{"$f":"'shaladarpan '!M56","v":0},{"$f":"'shaladarpan '!N56","v":0},{"$f":"'shaladarpan '!O56","v":"OBC"},{"$f":"'shaladarpan '!P56","v":"Muslim"},{"$f":"'shaladarpan '!Q56","v":0},{"$f":"'shaladarpan '!R56","v":"GOVT. SENIOR SECONDARY SCHOOL ALNIYAWAS (219445)"},{"$f":"'shaladarpan '!S56","v":8140200308},{"$f":"'shaladarpan '!T56","v":"XXXX9420"},{"$f":"'shaladarpan '!U56","v":"VONSWJT"},{"$f":"'shaladarpan '!V56","v":9828120751},{"$f":"'shaladarpan '!W56","v":"alniyawas55"},{"$f":"'shaladarpan '!X56","v":40000},{"$f":"'shaladarpan '!Y56","v":"N"},{"$f":"'shaladarpan '!Z56","v":"N"},{"$f":"'shaladarpan '!AA56","v":"Yes"},{"$f":"'shaladarpan '!AB56","v":7},{"$f":"'shaladarpan '!AC56","v":"None"},{"$f":"'shaladarpan '!AD56","v":0}]
[{"$f":"IF(F58=\" \",\" \",ROWS($A$3:A58))","v":56},{"$f":"'shaladarpan '!A57","v":3},{"$f":"'shaladarpan '!B57","v":"A"},{"$f":"'shaladarpan '!C57","v":4480},{"$f":"'shaladarpan '!D57","v":"2018-07-04"},{"$f":"'shaladarpan '!E57","v":"manjeet56"},{"$f":"'shaladarpan '!F57","v":"00:00:00"},{"$f":"'shaladarpan '!G57","v":"vijay56"},{"$f":"'shaladarpan '!H57","v":"beautiful56"},{"$f":"'shaladarpan '!I57","v":"F"},{"$f":"'shaladarpan '!J57","v":"2012-11-03"},{"$f":"'shaladarpan '!K57","v":"yes"},{"$f":"'shaladarpan '!L57","v":56},{"$f":"'shaladarpan '!M57","v":0},{"$f":"'shaladarpan '!N57","v":0},{"$f":"'shaladarpan '!O57","v":"SC"},{"$f":"'shaladarpan '!P57","v":"Hindu"},{"$f":"'shaladarpan '!Q57","v":0},{"$f":"'shaladarpan '!R57","v":"GOVT. SENIOR SECONDARY SCHOOL ALNIYAWAS (219445)"},{"$f":"'shaladarpan '!S57","v":8140200308},{"$f":"'shaladarpan '!T57","v":0},{"$f":"'shaladarpan '!U57","v":0},{"$f":"'shaladarpan '!V57","v":9828120752},{"$f":"'shaladarpan '!W57","v":"alniyawas56"},{"$f":"'shaladarpan '!X57","v":40000},{"$f":"'shaladarpan '!Y57","v":"N"},{"$f":"'shaladarpan '!Z57","v":"N"},{"$f":"'shaladarpan '!AA57","v":"No"},{"$f":"'shaladarpan '!AB57","v":8},{"$f":"'shaladarpan '!AC57","v":"None"},{"$f":"'shaladarpan '!AD57","v":1}]
[{"$f":"IF(F59=\" \",\" \",ROWS($A$3:A59))","v":57},{"$f":"'shaladarpan '!A58","v":3},{"$f":"'shaladarpan '!B58","v":"A"},{"$f":"'shaladarpan '!C58","v":4856},{"$f":"'shaladarpan '!D58","v":"00:00:00"},{"$f":"'shaladarpan '!E58","v":"manjeet57"},{"$f":"'shaladarpan '!F58","v":"00:00:00"},{"$f":"'shaladarpan '!G58","v":"vijay57"},{"$f":"'shaladarpan '!H58","v":"beautiful57"},{"$f":"'shaladarpan '!I58","v":"M"},{"$f":"'shaladarpan '!J58","v":"2010-07-03"},{"$f":"'shaladarpan '!K58","v":"no"},{"$f":"'shaladarpan '!L58","v":57},{"$f":"'shaladarpan '!M58","v":0},{"$f":"'shaladarpan '!N58","v":0},{"$f":"'shaladarpan '!O58","v":"GEN"},{"$f":"'shaladarpan '!P58","v":0},{"$f":"'shaladarpan '!Q58","v":0},{"$f":"'shaladarpan '!R58","v":"GOVT. SENIOR SECONDARY SCHOOL ALNIYAWAS (219445)"},{"$f":"'shaladarpan '!S58","v":8140200308},{"$f":"'shaladarpan '!T58","v":0},{"$f":"'shaladarpan '!U58","v":0},{"$f":"'shaladarpan '!V58","v":9828120753},{"$f":"'shaladarpan '!W58","v":"alniyawas57"},{"$f":"'shaladarpan '!X58","v":0},{"$f":"'shaladarpan '!Y58","v":"N"},{"$f":"'shaladarpan '!Z58","v":"Y"},{"$f":"'shaladarpan '!AA58","v":0},{"$f":"'shaladarpan '!AB58","v":10},{"$f":"'shaladarpan '!AC58","v":0},{"$f":"'shaladarpan '!AD58","v":1}]
[{"$f":"IF(F60=\" \",\" \",ROWS($A$3:A60))","v":58},{"$f":"'shaladarpan '!A59","v":3},{"$f":"'shaladarpan '!B59","v":"A"},{"$f":"'shaladarpan '!C59","v":4499},{"$f":"'shaladarpan '!D59","v":"2018-07-05"},{"$f":"'shaladarpan '!E59","v":"manjeet58"},{"$f":"'shaladarpan '!F59","v":"00:00:00"},{"$f":"'shaladarpan '!G59","v":"vijay58"},{"$f":"'shaladarpan '!H59","v":"beautiful58"},{"$f":"'shaladarpan '!I59","v":"M"},{"$f":"'shaladarpan '!J59","v":"2010-12-11"},{"$f":"'shaladarpan '!K59","v":"yes"},{"$f":"'shaladarpan '!L59","v":58},{"$f":"'shaladarpan '!M59","v":0},{"$f":"'shaladarpan '!N59","v":0},{"$f":"'shaladarpan '!O59","v":"OBC"},{"$f":"'shaladarpan '!P59","v":"Muslim"},{"$f":"'shaladarpan '!Q59","v":0},{"$f":"'shaladarpan '!R59","v":"GOVT. SENIOR SECONDARY SCHOOL ALNIYAWAS (219445)"},{"$f":"'shaladarpan '!S59","v":8140200308},{"$f":"'shaladarpan '!T59","v":"XXXX0260"},{"$f":"'shaladarpan '!U59","v":0},{"$f":"'shaladarpan '!V59","v":9828120754},{"$f":"'shaladarpan '!W59","v":"alniyawas58"},{"$f":"'shaladarpan '!X59","v":40000},{"$f":"'shaladarpan '!Y59","v":"N"},{"$f":"'shaladarpan '!Z59","v":"N"},{"$f":"'shaladarpan '!AA59","v":"Yes"},{"$f":"'shaladarpan '!AB59","v":10},{"$f":"'shaladarpan '!AC59","v":"None"},{"$f":"'shaladarpan '!AD59","v":1}]
[{"$f":"IF(F61=\" \",\" \",ROWS($A$3:A61))","v":59},{"$f":"'shaladarpan '!A60","v":3},{"$f":"'shaladarpan '!B60","v":"A"},{"$f":"'shaladarpan '!C60","v":4622},{"$f":"'shaladarpan '!D60","v":"2018-09-24"},{"$f":"'shaladarpan '!E60","v":"manjeet59"},{"$f":"'shaladarpan '!F60","v":"00:00:00"},{"$f":"'shaladarpan '!G60","v":"vijay59"},{"$f":"'shaladarpan '!H60","v":"beautiful59"},{"$f":"'shaladarpan '!I60","v":"M"},{"$f":"'shaladarpan '!J60","v":"2012-01-07"},{"$f":"'shaladarpan '!K60","v":"yes"},{"$f":"'shaladarpan '!L60","v":59},{"$f":"'shaladarpan '!M60","v":0},{"$f":"'shaladarpan '!N60","v":0},{"$f":"'shaladarpan '!O60","v":"OBC"},{"$f":"'shaladarpan '!P60","v":"Muslim"},{"$f":"'shaladarpan '!Q60","v":0},{"$f":"'shaladarpan '!R60","v":"GOVT. SENIOR SECONDARY SCHOOL ALNIYAWAS (219445)"},{"$f":"'shaladarpan '!S60","v":8140200308},{"$f":"'shaladarpan '!T60","v":"XXXX9555"},{"$f":"'shaladarpan '!U60","v":"yqqmbcw"},{"$f":"'shaladarpan '!V60","v":9828120755},{"$f":"'shaladarpan '!W60","v":"alniyawas59"},{"$f":"'shaladarpan '!X60","v":36000},{"$f":"'shaladarpan '!Y60","v":"N"},{"$f":"'shaladarpan '!Z60","v":"N"},{"$f":"'shaladarpan '!AA60","v":"Yes"},{"$f":"'shaladarpan '!AB60","v":8},{"$f":"'shaladarpan '!AC60","v":"None"},{"$f":"'shaladarpan '!AD60","v":0}]
[{"$f":"IF(F62=\" \",\" \",ROWS($A$3:A62))","v":60},{"$f":"'shaladarpan '!A61","v":3},{"$f":"'shaladarpan '!B61","v":"A"},{"$f":"'shaladarpan '!C61","v":4537},{"$f":"'shaladarpan '!D61","v":"2018-07-10"},{"$f":"'shaladarpan '!E61","v":"manjeet60"},{"$f":"'shaladarpan '!F61","v":"00:00:00"},{"$f":"'shaladarpan '!G61","v":"vijay60"},{"$f":"'shaladarpan '!H61","v":"beautiful60"},{"$f":"'shaladarpan '!I61","v":"M"},{"$f":"'shaladarpan '!J61","v":"2013-06-14"},{"$f":"'shaladarpan '!K61","v":"no"},{"$f":"'shaladarpan '!L61","v":60},{"$f":"'shaladarpan '!M61","v":0},{"$f":"'shaladarpan '!N61","v":0},{"$f":"'shaladarpan '!O61","v":"OBC"},{"$f":"'shaladarpan '!P61","v":"Hindu"},{"$f":"'shaladarpan '!Q61","v":0},{"$f":"'shaladarpan '!R61","v":"GOVT. SENIOR SECONDARY SCHOOL ALNIYAWAS (219445)"},{"$f":"'shaladarpan '!S61","v":8140200308},{"$f":"'shaladarpan '!T61","v":"XXXX6106"},{"$f":"'shaladarpan '!U61","v":0},{"$f":"'shaladarpan '!V61","v":9828120756},{"$f":"'shaladarpan '!W61","v":"alniyawas60"},{"$f":"'shaladarpan '!X61","v":36000},{"$f":"'shaladarpan '!Y61","v":"N"},{"$f":"'shaladarpan '!Z61","v":"N"},{"$f":"'shaladarpan '!AA61","v":"No"},{"$f":"'shaladarpan '!AB61","v":7},{"$f":"'shaladarpan '!AC61","v":"None"},{"$f":"'shaladarpan '!AD61","v":1}]
[{"$f":"IF(F63=\" \",\" \",ROWS($A$3:A63))","v":61},{"$f":"'shaladarpan '!A62","v":3},{"$f":"'shaladarpan '!B62","v":"A"},{"$f":"'shaladarpan '!C62","v":4565},{"$f":"'shaladarpan '!D62","v":"2018-07-14"},{"$f":"'shaladarpan '!E62","v":"manjeet61"},{"$f":"'shaladarpan '!F62","v":"00:00:00"},{"$f":"'shaladarpan '!G62","v":"vijay61"},{"$f":"'shaladarpan '!H62","v":"beautiful61"},{"$f":"'shaladarpan '!I62","v":"M"},{"$f":"'shaladarpan '!J62","v":"2012-09-28"},{"$f":"'shaladarpan '!K62","v":"yes"},{"$f":"'shaladarpan '!L62","v":61},{"$f":"'shaladarpan '!M62","v":0},{"$f":"'shaladarpan '!N62","v":0},{"$f":"'shaladarpan '!O62","v":"SC"},{"$f":"'shaladarpan '!P62","v":"Hindu"},{"$f":"'shaladarpan '!Q62","v":0},{"$f":"'shaladarpan '!R62","v":"GOVT. SENIOR SECONDARY SCHOOL ALNIYAWAS (219445)"},{"$f":"'shaladarpan '!S62","v":8140200308},{"$f":"'shaladarpan '!T62","v":0},{"$f":"'shaladarpan '!U62","v":0},{"$f":"'shaladarpan '!V62","v":9828120757},{"$f":"'shaladarpan '!W62","v":"alniyawas61"},{"$f":"'shaladarpan '!X62","v":36000},{"$f":"'shaladarpan '!Y62","v":"N"},{"$f":"'shaladarpan '!Z62","v":"N"},{"$f":"'shaladarpan '!AA62","v":"No"},{"$f":"'shaladarpan '!AB62","v":8},{"$f":"'shaladarpan '!AC62","v":"None"},{"$f":"'shaladarpan '!AD62","v":1}]
[{"$f":"IF(F64=\" \",\" \",ROWS($A$3:A64))","v":62},{"$f":"'shaladarpan '!A63","v":3},{"$f":"'shaladarpan '!B63","v":"A"},{"$f":"'shaladarpan '!C63","v":4474},{"$f":"'shaladarpan '!D63","v":"2018-07-04"},{"$f":"'shaladarpan '!E63","v":"manjeet62"},{"$f":"'shaladarpan '!F63","v":"00:00:00"},{"$f":"'shaladarpan '!G63","v":"vijay62"},{"$f":"'shaladarpan '!H63","v":"beautiful62"},{"$f":"'shaladarpan '!I63","v":"F"},{"$f":"'shaladarpan '!J63","v":"2013-04-26"},{"$f":"'shaladarpan '!K63","v":"yes"},{"$f":"'shaladarpan '!L63","v":62},{"$f":"'shaladarpan '!M63","v":0},{"$f":"'shaladarpan '!N63","v":0},{"$f":"'shaladarpan '!O63","v":"OBC"},{"$f":"'shaladarpan '!P63","v":"Muslim"},{"$f":"'shaladarpan '!Q63","v":0},{"$f":"'shaladarpan '!R63","v":"GOVT. SENIOR SECONDARY SCHOOL ALNIYAWAS (219445)"},{"$f":"'shaladarpan '!S63","v":8140200308},{"$f":"'shaladarpan '!T63","v":"XXXX2246"},{"$f":"'shaladarpan '!U63","v":0},{"$f":"'shaladarpan '!V63","v":9828120758},{"$f":"'shaladarpan '!W63","v":"alniyawas62"},{"$f":"'shaladarpan '!X63","v":30000},{"$f":"'shaladarpan '!Y63","v":"N"},{"$f":"'shaladarpan '!Z63","v":"N"},{"$f":"'shaladarpan '!AA63","v":"Yes"},{"$f":"'shaladarpan '!AB63","v":7},{"$f":"'shaladarpan '!AC63","v":"None"},{"$f":"'shaladarpan '!AD63","v":0}]
[{"$f":"IF(F65=\" \",\" \",ROWS($A$3:A65))","v":63},{"$f":"'shaladarpan '!A64","v":3},{"$f":"'shaladarpan '!B64","v":"A"},{"$f":"'shaladarpan '!C64","v":4478},{"$f":"'shaladarpan '!D64","v":"2018-07-04"},{"$f":"'shaladarpan '!E64","v":"manjeet63"},{"$f":"'shaladarpan '!F64","v":"00:00:00"},{"$f":"'shaladarpan '!G64","v":"vijay63"},{"$f":"'shaladarpan '!H64","v":"beautiful63"},{"$f":"'shaladarpan '!I64","v":"F"},{"$f":"'shaladarpan '!J64","v":"2012-09-06"},{"$f":"'shaladarpan '!K64","v":"no"},{"$f":"'shaladarpan '!L64","v":63},{"$f":"'shaladarpan '!M64","v":0},{"$f":"'shaladarpan '!N64","v":0},{"$f":"'shaladarpan '!O64","v":"OBC"},{"$f":"'shaladarpan '!P64","v":"Hindu"},{"$f":"'shaladarpan '!Q64","v":0},{"$f":"'shaladarpan '!R64","v":"GOVT. SENIOR SECONDARY SCHOOL ALNIYAWAS (219445)"},{"$f":"'shaladarpan '!S64","v":8140200308},{"$f":"'shaladarpan '!T64","v":"XXXX0646"},{"$f":"'shaladarpan '!U64","v":"vxkbntn"},{"$f":"'shaladarpan '!V64","v":9828120759},{"$f":"'shaladarpan '!W64","v":"alniyawas63"},{"$f":"'shaladarpan '!X64","v":50000},{"$f":"'shaladarpan '!Y64","v":"N"},{"$f":"'shaladarpan '!Z64","v":"N"},{"$f":"'shaladarpan '!AA64","v":"No"},{"$f":"'shaladarpan '!AB64","v":8},{"$f":"'shaladarpan '!AC64","v":"None"},{"$f":"'shaladarpan '!AD64","v":0}]
[{"$f":"IF(F66=\" \",\" \",ROWS($A$3:A66))","v":64},{"$f":"'shaladarpan '!A65","v":3},{"$f":"'shaladarpan '!B65","v":"A"},{"$f":"'shaladarpan '!C65","v":4727},{"$f":"'shaladarpan '!D65","v":"2019-07-13"},{"$f":"'shaladarpan '!E65","v":"manjeet64"},{"$f":"'shaladarpan '!F65","v":"00:00:00"},{"$f":"'shaladarpan '!G65","v":"vijay64"},{"$f":"'shaladarpan '!H65","v":"beautiful64"},{"$f":"'shaladarpan '!I65","v":"F"},{"$f":"'shaladarpan '!J65","v":"2013-01-07"},{"$f":"'shaladarpan '!K65","v":"yes"},{"$f":"'shaladarpan '!L65","v":64},{"$f":"'shaladarpan '!M65","v":0},{"$f":"'shaladarpan '!N65","v":0},{"$f":"'shaladarpan '!O65","v":"OBC"},{"$f":"'shaladarpan '!P65","v":"Hindu"},{"$f":"'shaladarpan '!Q65","v":0},{"$f":"'shaladarpan '!R65","v":"GOVT. SENIOR SECONDARY SCHOOL ALNIYAWAS (219445)"},{"$f":"'shaladarpan '!S65","v":8140200308},{"$f":"'shaladarpan '!T65","v":0},{"$f":"'shaladarpan '!U65","v":0},{"$f":"'shaladarpan '!V65","v":9828120760},{"$f":"'shaladarpan '!W65","v":"alniyawas64"},{"$f":"'shaladarpan '!X65","v":60000},{"$f":"'shaladarpan '!Y65","v":"N"},{"$f":"'shaladarpan '!Z65","v":"N"},{"$f":"'shaladarpan '!AA65","v":"No"},{"$f":"'shaladarpan '!AB65","v":7},{"$f":"'shaladarpan '!AC65","v":"None"},{"$f":"'shaladarpan '!AD65","v":0}]
[{"$f":"IF(F67=\" \",\" \",ROWS($A$3:A67))","v":65},{"$f":"'shaladarpan '!A66","v":3},{"$f":"'shaladarpan '!B66","v":"A"},{"$f":"'shaladarpan '!C66","v":4601},{"$f":"'shaladarpan '!D66","v":"2018-07-26"},{"$f":"'shaladarpan '!E66","v":"manjeet65"},{"$f":"'shaladarpan '!F66","v":"00:00:00"},{"$f":"'shaladarpan '!G66","v":"vijay65"},{"$f":"'shaladarpan '!H66","v":"beautiful65"},{"$f":"'shaladarpan '!I66","v":"F"},{"$f":"'shaladarpan '!J66","v":"2012-06-05"},{"$f":"'shaladarpan '!K66","v":"yes"},{"$f":"'shaladarpan '!L66","v":65},{"$f":"'shaladarpan '!M66","v":0},{"$f":"'shaladarpan '!N66","v":0},{"$f":"'shaladarpan '!O66","v":"OBC"},{"$f":"'shaladarpan '!P66","v":"Hindu"},{"$f":"'shaladarpan '!Q66","v":0},{"$f":"'shaladarpan '!R66","v":"GOVT. SENIOR SECONDARY SCHOOL ALNIYAWAS (219445)"},{"$f":"'shaladarpan '!S66","v":8140200308},{"$f":"'shaladarpan '!T66","v":0},{"$f":"'shaladarpan '!U66","v":0},{"$f":"'shaladarpan '!V66","v":9828120761},{"$f":"'shaladarpan '!W66","v":"alniyawas65"},{"$f":"'shaladarpan '!X66","v":36000},{"$f":"'shaladarpan '!Y66","v":"N"},{"$f":"'shaladarpan '!Z66","v":"N"},{"$f":"'shaladarpan '!AA66","v":"No"},{"$f":"'shaladarpan '!AB66","v":8},{"$f":"'shaladarpan '!AC66","v":"None"},{"$f":"'shaladarpan '!AD66","v":0}]
[{"$f":"IF(F68=\" \",\" \",ROWS($A$3:A68))","v":66},{"$f":"'shaladarpan '!A67","v":3},{"$f":"'shaladarpan '!B67","v":"A"},{"$f":"'shaladarpan '!C67","v":4521},{"$f":"'shaladarpan '!D67","v":"2018-07-07"},{"$f":"'shaladarpan '!E67","v":"manjeet66"},{"$f":"'shaladarpan '!F67","v":"00:00:00"},{"$f":"'shaladarpan '!G67","v":"vijay66"},{"$f":"'shaladarpan '!H67","v":"beautiful66"},{"$f":"'shaladarpan '!I67","v":"M"},{"$f":"'shaladarpan '!J67","v":"2013-05-29"},{"$f":"'shaladarpan '!K67","v":"no"},{"$f":"'shaladarpan '!L67","v":66},{"$f":"'shaladarpan '!M67","v":0},{"$f":"'shaladarpan '!N67","v":0},{"$f":"'shaladarpan '!O67","v":"OBC"},{"$f":"'shaladarpan '!P67","v":"Muslim"},{"$f":"'shaladarpan '!Q67","v":0},{"$f":"'shaladarpan '!R67","v":"GOVT. SENIOR SECONDARY SCHOOL ALNIYAWAS (219445)"},{"$f":"'shaladarpan '!S67","v":8140200308},{"$f":"'shaladarpan '!T67","v":"XXXX1195"},{"$f":"'shaladarpan '!U67","v":"YQGYEBS"},{"$f":"'shaladarpan '!V67","v":9828120762},{"$f":"'shaladarpan '!W67","v":"alniyawas66"},{"$f":"'shaladarpan '!X67","v":40000},{"$f":"'shaladarpan '!Y67","v":"N"},{"$f":"'shaladarpan '!Z67","v":"N"},{"$f":"'shaladarpan '!AA67","v":"Yes"},{"$f":"'shaladarpan '!AB67","v":7},{"$f":"'shaladarpan '!AC67","v":"None"},{"$f":"'shaladarpan '!AD67","v":0}]
[{"$f":"IF(F69=\" \",\" \",ROWS($A$3:A69))","v":67},{"$f":"'shaladarpan '!A68","v":3},{"$f":"'shaladarpan '!B68","v":"A"},{"$f":"'shaladarpan '!C68","v":4473},{"$f":"'shaladarpan '!D68","v":"2018-07-04"},{"$f":"'shaladarpan '!E68","v":"manjeet67"},{"$f":"'shaladarpan '!F68","v":"00:00:00"},{"$f":"'shaladarpan '!G68","v":"vijay67"},{"$f":"'shaladarpan '!H68","v":"beautiful67"},{"$f":"'shaladarpan '!I68","v":"M"},{"$f":"'shaladarpan '!J68","v":"2012-01-01"},{"$f":"'shaladarpan '!K68","v":"yes"},{"$f":"'shaladarpan '!L68","v":67},{"$f":"'shaladarpan '!M68","v":0},{"$f":"'shaladarpan '!N68","v":0},{"$f":"'shaladarpan '!O68","v":"OBC"},{"$f":"'shaladarpan '!P68","v":"Muslim"},{"$f":"'shaladarpan '!Q68","v":0},{"$f":"'shaladarpan '!R68","v":"GOVT. SENIOR SECONDARY SCHOOL ALNIYAWAS (219445)"},{"$f":"'shaladarpan '!S68","v":8140200308},{"$f":"'shaladarpan '!T68","v":0},{"$f":"'shaladarpan '!U68","v":"VWSPONV"},{"$f":"'shaladarpan '!V68","v":9828120763},{"$f":"'shaladarpan '!W68","v":"alniyawas67"},{"$f":"'shaladarpan '!X68","v":40000},{"$f":"'shaladarpan '!Y68","v":"N"},{"$f":"'shaladarpan '!Z68","v":"N"},{"$f":"'shaladarpan '!AA68","v":"Yes"},{"$f":"'shaladarpan '!AB68","v":8},{"$f":"'shaladarpan '!AC68","v":"None"},{"$f":"'shaladarpan '!AD68","v":1}]
[{"$f":"IF(F70=\" \",\" \",ROWS($A$3:A70))","v":68},{"$f":"'shaladarpan '!A69","v":3},{"$f":"'shaladarpan '!B69","v":"A"},{"$f":"'shaladarpan '!C69","v":4475},{"$f":"'shaladarpan '!D69","v":"2018-07-04"},{"$f":"'shaladarpan '!E69","v":"manjeet68"},{"$f":"'shaladarpan '!F69","v":"00:00:00"},{"$f":"'shaladarpan '!G69","v":"vijay68"},{"$f":"'shaladarpan '!H69","v":"beautiful68"},{"$f":"'shaladarpan '!I69","v":"F"},{"$f":"'shaladarpan '!J69","v":"2012-11-10"},{"$f":"'shaladarpan '!K69","v":"yes"},{"$f":"'shaladarpan '!L69","v":68},{"$f":"'shaladarpan '!M69","v":0},{"$f":"'shaladarpan '!N69","v":0},{"$f":"'shaladarpan '!O69","v":"OBC"},{"$f":"'shaladarpan '!P69","v":"Muslim"},{"$f":"'shaladarpan '!Q69","v":0},{"$f":"'shaladarpan '!R69","v":"GOVT. SENIOR SECONDARY SCHOOL ALNIYAWAS (219445)"},{"$f":"'shaladarpan '!S69","v":8140200308},{"$f":"'shaladarpan '!T69","v":0},{"$f":"'shaladarpan '!U69","v":0},{"$f":"'shaladarpan '!V69","v":9828120764},{"$f":"'shaladarpan '!W69","v":"alniyawas68"},{"$f":"'shaladarpan '!X69","v":40000},{"$f":"'shaladarpan '!Y69","v":"N"},{"$f":"'shaladarpan '!Z69","v":"N"},{"$f":"'shaladarpan '!AA69","v":"Yes"},{"$f":"'shaladarpan '!AB69","v":8},{"$f":"'shaladarpan '!AC69","v":"None"},{"$f":"'shaladarpan '!AD69","v":0}]
[{"$f":"IF(F71=\" \",\" \",ROWS($A$3:A71))","v":69},{"$f":"'shaladarpan '!A70","v":3},{"$f":"'shaladarpan '!B70","v":"A"},{"$f":"'shaladarpan '!C70","v":4611},{"$f":"'shaladarpan '!D70","v":"2018-08-07"},{"$f":"'shaladarpan '!E70","v":"manjeet69"},{"$f":"'shaladarpan '!F70","v":"00:00:00"},{"$f":"'shaladarpan '!G70","v":"vijay69"},{"$f":"'shaladarpan '!H70","v":"beautiful69"},{"$f":"'shaladarpan '!I70","v":"F"},{"$f":"'shaladarpan '!J70","v":"2012-07-07"},{"$f":"'shaladarpan '!K70","v":"no"},{"$f":"'shaladarpan '!L70","v":69},{"$f":"'shaladarpan '!M70","v":0},{"$f":"'shaladarpan '!N70","v":0},{"$f":"'shaladarpan '!O70","v":"OBC"},{"$f":"'shaladarpan '!P70","v":"Muslim"},{"$f":"'shaladarpan '!Q70","v":0},{"$f":"'shaladarpan '!R70","v":"GOVT. SENIOR SECONDARY SCHOOL ALNIYAWAS (219445)"},{"$f":"'shaladarpan '!S70","v":8140200308},{"$f":"'shaladarpan '!T70","v":"XXXX3442"},{"$f":"'shaladarpan '!U70","v":"YMKQMYO"},{"$f":"'shaladarpan '!V70","v":9828120765},{"$f":"'shaladarpan '!W70","v":"alniyawas69"},{"$f":"'shaladarpan '!X70","v":40000},{"$f":"'shaladarpan '!Y70","v":"N"},{"$f":"'shaladarpan '!Z70","v":"N"},{"$f":"'shaladarpan '!AA70","v":"Yes"},{"$f":"'shaladarpan '!AB70","v":8},{"$f":"'shaladarpan '!AC70","v":"None"},{"$f":"'shaladarpan '!AD70","v":0}]
[{"$f":"IF(F72=\" \",\" \",ROWS($A$3:A72))","v":70},{"$f":"'shaladarpan '!A71","v":3},{"$f":"'shaladarpan '!B71","v":"A"},{"$f":"'shaladarpan '!C71","v":4694},{"$f":"'shaladarpan '!D71","v":"2019-07-10"},{"$f":"'shaladarpan '!E71","v":"manjeet70"},{"$f":"'shaladarpan '!F71","v":"00:00:00"},{"$f":"'shaladarpan '!G71","v":"vijay70"},{"$f":"'shaladarpan '!H71","v":"beautiful70"},{"$f":"'shaladarpan '!I71","v":"M"},{"$f":"'shaladarpan '!J71","v":"2010-06-07"},{"$f":"'shaladarpan '!K71","v":"yes"},{"$f":"'shaladarpan '!L71","v":70},{"$f":"'shaladarpan '!M71","v":0},{"$f":"'shaladarpan '!N71","v":0},{"$f":"'shaladarpan '!O71","v":"OBC"},{"$f":"'shaladarpan '!P71","v":"Muslim"},{"$f":"'shaladarpan '!Q71","v":0},{"$f":"'shaladarpan '!R71","v":"GOVT. SENIOR SECONDARY SCHOOL ALNIYAWAS (219445)"},{"$f":"'shaladarpan '!S71","v":8140200308},{"$f":"'shaladarpan '!T71","v":0},{"$f":"'shaladarpan '!U71","v":0},{"$f":"'shaladarpan '!V71","v":9828120766},{"$f":"'shaladarpan '!W71","v":"alniyawas70"},{"$f":"'shaladarpan '!X71","v":60000},{"$f":"'shaladarpan '!Y71","v":"N"},{"$f":"'shaladarpan '!Z71","v":"N"},{"$f":"'shaladarpan '!AA71","v":"Yes"},{"$f":"'shaladarpan '!AB71","v":10},{"$f":"'shaladarpan '!AC71","v":"None"},{"$f":"'shaladarpan '!AD71","v":0}]
[{"$f":"IF(F73=\" \",\" \",ROWS($A$3:A73))","v":71},{"$f":"'shaladarpan '!A72","v":3},{"$f":"'shaladarpan '!B72","v":"A"},{"$f":"'shaladarpan '!C72","v":4527},{"$f":"'shaladarpan '!D72","v":"2018-07-07"},{"$f":"'shaladarpan '!E72","v":"manjeet71"},{"$f":"'shaladarpan '!F72","v":"00:00:00"},{"$f":"'shaladarpan '!G72","v":"vijay71"},{"$f":"'shaladarpan '!H72","v":"beautiful71"},{"$f":"'shaladarpan '!I72","v":"M"},{"$f":"'shaladarpan '!J72","v":"2013-06-28"},{"$f":"'shaladarpan '!K72","v":"yes"},{"$f":"'shaladarpan '!L72","v":71},{"$f":"'shaladarpan '!M72","v":0},{"$f":"'shaladarpan '!N72","v":0},{"$f":"'shaladarpan '!O72","v":"OBC"},{"$f":"'shaladarpan '!P72","v":"Muslim"},{"$f":"'shaladarpan '!Q72","v":0},{"$f":"'shaladarpan '!R72","v":"GOVT. SENIOR SECONDARY SCHOOL ALNIYAWAS (219445)"},{"$f":"'shaladarpan '!S72","v":8140200308},{"$f":"'shaladarpan '!T72","v":0},{"$f":"'shaladarpan '!U72","v":"VPGZNOJ"},{"$f":"'shaladarpan '!V72","v":9828120767},{"$f":"'shaladarpan '!W72","v":"alniyawas71"},{"$f":"'shaladarpan '!X72","v":40000},{"$f":"'shaladarpan '!Y72","v":"N"},{"$f":"'shaladarpan '!Z72","v":"N"},{"$f":"'shaladarpan '!AA72","v":"Yes"},{"$f":"'shaladarpan '!AB72","v":7},{"$f":"'shaladarpan '!AC72","v":"None"},{"$f":"'shaladarpan '!AD72","v":0}]
[{"$f":"IF(F74=\" \",\" \",ROWS($A$3:A74))","v":72},{"$f":"'shaladarpan '!A73","v":3},{"$f":"'shaladarpan '!B73","v":"A"},{"$f":"'shaladarpan '!C73","v":4538},{"$f":"'shaladarpan '!D73","v":"2018-07-10"},{"$f":"'shaladarpan '!E73","v":"manjeet72"},{"$f":"'shaladarpan '!F73","v":"00:00:00"},{"$f":"'shaladarpan '!G73","v":"vijay72"},{"$f":"'shaladarpan '!H73","v":"beautiful72"},{"$f":"'shaladarpan '!I73","v":"M"},{"$f":"'shaladarpan '!J73","v":"2013-01-01"},{"$f":"'shaladarpan '!K73","v":"no"},{"$f":"'shaladarpan '!L73","v":72},{"$f":"'shaladarpan '!M73","v":0},{"$f":"'shaladarpan '!N73","v":0},{"$f":"'shaladarpan '!O73","v":"OBC"},{"$f":"'shaladarpan '!P73","v":"Hindu"},{"$f":"'shaladarpan '!Q73","v":0},{"$f":"'shaladarpan '!R73","v":"GOVT. SENIOR SECONDARY SCHOOL ALNIYAWAS (219445)"},{"$f":"'shaladarpan '!S73","v":8140200308},{"$f":"'shaladarpan '!T73","v":"XXXX4404"},{"$f":"'shaladarpan '!U73","v":0},{"$f":"'shaladarpan '!V73","v":9828120768},{"$f":"'shaladarpan '!W73","v":"alniyawas72"},{"$f":"'shaladarpan '!X73","v":40000},{"$f":"'shaladarpan '!Y73","v":"N"},{"$f":"'shaladarpan '!Z73","v":"N"},{"$f":"'shaladarpan '!AA73","v":"No"},{"$f":"'shaladarpan '!AB73","v":7},{"$f":"'shaladarpan '!AC73","v":"None"},{"$f":"'shaladarpan '!AD73","v":2}]
[{"$f":"IF(F75=\" \",\" \",ROWS($A$3:A75))","v":73},{"$f":"'shaladarpan '!A74","v":3},{"$f":"'shaladarpan '!B74","v":"A"},{"$f":"'shaladarpan '!C74","v":4497},{"$f":"'shaladarpan '!D74","v":"2018-07-05"},{"$f":"'shaladarpan '!E74","v":"manjeet73"},{"$f":"'shaladarpan '!F74","v":"00:00:00"},{"$f":"'shaladarpan '!G74","v":"vijay73"},{"$f":"'shaladarpan '!H74","v":"beautiful73"},{"$f":"'shaladarpan '!I74","v":"F"},{"$f":"'shaladarpan '!J74","v":"2012-05-07"},{"$f":"'shaladarpan '!K74","v":"yes"},{"$f":"'shaladarpan '!L74","v":73},{"$f":"'shaladarpan '!M74","v":0},{"$f":"'shaladarpan '!N74","v":0},{"$f":"'shaladarpan '!O74","v":"SC"},{"$f":"'shaladarpan '!P74","v":"Muslim"},{"$f":"'shaladarpan '!Q74","v":0},{"$f":"'shaladarpan '!R74","v":"GOVT. SENIOR SECONDARY SCHOOL ALNIYAWAS (219445)"},{"$f":"'shaladarpan '!S74","v":8140200308},{"$f":"'shaladarpan '!T74","v":"XXXX3195"},{"$f":"'shaladarpan '!U74","v":"VBGRPSH"},{"$f":"'shaladarpan '!V74","v":9828120769},{"$f":"'shaladarpan '!W74","v":"alniyawas73"},{"$f":"'shaladarpan '!X74","v":36000},{"$f":"'shaladarpan '!Y74","v":"N"},{"$f":"'shaladarpan '!Z74","v":"N"},{"$f":"'shaladarpan '!AA74","v":"Yes"},{"$f":"'shaladarpan '!AB74","v":8},{"$f":"'shaladarpan '!AC74","v":"None"},{"$f":"'shaladarpan '!AD74","v":1}]
[{"$f":"IF(F76=\" \",\" \",ROWS($A$3:A76))","v":74},{"$f":"'shaladarpan '!A75","v":3},{"$f":"'shaladarpan '!B75","v":"A"},{"$f":"'shaladarpan '!C75","v":4700},{"$f":"'shaladarpan '!D75","v":"2019-07-10"},{"$f":"'shaladarpan '!E75","v":"manjeet74"},{"$f":"'shaladarpan '!F75","v":"00:00:00"},{"$f":"'shaladarpan '!G75","v":"vijay74"},{"$f":"'shaladarpan '!H75","v":"beautiful74"},{"$f":"'shaladarpan '!I75","v":"M"},{"$f":"'shaladarpan '!J75","v":"2012-05-08"},{"$f":"'shaladarpan '!K75","v":"yes"},{"$f":"'shaladarpan '!L75","v":74},{"$f":"'shaladarpan '!M75","v":0},{"$f":"'shaladarpan '!N75","v":0},{"$f":"'shaladarpan '!O75","v":"SC"},{"$f":"'shaladarpan '!P75","v":"Hindu"},{"$f":"'shaladarpan '!Q75","v":0},{"$f":"'shaladarpan '!R75","v":"GOVT. SENIOR SECONDARY SCHOOL ALNIYAWAS (219445)"},{"$f":"'shaladarpan '!S75","v":8140200308},{"$f":"'shaladarpan '!T75","v":0},{"$f":"'shaladarpan '!U75","v":0},{"$f":"'shaladarpan '!V75","v":9828120770},{"$f":"'shaladarpan '!W75","v":"alniyawas74"},{"$f":"'shaladarpan '!X75","v":60000},{"$f":"'shaladarpan '!Y75","v":"N"},{"$f":"'shaladarpan '!Z75","v":"N"},{"$f":"'shaladarpan '!AA75","v":"No"},{"$f":"'shaladarpan '!AB75","v":8},{"$f":"'shaladarpan '!AC75","v":"None"},{"$f":"'shaladarpan '!AD75","v":0}]
[{"$f":"IF(F77=\" \",\" \",ROWS($A$3:A77))","v":75},{"$f":"'shaladarpan '!A76","v":3},{"$f":"'shaladarpan '!B76","v":"A"},{"$f":"'shaladarpan '!C76","v":4691},{"$f":"'shaladarpan '!D76","v":"2019-07-09"},{"$f":"'shaladarpan '!E76","v":"manjeet75"},{"$f":"'shaladarpan '!F76","v":"00:00:00"},{"$f":"'shaladarpan '!G76","v":"vijay75"},{"$f":"'shaladarpan '!H76","v":"beautiful75"},{"$f":"'shaladarpan '!I76","v":"F"},{"$f":"'shaladarpan '!J76","v":"2013-01-21"},{"$f":"'shaladarpan '!K76","v":"no"},{"$f":"'shaladarpan '!L76","v":75},{"$f":"'shaladarpan '!M76","v":0},{"$f":"'shaladarpan '!N76","v":0},{"$f":"'shaladarpan '!O76","v":"SC"},{"$f":"'shaladarpan '!P76","v":"Hindu"},{"$f":"'shaladarpan '!Q76","v":0},{"$f":"'shaladarpan '!R76","v":"GOVT. SENIOR SECONDARY SCHOOL ALNIYAWAS (219445)"},{"$f":"'shaladarpan '!S76","v":8140200308},{"$f":"'shaladarpan '!T76","v":0},{"$f":"'shaladarpan '!U76","v":0},{"$f":"'shaladarpan '!V76","v":9828120771},{"$f":"'shaladarpan '!W76","v":"alniyawas75"},{"$f":"'shaladarpan '!X76","v":60000},{"$f":"'shaladarpan '!Y76","v":"N"},{"$f":"'shaladarpan '!Z76","v":"N"},{"$f":"'shaladarpan '!AA76","v":"No"},{"$f":"'shaladarpan '!AB76","v":7},{"$f":"'shaladarpan '!AC76","v":"None"},{"$f":"'shaladarpan '!AD76","v":1}]
[{"$f":"IF(F78=\" \",\" \",ROWS($A$3:A78))","v":76},{"$f":"'shaladarpan '!A77","v":3},{"$f":"'shaladarpan '!B77","v":"A"},{"$f":"'shaladarpan '!C77","v":4621},{"$f":"'shaladarpan '!D77","v":"2018-09-24"},{"$f":"'shaladarpan '!E77","v":"manjeet76"},{"$f":"'shaladarpan '!F77","v":"00:00:00"},{"$f":"'shaladarpan '!G77","v":"vijay76"},{"$f":"'shaladarpan '!H77","v":"beautiful76"},{"$f":"'shaladarpan '!I77","v":"F"},{"$f":"'shaladarpan '!J77","v":"2012-03-02"},{"$f":"'shaladarpan '!K77","v":"yes"},{"$f":"'shaladarpan '!L77","v":76},{"$f":"'shaladarpan '!M77","v":0},{"$f":"'shaladarpan '!N77","v":0},{"$f":"'shaladarpan '!O77","v":"OBC"},{"$f":"'shaladarpan '!P77","v":"Muslim"},{"$f":"'shaladarpan '!Q77","v":0},{"$f":"'shaladarpan '!R77","v":"GOVT. SENIOR SECONDARY SCHOOL ALNIYAWAS (219445)"},{"$f":"'shaladarpan '!S77","v":8140200308},{"$f":"'shaladarpan '!T77","v":0},{"$f":"'shaladarpan '!U77","v":"YIEUBQF"},{"$f":"'shaladarpan '!V77","v":9828120772},{"$f":"'shaladarpan '!W77","v":"alniyawas76"},{"$f":"'shaladarpan '!X77","v":40000},{"$f":"'shaladarpan '!Y77","v":"N"},{"$f":"'shaladarpan '!Z77","v":"N"},{"$f":"'shaladarpan '!AA77","v":"Yes"},{"$f":"'shaladarpan '!AB77","v":8},{"$f":"'shaladarpan '!AC77","v":"None"},{"$f":"'shaladarpan '!AD77","v":0}]
[{"$f":"IF(F79=\" \",\" \",ROWS($A$3:A79))","v":77},{"$f":"'shaladarpan '!A78","v":3},{"$f":"'shaladarpan '!B78","v":"A"},{"$f":"'shaladarpan '!C78","v":4750},{"$f":"'shaladarpan '!D78","v":"2019-07-17"},{"$f":"'shaladarpan '!E78","v":"manjeet77"},{"$f":"'shaladarpan '!F78","v":"00:00:00"},{"$f":"'shaladarpan '!G78","v":"vijay77"},{"$f":"'shaladarpan '!H78","v":"beautiful77"},{"$f":"'shaladarpan '!I78","v":"M"},{"$f":"'shaladarpan '!J78","v":"2011-11-07"},{"$f":"'shaladarpan '!K78","v":"yes"},{"$f":"'shaladarpan '!L78","v":77},{"$f":"'shaladarpan '!M78","v":0},{"$f":"'shaladarpan '!N78","v":0},{"$f":"'shaladarpan '!O78","v":"SC"},{"$f":"'shaladarpan '!P78","v":"Hindu"},{"$f":"'shaladarpan '!Q78","v":0},{"$f":"'shaladarpan '!R78","v":"GOVT. SENIOR SECONDARY SCHOOL ALNIYAWAS (219445)"},{"$f":"'shaladarpan '!S78","v":8140200308},{"$f":"'shaladarpan '!T78","v":"XXXX9540"},{"$f":"'shaladarpan '!U78","v":0},{"$f":"'shaladarpan '!V78","v":9828120773},{"$f":"'shaladarpan '!W78","v":"alniyawas77"},{"$f":"'shaladarpan '!X78","v":60000},{"$f":"'shaladarpan '!Y78","v":"N"},{"$f":"'shaladarpan '!Z78","v":"N"},{"$f":"'shaladarpan '!AA78","v":"No"},{"$f":"'shaladarpan '!AB78","v":9},{"$f":"'shaladarpan '!AC78","v":"None"},{"$f":"'shaladarpan '!AD78","v":0}]
[{"$f":"IF(F80=\" \",\" \",ROWS($A$3:A80))","v":78},{"$f":"'shaladarpan '!A79","v":3},{"$f":"'shaladarpan '!B79","v":"A"},{"$f":"'shaladarpan '!C79","v":4477},{"$f":"'shaladarpan '!D79","v":"2018-07-04"},{"$f":"'shaladarpan '!E79","v":"manjeet78"},{"$f":"'shaladarpan '!F79","v":"00:00:00"},{"$f":"'shaladarpan '!G79","v":"vijay78"},{"$f":"'shaladarpan '!H79","v":"beautiful78"},{"$f":"'shaladarpan '!I79","v":"M"},{"$f":"'shaladarpan '!J79","v":"2012-11-15"},{"$f":"'shaladarpan '!K79","v":"no"},{"$f":"'shaladarpan '!L79","v":78},{"$f":"'shaladarpan '!M79","v":0},{"$f":"'shaladarpan '!N79","v":0},{"$f":"'shaladarpan '!O79","v":"SC"},{"$f":"'shaladarpan '!P79","v":"Hindu"},{"$f":"'shaladarpan '!Q79","v":0},{"$f":"'shaladarpan '!R79","v":"GOVT. SENIOR SECONDARY SCHOOL ALNIYAWAS (219445)"},{"$f":"'shaladarpan '!S79","v":8140200308},{"$f":"'shaladarpan '!T79","v":"XXXX5557"},{"$f":"'shaladarpan '!U79","v":"YBCQKQK"},{"$f":"'shaladarpan '!V79","v":9828120774},{"$f":"'shaladarpan '!W79","v":"alniyawas78"},{"$f":"'shaladarpan '!X79","v":40000},{"$f":"'shaladarpan '!Y79","v":"N"},{"$f":"'shaladarpan '!Z79","v":"N"},{"$f":"'shaladarpan '!AA79","v":"No"},{"$f":"'shaladarpan '!AB79","v":8},{"$f":"'shaladarpan '!AC79","v":"None"},{"$f":"'shaladarpan '!AD79","v":1}]
[{"$f":"IF(F81=\" \",\" \",ROWS($A$3:A81))","v":79},{"$f":"'shaladarpan '!A80","v":4},{"$f":"'shaladarpan '!B80","v":"A"},{"$f":"'shaladarpan '!C80","v":4367},{"$f":"'shaladarpan '!D80","v":"2017-07-10"},{"$f":"'shaladarpan '!E80","v":"manjeet79"},{"$f":"'shaladarpan '!F80","v":"00:00:00"},{"$f":"'shaladarpan '!G80","v":"vijay79"},{"$f":"'shaladarpan '!H80","v":"beautiful79"},{"$f":"'shaladarpan '!I80","v":"F"},{"$f":"'shaladarpan '!J80","v":"2012-04-09"},{"$f":"'shaladarpan '!K80","v":"yes"},{"$f":"'shaladarpan '!L80","v":79},{"$f":"'shaladarpan '!M80","v":0},{"$f":"'shaladarpan '!N80","v":0},{"$f":"'shaladarpan '!O80","v":"OBC"},{"$f":"'shaladarpan '!P80","v":"Muslim"},{"$f":"'shaladarpan '!Q80","v":0},{"$f":"'shaladarpan '!R80","v":"GOVT. SENIOR SECONDARY SCHOOL ALNIYAWAS (219445)"},{"$f":"'shaladarpan '!S80","v":8140200308},{"$f":"'shaladarpan '!T80","v":"XXXX4827"},{"$f":"'shaladarpan '!U80","v":0},{"$f":"'shaladarpan '!V80","v":9828120775},{"$f":"'shaladarpan '!W80","v":"alniyawas79"},{"$f":"'shaladarpan '!X80","v":35000},{"$f":"'shaladarpan '!Y80","v":"N"},{"$f":"'shaladarpan '!Z80","v":"N"},{"$f":"'shaladarpan '!AA80","v":"Yes"},{"$f":"'shaladarpan '!AB80","v":8},{"$f":"'shaladarpan '!AC80","v":"None"},{"$f":"'shaladarpan '!AD80","v":1}]
[{"$f":"IF(F82=\" \",\" \",ROWS($A$3:A82))","v":80},{"$f":"'shaladarpan '!A81","v":4},{"$f":"'shaladarpan '!B81","v":"A"},{"$f":"'shaladarpan '!C81","v":4277},{"$f":"'shaladarpan '!D81","v":"2017-06-29"},{"$f":"'shaladarpan '!E81","v":"manjeet80"},{"$f":"'shaladarpan '!F81","v":"00:00:00"},{"$f":"'shaladarpan '!G81","v":"vijay80"},{"$f":"'shaladarpan '!H81","v":"beautiful80"},{"$f":"'shaladarpan '!I81","v":"F"},{"$f":"'shaladarpan '!J81","v":"2010-12-08"},{"$f":"'shaladarpan '!K81","v":"yes"},{"$f":"'shaladarpan '!L81","v":80},{"$f":"'shaladarpan '!M81","v":0},{"$f":"'shaladarpan '!N81","v":0},{"$f":"'shaladarpan '!O81","v":"OBC"},{"$f":"'shaladarpan '!P81","v":0},{"$f":"'shaladarpan '!Q81","v":0},{"$f":"'shaladarpan '!R81","v":"GOVT. SENIOR SECONDARY SCHOOL ALNIYAWAS (219445)"},{"$f":"'shaladarpan '!S81","v":8140200308},{"$f":"'shaladarpan '!T81","v":"XXXX3992"},{"$f":"'shaladarpan '!U81","v":0},{"$f":"'shaladarpan '!V81","v":9828120776},{"$f":"'shaladarpan '!W81","v":"alniyawas80"},{"$f":"'shaladarpan '!X81","v":48000},{"$f":"'shaladarpan '!Y81","v":"N"},{"$f":"'shaladarpan '!Z81","v":"N"},{"$f":"'shaladarpan '!AA81","v":0},{"$f":"'shaladarpan '!AB81","v":10},{"$f":"'shaladarpan '!AC81","v":"None"},{"$f":"'shaladarpan '!AD81","v":1}]
[{"$f":"IF(F83=\" \",\" \",ROWS($A$3:A83))","v":81},{"$f":"'shaladarpan '!A82","v":4},{"$f":"'shaladarpan '!B82","v":"A"},{"$f":"'shaladarpan '!C82","v":4370},{"$f":"'shaladarpan '!D82","v":"2017-07-10"},{"$f":"'shaladarpan '!E82","v":"manjeet81"},{"$f":"'shaladarpan '!F82","v":"00:00:00"},{"$f":"'shaladarpan '!G82","v":"vijay81"},{"$f":"'shaladarpan '!H82","v":"beautiful81"},{"$f":"'shaladarpan '!I82","v":"M"},{"$f":"'shaladarpan '!J82","v":"2011-06-03"},{"$f":"'shaladarpan '!K82","v":"no"},{"$f":"'shaladarpan '!L82","v":81},{"$f":"'shaladarpan '!M82","v":0},{"$f":"'shaladarpan '!N82","v":0},{"$f":"'shaladarpan '!O82","v":"OBC"},{"$f":"'shaladarpan '!P82","v":"Muslim"},{"$f":"'shaladarpan '!Q82","v":0},{"$f":"'shaladarpan '!R82","v":"GOVT. SENIOR SECONDARY SCHOOL ALNIYAWAS (219445)"},{"$f":"'shaladarpan '!S82","v":8140200308},{"$f":"'shaladarpan '!T82","v":"XXXX8044"},{"$f":"'shaladarpan '!U82","v":0},{"$f":"'shaladarpan '!V82","v":9828120777},{"$f":"'shaladarpan '!W82","v":"alniyawas81"},{"$f":"'shaladarpan '!X82","v":40000},{"$f":"'shaladarpan '!Y82","v":"N"},{"$f":"'shaladarpan '!Z82","v":"N"},{"$f":"'shaladarpan '!AA82","v":"Yes"},{"$f":"'shaladarpan '!AB82","v":9},{"$f":"'shaladarpan '!AC82","v":"None"},{"$f":"'shaladarpan '!AD82","v":1}]
[{"$f":"IF(F84=\" \",\" \",ROWS($A$3:A84))","v":82},{"$f":"'shaladarpan '!A83","v":4},{"$f":"'shaladarpan '!B83","v":"A"},{"$f":"'shaladarpan '!C83","v":4673},{"$f":"'shaladarpan '!D83","v":"2019-07-08"},{"$f":"'shaladarpan '!E83","v":"manjeet82"},{"$f":"'shaladarpan '!F83","v":"00:00:00"},{"$f":"'shaladarpan '!G83","v":"vijay82"},{"$f":"'shaladarpan '!H83","v":"beautiful82"},{"$f":"'shaladarpan '!I83","v":"M"},{"$f":"'shaladarpan '!J83","v":"2010-05-06"},{"$f":"'shaladarpan '!K83","v":"yes"},{"$f":"'shaladarpan '!L83","v":82},{"$f":"'shaladarpan '!M83","v":0},{"$f":"'shaladarpan '!N83","v":0},{"$f":"'shaladarpan '!O83","v":"OBC"},{"$f":"'shaladarpan '!P83","v":"Muslim"},{"$f":"'shaladarpan '!Q83","v":0},{"$f":"'shaladarpan '!R83","v":"GOVT. SENIOR SECONDARY SCHOOL ALNIYAWAS (219445)"},{"$f":"'shaladarpan '!S83","v":8140200308},{"$f":"'shaladarpan '!T83","v":"XXXX7051"},{"$f":"'shaladarpan '!U83","v":"ymwegoc"},{"$f":"'shaladarpan '!V83","v":9828120778},{"$f":"'shaladarpan '!W83","v":"alniyawas82"},{"$f":"'shaladarpan '!X83","v":60000},{"$f":"'shaladarpan '!Y83","v":"Y"},{"$f":"'shaladarpan '!Z83","v":"N"},{"$f":"'shaladarpan '!AA83","v":"Yes"},{"$f":"'shaladarpan '!AB83","v":10},{"$f":"'shaladarpan '!AC83","v":"None"},{"$f":"'shaladarpan '!AD83","v":0}]
[{"$f":"IF(F85=\" \",\" \",ROWS($A$3:A85))","v":83},{"$f":"'shaladarpan '!A84","v":4},{"$f":"'shaladarpan '!B84","v":"A"},{"$f":"'shaladarpan '!C84","v":4431},{"$f":"'shaladarpan '!D84","v":"2017-08-25"},{"$f":"'shaladarpan '!E84","v":"manjeet83"},{"$f":"'shaladarpan '!F84","v":"00:00:00"},{"$f":"'shaladarpan '!G84","v":"vijay83"},{"$f":"'shaladarpan '!H84","v":"beautiful83"},{"$f":"'shaladarpan '!I84","v":"F"},{"$f":"'shaladarpan '!J84","v":"2012-08-03"},{"$f":"'shaladarpan '!K84","v":"yes"},{"$f":"'shaladarpan '!L84","v":83},{"$f":"'shaladarpan '!M84","v":0},{"$f":"'shaladarpan '!N84","v":0},{"$f":"'shaladarpan '!O84","v":"OBC"},{"$f":"'shaladarpan '!P84","v":"Muslim"},{"$f":"'shaladarpan '!Q84","v":0},{"$f":"'shaladarpan '!R84","v":"GOVT. SENIOR SECONDARY SCHOOL ALNIYAWAS (219445)"},{"$f":"'shaladarpan '!S84","v":8140200308},{"$f":"'shaladarpan '!T84","v":"XXXX1922"},{"$f":"'shaladarpan '!U84","v":0},{"$f":"'shaladarpan '!V84","v":9828120779},{"$f":"'shaladarpan '!W84","v":"alniyawas83"},{"$f":"'shaladarpan '!X84","v":30000},{"$f":"'shaladarpan '!Y84","v":"N"},{"$f":"'shaladarpan '!Z84","v":"N"},{"$f":"'shaladarpan '!AA84","v":"Yes"},{"$f":"'shaladarpan '!AB84","v":8},{"$f":"'shaladarpan '!AC84","v":"None"},{"$f":"'shaladarpan '!AD84","v":1}]
[{"$f":"IF(F86=\" \",\" \",ROWS($A$3:A86))","v":84},{"$f":"'shaladarpan '!A85","v":4},{"$f":"'shaladarpan '!B85","v":"A"},{"$f":"'shaladarpan '!C85","v":4433},{"$f":"'shaladarpan '!D85","v":"2017-08-25"},{"$f":"'shaladarpan '!E85","v":"manjeet84"},{"$f":"'shaladarpan '!F85","v":"00:00:00"},{"$f":"'shaladarpan '!G85","v":"vijay84"},{"$f":"'shaladarpan '!H85","v":"beautiful84"},{"$f":"'shaladarpan '!I85","v":"M"},{"$f":"'shaladarpan '!J85","v":"2012-03-04"},{"$f":"'shaladarpan '!K85","v":"no"},{"$f":"'shaladarpan '!L85","v":84},{"$f":"'shaladarpan '!M85","v":0},{"$f":"'shaladarpan '!N85","v":0},{"$f":"'shaladarpan '!O85","v":"OBC"},{"$f":"'shaladarpan '!P85","v":"Hindu"},{"$f":"'shaladarpan '!Q85","v":0},{"$f":"'shaladarpan '!R85","v":"GOVT. SENIOR SECONDARY SCHOOL ALNIYAWAS (219445)"},{"$f":"'shaladarpan '!S85","v":8140200308},{"$f":"'shaladarpan '!T85","v":0},{"$f":"'shaladarpan '!U85","v":0},{"$f":"'shaladarpan '!V85","v":9828120780},{"$f":"'shaladarpan '!W85","v":"alniyawas84"},{"$f":"'shaladarpan '!X85","v":50000},{"$f":"'shaladarpan '!Y85","v":"N"},{"$f":"'shaladarpan '!Z85","v":"N"},{"$f":"'shaladarpan '!AA85","v":"No"},{"$f":"'shaladarpan '!AB85","v":8},{"$f":"'shaladarpan '!AC85","v":"None"},{"$f":"'shaladarpan '!AD85","v":1}]
[{"$f":"IF(F87=\" \",\" \",ROWS($A$3:A87))","v":85},{"$f":"'shaladarpan '!A86","v":4},{"$f":"'shaladarpan '!B86","v":"A"},{"$f":"'shaladarpan '!C86","v":4337},{"$f":"'shaladarpan '!D86","v":"2017-07-04"},{"$f":"'shaladarpan '!E86","v":"manjeet85"},{"$f":"'shaladarpan '!F86","v":"00:00:00"},{"$f":"'shaladarpan '!G86","v":"vijay85"},{"$f":"'shaladarpan '!H86","v":"beautiful85"},{"$f":"'shaladarpan '!I86","v":"F"},{"$f":"'shaladarpan '!J86","v":"2010-07-10"},{"$f":"'shaladarpan '!K86","v":"yes"},{"$f":"'shaladarpan '!L86","v":85},{"$f":"'shaladarpan '!M86","v":0},{"$f":"'shaladarpan '!N86","v":0},{"$f":"'shaladarpan '!O86","v":"OBC"},{"$f":"'shaladarpan '!P86","v":"Muslim"},{"$f":"'shaladarpan '!Q86","v":0},{"$f":"'shaladarpan '!R86","v":"GOVT. SENIOR SECONDARY SCHOOL ALNIYAWAS (219445)"},{"$f":"'shaladarpan '!S86","v":8140200308},{"$f":"'shaladarpan '!T86","v":"XXXX5784"},{"$f":"'shaladarpan '!U86","v":0},{"$f":"'shaladarpan '!V86","v":9828120781},{"$f":"'shaladarpan '!W86","v":"alniyawas85"},{"$f":"'shaladarpan '!X86","v":0},{"$f":"'shaladarpan '!Y86","v":"N"},{"$f":"'shaladarpan '!Z86","v":"N"},{"$f":"'shaladarpan '!AA86","v":"Yes"},{"$f":"'shaladarpan '!AB86","v":10},{"$f":"'shaladarpan '!AC86","v":"None"},{"$f":"'shaladarpan '!AD86","v":1}]
[{"$f":"IF(F88=\" \",\" \",ROWS($A$3:A88))","v":86},{"$f":"'shaladarpan '!A87","v":4},{"$f":"'shaladarpan '!B87","v":"A"},{"$f":"'shaladarpan '!C87","v":4438},{"$f":"'shaladarpan '!D87","v":"2017-09-05"},{"$f":"'shaladarpan '!E87","v":"manjeet86"},{"$f":"'shaladarpan '!F87","v":"00:00:00"},{"$f":"'shaladarpan '!G87","v":"vijay86"},{"$f":"'shaladarpan '!H87","v":"beautiful86"},{"$f":"'shaladarpan '!I87","v":"M"},{"$f":"'shaladarpan '!J87","v":"2007-01-01"},{"$f":"'shaladarpan '!K87","v":"yes"},{"$f":"'shaladarpan '!L87","v":86},{"$f":"'shaladarpan '!M87","v":0},{"$f":"'shaladarpan '!N87","v":0},{"$f":"'shaladarpan '!O87","v":"SC"},{"$f":"'shaladarpan '!P87","v":"Hindu"},{"$f":"'shaladarpan '!Q87","v":0},{"$f":"'shaladarpan '!R87","v":"GOVT. SENIOR SECONDARY SCHOOL ALNIYAWAS (219445)"},{"$f":"'shaladarpan '!S87","v":8140200308},{"$f":"'shaladarpan '!T87","v":"XXXX1370"},{"$f":"'shaladarpan '!U87","v":0},{"$f":"'shaladarpan '!V87","v":9828120782},{"$f":"'shaladarpan '!W87","v":"alniyawas86"},{"$f":"'shaladarpan '!X87","v":0},{"$f":"'shaladarpan '!Y87","v":"N"},{"$f":"'shaladarpan '!Z87","v":"N"},{"$f":"'shaladarpan '!AA87","v":"No"},{"$f":"'shaladarpan '!AB87","v":13},{"$f":"'shaladarpan '!AC87","v":"None"},{"$f":"'shaladarpan '!AD87","v":1}]
[{"$f":"IF(F89=\" \",\" \",ROWS($A$3:A89))","v":87},{"$f":"'shaladarpan '!A88","v":4},{"$f":"'shaladarpan '!B88","v":"A"},{"$f":"'shaladarpan '!C88","v":4500},{"$f":"'shaladarpan '!D88","v":"2018-07-05"},{"$f":"'shaladarpan '!E88","v":"manjeet87"},{"$f":"'shaladarpan '!F88","v":"00:00:00"},{"$f":"'shaladarpan '!G88","v":"vijay87"},{"$f":"'shaladarpan '!H88","v":"beautiful87"},{"$f":"'shaladarpan '!I88","v":"F"},{"$f":"'shaladarpan '!J88","v":"2011-04-04"},{"$f":"'shaladarpan '!K88","v":"no"},{"$f":"'shaladarpan '!L88","v":87},{"$f":"'shaladarpan '!M88","v":0},{"$f":"'shaladarpan '!N88","v":0},{"$f":"'shaladarpan '!O88","v":"OBC"},{"$f":"'shaladarpan '!P88","v":"Hindu"},{"$f":"'shaladarpan '!Q88","v":0},{"$f":"'shaladarpan '!R88","v":"GOVT. SENIOR SECONDARY SCHOOL ALNIYAWAS (219445)"},{"$f":"'shaladarpan '!S88","v":8140200308},{"$f":"'shaladarpan '!T88","v":"XXXX5702"},{"$f":"'shaladarpan '!U88","v":0},{"$f":"'shaladarpan '!V88","v":9828120783},{"$f":"'shaladarpan '!W88","v":"alniyawas87"},{"$f":"'shaladarpan '!X88","v":40000},{"$f":"'shaladarpan '!Y88","v":"N"},{"$f":"'shaladarpan '!Z88","v":"N"},{"$f":"'shaladarpan '!AA88","v":"No"},{"$f":"'shaladarpan '!AB88","v":9},{"$f":"'shaladarpan '!AC88","v":"None"},{"$f":"'shaladarpan '!AD88","v":3}]
[{"$f":"IF(F90=\" \",\" \",ROWS($A$3:A90))","v":88},{"$f":"'shaladarpan '!A89","v":4},{"$f":"'shaladarpan '!B89","v":"A"},{"$f":"'shaladarpan '!C89","v":4439},{"$f":"'shaladarpan '!D89","v":"2017-11-28"},{"$f":"'shaladarpan '!E89","v":"manjeet88"},{"$f":"'shaladarpan '!F89","v":"00:00:00"},{"$f":"'shaladarpan '!G89","v":"vijay88"},{"$f":"'shaladarpan '!H89","v":"beautiful88"},{"$f":"'shaladarpan '!I89","v":"F"},{"$f":"'shaladarpan '!J89","v":"2011-07-07"},{"$f":"'shaladarpan '!K89","v":"yes"},{"$f":"'shaladarpan '!L89","v":88},{"$f":"'shaladarpan '!M89","v":0},{"$f":"'shaladarpan '!N89","v":0},{"$f":"'shaladarpan '!O89","v":"SC"},{"$f":"'shaladarpan '!P89","v":"Hindu"},{"$f":"'shaladarpan '!Q89","v":0},{"$f":"'shaladarpan '!R89","v":"GOVT. SENIOR SECONDARY SCHOOL ALNIYAWAS (219445)"},{"$f":"'shaladarpan '!S89","v":8140200308},{"$f":"'shaladarpan '!T89","v":"XXXX4151"},{"$f":"'shaladarpan '!U89","v":0},{"$f":"'shaladarpan '!V89","v":9828120784},{"$f":"'shaladarpan '!W89","v":"alniyawas88"},{"$f":"'shaladarpan '!X89","v":400000},{"$f":"'shaladarpan '!Y89","v":"N"},{"$f":"'shaladarpan '!Z89","v":"N"},{"$f":"'shaladarpan '!AA89","v":"No"},{"$f":"'shaladarpan '!AB89","v":9},{"$f":"'shaladarpan '!AC89","v":"None"},{"$f":"'shaladarpan '!AD89","v":1}]
[{"$f":"IF(F91=\" \",\" \",ROWS($A$3:A91))","v":89},{"$f":"'shaladarpan '!A90","v":4},{"$f":"'shaladarpan '!B90","v":"A"},{"$f":"'shaladarpan '!C90","v":4368},{"$f":"'shaladarpan '!D90","v":"2017-07-10"},{"$f":"'shaladarpan '!E90","v":"manjeet89"},{"$f":"'shaladarpan '!F90","v":"00:00:00"},{"$f":"'shaladarpan '!G90","v":"vijay89"},{"$f":"'shaladarpan '!H90","v":"beautiful89"},{"$f":"'shaladarpan '!I90","v":"F"},{"$f":"'shaladarpan '!J90","v":"2012-05-03"},{"$f":"'shaladarpan '!K90","v":"yes"},{"$f":"'shaladarpan '!L90","v":89},{"$f":"'shaladarpan '!M90","v":0},{"$f":"'shaladarpan '!N90","v":0},{"$f":"'shaladarpan '!O90","v":"OBC"},{"$f":"'shaladarpan '!P90","v":"Muslim"},{"$f":"'shaladarpan '!Q90","v":0},{"$f":"'shaladarpan '!R90","v":"GOVT. SENIOR SECONDARY SCHOOL ALNIYAWAS (219445)"},{"$f":"'shaladarpan '!S90","v":8140200308},{"$f":"'shaladarpan '!T90","v":"XXXX4896"},{"$f":"'shaladarpan '!U90","v":0},{"$f":"'shaladarpan '!V90","v":9828120785},{"$f":"'shaladarpan '!W90","v":"alniyawas89"},{"$f":"'shaladarpan '!X90","v":35000},{"$f":"'shaladarpan '!Y90","v":"Y"},{"$f":"'shaladarpan '!Z90","v":"N"},{"$f":"'shaladarpan '!AA90","v":"Yes"},{"$f":"'shaladarpan '!AB90","v":8},{"$f":"'shaladarpan '!AC90","v":"None"},{"$f":"'shaladarpan '!AD90","v":1}]
[{"$f":"IF(F92=\" \",\" \",ROWS($A$3:A92))","v":90},{"$f":"'shaladarpan '!A91","v":4},{"$f":"'shaladarpan '!B91","v":"A"},{"$f":"'shaladarpan '!C91","v":4335},{"$f":"'shaladarpan '!D91","v":"2017-07-04"},{"$f":"'shaladarpan '!E91","v":"manjeet90"},{"$f":"'shaladarpan '!F91","v":"00:00:00"},{"$f":"'shaladarpan '!G91","v":"vijay90"},{"$f":"'shaladarpan '!H91","v":"beautiful90"},{"$f":"'shaladarpan '!I91","v":"F"},{"$f":"'shaladarpan '!J91","v":"2008-01-15"},{"$f":"'shaladarpan '!K91","v":"no"},{"$f":"'shaladarpan '!L91","v":90},{"$f":"'shaladarpan '!M91","v":0},{"$f":"'shaladarpan '!N91","v":0},{"$f":"'shaladarpan '!O91","v":"OBC"},{"$f":"'shaladarpan '!P91","v":"Muslim"},{"$f":"'shaladarpan '!Q91","v":0},{"$f":"'shaladarpan '!R91","v":"GOVT. SENIOR SECONDARY SCHOOL ALNIYAWAS (219445)"},{"$f":"'shaladarpan '!S91","v":8140200308},{"$f":"'shaladarpan '!T91","v":0},{"$f":"'shaladarpan '!U91","v":0},{"$f":"'shaladarpan '!V91","v":9828120786},{"$f":"'shaladarpan '!W91","v":"alniyawas90"},{"$f":"'shaladarpan '!X91","v":0},{"$f":"'shaladarpan '!Y91","v":"N"},{"$f":"'shaladarpan '!Z91","v":"N"},{"$f":"'shaladarpan '!AA91","v":"Yes"},{"$f":"'shaladarpan '!AB91","v":12},{"$f":"'shaladarpan '!AC91","v":"None"},{"$f":"'shaladarpan '!AD91","v":1}]
[{"$f":"IF(F93=\" \",\" \",ROWS($A$3:A93))","v":91},{"$f":"'shaladarpan '!A92","v":4},{"$f":"'shaladarpan '!B92","v":"A"},{"$f":"'shaladarpan '!C92","v":4333},{"$f":"'shaladarpan '!D92","v":"2017-07-04"},{"$f":"'shaladarpan '!E92","v":"manjeet91"},{"$f":"'shaladarpan '!F92","v":"00:00:00"},{"$f":"'shaladarpan '!G92","v":"vijay91"},{"$f":"'shaladarpan '!H92","v":"beautiful91"},{"$f":"'shaladarpan '!I92","v":"F"},{"$f":"'shaladarpan '!J92","v":"2012-05-15"},{"$f":"'shaladarpan '!K92","v":"yes"},{"$f":"'shaladarpan '!L92","v":91},{"$f":"'shaladarpan '!M92","v":0},{"$f":"'shaladarpan '!N92","v":0},{"$f":"'shaladarpan '!O92","v":"OBC"},{"$f":"'shaladarpan '!P92","v":"Hindu"},{"$f":"'shaladarpan '!Q92","v":0},{"$f":"'shaladarpan '!R92","v":"GOVT. SENIOR SECONDARY SCHOOL ALNIYAWAS (219445)"},{"$f":"'shaladarpan '!S92","v":8140200308},{"$f":"'shaladarpan '!T92","v":0},{"$f":"'shaladarpan '!U92","v":0},{"$f":"'shaladarpan '!V92","v":9828120787},{"$f":"'shaladarpan '!W92","v":"alniyawas91"},{"$f":"'shaladarpan '!X92","v":0},{"$f":"'shaladarpan '!Y92","v":"N"},{"$f":"'shaladarpan '!Z92","v":"N"},{"$f":"'shaladarpan '!AA92","v":"No"},{"$f":"'shaladarpan '!AB92","v":8},{"$f":"'shaladarpan '!AC92","v":"None"},{"$f":"'shaladarpan '!AD92","v":1}]
[{"$f":"IF(F94=\" \",\" \",ROWS($A$3:A94))","v":92},{"$f":"'shaladarpan '!A93","v":4},{"$f":"'shaladarpan '!B93","v":"A"},{"$f":"'shaladarpan '!C93","v":4371},{"$f":"'shaladarpan '!D93","v":"2017-07-10"},{"$f":"'shaladarpan '!E93","v":"manjeet92"},{"$f":"'shaladarpan '!F93","v":"00:00:00"},{"$f":"'shaladarpan '!G93","v":"vijay92"},{"$f":"'shaladarpan '!H93","v":"beautiful92"},{"$f":"'shaladarpan '!I93","v":"F"},{"$f":"'shaladarpan '!J93","v":"2011-05-02"},{"$f":"'shaladarpan '!K93","v":"yes"},{"$f":"'shaladarpan '!L93","v":92},{"$f":"'shaladarpan '!M93","v":0},{"$f":"'shaladarpan '!N93","v":0},{"$f":"'shaladarpan '!O93","v":"OBC"},{"$f":"'shaladarpan '!P93","v":"Hindu"},{"$f":"'shaladarpan '!Q93","v":0},{"$f":"'shaladarpan '!R93","v":"GOVT. SENIOR SECONDARY SCHOOL ALNIYAWAS (219445)"},{"$f":"'shaladarpan '!S93","v":8140200308},{"$f":"'shaladarpan '!T93","v":"XXXX3157"},{"$f":"'shaladarpan '!U93","v":0},{"$f":"'shaladarpan '!V93","v":9828120788},{"$f":"'shaladarpan '!W93","v":"alniyawas92"},{"$f":"'shaladarpan '!X93","v":35000},{"$f":"'shaladarpan '!Y93","v":"N"},{"$f":"'shaladarpan '!Z93","v":"N"},{"$f":"'shaladarpan '!AA93","v":"No"},{"$f":"'shaladarpan '!AB93","v":9},{"$f":"'shaladarpan '!AC93","v":"None"},{"$f":"'shaladarpan '!AD93","v":1}]
[{"$f":"IF(F95=\" \",\" \",ROWS($A$3:A95))","v":93},{"$f":"'shaladarpan '!A94","v":4},{"$f":"'shaladarpan '!B94","v":"A"},{"$f":"'shaladarpan '!C94","v":4857},{"$f":"'shaladarpan '!D94","v":"00:00:00"},{"$f":"'shaladarpan '!E94","v":"manjeet93"},{"$f":"'shaladarpan '!F94","v":"00:00:00"},{"$f":"'shaladarpan '!G94","v":"vijay93"},{"$f":"'shaladarpan '!H94","v":"beautiful93"},{"$f":"'shaladarpan '!I94","v":"F"},{"$f":"'shaladarpan '!J94","v":"2013-01-01"},{"$f":"'shaladarpan '!K94","v":"no"},{"$f":"'shaladarpan '!L94","v":93},{"$f":"'shaladarpan '!M94","v":0},{"$f":"'shaladarpan '!N94","v":0},{"$f":"'shaladarpan '!O94","v":"OBC"},{"$f":"'shaladarpan '!P94","v":0},{"$f":"'shaladarpan '!Q94","v":0},{"$f":"'shaladarpan '!R94","v":"GOVT. SENIOR SECONDARY SCHOOL ALNIYAWAS (219445)"},{"$f":"'shaladarpan '!S94","v":8140200308},{"$f":"'shaladarpan '!T94","v":0},{"$f":"'shaladarpan '!U94","v":0},{"$f":"'shaladarpan '!V94","v":9828120789},{"$f":"'shaladarpan '!W94","v":"alniyawas93"},{"$f":"'shaladarpan '!X94","v":0},{"$f":"'shaladarpan '!Y94","v":"N"},{"$f":"'shaladarpan '!Z94","v":"Y"},{"$f":"'shaladarpan '!AA94","v":0},{"$f":"'shaladarpan '!AB94","v":7},{"$f":"'shaladarpan '!AC94","v":0},{"$f":"'shaladarpan '!AD94","v":1}]
[{"$f":"IF(F96=\" \",\" \",ROWS($A$3:A96))","v":94},{"$f":"'shaladarpan '!A95","v":4},{"$f":"'shaladarpan '!B95","v":"A"},{"$f":"'shaladarpan '!C95","v":4283},{"$f":"'shaladarpan '!D95","v":"2017-06-29"},{"$f":"'shaladarpan '!E95","v":"manjeet94"},{"$f":"'shaladarpan '!F95","v":"00:00:00"},{"$f":"'shaladarpan '!G95","v":"vijay94"},{"$f":"'shaladarpan '!H95","v":"beautiful94"},{"$f":"'shaladarpan '!I95","v":"F"},{"$f":"'shaladarpan '!J95","v":"2012-07-09"},{"$f":"'shaladarpan '!K95","v":"yes"},{"$f":"'shaladarpan '!L95","v":94},{"$f":"'shaladarpan '!M95","v":0},{"$f":"'shaladarpan '!N95","v":0},{"$f":"'shaladarpan '!O95","v":"OBC"},{"$f":"'shaladarpan '!P95","v":"Hindu"},{"$f":"'shaladarpan '!Q95","v":0},{"$f":"'shaladarpan '!R95","v":"GOVT. SENIOR SECONDARY SCHOOL ALNIYAWAS (219445)"},{"$f":"'shaladarpan '!S95","v":8140200308},{"$f":"'shaladarpan '!T95","v":"XXXX9015"},{"$f":"'shaladarpan '!U95","v":0},{"$f":"'shaladarpan '!V95","v":9828120790},{"$f":"'shaladarpan '!W95","v":"alniyawas94"},{"$f":"'shaladarpan '!X95","v":48000},{"$f":"'shaladarpan '!Y95","v":"N"},{"$f":"'shaladarpan '!Z95","v":"N"},{"$f":"'shaladarpan '!AA95","v":"No"},{"$f":"'shaladarpan '!AB95","v":8},{"$f":"'shaladarpan '!AC95","v":"None"},{"$f":"'shaladarpan '!AD95","v":1}]
[{"$f":"IF(F97=\" \",\" \",ROWS($A$3:A97))","v":95},{"$f":"'shaladarpan '!A96","v":4},{"$f":"'shaladarpan '!B96","v":"A"},{"$f":"'shaladarpan '!C96","v":4326},{"$f":"'shaladarpan '!D96","v":"2017-07-04"},{"$f":"'shaladarpan '!E96","v":"manjeet95"},{"$f":"'shaladarpan '!F96","v":"00:00:00"},{"$f":"'shaladarpan '!G96","v":"vijay95"},{"$f":"'shaladarpan '!H96","v":"beautiful95"},{"$f":"'shaladarpan '!I96","v":"M"},{"$f":"'shaladarpan '!J96","v":"2012-06-10"},{"$f":"'shaladarpan '!K96","v":"yes"},{"$f":"'shaladarpan '!L96","v":95},{"$f":"'shaladarpan '!M96","v":0},{"$f":"'shaladarpan '!N96","v":0},{"$f":"'shaladarpan '!O96","v":"OBC"},{"$f":"'shaladarpan '!P96","v":0},{"$f":"'shaladarpan '!Q96","v":0},{"$f":"'shaladarpan '!R96","v":"GOVT. SENIOR SECONDARY SCHOOL ALNIYAWAS (219445)"},{"$f":"'shaladarpan '!S96","v":8140200308},{"$f":"'shaladarpan '!T96","v":"XXXX7339"},{"$f":"'shaladarpan '!U96","v":0},{"$f":"'shaladarpan '!V96","v":9828120791},{"$f":"'shaladarpan '!W96","v":"alniyawas95"},{"$f":"'shaladarpan '!X96","v":0},{"$f":"'shaladarpan '!Y96","v":"N"},{"$f":"'shaladarpan '!Z96","v":"N"},{"$f":"'shaladarpan '!AA96","v":0},{"$f":"'shaladarpan '!AB96","v":8},{"$f":"'shaladarpan '!AC96","v":"None"},{"$f":"'shaladarpan '!AD96","v":1}]
[{"$f":"IF(F98=\" \",\" \",ROWS($A$3:A98))","v":96},{"$f":"'shaladarpan '!A97","v":4},{"$f":"'shaladarpan '!B97","v":"A"},{"$f":"'shaladarpan '!C97","v":4699},{"$f":"'shaladarpan '!D97","v":"2019-07-10"},{"$f":"'shaladarpan '!E97","v":"manjeet96"},{"$f":"'shaladarpan '!F97","v":"00:00:00"},{"$f":"'shaladarpan '!G97","v":"vijay96"},{"$f":"'shaladarpan '!H97","v":"beautiful96"},{"$f":"'shaladarpan '!I97","v":"M"},{"$f":"'shaladarpan '!J97","v":"2010-07-07"},{"$f":"'shaladarpan '!K97","v":"no"},{"$f":"'shaladarpan '!L97","v":96},{"$f":"'shaladarpan '!M97","v":0},{"$f":"'shaladarpan '!N97","v":0},{"$f":"'shaladarpan '!O97","v":"SC"},{"$f":"'shaladarpan '!P97","v":"Hindu"},{"$f":"'shaladarpan '!Q97","v":0},{"$f":"'shaladarpan '!R97","v":"GOVT. SENIOR SECONDARY SCHOOL ALNIYAWAS (219445)"},{"$f":"'shaladarpan '!S97","v":8140200308},{"$f":"'shaladarpan '!T97","v":0},{"$f":"'shaladarpan '!U97","v":0},{"$f":"'shaladarpan '!V97","v":9828120792},{"$f":"'shaladarpan '!W97","v":"alniyawas96"},{"$f":"'shaladarpan '!X97","v":60000},{"$f":"'shaladarpan '!Y97","v":"N"},{"$f":"'shaladarpan '!Z97","v":"N"},{"$f":"'shaladarpan '!AA97","v":"No"},{"$f":"'shaladarpan '!AB97","v":10},{"$f":"'shaladarpan '!AC97","v":"None"},{"$f":"'shaladarpan '!AD97","v":0}]
[{"$f":"IF(F99=\" \",\" \",ROWS($A$3:A99))","v":97},{"$f":"'shaladarpan '!A98","v":4},{"$f":"'shaladarpan '!B98","v":"A"},{"$f":"'shaladarpan '!C98","v":4336},{"$f":"'shaladarpan '!D98","v":"2017-07-04"},{"$f":"'shaladarpan '!E98","v":"manjeet97"},{"$f":"'shaladarpan '!F98","v":"00:00:00"},{"$f":"'shaladarpan '!G98","v":"vijay97"},{"$f":"'shaladarpan '!H98","v":"beautiful97"},{"$f":"'shaladarpan '!I98","v":"F"},{"$f":"'shaladarpan '!J98","v":"2009-03-10"},{"$f":"'shaladarpan '!K98","v":"yes"},{"$f":"'shaladarpan '!L98","v":97},{"$f":"'shaladarpan '!M98","v":0},{"$f":"'shaladarpan '!N98","v":0},{"$f":"'shaladarpan '!O98","v":"OBC"},{"$f":"'shaladarpan '!P98","v":"Muslim"},{"$f":"'shaladarpan '!Q98","v":0},{"$f":"'shaladarpan '!R98","v":"GOVT. SENIOR SECONDARY SCHOOL ALNIYAWAS (219445)"},{"$f":"'shaladarpan '!S98","v":8140200308},{"$f":"'shaladarpan '!T98","v":"XXXX0687"},{"$f":"'shaladarpan '!U98","v":0},{"$f":"'shaladarpan '!V98","v":9828120793},{"$f":"'shaladarpan '!W98","v":"alniyawas97"},{"$f":"'shaladarpan '!X98","v":0},{"$f":"'shaladarpan '!Y98","v":"N"},{"$f":"'shaladarpan '!Z98","v":"N"},{"$f":"'shaladarpan '!AA98","v":"Yes"},{"$f":"'shaladarpan '!AB98","v":11},{"$f":"'shaladarpan '!AC98","v":"None"},{"$f":"'shaladarpan '!AD98","v":1}]
[{"$f":"IF(F100=\" \",\" \",ROWS($A$3:A100))","v":98},{"$f":"'shaladarpan '!A99","v":4},{"$f":"'shaladarpan '!B99","v":"A"},{"$f":"'shaladarpan '!C99","v":4276},{"$f":"'shaladarpan '!D99","v":"1900-05-29"},{"$f":"'shaladarpan '!E99","v":"manjeet98"},{"$f":"'shaladarpan '!F99","v":"00:00:00"},{"$f":"'shaladarpan '!G99","v":"vijay98"},{"$f":"'shaladarpan '!H99","v":"beautiful98"},{"$f":"'shaladarpan '!I99","v":"M"},{"$f":"'shaladarpan '!J99","v":"2012-02-15"},{"$f":"'shaladarpan '!K99","v":"yes"},{"$f":"'shaladarpan '!L99","v":98},{"$f":"'shaladarpan '!M99","v":0},{"$f":"'shaladarpan '!N99","v":0},{"$f":"'shaladarpan '!O99","v":"SC"},{"$f":"'shaladarpan '!P99","v":"Hindu"},{"$f":"'shaladarpan '!Q99","v":0},{"$f":"'shaladarpan '!R99","v":"GOVT. SENIOR SECONDARY SCHOOL ALNIYAWAS (219445)"},{"$f":"'shaladarpan '!S99","v":8140200308},{"$f":"'shaladarpan '!T99","v":"XXXX3171"},{"$f":"'shaladarpan '!U99","v":0},{"$f":"'shaladarpan '!V99","v":9828120794},{"$f":"'shaladarpan '!W99","v":"alniyawas98"},{"$f":"'shaladarpan '!X99","v":35000},{"$f":"'shaladarpan '!Y99","v":"N"},{"$f":"'shaladarpan '!Z99","v":"N"},{"$f":"'shaladarpan '!AA99","v":"No"},{"$f":"'shaladarpan '!AB99","v":8},{"$f":"'shaladarpan '!AC99","v":"None"},{"$f":"'shaladarpan '!AD99","v":1}]
[{"$f":"IF(F101=\" \",\" \",ROWS($A$3:A101))","v":99},{"$f":"'shaladarpan '!A100","v":4},{"$f":"'shaladarpan '!B100","v":"A"},{"$f":"'shaladarpan '!C100","v":4324},{"$f":"'shaladarpan '!D100","v":"2017-07-04"},{"$f":"'shaladarpan '!E100","v":"manjeet99"},{"$f":"'shaladarpan '!F100","v":"00:00:00"},{"$f":"'shaladarpan '!G100","v":"vijay99"},{"$f":"'shaladarpan '!H100","v":"beautiful99"},{"$f":"'shaladarpan '!I100","v":"F"},{"$f":"'shaladarpan '!J100","v":"2011-06-02"},{"$f":"'shaladarpan '!K100","v":"no"},{"$f":"'shaladarpan '!L100","v":99},{"$f":"'shaladarpan '!M100","v":0},{"$f":"'shaladarpan '!N100","v":0},{"$f":"'shaladarpan '!O100","v":"OBC"},{"$f":"'shaladarpan '!P100","v":"Muslim"},{"$f":"'shaladarpan '!Q100","v":0},{"$f":"'shaladarpan '!R100","v":"GOVT. SENIOR SECONDARY SCHOOL ALNIYAWAS (219445)"},{"$f":"'shaladarpan '!S100","v":8140200308},{"$f":"'shaladarpan '!T100","v":"XXXX7296"},{"$f":"'shaladarpan '!U100","v":0},{"$f":"'shaladarpan '!V100","v":9828120795},{"$f":"'shaladarpan '!W100","v":"alniyawas99"},{"$f":"'shaladarpan '!X100","v":0},{"$f":"'shaladarpan '!Y100","v":"N"},{"$f":"'shaladarpan '!Z100","v":"N"},{"$f":"'shaladarpan '!AA100","v":"Yes"},{"$f":"'shaladarpan '!AB100","v":9},{"$f":"'shaladarpan '!AC100","v":"None"},{"$f":"'shaladarpan '!AD100","v":1}]
[{"$f":"IF(F102=\" \",\" \",ROWS($A$3:A102))","v":100},{"$f":"'shaladarpan '!A101","v":4},{"$f":"'shaladarpan '!B101","v":"A"},{"$f":"'shaladarpan '!C101","v":4339},{"$f":"'shaladarpan '!D101","v":"2017-07-04"},{"$f":"'shaladarpan '!E101","v":"manjeet100"},{"$f":"'shaladarpan '!F101","v":"00:00:00"},{"$f":"'shaladarpan '!G101","v":"vijay100"},{"$f":"'shaladarpan '!H101","v":"beautiful100"},{"$f":"'shaladarpan '!I101","v":"M"},{"$f":"'shaladarpan '!J101","v":"2010-07-15"},{"$f":"'shaladarpan '!K101","v":"yes"},{"$f":"'shaladarpan '!L101","v":100},{"$f":"'shaladarpan '!M101","v":0},{"$f":"'shaladarpan '!N101","v":0},{"$f":"'shaladarpan '!O101","v":"OBC"},{"$f":"'shaladarpan '!P101","v":"Muslim"},{"$f":"'shaladarpan '!Q101","v":0},{"$f":"'shaladarpan '!R101","v":"GOVT. SENIOR SECONDARY SCHOOL ALNIYAWAS (219445)"},{"$f":"'shaladarpan '!S101","v":8140200308},{"$f":"'shaladarpan '!T101","v":"XXXX0709"},{"$f":"'shaladarpan '!U101","v":0},{"$f":"'shaladarpan '!V101","v":9828120796},{"$f":"'shaladarpan '!W101","v":"alniyawas100"},{"$f":"'shaladarpan '!X101","v":35000},{"$f":"'shaladarpan '!Y101","v":"N"},{"$f":"'shaladarpan '!Z101","v":"N"},{"$f":"'shaladarpan '!AA101","v":"Yes"},{"$f":"'shaladarpan '!AB101","v":10},{"$f":"'shaladarpan '!AC101","v":"None"},{"$f":"'shaladarpan '!AD101","v":1}]
[{"$f":"IF(F103=\" \",\" \",ROWS($A$3:A103))","v":101},{"$f":"'shaladarpan '!A102","v":4},{"$f":"'shaladarpan '!B102","v":"A"},{"$f":"'shaladarpan '!C102","v":4325},{"$f":"'shaladarpan '!D102","v":"2017-07-04"},{"$f":"'shaladarpan '!E102","v":"manjeet101"},{"$f":"'shaladarpan '!F102","v":"00:00:00"},{"$f":"'shaladarpan '!G102","v":"vijay101"},{"$f":"'shaladarpan '!H102","v":"beautiful101"},{"$f":"'shaladarpan '!I102","v":"F"},{"$f":"'shaladarpan '!J102","v":"2011-06-15"},{"$f":"'shaladarpan '!K102","v":"yes"},{"$f":"'shaladarpan '!L102","v":101},{"$f":"'shaladarpan '!M102","v":0},{"$f":"'shaladarpan '!N102","v":0},{"$f":"'shaladarpan '!O102","v":"OBC"},{"$f":"'shaladarpan '!P102","v":"Hindu"},{"$f":"'shaladarpan '!Q102","v":0},{"$f":"'shaladarpan '!R102","v":"GOVT. SENIOR SECONDARY SCHOOL ALNIYAWAS (219445)"},{"$f":"'shaladarpan '!S102","v":8140200308},{"$f":"'shaladarpan '!T102","v":"XXXX5554"},{"$f":"'shaladarpan '!U102","v":0},{"$f":"'shaladarpan '!V102","v":9828120797},{"$f":"'shaladarpan '!W102","v":"alniyawas101"},{"$f":"'shaladarpan '!X102","v":0},{"$f":"'shaladarpan '!Y102","v":"N"},{"$f":"'shaladarpan '!Z102","v":"N"},{"$f":"'shaladarpan '!AA102","v":"No"},{"$f":"'shaladarpan '!AB102","v":9},{"$f":"'shaladarpan '!AC102","v":"None"},{"$f":"'shaladarpan '!AD102","v":1}]
[{"$f":"IF(F104=\" \",\" \",ROWS($A$3:A104))","v":102},{"$f":"'shaladarpan '!A103","v":4},{"$f":"'shaladarpan '!B103","v":"A"},{"$f":"'shaladarpan '!C103","v":4435},{"$f":"'shaladarpan '!D103","v":"2017-08-25"},{"$f":"'shaladarpan '!E103","v":"manjeet102"},{"$f":"'shaladarpan '!F103","v":"00:00:00"},{"$f":"'shaladarpan '!G103","v":"vijay102"},{"$f":"'shaladarpan '!H103","v":"beautiful102"},{"$f":"'shaladarpan '!I103","v":"F"},{"$f":"'shaladarpan '!J103","v":"2011-01-03"},{"$f":"'shaladarpan '!K103","v":"no"},{"$f":"'shaladarpan '!L103","v":102},{"$f":"'shaladarpan '!M103","v":0},{"$f":"'shaladarpan '!N103","v":0},{"$f":"'shaladarpan '!O103","v":"OBC"},{"$f":"'shaladarpan '!P103","v":"Muslim"},{"$f":"'shaladarpan '!Q103","v":0},{"$f":"'shaladarpan '!R103","v":"GOVT. SENIOR SECONDARY SCHOOL ALNIYAWAS (219445)"},{"$f":"'shaladarpan '!S103","v":8140200308},{"$f":"'shaladarpan '!T103","v":"XXXX3683"},{"$f":"'shaladarpan '!U103","v":0},{"$f":"'shaladarpan '!V103","v":9828120798},{"$f":"'shaladarpan '!W103","v":"alniyawas102"},{"$f":"'shaladarpan '!X103","v":0},{"$f":"'shaladarpan '!Y103","v":"N"},{"$f":"'shaladarpan '!Z103","v":"N"},{"$f":"'shaladarpan '!AA103","v":"Yes"},{"$f":"'shaladarpan '!AB103","v":9},{"$f":"'shaladarpan '!AC103","v":"None"},{"$f":"'shaladarpan '!AD103","v":1}]
[{"$f":"IF(F105=\" \",\" \",ROWS($A$3:A105))","v":103},{"$f":"'shaladarpan '!A104","v":4},{"$f":"'shaladarpan '!B104","v":"A"},{"$f":"'shaladarpan '!C104","v":4419},{"$f":"'shaladarpan '!D104","v":"2017-07-18"},{"$f":"'shaladarpan '!E104","v":"manjeet103"},{"$f":"'shaladarpan '!F104","v":"00:00:00"},{"$f":"'shaladarpan '!G104","v":"vijay103"},{"$f":"'shaladarpan '!H104","v":"beautiful103"},{"$f":"'shaladarpan '!I104","v":"M"},{"$f":"'shaladarpan '!J104","v":"2011-05-07"},{"$f":"'shaladarpan '!K104","v":"yes"},{"$f":"'shaladarpan '!L104","v":103},{"$f":"'shaladarpan '!M104","v":0},{"$f":"'shaladarpan '!N104","v":0},{"$f":"'shaladarpan '!O104","v":"OBC"},{"$f":"'shaladarpan '!P104","v":"Muslim"},{"$f":"'shaladarpan '!Q104","v":0},{"$f":"'shaladarpan '!R104","v":"GOVT. SENIOR SECONDARY SCHOOL ALNIYAWAS (219445)"},{"$f":"'shaladarpan '!S104","v":8140200308},{"$f":"'shaladarpan '!T104","v":0},{"$f":"'shaladarpan '!U104","v":0},{"$f":"'shaladarpan '!V104","v":9828120799},{"$f":"'shaladarpan '!W104","v":"alniyawas103"},{"$f":"'shaladarpan '!X104","v":35000},{"$f":"'shaladarpan '!Y104","v":"N"},{"$f":"'shaladarpan '!Z104","v":"N"},{"$f":"'shaladarpan '!AA104","v":"Yes"},{"$f":"'shaladarpan '!AB104","v":9},{"$f":"'shaladarpan '!AC104","v":"None"},{"$f":"'shaladarpan '!AD104","v":1}]
[{"$f":"IF(F106=\" \",\" \",ROWS($A$3:A106))","v":104},{"$f":"'shaladarpan '!A105","v":4},{"$f":"'shaladarpan '!B105","v":"A"},{"$f":"'shaladarpan '!C105","v":4437},{"$f":"'shaladarpan '!D105","v":"2017-08-29"},{"$f":"'shaladarpan '!E105","v":"manjeet104"},{"$f":"'shaladarpan '!F105","v":"00:00:00"},{"$f":"'shaladarpan '!G105","v":"vijay104"},{"$f":"'shaladarpan '!H105","v":"beautiful104"},{"$f":"'shaladarpan '!I105","v":"M"},{"$f":"'shaladarpan '!J105","v":"2012-04-09"},{"$f":"'shaladarpan '!K105","v":"yes"},{"$f":"'shaladarpan '!L105","v":104},{"$f":"'shaladarpan '!M105","v":0},{"$f":"'shaladarpan '!N105","v":0},{"$f":"'shaladarpan '!O105","v":"OBC"},{"$f":"'shaladarpan '!P105","v":"Muslim"},{"$f":"'shaladarpan '!Q105","v":0},{"$f":"'shaladarpan '!R105","v":"GOVT. SENIOR SECONDARY SCHOOL ALNIYAWAS (219445)"},{"$f":"'shaladarpan '!S105","v":8140200308},{"$f":"'shaladarpan '!T105","v":"XXXX3496"},{"$f":"'shaladarpan '!U105","v":0},{"$f":"'shaladarpan '!V105","v":9828120800},{"$f":"'shaladarpan '!W105","v":"alniyawas104"},{"$f":"'shaladarpan '!X105","v":35000},{"$f":"'shaladarpan '!Y105","v":"N"},{"$f":"'shaladarpan '!Z105","v":"N"},{"$f":"'shaladarpan '!AA105","v":"Yes"},{"$f":"'shaladarpan '!AB105","v":8},{"$f":"'shaladarpan '!AC105","v":"None"},{"$f":"'shaladarpan '!AD105","v":1}]
[{"$f":"IF(F107=\" \",\" \",ROWS($A$3:A107))","v":105},{"$f":"'shaladarpan '!A106","v":4},{"$f":"'shaladarpan '!B106","v":"A"},{"$f":"'shaladarpan '!C106","v":4369},{"$f":"'shaladarpan '!D106","v":"2017-07-10"},{"$f":"'shaladarpan '!E106","v":"manjeet105"},{"$f":"'shaladarpan '!F106","v":"00:00:00"},{"$f":"'shaladarpan '!G106","v":"vijay105"},{"$f":"'shaladarpan '!H106","v":"beautiful105"},{"$f":"'shaladarpan '!I106","v":"M"},{"$f":"'shaladarpan '!J106","v":"2012-03-05"},{"$f":"'shaladarpan '!K106","v":"no"},{"$f":"'shaladarpan '!L106","v":105},{"$f":"'shaladarpan '!M106","v":0},{"$f":"'shaladarpan '!N106","v":0},{"$f":"'shaladarpan '!O106","v":"OBC"},{"$f":"'shaladarpan '!P106","v":"Muslim"},{"$f":"'shaladarpan '!Q106","v":0},{"$f":"'shaladarpan '!R106","v":"GOVT. SENIOR SECONDARY SCHOOL ALNIYAWAS (219445)"},{"$f":"'shaladarpan '!S106","v":8140200308},{"$f":"'shaladarpan '!T106","v":"XXXX5376"},{"$f":"'shaladarpan '!U106","v":0},{"$f":"'shaladarpan '!V106","v":9828120801},{"$f":"'shaladarpan '!W106","v":"alniyawas105"},{"$f":"'shaladarpan '!X106","v":50000},{"$f":"'shaladarpan '!Y106","v":"N"},{"$f":"'shaladarpan '!Z106","v":"N"},{"$f":"'shaladarpan '!AA106","v":"Yes"},{"$f":"'shaladarpan '!AB106","v":8},{"$f":"'shaladarpan '!AC106","v":"None"},{"$f":"'shaladarpan '!AD106","v":1}]
[{"$f":"IF(F108=\" \",\" \",ROWS($A$3:A108))","v":106},{"$f":"'shaladarpan '!A107","v":4},{"$f":"'shaladarpan '!B107","v":"A"},{"$f":"'shaladarpan '!C107","v":4275},{"$f":"'shaladarpan '!D107","v":"1900-05-29"},{"$f":"'shaladarpan '!E107","v":"manjeet106"},{"$f":"'shaladarpan '!F107","v":"00:00:00"},{"$f":"'shaladarpan '!G107","v":"vijay106"},{"$f":"'shaladarpan '!H107","v":"beautiful106"},{"$f":"'shaladarpan '!I107","v":"M"},{"$f":"'shaladarpan '!J107","v":"2011-12-04"},{"$f":"'shaladarpan '!K107","v":"yes"},{"$f":"'shaladarpan '!L107","v":106},{"$f":"'shaladarpan '!M107","v":0},{"$f":"'shaladarpan '!N107","v":0},{"$f":"'shaladarpan '!O107","v":"OBC"},{"$f":"'shaladarpan '!P107","v":"Hindu"},{"$f":"'shaladarpan '!Q107","v":0},{"$f":"'shaladarpan '!R107","v":"GOVT. SENIOR SECONDARY SCHOOL ALNIYAWAS (219445)"},{"$f":"'shaladarpan '!S107","v":8140200308},{"$f":"'shaladarpan '!T107","v":"XXXX3171"},{"$f":"'shaladarpan '!U107","v":0},{"$f":"'shaladarpan '!V107","v":9828120802},{"$f":"'shaladarpan '!W107","v":"alniyawas106"},{"$f":"'shaladarpan '!X107","v":48000},{"$f":"'shaladarpan '!Y107","v":"N"},{"$f":"'shaladarpan '!Z107","v":"N"},{"$f":"'shaladarpan '!AA107","v":"No"},{"$f":"'shaladarpan '!AB107","v":9},{"$f":"'shaladarpan '!AC107","v":"None"},{"$f":"'shaladarpan '!AD107","v":1}]
[{"$f":"IF(F109=\" \",\" \",ROWS($A$3:A109))","v":107},{"$f":"'shaladarpan '!A108","v":4},{"$f":"'shaladarpan '!B108","v":"A"},{"$f":"'shaladarpan '!C108","v":4434},{"$f":"'shaladarpan '!D108","v":"2017-08-25"},{"$f":"'shaladarpan '!E108","v":"manjeet107"},{"$f":"'shaladarpan '!F108","v":"00:00:00"},{"$f":"'shaladarpan '!G108","v":"vijay107"},{"$f":"'shaladarpan '!H108","v":"beautiful107"},{"$f":"'shaladarpan '!I108","v":"F"},{"$f":"'shaladarpan '!J108","v":"2012-07-05"},{"$f":"'shaladarpan '!K108","v":"yes"},{"$f":"'shaladarpan '!L108","v":107},{"$f":"'shaladarpan '!M108","v":0},{"$f":"'shaladarpan '!N108","v":0},{"$f":"'shaladarpan '!O108","v":"OBC"},{"$f":"'shaladarpan '!P108","v":"Muslim"},{"$f":"'shaladarpan '!Q108","v":0},{"$f":"'shaladarpan '!R108","v":"GOVT. SENIOR SECONDARY SCHOOL ALNIYAWAS (219445)"},{"$f":"'shaladarpan '!S108","v":8140200308},{"$f":"'shaladarpan '!T108","v":"XXXX7810"},{"$f":"'shaladarpan '!U108","v":0},{"$f":"'shaladarpan '!V108","v":9828120803},{"$f":"'shaladarpan '!W108","v":"alniyawas107"},{"$f":"'shaladarpan '!X108","v":42000},{"$f":"'shaladarpan '!Y108","v":"N"},{"$f":"'shaladarpan '!Z108","v":"N"},{"$f":"'shaladarpan '!AA108","v":"Yes"},{"$f":"'shaladarpan '!AB108","v":8},{"$f":"'shaladarpan '!AC108","v":"None"},{"$f":"'shaladarpan '!AD108","v":0}]
[{"$f":"IF(F110=\" \",\" \",ROWS($A$3:A110))","v":108},{"$f":"'shaladarpan '!A109","v":4},{"$f":"'shaladarpan '!B109","v":"A"},{"$f":"'shaladarpan '!C109","v":4436},{"$f":"'shaladarpan '!D109","v":"2017-08-29"},{"$f":"'shaladarpan '!E109","v":"manjeet108"},{"$f":"'shaladarpan '!F109","v":"00:00:00"},{"$f":"'shaladarpan '!G109","v":"vijay108"},{"$f":"'shaladarpan '!H109","v":"beautiful108"},{"$f":"'shaladarpan '!I109","v":"F"},{"$f":"'shaladarpan '!J109","v":"2012-04-09"},{"$f":"'shaladarpan '!K109","v":"no"},{"$f":"'shaladarpan '!L109","v":108},{"$f":"'shaladarpan '!M109","v":0},{"$f":"'shaladarpan '!N109","v":0},{"$f":"'shaladarpan '!O109","v":"OBC"},{"$f":"'shaladarpan '!P109","v":"Muslim"},{"$f":"'shaladarpan '!Q109","v":0},{"$f":"'shaladarpan '!R109","v":"GOVT. SENIOR SECONDARY SCHOOL ALNIYAWAS (219445)"},{"$f":"'shaladarpan '!S109","v":8140200308},{"$f":"'shaladarpan '!T109","v":"XXXX4652"},{"$f":"'shaladarpan '!U109","v":0},{"$f":"'shaladarpan '!V109","v":9828120804},{"$f":"'shaladarpan '!W109","v":"alniyawas108"},{"$f":"'shaladarpan '!X109","v":35000},{"$f":"'shaladarpan '!Y109","v":"N"},{"$f":"'shaladarpan '!Z109","v":"N"},{"$f":"'shaladarpan '!AA109","v":"Yes"},{"$f":"'shaladarpan '!AB109","v":8},{"$f":"'shaladarpan '!AC109","v":"None"},{"$f":"'shaladarpan '!AD109","v":1}]
[{"$f":"IF(F111=\" \",\" \",ROWS($A$3:A111))","v":109},{"$f":"'shaladarpan '!A110","v":4},{"$f":"'shaladarpan '!B110","v":"A"},{"$f":"'shaladarpan '!C110","v":4432},{"$f":"'shaladarpan '!D110","v":"2017-08-25"},{"$f":"'shaladarpan '!E110","v":"manjeet109"},{"$f":"'shaladarpan '!F110","v":"00:00:00"},{"$f":"'shaladarpan '!G110","v":"vijay109"},{"$f":"'shaladarpan '!H110","v":"beautiful109"},{"$f":"'shaladarpan '!I110","v":"F"},{"$f":"'shaladarpan '!J110","v":"2012-08-03"},{"$f":"'shaladarpan '!K110","v":"yes"},{"$f":"'shaladarpan '!L110","v":109},{"$f":"'shaladarpan '!M110","v":0},{"$f":"'shaladarpan '!N110","v":0},{"$f":"'shaladarpan '!O110","v":"OBC"},{"$f":"'shaladarpan '!P110","v":"Muslim"},{"$f":"'shaladarpan '!Q110","v":0},{"$f":"'shaladarpan '!R110","v":"GOVT. SENIOR SECONDARY SCHOOL ALNIYAWAS (219445)"},{"$f":"'shaladarpan '!S110","v":8140200308},{"$f":"'shaladarpan '!T110","v":"XXXX8434"},{"$f":"'shaladarpan '!U110","v":0},{"$f":"'shaladarpan '!V110","v":9828120805},{"$f":"'shaladarpan '!W110","v":"alniyawas109"},{"$f":"'shaladarpan '!X110","v":48000},{"$f":"'shaladarpan '!Y110","v":"N"},{"$f":"'shaladarpan '!Z110","v":"N"},{"$f":"'shaladarpan '!AA110","v":"Yes"},{"$f":"'shaladarpan '!AB110","v":8},{"$f":"'shaladarpan '!AC110","v":"None"},{"$f":"'shaladarpan '!AD110","v":0}]
[{"$f":"IF(F112=\" \",\" \",ROWS($A$3:A112))","v":110},{"$f":"'shaladarpan '!A111","v":4},{"$f":"'shaladarpan '!B111","v":"A"},{"$f":"'shaladarpan '!C111","v":4307},{"$f":"'shaladarpan '!D111","v":"2017-07-01"},{"$f":"'shaladarpan '!E111","v":"manjeet110"},{"$f":"'shaladarpan '!F111","v":"00:00:00"},{"$f":"'shaladarpan '!G111","v":"vijay110"},{"$f":"'shaladarpan '!H111","v":"beautiful110"},{"$f":"'shaladarpan '!I111","v":"F"},{"$f":"'shaladarpan '!J111","v":"2012-01-01"},{"$f":"'shaladarpan '!K111","v":"yes"},{"$f":"'shaladarpan '!L111","v":110},{"$f":"'shaladarpan '!M111","v":0},{"$f":"'shaladarpan '!N111","v":0},{"$f":"'shaladarpan '!O111","v":"OBC"},{"$f":"'shaladarpan '!P111","v":"Muslim"},{"$f":"'shaladarpan '!Q111","v":0},{"$f":"'shaladarpan '!R111","v":"GOVT. SENIOR SECONDARY SCHOOL ALNIYAWAS (219445)"},{"$f":"'shaladarpan '!S111","v":8140200308},{"$f":"'shaladarpan '!T111","v":"XXXX6069"},{"$f":"'shaladarpan '!U111","v":0},{"$f":"'shaladarpan '!V111","v":9828120806},{"$f":"'shaladarpan '!W111","v":"alniyawas110"},{"$f":"'shaladarpan '!X111","v":0},{"$f":"'shaladarpan '!Y111","v":"N"},{"$f":"'shaladarpan '!Z111","v":"N"},{"$f":"'shaladarpan '!AA111","v":"Yes"},{"$f":"'shaladarpan '!AB111","v":8},{"$f":"'shaladarpan '!AC111","v":"None"},{"$f":"'shaladarpan '!AD111","v":1}]
[{"$f":"IF(F113=\" \",\" \",ROWS($A$3:A113))","v":111},{"$f":"'shaladarpan '!A112","v":4},{"$f":"'shaladarpan '!B112","v":"A"},{"$f":"'shaladarpan '!C112","v":4323},{"$f":"'shaladarpan '!D112","v":"2017-07-04"},{"$f":"'shaladarpan '!E112","v":"manjeet111"},{"$f":"'shaladarpan '!F112","v":"Late"},{"$f":"'shaladarpan '!G112","v":"vijay111"},{"$f":"'shaladarpan '!H112","v":"beautiful111"},{"$f":"'shaladarpan '!I112","v":"M"},{"$f":"'shaladarpan '!J112","v":"2009-01-01"},{"$f":"'shaladarpan '!K112","v":"no"},{"$f":"'shaladarpan '!L112","v":111},{"$f":"'shaladarpan '!M112","v":0},{"$f":"'shaladarpan '!N112","v":0},{"$f":"'shaladarpan '!O112","v":"SC"},{"$f":"'shaladarpan '!P112","v":"Hindu"},{"$f":"'shaladarpan '!Q112","v":0},{"$f":"'shaladarpan '!R112","v":"GOVT. SENIOR SECONDARY SCHOOL ALNIYAWAS (219445)"},{"$f":"'shaladarpan '!S112","v":8140200308},{"$f":"'shaladarpan '!T112","v":"XXXX8740"},{"$f":"'shaladarpan '!U112","v":0},{"$f":"'shaladarpan '!V112","v":9828120807},{"$f":"'shaladarpan '!W112","v":"alniyawas111"},{"$f":"'shaladarpan '!X112","v":20000},{"$f":"'shaladarpan '!Y112","v":"N"},{"$f":"'shaladarpan '!Z112","v":"N"},{"$f":"'shaladarpan '!AA112","v":"No"},{"$f":"'shaladarpan '!AB112","v":11},{"$f":"'shaladarpan '!AC112","v":"None"},{"$f":"'shaladarpan '!AD112","v":1}]
[{"$f":"IF(F114=\" \",\" \",ROWS($A$3:A114))","v":112},{"$f":"'shaladarpan '!A113","v":4},{"$f":"'shaladarpan '!B113","v":"A"},{"$f":"'shaladarpan '!C113","v":4338},{"$f":"'shaladarpan '!D113","v":"2017-07-04"},{"$f":"'shaladarpan '!E113","v":"manjeet112"},{"$f":"'shaladarpan '!F113","v":"00:00:00"},{"$f":"'shaladarpan '!G113","v":"vijay112"},{"$f":"'shaladarpan '!H113","v":"beautiful112"},{"$f":"'shaladarpan '!I113","v":"M"},{"$f":"'shaladarpan '!J113","v":"2011-07-13"},{"$f":"'shaladarpan '!K113","v":"yes"},{"$f":"'shaladarpan '!L113","v":112},{"$f":"'shaladarpan '!M113","v":0},{"$f":"'shaladarpan '!N113","v":0},{"$f":"'shaladarpan '!O113","v":"OBC"},{"$f":"'shaladarpan '!P113","v":0},{"$f":"'shaladarpan '!Q113","v":0},{"$f":"'shaladarpan '!R113","v":"GOVT. SENIOR SECONDARY SCHOOL ALNIYAWAS (219445)"},{"$f":"'shaladarpan '!S113","v":8140200308},{"$f":"'shaladarpan '!T113","v":0},{"$f":"'shaladarpan '!U113","v":0},{"$f":"'shaladarpan '!V113","v":9828120808},{"$f":"'shaladarpan '!W113","v":"alniyawas112"},{"$f":"'shaladarpan '!X113","v":0},{"$f":"'shaladarpan '!Y113","v":"N"},{"$f":"'shaladarpan '!Z113","v":"N"},{"$f":"'shaladarpan '!AA113","v":0},{"$f":"'shaladarpan '!AB113","v":9},{"$f":"'shaladarpan '!AC113","v":"None"},{"$f":"'shaladarpan '!AD113","v":1}]
[{"$f":"IF(F115=\" \",\" \",ROWS($A$3:A115))","v":113},{"$f":"'shaladarpan '!A114","v":5},{"$f":"'shaladarpan '!B114","v":"A"},{"$f":"'shaladarpan '!C114","v":4290},{"$f":"'shaladarpan '!D114","v":"2017-06-30"},{"$f":"'shaladarpan '!E114","v":"manjeet113"},{"$f":"'shaladarpan '!F114","v":"00:00:00"},{"$f":"'shaladarpan '!G114","v":"vijay113"},{"$f":"'shaladarpan '!H114","v":"beautiful113"},{"$f":"'shaladarpan '!I114","v":"F"},{"$f":"'shaladarpan '!J114","v":"2010-01-01"},{"$f":"'shaladarpan '!K114","v":"yes"},{"$f":"'shaladarpan '!L114","v":113},{"$f":"'shaladarpan '!M114","v":0},{"$f":"'shaladarpan '!N114","v":0},{"$f":"'shaladarpan '!O114","v":"OBC"},{"$f":"'shaladarpan '!P114","v":"Muslim"},{"$f":"'shaladarpan '!Q114","v":0},{"$f":"'shaladarpan '!R114","v":"GOVT. SENIOR SECONDARY SCHOOL ALNIYAWAS (219445)"},{"$f":"'shaladarpan '!S114","v":8140200308},{"$f":"'shaladarpan '!T114","v":"XXXX5164"},{"$f":"'shaladarpan '!U114","v":0},{"$f":"'shaladarpan '!V114","v":9828120809},{"$f":"'shaladarpan '!W114","v":"alniyawas113"},{"$f":"'shaladarpan '!X114","v":35000},{"$f":"'shaladarpan '!Y114","v":"N"},{"$f":"'shaladarpan '!Z114","v":"N"},{"$f":"'shaladarpan '!AA114","v":"Yes"},{"$f":"'shaladarpan '!AB114","v":10},{"$f":"'shaladarpan '!AC114","v":"None"},{"$f":"'shaladarpan '!AD114","v":1}]
[{"$f":"IF(F116=\" \",\" \",ROWS($A$3:A116))","v":114},{"$f":"'shaladarpan '!A115","v":5},{"$f":"'shaladarpan '!B115","v":"A"},{"$f":"'shaladarpan '!C115","v":4304},{"$f":"'shaladarpan '!D115","v":"2017-07-01"},{"$f":"'shaladarpan '!E115","v":"manjeet114"},{"$f":"'shaladarpan '!F115","v":"00:00:00"},{"$f":"'shaladarpan '!G115","v":"vijay114"},{"$f":"'shaladarpan '!H115","v":"beautiful114"},{"$f":"'shaladarpan '!I115","v":"M"},{"$f":"'shaladarpan '!J115","v":"2005-06-10"},{"$f":"'shaladarpan '!K115","v":"no"},{"$f":"'shaladarpan '!L115","v":114},{"$f":"'shaladarpan '!M115","v":0},{"$f":"'shaladarpan '!N115","v":0},{"$f":"'shaladarpan '!O115","v":"GEN"},{"$f":"'shaladarpan '!P115","v":"Hindu"},{"$f":"'shaladarpan '!Q115","v":0},{"$f":"'shaladarpan '!R115","v":"GOVT. SENIOR SECONDARY SCHOOL ALNIYAWAS (219445)"},{"$f":"'shaladarpan '!S115","v":8140200308},{"$f":"'shaladarpan '!T115","v":"XXXX3283"},{"$f":"'shaladarpan '!U115","v":0},{"$f":"'shaladarpan '!V115","v":9828120810},{"$f":"'shaladarpan '!W115","v":"alniyawas114"},{"$f":"'shaladarpan '!X115","v":40000},{"$f":"'shaladarpan '!Y115","v":"N"},{"$f":"'shaladarpan '!Z115","v":"N"},{"$f":"'shaladarpan '!AA115","v":"No"},{"$f":"'shaladarpan '!AB115","v":15},{"$f":"'shaladarpan '!AC115","v":"None"},{"$f":"'shaladarpan '!AD115","v":1}]
[{"$f":"IF(F117=\" \",\" \",ROWS($A$3:A117))","v":115},{"$f":"'shaladarpan '!A116","v":5},{"$f":"'shaladarpan '!B116","v":"A"},{"$f":"'shaladarpan '!C116","v":4246},{"$f":"'shaladarpan '!D116","v":"2016-08-05"},{"$f":"'shaladarpan '!E116","v":"manjeet115"},{"$f":"'shaladarpan '!F116","v":"00:00:00"},{"$f":"'shaladarpan '!G116","v":"vijay115"},{"$f":"'shaladarpan '!H116","v":"beautiful115"},{"$f":"'shaladarpan '!I116","v":"M"},{"$f":"'shaladarpan '!J116","v":"2010-07-05"},{"$f":"'shaladarpan '!K116","v":"yes"},{"$f":"'shaladarpan '!L116","v":115},{"$f":"'shaladarpan '!M116","v":0},{"$f":"'shaladarpan '!N116","v":0},{"$f":"'shaladarpan '!O116","v":"OBC"},{"$f":"'shaladarpan '!P116","v":"Muslim"},{"$f":"'shaladarpan '!Q116","v":0},{"$f":"'shaladarpan '!R116","v":"GOVT. SENIOR SECONDARY SCHOOL ALNIYAWAS (219445)"},{"$f":"'shaladarpan '!S116","v":8140200308},{"$f":"'shaladarpan '!T116","v":0},{"$f":"'shaladarpan '!U116","v":0},{"$f":"'shaladarpan '!V116","v":9828120811},{"$f":"'shaladarpan '!W116","v":"alniyawas115"},{"$f":"'shaladarpan '!X116","v":0},{"$f":"'shaladarpan '!Y116","v":"N"},{"$f":"'shaladarpan '!Z116","v":"N"},{"$f":"'shaladarpan '!AA116","v":"Yes"},{"$f":"'shaladarpan '!AB116","v":10},{"$f":"'shaladarpan '!AC116","v":"None"},{"$f":"'shaladarpan '!AD116","v":1}]
[{"$f":"IF(F118=\" \",\" \",ROWS($A$3:A118))","v":116},{"$f":"'shaladarpan '!A117","v":5},{"$f":"'shaladarpan '!B117","v":"A"},{"$f":"'shaladarpan '!C117","v":4740},{"$f":"'shaladarpan '!D117","v":"2019-07-15"},{"$f":"'shaladarpan '!E117","v":"manjeet116"},{"$f":"'shaladarpan '!F117","v":"00:00:00"},{"$f":"'shaladarpan '!G117","v":"vijay116"},{"$f":"'shaladarpan '!H117","v":"beautiful116"},{"$f":"'shaladarpan '!I117","v":"M"},{"$f":"'shaladarpan '!J117","v":"2009-07-05"},{"$f":"'shaladarpan '!K117","v":"yes"},{"$f":"'shaladarpan '!L117","v":116},{"$f":"'shaladarpan '!M117","v":0},{"$f":"'shaladarpan '!N117","v":0},{"$f":"'shaladarpan '!O117","v":"SC"},{"$f":"'shaladarpan '!P117","v":"Hindu"},{"$f":"'shaladarpan '!Q117","v":0},{"$f":"'shaladarpan '!R117","v":"GOVT. SENIOR SECONDARY SCHOOL ALNIYAWAS (219445)"},{"$f":"'shaladarpan '!S117","v":8140200308},{"$f":"'shaladarpan '!T117","v":0},{"$f":"'shaladarpan '!U117","v":0},{"$f":"'shaladarpan '!V117","v":9828120812},{"$f":"'shaladarpan '!W117","v":"alniyawas116"},{"$f":"'shaladarpan '!X117","v":50000},{"$f":"'shaladarpan '!Y117","v":"N"},{"$f":"'shaladarpan '!Z117","v":"N"},{"$f":"'shaladarpan '!AA117","v":"No"},{"$f":"'shaladarpan '!AB117","v":11},{"$f":"'shaladarpan '!AC117","v":"None"},{"$f":"'shaladarpan '!AD117","v":1}]
[{"$f":"IF(F119=\" \",\" \",ROWS($A$3:A119))","v":117},{"$f":"'shaladarpan '!A118","v":5},{"$f":"'shaladarpan '!B118","v":"A"},{"$f":"'shaladarpan '!C118","v":4193},{"$f":"'shaladarpan '!D118","v":"2016-07-11"},{"$f":"'shaladarpan '!E118","v":"manjeet117"},{"$f":"'shaladarpan '!F118","v":"00:00:00"},{"$f":"'shaladarpan '!G118","v":"vijay117"},{"$f":"'shaladarpan '!H118","v":"beautiful117"},{"$f":"'shaladarpan '!I118","v":"M"},{"$f":"'shaladarpan '!J118","v":"2010-05-07"},{"$f":"'shaladarpan '!K118","v":"no"},{"$f":"'shaladarpan '!L118","v":117},{"$f":"'shaladarpan '!M118","v":0},{"$f":"'shaladarpan '!N118","v":0},{"$f":"'shaladarpan '!O118","v":"OBC"},{"$f":"'shaladarpan '!P118","v":0},{"$f":"'shaladarpan '!Q118","v":0},{"$f":"'shaladarpan '!R118","v":"GOVT. SENIOR SECONDARY SCHOOL ALNIYAWAS (219445)"},{"$f":"'shaladarpan '!S118","v":8140200308},{"$f":"'shaladarpan '!T118","v":"XXXX5083"},{"$f":"'shaladarpan '!U118","v":0},{"$f":"'shaladarpan '!V118","v":9828120813},{"$f":"'shaladarpan '!W118","v":"alniyawas117"},{"$f":"'shaladarpan '!X118","v":0},{"$f":"'shaladarpan '!Y118","v":"N"},{"$f":"'shaladarpan '!Z118","v":"N"},{"$f":"'shaladarpan '!AA118","v":0},{"$f":"'shaladarpan '!AB118","v":10},{"$f":"'shaladarpan '!AC118","v":"None"},{"$f":"'shaladarpan '!AD118","v":0}]
[{"$f":"IF(F120=\" \",\" \",ROWS($A$3:A120))","v":118},{"$f":"'shaladarpan '!A119","v":5},{"$f":"'shaladarpan '!B119","v":"A"},{"$f":"'shaladarpan '!C119","v":4109},{"$f":"'shaladarpan '!D119","v":"2016-06-28"},{"$f":"'shaladarpan '!E119","v":"manjeet118"},{"$f":"'shaladarpan '!F119","v":"00:00:00"},{"$f":"'shaladarpan '!G119","v":"vijay118"},{"$f":"'shaladarpan '!H119","v":"beautiful118"},{"$f":"'shaladarpan '!I119","v":"F"},{"$f":"'shaladarpan '!J119","v":"2010-06-25"},{"$f":"'shaladarpan '!K119","v":"yes"},{"$f":"'shaladarpan '!L119","v":118},{"$f":"'shaladarpan '!M119","v":0},{"$f":"'shaladarpan '!N119","v":0},{"$f":"'shaladarpan '!O119","v":"OBC"},{"$f":"'shaladarpan '!P119","v":"Muslim"},{"$f":"'shaladarpan '!Q119","v":0},{"$f":"'shaladarpan '!R119","v":"GOVT. SENIOR SECONDARY SCHOOL ALNIYAWAS (219445)"},{"$f":"'shaladarpan '!S119","v":8140200308},{"$f":"'shaladarpan '!T119","v":0},{"$f":"'shaladarpan '!U119","v":0},{"$f":"'shaladarpan '!V119","v":9828120814},{"$f":"'shaladarpan '!W119","v":"alniyawas118"},{"$f":"'shaladarpan '!X119","v":45000},{"$f":"'shaladarpan '!Y119","v":"N"},{"$f":"'shaladarpan '!Z119","v":"N"},{"$f":"'shaladarpan '!AA119","v":"Yes"},{"$f":"'shaladarpan '!AB119","v":10},{"$f":"'shaladarpan '!AC119","v":"None"},{"$f":"'shaladarpan '!AD119","v":1}]
[{"$f":"IF(F121=\" \",\" \",ROWS($A$3:A121))","v":119},{"$f":"'shaladarpan '!A120","v":5},{"$f":"'shaladarpan '!B120","v":"A"},{"$f":"'shaladarpan '!C120","v":4248},{"$f":"'shaladarpan '!D120","v":"2016-08-11"},{"$f":"'shaladarpan '!E120","v":"manjeet119"},{"$f":"'shaladarpan '!F120","v":"00:00:00"},{"$f":"'shaladarpan '!G120","v":"vijay119"},{"$f":"'shaladarpan '!H120","v":"beautiful119"},{"$f":"'shaladarpan '!I120","v":"M"},{"$f":"'shaladarpan '!J120","v":"2010-07-05"},{"$f":"'shaladarpan '!K120","v":"yes"},{"$f":"'shaladarpan '!L120","v":119},{"$f":"'shaladarpan '!M120","v":0},{"$f":"'shaladarpan '!N120","v":0},{"$f":"'shaladarpan '!O120","v":"OBC"},{"$f":"'shaladarpan '!P120","v":"Muslim"},{"$f":"'shaladarpan '!Q120","v":0},{"$f":"'shaladarpan '!R120","v":"GOVT. SENIOR SECONDARY SCHOOL ALNIYAWAS (219445)"},{"$f":"'shaladarpan '!S120","v":8140200308},{"$f":"'shaladarpan '!T120","v":"XXXX7100"},{"$f":"'shaladarpan '!U120","v":0},{"$f":"'shaladarpan '!V120","v":9828120815},{"$f":"'shaladarpan '!W120","v":"alniyawas119"},{"$f":"'shaladarpan '!X120","v":0},{"$f":"'shaladarpan '!Y120","v":"N"},{"$f":"'shaladarpan '!Z120","v":"N"},{"$f":"'shaladarpan '!AA120","v":"Yes"},{"$f":"'shaladarpan '!AB120","v":10},{"$f":"'shaladarpan '!AC120","v":"None"},{"$f":"'shaladarpan '!AD120","v":1}]
[{"$f":"IF(F122=\" \",\" \",ROWS($A$3:A122))","v":120},{"$f":"'shaladarpan '!A121","v":5},{"$f":"'shaladarpan '!B121","v":"A"},{"$f":"'shaladarpan '!C121","v":4167},{"$f":"'shaladarpan '!D121","v":"2016-07-04"},{"$f":"'shaladarpan '!E121","v":"manjeet120"},{"$f":"'shaladarpan '!F121","v":"00:00:00"},{"$f":"'shaladarpan '!G121","v":"vijay120"},{"$f":"'shaladarpan '!H121","v":"beautiful120"},{"$f":"'shaladarpan '!I121","v":"F"},{"$f":"'shaladarpan '!J121","v":"2011-05-07"},{"$f":"'shaladarpan '!K121","v":"no"},{"$f":"'shaladarpan '!L121","v":120},{"$f":"'shaladarpan '!M121","v":0},{"$f":"'shaladarpan '!N121","v":0},{"$f":"'shaladarpan '!O121","v":"OBC"},{"$f":"'shaladarpan '!P121","v":"Hindu"},{"$f":"'shaladarpan '!Q121","v":0},{"$f":"'shaladarpan '!R121","v":"GOVT. SENIOR SECONDARY SCHOOL ALNIYAWAS (219445)"},{"$f":"'shaladarpan '!S121","v":8140200308},{"$f":"'shaladarpan '!T121","v":"XXXX4049"},{"$f":"'shaladarpan '!U121","v":0},{"$f":"'shaladarpan '!V121","v":9828120816},{"$f":"'shaladarpan '!W121","v":"alniyawas120"},{"$f":"'shaladarpan '!X121","v":0},{"$f":"'shaladarpan '!Y121","v":"N"},{"$f":"'shaladarpan '!Z121","v":"N"},{"$f":"'shaladarpan '!AA121","v":"No"},{"$f":"'shaladarpan '!AB121","v":9},{"$f":"'shaladarpan '!AC121","v":"None"},{"$f":"'shaladarpan '!AD121","v":1}]
[{"$f":"IF(F123=\" \",\" \",ROWS($A$3:A123))","v":121},{"$f":"'shaladarpan '!A122","v":5},{"$f":"'shaladarpan '!B122","v":"A"},{"$f":"'shaladarpan '!C122","v":4589},{"$f":"'shaladarpan '!D122","v":"2018-07-21"},{"$f":"'shaladarpan '!E122","v":"manjeet121"},{"$f":"'shaladarpan '!F122","v":"00:00:00"},{"$f":"'shaladarpan '!G122","v":"vijay121"},{"$f":"'shaladarpan '!H122","v":"beautiful121"},{"$f":"'shaladarpan '!I122","v":"M"},{"$f":"'shaladarpan '!J122","v":"2011-03-01"},{"$f":"'shaladarpan '!K122","v":"yes"},{"$f":"'shaladarpan '!L122","v":121},{"$f":"'shaladarpan '!M122","v":0},{"$f":"'shaladarpan '!N122","v":0},{"$f":"'shaladarpan '!O122","v":"OBC"},{"$f":"'shaladarpan '!P122","v":"Hindu"},{"$f":"'shaladarpan '!Q122","v":0},{"$f":"'shaladarpan '!R122","v":"GOVT. SENIOR SECONDARY SCHOOL ALNIYAWAS (219445)"},{"$f":"'shaladarpan '!S122","v":8140200308},{"$f":"'shaladarpan '!T122","v":"XXXX2976"},{"$f":"'shaladarpan '!U122","v":0},{"$f":"'shaladarpan '!V122","v":9828120817},{"$f":"'shaladarpan '!W122","v":"alniyawas121"},{"$f":"'shaladarpan '!X122","v":40000},{"$f":"'shaladarpan '!Y122","v":"N"},{"$f":"'shaladarpan '!Z122","v":"N"},{"$f":"'shaladarpan '!AA122","v":"No"},{"$f":"'shaladarpan '!AB122","v":9},{"$f":"'shaladarpan '!AC122","v":"None"},{"$f":"'shaladarpan '!AD122","v":0}]
[{"$f":"IF(F124=\" \",\" \",ROWS($A$3:A124))","v":122},{"$f":"'shaladarpan '!A123","v":5},{"$f":"'shaladarpan '!B123","v":"A"},{"$f":"'shaladarpan '!C123","v":4257},{"$f":"'shaladarpan '!D123","v":"2016-11-24"},{"$f":"'shaladarpan '!E123","v":"manjeet122"},{"$f":"'shaladarpan '!F123","v":"00:00:00"},{"$f":"'shaladarpan '!G123","v":"vijay122"},{"$f":"'shaladarpan '!H123","v":"beautiful122"},{"$f":"'shaladarpan '!I123","v":"M"},{"$f":"'shaladarpan '!J123","v":"2011-04-05"},{"$f":"'shaladarpan '!K123","v":"yes"},{"$f":"'shaladarpan '!L123","v":122},{"$f":"'shaladarpan '!M123","v":0},{"$f":"'shaladarpan '!N123","v":0},{"$f":"'shaladarpan '!O123","v":"OBC"},{"$f":"'shaladarpan '!P123","v":"Muslim"},{"$f":"'shaladarpan '!Q123","v":0},{"$f":"'shaladarpan '!R123","v":"GOVT. SENIOR SECONDARY SCHOOL ALNIYAWAS (219445)"},{"$f":"'shaladarpan '!S123","v":8140200308},{"$f":"'shaladarpan '!T123","v":"XXXX8178"},{"$f":"'shaladarpan '!U123","v":0},{"$f":"'shaladarpan '!V123","v":9828120818},{"$f":"'shaladarpan '!W123","v":"alniyawas122"},{"$f":"'shaladarpan '!X123","v":0},{"$f":"'shaladarpan '!Y123","v":"N"},{"$f":"'shaladarpan '!Z123","v":"N"},{"$f":"'shaladarpan '!AA123","v":"Yes"},{"$f":"'shaladarpan '!AB123","v":9},{"$f":"'shaladarpan '!AC123","v":"None"},{"$f":"'shaladarpan '!AD123","v":1}]
[{"$f":"IF(F125=\" \",\" \",ROWS($A$3:A125))","v":123},{"$f":"'shaladarpan '!A124","v":5},{"$f":"'shaladarpan '!B124","v":"A"},{"$f":"'shaladarpan '!C124","v":4122},{"$f":"'shaladarpan '!D124","v":"2016-06-30"},{"$f":"'shaladarpan '!E124","v":"manjeet123"},{"$f":"'shaladarpan '!F124","v":"00:00:00"},{"$f":"'shaladarpan '!G124","v":"vijay123"},{"$f":"'shaladarpan '!H124","v":"beautiful123"},{"$f":"'shaladarpan '!I124","v":"F"},{"$f":"'shaladarpan '!J124","v":"2008-06-11"},{"$f":"'shaladarpan '!K124","v":"no"},{"$f":"'shaladarpan '!L124","v":123},{"$f":"'shaladarpan '!M124","v":0},{"$f":"'shaladarpan '!N124","v":0},{"$f":"'shaladarpan '!O124","v":"OBC"},{"$f":"'shaladarpan '!P124","v":0},{"$f":"'shaladarpan '!Q124","v":0},{"$f":"'shaladarpan '!R124","v":"GOVT. SENIOR SECONDARY SCHOOL ALNIYAWAS (219445)"},{"$f":"'shaladarpan '!S124","v":8140200308},{"$f":"'shaladarpan '!T124","v":"XXXX0920"},{"$f":"'shaladarpan '!U124","v":0},{"$f":"'shaladarpan '!V124","v":9828120819},{"$f":"'shaladarpan '!W124","v":"alniyawas123"},{"$f":"'shaladarpan '!X124","v":0},{"$f":"'shaladarpan '!Y124","v":"N"},{"$f":"'shaladarpan '!Z124","v":"N"},{"$f":"'shaladarpan '!AA124","v":0},{"$f":"'shaladarpan '!AB124","v":12},{"$f":"'shaladarpan '!AC124","v":"None"},{"$f":"'shaladarpan '!AD124","v":1}]
[{"$f":"IF(F126=\" \",\" \",ROWS($A$3:A126))","v":124},{"$f":"'shaladarpan '!A125","v":5},{"$f":"'shaladarpan '!B125","v":"A"},{"$f":"'shaladarpan '!C125","v":4110},{"$f":"'shaladarpan '!D125","v":"2016-06-28"},{"$f":"'shaladarpan '!E125","v":"manjeet124"},{"$f":"'shaladarpan '!F125","v":"00:00:00"},{"$f":"'shaladarpan '!G125","v":"vijay124"},{"$f":"'shaladarpan '!H125","v":"beautiful124"},{"$f":"'shaladarpan '!I125","v":"M"},{"$f":"'shaladarpan '!J125","v":"2011-05-15"},{"$f":"'shaladarpan '!K125","v":"yes"},{"$f":"'shaladarpan '!L125","v":124},{"$f":"'shaladarpan '!M125","v":0},{"$f":"'shaladarpan '!N125","v":0},{"$f":"'shaladarpan '!O125","v":"OBC"},{"$f":"'shaladarpan '!P125","v":"Muslim"},{"$f":"'shaladarpan '!Q125","v":0},{"$f":"'shaladarpan '!R125","v":"GOVT. SENIOR SECONDARY SCHOOL ALNIYAWAS (219445)"},{"$f":"'shaladarpan '!S125","v":8140200308},{"$f":"'shaladarpan '!T125","v":"XXXX6056"},{"$f":"'shaladarpan '!U125","v":0},{"$f":"'shaladarpan '!V125","v":9828120820},{"$f":"'shaladarpan '!W125","v":"alniyawas124"},{"$f":"'shaladarpan '!X125","v":45000},{"$f":"'shaladarpan '!Y125","v":"N"},{"$f":"'shaladarpan '!Z125","v":"N"},{"$f":"'shaladarpan '!AA125","v":"Yes"},{"$f":"'shaladarpan '!AB125","v":9},{"$f":"'shaladarpan '!AC125","v":"None"},{"$f":"'shaladarpan '!AD125","v":1}]
[{"$f":"IF(F127=\" \",\" \",ROWS($A$3:A127))","v":125},{"$f":"'shaladarpan '!A126","v":5},{"$f":"'shaladarpan '!B126","v":"A"},{"$f":"'shaladarpan '!C126","v":4250},{"$f":"'shaladarpan '!D126","v":"2016-08-16"},{"$f":"'shaladarpan '!E126","v":"manjeet125"},{"$f":"'shaladarpan '!F126","v":"00:00:00"},{"$f":"'shaladarpan '!G126","v":"vijay125"},{"$f":"'shaladarpan '!H126","v":"beautiful125"},{"$f":"'shaladarpan '!I126","v":"M"},{"$f":"'shaladarpan '!J126","v":"2009-05-07"},{"$f":"'shaladarpan '!K126","v":"yes"},{"$f":"'shaladarpan '!L126","v":125},{"$f":"'shaladarpan '!M126","v":0},{"$f":"'shaladarpan '!N126","v":0},{"$f":"'shaladarpan '!O126","v":"OBC"},{"$f":"'shaladarpan '!P126","v":"Muslim"},{"$f":"'shaladarpan '!Q126","v":0},{"$f":"'shaladarpan '!R126","v":"GOVT. SENIOR SECONDARY SCHOOL ALNIYAWAS (219445)"},{"$f":"'shaladarpan '!S126","v":8140200308},{"$f":"'shaladarpan '!T126","v":"XXXX9983"},{"$f":"'shaladarpan '!U126","v":0},{"$f":"'shaladarpan '!V126","v":9828120821},{"$f":"'shaladarpan '!W126","v":"alniyawas125"},{"$f":"'shaladarpan '!X126","v":0},{"$f":"'shaladarpan '!Y126","v":"N"},{"$f":"'shaladarpan '!Z126","v":"N"},{"$f":"'shaladarpan '!AA126","v":"Yes"},{"$f":"'shaladarpan '!AB126","v":11},{"$f":"'shaladarpan '!AC126","v":"None"},{"$f":"'shaladarpan '!AD126","v":1}]
[{"$f":"IF(F128=\" \",\" \",ROWS($A$3:A128))","v":126},{"$f":"'shaladarpan '!A127","v":5},{"$f":"'shaladarpan '!B127","v":"A"},{"$f":"'shaladarpan '!C127","v":4674},{"$f":"'shaladarpan '!D127","v":"2019-07-08"},{"$f":"'shaladarpan '!E127","v":"manjeet126"},{"$f":"'shaladarpan '!F127","v":"00:00:00"},{"$f":"'shaladarpan '!G127","v":"vijay126"},{"$f":"'shaladarpan '!H127","v":"beautiful126"},{"$f":"'shaladarpan '!I127","v":"M"},{"$f":"'shaladarpan '!J127","v":"2007-09-04"},{"$f":"'shaladarpan '!K127","v":"no"},{"$f":"'shaladarpan '!L127","v":126},{"$f":"'shaladarpan '!M127","v":0},{"$f":"'shaladarpan '!N127","v":0},{"$f":"'shaladarpan '!O127","v":"OBC"},{"$f":"'shaladarpan '!P127","v":"Muslim"},{"$f":"'shaladarpan '!Q127","v":0},{"$f":"'shaladarpan '!R127","v":"GOVT. SENIOR SECONDARY SCHOOL ALNIYAWAS (219445)"},{"$f":"'shaladarpan '!S127","v":8140200308},{"$f":"'shaladarpan '!T127","v":"XXXX0503"},{"$f":"'shaladarpan '!U127","v":0},{"$f":"'shaladarpan '!V127","v":9828120822},{"$f":"'shaladarpan '!W127","v":"alniyawas126"},{"$f":"'shaladarpan '!X127","v":60000},{"$f":"'shaladarpan '!Y127","v":"N"},{"$f":"'shaladarpan '!Z127","v":"N"},{"$f":"'shaladarpan '!AA127","v":"Yes"},{"$f":"'shaladarpan '!AB127","v":13},{"$f":"'shaladarpan '!AC127","v":"None"},{"$f":"'shaladarpan '!AD127","v":0}]
[{"$f":"IF(F129=\" \",\" \",ROWS($A$3:A129))","v":127},{"$f":"'shaladarpan '!A128","v":5},{"$f":"'shaladarpan '!B128","v":"A"},{"$f":"'shaladarpan '!C128","v":4672},{"$f":"'shaladarpan '!D128","v":"2019-07-08"},{"$f":"'shaladarpan '!E128","v":"manjeet127"},{"$f":"'shaladarpan '!F128","v":"00:00:00"},{"$f":"'shaladarpan '!G128","v":"vijay127"},{"$f":"'shaladarpan '!H128","v":"beautiful127"},{"$f":"'shaladarpan '!I128","v":"M"},{"$f":"'shaladarpan '!J128","v":"2007-12-05"},{"$f":"'shaladarpan '!K128","v":"yes"},{"$f":"'shaladarpan '!L128","v":127},{"$f":"'shaladarpan '!M128","v":0},{"$f":"'shaladarpan '!N128","v":0},{"$f":"'shaladarpan '!O128","v":"OBC"},{"$f":"'shaladarpan '!P128","v":"Muslim"},{"$f":"'shaladarpan '!Q128","v":0},{"$f":"'shaladarpan '!R128","v":"GOVT. SENIOR SECONDARY SCHOOL ALNIYAWAS (219445)"},{"$f":"'shaladarpan '!S128","v":8140200308},{"$f":"'shaladarpan '!T128","v":0},{"$f":"'shaladarpan '!U128","v":"vpsncvp"},{"$f":"'shaladarpan '!V128","v":9828120823},{"$f":"'shaladarpan '!W128","v":"alniyawas127"},{"$f":"'shaladarpan '!X128","v":50000},{"$f":"'shaladarpan '!Y128","v":"N"},{"$f":"'shaladarpan '!Z128","v":"N"},{"$f":"'shaladarpan '!AA128","v":"Yes"},{"$f":"'shaladarpan '!AB128","v":13},{"$f":"'shaladarpan '!AC128","v":"None"},{"$f":"'shaladarpan '!AD128","v":0}]
[{"$f":"IF(F130=\" \",\" \",ROWS($A$3:A130))","v":128},{"$f":"'shaladarpan '!A129","v":5},{"$f":"'shaladarpan '!B129","v":"A"},{"$f":"'shaladarpan '!C129","v":4117},{"$f":"'shaladarpan '!D129","v":"2016-06-28"},{"$f":"'shaladarpan '!E129","v":"manjeet128"},{"$f":"'shaladarpan '!F129","v":"00:00:00"},{"$f":"'shaladarpan '!G129","v":"vijay128"},{"$f":"'shaladarpan '!H129","v":"beautiful128"},{"$f":"'shaladarpan '!I129","v":"F"},{"$f":"'shaladarpan '!J129","v":"2010-07-21"},{"$f":"'shaladarpan '!K129","v":"yes"},1,{"$f":"'shaladarpan '!M129","v":0},{"$f":"'shaladarpan '!N129","v":0},{"$f":"'shaladarpan '!O129","v":"OBC"},{"$f":"'shaladarpan '!P129","v":0},{"$f":"'shaladarpan '!Q129","v":0},{"$f":"'shaladarpan '!R129","v":"GOVT. SENIOR SECONDARY SCHOOL ALNIYAWAS (219445)"},{"$f":"'shaladarpan '!S129","v":8140200308},{"$f":"'shaladarpan '!T129","v":"XXXX5444"},{"$f":"'shaladarpan '!U129","v":0},{"$f":"'shaladarpan '!V129","v":9828120824},{"$f":"'shaladarpan '!W129","v":"alniyawas128"},{"$f":"'shaladarpan '!X129","v":0},{"$f":"'shaladarpan '!Y129","v":"N"},{"$f":"'shaladarpan '!Z129","v":"N"},{"$f":"'shaladarpan '!AA129","v":0},{"$f":"'shaladarpan '!AB129","v":10},{"$f":"'shaladarpan '!AC129","v":"None"},{"$f":"'shaladarpan '!AD129","v":1}]
[{"$f":"IF(F131=\" \",\" \",ROWS($A$3:A131))","v":129},{"$f":"'shaladarpan '!A130","v":5},{"$f":"'shaladarpan '!B130","v":"A"},{"$f":"'shaladarpan '!C130","v":4802},{"$f":"'shaladarpan '!D130","v":"00:00:00"},{"$f":"'shaladarpan '!E130","v":"manjeet129"},{"$f":"'shaladarpan '!F130","v":"00:00:00"},{"$f":"'shaladarpan '!G130","v":"vijay129"},{"$f":"'shaladarpan '!H130","v":"beautiful129"},{"$f":"'shaladarpan '!I130","v":"F"},{"$f":"'shaladarpan '!J130","v":"2011-01-14"},{"$f":"'shaladarpan '!K130","v":"no"},2,{"$f":"'shaladarpan '!M130","v":0},{"$f":"'shaladarpan '!N130","v":0},{"$f":"'shaladarpan '!O130","v":"OBC"},{"$f":"'shaladarpan '!P130","v":0},{"$f":"'shaladarpan '!Q130","v":0},{"$f":"'shaladarpan '!R130","v":"GOVT. SENIOR SECONDARY SCHOOL ALNIYAWAS (219445)"},{"$f":"'shaladarpan '!S130","v":8140200308},{"$f":"'shaladarpan '!T130","v":0},{"$f":"'shaladarpan '!U130","v":0},{"$f":"'shaladarpan '!V130","v":9828120825},{"$f":"'shaladarpan '!W130","v":"alniyawas129"},{"$f":"'shaladarpan '!X130","v":0},{"$f":"'shaladarpan '!Y130","v":"N"},{"$f":"'shaladarpan '!Z130","v":"Y"},{"$f":"'shaladarpan '!AA130","v":0},{"$f":"'shaladarpan '!AB130","v":9},{"$f":"'shaladarpan '!AC130","v":0},{"$f":"'shaladarpan '!AD130","v":1}]
[{"$f":"IF(F132=\" \",\" \",ROWS($A$3:A132))","v":130},{"$f":"'shaladarpan '!A131","v":5},{"$f":"'shaladarpan '!B131","v":"A"},{"$f":"'shaladarpan '!C131","v":4131},{"$f":"'shaladarpan '!D131","v":"2016-07-01"},{"$f":"'shaladarpan '!E131","v":"manjeet130"},{"$f":"'shaladarpan '!F131","v":"00:00:00"},{"$f":"'shaladarpan '!G131","v":"vijay130"},{"$f":"'shaladarpan '!H131","v":"beautiful130"},{"$f":"'shaladarpan '!I131","v":"F"},{"$f":"'shaladarpan '!J131","v":"2008-03-05"},{"$f":"'shaladarpan '!K131","v":"yes"},3,{"$f":"'shaladarpan '!M131","v":0},{"$f":"'shaladarpan '!N131","v":0},{"$f":"'shaladarpan '!O131","v":"OBC"},{"$f":"'shaladarpan '!P131","v":"Hindu"},{"$f":"'shaladarpan '!Q131","v":0},{"$f":"'shaladarpan '!R131","v":"GOVT. SENIOR SECONDARY SCHOOL ALNIYAWAS (219445)"},{"$f":"'shaladarpan '!S131","v":8140200308},{"$f":"'shaladarpan '!T131","v":"XXXX4024"},{"$f":"'shaladarpan '!U131","v":0},{"$f":"'shaladarpan '!V131","v":9828120826},{"$f":"'shaladarpan '!W131","v":"alniyawas130"},{"$f":"'shaladarpan '!X131","v":40000},{"$f":"'shaladarpan '!Y131","v":"N"},{"$f":"'shaladarpan '!Z131","v":"N"},{"$f":"'shaladarpan '!AA131","v":"No"},{"$f":"'shaladarpan '!AB131","v":12},{"$f":"'shaladarpan '!AC131","v":"None"},{"$f":"'shaladarpan '!AD131","v":1}]
[{"$f":"IF(F133=\" \",\" \",ROWS($A$3:A133))","v":131},{"$f":"'shaladarpan '!A132","v":5},{"$f":"'shaladarpan '!B132","v":"A"},{"$f":"'shaladarpan '!C132","v":4652},{"$f":"'shaladarpan '!D132","v":"2019-07-05"},{"$f":"'shaladarpan '!E132","v":"manjeet131"},{"$f":"'shaladarpan '!F132","v":"00:00:00"},{"$f":"'shaladarpan '!G132","v":"vijay131"},{"$f":"'shaladarpan '!H132","v":"beautiful131"},{"$f":"'shaladarpan '!I132","v":"M"},{"$f":"'shaladarpan '!J132","v":"2007-12-10"},{"$f":"'shaladarpan '!K132","v":"yes"},{"$f":"'shaladarpan '!L132","v":131},{"$f":"'shaladarpan '!M132","v":0},{"$f":"'shaladarpan '!N132","v":0},{"$f":"'shaladarpan '!O132","v":"OBC"},{"$f":"'shaladarpan '!P132","v":"Hindu"},{"$f":"'shaladarpan '!Q132","v":0},{"$f":"'shaladarpan '!R132","v":"GOVT. SENIOR SECONDARY SCHOOL ALNIYAWAS (219445)"},{"$f":"'shaladarpan '!S132","v":8140200308},{"$f":"'shaladarpan '!T132","v":"XXXX4312"},{"$f":"'shaladarpan '!U132","v":0},{"$f":"'shaladarpan '!V132","v":9828120827},{"$f":"'shaladarpan '!W132","v":"alniyawas131"},{"$f":"'shaladarpan '!X132","v":60000},{"$f":"'shaladarpan '!Y132","v":"N"},{"$f":"'shaladarpan '!Z132","v":"N"},{"$f":"'shaladarpan '!AA132","v":"No"},{"$f":"'shaladarpan '!AB132","v":13},{"$f":"'shaladarpan '!AC132","v":"None"},{"$f":"'shaladarpan '!AD132","v":7}]
[{"$f":"IF(F134=\" \",\" \",ROWS($A$3:A134))","v":132},{"$f":"'shaladarpan '!A133","v":5},{"$f":"'shaladarpan '!B133","v":"A"},{"$f":"'shaladarpan '!C133","v":4722},{"$f":"'shaladarpan '!D133","v":"2019-07-12"},{"$f":"'shaladarpan '!E133","v":"manjeet132"},{"$f":"'shaladarpan '!F133","v":"00:00:00"},{"$f":"'shaladarpan '!G133","v":"vijay132"},{"$f":"'shaladarpan '!H133","v":"beautiful132"},{"$f":"'shaladarpan '!I133","v":"M"},{"$f":"'shaladarpan '!J133","v":"2009-01-01"},{"$f":"'shaladarpan '!K133","v":"no"},{"$f":"'shaladarpan '!L133","v":132},{"$f":"'shaladarpan '!M133","v":0},{"$f":"'shaladarpan '!N133","v":0},{"$f":"'shaladarpan '!O133","v":"SBC"},{"$f":"'shaladarpan '!P133","v":"Hindu"},{"$f":"'shaladarpan '!Q133","v":0},{"$f":"'shaladarpan '!R133","v":"GOVT. SENIOR SECONDARY SCHOOL ALNIYAWAS (219445)"},{"$f":"'shaladarpan '!S133","v":8140200308},{"$f":"'shaladarpan '!T133","v":"XXXX1833"},{"$f":"'shaladarpan '!U133","v":"vpsgoov"},{"$f":"'shaladarpan '!V133","v":9828120828},{"$f":"'shaladarpan '!W133","v":"alniyawas132"},{"$f":"'shaladarpan '!X133","v":60000},{"$f":"'shaladarpan '!Y133","v":"N"},{"$f":"'shaladarpan '!Z133","v":"N"},{"$f":"'shaladarpan '!AA133","v":"No"},{"$f":"'shaladarpan '!AB133","v":11},{"$f":"'shaladarpan '!AC133","v":"None"},{"$f":"'shaladarpan '!AD133","v":1}]
[{"$f":"IF(F135=\" \",\" \",ROWS($A$3:A135))","v":133},{"$f":"'shaladarpan '!A134","v":5},{"$f":"'shaladarpan '!B134","v":"A"},{"$f":"'shaladarpan '!C134","v":4692},{"$f":"'shaladarpan '!D134","v":"2019-07-09"},{"$f":"'shaladarpan '!E134","v":"manjeet133"},{"$f":"'shaladarpan '!F134","v":"00:00:00"},{"$f":"'shaladarpan '!G134","v":"vijay133"},{"$f":"'shaladarpan '!H134","v":"beautiful133"},{"$f":"'shaladarpan '!I134","v":"M"},{"$f":"'shaladarpan '!J134","v":"2008-07-07"},{"$f":"'shaladarpan '!K134","v":"yes"},{"$f":"'shaladarpan '!L134","v":133},{"$f":"'shaladarpan '!M134","v":0},{"$f":"'shaladarpan '!N134","v":0},{"$f":"'shaladarpan '!O134","v":"SC"},{"$f":"'shaladarpan '!P134","v":"Hindu"},{"$f":"'shaladarpan '!Q134","v":0},{"$f":"'shaladarpan '!R134","v":"GOVT. SENIOR SECONDARY SCHOOL ALNIYAWAS (219445)"},{"$f":"'shaladarpan '!S134","v":8140200308},{"$f":"'shaladarpan '!T134","v":"XXXX8939"},{"$f":"'shaladarpan '!U134","v":"vpjwnct"},{"$f":"'shaladarpan '!V134","v":9828120829},{"$f":"'shaladarpan '!W134","v":"alniyawas133"},{"$f":"'shaladarpan '!X134","v":60000},{"$f":"'shaladarpan '!Y134","v":"N"},{"$f":"'shaladarpan '!Z134","v":"N"},{"$f":"'shaladarpan '!AA134","v":"No"},{"$f":"'shaladarpan '!AB134","v":12},{"$f":"'shaladarpan '!AC134","v":"None"},{"$f":"'shaladarpan '!AD134","v":1}]
[{"$f":"IF(F136=\" \",\" \",ROWS($A$3:A136))","v":134},{"$f":"'shaladarpan '!A135","v":5},{"$f":"'shaladarpan '!B135","v":"A"},{"$f":"'shaladarpan '!C135","v":4749},{"$f":"'shaladarpan '!D135","v":"2019-07-17"},{"$f":"'shaladarpan '!E135","v":"manjeet134"},{"$f":"'shaladarpan '!F135","v":"00:00:00"},{"$f":"'shaladarpan '!G135","v":"vijay134"},{"$f":"'shaladarpan '!H135","v":"beautiful134"},{"$f":"'shaladarpan '!I135","v":"M"},{"$f":"'shaladarpan '!J135","v":"2010-05-06"},{"$f":"'shaladarpan '!K135","v":"yes"},{"$f":"'shaladarpan '!L135","v":134},{"$f":"'shaladarpan '!M135","v":0},{"$f":"'shaladarpan '!N135","v":0},{"$f":"'shaladarpan '!O135","v":"SC"},{"$f":"'shaladarpan '!P135","v":"Hindu"},{"$f":"'shaladarpan '!Q135","v":0},{"$f":"'shaladarpan '!R135","v":"GOVT. SENIOR SECONDARY SCHOOL ALNIYAWAS (219445)"},{"$f":"'shaladarpan '!S135","v":8140200308},{"$f":"'shaladarpan '!T135","v":"XXXX1516"},{"$f":"'shaladarpan '!U135","v":0},{"$f":"'shaladarpan '!V135","v":9828120830},{"$f":"'shaladarpan '!W135","v":"alniyawas134"},{"$f":"'shaladarpan '!X135","v":50000},{"$f":"'shaladarpan '!Y135","v":"N"},{"$f":"'shaladarpan '!Z135","v":"N"},{"$f":"'shaladarpan '!AA135","v":"No"},{"$f":"'shaladarpan '!AB135","v":10},{"$f":"'shaladarpan '!AC135","v":"None"},{"$f":"'shaladarpan '!AD135","v":2}]
[{"$f":"IF(F137=\" \",\" \",ROWS($A$3:A137))","v":135},{"$f":"'shaladarpan '!A136","v":5},{"$f":"'shaladarpan '!B136","v":"A"},{"$f":"'shaladarpan '!C136","v":4742},{"$f":"'shaladarpan '!D136","v":"2019-07-16"},{"$f":"'shaladarpan '!E136","v":"manjeet135"},{"$f":"'shaladarpan '!F136","v":"00:00:00"},{"$f":"'shaladarpan '!G136","v":"vijay135"},{"$f":"'shaladarpan '!H136","v":"beautiful135"},{"$f":"'shaladarpan '!I136","v":"F"},{"$f":"'shaladarpan '!J136","v":"2010-01-01"},{"$f":"'shaladarpan '!K136","v":"no"},{"$f":"'shaladarpan '!L136","v":135},{"$f":"'shaladarpan '!M136","v":0},{"$f":"'shaladarpan '!N136","v":0},{"$f":"'shaladarpan '!O136","v":"OBC"},{"$f":"'shaladarpan '!P136","v":"Hindu"},{"$f":"'shaladarpan '!Q136","v":0},{"$f":"'shaladarpan '!R136","v":"GOVT. SENIOR SECONDARY SCHOOL ALNIYAWAS (219445)"},{"$f":"'shaladarpan '!S136","v":8140200308},{"$f":"'shaladarpan '!T136","v":"XXXX9240"},{"$f":"'shaladarpan '!U136","v":"ymukugo"},{"$f":"'shaladarpan '!V136","v":9828120831},{"$f":"'shaladarpan '!W136","v":"alniyawas135"},{"$f":"'shaladarpan '!X136","v":50000},{"$f":"'shaladarpan '!Y136","v":"N"},{"$f":"'shaladarpan '!Z136","v":"N"},{"$f":"'shaladarpan '!AA136","v":"No"},{"$f":"'shaladarpan '!AB136","v":10},{"$f":"'shaladarpan '!AC136","v":"None"},{"$f":"'shaladarpan '!AD136","v":2}]
[{"$f":"IF(F138=\" \",\" \",ROWS($A$3:A138))","v":136},{"$f":"'shaladarpan '!A137","v":5},{"$f":"'shaladarpan '!B137","v":"A"},{"$f":"'shaladarpan '!C137","v":4878},{"$f":"'shaladarpan '!D137","v":"00:00:00"},{"$f":"'shaladarpan '!E137","v":"manjeet136"},{"$f":"'shaladarpan '!F137","v":"00:00:00"},{"$f":"'shaladarpan '!G137","v":"vijay136"},{"$f":"'shaladarpan '!H137","v":"beautiful136"},{"$f":"'shaladarpan '!I137","v":"M"},{"$f":"'shaladarpan '!J137","v":"2008-07-04"},{"$f":"'shaladarpan '!K137","v":"yes"},{"$f":"'shaladarpan '!L137","v":136},{"$f":"'shaladarpan '!M137","v":0},{"$f":"'shaladarpan '!N137","v":0},{"$f":"'shaladarpan '!O137","v":"OBC"},{"$f":"'shaladarpan '!P137","v":0},{"$f":"'shaladarpan '!Q137","v":0},{"$f":"'shaladarpan '!R137","v":"GOVT. SENIOR SECONDARY SCHOOL ALNIYAWAS (219445)"},{"$f":"'shaladarpan '!S137","v":8140200308},{"$f":"'shaladarpan '!T137","v":0},{"$f":"'shaladarpan '!U137","v":0},{"$f":"'shaladarpan '!V137","v":9828120832},{"$f":"'shaladarpan '!W137","v":"alniyawas136"},{"$f":"'shaladarpan '!X137","v":0},{"$f":"'shaladarpan '!Y137","v":"N"},{"$f":"'shaladarpan '!Z137","v":"Y"},{"$f":"'shaladarpan '!AA137","v":0},{"$f":"'shaladarpan '!AB137","v":12},{"$f":"'shaladarpan '!AC137","v":0},{"$f":"'shaladarpan '!AD137","v":1}]
[{"$f":"IF(F139=\" \",\" \",ROWS($A$3:A139))","v":137},{"$f":"'shaladarpan '!A138","v":5},{"$f":"'shaladarpan '!B138","v":"A"},{"$f":"'shaladarpan '!C138","v":4255},{"$f":"'shaladarpan '!D138","v":"2016-11-24"},{"$f":"'shaladarpan '!E138","v":"manjeet137"},{"$f":"'shaladarpan '!F138","v":"00:00:00"},{"$f":"'shaladarpan '!G138","v":"vijay137"},{"$f":"'shaladarpan '!H138","v":"beautiful137"},{"$f":"'shaladarpan '!I138","v":"M"},{"$f":"'shaladarpan '!J138","v":"2010-03-07"},{"$f":"'shaladarpan '!K138","v":"yes"},{"$f":"'shaladarpan '!L138","v":137},{"$f":"'shaladarpan '!M138","v":0},{"$f":"'shaladarpan '!N138","v":0},{"$f":"'shaladarpan '!O138","v":"OBC"},{"$f":"'shaladarpan '!P138","v":"Muslim"},{"$f":"'shaladarpan '!Q138","v":0},{"$f":"'shaladarpan '!R138","v":"GOVT. SENIOR SECONDARY SCHOOL ALNIYAWAS (219445)"},{"$f":"'shaladarpan '!S138","v":8140200308},{"$f":"'shaladarpan '!T138","v":"XXXX7818"},{"$f":"'shaladarpan '!U138","v":0},{"$f":"'shaladarpan '!V138","v":9828120833},{"$f":"'shaladarpan '!W138","v":"alniyawas137"},{"$f":"'shaladarpan '!X138","v":0},{"$f":"'shaladarpan '!Y138","v":"N"},{"$f":"'shaladarpan '!Z138","v":"N"},{"$f":"'shaladarpan '!AA138","v":"Yes"},{"$f":"'shaladarpan '!AB138","v":10},{"$f":"'shaladarpan '!AC138","v":"None"},{"$f":"'shaladarpan '!AD138","v":1}]
[{"$f":"IF(F140=\" \",\" \",ROWS($A$3:A140))","v":138},{"$f":"'shaladarpan '!A139","v":5},{"$f":"'shaladarpan '!B139","v":"A"},{"$f":"'shaladarpan '!C139","v":4258},{"$f":"'shaladarpan '!D139","v":"2016-11-26"},{"$f":"'shaladarpan '!E139","v":"manjeet138"},{"$f":"'shaladarpan '!F139","v":"00:00:00"},{"$f":"'shaladarpan '!G139","v":"vijay138"},{"$f":"'shaladarpan '!H139","v":"beautiful138"},{"$f":"'shaladarpan '!I139","v":"M"},{"$f":"'shaladarpan '!J139","v":"2010-07-07"},{"$f":"'shaladarpan '!K139","v":"no"},{"$f":"'shaladarpan '!L139","v":138},{"$f":"'shaladarpan '!M139","v":0},{"$f":"'shaladarpan '!N139","v":0},{"$f":"'shaladarpan '!O139","v":"OBC"},{"$f":"'shaladarpan '!P139","v":"Muslim"},{"$f":"'shaladarpan '!Q139","v":0},{"$f":"'shaladarpan '!R139","v":"GOVT. SENIOR SECONDARY SCHOOL ALNIYAWAS (219445)"},{"$f":"'shaladarpan '!S139","v":8140200308},{"$f":"'shaladarpan '!T139","v":"XXXX0810"},{"$f":"'shaladarpan '!U139","v":0},{"$f":"'shaladarpan '!V139","v":9828120834},{"$f":"'shaladarpan '!W139","v":"alniyawas138"},{"$f":"'shaladarpan '!X139","v":0},{"$f":"'shaladarpan '!Y139","v":"N"},{"$f":"'shaladarpan '!Z139","v":"N"},{"$f":"'shaladarpan '!AA139","v":"Yes"},{"$f":"'shaladarpan '!AB139","v":10},{"$f":"'shaladarpan '!AC139","v":"None"},{"$f":"'shaladarpan '!AD139","v":1}]
[{"$f":"IF(F141=\" \",\" \",ROWS($A$3:A141))","v":139},{"$f":"'shaladarpan '!A140","v":5},{"$f":"'shaladarpan '!B140","v":"A"},{"$f":"'shaladarpan '!C140","v":4100},{"$f":"'shaladarpan '!D140","v":"2016-05-09"},{"$f":"'shaladarpan '!E140","v":"manjeet139"},{"$f":"'shaladarpan '!F140","v":"00:00:00"},{"$f":"'shaladarpan '!G140","v":"vijay139"},{"$f":"'shaladarpan '!H140","v":"beautiful139"},{"$f":"'shaladarpan '!I140","v":"F"},{"$f":"'shaladarpan '!J140","v":"2010-11-05"},{"$f":"'shaladarpan '!K140","v":"yes"},{"$f":"'shaladarpan '!L140","v":139},{"$f":"'shaladarpan '!M140","v":0},{"$f":"'shaladarpan '!N140","v":0},{"$f":"'shaladarpan '!O140","v":"OBC"},{"$f":"'shaladarpan '!P140","v":"Muslim"},{"$f":"'shaladarpan '!Q140","v":0},{"$f":"'shaladarpan '!R140","v":"GOVT. SENIOR SECONDARY SCHOOL ALNIYAWAS (219445)"},{"$f":"'shaladarpan '!S140","v":8140200308},{"$f":"'shaladarpan '!T140","v":"XXXX4370"},{"$f":"'shaladarpan '!U140","v":0},{"$f":"'shaladarpan '!V140","v":9828120835},{"$f":"'shaladarpan '!W140","v":"alniyawas139"},{"$f":"'shaladarpan '!X140","v":0},{"$f":"'shaladarpan '!Y140","v":"N"},{"$f":"'shaladarpan '!Z140","v":"N"},{"$f":"'shaladarpan '!AA140","v":"Yes"},{"$f":"'shaladarpan '!AB140","v":10},{"$f":"'shaladarpan '!AC140","v":"None"},{"$f":"'shaladarpan '!AD140","v":1}]
[{"$f":"IF(F142=\" \",\" \",ROWS($A$3:A142))","v":140},{"$f":"'shaladarpan '!A141","v":5},{"$f":"'shaladarpan '!B141","v":"A"},{"$f":"'shaladarpan '!C141","v":4245},{"$f":"'shaladarpan '!D141","v":"2016-08-05"},{"$f":"'shaladarpan '!E141","v":"manjeet140"},{"$f":"'shaladarpan '!F141","v":"00:00:00"},{"$f":"'shaladarpan '!G141","v":"vijay140"},{"$f":"'shaladarpan '!H141","v":"beautiful140"},{"$f":"'shaladarpan '!I141","v":"M"},{"$f":"'shaladarpan '!J141","v":"2010-05-02"},{"$f":"'shaladarpan '!K141","v":"yes"},{"$f":"'shaladarpan '!L141","v":140},{"$f":"'shaladarpan '!M141","v":0},{"$f":"'shaladarpan '!N141","v":0},{"$f":"'shaladarpan '!O141","v":"OBC"},{"$f":"'shaladarpan '!P141","v":"Muslim"},{"$f":"'shaladarpan '!Q141","v":0},{"$f":"'shaladarpan '!R141","v":"GOVT. SENIOR SECONDARY SCHOOL ALNIYAWAS (219445)"},{"$f":"'shaladarpan '!S141","v":8140200308},{"$f":"'shaladarpan '!T141","v":"XXXX3401"},{"$f":"'shaladarpan '!U141","v":0},{"$f":"'shaladarpan '!V141","v":9828120836},{"$f":"'shaladarpan '!W141","v":"alniyawas140"},{"$f":"'shaladarpan '!X141","v":0},{"$f":"'shaladarpan '!Y141","v":"N"},{"$f":"'shaladarpan '!Z141","v":"N"},{"$f":"'shaladarpan '!AA141","v":"Yes"},{"$f":"'shaladarpan '!AB141","v":10},{"$f":"'shaladarpan '!AC141","v":"None"},{"$f":"'shaladarpan '!AD141","v":1}]
[{"$f":"IF(F143=\" \",\" \",ROWS($A$3:A143))","v":141},{"$f":"'shaladarpan '!A142","v":5},{"$f":"'shaladarpan '!B142","v":"A"},{"$f":"'shaladarpan '!C142","v":4206},{"$f":"'shaladarpan '!D142","v":"2016-07-15"},{"$f":"'shaladarpan '!E142","v":"manjeet141"},{"$f":"'shaladarpan '!F142","v":"00:00:00"},{"$f":"'shaladarpan '!G142","v":"vijay141"},{"$f":"'shaladarpan '!H142","v":"beautiful141"},{"$f":"'shaladarpan '!I142","v":"F"},{"$f":"'shaladarpan '!J142","v":"2010-07-02"},{"$f":"'shaladarpan '!K142","v":"no"},{"$f":"'shaladarpan '!L142","v":141},{"$f":"'shaladarpan '!M142","v":0},{"$f":"'shaladarpan '!N142","v":0},{"$f":"'shaladarpan '!O142","v":"OBC"},{"$f":"'shaladarpan '!P142","v":"Muslim"},{"$f":"'shaladarpan '!Q142","v":0},{"$f":"'shaladarpan '!R142","v":"GOVT. SENIOR SECONDARY SCHOOL ALNIYAWAS (219445)"},{"$f":"'shaladarpan '!S142","v":8140200308},{"$f":"'shaladarpan '!T142","v":0},{"$f":"'shaladarpan '!U142","v":0},{"$f":"'shaladarpan '!V142","v":9828120837},{"$f":"'shaladarpan '!W142","v":"alniyawas141"},{"$f":"'shaladarpan '!X142","v":0},{"$f":"'shaladarpan '!Y142","v":"N"},{"$f":"'shaladarpan '!Z142","v":"N"},{"$f":"'shaladarpan '!AA142","v":"Yes"},{"$f":"'shaladarpan '!AB142","v":10},{"$f":"'shaladarpan '!AC142","v":"None"},{"$f":"'shaladarpan '!AD142","v":1}]
[{"$f":"IF(F144=\" \",\" \",ROWS($A$3:A144))","v":142},{"$f":"'shaladarpan '!A143","v":5},{"$f":"'shaladarpan '!B143","v":"A"},{"$f":"'shaladarpan '!C143","v":4602},{"$f":"'shaladarpan '!D143","v":"2018-07-26"},{"$f":"'shaladarpan '!E143","v":"manjeet142"},{"$f":"'shaladarpan '!F143","v":"00:00:00"},{"$f":"'shaladarpan '!G143","v":"vijay142"},{"$f":"'shaladarpan '!H143","v":"beautiful142"},{"$f":"'shaladarpan '!I143","v":"M"},{"$f":"'shaladarpan '!J143","v":"2009-06-14"},{"$f":"'shaladarpan '!K143","v":"yes"},{"$f":"'shaladarpan '!L143","v":142},{"$f":"'shaladarpan '!M143","v":0},{"$f":"'shaladarpan '!N143","v":0},{"$f":"'shaladarpan '!O143","v":"OBC"},{"$f":"'shaladarpan '!P143","v":"Hindu"},{"$f":"'shaladarpan '!Q143","v":0},{"$f":"'shaladarpan '!R143","v":"GOVT. SENIOR SECONDARY SCHOOL ALNIYAWAS (219445)"},{"$f":"'shaladarpan '!S143","v":8140200308},{"$f":"'shaladarpan '!T143","v":"XXXX1553"},{"$f":"'shaladarpan '!U143","v":"VPWJVGR"},{"$f":"'shaladarpan '!V143","v":9828120838},{"$f":"'shaladarpan '!W143","v":"alniyawas142"},{"$f":"'shaladarpan '!X143","v":40000},{"$f":"'shaladarpan '!Y143","v":"N"},{"$f":"'shaladarpan '!Z143","v":"N"},{"$f":"'shaladarpan '!AA143","v":"No"},{"$f":"'shaladarpan '!AB143","v":11},{"$f":"'shaladarpan '!AC143","v":"None"},{"$f":"'shaladarpan '!AD143","v":0}]
[{"$f":"IF(F145=\" \",\" \",ROWS($A$3:A145))","v":143},{"$f":"'shaladarpan '!A144","v":5},{"$f":"'shaladarpan '!B144","v":"A"},{"$f":"'shaladarpan '!C144","v":4132},{"$f":"'shaladarpan '!D144","v":"2016-07-01"},{"$f":"'shaladarpan '!E144","v":"manjeet143"},{"$f":"'shaladarpan '!F144","v":"00:00:00"},{"$f":"'shaladarpan '!G144","v":"vijay143"},{"$f":"'shaladarpan '!H144","v":"beautiful143"},{"$f":"'shaladarpan '!I144","v":"F"},{"$f":"'shaladarpan '!J144","v":"2009-06-05"},{"$f":"'shaladarpan '!K144","v":"yes"},{"$f":"'shaladarpan '!L144","v":143},{"$f":"'shaladarpan '!M144","v":0},{"$f":"'shaladarpan '!N144","v":0},{"$f":"'shaladarpan '!O144","v":"OBC"},{"$f":"'shaladarpan '!P144","v":"Hindu"},{"$f":"'shaladarpan '!Q144","v":0},{"$f":"'shaladarpan '!R144","v":"GOVT. SENIOR SECONDARY SCHOOL ALNIYAWAS (219445)"},{"$f":"'shaladarpan '!S144","v":8140200308},{"$f":"'shaladarpan '!T144","v":"XXXX9502"},{"$f":"'shaladarpan '!U144","v":0},{"$f":"'shaladarpan '!V144","v":9828120839},{"$f":"'shaladarpan '!W144","v":"alniyawas143"},{"$f":"'shaladarpan '!X144","v":45000},{"$f":"'shaladarpan '!Y144","v":"N"},{"$f":"'shaladarpan '!Z144","v":"N"},{"$f":"'shaladarpan '!AA144","v":"No"},{"$f":"'shaladarpan '!AB144","v":11},{"$f":"'shaladarpan '!AC144","v":"None"},{"$f":"'shaladarpan '!AD144","v":1}]
[{"$f":"IF(F146=\" \",\" \",ROWS($A$3:A146))","v":144},{"$f":"'shaladarpan '!A145","v":5},{"$f":"'shaladarpan '!B145","v":"A"},{"$f":"'shaladarpan '!C145","v":4130},{"$f":"'shaladarpan '!D145","v":"2016-07-01"},{"$f":"'shaladarpan '!E145","v":"manjeet144"},{"$f":"'shaladarpan '!F145","v":"00:00:00"},{"$f":"'shaladarpan '!G145","v":"vijay144"},{"$f":"'shaladarpan '!H145","v":"beautiful144"},{"$f":"'shaladarpan '!I145","v":"F"},{"$f":"'shaladarpan '!J145","v":"2010-06-07"},{"$f":"'shaladarpan '!K145","v":"no"},{"$f":"'shaladarpan '!L145","v":144},{"$f":"'shaladarpan '!M145","v":0},{"$f":"'shaladarpan '!N145","v":0},{"$f":"'shaladarpan '!O145","v":"OBC"},{"$f":"'shaladarpan '!P145","v":"Hindu"},{"$f":"'shaladarpan '!Q145","v":0},{"$f":"'shaladarpan '!R145","v":"GOVT. SENIOR SECONDARY SCHOOL ALNIYAWAS (219445)"},{"$f":"'shaladarpan '!S145","v":8140200308},{"$f":"'shaladarpan '!T145","v":"XXXX5336"},{"$f":"'shaladarpan '!U145","v":0},{"$f":"'shaladarpan '!V145","v":9828120840},{"$f":"'shaladarpan '!W145","v":"alniyawas144"},{"$f":"'shaladarpan '!X145","v":0},{"$f":"'shaladarpan '!Y145","v":"N"},{"$f":"'shaladarpan '!Z145","v":"N"},{"$f":"'shaladarpan '!AA145","v":"No"},{"$f":"'shaladarpan '!AB145","v":10},{"$f":"'shaladarpan '!AC145","v":"None"},{"$f":"'shaladarpan '!AD145","v":1}]
[{"$f":"IF(F147=\" \",\" \",ROWS($A$3:A147))","v":145},{"$f":"'shaladarpan '!A146","v":5},{"$f":"'shaladarpan '!B146","v":"A"},{"$f":"'shaladarpan '!C146","v":4244},{"$f":"'shaladarpan '!D146","v":"2016-08-05"},{"$f":"'shaladarpan '!E146","v":"manjeet145"},{"$f":"'shaladarpan '!F146","v":"00:00:00"},{"$f":"'shaladarpan '!G146","v":"vijay145"},{"$f":"'shaladarpan '!H146","v":"beautiful145"},{"$f":"'shaladarpan '!I146","v":"M"},{"$f":"'shaladarpan '!J146","v":"2008-07-05"},{"$f":"'shaladarpan '!K146","v":"yes"},{"$f":"'shaladarpan '!L146","v":145},{"$f":"'shaladarpan '!M146","v":0},{"$f":"'shaladarpan '!N146","v":0},{"$f":"'shaladarpan '!O146","v":"OBC"},{"$f":"'shaladarpan '!P146","v":"Muslim"},{"$f":"'shaladarpan '!Q146","v":0},{"$f":"'shaladarpan '!R146","v":"GOVT. SENIOR SECONDARY SCHOOL ALNIYAWAS (219445)"},{"$f":"'shaladarpan '!S146","v":8140200308},{"$f":"'shaladarpan '!T146","v":"XXXX1035"},{"$f":"'shaladarpan '!U146","v":0},{"$f":"'shaladarpan '!V146","v":9828120841},{"$f":"'shaladarpan '!W146","v":"alniyawas145"},{"$f":"'shaladarpan '!X146","v":0},{"$f":"'shaladarpan '!Y146","v":"N"},{"$f":"'shaladarpan '!Z146","v":"N"},{"$f":"'shaladarpan '!AA146","v":"Yes"},{"$f":"'shaladarpan '!AB146","v":12},{"$f":"'shaladarpan '!AC146","v":"None"},{"$f":"'shaladarpan '!AD146","v":1}]
[{"$f":"IF(F148=\" \",\" \",ROWS($A$3:A148))","v":146},{"$f":"'shaladarpan '!A147","v":5},{"$f":"'shaladarpan '!B147","v":"A"},{"$f":"'shaladarpan '!C147","v":4254},{"$f":"'shaladarpan '!D147","v":"2016-11-24"},{"$f":"'shaladarpan '!E147","v":"manjeet146"},{"$f":"'shaladarpan '!F147","v":"00:00:00"},{"$f":"'shaladarpan '!G147","v":"vijay146"},{"$f":"'shaladarpan '!H147","v":"beautiful146"},{"$f":"'shaladarpan '!I147","v":"F"},{"$f":"'shaladarpan '!J147","v":"2010-09-04"},{"$f":"'shaladarpan '!K147","v":"yes"},{"$f":"'shaladarpan '!L147","v":146},{"$f":"'shaladarpan '!M147","v":0},{"$f":"'shaladarpan '!N147","v":0},{"$f":"'shaladarpan '!O147","v":"OBC"},{"$f":"'shaladarpan '!P147","v":"Muslim"},{"$f":"'shaladarpan '!Q147","v":0},{"$f":"'shaladarpan '!R147","v":"GOVT. SENIOR SECONDARY SCHOOL ALNIYAWAS (219445)"},{"$f":"'shaladarpan '!S147","v":8140200308},{"$f":"'shaladarpan '!T147","v":"XXXX6313"},{"$f":"'shaladarpan '!U147","v":0},{"$f":"'shaladarpan '!V147","v":9828120842},{"$f":"'shaladarpan '!W147","v":"alniyawas146"},{"$f":"'shaladarpan '!X147","v":0},{"$f":"'shaladarpan '!Y147","v":"N"},{"$f":"'shaladarpan '!Z147","v":"N"},{"$f":"'shaladarpan '!AA147","v":"Yes"},{"$f":"'shaladarpan '!AB147","v":10},{"$f":"'shaladarpan '!AC147","v":"None"},{"$f":"'shaladarpan '!AD147","v":1}]
[{"$f":"IF(F149=\" \",\" \",ROWS($A$3:A149))","v":147},{"$f":"'shaladarpan '!A148","v":5},{"$f":"'shaladarpan '!B148","v":"A"},{"$f":"'shaladarpan '!C148","v":4101},{"$f":"'shaladarpan '!D148","v":"2016-05-09"},{"$f":"'shaladarpan '!E148","v":"manjeet147"},{"$f":"'shaladarpan '!F148","v":"00:00:00"},{"$f":"'shaladarpan '!G148","v":"vijay147"},{"$f":"'shaladarpan '!H148","v":"beautiful147"},{"$f":"'shaladarpan '!I148","v":"M"},{"$f":"'shaladarpan '!J148","v":"2011-02-28"},{"$f":"'shaladarpan '!K148","v":"no"},{"$f":"'shaladarpan '!L148","v":147},{"$f":"'shaladarpan '!M148","v":0},{"$f":"'shaladarpan '!N148","v":0},{"$f":"'shaladarpan '!O148","v":"OBC"},{"$f":"'shaladarpan '!P148","v":"Muslim"},{"$f":"'shaladarpan '!Q148","v":0},{"$f":"'shaladarpan '!R148","v":"GOVT. SENIOR SECONDARY SCHOOL ALNIYAWAS (219445)"},{"$f":"'shaladarpan '!S148","v":8140200308},{"$f":"'shaladarpan '!T148","v":"XXXX8546"},{"$f":"'shaladarpan '!U148","v":0},{"$f":"'shaladarpan '!V148","v":9828120843},{"$f":"'shaladarpan '!W148","v":"alniyawas147"},{"$f":"'shaladarpan '!X148","v":45000},{"$f":"'shaladarpan '!Y148","v":"N"},{"$f":"'shaladarpan '!Z148","v":"N"},{"$f":"'shaladarpan '!AA148","v":"Yes"},{"$f":"'shaladarpan '!AB148","v":9},{"$f":"'shaladarpan '!AC148","v":"None"},{"$f":"'shaladarpan '!AD148","v":0}]
[{"$f":"IF(F150=\" \",\" \",ROWS($A$3:A150))","v":148},{"$f":"'shaladarpan '!A149","v":5},{"$f":"'shaladarpan '!B149","v":"A"},{"$f":"'shaladarpan '!C149","v":4129},{"$f":"'shaladarpan '!D149","v":"2016-07-01"},{"$f":"'shaladarpan '!E149","v":"manjeet148"},{"$f":"'shaladarpan '!F149","v":"00:00:00"},{"$f":"'shaladarpan '!G149","v":"vijay148"},{"$f":"'shaladarpan '!H149","v":"beautiful148"},{"$f":"'shaladarpan '!I149","v":"F"},{"$f":"'shaladarpan '!J149","v":"2011-04-02"},{"$f":"'shaladarpan '!K149","v":"yes"},{"$f":"'shaladarpan '!L149","v":148},{"$f":"'shaladarpan '!M149","v":0},{"$f":"'shaladarpan '!N149","v":0},{"$f":"'shaladarpan '!O149","v":"OBC"},{"$f":"'shaladarpan '!P149","v":"Hindu"},{"$f":"'shaladarpan '!Q149","v":0},{"$f":"'shaladarpan '!R149","v":"GOVT. SENIOR SECONDARY SCHOOL ALNIYAWAS (219445)"},{"$f":"'shaladarpan '!S149","v":8140200308},{"$f":"'shaladarpan '!T149","v":"XXXX7714"},{"$f":"'shaladarpan '!U149","v":0},{"$f":"'shaladarpan '!V149","v":9828120844},{"$f":"'shaladarpan '!W149","v":"alniyawas148"},{"$f":"'shaladarpan '!X149","v":0},{"$f":"'shaladarpan '!Y149","v":"N"},{"$f":"'shaladarpan '!Z149","v":"N"},{"$f":"'shaladarpan '!AA149","v":"No"},{"$f":"'shaladarpan '!AB149","v":9},{"$f":"'shaladarpan '!AC149","v":"None"},{"$f":"'shaladarpan '!AD149","v":1}]
[{"$f":"IF(F151=\" \",\" \",ROWS($A$3:A151))","v":149},{"$f":"'shaladarpan '!A150","v":5},{"$f":"'shaladarpan '!B150","v":"A"},{"$f":"'shaladarpan '!C150","v":4256},{"$f":"'shaladarpan '!D150","v":"2016-11-24"},{"$f":"'shaladarpan '!E150","v":"manjeet149"},{"$f":"'shaladarpan '!F150","v":"00:00:00"},{"$f":"'shaladarpan '!G150","v":"vijay149"},{"$f":"'shaladarpan '!H150","v":"beautiful149"},{"$f":"'shaladarpan '!I150","v":"F"},{"$f":"'shaladarpan '!J150","v":"2010-10-11"},{"$f":"'shaladarpan '!K150","v":"yes"},{"$f":"'shaladarpan '!L150","v":149},{"$f":"'shaladarpan '!M150","v":0},{"$f":"'shaladarpan '!N150","v":0},{"$f":"'shaladarpan '!O150","v":"OBC"},{"$f":"'shaladarpan '!P150","v":"Muslim"},{"$f":"'shaladarpan '!Q150","v":0},{"$f":"'shaladarpan '!R150","v":"GOVT. SENIOR SECONDARY SCHOOL ALNIYAWAS (219445)"},{"$f":"'shaladarpan '!S150","v":8140200308},{"$f":"'shaladarpan '!T150","v":"XXXX5194"},{"$f":"'shaladarpan '!U150","v":0},{"$f":"'shaladarpan '!V150","v":9828120845},{"$f":"'shaladarpan '!W150","v":"alniyawas149"},{"$f":"'shaladarpan '!X150","v":0},{"$f":"'shaladarpan '!Y150","v":"N"},{"$f":"'shaladarpan '!Z150","v":"N"},{"$f":"'shaladarpan '!AA150","v":"Yes"},{"$f":"'shaladarpan '!AB150","v":10},{"$f":"'shaladarpan '!AC150","v":"None"},{"$f":"'shaladarpan '!AD150","v":1}]
[{"$f":"IF(F152=\" \",\" \",ROWS($A$3:A152))","v":150},{"$f":"'shaladarpan '!A151","v":5},{"$f":"'shaladarpan '!B151","v":"A"},{"$f":"'shaladarpan '!C151","v":4118},{"$f":"'shaladarpan '!D151","v":"2016-06-29"},{"$f":"'shaladarpan '!E151","v":"manjeet150"},{"$f":"'shaladarpan '!F151","v":"00:00:00"},{"$f":"'shaladarpan '!G151","v":"vijay150"},{"$f":"'shaladarpan '!H151","v":"beautiful150"},{"$f":"'shaladarpan '!I151","v":"M"},{"$f":"'shaladarpan '!J151","v":"2010-09-04"},{"$f":"'shaladarpan '!K151","v":"no"},{"$f":"'shaladarpan '!L151","v":150},{"$f":"'shaladarpan '!M151","v":0},{"$f":"'shaladarpan '!N151","v":0},{"$f":"'shaladarpan '!O151","v":"OBC"},{"$f":"'shaladarpan '!P151","v":"Muslim"},{"$f":"'shaladarpan '!Q151","v":0},{"$f":"'shaladarpan '!R151","v":"GOVT. SENIOR SECONDARY SCHOOL ALNIYAWAS (219445)"},{"$f":"'shaladarpan '!S151","v":8140200308},{"$f":"'shaladarpan '!T151","v":0},{"$f":"'shaladarpan '!U151","v":0},{"$f":"'shaladarpan '!V151","v":9828120846},{"$f":"'shaladarpan '!W151","v":"alniyawas150"},{"$f":"'shaladarpan '!X151","v":0},{"$f":"'shaladarpan '!Y151","v":"N"},{"$f":"'shaladarpan '!Z151","v":"N"},{"$f":"'shaladarpan '!AA151","v":"Yes"},{"$f":"'shaladarpan '!AB151","v":10},{"$f":"'shaladarpan '!AC151","v":"None"},{"$f":"'shaladarpan '!AD151","v":1}]
[{"$f":"IF(F153=\" \",\" \",ROWS($A$3:A153))","v":151},{"$f":"'shaladarpan '!A152","v":5},{"$f":"'shaladarpan '!B152","v":"A"},{"$f":"'shaladarpan '!C152","v":4102},{"$f":"'shaladarpan '!D152","v":"2016-05-09"},{"$f":"'shaladarpan '!E152","v":"manjeet151"},{"$f":"'shaladarpan '!F152","v":"00:00:00"},{"$f":"'shaladarpan '!G152","v":"vijay151"},{"$f":"'shaladarpan '!H152","v":"beautiful151"},{"$f":"'shaladarpan '!I152","v":"M"},{"$f":"'shaladarpan '!J152","v":"2009-05-05"},{"$f":"'shaladarpan '!K152","v":"yes"},{"$f":"'shaladarpan '!L152","v":151},{"$f":"'shaladarpan '!M152","v":0},{"$f":"'shaladarpan '!N152","v":0},{"$f":"'shaladarpan '!O152","v":"OBC"},{"$f":"'shaladarpan '!P152","v":"Muslim"},{"$f":"'shaladarpan '!Q152","v":0},{"$f":"'shaladarpan '!R152","v":"GOVT. SENIOR SECONDARY SCHOOL ALNIYAWAS (219445)"},{"$f":"'shaladarpan '!S152","v":8140200308},{"$f":"'shaladarpan '!T152","v":"XXXX3042"},{"$f":"'shaladarpan '!U152","v":0},{"$f":"'shaladarpan '!V152","v":9828120847},{"$f":"'shaladarpan '!W152","v":"alniyawas151"},{"$f":"'shaladarpan '!X152","v":0},{"$f":"'shaladarpan '!Y152","v":"N"},{"$f":"'shaladarpan '!Z152","v":"N"},{"$f":"'shaladarpan '!AA152","v":"Yes"},{"$f":"'shaladarpan '!AB152","v":11},{"$f":"'shaladarpan '!AC152","v":"None"},{"$f":"'shaladarpan '!AD152","v":1}]
[{"$f":"IF(F154=\" \",\" \",ROWS($A$3:A154))","v":152},{"$f":"'shaladarpan '!A153","v":5},{"$f":"'shaladarpan '!B153","v":"A"},{"$f":"'shaladarpan '!C153","v":4099},{"$f":"'shaladarpan '!D153","v":"2016-05-09"},{"$f":"'shaladarpan '!E153","v":"manjeet152"},{"$f":"'shaladarpan '!F153","v":"00:00:00"},{"$f":"'shaladarpan '!G153","v":"vijay152"},{"$f":"'shaladarpan '!H153","v":"beautiful152"},{"$f":"'shaladarpan '!I153","v":"F"},{"$f":"'shaladarpan '!J153","v":"2011-02-07"},{"$f":"'shaladarpan '!K153","v":"yes"},{"$f":"'shaladarpan '!L153","v":152},{"$f":"'shaladarpan '!M153","v":0},{"$f":"'shaladarpan '!N153","v":0},{"$f":"'shaladarpan '!O153","v":"SC"},{"$f":"'shaladarpan '!P153","v":"Hindu"},{"$f":"'shaladarpan '!Q153","v":0},{"$f":"'shaladarpan '!R153","v":"GOVT. SENIOR SECONDARY SCHOOL ALNIYAWAS (219445)"},{"$f":"'shaladarpan '!S153","v":8140200308},{"$f":"'shaladarpan '!T153","v":"XXXX1761"},{"$f":"'shaladarpan '!U153","v":0},{"$f":"'shaladarpan '!V153","v":9828120848},{"$f":"'shaladarpan '!W153","v":"alniyawas152"},{"$f":"'shaladarpan '!X153","v":48000},{"$f":"'shaladarpan '!Y153","v":"N"},{"$f":"'shaladarpan '!Z153","v":"N"},{"$f":"'shaladarpan '!AA153","v":"No"},{"$f":"'shaladarpan '!AB153","v":9},{"$f":"'shaladarpan '!AC153","v":"None"},{"$f":"'shaladarpan '!AD153","v":1}]
[{"$f":"IF(F155=\" \",\" \",ROWS($A$3:A155))","v":153},{"$f":"'shaladarpan '!A154","v":5},{"$f":"'shaladarpan '!B154","v":"A"},{"$f":"'shaladarpan '!C154","v":4224},{"$f":"'shaladarpan '!D154","v":"2016-07-19"},{"$f":"'shaladarpan '!E154","v":"manjeet153"},{"$f":"'shaladarpan '!F154","v":"00:00:00"},{"$f":"'shaladarpan '!G154","v":"vijay153"},{"$f":"'shaladarpan '!H154","v":"beautiful153"},{"$f":"'shaladarpan '!I154","v":"M"},{"$f":"'shaladarpan '!J154","v":"2010-07-15"},{"$f":"'shaladarpan '!K154","v":"no"},{"$f":"'shaladarpan '!L154","v":153},{"$f":"'shaladarpan '!M154","v":0},{"$f":"'shaladarpan '!N154","v":0},{"$f":"'shaladarpan '!O154","v":"OBC"},{"$f":"'shaladarpan '!P154","v":"Hindu"},{"$f":"'shaladarpan '!Q154","v":0},{"$f":"'shaladarpan '!R154","v":"GOVT. SENIOR SECONDARY SCHOOL ALNIYAWAS (219445)"},{"$f":"'shaladarpan '!S154","v":8140200308},{"$f":"'shaladarpan '!T154","v":0},{"$f":"'shaladarpan '!U154","v":0},{"$f":"'shaladarpan '!V154","v":9828120849},{"$f":"'shaladarpan '!W154","v":"alniyawas153"},{"$f":"'shaladarpan '!X154","v":0},{"$f":"'shaladarpan '!Y154","v":"N"},{"$f":"'shaladarpan '!Z154","v":"N"},{"$f":"'shaladarpan '!AA154","v":"No"},{"$f":"'shaladarpan '!AB154","v":10},{"$f":"'shaladarpan '!AC154","v":"None"},{"$f":"'shaladarpan '!AD154","v":0}]
[{"$f":"IF(F156=\" \",\" \",ROWS($A$3:A156))","v":154},{"$f":"'shaladarpan '!A155","v":5},{"$f":"'shaladarpan '!B155","v":"A"},{"$f":"'shaladarpan '!C155","v":4501},{"$f":"'shaladarpan '!D155","v":"2018-07-05"},{"$f":"'shaladarpan '!E155","v":"manjeet154"},{"$f":"'shaladarpan '!F155","v":"00:00:00"},{"$f":"'shaladarpan '!G155","v":"vijay154"},{"$f":"'shaladarpan '!H155","v":"beautiful154"},{"$f":"'shaladarpan '!I155","v":"F"},{"$f":"'shaladarpan '!J155","v":"2010-06-15"},{"$f":"'shaladarpan '!K155","v":"yes"},{"$f":"'shaladarpan '!L155","v":154},{"$f":"'shaladarpan '!M155","v":0},{"$f":"'shaladarpan '!N155","v":0},{"$f":"'shaladarpan '!O155","v":"SC"},{"$f":"'shaladarpan '!P155","v":"Hindu"},{"$f":"'shaladarpan '!Q155","v":0},{"$f":"'shaladarpan '!R155","v":"GOVT. SENIOR SECONDARY SCHOOL ALNIYAWAS (219445)"},{"$f":"'shaladarpan '!S155","v":8140200308},{"$f":"'shaladarpan '!T155","v":"XXXX4383"},{"$f":"'shaladarpan '!U155","v":"VBJRPSH"},{"$f":"'shaladarpan '!V155","v":9828120850},{"$f":"'shaladarpan '!W155","v":"alniyawas154"},{"$f":"'shaladarpan '!X155","v":36000},{"$f":"'shaladarpan '!Y155","v":"N"},{"$f":"'shaladarpan '!Z155","v":"Y"},{"$f":"'shaladarpan '!AA155","v":"No"},{"$f":"'shaladarpan '!AB155","v":10},{"$f":"'shaladarpan '!AC155","v":"None"},{"$f":"'shaladarpan '!AD155","v":1}]
[{"$f":"IF(F157=\" \",\" \",ROWS($A$3:A157))","v":155},{"$f":"'shaladarpan '!A156","v":6},{"$f":"'shaladarpan '!B156","v":"A"},{"$f":"'shaladarpan '!C156","v":4714},{"$f":"'shaladarpan '!D156","v":"2015-08-19"},{"$f":"'shaladarpan '!E156","v":"manjeet155"},{"$f":"'shaladarpan '!F156","v":"00:00:00"},{"$f":"'shaladarpan '!G156","v":"vijay155"},{"$f":"'shaladarpan '!H156","v":"beautiful155"},{"$f":"'shaladarpan '!I156","v":"F"},{"$f":"'shaladarpan '!J156","v":"2009-07-30"},{"$f":"'shaladarpan '!K156","v":"yes"},{"$f":"'shaladarpan '!L156","v":155},{"$f":"'shaladarpan '!M156","v":0},{"$f":"'shaladarpan '!N156","v":0},{"$f":"'shaladarpan '!O156","v":"OBC"},{"$f":"'shaladarpan '!P156","v":"Hindu"},{"$f":"'shaladarpan '!Q156","v":0},{"$f":"'shaladarpan '!R156","v":"GOVT. SENIOR SECONDARY SCHOOL ALNIYAWAS (219445)"},{"$f":"'shaladarpan '!S156","v":8140200308},{"$f":"'shaladarpan '!T156","v":"XXXX3631"},{"$f":"'shaladarpan '!U156","v":0},{"$f":"'shaladarpan '!V156","v":9828120851},{"$f":"'shaladarpan '!W156","v":"alniyawas155"},{"$f":"'shaladarpan '!X156","v":40000},{"$f":"'shaladarpan '!Y156","v":"N"},{"$f":"'shaladarpan '!Z156","v":"N"},{"$f":"'shaladarpan '!AA156","v":"No"},{"$f":"'shaladarpan '!AB156","v":11},{"$f":"'shaladarpan '!AC156","v":"None"},{"$f":"'shaladarpan '!AD156","v":2}]
[{"$f":"IF(F158=\" \",\" \",ROWS($A$3:A158))","v":156},{"$f":"'shaladarpan '!A157","v":6},{"$f":"'shaladarpan '!B157","v":"A"},{"$f":"'shaladarpan '!C157","v":4015},{"$f":"'shaladarpan '!D157","v":"2015-07-08"},{"$f":"'shaladarpan '!E157","v":"manjeet156"},{"$f":"'shaladarpan '!F157","v":"00:00:00"},{"$f":"'shaladarpan '!G157","v":"vijay156"},{"$f":"'shaladarpan '!H157","v":"beautiful156"},{"$f":"'shaladarpan '!I157","v":"M"},{"$f":"'shaladarpan '!J157","v":"2010-07-10"},{"$f":"'shaladarpan '!K157","v":"no"},{"$f":"'shaladarpan '!L157","v":156},{"$f":"'shaladarpan '!M157","v":0},{"$f":"'shaladarpan '!N157","v":0},{"$f":"'shaladarpan '!O157","v":"OBC"},{"$f":"'shaladarpan '!P157","v":"Muslim"},{"$f":"'shaladarpan '!Q157","v":0},{"$f":"'shaladarpan '!R157","v":"GOVT. SENIOR SECONDARY SCHOOL ALNIYAWAS (219445)"},{"$f":"'shaladarpan '!S157","v":8140200308},{"$f":"'shaladarpan '!T157","v":"XXXX5363"},{"$f":"'shaladarpan '!U157","v":0},{"$f":"'shaladarpan '!V157","v":9828120852},{"$f":"'shaladarpan '!W157","v":"alniyawas156"},{"$f":"'shaladarpan '!X157","v":100000},{"$f":"'shaladarpan '!Y157","v":"N"},{"$f":"'shaladarpan '!Z157","v":"N"},{"$f":"'shaladarpan '!AA157","v":"Yes"},{"$f":"'shaladarpan '!AB157","v":10},{"$f":"'shaladarpan '!AC157","v":"None"},{"$f":"'shaladarpan '!AD157","v":1}]
[{"$f":"IF(F159=\" \",\" \",ROWS($A$3:A159))","v":157},{"$f":"'shaladarpan '!A158","v":6},{"$f":"'shaladarpan '!B158","v":"A"},{"$f":"'shaladarpan '!C158","v":3956},{"$f":"'shaladarpan '!D158","v":"2015-06-30"},{"$f":"'shaladarpan '!E158","v":"manjeet157"},{"$f":"'shaladarpan '!F158","v":"00:00:00"},{"$f":"'shaladarpan '!G158","v":"vijay157"},{"$f":"'shaladarpan '!H158","v":"beautiful157"},{"$f":"'shaladarpan '!I158","v":"F"},{"$f":"'shaladarpan '!J158","v":"2010-05-05"},{"$f":"'shaladarpan '!K158","v":"yes"},{"$f":"'shaladarpan '!L158","v":157},{"$f":"'shaladarpan '!M158","v":0},{"$f":"'shaladarpan '!N158","v":0},{"$f":"'shaladarpan '!O158","v":"OBC"},{"$f":"'shaladarpan '!P158","v":"Muslim"},{"$f":"'shaladarpan '!Q158","v":0},{"$f":"'shaladarpan '!R158","v":"GOVT. SENIOR SECONDARY SCHOOL ALNIYAWAS (219445)"},{"$f":"'shaladarpan '!S158","v":8140200308},{"$f":"'shaladarpan '!T158","v":0},{"$f":"'shaladarpan '!U158","v":0},{"$f":"'shaladarpan '!V158","v":9828120853},{"$f":"'shaladarpan '!W158","v":"alniyawas157"},{"$f":"'shaladarpan '!X158","v":0},{"$f":"'shaladarpan '!Y158","v":"N"},{"$f":"'shaladarpan '!Z158","v":"N"},{"$f":"'shaladarpan '!AA158","v":"Yes"},{"$f":"'shaladarpan '!AB158","v":10},{"$f":"'shaladarpan '!AC158","v":"None"},{"$f":"'shaladarpan '!AD158","v":1}]
[{"$f":"IF(F160=\" \",\" \",ROWS($A$3:A160))","v":158},{"$f":"'shaladarpan '!A159","v":6},{"$f":"'shaladarpan '!B159","v":"A"},{"$f":"'shaladarpan '!C159","v":4088},{"$f":"'shaladarpan '!D159","v":"2015-08-01"},{"$f":"'shaladarpan '!E159","v":"manjeet158"},{"$f":"'shaladarpan '!F159","v":"00:00:00"},{"$f":"'shaladarpan '!G159","v":"vijay158"},{"$f":"'shaladarpan '!H159","v":"beautiful158"},{"$f":"'shaladarpan '!I159","v":"F"},{"$f":"'shaladarpan '!J159","v":"2009-07-05"},{"$f":"'shaladarpan '!K159","v":"yes"},{"$f":"'shaladarpan '!L159","v":158},{"$f":"'shaladarpan '!M159","v":0},{"$f":"'shaladarpan '!N159","v":0},{"$f":"'shaladarpan '!O159","v":"OBC"},{"$f":"'shaladarpan '!P159","v":"Muslim"},{"$f":"'shaladarpan '!Q159","v":0},{"$f":"'shaladarpan '!R159","v":"GOVT. SENIOR SECONDARY SCHOOL ALNIYAWAS (219445)"},{"$f":"'shaladarpan '!S159","v":8140200308},{"$f":"'shaladarpan '!T159","v":"XXXX3649"},{"$f":"'shaladarpan '!U159","v":0},{"$f":"'shaladarpan '!V159","v":9828120854},{"$f":"'shaladarpan '!W159","v":"alniyawas158"},{"$f":"'shaladarpan '!X159","v":0},{"$f":"'shaladarpan '!Y159","v":"N"},{"$f":"'shaladarpan '!Z159","v":"N"},{"$f":"'shaladarpan '!AA159","v":"Yes"},{"$f":"'shaladarpan '!AB159","v":11},{"$f":"'shaladarpan '!AC159","v":"None"},{"$f":"'shaladarpan '!AD159","v":1}]
[{"$f":"IF(F161=\" \",\" \",ROWS($A$3:A161))","v":159},{"$f":"'shaladarpan '!A160","v":6},{"$f":"'shaladarpan '!B160","v":"A"},{"$f":"'shaladarpan '!C160","v":4049},{"$f":"'shaladarpan '!D160","v":"2015-07-10"},{"$f":"'shaladarpan '!E160","v":"manjeet159"},{"$f":"'shaladarpan '!F160","v":"00:00:00"},{"$f":"'shaladarpan '!G160","v":"vijay159"},{"$f":"'shaladarpan '!H160","v":"beautiful159"},{"$f":"'shaladarpan '!I160","v":"M"},{"$f":"'shaladarpan '!J160","v":"2009-02-05"},{"$f":"'shaladarpan '!K160","v":"no"},{"$f":"'shaladarpan '!L160","v":159},{"$f":"'shaladarpan '!M160","v":0},{"$f":"'shaladarpan '!N160","v":0},{"$f":"'shaladarpan '!O160","v":"OBC"},{"$f":"'shaladarpan '!P160","v":"Muslim"},{"$f":"'shaladarpan '!Q160","v":0},{"$f":"'shaladarpan '!R160","v":"GOVT. SENIOR SECONDARY SCHOOL ALNIYAWAS (219445)"},{"$f":"'shaladarpan '!S160","v":8140200308},{"$f":"'shaladarpan '!T160","v":"XXXX7740"},{"$f":"'shaladarpan '!U160","v":0},{"$f":"'shaladarpan '!V160","v":9828120855},{"$f":"'shaladarpan '!W160","v":"alniyawas159"},{"$f":"'shaladarpan '!X160","v":100000},{"$f":"'shaladarpan '!Y160","v":"N"},{"$f":"'shaladarpan '!Z160","v":"N"},{"$f":"'shaladarpan '!AA160","v":"Yes"},{"$f":"'shaladarpan '!AB160","v":11},{"$f":"'shaladarpan '!AC160","v":"None"},{"$f":"'shaladarpan '!AD160","v":1}]
[{"$f":"IF(F162=\" \",\" \",ROWS($A$3:A162))","v":160},{"$f":"'shaladarpan '!A161","v":6},{"$f":"'shaladarpan '!B161","v":"A"},{"$f":"'shaladarpan '!C161","v":4876},{"$f":"'shaladarpan '!D161","v":"2018-07-02"},{"$f":"'shaladarpan '!E161","v":"manjeet160"},{"$f":"'shaladarpan '!F161","v":"00:00:00"},{"$f":"'shaladarpan '!G161","v":"vijay160"},{"$f":"'shaladarpan '!H161","v":"beautiful160"},{"$f":"'shaladarpan '!I161","v":"F"},{"$f":"'shaladarpan '!J161","v":"2009-06-22"},{"$f":"'shaladarpan '!K161","v":"yes"},{"$f":"'shaladarpan '!L161","v":160},{"$f":"'shaladarpan '!M161","v":0},{"$f":"'shaladarpan '!N161","v":0},{"$f":"'shaladarpan '!O161","v":"GEN"},{"$f":"'shaladarpan '!P161","v":"Hindu"},{"$f":"'shaladarpan '!Q161","v":0},{"$f":"'shaladarpan '!R161","v":"GOVT. SENIOR SECONDARY SCHOOL ALNIYAWAS (219445)"},{"$f":"'shaladarpan '!S161","v":8140200308},{"$f":"'shaladarpan '!T161","v":"XXXX4846"},{"$f":"'shaladarpan '!U161","v":"YACYBEG"},{"$f":"'shaladarpan '!V161","v":9828120856},{"$f":"'shaladarpan '!W161","v":"alniyawas160"},{"$f":"'shaladarpan '!X161","v":50000},{"$f":"'shaladarpan '!Y161","v":"N"},{"$f":"'shaladarpan '!Z161","v":"N"},{"$f":"'shaladarpan '!AA161","v":"No"},{"$f":"'shaladarpan '!AB161","v":11},{"$f":"'shaladarpan '!AC161","v":"None"},{"$f":"'shaladarpan '!AD161","v":1}]
[{"$f":"IF(F163=\" \",\" \",ROWS($A$3:A163))","v":161},{"$f":"'shaladarpan '!A162","v":6},{"$f":"'shaladarpan '!B162","v":"A"},{"$f":"'shaladarpan '!C162","v":3995},{"$f":"'shaladarpan '!D162","v":"2015-07-06"},{"$f":"'shaladarpan '!E162","v":"manjeet161"},{"$f":"'shaladarpan '!F162","v":"00:00:00"},{"$f":"'shaladarpan '!G162","v":"vijay161"},{"$f":"'shaladarpan '!H162","v":"beautiful161"},{"$f":"'shaladarpan '!I162","v":"M"},{"$f":"'shaladarpan '!J162","v":"2010-04-09"},{"$f":"'shaladarpan '!K162","v":"yes"},{"$f":"'shaladarpan '!L162","v":161},{"$f":"'shaladarpan '!M162","v":0},{"$f":"'shaladarpan '!N162","v":0},{"$f":"'shaladarpan '!O162","v":"OBC"},{"$f":"'shaladarpan '!P162","v":"Muslim"},{"$f":"'shaladarpan '!Q162","v":0},{"$f":"'shaladarpan '!R162","v":"GOVT. SENIOR SECONDARY SCHOOL ALNIYAWAS (219445)"},{"$f":"'shaladarpan '!S162","v":8140200308},{"$f":"'shaladarpan '!T162","v":"XXXX7960"},{"$f":"'shaladarpan '!U162","v":0},{"$f":"'shaladarpan '!V162","v":9828120857},{"$f":"'shaladarpan '!W162","v":"alniyawas161"},{"$f":"'shaladarpan '!X162","v":0},{"$f":"'shaladarpan '!Y162","v":"N"},{"$f":"'shaladarpan '!Z162","v":"N"},{"$f":"'shaladarpan '!AA162","v":"Yes"},{"$f":"'shaladarpan '!AB162","v":10},{"$f":"'shaladarpan '!AC162","v":"None"},{"$f":"'shaladarpan '!AD162","v":1}]
[{"$f":"IF(F164=\" \",\" \",ROWS($A$3:A164))","v":162},{"$f":"'shaladarpan '!A163","v":6},{"$f":"'shaladarpan '!B163","v":"A"},{"$f":"'shaladarpan '!C163","v":4046},{"$f":"'shaladarpan '!D163","v":"2015-07-10"},{"$f":"'shaladarpan '!E163","v":"manjeet162"},{"$f":"'shaladarpan '!F163","v":"00:00:00"},{"$f":"'shaladarpan '!G163","v":"vijay162"},{"$f":"'shaladarpan '!H163","v":"beautiful162"},{"$f":"'shaladarpan '!I163","v":"M"},{"$f":"'shaladarpan '!J163","v":"2010-02-01"},{"$f":"'shaladarpan '!K163","v":"no"},{"$f":"'shaladarpan '!L163","v":162},{"$f":"'shaladarpan '!M163","v":0},{"$f":"'shaladarpan '!N163","v":0},{"$f":"'shaladarpan '!O163","v":"OBC"},{"$f":"'shaladarpan '!P163","v":"Hindu"},{"$f":"'shaladarpan '!Q163","v":0},{"$f":"'shaladarpan '!R163","v":"GOVT. SENIOR SECONDARY SCHOOL ALNIYAWAS (219445)"},{"$f":"'shaladarpan '!S163","v":8140200308},{"$f":"'shaladarpan '!T163","v":0},{"$f":"'shaladarpan '!U163","v":0},{"$f":"'shaladarpan '!V163","v":9828120858},{"$f":"'shaladarpan '!W163","v":"alniyawas162"},{"$f":"'shaladarpan '!X163","v":0},{"$f":"'shaladarpan '!Y163","v":"N"},{"$f":"'shaladarpan '!Z163","v":"N"},{"$f":"'shaladarpan '!AA163","v":"No"},{"$f":"'shaladarpan '!AB163","v":10},{"$f":"'shaladarpan '!AC163","v":"None"},{"$f":"'shaladarpan '!AD163","v":2}]
[{"$f":"IF(F165=\" \",\" \",ROWS($A$3:A165))","v":163},{"$f":"'shaladarpan '!A164","v":6},{"$f":"'shaladarpan '!B164","v":"A"},{"$f":"'shaladarpan '!C164","v":4440},{"$f":"'shaladarpan '!D164","v":"2018-05-05"},{"$f":"'shaladarpan '!E164","v":"manjeet163"},{"$f":"'shaladarpan '!F164","v":"00:00:00"},{"$f":"'shaladarpan '!G164","v":"vijay163"},{"$f":"'shaladarpan '!H164","v":"beautiful163"},{"$f":"'shaladarpan '!I164","v":"M"},{"$f":"'shaladarpan '!J164","v":"2009-05-10"},{"$f":"'shaladarpan '!K164","v":"yes"},{"$f":"'shaladarpan '!L164","v":163},{"$f":"'shaladarpan '!M164","v":0},{"$f":"'shaladarpan '!N164","v":0},{"$f":"'shaladarpan '!O164","v":"SC"},{"$f":"'shaladarpan '!P164","v":"Hindu"},{"$f":"'shaladarpan '!Q164","v":0},{"$f":"'shaladarpan '!R164","v":"GOVT. SENIOR SECONDARY SCHOOL ALNIYAWAS (219445)"},{"$f":"'shaladarpan '!S164","v":8140200308},{"$f":"'shaladarpan '!T164","v":"XXXX1311"},{"$f":"'shaladarpan '!U164","v":"YBCOKQK"},{"$f":"'shaladarpan '!V164","v":9828120859},{"$f":"'shaladarpan '!W164","v":"alniyawas163"},{"$f":"'shaladarpan '!X164","v":60000},{"$f":"'shaladarpan '!Y164","v":"N"},{"$f":"'shaladarpan '!Z164","v":"N"},{"$f":"'shaladarpan '!AA164","v":"No"},{"$f":"'shaladarpan '!AB164","v":11},{"$f":"'shaladarpan '!AC164","v":"None"},{"$f":"'shaladarpan '!AD164","v":2}]
[{"$f":"IF(F166=\" \",\" \",ROWS($A$3:A166))","v":164},{"$f":"'shaladarpan '!A165","v":6},{"$f":"'shaladarpan '!B165","v":"A"},{"$f":"'shaladarpan '!C165","v":4519},{"$f":"'shaladarpan '!D165","v":"2018-07-07"},{"$f":"'shaladarpan '!E165","v":"manjeet164"},{"$f":"'shaladarpan '!F165","v":"00:00:00"},{"$f":"'shaladarpan '!G165","v":"vijay164"},{"$f":"'shaladarpan '!H165","v":"beautiful164"},{"$f":"'shaladarpan '!I165","v":"M"},{"$f":"'shaladarpan '!J165","v":"2008-08-09"},{"$f":"'shaladarpan '!K165","v":"yes"},{"$f":"'shaladarpan '!L165","v":164},{"$f":"'shaladarpan '!M165","v":0},{"$f":"'shaladarpan '!N165","v":0},{"$f":"'shaladarpan '!O165","v":"OBC"},{"$f":"'shaladarpan '!P165","v":"Muslim"},{"$f":"'shaladarpan '!Q165","v":0},{"$f":"'shaladarpan '!R165","v":"GOVT. SENIOR SECONDARY SCHOOL ALNIYAWAS (219445)"},{"$f":"'shaladarpan '!S165","v":8140200308},{"$f":"'shaladarpan '!T165","v":"XXXX0428"},{"$f":"'shaladarpan '!U165","v":0},{"$f":"'shaladarpan '!V165","v":9828120860},{"$f":"'shaladarpan '!W165","v":"alniyawas164"},{"$f":"'shaladarpan '!X165","v":45000},{"$f":"'shaladarpan '!Y165","v":"N"},{"$f":"'shaladarpan '!Z165","v":"N"},{"$f":"'shaladarpan '!AA165","v":"Yes"},{"$f":"'shaladarpan '!AB165","v":12},{"$f":"'shaladarpan '!AC165","v":"None"},{"$f":"'shaladarpan '!AD165","v":0}]
[{"$f":"IF(F167=\" \",\" \",ROWS($A$3:A167))","v":165},{"$f":"'shaladarpan '!A166","v":6},{"$f":"'shaladarpan '!B166","v":"A"},{"$f":"'shaladarpan '!C166","v":4739},{"$f":"'shaladarpan '!D166","v":"2019-07-15"},{"$f":"'shaladarpan '!E166","v":"manjeet165"},{"$f":"'shaladarpan '!F166","v":"00:00:00"},{"$f":"'shaladarpan '!G166","v":"vijay165"},{"$f":"'shaladarpan '!H166","v":"beautiful165"},{"$f":"'shaladarpan '!I166","v":"M"},{"$f":"'shaladarpan '!J166","v":"2007-07-05"},{"$f":"'shaladarpan '!K166","v":"no"},{"$f":"'shaladarpan '!L166","v":165},{"$f":"'shaladarpan '!M166","v":0},{"$f":"'shaladarpan '!N166","v":0},{"$f":"'shaladarpan '!O166","v":"SC"},{"$f":"'shaladarpan '!P166","v":"Hindu"},{"$f":"'shaladarpan '!Q166","v":0},{"$f":"'shaladarpan '!R166","v":"GOVT. SENIOR SECONDARY SCHOOL ALNIYAWAS (219445)"},{"$f":"'shaladarpan '!S166","v":8140200308},{"$f":"'shaladarpan '!T166","v":"XXXX2216"},{"$f":"'shaladarpan '!U166","v":0},{"$f":"'shaladarpan '!V166","v":9828120861},{"$f":"'shaladarpan '!W166","v":"alniyawas165"},{"$f":"'shaladarpan '!X166","v":50000},{"$f":"'shaladarpan '!Y166","v":"N"},{"$f":"'shaladarpan '!Z166","v":"N"},{"$f":"'shaladarpan '!AA166","v":"No"},{"$f":"'shaladarpan '!AB166","v":13},{"$f":"'shaladarpan '!AC166","v":"None"},{"$f":"'shaladarpan '!AD166","v":1}]
[{"$f":"IF(F168=\" \",\" \",ROWS($A$3:A168))","v":166},{"$f":"'shaladarpan '!A167","v":6},{"$f":"'shaladarpan '!B167","v":"A"},{"$f":"'shaladarpan '!C167","v":4567},{"$f":"'shaladarpan '!D167","v":"2018-07-14"},{"$f":"'shaladarpan '!E167","v":"manjeet166"},{"$f":"'shaladarpan '!F167","v":"00:00:00"},{"$f":"'shaladarpan '!G167","v":"vijay166"},{"$f":"'shaladarpan '!H167","v":"beautiful166"},{"$f":"'shaladarpan '!I167","v":"M"},{"$f":"'shaladarpan '!J167","v":"2009-03-05"},{"$f":"'shaladarpan '!K167","v":"yes"},{"$f":"'shaladarpan '!L167","v":166},{"$f":"'shaladarpan '!M167","v":0},{"$f":"'shaladarpan '!N167","v":0},{"$f":"'shaladarpan '!O167","v":"OBC"},{"$f":"'shaladarpan '!P167","v":"Hindu"},{"$f":"'shaladarpan '!Q167","v":0},{"$f":"'shaladarpan '!R167","v":"GOVT. SENIOR SECONDARY SCHOOL ALNIYAWAS (219445)"},{"$f":"'shaladarpan '!S167","v":8140200308},{"$f":"'shaladarpan '!T167","v":"XXXX8778"},{"$f":"'shaladarpan '!U167","v":0},{"$f":"'shaladarpan '!V167","v":9828120862},{"$f":"'shaladarpan '!W167","v":"alniyawas166"},{"$f":"'shaladarpan '!X167","v":40000},{"$f":"'shaladarpan '!Y167","v":"N"},{"$f":"'shaladarpan '!Z167","v":"N"},{"$f":"'shaladarpan '!AA167","v":"No"},{"$f":"'shaladarpan '!AB167","v":11},{"$f":"'shaladarpan '!AC167","v":"None"},{"$f":"'shaladarpan '!AD167","v":1}]
[{"$f":"IF(F169=\" \",\" \",ROWS($A$3:A169))","v":167},{"$f":"'shaladarpan '!A168","v":6},{"$f":"'shaladarpan '!B168","v":"A"},{"$f":"'shaladarpan '!C168","v":3938},{"$f":"'shaladarpan '!D168","v":"2015-05-12"},{"$f":"'shaladarpan '!E168","v":"manjeet167"},{"$f":"'shaladarpan '!F168","v":"00:00:00"},{"$f":"'shaladarpan '!G168","v":"vijay167"},{"$f":"'shaladarpan '!H168","v":"beautiful167"},{"$f":"'shaladarpan '!I168","v":"F"},{"$f":"'shaladarpan '!J168","v":"2010-03-02"},{"$f":"'shaladarpan '!K168","v":"yes"},{"$f":"'shaladarpan '!L168","v":167},{"$f":"'shaladarpan '!M168","v":0},{"$f":"'shaladarpan '!N168","v":0},{"$f":"'shaladarpan '!O168","v":"SC"},{"$f":"'shaladarpan '!P168","v":"Hindu"},{"$f":"'shaladarpan '!Q168","v":0},{"$f":"'shaladarpan '!R168","v":"GOVT. SENIOR SECONDARY SCHOOL ALNIYAWAS (219445)"},{"$f":"'shaladarpan '!S168","v":8140200308},{"$f":"'shaladarpan '!T168","v":"XXXX8675"},{"$f":"'shaladarpan '!U168","v":0},{"$f":"'shaladarpan '!V168","v":9828120863},{"$f":"'shaladarpan '!W168","v":"alniyawas167"},{"$f":"'shaladarpan '!X168","v":0},{"$f":"'shaladarpan '!Y168","v":"N"},{"$f":"'shaladarpan '!Z168","v":"N"},{"$f":"'shaladarpan '!AA168","v":"No"},{"$f":"'shaladarpan '!AB168","v":10},{"$f":"'shaladarpan '!AC168","v":"None"},{"$f":"'shaladarpan '!AD168","v":1}]
[{"$f":"IF(F170=\" \",\" \",ROWS($A$3:A170))","v":168},{"$f":"'shaladarpan '!A169","v":6},{"$f":"'shaladarpan '!B169","v":"A"},{"$f":"'shaladarpan '!C169","v":4819},{"$f":"'shaladarpan '!D169","v":"2014-07-02"},{"$f":"'shaladarpan '!E169","v":"manjeet168"},{"$f":"'shaladarpan '!F169","v":"00:00:00"},{"$f":"'shaladarpan '!G169","v":"vijay168"},{"$f":"'shaladarpan '!H169","v":"beautiful168"},{"$f":"'shaladarpan '!I169","v":"F"},{"$f":"'shaladarpan '!J169","v":"2008-12-10"},{"$f":"'shaladarpan '!K169","v":"no"},{"$f":"'shaladarpan '!L169","v":168},{"$f":"'shaladarpan '!M169","v":0},{"$f":"'shaladarpan '!N169","v":0},{"$f":"'shaladarpan '!O169","v":"OBC"},{"$f":"'shaladarpan '!P169","v":"Hindu"},{"$f":"'shaladarpan '!Q169","v":0},{"$f":"'shaladarpan '!R169","v":"GOVT. SENIOR SECONDARY SCHOOL ALNIYAWAS (219445)"},{"$f":"'shaladarpan '!S169","v":8140200308},{"$f":"'shaladarpan '!T169","v":"XXXX1703"},{"$f":"'shaladarpan '!U169","v":0},{"$f":"'shaladarpan '!V169","v":9828120864},{"$f":"'shaladarpan '!W169","v":"alniyawas168"},{"$f":"'shaladarpan '!X169","v":80000},{"$f":"'shaladarpan '!Y169","v":"N"},{"$f":"'shaladarpan '!Z169","v":"N"},{"$f":"'shaladarpan '!AA169","v":"No"},{"$f":"'shaladarpan '!AB169","v":12},{"$f":"'shaladarpan '!AC169","v":"None"},{"$f":"'shaladarpan '!AD169","v":1}]
[{"$f":"IF(F171=\" \",\" \",ROWS($A$3:A171))","v":169},{"$f":"'shaladarpan '!A170","v":6},{"$f":"'shaladarpan '!B170","v":"A"},{"$f":"'shaladarpan '!C170","v":4514},{"$f":"'shaladarpan '!D170","v":"2018-07-07"},{"$f":"'shaladarpan '!E170","v":"manjeet169"},{"$f":"'shaladarpan '!F170","v":"00:00:00"},{"$f":"'shaladarpan '!G170","v":"vijay169"},{"$f":"'shaladarpan '!H170","v":"beautiful169"},{"$f":"'shaladarpan '!I170","v":"F"},{"$f":"'shaladarpan '!J170","v":"2010-07-05"},{"$f":"'shaladarpan '!K170","v":"yes"},{"$f":"'shaladarpan '!L170","v":169},{"$f":"'shaladarpan '!M170","v":0},{"$f":"'shaladarpan '!N170","v":0},{"$f":"'shaladarpan '!O170","v":"OBC"},{"$f":"'shaladarpan '!P170","v":"Hindu"},{"$f":"'shaladarpan '!Q170","v":0},{"$f":"'shaladarpan '!R170","v":"GOVT. SENIOR SECONDARY SCHOOL ALNIYAWAS (219445)"},{"$f":"'shaladarpan '!S170","v":8140200308},{"$f":"'shaladarpan '!T170","v":"XXXX5969"},{"$f":"'shaladarpan '!U170","v":"VHTZJWT"},{"$f":"'shaladarpan '!V170","v":9828120865},{"$f":"'shaladarpan '!W170","v":"alniyawas169"},{"$f":"'shaladarpan '!X170","v":40000},{"$f":"'shaladarpan '!Y170","v":"N"},{"$f":"'shaladarpan '!Z170","v":"N"},{"$f":"'shaladarpan '!AA170","v":"No"},{"$f":"'shaladarpan '!AB170","v":10},{"$f":"'shaladarpan '!AC170","v":"None"},{"$f":"'shaladarpan '!AD170","v":4}]
[{"$f":"IF(F172=\" \",\" \",ROWS($A$3:A172))","v":170},{"$f":"'shaladarpan '!A171","v":6},{"$f":"'shaladarpan '!B171","v":"A"},{"$f":"'shaladarpan '!C171","v":4875},{"$f":"'shaladarpan '!D171","v":"2015-07-01"},{"$f":"'shaladarpan '!E171","v":"manjeet170"},{"$f":"'shaladarpan '!F171","v":"00:00:00"},{"$f":"'shaladarpan '!G171","v":"vijay170"},{"$f":"'shaladarpan '!H171","v":"beautiful170"},{"$f":"'shaladarpan '!I171","v":"F"},{"$f":"'shaladarpan '!J171","v":"2009-07-18"},{"$f":"'shaladarpan '!K171","v":"yes"},{"$f":"'shaladarpan '!L171","v":170},{"$f":"'shaladarpan '!M171","v":0},{"$f":"'shaladarpan '!N171","v":0},{"$f":"'shaladarpan '!O171","v":"OBC"},{"$f":"'shaladarpan '!P171","v":"Hindu"},{"$f":"'shaladarpan '!Q171","v":0},{"$f":"'shaladarpan '!R171","v":"GOVT. SENIOR SECONDARY SCHOOL ALNIYAWAS (219445)"},{"$f":"'shaladarpan '!S171","v":8140200308},{"$f":"'shaladarpan '!T171","v":"XXXX0506"},{"$f":"'shaladarpan '!U171","v":"BHXCWCP"},{"$f":"'shaladarpan '!V171","v":9828120866},{"$f":"'shaladarpan '!W171","v":"alniyawas170"},{"$f":"'shaladarpan '!X171","v":45000},{"$f":"'shaladarpan '!Y171","v":"N"},{"$f":"'shaladarpan '!Z171","v":"N"},{"$f":"'shaladarpan '!AA171","v":"No"},{"$f":"'shaladarpan '!AB171","v":11},{"$f":"'shaladarpan '!AC171","v":"None"},{"$f":"'shaladarpan '!AD171","v":0}]
[{"$f":"IF(F173=\" \",\" \",ROWS($A$3:A173))","v":171},{"$f":"'shaladarpan '!A172","v":6},{"$f":"'shaladarpan '!B172","v":"A"},{"$f":"'shaladarpan '!C172","v":4443},{"$f":"'shaladarpan '!D172","v":"2018-06-30"},{"$f":"'shaladarpan '!E172","v":"manjeet171"},{"$f":"'shaladarpan '!F172","v":"00:00:00"},{"$f":"'shaladarpan '!G172","v":"vijay171"},{"$f":"'shaladarpan '!H172","v":"beautiful171"},{"$f":"'shaladarpan '!I172","v":"M"},{"$f":"'shaladarpan '!J172","v":"2007-09-09"},{"$f":"'shaladarpan '!K172","v":"no"},{"$f":"'shaladarpan '!L172","v":171},{"$f":"'shaladarpan '!M172","v":0},{"$f":"'shaladarpan '!N172","v":0},{"$f":"'shaladarpan '!O172","v":"OBC"},{"$f":"'shaladarpan '!P172","v":"Muslim"},{"$f":"'shaladarpan '!Q172","v":0},{"$f":"'shaladarpan '!R172","v":"GOVT. SENIOR SECONDARY SCHOOL ALNIYAWAS (219445)"},{"$f":"'shaladarpan '!S172","v":8140200308},{"$f":"'shaladarpan '!T172","v":"XXXX8946"},{"$f":"'shaladarpan '!U172","v":"VHHNBHR"},{"$f":"'shaladarpan '!V172","v":9828120867},{"$f":"'shaladarpan '!W172","v":"alniyawas171"},{"$f":"'shaladarpan '!X172","v":45000},{"$f":"'shaladarpan '!Y172","v":"N"},{"$f":"'shaladarpan '!Z172","v":"N"},{"$f":"'shaladarpan '!AA172","v":"Yes"},{"$f":"'shaladarpan '!AB172","v":13},{"$f":"'shaladarpan '!AC172","v":"None"},{"$f":"'shaladarpan '!AD172","v":2}]
[{"$f":"IF(F174=\" \",\" \",ROWS($A$3:A174))","v":172},{"$f":"'shaladarpan '!A173","v":6},{"$f":"'shaladarpan '!B173","v":"A"},{"$f":"'shaladarpan '!C173","v":4087},{"$f":"'shaladarpan '!D173","v":"2015-08-01"},{"$f":"'shaladarpan '!E173","v":"manjeet172"},{"$f":"'shaladarpan '!F173","v":"00:00:00"},{"$f":"'shaladarpan '!G173","v":"vijay172"},{"$f":"'shaladarpan '!H173","v":"beautiful172"},{"$f":"'shaladarpan '!I173","v":"F"},{"$f":"'shaladarpan '!J173","v":"2009-07-15"},{"$f":"'shaladarpan '!K173","v":"yes"},{"$f":"'shaladarpan '!L173","v":172},{"$f":"'shaladarpan '!M173","v":0},{"$f":"'shaladarpan '!N173","v":0},{"$f":"'shaladarpan '!O173","v":"SC"},{"$f":"'shaladarpan '!P173","v":"Hindu"},{"$f":"'shaladarpan '!Q173","v":0},{"$f":"'shaladarpan '!R173","v":"GOVT. SENIOR SECONDARY SCHOOL ALNIYAWAS (219445)"},{"$f":"'shaladarpan '!S173","v":8140200308},{"$f":"'shaladarpan '!T173","v":"XXXX4126"},{"$f":"'shaladarpan '!U173","v":0},{"$f":"'shaladarpan '!V173","v":9828120868},{"$f":"'shaladarpan '!W173","v":"alniyawas172"},{"$f":"'shaladarpan '!X173","v":0},{"$f":"'shaladarpan '!Y173","v":"N"},{"$f":"'shaladarpan '!Z173","v":"N"},{"$f":"'shaladarpan '!AA173","v":"No"},{"$f":"'shaladarpan '!AB173","v":11},{"$f":"'shaladarpan '!AC173","v":"None"},{"$f":"'shaladarpan '!AD173","v":1}]
[{"$f":"IF(F175=\" \",\" \",ROWS($A$3:A175))","v":173},{"$f":"'shaladarpan '!A174","v":6},{"$f":"'shaladarpan '!B174","v":"A"},{"$f":"'shaladarpan '!C174","v":3972},{"$f":"'shaladarpan '!D174","v":"2015-07-02"},{"$f":"'shaladarpan '!E174","v":"manjeet173"},{"$f":"'shaladarpan '!F174","v":"00:00:00"},{"$f":"'shaladarpan '!G174","v":"vijay173"},{"$f":"'shaladarpan '!H174","v":"beautiful173"},{"$f":"'shaladarpan '!I174","v":"F"},{"$f":"'shaladarpan '!J174","v":"2008-06-07"},{"$f":"'shaladarpan '!K174","v":"yes"},{"$f":"'shaladarpan '!L174","v":173},{"$f":"'shaladarpan '!M174","v":0},{"$f":"'shaladarpan '!N174","v":0},{"$f":"'shaladarpan '!O174","v":"OBC"},{"$f":"'shaladarpan '!P174","v":"Muslim"},{"$f":"'shaladarpan '!Q174","v":0},{"$f":"'shaladarpan '!R174","v":"GOVT. SENIOR SECONDARY SCHOOL ALNIYAWAS (219445)"},{"$f":"'shaladarpan '!S174","v":8140200308},{"$f":"'shaladarpan '!T174","v":"XXXX7051"},{"$f":"'shaladarpan '!U174","v":0},{"$f":"'shaladarpan '!V174","v":9828120869},{"$f":"'shaladarpan '!W174","v":"alniyawas173"},{"$f":"'shaladarpan '!X174","v":0},{"$f":"'shaladarpan '!Y174","v":"N"},{"$f":"'shaladarpan '!Z174","v":"N"},{"$f":"'shaladarpan '!AA174","v":"Yes"},{"$f":"'shaladarpan '!AB174","v":12},{"$f":"'shaladarpan '!AC174","v":"None"},{"$f":"'shaladarpan '!AD174","v":1}]
[{"$f":"IF(F176=\" \",\" \",ROWS($A$3:A176))","v":174},{"$f":"'shaladarpan '!A175","v":6},{"$f":"'shaladarpan '!B175","v":"A"},{"$f":"'shaladarpan '!C175","v":4014},{"$f":"'shaladarpan '!D175","v":"2015-07-08"},{"$f":"'shaladarpan '!E175","v":"manjeet174"},{"$f":"'shaladarpan '!F175","v":"00:00:00"},{"$f":"'shaladarpan '!G175","v":"vijay174"},{"$f":"'shaladarpan '!H175","v":"beautiful174"},{"$f":"'shaladarpan '!I175","v":"F"},{"$f":"'shaladarpan '!J175","v":"2008-07-05"},{"$f":"'shaladarpan '!K175","v":"no"},{"$f":"'shaladarpan '!L175","v":174},{"$f":"'shaladarpan '!M175","v":0},{"$f":"'shaladarpan '!N175","v":0},{"$f":"'shaladarpan '!O175","v":"OBC"},{"$f":"'shaladarpan '!P175","v":"Muslim"},{"$f":"'shaladarpan '!Q175","v":0},{"$f":"'shaladarpan '!R175","v":"GOVT. SENIOR SECONDARY SCHOOL ALNIYAWAS (219445)"},{"$f":"'shaladarpan '!S175","v":8140200308},{"$f":"'shaladarpan '!T175","v":"XXXX9582"},{"$f":"'shaladarpan '!U175","v":0},{"$f":"'shaladarpan '!V175","v":9828120870},{"$f":"'shaladarpan '!W175","v":"alniyawas174"},{"$f":"'shaladarpan '!X175","v":100000},{"$f":"'shaladarpan '!Y175","v":"N"},{"$f":"'shaladarpan '!Z175","v":"N"},{"$f":"'shaladarpan '!AA175","v":"Yes"},{"$f":"'shaladarpan '!AB175","v":12},{"$f":"'shaladarpan '!AC175","v":"None"},{"$f":"'shaladarpan '!AD175","v":1}]
[{"$f":"IF(F177=\" \",\" \",ROWS($A$3:A177))","v":175},{"$f":"'shaladarpan '!A176","v":6},{"$f":"'shaladarpan '!B176","v":"A"},{"$f":"'shaladarpan '!C176","v":3998},{"$f":"'shaladarpan '!D176","v":"2015-07-06"},{"$f":"'shaladarpan '!E176","v":"manjeet175"},{"$f":"'shaladarpan '!F176","v":"00:00:00"},{"$f":"'shaladarpan '!G176","v":"vijay175"},{"$f":"'shaladarpan '!H176","v":"beautiful175"},{"$f":"'shaladarpan '!I176","v":"F"},{"$f":"'shaladarpan '!J176","v":"2008-08-20"},{"$f":"'shaladarpan '!K176","v":"yes"},{"$f":"'shaladarpan '!L176","v":175},{"$f":"'shaladarpan '!M176","v":0},{"$f":"'shaladarpan '!N176","v":0},{"$f":"'shaladarpan '!O176","v":"OBC"},{"$f":"'shaladarpan '!P176","v":"Muslim"},{"$f":"'shaladarpan '!Q176","v":0},{"$f":"'shaladarpan '!R176","v":"GOVT. SENIOR SECONDARY SCHOOL ALNIYAWAS (219445)"},{"$f":"'shaladarpan '!S176","v":8140200308},{"$f":"'shaladarpan '!T176","v":"XXXX1629"},{"$f":"'shaladarpan '!U176","v":0},{"$f":"'shaladarpan '!V176","v":9828120871},{"$f":"'shaladarpan '!W176","v":"alniyawas175"},{"$f":"'shaladarpan '!X176","v":0},{"$f":"'shaladarpan '!Y176","v":"N"},{"$f":"'shaladarpan '!Z176","v":"N"},{"$f":"'shaladarpan '!AA176","v":"Yes"},{"$f":"'shaladarpan '!AB176","v":12},{"$f":"'shaladarpan '!AC176","v":"None"},{"$f":"'shaladarpan '!AD176","v":1}]
[{"$f":"IF(F178=\" \",\" \",ROWS($A$3:A178))","v":176},{"$f":"'shaladarpan '!A177","v":6},{"$f":"'shaladarpan '!B177","v":"A"},{"$f":"'shaladarpan '!C177","v":4515},{"$f":"'shaladarpan '!D177","v":"2018-07-07"},{"$f":"'shaladarpan '!E177","v":"manjeet176"},{"$f":"'shaladarpan '!F177","v":"00:00:00"},{"$f":"'shaladarpan '!G177","v":"vijay176"},{"$f":"'shaladarpan '!H177","v":"beautiful176"},{"$f":"'shaladarpan '!I177","v":"F"},{"$f":"'shaladarpan '!J177","v":"2009-07-01"},{"$f":"'shaladarpan '!K177","v":"yes"},{"$f":"'shaladarpan '!L177","v":176},{"$f":"'shaladarpan '!M177","v":0},{"$f":"'shaladarpan '!N177","v":0},{"$f":"'shaladarpan '!O177","v":"OBC"},{"$f":"'shaladarpan '!P177","v":"Hindu"},{"$f":"'shaladarpan '!Q177","v":0},{"$f":"'shaladarpan '!R177","v":"GOVT. SENIOR SECONDARY SCHOOL ALNIYAWAS (219445)"},{"$f":"'shaladarpan '!S177","v":8140200308},{"$f":"'shaladarpan '!T177","v":"XXXX9569"},{"$f":"'shaladarpan '!U177","v":"VHTZJWJ"},{"$f":"'shaladarpan '!V177","v":9828120872},{"$f":"'shaladarpan '!W177","v":"alniyawas176"},{"$f":"'shaladarpan '!X177","v":40000},{"$f":"'shaladarpan '!Y177","v":"N"},{"$f":"'shaladarpan '!Z177","v":"N"},{"$f":"'shaladarpan '!AA177","v":"No"},{"$f":"'shaladarpan '!AB177","v":11},{"$f":"'shaladarpan '!AC177","v":"None"},{"$f":"'shaladarpan '!AD177","v":4}]
[{"$f":"IF(F179=\" \",\" \",ROWS($A$3:A179))","v":177},{"$f":"'shaladarpan '!A178","v":6},{"$f":"'shaladarpan '!B178","v":"A"},{"$f":"'shaladarpan '!C178","v":4018},{"$f":"'shaladarpan '!D178","v":"2015-07-09"},{"$f":"'shaladarpan '!E178","v":"manjeet177"},{"$f":"'shaladarpan '!F178","v":"00:00:00"},{"$f":"'shaladarpan '!G178","v":"vijay177"},{"$f":"'shaladarpan '!H178","v":"beautiful177"},{"$f":"'shaladarpan '!I178","v":"M"},{"$f":"'shaladarpan '!J178","v":"2008-07-15"},{"$f":"'shaladarpan '!K178","v":"no"},{"$f":"'shaladarpan '!L178","v":177},{"$f":"'shaladarpan '!M178","v":0},{"$f":"'shaladarpan '!N178","v":0},{"$f":"'shaladarpan '!O178","v":"SC"},{"$f":"'shaladarpan '!P178","v":0},{"$f":"'shaladarpan '!Q178","v":0},{"$f":"'shaladarpan '!R178","v":"GOVT. SENIOR SECONDARY SCHOOL ALNIYAWAS (219445)"},{"$f":"'shaladarpan '!S178","v":8140200308},{"$f":"'shaladarpan '!T178","v":"XXXX7167"},{"$f":"'shaladarpan '!U178","v":0},{"$f":"'shaladarpan '!V178","v":9828120873},{"$f":"'shaladarpan '!W178","v":"alniyawas177"},{"$f":"'shaladarpan '!X178","v":0},{"$f":"'shaladarpan '!Y178","v":"N"},{"$f":"'shaladarpan '!Z178","v":"N"},{"$f":"'shaladarpan '!AA178","v":0},{"$f":"'shaladarpan '!AB178","v":12},{"$f":"'shaladarpan '!AC178","v":"None"},{"$f":"'shaladarpan '!AD178","v":1}]
[{"$f":"IF(F180=\" \",\" \",ROWS($A$3:A180))","v":178},{"$f":"'shaladarpan '!A179","v":6},{"$f":"'shaladarpan '!B179","v":"A"},{"$f":"'shaladarpan '!C179","v":4697},{"$f":"'shaladarpan '!D179","v":"2019-07-10"},{"$f":"'shaladarpan '!E179","v":"manjeet178"},{"$f":"'shaladarpan '!F179","v":"00:00:00"},{"$f":"'shaladarpan '!G179","v":"vijay178"},{"$f":"'shaladarpan '!H179","v":"beautiful178"},{"$f":"'shaladarpan '!I179","v":"M"},{"$f":"'shaladarpan '!J179","v":"2010-11-03"},{"$f":"'shaladarpan '!K179","v":"yes"},{"$f":"'shaladarpan '!L179","v":178},{"$f":"'shaladarpan '!M179","v":0},{"$f":"'shaladarpan '!N179","v":0},{"$f":"'shaladarpan '!O179","v":"OBC"},{"$f":"'shaladarpan '!P179","v":"Hindu"},{"$f":"'shaladarpan '!Q179","v":0},{"$f":"'shaladarpan '!R179","v":"GOVT. SENIOR SECONDARY SCHOOL ALNIYAWAS (219445)"},{"$f":"'shaladarpan '!S179","v":8140200308},{"$f":"'shaladarpan '!T179","v":"XXXX5823"},{"$f":"'shaladarpan '!U179","v":"yoesuys"},{"$f":"'shaladarpan '!V179","v":9828120874},{"$f":"'shaladarpan '!W179","v":"alniyawas178"},{"$f":"'shaladarpan '!X179","v":500000},{"$f":"'shaladarpan '!Y179","v":"N"},{"$f":"'shaladarpan '!Z179","v":"N"},{"$f":"'shaladarpan '!AA179","v":"No"},{"$f":"'shaladarpan '!AB179","v":10},{"$f":"'shaladarpan '!AC179","v":"None"},{"$f":"'shaladarpan '!AD179","v":5}]
[{"$f":"IF(F181=\" \",\" \",ROWS($A$3:A181))","v":179},{"$f":"'shaladarpan '!A180","v":6},{"$f":"'shaladarpan '!B180","v":"A"},{"$f":"'shaladarpan '!C180","v":4894},{"$f":"'shaladarpan '!D180","v":"2017-06-30"},{"$f":"'shaladarpan '!E180","v":"manjeet179"},{"$f":"'shaladarpan '!F180","v":"00:00:00"},{"$f":"'shaladarpan '!G180","v":"vijay179"},{"$f":"'shaladarpan '!H180","v":"beautiful179"},{"$f":"'shaladarpan '!I180","v":"M"},{"$f":"'shaladarpan '!J180","v":"2011-07-01"},{"$f":"'shaladarpan '!K180","v":"yes"},{"$f":"'shaladarpan '!L180","v":179},{"$f":"'shaladarpan '!M180","v":0},{"$f":"'shaladarpan '!N180","v":0},{"$f":"'shaladarpan '!O180","v":"OBC"},{"$f":"'shaladarpan '!P180","v":0},{"$f":"'shaladarpan '!Q180","v":0},{"$f":"'shaladarpan '!R180","v":"GOVT. SENIOR SECONDARY SCHOOL ALNIYAWAS (219445)"},{"$f":"'shaladarpan '!S180","v":8140200308},{"$f":"'shaladarpan '!T180","v":0},{"$f":"'shaladarpan '!U180","v":0},{"$f":"'shaladarpan '!V180","v":9828120875},{"$f":"'shaladarpan '!W180","v":"alniyawas179"},{"$f":"'shaladarpan '!X180","v":100000},{"$f":"'shaladarpan '!Y180","v":"N"},{"$f":"'shaladarpan '!Z180","v":"N"},{"$f":"'shaladarpan '!AA180","v":0},{"$f":"'shaladarpan '!AB180","v":9},{"$f":"'shaladarpan '!AC180","v":"None"},{"$f":"'shaladarpan '!AD180","v":0}]
[{"$f":"IF(F182=\" \",\" \",ROWS($A$3:A182))","v":180},{"$f":"'shaladarpan '!A181","v":6},{"$f":"'shaladarpan '!B181","v":"A"},{"$f":"'shaladarpan '!C181","v":4892},{"$f":"'shaladarpan '!D181","v":"2015-07-17"},{"$f":"'shaladarpan '!E181","v":"manjeet180"},{"$f":"'shaladarpan '!F181","v":"00:00:00"},{"$f":"'shaladarpan '!G181","v":"vijay180"},{"$f":"'shaladarpan '!H181","v":"beautiful180"},{"$f":"'shaladarpan '!I181","v":"F"},{"$f":"'shaladarpan '!J181","v":"2010-06-10"},{"$f":"'shaladarpan '!K181","v":"no"},{"$f":"'shaladarpan '!L181","v":180},{"$f":"'shaladarpan '!M181","v":0},{"$f":"'shaladarpan '!N181","v":0},{"$f":"'shaladarpan '!O181","v":"OBC"},{"$f":"'shaladarpan '!P181","v":0},{"$f":"'shaladarpan '!Q181","v":0},{"$f":"'shaladarpan '!R181","v":"GOVT. SENIOR SECONDARY SCHOOL ALNIYAWAS (219445)"},{"$f":"'shaladarpan '!S181","v":8140200308},{"$f":"'shaladarpan '!T181","v":0},{"$f":"'shaladarpan '!U181","v":0},{"$f":"'shaladarpan '!V181","v":9828120876},{"$f":"'shaladarpan '!W181","v":"alniyawas180"},{"$f":"'shaladarpan '!X181","v":60000},{"$f":"'shaladarpan '!Y181","v":"N"},{"$f":"'shaladarpan '!Z181","v":"N"},{"$f":"'shaladarpan '!AA181","v":0},{"$f":"'shaladarpan '!AB181","v":10},{"$f":"'shaladarpan '!AC181","v":"None"},{"$f":"'shaladarpan '!AD181","v":0}]
[{"$f":"IF(F183=\" \",\" \",ROWS($A$3:A183))","v":181},{"$f":"'shaladarpan '!A182","v":6},{"$f":"'shaladarpan '!B182","v":"A"},{"$f":"'shaladarpan '!C182","v":4792},{"$f":"'shaladarpan '!D182","v":"2015-05-11"},{"$f":"'shaladarpan '!E182","v":"manjeet181"},{"$f":"'shaladarpan '!F182","v":"00:00:00"},{"$f":"'shaladarpan '!G182","v":"vijay181"},{"$f":"'shaladarpan '!H182","v":"beautiful181"},{"$f":"'shaladarpan '!I182","v":"M"},{"$f":"'shaladarpan '!J182","v":"2008-04-30"},{"$f":"'shaladarpan '!K182","v":"yes"},{"$f":"'shaladarpan '!L182","v":181},{"$f":"'shaladarpan '!M182","v":0},{"$f":"'shaladarpan '!N182","v":0},{"$f":"'shaladarpan '!O182","v":"SC"},{"$f":"'shaladarpan '!P182","v":0},{"$f":"'shaladarpan '!Q182","v":0},{"$f":"'shaladarpan '!R182","v":"GOVT. SENIOR SECONDARY SCHOOL ALNIYAWAS (219445)"},{"$f":"'shaladarpan '!S182","v":8140200308},{"$f":"'shaladarpan '!T182","v":"XXXX1475"},{"$f":"'shaladarpan '!U182","v":0},{"$f":"'shaladarpan '!V182","v":9828120877},{"$f":"'shaladarpan '!W182","v":"alniyawas181"},{"$f":"'shaladarpan '!X182","v":0},{"$f":"'shaladarpan '!Y182","v":"N"},{"$f":"'shaladarpan '!Z182","v":"N"},{"$f":"'shaladarpan '!AA182","v":0},{"$f":"'shaladarpan '!AB182","v":12},{"$f":"'shaladarpan '!AC182","v":"None"},{"$f":"'shaladarpan '!AD182","v":0}]
[{"$f":"IF(F184=\" \",\" \",ROWS($A$3:A184))","v":182},{"$f":"'shaladarpan '!A183","v":6},{"$f":"'shaladarpan '!B183","v":"A"},{"$f":"'shaladarpan '!C183","v":4579},{"$f":"'shaladarpan '!D183","v":"2018-07-18"},{"$f":"'shaladarpan '!E183","v":"manjeet182"},{"$f":"'shaladarpan '!F183","v":"00:00:00"},{"$f":"'shaladarpan '!G183","v":"vijay182"},{"$f":"'shaladarpan '!H183","v":"beautiful182"},{"$f":"'shaladarpan '!I183","v":"M"},{"$f":"'shaladarpan '!J183","v":"2011-07-10"},{"$f":"'shaladarpan '!K183","v":"yes"},{"$f":"'shaladarpan '!L183","v":182},{"$f":"'shaladarpan '!M183","v":0},{"$f":"'shaladarpan '!N183","v":0},{"$f":"'shaladarpan '!O183","v":"SC"},{"$f":"'shaladarpan '!P183","v":"Hindu"},{"$f":"'shaladarpan '!Q183","v":0},{"$f":"'shaladarpan '!R183","v":"GOVT. SENIOR SECONDARY SCHOOL ALNIYAWAS (219445)"},{"$f":"'shaladarpan '!S183","v":8140200308},{"$f":"'shaladarpan '!T183","v":"XXXX3266"},{"$f":"'shaladarpan '!U183","v":"YOHXTSP"},{"$f":"'shaladarpan '!V183","v":9828120878},{"$f":"'shaladarpan '!W183","v":"alniyawas182"},{"$f":"'shaladarpan '!X183","v":36000},{"$f":"'shaladarpan '!Y183","v":"N"},{"$f":"'shaladarpan '!Z183","v":"N"},{"$f":"'shaladarpan '!AA183","v":"No"},{"$f":"'shaladarpan '!AB183","v":9},{"$f":"'shaladarpan '!AC183","v":"None"},{"$f":"'shaladarpan '!AD183","v":0}]
[{"$f":"IF(F185=\" \",\" \",ROWS($A$3:A185))","v":183},{"$f":"'shaladarpan '!A184","v":6},{"$f":"'shaladarpan '!B184","v":"A"},{"$f":"'shaladarpan '!C184","v":4696},{"$f":"'shaladarpan '!D184","v":"2019-07-10"},{"$f":"'shaladarpan '!E184","v":"manjeet183"},{"$f":"'shaladarpan '!F184","v":"00:00:00"},{"$f":"'shaladarpan '!G184","v":"vijay183"},{"$f":"'shaladarpan '!H184","v":"beautiful183"},{"$f":"'shaladarpan '!I184","v":"M"},{"$f":"'shaladarpan '!J184","v":"2009-07-02"},{"$f":"'shaladarpan '!K184","v":"no"},{"$f":"'shaladarpan '!L184","v":183},{"$f":"'shaladarpan '!M184","v":0},{"$f":"'shaladarpan '!N184","v":0},{"$f":"'shaladarpan '!O184","v":"OBC"},{"$f":"'shaladarpan '!P184","v":"Muslim"},{"$f":"'shaladarpan '!Q184","v":0},{"$f":"'shaladarpan '!R184","v":"GOVT. SENIOR SECONDARY SCHOOL ALNIYAWAS (219445)"},{"$f":"'shaladarpan '!S184","v":8140200308},{"$f":"'shaladarpan '!T184","v":0},{"$f":"'shaladarpan '!U184","v":"vwwrnvh"},{"$f":"'shaladarpan '!V184","v":9828120879},{"$f":"'shaladarpan '!W184","v":"alniyawas183"},{"$f":"'shaladarpan '!X184","v":60000},{"$f":"'shaladarpan '!Y184","v":"N"},{"$f":"'shaladarpan '!Z184","v":"N"},{"$f":"'shaladarpan '!AA184","v":"Yes"},{"$f":"'shaladarpan '!AB184","v":11},{"$f":"'shaladarpan '!AC184","v":"None"},{"$f":"'shaladarpan '!AD184","v":1}]
[{"$f":"IF(F186=\" \",\" \",ROWS($A$3:A186))","v":184},{"$f":"'shaladarpan '!A185","v":6},{"$f":"'shaladarpan '!B185","v":"A"},{"$f":"'shaladarpan '!C185","v":3975},{"$f":"'shaladarpan '!D185","v":"2015-07-03"},{"$f":"'shaladarpan '!E185","v":"manjeet184"},{"$f":"'shaladarpan '!F185","v":"00:00:00"},{"$f":"'shaladarpan '!G185","v":"vijay184"},{"$f":"'shaladarpan '!H185","v":"beautiful184"},{"$f":"'shaladarpan '!I185","v":"M"},{"$f":"'shaladarpan '!J185","v":"2009-07-15"},{"$f":"'shaladarpan '!K185","v":"yes"},{"$f":"'shaladarpan '!L185","v":184},{"$f":"'shaladarpan '!M185","v":0},{"$f":"'shaladarpan '!N185","v":0},{"$f":"'shaladarpan '!O185","v":"OBC"},{"$f":"'shaladarpan '!P185","v":"Muslim"},{"$f":"'shaladarpan '!Q185","v":0},{"$f":"'shaladarpan '!R185","v":"GOVT. SENIOR SECONDARY SCHOOL ALNIYAWAS (219445)"},{"$f":"'shaladarpan '!S185","v":8140200308},{"$f":"'shaladarpan '!T185","v":"XXXX1743"},{"$f":"'shaladarpan '!U185","v":0},{"$f":"'shaladarpan '!V185","v":9828120880},{"$f":"'shaladarpan '!W185","v":"alniyawas184"},{"$f":"'shaladarpan '!X185","v":0},{"$f":"'shaladarpan '!Y185","v":"N"},{"$f":"'shaladarpan '!Z185","v":"N"},{"$f":"'shaladarpan '!AA185","v":"Yes"},{"$f":"'shaladarpan '!AB185","v":11},{"$f":"'shaladarpan '!AC185","v":"None"},{"$f":"'shaladarpan '!AD185","v":1}]
[{"$f":"IF(F187=\" \",\" \",ROWS($A$3:A187))","v":185},{"$f":"'shaladarpan '!A186","v":6},{"$f":"'shaladarpan '!B186","v":"A"},{"$f":"'shaladarpan '!C186","v":4012},{"$f":"'shaladarpan '!D186","v":"2015-07-07"},{"$f":"'shaladarpan '!E186","v":"manjeet185"},{"$f":"'shaladarpan '!F186","v":"00:00:00"},{"$f":"'shaladarpan '!G186","v":"vijay185"},{"$f":"'shaladarpan '!H186","v":"beautiful185"},{"$f":"'shaladarpan '!I186","v":"F"},{"$f":"'shaladarpan '!J186","v":"2008-10-05"},{"$f":"'shaladarpan '!K186","v":"yes"},{"$f":"'shaladarpan '!L186","v":185},{"$f":"'shaladarpan '!M186","v":0},{"$f":"'shaladarpan '!N186","v":0},{"$f":"'shaladarpan '!O186","v":"OBC"},{"$f":"'shaladarpan '!P186","v":"Muslim"},{"$f":"'shaladarpan '!Q186","v":0},{"$f":"'shaladarpan '!R186","v":"GOVT. SENIOR SECONDARY SCHOOL ALNIYAWAS (219445)"},{"$f":"'shaladarpan '!S186","v":8140200308},{"$f":"'shaladarpan '!T186","v":"XXXX2886"},{"$f":"'shaladarpan '!U186","v":0},{"$f":"'shaladarpan '!V186","v":9828120881},{"$f":"'shaladarpan '!W186","v":"alniyawas185"},{"$f":"'shaladarpan '!X186","v":100000},{"$f":"'shaladarpan '!Y186","v":"Y"},{"$f":"'shaladarpan '!Z186","v":"N"},{"$f":"'shaladarpan '!AA186","v":"Yes"},{"$f":"'shaladarpan '!AB186","v":12},{"$f":"'shaladarpan '!AC186","v":"None"},{"$f":"'shaladarpan '!AD186","v":1}]
[{"$f":"IF(F188=\" \",\" \",ROWS($A$3:A188))","v":186},{"$f":"'shaladarpan '!A187","v":6},{"$f":"'shaladarpan '!B187","v":"A"},{"$f":"'shaladarpan '!C187","v":3944},{"$f":"'shaladarpan '!D187","v":"2015-05-16"},{"$f":"'shaladarpan '!E187","v":"manjeet186"},{"$f":"'shaladarpan '!F187","v":"00:00:00"},{"$f":"'shaladarpan '!G187","v":"vijay186"},{"$f":"'shaladarpan '!H187","v":"beautiful186"},{"$f":"'shaladarpan '!I187","v":"M"},{"$f":"'shaladarpan '!J187","v":"2010-05-21"},{"$f":"'shaladarpan '!K187","v":"no"},{"$f":"'shaladarpan '!L187","v":186},{"$f":"'shaladarpan '!M187","v":0},{"$f":"'shaladarpan '!N187","v":0},{"$f":"'shaladarpan '!O187","v":"OBC"},{"$f":"'shaladarpan '!P187","v":"Muslim"},{"$f":"'shaladarpan '!Q187","v":0},{"$f":"'shaladarpan '!R187","v":"GOVT. SENIOR SECONDARY SCHOOL ALNIYAWAS (219445)"},{"$f":"'shaladarpan '!S187","v":8140200308},{"$f":"'shaladarpan '!T187","v":"XXXX3820"},{"$f":"'shaladarpan '!U187","v":0},{"$f":"'shaladarpan '!V187","v":9828120882},{"$f":"'shaladarpan '!W187","v":"alniyawas186"},{"$f":"'shaladarpan '!X187","v":100000},{"$f":"'shaladarpan '!Y187","v":"N"},{"$f":"'shaladarpan '!Z187","v":"N"},{"$f":"'shaladarpan '!AA187","v":"Yes"},{"$f":"'shaladarpan '!AB187","v":10},{"$f":"'shaladarpan '!AC187","v":"None"},{"$f":"'shaladarpan '!AD187","v":1}]
[{"$f":"IF(F189=\" \",\" \",ROWS($A$3:A189))","v":187},{"$f":"'shaladarpan '!A188","v":6},{"$f":"'shaladarpan '!B188","v":"A"},{"$f":"'shaladarpan '!C188","v":4064},{"$f":"'shaladarpan '!D188","v":"2015-07-15"},{"$f":"'shaladarpan '!E188","v":"manjeet187"},{"$f":"'shaladarpan '!F188","v":"00:00:00"},{"$f":"'shaladarpan '!G188","v":"vijay187"},{"$f":"'shaladarpan '!H188","v":"beautiful187"},{"$f":"'shaladarpan '!I188","v":"F"},{"$f":"'shaladarpan '!J188","v":"2009-12-05"},{"$f":"'shaladarpan '!K188","v":"yes"},{"$f":"'shaladarpan '!L188","v":187},{"$f":"'shaladarpan '!M188","v":0},{"$f":"'shaladarpan '!N188","v":0},{"$f":"'shaladarpan '!O188","v":"OBC"},{"$f":"'shaladarpan '!P188","v":"Muslim"},{"$f":"'shaladarpan '!Q188","v":0},{"$f":"'shaladarpan '!R188","v":"GOVT. SENIOR SECONDARY SCHOOL ALNIYAWAS (219445)"},{"$f":"'shaladarpan '!S188","v":8140200308},{"$f":"'shaladarpan '!T188","v":"XXXX7397"},{"$f":"'shaladarpan '!U188","v":0},{"$f":"'shaladarpan '!V188","v":9828120883},{"$f":"'shaladarpan '!W188","v":"alniyawas187"},{"$f":"'shaladarpan '!X188","v":0},{"$f":"'shaladarpan '!Y188","v":"N"},{"$f":"'shaladarpan '!Z188","v":"N"},{"$f":"'shaladarpan '!AA188","v":"Yes"},{"$f":"'shaladarpan '!AB188","v":11},{"$f":"'shaladarpan '!AC188","v":"None"},{"$f":"'shaladarpan '!AD188","v":1}]
[{"$f":"IF(F190=\" \",\" \",ROWS($A$3:A190))","v":188},{"$f":"'shaladarpan '!A189","v":6},{"$f":"'shaladarpan '!B189","v":"A"},{"$f":"'shaladarpan '!C189","v":3985},{"$f":"'shaladarpan '!D189","v":"2015-07-04"},{"$f":"'shaladarpan '!E189","v":"manjeet188"},{"$f":"'shaladarpan '!F189","v":"00:00:00"},{"$f":"'shaladarpan '!G189","v":"vijay188"},{"$f":"'shaladarpan '!H189","v":"beautiful188"},{"$f":"'shaladarpan '!I189","v":"F"},{"$f":"'shaladarpan '!J189","v":"2009-06-05"},{"$f":"'shaladarpan '!K189","v":"yes"},{"$f":"'shaladarpan '!L189","v":188},{"$f":"'shaladarpan '!M189","v":0},{"$f":"'shaladarpan '!N189","v":0},{"$f":"'shaladarpan '!O189","v":"OBC"},{"$f":"'shaladarpan '!P189","v":"Muslim"},{"$f":"'shaladarpan '!Q189","v":0},{"$f":"'shaladarpan '!R189","v":"GOVT. SENIOR SECONDARY SCHOOL ALNIYAWAS (219445)"},{"$f":"'shaladarpan '!S189","v":8140200308},{"$f":"'shaladarpan '!T189","v":"XXXX5696"},{"$f":"'shaladarpan '!U189","v":0},{"$f":"'shaladarpan '!V189","v":9828120884},{"$f":"'shaladarpan '!W189","v":"alniyawas188"},{"$f":"'shaladarpan '!X189","v":0},{"$f":"'shaladarpan '!Y189","v":"N"},{"$f":"'shaladarpan '!Z189","v":"N"},{"$f":"'shaladarpan '!AA189","v":"Yes"},{"$f":"'shaladarpan '!AB189","v":11},{"$f":"'shaladarpan '!AC189","v":"None"},{"$f":"'shaladarpan '!AD189","v":1}]
[{"$f":"IF(F191=\" \",\" \",ROWS($A$3:A191))","v":189},{"$f":"'shaladarpan '!A190","v":6},{"$f":"'shaladarpan '!B190","v":"A"},{"$f":"'shaladarpan '!C190","v":3866},{"$f":"'shaladarpan '!D190","v":"2015-05-11"},{"$f":"'shaladarpan '!E190","v":"manjeet189"},{"$f":"'shaladarpan '!F190","v":"00:00:00"},{"$f":"'shaladarpan '!G190","v":"vijay189"},{"$f":"'shaladarpan '!H190","v":"beautiful189"},{"$f":"'shaladarpan '!I190","v":"M"},{"$f":"'shaladarpan '!J190","v":"2007-05-07"},{"$f":"'shaladarpan '!K190","v":"no"},{"$f":"'shaladarpan '!L190","v":189},{"$f":"'shaladarpan '!M190","v":0},{"$f":"'shaladarpan '!N190","v":0},{"$f":"'shaladarpan '!O190","v":"OBC"},{"$f":"'shaladarpan '!P190","v":"Muslim"},{"$f":"'shaladarpan '!Q190","v":0},{"$f":"'shaladarpan '!R190","v":"GOVT. SENIOR SECONDARY SCHOOL ALNIYAWAS (219445)"},{"$f":"'shaladarpan '!S190","v":8140200308},{"$f":"'shaladarpan '!T190","v":"XXXX4575"},{"$f":"'shaladarpan '!U190","v":0},{"$f":"'shaladarpan '!V190","v":9828120885},{"$f":"'shaladarpan '!W190","v":"alniyawas189"},{"$f":"'shaladarpan '!X190","v":0},{"$f":"'shaladarpan '!Y190","v":"N"},{"$f":"'shaladarpan '!Z190","v":"N"},{"$f":"'shaladarpan '!AA190","v":"Yes"},{"$f":"'shaladarpan '!AB190","v":13},{"$f":"'shaladarpan '!AC190","v":"None"},{"$f":"'shaladarpan '!AD190","v":0}]
[{"$f":"IF(F192=\" \",\" \",ROWS($A$3:A192))","v":190},{"$f":"'shaladarpan '!A191","v":6},{"$f":"'shaladarpan '!B191","v":"A"},{"$f":"'shaladarpan '!C191","v":4013},{"$f":"'shaladarpan '!D191","v":"2015-07-08"},{"$f":"'shaladarpan '!E191","v":"manjeet190"},{"$f":"'shaladarpan '!F191","v":"00:00:00"},{"$f":"'shaladarpan '!G191","v":"vijay190"},{"$f":"'shaladarpan '!H191","v":"beautiful190"},{"$f":"'shaladarpan '!I191","v":"M"},{"$f":"'shaladarpan '!J191","v":"2009-07-15"},{"$f":"'shaladarpan '!K191","v":"yes"},{"$f":"'shaladarpan '!L191","v":190},{"$f":"'shaladarpan '!M191","v":0},{"$f":"'shaladarpan '!N191","v":0},{"$f":"'shaladarpan '!O191","v":"OBC"},{"$f":"'shaladarpan '!P191","v":"Muslim"},{"$f":"'shaladarpan '!Q191","v":0},{"$f":"'shaladarpan '!R191","v":"GOVT. SENIOR SECONDARY SCHOOL ALNIYAWAS (219445)"},{"$f":"'shaladarpan '!S191","v":8140200308},{"$f":"'shaladarpan '!T191","v":"XXXX8999"},{"$f":"'shaladarpan '!U191","v":0},{"$f":"'shaladarpan '!V191","v":9828120886},{"$f":"'shaladarpan '!W191","v":"alniyawas190"},{"$f":"'shaladarpan '!X191","v":60000},{"$f":"'shaladarpan '!Y191","v":"N"},{"$f":"'shaladarpan '!Z191","v":"N"},{"$f":"'shaladarpan '!AA191","v":"Yes"},{"$f":"'shaladarpan '!AB191","v":11},{"$f":"'shaladarpan '!AC191","v":"None"},{"$f":"'shaladarpan '!AD191","v":1}]
[{"$f":"IF(F193=\" \",\" \",ROWS($A$3:A193))","v":191},{"$f":"'shaladarpan '!A192","v":6},{"$f":"'shaladarpan '!B192","v":"A"},{"$f":"'shaladarpan '!C192","v":3973},{"$f":"'shaladarpan '!D192","v":"2015-07-02"},{"$f":"'shaladarpan '!E192","v":"manjeet191"},{"$f":"'shaladarpan '!F192","v":"00:00:00"},{"$f":"'shaladarpan '!G192","v":"vijay191"},{"$f":"'shaladarpan '!H192","v":"beautiful191"},{"$f":"'shaladarpan '!I192","v":"M"},{"$f":"'shaladarpan '!J192","v":"2010-05-05"},{"$f":"'shaladarpan '!K192","v":"yes"},{"$f":"'shaladarpan '!L192","v":191},{"$f":"'shaladarpan '!M192","v":0},{"$f":"'shaladarpan '!N192","v":0},{"$f":"'shaladarpan '!O192","v":"OBC"},{"$f":"'shaladarpan '!P192","v":"Muslim"},{"$f":"'shaladarpan '!Q192","v":0},{"$f":"'shaladarpan '!R192","v":"GOVT. SENIOR SECONDARY SCHOOL ALNIYAWAS (219445)"},{"$f":"'shaladarpan '!S192","v":8140200308},{"$f":"'shaladarpan '!T192","v":"XXXX6735"},{"$f":"'shaladarpan '!U192","v":0},{"$f":"'shaladarpan '!V192","v":9828120887},{"$f":"'shaladarpan '!W192","v":"alniyawas191"},{"$f":"'shaladarpan '!X192","v":0},{"$f":"'shaladarpan '!Y192","v":"N"},{"$f":"'shaladarpan '!Z192","v":"N"},{"$f":"'shaladarpan '!AA192","v":"Yes"},{"$f":"'shaladarpan '!AB192","v":10},{"$f":"'shaladarpan '!AC192","v":"None"},{"$f":"'shaladarpan '!AD192","v":1}]
[{"$f":"IF(F194=\" \",\" \",ROWS($A$3:A194))","v":192},{"$f":"'shaladarpan '!A193","v":6},{"$f":"'shaladarpan '!B193","v":"A"},{"$f":"'shaladarpan '!C193","v":4516},{"$f":"'shaladarpan '!D193","v":"2018-07-07"},{"$f":"'shaladarpan '!E193","v":"manjeet192"},{"$f":"'shaladarpan '!F193","v":"00:00:00"},{"$f":"'shaladarpan '!G193","v":"vijay192"},{"$f":"'shaladarpan '!H193","v":"beautiful192"},{"$f":"'shaladarpan '!I193","v":"F"},{"$f":"'shaladarpan '!J193","v":"2010-05-05"},{"$f":"'shaladarpan '!K193","v":"no"},{"$f":"'shaladarpan '!L193","v":192},{"$f":"'shaladarpan '!M193","v":0},{"$f":"'shaladarpan '!N193","v":0},{"$f":"'shaladarpan '!O193","v":"OBC"},{"$f":"'shaladarpan '!P193","v":"Muslim"},{"$f":"'shaladarpan '!Q193","v":0},{"$f":"'shaladarpan '!R193","v":"GOVT. SENIOR SECONDARY SCHOOL ALNIYAWAS (219445)"},{"$f":"'shaladarpan '!S193","v":8140200308},{"$f":"'shaladarpan '!T193","v":"XXXX7140"},{"$f":"'shaladarpan '!U193","v":0},{"$f":"'shaladarpan '!V193","v":9828120888},{"$f":"'shaladarpan '!W193","v":"alniyawas192"},{"$f":"'shaladarpan '!X193","v":36000},{"$f":"'shaladarpan '!Y193","v":"N"},{"$f":"'shaladarpan '!Z193","v":"N"},{"$f":"'shaladarpan '!AA193","v":"Yes"},{"$f":"'shaladarpan '!AB193","v":10},{"$f":"'shaladarpan '!AC193","v":"None"},{"$f":"'shaladarpan '!AD193","v":0}]
[{"$f":"IF(F195=\" \",\" \",ROWS($A$3:A195))","v":193},{"$f":"'shaladarpan '!A194","v":6},{"$f":"'shaladarpan '!B194","v":"A"},{"$f":"'shaladarpan '!C194","v":3997},{"$f":"'shaladarpan '!D194","v":"2015-07-06"},{"$f":"'shaladarpan '!E194","v":"manjeet193"},{"$f":"'shaladarpan '!F194","v":"00:00:00"},{"$f":"'shaladarpan '!G194","v":"vijay193"},{"$f":"'shaladarpan '!H194","v":"beautiful193"},{"$f":"'shaladarpan '!I194","v":"F"},{"$f":"'shaladarpan '!J194","v":"2009-07-05"},{"$f":"'shaladarpan '!K194","v":"yes"},{"$f":"'shaladarpan '!L194","v":193},{"$f":"'shaladarpan '!M194","v":0},{"$f":"'shaladarpan '!N194","v":0},{"$f":"'shaladarpan '!O194","v":"OBC"},{"$f":"'shaladarpan '!P194","v":"Muslim"},{"$f":"'shaladarpan '!Q194","v":0},{"$f":"'shaladarpan '!R194","v":"GOVT. SENIOR SECONDARY SCHOOL ALNIYAWAS (219445)"},{"$f":"'shaladarpan '!S194","v":8140200308},{"$f":"'shaladarpan '!T194","v":"XXXX4946"},{"$f":"'shaladarpan '!U194","v":0},{"$f":"'shaladarpan '!V194","v":9828120889},{"$f":"'shaladarpan '!W194","v":"alniyawas193"},{"$f":"'shaladarpan '!X194","v":0},{"$f":"'shaladarpan '!Y194","v":"N"},{"$f":"'shaladarpan '!Z194","v":"N"},{"$f":"'shaladarpan '!AA194","v":"Yes"},{"$f":"'shaladarpan '!AB194","v":11},{"$f":"'shaladarpan '!AC194","v":"None"},{"$f":"'shaladarpan '!AD194","v":1}]
[{"$f":"IF(F196=\" \",\" \",ROWS($A$3:A196))","v":194},{"$f":"'shaladarpan '!A195","v":7},{"$f":"'shaladarpan '!B195","v":"A"},{"$f":"'shaladarpan '!C195","v":4609},{"$f":"'shaladarpan '!D195","v":"2018-08-01"},{"$f":"'shaladarpan '!E195","v":"manjeet194"},{"$f":"'shaladarpan '!F195","v":"00:00:00"},{"$f":"'shaladarpan '!G195","v":"vijay194"},{"$f":"'shaladarpan '!H195","v":"beautiful194"},{"$f":"'shaladarpan '!I195","v":"F"},{"$f":"'shaladarpan '!J195","v":"2008-12-10"},{"$f":"'shaladarpan '!K195","v":"yes"},{"$f":"'shaladarpan '!L195","v":194},{"$f":"'shaladarpan '!M195","v":0},{"$f":"'shaladarpan '!N195","v":0},{"$f":"'shaladarpan '!O195","v":"OBC"},{"$f":"'shaladarpan '!P195","v":"Muslim"},{"$f":"'shaladarpan '!Q195","v":0},{"$f":"'shaladarpan '!R195","v":"GOVT. SENIOR SECONDARY SCHOOL ALNIYAWAS (219445)"},{"$f":"'shaladarpan '!S195","v":8140200308},{"$f":"'shaladarpan '!T195","v":"XXXX9364"},{"$f":"'shaladarpan '!U195","v":"WXVJHNV"},{"$f":"'shaladarpan '!V195","v":9828120890},{"$f":"'shaladarpan '!W195","v":"alniyawas194"},{"$f":"'shaladarpan '!X195","v":40000},{"$f":"'shaladarpan '!Y195","v":"N"},{"$f":"'shaladarpan '!Z195","v":"N"},{"$f":"'shaladarpan '!AA195","v":"Yes"},{"$f":"'shaladarpan '!AB195","v":12},{"$f":"'shaladarpan '!AC195","v":"None"},{"$f":"'shaladarpan '!AD195","v":0}]
[{"$f":"IF(F197=\" \",\" \",ROWS($A$3:A197))","v":195},{"$f":"'shaladarpan '!A196","v":7},{"$f":"'shaladarpan '!B196","v":"A"},{"$f":"'shaladarpan '!C196","v":3921},{"$f":"'shaladarpan '!D196","v":"2015-05-11"},{"$f":"'shaladarpan '!E196","v":"manjeet195"},{"$f":"'shaladarpan '!F196","v":"00:00:00"},{"$f":"'shaladarpan '!G196","v":"vijay195"},{"$f":"'shaladarpan '!H196","v":"beautiful195"},{"$f":"'shaladarpan '!I196","v":"M"},{"$f":"'shaladarpan '!J196","v":"2008-07-10"},{"$f":"'shaladarpan '!K196","v":"no"},{"$f":"'shaladarpan '!L196","v":195},{"$f":"'shaladarpan '!M196","v":0},{"$f":"'shaladarpan '!N196","v":0},{"$f":"'shaladarpan '!O196","v":"OBC"},{"$f":"'shaladarpan '!P196","v":0},{"$f":"'shaladarpan '!Q196","v":0},{"$f":"'shaladarpan '!R196","v":"GOVT. SENIOR SECONDARY SCHOOL ALNIYAWAS (219445)"},{"$f":"'shaladarpan '!S196","v":8140200308},{"$f":"'shaladarpan '!T196","v":"XXXX6032"},{"$f":"'shaladarpan '!U196","v":0},{"$f":"'shaladarpan '!V196","v":9828120891},{"$f":"'shaladarpan '!W196","v":"alniyawas195"},{"$f":"'shaladarpan '!X196","v":0},{"$f":"'shaladarpan '!Y196","v":"N"},{"$f":"'shaladarpan '!Z196","v":"N"},{"$f":"'shaladarpan '!AA196","v":0},{"$f":"'shaladarpan '!AB196","v":12},{"$f":"'shaladarpan '!AC196","v":"None"},{"$f":"'shaladarpan '!AD196","v":1}]
[{"$f":"IF(F198=\" \",\" \",ROWS($A$3:A198))","v":196},{"$f":"'shaladarpan '!A197","v":7},{"$f":"'shaladarpan '!B197","v":"A"},{"$f":"'shaladarpan '!C197","v":4779},{"$f":"'shaladarpan '!D197","v":"2019-07-30"},{"$f":"'shaladarpan '!E197","v":"manjeet196"},{"$f":"'shaladarpan '!F197","v":"00:00:00"},{"$f":"'shaladarpan '!G197","v":"vijay196"},{"$f":"'shaladarpan '!H197","v":"beautiful196"},{"$f":"'shaladarpan '!I197","v":"F"},{"$f":"'shaladarpan '!J197","v":"2009-09-06"},{"$f":"'shaladarpan '!K197","v":"yes"},{"$f":"'shaladarpan '!L197","v":196},{"$f":"'shaladarpan '!M197","v":0},{"$f":"'shaladarpan '!N197","v":0},{"$f":"'shaladarpan '!O197","v":"SBC"},{"$f":"'shaladarpan '!P197","v":"Hindu"},{"$f":"'shaladarpan '!Q197","v":0},{"$f":"'shaladarpan '!R197","v":"GOVT. SENIOR SECONDARY SCHOOL ALNIYAWAS (219445)"},{"$f":"'shaladarpan '!S197","v":8140200308},{"$f":"'shaladarpan '!T197","v":"XXXX5129"},{"$f":"'shaladarpan '!U197","v":"yqkfwmf"},{"$f":"'shaladarpan '!V197","v":9828120892},{"$f":"'shaladarpan '!W197","v":"alniyawas196"},{"$f":"'shaladarpan '!X197","v":60000},{"$f":"'shaladarpan '!Y197","v":"N"},{"$f":"'shaladarpan '!Z197","v":"N"},{"$f":"'shaladarpan '!AA197","v":"No"},{"$f":"'shaladarpan '!AB197","v":11},{"$f":"'shaladarpan '!AC197","v":"None"},{"$f":"'shaladarpan '!AD197","v":0}]
[{"$f":"IF(F199=\" \",\" \",ROWS($A$3:A199))","v":197},{"$f":"'shaladarpan '!A198","v":7},{"$f":"'shaladarpan '!B198","v":"A"},{"$f":"'shaladarpan '!C198","v":4786},{"$f":"'shaladarpan '!D198","v":"2019-11-28"},{"$f":"'shaladarpan '!E198","v":"manjeet197"},{"$f":"'shaladarpan '!F198","v":"00:00:00"},{"$f":"'shaladarpan '!G198","v":"vijay197"},{"$f":"'shaladarpan '!H198","v":"beautiful197"},{"$f":"'shaladarpan '!I198","v":"M"},{"$f":"'shaladarpan '!J198","v":"2006-07-05"},{"$f":"'shaladarpan '!K198","v":"yes"},{"$f":"'shaladarpan '!L198","v":197},{"$f":"'shaladarpan '!M198","v":0},{"$f":"'shaladarpan '!N198","v":0},{"$f":"'shaladarpan '!O198","v":"OBC"},{"$f":"'shaladarpan '!P198","v":"Muslim"},{"$f":"'shaladarpan '!Q198","v":0},{"$f":"'shaladarpan '!R198","v":"GOVT. SENIOR SECONDARY SCHOOL ALNIYAWAS (219445)"},{"$f":"'shaladarpan '!S198","v":8140200308},{"$f":"'shaladarpan '!T198","v":"XXXX5901"},{"$f":"'shaladarpan '!U198","v":"YMWEGOC"},{"$f":"'shaladarpan '!V198","v":9828120893},{"$f":"'shaladarpan '!W198","v":"alniyawas197"},{"$f":"'shaladarpan '!X198","v":60000},{"$f":"'shaladarpan '!Y198","v":"N"},{"$f":"'shaladarpan '!Z198","v":"N"},{"$f":"'shaladarpan '!AA198","v":"Yes"},{"$f":"'shaladarpan '!AB198","v":14},{"$f":"'shaladarpan '!AC198","v":"None"},{"$f":"'shaladarpan '!AD198","v":1}]
[{"$f":"IF(F200=\" \",\" \",ROWS($A$3:A200))","v":198},{"$f":"'shaladarpan '!A199","v":7},{"$f":"'shaladarpan '!B199","v":"A"},{"$f":"'shaladarpan '!C199","v":3923},{"$f":"'shaladarpan '!D199","v":"2015-05-11"},{"$f":"'shaladarpan '!E199","v":"manjeet198"},{"$f":"'shaladarpan '!F199","v":"00:00:00"},{"$f":"'shaladarpan '!G199","v":"vijay198"},{"$f":"'shaladarpan '!H199","v":"beautiful198"},{"$f":"'shaladarpan '!I199","v":"M"},{"$f":"'shaladarpan '!J199","v":"2007-07-05"},{"$f":"'shaladarpan '!K199","v":"no"},{"$f":"'shaladarpan '!L199","v":198},{"$f":"'shaladarpan '!M199","v":0},{"$f":"'shaladarpan '!N199","v":0},{"$f":"'shaladarpan '!O199","v":"SC"},{"$f":"'shaladarpan '!P199","v":"Hindu"},{"$f":"'shaladarpan '!Q199","v":0},{"$f":"'shaladarpan '!R199","v":"GOVT. SENIOR SECONDARY SCHOOL ALNIYAWAS (219445)"},{"$f":"'shaladarpan '!S199","v":8140200308},{"$f":"'shaladarpan '!T199","v":"XXXX8024"},{"$f":"'shaladarpan '!U199","v":0},{"$f":"'shaladarpan '!V199","v":9828120894},{"$f":"'shaladarpan '!W199","v":"alniyawas198"},{"$f":"'shaladarpan '!X199","v":0},{"$f":"'shaladarpan '!Y199","v":"N"},{"$f":"'shaladarpan '!Z199","v":"N"},{"$f":"'shaladarpan '!AA199","v":"No"},{"$f":"'shaladarpan '!AB199","v":13},{"$f":"'shaladarpan '!AC199","v":"None"},{"$f":"'shaladarpan '!AD199","v":1}]
[{"$f":"IF(F201=\" \",\" \",ROWS($A$3:A201))","v":199},{"$f":"'shaladarpan '!A200","v":7},{"$f":"'shaladarpan '!B200","v":"A"},{"$f":"'shaladarpan '!C200","v":3903},{"$f":"'shaladarpan '!D200","v":"2015-05-11"},{"$f":"'shaladarpan '!E200","v":"manjeet199"},{"$f":"'shaladarpan '!F200","v":"00:00:00"},{"$f":"'shaladarpan '!G200","v":"vijay199"},{"$f":"'shaladarpan '!H200","v":"beautiful199"},{"$f":"'shaladarpan '!I200","v":"M"},{"$f":"'shaladarpan '!J200","v":"2008-05-15"},{"$f":"'shaladarpan '!K200","v":"yes"},{"$f":"'shaladarpan '!L200","v":199},{"$f":"'shaladarpan '!M200","v":0},{"$f":"'shaladarpan '!N200","v":0},{"$f":"'shaladarpan '!O200","v":"SC"},{"$f":"'shaladarpan '!P200","v":"Hindu"},{"$f":"'shaladarpan '!Q200","v":0},{"$f":"'shaladarpan '!R200","v":"GOVT. SENIOR SECONDARY SCHOOL ALNIYAWAS (219445)"},{"$f":"'shaladarpan '!S200","v":8140200308},{"$f":"'shaladarpan '!T200","v":"XXXX7165"},{"$f":"'shaladarpan '!U200","v":0},{"$f":"'shaladarpan '!V200","v":9828120895},{"$f":"'shaladarpan '!W200","v":"alniyawas199"},{"$f":"'shaladarpan '!X200","v":0},{"$f":"'shaladarpan '!Y200","v":"N"},{"$f":"'shaladarpan '!Z200","v":"N"},{"$f":"'shaladarpan '!AA200","v":"No"},{"$f":"'shaladarpan '!AB200","v":12},{"$f":"'shaladarpan '!AC200","v":"None"},{"$f":"'shaladarpan '!AD200","v":1}]
[{"$f":"IF(F202=\" \",\" \",ROWS($A$3:A202))","v":200},{"$f":"'shaladarpan '!A201","v":7},{"$f":"'shaladarpan '!B201","v":"A"},{"$f":"'shaladarpan '!C201","v":4717},{"$f":"'shaladarpan '!D201","v":"2014-07-01"},{"$f":"'shaladarpan '!E201","v":"manjeet200"},{"$f":"'shaladarpan '!F201","v":"00:00:00"},{"$f":"'shaladarpan '!G201","v":"vijay200"},{"$f":"'shaladarpan '!H201","v":"beautiful200"},{"$f":"'shaladarpan '!I201","v":"M"},{"$f":"'shaladarpan '!J201","v":"2010-06-11"},{"$f":"'shaladarpan '!K201","v":"yes"},{"$f":"'shaladarpan '!L201","v":200},{"$f":"'shaladarpan '!M201","v":0},{"$f":"'shaladarpan '!N201","v":0},{"$f":"'shaladarpan '!O201","v":"SC"},{"$f":"'shaladarpan '!P201","v":0},{"$f":"'shaladarpan '!Q201","v":0},{"$f":"'shaladarpan '!R201","v":"GOVT. SENIOR SECONDARY SCHOOL ALNIYAWAS (219445)"},{"$f":"'shaladarpan '!S201","v":8140200308},{"$f":"'shaladarpan '!T201","v":"XXXX0828"},{"$f":"'shaladarpan '!U201","v":0},{"$f":"'shaladarpan '!V201","v":9828120896},{"$f":"'shaladarpan '!W201","v":"alniyawas200"},{"$f":"'shaladarpan '!X201","v":60000},{"$f":"'shaladarpan '!Y201","v":"N"},{"$f":"'shaladarpan '!Z201","v":"N"},{"$f":"'shaladarpan '!AA201","v":0},{"$f":"'shaladarpan '!AB201","v":10},{"$f":"'shaladarpan '!AC201","v":"None"},{"$f":"'shaladarpan '!AD201","v":4}]
[{"$f":"IF(F203=\" \",\" \",ROWS($A$3:A203))","v":201},{"$f":"'shaladarpan '!A202","v":7},{"$f":"'shaladarpan '!B202","v":"A"},{"$f":"'shaladarpan '!C202","v":4712},{"$f":"'shaladarpan '!D202","v":"2019-07-11"},{"$f":"'shaladarpan '!E202","v":"manjeet201"},{"$f":"'shaladarpan '!F202","v":"00:00:00"},{"$f":"'shaladarpan '!G202","v":"vijay201"},{"$f":"'shaladarpan '!H202","v":"beautiful201"},{"$f":"'shaladarpan '!I202","v":"M"},{"$f":"'shaladarpan '!J202","v":"2009-01-05"},{"$f":"'shaladarpan '!K202","v":"no"},{"$f":"'shaladarpan '!L202","v":201},{"$f":"'shaladarpan '!M202","v":0},{"$f":"'shaladarpan '!N202","v":0},{"$f":"'shaladarpan '!O202","v":"OBC"},{"$f":"'shaladarpan '!P202","v":"Hindu"},{"$f":"'shaladarpan '!Q202","v":0},{"$f":"'shaladarpan '!R202","v":"GOVT. SENIOR SECONDARY SCHOOL ALNIYAWAS (219445)"},{"$f":"'shaladarpan '!S202","v":8140200308},{"$f":"'shaladarpan '!T202","v":"XXXX5021"},{"$f":"'shaladarpan '!U202","v":0},{"$f":"'shaladarpan '!V202","v":9828120897},{"$f":"'shaladarpan '!W202","v":"alniyawas201"},{"$f":"'shaladarpan '!X202","v":60000},{"$f":"'shaladarpan '!Y202","v":"N"},{"$f":"'shaladarpan '!Z202","v":"N"},{"$f":"'shaladarpan '!AA202","v":"No"},{"$f":"'shaladarpan '!AB202","v":11},{"$f":"'shaladarpan '!AC202","v":"None"},{"$f":"'shaladarpan '!AD202","v":1}]
[{"$f":"IF(F204=\" \",\" \",ROWS($A$3:A204))","v":202},{"$f":"'shaladarpan '!A203","v":7},{"$f":"'shaladarpan '!B203","v":"A"},{"$f":"'shaladarpan '!C203","v":4766},{"$f":"'shaladarpan '!D203","v":"2014-07-08"},{"$f":"'shaladarpan '!E203","v":"manjeet202"},{"$f":"'shaladarpan '!F203","v":"00:00:00"},{"$f":"'shaladarpan '!G203","v":"vijay202"},{"$f":"'shaladarpan '!H203","v":"beautiful202"},{"$f":"'shaladarpan '!I203","v":"M"},{"$f":"'shaladarpan '!J203","v":"2008-02-08"},{"$f":"'shaladarpan '!K203","v":"yes"},{"$f":"'shaladarpan '!L203","v":202},{"$f":"'shaladarpan '!M203","v":0},{"$f":"'shaladarpan '!N203","v":0},{"$f":"'shaladarpan '!O203","v":"SC"},{"$f":"'shaladarpan '!P203","v":"Hindu"},{"$f":"'shaladarpan '!Q203","v":0},{"$f":"'shaladarpan '!R203","v":"GOVT. SENIOR SECONDARY SCHOOL ALNIYAWAS (219445)"},{"$f":"'shaladarpan '!S203","v":8140200308},{"$f":"'shaladarpan '!T203","v":"XXXX3524"},{"$f":"'shaladarpan '!U203","v":0},{"$f":"'shaladarpan '!V203","v":9828120898},{"$f":"'shaladarpan '!W203","v":"alniyawas202"},{"$f":"'shaladarpan '!X203","v":40000},{"$f":"'shaladarpan '!Y203","v":"N"},{"$f":"'shaladarpan '!Z203","v":"N"},{"$f":"'shaladarpan '!AA203","v":"No"},{"$f":"'shaladarpan '!AB203","v":12},{"$f":"'shaladarpan '!AC203","v":"None"},{"$f":"'shaladarpan '!AD203","v":2}]
[{"$f":"IF(F205=\" \",\" \",ROWS($A$3:A205))","v":203},{"$f":"'shaladarpan '!A204","v":7},{"$f":"'shaladarpan '!B204","v":"A"},{"$f":"'shaladarpan '!C204","v":3934},{"$f":"'shaladarpan '!D204","v":"2015-05-11"},{"$f":"'shaladarpan '!E204","v":"manjeet203"},{"$f":"'shaladarpan '!F204","v":"00:00:00"},{"$f":"'shaladarpan '!G204","v":"vijay203"},{"$f":"'shaladarpan '!H204","v":"beautiful203"},{"$f":"'shaladarpan '!I204","v":"M"},{"$f":"'shaladarpan '!J204","v":"2008-07-15"},{"$f":"'shaladarpan '!K204","v":"yes"},{"$f":"'shaladarpan '!L204","v":203},{"$f":"'shaladarpan '!M204","v":0},{"$f":"'shaladarpan '!N204","v":0},{"$f":"'shaladarpan '!O204","v":"OBC"},{"$f":"'shaladarpan '!P204","v":"Muslim"},{"$f":"'shaladarpan '!Q204","v":0},{"$f":"'shaladarpan '!R204","v":"GOVT. SENIOR SECONDARY SCHOOL ALNIYAWAS (219445)"},{"$f":"'shaladarpan '!S204","v":8140200308},{"$f":"'shaladarpan '!T204","v":"XXXX4784"},{"$f":"'shaladarpan '!U204","v":0},{"$f":"'shaladarpan '!V204","v":9828120899},{"$f":"'shaladarpan '!W204","v":"alniyawas203"},{"$f":"'shaladarpan '!X204","v":0},{"$f":"'shaladarpan '!Y204","v":"N"},{"$f":"'shaladarpan '!Z204","v":"N"},{"$f":"'shaladarpan '!AA204","v":"Yes"},{"$f":"'shaladarpan '!AB204","v":12},{"$f":"'shaladarpan '!AC204","v":"None"},{"$f":"'shaladarpan '!AD204","v":1}]
[{"$f":"IF(F206=\" \",\" \",ROWS($A$3:A206))","v":204},{"$f":"'shaladarpan '!A205","v":7},{"$f":"'shaladarpan '!B205","v":"A"},{"$f":"'shaladarpan '!C205","v":3928},{"$f":"'shaladarpan '!D205","v":"2015-05-11"},{"$f":"'shaladarpan '!E205","v":"manjeet204"},{"$f":"'shaladarpan '!F205","v":"00:00:00"},{"$f":"'shaladarpan '!G205","v":"vijay204"},{"$f":"'shaladarpan '!H205","v":"beautiful204"},{"$f":"'shaladarpan '!I205","v":"M"},{"$f":"'shaladarpan '!J205","v":"2008-08-02"},{"$f":"'shaladarpan '!K205","v":"no"},{"$f":"'shaladarpan '!L205","v":204},{"$f":"'shaladarpan '!M205","v":0},{"$f":"'shaladarpan '!N205","v":0},{"$f":"'shaladarpan '!O205","v":"OBC"},{"$f":"'shaladarpan '!P205","v":"Muslim"},{"$f":"'shaladarpan '!Q205","v":0},{"$f":"'shaladarpan '!R205","v":"GOVT. SENIOR SECONDARY SCHOOL ALNIYAWAS (219445)"},{"$f":"'shaladarpan '!S205","v":8140200308},{"$f":"'shaladarpan '!T205","v":"XXXX5190"},{"$f":"'shaladarpan '!U205","v":0},{"$f":"'shaladarpan '!V205","v":9828120900},{"$f":"'shaladarpan '!W205","v":"alniyawas204"},{"$f":"'shaladarpan '!X205","v":0},{"$f":"'shaladarpan '!Y205","v":"N"},{"$f":"'shaladarpan '!Z205","v":"N"},{"$f":"'shaladarpan '!AA205","v":"Yes"},{"$f":"'shaladarpan '!AB205","v":12},{"$f":"'shaladarpan '!AC205","v":"None"},{"$f":"'shaladarpan '!AD205","v":0}]
[{"$f":"IF(F207=\" \",\" \",ROWS($A$3:A207))","v":205},{"$f":"'shaladarpan '!A206","v":7},{"$f":"'shaladarpan '!B206","v":"A"},{"$f":"'shaladarpan '!C206","v":4632},{"$f":"'shaladarpan '!D206","v":"2019-07-02"},{"$f":"'shaladarpan '!E206","v":"manjeet205"},{"$f":"'shaladarpan '!F206","v":"00:00:00"},{"$f":"'shaladarpan '!G206","v":"vijay205"},{"$f":"'shaladarpan '!H206","v":"beautiful205"},{"$f":"'shaladarpan '!I206","v":"M"},{"$f":"'shaladarpan '!J206","v":"2008-10-23"},{"$f":"'shaladarpan '!K206","v":"yes"},{"$f":"'shaladarpan '!L206","v":205},{"$f":"'shaladarpan '!M206","v":0},{"$f":"'shaladarpan '!N206","v":0},{"$f":"'shaladarpan '!O206","v":"OBC"},{"$f":"'shaladarpan '!P206","v":"Hindu"},{"$f":"'shaladarpan '!Q206","v":0},{"$f":"'shaladarpan '!R206","v":"GOVT. SENIOR SECONDARY SCHOOL ALNIYAWAS (219445)"},{"$f":"'shaladarpan '!S206","v":8140200308},{"$f":"'shaladarpan '!T206","v":"XXXX3939"},{"$f":"'shaladarpan '!U206","v":"vxpkbpx"},{"$f":"'shaladarpan '!V206","v":9828120901},{"$f":"'shaladarpan '!W206","v":"alniyawas205"},{"$f":"'shaladarpan '!X206","v":72000},{"$f":"'shaladarpan '!Y206","v":"N"},{"$f":"'shaladarpan '!Z206","v":"N"},{"$f":"'shaladarpan '!AA206","v":"No"},{"$f":"'shaladarpan '!AB206","v":12},{"$f":"'shaladarpan '!AC206","v":"None"},{"$f":"'shaladarpan '!AD206","v":0}]
[{"$f":"IF(F208=\" \",\" \",ROWS($A$3:A208))","v":206},{"$f":"'shaladarpan '!A207","v":7},{"$f":"'shaladarpan '!B207","v":"A"},{"$f":"'shaladarpan '!C207","v":3898},{"$f":"'shaladarpan '!D207","v":"2015-05-11"},{"$f":"'shaladarpan '!E207","v":"manjeet206"},{"$f":"'shaladarpan '!F207","v":"00:00:00"},{"$f":"'shaladarpan '!G207","v":"vijay206"},{"$f":"'shaladarpan '!H207","v":"beautiful206"},{"$f":"'shaladarpan '!I207","v":"M"},{"$f":"'shaladarpan '!J207","v":"2008-08-02"},{"$f":"'shaladarpan '!K207","v":"yes"},{"$f":"'shaladarpan '!L207","v":206},{"$f":"'shaladarpan '!M207","v":0},{"$f":"'shaladarpan '!N207","v":0},{"$f":"'shaladarpan '!O207","v":"SC"},{"$f":"'shaladarpan '!P207","v":"Hindu"},{"$f":"'shaladarpan '!Q207","v":0},{"$f":"'shaladarpan '!R207","v":"GOVT. SENIOR SECONDARY SCHOOL ALNIYAWAS (219445)"},{"$f":"'shaladarpan '!S207","v":8140200308},{"$f":"'shaladarpan '!T207","v":"XXXX0222"},{"$f":"'shaladarpan '!U207","v":0},{"$f":"'shaladarpan '!V207","v":9828120902},{"$f":"'shaladarpan '!W207","v":"alniyawas206"},{"$f":"'shaladarpan '!X207","v":0},{"$f":"'shaladarpan '!Y207","v":"N"},{"$f":"'shaladarpan '!Z207","v":"N"},{"$f":"'shaladarpan '!AA207","v":"No"},{"$f":"'shaladarpan '!AB207","v":12},{"$f":"'shaladarpan '!AC207","v":"None"},{"$f":"'shaladarpan '!AD207","v":1}]
[{"$f":"IF(F209=\" \",\" \",ROWS($A$3:A209))","v":207},{"$f":"'shaladarpan '!A208","v":7},{"$f":"'shaladarpan '!B208","v":"A"},{"$f":"'shaladarpan '!C208","v":4517},{"$f":"'shaladarpan '!D208","v":"2018-07-07"},{"$f":"'shaladarpan '!E208","v":"manjeet207"},{"$f":"'shaladarpan '!F208","v":"00:00:00"},{"$f":"'shaladarpan '!G208","v":"vijay207"},{"$f":"'shaladarpan '!H208","v":"beautiful207"},{"$f":"'shaladarpan '!I208","v":"M"},{"$f":"'shaladarpan '!J208","v":"2007-08-01"},{"$f":"'shaladarpan '!K208","v":"no"},{"$f":"'shaladarpan '!L208","v":207},{"$f":"'shaladarpan '!M208","v":0},{"$f":"'shaladarpan '!N208","v":0},{"$f":"'shaladarpan '!O208","v":"GEN"},{"$f":"'shaladarpan '!P208","v":"Hindu"},{"$f":"'shaladarpan '!Q208","v":0},{"$f":"'shaladarpan '!R208","v":"GOVT. SENIOR SECONDARY SCHOOL ALNIYAWAS (219445)"},{"$f":"'shaladarpan '!S208","v":8140200308},{"$f":"'shaladarpan '!T208","v":"XXXX2669"},{"$f":"'shaladarpan '!U208","v":0},{"$f":"'shaladarpan '!V208","v":9828120903},{"$f":"'shaladarpan '!W208","v":"alniyawas207"},{"$f":"'shaladarpan '!X208","v":42000},{"$f":"'shaladarpan '!Y208","v":"N"},{"$f":"'shaladarpan '!Z208","v":"N"},{"$f":"'shaladarpan '!AA208","v":"No"},{"$f":"'shaladarpan '!AB208","v":13},{"$f":"'shaladarpan '!AC208","v":"None"},{"$f":"'shaladarpan '!AD208","v":5}]
[{"$f":"IF(F210=\" \",\" \",ROWS($A$3:A210))","v":208},{"$f":"'shaladarpan '!A209","v":7},{"$f":"'shaladarpan '!B209","v":"A"},{"$f":"'shaladarpan '!C209","v":3911},{"$f":"'shaladarpan '!D209","v":"2015-05-11"},{"$f":"'shaladarpan '!E209","v":"manjeet208"},{"$f":"'shaladarpan '!F209","v":"00:00:00"},{"$f":"'shaladarpan '!G209","v":"vijay208"},{"$f":"'shaladarpan '!H209","v":"beautiful208"},{"$f":"'shaladarpan '!I209","v":"M"},{"$f":"'shaladarpan '!J209","v":"2008-04-25"},{"$f":"'shaladarpan '!K209","v":"yes"},{"$f":"'shaladarpan '!L209","v":208},{"$f":"'shaladarpan '!M209","v":0},{"$f":"'shaladarpan '!N209","v":0},{"$f":"'shaladarpan '!O209","v":"SC"},{"$f":"'shaladarpan '!P209","v":"Hindu"},{"$f":"'shaladarpan '!Q209","v":0},{"$f":"'shaladarpan '!R209","v":"GOVT. SENIOR SECONDARY SCHOOL ALNIYAWAS (219445)"},{"$f":"'shaladarpan '!S209","v":8140200308},{"$f":"'shaladarpan '!T209","v":"XXXX0880"},{"$f":"'shaladarpan '!U209","v":0},{"$f":"'shaladarpan '!V209","v":9828120904},{"$f":"'shaladarpan '!W209","v":"alniyawas208"},{"$f":"'shaladarpan '!X209","v":0},{"$f":"'shaladarpan '!Y209","v":"N"},{"$f":"'shaladarpan '!Z209","v":"N"},{"$f":"'shaladarpan '!AA209","v":"No"},{"$f":"'shaladarpan '!AB209","v":12},{"$f":"'shaladarpan '!AC209","v":"None"},{"$f":"'shaladarpan '!AD209","v":1}]
[{"$f":"IF(F211=\" \",\" \",ROWS($A$3:A211))","v":209},{"$f":"'shaladarpan '!A210","v":7},{"$f":"'shaladarpan '!B210","v":"A"},{"$f":"'shaladarpan '!C210","v":4748},{"$f":"'shaladarpan '!D210","v":"2013-07-29"},{"$f":"'shaladarpan '!E210","v":"manjeet209"},{"$f":"'shaladarpan '!F210","v":"00:00:00"},{"$f":"'shaladarpan '!G210","v":"vijay209"},{"$f":"'shaladarpan '!H210","v":"beautiful209"},{"$f":"'shaladarpan '!I210","v":"M"},{"$f":"'shaladarpan '!J210","v":"2007-06-15"},{"$f":"'shaladarpan '!K210","v":"yes"},{"$f":"'shaladarpan '!L210","v":209},{"$f":"'shaladarpan '!M210","v":0},{"$f":"'shaladarpan '!N210","v":0},{"$f":"'shaladarpan '!O210","v":"OBC"},{"$f":"'shaladarpan '!P210","v":"Hindu"},{"$f":"'shaladarpan '!Q210","v":0},{"$f":"'shaladarpan '!R210","v":"GOVT. SENIOR SECONDARY SCHOOL ALNIYAWAS (219445)"},{"$f":"'shaladarpan '!S210","v":8140200308},{"$f":"'shaladarpan '!T210","v":"XXXX7303"},{"$f":"'shaladarpan '!U210","v":0},{"$f":"'shaladarpan '!V210","v":9828120905},{"$f":"'shaladarpan '!W210","v":"alniyawas209"},{"$f":"'shaladarpan '!X210","v":55000},{"$f":"'shaladarpan '!Y210","v":"N"},{"$f":"'shaladarpan '!Z210","v":"N"},{"$f":"'shaladarpan '!AA210","v":"No"},{"$f":"'shaladarpan '!AB210","v":13},{"$f":"'shaladarpan '!AC210","v":"None"},{"$f":"'shaladarpan '!AD210","v":2}]
[{"$f":"IF(F212=\" \",\" \",ROWS($A$3:A212))","v":210},{"$f":"'shaladarpan '!A211","v":7},{"$f":"'shaladarpan '!B211","v":"A"},{"$f":"'shaladarpan '!C211","v":3936},{"$f":"'shaladarpan '!D211","v":"2015-05-11"},{"$f":"'shaladarpan '!E211","v":"manjeet210"},{"$f":"'shaladarpan '!F211","v":"00:00:00"},{"$f":"'shaladarpan '!G211","v":"vijay210"},{"$f":"'shaladarpan '!H211","v":"beautiful210"},{"$f":"'shaladarpan '!I211","v":"M"},{"$f":"'shaladarpan '!J211","v":"2008-05-01"},{"$f":"'shaladarpan '!K211","v":"no"},{"$f":"'shaladarpan '!L211","v":210},{"$f":"'shaladarpan '!M211","v":0},{"$f":"'shaladarpan '!N211","v":0},{"$f":"'shaladarpan '!O211","v":"SC"},{"$f":"'shaladarpan '!P211","v":"Hindu"},{"$f":"'shaladarpan '!Q211","v":0},{"$f":"'shaladarpan '!R211","v":"GOVT. SENIOR SECONDARY SCHOOL ALNIYAWAS (219445)"},{"$f":"'shaladarpan '!S211","v":8140200308},{"$f":"'shaladarpan '!T211","v":"XXXX8796"},{"$f":"'shaladarpan '!U211","v":0},{"$f":"'shaladarpan '!V211","v":9828120906},{"$f":"'shaladarpan '!W211","v":"alniyawas210"},{"$f":"'shaladarpan '!X211","v":0},{"$f":"'shaladarpan '!Y211","v":"N"},{"$f":"'shaladarpan '!Z211","v":"N"},{"$f":"'shaladarpan '!AA211","v":"No"},{"$f":"'shaladarpan '!AB211","v":12},{"$f":"'shaladarpan '!AC211","v":"None"},{"$f":"'shaladarpan '!AD211","v":1}]
[{"$f":"IF(F213=\" \",\" \",ROWS($A$3:A213))","v":211},{"$f":"'shaladarpan '!A212","v":7},{"$f":"'shaladarpan '!B212","v":"A"},{"$f":"'shaladarpan '!C212","v":4745},{"$f":"'shaladarpan '!D212","v":"2014-07-04"},{"$f":"'shaladarpan '!E212","v":"manjeet211"},{"$f":"'shaladarpan '!F212","v":"00:00:00"},{"$f":"'shaladarpan '!G212","v":"vijay211"},{"$f":"'shaladarpan '!H212","v":"beautiful211"},{"$f":"'shaladarpan '!I212","v":"F"},{"$f":"'shaladarpan '!J212","v":"2008-05-07"},{"$f":"'shaladarpan '!K212","v":"yes"},{"$f":"'shaladarpan '!L212","v":211},{"$f":"'shaladarpan '!M212","v":0},{"$f":"'shaladarpan '!N212","v":0},{"$f":"'shaladarpan '!O212","v":"SC"},{"$f":"'shaladarpan '!P212","v":"Hindu"},{"$f":"'shaladarpan '!Q212","v":0},{"$f":"'shaladarpan '!R212","v":"GOVT. SENIOR SECONDARY SCHOOL ALNIYAWAS (219445)"},{"$f":"'shaladarpan '!S212","v":8140200308},{"$f":"'shaladarpan '!T212","v":"XXXX0496"},{"$f":"'shaladarpan '!U212","v":0},{"$f":"'shaladarpan '!V212","v":9828120907},{"$f":"'shaladarpan '!W212","v":"alniyawas211"},{"$f":"'shaladarpan '!X212","v":40000},{"$f":"'shaladarpan '!Y212","v":"N"},{"$f":"'shaladarpan '!Z212","v":"N"},{"$f":"'shaladarpan '!AA212","v":"No"},{"$f":"'shaladarpan '!AB212","v":12},{"$f":"'shaladarpan '!AC212","v":"None"},{"$f":"'shaladarpan '!AD212","v":2}]
[{"$f":"IF(F214=\" \",\" \",ROWS($A$3:A214))","v":212},{"$f":"'shaladarpan '!A213","v":7},{"$f":"'shaladarpan '!B213","v":"A"},{"$f":"'shaladarpan '!C213","v":4736},{"$f":"'shaladarpan '!D213","v":"2017-07-13"},{"$f":"'shaladarpan '!E213","v":"manjeet212"},{"$f":"'shaladarpan '!F213","v":"00:00:00"},{"$f":"'shaladarpan '!G213","v":"vijay212"},{"$f":"'shaladarpan '!H213","v":"beautiful212"},{"$f":"'shaladarpan '!I213","v":"F"},{"$f":"'shaladarpan '!J213","v":"2008-06-03"},{"$f":"'shaladarpan '!K213","v":"yes"},{"$f":"'shaladarpan '!L213","v":212},{"$f":"'shaladarpan '!M213","v":0},{"$f":"'shaladarpan '!N213","v":0},{"$f":"'shaladarpan '!O213","v":"OBC"},{"$f":"'shaladarpan '!P213","v":"Hindu"},{"$f":"'shaladarpan '!Q213","v":0},{"$f":"'shaladarpan '!R213","v":"GOVT. SENIOR SECONDARY SCHOOL ALNIYAWAS (219445)"},{"$f":"'shaladarpan '!S213","v":8140200308},{"$f":"'shaladarpan '!T213","v":"XXXX6670"},{"$f":"'shaladarpan '!U213","v":0},{"$f":"'shaladarpan '!V213","v":9828120908},{"$f":"'shaladarpan '!W213","v":"alniyawas212"},{"$f":"'shaladarpan '!X213","v":45000},{"$f":"'shaladarpan '!Y213","v":"N"},{"$f":"'shaladarpan '!Z213","v":"N"},{"$f":"'shaladarpan '!AA213","v":"No"},{"$f":"'shaladarpan '!AB213","v":12},{"$f":"'shaladarpan '!AC213","v":"None"},{"$f":"'shaladarpan '!AD213","v":2}]
[{"$f":"IF(F215=\" \",\" \",ROWS($A$3:A215))","v":213},{"$f":"'shaladarpan '!A214","v":7},{"$f":"'shaladarpan '!B214","v":"A"},{"$f":"'shaladarpan '!C214","v":4650},{"$f":"'shaladarpan '!D214","v":"2018-07-31"},{"$f":"'shaladarpan '!E214","v":"manjeet213"},{"$f":"'shaladarpan '!F214","v":"00:00:00"},{"$f":"'shaladarpan '!G214","v":"vijay213"},{"$f":"'shaladarpan '!H214","v":"beautiful213"},{"$f":"'shaladarpan '!I214","v":"M"},{"$f":"'shaladarpan '!J214","v":"2009-04-17"},{"$f":"'shaladarpan '!K214","v":"no"},{"$f":"'shaladarpan '!L214","v":213},{"$f":"'shaladarpan '!M214","v":0},{"$f":"'shaladarpan '!N214","v":0},{"$f":"'shaladarpan '!O214","v":"OBC"},{"$f":"'shaladarpan '!P214","v":"Hindu"},{"$f":"'shaladarpan '!Q214","v":0},{"$f":"'shaladarpan '!R214","v":"GOVT. SENIOR SECONDARY SCHOOL ALNIYAWAS (219445)"},{"$f":"'shaladarpan '!S214","v":8140200308},{"$f":"'shaladarpan '!T214","v":"XXXX5861"},{"$f":"'shaladarpan '!U214","v":0},{"$f":"'shaladarpan '!V214","v":9828120909},{"$f":"'shaladarpan '!W214","v":"alniyawas213"},{"$f":"'shaladarpan '!X214","v":36000},{"$f":"'shaladarpan '!Y214","v":"N"},{"$f":"'shaladarpan '!Z214","v":"N"},{"$f":"'shaladarpan '!AA214","v":"No"},{"$f":"'shaladarpan '!AB214","v":11},{"$f":"'shaladarpan '!AC214","v":"None"},{"$f":"'shaladarpan '!AD214","v":4}]
[{"$f":"IF(F216=\" \",\" \",ROWS($A$3:A216))","v":214},{"$f":"'shaladarpan '!A215","v":7},{"$f":"'shaladarpan '!B215","v":"A"},{"$f":"'shaladarpan '!C215","v":3917},{"$f":"'shaladarpan '!D215","v":"2015-05-11"},{"$f":"'shaladarpan '!E215","v":"manjeet214"},{"$f":"'shaladarpan '!F215","v":"00:00:00"},{"$f":"'shaladarpan '!G215","v":"vijay214"},{"$f":"'shaladarpan '!H215","v":"beautiful214"},{"$f":"'shaladarpan '!I215","v":"F"},{"$f":"'shaladarpan '!J215","v":"2008-07-07"},{"$f":"'shaladarpan '!K215","v":"yes"},{"$f":"'shaladarpan '!L215","v":214},{"$f":"'shaladarpan '!M215","v":0},{"$f":"'shaladarpan '!N215","v":0},{"$f":"'shaladarpan '!O215","v":"OBC"},{"$f":"'shaladarpan '!P215","v":"Muslim"},{"$f":"'shaladarpan '!Q215","v":0},{"$f":"'shaladarpan '!R215","v":"GOVT. SENIOR SECONDARY SCHOOL ALNIYAWAS (219445)"},{"$f":"'shaladarpan '!S215","v":8140200308},{"$f":"'shaladarpan '!T215","v":"XXXX2375"},{"$f":"'shaladarpan '!U215","v":0},{"$f":"'shaladarpan '!V215","v":9828120910},{"$f":"'shaladarpan '!W215","v":"alniyawas214"},{"$f":"'shaladarpan '!X215","v":0},{"$f":"'shaladarpan '!Y215","v":"N"},{"$f":"'shaladarpan '!Z215","v":"N"},{"$f":"'shaladarpan '!AA215","v":"Yes"},{"$f":"'shaladarpan '!AB215","v":12},{"$f":"'shaladarpan '!AC215","v":"None"},{"$f":"'shaladarpan '!AD215","v":1}]
[{"$f":"IF(F217=\" \",\" \",ROWS($A$3:A217))","v":215},{"$f":"'shaladarpan '!A216","v":7},{"$f":"'shaladarpan '!B216","v":"A"},{"$f":"'shaladarpan '!C216","v":3909},{"$f":"'shaladarpan '!D216","v":"2015-05-11"},{"$f":"'shaladarpan '!E216","v":"manjeet215"},{"$f":"'shaladarpan '!F216","v":"00:00:00"},{"$f":"'shaladarpan '!G216","v":"vijay215"},{"$f":"'shaladarpan '!H216","v":"beautiful215"},{"$f":"'shaladarpan '!I216","v":"M"},{"$f":"'shaladarpan '!J216","v":"2008-06-03"},{"$f":"'shaladarpan '!K216","v":"yes"},{"$f":"'shaladarpan '!L216","v":215},{"$f":"'shaladarpan '!M216","v":0},{"$f":"'shaladarpan '!N216","v":0},{"$f":"'shaladarpan '!O216","v":"OBC"},{"$f":"'shaladarpan '!P216","v":"Muslim"},{"$f":"'shaladarpan '!Q216","v":0},{"$f":"'shaladarpan '!R216","v":"GOVT. SENIOR SECONDARY SCHOOL ALNIYAWAS (219445)"},{"$f":"'shaladarpan '!S216","v":8140200308},{"$f":"'shaladarpan '!T216","v":0},{"$f":"'shaladarpan '!U216","v":0},{"$f":"'shaladarpan '!V216","v":9828120911},{"$f":"'shaladarpan '!W216","v":"alniyawas215"},{"$f":"'shaladarpan '!X216","v":0},{"$f":"'shaladarpan '!Y216","v":"N"},{"$f":"'shaladarpan '!Z216","v":"N"},{"$f":"'shaladarpan '!AA216","v":"Yes"},{"$f":"'shaladarpan '!AB216","v":12},{"$f":"'shaladarpan '!AC216","v":"None"},{"$f":"'shaladarpan '!AD216","v":1}]
[{"$f":"IF(F218=\" \",\" \",ROWS($A$3:A218))","v":216},{"$f":"'shaladarpan '!A217","v":7},{"$f":"'shaladarpan '!B217","v":"A"},{"$f":"'shaladarpan '!C217","v":4066},{"$f":"'shaladarpan '!D217","v":"2015-07-15"},{"$f":"'shaladarpan '!E217","v":"manjeet216"},{"$f":"'shaladarpan '!F217","v":"00:00:00"},{"$f":"'shaladarpan '!G217","v":"vijay216"},{"$f":"'shaladarpan '!H217","v":"beautiful216"},{"$f":"'shaladarpan '!I217","v":"F"},{"$f":"'shaladarpan '!J217","v":"2007-07-25"},{"$f":"'shaladarpan '!K217","v":"no"},{"$f":"'shaladarpan '!L217","v":216},{"$f":"'shaladarpan '!M217","v":0},{"$f":"'shaladarpan '!N217","v":0},{"$f":"'shaladarpan '!O217","v":"OBC"},{"$f":"'shaladarpan '!P217","v":"Muslim"},{"$f":"'shaladarpan '!Q217","v":0},{"$f":"'shaladarpan '!R217","v":"GOVT. SENIOR SECONDARY SCHOOL ALNIYAWAS (219445)"},{"$f":"'shaladarpan '!S217","v":8140200308},{"$f":"'shaladarpan '!T217","v":0},{"$f":"'shaladarpan '!U217","v":0},{"$f":"'shaladarpan '!V217","v":9828120912},{"$f":"'shaladarpan '!W217","v":"alniyawas216"},{"$f":"'shaladarpan '!X217","v":0},{"$f":"'shaladarpan '!Y217","v":"N"},{"$f":"'shaladarpan '!Z217","v":"N"},{"$f":"'shaladarpan '!AA217","v":"Yes"},{"$f":"'shaladarpan '!AB217","v":13},{"$f":"'shaladarpan '!AC217","v":"None"},{"$f":"'shaladarpan '!AD217","v":1}]
[{"$f":"IF(F219=\" \",\" \",ROWS($A$3:A219))","v":217},{"$f":"'shaladarpan '!A218","v":7},{"$f":"'shaladarpan '!B218","v":"A"},{"$f":"'shaladarpan '!C218","v":4518},{"$f":"'shaladarpan '!D218","v":"2018-07-07"},{"$f":"'shaladarpan '!E218","v":"manjeet217"},{"$f":"'shaladarpan '!F218","v":"00:00:00"},{"$f":"'shaladarpan '!G218","v":"vijay217"},{"$f":"'shaladarpan '!H218","v":"beautiful217"},{"$f":"'shaladarpan '!I218","v":"M"},{"$f":"'shaladarpan '!J218","v":"2007-06-30"},{"$f":"'shaladarpan '!K218","v":"yes"},{"$f":"'shaladarpan '!L218","v":217},{"$f":"'shaladarpan '!M218","v":0},{"$f":"'shaladarpan '!N218","v":0},{"$f":"'shaladarpan '!O218","v":"OBC"},{"$f":"'shaladarpan '!P218","v":"Hindu"},{"$f":"'shaladarpan '!Q218","v":0},{"$f":"'shaladarpan '!R218","v":"GOVT. SENIOR SECONDARY SCHOOL ALNIYAWAS (219445)"},{"$f":"'shaladarpan '!S218","v":8140200308},{"$f":"'shaladarpan '!T218","v":"XXXX8437"},{"$f":"'shaladarpan '!U218","v":"VZWCSSN"},{"$f":"'shaladarpan '!V218","v":9828120913},{"$f":"'shaladarpan '!W218","v":"alniyawas217"},{"$f":"'shaladarpan '!X218","v":40000},{"$f":"'shaladarpan '!Y218","v":"N"},{"$f":"'shaladarpan '!Z218","v":"N"},{"$f":"'shaladarpan '!AA218","v":"No"},{"$f":"'shaladarpan '!AB218","v":13},{"$f":"'shaladarpan '!AC218","v":"None"},{"$f":"'shaladarpan '!AD218","v":0}]
[{"$f":"IF(F220=\" \",\" \",ROWS($A$3:A220))","v":218},{"$f":"'shaladarpan '!A219","v":7},{"$f":"'shaladarpan '!B219","v":"A"},{"$f":"'shaladarpan '!C219","v":4097},{"$f":"'shaladarpan '!D219","v":"2016-05-09"},{"$f":"'shaladarpan '!E219","v":"manjeet218"},{"$f":"'shaladarpan '!F219","v":"00:00:00"},{"$f":"'shaladarpan '!G219","v":"vijay218"},{"$f":"'shaladarpan '!H219","v":"beautiful218"},{"$f":"'shaladarpan '!I219","v":"M"},{"$f":"'shaladarpan '!J219","v":"2007-11-15"},{"$f":"'shaladarpan '!K219","v":"yes"},{"$f":"'shaladarpan '!L219","v":218},{"$f":"'shaladarpan '!M219","v":0},{"$f":"'shaladarpan '!N219","v":0},{"$f":"'shaladarpan '!O219","v":"OBC"},{"$f":"'shaladarpan '!P219","v":"Hindu"},{"$f":"'shaladarpan '!Q219","v":0},{"$f":"'shaladarpan '!R219","v":"GOVT. SENIOR SECONDARY SCHOOL ALNIYAWAS (219445)"},{"$f":"'shaladarpan '!S219","v":8140200308},{"$f":"'shaladarpan '!T219","v":"XXXX4420"},{"$f":"'shaladarpan '!U219","v":0},{"$f":"'shaladarpan '!V219","v":9828120914},{"$f":"'shaladarpan '!W219","v":"alniyawas218"},{"$f":"'shaladarpan '!X219","v":0},{"$f":"'shaladarpan '!Y219","v":"N"},{"$f":"'shaladarpan '!Z219","v":"N"},{"$f":"'shaladarpan '!AA219","v":"No"},{"$f":"'shaladarpan '!AB219","v":13},{"$f":"'shaladarpan '!AC219","v":"None"},{"$f":"'shaladarpan '!AD219","v":1}]
[{"$f":"IF(F221=\" \",\" \",ROWS($A$3:A221))","v":219},{"$f":"'shaladarpan '!A220","v":7},{"$f":"'shaladarpan '!B220","v":"A"},{"$f":"'shaladarpan '!C220","v":4756},{"$f":"'shaladarpan '!D220","v":"2019-07-19"},{"$f":"'shaladarpan '!E220","v":"manjeet219"},{"$f":"'shaladarpan '!F220","v":"00:00:00"},{"$f":"'shaladarpan '!G220","v":"vijay219"},{"$f":"'shaladarpan '!H220","v":"beautiful219"},{"$f":"'shaladarpan '!I220","v":"M"},{"$f":"'shaladarpan '!J220","v":"2008-08-16"},{"$f":"'shaladarpan '!K220","v":"no"},{"$f":"'shaladarpan '!L220","v":219},{"$f":"'shaladarpan '!M220","v":0},{"$f":"'shaladarpan '!N220","v":0},{"$f":"'shaladarpan '!O220","v":"OBC"},{"$f":"'shaladarpan '!P220","v":"Hindu"},{"$f":"'shaladarpan '!Q220","v":0},{"$f":"'shaladarpan '!R220","v":"GOVT. SENIOR SECONDARY SCHOOL ALNIYAWAS (219445)"},{"$f":"'shaladarpan '!S220","v":8140200308},{"$f":"'shaladarpan '!T220","v":"XXXX9122"},{"$f":"'shaladarpan '!U220","v":"ymkiawg"},{"$f":"'shaladarpan '!V220","v":9828120915},{"$f":"'shaladarpan '!W220","v":"alniyawas219"},{"$f":"'shaladarpan '!X220","v":60000},{"$f":"'shaladarpan '!Y220","v":"N"},{"$f":"'shaladarpan '!Z220","v":"N"},{"$f":"'shaladarpan '!AA220","v":"No"},{"$f":"'shaladarpan '!AB220","v":12},{"$f":"'shaladarpan '!AC220","v":"None"},{"$f":"'shaladarpan '!AD220","v":3}]
[{"$f":"IF(F222=\" \",\" \",ROWS($A$3:A222))","v":220},{"$f":"'shaladarpan '!A221","v":7},{"$f":"'shaladarpan '!B221","v":"A"},{"$f":"'shaladarpan '!C221","v":4747},{"$f":"'shaladarpan '!D221","v":"2019-07-16"},{"$f":"'shaladarpan '!E221","v":"manjeet220"},{"$f":"'shaladarpan '!F221","v":"00:00:00"},{"$f":"'shaladarpan '!G221","v":"vijay220"},{"$f":"'shaladarpan '!H221","v":"beautiful220"},{"$f":"'shaladarpan '!I221","v":"F"},{"$f":"'shaladarpan '!J221","v":"2008-05-10"},{"$f":"'shaladarpan '!K221","v":"yes"},{"$f":"'shaladarpan '!L221","v":220},{"$f":"'shaladarpan '!M221","v":0},{"$f":"'shaladarpan '!N221","v":0},{"$f":"'shaladarpan '!O221","v":"SC"},{"$f":"'shaladarpan '!P221","v":"Hindu"},{"$f":"'shaladarpan '!Q221","v":0},{"$f":"'shaladarpan '!R221","v":"GOVT. SENIOR SECONDARY SCHOOL ALNIYAWAS (219445)"},{"$f":"'shaladarpan '!S221","v":8140200308},{"$f":"'shaladarpan '!T221","v":"XXXX9110"},{"$f":"'shaladarpan '!U221","v":"VOHCSOH"},{"$f":"'shaladarpan '!V221","v":9828120916},{"$f":"'shaladarpan '!W221","v":"alniyawas220"},{"$f":"'shaladarpan '!X221","v":40000},{"$f":"'shaladarpan '!Y221","v":"N"},{"$f":"'shaladarpan '!Z221","v":"N"},{"$f":"'shaladarpan '!AA221","v":"No"},{"$f":"'shaladarpan '!AB221","v":12},{"$f":"'shaladarpan '!AC221","v":"None"},{"$f":"'shaladarpan '!AD221","v":5}]
[{"$f":"IF(F223=\" \",\" \",ROWS($A$3:A223))","v":221},{"$f":"'shaladarpan '!A222","v":7},{"$f":"'shaladarpan '!B222","v":"A"},{"$f":"'shaladarpan '!C222","v":4743},{"$f":"'shaladarpan '!D222","v":"2014-07-12"},{"$f":"'shaladarpan '!E222","v":"manjeet221"},{"$f":"'shaladarpan '!F222","v":"00:00:00"},{"$f":"'shaladarpan '!G222","v":"vijay221"},{"$f":"'shaladarpan '!H222","v":"beautiful221"},{"$f":"'shaladarpan '!I222","v":"F"},{"$f":"'shaladarpan '!J222","v":"2008-07-21"},{"$f":"'shaladarpan '!K222","v":"yes"},{"$f":"'shaladarpan '!L222","v":221},{"$f":"'shaladarpan '!M222","v":0},{"$f":"'shaladarpan '!N222","v":0},{"$f":"'shaladarpan '!O222","v":"SC"},{"$f":"'shaladarpan '!P222","v":"Hindu"},{"$f":"'shaladarpan '!Q222","v":0},{"$f":"'shaladarpan '!R222","v":"GOVT. SENIOR SECONDARY SCHOOL ALNIYAWAS (219445)"},{"$f":"'shaladarpan '!S222","v":8140200308},{"$f":"'shaladarpan '!T222","v":"XXXX7525"},{"$f":"'shaladarpan '!U222","v":"VBKWWZX"},{"$f":"'shaladarpan '!V222","v":9828120917},{"$f":"'shaladarpan '!W222","v":"alniyawas221"},{"$f":"'shaladarpan '!X222","v":40000},{"$f":"'shaladarpan '!Y222","v":"N"},{"$f":"'shaladarpan '!Z222","v":"N"},{"$f":"'shaladarpan '!AA222","v":"No"},{"$f":"'shaladarpan '!AB222","v":12},{"$f":"'shaladarpan '!AC222","v":"None"},{"$f":"'shaladarpan '!AD222","v":5}]
[{"$f":"IF(F224=\" \",\" \",ROWS($A$3:A224))","v":222},{"$f":"'shaladarpan '!A223","v":7},{"$f":"'shaladarpan '!B223","v":"A"},{"$f":"'shaladarpan '!C223","v":4744},{"$f":"'shaladarpan '!D223","v":"2018-07-13"},{"$f":"'shaladarpan '!E223","v":"manjeet222"},{"$f":"'shaladarpan '!F223","v":"00:00:00"},{"$f":"'shaladarpan '!G223","v":"vijay222"},{"$f":"'shaladarpan '!H223","v":"beautiful222"},{"$f":"'shaladarpan '!I223","v":"F"},{"$f":"'shaladarpan '!J223","v":"2007-03-15"},{"$f":"'shaladarpan '!K223","v":"no"},{"$f":"'shaladarpan '!L223","v":222},{"$f":"'shaladarpan '!M223","v":0},{"$f":"'shaladarpan '!N223","v":0},{"$f":"'shaladarpan '!O223","v":"SC"},{"$f":"'shaladarpan '!P223","v":"Hindu"},{"$f":"'shaladarpan '!Q223","v":0},{"$f":"'shaladarpan '!R223","v":"GOVT. SENIOR SECONDARY SCHOOL ALNIYAWAS (219445)"},{"$f":"'shaladarpan '!S223","v":8140200308},{"$f":"'shaladarpan '!T223","v":"XXXX6556"},{"$f":"'shaladarpan '!U223","v":0},{"$f":"'shaladarpan '!V223","v":9828120918},{"$f":"'shaladarpan '!W223","v":"alniyawas222"},{"$f":"'shaladarpan '!X223","v":36000},{"$f":"'shaladarpan '!Y223","v":"N"},{"$f":"'shaladarpan '!Z223","v":"N"},{"$f":"'shaladarpan '!AA223","v":"No"},{"$f":"'shaladarpan '!AB223","v":13},{"$f":"'shaladarpan '!AC223","v":"None"},{"$f":"'shaladarpan '!AD223","v":2}]
[{"$f":"IF(F225=\" \",\" \",ROWS($A$3:A225))","v":223},{"$f":"'shaladarpan '!A224","v":7},{"$f":"'shaladarpan '!B224","v":"A"},{"$f":"'shaladarpan '!C224","v":4585},{"$f":"'shaladarpan '!D224","v":"2018-07-19"},{"$f":"'shaladarpan '!E224","v":"manjeet223"},{"$f":"'shaladarpan '!F224","v":"00:00:00"},{"$f":"'shaladarpan '!G224","v":"vijay223"},{"$f":"'shaladarpan '!H224","v":"beautiful223"},{"$f":"'shaladarpan '!I224","v":"M"},{"$f":"'shaladarpan '!J224","v":"2011-07-08"},{"$f":"'shaladarpan '!K224","v":"yes"},{"$f":"'shaladarpan '!L224","v":223},{"$f":"'shaladarpan '!M224","v":0},{"$f":"'shaladarpan '!N224","v":0},{"$f":"'shaladarpan '!O224","v":"OBC"},{"$f":"'shaladarpan '!P224","v":"Hindu"},{"$f":"'shaladarpan '!Q224","v":0},{"$f":"'shaladarpan '!R224","v":"GOVT. SENIOR SECONDARY SCHOOL ALNIYAWAS (219445)"},{"$f":"'shaladarpan '!S224","v":8140200308},{"$f":"'shaladarpan '!T224","v":"XXXX4817"},{"$f":"'shaladarpan '!U224","v":"BHNVXXH"},{"$f":"'shaladarpan '!V224","v":9828120919},{"$f":"'shaladarpan '!W224","v":"alniyawas223"},{"$f":"'shaladarpan '!X224","v":45000},{"$f":"'shaladarpan '!Y224","v":"N"},{"$f":"'shaladarpan '!Z224","v":"N"},{"$f":"'shaladarpan '!AA224","v":"No"},{"$f":"'shaladarpan '!AB224","v":9},{"$f":"'shaladarpan '!AC224","v":"None"},{"$f":"'shaladarpan '!AD224","v":0}]
[{"$f":"IF(F226=\" \",\" \",ROWS($A$3:A226))","v":224},{"$f":"'shaladarpan '!A225","v":7},{"$f":"'shaladarpan '!B225","v":"A"},{"$f":"'shaladarpan '!C225","v":3905},{"$f":"'shaladarpan '!D225","v":"2015-05-11"},{"$f":"'shaladarpan '!E225","v":"manjeet224"},{"$f":"'shaladarpan '!F225","v":"00:00:00"},{"$f":"'shaladarpan '!G225","v":"vijay224"},{"$f":"'shaladarpan '!H225","v":"beautiful224"},{"$f":"'shaladarpan '!I225","v":"M"},{"$f":"'shaladarpan '!J225","v":"2008-07-01"},{"$f":"'shaladarpan '!K225","v":"yes"},{"$f":"'shaladarpan '!L225","v":224},{"$f":"'shaladarpan '!M225","v":0},{"$f":"'shaladarpan '!N225","v":0},{"$f":"'shaladarpan '!O225","v":"SC"},{"$f":"'shaladarpan '!P225","v":"Hindu"},{"$f":"'shaladarpan '!Q225","v":0},{"$f":"'shaladarpan '!R225","v":"GOVT. SENIOR SECONDARY SCHOOL ALNIYAWAS (219445)"},{"$f":"'shaladarpan '!S225","v":8140200308},{"$f":"'shaladarpan '!T225","v":"XXXX6778"},{"$f":"'shaladarpan '!U225","v":0},{"$f":"'shaladarpan '!V225","v":9828120920},{"$f":"'shaladarpan '!W225","v":"alniyawas224"},{"$f":"'shaladarpan '!X225","v":0},{"$f":"'shaladarpan '!Y225","v":"N"},{"$f":"'shaladarpan '!Z225","v":"N"},{"$f":"'shaladarpan '!AA225","v":"No"},{"$f":"'shaladarpan '!AB225","v":12},{"$f":"'shaladarpan '!AC225","v":"None"},{"$f":"'shaladarpan '!AD225","v":1}]
[{"$f":"IF(F227=\" \",\" \",ROWS($A$3:A227))","v":225},{"$f":"'shaladarpan '!A226","v":7},{"$f":"'shaladarpan '!B226","v":"A"},{"$f":"'shaladarpan '!C226","v":4752},{"$f":"'shaladarpan '!D226","v":"2014-07-07"},{"$f":"'shaladarpan '!E226","v":"manjeet225"},{"$f":"'shaladarpan '!F226","v":"00:00:00"},{"$f":"'shaladarpan '!G226","v":"vijay225"},{"$f":"'shaladarpan '!H226","v":"beautiful225"},{"$f":"'shaladarpan '!I226","v":"F"},{"$f":"'shaladarpan '!J226","v":"2008-05-13"},{"$f":"'shaladarpan '!K226","v":"no"},{"$f":"'shaladarpan '!L226","v":225},{"$f":"'shaladarpan '!M226","v":0},{"$f":"'shaladarpan '!N226","v":0},{"$f":"'shaladarpan '!O226","v":"GEN"},{"$f":"'shaladarpan '!P226","v":"Hindu"},{"$f":"'shaladarpan '!Q226","v":0},{"$f":"'shaladarpan '!R226","v":"GOVT. SENIOR SECONDARY SCHOOL ALNIYAWAS (219445)"},{"$f":"'shaladarpan '!S226","v":8140200308},{"$f":"'shaladarpan '!T226","v":"XXXX6183"},{"$f":"'shaladarpan '!U226","v":"YQOFYAK"},{"$f":"'shaladarpan '!V226","v":9828120921},{"$f":"'shaladarpan '!W226","v":"alniyawas225"},{"$f":"'shaladarpan '!X226","v":40000},{"$f":"'shaladarpan '!Y226","v":"N"},{"$f":"'shaladarpan '!Z226","v":"N"},{"$f":"'shaladarpan '!AA226","v":"No"},{"$f":"'shaladarpan '!AB226","v":12},{"$f":"'shaladarpan '!AC226","v":"None"},{"$f":"'shaladarpan '!AD226","v":5}]
[{"$f":"IF(F228=\" \",\" \",ROWS($A$3:A228))","v":226},{"$f":"'shaladarpan '!A227","v":7},{"$f":"'shaladarpan '!B227","v":"A"},{"$f":"'shaladarpan '!C227","v":3924},{"$f":"'shaladarpan '!D227","v":"2015-05-11"},{"$f":"'shaladarpan '!E227","v":"manjeet226"},{"$f":"'shaladarpan '!F227","v":"00:00:00"},{"$f":"'shaladarpan '!G227","v":"vijay226"},{"$f":"'shaladarpan '!H227","v":"beautiful226"},{"$f":"'shaladarpan '!I227","v":"F"},{"$f":"'shaladarpan '!J227","v":"2007-07-05"},{"$f":"'shaladarpan '!K227","v":"yes"},{"$f":"'shaladarpan '!L227","v":226},{"$f":"'shaladarpan '!M227","v":0},{"$f":"'shaladarpan '!N227","v":0},{"$f":"'shaladarpan '!O227","v":"OBC"},{"$f":"'shaladarpan '!P227","v":"Hindu"},{"$f":"'shaladarpan '!Q227","v":0},{"$f":"'shaladarpan '!R227","v":"GOVT. SENIOR SECONDARY SCHOOL ALNIYAWAS (219445)"},{"$f":"'shaladarpan '!S227","v":8140200308},{"$f":"'shaladarpan '!T227","v":0},{"$f":"'shaladarpan '!U227","v":0},{"$f":"'shaladarpan '!V227","v":9828120922},{"$f":"'shaladarpan '!W227","v":"alniyawas226"},{"$f":"'shaladarpan '!X227","v":0},{"$f":"'shaladarpan '!Y227","v":"N"},{"$f":"'shaladarpan '!Z227","v":"N"},{"$f":"'shaladarpan '!AA227","v":"No"},{"$f":"'shaladarpan '!AB227","v":13},{"$f":"'shaladarpan '!AC227","v":"None"},{"$f":"'shaladarpan '!AD227","v":1}]
[{"$f":"IF(F229=\" \",\" \",ROWS($A$3:A229))","v":227},{"$f":"'shaladarpan '!A228","v":7},{"$f":"'shaladarpan '!B228","v":"A"},{"$f":"'shaladarpan '!C228","v":3926},{"$f":"'shaladarpan '!D228","v":"2015-05-11"},{"$f":"'shaladarpan '!E228","v":"manjeet227"},{"$f":"'shaladarpan '!F228","v":"00:00:00"},{"$f":"'shaladarpan '!G228","v":"vijay227"},{"$f":"'shaladarpan '!H228","v":"beautiful227"},{"$f":"'shaladarpan '!I228","v":"M"},{"$f":"'shaladarpan '!J228","v":"2007-01-07"},{"$f":"'shaladarpan '!K228","v":"yes"},{"$f":"'shaladarpan '!L228","v":227},{"$f":"'shaladarpan '!M228","v":0},{"$f":"'shaladarpan '!N228","v":0},{"$f":"'shaladarpan '!O228","v":"OBC"},{"$f":"'shaladarpan '!P228","v":"Muslim"},{"$f":"'shaladarpan '!Q228","v":0},{"$f":"'shaladarpan '!R228","v":"GOVT. SENIOR SECONDARY SCHOOL ALNIYAWAS (219445)"},{"$f":"'shaladarpan '!S228","v":8140200308},{"$f":"'shaladarpan '!T228","v":0},{"$f":"'shaladarpan '!U228","v":0},{"$f":"'shaladarpan '!V228","v":9828120923},{"$f":"'shaladarpan '!W228","v":"alniyawas227"},{"$f":"'shaladarpan '!X228","v":0},{"$f":"'shaladarpan '!Y228","v":"N"},{"$f":"'shaladarpan '!Z228","v":"N"},{"$f":"'shaladarpan '!AA228","v":"Yes"},{"$f":"'shaladarpan '!AB228","v":13},{"$f":"'shaladarpan '!AC228","v":"None"},{"$f":"'shaladarpan '!AD228","v":1}]
[{"$f":"IF(F230=\" \",\" \",ROWS($A$3:A230))","v":228},{"$f":"'shaladarpan '!A229","v":7},{"$f":"'shaladarpan '!B229","v":"A"},{"$f":"'shaladarpan '!C229","v":3925},{"$f":"'shaladarpan '!D229","v":"2015-05-11"},{"$f":"'shaladarpan '!E229","v":"manjeet228"},{"$f":"'shaladarpan '!F229","v":"00:00:00"},{"$f":"'shaladarpan '!G229","v":"vijay228"},{"$f":"'shaladarpan '!H229","v":"beautiful228"},{"$f":"'shaladarpan '!I229","v":"M"},{"$f":"'shaladarpan '!J229","v":"2008-07-02"},{"$f":"'shaladarpan '!K229","v":"no"},{"$f":"'shaladarpan '!L229","v":228},{"$f":"'shaladarpan '!M229","v":0},{"$f":"'shaladarpan '!N229","v":0},{"$f":"'shaladarpan '!O229","v":"OBC"},{"$f":"'shaladarpan '!P229","v":"Hindu"},{"$f":"'shaladarpan '!Q229","v":0},{"$f":"'shaladarpan '!R229","v":"GOVT. SENIOR SECONDARY SCHOOL ALNIYAWAS (219445)"},{"$f":"'shaladarpan '!S229","v":8140200308},{"$f":"'shaladarpan '!T229","v":"XXXX1141"},{"$f":"'shaladarpan '!U229","v":0},{"$f":"'shaladarpan '!V229","v":9828120924},{"$f":"'shaladarpan '!W229","v":"alniyawas228"},{"$f":"'shaladarpan '!X229","v":0},{"$f":"'shaladarpan '!Y229","v":"N"},{"$f":"'shaladarpan '!Z229","v":"N"},{"$f":"'shaladarpan '!AA229","v":"No"},{"$f":"'shaladarpan '!AB229","v":12},{"$f":"'shaladarpan '!AC229","v":"None"},{"$f":"'shaladarpan '!AD229","v":1}]
[{"$f":"IF(F231=\" \",\" \",ROWS($A$3:A231))","v":229},{"$f":"'shaladarpan '!A230","v":7},{"$f":"'shaladarpan '!B230","v":"A"},{"$f":"'shaladarpan '!C230","v":4767},{"$f":"'shaladarpan '!D230","v":"2017-07-05"},{"$f":"'shaladarpan '!E230","v":"manjeet229"},{"$f":"'shaladarpan '!F230","v":"00:00:00"},{"$f":"'shaladarpan '!G230","v":"vijay229"},{"$f":"'shaladarpan '!H230","v":"beautiful229"},{"$f":"'shaladarpan '!I230","v":"F"},{"$f":"'shaladarpan '!J230","v":"2009-06-03"},{"$f":"'shaladarpan '!K230","v":"yes"},{"$f":"'shaladarpan '!L230","v":229},{"$f":"'shaladarpan '!M230","v":0},{"$f":"'shaladarpan '!N230","v":0},{"$f":"'shaladarpan '!O230","v":"OBC"},{"$f":"'shaladarpan '!P230","v":0},{"$f":"'shaladarpan '!Q230","v":0},{"$f":"'shaladarpan '!R230","v":"GOVT. SENIOR SECONDARY SCHOOL ALNIYAWAS (219445)"},{"$f":"'shaladarpan '!S230","v":8140200308},{"$f":"'shaladarpan '!T230","v":"XXXX0730"},{"$f":"'shaladarpan '!U230","v":0},{"$f":"'shaladarpan '!V230","v":9828120925},{"$f":"'shaladarpan '!W230","v":"alniyawas229"},{"$f":"'shaladarpan '!X230","v":45000},{"$f":"'shaladarpan '!Y230","v":"N"},{"$f":"'shaladarpan '!Z230","v":"N"},{"$f":"'shaladarpan '!AA230","v":0},{"$f":"'shaladarpan '!AB230","v":11},{"$f":"'shaladarpan '!AC230","v":"None"},{"$f":"'shaladarpan '!AD230","v":0}]
[{"$f":"IF(F232=\" \",\" \",ROWS($A$3:A232))","v":230},{"$f":"'shaladarpan '!A231","v":7},{"$f":"'shaladarpan '!B231","v":"A"},{"$f":"'shaladarpan '!C231","v":4765},{"$f":"'shaladarpan '!D231","v":"2013-07-12"},{"$f":"'shaladarpan '!E231","v":"manjeet230"},{"$f":"'shaladarpan '!F231","v":"00:00:00"},{"$f":"'shaladarpan '!G231","v":"vijay230"},{"$f":"'shaladarpan '!H231","v":"beautiful230"},{"$f":"'shaladarpan '!I231","v":"F"},{"$f":"'shaladarpan '!J231","v":"2007-05-15"},{"$f":"'shaladarpan '!K231","v":"yes"},{"$f":"'shaladarpan '!L231","v":230},{"$f":"'shaladarpan '!M231","v":0},{"$f":"'shaladarpan '!N231","v":0},{"$f":"'shaladarpan '!O231","v":"OBC"},{"$f":"'shaladarpan '!P231","v":"Hindu"},{"$f":"'shaladarpan '!Q231","v":0},{"$f":"'shaladarpan '!R231","v":"GOVT. SENIOR SECONDARY SCHOOL ALNIYAWAS (219445)"},{"$f":"'shaladarpan '!S231","v":8140200308},{"$f":"'shaladarpan '!T231","v":"XXXX2477"},{"$f":"'shaladarpan '!U231","v":0},{"$f":"'shaladarpan '!V231","v":9828120926},{"$f":"'shaladarpan '!W231","v":"alniyawas230"},{"$f":"'shaladarpan '!X231","v":55000},{"$f":"'shaladarpan '!Y231","v":"N"},{"$f":"'shaladarpan '!Z231","v":"N"},{"$f":"'shaladarpan '!AA231","v":"No"},{"$f":"'shaladarpan '!AB231","v":13},{"$f":"'shaladarpan '!AC231","v":"None"},{"$f":"'shaladarpan '!AD231","v":2}]
[{"$f":"IF(F233=\" \",\" \",ROWS($A$3:A233))","v":231},{"$f":"'shaladarpan '!A232","v":7},{"$f":"'shaladarpan '!B232","v":"A"},{"$f":"'shaladarpan '!C232","v":3907},{"$f":"'shaladarpan '!D232","v":"2015-05-11"},{"$f":"'shaladarpan '!E232","v":"manjeet231"},{"$f":"'shaladarpan '!F232","v":"00:00:00"},{"$f":"'shaladarpan '!G232","v":"vijay231"},{"$f":"'shaladarpan '!H232","v":"beautiful231"},{"$f":"'shaladarpan '!I232","v":"F"},{"$f":"'shaladarpan '!J232","v":"2008-07-02"},{"$f":"'shaladarpan '!K232","v":"no"},{"$f":"'shaladarpan '!L232","v":231},{"$f":"'shaladarpan '!M232","v":0},{"$f":"'shaladarpan '!N232","v":0},{"$f":"'shaladarpan '!O232","v":"OBC"},{"$f":"'shaladarpan '!P232","v":"Muslim"},{"$f":"'shaladarpan '!Q232","v":0},{"$f":"'shaladarpan '!R232","v":"GOVT. SENIOR SECONDARY SCHOOL ALNIYAWAS (219445)"},{"$f":"'shaladarpan '!S232","v":8140200308},{"$f":"'shaladarpan '!T232","v":"XXXX2550"},{"$f":"'shaladarpan '!U232","v":0},{"$f":"'shaladarpan '!V232","v":9828120927},{"$f":"'shaladarpan '!W232","v":"alniyawas231"},{"$f":"'shaladarpan '!X232","v":0},{"$f":"'shaladarpan '!Y232","v":"N"},{"$f":"'shaladarpan '!Z232","v":"N"},{"$f":"'shaladarpan '!AA232","v":"Yes"},{"$f":"'shaladarpan '!AB232","v":12},{"$f":"'shaladarpan '!AC232","v":"None"},{"$f":"'shaladarpan '!AD232","v":1}]
[{"$f":"IF(F234=\" \",\" \",ROWS($A$3:A234))","v":232},{"$f":"'shaladarpan '!A233","v":7},{"$f":"'shaladarpan '!B233","v":"A"},{"$f":"'shaladarpan '!C233","v":4775},{"$f":"'shaladarpan '!D233","v":"2014-07-04"},{"$f":"'shaladarpan '!E233","v":"manjeet232"},{"$f":"'shaladarpan '!F233","v":"00:00:00"},{"$f":"'shaladarpan '!G233","v":"vijay232"},{"$f":"'shaladarpan '!H233","v":"beautiful232"},{"$f":"'shaladarpan '!I233","v":"F"},{"$f":"'shaladarpan '!J233","v":"2008-02-05"},{"$f":"'shaladarpan '!K233","v":"yes"},{"$f":"'shaladarpan '!L233","v":232},{"$f":"'shaladarpan '!M233","v":0},{"$f":"'shaladarpan '!N233","v":0},{"$f":"'shaladarpan '!O233","v":"OBC"},{"$f":"'shaladarpan '!P233","v":"Hindu"},{"$f":"'shaladarpan '!Q233","v":0},{"$f":"'shaladarpan '!R233","v":"GOVT. SENIOR SECONDARY SCHOOL ALNIYAWAS (219445)"},{"$f":"'shaladarpan '!S233","v":8140200308},{"$f":"'shaladarpan '!T233","v":"XXXX2033"},{"$f":"'shaladarpan '!U233","v":0},{"$f":"'shaladarpan '!V233","v":9828120928},{"$f":"'shaladarpan '!W233","v":"alniyawas232"},{"$f":"'shaladarpan '!X233","v":40000},{"$f":"'shaladarpan '!Y233","v":"N"},{"$f":"'shaladarpan '!Z233","v":"N"},{"$f":"'shaladarpan '!AA233","v":"No"},{"$f":"'shaladarpan '!AB233","v":12},{"$f":"'shaladarpan '!AC233","v":"None"},{"$f":"'shaladarpan '!AD233","v":5}]
[{"$f":"IF(F235=\" \",\" \",ROWS($A$3:A235))","v":233},{"$f":"'shaladarpan '!A234","v":7},{"$f":"'shaladarpan '!B234","v":"A"},{"$f":"'shaladarpan '!C234","v":4753},{"$f":"'shaladarpan '!D234","v":"2014-07-03"},{"$f":"'shaladarpan '!E234","v":"manjeet233"},{"$f":"'shaladarpan '!F234","v":"00:00:00"},{"$f":"'shaladarpan '!G234","v":"vijay233"},{"$f":"'shaladarpan '!H234","v":"beautiful233"},{"$f":"'shaladarpan '!I234","v":"F"},{"$f":"'shaladarpan '!J234","v":"2008-02-12"},{"$f":"'shaladarpan '!K234","v":"yes"},{"$f":"'shaladarpan '!L234","v":233},{"$f":"'shaladarpan '!M234","v":0},{"$f":"'shaladarpan '!N234","v":0},{"$f":"'shaladarpan '!O234","v":"GEN"},{"$f":"'shaladarpan '!P234","v":"Hindu"},{"$f":"'shaladarpan '!Q234","v":0},{"$f":"'shaladarpan '!R234","v":"GOVT. SENIOR SECONDARY SCHOOL ALNIYAWAS (219445)"},{"$f":"'shaladarpan '!S234","v":8140200308},{"$f":"'shaladarpan '!T234","v":"XXXX3758"},{"$f":"'shaladarpan '!U234","v":"YAMYDQW"},{"$f":"'shaladarpan '!V234","v":9828120929},{"$f":"'shaladarpan '!W234","v":"alniyawas233"},{"$f":"'shaladarpan '!X234","v":40000},{"$f":"'shaladarpan '!Y234","v":"N"},{"$f":"'shaladarpan '!Z234","v":"N"},{"$f":"'shaladarpan '!AA234","v":"No"},{"$f":"'shaladarpan '!AB234","v":12},{"$f":"'shaladarpan '!AC234","v":"None"},{"$f":"'shaladarpan '!AD234","v":5}]
[{"$f":"IF(F236=\" \",\" \",ROWS($A$3:A236))","v":234},{"$f":"'shaladarpan '!A235","v":7},{"$f":"'shaladarpan '!B235","v":"A"},{"$f":"'shaladarpan '!C235","v":4112},{"$f":"'shaladarpan '!D235","v":"2016-06-28"},{"$f":"'shaladarpan '!E235","v":"manjeet234"},{"$f":"'shaladarpan '!F235","v":"00:00:00"},{"$f":"'shaladarpan '!G235","v":"vijay234"},{"$f":"'shaladarpan '!H235","v":"beautiful234"},{"$f":"'shaladarpan '!I235","v":"F"},{"$f":"'shaladarpan '!J235","v":"2008-05-07"},{"$f":"'shaladarpan '!K235","v":"no"},{"$f":"'shaladarpan '!L235","v":234},{"$f":"'shaladarpan '!M235","v":0},{"$f":"'shaladarpan '!N235","v":0},{"$f":"'shaladarpan '!O235","v":"OBC"},{"$f":"'shaladarpan '!P235","v":"Hindu"},{"$f":"'shaladarpan '!Q235","v":0},{"$f":"'shaladarpan '!R235","v":"GOVT. SENIOR SECONDARY SCHOOL ALNIYAWAS (219445)"},{"$f":"'shaladarpan '!S235","v":8140200308},{"$f":"'shaladarpan '!T235","v":"XXXX1490"},{"$f":"'shaladarpan '!U235","v":0},{"$f":"'shaladarpan '!V235","v":9828120930},{"$f":"'shaladarpan '!W235","v":"alniyawas234"},{"$f":"'shaladarpan '!X235","v":0},{"$f":"'shaladarpan '!Y235","v":"N"},{"$f":"'shaladarpan '!Z235","v":"N"},{"$f":"'shaladarpan '!AA235","v":"No"},{"$f":"'shaladarpan '!AB235","v":12},{"$f":"'shaladarpan '!AC235","v":"None"},{"$f":"'shaladarpan '!AD235","v":1}]
[{"$f":"IF(F237=\" \",\" \",ROWS($A$3:A237))","v":235},{"$f":"'shaladarpan '!A236","v":7},{"$f":"'shaladarpan '!B236","v":"A"},{"$f":"'shaladarpan '!C236","v":4746},{"$f":"'shaladarpan '!D236","v":"2014-07-12"},{"$f":"'shaladarpan '!E236","v":"manjeet235"},{"$f":"'shaladarpan '!F236","v":"00:00:00"},{"$f":"'shaladarpan '!G236","v":"vijay235"},{"$f":"'shaladarpan '!H236","v":"beautiful235"},{"$f":"'shaladarpan '!I236","v":"F"},{"$f":"'shaladarpan '!J236","v":"2008-07-21"},{"$f":"'shaladarpan '!K236","v":"yes"},{"$f":"'shaladarpan '!L236","v":235},{"$f":"'shaladarpan '!M236","v":0},{"$f":"'shaladarpan '!N236","v":0},{"$f":"'shaladarpan '!O236","v":"SC"},{"$f":"'shaladarpan '!P236","v":"Hindu"},{"$f":"'shaladarpan '!Q236","v":0},{"$f":"'shaladarpan '!R236","v":"GOVT. SENIOR SECONDARY SCHOOL ALNIYAWAS (219445)"},{"$f":"'shaladarpan '!S236","v":8140200308},{"$f":"'shaladarpan '!T236","v":"XXXX5353"},{"$f":"'shaladarpan '!U236","v":"VBKWWZX"},{"$f":"'shaladarpan '!V236","v":9828120931},{"$f":"'shaladarpan '!W236","v":"alniyawas235"},{"$f":"'shaladarpan '!X236","v":40000},{"$f":"'shaladarpan '!Y236","v":"N"},{"$f":"'shaladarpan '!Z236","v":"N"},{"$f":"'shaladarpan '!AA236","v":"No"},{"$f":"'shaladarpan '!AB236","v":12},{"$f":"'shaladarpan '!AC236","v":"None"},{"$f":"'shaladarpan '!AD236","v":5}]
[{"$f":"IF(F238=\" \",\" \",ROWS($A$3:A238))","v":236},{"$f":"'shaladarpan '!A237","v":7},{"$f":"'shaladarpan '!B237","v":"A"},{"$f":"'shaladarpan '!C237","v":3946},{"$f":"'shaladarpan '!D237","v":"2015-06-27"},{"$f":"'shaladarpan '!E237","v":"manjeet236"},{"$f":"'shaladarpan '!F237","v":"00:00:00"},{"$f":"'shaladarpan '!G237","v":"vijay236"},{"$f":"'shaladarpan '!H237","v":"beautiful236"},{"$f":"'shaladarpan '!I237","v":"M"},{"$f":"'shaladarpan '!J237","v":"2005-10-12"},{"$f":"'shaladarpan '!K237","v":"yes"},{"$f":"'shaladarpan '!L237","v":236},{"$f":"'shaladarpan '!M237","v":0},{"$f":"'shaladarpan '!N237","v":0},{"$f":"'shaladarpan '!O237","v":"SC"},{"$f":"'shaladarpan '!P237","v":"Hindu"},{"$f":"'shaladarpan '!Q237","v":0},{"$f":"'shaladarpan '!R237","v":"GOVT. SENIOR SECONDARY SCHOOL ALNIYAWAS (219445)"},{"$f":"'shaladarpan '!S237","v":8140200308},{"$f":"'shaladarpan '!T237","v":"XXXX3418"},{"$f":"'shaladarpan '!U237","v":0},{"$f":"'shaladarpan '!V237","v":9828120932},{"$f":"'shaladarpan '!W237","v":"alniyawas236"},{"$f":"'shaladarpan '!X237","v":0},{"$f":"'shaladarpan '!Y237","v":"N"},{"$f":"'shaladarpan '!Z237","v":"N"},{"$f":"'shaladarpan '!AA237","v":"No"},{"$f":"'shaladarpan '!AB237","v":15},{"$f":"'shaladarpan '!AC237","v":"None"},{"$f":"'shaladarpan '!AD237","v":1}]
[{"$f":"IF(F239=\" \",\" \",ROWS($A$3:A239))","v":237},{"$f":"'shaladarpan '!A238","v":7},{"$f":"'shaladarpan '!B238","v":"A"},{"$f":"'shaladarpan '!C238","v":4580},{"$f":"'shaladarpan '!D238","v":"2018-07-18"},{"$f":"'shaladarpan '!E238","v":"manjeet237"},{"$f":"'shaladarpan '!F238","v":"00:00:00"},{"$f":"'shaladarpan '!G238","v":"vijay237"},{"$f":"'shaladarpan '!H238","v":"beautiful237"},{"$f":"'shaladarpan '!I238","v":"M"},{"$f":"'shaladarpan '!J238","v":"2010-07-07"},{"$f":"'shaladarpan '!K238","v":"no"},{"$f":"'shaladarpan '!L238","v":237},{"$f":"'shaladarpan '!M238","v":0},{"$f":"'shaladarpan '!N238","v":0},{"$f":"'shaladarpan '!O238","v":"SC"},{"$f":"'shaladarpan '!P238","v":"Hindu"},{"$f":"'shaladarpan '!Q238","v":0},{"$f":"'shaladarpan '!R238","v":"GOVT. SENIOR SECONDARY SCHOOL ALNIYAWAS (219445)"},{"$f":"'shaladarpan '!S238","v":8140200308},{"$f":"'shaladarpan '!T238","v":0},{"$f":"'shaladarpan '!U238","v":0},{"$f":"'shaladarpan '!V238","v":9828120933},{"$f":"'shaladarpan '!W238","v":"alniyawas237"},{"$f":"'shaladarpan '!X238","v":40000},{"$f":"'shaladarpan '!Y238","v":"N"},{"$f":"'shaladarpan '!Z238","v":"N"},{"$f":"'shaladarpan '!AA238","v":"No"},{"$f":"'shaladarpan '!AB238","v":10},{"$f":"'shaladarpan '!AC238","v":"None"},{"$f":"'shaladarpan '!AD238","v":0}]
[{"$f":"IF(F240=\" \",\" \",ROWS($A$3:A240))","v":238},{"$f":"'shaladarpan '!A239","v":7},{"$f":"'shaladarpan '!B239","v":"A"},{"$f":"'shaladarpan '!C239","v":4776},{"$f":"'shaladarpan '!D239","v":"2015-05-11"},{"$f":"'shaladarpan '!E239","v":"manjeet238"},{"$f":"'shaladarpan '!F239","v":"00:00:00"},{"$f":"'shaladarpan '!G239","v":"vijay238"},{"$f":"'shaladarpan '!H239","v":"beautiful238"},{"$f":"'shaladarpan '!I239","v":"F"},{"$f":"'shaladarpan '!J239","v":"2008-03-23"},{"$f":"'shaladarpan '!K239","v":"yes"},{"$f":"'shaladarpan '!L239","v":238},{"$f":"'shaladarpan '!M239","v":0},{"$f":"'shaladarpan '!N239","v":0},{"$f":"'shaladarpan '!O239","v":"GEN"},{"$f":"'shaladarpan '!P239","v":"Hindu"},{"$f":"'shaladarpan '!Q239","v":0},{"$f":"'shaladarpan '!R239","v":"GOVT. SENIOR SECONDARY SCHOOL ALNIYAWAS (219445)"},{"$f":"'shaladarpan '!S239","v":8140200308},{"$f":"'shaladarpan '!T239","v":"XXXX0142"},{"$f":"'shaladarpan '!U239","v":"VXPNBWN"},{"$f":"'shaladarpan '!V239","v":9828120934},{"$f":"'shaladarpan '!W239","v":"alniyawas238"},{"$f":"'shaladarpan '!X239","v":40000},{"$f":"'shaladarpan '!Y239","v":"N"},{"$f":"'shaladarpan '!Z239","v":"N"},{"$f":"'shaladarpan '!AA239","v":"No"},{"$f":"'shaladarpan '!AB239","v":12},{"$f":"'shaladarpan '!AC239","v":"None"},{"$f":"'shaladarpan '!AD239","v":5}]
[{"$f":"IF(F241=\" \",\" \",ROWS($A$3:A241))","v":239},{"$f":"'shaladarpan '!A240","v":7},{"$f":"'shaladarpan '!B240","v":"A"},{"$f":"'shaladarpan '!C240","v":3927},{"$f":"'shaladarpan '!D240","v":"2015-05-11"},{"$f":"'shaladarpan '!E240","v":"manjeet239"},{"$f":"'shaladarpan '!F240","v":"00:00:00"},{"$f":"'shaladarpan '!G240","v":"vijay239"},{"$f":"'shaladarpan '!H240","v":"beautiful239"},{"$f":"'shaladarpan '!I240","v":"F"},{"$f":"'shaladarpan '!J240","v":"2008-07-10"},{"$f":"'shaladarpan '!K240","v":"yes"},{"$f":"'shaladarpan '!L240","v":239},{"$f":"'shaladarpan '!M240","v":0},{"$f":"'shaladarpan '!N240","v":0},{"$f":"'shaladarpan '!O240","v":"OBC"},{"$f":"'shaladarpan '!P240","v":"Muslim"},{"$f":"'shaladarpan '!Q240","v":0},{"$f":"'shaladarpan '!R240","v":"GOVT. SENIOR SECONDARY SCHOOL ALNIYAWAS (219445)"},{"$f":"'shaladarpan '!S240","v":8140200308},{"$f":"'shaladarpan '!T240","v":"XXXX0996"},{"$f":"'shaladarpan '!U240","v":0},{"$f":"'shaladarpan '!V240","v":9828120935},{"$f":"'shaladarpan '!W240","v":"alniyawas239"},{"$f":"'shaladarpan '!X240","v":0},{"$f":"'shaladarpan '!Y240","v":"N"},{"$f":"'shaladarpan '!Z240","v":"N"},{"$f":"'shaladarpan '!AA240","v":"Yes"},{"$f":"'shaladarpan '!AB240","v":12},{"$f":"'shaladarpan '!AC240","v":"None"},{"$f":"'shaladarpan '!AD240","v":1}]
[{"$f":"IF(F242=\" \",\" \",ROWS($A$3:A242))","v":240},{"$f":"'shaladarpan '!A241","v":7},{"$f":"'shaladarpan '!B241","v":"A"},{"$f":"'shaladarpan '!C241","v":4631},{"$f":"'shaladarpan '!D241","v":"2019-07-02"},{"$f":"'shaladarpan '!E241","v":"manjeet240"},{"$f":"'shaladarpan '!F241","v":"00:00:00"},{"$f":"'shaladarpan '!G241","v":"vijay240"},{"$f":"'shaladarpan '!H241","v":"beautiful240"},{"$f":"'shaladarpan '!I241","v":"F"},{"$f":"'shaladarpan '!J241","v":"2008-07-10"},{"$f":"'shaladarpan '!K241","v":"no"},{"$f":"'shaladarpan '!L241","v":240},{"$f":"'shaladarpan '!M241","v":0},{"$f":"'shaladarpan '!N241","v":0},{"$f":"'shaladarpan '!O241","v":"OBC"},{"$f":"'shaladarpan '!P241","v":"Muslim"},{"$f":"'shaladarpan '!Q241","v":0},{"$f":"'shaladarpan '!R241","v":"GOVT. SENIOR SECONDARY SCHOOL ALNIYAWAS (219445)"},{"$f":"'shaladarpan '!S241","v":8140200308},{"$f":"'shaladarpan '!T241","v":"XXXX2848"},{"$f":"'shaladarpan '!U241","v":"vrpbknr"},{"$f":"'shaladarpan '!V241","v":9828120936},{"$f":"'shaladarpan '!W241","v":"alniyawas240"},{"$f":"'shaladarpan '!X241","v":100000},{"$f":"'shaladarpan '!Y241","v":"N"},{"$f":"'shaladarpan '!Z241","v":"N"},{"$f":"'shaladarpan '!AA241","v":"Yes"},{"$f":"'shaladarpan '!AB241","v":12},{"$f":"'shaladarpan '!AC241","v":"None"},{"$f":"'shaladarpan '!AD241","v":0}]
[{"$f":"IF(F243=\" \",\" \",ROWS($A$3:A243))","v":241},{"$f":"'shaladarpan '!A242","v":7},{"$f":"'shaladarpan '!B242","v":"A"},{"$f":"'shaladarpan '!C242","v":4757},{"$f":"'shaladarpan '!D242","v":"2014-07-28"},{"$f":"'shaladarpan '!E242","v":"manjeet241"},{"$f":"'shaladarpan '!F242","v":"00:00:00"},{"$f":"'shaladarpan '!G242","v":"vijay241"},{"$f":"'shaladarpan '!H242","v":"beautiful241"},{"$f":"'shaladarpan '!I242","v":"M"},{"$f":"'shaladarpan '!J242","v":"2009-02-07"},{"$f":"'shaladarpan '!K242","v":"yes"},{"$f":"'shaladarpan '!L242","v":241},{"$f":"'shaladarpan '!M242","v":0},{"$f":"'shaladarpan '!N242","v":0},{"$f":"'shaladarpan '!O242","v":"SC"},{"$f":"'shaladarpan '!P242","v":"Hindu"},{"$f":"'shaladarpan '!Q242","v":0},{"$f":"'shaladarpan '!R242","v":"GOVT. SENIOR SECONDARY SCHOOL ALNIYAWAS (219445)"},{"$f":"'shaladarpan '!S242","v":8140200308},{"$f":"'shaladarpan '!T242","v":"XXXX2675"},{"$f":"'shaladarpan '!U242","v":"VOJRTTX"},{"$f":"'shaladarpan '!V242","v":9828120937},{"$f":"'shaladarpan '!W242","v":"alniyawas241"},{"$f":"'shaladarpan '!X242","v":40000},{"$f":"'shaladarpan '!Y242","v":"N"},{"$f":"'shaladarpan '!Z242","v":"N"},{"$f":"'shaladarpan '!AA242","v":"No"},{"$f":"'shaladarpan '!AB242","v":11},{"$f":"'shaladarpan '!AC242","v":"None"},{"$f":"'shaladarpan '!AD242","v":5}]
[{"$f":"IF(F244=\" \",\" \",ROWS($A$3:A244))","v":242},{"$f":"'shaladarpan '!A243","v":7},{"$f":"'shaladarpan '!B243","v":"A"},{"$f":"'shaladarpan '!C243","v":3900},{"$f":"'shaladarpan '!D243","v":"2015-05-11"},{"$f":"'shaladarpan '!E243","v":"manjeet242"},{"$f":"'shaladarpan '!F243","v":"00:00:00"},{"$f":"'shaladarpan '!G243","v":"vijay242"},{"$f":"'shaladarpan '!H243","v":"beautiful242"},{"$f":"'shaladarpan '!I243","v":"F"},{"$f":"'shaladarpan '!J243","v":"2008-06-07"},{"$f":"'shaladarpan '!K243","v":"yes"},{"$f":"'shaladarpan '!L243","v":242},{"$f":"'shaladarpan '!M243","v":0},{"$f":"'shaladarpan '!N243","v":0},{"$f":"'shaladarpan '!O243","v":"OBC"},{"$f":"'shaladarpan '!P243","v":"Muslim"},{"$f":"'shaladarpan '!Q243","v":0},{"$f":"'shaladarpan '!R243","v":"GOVT. SENIOR SECONDARY SCHOOL ALNIYAWAS (219445)"},{"$f":"'shaladarpan '!S243","v":8140200308},{"$f":"'shaladarpan '!T243","v":"XXXX2625"},{"$f":"'shaladarpan '!U243","v":0},{"$f":"'shaladarpan '!V243","v":9828120938},{"$f":"'shaladarpan '!W243","v":"alniyawas242"},{"$f":"'shaladarpan '!X243","v":0},{"$f":"'shaladarpan '!Y243","v":"N"},{"$f":"'shaladarpan '!Z243","v":"N"},{"$f":"'shaladarpan '!AA243","v":"Yes"},{"$f":"'shaladarpan '!AB243","v":12},{"$f":"'shaladarpan '!AC243","v":"None"},{"$f":"'shaladarpan '!AD243","v":1}]
[{"$f":"IF(F245=\" \",\" \",ROWS($A$3:A245))","v":243},{"$f":"'shaladarpan '!A244","v":7},{"$f":"'shaladarpan '!B244","v":"A"},{"$f":"'shaladarpan '!C244","v":3913},{"$f":"'shaladarpan '!D244","v":"2015-05-11"},{"$f":"'shaladarpan '!E244","v":"manjeet243"},{"$f":"'shaladarpan '!F244","v":"00:00:00"},{"$f":"'shaladarpan '!G244","v":"vijay243"},{"$f":"'shaladarpan '!H244","v":"beautiful243"},{"$f":"'shaladarpan '!I244","v":"F"},{"$f":"'shaladarpan '!J244","v":"2008-07-07"},{"$f":"'shaladarpan '!K244","v":"no"},{"$f":"'shaladarpan '!L244","v":243},{"$f":"'shaladarpan '!M244","v":0},{"$f":"'shaladarpan '!N244","v":0},{"$f":"'shaladarpan '!O244","v":"OBC"},{"$f":"'shaladarpan '!P244","v":"Muslim"},{"$f":"'shaladarpan '!Q244","v":0},{"$f":"'shaladarpan '!R244","v":"GOVT. SENIOR SECONDARY SCHOOL ALNIYAWAS (219445)"},{"$f":"'shaladarpan '!S244","v":8140200308},{"$f":"'shaladarpan '!T244","v":"XXXX4930"},{"$f":"'shaladarpan '!U244","v":0},{"$f":"'shaladarpan '!V244","v":9828120939},{"$f":"'shaladarpan '!W244","v":"alniyawas243"},{"$f":"'shaladarpan '!X244","v":0},{"$f":"'shaladarpan '!Y244","v":"N"},{"$f":"'shaladarpan '!Z244","v":"N"},{"$f":"'shaladarpan '!AA244","v":"Yes"},{"$f":"'shaladarpan '!AB244","v":12},{"$f":"'shaladarpan '!AC244","v":"None"},{"$f":"'shaladarpan '!AD244","v":1}]
[{"$f":"IF(F246=\" \",\" \",ROWS($A$3:A246))","v":244},{"$f":"'shaladarpan '!A245","v":7},{"$f":"'shaladarpan '!B245","v":"A"},{"$f":"'shaladarpan '!C245","v":3920},{"$f":"'shaladarpan '!D245","v":"2015-05-11"},{"$f":"'shaladarpan '!E245","v":"manjeet244"},{"$f":"'shaladarpan '!F245","v":"00:00:00"},{"$f":"'shaladarpan '!G245","v":"vijay244"},{"$f":"'shaladarpan '!H245","v":"beautiful244"},{"$f":"'shaladarpan '!I245","v":"M"},{"$f":"'shaladarpan '!J245","v":"2007-07-05"},{"$f":"'shaladarpan '!K245","v":"yes"},{"$f":"'shaladarpan '!L245","v":244},{"$f":"'shaladarpan '!M245","v":0},{"$f":"'shaladarpan '!N245","v":0},{"$f":"'shaladarpan '!O245","v":"OBC"},{"$f":"'shaladarpan '!P245","v":"Muslim"},{"$f":"'shaladarpan '!Q245","v":0},{"$f":"'shaladarpan '!R245","v":"GOVT. SENIOR SECONDARY SCHOOL ALNIYAWAS (219445)"},{"$f":"'shaladarpan '!S245","v":8140200308},{"$f":"'shaladarpan '!T245","v":"XXXX0325"},{"$f":"'shaladarpan '!U245","v":0},{"$f":"'shaladarpan '!V245","v":9828120940},{"$f":"'shaladarpan '!W245","v":"alniyawas244"},{"$f":"'shaladarpan '!X245","v":0},{"$f":"'shaladarpan '!Y245","v":"N"},{"$f":"'shaladarpan '!Z245","v":"N"},{"$f":"'shaladarpan '!AA245","v":"Yes"},{"$f":"'shaladarpan '!AB245","v":13},{"$f":"'shaladarpan '!AC245","v":"None"},{"$f":"'shaladarpan '!AD245","v":1}]
[{"$f":"IF(F247=\" \",\" \",ROWS($A$3:A247))","v":245},{"$f":"'shaladarpan '!A246","v":7},{"$f":"'shaladarpan '!B246","v":"A"},{"$f":"'shaladarpan '!C246","v":4584},{"$f":"'shaladarpan '!D246","v":"2018-07-19"},{"$f":"'shaladarpan '!E246","v":"manjeet245"},{"$f":"'shaladarpan '!F246","v":"00:00:00"},{"$f":"'shaladarpan '!G246","v":"vijay245"},{"$f":"'shaladarpan '!H246","v":"beautiful245"},{"$f":"'shaladarpan '!I246","v":"F"},{"$f":"'shaladarpan '!J246","v":"2010-07-10"},{"$f":"'shaladarpan '!K246","v":"yes"},{"$f":"'shaladarpan '!L246","v":245},{"$f":"'shaladarpan '!M246","v":0},{"$f":"'shaladarpan '!N246","v":0},{"$f":"'shaladarpan '!O246","v":"OBC"},{"$f":"'shaladarpan '!P246","v":"Hindu"},{"$f":"'shaladarpan '!Q246","v":0},{"$f":"'shaladarpan '!R246","v":"GOVT. SENIOR SECONDARY SCHOOL ALNIYAWAS (219445)"},{"$f":"'shaladarpan '!S246","v":8140200308},{"$f":"'shaladarpan '!T246","v":"XXXX4817"},{"$f":"'shaladarpan '!U246","v":0},{"$f":"'shaladarpan '!V246","v":9828120941},{"$f":"'shaladarpan '!W246","v":"alniyawas245"},{"$f":"'shaladarpan '!X246","v":36000},{"$f":"'shaladarpan '!Y246","v":"N"},{"$f":"'shaladarpan '!Z246","v":"N"},{"$f":"'shaladarpan '!AA246","v":"No"},{"$f":"'shaladarpan '!AB246","v":10},{"$f":"'shaladarpan '!AC246","v":"None"},{"$f":"'shaladarpan '!AD246","v":0}]
[{"$f":"IF(F248=\" \",\" \",ROWS($A$3:A248))","v":246},{"$f":"'shaladarpan '!A247","v":7},{"$f":"'shaladarpan '!B247","v":"A"},{"$f":"'shaladarpan '!C247","v":3908},{"$f":"'shaladarpan '!D247","v":"2015-05-11"},{"$f":"'shaladarpan '!E247","v":"manjeet246"},{"$f":"'shaladarpan '!F247","v":"00:00:00"},{"$f":"'shaladarpan '!G247","v":"vijay246"},{"$f":"'shaladarpan '!H247","v":"beautiful246"},{"$f":"'shaladarpan '!I247","v":"F"},{"$f":"'shaladarpan '!J247","v":"2008-07-02"},{"$f":"'shaladarpan '!K247","v":"no"},{"$f":"'shaladarpan '!L247","v":246},{"$f":"'shaladarpan '!M247","v":0},{"$f":"'shaladarpan '!N247","v":0},{"$f":"'shaladarpan '!O247","v":"SC"},{"$f":"'shaladarpan '!P247","v":"Hindu"},{"$f":"'shaladarpan '!Q247","v":0},{"$f":"'shaladarpan '!R247","v":"GOVT. SENIOR SECONDARY SCHOOL ALNIYAWAS (219445)"},{"$f":"'shaladarpan '!S247","v":8140200308},{"$f":"'shaladarpan '!T247","v":"XXXX6023"},{"$f":"'shaladarpan '!U247","v":0},{"$f":"'shaladarpan '!V247","v":9828120942},{"$f":"'shaladarpan '!W247","v":"alniyawas246"},{"$f":"'shaladarpan '!X247","v":0},{"$f":"'shaladarpan '!Y247","v":"N"},{"$f":"'shaladarpan '!Z247","v":"N"},{"$f":"'shaladarpan '!AA247","v":"No"},{"$f":"'shaladarpan '!AB247","v":12},{"$f":"'shaladarpan '!AC247","v":"None"},{"$f":"'shaladarpan '!AD247","v":1}]
[{"$f":"IF(F249=\" \",\" \",ROWS($A$3:A249))","v":247},{"$f":"'shaladarpan '!A248","v":7},{"$f":"'shaladarpan '!B248","v":"A"},{"$f":"'shaladarpan '!C248","v":3933},{"$f":"'shaladarpan '!D248","v":"2015-05-11"},{"$f":"'shaladarpan '!E248","v":"manjeet247"},{"$f":"'shaladarpan '!F248","v":"00:00:00"},{"$f":"'shaladarpan '!G248","v":"vijay247"},{"$f":"'shaladarpan '!H248","v":"beautiful247"},{"$f":"'shaladarpan '!I248","v":"M"},{"$f":"'shaladarpan '!J248","v":"2008-07-05"},{"$f":"'shaladarpan '!K248","v":"yes"},{"$f":"'shaladarpan '!L248","v":247},{"$f":"'shaladarpan '!M248","v":0},{"$f":"'shaladarpan '!N248","v":0},{"$f":"'shaladarpan '!O248","v":"OBC"},{"$f":"'shaladarpan '!P248","v":"Muslim"},{"$f":"'shaladarpan '!Q248","v":0},{"$f":"'shaladarpan '!R248","v":"GOVT. SENIOR SECONDARY SCHOOL ALNIYAWAS (219445)"},{"$f":"'shaladarpan '!S248","v":8140200308},{"$f":"'shaladarpan '!T248","v":"XXXX1861"},{"$f":"'shaladarpan '!U248","v":0},{"$f":"'shaladarpan '!V248","v":9828120943},{"$f":"'shaladarpan '!W248","v":"alniyawas247"},{"$f":"'shaladarpan '!X248","v":0},{"$f":"'shaladarpan '!Y248","v":"N"},{"$f":"'shaladarpan '!Z248","v":"N"},{"$f":"'shaladarpan '!AA248","v":"Yes"},{"$f":"'shaladarpan '!AB248","v":12},{"$f":"'shaladarpan '!AC248","v":"None"},{"$f":"'shaladarpan '!AD248","v":0}]
[{"$f":"IF(F250=\" \",\" \",ROWS($A$3:A250))","v":248},{"$f":"'shaladarpan '!A249","v":7},{"$f":"'shaladarpan '!B249","v":"A"},{"$f":"'shaladarpan '!C249","v":4549},{"$f":"'shaladarpan '!D249","v":"2018-07-11"},{"$f":"'shaladarpan '!E249","v":"manjeet248"},{"$f":"'shaladarpan '!F249","v":"00:00:00"},{"$f":"'shaladarpan '!G249","v":"vijay248"},{"$f":"'shaladarpan '!H249","v":"beautiful248"},{"$f":"'shaladarpan '!I249","v":"F"},{"$f":"'shaladarpan '!J249","v":"2009-09-30"},{"$f":"'shaladarpan '!K249","v":"yes"},{"$f":"'shaladarpan '!L249","v":248},{"$f":"'shaladarpan '!M249","v":0},{"$f":"'shaladarpan '!N249","v":0},{"$f":"'shaladarpan '!O249","v":"OBC"},{"$f":"'shaladarpan '!P249","v":"Hindu"},{"$f":"'shaladarpan '!Q249","v":0},{"$f":"'shaladarpan '!R249","v":"GOVT. SENIOR SECONDARY SCHOOL ALNIYAWAS (219445)"},{"$f":"'shaladarpan '!S249","v":8140200308},{"$f":"'shaladarpan '!T249","v":"XXXX5958"},{"$f":"'shaladarpan '!U249","v":"VVGOPGT"},{"$f":"'shaladarpan '!V249","v":9828120944},{"$f":"'shaladarpan '!W249","v":"alniyawas248"},{"$f":"'shaladarpan '!X249","v":45000},{"$f":"'shaladarpan '!Y249","v":"N"},{"$f":"'shaladarpan '!Z249","v":"N"},{"$f":"'shaladarpan '!AA249","v":"No"},{"$f":"'shaladarpan '!AB249","v":11},{"$f":"'shaladarpan '!AC249","v":"None"},{"$f":"'shaladarpan '!AD249","v":1}]
[{"$f":"IF(F251=\" \",\" \",ROWS($A$3:A251))","v":249},{"$f":"'shaladarpan '!A250","v":7},{"$f":"'shaladarpan '!B250","v":"A"},{"$f":"'shaladarpan '!C250","v":4754},{"$f":"'shaladarpan '!D250","v":"2016-06-29"},{"$f":"'shaladarpan '!E250","v":"manjeet249"},{"$f":"'shaladarpan '!F250","v":"00:00:00"},{"$f":"'shaladarpan '!G250","v":"vijay249"},{"$f":"'shaladarpan '!H250","v":"beautiful249"},{"$f":"'shaladarpan '!I250","v":"M"},{"$f":"'shaladarpan '!J250","v":"2007-02-11"},{"$f":"'shaladarpan '!K250","v":"no"},{"$f":"'shaladarpan '!L250","v":249},{"$f":"'shaladarpan '!M250","v":0},{"$f":"'shaladarpan '!N250","v":0},{"$f":"'shaladarpan '!O250","v":"OBC"},{"$f":"'shaladarpan '!P250","v":"Hindu"},{"$f":"'shaladarpan '!Q250","v":0},{"$f":"'shaladarpan '!R250","v":"GOVT. SENIOR SECONDARY SCHOOL ALNIYAWAS (219445)"},{"$f":"'shaladarpan '!S250","v":8140200308},{"$f":"'shaladarpan '!T250","v":"XXXX3814"},{"$f":"'shaladarpan '!U250","v":0},{"$f":"'shaladarpan '!V250","v":9828120945},{"$f":"'shaladarpan '!W250","v":"alniyawas249"},{"$f":"'shaladarpan '!X250","v":40000},{"$f":"'shaladarpan '!Y250","v":"N"},{"$f":"'shaladarpan '!Z250","v":"N"},{"$f":"'shaladarpan '!AA250","v":"No"},{"$f":"'shaladarpan '!AB250","v":13},{"$f":"'shaladarpan '!AC250","v":"None"},{"$f":"'shaladarpan '!AD250","v":1}]
[{"$f":"IF(F252=\" \",\" \",ROWS($A$3:A252))","v":250},{"$f":"'shaladarpan '!A251","v":7},{"$f":"'shaladarpan '!B251","v":"A"},{"$f":"'shaladarpan '!C251","v":4886},{"$f":"'shaladarpan '!D251","v":"00:00:00"},{"$f":"'shaladarpan '!E251","v":"manjeet250"},{"$f":"'shaladarpan '!F251","v":"00:00:00"},{"$f":"'shaladarpan '!G251","v":"vijay250"},{"$f":"'shaladarpan '!H251","v":"beautiful250"},{"$f":"'shaladarpan '!I251","v":"F"},{"$f":"'shaladarpan '!J251","v":"2009-10-16"},{"$f":"'shaladarpan '!K251","v":"yes"},{"$f":"'shaladarpan '!L251","v":250},{"$f":"'shaladarpan '!M251","v":0},{"$f":"'shaladarpan '!N251","v":0},{"$f":"'shaladarpan '!O251","v":"OBC"},{"$f":"'shaladarpan '!P251","v":0},{"$f":"'shaladarpan '!Q251","v":0},{"$f":"'shaladarpan '!R251","v":"GOVT. SENIOR SECONDARY SCHOOL ALNIYAWAS (219445)"},{"$f":"'shaladarpan '!S251","v":8140200308},{"$f":"'shaladarpan '!T251","v":0},{"$f":"'shaladarpan '!U251","v":0},{"$f":"'shaladarpan '!V251","v":9828120946},{"$f":"'shaladarpan '!W251","v":"alniyawas250"},{"$f":"'shaladarpan '!X251","v":0},{"$f":"'shaladarpan '!Y251","v":"N"},{"$f":"'shaladarpan '!Z251","v":"Y"},{"$f":"'shaladarpan '!AA251","v":0},{"$f":"'shaladarpan '!AB251","v":11},{"$f":"'shaladarpan '!AC251","v":0},{"$f":"'shaladarpan '!AD251","v":1}]
[{"$f":"IF(F253=\" \",\" \",ROWS($A$3:A253))","v":251},{"$f":"'shaladarpan '!A252","v":7},{"$f":"'shaladarpan '!B252","v":"A"},{"$f":"'shaladarpan '!C252","v":3915},{"$f":"'shaladarpan '!D252","v":"2015-05-11"},{"$f":"'shaladarpan '!E252","v":"manjeet251"},{"$f":"'shaladarpan '!F252","v":"00:00:00"},{"$f":"'shaladarpan '!G252","v":"vijay251"},{"$f":"'shaladarpan '!H252","v":"beautiful251"},{"$f":"'shaladarpan '!I252","v":"F"},{"$f":"'shaladarpan '!J252","v":"2006-03-10"},{"$f":"'shaladarpan '!K252","v":"yes"},{"$f":"'shaladarpan '!L252","v":251},{"$f":"'shaladarpan '!M252","v":0},{"$f":"'shaladarpan '!N252","v":0},{"$f":"'shaladarpan '!O252","v":"OBC"},{"$f":"'shaladarpan '!P252","v":"Hindu"},{"$f":"'shaladarpan '!Q252","v":0},{"$f":"'shaladarpan '!R252","v":"GOVT. SENIOR SECONDARY SCHOOL ALNIYAWAS (219445)"},{"$f":"'shaladarpan '!S252","v":8140200308},{"$f":"'shaladarpan '!T252","v":"XXXX0682"},{"$f":"'shaladarpan '!U252","v":0},{"$f":"'shaladarpan '!V252","v":9828120947},{"$f":"'shaladarpan '!W252","v":"alniyawas251"},{"$f":"'shaladarpan '!X252","v":0},{"$f":"'shaladarpan '!Y252","v":"N"},{"$f":"'shaladarpan '!Z252","v":"N"},{"$f":"'shaladarpan '!AA252","v":"No"},{"$f":"'shaladarpan '!AB252","v":14},{"$f":"'shaladarpan '!AC252","v":"None"},{"$f":"'shaladarpan '!AD252","v":1}]
[{"$f":"IF(F254=\" \",\" \",ROWS($A$3:A254))","v":252},{"$f":"'shaladarpan '!A253","v":8},{"$f":"'shaladarpan '!B253","v":"A"},{"$f":"'shaladarpan '!C253","v":3857},{"$f":"'shaladarpan '!D253","v":"2015-05-11"},{"$f":"'shaladarpan '!E253","v":"manjeet252"},{"$f":"'shaladarpan '!F253","v":"00:00:00"},{"$f":"'shaladarpan '!G253","v":"vijay252"},{"$f":"'shaladarpan '!H253","v":"beautiful252"},{"$f":"'shaladarpan '!I253","v":"M"},{"$f":"'shaladarpan '!J253","v":"2007-02-02"},{"$f":"'shaladarpan '!K253","v":"no"},{"$f":"'shaladarpan '!L253","v":252},{"$f":"'shaladarpan '!M253","v":0},{"$f":"'shaladarpan '!N253","v":0},{"$f":"'shaladarpan '!O253","v":"OBC"},{"$f":"'shaladarpan '!P253","v":"Muslim"},{"$f":"'shaladarpan '!Q253","v":0},{"$f":"'shaladarpan '!R253","v":"GOVT. SENIOR SECONDARY SCHOOL ALNIYAWAS (219445)"},{"$f":"'shaladarpan '!S253","v":8140200308},{"$f":"'shaladarpan '!T253","v":"XXXX6918"},{"$f":"'shaladarpan '!U253","v":0},{"$f":"'shaladarpan '!V253","v":9828120948},{"$f":"'shaladarpan '!W253","v":"alniyawas252"},{"$f":"'shaladarpan '!X253","v":0},{"$f":"'shaladarpan '!Y253","v":"N"},{"$f":"'shaladarpan '!Z253","v":"N"},{"$f":"'shaladarpan '!AA253","v":"Yes"},{"$f":"'shaladarpan '!AB253","v":13},{"$f":"'shaladarpan '!AC253","v":"None"},{"$f":"'shaladarpan '!AD253","v":1}]
[{"$f":"IF(F255=\" \",\" \",ROWS($A$3:A255))","v":253},{"$f":"'shaladarpan '!A254","v":8},{"$f":"'shaladarpan '!B254","v":"A"},{"$f":"'shaladarpan '!C254","v":4641},{"$f":"'shaladarpan '!D254","v":"2019-07-04"},{"$f":"'shaladarpan '!E254","v":"manjeet253"},{"$f":"'shaladarpan '!F254","v":"00:00:00"},{"$f":"'shaladarpan '!G254","v":"vijay253"},{"$f":"'shaladarpan '!H254","v":"beautiful253"},{"$f":"'shaladarpan '!I254","v":"M"},{"$f":"'shaladarpan '!J254","v":"2007-07-09"},{"$f":"'shaladarpan '!K254","v":"yes"},{"$f":"'shaladarpan '!L254","v":253},{"$f":"'shaladarpan '!M254","v":0},{"$f":"'shaladarpan '!N254","v":0},{"$f":"'shaladarpan '!O254","v":"OBC"},{"$f":"'shaladarpan '!P254","v":"Muslim"},{"$f":"'shaladarpan '!Q254","v":0},{"$f":"'shaladarpan '!R254","v":"GOVT. SENIOR SECONDARY SCHOOL ALNIYAWAS (219445)"},{"$f":"'shaladarpan '!S254","v":8140200308},{"$f":"'shaladarpan '!T254","v":"XXXX3614"},{"$f":"'shaladarpan '!U254","v":"vrpbknr"},{"$f":"'shaladarpan '!V254","v":9828120949},{"$f":"'shaladarpan '!W254","v":"alniyawas253"},{"$f":"'shaladarpan '!X254","v":72000},{"$f":"'shaladarpan '!Y254","v":"N"},{"$f":"'shaladarpan '!Z254","v":"N"},{"$f":"'shaladarpan '!AA254","v":"Yes"},{"$f":"'shaladarpan '!AB254","v":13},{"$f":"'shaladarpan '!AC254","v":"None"},{"$f":"'shaladarpan '!AD254","v":0}]
[{"$f":"IF(F256=\" \",\" \",ROWS($A$3:A256))","v":254},{"$f":"'shaladarpan '!A255","v":8},{"$f":"'shaladarpan '!B255","v":"A"},{"$f":"'shaladarpan '!C255","v":4462},{"$f":"'shaladarpan '!D255","v":"2018-07-03"},{"$f":"'shaladarpan '!E255","v":"manjeet254"},{"$f":"'shaladarpan '!F255","v":"00:00:00"},{"$f":"'shaladarpan '!G255","v":"vijay254"},{"$f":"'shaladarpan '!H255","v":"beautiful254"},{"$f":"'shaladarpan '!I255","v":"F"},{"$f":"'shaladarpan '!J255","v":"2009-06-05"},{"$f":"'shaladarpan '!K255","v":"yes"},{"$f":"'shaladarpan '!L255","v":254},{"$f":"'shaladarpan '!M255","v":0},{"$f":"'shaladarpan '!N255","v":0},{"$f":"'shaladarpan '!O255","v":"OBC"},{"$f":"'shaladarpan '!P255","v":"Hindu"},{"$f":"'shaladarpan '!Q255","v":0},{"$f":"'shaladarpan '!R255","v":"GOVT. SENIOR SECONDARY SCHOOL ALNIYAWAS (219445)"},{"$f":"'shaladarpan '!S255","v":8140200308},{"$f":"'shaladarpan '!T255","v":"XXXX4426"},{"$f":"'shaladarpan '!U255","v":0},{"$f":"'shaladarpan '!V255","v":9828120950},{"$f":"'shaladarpan '!W255","v":"alniyawas254"},{"$f":"'shaladarpan '!X255","v":40000},{"$f":"'shaladarpan '!Y255","v":"N"},{"$f":"'shaladarpan '!Z255","v":"N"},{"$f":"'shaladarpan '!AA255","v":"No"},{"$f":"'shaladarpan '!AB255","v":11},{"$f":"'shaladarpan '!AC255","v":"None"},{"$f":"'shaladarpan '!AD255","v":3}]
[{"$f":"IF(F257=\" \",\" \",ROWS($A$3:A257))","v":255},{"$f":"'shaladarpan '!A256","v":8},{"$f":"'shaladarpan '!B256","v":"A"},{"$f":"'shaladarpan '!C256","v":4607},{"$f":"'shaladarpan '!D256","v":"2018-07-31"},{"$f":"'shaladarpan '!E256","v":"manjeet255"},{"$f":"'shaladarpan '!F256","v":"00:00:00"},{"$f":"'shaladarpan '!G256","v":"vijay255"},{"$f":"'shaladarpan '!H256","v":"beautiful255"},{"$f":"'shaladarpan '!I256","v":"F"},{"$f":"'shaladarpan '!J256","v":"2008-01-01"},{"$f":"'shaladarpan '!K256","v":"no"},{"$f":"'shaladarpan '!L256","v":255},{"$f":"'shaladarpan '!M256","v":0},{"$f":"'shaladarpan '!N256","v":0},{"$f":"'shaladarpan '!O256","v":"GEN"},{"$f":"'shaladarpan '!P256","v":"Hindu"},{"$f":"'shaladarpan '!Q256","v":0},{"$f":"'shaladarpan '!R256","v":"GOVT. SENIOR SECONDARY SCHOOL ALNIYAWAS (219445)"},{"$f":"'shaladarpan '!S256","v":8140200308},{"$f":"'shaladarpan '!T256","v":"XXXX8983"},{"$f":"'shaladarpan '!U256","v":0},{"$f":"'shaladarpan '!V256","v":9828120951},{"$f":"'shaladarpan '!W256","v":"alniyawas255"},{"$f":"'shaladarpan '!X256","v":36000},{"$f":"'shaladarpan '!Y256","v":"N"},{"$f":"'shaladarpan '!Z256","v":"N"},{"$f":"'shaladarpan '!AA256","v":"No"},{"$f":"'shaladarpan '!AB256","v":12},{"$f":"'shaladarpan '!AC256","v":"None"},{"$f":"'shaladarpan '!AD256","v":5}]
[{"$f":"IF(F258=\" \",\" \",ROWS($A$3:A258))","v":256},{"$f":"'shaladarpan '!A257","v":8},{"$f":"'shaladarpan '!B257","v":"A"},{"$f":"'shaladarpan '!C257","v":4561},{"$f":"'shaladarpan '!D257","v":"2018-07-14"},{"$f":"'shaladarpan '!E257","v":"manjeet256"},{"$f":"'shaladarpan '!F257","v":"00:00:00"},{"$f":"'shaladarpan '!G257","v":"vijay256"},{"$f":"'shaladarpan '!H257","v":"beautiful256"},{"$f":"'shaladarpan '!I257","v":"M"},{"$f":"'shaladarpan '!J257","v":"2007-01-07"},{"$f":"'shaladarpan '!K257","v":"yes"},{"$f":"'shaladarpan '!L257","v":256},{"$f":"'shaladarpan '!M257","v":0},{"$f":"'shaladarpan '!N257","v":0},{"$f":"'shaladarpan '!O257","v":"SC"},{"$f":"'shaladarpan '!P257","v":"Hindu"},{"$f":"'shaladarpan '!Q257","v":0},{"$f":"'shaladarpan '!R257","v":"GOVT. SENIOR SECONDARY SCHOOL ALNIYAWAS (219445)"},{"$f":"'shaladarpan '!S257","v":8140200308},{"$f":"'shaladarpan '!T257","v":"XXXX6778"},{"$f":"'shaladarpan '!U257","v":0},{"$f":"'shaladarpan '!V257","v":9828120952},{"$f":"'shaladarpan '!W257","v":"alniyawas256"},{"$f":"'shaladarpan '!X257","v":36000},{"$f":"'shaladarpan '!Y257","v":"N"},{"$f":"'shaladarpan '!Z257","v":"N"},{"$f":"'shaladarpan '!AA257","v":"No"},{"$f":"'shaladarpan '!AB257","v":13},{"$f":"'shaladarpan '!AC257","v":"None"},{"$f":"'shaladarpan '!AD257","v":1}]
[{"$f":"IF(F259=\" \",\" \",ROWS($A$3:A259))","v":257},{"$f":"'shaladarpan '!A258","v":8},{"$f":"'shaladarpan '!B258","v":"A"},{"$f":"'shaladarpan '!C258","v":3888},{"$f":"'shaladarpan '!D258","v":"2015-05-11"},{"$f":"'shaladarpan '!E258","v":"manjeet257"},{"$f":"'shaladarpan '!F258","v":"00:00:00"},{"$f":"'shaladarpan '!G258","v":"vijay257"},{"$f":"'shaladarpan '!H258","v":"beautiful257"},{"$f":"'shaladarpan '!I258","v":"M"},{"$f":"'shaladarpan '!J258","v":"2005-09-05"},{"$f":"'shaladarpan '!K258","v":"yes"},{"$f":"'shaladarpan '!L258","v":257},{"$f":"'shaladarpan '!M258","v":0},{"$f":"'shaladarpan '!N258","v":0},{"$f":"'shaladarpan '!O258","v":"OBC"},{"$f":"'shaladarpan '!P258","v":"Muslim"},{"$f":"'shaladarpan '!Q258","v":0},{"$f":"'shaladarpan '!R258","v":"GOVT. SENIOR SECONDARY SCHOOL ALNIYAWAS (219445)"},{"$f":"'shaladarpan '!S258","v":8140200308},{"$f":"'shaladarpan '!T258","v":"XXXX3849"},{"$f":"'shaladarpan '!U258","v":0},{"$f":"'shaladarpan '!V258","v":9828120953},{"$f":"'shaladarpan '!W258","v":"alniyawas257"},{"$f":"'shaladarpan '!X258","v":0},{"$f":"'shaladarpan '!Y258","v":"N"},{"$f":"'shaladarpan '!Z258","v":"N"},{"$f":"'shaladarpan '!AA258","v":"Yes"},{"$f":"'shaladarpan '!AB258","v":15},{"$f":"'shaladarpan '!AC258","v":"None"},{"$f":"'shaladarpan '!AD258","v":1}]
[{"$f":"IF(F260=\" \",\" \",ROWS($A$3:A260))","v":258},{"$f":"'shaladarpan '!A259","v":8},{"$f":"'shaladarpan '!B259","v":"A"},{"$f":"'shaladarpan '!C259","v":4263},{"$f":"'shaladarpan '!D259","v":"1900-05-28"},{"$f":"'shaladarpan '!E259","v":"manjeet258"},{"$f":"'shaladarpan '!F259","v":"00:00:00"},{"$f":"'shaladarpan '!G259","v":"vijay258"},{"$f":"'shaladarpan '!H259","v":"beautiful258"},{"$f":"'shaladarpan '!I259","v":"M"},{"$f":"'shaladarpan '!J259","v":"2008-11-04"},{"$f":"'shaladarpan '!K259","v":"no"},{"$f":"'shaladarpan '!L259","v":258},{"$f":"'shaladarpan '!M259","v":0},{"$f":"'shaladarpan '!N259","v":0},{"$f":"'shaladarpan '!O259","v":"SBC"},{"$f":"'shaladarpan '!P259","v":"Hindu"},{"$f":"'shaladarpan '!Q259","v":0},{"$f":"'shaladarpan '!R259","v":"GOVT. SENIOR SECONDARY SCHOOL ALNIYAWAS (219445)"},{"$f":"'shaladarpan '!S259","v":8140200308},{"$f":"'shaladarpan '!T259","v":0},{"$f":"'shaladarpan '!U259","v":0},{"$f":"'shaladarpan '!V259","v":9828120954},{"$f":"'shaladarpan '!W259","v":"alniyawas258"},{"$f":"'shaladarpan '!X259","v":0},{"$f":"'shaladarpan '!Y259","v":"N"},{"$f":"'shaladarpan '!Z259","v":"N"},{"$f":"'shaladarpan '!AA259","v":"No"},{"$f":"'shaladarpan '!AB259","v":12},{"$f":"'shaladarpan '!AC259","v":"None"},{"$f":"'shaladarpan '!AD259","v":1}]
[{"$f":"IF(F261=\" \",\" \",ROWS($A$3:A261))","v":259},{"$f":"'shaladarpan '!A260","v":8},{"$f":"'shaladarpan '!B260","v":"A"},{"$f":"'shaladarpan '!C260","v":4801},{"$f":"'shaladarpan '!D260","v":"2020-08-13"},{"$f":"'shaladarpan '!E260","v":"manjeet259"},{"$f":"'shaladarpan '!F260","v":"00:00:00"},{"$f":"'shaladarpan '!G260","v":"vijay259"},{"$f":"'shaladarpan '!H260","v":"beautiful259"},{"$f":"'shaladarpan '!I260","v":"M"},{"$f":"'shaladarpan '!J260","v":"2008-09-18"},{"$f":"'shaladarpan '!K260","v":"yes"},{"$f":"'shaladarpan '!L260","v":259},{"$f":"'shaladarpan '!M260","v":0},{"$f":"'shaladarpan '!N260","v":0},{"$f":"'shaladarpan '!O260","v":"SC"},{"$f":"'shaladarpan '!P260","v":"Hindu"},{"$f":"'shaladarpan '!Q260","v":0},{"$f":"'shaladarpan '!R260","v":"GOVT. SENIOR SECONDARY SCHOOL ALNIYAWAS (219445)"},{"$f":"'shaladarpan '!S260","v":8140200308},{"$f":"'shaladarpan '!T260","v":"XXXX3645"},{"$f":"'shaladarpan '!U260","v":0},{"$f":"'shaladarpan '!V260","v":9828120955},{"$f":"'shaladarpan '!W260","v":"alniyawas259"},{"$f":"'shaladarpan '!X260","v":80000},{"$f":"'shaladarpan '!Y260","v":"N"},{"$f":"'shaladarpan '!Z260","v":"N"},{"$f":"'shaladarpan '!AA260","v":"No"},{"$f":"'shaladarpan '!AB260","v":12},{"$f":"'shaladarpan '!AC260","v":"None"},{"$f":"'shaladarpan '!AD260","v":1}]
[{"$f":"IF(F262=\" \",\" \",ROWS($A$3:A262))","v":260},{"$f":"'shaladarpan '!A261","v":8},{"$f":"'shaladarpan '!B261","v":"A"},{"$f":"'shaladarpan '!C261","v":4057},{"$f":"'shaladarpan '!D261","v":"2015-07-15"},{"$f":"'shaladarpan '!E261","v":"manjeet260"},{"$f":"'shaladarpan '!F261","v":"00:00:00"},{"$f":"'shaladarpan '!G261","v":"vijay260"},{"$f":"'shaladarpan '!H261","v":"beautiful260"},{"$f":"'shaladarpan '!I261","v":"M"},{"$f":"'shaladarpan '!J261","v":"2007-06-18"},{"$f":"'shaladarpan '!K261","v":"yes"},{"$f":"'shaladarpan '!L261","v":260},{"$f":"'shaladarpan '!M261","v":0},{"$f":"'shaladarpan '!N261","v":0},{"$f":"'shaladarpan '!O261","v":"SC"},{"$f":"'shaladarpan '!P261","v":"Hindu"},{"$f":"'shaladarpan '!Q261","v":0},{"$f":"'shaladarpan '!R261","v":"GOVT. SENIOR SECONDARY SCHOOL ALNIYAWAS (219445)"},{"$f":"'shaladarpan '!S261","v":8140200308},{"$f":"'shaladarpan '!T261","v":"XXXX9730"},{"$f":"'shaladarpan '!U261","v":0},{"$f":"'shaladarpan '!V261","v":9828120956},{"$f":"'shaladarpan '!W261","v":"alniyawas260"},{"$f":"'shaladarpan '!X261","v":0},{"$f":"'shaladarpan '!Y261","v":"N"},{"$f":"'shaladarpan '!Z261","v":"N"},{"$f":"'shaladarpan '!AA261","v":"No"},{"$f":"'shaladarpan '!AB261","v":13},{"$f":"'shaladarpan '!AC261","v":"None"},{"$f":"'shaladarpan '!AD261","v":1}]
[{"$f":"IF(F263=\" \",\" \",ROWS($A$3:A263))","v":261},{"$f":"'shaladarpan '!A262","v":8},{"$f":"'shaladarpan '!B262","v":"A"},{"$f":"'shaladarpan '!C262","v":4421},{"$f":"'shaladarpan '!D262","v":"2017-07-19"},{"$f":"'shaladarpan '!E262","v":"manjeet261"},{"$f":"'shaladarpan '!F262","v":"00:00:00"},{"$f":"'shaladarpan '!G262","v":"vijay261"},{"$f":"'shaladarpan '!H262","v":"beautiful261"},{"$f":"'shaladarpan '!I262","v":"M"},{"$f":"'shaladarpan '!J262","v":"2005-07-17"},{"$f":"'shaladarpan '!K262","v":"no"},{"$f":"'shaladarpan '!L262","v":261},{"$f":"'shaladarpan '!M262","v":0},{"$f":"'shaladarpan '!N262","v":0},{"$f":"'shaladarpan '!O262","v":"OBC"},{"$f":"'shaladarpan '!P262","v":"Hindu"},{"$f":"'shaladarpan '!Q262","v":0},{"$f":"'shaladarpan '!R262","v":"GOVT. SENIOR SECONDARY SCHOOL ALNIYAWAS (219445)"},{"$f":"'shaladarpan '!S262","v":8140200308},{"$f":"'shaladarpan '!T262","v":0},{"$f":"'shaladarpan '!U262","v":0},{"$f":"'shaladarpan '!V262","v":9828120957},{"$f":"'shaladarpan '!W262","v":"alniyawas261"},{"$f":"'shaladarpan '!X262","v":0},{"$f":"'shaladarpan '!Y262","v":"N"},{"$f":"'shaladarpan '!Z262","v":"N"},{"$f":"'shaladarpan '!AA262","v":"No"},{"$f":"'shaladarpan '!AB262","v":15},{"$f":"'shaladarpan '!AC262","v":"None"},{"$f":"'shaladarpan '!AD262","v":1}]
[{"$f":"IF(F264=\" \",\" \",ROWS($A$3:A264))","v":262},{"$f":"'shaladarpan '!A263","v":8},{"$f":"'shaladarpan '!B263","v":"A"},{"$f":"'shaladarpan '!C263","v":3892},{"$f":"'shaladarpan '!D263","v":"2015-05-11"},{"$f":"'shaladarpan '!E263","v":"manjeet262"},{"$f":"'shaladarpan '!F263","v":"00:00:00"},{"$f":"'shaladarpan '!G263","v":"vijay262"},{"$f":"'shaladarpan '!H263","v":"beautiful262"},{"$f":"'shaladarpan '!I263","v":"M"},{"$f":"'shaladarpan '!J263","v":"2005-10-12"},{"$f":"'shaladarpan '!K263","v":"yes"},{"$f":"'shaladarpan '!L263","v":262},{"$f":"'shaladarpan '!M263","v":0},{"$f":"'shaladarpan '!N263","v":0},{"$f":"'shaladarpan '!O263","v":"SC"},{"$f":"'shaladarpan '!P263","v":"Hindu"},{"$f":"'shaladarpan '!Q263","v":0},{"$f":"'shaladarpan '!R263","v":"GOVT. SENIOR SECONDARY SCHOOL ALNIYAWAS (219445)"},{"$f":"'shaladarpan '!S263","v":8140200308},{"$f":"'shaladarpan '!T263","v":"XXXX1383"},{"$f":"'shaladarpan '!U263","v":0},{"$f":"'shaladarpan '!V263","v":9828120958},{"$f":"'shaladarpan '!W263","v":"alniyawas262"},{"$f":"'shaladarpan '!X263","v":0},{"$f":"'shaladarpan '!Y263","v":"N"},{"$f":"'shaladarpan '!Z263","v":"N"},{"$f":"'shaladarpan '!AA263","v":"No"},{"$f":"'shaladarpan '!AB263","v":15},{"$f":"'shaladarpan '!AC263","v":"None"},{"$f":"'shaladarpan '!AD263","v":1}]
[{"$f":"IF(F265=\" \",\" \",ROWS($A$3:A265))","v":263},{"$f":"'shaladarpan '!A264","v":8},{"$f":"'shaladarpan '!B264","v":"A"},{"$f":"'shaladarpan '!C264","v":3884},{"$f":"'shaladarpan '!D264","v":"2015-05-11"},{"$f":"'shaladarpan '!E264","v":"manjeet263"},{"$f":"'shaladarpan '!F264","v":"00:00:00"},{"$f":"'shaladarpan '!G264","v":"vijay263"},{"$f":"'shaladarpan '!H264","v":"beautiful263"},{"$f":"'shaladarpan '!I264","v":"M"},{"$f":"'shaladarpan '!J264","v":"2007-08-05"},{"$f":"'shaladarpan '!K264","v":"yes"},{"$f":"'shaladarpan '!L264","v":263},{"$f":"'shaladarpan '!M264","v":0},{"$f":"'shaladarpan '!N264","v":0},{"$f":"'shaladarpan '!O264","v":"SC"},{"$f":"'shaladarpan '!P264","v":"Hindu"},{"$f":"'shaladarpan '!Q264","v":0},{"$f":"'shaladarpan '!R264","v":"GOVT. SENIOR SECONDARY SCHOOL ALNIYAWAS (219445)"},{"$f":"'shaladarpan '!S264","v":8140200308},{"$f":"'shaladarpan '!T264","v":"XXXX4735"},{"$f":"'shaladarpan '!U264","v":0},{"$f":"'shaladarpan '!V264","v":9828120959},{"$f":"'shaladarpan '!W264","v":"alniyawas263"},{"$f":"'shaladarpan '!X264","v":0},{"$f":"'shaladarpan '!Y264","v":"N"},{"$f":"'shaladarpan '!Z264","v":"N"},{"$f":"'shaladarpan '!AA264","v":"No"},{"$f":"'shaladarpan '!AB264","v":13},{"$f":"'shaladarpan '!AC264","v":"None"},{"$f":"'shaladarpan '!AD264","v":1}]
[{"$f":"IF(F266=\" \",\" \",ROWS($A$3:A266))","v":264},{"$f":"'shaladarpan '!A265","v":8},{"$f":"'shaladarpan '!B265","v":"A"},{"$f":"'shaladarpan '!C265","v":4169},{"$f":"'shaladarpan '!D265","v":"2016-07-04"},{"$f":"'shaladarpan '!E265","v":"manjeet264"},{"$f":"'shaladarpan '!F265","v":"00:00:00"},{"$f":"'shaladarpan '!G265","v":"vijay264"},{"$f":"'shaladarpan '!H265","v":"beautiful264"},{"$f":"'shaladarpan '!I265","v":"M"},{"$f":"'shaladarpan '!J265","v":"2008-10-20"},{"$f":"'shaladarpan '!K265","v":"no"},{"$f":"'shaladarpan '!L265","v":264},{"$f":"'shaladarpan '!M265","v":0},{"$f":"'shaladarpan '!N265","v":0},{"$f":"'shaladarpan '!O265","v":"SC"},{"$f":"'shaladarpan '!P265","v":"Hindu"},{"$f":"'shaladarpan '!Q265","v":0},{"$f":"'shaladarpan '!R265","v":"GOVT. SENIOR SECONDARY SCHOOL ALNIYAWAS (219445)"},{"$f":"'shaladarpan '!S265","v":8140200308},{"$f":"'shaladarpan '!T265","v":"XXXX2071"},{"$f":"'shaladarpan '!U265","v":0},{"$f":"'shaladarpan '!V265","v":9828120960},{"$f":"'shaladarpan '!W265","v":"alniyawas264"},{"$f":"'shaladarpan '!X265","v":0},{"$f":"'shaladarpan '!Y265","v":"N"},{"$f":"'shaladarpan '!Z265","v":"N"},{"$f":"'shaladarpan '!AA265","v":"No"},{"$f":"'shaladarpan '!AB265","v":12},{"$f":"'shaladarpan '!AC265","v":"None"},{"$f":"'shaladarpan '!AD265","v":1}]
[{"$f":"IF(F267=\" \",\" \",ROWS($A$3:A267))","v":265},{"$f":"'shaladarpan '!A266","v":8},{"$f":"'shaladarpan '!B266","v":"A"},{"$f":"'shaladarpan '!C266","v":4576},{"$f":"'shaladarpan '!D266","v":"2018-07-16"},{"$f":"'shaladarpan '!E266","v":"manjeet265"},{"$f":"'shaladarpan '!F266","v":"00:00:00"},{"$f":"'shaladarpan '!G266","v":"vijay265"},{"$f":"'shaladarpan '!H266","v":"beautiful265"},{"$f":"'shaladarpan '!I266","v":"F"},{"$f":"'shaladarpan '!J266","v":"2009-09-10"},{"$f":"'shaladarpan '!K266","v":"yes"},{"$f":"'shaladarpan '!L266","v":265},{"$f":"'shaladarpan '!M266","v":0},{"$f":"'shaladarpan '!N266","v":0},{"$f":"'shaladarpan '!O266","v":"OBC"},{"$f":"'shaladarpan '!P266","v":"Hindu"},{"$f":"'shaladarpan '!Q266","v":0},{"$f":"'shaladarpan '!R266","v":"GOVT. SENIOR SECONDARY SCHOOL ALNIYAWAS (219445)"},{"$f":"'shaladarpan '!S266","v":8140200308},{"$f":"'shaladarpan '!T266","v":"XXXX5591"},{"$f":"'shaladarpan '!U266","v":"YOEISWF"},{"$f":"'shaladarpan '!V266","v":9828120961},{"$f":"'shaladarpan '!W266","v":"alniyawas265"},{"$f":"'shaladarpan '!X266","v":40000},{"$f":"'shaladarpan '!Y266","v":"N"},{"$f":"'shaladarpan '!Z266","v":"N"},{"$f":"'shaladarpan '!AA266","v":"No"},{"$f":"'shaladarpan '!AB266","v":11},{"$f":"'shaladarpan '!AC266","v":"None"},{"$f":"'shaladarpan '!AD266","v":3}]
[{"$f":"IF(F268=\" \",\" \",ROWS($A$3:A268))","v":266},{"$f":"'shaladarpan '!A267","v":8},{"$f":"'shaladarpan '!B267","v":"A"},{"$f":"'shaladarpan '!C267","v":4452},{"$f":"'shaladarpan '!D267","v":"2018-07-02"},{"$f":"'shaladarpan '!E267","v":"manjeet266"},{"$f":"'shaladarpan '!F267","v":"00:00:00"},{"$f":"'shaladarpan '!G267","v":"vijay266"},{"$f":"'shaladarpan '!H267","v":"beautiful266"},{"$f":"'shaladarpan '!I267","v":"F"},{"$f":"'shaladarpan '!J267","v":"2006-05-15"},{"$f":"'shaladarpan '!K267","v":"yes"},{"$f":"'shaladarpan '!L267","v":266},{"$f":"'shaladarpan '!M267","v":0},{"$f":"'shaladarpan '!N267","v":0},{"$f":"'shaladarpan '!O267","v":"GEN"},{"$f":"'shaladarpan '!P267","v":"Hindu"},{"$f":"'shaladarpan '!Q267","v":0},{"$f":"'shaladarpan '!R267","v":"GOVT. SENIOR SECONDARY SCHOOL ALNIYAWAS (219445)"},{"$f":"'shaladarpan '!S267","v":8140200308},{"$f":"'shaladarpan '!T267","v":"XXXX6101"},{"$f":"'shaladarpan '!U267","v":0},{"$f":"'shaladarpan '!V267","v":9828120962},{"$f":"'shaladarpan '!W267","v":"alniyawas266"},{"$f":"'shaladarpan '!X267","v":40000},{"$f":"'shaladarpan '!Y267","v":"N"},{"$f":"'shaladarpan '!Z267","v":"N"},{"$f":"'shaladarpan '!AA267","v":"No"},{"$f":"'shaladarpan '!AB267","v":14},{"$f":"'shaladarpan '!AC267","v":"None"},{"$f":"'shaladarpan '!AD267","v":5}]
[{"$f":"IF(F269=\" \",\" \",ROWS($A$3:A269))","v":267},{"$f":"'shaladarpan '!A268","v":8},{"$f":"'shaladarpan '!B268","v":"A"},{"$f":"'shaladarpan '!C268","v":3895},{"$f":"'shaladarpan '!D268","v":"2015-05-11"},{"$f":"'shaladarpan '!E268","v":"manjeet267"},{"$f":"'shaladarpan '!F268","v":"00:00:00"},{"$f":"'shaladarpan '!G268","v":"vijay267"},{"$f":"'shaladarpan '!H268","v":"beautiful267"},{"$f":"'shaladarpan '!I268","v":"M"},{"$f":"'shaladarpan '!J268","v":"2006-07-05"},{"$f":"'shaladarpan '!K268","v":"no"},{"$f":"'shaladarpan '!L268","v":267},{"$f":"'shaladarpan '!M268","v":0},{"$f":"'shaladarpan '!N268","v":0},{"$f":"'shaladarpan '!O268","v":"SC"},{"$f":"'shaladarpan '!P268","v":"Hindu"},{"$f":"'shaladarpan '!Q268","v":0},{"$f":"'shaladarpan '!R268","v":"GOVT. SENIOR SECONDARY SCHOOL ALNIYAWAS (219445)"},{"$f":"'shaladarpan '!S268","v":8140200308},{"$f":"'shaladarpan '!T268","v":"XXXX6149"},{"$f":"'shaladarpan '!U268","v":0},{"$f":"'shaladarpan '!V268","v":9828120963},{"$f":"'shaladarpan '!W268","v":"alniyawas267"},{"$f":"'shaladarpan '!X268","v":0},{"$f":"'shaladarpan '!Y268","v":"N"},{"$f":"'shaladarpan '!Z268","v":"N"},{"$f":"'shaladarpan '!AA268","v":"No"},{"$f":"'shaladarpan '!AB268","v":14},{"$f":"'shaladarpan '!AC268","v":"None"},{"$f":"'shaladarpan '!AD268","v":1}]
[{"$f":"IF(F270=\" \",\" \",ROWS($A$3:A270))","v":268},{"$f":"'shaladarpan '!A269","v":8},{"$f":"'shaladarpan '!B269","v":"A"},{"$f":"'shaladarpan '!C269","v":4485},{"$f":"'shaladarpan '!D269","v":"2018-07-04"},{"$f":"'shaladarpan '!E269","v":"manjeet268"},{"$f":"'shaladarpan '!F269","v":"00:00:00"},{"$f":"'shaladarpan '!G269","v":"vijay268"},{"$f":"'shaladarpan '!H269","v":"beautiful268"},{"$f":"'shaladarpan '!I269","v":"M"},{"$f":"'shaladarpan '!J269","v":"2007-10-26"},{"$f":"'shaladarpan '!K269","v":"yes"},{"$f":"'shaladarpan '!L269","v":268},{"$f":"'shaladarpan '!M269","v":0},{"$f":"'shaladarpan '!N269","v":0},{"$f":"'shaladarpan '!O269","v":"GEN"},{"$f":"'shaladarpan '!P269","v":"Hindu"},{"$f":"'shaladarpan '!Q269","v":0},{"$f":"'shaladarpan '!R269","v":"GOVT. SENIOR SECONDARY SCHOOL ALNIYAWAS (219445)"},{"$f":"'shaladarpan '!S269","v":8140200308},{"$f":"'shaladarpan '!T269","v":"XXXX0484"},{"$f":"'shaladarpan '!U269","v":"YMFKEMC"},{"$f":"'shaladarpan '!V269","v":9828120964},{"$f":"'shaladarpan '!W269","v":"alniyawas268"},{"$f":"'shaladarpan '!X269","v":36000},{"$f":"'shaladarpan '!Y269","v":"N"},{"$f":"'shaladarpan '!Z269","v":"N"},{"$f":"'shaladarpan '!AA269","v":"No"},{"$f":"'shaladarpan '!AB269","v":13},{"$f":"'shaladarpan '!AC269","v":"None"},{"$f":"'shaladarpan '!AD269","v":5}]
[{"$f":"IF(F271=\" \",\" \",ROWS($A$3:A271))","v":269},{"$f":"'shaladarpan '!A270","v":8},{"$f":"'shaladarpan '!B270","v":"A"},{"$f":"'shaladarpan '!C270","v":4709},{"$f":"'shaladarpan '!D270","v":"2019-07-10"},{"$f":"'shaladarpan '!E270","v":"manjeet269"},{"$f":"'shaladarpan '!F270","v":"00:00:00"},{"$f":"'shaladarpan '!G270","v":"vijay269"},{"$f":"'shaladarpan '!H270","v":"beautiful269"},{"$f":"'shaladarpan '!I270","v":"M"},{"$f":"'shaladarpan '!J270","v":"2008-04-01"},{"$f":"'shaladarpan '!K270","v":"yes"},{"$f":"'shaladarpan '!L270","v":269},{"$f":"'shaladarpan '!M270","v":0},{"$f":"'shaladarpan '!N270","v":0},{"$f":"'shaladarpan '!O270","v":"SBC"},{"$f":"'shaladarpan '!P270","v":"Hindu"},{"$f":"'shaladarpan '!Q270","v":0},{"$f":"'shaladarpan '!R270","v":"GOVT. SENIOR SECONDARY SCHOOL ALNIYAWAS (219445)"},{"$f":"'shaladarpan '!S270","v":8140200308},{"$f":"'shaladarpan '!T270","v":"XXXX9571"},{"$f":"'shaladarpan '!U270","v":"ydbigww"},{"$f":"'shaladarpan '!V270","v":9828120965},{"$f":"'shaladarpan '!W270","v":"alniyawas269"},{"$f":"'shaladarpan '!X270","v":40000},{"$f":"'shaladarpan '!Y270","v":"N"},{"$f":"'shaladarpan '!Z270","v":"N"},{"$f":"'shaladarpan '!AA270","v":"No"},{"$f":"'shaladarpan '!AB270","v":12},{"$f":"'shaladarpan '!AC270","v":"None"},{"$f":"'shaladarpan '!AD270","v":1}]
[{"$f":"IF(F272=\" \",\" \",ROWS($A$3:A272))","v":270},{"$f":"'shaladarpan '!A271","v":8},{"$f":"'shaladarpan '!B271","v":"A"},{"$f":"'shaladarpan '!C271","v":3887},{"$f":"'shaladarpan '!D271","v":"2015-05-11"},{"$f":"'shaladarpan '!E271","v":"manjeet270"},{"$f":"'shaladarpan '!F271","v":"00:00:00"},{"$f":"'shaladarpan '!G271","v":"vijay270"},{"$f":"'shaladarpan '!H271","v":"beautiful270"},{"$f":"'shaladarpan '!I271","v":"F"},{"$f":"'shaladarpan '!J271","v":"2007-05-07"},{"$f":"'shaladarpan '!K271","v":"no"},{"$f":"'shaladarpan '!L271","v":270},{"$f":"'shaladarpan '!M271","v":0},{"$f":"'shaladarpan '!N271","v":0},{"$f":"'shaladarpan '!O271","v":"GEN"},{"$f":"'shaladarpan '!P271","v":"Hindu"},{"$f":"'shaladarpan '!Q271","v":0},{"$f":"'shaladarpan '!R271","v":"GOVT. SENIOR SECONDARY SCHOOL ALNIYAWAS (219445)"},{"$f":"'shaladarpan '!S271","v":8140200308},{"$f":"'shaladarpan '!T271","v":"XXXX5823"},{"$f":"'shaladarpan '!U271","v":0},{"$f":"'shaladarpan '!V271","v":9828120966},{"$f":"'shaladarpan '!W271","v":"alniyawas270"},{"$f":"'shaladarpan '!X271","v":0},{"$f":"'shaladarpan '!Y271","v":"N"},{"$f":"'shaladarpan '!Z271","v":"N"},{"$f":"'shaladarpan '!AA271","v":"No"},{"$f":"'shaladarpan '!AB271","v":13},{"$f":"'shaladarpan '!AC271","v":"None"},{"$f":"'shaladarpan '!AD271","v":1}]
[{"$f":"IF(F273=\" \",\" \",ROWS($A$3:A273))","v":271},{"$f":"'shaladarpan '!A272","v":8},{"$f":"'shaladarpan '!B272","v":"A"},{"$f":"'shaladarpan '!C272","v":4486},{"$f":"'shaladarpan '!D272","v":"2018-07-04"},{"$f":"'shaladarpan '!E272","v":"manjeet271"},{"$f":"'shaladarpan '!F272","v":"00:00:00"},{"$f":"'shaladarpan '!G272","v":"vijay271"},{"$f":"'shaladarpan '!H272","v":"beautiful271"},{"$f":"'shaladarpan '!I272","v":"F"},{"$f":"'shaladarpan '!J272","v":"2004-10-06"},{"$f":"'shaladarpan '!K272","v":"yes"},{"$f":"'shaladarpan '!L272","v":271},{"$f":"'shaladarpan '!M272","v":0},{"$f":"'shaladarpan '!N272","v":0},{"$f":"'shaladarpan '!O272","v":"OBC"},{"$f":"'shaladarpan '!P272","v":"Hindu"},{"$f":"'shaladarpan '!Q272","v":0},{"$f":"'shaladarpan '!R272","v":"GOVT. SENIOR SECONDARY SCHOOL ALNIYAWAS (219445)"},{"$f":"'shaladarpan '!S272","v":8140200308},{"$f":"'shaladarpan '!T272","v":"XXXX4559"},{"$f":"'shaladarpan '!U272","v":"YQQKCGB"},{"$f":"'shaladarpan '!V272","v":9828120967},{"$f":"'shaladarpan '!W272","v":"alniyawas271"},{"$f":"'shaladarpan '!X272","v":40000},{"$f":"'shaladarpan '!Y272","v":"N"},{"$f":"'shaladarpan '!Z272","v":"N"},{"$f":"'shaladarpan '!AA272","v":"No"},{"$f":"'shaladarpan '!AB272","v":16},{"$f":"'shaladarpan '!AC272","v":"None"},{"$f":"'shaladarpan '!AD272","v":3}]
[{"$f":"IF(F274=\" \",\" \",ROWS($A$3:A274))","v":272},{"$f":"'shaladarpan '!A273","v":8},{"$f":"'shaladarpan '!B273","v":"A"},{"$f":"'shaladarpan '!C273","v":4321},{"$f":"'shaladarpan '!D273","v":"2017-07-04"},{"$f":"'shaladarpan '!E273","v":"manjeet272"},{"$f":"'shaladarpan '!F273","v":"00:00:00"},{"$f":"'shaladarpan '!G273","v":"vijay272"},{"$f":"'shaladarpan '!H273","v":"beautiful272"},{"$f":"'shaladarpan '!I273","v":"F"},{"$f":"'shaladarpan '!J273","v":"2006-12-26"},{"$f":"'shaladarpan '!K273","v":"yes"},{"$f":"'shaladarpan '!L273","v":272},{"$f":"'shaladarpan '!M273","v":0},{"$f":"'shaladarpan '!N273","v":0},{"$f":"'shaladarpan '!O273","v":"OBC"},{"$f":"'shaladarpan '!P273","v":"Hindu"},{"$f":"'shaladarpan '!Q273","v":0},{"$f":"'shaladarpan '!R273","v":"GOVT. SENIOR SECONDARY SCHOOL ALNIYAWAS (219445)"},{"$f":"'shaladarpan '!S273","v":8140200308},{"$f":"'shaladarpan '!T273","v":"XXXX1497"},{"$f":"'shaladarpan '!U273","v":0},{"$f":"'shaladarpan '!V273","v":9828120968},{"$f":"'shaladarpan '!W273","v":"alniyawas272"},{"$f":"'shaladarpan '!X273","v":0},{"$f":"'shaladarpan '!Y273","v":"N"},{"$f":"'shaladarpan '!Z273","v":"N"},{"$f":"'shaladarpan '!AA273","v":"No"},{"$f":"'shaladarpan '!AB273","v":14},{"$f":"'shaladarpan '!AC273","v":"None"},{"$f":"'shaladarpan '!AD273","v":2}]
[{"$f":"IF(F275=\" \",\" \",ROWS($A$3:A275))","v":273},{"$f":"'shaladarpan '!A274","v":8},{"$f":"'shaladarpan '!B274","v":"A"},{"$f":"'shaladarpan '!C274","v":4783},{"$f":"'shaladarpan '!D274","v":"2019-08-27"},{"$f":"'shaladarpan '!E274","v":"manjeet273"},{"$f":"'shaladarpan '!F274","v":"00:00:00"},{"$f":"'shaladarpan '!G274","v":"vijay273"},{"$f":"'shaladarpan '!H274","v":"beautiful273"},{"$f":"'shaladarpan '!I274","v":"F"},{"$f":"'shaladarpan '!J274","v":"2009-10-01"},{"$f":"'shaladarpan '!K274","v":"no"},{"$f":"'shaladarpan '!L274","v":273},{"$f":"'shaladarpan '!M274","v":0},{"$f":"'shaladarpan '!N274","v":0},{"$f":"'shaladarpan '!O274","v":"OBC"},{"$f":"'shaladarpan '!P274","v":"Hindu"},{"$f":"'shaladarpan '!Q274","v":0},{"$f":"'shaladarpan '!R274","v":"GOVT. SENIOR SECONDARY SCHOOL ALNIYAWAS (219445)"},{"$f":"'shaladarpan '!S274","v":8140200308},{"$f":"'shaladarpan '!T274","v":0},{"$f":"'shaladarpan '!U274","v":0},{"$f":"'shaladarpan '!V274","v":9828120969},{"$f":"'shaladarpan '!W274","v":"alniyawas273"},{"$f":"'shaladarpan '!X274","v":60000},{"$f":"'shaladarpan '!Y274","v":"N"},{"$f":"'shaladarpan '!Z274","v":"N"},{"$f":"'shaladarpan '!AA274","v":"No"},{"$f":"'shaladarpan '!AB274","v":11},{"$f":"'shaladarpan '!AC274","v":"None"},{"$f":"'shaladarpan '!AD274","v":7}]
[{"$f":"IF(F276=\" \",\" \",ROWS($A$3:A276))","v":274},{"$f":"'shaladarpan '!A275","v":8},{"$f":"'shaladarpan '!B275","v":"A"},{"$f":"'shaladarpan '!C275","v":4713},{"$f":"'shaladarpan '!D275","v":"2015-08-20"},{"$f":"'shaladarpan '!E275","v":"manjeet274"},{"$f":"'shaladarpan '!F275","v":"00:00:00"},{"$f":"'shaladarpan '!G275","v":"vijay274"},{"$f":"'shaladarpan '!H275","v":"beautiful274"},{"$f":"'shaladarpan '!I275","v":"F"},{"$f":"'shaladarpan '!J275","v":"2007-12-10"},{"$f":"'shaladarpan '!K275","v":"yes"},{"$f":"'shaladarpan '!L275","v":274},{"$f":"'shaladarpan '!M275","v":0},{"$f":"'shaladarpan '!N275","v":0},{"$f":"'shaladarpan '!O275","v":"OBC"},{"$f":"'shaladarpan '!P275","v":"Hindu"},{"$f":"'shaladarpan '!Q275","v":0},{"$f":"'shaladarpan '!R275","v":"GOVT. SENIOR SECONDARY SCHOOL ALNIYAWAS (219445)"},{"$f":"'shaladarpan '!S275","v":8140200308},{"$f":"'shaladarpan '!T275","v":"XXXX5334"},{"$f":"'shaladarpan '!U275","v":"YMKBDUC"},{"$f":"'shaladarpan '!V275","v":9828120970},{"$f":"'shaladarpan '!W275","v":"alniyawas274"},{"$f":"'shaladarpan '!X275","v":40000},{"$f":"'shaladarpan '!Y275","v":"N"},{"$f":"'shaladarpan '!Z275","v":"N"},{"$f":"'shaladarpan '!AA275","v":"No"},{"$f":"'shaladarpan '!AB275","v":13},{"$f":"'shaladarpan '!AC275","v":"None"},{"$f":"'shaladarpan '!AD275","v":2}]
[{"$f":"IF(F277=\" \",\" \",ROWS($A$3:A277))","v":275},{"$f":"'shaladarpan '!A276","v":8},{"$f":"'shaladarpan '!B276","v":"A"},{"$f":"'shaladarpan '!C276","v":4484},{"$f":"'shaladarpan '!D276","v":"2018-07-04"},{"$f":"'shaladarpan '!E276","v":"manjeet275"},{"$f":"'shaladarpan '!F276","v":"00:00:00"},{"$f":"'shaladarpan '!G276","v":"vijay275"},{"$f":"'shaladarpan '!H276","v":"beautiful275"},{"$f":"'shaladarpan '!I276","v":"F"},{"$f":"'shaladarpan '!J276","v":"2007-01-13"},{"$f":"'shaladarpan '!K276","v":"yes"},{"$f":"'shaladarpan '!L276","v":275},{"$f":"'shaladarpan '!M276","v":0},{"$f":"'shaladarpan '!N276","v":0},{"$f":"'shaladarpan '!O276","v":"OBC"},{"$f":"'shaladarpan '!P276","v":"Hindu"},{"$f":"'shaladarpan '!Q276","v":0},{"$f":"'shaladarpan '!R276","v":"GOVT. SENIOR SECONDARY SCHOOL ALNIYAWAS (219445)"},{"$f":"'shaladarpan '!S276","v":8140200308},{"$f":"'shaladarpan '!T276","v":"XXXX9111"},{"$f":"'shaladarpan '!U276","v":0},{"$f":"'shaladarpan '!V276","v":9828120971},{"$f":"'shaladarpan '!W276","v":"alniyawas275"},{"$f":"'shaladarpan '!X276","v":72000},{"$f":"'shaladarpan '!Y276","v":"N"},{"$f":"'shaladarpan '!Z276","v":"N"},{"$f":"'shaladarpan '!AA276","v":"No"},{"$f":"'shaladarpan '!AB276","v":13},{"$f":"'shaladarpan '!AC276","v":"None"},{"$f":"'shaladarpan '!AD276","v":3}]
[{"$f":"IF(F278=\" \",\" \",ROWS($A$3:A278))","v":276},{"$f":"'shaladarpan '!A277","v":8},{"$f":"'shaladarpan '!B277","v":"A"},{"$f":"'shaladarpan '!C277","v":4272},{"$f":"'shaladarpan '!D277","v":"2017-06-28"},{"$f":"'shaladarpan '!E277","v":"manjeet276"},{"$f":"'shaladarpan '!F277","v":"00:00:00"},{"$f":"'shaladarpan '!G277","v":"vijay276"},{"$f":"'shaladarpan '!H277","v":"beautiful276"},{"$f":"'shaladarpan '!I277","v":"M"},{"$f":"'shaladarpan '!J277","v":"2006-12-10"},{"$f":"'shaladarpan '!K277","v":"no"},{"$f":"'shaladarpan '!L277","v":276},{"$f":"'shaladarpan '!M277","v":0},{"$f":"'shaladarpan '!N277","v":0},{"$f":"'shaladarpan '!O277","v":"GEN"},{"$f":"'shaladarpan '!P277","v":"Hindu"},{"$f":"'shaladarpan '!Q277","v":0},{"$f":"'shaladarpan '!R277","v":"GOVT. SENIOR SECONDARY SCHOOL ALNIYAWAS (219445)"},{"$f":"'shaladarpan '!S277","v":8140200308},{"$f":"'shaladarpan '!T277","v":"XXXX4307"},{"$f":"'shaladarpan '!U277","v":0},{"$f":"'shaladarpan '!V277","v":9828120972},{"$f":"'shaladarpan '!W277","v":"alniyawas276"},{"$f":"'shaladarpan '!X277","v":0},{"$f":"'shaladarpan '!Y277","v":"N"},{"$f":"'shaladarpan '!Z277","v":"N"},{"$f":"'shaladarpan '!AA277","v":"No"},{"$f":"'shaladarpan '!AB277","v":14},{"$f":"'shaladarpan '!AC277","v":"None"},{"$f":"'shaladarpan '!AD277","v":1}]
[{"$f":"IF(F279=\" \",\" \",ROWS($A$3:A279))","v":277},{"$f":"'shaladarpan '!A278","v":8},{"$f":"'shaladarpan '!B278","v":"A"},{"$f":"'shaladarpan '!C278","v":3863},{"$f":"'shaladarpan '!D278","v":"2015-05-11"},{"$f":"'shaladarpan '!E278","v":"manjeet277"},{"$f":"'shaladarpan '!F278","v":"00:00:00"},{"$f":"'shaladarpan '!G278","v":"vijay277"},{"$f":"'shaladarpan '!H278","v":"beautiful277"},{"$f":"'shaladarpan '!I278","v":"M"},{"$f":"'shaladarpan '!J278","v":"2007-05-02"},{"$f":"'shaladarpan '!K278","v":"yes"},{"$f":"'shaladarpan '!L278","v":277},{"$f":"'shaladarpan '!M278","v":0},{"$f":"'shaladarpan '!N278","v":0},{"$f":"'shaladarpan '!O278","v":"SC"},{"$f":"'shaladarpan '!P278","v":"Hindu"},{"$f":"'shaladarpan '!Q278","v":0},{"$f":"'shaladarpan '!R278","v":"GOVT. SENIOR SECONDARY SCHOOL ALNIYAWAS (219445)"},{"$f":"'shaladarpan '!S278","v":8140200308},{"$f":"'shaladarpan '!T278","v":"XXXX7955"},{"$f":"'shaladarpan '!U278","v":0},{"$f":"'shaladarpan '!V278","v":9828120973},{"$f":"'shaladarpan '!W278","v":"alniyawas277"},{"$f":"'shaladarpan '!X278","v":0},{"$f":"'shaladarpan '!Y278","v":"N"},{"$f":"'shaladarpan '!Z278","v":"N"},{"$f":"'shaladarpan '!AA278","v":"No"},{"$f":"'shaladarpan '!AB278","v":13},{"$f":"'shaladarpan '!AC278","v":"None"},{"$f":"'shaladarpan '!AD278","v":1}]
[{"$f":"IF(F280=\" \",\" \",ROWS($A$3:A280))","v":278},{"$f":"'shaladarpan '!A279","v":8},{"$f":"'shaladarpan '!B279","v":"A"},{"$f":"'shaladarpan '!C279","v":4651},{"$f":"'shaladarpan '!D279","v":"2019-07-05"},{"$f":"'shaladarpan '!E279","v":"manjeet278"},{"$f":"'shaladarpan '!F279","v":"00:00:00"},{"$f":"'shaladarpan '!G279","v":"vijay278"},{"$f":"'shaladarpan '!H279","v":"beautiful278"},{"$f":"'shaladarpan '!I279","v":"F"},{"$f":"'shaladarpan '!J279","v":"2007-10-05"},{"$f":"'shaladarpan '!K279","v":"yes"},{"$f":"'shaladarpan '!L279","v":278},{"$f":"'shaladarpan '!M279","v":0},{"$f":"'shaladarpan '!N279","v":0},{"$f":"'shaladarpan '!O279","v":"OBC"},{"$f":"'shaladarpan '!P279","v":"Hindu"},{"$f":"'shaladarpan '!Q279","v":0},{"$f":"'shaladarpan '!R279","v":"GOVT. SENIOR SECONDARY SCHOOL ALNIYAWAS (219445)"},{"$f":"'shaladarpan '!S279","v":8140200308},{"$f":"'shaladarpan '!T279","v":"XXXX5878"},{"$f":"'shaladarpan '!U279","v":"vgbbgzy"},{"$f":"'shaladarpan '!V279","v":9828120974},{"$f":"'shaladarpan '!W279","v":"alniyawas278"},{"$f":"'shaladarpan '!X279","v":100000},{"$f":"'shaladarpan '!Y279","v":"N"},{"$f":"'shaladarpan '!Z279","v":"N"},{"$f":"'shaladarpan '!AA279","v":"No"},{"$f":"'shaladarpan '!AB279","v":13},{"$f":"'shaladarpan '!AC279","v":"None"},{"$f":"'shaladarpan '!AD279","v":4}]
[{"$f":"IF(F281=\" \",\" \",ROWS($A$3:A281))","v":279},{"$f":"'shaladarpan '!A280","v":8},{"$f":"'shaladarpan '!B280","v":"A"},{"$f":"'shaladarpan '!C280","v":4487},{"$f":"'shaladarpan '!D280","v":"2018-07-04"},{"$f":"'shaladarpan '!E280","v":"manjeet279"},{"$f":"'shaladarpan '!F280","v":"00:00:00"},{"$f":"'shaladarpan '!G280","v":"vijay279"},{"$f":"'shaladarpan '!H280","v":"beautiful279"},{"$f":"'shaladarpan '!I280","v":"F"},{"$f":"'shaladarpan '!J280","v":"2005-10-04"},{"$f":"'shaladarpan '!K280","v":"no"},{"$f":"'shaladarpan '!L280","v":279},{"$f":"'shaladarpan '!M280","v":0},{"$f":"'shaladarpan '!N280","v":0},{"$f":"'shaladarpan '!O280","v":"OBC"},{"$f":"'shaladarpan '!P280","v":"Hindu"},{"$f":"'shaladarpan '!Q280","v":0},{"$f":"'shaladarpan '!R280","v":"GOVT. SENIOR SECONDARY SCHOOL ALNIYAWAS (219445)"},{"$f":"'shaladarpan '!S280","v":8140200308},{"$f":"'shaladarpan '!T280","v":"XXXX3354"},{"$f":"'shaladarpan '!U280","v":"YQMESMS"},{"$f":"'shaladarpan '!V280","v":9828120975},{"$f":"'shaladarpan '!W280","v":"alniyawas279"},{"$f":"'shaladarpan '!X280","v":45000},{"$f":"'shaladarpan '!Y280","v":"N"},{"$f":"'shaladarpan '!Z280","v":"N"},{"$f":"'shaladarpan '!AA280","v":"No"},{"$f":"'shaladarpan '!AB280","v":15},{"$f":"'shaladarpan '!AC280","v":"None"},{"$f":"'shaladarpan '!AD280","v":3}]
[{"$f":"IF(F282=\" \",\" \",ROWS($A$3:A282))","v":280},{"$f":"'shaladarpan '!A281","v":8},{"$f":"'shaladarpan '!B281","v":"A"},{"$f":"'shaladarpan '!C281","v":3878},{"$f":"'shaladarpan '!D281","v":"2015-05-11"},{"$f":"'shaladarpan '!E281","v":"manjeet280"},{"$f":"'shaladarpan '!F281","v":"00:00:00"},{"$f":"'shaladarpan '!G281","v":"vijay280"},{"$f":"'shaladarpan '!H281","v":"beautiful280"},{"$f":"'shaladarpan '!I281","v":"F"},{"$f":"'shaladarpan '!J281","v":"2007-07-05"},{"$f":"'shaladarpan '!K281","v":"yes"},{"$f":"'shaladarpan '!L281","v":280},{"$f":"'shaladarpan '!M281","v":0},{"$f":"'shaladarpan '!N281","v":0},{"$f":"'shaladarpan '!O281","v":"SC"},{"$f":"'shaladarpan '!P281","v":"Hindu"},{"$f":"'shaladarpan '!Q281","v":0},{"$f":"'shaladarpan '!R281","v":"GOVT. SENIOR SECONDARY SCHOOL ALNIYAWAS (219445)"},{"$f":"'shaladarpan '!S281","v":8140200308},{"$f":"'shaladarpan '!T281","v":"XXXX6574"},{"$f":"'shaladarpan '!U281","v":0},{"$f":"'shaladarpan '!V281","v":9828120976},{"$f":"'shaladarpan '!W281","v":"alniyawas280"},{"$f":"'shaladarpan '!X281","v":0},{"$f":"'shaladarpan '!Y281","v":"N"},{"$f":"'shaladarpan '!Z281","v":"N"},{"$f":"'shaladarpan '!AA281","v":"No"},{"$f":"'shaladarpan '!AB281","v":13},{"$f":"'shaladarpan '!AC281","v":"None"},{"$f":"'shaladarpan '!AD281","v":1}]
[{"$f":"IF(F283=\" \",\" \",ROWS($A$3:A283))","v":281},{"$f":"'shaladarpan '!A282","v":8},{"$f":"'shaladarpan '!B282","v":"A"},{"$f":"'shaladarpan '!C282","v":4563},{"$f":"'shaladarpan '!D282","v":"2018-07-14"},{"$f":"'shaladarpan '!E282","v":"manjeet281"},{"$f":"'shaladarpan '!F282","v":"00:00:00"},{"$f":"'shaladarpan '!G282","v":"vijay281"},{"$f":"'shaladarpan '!H282","v":"beautiful281"},{"$f":"'shaladarpan '!I282","v":"F"},{"$f":"'shaladarpan '!J282","v":"2007-02-06"},{"$f":"'shaladarpan '!K282","v":"yes"},{"$f":"'shaladarpan '!L282","v":281},{"$f":"'shaladarpan '!M282","v":0},{"$f":"'shaladarpan '!N282","v":0},{"$f":"'shaladarpan '!O282","v":"OBC"},{"$f":"'shaladarpan '!P282","v":"Hindu"},{"$f":"'shaladarpan '!Q282","v":0},{"$f":"'shaladarpan '!R282","v":"GOVT. SENIOR SECONDARY SCHOOL ALNIYAWAS (219445)"},{"$f":"'shaladarpan '!S282","v":8140200308},{"$f":"'shaladarpan '!T282","v":"XXXX3593"},{"$f":"'shaladarpan '!U282","v":0},{"$f":"'shaladarpan '!V282","v":9828120977},{"$f":"'shaladarpan '!W282","v":"alniyawas281"},{"$f":"'shaladarpan '!X282","v":45000},{"$f":"'shaladarpan '!Y282","v":"N"},{"$f":"'shaladarpan '!Z282","v":"N"},{"$f":"'shaladarpan '!AA282","v":"No"},{"$f":"'shaladarpan '!AB282","v":13},{"$f":"'shaladarpan '!AC282","v":"None"},{"$f":"'shaladarpan '!AD282","v":3}]
[{"$f":"IF(F284=\" \",\" \",ROWS($A$3:A284))","v":282},{"$f":"'shaladarpan '!A283","v":8},{"$f":"'shaladarpan '!B283","v":"A"},{"$f":"'shaladarpan '!C283","v":3859},{"$f":"'shaladarpan '!D283","v":"2015-05-11"},{"$f":"'shaladarpan '!E283","v":"manjeet282"},{"$f":"'shaladarpan '!F283","v":"00:00:00"},{"$f":"'shaladarpan '!G283","v":"vijay282"},{"$f":"'shaladarpan '!H283","v":"beautiful282"},{"$f":"'shaladarpan '!I283","v":"M"},{"$f":"'shaladarpan '!J283","v":"2006-04-05"},{"$f":"'shaladarpan '!K283","v":"no"},{"$f":"'shaladarpan '!L283","v":282},{"$f":"'shaladarpan '!M283","v":0},{"$f":"'shaladarpan '!N283","v":0},{"$f":"'shaladarpan '!O283","v":"SC"},{"$f":"'shaladarpan '!P283","v":"Hindu"},{"$f":"'shaladarpan '!Q283","v":0},{"$f":"'shaladarpan '!R283","v":"GOVT. SENIOR SECONDARY SCHOOL ALNIYAWAS (219445)"},{"$f":"'shaladarpan '!S283","v":8140200308},{"$f":"'shaladarpan '!T283","v":"XXXX3326"},{"$f":"'shaladarpan '!U283","v":0},{"$f":"'shaladarpan '!V283","v":9828120978},{"$f":"'shaladarpan '!W283","v":"alniyawas282"},{"$f":"'shaladarpan '!X283","v":0},{"$f":"'shaladarpan '!Y283","v":"N"},{"$f":"'shaladarpan '!Z283","v":"N"},{"$f":"'shaladarpan '!AA283","v":"No"},{"$f":"'shaladarpan '!AB283","v":14},{"$f":"'shaladarpan '!AC283","v":"None"},{"$f":"'shaladarpan '!AD283","v":1}]
[{"$f":"IF(F285=\" \",\" \",ROWS($A$3:A285))","v":283},{"$f":"'shaladarpan '!A284","v":8},{"$f":"'shaladarpan '!B284","v":"A"},{"$f":"'shaladarpan '!C284","v":3882},{"$f":"'shaladarpan '!D284","v":"2015-05-11"},{"$f":"'shaladarpan '!E284","v":"manjeet283"},{"$f":"'shaladarpan '!F284","v":"00:00:00"},{"$f":"'shaladarpan '!G284","v":"vijay283"},{"$f":"'shaladarpan '!H284","v":"beautiful283"},{"$f":"'shaladarpan '!I284","v":"F"},{"$f":"'shaladarpan '!J284","v":"2007-07-05"},{"$f":"'shaladarpan '!K284","v":"yes"},{"$f":"'shaladarpan '!L284","v":283},{"$f":"'shaladarpan '!M284","v":0},{"$f":"'shaladarpan '!N284","v":0},{"$f":"'shaladarpan '!O284","v":"OBC"},{"$f":"'shaladarpan '!P284","v":"Muslim"},{"$f":"'shaladarpan '!Q284","v":0},{"$f":"'shaladarpan '!R284","v":"GOVT. SENIOR SECONDARY SCHOOL ALNIYAWAS (219445)"},{"$f":"'shaladarpan '!S284","v":8140200308},{"$f":"'shaladarpan '!T284","v":"XXXX7232"},{"$f":"'shaladarpan '!U284","v":0},{"$f":"'shaladarpan '!V284","v":9828120979},{"$f":"'shaladarpan '!W284","v":"alniyawas283"},{"$f":"'shaladarpan '!X284","v":0},{"$f":"'shaladarpan '!Y284","v":"N"},{"$f":"'shaladarpan '!Z284","v":"N"},{"$f":"'shaladarpan '!AA284","v":"Yes"},{"$f":"'shaladarpan '!AB284","v":13},{"$f":"'shaladarpan '!AC284","v":"None"},{"$f":"'shaladarpan '!AD284","v":1}]
[{"$f":"IF(F286=\" \",\" \",ROWS($A$3:A286))","v":284},{"$f":"'shaladarpan '!A285","v":8},{"$f":"'shaladarpan '!B285","v":"A"},{"$f":"'shaladarpan '!C285","v":4562},{"$f":"'shaladarpan '!D285","v":"2018-07-14"},{"$f":"'shaladarpan '!E285","v":"manjeet284"},{"$f":"'shaladarpan '!F285","v":"00:00:00"},{"$f":"'shaladarpan '!G285","v":"vijay284"},{"$f":"'shaladarpan '!H285","v":"beautiful284"},{"$f":"'shaladarpan '!I285","v":"M"},{"$f":"'shaladarpan '!J285","v":"2004-10-22"},{"$f":"'shaladarpan '!K285","v":"yes"},{"$f":"'shaladarpan '!L285","v":284},{"$f":"'shaladarpan '!M285","v":0},{"$f":"'shaladarpan '!N285","v":0},{"$f":"'shaladarpan '!O285","v":"SC"},{"$f":"'shaladarpan '!P285","v":"Hindu"},{"$f":"'shaladarpan '!Q285","v":0},{"$f":"'shaladarpan '!R285","v":"GOVT. SENIOR SECONDARY SCHOOL ALNIYAWAS (219445)"},{"$f":"'shaladarpan '!S285","v":8140200308},{"$f":"'shaladarpan '!T285","v":"XXXX4751"},{"$f":"'shaladarpan '!U285","v":"VONTPBX"},{"$f":"'shaladarpan '!V285","v":9828120980},{"$f":"'shaladarpan '!W285","v":"alniyawas284"},{"$f":"'shaladarpan '!X285","v":40000},{"$f":"'shaladarpan '!Y285","v":"N"},{"$f":"'shaladarpan '!Z285","v":"N"},{"$f":"'shaladarpan '!AA285","v":"No"},{"$f":"'shaladarpan '!AB285","v":16},{"$f":"'shaladarpan '!AC285","v":"None"},{"$f":"'shaladarpan '!AD285","v":5}]
[{"$f":"IF(F287=\" \",\" \",ROWS($A$3:A287))","v":285},{"$f":"'shaladarpan '!A286","v":8},{"$f":"'shaladarpan '!B286","v":"A"},{"$f":"'shaladarpan '!C286","v":4449},{"$f":"'shaladarpan '!D286","v":"2018-07-02"},{"$f":"'shaladarpan '!E286","v":"manjeet285"},{"$f":"'shaladarpan '!F286","v":"00:00:00"},{"$f":"'shaladarpan '!G286","v":"vijay285"},{"$f":"'shaladarpan '!H286","v":"beautiful285"},{"$f":"'shaladarpan '!I286","v":"F"},{"$f":"'shaladarpan '!J286","v":"2007-10-20"},{"$f":"'shaladarpan '!K286","v":"no"},{"$f":"'shaladarpan '!L286","v":285},{"$f":"'shaladarpan '!M286","v":0},{"$f":"'shaladarpan '!N286","v":0},{"$f":"'shaladarpan '!O286","v":"GEN"},{"$f":"'shaladarpan '!P286","v":"Hindu"},{"$f":"'shaladarpan '!Q286","v":0},{"$f":"'shaladarpan '!R286","v":"GOVT. SENIOR SECONDARY SCHOOL ALNIYAWAS (219445)"},{"$f":"'shaladarpan '!S286","v":8140200308},{"$f":"'shaladarpan '!T286","v":"XXXX3890"},{"$f":"'shaladarpan '!U286","v":0},{"$f":"'shaladarpan '!V286","v":9828120981},{"$f":"'shaladarpan '!W286","v":"alniyawas285"},{"$f":"'shaladarpan '!X286","v":45000},{"$f":"'shaladarpan '!Y286","v":"N"},{"$f":"'shaladarpan '!Z286","v":"N"},{"$f":"'shaladarpan '!AA286","v":"No"},{"$f":"'shaladarpan '!AB286","v":13},{"$f":"'shaladarpan '!AC286","v":"None"},{"$f":"'shaladarpan '!AD286","v":5}]
[{"$f":"IF(F288=\" \",\" \",ROWS($A$3:A288))","v":286},{"$f":"'shaladarpan '!A287","v":8},{"$f":"'shaladarpan '!B287","v":"A"},{"$f":"'shaladarpan '!C287","v":3867},{"$f":"'shaladarpan '!D287","v":"2015-05-11"},{"$f":"'shaladarpan '!E287","v":"manjeet286"},{"$f":"'shaladarpan '!F287","v":"00:00:00"},{"$f":"'shaladarpan '!G287","v":"vijay286"},{"$f":"'shaladarpan '!H287","v":"beautiful286"},{"$f":"'shaladarpan '!I287","v":"F"},{"$f":"'shaladarpan '!J287","v":"2007-07-05"},{"$f":"'shaladarpan '!K287","v":"yes"},{"$f":"'shaladarpan '!L287","v":286},{"$f":"'shaladarpan '!M287","v":0},{"$f":"'shaladarpan '!N287","v":0},{"$f":"'shaladarpan '!O287","v":"OBC"},{"$f":"'shaladarpan '!P287","v":"Muslim"},{"$f":"'shaladarpan '!Q287","v":0},{"$f":"'shaladarpan '!R287","v":"GOVT. SENIOR SECONDARY SCHOOL ALNIYAWAS (219445)"},{"$f":"'shaladarpan '!S287","v":8140200308},{"$f":"'shaladarpan '!T287","v":"XXXX9794"},{"$f":"'shaladarpan '!U287","v":0},{"$f":"'shaladarpan '!V287","v":9828120982},{"$f":"'shaladarpan '!W287","v":"alniyawas286"},{"$f":"'shaladarpan '!X287","v":72000},{"$f":"'shaladarpan '!Y287","v":"N"},{"$f":"'shaladarpan '!Z287","v":"N"},{"$f":"'shaladarpan '!AA287","v":"Yes"},{"$f":"'shaladarpan '!AB287","v":13},{"$f":"'shaladarpan '!AC287","v":"None"},{"$f":"'shaladarpan '!AD287","v":1}]
[{"$f":"IF(F289=\" \",\" \",ROWS($A$3:A289))","v":287},{"$f":"'shaladarpan '!A288","v":8},{"$f":"'shaladarpan '!B288","v":"A"},{"$f":"'shaladarpan '!C288","v":3880},{"$f":"'shaladarpan '!D288","v":"2015-05-11"},{"$f":"'shaladarpan '!E288","v":"manjeet287"},{"$f":"'shaladarpan '!F288","v":"00:00:00"},{"$f":"'shaladarpan '!G288","v":"vijay287"},{"$f":"'shaladarpan '!H288","v":"beautiful287"},{"$f":"'shaladarpan '!I288","v":"F"},{"$f":"'shaladarpan '!J288","v":"2007-07-02"},{"$f":"'shaladarpan '!K288","v":"yes"},{"$f":"'shaladarpan '!L288","v":287},{"$f":"'shaladarpan '!M288","v":0},{"$f":"'shaladarpan '!N288","v":0},{"$f":"'shaladarpan '!O288","v":"OBC"},{"$f":"'shaladarpan '!P288","v":"Muslim"},{"$f":"'shaladarpan '!Q288","v":0},{"$f":"'shaladarpan '!R288","v":"GOVT. SENIOR SECONDARY SCHOOL ALNIYAWAS (219445)"},{"$f":"'shaladarpan '!S288","v":8140200308},{"$f":"'shaladarpan '!T288","v":0},{"$f":"'shaladarpan '!U288","v":0},{"$f":"'shaladarpan '!V288","v":9828120983},{"$f":"'shaladarpan '!W288","v":"alniyawas287"},{"$f":"'shaladarpan '!X288","v":0},{"$f":"'shaladarpan '!Y288","v":"N"},{"$f":"'shaladarpan '!Z288","v":"N"},{"$f":"'shaladarpan '!AA288","v":"Yes"},{"$f":"'shaladarpan '!AB288","v":13},{"$f":"'shaladarpan '!AC288","v":"None"},{"$f":"'shaladarpan '!AD288","v":1}]
[{"$f":"IF(F290=\" \",\" \",ROWS($A$3:A290))","v":288},{"$f":"'shaladarpan '!A289","v":8},{"$f":"'shaladarpan '!B289","v":"A"},{"$f":"'shaladarpan '!C289","v":4778},{"$f":"'shaladarpan '!D289","v":"2019-07-29"},{"$f":"'shaladarpan '!E289","v":"manjeet288"},{"$f":"'shaladarpan '!F289","v":"00:00:00"},{"$f":"'shaladarpan '!G289","v":"vijay288"},{"$f":"'shaladarpan '!H289","v":"beautiful288"},{"$f":"'shaladarpan '!I289","v":"M"},{"$f":"'shaladarpan '!J289","v":"2006-05-07"},{"$f":"'shaladarpan '!K289","v":"no"},{"$f":"'shaladarpan '!L289","v":288},{"$f":"'shaladarpan '!M289","v":0},{"$f":"'shaladarpan '!N289","v":0},{"$f":"'shaladarpan '!O289","v":"OBC"},{"$f":"'shaladarpan '!P289","v":"Muslim"},{"$f":"'shaladarpan '!Q289","v":0},{"$f":"'shaladarpan '!R289","v":"GOVT. SENIOR SECONDARY SCHOOL ALNIYAWAS (219445)"},{"$f":"'shaladarpan '!S289","v":8140200308},{"$f":"'shaladarpan '!T289","v":"XXXX3206"},{"$f":"'shaladarpan '!U289","v":0},{"$f":"'shaladarpan '!V289","v":9828120984},{"$f":"'shaladarpan '!W289","v":"alniyawas288"},{"$f":"'shaladarpan '!X289","v":60000},{"$f":"'shaladarpan '!Y289","v":"N"},{"$f":"'shaladarpan '!Z289","v":"N"},{"$f":"'shaladarpan '!AA289","v":"Yes"},{"$f":"'shaladarpan '!AB289","v":14},{"$f":"'shaladarpan '!AC289","v":"None"},{"$f":"'shaladarpan '!AD289","v":0}]
[{"$f":"IF(F291=\" \",\" \",ROWS($A$3:A291))","v":289},{"$f":"'shaladarpan '!A290","v":8},{"$f":"'shaladarpan '!B290","v":"A"},{"$f":"'shaladarpan '!C290","v":4677},{"$f":"'shaladarpan '!D290","v":"2019-07-09"},{"$f":"'shaladarpan '!E290","v":"manjeet289"},{"$f":"'shaladarpan '!F290","v":"00:00:00"},{"$f":"'shaladarpan '!G290","v":"vijay289"},{"$f":"'shaladarpan '!H290","v":"beautiful289"},{"$f":"'shaladarpan '!I290","v":"F"},{"$f":"'shaladarpan '!J290","v":"2008-10-22"},{"$f":"'shaladarpan '!K290","v":"yes"},{"$f":"'shaladarpan '!L290","v":289},{"$f":"'shaladarpan '!M290","v":0},{"$f":"'shaladarpan '!N290","v":0},{"$f":"'shaladarpan '!O290","v":"OBC"},{"$f":"'shaladarpan '!P290","v":"Muslim"},{"$f":"'shaladarpan '!Q290","v":0},{"$f":"'shaladarpan '!R290","v":"GOVT. SENIOR SECONDARY SCHOOL ALNIYAWAS (219445)"},{"$f":"'shaladarpan '!S290","v":8140200308},{"$f":"'shaladarpan '!T290","v":"XXXX8961"},{"$f":"'shaladarpan '!U290","v":"vpojxjj"},{"$f":"'shaladarpan '!V290","v":9828120985},{"$f":"'shaladarpan '!W290","v":"alniyawas289"},{"$f":"'shaladarpan '!X290","v":60000},{"$f":"'shaladarpan '!Y290","v":"N"},{"$f":"'shaladarpan '!Z290","v":"N"},{"$f":"'shaladarpan '!AA290","v":"Yes"},{"$f":"'shaladarpan '!AB290","v":12},{"$f":"'shaladarpan '!AC290","v":"None"},{"$f":"'shaladarpan '!AD290","v":1}]
[{"$f":"IF(F292=\" \",\" \",ROWS($A$3:A292))","v":290},{"$f":"'shaladarpan '!A291","v":8},{"$f":"'shaladarpan '!B291","v":"A"},{"$f":"'shaladarpan '!C291","v":4845},{"$f":"'shaladarpan '!D291","v":"00:00:00"},{"$f":"'shaladarpan '!E291","v":"manjeet290"},{"$f":"'shaladarpan '!F291","v":"00:00:00"},{"$f":"'shaladarpan '!G291","v":"vijay290"},{"$f":"'shaladarpan '!H291","v":"beautiful290"},{"$f":"'shaladarpan '!I291","v":"M"},{"$f":"'shaladarpan '!J291","v":"2007-02-05"},{"$f":"'shaladarpan '!K291","v":"yes"},{"$f":"'shaladarpan '!L291","v":290},{"$f":"'shaladarpan '!M291","v":0},{"$f":"'shaladarpan '!N291","v":0},{"$f":"'shaladarpan '!O291","v":"GEN"},{"$f":"'shaladarpan '!P291","v":0},{"$f":"'shaladarpan '!Q291","v":0},{"$f":"'shaladarpan '!R291","v":"GOVT. SENIOR SECONDARY SCHOOL ALNIYAWAS (219445)"},{"$f":"'shaladarpan '!S291","v":8140200308},{"$f":"'shaladarpan '!T291","v":0},{"$f":"'shaladarpan '!U291","v":0},{"$f":"'shaladarpan '!V291","v":9828120986},{"$f":"'shaladarpan '!W291","v":"alniyawas290"},{"$f":"'shaladarpan '!X291","v":0},{"$f":"'shaladarpan '!Y291","v":"N"},{"$f":"'shaladarpan '!Z291","v":"Y"},{"$f":"'shaladarpan '!AA291","v":0},{"$f":"'shaladarpan '!AB291","v":13},{"$f":"'shaladarpan '!AC291","v":0},{"$f":"'shaladarpan '!AD291","v":1}]
[{"$f":"IF(F293=\" \",\" \",ROWS($A$3:A293))","v":291},{"$f":"'shaladarpan '!A292","v":8},{"$f":"'shaladarpan '!B292","v":"A"},{"$f":"'shaladarpan '!C292","v":4640},{"$f":"'shaladarpan '!D292","v":"2019-07-04"},{"$f":"'shaladarpan '!E292","v":"manjeet291"},{"$f":"'shaladarpan '!F292","v":"00:00:00"},{"$f":"'shaladarpan '!G292","v":"vijay291"},{"$f":"'shaladarpan '!H292","v":"beautiful291"},{"$f":"'shaladarpan '!I292","v":"M"},{"$f":"'shaladarpan '!J292","v":"2007-01-11"},{"$f":"'shaladarpan '!K292","v":"no"},{"$f":"'shaladarpan '!L292","v":291},{"$f":"'shaladarpan '!M292","v":0},{"$f":"'shaladarpan '!N292","v":0},{"$f":"'shaladarpan '!O292","v":"GEN"},{"$f":"'shaladarpan '!P292","v":"Hindu"},{"$f":"'shaladarpan '!Q292","v":0},{"$f":"'shaladarpan '!R292","v":"GOVT. SENIOR SECONDARY SCHOOL ALNIYAWAS (219445)"},{"$f":"'shaladarpan '!S292","v":8140200308},{"$f":"'shaladarpan '!T292","v":"XXXX1189"},{"$f":"'shaladarpan '!U292","v":0},{"$f":"'shaladarpan '!V292","v":9828120987},{"$f":"'shaladarpan '!W292","v":"alniyawas291"},{"$f":"'shaladarpan '!X292","v":75000},{"$f":"'shaladarpan '!Y292","v":"N"},{"$f":"'shaladarpan '!Z292","v":"N"},{"$f":"'shaladarpan '!AA292","v":"No"},{"$f":"'shaladarpan '!AB292","v":13},{"$f":"'shaladarpan '!AC292","v":"None"},{"$f":"'shaladarpan '!AD292","v":1}]
[{"$f":"IF(F294=\" \",\" \",ROWS($A$3:A294))","v":292},{"$f":"'shaladarpan '!A293","v":8},{"$f":"'shaladarpan '!B293","v":"A"},{"$f":"'shaladarpan '!C293","v":4623},{"$f":"'shaladarpan '!D293","v":"2018-09-25"},{"$f":"'shaladarpan '!E293","v":"manjeet292"},{"$f":"'shaladarpan '!F293","v":"00:00:00"},{"$f":"'shaladarpan '!G293","v":"vijay292"},{"$f":"'shaladarpan '!H293","v":"beautiful292"},{"$f":"'shaladarpan '!I293","v":"F"},{"$f":"'shaladarpan '!J293","v":"2005-03-02"},{"$f":"'shaladarpan '!K293","v":"yes"},{"$f":"'shaladarpan '!L293","v":292},{"$f":"'shaladarpan '!M293","v":0},{"$f":"'shaladarpan '!N293","v":0},{"$f":"'shaladarpan '!O293","v":"OBC"},{"$f":"'shaladarpan '!P293","v":"Muslim"},{"$f":"'shaladarpan '!Q293","v":0},{"$f":"'shaladarpan '!R293","v":"GOVT. SENIOR SECONDARY SCHOOL ALNIYAWAS (219445)"},{"$f":"'shaladarpan '!S293","v":8140200308},{"$f":"'shaladarpan '!T293","v":"XXXX0719"},{"$f":"'shaladarpan '!U293","v":0},{"$f":"'shaladarpan '!V293","v":9828120988},{"$f":"'shaladarpan '!W293","v":"alniyawas292"},{"$f":"'shaladarpan '!X293","v":40000},{"$f":"'shaladarpan '!Y293","v":"N"},{"$f":"'shaladarpan '!Z293","v":"N"},{"$f":"'shaladarpan '!AA293","v":"Yes"},{"$f":"'shaladarpan '!AB293","v":15},{"$f":"'shaladarpan '!AC293","v":"None"},{"$f":"'shaladarpan '!AD293","v":0}]
[{"$f":"IF(F295=\" \",\" \",ROWS($A$3:A295))","v":293},{"$f":"'shaladarpan '!A294","v":8},{"$f":"'shaladarpan '!B294","v":"A"},{"$f":"'shaladarpan '!C294","v":3879},{"$f":"'shaladarpan '!D294","v":"2015-05-11"},{"$f":"'shaladarpan '!E294","v":"manjeet293"},{"$f":"'shaladarpan '!F294","v":"00:00:00"},{"$f":"'shaladarpan '!G294","v":"vijay293"},{"$f":"'shaladarpan '!H294","v":"beautiful293"},{"$f":"'shaladarpan '!I294","v":"M"},{"$f":"'shaladarpan '!J294","v":"2007-07-02"},{"$f":"'shaladarpan '!K294","v":"yes"},{"$f":"'shaladarpan '!L294","v":293},{"$f":"'shaladarpan '!M294","v":0},{"$f":"'shaladarpan '!N294","v":0},{"$f":"'shaladarpan '!O294","v":"SC"},{"$f":"'shaladarpan '!P294","v":"Hindu"},{"$f":"'shaladarpan '!Q294","v":0},{"$f":"'shaladarpan '!R294","v":"GOVT. SENIOR SECONDARY SCHOOL ALNIYAWAS (219445)"},{"$f":"'shaladarpan '!S294","v":8140200308},{"$f":"'shaladarpan '!T294","v":0},{"$f":"'shaladarpan '!U294","v":0},{"$f":"'shaladarpan '!V294","v":9828120989},{"$f":"'shaladarpan '!W294","v":"alniyawas293"},{"$f":"'shaladarpan '!X294","v":0},{"$f":"'shaladarpan '!Y294","v":"N"},{"$f":"'shaladarpan '!Z294","v":"N"},{"$f":"'shaladarpan '!AA294","v":"No"},{"$f":"'shaladarpan '!AB294","v":13},{"$f":"'shaladarpan '!AC294","v":"None"},{"$f":"'shaladarpan '!AD294","v":1}]
[{"$f":"IF(F296=\" \",\" \",ROWS($A$3:A296))","v":294},{"$f":"'shaladarpan '!A295","v":8},{"$f":"'shaladarpan '!B295","v":"A"},{"$f":"'shaladarpan '!C295","v":3861},{"$f":"'shaladarpan '!D295","v":"2015-05-11"},{"$f":"'shaladarpan '!E295","v":"manjeet294"},{"$f":"'shaladarpan '!F295","v":"00:00:00"},{"$f":"'shaladarpan '!G295","v":"vijay294"},{"$f":"'shaladarpan '!H295","v":"beautiful294"},{"$f":"'shaladarpan '!I295","v":"M"},{"$f":"'shaladarpan '!J295","v":"2006-05-07"},{"$f":"'shaladarpan '!K295","v":"no"},{"$f":"'shaladarpan '!L295","v":294},{"$f":"'shaladarpan '!M295","v":0},{"$f":"'shaladarpan '!N295","v":0},{"$f":"'shaladarpan '!O295","v":"SC"},{"$f":"'shaladarpan '!P295","v":"Hindu"},{"$f":"'shaladarpan '!Q295","v":0},{"$f":"'shaladarpan '!R295","v":"GOVT. SENIOR SECONDARY SCHOOL ALNIYAWAS (219445)"},{"$f":"'shaladarpan '!S295","v":8140200308},{"$f":"'shaladarpan '!T295","v":"XXXX1991"},{"$f":"'shaladarpan '!U295","v":0},{"$f":"'shaladarpan '!V295","v":9828120990},{"$f":"'shaladarpan '!W295","v":"alniyawas294"},{"$f":"'shaladarpan '!X295","v":0},{"$f":"'shaladarpan '!Y295","v":"N"},{"$f":"'shaladarpan '!Z295","v":"N"},{"$f":"'shaladarpan '!AA295","v":"No"},{"$f":"'shaladarpan '!AB295","v":14},{"$f":"'shaladarpan '!AC295","v":"None"},{"$f":"'shaladarpan '!AD295","v":1}]
[{"$f":"IF(F297=\" \",\" \",ROWS($A$3:A297))","v":295},{"$f":"'shaladarpan '!A296","v":8},{"$f":"'shaladarpan '!B296","v":"A"},{"$f":"'shaladarpan '!C296","v":3868},{"$f":"'shaladarpan '!D296","v":"2015-05-11"},{"$f":"'shaladarpan '!E296","v":"manjeet295"},{"$f":"'shaladarpan '!F296","v":"00:00:00"},{"$f":"'shaladarpan '!G296","v":"vijay295"},{"$f":"'shaladarpan '!H296","v":"beautiful295"},{"$f":"'shaladarpan '!I296","v":"M"},{"$f":"'shaladarpan '!J296","v":"2007-07-02"},{"$f":"'shaladarpan '!K296","v":"yes"},{"$f":"'shaladarpan '!L296","v":295},{"$f":"'shaladarpan '!M296","v":0},{"$f":"'shaladarpan '!N296","v":0},{"$f":"'shaladarpan '!O296","v":"OBC"},{"$f":"'shaladarpan '!P296","v":"Muslim"},{"$f":"'shaladarpan '!Q296","v":0},{"$f":"'shaladarpan '!R296","v":"GOVT. SENIOR SECONDARY SCHOOL ALNIYAWAS (219445)"},{"$f":"'shaladarpan '!S296","v":8140200308},{"$f":"'shaladarpan '!T296","v":"XXXX1777"},{"$f":"'shaladarpan '!U296","v":0},{"$f":"'shaladarpan '!V296","v":9828120991},{"$f":"'shaladarpan '!W296","v":"alniyawas295"},{"$f":"'shaladarpan '!X296","v":0},{"$f":"'shaladarpan '!Y296","v":"N"},{"$f":"'shaladarpan '!Z296","v":"N"},{"$f":"'shaladarpan '!AA296","v":"Yes"},{"$f":"'shaladarpan '!AB296","v":13},{"$f":"'shaladarpan '!AC296","v":"None"},{"$f":"'shaladarpan '!AD296","v":1}]
[{"$f":"IF(F298=\" \",\" \",ROWS($A$3:A298))","v":296},{"$f":"'shaladarpan '!A297","v":8},{"$f":"'shaladarpan '!B297","v":"A"},{"$f":"'shaladarpan '!C297","v":3897},{"$f":"'shaladarpan '!D297","v":"2015-05-11"},{"$f":"'shaladarpan '!E297","v":"manjeet296"},{"$f":"'shaladarpan '!F297","v":"00:00:00"},{"$f":"'shaladarpan '!G297","v":"vijay296"},{"$f":"'shaladarpan '!H297","v":"beautiful296"},{"$f":"'shaladarpan '!I297","v":"M"},{"$f":"'shaladarpan '!J297","v":"2007-08-02"},{"$f":"'shaladarpan '!K297","v":"yes"},{"$f":"'shaladarpan '!L297","v":296},{"$f":"'shaladarpan '!M297","v":0},{"$f":"'shaladarpan '!N297","v":0},{"$f":"'shaladarpan '!O297","v":"OBC"},{"$f":"'shaladarpan '!P297","v":"Muslim"},{"$f":"'shaladarpan '!Q297","v":0},{"$f":"'shaladarpan '!R297","v":"GOVT. SENIOR SECONDARY SCHOOL ALNIYAWAS (219445)"},{"$f":"'shaladarpan '!S297","v":8140200308},{"$f":"'shaladarpan '!T297","v":"XXXX0724"},{"$f":"'shaladarpan '!U297","v":0},{"$f":"'shaladarpan '!V297","v":9828120992},{"$f":"'shaladarpan '!W297","v":"alniyawas296"},{"$f":"'shaladarpan '!X297","v":0},{"$f":"'shaladarpan '!Y297","v":"N"},{"$f":"'shaladarpan '!Z297","v":"N"},{"$f":"'shaladarpan '!AA297","v":"Yes"},{"$f":"'shaladarpan '!AB297","v":13},{"$f":"'shaladarpan '!AC297","v":"None"},{"$f":"'shaladarpan '!AD297","v":1}]
[{"$f":"IF(F299=\" \",\" \",ROWS($A$3:A299))","v":297},{"$f":"'shaladarpan '!A298","v":8},{"$f":"'shaladarpan '!B298","v":"A"},{"$f":"'shaladarpan '!C298","v":4523},{"$f":"'shaladarpan '!D298","v":"2018-07-07"},{"$f":"'shaladarpan '!E298","v":"manjeet297"},{"$f":"'shaladarpan '!F298","v":"00:00:00"},{"$f":"'shaladarpan '!G298","v":"vijay297"},{"$f":"'shaladarpan '!H298","v":"beautiful297"},{"$f":"'shaladarpan '!I298","v":"M"},{"$f":"'shaladarpan '!J298","v":"2007-04-04"},{"$f":"'shaladarpan '!K298","v":"no"},{"$f":"'shaladarpan '!L298","v":297},{"$f":"'shaladarpan '!M298","v":0},{"$f":"'shaladarpan '!N298","v":0},{"$f":"'shaladarpan '!O298","v":"OBC"},{"$f":"'shaladarpan '!P298","v":"Hindu"},{"$f":"'shaladarpan '!Q298","v":0},{"$f":"'shaladarpan '!R298","v":"GOVT. SENIOR SECONDARY SCHOOL ALNIYAWAS (219445)"},{"$f":"'shaladarpan '!S298","v":8140200308},{"$f":"'shaladarpan '!T298","v":"XXXX6757"},{"$f":"'shaladarpan '!U298","v":0},{"$f":"'shaladarpan '!V298","v":9828120993},{"$f":"'shaladarpan '!W298","v":"alniyawas297"},{"$f":"'shaladarpan '!X298","v":45000},{"$f":"'shaladarpan '!Y298","v":"N"},{"$f":"'shaladarpan '!Z298","v":"N"},{"$f":"'shaladarpan '!AA298","v":"No"},{"$f":"'shaladarpan '!AB298","v":13},{"$f":"'shaladarpan '!AC298","v":"None"},{"$f":"'shaladarpan '!AD298","v":2}]
[{"$f":"IF(F300=\" \",\" \",ROWS($A$3:A300))","v":298},{"$f":"'shaladarpan '!A299","v":8},{"$f":"'shaladarpan '!B299","v":"A"},{"$f":"'shaladarpan '!C299","v":4568},{"$f":"'shaladarpan '!D299","v":"2018-07-14"},{"$f":"'shaladarpan '!E299","v":"manjeet298"},{"$f":"'shaladarpan '!F299","v":"00:00:00"},{"$f":"'shaladarpan '!G299","v":"vijay298"},{"$f":"'shaladarpan '!H299","v":"beautiful298"},{"$f":"'shaladarpan '!I299","v":"F"},{"$f":"'shaladarpan '!J299","v":"2007-01-21"},{"$f":"'shaladarpan '!K299","v":"yes"},{"$f":"'shaladarpan '!L299","v":298},{"$f":"'shaladarpan '!M299","v":0},{"$f":"'shaladarpan '!N299","v":0},{"$f":"'shaladarpan '!O299","v":"OBC"},{"$f":"'shaladarpan '!P299","v":"Muslim"},{"$f":"'shaladarpan '!Q299","v":0},{"$f":"'shaladarpan '!R299","v":"GOVT. SENIOR SECONDARY SCHOOL ALNIYAWAS (219445)"},{"$f":"'shaladarpan '!S299","v":8140200308},{"$f":"'shaladarpan '!T299","v":"XXXX9842"},{"$f":"'shaladarpan '!U299","v":"VOTKRJX"},{"$f":"'shaladarpan '!V299","v":9828120994},{"$f":"'shaladarpan '!W299","v":"alniyawas298"},{"$f":"'shaladarpan '!X299","v":72000},{"$f":"'shaladarpan '!Y299","v":"N"},{"$f":"'shaladarpan '!Z299","v":"N"},{"$f":"'shaladarpan '!AA299","v":"Yes"},{"$f":"'shaladarpan '!AB299","v":13},{"$f":"'shaladarpan '!AC299","v":"None"},{"$f":"'shaladarpan '!AD299","v":0}]
[{"$f":"IF(F301=\" \",\" \",ROWS($A$3:A301))","v":299},{"$f":"'shaladarpan '!A300","v":8},{"$f":"'shaladarpan '!B300","v":"A"},{"$f":"'shaladarpan '!C300","v":4461},{"$f":"'shaladarpan '!D300","v":"2018-07-03"},{"$f":"'shaladarpan '!E300","v":"manjeet299"},{"$f":"'shaladarpan '!F300","v":"00:00:00"},{"$f":"'shaladarpan '!G300","v":"vijay299"},{"$f":"'shaladarpan '!H300","v":"beautiful299"},{"$f":"'shaladarpan '!I300","v":"M"},{"$f":"'shaladarpan '!J300","v":"2007-03-10"},{"$f":"'shaladarpan '!K300","v":"yes"},{"$f":"'shaladarpan '!L300","v":299},{"$f":"'shaladarpan '!M300","v":0},{"$f":"'shaladarpan '!N300","v":0},{"$f":"'shaladarpan '!O300","v":"OBC"},{"$f":"'shaladarpan '!P300","v":"Hindu"},{"$f":"'shaladarpan '!Q300","v":0},{"$f":"'shaladarpan '!R300","v":"GOVT. SENIOR SECONDARY SCHOOL ALNIYAWAS (219445)"},{"$f":"'shaladarpan '!S300","v":8140200308},{"$f":"'shaladarpan '!T300","v":"XXXX9369"},{"$f":"'shaladarpan '!U300","v":"VSXWCHT"},{"$f":"'shaladarpan '!V300","v":9828120995},{"$f":"'shaladarpan '!W300","v":"alniyawas299"},{"$f":"'shaladarpan '!X300","v":45000},{"$f":"'shaladarpan '!Y300","v":"N"},{"$f":"'shaladarpan '!Z300","v":"N"},{"$f":"'shaladarpan '!AA300","v":"No"},{"$f":"'shaladarpan '!AB300","v":13},{"$f":"'shaladarpan '!AC300","v":"None"},{"$f":"'shaladarpan '!AD300","v":4}]
[{"$f":"IF(F302=\" \",\" \",ROWS($A$3:A302))","v":300},{"$f":"'shaladarpan '!A301","v":8},{"$f":"'shaladarpan '!B301","v":"A"},{"$f":"'shaladarpan '!C301","v":3875},{"$f":"'shaladarpan '!D301","v":"2015-05-11"},{"$f":"'shaladarpan '!E301","v":"manjeet300"},{"$f":"'shaladarpan '!F301","v":"00:00:00"},{"$f":"'shaladarpan '!G301","v":"vijay300"},{"$f":"'shaladarpan '!H301","v":"beautiful300"},{"$f":"'shaladarpan '!I301","v":"M"},{"$f":"'shaladarpan '!J301","v":"2007-07-02"},{"$f":"'shaladarpan '!K301","v":"no"},{"$f":"'shaladarpan '!L301","v":300},{"$f":"'shaladarpan '!M301","v":0},{"$f":"'shaladarpan '!N301","v":0},{"$f":"'shaladarpan '!O301","v":"OBC"},{"$f":"'shaladarpan '!P301","v":"Muslim"},{"$f":"'shaladarpan '!Q301","v":0},{"$f":"'shaladarpan '!R301","v":"GOVT. SENIOR SECONDARY SCHOOL ALNIYAWAS (219445)"},{"$f":"'shaladarpan '!S301","v":8140200308},{"$f":"'shaladarpan '!T301","v":"XXXX4496"},{"$f":"'shaladarpan '!U301","v":0},{"$f":"'shaladarpan '!V301","v":9828120996},{"$f":"'shaladarpan '!W301","v":"alniyawas300"},{"$f":"'shaladarpan '!X301","v":0},{"$f":"'shaladarpan '!Y301","v":"N"},{"$f":"'shaladarpan '!Z301","v":"N"},{"$f":"'shaladarpan '!AA301","v":"Yes"},{"$f":"'shaladarpan '!AB301","v":13},{"$f":"'shaladarpan '!AC301","v":"None"},{"$f":"'shaladarpan '!AD301","v":1}]
[{"$f":"IF(F303=\" \",\" \",ROWS($A$3:A303))","v":301},{"$f":"'shaladarpan '!A302","v":8},{"$f":"'shaladarpan '!B302","v":"A"},{"$f":"'shaladarpan '!C302","v":4543},{"$f":"'shaladarpan '!D302","v":"2018-07-10"},{"$f":"'shaladarpan '!E302","v":"manjeet301"},{"$f":"'shaladarpan '!F302","v":"00:00:00"},{"$f":"'shaladarpan '!G302","v":"vijay301"},{"$f":"'shaladarpan '!H302","v":"beautiful301"},{"$f":"'shaladarpan '!I302","v":"M"},{"$f":"'shaladarpan '!J302","v":"2006-08-12"},{"$f":"'shaladarpan '!K302","v":"yes"},{"$f":"'shaladarpan '!L302","v":301},{"$f":"'shaladarpan '!M302","v":0},{"$f":"'shaladarpan '!N302","v":0},{"$f":"'shaladarpan '!O302","v":"OBC"},{"$f":"'shaladarpan '!P302","v":"Muslim"},{"$f":"'shaladarpan '!Q302","v":0},{"$f":"'shaladarpan '!R302","v":"GOVT. SENIOR SECONDARY SCHOOL ALNIYAWAS (219445)"},{"$f":"'shaladarpan '!S302","v":8140200308},{"$f":"'shaladarpan '!T302","v":"XXXX6595"},{"$f":"'shaladarpan '!U302","v":"YAOKOSS"},{"$f":"'shaladarpan '!V302","v":9828120997},{"$f":"'shaladarpan '!W302","v":"alniyawas301"},{"$f":"'shaladarpan '!X302","v":45000},{"$f":"'shaladarpan '!Y302","v":"N"},{"$f":"'shaladarpan '!Z302","v":"N"},{"$f":"'shaladarpan '!AA302","v":"Yes"},{"$f":"'shaladarpan '!AB302","v":14},{"$f":"'shaladarpan '!AC302","v":"None"},{"$f":"'shaladarpan '!AD302","v":1}]
[{"$f":"IF(F304=\" \",\" \",ROWS($A$3:A304))","v":302},{"$f":"'shaladarpan '!A303","v":8},{"$f":"'shaladarpan '!B303","v":"A"},{"$f":"'shaladarpan '!C303","v":4482},{"$f":"'shaladarpan '!D303","v":"2018-07-04"},{"$f":"'shaladarpan '!E303","v":"manjeet302"},{"$f":"'shaladarpan '!F303","v":"00:00:00"},{"$f":"'shaladarpan '!G303","v":"vijay302"},{"$f":"'shaladarpan '!H303","v":"beautiful302"},{"$f":"'shaladarpan '!I303","v":"F"},{"$f":"'shaladarpan '!J303","v":"2006-10-07"},{"$f":"'shaladarpan '!K303","v":"yes"},{"$f":"'shaladarpan '!L303","v":302},{"$f":"'shaladarpan '!M303","v":0},{"$f":"'shaladarpan '!N303","v":0},{"$f":"'shaladarpan '!O303","v":"SC"},{"$f":"'shaladarpan '!P303","v":"Hindu"},{"$f":"'shaladarpan '!Q303","v":0},{"$f":"'shaladarpan '!R303","v":"GOVT. SENIOR SECONDARY SCHOOL ALNIYAWAS (219445)"},{"$f":"'shaladarpan '!S303","v":8140200308},{"$f":"'shaladarpan '!T303","v":"XXXX2547"},{"$f":"'shaladarpan '!U303","v":"YMGOQMF"},{"$f":"'shaladarpan '!V303","v":9828120998},{"$f":"'shaladarpan '!W303","v":"alniyawas302"},{"$f":"'shaladarpan '!X303","v":36000},{"$f":"'shaladarpan '!Y303","v":"N"},{"$f":"'shaladarpan '!Z303","v":"N"},{"$f":"'shaladarpan '!AA303","v":"No"},{"$f":"'shaladarpan '!AB303","v":14},{"$f":"'shaladarpan '!AC303","v":"None"},{"$f":"'shaladarpan '!AD303","v":3}]
[{"$f":"IF(F305=\" \",\" \",ROWS($A$3:A305))","v":303},{"$f":"'shaladarpan '!A304","v":8},{"$f":"'shaladarpan '!B304","v":"A"},{"$f":"'shaladarpan '!C304","v":4460},{"$f":"'shaladarpan '!D304","v":"2018-07-03"},{"$f":"'shaladarpan '!E304","v":"manjeet303"},{"$f":"'shaladarpan '!F304","v":"00:00:00"},{"$f":"'shaladarpan '!G304","v":"vijay303"},{"$f":"'shaladarpan '!H304","v":"beautiful303"},{"$f":"'shaladarpan '!I304","v":"F"},{"$f":"'shaladarpan '!J304","v":"2007-04-25"},{"$f":"'shaladarpan '!K304","v":"no"},{"$f":"'shaladarpan '!L304","v":303},{"$f":"'shaladarpan '!M304","v":0},{"$f":"'shaladarpan '!N304","v":0},{"$f":"'shaladarpan '!O304","v":"OBC"},{"$f":"'shaladarpan '!P304","v":"Hindu"},{"$f":"'shaladarpan '!Q304","v":0},{"$f":"'shaladarpan '!R304","v":"GOVT. SENIOR SECONDARY SCHOOL ALNIYAWAS (219445)"},{"$f":"'shaladarpan '!S304","v":8140200308},{"$f":"'shaladarpan '!T304","v":"XXXX4213"},{"$f":"'shaladarpan '!U304","v":"YQGFFKC"},{"$f":"'shaladarpan '!V304","v":9828120999},{"$f":"'shaladarpan '!W304","v":"alniyawas303"},{"$f":"'shaladarpan '!X304","v":50000},{"$f":"'shaladarpan '!Y304","v":"N"},{"$f":"'shaladarpan '!Z304","v":"N"},{"$f":"'shaladarpan '!AA304","v":"No"},{"$f":"'shaladarpan '!AB304","v":13},{"$f":"'shaladarpan '!AC304","v":"None"},{"$f":"'shaladarpan '!AD304","v":3}]
[{"$f":"IF(F306=\" \",\" \",ROWS($A$3:A306))","v":304},{"$f":"'shaladarpan '!A305","v":8},{"$f":"'shaladarpan '!B305","v":"A"},{"$f":"'shaladarpan '!C305","v":4781},{"$f":"'shaladarpan '!D305","v":"2018-06-28"},{"$f":"'shaladarpan '!E305","v":"manjeet304"},{"$f":"'shaladarpan '!F305","v":"00:00:00"},{"$f":"'shaladarpan '!G305","v":"vijay304"},{"$f":"'shaladarpan '!H305","v":"beautiful304"},{"$f":"'shaladarpan '!I305","v":"F"},{"$f":"'shaladarpan '!J305","v":"2007-07-18"},{"$f":"'shaladarpan '!K305","v":"yes"},{"$f":"'shaladarpan '!L305","v":304},{"$f":"'shaladarpan '!M305","v":0},{"$f":"'shaladarpan '!N305","v":0},{"$f":"'shaladarpan '!O305","v":"GEN"},{"$f":"'shaladarpan '!P305","v":"Hindu"},{"$f":"'shaladarpan '!Q305","v":0},{"$f":"'shaladarpan '!R305","v":"GOVT. SENIOR SECONDARY SCHOOL ALNIYAWAS (219445)"},{"$f":"'shaladarpan '!S305","v":8140200308},{"$f":"'shaladarpan '!T305","v":"XXXX4135"},{"$f":"'shaladarpan '!U305","v":0},{"$f":"'shaladarpan '!V305","v":9828121000},{"$f":"'shaladarpan '!W305","v":"alniyawas304"},{"$f":"'shaladarpan '!X305","v":0},{"$f":"'shaladarpan '!Y305","v":"N"},{"$f":"'shaladarpan '!Z305","v":"N"},{"$f":"'shaladarpan '!AA305","v":"No"},{"$f":"'shaladarpan '!AB305","v":13},{"$f":"'shaladarpan '!AC305","v":"None"},{"$f":"'shaladarpan '!AD305","v":5}]
[{"$f":"IF(F307=\" \",\" \",ROWS($A$3:A307))","v":305},{"$f":"'shaladarpan '!A306","v":8},{"$f":"'shaladarpan '!B306","v":"A"},{"$f":"'shaladarpan '!C306","v":4571},{"$f":"'shaladarpan '!D306","v":"2018-07-14"},{"$f":"'shaladarpan '!E306","v":"manjeet305"},{"$f":"'shaladarpan '!F306","v":"00:00:00"},{"$f":"'shaladarpan '!G306","v":"vijay305"},{"$f":"'shaladarpan '!H306","v":"beautiful305"},{"$f":"'shaladarpan '!I306","v":"F"},{"$f":"'shaladarpan '!J306","v":"2008-07-15"},{"$f":"'shaladarpan '!K306","v":"yes"},{"$f":"'shaladarpan '!L306","v":305},{"$f":"'shaladarpan '!M306","v":0},{"$f":"'shaladarpan '!N306","v":0},{"$f":"'shaladarpan '!O306","v":"SBC"},{"$f":"'shaladarpan '!P306","v":"Hindu"},{"$f":"'shaladarpan '!Q306","v":0},{"$f":"'shaladarpan '!R306","v":"GOVT. SENIOR SECONDARY SCHOOL ALNIYAWAS (219445)"},{"$f":"'shaladarpan '!S306","v":8140200308},{"$f":"'shaladarpan '!T306","v":0},{"$f":"'shaladarpan '!U306","v":"VPSGOOV"},{"$f":"'shaladarpan '!V306","v":9828121001},{"$f":"'shaladarpan '!W306","v":"alniyawas305"},{"$f":"'shaladarpan '!X306","v":36000},{"$f":"'shaladarpan '!Y306","v":"N"},{"$f":"'shaladarpan '!Z306","v":"N"},{"$f":"'shaladarpan '!AA306","v":"No"},{"$f":"'shaladarpan '!AB306","v":12},{"$f":"'shaladarpan '!AC306","v":"None"},{"$f":"'shaladarpan '!AD306","v":1}]
[{"$f":"IF(F308=\" \",\" \",ROWS($A$3:A308))","v":306},{"$f":"'shaladarpan '!A307","v":8},{"$f":"'shaladarpan '!B307","v":"A"},{"$f":"'shaladarpan '!C307","v":3855},{"$f":"'shaladarpan '!D307","v":"2015-05-11"},{"$f":"'shaladarpan '!E307","v":"manjeet306"},{"$f":"'shaladarpan '!F307","v":"00:00:00"},{"$f":"'shaladarpan '!G307","v":"vijay306"},{"$f":"'shaladarpan '!H307","v":"beautiful306"},{"$f":"'shaladarpan '!I307","v":"M"},{"$f":"'shaladarpan '!J307","v":"2007-04-02"},{"$f":"'shaladarpan '!K307","v":"no"},{"$f":"'shaladarpan '!L307","v":306},{"$f":"'shaladarpan '!M307","v":0},{"$f":"'shaladarpan '!N307","v":0},{"$f":"'shaladarpan '!O307","v":"SC"},{"$f":"'shaladarpan '!P307","v":"Hindu"},{"$f":"'shaladarpan '!Q307","v":0},{"$f":"'shaladarpan '!R307","v":"GOVT. SENIOR SECONDARY SCHOOL ALNIYAWAS (219445)"},{"$f":"'shaladarpan '!S307","v":8140200308},{"$f":"'shaladarpan '!T307","v":"XXXX1962"},{"$f":"'shaladarpan '!U307","v":0},{"$f":"'shaladarpan '!V307","v":9828121002},{"$f":"'shaladarpan '!W307","v":"alniyawas306"},{"$f":"'shaladarpan '!X307","v":0},{"$f":"'shaladarpan '!Y307","v":"N"},{"$f":"'shaladarpan '!Z307","v":"N"},{"$f":"'shaladarpan '!AA307","v":"No"},{"$f":"'shaladarpan '!AB307","v":13},{"$f":"'shaladarpan '!AC307","v":"None"},{"$f":"'shaladarpan '!AD307","v":1}]
[{"$f":"IF(F309=\" \",\" \",ROWS($A$3:A309))","v":307},{"$f":"'shaladarpan '!A308","v":8},{"$f":"'shaladarpan '!B308","v":"A"},{"$f":"'shaladarpan '!C308","v":3860},{"$f":"'shaladarpan '!D308","v":"2015-05-11"},{"$f":"'shaladarpan '!E308","v":"manjeet307"},{"$f":"'shaladarpan '!F308","v":"00:00:00"},{"$f":"'shaladarpan '!G308","v":"vijay307"},{"$f":"'shaladarpan '!H308","v":"beautiful307"},{"$f":"'shaladarpan '!I308","v":"M"},{"$f":"'shaladarpan '!J308","v":"2008-01-02"},{"$f":"'shaladarpan '!K308","v":"yes"},{"$f":"'shaladarpan '!L308","v":307},{"$f":"'shaladarpan '!M308","v":0},{"$f":"'shaladarpan '!N308","v":0},{"$f":"'shaladarpan '!O308","v":"SC"},{"$f":"'shaladarpan '!P308","v":"Hindu"},{"$f":"'shaladarpan '!Q308","v":0},{"$f":"'shaladarpan '!R308","v":"GOVT. SENIOR SECONDARY SCHOOL ALNIYAWAS (219445)"},{"$f":"'shaladarpan '!S308","v":8140200308},{"$f":"'shaladarpan '!T308","v":"XXXX4085"},{"$f":"'shaladarpan '!U308","v":0},{"$f":"'shaladarpan '!V308","v":9828121003},{"$f":"'shaladarpan '!W308","v":"alniyawas307"},{"$f":"'shaladarpan '!X308","v":0},{"$f":"'shaladarpan '!Y308","v":"N"},{"$f":"'shaladarpan '!Z308","v":"N"},{"$f":"'shaladarpan '!AA308","v":"No"},{"$f":"'shaladarpan '!AB308","v":12},{"$f":"'shaladarpan '!AC308","v":"None"},{"$f":"'shaladarpan '!AD308","v":1}]
[{"$f":"IF(F310=\" \",\" \",ROWS($A$3:A310))","v":308},{"$f":"'shaladarpan '!A309","v":8},{"$f":"'shaladarpan '!B309","v":"A"},{"$f":"'shaladarpan '!C309","v":4455},{"$f":"'shaladarpan '!D309","v":"2018-07-02"},{"$f":"'shaladarpan '!E309","v":"manjeet308"},{"$f":"'shaladarpan '!F309","v":"00:00:00"},{"$f":"'shaladarpan '!G309","v":"vijay308"},{"$f":"'shaladarpan '!H309","v":"beautiful308"},{"$f":"'shaladarpan '!I309","v":"M"},{"$f":"'shaladarpan '!J309","v":"2009-10-05"},{"$f":"'shaladarpan '!K309","v":"yes"},{"$f":"'shaladarpan '!L309","v":308},{"$f":"'shaladarpan '!M309","v":0},{"$f":"'shaladarpan '!N309","v":0},{"$f":"'shaladarpan '!O309","v":"SC"},{"$f":"'shaladarpan '!P309","v":"Hindu"},{"$f":"'shaladarpan '!Q309","v":0},{"$f":"'shaladarpan '!R309","v":"GOVT. SENIOR SECONDARY SCHOOL ALNIYAWAS (219445)"},{"$f":"'shaladarpan '!S309","v":8140200308},{"$f":"'shaladarpan '!T309","v":"XXXX7504"},{"$f":"'shaladarpan '!U309","v":0},{"$f":"'shaladarpan '!V309","v":9828121004},{"$f":"'shaladarpan '!W309","v":"alniyawas308"},{"$f":"'shaladarpan '!X309","v":36000},{"$f":"'shaladarpan '!Y309","v":"N"},{"$f":"'shaladarpan '!Z309","v":"N"},{"$f":"'shaladarpan '!AA309","v":"No"},{"$f":"'shaladarpan '!AB309","v":11},{"$f":"'shaladarpan '!AC309","v":"None"},{"$f":"'shaladarpan '!AD309","v":6}]
[{"$f":"IF(F311=\" \",\" \",ROWS($A$3:A311))","v":309},{"$f":"'shaladarpan '!A310","v":8},{"$f":"'shaladarpan '!B310","v":"A"},{"$f":"'shaladarpan '!C310","v":4774},{"$f":"'shaladarpan '!D310","v":"2019-07-26"},{"$f":"'shaladarpan '!E310","v":"manjeet309"},{"$f":"'shaladarpan '!F310","v":"00:00:00"},{"$f":"'shaladarpan '!G310","v":"vijay309"},{"$f":"'shaladarpan '!H310","v":"beautiful309"},{"$f":"'shaladarpan '!I310","v":"M"},{"$f":"'shaladarpan '!J310","v":"2008-07-01"},{"$f":"'shaladarpan '!K310","v":"no"},{"$f":"'shaladarpan '!L310","v":309},{"$f":"'shaladarpan '!M310","v":0},{"$f":"'shaladarpan '!N310","v":0},{"$f":"'shaladarpan '!O310","v":"SC"},{"$f":"'shaladarpan '!P310","v":"Hindu"},{"$f":"'shaladarpan '!Q310","v":0},{"$f":"'shaladarpan '!R310","v":"GOVT. SENIOR SECONDARY SCHOOL ALNIYAWAS (219445)"},{"$f":"'shaladarpan '!S310","v":8140200308},{"$f":"'shaladarpan '!T310","v":"XXXX7938"},{"$f":"'shaladarpan '!U310","v":0},{"$f":"'shaladarpan '!V310","v":9828121005},{"$f":"'shaladarpan '!W310","v":"alniyawas309"},{"$f":"'shaladarpan '!X310","v":60000},{"$f":"'shaladarpan '!Y310","v":"N"},{"$f":"'shaladarpan '!Z310","v":"N"},{"$f":"'shaladarpan '!AA310","v":"No"},{"$f":"'shaladarpan '!AB310","v":12},{"$f":"'shaladarpan '!AC310","v":"None"},{"$f":"'shaladarpan '!AD310","v":1}]
[{"$f":"IF(F312=\" \",\" \",ROWS($A$3:A312))","v":310},{"$f":"'shaladarpan '!A311","v":8},{"$f":"'shaladarpan '!B311","v":"A"},{"$f":"'shaladarpan '!C311","v":4604},{"$f":"'shaladarpan '!D311","v":"2018-07-30"},{"$f":"'shaladarpan '!E311","v":"manjeet310"},{"$f":"'shaladarpan '!F311","v":"00:00:00"},{"$f":"'shaladarpan '!G311","v":"vijay310"},{"$f":"'shaladarpan '!H311","v":"beautiful310"},{"$f":"'shaladarpan '!I311","v":"M"},{"$f":"'shaladarpan '!J311","v":"2008-04-11"},{"$f":"'shaladarpan '!K311","v":"yes"},{"$f":"'shaladarpan '!L311","v":310},{"$f":"'shaladarpan '!M311","v":0},{"$f":"'shaladarpan '!N311","v":0},{"$f":"'shaladarpan '!O311","v":"OBC"},{"$f":"'shaladarpan '!P311","v":"Hindu"},{"$f":"'shaladarpan '!Q311","v":0},{"$f":"'shaladarpan '!R311","v":"GOVT. SENIOR SECONDARY SCHOOL ALNIYAWAS (219445)"},{"$f":"'shaladarpan '!S311","v":8140200308},{"$f":"'shaladarpan '!T311","v":"XXXX7593"},{"$f":"'shaladarpan '!U311","v":0},{"$f":"'shaladarpan '!V311","v":9828121006},{"$f":"'shaladarpan '!W311","v":"alniyawas310"},{"$f":"'shaladarpan '!X311","v":38000},{"$f":"'shaladarpan '!Y311","v":"N"},{"$f":"'shaladarpan '!Z311","v":"N"},{"$f":"'shaladarpan '!AA311","v":"No"},{"$f":"'shaladarpan '!AB311","v":12},{"$f":"'shaladarpan '!AC311","v":"None"},{"$f":"'shaladarpan '!AD311","v":2}]
[{"$f":"IF(F313=\" \",\" \",ROWS($A$3:A313))","v":311},{"$f":"'shaladarpan '!A312","v":8},{"$f":"'shaladarpan '!B312","v":"A"},{"$f":"'shaladarpan '!C312","v":4693},{"$f":"'shaladarpan '!D312","v":"2019-07-10"},{"$f":"'shaladarpan '!E312","v":"manjeet311"},{"$f":"'shaladarpan '!F312","v":"00:00:00"},{"$f":"'shaladarpan '!G312","v":"vijay311"},{"$f":"'shaladarpan '!H312","v":"beautiful311"},{"$f":"'shaladarpan '!I312","v":"M"},{"$f":"'shaladarpan '!J312","v":"2007-04-05"},{"$f":"'shaladarpan '!K312","v":"yes"},{"$f":"'shaladarpan '!L312","v":311},{"$f":"'shaladarpan '!M312","v":0},{"$f":"'shaladarpan '!N312","v":0},{"$f":"'shaladarpan '!O312","v":"OBC"},{"$f":"'shaladarpan '!P312","v":"Hindu"},{"$f":"'shaladarpan '!Q312","v":0},{"$f":"'shaladarpan '!R312","v":"GOVT. SENIOR SECONDARY SCHOOL ALNIYAWAS (219445)"},{"$f":"'shaladarpan '!S312","v":8140200308},{"$f":"'shaladarpan '!T312","v":"XXXX2295"},{"$f":"'shaladarpan '!U312","v":"vpnhgzp"},{"$f":"'shaladarpan '!V312","v":9828121007},{"$f":"'shaladarpan '!W312","v":"alniyawas311"},{"$f":"'shaladarpan '!X312","v":60000},{"$f":"'shaladarpan '!Y312","v":"N"},{"$f":"'shaladarpan '!Z312","v":"N"},{"$f":"'shaladarpan '!AA312","v":"No"},{"$f":"'shaladarpan '!AB312","v":13},{"$f":"'shaladarpan '!AC312","v":"None"},{"$f":"'shaladarpan '!AD312","v":2}]
[{"$f":"IF(F314=\" \",\" \",ROWS($A$3:A314))","v":312},{"$f":"'shaladarpan '!A313","v":8},{"$f":"'shaladarpan '!B313","v":"A"},{"$f":"'shaladarpan '!C313","v":4598},{"$f":"'shaladarpan '!D313","v":"2018-07-25"},{"$f":"'shaladarpan '!E313","v":"manjeet312"},{"$f":"'shaladarpan '!F313","v":"00:00:00"},{"$f":"'shaladarpan '!G313","v":"vijay312"},{"$f":"'shaladarpan '!H313","v":"beautiful312"},{"$f":"'shaladarpan '!I313","v":"F"},{"$f":"'shaladarpan '!J313","v":"2008-12-28"},{"$f":"'shaladarpan '!K313","v":"no"},{"$f":"'shaladarpan '!L313","v":312},{"$f":"'shaladarpan '!M313","v":0},{"$f":"'shaladarpan '!N313","v":0},{"$f":"'shaladarpan '!O313","v":"OBC"},{"$f":"'shaladarpan '!P313","v":"Muslim"},{"$f":"'shaladarpan '!Q313","v":0},{"$f":"'shaladarpan '!R313","v":"GOVT. SENIOR SECONDARY SCHOOL ALNIYAWAS (219445)"},{"$f":"'shaladarpan '!S313","v":8140200308},{"$f":"'shaladarpan '!T313","v":"XXXX5356"},{"$f":"'shaladarpan '!U313","v":0},{"$f":"'shaladarpan '!V313","v":9828121008},{"$f":"'shaladarpan '!W313","v":"alniyawas312"},{"$f":"'shaladarpan '!X313","v":40000},{"$f":"'shaladarpan '!Y313","v":"N"},{"$f":"'shaladarpan '!Z313","v":"N"},{"$f":"'shaladarpan '!AA313","v":"Yes"},{"$f":"'shaladarpan '!AB313","v":12},{"$f":"'shaladarpan '!AC313","v":"None"},{"$f":"'shaladarpan '!AD313","v":0}]
[{"$f":"IF(F315=\" \",\" \",ROWS($A$3:A315))","v":313},{"$f":"'shaladarpan '!A314","v":8},{"$f":"'shaladarpan '!B314","v":"A"},{"$f":"'shaladarpan '!C314","v":3894},{"$f":"'shaladarpan '!D314","v":"2015-05-11"},{"$f":"'shaladarpan '!E314","v":"manjeet313"},{"$f":"'shaladarpan '!F314","v":"00:00:00"},{"$f":"'shaladarpan '!G314","v":"vijay313"},{"$f":"'shaladarpan '!H314","v":"beautiful313"},{"$f":"'shaladarpan '!I314","v":"M"},{"$f":"'shaladarpan '!J314","v":"2006-07-01"},{"$f":"'shaladarpan '!K314","v":"yes"},{"$f":"'shaladarpan '!L314","v":313},{"$f":"'shaladarpan '!M314","v":0},{"$f":"'shaladarpan '!N314","v":0},{"$f":"'shaladarpan '!O314","v":"SC"},{"$f":"'shaladarpan '!P314","v":"Hindu"},{"$f":"'shaladarpan '!Q314","v":0},{"$f":"'shaladarpan '!R314","v":"GOVT. SENIOR SECONDARY SCHOOL ALNIYAWAS (219445)"},{"$f":"'shaladarpan '!S314","v":8140200308},{"$f":"'shaladarpan '!T314","v":"XXXX2625"},{"$f":"'shaladarpan '!U314","v":0},{"$f":"'shaladarpan '!V314","v":9828121009},{"$f":"'shaladarpan '!W314","v":"alniyawas313"},{"$f":"'shaladarpan '!X314","v":0},{"$f":"'shaladarpan '!Y314","v":"N"},{"$f":"'shaladarpan '!Z314","v":"N"},{"$f":"'shaladarpan '!AA314","v":"No"},{"$f":"'shaladarpan '!AB314","v":14},{"$f":"'shaladarpan '!AC314","v":"None"},{"$f":"'shaladarpan '!AD314","v":1}]
[{"$f":"IF(F316=\" \",\" \",ROWS($A$3:A316))","v":314},{"$f":"'shaladarpan '!A315","v":8},{"$f":"'shaladarpan '!B315","v":"A"},{"$f":"'shaladarpan '!C315","v":4188},{"$f":"'shaladarpan '!D315","v":"2016-07-11"},{"$f":"'shaladarpan '!E315","v":"manjeet314"},{"$f":"'shaladarpan '!F315","v":"00:00:00"},{"$f":"'shaladarpan '!G315","v":"vijay314"},{"$f":"'shaladarpan '!H315","v":"beautiful314"},{"$f":"'shaladarpan '!I315","v":"F"},{"$f":"'shaladarpan '!J315","v":"2006-08-10"},{"$f":"'shaladarpan '!K315","v":"yes"},{"$f":"'shaladarpan '!L315","v":314},{"$f":"'shaladarpan '!M315","v":0},{"$f":"'shaladarpan '!N315","v":0},{"$f":"'shaladarpan '!O315","v":"OBC"},{"$f":"'shaladarpan '!P315","v":"Hindu"},{"$f":"'shaladarpan '!Q315","v":0},{"$f":"'shaladarpan '!R315","v":"GOVT. SENIOR SECONDARY SCHOOL ALNIYAWAS (219445)"},{"$f":"'shaladarpan '!S315","v":8140200308},{"$f":"'shaladarpan '!T315","v":0},{"$f":"'shaladarpan '!U315","v":0},{"$f":"'shaladarpan '!V315","v":9828121010},{"$f":"'shaladarpan '!W315","v":"alniyawas314"},{"$f":"'shaladarpan '!X315","v":0},{"$f":"'shaladarpan '!Y315","v":"N"},{"$f":"'shaladarpan '!Z315","v":"N"},{"$f":"'shaladarpan '!AA315","v":"No"},{"$f":"'shaladarpan '!AB315","v":14},{"$f":"'shaladarpan '!AC315","v":"None"},{"$f":"'shaladarpan '!AD315","v":2}]
[{"$f":"IF(F317=\" \",\" \",ROWS($A$3:A317))","v":315},{"$f":"'shaladarpan '!A316","v":8},{"$f":"'shaladarpan '!B316","v":"A"},{"$f":"'shaladarpan '!C316","v":3893},{"$f":"'shaladarpan '!D316","v":"2015-05-11"},{"$f":"'shaladarpan '!E316","v":"manjeet315"},{"$f":"'shaladarpan '!F316","v":"00:00:00"},{"$f":"'shaladarpan '!G316","v":"vijay315"},{"$f":"'shaladarpan '!H316","v":"beautiful315"},{"$f":"'shaladarpan '!I316","v":"M"},{"$f":"'shaladarpan '!J316","v":"2006-10-15"},{"$f":"'shaladarpan '!K316","v":"no"},{"$f":"'shaladarpan '!L316","v":315},{"$f":"'shaladarpan '!M316","v":0},{"$f":"'shaladarpan '!N316","v":0},{"$f":"'shaladarpan '!O316","v":"SC"},{"$f":"'shaladarpan '!P316","v":"Hindu"},{"$f":"'shaladarpan '!Q316","v":0},{"$f":"'shaladarpan '!R316","v":"GOVT. SENIOR SECONDARY SCHOOL ALNIYAWAS (219445)"},{"$f":"'shaladarpan '!S316","v":8140200308},{"$f":"'shaladarpan '!T316","v":"XXXX1044"},{"$f":"'shaladarpan '!U316","v":0},{"$f":"'shaladarpan '!V316","v":9828121011},{"$f":"'shaladarpan '!W316","v":"alniyawas315"},{"$f":"'shaladarpan '!X316","v":0},{"$f":"'shaladarpan '!Y316","v":"N"},{"$f":"'shaladarpan '!Z316","v":"N"},{"$f":"'shaladarpan '!AA316","v":"No"},{"$f":"'shaladarpan '!AB316","v":14},{"$f":"'shaladarpan '!AC316","v":"None"},{"$f":"'shaladarpan '!AD316","v":0}]
[{"$f":"IF(F318=\" \",\" \",ROWS($A$3:A318))","v":316},{"$f":"'shaladarpan '!A317","v":8},{"$f":"'shaladarpan '!B317","v":"A"},{"$f":"'shaladarpan '!C317","v":4608},{"$f":"'shaladarpan '!D317","v":"2018-07-31"},{"$f":"'shaladarpan '!E317","v":"manjeet316"},{"$f":"'shaladarpan '!F317","v":"00:00:00"},{"$f":"'shaladarpan '!G317","v":"vijay316"},{"$f":"'shaladarpan '!H317","v":"beautiful316"},{"$f":"'shaladarpan '!I317","v":"M"},{"$f":"'shaladarpan '!J317","v":"2005-07-01"},{"$f":"'shaladarpan '!K317","v":"yes"},{"$f":"'shaladarpan '!L317","v":316},{"$f":"'shaladarpan '!M317","v":0},{"$f":"'shaladarpan '!N317","v":0},{"$f":"'shaladarpan '!O317","v":"GEN"},{"$f":"'shaladarpan '!P317","v":"Hindu"},{"$f":"'shaladarpan '!Q317","v":0},{"$f":"'shaladarpan '!R317","v":"GOVT. SENIOR SECONDARY SCHOOL ALNIYAWAS (219445)"},{"$f":"'shaladarpan '!S317","v":8140200308},{"$f":"'shaladarpan '!T317","v":"XXXX6608"},{"$f":"'shaladarpan '!U317","v":"WDYCFMW"},{"$f":"'shaladarpan '!V317","v":9828121012},{"$f":"'shaladarpan '!W317","v":"alniyawas316"},{"$f":"'shaladarpan '!X317","v":45000},{"$f":"'shaladarpan '!Y317","v":"N"},{"$f":"'shaladarpan '!Z317","v":"N"},{"$f":"'shaladarpan '!AA317","v":"No"},{"$f":"'shaladarpan '!AB317","v":15},{"$f":"'shaladarpan '!AC317","v":"None"},{"$f":"'shaladarpan '!AD317","v":5}]
[{"$f":"IF(F319=\" \",\" \",ROWS($A$3:A319))","v":317},{"$f":"'shaladarpan '!A318","v":9},{"$f":"'shaladarpan '!B318","v":"A"},{"$f":"'shaladarpan '!C318","v":3822},{"$f":"'shaladarpan '!D318","v":"2015-05-11"},{"$f":"'shaladarpan '!E318","v":"manjeet317"},{"$f":"'shaladarpan '!F318","v":"00:00:00"},{"$f":"'shaladarpan '!G318","v":"vijay317"},{"$f":"'shaladarpan '!H318","v":"beautiful317"},{"$f":"'shaladarpan '!I318","v":"M"},{"$f":"'shaladarpan '!J318","v":"2006-05-01"},{"$f":"'shaladarpan '!K318","v":"yes"},{"$f":"'shaladarpan '!L318","v":317},{"$f":"'shaladarpan '!M318","v":0},{"$f":"'shaladarpan '!N318","v":0},{"$f":"'shaladarpan '!O318","v":"OBC"},{"$f":"'shaladarpan '!P318","v":"Muslim"},{"$f":"'shaladarpan '!Q318","v":0},{"$f":"'shaladarpan '!R318","v":"GOVT. SENIOR SECONDARY SCHOOL ALNIYAWAS (219445)"},{"$f":"'shaladarpan '!S318","v":8140200308},{"$f":"'shaladarpan '!T318","v":"XXXX8904"},{"$f":"'shaladarpan '!U318","v":0},{"$f":"'shaladarpan '!V318","v":9828121013},{"$f":"'shaladarpan '!W318","v":"alniyawas317"},{"$f":"'shaladarpan '!X318","v":0},{"$f":"'shaladarpan '!Y318","v":"N"},{"$f":"'shaladarpan '!Z318","v":"N"},{"$f":"'shaladarpan '!AA318","v":"Yes"},{"$f":"'shaladarpan '!AB318","v":14},{"$f":"'shaladarpan '!AC318","v":"None"},{"$f":"'shaladarpan '!AD318","v":0}]
[{"$f":"IF(F320=\" \",\" \",ROWS($A$3:A320))","v":318},{"$f":"'shaladarpan '!A319","v":9},{"$f":"'shaladarpan '!B319","v":"A"},{"$f":"'shaladarpan '!C319","v":4266},{"$f":"'shaladarpan '!D319","v":"1900-05-27"},{"$f":"'shaladarpan '!E319","v":"manjeet318"},{"$f":"'shaladarpan '!F319","v":"00:00:00"},{"$f":"'shaladarpan '!G319","v":"vijay318"},{"$f":"'shaladarpan '!H319","v":"beautiful318"},{"$f":"'shaladarpan '!I319","v":"M"},{"$f":"'shaladarpan '!J319","v":"2007-01-02"},{"$f":"'shaladarpan '!K319","v":"no"},{"$f":"'shaladarpan '!L319","v":318},{"$f":"'shaladarpan '!M319","v":0},{"$f":"'shaladarpan '!N319","v":0},{"$f":"'shaladarpan '!O319","v":"SBC"},{"$f":"'shaladarpan '!P319","v":"Hindu"},{"$f":"'shaladarpan '!Q319","v":0},{"$f":"'shaladarpan '!R319","v":"GOVT. SENIOR SECONDARY SCHOOL ALNIYAWAS (219445)"},{"$f":"'shaladarpan '!S319","v":8140200308},{"$f":"'shaladarpan '!T319","v":"XXXX5851"},{"$f":"'shaladarpan '!U319","v":0},{"$f":"'shaladarpan '!V319","v":9828121014},{"$f":"'shaladarpan '!W319","v":"alniyawas318"},{"$f":"'shaladarpan '!X319","v":0},{"$f":"'shaladarpan '!Y319","v":"N"},{"$f":"'shaladarpan '!Z319","v":"N"},{"$f":"'shaladarpan '!AA319","v":"No"},{"$f":"'shaladarpan '!AB319","v":13},{"$f":"'shaladarpan '!AC319","v":"None"},{"$f":"'shaladarpan '!AD319","v":1}]
[{"$f":"IF(F321=\" \",\" \",ROWS($A$3:A321))","v":319},{"$f":"'shaladarpan '!A320","v":9},{"$f":"'shaladarpan '!B320","v":"A"},{"$f":"'shaladarpan '!C320","v":4773},{"$f":"'shaladarpan '!D320","v":"2019-07-25"},{"$f":"'shaladarpan '!E320","v":"manjeet319"},{"$f":"'shaladarpan '!F320","v":"00:00:00"},{"$f":"'shaladarpan '!G320","v":"vijay319"},{"$f":"'shaladarpan '!H320","v":"beautiful319"},{"$f":"'shaladarpan '!I320","v":"F"},{"$f":"'shaladarpan '!J320","v":"2006-12-09"},{"$f":"'shaladarpan '!K320","v":"yes"},{"$f":"'shaladarpan '!L320","v":319},{"$f":"'shaladarpan '!M320","v":0},{"$f":"'shaladarpan '!N320","v":0},{"$f":"'shaladarpan '!O320","v":"OBC"},{"$f":"'shaladarpan '!P320","v":"Hindu"},{"$f":"'shaladarpan '!Q320","v":0},{"$f":"'shaladarpan '!R320","v":"GOVT. SENIOR SECONDARY SCHOOL ALNIYAWAS (219445)"},{"$f":"'shaladarpan '!S320","v":8140200308},{"$f":"'shaladarpan '!T320","v":"XXXX8061"},{"$f":"'shaladarpan '!U320","v":0},{"$f":"'shaladarpan '!V320","v":9828121015},{"$f":"'shaladarpan '!W320","v":"alniyawas319"},{"$f":"'shaladarpan '!X320","v":60000},{"$f":"'shaladarpan '!Y320","v":"N"},{"$f":"'shaladarpan '!Z320","v":"N"},{"$f":"'shaladarpan '!AA320","v":"No"},{"$f":"'shaladarpan '!AB320","v":14},{"$f":"'shaladarpan '!AC320","v":"None"},{"$f":"'shaladarpan '!AD320","v":3}]
[{"$f":"IF(F322=\" \",\" \",ROWS($A$3:A322))","v":320},{"$f":"'shaladarpan '!A321","v":9},{"$f":"'shaladarpan '!B321","v":"A"},{"$f":"'shaladarpan '!C321","v":3844},{"$f":"'shaladarpan '!D321","v":"2015-05-11"},{"$f":"'shaladarpan '!E321","v":"manjeet320"},{"$f":"'shaladarpan '!F321","v":"00:00:00"},{"$f":"'shaladarpan '!G321","v":"vijay320"},{"$f":"'shaladarpan '!H321","v":"beautiful320"},{"$f":"'shaladarpan '!I321","v":"F"},{"$f":"'shaladarpan '!J321","v":"2005-07-10"},{"$f":"'shaladarpan '!K321","v":"yes"},{"$f":"'shaladarpan '!L321","v":320},{"$f":"'shaladarpan '!M321","v":0},{"$f":"'shaladarpan '!N321","v":0},{"$f":"'shaladarpan '!O321","v":"OBC"},{"$f":"'shaladarpan '!P321","v":"Muslim"},{"$f":"'shaladarpan '!Q321","v":0},{"$f":"'shaladarpan '!R321","v":"GOVT. SENIOR SECONDARY SCHOOL ALNIYAWAS (219445)"},{"$f":"'shaladarpan '!S321","v":8140200308},{"$f":"'shaladarpan '!T321","v":"XXXX0408"},{"$f":"'shaladarpan '!U321","v":0},{"$f":"'shaladarpan '!V321","v":9828121016},{"$f":"'shaladarpan '!W321","v":"alniyawas320"},{"$f":"'shaladarpan '!X321","v":36000},{"$f":"'shaladarpan '!Y321","v":"N"},{"$f":"'shaladarpan '!Z321","v":"N"},{"$f":"'shaladarpan '!AA321","v":"Yes"},{"$f":"'shaladarpan '!AB321","v":15},{"$f":"'shaladarpan '!AC321","v":"None"},{"$f":"'shaladarpan '!AD321","v":1}]
[{"$f":"IF(F323=\" \",\" \",ROWS($A$3:A323))","v":321},{"$f":"'shaladarpan '!A322","v":9},{"$f":"'shaladarpan '!B322","v":"A"},{"$f":"'shaladarpan '!C322","v":4821},{"$f":"'shaladarpan '!D322","v":"2012-05-03"},{"$f":"'shaladarpan '!E322","v":"manjeet321"},{"$f":"'shaladarpan '!F322","v":"00:00:00"},{"$f":"'shaladarpan '!G322","v":"vijay321"},{"$f":"'shaladarpan '!H322","v":"beautiful321"},{"$f":"'shaladarpan '!I322","v":"M"},{"$f":"'shaladarpan '!J322","v":"2007-09-17"},{"$f":"'shaladarpan '!K322","v":"no"},{"$f":"'shaladarpan '!L322","v":321},{"$f":"'shaladarpan '!M322","v":0},{"$f":"'shaladarpan '!N322","v":0},{"$f":"'shaladarpan '!O322","v":"OBC"},{"$f":"'shaladarpan '!P322","v":"Muslim"},{"$f":"'shaladarpan '!Q322","v":0},{"$f":"'shaladarpan '!R322","v":"GOVT. SENIOR SECONDARY SCHOOL ALNIYAWAS (219445)"},{"$f":"'shaladarpan '!S322","v":8140200308},{"$f":"'shaladarpan '!T322","v":"XXXX2055"},{"$f":"'shaladarpan '!U322","v":"YQQWKUF"},{"$f":"'shaladarpan '!V322","v":9828121017},{"$f":"'shaladarpan '!W322","v":"alniyawas321"},{"$f":"'shaladarpan '!X322","v":60000},{"$f":"'shaladarpan '!Y322","v":"N"},{"$f":"'shaladarpan '!Z322","v":"N"},{"$f":"'shaladarpan '!AA322","v":"Yes"},{"$f":"'shaladarpan '!AB322","v":13},{"$f":"'shaladarpan '!AC322","v":"None"},{"$f":"'shaladarpan '!AD322","v":0}]
[{"$f":"IF(F324=\" \",\" \",ROWS($A$3:A324))","v":322},{"$f":"'shaladarpan '!A323","v":9},{"$f":"'shaladarpan '!B323","v":"A"},{"$f":"'shaladarpan '!C323","v":4454},{"$f":"'shaladarpan '!D323","v":"2018-07-02"},{"$f":"'shaladarpan '!E323","v":"manjeet322"},{"$f":"'shaladarpan '!F323","v":"00:00:00"},{"$f":"'shaladarpan '!G323","v":"vijay322"},{"$f":"'shaladarpan '!H323","v":"beautiful322"},{"$f":"'shaladarpan '!I323","v":"M"},{"$f":"'shaladarpan '!J323","v":"2007-05-25"},{"$f":"'shaladarpan '!K323","v":"yes"},{"$f":"'shaladarpan '!L323","v":322},{"$f":"'shaladarpan '!M323","v":0},{"$f":"'shaladarpan '!N323","v":0},{"$f":"'shaladarpan '!O323","v":"OBC"},{"$f":"'shaladarpan '!P323","v":"Hindu"},{"$f":"'shaladarpan '!Q323","v":0},{"$f":"'shaladarpan '!R323","v":"GOVT. SENIOR SECONDARY SCHOOL ALNIYAWAS (219445)"},{"$f":"'shaladarpan '!S323","v":8140200308},{"$f":"'shaladarpan '!T323","v":"XXXX8900"},{"$f":"'shaladarpan '!U323","v":0},{"$f":"'shaladarpan '!V323","v":9828121018},{"$f":"'shaladarpan '!W323","v":"alniyawas322"},{"$f":"'shaladarpan '!X323","v":50000},{"$f":"'shaladarpan '!Y323","v":"N"},{"$f":"'shaladarpan '!Z323","v":"N"},{"$f":"'shaladarpan '!AA323","v":"No"},{"$f":"'shaladarpan '!AB323","v":13},{"$f":"'shaladarpan '!AC323","v":"None"},{"$f":"'shaladarpan '!AD323","v":2}]
[{"$f":"IF(F325=\" \",\" \",ROWS($A$3:A325))","v":323},{"$f":"'shaladarpan '!A324","v":9},{"$f":"'shaladarpan '!B324","v":"A"},{"$f":"'shaladarpan '!C324","v":4828},{"$f":"'shaladarpan '!D324","v":"00:00:00"},{"$f":"'shaladarpan '!E324","v":"manjeet323"},{"$f":"'shaladarpan '!F324","v":"00:00:00"},{"$f":"'shaladarpan '!G324","v":"vijay323"},{"$f":"'shaladarpan '!H324","v":"beautiful323"},{"$f":"'shaladarpan '!I324","v":"M"},{"$f":"'shaladarpan '!J324","v":"2008-04-23"},{"$f":"'shaladarpan '!K324","v":"yes"},{"$f":"'shaladarpan '!L324","v":323},{"$f":"'shaladarpan '!M324","v":0},{"$f":"'shaladarpan '!N324","v":0},{"$f":"'shaladarpan '!O324","v":"GEN"},{"$f":"'shaladarpan '!P324","v":0},{"$f":"'shaladarpan '!Q324","v":0},{"$f":"'shaladarpan '!R324","v":"GOVT. SENIOR SECONDARY SCHOOL ALNIYAWAS (219445)"},{"$f":"'shaladarpan '!S324","v":8140200308},{"$f":"'shaladarpan '!T324","v":0},{"$f":"'shaladarpan '!U324","v":0},{"$f":"'shaladarpan '!V324","v":9828121019},{"$f":"'shaladarpan '!W324","v":"alniyawas323"},{"$f":"'shaladarpan '!X324","v":0},{"$f":"'shaladarpan '!Y324","v":"N"},{"$f":"'shaladarpan '!Z324","v":"Y"},{"$f":"'shaladarpan '!AA324","v":0},{"$f":"'shaladarpan '!AB324","v":12},{"$f":"'shaladarpan '!AC324","v":0},{"$f":"'shaladarpan '!AD324","v":1}]
[{"$f":"IF(F326=\" \",\" \",ROWS($A$3:A326))","v":324},{"$f":"'shaladarpan '!A325","v":9},{"$f":"'shaladarpan '!B325","v":"A"},{"$f":"'shaladarpan '!C325","v":4544},{"$f":"'shaladarpan '!D325","v":"2018-07-10"},{"$f":"'shaladarpan '!E325","v":"manjeet324"},{"$f":"'shaladarpan '!F325","v":"00:00:00"},{"$f":"'shaladarpan '!G325","v":"vijay324"},{"$f":"'shaladarpan '!H325","v":"beautiful324"},{"$f":"'shaladarpan '!I325","v":"F"},{"$f":"'shaladarpan '!J325","v":"2007-07-07"},{"$f":"'shaladarpan '!K325","v":"no"},{"$f":"'shaladarpan '!L325","v":324},{"$f":"'shaladarpan '!M325","v":0},{"$f":"'shaladarpan '!N325","v":0},{"$f":"'shaladarpan '!O325","v":"OBC"},{"$f":"'shaladarpan '!P325","v":"Hindu"},{"$f":"'shaladarpan '!Q325","v":0},{"$f":"'shaladarpan '!R325","v":"GOVT. SENIOR SECONDARY SCHOOL ALNIYAWAS (219445)"},{"$f":"'shaladarpan '!S325","v":8140200308},{"$f":"'shaladarpan '!T325","v":"XXXX4412"},{"$f":"'shaladarpan '!U325","v":0},{"$f":"'shaladarpan '!V325","v":9828121020},{"$f":"'shaladarpan '!W325","v":"alniyawas324"},{"$f":"'shaladarpan '!X325","v":60000},{"$f":"'shaladarpan '!Y325","v":"N"},{"$f":"'shaladarpan '!Z325","v":"N"},{"$f":"'shaladarpan '!AA325","v":"No"},{"$f":"'shaladarpan '!AB325","v":13},{"$f":"'shaladarpan '!AC325","v":"None"},{"$f":"'shaladarpan '!AD325","v":1}]
[{"$f":"IF(F327=\" \",\" \",ROWS($A$3:A327))","v":325},{"$f":"'shaladarpan '!A326","v":9},{"$f":"'shaladarpan '!B326","v":"A"},{"$f":"'shaladarpan '!C326","v":3820},{"$f":"'shaladarpan '!D326","v":"2015-05-11"},{"$f":"'shaladarpan '!E326","v":"manjeet325"},{"$f":"'shaladarpan '!F326","v":"00:00:00"},{"$f":"'shaladarpan '!G326","v":"vijay325"},{"$f":"'shaladarpan '!H326","v":"beautiful325"},{"$f":"'shaladarpan '!I326","v":"M"},{"$f":"'shaladarpan '!J326","v":"2006-03-05"},{"$f":"'shaladarpan '!K326","v":"yes"},{"$f":"'shaladarpan '!L326","v":325},{"$f":"'shaladarpan '!M326","v":0},{"$f":"'shaladarpan '!N326","v":0},{"$f":"'shaladarpan '!O326","v":"OBC"},{"$f":"'shaladarpan '!P326","v":"Muslim"},{"$f":"'shaladarpan '!Q326","v":0},{"$f":"'shaladarpan '!R326","v":"GOVT. SENIOR SECONDARY SCHOOL ALNIYAWAS (219445)"},{"$f":"'shaladarpan '!S326","v":8140200308},{"$f":"'shaladarpan '!T326","v":"XXXX2763"},{"$f":"'shaladarpan '!U326","v":0},{"$f":"'shaladarpan '!V326","v":9828121021},{"$f":"'shaladarpan '!W326","v":"alniyawas325"},{"$f":"'shaladarpan '!X326","v":0},{"$f":"'shaladarpan '!Y326","v":"N"},{"$f":"'shaladarpan '!Z326","v":"N"},{"$f":"'shaladarpan '!AA326","v":"Yes"},{"$f":"'shaladarpan '!AB326","v":14},{"$f":"'shaladarpan '!AC326","v":"None"},{"$f":"'shaladarpan '!AD326","v":1}]
[{"$f":"IF(F328=\" \",\" \",ROWS($A$3:A328))","v":326},{"$f":"'shaladarpan '!A327","v":9},{"$f":"'shaladarpan '!B327","v":"A"},{"$f":"'shaladarpan '!C327","v":4823},{"$f":"'shaladarpan '!D327","v":"00:00:00"},{"$f":"'shaladarpan '!E327","v":"manjeet326"},{"$f":"'shaladarpan '!F327","v":"00:00:00"},{"$f":"'shaladarpan '!G327","v":"vijay326"},{"$f":"'shaladarpan '!H327","v":"beautiful326"},{"$f":"'shaladarpan '!I327","v":"F"},{"$f":"'shaladarpan '!J327","v":"2006-05-10"},{"$f":"'shaladarpan '!K327","v":"yes"},{"$f":"'shaladarpan '!L327","v":326},{"$f":"'shaladarpan '!M327","v":0},{"$f":"'shaladarpan '!N327","v":0},{"$f":"'shaladarpan '!O327","v":"OBC"},{"$f":"'shaladarpan '!P327","v":0},{"$f":"'shaladarpan '!Q327","v":0},{"$f":"'shaladarpan '!R327","v":"GOVT. SENIOR SECONDARY SCHOOL ALNIYAWAS (219445)"},{"$f":"'shaladarpan '!S327","v":8140200308},{"$f":"'shaladarpan '!T327","v":0},{"$f":"'shaladarpan '!U327","v":0},{"$f":"'shaladarpan '!V327","v":9828121022},{"$f":"'shaladarpan '!W327","v":"alniyawas326"},{"$f":"'shaladarpan '!X327","v":0},{"$f":"'shaladarpan '!Y327","v":"N"},{"$f":"'shaladarpan '!Z327","v":"Y"},{"$f":"'shaladarpan '!AA327","v":0},{"$f":"'shaladarpan '!AB327","v":14},{"$f":"'shaladarpan '!AC327","v":0},{"$f":"'shaladarpan '!AD327","v":2}]
[{"$f":"IF(F329=\" \",\" \",ROWS($A$3:A329))","v":327},{"$f":"'shaladarpan '!A328","v":9},{"$f":"'shaladarpan '!B328","v":"A"},{"$f":"'shaladarpan '!C328","v":4824},{"$f":"'shaladarpan '!D328","v":"00:00:00"},{"$f":"'shaladarpan '!E328","v":"manjeet327"},{"$f":"'shaladarpan '!F328","v":"00:00:00"},{"$f":"'shaladarpan '!G328","v":"vijay327"},{"$f":"'shaladarpan '!H328","v":"beautiful327"},{"$f":"'shaladarpan '!I328","v":"F"},{"$f":"'shaladarpan '!J328","v":"2004-07-07"},{"$f":"'shaladarpan '!K328","v":"no"},{"$f":"'shaladarpan '!L328","v":327},{"$f":"'shaladarpan '!M328","v":0},{"$f":"'shaladarpan '!N328","v":0},{"$f":"'shaladarpan '!O328","v":"OBC"},{"$f":"'shaladarpan '!P328","v":0},{"$f":"'shaladarpan '!Q328","v":0},{"$f":"'shaladarpan '!R328","v":"GOVT. SENIOR SECONDARY SCHOOL ALNIYAWAS (219445)"},{"$f":"'shaladarpan '!S328","v":8140200308},{"$f":"'shaladarpan '!T328","v":0},{"$f":"'shaladarpan '!U328","v":0},{"$f":"'shaladarpan '!V328","v":9828121023},{"$f":"'shaladarpan '!W328","v":"alniyawas327"},{"$f":"'shaladarpan '!X328","v":0},{"$f":"'shaladarpan '!Y328","v":"N"},{"$f":"'shaladarpan '!Z328","v":"Y"},{"$f":"'shaladarpan '!AA328","v":0},{"$f":"'shaladarpan '!AB328","v":16},{"$f":"'shaladarpan '!AC328","v":0},{"$f":"'shaladarpan '!AD328","v":2}]
[{"$f":"IF(F330=\" \",\" \",ROWS($A$3:A330))","v":328},{"$f":"'shaladarpan '!A329","v":9},{"$f":"'shaladarpan '!B329","v":"A"},{"$f":"'shaladarpan '!C329","v":4145},{"$f":"'shaladarpan '!D329","v":"2016-07-02"},{"$f":"'shaladarpan '!E329","v":"manjeet328"},{"$f":"'shaladarpan '!F329","v":"00:00:00"},{"$f":"'shaladarpan '!G329","v":"vijay328"},{"$f":"'shaladarpan '!H329","v":"beautiful328"},{"$f":"'shaladarpan '!I329","v":"M"},{"$f":"'shaladarpan '!J329","v":"2004-05-12"},{"$f":"'shaladarpan '!K329","v":"yes"},{"$f":"'shaladarpan '!L329","v":328},{"$f":"'shaladarpan '!M329","v":0},{"$f":"'shaladarpan '!N329","v":0},{"$f":"'shaladarpan '!O329","v":"SC"},{"$f":"'shaladarpan '!P329","v":"Hindu"},{"$f":"'shaladarpan '!Q329","v":0},{"$f":"'shaladarpan '!R329","v":"GOVT. SENIOR SECONDARY SCHOOL ALNIYAWAS (219445)"},{"$f":"'shaladarpan '!S329","v":8140200308},{"$f":"'shaladarpan '!T329","v":"XXXX0192"},{"$f":"'shaladarpan '!U329","v":0},{"$f":"'shaladarpan '!V329","v":9828121024},{"$f":"'shaladarpan '!W329","v":"alniyawas328"},{"$f":"'shaladarpan '!X329","v":0},{"$f":"'shaladarpan '!Y329","v":"N"},{"$f":"'shaladarpan '!Z329","v":"N"},{"$f":"'shaladarpan '!AA329","v":"No"},{"$f":"'shaladarpan '!AB329","v":16},{"$f":"'shaladarpan '!AC329","v":"None"},{"$f":"'shaladarpan '!AD329","v":3}]
[{"$f":"IF(F331=\" \",\" \",ROWS($A$3:A331))","v":329},{"$f":"'shaladarpan '!A330","v":9},{"$f":"'shaladarpan '!B330","v":"A"},{"$f":"'shaladarpan '!C330","v":4273},{"$f":"'shaladarpan '!D330","v":"2017-06-29"},{"$f":"'shaladarpan '!E330","v":"manjeet329"},{"$f":"'shaladarpan '!F330","v":"00:00:00"},{"$f":"'shaladarpan '!G330","v":"vijay329"},{"$f":"'shaladarpan '!H330","v":"beautiful329"},{"$f":"'shaladarpan '!I330","v":"F"},{"$f":"'shaladarpan '!J330","v":"2006-06-24"},{"$f":"'shaladarpan '!K330","v":"yes"},{"$f":"'shaladarpan '!L330","v":329},{"$f":"'shaladarpan '!M330","v":0},{"$f":"'shaladarpan '!N330","v":0},{"$f":"'shaladarpan '!O330","v":"OBC"},{"$f":"'shaladarpan '!P330","v":"Hindu"},{"$f":"'shaladarpan '!Q330","v":0},{"$f":"'shaladarpan '!R330","v":"GOVT. SENIOR SECONDARY SCHOOL ALNIYAWAS (219445)"},{"$f":"'shaladarpan '!S330","v":8140200308},{"$f":"'shaladarpan '!T330","v":"XXXX6856"},{"$f":"'shaladarpan '!U330","v":0},{"$f":"'shaladarpan '!V330","v":9828121025},{"$f":"'shaladarpan '!W330","v":"alniyawas329"},{"$f":"'shaladarpan '!X330","v":0},{"$f":"'shaladarpan '!Y330","v":"N"},{"$f":"'shaladarpan '!Z330","v":"N"},{"$f":"'shaladarpan '!AA330","v":"No"},{"$f":"'shaladarpan '!AB330","v":14},{"$f":"'shaladarpan '!AC330","v":"None"},{"$f":"'shaladarpan '!AD330","v":5}]
[{"$f":"IF(F332=\" \",\" \",ROWS($A$3:A332))","v":330},{"$f":"'shaladarpan '!A331","v":9},{"$f":"'shaladarpan '!B331","v":"A"},{"$f":"'shaladarpan '!C331","v":3846},{"$f":"'shaladarpan '!D331","v":"2015-05-11"},{"$f":"'shaladarpan '!E331","v":"manjeet330"},{"$f":"'shaladarpan '!F331","v":"00:00:00"},{"$f":"'shaladarpan '!G331","v":"vijay330"},{"$f":"'shaladarpan '!H331","v":"beautiful330"},{"$f":"'shaladarpan '!I331","v":"F"},{"$f":"'shaladarpan '!J331","v":"2006-06-05"},{"$f":"'shaladarpan '!K331","v":"no"},{"$f":"'shaladarpan '!L331","v":330},{"$f":"'shaladarpan '!M331","v":0},{"$f":"'shaladarpan '!N331","v":0},{"$f":"'shaladarpan '!O331","v":"OBC"},{"$f":"'shaladarpan '!P331","v":"Muslim"},{"$f":"'shaladarpan '!Q331","v":0},{"$f":"'shaladarpan '!R331","v":"GOVT. SENIOR SECONDARY SCHOOL ALNIYAWAS (219445)"},{"$f":"'shaladarpan '!S331","v":8140200308},{"$f":"'shaladarpan '!T331","v":"XXXX5653"},{"$f":"'shaladarpan '!U331","v":0},{"$f":"'shaladarpan '!V331","v":9828121026},{"$f":"'shaladarpan '!W331","v":"alniyawas330"},{"$f":"'shaladarpan '!X331","v":0},{"$f":"'shaladarpan '!Y331","v":"N"},{"$f":"'shaladarpan '!Z331","v":"N"},{"$f":"'shaladarpan '!AA331","v":"Yes"},{"$f":"'shaladarpan '!AB331","v":14},{"$f":"'shaladarpan '!AC331","v":"None"},{"$f":"'shaladarpan '!AD331","v":1}]
[{"$f":"IF(F333=\" \",\" \",ROWS($A$3:A333))","v":331},{"$f":"'shaladarpan '!A332","v":9},{"$f":"'shaladarpan '!B332","v":"A"},{"$f":"'shaladarpan '!C332","v":3833},{"$f":"'shaladarpan '!D332","v":"2015-05-11"},{"$f":"'shaladarpan '!E332","v":"manjeet331"},{"$f":"'shaladarpan '!F332","v":"00:00:00"},{"$f":"'shaladarpan '!G332","v":"vijay331"},{"$f":"'shaladarpan '!H332","v":"beautiful331"},{"$f":"'shaladarpan '!I332","v":"F"},{"$f":"'shaladarpan '!J332","v":"2006-07-07"},{"$f":"'shaladarpan '!K332","v":"yes"},{"$f":"'shaladarpan '!L332","v":331},{"$f":"'shaladarpan '!M332","v":0},{"$f":"'shaladarpan '!N332","v":0},{"$f":"'shaladarpan '!O332","v":"SC"},{"$f":"'shaladarpan '!P332","v":"Hindu"},{"$f":"'shaladarpan '!Q332","v":0},{"$f":"'shaladarpan '!R332","v":"GOVT. SENIOR SECONDARY SCHOOL ALNIYAWAS (219445)"},{"$f":"'shaladarpan '!S332","v":8140200308},{"$f":"'shaladarpan '!T332","v":"XXXX0525"},{"$f":"'shaladarpan '!U332","v":"YBOKWIK"},{"$f":"'shaladarpan '!V332","v":9828121027},{"$f":"'shaladarpan '!W332","v":"alniyawas331"},{"$f":"'shaladarpan '!X332","v":120000},{"$f":"'shaladarpan '!Y332","v":"N"},{"$f":"'shaladarpan '!Z332","v":"N"},{"$f":"'shaladarpan '!AA332","v":"No"},{"$f":"'shaladarpan '!AB332","v":14},{"$f":"'shaladarpan '!AC332","v":"None"},{"$f":"'shaladarpan '!AD332","v":1}]
[{"$f":"IF(F334=\" \",\" \",ROWS($A$3:A334))","v":332},{"$f":"'shaladarpan '!A333","v":9},{"$f":"'shaladarpan '!B333","v":"A"},{"$f":"'shaladarpan '!C333","v":4387},{"$f":"'shaladarpan '!D333","v":"2017-07-14"},{"$f":"'shaladarpan '!E333","v":"manjeet332"},{"$f":"'shaladarpan '!F333","v":"00:00:00"},{"$f":"'shaladarpan '!G333","v":"vijay332"},{"$f":"'shaladarpan '!H333","v":"beautiful332"},{"$f":"'shaladarpan '!I333","v":"F"},{"$f":"'shaladarpan '!J333","v":"2006-07-06"},{"$f":"'shaladarpan '!K333","v":"yes"},{"$f":"'shaladarpan '!L333","v":332},{"$f":"'shaladarpan '!M333","v":0},{"$f":"'shaladarpan '!N333","v":0},{"$f":"'shaladarpan '!O333","v":"GEN"},{"$f":"'shaladarpan '!P333","v":"Hindu"},{"$f":"'shaladarpan '!Q333","v":0},{"$f":"'shaladarpan '!R333","v":"GOVT. SENIOR SECONDARY SCHOOL ALNIYAWAS (219445)"},{"$f":"'shaladarpan '!S333","v":8140200308},{"$f":"'shaladarpan '!T333","v":"XXXX9406"},{"$f":"'shaladarpan '!U333","v":0},{"$f":"'shaladarpan '!V333","v":9828121028},{"$f":"'shaladarpan '!W333","v":"alniyawas332"},{"$f":"'shaladarpan '!X333","v":0},{"$f":"'shaladarpan '!Y333","v":"N"},{"$f":"'shaladarpan '!Z333","v":"N"},{"$f":"'shaladarpan '!AA333","v":"No"},{"$f":"'shaladarpan '!AB333","v":14},{"$f":"'shaladarpan '!AC333","v":"None"},{"$f":"'shaladarpan '!AD333","v":5}]
[{"$f":"IF(F335=\" \",\" \",ROWS($A$3:A335))","v":333},{"$f":"'shaladarpan '!A334","v":9},{"$f":"'shaladarpan '!B334","v":"A"},{"$f":"'shaladarpan '!C334","v":4813},{"$f":"'shaladarpan '!D334","v":"2013-05-08"},{"$f":"'shaladarpan '!E334","v":"manjeet333"},{"$f":"'shaladarpan '!F334","v":"00:00:00"},{"$f":"'shaladarpan '!G334","v":"vijay333"},{"$f":"'shaladarpan '!H334","v":"beautiful333"},{"$f":"'shaladarpan '!I334","v":"M"},{"$f":"'shaladarpan '!J334","v":"2004-08-15"},{"$f":"'shaladarpan '!K334","v":"no"},{"$f":"'shaladarpan '!L334","v":333},{"$f":"'shaladarpan '!M334","v":0},{"$f":"'shaladarpan '!N334","v":0},{"$f":"'shaladarpan '!O334","v":"OBC"},{"$f":"'shaladarpan '!P334","v":"Hindu"},{"$f":"'shaladarpan '!Q334","v":0},{"$f":"'shaladarpan '!R334","v":"GOVT. SENIOR SECONDARY SCHOOL ALNIYAWAS (219445)"},{"$f":"'shaladarpan '!S334","v":8140200308},{"$f":"'shaladarpan '!T334","v":"XXXX0242"},{"$f":"'shaladarpan '!U334","v":"YOEOCMW"},{"$f":"'shaladarpan '!V334","v":9828121029},{"$f":"'shaladarpan '!W334","v":"alniyawas333"},{"$f":"'shaladarpan '!X334","v":65000},{"$f":"'shaladarpan '!Y334","v":"N"},{"$f":"'shaladarpan '!Z334","v":"N"},{"$f":"'shaladarpan '!AA334","v":"No"},{"$f":"'shaladarpan '!AB334","v":16},{"$f":"'shaladarpan '!AC334","v":"None"},{"$f":"'shaladarpan '!AD334","v":2.5}]
[{"$f":"IF(F336=\" \",\" \",ROWS($A$3:A336))","v":334},{"$f":"'shaladarpan '!A335","v":9},{"$f":"'shaladarpan '!B335","v":"A"},{"$f":"'shaladarpan '!C335","v":4291},{"$f":"'shaladarpan '!D335","v":"2017-06-30"},{"$f":"'shaladarpan '!E335","v":"manjeet334"},{"$f":"'shaladarpan '!F335","v":"00:00:00"},{"$f":"'shaladarpan '!G335","v":"vijay334"},{"$f":"'shaladarpan '!H335","v":"beautiful334"},{"$f":"'shaladarpan '!I335","v":"F"},{"$f":"'shaladarpan '!J335","v":"2006-02-08"},{"$f":"'shaladarpan '!K335","v":"yes"},{"$f":"'shaladarpan '!L335","v":334},{"$f":"'shaladarpan '!M335","v":0},{"$f":"'shaladarpan '!N335","v":0},{"$f":"'shaladarpan '!O335","v":"OBC"},{"$f":"'shaladarpan '!P335","v":"Hindu"},{"$f":"'shaladarpan '!Q335","v":0},{"$f":"'shaladarpan '!R335","v":"GOVT. SENIOR SECONDARY SCHOOL ALNIYAWAS (219445)"},{"$f":"'shaladarpan '!S335","v":8140200308},{"$f":"'shaladarpan '!T335","v":"XXXX6009"},{"$f":"'shaladarpan '!U335","v":0},{"$f":"'shaladarpan '!V335","v":9828121030},{"$f":"'shaladarpan '!W335","v":"alniyawas334"},{"$f":"'shaladarpan '!X335","v":0},{"$f":"'shaladarpan '!Y335","v":"N"},{"$f":"'shaladarpan '!Z335","v":"N"},{"$f":"'shaladarpan '!AA335","v":"No"},{"$f":"'shaladarpan '!AB335","v":14},{"$f":"'shaladarpan '!AC335","v":"None"},{"$f":"'shaladarpan '!AD335","v":3}]
[{"$f":"IF(F337=\" \",\" \",ROWS($A$3:A337))","v":335},{"$f":"'shaladarpan '!A336","v":9},{"$f":"'shaladarpan '!B336","v":"A"},{"$f":"'shaladarpan '!C336","v":4889},{"$f":"'shaladarpan '!D336","v":"2016-07-12"},{"$f":"'shaladarpan '!E336","v":"manjeet335"},{"$f":"'shaladarpan '!F336","v":"00:00:00"},{"$f":"'shaladarpan '!G336","v":"vijay335"},{"$f":"'shaladarpan '!H336","v":"beautiful335"},{"$f":"'shaladarpan '!I336","v":"M"},{"$f":"'shaladarpan '!J336","v":"2007-07-25"},{"$f":"'shaladarpan '!K336","v":"yes"},{"$f":"'shaladarpan '!L336","v":335},{"$f":"'shaladarpan '!M336","v":0},{"$f":"'shaladarpan '!N336","v":0},{"$f":"'shaladarpan '!O336","v":"OBC"},{"$f":"'shaladarpan '!P336","v":"Muslim"},{"$f":"'shaladarpan '!Q336","v":0},{"$f":"'shaladarpan '!R336","v":"GOVT. SENIOR SECONDARY SCHOOL ALNIYAWAS (219445)"},{"$f":"'shaladarpan '!S336","v":8140200308},{"$f":"'shaladarpan '!T336","v":"XXXX6794"},{"$f":"'shaladarpan '!U336","v":"VXSWSZH"},{"$f":"'shaladarpan '!V336","v":9828121031},{"$f":"'shaladarpan '!W336","v":"alniyawas335"},{"$f":"'shaladarpan '!X336","v":120000},{"$f":"'shaladarpan '!Y336","v":"N"},{"$f":"'shaladarpan '!Z336","v":"N"},{"$f":"'shaladarpan '!AA336","v":"Yes"},{"$f":"'shaladarpan '!AB336","v":13},{"$f":"'shaladarpan '!AC336","v":"None"},{"$f":"'shaladarpan '!AD336","v":0}]
[{"$f":"IF(F338=\" \",\" \",ROWS($A$3:A338))","v":336},{"$f":"'shaladarpan '!A337","v":9},{"$f":"'shaladarpan '!B337","v":"A"},{"$f":"'shaladarpan '!C337","v":4643},{"$f":"'shaladarpan '!D337","v":"2019-07-04"},{"$f":"'shaladarpan '!E337","v":"manjeet336"},{"$f":"'shaladarpan '!F337","v":"00:00:00"},{"$f":"'shaladarpan '!G337","v":"vijay336"},{"$f":"'shaladarpan '!H337","v":"beautiful336"},{"$f":"'shaladarpan '!I337","v":"M"},{"$f":"'shaladarpan '!J337","v":"2008-08-17"},{"$f":"'shaladarpan '!K337","v":"no"},{"$f":"'shaladarpan '!L337","v":336},{"$f":"'shaladarpan '!M337","v":0},{"$f":"'shaladarpan '!N337","v":0},{"$f":"'shaladarpan '!O337","v":"GEN"},{"$f":"'shaladarpan '!P337","v":"Hindu"},{"$f":"'shaladarpan '!Q337","v":0},{"$f":"'shaladarpan '!R337","v":"GOVT. SENIOR SECONDARY SCHOOL ALNIYAWAS (219445)"},{"$f":"'shaladarpan '!S337","v":8140200308},{"$f":"'shaladarpan '!T337","v":"XXXX0104"},{"$f":"'shaladarpan '!U337","v":0},{"$f":"'shaladarpan '!V337","v":9828121032},{"$f":"'shaladarpan '!W337","v":"alniyawas336"},{"$f":"'shaladarpan '!X337","v":60000},{"$f":"'shaladarpan '!Y337","v":"N"},{"$f":"'shaladarpan '!Z337","v":"N"},{"$f":"'shaladarpan '!AA337","v":"No"},{"$f":"'shaladarpan '!AB337","v":12},{"$f":"'shaladarpan '!AC337","v":"None"},{"$f":"'shaladarpan '!AD337","v":0}]
[{"$f":"IF(F339=\" \",\" \",ROWS($A$3:A339))","v":337},{"$f":"'shaladarpan '!A338","v":9},{"$f":"'shaladarpan '!B338","v":"A"},{"$f":"'shaladarpan '!C338","v":3817},{"$f":"'shaladarpan '!D338","v":"2015-05-11"},{"$f":"'shaladarpan '!E338","v":"manjeet337"},{"$f":"'shaladarpan '!F338","v":"00:00:00"},{"$f":"'shaladarpan '!G338","v":"vijay337"},{"$f":"'shaladarpan '!H338","v":"beautiful337"},{"$f":"'shaladarpan '!I338","v":"F"},{"$f":"'shaladarpan '!J338","v":"2006-04-11"},{"$f":"'shaladarpan '!K338","v":"yes"},{"$f":"'shaladarpan '!L338","v":337},{"$f":"'shaladarpan '!M338","v":0},{"$f":"'shaladarpan '!N338","v":0},{"$f":"'shaladarpan '!O338","v":"OBC"},{"$f":"'shaladarpan '!P338","v":"Muslim"},{"$f":"'shaladarpan '!Q338","v":0},{"$f":"'shaladarpan '!R338","v":"GOVT. SENIOR SECONDARY SCHOOL ALNIYAWAS (219445)"},{"$f":"'shaladarpan '!S338","v":8140200308},{"$f":"'shaladarpan '!T338","v":"XXXX0577"},{"$f":"'shaladarpan '!U338","v":0},{"$f":"'shaladarpan '!V338","v":9828121033},{"$f":"'shaladarpan '!W338","v":"alniyawas337"},{"$f":"'shaladarpan '!X338","v":0},{"$f":"'shaladarpan '!Y338","v":"N"},{"$f":"'shaladarpan '!Z338","v":"N"},{"$f":"'shaladarpan '!AA338","v":"Yes"},{"$f":"'shaladarpan '!AB338","v":14},{"$f":"'shaladarpan '!AC338","v":"None"},{"$f":"'shaladarpan '!AD338","v":1}]
[{"$f":"IF(F340=\" \",\" \",ROWS($A$3:A340))","v":338},{"$f":"'shaladarpan '!A339","v":9},{"$f":"'shaladarpan '!B339","v":"A"},{"$f":"'shaladarpan '!C339","v":4772},{"$f":"'shaladarpan '!D339","v":"2019-07-25"},{"$f":"'shaladarpan '!E339","v":"manjeet338"},{"$f":"'shaladarpan '!F339","v":"00:00:00"},{"$f":"'shaladarpan '!G339","v":"vijay338"},{"$f":"'shaladarpan '!H339","v":"beautiful338"},{"$f":"'shaladarpan '!I339","v":"F"},{"$f":"'shaladarpan '!J339","v":"2005-08-27"},{"$f":"'shaladarpan '!K339","v":"yes"},{"$f":"'shaladarpan '!L339","v":338},{"$f":"'shaladarpan '!M339","v":0},{"$f":"'shaladarpan '!N339","v":0},{"$f":"'shaladarpan '!O339","v":"OBC"},{"$f":"'shaladarpan '!P339","v":"Hindu"},{"$f":"'shaladarpan '!Q339","v":0},{"$f":"'shaladarpan '!R339","v":"GOVT. SENIOR SECONDARY SCHOOL ALNIYAWAS (219445)"},{"$f":"'shaladarpan '!S339","v":8140200308},{"$f":"'shaladarpan '!T339","v":"XXXX2916"},{"$f":"'shaladarpan '!U339","v":"ymukugo"},{"$f":"'shaladarpan '!V339","v":9828121034},{"$f":"'shaladarpan '!W339","v":"alniyawas338"},{"$f":"'shaladarpan '!X339","v":50000},{"$f":"'shaladarpan '!Y339","v":"N"},{"$f":"'shaladarpan '!Z339","v":"N"},{"$f":"'shaladarpan '!AA339","v":"No"},{"$f":"'shaladarpan '!AB339","v":15},{"$f":"'shaladarpan '!AC339","v":"None"},{"$f":"'shaladarpan '!AD339","v":3}]
[{"$f":"IF(F341=\" \",\" \",ROWS($A$3:A341))","v":339},{"$f":"'shaladarpan '!A340","v":9},{"$f":"'shaladarpan '!B340","v":"A"},{"$f":"'shaladarpan '!C340","v":4800},{"$f":"'shaladarpan '!D340","v":"2020-08-13"},{"$f":"'shaladarpan '!E340","v":"manjeet339"},{"$f":"'shaladarpan '!F340","v":"00:00:00"},{"$f":"'shaladarpan '!G340","v":"vijay339"},{"$f":"'shaladarpan '!H340","v":"beautiful339"},{"$f":"'shaladarpan '!I340","v":"F"},{"$f":"'shaladarpan '!J340","v":"2006-07-07"},{"$f":"'shaladarpan '!K340","v":"no"},{"$f":"'shaladarpan '!L340","v":339},{"$f":"'shaladarpan '!M340","v":0},{"$f":"'shaladarpan '!N340","v":0},{"$f":"'shaladarpan '!O340","v":"SC"},{"$f":"'shaladarpan '!P340","v":"Hindu"},{"$f":"'shaladarpan '!Q340","v":0},{"$f":"'shaladarpan '!R340","v":"GOVT. SENIOR SECONDARY SCHOOL ALNIYAWAS (219445)"},{"$f":"'shaladarpan '!S340","v":8140200308},{"$f":"'shaladarpan '!T340","v":"XXXX3961"},{"$f":"'shaladarpan '!U340","v":0},{"$f":"'shaladarpan '!V340","v":9828121035},{"$f":"'shaladarpan '!W340","v":"alniyawas339"},{"$f":"'shaladarpan '!X340","v":80000},{"$f":"'shaladarpan '!Y340","v":"N"},{"$f":"'shaladarpan '!Z340","v":"N"},{"$f":"'shaladarpan '!AA340","v":"No"},{"$f":"'shaladarpan '!AB340","v":14},{"$f":"'shaladarpan '!AC340","v":"None"},{"$f":"'shaladarpan '!AD340","v":1}]
[{"$f":"IF(F342=\" \",\" \",ROWS($A$3:A342))","v":340},{"$f":"'shaladarpan '!A341","v":9},{"$f":"'shaladarpan '!B341","v":"A"},{"$f":"'shaladarpan '!C341","v":4825},{"$f":"'shaladarpan '!D341","v":"2019-07-04"},{"$f":"'shaladarpan '!E341","v":"manjeet340"},{"$f":"'shaladarpan '!F341","v":"00:00:00"},{"$f":"'shaladarpan '!G341","v":"vijay340"},{"$f":"'shaladarpan '!H341","v":"beautiful340"},{"$f":"'shaladarpan '!I341","v":"F"},{"$f":"'shaladarpan '!J341","v":"2006-07-27"},{"$f":"'shaladarpan '!K341","v":"yes"},{"$f":"'shaladarpan '!L341","v":340},{"$f":"'shaladarpan '!M341","v":0},{"$f":"'shaladarpan '!N341","v":0},{"$f":"'shaladarpan '!O341","v":"OBC"},{"$f":"'shaladarpan '!P341","v":"Hindu"},{"$f":"'shaladarpan '!Q341","v":0},{"$f":"'shaladarpan '!R341","v":"GOVT. SENIOR SECONDARY SCHOOL ALNIYAWAS (219445)"},{"$f":"'shaladarpan '!S341","v":8140200308},{"$f":"'shaladarpan '!T341","v":"XXXX9894"},{"$f":"'shaladarpan '!U341","v":"YOBYDGC"},{"$f":"'shaladarpan '!V341","v":9828121036},{"$f":"'shaladarpan '!W341","v":"alniyawas340"},{"$f":"'shaladarpan '!X341","v":170000},{"$f":"'shaladarpan '!Y341","v":"N"},{"$f":"'shaladarpan '!Z341","v":"N"},{"$f":"'shaladarpan '!AA341","v":"No"},{"$f":"'shaladarpan '!AB341","v":14},{"$f":"'shaladarpan '!AC341","v":"None"},{"$f":"'shaladarpan '!AD341","v":3}]
[{"$f":"IF(F343=\" \",\" \",ROWS($A$3:A343))","v":341},{"$f":"'shaladarpan '!A342","v":9},{"$f":"'shaladarpan '!B342","v":"A"},{"$f":"'shaladarpan '!C342","v":3854},{"$f":"'shaladarpan '!D342","v":"2015-05-11"},{"$f":"'shaladarpan '!E342","v":"manjeet341"},{"$f":"'shaladarpan '!F342","v":"00:00:00"},{"$f":"'shaladarpan '!G342","v":"vijay341"},{"$f":"'shaladarpan '!H342","v":"beautiful341"},{"$f":"'shaladarpan '!I342","v":"F"},{"$f":"'shaladarpan '!J342","v":"2006-07-21"},{"$f":"'shaladarpan '!K342","v":"yes"},{"$f":"'shaladarpan '!L342","v":341},{"$f":"'shaladarpan '!M342","v":0},{"$f":"'shaladarpan '!N342","v":0},{"$f":"'shaladarpan '!O342","v":"OBC"},{"$f":"'shaladarpan '!P342","v":"Muslim"},{"$f":"'shaladarpan '!Q342","v":0},{"$f":"'shaladarpan '!R342","v":"GOVT. SENIOR SECONDARY SCHOOL ALNIYAWAS (219445)"},{"$f":"'shaladarpan '!S342","v":8140200308},{"$f":"'shaladarpan '!T342","v":"XXXX0201"},{"$f":"'shaladarpan '!U342","v":0},{"$f":"'shaladarpan '!V342","v":9828121037},{"$f":"'shaladarpan '!W342","v":"alniyawas341"},{"$f":"'shaladarpan '!X342","v":100000},{"$f":"'shaladarpan '!Y342","v":"N"},{"$f":"'shaladarpan '!Z342","v":"N"},{"$f":"'shaladarpan '!AA342","v":"Yes"},{"$f":"'shaladarpan '!AB342","v":14},{"$f":"'shaladarpan '!AC342","v":"None"},{"$f":"'shaladarpan '!AD342","v":1}]
[{"$f":"IF(F344=\" \",\" \",ROWS($A$3:A344))","v":342},{"$f":"'shaladarpan '!A343","v":9},{"$f":"'shaladarpan '!B343","v":"A"},{"$f":"'shaladarpan '!C343","v":3839},{"$f":"'shaladarpan '!D343","v":"2015-05-11"},{"$f":"'shaladarpan '!E343","v":"manjeet342"},{"$f":"'shaladarpan '!F343","v":"00:00:00"},{"$f":"'shaladarpan '!G343","v":"vijay342"},{"$f":"'shaladarpan '!H343","v":"beautiful342"},{"$f":"'shaladarpan '!I343","v":"F"},{"$f":"'shaladarpan '!J343","v":"2005-06-21"},{"$f":"'shaladarpan '!K343","v":"no"},{"$f":"'shaladarpan '!L343","v":342},{"$f":"'shaladarpan '!M343","v":0},{"$f":"'shaladarpan '!N343","v":0},{"$f":"'shaladarpan '!O343","v":"SC"},{"$f":"'shaladarpan '!P343","v":"Hindu"},{"$f":"'shaladarpan '!Q343","v":0},{"$f":"'shaladarpan '!R343","v":"GOVT. SENIOR SECONDARY SCHOOL ALNIYAWAS (219445)"},{"$f":"'shaladarpan '!S343","v":8140200308},{"$f":"'shaladarpan '!T343","v":"XXXX6018"},{"$f":"'shaladarpan '!U343","v":0},{"$f":"'shaladarpan '!V343","v":9828121038},{"$f":"'shaladarpan '!W343","v":"alniyawas342"},{"$f":"'shaladarpan '!X343","v":0},{"$f":"'shaladarpan '!Y343","v":"N"},{"$f":"'shaladarpan '!Z343","v":"N"},{"$f":"'shaladarpan '!AA343","v":"No"},{"$f":"'shaladarpan '!AB343","v":15},{"$f":"'shaladarpan '!AC343","v":"None"},{"$f":"'shaladarpan '!AD343","v":1}]
[{"$f":"IF(F345=\" \",\" \",ROWS($A$3:A345))","v":343},{"$f":"'shaladarpan '!A344","v":9},{"$f":"'shaladarpan '!B344","v":"A"},{"$f":"'shaladarpan '!C344","v":4317},{"$f":"'shaladarpan '!D344","v":"2017-07-04"},{"$f":"'shaladarpan '!E344","v":"manjeet343"},{"$f":"'shaladarpan '!F344","v":"00:00:00"},{"$f":"'shaladarpan '!G344","v":"vijay343"},{"$f":"'shaladarpan '!H344","v":"beautiful343"},{"$f":"'shaladarpan '!I344","v":"F"},{"$f":"'shaladarpan '!J344","v":"2008-05-17"},{"$f":"'shaladarpan '!K344","v":"yes"},{"$f":"'shaladarpan '!L344","v":343},{"$f":"'shaladarpan '!M344","v":0},{"$f":"'shaladarpan '!N344","v":0},{"$f":"'shaladarpan '!O344","v":"OBC"},{"$f":"'shaladarpan '!P344","v":"Hindu"},{"$f":"'shaladarpan '!Q344","v":0},{"$f":"'shaladarpan '!R344","v":"GOVT. SENIOR SECONDARY SCHOOL ALNIYAWAS (219445)"},{"$f":"'shaladarpan '!S344","v":8140200308},{"$f":"'shaladarpan '!T344","v":"XXXX9385"},{"$f":"'shaladarpan '!U344","v":0},{"$f":"'shaladarpan '!V344","v":9828121039},{"$f":"'shaladarpan '!W344","v":"alniyawas343"},{"$f":"'shaladarpan '!X344","v":0},{"$f":"'shaladarpan '!Y344","v":"N"},{"$f":"'shaladarpan '!Z344","v":"N"},{"$f":"'shaladarpan '!AA344","v":"No"},{"$f":"'shaladarpan '!AB344","v":12},{"$f":"'shaladarpan '!AC344","v":"None"},{"$f":"'shaladarpan '!AD344","v":1}]
[{"$f":"IF(F346=\" \",\" \",ROWS($A$3:A346))","v":344},{"$f":"'shaladarpan '!A345","v":9},{"$f":"'shaladarpan '!B345","v":"A"},{"$f":"'shaladarpan '!C345","v":4817},{"$f":"'shaladarpan '!D345","v":"2015-07-03"},{"$f":"'shaladarpan '!E345","v":"manjeet344"},{"$f":"'shaladarpan '!F345","v":"00:00:00"},{"$f":"'shaladarpan '!G345","v":"vijay344"},{"$f":"'shaladarpan '!H345","v":"beautiful344"},{"$f":"'shaladarpan '!I345","v":"F"},{"$f":"'shaladarpan '!J345","v":"2005-01-18"},{"$f":"'shaladarpan '!K345","v":"yes"},{"$f":"'shaladarpan '!L345","v":344},{"$f":"'shaladarpan '!M345","v":0},{"$f":"'shaladarpan '!N345","v":0},{"$f":"'shaladarpan '!O345","v":"SC"},{"$f":"'shaladarpan '!P345","v":"Hindu"},{"$f":"'shaladarpan '!Q345","v":0},{"$f":"'shaladarpan '!R345","v":"GOVT. SENIOR SECONDARY SCHOOL ALNIYAWAS (219445)"},{"$f":"'shaladarpan '!S345","v":8140200308},{"$f":"'shaladarpan '!T345","v":"XXXX2922"},{"$f":"'shaladarpan '!U345","v":"VRRKWKR"},{"$f":"'shaladarpan '!V345","v":9828121040},{"$f":"'shaladarpan '!W345","v":"alniyawas344"},{"$f":"'shaladarpan '!X345","v":60000},{"$f":"'shaladarpan '!Y345","v":"N"},{"$f":"'shaladarpan '!Z345","v":"N"},{"$f":"'shaladarpan '!AA345","v":"No"},{"$f":"'shaladarpan '!AB345","v":15},{"$f":"'shaladarpan '!AC345","v":"None"},{"$f":"'shaladarpan '!AD345","v":3}]
[{"$f":"IF(F347=\" \",\" \",ROWS($A$3:A347))","v":345},{"$f":"'shaladarpan '!A346","v":9},{"$f":"'shaladarpan '!B346","v":"A"},{"$f":"'shaladarpan '!C346","v":4726},{"$f":"'shaladarpan '!D346","v":"2019-07-13"},{"$f":"'shaladarpan '!E346","v":"manjeet345"},{"$f":"'shaladarpan '!F346","v":"00:00:00"},{"$f":"'shaladarpan '!G346","v":"vijay345"},{"$f":"'shaladarpan '!H346","v":"beautiful345"},{"$f":"'shaladarpan '!I346","v":"F"},{"$f":"'shaladarpan '!J346","v":"2005-09-08"},{"$f":"'shaladarpan '!K346","v":"no"},{"$f":"'shaladarpan '!L346","v":345},{"$f":"'shaladarpan '!M346","v":0},{"$f":"'shaladarpan '!N346","v":0},{"$f":"'shaladarpan '!O346","v":"OBC"},{"$f":"'shaladarpan '!P346","v":"Hindu"},{"$f":"'shaladarpan '!Q346","v":0},{"$f":"'shaladarpan '!R346","v":"GOVT. SENIOR SECONDARY SCHOOL ALNIYAWAS (219445)"},{"$f":"'shaladarpan '!S346","v":8140200308},{"$f":"'shaladarpan '!T346","v":"XXXX0414"},{"$f":"'shaladarpan '!U346","v":0},{"$f":"'shaladarpan '!V346","v":9828121041},{"$f":"'shaladarpan '!W346","v":"alniyawas345"},{"$f":"'shaladarpan '!X346","v":50000},{"$f":"'shaladarpan '!Y346","v":"N"},{"$f":"'shaladarpan '!Z346","v":"N"},{"$f":"'shaladarpan '!AA346","v":"No"},{"$f":"'shaladarpan '!AB346","v":15},{"$f":"'shaladarpan '!AC346","v":"None"},{"$f":"'shaladarpan '!AD346","v":3}]
[{"$f":"IF(F348=\" \",\" \",ROWS($A$3:A348))","v":346},{"$f":"'shaladarpan '!A347","v":9},{"$f":"'shaladarpan '!B347","v":"A"},{"$f":"'shaladarpan '!C347","v":4761},{"$f":"'shaladarpan '!D347","v":"2019-07-22"},{"$f":"'shaladarpan '!E347","v":"manjeet346"},{"$f":"'shaladarpan '!F347","v":"00:00:00"},{"$f":"'shaladarpan '!G347","v":"vijay346"},{"$f":"'shaladarpan '!H347","v":"beautiful346"},{"$f":"'shaladarpan '!I347","v":"M"},{"$f":"'shaladarpan '!J347","v":"2005-03-29"},{"$f":"'shaladarpan '!K347","v":"yes"},{"$f":"'shaladarpan '!L347","v":346},{"$f":"'shaladarpan '!M347","v":0},{"$f":"'shaladarpan '!N347","v":0},{"$f":"'shaladarpan '!O347","v":"GEN"},{"$f":"'shaladarpan '!P347","v":"Hindu"},{"$f":"'shaladarpan '!Q347","v":0},{"$f":"'shaladarpan '!R347","v":"GOVT. SENIOR SECONDARY SCHOOL ALNIYAWAS (219445)"},{"$f":"'shaladarpan '!S347","v":8140200308},{"$f":"'shaladarpan '!T347","v":"XXXX0518"},{"$f":"'shaladarpan '!U347","v":"ysoiydb"},{"$f":"'shaladarpan '!V347","v":9828121042},{"$f":"'shaladarpan '!W347","v":"alniyawas346"},{"$f":"'shaladarpan '!X347","v":40000},{"$f":"'shaladarpan '!Y347","v":"N"},{"$f":"'shaladarpan '!Z347","v":"N"},{"$f":"'shaladarpan '!AA347","v":"No"},{"$f":"'shaladarpan '!AB347","v":15},{"$f":"'shaladarpan '!AC347","v":"None"},{"$f":"'shaladarpan '!AD347","v":1}]
[{"$f":"IF(F349=\" \",\" \",ROWS($A$3:A349))","v":347},{"$f":"'shaladarpan '!A348","v":9},{"$f":"'shaladarpan '!B348","v":"A"},{"$f":"'shaladarpan '!C348","v":4284},{"$f":"'shaladarpan '!D348","v":"2017-06-28"},{"$f":"'shaladarpan '!E348","v":"manjeet347"},{"$f":"'shaladarpan '!F348","v":"00:00:00"},{"$f":"'shaladarpan '!G348","v":"vijay347"},{"$f":"'shaladarpan '!H348","v":"beautiful347"},{"$f":"'shaladarpan '!I348","v":"M"},{"$f":"'shaladarpan '!J348","v":"2005-02-10"},{"$f":"'shaladarpan '!K348","v":"yes"},{"$f":"'shaladarpan '!L348","v":347},{"$f":"'shaladarpan '!M348","v":0},{"$f":"'shaladarpan '!N348","v":0},{"$f":"'shaladarpan '!O348","v":"OBC"},{"$f":"'shaladarpan '!P348","v":"Hindu"},{"$f":"'shaladarpan '!Q348","v":0},{"$f":"'shaladarpan '!R348","v":"GOVT. SENIOR SECONDARY SCHOOL ALNIYAWAS (219445)"},{"$f":"'shaladarpan '!S348","v":8140200308},{"$f":"'shaladarpan '!T348","v":"XXXX6027"},{"$f":"'shaladarpan '!U348","v":0},{"$f":"'shaladarpan '!V348","v":9828121043},{"$f":"'shaladarpan '!W348","v":"alniyawas347"},{"$f":"'shaladarpan '!X348","v":0},{"$f":"'shaladarpan '!Y348","v":"N"},{"$f":"'shaladarpan '!Z348","v":"N"},{"$f":"'shaladarpan '!AA348","v":"No"},{"$f":"'shaladarpan '!AB348","v":15},{"$f":"'shaladarpan '!AC348","v":"None"},{"$f":"'shaladarpan '!AD348","v":3}]
[{"$f":"IF(F350=\" \",\" \",ROWS($A$3:A350))","v":348},{"$f":"'shaladarpan '!A349","v":9},{"$f":"'shaladarpan '!B349","v":"A"},{"$f":"'shaladarpan '!C349","v":4846},{"$f":"'shaladarpan '!D349","v":"2018-07-06"},{"$f":"'shaladarpan '!E349","v":"manjeet348"},{"$f":"'shaladarpan '!F349","v":"00:00:00"},{"$f":"'shaladarpan '!G349","v":"vijay348"},{"$f":"'shaladarpan '!H349","v":"beautiful348"},{"$f":"'shaladarpan '!I349","v":"F"},{"$f":"'shaladarpan '!J349","v":"2005-04-20"},{"$f":"'shaladarpan '!K349","v":"no"},{"$f":"'shaladarpan '!L349","v":348},{"$f":"'shaladarpan '!M349","v":0},{"$f":"'shaladarpan '!N349","v":0},{"$f":"'shaladarpan '!O349","v":"OBC"},{"$f":"'shaladarpan '!P349","v":"Hindu"},{"$f":"'shaladarpan '!Q349","v":0},{"$f":"'shaladarpan '!R349","v":"GOVT. SENIOR SECONDARY SCHOOL ALNIYAWAS (219445)"},{"$f":"'shaladarpan '!S349","v":8140200308},{"$f":"'shaladarpan '!T349","v":"XXXX5511"},{"$f":"'shaladarpan '!U349","v":"YOYDFYF"},{"$f":"'shaladarpan '!V349","v":9828121044},{"$f":"'shaladarpan '!W349","v":"alniyawas348"},{"$f":"'shaladarpan '!X349","v":120000},{"$f":"'shaladarpan '!Y349","v":"N"},{"$f":"'shaladarpan '!Z349","v":"N"},{"$f":"'shaladarpan '!AA349","v":"No"},{"$f":"'shaladarpan '!AB349","v":15},{"$f":"'shaladarpan '!AC349","v":"None"},{"$f":"'shaladarpan '!AD349","v":0}]
[{"$f":"IF(F351=\" \",\" \",ROWS($A$3:A351))","v":349},{"$f":"'shaladarpan '!A350","v":9},{"$f":"'shaladarpan '!B350","v":"A"},{"$f":"'shaladarpan '!C350","v":4820},{"$f":"'shaladarpan '!D350","v":"00:00:00"},{"$f":"'shaladarpan '!E350","v":"manjeet349"},{"$f":"'shaladarpan '!F350","v":"00:00:00"},{"$f":"'shaladarpan '!G350","v":"vijay349"},{"$f":"'shaladarpan '!H350","v":"beautiful349"},{"$f":"'shaladarpan '!I350","v":"F"},{"$f":"'shaladarpan '!J350","v":"2005-07-25"},{"$f":"'shaladarpan '!K350","v":"yes"},{"$f":"'shaladarpan '!L350","v":349},{"$f":"'shaladarpan '!M350","v":0},{"$f":"'shaladarpan '!N350","v":0},{"$f":"'shaladarpan '!O350","v":"OBC"},{"$f":"'shaladarpan '!P350","v":0},{"$f":"'shaladarpan '!Q350","v":0},{"$f":"'shaladarpan '!R350","v":"GOVT. SENIOR SECONDARY SCHOOL ALNIYAWAS (219445)"},{"$f":"'shaladarpan '!S350","v":8140200308},{"$f":"'shaladarpan '!T350","v":0},{"$f":"'shaladarpan '!U350","v":0},{"$f":"'shaladarpan '!V350","v":9828121045},{"$f":"'shaladarpan '!W350","v":"alniyawas349"},{"$f":"'shaladarpan '!X350","v":0},{"$f":"'shaladarpan '!Y350","v":"N"},{"$f":"'shaladarpan '!Z350","v":"Y"},{"$f":"'shaladarpan '!AA350","v":0},{"$f":"'shaladarpan '!AB350","v":15},{"$f":"'shaladarpan '!AC350","v":0},{"$f":"'shaladarpan '!AD350","v":3}]
[{"$f":"IF(F352=\" \",\" \",ROWS($A$3:A352))","v":350},{"$f":"'shaladarpan '!A351","v":9},{"$f":"'shaladarpan '!B351","v":"A"},{"$f":"'shaladarpan '!C351","v":4827},{"$f":"'shaladarpan '!D351","v":"2019-12-14"},{"$f":"'shaladarpan '!E351","v":"manjeet350"},{"$f":"'shaladarpan '!F351","v":"00:00:00"},{"$f":"'shaladarpan '!G351","v":"vijay350"},{"$f":"'shaladarpan '!H351","v":"beautiful350"},{"$f":"'shaladarpan '!I351","v":"M"},{"$f":"'shaladarpan '!J351","v":"2006-07-04"},{"$f":"'shaladarpan '!K351","v":"yes"},{"$f":"'shaladarpan '!L351","v":350},{"$f":"'shaladarpan '!M351","v":0},{"$f":"'shaladarpan '!N351","v":0},{"$f":"'shaladarpan '!O351","v":"OBC"},{"$f":"'shaladarpan '!P351","v":"Hindu"},{"$f":"'shaladarpan '!Q351","v":0},{"$f":"'shaladarpan '!R351","v":"GOVT. SENIOR SECONDARY SCHOOL ALNIYAWAS (219445)"},{"$f":"'shaladarpan '!S351","v":8140200308},{"$f":"'shaladarpan '!T351","v":"XXXX5951"},{"$f":"'shaladarpan '!U351","v":"YMKYEOK"},{"$f":"'shaladarpan '!V351","v":9828121046},{"$f":"'shaladarpan '!W351","v":"alniyawas350"},{"$f":"'shaladarpan '!X351","v":60000},{"$f":"'shaladarpan '!Y351","v":"N"},{"$f":"'shaladarpan '!Z351","v":"N"},{"$f":"'shaladarpan '!AA351","v":"No"},{"$f":"'shaladarpan '!AB351","v":14},{"$f":"'shaladarpan '!AC351","v":"None"},{"$f":"'shaladarpan '!AD351","v":2}]
[{"$f":"IF(F353=\" \",\" \",ROWS($A$3:A353))","v":351},{"$f":"'shaladarpan '!A352","v":9},{"$f":"'shaladarpan '!B352","v":"A"},{"$f":"'shaladarpan '!C352","v":4816},{"$f":"'shaladarpan '!D352","v":"2013-07-03"},{"$f":"'shaladarpan '!E352","v":"manjeet351"},{"$f":"'shaladarpan '!F352","v":"00:00:00"},{"$f":"'shaladarpan '!G352","v":"vijay351"},{"$f":"'shaladarpan '!H352","v":"beautiful351"},{"$f":"'shaladarpan '!I352","v":"M"},{"$f":"'shaladarpan '!J352","v":"2006-10-10"},{"$f":"'shaladarpan '!K352","v":"no"},{"$f":"'shaladarpan '!L352","v":351},{"$f":"'shaladarpan '!M352","v":0},{"$f":"'shaladarpan '!N352","v":0},{"$f":"'shaladarpan '!O352","v":"OBC"},{"$f":"'shaladarpan '!P352","v":"Hindu"},{"$f":"'shaladarpan '!Q352","v":0},{"$f":"'shaladarpan '!R352","v":"GOVT. SENIOR SECONDARY SCHOOL ALNIYAWAS (219445)"},{"$f":"'shaladarpan '!S352","v":8140200308},{"$f":"'shaladarpan '!T352","v":"XXXX3766"},{"$f":"'shaladarpan '!U352","v":"WDYCWMO"},{"$f":"'shaladarpan '!V352","v":9828121047},{"$f":"'shaladarpan '!W352","v":"alniyawas351"},{"$f":"'shaladarpan '!X352","v":60000},{"$f":"'shaladarpan '!Y352","v":"N"},{"$f":"'shaladarpan '!Z352","v":"N"},{"$f":"'shaladarpan '!AA352","v":"No"},{"$f":"'shaladarpan '!AB352","v":14},{"$f":"'shaladarpan '!AC352","v":"None"},{"$f":"'shaladarpan '!AD352","v":2.5}]
[{"$f":"IF(F354=\" \",\" \",ROWS($A$3:A354))","v":352},{"$f":"'shaladarpan '!A353","v":9},{"$f":"'shaladarpan '!B353","v":"A"},{"$f":"'shaladarpan '!C353","v":4785},{"$f":"'shaladarpan '!D353","v":"2019-10-14"},{"$f":"'shaladarpan '!E353","v":"manjeet352"},{"$f":"'shaladarpan '!F353","v":"00:00:00"},{"$f":"'shaladarpan '!G353","v":"vijay352"},{"$f":"'shaladarpan '!H353","v":"beautiful352"},{"$f":"'shaladarpan '!I353","v":"F"},{"$f":"'shaladarpan '!J353","v":"2006-07-05"},{"$f":"'shaladarpan '!K353","v":"yes"},{"$f":"'shaladarpan '!L353","v":352},{"$f":"'shaladarpan '!M353","v":0},{"$f":"'shaladarpan '!N353","v":0},{"$f":"'shaladarpan '!O353","v":"GEN"},{"$f":"'shaladarpan '!P353","v":"Hindu"},{"$f":"'shaladarpan '!Q353","v":0},{"$f":"'shaladarpan '!R353","v":"GOVT. SENIOR SECONDARY SCHOOL ALNIYAWAS (219445)"},{"$f":"'shaladarpan '!S353","v":8140200308},{"$f":"'shaladarpan '!T353","v":"XXXX3493"},{"$f":"'shaladarpan '!U353","v":"ymffwdf"},{"$f":"'shaladarpan '!V353","v":9828121048},{"$f":"'shaladarpan '!W353","v":"alniyawas352"},{"$f":"'shaladarpan '!X353","v":120000},{"$f":"'shaladarpan '!Y353","v":"N"},{"$f":"'shaladarpan '!Z353","v":"N"},{"$f":"'shaladarpan '!AA353","v":"No"},{"$f":"'shaladarpan '!AB353","v":14},{"$f":"'shaladarpan '!AC353","v":"None"},{"$f":"'shaladarpan '!AD353","v":1}]
[{"$f":"IF(F355=\" \",\" \",ROWS($A$3:A355))","v":353},{"$f":"'shaladarpan '!A354","v":9},{"$f":"'shaladarpan '!B354","v":"A"},{"$f":"'shaladarpan '!C354","v":4721},{"$f":"'shaladarpan '!D354","v":"2019-07-12"},{"$f":"'shaladarpan '!E354","v":"manjeet353"},{"$f":"'shaladarpan '!F354","v":"00:00:00"},{"$f":"'shaladarpan '!G354","v":"vijay353"},{"$f":"'shaladarpan '!H354","v":"beautiful353"},{"$f":"'shaladarpan '!I354","v":"F"},{"$f":"'shaladarpan '!J354","v":"2005-07-03"},{"$f":"'shaladarpan '!K354","v":"yes"},{"$f":"'shaladarpan '!L354","v":353},{"$f":"'shaladarpan '!M354","v":0},{"$f":"'shaladarpan '!N354","v":0},{"$f":"'shaladarpan '!O354","v":"OBC"},{"$f":"'shaladarpan '!P354","v":"Muslim"},{"$f":"'shaladarpan '!Q354","v":0},{"$f":"'shaladarpan '!R354","v":"GOVT. SENIOR SECONDARY SCHOOL ALNIYAWAS (219445)"},{"$f":"'shaladarpan '!S354","v":8140200308},{"$f":"'shaladarpan '!T354","v":"XXXX8934"},{"$f":"'shaladarpan '!U354","v":0},{"$f":"'shaladarpan '!V354","v":9828121049},{"$f":"'shaladarpan '!W354","v":"alniyawas353"},{"$f":"'shaladarpan '!X354","v":0},{"$f":"'shaladarpan '!Y354","v":"N"},{"$f":"'shaladarpan '!Z354","v":"N"},{"$f":"'shaladarpan '!AA354","v":"Yes"},{"$f":"'shaladarpan '!AB354","v":15},{"$f":"'shaladarpan '!AC354","v":"None"},{"$f":"'shaladarpan '!AD354","v":1}]
[{"$f":"IF(F356=\" \",\" \",ROWS($A$3:A356))","v":354},{"$f":"'shaladarpan '!A355","v":9},{"$f":"'shaladarpan '!B355","v":"A"},{"$f":"'shaladarpan '!C355","v":4812},{"$f":"'shaladarpan '!D355","v":"2014-08-04"},{"$f":"'shaladarpan '!E355","v":"manjeet354"},{"$f":"'shaladarpan '!F355","v":"00:00:00"},{"$f":"'shaladarpan '!G355","v":"vijay354"},{"$f":"'shaladarpan '!H355","v":"beautiful354"},{"$f":"'shaladarpan '!I355","v":"M"},{"$f":"'shaladarpan '!J355","v":"2004-05-05"},{"$f":"'shaladarpan '!K355","v":"no"},{"$f":"'shaladarpan '!L355","v":354},{"$f":"'shaladarpan '!M355","v":0},{"$f":"'shaladarpan '!N355","v":0},{"$f":"'shaladarpan '!O355","v":"OBC"},{"$f":"'shaladarpan '!P355","v":"Hindu"},{"$f":"'shaladarpan '!Q355","v":0},{"$f":"'shaladarpan '!R355","v":"GOVT. SENIOR SECONDARY SCHOOL ALNIYAWAS (219445)"},{"$f":"'shaladarpan '!S355","v":8140200308},{"$f":"'shaladarpan '!T355","v":"XXXX3677"},{"$f":"'shaladarpan '!U355","v":0},{"$f":"'shaladarpan '!V355","v":9828121050},{"$f":"'shaladarpan '!W355","v":"alniyawas354"},{"$f":"'shaladarpan '!X355","v":60000},{"$f":"'shaladarpan '!Y355","v":"N"},{"$f":"'shaladarpan '!Z355","v":"N"},{"$f":"'shaladarpan '!AA355","v":"No"},{"$f":"'shaladarpan '!AB355","v":16},{"$f":"'shaladarpan '!AC355","v":"None"},{"$f":"'shaladarpan '!AD355","v":2.5}]
[{"$f":"IF(F357=\" \",\" \",ROWS($A$3:A357))","v":355},{"$f":"'shaladarpan '!A356","v":9},{"$f":"'shaladarpan '!B356","v":"A"},{"$f":"'shaladarpan '!C356","v":4822},{"$f":"'shaladarpan '!D356","v":"2011-07-11"},{"$f":"'shaladarpan '!E356","v":"manjeet355"},{"$f":"'shaladarpan '!F356","v":"00:00:00"},{"$f":"'shaladarpan '!G356","v":"vijay355"},{"$f":"'shaladarpan '!H356","v":"beautiful355"},{"$f":"'shaladarpan '!I356","v":"F"},{"$f":"'shaladarpan '!J356","v":"2005-09-03"},{"$f":"'shaladarpan '!K356","v":"yes"},{"$f":"'shaladarpan '!L356","v":355},{"$f":"'shaladarpan '!M356","v":0},{"$f":"'shaladarpan '!N356","v":0},{"$f":"'shaladarpan '!O356","v":"SC"},{"$f":"'shaladarpan '!P356","v":"Hindu"},{"$f":"'shaladarpan '!Q356","v":0},{"$f":"'shaladarpan '!R356","v":"GOVT. SENIOR SECONDARY SCHOOL ALNIYAWAS (219445)"},{"$f":"'shaladarpan '!S356","v":8140200308},{"$f":"'shaladarpan '!T356","v":"XXXX2410"},{"$f":"'shaladarpan '!U356","v":"YMKAOGK"},{"$f":"'shaladarpan '!V356","v":9828121051},{"$f":"'shaladarpan '!W356","v":"alniyawas355"},{"$f":"'shaladarpan '!X356","v":60000},{"$f":"'shaladarpan '!Y356","v":"N"},{"$f":"'shaladarpan '!Z356","v":"N"},{"$f":"'shaladarpan '!AA356","v":"No"},{"$f":"'shaladarpan '!AB356","v":15},{"$f":"'shaladarpan '!AC356","v":"None"},{"$f":"'shaladarpan '!AD356","v":0}]
[{"$f":"IF(F358=\" \",\" \",ROWS($A$3:A358))","v":356},{"$f":"'shaladarpan '!A357","v":9},{"$f":"'shaladarpan '!B357","v":"A"},{"$f":"'shaladarpan '!C357","v":4818},{"$f":"'shaladarpan '!D357","v":"2017-08-05"},{"$f":"'shaladarpan '!E357","v":"manjeet356"},{"$f":"'shaladarpan '!F357","v":"00:00:00"},{"$f":"'shaladarpan '!G357","v":"vijay356"},{"$f":"'shaladarpan '!H357","v":"beautiful356"},{"$f":"'shaladarpan '!I357","v":"M"},{"$f":"'shaladarpan '!J357","v":"2005-06-11"},{"$f":"'shaladarpan '!K357","v":"yes"},{"$f":"'shaladarpan '!L357","v":356},{"$f":"'shaladarpan '!M357","v":0},{"$f":"'shaladarpan '!N357","v":0},{"$f":"'shaladarpan '!O357","v":"OBC"},{"$f":"'shaladarpan '!P357","v":0},{"$f":"'shaladarpan '!Q357","v":0},{"$f":"'shaladarpan '!R357","v":"GOVT. SENIOR SECONDARY SCHOOL ALNIYAWAS (219445)"},{"$f":"'shaladarpan '!S357","v":8140200308},{"$f":"'shaladarpan '!T357","v":"XXXX9289"},{"$f":"'shaladarpan '!U357","v":0},{"$f":"'shaladarpan '!V357","v":9828121052},{"$f":"'shaladarpan '!W357","v":"alniyawas356"},{"$f":"'shaladarpan '!X357","v":150000},{"$f":"'shaladarpan '!Y357","v":"N"},{"$f":"'shaladarpan '!Z357","v":"N"},{"$f":"'shaladarpan '!AA357","v":0},{"$f":"'shaladarpan '!AB357","v":15},{"$f":"'shaladarpan '!AC357","v":"None"},{"$f":"'shaladarpan '!AD357","v":1}]
[{"$f":"IF(F359=\" \",\" \",ROWS($A$3:A359))","v":357},{"$f":"'shaladarpan '!A358","v":9},{"$f":"'shaladarpan '!B358","v":"A"},{"$f":"'shaladarpan '!C358","v":4814},{"$f":"'shaladarpan '!D358","v":"2011-07-09"},{"$f":"'shaladarpan '!E358","v":"manjeet357"},{"$f":"'shaladarpan '!F358","v":"00:00:00"},{"$f":"'shaladarpan '!G358","v":"vijay357"},{"$f":"'shaladarpan '!H358","v":"beautiful357"},{"$f":"'shaladarpan '!I358","v":"F"},{"$f":"'shaladarpan '!J358","v":"2006-01-26"},{"$f":"'shaladarpan '!K358","v":"no"},{"$f":"'shaladarpan '!L358","v":357},{"$f":"'shaladarpan '!M358","v":0},{"$f":"'shaladarpan '!N358","v":0},{"$f":"'shaladarpan '!O358","v":"SC"},{"$f":"'shaladarpan '!P358","v":0},{"$f":"'shaladarpan '!Q358","v":0},{"$f":"'shaladarpan '!R358","v":"GOVT. SENIOR SECONDARY SCHOOL ALNIYAWAS (219445)"},{"$f":"'shaladarpan '!S358","v":8140200308},{"$f":"'shaladarpan '!T358","v":"XXXX5685"},{"$f":"'shaladarpan '!U358","v":0},{"$f":"'shaladarpan '!V358","v":9828121053},{"$f":"'shaladarpan '!W358","v":"alniyawas357"},{"$f":"'shaladarpan '!X358","v":0},{"$f":"'shaladarpan '!Y358","v":"N"},{"$f":"'shaladarpan '!Z358","v":"N"},{"$f":"'shaladarpan '!AA358","v":0},{"$f":"'shaladarpan '!AB358","v":14},{"$f":"'shaladarpan '!AC358","v":"None"},{"$f":"'shaladarpan '!AD358","v":0}]
[{"$f":"IF(F360=\" \",\" \",ROWS($A$3:A360))","v":358},{"$f":"'shaladarpan '!A359","v":9},{"$f":"'shaladarpan '!B359","v":"A"},{"$f":"'shaladarpan '!C359","v":4463},{"$f":"'shaladarpan '!D359","v":"2018-07-03"},{"$f":"'shaladarpan '!E359","v":"manjeet358"},{"$f":"'shaladarpan '!F359","v":"00:00:00"},{"$f":"'shaladarpan '!G359","v":"vijay358"},{"$f":"'shaladarpan '!H359","v":"beautiful358"},{"$f":"'shaladarpan '!I359","v":"F"},{"$f":"'shaladarpan '!J359","v":"2005-04-12"},{"$f":"'shaladarpan '!K359","v":"yes"},{"$f":"'shaladarpan '!L359","v":358},{"$f":"'shaladarpan '!M359","v":0},{"$f":"'shaladarpan '!N359","v":0},{"$f":"'shaladarpan '!O359","v":"OBC"},{"$f":"'shaladarpan '!P359","v":"Hindu"},{"$f":"'shaladarpan '!Q359","v":0},{"$f":"'shaladarpan '!R359","v":"GOVT. SENIOR SECONDARY SCHOOL ALNIYAWAS (219445)"},{"$f":"'shaladarpan '!S359","v":8140200308},{"$f":"'shaladarpan '!T359","v":"XXXX1340"},{"$f":"'shaladarpan '!U359","v":0},{"$f":"'shaladarpan '!V359","v":9828121054},{"$f":"'shaladarpan '!W359","v":"alniyawas358"},{"$f":"'shaladarpan '!X359","v":50000},{"$f":"'shaladarpan '!Y359","v":"N"},{"$f":"'shaladarpan '!Z359","v":"N"},{"$f":"'shaladarpan '!AA359","v":"No"},{"$f":"'shaladarpan '!AB359","v":15},{"$f":"'shaladarpan '!AC359","v":"None"},{"$f":"'shaladarpan '!AD359","v":3}]
[{"$f":"IF(F361=\" \",\" \",ROWS($A$3:A361))","v":359},{"$f":"'shaladarpan '!A360","v":9},{"$f":"'shaladarpan '!B360","v":"A"},{"$f":"'shaladarpan '!C360","v":4798},{"$f":"'shaladarpan '!D360","v":"00:00:00"},{"$f":"'shaladarpan '!E360","v":"manjeet359"},{"$f":"'shaladarpan '!F360","v":"00:00:00"},{"$f":"'shaladarpan '!G360","v":"vijay359"},{"$f":"'shaladarpan '!H360","v":"beautiful359"},{"$f":"'shaladarpan '!I360","v":"M"},{"$f":"'shaladarpan '!J360","v":"2007-07-01"},{"$f":"'shaladarpan '!K360","v":"yes"},{"$f":"'shaladarpan '!L360","v":359},{"$f":"'shaladarpan '!M360","v":0},{"$f":"'shaladarpan '!N360","v":0},{"$f":"'shaladarpan '!O360","v":"OBC"},{"$f":"'shaladarpan '!P360","v":0},{"$f":"'shaladarpan '!Q360","v":0},{"$f":"'shaladarpan '!R360","v":"GOVT. SENIOR SECONDARY SCHOOL ALNIYAWAS (219445)"},{"$f":"'shaladarpan '!S360","v":8140200308},{"$f":"'shaladarpan '!T360","v":0},{"$f":"'shaladarpan '!U360","v":0},{"$f":"'shaladarpan '!V360","v":9828121055},{"$f":"'shaladarpan '!W360","v":"alniyawas359"},{"$f":"'shaladarpan '!X360","v":0},{"$f":"'shaladarpan '!Y360","v":"N"},{"$f":"'shaladarpan '!Z360","v":"Y"},{"$f":"'shaladarpan '!AA360","v":0},{"$f":"'shaladarpan '!AB360","v":13},{"$f":"'shaladarpan '!AC360","v":0},{"$f":"'shaladarpan '!AD360","v":1}]
[{"$f":"IF(F362=\" \",\" \",ROWS($A$3:A362))","v":360},{"$f":"'shaladarpan '!A361","v":9},{"$f":"'shaladarpan '!B361","v":"A"},{"$f":"'shaladarpan '!C361","v":4375},{"$f":"'shaladarpan '!D361","v":"2017-07-11"},{"$f":"'shaladarpan '!E361","v":"manjeet360"},{"$f":"'shaladarpan '!F361","v":"00:00:00"},{"$f":"'shaladarpan '!G361","v":"vijay360"},{"$f":"'shaladarpan '!H361","v":"beautiful360"},{"$f":"'shaladarpan '!I361","v":"M"},{"$f":"'shaladarpan '!J361","v":"2005-06-03"},{"$f":"'shaladarpan '!K361","v":"no"},{"$f":"'shaladarpan '!L361","v":360},{"$f":"'shaladarpan '!M361","v":0},{"$f":"'shaladarpan '!N361","v":0},{"$f":"'shaladarpan '!O361","v":"GEN"},{"$f":"'shaladarpan '!P361","v":"Hindu"},{"$f":"'shaladarpan '!Q361","v":0},{"$f":"'shaladarpan '!R361","v":"GOVT. SENIOR SECONDARY SCHOOL ALNIYAWAS (219445)"},{"$f":"'shaladarpan '!S361","v":8140200308},{"$f":"'shaladarpan '!T361","v":"XXXX4226"},{"$f":"'shaladarpan '!U361","v":0},{"$f":"'shaladarpan '!V361","v":9828121056},{"$f":"'shaladarpan '!W361","v":"alniyawas360"},{"$f":"'shaladarpan '!X361","v":0},{"$f":"'shaladarpan '!Y361","v":"N"},{"$f":"'shaladarpan '!Z361","v":"N"},{"$f":"'shaladarpan '!AA361","v":"No"},{"$f":"'shaladarpan '!AB361","v":15},{"$f":"'shaladarpan '!AC361","v":"None"},{"$f":"'shaladarpan '!AD361","v":1}]
[{"$f":"IF(F363=\" \",\" \",ROWS($A$3:A363))","v":361},{"$f":"'shaladarpan '!A362","v":9},{"$f":"'shaladarpan '!B362","v":"A"},{"$f":"'shaladarpan '!C362","v":4294},{"$f":"'shaladarpan '!D362","v":"2017-06-30"},{"$f":"'shaladarpan '!E362","v":"manjeet361"},{"$f":"'shaladarpan '!F362","v":"00:00:00"},{"$f":"'shaladarpan '!G362","v":"vijay361"},{"$f":"'shaladarpan '!H362","v":"beautiful361"},{"$f":"'shaladarpan '!I362","v":"F"},{"$f":"'shaladarpan '!J362","v":"2005-06-07"},{"$f":"'shaladarpan '!K362","v":"yes"},{"$f":"'shaladarpan '!L362","v":361},{"$f":"'shaladarpan '!M362","v":0},{"$f":"'shaladarpan '!N362","v":0},{"$f":"'shaladarpan '!O362","v":"OBC"},{"$f":"'shaladarpan '!P362","v":"Hindu"},{"$f":"'shaladarpan '!Q362","v":0},{"$f":"'shaladarpan '!R362","v":"GOVT. SENIOR SECONDARY SCHOOL ALNIYAWAS (219445)"},{"$f":"'shaladarpan '!S362","v":8140200308},{"$f":"'shaladarpan '!T362","v":"XXXX9444"},{"$f":"'shaladarpan '!U362","v":0},{"$f":"'shaladarpan '!V362","v":9828121057},{"$f":"'shaladarpan '!W362","v":"alniyawas361"},{"$f":"'shaladarpan '!X362","v":72000},{"$f":"'shaladarpan '!Y362","v":"N"},{"$f":"'shaladarpan '!Z362","v":"N"},{"$f":"'shaladarpan '!AA362","v":"No"},{"$f":"'shaladarpan '!AB362","v":15},{"$f":"'shaladarpan '!AC362","v":"None"},{"$f":"'shaladarpan '!AD362","v":5}]
[{"$f":"IF(F364=\" \",\" \",ROWS($A$3:A364))","v":362},{"$f":"'shaladarpan '!A363","v":9},{"$f":"'shaladarpan '!B363","v":"A"},{"$f":"'shaladarpan '!C363","v":4569},{"$f":"'shaladarpan '!D363","v":"2018-07-14"},{"$f":"'shaladarpan '!E363","v":"manjeet362"},{"$f":"'shaladarpan '!F363","v":"00:00:00"},{"$f":"'shaladarpan '!G363","v":"vijay362"},{"$f":"'shaladarpan '!H363","v":"beautiful362"},{"$f":"'shaladarpan '!I363","v":"F"},{"$f":"'shaladarpan '!J363","v":"2006-12-10"},{"$f":"'shaladarpan '!K363","v":"yes"},{"$f":"'shaladarpan '!L363","v":362},{"$f":"'shaladarpan '!M363","v":0},{"$f":"'shaladarpan '!N363","v":0},{"$f":"'shaladarpan '!O363","v":"SBC"},{"$f":"'shaladarpan '!P363","v":"Hindu"},{"$f":"'shaladarpan '!Q363","v":0},{"$f":"'shaladarpan '!R363","v":"GOVT. SENIOR SECONDARY SCHOOL ALNIYAWAS (219445)"},{"$f":"'shaladarpan '!S363","v":8140200308},{"$f":"'shaladarpan '!T363","v":"XXXX3402"},{"$f":"'shaladarpan '!U363","v":0},{"$f":"'shaladarpan '!V363","v":9828121058},{"$f":"'shaladarpan '!W363","v":"alniyawas362"},{"$f":"'shaladarpan '!X363","v":50000},{"$f":"'shaladarpan '!Y363","v":"N"},{"$f":"'shaladarpan '!Z363","v":"N"},{"$f":"'shaladarpan '!AA363","v":"No"},{"$f":"'shaladarpan '!AB363","v":14},{"$f":"'shaladarpan '!AC363","v":"None"},{"$f":"'shaladarpan '!AD363","v":1}]
[{"$f":"IF(F365=\" \",\" \",ROWS($A$3:A365))","v":363},{"$f":"'shaladarpan '!A364","v":9},{"$f":"'shaladarpan '!B364","v":"A"},{"$f":"'shaladarpan '!C364","v":4811},{"$f":"'shaladarpan '!D364","v":"2016-06-30"},{"$f":"'shaladarpan '!E364","v":"manjeet363"},{"$f":"'shaladarpan '!F364","v":"00:00:00"},{"$f":"'shaladarpan '!G364","v":"vijay363"},{"$f":"'shaladarpan '!H364","v":"beautiful363"},{"$f":"'shaladarpan '!I364","v":"M"},{"$f":"'shaladarpan '!J364","v":"2007-07-20"},{"$f":"'shaladarpan '!K364","v":"no"},{"$f":"'shaladarpan '!L364","v":363},{"$f":"'shaladarpan '!M364","v":0},{"$f":"'shaladarpan '!N364","v":0},{"$f":"'shaladarpan '!O364","v":"OBC"},{"$f":"'shaladarpan '!P364","v":"Hindu"},{"$f":"'shaladarpan '!Q364","v":0},{"$f":"'shaladarpan '!R364","v":"GOVT. SENIOR SECONDARY SCHOOL ALNIYAWAS (219445)"},{"$f":"'shaladarpan '!S364","v":8140200308},{"$f":"'shaladarpan '!T364","v":"XXXX1339"},{"$f":"'shaladarpan '!U364","v":"YQGSDMS"},{"$f":"'shaladarpan '!V364","v":9828121059},{"$f":"'shaladarpan '!W364","v":"alniyawas363"},{"$f":"'shaladarpan '!X364","v":65000},{"$f":"'shaladarpan '!Y364","v":"N"},{"$f":"'shaladarpan '!Z364","v":"N"},{"$f":"'shaladarpan '!AA364","v":"No"},{"$f":"'shaladarpan '!AB364","v":13},{"$f":"'shaladarpan '!AC364","v":"None"},{"$f":"'shaladarpan '!AD364","v":2}]
[{"$f":"IF(F366=\" \",\" \",ROWS($A$3:A366))","v":364},{"$f":"'shaladarpan '!A365","v":9},{"$f":"'shaladarpan '!B365","v":"A"},{"$f":"'shaladarpan '!C365","v":4098},{"$f":"'shaladarpan '!D365","v":"2016-05-09"},{"$f":"'shaladarpan '!E365","v":"manjeet364"},{"$f":"'shaladarpan '!F365","v":"00:00:00"},{"$f":"'shaladarpan '!G365","v":"vijay364"},{"$f":"'shaladarpan '!H365","v":"beautiful364"},{"$f":"'shaladarpan '!I365","v":"M"},{"$f":"'shaladarpan '!J365","v":"2006-02-23"},{"$f":"'shaladarpan '!K365","v":"yes"},{"$f":"'shaladarpan '!L365","v":364},{"$f":"'shaladarpan '!M365","v":0},{"$f":"'shaladarpan '!N365","v":0},{"$f":"'shaladarpan '!O365","v":"OBC"},{"$f":"'shaladarpan '!P365","v":"Hindu"},{"$f":"'shaladarpan '!Q365","v":0},{"$f":"'shaladarpan '!R365","v":"GOVT. SENIOR SECONDARY SCHOOL ALNIYAWAS (219445)"},{"$f":"'shaladarpan '!S365","v":8140200308},{"$f":"'shaladarpan '!T365","v":"XXXX5163"},{"$f":"'shaladarpan '!U365","v":0},{"$f":"'shaladarpan '!V365","v":9828121060},{"$f":"'shaladarpan '!W365","v":"alniyawas364"},{"$f":"'shaladarpan '!X365","v":0},{"$f":"'shaladarpan '!Y365","v":"N"},{"$f":"'shaladarpan '!Z365","v":"N"},{"$f":"'shaladarpan '!AA365","v":"No"},{"$f":"'shaladarpan '!AB365","v":14},{"$f":"'shaladarpan '!AC365","v":"None"},{"$f":"'shaladarpan '!AD365","v":1}]
[{"$f":"IF(F367=\" \",\" \",ROWS($A$3:A367))","v":365},{"$f":"'shaladarpan '!A366","v":9},{"$f":"'shaladarpan '!B366","v":"A"},{"$f":"'shaladarpan '!C366","v":4810},{"$f":"'shaladarpan '!D366","v":"2013-05-11"},{"$f":"'shaladarpan '!E366","v":"manjeet365"},{"$f":"'shaladarpan '!F366","v":"00:00:00"},{"$f":"'shaladarpan '!G366","v":"vijay365"},{"$f":"'shaladarpan '!H366","v":"beautiful365"},{"$f":"'shaladarpan '!I366","v":"M"},{"$f":"'shaladarpan '!J366","v":"2006-01-07"},{"$f":"'shaladarpan '!K366","v":"yes"},{"$f":"'shaladarpan '!L366","v":365},{"$f":"'shaladarpan '!M366","v":0},{"$f":"'shaladarpan '!N366","v":0},{"$f":"'shaladarpan '!O366","v":"OBC"},{"$f":"'shaladarpan '!P366","v":"Hindu"},{"$f":"'shaladarpan '!Q366","v":0},{"$f":"'shaladarpan '!R366","v":"GOVT. SENIOR SECONDARY SCHOOL ALNIYAWAS (219445)"},{"$f":"'shaladarpan '!S366","v":8140200308},{"$f":"'shaladarpan '!T366","v":"XXXX3052"},{"$f":"'shaladarpan '!U366","v":0},{"$f":"'shaladarpan '!V366","v":9828121061},{"$f":"'shaladarpan '!W366","v":"alniyawas365"},{"$f":"'shaladarpan '!X366","v":65000},{"$f":"'shaladarpan '!Y366","v":"N"},{"$f":"'shaladarpan '!Z366","v":"N"},{"$f":"'shaladarpan '!AA366","v":"No"},{"$f":"'shaladarpan '!AB366","v":14},{"$f":"'shaladarpan '!AC366","v":"None"},{"$f":"'shaladarpan '!AD366","v":2}]
[{"$f":"IF(F368=\" \",\" \",ROWS($A$3:A368))","v":366},{"$f":"'shaladarpan '!A367","v":9},{"$f":"'shaladarpan '!B367","v":"B"},{"$f":"'shaladarpan '!C367","v":4347},{"$f":"'shaladarpan '!D367","v":"2017-07-06"},{"$f":"'shaladarpan '!E367","v":"manjeet366"},{"$f":"'shaladarpan '!F367","v":"00:00:00"},{"$f":"'shaladarpan '!G367","v":"vijay366"},{"$f":"'shaladarpan '!H367","v":"beautiful366"},{"$f":"'shaladarpan '!I367","v":"F"},{"$f":"'shaladarpan '!J367","v":"2005-04-10"},{"$f":"'shaladarpan '!K367","v":"no"},{"$f":"'shaladarpan '!L367","v":366},{"$f":"'shaladarpan '!M367","v":0},{"$f":"'shaladarpan '!N367","v":0},{"$f":"'shaladarpan '!O367","v":"OBC"},{"$f":"'shaladarpan '!P367","v":"Hindu"},{"$f":"'shaladarpan '!Q367","v":0},{"$f":"'shaladarpan '!R367","v":"GOVT. SENIOR SECONDARY SCHOOL ALNIYAWAS (219445)"},{"$f":"'shaladarpan '!S367","v":8140200308},{"$f":"'shaladarpan '!T367","v":"XXXX1692"},{"$f":"'shaladarpan '!U367","v":0},{"$f":"'shaladarpan '!V367","v":9828121062},{"$f":"'shaladarpan '!W367","v":"alniyawas366"},{"$f":"'shaladarpan '!X367","v":0},{"$f":"'shaladarpan '!Y367","v":"N"},{"$f":"'shaladarpan '!Z367","v":"N"},{"$f":"'shaladarpan '!AA367","v":"No"},{"$f":"'shaladarpan '!AB367","v":15},{"$f":"'shaladarpan '!AC367","v":"None"},{"$f":"'shaladarpan '!AD367","v":3}]
[{"$f":"IF(F369=\" \",\" \",ROWS($A$3:A369))","v":367},{"$f":"'shaladarpan '!A368","v":9},{"$f":"'shaladarpan '!B368","v":"B"},{"$f":"'shaladarpan '!C368","v":3843},{"$f":"'shaladarpan '!D368","v":"2015-05-11"},{"$f":"'shaladarpan '!E368","v":"manjeet367"},{"$f":"'shaladarpan '!F368","v":"00:00:00"},{"$f":"'shaladarpan '!G368","v":"vijay367"},{"$f":"'shaladarpan '!H368","v":"beautiful367"},{"$f":"'shaladarpan '!I368","v":"M"},{"$f":"'shaladarpan '!J368","v":"2005-08-25"},{"$f":"'shaladarpan '!K368","v":"yes"},{"$f":"'shaladarpan '!L368","v":367},{"$f":"'shaladarpan '!M368","v":0},{"$f":"'shaladarpan '!N368","v":0},{"$f":"'shaladarpan '!O368","v":"OBC"},{"$f":"'shaladarpan '!P368","v":"Muslim"},{"$f":"'shaladarpan '!Q368","v":0},{"$f":"'shaladarpan '!R368","v":"GOVT. SENIOR SECONDARY SCHOOL ALNIYAWAS (219445)"},{"$f":"'shaladarpan '!S368","v":8140200308},{"$f":"'shaladarpan '!T368","v":"XXXX5671"},{"$f":"'shaladarpan '!U368","v":0},{"$f":"'shaladarpan '!V368","v":9828121063},{"$f":"'shaladarpan '!W368","v":"alniyawas367"},{"$f":"'shaladarpan '!X368","v":0},{"$f":"'shaladarpan '!Y368","v":"N"},{"$f":"'shaladarpan '!Z368","v":"N"},{"$f":"'shaladarpan '!AA368","v":"Yes"},{"$f":"'shaladarpan '!AB368","v":15},{"$f":"'shaladarpan '!AC368","v":"None"},{"$f":"'shaladarpan '!AD368","v":1}]
[{"$f":"IF(F370=\" \",\" \",ROWS($A$3:A370))","v":368},{"$f":"'shaladarpan '!A369","v":9},{"$f":"'shaladarpan '!B369","v":"B"},{"$f":"'shaladarpan '!C369","v":3834},{"$f":"'shaladarpan '!D369","v":"2015-05-11"},{"$f":"'shaladarpan '!E369","v":"manjeet368"},{"$f":"'shaladarpan '!F369","v":"00:00:00"},{"$f":"'shaladarpan '!G369","v":"vijay368"},{"$f":"'shaladarpan '!H369","v":"beautiful368"},{"$f":"'shaladarpan '!I369","v":"M"},{"$f":"'shaladarpan '!J369","v":"2006-07-03"},{"$f":"'shaladarpan '!K369","v":"yes"},{"$f":"'shaladarpan '!L369","v":368},{"$f":"'shaladarpan '!M369","v":0},{"$f":"'shaladarpan '!N369","v":0},{"$f":"'shaladarpan '!O369","v":"SC"},{"$f":"'shaladarpan '!P369","v":"Hindu"},{"$f":"'shaladarpan '!Q369","v":0},{"$f":"'shaladarpan '!R369","v":"GOVT. SENIOR SECONDARY SCHOOL ALNIYAWAS (219445)"},{"$f":"'shaladarpan '!S369","v":8140200308},{"$f":"'shaladarpan '!T369","v":"XXXX3165"},{"$f":"'shaladarpan '!U369","v":0},{"$f":"'shaladarpan '!V369","v":9828121064},{"$f":"'shaladarpan '!W369","v":"alniyawas368"},{"$f":"'shaladarpan '!X369","v":0},{"$f":"'shaladarpan '!Y369","v":"N"},{"$f":"'shaladarpan '!Z369","v":"N"},{"$f":"'shaladarpan '!AA369","v":"No"},{"$f":"'shaladarpan '!AB369","v":14},{"$f":"'shaladarpan '!AC369","v":"None"},{"$f":"'shaladarpan '!AD369","v":1}]
[{"$f":"IF(F371=\" \",\" \",ROWS($A$3:A371))","v":369},{"$f":"'shaladarpan '!A370","v":9},{"$f":"'shaladarpan '!B370","v":"B"},{"$f":"'shaladarpan '!C370","v":4599},{"$f":"'shaladarpan '!D370","v":"2018-07-25"},{"$f":"'shaladarpan '!E370","v":"manjeet369"},{"$f":"'shaladarpan '!F370","v":"00:00:00"},{"$f":"'shaladarpan '!G370","v":"vijay369"},{"$f":"'shaladarpan '!H370","v":"beautiful369"},{"$f":"'shaladarpan '!I370","v":"M"},{"$f":"'shaladarpan '!J370","v":"2006-07-05"},{"$f":"'shaladarpan '!K370","v":"no"},{"$f":"'shaladarpan '!L370","v":369},{"$f":"'shaladarpan '!M370","v":0},{"$f":"'shaladarpan '!N370","v":0},{"$f":"'shaladarpan '!O370","v":"OBC"},{"$f":"'shaladarpan '!P370","v":"Hindu"},{"$f":"'shaladarpan '!Q370","v":0},{"$f":"'shaladarpan '!R370","v":"GOVT. SENIOR SECONDARY SCHOOL ALNIYAWAS (219445)"},{"$f":"'shaladarpan '!S370","v":8140200308},{"$f":"'shaladarpan '!T370","v":"XXXX4211"},{"$f":"'shaladarpan '!U370","v":0},{"$f":"'shaladarpan '!V370","v":9828121065},{"$f":"'shaladarpan '!W370","v":"alniyawas369"},{"$f":"'shaladarpan '!X370","v":50000},{"$f":"'shaladarpan '!Y370","v":"N"},{"$f":"'shaladarpan '!Z370","v":"N"},{"$f":"'shaladarpan '!AA370","v":"No"},{"$f":"'shaladarpan '!AB370","v":14},{"$f":"'shaladarpan '!AC370","v":"None"},{"$f":"'shaladarpan '!AD370","v":0}]
[{"$f":"IF(F372=\" \",\" \",ROWS($A$3:A372))","v":370},{"$f":"'shaladarpan '!A371","v":9},{"$f":"'shaladarpan '!B371","v":"B"},{"$f":"'shaladarpan '!C371","v":4847},{"$f":"'shaladarpan '!D371","v":"00:00:00"},{"$f":"'shaladarpan '!E371","v":"manjeet370"},{"$f":"'shaladarpan '!F371","v":"00:00:00"},{"$f":"'shaladarpan '!G371","v":"vijay370"},{"$f":"'shaladarpan '!H371","v":"beautiful370"},{"$f":"'shaladarpan '!I371","v":"F"},{"$f":"'shaladarpan '!J371","v":"2006-03-02"},{"$f":"'shaladarpan '!K371","v":"yes"},{"$f":"'shaladarpan '!L371","v":370},{"$f":"'shaladarpan '!M371","v":0},{"$f":"'shaladarpan '!N371","v":0},{"$f":"'shaladarpan '!O371","v":"OBC"},{"$f":"'shaladarpan '!P371","v":0},{"$f":"'shaladarpan '!Q371","v":0},{"$f":"'shaladarpan '!R371","v":"GOVT. SENIOR SECONDARY SCHOOL ALNIYAWAS (219445)"},{"$f":"'shaladarpan '!S371","v":8140200308},{"$f":"'shaladarpan '!T371","v":0},{"$f":"'shaladarpan '!U371","v":0},{"$f":"'shaladarpan '!V371","v":9828121066},{"$f":"'shaladarpan '!W371","v":"alniyawas370"},{"$f":"'shaladarpan '!X371","v":0},{"$f":"'shaladarpan '!Y371","v":"N"},{"$f":"'shaladarpan '!Z371","v":"Y"},{"$f":"'shaladarpan '!AA371","v":0},{"$f":"'shaladarpan '!AB371","v":14},{"$f":"'shaladarpan '!AC371","v":0},{"$f":"'shaladarpan '!AD371","v":3}]
[{"$f":"IF(F373=\" \",\" \",ROWS($A$3:A373))","v":371},{"$f":"'shaladarpan '!A372","v":9},{"$f":"'shaladarpan '!B372","v":"B"},{"$f":"'shaladarpan '!C372","v":3819},{"$f":"'shaladarpan '!D372","v":"2015-05-11"},{"$f":"'shaladarpan '!E372","v":"manjeet371"},{"$f":"'shaladarpan '!F372","v":"00:00:00"},{"$f":"'shaladarpan '!G372","v":"vijay371"},{"$f":"'shaladarpan '!H372","v":"beautiful371"},{"$f":"'shaladarpan '!I372","v":"M"},{"$f":"'shaladarpan '!J372","v":"2006-04-02"},{"$f":"'shaladarpan '!K372","v":"yes"},{"$f":"'shaladarpan '!L372","v":371},{"$f":"'shaladarpan '!M372","v":0},{"$f":"'shaladarpan '!N372","v":0},{"$f":"'shaladarpan '!O372","v":"OBC"},{"$f":"'shaladarpan '!P372","v":"Muslim"},{"$f":"'shaladarpan '!Q372","v":0},{"$f":"'shaladarpan '!R372","v":"GOVT. SENIOR SECONDARY SCHOOL ALNIYAWAS (219445)"},{"$f":"'shaladarpan '!S372","v":8140200308},{"$f":"'shaladarpan '!T372","v":"XXXX8637"},{"$f":"'shaladarpan '!U372","v":0},{"$f":"'shaladarpan '!V372","v":9828121067},{"$f":"'shaladarpan '!W372","v":"alniyawas371"},{"$f":"'shaladarpan '!X372","v":0},{"$f":"'shaladarpan '!Y372","v":"N"},{"$f":"'shaladarpan '!Z372","v":"N"},{"$f":"'shaladarpan '!AA372","v":"Yes"},{"$f":"'shaladarpan '!AB372","v":14},{"$f":"'shaladarpan '!AC372","v":"None"},{"$f":"'shaladarpan '!AD372","v":0}]
[{"$f":"IF(F374=\" \",\" \",ROWS($A$3:A374))","v":372},{"$f":"'shaladarpan '!A373","v":9},{"$f":"'shaladarpan '!B373","v":"B"},{"$f":"'shaladarpan '!C373","v":4295},{"$f":"'shaladarpan '!D373","v":"2017-06-30"},{"$f":"'shaladarpan '!E373","v":"manjeet372"},{"$f":"'shaladarpan '!F373","v":"00:00:00"},{"$f":"'shaladarpan '!G373","v":"vijay372"},{"$f":"'shaladarpan '!H373","v":"beautiful372"},{"$f":"'shaladarpan '!I373","v":"M"},{"$f":"'shaladarpan '!J373","v":"2007-09-21"},{"$f":"'shaladarpan '!K373","v":"no"},{"$f":"'shaladarpan '!L373","v":372},{"$f":"'shaladarpan '!M373","v":0},{"$f":"'shaladarpan '!N373","v":0},{"$f":"'shaladarpan '!O373","v":"OBC"},{"$f":"'shaladarpan '!P373","v":"Hindu"},{"$f":"'shaladarpan '!Q373","v":0},{"$f":"'shaladarpan '!R373","v":"GOVT. SENIOR SECONDARY SCHOOL ALNIYAWAS (219445)"},{"$f":"'shaladarpan '!S373","v":8140200308},{"$f":"'shaladarpan '!T373","v":"XXXX3283"},{"$f":"'shaladarpan '!U373","v":0},{"$f":"'shaladarpan '!V373","v":9828121068},{"$f":"'shaladarpan '!W373","v":"alniyawas372"},{"$f":"'shaladarpan '!X373","v":0},{"$f":"'shaladarpan '!Y373","v":"N"},{"$f":"'shaladarpan '!Z373","v":"N"},{"$f":"'shaladarpan '!AA373","v":"No"},{"$f":"'shaladarpan '!AB373","v":13},{"$f":"'shaladarpan '!AC373","v":"None"},{"$f":"'shaladarpan '!AD373","v":1}]
[{"$f":"IF(F375=\" \",\" \",ROWS($A$3:A375))","v":373},{"$f":"'shaladarpan '!A374","v":9},{"$f":"'shaladarpan '!B374","v":"B"},{"$f":"'shaladarpan '!C374","v":3832},{"$f":"'shaladarpan '!D374","v":"2015-05-11"},{"$f":"'shaladarpan '!E374","v":"manjeet373"},{"$f":"'shaladarpan '!F374","v":"00:00:00"},{"$f":"'shaladarpan '!G374","v":"vijay373"},{"$f":"'shaladarpan '!H374","v":"beautiful373"},{"$f":"'shaladarpan '!I374","v":"M"},{"$f":"'shaladarpan '!J374","v":"2005-02-02"},{"$f":"'shaladarpan '!K374","v":"yes"},{"$f":"'shaladarpan '!L374","v":373},{"$f":"'shaladarpan '!M374","v":0},{"$f":"'shaladarpan '!N374","v":0},{"$f":"'shaladarpan '!O374","v":"SC"},{"$f":"'shaladarpan '!P374","v":"Hindu"},{"$f":"'shaladarpan '!Q374","v":0},{"$f":"'shaladarpan '!R374","v":"GOVT. SENIOR SECONDARY SCHOOL ALNIYAWAS (219445)"},{"$f":"'shaladarpan '!S374","v":8140200308},{"$f":"'shaladarpan '!T374","v":"XXXX4317"},{"$f":"'shaladarpan '!U374","v":"YBOKWIK"},{"$f":"'shaladarpan '!V374","v":9828121069},{"$f":"'shaladarpan '!W374","v":"alniyawas373"},{"$f":"'shaladarpan '!X374","v":60000},{"$f":"'shaladarpan '!Y374","v":"N"},{"$f":"'shaladarpan '!Z374","v":"N"},{"$f":"'shaladarpan '!AA374","v":"No"},{"$f":"'shaladarpan '!AB374","v":15},{"$f":"'shaladarpan '!AC374","v":"None"},{"$f":"'shaladarpan '!AD374","v":1}]
[{"$f":"IF(F376=\" \",\" \",ROWS($A$3:A376))","v":374},{"$f":"'shaladarpan '!A375","v":9},{"$f":"'shaladarpan '!B375","v":"B"},{"$f":"'shaladarpan '!C375","v":4836},{"$f":"'shaladarpan '!D375","v":"2014-11-15"},{"$f":"'shaladarpan '!E375","v":"manjeet374"},{"$f":"'shaladarpan '!F375","v":"00:00:00"},{"$f":"'shaladarpan '!G375","v":"vijay374"},{"$f":"'shaladarpan '!H375","v":"beautiful374"},{"$f":"'shaladarpan '!I375","v":"M"},{"$f":"'shaladarpan '!J375","v":"2006-12-07"},{"$f":"'shaladarpan '!K375","v":"yes"},{"$f":"'shaladarpan '!L375","v":374},{"$f":"'shaladarpan '!M375","v":0},{"$f":"'shaladarpan '!N375","v":0},{"$f":"'shaladarpan '!O375","v":"SC"},{"$f":"'shaladarpan '!P375","v":"Hindu"},{"$f":"'shaladarpan '!Q375","v":0},{"$f":"'shaladarpan '!R375","v":"GOVT. SENIOR SECONDARY SCHOOL ALNIYAWAS (219445)"},{"$f":"'shaladarpan '!S375","v":8140200308},{"$f":"'shaladarpan '!T375","v":"XXXX8572"},{"$f":"'shaladarpan '!U375","v":"YYYUIIO"},{"$f":"'shaladarpan '!V375","v":9828121070},{"$f":"'shaladarpan '!W375","v":"alniyawas374"},{"$f":"'shaladarpan '!X375","v":40000},{"$f":"'shaladarpan '!Y375","v":"N"},{"$f":"'shaladarpan '!Z375","v":"N"},{"$f":"'shaladarpan '!AA375","v":"No"},{"$f":"'shaladarpan '!AB375","v":14},{"$f":"'shaladarpan '!AC375","v":"None"},{"$f":"'shaladarpan '!AD375","v":0}]
[{"$f":"IF(F377=\" \",\" \",ROWS($A$3:A377))","v":375},{"$f":"'shaladarpan '!A376","v":9},{"$f":"'shaladarpan '!B376","v":"B"},{"$f":"'shaladarpan '!C376","v":4637},{"$f":"'shaladarpan '!D376","v":"2019-07-03"},{"$f":"'shaladarpan '!E376","v":"manjeet375"},{"$f":"'shaladarpan '!F376","v":"00:00:00"},{"$f":"'shaladarpan '!G376","v":"vijay375"},{"$f":"'shaladarpan '!H376","v":"beautiful375"},{"$f":"'shaladarpan '!I376","v":"M"},{"$f":"'shaladarpan '!J376","v":"2004-06-02"},{"$f":"'shaladarpan '!K376","v":"no"},{"$f":"'shaladarpan '!L376","v":375},{"$f":"'shaladarpan '!M376","v":0},{"$f":"'shaladarpan '!N376","v":0},{"$f":"'shaladarpan '!O376","v":"GEN"},{"$f":"'shaladarpan '!P376","v":"Hindu"},{"$f":"'shaladarpan '!Q376","v":0},{"$f":"'shaladarpan '!R376","v":"GOVT. SENIOR SECONDARY SCHOOL ALNIYAWAS (219445)"},{"$f":"'shaladarpan '!S376","v":8140200308},{"$f":"'shaladarpan '!T376","v":"XXXX5727"},{"$f":"'shaladarpan '!U376","v":"wxvczgx"},{"$f":"'shaladarpan '!V376","v":9828121071},{"$f":"'shaladarpan '!W376","v":"alniyawas375"},{"$f":"'shaladarpan '!X376","v":60000},{"$f":"'shaladarpan '!Y376","v":"N"},{"$f":"'shaladarpan '!Z376","v":"N"},{"$f":"'shaladarpan '!AA376","v":"No"},{"$f":"'shaladarpan '!AB376","v":16},{"$f":"'shaladarpan '!AC376","v":"None"},{"$f":"'shaladarpan '!AD376","v":2}]
[{"$f":"IF(F378=\" \",\" \",ROWS($A$3:A378))","v":376},{"$f":"'shaladarpan '!A377","v":9},{"$f":"'shaladarpan '!B377","v":"B"},{"$f":"'shaladarpan '!C377","v":4853},{"$f":"'shaladarpan '!D377","v":"2011-11-01"},{"$f":"'shaladarpan '!E377","v":"manjeet376"},{"$f":"'shaladarpan '!F377","v":"00:00:00"},{"$f":"'shaladarpan '!G377","v":"vijay376"},{"$f":"'shaladarpan '!H377","v":"beautiful376"},{"$f":"'shaladarpan '!I377","v":"F"},{"$f":"'shaladarpan '!J377","v":"2005-10-05"},{"$f":"'shaladarpan '!K377","v":"yes"},{"$f":"'shaladarpan '!L377","v":376},{"$f":"'shaladarpan '!M377","v":0},{"$f":"'shaladarpan '!N377","v":0},{"$f":"'shaladarpan '!O377","v":"OBC"},{"$f":"'shaladarpan '!P377","v":"Hindu"},{"$f":"'shaladarpan '!Q377","v":0},{"$f":"'shaladarpan '!R377","v":"GOVT. SENIOR SECONDARY SCHOOL ALNIYAWAS (219445)"},{"$f":"'shaladarpan '!S377","v":8140200308},{"$f":"'shaladarpan '!T377","v":"XXXX2937"},{"$f":"'shaladarpan '!U377","v":"YMSUYSS"},{"$f":"'shaladarpan '!V377","v":9828121072},{"$f":"'shaladarpan '!W377","v":"alniyawas376"},{"$f":"'shaladarpan '!X377","v":60000},{"$f":"'shaladarpan '!Y377","v":"N"},{"$f":"'shaladarpan '!Z377","v":"N"},{"$f":"'shaladarpan '!AA377","v":"No"},{"$f":"'shaladarpan '!AB377","v":15},{"$f":"'shaladarpan '!AC377","v":"None"},{"$f":"'shaladarpan '!AD377","v":0}]
[{"$f":"IF(F379=\" \",\" \",ROWS($A$3:A379))","v":377},{"$f":"'shaladarpan '!A378","v":9},{"$f":"'shaladarpan '!B378","v":"B"},{"$f":"'shaladarpan '!C378","v":4636},{"$f":"'shaladarpan '!D378","v":"2019-07-03"},{"$f":"'shaladarpan '!E378","v":"manjeet377"},{"$f":"'shaladarpan '!F378","v":"00:00:00"},{"$f":"'shaladarpan '!G378","v":"vijay377"},{"$f":"'shaladarpan '!H378","v":"beautiful377"},{"$f":"'shaladarpan '!I378","v":"M"},{"$f":"'shaladarpan '!J378","v":"2005-02-01"},{"$f":"'shaladarpan '!K378","v":"yes"},{"$f":"'shaladarpan '!L378","v":377},{"$f":"'shaladarpan '!M378","v":0},{"$f":"'shaladarpan '!N378","v":0},{"$f":"'shaladarpan '!O378","v":"OBC"},{"$f":"'shaladarpan '!P378","v":"Hindu"},{"$f":"'shaladarpan '!Q378","v":0},{"$f":"'shaladarpan '!R378","v":"GOVT. SENIOR SECONDARY SCHOOL ALNIYAWAS (219445)"},{"$f":"'shaladarpan '!S378","v":8140200308},{"$f":"'shaladarpan '!T378","v":"XXXX9464"},{"$f":"'shaladarpan '!U378","v":0},{"$f":"'shaladarpan '!V378","v":9828121073},{"$f":"'shaladarpan '!W378","v":"alniyawas377"},{"$f":"'shaladarpan '!X378","v":60000},{"$f":"'shaladarpan '!Y378","v":"N"},{"$f":"'shaladarpan '!Z378","v":"N"},{"$f":"'shaladarpan '!AA378","v":"No"},{"$f":"'shaladarpan '!AB378","v":15},{"$f":"'shaladarpan '!AC378","v":"None"},{"$f":"'shaladarpan '!AD378","v":3}]
[{"$f":"IF(F380=\" \",\" \",ROWS($A$3:A380))","v":378},{"$f":"'shaladarpan '!A379","v":9},{"$f":"'shaladarpan '!B379","v":"B"},{"$f":"'shaladarpan '!C379","v":4831},{"$f":"'shaladarpan '!D379","v":"2020-08-31"},{"$f":"'shaladarpan '!E379","v":"manjeet378"},{"$f":"'shaladarpan '!F379","v":"00:00:00"},{"$f":"'shaladarpan '!G379","v":"vijay378"},{"$f":"'shaladarpan '!H379","v":"beautiful378"},{"$f":"'shaladarpan '!I379","v":"F"},{"$f":"'shaladarpan '!J379","v":"2006-01-04"},{"$f":"'shaladarpan '!K379","v":"no"},{"$f":"'shaladarpan '!L379","v":378},{"$f":"'shaladarpan '!M379","v":0},{"$f":"'shaladarpan '!N379","v":0},{"$f":"'shaladarpan '!O379","v":"SC"},{"$f":"'shaladarpan '!P379","v":"Hindu"},{"$f":"'shaladarpan '!Q379","v":0},{"$f":"'shaladarpan '!R379","v":"GOVT. SENIOR SECONDARY SCHOOL ALNIYAWAS (219445)"},{"$f":"'shaladarpan '!S379","v":8140200308},{"$f":"'shaladarpan '!T379","v":"XXXX4208"},{"$f":"'shaladarpan '!U379","v":"YMQFQAG"},{"$f":"'shaladarpan '!V379","v":9828121074},{"$f":"'shaladarpan '!W379","v":"alniyawas378"},{"$f":"'shaladarpan '!X379","v":60000},{"$f":"'shaladarpan '!Y379","v":"N"},{"$f":"'shaladarpan '!Z379","v":"N"},{"$f":"'shaladarpan '!AA379","v":"No"},{"$f":"'shaladarpan '!AB379","v":14},{"$f":"'shaladarpan '!AC379","v":"None"},{"$f":"'shaladarpan '!AD379","v":0}]
[{"$f":"IF(F381=\" \",\" \",ROWS($A$3:A381))","v":379},{"$f":"'shaladarpan '!A380","v":9},{"$f":"'shaladarpan '!B380","v":"B"},{"$f":"'shaladarpan '!C380","v":4546},{"$f":"'shaladarpan '!D380","v":"2018-07-10"},{"$f":"'shaladarpan '!E380","v":"manjeet379"},{"$f":"'shaladarpan '!F380","v":"00:00:00"},{"$f":"'shaladarpan '!G380","v":"vijay379"},{"$f":"'shaladarpan '!H380","v":"beautiful379"},{"$f":"'shaladarpan '!I380","v":"M"},{"$f":"'shaladarpan '!J380","v":"2007-01-05"},{"$f":"'shaladarpan '!K380","v":"yes"},{"$f":"'shaladarpan '!L380","v":379},{"$f":"'shaladarpan '!M380","v":0},{"$f":"'shaladarpan '!N380","v":0},{"$f":"'shaladarpan '!O380","v":"GEN"},{"$f":"'shaladarpan '!P380","v":"Hindu"},{"$f":"'shaladarpan '!Q380","v":0},{"$f":"'shaladarpan '!R380","v":"GOVT. SENIOR SECONDARY SCHOOL ALNIYAWAS (219445)"},{"$f":"'shaladarpan '!S380","v":8140200308},{"$f":"'shaladarpan '!T380","v":"XXXX1906"},{"$f":"'shaladarpan '!U380","v":0},{"$f":"'shaladarpan '!V380","v":9828121075},{"$f":"'shaladarpan '!W380","v":"alniyawas379"},{"$f":"'shaladarpan '!X380","v":50000},{"$f":"'shaladarpan '!Y380","v":"N"},{"$f":"'shaladarpan '!Z380","v":"N"},{"$f":"'shaladarpan '!AA380","v":"No"},{"$f":"'shaladarpan '!AB380","v":13},{"$f":"'shaladarpan '!AC380","v":"None"},{"$f":"'shaladarpan '!AD380","v":1}]
[{"$f":"IF(F382=\" \",\" \",ROWS($A$3:A382))","v":380},{"$f":"'shaladarpan '!A381","v":9},{"$f":"'shaladarpan '!B381","v":"B"},{"$f":"'shaladarpan '!C381","v":4126},{"$f":"'shaladarpan '!D381","v":"2016-06-30"},{"$f":"'shaladarpan '!E381","v":"manjeet380"},{"$f":"'shaladarpan '!F381","v":"00:00:00"},{"$f":"'shaladarpan '!G381","v":"vijay380"},{"$f":"'shaladarpan '!H381","v":"beautiful380"},{"$f":"'shaladarpan '!I381","v":"M"},{"$f":"'shaladarpan '!J381","v":"2005-02-01"},{"$f":"'shaladarpan '!K381","v":"yes"},{"$f":"'shaladarpan '!L381","v":380},{"$f":"'shaladarpan '!M381","v":0},{"$f":"'shaladarpan '!N381","v":0},{"$f":"'shaladarpan '!O381","v":"OBC"},{"$f":"'shaladarpan '!P381","v":"Muslim"},{"$f":"'shaladarpan '!Q381","v":0},{"$f":"'shaladarpan '!R381","v":"GOVT. SENIOR SECONDARY SCHOOL ALNIYAWAS (219445)"},{"$f":"'shaladarpan '!S381","v":8140200308},{"$f":"'shaladarpan '!T381","v":"XXXX6789"},{"$f":"'shaladarpan '!U381","v":0},{"$f":"'shaladarpan '!V381","v":9828121076},{"$f":"'shaladarpan '!W381","v":"alniyawas380"},{"$f":"'shaladarpan '!X381","v":0},{"$f":"'shaladarpan '!Y381","v":"N"},{"$f":"'shaladarpan '!Z381","v":"N"},{"$f":"'shaladarpan '!AA381","v":"Yes"},{"$f":"'shaladarpan '!AB381","v":15},{"$f":"'shaladarpan '!AC381","v":"None"},{"$f":"'shaladarpan '!AD381","v":2}]
[{"$f":"IF(F383=\" \",\" \",ROWS($A$3:A383))","v":381},{"$f":"'shaladarpan '!A382","v":9},{"$f":"'shaladarpan '!B382","v":"B"},{"$f":"'shaladarpan '!C382","v":4882},{"$f":"'shaladarpan '!D382","v":"2014-07-24"},{"$f":"'shaladarpan '!E382","v":"manjeet381"},{"$f":"'shaladarpan '!F382","v":"00:00:00"},{"$f":"'shaladarpan '!G382","v":"vijay381"},{"$f":"'shaladarpan '!H382","v":"beautiful381"},{"$f":"'shaladarpan '!I382","v":"F"},{"$f":"'shaladarpan '!J382","v":"2005-10-10"},{"$f":"'shaladarpan '!K382","v":"no"},{"$f":"'shaladarpan '!L382","v":381},{"$f":"'shaladarpan '!M382","v":0},{"$f":"'shaladarpan '!N382","v":0},{"$f":"'shaladarpan '!O382","v":"SC"},{"$f":"'shaladarpan '!P382","v":"Hindu"},{"$f":"'shaladarpan '!Q382","v":0},{"$f":"'shaladarpan '!R382","v":"GOVT. SENIOR SECONDARY SCHOOL ALNIYAWAS (219445)"},{"$f":"'shaladarpan '!S382","v":8140200308},{"$f":"'shaladarpan '!T382","v":"XXXX6839"},{"$f":"'shaladarpan '!U382","v":0},{"$f":"'shaladarpan '!V382","v":9828121077},{"$f":"'shaladarpan '!W382","v":"alniyawas381"},{"$f":"'shaladarpan '!X382","v":50000},{"$f":"'shaladarpan '!Y382","v":"N"},{"$f":"'shaladarpan '!Z382","v":"N"},{"$f":"'shaladarpan '!AA382","v":"No"},{"$f":"'shaladarpan '!AB382","v":15},{"$f":"'shaladarpan '!AC382","v":"None"},{"$f":"'shaladarpan '!AD382","v":0}]
[{"$f":"IF(F384=\" \",\" \",ROWS($A$3:A384))","v":382},{"$f":"'shaladarpan '!A383","v":9},{"$f":"'shaladarpan '!B383","v":"B"},{"$f":"'shaladarpan '!C383","v":4222},{"$f":"'shaladarpan '!D383","v":"2016-07-15"},{"$f":"'shaladarpan '!E383","v":"manjeet382"},{"$f":"'shaladarpan '!F383","v":"00:00:00"},{"$f":"'shaladarpan '!G383","v":"vijay382"},{"$f":"'shaladarpan '!H383","v":"beautiful382"},{"$f":"'shaladarpan '!I383","v":"M"},{"$f":"'shaladarpan '!J383","v":"2005-07-04"},{"$f":"'shaladarpan '!K383","v":"yes"},{"$f":"'shaladarpan '!L383","v":382},{"$f":"'shaladarpan '!M383","v":0},{"$f":"'shaladarpan '!N383","v":0},{"$f":"'shaladarpan '!O383","v":"OBC"},{"$f":"'shaladarpan '!P383","v":"Muslim"},{"$f":"'shaladarpan '!Q383","v":0},{"$f":"'shaladarpan '!R383","v":"GOVT. SENIOR SECONDARY SCHOOL ALNIYAWAS (219445)"},{"$f":"'shaladarpan '!S383","v":8140200308},{"$f":"'shaladarpan '!T383","v":"XXXX7391"},{"$f":"'shaladarpan '!U383","v":0},{"$f":"'shaladarpan '!V383","v":9828121078},{"$f":"'shaladarpan '!W383","v":"alniyawas382"},{"$f":"'shaladarpan '!X383","v":0},{"$f":"'shaladarpan '!Y383","v":"N"},{"$f":"'shaladarpan '!Z383","v":"N"},{"$f":"'shaladarpan '!AA383","v":"Yes"},{"$f":"'shaladarpan '!AB383","v":15},{"$f":"'shaladarpan '!AC383","v":"None"},{"$f":"'shaladarpan '!AD383","v":0}]
[{"$f":"IF(F385=\" \",\" \",ROWS($A$3:A385))","v":383},{"$f":"'shaladarpan '!A384","v":9},{"$f":"'shaladarpan '!B384","v":"B"},{"$f":"'shaladarpan '!C384","v":4879},{"$f":"'shaladarpan '!D384","v":"00:00:00"},{"$f":"'shaladarpan '!E384","v":"manjeet383"},{"$f":"'shaladarpan '!F384","v":"00:00:00"},{"$f":"'shaladarpan '!G384","v":"vijay383"},{"$f":"'shaladarpan '!H384","v":"beautiful383"},{"$f":"'shaladarpan '!I384","v":"F"},{"$f":"'shaladarpan '!J384","v":"2005-05-28"},{"$f":"'shaladarpan '!K384","v":"yes"},{"$f":"'shaladarpan '!L384","v":383},{"$f":"'shaladarpan '!M384","v":0},{"$f":"'shaladarpan '!N384","v":0},{"$f":"'shaladarpan '!O384","v":"OBC"},{"$f":"'shaladarpan '!P384","v":0},{"$f":"'shaladarpan '!Q384","v":0},{"$f":"'shaladarpan '!R384","v":"GOVT. SENIOR SECONDARY SCHOOL ALNIYAWAS (219445)"},{"$f":"'shaladarpan '!S384","v":8140200308},{"$f":"'shaladarpan '!T384","v":0},{"$f":"'shaladarpan '!U384","v":0},{"$f":"'shaladarpan '!V384","v":9828121079},{"$f":"'shaladarpan '!W384","v":"alniyawas383"},{"$f":"'shaladarpan '!X384","v":0},{"$f":"'shaladarpan '!Y384","v":"N"},{"$f":"'shaladarpan '!Z384","v":"Y"},{"$f":"'shaladarpan '!AA384","v":0},{"$f":"'shaladarpan '!AB384","v":15},{"$f":"'shaladarpan '!AC384","v":0},{"$f":"'shaladarpan '!AD384","v":0}]
[{"$f":"IF(F386=\" \",\" \",ROWS($A$3:A386))","v":384},{"$f":"'shaladarpan '!A385","v":9},{"$f":"'shaladarpan '!B385","v":"B"},{"$f":"'shaladarpan '!C385","v":4842},{"$f":"'shaladarpan '!D385","v":"00:00:00"},{"$f":"'shaladarpan '!E385","v":"manjeet384"},{"$f":"'shaladarpan '!F385","v":"00:00:00"},{"$f":"'shaladarpan '!G385","v":"vijay384"},{"$f":"'shaladarpan '!H385","v":"beautiful384"},{"$f":"'shaladarpan '!I385","v":"M"},{"$f":"'shaladarpan '!J385","v":"2007-01-01"},{"$f":"'shaladarpan '!K385","v":"no"},{"$f":"'shaladarpan '!L385","v":384},{"$f":"'shaladarpan '!M385","v":0},{"$f":"'shaladarpan '!N385","v":0},{"$f":"'shaladarpan '!O385","v":"OBC"},{"$f":"'shaladarpan '!P385","v":0},{"$f":"'shaladarpan '!Q385","v":0},{"$f":"'shaladarpan '!R385","v":"GOVT. SENIOR SECONDARY SCHOOL ALNIYAWAS (219445)"},{"$f":"'shaladarpan '!S385","v":8140200308},{"$f":"'shaladarpan '!T385","v":0},{"$f":"'shaladarpan '!U385","v":0},{"$f":"'shaladarpan '!V385","v":9828121080},{"$f":"'shaladarpan '!W385","v":"alniyawas384"},{"$f":"'shaladarpan '!X385","v":0},{"$f":"'shaladarpan '!Y385","v":"N"},{"$f":"'shaladarpan '!Z385","v":"Y"},{"$f":"'shaladarpan '!AA385","v":0},{"$f":"'shaladarpan '!AB385","v":13},{"$f":"'shaladarpan '!AC385","v":0},{"$f":"'shaladarpan '!AD385","v":1}]
[{"$f":"IF(F387=\" \",\" \",ROWS($A$3:A387))","v":385},{"$f":"'shaladarpan '!A386","v":9},{"$f":"'shaladarpan '!B386","v":"B"},{"$f":"'shaladarpan '!C386","v":4488},{"$f":"'shaladarpan '!D386","v":"2017-06-27"},{"$f":"'shaladarpan '!E386","v":"manjeet385"},{"$f":"'shaladarpan '!F386","v":"00:00:00"},{"$f":"'shaladarpan '!G386","v":"vijay385"},{"$f":"'shaladarpan '!H386","v":"beautiful385"},{"$f":"'shaladarpan '!I386","v":"M"},{"$f":"'shaladarpan '!J386","v":"2006-06-13"},{"$f":"'shaladarpan '!K386","v":"yes"},{"$f":"'shaladarpan '!L386","v":385},{"$f":"'shaladarpan '!M386","v":0},{"$f":"'shaladarpan '!N386","v":0},{"$f":"'shaladarpan '!O386","v":"SC"},{"$f":"'shaladarpan '!P386","v":"Hindu"},{"$f":"'shaladarpan '!Q386","v":0},{"$f":"'shaladarpan '!R386","v":"GOVT. SENIOR SECONDARY SCHOOL ALNIYAWAS (219445)"},{"$f":"'shaladarpan '!S386","v":8140200308},{"$f":"'shaladarpan '!T386","v":"XXXX3359"},{"$f":"'shaladarpan '!U386","v":"VBKWWZX"},{"$f":"'shaladarpan '!V386","v":9828121081},{"$f":"'shaladarpan '!W386","v":"alniyawas385"},{"$f":"'shaladarpan '!X386","v":50000},{"$f":"'shaladarpan '!Y386","v":"N"},{"$f":"'shaladarpan '!Z386","v":"N"},{"$f":"'shaladarpan '!AA386","v":"No"},{"$f":"'shaladarpan '!AB386","v":14},{"$f":"'shaladarpan '!AC386","v":"None"},{"$f":"'shaladarpan '!AD386","v":5}]
[{"$f":"IF(F388=\" \",\" \",ROWS($A$3:A388))","v":386},{"$f":"'shaladarpan '!A387","v":9},{"$f":"'shaladarpan '!B387","v":"B"},{"$f":"'shaladarpan '!C387","v":4848},{"$f":"'shaladarpan '!D387","v":"00:00:00"},{"$f":"'shaladarpan '!E387","v":"manjeet386"},{"$f":"'shaladarpan '!F387","v":"00:00:00"},{"$f":"'shaladarpan '!G387","v":"vijay386"},{"$f":"'shaladarpan '!H387","v":"beautiful386"},{"$f":"'shaladarpan '!I387","v":"M"},{"$f":"'shaladarpan '!J387","v":"2005-10-10"},{"$f":"'shaladarpan '!K387","v":"yes"},{"$f":"'shaladarpan '!L387","v":386},{"$f":"'shaladarpan '!M387","v":0},{"$f":"'shaladarpan '!N387","v":0},{"$f":"'shaladarpan '!O387","v":"OBC"},{"$f":"'shaladarpan '!P387","v":0},{"$f":"'shaladarpan '!Q387","v":0},{"$f":"'shaladarpan '!R387","v":"GOVT. SENIOR SECONDARY SCHOOL ALNIYAWAS (219445)"},{"$f":"'shaladarpan '!S387","v":8140200308},{"$f":"'shaladarpan '!T387","v":0},{"$f":"'shaladarpan '!U387","v":0},{"$f":"'shaladarpan '!V387","v":9828121082},{"$f":"'shaladarpan '!W387","v":"alniyawas386"},{"$f":"'shaladarpan '!X387","v":0},{"$f":"'shaladarpan '!Y387","v":"N"},{"$f":"'shaladarpan '!Z387","v":"Y"},{"$f":"'shaladarpan '!AA387","v":0},{"$f":"'shaladarpan '!AB387","v":15},{"$f":"'shaladarpan '!AC387","v":0},{"$f":"'shaladarpan '!AD387","v":2}]
[{"$f":"IF(F389=\" \",\" \",ROWS($A$3:A389))","v":387},{"$f":"'shaladarpan '!A388","v":9},{"$f":"'shaladarpan '!B388","v":"B"},{"$f":"'shaladarpan '!C388","v":4851},{"$f":"'shaladarpan '!D388","v":"00:00:00"},{"$f":"'shaladarpan '!E388","v":"manjeet387"},{"$f":"'shaladarpan '!F388","v":"00:00:00"},{"$f":"'shaladarpan '!G388","v":"vijay387"},{"$f":"'shaladarpan '!H388","v":"beautiful387"},{"$f":"'shaladarpan '!I388","v":"M"},{"$f":"'shaladarpan '!J388","v":"2004-02-15"},{"$f":"'shaladarpan '!K388","v":"no"},{"$f":"'shaladarpan '!L388","v":387},{"$f":"'shaladarpan '!M388","v":0},{"$f":"'shaladarpan '!N388","v":0},{"$f":"'shaladarpan '!O388","v":"OBC"},{"$f":"'shaladarpan '!P388","v":0},{"$f":"'shaladarpan '!Q388","v":0},{"$f":"'shaladarpan '!R388","v":"GOVT. SENIOR SECONDARY SCHOOL ALNIYAWAS (219445)"},{"$f":"'shaladarpan '!S388","v":8140200308},{"$f":"'shaladarpan '!T388","v":0},{"$f":"'shaladarpan '!U388","v":0},{"$f":"'shaladarpan '!V388","v":9828121083},{"$f":"'shaladarpan '!W388","v":"alniyawas387"},{"$f":"'shaladarpan '!X388","v":0},{"$f":"'shaladarpan '!Y388","v":"N"},{"$f":"'shaladarpan '!Z388","v":"Y"},{"$f":"'shaladarpan '!AA388","v":0},{"$f":"'shaladarpan '!AB388","v":16},{"$f":"'shaladarpan '!AC388","v":0},{"$f":"'shaladarpan '!AD388","v":3}]
[{"$f":"IF(F390=\" \",\" \",ROWS($A$3:A390))","v":388},{"$f":"'shaladarpan '!A389","v":9},{"$f":"'shaladarpan '!B389","v":"B"},{"$f":"'shaladarpan '!C389","v":4107},{"$f":"'shaladarpan '!D389","v":"2016-06-25"},{"$f":"'shaladarpan '!E389","v":"manjeet388"},{"$f":"'shaladarpan '!F389","v":"00:00:00"},{"$f":"'shaladarpan '!G389","v":"vijay388"},{"$f":"'shaladarpan '!H389","v":"beautiful388"},{"$f":"'shaladarpan '!I389","v":"M"},{"$f":"'shaladarpan '!J389","v":"2006-04-15"},{"$f":"'shaladarpan '!K389","v":"yes"},{"$f":"'shaladarpan '!L389","v":388},{"$f":"'shaladarpan '!M389","v":0},{"$f":"'shaladarpan '!N389","v":0},{"$f":"'shaladarpan '!O389","v":"SC"},{"$f":"'shaladarpan '!P389","v":"Hindu"},{"$f":"'shaladarpan '!Q389","v":0},{"$f":"'shaladarpan '!R389","v":"GOVT. SENIOR SECONDARY SCHOOL ALNIYAWAS (219445)"},{"$f":"'shaladarpan '!S389","v":8140200308},{"$f":"'shaladarpan '!T389","v":"XXXX1846"},{"$f":"'shaladarpan '!U389","v":0},{"$f":"'shaladarpan '!V389","v":9828121084},{"$f":"'shaladarpan '!W389","v":"alniyawas388"},{"$f":"'shaladarpan '!X389","v":0},{"$f":"'shaladarpan '!Y389","v":"N"},{"$f":"'shaladarpan '!Z389","v":"N"},{"$f":"'shaladarpan '!AA389","v":"No"},{"$f":"'shaladarpan '!AB389","v":14},{"$f":"'shaladarpan '!AC389","v":"None"},{"$f":"'shaladarpan '!AD389","v":1}]
[{"$f":"IF(F391=\" \",\" \",ROWS($A$3:A391))","v":389},{"$f":"'shaladarpan '!A390","v":9},{"$f":"'shaladarpan '!B390","v":"B"},{"$f":"'shaladarpan '!C390","v":4262},{"$f":"'shaladarpan '!D390","v":"1900-05-27"},{"$f":"'shaladarpan '!E390","v":"manjeet389"},{"$f":"'shaladarpan '!F390","v":"00:00:00"},{"$f":"'shaladarpan '!G390","v":"vijay389"},{"$f":"'shaladarpan '!H390","v":"beautiful389"},{"$f":"'shaladarpan '!I390","v":"M"},{"$f":"'shaladarpan '!J390","v":"2005-09-07"},{"$f":"'shaladarpan '!K390","v":"yes"},{"$f":"'shaladarpan '!L390","v":389},{"$f":"'shaladarpan '!M390","v":0},{"$f":"'shaladarpan '!N390","v":0},{"$f":"'shaladarpan '!O390","v":"OBC"},{"$f":"'shaladarpan '!P390","v":"Hindu"},{"$f":"'shaladarpan '!Q390","v":0},{"$f":"'shaladarpan '!R390","v":"GOVT. SENIOR SECONDARY SCHOOL ALNIYAWAS (219445)"},{"$f":"'shaladarpan '!S390","v":8140200308},{"$f":"'shaladarpan '!T390","v":"XXXX0744"},{"$f":"'shaladarpan '!U390","v":0},{"$f":"'shaladarpan '!V390","v":9828121085},{"$f":"'shaladarpan '!W390","v":"alniyawas389"},{"$f":"'shaladarpan '!X390","v":0},{"$f":"'shaladarpan '!Y390","v":"N"},{"$f":"'shaladarpan '!Z390","v":"N"},{"$f":"'shaladarpan '!AA390","v":"No"},{"$f":"'shaladarpan '!AB390","v":15},{"$f":"'shaladarpan '!AC390","v":"None"},{"$f":"'shaladarpan '!AD390","v":3}]
[{"$f":"IF(F392=\" \",\" \",ROWS($A$3:A392))","v":390},{"$f":"'shaladarpan '!A391","v":9},{"$f":"'shaladarpan '!B391","v":"B"},{"$f":"'shaladarpan '!C391","v":4768},{"$f":"'shaladarpan '!D391","v":"2019-07-24"},{"$f":"'shaladarpan '!E391","v":"manjeet390"},{"$f":"'shaladarpan '!F391","v":"00:00:00"},{"$f":"'shaladarpan '!G391","v":"vijay390"},{"$f":"'shaladarpan '!H391","v":"beautiful390"},{"$f":"'shaladarpan '!I391","v":"M"},{"$f":"'shaladarpan '!J391","v":"2008-07-07"},{"$f":"'shaladarpan '!K391","v":"no"},{"$f":"'shaladarpan '!L391","v":390},{"$f":"'shaladarpan '!M391","v":0},{"$f":"'shaladarpan '!N391","v":0},{"$f":"'shaladarpan '!O391","v":"OBC"},{"$f":"'shaladarpan '!P391","v":"Hindu"},{"$f":"'shaladarpan '!Q391","v":0},{"$f":"'shaladarpan '!R391","v":"GOVT. SENIOR SECONDARY SCHOOL ALNIYAWAS (219445)"},{"$f":"'shaladarpan '!S391","v":8140200308},{"$f":"'shaladarpan '!T391","v":"XXXX9859"},{"$f":"'shaladarpan '!U391","v":"yqqoswo"},{"$f":"'shaladarpan '!V391","v":9828121086},{"$f":"'shaladarpan '!W391","v":"alniyawas390"},{"$f":"'shaladarpan '!X391","v":100000},{"$f":"'shaladarpan '!Y391","v":"N"},{"$f":"'shaladarpan '!Z391","v":"N"},{"$f":"'shaladarpan '!AA391","v":"No"},{"$f":"'shaladarpan '!AB391","v":12},{"$f":"'shaladarpan '!AC391","v":"None"},{"$f":"'shaladarpan '!AD391","v":3}]
[{"$f":"IF(F393=\" \",\" \",ROWS($A$3:A393))","v":391},{"$f":"'shaladarpan '!A392","v":9},{"$f":"'shaladarpan '!B392","v":"B"},{"$f":"'shaladarpan '!C392","v":4891},{"$f":"'shaladarpan '!D392","v":"00:00:00"},{"$f":"'shaladarpan '!E392","v":"manjeet391"},{"$f":"'shaladarpan '!F392","v":"00:00:00"},{"$f":"'shaladarpan '!G392","v":"vijay391"},{"$f":"'shaladarpan '!H392","v":"beautiful391"},{"$f":"'shaladarpan '!I392","v":"F"},{"$f":"'shaladarpan '!J392","v":"2009-08-01"},{"$f":"'shaladarpan '!K392","v":"yes"},{"$f":"'shaladarpan '!L392","v":391},{"$f":"'shaladarpan '!M392","v":0},{"$f":"'shaladarpan '!N392","v":0},{"$f":"'shaladarpan '!O392","v":"OBC"},{"$f":"'shaladarpan '!P392","v":0},{"$f":"'shaladarpan '!Q392","v":0},{"$f":"'shaladarpan '!R392","v":"GOVT. SENIOR SECONDARY SCHOOL ALNIYAWAS (219445)"},{"$f":"'shaladarpan '!S392","v":8140200308},{"$f":"'shaladarpan '!T392","v":0},{"$f":"'shaladarpan '!U392","v":0},{"$f":"'shaladarpan '!V392","v":9828121087},{"$f":"'shaladarpan '!W392","v":"alniyawas391"},{"$f":"'shaladarpan '!X392","v":0},{"$f":"'shaladarpan '!Y392","v":"N"},{"$f":"'shaladarpan '!Z392","v":"Y"},{"$f":"'shaladarpan '!AA392","v":0},{"$f":"'shaladarpan '!AB392","v":11},{"$f":"'shaladarpan '!AC392","v":0},{"$f":"'shaladarpan '!AD392","v":1}]
[{"$f":"IF(F394=\" \",\" \",ROWS($A$3:A394))","v":392},{"$f":"'shaladarpan '!A393","v":9},{"$f":"'shaladarpan '!B393","v":"B"},{"$f":"'shaladarpan '!C393","v":4639},{"$f":"'shaladarpan '!D393","v":"2019-07-03"},{"$f":"'shaladarpan '!E393","v":"manjeet392"},{"$f":"'shaladarpan '!F393","v":"00:00:00"},{"$f":"'shaladarpan '!G393","v":"vijay392"},{"$f":"'shaladarpan '!H393","v":"beautiful392"},{"$f":"'shaladarpan '!I393","v":"M"},{"$f":"'shaladarpan '!J393","v":"2006-01-01"},{"$f":"'shaladarpan '!K393","v":"yes"},{"$f":"'shaladarpan '!L393","v":392},{"$f":"'shaladarpan '!M393","v":0},{"$f":"'shaladarpan '!N393","v":0},{"$f":"'shaladarpan '!O393","v":"OBC"},{"$f":"'shaladarpan '!P393","v":"Hindu"},{"$f":"'shaladarpan '!Q393","v":0},{"$f":"'shaladarpan '!R393","v":"GOVT. SENIOR SECONDARY SCHOOL ALNIYAWAS (219445)"},{"$f":"'shaladarpan '!S393","v":8140200308},{"$f":"'shaladarpan '!T393","v":"XXXX0595"},{"$f":"'shaladarpan '!U393","v":0},{"$f":"'shaladarpan '!V393","v":9828121088},{"$f":"'shaladarpan '!W393","v":"alniyawas392"},{"$f":"'shaladarpan '!X393","v":60000},{"$f":"'shaladarpan '!Y393","v":"N"},{"$f":"'shaladarpan '!Z393","v":"N"},{"$f":"'shaladarpan '!AA393","v":"No"},{"$f":"'shaladarpan '!AB393","v":14},{"$f":"'shaladarpan '!AC393","v":"None"},{"$f":"'shaladarpan '!AD393","v":0}]
[{"$f":"IF(F395=\" \",\" \",ROWS($A$3:A395))","v":393},{"$f":"'shaladarpan '!A394","v":9},{"$f":"'shaladarpan '!B394","v":"B"},{"$f":"'shaladarpan '!C394","v":3848},{"$f":"'shaladarpan '!D394","v":"2015-05-11"},{"$f":"'shaladarpan '!E394","v":"manjeet393"},{"$f":"'shaladarpan '!F394","v":"00:00:00"},{"$f":"'shaladarpan '!G394","v":"vijay393"},{"$f":"'shaladarpan '!H394","v":"beautiful393"},{"$f":"'shaladarpan '!I394","v":"F"},{"$f":"'shaladarpan '!J394","v":"2005-07-05"},{"$f":"'shaladarpan '!K394","v":"no"},{"$f":"'shaladarpan '!L394","v":393},{"$f":"'shaladarpan '!M394","v":0},{"$f":"'shaladarpan '!N394","v":0},{"$f":"'shaladarpan '!O394","v":"OBC"},{"$f":"'shaladarpan '!P394","v":"Muslim"},{"$f":"'shaladarpan '!Q394","v":0},{"$f":"'shaladarpan '!R394","v":"GOVT. SENIOR SECONDARY SCHOOL ALNIYAWAS (219445)"},{"$f":"'shaladarpan '!S394","v":8140200308},{"$f":"'shaladarpan '!T394","v":"XXXX9672"},{"$f":"'shaladarpan '!U394","v":"VXKHSXJ"},{"$f":"'shaladarpan '!V394","v":9828121089},{"$f":"'shaladarpan '!W394","v":"alniyawas393"},{"$f":"'shaladarpan '!X394","v":36000},{"$f":"'shaladarpan '!Y394","v":"N"},{"$f":"'shaladarpan '!Z394","v":"N"},{"$f":"'shaladarpan '!AA394","v":"Yes"},{"$f":"'shaladarpan '!AB394","v":15},{"$f":"'shaladarpan '!AC394","v":"None"},{"$f":"'shaladarpan '!AD394","v":1}]
[{"$f":"IF(F396=\" \",\" \",ROWS($A$3:A396))","v":394},{"$f":"'shaladarpan '!A395","v":9},{"$f":"'shaladarpan '!B395","v":"B"},{"$f":"'shaladarpan '!C395","v":4808},{"$f":"'shaladarpan '!D395","v":"00:00:00"},{"$f":"'shaladarpan '!E395","v":"manjeet394"},{"$f":"'shaladarpan '!F395","v":"00:00:00"},{"$f":"'shaladarpan '!G395","v":"vijay394"},{"$f":"'shaladarpan '!H395","v":"beautiful394"},{"$f":"'shaladarpan '!I395","v":"M"},{"$f":"'shaladarpan '!J395","v":"2007-11-22"},{"$f":"'shaladarpan '!K395","v":"yes"},{"$f":"'shaladarpan '!L395","v":394},{"$f":"'shaladarpan '!M395","v":0},{"$f":"'shaladarpan '!N395","v":0},{"$f":"'shaladarpan '!O395","v":"GEN"},{"$f":"'shaladarpan '!P395","v":0},{"$f":"'shaladarpan '!Q395","v":0},{"$f":"'shaladarpan '!R395","v":"GOVT. SENIOR SECONDARY SCHOOL ALNIYAWAS (219445)"},{"$f":"'shaladarpan '!S395","v":8140200308},{"$f":"'shaladarpan '!T395","v":0},{"$f":"'shaladarpan '!U395","v":0},{"$f":"'shaladarpan '!V395","v":9828121090},{"$f":"'shaladarpan '!W395","v":"alniyawas394"},{"$f":"'shaladarpan '!X395","v":0},{"$f":"'shaladarpan '!Y395","v":"N"},{"$f":"'shaladarpan '!Z395","v":"Y"},{"$f":"'shaladarpan '!AA395","v":0},{"$f":"'shaladarpan '!AB395","v":13},{"$f":"'shaladarpan '!AC395","v":0},{"$f":"'shaladarpan '!AD395","v":1}]
[{"$f":"IF(F397=\" \",\" \",ROWS($A$3:A397))","v":395},{"$f":"'shaladarpan '!A396","v":9},{"$f":"'shaladarpan '!B396","v":"B"},{"$f":"'shaladarpan '!C396","v":4835},{"$f":"'shaladarpan '!D396","v":"2010-07-05"},{"$f":"'shaladarpan '!E396","v":"manjeet395"},{"$f":"'shaladarpan '!F396","v":"00:00:00"},{"$f":"'shaladarpan '!G396","v":"vijay395"},{"$f":"'shaladarpan '!H396","v":"beautiful395"},{"$f":"'shaladarpan '!I396","v":"F"},{"$f":"'shaladarpan '!J396","v":"2006-09-20"},{"$f":"'shaladarpan '!K396","v":"yes"},{"$f":"'shaladarpan '!L396","v":395},{"$f":"'shaladarpan '!M396","v":0},{"$f":"'shaladarpan '!N396","v":0},{"$f":"'shaladarpan '!O396","v":"SC"},{"$f":"'shaladarpan '!P396","v":"Hindu"},{"$f":"'shaladarpan '!Q396","v":0},{"$f":"'shaladarpan '!R396","v":"GOVT. SENIOR SECONDARY SCHOOL ALNIYAWAS (219445)"},{"$f":"'shaladarpan '!S396","v":8140200308},{"$f":"'shaladarpan '!T396","v":"XXXX5096"},{"$f":"'shaladarpan '!U396","v":"YKKSIGK"},{"$f":"'shaladarpan '!V396","v":9828121091},{"$f":"'shaladarpan '!W396","v":"alniyawas395"},{"$f":"'shaladarpan '!X396","v":36000},{"$f":"'shaladarpan '!Y396","v":"N"},{"$f":"'shaladarpan '!Z396","v":"N"},{"$f":"'shaladarpan '!AA396","v":"No"},{"$f":"'shaladarpan '!AB396","v":14},{"$f":"'shaladarpan '!AC396","v":"None"},{"$f":"'shaladarpan '!AD396","v":0}]
[{"$f":"IF(F398=\" \",\" \",ROWS($A$3:A398))","v":396},{"$f":"'shaladarpan '!A397","v":9},{"$f":"'shaladarpan '!B397","v":"B"},{"$f":"'shaladarpan '!C397","v":3837},{"$f":"'shaladarpan '!D397","v":"2015-05-11"},{"$f":"'shaladarpan '!E397","v":"manjeet396"},{"$f":"'shaladarpan '!F397","v":"00:00:00"},{"$f":"'shaladarpan '!G397","v":"vijay396"},{"$f":"'shaladarpan '!H397","v":"beautiful396"},{"$f":"'shaladarpan '!I397","v":"F"},{"$f":"'shaladarpan '!J397","v":"2006-06-05"},{"$f":"'shaladarpan '!K397","v":"no"},{"$f":"'shaladarpan '!L397","v":396},{"$f":"'shaladarpan '!M397","v":0},{"$f":"'shaladarpan '!N397","v":0},{"$f":"'shaladarpan '!O397","v":"OBC"},{"$f":"'shaladarpan '!P397","v":"Muslim"},{"$f":"'shaladarpan '!Q397","v":0},{"$f":"'shaladarpan '!R397","v":"GOVT. SENIOR SECONDARY SCHOOL ALNIYAWAS (219445)"},{"$f":"'shaladarpan '!S397","v":8140200308},{"$f":"'shaladarpan '!T397","v":"XXXX4972"},{"$f":"'shaladarpan '!U397","v":0},{"$f":"'shaladarpan '!V397","v":9828121092},{"$f":"'shaladarpan '!W397","v":"alniyawas396"},{"$f":"'shaladarpan '!X397","v":0},{"$f":"'shaladarpan '!Y397","v":"N"},{"$f":"'shaladarpan '!Z397","v":"N"},{"$f":"'shaladarpan '!AA397","v":"Yes"},{"$f":"'shaladarpan '!AB397","v":14},{"$f":"'shaladarpan '!AC397","v":"None"},{"$f":"'shaladarpan '!AD397","v":1}]
[{"$f":"IF(F399=\" \",\" \",ROWS($A$3:A399))","v":397},{"$f":"'shaladarpan '!A398","v":9},{"$f":"'shaladarpan '!B398","v":"B"},{"$f":"'shaladarpan '!C398","v":4854},{"$f":"'shaladarpan '!D398","v":"00:00:00"},{"$f":"'shaladarpan '!E398","v":"manjeet397"},{"$f":"'shaladarpan '!F398","v":"00:00:00"},{"$f":"'shaladarpan '!G398","v":"vijay397"},{"$f":"'shaladarpan '!H398","v":"beautiful397"},{"$f":"'shaladarpan '!I398","v":"M"},{"$f":"'shaladarpan '!J398","v":"2005-06-28"},{"$f":"'shaladarpan '!K398","v":"yes"},{"$f":"'shaladarpan '!L398","v":397},{"$f":"'shaladarpan '!M398","v":0},{"$f":"'shaladarpan '!N398","v":0},{"$f":"'shaladarpan '!O398","v":"OBC"},{"$f":"'shaladarpan '!P398","v":0},{"$f":"'shaladarpan '!Q398","v":0},{"$f":"'shaladarpan '!R398","v":"GOVT. SENIOR SECONDARY SCHOOL ALNIYAWAS (219445)"},{"$f":"'shaladarpan '!S398","v":8140200308},{"$f":"'shaladarpan '!T398","v":0},{"$f":"'shaladarpan '!U398","v":0},{"$f":"'shaladarpan '!V398","v":9828121093},{"$f":"'shaladarpan '!W398","v":"alniyawas397"},{"$f":"'shaladarpan '!X398","v":0},{"$f":"'shaladarpan '!Y398","v":"N"},{"$f":"'shaladarpan '!Z398","v":"Y"},{"$f":"'shaladarpan '!AA398","v":0},{"$f":"'shaladarpan '!AB398","v":15},{"$f":"'shaladarpan '!AC398","v":0},{"$f":"'shaladarpan '!AD398","v":1}]
[{"$f":"IF(F400=\" \",\" \",ROWS($A$3:A400))","v":398},{"$f":"'shaladarpan '!A399","v":9},{"$f":"'shaladarpan '!B399","v":"B"},{"$f":"'shaladarpan '!C399","v":4832},{"$f":"'shaladarpan '!D399","v":"2020-08-31"},{"$f":"'shaladarpan '!E399","v":"manjeet398"},{"$f":"'shaladarpan '!F399","v":"00:00:00"},{"$f":"'shaladarpan '!G399","v":"vijay398"},{"$f":"'shaladarpan '!H399","v":"beautiful398"},{"$f":"'shaladarpan '!I399","v":"M"},{"$f":"'shaladarpan '!J399","v":"2007-01-25"},{"$f":"'shaladarpan '!K399","v":"yes"},{"$f":"'shaladarpan '!L399","v":398},{"$f":"'shaladarpan '!M399","v":0},{"$f":"'shaladarpan '!N399","v":0},{"$f":"'shaladarpan '!O399","v":"OBC"},{"$f":"'shaladarpan '!P399","v":0},{"$f":"'shaladarpan '!Q399","v":0},{"$f":"'shaladarpan '!R399","v":"GOVT. SENIOR SECONDARY SCHOOL ALNIYAWAS (219445)"},{"$f":"'shaladarpan '!S399","v":8140200308},{"$f":"'shaladarpan '!T399","v":0},{"$f":"'shaladarpan '!U399","v":0},{"$f":"'shaladarpan '!V399","v":9828121094},{"$f":"'shaladarpan '!W399","v":"alniyawas398"},{"$f":"'shaladarpan '!X399","v":0},{"$f":"'shaladarpan '!Y399","v":"N"},{"$f":"'shaladarpan '!Z399","v":"N"},{"$f":"'shaladarpan '!AA399","v":0},{"$f":"'shaladarpan '!AB399","v":13},{"$f":"'shaladarpan '!AC399","v":"None"},{"$f":"'shaladarpan '!AD399","v":1}]
[{"$f":"IF(F401=\" \",\" \",ROWS($A$3:A401))","v":399},{"$f":"'shaladarpan '!A400","v":9},{"$f":"'shaladarpan '!B400","v":"B"},{"$f":"'shaladarpan '!C400","v":3841},{"$f":"'shaladarpan '!D400","v":"2015-05-11"},{"$f":"'shaladarpan '!E400","v":"manjeet399"},{"$f":"'shaladarpan '!F400","v":"00:00:00"},{"$f":"'shaladarpan '!G400","v":"vijay399"},{"$f":"'shaladarpan '!H400","v":"beautiful399"},{"$f":"'shaladarpan '!I400","v":"F"},{"$f":"'shaladarpan '!J400","v":"2006-11-12"},{"$f":"'shaladarpan '!K400","v":"no"},{"$f":"'shaladarpan '!L400","v":399},{"$f":"'shaladarpan '!M400","v":0},{"$f":"'shaladarpan '!N400","v":0},{"$f":"'shaladarpan '!O400","v":"SC"},{"$f":"'shaladarpan '!P400","v":"Hindu"},{"$f":"'shaladarpan '!Q400","v":0},{"$f":"'shaladarpan '!R400","v":"GOVT. SENIOR SECONDARY SCHOOL ALNIYAWAS (219445)"},{"$f":"'shaladarpan '!S400","v":8140200308},{"$f":"'shaladarpan '!T400","v":"XXXX4524"},{"$f":"'shaladarpan '!U400","v":0},{"$f":"'shaladarpan '!V400","v":9828121095},{"$f":"'shaladarpan '!W400","v":"alniyawas399"},{"$f":"'shaladarpan '!X400","v":0},{"$f":"'shaladarpan '!Y400","v":"N"},{"$f":"'shaladarpan '!Z400","v":"N"},{"$f":"'shaladarpan '!AA400","v":"No"},{"$f":"'shaladarpan '!AB400","v":14},{"$f":"'shaladarpan '!AC400","v":"None"},{"$f":"'shaladarpan '!AD400","v":0}]
[{"$f":"IF(F402=\" \",\" \",ROWS($A$3:A402))","v":400},{"$f":"'shaladarpan '!A401","v":9},{"$f":"'shaladarpan '!B401","v":"B"},{"$f":"'shaladarpan '!C401","v":4840},{"$f":"'shaladarpan '!D401","v":"00:00:00"},{"$f":"'shaladarpan '!E401","v":"manjeet400"},{"$f":"'shaladarpan '!F401","v":"00:00:00"},{"$f":"'shaladarpan '!G401","v":"vijay400"},{"$f":"'shaladarpan '!H401","v":"beautiful400"},{"$f":"'shaladarpan '!I401","v":"F"},{"$f":"'shaladarpan '!J401","v":"2005-01-01"},{"$f":"'shaladarpan '!K401","v":"yes"},{"$f":"'shaladarpan '!L401","v":400},{"$f":"'shaladarpan '!M401","v":0},{"$f":"'shaladarpan '!N401","v":0},{"$f":"'shaladarpan '!O401","v":"GEN"},{"$f":"'shaladarpan '!P401","v":0},{"$f":"'shaladarpan '!Q401","v":0},{"$f":"'shaladarpan '!R401","v":"GOVT. SENIOR SECONDARY SCHOOL ALNIYAWAS (219445)"},{"$f":"'shaladarpan '!S401","v":8140200308},{"$f":"'shaladarpan '!T401","v":0},{"$f":"'shaladarpan '!U401","v":0},{"$f":"'shaladarpan '!V401","v":9828121096},{"$f":"'shaladarpan '!W401","v":"alniyawas400"},{"$f":"'shaladarpan '!X401","v":0},{"$f":"'shaladarpan '!Y401","v":"N"},{"$f":"'shaladarpan '!Z401","v":"Y"},{"$f":"'shaladarpan '!AA401","v":0},{"$f":"'shaladarpan '!AB401","v":15},{"$f":"'shaladarpan '!AC401","v":0},{"$f":"'shaladarpan '!AD401","v":5}]
[{"$f":"IF(F403=\" \",\" \",ROWS($A$3:A403))","v":401},{"$f":"'shaladarpan '!A402","v":9},{"$f":"'shaladarpan '!B402","v":"B"},{"$f":"'shaladarpan '!C402","v":4638},{"$f":"'shaladarpan '!D402","v":"2019-07-03"},{"$f":"'shaladarpan '!E402","v":"manjeet401"},{"$f":"'shaladarpan '!F402","v":"00:00:00"},{"$f":"'shaladarpan '!G402","v":"vijay401"},{"$f":"'shaladarpan '!H402","v":"beautiful401"},{"$f":"'shaladarpan '!I402","v":"F"},{"$f":"'shaladarpan '!J402","v":"2005-05-15"},{"$f":"'shaladarpan '!K402","v":"yes"},{"$f":"'shaladarpan '!L402","v":401},{"$f":"'shaladarpan '!M402","v":0},{"$f":"'shaladarpan '!N402","v":0},{"$f":"'shaladarpan '!O402","v":"OBC"},{"$f":"'shaladarpan '!P402","v":"Hindu"},{"$f":"'shaladarpan '!Q402","v":0},{"$f":"'shaladarpan '!R402","v":"GOVT. SENIOR SECONDARY SCHOOL ALNIYAWAS (219445)"},{"$f":"'shaladarpan '!S402","v":8140200308},{"$f":"'shaladarpan '!T402","v":"XXXX8844"},{"$f":"'shaladarpan '!U402","v":0},{"$f":"'shaladarpan '!V402","v":9828121097},{"$f":"'shaladarpan '!W402","v":"alniyawas401"},{"$f":"'shaladarpan '!X402","v":105000},{"$f":"'shaladarpan '!Y402","v":"N"},{"$f":"'shaladarpan '!Z402","v":"N"},{"$f":"'shaladarpan '!AA402","v":"No"},{"$f":"'shaladarpan '!AB402","v":15},{"$f":"'shaladarpan '!AC402","v":"None"},{"$f":"'shaladarpan '!AD402","v":3}]
[{"$f":"IF(F404=\" \",\" \",ROWS($A$3:A404))","v":402},{"$f":"'shaladarpan '!A403","v":9},{"$f":"'shaladarpan '!B403","v":"B"},{"$f":"'shaladarpan '!C403","v":4841},{"$f":"'shaladarpan '!D403","v":"2011-07-07"},{"$f":"'shaladarpan '!E403","v":"manjeet402"},{"$f":"'shaladarpan '!F403","v":"00:00:00"},{"$f":"'shaladarpan '!G403","v":"vijay402"},{"$f":"'shaladarpan '!H403","v":"beautiful402"},{"$f":"'shaladarpan '!I403","v":"M"},{"$f":"'shaladarpan '!J403","v":"2006-05-03"},{"$f":"'shaladarpan '!K403","v":"no"},{"$f":"'shaladarpan '!L403","v":402},{"$f":"'shaladarpan '!M403","v":0},{"$f":"'shaladarpan '!N403","v":0},{"$f":"'shaladarpan '!O403","v":"OBC"},{"$f":"'shaladarpan '!P403","v":"Hindu"},{"$f":"'shaladarpan '!Q403","v":0},{"$f":"'shaladarpan '!R403","v":"GOVT. SENIOR SECONDARY SCHOOL ALNIYAWAS (219445)"},{"$f":"'shaladarpan '!S403","v":8140200308},{"$f":"'shaladarpan '!T403","v":"XXXX8493"},{"$f":"'shaladarpan '!U403","v":"VVOBWVH"},{"$f":"'shaladarpan '!V403","v":9828121098},{"$f":"'shaladarpan '!W403","v":"alniyawas402"},{"$f":"'shaladarpan '!X403","v":50000},{"$f":"'shaladarpan '!Y403","v":"N"},{"$f":"'shaladarpan '!Z403","v":"N"},{"$f":"'shaladarpan '!AA403","v":"No"},{"$f":"'shaladarpan '!AB403","v":14},{"$f":"'shaladarpan '!AC403","v":"None"},{"$f":"'shaladarpan '!AD403","v":0}]
[{"$f":"IF(F405=\" \",\" \",ROWS($A$3:A405))","v":403},{"$f":"'shaladarpan '!A404","v":9},{"$f":"'shaladarpan '!B404","v":"B"},{"$f":"'shaladarpan '!C404","v":4877},{"$f":"'shaladarpan '!D404","v":"2018-07-30"},{"$f":"'shaladarpan '!E404","v":"manjeet403"},{"$f":"'shaladarpan '!F404","v":"00:00:00"},{"$f":"'shaladarpan '!G404","v":"vijay403"},{"$f":"'shaladarpan '!H404","v":"beautiful403"},{"$f":"'shaladarpan '!I404","v":"M"},{"$f":"'shaladarpan '!J404","v":"2006-12-06"},{"$f":"'shaladarpan '!K404","v":"yes"},{"$f":"'shaladarpan '!L404","v":403},{"$f":"'shaladarpan '!M404","v":0},{"$f":"'shaladarpan '!N404","v":0},{"$f":"'shaladarpan '!O404","v":"OBC"},{"$f":"'shaladarpan '!P404","v":"Hindu"},{"$f":"'shaladarpan '!Q404","v":0},{"$f":"'shaladarpan '!R404","v":"GOVT. SENIOR SECONDARY SCHOOL ALNIYAWAS (219445)"},{"$f":"'shaladarpan '!S404","v":8140200308},{"$f":"'shaladarpan '!T404","v":"XXXX9561"},{"$f":"'shaladarpan '!U404","v":"VRWXJJH"},{"$f":"'shaladarpan '!V404","v":9828121099},{"$f":"'shaladarpan '!W404","v":"alniyawas403"},{"$f":"'shaladarpan '!X404","v":65000},{"$f":"'shaladarpan '!Y404","v":"N"},{"$f":"'shaladarpan '!Z404","v":"N"},{"$f":"'shaladarpan '!AA404","v":"No"},{"$f":"'shaladarpan '!AB404","v":14},{"$f":"'shaladarpan '!AC404","v":"None"},{"$f":"'shaladarpan '!AD404","v":3}]
[{"$f":"IF(F406=\" \",\" \",ROWS($A$3:A406))","v":404},{"$f":"'shaladarpan '!A405","v":9},{"$f":"'shaladarpan '!B405","v":"B"},{"$f":"'shaladarpan '!C405","v":3821},{"$f":"'shaladarpan '!D405","v":"2015-05-11"},{"$f":"'shaladarpan '!E405","v":"manjeet404"},{"$f":"'shaladarpan '!F405","v":"00:00:00"},{"$f":"'shaladarpan '!G405","v":"vijay404"},{"$f":"'shaladarpan '!H405","v":"beautiful404"},{"$f":"'shaladarpan '!I405","v":"M"},{"$f":"'shaladarpan '!J405","v":"2006-08-05"},{"$f":"'shaladarpan '!K405","v":"yes"},{"$f":"'shaladarpan '!L405","v":404},{"$f":"'shaladarpan '!M405","v":0},{"$f":"'shaladarpan '!N405","v":0},{"$f":"'shaladarpan '!O405","v":"OBC"},{"$f":"'shaladarpan '!P405","v":"Muslim"},{"$f":"'shaladarpan '!Q405","v":0},{"$f":"'shaladarpan '!R405","v":"GOVT. SENIOR SECONDARY SCHOOL ALNIYAWAS (219445)"},{"$f":"'shaladarpan '!S405","v":8140200308},{"$f":"'shaladarpan '!T405","v":"XXXX8159"},{"$f":"'shaladarpan '!U405","v":0},{"$f":"'shaladarpan '!V405","v":9828121100},{"$f":"'shaladarpan '!W405","v":"alniyawas404"},{"$f":"'shaladarpan '!X405","v":0},{"$f":"'shaladarpan '!Y405","v":"N"},{"$f":"'shaladarpan '!Z405","v":"N"},{"$f":"'shaladarpan '!AA405","v":"Yes"},{"$f":"'shaladarpan '!AB405","v":14},{"$f":"'shaladarpan '!AC405","v":"None"},{"$f":"'shaladarpan '!AD405","v":1}]
[{"$f":"IF(F407=\" \",\" \",ROWS($A$3:A407))","v":405},{"$f":"'shaladarpan '!A406","v":9},{"$f":"'shaladarpan '!B406","v":"B"},{"$f":"'shaladarpan '!C406","v":4939},{"$f":"'shaladarpan '!D406","v":"2012-05-03"},{"$f":"'shaladarpan '!E406","v":"manjeet405"},{"$f":"'shaladarpan '!F406","v":"00:00:00"},{"$f":"'shaladarpan '!G406","v":"vijay405"},{"$f":"'shaladarpan '!H406","v":"beautiful405"},{"$f":"'shaladarpan '!I406","v":"F"},{"$f":"'shaladarpan '!J406","v":"2006-10-14"},{"$f":"'shaladarpan '!K406","v":"no"},{"$f":"'shaladarpan '!L406","v":405},{"$f":"'shaladarpan '!M406","v":0},{"$f":"'shaladarpan '!N406","v":0},{"$f":"'shaladarpan '!O406","v":"OBC"},{"$f":"'shaladarpan '!P406","v":"Muslim"},{"$f":"'shaladarpan '!Q406","v":0},{"$f":"'shaladarpan '!R406","v":"GOVT. SENIOR SECONDARY SCHOOL ALNIYAWAS (219445)"},{"$f":"'shaladarpan '!S406","v":8140200308},{"$f":"'shaladarpan '!T406","v":"XXXX8175"},{"$f":"'shaladarpan '!U406","v":"VKTOORH"},{"$f":"'shaladarpan '!V406","v":9828121101},{"$f":"'shaladarpan '!W406","v":"alniyawas405"},{"$f":"'shaladarpan '!X406","v":50000},{"$f":"'shaladarpan '!Y406","v":"N"},{"$f":"'shaladarpan '!Z406","v":"N"},{"$f":"'shaladarpan '!AA406","v":"Yes"},{"$f":"'shaladarpan '!AB406","v":14},{"$f":"'shaladarpan '!AC406","v":"None"},{"$f":"'shaladarpan '!AD406","v":0}]
[{"$f":"IF(F408=\" \",\" \",ROWS($A$3:A408))","v":406},{"$f":"'shaladarpan '!A407","v":9},{"$f":"'shaladarpan '!B407","v":"B"},{"$f":"'shaladarpan '!C407","v":3825},{"$f":"'shaladarpan '!D407","v":"2015-05-11"},{"$f":"'shaladarpan '!E407","v":"manjeet406"},{"$f":"'shaladarpan '!F407","v":"00:00:00"},{"$f":"'shaladarpan '!G407","v":"vijay406"},{"$f":"'shaladarpan '!H407","v":"beautiful406"},{"$f":"'shaladarpan '!I407","v":"F"},{"$f":"'shaladarpan '!J407","v":"2005-01-01"},{"$f":"'shaladarpan '!K407","v":"yes"},{"$f":"'shaladarpan '!L407","v":406},{"$f":"'shaladarpan '!M407","v":0},{"$f":"'shaladarpan '!N407","v":0},{"$f":"'shaladarpan '!O407","v":"OBC"},{"$f":"'shaladarpan '!P407","v":"Muslim"},{"$f":"'shaladarpan '!Q407","v":0},{"$f":"'shaladarpan '!R407","v":"GOVT. SENIOR SECONDARY SCHOOL ALNIYAWAS (219445)"},{"$f":"'shaladarpan '!S407","v":8140200308},{"$f":"'shaladarpan '!T407","v":"XXXX3179"},{"$f":"'shaladarpan '!U407","v":0},{"$f":"'shaladarpan '!V407","v":9828121102},{"$f":"'shaladarpan '!W407","v":"alniyawas406"},{"$f":"'shaladarpan '!X407","v":100000},{"$f":"'shaladarpan '!Y407","v":"N"},{"$f":"'shaladarpan '!Z407","v":"N"},{"$f":"'shaladarpan '!AA407","v":"Yes"},{"$f":"'shaladarpan '!AB407","v":15},{"$f":"'shaladarpan '!AC407","v":"None"},{"$f":"'shaladarpan '!AD407","v":0}]
[{"$f":"IF(F409=\" \",\" \",ROWS($A$3:A409))","v":407},{"$f":"'shaladarpan '!A408","v":9},{"$f":"'shaladarpan '!B408","v":"B"},{"$f":"'shaladarpan '!C408","v":3835},{"$f":"'shaladarpan '!D408","v":"2015-05-11"},{"$f":"'shaladarpan '!E408","v":"manjeet407"},{"$f":"'shaladarpan '!F408","v":"00:00:00"},{"$f":"'shaladarpan '!G408","v":"vijay407"},{"$f":"'shaladarpan '!H408","v":"beautiful407"},{"$f":"'shaladarpan '!I408","v":"F"},{"$f":"'shaladarpan '!J408","v":"2006-08-07"},{"$f":"'shaladarpan '!K408","v":"yes"},{"$f":"'shaladarpan '!L408","v":407},{"$f":"'shaladarpan '!M408","v":0},{"$f":"'shaladarpan '!N408","v":0},{"$f":"'shaladarpan '!O408","v":"OBC"},{"$f":"'shaladarpan '!P408","v":"Muslim"},{"$f":"'shaladarpan '!Q408","v":0},{"$f":"'shaladarpan '!R408","v":"GOVT. SENIOR SECONDARY SCHOOL ALNIYAWAS (219445)"},{"$f":"'shaladarpan '!S408","v":8140200308},{"$f":"'shaladarpan '!T408","v":"XXXX5216"},{"$f":"'shaladarpan '!U408","v":0},{"$f":"'shaladarpan '!V408","v":9828121103},{"$f":"'shaladarpan '!W408","v":"alniyawas407"},{"$f":"'shaladarpan '!X408","v":0},{"$f":"'shaladarpan '!Y408","v":"N"},{"$f":"'shaladarpan '!Z408","v":"N"},{"$f":"'shaladarpan '!AA408","v":"Yes"},{"$f":"'shaladarpan '!AB408","v":14},{"$f":"'shaladarpan '!AC408","v":"None"},{"$f":"'shaladarpan '!AD408","v":1}]
[{"$f":"IF(F410=\" \",\" \",ROWS($A$3:A410))","v":408},{"$f":"'shaladarpan '!A409","v":9},{"$f":"'shaladarpan '!B409","v":"B"},{"$f":"'shaladarpan '!C409","v":4271},{"$f":"'shaladarpan '!D409","v":"1900-05-27"},{"$f":"'shaladarpan '!E409","v":"manjeet408"},{"$f":"'shaladarpan '!F409","v":"00:00:00"},{"$f":"'shaladarpan '!G409","v":"vijay408"},{"$f":"'shaladarpan '!H409","v":"beautiful408"},{"$f":"'shaladarpan '!I409","v":"F"},{"$f":"'shaladarpan '!J409","v":"2006-02-08"},{"$f":"'shaladarpan '!K409","v":"no"},{"$f":"'shaladarpan '!L409","v":408},{"$f":"'shaladarpan '!M409","v":0},{"$f":"'shaladarpan '!N409","v":0},{"$f":"'shaladarpan '!O409","v":"OBC"},{"$f":"'shaladarpan '!P409","v":"Hindu"},{"$f":"'shaladarpan '!Q409","v":0},{"$f":"'shaladarpan '!R409","v":"GOVT. SENIOR SECONDARY SCHOOL ALNIYAWAS (219445)"},{"$f":"'shaladarpan '!S409","v":8140200308},{"$f":"'shaladarpan '!T409","v":"XXXX7303"},{"$f":"'shaladarpan '!U409","v":0},{"$f":"'shaladarpan '!V409","v":9828121104},{"$f":"'shaladarpan '!W409","v":"alniyawas408"},{"$f":"'shaladarpan '!X409","v":0},{"$f":"'shaladarpan '!Y409","v":"N"},{"$f":"'shaladarpan '!Z409","v":"N"},{"$f":"'shaladarpan '!AA409","v":"No"},{"$f":"'shaladarpan '!AB409","v":14},{"$f":"'shaladarpan '!AC409","v":"None"},{"$f":"'shaladarpan '!AD409","v":3}]
[{"$f":"IF(F411=\" \",\" \",ROWS($A$3:A411))","v":409},{"$f":"'shaladarpan '!A410","v":9},{"$f":"'shaladarpan '!B410","v":"B"},{"$f":"'shaladarpan '!C410","v":4426},{"$f":"'shaladarpan '!D410","v":"2017-07-22"},{"$f":"'shaladarpan '!E410","v":"manjeet409"},{"$f":"'shaladarpan '!F410","v":"00:00:00"},{"$f":"'shaladarpan '!G410","v":"vijay409"},{"$f":"'shaladarpan '!H410","v":"beautiful409"},{"$f":"'shaladarpan '!I410","v":"F"},{"$f":"'shaladarpan '!J410","v":"2006-06-25"},{"$f":"'shaladarpan '!K410","v":"yes"},{"$f":"'shaladarpan '!L410","v":409},{"$f":"'shaladarpan '!M410","v":0},{"$f":"'shaladarpan '!N410","v":0},{"$f":"'shaladarpan '!O410","v":"OBC"},{"$f":"'shaladarpan '!P410","v":"Hindu"},{"$f":"'shaladarpan '!Q410","v":0},{"$f":"'shaladarpan '!R410","v":"GOVT. SENIOR SECONDARY SCHOOL ALNIYAWAS (219445)"},{"$f":"'shaladarpan '!S410","v":8140200308},{"$f":"'shaladarpan '!T410","v":"XXXX1720"},{"$f":"'shaladarpan '!U410","v":0},{"$f":"'shaladarpan '!V410","v":9828121105},{"$f":"'shaladarpan '!W410","v":"alniyawas409"},{"$f":"'shaladarpan '!X410","v":0},{"$f":"'shaladarpan '!Y410","v":"N"},{"$f":"'shaladarpan '!Z410","v":"N"},{"$f":"'shaladarpan '!AA410","v":"No"},{"$f":"'shaladarpan '!AB410","v":14},{"$f":"'shaladarpan '!AC410","v":"None"},{"$f":"'shaladarpan '!AD410","v":5}]
[{"$f":"IF(F412=\" \",\" \",ROWS($A$3:A412))","v":410},{"$f":"'shaladarpan '!A411","v":9},{"$f":"'shaladarpan '!B411","v":"B"},{"$f":"'shaladarpan '!C411","v":4837},{"$f":"'shaladarpan '!D411","v":"2018-07-20"},{"$f":"'shaladarpan '!E411","v":"manjeet410"},{"$f":"'shaladarpan '!F411","v":"00:00:00"},{"$f":"'shaladarpan '!G411","v":"vijay410"},{"$f":"'shaladarpan '!H411","v":"beautiful410"},{"$f":"'shaladarpan '!I411","v":"F"},{"$f":"'shaladarpan '!J411","v":"2008-03-02"},{"$f":"'shaladarpan '!K411","v":"yes"},{"$f":"'shaladarpan '!L411","v":410},{"$f":"'shaladarpan '!M411","v":0},{"$f":"'shaladarpan '!N411","v":0},{"$f":"'shaladarpan '!O411","v":"OBC"},{"$f":"'shaladarpan '!P411","v":"Hindu"},{"$f":"'shaladarpan '!Q411","v":0},{"$f":"'shaladarpan '!R411","v":"GOVT. SENIOR SECONDARY SCHOOL ALNIYAWAS (219445)"},{"$f":"'shaladarpan '!S411","v":8140200308},{"$f":"'shaladarpan '!T411","v":"XXXX6989"},{"$f":"'shaladarpan '!U411","v":"VWRTJVH"},{"$f":"'shaladarpan '!V411","v":9828121106},{"$f":"'shaladarpan '!W411","v":"alniyawas410"},{"$f":"'shaladarpan '!X411","v":36000},{"$f":"'shaladarpan '!Y411","v":"N"},{"$f":"'shaladarpan '!Z411","v":"N"},{"$f":"'shaladarpan '!AA411","v":"No"},{"$f":"'shaladarpan '!AB411","v":12},{"$f":"'shaladarpan '!AC411","v":"None"},{"$f":"'shaladarpan '!AD411","v":0}]
[{"$f":"IF(F413=\" \",\" \",ROWS($A$3:A413))","v":411},{"$f":"'shaladarpan '!A412","v":9},{"$f":"'shaladarpan '!B412","v":"B"},{"$f":"'shaladarpan '!C412","v":4833},{"$f":"'shaladarpan '!D412","v":"2020-08-31"},{"$f":"'shaladarpan '!E412","v":"manjeet411"},{"$f":"'shaladarpan '!F412","v":"00:00:00"},{"$f":"'shaladarpan '!G412","v":"vijay411"},{"$f":"'shaladarpan '!H412","v":"beautiful411"},{"$f":"'shaladarpan '!I412","v":"F"},{"$f":"'shaladarpan '!J412","v":"2006-02-28"},{"$f":"'shaladarpan '!K412","v":"no"},{"$f":"'shaladarpan '!L412","v":411},{"$f":"'shaladarpan '!M412","v":0},{"$f":"'shaladarpan '!N412","v":0},{"$f":"'shaladarpan '!O412","v":"OBC"},{"$f":"'shaladarpan '!P412","v":"Hindu"},{"$f":"'shaladarpan '!Q412","v":0},{"$f":"'shaladarpan '!R412","v":"GOVT. SENIOR SECONDARY SCHOOL ALNIYAWAS (219445)"},{"$f":"'shaladarpan '!S412","v":8140200308},{"$f":"'shaladarpan '!T412","v":"XXXX0420"},{"$f":"'shaladarpan '!U412","v":0},{"$f":"'shaladarpan '!V412","v":9828121107},{"$f":"'shaladarpan '!W412","v":"alniyawas411"},{"$f":"'shaladarpan '!X412","v":60000},{"$f":"'shaladarpan '!Y412","v":"N"},{"$f":"'shaladarpan '!Z412","v":"N"},{"$f":"'shaladarpan '!AA412","v":"No"},{"$f":"'shaladarpan '!AB412","v":14},{"$f":"'shaladarpan '!AC412","v":"None"},{"$f":"'shaladarpan '!AD412","v":2}]
[{"$f":"IF(F414=\" \",\" \",ROWS($A$3:A414))","v":412},{"$f":"'shaladarpan '!A413","v":9},{"$f":"'shaladarpan '!B413","v":"B"},{"$f":"'shaladarpan '!C413","v":4893},{"$f":"'shaladarpan '!D413","v":"00:00:00"},{"$f":"'shaladarpan '!E413","v":"manjeet412"},{"$f":"'shaladarpan '!F413","v":"00:00:00"},{"$f":"'shaladarpan '!G413","v":"vijay412"},{"$f":"'shaladarpan '!H413","v":"beautiful412"},{"$f":"'shaladarpan '!I413","v":"F"},{"$f":"'shaladarpan '!J413","v":"2005-09-04"},{"$f":"'shaladarpan '!K413","v":"yes"},{"$f":"'shaladarpan '!L413","v":412},{"$f":"'shaladarpan '!M413","v":0},{"$f":"'shaladarpan '!N413","v":0},{"$f":"'shaladarpan '!O413","v":"OBC"},{"$f":"'shaladarpan '!P413","v":0},{"$f":"'shaladarpan '!Q413","v":0},{"$f":"'shaladarpan '!R413","v":"GOVT. SENIOR SECONDARY SCHOOL ALNIYAWAS (219445)"},{"$f":"'shaladarpan '!S413","v":8140200308},{"$f":"'shaladarpan '!T413","v":0},{"$f":"'shaladarpan '!U413","v":0},{"$f":"'shaladarpan '!V413","v":9828121108},{"$f":"'shaladarpan '!W413","v":"alniyawas412"},{"$f":"'shaladarpan '!X413","v":0},{"$f":"'shaladarpan '!Y413","v":"N"},{"$f":"'shaladarpan '!Z413","v":"Y"},{"$f":"'shaladarpan '!AA413","v":0},{"$f":"'shaladarpan '!AB413","v":15},{"$f":"'shaladarpan '!AC413","v":0},{"$f":"'shaladarpan '!AD413","v":2}]
[{"$f":"IF(F415=\" \",\" \",ROWS($A$3:A415))","v":413},{"$f":"'shaladarpan '!A414","v":9},{"$f":"'shaladarpan '!B414","v":"B"},{"$f":"'shaladarpan '!C414","v":4880},{"$f":"'shaladarpan '!D414","v":"2018-06-28"},{"$f":"'shaladarpan '!E414","v":"manjeet413"},{"$f":"'shaladarpan '!F414","v":"00:00:00"},{"$f":"'shaladarpan '!G414","v":"vijay413"},{"$f":"'shaladarpan '!H414","v":"beautiful413"},{"$f":"'shaladarpan '!I414","v":"F"},{"$f":"'shaladarpan '!J414","v":"2005-07-08"},{"$f":"'shaladarpan '!K414","v":"yes"},{"$f":"'shaladarpan '!L414","v":413},{"$f":"'shaladarpan '!M414","v":0},{"$f":"'shaladarpan '!N414","v":0},{"$f":"'shaladarpan '!O414","v":"OBC"},{"$f":"'shaladarpan '!P414","v":"Hindu"},{"$f":"'shaladarpan '!Q414","v":0},{"$f":"'shaladarpan '!R414","v":"GOVT. SENIOR SECONDARY SCHOOL ALNIYAWAS (219445)"},{"$f":"'shaladarpan '!S414","v":8140200308},{"$f":"'shaladarpan '!T414","v":"XXXX4309"},{"$f":"'shaladarpan '!U414","v":0},{"$f":"'shaladarpan '!V414","v":9828121109},{"$f":"'shaladarpan '!W414","v":"alniyawas413"},{"$f":"'shaladarpan '!X414","v":80000},{"$f":"'shaladarpan '!Y414","v":"N"},{"$f":"'shaladarpan '!Z414","v":"N"},{"$f":"'shaladarpan '!AA414","v":"No"},{"$f":"'shaladarpan '!AB414","v":15},{"$f":"'shaladarpan '!AC414","v":"None"},{"$f":"'shaladarpan '!AD414","v":6}]
[{"$f":"IF(F416=\" \",\" \",ROWS($A$3:A416))","v":414},{"$f":"'shaladarpan '!A415","v":9},{"$f":"'shaladarpan '!B415","v":"B"},{"$f":"'shaladarpan '!C415","v":4883},{"$f":"'shaladarpan '!D415","v":"2011-07-06"},{"$f":"'shaladarpan '!E415","v":"manjeet414"},{"$f":"'shaladarpan '!F415","v":"00:00:00"},{"$f":"'shaladarpan '!G415","v":"vijay414"},{"$f":"'shaladarpan '!H415","v":"beautiful414"},{"$f":"'shaladarpan '!I415","v":"F"},{"$f":"'shaladarpan '!J415","v":"2007-04-08"},{"$f":"'shaladarpan '!K415","v":"no"},{"$f":"'shaladarpan '!L415","v":414},{"$f":"'shaladarpan '!M415","v":0},{"$f":"'shaladarpan '!N415","v":0},{"$f":"'shaladarpan '!O415","v":"OBC"},{"$f":"'shaladarpan '!P415","v":"Hindu"},{"$f":"'shaladarpan '!Q415","v":0},{"$f":"'shaladarpan '!R415","v":"GOVT. SENIOR SECONDARY SCHOOL ALNIYAWAS (219445)"},{"$f":"'shaladarpan '!S415","v":8140200308},{"$f":"'shaladarpan '!T415","v":"XXXX3549"},{"$f":"'shaladarpan '!U415","v":"VTSOKXJ"},{"$f":"'shaladarpan '!V415","v":9828121110},{"$f":"'shaladarpan '!W415","v":"alniyawas414"},{"$f":"'shaladarpan '!X415","v":50000},{"$f":"'shaladarpan '!Y415","v":"N"},{"$f":"'shaladarpan '!Z415","v":"N"},{"$f":"'shaladarpan '!AA415","v":"No"},{"$f":"'shaladarpan '!AB415","v":13},{"$f":"'shaladarpan '!AC415","v":"None"},{"$f":"'shaladarpan '!AD415","v":0}]
[{"$f":"IF(F417=\" \",\" \",ROWS($A$3:A417))","v":415},{"$f":"'shaladarpan '!A416","v":9},{"$f":"'shaladarpan '!B416","v":"B"},{"$f":"'shaladarpan '!C416","v":3823},{"$f":"'shaladarpan '!D416","v":"2015-05-11"},{"$f":"'shaladarpan '!E416","v":"manjeet415"},{"$f":"'shaladarpan '!F416","v":"00:00:00"},{"$f":"'shaladarpan '!G416","v":"vijay415"},{"$f":"'shaladarpan '!H416","v":"beautiful415"},{"$f":"'shaladarpan '!I416","v":"M"},{"$f":"'shaladarpan '!J416","v":"2006-07-05"},{"$f":"'shaladarpan '!K416","v":"yes"},{"$f":"'shaladarpan '!L416","v":415},{"$f":"'shaladarpan '!M416","v":0},{"$f":"'shaladarpan '!N416","v":0},{"$f":"'shaladarpan '!O416","v":"OBC"},{"$f":"'shaladarpan '!P416","v":"Hindu"},{"$f":"'shaladarpan '!Q416","v":0},{"$f":"'shaladarpan '!R416","v":"GOVT. SENIOR SECONDARY SCHOOL ALNIYAWAS (219445)"},{"$f":"'shaladarpan '!S416","v":8140200308},{"$f":"'shaladarpan '!T416","v":"XXXX3790"},{"$f":"'shaladarpan '!U416","v":0},{"$f":"'shaladarpan '!V416","v":9828121111},{"$f":"'shaladarpan '!W416","v":"alniyawas415"},{"$f":"'shaladarpan '!X416","v":0},{"$f":"'shaladarpan '!Y416","v":"N"},{"$f":"'shaladarpan '!Z416","v":"N"},{"$f":"'shaladarpan '!AA416","v":"No"},{"$f":"'shaladarpan '!AB416","v":14},{"$f":"'shaladarpan '!AC416","v":"None"},{"$f":"'shaladarpan '!AD416","v":5}]
[{"$f":"IF(F418=\" \",\" \",ROWS($A$3:A418))","v":416},{"$f":"'shaladarpan '!A417","v":9},{"$f":"'shaladarpan '!B417","v":"B"},{"$f":"'shaladarpan '!C417","v":4444},{"$f":"'shaladarpan '!D417","v":"2018-07-02"},{"$f":"'shaladarpan '!E417","v":"manjeet416"},{"$f":"'shaladarpan '!F417","v":"00:00:00"},{"$f":"'shaladarpan '!G417","v":"vijay416"},{"$f":"'shaladarpan '!H417","v":"beautiful416"},{"$f":"'shaladarpan '!I417","v":"M"},{"$f":"'shaladarpan '!J417","v":"2006-07-01"},{"$f":"'shaladarpan '!K417","v":"yes"},{"$f":"'shaladarpan '!L417","v":416},{"$f":"'shaladarpan '!M417","v":0},{"$f":"'shaladarpan '!N417","v":0},{"$f":"'shaladarpan '!O417","v":"OBC"},{"$f":"'shaladarpan '!P417","v":"Hindu"},{"$f":"'shaladarpan '!Q417","v":0},{"$f":"'shaladarpan '!R417","v":"GOVT. SENIOR SECONDARY SCHOOL ALNIYAWAS (219445)"},{"$f":"'shaladarpan '!S417","v":8140200308},{"$f":"'shaladarpan '!T417","v":"XXXX8335"},{"$f":"'shaladarpan '!U417","v":0},{"$f":"'shaladarpan '!V417","v":9828121112},{"$f":"'shaladarpan '!W417","v":"alniyawas416"},{"$f":"'shaladarpan '!X417","v":60000},{"$f":"'shaladarpan '!Y417","v":"N"},{"$f":"'shaladarpan '!Z417","v":"N"},{"$f":"'shaladarpan '!AA417","v":"No"},{"$f":"'shaladarpan '!AB417","v":14},{"$f":"'shaladarpan '!AC417","v":"None"},{"$f":"'shaladarpan '!AD417","v":5}]
[{"$f":"IF(F419=\" \",\" \",ROWS($A$3:A419))","v":417},{"$f":"'shaladarpan '!A418","v":9},{"$f":"'shaladarpan '!B418","v":"B"},{"$f":"'shaladarpan '!C418","v":4890},{"$f":"'shaladarpan '!D418","v":"00:00:00"},{"$f":"'shaladarpan '!E418","v":"manjeet417"},{"$f":"'shaladarpan '!F418","v":"00:00:00"},{"$f":"'shaladarpan '!G418","v":"vijay417"},{"$f":"'shaladarpan '!H418","v":"beautiful417"},{"$f":"'shaladarpan '!I418","v":"M"},{"$f":"'shaladarpan '!J418","v":"2007-02-10"},{"$f":"'shaladarpan '!K418","v":"no"},{"$f":"'shaladarpan '!L418","v":417},{"$f":"'shaladarpan '!M418","v":0},{"$f":"'shaladarpan '!N418","v":0},{"$f":"'shaladarpan '!O418","v":"OBC"},{"$f":"'shaladarpan '!P418","v":0},{"$f":"'shaladarpan '!Q418","v":0},{"$f":"'shaladarpan '!R418","v":"GOVT. SENIOR SECONDARY SCHOOL ALNIYAWAS (219445)"},{"$f":"'shaladarpan '!S418","v":8140200308},{"$f":"'shaladarpan '!T418","v":0},{"$f":"'shaladarpan '!U418","v":0},{"$f":"'shaladarpan '!V418","v":9828121113},{"$f":"'shaladarpan '!W418","v":"alniyawas417"},{"$f":"'shaladarpan '!X418","v":0},{"$f":"'shaladarpan '!Y418","v":"N"},{"$f":"'shaladarpan '!Z418","v":"Y"},{"$f":"'shaladarpan '!AA418","v":0},{"$f":"'shaladarpan '!AB418","v":13},{"$f":"'shaladarpan '!AC418","v":0},{"$f":"'shaladarpan '!AD418","v":1}]
[{"$f":"IF(F420=\" \",\" \",ROWS($A$3:A420))","v":418},{"$f":"'shaladarpan '!A419","v":9},{"$f":"'shaladarpan '!B419","v":"B"},{"$f":"'shaladarpan '!C419","v":4315},{"$f":"'shaladarpan '!D419","v":"2017-07-04"},{"$f":"'shaladarpan '!E419","v":"manjeet418"},{"$f":"'shaladarpan '!F419","v":"00:00:00"},{"$f":"'shaladarpan '!G419","v":"vijay418"},{"$f":"'shaladarpan '!H419","v":"beautiful418"},{"$f":"'shaladarpan '!I419","v":"M"},{"$f":"'shaladarpan '!J419","v":"2005-07-07"},{"$f":"'shaladarpan '!K419","v":"yes"},{"$f":"'shaladarpan '!L419","v":418},{"$f":"'shaladarpan '!M419","v":0},{"$f":"'shaladarpan '!N419","v":0},{"$f":"'shaladarpan '!O419","v":"OBC"},{"$f":"'shaladarpan '!P419","v":"Hindu"},{"$f":"'shaladarpan '!Q419","v":0},{"$f":"'shaladarpan '!R419","v":"GOVT. SENIOR SECONDARY SCHOOL ALNIYAWAS (219445)"},{"$f":"'shaladarpan '!S419","v":8140200308},{"$f":"'shaladarpan '!T419","v":"XXXX3683"},{"$f":"'shaladarpan '!U419","v":0},{"$f":"'shaladarpan '!V419","v":9828121114},{"$f":"'shaladarpan '!W419","v":"alniyawas418"},{"$f":"'shaladarpan '!X419","v":0},{"$f":"'shaladarpan '!Y419","v":"N"},{"$f":"'shaladarpan '!Z419","v":"N"},{"$f":"'shaladarpan '!AA419","v":"No"},{"$f":"'shaladarpan '!AB419","v":15},{"$f":"'shaladarpan '!AC419","v":"None"},{"$f":"'shaladarpan '!AD419","v":3}]
[{"$f":"IF(F421=\" \",\" \",ROWS($A$3:A421))","v":419},{"$f":"'shaladarpan '!A420","v":9},{"$f":"'shaladarpan '!B420","v":"B"},{"$f":"'shaladarpan '!C420","v":4830},{"$f":"'shaladarpan '!D420","v":"2020-08-29"},{"$f":"'shaladarpan '!E420","v":"manjeet419"},{"$f":"'shaladarpan '!F420","v":"00:00:00"},{"$f":"'shaladarpan '!G420","v":"vijay419"},{"$f":"'shaladarpan '!H420","v":"beautiful419"},{"$f":"'shaladarpan '!I420","v":"F"},{"$f":"'shaladarpan '!J420","v":"2006-02-16"},{"$f":"'shaladarpan '!K420","v":"yes"},{"$f":"'shaladarpan '!L420","v":419},{"$f":"'shaladarpan '!M420","v":0},{"$f":"'shaladarpan '!N420","v":0},{"$f":"'shaladarpan '!O420","v":"GEN"},{"$f":"'shaladarpan '!P420","v":0},{"$f":"'shaladarpan '!Q420","v":0},{"$f":"'shaladarpan '!R420","v":"GOVT. SENIOR SECONDARY SCHOOL ALNIYAWAS (219445)"},{"$f":"'shaladarpan '!S420","v":8140200308},{"$f":"'shaladarpan '!T420","v":"XXXX5229"},{"$f":"'shaladarpan '!U420","v":0},{"$f":"'shaladarpan '!V420","v":9828121115},{"$f":"'shaladarpan '!W420","v":"alniyawas419"},{"$f":"'shaladarpan '!X420","v":0},{"$f":"'shaladarpan '!Y420","v":"N"},{"$f":"'shaladarpan '!Z420","v":"N"},{"$f":"'shaladarpan '!AA420","v":0},{"$f":"'shaladarpan '!AB420","v":14},{"$f":"'shaladarpan '!AC420","v":"None"},{"$f":"'shaladarpan '!AD420","v":5}]
[{"$f":"IF(F422=\" \",\" \",ROWS($A$3:A422))","v":420},{"$f":"'shaladarpan '!A421","v":10},{"$f":"'shaladarpan '!B421","v":"A"},{"$f":"'shaladarpan '!C421","v":4120},{"$f":"'shaladarpan '!D421","v":"2016-06-30"},{"$f":"'shaladarpan '!E421","v":"manjeet420"},{"$f":"'shaladarpan '!F421","v":"00:00:00"},{"$f":"'shaladarpan '!G421","v":"vijay420"},{"$f":"'shaladarpan '!H421","v":"beautiful420"},{"$f":"'shaladarpan '!I421","v":"M"},{"$f":"'shaladarpan '!J421","v":"2006-06-27"},{"$f":"'shaladarpan '!K421","v":"no"},{"$f":"'shaladarpan '!L421","v":420},{"$f":"'shaladarpan '!M421","v":0},{"$f":"'shaladarpan '!N421","v":0},{"$f":"'shaladarpan '!O421","v":"GEN"},{"$f":"'shaladarpan '!P421","v":"Hindu"},{"$f":"'shaladarpan '!Q421","v":0},{"$f":"'shaladarpan '!R421","v":"GOVT. SENIOR SECONDARY SCHOOL ALNIYAWAS (219445)"},{"$f":"'shaladarpan '!S421","v":8140200308},{"$f":"'shaladarpan '!T421","v":"XXXX3034"},{"$f":"'shaladarpan '!U421","v":0},{"$f":"'shaladarpan '!V421","v":9828121116},{"$f":"'shaladarpan '!W421","v":"alniyawas420"},{"$f":"'shaladarpan '!X421","v":0},{"$f":"'shaladarpan '!Y421","v":"N"},{"$f":"'shaladarpan '!Z421","v":"N"},{"$f":"'shaladarpan '!AA421","v":"No"},{"$f":"'shaladarpan '!AB421","v":14},{"$f":"'shaladarpan '!AC421","v":"None"},{"$f":"'shaladarpan '!AD421","v":1}]
[{"$f":"IF(F423=\" \",\" \",ROWS($A$3:A423))","v":421},{"$f":"'shaladarpan '!A422","v":10},{"$f":"'shaladarpan '!B422","v":"A"},{"$f":"'shaladarpan '!C422","v":3773},{"$f":"'shaladarpan '!D422","v":"2015-05-11"},{"$f":"'shaladarpan '!E422","v":"manjeet421"},{"$f":"'shaladarpan '!F422","v":"00:00:00"},{"$f":"'shaladarpan '!G422","v":"vijay421"},{"$f":"'shaladarpan '!H422","v":"beautiful421"},{"$f":"'shaladarpan '!I422","v":"M"},{"$f":"'shaladarpan '!J422","v":"2005-07-01"},{"$f":"'shaladarpan '!K422","v":"yes"},{"$f":"'shaladarpan '!L422","v":421},{"$f":"'shaladarpan '!M422","v":0},{"$f":"'shaladarpan '!N422","v":0},{"$f":"'shaladarpan '!O422","v":"OBC"},{"$f":"'shaladarpan '!P422","v":"Muslim"},{"$f":"'shaladarpan '!Q422","v":0},{"$f":"'shaladarpan '!R422","v":"GOVT. SENIOR SECONDARY SCHOOL ALNIYAWAS (219445)"},{"$f":"'shaladarpan '!S422","v":8140200308},{"$f":"'shaladarpan '!T422","v":"XXXX6919"},{"$f":"'shaladarpan '!U422","v":0},{"$f":"'shaladarpan '!V422","v":9828121117},{"$f":"'shaladarpan '!W422","v":"alniyawas421"},{"$f":"'shaladarpan '!X422","v":0},{"$f":"'shaladarpan '!Y422","v":"N"},{"$f":"'shaladarpan '!Z422","v":"N"},{"$f":"'shaladarpan '!AA422","v":"Yes"},{"$f":"'shaladarpan '!AB422","v":15},{"$f":"'shaladarpan '!AC422","v":"None"},{"$f":"'shaladarpan '!AD422","v":1}]
[{"$f":"IF(F424=\" \",\" \",ROWS($A$3:A424))","v":422},{"$f":"'shaladarpan '!A423","v":10},{"$f":"'shaladarpan '!B423","v":"A"},{"$f":"'shaladarpan '!C423","v":4532},{"$f":"'shaladarpan '!D423","v":"2018-07-07"},{"$f":"'shaladarpan '!E423","v":"manjeet422"},{"$f":"'shaladarpan '!F423","v":"00:00:00"},{"$f":"'shaladarpan '!G423","v":"vijay422"},{"$f":"'shaladarpan '!H423","v":"beautiful422"},{"$f":"'shaladarpan '!I423","v":"M"},{"$f":"'shaladarpan '!J423","v":"2006-09-09"},{"$f":"'shaladarpan '!K423","v":"yes"},{"$f":"'shaladarpan '!L423","v":422},{"$f":"'shaladarpan '!M423","v":0},{"$f":"'shaladarpan '!N423","v":0},{"$f":"'shaladarpan '!O423","v":"OBC"},{"$f":"'shaladarpan '!P423","v":"Hindu"},{"$f":"'shaladarpan '!Q423","v":0},{"$f":"'shaladarpan '!R423","v":"GOVT. SENIOR SECONDARY SCHOOL ALNIYAWAS (219445)"},{"$f":"'shaladarpan '!S423","v":8140200308},{"$f":"'shaladarpan '!T423","v":"XXXX2372"},{"$f":"'shaladarpan '!U423","v":0},{"$f":"'shaladarpan '!V423","v":9828121118},{"$f":"'shaladarpan '!W423","v":"alniyawas422"},{"$f":"'shaladarpan '!X423","v":45000},{"$f":"'shaladarpan '!Y423","v":"N"},{"$f":"'shaladarpan '!Z423","v":"N"},{"$f":"'shaladarpan '!AA423","v":"No"},{"$f":"'shaladarpan '!AB423","v":14},{"$f":"'shaladarpan '!AC423","v":"None"},{"$f":"'shaladarpan '!AD423","v":1}]
[{"$f":"IF(F425=\" \",\" \",ROWS($A$3:A425))","v":423},{"$f":"'shaladarpan '!A424","v":10},{"$f":"'shaladarpan '!B424","v":"A"},{"$f":"'shaladarpan '!C424","v":3569},{"$f":"'shaladarpan '!D424","v":"2014-05-13"},{"$f":"'shaladarpan '!E424","v":"manjeet423"},{"$f":"'shaladarpan '!F424","v":"00:00:00"},{"$f":"'shaladarpan '!G424","v":"vijay423"},{"$f":"'shaladarpan '!H424","v":"beautiful423"},{"$f":"'shaladarpan '!I424","v":"M"},{"$f":"'shaladarpan '!J424","v":"2003-07-31"},{"$f":"'shaladarpan '!K424","v":"no"},{"$f":"'shaladarpan '!L424","v":423},{"$f":"'shaladarpan '!M424","v":0},{"$f":"'shaladarpan '!N424","v":0},{"$f":"'shaladarpan '!O424","v":"GEN"},{"$f":"'shaladarpan '!P424","v":0},{"$f":"'shaladarpan '!Q424","v":0},{"$f":"'shaladarpan '!R424","v":"GOVT. SENIOR SECONDARY SCHOOL ALNIYAWAS (219445)"},{"$f":"'shaladarpan '!S424","v":8140200308},{"$f":"'shaladarpan '!T424","v":"XXXX3161"},{"$f":"'shaladarpan '!U424","v":0},{"$f":"'shaladarpan '!V424","v":9828121119},{"$f":"'shaladarpan '!W424","v":"alniyawas423"},{"$f":"'shaladarpan '!X424","v":0},{"$f":"'shaladarpan '!Y424","v":"N"},{"$f":"'shaladarpan '!Z424","v":"N"},{"$f":"'shaladarpan '!AA424","v":0},{"$f":"'shaladarpan '!AB424","v":17},{"$f":"'shaladarpan '!AC424","v":"None"},{"$f":"'shaladarpan '!AD424","v":1}]
[{"$f":"IF(F426=\" \",\" \",ROWS($A$3:A426))","v":424},{"$f":"'shaladarpan '!A425","v":10},{"$f":"'shaladarpan '!B425","v":"A"},{"$f":"'shaladarpan '!C425","v":4659},{"$f":"'shaladarpan '!D425","v":"2019-07-06"},{"$f":"'shaladarpan '!E425","v":"manjeet424"},{"$f":"'shaladarpan '!F425","v":"00:00:00"},{"$f":"'shaladarpan '!G425","v":"vijay424"},{"$f":"'shaladarpan '!H425","v":"beautiful424"},{"$f":"'shaladarpan '!I425","v":"F"},{"$f":"'shaladarpan '!J425","v":"2005-06-05"},{"$f":"'shaladarpan '!K425","v":"yes"},{"$f":"'shaladarpan '!L425","v":424},{"$f":"'shaladarpan '!M425","v":0},{"$f":"'shaladarpan '!N425","v":0},{"$f":"'shaladarpan '!O425","v":"GEN"},{"$f":"'shaladarpan '!P425","v":"Hindu"},{"$f":"'shaladarpan '!Q425","v":0},{"$f":"'shaladarpan '!R425","v":"GOVT. SENIOR SECONDARY SCHOOL ALNIYAWAS (219445)"},{"$f":"'shaladarpan '!S425","v":8140200308},{"$f":"'shaladarpan '!T425","v":"XXXX1529"},{"$f":"'shaladarpan '!U425","v":"yoiysgs"},{"$f":"'shaladarpan '!V425","v":9828121120},{"$f":"'shaladarpan '!W425","v":"alniyawas424"},{"$f":"'shaladarpan '!X425","v":60000},{"$f":"'shaladarpan '!Y425","v":"N"},{"$f":"'shaladarpan '!Z425","v":"N"},{"$f":"'shaladarpan '!AA425","v":"No"},{"$f":"'shaladarpan '!AB425","v":15},{"$f":"'shaladarpan '!AC425","v":"None"},{"$f":"'shaladarpan '!AD425","v":0}]
[{"$f":"IF(F427=\" \",\" \",ROWS($A$3:A427))","v":425},{"$f":"'shaladarpan '!A426","v":10},{"$f":"'shaladarpan '!B426","v":"A"},{"$f":"'shaladarpan '!C426","v":4574},{"$f":"'shaladarpan '!D426","v":"2018-07-16"},{"$f":"'shaladarpan '!E426","v":"manjeet425"},{"$f":"'shaladarpan '!F426","v":"00:00:00"},{"$f":"'shaladarpan '!G426","v":"vijay425"},{"$f":"'shaladarpan '!H426","v":"beautiful425"},{"$f":"'shaladarpan '!I426","v":"F"},{"$f":"'shaladarpan '!J426","v":"2006-08-08"},{"$f":"'shaladarpan '!K426","v":"yes"},{"$f":"'shaladarpan '!L426","v":425},{"$f":"'shaladarpan '!M426","v":0},{"$f":"'shaladarpan '!N426","v":0},{"$f":"'shaladarpan '!O426","v":"SC"},{"$f":"'shaladarpan '!P426","v":"Hindu"},{"$f":"'shaladarpan '!Q426","v":0},{"$f":"'shaladarpan '!R426","v":"GOVT. SENIOR SECONDARY SCHOOL ALNIYAWAS (219445)"},{"$f":"'shaladarpan '!S426","v":8140200308},{"$f":"'shaladarpan '!T426","v":"XXXX0567"},{"$f":"'shaladarpan '!U426","v":0},{"$f":"'shaladarpan '!V426","v":9828121121},{"$f":"'shaladarpan '!W426","v":"alniyawas425"},{"$f":"'shaladarpan '!X426","v":40000},{"$f":"'shaladarpan '!Y426","v":"N"},{"$f":"'shaladarpan '!Z426","v":"N"},{"$f":"'shaladarpan '!AA426","v":"No"},{"$f":"'shaladarpan '!AB426","v":14},{"$f":"'shaladarpan '!AC426","v":"None"},{"$f":"'shaladarpan '!AD426","v":4}]
[{"$f":"IF(F428=\" \",\" \",ROWS($A$3:A428))","v":426},{"$f":"'shaladarpan '!A427","v":10},{"$f":"'shaladarpan '!B427","v":"A"},{"$f":"'shaladarpan '!C427","v":4665},{"$f":"'shaladarpan '!D427","v":"2019-07-06"},{"$f":"'shaladarpan '!E427","v":"manjeet426"},{"$f":"'shaladarpan '!F427","v":"00:00:00"},{"$f":"'shaladarpan '!G427","v":"vijay426"},{"$f":"'shaladarpan '!H427","v":"beautiful426"},{"$f":"'shaladarpan '!I427","v":"M"},{"$f":"'shaladarpan '!J427","v":"2006-05-18"},{"$f":"'shaladarpan '!K427","v":"no"},{"$f":"'shaladarpan '!L427","v":426},{"$f":"'shaladarpan '!M427","v":0},{"$f":"'shaladarpan '!N427","v":0},{"$f":"'shaladarpan '!O427","v":"GEN"},{"$f":"'shaladarpan '!P427","v":"Hindu"},{"$f":"'shaladarpan '!Q427","v":0},{"$f":"'shaladarpan '!R427","v":"GOVT. SENIOR SECONDARY SCHOOL ALNIYAWAS (219445)"},{"$f":"'shaladarpan '!S427","v":8140200308},{"$f":"'shaladarpan '!T427","v":"XXXX0949"},{"$f":"'shaladarpan '!U427","v":"yfwcdyk"},{"$f":"'shaladarpan '!V427","v":9828121122},{"$f":"'shaladarpan '!W427","v":"alniyawas426"},{"$f":"'shaladarpan '!X427","v":60000},{"$f":"'shaladarpan '!Y427","v":"N"},{"$f":"'shaladarpan '!Z427","v":"N"},{"$f":"'shaladarpan '!AA427","v":"No"},{"$f":"'shaladarpan '!AB427","v":14},{"$f":"'shaladarpan '!AC427","v":"None"},{"$f":"'shaladarpan '!AD427","v":0}]
[{"$f":"IF(F429=\" \",\" \",ROWS($A$3:A429))","v":427},{"$f":"'shaladarpan '!A428","v":10},{"$f":"'shaladarpan '!B428","v":"A"},{"$f":"'shaladarpan '!C428","v":4657},{"$f":"'shaladarpan '!D428","v":"2019-07-05"},{"$f":"'shaladarpan '!E428","v":"manjeet427"},{"$f":"'shaladarpan '!F428","v":"00:00:00"},{"$f":"'shaladarpan '!G428","v":"vijay427"},{"$f":"'shaladarpan '!H428","v":"beautiful427"},{"$f":"'shaladarpan '!I428","v":"M"},{"$f":"'shaladarpan '!J428","v":"2005-07-06"},{"$f":"'shaladarpan '!K428","v":"yes"},{"$f":"'shaladarpan '!L428","v":427},{"$f":"'shaladarpan '!M428","v":0},{"$f":"'shaladarpan '!N428","v":0},{"$f":"'shaladarpan '!O428","v":"OBC"},{"$f":"'shaladarpan '!P428","v":"Hindu"},{"$f":"'shaladarpan '!Q428","v":0},{"$f":"'shaladarpan '!R428","v":"GOVT. SENIOR SECONDARY SCHOOL ALNIYAWAS (219445)"},{"$f":"'shaladarpan '!S428","v":8140200308},{"$f":"'shaladarpan '!T428","v":"XXXX3457"},{"$f":"'shaladarpan '!U428","v":"yfuskkw"},{"$f":"'shaladarpan '!V428","v":9828121123},{"$f":"'shaladarpan '!W428","v":"alniyawas427"},{"$f":"'shaladarpan '!X428","v":80000},{"$f":"'shaladarpan '!Y428","v":"N"},{"$f":"'shaladarpan '!Z428","v":"N"},{"$f":"'shaladarpan '!AA428","v":"No"},{"$f":"'shaladarpan '!AB428","v":15},{"$f":"'shaladarpan '!AC428","v":"None"},{"$f":"'shaladarpan '!AD428","v":2}]
[{"$f":"IF(F430=\" \",\" \",ROWS($A$3:A430))","v":428},{"$f":"'shaladarpan '!A429","v":10},{"$f":"'shaladarpan '!B429","v":"A"},{"$f":"'shaladarpan '!C429","v":3796},{"$f":"'shaladarpan '!D429","v":"2015-05-11"},{"$f":"'shaladarpan '!E429","v":"manjeet428"},{"$f":"'shaladarpan '!F429","v":"00:00:00"},{"$f":"'shaladarpan '!G429","v":"vijay428"},{"$f":"'shaladarpan '!H429","v":"beautiful428"},{"$f":"'shaladarpan '!I429","v":"F"},{"$f":"'shaladarpan '!J429","v":"2005-07-09"},{"$f":"'shaladarpan '!K429","v":"yes"},{"$f":"'shaladarpan '!L429","v":428},{"$f":"'shaladarpan '!M429","v":0},{"$f":"'shaladarpan '!N429","v":0},{"$f":"'shaladarpan '!O429","v":"SC"},{"$f":"'shaladarpan '!P429","v":"Hindu"},{"$f":"'shaladarpan '!Q429","v":0},{"$f":"'shaladarpan '!R429","v":"GOVT. SENIOR SECONDARY SCHOOL ALNIYAWAS (219445)"},{"$f":"'shaladarpan '!S429","v":8140200308},{"$f":"'shaladarpan '!T429","v":"XXXX8459"},{"$f":"'shaladarpan '!U429","v":0},{"$f":"'shaladarpan '!V429","v":9828121124},{"$f":"'shaladarpan '!W429","v":"alniyawas428"},{"$f":"'shaladarpan '!X429","v":0},{"$f":"'shaladarpan '!Y429","v":"N"},{"$f":"'shaladarpan '!Z429","v":"N"},{"$f":"'shaladarpan '!AA429","v":"No"},{"$f":"'shaladarpan '!AB429","v":15},{"$f":"'shaladarpan '!AC429","v":"None"},{"$f":"'shaladarpan '!AD429","v":1}]
[{"$f":"IF(F431=\" \",\" \",ROWS($A$3:A431))","v":429},{"$f":"'shaladarpan '!A430","v":10},{"$f":"'shaladarpan '!B430","v":"A"},{"$f":"'shaladarpan '!C430","v":4489},{"$f":"'shaladarpan '!D430","v":"2018-07-05"},{"$f":"'shaladarpan '!E430","v":"manjeet429"},{"$f":"'shaladarpan '!F430","v":"00:00:00"},{"$f":"'shaladarpan '!G430","v":"vijay429"},{"$f":"'shaladarpan '!H430","v":"beautiful429"},{"$f":"'shaladarpan '!I430","v":"M"},{"$f":"'shaladarpan '!J430","v":"2004-09-27"},{"$f":"'shaladarpan '!K430","v":"no"},{"$f":"'shaladarpan '!L430","v":429},{"$f":"'shaladarpan '!M430","v":0},{"$f":"'shaladarpan '!N430","v":0},{"$f":"'shaladarpan '!O430","v":"OBC"},{"$f":"'shaladarpan '!P430","v":"Hindu"},{"$f":"'shaladarpan '!Q430","v":0},{"$f":"'shaladarpan '!R430","v":"GOVT. SENIOR SECONDARY SCHOOL ALNIYAWAS (219445)"},{"$f":"'shaladarpan '!S430","v":8140200308},{"$f":"'shaladarpan '!T430","v":"XXXX0357"},{"$f":"'shaladarpan '!U430","v":0},{"$f":"'shaladarpan '!V430","v":9828121125},{"$f":"'shaladarpan '!W430","v":"alniyawas429"},{"$f":"'shaladarpan '!X430","v":50000},{"$f":"'shaladarpan '!Y430","v":"N"},{"$f":"'shaladarpan '!Z430","v":"N"},{"$f":"'shaladarpan '!AA430","v":"No"},{"$f":"'shaladarpan '!AB430","v":16},{"$f":"'shaladarpan '!AC430","v":"None"},{"$f":"'shaladarpan '!AD430","v":5}]
[{"$f":"IF(F432=\" \",\" \",ROWS($A$3:A432))","v":430},{"$f":"'shaladarpan '!A431","v":10},{"$f":"'shaladarpan '!B431","v":"A"},{"$f":"'shaladarpan '!C431","v":4658},{"$f":"'shaladarpan '!D431","v":"2019-07-05"},{"$f":"'shaladarpan '!E431","v":"manjeet430"},{"$f":"'shaladarpan '!F431","v":"00:00:00"},{"$f":"'shaladarpan '!G431","v":"vijay430"},{"$f":"'shaladarpan '!H431","v":"beautiful430"},{"$f":"'shaladarpan '!I431","v":"F"},{"$f":"'shaladarpan '!J431","v":"2006-05-05"},{"$f":"'shaladarpan '!K431","v":"yes"},{"$f":"'shaladarpan '!L431","v":430},{"$f":"'shaladarpan '!M431","v":0},{"$f":"'shaladarpan '!N431","v":0},{"$f":"'shaladarpan '!O431","v":"SC"},{"$f":"'shaladarpan '!P431","v":"Hindu"},{"$f":"'shaladarpan '!Q431","v":0},{"$f":"'shaladarpan '!R431","v":"GOVT. SENIOR SECONDARY SCHOOL ALNIYAWAS (219445)"},{"$f":"'shaladarpan '!S431","v":8140200308},{"$f":"'shaladarpan '!T431","v":"XXXX4286"},{"$f":"'shaladarpan '!U431","v":"voxovtr"},{"$f":"'shaladarpan '!V431","v":9828121126},{"$f":"'shaladarpan '!W431","v":"alniyawas430"},{"$f":"'shaladarpan '!X431","v":100000},{"$f":"'shaladarpan '!Y431","v":"N"},{"$f":"'shaladarpan '!Z431","v":"N"},{"$f":"'shaladarpan '!AA431","v":"No"},{"$f":"'shaladarpan '!AB431","v":14},{"$f":"'shaladarpan '!AC431","v":"None"},{"$f":"'shaladarpan '!AD431","v":1}]
[{"$f":"IF(F433=\" \",\" \",ROWS($A$3:A433))","v":431},{"$f":"'shaladarpan '!A432","v":10},{"$f":"'shaladarpan '!B432","v":"A"},{"$f":"'shaladarpan '!C432","v":4649},{"$f":"'shaladarpan '!D432","v":"2019-07-04"},{"$f":"'shaladarpan '!E432","v":"manjeet431"},{"$f":"'shaladarpan '!F432","v":"00:00:00"},{"$f":"'shaladarpan '!G432","v":"vijay431"},{"$f":"'shaladarpan '!H432","v":"beautiful431"},{"$f":"'shaladarpan '!I432","v":"M"},{"$f":"'shaladarpan '!J432","v":"2003-06-30"},{"$f":"'shaladarpan '!K432","v":"yes"},{"$f":"'shaladarpan '!L432","v":431},{"$f":"'shaladarpan '!M432","v":0},{"$f":"'shaladarpan '!N432","v":0},{"$f":"'shaladarpan '!O432","v":"GEN"},{"$f":"'shaladarpan '!P432","v":"Hindu"},{"$f":"'shaladarpan '!Q432","v":0},{"$f":"'shaladarpan '!R432","v":"GOVT. SENIOR SECONDARY SCHOOL ALNIYAWAS (219445)"},{"$f":"'shaladarpan '!S432","v":8140200308},{"$f":"'shaladarpan '!T432","v":"XXXX8974"},{"$f":"'shaladarpan '!U432","v":"yfuskik"},{"$f":"'shaladarpan '!V432","v":9828121127},{"$f":"'shaladarpan '!W432","v":"alniyawas431"},{"$f":"'shaladarpan '!X432","v":80000},{"$f":"'shaladarpan '!Y432","v":"N"},{"$f":"'shaladarpan '!Z432","v":"N"},{"$f":"'shaladarpan '!AA432","v":"No"},{"$f":"'shaladarpan '!AB432","v":17},{"$f":"'shaladarpan '!AC432","v":"None"},{"$f":"'shaladarpan '!AD432","v":1}]
[{"$f":"IF(F434=\" \",\" \",ROWS($A$3:A434))","v":432},{"$f":"'shaladarpan '!A433","v":10},{"$f":"'shaladarpan '!B433","v":"A"},{"$f":"'shaladarpan '!C433","v":4564},{"$f":"'shaladarpan '!D433","v":"2018-07-14"},{"$f":"'shaladarpan '!E433","v":"manjeet432"},{"$f":"'shaladarpan '!F433","v":"00:00:00"},{"$f":"'shaladarpan '!G433","v":"vijay432"},{"$f":"'shaladarpan '!H433","v":"beautiful432"},{"$f":"'shaladarpan '!I433","v":"M"},{"$f":"'shaladarpan '!J433","v":"2005-07-01"},{"$f":"'shaladarpan '!K433","v":"no"},{"$f":"'shaladarpan '!L433","v":432},{"$f":"'shaladarpan '!M433","v":0},{"$f":"'shaladarpan '!N433","v":0},{"$f":"'shaladarpan '!O433","v":"GEN"},{"$f":"'shaladarpan '!P433","v":"Hindu"},{"$f":"'shaladarpan '!Q433","v":0},{"$f":"'shaladarpan '!R433","v":"GOVT. SENIOR SECONDARY SCHOOL ALNIYAWAS (219445)"},{"$f":"'shaladarpan '!S433","v":8140200308},{"$f":"'shaladarpan '!T433","v":"XXXX2230"},{"$f":"'shaladarpan '!U433","v":0},{"$f":"'shaladarpan '!V433","v":9828121128},{"$f":"'shaladarpan '!W433","v":"alniyawas432"},{"$f":"'shaladarpan '!X433","v":40000},{"$f":"'shaladarpan '!Y433","v":"N"},{"$f":"'shaladarpan '!Z433","v":"N"},{"$f":"'shaladarpan '!AA433","v":"No"},{"$f":"'shaladarpan '!AB433","v":15},{"$f":"'shaladarpan '!AC433","v":"None"},{"$f":"'shaladarpan '!AD433","v":5}]
[{"$f":"IF(F435=\" \",\" \",ROWS($A$3:A435))","v":433},{"$f":"'shaladarpan '!A434","v":10},{"$f":"'shaladarpan '!B434","v":"A"},{"$f":"'shaladarpan '!C434","v":3799},{"$f":"'shaladarpan '!D434","v":"2015-05-11"},{"$f":"'shaladarpan '!E434","v":"manjeet433"},{"$f":"'shaladarpan '!F434","v":"00:00:00"},{"$f":"'shaladarpan '!G434","v":"vijay433"},{"$f":"'shaladarpan '!H434","v":"beautiful433"},{"$f":"'shaladarpan '!I434","v":"M"},{"$f":"'shaladarpan '!J434","v":"2005-03-08"},{"$f":"'shaladarpan '!K434","v":"yes"},{"$f":"'shaladarpan '!L434","v":433},{"$f":"'shaladarpan '!M434","v":0},{"$f":"'shaladarpan '!N434","v":0},{"$f":"'shaladarpan '!O434","v":"SC"},{"$f":"'shaladarpan '!P434","v":"Hindu"},{"$f":"'shaladarpan '!Q434","v":0},{"$f":"'shaladarpan '!R434","v":"GOVT. SENIOR SECONDARY SCHOOL ALNIYAWAS (219445)"},{"$f":"'shaladarpan '!S434","v":8140200308},{"$f":"'shaladarpan '!T434","v":"XXXX2570"},{"$f":"'shaladarpan '!U434","v":0},{"$f":"'shaladarpan '!V434","v":9828121129},{"$f":"'shaladarpan '!W434","v":"alniyawas433"},{"$f":"'shaladarpan '!X434","v":0},{"$f":"'shaladarpan '!Y434","v":"N"},{"$f":"'shaladarpan '!Z434","v":"N"},{"$f":"'shaladarpan '!AA434","v":"No"},{"$f":"'shaladarpan '!AB434","v":15},{"$f":"'shaladarpan '!AC434","v":"None"},{"$f":"'shaladarpan '!AD434","v":1}]
[{"$f":"IF(F436=\" \",\" \",ROWS($A$3:A436))","v":434},{"$f":"'shaladarpan '!A435","v":10},{"$f":"'shaladarpan '!B435","v":"A"},{"$f":"'shaladarpan '!C435","v":4594},{"$f":"'shaladarpan '!D435","v":"2018-07-23"},{"$f":"'shaladarpan '!E435","v":"manjeet434"},{"$f":"'shaladarpan '!F435","v":"00:00:00"},{"$f":"'shaladarpan '!G435","v":"vijay434"},{"$f":"'shaladarpan '!H435","v":"beautiful434"},{"$f":"'shaladarpan '!I435","v":"M"},{"$f":"'shaladarpan '!J435","v":"2006-01-01"},{"$f":"'shaladarpan '!K435","v":"yes"},{"$f":"'shaladarpan '!L435","v":434},{"$f":"'shaladarpan '!M435","v":0},{"$f":"'shaladarpan '!N435","v":0},{"$f":"'shaladarpan '!O435","v":"OBC"},{"$f":"'shaladarpan '!P435","v":"Muslim"},{"$f":"'shaladarpan '!Q435","v":0},{"$f":"'shaladarpan '!R435","v":"GOVT. SENIOR SECONDARY SCHOOL ALNIYAWAS (219445)"},{"$f":"'shaladarpan '!S435","v":8140200308},{"$f":"'shaladarpan '!T435","v":"XXXX9313"},{"$f":"'shaladarpan '!U435","v":"YOBYYOO"},{"$f":"'shaladarpan '!V435","v":9828121130},{"$f":"'shaladarpan '!W435","v":"alniyawas434"},{"$f":"'shaladarpan '!X435","v":40000},{"$f":"'shaladarpan '!Y435","v":"N"},{"$f":"'shaladarpan '!Z435","v":"N"},{"$f":"'shaladarpan '!AA435","v":"Yes"},{"$f":"'shaladarpan '!AB435","v":14},{"$f":"'shaladarpan '!AC435","v":"None"},{"$f":"'shaladarpan '!AD435","v":1}]
[{"$f":"IF(F437=\" \",\" \",ROWS($A$3:A437))","v":435},{"$f":"'shaladarpan '!A436","v":10},{"$f":"'shaladarpan '!B436","v":"A"},{"$f":"'shaladarpan '!C436","v":4667},{"$f":"'shaladarpan '!D436","v":"2019-07-06"},{"$f":"'shaladarpan '!E436","v":"manjeet435"},{"$f":"'shaladarpan '!F436","v":"00:00:00"},{"$f":"'shaladarpan '!G436","v":"vijay435"},{"$f":"'shaladarpan '!H436","v":"beautiful435"},{"$f":"'shaladarpan '!I436","v":"F"},{"$f":"'shaladarpan '!J436","v":"2006-05-03"},{"$f":"'shaladarpan '!K436","v":"no"},{"$f":"'shaladarpan '!L436","v":435},{"$f":"'shaladarpan '!M436","v":0},{"$f":"'shaladarpan '!N436","v":0},{"$f":"'shaladarpan '!O436","v":"OBC"},{"$f":"'shaladarpan '!P436","v":"Hindu"},{"$f":"'shaladarpan '!Q436","v":0},{"$f":"'shaladarpan '!R436","v":"GOVT. SENIOR SECONDARY SCHOOL ALNIYAWAS (219445)"},{"$f":"'shaladarpan '!S436","v":8140200308},{"$f":"'shaladarpan '!T436","v":"XXXX0201"},{"$f":"'shaladarpan '!U436","v":"ybccmyk"},{"$f":"'shaladarpan '!V436","v":9828121131},{"$f":"'shaladarpan '!W436","v":"alniyawas435"},{"$f":"'shaladarpan '!X436","v":100000},{"$f":"'shaladarpan '!Y436","v":"N"},{"$f":"'shaladarpan '!Z436","v":"N"},{"$f":"'shaladarpan '!AA436","v":"No"},{"$f":"'shaladarpan '!AB436","v":14},{"$f":"'shaladarpan '!AC436","v":"None"},{"$f":"'shaladarpan '!AD436","v":1}]
[{"$f":"IF(F438=\" \",\" \",ROWS($A$3:A438))","v":436},{"$f":"'shaladarpan '!A437","v":10},{"$f":"'shaladarpan '!B437","v":"A"},{"$f":"'shaladarpan '!C437","v":4719},{"$f":"'shaladarpan '!D437","v":"2019-07-12"},{"$f":"'shaladarpan '!E437","v":"manjeet436"},{"$f":"'shaladarpan '!F437","v":"00:00:00"},{"$f":"'shaladarpan '!G437","v":"vijay436"},{"$f":"'shaladarpan '!H437","v":"beautiful436"},{"$f":"'shaladarpan '!I437","v":"F"},{"$f":"'shaladarpan '!J437","v":"2006-06-25"},{"$f":"'shaladarpan '!K437","v":"yes"},{"$f":"'shaladarpan '!L437","v":436},{"$f":"'shaladarpan '!M437","v":0},{"$f":"'shaladarpan '!N437","v":0},{"$f":"'shaladarpan '!O437","v":"SC"},{"$f":"'shaladarpan '!P437","v":"Hindu"},{"$f":"'shaladarpan '!Q437","v":0},{"$f":"'shaladarpan '!R437","v":"GOVT. SENIOR SECONDARY SCHOOL ALNIYAWAS (219445)"},{"$f":"'shaladarpan '!S437","v":8140200308},{"$f":"'shaladarpan '!T437","v":"XXXX1060"},{"$f":"'shaladarpan '!U437","v":"VBCROWJ"},{"$f":"'shaladarpan '!V437","v":9828121132},{"$f":"'shaladarpan '!W437","v":"alniyawas436"},{"$f":"'shaladarpan '!X437","v":72000},{"$f":"'shaladarpan '!Y437","v":"N"},{"$f":"'shaladarpan '!Z437","v":"N"},{"$f":"'shaladarpan '!AA437","v":"No"},{"$f":"'shaladarpan '!AB437","v":14},{"$f":"'shaladarpan '!AC437","v":"None"},{"$f":"'shaladarpan '!AD437","v":1}]
[{"$f":"IF(F439=\" \",\" \",ROWS($A$3:A439))","v":437},{"$f":"'shaladarpan '!A438","v":10},{"$f":"'shaladarpan '!B438","v":"A"},{"$f":"'shaladarpan '!C438","v":4888},{"$f":"'shaladarpan '!D438","v":"00:00:00"},{"$f":"'shaladarpan '!E438","v":"manjeet437"},{"$f":"'shaladarpan '!F438","v":"00:00:00"},{"$f":"'shaladarpan '!G438","v":"vijay437"},{"$f":"'shaladarpan '!H438","v":"beautiful437"},{"$f":"'shaladarpan '!I438","v":"M"},{"$f":"'shaladarpan '!J438","v":"2005-10-31"},{"$f":"'shaladarpan '!K438","v":"yes"},{"$f":"'shaladarpan '!L438","v":437},{"$f":"'shaladarpan '!M438","v":0},{"$f":"'shaladarpan '!N438","v":0},{"$f":"'shaladarpan '!O438","v":"GEN"},{"$f":"'shaladarpan '!P438","v":0},{"$f":"'shaladarpan '!Q438","v":0},{"$f":"'shaladarpan '!R438","v":"GOVT. SENIOR SECONDARY SCHOOL ALNIYAWAS (219445)"},{"$f":"'shaladarpan '!S438","v":8140200308},{"$f":"'shaladarpan '!T438","v":0},{"$f":"'shaladarpan '!U438","v":0},{"$f":"'shaladarpan '!V438","v":9828121133},{"$f":"'shaladarpan '!W438","v":"alniyawas437"},{"$f":"'shaladarpan '!X438","v":0},{"$f":"'shaladarpan '!Y438","v":"N"},{"$f":"'shaladarpan '!Z438","v":"Y"},{"$f":"'shaladarpan '!AA438","v":0},{"$f":"'shaladarpan '!AB438","v":15},{"$f":"'shaladarpan '!AC438","v":0},{"$f":"'shaladarpan '!AD438","v":1}]
[{"$f":"IF(F440=\" \",\" \",ROWS($A$3:A440))","v":438},{"$f":"'shaladarpan '!A439","v":10},{"$f":"'shaladarpan '!B439","v":"A"},{"$f":"'shaladarpan '!C439","v":4762},{"$f":"'shaladarpan '!D439","v":"2019-07-23"},{"$f":"'shaladarpan '!E439","v":"manjeet438"},{"$f":"'shaladarpan '!F439","v":"00:00:00"},{"$f":"'shaladarpan '!G439","v":"vijay438"},{"$f":"'shaladarpan '!H439","v":"beautiful438"},{"$f":"'shaladarpan '!I439","v":"F"},{"$f":"'shaladarpan '!J439","v":"2005-05-30"},{"$f":"'shaladarpan '!K439","v":"no"},{"$f":"'shaladarpan '!L439","v":438},{"$f":"'shaladarpan '!M439","v":0},{"$f":"'shaladarpan '!N439","v":0},{"$f":"'shaladarpan '!O439","v":"OBC"},{"$f":"'shaladarpan '!P439","v":"Hindu"},{"$f":"'shaladarpan '!Q439","v":0},{"$f":"'shaladarpan '!R439","v":"GOVT. SENIOR SECONDARY SCHOOL ALNIYAWAS (219445)"},{"$f":"'shaladarpan '!S439","v":8140200308},{"$f":"'shaladarpan '!T439","v":"XXXX8489"},{"$f":"'shaladarpan '!U439","v":"YOCOIDS"},{"$f":"'shaladarpan '!V439","v":9828121134},{"$f":"'shaladarpan '!W439","v":"alniyawas438"},{"$f":"'shaladarpan '!X439","v":50000},{"$f":"'shaladarpan '!Y439","v":"N"},{"$f":"'shaladarpan '!Z439","v":"N"},{"$f":"'shaladarpan '!AA439","v":"No"},{"$f":"'shaladarpan '!AB439","v":15},{"$f":"'shaladarpan '!AC439","v":"None"},{"$f":"'shaladarpan '!AD439","v":0}]
[{"$f":"IF(F441=\" \",\" \",ROWS($A$3:A441))","v":439},{"$f":"'shaladarpan '!A440","v":10},{"$f":"'shaladarpan '!B440","v":"A"},{"$f":"'shaladarpan '!C440","v":4666},{"$f":"'shaladarpan '!D440","v":"2019-07-06"},{"$f":"'shaladarpan '!E440","v":"manjeet439"},{"$f":"'shaladarpan '!F440","v":"00:00:00"},{"$f":"'shaladarpan '!G440","v":"vijay439"},{"$f":"'shaladarpan '!H440","v":"beautiful439"},{"$f":"'shaladarpan '!I440","v":"M"},{"$f":"'shaladarpan '!J440","v":"2005-08-02"},{"$f":"'shaladarpan '!K440","v":"yes"},{"$f":"'shaladarpan '!L440","v":439},{"$f":"'shaladarpan '!M440","v":0},{"$f":"'shaladarpan '!N440","v":0},{"$f":"'shaladarpan '!O440","v":"OBC"},{"$f":"'shaladarpan '!P440","v":"Muslim"},{"$f":"'shaladarpan '!Q440","v":0},{"$f":"'shaladarpan '!R440","v":"GOVT. SENIOR SECONDARY SCHOOL ALNIYAWAS (219445)"},{"$f":"'shaladarpan '!S440","v":8140200308},{"$f":"'shaladarpan '!T440","v":"XXXX0836"},{"$f":"'shaladarpan '!U440","v":"vrpbknr"},{"$f":"'shaladarpan '!V440","v":9828121135},{"$f":"'shaladarpan '!W440","v":"alniyawas439"},{"$f":"'shaladarpan '!X440","v":80000},{"$f":"'shaladarpan '!Y440","v":"N"},{"$f":"'shaladarpan '!Z440","v":"N"},{"$f":"'shaladarpan '!AA440","v":"Yes"},{"$f":"'shaladarpan '!AB440","v":15},{"$f":"'shaladarpan '!AC440","v":"None"},{"$f":"'shaladarpan '!AD440","v":1}]
[{"$f":"IF(F442=\" \",\" \",ROWS($A$3:A442))","v":440},{"$f":"'shaladarpan '!A441","v":10},{"$f":"'shaladarpan '!B441","v":"A"},{"$f":"'shaladarpan '!C441","v":3959},{"$f":"'shaladarpan '!D441","v":"2015-07-01"},{"$f":"'shaladarpan '!E441","v":"manjeet440"},{"$f":"'shaladarpan '!F441","v":"00:00:00"},{"$f":"'shaladarpan '!G441","v":"vijay440"},{"$f":"'shaladarpan '!H441","v":"beautiful440"},{"$f":"'shaladarpan '!I441","v":"M"},{"$f":"'shaladarpan '!J441","v":"2006-09-08"},{"$f":"'shaladarpan '!K441","v":"yes"},{"$f":"'shaladarpan '!L441","v":440},{"$f":"'shaladarpan '!M441","v":0},{"$f":"'shaladarpan '!N441","v":0},{"$f":"'shaladarpan '!O441","v":"OBC"},{"$f":"'shaladarpan '!P441","v":"Hindu"},{"$f":"'shaladarpan '!Q441","v":0},{"$f":"'shaladarpan '!R441","v":"GOVT. SENIOR SECONDARY SCHOOL ALNIYAWAS (219445)"},{"$f":"'shaladarpan '!S441","v":8140200308},{"$f":"'shaladarpan '!T441","v":"XXXX6591"},{"$f":"'shaladarpan '!U441","v":"YWQSOFB"},{"$f":"'shaladarpan '!V441","v":9828121136},{"$f":"'shaladarpan '!W441","v":"alniyawas440"},{"$f":"'shaladarpan '!X441","v":60000},{"$f":"'shaladarpan '!Y441","v":"N"},{"$f":"'shaladarpan '!Z441","v":"N"},{"$f":"'shaladarpan '!AA441","v":"No"},{"$f":"'shaladarpan '!AB441","v":14},{"$f":"'shaladarpan '!AC441","v":"None"},{"$f":"'shaladarpan '!AD441","v":1}]
[{"$f":"IF(F443=\" \",\" \",ROWS($A$3:A443))","v":441},{"$f":"'shaladarpan '!A442","v":10},{"$f":"'shaladarpan '!B442","v":"A"},{"$f":"'shaladarpan '!C442","v":4210},{"$f":"'shaladarpan '!D442","v":"2016-07-15"},{"$f":"'shaladarpan '!E442","v":"manjeet441"},{"$f":"'shaladarpan '!F442","v":"00:00:00"},{"$f":"'shaladarpan '!G442","v":"vijay441"},{"$f":"'shaladarpan '!H442","v":"beautiful441"},{"$f":"'shaladarpan '!I442","v":"F"},{"$f":"'shaladarpan '!J442","v":"2006-06-01"},{"$f":"'shaladarpan '!K442","v":"no"},{"$f":"'shaladarpan '!L442","v":441},{"$f":"'shaladarpan '!M442","v":0},{"$f":"'shaladarpan '!N442","v":0},{"$f":"'shaladarpan '!O442","v":"OBC"},{"$f":"'shaladarpan '!P442","v":"Hindu"},{"$f":"'shaladarpan '!Q442","v":0},{"$f":"'shaladarpan '!R442","v":"GOVT. SENIOR SECONDARY SCHOOL ALNIYAWAS (219445)"},{"$f":"'shaladarpan '!S442","v":8140200308},{"$f":"'shaladarpan '!T442","v":"XXXX5754"},{"$f":"'shaladarpan '!U442","v":0},{"$f":"'shaladarpan '!V442","v":9828121137},{"$f":"'shaladarpan '!W442","v":"alniyawas441"},{"$f":"'shaladarpan '!X442","v":0},{"$f":"'shaladarpan '!Y442","v":"N"},{"$f":"'shaladarpan '!Z442","v":"N"},{"$f":"'shaladarpan '!AA442","v":"No"},{"$f":"'shaladarpan '!AB442","v":14},{"$f":"'shaladarpan '!AC442","v":"None"},{"$f":"'shaladarpan '!AD442","v":2}]
[{"$f":"IF(F444=\" \",\" \",ROWS($A$3:A444))","v":442},{"$f":"'shaladarpan '!A443","v":10},{"$f":"'shaladarpan '!B443","v":"A"},{"$f":"'shaladarpan '!C443","v":4511},{"$f":"'shaladarpan '!D443","v":"2018-07-06"},{"$f":"'shaladarpan '!E443","v":"manjeet442"},{"$f":"'shaladarpan '!F443","v":"00:00:00"},{"$f":"'shaladarpan '!G443","v":"vijay442"},{"$f":"'shaladarpan '!H443","v":"beautiful442"},{"$f":"'shaladarpan '!I443","v":"M"},{"$f":"'shaladarpan '!J443","v":"2003-07-07"},{"$f":"'shaladarpan '!K443","v":"yes"},{"$f":"'shaladarpan '!L443","v":442},{"$f":"'shaladarpan '!M443","v":0},{"$f":"'shaladarpan '!N443","v":0},{"$f":"'shaladarpan '!O443","v":"GEN"},{"$f":"'shaladarpan '!P443","v":"Hindu"},{"$f":"'shaladarpan '!Q443","v":0},{"$f":"'shaladarpan '!R443","v":"GOVT. SENIOR SECONDARY SCHOOL ALNIYAWAS (219445)"},{"$f":"'shaladarpan '!S443","v":8140200308},{"$f":"'shaladarpan '!T443","v":"XXXX5320"},{"$f":"'shaladarpan '!U443","v":"VOJNBCN"},{"$f":"'shaladarpan '!V443","v":9828121138},{"$f":"'shaladarpan '!W443","v":"alniyawas442"},{"$f":"'shaladarpan '!X443","v":40000},{"$f":"'shaladarpan '!Y443","v":"Y"},{"$f":"'shaladarpan '!Z443","v":"N"},{"$f":"'shaladarpan '!AA443","v":"No"},{"$f":"'shaladarpan '!AB443","v":17},{"$f":"'shaladarpan '!AC443","v":"None"},{"$f":"'shaladarpan '!AD443","v":3}]
[{"$f":"IF(F445=\" \",\" \",ROWS($A$3:A445))","v":443},{"$f":"'shaladarpan '!A444","v":10},{"$f":"'shaladarpan '!B444","v":"A"},{"$f":"'shaladarpan '!C444","v":3791},{"$f":"'shaladarpan '!D444","v":"2015-05-11"},{"$f":"'shaladarpan '!E444","v":"manjeet443"},{"$f":"'shaladarpan '!F444","v":"00:00:00"},{"$f":"'shaladarpan '!G444","v":"vijay443"},{"$f":"'shaladarpan '!H444","v":"beautiful443"},{"$f":"'shaladarpan '!I444","v":"F"},{"$f":"'shaladarpan '!J444","v":"2004-05-03"},{"$f":"'shaladarpan '!K444","v":"yes"},{"$f":"'shaladarpan '!L444","v":443},{"$f":"'shaladarpan '!M444","v":0},{"$f":"'shaladarpan '!N444","v":0},{"$f":"'shaladarpan '!O444","v":"SC"},{"$f":"'shaladarpan '!P444","v":"Hindu"},{"$f":"'shaladarpan '!Q444","v":0},{"$f":"'shaladarpan '!R444","v":"GOVT. SENIOR SECONDARY SCHOOL ALNIYAWAS (219445)"},{"$f":"'shaladarpan '!S444","v":8140200308},{"$f":"'shaladarpan '!T444","v":"XXXX0817"},{"$f":"'shaladarpan '!U444","v":0},{"$f":"'shaladarpan '!V444","v":9828121139},{"$f":"'shaladarpan '!W444","v":"alniyawas443"},{"$f":"'shaladarpan '!X444","v":0},{"$f":"'shaladarpan '!Y444","v":"N"},{"$f":"'shaladarpan '!Z444","v":"N"},{"$f":"'shaladarpan '!AA444","v":"No"},{"$f":"'shaladarpan '!AB444","v":16},{"$f":"'shaladarpan '!AC444","v":"None"},{"$f":"'shaladarpan '!AD444","v":1}]
[{"$f":"IF(F446=\" \",\" \",ROWS($A$3:A446))","v":444},{"$f":"'shaladarpan '!A445","v":10},{"$f":"'shaladarpan '!B445","v":"A"},{"$f":"'shaladarpan '!C445","v":4360},{"$f":"'shaladarpan '!D445","v":"2017-07-08"},{"$f":"'shaladarpan '!E445","v":"manjeet444"},{"$f":"'shaladarpan '!F445","v":"00:00:00"},{"$f":"'shaladarpan '!G445","v":"vijay444"},{"$f":"'shaladarpan '!H445","v":"beautiful444"},{"$f":"'shaladarpan '!I445","v":"M"},{"$f":"'shaladarpan '!J445","v":"2006-07-16"},{"$f":"'shaladarpan '!K445","v":"no"},{"$f":"'shaladarpan '!L445","v":444},{"$f":"'shaladarpan '!M445","v":0},{"$f":"'shaladarpan '!N445","v":0},{"$f":"'shaladarpan '!O445","v":"OBC"},{"$f":"'shaladarpan '!P445","v":"Muslim"},{"$f":"'shaladarpan '!Q445","v":0},{"$f":"'shaladarpan '!R445","v":"GOVT. SENIOR SECONDARY SCHOOL ALNIYAWAS (219445)"},{"$f":"'shaladarpan '!S445","v":8140200308},{"$f":"'shaladarpan '!T445","v":"XXXX7668"},{"$f":"'shaladarpan '!U445","v":0},{"$f":"'shaladarpan '!V445","v":9828121140},{"$f":"'shaladarpan '!W445","v":"alniyawas444"},{"$f":"'shaladarpan '!X445","v":0},{"$f":"'shaladarpan '!Y445","v":"N"},{"$f":"'shaladarpan '!Z445","v":"N"},{"$f":"'shaladarpan '!AA445","v":"Yes"},{"$f":"'shaladarpan '!AB445","v":14},{"$f":"'shaladarpan '!AC445","v":"None"},{"$f":"'shaladarpan '!AD445","v":1}]
[{"$f":"IF(F447=\" \",\" \",ROWS($A$3:A447))","v":445},{"$f":"'shaladarpan '!A446","v":10},{"$f":"'shaladarpan '!B446","v":"A"},{"$f":"'shaladarpan '!C446","v":4670},{"$f":"'shaladarpan '!D446","v":"2019-07-08"},{"$f":"'shaladarpan '!E446","v":"manjeet445"},{"$f":"'shaladarpan '!F446","v":"00:00:00"},{"$f":"'shaladarpan '!G446","v":"vijay445"},{"$f":"'shaladarpan '!H446","v":"beautiful445"},{"$f":"'shaladarpan '!I446","v":"F"},{"$f":"'shaladarpan '!J446","v":"2006-03-09"},{"$f":"'shaladarpan '!K446","v":"yes"},{"$f":"'shaladarpan '!L446","v":445},{"$f":"'shaladarpan '!M446","v":0},{"$f":"'shaladarpan '!N446","v":0},{"$f":"'shaladarpan '!O446","v":"OBC"},{"$f":"'shaladarpan '!P446","v":"Hindu"},{"$f":"'shaladarpan '!Q446","v":0},{"$f":"'shaladarpan '!R446","v":"GOVT. SENIOR SECONDARY SCHOOL ALNIYAWAS (219445)"},{"$f":"'shaladarpan '!S446","v":8140200308},{"$f":"'shaladarpan '!T446","v":"XXXX4413"},{"$f":"'shaladarpan '!U446","v":"vpkcjkr"},{"$f":"'shaladarpan '!V446","v":9828121141},{"$f":"'shaladarpan '!W446","v":"alniyawas445"},{"$f":"'shaladarpan '!X446","v":80000},{"$f":"'shaladarpan '!Y446","v":"N"},{"$f":"'shaladarpan '!Z446","v":"N"},{"$f":"'shaladarpan '!AA446","v":"No"},{"$f":"'shaladarpan '!AB446","v":14},{"$f":"'shaladarpan '!AC446","v":"None"},{"$f":"'shaladarpan '!AD446","v":1}]
[{"$f":"IF(F448=\" \",\" \",ROWS($A$3:A448))","v":446},{"$f":"'shaladarpan '!A447","v":10},{"$f":"'shaladarpan '!B447","v":"A"},{"$f":"'shaladarpan '!C447","v":4679},{"$f":"'shaladarpan '!D447","v":"2019-07-09"},{"$f":"'shaladarpan '!E447","v":"manjeet446"},{"$f":"'shaladarpan '!F447","v":"00:00:00"},{"$f":"'shaladarpan '!G447","v":"vijay446"},{"$f":"'shaladarpan '!H447","v":"beautiful446"},{"$f":"'shaladarpan '!I447","v":"F"},{"$f":"'shaladarpan '!J447","v":"2004-08-04"},{"$f":"'shaladarpan '!K447","v":"yes"},{"$f":"'shaladarpan '!L447","v":446},{"$f":"'shaladarpan '!M447","v":0},{"$f":"'shaladarpan '!N447","v":0},{"$f":"'shaladarpan '!O447","v":"SC"},{"$f":"'shaladarpan '!P447","v":"Hindu"},{"$f":"'shaladarpan '!Q447","v":0},{"$f":"'shaladarpan '!R447","v":"GOVT. SENIOR SECONDARY SCHOOL ALNIYAWAS (219445)"},{"$f":"'shaladarpan '!S447","v":8140200308},{"$f":"'shaladarpan '!T447","v":"XXXX5291"},{"$f":"'shaladarpan '!U447","v":"YUYKFBK"},{"$f":"'shaladarpan '!V447","v":9828121142},{"$f":"'shaladarpan '!W447","v":"alniyawas446"},{"$f":"'shaladarpan '!X447","v":60000},{"$f":"'shaladarpan '!Y447","v":"N"},{"$f":"'shaladarpan '!Z447","v":"N"},{"$f":"'shaladarpan '!AA447","v":"No"},{"$f":"'shaladarpan '!AB447","v":16},{"$f":"'shaladarpan '!AC447","v":"None"},{"$f":"'shaladarpan '!AD447","v":0}]
[{"$f":"IF(F449=\" \",\" \",ROWS($A$3:A449))","v":447},{"$f":"'shaladarpan '!A448","v":10},{"$f":"'shaladarpan '!B448","v":"A"},{"$f":"'shaladarpan '!C448","v":4570},{"$f":"'shaladarpan '!D448","v":"2018-07-14"},{"$f":"'shaladarpan '!E448","v":"manjeet447"},{"$f":"'shaladarpan '!F448","v":"00:00:00"},{"$f":"'shaladarpan '!G448","v":"vijay447"},{"$f":"'shaladarpan '!H448","v":"beautiful447"},{"$f":"'shaladarpan '!I448","v":"F"},{"$f":"'shaladarpan '!J448","v":"2005-08-21"},{"$f":"'shaladarpan '!K448","v":"no"},{"$f":"'shaladarpan '!L448","v":447},{"$f":"'shaladarpan '!M448","v":0},{"$f":"'shaladarpan '!N448","v":0},{"$f":"'shaladarpan '!O448","v":"SBC"},{"$f":"'shaladarpan '!P448","v":"Hindu"},{"$f":"'shaladarpan '!Q448","v":0},{"$f":"'shaladarpan '!R448","v":"GOVT. SENIOR SECONDARY SCHOOL ALNIYAWAS (219445)"},{"$f":"'shaladarpan '!S448","v":8140200308},{"$f":"'shaladarpan '!T448","v":"XXXX5348"},{"$f":"'shaladarpan '!U448","v":"YQKFWMF"},{"$f":"'shaladarpan '!V448","v":9828121143},{"$f":"'shaladarpan '!W448","v":"alniyawas447"},{"$f":"'shaladarpan '!X448","v":45000},{"$f":"'shaladarpan '!Y448","v":"N"},{"$f":"'shaladarpan '!Z448","v":"N"},{"$f":"'shaladarpan '!AA448","v":"No"},{"$f":"'shaladarpan '!AB448","v":15},{"$f":"'shaladarpan '!AC448","v":"None"},{"$f":"'shaladarpan '!AD448","v":1}]
[{"$f":"IF(F450=\" \",\" \",ROWS($A$3:A450))","v":448},{"$f":"'shaladarpan '!A449","v":10},{"$f":"'shaladarpan '!B449","v":"A"},{"$f":"'shaladarpan '!C449","v":3789},{"$f":"'shaladarpan '!D449","v":"2015-05-11"},{"$f":"'shaladarpan '!E449","v":"manjeet448"},{"$f":"'shaladarpan '!F449","v":"00:00:00"},{"$f":"'shaladarpan '!G449","v":"vijay448"},{"$f":"'shaladarpan '!H449","v":"beautiful448"},{"$f":"'shaladarpan '!I449","v":"F"},{"$f":"'shaladarpan '!J449","v":"2005-07-05"},{"$f":"'shaladarpan '!K449","v":"yes"},{"$f":"'shaladarpan '!L449","v":448},{"$f":"'shaladarpan '!M449","v":0},{"$f":"'shaladarpan '!N449","v":0},{"$f":"'shaladarpan '!O449","v":"SC"},{"$f":"'shaladarpan '!P449","v":"Hindu"},{"$f":"'shaladarpan '!Q449","v":0},{"$f":"'shaladarpan '!R449","v":"GOVT. SENIOR SECONDARY SCHOOL ALNIYAWAS (219445)"},{"$f":"'shaladarpan '!S449","v":8140200308},{"$f":"'shaladarpan '!T449","v":"XXXX8244"},{"$f":"'shaladarpan '!U449","v":0},{"$f":"'shaladarpan '!V449","v":9828121144},{"$f":"'shaladarpan '!W449","v":"alniyawas448"},{"$f":"'shaladarpan '!X449","v":0},{"$f":"'shaladarpan '!Y449","v":"N"},{"$f":"'shaladarpan '!Z449","v":"N"},{"$f":"'shaladarpan '!AA449","v":"No"},{"$f":"'shaladarpan '!AB449","v":15},{"$f":"'shaladarpan '!AC449","v":"None"},{"$f":"'shaladarpan '!AD449","v":1}]
[{"$f":"IF(F451=\" \",\" \",ROWS($A$3:A451))","v":449},{"$f":"'shaladarpan '!A450","v":10},{"$f":"'shaladarpan '!B450","v":"A"},{"$f":"'shaladarpan '!C450","v":4656},{"$f":"'shaladarpan '!D450","v":"2019-07-05"},{"$f":"'shaladarpan '!E450","v":"manjeet449"},{"$f":"'shaladarpan '!F450","v":"00:00:00"},{"$f":"'shaladarpan '!G450","v":"vijay449"},{"$f":"'shaladarpan '!H450","v":"beautiful449"},{"$f":"'shaladarpan '!I450","v":"F"},{"$f":"'shaladarpan '!J450","v":"2006-02-25"},{"$f":"'shaladarpan '!K450","v":"yes"},{"$f":"'shaladarpan '!L450","v":449},{"$f":"'shaladarpan '!M450","v":0},{"$f":"'shaladarpan '!N450","v":0},{"$f":"'shaladarpan '!O450","v":"OBC"},{"$f":"'shaladarpan '!P450","v":"Hindu"},{"$f":"'shaladarpan '!Q450","v":0},{"$f":"'shaladarpan '!R450","v":"GOVT. SENIOR SECONDARY SCHOOL ALNIYAWAS (219445)"},{"$f":"'shaladarpan '!S450","v":8140200308},{"$f":"'shaladarpan '!T450","v":"XXXX6742"},{"$f":"'shaladarpan '!U450","v":"vtzozpr"},{"$f":"'shaladarpan '!V450","v":9828121145},{"$f":"'shaladarpan '!W450","v":"alniyawas449"},{"$f":"'shaladarpan '!X450","v":40000},{"$f":"'shaladarpan '!Y450","v":"N"},{"$f":"'shaladarpan '!Z450","v":"N"},{"$f":"'shaladarpan '!AA450","v":"No"},{"$f":"'shaladarpan '!AB450","v":14},{"$f":"'shaladarpan '!AC450","v":"None"},{"$f":"'shaladarpan '!AD450","v":0}]
[{"$f":"IF(F452=\" \",\" \",ROWS($A$3:A452))","v":450},{"$f":"'shaladarpan '!A451","v":10},{"$f":"'shaladarpan '!B451","v":"A"},{"$f":"'shaladarpan '!C451","v":3813},{"$f":"'shaladarpan '!D451","v":"2015-05-11"},{"$f":"'shaladarpan '!E451","v":"manjeet450"},{"$f":"'shaladarpan '!F451","v":"00:00:00"},{"$f":"'shaladarpan '!G451","v":"vijay450"},{"$f":"'shaladarpan '!H451","v":"beautiful450"},{"$f":"'shaladarpan '!I451","v":"F"},{"$f":"'shaladarpan '!J451","v":"2004-01-13"},{"$f":"'shaladarpan '!K451","v":"no"},{"$f":"'shaladarpan '!L451","v":450},{"$f":"'shaladarpan '!M451","v":0},{"$f":"'shaladarpan '!N451","v":0},{"$f":"'shaladarpan '!O451","v":"SBC"},{"$f":"'shaladarpan '!P451","v":"Hindu"},{"$f":"'shaladarpan '!Q451","v":0},{"$f":"'shaladarpan '!R451","v":"GOVT. SENIOR SECONDARY SCHOOL ALNIYAWAS (219445)"},{"$f":"'shaladarpan '!S451","v":8140200308},{"$f":"'shaladarpan '!T451","v":"XXXX4243"},{"$f":"'shaladarpan '!U451","v":0},{"$f":"'shaladarpan '!V451","v":9828121146},{"$f":"'shaladarpan '!W451","v":"alniyawas450"},{"$f":"'shaladarpan '!X451","v":0},{"$f":"'shaladarpan '!Y451","v":"N"},{"$f":"'shaladarpan '!Z451","v":"N"},{"$f":"'shaladarpan '!AA451","v":"No"},{"$f":"'shaladarpan '!AB451","v":16},{"$f":"'shaladarpan '!AC451","v":"None"},{"$f":"'shaladarpan '!AD451","v":1}]
[{"$f":"IF(F453=\" \",\" \",ROWS($A$3:A453))","v":451},{"$f":"'shaladarpan '!A452","v":10},{"$f":"'shaladarpan '!B452","v":"A"},{"$f":"'shaladarpan '!C452","v":4647},{"$f":"'shaladarpan '!D452","v":"2019-07-04"},{"$f":"'shaladarpan '!E452","v":"manjeet451"},{"$f":"'shaladarpan '!F452","v":"00:00:00"},{"$f":"'shaladarpan '!G452","v":"vijay451"},{"$f":"'shaladarpan '!H452","v":"beautiful451"},{"$f":"'shaladarpan '!I452","v":"M"},{"$f":"'shaladarpan '!J452","v":"2005-07-14"},{"$f":"'shaladarpan '!K452","v":"yes"},{"$f":"'shaladarpan '!L452","v":451},{"$f":"'shaladarpan '!M452","v":0},{"$f":"'shaladarpan '!N452","v":0},{"$f":"'shaladarpan '!O452","v":"OBC"},{"$f":"'shaladarpan '!P452","v":"Hindu"},{"$f":"'shaladarpan '!Q452","v":0},{"$f":"'shaladarpan '!R452","v":"GOVT. SENIOR SECONDARY SCHOOL ALNIYAWAS (219445)"},{"$f":"'shaladarpan '!S452","v":8140200308},{"$f":"'shaladarpan '!T452","v":"XXXX5085"},{"$f":"'shaladarpan '!U452","v":"yqkauew"},{"$f":"'shaladarpan '!V452","v":9828121147},{"$f":"'shaladarpan '!W452","v":"alniyawas451"},{"$f":"'shaladarpan '!X452","v":80000},{"$f":"'shaladarpan '!Y452","v":"N"},{"$f":"'shaladarpan '!Z452","v":"N"},{"$f":"'shaladarpan '!AA452","v":"No"},{"$f":"'shaladarpan '!AB452","v":15},{"$f":"'shaladarpan '!AC452","v":"None"},{"$f":"'shaladarpan '!AD452","v":1}]
[{"$f":"IF(F454=\" \",\" \",ROWS($A$3:A454))","v":452},{"$f":"'shaladarpan '!A453","v":10},{"$f":"'shaladarpan '!B453","v":"A"},{"$f":"'shaladarpan '!C453","v":4708},{"$f":"'shaladarpan '!D453","v":"2019-07-10"},{"$f":"'shaladarpan '!E453","v":"manjeet452"},{"$f":"'shaladarpan '!F453","v":"00:00:00"},{"$f":"'shaladarpan '!G453","v":"vijay452"},{"$f":"'shaladarpan '!H453","v":"beautiful452"},{"$f":"'shaladarpan '!I453","v":"F"},{"$f":"'shaladarpan '!J453","v":"2005-04-02"},{"$f":"'shaladarpan '!K453","v":"yes"},{"$f":"'shaladarpan '!L453","v":452},{"$f":"'shaladarpan '!M453","v":0},{"$f":"'shaladarpan '!N453","v":0},{"$f":"'shaladarpan '!O453","v":"SBC"},{"$f":"'shaladarpan '!P453","v":"Hindu"},{"$f":"'shaladarpan '!Q453","v":0},{"$f":"'shaladarpan '!R453","v":"GOVT. SENIOR SECONDARY SCHOOL ALNIYAWAS (219445)"},{"$f":"'shaladarpan '!S453","v":8140200308},{"$f":"'shaladarpan '!T453","v":"XXXX7069"},{"$f":"'shaladarpan '!U453","v":"vorphkn"},{"$f":"'shaladarpan '!V453","v":9828121148},{"$f":"'shaladarpan '!W453","v":"alniyawas452"},{"$f":"'shaladarpan '!X453","v":80000},{"$f":"'shaladarpan '!Y453","v":"N"},{"$f":"'shaladarpan '!Z453","v":"N"},{"$f":"'shaladarpan '!AA453","v":"No"},{"$f":"'shaladarpan '!AB453","v":15},{"$f":"'shaladarpan '!AC453","v":"None"},{"$f":"'shaladarpan '!AD453","v":5}]
[{"$f":"IF(F455=\" \",\" \",ROWS($A$3:A455))","v":453},{"$f":"'shaladarpan '!A454","v":10},{"$f":"'shaladarpan '!B454","v":"A"},{"$f":"'shaladarpan '!C454","v":3792},{"$f":"'shaladarpan '!D454","v":"2015-05-11"},{"$f":"'shaladarpan '!E454","v":"manjeet453"},{"$f":"'shaladarpan '!F454","v":"00:00:00"},{"$f":"'shaladarpan '!G454","v":"vijay453"},{"$f":"'shaladarpan '!H454","v":"beautiful453"},{"$f":"'shaladarpan '!I454","v":"F"},{"$f":"'shaladarpan '!J454","v":"2005-05-05"},{"$f":"'shaladarpan '!K454","v":"no"},{"$f":"'shaladarpan '!L454","v":453},{"$f":"'shaladarpan '!M454","v":0},{"$f":"'shaladarpan '!N454","v":0},{"$f":"'shaladarpan '!O454","v":"OBC"},{"$f":"'shaladarpan '!P454","v":"Hindu"},{"$f":"'shaladarpan '!Q454","v":0},{"$f":"'shaladarpan '!R454","v":"GOVT. SENIOR SECONDARY SCHOOL ALNIYAWAS (219445)"},{"$f":"'shaladarpan '!S454","v":8140200308},{"$f":"'shaladarpan '!T454","v":"XXXX6323"},{"$f":"'shaladarpan '!U454","v":0},{"$f":"'shaladarpan '!V454","v":9828121149},{"$f":"'shaladarpan '!W454","v":"alniyawas453"},{"$f":"'shaladarpan '!X454","v":60000},{"$f":"'shaladarpan '!Y454","v":"N"},{"$f":"'shaladarpan '!Z454","v":"N"},{"$f":"'shaladarpan '!AA454","v":"No"},{"$f":"'shaladarpan '!AB454","v":15},{"$f":"'shaladarpan '!AC454","v":"None"},{"$f":"'shaladarpan '!AD454","v":1}]
[{"$f":"IF(F456=\" \",\" \",ROWS($A$3:A456))","v":454},{"$f":"'shaladarpan '!A455","v":10},{"$f":"'shaladarpan '!B455","v":"A"},{"$f":"'shaladarpan '!C455","v":3795},{"$f":"'shaladarpan '!D455","v":"2015-05-11"},{"$f":"'shaladarpan '!E455","v":"manjeet454"},{"$f":"'shaladarpan '!F455","v":"00:00:00"},{"$f":"'shaladarpan '!G455","v":"vijay454"},{"$f":"'shaladarpan '!H455","v":"beautiful454"},{"$f":"'shaladarpan '!I455","v":"M"},{"$f":"'shaladarpan '!J455","v":"2005-05-10"},{"$f":"'shaladarpan '!K455","v":"yes"},{"$f":"'shaladarpan '!L455","v":454},{"$f":"'shaladarpan '!M455","v":0},{"$f":"'shaladarpan '!N455","v":0},{"$f":"'shaladarpan '!O455","v":"OBC"},{"$f":"'shaladarpan '!P455","v":"Muslim"},{"$f":"'shaladarpan '!Q455","v":0},{"$f":"'shaladarpan '!R455","v":"GOVT. SENIOR SECONDARY SCHOOL ALNIYAWAS (219445)"},{"$f":"'shaladarpan '!S455","v":8140200308},{"$f":"'shaladarpan '!T455","v":"XXXX8772"},{"$f":"'shaladarpan '!U455","v":0},{"$f":"'shaladarpan '!V455","v":9828121150},{"$f":"'shaladarpan '!W455","v":"alniyawas454"},{"$f":"'shaladarpan '!X455","v":0},{"$f":"'shaladarpan '!Y455","v":"N"},{"$f":"'shaladarpan '!Z455","v":"N"},{"$f":"'shaladarpan '!AA455","v":"Yes"},{"$f":"'shaladarpan '!AB455","v":15},{"$f":"'shaladarpan '!AC455","v":"None"},{"$f":"'shaladarpan '!AD455","v":1}]
[{"$f":"IF(F457=\" \",\" \",ROWS($A$3:A457))","v":455},{"$f":"'shaladarpan '!A456","v":10},{"$f":"'shaladarpan '!B456","v":"A"},{"$f":"'shaladarpan '!C456","v":3805},{"$f":"'shaladarpan '!D456","v":"2015-05-11"},{"$f":"'shaladarpan '!E456","v":"manjeet455"},{"$f":"'shaladarpan '!F456","v":"00:00:00"},{"$f":"'shaladarpan '!G456","v":"vijay455"},{"$f":"'shaladarpan '!H456","v":"beautiful455"},{"$f":"'shaladarpan '!I456","v":"M"},{"$f":"'shaladarpan '!J456","v":"2006-07-15"},{"$f":"'shaladarpan '!K456","v":"yes"},{"$f":"'shaladarpan '!L456","v":455},{"$f":"'shaladarpan '!M456","v":0},{"$f":"'shaladarpan '!N456","v":0},{"$f":"'shaladarpan '!O456","v":"OBC"},{"$f":"'shaladarpan '!P456","v":"Muslim"},{"$f":"'shaladarpan '!Q456","v":0},{"$f":"'shaladarpan '!R456","v":"GOVT. SENIOR SECONDARY SCHOOL ALNIYAWAS (219445)"},{"$f":"'shaladarpan '!S456","v":8140200308},{"$f":"'shaladarpan '!T456","v":"XXXX8698"},{"$f":"'shaladarpan '!U456","v":0},{"$f":"'shaladarpan '!V456","v":9828121151},{"$f":"'shaladarpan '!W456","v":"alniyawas455"},{"$f":"'shaladarpan '!X456","v":0},{"$f":"'shaladarpan '!Y456","v":"N"},{"$f":"'shaladarpan '!Z456","v":"N"},{"$f":"'shaladarpan '!AA456","v":"Yes"},{"$f":"'shaladarpan '!AB456","v":14},{"$f":"'shaladarpan '!AC456","v":"None"},{"$f":"'shaladarpan '!AD456","v":1}]
[{"$f":"IF(F458=\" \",\" \",ROWS($A$3:A458))","v":456},{"$f":"'shaladarpan '!A457","v":10},{"$f":"'shaladarpan '!B457","v":"A"},{"$f":"'shaladarpan '!C457","v":3802},{"$f":"'shaladarpan '!D457","v":"2015-05-11"},{"$f":"'shaladarpan '!E457","v":"manjeet456"},{"$f":"'shaladarpan '!F457","v":"00:00:00"},{"$f":"'shaladarpan '!G457","v":"vijay456"},{"$f":"'shaladarpan '!H457","v":"beautiful456"},{"$f":"'shaladarpan '!I457","v":"M"},{"$f":"'shaladarpan '!J457","v":"2005-01-01"},{"$f":"'shaladarpan '!K457","v":"no"},{"$f":"'shaladarpan '!L457","v":456},{"$f":"'shaladarpan '!M457","v":0},{"$f":"'shaladarpan '!N457","v":0},{"$f":"'shaladarpan '!O457","v":"OBC"},{"$f":"'shaladarpan '!P457","v":"Muslim"},{"$f":"'shaladarpan '!Q457","v":0},{"$f":"'shaladarpan '!R457","v":"GOVT. SENIOR SECONDARY SCHOOL ALNIYAWAS (219445)"},{"$f":"'shaladarpan '!S457","v":8140200308},{"$f":"'shaladarpan '!T457","v":"XXXX8587"},{"$f":"'shaladarpan '!U457","v":0},{"$f":"'shaladarpan '!V457","v":9828121152},{"$f":"'shaladarpan '!W457","v":"alniyawas456"},{"$f":"'shaladarpan '!X457","v":100000},{"$f":"'shaladarpan '!Y457","v":"N"},{"$f":"'shaladarpan '!Z457","v":"N"},{"$f":"'shaladarpan '!AA457","v":"Yes"},{"$f":"'shaladarpan '!AB457","v":15},{"$f":"'shaladarpan '!AC457","v":"None"},{"$f":"'shaladarpan '!AD457","v":1}]
[{"$f":"IF(F459=\" \",\" \",ROWS($A$3:A459))","v":457},{"$f":"'shaladarpan '!A458","v":10},{"$f":"'shaladarpan '!B458","v":"A"},{"$f":"'shaladarpan '!C458","v":4706},{"$f":"'shaladarpan '!D458","v":"2019-07-10"},{"$f":"'shaladarpan '!E458","v":"manjeet457"},{"$f":"'shaladarpan '!F458","v":"00:00:00"},{"$f":"'shaladarpan '!G458","v":"vijay457"},{"$f":"'shaladarpan '!H458","v":"beautiful457"},{"$f":"'shaladarpan '!I458","v":"M"},{"$f":"'shaladarpan '!J458","v":"2006-07-28"},{"$f":"'shaladarpan '!K458","v":"yes"},{"$f":"'shaladarpan '!L458","v":457},{"$f":"'shaladarpan '!M458","v":0},{"$f":"'shaladarpan '!N458","v":0},{"$f":"'shaladarpan '!O458","v":"OBC"},{"$f":"'shaladarpan '!P458","v":"Hindu"},{"$f":"'shaladarpan '!Q458","v":0},{"$f":"'shaladarpan '!R458","v":"GOVT. SENIOR SECONDARY SCHOOL ALNIYAWAS (219445)"},{"$f":"'shaladarpan '!S458","v":8140200308},{"$f":"'shaladarpan '!T458","v":"XXXX7258"},{"$f":"'shaladarpan '!U458","v":"wdyeceg"},{"$f":"'shaladarpan '!V458","v":9828121153},{"$f":"'shaladarpan '!W458","v":"alniyawas457"},{"$f":"'shaladarpan '!X458","v":60000},{"$f":"'shaladarpan '!Y458","v":"N"},{"$f":"'shaladarpan '!Z458","v":"N"},{"$f":"'shaladarpan '!AA458","v":"No"},{"$f":"'shaladarpan '!AB458","v":14},{"$f":"'shaladarpan '!AC458","v":"None"},{"$f":"'shaladarpan '!AD458","v":1}]
[{"$f":"IF(F460=\" \",\" \",ROWS($A$3:A460))","v":458},{"$f":"'shaladarpan '!A459","v":10},{"$f":"'shaladarpan '!B459","v":"A"},{"$f":"'shaladarpan '!C459","v":4730},{"$f":"'shaladarpan '!D459","v":"2011-07-08"},{"$f":"'shaladarpan '!E459","v":"manjeet458"},{"$f":"'shaladarpan '!F459","v":"00:00:00"},{"$f":"'shaladarpan '!G459","v":"vijay458"},{"$f":"'shaladarpan '!H459","v":"beautiful458"},{"$f":"'shaladarpan '!I459","v":"M"},{"$f":"'shaladarpan '!J459","v":"2005-10-10"},{"$f":"'shaladarpan '!K459","v":"yes"},{"$f":"'shaladarpan '!L459","v":458},{"$f":"'shaladarpan '!M459","v":0},{"$f":"'shaladarpan '!N459","v":0},{"$f":"'shaladarpan '!O459","v":"OBC"},{"$f":"'shaladarpan '!P459","v":"Muslim"},{"$f":"'shaladarpan '!Q459","v":0},{"$f":"'shaladarpan '!R459","v":"GOVT. SENIOR SECONDARY SCHOOL ALNIYAWAS (219445)"},{"$f":"'shaladarpan '!S459","v":8140200308},{"$f":"'shaladarpan '!T459","v":"XXXX2051"},{"$f":"'shaladarpan '!U459","v":0},{"$f":"'shaladarpan '!V459","v":9828121154},{"$f":"'shaladarpan '!W459","v":"alniyawas458"},{"$f":"'shaladarpan '!X459","v":60000},{"$f":"'shaladarpan '!Y459","v":"N"},{"$f":"'shaladarpan '!Z459","v":"N"},{"$f":"'shaladarpan '!AA459","v":"Yes"},{"$f":"'shaladarpan '!AB459","v":15},{"$f":"'shaladarpan '!AC459","v":"None"},{"$f":"'shaladarpan '!AD459","v":0}]
[{"$f":"IF(F461=\" \",\" \",ROWS($A$3:A461))","v":459},{"$f":"'shaladarpan '!A460","v":10},{"$f":"'shaladarpan '!B460","v":"A"},{"$f":"'shaladarpan '!C460","v":4229},{"$f":"'shaladarpan '!D460","v":"2016-07-20"},{"$f":"'shaladarpan '!E460","v":"manjeet459"},{"$f":"'shaladarpan '!F460","v":"00:00:00"},{"$f":"'shaladarpan '!G460","v":"vijay459"},{"$f":"'shaladarpan '!H460","v":"beautiful459"},{"$f":"'shaladarpan '!I460","v":"M"},{"$f":"'shaladarpan '!J460","v":"2006-10-08"},{"$f":"'shaladarpan '!K460","v":"no"},{"$f":"'shaladarpan '!L460","v":459},{"$f":"'shaladarpan '!M460","v":0},{"$f":"'shaladarpan '!N460","v":0},{"$f":"'shaladarpan '!O460","v":"OBC"},{"$f":"'shaladarpan '!P460","v":"Hindu"},{"$f":"'shaladarpan '!Q460","v":0},{"$f":"'shaladarpan '!R460","v":"GOVT. SENIOR SECONDARY SCHOOL ALNIYAWAS (219445)"},{"$f":"'shaladarpan '!S460","v":8140200308},{"$f":"'shaladarpan '!T460","v":"XXXX2854"},{"$f":"'shaladarpan '!U460","v":0},{"$f":"'shaladarpan '!V460","v":9828121155},{"$f":"'shaladarpan '!W460","v":"alniyawas459"},{"$f":"'shaladarpan '!X460","v":0},{"$f":"'shaladarpan '!Y460","v":"N"},{"$f":"'shaladarpan '!Z460","v":"N"},{"$f":"'shaladarpan '!AA460","v":"No"},{"$f":"'shaladarpan '!AB460","v":14},{"$f":"'shaladarpan '!AC460","v":"None"},{"$f":"'shaladarpan '!AD460","v":1}]
[{"$f":"IF(F462=\" \",\" \",ROWS($A$3:A462))","v":460},{"$f":"'shaladarpan '!A461","v":10},{"$f":"'shaladarpan '!B461","v":"A"},{"$f":"'shaladarpan '!C461","v":4688},{"$f":"'shaladarpan '!D461","v":"2013-07-04"},{"$f":"'shaladarpan '!E461","v":"manjeet460"},{"$f":"'shaladarpan '!F461","v":"00:00:00"},{"$f":"'shaladarpan '!G461","v":"vijay460"},{"$f":"'shaladarpan '!H461","v":"beautiful460"},{"$f":"'shaladarpan '!I461","v":"M"},{"$f":"'shaladarpan '!J461","v":"2005-09-04"},{"$f":"'shaladarpan '!K461","v":"yes"},{"$f":"'shaladarpan '!L461","v":460},{"$f":"'shaladarpan '!M461","v":0},{"$f":"'shaladarpan '!N461","v":0},{"$f":"'shaladarpan '!O461","v":"OBC"},{"$f":"'shaladarpan '!P461","v":"Hindu"},{"$f":"'shaladarpan '!Q461","v":0},{"$f":"'shaladarpan '!R461","v":"GOVT. SENIOR SECONDARY SCHOOL ALNIYAWAS (219445)"},{"$f":"'shaladarpan '!S461","v":8140200308},{"$f":"'shaladarpan '!T461","v":"XXXX2398"},{"$f":"'shaladarpan '!U461","v":"WXVJHNH"},{"$f":"'shaladarpan '!V461","v":9828121156},{"$f":"'shaladarpan '!W461","v":"alniyawas460"},{"$f":"'shaladarpan '!X461","v":65000},{"$f":"'shaladarpan '!Y461","v":"N"},{"$f":"'shaladarpan '!Z461","v":"N"},{"$f":"'shaladarpan '!AA461","v":"No"},{"$f":"'shaladarpan '!AB461","v":15},{"$f":"'shaladarpan '!AC461","v":"None"},{"$f":"'shaladarpan '!AD461","v":2}]
[{"$f":"IF(F463=\" \",\" \",ROWS($A$3:A463))","v":461},{"$f":"'shaladarpan '!A462","v":10},{"$f":"'shaladarpan '!B462","v":"A"},{"$f":"'shaladarpan '!C462","v":4306},{"$f":"'shaladarpan '!D462","v":"2017-07-01"},{"$f":"'shaladarpan '!E462","v":"manjeet461"},{"$f":"'shaladarpan '!F462","v":"00:00:00"},{"$f":"'shaladarpan '!G462","v":"vijay461"},{"$f":"'shaladarpan '!H462","v":"beautiful461"},{"$f":"'shaladarpan '!I462","v":"M"},{"$f":"'shaladarpan '!J462","v":"2005-05-03"},{"$f":"'shaladarpan '!K462","v":"yes"},{"$f":"'shaladarpan '!L462","v":461},{"$f":"'shaladarpan '!M462","v":0},{"$f":"'shaladarpan '!N462","v":0},{"$f":"'shaladarpan '!O462","v":"OBC"},{"$f":"'shaladarpan '!P462","v":"Hindu"},{"$f":"'shaladarpan '!Q462","v":0},{"$f":"'shaladarpan '!R462","v":"GOVT. SENIOR SECONDARY SCHOOL ALNIYAWAS (219445)"},{"$f":"'shaladarpan '!S462","v":8140200308},{"$f":"'shaladarpan '!T462","v":"XXXX5513"},{"$f":"'shaladarpan '!U462","v":0},{"$f":"'shaladarpan '!V462","v":9828121157},{"$f":"'shaladarpan '!W462","v":"alniyawas461"},{"$f":"'shaladarpan '!X462","v":0},{"$f":"'shaladarpan '!Y462","v":"N"},{"$f":"'shaladarpan '!Z462","v":"N"},{"$f":"'shaladarpan '!AA462","v":"No"},{"$f":"'shaladarpan '!AB462","v":15},{"$f":"'shaladarpan '!AC462","v":"None"},{"$f":"'shaladarpan '!AD462","v":1}]
[{"$f":"IF(F464=\" \",\" \",ROWS($A$3:A464))","v":462},{"$f":"'shaladarpan '!A463","v":10},{"$f":"'shaladarpan '!B463","v":"A"},{"$f":"'shaladarpan '!C463","v":4020},{"$f":"'shaladarpan '!D463","v":"2015-07-09"},{"$f":"'shaladarpan '!E463","v":"manjeet462"},{"$f":"'shaladarpan '!F463","v":"00:00:00"},{"$f":"'shaladarpan '!G463","v":"vijay462"},{"$f":"'shaladarpan '!H463","v":"beautiful462"},{"$f":"'shaladarpan '!I463","v":"M"},{"$f":"'shaladarpan '!J463","v":"2005-07-07"},{"$f":"'shaladarpan '!K463","v":"no"},{"$f":"'shaladarpan '!L463","v":462},{"$f":"'shaladarpan '!M463","v":0},{"$f":"'shaladarpan '!N463","v":0},{"$f":"'shaladarpan '!O463","v":"OBC"},{"$f":"'shaladarpan '!P463","v":"Hindu"},{"$f":"'shaladarpan '!Q463","v":0},{"$f":"'shaladarpan '!R463","v":"GOVT. SENIOR SECONDARY SCHOOL ALNIYAWAS (219445)"},{"$f":"'shaladarpan '!S463","v":8140200308},{"$f":"'shaladarpan '!T463","v":"XXXX3929"},{"$f":"'shaladarpan '!U463","v":"WXVJCGN"},{"$f":"'shaladarpan '!V463","v":9828121158},{"$f":"'shaladarpan '!W463","v":"alniyawas462"},{"$f":"'shaladarpan '!X463","v":60000},{"$f":"'shaladarpan '!Y463","v":"N"},{"$f":"'shaladarpan '!Z463","v":"N"},{"$f":"'shaladarpan '!AA463","v":"No"},{"$f":"'shaladarpan '!AB463","v":15},{"$f":"'shaladarpan '!AC463","v":"None"},{"$f":"'shaladarpan '!AD463","v":1}]
[{"$f":"IF(F465=\" \",\" \",ROWS($A$3:A465))","v":463},{"$f":"'shaladarpan '!A464","v":10},{"$f":"'shaladarpan '!B464","v":"A"},{"$f":"'shaladarpan '!C464","v":4704},{"$f":"'shaladarpan '!D464","v":"2019-07-10"},{"$f":"'shaladarpan '!E464","v":"manjeet463"},{"$f":"'shaladarpan '!F464","v":"00:00:00"},{"$f":"'shaladarpan '!G464","v":"vijay463"},{"$f":"'shaladarpan '!H464","v":"beautiful463"},{"$f":"'shaladarpan '!I464","v":"F"},{"$f":"'shaladarpan '!J464","v":"2005-06-05"},{"$f":"'shaladarpan '!K464","v":"yes"},{"$f":"'shaladarpan '!L464","v":463},{"$f":"'shaladarpan '!M464","v":0},{"$f":"'shaladarpan '!N464","v":0},{"$f":"'shaladarpan '!O464","v":"OBC"},{"$f":"'shaladarpan '!P464","v":"Muslim"},{"$f":"'shaladarpan '!Q464","v":0},{"$f":"'shaladarpan '!R464","v":"GOVT. SENIOR SECONDARY SCHOOL ALNIYAWAS (219445)"},{"$f":"'shaladarpan '!S464","v":8140200308},{"$f":"'shaladarpan '!T464","v":"XXXX2231"},{"$f":"'shaladarpan '!U464","v":"YMWESGS"},{"$f":"'shaladarpan '!V464","v":9828121159},{"$f":"'shaladarpan '!W464","v":"alniyawas463"},{"$f":"'shaladarpan '!X464","v":60000},{"$f":"'shaladarpan '!Y464","v":"N"},{"$f":"'shaladarpan '!Z464","v":"N"},{"$f":"'shaladarpan '!AA464","v":"Yes"},{"$f":"'shaladarpan '!AB464","v":15},{"$f":"'shaladarpan '!AC464","v":"None"},{"$f":"'shaladarpan '!AD464","v":0}]
[{"$f":"IF(F466=\" \",\" \",ROWS($A$3:A466))","v":464},{"$f":"'shaladarpan '!A465","v":10},{"$f":"'shaladarpan '!B465","v":"A"},{"$f":"'shaladarpan '!C465","v":4769},{"$f":"'shaladarpan '!D465","v":"2016-06-25"},{"$f":"'shaladarpan '!E465","v":"manjeet464"},{"$f":"'shaladarpan '!F465","v":"00:00:00"},{"$f":"'shaladarpan '!G465","v":"vijay464"},{"$f":"'shaladarpan '!H465","v":"beautiful464"},{"$f":"'shaladarpan '!I465","v":"F"},{"$f":"'shaladarpan '!J465","v":"2005-09-01"},{"$f":"'shaladarpan '!K465","v":"yes"},{"$f":"'shaladarpan '!L465","v":464},{"$f":"'shaladarpan '!M465","v":0},{"$f":"'shaladarpan '!N465","v":0},{"$f":"'shaladarpan '!O465","v":"SC"},{"$f":"'shaladarpan '!P465","v":0},{"$f":"'shaladarpan '!Q465","v":0},{"$f":"'shaladarpan '!R465","v":"GOVT. SENIOR SECONDARY SCHOOL ALNIYAWAS (219445)"},{"$f":"'shaladarpan '!S465","v":8140200308},{"$f":"'shaladarpan '!T465","v":"XXXX6466"},{"$f":"'shaladarpan '!U465","v":"VOJRTTX"},{"$f":"'shaladarpan '!V465","v":9828121160},{"$f":"'shaladarpan '!W465","v":"alniyawas464"},{"$f":"'shaladarpan '!X465","v":45000},{"$f":"'shaladarpan '!Y465","v":"N"},{"$f":"'shaladarpan '!Z465","v":"N"},{"$f":"'shaladarpan '!AA465","v":0},{"$f":"'shaladarpan '!AB465","v":15},{"$f":"'shaladarpan '!AC465","v":"None"},{"$f":"'shaladarpan '!AD465","v":0}]
[{"$f":"IF(F467=\" \",\" \",ROWS($A$3:A467))","v":465},{"$f":"'shaladarpan '!A466","v":10},{"$f":"'shaladarpan '!B466","v":"A"},{"$f":"'shaladarpan '!C466","v":4741},{"$f":"'shaladarpan '!D466","v":"2019-07-16"},{"$f":"'shaladarpan '!E466","v":"manjeet465"},{"$f":"'shaladarpan '!F466","v":"00:00:00"},{"$f":"'shaladarpan '!G466","v":"vijay465"},{"$f":"'shaladarpan '!H466","v":"beautiful465"},{"$f":"'shaladarpan '!I466","v":"F"},{"$f":"'shaladarpan '!J466","v":"2005-07-15"},{"$f":"'shaladarpan '!K466","v":"no"},{"$f":"'shaladarpan '!L466","v":465},{"$f":"'shaladarpan '!M466","v":0},{"$f":"'shaladarpan '!N466","v":0},{"$f":"'shaladarpan '!O466","v":"OBC"},{"$f":"'shaladarpan '!P466","v":"Hindu"},{"$f":"'shaladarpan '!Q466","v":0},{"$f":"'shaladarpan '!R466","v":"GOVT. SENIOR SECONDARY SCHOOL ALNIYAWAS (219445)"},{"$f":"'shaladarpan '!S466","v":8140200308},{"$f":"'shaladarpan '!T466","v":"XXXX2552"},{"$f":"'shaladarpan '!U466","v":"wxxvktn"},{"$f":"'shaladarpan '!V466","v":9828121161},{"$f":"'shaladarpan '!W466","v":"alniyawas465"},{"$f":"'shaladarpan '!X466","v":60000},{"$f":"'shaladarpan '!Y466","v":"N"},{"$f":"'shaladarpan '!Z466","v":"N"},{"$f":"'shaladarpan '!AA466","v":"No"},{"$f":"'shaladarpan '!AB466","v":15},{"$f":"'shaladarpan '!AC466","v":"None"},{"$f":"'shaladarpan '!AD466","v":0}]
[{"$f":"IF(F468=\" \",\" \",ROWS($A$3:A468))","v":466},{"$f":"'shaladarpan '!A467","v":10},{"$f":"'shaladarpan '!B467","v":"A"},{"$f":"'shaladarpan '!C467","v":4137},{"$f":"'shaladarpan '!D467","v":"2016-07-01"},{"$f":"'shaladarpan '!E467","v":"manjeet466"},{"$f":"'shaladarpan '!F467","v":"00:00:00"},{"$f":"'shaladarpan '!G467","v":"vijay466"},{"$f":"'shaladarpan '!H467","v":"beautiful466"},{"$f":"'shaladarpan '!I467","v":"F"},{"$f":"'shaladarpan '!J467","v":"2004-07-05"},{"$f":"'shaladarpan '!K467","v":"yes"},{"$f":"'shaladarpan '!L467","v":466},{"$f":"'shaladarpan '!M467","v":0},{"$f":"'shaladarpan '!N467","v":0},{"$f":"'shaladarpan '!O467","v":"OBC"},{"$f":"'shaladarpan '!P467","v":"Hindu"},{"$f":"'shaladarpan '!Q467","v":0},{"$f":"'shaladarpan '!R467","v":"GOVT. SENIOR SECONDARY SCHOOL ALNIYAWAS (219445)"},{"$f":"'shaladarpan '!S467","v":8140200308},{"$f":"'shaladarpan '!T467","v":"XXXX4030"},{"$f":"'shaladarpan '!U467","v":0},{"$f":"'shaladarpan '!V467","v":9828121162},{"$f":"'shaladarpan '!W467","v":"alniyawas466"},{"$f":"'shaladarpan '!X467","v":0},{"$f":"'shaladarpan '!Y467","v":"N"},{"$f":"'shaladarpan '!Z467","v":"N"},{"$f":"'shaladarpan '!AA467","v":"No"},{"$f":"'shaladarpan '!AB467","v":16},{"$f":"'shaladarpan '!AC467","v":"None"},{"$f":"'shaladarpan '!AD467","v":1}]
[{"$f":"IF(F469=\" \",\" \",ROWS($A$3:A469))","v":467},{"$f":"'shaladarpan '!A468","v":10},{"$f":"'shaladarpan '!B468","v":"A"},{"$f":"'shaladarpan '!C468","v":4464},{"$f":"'shaladarpan '!D468","v":"2018-07-03"},{"$f":"'shaladarpan '!E468","v":"manjeet467"},{"$f":"'shaladarpan '!F468","v":"00:00:00"},{"$f":"'shaladarpan '!G468","v":"vijay467"},{"$f":"'shaladarpan '!H468","v":"beautiful467"},{"$f":"'shaladarpan '!I468","v":"M"},{"$f":"'shaladarpan '!J468","v":"2005-08-03"},{"$f":"'shaladarpan '!K468","v":"yes"},{"$f":"'shaladarpan '!L468","v":467},{"$f":"'shaladarpan '!M468","v":0},{"$f":"'shaladarpan '!N468","v":0},{"$f":"'shaladarpan '!O468","v":"OBC"},{"$f":"'shaladarpan '!P468","v":"Hindu"},{"$f":"'shaladarpan '!Q468","v":0},{"$f":"'shaladarpan '!R468","v":"GOVT. SENIOR SECONDARY SCHOOL ALNIYAWAS (219445)"},{"$f":"'shaladarpan '!S468","v":8140200308},{"$f":"'shaladarpan '!T468","v":"XXXX0776"},{"$f":"'shaladarpan '!U468","v":"YODQCYG"},{"$f":"'shaladarpan '!V468","v":9828121163},{"$f":"'shaladarpan '!W468","v":"alniyawas467"},{"$f":"'shaladarpan '!X468","v":45000},{"$f":"'shaladarpan '!Y468","v":"N"},{"$f":"'shaladarpan '!Z468","v":"N"},{"$f":"'shaladarpan '!AA468","v":"No"},{"$f":"'shaladarpan '!AB468","v":15},{"$f":"'shaladarpan '!AC468","v":"None"},{"$f":"'shaladarpan '!AD468","v":1}]
[{"$f":"IF(F470=\" \",\" \",ROWS($A$3:A470))","v":468},{"$f":"'shaladarpan '!A469","v":10},{"$f":"'shaladarpan '!B469","v":"A"},{"$f":"'shaladarpan '!C469","v":4165},{"$f":"'shaladarpan '!D469","v":"2016-07-04"},{"$f":"'shaladarpan '!E469","v":"manjeet468"},{"$f":"'shaladarpan '!F469","v":"00:00:00"},{"$f":"'shaladarpan '!G469","v":"vijay468"},{"$f":"'shaladarpan '!H469","v":"beautiful468"},{"$f":"'shaladarpan '!I469","v":"M"},{"$f":"'shaladarpan '!J469","v":"2005-11-14"},{"$f":"'shaladarpan '!K469","v":"no"},{"$f":"'shaladarpan '!L469","v":468},{"$f":"'shaladarpan '!M469","v":0},{"$f":"'shaladarpan '!N469","v":0},{"$f":"'shaladarpan '!O469","v":"SC"},{"$f":"'shaladarpan '!P469","v":"Hindu"},{"$f":"'shaladarpan '!Q469","v":0},{"$f":"'shaladarpan '!R469","v":"GOVT. SENIOR SECONDARY SCHOOL ALNIYAWAS (219445)"},{"$f":"'shaladarpan '!S469","v":8140200308},{"$f":"'shaladarpan '!T469","v":"XXXX6338"},{"$f":"'shaladarpan '!U469","v":"YMQOUFB"},{"$f":"'shaladarpan '!V469","v":9828121164},{"$f":"'shaladarpan '!W469","v":"alniyawas468"},{"$f":"'shaladarpan '!X469","v":36000},{"$f":"'shaladarpan '!Y469","v":"N"},{"$f":"'shaladarpan '!Z469","v":"N"},{"$f":"'shaladarpan '!AA469","v":"No"},{"$f":"'shaladarpan '!AB469","v":15},{"$f":"'shaladarpan '!AC469","v":"None"},{"$f":"'shaladarpan '!AD469","v":1}]
[{"$f":"IF(F471=\" \",\" \",ROWS($A$3:A471))","v":469},{"$f":"'shaladarpan '!A470","v":10},{"$f":"'shaladarpan '!B470","v":"A"},{"$f":"'shaladarpan '!C470","v":4448},{"$f":"'shaladarpan '!D470","v":"2018-07-02"},{"$f":"'shaladarpan '!E470","v":"manjeet469"},{"$f":"'shaladarpan '!F470","v":"00:00:00"},{"$f":"'shaladarpan '!G470","v":"vijay469"},{"$f":"'shaladarpan '!H470","v":"beautiful469"},{"$f":"'shaladarpan '!I470","v":"M"},{"$f":"'shaladarpan '!J470","v":"2003-05-16"},{"$f":"'shaladarpan '!K470","v":"yes"},{"$f":"'shaladarpan '!L470","v":469},{"$f":"'shaladarpan '!M470","v":0},{"$f":"'shaladarpan '!N470","v":0},{"$f":"'shaladarpan '!O470","v":"OBC"},{"$f":"'shaladarpan '!P470","v":"Hindu"},{"$f":"'shaladarpan '!Q470","v":0},{"$f":"'shaladarpan '!R470","v":"GOVT. SENIOR SECONDARY SCHOOL ALNIYAWAS (219445)"},{"$f":"'shaladarpan '!S470","v":8140200308},{"$f":"'shaladarpan '!T470","v":"XXXX6236"},{"$f":"'shaladarpan '!U470","v":0},{"$f":"'shaladarpan '!V470","v":9828121165},{"$f":"'shaladarpan '!W470","v":"alniyawas469"},{"$f":"'shaladarpan '!X470","v":60000},{"$f":"'shaladarpan '!Y470","v":"N"},{"$f":"'shaladarpan '!Z470","v":"N"},{"$f":"'shaladarpan '!AA470","v":"No"},{"$f":"'shaladarpan '!AB470","v":17},{"$f":"'shaladarpan '!AC470","v":"None"},{"$f":"'shaladarpan '!AD470","v":2}]
[{"$f":"IF(F472=\" \",\" \",ROWS($A$3:A472))","v":470},{"$f":"'shaladarpan '!A471","v":10},{"$f":"'shaladarpan '!B471","v":"A"},{"$f":"'shaladarpan '!C471","v":4703},{"$f":"'shaladarpan '!D471","v":"2011-07-07"},{"$f":"'shaladarpan '!E471","v":"manjeet470"},{"$f":"'shaladarpan '!F471","v":"00:00:00"},{"$f":"'shaladarpan '!G471","v":"vijay470"},{"$f":"'shaladarpan '!H471","v":"beautiful470"},{"$f":"'shaladarpan '!I471","v":"F"},{"$f":"'shaladarpan '!J471","v":"2006-10-03"},{"$f":"'shaladarpan '!K471","v":"yes"},{"$f":"'shaladarpan '!L471","v":470},{"$f":"'shaladarpan '!M471","v":0},{"$f":"'shaladarpan '!N471","v":0},{"$f":"'shaladarpan '!O471","v":"OBC"},{"$f":"'shaladarpan '!P471","v":"Hindu"},{"$f":"'shaladarpan '!Q471","v":0},{"$f":"'shaladarpan '!R471","v":"GOVT. SENIOR SECONDARY SCHOOL ALNIYAWAS (219445)"},{"$f":"'shaladarpan '!S471","v":8140200308},{"$f":"'shaladarpan '!T471","v":"XXXX2918"},{"$f":"'shaladarpan '!U471","v":0},{"$f":"'shaladarpan '!V471","v":9828121166},{"$f":"'shaladarpan '!W471","v":"alniyawas470"},{"$f":"'shaladarpan '!X471","v":60000},{"$f":"'shaladarpan '!Y471","v":"N"},{"$f":"'shaladarpan '!Z471","v":"N"},{"$f":"'shaladarpan '!AA471","v":"No"},{"$f":"'shaladarpan '!AB471","v":14},{"$f":"'shaladarpan '!AC471","v":"None"},{"$f":"'shaladarpan '!AD471","v":0.5}]
[{"$f":"IF(F473=\" \",\" \",ROWS($A$3:A473))","v":471},{"$f":"'shaladarpan '!A472","v":10},{"$f":"'shaladarpan '!B472","v":"A"},{"$f":"'shaladarpan '!C472","v":3784},{"$f":"'shaladarpan '!D472","v":"2015-05-11"},{"$f":"'shaladarpan '!E472","v":"manjeet471"},{"$f":"'shaladarpan '!F472","v":"00:00:00"},{"$f":"'shaladarpan '!G472","v":"vijay471"},{"$f":"'shaladarpan '!H472","v":"beautiful471"},{"$f":"'shaladarpan '!I472","v":"M"},{"$f":"'shaladarpan '!J472","v":"2005-02-08"},{"$f":"'shaladarpan '!K472","v":"no"},{"$f":"'shaladarpan '!L472","v":471},{"$f":"'shaladarpan '!M472","v":0},{"$f":"'shaladarpan '!N472","v":0},{"$f":"'shaladarpan '!O472","v":"SC"},{"$f":"'shaladarpan '!P472","v":"Hindu"},{"$f":"'shaladarpan '!Q472","v":0},{"$f":"'shaladarpan '!R472","v":"GOVT. SENIOR SECONDARY SCHOOL ALNIYAWAS (219445)"},{"$f":"'shaladarpan '!S472","v":8140200308},{"$f":"'shaladarpan '!T472","v":"XXXX9979"},{"$f":"'shaladarpan '!U472","v":0},{"$f":"'shaladarpan '!V472","v":9828121167},{"$f":"'shaladarpan '!W472","v":"alniyawas471"},{"$f":"'shaladarpan '!X472","v":0},{"$f":"'shaladarpan '!Y472","v":"N"},{"$f":"'shaladarpan '!Z472","v":"N"},{"$f":"'shaladarpan '!AA472","v":"No"},{"$f":"'shaladarpan '!AB472","v":15},{"$f":"'shaladarpan '!AC472","v":"None"},{"$f":"'shaladarpan '!AD472","v":1}]
[{"$f":"IF(F474=\" \",\" \",ROWS($A$3:A474))","v":472},{"$f":"'shaladarpan '!A473","v":10},{"$f":"'shaladarpan '!B473","v":"A"},{"$f":"'shaladarpan '!C473","v":3743},{"$f":"'shaladarpan '!D473","v":"2015-05-11"},{"$f":"'shaladarpan '!E473","v":"manjeet472"},{"$f":"'shaladarpan '!F473","v":"00:00:00"},{"$f":"'shaladarpan '!G473","v":"vijay472"},{"$f":"'shaladarpan '!H473","v":"beautiful472"},{"$f":"'shaladarpan '!I473","v":"F"},{"$f":"'shaladarpan '!J473","v":"2005-08-14"},{"$f":"'shaladarpan '!K473","v":"yes"},{"$f":"'shaladarpan '!L473","v":472},{"$f":"'shaladarpan '!M473","v":0},{"$f":"'shaladarpan '!N473","v":0},{"$f":"'shaladarpan '!O473","v":"SC"},{"$f":"'shaladarpan '!P473","v":"Hindu"},{"$f":"'shaladarpan '!Q473","v":0},{"$f":"'shaladarpan '!R473","v":"GOVT. SENIOR SECONDARY SCHOOL ALNIYAWAS (219445)"},{"$f":"'shaladarpan '!S473","v":8140200308},{"$f":"'shaladarpan '!T473","v":"XXXX6457"},{"$f":"'shaladarpan '!U473","v":0},{"$f":"'shaladarpan '!V473","v":9828121168},{"$f":"'shaladarpan '!W473","v":"alniyawas472"},{"$f":"'shaladarpan '!X473","v":0},{"$f":"'shaladarpan '!Y473","v":"N"},{"$f":"'shaladarpan '!Z473","v":"N"},{"$f":"'shaladarpan '!AA473","v":"No"},{"$f":"'shaladarpan '!AB473","v":15},{"$f":"'shaladarpan '!AC473","v":"None"},{"$f":"'shaladarpan '!AD473","v":0}]
[{"$f":"IF(F475=\" \",\" \",ROWS($A$3:A475))","v":473},{"$f":"'shaladarpan '!A474","v":10},{"$f":"'shaladarpan '!B474","v":"A"},{"$f":"'shaladarpan '!C474","v":4180},{"$f":"'shaladarpan '!D474","v":"2016-07-08"},{"$f":"'shaladarpan '!E474","v":"manjeet473"},{"$f":"'shaladarpan '!F474","v":"00:00:00"},{"$f":"'shaladarpan '!G474","v":"vijay473"},{"$f":"'shaladarpan '!H474","v":"beautiful473"},{"$f":"'shaladarpan '!I474","v":"M"},{"$f":"'shaladarpan '!J474","v":"2006-07-10"},{"$f":"'shaladarpan '!K474","v":"yes"},{"$f":"'shaladarpan '!L474","v":473},{"$f":"'shaladarpan '!M474","v":0},{"$f":"'shaladarpan '!N474","v":0},{"$f":"'shaladarpan '!O474","v":"OBC"},{"$f":"'shaladarpan '!P474","v":"Hindu"},{"$f":"'shaladarpan '!Q474","v":0},{"$f":"'shaladarpan '!R474","v":"GOVT. SENIOR SECONDARY SCHOOL ALNIYAWAS (219445)"},{"$f":"'shaladarpan '!S474","v":8140200308},{"$f":"'shaladarpan '!T474","v":"XXXX2557"},{"$f":"'shaladarpan '!U474","v":0},{"$f":"'shaladarpan '!V474","v":9828121169},{"$f":"'shaladarpan '!W474","v":"alniyawas473"},{"$f":"'shaladarpan '!X474","v":0},{"$f":"'shaladarpan '!Y474","v":"N"},{"$f":"'shaladarpan '!Z474","v":"N"},{"$f":"'shaladarpan '!AA474","v":"No"},{"$f":"'shaladarpan '!AB474","v":14},{"$f":"'shaladarpan '!AC474","v":"None"},{"$f":"'shaladarpan '!AD474","v":2}]
[{"$f":"IF(F476=\" \",\" \",ROWS($A$3:A476))","v":474},{"$f":"'shaladarpan '!A475","v":10},{"$f":"'shaladarpan '!B475","v":"A"},{"$f":"'shaladarpan '!C475","v":4348},{"$f":"'shaladarpan '!D475","v":"2017-07-06"},{"$f":"'shaladarpan '!E475","v":"manjeet474"},{"$f":"'shaladarpan '!F475","v":"00:00:00"},{"$f":"'shaladarpan '!G475","v":"vijay474"},{"$f":"'shaladarpan '!H475","v":"beautiful474"},{"$f":"'shaladarpan '!I475","v":"M"},{"$f":"'shaladarpan '!J475","v":"2006-08-06"},{"$f":"'shaladarpan '!K475","v":"no"},{"$f":"'shaladarpan '!L475","v":474},{"$f":"'shaladarpan '!M475","v":0},{"$f":"'shaladarpan '!N475","v":0},{"$f":"'shaladarpan '!O475","v":"OBC"},{"$f":"'shaladarpan '!P475","v":"Hindu"},{"$f":"'shaladarpan '!Q475","v":0},{"$f":"'shaladarpan '!R475","v":"GOVT. SENIOR SECONDARY SCHOOL ALNIYAWAS (219445)"},{"$f":"'shaladarpan '!S475","v":8140200308},{"$f":"'shaladarpan '!T475","v":"XXXX7806"},{"$f":"'shaladarpan '!U475","v":0},{"$f":"'shaladarpan '!V475","v":9828121170},{"$f":"'shaladarpan '!W475","v":"alniyawas474"},{"$f":"'shaladarpan '!X475","v":0},{"$f":"'shaladarpan '!Y475","v":"N"},{"$f":"'shaladarpan '!Z475","v":"N"},{"$f":"'shaladarpan '!AA475","v":"No"},{"$f":"'shaladarpan '!AB475","v":14},{"$f":"'shaladarpan '!AC475","v":"None"},{"$f":"'shaladarpan '!AD475","v":1}]
[{"$f":"IF(F477=\" \",\" \",ROWS($A$3:A477))","v":475},{"$f":"'shaladarpan '!A476","v":10},{"$f":"'shaladarpan '!B476","v":"A"},{"$f":"'shaladarpan '!C476","v":4669},{"$f":"'shaladarpan '!D476","v":"2019-07-08"},{"$f":"'shaladarpan '!E476","v":"manjeet475"},{"$f":"'shaladarpan '!F476","v":"00:00:00"},{"$f":"'shaladarpan '!G476","v":"vijay475"},{"$f":"'shaladarpan '!H476","v":"beautiful475"},{"$f":"'shaladarpan '!I476","v":"M"},{"$f":"'shaladarpan '!J476","v":"2005-11-04"},{"$f":"'shaladarpan '!K476","v":"yes"},{"$f":"'shaladarpan '!L476","v":475},{"$f":"'shaladarpan '!M476","v":0},{"$f":"'shaladarpan '!N476","v":0},{"$f":"'shaladarpan '!O476","v":"OBC"},{"$f":"'shaladarpan '!P476","v":"Hindu"},{"$f":"'shaladarpan '!Q476","v":0},{"$f":"'shaladarpan '!R476","v":"GOVT. SENIOR SECONDARY SCHOOL ALNIYAWAS (219445)"},{"$f":"'shaladarpan '!S476","v":8140200308},{"$f":"'shaladarpan '!T476","v":"XXXX2195"},{"$f":"'shaladarpan '!U476","v":"vokgtrn"},{"$f":"'shaladarpan '!V476","v":9828121171},{"$f":"'shaladarpan '!W476","v":"alniyawas475"},{"$f":"'shaladarpan '!X476","v":80000},{"$f":"'shaladarpan '!Y476","v":"N"},{"$f":"'shaladarpan '!Z476","v":"N"},{"$f":"'shaladarpan '!AA476","v":"No"},{"$f":"'shaladarpan '!AB476","v":15},{"$f":"'shaladarpan '!AC476","v":"None"},{"$f":"'shaladarpan '!AD476","v":1}]
[{"$f":"IF(F478=\" \",\" \",ROWS($A$3:A478))","v":476},{"$f":"'shaladarpan '!A477","v":10},{"$f":"'shaladarpan '!B477","v":"A"},{"$f":"'shaladarpan '!C477","v":4241},{"$f":"'shaladarpan '!D477","v":"2016-07-26"},{"$f":"'shaladarpan '!E477","v":"manjeet476"},{"$f":"'shaladarpan '!F477","v":"00:00:00"},{"$f":"'shaladarpan '!G477","v":"vijay476"},{"$f":"'shaladarpan '!H477","v":"beautiful476"},{"$f":"'shaladarpan '!I477","v":"M"},{"$f":"'shaladarpan '!J477","v":"2005-06-07"},{"$f":"'shaladarpan '!K477","v":"yes"},{"$f":"'shaladarpan '!L477","v":476},{"$f":"'shaladarpan '!M477","v":0},{"$f":"'shaladarpan '!N477","v":0},{"$f":"'shaladarpan '!O477","v":"SC"},{"$f":"'shaladarpan '!P477","v":"Hindu"},{"$f":"'shaladarpan '!Q477","v":0},{"$f":"'shaladarpan '!R477","v":"GOVT. SENIOR SECONDARY SCHOOL ALNIYAWAS (219445)"},{"$f":"'shaladarpan '!S477","v":8140200308},{"$f":"'shaladarpan '!T477","v":"XXXX8647"},{"$f":"'shaladarpan '!U477","v":0},{"$f":"'shaladarpan '!V477","v":9828121172},{"$f":"'shaladarpan '!W477","v":"alniyawas476"},{"$f":"'shaladarpan '!X477","v":0},{"$f":"'shaladarpan '!Y477","v":"N"},{"$f":"'shaladarpan '!Z477","v":"N"},{"$f":"'shaladarpan '!AA477","v":"No"},{"$f":"'shaladarpan '!AB477","v":15},{"$f":"'shaladarpan '!AC477","v":"None"},{"$f":"'shaladarpan '!AD477","v":1}]
[{"$f":"IF(F479=\" \",\" \",ROWS($A$3:A479))","v":477},{"$f":"'shaladarpan '!A478","v":10},{"$f":"'shaladarpan '!B478","v":"A"},{"$f":"'shaladarpan '!C478","v":4685},{"$f":"'shaladarpan '!D478","v":"2019-07-09"},{"$f":"'shaladarpan '!E478","v":"manjeet477"},{"$f":"'shaladarpan '!F478","v":"00:00:00"},{"$f":"'shaladarpan '!G478","v":"vijay477"},{"$f":"'shaladarpan '!H478","v":"beautiful477"},{"$f":"'shaladarpan '!I478","v":"M"},{"$f":"'shaladarpan '!J478","v":"2004-04-15"},{"$f":"'shaladarpan '!K478","v":"no"},{"$f":"'shaladarpan '!L478","v":477},{"$f":"'shaladarpan '!M478","v":0},{"$f":"'shaladarpan '!N478","v":0},{"$f":"'shaladarpan '!O478","v":"OBC"},{"$f":"'shaladarpan '!P478","v":"Hindu"},{"$f":"'shaladarpan '!Q478","v":0},{"$f":"'shaladarpan '!R478","v":"GOVT. SENIOR SECONDARY SCHOOL ALNIYAWAS (219445)"},{"$f":"'shaladarpan '!S478","v":8140200308},{"$f":"'shaladarpan '!T478","v":"XXXX4559"},{"$f":"'shaladarpan '!U478","v":"vppxhsx"},{"$f":"'shaladarpan '!V478","v":9828121173},{"$f":"'shaladarpan '!W478","v":"alniyawas477"},{"$f":"'shaladarpan '!X478","v":80000},{"$f":"'shaladarpan '!Y478","v":"N"},{"$f":"'shaladarpan '!Z478","v":"N"},{"$f":"'shaladarpan '!AA478","v":"No"},{"$f":"'shaladarpan '!AB478","v":16},{"$f":"'shaladarpan '!AC478","v":"None"},{"$f":"'shaladarpan '!AD478","v":0}]
[{"$f":"IF(F480=\" \",\" \",ROWS($A$3:A480))","v":478},{"$f":"'shaladarpan '!A479","v":10},{"$f":"'shaladarpan '!B479","v":"A"},{"$f":"'shaladarpan '!C479","v":4388},{"$f":"'shaladarpan '!D479","v":"2017-07-14"},{"$f":"'shaladarpan '!E479","v":"manjeet478"},{"$f":"'shaladarpan '!F479","v":"00:00:00"},{"$f":"'shaladarpan '!G479","v":"vijay478"},{"$f":"'shaladarpan '!H479","v":"beautiful478"},{"$f":"'shaladarpan '!I479","v":"M"},{"$f":"'shaladarpan '!J479","v":"2007-07-06"},{"$f":"'shaladarpan '!K479","v":"yes"},{"$f":"'shaladarpan '!L479","v":478},{"$f":"'shaladarpan '!M479","v":0},{"$f":"'shaladarpan '!N479","v":0},{"$f":"'shaladarpan '!O479","v":"GEN"},{"$f":"'shaladarpan '!P479","v":"Hindu"},{"$f":"'shaladarpan '!Q479","v":0},{"$f":"'shaladarpan '!R479","v":"GOVT. SENIOR SECONDARY SCHOOL ALNIYAWAS (219445)"},{"$f":"'shaladarpan '!S479","v":8140200308},{"$f":"'shaladarpan '!T479","v":"XXXX3795"},{"$f":"'shaladarpan '!U479","v":0},{"$f":"'shaladarpan '!V479","v":9828121174},{"$f":"'shaladarpan '!W479","v":"alniyawas478"},{"$f":"'shaladarpan '!X479","v":0},{"$f":"'shaladarpan '!Y479","v":"N"},{"$f":"'shaladarpan '!Z479","v":"N"},{"$f":"'shaladarpan '!AA479","v":"No"},{"$f":"'shaladarpan '!AB479","v":13},{"$f":"'shaladarpan '!AC479","v":"None"},{"$f":"'shaladarpan '!AD479","v":1}]
[{"$f":"IF(F481=\" \",\" \",ROWS($A$3:A481))","v":479},{"$f":"'shaladarpan '!A480","v":10},{"$f":"'shaladarpan '!B480","v":"A"},{"$f":"'shaladarpan '!C480","v":4573},{"$f":"'shaladarpan '!D480","v":"2018-07-16"},{"$f":"'shaladarpan '!E480","v":"manjeet479"},{"$f":"'shaladarpan '!F480","v":"00:00:00"},{"$f":"'shaladarpan '!G480","v":"vijay479"},{"$f":"'shaladarpan '!H480","v":"beautiful479"},{"$f":"'shaladarpan '!I480","v":"M"},{"$f":"'shaladarpan '!J480","v":"2007-05-05"},{"$f":"'shaladarpan '!K480","v":"yes"},{"$f":"'shaladarpan '!L480","v":479},{"$f":"'shaladarpan '!M480","v":0},{"$f":"'shaladarpan '!N480","v":0},{"$f":"'shaladarpan '!O480","v":"SC"},{"$f":"'shaladarpan '!P480","v":"Hindu"},{"$f":"'shaladarpan '!Q480","v":0},{"$f":"'shaladarpan '!R480","v":"GOVT. SENIOR SECONDARY SCHOOL ALNIYAWAS (219445)"},{"$f":"'shaladarpan '!S480","v":8140200308},{"$f":"'shaladarpan '!T480","v":"XXXX8449"},{"$f":"'shaladarpan '!U480","v":"BHCWWZX"},{"$f":"'shaladarpan '!V480","v":9828121175},{"$f":"'shaladarpan '!W480","v":"alniyawas479"},{"$f":"'shaladarpan '!X480","v":36000},{"$f":"'shaladarpan '!Y480","v":"N"},{"$f":"'shaladarpan '!Z480","v":"N"},{"$f":"'shaladarpan '!AA480","v":"No"},{"$f":"'shaladarpan '!AB480","v":13},{"$f":"'shaladarpan '!AC480","v":"None"},{"$f":"'shaladarpan '!AD480","v":1}]
[{"$f":"IF(F482=\" \",\" \",ROWS($A$3:A482))","v":480},{"$f":"'shaladarpan '!A481","v":10},{"$f":"'shaladarpan '!B481","v":"A"},{"$f":"'shaladarpan '!C481","v":3785},{"$f":"'shaladarpan '!D481","v":"2015-05-11"},{"$f":"'shaladarpan '!E481","v":"manjeet480"},{"$f":"'shaladarpan '!F481","v":"00:00:00"},{"$f":"'shaladarpan '!G481","v":"vijay480"},{"$f":"'shaladarpan '!H481","v":"beautiful480"},{"$f":"'shaladarpan '!I481","v":"M"},{"$f":"'shaladarpan '!J481","v":"2005-08-16"},{"$f":"'shaladarpan '!K481","v":"no"},{"$f":"'shaladarpan '!L481","v":480},{"$f":"'shaladarpan '!M481","v":0},{"$f":"'shaladarpan '!N481","v":0},{"$f":"'shaladarpan '!O481","v":"OBC"},{"$f":"'shaladarpan '!P481","v":"Muslim"},{"$f":"'shaladarpan '!Q481","v":0},{"$f":"'shaladarpan '!R481","v":"GOVT. SENIOR SECONDARY SCHOOL ALNIYAWAS (219445)"},{"$f":"'shaladarpan '!S481","v":8140200308},{"$f":"'shaladarpan '!T481","v":"XXXX9526"},{"$f":"'shaladarpan '!U481","v":0},{"$f":"'shaladarpan '!V481","v":9828121176},{"$f":"'shaladarpan '!W481","v":"alniyawas480"},{"$f":"'shaladarpan '!X481","v":0},{"$f":"'shaladarpan '!Y481","v":"N"},{"$f":"'shaladarpan '!Z481","v":"N"},{"$f":"'shaladarpan '!AA481","v":"Yes"},{"$f":"'shaladarpan '!AB481","v":15},{"$f":"'shaladarpan '!AC481","v":"None"},{"$f":"'shaladarpan '!AD481","v":1}]
[{"$f":"IF(F483=\" \",\" \",ROWS($A$3:A483))","v":481},{"$f":"'shaladarpan '!A482","v":10},{"$f":"'shaladarpan '!B482","v":"A"},{"$f":"'shaladarpan '!C482","v":3793},{"$f":"'shaladarpan '!D482","v":"2015-05-11"},{"$f":"'shaladarpan '!E482","v":"manjeet481"},{"$f":"'shaladarpan '!F482","v":"00:00:00"},{"$f":"'shaladarpan '!G482","v":"vijay481"},{"$f":"'shaladarpan '!H482","v":"beautiful481"},{"$f":"'shaladarpan '!I482","v":"M"},{"$f":"'shaladarpan '!J482","v":"2005-06-05"},{"$f":"'shaladarpan '!K482","v":"yes"},{"$f":"'shaladarpan '!L482","v":481},{"$f":"'shaladarpan '!M482","v":0},{"$f":"'shaladarpan '!N482","v":0},{"$f":"'shaladarpan '!O482","v":"OBC"},{"$f":"'shaladarpan '!P482","v":"Muslim"},{"$f":"'shaladarpan '!Q482","v":0},{"$f":"'shaladarpan '!R482","v":"GOVT. SENIOR SECONDARY SCHOOL ALNIYAWAS (219445)"},{"$f":"'shaladarpan '!S482","v":8140200308},{"$f":"'shaladarpan '!T482","v":"XXXX1437"},{"$f":"'shaladarpan '!U482","v":0},{"$f":"'shaladarpan '!V482","v":9828121177},{"$f":"'shaladarpan '!W482","v":"alniyawas481"},{"$f":"'shaladarpan '!X482","v":0},{"$f":"'shaladarpan '!Y482","v":"N"},{"$f":"'shaladarpan '!Z482","v":"N"},{"$f":"'shaladarpan '!AA482","v":"Yes"},{"$f":"'shaladarpan '!AB482","v":15},{"$f":"'shaladarpan '!AC482","v":"None"},{"$f":"'shaladarpan '!AD482","v":1}]
[{"$f":"IF(F484=\" \",\" \",ROWS($A$3:A484))","v":482},{"$f":"'shaladarpan '!A483","v":10},{"$f":"'shaladarpan '!B483","v":"A"},{"$f":"'shaladarpan '!C483","v":4451},{"$f":"'shaladarpan '!D483","v":"2018-07-02"},{"$f":"'shaladarpan '!E483","v":"manjeet482"},{"$f":"'shaladarpan '!F483","v":"00:00:00"},{"$f":"'shaladarpan '!G483","v":"vijay482"},{"$f":"'shaladarpan '!H483","v":"beautiful482"},{"$f":"'shaladarpan '!I483","v":"F"},{"$f":"'shaladarpan '!J483","v":"2006-07-11"},{"$f":"'shaladarpan '!K483","v":"yes"},{"$f":"'shaladarpan '!L483","v":482},{"$f":"'shaladarpan '!M483","v":0},{"$f":"'shaladarpan '!N483","v":0},{"$f":"'shaladarpan '!O483","v":"SC"},{"$f":"'shaladarpan '!P483","v":"Hindu"},{"$f":"'shaladarpan '!Q483","v":0},{"$f":"'shaladarpan '!R483","v":"GOVT. SENIOR SECONDARY SCHOOL ALNIYAWAS (219445)"},{"$f":"'shaladarpan '!S483","v":8140200308},{"$f":"'shaladarpan '!T483","v":"XXXX4911"},{"$f":"'shaladarpan '!U483","v":"VNTPSKJ"},{"$f":"'shaladarpan '!V483","v":9828121178},{"$f":"'shaladarpan '!W483","v":"alniyawas482"},{"$f":"'shaladarpan '!X483","v":36000},{"$f":"'shaladarpan '!Y483","v":"N"},{"$f":"'shaladarpan '!Z483","v":"N"},{"$f":"'shaladarpan '!AA483","v":"No"},{"$f":"'shaladarpan '!AB483","v":14},{"$f":"'shaladarpan '!AC483","v":"None"},{"$f":"'shaladarpan '!AD483","v":2}]
[{"$f":"IF(F485=\" \",\" \",ROWS($A$3:A485))","v":483},{"$f":"'shaladarpan '!A484","v":10},{"$f":"'shaladarpan '!B484","v":"A"},{"$f":"'shaladarpan '!C484","v":4525},{"$f":"'shaladarpan '!D484","v":"2018-07-07"},{"$f":"'shaladarpan '!E484","v":"manjeet483"},{"$f":"'shaladarpan '!F484","v":"00:00:00"},{"$f":"'shaladarpan '!G484","v":"vijay483"},{"$f":"'shaladarpan '!H484","v":"beautiful483"},{"$f":"'shaladarpan '!I484","v":"F"},{"$f":"'shaladarpan '!J484","v":"2006-09-20"},{"$f":"'shaladarpan '!K484","v":"no"},{"$f":"'shaladarpan '!L484","v":483},{"$f":"'shaladarpan '!M484","v":0},{"$f":"'shaladarpan '!N484","v":0},{"$f":"'shaladarpan '!O484","v":"OBC"},{"$f":"'shaladarpan '!P484","v":"Hindu"},{"$f":"'shaladarpan '!Q484","v":0},{"$f":"'shaladarpan '!R484","v":"GOVT. SENIOR SECONDARY SCHOOL ALNIYAWAS (219445)"},{"$f":"'shaladarpan '!S484","v":8140200308},{"$f":"'shaladarpan '!T484","v":"XXXX8593"},{"$f":"'shaladarpan '!U484","v":"VHTZJWJ"},{"$f":"'shaladarpan '!V484","v":9828121179},{"$f":"'shaladarpan '!W484","v":"alniyawas483"},{"$f":"'shaladarpan '!X484","v":36000},{"$f":"'shaladarpan '!Y484","v":"N"},{"$f":"'shaladarpan '!Z484","v":"N"},{"$f":"'shaladarpan '!AA484","v":"No"},{"$f":"'shaladarpan '!AB484","v":14},{"$f":"'shaladarpan '!AC484","v":"None"},{"$f":"'shaladarpan '!AD484","v":4}]
[{"$f":"IF(F486=\" \",\" \",ROWS($A$3:A486))","v":484},{"$f":"'shaladarpan '!A485","v":10},{"$f":"'shaladarpan '!B485","v":"A"},{"$f":"'shaladarpan '!C485","v":4552},{"$f":"'shaladarpan '!D485","v":"2018-07-11"},{"$f":"'shaladarpan '!E485","v":"manjeet484"},{"$f":"'shaladarpan '!F485","v":"00:00:00"},{"$f":"'shaladarpan '!G485","v":"vijay484"},{"$f":"'shaladarpan '!H485","v":"beautiful484"},{"$f":"'shaladarpan '!I485","v":"M"},{"$f":"'shaladarpan '!J485","v":"2007-10-10"},{"$f":"'shaladarpan '!K485","v":"yes"},{"$f":"'shaladarpan '!L485","v":484},{"$f":"'shaladarpan '!M485","v":0},{"$f":"'shaladarpan '!N485","v":0},{"$f":"'shaladarpan '!O485","v":"GEN"},{"$f":"'shaladarpan '!P485","v":"Hindu"},{"$f":"'shaladarpan '!Q485","v":0},{"$f":"'shaladarpan '!R485","v":"GOVT. SENIOR SECONDARY SCHOOL ALNIYAWAS (219445)"},{"$f":"'shaladarpan '!S485","v":8140200308},{"$f":"'shaladarpan '!T485","v":"XXXX0014"},{"$f":"'shaladarpan '!U485","v":"WDYEIDF"},{"$f":"'shaladarpan '!V485","v":9828121180},{"$f":"'shaladarpan '!W485","v":"alniyawas484"},{"$f":"'shaladarpan '!X485","v":45000},{"$f":"'shaladarpan '!Y485","v":"N"},{"$f":"'shaladarpan '!Z485","v":"N"},{"$f":"'shaladarpan '!AA485","v":"No"},{"$f":"'shaladarpan '!AB485","v":13},{"$f":"'shaladarpan '!AC485","v":"None"},{"$f":"'shaladarpan '!AD485","v":1}]
[{"$f":"IF(F487=\" \",\" \",ROWS($A$3:A487))","v":485},{"$f":"'shaladarpan '!A486","v":10},{"$f":"'shaladarpan '!B486","v":"A"},{"$f":"'shaladarpan '!C486","v":3806},{"$f":"'shaladarpan '!D486","v":"2015-05-11"},{"$f":"'shaladarpan '!E486","v":"manjeet485"},{"$f":"'shaladarpan '!F486","v":"00:00:00"},{"$f":"'shaladarpan '!G486","v":"vijay485"},{"$f":"'shaladarpan '!H486","v":"beautiful485"},{"$f":"'shaladarpan '!I486","v":"F"},{"$f":"'shaladarpan '!J486","v":"2005-07-25"},{"$f":"'shaladarpan '!K486","v":"yes"},{"$f":"'shaladarpan '!L486","v":485},{"$f":"'shaladarpan '!M486","v":0},{"$f":"'shaladarpan '!N486","v":0},{"$f":"'shaladarpan '!O486","v":"SC"},{"$f":"'shaladarpan '!P486","v":"Hindu"},{"$f":"'shaladarpan '!Q486","v":0},{"$f":"'shaladarpan '!R486","v":"GOVT. SENIOR SECONDARY SCHOOL ALNIYAWAS (219445)"},{"$f":"'shaladarpan '!S486","v":8140200308},{"$f":"'shaladarpan '!T486","v":"XXXX3964"},{"$f":"'shaladarpan '!U486","v":0},{"$f":"'shaladarpan '!V486","v":9828121181},{"$f":"'shaladarpan '!W486","v":"alniyawas485"},{"$f":"'shaladarpan '!X486","v":0},{"$f":"'shaladarpan '!Y486","v":"N"},{"$f":"'shaladarpan '!Z486","v":"N"},{"$f":"'shaladarpan '!AA486","v":"No"},{"$f":"'shaladarpan '!AB486","v":15},{"$f":"'shaladarpan '!AC486","v":"None"},{"$f":"'shaladarpan '!AD486","v":1}]
[{"$f":"IF(F488=\" \",\" \",ROWS($A$3:A488))","v":486},{"$f":"'shaladarpan '!A487","v":10},{"$f":"'shaladarpan '!B487","v":"A"},{"$f":"'shaladarpan '!C487","v":3758},{"$f":"'shaladarpan '!D487","v":"2015-05-11"},{"$f":"'shaladarpan '!E487","v":"manjeet486"},{"$f":"'shaladarpan '!F487","v":"00:00:00"},{"$f":"'shaladarpan '!G487","v":"vijay486"},{"$f":"'shaladarpan '!H487","v":"beautiful486"},{"$f":"'shaladarpan '!I487","v":"M"},{"$f":"'shaladarpan '!J487","v":"2005-09-10"},{"$f":"'shaladarpan '!K487","v":"no"},{"$f":"'shaladarpan '!L487","v":486},{"$f":"'shaladarpan '!M487","v":0},{"$f":"'shaladarpan '!N487","v":0},{"$f":"'shaladarpan '!O487","v":"OBC"},{"$f":"'shaladarpan '!P487","v":"Muslim"},{"$f":"'shaladarpan '!Q487","v":0},{"$f":"'shaladarpan '!R487","v":"GOVT. SENIOR SECONDARY SCHOOL ALNIYAWAS (219445)"},{"$f":"'shaladarpan '!S487","v":8140200308},{"$f":"'shaladarpan '!T487","v":"XXXX6272"},{"$f":"'shaladarpan '!U487","v":0},{"$f":"'shaladarpan '!V487","v":9828121182},{"$f":"'shaladarpan '!W487","v":"alniyawas486"},{"$f":"'shaladarpan '!X487","v":0},{"$f":"'shaladarpan '!Y487","v":"N"},{"$f":"'shaladarpan '!Z487","v":"N"},{"$f":"'shaladarpan '!AA487","v":"Yes"},{"$f":"'shaladarpan '!AB487","v":15},{"$f":"'shaladarpan '!AC487","v":"None"},{"$f":"'shaladarpan '!AD487","v":1}]
[{"$f":"IF(F489=\" \",\" \",ROWS($A$3:A489))","v":487},{"$f":"'shaladarpan '!A488","v":10},{"$f":"'shaladarpan '!B488","v":"A"},{"$f":"'shaladarpan '!C488","v":4553},{"$f":"'shaladarpan '!D488","v":"2018-07-11"},{"$f":"'shaladarpan '!E488","v":"manjeet487"},{"$f":"'shaladarpan '!F488","v":"00:00:00"},{"$f":"'shaladarpan '!G488","v":"vijay487"},{"$f":"'shaladarpan '!H488","v":"beautiful487"},{"$f":"'shaladarpan '!I488","v":"M"},{"$f":"'shaladarpan '!J488","v":"2007-05-10"},{"$f":"'shaladarpan '!K488","v":"yes"},{"$f":"'shaladarpan '!L488","v":487},{"$f":"'shaladarpan '!M488","v":0},{"$f":"'shaladarpan '!N488","v":0},{"$f":"'shaladarpan '!O488","v":"OBC"},{"$f":"'shaladarpan '!P488","v":"Hindu"},{"$f":"'shaladarpan '!Q488","v":0},{"$f":"'shaladarpan '!R488","v":"GOVT. SENIOR SECONDARY SCHOOL ALNIYAWAS (219445)"},{"$f":"'shaladarpan '!S488","v":8140200308},{"$f":"'shaladarpan '!T488","v":"XXXX8717"},{"$f":"'shaladarpan '!U488","v":"VHJOZOR"},{"$f":"'shaladarpan '!V488","v":9828121183},{"$f":"'shaladarpan '!W488","v":"alniyawas487"},{"$f":"'shaladarpan '!X488","v":45000},{"$f":"'shaladarpan '!Y488","v":"N"},{"$f":"'shaladarpan '!Z488","v":"N"},{"$f":"'shaladarpan '!AA488","v":"No"},{"$f":"'shaladarpan '!AB488","v":13},{"$f":"'shaladarpan '!AC488","v":"None"},{"$f":"'shaladarpan '!AD488","v":5}]
[{"$f":"IF(F490=\" \",\" \",ROWS($A$3:A490))","v":488},{"$f":"'shaladarpan '!A489","v":10},{"$f":"'shaladarpan '!B489","v":"A"},{"$f":"'shaladarpan '!C489","v":4764},{"$f":"'shaladarpan '!D489","v":"2019-07-24"},{"$f":"'shaladarpan '!E489","v":"manjeet488"},{"$f":"'shaladarpan '!F489","v":"00:00:00"},{"$f":"'shaladarpan '!G489","v":"vijay488"},{"$f":"'shaladarpan '!H489","v":"beautiful488"},{"$f":"'shaladarpan '!I489","v":"M"},{"$f":"'shaladarpan '!J489","v":"2008-03-02"},{"$f":"'shaladarpan '!K489","v":"yes"},{"$f":"'shaladarpan '!L489","v":488},{"$f":"'shaladarpan '!M489","v":0},{"$f":"'shaladarpan '!N489","v":0},{"$f":"'shaladarpan '!O489","v":"OBC"},{"$f":"'shaladarpan '!P489","v":"Hindu"},{"$f":"'shaladarpan '!Q489","v":0},{"$f":"'shaladarpan '!R489","v":"GOVT. SENIOR SECONDARY SCHOOL ALNIYAWAS (219445)"},{"$f":"'shaladarpan '!S489","v":8140200308},{"$f":"'shaladarpan '!T489","v":"XXXX0284"},{"$f":"'shaladarpan '!U489","v":"vrpnrtt"},{"$f":"'shaladarpan '!V489","v":9828121184},{"$f":"'shaladarpan '!W489","v":"alniyawas488"},{"$f":"'shaladarpan '!X489","v":80000},{"$f":"'shaladarpan '!Y489","v":"N"},{"$f":"'shaladarpan '!Z489","v":"N"},{"$f":"'shaladarpan '!AA489","v":"No"},{"$f":"'shaladarpan '!AB489","v":12},{"$f":"'shaladarpan '!AC489","v":"None"},{"$f":"'shaladarpan '!AD489","v":1}]
[{"$f":"IF(F491=\" \",\" \",ROWS($A$3:A491))","v":489},{"$f":"'shaladarpan '!A490","v":10},{"$f":"'shaladarpan '!B490","v":"A"},{"$f":"'shaladarpan '!C490","v":4661},{"$f":"'shaladarpan '!D490","v":"2019-07-06"},{"$f":"'shaladarpan '!E490","v":"manjeet489"},{"$f":"'shaladarpan '!F490","v":"00:00:00"},{"$f":"'shaladarpan '!G490","v":"vijay489"},{"$f":"'shaladarpan '!H490","v":"beautiful489"},{"$f":"'shaladarpan '!I490","v":"F"},{"$f":"'shaladarpan '!J490","v":"2005-12-25"},{"$f":"'shaladarpan '!K490","v":"no"},{"$f":"'shaladarpan '!L490","v":489},{"$f":"'shaladarpan '!M490","v":0},{"$f":"'shaladarpan '!N490","v":0},{"$f":"'shaladarpan '!O490","v":"OBC"},{"$f":"'shaladarpan '!P490","v":"Hindu"},{"$f":"'shaladarpan '!Q490","v":0},{"$f":"'shaladarpan '!R490","v":"GOVT. SENIOR SECONDARY SCHOOL ALNIYAWAS (219445)"},{"$f":"'shaladarpan '!S490","v":8140200308},{"$f":"'shaladarpan '!T490","v":"XXXX1228"},{"$f":"'shaladarpan '!U490","v":"YOUDUCC"},{"$f":"'shaladarpan '!V490","v":9828121185},{"$f":"'shaladarpan '!W490","v":"alniyawas489"},{"$f":"'shaladarpan '!X490","v":225000},{"$f":"'shaladarpan '!Y490","v":"N"},{"$f":"'shaladarpan '!Z490","v":"N"},{"$f":"'shaladarpan '!AA490","v":"No"},{"$f":"'shaladarpan '!AB490","v":15},{"$f":"'shaladarpan '!AC490","v":"None"},{"$f":"'shaladarpan '!AD490","v":0}]
[{"$f":"IF(F492=\" \",\" \",ROWS($A$3:A492))","v":490},{"$f":"'shaladarpan '!A491","v":10},{"$f":"'shaladarpan '!B491","v":"A"},{"$f":"'shaladarpan '!C491","v":4259},{"$f":"'shaladarpan '!D491","v":"2017-06-27"},{"$f":"'shaladarpan '!E491","v":"manjeet490"},{"$f":"'shaladarpan '!F491","v":"00:00:00"},{"$f":"'shaladarpan '!G491","v":"vijay490"},{"$f":"'shaladarpan '!H491","v":"beautiful490"},{"$f":"'shaladarpan '!I491","v":"M"},{"$f":"'shaladarpan '!J491","v":"2005-08-26"},{"$f":"'shaladarpan '!K491","v":"yes"},{"$f":"'shaladarpan '!L491","v":490},{"$f":"'shaladarpan '!M491","v":0},{"$f":"'shaladarpan '!N491","v":0},{"$f":"'shaladarpan '!O491","v":"GEN"},{"$f":"'shaladarpan '!P491","v":"Hindu"},{"$f":"'shaladarpan '!Q491","v":0},{"$f":"'shaladarpan '!R491","v":"GOVT. SENIOR SECONDARY SCHOOL ALNIYAWAS (219445)"},{"$f":"'shaladarpan '!S491","v":8140200308},{"$f":"'shaladarpan '!T491","v":"XXXX9386"},{"$f":"'shaladarpan '!U491","v":0},{"$f":"'shaladarpan '!V491","v":9828121186},{"$f":"'shaladarpan '!W491","v":"alniyawas490"},{"$f":"'shaladarpan '!X491","v":0},{"$f":"'shaladarpan '!Y491","v":"N"},{"$f":"'shaladarpan '!Z491","v":"N"},{"$f":"'shaladarpan '!AA491","v":"No"},{"$f":"'shaladarpan '!AB491","v":15},{"$f":"'shaladarpan '!AC491","v":"None"},{"$f":"'shaladarpan '!AD491","v":1}]
[{"$f":"IF(F493=\" \",\" \",ROWS($A$3:A493))","v":491},{"$f":"'shaladarpan '!A492","v":10},{"$f":"'shaladarpan '!B492","v":"A"},{"$f":"'shaladarpan '!C492","v":4705},{"$f":"'shaladarpan '!D492","v":"2013-07-06"},{"$f":"'shaladarpan '!E492","v":"manjeet491"},{"$f":"'shaladarpan '!F492","v":"00:00:00"},{"$f":"'shaladarpan '!G492","v":"vijay491"},{"$f":"'shaladarpan '!H492","v":"beautiful491"},{"$f":"'shaladarpan '!I492","v":"M"},{"$f":"'shaladarpan '!J492","v":"2005-07-05"},{"$f":"'shaladarpan '!K492","v":"yes"},{"$f":"'shaladarpan '!L492","v":491},{"$f":"'shaladarpan '!M492","v":0},{"$f":"'shaladarpan '!N492","v":0},{"$f":"'shaladarpan '!O492","v":"OBC"},{"$f":"'shaladarpan '!P492","v":"Hindu"},{"$f":"'shaladarpan '!Q492","v":0},{"$f":"'shaladarpan '!R492","v":"GOVT. SENIOR SECONDARY SCHOOL ALNIYAWAS (219445)"},{"$f":"'shaladarpan '!S492","v":8140200308},{"$f":"'shaladarpan '!T492","v":"XXXX8072"},{"$f":"'shaladarpan '!U492","v":"WXVCVCJ"},{"$f":"'shaladarpan '!V492","v":9828121187},{"$f":"'shaladarpan '!W492","v":"alniyawas491"},{"$f":"'shaladarpan '!X492","v":60000},{"$f":"'shaladarpan '!Y492","v":"N"},{"$f":"'shaladarpan '!Z492","v":"N"},{"$f":"'shaladarpan '!AA492","v":"No"},{"$f":"'shaladarpan '!AB492","v":15},{"$f":"'shaladarpan '!AC492","v":"None"},{"$f":"'shaladarpan '!AD492","v":0.5}]
[{"$f":"IF(F494=\" \",\" \",ROWS($A$3:A494))","v":492},{"$f":"'shaladarpan '!A493","v":10},{"$f":"'shaladarpan '!B493","v":"A"},{"$f":"'shaladarpan '!C493","v":4390},{"$f":"'shaladarpan '!D493","v":"2017-07-14"},{"$f":"'shaladarpan '!E493","v":"manjeet492"},{"$f":"'shaladarpan '!F493","v":"00:00:00"},{"$f":"'shaladarpan '!G493","v":"vijay492"},{"$f":"'shaladarpan '!H493","v":"beautiful492"},{"$f":"'shaladarpan '!I493","v":"M"},{"$f":"'shaladarpan '!J493","v":"2004-07-01"},{"$f":"'shaladarpan '!K493","v":"no"},{"$f":"'shaladarpan '!L493","v":492},{"$f":"'shaladarpan '!M493","v":0},{"$f":"'shaladarpan '!N493","v":0},{"$f":"'shaladarpan '!O493","v":"GEN"},{"$f":"'shaladarpan '!P493","v":"Hindu"},{"$f":"'shaladarpan '!Q493","v":0},{"$f":"'shaladarpan '!R493","v":"GOVT. SENIOR SECONDARY SCHOOL ALNIYAWAS (219445)"},{"$f":"'shaladarpan '!S493","v":8140200308},{"$f":"'shaladarpan '!T493","v":"XXXX9807"},{"$f":"'shaladarpan '!U493","v":0},{"$f":"'shaladarpan '!V493","v":9828121188},{"$f":"'shaladarpan '!W493","v":"alniyawas492"},{"$f":"'shaladarpan '!X493","v":0},{"$f":"'shaladarpan '!Y493","v":"N"},{"$f":"'shaladarpan '!Z493","v":"N"},{"$f":"'shaladarpan '!AA493","v":"No"},{"$f":"'shaladarpan '!AB493","v":16},{"$f":"'shaladarpan '!AC493","v":"None"},{"$f":"'shaladarpan '!AD493","v":1}]
[{"$f":"IF(F495=\" \",\" \",ROWS($A$3:A495))","v":493},{"$f":"'shaladarpan '!A494","v":10},{"$f":"'shaladarpan '!B494","v":"A"},{"$f":"'shaladarpan '!C494","v":4108},{"$f":"'shaladarpan '!D494","v":"2016-06-25"},{"$f":"'shaladarpan '!E494","v":"manjeet493"},{"$f":"'shaladarpan '!F494","v":"00:00:00"},{"$f":"'shaladarpan '!G494","v":"vijay493"},{"$f":"'shaladarpan '!H494","v":"beautiful493"},{"$f":"'shaladarpan '!I494","v":"M"},{"$f":"'shaladarpan '!J494","v":"2004-08-01"},{"$f":"'shaladarpan '!K494","v":"yes"},{"$f":"'shaladarpan '!L494","v":493},{"$f":"'shaladarpan '!M494","v":0},{"$f":"'shaladarpan '!N494","v":0},{"$f":"'shaladarpan '!O494","v":"SC"},{"$f":"'shaladarpan '!P494","v":"Hindu"},{"$f":"'shaladarpan '!Q494","v":0},{"$f":"'shaladarpan '!R494","v":"GOVT. SENIOR SECONDARY SCHOOL ALNIYAWAS (219445)"},{"$f":"'shaladarpan '!S494","v":8140200308},{"$f":"'shaladarpan '!T494","v":"XXXX7497"},{"$f":"'shaladarpan '!U494","v":0},{"$f":"'shaladarpan '!V494","v":9828121189},{"$f":"'shaladarpan '!W494","v":"alniyawas493"},{"$f":"'shaladarpan '!X494","v":0},{"$f":"'shaladarpan '!Y494","v":"N"},{"$f":"'shaladarpan '!Z494","v":"N"},{"$f":"'shaladarpan '!AA494","v":"No"},{"$f":"'shaladarpan '!AB494","v":16},{"$f":"'shaladarpan '!AC494","v":"None"},{"$f":"'shaladarpan '!AD494","v":2}]
[{"$f":"IF(F496=\" \",\" \",ROWS($A$3:A496))","v":494},{"$f":"'shaladarpan '!A495","v":10},{"$f":"'shaladarpan '!B495","v":"A"},{"$f":"'shaladarpan '!C495","v":4320},{"$f":"'shaladarpan '!D495","v":"2017-07-04"},{"$f":"'shaladarpan '!E495","v":"manjeet494"},{"$f":"'shaladarpan '!F495","v":"00:00:00"},{"$f":"'shaladarpan '!G495","v":"vijay494"},{"$f":"'shaladarpan '!H495","v":"beautiful494"},{"$f":"'shaladarpan '!I495","v":"M"},{"$f":"'shaladarpan '!J495","v":"2003-09-02"},{"$f":"'shaladarpan '!K495","v":"yes"},{"$f":"'shaladarpan '!L495","v":494},{"$f":"'shaladarpan '!M495","v":0},{"$f":"'shaladarpan '!N495","v":0},{"$f":"'shaladarpan '!O495","v":"OBC"},{"$f":"'shaladarpan '!P495","v":"Hindu"},{"$f":"'shaladarpan '!Q495","v":0},{"$f":"'shaladarpan '!R495","v":"GOVT. SENIOR SECONDARY SCHOOL ALNIYAWAS (219445)"},{"$f":"'shaladarpan '!S495","v":8140200308},{"$f":"'shaladarpan '!T495","v":"XXXX8179"},{"$f":"'shaladarpan '!U495","v":0},{"$f":"'shaladarpan '!V495","v":9828121190},{"$f":"'shaladarpan '!W495","v":"alniyawas494"},{"$f":"'shaladarpan '!X495","v":0},{"$f":"'shaladarpan '!Y495","v":"N"},{"$f":"'shaladarpan '!Z495","v":"N"},{"$f":"'shaladarpan '!AA495","v":"No"},{"$f":"'shaladarpan '!AB495","v":17},{"$f":"'shaladarpan '!AC495","v":"None"},{"$f":"'shaladarpan '!AD495","v":1}]
[{"$f":"IF(F497=\" \",\" \",ROWS($A$3:A497))","v":495},{"$f":"'shaladarpan '!A496","v":10},{"$f":"'shaladarpan '!B496","v":"B"},{"$f":"'shaladarpan '!C496","v":3810},{"$f":"'shaladarpan '!D496","v":"2015-05-11"},{"$f":"'shaladarpan '!E496","v":"manjeet495"},{"$f":"'shaladarpan '!F496","v":"00:00:00"},{"$f":"'shaladarpan '!G496","v":"vijay495"},{"$f":"'shaladarpan '!H496","v":"beautiful495"},{"$f":"'shaladarpan '!I496","v":"M"},{"$f":"'shaladarpan '!J496","v":"2003-10-09"},{"$f":"'shaladarpan '!K496","v":"no"},{"$f":"'shaladarpan '!L496","v":495},{"$f":"'shaladarpan '!M496","v":0},{"$f":"'shaladarpan '!N496","v":0},{"$f":"'shaladarpan '!O496","v":"OBC"},{"$f":"'shaladarpan '!P496","v":"Muslim"},{"$f":"'shaladarpan '!Q496","v":0},{"$f":"'shaladarpan '!R496","v":"GOVT. SENIOR SECONDARY SCHOOL ALNIYAWAS (219445)"},{"$f":"'shaladarpan '!S496","v":8140200308},{"$f":"'shaladarpan '!T496","v":"XXXX0193"},{"$f":"'shaladarpan '!U496","v":0},{"$f":"'shaladarpan '!V496","v":9828121191},{"$f":"'shaladarpan '!W496","v":"alniyawas495"},{"$f":"'shaladarpan '!X496","v":60000},{"$f":"'shaladarpan '!Y496","v":"N"},{"$f":"'shaladarpan '!Z496","v":"N"},{"$f":"'shaladarpan '!AA496","v":"Yes"},{"$f":"'shaladarpan '!AB496","v":17},{"$f":"'shaladarpan '!AC496","v":"None"},{"$f":"'shaladarpan '!AD496","v":1}]
[{"$f":"IF(F498=\" \",\" \",ROWS($A$3:A498))","v":496},{"$f":"'shaladarpan '!A497","v":10},{"$f":"'shaladarpan '!B497","v":"B"},{"$f":"'shaladarpan '!C497","v":4684},{"$f":"'shaladarpan '!D497","v":"2014-07-09"},{"$f":"'shaladarpan '!E497","v":"manjeet496"},{"$f":"'shaladarpan '!F497","v":"00:00:00"},{"$f":"'shaladarpan '!G497","v":"vijay496"},{"$f":"'shaladarpan '!H497","v":"beautiful496"},{"$f":"'shaladarpan '!I497","v":"F"},{"$f":"'shaladarpan '!J497","v":"2003-03-06"},{"$f":"'shaladarpan '!K497","v":"yes"},{"$f":"'shaladarpan '!L497","v":496},{"$f":"'shaladarpan '!M497","v":0},{"$f":"'shaladarpan '!N497","v":0},{"$f":"'shaladarpan '!O497","v":"OBC"},{"$f":"'shaladarpan '!P497","v":"Hindu"},{"$f":"'shaladarpan '!Q497","v":0},{"$f":"'shaladarpan '!R497","v":"GOVT. SENIOR SECONDARY SCHOOL ALNIYAWAS (219445)"},{"$f":"'shaladarpan '!S497","v":8140200308},{"$f":"'shaladarpan '!T497","v":"XXXX1249"},{"$f":"'shaladarpan '!U497","v":"WDYEACC"},{"$f":"'shaladarpan '!V497","v":9828121192},{"$f":"'shaladarpan '!W497","v":"alniyawas496"},{"$f":"'shaladarpan '!X497","v":0},{"$f":"'shaladarpan '!Y497","v":"N"},{"$f":"'shaladarpan '!Z497","v":"N"},{"$f":"'shaladarpan '!AA497","v":"No"},{"$f":"'shaladarpan '!AB497","v":17},{"$f":"'shaladarpan '!AC497","v":"None"},{"$f":"'shaladarpan '!AD497","v":2.5}]
[{"$f":"IF(F499=\" \",\" \",ROWS($A$3:A499))","v":497},{"$f":"'shaladarpan '!A498","v":10},{"$f":"'shaladarpan '!B498","v":"B"},{"$f":"'shaladarpan '!C498","v":4351},{"$f":"'shaladarpan '!D498","v":"2017-07-07"},{"$f":"'shaladarpan '!E498","v":"manjeet497"},{"$f":"'shaladarpan '!F498","v":"00:00:00"},{"$f":"'shaladarpan '!G498","v":"vijay497"},{"$f":"'shaladarpan '!H498","v":"beautiful497"},{"$f":"'shaladarpan '!I498","v":"F"},{"$f":"'shaladarpan '!J498","v":"2003-07-07"},{"$f":"'shaladarpan '!K498","v":"yes"},{"$f":"'shaladarpan '!L498","v":497},{"$f":"'shaladarpan '!M498","v":0},{"$f":"'shaladarpan '!N498","v":0},{"$f":"'shaladarpan '!O498","v":"SC"},{"$f":"'shaladarpan '!P498","v":"Hindu"},{"$f":"'shaladarpan '!Q498","v":0},{"$f":"'shaladarpan '!R498","v":"GOVT. SENIOR SECONDARY SCHOOL ALNIYAWAS (219445)"},{"$f":"'shaladarpan '!S498","v":8140200308},{"$f":"'shaladarpan '!T498","v":"XXXX9246"},{"$f":"'shaladarpan '!U498","v":0},{"$f":"'shaladarpan '!V498","v":9828121193},{"$f":"'shaladarpan '!W498","v":"alniyawas497"},{"$f":"'shaladarpan '!X498","v":36000},{"$f":"'shaladarpan '!Y498","v":"N"},{"$f":"'shaladarpan '!Z498","v":"N"},{"$f":"'shaladarpan '!AA498","v":"No"},{"$f":"'shaladarpan '!AB498","v":17},{"$f":"'shaladarpan '!AC498","v":"None"},{"$f":"'shaladarpan '!AD498","v":1}]
[{"$f":"IF(F500=\" \",\" \",ROWS($A$3:A500))","v":498},{"$f":"'shaladarpan '!A499","v":10},{"$f":"'shaladarpan '!B499","v":"B"},{"$f":"'shaladarpan '!C499","v":4539},{"$f":"'shaladarpan '!D499","v":"2018-07-10"},{"$f":"'shaladarpan '!E499","v":"manjeet498"},{"$f":"'shaladarpan '!F499","v":"00:00:00"},{"$f":"'shaladarpan '!G499","v":"vijay498"},{"$f":"'shaladarpan '!H499","v":"beautiful498"},{"$f":"'shaladarpan '!I499","v":"F"},{"$f":"'shaladarpan '!J499","v":"2002-08-01"},{"$f":"'shaladarpan '!K499","v":"no"},{"$f":"'shaladarpan '!L499","v":498},{"$f":"'shaladarpan '!M499","v":0},{"$f":"'shaladarpan '!N499","v":0},{"$f":"'shaladarpan '!O499","v":"SC"},{"$f":"'shaladarpan '!P499","v":"Hindu"},{"$f":"'shaladarpan '!Q499","v":0},{"$f":"'shaladarpan '!R499","v":"GOVT. SENIOR SECONDARY SCHOOL ALNIYAWAS (219445)"},{"$f":"'shaladarpan '!S499","v":8140200308},{"$f":"'shaladarpan '!T499","v":"XXXX4092"},{"$f":"'shaladarpan '!U499","v":"YYUBKQO"},{"$f":"'shaladarpan '!V499","v":9828121194},{"$f":"'shaladarpan '!W499","v":"alniyawas498"},{"$f":"'shaladarpan '!X499","v":100000},{"$f":"'shaladarpan '!Y499","v":"N"},{"$f":"'shaladarpan '!Z499","v":"N"},{"$f":"'shaladarpan '!AA499","v":"No"},{"$f":"'shaladarpan '!AB499","v":18},{"$f":"'shaladarpan '!AC499","v":"None"},{"$f":"'shaladarpan '!AD499","v":1}]
[{"$f":"IF(F501=\" \",\" \",ROWS($A$3:A501))","v":499},{"$f":"'shaladarpan '!A500","v":10},{"$f":"'shaladarpan '!B500","v":"B"},{"$f":"'shaladarpan '!C500","v":3777},{"$f":"'shaladarpan '!D500","v":"2015-05-11"},{"$f":"'shaladarpan '!E500","v":"manjeet499"},{"$f":"'shaladarpan '!F500","v":"00:00:00"},{"$f":"'shaladarpan '!G500","v":"vijay499"},{"$f":"'shaladarpan '!H500","v":"beautiful499"},{"$f":"'shaladarpan '!I500","v":"M"},{"$f":"'shaladarpan '!J500","v":"2005-06-14"},{"$f":"'shaladarpan '!K500","v":"yes"},{"$f":"'shaladarpan '!L500","v":499},{"$f":"'shaladarpan '!M500","v":0},{"$f":"'shaladarpan '!N500","v":0},{"$f":"'shaladarpan '!O500","v":"SC"},{"$f":"'shaladarpan '!P500","v":"Hindu"},{"$f":"'shaladarpan '!Q500","v":0},{"$f":"'shaladarpan '!R500","v":"GOVT. SENIOR SECONDARY SCHOOL ALNIYAWAS (219445)"},{"$f":"'shaladarpan '!S500","v":8140200308},{"$f":"'shaladarpan '!T500","v":"XXXX2856"},{"$f":"'shaladarpan '!U500","v":0},{"$f":"'shaladarpan '!V500","v":9828121195},{"$f":"'shaladarpan '!W500","v":"alniyawas499"},{"$f":"'shaladarpan '!X500","v":0},{"$f":"'shaladarpan '!Y500","v":"N"},{"$f":"'shaladarpan '!Z500","v":"N"},{"$f":"'shaladarpan '!AA500","v":"No"},{"$f":"'shaladarpan '!AB500","v":15},{"$f":"'shaladarpan '!AC500","v":"None"},{"$f":"'shaladarpan '!AD500","v":2}]
[{"$f":"IF(F502=\" \",\" \",ROWS($A$3:A502))","v":500},{"$f":"'shaladarpan '!A501","v":10},{"$f":"'shaladarpan '!B501","v":"B"},{"$f":"'shaladarpan '!C501","v":4318},{"$f":"'shaladarpan '!D501","v":"2017-07-04"},{"$f":"'shaladarpan '!E501","v":"manjeet500"},{"$f":"'shaladarpan '!F501","v":"00:00:00"},{"$f":"'shaladarpan '!G501","v":"vijay500"},{"$f":"'shaladarpan '!H501","v":"beautiful500"},{"$f":"'shaladarpan '!I501","v":"M"},{"$f":"'shaladarpan '!J501","v":"2005-10-05"},{"$f":"'shaladarpan '!K501","v":"yes"},{"$f":"'shaladarpan '!L501","v":500},{"$f":"'shaladarpan '!M501","v":0},{"$f":"'shaladarpan '!N501","v":0},{"$f":"'shaladarpan '!O501","v":"SC"},{"$f":"'shaladarpan '!P501","v":"Hindu"},{"$f":"'shaladarpan '!Q501","v":0},{"$f":"'shaladarpan '!R501","v":"GOVT. SENIOR SECONDARY SCHOOL ALNIYAWAS (219445)"},{"$f":"'shaladarpan '!S501","v":8140200308},{"$f":"'shaladarpan '!T501","v":"XXXX8827"},{"$f":"'shaladarpan '!U501","v":0},{"$f":"'shaladarpan '!V501","v":9828121196},{"$f":"'shaladarpan '!W501","v":"alniyawas500"},{"$f":"'shaladarpan '!X501","v":0},{"$f":"'shaladarpan '!Y501","v":"N"},{"$f":"'shaladarpan '!Z501","v":"N"},{"$f":"'shaladarpan '!AA501","v":"No"},{"$f":"'shaladarpan '!AB501","v":15},{"$f":"'shaladarpan '!AC501","v":"None"},{"$f":"'shaladarpan '!AD501","v":1}]
[{"$f":"IF(F503=\" \",\" \",ROWS($A$3:A503))","v":501},{"$f":"'shaladarpan '!A502","v":10},{"$f":"'shaladarpan '!B502","v":"B"},{"$f":"'shaladarpan '!C502","v":4770},{"$f":"'shaladarpan '!D502","v":"2019-07-22"},{"$f":"'shaladarpan '!E502","v":"manjeet501"},{"$f":"'shaladarpan '!F502","v":"00:00:00"},{"$f":"'shaladarpan '!G502","v":"vijay501"},{"$f":"'shaladarpan '!H502","v":"beautiful501"},{"$f":"'shaladarpan '!I502","v":"M"},{"$f":"'shaladarpan '!J502","v":"2005-07-08"},{"$f":"'shaladarpan '!K502","v":"no"},{"$f":"'shaladarpan '!L502","v":501},{"$f":"'shaladarpan '!M502","v":0},{"$f":"'shaladarpan '!N502","v":0},{"$f":"'shaladarpan '!O502","v":"SBC"},{"$f":"'shaladarpan '!P502","v":"Hindu"},{"$f":"'shaladarpan '!Q502","v":0},{"$f":"'shaladarpan '!R502","v":"GOVT. SENIOR SECONDARY SCHOOL ALNIYAWAS (219445)"},{"$f":"'shaladarpan '!S502","v":8140200308},{"$f":"'shaladarpan '!T502","v":"XXXX1742"},{"$f":"'shaladarpan '!U502","v":0},{"$f":"'shaladarpan '!V502","v":9828121197},{"$f":"'shaladarpan '!W502","v":"alniyawas501"},{"$f":"'shaladarpan '!X502","v":60000},{"$f":"'shaladarpan '!Y502","v":"N"},{"$f":"'shaladarpan '!Z502","v":"N"},{"$f":"'shaladarpan '!AA502","v":"No"},{"$f":"'shaladarpan '!AB502","v":15},{"$f":"'shaladarpan '!AC502","v":"None"},{"$f":"'shaladarpan '!AD502","v":4}]
[{"$f":"IF(F504=\" \",\" \",ROWS($A$3:A504))","v":502},{"$f":"'shaladarpan '!A503","v":10},{"$f":"'shaladarpan '!B503","v":"B"},{"$f":"'shaladarpan '!C503","v":4644},{"$f":"'shaladarpan '!D503","v":"2019-07-04"},{"$f":"'shaladarpan '!E503","v":"manjeet502"},{"$f":"'shaladarpan '!F503","v":"00:00:00"},{"$f":"'shaladarpan '!G503","v":"vijay502"},{"$f":"'shaladarpan '!H503","v":"beautiful502"},{"$f":"'shaladarpan '!I503","v":"M"},{"$f":"'shaladarpan '!J503","v":"2004-08-06"},{"$f":"'shaladarpan '!K503","v":"yes"},{"$f":"'shaladarpan '!L503","v":502},{"$f":"'shaladarpan '!M503","v":0},{"$f":"'shaladarpan '!N503","v":0},{"$f":"'shaladarpan '!O503","v":"OBC"},{"$f":"'shaladarpan '!P503","v":"Hindu"},{"$f":"'shaladarpan '!Q503","v":0},{"$f":"'shaladarpan '!R503","v":"GOVT. SENIOR SECONDARY SCHOOL ALNIYAWAS (219445)"},{"$f":"'shaladarpan '!S503","v":8140200308},{"$f":"'shaladarpan '!T503","v":"XXXX2257"},{"$f":"'shaladarpan '!U503","v":"wxvjnon"},{"$f":"'shaladarpan '!V503","v":9828121198},{"$f":"'shaladarpan '!W503","v":"alniyawas502"},{"$f":"'shaladarpan '!X503","v":80000},{"$f":"'shaladarpan '!Y503","v":"N"},{"$f":"'shaladarpan '!Z503","v":"N"},{"$f":"'shaladarpan '!AA503","v":"No"},{"$f":"'shaladarpan '!AB503","v":16},{"$f":"'shaladarpan '!AC503","v":"None"},{"$f":"'shaladarpan '!AD503","v":0}]
[{"$f":"IF(F505=\" \",\" \",ROWS($A$3:A505))","v":503},{"$f":"'shaladarpan '!A504","v":10},{"$f":"'shaladarpan '!B504","v":"B"},{"$f":"'shaladarpan '!C504","v":4378},{"$f":"'shaladarpan '!D504","v":"2017-07-12"},{"$f":"'shaladarpan '!E504","v":"manjeet503"},{"$f":"'shaladarpan '!F504","v":"00:00:00"},{"$f":"'shaladarpan '!G504","v":"vijay503"},{"$f":"'shaladarpan '!H504","v":"beautiful503"},{"$f":"'shaladarpan '!I504","v":"M"},{"$f":"'shaladarpan '!J504","v":"2006-05-10"},{"$f":"'shaladarpan '!K504","v":"yes"},{"$f":"'shaladarpan '!L504","v":503},{"$f":"'shaladarpan '!M504","v":0},{"$f":"'shaladarpan '!N504","v":0},{"$f":"'shaladarpan '!O504","v":"GEN"},{"$f":"'shaladarpan '!P504","v":"Hindu"},{"$f":"'shaladarpan '!Q504","v":0},{"$f":"'shaladarpan '!R504","v":"GOVT. SENIOR SECONDARY SCHOOL ALNIYAWAS (219445)"},{"$f":"'shaladarpan '!S504","v":8140200308},{"$f":"'shaladarpan '!T504","v":"XXXX5580"},{"$f":"'shaladarpan '!U504","v":0},{"$f":"'shaladarpan '!V504","v":9828121199},{"$f":"'shaladarpan '!W504","v":"alniyawas503"},{"$f":"'shaladarpan '!X504","v":0},{"$f":"'shaladarpan '!Y504","v":"N"},{"$f":"'shaladarpan '!Z504","v":"N"},{"$f":"'shaladarpan '!AA504","v":"No"},{"$f":"'shaladarpan '!AB504","v":14},{"$f":"'shaladarpan '!AC504","v":"None"},{"$f":"'shaladarpan '!AD504","v":1}]
[{"$f":"IF(F506=\" \",\" \",ROWS($A$3:A506))","v":504},{"$f":"'shaladarpan '!A505","v":10},{"$f":"'shaladarpan '!B505","v":"B"},{"$f":"'shaladarpan '!C505","v":4648},{"$f":"'shaladarpan '!D505","v":"2019-07-04"},{"$f":"'shaladarpan '!E505","v":"manjeet504"},{"$f":"'shaladarpan '!F505","v":"00:00:00"},{"$f":"'shaladarpan '!G505","v":"vijay504"},{"$f":"'shaladarpan '!H505","v":"beautiful504"},{"$f":"'shaladarpan '!I505","v":"F"},{"$f":"'shaladarpan '!J505","v":"2006-01-05"},{"$f":"'shaladarpan '!K505","v":"no"},{"$f":"'shaladarpan '!L505","v":504},{"$f":"'shaladarpan '!M505","v":0},{"$f":"'shaladarpan '!N505","v":0},{"$f":"'shaladarpan '!O505","v":"GEN"},{"$f":"'shaladarpan '!P505","v":"Hindu"},{"$f":"'shaladarpan '!Q505","v":0},{"$f":"'shaladarpan '!R505","v":"GOVT. SENIOR SECONDARY SCHOOL ALNIYAWAS (219445)"},{"$f":"'shaladarpan '!S505","v":8140200308},{"$f":"'shaladarpan '!T505","v":"XXXX1235"},{"$f":"'shaladarpan '!U505","v":"wxvjhwx"},{"$f":"'shaladarpan '!V505","v":9828121200},{"$f":"'shaladarpan '!W505","v":"alniyawas504"},{"$f":"'shaladarpan '!X505","v":80000},{"$f":"'shaladarpan '!Y505","v":"N"},{"$f":"'shaladarpan '!Z505","v":"N"},{"$f":"'shaladarpan '!AA505","v":"No"},{"$f":"'shaladarpan '!AB505","v":14},{"$f":"'shaladarpan '!AC505","v":"None"},{"$f":"'shaladarpan '!AD505","v":1}]
[{"$f":"IF(F507=\" \",\" \",ROWS($A$3:A507))","v":505},{"$f":"'shaladarpan '!A506","v":10},{"$f":"'shaladarpan '!B506","v":"B"},{"$f":"'shaladarpan '!C506","v":4758},{"$f":"'shaladarpan '!D506","v":"2018-07-06"},{"$f":"'shaladarpan '!E506","v":"manjeet505"},{"$f":"'shaladarpan '!F506","v":"00:00:00"},{"$f":"'shaladarpan '!G506","v":"vijay505"},{"$f":"'shaladarpan '!H506","v":"beautiful505"},{"$f":"'shaladarpan '!I506","v":"M"},{"$f":"'shaladarpan '!J506","v":"2006-06-12"},{"$f":"'shaladarpan '!K506","v":"yes"},{"$f":"'shaladarpan '!L506","v":505},{"$f":"'shaladarpan '!M506","v":0},{"$f":"'shaladarpan '!N506","v":0},{"$f":"'shaladarpan '!O506","v":"OBC"},{"$f":"'shaladarpan '!P506","v":"Hindu"},{"$f":"'shaladarpan '!Q506","v":0},{"$f":"'shaladarpan '!R506","v":"GOVT. SENIOR SECONDARY SCHOOL ALNIYAWAS (219445)"},{"$f":"'shaladarpan '!S506","v":8140200308},{"$f":"'shaladarpan '!T506","v":"XXXX6622"},{"$f":"'shaladarpan '!U506","v":"VWHCPON"},{"$f":"'shaladarpan '!V506","v":9828121201},{"$f":"'shaladarpan '!W506","v":"alniyawas505"},{"$f":"'shaladarpan '!X506","v":35000},{"$f":"'shaladarpan '!Y506","v":"N"},{"$f":"'shaladarpan '!Z506","v":"N"},{"$f":"'shaladarpan '!AA506","v":"No"},{"$f":"'shaladarpan '!AB506","v":14},{"$f":"'shaladarpan '!AC506","v":"None"},{"$f":"'shaladarpan '!AD506","v":1}]
[{"$f":"IF(F508=\" \",\" \",ROWS($A$3:A508))","v":506},{"$f":"'shaladarpan '!A507","v":10},{"$f":"'shaladarpan '!B507","v":"B"},{"$f":"'shaladarpan '!C507","v":4554},{"$f":"'shaladarpan '!D507","v":"2018-07-11"},{"$f":"'shaladarpan '!E507","v":"manjeet506"},{"$f":"'shaladarpan '!F507","v":"00:00:00"},{"$f":"'shaladarpan '!G507","v":"vijay506"},{"$f":"'shaladarpan '!H507","v":"beautiful506"},{"$f":"'shaladarpan '!I507","v":"M"},{"$f":"'shaladarpan '!J507","v":"2002-08-14"},{"$f":"'shaladarpan '!K507","v":"yes"},{"$f":"'shaladarpan '!L507","v":506},{"$f":"'shaladarpan '!M507","v":0},{"$f":"'shaladarpan '!N507","v":0},{"$f":"'shaladarpan '!O507","v":"GEN"},{"$f":"'shaladarpan '!P507","v":"Hindu"},{"$f":"'shaladarpan '!Q507","v":0},{"$f":"'shaladarpan '!R507","v":"GOVT. SENIOR SECONDARY SCHOOL ALNIYAWAS (219445)"},{"$f":"'shaladarpan '!S507","v":8140200308},{"$f":"'shaladarpan '!T507","v":"XXXX6463"},{"$f":"'shaladarpan '!U507","v":"VTVNBSN"},{"$f":"'shaladarpan '!V507","v":9828121202},{"$f":"'shaladarpan '!W507","v":"alniyawas506"},{"$f":"'shaladarpan '!X507","v":45000},{"$f":"'shaladarpan '!Y507","v":"N"},{"$f":"'shaladarpan '!Z507","v":"N"},{"$f":"'shaladarpan '!AA507","v":"No"},{"$f":"'shaladarpan '!AB507","v":18},{"$f":"'shaladarpan '!AC507","v":"None"},{"$f":"'shaladarpan '!AD507","v":1}]
[{"$f":"IF(F509=\" \",\" \",ROWS($A$3:A509))","v":507},{"$f":"'shaladarpan '!A508","v":10},{"$f":"'shaladarpan '!B508","v":"B"},{"$f":"'shaladarpan '!C508","v":4575},{"$f":"'shaladarpan '!D508","v":"2018-07-16"},{"$f":"'shaladarpan '!E508","v":"manjeet507"},{"$f":"'shaladarpan '!F508","v":"00:00:00"},{"$f":"'shaladarpan '!G508","v":"vijay507"},{"$f":"'shaladarpan '!H508","v":"beautiful507"},{"$f":"'shaladarpan '!I508","v":"M"},{"$f":"'shaladarpan '!J508","v":"2005-05-07"},{"$f":"'shaladarpan '!K508","v":"no"},{"$f":"'shaladarpan '!L508","v":507},{"$f":"'shaladarpan '!M508","v":0},{"$f":"'shaladarpan '!N508","v":0},{"$f":"'shaladarpan '!O508","v":"SC"},{"$f":"'shaladarpan '!P508","v":"Hindu"},{"$f":"'shaladarpan '!Q508","v":0},{"$f":"'shaladarpan '!R508","v":"GOVT. SENIOR SECONDARY SCHOOL ALNIYAWAS (219445)"},{"$f":"'shaladarpan '!S508","v":8140200308},{"$f":"'shaladarpan '!T508","v":"XXXX6428"},{"$f":"'shaladarpan '!U508","v":0},{"$f":"'shaladarpan '!V508","v":9828121203},{"$f":"'shaladarpan '!W508","v":"alniyawas507"},{"$f":"'shaladarpan '!X508","v":40000},{"$f":"'shaladarpan '!Y508","v":"N"},{"$f":"'shaladarpan '!Z508","v":"N"},{"$f":"'shaladarpan '!AA508","v":"No"},{"$f":"'shaladarpan '!AB508","v":15},{"$f":"'shaladarpan '!AC508","v":"None"},{"$f":"'shaladarpan '!AD508","v":1}]
[{"$f":"IF(F510=\" \",\" \",ROWS($A$3:A510))","v":508},{"$f":"'shaladarpan '!A509","v":10},{"$f":"'shaladarpan '!B509","v":"B"},{"$f":"'shaladarpan '!C509","v":4760},{"$f":"'shaladarpan '!D509","v":"2019-07-22"},{"$f":"'shaladarpan '!E509","v":"manjeet508"},{"$f":"'shaladarpan '!F509","v":"00:00:00"},{"$f":"'shaladarpan '!G509","v":"vijay508"},{"$f":"'shaladarpan '!H509","v":"beautiful508"},{"$f":"'shaladarpan '!I509","v":"M"},{"$f":"'shaladarpan '!J509","v":"2004-06-04"},{"$f":"'shaladarpan '!K509","v":"yes"},{"$f":"'shaladarpan '!L509","v":508},{"$f":"'shaladarpan '!M509","v":0},{"$f":"'shaladarpan '!N509","v":0},{"$f":"'shaladarpan '!O509","v":"SBC"},{"$f":"'shaladarpan '!P509","v":"Hindu"},{"$f":"'shaladarpan '!Q509","v":0},{"$f":"'shaladarpan '!R509","v":"GOVT. SENIOR SECONDARY SCHOOL ALNIYAWAS (219445)"},{"$f":"'shaladarpan '!S509","v":8140200308},{"$f":"'shaladarpan '!T509","v":"XXXX8618"},{"$f":"'shaladarpan '!U509","v":"YOWKWEG"},{"$f":"'shaladarpan '!V509","v":9828121204},{"$f":"'shaladarpan '!W509","v":"alniyawas508"},{"$f":"'shaladarpan '!X509","v":60000},{"$f":"'shaladarpan '!Y509","v":"N"},{"$f":"'shaladarpan '!Z509","v":"N"},{"$f":"'shaladarpan '!AA509","v":"No"},{"$f":"'shaladarpan '!AB509","v":16},{"$f":"'shaladarpan '!AC509","v":"None"},{"$f":"'shaladarpan '!AD509","v":6}]
[{"$f":"IF(F511=\" \",\" \",ROWS($A$3:A511))","v":509},{"$f":"'shaladarpan '!A510","v":10},{"$f":"'shaladarpan '!B510","v":"B"},{"$f":"'shaladarpan '!C510","v":3961},{"$f":"'shaladarpan '!D510","v":"2015-07-01"},{"$f":"'shaladarpan '!E510","v":"manjeet509"},{"$f":"'shaladarpan '!F510","v":"00:00:00"},{"$f":"'shaladarpan '!G510","v":"vijay509"},{"$f":"'shaladarpan '!H510","v":"beautiful509"},{"$f":"'shaladarpan '!I510","v":"M"},{"$f":"'shaladarpan '!J510","v":"2007-01-14"},{"$f":"'shaladarpan '!K510","v":"yes"},{"$f":"'shaladarpan '!L510","v":509},{"$f":"'shaladarpan '!M510","v":0},{"$f":"'shaladarpan '!N510","v":0},{"$f":"'shaladarpan '!O510","v":"OBC"},{"$f":"'shaladarpan '!P510","v":"Hindu"},{"$f":"'shaladarpan '!Q510","v":0},{"$f":"'shaladarpan '!R510","v":"GOVT. SENIOR SECONDARY SCHOOL ALNIYAWAS (219445)"},{"$f":"'shaladarpan '!S510","v":8140200308},{"$f":"'shaladarpan '!T510","v":"XXXX8032"},{"$f":"'shaladarpan '!U510","v":"VPXVBSP"},{"$f":"'shaladarpan '!V510","v":9828121205},{"$f":"'shaladarpan '!W510","v":"alniyawas509"},{"$f":"'shaladarpan '!X510","v":36000},{"$f":"'shaladarpan '!Y510","v":"N"},{"$f":"'shaladarpan '!Z510","v":"N"},{"$f":"'shaladarpan '!AA510","v":"No"},{"$f":"'shaladarpan '!AB510","v":13},{"$f":"'shaladarpan '!AC510","v":"None"},{"$f":"'shaladarpan '!AD510","v":0}]
[{"$f":"IF(F512=\" \",\" \",ROWS($A$3:A512))","v":510},{"$f":"'shaladarpan '!A511","v":10},{"$f":"'shaladarpan '!B511","v":"B"},{"$f":"'shaladarpan '!C511","v":4551},{"$f":"'shaladarpan '!D511","v":"2018-07-11"},{"$f":"'shaladarpan '!E511","v":"manjeet510"},{"$f":"'shaladarpan '!F511","v":"00:00:00"},{"$f":"'shaladarpan '!G511","v":"vijay510"},{"$f":"'shaladarpan '!H511","v":"beautiful510"},{"$f":"'shaladarpan '!I511","v":"F"},{"$f":"'shaladarpan '!J511","v":"2006-06-07"},{"$f":"'shaladarpan '!K511","v":"no"},{"$f":"'shaladarpan '!L511","v":510},{"$f":"'shaladarpan '!M511","v":0},{"$f":"'shaladarpan '!N511","v":0},{"$f":"'shaladarpan '!O511","v":"GEN"},{"$f":"'shaladarpan '!P511","v":"Hindu"},{"$f":"'shaladarpan '!Q511","v":0},{"$f":"'shaladarpan '!R511","v":"GOVT. SENIOR SECONDARY SCHOOL ALNIYAWAS (219445)"},{"$f":"'shaladarpan '!S511","v":8140200308},{"$f":"'shaladarpan '!T511","v":"XXXX7051"},{"$f":"'shaladarpan '!U511","v":"WDYEIDF"},{"$f":"'shaladarpan '!V511","v":9828121206},{"$f":"'shaladarpan '!W511","v":"alniyawas510"},{"$f":"'shaladarpan '!X511","v":50000},{"$f":"'shaladarpan '!Y511","v":"N"},{"$f":"'shaladarpan '!Z511","v":"N"},{"$f":"'shaladarpan '!AA511","v":"No"},{"$f":"'shaladarpan '!AB511","v":14},{"$f":"'shaladarpan '!AC511","v":"None"},{"$f":"'shaladarpan '!AD511","v":1}]
[{"$f":"IF(F513=\" \",\" \",ROWS($A$3:A513))","v":511},{"$f":"'shaladarpan '!A512","v":10},{"$f":"'shaladarpan '!B512","v":"B"},{"$f":"'shaladarpan '!C512","v":4023},{"$f":"'shaladarpan '!D512","v":"2015-07-09"},{"$f":"'shaladarpan '!E512","v":"manjeet511"},{"$f":"'shaladarpan '!F512","v":"00:00:00"},{"$f":"'shaladarpan '!G512","v":"vijay511"},{"$f":"'shaladarpan '!H512","v":"beautiful511"},{"$f":"'shaladarpan '!I512","v":"M"},{"$f":"'shaladarpan '!J512","v":"2005-05-25"},{"$f":"'shaladarpan '!K512","v":"yes"},{"$f":"'shaladarpan '!L512","v":511},{"$f":"'shaladarpan '!M512","v":0},{"$f":"'shaladarpan '!N512","v":0},{"$f":"'shaladarpan '!O512","v":"OBC"},{"$f":"'shaladarpan '!P512","v":"Hindu"},{"$f":"'shaladarpan '!Q512","v":0},{"$f":"'shaladarpan '!R512","v":"GOVT. SENIOR SECONDARY SCHOOL ALNIYAWAS (219445)"},{"$f":"'shaladarpan '!S512","v":8140200308},{"$f":"'shaladarpan '!T512","v":"XXXX0740"},{"$f":"'shaladarpan '!U512","v":0},{"$f":"'shaladarpan '!V512","v":9828121207},{"$f":"'shaladarpan '!W512","v":"alniyawas511"},{"$f":"'shaladarpan '!X512","v":0},{"$f":"'shaladarpan '!Y512","v":"N"},{"$f":"'shaladarpan '!Z512","v":"N"},{"$f":"'shaladarpan '!AA512","v":"No"},{"$f":"'shaladarpan '!AB512","v":15},{"$f":"'shaladarpan '!AC512","v":"None"},{"$f":"'shaladarpan '!AD512","v":2}]
[{"$f":"IF(F514=\" \",\" \",ROWS($A$3:A514))","v":512},{"$f":"'shaladarpan '!A513","v":10},{"$f":"'shaladarpan '!B513","v":"B"},{"$f":"'shaladarpan '!C513","v":4577},{"$f":"'shaladarpan '!D513","v":"2018-07-16"},{"$f":"'shaladarpan '!E513","v":"manjeet512"},{"$f":"'shaladarpan '!F513","v":"00:00:00"},{"$f":"'shaladarpan '!G513","v":"vijay512"},{"$f":"'shaladarpan '!H513","v":"beautiful512"},{"$f":"'shaladarpan '!I513","v":"F"},{"$f":"'shaladarpan '!J513","v":"2006-07-02"},{"$f":"'shaladarpan '!K513","v":"yes"},{"$f":"'shaladarpan '!L513","v":512},{"$f":"'shaladarpan '!M513","v":0},{"$f":"'shaladarpan '!N513","v":0},{"$f":"'shaladarpan '!O513","v":"OBC"},{"$f":"'shaladarpan '!P513","v":"Hindu"},{"$f":"'shaladarpan '!Q513","v":0},{"$f":"'shaladarpan '!R513","v":"GOVT. SENIOR SECONDARY SCHOOL ALNIYAWAS (219445)"},{"$f":"'shaladarpan '!S513","v":8140200308},{"$f":"'shaladarpan '!T513","v":"XXXX8312"},{"$f":"'shaladarpan '!U513","v":"YOEISWF"},{"$f":"'shaladarpan '!V513","v":9828121208},{"$f":"'shaladarpan '!W513","v":"alniyawas512"},{"$f":"'shaladarpan '!X513","v":42000},{"$f":"'shaladarpan '!Y513","v":"N"},{"$f":"'shaladarpan '!Z513","v":"N"},{"$f":"'shaladarpan '!AA513","v":"No"},{"$f":"'shaladarpan '!AB513","v":14},{"$f":"'shaladarpan '!AC513","v":"None"},{"$f":"'shaladarpan '!AD513","v":1}]
[{"$f":"IF(F515=\" \",\" \",ROWS($A$3:A515))","v":513},{"$f":"'shaladarpan '!A514","v":10},{"$f":"'shaladarpan '!B514","v":"B"},{"$f":"'shaladarpan '!C514","v":3776},{"$f":"'shaladarpan '!D514","v":"2016-10-11"},{"$f":"'shaladarpan '!E514","v":"manjeet513"},{"$f":"'shaladarpan '!F514","v":"00:00:00"},{"$f":"'shaladarpan '!G514","v":"vijay513"},{"$f":"'shaladarpan '!H514","v":"beautiful513"},{"$f":"'shaladarpan '!I514","v":"F"},{"$f":"'shaladarpan '!J514","v":"2005-05-10"},{"$f":"'shaladarpan '!K514","v":"no"},{"$f":"'shaladarpan '!L514","v":513},{"$f":"'shaladarpan '!M514","v":0},{"$f":"'shaladarpan '!N514","v":0},{"$f":"'shaladarpan '!O514","v":"OBC"},{"$f":"'shaladarpan '!P514","v":"Hindu"},{"$f":"'shaladarpan '!Q514","v":0},{"$f":"'shaladarpan '!R514","v":"GOVT. SENIOR SECONDARY SCHOOL ALNIYAWAS (219445)"},{"$f":"'shaladarpan '!S514","v":8140200308},{"$f":"'shaladarpan '!T514","v":"XXXX2357"},{"$f":"'shaladarpan '!U514","v":0},{"$f":"'shaladarpan '!V514","v":9828121209},{"$f":"'shaladarpan '!W514","v":"alniyawas513"},{"$f":"'shaladarpan '!X514","v":0},{"$f":"'shaladarpan '!Y514","v":"N"},{"$f":"'shaladarpan '!Z514","v":"N"},{"$f":"'shaladarpan '!AA514","v":"No"},{"$f":"'shaladarpan '!AB514","v":15},{"$f":"'shaladarpan '!AC514","v":"None"},{"$f":"'shaladarpan '!AD514","v":1}]
[{"$f":"IF(F516=\" \",\" \",ROWS($A$3:A516))","v":514},{"$f":"'shaladarpan '!A515","v":10},{"$f":"'shaladarpan '!B515","v":"B"},{"$f":"'shaladarpan '!C515","v":4759},{"$f":"'shaladarpan '!D515","v":"2019-07-22"},{"$f":"'shaladarpan '!E515","v":"manjeet514"},{"$f":"'shaladarpan '!F515","v":"00:00:00"},{"$f":"'shaladarpan '!G515","v":"vijay514"},{"$f":"'shaladarpan '!H515","v":"beautiful514"},{"$f":"'shaladarpan '!I515","v":"M"},{"$f":"'shaladarpan '!J515","v":"2006-07-07"},{"$f":"'shaladarpan '!K515","v":"yes"},{"$f":"'shaladarpan '!L515","v":514},{"$f":"'shaladarpan '!M515","v":0},{"$f":"'shaladarpan '!N515","v":0},{"$f":"'shaladarpan '!O515","v":"OBC"},{"$f":"'shaladarpan '!P515","v":"Hindu"},{"$f":"'shaladarpan '!Q515","v":0},{"$f":"'shaladarpan '!R515","v":"GOVT. SENIOR SECONDARY SCHOOL ALNIYAWAS (219445)"},{"$f":"'shaladarpan '!S515","v":8140200308},{"$f":"'shaladarpan '!T515","v":"XXXX5144"},{"$f":"'shaladarpan '!U515","v":"YMEDWQO"},{"$f":"'shaladarpan '!V515","v":9828121210},{"$f":"'shaladarpan '!W515","v":"alniyawas514"},{"$f":"'shaladarpan '!X515","v":60000},{"$f":"'shaladarpan '!Y515","v":"N"},{"$f":"'shaladarpan '!Z515","v":"N"},{"$f":"'shaladarpan '!AA515","v":"No"},{"$f":"'shaladarpan '!AB515","v":14},{"$f":"'shaladarpan '!AC515","v":"None"},{"$f":"'shaladarpan '!AD515","v":0}]
[{"$f":"IF(F517=\" \",\" \",ROWS($A$3:A517))","v":515},{"$f":"'shaladarpan '!A516","v":10},{"$f":"'shaladarpan '!B516","v":"B"},{"$f":"'shaladarpan '!C516","v":4687},{"$f":"'shaladarpan '!D516","v":"2019-07-09"},{"$f":"'shaladarpan '!E516","v":"manjeet515"},{"$f":"'shaladarpan '!F516","v":"00:00:00"},{"$f":"'shaladarpan '!G516","v":"vijay515"},{"$f":"'shaladarpan '!H516","v":"beautiful515"},{"$f":"'shaladarpan '!I516","v":"F"},{"$f":"'shaladarpan '!J516","v":"2006-06-02"},{"$f":"'shaladarpan '!K516","v":"yes"},{"$f":"'shaladarpan '!L516","v":515},{"$f":"'shaladarpan '!M516","v":0},{"$f":"'shaladarpan '!N516","v":0},{"$f":"'shaladarpan '!O516","v":"SC"},{"$f":"'shaladarpan '!P516","v":"Hindu"},{"$f":"'shaladarpan '!Q516","v":0},{"$f":"'shaladarpan '!R516","v":"GOVT. SENIOR SECONDARY SCHOOL ALNIYAWAS (219445)"},{"$f":"'shaladarpan '!S516","v":8140200308},{"$f":"'shaladarpan '!T516","v":0},{"$f":"'shaladarpan '!U516","v":"YBDDDAC"},{"$f":"'shaladarpan '!V516","v":9828121211},{"$f":"'shaladarpan '!W516","v":"alniyawas515"},{"$f":"'shaladarpan '!X516","v":50000},{"$f":"'shaladarpan '!Y516","v":"N"},{"$f":"'shaladarpan '!Z516","v":"N"},{"$f":"'shaladarpan '!AA516","v":"No"},{"$f":"'shaladarpan '!AB516","v":14},{"$f":"'shaladarpan '!AC516","v":"None"},{"$f":"'shaladarpan '!AD516","v":1}]
[{"$f":"IF(F518=\" \",\" \",ROWS($A$3:A518))","v":516},{"$f":"'shaladarpan '!A517","v":10},{"$f":"'shaladarpan '!B517","v":"B"},{"$f":"'shaladarpan '!C517","v":4686},{"$f":"'shaladarpan '!D517","v":"2011-07-14"},{"$f":"'shaladarpan '!E517","v":"manjeet516"},{"$f":"'shaladarpan '!F517","v":"00:00:00"},{"$f":"'shaladarpan '!G517","v":"vijay516"},{"$f":"'shaladarpan '!H517","v":"beautiful516"},{"$f":"'shaladarpan '!I517","v":"F"},{"$f":"'shaladarpan '!J517","v":"2006-08-08"},{"$f":"'shaladarpan '!K517","v":"no"},{"$f":"'shaladarpan '!L517","v":516},{"$f":"'shaladarpan '!M517","v":0},{"$f":"'shaladarpan '!N517","v":0},{"$f":"'shaladarpan '!O517","v":"SC"},{"$f":"'shaladarpan '!P517","v":"Hindu"},{"$f":"'shaladarpan '!Q517","v":0},{"$f":"'shaladarpan '!R517","v":"GOVT. SENIOR SECONDARY SCHOOL ALNIYAWAS (219445)"},{"$f":"'shaladarpan '!S517","v":8140200308},{"$f":"'shaladarpan '!T517","v":"XXXX7646"},{"$f":"'shaladarpan '!U517","v":0},{"$f":"'shaladarpan '!V517","v":9828121212},{"$f":"'shaladarpan '!W517","v":"alniyawas516"},{"$f":"'shaladarpan '!X517","v":40000},{"$f":"'shaladarpan '!Y517","v":"N"},{"$f":"'shaladarpan '!Z517","v":"N"},{"$f":"'shaladarpan '!AA517","v":"No"},{"$f":"'shaladarpan '!AB517","v":14},{"$f":"'shaladarpan '!AC517","v":"None"},{"$f":"'shaladarpan '!AD517","v":1}]
[{"$f":"IF(F519=\" \",\" \",ROWS($A$3:A519))","v":517},{"$f":"'shaladarpan '!A518","v":10},{"$f":"'shaladarpan '!B518","v":"B"},{"$f":"'shaladarpan '!C518","v":4177},{"$f":"'shaladarpan '!D518","v":"2016-07-06"},{"$f":"'shaladarpan '!E518","v":"manjeet517"},{"$f":"'shaladarpan '!F518","v":"00:00:00"},{"$f":"'shaladarpan '!G518","v":"vijay517"},{"$f":"'shaladarpan '!H518","v":"beautiful517"},{"$f":"'shaladarpan '!I518","v":"M"},{"$f":"'shaladarpan '!J518","v":"2008-07-01"},{"$f":"'shaladarpan '!K518","v":"yes"},{"$f":"'shaladarpan '!L518","v":517},{"$f":"'shaladarpan '!M518","v":0},{"$f":"'shaladarpan '!N518","v":0},{"$f":"'shaladarpan '!O518","v":"OBC"},{"$f":"'shaladarpan '!P518","v":0},{"$f":"'shaladarpan '!Q518","v":0},{"$f":"'shaladarpan '!R518","v":"GOVT. SENIOR SECONDARY SCHOOL ALNIYAWAS (219445)"},{"$f":"'shaladarpan '!S518","v":8140200308},{"$f":"'shaladarpan '!T518","v":"XXXX2056"},{"$f":"'shaladarpan '!U518","v":0},{"$f":"'shaladarpan '!V518","v":9828121213},{"$f":"'shaladarpan '!W518","v":"alniyawas517"},{"$f":"'shaladarpan '!X518","v":0},{"$f":"'shaladarpan '!Y518","v":"N"},{"$f":"'shaladarpan '!Z518","v":"N"},{"$f":"'shaladarpan '!AA518","v":0},{"$f":"'shaladarpan '!AB518","v":12},{"$f":"'shaladarpan '!AC518","v":"None"},{"$f":"'shaladarpan '!AD518","v":2}]
[{"$f":"IF(F520=\" \",\" \",ROWS($A$3:A520))","v":518},{"$f":"'shaladarpan '!A519","v":10},{"$f":"'shaladarpan '!B519","v":"B"},{"$f":"'shaladarpan '!C519","v":4707},{"$f":"'shaladarpan '!D519","v":"2019-07-10"},{"$f":"'shaladarpan '!E519","v":"manjeet518"},{"$f":"'shaladarpan '!F519","v":"00:00:00"},{"$f":"'shaladarpan '!G519","v":"vijay518"},{"$f":"'shaladarpan '!H519","v":"beautiful518"},{"$f":"'shaladarpan '!I519","v":"F"},{"$f":"'shaladarpan '!J519","v":"2006-08-10"},{"$f":"'shaladarpan '!K519","v":"yes"},{"$f":"'shaladarpan '!L519","v":518},{"$f":"'shaladarpan '!M519","v":0},{"$f":"'shaladarpan '!N519","v":0},{"$f":"'shaladarpan '!O519","v":"SBC"},{"$f":"'shaladarpan '!P519","v":"Hindu"},{"$f":"'shaladarpan '!Q519","v":0},{"$f":"'shaladarpan '!R519","v":"GOVT. SENIOR SECONDARY SCHOOL ALNIYAWAS (219445)"},{"$f":"'shaladarpan '!S519","v":8140200308},{"$f":"'shaladarpan '!T519","v":"XXXX4055"},{"$f":"'shaladarpan '!U519","v":"VORPHKN"},{"$f":"'shaladarpan '!V519","v":9828121214},{"$f":"'shaladarpan '!W519","v":"alniyawas518"},{"$f":"'shaladarpan '!X519","v":80000},{"$f":"'shaladarpan '!Y519","v":"N"},{"$f":"'shaladarpan '!Z519","v":"N"},{"$f":"'shaladarpan '!AA519","v":"No"},{"$f":"'shaladarpan '!AB519","v":14},{"$f":"'shaladarpan '!AC519","v":"None"},{"$f":"'shaladarpan '!AD519","v":1}]
[{"$f":"IF(F521=\" \",\" \",ROWS($A$3:A521))","v":519},{"$f":"'shaladarpan '!A520","v":10},{"$f":"'shaladarpan '!B520","v":"B"},{"$f":"'shaladarpan '!C520","v":4663},{"$f":"'shaladarpan '!D520","v":"2019-07-06"},{"$f":"'shaladarpan '!E520","v":"manjeet519"},{"$f":"'shaladarpan '!F520","v":"00:00:00"},{"$f":"'shaladarpan '!G520","v":"vijay519"},{"$f":"'shaladarpan '!H520","v":"beautiful519"},{"$f":"'shaladarpan '!I520","v":"M"},{"$f":"'shaladarpan '!J520","v":"2006-01-15"},{"$f":"'shaladarpan '!K520","v":"no"},{"$f":"'shaladarpan '!L520","v":519},{"$f":"'shaladarpan '!M520","v":0},{"$f":"'shaladarpan '!N520","v":0},{"$f":"'shaladarpan '!O520","v":"OBC"},{"$f":"'shaladarpan '!P520","v":"Hindu"},{"$f":"'shaladarpan '!Q520","v":0},{"$f":"'shaladarpan '!R520","v":"GOVT. SENIOR SECONDARY SCHOOL ALNIYAWAS (219445)"},{"$f":"'shaladarpan '!S520","v":8140200308},{"$f":"'shaladarpan '!T520","v":"XXXX7686"},{"$f":"'shaladarpan '!U520","v":"vpnhtgx"},{"$f":"'shaladarpan '!V520","v":9828121215},{"$f":"'shaladarpan '!W520","v":"alniyawas519"},{"$f":"'shaladarpan '!X520","v":80000},{"$f":"'shaladarpan '!Y520","v":"N"},{"$f":"'shaladarpan '!Z520","v":"N"},{"$f":"'shaladarpan '!AA520","v":"No"},{"$f":"'shaladarpan '!AB520","v":14},{"$f":"'shaladarpan '!AC520","v":"None"},{"$f":"'shaladarpan '!AD520","v":1}]
[{"$f":"IF(F522=\" \",\" \",ROWS($A$3:A522))","v":520},{"$f":"'shaladarpan '!A521","v":10},{"$f":"'shaladarpan '!B521","v":"B"},{"$f":"'shaladarpan '!C521","v":4612},{"$f":"'shaladarpan '!D521","v":"2018-08-08"},{"$f":"'shaladarpan '!E521","v":"manjeet520"},{"$f":"'shaladarpan '!F521","v":"00:00:00"},{"$f":"'shaladarpan '!G521","v":"vijay520"},{"$f":"'shaladarpan '!H521","v":"beautiful520"},{"$f":"'shaladarpan '!I521","v":"M"},{"$f":"'shaladarpan '!J521","v":"2006-11-10"},{"$f":"'shaladarpan '!K521","v":"yes"},{"$f":"'shaladarpan '!L521","v":520},{"$f":"'shaladarpan '!M521","v":0},{"$f":"'shaladarpan '!N521","v":0},{"$f":"'shaladarpan '!O521","v":"SC"},{"$f":"'shaladarpan '!P521","v":"Hindu"},{"$f":"'shaladarpan '!Q521","v":0},{"$f":"'shaladarpan '!R521","v":"GOVT. SENIOR SECONDARY SCHOOL ALNIYAWAS (219445)"},{"$f":"'shaladarpan '!S521","v":8140200308},{"$f":"'shaladarpan '!T521","v":"XXXX6475"},{"$f":"'shaladarpan '!U521","v":0},{"$f":"'shaladarpan '!V521","v":9828121216},{"$f":"'shaladarpan '!W521","v":"alniyawas520"},{"$f":"'shaladarpan '!X521","v":45000},{"$f":"'shaladarpan '!Y521","v":"N"},{"$f":"'shaladarpan '!Z521","v":"N"},{"$f":"'shaladarpan '!AA521","v":"No"},{"$f":"'shaladarpan '!AB521","v":14},{"$f":"'shaladarpan '!AC521","v":"None"},{"$f":"'shaladarpan '!AD521","v":0}]
[{"$f":"IF(F523=\" \",\" \",ROWS($A$3:A523))","v":521},{"$f":"'shaladarpan '!A522","v":10},{"$f":"'shaladarpan '!B522","v":"B"},{"$f":"'shaladarpan '!C522","v":4671},{"$f":"'shaladarpan '!D522","v":"2019-07-08"},{"$f":"'shaladarpan '!E522","v":"manjeet521"},{"$f":"'shaladarpan '!F522","v":"00:00:00"},{"$f":"'shaladarpan '!G522","v":"vijay521"},{"$f":"'shaladarpan '!H522","v":"beautiful521"},{"$f":"'shaladarpan '!I522","v":"M"},{"$f":"'shaladarpan '!J522","v":"2005-04-04"},{"$f":"'shaladarpan '!K522","v":"yes"},{"$f":"'shaladarpan '!L522","v":521},{"$f":"'shaladarpan '!M522","v":0},{"$f":"'shaladarpan '!N522","v":0},{"$f":"'shaladarpan '!O522","v":"SC"},{"$f":"'shaladarpan '!P522","v":"Hindu"},{"$f":"'shaladarpan '!Q522","v":0},{"$f":"'shaladarpan '!R522","v":"GOVT. SENIOR SECONDARY SCHOOL ALNIYAWAS (219445)"},{"$f":"'shaladarpan '!S522","v":8140200308},{"$f":"'shaladarpan '!T522","v":"XXXX9165"},{"$f":"'shaladarpan '!U522","v":0},{"$f":"'shaladarpan '!V522","v":9828121217},{"$f":"'shaladarpan '!W522","v":"alniyawas521"},{"$f":"'shaladarpan '!X522","v":60000},{"$f":"'shaladarpan '!Y522","v":"N"},{"$f":"'shaladarpan '!Z522","v":"N"},{"$f":"'shaladarpan '!AA522","v":"No"},{"$f":"'shaladarpan '!AB522","v":15},{"$f":"'shaladarpan '!AC522","v":"None"},{"$f":"'shaladarpan '!AD522","v":0}]
[{"$f":"IF(F524=\" \",\" \",ROWS($A$3:A524))","v":522},{"$f":"'shaladarpan '!A523","v":10},{"$f":"'shaladarpan '!B523","v":"B"},{"$f":"'shaladarpan '!C523","v":4646},{"$f":"'shaladarpan '!D523","v":"2019-07-04"},{"$f":"'shaladarpan '!E523","v":"manjeet522"},{"$f":"'shaladarpan '!F523","v":"00:00:00"},{"$f":"'shaladarpan '!G523","v":"vijay522"},{"$f":"'shaladarpan '!H523","v":"beautiful522"},{"$f":"'shaladarpan '!I523","v":"M"},{"$f":"'shaladarpan '!J523","v":"2004-11-18"},{"$f":"'shaladarpan '!K523","v":"no"},{"$f":"'shaladarpan '!L523","v":522},{"$f":"'shaladarpan '!M523","v":0},{"$f":"'shaladarpan '!N523","v":0},{"$f":"'shaladarpan '!O523","v":"OBC"},{"$f":"'shaladarpan '!P523","v":"Hindu"},{"$f":"'shaladarpan '!Q523","v":0},{"$f":"'shaladarpan '!R523","v":"GOVT. SENIOR SECONDARY SCHOOL ALNIYAWAS (219445)"},{"$f":"'shaladarpan '!S523","v":8140200308},{"$f":"'shaladarpan '!T523","v":"XXXX2037"},{"$f":"'shaladarpan '!U523","v":"ykikifk"},{"$f":"'shaladarpan '!V523","v":9828121218},{"$f":"'shaladarpan '!W523","v":"alniyawas522"},{"$f":"'shaladarpan '!X523","v":60000},{"$f":"'shaladarpan '!Y523","v":"N"},{"$f":"'shaladarpan '!Z523","v":"N"},{"$f":"'shaladarpan '!AA523","v":"No"},{"$f":"'shaladarpan '!AB523","v":16},{"$f":"'shaladarpan '!AC523","v":"None"},{"$f":"'shaladarpan '!AD523","v":0}]
[{"$f":"IF(F525=\" \",\" \",ROWS($A$3:A525))","v":523},{"$f":"'shaladarpan '!A524","v":10},{"$f":"'shaladarpan '!B524","v":"B"},{"$f":"'shaladarpan '!C524","v":4483},{"$f":"'shaladarpan '!D524","v":"2018-07-04"},{"$f":"'shaladarpan '!E524","v":"manjeet523"},{"$f":"'shaladarpan '!F524","v":"00:00:00"},{"$f":"'shaladarpan '!G524","v":"vijay523"},{"$f":"'shaladarpan '!H524","v":"beautiful523"},{"$f":"'shaladarpan '!I524","v":"M"},{"$f":"'shaladarpan '!J524","v":"2004-11-13"},{"$f":"'shaladarpan '!K524","v":"yes"},{"$f":"'shaladarpan '!L524","v":523},{"$f":"'shaladarpan '!M524","v":0},{"$f":"'shaladarpan '!N524","v":0},{"$f":"'shaladarpan '!O524","v":"OBC"},{"$f":"'shaladarpan '!P524","v":"Muslim"},{"$f":"'shaladarpan '!Q524","v":0},{"$f":"'shaladarpan '!R524","v":"GOVT. SENIOR SECONDARY SCHOOL ALNIYAWAS (219445)"},{"$f":"'shaladarpan '!S524","v":8140200308},{"$f":"'shaladarpan '!T524","v":"XXXX4380"},{"$f":"'shaladarpan '!U524","v":0},{"$f":"'shaladarpan '!V524","v":9828121219},{"$f":"'shaladarpan '!W524","v":"alniyawas523"},{"$f":"'shaladarpan '!X524","v":45000},{"$f":"'shaladarpan '!Y524","v":"N"},{"$f":"'shaladarpan '!Z524","v":"N"},{"$f":"'shaladarpan '!AA524","v":"Yes"},{"$f":"'shaladarpan '!AB524","v":16},{"$f":"'shaladarpan '!AC524","v":"None"},{"$f":"'shaladarpan '!AD524","v":1}]
[{"$f":"IF(F526=\" \",\" \",ROWS($A$3:A526))","v":524},{"$f":"'shaladarpan '!A525","v":10},{"$f":"'shaladarpan '!B525","v":"B"},{"$f":"'shaladarpan '!C525","v":4531},{"$f":"'shaladarpan '!D525","v":"2018-07-07"},{"$f":"'shaladarpan '!E525","v":"manjeet524"},{"$f":"'shaladarpan '!F525","v":"00:00:00"},{"$f":"'shaladarpan '!G525","v":"vijay524"},{"$f":"'shaladarpan '!H525","v":"beautiful524"},{"$f":"'shaladarpan '!I525","v":"F"},{"$f":"'shaladarpan '!J525","v":"2006-04-14"},{"$f":"'shaladarpan '!K525","v":"yes"},{"$f":"'shaladarpan '!L525","v":524},{"$f":"'shaladarpan '!M525","v":0},{"$f":"'shaladarpan '!N525","v":0},{"$f":"'shaladarpan '!O525","v":"OBC"},{"$f":"'shaladarpan '!P525","v":"Hindu"},{"$f":"'shaladarpan '!Q525","v":0},{"$f":"'shaladarpan '!R525","v":"GOVT. SENIOR SECONDARY SCHOOL ALNIYAWAS (219445)"},{"$f":"'shaladarpan '!S525","v":8140200308},{"$f":"'shaladarpan '!T525","v":"XXXX6006"},{"$f":"'shaladarpan '!U525","v":"VWCPHHP"},{"$f":"'shaladarpan '!V525","v":9828121220},{"$f":"'shaladarpan '!W525","v":"alniyawas524"},{"$f":"'shaladarpan '!X525","v":100000},{"$f":"'shaladarpan '!Y525","v":"N"},{"$f":"'shaladarpan '!Z525","v":"N"},{"$f":"'shaladarpan '!AA525","v":"No"},{"$f":"'shaladarpan '!AB525","v":14},{"$f":"'shaladarpan '!AC525","v":"None"},{"$f":"'shaladarpan '!AD525","v":1}]
[{"$f":"IF(F527=\" \",\" \",ROWS($A$3:A527))","v":525},{"$f":"'shaladarpan '!A526","v":10},{"$f":"'shaladarpan '!B526","v":"B"},{"$f":"'shaladarpan '!C526","v":4660},{"$f":"'shaladarpan '!D526","v":"2019-07-06"},{"$f":"'shaladarpan '!E526","v":"manjeet525"},{"$f":"'shaladarpan '!F526","v":"00:00:00"},{"$f":"'shaladarpan '!G526","v":"vijay525"},{"$f":"'shaladarpan '!H526","v":"beautiful525"},{"$f":"'shaladarpan '!I526","v":"F"},{"$f":"'shaladarpan '!J526","v":"2006-04-01"},{"$f":"'shaladarpan '!K526","v":"no"},{"$f":"'shaladarpan '!L526","v":525},{"$f":"'shaladarpan '!M526","v":0},{"$f":"'shaladarpan '!N526","v":0},{"$f":"'shaladarpan '!O526","v":"OBC"},{"$f":"'shaladarpan '!P526","v":"Hindu"},{"$f":"'shaladarpan '!Q526","v":0},{"$f":"'shaladarpan '!R526","v":"GOVT. SENIOR SECONDARY SCHOOL ALNIYAWAS (219445)"},{"$f":"'shaladarpan '!S526","v":8140200308},{"$f":"'shaladarpan '!T526","v":"XXXX4090"},{"$f":"'shaladarpan '!U526","v":"yoiysgs"},{"$f":"'shaladarpan '!V526","v":9828121221},{"$f":"'shaladarpan '!W526","v":"alniyawas525"},{"$f":"'shaladarpan '!X526","v":60000},{"$f":"'shaladarpan '!Y526","v":"N"},{"$f":"'shaladarpan '!Z526","v":"N"},{"$f":"'shaladarpan '!AA526","v":"No"},{"$f":"'shaladarpan '!AB526","v":14},{"$f":"'shaladarpan '!AC526","v":"None"},{"$f":"'shaladarpan '!AD526","v":2}]
[{"$f":"IF(F528=\" \",\" \",ROWS($A$3:A528))","v":526},{"$f":"'shaladarpan '!A527","v":10},{"$f":"'shaladarpan '!B527","v":"B"},{"$f":"'shaladarpan '!C527","v":4838},{"$f":"'shaladarpan '!D527","v":"2017-07-28"},{"$f":"'shaladarpan '!E527","v":"manjeet526"},{"$f":"'shaladarpan '!F527","v":"00:00:00"},{"$f":"'shaladarpan '!G527","v":"vijay526"},{"$f":"'shaladarpan '!H527","v":"beautiful526"},{"$f":"'shaladarpan '!I527","v":"F"},{"$f":"'shaladarpan '!J527","v":"2005-06-10"},{"$f":"'shaladarpan '!K527","v":"yes"},{"$f":"'shaladarpan '!L527","v":526},{"$f":"'shaladarpan '!M527","v":0},{"$f":"'shaladarpan '!N527","v":0},{"$f":"'shaladarpan '!O527","v":"OBC"},{"$f":"'shaladarpan '!P527","v":"Muslim"},{"$f":"'shaladarpan '!Q527","v":0},{"$f":"'shaladarpan '!R527","v":"GOVT. SENIOR SECONDARY SCHOOL ALNIYAWAS (219445)"},{"$f":"'shaladarpan '!S527","v":8140200308},{"$f":"'shaladarpan '!T527","v":"XXXX7869"},{"$f":"'shaladarpan '!U527","v":"VOCOCXR"},{"$f":"'shaladarpan '!V527","v":9828121222},{"$f":"'shaladarpan '!W527","v":"alniyawas526"},{"$f":"'shaladarpan '!X527","v":0},{"$f":"'shaladarpan '!Y527","v":"N"},{"$f":"'shaladarpan '!Z527","v":"N"},{"$f":"'shaladarpan '!AA527","v":"Yes"},{"$f":"'shaladarpan '!AB527","v":15},{"$f":"'shaladarpan '!AC527","v":"None"},{"$f":"'shaladarpan '!AD527","v":1}]
[{"$f":"IF(F529=\" \",\" \",ROWS($A$3:A529))","v":527},{"$f":"'shaladarpan '!A528","v":10},{"$f":"'shaladarpan '!B528","v":"B"},{"$f":"'shaladarpan '!C528","v":4662},{"$f":"'shaladarpan '!D528","v":"2018-07-16"},{"$f":"'shaladarpan '!E528","v":"manjeet527"},{"$f":"'shaladarpan '!F528","v":"00:00:00"},{"$f":"'shaladarpan '!G528","v":"vijay527"},{"$f":"'shaladarpan '!H528","v":"beautiful527"},{"$f":"'shaladarpan '!I528","v":"F"},{"$f":"'shaladarpan '!J528","v":"2006-01-01"},{"$f":"'shaladarpan '!K528","v":"yes"},{"$f":"'shaladarpan '!L528","v":527},{"$f":"'shaladarpan '!M528","v":0},{"$f":"'shaladarpan '!N528","v":0},{"$f":"'shaladarpan '!O528","v":"OBC"},{"$f":"'shaladarpan '!P528","v":"Muslim"},{"$f":"'shaladarpan '!Q528","v":0},{"$f":"'shaladarpan '!R528","v":"GOVT. SENIOR SECONDARY SCHOOL ALNIYAWAS (219445)"},{"$f":"'shaladarpan '!S528","v":8140200308},{"$f":"'shaladarpan '!T528","v":"XXXX8352"},{"$f":"'shaladarpan '!U528","v":0},{"$f":"'shaladarpan '!V528","v":9828121223},{"$f":"'shaladarpan '!W528","v":"alniyawas527"},{"$f":"'shaladarpan '!X528","v":60000},{"$f":"'shaladarpan '!Y528","v":"N"},{"$f":"'shaladarpan '!Z528","v":"N"},{"$f":"'shaladarpan '!AA528","v":"Yes"},{"$f":"'shaladarpan '!AB528","v":14},{"$f":"'shaladarpan '!AC528","v":"None"},{"$f":"'shaladarpan '!AD528","v":0}]
[{"$f":"IF(F530=\" \",\" \",ROWS($A$3:A530))","v":528},{"$f":"'shaladarpan '!A529","v":10},{"$f":"'shaladarpan '!B529","v":"B"},{"$f":"'shaladarpan '!C529","v":3572},{"$f":"'shaladarpan '!D529","v":"2014-05-13"},{"$f":"'shaladarpan '!E529","v":"manjeet528"},{"$f":"'shaladarpan '!F529","v":"00:00:00"},{"$f":"'shaladarpan '!G529","v":"vijay528"},{"$f":"'shaladarpan '!H529","v":"beautiful528"},{"$f":"'shaladarpan '!I529","v":"F"},{"$f":"'shaladarpan '!J529","v":"2004-05-10"},{"$f":"'shaladarpan '!K529","v":"no"},{"$f":"'shaladarpan '!L529","v":528},{"$f":"'shaladarpan '!M529","v":0},{"$f":"'shaladarpan '!N529","v":0},{"$f":"'shaladarpan '!O529","v":"OBC"},{"$f":"'shaladarpan '!P529","v":"Muslim"},{"$f":"'shaladarpan '!Q529","v":0},{"$f":"'shaladarpan '!R529","v":"GOVT. SENIOR SECONDARY SCHOOL ALNIYAWAS (219445)"},{"$f":"'shaladarpan '!S529","v":8140200308},{"$f":"'shaladarpan '!T529","v":"XXXX0545"},{"$f":"'shaladarpan '!U529","v":0},{"$f":"'shaladarpan '!V529","v":9828121224},{"$f":"'shaladarpan '!W529","v":"alniyawas528"},{"$f":"'shaladarpan '!X529","v":14000},{"$f":"'shaladarpan '!Y529","v":"N"},{"$f":"'shaladarpan '!Z529","v":"N"},{"$f":"'shaladarpan '!AA529","v":"Yes"},{"$f":"'shaladarpan '!AB529","v":16},{"$f":"'shaladarpan '!AC529","v":"None"},{"$f":"'shaladarpan '!AD529","v":1}]
[{"$f":"IF(F531=\" \",\" \",ROWS($A$3:A531))","v":529},{"$f":"'shaladarpan '!A530","v":10},{"$f":"'shaladarpan '!B530","v":"B"},{"$f":"'shaladarpan '!C530","v":4655},{"$f":"'shaladarpan '!D530","v":"2019-07-05"},{"$f":"'shaladarpan '!E530","v":"manjeet529"},{"$f":"'shaladarpan '!F530","v":"00:00:00"},{"$f":"'shaladarpan '!G530","v":"vijay529"},{"$f":"'shaladarpan '!H530","v":"beautiful529"},{"$f":"'shaladarpan '!I530","v":"F"},{"$f":"'shaladarpan '!J530","v":"2005-07-14"},{"$f":"'shaladarpan '!K530","v":"yes"},{"$f":"'shaladarpan '!L530","v":529},{"$f":"'shaladarpan '!M530","v":0},{"$f":"'shaladarpan '!N530","v":0},{"$f":"'shaladarpan '!O530","v":"OBC"},{"$f":"'shaladarpan '!P530","v":"Hindu"},{"$f":"'shaladarpan '!Q530","v":0},{"$f":"'shaladarpan '!R530","v":"GOVT. SENIOR SECONDARY SCHOOL ALNIYAWAS (219445)"},{"$f":"'shaladarpan '!S530","v":8140200308},{"$f":"'shaladarpan '!T530","v":"XXXX7867"},{"$f":"'shaladarpan '!U530","v":"vpgwcnj"},{"$f":"'shaladarpan '!V530","v":9828121225},{"$f":"'shaladarpan '!W530","v":"alniyawas529"},{"$f":"'shaladarpan '!X530","v":60000},{"$f":"'shaladarpan '!Y530","v":"N"},{"$f":"'shaladarpan '!Z530","v":"N"},{"$f":"'shaladarpan '!AA530","v":"No"},{"$f":"'shaladarpan '!AB530","v":15},{"$f":"'shaladarpan '!AC530","v":"None"},{"$f":"'shaladarpan '!AD530","v":1}]
[{"$f":"IF(F532=\" \",\" \",ROWS($A$3:A532))","v":530},{"$f":"'shaladarpan '!A531","v":10},{"$f":"'shaladarpan '!B531","v":"B"},{"$f":"'shaladarpan '!C531","v":4732},{"$f":"'shaladarpan '!D531","v":"2019-07-15"},{"$f":"'shaladarpan '!E531","v":"manjeet530"},{"$f":"'shaladarpan '!F531","v":"00:00:00"},{"$f":"'shaladarpan '!G531","v":"vijay530"},{"$f":"'shaladarpan '!H531","v":"beautiful530"},{"$f":"'shaladarpan '!I531","v":"F"},{"$f":"'shaladarpan '!J531","v":"2006-11-29"},{"$f":"'shaladarpan '!K531","v":"yes"},{"$f":"'shaladarpan '!L531","v":530},{"$f":"'shaladarpan '!M531","v":0},{"$f":"'shaladarpan '!N531","v":0},{"$f":"'shaladarpan '!O531","v":"OBC"},{"$f":"'shaladarpan '!P531","v":"Hindu"},{"$f":"'shaladarpan '!Q531","v":0},{"$f":"'shaladarpan '!R531","v":"GOVT. SENIOR SECONDARY SCHOOL ALNIYAWAS (219445)"},{"$f":"'shaladarpan '!S531","v":8140200308},{"$f":"'shaladarpan '!T531","v":"XXXX8859"},{"$f":"'shaladarpan '!U531","v":"yobydgo"},{"$f":"'shaladarpan '!V531","v":9828121226},{"$f":"'shaladarpan '!W531","v":"alniyawas530"},{"$f":"'shaladarpan '!X531","v":60000},{"$f":"'shaladarpan '!Y531","v":"N"},{"$f":"'shaladarpan '!Z531","v":"N"},{"$f":"'shaladarpan '!AA531","v":"No"},{"$f":"'shaladarpan '!AB531","v":14},{"$f":"'shaladarpan '!AC531","v":"None"},{"$f":"'shaladarpan '!AD531","v":3}]
[{"$f":"IF(F533=\" \",\" \",ROWS($A$3:A533))","v":531},{"$f":"'shaladarpan '!A532","v":10},{"$f":"'shaladarpan '!B532","v":"B"},{"$f":"'shaladarpan '!C532","v":4557},{"$f":"'shaladarpan '!D532","v":"2018-07-12"},{"$f":"'shaladarpan '!E532","v":"manjeet531"},{"$f":"'shaladarpan '!F532","v":"00:00:00"},{"$f":"'shaladarpan '!G532","v":"vijay531"},{"$f":"'shaladarpan '!H532","v":"beautiful531"},{"$f":"'shaladarpan '!I532","v":"M"},{"$f":"'shaladarpan '!J532","v":"2005-01-10"},{"$f":"'shaladarpan '!K532","v":"no"},{"$f":"'shaladarpan '!L532","v":531},{"$f":"'shaladarpan '!M532","v":0},{"$f":"'shaladarpan '!N532","v":0},{"$f":"'shaladarpan '!O532","v":"OBC"},{"$f":"'shaladarpan '!P532","v":"Hindu"},{"$f":"'shaladarpan '!Q532","v":0},{"$f":"'shaladarpan '!R532","v":"GOVT. SENIOR SECONDARY SCHOOL ALNIYAWAS (219445)"},{"$f":"'shaladarpan '!S532","v":8140200308},{"$f":"'shaladarpan '!T532","v":"XXXX9502"},{"$f":"'shaladarpan '!U532","v":"VVGOPGT"},{"$f":"'shaladarpan '!V532","v":9828121227},{"$f":"'shaladarpan '!W532","v":"alniyawas531"},{"$f":"'shaladarpan '!X532","v":60000},{"$f":"'shaladarpan '!Y532","v":"N"},{"$f":"'shaladarpan '!Z532","v":"N"},{"$f":"'shaladarpan '!AA532","v":"No"},{"$f":"'shaladarpan '!AB532","v":15},{"$f":"'shaladarpan '!AC532","v":"None"},{"$f":"'shaladarpan '!AD532","v":1}]
[{"$f":"IF(F534=\" \",\" \",ROWS($A$3:A534))","v":532},{"$f":"'shaladarpan '!A533","v":10},{"$f":"'shaladarpan '!B533","v":"B"},{"$f":"'shaladarpan '!C533","v":4314},{"$f":"'shaladarpan '!D533","v":"2017-07-04"},{"$f":"'shaladarpan '!E533","v":"manjeet532"},{"$f":"'shaladarpan '!F533","v":"00:00:00"},{"$f":"'shaladarpan '!G533","v":"vijay532"},{"$f":"'shaladarpan '!H533","v":"beautiful532"},{"$f":"'shaladarpan '!I533","v":"M"},{"$f":"'shaladarpan '!J533","v":"2005-01-05"},{"$f":"'shaladarpan '!K533","v":"yes"},{"$f":"'shaladarpan '!L533","v":532},{"$f":"'shaladarpan '!M533","v":0},{"$f":"'shaladarpan '!N533","v":0},{"$f":"'shaladarpan '!O533","v":"OBC"},{"$f":"'shaladarpan '!P533","v":"Hindu"},{"$f":"'shaladarpan '!Q533","v":0},{"$f":"'shaladarpan '!R533","v":"GOVT. SENIOR SECONDARY SCHOOL ALNIYAWAS (219445)"},{"$f":"'shaladarpan '!S533","v":8140200308},{"$f":"'shaladarpan '!T533","v":"XXXX8406"},{"$f":"'shaladarpan '!U533","v":0},{"$f":"'shaladarpan '!V533","v":9828121228},{"$f":"'shaladarpan '!W533","v":"alniyawas532"},{"$f":"'shaladarpan '!X533","v":0},{"$f":"'shaladarpan '!Y533","v":"N"},{"$f":"'shaladarpan '!Z533","v":"N"},{"$f":"'shaladarpan '!AA533","v":"No"},{"$f":"'shaladarpan '!AB533","v":15},{"$f":"'shaladarpan '!AC533","v":"None"},{"$f":"'shaladarpan '!AD533","v":1}]
[{"$f":"IF(F535=\" \",\" \",ROWS($A$3:A535))","v":533},{"$f":"'shaladarpan '!A534","v":10},{"$f":"'shaladarpan '!B534","v":"B"},{"$f":"'shaladarpan '!C534","v":4504},{"$f":"'shaladarpan '!D534","v":"2018-07-06"},{"$f":"'shaladarpan '!E534","v":"manjeet533"},{"$f":"'shaladarpan '!F534","v":"00:00:00"},{"$f":"'shaladarpan '!G534","v":"vijay533"},{"$f":"'shaladarpan '!H534","v":"beautiful533"},{"$f":"'shaladarpan '!I534","v":"M"},{"$f":"'shaladarpan '!J534","v":"2003-06-23"},{"$f":"'shaladarpan '!K534","v":"yes"},{"$f":"'shaladarpan '!L534","v":533},{"$f":"'shaladarpan '!M534","v":0},{"$f":"'shaladarpan '!N534","v":0},{"$f":"'shaladarpan '!O534","v":"OBC"},{"$f":"'shaladarpan '!P534","v":"Hindu"},{"$f":"'shaladarpan '!Q534","v":0},{"$f":"'shaladarpan '!R534","v":"GOVT. SENIOR SECONDARY SCHOOL ALNIYAWAS (219445)"},{"$f":"'shaladarpan '!S534","v":8140200308},{"$f":"'shaladarpan '!T534","v":"XXXX9939"},{"$f":"'shaladarpan '!U534","v":0},{"$f":"'shaladarpan '!V534","v":9828121229},{"$f":"'shaladarpan '!W534","v":"alniyawas533"},{"$f":"'shaladarpan '!X534","v":50000},{"$f":"'shaladarpan '!Y534","v":"N"},{"$f":"'shaladarpan '!Z534","v":"N"},{"$f":"'shaladarpan '!AA534","v":"No"},{"$f":"'shaladarpan '!AB534","v":17},{"$f":"'shaladarpan '!AC534","v":"None"},{"$f":"'shaladarpan '!AD534","v":1}]
[{"$f":"IF(F536=\" \",\" \",ROWS($A$3:A536))","v":534},{"$f":"'shaladarpan '!A535","v":10},{"$f":"'shaladarpan '!B535","v":"B"},{"$f":"'shaladarpan '!C535","v":4683},{"$f":"'shaladarpan '!D535","v":"2010-07-15"},{"$f":"'shaladarpan '!E535","v":"manjeet534"},{"$f":"'shaladarpan '!F535","v":"00:00:00"},{"$f":"'shaladarpan '!G535","v":"vijay534"},{"$f":"'shaladarpan '!H535","v":"beautiful534"},{"$f":"'shaladarpan '!I535","v":"F"},{"$f":"'shaladarpan '!J535","v":"2005-04-15"},{"$f":"'shaladarpan '!K535","v":"no"},{"$f":"'shaladarpan '!L535","v":534},{"$f":"'shaladarpan '!M535","v":0},{"$f":"'shaladarpan '!N535","v":0},{"$f":"'shaladarpan '!O535","v":"OBC"},{"$f":"'shaladarpan '!P535","v":"Hindu"},{"$f":"'shaladarpan '!Q535","v":0},{"$f":"'shaladarpan '!R535","v":"GOVT. SENIOR SECONDARY SCHOOL ALNIYAWAS (219445)"},{"$f":"'shaladarpan '!S535","v":8140200308},{"$f":"'shaladarpan '!T535","v":"XXXX7355"},{"$f":"'shaladarpan '!U535","v":0},{"$f":"'shaladarpan '!V535","v":9828121230},{"$f":"'shaladarpan '!W535","v":"alniyawas534"},{"$f":"'shaladarpan '!X535","v":65000},{"$f":"'shaladarpan '!Y535","v":"N"},{"$f":"'shaladarpan '!Z535","v":"N"},{"$f":"'shaladarpan '!AA535","v":"No"},{"$f":"'shaladarpan '!AB535","v":15},{"$f":"'shaladarpan '!AC535","v":"None"},{"$f":"'shaladarpan '!AD535","v":3}]
[{"$f":"IF(F537=\" \",\" \",ROWS($A$3:A537))","v":535},{"$f":"'shaladarpan '!A536","v":10},{"$f":"'shaladarpan '!B536","v":"B"},{"$f":"'shaladarpan '!C536","v":4524},{"$f":"'shaladarpan '!D536","v":"2018-07-07"},{"$f":"'shaladarpan '!E536","v":"manjeet535"},{"$f":"'shaladarpan '!F536","v":"00:00:00"},{"$f":"'shaladarpan '!G536","v":"vijay535"},{"$f":"'shaladarpan '!H536","v":"beautiful535"},{"$f":"'shaladarpan '!I536","v":"F"},{"$f":"'shaladarpan '!J536","v":"2006-09-20"},{"$f":"'shaladarpan '!K536","v":"yes"},{"$f":"'shaladarpan '!L536","v":535},{"$f":"'shaladarpan '!M536","v":0},{"$f":"'shaladarpan '!N536","v":0},{"$f":"'shaladarpan '!O536","v":"OBC"},{"$f":"'shaladarpan '!P536","v":"Hindu"},{"$f":"'shaladarpan '!Q536","v":0},{"$f":"'shaladarpan '!R536","v":"GOVT. SENIOR SECONDARY SCHOOL ALNIYAWAS (219445)"},{"$f":"'shaladarpan '!S536","v":8140200308},{"$f":"'shaladarpan '!T536","v":"XXXX8483"},{"$f":"'shaladarpan '!U536","v":"VHTZJWJ"},{"$f":"'shaladarpan '!V536","v":9828121231},{"$f":"'shaladarpan '!W536","v":"alniyawas535"},{"$f":"'shaladarpan '!X536","v":36000},{"$f":"'shaladarpan '!Y536","v":"N"},{"$f":"'shaladarpan '!Z536","v":"N"},{"$f":"'shaladarpan '!AA536","v":"No"},{"$f":"'shaladarpan '!AB536","v":14},{"$f":"'shaladarpan '!AC536","v":"None"},{"$f":"'shaladarpan '!AD536","v":4}]
[{"$f":"IF(F538=\" \",\" \",ROWS($A$3:A538))","v":536},{"$f":"'shaladarpan '!A537","v":10},{"$f":"'shaladarpan '!B537","v":"B"},{"$f":"'shaladarpan '!C537","v":4164},{"$f":"'shaladarpan '!D537","v":"2016-07-04"},{"$f":"'shaladarpan '!E537","v":"manjeet536"},{"$f":"'shaladarpan '!F537","v":"00:00:00"},{"$f":"'shaladarpan '!G537","v":"vijay536"},{"$f":"'shaladarpan '!H537","v":"beautiful536"},{"$f":"'shaladarpan '!I537","v":"F"},{"$f":"'shaladarpan '!J537","v":"2005-03-19"},{"$f":"'shaladarpan '!K537","v":"yes"},{"$f":"'shaladarpan '!L537","v":536},{"$f":"'shaladarpan '!M537","v":0},{"$f":"'shaladarpan '!N537","v":0},{"$f":"'shaladarpan '!O537","v":"GEN"},{"$f":"'shaladarpan '!P537","v":"Hindu"},{"$f":"'shaladarpan '!Q537","v":0},{"$f":"'shaladarpan '!R537","v":"GOVT. SENIOR SECONDARY SCHOOL ALNIYAWAS (219445)"},{"$f":"'shaladarpan '!S537","v":8140200308},{"$f":"'shaladarpan '!T537","v":"XXXX5228"},{"$f":"'shaladarpan '!U537","v":0},{"$f":"'shaladarpan '!V537","v":9828121232},{"$f":"'shaladarpan '!W537","v":"alniyawas536"},{"$f":"'shaladarpan '!X537","v":0},{"$f":"'shaladarpan '!Y537","v":"N"},{"$f":"'shaladarpan '!Z537","v":"N"},{"$f":"'shaladarpan '!AA537","v":"No"},{"$f":"'shaladarpan '!AB537","v":15},{"$f":"'shaladarpan '!AC537","v":"None"},{"$f":"'shaladarpan '!AD537","v":2}]
[{"$f":"IF(F539=\" \",\" \",ROWS($A$3:A539))","v":537},{"$f":"'shaladarpan '!A538","v":10},{"$f":"'shaladarpan '!B538","v":"B"},{"$f":"'shaladarpan '!C538","v":4731},{"$f":"'shaladarpan '!D538","v":"2019-07-15"},{"$f":"'shaladarpan '!E538","v":"manjeet537"},{"$f":"'shaladarpan '!F538","v":"00:00:00"},{"$f":"'shaladarpan '!G538","v":"vijay537"},{"$f":"'shaladarpan '!H538","v":"beautiful537"},{"$f":"'shaladarpan '!I538","v":"F"},{"$f":"'shaladarpan '!J538","v":"2005-09-03"},{"$f":"'shaladarpan '!K538","v":"no"},{"$f":"'shaladarpan '!L538","v":537},{"$f":"'shaladarpan '!M538","v":0},{"$f":"'shaladarpan '!N538","v":0},{"$f":"'shaladarpan '!O538","v":"SC"},{"$f":"'shaladarpan '!P538","v":"Hindu"},{"$f":"'shaladarpan '!Q538","v":0},{"$f":"'shaladarpan '!R538","v":"GOVT. SENIOR SECONDARY SCHOOL ALNIYAWAS (219445)"},{"$f":"'shaladarpan '!S538","v":8140200308},{"$f":"'shaladarpan '!T538","v":"XXXX9105"},{"$f":"'shaladarpan '!U538","v":0},{"$f":"'shaladarpan '!V538","v":9828121233},{"$f":"'shaladarpan '!W538","v":"alniyawas537"},{"$f":"'shaladarpan '!X538","v":80000},{"$f":"'shaladarpan '!Y538","v":"N"},{"$f":"'shaladarpan '!Z538","v":"N"},{"$f":"'shaladarpan '!AA538","v":"No"},{"$f":"'shaladarpan '!AB538","v":15},{"$f":"'shaladarpan '!AC538","v":"None"},{"$f":"'shaladarpan '!AD538","v":3}]
[{"$f":"IF(F540=\" \",\" \",ROWS($A$3:A540))","v":538},{"$f":"'shaladarpan '!A539","v":10},{"$f":"'shaladarpan '!B539","v":"B"},{"$f":"'shaladarpan '!C539","v":4597},{"$f":"'shaladarpan '!D539","v":"2018-05-01"},{"$f":"'shaladarpan '!E539","v":"manjeet538"},{"$f":"'shaladarpan '!F539","v":"00:00:00"},{"$f":"'shaladarpan '!G539","v":"vijay538"},{"$f":"'shaladarpan '!H539","v":"beautiful538"},{"$f":"'shaladarpan '!I539","v":"M"},{"$f":"'shaladarpan '!J539","v":"2005-05-13"},{"$f":"'shaladarpan '!K539","v":"yes"},{"$f":"'shaladarpan '!L539","v":538},{"$f":"'shaladarpan '!M539","v":0},{"$f":"'shaladarpan '!N539","v":0},{"$f":"'shaladarpan '!O539","v":"SC"},{"$f":"'shaladarpan '!P539","v":"Hindu"},{"$f":"'shaladarpan '!Q539","v":0},{"$f":"'shaladarpan '!R539","v":"GOVT. SENIOR SECONDARY SCHOOL ALNIYAWAS (219445)"},{"$f":"'shaladarpan '!S539","v":8140200308},{"$f":"'shaladarpan '!T539","v":"XXXX5910"},{"$f":"'shaladarpan '!U539","v":0},{"$f":"'shaladarpan '!V539","v":9828121234},{"$f":"'shaladarpan '!W539","v":"alniyawas538"},{"$f":"'shaladarpan '!X539","v":45000},{"$f":"'shaladarpan '!Y539","v":"N"},{"$f":"'shaladarpan '!Z539","v":"N"},{"$f":"'shaladarpan '!AA539","v":"No"},{"$f":"'shaladarpan '!AB539","v":15},{"$f":"'shaladarpan '!AC539","v":"None"},{"$f":"'shaladarpan '!AD539","v":1}]
[{"$f":"IF(F541=\" \",\" \",ROWS($A$3:A541))","v":539},{"$f":"'shaladarpan '!A540","v":10},{"$f":"'shaladarpan '!B540","v":"B"},{"$f":"'shaladarpan '!C540","v":4292},{"$f":"'shaladarpan '!D540","v":"2017-06-30"},{"$f":"'shaladarpan '!E540","v":"manjeet539"},{"$f":"'shaladarpan '!F540","v":"00:00:00"},{"$f":"'shaladarpan '!G540","v":"vijay539"},{"$f":"'shaladarpan '!H540","v":"beautiful539"},{"$f":"'shaladarpan '!I540","v":"F"},{"$f":"'shaladarpan '!J540","v":"2005-12-20"},{"$f":"'shaladarpan '!K540","v":"yes"},{"$f":"'shaladarpan '!L540","v":539},{"$f":"'shaladarpan '!M540","v":0},{"$f":"'shaladarpan '!N540","v":0},{"$f":"'shaladarpan '!O540","v":"GEN"},{"$f":"'shaladarpan '!P540","v":"Hindu"},{"$f":"'shaladarpan '!Q540","v":0},{"$f":"'shaladarpan '!R540","v":"GOVT. SENIOR SECONDARY SCHOOL ALNIYAWAS (219445)"},{"$f":"'shaladarpan '!S540","v":8140200308},{"$f":"'shaladarpan '!T540","v":"XXXX3612"},{"$f":"'shaladarpan '!U540","v":0},{"$f":"'shaladarpan '!V540","v":9828121235},{"$f":"'shaladarpan '!W540","v":"alniyawas539"},{"$f":"'shaladarpan '!X540","v":0},{"$f":"'shaladarpan '!Y540","v":"N"},{"$f":"'shaladarpan '!Z540","v":"N"},{"$f":"'shaladarpan '!AA540","v":"No"},{"$f":"'shaladarpan '!AB540","v":15},{"$f":"'shaladarpan '!AC540","v":"None"},{"$f":"'shaladarpan '!AD540","v":1}]
[{"$f":"IF(F542=\" \",\" \",ROWS($A$3:A542))","v":540},{"$f":"'shaladarpan '!A541","v":10},{"$f":"'shaladarpan '!B541","v":"B"},{"$f":"'shaladarpan '!C541","v":3788},{"$f":"'shaladarpan '!D541","v":"2015-05-11"},{"$f":"'shaladarpan '!E541","v":"manjeet540"},{"$f":"'shaladarpan '!F541","v":"00:00:00"},{"$f":"'shaladarpan '!G541","v":"vijay540"},{"$f":"'shaladarpan '!H541","v":"beautiful540"},{"$f":"'shaladarpan '!I541","v":"F"},{"$f":"'shaladarpan '!J541","v":"2005-05-07"},{"$f":"'shaladarpan '!K541","v":"no"},{"$f":"'shaladarpan '!L541","v":540},{"$f":"'shaladarpan '!M541","v":0},{"$f":"'shaladarpan '!N541","v":0},{"$f":"'shaladarpan '!O541","v":"OBC"},{"$f":"'shaladarpan '!P541","v":"Muslim"},{"$f":"'shaladarpan '!Q541","v":0},{"$f":"'shaladarpan '!R541","v":"GOVT. SENIOR SECONDARY SCHOOL ALNIYAWAS (219445)"},{"$f":"'shaladarpan '!S541","v":8140200308},{"$f":"'shaladarpan '!T541","v":"XXXX4244"},{"$f":"'shaladarpan '!U541","v":0},{"$f":"'shaladarpan '!V541","v":9828121236},{"$f":"'shaladarpan '!W541","v":"alniyawas540"},{"$f":"'shaladarpan '!X541","v":0},{"$f":"'shaladarpan '!Y541","v":"N"},{"$f":"'shaladarpan '!Z541","v":"N"},{"$f":"'shaladarpan '!AA541","v":"Yes"},{"$f":"'shaladarpan '!AB541","v":15},{"$f":"'shaladarpan '!AC541","v":"None"},{"$f":"'shaladarpan '!AD541","v":1}]
[{"$f":"IF(F543=\" \",\" \",ROWS($A$3:A543))","v":541},{"$f":"'shaladarpan '!A542","v":10},{"$f":"'shaladarpan '!B542","v":"B"},{"$f":"'shaladarpan '!C542","v":4701},{"$f":"'shaladarpan '!D542","v":"2011-07-01"},{"$f":"'shaladarpan '!E542","v":"manjeet541"},{"$f":"'shaladarpan '!F542","v":"00:00:00"},{"$f":"'shaladarpan '!G542","v":"vijay541"},{"$f":"'shaladarpan '!H542","v":"beautiful541"},{"$f":"'shaladarpan '!I542","v":"M"},{"$f":"'shaladarpan '!J542","v":"2005-08-07"},{"$f":"'shaladarpan '!K542","v":"yes"},{"$f":"'shaladarpan '!L542","v":541},{"$f":"'shaladarpan '!M542","v":0},{"$f":"'shaladarpan '!N542","v":0},{"$f":"'shaladarpan '!O542","v":"OBC"},{"$f":"'shaladarpan '!P542","v":"Hindu"},{"$f":"'shaladarpan '!Q542","v":0},{"$f":"'shaladarpan '!R542","v":"GOVT. SENIOR SECONDARY SCHOOL ALNIYAWAS (219445)"},{"$f":"'shaladarpan '!S542","v":8140200308},{"$f":"'shaladarpan '!T542","v":"XXXX0050"},{"$f":"'shaladarpan '!U542","v":"VNNNTOV"},{"$f":"'shaladarpan '!V542","v":9828121237},{"$f":"'shaladarpan '!W542","v":"alniyawas541"},{"$f":"'shaladarpan '!X542","v":60000},{"$f":"'shaladarpan '!Y542","v":"N"},{"$f":"'shaladarpan '!Z542","v":"N"},{"$f":"'shaladarpan '!AA542","v":"No"},{"$f":"'shaladarpan '!AB542","v":15},{"$f":"'shaladarpan '!AC542","v":"None"},{"$f":"'shaladarpan '!AD542","v":0}]
[{"$f":"IF(F544=\" \",\" \",ROWS($A$3:A544))","v":542},{"$f":"'shaladarpan '!A543","v":10},{"$f":"'shaladarpan '!B543","v":"B"},{"$f":"'shaladarpan '!C543","v":4453},{"$f":"'shaladarpan '!D543","v":"2018-07-02"},{"$f":"'shaladarpan '!E543","v":"manjeet542"},{"$f":"'shaladarpan '!F543","v":"00:00:00"},{"$f":"'shaladarpan '!G543","v":"vijay542"},{"$f":"'shaladarpan '!H543","v":"beautiful542"},{"$f":"'shaladarpan '!I543","v":"M"},{"$f":"'shaladarpan '!J543","v":"2005-09-03"},{"$f":"'shaladarpan '!K543","v":"yes"},{"$f":"'shaladarpan '!L543","v":542},{"$f":"'shaladarpan '!M543","v":0},{"$f":"'shaladarpan '!N543","v":0},{"$f":"'shaladarpan '!O543","v":"GEN"},{"$f":"'shaladarpan '!P543","v":"Hindu"},{"$f":"'shaladarpan '!Q543","v":0},{"$f":"'shaladarpan '!R543","v":"GOVT. SENIOR SECONDARY SCHOOL ALNIYAWAS (219445)"},{"$f":"'shaladarpan '!S543","v":8140200308},{"$f":"'shaladarpan '!T543","v":"XXXX6995"},{"$f":"'shaladarpan '!U543","v":"VHJRXSR"},{"$f":"'shaladarpan '!V543","v":9828121238},{"$f":"'shaladarpan '!W543","v":"alniyawas542"},{"$f":"'shaladarpan '!X543","v":45000},{"$f":"'shaladarpan '!Y543","v":"N"},{"$f":"'shaladarpan '!Z543","v":"N"},{"$f":"'shaladarpan '!AA543","v":"No"},{"$f":"'shaladarpan '!AB543","v":15},{"$f":"'shaladarpan '!AC543","v":"None"},{"$f":"'shaladarpan '!AD543","v":3}]
[{"$f":"IF(F545=\" \",\" \",ROWS($A$3:A545))","v":543},{"$f":"'shaladarpan '!A544","v":10},{"$f":"'shaladarpan '!B544","v":"B"},{"$f":"'shaladarpan '!C544","v":4331},{"$f":"'shaladarpan '!D544","v":"2017-07-04"},{"$f":"'shaladarpan '!E544","v":"manjeet543"},{"$f":"'shaladarpan '!F544","v":"00:00:00"},{"$f":"'shaladarpan '!G544","v":"vijay543"},{"$f":"'shaladarpan '!H544","v":"beautiful543"},{"$f":"'shaladarpan '!I544","v":"F"},{"$f":"'shaladarpan '!J544","v":"2005-07-03"},{"$f":"'shaladarpan '!K544","v":"no"},{"$f":"'shaladarpan '!L544","v":543},{"$f":"'shaladarpan '!M544","v":0},{"$f":"'shaladarpan '!N544","v":0},{"$f":"'shaladarpan '!O544","v":"OBC"},{"$f":"'shaladarpan '!P544","v":"Hindu"},{"$f":"'shaladarpan '!Q544","v":0},{"$f":"'shaladarpan '!R544","v":"GOVT. SENIOR SECONDARY SCHOOL ALNIYAWAS (219445)"},{"$f":"'shaladarpan '!S544","v":8140200308},{"$f":"'shaladarpan '!T544","v":"XXXX0939"},{"$f":"'shaladarpan '!U544","v":"VXPKBPX"},{"$f":"'shaladarpan '!V544","v":9828121239},{"$f":"'shaladarpan '!W544","v":"alniyawas543"},{"$f":"'shaladarpan '!X544","v":100000},{"$f":"'shaladarpan '!Y544","v":"N"},{"$f":"'shaladarpan '!Z544","v":"N"},{"$f":"'shaladarpan '!AA544","v":"No"},{"$f":"'shaladarpan '!AB544","v":15},{"$f":"'shaladarpan '!AC544","v":"None"},{"$f":"'shaladarpan '!AD544","v":1}]
[{"$f":"IF(F546=\" \",\" \",ROWS($A$3:A546))","v":544},{"$f":"'shaladarpan '!A545","v":10},{"$f":"'shaladarpan '!B545","v":"B"},{"$f":"'shaladarpan '!C545","v":4682},{"$f":"'shaladarpan '!D545","v":"2018-10-11"},{"$f":"'shaladarpan '!E545","v":"manjeet544"},{"$f":"'shaladarpan '!F545","v":"00:00:00"},{"$f":"'shaladarpan '!G545","v":"vijay544"},{"$f":"'shaladarpan '!H545","v":"beautiful544"},{"$f":"'shaladarpan '!I545","v":"M"},{"$f":"'shaladarpan '!J545","v":"2003-10-15"},{"$f":"'shaladarpan '!K545","v":"yes"},{"$f":"'shaladarpan '!L545","v":544},{"$f":"'shaladarpan '!M545","v":0},{"$f":"'shaladarpan '!N545","v":0},{"$f":"'shaladarpan '!O545","v":"SBC"},{"$f":"'shaladarpan '!P545","v":"Hindu"},{"$f":"'shaladarpan '!Q545","v":0},{"$f":"'shaladarpan '!R545","v":"GOVT. SENIOR SECONDARY SCHOOL ALNIYAWAS (219445)"},{"$f":"'shaladarpan '!S545","v":8140200308},{"$f":"'shaladarpan '!T545","v":"XXXX6725"},{"$f":"'shaladarpan '!U545","v":"YUCBOCB"},{"$f":"'shaladarpan '!V545","v":9828121240},{"$f":"'shaladarpan '!W545","v":"alniyawas544"},{"$f":"'shaladarpan '!X545","v":60000},{"$f":"'shaladarpan '!Y545","v":"N"},{"$f":"'shaladarpan '!Z545","v":"N"},{"$f":"'shaladarpan '!AA545","v":"No"},{"$f":"'shaladarpan '!AB545","v":17},{"$f":"'shaladarpan '!AC545","v":"None"},{"$f":"'shaladarpan '!AD545","v":3}]
[{"$f":"IF(F547=\" \",\" \",ROWS($A$3:A547))","v":545},{"$f":"'shaladarpan '!A546","v":10},{"$f":"'shaladarpan '!B546","v":"B"},{"$f":"'shaladarpan '!C546","v":4458},{"$f":"'shaladarpan '!D546","v":"2018-07-03"},{"$f":"'shaladarpan '!E546","v":"manjeet545"},{"$f":"'shaladarpan '!F546","v":"00:00:00"},{"$f":"'shaladarpan '!G546","v":"vijay545"},{"$f":"'shaladarpan '!H546","v":"beautiful545"},{"$f":"'shaladarpan '!I546","v":"F"},{"$f":"'shaladarpan '!J546","v":"2003-06-11"},{"$f":"'shaladarpan '!K546","v":"yes"},{"$f":"'shaladarpan '!L546","v":545},{"$f":"'shaladarpan '!M546","v":0},{"$f":"'shaladarpan '!N546","v":0},{"$f":"'shaladarpan '!O546","v":"OBC"},{"$f":"'shaladarpan '!P546","v":"Hindu"},{"$f":"'shaladarpan '!Q546","v":0},{"$f":"'shaladarpan '!R546","v":"GOVT. SENIOR SECONDARY SCHOOL ALNIYAWAS (219445)"},{"$f":"'shaladarpan '!S546","v":8140200308},{"$f":"'shaladarpan '!T546","v":"XXXX4333"},{"$f":"'shaladarpan '!U546","v":"ymiauic"},{"$f":"'shaladarpan '!V546","v":9828121241},{"$f":"'shaladarpan '!W546","v":"alniyawas545"},{"$f":"'shaladarpan '!X546","v":36000},{"$f":"'shaladarpan '!Y546","v":"N"},{"$f":"'shaladarpan '!Z546","v":"N"},{"$f":"'shaladarpan '!AA546","v":"No"},{"$f":"'shaladarpan '!AB546","v":17},{"$f":"'shaladarpan '!AC546","v":"None"},{"$f":"'shaladarpan '!AD546","v":5}]
[{"$f":"IF(F548=\" \",\" \",ROWS($A$3:A548))","v":546},{"$f":"'shaladarpan '!A547","v":10},{"$f":"'shaladarpan '!B547","v":"B"},{"$f":"'shaladarpan '!C547","v":4653},{"$f":"'shaladarpan '!D547","v":"2019-07-05"},{"$f":"'shaladarpan '!E547","v":"manjeet546"},{"$f":"'shaladarpan '!F547","v":"00:00:00"},{"$f":"'shaladarpan '!G547","v":"vijay546"},{"$f":"'shaladarpan '!H547","v":"beautiful546"},{"$f":"'shaladarpan '!I547","v":"F"},{"$f":"'shaladarpan '!J547","v":"2004-05-12"},{"$f":"'shaladarpan '!K547","v":"no"},{"$f":"'shaladarpan '!L547","v":546},{"$f":"'shaladarpan '!M547","v":0},{"$f":"'shaladarpan '!N547","v":0},{"$f":"'shaladarpan '!O547","v":"OBC"},{"$f":"'shaladarpan '!P547","v":"Muslim"},{"$f":"'shaladarpan '!Q547","v":0},{"$f":"'shaladarpan '!R547","v":"GOVT. SENIOR SECONDARY SCHOOL ALNIYAWAS (219445)"},{"$f":"'shaladarpan '!S547","v":8140200308},{"$f":"'shaladarpan '!T547","v":"XXXX0246"},{"$f":"'shaladarpan '!U547","v":"WXVJCZT"},{"$f":"'shaladarpan '!V547","v":9828121242},{"$f":"'shaladarpan '!W547","v":"alniyawas546"},{"$f":"'shaladarpan '!X547","v":60000},{"$f":"'shaladarpan '!Y547","v":"Y"},{"$f":"'shaladarpan '!Z547","v":"N"},{"$f":"'shaladarpan '!AA547","v":"Yes"},{"$f":"'shaladarpan '!AB547","v":16},{"$f":"'shaladarpan '!AC547","v":"None"},{"$f":"'shaladarpan '!AD547","v":0}]
[{"$f":"IF(F549=\" \",\" \",ROWS($A$3:A549))","v":547},{"$f":"'shaladarpan '!A548","v":10},{"$f":"'shaladarpan '!B548","v":"B"},{"$f":"'shaladarpan '!C548","v":4509},{"$f":"'shaladarpan '!D548","v":"2018-07-06"},{"$f":"'shaladarpan '!E548","v":"manjeet547"},{"$f":"'shaladarpan '!F548","v":"00:00:00"},{"$f":"'shaladarpan '!G548","v":"vijay547"},{"$f":"'shaladarpan '!H548","v":"beautiful547"},{"$f":"'shaladarpan '!I548","v":"M"},{"$f":"'shaladarpan '!J548","v":"2004-01-16"},{"$f":"'shaladarpan '!K548","v":"yes"},{"$f":"'shaladarpan '!L548","v":547},{"$f":"'shaladarpan '!M548","v":0},{"$f":"'shaladarpan '!N548","v":0},{"$f":"'shaladarpan '!O548","v":"OBC"},{"$f":"'shaladarpan '!P548","v":"Hindu"},{"$f":"'shaladarpan '!Q548","v":0},{"$f":"'shaladarpan '!R548","v":"GOVT. SENIOR SECONDARY SCHOOL ALNIYAWAS (219445)"},{"$f":"'shaladarpan '!S548","v":8140200308},{"$f":"'shaladarpan '!T548","v":"XXXX7326"},{"$f":"'shaladarpan '!U548","v":"VOJVXST"},{"$f":"'shaladarpan '!V548","v":9828121243},{"$f":"'shaladarpan '!W548","v":"alniyawas547"},{"$f":"'shaladarpan '!X548","v":45000},{"$f":"'shaladarpan '!Y548","v":"N"},{"$f":"'shaladarpan '!Z548","v":"N"},{"$f":"'shaladarpan '!AA548","v":"No"},{"$f":"'shaladarpan '!AB548","v":16},{"$f":"'shaladarpan '!AC548","v":"None"},{"$f":"'shaladarpan '!AD548","v":1}]
[{"$f":"IF(F550=\" \",\" \",ROWS($A$3:A550))","v":548},{"$f":"'shaladarpan '!A549","v":10},{"$f":"'shaladarpan '!B549","v":"B"},{"$f":"'shaladarpan '!C549","v":4702},{"$f":"'shaladarpan '!D549","v":"2019-07-10"},{"$f":"'shaladarpan '!E549","v":"manjeet548"},{"$f":"'shaladarpan '!F549","v":"00:00:00"},{"$f":"'shaladarpan '!G549","v":"vijay548"},{"$f":"'shaladarpan '!H549","v":"beautiful548"},{"$f":"'shaladarpan '!I549","v":"F"},{"$f":"'shaladarpan '!J549","v":"2005-10-02"},{"$f":"'shaladarpan '!K549","v":"yes"},{"$f":"'shaladarpan '!L549","v":548},{"$f":"'shaladarpan '!M549","v":0},{"$f":"'shaladarpan '!N549","v":0},{"$f":"'shaladarpan '!O549","v":"OBC"},{"$f":"'shaladarpan '!P549","v":"Muslim"},{"$f":"'shaladarpan '!Q549","v":0},{"$f":"'shaladarpan '!R549","v":"GOVT. SENIOR SECONDARY SCHOOL ALNIYAWAS (219445)"},{"$f":"'shaladarpan '!S549","v":8140200308},{"$f":"'shaladarpan '!T549","v":"XXXX0907"},{"$f":"'shaladarpan '!U549","v":"YOBYYOO"},{"$f":"'shaladarpan '!V549","v":9828121244},{"$f":"'shaladarpan '!W549","v":"alniyawas548"},{"$f":"'shaladarpan '!X549","v":50000},{"$f":"'shaladarpan '!Y549","v":"N"},{"$f":"'shaladarpan '!Z549","v":"N"},{"$f":"'shaladarpan '!AA549","v":"Yes"},{"$f":"'shaladarpan '!AB549","v":15},{"$f":"'shaladarpan '!AC549","v":"None"},{"$f":"'shaladarpan '!AD549","v":0}]
[{"$f":"IF(F551=\" \",\" \",ROWS($A$3:A551))","v":549},{"$f":"'shaladarpan '!A550","v":10},{"$f":"'shaladarpan '!B550","v":"B"},{"$f":"'shaladarpan '!C550","v":4189},{"$f":"'shaladarpan '!D550","v":"2016-07-11"},{"$f":"'shaladarpan '!E550","v":"manjeet549"},{"$f":"'shaladarpan '!F550","v":"00:00:00"},{"$f":"'shaladarpan '!G550","v":"vijay549"},{"$f":"'shaladarpan '!H550","v":"beautiful549"},{"$f":"'shaladarpan '!I550","v":"M"},{"$f":"'shaladarpan '!J550","v":"2005-09-04"},{"$f":"'shaladarpan '!K550","v":"no"},{"$f":"'shaladarpan '!L550","v":549},{"$f":"'shaladarpan '!M550","v":0},{"$f":"'shaladarpan '!N550","v":0},{"$f":"'shaladarpan '!O550","v":"OBC"},{"$f":"'shaladarpan '!P550","v":"Muslim"},{"$f":"'shaladarpan '!Q550","v":0},{"$f":"'shaladarpan '!R550","v":"GOVT. SENIOR SECONDARY SCHOOL ALNIYAWAS (219445)"},{"$f":"'shaladarpan '!S550","v":8140200308},{"$f":"'shaladarpan '!T550","v":"XXXX8958"},{"$f":"'shaladarpan '!U550","v":0},{"$f":"'shaladarpan '!V550","v":9828121245},{"$f":"'shaladarpan '!W550","v":"alniyawas549"},{"$f":"'shaladarpan '!X550","v":0},{"$f":"'shaladarpan '!Y550","v":"N"},{"$f":"'shaladarpan '!Z550","v":"N"},{"$f":"'shaladarpan '!AA550","v":"Yes"},{"$f":"'shaladarpan '!AB550","v":15},{"$f":"'shaladarpan '!AC550","v":"None"},{"$f":"'shaladarpan '!AD550","v":1}]
[{"$f":"IF(F552=\" \",\" \",ROWS($A$3:A552))","v":550},{"$f":"'shaladarpan '!A551","v":10},{"$f":"'shaladarpan '!B551","v":"B"},{"$f":"'shaladarpan '!C551","v":3801},{"$f":"'shaladarpan '!D551","v":"2015-05-11"},{"$f":"'shaladarpan '!E551","v":"manjeet550"},{"$f":"'shaladarpan '!F551","v":"00:00:00"},{"$f":"'shaladarpan '!G551","v":"vijay550"},{"$f":"'shaladarpan '!H551","v":"beautiful550"},{"$f":"'shaladarpan '!I551","v":"F"},{"$f":"'shaladarpan '!J551","v":"2005-11-05"},{"$f":"'shaladarpan '!K551","v":"yes"},{"$f":"'shaladarpan '!L551","v":550},{"$f":"'shaladarpan '!M551","v":0},{"$f":"'shaladarpan '!N551","v":0},{"$f":"'shaladarpan '!O551","v":"OBC"},{"$f":"'shaladarpan '!P551","v":"Muslim"},{"$f":"'shaladarpan '!Q551","v":0},{"$f":"'shaladarpan '!R551","v":"GOVT. SENIOR SECONDARY SCHOOL ALNIYAWAS (219445)"},{"$f":"'shaladarpan '!S551","v":8140200308},{"$f":"'shaladarpan '!T551","v":"XXXX1867"},{"$f":"'shaladarpan '!U551","v":0},{"$f":"'shaladarpan '!V551","v":9828121246},{"$f":"'shaladarpan '!W551","v":"alniyawas550"},{"$f":"'shaladarpan '!X551","v":80000},{"$f":"'shaladarpan '!Y551","v":"N"},{"$f":"'shaladarpan '!Z551","v":"N"},{"$f":"'shaladarpan '!AA551","v":"Yes"},{"$f":"'shaladarpan '!AB551","v":15},{"$f":"'shaladarpan '!AC551","v":"None"},{"$f":"'shaladarpan '!AD551","v":1}]
[{"$f":"IF(F553=\" \",\" \",ROWS($A$3:A553))","v":551},{"$f":"'shaladarpan '!A552","v":10},{"$f":"'shaladarpan '!B552","v":"B"},{"$f":"'shaladarpan '!C552","v":4678},{"$f":"'shaladarpan '!D552","v":"2019-07-09"},{"$f":"'shaladarpan '!E552","v":"manjeet551"},{"$f":"'shaladarpan '!F552","v":"00:00:00"},{"$f":"'shaladarpan '!G552","v":"vijay551"},{"$f":"'shaladarpan '!H552","v":"beautiful551"},{"$f":"'shaladarpan '!I552","v":"F"},{"$f":"'shaladarpan '!J552","v":"2005-07-01"},{"$f":"'shaladarpan '!K552","v":"yes"},{"$f":"'shaladarpan '!L552","v":551},{"$f":"'shaladarpan '!M552","v":0},{"$f":"'shaladarpan '!N552","v":0},{"$f":"'shaladarpan '!O552","v":"OBC"},{"$f":"'shaladarpan '!P552","v":"Hindu"},{"$f":"'shaladarpan '!Q552","v":0},{"$f":"'shaladarpan '!R552","v":"GOVT. SENIOR SECONDARY SCHOOL ALNIYAWAS (219445)"},{"$f":"'shaladarpan '!S552","v":8140200308},{"$f":"'shaladarpan '!T552","v":0},{"$f":"'shaladarpan '!U552","v":0},{"$f":"'shaladarpan '!V552","v":9828121247},{"$f":"'shaladarpan '!W552","v":"alniyawas551"},{"$f":"'shaladarpan '!X552","v":80000},{"$f":"'shaladarpan '!Y552","v":"N"},{"$f":"'shaladarpan '!Z552","v":"N"},{"$f":"'shaladarpan '!AA552","v":"No"},{"$f":"'shaladarpan '!AB552","v":15},{"$f":"'shaladarpan '!AC552","v":"None"},{"$f":"'shaladarpan '!AD552","v":1}]
[{"$f":"IF(F554=\" \",\" \",ROWS($A$3:A554))","v":552},{"$f":"'shaladarpan '!A553","v":10},{"$f":"'shaladarpan '!B553","v":"B"},{"$f":"'shaladarpan '!C553","v":4146},{"$f":"'shaladarpan '!D553","v":"2016-07-02"},{"$f":"'shaladarpan '!E553","v":"manjeet552"},{"$f":"'shaladarpan '!F553","v":"00:00:00"},{"$f":"'shaladarpan '!G553","v":"vijay552"},{"$f":"'shaladarpan '!H553","v":"beautiful552"},{"$f":"'shaladarpan '!I553","v":"F"},{"$f":"'shaladarpan '!J553","v":"2006-01-15"},{"$f":"'shaladarpan '!K553","v":"no"},{"$f":"'shaladarpan '!L553","v":552},{"$f":"'shaladarpan '!M553","v":0},{"$f":"'shaladarpan '!N553","v":0},{"$f":"'shaladarpan '!O553","v":"OBC"},{"$f":"'shaladarpan '!P553","v":"Hindu"},{"$f":"'shaladarpan '!Q553","v":0},{"$f":"'shaladarpan '!R553","v":"GOVT. SENIOR SECONDARY SCHOOL ALNIYAWAS (219445)"},{"$f":"'shaladarpan '!S553","v":8140200308},{"$f":"'shaladarpan '!T553","v":"XXXX9441"},{"$f":"'shaladarpan '!U553","v":0},{"$f":"'shaladarpan '!V553","v":9828121248},{"$f":"'shaladarpan '!W553","v":"alniyawas552"},{"$f":"'shaladarpan '!X553","v":0},{"$f":"'shaladarpan '!Y553","v":"N"},{"$f":"'shaladarpan '!Z553","v":"N"},{"$f":"'shaladarpan '!AA553","v":"No"},{"$f":"'shaladarpan '!AB553","v":14},{"$f":"'shaladarpan '!AC553","v":"None"},{"$f":"'shaladarpan '!AD553","v":1}]
[{"$f":"IF(F555=\" \",\" \",ROWS($A$3:A555))","v":553},{"$f":"'shaladarpan '!A554","v":10},{"$f":"'shaladarpan '!B554","v":"B"},{"$f":"'shaladarpan '!C554","v":4734},{"$f":"'shaladarpan '!D554","v":"2019-07-15"},{"$f":"'shaladarpan '!E554","v":"manjeet553"},{"$f":"'shaladarpan '!F554","v":"00:00:00"},{"$f":"'shaladarpan '!G554","v":"vijay553"},{"$f":"'shaladarpan '!H554","v":"beautiful553"},{"$f":"'shaladarpan '!I554","v":"F"},{"$f":"'shaladarpan '!J554","v":"2004-02-18"},{"$f":"'shaladarpan '!K554","v":"yes"},{"$f":"'shaladarpan '!L554","v":553},{"$f":"'shaladarpan '!M554","v":0},{"$f":"'shaladarpan '!N554","v":0},{"$f":"'shaladarpan '!O554","v":"OBC"},{"$f":"'shaladarpan '!P554","v":"Hindu"},{"$f":"'shaladarpan '!Q554","v":0},{"$f":"'shaladarpan '!R554","v":"GOVT. SENIOR SECONDARY SCHOOL ALNIYAWAS (219445)"},{"$f":"'shaladarpan '!S554","v":8140200308},{"$f":"'shaladarpan '!T554","v":"XXXX3495"},{"$f":"'shaladarpan '!U554","v":"yfmgcsf"},{"$f":"'shaladarpan '!V554","v":9828121249},{"$f":"'shaladarpan '!W554","v":"alniyawas553"},{"$f":"'shaladarpan '!X554","v":60000},{"$f":"'shaladarpan '!Y554","v":"N"},{"$f":"'shaladarpan '!Z554","v":"N"},{"$f":"'shaladarpan '!AA554","v":"No"},{"$f":"'shaladarpan '!AB554","v":16},{"$f":"'shaladarpan '!AC554","v":"None"},{"$f":"'shaladarpan '!AD554","v":0}]
[{"$f":"IF(F556=\" \",\" \",ROWS($A$3:A556))","v":554},{"$f":"'shaladarpan '!A555","v":10},{"$f":"'shaladarpan '!B555","v":"B"},{"$f":"'shaladarpan '!C555","v":3790},{"$f":"'shaladarpan '!D555","v":"2015-05-11"},{"$f":"'shaladarpan '!E555","v":"manjeet554"},{"$f":"'shaladarpan '!F555","v":"00:00:00"},{"$f":"'shaladarpan '!G555","v":"vijay554"},{"$f":"'shaladarpan '!H555","v":"beautiful554"},{"$f":"'shaladarpan '!I555","v":"F"},{"$f":"'shaladarpan '!J555","v":"2005-09-22"},{"$f":"'shaladarpan '!K555","v":"yes"},{"$f":"'shaladarpan '!L555","v":554},{"$f":"'shaladarpan '!M555","v":0},{"$f":"'shaladarpan '!N555","v":0},{"$f":"'shaladarpan '!O555","v":"OBC"},{"$f":"'shaladarpan '!P555","v":"Muslim"},{"$f":"'shaladarpan '!Q555","v":0},{"$f":"'shaladarpan '!R555","v":"GOVT. SENIOR SECONDARY SCHOOL ALNIYAWAS (219445)"},{"$f":"'shaladarpan '!S555","v":8140200308},{"$f":"'shaladarpan '!T555","v":"XXXX4710"},{"$f":"'shaladarpan '!U555","v":0},{"$f":"'shaladarpan '!V555","v":9828121250},{"$f":"'shaladarpan '!W555","v":"alniyawas554"},{"$f":"'shaladarpan '!X555","v":72000},{"$f":"'shaladarpan '!Y555","v":"N"},{"$f":"'shaladarpan '!Z555","v":"N"},{"$f":"'shaladarpan '!AA555","v":"Yes"},{"$f":"'shaladarpan '!AB555","v":15},{"$f":"'shaladarpan '!AC555","v":"None"},{"$f":"'shaladarpan '!AD555","v":1}]
[{"$f":"IF(F557=\" \",\" \",ROWS($A$3:A557))","v":555},{"$f":"'shaladarpan '!A556","v":10},{"$f":"'shaladarpan '!B556","v":"B"},{"$f":"'shaladarpan '!C556","v":4850},{"$f":"'shaladarpan '!D556","v":"00:00:00"},{"$f":"'shaladarpan '!E556","v":"manjeet555"},{"$f":"'shaladarpan '!F556","v":"00:00:00"},{"$f":"'shaladarpan '!G556","v":"vijay555"},{"$f":"'shaladarpan '!H556","v":"beautiful555"},{"$f":"'shaladarpan '!I556","v":"M"},{"$f":"'shaladarpan '!J556","v":"2005-06-29"},{"$f":"'shaladarpan '!K556","v":"no"},{"$f":"'shaladarpan '!L556","v":555},{"$f":"'shaladarpan '!M556","v":0},{"$f":"'shaladarpan '!N556","v":0},{"$f":"'shaladarpan '!O556","v":"OBC"},{"$f":"'shaladarpan '!P556","v":0},{"$f":"'shaladarpan '!Q556","v":0},{"$f":"'shaladarpan '!R556","v":"GOVT. SENIOR SECONDARY SCHOOL ALNIYAWAS (219445)"},{"$f":"'shaladarpan '!S556","v":8140200308},{"$f":"'shaladarpan '!T556","v":0},{"$f":"'shaladarpan '!U556","v":0},{"$f":"'shaladarpan '!V556","v":9828121251},{"$f":"'shaladarpan '!W556","v":"alniyawas555"},{"$f":"'shaladarpan '!X556","v":0},{"$f":"'shaladarpan '!Y556","v":"N"},{"$f":"'shaladarpan '!Z556","v":"Y"},{"$f":"'shaladarpan '!AA556","v":0},{"$f":"'shaladarpan '!AB556","v":15},{"$f":"'shaladarpan '!AC556","v":0},{"$f":"'shaladarpan '!AD556","v":3}]
[{"$f":"IF(F558=\" \",\" \",ROWS($A$3:A558))","v":556},{"$f":"'shaladarpan '!A557","v":10},{"$f":"'shaladarpan '!B557","v":"B"},{"$f":"'shaladarpan '!C557","v":4103},{"$f":"'shaladarpan '!D557","v":"2016-05-09"},{"$f":"'shaladarpan '!E557","v":"manjeet556"},{"$f":"'shaladarpan '!F557","v":"00:00:00"},{"$f":"'shaladarpan '!G557","v":"vijay556"},{"$f":"'shaladarpan '!H557","v":"beautiful556"},{"$f":"'shaladarpan '!I557","v":"F"},{"$f":"'shaladarpan '!J557","v":"2006-04-08"},{"$f":"'shaladarpan '!K557","v":"yes"},{"$f":"'shaladarpan '!L557","v":556},{"$f":"'shaladarpan '!M557","v":0},{"$f":"'shaladarpan '!N557","v":0},{"$f":"'shaladarpan '!O557","v":"SC"},{"$f":"'shaladarpan '!P557","v":"Hindu"},{"$f":"'shaladarpan '!Q557","v":0},{"$f":"'shaladarpan '!R557","v":"GOVT. SENIOR SECONDARY SCHOOL ALNIYAWAS (219445)"},{"$f":"'shaladarpan '!S557","v":8140200308},{"$f":"'shaladarpan '!T557","v":"XXXX2679"},{"$f":"'shaladarpan '!U557","v":"YUYKFBK"},{"$f":"'shaladarpan '!V557","v":9828121252},{"$f":"'shaladarpan '!W557","v":"alniyawas556"},{"$f":"'shaladarpan '!X557","v":60000},{"$f":"'shaladarpan '!Y557","v":"N"},{"$f":"'shaladarpan '!Z557","v":"N"},{"$f":"'shaladarpan '!AA557","v":"No"},{"$f":"'shaladarpan '!AB557","v":14},{"$f":"'shaladarpan '!AC557","v":"None"},{"$f":"'shaladarpan '!AD557","v":1}]
[{"$f":"IF(F559=\" \",\" \",ROWS($A$3:A559))","v":557},{"$f":"'shaladarpan '!A558","v":10},{"$f":"'shaladarpan '!B558","v":"B"},{"$f":"'shaladarpan '!C558","v":3783},{"$f":"'shaladarpan '!D558","v":"2015-05-11"},{"$f":"'shaladarpan '!E558","v":"manjeet557"},{"$f":"'shaladarpan '!F558","v":"00:00:00"},{"$f":"'shaladarpan '!G558","v":"vijay557"},{"$f":"'shaladarpan '!H558","v":"beautiful557"},{"$f":"'shaladarpan '!I558","v":"M"},{"$f":"'shaladarpan '!J558","v":"2006-10-12"},{"$f":"'shaladarpan '!K558","v":"yes"},{"$f":"'shaladarpan '!L558","v":557},{"$f":"'shaladarpan '!M558","v":0},{"$f":"'shaladarpan '!N558","v":0},{"$f":"'shaladarpan '!O558","v":"SC"},{"$f":"'shaladarpan '!P558","v":"Hindu"},{"$f":"'shaladarpan '!Q558","v":0},{"$f":"'shaladarpan '!R558","v":"GOVT. SENIOR SECONDARY SCHOOL ALNIYAWAS (219445)"},{"$f":"'shaladarpan '!S558","v":8140200308},{"$f":"'shaladarpan '!T558","v":"XXXX4638"},{"$f":"'shaladarpan '!U558","v":0},{"$f":"'shaladarpan '!V558","v":9828121253},{"$f":"'shaladarpan '!W558","v":"alniyawas557"},{"$f":"'shaladarpan '!X558","v":0},{"$f":"'shaladarpan '!Y558","v":"N"},{"$f":"'shaladarpan '!Z558","v":"N"},{"$f":"'shaladarpan '!AA558","v":"No"},{"$f":"'shaladarpan '!AB558","v":14},{"$f":"'shaladarpan '!AC558","v":"None"},{"$f":"'shaladarpan '!AD558","v":2}]
[{"$f":"IF(F560=\" \",\" \",ROWS($A$3:A560))","v":558},{"$f":"'shaladarpan '!A559","v":10},{"$f":"'shaladarpan '!B559","v":"B"},{"$f":"'shaladarpan '!C559","v":4373},{"$f":"'shaladarpan '!D559","v":"2017-07-10"},{"$f":"'shaladarpan '!E559","v":"manjeet558"},{"$f":"'shaladarpan '!F559","v":"00:00:00"},{"$f":"'shaladarpan '!G559","v":"vijay558"},{"$f":"'shaladarpan '!H559","v":"beautiful558"},{"$f":"'shaladarpan '!I559","v":"M"},{"$f":"'shaladarpan '!J559","v":"2005-06-03"},{"$f":"'shaladarpan '!K559","v":"no"},{"$f":"'shaladarpan '!L559","v":558},{"$f":"'shaladarpan '!M559","v":0},{"$f":"'shaladarpan '!N559","v":0},{"$f":"'shaladarpan '!O559","v":"OBC"},{"$f":"'shaladarpan '!P559","v":"Hindu"},{"$f":"'shaladarpan '!Q559","v":0},{"$f":"'shaladarpan '!R559","v":"GOVT. SENIOR SECONDARY SCHOOL ALNIYAWAS (219445)"},{"$f":"'shaladarpan '!S559","v":8140200308},{"$f":"'shaladarpan '!T559","v":"XXXX2227"},{"$f":"'shaladarpan '!U559","v":0},{"$f":"'shaladarpan '!V559","v":9828121254},{"$f":"'shaladarpan '!W559","v":"alniyawas558"},{"$f":"'shaladarpan '!X559","v":0},{"$f":"'shaladarpan '!Y559","v":"N"},{"$f":"'shaladarpan '!Z559","v":"N"},{"$f":"'shaladarpan '!AA559","v":"No"},{"$f":"'shaladarpan '!AB559","v":15},{"$f":"'shaladarpan '!AC559","v":"None"},{"$f":"'shaladarpan '!AD559","v":1}]
[{"$f":"IF(F561=\" \",\" \",ROWS($A$3:A561))","v":559},{"$f":"'shaladarpan '!A560","v":10},{"$f":"'shaladarpan '!B560","v":"B"},{"$f":"'shaladarpan '!C560","v":4654},{"$f":"'shaladarpan '!D560","v":"2019-07-05"},{"$f":"'shaladarpan '!E560","v":"manjeet559"},{"$f":"'shaladarpan '!F560","v":"00:00:00"},{"$f":"'shaladarpan '!G560","v":"vijay559"},{"$f":"'shaladarpan '!H560","v":"beautiful559"},{"$f":"'shaladarpan '!I560","v":"M"},{"$f":"'shaladarpan '!J560","v":"2005-11-15"},{"$f":"'shaladarpan '!K560","v":"yes"},{"$f":"'shaladarpan '!L560","v":559},{"$f":"'shaladarpan '!M560","v":0},{"$f":"'shaladarpan '!N560","v":0},{"$f":"'shaladarpan '!O560","v":"OBC"},{"$f":"'shaladarpan '!P560","v":"Hindu"},{"$f":"'shaladarpan '!Q560","v":0},{"$f":"'shaladarpan '!R560","v":"GOVT. SENIOR SECONDARY SCHOOL ALNIYAWAS (219445)"},{"$f":"'shaladarpan '!S560","v":8140200308},{"$f":"'shaladarpan '!T560","v":"XXXX9264"},{"$f":"'shaladarpan '!U560","v":"vpggtpj"},{"$f":"'shaladarpan '!V560","v":9828121255},{"$f":"'shaladarpan '!W560","v":"alniyawas559"},{"$f":"'shaladarpan '!X560","v":60000},{"$f":"'shaladarpan '!Y560","v":"N"},{"$f":"'shaladarpan '!Z560","v":"N"},{"$f":"'shaladarpan '!AA560","v":"No"},{"$f":"'shaladarpan '!AB560","v":15},{"$f":"'shaladarpan '!AC560","v":"None"},{"$f":"'shaladarpan '!AD560","v":1}]
[{"$f":"IF(F562=\" \",\" \",ROWS($A$3:A562))","v":560},{"$f":"'shaladarpan '!A561","v":10},{"$f":"'shaladarpan '!B561","v":"B"},{"$f":"'shaladarpan '!C561","v":4645},{"$f":"'shaladarpan '!D561","v":"2019-07-04"},{"$f":"'shaladarpan '!E561","v":"manjeet560"},{"$f":"'shaladarpan '!F561","v":"00:00:00"},{"$f":"'shaladarpan '!G561","v":"vijay560"},{"$f":"'shaladarpan '!H561","v":"beautiful560"},{"$f":"'shaladarpan '!I561","v":"F"},{"$f":"'shaladarpan '!J561","v":"2006-08-05"},{"$f":"'shaladarpan '!K561","v":"yes"},{"$f":"'shaladarpan '!L561","v":560},{"$f":"'shaladarpan '!M561","v":0},{"$f":"'shaladarpan '!N561","v":0},{"$f":"'shaladarpan '!O561","v":"SC"},{"$f":"'shaladarpan '!P561","v":"Hindu"},{"$f":"'shaladarpan '!Q561","v":0},{"$f":"'shaladarpan '!R561","v":"GOVT. SENIOR SECONDARY SCHOOL ALNIYAWAS (219445)"},{"$f":"'shaladarpan '!S561","v":8140200308},{"$f":"'shaladarpan '!T561","v":"XXXX4423"},{"$f":"'shaladarpan '!U561","v":"yoemuyb"},{"$f":"'shaladarpan '!V561","v":9828121256},{"$f":"'shaladarpan '!W561","v":"alniyawas560"},{"$f":"'shaladarpan '!X561","v":60000},{"$f":"'shaladarpan '!Y561","v":"N"},{"$f":"'shaladarpan '!Z561","v":"N"},{"$f":"'shaladarpan '!AA561","v":"No"},{"$f":"'shaladarpan '!AB561","v":14},{"$f":"'shaladarpan '!AC561","v":"None"},{"$f":"'shaladarpan '!AD561","v":1}]
[{"$f":"IF(F563=\" \",\" \",ROWS($A$3:A563))","v":561},{"$f":"'shaladarpan '!A562","v":10},{"$f":"'shaladarpan '!B562","v":"B"},{"$f":"'shaladarpan '!C562","v":4668},{"$f":"'shaladarpan '!D562","v":"2019-07-06"},{"$f":"'shaladarpan '!E562","v":"manjeet561"},{"$f":"'shaladarpan '!F562","v":"00:00:00"},{"$f":"'shaladarpan '!G562","v":"vijay561"},{"$f":"'shaladarpan '!H562","v":"beautiful561"},{"$f":"'shaladarpan '!I562","v":"F"},{"$f":"'shaladarpan '!J562","v":"2004-06-04"},{"$f":"'shaladarpan '!K562","v":"no"},{"$f":"'shaladarpan '!L562","v":561},{"$f":"'shaladarpan '!M562","v":0},{"$f":"'shaladarpan '!N562","v":0},{"$f":"'shaladarpan '!O562","v":"OBC"},{"$f":"'shaladarpan '!P562","v":"Muslim"},{"$f":"'shaladarpan '!Q562","v":0},{"$f":"'shaladarpan '!R562","v":"GOVT. SENIOR SECONDARY SCHOOL ALNIYAWAS (219445)"},{"$f":"'shaladarpan '!S562","v":8140200308},{"$f":"'shaladarpan '!T562","v":"XXXX5925"},{"$f":"'shaladarpan '!U562","v":"ybccmyk"},{"$f":"'shaladarpan '!V562","v":9828121257},{"$f":"'shaladarpan '!W562","v":"alniyawas561"},{"$f":"'shaladarpan '!X562","v":100000},{"$f":"'shaladarpan '!Y562","v":"N"},{"$f":"'shaladarpan '!Z562","v":"N"},{"$f":"'shaladarpan '!AA562","v":"Yes"},{"$f":"'shaladarpan '!AB562","v":16},{"$f":"'shaladarpan '!AC562","v":"None"},{"$f":"'shaladarpan '!AD562","v":1}]
[{"$f":"IF(F564=\" \",\" \",ROWS($A$3:A564))","v":562},{"$f":"'shaladarpan '!A563","v":10},{"$f":"'shaladarpan '!B563","v":"B"},{"$f":"'shaladarpan '!C563","v":4723},{"$f":"'shaladarpan '!D563","v":"2019-07-13"},{"$f":"'shaladarpan '!E563","v":"manjeet562"},{"$f":"'shaladarpan '!F563","v":"00:00:00"},{"$f":"'shaladarpan '!G563","v":"vijay562"},{"$f":"'shaladarpan '!H563","v":"beautiful562"},{"$f":"'shaladarpan '!I563","v":"M"},{"$f":"'shaladarpan '!J563","v":"2006-07-08"},{"$f":"'shaladarpan '!K563","v":"yes"},{"$f":"'shaladarpan '!L563","v":562},{"$f":"'shaladarpan '!M563","v":0},{"$f":"'shaladarpan '!N563","v":0},{"$f":"'shaladarpan '!O563","v":"OBC"},{"$f":"'shaladarpan '!P563","v":"Hindu"},{"$f":"'shaladarpan '!Q563","v":0},{"$f":"'shaladarpan '!R563","v":"GOVT. SENIOR SECONDARY SCHOOL ALNIYAWAS (219445)"},{"$f":"'shaladarpan '!S563","v":8140200308},{"$f":"'shaladarpan '!T563","v":"XXXX7885"},{"$f":"'shaladarpan '!U563","v":0},{"$f":"'shaladarpan '!V563","v":9828121258},{"$f":"'shaladarpan '!W563","v":"alniyawas562"},{"$f":"'shaladarpan '!X563","v":60000},{"$f":"'shaladarpan '!Y563","v":"N"},{"$f":"'shaladarpan '!Z563","v":"N"},{"$f":"'shaladarpan '!AA563","v":"No"},{"$f":"'shaladarpan '!AB563","v":14},{"$f":"'shaladarpan '!AC563","v":"None"},{"$f":"'shaladarpan '!AD563","v":3}]
[{"$f":"IF(F565=\" \",\" \",ROWS($A$3:A565))","v":563},{"$f":"'shaladarpan '!A564","v":11},{"$f":"'shaladarpan '!B564","v":"A"},{"$f":"'shaladarpan '!C564","v":4737},{"$f":"'shaladarpan '!D564","v":"2019-07-15"},{"$f":"'shaladarpan '!E564","v":"manjeet563"},{"$f":"'shaladarpan '!F564","v":"00:00:00"},{"$f":"'shaladarpan '!G564","v":"vijay563"},{"$f":"'shaladarpan '!H564","v":"beautiful563"},{"$f":"'shaladarpan '!I564","v":"M"},{"$f":"'shaladarpan '!J564","v":"2004-10-12"},{"$f":"'shaladarpan '!K564","v":"yes"},{"$f":"'shaladarpan '!L564","v":563},{"$f":"'shaladarpan '!M564","v":0},{"$f":"'shaladarpan '!N564","v":0},{"$f":"'shaladarpan '!O564","v":"OBC"},{"$f":"'shaladarpan '!P564","v":"Muslim"},{"$f":"'shaladarpan '!Q564","v":0},{"$f":"'shaladarpan '!R564","v":"GOVT. SENIOR SECONDARY SCHOOL ALNIYAWAS (219445)"},{"$f":"'shaladarpan '!S564","v":8140200308},{"$f":"'shaladarpan '!T564","v":"XXXX6495"},{"$f":"'shaladarpan '!U564","v":"YWKYMKC"},{"$f":"'shaladarpan '!V564","v":9828121259},{"$f":"'shaladarpan '!W564","v":"alniyawas563"},{"$f":"'shaladarpan '!X564","v":80000},{"$f":"'shaladarpan '!Y564","v":"N"},{"$f":"'shaladarpan '!Z564","v":"N"},{"$f":"'shaladarpan '!AA564","v":"Yes"},{"$f":"'shaladarpan '!AB564","v":16},{"$f":"'shaladarpan '!AC564","v":"None"},{"$f":"'shaladarpan '!AD564","v":0}]
[{"$f":"IF(F566=\" \",\" \",ROWS($A$3:A566))","v":564},{"$f":"'shaladarpan '!A565","v":11},{"$f":"'shaladarpan '!B565","v":"A"},{"$f":"'shaladarpan '!C565","v":4624},{"$f":"'shaladarpan '!D565","v":"2018-07-04"},{"$f":"'shaladarpan '!E565","v":"manjeet564"},{"$f":"'shaladarpan '!F565","v":"00:00:00"},{"$f":"'shaladarpan '!G565","v":"vijay564"},{"$f":"'shaladarpan '!H565","v":"beautiful564"},{"$f":"'shaladarpan '!I565","v":"F"},{"$f":"'shaladarpan '!J565","v":"2004-05-05"},{"$f":"'shaladarpan '!K565","v":"no"},{"$f":"'shaladarpan '!L565","v":564},{"$f":"'shaladarpan '!M565","v":0},{"$f":"'shaladarpan '!N565","v":0},{"$f":"'shaladarpan '!O565","v":"OBC"},{"$f":"'shaladarpan '!P565","v":"Muslim"},{"$f":"'shaladarpan '!Q565","v":0},{"$f":"'shaladarpan '!R565","v":"GOVT. SENIOR SECONDARY SCHOOL ALNIYAWAS (219445)"},{"$f":"'shaladarpan '!S565","v":8140200308},{"$f":"'shaladarpan '!T565","v":"XXXX7338"},{"$f":"'shaladarpan '!U565","v":0},{"$f":"'shaladarpan '!V565","v":9828121260},{"$f":"'shaladarpan '!W565","v":"alniyawas564"},{"$f":"'shaladarpan '!X565","v":40000},{"$f":"'shaladarpan '!Y565","v":"N"},{"$f":"'shaladarpan '!Z565","v":"N"},{"$f":"'shaladarpan '!AA565","v":"Yes"},{"$f":"'shaladarpan '!AB565","v":16},{"$f":"'shaladarpan '!AC565","v":"None"},{"$f":"'shaladarpan '!AD565","v":1}]
[{"$f":"IF(F567=\" \",\" \",ROWS($A$3:A567))","v":565},{"$f":"'shaladarpan '!A566","v":11},{"$f":"'shaladarpan '!B566","v":"A"},{"$f":"'shaladarpan '!C566","v":4442},{"$f":"'shaladarpan '!D566","v":"2018-06-29"},{"$f":"'shaladarpan '!E566","v":"manjeet565"},{"$f":"'shaladarpan '!F566","v":"00:00:00"},{"$f":"'shaladarpan '!G566","v":"vijay565"},{"$f":"'shaladarpan '!H566","v":"beautiful565"},{"$f":"'shaladarpan '!I566","v":"M"},{"$f":"'shaladarpan '!J566","v":"2007-01-26"},{"$f":"'shaladarpan '!K566","v":"yes"},{"$f":"'shaladarpan '!L566","v":565},{"$f":"'shaladarpan '!M566","v":0},{"$f":"'shaladarpan '!N566","v":0},{"$f":"'shaladarpan '!O566","v":"OBC"},{"$f":"'shaladarpan '!P566","v":"Muslim"},{"$f":"'shaladarpan '!Q566","v":0},{"$f":"'shaladarpan '!R566","v":"GOVT. SENIOR SECONDARY SCHOOL ALNIYAWAS (219445)"},{"$f":"'shaladarpan '!S566","v":8140200308},{"$f":"'shaladarpan '!T566","v":"XXXX6497"},{"$f":"'shaladarpan '!U566","v":"WDYCBYO"},{"$f":"'shaladarpan '!V566","v":9828121261},{"$f":"'shaladarpan '!W566","v":"alniyawas565"},{"$f":"'shaladarpan '!X566","v":36000},{"$f":"'shaladarpan '!Y566","v":"N"},{"$f":"'shaladarpan '!Z566","v":"N"},{"$f":"'shaladarpan '!AA566","v":"Yes"},{"$f":"'shaladarpan '!AB566","v":13},{"$f":"'shaladarpan '!AC566","v":"None"},{"$f":"'shaladarpan '!AD566","v":2}]
[{"$f":"IF(F568=\" \",\" \",ROWS($A$3:A568))","v":566},{"$f":"'shaladarpan '!A567","v":11},{"$f":"'shaladarpan '!B567","v":"A"},{"$f":"'shaladarpan '!C567","v":4849},{"$f":"'shaladarpan '!D567","v":"00:00:00"},{"$f":"'shaladarpan '!E567","v":"manjeet566"},{"$f":"'shaladarpan '!F567","v":"00:00:00"},{"$f":"'shaladarpan '!G567","v":"vijay566"},{"$f":"'shaladarpan '!H567","v":"beautiful566"},{"$f":"'shaladarpan '!I567","v":"F"},{"$f":"'shaladarpan '!J567","v":"2004-11-10"},{"$f":"'shaladarpan '!K567","v":"yes"},{"$f":"'shaladarpan '!L567","v":566},{"$f":"'shaladarpan '!M567","v":0},{"$f":"'shaladarpan '!N567","v":0},{"$f":"'shaladarpan '!O567","v":"OBC"},{"$f":"'shaladarpan '!P567","v":0},{"$f":"'shaladarpan '!Q567","v":0},{"$f":"'shaladarpan '!R567","v":"GOVT. SENIOR SECONDARY SCHOOL ALNIYAWAS (219445)"},{"$f":"'shaladarpan '!S567","v":8140200308},{"$f":"'shaladarpan '!T567","v":0},{"$f":"'shaladarpan '!U567","v":0},{"$f":"'shaladarpan '!V567","v":9828121262},{"$f":"'shaladarpan '!W567","v":"alniyawas566"},{"$f":"'shaladarpan '!X567","v":0},{"$f":"'shaladarpan '!Y567","v":"N"},{"$f":"'shaladarpan '!Z567","v":"Y"},{"$f":"'shaladarpan '!AA567","v":0},{"$f":"'shaladarpan '!AB567","v":16},{"$f":"'shaladarpan '!AC567","v":0},{"$f":"'shaladarpan '!AD567","v":3}]
[{"$f":"IF(F569=\" \",\" \",ROWS($A$3:A569))","v":567},{"$f":"'shaladarpan '!A568","v":11},{"$f":"'shaladarpan '!B568","v":"A"},{"$f":"'shaladarpan '!C568","v":4345},{"$f":"'shaladarpan '!D568","v":"2017-07-06"},{"$f":"'shaladarpan '!E568","v":"manjeet567"},{"$f":"'shaladarpan '!F568","v":"00:00:00"},{"$f":"'shaladarpan '!G568","v":"vijay567"},{"$f":"'shaladarpan '!H568","v":"beautiful567"},{"$f":"'shaladarpan '!I568","v":"M"},{"$f":"'shaladarpan '!J568","v":"2003-06-23"},{"$f":"'shaladarpan '!K568","v":"no"},{"$f":"'shaladarpan '!L568","v":567},{"$f":"'shaladarpan '!M568","v":0},{"$f":"'shaladarpan '!N568","v":0},{"$f":"'shaladarpan '!O568","v":"OBC"},{"$f":"'shaladarpan '!P568","v":"Hindu"},{"$f":"'shaladarpan '!Q568","v":0},{"$f":"'shaladarpan '!R568","v":"GOVT. SENIOR SECONDARY SCHOOL ALNIYAWAS (219445)"},{"$f":"'shaladarpan '!S568","v":8140200308},{"$f":"'shaladarpan '!T568","v":"XXXX7594"},{"$f":"'shaladarpan '!U568","v":0},{"$f":"'shaladarpan '!V568","v":9828121263},{"$f":"'shaladarpan '!W568","v":"alniyawas567"},{"$f":"'shaladarpan '!X568","v":0},{"$f":"'shaladarpan '!Y568","v":"N"},{"$f":"'shaladarpan '!Z568","v":"N"},{"$f":"'shaladarpan '!AA568","v":"No"},{"$f":"'shaladarpan '!AB568","v":17},{"$f":"'shaladarpan '!AC568","v":"None"},{"$f":"'shaladarpan '!AD568","v":1}]
[{"$f":"IF(F570=\" \",\" \",ROWS($A$3:A570))","v":568},{"$f":"'shaladarpan '!A569","v":11},{"$f":"'shaladarpan '!B569","v":"A"},{"$f":"'shaladarpan '!C569","v":4541},{"$f":"'shaladarpan '!D569","v":"2018-07-10"},{"$f":"'shaladarpan '!E569","v":"manjeet568"},{"$f":"'shaladarpan '!F569","v":"00:00:00"},{"$f":"'shaladarpan '!G569","v":"vijay568"},{"$f":"'shaladarpan '!H569","v":"beautiful568"},{"$f":"'shaladarpan '!I569","v":"M"},{"$f":"'shaladarpan '!J569","v":"2003-07-11"},{"$f":"'shaladarpan '!K569","v":"yes"},{"$f":"'shaladarpan '!L569","v":568},{"$f":"'shaladarpan '!M569","v":0},{"$f":"'shaladarpan '!N569","v":0},{"$f":"'shaladarpan '!O569","v":"OBC"},{"$f":"'shaladarpan '!P569","v":"Hindu"},{"$f":"'shaladarpan '!Q569","v":0},{"$f":"'shaladarpan '!R569","v":"GOVT. SENIOR SECONDARY SCHOOL ALNIYAWAS (219445)"},{"$f":"'shaladarpan '!S569","v":8140200308},{"$f":"'shaladarpan '!T569","v":"XXXX9368"},{"$f":"'shaladarpan '!U569","v":"YQMESMS"},{"$f":"'shaladarpan '!V569","v":9828121264},{"$f":"'shaladarpan '!W569","v":"alniyawas568"},{"$f":"'shaladarpan '!X569","v":40000},{"$f":"'shaladarpan '!Y569","v":"N"},{"$f":"'shaladarpan '!Z569","v":"N"},{"$f":"'shaladarpan '!AA569","v":"No"},{"$f":"'shaladarpan '!AB569","v":17},{"$f":"'shaladarpan '!AC569","v":"None"},{"$f":"'shaladarpan '!AD569","v":1}]
[{"$f":"IF(F571=\" \",\" \",ROWS($A$3:A571))","v":569},{"$f":"'shaladarpan '!A570","v":11},{"$f":"'shaladarpan '!B570","v":"A"},{"$f":"'shaladarpan '!C570","v":3556},{"$f":"'shaladarpan '!D570","v":"2014-05-13"},{"$f":"'shaladarpan '!E570","v":"manjeet569"},{"$f":"'shaladarpan '!F570","v":"00:00:00"},{"$f":"'shaladarpan '!G570","v":"vijay569"},{"$f":"'shaladarpan '!H570","v":"beautiful569"},{"$f":"'shaladarpan '!I570","v":"M"},{"$f":"'shaladarpan '!J570","v":"2004-10-15"},{"$f":"'shaladarpan '!K570","v":"yes"},{"$f":"'shaladarpan '!L570","v":569},{"$f":"'shaladarpan '!M570","v":0},{"$f":"'shaladarpan '!N570","v":0},{"$f":"'shaladarpan '!O570","v":"OBC"},{"$f":"'shaladarpan '!P570","v":0},{"$f":"'shaladarpan '!Q570","v":0},{"$f":"'shaladarpan '!R570","v":"GOVT. SENIOR SECONDARY SCHOOL ALNIYAWAS (219445)"},{"$f":"'shaladarpan '!S570","v":8140200308},{"$f":"'shaladarpan '!T570","v":"XXXX8625"},{"$f":"'shaladarpan '!U570","v":0},{"$f":"'shaladarpan '!V570","v":9828121265},{"$f":"'shaladarpan '!W570","v":"alniyawas569"},{"$f":"'shaladarpan '!X570","v":0},{"$f":"'shaladarpan '!Y570","v":"N"},{"$f":"'shaladarpan '!Z570","v":"N"},{"$f":"'shaladarpan '!AA570","v":0},{"$f":"'shaladarpan '!AB570","v":16},{"$f":"'shaladarpan '!AC570","v":"None"},{"$f":"'shaladarpan '!AD570","v":1}]
[{"$f":"IF(F572=\" \",\" \",ROWS($A$3:A572))","v":570},{"$f":"'shaladarpan '!A571","v":11},{"$f":"'shaladarpan '!B571","v":"A"},{"$f":"'shaladarpan '!C571","v":4809},{"$f":"'shaladarpan '!D571","v":"00:00:00"},{"$f":"'shaladarpan '!E571","v":"manjeet570"},{"$f":"'shaladarpan '!F571","v":"00:00:00"},{"$f":"'shaladarpan '!G571","v":"vijay570"},{"$f":"'shaladarpan '!H571","v":"beautiful570"},{"$f":"'shaladarpan '!I571","v":"M"},{"$f":"'shaladarpan '!J571","v":"2005-11-12"},{"$f":"'shaladarpan '!K571","v":"no"},{"$f":"'shaladarpan '!L571","v":570},{"$f":"'shaladarpan '!M571","v":0},{"$f":"'shaladarpan '!N571","v":0},{"$f":"'shaladarpan '!O571","v":"OBC"},{"$f":"'shaladarpan '!P571","v":0},{"$f":"'shaladarpan '!Q571","v":0},{"$f":"'shaladarpan '!R571","v":"GOVT. SENIOR SECONDARY SCHOOL ALNIYAWAS (219445)"},{"$f":"'shaladarpan '!S571","v":8140200308},{"$f":"'shaladarpan '!T571","v":0},{"$f":"'shaladarpan '!U571","v":0},{"$f":"'shaladarpan '!V571","v":9828121266},{"$f":"'shaladarpan '!W571","v":"alniyawas570"},{"$f":"'shaladarpan '!X571","v":0},{"$f":"'shaladarpan '!Y571","v":"N"},{"$f":"'shaladarpan '!Z571","v":"Y"},{"$f":"'shaladarpan '!AA571","v":0},{"$f":"'shaladarpan '!AB571","v":15},{"$f":"'shaladarpan '!AC571","v":0},{"$f":"'shaladarpan '!AD571","v":1}]
[{"$f":"IF(F573=\" \",\" \",ROWS($A$3:A573))","v":571},{"$f":"'shaladarpan '!A572","v":11},{"$f":"'shaladarpan '!B572","v":"A"},{"$f":"'shaladarpan '!C572","v":3971},{"$f":"'shaladarpan '!D572","v":"2015-07-02"},{"$f":"'shaladarpan '!E572","v":"manjeet571"},{"$f":"'shaladarpan '!F572","v":"00:00:00"},{"$f":"'shaladarpan '!G572","v":"vijay571"},{"$f":"'shaladarpan '!H572","v":"beautiful571"},{"$f":"'shaladarpan '!I572","v":"M"},{"$f":"'shaladarpan '!J572","v":"2005-07-05"},{"$f":"'shaladarpan '!K572","v":"yes"},{"$f":"'shaladarpan '!L572","v":571},{"$f":"'shaladarpan '!M572","v":0},{"$f":"'shaladarpan '!N572","v":0},{"$f":"'shaladarpan '!O572","v":"SC"},{"$f":"'shaladarpan '!P572","v":"Hindu"},{"$f":"'shaladarpan '!Q572","v":0},{"$f":"'shaladarpan '!R572","v":"GOVT. SENIOR SECONDARY SCHOOL ALNIYAWAS (219445)"},{"$f":"'shaladarpan '!S572","v":8140200308},{"$f":"'shaladarpan '!T572","v":"XXXX2300"},{"$f":"'shaladarpan '!U572","v":"VOCJWZX"},{"$f":"'shaladarpan '!V572","v":9828121267},{"$f":"'shaladarpan '!W572","v":"alniyawas571"},{"$f":"'shaladarpan '!X572","v":42000},{"$f":"'shaladarpan '!Y572","v":"N"},{"$f":"'shaladarpan '!Z572","v":"N"},{"$f":"'shaladarpan '!AA572","v":"No"},{"$f":"'shaladarpan '!AB572","v":15},{"$f":"'shaladarpan '!AC572","v":"None"},{"$f":"'shaladarpan '!AD572","v":2}]
[{"$f":"IF(F574=\" \",\" \",ROWS($A$3:A574))","v":572},{"$f":"'shaladarpan '!A573","v":11},{"$f":"'shaladarpan '!B573","v":"A"},{"$f":"'shaladarpan '!C573","v":4884},{"$f":"'shaladarpan '!D573","v":"00:00:00"},{"$f":"'shaladarpan '!E573","v":"manjeet572"},{"$f":"'shaladarpan '!F573","v":"00:00:00"},{"$f":"'shaladarpan '!G573","v":"vijay572"},{"$f":"'shaladarpan '!H573","v":"beautiful572"},{"$f":"'shaladarpan '!I573","v":"M"},{"$f":"'shaladarpan '!J573","v":"2005-03-03"},{"$f":"'shaladarpan '!K573","v":"yes"},{"$f":"'shaladarpan '!L573","v":572},{"$f":"'shaladarpan '!M573","v":0},{"$f":"'shaladarpan '!N573","v":0},{"$f":"'shaladarpan '!O573","v":"SC"},{"$f":"'shaladarpan '!P573","v":0},{"$f":"'shaladarpan '!Q573","v":0},{"$f":"'shaladarpan '!R573","v":"GOVT. SENIOR SECONDARY SCHOOL ALNIYAWAS (219445)"},{"$f":"'shaladarpan '!S573","v":8140200308},{"$f":"'shaladarpan '!T573","v":0},{"$f":"'shaladarpan '!U573","v":0},{"$f":"'shaladarpan '!V573","v":9828121268},{"$f":"'shaladarpan '!W573","v":"alniyawas572"},{"$f":"'shaladarpan '!X573","v":0},{"$f":"'shaladarpan '!Y573","v":"N"},{"$f":"'shaladarpan '!Z573","v":"Y"},{"$f":"'shaladarpan '!AA573","v":0},{"$f":"'shaladarpan '!AB573","v":15},{"$f":"'shaladarpan '!AC573","v":0},{"$f":"'shaladarpan '!AD573","v":6}]
[{"$f":"IF(F575=\" \",\" \",ROWS($A$3:A575))","v":573},{"$f":"'shaladarpan '!A574","v":11},{"$f":"'shaladarpan '!B574","v":"A"},{"$f":"'shaladarpan '!C574","v":4506},{"$f":"'shaladarpan '!D574","v":"2018-07-06"},{"$f":"'shaladarpan '!E574","v":"manjeet573"},{"$f":"'shaladarpan '!F574","v":"00:00:00"},{"$f":"'shaladarpan '!G574","v":"vijay573"},{"$f":"'shaladarpan '!H574","v":"beautiful573"},{"$f":"'shaladarpan '!I574","v":"M"},{"$f":"'shaladarpan '!J574","v":"2005-01-05"},{"$f":"'shaladarpan '!K574","v":"no"},{"$f":"'shaladarpan '!L574","v":573},{"$f":"'shaladarpan '!M574","v":0},{"$f":"'shaladarpan '!N574","v":0},{"$f":"'shaladarpan '!O574","v":"OBC"},{"$f":"'shaladarpan '!P574","v":"Hindu"},{"$f":"'shaladarpan '!Q574","v":0},{"$f":"'shaladarpan '!R574","v":"GOVT. SENIOR SECONDARY SCHOOL ALNIYAWAS (219445)"},{"$f":"'shaladarpan '!S574","v":8140200308},{"$f":"'shaladarpan '!T574","v":"XXXX6684"},{"$f":"'shaladarpan '!U574","v":0},{"$f":"'shaladarpan '!V574","v":9828121269},{"$f":"'shaladarpan '!W574","v":"alniyawas573"},{"$f":"'shaladarpan '!X574","v":50000},{"$f":"'shaladarpan '!Y574","v":"N"},{"$f":"'shaladarpan '!Z574","v":"N"},{"$f":"'shaladarpan '!AA574","v":"No"},{"$f":"'shaladarpan '!AB574","v":15},{"$f":"'shaladarpan '!AC574","v":"None"},{"$f":"'shaladarpan '!AD574","v":1}]
[{"$f":"IF(F576=\" \",\" \",ROWS($A$3:A576))","v":574},{"$f":"'shaladarpan '!A575","v":11},{"$f":"'shaladarpan '!B575","v":"A"},{"$f":"'shaladarpan '!C575","v":4423},{"$f":"'shaladarpan '!D575","v":"2017-07-19"},{"$f":"'shaladarpan '!E575","v":"manjeet574"},{"$f":"'shaladarpan '!F575","v":"00:00:00"},{"$f":"'shaladarpan '!G575","v":"vijay574"},{"$f":"'shaladarpan '!H575","v":"beautiful574"},{"$f":"'shaladarpan '!I575","v":"M"},{"$f":"'shaladarpan '!J575","v":"2004-07-13"},{"$f":"'shaladarpan '!K575","v":"yes"},{"$f":"'shaladarpan '!L575","v":574},{"$f":"'shaladarpan '!M575","v":0},{"$f":"'shaladarpan '!N575","v":0},{"$f":"'shaladarpan '!O575","v":"OBC"},{"$f":"'shaladarpan '!P575","v":"Hindu"},{"$f":"'shaladarpan '!Q575","v":0},{"$f":"'shaladarpan '!R575","v":"GOVT. SENIOR SECONDARY SCHOOL ALNIYAWAS (219445)"},{"$f":"'shaladarpan '!S575","v":8140200308},{"$f":"'shaladarpan '!T575","v":"XXXX9575"},{"$f":"'shaladarpan '!U575","v":0},{"$f":"'shaladarpan '!V575","v":9828121270},{"$f":"'shaladarpan '!W575","v":"alniyawas574"},{"$f":"'shaladarpan '!X575","v":0},{"$f":"'shaladarpan '!Y575","v":"N"},{"$f":"'shaladarpan '!Z575","v":"N"},{"$f":"'shaladarpan '!AA575","v":"No"},{"$f":"'shaladarpan '!AB575","v":16},{"$f":"'shaladarpan '!AC575","v":"None"},{"$f":"'shaladarpan '!AD575","v":1}]
[{"$f":"IF(F577=\" \",\" \",ROWS($A$3:A577))","v":575},{"$f":"'shaladarpan '!A576","v":11},{"$f":"'shaladarpan '!B576","v":"A"},{"$f":"'shaladarpan '!C576","v":4466},{"$f":"'shaladarpan '!D576","v":"2018-07-04"},{"$f":"'shaladarpan '!E576","v":"manjeet575"},{"$f":"'shaladarpan '!F576","v":"00:00:00"},{"$f":"'shaladarpan '!G576","v":"vijay575"},{"$f":"'shaladarpan '!H576","v":"beautiful575"},{"$f":"'shaladarpan '!I576","v":"F"},{"$f":"'shaladarpan '!J576","v":"2003-06-15"},{"$f":"'shaladarpan '!K576","v":"yes"},{"$f":"'shaladarpan '!L576","v":575},{"$f":"'shaladarpan '!M576","v":0},{"$f":"'shaladarpan '!N576","v":0},{"$f":"'shaladarpan '!O576","v":"OBC"},{"$f":"'shaladarpan '!P576","v":"Muslim"},{"$f":"'shaladarpan '!Q576","v":0},{"$f":"'shaladarpan '!R576","v":"GOVT. SENIOR SECONDARY SCHOOL ALNIYAWAS (219445)"},{"$f":"'shaladarpan '!S576","v":8140200308},{"$f":"'shaladarpan '!T576","v":"XXXX4525"},{"$f":"'shaladarpan '!U576","v":0},{"$f":"'shaladarpan '!V576","v":9828121271},{"$f":"'shaladarpan '!W576","v":"alniyawas575"},{"$f":"'shaladarpan '!X576","v":36000},{"$f":"'shaladarpan '!Y576","v":"N"},{"$f":"'shaladarpan '!Z576","v":"N"},{"$f":"'shaladarpan '!AA576","v":"Yes"},{"$f":"'shaladarpan '!AB576","v":17},{"$f":"'shaladarpan '!AC576","v":"None"},{"$f":"'shaladarpan '!AD576","v":5}]
[{"$f":"IF(F578=\" \",\" \",ROWS($A$3:A578))","v":576},{"$f":"'shaladarpan '!A577","v":11},{"$f":"'shaladarpan '!B577","v":"A"},{"$f":"'shaladarpan '!C577","v":3772},{"$f":"'shaladarpan '!D577","v":"2015-05-11"},{"$f":"'shaladarpan '!E577","v":"manjeet576"},{"$f":"'shaladarpan '!F577","v":"00:00:00"},{"$f":"'shaladarpan '!G577","v":"vijay576"},{"$f":"'shaladarpan '!H577","v":"beautiful576"},{"$f":"'shaladarpan '!I577","v":"F"},{"$f":"'shaladarpan '!J577","v":"2005-07-10"},{"$f":"'shaladarpan '!K577","v":"no"},{"$f":"'shaladarpan '!L577","v":576},{"$f":"'shaladarpan '!M577","v":0},{"$f":"'shaladarpan '!N577","v":0},{"$f":"'shaladarpan '!O577","v":"OBC"},{"$f":"'shaladarpan '!P577","v":"Muslim"},{"$f":"'shaladarpan '!Q577","v":0},{"$f":"'shaladarpan '!R577","v":"GOVT. SENIOR SECONDARY SCHOOL ALNIYAWAS (219445)"},{"$f":"'shaladarpan '!S577","v":8140200308},{"$f":"'shaladarpan '!T577","v":"XXXX6634"},{"$f":"'shaladarpan '!U577","v":0},{"$f":"'shaladarpan '!V577","v":9828121272},{"$f":"'shaladarpan '!W577","v":"alniyawas576"},{"$f":"'shaladarpan '!X577","v":0},{"$f":"'shaladarpan '!Y577","v":"N"},{"$f":"'shaladarpan '!Z577","v":"N"},{"$f":"'shaladarpan '!AA577","v":"Yes"},{"$f":"'shaladarpan '!AB577","v":15},{"$f":"'shaladarpan '!AC577","v":"None"},{"$f":"'shaladarpan '!AD577","v":1}]
[{"$f":"IF(F579=\" \",\" \",ROWS($A$3:A579))","v":577},{"$f":"'shaladarpan '!A578","v":11},{"$f":"'shaladarpan '!B578","v":"A"},{"$f":"'shaladarpan '!C578","v":4231},{"$f":"'shaladarpan '!D578","v":"2016-07-20"},{"$f":"'shaladarpan '!E578","v":"manjeet577"},{"$f":"'shaladarpan '!F578","v":"00:00:00"},{"$f":"'shaladarpan '!G578","v":"vijay577"},{"$f":"'shaladarpan '!H578","v":"beautiful577"},{"$f":"'shaladarpan '!I578","v":"F"},{"$f":"'shaladarpan '!J578","v":"2005-07-01"},{"$f":"'shaladarpan '!K578","v":"yes"},{"$f":"'shaladarpan '!L578","v":577},{"$f":"'shaladarpan '!M578","v":0},{"$f":"'shaladarpan '!N578","v":0},{"$f":"'shaladarpan '!O578","v":"OBC"},{"$f":"'shaladarpan '!P578","v":"Muslim"},{"$f":"'shaladarpan '!Q578","v":0},{"$f":"'shaladarpan '!R578","v":"GOVT. SENIOR SECONDARY SCHOOL ALNIYAWAS (219445)"},{"$f":"'shaladarpan '!S578","v":8140200308},{"$f":"'shaladarpan '!T578","v":"XXXX7725"},{"$f":"'shaladarpan '!U578","v":0},{"$f":"'shaladarpan '!V578","v":9828121273},{"$f":"'shaladarpan '!W578","v":"alniyawas577"},{"$f":"'shaladarpan '!X578","v":0},{"$f":"'shaladarpan '!Y578","v":"N"},{"$f":"'shaladarpan '!Z578","v":"N"},{"$f":"'shaladarpan '!AA578","v":"Yes"},{"$f":"'shaladarpan '!AB578","v":15},{"$f":"'shaladarpan '!AC578","v":"None"},{"$f":"'shaladarpan '!AD578","v":2}]
[{"$f":"IF(F580=\" \",\" \",ROWS($A$3:A580))","v":578},{"$f":"'shaladarpan '!A579","v":11},{"$f":"'shaladarpan '!B579","v":"A"},{"$f":"'shaladarpan '!C579","v":3753},{"$f":"'shaladarpan '!D579","v":"2015-05-11"},{"$f":"'shaladarpan '!E579","v":"manjeet578"},{"$f":"'shaladarpan '!F579","v":"00:00:00"},{"$f":"'shaladarpan '!G579","v":"vijay578"},{"$f":"'shaladarpan '!H579","v":"beautiful578"},{"$f":"'shaladarpan '!I579","v":"M"},{"$f":"'shaladarpan '!J579","v":"2003-07-05"},{"$f":"'shaladarpan '!K579","v":"yes"},{"$f":"'shaladarpan '!L579","v":578},{"$f":"'shaladarpan '!M579","v":0},{"$f":"'shaladarpan '!N579","v":0},{"$f":"'shaladarpan '!O579","v":"OBC"},{"$f":"'shaladarpan '!P579","v":"Muslim"},{"$f":"'shaladarpan '!Q579","v":0},{"$f":"'shaladarpan '!R579","v":"GOVT. SENIOR SECONDARY SCHOOL ALNIYAWAS (219445)"},{"$f":"'shaladarpan '!S579","v":8140200308},{"$f":"'shaladarpan '!T579","v":"XXXX3219"},{"$f":"'shaladarpan '!U579","v":"WXVCTHX"},{"$f":"'shaladarpan '!V579","v":9828121274},{"$f":"'shaladarpan '!W579","v":"alniyawas578"},{"$f":"'shaladarpan '!X579","v":60000},{"$f":"'shaladarpan '!Y579","v":"N"},{"$f":"'shaladarpan '!Z579","v":"N"},{"$f":"'shaladarpan '!AA579","v":"Yes"},{"$f":"'shaladarpan '!AB579","v":17},{"$f":"'shaladarpan '!AC579","v":"None"},{"$f":"'shaladarpan '!AD579","v":1}]
[{"$f":"IF(F581=\" \",\" \",ROWS($A$3:A581))","v":579},{"$f":"'shaladarpan '!A580","v":11},{"$f":"'shaladarpan '!B580","v":"A"},{"$f":"'shaladarpan '!C580","v":4635},{"$f":"'shaladarpan '!D580","v":"2015-07-01"},{"$f":"'shaladarpan '!E580","v":"manjeet579"},{"$f":"'shaladarpan '!F580","v":"00:00:00"},{"$f":"'shaladarpan '!G580","v":"vijay579"},{"$f":"'shaladarpan '!H580","v":"beautiful579"},{"$f":"'shaladarpan '!I580","v":"F"},{"$f":"'shaladarpan '!J580","v":"2005-12-01"},{"$f":"'shaladarpan '!K580","v":"no"},{"$f":"'shaladarpan '!L580","v":579},{"$f":"'shaladarpan '!M580","v":0},{"$f":"'shaladarpan '!N580","v":0},{"$f":"'shaladarpan '!O580","v":"SC"},{"$f":"'shaladarpan '!P580","v":"Hindu"},{"$f":"'shaladarpan '!Q580","v":0},{"$f":"'shaladarpan '!R580","v":"GOVT. SENIOR SECONDARY SCHOOL ALNIYAWAS (219445)"},{"$f":"'shaladarpan '!S580","v":8140200308},{"$f":"'shaladarpan '!T580","v":"XXXX0215"},{"$f":"'shaladarpan '!U580","v":0},{"$f":"'shaladarpan '!V580","v":9828121275},{"$f":"'shaladarpan '!W580","v":"alniyawas579"},{"$f":"'shaladarpan '!X580","v":38000},{"$f":"'shaladarpan '!Y580","v":"N"},{"$f":"'shaladarpan '!Z580","v":"N"},{"$f":"'shaladarpan '!AA580","v":"No"},{"$f":"'shaladarpan '!AB580","v":15},{"$f":"'shaladarpan '!AC580","v":"None"},{"$f":"'shaladarpan '!AD580","v":7}]
[{"$f":"IF(F582=\" \",\" \",ROWS($A$3:A582))","v":580},{"$f":"'shaladarpan '!A581","v":11},{"$f":"'shaladarpan '!B581","v":"A"},{"$f":"'shaladarpan '!C581","v":3764},{"$f":"'shaladarpan '!D581","v":"2015-05-11"},{"$f":"'shaladarpan '!E581","v":"manjeet580"},{"$f":"'shaladarpan '!F581","v":"00:00:00"},{"$f":"'shaladarpan '!G581","v":"vijay580"},{"$f":"'shaladarpan '!H581","v":"beautiful580"},{"$f":"'shaladarpan '!I581","v":"F"},{"$f":"'shaladarpan '!J581","v":"2002-05-05"},{"$f":"'shaladarpan '!K581","v":"yes"},{"$f":"'shaladarpan '!L581","v":580},{"$f":"'shaladarpan '!M581","v":0},{"$f":"'shaladarpan '!N581","v":0},{"$f":"'shaladarpan '!O581","v":"OBC"},{"$f":"'shaladarpan '!P581","v":"Muslim"},{"$f":"'shaladarpan '!Q581","v":0},{"$f":"'shaladarpan '!R581","v":"GOVT. SENIOR SECONDARY SCHOOL ALNIYAWAS (219445)"},{"$f":"'shaladarpan '!S581","v":8140200308},{"$f":"'shaladarpan '!T581","v":"XXXX2980"},{"$f":"'shaladarpan '!U581","v":0},{"$f":"'shaladarpan '!V581","v":9828121276},{"$f":"'shaladarpan '!W581","v":"alniyawas580"},{"$f":"'shaladarpan '!X581","v":0},{"$f":"'shaladarpan '!Y581","v":"N"},{"$f":"'shaladarpan '!Z581","v":"N"},{"$f":"'shaladarpan '!AA581","v":"Yes"},{"$f":"'shaladarpan '!AB581","v":18},{"$f":"'shaladarpan '!AC581","v":"None"},{"$f":"'shaladarpan '!AD581","v":2}]
[{"$f":"IF(F583=\" \",\" \",ROWS($A$3:A583))","v":581},{"$f":"'shaladarpan '!A582","v":11},{"$f":"'shaladarpan '!B582","v":"A"},{"$f":"'shaladarpan '!C582","v":4592},{"$f":"'shaladarpan '!D582","v":"2018-07-23"},{"$f":"'shaladarpan '!E582","v":"manjeet581"},{"$f":"'shaladarpan '!F582","v":"00:00:00"},{"$f":"'shaladarpan '!G582","v":"vijay581"},{"$f":"'shaladarpan '!H582","v":"beautiful581"},{"$f":"'shaladarpan '!I582","v":"F"},{"$f":"'shaladarpan '!J582","v":"2004-03-02"},{"$f":"'shaladarpan '!K582","v":"yes"},{"$f":"'shaladarpan '!L582","v":581},{"$f":"'shaladarpan '!M582","v":0},{"$f":"'shaladarpan '!N582","v":0},{"$f":"'shaladarpan '!O582","v":"OBC"},{"$f":"'shaladarpan '!P582","v":"Hindu"},{"$f":"'shaladarpan '!Q582","v":0},{"$f":"'shaladarpan '!R582","v":"GOVT. SENIOR SECONDARY SCHOOL ALNIYAWAS (219445)"},{"$f":"'shaladarpan '!S582","v":8140200308},{"$f":"'shaladarpan '!T582","v":"XXXX9300"},{"$f":"'shaladarpan '!U582","v":0},{"$f":"'shaladarpan '!V582","v":9828121277},{"$f":"'shaladarpan '!W582","v":"alniyawas581"},{"$f":"'shaladarpan '!X582","v":36000},{"$f":"'shaladarpan '!Y582","v":"N"},{"$f":"'shaladarpan '!Z582","v":"N"},{"$f":"'shaladarpan '!AA582","v":"No"},{"$f":"'shaladarpan '!AB582","v":16},{"$f":"'shaladarpan '!AC582","v":"None"},{"$f":"'shaladarpan '!AD582","v":3}]
[{"$f":"IF(F584=\" \",\" \",ROWS($A$3:A584))","v":582},{"$f":"'shaladarpan '!A583","v":11},{"$f":"'shaladarpan '!B583","v":"A"},{"$f":"'shaladarpan '!C583","v":4293},{"$f":"'shaladarpan '!D583","v":"2017-06-30"},{"$f":"'shaladarpan '!E583","v":"manjeet582"},{"$f":"'shaladarpan '!F583","v":"00:00:00"},{"$f":"'shaladarpan '!G583","v":"vijay582"},{"$f":"'shaladarpan '!H583","v":"beautiful582"},{"$f":"'shaladarpan '!I583","v":"F"},{"$f":"'shaladarpan '!J583","v":"2004-05-14"},{"$f":"'shaladarpan '!K583","v":"no"},{"$f":"'shaladarpan '!L583","v":582},{"$f":"'shaladarpan '!M583","v":0},{"$f":"'shaladarpan '!N583","v":0},{"$f":"'shaladarpan '!O583","v":"GEN"},{"$f":"'shaladarpan '!P583","v":"Hindu"},{"$f":"'shaladarpan '!Q583","v":0},{"$f":"'shaladarpan '!R583","v":"GOVT. SENIOR SECONDARY SCHOOL ALNIYAWAS (219445)"},{"$f":"'shaladarpan '!S583","v":8140200308},{"$f":"'shaladarpan '!T583","v":"XXXX0669"},{"$f":"'shaladarpan '!U583","v":0},{"$f":"'shaladarpan '!V583","v":9828121278},{"$f":"'shaladarpan '!W583","v":"alniyawas582"},{"$f":"'shaladarpan '!X583","v":0},{"$f":"'shaladarpan '!Y583","v":"N"},{"$f":"'shaladarpan '!Z583","v":"N"},{"$f":"'shaladarpan '!AA583","v":"No"},{"$f":"'shaladarpan '!AB583","v":16},{"$f":"'shaladarpan '!AC583","v":"None"},{"$f":"'shaladarpan '!AD583","v":1}]
[{"$f":"IF(F585=\" \",\" \",ROWS($A$3:A585))","v":583},{"$f":"'shaladarpan '!A584","v":11},{"$f":"'shaladarpan '!B584","v":"A"},{"$f":"'shaladarpan '!C584","v":4356},{"$f":"'shaladarpan '!D584","v":"2017-07-07"},{"$f":"'shaladarpan '!E584","v":"manjeet583"},{"$f":"'shaladarpan '!F584","v":"00:00:00"},{"$f":"'shaladarpan '!G584","v":"vijay583"},{"$f":"'shaladarpan '!H584","v":"beautiful583"},{"$f":"'shaladarpan '!I584","v":"M"},{"$f":"'shaladarpan '!J584","v":"2005-08-01"},{"$f":"'shaladarpan '!K584","v":"yes"},{"$f":"'shaladarpan '!L584","v":583},{"$f":"'shaladarpan '!M584","v":0},{"$f":"'shaladarpan '!N584","v":0},{"$f":"'shaladarpan '!O584","v":"OBC"},{"$f":"'shaladarpan '!P584","v":"Hindu"},{"$f":"'shaladarpan '!Q584","v":0},{"$f":"'shaladarpan '!R584","v":"GOVT. SENIOR SECONDARY SCHOOL ALNIYAWAS (219445)"},{"$f":"'shaladarpan '!S584","v":8140200308},{"$f":"'shaladarpan '!T584","v":"XXXX4228"},{"$f":"'shaladarpan '!U584","v":0},{"$f":"'shaladarpan '!V584","v":9828121279},{"$f":"'shaladarpan '!W584","v":"alniyawas583"},{"$f":"'shaladarpan '!X584","v":0},{"$f":"'shaladarpan '!Y584","v":"N"},{"$f":"'shaladarpan '!Z584","v":"N"},{"$f":"'shaladarpan '!AA584","v":"No"},{"$f":"'shaladarpan '!AB584","v":15},{"$f":"'shaladarpan '!AC584","v":"None"},{"$f":"'shaladarpan '!AD584","v":1}]
[{"$f":"IF(F586=\" \",\" \",ROWS($A$3:A586))","v":584},{"$f":"'shaladarpan '!A585","v":11},{"$f":"'shaladarpan '!B585","v":"A"},{"$f":"'shaladarpan '!C585","v":4227},{"$f":"'shaladarpan '!D585","v":"2016-07-20"},{"$f":"'shaladarpan '!E585","v":"manjeet584"},{"$f":"'shaladarpan '!F585","v":"00:00:00"},{"$f":"'shaladarpan '!G585","v":"vijay584"},{"$f":"'shaladarpan '!H585","v":"beautiful584"},{"$f":"'shaladarpan '!I585","v":"F"},{"$f":"'shaladarpan '!J585","v":"2004-10-15"},{"$f":"'shaladarpan '!K585","v":"yes"},{"$f":"'shaladarpan '!L585","v":584},{"$f":"'shaladarpan '!M585","v":0},{"$f":"'shaladarpan '!N585","v":0},{"$f":"'shaladarpan '!O585","v":"OBC"},{"$f":"'shaladarpan '!P585","v":"Muslim"},{"$f":"'shaladarpan '!Q585","v":0},{"$f":"'shaladarpan '!R585","v":"GOVT. SENIOR SECONDARY SCHOOL ALNIYAWAS (219445)"},{"$f":"'shaladarpan '!S585","v":8140200308},{"$f":"'shaladarpan '!T585","v":"XXXX9772"},{"$f":"'shaladarpan '!U585","v":0},{"$f":"'shaladarpan '!V585","v":9828121280},{"$f":"'shaladarpan '!W585","v":"alniyawas584"},{"$f":"'shaladarpan '!X585","v":0},{"$f":"'shaladarpan '!Y585","v":"N"},{"$f":"'shaladarpan '!Z585","v":"N"},{"$f":"'shaladarpan '!AA585","v":"Yes"},{"$f":"'shaladarpan '!AB585","v":16},{"$f":"'shaladarpan '!AC585","v":"None"},{"$f":"'shaladarpan '!AD585","v":1}]
[{"$f":"IF(F587=\" \",\" \",ROWS($A$3:A587))","v":585},{"$f":"'shaladarpan '!A586","v":11},{"$f":"'shaladarpan '!B586","v":"A"},{"$f":"'shaladarpan '!C586","v":4025},{"$f":"'shaladarpan '!D586","v":"2015-07-09"},{"$f":"'shaladarpan '!E586","v":"manjeet585"},{"$f":"'shaladarpan '!F586","v":"00:00:00"},{"$f":"'shaladarpan '!G586","v":"vijay585"},{"$f":"'shaladarpan '!H586","v":"beautiful585"},{"$f":"'shaladarpan '!I586","v":"M"},{"$f":"'shaladarpan '!J586","v":"2004-09-13"},{"$f":"'shaladarpan '!K586","v":"no"},{"$f":"'shaladarpan '!L586","v":585},{"$f":"'shaladarpan '!M586","v":0},{"$f":"'shaladarpan '!N586","v":0},{"$f":"'shaladarpan '!O586","v":"OBC"},{"$f":"'shaladarpan '!P586","v":"Hindu"},{"$f":"'shaladarpan '!Q586","v":0},{"$f":"'shaladarpan '!R586","v":"GOVT. SENIOR SECONDARY SCHOOL ALNIYAWAS (219445)"},{"$f":"'shaladarpan '!S586","v":8140200308},{"$f":"'shaladarpan '!T586","v":"XXXX3422"},{"$f":"'shaladarpan '!U586","v":0},{"$f":"'shaladarpan '!V586","v":9828121281},{"$f":"'shaladarpan '!W586","v":"alniyawas585"},{"$f":"'shaladarpan '!X586","v":0},{"$f":"'shaladarpan '!Y586","v":"N"},{"$f":"'shaladarpan '!Z586","v":"N"},{"$f":"'shaladarpan '!AA586","v":"No"},{"$f":"'shaladarpan '!AB586","v":16},{"$f":"'shaladarpan '!AC586","v":"None"},{"$f":"'shaladarpan '!AD586","v":2}]
[{"$f":"IF(F588=\" \",\" \",ROWS($A$3:A588))","v":586},{"$f":"'shaladarpan '!A587","v":11},{"$f":"'shaladarpan '!B587","v":"A"},{"$f":"'shaladarpan '!C587","v":4471},{"$f":"'shaladarpan '!D587","v":"2018-07-04"},{"$f":"'shaladarpan '!E587","v":"manjeet586"},{"$f":"'shaladarpan '!F587","v":"00:00:00"},{"$f":"'shaladarpan '!G587","v":"vijay586"},{"$f":"'shaladarpan '!H587","v":"beautiful586"},{"$f":"'shaladarpan '!I587","v":"F"},{"$f":"'shaladarpan '!J587","v":"2004-12-15"},{"$f":"'shaladarpan '!K587","v":"yes"},{"$f":"'shaladarpan '!L587","v":586},{"$f":"'shaladarpan '!M587","v":0},{"$f":"'shaladarpan '!N587","v":0},{"$f":"'shaladarpan '!O587","v":"SBC"},{"$f":"'shaladarpan '!P587","v":"Hindu"},{"$f":"'shaladarpan '!Q587","v":0},{"$f":"'shaladarpan '!R587","v":"GOVT. SENIOR SECONDARY SCHOOL ALNIYAWAS (219445)"},{"$f":"'shaladarpan '!S587","v":8140200308},{"$f":"'shaladarpan '!T587","v":"XXXX7230"},{"$f":"'shaladarpan '!U587","v":"VWCHWWJ"},{"$f":"'shaladarpan '!V587","v":9828121282},{"$f":"'shaladarpan '!W587","v":"alniyawas586"},{"$f":"'shaladarpan '!X587","v":60000},{"$f":"'shaladarpan '!Y587","v":"N"},{"$f":"'shaladarpan '!Z587","v":"N"},{"$f":"'shaladarpan '!AA587","v":"No"},{"$f":"'shaladarpan '!AB587","v":16},{"$f":"'shaladarpan '!AC587","v":"None"},{"$f":"'shaladarpan '!AD587","v":1}]
[{"$f":"IF(F589=\" \",\" \",ROWS($A$3:A589))","v":587},{"$f":"'shaladarpan '!A588","v":11},{"$f":"'shaladarpan '!B588","v":"A"},{"$f":"'shaladarpan '!C588","v":3748},{"$f":"'shaladarpan '!D588","v":"2015-05-11"},{"$f":"'shaladarpan '!E588","v":"manjeet587"},{"$f":"'shaladarpan '!F588","v":"00:00:00"},{"$f":"'shaladarpan '!G588","v":"vijay587"},{"$f":"'shaladarpan '!H588","v":"beautiful587"},{"$f":"'shaladarpan '!I588","v":"F"},{"$f":"'shaladarpan '!J588","v":"2005-07-01"},{"$f":"'shaladarpan '!K588","v":"yes"},{"$f":"'shaladarpan '!L588","v":587},{"$f":"'shaladarpan '!M588","v":0},{"$f":"'shaladarpan '!N588","v":0},{"$f":"'shaladarpan '!O588","v":"SC"},{"$f":"'shaladarpan '!P588","v":"Hindu"},{"$f":"'shaladarpan '!Q588","v":0},{"$f":"'shaladarpan '!R588","v":"GOVT. SENIOR SECONDARY SCHOOL ALNIYAWAS (219445)"},{"$f":"'shaladarpan '!S588","v":8140200308},{"$f":"'shaladarpan '!T588","v":"XXXX0394"},{"$f":"'shaladarpan '!U588","v":0},{"$f":"'shaladarpan '!V588","v":9828121283},{"$f":"'shaladarpan '!W588","v":"alniyawas587"},{"$f":"'shaladarpan '!X588","v":60000},{"$f":"'shaladarpan '!Y588","v":"N"},{"$f":"'shaladarpan '!Z588","v":"N"},{"$f":"'shaladarpan '!AA588","v":"No"},{"$f":"'shaladarpan '!AB588","v":15},{"$f":"'shaladarpan '!AC588","v":"None"},{"$f":"'shaladarpan '!AD588","v":0}]
[{"$f":"IF(F590=\" \",\" \",ROWS($A$3:A590))","v":588},{"$f":"'shaladarpan '!A589","v":11},{"$f":"'shaladarpan '!B589","v":"A"},{"$f":"'shaladarpan '!C589","v":4472},{"$f":"'shaladarpan '!D589","v":"2018-07-04"},{"$f":"'shaladarpan '!E589","v":"manjeet588"},{"$f":"'shaladarpan '!F589","v":"00:00:00"},{"$f":"'shaladarpan '!G589","v":"vijay588"},{"$f":"'shaladarpan '!H589","v":"beautiful588"},{"$f":"'shaladarpan '!I589","v":"F"},{"$f":"'shaladarpan '!J589","v":"2003-11-06"},{"$f":"'shaladarpan '!K589","v":"no"},{"$f":"'shaladarpan '!L589","v":588},{"$f":"'shaladarpan '!M589","v":0},{"$f":"'shaladarpan '!N589","v":0},{"$f":"'shaladarpan '!O589","v":"SBC"},{"$f":"'shaladarpan '!P589","v":"Hindu"},{"$f":"'shaladarpan '!Q589","v":0},{"$f":"'shaladarpan '!R589","v":"GOVT. SENIOR SECONDARY SCHOOL ALNIYAWAS (219445)"},{"$f":"'shaladarpan '!S589","v":8140200308},{"$f":"'shaladarpan '!T589","v":"XXXX2334"},{"$f":"'shaladarpan '!U589","v":"VWCHWWJ"},{"$f":"'shaladarpan '!V589","v":9828121284},{"$f":"'shaladarpan '!W589","v":"alniyawas588"},{"$f":"'shaladarpan '!X589","v":60000},{"$f":"'shaladarpan '!Y589","v":"N"},{"$f":"'shaladarpan '!Z589","v":"N"},{"$f":"'shaladarpan '!AA589","v":"No"},{"$f":"'shaladarpan '!AB589","v":17},{"$f":"'shaladarpan '!AC589","v":"None"},{"$f":"'shaladarpan '!AD589","v":1}]
[{"$f":"IF(F591=\" \",\" \",ROWS($A$3:A591))","v":589},{"$f":"'shaladarpan '!A590","v":11},{"$f":"'shaladarpan '!B590","v":"A"},{"$f":"'shaladarpan '!C590","v":4225},{"$f":"'shaladarpan '!D590","v":"2016-07-19"},{"$f":"'shaladarpan '!E590","v":"manjeet589"},{"$f":"'shaladarpan '!F590","v":"00:00:00"},{"$f":"'shaladarpan '!G590","v":"vijay589"},{"$f":"'shaladarpan '!H590","v":"beautiful589"},{"$f":"'shaladarpan '!I590","v":"M"},{"$f":"'shaladarpan '!J590","v":"2006-03-30"},{"$f":"'shaladarpan '!K590","v":"yes"},{"$f":"'shaladarpan '!L590","v":589},{"$f":"'shaladarpan '!M590","v":0},{"$f":"'shaladarpan '!N590","v":0},{"$f":"'shaladarpan '!O590","v":"OBC"},{"$f":"'shaladarpan '!P590","v":"Hindu"},{"$f":"'shaladarpan '!Q590","v":0},{"$f":"'shaladarpan '!R590","v":"GOVT. SENIOR SECONDARY SCHOOL ALNIYAWAS (219445)"},{"$f":"'shaladarpan '!S590","v":8140200308},{"$f":"'shaladarpan '!T590","v":"XXXX8356"},{"$f":"'shaladarpan '!U590","v":"VOCXJBP"},{"$f":"'shaladarpan '!V590","v":9828121285},{"$f":"'shaladarpan '!W590","v":"alniyawas589"},{"$f":"'shaladarpan '!X590","v":40000},{"$f":"'shaladarpan '!Y590","v":"N"},{"$f":"'shaladarpan '!Z590","v":"N"},{"$f":"'shaladarpan '!AA590","v":"No"},{"$f":"'shaladarpan '!AB590","v":14},{"$f":"'shaladarpan '!AC590","v":"None"},{"$f":"'shaladarpan '!AD590","v":1}]
[{"$f":"IF(F592=\" \",\" \",ROWS($A$3:A592))","v":590},{"$f":"'shaladarpan '!A591","v":11},{"$f":"'shaladarpan '!B591","v":"A"},{"$f":"'shaladarpan '!C591","v":4502},{"$f":"'shaladarpan '!D591","v":"2018-07-06"},{"$f":"'shaladarpan '!E591","v":"manjeet590"},{"$f":"'shaladarpan '!F591","v":"00:00:00"},{"$f":"'shaladarpan '!G591","v":"vijay590"},{"$f":"'shaladarpan '!H591","v":"beautiful590"},{"$f":"'shaladarpan '!I591","v":"F"},{"$f":"'shaladarpan '!J591","v":"2003-10-05"},{"$f":"'shaladarpan '!K591","v":"yes"},{"$f":"'shaladarpan '!L591","v":590},{"$f":"'shaladarpan '!M591","v":0},{"$f":"'shaladarpan '!N591","v":0},{"$f":"'shaladarpan '!O591","v":"OBC"},{"$f":"'shaladarpan '!P591","v":"Hindu"},{"$f":"'shaladarpan '!Q591","v":0},{"$f":"'shaladarpan '!R591","v":"GOVT. SENIOR SECONDARY SCHOOL ALNIYAWAS (219445)"},{"$f":"'shaladarpan '!S591","v":8140200308},{"$f":"'shaladarpan '!T591","v":"XXXX2012"},{"$f":"'shaladarpan '!U591","v":"VNNNTOV"},{"$f":"'shaladarpan '!V591","v":9828121286},{"$f":"'shaladarpan '!W591","v":"alniyawas590"},{"$f":"'shaladarpan '!X591","v":36000},{"$f":"'shaladarpan '!Y591","v":"N"},{"$f":"'shaladarpan '!Z591","v":"N"},{"$f":"'shaladarpan '!AA591","v":"No"},{"$f":"'shaladarpan '!AB591","v":17},{"$f":"'shaladarpan '!AC591","v":"None"},{"$f":"'shaladarpan '!AD591","v":5}]
[{"$f":"IF(F593=\" \",\" \",ROWS($A$3:A593))","v":591},{"$f":"'shaladarpan '!A592","v":11},{"$f":"'shaladarpan '!B592","v":"A"},{"$f":"'shaladarpan '!C592","v":4777},{"$f":"'shaladarpan '!D592","v":"2018-07-16"},{"$f":"'shaladarpan '!E592","v":"manjeet591"},{"$f":"'shaladarpan '!F592","v":"00:00:00"},{"$f":"'shaladarpan '!G592","v":"vijay591"},{"$f":"'shaladarpan '!H592","v":"beautiful591"},{"$f":"'shaladarpan '!I592","v":"F"},{"$f":"'shaladarpan '!J592","v":"2004-04-08"},{"$f":"'shaladarpan '!K592","v":"no"},{"$f":"'shaladarpan '!L592","v":591},{"$f":"'shaladarpan '!M592","v":0},{"$f":"'shaladarpan '!N592","v":0},{"$f":"'shaladarpan '!O592","v":"GEN"},{"$f":"'shaladarpan '!P592","v":"Hindu"},{"$f":"'shaladarpan '!Q592","v":0},{"$f":"'shaladarpan '!R592","v":"GOVT. SENIOR SECONDARY SCHOOL ALNIYAWAS (219445)"},{"$f":"'shaladarpan '!S592","v":8140200308},{"$f":"'shaladarpan '!T592","v":"XXXX4755"},{"$f":"'shaladarpan '!U592","v":"VKPZNHX"},{"$f":"'shaladarpan '!V592","v":9828121287},{"$f":"'shaladarpan '!W592","v":"alniyawas591"},{"$f":"'shaladarpan '!X592","v":0},{"$f":"'shaladarpan '!Y592","v":"N"},{"$f":"'shaladarpan '!Z592","v":"N"},{"$f":"'shaladarpan '!AA592","v":"No"},{"$f":"'shaladarpan '!AB592","v":16},{"$f":"'shaladarpan '!AC592","v":"None"},{"$f":"'shaladarpan '!AD592","v":2}]
[{"$f":"IF(F594=\" \",\" \",ROWS($A$3:A594))","v":592},{"$f":"'shaladarpan '!A593","v":11},{"$f":"'shaladarpan '!B593","v":"A"},{"$f":"'shaladarpan '!C593","v":4247},{"$f":"'shaladarpan '!D593","v":"2016-08-09"},{"$f":"'shaladarpan '!E593","v":"manjeet592"},{"$f":"'shaladarpan '!F593","v":"00:00:00"},{"$f":"'shaladarpan '!G593","v":"vijay592"},{"$f":"'shaladarpan '!H593","v":"beautiful592"},{"$f":"'shaladarpan '!I593","v":"M"},{"$f":"'shaladarpan '!J593","v":"2003-03-16"},{"$f":"'shaladarpan '!K593","v":"yes"},{"$f":"'shaladarpan '!L593","v":592},{"$f":"'shaladarpan '!M593","v":0},{"$f":"'shaladarpan '!N593","v":0},{"$f":"'shaladarpan '!O593","v":"OBC"},{"$f":"'shaladarpan '!P593","v":"Muslim"},{"$f":"'shaladarpan '!Q593","v":0},{"$f":"'shaladarpan '!R593","v":"GOVT. SENIOR SECONDARY SCHOOL ALNIYAWAS (219445)"},{"$f":"'shaladarpan '!S593","v":8140200308},{"$f":"'shaladarpan '!T593","v":"XXXX0244"},{"$f":"'shaladarpan '!U593","v":0},{"$f":"'shaladarpan '!V593","v":9828121288},{"$f":"'shaladarpan '!W593","v":"alniyawas592"},{"$f":"'shaladarpan '!X593","v":0},{"$f":"'shaladarpan '!Y593","v":"N"},{"$f":"'shaladarpan '!Z593","v":"N"},{"$f":"'shaladarpan '!AA593","v":"Yes"},{"$f":"'shaladarpan '!AB593","v":17},{"$f":"'shaladarpan '!AC593","v":"None"},{"$f":"'shaladarpan '!AD593","v":2}]
[{"$f":"IF(F595=\" \",\" \",ROWS($A$3:A595))","v":593},{"$f":"'shaladarpan '!A594","v":11},{"$f":"'shaladarpan '!B594","v":"A"},{"$f":"'shaladarpan '!C594","v":3568},{"$f":"'shaladarpan '!D594","v":"2014-05-13"},{"$f":"'shaladarpan '!E594","v":"manjeet593"},{"$f":"'shaladarpan '!F594","v":"00:00:00"},{"$f":"'shaladarpan '!G594","v":"vijay593"},{"$f":"'shaladarpan '!H594","v":"beautiful593"},{"$f":"'shaladarpan '!I594","v":"F"},{"$f":"'shaladarpan '!J594","v":"2004-07-02"},{"$f":"'shaladarpan '!K594","v":"yes"},{"$f":"'shaladarpan '!L594","v":593},{"$f":"'shaladarpan '!M594","v":0},{"$f":"'shaladarpan '!N594","v":0},{"$f":"'shaladarpan '!O594","v":"OBC"},{"$f":"'shaladarpan '!P594","v":"Muslim"},{"$f":"'shaladarpan '!Q594","v":0},{"$f":"'shaladarpan '!R594","v":"GOVT. SENIOR SECONDARY SCHOOL ALNIYAWAS (219445)"},{"$f":"'shaladarpan '!S594","v":8140200308},{"$f":"'shaladarpan '!T594","v":"XXXX4063"},{"$f":"'shaladarpan '!U594","v":0},{"$f":"'shaladarpan '!V594","v":9828121289},{"$f":"'shaladarpan '!W594","v":"alniyawas593"},{"$f":"'shaladarpan '!X594","v":0},{"$f":"'shaladarpan '!Y594","v":"N"},{"$f":"'shaladarpan '!Z594","v":"N"},{"$f":"'shaladarpan '!AA594","v":"Yes"},{"$f":"'shaladarpan '!AB594","v":16},{"$f":"'shaladarpan '!AC594","v":"None"},{"$f":"'shaladarpan '!AD594","v":2}]
[{"$f":"IF(F596=\" \",\" \",ROWS($A$3:A596))","v":594},{"$f":"'shaladarpan '!A595","v":11},{"$f":"'shaladarpan '!B595","v":"A"},{"$f":"'shaladarpan '!C595","v":3762},{"$f":"'shaladarpan '!D595","v":"2015-05-11"},{"$f":"'shaladarpan '!E595","v":"manjeet594"},{"$f":"'shaladarpan '!F595","v":"00:00:00"},{"$f":"'shaladarpan '!G595","v":"vijay594"},{"$f":"'shaladarpan '!H595","v":"beautiful594"},{"$f":"'shaladarpan '!I595","v":"M"},{"$f":"'shaladarpan '!J595","v":"2004-09-18"},{"$f":"'shaladarpan '!K595","v":"no"},{"$f":"'shaladarpan '!L595","v":594},{"$f":"'shaladarpan '!M595","v":0},{"$f":"'shaladarpan '!N595","v":0},{"$f":"'shaladarpan '!O595","v":"OBC"},{"$f":"'shaladarpan '!P595","v":"Muslim"},{"$f":"'shaladarpan '!Q595","v":0},{"$f":"'shaladarpan '!R595","v":"GOVT. SENIOR SECONDARY SCHOOL ALNIYAWAS (219445)"},{"$f":"'shaladarpan '!S595","v":8140200308},{"$f":"'shaladarpan '!T595","v":"XXXX3463"},{"$f":"'shaladarpan '!U595","v":0},{"$f":"'shaladarpan '!V595","v":9828121290},{"$f":"'shaladarpan '!W595","v":"alniyawas594"},{"$f":"'shaladarpan '!X595","v":0},{"$f":"'shaladarpan '!Y595","v":"N"},{"$f":"'shaladarpan '!Z595","v":"N"},{"$f":"'shaladarpan '!AA595","v":"Yes"},{"$f":"'shaladarpan '!AB595","v":16},{"$f":"'shaladarpan '!AC595","v":"None"},{"$f":"'shaladarpan '!AD595","v":1}]
[{"$f":"IF(F597=\" \",\" \",ROWS($A$3:A597))","v":595},{"$f":"'shaladarpan '!A596","v":11},{"$f":"'shaladarpan '!B596","v":"A"},{"$f":"'shaladarpan '!C596","v":3962},{"$f":"'shaladarpan '!D596","v":"2015-07-02"},{"$f":"'shaladarpan '!E596","v":"manjeet595"},{"$f":"'shaladarpan '!F596","v":"00:00:00"},{"$f":"'shaladarpan '!G596","v":"vijay595"},{"$f":"'shaladarpan '!H596","v":"beautiful595"},{"$f":"'shaladarpan '!I596","v":"F"},{"$f":"'shaladarpan '!J596","v":"2003-06-30"},{"$f":"'shaladarpan '!K596","v":"yes"},{"$f":"'shaladarpan '!L596","v":595},{"$f":"'shaladarpan '!M596","v":0},{"$f":"'shaladarpan '!N596","v":0},{"$f":"'shaladarpan '!O596","v":"OBC"},{"$f":"'shaladarpan '!P596","v":"Hindu"},{"$f":"'shaladarpan '!Q596","v":0},{"$f":"'shaladarpan '!R596","v":"GOVT. SENIOR SECONDARY SCHOOL ALNIYAWAS (219445)"},{"$f":"'shaladarpan '!S596","v":8140200308},{"$f":"'shaladarpan '!T596","v":"XXXX9060"},{"$f":"'shaladarpan '!U596","v":0},{"$f":"'shaladarpan '!V596","v":9828121291},{"$f":"'shaladarpan '!W596","v":"alniyawas595"},{"$f":"'shaladarpan '!X596","v":0},{"$f":"'shaladarpan '!Y596","v":"N"},{"$f":"'shaladarpan '!Z596","v":"N"},{"$f":"'shaladarpan '!AA596","v":"No"},{"$f":"'shaladarpan '!AB596","v":17},{"$f":"'shaladarpan '!AC596","v":"None"},{"$f":"'shaladarpan '!AD596","v":1}]
[{"$f":"IF(F598=\" \",\" \",ROWS($A$3:A598))","v":596},{"$f":"'shaladarpan '!A597","v":11},{"$f":"'shaladarpan '!B597","v":"A"},{"$f":"'shaladarpan '!C597","v":3574},{"$f":"'shaladarpan '!D597","v":"2014-05-13"},{"$f":"'shaladarpan '!E597","v":"manjeet596"},{"$f":"'shaladarpan '!F597","v":"00:00:00"},{"$f":"'shaladarpan '!G597","v":"vijay596"},{"$f":"'shaladarpan '!H597","v":"beautiful596"},{"$f":"'shaladarpan '!I597","v":"F"},{"$f":"'shaladarpan '!J597","v":"2004-02-03"},{"$f":"'shaladarpan '!K597","v":"yes"},{"$f":"'shaladarpan '!L597","v":596},{"$f":"'shaladarpan '!M597","v":0},{"$f":"'shaladarpan '!N597","v":0},{"$f":"'shaladarpan '!O597","v":"SC"},{"$f":"'shaladarpan '!P597","v":"Hindu"},{"$f":"'shaladarpan '!Q597","v":0},{"$f":"'shaladarpan '!R597","v":"GOVT. SENIOR SECONDARY SCHOOL ALNIYAWAS (219445)"},{"$f":"'shaladarpan '!S597","v":8140200308},{"$f":"'shaladarpan '!T597","v":"XXXX3336"},{"$f":"'shaladarpan '!U597","v":"WDYEIEB"},{"$f":"'shaladarpan '!V597","v":9828121292},{"$f":"'shaladarpan '!W597","v":"alniyawas596"},{"$f":"'shaladarpan '!X597","v":36000},{"$f":"'shaladarpan '!Y597","v":"N"},{"$f":"'shaladarpan '!Z597","v":"N"},{"$f":"'shaladarpan '!AA597","v":"No"},{"$f":"'shaladarpan '!AB597","v":16},{"$f":"'shaladarpan '!AC597","v":"None"},{"$f":"'shaladarpan '!AD597","v":2}]
[{"$f":"IF(F599=\" \",\" \",ROWS($A$3:A599))","v":597},{"$f":"'shaladarpan '!A598","v":11},{"$f":"'shaladarpan '!B598","v":"A"},{"$f":"'shaladarpan '!C598","v":4211},{"$f":"'shaladarpan '!D598","v":"2016-07-15"},{"$f":"'shaladarpan '!E598","v":"manjeet597"},{"$f":"'shaladarpan '!F598","v":"00:00:00"},{"$f":"'shaladarpan '!G598","v":"vijay597"},{"$f":"'shaladarpan '!H598","v":"beautiful597"},{"$f":"'shaladarpan '!I598","v":"F"},{"$f":"'shaladarpan '!J598","v":"2002-01-30"},{"$f":"'shaladarpan '!K598","v":"no"},{"$f":"'shaladarpan '!L598","v":597},{"$f":"'shaladarpan '!M598","v":0},{"$f":"'shaladarpan '!N598","v":0},{"$f":"'shaladarpan '!O598","v":"OBC"},{"$f":"'shaladarpan '!P598","v":"Hindu"},{"$f":"'shaladarpan '!Q598","v":0},{"$f":"'shaladarpan '!R598","v":"GOVT. SENIOR SECONDARY SCHOOL ALNIYAWAS (219445)"},{"$f":"'shaladarpan '!S598","v":8140200308},{"$f":"'shaladarpan '!T598","v":"XXXX4385"},{"$f":"'shaladarpan '!U598","v":0},{"$f":"'shaladarpan '!V598","v":9828121293},{"$f":"'shaladarpan '!W598","v":"alniyawas597"},{"$f":"'shaladarpan '!X598","v":0},{"$f":"'shaladarpan '!Y598","v":"N"},{"$f":"'shaladarpan '!Z598","v":"N"},{"$f":"'shaladarpan '!AA598","v":"No"},{"$f":"'shaladarpan '!AB598","v":18},{"$f":"'shaladarpan '!AC598","v":"None"},{"$f":"'shaladarpan '!AD598","v":1}]
[{"$f":"IF(F600=\" \",\" \",ROWS($A$3:A600))","v":598},{"$f":"'shaladarpan '!A599","v":11},{"$f":"'shaladarpan '!B599","v":"A"},{"$f":"'shaladarpan '!C599","v":4496},{"$f":"'shaladarpan '!D599","v":"2018-07-05"},{"$f":"'shaladarpan '!E599","v":"manjeet598"},{"$f":"'shaladarpan '!F599","v":"00:00:00"},{"$f":"'shaladarpan '!G599","v":"vijay598"},{"$f":"'shaladarpan '!H599","v":"beautiful598"},{"$f":"'shaladarpan '!I599","v":"F"},{"$f":"'shaladarpan '!J599","v":"2003-02-10"},{"$f":"'shaladarpan '!K599","v":"yes"},{"$f":"'shaladarpan '!L599","v":598},{"$f":"'shaladarpan '!M599","v":0},{"$f":"'shaladarpan '!N599","v":0},{"$f":"'shaladarpan '!O599","v":"OBC"},{"$f":"'shaladarpan '!P599","v":"Hindu"},{"$f":"'shaladarpan '!Q599","v":0},{"$f":"'shaladarpan '!R599","v":"GOVT. SENIOR SECONDARY SCHOOL ALNIYAWAS (219445)"},{"$f":"'shaladarpan '!S599","v":8140200308},{"$f":"'shaladarpan '!T599","v":"XXXX9356"},{"$f":"'shaladarpan '!U599","v":"VWTCKRN"},{"$f":"'shaladarpan '!V599","v":9828121294},{"$f":"'shaladarpan '!W599","v":"alniyawas598"},{"$f":"'shaladarpan '!X599","v":36000},{"$f":"'shaladarpan '!Y599","v":"N"},{"$f":"'shaladarpan '!Z599","v":"N"},{"$f":"'shaladarpan '!AA599","v":"No"},{"$f":"'shaladarpan '!AB599","v":17},{"$f":"'shaladarpan '!AC599","v":"None"},{"$f":"'shaladarpan '!AD599","v":2}]
[{"$f":"IF(F601=\" \",\" \",ROWS($A$3:A601))","v":599},{"$f":"'shaladarpan '!A600","v":11},{"$f":"'shaladarpan '!B600","v":"A"},{"$f":"'shaladarpan '!C600","v":4681},{"$f":"'shaladarpan '!D600","v":"2015-07-11"},{"$f":"'shaladarpan '!E600","v":"manjeet599"},{"$f":"'shaladarpan '!F600","v":"00:00:00"},{"$f":"'shaladarpan '!G600","v":"vijay599"},{"$f":"'shaladarpan '!H600","v":"beautiful599"},{"$f":"'shaladarpan '!I600","v":"F"},{"$f":"'shaladarpan '!J600","v":"2004-07-05"},{"$f":"'shaladarpan '!K600","v":"yes"},{"$f":"'shaladarpan '!L600","v":599},{"$f":"'shaladarpan '!M600","v":0},{"$f":"'shaladarpan '!N600","v":0},{"$f":"'shaladarpan '!O600","v":"OBC"},{"$f":"'shaladarpan '!P600","v":"Hindu"},{"$f":"'shaladarpan '!Q600","v":0},{"$f":"'shaladarpan '!R600","v":"GOVT. SENIOR SECONDARY SCHOOL ALNIYAWAS (219445)"},{"$f":"'shaladarpan '!S600","v":8140200308},{"$f":"'shaladarpan '!T600","v":"XXXX8436"},{"$f":"'shaladarpan '!U600","v":0},{"$f":"'shaladarpan '!V600","v":9828121295},{"$f":"'shaladarpan '!W600","v":"alniyawas599"},{"$f":"'shaladarpan '!X600","v":30000},{"$f":"'shaladarpan '!Y600","v":"N"},{"$f":"'shaladarpan '!Z600","v":"N"},{"$f":"'shaladarpan '!AA600","v":"No"},{"$f":"'shaladarpan '!AB600","v":16},{"$f":"'shaladarpan '!AC600","v":"None"},{"$f":"'shaladarpan '!AD600","v":1}]
[{"$f":"IF(F602=\" \",\" \",ROWS($A$3:A602))","v":600},{"$f":"'shaladarpan '!A601","v":11},{"$f":"'shaladarpan '!B601","v":"A"},{"$f":"'shaladarpan '!C601","v":4606},{"$f":"'shaladarpan '!D601","v":"2018-07-31"},{"$f":"'shaladarpan '!E601","v":"manjeet600"},{"$f":"'shaladarpan '!F601","v":"00:00:00"},{"$f":"'shaladarpan '!G601","v":"vijay600"},{"$f":"'shaladarpan '!H601","v":"beautiful600"},{"$f":"'shaladarpan '!I601","v":"M"},{"$f":"'shaladarpan '!J601","v":"2005-07-07"},{"$f":"'shaladarpan '!K601","v":"no"},{"$f":"'shaladarpan '!L601","v":600},{"$f":"'shaladarpan '!M601","v":0},{"$f":"'shaladarpan '!N601","v":0},{"$f":"'shaladarpan '!O601","v":"OBC"},{"$f":"'shaladarpan '!P601","v":"Hindu"},{"$f":"'shaladarpan '!Q601","v":0},{"$f":"'shaladarpan '!R601","v":"GOVT. SENIOR SECONDARY SCHOOL ALNIYAWAS (219445)"},{"$f":"'shaladarpan '!S601","v":8140200308},{"$f":"'shaladarpan '!T601","v":"XXXX8014"},{"$f":"'shaladarpan '!U601","v":"VVTVXTX"},{"$f":"'shaladarpan '!V601","v":9828121296},{"$f":"'shaladarpan '!W601","v":"alniyawas600"},{"$f":"'shaladarpan '!X601","v":40000},{"$f":"'shaladarpan '!Y601","v":"N"},{"$f":"'shaladarpan '!Z601","v":"N"},{"$f":"'shaladarpan '!AA601","v":"No"},{"$f":"'shaladarpan '!AB601","v":15},{"$f":"'shaladarpan '!AC601","v":"None"},{"$f":"'shaladarpan '!AD601","v":3}]
[{"$f":"IF(F603=\" \",\" \",ROWS($A$3:A603))","v":601},{"$f":"'shaladarpan '!A602","v":11},{"$f":"'shaladarpan '!B602","v":"A"},{"$f":"'shaladarpan '!C602","v":4834},{"$f":"'shaladarpan '!D602","v":"00:00:00"},{"$f":"'shaladarpan '!E602","v":"manjeet601"},{"$f":"'shaladarpan '!F602","v":"00:00:00"},{"$f":"'shaladarpan '!G602","v":"vijay601"},{"$f":"'shaladarpan '!H602","v":"beautiful601"},{"$f":"'shaladarpan '!I602","v":"M"},{"$f":"'shaladarpan '!J602","v":"2005-08-04"},{"$f":"'shaladarpan '!K602","v":"yes"},{"$f":"'shaladarpan '!L602","v":601},{"$f":"'shaladarpan '!M602","v":0},{"$f":"'shaladarpan '!N602","v":0},{"$f":"'shaladarpan '!O602","v":"SC"},{"$f":"'shaladarpan '!P602","v":0},{"$f":"'shaladarpan '!Q602","v":0},{"$f":"'shaladarpan '!R602","v":"GOVT. SENIOR SECONDARY SCHOOL ALNIYAWAS (219445)"},{"$f":"'shaladarpan '!S602","v":8140200308},{"$f":"'shaladarpan '!T602","v":0},{"$f":"'shaladarpan '!U602","v":0},{"$f":"'shaladarpan '!V602","v":9828121297},{"$f":"'shaladarpan '!W602","v":"alniyawas601"},{"$f":"'shaladarpan '!X602","v":0},{"$f":"'shaladarpan '!Y602","v":"N"},{"$f":"'shaladarpan '!Z602","v":"Y"},{"$f":"'shaladarpan '!AA602","v":0},{"$f":"'shaladarpan '!AB602","v":15},{"$f":"'shaladarpan '!AC602","v":0},{"$f":"'shaladarpan '!AD602","v":1}]
[{"$f":"IF(F604=\" \",\" \",ROWS($A$3:A604))","v":602},{"$f":"'shaladarpan '!A603","v":11},{"$f":"'shaladarpan '!B603","v":"A"},{"$f":"'shaladarpan '!C603","v":4138},{"$f":"'shaladarpan '!D603","v":"2016-07-01"},{"$f":"'shaladarpan '!E603","v":"manjeet602"},{"$f":"'shaladarpan '!F603","v":"00:00:00"},{"$f":"'shaladarpan '!G603","v":"vijay602"},{"$f":"'shaladarpan '!H603","v":"beautiful602"},{"$f":"'shaladarpan '!I603","v":"M"},{"$f":"'shaladarpan '!J603","v":"2004-06-17"},{"$f":"'shaladarpan '!K603","v":"yes"},{"$f":"'shaladarpan '!L603","v":602},{"$f":"'shaladarpan '!M603","v":0},{"$f":"'shaladarpan '!N603","v":0},{"$f":"'shaladarpan '!O603","v":"OBC"},{"$f":"'shaladarpan '!P603","v":"Hindu"},{"$f":"'shaladarpan '!Q603","v":0},{"$f":"'shaladarpan '!R603","v":"GOVT. SENIOR SECONDARY SCHOOL ALNIYAWAS (219445)"},{"$f":"'shaladarpan '!S603","v":8140200308},{"$f":"'shaladarpan '!T603","v":"XXXX0682"},{"$f":"'shaladarpan '!U603","v":0},{"$f":"'shaladarpan '!V603","v":9828121298},{"$f":"'shaladarpan '!W603","v":"alniyawas602"},{"$f":"'shaladarpan '!X603","v":0},{"$f":"'shaladarpan '!Y603","v":"N"},{"$f":"'shaladarpan '!Z603","v":"N"},{"$f":"'shaladarpan '!AA603","v":"No"},{"$f":"'shaladarpan '!AB603","v":16},{"$f":"'shaladarpan '!AC603","v":"None"},{"$f":"'shaladarpan '!AD603","v":1}]
[{"$f":"IF(F605=\" \",\" \",ROWS($A$3:A605))","v":603},{"$f":"'shaladarpan '!A604","v":11},{"$f":"'shaladarpan '!B604","v":"A"},{"$f":"'shaladarpan '!C604","v":4385},{"$f":"'shaladarpan '!D604","v":"2017-07-13"},{"$f":"'shaladarpan '!E604","v":"manjeet603"},{"$f":"'shaladarpan '!F604","v":"00:00:00"},{"$f":"'shaladarpan '!G604","v":"vijay603"},{"$f":"'shaladarpan '!H604","v":"beautiful603"},{"$f":"'shaladarpan '!I604","v":"M"},{"$f":"'shaladarpan '!J604","v":"2004-08-05"},{"$f":"'shaladarpan '!K604","v":"no"},{"$f":"'shaladarpan '!L604","v":603},{"$f":"'shaladarpan '!M604","v":0},{"$f":"'shaladarpan '!N604","v":0},{"$f":"'shaladarpan '!O604","v":"OBC"},{"$f":"'shaladarpan '!P604","v":"Hindu"},{"$f":"'shaladarpan '!Q604","v":0},{"$f":"'shaladarpan '!R604","v":"GOVT. SENIOR SECONDARY SCHOOL ALNIYAWAS (219445)"},{"$f":"'shaladarpan '!S604","v":8140200308},{"$f":"'shaladarpan '!T604","v":"XXXX8569"},{"$f":"'shaladarpan '!U604","v":0},{"$f":"'shaladarpan '!V604","v":9828121299},{"$f":"'shaladarpan '!W604","v":"alniyawas603"},{"$f":"'shaladarpan '!X604","v":0},{"$f":"'shaladarpan '!Y604","v":"N"},{"$f":"'shaladarpan '!Z604","v":"N"},{"$f":"'shaladarpan '!AA604","v":"No"},{"$f":"'shaladarpan '!AB604","v":16},{"$f":"'shaladarpan '!AC604","v":"None"},{"$f":"'shaladarpan '!AD604","v":1}]
[{"$f":"IF(F606=\" \",\" \",ROWS($A$3:A606))","v":604},{"$f":"'shaladarpan '!A605","v":11},{"$f":"'shaladarpan '!B605","v":"A"},{"$f":"'shaladarpan '!C605","v":4346},{"$f":"'shaladarpan '!D605","v":"2017-07-06"},{"$f":"'shaladarpan '!E605","v":"manjeet604"},{"$f":"'shaladarpan '!F605","v":"00:00:00"},{"$f":"'shaladarpan '!G605","v":"vijay604"},{"$f":"'shaladarpan '!H605","v":"beautiful604"},{"$f":"'shaladarpan '!I605","v":"M"},{"$f":"'shaladarpan '!J605","v":"2004-07-15"},{"$f":"'shaladarpan '!K605","v":"yes"},{"$f":"'shaladarpan '!L605","v":604},{"$f":"'shaladarpan '!M605","v":0},{"$f":"'shaladarpan '!N605","v":0},{"$f":"'shaladarpan '!O605","v":"OBC"},{"$f":"'shaladarpan '!P605","v":"Hindu"},{"$f":"'shaladarpan '!Q605","v":0},{"$f":"'shaladarpan '!R605","v":"GOVT. SENIOR SECONDARY SCHOOL ALNIYAWAS (219445)"},{"$f":"'shaladarpan '!S605","v":8140200308},{"$f":"'shaladarpan '!T605","v":"XXXX9002"},{"$f":"'shaladarpan '!U605","v":0},{"$f":"'shaladarpan '!V605","v":9828121300},{"$f":"'shaladarpan '!W605","v":"alniyawas604"},{"$f":"'shaladarpan '!X605","v":0},{"$f":"'shaladarpan '!Y605","v":"N"},{"$f":"'shaladarpan '!Z605","v":"N"},{"$f":"'shaladarpan '!AA605","v":"No"},{"$f":"'shaladarpan '!AB605","v":16},{"$f":"'shaladarpan '!AC605","v":"None"},{"$f":"'shaladarpan '!AD605","v":1}]
[{"$f":"IF(F607=\" \",\" \",ROWS($A$3:A607))","v":605},{"$f":"'shaladarpan '!A606","v":11},{"$f":"'shaladarpan '!B606","v":"A"},{"$f":"'shaladarpan '!C606","v":3982},{"$f":"'shaladarpan '!D606","v":"2015-07-11"},{"$f":"'shaladarpan '!E606","v":"manjeet605"},{"$f":"'shaladarpan '!F606","v":"00:00:00"},{"$f":"'shaladarpan '!G606","v":"vijay605"},{"$f":"'shaladarpan '!H606","v":"beautiful605"},{"$f":"'shaladarpan '!I606","v":"M"},{"$f":"'shaladarpan '!J606","v":"2002-11-16"},{"$f":"'shaladarpan '!K606","v":"yes"},{"$f":"'shaladarpan '!L606","v":605},{"$f":"'shaladarpan '!M606","v":0},{"$f":"'shaladarpan '!N606","v":0},{"$f":"'shaladarpan '!O606","v":"SC"},{"$f":"'shaladarpan '!P606","v":"Hindu"},{"$f":"'shaladarpan '!Q606","v":0},{"$f":"'shaladarpan '!R606","v":"GOVT. SENIOR SECONDARY SCHOOL ALNIYAWAS (219445)"},{"$f":"'shaladarpan '!S606","v":8140200308},{"$f":"'shaladarpan '!T606","v":"XXXX1009"},{"$f":"'shaladarpan '!U606","v":0},{"$f":"'shaladarpan '!V606","v":9828121301},{"$f":"'shaladarpan '!W606","v":"alniyawas605"},{"$f":"'shaladarpan '!X606","v":0},{"$f":"'shaladarpan '!Y606","v":"N"},{"$f":"'shaladarpan '!Z606","v":"N"},{"$f":"'shaladarpan '!AA606","v":"No"},{"$f":"'shaladarpan '!AB606","v":18},{"$f":"'shaladarpan '!AC606","v":"None"},{"$f":"'shaladarpan '!AD606","v":0}]
[{"$f":"IF(F608=\" \",\" \",ROWS($A$3:A608))","v":606},{"$f":"'shaladarpan '!A607","v":11},{"$f":"'shaladarpan '!B607","v":"A"},{"$f":"'shaladarpan '!C607","v":3754},{"$f":"'shaladarpan '!D607","v":"2015-05-11"},{"$f":"'shaladarpan '!E607","v":"manjeet606"},{"$f":"'shaladarpan '!F607","v":"00:00:00"},{"$f":"'shaladarpan '!G607","v":"vijay606"},{"$f":"'shaladarpan '!H607","v":"beautiful606"},{"$f":"'shaladarpan '!I607","v":"F"},{"$f":"'shaladarpan '!J607","v":"2005-07-15"},{"$f":"'shaladarpan '!K607","v":"no"},{"$f":"'shaladarpan '!L607","v":606},{"$f":"'shaladarpan '!M607","v":0},{"$f":"'shaladarpan '!N607","v":0},{"$f":"'shaladarpan '!O607","v":"OBC"},{"$f":"'shaladarpan '!P607","v":"Muslim"},{"$f":"'shaladarpan '!Q607","v":0},{"$f":"'shaladarpan '!R607","v":"GOVT. SENIOR SECONDARY SCHOOL ALNIYAWAS (219445)"},{"$f":"'shaladarpan '!S607","v":8140200308},{"$f":"'shaladarpan '!T607","v":"XXXX8526"},{"$f":"'shaladarpan '!U607","v":"WXVCTHX"},{"$f":"'shaladarpan '!V607","v":9828121302},{"$f":"'shaladarpan '!W607","v":"alniyawas606"},{"$f":"'shaladarpan '!X607","v":60000},{"$f":"'shaladarpan '!Y607","v":"N"},{"$f":"'shaladarpan '!Z607","v":"N"},{"$f":"'shaladarpan '!AA607","v":"Yes"},{"$f":"'shaladarpan '!AB607","v":15},{"$f":"'shaladarpan '!AC607","v":"None"},{"$f":"'shaladarpan '!AD607","v":2}]
[{"$f":"IF(F609=\" \",\" \",ROWS($A$3:A609))","v":607},{"$f":"'shaladarpan '!A608","v":11},{"$f":"'shaladarpan '!B608","v":"A"},{"$f":"'shaladarpan '!C608","v":3756},{"$f":"'shaladarpan '!D608","v":"2015-05-11"},{"$f":"'shaladarpan '!E608","v":"manjeet607"},{"$f":"'shaladarpan '!F608","v":"00:00:00"},{"$f":"'shaladarpan '!G608","v":"vijay607"},{"$f":"'shaladarpan '!H608","v":"beautiful607"},{"$f":"'shaladarpan '!I608","v":"F"},{"$f":"'shaladarpan '!J608","v":"2005-07-15"},{"$f":"'shaladarpan '!K608","v":"yes"},{"$f":"'shaladarpan '!L608","v":607},{"$f":"'shaladarpan '!M608","v":0},{"$f":"'shaladarpan '!N608","v":0},{"$f":"'shaladarpan '!O608","v":"OBC"},{"$f":"'shaladarpan '!P608","v":"Muslim"},{"$f":"'shaladarpan '!Q608","v":0},{"$f":"'shaladarpan '!R608","v":"GOVT. SENIOR SECONDARY SCHOOL ALNIYAWAS (219445)"},{"$f":"'shaladarpan '!S608","v":8140200308},{"$f":"'shaladarpan '!T608","v":"XXXX1659"},{"$f":"'shaladarpan '!U608","v":0},{"$f":"'shaladarpan '!V608","v":9828121303},{"$f":"'shaladarpan '!W608","v":"alniyawas607"},{"$f":"'shaladarpan '!X608","v":0},{"$f":"'shaladarpan '!Y608","v":"N"},{"$f":"'shaladarpan '!Z608","v":"N"},{"$f":"'shaladarpan '!AA608","v":"Yes"},{"$f":"'shaladarpan '!AB608","v":15},{"$f":"'shaladarpan '!AC608","v":"None"},{"$f":"'shaladarpan '!AD608","v":2}]
[{"$f":"IF(F610=\" \",\" \",ROWS($A$3:A610))","v":608},{"$f":"'shaladarpan '!A609","v":11},{"$f":"'shaladarpan '!B609","v":"A"},{"$f":"'shaladarpan '!C609","v":4493},{"$f":"'shaladarpan '!D609","v":"2018-07-05"},{"$f":"'shaladarpan '!E609","v":"manjeet608"},{"$f":"'shaladarpan '!F609","v":"00:00:00"},{"$f":"'shaladarpan '!G609","v":"vijay608"},{"$f":"'shaladarpan '!H609","v":"beautiful608"},{"$f":"'shaladarpan '!I609","v":"M"},{"$f":"'shaladarpan '!J609","v":"2001-12-03"},{"$f":"'shaladarpan '!K609","v":"yes"},{"$f":"'shaladarpan '!L609","v":608},{"$f":"'shaladarpan '!M609","v":0},{"$f":"'shaladarpan '!N609","v":0},{"$f":"'shaladarpan '!O609","v":"SC"},{"$f":"'shaladarpan '!P609","v":"Hindu"},{"$f":"'shaladarpan '!Q609","v":0},{"$f":"'shaladarpan '!R609","v":"GOVT. SENIOR SECONDARY SCHOOL ALNIYAWAS (219445)"},{"$f":"'shaladarpan '!S609","v":8140200308},{"$f":"'shaladarpan '!T609","v":"XXXX7720"},{"$f":"'shaladarpan '!U609","v":0},{"$f":"'shaladarpan '!V609","v":9828121304},{"$f":"'shaladarpan '!W609","v":"alniyawas608"},{"$f":"'shaladarpan '!X609","v":42000},{"$f":"'shaladarpan '!Y609","v":"N"},{"$f":"'shaladarpan '!Z609","v":"N"},{"$f":"'shaladarpan '!AA609","v":"No"},{"$f":"'shaladarpan '!AB609","v":19},{"$f":"'shaladarpan '!AC609","v":"None"},{"$f":"'shaladarpan '!AD609","v":1}]
[{"$f":"IF(F611=\" \",\" \",ROWS($A$3:A611))","v":609},{"$f":"'shaladarpan '!A610","v":11},{"$f":"'shaladarpan '!B610","v":"A"},{"$f":"'shaladarpan '!C610","v":4105},{"$f":"'shaladarpan '!D610","v":"2016-06-22"},{"$f":"'shaladarpan '!E610","v":"manjeet609"},{"$f":"'shaladarpan '!F610","v":"00:00:00"},{"$f":"'shaladarpan '!G610","v":"vijay609"},{"$f":"'shaladarpan '!H610","v":"beautiful609"},{"$f":"'shaladarpan '!I610","v":"F"},{"$f":"'shaladarpan '!J610","v":"2004-10-10"},{"$f":"'shaladarpan '!K610","v":"no"},{"$f":"'shaladarpan '!L610","v":609},{"$f":"'shaladarpan '!M610","v":0},{"$f":"'shaladarpan '!N610","v":0},{"$f":"'shaladarpan '!O610","v":"OBC"},{"$f":"'shaladarpan '!P610","v":"Hindu"},{"$f":"'shaladarpan '!Q610","v":0},{"$f":"'shaladarpan '!R610","v":"GOVT. SENIOR SECONDARY SCHOOL ALNIYAWAS (219445)"},{"$f":"'shaladarpan '!S610","v":8140200308},{"$f":"'shaladarpan '!T610","v":"XXXX1198"},{"$f":"'shaladarpan '!U610","v":0},{"$f":"'shaladarpan '!V610","v":9828121305},{"$f":"'shaladarpan '!W610","v":"alniyawas609"},{"$f":"'shaladarpan '!X610","v":40000},{"$f":"'shaladarpan '!Y610","v":"N"},{"$f":"'shaladarpan '!Z610","v":"N"},{"$f":"'shaladarpan '!AA610","v":"No"},{"$f":"'shaladarpan '!AB610","v":16},{"$f":"'shaladarpan '!AC610","v":"None"},{"$f":"'shaladarpan '!AD610","v":2}]
[{"$f":"IF(F612=\" \",\" \",ROWS($A$3:A612))","v":610},{"$f":"'shaladarpan '!A611","v":11},{"$f":"'shaladarpan '!B611","v":"A"},{"$f":"'shaladarpan '!C611","v":4319},{"$f":"'shaladarpan '!D611","v":"2017-07-04"},{"$f":"'shaladarpan '!E611","v":"manjeet610"},{"$f":"'shaladarpan '!F611","v":"00:00:00"},{"$f":"'shaladarpan '!G611","v":"vijay610"},{"$f":"'shaladarpan '!H611","v":"beautiful610"},{"$f":"'shaladarpan '!I611","v":"F"},{"$f":"'shaladarpan '!J611","v":"2005-07-07"},{"$f":"'shaladarpan '!K611","v":"yes"},{"$f":"'shaladarpan '!L611","v":610},{"$f":"'shaladarpan '!M611","v":0},{"$f":"'shaladarpan '!N611","v":0},{"$f":"'shaladarpan '!O611","v":"OBC"},{"$f":"'shaladarpan '!P611","v":"Hindu"},{"$f":"'shaladarpan '!Q611","v":0},{"$f":"'shaladarpan '!R611","v":"GOVT. SENIOR SECONDARY SCHOOL ALNIYAWAS (219445)"},{"$f":"'shaladarpan '!S611","v":8140200308},{"$f":"'shaladarpan '!T611","v":"XXXX7320"},{"$f":"'shaladarpan '!U611","v":0},{"$f":"'shaladarpan '!V611","v":9828121306},{"$f":"'shaladarpan '!W611","v":"alniyawas610"},{"$f":"'shaladarpan '!X611","v":0},{"$f":"'shaladarpan '!Y611","v":"N"},{"$f":"'shaladarpan '!Z611","v":"N"},{"$f":"'shaladarpan '!AA611","v":"No"},{"$f":"'shaladarpan '!AB611","v":15},{"$f":"'shaladarpan '!AC611","v":"None"},{"$f":"'shaladarpan '!AD611","v":1}]
[{"$f":"IF(F613=\" \",\" \",ROWS($A$3:A613))","v":611},{"$f":"'shaladarpan '!A612","v":11},{"$f":"'shaladarpan '!B612","v":"A"},{"$f":"'shaladarpan '!C612","v":4590},{"$f":"'shaladarpan '!D612","v":"2018-07-21"},{"$f":"'shaladarpan '!E612","v":"manjeet611"},{"$f":"'shaladarpan '!F612","v":"00:00:00"},{"$f":"'shaladarpan '!G612","v":"vijay611"},{"$f":"'shaladarpan '!H612","v":"beautiful611"},{"$f":"'shaladarpan '!I612","v":"F"},{"$f":"'shaladarpan '!J612","v":"2004-05-01"},{"$f":"'shaladarpan '!K612","v":"yes"},{"$f":"'shaladarpan '!L612","v":611},{"$f":"'shaladarpan '!M612","v":0},{"$f":"'shaladarpan '!N612","v":0},{"$f":"'shaladarpan '!O612","v":"SC"},{"$f":"'shaladarpan '!P612","v":"Hindu"},{"$f":"'shaladarpan '!Q612","v":0},{"$f":"'shaladarpan '!R612","v":"GOVT. SENIOR SECONDARY SCHOOL ALNIYAWAS (219445)"},{"$f":"'shaladarpan '!S612","v":8140200308},{"$f":"'shaladarpan '!T612","v":"XXXX8632"},{"$f":"'shaladarpan '!U612","v":"ymkqidf"},{"$f":"'shaladarpan '!V612","v":9828121307},{"$f":"'shaladarpan '!W612","v":"alniyawas611"},{"$f":"'shaladarpan '!X612","v":36000},{"$f":"'shaladarpan '!Y612","v":"N"},{"$f":"'shaladarpan '!Z612","v":"N"},{"$f":"'shaladarpan '!AA612","v":"No"},{"$f":"'shaladarpan '!AB612","v":16},{"$f":"'shaladarpan '!AC612","v":"None"},{"$f":"'shaladarpan '!AD612","v":3}]
[{"$f":"IF(F614=\" \",\" \",ROWS($A$3:A614))","v":612},{"$f":"'shaladarpan '!A613","v":11},{"$f":"'shaladarpan '!B613","v":"A"},{"$f":"'shaladarpan '!C613","v":4374},{"$f":"'shaladarpan '!D613","v":"2017-07-11"},{"$f":"'shaladarpan '!E613","v":"manjeet612"},{"$f":"'shaladarpan '!F613","v":"00:00:00"},{"$f":"'shaladarpan '!G613","v":"vijay612"},{"$f":"'shaladarpan '!H613","v":"beautiful612"},{"$f":"'shaladarpan '!I613","v":"F"},{"$f":"'shaladarpan '!J613","v":"2005-07-03"},{"$f":"'shaladarpan '!K613","v":"no"},{"$f":"'shaladarpan '!L613","v":612},{"$f":"'shaladarpan '!M613","v":0},{"$f":"'shaladarpan '!N613","v":0},{"$f":"'shaladarpan '!O613","v":"OBC"},{"$f":"'shaladarpan '!P613","v":"Hindu"},{"$f":"'shaladarpan '!Q613","v":0},{"$f":"'shaladarpan '!R613","v":"GOVT. SENIOR SECONDARY SCHOOL ALNIYAWAS (219445)"},{"$f":"'shaladarpan '!S613","v":8140200308},{"$f":"'shaladarpan '!T613","v":"XXXX7645"},{"$f":"'shaladarpan '!U613","v":0},{"$f":"'shaladarpan '!V613","v":9828121308},{"$f":"'shaladarpan '!W613","v":"alniyawas612"},{"$f":"'shaladarpan '!X613","v":0},{"$f":"'shaladarpan '!Y613","v":"N"},{"$f":"'shaladarpan '!Z613","v":"N"},{"$f":"'shaladarpan '!AA613","v":"No"},{"$f":"'shaladarpan '!AB613","v":15},{"$f":"'shaladarpan '!AC613","v":"None"},{"$f":"'shaladarpan '!AD613","v":1}]
[{"$f":"IF(F615=\" \",\" \",ROWS($A$3:A615))","v":613},{"$f":"'shaladarpan '!A614","v":11},{"$f":"'shaladarpan '!B614","v":"A"},{"$f":"'shaladarpan '!C614","v":4634},{"$f":"'shaladarpan '!D614","v":"2015-07-01"},{"$f":"'shaladarpan '!E614","v":"manjeet613"},{"$f":"'shaladarpan '!F614","v":"00:00:00"},{"$f":"'shaladarpan '!G614","v":"vijay613"},{"$f":"'shaladarpan '!H614","v":"beautiful613"},{"$f":"'shaladarpan '!I614","v":"F"},{"$f":"'shaladarpan '!J614","v":"2005-12-02"},{"$f":"'shaladarpan '!K614","v":"yes"},{"$f":"'shaladarpan '!L614","v":613},{"$f":"'shaladarpan '!M614","v":0},{"$f":"'shaladarpan '!N614","v":0},{"$f":"'shaladarpan '!O614","v":"SC"},{"$f":"'shaladarpan '!P614","v":"Hindu"},{"$f":"'shaladarpan '!Q614","v":0},{"$f":"'shaladarpan '!R614","v":"GOVT. SENIOR SECONDARY SCHOOL ALNIYAWAS (219445)"},{"$f":"'shaladarpan '!S614","v":8140200308},{"$f":"'shaladarpan '!T614","v":"XXXX2642"},{"$f":"'shaladarpan '!U614","v":0},{"$f":"'shaladarpan '!V614","v":9828121309},{"$f":"'shaladarpan '!W614","v":"alniyawas613"},{"$f":"'shaladarpan '!X614","v":94800},{"$f":"'shaladarpan '!Y614","v":"N"},{"$f":"'shaladarpan '!Z614","v":"N"},{"$f":"'shaladarpan '!AA614","v":"No"},{"$f":"'shaladarpan '!AB614","v":15},{"$f":"'shaladarpan '!AC614","v":"None"},{"$f":"'shaladarpan '!AD614","v":7}]
[{"$f":"IF(F616=\" \",\" \",ROWS($A$3:A616))","v":614},{"$f":"'shaladarpan '!A615","v":11},{"$f":"'shaladarpan '!B615","v":"A"},{"$f":"'shaladarpan '!C615","v":3765},{"$f":"'shaladarpan '!D615","v":"2015-05-11"},{"$f":"'shaladarpan '!E615","v":"manjeet614"},{"$f":"'shaladarpan '!F615","v":"00:00:00"},{"$f":"'shaladarpan '!G615","v":"vijay614"},{"$f":"'shaladarpan '!H615","v":"beautiful614"},{"$f":"'shaladarpan '!I615","v":"F"},{"$f":"'shaladarpan '!J615","v":"2004-07-05"},{"$f":"'shaladarpan '!K615","v":"yes"},{"$f":"'shaladarpan '!L615","v":614},{"$f":"'shaladarpan '!M615","v":0},{"$f":"'shaladarpan '!N615","v":0},{"$f":"'shaladarpan '!O615","v":"OBC"},{"$f":"'shaladarpan '!P615","v":"Muslim"},{"$f":"'shaladarpan '!Q615","v":0},{"$f":"'shaladarpan '!R615","v":"GOVT. SENIOR SECONDARY SCHOOL ALNIYAWAS (219445)"},{"$f":"'shaladarpan '!S615","v":8140200308},{"$f":"'shaladarpan '!T615","v":"XXXX9161"},{"$f":"'shaladarpan '!U615","v":0},{"$f":"'shaladarpan '!V615","v":9828121310},{"$f":"'shaladarpan '!W615","v":"alniyawas614"},{"$f":"'shaladarpan '!X615","v":0},{"$f":"'shaladarpan '!Y615","v":"N"},{"$f":"'shaladarpan '!Z615","v":"N"},{"$f":"'shaladarpan '!AA615","v":"Yes"},{"$f":"'shaladarpan '!AB615","v":16},{"$f":"'shaladarpan '!AC615","v":"None"},{"$f":"'shaladarpan '!AD615","v":2}]
[{"$f":"IF(F617=\" \",\" \",ROWS($A$3:A617))","v":615},{"$f":"'shaladarpan '!A616","v":11},{"$f":"'shaladarpan '!B616","v":"A"},{"$f":"'shaladarpan '!C616","v":3554},{"$f":"'shaladarpan '!D616","v":"2014-05-13"},{"$f":"'shaladarpan '!E616","v":"manjeet615"},{"$f":"'shaladarpan '!F616","v":"00:00:00"},{"$f":"'shaladarpan '!G616","v":"vijay615"},{"$f":"'shaladarpan '!H616","v":"beautiful615"},{"$f":"'shaladarpan '!I616","v":"F"},{"$f":"'shaladarpan '!J616","v":"2002-04-11"},{"$f":"'shaladarpan '!K616","v":"no"},{"$f":"'shaladarpan '!L616","v":615},{"$f":"'shaladarpan '!M616","v":0},{"$f":"'shaladarpan '!N616","v":0},{"$f":"'shaladarpan '!O616","v":"OBC"},{"$f":"'shaladarpan '!P616","v":"Muslim"},{"$f":"'shaladarpan '!Q616","v":0},{"$f":"'shaladarpan '!R616","v":"GOVT. SENIOR SECONDARY SCHOOL ALNIYAWAS (219445)"},{"$f":"'shaladarpan '!S616","v":8140200308},{"$f":"'shaladarpan '!T616","v":"XXXX3977"},{"$f":"'shaladarpan '!U616","v":0},{"$f":"'shaladarpan '!V616","v":9828121311},{"$f":"'shaladarpan '!W616","v":"alniyawas615"},{"$f":"'shaladarpan '!X616","v":0},{"$f":"'shaladarpan '!Y616","v":"N"},{"$f":"'shaladarpan '!Z616","v":"N"},{"$f":"'shaladarpan '!AA616","v":"Yes"},{"$f":"'shaladarpan '!AB616","v":18},{"$f":"'shaladarpan '!AC616","v":"None"},{"$f":"'shaladarpan '!AD616","v":1}]
[{"$f":"IF(F618=\" \",\" \",ROWS($A$3:A618))","v":616},{"$f":"'shaladarpan '!A617","v":11},{"$f":"'shaladarpan '!B617","v":"A"},{"$f":"'shaladarpan '!C617","v":4885},{"$f":"'shaladarpan '!D617","v":"00:00:00"},{"$f":"'shaladarpan '!E617","v":"manjeet616"},{"$f":"'shaladarpan '!F617","v":"00:00:00"},{"$f":"'shaladarpan '!G617","v":"vijay616"},{"$f":"'shaladarpan '!H617","v":"beautiful616"},{"$f":"'shaladarpan '!I617","v":"M"},{"$f":"'shaladarpan '!J617","v":"2005-05-10"},{"$f":"'shaladarpan '!K617","v":"yes"},{"$f":"'shaladarpan '!L617","v":616},{"$f":"'shaladarpan '!M617","v":0},{"$f":"'shaladarpan '!N617","v":0},{"$f":"'shaladarpan '!O617","v":"SC"},{"$f":"'shaladarpan '!P617","v":0},{"$f":"'shaladarpan '!Q617","v":0},{"$f":"'shaladarpan '!R617","v":"GOVT. SENIOR SECONDARY SCHOOL ALNIYAWAS (219445)"},{"$f":"'shaladarpan '!S617","v":8140200308},{"$f":"'shaladarpan '!T617","v":0},{"$f":"'shaladarpan '!U617","v":0},{"$f":"'shaladarpan '!V617","v":9828121312},{"$f":"'shaladarpan '!W617","v":"alniyawas616"},{"$f":"'shaladarpan '!X617","v":0},{"$f":"'shaladarpan '!Y617","v":"N"},{"$f":"'shaladarpan '!Z617","v":"Y"},{"$f":"'shaladarpan '!AA617","v":0},{"$f":"'shaladarpan '!AB617","v":15},{"$f":"'shaladarpan '!AC617","v":0},{"$f":"'shaladarpan '!AD617","v":7}]
[{"$f":"IF(F619=\" \",\" \",ROWS($A$3:A619))","v":617},{"$f":"'shaladarpan '!A618","v":11},{"$f":"'shaladarpan '!B618","v":"A"},{"$f":"'shaladarpan '!C618","v":4491},{"$f":"'shaladarpan '!D618","v":"2018-07-05"},{"$f":"'shaladarpan '!E618","v":"manjeet617"},{"$f":"'shaladarpan '!F618","v":"00:00:00"},{"$f":"'shaladarpan '!G618","v":"vijay617"},{"$f":"'shaladarpan '!H618","v":"beautiful617"},{"$f":"'shaladarpan '!I618","v":"F"},{"$f":"'shaladarpan '!J618","v":"2005-06-11"},{"$f":"'shaladarpan '!K618","v":"yes"},{"$f":"'shaladarpan '!L618","v":617},{"$f":"'shaladarpan '!M618","v":0},{"$f":"'shaladarpan '!N618","v":0},{"$f":"'shaladarpan '!O618","v":"OBC"},{"$f":"'shaladarpan '!P618","v":"Hindu"},{"$f":"'shaladarpan '!Q618","v":0},{"$f":"'shaladarpan '!R618","v":"GOVT. SENIOR SECONDARY SCHOOL ALNIYAWAS (219445)"},{"$f":"'shaladarpan '!S618","v":8140200308},{"$f":"'shaladarpan '!T618","v":"XXXX4484"},{"$f":"'shaladarpan '!U618","v":"VPWCXBV"},{"$f":"'shaladarpan '!V618","v":9828121313},{"$f":"'shaladarpan '!W618","v":"alniyawas617"},{"$f":"'shaladarpan '!X618","v":36000},{"$f":"'shaladarpan '!Y618","v":"N"},{"$f":"'shaladarpan '!Z618","v":"N"},{"$f":"'shaladarpan '!AA618","v":"No"},{"$f":"'shaladarpan '!AB618","v":15},{"$f":"'shaladarpan '!AC618","v":"None"},{"$f":"'shaladarpan '!AD618","v":5}]
[{"$f":"IF(F620=\" \",\" \",ROWS($A$3:A620))","v":618},{"$f":"'shaladarpan '!A619","v":11},{"$f":"'shaladarpan '!B619","v":"A"},{"$f":"'shaladarpan '!C619","v":4490},{"$f":"'shaladarpan '!D619","v":"2018-07-05"},{"$f":"'shaladarpan '!E619","v":"manjeet618"},{"$f":"'shaladarpan '!F619","v":"00:00:00"},{"$f":"'shaladarpan '!G619","v":"vijay618"},{"$f":"'shaladarpan '!H619","v":"beautiful618"},{"$f":"'shaladarpan '!I619","v":"F"},{"$f":"'shaladarpan '!J619","v":"2003-06-05"},{"$f":"'shaladarpan '!K619","v":"no"},{"$f":"'shaladarpan '!L619","v":618},{"$f":"'shaladarpan '!M619","v":0},{"$f":"'shaladarpan '!N619","v":0},{"$f":"'shaladarpan '!O619","v":"OBC"},{"$f":"'shaladarpan '!P619","v":"Hindu"},{"$f":"'shaladarpan '!Q619","v":0},{"$f":"'shaladarpan '!R619","v":"GOVT. SENIOR SECONDARY SCHOOL ALNIYAWAS (219445)"},{"$f":"'shaladarpan '!S619","v":8140200308},{"$f":"'shaladarpan '!T619","v":"XXXX6148"},{"$f":"'shaladarpan '!U619","v":"YQQKAQB"},{"$f":"'shaladarpan '!V619","v":9828121314},{"$f":"'shaladarpan '!W619","v":"alniyawas618"},{"$f":"'shaladarpan '!X619","v":36000},{"$f":"'shaladarpan '!Y619","v":"N"},{"$f":"'shaladarpan '!Z619","v":"N"},{"$f":"'shaladarpan '!AA619","v":"No"},{"$f":"'shaladarpan '!AB619","v":17},{"$f":"'shaladarpan '!AC619","v":"None"},{"$f":"'shaladarpan '!AD619","v":5}]
[{"$f":"IF(F621=\" \",\" \",ROWS($A$3:A621))","v":619},{"$f":"'shaladarpan '!A620","v":11},{"$f":"'shaladarpan '!B620","v":"A"},{"$f":"'shaladarpan '!C620","v":4680},{"$f":"'shaladarpan '!D620","v":"2019-07-09"},{"$f":"'shaladarpan '!E620","v":"manjeet619"},{"$f":"'shaladarpan '!F620","v":"00:00:00"},{"$f":"'shaladarpan '!G620","v":"vijay619"},{"$f":"'shaladarpan '!H620","v":"beautiful619"},{"$f":"'shaladarpan '!I620","v":"F"},{"$f":"'shaladarpan '!J620","v":"2004-04-20"},{"$f":"'shaladarpan '!K620","v":"yes"},{"$f":"'shaladarpan '!L620","v":619},{"$f":"'shaladarpan '!M620","v":0},{"$f":"'shaladarpan '!N620","v":0},{"$f":"'shaladarpan '!O620","v":"OBC"},{"$f":"'shaladarpan '!P620","v":"Hindu"},{"$f":"'shaladarpan '!Q620","v":0},{"$f":"'shaladarpan '!R620","v":"GOVT. SENIOR SECONDARY SCHOOL ALNIYAWAS (219445)"},{"$f":"'shaladarpan '!S620","v":8140200308},{"$f":"'shaladarpan '!T620","v":"XXXX4339"},{"$f":"'shaladarpan '!U620","v":0},{"$f":"'shaladarpan '!V620","v":9828121315},{"$f":"'shaladarpan '!W620","v":"alniyawas619"},{"$f":"'shaladarpan '!X620","v":40000},{"$f":"'shaladarpan '!Y620","v":"N"},{"$f":"'shaladarpan '!Z620","v":"N"},{"$f":"'shaladarpan '!AA620","v":"No"},{"$f":"'shaladarpan '!AB620","v":16},{"$f":"'shaladarpan '!AC620","v":"None"},{"$f":"'shaladarpan '!AD620","v":1}]
[{"$f":"IF(F622=\" \",\" \",ROWS($A$3:A622))","v":620},{"$f":"'shaladarpan '!A621","v":11},{"$f":"'shaladarpan '!B621","v":"A"},{"$f":"'shaladarpan '!C621","v":4495},{"$f":"'shaladarpan '!D621","v":"2018-07-05"},{"$f":"'shaladarpan '!E621","v":"manjeet620"},{"$f":"'shaladarpan '!F621","v":"00:00:00"},{"$f":"'shaladarpan '!G621","v":"vijay620"},{"$f":"'shaladarpan '!H621","v":"beautiful620"},{"$f":"'shaladarpan '!I621","v":"M"},{"$f":"'shaladarpan '!J621","v":"2005-10-06"},{"$f":"'shaladarpan '!K621","v":"yes"},{"$f":"'shaladarpan '!L621","v":620},{"$f":"'shaladarpan '!M621","v":0},{"$f":"'shaladarpan '!N621","v":0},{"$f":"'shaladarpan '!O621","v":"OBC"},{"$f":"'shaladarpan '!P621","v":"Hindu"},{"$f":"'shaladarpan '!Q621","v":0},{"$f":"'shaladarpan '!R621","v":"GOVT. SENIOR SECONDARY SCHOOL ALNIYAWAS (219445)"},{"$f":"'shaladarpan '!S621","v":8140200308},{"$f":"'shaladarpan '!T621","v":"XXXX6636"},{"$f":"'shaladarpan '!U621","v":"VROKKCT"},{"$f":"'shaladarpan '!V621","v":9828121316},{"$f":"'shaladarpan '!W621","v":"alniyawas620"},{"$f":"'shaladarpan '!X621","v":36000},{"$f":"'shaladarpan '!Y621","v":"N"},{"$f":"'shaladarpan '!Z621","v":"N"},{"$f":"'shaladarpan '!AA621","v":"No"},{"$f":"'shaladarpan '!AB621","v":15},{"$f":"'shaladarpan '!AC621","v":"None"},{"$f":"'shaladarpan '!AD621","v":5}]
[{"$f":"IF(F623=\" \",\" \",ROWS($A$3:A623))","v":621},{"$f":"'shaladarpan '!A622","v":11},{"$f":"'shaladarpan '!B622","v":"A"},{"$f":"'shaladarpan '!C622","v":4352},{"$f":"'shaladarpan '!D622","v":"2017-07-07"},{"$f":"'shaladarpan '!E622","v":"manjeet621"},{"$f":"'shaladarpan '!F622","v":"00:00:00"},{"$f":"'shaladarpan '!G622","v":"vijay621"},{"$f":"'shaladarpan '!H622","v":"beautiful621"},{"$f":"'shaladarpan '!I622","v":"F"},{"$f":"'shaladarpan '!J622","v":"2003-07-10"},{"$f":"'shaladarpan '!K622","v":"no"},{"$f":"'shaladarpan '!L622","v":621},{"$f":"'shaladarpan '!M622","v":0},{"$f":"'shaladarpan '!N622","v":0},{"$f":"'shaladarpan '!O622","v":"SC"},{"$f":"'shaladarpan '!P622","v":"Hindu"},{"$f":"'shaladarpan '!Q622","v":0},{"$f":"'shaladarpan '!R622","v":"GOVT. SENIOR SECONDARY SCHOOL ALNIYAWAS (219445)"},{"$f":"'shaladarpan '!S622","v":8140200308},{"$f":"'shaladarpan '!T622","v":"XXXX1155"},{"$f":"'shaladarpan '!U622","v":"VRCKOOP"},{"$f":"'shaladarpan '!V622","v":9828121317},{"$f":"'shaladarpan '!W622","v":"alniyawas621"},{"$f":"'shaladarpan '!X622","v":36000},{"$f":"'shaladarpan '!Y622","v":"N"},{"$f":"'shaladarpan '!Z622","v":"N"},{"$f":"'shaladarpan '!AA622","v":"No"},{"$f":"'shaladarpan '!AB622","v":17},{"$f":"'shaladarpan '!AC622","v":"None"},{"$f":"'shaladarpan '!AD622","v":1}]
[{"$f":"IF(F624=\" \",\" \",ROWS($A$3:A624))","v":622},{"$f":"'shaladarpan '!A623","v":11},{"$f":"'shaladarpan '!B623","v":"A"},{"$f":"'shaladarpan '!C623","v":4512},{"$f":"'shaladarpan '!D623","v":"2018-07-06"},{"$f":"'shaladarpan '!E623","v":"manjeet622"},{"$f":"'shaladarpan '!F623","v":"00:00:00"},{"$f":"'shaladarpan '!G623","v":"vijay622"},{"$f":"'shaladarpan '!H623","v":"beautiful622"},{"$f":"'shaladarpan '!I623","v":"M"},{"$f":"'shaladarpan '!J623","v":"2004-08-27"},{"$f":"'shaladarpan '!K623","v":"yes"},{"$f":"'shaladarpan '!L623","v":622},{"$f":"'shaladarpan '!M623","v":0},{"$f":"'shaladarpan '!N623","v":0},{"$f":"'shaladarpan '!O623","v":"OBC"},{"$f":"'shaladarpan '!P623","v":"Hindu"},{"$f":"'shaladarpan '!Q623","v":0},{"$f":"'shaladarpan '!R623","v":"GOVT. SENIOR SECONDARY SCHOOL ALNIYAWAS (219445)"},{"$f":"'shaladarpan '!S623","v":8140200308},{"$f":"'shaladarpan '!T623","v":"XXXX4860"},{"$f":"'shaladarpan '!U623","v":"VPGKJSV"},{"$f":"'shaladarpan '!V623","v":9828121318},{"$f":"'shaladarpan '!W623","v":"alniyawas622"},{"$f":"'shaladarpan '!X623","v":36000},{"$f":"'shaladarpan '!Y623","v":"N"},{"$f":"'shaladarpan '!Z623","v":"N"},{"$f":"'shaladarpan '!AA623","v":"No"},{"$f":"'shaladarpan '!AB623","v":16},{"$f":"'shaladarpan '!AC623","v":"None"},{"$f":"'shaladarpan '!AD623","v":2}]
[{"$f":"IF(F625=\" \",\" \",ROWS($A$3:A625))","v":623},{"$f":"'shaladarpan '!A624","v":11},{"$f":"'shaladarpan '!B624","v":"A"},{"$f":"'shaladarpan '!C624","v":4445},{"$f":"'shaladarpan '!D624","v":"2018-07-02"},{"$f":"'shaladarpan '!E624","v":"manjeet623"},{"$f":"'shaladarpan '!F624","v":"00:00:00"},{"$f":"'shaladarpan '!G624","v":"vijay623"},{"$f":"'shaladarpan '!H624","v":"beautiful623"},{"$f":"'shaladarpan '!I624","v":"F"},{"$f":"'shaladarpan '!J624","v":"2004-05-15"},{"$f":"'shaladarpan '!K624","v":"yes"},{"$f":"'shaladarpan '!L624","v":623},{"$f":"'shaladarpan '!M624","v":0},{"$f":"'shaladarpan '!N624","v":0},{"$f":"'shaladarpan '!O624","v":"OBC"},{"$f":"'shaladarpan '!P624","v":"Muslim"},{"$f":"'shaladarpan '!Q624","v":0},{"$f":"'shaladarpan '!R624","v":"GOVT. SENIOR SECONDARY SCHOOL ALNIYAWAS (219445)"},{"$f":"'shaladarpan '!S624","v":8140200308},{"$f":"'shaladarpan '!T624","v":"XXXX7353"},{"$f":"'shaladarpan '!U624","v":"YMWESGS"},{"$f":"'shaladarpan '!V624","v":9828121319},{"$f":"'shaladarpan '!W624","v":"alniyawas623"},{"$f":"'shaladarpan '!X624","v":40000},{"$f":"'shaladarpan '!Y624","v":"N"},{"$f":"'shaladarpan '!Z624","v":"N"},{"$f":"'shaladarpan '!AA624","v":"Yes"},{"$f":"'shaladarpan '!AB624","v":16},{"$f":"'shaladarpan '!AC624","v":"None"},{"$f":"'shaladarpan '!AD624","v":2}]
[{"$f":"IF(F626=\" \",\" \",ROWS($A$3:A626))","v":624},{"$f":"'shaladarpan '!A625","v":11},{"$f":"'shaladarpan '!B625","v":"A"},{"$f":"'shaladarpan '!C625","v":3939},{"$f":"'shaladarpan '!D625","v":"2015-05-13"},{"$f":"'shaladarpan '!E625","v":"manjeet624"},{"$f":"'shaladarpan '!F625","v":"00:00:00"},{"$f":"'shaladarpan '!G625","v":"vijay624"},{"$f":"'shaladarpan '!H625","v":"beautiful624"},{"$f":"'shaladarpan '!I625","v":"M"},{"$f":"'shaladarpan '!J625","v":"2005-12-07"},{"$f":"'shaladarpan '!K625","v":"no"},{"$f":"'shaladarpan '!L625","v":624},{"$f":"'shaladarpan '!M625","v":0},{"$f":"'shaladarpan '!N625","v":0},{"$f":"'shaladarpan '!O625","v":"SC"},{"$f":"'shaladarpan '!P625","v":"Hindu"},{"$f":"'shaladarpan '!Q625","v":0},{"$f":"'shaladarpan '!R625","v":"GOVT. SENIOR SECONDARY SCHOOL ALNIYAWAS (219445)"},{"$f":"'shaladarpan '!S625","v":8140200308},{"$f":"'shaladarpan '!T625","v":"XXXX0382"},{"$f":"'shaladarpan '!U625","v":"YQCGGDC"},{"$f":"'shaladarpan '!V625","v":9828121320},{"$f":"'shaladarpan '!W625","v":"alniyawas624"},{"$f":"'shaladarpan '!X625","v":46000},{"$f":"'shaladarpan '!Y625","v":"N"},{"$f":"'shaladarpan '!Z625","v":"N"},{"$f":"'shaladarpan '!AA625","v":"No"},{"$f":"'shaladarpan '!AB625","v":15},{"$f":"'shaladarpan '!AC625","v":"None"},{"$f":"'shaladarpan '!AD625","v":2}]
[{"$f":"IF(F627=\" \",\" \",ROWS($A$3:A627))","v":625},{"$f":"'shaladarpan '!A626","v":11},{"$f":"'shaladarpan '!B626","v":"A"},{"$f":"'shaladarpan '!C626","v":4457},{"$f":"'shaladarpan '!D626","v":"2018-07-03"},{"$f":"'shaladarpan '!E626","v":"manjeet625"},{"$f":"'shaladarpan '!F626","v":"00:00:00"},{"$f":"'shaladarpan '!G626","v":"vijay625"},{"$f":"'shaladarpan '!H626","v":"beautiful625"},{"$f":"'shaladarpan '!I626","v":"F"},{"$f":"'shaladarpan '!J626","v":"2005-08-15"},{"$f":"'shaladarpan '!K626","v":"yes"},{"$f":"'shaladarpan '!L626","v":625},{"$f":"'shaladarpan '!M626","v":0},{"$f":"'shaladarpan '!N626","v":0},{"$f":"'shaladarpan '!O626","v":"OBC"},{"$f":"'shaladarpan '!P626","v":"Hindu"},{"$f":"'shaladarpan '!Q626","v":0},{"$f":"'shaladarpan '!R626","v":"GOVT. SENIOR SECONDARY SCHOOL ALNIYAWAS (219445)"},{"$f":"'shaladarpan '!S626","v":8140200308},{"$f":"'shaladarpan '!T626","v":"XXXX4771"},{"$f":"'shaladarpan '!U626","v":"YMIAUIC"},{"$f":"'shaladarpan '!V626","v":9828121321},{"$f":"'shaladarpan '!W626","v":"alniyawas625"},{"$f":"'shaladarpan '!X626","v":36000},{"$f":"'shaladarpan '!Y626","v":"N"},{"$f":"'shaladarpan '!Z626","v":"N"},{"$f":"'shaladarpan '!AA626","v":"No"},{"$f":"'shaladarpan '!AB626","v":15},{"$f":"'shaladarpan '!AC626","v":"None"},{"$f":"'shaladarpan '!AD626","v":5}]
[{"$f":"IF(F628=\" \",\" \",ROWS($A$3:A628))","v":626},{"$f":"'shaladarpan '!A627","v":11},{"$f":"'shaladarpan '!B627","v":"A"},{"$f":"'shaladarpan '!C627","v":4021},{"$f":"'shaladarpan '!D627","v":"2015-07-09"},{"$f":"'shaladarpan '!E627","v":"manjeet626"},{"$f":"'shaladarpan '!F627","v":"00:00:00"},{"$f":"'shaladarpan '!G627","v":"vijay626"},{"$f":"'shaladarpan '!H627","v":"beautiful626"},{"$f":"'shaladarpan '!I627","v":"M"},{"$f":"'shaladarpan '!J627","v":"2003-07-11"},{"$f":"'shaladarpan '!K627","v":"yes"},{"$f":"'shaladarpan '!L627","v":626},{"$f":"'shaladarpan '!M627","v":0},{"$f":"'shaladarpan '!N627","v":0},{"$f":"'shaladarpan '!O627","v":"OBC"},{"$f":"'shaladarpan '!P627","v":"Hindu"},{"$f":"'shaladarpan '!Q627","v":0},{"$f":"'shaladarpan '!R627","v":"GOVT. SENIOR SECONDARY SCHOOL ALNIYAWAS (219445)"},{"$f":"'shaladarpan '!S627","v":8140200308},{"$f":"'shaladarpan '!T627","v":"XXXX5952"},{"$f":"'shaladarpan '!U627","v":0},{"$f":"'shaladarpan '!V627","v":9828121322},{"$f":"'shaladarpan '!W627","v":"alniyawas626"},{"$f":"'shaladarpan '!X627","v":0},{"$f":"'shaladarpan '!Y627","v":"N"},{"$f":"'shaladarpan '!Z627","v":"N"},{"$f":"'shaladarpan '!AA627","v":"No"},{"$f":"'shaladarpan '!AB627","v":17},{"$f":"'shaladarpan '!AC627","v":"None"},{"$f":"'shaladarpan '!AD627","v":2}]
[{"$f":"IF(F629=\" \",\" \",ROWS($A$3:A629))","v":627},{"$f":"'shaladarpan '!A628","v":11},{"$f":"'shaladarpan '!B628","v":"A"},{"$f":"'shaladarpan '!C628","v":3983},{"$f":"'shaladarpan '!D628","v":"2015-07-04"},{"$f":"'shaladarpan '!E628","v":"manjeet627"},{"$f":"'shaladarpan '!F628","v":"00:00:00"},{"$f":"'shaladarpan '!G628","v":"vijay627"},{"$f":"'shaladarpan '!H628","v":"beautiful627"},{"$f":"'shaladarpan '!I628","v":"M"},{"$f":"'shaladarpan '!J628","v":"2004-08-04"},{"$f":"'shaladarpan '!K628","v":"no"},{"$f":"'shaladarpan '!L628","v":627},{"$f":"'shaladarpan '!M628","v":0},{"$f":"'shaladarpan '!N628","v":0},{"$f":"'shaladarpan '!O628","v":"OBC"},{"$f":"'shaladarpan '!P628","v":"Muslim"},{"$f":"'shaladarpan '!Q628","v":0},{"$f":"'shaladarpan '!R628","v":"GOVT. SENIOR SECONDARY SCHOOL ALNIYAWAS (219445)"},{"$f":"'shaladarpan '!S628","v":8140200308},{"$f":"'shaladarpan '!T628","v":"XXXX7219"},{"$f":"'shaladarpan '!U628","v":0},{"$f":"'shaladarpan '!V628","v":9828121323},{"$f":"'shaladarpan '!W628","v":"alniyawas627"},{"$f":"'shaladarpan '!X628","v":0},{"$f":"'shaladarpan '!Y628","v":"N"},{"$f":"'shaladarpan '!Z628","v":"N"},{"$f":"'shaladarpan '!AA628","v":"Yes"},{"$f":"'shaladarpan '!AB628","v":16},{"$f":"'shaladarpan '!AC628","v":"None"},{"$f":"'shaladarpan '!AD628","v":2}]
[{"$f":"IF(F630=\" \",\" \",ROWS($A$3:A630))","v":628},{"$f":"'shaladarpan '!A629","v":11},{"$f":"'shaladarpan '!B629","v":"B"},{"$f":"'shaladarpan '!C629","v":4316},{"$f":"'shaladarpan '!D629","v":"2017-07-04"},{"$f":"'shaladarpan '!E629","v":"manjeet628"},{"$f":"'shaladarpan '!F629","v":"00:00:00"},{"$f":"'shaladarpan '!G629","v":"vijay628"},{"$f":"'shaladarpan '!H629","v":"beautiful628"},{"$f":"'shaladarpan '!I629","v":"M"},{"$f":"'shaladarpan '!J629","v":"2005-08-03"},{"$f":"'shaladarpan '!K629","v":"yes"},{"$f":"'shaladarpan '!L629","v":628},{"$f":"'shaladarpan '!M629","v":0},{"$f":"'shaladarpan '!N629","v":0},{"$f":"'shaladarpan '!O629","v":"OBC"},{"$f":"'shaladarpan '!P629","v":"Muslim"},{"$f":"'shaladarpan '!Q629","v":0},{"$f":"'shaladarpan '!R629","v":"GOVT. SENIOR SECONDARY SCHOOL ALNIYAWAS (219445)"},{"$f":"'shaladarpan '!S629","v":8140200308},{"$f":"'shaladarpan '!T629","v":"XXXX4746"},{"$f":"'shaladarpan '!U629","v":0},{"$f":"'shaladarpan '!V629","v":9828121324},{"$f":"'shaladarpan '!W629","v":"alniyawas628"},{"$f":"'shaladarpan '!X629","v":0},{"$f":"'shaladarpan '!Y629","v":"N"},{"$f":"'shaladarpan '!Z629","v":"N"},{"$f":"'shaladarpan '!AA629","v":"Yes"},{"$f":"'shaladarpan '!AB629","v":15},{"$f":"'shaladarpan '!AC629","v":"None"},{"$f":"'shaladarpan '!AD629","v":1}]
[{"$f":"IF(F631=\" \",\" \",ROWS($A$3:A631))","v":629},{"$f":"'shaladarpan '!A630","v":11},{"$f":"'shaladarpan '!B630","v":"B"},{"$f":"'shaladarpan '!C630","v":4354},{"$f":"'shaladarpan '!D630","v":"2017-07-07"},{"$f":"'shaladarpan '!E630","v":"manjeet629"},{"$f":"'shaladarpan '!F630","v":"00:00:00"},{"$f":"'shaladarpan '!G630","v":"vijay629"},{"$f":"'shaladarpan '!H630","v":"beautiful629"},{"$f":"'shaladarpan '!I630","v":"F"},{"$f":"'shaladarpan '!J630","v":"2005-10-15"},{"$f":"'shaladarpan '!K630","v":"yes"},{"$f":"'shaladarpan '!L630","v":629},{"$f":"'shaladarpan '!M630","v":0},{"$f":"'shaladarpan '!N630","v":0},{"$f":"'shaladarpan '!O630","v":"SC"},{"$f":"'shaladarpan '!P630","v":"Hindu"},{"$f":"'shaladarpan '!Q630","v":0},{"$f":"'shaladarpan '!R630","v":"GOVT. SENIOR SECONDARY SCHOOL ALNIYAWAS (219445)"},{"$f":"'shaladarpan '!S630","v":8140200308},{"$f":"'shaladarpan '!T630","v":"XXXX8836"},{"$f":"'shaladarpan '!U630","v":"YOFDKUC"},{"$f":"'shaladarpan '!V630","v":9828121325},{"$f":"'shaladarpan '!W630","v":"alniyawas629"},{"$f":"'shaladarpan '!X630","v":48000},{"$f":"'shaladarpan '!Y630","v":"N"},{"$f":"'shaladarpan '!Z630","v":"N"},{"$f":"'shaladarpan '!AA630","v":"No"},{"$f":"'shaladarpan '!AB630","v":15},{"$f":"'shaladarpan '!AC630","v":"None"},{"$f":"'shaladarpan '!AD630","v":3}]
[{"$f":"IF(F632=\" \",\" \",ROWS($A$3:A632))","v":630},{"$f":"'shaladarpan '!A631","v":11},{"$f":"'shaladarpan '!B631","v":"B"},{"$f":"'shaladarpan '!C631","v":3767},{"$f":"'shaladarpan '!D631","v":"2015-05-11"},{"$f":"'shaladarpan '!E631","v":"manjeet630"},{"$f":"'shaladarpan '!F631","v":"00:00:00"},{"$f":"'shaladarpan '!G631","v":"vijay630"},{"$f":"'shaladarpan '!H631","v":"beautiful630"},{"$f":"'shaladarpan '!I631","v":"M"},{"$f":"'shaladarpan '!J631","v":"2004-03-06"},{"$f":"'shaladarpan '!K631","v":"no"},{"$f":"'shaladarpan '!L631","v":630},{"$f":"'shaladarpan '!M631","v":0},{"$f":"'shaladarpan '!N631","v":0},{"$f":"'shaladarpan '!O631","v":"SC"},{"$f":"'shaladarpan '!P631","v":"Hindu"},{"$f":"'shaladarpan '!Q631","v":0},{"$f":"'shaladarpan '!R631","v":"GOVT. SENIOR SECONDARY SCHOOL ALNIYAWAS (219445)"},{"$f":"'shaladarpan '!S631","v":8140200308},{"$f":"'shaladarpan '!T631","v":"XXXX4272"},{"$f":"'shaladarpan '!U631","v":"YOWFEUS"},{"$f":"'shaladarpan '!V631","v":9828121326},{"$f":"'shaladarpan '!W631","v":"alniyawas630"},{"$f":"'shaladarpan '!X631","v":36000},{"$f":"'shaladarpan '!Y631","v":"N"},{"$f":"'shaladarpan '!Z631","v":"N"},{"$f":"'shaladarpan '!AA631","v":"No"},{"$f":"'shaladarpan '!AB631","v":16},{"$f":"'shaladarpan '!AC631","v":"None"},{"$f":"'shaladarpan '!AD631","v":1}]
[{"$f":"IF(F633=\" \",\" \",ROWS($A$3:A633))","v":631},{"$f":"'shaladarpan '!A632","v":11},{"$f":"'shaladarpan '!B632","v":"B"},{"$f":"'shaladarpan '!C632","v":4468},{"$f":"'shaladarpan '!D632","v":"2018-07-04"},{"$f":"'shaladarpan '!E632","v":"manjeet631"},{"$f":"'shaladarpan '!F632","v":"00:00:00"},{"$f":"'shaladarpan '!G632","v":"vijay631"},{"$f":"'shaladarpan '!H632","v":"beautiful631"},{"$f":"'shaladarpan '!I632","v":"F"},{"$f":"'shaladarpan '!J632","v":"2004-12-17"},{"$f":"'shaladarpan '!K632","v":"yes"},{"$f":"'shaladarpan '!L632","v":631},{"$f":"'shaladarpan '!M632","v":0},{"$f":"'shaladarpan '!N632","v":0},{"$f":"'shaladarpan '!O632","v":"SC"},{"$f":"'shaladarpan '!P632","v":"Hindu"},{"$f":"'shaladarpan '!Q632","v":0},{"$f":"'shaladarpan '!R632","v":"GOVT. SENIOR SECONDARY SCHOOL ALNIYAWAS (219445)"},{"$f":"'shaladarpan '!S632","v":8140200308},{"$f":"'shaladarpan '!T632","v":"XXXX2302"},{"$f":"'shaladarpan '!U632","v":0},{"$f":"'shaladarpan '!V632","v":9828121327},{"$f":"'shaladarpan '!W632","v":"alniyawas631"},{"$f":"'shaladarpan '!X632","v":40000},{"$f":"'shaladarpan '!Y632","v":"N"},{"$f":"'shaladarpan '!Z632","v":"N"},{"$f":"'shaladarpan '!AA632","v":"No"},{"$f":"'shaladarpan '!AB632","v":16},{"$f":"'shaladarpan '!AC632","v":"None"},{"$f":"'shaladarpan '!AD632","v":1}]
[{"$f":"IF(F634=\" \",\" \",ROWS($A$3:A634))","v":632},{"$f":"'shaladarpan '!A633","v":11},{"$f":"'shaladarpan '!B633","v":"B"},{"$f":"'shaladarpan '!C633","v":4797},{"$f":"'shaladarpan '!D633","v":"2017-07-04"},{"$f":"'shaladarpan '!E633","v":"manjeet632"},{"$f":"'shaladarpan '!F633","v":"00:00:00"},{"$f":"'shaladarpan '!G633","v":"vijay632"},{"$f":"'shaladarpan '!H633","v":"beautiful632"},{"$f":"'shaladarpan '!I633","v":"M"},{"$f":"'shaladarpan '!J633","v":"2004-06-12"},{"$f":"'shaladarpan '!K633","v":"yes"},{"$f":"'shaladarpan '!L633","v":632},{"$f":"'shaladarpan '!M633","v":0},{"$f":"'shaladarpan '!N633","v":0},{"$f":"'shaladarpan '!O633","v":"GEN"},{"$f":"'shaladarpan '!P633","v":"Hindu"},{"$f":"'shaladarpan '!Q633","v":0},{"$f":"'shaladarpan '!R633","v":"GOVT. SENIOR SECONDARY SCHOOL ALNIYAWAS (219445)"},{"$f":"'shaladarpan '!S633","v":8140200308},{"$f":"'shaladarpan '!T633","v":"XXXX5517"},{"$f":"'shaladarpan '!U633","v":"YISYFAS"},{"$f":"'shaladarpan '!V633","v":9828121328},{"$f":"'shaladarpan '!W633","v":"alniyawas632"},{"$f":"'shaladarpan '!X633","v":35000},{"$f":"'shaladarpan '!Y633","v":"N"},{"$f":"'shaladarpan '!Z633","v":"N"},{"$f":"'shaladarpan '!AA633","v":"No"},{"$f":"'shaladarpan '!AB633","v":16},{"$f":"'shaladarpan '!AC633","v":"None"},{"$f":"'shaladarpan '!AD633","v":0}]
[{"$f":"IF(F635=\" \",\" \",ROWS($A$3:A635))","v":633},{"$f":"'shaladarpan '!A634","v":11},{"$f":"'shaladarpan '!B634","v":"B"},{"$f":"'shaladarpan '!C634","v":4887},{"$f":"'shaladarpan '!D634","v":"00:00:00"},{"$f":"'shaladarpan '!E634","v":"manjeet633"},{"$f":"'shaladarpan '!F634","v":"00:00:00"},{"$f":"'shaladarpan '!G634","v":"vijay633"},{"$f":"'shaladarpan '!H634","v":"beautiful633"},{"$f":"'shaladarpan '!I634","v":"M"},{"$f":"'shaladarpan '!J634","v":"2004-09-05"},{"$f":"'shaladarpan '!K634","v":"no"},{"$f":"'shaladarpan '!L634","v":633},{"$f":"'shaladarpan '!M634","v":0},{"$f":"'shaladarpan '!N634","v":0},{"$f":"'shaladarpan '!O634","v":"OBC"},{"$f":"'shaladarpan '!P634","v":0},{"$f":"'shaladarpan '!Q634","v":0},{"$f":"'shaladarpan '!R634","v":"GOVT. SENIOR SECONDARY SCHOOL ALNIYAWAS (219445)"},{"$f":"'shaladarpan '!S634","v":8140200308},{"$f":"'shaladarpan '!T634","v":0},{"$f":"'shaladarpan '!U634","v":0},{"$f":"'shaladarpan '!V634","v":9828121329},{"$f":"'shaladarpan '!W634","v":"alniyawas633"},{"$f":"'shaladarpan '!X634","v":0},{"$f":"'shaladarpan '!Y634","v":"N"},{"$f":"'shaladarpan '!Z634","v":"Y"},{"$f":"'shaladarpan '!AA634","v":0},{"$f":"'shaladarpan '!AB634","v":16},{"$f":"'shaladarpan '!AC634","v":0},{"$f":"'shaladarpan '!AD634","v":6}]
[{"$f":"IF(F636=\" \",\" \",ROWS($A$3:A636))","v":634},{"$f":"'shaladarpan '!A635","v":11},{"$f":"'shaladarpan '!B635","v":"B"},{"$f":"'shaladarpan '!C635","v":4843},{"$f":"'shaladarpan '!D635","v":"2020-08-24"},{"$f":"'shaladarpan '!E635","v":"manjeet634"},{"$f":"'shaladarpan '!F635","v":"00:00:00"},{"$f":"'shaladarpan '!G635","v":"vijay634"},{"$f":"'shaladarpan '!H635","v":"beautiful634"},{"$f":"'shaladarpan '!I635","v":"M"},{"$f":"'shaladarpan '!J635","v":"2004-07-19"},{"$f":"'shaladarpan '!K635","v":"yes"},{"$f":"'shaladarpan '!L635","v":634},{"$f":"'shaladarpan '!M635","v":0},{"$f":"'shaladarpan '!N635","v":0},{"$f":"'shaladarpan '!O635","v":"SC"},{"$f":"'shaladarpan '!P635","v":"Hindu"},{"$f":"'shaladarpan '!Q635","v":0},{"$f":"'shaladarpan '!R635","v":"GOVT. SENIOR SECONDARY SCHOOL ALNIYAWAS (219445)"},{"$f":"'shaladarpan '!S635","v":8140200308},{"$f":"'shaladarpan '!T635","v":"XXXX0516"},{"$f":"'shaladarpan '!U635","v":"WDYCSOC"},{"$f":"'shaladarpan '!V635","v":9828121330},{"$f":"'shaladarpan '!W635","v":"alniyawas634"},{"$f":"'shaladarpan '!X635","v":10000},{"$f":"'shaladarpan '!Y635","v":"N"},{"$f":"'shaladarpan '!Z635","v":"N"},{"$f":"'shaladarpan '!AA635","v":"No"},{"$f":"'shaladarpan '!AB635","v":16},{"$f":"'shaladarpan '!AC635","v":"None"},{"$f":"'shaladarpan '!AD635","v":3}]
[{"$f":"IF(F637=\" \",\" \",ROWS($A$3:A637))","v":635},{"$f":"'shaladarpan '!A636","v":11},{"$f":"'shaladarpan '!B636","v":"B"},{"$f":"'shaladarpan '!C636","v":4826},{"$f":"'shaladarpan '!D636","v":"00:00:00"},{"$f":"'shaladarpan '!E636","v":"manjeet635"},{"$f":"'shaladarpan '!F636","v":"00:00:00"},{"$f":"'shaladarpan '!G636","v":"vijay635"},{"$f":"'shaladarpan '!H636","v":"beautiful635"},{"$f":"'shaladarpan '!I636","v":"M"},{"$f":"'shaladarpan '!J636","v":"2004-07-05"},{"$f":"'shaladarpan '!K636","v":"yes"},{"$f":"'shaladarpan '!L636","v":635},{"$f":"'shaladarpan '!M636","v":0},{"$f":"'shaladarpan '!N636","v":0},{"$f":"'shaladarpan '!O636","v":"OBC"},{"$f":"'shaladarpan '!P636","v":0},{"$f":"'shaladarpan '!Q636","v":0},{"$f":"'shaladarpan '!R636","v":"GOVT. SENIOR SECONDARY SCHOOL ALNIYAWAS (219445)"},{"$f":"'shaladarpan '!S636","v":8140200308},{"$f":"'shaladarpan '!T636","v":0},{"$f":"'shaladarpan '!U636","v":0},{"$f":"'shaladarpan '!V636","v":9828121331},{"$f":"'shaladarpan '!W636","v":"alniyawas635"},{"$f":"'shaladarpan '!X636","v":0},{"$f":"'shaladarpan '!Y636","v":"N"},{"$f":"'shaladarpan '!Z636","v":"Y"},{"$f":"'shaladarpan '!AA636","v":0},{"$f":"'shaladarpan '!AB636","v":16},{"$f":"'shaladarpan '!AC636","v":0},{"$f":"'shaladarpan '!AD636","v":1}]
[{"$f":"IF(F638=\" \",\" \",ROWS($A$3:A638))","v":636},{"$f":"'shaladarpan '!A637","v":11},{"$f":"'shaladarpan '!B637","v":"B"},{"$f":"'shaladarpan '!C637","v":4540},{"$f":"'shaladarpan '!D637","v":"2018-07-10"},{"$f":"'shaladarpan '!E637","v":"manjeet636"},{"$f":"'shaladarpan '!F637","v":"00:00:00"},{"$f":"'shaladarpan '!G637","v":"vijay636"},{"$f":"'shaladarpan '!H637","v":"beautiful636"},{"$f":"'shaladarpan '!I637","v":"M"},{"$f":"'shaladarpan '!J637","v":"2003-10-25"},{"$f":"'shaladarpan '!K637","v":"no"},{"$f":"'shaladarpan '!L637","v":636},{"$f":"'shaladarpan '!M637","v":0},{"$f":"'shaladarpan '!N637","v":0},{"$f":"'shaladarpan '!O637","v":"OBC"},{"$f":"'shaladarpan '!P637","v":"Hindu"},{"$f":"'shaladarpan '!Q637","v":0},{"$f":"'shaladarpan '!R637","v":"GOVT. SENIOR SECONDARY SCHOOL ALNIYAWAS (219445)"},{"$f":"'shaladarpan '!S637","v":8140200308},{"$f":"'shaladarpan '!T637","v":"XXXX4941"},{"$f":"'shaladarpan '!U637","v":0},{"$f":"'shaladarpan '!V637","v":9828121332},{"$f":"'shaladarpan '!W637","v":"alniyawas636"},{"$f":"'shaladarpan '!X637","v":40000},{"$f":"'shaladarpan '!Y637","v":"N"},{"$f":"'shaladarpan '!Z637","v":"N"},{"$f":"'shaladarpan '!AA637","v":"No"},{"$f":"'shaladarpan '!AB637","v":17},{"$f":"'shaladarpan '!AC637","v":"None"},{"$f":"'shaladarpan '!AD637","v":5}]
[{"$f":"IF(F639=\" \",\" \",ROWS($A$3:A639))","v":637},{"$f":"'shaladarpan '!A638","v":11},{"$f":"'shaladarpan '!B638","v":"B"},{"$f":"'shaladarpan '!C638","v":4866},{"$f":"'shaladarpan '!D638","v":"00:00:00"},{"$f":"'shaladarpan '!E638","v":"manjeet637"},{"$f":"'shaladarpan '!F638","v":"00:00:00"},{"$f":"'shaladarpan '!G638","v":"vijay637"},{"$f":"'shaladarpan '!H638","v":"beautiful637"},{"$f":"'shaladarpan '!I638","v":"M"},{"$f":"'shaladarpan '!J638","v":"2004-02-09"},{"$f":"'shaladarpan '!K638","v":"yes"},{"$f":"'shaladarpan '!L638","v":637},{"$f":"'shaladarpan '!M638","v":0},{"$f":"'shaladarpan '!N638","v":0},{"$f":"'shaladarpan '!O638","v":"SC"},{"$f":"'shaladarpan '!P638","v":0},{"$f":"'shaladarpan '!Q638","v":0},{"$f":"'shaladarpan '!R638","v":"GOVT. SENIOR SECONDARY SCHOOL ALNIYAWAS (219445)"},{"$f":"'shaladarpan '!S638","v":8140200308},{"$f":"'shaladarpan '!T638","v":0},{"$f":"'shaladarpan '!U638","v":0},{"$f":"'shaladarpan '!V638","v":9828121333},{"$f":"'shaladarpan '!W638","v":"alniyawas637"},{"$f":"'shaladarpan '!X638","v":0},{"$f":"'shaladarpan '!Y638","v":"N"},{"$f":"'shaladarpan '!Z638","v":"Y"},{"$f":"'shaladarpan '!AA638","v":0},{"$f":"'shaladarpan '!AB638","v":16},{"$f":"'shaladarpan '!AC638","v":0},{"$f":"'shaladarpan '!AD638","v":0}]
[{"$f":"IF(F640=\" \",\" \",ROWS($A$3:A640))","v":638},{"$f":"'shaladarpan '!A639","v":11},{"$f":"'shaladarpan '!B639","v":"B"},{"$f":"'shaladarpan '!C639","v":4456},{"$f":"'shaladarpan '!D639","v":"2018-07-03"},{"$f":"'shaladarpan '!E639","v":"manjeet638"},{"$f":"'shaladarpan '!F639","v":"00:00:00"},{"$f":"'shaladarpan '!G639","v":"vijay638"},{"$f":"'shaladarpan '!H639","v":"beautiful638"},{"$f":"'shaladarpan '!I639","v":"M"},{"$f":"'shaladarpan '!J639","v":"2003-02-23"},{"$f":"'shaladarpan '!K639","v":"yes"},{"$f":"'shaladarpan '!L639","v":638},{"$f":"'shaladarpan '!M639","v":0},{"$f":"'shaladarpan '!N639","v":0},{"$f":"'shaladarpan '!O639","v":"OBC"},{"$f":"'shaladarpan '!P639","v":"Hindu"},{"$f":"'shaladarpan '!Q639","v":0},{"$f":"'shaladarpan '!R639","v":"GOVT. SENIOR SECONDARY SCHOOL ALNIYAWAS (219445)"},{"$f":"'shaladarpan '!S639","v":8140200308},{"$f":"'shaladarpan '!T639","v":"XXXX8153"},{"$f":"'shaladarpan '!U639","v":"vvvpjnr"},{"$f":"'shaladarpan '!V639","v":9828121334},{"$f":"'shaladarpan '!W639","v":"alniyawas638"},{"$f":"'shaladarpan '!X639","v":40000},{"$f":"'shaladarpan '!Y639","v":"N"},{"$f":"'shaladarpan '!Z639","v":"N"},{"$f":"'shaladarpan '!AA639","v":"No"},{"$f":"'shaladarpan '!AB639","v":17},{"$f":"'shaladarpan '!AC639","v":"None"},{"$f":"'shaladarpan '!AD639","v":6}]
[{"$f":"IF(F641=\" \",\" \",ROWS($A$3:A641))","v":639},{"$f":"'shaladarpan '!A640","v":11},{"$f":"'shaladarpan '!B640","v":"B"},{"$f":"'shaladarpan '!C640","v":4529},{"$f":"'shaladarpan '!D640","v":"2018-07-07"},{"$f":"'shaladarpan '!E640","v":"manjeet639"},{"$f":"'shaladarpan '!F640","v":"00:00:00"},{"$f":"'shaladarpan '!G640","v":"vijay639"},{"$f":"'shaladarpan '!H640","v":"beautiful639"},{"$f":"'shaladarpan '!I640","v":"M"},{"$f":"'shaladarpan '!J640","v":"2006-07-13"},{"$f":"'shaladarpan '!K640","v":"no"},{"$f":"'shaladarpan '!L640","v":639},{"$f":"'shaladarpan '!M640","v":0},{"$f":"'shaladarpan '!N640","v":0},{"$f":"'shaladarpan '!O640","v":"OBC"},{"$f":"'shaladarpan '!P640","v":"Hindu"},{"$f":"'shaladarpan '!Q640","v":0},{"$f":"'shaladarpan '!R640","v":"GOVT. SENIOR SECONDARY SCHOOL ALNIYAWAS (219445)"},{"$f":"'shaladarpan '!S640","v":8140200308},{"$f":"'shaladarpan '!T640","v":"XXXX0324"},{"$f":"'shaladarpan '!U640","v":"VONTBPX"},{"$f":"'shaladarpan '!V640","v":9828121335},{"$f":"'shaladarpan '!W640","v":"alniyawas639"},{"$f":"'shaladarpan '!X640","v":36000},{"$f":"'shaladarpan '!Y640","v":"N"},{"$f":"'shaladarpan '!Z640","v":"Y"},{"$f":"'shaladarpan '!AA640","v":"No"},{"$f":"'shaladarpan '!AB640","v":14},{"$f":"'shaladarpan '!AC640","v":"None"},{"$f":"'shaladarpan '!AD640","v":1}]
[{"$f":"IF(F642=\" \",\" \",ROWS($A$3:A642))","v":640},{"$f":"'shaladarpan '!A641","v":11},{"$f":"'shaladarpan '!B641","v":"B"},{"$f":"'shaladarpan '!C641","v":4441},{"$f":"'shaladarpan '!D641","v":"2018-06-29"},{"$f":"'shaladarpan '!E641","v":"manjeet640"},{"$f":"'shaladarpan '!F641","v":"00:00:00"},{"$f":"'shaladarpan '!G641","v":"vijay640"},{"$f":"'shaladarpan '!H641","v":"beautiful640"},{"$f":"'shaladarpan '!I641","v":"M"},{"$f":"'shaladarpan '!J641","v":"2005-07-02"},{"$f":"'shaladarpan '!K641","v":"yes"},{"$f":"'shaladarpan '!L641","v":640},{"$f":"'shaladarpan '!M641","v":0},{"$f":"'shaladarpan '!N641","v":0},{"$f":"'shaladarpan '!O641","v":"OBC"},{"$f":"'shaladarpan '!P641","v":"Hindu"},{"$f":"'shaladarpan '!Q641","v":0},{"$f":"'shaladarpan '!R641","v":"GOVT. SENIOR SECONDARY SCHOOL ALNIYAWAS (219445)"},{"$f":"'shaladarpan '!S641","v":8140200308},{"$f":"'shaladarpan '!T641","v":"XXXX0103"},{"$f":"'shaladarpan '!U641","v":0},{"$f":"'shaladarpan '!V641","v":9828121336},{"$f":"'shaladarpan '!W641","v":"alniyawas640"},{"$f":"'shaladarpan '!X641","v":36000},{"$f":"'shaladarpan '!Y641","v":"N"},{"$f":"'shaladarpan '!Z641","v":"N"},{"$f":"'shaladarpan '!AA641","v":"No"},{"$f":"'shaladarpan '!AB641","v":15},{"$f":"'shaladarpan '!AC641","v":"None"},{"$f":"'shaladarpan '!AD641","v":2}]
[{"$f":"IF(F643=\" \",\" \",ROWS($A$3:A643))","v":641},{"$f":"'shaladarpan '!A642","v":11},{"$f":"'shaladarpan '!B642","v":"B"},{"$f":"'shaladarpan '!C642","v":4799},{"$f":"'shaladarpan '!D642","v":"00:00:00"},{"$f":"'shaladarpan '!E642","v":"manjeet641"},{"$f":"'shaladarpan '!F642","v":"00:00:00"},{"$f":"'shaladarpan '!G642","v":"vijay641"},{"$f":"'shaladarpan '!H642","v":"beautiful641"},{"$f":"'shaladarpan '!I642","v":"F"},{"$f":"'shaladarpan '!J642","v":"2005-06-07"},{"$f":"'shaladarpan '!K642","v":"yes"},{"$f":"'shaladarpan '!L642","v":641},{"$f":"'shaladarpan '!M642","v":0},{"$f":"'shaladarpan '!N642","v":0},{"$f":"'shaladarpan '!O642","v":"OBC"},{"$f":"'shaladarpan '!P642","v":0},{"$f":"'shaladarpan '!Q642","v":0},{"$f":"'shaladarpan '!R642","v":"GOVT. SENIOR SECONDARY SCHOOL ALNIYAWAS (219445)"},{"$f":"'shaladarpan '!S642","v":8140200308},{"$f":"'shaladarpan '!T642","v":0},{"$f":"'shaladarpan '!U642","v":0},{"$f":"'shaladarpan '!V642","v":9828121337},{"$f":"'shaladarpan '!W642","v":"alniyawas641"},{"$f":"'shaladarpan '!X642","v":0},{"$f":"'shaladarpan '!Y642","v":"N"},{"$f":"'shaladarpan '!Z642","v":"Y"},{"$f":"'shaladarpan '!AA642","v":0},{"$f":"'shaladarpan '!AB642","v":15},{"$f":"'shaladarpan '!AC642","v":0},{"$f":"'shaladarpan '!AD642","v":1}]
[{"$f":"IF(F644=\" \",\" \",ROWS($A$3:A644))","v":642},{"$f":"'shaladarpan '!A643","v":11},{"$f":"'shaladarpan '!B643","v":"B"},{"$f":"'shaladarpan '!C643","v":4465},{"$f":"'shaladarpan '!D643","v":"2018-07-04"},{"$f":"'shaladarpan '!E643","v":"manjeet642"},{"$f":"'shaladarpan '!F643","v":"00:00:00"},{"$f":"'shaladarpan '!G643","v":"vijay642"},{"$f":"'shaladarpan '!H643","v":"beautiful642"},{"$f":"'shaladarpan '!I643","v":"M"},{"$f":"'shaladarpan '!J643","v":"2007-01-25"},{"$f":"'shaladarpan '!K643","v":"no"},{"$f":"'shaladarpan '!L643","v":642},{"$f":"'shaladarpan '!M643","v":0},{"$f":"'shaladarpan '!N643","v":0},{"$f":"'shaladarpan '!O643","v":"SC"},{"$f":"'shaladarpan '!P643","v":"Hindu"},{"$f":"'shaladarpan '!Q643","v":0},{"$f":"'shaladarpan '!R643","v":"GOVT. SENIOR SECONDARY SCHOOL ALNIYAWAS (219445)"},{"$f":"'shaladarpan '!S643","v":8140200308},{"$f":"'shaladarpan '!T643","v":"XXXX1969"},{"$f":"'shaladarpan '!U643","v":"YQCIQEK"},{"$f":"'shaladarpan '!V643","v":9828121338},{"$f":"'shaladarpan '!W643","v":"alniyawas642"},{"$f":"'shaladarpan '!X643","v":60000},{"$f":"'shaladarpan '!Y643","v":"N"},{"$f":"'shaladarpan '!Z643","v":"N"},{"$f":"'shaladarpan '!AA643","v":"No"},{"$f":"'shaladarpan '!AB643","v":13},{"$f":"'shaladarpan '!AC643","v":"None"},{"$f":"'shaladarpan '!AD643","v":2}]
[{"$f":"IF(F645=\" \",\" \",ROWS($A$3:A645))","v":643},{"$f":"'shaladarpan '!A644","v":11},{"$f":"'shaladarpan '!B644","v":"B"},{"$f":"'shaladarpan '!C644","v":4357},{"$f":"'shaladarpan '!D644","v":"2017-07-08"},{"$f":"'shaladarpan '!E644","v":"manjeet643"},{"$f":"'shaladarpan '!F644","v":"00:00:00"},{"$f":"'shaladarpan '!G644","v":"vijay643"},{"$f":"'shaladarpan '!H644","v":"beautiful643"},{"$f":"'shaladarpan '!I644","v":"M"},{"$f":"'shaladarpan '!J644","v":"2004-06-08"},{"$f":"'shaladarpan '!K644","v":"yes"},{"$f":"'shaladarpan '!L644","v":643},{"$f":"'shaladarpan '!M644","v":0},{"$f":"'shaladarpan '!N644","v":0},{"$f":"'shaladarpan '!O644","v":"OBC"},{"$f":"'shaladarpan '!P644","v":"Hindu"},{"$f":"'shaladarpan '!Q644","v":0},{"$f":"'shaladarpan '!R644","v":"GOVT. SENIOR SECONDARY SCHOOL ALNIYAWAS (219445)"},{"$f":"'shaladarpan '!S644","v":8140200308},{"$f":"'shaladarpan '!T644","v":"XXXX6662"},{"$f":"'shaladarpan '!U644","v":0},{"$f":"'shaladarpan '!V644","v":9828121339},{"$f":"'shaladarpan '!W644","v":"alniyawas643"},{"$f":"'shaladarpan '!X644","v":0},{"$f":"'shaladarpan '!Y644","v":"N"},{"$f":"'shaladarpan '!Z644","v":"N"},{"$f":"'shaladarpan '!AA644","v":"No"},{"$f":"'shaladarpan '!AB644","v":16},{"$f":"'shaladarpan '!AC644","v":"None"},{"$f":"'shaladarpan '!AD644","v":1}]
[{"$f":"IF(F646=\" \",\" \",ROWS($A$3:A646))","v":644},{"$f":"'shaladarpan '!A645","v":11},{"$f":"'shaladarpan '!B645","v":"B"},{"$f":"'shaladarpan '!C645","v":4358},{"$f":"'shaladarpan '!D645","v":"2017-07-08"},{"$f":"'shaladarpan '!E645","v":"manjeet644"},{"$f":"'shaladarpan '!F645","v":"00:00:00"},{"$f":"'shaladarpan '!G645","v":"vijay644"},{"$f":"'shaladarpan '!H645","v":"beautiful644"},{"$f":"'shaladarpan '!I645","v":"F"},{"$f":"'shaladarpan '!J645","v":"2005-05-09"},{"$f":"'shaladarpan '!K645","v":"yes"},{"$f":"'shaladarpan '!L645","v":644},{"$f":"'shaladarpan '!M645","v":0},{"$f":"'shaladarpan '!N645","v":0},{"$f":"'shaladarpan '!O645","v":"SC"},{"$f":"'shaladarpan '!P645","v":"Hindu"},{"$f":"'shaladarpan '!Q645","v":0},{"$f":"'shaladarpan '!R645","v":"GOVT. SENIOR SECONDARY SCHOOL ALNIYAWAS (219445)"},{"$f":"'shaladarpan '!S645","v":8140200308},{"$f":"'shaladarpan '!T645","v":"XXXX8361"},{"$f":"'shaladarpan '!U645","v":"YOEMUYB"},{"$f":"'shaladarpan '!V645","v":9828121340},{"$f":"'shaladarpan '!W645","v":"alniyawas644"},{"$f":"'shaladarpan '!X645","v":42000},{"$f":"'shaladarpan '!Y645","v":"N"},{"$f":"'shaladarpan '!Z645","v":"N"},{"$f":"'shaladarpan '!AA645","v":"No"},{"$f":"'shaladarpan '!AB645","v":15},{"$f":"'shaladarpan '!AC645","v":"None"},{"$f":"'shaladarpan '!AD645","v":1}]
[{"$f":"IF(F647=\" \",\" \",ROWS($A$3:A647))","v":645},{"$f":"'shaladarpan '!A646","v":11},{"$f":"'shaladarpan '!B646","v":"B"},{"$f":"'shaladarpan '!C646","v":4503},{"$f":"'shaladarpan '!D646","v":"2018-07-06"},{"$f":"'shaladarpan '!E646","v":"manjeet645"},{"$f":"'shaladarpan '!F646","v":"00:00:00"},{"$f":"'shaladarpan '!G646","v":"vijay645"},{"$f":"'shaladarpan '!H646","v":"beautiful645"},{"$f":"'shaladarpan '!I646","v":"M"},{"$f":"'shaladarpan '!J646","v":"2005-12-04"},{"$f":"'shaladarpan '!K646","v":"no"},{"$f":"'shaladarpan '!L646","v":645},{"$f":"'shaladarpan '!M646","v":0},{"$f":"'shaladarpan '!N646","v":0},{"$f":"'shaladarpan '!O646","v":"GEN"},{"$f":"'shaladarpan '!P646","v":"Hindu"},{"$f":"'shaladarpan '!Q646","v":0},{"$f":"'shaladarpan '!R646","v":"GOVT. SENIOR SECONDARY SCHOOL ALNIYAWAS (219445)"},{"$f":"'shaladarpan '!S646","v":8140200308},{"$f":"'shaladarpan '!T646","v":"XXXX5489"},{"$f":"'shaladarpan '!U646","v":0},{"$f":"'shaladarpan '!V646","v":9828121341},{"$f":"'shaladarpan '!W646","v":"alniyawas645"},{"$f":"'shaladarpan '!X646","v":36000},{"$f":"'shaladarpan '!Y646","v":"N"},{"$f":"'shaladarpan '!Z646","v":"N"},{"$f":"'shaladarpan '!AA646","v":"No"},{"$f":"'shaladarpan '!AB646","v":15},{"$f":"'shaladarpan '!AC646","v":"None"},{"$f":"'shaladarpan '!AD646","v":1}]
[{"$f":"IF(F648=\" \",\" \",ROWS($A$3:A648))","v":646},{"$f":"'shaladarpan '!A647","v":11},{"$f":"'shaladarpan '!B647","v":"B"},{"$f":"'shaladarpan '!C647","v":4852},{"$f":"'shaladarpan '!D647","v":"2018-07-09"},{"$f":"'shaladarpan '!E647","v":"manjeet646"},{"$f":"'shaladarpan '!F647","v":"00:00:00"},{"$f":"'shaladarpan '!G647","v":"vijay646"},{"$f":"'shaladarpan '!H647","v":"beautiful646"},{"$f":"'shaladarpan '!I647","v":"M"},{"$f":"'shaladarpan '!J647","v":"2005-04-19"},{"$f":"'shaladarpan '!K647","v":"yes"},{"$f":"'shaladarpan '!L647","v":646},{"$f":"'shaladarpan '!M647","v":0},{"$f":"'shaladarpan '!N647","v":0},{"$f":"'shaladarpan '!O647","v":"SBC"},{"$f":"'shaladarpan '!P647","v":"Hindu"},{"$f":"'shaladarpan '!Q647","v":0},{"$f":"'shaladarpan '!R647","v":"GOVT. SENIOR SECONDARY SCHOOL ALNIYAWAS (219445)"},{"$f":"'shaladarpan '!S647","v":8140200308},{"$f":"'shaladarpan '!T647","v":"XXXX2213"},{"$f":"'shaladarpan '!U647","v":"YQMSFCK"},{"$f":"'shaladarpan '!V647","v":9828121342},{"$f":"'shaladarpan '!W647","v":"alniyawas646"},{"$f":"'shaladarpan '!X647","v":30000},{"$f":"'shaladarpan '!Y647","v":"N"},{"$f":"'shaladarpan '!Z647","v":"N"},{"$f":"'shaladarpan '!AA647","v":"No"},{"$f":"'shaladarpan '!AB647","v":15},{"$f":"'shaladarpan '!AC647","v":"None"},{"$f":"'shaladarpan '!AD647","v":2}]
[{"$f":"IF(F649=\" \",\" \",ROWS($A$3:A649))","v":647},{"$f":"'shaladarpan '!A648","v":11},{"$f":"'shaladarpan '!B648","v":"B"},{"$f":"'shaladarpan '!C648","v":4533},{"$f":"'shaladarpan '!D648","v":"2018-07-07"},{"$f":"'shaladarpan '!E648","v":"manjeet647"},{"$f":"'shaladarpan '!F648","v":"00:00:00"},{"$f":"'shaladarpan '!G648","v":"vijay647"},{"$f":"'shaladarpan '!H648","v":"beautiful647"},{"$f":"'shaladarpan '!I648","v":"M"},{"$f":"'shaladarpan '!J648","v":"2005-03-03"},{"$f":"'shaladarpan '!K648","v":"yes"},{"$f":"'shaladarpan '!L648","v":647},{"$f":"'shaladarpan '!M648","v":0},{"$f":"'shaladarpan '!N648","v":0},{"$f":"'shaladarpan '!O648","v":"OBC"},{"$f":"'shaladarpan '!P648","v":"Hindu"},{"$f":"'shaladarpan '!Q648","v":0},{"$f":"'shaladarpan '!R648","v":"GOVT. SENIOR SECONDARY SCHOOL ALNIYAWAS (219445)"},{"$f":"'shaladarpan '!S648","v":8140200308},{"$f":"'shaladarpan '!T648","v":"XXXX3014"},{"$f":"'shaladarpan '!U648","v":0},{"$f":"'shaladarpan '!V648","v":9828121343},{"$f":"'shaladarpan '!W648","v":"alniyawas647"},{"$f":"'shaladarpan '!X648","v":40000},{"$f":"'shaladarpan '!Y648","v":"N"},{"$f":"'shaladarpan '!Z648","v":"N"},{"$f":"'shaladarpan '!AA648","v":"No"},{"$f":"'shaladarpan '!AB648","v":15},{"$f":"'shaladarpan '!AC648","v":"None"},{"$f":"'shaladarpan '!AD648","v":1}]
[{"$f":"IF(F650=\" \",\" \",ROWS($A$3:A650))","v":648},{"$f":"'shaladarpan '!A649","v":11},{"$f":"'shaladarpan '!B649","v":"B"},{"$f":"'shaladarpan '!C649","v":4796},{"$f":"'shaladarpan '!D649","v":"2018-07-07"},{"$f":"'shaladarpan '!E649","v":"manjeet648"},{"$f":"'shaladarpan '!F649","v":"00:00:00"},{"$f":"'shaladarpan '!G649","v":"vijay648"},{"$f":"'shaladarpan '!H649","v":"beautiful648"},{"$f":"'shaladarpan '!I649","v":"M"},{"$f":"'shaladarpan '!J649","v":"2005-05-05"},{"$f":"'shaladarpan '!K649","v":"no"},{"$f":"'shaladarpan '!L649","v":648},{"$f":"'shaladarpan '!M649","v":0},{"$f":"'shaladarpan '!N649","v":0},{"$f":"'shaladarpan '!O649","v":"OBC"},{"$f":"'shaladarpan '!P649","v":"Hindu"},{"$f":"'shaladarpan '!Q649","v":0},{"$f":"'shaladarpan '!R649","v":"GOVT. SENIOR SECONDARY SCHOOL ALNIYAWAS (219445)"},{"$f":"'shaladarpan '!S649","v":8140200308},{"$f":"'shaladarpan '!T649","v":"XXXX4749"},{"$f":"'shaladarpan '!U649","v":0},{"$f":"'shaladarpan '!V649","v":9828121344},{"$f":"'shaladarpan '!W649","v":"alniyawas648"},{"$f":"'shaladarpan '!X649","v":35000},{"$f":"'shaladarpan '!Y649","v":"N"},{"$f":"'shaladarpan '!Z649","v":"N"},{"$f":"'shaladarpan '!AA649","v":"No"},{"$f":"'shaladarpan '!AB649","v":15},{"$f":"'shaladarpan '!AC649","v":"None"},{"$f":"'shaladarpan '!AD649","v":3}]
[{"$f":"IF(F651=\" \",\" \",ROWS($A$3:A651))","v":649},{"$f":"'shaladarpan '!A650","v":11},{"$f":"'shaladarpan '!B650","v":"B"},{"$f":"'shaladarpan '!C650","v":4613},{"$f":"'shaladarpan '!D650","v":"2018-08-08"},{"$f":"'shaladarpan '!E650","v":"manjeet649"},{"$f":"'shaladarpan '!F650","v":"00:00:00"},{"$f":"'shaladarpan '!G650","v":"vijay649"},{"$f":"'shaladarpan '!H650","v":"beautiful649"},{"$f":"'shaladarpan '!I650","v":"M"},{"$f":"'shaladarpan '!J650","v":"2003-08-25"},{"$f":"'shaladarpan '!K650","v":"yes"},{"$f":"'shaladarpan '!L650","v":649},{"$f":"'shaladarpan '!M650","v":0},{"$f":"'shaladarpan '!N650","v":0},{"$f":"'shaladarpan '!O650","v":"OBC"},{"$f":"'shaladarpan '!P650","v":"Hindu"},{"$f":"'shaladarpan '!Q650","v":0},{"$f":"'shaladarpan '!R650","v":"GOVT. SENIOR SECONDARY SCHOOL ALNIYAWAS (219445)"},{"$f":"'shaladarpan '!S650","v":8140200308},{"$f":"'shaladarpan '!T650","v":"XXXX3772"},{"$f":"'shaladarpan '!U650","v":0},{"$f":"'shaladarpan '!V650","v":9828121345},{"$f":"'shaladarpan '!W650","v":"alniyawas649"},{"$f":"'shaladarpan '!X650","v":75000},{"$f":"'shaladarpan '!Y650","v":"N"},{"$f":"'shaladarpan '!Z650","v":"N"},{"$f":"'shaladarpan '!AA650","v":"No"},{"$f":"'shaladarpan '!AB650","v":17},{"$f":"'shaladarpan '!AC650","v":"None"},{"$f":"'shaladarpan '!AD650","v":16}]
[{"$f":"IF(F652=\" \",\" \",ROWS($A$3:A652))","v":650},{"$f":"'shaladarpan '!A651","v":11},{"$f":"'shaladarpan '!B651","v":"B"},{"$f":"'shaladarpan '!C651","v":3751},{"$f":"'shaladarpan '!D651","v":"2015-05-11"},{"$f":"'shaladarpan '!E651","v":"manjeet650"},{"$f":"'shaladarpan '!F651","v":"00:00:00"},{"$f":"'shaladarpan '!G651","v":"vijay650"},{"$f":"'shaladarpan '!H651","v":"beautiful650"},{"$f":"'shaladarpan '!I651","v":"F"},{"$f":"'shaladarpan '!J651","v":"2004-05-03"},{"$f":"'shaladarpan '!K651","v":"yes"},{"$f":"'shaladarpan '!L651","v":650},{"$f":"'shaladarpan '!M651","v":0},{"$f":"'shaladarpan '!N651","v":0},{"$f":"'shaladarpan '!O651","v":"OBC"},{"$f":"'shaladarpan '!P651","v":"Muslim"},{"$f":"'shaladarpan '!Q651","v":0},{"$f":"'shaladarpan '!R651","v":"GOVT. SENIOR SECONDARY SCHOOL ALNIYAWAS (219445)"},{"$f":"'shaladarpan '!S651","v":8140200308},{"$f":"'shaladarpan '!T651","v":"XXXX3519"},{"$f":"'shaladarpan '!U651","v":0},{"$f":"'shaladarpan '!V651","v":9828121346},{"$f":"'shaladarpan '!W651","v":"alniyawas650"},{"$f":"'shaladarpan '!X651","v":0},{"$f":"'shaladarpan '!Y651","v":"N"},{"$f":"'shaladarpan '!Z651","v":"N"},{"$f":"'shaladarpan '!AA651","v":"Yes"},{"$f":"'shaladarpan '!AB651","v":16},{"$f":"'shaladarpan '!AC651","v":"None"},{"$f":"'shaladarpan '!AD651","v":1}]
[{"$f":"IF(F653=\" \",\" \",ROWS($A$3:A653))","v":651},{"$f":"'shaladarpan '!A652","v":11},{"$f":"'shaladarpan '!B652","v":"B"},{"$f":"'shaladarpan '!C652","v":4829},{"$f":"'shaladarpan '!D652","v":"2017-07-10"},{"$f":"'shaladarpan '!E652","v":"manjeet651"},{"$f":"'shaladarpan '!F652","v":"00:00:00"},{"$f":"'shaladarpan '!G652","v":"vijay651"},{"$f":"'shaladarpan '!H652","v":"beautiful651"},{"$f":"'shaladarpan '!I652","v":"M"},{"$f":"'shaladarpan '!J652","v":"2005-07-02"},{"$f":"'shaladarpan '!K652","v":"no"},{"$f":"'shaladarpan '!L652","v":651},{"$f":"'shaladarpan '!M652","v":0},{"$f":"'shaladarpan '!N652","v":0},{"$f":"'shaladarpan '!O652","v":"SBC"},{"$f":"'shaladarpan '!P652","v":"Hindu"},{"$f":"'shaladarpan '!Q652","v":0},{"$f":"'shaladarpan '!R652","v":"GOVT. SENIOR SECONDARY SCHOOL ALNIYAWAS (219445)"},{"$f":"'shaladarpan '!S652","v":8140200308},{"$f":"'shaladarpan '!T652","v":"XXXX2688"},{"$f":"'shaladarpan '!U652","v":0},{"$f":"'shaladarpan '!V652","v":9828121347},{"$f":"'shaladarpan '!W652","v":"alniyawas651"},{"$f":"'shaladarpan '!X652","v":30000},{"$f":"'shaladarpan '!Y652","v":"N"},{"$f":"'shaladarpan '!Z652","v":"N"},{"$f":"'shaladarpan '!AA652","v":"No"},{"$f":"'shaladarpan '!AB652","v":15},{"$f":"'shaladarpan '!AC652","v":"None"},{"$f":"'shaladarpan '!AD652","v":0}]
[{"$f":"IF(F654=\" \",\" \",ROWS($A$3:A654))","v":652},{"$f":"'shaladarpan '!A653","v":11},{"$f":"'shaladarpan '!B653","v":"B"},{"$f":"'shaladarpan '!C653","v":4447},{"$f":"'shaladarpan '!D653","v":"2018-07-02"},{"$f":"'shaladarpan '!E653","v":"manjeet652"},{"$f":"'shaladarpan '!F653","v":"00:00:00"},{"$f":"'shaladarpan '!G653","v":"vijay652"},{"$f":"'shaladarpan '!H653","v":"beautiful652"},{"$f":"'shaladarpan '!I653","v":"F"},{"$f":"'shaladarpan '!J653","v":"2004-10-08"},{"$f":"'shaladarpan '!K653","v":"yes"},{"$f":"'shaladarpan '!L653","v":652},{"$f":"'shaladarpan '!M653","v":0},{"$f":"'shaladarpan '!N653","v":0},{"$f":"'shaladarpan '!O653","v":"SC"},{"$f":"'shaladarpan '!P653","v":"Hindu"},{"$f":"'shaladarpan '!Q653","v":0},{"$f":"'shaladarpan '!R653","v":"GOVT. SENIOR SECONDARY SCHOOL ALNIYAWAS (219445)"},{"$f":"'shaladarpan '!S653","v":8140200308},{"$f":"'shaladarpan '!T653","v":"XXXX4038"},{"$f":"'shaladarpan '!U653","v":"YKKSIGK"},{"$f":"'shaladarpan '!V653","v":9828121348},{"$f":"'shaladarpan '!W653","v":"alniyawas652"},{"$f":"'shaladarpan '!X653","v":36000},{"$f":"'shaladarpan '!Y653","v":"N"},{"$f":"'shaladarpan '!Z653","v":"N"},{"$f":"'shaladarpan '!AA653","v":"No"},{"$f":"'shaladarpan '!AB653","v":16},{"$f":"'shaladarpan '!AC653","v":"None"},{"$f":"'shaladarpan '!AD653","v":0}]
[{"$f":"IF(F655=\" \",\" \",ROWS($A$3:A655))","v":653},{"$f":"'shaladarpan '!A654","v":12},{"$f":"'shaladarpan '!B654","v":"A"},{"$f":"'shaladarpan '!C654","v":4270},{"$f":"'shaladarpan '!D654","v":"2017-06-27"},{"$f":"'shaladarpan '!E654","v":"manjeet653"},{"$f":"'shaladarpan '!F654","v":"00:00:00"},{"$f":"'shaladarpan '!G654","v":"vijay653"},{"$f":"'shaladarpan '!H654","v":"beautiful653"},{"$f":"'shaladarpan '!I654","v":"F"},{"$f":"'shaladarpan '!J654","v":"2003-03-03"},{"$f":"'shaladarpan '!K654","v":"yes"},{"$f":"'shaladarpan '!L654","v":653},{"$f":"'shaladarpan '!M654","v":0},{"$f":"'shaladarpan '!N654","v":0},{"$f":"'shaladarpan '!O654","v":"GEN"},{"$f":"'shaladarpan '!P654","v":"Hindu"},{"$f":"'shaladarpan '!Q654","v":0},{"$f":"'shaladarpan '!R654","v":"GOVT. SENIOR SECONDARY SCHOOL ALNIYAWAS (219445)"},{"$f":"'shaladarpan '!S654","v":8140200308},{"$f":"'shaladarpan '!T654","v":"XXXX8102"},{"$f":"'shaladarpan '!U654","v":0},{"$f":"'shaladarpan '!V654","v":9828121349},{"$f":"'shaladarpan '!W654","v":"alniyawas653"},{"$f":"'shaladarpan '!X654","v":40000},{"$f":"'shaladarpan '!Y654","v":"N"},{"$f":"'shaladarpan '!Z654","v":"N"},{"$f":"'shaladarpan '!AA654","v":"No"},{"$f":"'shaladarpan '!AB654","v":17},{"$f":"'shaladarpan '!AC654","v":"None"},{"$f":"'shaladarpan '!AD654","v":1}]
[{"$f":"IF(F656=\" \",\" \",ROWS($A$3:A656))","v":654},{"$f":"'shaladarpan '!A655","v":12},{"$f":"'shaladarpan '!B655","v":"A"},{"$f":"'shaladarpan '!C655","v":4555},{"$f":"'shaladarpan '!D655","v":"2018-07-12"},{"$f":"'shaladarpan '!E655","v":"manjeet654"},{"$f":"'shaladarpan '!F655","v":"00:00:00"},{"$f":"'shaladarpan '!G655","v":"vijay654"},{"$f":"'shaladarpan '!H655","v":"beautiful654"},{"$f":"'shaladarpan '!I655","v":"M"},{"$f":"'shaladarpan '!J655","v":"2004-07-01"},{"$f":"'shaladarpan '!K655","v":"no"},{"$f":"'shaladarpan '!L655","v":654},{"$f":"'shaladarpan '!M655","v":0},{"$f":"'shaladarpan '!N655","v":0},{"$f":"'shaladarpan '!O655","v":"OBC"},{"$f":"'shaladarpan '!P655","v":"Muslim"},{"$f":"'shaladarpan '!Q655","v":0},{"$f":"'shaladarpan '!R655","v":"GOVT. SENIOR SECONDARY SCHOOL ALNIYAWAS (219445)"},{"$f":"'shaladarpan '!S655","v":8140200308},{"$f":"'shaladarpan '!T655","v":"XXXX4133"},{"$f":"'shaladarpan '!U655","v":0},{"$f":"'shaladarpan '!V655","v":9828121350},{"$f":"'shaladarpan '!W655","v":"alniyawas654"},{"$f":"'shaladarpan '!X655","v":60000},{"$f":"'shaladarpan '!Y655","v":"N"},{"$f":"'shaladarpan '!Z655","v":"N"},{"$f":"'shaladarpan '!AA655","v":"Yes"},{"$f":"'shaladarpan '!AB655","v":16},{"$f":"'shaladarpan '!AC655","v":"None"},{"$f":"'shaladarpan '!AD655","v":1}]
[{"$f":"IF(F657=\" \",\" \",ROWS($A$3:A657))","v":655},{"$f":"'shaladarpan '!A656","v":12},{"$f":"'shaladarpan '!B656","v":"A"},{"$f":"'shaladarpan '!C656","v":4288},{"$f":"'shaladarpan '!D656","v":"2017-06-29"},{"$f":"'shaladarpan '!E656","v":"manjeet655"},{"$f":"'shaladarpan '!F656","v":"00:00:00"},{"$f":"'shaladarpan '!G656","v":"vijay655"},{"$f":"'shaladarpan '!H656","v":"beautiful655"},{"$f":"'shaladarpan '!I656","v":"M"},{"$f":"'shaladarpan '!J656","v":"2004-03-04"},{"$f":"'shaladarpan '!K656","v":"yes"},{"$f":"'shaladarpan '!L656","v":655},{"$f":"'shaladarpan '!M656","v":0},{"$f":"'shaladarpan '!N656","v":0},{"$f":"'shaladarpan '!O656","v":"SC"},{"$f":"'shaladarpan '!P656","v":"Hindu"},{"$f":"'shaladarpan '!Q656","v":0},{"$f":"'shaladarpan '!R656","v":"GOVT. SENIOR SECONDARY SCHOOL ALNIYAWAS (219445)"},{"$f":"'shaladarpan '!S656","v":8140200308},{"$f":"'shaladarpan '!T656","v":"XXXX5982"},{"$f":"'shaladarpan '!U656","v":0},{"$f":"'shaladarpan '!V656","v":9828121351},{"$f":"'shaladarpan '!W656","v":"alniyawas655"},{"$f":"'shaladarpan '!X656","v":40000},{"$f":"'shaladarpan '!Y656","v":"N"},{"$f":"'shaladarpan '!Z656","v":"N"},{"$f":"'shaladarpan '!AA656","v":"No"},{"$f":"'shaladarpan '!AB656","v":16},{"$f":"'shaladarpan '!AC656","v":"None"},{"$f":"'shaladarpan '!AD656","v":1}]
[{"$f":"IF(F658=\" \",\" \",ROWS($A$3:A658))","v":656},{"$f":"'shaladarpan '!A657","v":12},{"$f":"'shaladarpan '!B657","v":"A"},{"$f":"'shaladarpan '!C657","v":4308},{"$f":"'shaladarpan '!D657","v":"2017-07-01"},{"$f":"'shaladarpan '!E657","v":"manjeet656"},{"$f":"'shaladarpan '!F657","v":"00:00:00"},{"$f":"'shaladarpan '!G657","v":"vijay656"},{"$f":"'shaladarpan '!H657","v":"beautiful656"},{"$f":"'shaladarpan '!I657","v":"M"},{"$f":"'shaladarpan '!J657","v":"2004-11-07"},{"$f":"'shaladarpan '!K657","v":"yes"},{"$f":"'shaladarpan '!L657","v":656},{"$f":"'shaladarpan '!M657","v":0},{"$f":"'shaladarpan '!N657","v":0},{"$f":"'shaladarpan '!O657","v":"SC"},{"$f":"'shaladarpan '!P657","v":"Hindu"},{"$f":"'shaladarpan '!Q657","v":0},{"$f":"'shaladarpan '!R657","v":"GOVT. SENIOR SECONDARY SCHOOL ALNIYAWAS (219445)"},{"$f":"'shaladarpan '!S657","v":8140200308},{"$f":"'shaladarpan '!T657","v":"XXXX3899"},{"$f":"'shaladarpan '!U657","v":0},{"$f":"'shaladarpan '!V657","v":9828121352},{"$f":"'shaladarpan '!W657","v":"alniyawas656"},{"$f":"'shaladarpan '!X657","v":0},{"$f":"'shaladarpan '!Y657","v":"N"},{"$f":"'shaladarpan '!Z657","v":"N"},{"$f":"'shaladarpan '!AA657","v":"No"},{"$f":"'shaladarpan '!AB657","v":16},{"$f":"'shaladarpan '!AC657","v":"None"},{"$f":"'shaladarpan '!AD657","v":1}]
[{"$f":"IF(F659=\" \",\" \",ROWS($A$3:A659))","v":657},{"$f":"'shaladarpan '!A658","v":12},{"$f":"'shaladarpan '!B658","v":"A"},{"$f":"'shaladarpan '!C658","v":3558},{"$f":"'shaladarpan '!D658","v":"2014-05-13"},{"$f":"'shaladarpan '!E658","v":"manjeet657"},{"$f":"'shaladarpan '!F658","v":"00:00:00"},{"$f":"'shaladarpan '!G658","v":"vijay657"},{"$f":"'shaladarpan '!H658","v":"beautiful657"},{"$f":"'shaladarpan '!I658","v":"F"},{"$f":"'shaladarpan '!J658","v":"2002-05-08"},{"$f":"'shaladarpan '!K658","v":"no"},{"$f":"'shaladarpan '!L658","v":657},{"$f":"'shaladarpan '!M658","v":0},{"$f":"'shaladarpan '!N658","v":0},{"$f":"'shaladarpan '!O658","v":"SC"},{"$f":"'shaladarpan '!P658","v":0},{"$f":"'shaladarpan '!Q658","v":0},{"$f":"'shaladarpan '!R658","v":"GOVT. SENIOR SECONDARY SCHOOL ALNIYAWAS (219445)"},{"$f":"'shaladarpan '!S658","v":8140200308},{"$f":"'shaladarpan '!T658","v":"XXXX1749"},{"$f":"'shaladarpan '!U658","v":"YBDOGMC"},{"$f":"'shaladarpan '!V658","v":9828121353},{"$f":"'shaladarpan '!W658","v":"alniyawas657"},{"$f":"'shaladarpan '!X658","v":60000},{"$f":"'shaladarpan '!Y658","v":"N"},{"$f":"'shaladarpan '!Z658","v":"N"},{"$f":"'shaladarpan '!AA658","v":0},{"$f":"'shaladarpan '!AB658","v":18},{"$f":"'shaladarpan '!AC658","v":"None"},{"$f":"'shaladarpan '!AD658","v":0}]
[{"$f":"IF(F660=\" \",\" \",ROWS($A$3:A660))","v":658},{"$f":"'shaladarpan '!A659","v":12},{"$f":"'shaladarpan '!B659","v":"A"},{"$f":"'shaladarpan '!C659","v":3659},{"$f":"'shaladarpan '!D659","v":"2014-07-10"},{"$f":"'shaladarpan '!E659","v":"manjeet658"},{"$f":"'shaladarpan '!F659","v":"00:00:00"},{"$f":"'shaladarpan '!G659","v":"vijay658"},{"$f":"'shaladarpan '!H659","v":"beautiful658"},{"$f":"'shaladarpan '!I659","v":"F"},{"$f":"'shaladarpan '!J659","v":"2003-08-20"},{"$f":"'shaladarpan '!K659","v":"yes"},{"$f":"'shaladarpan '!L659","v":658},{"$f":"'shaladarpan '!M659","v":0},{"$f":"'shaladarpan '!N659","v":0},{"$f":"'shaladarpan '!O659","v":"OBC"},{"$f":"'shaladarpan '!P659","v":0},{"$f":"'shaladarpan '!Q659","v":0},{"$f":"'shaladarpan '!R659","v":"GOVT. SENIOR SECONDARY SCHOOL ALNIYAWAS (219445)"},{"$f":"'shaladarpan '!S659","v":8140200308},{"$f":"'shaladarpan '!T659","v":"XXXX7739"},{"$f":"'shaladarpan '!U659","v":0},{"$f":"'shaladarpan '!V659","v":9828121354},{"$f":"'shaladarpan '!W659","v":"alniyawas658"},{"$f":"'shaladarpan '!X659","v":0},{"$f":"'shaladarpan '!Y659","v":"N"},{"$f":"'shaladarpan '!Z659","v":"N"},{"$f":"'shaladarpan '!AA659","v":0},{"$f":"'shaladarpan '!AB659","v":17},{"$f":"'shaladarpan '!AC659","v":"None"},{"$f":"'shaladarpan '!AD659","v":1}]
[{"$f":"IF(F661=\" \",\" \",ROWS($A$3:A661))","v":659},{"$f":"'shaladarpan '!A660","v":12},{"$f":"'shaladarpan '!B660","v":"A"},{"$f":"'shaladarpan '!C660","v":4394},{"$f":"'shaladarpan '!D660","v":"2017-07-14"},{"$f":"'shaladarpan '!E660","v":"manjeet659"},{"$f":"'shaladarpan '!F660","v":"00:00:00"},{"$f":"'shaladarpan '!G660","v":"vijay659"},{"$f":"'shaladarpan '!H660","v":"beautiful659"},{"$f":"'shaladarpan '!I660","v":"M"},{"$f":"'shaladarpan '!J660","v":"2003-04-20"},{"$f":"'shaladarpan '!K660","v":"yes"},{"$f":"'shaladarpan '!L660","v":659},{"$f":"'shaladarpan '!M660","v":0},{"$f":"'shaladarpan '!N660","v":0},{"$f":"'shaladarpan '!O660","v":"OBC"},{"$f":"'shaladarpan '!P660","v":"Hindu"},{"$f":"'shaladarpan '!Q660","v":0},{"$f":"'shaladarpan '!R660","v":"GOVT. SENIOR SECONDARY SCHOOL ALNIYAWAS (219445)"},{"$f":"'shaladarpan '!S660","v":8140200308},{"$f":"'shaladarpan '!T660","v":"XXXX3681"},{"$f":"'shaladarpan '!U660","v":0},{"$f":"'shaladarpan '!V660","v":9828121355},{"$f":"'shaladarpan '!W660","v":"alniyawas659"},{"$f":"'shaladarpan '!X660","v":0},{"$f":"'shaladarpan '!Y660","v":"N"},{"$f":"'shaladarpan '!Z660","v":"N"},{"$f":"'shaladarpan '!AA660","v":"No"},{"$f":"'shaladarpan '!AB660","v":17},{"$f":"'shaladarpan '!AC660","v":"None"},{"$f":"'shaladarpan '!AD660","v":1}]
[{"$f":"IF(F662=\" \",\" \",ROWS($A$3:A662))","v":660},{"$f":"'shaladarpan '!A661","v":12},{"$f":"'shaladarpan '!B661","v":"A"},{"$f":"'shaladarpan '!C661","v":4297},{"$f":"'shaladarpan '!D661","v":"2017-06-30"},{"$f":"'shaladarpan '!E661","v":"manjeet660"},{"$f":"'shaladarpan '!F661","v":"00:00:00"},{"$f":"'shaladarpan '!G661","v":"vijay660"},{"$f":"'shaladarpan '!H661","v":"beautiful660"},{"$f":"'shaladarpan '!I661","v":"M"},{"$f":"'shaladarpan '!J661","v":"2001-07-04"},{"$f":"'shaladarpan '!K661","v":"no"},{"$f":"'shaladarpan '!L661","v":660},{"$f":"'shaladarpan '!M661","v":0},{"$f":"'shaladarpan '!N661","v":0},{"$f":"'shaladarpan '!O661","v":"OBC"},{"$f":"'shaladarpan '!P661","v":"Hindu"},{"$f":"'shaladarpan '!Q661","v":0},{"$f":"'shaladarpan '!R661","v":"GOVT. SENIOR SECONDARY SCHOOL ALNIYAWAS (219445)"},{"$f":"'shaladarpan '!S661","v":8140200308},{"$f":"'shaladarpan '!T661","v":"XXXX1980"},{"$f":"'shaladarpan '!U661","v":0},{"$f":"'shaladarpan '!V661","v":9828121356},{"$f":"'shaladarpan '!W661","v":"alniyawas660"},{"$f":"'shaladarpan '!X661","v":40000},{"$f":"'shaladarpan '!Y661","v":"N"},{"$f":"'shaladarpan '!Z661","v":"N"},{"$f":"'shaladarpan '!AA661","v":"No"},{"$f":"'shaladarpan '!AB661","v":19},{"$f":"'shaladarpan '!AC661","v":"None"},{"$f":"'shaladarpan '!AD661","v":1}]
[{"$f":"IF(F663=\" \",\" \",ROWS($A$3:A663))","v":661},{"$f":"'shaladarpan '!A662","v":12},{"$f":"'shaladarpan '!B662","v":"A"},{"$f":"'shaladarpan '!C662","v":4410},{"$f":"'shaladarpan '!D662","v":"2017-07-14"},{"$f":"'shaladarpan '!E662","v":"manjeet661"},{"$f":"'shaladarpan '!F662","v":"00:00:00"},{"$f":"'shaladarpan '!G662","v":"vijay661"},{"$f":"'shaladarpan '!H662","v":"beautiful661"},{"$f":"'shaladarpan '!I662","v":"M"},{"$f":"'shaladarpan '!J662","v":"2004-02-05"},{"$f":"'shaladarpan '!K662","v":"yes"},{"$f":"'shaladarpan '!L662","v":661},{"$f":"'shaladarpan '!M662","v":0},{"$f":"'shaladarpan '!N662","v":0},{"$f":"'shaladarpan '!O662","v":"OBC"},{"$f":"'shaladarpan '!P662","v":"Hindu"},{"$f":"'shaladarpan '!Q662","v":0},{"$f":"'shaladarpan '!R662","v":"GOVT. SENIOR SECONDARY SCHOOL ALNIYAWAS (219445)"},{"$f":"'shaladarpan '!S662","v":8140200308},{"$f":"'shaladarpan '!T662","v":"XXXX1272"},{"$f":"'shaladarpan '!U662","v":0},{"$f":"'shaladarpan '!V662","v":9828121357},{"$f":"'shaladarpan '!W662","v":"alniyawas661"},{"$f":"'shaladarpan '!X662","v":0},{"$f":"'shaladarpan '!Y662","v":"N"},{"$f":"'shaladarpan '!Z662","v":"N"},{"$f":"'shaladarpan '!AA662","v":"No"},{"$f":"'shaladarpan '!AB662","v":16},{"$f":"'shaladarpan '!AC662","v":"None"},{"$f":"'shaladarpan '!AD662","v":1}]
[{"$f":"IF(F664=\" \",\" \",ROWS($A$3:A664))","v":662},{"$f":"'shaladarpan '!A663","v":12},{"$f":"'shaladarpan '!B663","v":"A"},{"$f":"'shaladarpan '!C663","v":4002},{"$f":"'shaladarpan '!D663","v":"2015-07-06"},{"$f":"'shaladarpan '!E663","v":"manjeet662"},{"$f":"'shaladarpan '!F663","v":"00:00:00"},{"$f":"'shaladarpan '!G663","v":"vijay662"},{"$f":"'shaladarpan '!H663","v":"beautiful662"},{"$f":"'shaladarpan '!I663","v":"M"},{"$f":"'shaladarpan '!J663","v":"2004-02-08"},{"$f":"'shaladarpan '!K663","v":"yes"},{"$f":"'shaladarpan '!L663","v":662},{"$f":"'shaladarpan '!M663","v":0},{"$f":"'shaladarpan '!N663","v":0},{"$f":"'shaladarpan '!O663","v":"SBC"},{"$f":"'shaladarpan '!P663","v":"Hindu"},{"$f":"'shaladarpan '!Q663","v":0},{"$f":"'shaladarpan '!R663","v":"GOVT. SENIOR SECONDARY SCHOOL ALNIYAWAS (219445)"},{"$f":"'shaladarpan '!S663","v":8140200308},{"$f":"'shaladarpan '!T663","v":"XXXX3448"},{"$f":"'shaladarpan '!U663","v":0},{"$f":"'shaladarpan '!V663","v":9828121358},{"$f":"'shaladarpan '!W663","v":"alniyawas662"},{"$f":"'shaladarpan '!X663","v":36000},{"$f":"'shaladarpan '!Y663","v":"N"},{"$f":"'shaladarpan '!Z663","v":"N"},{"$f":"'shaladarpan '!AA663","v":"No"},{"$f":"'shaladarpan '!AB663","v":16},{"$f":"'shaladarpan '!AC663","v":"None"},{"$f":"'shaladarpan '!AD663","v":1}]
[{"$f":"IF(F665=\" \",\" \",ROWS($A$3:A665))","v":663},{"$f":"'shaladarpan '!A664","v":12},{"$f":"'shaladarpan '!B664","v":"A"},{"$f":"'shaladarpan '!C664","v":4414},{"$f":"'shaladarpan '!D664","v":"2017-07-14"},{"$f":"'shaladarpan '!E664","v":"manjeet663"},{"$f":"'shaladarpan '!F664","v":"00:00:00"},{"$f":"'shaladarpan '!G664","v":"vijay663"},{"$f":"'shaladarpan '!H664","v":"beautiful663"},{"$f":"'shaladarpan '!I664","v":"M"},{"$f":"'shaladarpan '!J664","v":"2003-12-07"},{"$f":"'shaladarpan '!K664","v":"no"},{"$f":"'shaladarpan '!L664","v":663},{"$f":"'shaladarpan '!M664","v":0},{"$f":"'shaladarpan '!N664","v":0},{"$f":"'shaladarpan '!O664","v":"OBC"},{"$f":"'shaladarpan '!P664","v":"Hindu"},{"$f":"'shaladarpan '!Q664","v":0},{"$f":"'shaladarpan '!R664","v":"GOVT. SENIOR SECONDARY SCHOOL ALNIYAWAS (219445)"},{"$f":"'shaladarpan '!S664","v":8140200308},{"$f":"'shaladarpan '!T664","v":"XXXX4059"},{"$f":"'shaladarpan '!U664","v":0},{"$f":"'shaladarpan '!V664","v":9828121359},{"$f":"'shaladarpan '!W664","v":"alniyawas663"},{"$f":"'shaladarpan '!X664","v":0},{"$f":"'shaladarpan '!Y664","v":"N"},{"$f":"'shaladarpan '!Z664","v":"N"},{"$f":"'shaladarpan '!AA664","v":"No"},{"$f":"'shaladarpan '!AB664","v":17},{"$f":"'shaladarpan '!AC664","v":"None"},{"$f":"'shaladarpan '!AD664","v":1}]
[{"$f":"IF(F666=\" \",\" \",ROWS($A$3:A666))","v":664},{"$f":"'shaladarpan '!A665","v":12},{"$f":"'shaladarpan '!B665","v":"A"},{"$f":"'shaladarpan '!C665","v":3559},{"$f":"'shaladarpan '!D665","v":"2014-05-13"},{"$f":"'shaladarpan '!E665","v":"manjeet664"},{"$f":"'shaladarpan '!F665","v":"00:00:00"},{"$f":"'shaladarpan '!G665","v":"vijay664"},{"$f":"'shaladarpan '!H665","v":"beautiful664"},{"$f":"'shaladarpan '!I665","v":"M"},{"$f":"'shaladarpan '!J665","v":"2004-04-10"},{"$f":"'shaladarpan '!K665","v":"yes"},{"$f":"'shaladarpan '!L665","v":664},{"$f":"'shaladarpan '!M665","v":0},{"$f":"'shaladarpan '!N665","v":0},{"$f":"'shaladarpan '!O665","v":"SC"},{"$f":"'shaladarpan '!P665","v":"Hindu"},{"$f":"'shaladarpan '!Q665","v":0},{"$f":"'shaladarpan '!R665","v":"GOVT. SENIOR SECONDARY SCHOOL ALNIYAWAS (219445)"},{"$f":"'shaladarpan '!S665","v":8140200308},{"$f":"'shaladarpan '!T665","v":"XXXX8283"},{"$f":"'shaladarpan '!U665","v":"YMQAYFB"},{"$f":"'shaladarpan '!V665","v":9828121360},{"$f":"'shaladarpan '!W665","v":"alniyawas664"},{"$f":"'shaladarpan '!X665","v":60000},{"$f":"'shaladarpan '!Y665","v":"N"},{"$f":"'shaladarpan '!Z665","v":"N"},{"$f":"'shaladarpan '!AA665","v":"No"},{"$f":"'shaladarpan '!AB665","v":16},{"$f":"'shaladarpan '!AC665","v":"None"},{"$f":"'shaladarpan '!AD665","v":1}]
[{"$f":"IF(F667=\" \",\" \",ROWS($A$3:A667))","v":665},{"$f":"'shaladarpan '!A666","v":12},{"$f":"'shaladarpan '!B666","v":"A"},{"$f":"'shaladarpan '!C666","v":4424},{"$f":"'shaladarpan '!D666","v":"2017-07-20"},{"$f":"'shaladarpan '!E666","v":"manjeet665"},{"$f":"'shaladarpan '!F666","v":"00:00:00"},{"$f":"'shaladarpan '!G666","v":"vijay665"},{"$f":"'shaladarpan '!H666","v":"beautiful665"},{"$f":"'shaladarpan '!I666","v":"M"},{"$f":"'shaladarpan '!J666","v":"2002-07-14"},{"$f":"'shaladarpan '!K666","v":"yes"},{"$f":"'shaladarpan '!L666","v":665},{"$f":"'shaladarpan '!M666","v":0},{"$f":"'shaladarpan '!N666","v":0},{"$f":"'shaladarpan '!O666","v":"SC"},{"$f":"'shaladarpan '!P666","v":"Hindu"},{"$f":"'shaladarpan '!Q666","v":0},{"$f":"'shaladarpan '!R666","v":"GOVT. SENIOR SECONDARY SCHOOL ALNIYAWAS (219445)"},{"$f":"'shaladarpan '!S666","v":8140200308},{"$f":"'shaladarpan '!T666","v":"XXXX9622"},{"$f":"'shaladarpan '!U666","v":"VPGTJWJ"},{"$f":"'shaladarpan '!V666","v":9828121361},{"$f":"'shaladarpan '!W666","v":"alniyawas665"},{"$f":"'shaladarpan '!X666","v":60000},{"$f":"'shaladarpan '!Y666","v":"N"},{"$f":"'shaladarpan '!Z666","v":"N"},{"$f":"'shaladarpan '!AA666","v":"No"},{"$f":"'shaladarpan '!AB666","v":18},{"$f":"'shaladarpan '!AC666","v":"None"},{"$f":"'shaladarpan '!AD666","v":1}]
[{"$f":"IF(F668=\" \",\" \",ROWS($A$3:A668))","v":666},{"$f":"'shaladarpan '!A667","v":12},{"$f":"'shaladarpan '!B667","v":"A"},{"$f":"'shaladarpan '!C667","v":4534},{"$f":"'shaladarpan '!D667","v":"2018-07-09"},{"$f":"'shaladarpan '!E667","v":"manjeet666"},{"$f":"'shaladarpan '!F667","v":"00:00:00"},{"$f":"'shaladarpan '!G667","v":"vijay666"},{"$f":"'shaladarpan '!H667","v":"beautiful666"},{"$f":"'shaladarpan '!I667","v":"M"},{"$f":"'shaladarpan '!J667","v":"2002-10-05"},{"$f":"'shaladarpan '!K667","v":"no"},{"$f":"'shaladarpan '!L667","v":666},{"$f":"'shaladarpan '!M667","v":0},{"$f":"'shaladarpan '!N667","v":0},{"$f":"'shaladarpan '!O667","v":"GEN"},{"$f":"'shaladarpan '!P667","v":"Hindu"},{"$f":"'shaladarpan '!Q667","v":0},{"$f":"'shaladarpan '!R667","v":"GOVT. SENIOR SECONDARY SCHOOL ALNIYAWAS (219445)"},{"$f":"'shaladarpan '!S667","v":8140200308},{"$f":"'shaladarpan '!T667","v":"XXXX9728"},{"$f":"'shaladarpan '!U667","v":0},{"$f":"'shaladarpan '!V667","v":9828121362},{"$f":"'shaladarpan '!W667","v":"alniyawas666"},{"$f":"'shaladarpan '!X667","v":60000},{"$f":"'shaladarpan '!Y667","v":"N"},{"$f":"'shaladarpan '!Z667","v":"N"},{"$f":"'shaladarpan '!AA667","v":"No"},{"$f":"'shaladarpan '!AB667","v":18},{"$f":"'shaladarpan '!AC667","v":"None"},{"$f":"'shaladarpan '!AD667","v":5}]
[{"$f":"IF(F669=\" \",\" \",ROWS($A$3:A669))","v":667},{"$f":"'shaladarpan '!A668","v":12},{"$f":"'shaladarpan '!B668","v":"A"},{"$f":"'shaladarpan '!C668","v":4605},{"$f":"'shaladarpan '!D668","v":"2018-07-30"},{"$f":"'shaladarpan '!E668","v":"manjeet667"},{"$f":"'shaladarpan '!F668","v":"00:00:00"},{"$f":"'shaladarpan '!G668","v":"vijay667"},{"$f":"'shaladarpan '!H668","v":"beautiful667"},{"$f":"'shaladarpan '!I668","v":"M"},{"$f":"'shaladarpan '!J668","v":"2003-07-06"},{"$f":"'shaladarpan '!K668","v":"yes"},{"$f":"'shaladarpan '!L668","v":667},{"$f":"'shaladarpan '!M668","v":0},{"$f":"'shaladarpan '!N668","v":0},{"$f":"'shaladarpan '!O668","v":"SC"},{"$f":"'shaladarpan '!P668","v":"Hindu"},{"$f":"'shaladarpan '!Q668","v":0},{"$f":"'shaladarpan '!R668","v":"GOVT. SENIOR SECONDARY SCHOOL ALNIYAWAS (219445)"},{"$f":"'shaladarpan '!S668","v":8140200308},{"$f":"'shaladarpan '!T668","v":"XXXX0378"},{"$f":"'shaladarpan '!U668","v":0},{"$f":"'shaladarpan '!V668","v":9828121363},{"$f":"'shaladarpan '!W668","v":"alniyawas667"},{"$f":"'shaladarpan '!X668","v":60000},{"$f":"'shaladarpan '!Y668","v":"N"},{"$f":"'shaladarpan '!Z668","v":"N"},{"$f":"'shaladarpan '!AA668","v":"No"},{"$f":"'shaladarpan '!AB668","v":17},{"$f":"'shaladarpan '!AC668","v":"None"},{"$f":"'shaladarpan '!AD668","v":1}]
[{"$f":"IF(F670=\" \",\" \",ROWS($A$3:A670))","v":668},{"$f":"'shaladarpan '!A669","v":12},{"$f":"'shaladarpan '!B669","v":"A"},{"$f":"'shaladarpan '!C669","v":3429},{"$f":"'shaladarpan '!D669","v":"2013-05-06"},{"$f":"'shaladarpan '!E669","v":"manjeet668"},{"$f":"'shaladarpan '!F669","v":"00:00:00"},{"$f":"'shaladarpan '!G669","v":"vijay668"},{"$f":"'shaladarpan '!H669","v":"beautiful668"},{"$f":"'shaladarpan '!I669","v":"M"},{"$f":"'shaladarpan '!J669","v":"2002-06-16"},{"$f":"'shaladarpan '!K669","v":"yes"},{"$f":"'shaladarpan '!L669","v":668},{"$f":"'shaladarpan '!M669","v":0},{"$f":"'shaladarpan '!N669","v":0},{"$f":"'shaladarpan '!O669","v":"OBC"},{"$f":"'shaladarpan '!P669","v":"Hindu"},{"$f":"'shaladarpan '!Q669","v":0},{"$f":"'shaladarpan '!R669","v":"GOVT. SENIOR SECONDARY SCHOOL ALNIYAWAS (219445)"},{"$f":"'shaladarpan '!S669","v":8140200308},{"$f":"'shaladarpan '!T669","v":"XXXX7541"},{"$f":"'shaladarpan '!U669","v":0},{"$f":"'shaladarpan '!V669","v":9828121364},{"$f":"'shaladarpan '!W669","v":"alniyawas668"},{"$f":"'shaladarpan '!X669","v":0},{"$f":"'shaladarpan '!Y669","v":"N"},{"$f":"'shaladarpan '!Z669","v":"N"},{"$f":"'shaladarpan '!AA669","v":"No"},{"$f":"'shaladarpan '!AB669","v":18},{"$f":"'shaladarpan '!AC669","v":"None"},{"$f":"'shaladarpan '!AD669","v":2}]
[{"$f":"IF(F671=\" \",\" \",ROWS($A$3:A671))","v":669},{"$f":"'shaladarpan '!A670","v":12},{"$f":"'shaladarpan '!B670","v":"A"},{"$f":"'shaladarpan '!C670","v":3573},{"$f":"'shaladarpan '!D670","v":"2014-05-13"},{"$f":"'shaladarpan '!E670","v":"manjeet669"},{"$f":"'shaladarpan '!F670","v":"00:00:00"},{"$f":"'shaladarpan '!G670","v":"vijay669"},{"$f":"'shaladarpan '!H670","v":"beautiful669"},{"$f":"'shaladarpan '!I670","v":"F"},{"$f":"'shaladarpan '!J670","v":"2003-06-26"},{"$f":"'shaladarpan '!K670","v":"no"},{"$f":"'shaladarpan '!L670","v":669},{"$f":"'shaladarpan '!M670","v":0},{"$f":"'shaladarpan '!N670","v":0},{"$f":"'shaladarpan '!O670","v":"SC"},{"$f":"'shaladarpan '!P670","v":0},{"$f":"'shaladarpan '!Q670","v":0},{"$f":"'shaladarpan '!R670","v":"GOVT. SENIOR SECONDARY SCHOOL ALNIYAWAS (219445)"},{"$f":"'shaladarpan '!S670","v":8140200308},{"$f":"'shaladarpan '!T670","v":"XXXX6524"},{"$f":"'shaladarpan '!U670","v":0},{"$f":"'shaladarpan '!V670","v":9828121365},{"$f":"'shaladarpan '!W670","v":"alniyawas669"},{"$f":"'shaladarpan '!X670","v":36000},{"$f":"'shaladarpan '!Y670","v":"N"},{"$f":"'shaladarpan '!Z670","v":"N"},{"$f":"'shaladarpan '!AA670","v":0},{"$f":"'shaladarpan '!AB670","v":17},{"$f":"'shaladarpan '!AC670","v":"None"},{"$f":"'shaladarpan '!AD670","v":1}]
[{"$f":"IF(F672=\" \",\" \",ROWS($A$3:A672))","v":670},{"$f":"'shaladarpan '!A671","v":12},{"$f":"'shaladarpan '!B671","v":"A"},{"$f":"'shaladarpan '!C671","v":4350},{"$f":"'shaladarpan '!D671","v":"2017-07-07"},{"$f":"'shaladarpan '!E671","v":"manjeet670"},{"$f":"'shaladarpan '!F671","v":"00:00:00"},{"$f":"'shaladarpan '!G671","v":"vijay670"},{"$f":"'shaladarpan '!H671","v":"beautiful670"},{"$f":"'shaladarpan '!I671","v":"F"},{"$f":"'shaladarpan '!J671","v":"2004-05-28"},{"$f":"'shaladarpan '!K671","v":"yes"},{"$f":"'shaladarpan '!L671","v":670},{"$f":"'shaladarpan '!M671","v":0},{"$f":"'shaladarpan '!N671","v":0},{"$f":"'shaladarpan '!O671","v":"GEN"},{"$f":"'shaladarpan '!P671","v":"Hindu"},{"$f":"'shaladarpan '!Q671","v":0},{"$f":"'shaladarpan '!R671","v":"GOVT. SENIOR SECONDARY SCHOOL ALNIYAWAS (219445)"},{"$f":"'shaladarpan '!S671","v":8140200308},{"$f":"'shaladarpan '!T671","v":"XXXX9630"},{"$f":"'shaladarpan '!U671","v":0},{"$f":"'shaladarpan '!V671","v":9828121366},{"$f":"'shaladarpan '!W671","v":"alniyawas670"},{"$f":"'shaladarpan '!X671","v":0},{"$f":"'shaladarpan '!Y671","v":"N"},{"$f":"'shaladarpan '!Z671","v":"N"},{"$f":"'shaladarpan '!AA671","v":"No"},{"$f":"'shaladarpan '!AB671","v":16},{"$f":"'shaladarpan '!AC671","v":"None"},{"$f":"'shaladarpan '!AD671","v":1}]
[{"$f":"IF(F673=\" \",\" \",ROWS($A$3:A673))","v":671},{"$f":"'shaladarpan '!A672","v":12},{"$f":"'shaladarpan '!B672","v":"A"},{"$f":"'shaladarpan '!C672","v":3647},{"$f":"'shaladarpan '!D672","v":"2014-07-09"},{"$f":"'shaladarpan '!E672","v":"manjeet671"},{"$f":"'shaladarpan '!F672","v":"00:00:00"},{"$f":"'shaladarpan '!G672","v":"vijay671"},{"$f":"'shaladarpan '!H672","v":"beautiful671"},{"$f":"'shaladarpan '!I672","v":"M"},{"$f":"'shaladarpan '!J672","v":"2002-05-10"},{"$f":"'shaladarpan '!K672","v":"yes"},{"$f":"'shaladarpan '!L672","v":671},{"$f":"'shaladarpan '!M672","v":0},{"$f":"'shaladarpan '!N672","v":0},{"$f":"'shaladarpan '!O672","v":"GEN"},{"$f":"'shaladarpan '!P672","v":"Hindu"},{"$f":"'shaladarpan '!Q672","v":0},{"$f":"'shaladarpan '!R672","v":"GOVT. SENIOR SECONDARY SCHOOL ALNIYAWAS (219445)"},{"$f":"'shaladarpan '!S672","v":8140200308},{"$f":"'shaladarpan '!T672","v":"XXXX3847"},{"$f":"'shaladarpan '!U672","v":0},{"$f":"'shaladarpan '!V672","v":9828121367},{"$f":"'shaladarpan '!W672","v":"alniyawas671"},{"$f":"'shaladarpan '!X672","v":0},{"$f":"'shaladarpan '!Y672","v":"N"},{"$f":"'shaladarpan '!Z672","v":"N"},{"$f":"'shaladarpan '!AA672","v":"No"},{"$f":"'shaladarpan '!AB672","v":18},{"$f":"'shaladarpan '!AC672","v":"None"},{"$f":"'shaladarpan '!AD672","v":1}]
[{"$f":"IF(F674=\" \",\" \",ROWS($A$3:A674))","v":672},{"$f":"'shaladarpan '!A673","v":12},{"$f":"'shaladarpan '!B673","v":"A"},{"$f":"'shaladarpan '!C673","v":4583},{"$f":"'shaladarpan '!D673","v":"2018-07-18"},{"$f":"'shaladarpan '!E673","v":"manjeet672"},{"$f":"'shaladarpan '!F673","v":"00:00:00"},{"$f":"'shaladarpan '!G673","v":"vijay672"},{"$f":"'shaladarpan '!H673","v":"beautiful672"},{"$f":"'shaladarpan '!I673","v":"M"},{"$f":"'shaladarpan '!J673","v":"2002-11-03"},{"$f":"'shaladarpan '!K673","v":"no"},{"$f":"'shaladarpan '!L673","v":672},{"$f":"'shaladarpan '!M673","v":0},{"$f":"'shaladarpan '!N673","v":0},{"$f":"'shaladarpan '!O673","v":"SC"},{"$f":"'shaladarpan '!P673","v":"Hindu"},{"$f":"'shaladarpan '!Q673","v":0},{"$f":"'shaladarpan '!R673","v":"GOVT. SENIOR SECONDARY SCHOOL ALNIYAWAS (219445)"},{"$f":"'shaladarpan '!S673","v":8140200308},{"$f":"'shaladarpan '!T673","v":"XXXX0140"},{"$f":"'shaladarpan '!U673","v":0},{"$f":"'shaladarpan '!V673","v":9828121368},{"$f":"'shaladarpan '!W673","v":"alniyawas672"},{"$f":"'shaladarpan '!X673","v":50000},{"$f":"'shaladarpan '!Y673","v":"N"},{"$f":"'shaladarpan '!Z673","v":"N"},{"$f":"'shaladarpan '!AA673","v":"No"},{"$f":"'shaladarpan '!AB673","v":18},{"$f":"'shaladarpan '!AC673","v":"None"},{"$f":"'shaladarpan '!AD673","v":0}]
[{"$f":"IF(F675=\" \",\" \",ROWS($A$3:A675))","v":673},{"$f":"'shaladarpan '!A674","v":12},{"$f":"'shaladarpan '!B674","v":"A"},{"$f":"'shaladarpan '!C674","v":3621},{"$f":"'shaladarpan '!D674","v":"2014-07-05"},{"$f":"'shaladarpan '!E674","v":"manjeet673"},{"$f":"'shaladarpan '!F674","v":"00:00:00"},{"$f":"'shaladarpan '!G674","v":"vijay673"},{"$f":"'shaladarpan '!H674","v":"beautiful673"},{"$f":"'shaladarpan '!I674","v":"M"},{"$f":"'shaladarpan '!J674","v":"2003-04-02"},{"$f":"'shaladarpan '!K674","v":"yes"},{"$f":"'shaladarpan '!L674","v":673},{"$f":"'shaladarpan '!M674","v":0},{"$f":"'shaladarpan '!N674","v":0},{"$f":"'shaladarpan '!O674","v":"GEN"},{"$f":"'shaladarpan '!P674","v":"Hindu"},{"$f":"'shaladarpan '!Q674","v":0},{"$f":"'shaladarpan '!R674","v":"GOVT. SENIOR SECONDARY SCHOOL ALNIYAWAS (219445)"},{"$f":"'shaladarpan '!S674","v":8140200308},{"$f":"'shaladarpan '!T674","v":"XXXX6145"},{"$f":"'shaladarpan '!U674","v":0},{"$f":"'shaladarpan '!V674","v":9828121369},{"$f":"'shaladarpan '!W674","v":"alniyawas673"},{"$f":"'shaladarpan '!X674","v":0},{"$f":"'shaladarpan '!Y674","v":"N"},{"$f":"'shaladarpan '!Z674","v":"N"},{"$f":"'shaladarpan '!AA674","v":"No"},{"$f":"'shaladarpan '!AB674","v":17},{"$f":"'shaladarpan '!AC674","v":"None"},{"$f":"'shaladarpan '!AD674","v":1}]
[{"$f":"IF(F676=\" \",\" \",ROWS($A$3:A676))","v":674},{"$f":"'shaladarpan '!A675","v":12},{"$f":"'shaladarpan '!B675","v":"A"},{"$f":"'shaladarpan '!C675","v":3964},{"$f":"'shaladarpan '!D675","v":"2015-07-02"},{"$f":"'shaladarpan '!E675","v":"manjeet674"},{"$f":"'shaladarpan '!F675","v":"00:00:00"},{"$f":"'shaladarpan '!G675","v":"vijay674"},{"$f":"'shaladarpan '!H675","v":"beautiful674"},{"$f":"'shaladarpan '!I675","v":"M"},{"$f":"'shaladarpan '!J675","v":"2003-07-20"},{"$f":"'shaladarpan '!K675","v":"yes"},{"$f":"'shaladarpan '!L675","v":674},{"$f":"'shaladarpan '!M675","v":0},{"$f":"'shaladarpan '!N675","v":0},{"$f":"'shaladarpan '!O675","v":"OBC"},{"$f":"'shaladarpan '!P675","v":"Hindu"},{"$f":"'shaladarpan '!Q675","v":0},{"$f":"'shaladarpan '!R675","v":"GOVT. SENIOR SECONDARY SCHOOL ALNIYAWAS (219445)"},{"$f":"'shaladarpan '!S675","v":8140200308},{"$f":"'shaladarpan '!T675","v":"XXXX7908"},{"$f":"'shaladarpan '!U675","v":0},{"$f":"'shaladarpan '!V675","v":9828121370},{"$f":"'shaladarpan '!W675","v":"alniyawas674"},{"$f":"'shaladarpan '!X675","v":0},{"$f":"'shaladarpan '!Y675","v":"N"},{"$f":"'shaladarpan '!Z675","v":"N"},{"$f":"'shaladarpan '!AA675","v":"No"},{"$f":"'shaladarpan '!AB675","v":17},{"$f":"'shaladarpan '!AC675","v":"None"},{"$f":"'shaladarpan '!AD675","v":1}]
[{"$f":"IF(F677=\" \",\" \",ROWS($A$3:A677))","v":675},{"$f":"'shaladarpan '!A676","v":12},{"$f":"'shaladarpan '!B676","v":"A"},{"$f":"'shaladarpan '!C676","v":4106},{"$f":"'shaladarpan '!D676","v":"2016-06-24"},{"$f":"'shaladarpan '!E676","v":"manjeet675"},{"$f":"'shaladarpan '!F676","v":"00:00:00"},{"$f":"'shaladarpan '!G676","v":"vijay675"},{"$f":"'shaladarpan '!H676","v":"beautiful675"},{"$f":"'shaladarpan '!I676","v":"F"},{"$f":"'shaladarpan '!J676","v":"2004-07-11"},{"$f":"'shaladarpan '!K676","v":"no"},{"$f":"'shaladarpan '!L676","v":675},{"$f":"'shaladarpan '!M676","v":0},{"$f":"'shaladarpan '!N676","v":0},{"$f":"'shaladarpan '!O676","v":"OBC"},{"$f":"'shaladarpan '!P676","v":"Hindu"},{"$f":"'shaladarpan '!Q676","v":0},{"$f":"'shaladarpan '!R676","v":"GOVT. SENIOR SECONDARY SCHOOL ALNIYAWAS (219445)"},{"$f":"'shaladarpan '!S676","v":8140200308},{"$f":"'shaladarpan '!T676","v":"XXXX1242"},{"$f":"'shaladarpan '!U676","v":0},{"$f":"'shaladarpan '!V676","v":9828121371},{"$f":"'shaladarpan '!W676","v":"alniyawas675"},{"$f":"'shaladarpan '!X676","v":0},{"$f":"'shaladarpan '!Y676","v":"N"},{"$f":"'shaladarpan '!Z676","v":"N"},{"$f":"'shaladarpan '!AA676","v":"No"},{"$f":"'shaladarpan '!AB676","v":16},{"$f":"'shaladarpan '!AC676","v":"None"},{"$f":"'shaladarpan '!AD676","v":0.15}]
[{"$f":"IF(F678=\" \",\" \",ROWS($A$3:A678))","v":676},{"$f":"'shaladarpan '!A677","v":12},{"$f":"'shaladarpan '!B677","v":"A"},{"$f":"'shaladarpan '!C677","v":4395},{"$f":"'shaladarpan '!D677","v":"2017-07-14"},{"$f":"'shaladarpan '!E677","v":"manjeet676"},{"$f":"'shaladarpan '!F677","v":"00:00:00"},{"$f":"'shaladarpan '!G677","v":"vijay676"},{"$f":"'shaladarpan '!H677","v":"beautiful676"},{"$f":"'shaladarpan '!I677","v":"M"},{"$f":"'shaladarpan '!J677","v":"2005-01-21"},{"$f":"'shaladarpan '!K677","v":"yes"},{"$f":"'shaladarpan '!L677","v":676},{"$f":"'shaladarpan '!M677","v":0},{"$f":"'shaladarpan '!N677","v":0},{"$f":"'shaladarpan '!O677","v":"OBC"},{"$f":"'shaladarpan '!P677","v":"Hindu"},{"$f":"'shaladarpan '!Q677","v":0},{"$f":"'shaladarpan '!R677","v":"GOVT. SENIOR SECONDARY SCHOOL ALNIYAWAS (219445)"},{"$f":"'shaladarpan '!S677","v":8140200308},{"$f":"'shaladarpan '!T677","v":"XXXX2052"},{"$f":"'shaladarpan '!U677","v":0},{"$f":"'shaladarpan '!V677","v":9828121372},{"$f":"'shaladarpan '!W677","v":"alniyawas676"},{"$f":"'shaladarpan '!X677","v":0},{"$f":"'shaladarpan '!Y677","v":"N"},{"$f":"'shaladarpan '!Z677","v":"N"},{"$f":"'shaladarpan '!AA677","v":"No"},{"$f":"'shaladarpan '!AB677","v":15},{"$f":"'shaladarpan '!AC677","v":"None"},{"$f":"'shaladarpan '!AD677","v":1}]
[{"$f":"IF(F679=\" \",\" \",ROWS($A$3:A679))","v":677},{"$f":"'shaladarpan '!A678","v":12},{"$f":"'shaladarpan '!B678","v":"A"},{"$f":"'shaladarpan '!C678","v":4139},{"$f":"'shaladarpan '!D678","v":"2016-07-01"},{"$f":"'shaladarpan '!E678","v":"manjeet677"},{"$f":"'shaladarpan '!F678","v":"00:00:00"},{"$f":"'shaladarpan '!G678","v":"vijay677"},{"$f":"'shaladarpan '!H678","v":"beautiful677"},{"$f":"'shaladarpan '!I678","v":"F"},{"$f":"'shaladarpan '!J678","v":"2002-03-07"},{"$f":"'shaladarpan '!K678","v":"yes"},{"$f":"'shaladarpan '!L678","v":677},{"$f":"'shaladarpan '!M678","v":0},{"$f":"'shaladarpan '!N678","v":0},{"$f":"'shaladarpan '!O678","v":"OBC"},{"$f":"'shaladarpan '!P678","v":0},{"$f":"'shaladarpan '!Q678","v":0},{"$f":"'shaladarpan '!R678","v":"GOVT. SENIOR SECONDARY SCHOOL ALNIYAWAS (219445)"},{"$f":"'shaladarpan '!S678","v":8140200308},{"$f":"'shaladarpan '!T678","v":"XXXX6005"},{"$f":"'shaladarpan '!U678","v":0},{"$f":"'shaladarpan '!V678","v":9828121373},{"$f":"'shaladarpan '!W678","v":"alniyawas677"},{"$f":"'shaladarpan '!X678","v":0},{"$f":"'shaladarpan '!Y678","v":"N"},{"$f":"'shaladarpan '!Z678","v":"N"},{"$f":"'shaladarpan '!AA678","v":0},{"$f":"'shaladarpan '!AB678","v":18},{"$f":"'shaladarpan '!AC678","v":"None"},{"$f":"'shaladarpan '!AD678","v":1}]
[{"$f":"IF(F680=\" \",\" \",ROWS($A$3:A680))","v":678},{"$f":"'shaladarpan '!A679","v":12},{"$f":"'shaladarpan '!B679","v":"A"},{"$f":"'shaladarpan '!C679","v":4309},{"$f":"'shaladarpan '!D679","v":"2017-07-01"},{"$f":"'shaladarpan '!E679","v":"manjeet678"},{"$f":"'shaladarpan '!F679","v":"00:00:00"},{"$f":"'shaladarpan '!G679","v":"vijay678"},{"$f":"'shaladarpan '!H679","v":"beautiful678"},{"$f":"'shaladarpan '!I679","v":"F"},{"$f":"'shaladarpan '!J679","v":"2003-11-19"},{"$f":"'shaladarpan '!K679","v":"no"},{"$f":"'shaladarpan '!L679","v":678},{"$f":"'shaladarpan '!M679","v":0},{"$f":"'shaladarpan '!N679","v":0},{"$f":"'shaladarpan '!O679","v":"GEN"},{"$f":"'shaladarpan '!P679","v":"Hindu"},{"$f":"'shaladarpan '!Q679","v":0},{"$f":"'shaladarpan '!R679","v":"GOVT. SENIOR SECONDARY SCHOOL ALNIYAWAS (219445)"},{"$f":"'shaladarpan '!S679","v":8140200308},{"$f":"'shaladarpan '!T679","v":"XXXX1018"},{"$f":"'shaladarpan '!U679","v":0},{"$f":"'shaladarpan '!V679","v":9828121374},{"$f":"'shaladarpan '!W679","v":"alniyawas678"},{"$f":"'shaladarpan '!X679","v":0},{"$f":"'shaladarpan '!Y679","v":"N"},{"$f":"'shaladarpan '!Z679","v":"N"},{"$f":"'shaladarpan '!AA679","v":"No"},{"$f":"'shaladarpan '!AB679","v":17},{"$f":"'shaladarpan '!AC679","v":"None"},{"$f":"'shaladarpan '!AD679","v":1}]
[{"$f":"IF(F681=\" \",\" \",ROWS($A$3:A681))","v":679},{"$f":"'shaladarpan '!A680","v":12},{"$f":"'shaladarpan '!B680","v":"A"},{"$f":"'shaladarpan '!C680","v":4342},{"$f":"'shaladarpan '!D680","v":"2017-07-06"},{"$f":"'shaladarpan '!E680","v":"manjeet679"},{"$f":"'shaladarpan '!F680","v":"00:00:00"},{"$f":"'shaladarpan '!G680","v":"vijay679"},{"$f":"'shaladarpan '!H680","v":"beautiful679"},{"$f":"'shaladarpan '!I680","v":"F"},{"$f":"'shaladarpan '!J680","v":"2005-02-25"},{"$f":"'shaladarpan '!K680","v":"yes"},{"$f":"'shaladarpan '!L680","v":679},{"$f":"'shaladarpan '!M680","v":0},{"$f":"'shaladarpan '!N680","v":0},{"$f":"'shaladarpan '!O680","v":"OBC"},{"$f":"'shaladarpan '!P680","v":"Hindu"},{"$f":"'shaladarpan '!Q680","v":0},{"$f":"'shaladarpan '!R680","v":"GOVT. SENIOR SECONDARY SCHOOL ALNIYAWAS (219445)"},{"$f":"'shaladarpan '!S680","v":8140200308},{"$f":"'shaladarpan '!T680","v":"XXXX4594"},{"$f":"'shaladarpan '!U680","v":0},{"$f":"'shaladarpan '!V680","v":9828121375},{"$f":"'shaladarpan '!W680","v":"alniyawas679"},{"$f":"'shaladarpan '!X680","v":0},{"$f":"'shaladarpan '!Y680","v":"N"},{"$f":"'shaladarpan '!Z680","v":"N"},{"$f":"'shaladarpan '!AA680","v":"No"},{"$f":"'shaladarpan '!AB680","v":15},{"$f":"'shaladarpan '!AC680","v":"None"},{"$f":"'shaladarpan '!AD680","v":1}]
[{"$f":"IF(F682=\" \",\" \",ROWS($A$3:A682))","v":680},{"$f":"'shaladarpan '!A681","v":12},{"$f":"'shaladarpan '!B681","v":"A"},{"$f":"'shaladarpan '!C681","v":4296},{"$f":"'shaladarpan '!D681","v":"2017-06-30"},{"$f":"'shaladarpan '!E681","v":"manjeet680"},{"$f":"'shaladarpan '!F681","v":"00:00:00"},{"$f":"'shaladarpan '!G681","v":"vijay680"},{"$f":"'shaladarpan '!H681","v":"beautiful680"},{"$f":"'shaladarpan '!I681","v":"F"},{"$f":"'shaladarpan '!J681","v":"2004-07-01"},{"$f":"'shaladarpan '!K681","v":"yes"},{"$f":"'shaladarpan '!L681","v":680},{"$f":"'shaladarpan '!M681","v":0},{"$f":"'shaladarpan '!N681","v":0},{"$f":"'shaladarpan '!O681","v":"OBC"},{"$f":"'shaladarpan '!P681","v":"Hindu"},{"$f":"'shaladarpan '!Q681","v":0},{"$f":"'shaladarpan '!R681","v":"GOVT. SENIOR SECONDARY SCHOOL ALNIYAWAS (219445)"},{"$f":"'shaladarpan '!S681","v":8140200308},{"$f":"'shaladarpan '!T681","v":"XXXX4744"},{"$f":"'shaladarpan '!U681","v":"WXBKZGR"},{"$f":"'shaladarpan '!V681","v":9828121376},{"$f":"'shaladarpan '!W681","v":"alniyawas680"},{"$f":"'shaladarpan '!X681","v":60000},{"$f":"'shaladarpan '!Y681","v":"N"},{"$f":"'shaladarpan '!Z681","v":"N"},{"$f":"'shaladarpan '!AA681","v":"No"},{"$f":"'shaladarpan '!AB681","v":16},{"$f":"'shaladarpan '!AC681","v":"None"},{"$f":"'shaladarpan '!AD681","v":1}]
[{"$f":"IF(F683=\" \",\" \",ROWS($A$3:A683))","v":681},{"$f":"'shaladarpan '!A682","v":12},{"$f":"'shaladarpan '!B682","v":"A"},{"$f":"'shaladarpan '!C682","v":3567},{"$f":"'shaladarpan '!D682","v":"2014-05-13"},{"$f":"'shaladarpan '!E682","v":"manjeet681"},{"$f":"'shaladarpan '!F682","v":"00:00:00"},{"$f":"'shaladarpan '!G682","v":"vijay681"},{"$f":"'shaladarpan '!H682","v":"beautiful681"},{"$f":"'shaladarpan '!I682","v":"F"},{"$f":"'shaladarpan '!J682","v":"2004-05-01"},{"$f":"'shaladarpan '!K682","v":"no"},{"$f":"'shaladarpan '!L682","v":681},{"$f":"'shaladarpan '!M682","v":0},{"$f":"'shaladarpan '!N682","v":0},{"$f":"'shaladarpan '!O682","v":"OBC"},{"$f":"'shaladarpan '!P682","v":"Muslim"},{"$f":"'shaladarpan '!Q682","v":0},{"$f":"'shaladarpan '!R682","v":"GOVT. SENIOR SECONDARY SCHOOL ALNIYAWAS (219445)"},{"$f":"'shaladarpan '!S682","v":8140200308},{"$f":"'shaladarpan '!T682","v":"XXXX2820"},{"$f":"'shaladarpan '!U682","v":0},{"$f":"'shaladarpan '!V682","v":9828121377},{"$f":"'shaladarpan '!W682","v":"alniyawas681"},{"$f":"'shaladarpan '!X682","v":0},{"$f":"'shaladarpan '!Y682","v":"N"},{"$f":"'shaladarpan '!Z682","v":"N"},{"$f":"'shaladarpan '!AA682","v":"Yes"},{"$f":"'shaladarpan '!AB682","v":16},{"$f":"'shaladarpan '!AC682","v":"None"},{"$f":"'shaladarpan '!AD682","v":1}]
[{"$f":"IF(F684=\" \",\" \",ROWS($A$3:A684))","v":682},{"$f":"'shaladarpan '!A683","v":12},{"$f":"'shaladarpan '!B683","v":"A"},{"$f":"'shaladarpan '!C683","v":3432},{"$f":"'shaladarpan '!D683","v":"2013-05-06"},{"$f":"'shaladarpan '!E683","v":"manjeet682"},{"$f":"'shaladarpan '!F683","v":"00:00:00"},{"$f":"'shaladarpan '!G683","v":"vijay682"},{"$f":"'shaladarpan '!H683","v":"beautiful682"},{"$f":"'shaladarpan '!I683","v":"M"},{"$f":"'shaladarpan '!J683","v":"2001-12-10"},{"$f":"'shaladarpan '!K683","v":"yes"},{"$f":"'shaladarpan '!L683","v":682},{"$f":"'shaladarpan '!M683","v":0},{"$f":"'shaladarpan '!N683","v":0},{"$f":"'shaladarpan '!O683","v":"OBC"},{"$f":"'shaladarpan '!P683","v":"Hindu"},{"$f":"'shaladarpan '!Q683","v":0},{"$f":"'shaladarpan '!R683","v":"GOVT. SENIOR SECONDARY SCHOOL ALNIYAWAS (219445)"},{"$f":"'shaladarpan '!S683","v":8140200308},{"$f":"'shaladarpan '!T683","v":"XXXX8347"},{"$f":"'shaladarpan '!U683","v":0},{"$f":"'shaladarpan '!V683","v":9828121378},{"$f":"'shaladarpan '!W683","v":"alniyawas682"},{"$f":"'shaladarpan '!X683","v":0},{"$f":"'shaladarpan '!Y683","v":"N"},{"$f":"'shaladarpan '!Z683","v":"N"},{"$f":"'shaladarpan '!AA683","v":"No"},{"$f":"'shaladarpan '!AB683","v":19},{"$f":"'shaladarpan '!AC683","v":"None"},{"$f":"'shaladarpan '!AD683","v":1}]
[{"$f":"IF(F685=\" \",\" \",ROWS($A$3:A685))","v":683},{"$f":"'shaladarpan '!A684","v":12},{"$f":"'shaladarpan '!B684","v":"A"},{"$f":"'shaladarpan '!C684","v":4763},{"$f":"'shaladarpan '!D684","v":"2019-07-23"},{"$f":"'shaladarpan '!E684","v":"manjeet683"},{"$f":"'shaladarpan '!F684","v":"00:00:00"},{"$f":"'shaladarpan '!G684","v":"vijay683"},{"$f":"'shaladarpan '!H684","v":"beautiful683"},{"$f":"'shaladarpan '!I684","v":"F"},{"$f":"'shaladarpan '!J684","v":"2003-07-02"},{"$f":"'shaladarpan '!K684","v":"yes"},{"$f":"'shaladarpan '!L684","v":683},{"$f":"'shaladarpan '!M684","v":0},{"$f":"'shaladarpan '!N684","v":0},{"$f":"'shaladarpan '!O684","v":"OBC"},{"$f":"'shaladarpan '!P684","v":"Hindu"},{"$f":"'shaladarpan '!Q684","v":0},{"$f":"'shaladarpan '!R684","v":"GOVT. SENIOR SECONDARY SCHOOL ALNIYAWAS (219445)"},{"$f":"'shaladarpan '!S684","v":8140200308},{"$f":"'shaladarpan '!T684","v":"XXXX3665"},{"$f":"'shaladarpan '!U684","v":"YQQOSWO"},{"$f":"'shaladarpan '!V684","v":9828121379},{"$f":"'shaladarpan '!W684","v":"alniyawas683"},{"$f":"'shaladarpan '!X684","v":60000},{"$f":"'shaladarpan '!Y684","v":"N"},{"$f":"'shaladarpan '!Z684","v":"N"},{"$f":"'shaladarpan '!AA684","v":"No"},{"$f":"'shaladarpan '!AB684","v":17},{"$f":"'shaladarpan '!AC684","v":"None"},{"$f":"'shaladarpan '!AD684","v":1}]
[{"$f":"IF(F686=\" \",\" \",ROWS($A$3:A686))","v":684},{"$f":"'shaladarpan '!A685","v":12},{"$f":"'shaladarpan '!B685","v":"A"},{"$f":"'shaladarpan '!C685","v":4408},{"$f":"'shaladarpan '!D685","v":"2017-07-14"},{"$f":"'shaladarpan '!E685","v":"manjeet684"},{"$f":"'shaladarpan '!F685","v":"00:00:00"},{"$f":"'shaladarpan '!G685","v":"vijay684"},{"$f":"'shaladarpan '!H685","v":"beautiful684"},{"$f":"'shaladarpan '!I685","v":"F"},{"$f":"'shaladarpan '!J685","v":"2004-08-06"},{"$f":"'shaladarpan '!K685","v":"no"},{"$f":"'shaladarpan '!L685","v":684},{"$f":"'shaladarpan '!M685","v":0},{"$f":"'shaladarpan '!N685","v":0},{"$f":"'shaladarpan '!O685","v":"OBC"},{"$f":"'shaladarpan '!P685","v":"Hindu"},{"$f":"'shaladarpan '!Q685","v":0},{"$f":"'shaladarpan '!R685","v":"GOVT. SENIOR SECONDARY SCHOOL ALNIYAWAS (219445)"},{"$f":"'shaladarpan '!S685","v":8140200308},{"$f":"'shaladarpan '!T685","v":"XXXX0245"},{"$f":"'shaladarpan '!U685","v":0},{"$f":"'shaladarpan '!V685","v":9828121380},{"$f":"'shaladarpan '!W685","v":"alniyawas684"},{"$f":"'shaladarpan '!X685","v":0},{"$f":"'shaladarpan '!Y685","v":"N"},{"$f":"'shaladarpan '!Z685","v":"N"},{"$f":"'shaladarpan '!AA685","v":"No"},{"$f":"'shaladarpan '!AB685","v":16},{"$f":"'shaladarpan '!AC685","v":"None"},{"$f":"'shaladarpan '!AD685","v":1}]
[{"$f":"IF(F687=\" \",\" \",ROWS($A$3:A687))","v":685},{"$f":"'shaladarpan '!A686","v":12},{"$f":"'shaladarpan '!B686","v":"A"},{"$f":"'shaladarpan '!C686","v":3571},{"$f":"'shaladarpan '!D686","v":"2014-05-13"},{"$f":"'shaladarpan '!E686","v":"manjeet685"},{"$f":"'shaladarpan '!F686","v":"00:00:00"},{"$f":"'shaladarpan '!G686","v":"vijay685"},{"$f":"'shaladarpan '!H686","v":"beautiful685"},{"$f":"'shaladarpan '!I686","v":"F"},{"$f":"'shaladarpan '!J686","v":"2003-02-26"},{"$f":"'shaladarpan '!K686","v":"yes"},{"$f":"'shaladarpan '!L686","v":685},{"$f":"'shaladarpan '!M686","v":0},{"$f":"'shaladarpan '!N686","v":0},{"$f":"'shaladarpan '!O686","v":"SC"},{"$f":"'shaladarpan '!P686","v":"Hindu"},{"$f":"'shaladarpan '!Q686","v":0},{"$f":"'shaladarpan '!R686","v":"GOVT. SENIOR SECONDARY SCHOOL ALNIYAWAS (219445)"},{"$f":"'shaladarpan '!S686","v":8140200308},{"$f":"'shaladarpan '!T686","v":"XXXX2217"},{"$f":"'shaladarpan '!U686","v":"YWKYMKG"},{"$f":"'shaladarpan '!V686","v":9828121381},{"$f":"'shaladarpan '!W686","v":"alniyawas685"},{"$f":"'shaladarpan '!X686","v":60000},{"$f":"'shaladarpan '!Y686","v":"N"},{"$f":"'shaladarpan '!Z686","v":"N"},{"$f":"'shaladarpan '!AA686","v":"No"},{"$f":"'shaladarpan '!AB686","v":17},{"$f":"'shaladarpan '!AC686","v":"None"},{"$f":"'shaladarpan '!AD686","v":1}]
[{"$f":"IF(F688=\" \",\" \",ROWS($A$3:A688))","v":686},{"$f":"'shaladarpan '!A687","v":12},{"$f":"'shaladarpan '!B687","v":"A"},{"$f":"'shaladarpan '!C687","v":4392},{"$f":"'shaladarpan '!D687","v":"2017-07-14"},{"$f":"'shaladarpan '!E687","v":"manjeet686"},{"$f":"'shaladarpan '!F687","v":"00:00:00"},{"$f":"'shaladarpan '!G687","v":"vijay686"},{"$f":"'shaladarpan '!H687","v":"beautiful686"},{"$f":"'shaladarpan '!I687","v":"M"},{"$f":"'shaladarpan '!J687","v":"2002-10-04"},{"$f":"'shaladarpan '!K687","v":"yes"},{"$f":"'shaladarpan '!L687","v":686},{"$f":"'shaladarpan '!M687","v":0},{"$f":"'shaladarpan '!N687","v":0},{"$f":"'shaladarpan '!O687","v":"SC"},{"$f":"'shaladarpan '!P687","v":"Hindu"},{"$f":"'shaladarpan '!Q687","v":0},{"$f":"'shaladarpan '!R687","v":"GOVT. SENIOR SECONDARY SCHOOL ALNIYAWAS (219445)"},{"$f":"'shaladarpan '!S687","v":8140200308},{"$f":"'shaladarpan '!T687","v":"XXXX5813"},{"$f":"'shaladarpan '!U687","v":0},{"$f":"'shaladarpan '!V687","v":9828121382},{"$f":"'shaladarpan '!W687","v":"alniyawas686"},{"$f":"'shaladarpan '!X687","v":0},{"$f":"'shaladarpan '!Y687","v":"N"},{"$f":"'shaladarpan '!Z687","v":"N"},{"$f":"'shaladarpan '!AA687","v":"No"},{"$f":"'shaladarpan '!AB687","v":18},{"$f":"'shaladarpan '!AC687","v":"None"},{"$f":"'shaladarpan '!AD687","v":1}]
[{"$f":"IF(F689=\" \",\" \",ROWS($A$3:A689))","v":687},{"$f":"'shaladarpan '!A688","v":12},{"$f":"'shaladarpan '!B688","v":"A"},{"$f":"'shaladarpan '!C688","v":4264},{"$f":"'shaladarpan '!D688","v":"1900-05-27"},{"$f":"'shaladarpan '!E688","v":"manjeet687"},{"$f":"'shaladarpan '!F688","v":"00:00:00"},{"$f":"'shaladarpan '!G688","v":"vijay687"},{"$f":"'shaladarpan '!H688","v":"beautiful687"},{"$f":"'shaladarpan '!I688","v":"F"},{"$f":"'shaladarpan '!J688","v":"2003-02-10"},{"$f":"'shaladarpan '!K688","v":"no"},{"$f":"'shaladarpan '!L688","v":687},{"$f":"'shaladarpan '!M688","v":0},{"$f":"'shaladarpan '!N688","v":0},{"$f":"'shaladarpan '!O688","v":"OBC"},{"$f":"'shaladarpan '!P688","v":"Hindu"},{"$f":"'shaladarpan '!Q688","v":0},{"$f":"'shaladarpan '!R688","v":"GOVT. SENIOR SECONDARY SCHOOL ALNIYAWAS (219445)"},{"$f":"'shaladarpan '!S688","v":8140200308},{"$f":"'shaladarpan '!T688","v":"XXXX9901"},{"$f":"'shaladarpan '!U688","v":"VWSPONX"},{"$f":"'shaladarpan '!V688","v":9828121383},{"$f":"'shaladarpan '!W688","v":"alniyawas687"},{"$f":"'shaladarpan '!X688","v":60000},{"$f":"'shaladarpan '!Y688","v":"N"},{"$f":"'shaladarpan '!Z688","v":"N"},{"$f":"'shaladarpan '!AA688","v":"No"},{"$f":"'shaladarpan '!AB688","v":17},{"$f":"'shaladarpan '!AC688","v":"None"},{"$f":"'shaladarpan '!AD688","v":1}]
[{"$f":"IF(F690=\" \",\" \",ROWS($A$3:A690))","v":688},{"$f":"'shaladarpan '!A689","v":12},{"$f":"'shaladarpan '!B689","v":"A"},{"$f":"'shaladarpan '!C689","v":4391},{"$f":"'shaladarpan '!D689","v":"2017-07-14"},{"$f":"'shaladarpan '!E689","v":"manjeet688"},{"$f":"'shaladarpan '!F689","v":"00:00:00"},{"$f":"'shaladarpan '!G689","v":"vijay688"},{"$f":"'shaladarpan '!H689","v":"beautiful688"},{"$f":"'shaladarpan '!I689","v":"M"},{"$f":"'shaladarpan '!J689","v":"2005-11-28"},{"$f":"'shaladarpan '!K689","v":"yes"},{"$f":"'shaladarpan '!L689","v":688},{"$f":"'shaladarpan '!M689","v":0},{"$f":"'shaladarpan '!N689","v":0},{"$f":"'shaladarpan '!O689","v":"SC"},{"$f":"'shaladarpan '!P689","v":"Hindu"},{"$f":"'shaladarpan '!Q689","v":0},{"$f":"'shaladarpan '!R689","v":"GOVT. SENIOR SECONDARY SCHOOL ALNIYAWAS (219445)"},{"$f":"'shaladarpan '!S689","v":8140200308},{"$f":"'shaladarpan '!T689","v":"XXXX2315"},{"$f":"'shaladarpan '!U689","v":"YKKSIGK"},{"$f":"'shaladarpan '!V689","v":9828121384},{"$f":"'shaladarpan '!W689","v":"alniyawas688"},{"$f":"'shaladarpan '!X689","v":30000},{"$f":"'shaladarpan '!Y689","v":"N"},{"$f":"'shaladarpan '!Z689","v":"N"},{"$f":"'shaladarpan '!AA689","v":"No"},{"$f":"'shaladarpan '!AB689","v":15},{"$f":"'shaladarpan '!AC689","v":"None"},{"$f":"'shaladarpan '!AD689","v":1}]
[{"$f":"IF(F691=\" \",\" \",ROWS($A$3:A691))","v":689},{"$f":"'shaladarpan '!A690","v":12},{"$f":"'shaladarpan '!B690","v":"A"},{"$f":"'shaladarpan '!C690","v":3624},{"$f":"'shaladarpan '!D690","v":"2014-07-05"},{"$f":"'shaladarpan '!E690","v":"manjeet689"},{"$f":"'shaladarpan '!F690","v":"00:00:00"},{"$f":"'shaladarpan '!G690","v":"vijay689"},{"$f":"'shaladarpan '!H690","v":"beautiful689"},{"$f":"'shaladarpan '!I690","v":"M"},{"$f":"'shaladarpan '!J690","v":"2003-05-02"},{"$f":"'shaladarpan '!K690","v":"yes"},{"$f":"'shaladarpan '!L690","v":689},{"$f":"'shaladarpan '!M690","v":0},{"$f":"'shaladarpan '!N690","v":0},{"$f":"'shaladarpan '!O690","v":"OBC"},{"$f":"'shaladarpan '!P690","v":"Hindu"},{"$f":"'shaladarpan '!Q690","v":0},{"$f":"'shaladarpan '!R690","v":"GOVT. SENIOR SECONDARY SCHOOL ALNIYAWAS (219445)"},{"$f":"'shaladarpan '!S690","v":8140200308},{"$f":"'shaladarpan '!T690","v":"XXXX1050"},{"$f":"'shaladarpan '!U690","v":0},{"$f":"'shaladarpan '!V690","v":9828121385},{"$f":"'shaladarpan '!W690","v":"alniyawas689"},{"$f":"'shaladarpan '!X690","v":0},{"$f":"'shaladarpan '!Y690","v":"N"},{"$f":"'shaladarpan '!Z690","v":"N"},{"$f":"'shaladarpan '!AA690","v":"No"},{"$f":"'shaladarpan '!AB690","v":17},{"$f":"'shaladarpan '!AC690","v":"None"},{"$f":"'shaladarpan '!AD690","v":2}]
[{"$f":"IF(F692=\" \",\" \",ROWS($A$3:A692))","v":690},{"$f":"'shaladarpan '!A691","v":12},{"$f":"'shaladarpan '!B691","v":"A"},{"$f":"'shaladarpan '!C691","v":3578},{"$f":"'shaladarpan '!D691","v":"2014-05-22"},{"$f":"'shaladarpan '!E691","v":"manjeet690"},{"$f":"'shaladarpan '!F691","v":"00:00:00"},{"$f":"'shaladarpan '!G691","v":"vijay690"},{"$f":"'shaladarpan '!H691","v":"beautiful690"},{"$f":"'shaladarpan '!I691","v":"M"},{"$f":"'shaladarpan '!J691","v":"2004-02-07"},{"$f":"'shaladarpan '!K691","v":"no"},{"$f":"'shaladarpan '!L691","v":690},{"$f":"'shaladarpan '!M691","v":0},{"$f":"'shaladarpan '!N691","v":0},{"$f":"'shaladarpan '!O691","v":"OBC"},{"$f":"'shaladarpan '!P691","v":"Hindu"},{"$f":"'shaladarpan '!Q691","v":0},{"$f":"'shaladarpan '!R691","v":"GOVT. SENIOR SECONDARY SCHOOL ALNIYAWAS (219445)"},{"$f":"'shaladarpan '!S691","v":8140200308},{"$f":"'shaladarpan '!T691","v":"XXXX4855"},{"$f":"'shaladarpan '!U691","v":0},{"$f":"'shaladarpan '!V691","v":9828121386},{"$f":"'shaladarpan '!W691","v":"alniyawas690"},{"$f":"'shaladarpan '!X691","v":0},{"$f":"'shaladarpan '!Y691","v":"N"},{"$f":"'shaladarpan '!Z691","v":"N"},{"$f":"'shaladarpan '!AA691","v":"No"},{"$f":"'shaladarpan '!AB691","v":16},{"$f":"'shaladarpan '!AC691","v":"None"},{"$f":"'shaladarpan '!AD691","v":1}]
[{"$f":"IF(F693=\" \",\" \",ROWS($A$3:A693))","v":691},{"$f":"'shaladarpan '!A692","v":12},{"$f":"'shaladarpan '!B692","v":"A"},{"$f":"'shaladarpan '!C692","v":4082},{"$f":"'shaladarpan '!D692","v":"2015-08-01"},{"$f":"'shaladarpan '!E692","v":"manjeet691"},{"$f":"'shaladarpan '!F692","v":"00:00:00"},{"$f":"'shaladarpan '!G692","v":"vijay691"},{"$f":"'shaladarpan '!H692","v":"beautiful691"},{"$f":"'shaladarpan '!I692","v":"M"},{"$f":"'shaladarpan '!J692","v":"2003-07-20"},{"$f":"'shaladarpan '!K692","v":"yes"},{"$f":"'shaladarpan '!L692","v":691},{"$f":"'shaladarpan '!M692","v":0},{"$f":"'shaladarpan '!N692","v":0},{"$f":"'shaladarpan '!O692","v":"GEN"},{"$f":"'shaladarpan '!P692","v":"Hindu"},{"$f":"'shaladarpan '!Q692","v":0},{"$f":"'shaladarpan '!R692","v":"GOVT. SENIOR SECONDARY SCHOOL ALNIYAWAS (219445)"},{"$f":"'shaladarpan '!S692","v":8140200308},{"$f":"'shaladarpan '!T692","v":"XXXX6216"},{"$f":"'shaladarpan '!U692","v":0},{"$f":"'shaladarpan '!V692","v":9828121387},{"$f":"'shaladarpan '!W692","v":"alniyawas691"},{"$f":"'shaladarpan '!X692","v":0},{"$f":"'shaladarpan '!Y692","v":"N"},{"$f":"'shaladarpan '!Z692","v":"N"},{"$f":"'shaladarpan '!AA692","v":"No"},{"$f":"'shaladarpan '!AB692","v":17},{"$f":"'shaladarpan '!AC692","v":"None"},{"$f":"'shaladarpan '!AD692","v":5}]
[{"$f":"IF(F694=\" \",\" \",ROWS($A$3:A694))","v":692},{"$f":"'shaladarpan '!A693","v":12},{"$f":"'shaladarpan '!B693","v":"A"},{"$f":"'shaladarpan '!C693","v":4344},{"$f":"'shaladarpan '!D693","v":"2017-07-06"},{"$f":"'shaladarpan '!E693","v":"manjeet692"},{"$f":"'shaladarpan '!F693","v":"00:00:00"},{"$f":"'shaladarpan '!G693","v":"vijay692"},{"$f":"'shaladarpan '!H693","v":"beautiful692"},{"$f":"'shaladarpan '!I693","v":"F"},{"$f":"'shaladarpan '!J693","v":"2004-02-05"},{"$f":"'shaladarpan '!K693","v":"yes"},{"$f":"'shaladarpan '!L693","v":692},{"$f":"'shaladarpan '!M693","v":0},{"$f":"'shaladarpan '!N693","v":0},{"$f":"'shaladarpan '!O693","v":"OBC"},{"$f":"'shaladarpan '!P693","v":"Hindu"},{"$f":"'shaladarpan '!Q693","v":0},{"$f":"'shaladarpan '!R693","v":"GOVT. SENIOR SECONDARY SCHOOL ALNIYAWAS (219445)"},{"$f":"'shaladarpan '!S693","v":8140200308},{"$f":"'shaladarpan '!T693","v":"XXXX5565"},{"$f":"'shaladarpan '!U693","v":0},{"$f":"'shaladarpan '!V693","v":9828121388},{"$f":"'shaladarpan '!W693","v":"alniyawas692"},{"$f":"'shaladarpan '!X693","v":0},{"$f":"'shaladarpan '!Y693","v":"N"},{"$f":"'shaladarpan '!Z693","v":"N"},{"$f":"'shaladarpan '!AA693","v":"No"},{"$f":"'shaladarpan '!AB693","v":16},{"$f":"'shaladarpan '!AC693","v":"None"},{"$f":"'shaladarpan '!AD693","v":1}]
[{"$f":"IF(F695=\" \",\" \",ROWS($A$3:A695))","v":693},{"$f":"'shaladarpan '!A694","v":12},{"$f":"'shaladarpan '!B694","v":"A"},{"$f":"'shaladarpan '!C694","v":4269},{"$f":"'shaladarpan '!D694","v":"2017-06-27"},{"$f":"'shaladarpan '!E694","v":"manjeet693"},{"$f":"'shaladarpan '!F694","v":"00:00:00"},{"$f":"'shaladarpan '!G694","v":"vijay693"},{"$f":"'shaladarpan '!H694","v":"beautiful693"},{"$f":"'shaladarpan '!I694","v":"F"},{"$f":"'shaladarpan '!J694","v":"2001-12-10"},{"$f":"'shaladarpan '!K694","v":"no"},{"$f":"'shaladarpan '!L694","v":693},{"$f":"'shaladarpan '!M694","v":0},{"$f":"'shaladarpan '!N694","v":0},{"$f":"'shaladarpan '!O694","v":"GEN"},{"$f":"'shaladarpan '!P694","v":"Hindu"},{"$f":"'shaladarpan '!Q694","v":0},{"$f":"'shaladarpan '!R694","v":"GOVT. SENIOR SECONDARY SCHOOL ALNIYAWAS (219445)"},{"$f":"'shaladarpan '!S694","v":8140200308},{"$f":"'shaladarpan '!T694","v":"XXXX3288"},{"$f":"'shaladarpan '!U694","v":0},{"$f":"'shaladarpan '!V694","v":9828121389},{"$f":"'shaladarpan '!W694","v":"alniyawas693"},{"$f":"'shaladarpan '!X694","v":40000},{"$f":"'shaladarpan '!Y694","v":"N"},{"$f":"'shaladarpan '!Z694","v":"N"},{"$f":"'shaladarpan '!AA694","v":"No"},{"$f":"'shaladarpan '!AB694","v":19},{"$f":"'shaladarpan '!AC694","v":"None"},{"$f":"'shaladarpan '!AD694","v":1}]
[{"$f":"IF(F696=\" \",\" \",ROWS($A$3:A696))","v":694},{"$f":"'shaladarpan '!A695","v":12},{"$f":"'shaladarpan '!B695","v":"A"},{"$f":"'shaladarpan '!C695","v":4265},{"$f":"'shaladarpan '!D695","v":"1900-05-27"},{"$f":"'shaladarpan '!E695","v":"manjeet694"},{"$f":"'shaladarpan '!F695","v":"00:00:00"},{"$f":"'shaladarpan '!G695","v":"vijay694"},{"$f":"'shaladarpan '!H695","v":"beautiful694"},{"$f":"'shaladarpan '!I695","v":"F"},{"$f":"'shaladarpan '!J695","v":"2001-05-01"},{"$f":"'shaladarpan '!K695","v":"yes"},{"$f":"'shaladarpan '!L695","v":694},{"$f":"'shaladarpan '!M695","v":0},{"$f":"'shaladarpan '!N695","v":0},{"$f":"'shaladarpan '!O695","v":"OBC"},{"$f":"'shaladarpan '!P695","v":"Hindu"},{"$f":"'shaladarpan '!Q695","v":0},{"$f":"'shaladarpan '!R695","v":"GOVT. SENIOR SECONDARY SCHOOL ALNIYAWAS (219445)"},{"$f":"'shaladarpan '!S695","v":8140200308},{"$f":"'shaladarpan '!T695","v":"XXXX7224"},{"$f":"'shaladarpan '!U695","v":0},{"$f":"'shaladarpan '!V695","v":9828121390},{"$f":"'shaladarpan '!W695","v":"alniyawas694"},{"$f":"'shaladarpan '!X695","v":0},{"$f":"'shaladarpan '!Y695","v":"N"},{"$f":"'shaladarpan '!Z695","v":"N"},{"$f":"'shaladarpan '!AA695","v":"No"},{"$f":"'shaladarpan '!AB695","v":19},{"$f":"'shaladarpan '!AC695","v":"None"},{"$f":"'shaladarpan '!AD695","v":1}]
[{"$f":"IF(F697=\" \",\" \",ROWS($A$3:A697))","v":695},{"$f":"'shaladarpan '!A696","v":12},{"$f":"'shaladarpan '!B696","v":"A"},{"$f":"'shaladarpan '!C696","v":4287},{"$f":"'shaladarpan '!D696","v":"2017-06-29"},{"$f":"'shaladarpan '!E696","v":"manjeet695"},{"$f":"'shaladarpan '!F696","v":"00:00:00"},{"$f":"'shaladarpan '!G696","v":"vijay695"},{"$f":"'shaladarpan '!H696","v":"beautiful695"},{"$f":"'shaladarpan '!I696","v":"M"},{"$f":"'shaladarpan '!J696","v":"2003-08-07"},{"$f":"'shaladarpan '!K696","v":"yes"},{"$f":"'shaladarpan '!L696","v":695},{"$f":"'shaladarpan '!M696","v":0},{"$f":"'shaladarpan '!N696","v":0},{"$f":"'shaladarpan '!O696","v":"OBC"},{"$f":"'shaladarpan '!P696","v":"Hindu"},{"$f":"'shaladarpan '!Q696","v":0},{"$f":"'shaladarpan '!R696","v":"GOVT. SENIOR SECONDARY SCHOOL ALNIYAWAS (219445)"},{"$f":"'shaladarpan '!S696","v":8140200308},{"$f":"'shaladarpan '!T696","v":"XXXX4936"},{"$f":"'shaladarpan '!U696","v":0},{"$f":"'shaladarpan '!V696","v":9828121391},{"$f":"'shaladarpan '!W696","v":"alniyawas695"},{"$f":"'shaladarpan '!X696","v":0},{"$f":"'shaladarpan '!Y696","v":"N"},{"$f":"'shaladarpan '!Z696","v":"N"},{"$f":"'shaladarpan '!AA696","v":"No"},{"$f":"'shaladarpan '!AB696","v":17},{"$f":"'shaladarpan '!AC696","v":"None"},{"$f":"'shaladarpan '!AD696","v":1}]
[{"$f":"IF(F698=\" \",\" \",ROWS($A$3:A698))","v":696},{"$f":"'shaladarpan '!A697","v":12},{"$f":"'shaladarpan '!B697","v":"A"},{"$f":"'shaladarpan '!C697","v":4289},{"$f":"'shaladarpan '!D697","v":"2017-06-29"},{"$f":"'shaladarpan '!E697","v":"manjeet696"},{"$f":"'shaladarpan '!F697","v":"00:00:00"},{"$f":"'shaladarpan '!G697","v":"vijay696"},{"$f":"'shaladarpan '!H697","v":"beautiful696"},{"$f":"'shaladarpan '!I697","v":"M"},{"$f":"'shaladarpan '!J697","v":"2005-08-08"},{"$f":"'shaladarpan '!K697","v":"no"},{"$f":"'shaladarpan '!L697","v":696},{"$f":"'shaladarpan '!M697","v":0},{"$f":"'shaladarpan '!N697","v":0},{"$f":"'shaladarpan '!O697","v":"OBC"},{"$f":"'shaladarpan '!P697","v":"Muslim"},{"$f":"'shaladarpan '!Q697","v":0},{"$f":"'shaladarpan '!R697","v":"GOVT. SENIOR SECONDARY SCHOOL ALNIYAWAS (219445)"},{"$f":"'shaladarpan '!S697","v":8140200308},{"$f":"'shaladarpan '!T697","v":"XXXX3580"},{"$f":"'shaladarpan '!U697","v":"WDYCBYO"},{"$f":"'shaladarpan '!V697","v":9828121392},{"$f":"'shaladarpan '!W697","v":"alniyawas696"},{"$f":"'shaladarpan '!X697","v":30000},{"$f":"'shaladarpan '!Y697","v":"N"},{"$f":"'shaladarpan '!Z697","v":"N"},{"$f":"'shaladarpan '!AA697","v":"Yes"},{"$f":"'shaladarpan '!AB697","v":15},{"$f":"'shaladarpan '!AC697","v":"None"},{"$f":"'shaladarpan '!AD697","v":1}]
[{"$f":"IF(F699=\" \",\" \",ROWS($A$3:A699))","v":697},{"$f":"'shaladarpan '!A698","v":12},{"$f":"'shaladarpan '!B698","v":"A"},{"$f":"'shaladarpan '!C698","v":4396},{"$f":"'shaladarpan '!D698","v":"2017-07-14"},{"$f":"'shaladarpan '!E698","v":"manjeet697"},{"$f":"'shaladarpan '!F698","v":"00:00:00"},{"$f":"'shaladarpan '!G698","v":"vijay697"},{"$f":"'shaladarpan '!H698","v":"beautiful697"},{"$f":"'shaladarpan '!I698","v":"F"},{"$f":"'shaladarpan '!J698","v":"2002-10-15"},{"$f":"'shaladarpan '!K698","v":"yes"},{"$f":"'shaladarpan '!L698","v":697},{"$f":"'shaladarpan '!M698","v":0},{"$f":"'shaladarpan '!N698","v":0},{"$f":"'shaladarpan '!O698","v":"OBC"},{"$f":"'shaladarpan '!P698","v":"Muslim"},{"$f":"'shaladarpan '!Q698","v":0},{"$f":"'shaladarpan '!R698","v":"GOVT. SENIOR SECONDARY SCHOOL ALNIYAWAS (219445)"},{"$f":"'shaladarpan '!S698","v":8140200308},{"$f":"'shaladarpan '!T698","v":"XXXX6524"},{"$f":"'shaladarpan '!U698","v":0},{"$f":"'shaladarpan '!V698","v":9828121393},{"$f":"'shaladarpan '!W698","v":"alniyawas697"},{"$f":"'shaladarpan '!X698","v":0},{"$f":"'shaladarpan '!Y698","v":"N"},{"$f":"'shaladarpan '!Z698","v":"N"},{"$f":"'shaladarpan '!AA698","v":"Yes"},{"$f":"'shaladarpan '!AB698","v":18},{"$f":"'shaladarpan '!AC698","v":"None"},{"$f":"'shaladarpan '!AD698","v":1}]
[{"$f":"IF(F700=\" \",\" \",ROWS($A$3:A700))","v":698},{"$f":"'shaladarpan '!A699","v":12},{"$f":"'shaladarpan '!B699","v":"A"},{"$f":"'shaladarpan '!C699","v":4407},{"$f":"'shaladarpan '!D699","v":"2017-07-14"},{"$f":"'shaladarpan '!E699","v":"manjeet698"},{"$f":"'shaladarpan '!F699","v":"00:00:00"},{"$f":"'shaladarpan '!G699","v":"vijay698"},{"$f":"'shaladarpan '!H699","v":"beautiful698"},{"$f":"'shaladarpan '!I699","v":"M"},{"$f":"'shaladarpan '!J699","v":"2006-03-15"},{"$f":"'shaladarpan '!K699","v":"yes"},{"$f":"'shaladarpan '!L699","v":698},{"$f":"'shaladarpan '!M699","v":0},{"$f":"'shaladarpan '!N699","v":0},{"$f":"'shaladarpan '!O699","v":"OBC"},{"$f":"'shaladarpan '!P699","v":"Hindu"},{"$f":"'shaladarpan '!Q699","v":0},{"$f":"'shaladarpan '!R699","v":"GOVT. SENIOR SECONDARY SCHOOL ALNIYAWAS (219445)"},{"$f":"'shaladarpan '!S699","v":8140200308},{"$f":"'shaladarpan '!T699","v":"XXXX2818"},{"$f":"'shaladarpan '!U699","v":0},{"$f":"'shaladarpan '!V699","v":9828121394},{"$f":"'shaladarpan '!W699","v":"alniyawas698"},{"$f":"'shaladarpan '!X699","v":0},{"$f":"'shaladarpan '!Y699","v":"N"},{"$f":"'shaladarpan '!Z699","v":"N"},{"$f":"'shaladarpan '!AA699","v":"No"},{"$f":"'shaladarpan '!AB699","v":14},{"$f":"'shaladarpan '!AC699","v":"None"},{"$f":"'shaladarpan '!AD699","v":1}]
[{"$f":"IF(F701=\" \",\" \",ROWS($A$3:A701))","v":699},{"$f":"'shaladarpan '!A700","v":12},{"$f":"'shaladarpan '!B700","v":"A"},{"$f":"'shaladarpan '!C700","v":4547},{"$f":"'shaladarpan '!D700","v":"2018-07-10"},{"$f":"'shaladarpan '!E700","v":"manjeet699"},{"$f":"'shaladarpan '!F700","v":"00:00:00"},{"$f":"'shaladarpan '!G700","v":"vijay699"},{"$f":"'shaladarpan '!H700","v":"beautiful699"},{"$f":"'shaladarpan '!I700","v":"F"},{"$f":"'shaladarpan '!J700","v":"2004-04-18"},{"$f":"'shaladarpan '!K700","v":"no"},{"$f":"'shaladarpan '!L700","v":699},{"$f":"'shaladarpan '!M700","v":0},{"$f":"'shaladarpan '!N700","v":0},{"$f":"'shaladarpan '!O700","v":"OBC"},{"$f":"'shaladarpan '!P700","v":"Muslim"},{"$f":"'shaladarpan '!Q700","v":0},{"$f":"'shaladarpan '!R700","v":"GOVT. SENIOR SECONDARY SCHOOL ALNIYAWAS (219445)"},{"$f":"'shaladarpan '!S700","v":8140200308},{"$f":"'shaladarpan '!T700","v":"XXXX3684"},{"$f":"'shaladarpan '!U700","v":0},{"$f":"'shaladarpan '!V700","v":9828121395},{"$f":"'shaladarpan '!W700","v":"alniyawas699"},{"$f":"'shaladarpan '!X700","v":60000},{"$f":"'shaladarpan '!Y700","v":"N"},{"$f":"'shaladarpan '!Z700","v":"N"},{"$f":"'shaladarpan '!AA700","v":"Yes"},{"$f":"'shaladarpan '!AB700","v":16},{"$f":"'shaladarpan '!AC700","v":"None"},{"$f":"'shaladarpan '!AD700","v":1}]
[{"$f":"IF(F702=\" \",\" \",ROWS($A$3:A702))","v":700},{"$f":"'shaladarpan '!A701","v":12},{"$f":"'shaladarpan '!B701","v":"A"},{"$f":"'shaladarpan '!C701","v":4349},{"$f":"'shaladarpan '!D701","v":"2017-07-07"},{"$f":"'shaladarpan '!E701","v":"manjeet700"},{"$f":"'shaladarpan '!F701","v":"00:00:00"},{"$f":"'shaladarpan '!G701","v":"vijay700"},{"$f":"'shaladarpan '!H701","v":"beautiful700"},{"$f":"'shaladarpan '!I701","v":"F"},{"$f":"'shaladarpan '!J701","v":"2003-09-15"},{"$f":"'shaladarpan '!K701","v":"yes"},{"$f":"'shaladarpan '!L701","v":700},{"$f":"'shaladarpan '!M701","v":0},{"$f":"'shaladarpan '!N701","v":0},{"$f":"'shaladarpan '!O701","v":"OBC"},{"$f":"'shaladarpan '!P701","v":"Hindu"},{"$f":"'shaladarpan '!Q701","v":0},{"$f":"'shaladarpan '!R701","v":"GOVT. SENIOR SECONDARY SCHOOL ALNIYAWAS (219445)"},{"$f":"'shaladarpan '!S701","v":8140200308},{"$f":"'shaladarpan '!T701","v":"XXXX0385"},{"$f":"'shaladarpan '!U701","v":0},{"$f":"'shaladarpan '!V701","v":9828121396},{"$f":"'shaladarpan '!W701","v":"alniyawas700"},{"$f":"'shaladarpan '!X701","v":0},{"$f":"'shaladarpan '!Y701","v":"N"},{"$f":"'shaladarpan '!Z701","v":"N"},{"$f":"'shaladarpan '!AA701","v":"No"},{"$f":"'shaladarpan '!AB701","v":17},{"$f":"'shaladarpan '!AC701","v":"None"},{"$f":"'shaladarpan '!AD701","v":1}]
[{"$f":"IF(F703=\" \",\" \",ROWS($A$3:A703))","v":701},{"$f":"'shaladarpan '!A702","v":12},{"$f":"'shaladarpan '!B702","v":"A"},{"$f":"'shaladarpan '!C702","v":3590},{"$f":"'shaladarpan '!D702","v":"2014-07-03"},{"$f":"'shaladarpan '!E702","v":"manjeet701"},{"$f":"'shaladarpan '!F702","v":"00:00:00"},{"$f":"'shaladarpan '!G702","v":"vijay701"},{"$f":"'shaladarpan '!H702","v":"beautiful701"},{"$f":"'shaladarpan '!I702","v":"F"},{"$f":"'shaladarpan '!J702","v":"2004-01-01"},{"$f":"'shaladarpan '!K702","v":"yes"},{"$f":"'shaladarpan '!L702","v":701},{"$f":"'shaladarpan '!M702","v":0},{"$f":"'shaladarpan '!N702","v":0},{"$f":"'shaladarpan '!O702","v":"OBC"},{"$f":"'shaladarpan '!P702","v":"Muslim"},{"$f":"'shaladarpan '!Q702","v":0},{"$f":"'shaladarpan '!R702","v":"GOVT. SENIOR SECONDARY SCHOOL ALNIYAWAS (219445)"},{"$f":"'shaladarpan '!S702","v":8140200308},{"$f":"'shaladarpan '!T702","v":"XXXX5762"},{"$f":"'shaladarpan '!U702","v":0},{"$f":"'shaladarpan '!V702","v":9828121397},{"$f":"'shaladarpan '!W702","v":"alniyawas701"},{"$f":"'shaladarpan '!X702","v":0},{"$f":"'shaladarpan '!Y702","v":"N"},{"$f":"'shaladarpan '!Z702","v":"N"},{"$f":"'shaladarpan '!AA702","v":"Yes"},{"$f":"'shaladarpan '!AB702","v":16},{"$f":"'shaladarpan '!AC702","v":"None"},{"$f":"'shaladarpan '!AD702","v":1}]
[{"$f":"IF(F704=\" \",\" \",ROWS($A$3:A704))","v":702},{"$f":"'shaladarpan '!A703","v":12},{"$f":"'shaladarpan '!B703","v":"A"},{"$f":"'shaladarpan '!C703","v":4401},{"$f":"'shaladarpan '!D703","v":"2017-07-14"},{"$f":"'shaladarpan '!E703","v":"manjeet702"},{"$f":"'shaladarpan '!F703","v":"00:00:00"},{"$f":"'shaladarpan '!G703","v":"vijay702"},{"$f":"'shaladarpan '!H703","v":"beautiful702"},{"$f":"'shaladarpan '!I703","v":"F"},{"$f":"'shaladarpan '!J703","v":"2003-05-03"},{"$f":"'shaladarpan '!K703","v":"no"},{"$f":"'shaladarpan '!L703","v":702},{"$f":"'shaladarpan '!M703","v":0},{"$f":"'shaladarpan '!N703","v":0},{"$f":"'shaladarpan '!O703","v":"OBC"},{"$f":"'shaladarpan '!P703","v":"Hindu"},{"$f":"'shaladarpan '!Q703","v":0},{"$f":"'shaladarpan '!R703","v":"GOVT. SENIOR SECONDARY SCHOOL ALNIYAWAS (219445)"},{"$f":"'shaladarpan '!S703","v":8140200308},{"$f":"'shaladarpan '!T703","v":"XXXX5031"},{"$f":"'shaladarpan '!U703","v":0},{"$f":"'shaladarpan '!V703","v":9828121398},{"$f":"'shaladarpan '!W703","v":"alniyawas702"},{"$f":"'shaladarpan '!X703","v":0},{"$f":"'shaladarpan '!Y703","v":"N"},{"$f":"'shaladarpan '!Z703","v":"N"},{"$f":"'shaladarpan '!AA703","v":"No"},{"$f":"'shaladarpan '!AB703","v":17},{"$f":"'shaladarpan '!AC703","v":"None"},{"$f":"'shaladarpan '!AD703","v":1}]
[{"$f":"IF(F705=\" \",\" \",ROWS($A$3:A705))","v":703},{"$f":"'shaladarpan '!A704","v":12},{"$f":"'shaladarpan '!B704","v":"A"},{"$f":"'shaladarpan '!C704","v":3467},{"$f":"'shaladarpan '!D704","v":"2013-07-06"},{"$f":"'shaladarpan '!E704","v":"manjeet703"},{"$f":"'shaladarpan '!F704","v":"00:00:00"},{"$f":"'shaladarpan '!G704","v":"vijay703"},{"$f":"'shaladarpan '!H704","v":"beautiful703"},{"$f":"'shaladarpan '!I704","v":"M"},{"$f":"'shaladarpan '!J704","v":"2003-04-15"},{"$f":"'shaladarpan '!K704","v":"yes"},{"$f":"'shaladarpan '!L704","v":703},{"$f":"'shaladarpan '!M704","v":0},{"$f":"'shaladarpan '!N704","v":0},{"$f":"'shaladarpan '!O704","v":"OBC"},{"$f":"'shaladarpan '!P704","v":"Hindu"},{"$f":"'shaladarpan '!Q704","v":0},{"$f":"'shaladarpan '!R704","v":"GOVT. SENIOR SECONDARY SCHOOL ALNIYAWAS (219445)"},{"$f":"'shaladarpan '!S704","v":8140200308},{"$f":"'shaladarpan '!T704","v":"XXXX7866"},{"$f":"'shaladarpan '!U704","v":0},{"$f":"'shaladarpan '!V704","v":9828121399},{"$f":"'shaladarpan '!W704","v":"alniyawas703"},{"$f":"'shaladarpan '!X704","v":0},{"$f":"'shaladarpan '!Y704","v":"N"},{"$f":"'shaladarpan '!Z704","v":"N"},{"$f":"'shaladarpan '!AA704","v":"No"},{"$f":"'shaladarpan '!AB704","v":17},{"$f":"'shaladarpan '!AC704","v":"None"},{"$f":"'shaladarpan '!AD704","v":1}]
[{"$f":"IF(F706=\" \",\" \",ROWS($A$3:A706))","v":704},{"$f":"'shaladarpan '!A705","v":12},{"$f":"'shaladarpan '!B705","v":"A"},{"$f":"'shaladarpan '!C705","v":3589},{"$f":"'shaladarpan '!D705","v":"2014-07-03"},{"$f":"'shaladarpan '!E705","v":"manjeet704"},{"$f":"'shaladarpan '!F705","v":"00:00:00"},{"$f":"'shaladarpan '!G705","v":"vijay704"},{"$f":"'shaladarpan '!H705","v":"beautiful704"},{"$f":"'shaladarpan '!I705","v":"M"},{"$f":"'shaladarpan '!J705","v":"2004-10-02"},{"$f":"'shaladarpan '!K705","v":"yes"},{"$f":"'shaladarpan '!L705","v":704},{"$f":"'shaladarpan '!M705","v":0},{"$f":"'shaladarpan '!N705","v":0},{"$f":"'shaladarpan '!O705","v":"OBC"},{"$f":"'shaladarpan '!P705","v":"Hindu"},{"$f":"'shaladarpan '!Q705","v":0},{"$f":"'shaladarpan '!R705","v":"GOVT. SENIOR SECONDARY SCHOOL ALNIYAWAS (219445)"},{"$f":"'shaladarpan '!S705","v":8140200308},{"$f":"'shaladarpan '!T705","v":"XXXX3157"},{"$f":"'shaladarpan '!U705","v":0},{"$f":"'shaladarpan '!V705","v":9828121400},{"$f":"'shaladarpan '!W705","v":"alniyawas704"},{"$f":"'shaladarpan '!X705","v":0},{"$f":"'shaladarpan '!Y705","v":"N"},{"$f":"'shaladarpan '!Z705","v":"N"},{"$f":"'shaladarpan '!AA705","v":"No"},{"$f":"'shaladarpan '!AB705","v":16},{"$f":"'shaladarpan '!AC705","v":"None"},{"$f":"'shaladarpan '!AD705","v":2}]
[{"$f":"IF(F707=\" \",\" \",ROWS($A$3:A707))","v":705},{"$f":"'shaladarpan '!A706","v":12},{"$f":"'shaladarpan '!B706","v":"A"},{"$f":"'shaladarpan '!C706","v":3468},{"$f":"'shaladarpan '!D706","v":"2013-07-06"},{"$f":"'shaladarpan '!E706","v":"manjeet705"},{"$f":"'shaladarpan '!F706","v":"00:00:00"},{"$f":"'shaladarpan '!G706","v":"vijay705"},{"$f":"'shaladarpan '!H706","v":"beautiful705"},{"$f":"'shaladarpan '!I706","v":"M"},{"$f":"'shaladarpan '!J706","v":"2003-04-30"},{"$f":"'shaladarpan '!K706","v":"no"},{"$f":"'shaladarpan '!L706","v":705},{"$f":"'shaladarpan '!M706","v":0},{"$f":"'shaladarpan '!N706","v":0},{"$f":"'shaladarpan '!O706","v":"OBC"},{"$f":"'shaladarpan '!P706","v":"Hindu"},{"$f":"'shaladarpan '!Q706","v":0},{"$f":"'shaladarpan '!R706","v":"GOVT. SENIOR SECONDARY SCHOOL ALNIYAWAS (219445)"},{"$f":"'shaladarpan '!S706","v":8140200308},{"$f":"'shaladarpan '!T706","v":"XXXX2780"},{"$f":"'shaladarpan '!U706","v":0},{"$f":"'shaladarpan '!V706","v":9828121401},{"$f":"'shaladarpan '!W706","v":"alniyawas705"},{"$f":"'shaladarpan '!X706","v":0},{"$f":"'shaladarpan '!Y706","v":"N"},{"$f":"'shaladarpan '!Z706","v":"N"},{"$f":"'shaladarpan '!AA706","v":"No"},{"$f":"'shaladarpan '!AB706","v":17},{"$f":"'shaladarpan '!AC706","v":"None"},{"$f":"'shaladarpan '!AD706","v":1}]
[{"$f":"IF(F708=\" \",\" \",ROWS($A$3:A708))","v":706},{"$f":"'shaladarpan '!A707","v":12},{"$f":"'shaladarpan '!B707","v":"A"},{"$f":"'shaladarpan '!C707","v":3555},{"$f":"'shaladarpan '!D707","v":"2014-05-13"},{"$f":"'shaladarpan '!E707","v":"manjeet706"},{"$f":"'shaladarpan '!F707","v":"00:00:00"},{"$f":"'shaladarpan '!G707","v":"vijay706"},{"$f":"'shaladarpan '!H707","v":"beautiful706"},{"$f":"'shaladarpan '!I707","v":"F"},{"$f":"'shaladarpan '!J707","v":"2003-03-22"},{"$f":"'shaladarpan '!K707","v":"yes"},{"$f":"'shaladarpan '!L707","v":706},{"$f":"'shaladarpan '!M707","v":0},{"$f":"'shaladarpan '!N707","v":0},{"$f":"'shaladarpan '!O707","v":"OBC"},{"$f":"'shaladarpan '!P707","v":"Muslim"},{"$f":"'shaladarpan '!Q707","v":0},{"$f":"'shaladarpan '!R707","v":"GOVT. SENIOR SECONDARY SCHOOL ALNIYAWAS (219445)"},{"$f":"'shaladarpan '!S707","v":8140200308},{"$f":"'shaladarpan '!T707","v":"XXXX3847"},{"$f":"'shaladarpan '!U707","v":0},{"$f":"'shaladarpan '!V707","v":9828121402},{"$f":"'shaladarpan '!W707","v":"alniyawas706"},{"$f":"'shaladarpan '!X707","v":36000},{"$f":"'shaladarpan '!Y707","v":"N"},{"$f":"'shaladarpan '!Z707","v":"N"},{"$f":"'shaladarpan '!AA707","v":"Yes"},{"$f":"'shaladarpan '!AB707","v":17},{"$f":"'shaladarpan '!AC707","v":"None"},{"$f":"'shaladarpan '!AD707","v":0}]
[{"$f":"IF(F709=\" \",\" \",ROWS($A$3:A709))","v":707},{"$f":"'shaladarpan '!A708","v":12},{"$f":"'shaladarpan '!B708","v":"B"},{"$f":"'shaladarpan '!C708","v":4400},{"$f":"'shaladarpan '!D708","v":"2017-07-14"},{"$f":"'shaladarpan '!E708","v":"manjeet707"},{"$f":"'shaladarpan '!F708","v":"00:00:00"},{"$f":"'shaladarpan '!G708","v":"vijay707"},{"$f":"'shaladarpan '!H708","v":"beautiful707"},{"$f":"'shaladarpan '!I708","v":"M"},{"$f":"'shaladarpan '!J708","v":"2003-07-29"},{"$f":"'shaladarpan '!K708","v":"yes"},{"$f":"'shaladarpan '!L708","v":707},{"$f":"'shaladarpan '!M708","v":0},{"$f":"'shaladarpan '!N708","v":0},{"$f":"'shaladarpan '!O708","v":"SC"},{"$f":"'shaladarpan '!P708","v":"Hindu"},{"$f":"'shaladarpan '!Q708","v":0},{"$f":"'shaladarpan '!R708","v":"GOVT. SENIOR SECONDARY SCHOOL ALNIYAWAS (219445)"},{"$f":"'shaladarpan '!S708","v":8140200308},{"$f":"'shaladarpan '!T708","v":"XXXX0724"},{"$f":"'shaladarpan '!U708","v":0},{"$f":"'shaladarpan '!V708","v":9828121403},{"$f":"'shaladarpan '!W708","v":"alniyawas707"},{"$f":"'shaladarpan '!X708","v":0},{"$f":"'shaladarpan '!Y708","v":"N"},{"$f":"'shaladarpan '!Z708","v":"N"},{"$f":"'shaladarpan '!AA708","v":"No"},{"$f":"'shaladarpan '!AB708","v":17},{"$f":"'shaladarpan '!AC708","v":"None"},{"$f":"'shaladarpan '!AD708","v":1}]
[{"$f":"IF(F710=\" \",\" \",ROWS($A$3:A710))","v":708},{"$f":"'shaladarpan '!A709","v":12},{"$f":"'shaladarpan '!B709","v":"B"},{"$f":"'shaladarpan '!C709","v":4755},{"$f":"'shaladarpan '!D709","v":"2019-07-18"},{"$f":"'shaladarpan '!E709","v":"manjeet708"},{"$f":"'shaladarpan '!F709","v":"00:00:00"},{"$f":"'shaladarpan '!G709","v":"vijay708"},{"$f":"'shaladarpan '!H709","v":"beautiful708"},{"$f":"'shaladarpan '!I709","v":"M"},{"$f":"'shaladarpan '!J709","v":"2002-05-22"},{"$f":"'shaladarpan '!K709","v":"no"},{"$f":"'shaladarpan '!L709","v":708},{"$f":"'shaladarpan '!M709","v":0},{"$f":"'shaladarpan '!N709","v":0},{"$f":"'shaladarpan '!O709","v":"ST"},{"$f":"'shaladarpan '!P709","v":"Hindu"},{"$f":"'shaladarpan '!Q709","v":0},{"$f":"'shaladarpan '!R709","v":"GOVT. SENIOR SECONDARY SCHOOL ALNIYAWAS (219445)"},{"$f":"'shaladarpan '!S709","v":8140200308},{"$f":"'shaladarpan '!T709","v":"XXXX5174"},{"$f":"'shaladarpan '!U709","v":"YKIKBFW"},{"$f":"'shaladarpan '!V709","v":9828121404},{"$f":"'shaladarpan '!W709","v":"alniyawas708"},{"$f":"'shaladarpan '!X709","v":50000},{"$f":"'shaladarpan '!Y709","v":"N"},{"$f":"'shaladarpan '!Z709","v":"N"},{"$f":"'shaladarpan '!AA709","v":"No"},{"$f":"'shaladarpan '!AB709","v":18},{"$f":"'shaladarpan '!AC709","v":"None"},{"$f":"'shaladarpan '!AD709","v":1}]
[{"$f":"IF(F711=\" \",\" \",ROWS($A$3:A711))","v":709},{"$f":"'shaladarpan '!A710","v":12},{"$f":"'shaladarpan '!B710","v":"B"},{"$f":"'shaladarpan '!C710","v":4313},{"$f":"'shaladarpan '!D710","v":"2017-07-03"},{"$f":"'shaladarpan '!E710","v":"manjeet709"},{"$f":"'shaladarpan '!F710","v":"00:00:00"},{"$f":"'shaladarpan '!G710","v":"vijay709"},{"$f":"'shaladarpan '!H710","v":"beautiful709"},{"$f":"'shaladarpan '!I710","v":"M"},{"$f":"'shaladarpan '!J710","v":"2003-07-17"},{"$f":"'shaladarpan '!K710","v":"yes"},{"$f":"'shaladarpan '!L710","v":709},{"$f":"'shaladarpan '!M710","v":0},{"$f":"'shaladarpan '!N710","v":0},{"$f":"'shaladarpan '!O710","v":"OBC"},{"$f":"'shaladarpan '!P710","v":"Hindu"},{"$f":"'shaladarpan '!Q710","v":0},{"$f":"'shaladarpan '!R710","v":"GOVT. SENIOR SECONDARY SCHOOL ALNIYAWAS (219445)"},{"$f":"'shaladarpan '!S710","v":8140200308},{"$f":"'shaladarpan '!T710","v":"XXXX9524"},{"$f":"'shaladarpan '!U710","v":0},{"$f":"'shaladarpan '!V710","v":9828121405},{"$f":"'shaladarpan '!W710","v":"alniyawas709"},{"$f":"'shaladarpan '!X710","v":0},{"$f":"'shaladarpan '!Y710","v":"N"},{"$f":"'shaladarpan '!Z710","v":"N"},{"$f":"'shaladarpan '!AA710","v":"No"},{"$f":"'shaladarpan '!AB710","v":17},{"$f":"'shaladarpan '!AC710","v":"None"},{"$f":"'shaladarpan '!AD710","v":1}]
[{"$f":"IF(F712=\" \",\" \",ROWS($A$3:A712))","v":710},{"$f":"'shaladarpan '!A711","v":12},{"$f":"'shaladarpan '!B711","v":"B"},{"$f":"'shaladarpan '!C711","v":4399},{"$f":"'shaladarpan '!D711","v":"2017-07-14"},{"$f":"'shaladarpan '!E711","v":"manjeet710"},{"$f":"'shaladarpan '!F711","v":"00:00:00"},{"$f":"'shaladarpan '!G711","v":"vijay710"},{"$f":"'shaladarpan '!H711","v":"beautiful710"},{"$f":"'shaladarpan '!I711","v":"F"},{"$f":"'shaladarpan '!J711","v":"2003-07-29"},{"$f":"'shaladarpan '!K711","v":"yes"},{"$f":"'shaladarpan '!L711","v":710},{"$f":"'shaladarpan '!M711","v":0},{"$f":"'shaladarpan '!N711","v":0},{"$f":"'shaladarpan '!O711","v":"SC"},{"$f":"'shaladarpan '!P711","v":"Hindu"},{"$f":"'shaladarpan '!Q711","v":0},{"$f":"'shaladarpan '!R711","v":"GOVT. SENIOR SECONDARY SCHOOL ALNIYAWAS (219445)"},{"$f":"'shaladarpan '!S711","v":8140200308},{"$f":"'shaladarpan '!T711","v":"XXXX5764"},{"$f":"'shaladarpan '!U711","v":0},{"$f":"'shaladarpan '!V711","v":9828121406},{"$f":"'shaladarpan '!W711","v":"alniyawas710"},{"$f":"'shaladarpan '!X711","v":0},{"$f":"'shaladarpan '!Y711","v":"N"},{"$f":"'shaladarpan '!Z711","v":"N"},{"$f":"'shaladarpan '!AA711","v":"No"},{"$f":"'shaladarpan '!AB711","v":17},{"$f":"'shaladarpan '!AC711","v":"None"},{"$f":"'shaladarpan '!AD711","v":1}]
[{"$f":"IF(F713=\" \",\" \",ROWS($A$3:A713))","v":711},{"$f":"'shaladarpan '!A712","v":12},{"$f":"'shaladarpan '!B712","v":"B"},{"$f":"'shaladarpan '!C712","v":4751},{"$f":"'shaladarpan '!D712","v":"2019-07-17"},{"$f":"'shaladarpan '!E712","v":"manjeet711"},{"$f":"'shaladarpan '!F712","v":"00:00:00"},{"$f":"'shaladarpan '!G712","v":"vijay711"},{"$f":"'shaladarpan '!H712","v":"beautiful711"},{"$f":"'shaladarpan '!I712","v":"M"},{"$f":"'shaladarpan '!J712","v":"2005-01-22"},{"$f":"'shaladarpan '!K712","v":"no"},{"$f":"'shaladarpan '!L712","v":711},{"$f":"'shaladarpan '!M712","v":0},{"$f":"'shaladarpan '!N712","v":0},{"$f":"'shaladarpan '!O712","v":"SBC"},{"$f":"'shaladarpan '!P712","v":"Hindu"},{"$f":"'shaladarpan '!Q712","v":0},{"$f":"'shaladarpan '!R712","v":"GOVT. SENIOR SECONDARY SCHOOL ALNIYAWAS (219445)"},{"$f":"'shaladarpan '!S712","v":8140200308},{"$f":"'shaladarpan '!T712","v":"XXXX8202"},{"$f":"'shaladarpan '!U712","v":"vzjctot"},{"$f":"'shaladarpan '!V712","v":9828121407},{"$f":"'shaladarpan '!W712","v":"alniyawas711"},{"$f":"'shaladarpan '!X712","v":40000},{"$f":"'shaladarpan '!Y712","v":"N"},{"$f":"'shaladarpan '!Z712","v":"N"},{"$f":"'shaladarpan '!AA712","v":"No"},{"$f":"'shaladarpan '!AB712","v":15},{"$f":"'shaladarpan '!AC712","v":"None"},{"$f":"'shaladarpan '!AD712","v":1}]
[{"$f":"IF(F714=\" \",\" \",ROWS($A$3:A714))","v":712},{"$f":"'shaladarpan '!A713","v":12},{"$f":"'shaladarpan '!B713","v":"B"},{"$f":"'shaladarpan '!C713","v":4715},{"$f":"'shaladarpan '!D713","v":"2016-07-04"},{"$f":"'shaladarpan '!E713","v":"manjeet712"},{"$f":"'shaladarpan '!F713","v":"00:00:00"},{"$f":"'shaladarpan '!G713","v":"vijay712"},{"$f":"'shaladarpan '!H713","v":"beautiful712"},{"$f":"'shaladarpan '!I713","v":"M"},{"$f":"'shaladarpan '!J713","v":"2003-07-04"},{"$f":"'shaladarpan '!K713","v":"yes"},{"$f":"'shaladarpan '!L713","v":712},{"$f":"'shaladarpan '!M713","v":0},{"$f":"'shaladarpan '!N713","v":0},{"$f":"'shaladarpan '!O713","v":"OBC"},{"$f":"'shaladarpan '!P713","v":"Hindu"},{"$f":"'shaladarpan '!Q713","v":0},{"$f":"'shaladarpan '!R713","v":"GOVT. SENIOR SECONDARY SCHOOL ALNIYAWAS (219445)"},{"$f":"'shaladarpan '!S713","v":8140200308},{"$f":"'shaladarpan '!T713","v":"XXXX7933"},{"$f":"'shaladarpan '!U713","v":"VMCFGAF"},{"$f":"'shaladarpan '!V713","v":9828121408},{"$f":"'shaladarpan '!W713","v":"alniyawas712"},{"$f":"'shaladarpan '!X713","v":40000},{"$f":"'shaladarpan '!Y713","v":"N"},{"$f":"'shaladarpan '!Z713","v":"N"},{"$f":"'shaladarpan '!AA713","v":"No"},{"$f":"'shaladarpan '!AB713","v":17},{"$f":"'shaladarpan '!AC713","v":"None"},{"$f":"'shaladarpan '!AD713","v":2}]
[{"$f":"IF(F715=\" \",\" \",ROWS($A$3:A715))","v":713},{"$f":"'shaladarpan '!A714","v":12},{"$f":"'shaladarpan '!B714","v":"B"},{"$f":"'shaladarpan '!C714","v":4724},{"$f":"'shaladarpan '!D714","v":"2019-07-13"},{"$f":"'shaladarpan '!E714","v":"manjeet713"},{"$f":"'shaladarpan '!F714","v":"00:00:00"},{"$f":"'shaladarpan '!G714","v":"vijay713"},{"$f":"'shaladarpan '!H714","v":"beautiful713"},{"$f":"'shaladarpan '!I714","v":"M"},{"$f":"'shaladarpan '!J714","v":"2005-01-01"},{"$f":"'shaladarpan '!K714","v":"yes"},{"$f":"'shaladarpan '!L714","v":713},{"$f":"'shaladarpan '!M714","v":0},{"$f":"'shaladarpan '!N714","v":0},{"$f":"'shaladarpan '!O714","v":"OBC"},{"$f":"'shaladarpan '!P714","v":"Hindu"},{"$f":"'shaladarpan '!Q714","v":0},{"$f":"'shaladarpan '!R714","v":"GOVT. SENIOR SECONDARY SCHOOL ALNIYAWAS (219445)"},{"$f":"'shaladarpan '!S714","v":8140200308},{"$f":"'shaladarpan '!T714","v":"XXXX7492"},{"$f":"'shaladarpan '!U714","v":"yocoids"},{"$f":"'shaladarpan '!V714","v":9828121409},{"$f":"'shaladarpan '!W714","v":"alniyawas713"},{"$f":"'shaladarpan '!X714","v":50000},{"$f":"'shaladarpan '!Y714","v":"N"},{"$f":"'shaladarpan '!Z714","v":"N"},{"$f":"'shaladarpan '!AA714","v":"No"},{"$f":"'shaladarpan '!AB714","v":15},{"$f":"'shaladarpan '!AC714","v":"None"},{"$f":"'shaladarpan '!AD714","v":5}]
[{"$f":"IF(F716=\" \",\" \",ROWS($A$3:A716))","v":714},{"$f":"'shaladarpan '!A715","v":12},{"$f":"'shaladarpan '!B715","v":"B"},{"$f":"'shaladarpan '!C715","v":3609},{"$f":"'shaladarpan '!D715","v":"2014-07-03"},{"$f":"'shaladarpan '!E715","v":"manjeet714"},{"$f":"'shaladarpan '!F715","v":"00:00:00"},{"$f":"'shaladarpan '!G715","v":"vijay714"},{"$f":"'shaladarpan '!H715","v":"beautiful714"},{"$f":"'shaladarpan '!I715","v":"M"},{"$f":"'shaladarpan '!J715","v":"2004-10-10"},{"$f":"'shaladarpan '!K715","v":"no"},{"$f":"'shaladarpan '!L715","v":714},{"$f":"'shaladarpan '!M715","v":0},{"$f":"'shaladarpan '!N715","v":0},{"$f":"'shaladarpan '!O715","v":"SC"},{"$f":"'shaladarpan '!P715","v":0},{"$f":"'shaladarpan '!Q715","v":0},{"$f":"'shaladarpan '!R715","v":"GOVT. SENIOR SECONDARY SCHOOL ALNIYAWAS (219445)"},{"$f":"'shaladarpan '!S715","v":8140200308},{"$f":"'shaladarpan '!T715","v":"XXXX2037"},{"$f":"'shaladarpan '!U715","v":"YQCGGDC"},{"$f":"'shaladarpan '!V715","v":9828121410},{"$f":"'shaladarpan '!W715","v":"alniyawas714"},{"$f":"'shaladarpan '!X715","v":46000},{"$f":"'shaladarpan '!Y715","v":"N"},{"$f":"'shaladarpan '!Z715","v":"N"},{"$f":"'shaladarpan '!AA715","v":0},{"$f":"'shaladarpan '!AB715","v":16},{"$f":"'shaladarpan '!AC715","v":"None"},{"$f":"'shaladarpan '!AD715","v":1}]
[{"$f":"IF(F717=\" \",\" \",ROWS($A$3:A717))","v":715},{"$f":"'shaladarpan '!A716","v":12},{"$f":"'shaladarpan '!B716","v":"B"},{"$f":"'shaladarpan '!C716","v":4404},{"$f":"'shaladarpan '!D716","v":"2017-07-14"},{"$f":"'shaladarpan '!E716","v":"manjeet715"},{"$f":"'shaladarpan '!F716","v":"00:00:00"},{"$f":"'shaladarpan '!G716","v":"vijay715"},{"$f":"'shaladarpan '!H716","v":"beautiful715"},{"$f":"'shaladarpan '!I716","v":"F"},{"$f":"'shaladarpan '!J716","v":"2005-11-29"},{"$f":"'shaladarpan '!K716","v":"yes"},{"$f":"'shaladarpan '!L716","v":715},{"$f":"'shaladarpan '!M716","v":0},{"$f":"'shaladarpan '!N716","v":0},{"$f":"'shaladarpan '!O716","v":"OBC"},{"$f":"'shaladarpan '!P716","v":"Hindu"},{"$f":"'shaladarpan '!Q716","v":0},{"$f":"'shaladarpan '!R716","v":"GOVT. SENIOR SECONDARY SCHOOL ALNIYAWAS (219445)"},{"$f":"'shaladarpan '!S716","v":8140200308},{"$f":"'shaladarpan '!T716","v":"XXXX4944"},{"$f":"'shaladarpan '!U716","v":"YSBBWQG"},{"$f":"'shaladarpan '!V716","v":9828121411},{"$f":"'shaladarpan '!W716","v":"alniyawas715"},{"$f":"'shaladarpan '!X716","v":36000},{"$f":"'shaladarpan '!Y716","v":"N"},{"$f":"'shaladarpan '!Z716","v":"N"},{"$f":"'shaladarpan '!AA716","v":"No"},{"$f":"'shaladarpan '!AB716","v":15},{"$f":"'shaladarpan '!AC716","v":"None"},{"$f":"'shaladarpan '!AD716","v":1}]
[{"$f":"IF(F718=\" \",\" \",ROWS($A$3:A718))","v":716},{"$f":"'shaladarpan '!A717","v":12},{"$f":"'shaladarpan '!B717","v":"B"},{"$f":"'shaladarpan '!C717","v":4416},{"$f":"'shaladarpan '!D717","v":"2017-07-15"},{"$f":"'shaladarpan '!E717","v":"manjeet716"},{"$f":"'shaladarpan '!F717","v":"00:00:00"},{"$f":"'shaladarpan '!G717","v":"vijay716"},{"$f":"'shaladarpan '!H717","v":"beautiful716"},{"$f":"'shaladarpan '!I717","v":"F"},{"$f":"'shaladarpan '!J717","v":"2002-03-02"},{"$f":"'shaladarpan '!K717","v":"yes"},{"$f":"'shaladarpan '!L717","v":716},{"$f":"'shaladarpan '!M717","v":0},{"$f":"'shaladarpan '!N717","v":0},{"$f":"'shaladarpan '!O717","v":"OBC"},{"$f":"'shaladarpan '!P717","v":"Hindu"},{"$f":"'shaladarpan '!Q717","v":0},{"$f":"'shaladarpan '!R717","v":"GOVT. SENIOR SECONDARY SCHOOL ALNIYAWAS (219445)"},{"$f":"'shaladarpan '!S717","v":8140200308},{"$f":"'shaladarpan '!T717","v":"XXXX3408"},{"$f":"'shaladarpan '!U717","v":0},{"$f":"'shaladarpan '!V717","v":9828121412},{"$f":"'shaladarpan '!W717","v":"alniyawas716"},{"$f":"'shaladarpan '!X717","v":0},{"$f":"'shaladarpan '!Y717","v":"N"},{"$f":"'shaladarpan '!Z717","v":"N"},{"$f":"'shaladarpan '!AA717","v":"No"},{"$f":"'shaladarpan '!AB717","v":18},{"$f":"'shaladarpan '!AC717","v":"None"},{"$f":"'shaladarpan '!AD717","v":1}]
[{"$f":"IF(F719=\" \",\" \",ROWS($A$3:A719))","v":717},{"$f":"'shaladarpan '!A718","v":12},{"$f":"'shaladarpan '!B718","v":"B"},{"$f":"'shaladarpan '!C718","v":4725},{"$f":"'shaladarpan '!D718","v":"2019-07-13"},{"$f":"'shaladarpan '!E718","v":"manjeet717"},{"$f":"'shaladarpan '!F718","v":"00:00:00"},{"$f":"'shaladarpan '!G718","v":"vijay717"},{"$f":"'shaladarpan '!H718","v":"beautiful717"},{"$f":"'shaladarpan '!I718","v":"F"},{"$f":"'shaladarpan '!J718","v":"2002-07-30"},{"$f":"'shaladarpan '!K718","v":"no"},{"$f":"'shaladarpan '!L718","v":717},{"$f":"'shaladarpan '!M718","v":0},{"$f":"'shaladarpan '!N718","v":0},{"$f":"'shaladarpan '!O718","v":"OBC"},{"$f":"'shaladarpan '!P718","v":"Hindu"},{"$f":"'shaladarpan '!Q718","v":0},{"$f":"'shaladarpan '!R718","v":"GOVT. SENIOR SECONDARY SCHOOL ALNIYAWAS (219445)"},{"$f":"'shaladarpan '!S718","v":8140200308},{"$f":"'shaladarpan '!T718","v":"XXXX0184"},{"$f":"'shaladarpan '!U718","v":"vonwkkp"},{"$f":"'shaladarpan '!V718","v":9828121413},{"$f":"'shaladarpan '!W718","v":"alniyawas717"},{"$f":"'shaladarpan '!X718","v":50000},{"$f":"'shaladarpan '!Y718","v":"N"},{"$f":"'shaladarpan '!Z718","v":"N"},{"$f":"'shaladarpan '!AA718","v":"No"},{"$f":"'shaladarpan '!AB718","v":18},{"$f":"'shaladarpan '!AC718","v":"None"},{"$f":"'shaladarpan '!AD718","v":5}]
[{"$f":"IF(F720=\" \",\" \",ROWS($A$3:A720))","v":718},{"$f":"'shaladarpan '!A719","v":12},{"$f":"'shaladarpan '!B719","v":"B"},{"$f":"'shaladarpan '!C719","v":3620},{"$f":"'shaladarpan '!D719","v":"2014-07-03"},{"$f":"'shaladarpan '!E719","v":"manjeet718"},{"$f":"'shaladarpan '!F719","v":"00:00:00"},{"$f":"'shaladarpan '!G719","v":"vijay718"},{"$f":"'shaladarpan '!H719","v":"beautiful718"},{"$f":"'shaladarpan '!I719","v":"F"},{"$f":"'shaladarpan '!J719","v":"2004-01-05"},{"$f":"'shaladarpan '!K719","v":"yes"},{"$f":"'shaladarpan '!L719","v":718},{"$f":"'shaladarpan '!M719","v":0},{"$f":"'shaladarpan '!N719","v":0},{"$f":"'shaladarpan '!O719","v":"OBC"},{"$f":"'shaladarpan '!P719","v":"Hindu"},{"$f":"'shaladarpan '!Q719","v":0},{"$f":"'shaladarpan '!R719","v":"GOVT. SENIOR SECONDARY SCHOOL ALNIYAWAS (219445)"},{"$f":"'shaladarpan '!S719","v":8140200308},{"$f":"'shaladarpan '!T719","v":"XXXX6807"},{"$f":"'shaladarpan '!U719","v":0},{"$f":"'shaladarpan '!V719","v":9828121414},{"$f":"'shaladarpan '!W719","v":"alniyawas718"},{"$f":"'shaladarpan '!X719","v":0},{"$f":"'shaladarpan '!Y719","v":"N"},{"$f":"'shaladarpan '!Z719","v":"N"},{"$f":"'shaladarpan '!AA719","v":"No"},{"$f":"'shaladarpan '!AB719","v":16},{"$f":"'shaladarpan '!AC719","v":"None"},{"$f":"'shaladarpan '!AD719","v":1}]
[{"$f":"IF(F721=\" \",\" \",ROWS($A$3:A721))","v":719},{"$f":"'shaladarpan '!A720","v":12},{"$f":"'shaladarpan '!B720","v":"B"},{"$f":"'shaladarpan '!C720","v":4300},{"$f":"'shaladarpan '!D720","v":"2017-06-30"},{"$f":"'shaladarpan '!E720","v":"manjeet719"},{"$f":"'shaladarpan '!F720","v":"00:00:00"},{"$f":"'shaladarpan '!G720","v":"vijay719"},{"$f":"'shaladarpan '!H720","v":"beautiful719"},{"$f":"'shaladarpan '!I720","v":"F"},{"$f":"'shaladarpan '!J720","v":"2002-10-10"},{"$f":"'shaladarpan '!K720","v":"yes"},{"$f":"'shaladarpan '!L720","v":719},{"$f":"'shaladarpan '!M720","v":0},{"$f":"'shaladarpan '!N720","v":0},{"$f":"'shaladarpan '!O720","v":"SBC"},{"$f":"'shaladarpan '!P720","v":"Hindu"},{"$f":"'shaladarpan '!Q720","v":0},{"$f":"'shaladarpan '!R720","v":"GOVT. SENIOR SECONDARY SCHOOL ALNIYAWAS (219445)"},{"$f":"'shaladarpan '!S720","v":8140200308},{"$f":"'shaladarpan '!T720","v":"XXXX1512"},{"$f":"'shaladarpan '!U720","v":0},{"$f":"'shaladarpan '!V720","v":9828121415},{"$f":"'shaladarpan '!W720","v":"alniyawas719"},{"$f":"'shaladarpan '!X720","v":0},{"$f":"'shaladarpan '!Y720","v":"N"},{"$f":"'shaladarpan '!Z720","v":"N"},{"$f":"'shaladarpan '!AA720","v":"No"},{"$f":"'shaladarpan '!AB720","v":18},{"$f":"'shaladarpan '!AC720","v":"None"},{"$f":"'shaladarpan '!AD720","v":1}]
[{"$f":"IF(F722=\" \",\" \",ROWS($A$3:A722))","v":720},{"$f":"'shaladarpan '!A721","v":12},{"$f":"'shaladarpan '!B721","v":"B"},{"$f":"'shaladarpan '!C721","v":4003},{"$f":"'shaladarpan '!D721","v":"2015-07-06"},{"$f":"'shaladarpan '!E721","v":"manjeet720"},{"$f":"'shaladarpan '!F721","v":"00:00:00"},{"$f":"'shaladarpan '!G721","v":"vijay720"},{"$f":"'shaladarpan '!H721","v":"beautiful720"},{"$f":"'shaladarpan '!I721","v":"M"},{"$f":"'shaladarpan '!J721","v":"2004-10-17"},{"$f":"'shaladarpan '!K721","v":"no"},{"$f":"'shaladarpan '!L721","v":720},{"$f":"'shaladarpan '!M721","v":0},{"$f":"'shaladarpan '!N721","v":0},{"$f":"'shaladarpan '!O721","v":"SBC"},{"$f":"'shaladarpan '!P721","v":"Hindu"},{"$f":"'shaladarpan '!Q721","v":0},{"$f":"'shaladarpan '!R721","v":"GOVT. SENIOR SECONDARY SCHOOL ALNIYAWAS (219445)"},{"$f":"'shaladarpan '!S721","v":8140200308},{"$f":"'shaladarpan '!T721","v":"XXXX5822"},{"$f":"'shaladarpan '!U721","v":0},{"$f":"'shaladarpan '!V721","v":9828121416},{"$f":"'shaladarpan '!W721","v":"alniyawas720"},{"$f":"'shaladarpan '!X721","v":60000},{"$f":"'shaladarpan '!Y721","v":"N"},{"$f":"'shaladarpan '!Z721","v":"N"},{"$f":"'shaladarpan '!AA721","v":"No"},{"$f":"'shaladarpan '!AB721","v":16},{"$f":"'shaladarpan '!AC721","v":"None"},{"$f":"'shaladarpan '!AD721","v":1}]
[{"$f":"IF(F723=\" \",\" \",ROWS($A$3:A723))","v":721},{"$f":"'shaladarpan '!A722","v":12},{"$f":"'shaladarpan '!B722","v":"B"},{"$f":"'shaladarpan '!C722","v":4181},{"$f":"'shaladarpan '!D722","v":"2016-07-08"},{"$f":"'shaladarpan '!E722","v":"manjeet721"},{"$f":"'shaladarpan '!F722","v":"00:00:00"},{"$f":"'shaladarpan '!G722","v":"vijay721"},{"$f":"'shaladarpan '!H722","v":"beautiful721"},{"$f":"'shaladarpan '!I722","v":"M"},{"$f":"'shaladarpan '!J722","v":"2004-12-15"},{"$f":"'shaladarpan '!K722","v":"yes"},{"$f":"'shaladarpan '!L722","v":721},{"$f":"'shaladarpan '!M722","v":0},{"$f":"'shaladarpan '!N722","v":0},{"$f":"'shaladarpan '!O722","v":"OBC"},{"$f":"'shaladarpan '!P722","v":"Hindu"},{"$f":"'shaladarpan '!Q722","v":0},{"$f":"'shaladarpan '!R722","v":"GOVT. SENIOR SECONDARY SCHOOL ALNIYAWAS (219445)"},{"$f":"'shaladarpan '!S722","v":8140200308},{"$f":"'shaladarpan '!T722","v":"XXXX3935"},{"$f":"'shaladarpan '!U722","v":0},{"$f":"'shaladarpan '!V722","v":9828121417},{"$f":"'shaladarpan '!W722","v":"alniyawas721"},{"$f":"'shaladarpan '!X722","v":0},{"$f":"'shaladarpan '!Y722","v":"N"},{"$f":"'shaladarpan '!Z722","v":"N"},{"$f":"'shaladarpan '!AA722","v":"No"},{"$f":"'shaladarpan '!AB722","v":16},{"$f":"'shaladarpan '!AC722","v":"None"},{"$f":"'shaladarpan '!AD722","v":2}]
[{"$f":"IF(F724=\" \",\" \",ROWS($A$3:A724))","v":722},{"$f":"'shaladarpan '!A723","v":12},{"$f":"'shaladarpan '!B723","v":"B"},{"$f":"'shaladarpan '!C723","v":3583},{"$f":"'shaladarpan '!D723","v":"2014-07-01"},{"$f":"'shaladarpan '!E723","v":"manjeet722"},{"$f":"'shaladarpan '!F723","v":"00:00:00"},{"$f":"'shaladarpan '!G723","v":"vijay722"},{"$f":"'shaladarpan '!H723","v":"beautiful722"},{"$f":"'shaladarpan '!I723","v":"M"},{"$f":"'shaladarpan '!J723","v":"2003-05-08"},{"$f":"'shaladarpan '!K723","v":"yes"},{"$f":"'shaladarpan '!L723","v":722},{"$f":"'shaladarpan '!M723","v":0},{"$f":"'shaladarpan '!N723","v":0},{"$f":"'shaladarpan '!O723","v":"OBC"},{"$f":"'shaladarpan '!P723","v":"Muslim"},{"$f":"'shaladarpan '!Q723","v":0},{"$f":"'shaladarpan '!R723","v":"GOVT. SENIOR SECONDARY SCHOOL ALNIYAWAS (219445)"},{"$f":"'shaladarpan '!S723","v":8140200308},{"$f":"'shaladarpan '!T723","v":"XXXX9047"},{"$f":"'shaladarpan '!U723","v":0},{"$f":"'shaladarpan '!V723","v":9828121418},{"$f":"'shaladarpan '!W723","v":"alniyawas722"},{"$f":"'shaladarpan '!X723","v":0},{"$f":"'shaladarpan '!Y723","v":"N"},{"$f":"'shaladarpan '!Z723","v":"N"},{"$f":"'shaladarpan '!AA723","v":"Yes"},{"$f":"'shaladarpan '!AB723","v":17},{"$f":"'shaladarpan '!AC723","v":"None"},{"$f":"'shaladarpan '!AD723","v":1}]
[{"$f":"IF(F725=\" \",\" \",ROWS($A$3:A725))","v":723},{"$f":"'shaladarpan '!A724","v":12},{"$f":"'shaladarpan '!B724","v":"B"},{"$f":"'shaladarpan '!C724","v":4286},{"$f":"'shaladarpan '!D724","v":"2017-06-29"},{"$f":"'shaladarpan '!E724","v":"manjeet723"},{"$f":"'shaladarpan '!F724","v":"00:00:00"},{"$f":"'shaladarpan '!G724","v":"vijay723"},{"$f":"'shaladarpan '!H724","v":"beautiful723"},{"$f":"'shaladarpan '!I724","v":"M"},{"$f":"'shaladarpan '!J724","v":"2005-08-20"},{"$f":"'shaladarpan '!K724","v":"no"},{"$f":"'shaladarpan '!L724","v":723},{"$f":"'shaladarpan '!M724","v":0},{"$f":"'shaladarpan '!N724","v":0},{"$f":"'shaladarpan '!O724","v":"SC"},{"$f":"'shaladarpan '!P724","v":"Hindu"},{"$f":"'shaladarpan '!Q724","v":0},{"$f":"'shaladarpan '!R724","v":"GOVT. SENIOR SECONDARY SCHOOL ALNIYAWAS (219445)"},{"$f":"'shaladarpan '!S724","v":8140200308},{"$f":"'shaladarpan '!T724","v":"XXXX7236"},{"$f":"'shaladarpan '!U724","v":"YQCIQEK"},{"$f":"'shaladarpan '!V724","v":9828121419},{"$f":"'shaladarpan '!W724","v":"alniyawas723"},{"$f":"'shaladarpan '!X724","v":42000},{"$f":"'shaladarpan '!Y724","v":"N"},{"$f":"'shaladarpan '!Z724","v":"N"},{"$f":"'shaladarpan '!AA724","v":"No"},{"$f":"'shaladarpan '!AB724","v":15},{"$f":"'shaladarpan '!AC724","v":"None"},{"$f":"'shaladarpan '!AD724","v":1}]
[{"$f":"IF(F726=\" \",\" \",ROWS($A$3:A726))","v":724},{"$f":"'shaladarpan '!A725","v":12},{"$f":"'shaladarpan '!B725","v":"B"},{"$f":"'shaladarpan '!C725","v":4343},{"$f":"'shaladarpan '!D725","v":"2017-07-06"},{"$f":"'shaladarpan '!E725","v":"manjeet724"},{"$f":"'shaladarpan '!F725","v":"00:00:00"},{"$f":"'shaladarpan '!G725","v":"vijay724"},{"$f":"'shaladarpan '!H725","v":"beautiful724"},{"$f":"'shaladarpan '!I725","v":"F"},{"$f":"'shaladarpan '!J725","v":"2003-03-02"},{"$f":"'shaladarpan '!K725","v":"yes"},{"$f":"'shaladarpan '!L725","v":724},{"$f":"'shaladarpan '!M725","v":0},{"$f":"'shaladarpan '!N725","v":0},{"$f":"'shaladarpan '!O725","v":"OBC"},{"$f":"'shaladarpan '!P725","v":"Hindu"},{"$f":"'shaladarpan '!Q725","v":0},{"$f":"'shaladarpan '!R725","v":"GOVT. SENIOR SECONDARY SCHOOL ALNIYAWAS (219445)"},{"$f":"'shaladarpan '!S725","v":8140200308},{"$f":"'shaladarpan '!T725","v":"XXXX7505"},{"$f":"'shaladarpan '!U725","v":0},{"$f":"'shaladarpan '!V725","v":9828121420},{"$f":"'shaladarpan '!W725","v":"alniyawas724"},{"$f":"'shaladarpan '!X725","v":0},{"$f":"'shaladarpan '!Y725","v":"N"},{"$f":"'shaladarpan '!Z725","v":"N"},{"$f":"'shaladarpan '!AA725","v":"No"},{"$f":"'shaladarpan '!AB725","v":17},{"$f":"'shaladarpan '!AC725","v":"None"},{"$f":"'shaladarpan '!AD725","v":1}]
[{"$f":"IF(F727=\" \",\" \",ROWS($A$3:A727))","v":725},{"$f":"'shaladarpan '!A726","v":12},{"$f":"'shaladarpan '!B726","v":"B"},{"$f":"'shaladarpan '!C726","v":4425},{"$f":"'shaladarpan '!D726","v":"2017-07-20"},{"$f":"'shaladarpan '!E726","v":"manjeet725"},{"$f":"'shaladarpan '!F726","v":"00:00:00"},{"$f":"'shaladarpan '!G726","v":"vijay725"},{"$f":"'shaladarpan '!H726","v":"beautiful725"},{"$f":"'shaladarpan '!I726","v":"F"},{"$f":"'shaladarpan '!J726","v":"2003-09-03"},{"$f":"'shaladarpan '!K726","v":"yes"},{"$f":"'shaladarpan '!L726","v":725},{"$f":"'shaladarpan '!M726","v":0},{"$f":"'shaladarpan '!N726","v":0},{"$f":"'shaladarpan '!O726","v":"OBC"},{"$f":"'shaladarpan '!P726","v":"Hindu"},{"$f":"'shaladarpan '!Q726","v":0},{"$f":"'shaladarpan '!R726","v":"GOVT. SENIOR SECONDARY SCHOOL ALNIYAWAS (219445)"},{"$f":"'shaladarpan '!S726","v":8140200308},{"$f":"'shaladarpan '!T726","v":"XXXX2532"},{"$f":"'shaladarpan '!U726","v":0},{"$f":"'shaladarpan '!V726","v":9828121421},{"$f":"'shaladarpan '!W726","v":"alniyawas725"},{"$f":"'shaladarpan '!X726","v":0},{"$f":"'shaladarpan '!Y726","v":"N"},{"$f":"'shaladarpan '!Z726","v":"N"},{"$f":"'shaladarpan '!AA726","v":"No"},{"$f":"'shaladarpan '!AB726","v":17},{"$f":"'shaladarpan '!AC726","v":"None"},{"$f":"'shaladarpan '!AD726","v":1}]
[{"$f":"IF(F728=\" \",\" \",ROWS($A$3:A728))","v":726},{"$f":"'shaladarpan '!A727","v":12},{"$f":"'shaladarpan '!B727","v":"B"},{"$f":"'shaladarpan '!C727","v":4508},{"$f":"'shaladarpan '!D727","v":"2018-07-06"},{"$f":"'shaladarpan '!E727","v":"manjeet726"},{"$f":"'shaladarpan '!F727","v":"00:00:00"},{"$f":"'shaladarpan '!G727","v":"vijay726"},{"$f":"'shaladarpan '!H727","v":"beautiful726"},{"$f":"'shaladarpan '!I727","v":"M"},{"$f":"'shaladarpan '!J727","v":"2005-02-23"},{"$f":"'shaladarpan '!K727","v":"no"},{"$f":"'shaladarpan '!L727","v":726},{"$f":"'shaladarpan '!M727","v":0},{"$f":"'shaladarpan '!N727","v":0},{"$f":"'shaladarpan '!O727","v":"GEN"},{"$f":"'shaladarpan '!P727","v":"Hindu"},{"$f":"'shaladarpan '!Q727","v":0},{"$f":"'shaladarpan '!R727","v":"GOVT. SENIOR SECONDARY SCHOOL ALNIYAWAS (219445)"},{"$f":"'shaladarpan '!S727","v":8140200308},{"$f":"'shaladarpan '!T727","v":"XXXX0462"},{"$f":"'shaladarpan '!U727","v":0},{"$f":"'shaladarpan '!V727","v":9828121422},{"$f":"'shaladarpan '!W727","v":"alniyawas726"},{"$f":"'shaladarpan '!X727","v":60000},{"$f":"'shaladarpan '!Y727","v":"N"},{"$f":"'shaladarpan '!Z727","v":"N"},{"$f":"'shaladarpan '!AA727","v":"No"},{"$f":"'shaladarpan '!AB727","v":15},{"$f":"'shaladarpan '!AC727","v":"None"},{"$f":"'shaladarpan '!AD727","v":1}]
[{"$f":"IF(F729=\" \",\" \",ROWS($A$3:A729))","v":727},{"$f":"'shaladarpan '!A728","v":12},{"$f":"'shaladarpan '!B728","v":"B"},{"$f":"'shaladarpan '!C728","v":4720},{"$f":"'shaladarpan '!D728","v":"2019-07-12"},{"$f":"'shaladarpan '!E728","v":"manjeet727"},{"$f":"'shaladarpan '!F728","v":"00:00:00"},{"$f":"'shaladarpan '!G728","v":"vijay727"},{"$f":"'shaladarpan '!H728","v":"beautiful727"},{"$f":"'shaladarpan '!I728","v":"M"},{"$f":"'shaladarpan '!J728","v":"2003-07-15"},{"$f":"'shaladarpan '!K728","v":"yes"},{"$f":"'shaladarpan '!L728","v":727},{"$f":"'shaladarpan '!M728","v":0},{"$f":"'shaladarpan '!N728","v":0},{"$f":"'shaladarpan '!O728","v":"OBC"},{"$f":"'shaladarpan '!P728","v":"Hindu"},{"$f":"'shaladarpan '!Q728","v":0},{"$f":"'shaladarpan '!R728","v":"GOVT. SENIOR SECONDARY SCHOOL ALNIYAWAS (219445)"},{"$f":"'shaladarpan '!S728","v":8140200308},{"$f":"'shaladarpan '!T728","v":"XXXX7126"},{"$f":"'shaladarpan '!U728","v":"vgttnrj"},{"$f":"'shaladarpan '!V728","v":9828121423},{"$f":"'shaladarpan '!W728","v":"alniyawas727"},{"$f":"'shaladarpan '!X728","v":60000},{"$f":"'shaladarpan '!Y728","v":"N"},{"$f":"'shaladarpan '!Z728","v":"N"},{"$f":"'shaladarpan '!AA728","v":"No"},{"$f":"'shaladarpan '!AB728","v":17},{"$f":"'shaladarpan '!AC728","v":"None"},{"$f":"'shaladarpan '!AD728","v":5}]
[{"$f":"IF(F730=\" \",\" \",ROWS($A$3:A730))","v":728},{"$f":"'shaladarpan '!A729","v":12},{"$f":"'shaladarpan '!B729","v":"B"},{"$f":"'shaladarpan '!C729","v":4881},{"$f":"'shaladarpan '!D729","v":"2019-07-24"},{"$f":"'shaladarpan '!E729","v":"manjeet728"},{"$f":"'shaladarpan '!F729","v":"00:00:00"},{"$f":"'shaladarpan '!G729","v":"vijay728"},{"$f":"'shaladarpan '!H729","v":"beautiful728"},{"$f":"'shaladarpan '!I729","v":"M"},{"$f":"'shaladarpan '!J729","v":"2004-12-23"},{"$f":"'shaladarpan '!K729","v":"yes"},{"$f":"'shaladarpan '!L729","v":728},{"$f":"'shaladarpan '!M729","v":0},{"$f":"'shaladarpan '!N729","v":0},{"$f":"'shaladarpan '!O729","v":"OBC"},{"$f":"'shaladarpan '!P729","v":0},{"$f":"'shaladarpan '!Q729","v":0},{"$f":"'shaladarpan '!R729","v":"GOVT. SENIOR SECONDARY SCHOOL ALNIYAWAS (219445)"},{"$f":"'shaladarpan '!S729","v":8140200308},{"$f":"'shaladarpan '!T729","v":"XXXX5672"},{"$f":"'shaladarpan '!U729","v":0},{"$f":"'shaladarpan '!V729","v":9828121424},{"$f":"'shaladarpan '!W729","v":"alniyawas728"},{"$f":"'shaladarpan '!X729","v":0},{"$f":"'shaladarpan '!Y729","v":"N"},{"$f":"'shaladarpan '!Z729","v":"N"},{"$f":"'shaladarpan '!AA729","v":0},{"$f":"'shaladarpan '!AB729","v":16},{"$f":"'shaladarpan '!AC729","v":"None"},{"$f":"'shaladarpan '!AD729","v":2}]
[{"$f":"IF(F731=\" \",\" \",ROWS($A$3:A731))","v":729},{"$f":"'shaladarpan '!A730","v":0},{"$f":"'shaladarpan '!B730","v":0},{"$f":"'shaladarpan '!C730","v":0},{"$f":"'shaladarpan '!D730","v":"00:00:00"},{"$f":"'shaladarpan '!E730","v":0},{"$f":"'shaladarpan '!F730","v":"00:00:00"},{"$f":"'shaladarpan '!G730","v":0},{"$f":"'shaladarpan '!H730","v":0},{"$f":"'shaladarpan '!I730","v":0},{"$f":"'shaladarpan '!J730","v":"00:00:00"},{"$f":"'shaladarpan '!K730","v":0},{"$f":"'shaladarpan '!L730","v":0},{"$f":"'shaladarpan '!M730","v":0},{"$f":"'shaladarpan '!N730","v":0},{"$f":"'shaladarpan '!O730","v":0},{"$f":"'shaladarpan '!P730","v":0},{"$f":"'shaladarpan '!Q730","v":0},{"$f":"'shaladarpan '!R730","v":0},{"$f":"'shaladarpan '!S730","v":0},{"$f":"'shaladarpan '!T730","v":0},{"$f":"'shaladarpan '!U730","v":0},{"$f":"'shaladarpan '!V730","v":0},{"$f":"'shaladarpan '!W730","v":0},{"$f":"'shaladarpan '!X730","v":0},{"$f":"'shaladarpan '!Y730","v":0},{"$f":"'shaladarpan '!Z730","v":0},{"$f":"'shaladarpan '!AA730","v":0},{"$f":"'shaladarpan '!AB730","v":0},{"$f":"'shaladarpan '!AC730","v":0},{"$f":"'shaladarpan '!AD730","v":0}]
[{"$f":"IF(F732=\" \",\" \",ROWS($A$3:A732))","v":730},{"$f":"'shaladarpan '!A731","v":0},{"$f":"'shaladarpan '!B731","v":0},{"$f":"'shaladarpan '!C731","v":0},{"$f":"'shaladarpan '!D731","v":"00:00:00"},{"$f":"'shaladarpan '!E731","v":0},{"$f":"'shaladarpan '!F731","v":"00:00:00"},{"$f":"'shaladarpan '!G731","v":0},{"$f":"'shaladarpan '!H731","v":0},{"$f":"'shaladarpan '!I731","v":0},{"$f":"'shaladarpan '!J731","v":"00:00:00"},{"$f":"'shaladarpan '!K731","v":0},{"$f":"'shaladarpan '!L731","v":0},{"$f":"'shaladarpan '!M731","v":0},{"$f":"'shaladarpan '!N731","v":0},{"$f":"'shaladarpan '!O731","v":0},{"$f":"'shaladarpan '!P731","v":0},{"$f":"'shaladarpan '!Q731","v":0},{"$f":"'shaladarpan '!R731","v":0},{"$f":"'shaladarpan '!S731","v":0},{"$f":"'shaladarpan '!T731","v":0},{"$f":"'shaladarpan '!U731","v":0},{"$f":"'shaladarpan '!V731","v":0},{"$f":"'shaladarpan '!W731","v":0},{"$f":"'shaladarpan '!X731","v":0},{"$f":"'shaladarpan '!Y731","v":0},{"$f":"'shaladarpan '!Z731","v":0},{"$f":"'shaladarpan '!AA731","v":0},{"$f":"'shaladarpan '!AB731","v":0},{"$f":"'shaladarpan '!AC731","v":0},{"$f":"'shaladarpan '!AD731","v":0}]
[{"$f":"IF(F733=\" \",\" \",ROWS($A$3:A733))","v":731},{"$f":"'shaladarpan '!A732","v":0},{"$f":"'shaladarpan '!B732","v":0},{"$f":"'shaladarpan '!C732","v":0},{"$f":"'shaladarpan '!D732","v":"00:00:00"},{"$f":"'shaladarpan '!E732","v":0},{"$f":"'shaladarpan '!F732","v":"00:00:00"},{"$f":"'shaladarpan '!G732","v":0},{"$f":"'shaladarpan '!H732","v":0},{"$f":"'shaladarpan '!I732","v":0},{"$f":"'shaladarpan '!J732","v":"00:00:00"},{"$f":"'shaladarpan '!K732","v":0},{"$f":"'shaladarpan '!L732","v":0},{"$f":"'shaladarpan '!M732","v":0},{"$f":"'shaladarpan '!N732","v":0},{"$f":"'shaladarpan '!O732","v":0},{"$f":"'shaladarpan '!P732","v":0},{"$f":"'shaladarpan '!Q732","v":0},{"$f":"'shaladarpan '!R732","v":0},{"$f":"'shaladarpan '!S732","v":0},{"$f":"'shaladarpan '!T732","v":0},{"$f":"'shaladarpan '!U732","v":0},{"$f":"'shaladarpan '!V732","v":0},{"$f":"'shaladarpan '!W732","v":0},{"$f":"'shaladarpan '!X732","v":0},{"$f":"'shaladarpan '!Y732","v":0},{"$f":"'shaladarpan '!Z732","v":0},{"$f":"'shaladarpan '!AA732","v":0},{"$f":"'shaladarpan '!AB732","v":0},{"$f":"'shaladarpan '!AC732","v":0},{"$f":"'shaladarpan '!AD732","v":0}]
[{"$f":"IF(F734=\" \",\" \",ROWS($A$3:A734))","v":732},{"$f":"'shaladarpan '!A733","v":0},{"$f":"'shaladarpan '!B733","v":0},{"$f":"'shaladarpan '!C733","v":0},{"$f":"'shaladarpan '!D733","v":"00:00:00"},{"$f":"'shaladarpan '!E733","v":0},{"$f":"'shaladarpan '!F733","v":"00:00:00"},{"$f":"'shaladarpan '!G733","v":0},{"$f":"'shaladarpan '!H733","v":0},{"$f":"'shaladarpan '!I733","v":0},{"$f":"'shaladarpan '!J733","v":"00:00:00"},{"$f":"'shaladarpan '!K733","v":0},{"$f":"'shaladarpan '!L733","v":0},{"$f":"'shaladarpan '!M733","v":0},{"$f":"'shaladarpan '!N733","v":0},{"$f":"'shaladarpan '!O733","v":0},{"$f":"'shaladarpan '!P733","v":0},{"$f":"'shaladarpan '!Q733","v":0},{"$f":"'shaladarpan '!R733","v":0},{"$f":"'shaladarpan '!S733","v":0},{"$f":"'shaladarpan '!T733","v":0},{"$f":"'shaladarpan '!U733","v":0},{"$f":"'shaladarpan '!V733","v":0},{"$f":"'shaladarpan '!W733","v":0},{"$f":"'shaladarpan '!X733","v":0},{"$f":"'shaladarpan '!Y733","v":0},{"$f":"'shaladarpan '!Z733","v":0},{"$f":"'shaladarpan '!AA733","v":0},{"$f":"'shaladarpan '!AB733","v":0},{"$f":"'shaladarpan '!AC733","v":0},{"$f":"'shaladarpan '!AD733","v":0}]
[{"$f":"IF(F735=\" \",\" \",ROWS($A$3:A735))","v":733},{"$f":"'shaladarpan '!A734","v":0},{"$f":"'shaladarpan '!B734","v":0},{"$f":"'shaladarpan '!C734","v":0},{"$f":"'shaladarpan '!D734","v":"00:00:00"},{"$f":"'shaladarpan '!E734","v":0},{"$f":"'shaladarpan '!F734","v":"00:00:00"},{"$f":"'shaladarpan '!G734","v":0},{"$f":"'shaladarpan '!H734","v":0},{"$f":"'shaladarpan '!I734","v":0},{"$f":"'shaladarpan '!J734","v":"00:00:00"},{"$f":"'shaladarpan '!K734","v":0},{"$f":"'shaladarpan '!L734","v":0},{"$f":"'shaladarpan '!M734","v":0},{"$f":"'shaladarpan '!N734","v":0},{"$f":"'shaladarpan '!O734","v":0},{"$f":"'shaladarpan '!P734","v":0},{"$f":"'shaladarpan '!Q734","v":0},{"$f":"'shaladarpan '!R734","v":0},{"$f":"'shaladarpan '!S734","v":0},{"$f":"'shaladarpan '!T734","v":0},{"$f":"'shaladarpan '!U734","v":0},{"$f":"'shaladarpan '!V734","v":0},{"$f":"'shaladarpan '!W734","v":0},{"$f":"'shaladarpan '!X734","v":0},{"$f":"'shaladarpan '!Y734","v":0},{"$f":"'shaladarpan '!Z734","v":0},{"$f":"'shaladarpan '!AA734","v":0},{"$f":"'shaladarpan '!AB734","v":0},{"$f":"'shaladarpan '!AC734","v":0},{"$f":"'shaladarpan '!AD734","v":0}]
[{"$f":"IF(F736=\" \",\" \",ROWS($A$3:A736))","v":734},{"$f":"'shaladarpan '!A735","v":0},{"$f":"'shaladarpan '!B735","v":0},{"$f":"'shaladarpan '!C735","v":0},{"$f":"'shaladarpan '!D735","v":"00:00:00"},{"$f":"'shaladarpan '!E735","v":0},{"$f":"'shaladarpan '!F735","v":"00:00:00"},{"$f":"'shaladarpan '!G735","v":0},{"$f":"'shaladarpan '!H735","v":0},{"$f":"'shaladarpan '!I735","v":0},{"$f":"'shaladarpan '!J735","v":"00:00:00"},{"$f":"'shaladarpan '!K735","v":0},{"$f":"'shaladarpan '!L735","v":0},{"$f":"'shaladarpan '!M735","v":0},{"$f":"'shaladarpan '!N735","v":0},{"$f":"'shaladarpan '!O735","v":0},{"$f":"'shaladarpan '!P735","v":0},{"$f":"'shaladarpan '!Q735","v":0},{"$f":"'shaladarpan '!R735","v":0},{"$f":"'shaladarpan '!S735","v":0},{"$f":"'shaladarpan '!T735","v":0},{"$f":"'shaladarpan '!U735","v":0},{"$f":"'shaladarpan '!V735","v":0},{"$f":"'shaladarpan '!W735","v":0},{"$f":"'shaladarpan '!X735","v":0},{"$f":"'shaladarpan '!Y735","v":0},{"$f":"'shaladarpan '!Z735","v":0},{"$f":"'shaladarpan '!AA735","v":0},{"$f":"'shaladarpan '!AB735","v":0},{"$f":"'shaladarpan '!AC735","v":0},{"$f":"'shaladarpan '!AD735","v":0}]
[{"$f":"IF(F737=\" \",\" \",ROWS($A$3:A737))","v":735},{"$f":"'shaladarpan '!A736","v":0},{"$f":"'shaladarpan '!B736","v":0},{"$f":"'shaladarpan '!C736","v":0},{"$f":"'shaladarpan '!D736","v":"00:00:00"},{"$f":"'shaladarpan '!E736","v":0},{"$f":"'shaladarpan '!F736","v":"00:00:00"},{"$f":"'shaladarpan '!G736","v":0},{"$f":"'shaladarpan '!H736","v":0},{"$f":"'shaladarpan '!I736","v":0},{"$f":"'shaladarpan '!J736","v":"00:00:00"},{"$f":"'shaladarpan '!K736","v":0},{"$f":"'shaladarpan '!L736","v":0},{"$f":"'shaladarpan '!M736","v":0},{"$f":"'shaladarpan '!N736","v":0},{"$f":"'shaladarpan '!O736","v":0},{"$f":"'shaladarpan '!P736","v":0},{"$f":"'shaladarpan '!Q736","v":0},{"$f":"'shaladarpan '!R736","v":0},{"$f":"'shaladarpan '!S736","v":0},{"$f":"'shaladarpan '!T736","v":0},{"$f":"'shaladarpan '!U736","v":0},{"$f":"'shaladarpan '!V736","v":0},{"$f":"'shaladarpan '!W736","v":0},{"$f":"'shaladarpan '!X736","v":0},{"$f":"'shaladarpan '!Y736","v":0},{"$f":"'shaladarpan '!Z736","v":0},{"$f":"'shaladarpan '!AA736","v":0},{"$f":"'shaladarpan '!AB736","v":0},{"$f":"'shaladarpan '!AC736","v":0},{"$f":"'shaladarpan '!AD736","v":0}]
[{"$f":"IF(F738=\" \",\" \",ROWS($A$3:A738))","v":736},{"$f":"'shaladarpan '!A737","v":0},{"$f":"'shaladarpan '!B737","v":0},{"$f":"'shaladarpan '!C737","v":0},{"$f":"'shaladarpan '!D737","v":"00:00:00"},{"$f":"'shaladarpan '!E737","v":0},{"$f":"'shaladarpan '!F737","v":"00:00:00"},{"$f":"'shaladarpan '!G737","v":0},{"$f":"'shaladarpan '!H737","v":0},{"$f":"'shaladarpan '!I737","v":0},{"$f":"'shaladarpan '!J737","v":"00:00:00"},{"$f":"'shaladarpan '!K737","v":0},{"$f":"'shaladarpan '!L737","v":0},{"$f":"'shaladarpan '!M737","v":0},{"$f":"'shaladarpan '!N737","v":0},{"$f":"'shaladarpan '!O737","v":0},{"$f":"'shaladarpan '!P737","v":0},{"$f":"'shaladarpan '!Q737","v":0},{"$f":"'shaladarpan '!R737","v":0},{"$f":"'shaladarpan '!S737","v":0},{"$f":"'shaladarpan '!T737","v":0},{"$f":"'shaladarpan '!U737","v":0},{"$f":"'shaladarpan '!V737","v":0},{"$f":"'shaladarpan '!W737","v":0},{"$f":"'shaladarpan '!X737","v":0},{"$f":"'shaladarpan '!Y737","v":0},{"$f":"'shaladarpan '!Z737","v":0},{"$f":"'shaladarpan '!AA737","v":0},{"$f":"'shaladarpan '!AB737","v":0},{"$f":"'shaladarpan '!AC737","v":0},{"$f":"'shaladarpan '!AD737","v":0}]
[{"$f":"IF(F739=\" \",\" \",ROWS($A$3:A739))","v":737},{"$f":"'shaladarpan '!A738","v":0},{"$f":"'shaladarpan '!B738","v":0},{"$f":"'shaladarpan '!C738","v":0},{"$f":"'shaladarpan '!D738","v":"00:00:00"},{"$f":"'shaladarpan '!E738","v":0},{"$f":"'shaladarpan '!F738","v":"00:00:00"},{"$f":"'shaladarpan '!G738","v":0},{"$f":"'shaladarpan '!H738","v":0},{"$f":"'shaladarpan '!I738","v":0},{"$f":"'shaladarpan '!J738","v":"00:00:00"},{"$f":"'shaladarpan '!K738","v":0},{"$f":"'shaladarpan '!L738","v":0},{"$f":"'shaladarpan '!M738","v":0},{"$f":"'shaladarpan '!N738","v":0},{"$f":"'shaladarpan '!O738","v":0},{"$f":"'shaladarpan '!P738","v":0},{"$f":"'shaladarpan '!Q738","v":0},{"$f":"'shaladarpan '!R738","v":0},{"$f":"'shaladarpan '!S738","v":0},{"$f":"'shaladarpan '!T738","v":0},{"$f":"'shaladarpan '!U738","v":0},{"$f":"'shaladarpan '!V738","v":0},{"$f":"'shaladarpan '!W738","v":0},{"$f":"'shaladarpan '!X738","v":0},{"$f":"'shaladarpan '!Y738","v":0},{"$f":"'shaladarpan '!Z738","v":0},{"$f":"'shaladarpan '!AA738","v":0},{"$f":"'shaladarpan '!AB738","v":0},{"$f":"'shaladarpan '!AC738","v":0},{"$f":"'shaladarpan '!AD738","v":0}]
[{"$f":"IF(F740=\" \",\" \",ROWS($A$3:A740))","v":738},{"$f":"'shaladarpan '!A739","v":0},{"$f":"'shaladarpan '!B739","v":0},{"$f":"'shaladarpan '!C739","v":0},{"$f":"'shaladarpan '!D739","v":"00:00:00"},{"$f":"'shaladarpan '!E739","v":0},{"$f":"'shaladarpan '!F739","v":"00:00:00"},{"$f":"'shaladarpan '!G739","v":0},{"$f":"'shaladarpan '!H739","v":0},{"$f":"'shaladarpan '!I739","v":0},{"$f":"'shaladarpan '!J739","v":"00:00:00"},{"$f":"'shaladarpan '!K739","v":0},{"$f":"'shaladarpan '!L739","v":0},{"$f":"'shaladarpan '!M739","v":0},{"$f":"'shaladarpan '!N739","v":0},{"$f":"'shaladarpan '!O739","v":0},{"$f":"'shaladarpan '!P739","v":0},{"$f":"'shaladarpan '!Q739","v":0},{"$f":"'shaladarpan '!R739","v":0},{"$f":"'shaladarpan '!S739","v":0},{"$f":"'shaladarpan '!T739","v":0},{"$f":"'shaladarpan '!U739","v":0},{"$f":"'shaladarpan '!V739","v":0},{"$f":"'shaladarpan '!W739","v":0},{"$f":"'shaladarpan '!X739","v":0},{"$f":"'shaladarpan '!Y739","v":0},{"$f":"'shaladarpan '!Z739","v":0},{"$f":"'shaladarpan '!AA739","v":0},{"$f":"'shaladarpan '!AB739","v":0},{"$f":"'shaladarpan '!AC739","v":0},{"$f":"'shaladarpan '!AD739","v":0}]
[{"$f":"IF(F741=\" \",\" \",ROWS($A$3:A741))","v":739},{"$f":"'shaladarpan '!A740","v":0},{"$f":"'shaladarpan '!B740","v":0},{"$f":"'shaladarpan '!C740","v":0},{"$f":"'shaladarpan '!D740","v":"00:00:00"},{"$f":"'shaladarpan '!E740","v":0},{"$f":"'shaladarpan '!F740","v":"00:00:00"},{"$f":"'shaladarpan '!G740","v":0},{"$f":"'shaladarpan '!H740","v":0},{"$f":"'shaladarpan '!I740","v":0},{"$f":"'shaladarpan '!J740","v":"00:00:00"},{"$f":"'shaladarpan '!K740","v":0},{"$f":"'shaladarpan '!L740","v":0},{"$f":"'shaladarpan '!M740","v":0},{"$f":"'shaladarpan '!N740","v":0},{"$f":"'shaladarpan '!O740","v":0},{"$f":"'shaladarpan '!P740","v":0},{"$f":"'shaladarpan '!Q740","v":0},{"$f":"'shaladarpan '!R740","v":0},{"$f":"'shaladarpan '!S740","v":0},{"$f":"'shaladarpan '!T740","v":0},{"$f":"'shaladarpan '!U740","v":0},{"$f":"'shaladarpan '!V740","v":0},{"$f":"'shaladarpan '!W740","v":0},{"$f":"'shaladarpan '!X740","v":0},{"$f":"'shaladarpan '!Y740","v":0},{"$f":"'shaladarpan '!Z740","v":0},{"$f":"'shaladarpan '!AA740","v":0},{"$f":"'shaladarpan '!AB740","v":0},{"$f":"'shaladarpan '!AC740","v":0},{"$f":"'shaladarpan '!AD740","v":0}]
[{"$f":"IF(F742=\" \",\" \",ROWS($A$3:A742))","v":740},{"$f":"'shaladarpan '!A741","v":0},{"$f":"'shaladarpan '!B741","v":0},{"$f":"'shaladarpan '!C741","v":0},{"$f":"'shaladarpan '!D741","v":"00:00:00"},{"$f":"'shaladarpan '!E741","v":0},{"$f":"'shaladarpan '!F741","v":"00:00:00"},{"$f":"'shaladarpan '!G741","v":0},{"$f":"'shaladarpan '!H741","v":0},{"$f":"'shaladarpan '!I741","v":0},{"$f":"'shaladarpan '!J741","v":"00:00:00"},{"$f":"'shaladarpan '!K741","v":0},{"$f":"'shaladarpan '!L741","v":0},{"$f":"'shaladarpan '!M741","v":0},{"$f":"'shaladarpan '!N741","v":0},{"$f":"'shaladarpan '!O741","v":0},{"$f":"'shaladarpan '!P741","v":0},{"$f":"'shaladarpan '!Q741","v":0},{"$f":"'shaladarpan '!R741","v":0},{"$f":"'shaladarpan '!S741","v":0},{"$f":"'shaladarpan '!T741","v":0},{"$f":"'shaladarpan '!U741","v":0},{"$f":"'shaladarpan '!V741","v":0},{"$f":"'shaladarpan '!W741","v":0},{"$f":"'shaladarpan '!X741","v":0},{"$f":"'shaladarpan '!Y741","v":0},{"$f":"'shaladarpan '!Z741","v":0},{"$f":"'shaladarpan '!AA741","v":0},{"$f":"'shaladarpan '!AB741","v":0},{"$f":"'shaladarpan '!AC741","v":0},{"$f":"'shaladarpan '!AD741","v":0}]
[{"$f":"IF(F743=\" \",\" \",ROWS($A$3:A743))","v":741},{"$f":"'shaladarpan '!A742","v":0},{"$f":"'shaladarpan '!B742","v":0},{"$f":"'shaladarpan '!C742","v":0},{"$f":"'shaladarpan '!D742","v":"00:00:00"},{"$f":"'shaladarpan '!E742","v":0},{"$f":"'shaladarpan '!F742","v":"00:00:00"},{"$f":"'shaladarpan '!G742","v":0},{"$f":"'shaladarpan '!H742","v":0},{"$f":"'shaladarpan '!I742","v":0},{"$f":"'shaladarpan '!J742","v":"00:00:00"},{"$f":"'shaladarpan '!K742","v":0},{"$f":"'shaladarpan '!L742","v":0},{"$f":"'shaladarpan '!M742","v":0},{"$f":"'shaladarpan '!N742","v":0},{"$f":"'shaladarpan '!O742","v":0},{"$f":"'shaladarpan '!P742","v":0},{"$f":"'shaladarpan '!Q742","v":0},{"$f":"'shaladarpan '!R742","v":0},{"$f":"'shaladarpan '!S742","v":0},{"$f":"'shaladarpan '!T742","v":0},{"$f":"'shaladarpan '!U742","v":0},{"$f":"'shaladarpan '!V742","v":0},{"$f":"'shaladarpan '!W742","v":0},{"$f":"'shaladarpan '!X742","v":0},{"$f":"'shaladarpan '!Y742","v":0},{"$f":"'shaladarpan '!Z742","v":0},{"$f":"'shaladarpan '!AA742","v":0},{"$f":"'shaladarpan '!AB742","v":0},{"$f":"'shaladarpan '!AC742","v":0},{"$f":"'shaladarpan '!AD742","v":0}]
[{"$f":"IF(F744=\" \",\" \",ROWS($A$3:A744))","v":742},{"$f":"'shaladarpan '!A743","v":0},{"$f":"'shaladarpan '!B743","v":0},{"$f":"'shaladarpan '!C743","v":0},{"$f":"'shaladarpan '!D743","v":"00:00:00"},{"$f":"'shaladarpan '!E743","v":0},{"$f":"'shaladarpan '!F743","v":"00:00:00"},{"$f":"'shaladarpan '!G743","v":0},{"$f":"'shaladarpan '!H743","v":0},{"$f":"'shaladarpan '!I743","v":0},{"$f":"'shaladarpan '!J743","v":"00:00:00"},{"$f":"'shaladarpan '!K743","v":0},{"$f":"'shaladarpan '!L743","v":0},{"$f":"'shaladarpan '!M743","v":0},{"$f":"'shaladarpan '!N743","v":0},{"$f":"'shaladarpan '!O743","v":0},{"$f":"'shaladarpan '!P743","v":0},{"$f":"'shaladarpan '!Q743","v":0},{"$f":"'shaladarpan '!R743","v":0},{"$f":"'shaladarpan '!S743","v":0},{"$f":"'shaladarpan '!T743","v":0},{"$f":"'shaladarpan '!U743","v":0},{"$f":"'shaladarpan '!V743","v":0},{"$f":"'shaladarpan '!W743","v":0},{"$f":"'shaladarpan '!X743","v":0},{"$f":"'shaladarpan '!Y743","v":0},{"$f":"'shaladarpan '!Z743","v":0},{"$f":"'shaladarpan '!AA743","v":0},{"$f":"'shaladarpan '!AB743","v":0},{"$f":"'shaladarpan '!AC743","v":0},{"$f":"'shaladarpan '!AD743","v":0}]
[{"$f":"IF(F745=\" \",\" \",ROWS($A$3:A745))","v":743},{"$f":"'shaladarpan '!A744","v":0},{"$f":"'shaladarpan '!B744","v":0},{"$f":"'shaladarpan '!C744","v":0},{"$f":"'shaladarpan '!D744","v":"00:00:00"},{"$f":"'shaladarpan '!E744","v":0},{"$f":"'shaladarpan '!F744","v":"00:00:00"},{"$f":"'shaladarpan '!G744","v":0},{"$f":"'shaladarpan '!H744","v":0},{"$f":"'shaladarpan '!I744","v":0},{"$f":"'shaladarpan '!J744","v":"00:00:00"},{"$f":"'shaladarpan '!K744","v":0},{"$f":"'shaladarpan '!L744","v":0},{"$f":"'shaladarpan '!M744","v":0},{"$f":"'shaladarpan '!N744","v":0},{"$f":"'shaladarpan '!O744","v":0},{"$f":"'shaladarpan '!P744","v":0},{"$f":"'shaladarpan '!Q744","v":0},{"$f":"'shaladarpan '!R744","v":0},{"$f":"'shaladarpan '!S744","v":0},{"$f":"'shaladarpan '!T744","v":0},{"$f":"'shaladarpan '!U744","v":0},{"$f":"'shaladarpan '!V744","v":0},{"$f":"'shaladarpan '!W744","v":0},{"$f":"'shaladarpan '!X744","v":0},{"$f":"'shaladarpan '!Y744","v":0},{"$f":"'shaladarpan '!Z744","v":0},{"$f":"'shaladarpan '!AA744","v":0},{"$f":"'shaladarpan '!AB744","v":0},{"$f":"'shaladarpan '!AC744","v":0},{"$f":"'shaladarpan '!AD744","v":0}]
[{"$f":"IF(F746=\" \",\" \",ROWS($A$3:A746))","v":744},{"$f":"'shaladarpan '!A745","v":0},{"$f":"'shaladarpan '!B745","v":0},{"$f":"'shaladarpan '!C745","v":0},{"$f":"'shaladarpan '!D745","v":"00:00:00"},{"$f":"'shaladarpan '!E745","v":0},{"$f":"'shaladarpan '!F745","v":"00:00:00"},{"$f":"'shaladarpan '!G745","v":0},{"$f":"'shaladarpan '!H745","v":0},{"$f":"'shaladarpan '!I745","v":0},{"$f":"'shaladarpan '!J745","v":"00:00:00"},{"$f":"'shaladarpan '!K745","v":0},{"$f":"'shaladarpan '!L745","v":0},{"$f":"'shaladarpan '!M745","v":0},{"$f":"'shaladarpan '!N745","v":0},{"$f":"'shaladarpan '!O745","v":0},{"$f":"'shaladarpan '!P745","v":0},{"$f":"'shaladarpan '!Q745","v":0},{"$f":"'shaladarpan '!R745","v":0},{"$f":"'shaladarpan '!S745","v":0},{"$f":"'shaladarpan '!T745","v":0},{"$f":"'shaladarpan '!U745","v":0},{"$f":"'shaladarpan '!V745","v":0},{"$f":"'shaladarpan '!W745","v":0},{"$f":"'shaladarpan '!X745","v":0},{"$f":"'shaladarpan '!Y745","v":0},{"$f":"'shaladarpan '!Z745","v":0},{"$f":"'shaladarpan '!AA745","v":0},{"$f":"'shaladarpan '!AB745","v":0},{"$f":"'shaladarpan '!AC745","v":0},{"$f":"'shaladarpan '!AD745","v":0}]
[{"$f":"IF(F747=\" \",\" \",ROWS($A$3:A747))","v":745},{"$f":"'shaladarpan '!A746","v":0},{"$f":"'shaladarpan '!B746","v":0},{"$f":"'shaladarpan '!C746","v":0},{"$f":"'shaladarpan '!D746","v":"00:00:00"},{"$f":"'shaladarpan '!E746","v":0},{"$f":"'shaladarpan '!F746","v":"00:00:00"},{"$f":"'shaladarpan '!G746","v":0},{"$f":"'shaladarpan '!H746","v":0},{"$f":"'shaladarpan '!I746","v":0},{"$f":"'shaladarpan '!J746","v":"00:00:00"},{"$f":"'shaladarpan '!K746","v":0},{"$f":"'shaladarpan '!L746","v":0},{"$f":"'shaladarpan '!M746","v":0},{"$f":"'shaladarpan '!N746","v":0},{"$f":"'shaladarpan '!O746","v":0},{"$f":"'shaladarpan '!P746","v":0},{"$f":"'shaladarpan '!Q746","v":0},{"$f":"'shaladarpan '!R746","v":0},{"$f":"'shaladarpan '!S746","v":0},{"$f":"'shaladarpan '!T746","v":0},{"$f":"'shaladarpan '!U746","v":0},{"$f":"'shaladarpan '!V746","v":0},{"$f":"'shaladarpan '!W746","v":0},{"$f":"'shaladarpan '!X746","v":0},{"$f":"'shaladarpan '!Y746","v":0},{"$f":"'shaladarpan '!Z746","v":0},{"$f":"'shaladarpan '!AA746","v":0},{"$f":"'shaladarpan '!AB746","v":0},{"$f":"'shaladarpan '!AC746","v":0},{"$f":"'shaladarpan '!AD746","v":0}]
[{"$f":"IF(F748=\" \",\" \",ROWS($A$3:A748))","v":746},{"$f":"'shaladarpan '!A747","v":0},{"$f":"'shaladarpan '!B747","v":0},{"$f":"'shaladarpan '!C747","v":0},{"$f":"'shaladarpan '!D747","v":"00:00:00"},{"$f":"'shaladarpan '!E747","v":0},{"$f":"'shaladarpan '!F747","v":"00:00:00"},{"$f":"'shaladarpan '!G747","v":0},{"$f":"'shaladarpan '!H747","v":0},{"$f":"'shaladarpan '!I747","v":0},{"$f":"'shaladarpan '!J747","v":"00:00:00"},{"$f":"'shaladarpan '!K747","v":0},{"$f":"'shaladarpan '!L747","v":0},{"$f":"'shaladarpan '!M747","v":0},{"$f":"'shaladarpan '!N747","v":0},{"$f":"'shaladarpan '!O747","v":0},{"$f":"'shaladarpan '!P747","v":0},{"$f":"'shaladarpan '!Q747","v":0},{"$f":"'shaladarpan '!R747","v":0},{"$f":"'shaladarpan '!S747","v":0},{"$f":"'shaladarpan '!T747","v":0},{"$f":"'shaladarpan '!U747","v":0},{"$f":"'shaladarpan '!V747","v":0},{"$f":"'shaladarpan '!W747","v":0},{"$f":"'shaladarpan '!X747","v":0},{"$f":"'shaladarpan '!Y747","v":0},{"$f":"'shaladarpan '!Z747","v":0},{"$f":"'shaladarpan '!AA747","v":0},{"$f":"'shaladarpan '!AB747","v":0},{"$f":"'shaladarpan '!AC747","v":0},{"$f":"'shaladarpan '!AD747","v":0}]
[{"$f":"IF(F749=\" \",\" \",ROWS($A$3:A749))","v":747},{"$f":"'shaladarpan '!A748","v":0},{"$f":"'shaladarpan '!B748","v":0},{"$f":"'shaladarpan '!C748","v":0},{"$f":"'shaladarpan '!D748","v":"00:00:00"},{"$f":"'shaladarpan '!E748","v":0},{"$f":"'shaladarpan '!F748","v":"00:00:00"},{"$f":"'shaladarpan '!G748","v":0},{"$f":"'shaladarpan '!H748","v":0},{"$f":"'shaladarpan '!I748","v":0},{"$f":"'shaladarpan '!J748","v":"00:00:00"},{"$f":"'shaladarpan '!K748","v":0},{"$f":"'shaladarpan '!L748","v":0},{"$f":"'shaladarpan '!M748","v":0},{"$f":"'shaladarpan '!N748","v":0},{"$f":"'shaladarpan '!O748","v":0},{"$f":"'shaladarpan '!P748","v":0},{"$f":"'shaladarpan '!Q748","v":0},{"$f":"'shaladarpan '!R748","v":0},{"$f":"'shaladarpan '!S748","v":0},{"$f":"'shaladarpan '!T748","v":0},{"$f":"'shaladarpan '!U748","v":0},{"$f":"'shaladarpan '!V748","v":0},{"$f":"'shaladarpan '!W748","v":0},{"$f":"'shaladarpan '!X748","v":0},{"$f":"'shaladarpan '!Y748","v":0},{"$f":"'shaladarpan '!Z748","v":0},{"$f":"'shaladarpan '!AA748","v":0},{"$f":"'shaladarpan '!AB748","v":0},{"$f":"'shaladarpan '!AC748","v":0},{"$f":"'shaladarpan '!AD748","v":0}]
[{"$f":"IF(F750=\" \",\" \",ROWS($A$3:A750))","v":748},{"$f":"'shaladarpan '!A749","v":0},{"$f":"'shaladarpan '!B749","v":0},{"$f":"'shaladarpan '!C749","v":0},{"$f":"'shaladarpan '!D749","v":"00:00:00"},{"$f":"'shaladarpan '!E749","v":0},{"$f":"'shaladarpan '!F749","v":"00:00:00"},{"$f":"'shaladarpan '!G749","v":0},{"$f":"'shaladarpan '!H749","v":0},{"$f":"'shaladarpan '!I749","v":0},{"$f":"'shaladarpan '!J749","v":"00:00:00"},{"$f":"'shaladarpan '!K749","v":0},{"$f":"'shaladarpan '!L749","v":0},{"$f":"'shaladarpan '!M749","v":0},{"$f":"'shaladarpan '!N749","v":0},{"$f":"'shaladarpan '!O749","v":0},{"$f":"'shaladarpan '!P749","v":0},{"$f":"'shaladarpan '!Q749","v":0},{"$f":"'shaladarpan '!R749","v":0},{"$f":"'shaladarpan '!S749","v":0},{"$f":"'shaladarpan '!T749","v":0},{"$f":"'shaladarpan '!U749","v":0},{"$f":"'shaladarpan '!V749","v":0},{"$f":"'shaladarpan '!W749","v":0},{"$f":"'shaladarpan '!X749","v":0},{"$f":"'shaladarpan '!Y749","v":0},{"$f":"'shaladarpan '!Z749","v":0},{"$f":"'shaladarpan '!AA749","v":0},{"$f":"'shaladarpan '!AB749","v":0},{"$f":"'shaladarpan '!AC749","v":0},{"$f":"'shaladarpan '!AD749","v":0}]
[]
[]
[]
[null,null,null," "]

{"sheet":"portfolio1-5","index":3,"n_rows":41,"n_cols":14,"rows_kept":41,"cut":false,"hidden":false,"merged":[[3,12,3,13],[12,1,12,2],[16,1,16,2],[23,1,23,3],[5,7,11,8],[18,3,18,5],[19,3,19,5],[20,3,21,8],[31,1,31,4],[32,1,32,4],[1,3,2,9],[8,4,8,6],[4,1,4,8],[1,1,2,2],[17,3,17,5],[9,4,9,6],[33,1,33,4],[12,3,12,5],[13,3,13,5],[14,3,14,5],[15,3,15,5],[16,3,16,5],[25,1,25,3],[26,1,26,3],[27,1,27,3],[25,4,25,8],[24,1,24,3],[20,1,21,2],[23,4,23,8],[24,4,24,8],[26,4,26,8],[27,4,27,8],[36,1,36,2],[36,3,36,4],[36,5,36,6],[36,7,36,8],[3,1,3,5],[3,6,3,7],[29,1,29,4],[12,6,13,6],[14,6,15,6],[16,6,16,7],[17,6,17,7],[35,1,35,2],[35,3,35,4],[35,5,35,6],[35,7,35,8],[30,1,30,4]]}
[]
[null,"fo|ky; dk uke ",null,{"$f":"master!D5","v":"jktdh; mPPk ek/;fed fo|ky; vkyfu;kokl ftyk &ukXkkSj"}]
[]
[null,"fo|kFkhZ iksVZQksfy;ks",null,null,null,null,"2021-22",null,null,null,null,null,250]
[null,"SMILE 3.0 के ऑनलाइन एंव ऑफलाइन विद्यार्थी का संधारण"]
[null,null,null,null,null,null,null,"यहाँ विद्यार्थी का फोटो चिपकाये"]
[null,null,null,null,"vkoaVu&vkadyu dh lwpuk"]
[]
[null,null,null,null,"¼d{kk  1&5½"]
[null,null,null,null,"आओ घर से सीखे"]
[]
[]
[null,"fo|kFkhZ dk uke ",null,{"$f":"VLOOKUP($M$4,Table2[],6,0)","v":"manjeet250"},null,null,"वजन","start"]
[null,"firk dk uke",null,{"$f":"VLOOKUP($M$4,Table2[],8,0)","v":"vijay250"},null,null,null,"End"]
[null,"ekrk dk uke",null,{"$f":"VLOOKUP($M$4,Table2[],9,0)","v":"beautiful250"},null,null,"लम्बाई","start"]
[null,"tUe fnukad",null,{"$f":"VLOOKUP($M$4,Table2[],11,0)","v":"2009-10-16"},null,null,null,"End"]
[null,"d{kk ",null,{"$f":"VLOOKUP($M$4,Table2[],2,0)","v":7},null,null,"वर्ग",null,{"$f":"VLOOKUP($M$4,Table2[],3,0)","v":"A"}]
[null,"jksy uECkj",null,{"$f":"VLOOKUP($M$4,Table2[],13,0)","v":250},null,null,"प्रवेशांक",null,{"$f":"VLOOKUP($M$4,Table2[],4,0)","v":4886}]
[null,"eksckby uEcj",null,{"$f":"VLOOKUP($M$4,Table2[],23,0)","v":9828120946}]
[null,"vk/kkj uEcj",null,{"$f":"VLOOKUP($M$4,Table2[],21,0)","v":0}]
[null,"irk",null,{"$f":"PROPER(VLOOKUP(M4,Table2[],24,0))","v":"Alniyawas250"}]
[]
[]
[null,"fo\"k; ",null,null,"fo\"k;k/;kid dk uke"]
[null,"fgUnh",null,null,{"$f":"master!F11","v":"Jh Vhdepan dqekor"}]
[null,"vaxzsth",null,null,{"$f":"master!F12","v":"Jh psukjke cjkMk"}]
[null,"xf.kr",null,null,{"$f":"master!F13","v":"Jh dkywjke"}]
[null,"i;kZoj.k",null,null,{"$f":"master!F14","v":"Jherh lEir pkS/kjh"}]
[]
[null,"विषय / ग्रेड",null,null,null,"fgUnh","vaxzsth","xf.kr","i;kZoj.k"]
[null,"आकलन - 1"]
[null,"मिड टर्म "]
[null,"आकलन - 1",null,null,null,null,null,null,null,null,null,null,{"$f":"master!C19","v":1},{"$f":"master!F19","v":"Jh psukjke cjkMk"}]
[null," समेकितआकलन ",null,null,null,null,null,null,null,null,null,null,{"$f":"master!C20","v":2},{"$f":"master!F20","v":"Jh Vhdepan dqekor"}]
[null,null,null,null,null,null,null,null,null,null,null,null,{"$f":"master!C21","v":3},{"$f":"master!F21","v":"Jherh eatw jkBh"}]
[null,"हस्ता- विद्यार्थी",null,"हस्ता- अभिभावक",null,"हस्ता- कक्षाध्यापक",null,"हस्ता- संस्थाप्रधान",null,null,null,null,{"$f":"master!C22","v":4},{"$f":"master!F22","v":"Jherh lEir pkS/kjh"}]
[null,{"$f":"D13","v":"manjeet250"},null,{"$f":"D14","v":"vijay250"},null,{"$f":"VLOOKUP(D17,M33:N40,2,0)","v":"Jh NksVwjke"},null,{"$f":"master!E6","v":"Jh fnus'k dqekj vks>k"},null,null,null,null,{"$f":"master!C23","v":5},{"$f":"master!F23","v":"Jh dkywjke"}]
[null,null,null,null,null,null,null,null,null,null,null,null,{"$f":"master!C24","v":6},{"$f":"master!F24","v":"Jh izse izdk'k tkV "}]
[null,null,null,null,null,null,null,null,null,null,null,null,{"$f":"master!C25","v":7},{"$f":"master!F25","v":"Jh NksVwjke"}]
[null,null,null,null,null,null,null,null,null,null,null,null,{"$f":"master!C26","v":8},{"$f":"master!F26","v":"Jh c'khj eksgEEkn"}]
[null,null,null,null,null,null,null,null,null,null,null,null,{"$f":"master!C27","v":0},{"$f":"master!F27","v":0}]

{"sheet":"PORTFOLIO 6-8","index":4,"n_rows":40,"n_cols":20,"rows_kept":40,"cut":false,"hidden":false,"merged":[[3,12,3,13],[31,1,31,2],[29,1,29,3],[29,4,29,8],[32,1,32,2],[26,4,26,8],[27,1,27,3],[27,4,27,8],[28,1,28,3],[28,4,28,8],[12,1,12,2],[12,3,12,5],[1,1,2,2],[1,3,2,9],[4,1,4,8],[8,4,8,6],[3,1,3,5],[3,6,3,7],[5,7,11,8],[9,4,9,6],[38,1,38,2],[38,3,38,4],[38,5,38,6],[38,7,38,8],[17,3,17,5],[17,6,17,7],[18,3,18,5],[19,3,19,5],[23,1,23,3],[23,4,23,8],[20,1,21,2],[20,3,21,8],[24,1,24,3],[24,4,24,8],[25,1,25,3],[25,4,25,8],[37,1,37,2],[37,3,37,4],[37,5,37,6],[37,7,37,8],[13,3,13,5],[14,3,14,5],[14,6,15,6],[15,3,15,5],[16,3,16,5],[16,6,16,7],[16,1,16,2],[12,6,13,6],[26,1,26,3],[35,1,35,2],[33,1,33,2],[34,1,34,2]]}
[]
[null,"fo|ky; dk uke ",null,{"$f":"master!D5","v":"jktdh; mPPk ek/;fed fo|ky; vkyfu;kokl ftyk &ukXkkSj"}]
[]
[null,"fo|kFkhZ iksVZQksfy;ks",null,null,null,null,"2021-22",null,null,null,null,null,247]
[null,"SMILE 3.0 के ऑनलाइन एंव ऑफलाइन विद्यार्थी का संधारण"]
[null,null,null,null,null,null,null,"यहाँ विद्यार्थी का फोटो चिपकाये"]
[null,null,null,null,"vkoaVu&vkadyu dh lwpuk"]
[]
[null,null,null,null,"¼d{kk  6&8½"]
[null,null,null,null,"आओ घर से सीखे"]
[]
[]
[null,"fo|kFkhZ dk uke ",null,{"$f":"VLOOKUP($M$4,Table2[],6,0)","v":"manjeet247"},null,null,"वजन","start"]
[null,"firk dk uke",null,{"$f":"VLOOKUP($M$4,Table2[],8,0)","v":"vijay247"},null,null,null,"End"]
[null,"ekrk dk uke",null,{"$f":"VLOOKUP($M$4,Table2[],9,0)","v":"beautiful247"},null,null,"लम्बाई","start"]
[null,"tUe fnukad",null,{"$f":"VLOOKUP($M$4,Table2[],11,0)","v":"2008-07-05"},null,null,null,"End"]
[null,"d{kk ",null,{"$f":"VLOOKUP($M$4,Table2[],2,0)","v":7},null,null,"वर्ग",null,{"$f":"VLOOKUP($M$4,Table2[],3,0)","v":"A"}]
[null,"jksy uECkj",null,{"$f":"VLOOKUP($M$4,Table2[],13,0)","v":247},null,null,"प्रवेशांक",null,{"$f":"VLOOKUP($M$4,Table2[],4,0)","v":3933}]
[null,"eksckby uEcj",null,{"$f":"VLOOKUP($M$4,Table2[],23,0)","v":9828120943}]
[null,"vk/kkj uEcj",null,{"$f":"VLOOKUP($M$4,Table2[],21,0)","v":"XXXX1861"}]
[null,"irk",null,{"$f":"PROPER(VLOOKUP(M4,Table2[],24,0))","v":"Alniyawas247"}]
[]
[]
[null,"fo\"k; ",null,null,"fo\"k;k/;kid dk uke"]
[null,"fgUnh",null,null,{"$f":"master!I11","v":"Jh c'khj eksgEen"}]
[null,"vaxzsth",null,null,{"$f":"master!I12","v":"Jh fot; dqekj iztkir"}]
[null,"xf.kr",null,null,{"$f":"master!I13","v":"Jh jkefuokl"}]
[null,"lkekftd",null,null,{"$f":"master!I14","v":"Jh NksVwjke"}]
[null,"laLd`r",null,null,{"$f":"master!I15","v":"Jh jkefd'kksj"}]
[null,"foKku",null,null,{"$f":"master!I16","v":"Jh gfjvkse eh.kk"}]
[]
[null,"विषय / ग्रेड",null,"fgUnh","vaxzsth","xf.kr","lkekftd","laLd`r","foKku"]
[null,"आकलन - 1",null,null,null,null,null,null,null,null,null,null,null,null,null,null,null,null,{"$f":"master!C19","v":1},{"$f":"master!F19","v":"Jh psukjke cjkMk"}]
[null,"मिड टर्म ",null,null,null,null,null,null,null,null,null,null,null,null,null,null,null,null,{"$f":"master!C20","v":2},{"$f":"master!F20","v":"Jh Vhdepan dqekor"}]
[null,"आकलन - 1",null,null,null,null,null,null,null,null,null,null,null,null,null,null,null,null,{"$f":"master!C21","v":3},{"$f":"master!F21","v":"Jherh eatw jkBh"}]
[null," समेकितआकलन ",null,null,null,null,null,null,null,null,null,null,null,null,null,null,null,null,{"$f":"master!C22","v":4},{"$f":"master!F22","v":"Jherh lEir pkS/kjh"}]
[null,null,null,null,null,null,null,null,null,null,null,null,null,null,null,null,null,null,{"$f":"master!C23","v":5},{"$f":"master!F23","v":"Jh dkywjke"}]
[null,"हस्ता- विद्यार्थी",null,"हस्ता- अभिभावक",null,"हस्ता- कक्षाध्यापक",null,"हस्ता- संस्थाप्रधान",null,null,null,null,null,null,null,null,null,null,{"$f":"master!C24","v":6},{"$f":"master!F24","v":"Jh izse izdk'k tkV "}]
[null,{"$f":"D13","v":"manjeet247"},null,{"$f":"D14","v":"vijay247"},null,{"$f":"VLOOKUP(D17,S33:T40,2,0)","v":"Jh NksVwjke"},null,"Jh fnus'k dqekj vks>k",null,null,null,null,null,null,null,null,null,null,{"$f":"master!C25","v":7},{"$f":"master!F25","v":"Jh NksVwjke"}]
[null,null,null,null,null,null,null,null,null,null,null,null,null,null,null,null,null,null,{"$f":"master!C26","v":8},{"$f":"master!F26","v":"Jh c'khj eksgEEkn"}]

{"sheet":"ON OFF LINE LIST","index":5,"n_rows":51,"n_cols":9,"rows_kept":51,"cut":false,"hidden":false,"merged":[[0,0,1,1],[0,2,1,4],[4,5,7,5],[2,0,3,4]]}
["fo|ky; dk uke ",null,{"$f":"master!D5","v":"jktdh; mPPk ek/;fed fo|ky; vkyfu;kokl ftyk &ukXkkSj"}]
[]
["Lekby 3-0 dk;Zdze ds vUrxZr vkQykbu@ vkuykbu fo|kfFkZ;ks dh lwph ftlds vk/kkj ij f'k{k.k vf/kxe ,ao x`gdk;Z fn;k tk jgk gS"]
[null,null,null,null,null,null,"YES"]
[null,"d{kk","vkuykbu","dqy ukekadu","d{kk/;kid dk uke",null,"NO"]
[null,"CLASS","online"]
[null,4,"NO",{"$f":"COUNTIF('SD LOCKED'!B3:B750,B7)","v":34},{"$f":"INDEX(I7:I15,MATCH(B7,H7:H15,0))","v":"Jherh lEir pkS/kjh"},null,null,{"$f":"master!C19","v":1},{"$f":"master!F19","v":"Jh psukjke cjkMk"}]
[null,null,{"$f":"IF(C7=\"YES\",\"ONLINE\",\"OFLINE\")","v":"OFLINE"}," fo|kfFkZ;ks dh lwpuk",null,null,null,{"$f":"master!C20","v":2},{"$f":"master!F20","v":"Jh Vhdepan dqekor"}]
[null,null,null,null,null,null,null,{"$f":"master!C21","v":3},{"$f":"master!F21","v":"Jherh eatw jkBh"}]
["dz-la-","Name","FatherName","Mobile No Student(Father/Mother/Guardian","Distance From School",null,null,{"$f":"master!C22","v":4},{"$f":"master!F22","v":"Jherh lEir pkS/kjh"}]
[{"$f":"IF(B11=\"\",\"\",ROWS($B$11:B11))","v":1},"ARMAN","INSAF ALI",8432602467,1,null,null,{"$f":"master!C23","v":5},{"$f":"master!F23","v":"Jh dkywjke"}]
[{"$f":"IF(B12=\"\",\"\",ROWS($B$11:B12))","v":2},"GOPAL","KAILASH DAGDI",9549931957,1,null,null,{"$f":"master!C24","v":6},{"$f":"master!F24","v":"Jh izse izdk'k tkV "}]
[{"$f":"IF(B13=\"\",\"\",ROWS($B$11:B13))","v":3},"LALITA","HAPURAM JANGLIYA",8529713428,3,null,null,{"$f":"master!C25","v":7},{"$f":"master!F25","v":"Jh NksVwjke"}]
[{"$f":"IF(B14=\"\",\"\",ROWS($B$11:B14))","v":4},"MARIYAM","HARUN MOHAMMAD",8502073698,1,null,null,{"$f":"master!C26","v":8},{"$f":"master!F26","v":"Jh c'khj eksgEEkn"}]
[{"$f":"IF(B15=\"\",\"\",ROWS($B$11:B15))","v":5},"Naziya","Hamid Mohmmad Teli",0,1]
[{"$f":"IF(B16=\"\",\"\",ROWS($B$11:B16))","v":6},"RAKESH BAWARI","PANCHURAM BAWARI",8003202069,0]
[{"$f":"IF(B17=\"\",\"\",ROWS($B$11:B17))","v":7},"RUKSANA MIRASI","NAWAB ALI",9001741968,1]
[{"$f":"IF(B18=\"\",\"\",ROWS($B$11:B18))","v":8},"SHABANA","ANWAR MIRASI",9001741968,1]
[{"$f":"IF(B19=\"\",\"\",ROWS($B$11:B19))","v":9},"SHAKIL","SABUDDIN",7023753205,1]
[{"$f":"IF(B20=\"\",\"\",ROWS($B$11:B20))","v":10},"SUFIYA BANU","SADAK ALI",9783993643,1]
[{"$f":"IF(B21=\"\",\"\",ROWS($B$11:B21))","v":11},"TIKAM","KAILASH",8094826341,1]
[{"$f":"IF(B22=\"\",\"\",ROWS($B$11:B22))","v":""}]
[{"$f":"IF(B23=\"\",\"\",ROWS($B$11:B23))","v":""}]
[{"$f":"IF(B24=\"\",\"\",ROWS($B$11:B24))","v":""}]
[{"$f":"IF(B25=\"\",\"\",ROWS($B$11:B25))","v":""}]
[{"$f":"IF(B26=\"\",\"\",ROWS($B$11:B26))","v":""}]
[{"$f":"IF(B27=\"\",\"\",ROWS($B$11:B27))","v":""}]
[{"$f":"IF(B28=\"\",\"\",ROWS($B$11:B28))","v":""}]
[{"$f":"IF(B29=\"\",\"\",ROWS($B$11:B29))","v":""}]
[{"$f":"IF(B30=\"\",\"\",ROWS($B$11:B30))","v":""}]
[{"$f":"IF(B31=\"\",\"\",ROWS($B$11:B31))","v":""}]
[{"$f":"IF(B32=\"\",\"\",ROWS($B$11:B32))","v":""}]
[{"$f":"IF(B33=\"\",\"\",ROWS($B$11:B33))","v":""}]
[{"$f":"IF(B34=\"\",\"\",ROWS($B$11:B34))","v":""}]
[{"$f":"IF(B35=\"\",\"\",ROWS($B$11:B35))","v":""}]
[{"$f":"IF(B36=\"\",\"\",ROWS($B$11:B36))","v":""}]
[{"$f":"IF(B37=\"\",\"\",ROWS($B$11:B37))","v":""}]
[{"$f":"IF(B38=\"\",\"\",ROWS($B$11:B38))","v":""}]
[{"$f":"IF(B39=\"\",\"\",ROWS($B$11:B39))","v":""}]
[{"$f":"IF(B40=\"\",\"\",ROWS($B$11:B40))","v":""}]
[{"$f":"IF(B41=\"\",\"\",ROWS($B$11:B41))","v":""}]
[{"$f":"IF(B42=\"\",\"\",ROWS($B$11:B42))","v":""}]
[{"$f":"IF(B43=\"\",\"\",ROWS($B$11:B43))","v":""}]
[{"$f":"IF(B44=\"\",\"\",ROWS($B$11:B44))","v":""}]
[{"$f":"IF(B45=\"\",\"\",ROWS($B$11:B45))","v":""}]
[{"$f":"IF(B46=\"\",\"\",ROWS($B$11:B46))","v":""}]
[{"$f":"IF(B47=\"\",\"\",ROWS($B$11:B47))","v":""}]
[{"$f":"IF(B48=\"\",\"\",ROWS($B$11:B48))","v":""}]
[{"$f":"IF(B49=\"\",\"\",ROWS($B$11:B49))","v":""}]
[{"$f":"IF(B50=\"\",\"\",ROWS($B$11:B50))","v":""}]
[{"$f":"IF(B51=\"\",\"\",ROWS($B$11:B51))","v":""}]

{"sheet":"calling form","index":6,"n_rows":500,"n_cols":27,"rows_kept":500,"cut":false,"hidden":false,"merged":[[7,17,7,19],[0,0,0,7],[1,2,1,4],[1,0,1,1],[5,11,5,18],[6,14,6,16],[6,17,6,19],[4,0,8,0],[4,1,8,1],[4,2,8,2],[4,4,8,4],[4,3,8,3],[7,14,7,16],[2,3,2,6],[9,0,13,0],[9,1,13,1],[9,2,13,2],[9,4,13,4],[29,3,33,3],[29,0,33,0],[29,1,33,1],[29,2,33,2],[14,4,18,4],[9,3,13,3],[14,3,18,3],[29,4,33,4],[14,0,18,0],[14,1,18,1],[14,2,18,2],[19,0,23,0],[13,14,13,16],[12,14,12,16],[19,4,23,4],[24,4,28,4],[19,3,23,3],[24,3,28,3],[19,1,23,1],[19,2,23,2],[24,0,28,0],[24,1,28,1],[24,2,28,2]]}
["Lekby 3-0 ds vUrxZr dkWfyax izk#i¼fo|kFkhZokj fooj.k½"]
["laLFkk iz/kku dk uke",null,{"$f":"master!E6","v":"Jh fnus'k dqekj vks>k"},null,null,null,"fnukad",{"$f":"TODAY()","v":"2021-07-06"},null,null,null,"PRIMARY",null,"    1-5",null,null,null,null,null,null,null,null,0,null,"CLASS","Name","Mobile No Student(Father/Mother/Guardian"]
[null,"d{kk",4,"izkFkfed ;k mPp izkFkfed dk p;u djs",null,null,null,"MIDDLE",null,null,null,"MIDDLE",null,"    6-8",null,null,null,null,null,null,null,null,1,null,{"$f":"Table2[[#This Row],[CLASS]]","v":1},{"$f":"Table2[[#This Row],[Name]]","v":"manjeet1"},{"$f":"Table2[[#This Row],[Mobile No Student(Father/Mother/Guardian]]","v":9828120697}]
["dz-la-","ihbZbZvks dk uke","v/khuLFk fo|ky; dk uke","f'k{kd dk uke","fo\"k;","d{kk ","fo|kFkhZ dk uke","eksckby ua-",null,null,null,null,null,null,null,null,null,null,null,null,null,null,2,null,{"$f":"Table2[[#This Row],[CLASS]]","v":1},{"$f":"Table2[[#This Row],[Name]]","v":"manjeet2"},{"$f":"Table2[[#This Row],[Mobile No Student(Father/Mother/Guardian]]","v":9828120698}]
[1,{"$f":"master!D4","v":"jktdh; mPPk ek/;fed fo|ky; vkyfu;kokl ftyk &ukXkkSj"},{"$f":"master!D5","v":"jktdh; mPPk ek/;fed fo|ky; vkyfu;kokl ftyk &ukXkkSj"},{"$f":"IF($H$3=\"PRIMARY\",L18,Q18)","v":"Jh c'khj eksgEen"},{"$f":"IF($H$3=\"PRIMARY\",J18,K18)","v":"fgUnh"},3,"manjeet3",{"$f":"VLOOKUP(G5,Table3[[Name]:[Mobile No Student(Father/Mother/Guardian]],2,0)","v":9828120699},null,null,null,null,null,null,null,null,null,null,null,null,null,null,3,null,{"$f":"Table2[[#This Row],[CLASS]]","v":1},{"$f":"Table2[[#This Row],[Name]]","v":"manjeet3"},{"$f":"Table2[[#This Row],[Mobile No Student(Father/Mother/Guardian]]","v":9828120699}]
[null,null,null,null,null,3,"manjeet3",{"$f":"VLOOKUP(G6,Table3[[Name]:[Mobile No Student(Father/Mother/Guardian]],2,0)","v":9828120699},null,null,null,"d{kk 1 ls 8 rd fo\"k;k/;kid dk uke",null,null,null,null,null,null,null,null,null,null,4,null,{"$f":"Table2[[#This Row],[CLASS]]","v":1},{"$f":"Table2[[#This Row],[Name]]","v":"manjeet4"},{"$f":"Table2[[#This Row],[Mobile No Student(Father/Mother/Guardian]]","v":9828120700}]
[null,null,null,null,null,3,"manjeet6",{"$f":"VLOOKUP(G7,Table3[[Name]:[Mobile No Student(Father/Mother/Guardian]],2,0)","v":9828120702},null,"d{kk","d{kk","MIDDLE","PRIMARY",null,"d{kk 1 ls 5 rd",null,null,"d{kk 6 ls 8 rd",null,null,null,null,5,null,{"$f":"Table2[[#This Row],[CLASS]]","v":1},{"$f":"Table2[[#This Row],[Name]]","v":"manjeet5"},{"$f":"Table2[[#This Row],[Mobile No Student(Father/Mother/Guardian]]","v":9828120701}]
[null,null,null,null,null,3,"manjeet7",{"$f":"VLOOKUP(G8,Table3[[Name]:[Mobile No Student(Father/Mother/Guardian]],2,0)","v":9828120703},null,0,6,"fo\"k; ",null,null,"fo\"k;k/;kid dk uke",null,null,"fo\"k;k/;kid dk uke",null,null,null,null,6,null,{"$f":"Table2[[#This Row],[CLASS]]","v":1},{"$f":"Table2[[#This Row],[Name]]","v":"manjeet6"},{"$f":"Table2[[#This Row],[Mobile No Student(Father/Mother/Guardian]]","v":9828120702}]
[null,null,null,null,null,3,"Anita",{"$f":"VLOOKUP(G9,Table3[[Name]:[Mobile No Student(Father/Mother/Guardian]],2,0)","v":{"$error":"#N/A"}},null,1,7,"fgUnh",{"$f":"L9","v":"fgUnh"},null,{"$f":"master!F11","v":"Jh Vhdepan dqekor"},null,null,{"$f":"master!I11","v":"Jh c'khj eksgEen"},null,null,null,null,7,null,{"$f":"Table2[[#This Row],[CLASS]]","v":1},{"$f":"Table2[[#This Row],[Name]]","v":"manjeet7"},{"$f":"Table2[[#This Row],[Mobile No Student(Father/Mother/Guardian]]","v":9828120703}]
[2,{"$f":"B5","v":"jktdh; mPPk ek/;fed fo|ky; vkyfu;kokl ftyk &ukXkkSj"},{"$f":"C5","v":"jktdh; mPPk ek/;fed fo|ky; vkyfu;kokl ftyk &ukXkkSj"},{"$f":"IF($H$3=\"PRIMARY\",L19,Q19)","v":"Jh fot; dqekj iztkir"},{"$f":"IF($H$3=\"PRIMARY\",J19,K19)","v":"vaxzsth"},5,"manjeet4",{"$f":"VLOOKUP(G10,Table3[[Name]:[Mobile No Student(Father/Mother/Guardian]],2,0)","v":9828120700},null,2,8,"vaxzsth",{"$f":"L10","v":"vaxzsth"},null,{"$f":"master!F12","v":"Jh psukjke cjkMk"},null,null,{"$f":"master!I12","v":"Jh fot; dqekj iztkir"},null,null,null,null,8,null,{"$f":"Table2[[#This Row],[CLASS]]","v":1},{"$f":"Table2[[#This Row],[Name]]","v":"manjeet8"},{"$f":"Table2[[#This Row],[Mobile No Student(Father/Mother/Guardian]]","v":9828120704}]
[null,null,null,null,null,5,"Anita",{"$f":"VLOOKUP(G11,Table3[[Name]:[Mobile No Student(Father/Mother/Guardian]],2,0)","v":{"$error":"#N/A"}},null,3,null,"xf.kr",{"$f":"L11","v":"xf.kr"},null,{"$f":"master!F13","v":"Jh dkywjke"},null,null,{"$f":"master!I13","v":"Jh jkefuokl"},null,null,null,null,null,null,{"$f":"Table2[[#This Row],[CLASS]]","v":1},{"$f":"Table2[[#This Row],[Name]]","v":"manjeet9"},{"$f":"Table2[[#This Row],[Mobile No Student(Father/Mother/Guardian]]","v":9828120705}]
[null,null,null,null,null,5,"VIKRAM",{"$f":"VLOOKUP(G12,Table3[[Name]:[Mobile No Student(Father/Mother/Guardian]],2,0)","v":{"$error":"#N/A"}},null,4,null,"lkekftd","Ik;kZoj.k",null,{"$f":"master!F14","v":"Jherh lEir pkS/kjh"},null,null,{"$f":"master!I14","v":"Jh NksVwjke"},null,null,null,null,null,null,{"$f":"Table2[[#This Row],[CLASS]]","v":1},{"$f":"Table2[[#This Row],[Name]]","v":"manjeet10"},{"$f":"Table2[[#This Row],[Mobile No Student(Father/Mother/Guardian]]","v":9828120706}]
[null,null,null,null,null,5,"SOHIL",{"$f":"VLOOKUP(G13,Table3[[Name]:[Mobile No Student(Father/Mother/Guardian]],2,0)","v":{"$error":"#N/A"}},null,6,null,"laLd`r",null,null,{"$f":"master!F15","v":0},null,null,{"$f":"master!I15","v":"Jh jkefd'kksj"},null,null,null,null,null,null,{"$f":"Table2[[#This Row],[CLASS]]","v":1},{"$f":"Table2[[#This Row],[Name]]","v":"manjeet11"},{"$f":"Table2[[#This Row],[Mobile No Student(Father/Mother/Guardian]]","v":9828120707}]
[null,null,null,null,null,5,"HEENA BANOO",{"$f":"VLOOKUP(G14,Table3[[Name]:[Mobile No Student(Father/Mother/Guardian]],2,0)","v":{"$error":"#N/A"}},null,7,null,"foKku",null,null,{"$f":"master!F16","v":0},null,null,{"$f":"master!I16","v":"Jh gfjvkse eh.kk"},null,null,null,null,null,null,{"$f":"Table2[[#This Row],[CLASS]]","v":1},{"$f":"Table2[[#This Row],[Name]]","v":"manjeet12"},{"$f":"Table2[[#This Row],[Mobile No Student(Father/Mother/Guardian]]","v":9828120708}]
[3,{"$f":"B10","v":"jktdh; mPPk ek/;fed fo|ky; vkyfu;kokl ftyk &ukXkkSj"},"jktdh; mPPk ek/;fed fo|ky; vkyfu;kokl ftyk &ukXkkSj",{"$f":"IF($H$3=\"PRIMARY\",L20,Q20)","v":"Jh jkefuokl"},{"$f":"IF($H$3=\"PRIMARY\",J20,K20)","v":"xf.kr"},5,"Kuldeep",{"$f":"VLOOKUP(G15,Table3[[Name]:[Mobile No Student(Father/Mother/Guardian]],2,0)","v":{"$error":"#N/A"}},null,8,null,null,null,null,null,null,null,null,null,null,null,null,null,null,{"$f":"Table2[[#This Row],[CLASS]]","v":1},{"$f":"Table2[[#This Row],[Name]]","v":"manjeet13"},{"$f":"Table2[[#This Row],[Mobile No Student(Father/Mother/Guardian]]","v":9828120709}]
[null,null,null,null,null,5,"Aaliya Bano",{"$f":"VLOOKUP(G16,Table3[[Name]:[Mobile No Student(Father/Mother/Guardian]],2,0)","v":{"$error":"#N/A"}},null,null,null,null,null,null,null,null,null,null,null,null,null,null,null,null,{"$f":"Table2[[#This Row],[CLASS]]","v":1},{"$f":"Table2[[#This Row],[Name]]","v":"manjeet14"},{"$f":"Table2[[#This Row],[Mobile No Student(Father/Mother/Guardian]]","v":9828120710}]
[null,null,null,null,null,5,"Aaliya Bano",{"$f":"VLOOKUP(G17,Table3[[Name]:[Mobile No Student(Father/Mother/Guardian]],2,0)","v":{"$error":"#N/A"}},null,"primary","middle",1,2,3,4,5,6,7,8,null,null,null,null,null,{"$f":"Table2[[#This Row],[CLASS]]","v":1},{"$f":"Table2[[#This Row],[Name]]","v":"manjeet15"},{"$f":"Table2[[#This Row],[Mobile No Student(Father/Mother/Guardian]]","v":9828120711}]
[null,null,null,null,null,5,"Aaliya Bano",{"$f":"VLOOKUP(G18,Table3[[Name]:[Mobile No Student(Father/Mother/Guardian]],2,0)","v":{"$error":"#N/A"}},null,{"$f":"M9","v":"fgUnh"},{"$f":"L9","v":"fgUnh"},{"$f":"O9","v":"Jh Vhdepan dqekor"},{"$f":"L18","v":"Jh Vhdepan dqekor"},{"$f":"M18","v":"Jh Vhdepan dqekor"},{"$f":"N18","v":"Jh Vhdepan dqekor"},{"$f":"O18","v":"Jh Vhdepan dqekor"},{"$f":"R9","v":"Jh c'khj eksgEen"},{"$f":"Q18","v":"Jh c'khj eksgEen"},{"$f":"R18","v":"Jh c'khj eksgEen"},null,null,null,null,null,{"$f":"Table2[[#This Row],[CLASS]]","v":1},{"$f":"Table2[[#This Row],[Name]]","v":"manjeet16"},{"$f":"Table2[[#This Row],[Mobile No Student(Father/Mother/Guardian]]","v":9828120712}]
[null,null,null,null,null,5,"Aaliya Bano",{"$f":"VLOOKUP(G19,Table3[[Name]:[Mobile No Student(Father/Mother/Guardian]],2,0)","v":{"$error":"#N/A"}},null,{"$f":"M10","v":"vaxzsth"},{"$f":"L10","v":"vaxzsth"},{"$f":"O10","v":"Jh psukjke cjkMk"},{"$f":"L19","v":"Jh psukjke cjkMk"},"Jh psukjke cjkMk","Jh psukjke cjkMk","Jh psukjke cjkMk",{"$f":"R10","v":"Jh fot; dqekj iztkir"},{"$f":"Q19","v":"Jh fot; dqekj iztkir"},"Jh fot; dqekj iztkir",null,null,null,null,null,{"$f":"Table2[[#This Row],[CLASS]]","v":1},{"$f":"Table2[[#This Row],[Name]]","v":"manjeet17"},{"$f":"Table2[[#This Row],[Mobile No Student(Father/Mother/Guardian]]","v":9828120713}]
[4,{"$f":"B15","v":"jktdh; mPPk ek/;fed fo|ky; vkyfu;kokl ftyk &ukXkkSj"},"jktdh; mPPk ek/;fed fo|ky; vkyfu;kokl ftyk &ukXkkSj",{"$f":"IF($H$3=\"PRIMARY\",L21,Q21)","v":"Jh NksVwjke"},{"$f":"IF($H$3=\"PRIMARY\",J21,K21)","v":"lkekftd"},5,"Aaliya Bano",{"$f":"VLOOKUP(G20,Table3[[Name]:[Mobile No Student(Father/Mother/Guardian]],2,0)","v":{"$error":"#N/A"}},null,"xf.kr","xf.kr","Jh dkywjke","Jh dkywjke","Jh dkywjke","Jh dkywjke","Jh dkywjke","Jh jkefuokl",{"$f":"Q20","v":"Jh jkefuokl"},"Jh jkefuokl",null,null,null,null,null,{"$f":"Table2[[#This Row],[CLASS]]","v":1},{"$f":"Table2[[#This Row],[Name]]","v":"manjeet18"},{"$f":"Table2[[#This Row],[Mobile No Student(Father/Mother/Guardian]]","v":9828120714}]
[null,null,null,null,null,5,"Aaliya Bano",{"$f":"VLOOKUP(G21,Table3[[Name]:[Mobile No Student(Father/Mother/Guardian]],2,0)","v":{"$error":"#N/A"}},null,"Ik;kZoj.k","lkekftd","Jherh lEir pkS/kjh","Jherh lEir pkS/kjh","Jherh lEir pkS/kjh","Jherh lEir pkS/kjh","Jherh lEir pkS/kjh","Jh NksVwjke",{"$f":"Q21","v":"Jh NksVwjke"},"Jh NksVwjke",null,null,null,null,null,{"$f":"Table2[[#This Row],[CLASS]]","v":1},{"$f":"Table2[[#This Row],[Name]]","v":"manjeet19"},{"$f":"Table2[[#This Row],[Mobile No Student(Father/Mother/Guardian]]","v":9828120715}]
[null,null,null,null,null,5,"Aaliya Bano",{"$f":"VLOOKUP(G22,Table3[[Name]:[Mobile No Student(Father/Mother/Guardian]],2,0)","v":{"$error":"#N/A"}},null,null,"laLd`r",0,null,null,null,null,"Jh jkefd'kksj",{"$f":"Q22","v":"Jh jkefd'kksj"},"Jh jkefd'kksj",null,null,null,null,null,{"$f":"Table2[[#This Row],[CLASS]]","v":1},{"$f":"Table2[[#This Row],[Name]]","v":"manjeet20"},{"$f":"Table2[[#This Row],[Mobile No Student(Father/Mother/Guardian]]","v":9828120716}]
[null,null,null,null,null,5,"Aaliya Bano",{"$f":"VLOOKUP(G23,Table3[[Name]:[Mobile No Student(Father/Mother/Guardian]],2,0)","v":{"$error":"#N/A"}},null,null,"foKku",0,null,null,null,null,"Jh gfjvkse eh.kk",{"$f":"Q23","v":"Jh gfjvkse eh.kk"},"Jh gfjvkse eh.kk",null,null,null,null,null,{"$f":"Table2[[#This Row],[CLASS]]","v":1},{"$f":"Table2[[#This Row],[Name]]","v":"manjeet21"},{"$f":"Table2[[#This Row],[Mobile No Student(Father/Mother/Guardian]]","v":9828120717}]
[null,null,null,null,null,5,"Aaliya Bano",{"$f":"VLOOKUP(G24,Table3[[Name]:[Mobile No Student(Father/Mother/Guardian]],2,0)","v":{"$error":"#N/A"}},null,null,null,null,null,null,null,null,null,null,null,null,null,null,null,null,{"$f":"Table2[[#This Row],[CLASS]]","v":1},{"$f":"Table2[[#This Row],[Name]]","v":"manjeet22"},{"$f":"Table2[[#This Row],[Mobile No Student(Father/Mother/Guardian]]","v":9828120718}]
[5,{"$f":"B20","v":"jktdh; mPPk ek/;fed fo|ky; vkyfu;kokl ftyk &ukXkkSj"},"jktdh; mPPk ek/;fed fo|ky; vkyfu;kokl ftyk &ukXkkSj",{"$f":"IF($H$3=\"PRIMARY\",L22,Q22)","v":"Jh jkefd'kksj"},{"$f":"IF($H$3=\"PRIMARY\",J22,K22)","v":"laLd`r"},5,"Aaliya Bano",{"$f":"VLOOKUP(G25,Table3[[Name]:[Mobile No Student(Father/Mother/Guardian]],2,0)","v":{"$error":"#N/A"}},null,null,null,null,null,null,null,null,null,null,null,null,null,null,null,null,{"$f":"Table2[[#This Row],[CLASS]]","v":1},{"$f":"Table2[[#This Row],[Name]]","v":"manjeet23"},{"$f":"Table2[[#This Row],[Mobile No Student(Father/Mother/Guardian]]","v":9828120719}]
[null,null,null,null,null,5,"Bushra",{"$f":"VLOOKUP(G26,Table3[[Name]:[Mobile No Student(Father/Mother/Guardian]],2,0)","v":{"$error":"#N/A"}},null,null,null,null,null,null,null,null,null,null,null,null,null,null,null,null,{"$f":"Table2[[#This Row],[CLASS]]","v":1},{"$f":"Table2[[#This Row],[Name]]","v":"manjeet24"},{"$f":"Table2[[#This Row],[Mobile No Student(Father/Mother/Guardian]]","v":9828120720}]
[null,null,null,null,null,5,"Aaliya Bano",{"$f":"VLOOKUP(G27,Table3[[Name]:[Mobile No Student(Father/Mother/Guardian]],2,0)","v":{"$error":"#N/A"}},null,null,null,null,null,null,null,null,null,null,null,null,null,null,null,null,{"$f":"Table2[[#This Row],[CLASS]]","v":1},{"$f":"Table2[[#This Row],[Name]]","v":"manjeet25"},{"$f":"Table2[[#This Row],[Mobile No Student(Father/Mother/Guardian]]","v":9828120721}]
[null,null,null,null,null,5,"Imran",{"$f":"VLOOKUP(G28,Table3[[Name]:[Mobile No Student(Father/Mother/Guardian]],2,0)","v":{"$error":"#N/A"}},null,null,null,null,null,null,null,null,null,null,null,null,null,null,null,null,{"$f":"Table2[[#This Row],[CLASS]]","v":1},{"$f":"Table2[[#This Row],[Name]]","v":"manjeet26"},{"$f":"Table2[[#This Row],[Mobile No Student(Father/Mother/Guardian]]","v":9828120722}]
[null,null,null,null,null,5,"Aaliya Bano",{"$f":"VLOOKUP(G29,Table3[[Name]:[Mobile No Student(Father/Mother/Guardian]],2,0)","v":{"$error":"#N/A"}},null,null,null,null,null,null,null,null,null,null,null,null,null,null,null,null,{"$f":"Table2[[#This Row],[CLASS]]","v":2},{"$f":"Table2[[#This Row],[Name]]","v":"manjeet27"},{"$f":"Table2[[#This Row],[Mobile No Student(Father/Mother/Guardian]]","v":9828120723}]
[6,{"$f":"B25","v":"jktdh; mPPk ek/;fed fo|ky; vkyfu;kokl ftyk &ukXkkSj"},"jktdh; mPPk ek/;fed fo|ky; vkyfu;kokl ftyk &ukXkkSj",{"$f":"IF($H$3=\"PRIMARY\",L23,Q23)","v":"Jh gfjvkse eh.kk"},{"$f":"IF($H$3=\"PRIMARY\",J23,K23)","v":"foKku"},6,"FARDEEN KHAN",{"$f":"VLOOKUP(G30,Table3[[Name]:[Mobile No Student(Father/Mother/Guardian]],2,0)","v":{"$error":"#N/A"}},null,null,null,null,null,null,null,null,null,null,null,null,null,null,null,null,{"$f":"Table2[[#This Row],[CLASS]]","v":2},{"$f":"Table2[[#This Row],[Name]]","v":"manjeet28"},{"$f":"Table2[[#This Row],[Mobile No Student(Father/Mother/Guardian]]","v":9828120724}]
[null,null,null,null,null,7,"KOMAL KANWAR",{"$f":"VLOOKUP(G31,Table3[[Name]:[Mobile No Student(Father/Mother/Guardian]],2,0)","v":{"$error":"#N/A"}},null,null,null,null,null,null,null,null,null,null,null,null,null,null,null,null,{"$f":"Table2[[#This Row],[CLASS]]","v":2},{"$f":"Table2[[#This Row],[Name]]","v":"manjeet29"},{"$f":"Table2[[#This Row],[Mobile No Student(Father/Mother/Guardian]]","v":9828120725}]
[null,null,null,null,null,5,"MONIKA",{"$f":"VLOOKUP(G32,Table3[[Name]:[Mobile No Student(Father/Mother/Guardian]],2,0)","v":{"$error":"#N/A"}},null,null,null,null,null,null,null,null,null,null,null,null,null,null,null,null,{"$f":"Table2[[#This Row],[CLASS]]","v":2},{"$f":"Table2[[#This Row],[Name]]","v":"manjeet30"},{"$f":"Table2[[#This Row],[Mobile No Student(Father/Mother/Guardian]]","v":9828120726}]
[null,null,null,null,null,5,"BHAWANI SINGH",{"$f":"VLOOKUP(G33,Table3[[Name]:[Mobile No Student(Father/Mother/Guardian]],2,0)","v":{"$error":"#N/A"}},null,null,null,null,null,null,null,null,null,null,null,null,null,null,null,null,{"$f":"Table2[[#This Row],[CLASS]]","v":2},{"$f":"Table2[[#This Row],[Name]]","v":"manjeet31"},{"$f":"Table2[[#This Row],[Mobile No Student(Father/Mother/Guardian]]","v":9828120727}]
[null,null,null,null,null,5,"MAMTA",{"$f":"VLOOKUP(G34,Table3[[Name]:[Mobile No Student(Father/Mother/Guardian]],2,0)","v":{"$error":"#N/A"}},null,null,null,null,null,null,null,null,null,null,null,null,null,null,null,null,{"$f":"Table2[[#This Row],[CLASS]]","v":2},{"$f":"Table2[[#This Row],[Name]]","v":"manjeet32"},{"$f":"Table2[[#This Row],[Mobile No Student(Father/Mother/Guardian]]","v":9828120728}]
[null,null,null,null,null,null,null,null,null,null,null,null,null,null,null,null,null,null,null,null,null,null,null,null,{"$f":"Table2[[#This Row],[CLASS]]","v":2},{"$f":"Table2[[#This Row],[Name]]","v":"manjeet33"},{"$f":"Table2[[#This Row],[Mobile No Student(Father/Mother/Guardian]]","v":9828120729}]
[null,null,null,null,null,null,null,null,null,null,null,null,null,null,null,null,null,null,null,null,null,null,null,null,{"$f":"Table2[[#This Row],[CLASS]]","v":2},{"$f":"Table2[[#This Row],[Name]]","v":"manjeet34"},{"$f":"Table2[[#This Row],[Mobile No Student(Father/Mother/Guardian]]","v":9828120730}]
[null,"gLrk{kj",null,null,"gLrk{kj",null,null,"gLrk{kj",null,null,null,null,null,null,null,null,null,null,null,null,null,null,null,null,{"$f":"Table2[[#This Row],[CLASS]]","v":2},{"$f":"Table2[[#This Row],[Name]]","v":"manjeet35"},{"$f":"Table2[[#This Row],[Mobile No Student(Father/Mother/Guardian]]","v":9828120731}]
[null,"iz/kkukpk;Z",null,null,"Lekby izHkkjh",null,null,"d{kk/;kid",null,null,null,null,null,null,null,null,null,null,null,null,null,null,null,null,{"$f":"Table2[[#This Row],[CLASS]]","v":2},{"$f":"Table2[[#This Row],[Name]]","v":"manjeet36"},{"$f":"Table2[[#This Row],[Mobile No Student(Father/Mother/Guardian]]","v":9828120732}]
[null,null,null,null,null,null,null,null,null,null,null,null,null,null,null,null,null,null,null,null,null,null,null,null,{"$f":"Table2[[#This Row],[CLASS]]","v":2},{"$f":"Table2[[#This Row],[Name]]","v":"manjeet37"},{"$f":"Table2[[#This Row],[Mobile No Student(Father/Mother/Guardian]]","v":9828120733}]
[null,null,null,null,null,null,null,null,null,null,null,null,null,null,null,null,null,null,null,null,null,null,null,null,{"$f":"Table2[[#This Row],[CLASS]]","v":2},{"$f":"Table2[[#This Row],[Name]]","v":"manjeet38"},{"$f":"Table2[[#This Row],[Mobile No Student(Father/Mother/Guardian]]","v":9828120734}]
[null,null,null,null,null,null,null,null,null,null,null,null,null,null,null,null,null,null,null,null,null,null,null,null,{"$f":"Table2[[#This Row],[CLASS]]","v":2},{"$f":"Table2[[#This Row],[Name]]","v":"manjeet39"},{"$f":"Table2[[#This Row],[Mobile No Student(Father/Mother/Guardian]]","v":9828120735}]
[null,null,null,null,null,null,null,null,null,null,null,null,null,null,null,null,null,null,null,null,null,null,null,null,{"$f":"Table2[[#This Row],[CLASS]]","v":2},{"$f":"Table2[[#This Row],[Name]]","v":"manjeet40"},{"$f":"Table2[[#This Row],[Mobile No Student(Father/Mother/Guardian]]","v":9828120736}]
[null,null,null,null,null,null,null,null,null,null,null,null,null,null,null,null,null,null,null,null,null,null,null,null,{"$f":"Table2[[#This Row],[CLASS]]","v":2},{"$f":"Table2[[#This Row],[Name]]","v":"manjeet41"},{"$f":"Table2[[#This Row],[Mobile No Student(Father/Mother/Guardian]]","v":9828120737}]
[null,null,null,null,null,null,null,null,null,null,null,null,null,null,null,null,null,null,null,null,null,null,null,null,{"$f":"Table2[[#This Row],[CLASS]]","v":2},{"$f":"Table2[[#This Row],[Name]]","v":"manjeet42"},{"$f":"Table2[[#This Row],[Mobile No Student(Father/Mother/Guardian]]","v":9828120738}]
[null,null,null,null,null,null,null,null,null,null,null,null,null,null,null,null,null,null,null,null,null,null,null,null,{"$f":"Table2[[#This Row],[CLASS]]","v":2},{"$f":"Table2[[#This Row],[Name]]","v":"manjeet43"},{"$f":"Table2[[#This Row],[Mobile No Student(Father/Mother/Guardian]]","v":9828120739}]
[null,null,null,null,null,null,null,null,null,null,null,null,null,null,null,null,null,null,null,null,null,null,null,null,{"$f":"Table2[[#This Row],[CLASS]]","v":2},{"$f":"Table2[[#This Row],[Name]]","v":"manjeet44"},{"$f":"Table2[[#This Row],[Mobile No Student(Father/Mother/Guardian]]","v":9828120740}]
[null,null,null,null,null,null,null,null,null,null,null,null,null,null,null,null,null,null,null,null,null,null,null,null,{"$f":"Table2[[#This Row],[CLASS]]","v":2},{"$f":"Table2[[#This Row],[Name]]","v":"manjeet45"},{"$f":"Table2[[#This Row],[Mobile No Student(Father/Mother/Guardian]]","v":9828120741}]
[null,null,null,null,null,null,null,null,null,null,null,null,null,null,null,null,null,null,null,null,null,null,null,null,{"$f":"Table2[[#This Row],[CLASS]]","v":2},{"$f":"Table2[[#This Row],[Name]]","v":"manjeet46"},{"$f":"Table2[[#This Row],[Mobile No Student(Father/Mother/Guardian]]","v":9828120742}]
[null,null,null,null,null,null,null,null,null,null,null,null,null,null,null,null,null,null,null,null,null,null,null,null,{"$f":"Table2[[#This Row],[CLASS]]","v":3},{"$f":"Table2[[#This Row],[Name]]","v":"manjeet47"},{"$f":"Table2[[#This Row],[Mobile No Student(Father/Mother/Guardian]]","v":9828120743}]
[null,null,null,null,null,null,null,null,null,null,null,null,null,null,null,null,null,null,null,null,null,null,null,null,{"$f":"Table2[[#This Row],[CLASS]]","v":3},{"$f":"Table2[[#This Row],[Name]]","v":"manjeet48"},{"$f":"Table2[[#This Row],[Mobile No Student(Father/Mother/Guardian]]","v":9828120744}]
[null,null,null,null,null,null,null,null,null,null,null,null,null,null,null,null,null,null,null,null,null,null,null,null,{"$f":"Table2[[#This Row],[CLASS]]","v":3},{"$f":"Table2[[#This Row],[Name]]","v":"manjeet49"},{"$f":"Table2[[#This Row],[Mobile No Student(Father/Mother/Guardian]]","v":9828120745}]
[null,null,null,null,null,null,null,null,null,null,null,null,null,null,null,null,null,null,null,null,null,null,null,null,{"$f":"Table2[[#This Row],[CLASS]]","v":3},{"$f":"Table2[[#This Row],[Name]]","v":"manjeet50"},{"$f":"Table2[[#This Row],[Mobile No Student(Father/Mother/Guardian]]","v":9828120746}]
[null,null,null,null,null,null,null,null,null,null,null,null,null,null,null,null,null,null,null,null,null,null,null,null,{"$f":"Table2[[#This Row],[CLASS]]","v":3},{"$f":"Table2[[#This Row],[Name]]","v":"manjeet51"},{"$f":"Table2[[#This Row],[Mobile No Student(Father/Mother/Guardian]]","v":9828120747}]
[null,null,null,null,null,null,null,null,null,null,null,null,null,null,null,null,null,null,null,null,null,null,null,null,{"$f":"Table2[[#This Row],[CLASS]]","v":3},{"$f":"Table2[[#This Row],[Name]]","v":"manjeet52"},{"$f":"Table2[[#This Row],[Mobile No Student(Father/Mother/Guardian]]","v":9828120748}]
[null,null,null,null,null,null,null,null,null,null,null,null,null,null,null,null,null,null,null,null,null,null,null,null,{"$f":"Table2[[#This Row],[CLASS]]","v":3},{"$f":"Table2[[#This Row],[Name]]","v":"manjeet53"},{"$f":"Table2[[#This Row],[Mobile No Student(Father/Mother/Guardian]]","v":9828120749}]
[null,null,null,null,null,null,null,null,null,null,null,null,null,null,null,null,null,null,null,null,null,null,null,null,{"$f":"Table2[[#This Row],[CLASS]]","v":3},{"$f":"Table2[[#This Row],[Name]]","v":"manjeet54"},{"$f":"Table2[[#This Row],[Mobile No Student(Father/Mother/Guardian]]","v":9828120750}]
[null,null,null,null,null,null,null,null,null,null,null,null,null,null,null,null,null,null,null,null,null,null,null,null,{"$f":"Table2[[#This Row],[CLASS]]","v":3},{"$f":"Table2[[#This Row],[Name]]","v":"manjeet55"},{"$f":"Table2[[#This Row],[Mobile No Student(Father/Mother/Guardian]]","v":9828120751}]
[null,null,null,null,null,null,null,null,null,null,null,null,null,null,null,null,null,null,null,null,null,null,null,null,{"$f":"Table2[[#This Row],[CLASS]]","v":3},{"$f":"Table2[[#This Row],[Name]]","v":"manjeet56"},{"$f":"Table2[[#This Row],[Mobile No Student(Father/Mother/Guardian]]","v":9828120752}]
[null,null,null,null,null,null,null,null,null,null,null,null,null,null,null,null,null,null,null,null,null,null,null,null,{"$f":"Table2[[#This Row],[CLASS]]","v":3},{"$f":"Table2[[#This Row],[Name]]","v":"manjeet57"},{"$f":"Table2[[#This Row],[Mobile No Student(Father/Mother/Guardian]]","v":9828120753}]
[null,null,null,null,null,null,null,null,null,null,null,null,null,null,null,null,null,null,null,null,null,null,null,null,{"$f":"Table2[[#This Row],[CLASS]]","v":3},{"$f":"Table2[[#This Row],[Name]]","v":"manjeet58"},{"$f":"Table2[[#This Row],[Mobile No Student(Father/Mother/Guardian]]","v":9828120754}]
[null,null,null,null,null,null,null,null,null,null,null,null,null,null,null,null,null,null,null,null,null,null,null,null,{"$f":"Table2[[#This Row],[CLASS]]","v":3},{"$f":"Table2[[#This Row],[Name]]","v":"manjeet59"},{"$f":"Table2[[#This Row],[Mobile No Student(Father/Mother/Guardian]]","v":9828120755}]
[null,null,null,null,null,null,null,null,null,null,null,null,null,null,null,null,null,null,null,null,null,null,null,null,{"$f":"Table2[[#This Row],[CLASS]]","v":3},{"$f":"Table2[[#This Row],[Name]]","v":"manjeet60"},{"$f":"Table2[[#This Row],[Mobile No Student(Father/Mother/Guardian]]","v":9828120756}]
[null,null,null,null,null,null,null,null,null,null,null,null,null,null,null,null,null,null,null,null,null,null,null,null,{"$f":"Table2[[#This Row],[CLASS]]","v":3},{"$f":"Table2[[#This Row],[Name]]","v":"manjeet61"},{"$f":"Table2[[#This Row],[Mobile No Student(Father/Mother/Guardian]]","v":9828120757}]
[null,null,null,null,null,null,null,null,null,null,null,null,null,null,null,null,null,null,null,null,null,null,null,null,{"$f":"Table2[[#This Row],[CLASS]]","v":3},{"$f":"Table2[[#This Row],[Name]]","v":"manjeet62"},{"$f":"Table2[[#This Row],[Mobile No Student(Father/Mother/Guardian]]","v":9828120758}]
[null,null,null,null,null,null,null,null,null,null,null,null,null,null,null,null,null,null,null,null,null,null,null,null,{"$f":"Table2[[#This Row],[CLASS]]","v":3},{"$f":"Table2[[#This Row],[Name]]","v":"manjeet63"},{"$f":"Table2[[#This Row],[Mobile No Student(Father/Mother/Guardian]]","v":9828120759}]
[null,null,null,null,null,null,null,null,null,null,null,null,null,null,null,null,null,null,null,null,null,null,null,null,{"$f":"Table2[[#This Row],[CLASS]]","v":3},{"$f":"Table2[[#This Row],[Name]]","v":"manjeet64"},{"$f":"Table2[[#This Row],[Mobile No Student(Father/Mother/Guardian]]","v":9828120760}]
[null,null,null,null,null,null,null,null,null,null,null,null,null,null,null,null,null,null,null,null,null,null,null,null,{"$f":"Table2[[#This Row],[CLASS]]","v":3},{"$f":"Table2[[#This Row],[Name]]","v":"manjeet65"},{"$f":"Table2[[#This Row],[Mobile No Student(Father/Mother/Guardian]]","v":9828120761}]
[null,null,null,null,null,null,null,null,null,null,null,null,null,null,null,null,null,null,null,null,null,null,null,null,{"$f":"Table2[[#This Row],[CLASS]]","v":3},{"$f":"Table2[[#This Row],[Name]]","v":"manjeet66"},{"$f":"Table2[[#This Row],[Mobile No Student(Father/Mother/Guardian]]","v":9828120762}]
[null,null,null,null,null,null,null,null,null,null,null,null,null,null,null,null,null,null,null,null,null,null,null,null,{"$f":"Table2[[#This Row],[CLASS]]","v":3},{"$f":"Table2[[#This Row],[Name]]","v":"manjeet67"},{"$f":"Table2[[#This Row],[Mobile No Student(Father/Mother/Guardian]]","v":9828120763}]
[null,null,null,null,null,null,null,null,null,null,null,null,null,null,null,null,null,null,null,null,null,null,null,null,{"$f":"Table2[[#This Row],[CLASS]]","v":3},{"$f":"Table2[[#This Row],[Name]]","v":"manjeet68"},{"$f":"Table2[[#This Row],[Mobile No Student(Father/Mother/Guardian]]","v":9828120764}]
[null,null,null,null,null,null,null,null,null,null,null,null,null,null,null,null,null,null,null,null,null,null,null,null,{"$f":"Table2[[#This Row],[CLASS]]","v":3},{"$f":"Table2[[#This Row],[Name]]","v":"manjeet69"},{"$f":"Table2[[#This Row],[Mobile No Student(Father/Mother/Guardian]]","v":9828120765}]
[null,null,null,null,null,null,null,null,null,null,null,null,null,null,null,null,null,null,null,null,null,null,null,null,{"$f":"Table2[[#This Row],[CLASS]]","v":3},{"$f":"Table2[[#This Row],[Name]]","v":"manjeet70"},{"$f":"Table2[[#This Row],[Mobile No Student(Father/Mother/Guardian]]","v":9828120766}]
[null,null,null,null,null,null,null,null,null,null,null,null,null,null,null,null,null,null,null,null,null,null,null,null,{"$f":"Table2[[#This Row],[CLASS]]","v":3},{"$f":"Table2[[#This Row],[Name]]","v":"manjeet71"},{"$f":"Table2[[#This Row],[Mobile No Student(Father/Mother/Guardian]]","v":9828120767}]
[null,null,null,null,null,null,null,null,null,null,null,null,null,null,null,null,null,null,null,null,null,null,null,null,{"$f":"Table2[[#This Row],[CLASS]]","v":3},{"$f":"Table2[[#This Row],[Name]]","v":"manjeet72"},{"$f":"Table2[[#This Row],[Mobile No Student(Father/Mother/Guardian]]","v":9828120768}]
[null,null,null,null,null,null,null,null,null,null,null,null,null,null,null,null,null,null,null,null,null,null,null,null,{"$f":"Table2[[#This Row],[CLASS]]","v":3},{"$f":"Table2[[#This Row],[Name]]","v":"manjeet73"},{"$f":"Table2[[#This Row],[Mobile No Student(Father/Mother/Guardian]]","v":9828120769}]
[null,null,null,null,null,null,null,null,null,null,null,null,null,null,null,null,null,null,null,null,null,null,null,null,{"$f":"Table2[[#This Row],[CLASS]]","v":3},{"$f":"Table2[[#This Row],[Name]]","v":"manjeet74"},{"$f":"Table2[[#This Row],[Mobile No Student(Father/Mother/Guardian]]","v":9828120770}]
[null,null,null,null,null,null,null,null,null,null,null,null,null,null,null,null,null,null,null,null,null,null,null,null,{"$f":"Table2[[#This Row],[CLASS]]","v":3},{"$f":"Table2[[#This Row],[Name]]","v":"manjeet75"},{"$f":"Table2[[#This Row],[Mobile No Student(Father/Mother/Guardian]]","v":9828120771}]
[null,null,null,null,null,null,null,null,null,null,null,null,null,null,null,null,null,null,null,null,null,null,null,null,{"$f":"Table2[[#This Row],[CLASS]]","v":3},{"$f":"Table2[[#This Row],[Name]]","v":"manjeet76"},{"$f":"Table2[[#This Row],[Mobile No Student(Father/Mother/Guardian]]","v":9828120772}]
[null,null,null,null,null,null,null,null,null,null,null,null,null,null,null,null,null,null,null,null,null,null,null,null,{"$f":"Table2[[#This Row],[CLASS]]","v":3},{"$f":"Table2[[#This Row],[Name]]","v":"manjeet77"},{"$f":"Table2[[#This Row],[Mobile No Student(Father/Mother/Guardian]]","v":9828120773}]
[null,null,null,null,null,null,null,null,null,null,null,null,null,null,null,null,null,null,null,null,null,null,null,null,{"$f":"Table2[[#This Row],[CLASS]]","v":3},{"$f":"Table2[[#This Row],[Name]]","v":"manjeet78"},{"$f":"Table2[[#This Row],[Mobile No Student(Father/Mother/Guardian]]","v":9828120774}]
[null,null,null,null,null,null,null,null,null,null,null,null,null,null,null,null,null,null,null,null,null,null,null,null,{"$f":"Table2[[#This Row],[CLASS]]","v":4},{"$f":"Table2[[#This Row],[Name]]","v":"manjeet79"},{"$f":"Table2[[#This Row],[Mobile No Student(Father/Mother/Guardian]]","v":9828120775}]
[null,null,null,null,null,null,null,null,null,null,null,null,null,null,null,null,null,null,null,null,null,null,null,null,{"$f":"Table2[[#This Row],[CLASS]]","v":4},{"$f":"Table2[[#This Row],[Name]]","v":"manjeet80"},{"$f":"Table2[[#This Row],[Mobile No Student(Father/Mother/Guardian]]","v":9828120776}]
[null,null,null,null,null,null,null,null,null,null,null,null,null,null,null,null,null,null,null,null,null,null,null,null,{"$f":"Table2[[#This Row],[CLASS]]","v":4},{"$f":"Table2[[#This Row],[Name]]","v":"manjeet81"},{"$f":"Table2[[#This Row],[Mobile No Student(Father/Mother/Guardian]]","v":9828120777}]
[null,null,null,null,null,null,null,null,null,null,null,null,null,null,null,null,null,null,null,null,null,null,null,null,{"$f":"Table2[[#This Row],[CLASS]]","v":4},{"$f":"Table2[[#This Row],[Name]]","v":"manjeet82"},{"$f":"Table2[[#This Row],[Mobile No Student(Father/Mother/Guardian]]","v":9828120778}]
[null,null,null,null,null,null,null,null,null,null,null,null,null,null,null,null,null,null,null,null,null,null,null,null,{"$f":"Table2[[#This Row],[CLASS]]","v":4},{"$f":"Table2[[#This Row],[Name]]","v":"manjeet83"},{"$f":"Table2[[#This Row],[Mobile No Student(Father/Mother/Guardian]]","v":9828120779}]
[null,null,null,null,null,null,null,null,null,null,null,null,null,null,null,null,null,null,null,null,null,null,null,null,{"$f":"Table2[[#This Row],[CLASS]]","v":4},{"$f":"Table2[[#This Row],[Name]]","v":"manjeet84"},{"$f":"Table2[[#This Row],[Mobile No Student(Father/Mother/Guardian]]","v":9828120780}]
[null,null,null,null,null,null,null,null,null,null,null,null,null,null,null,null,null,null,null,null,null,null,null,null,{"$f":"Table2[[#This Row],[CLASS]]","v":4},{"$f":"Table2[[#This Row],[Name]]","v":"manjeet85"},{"$f":"Table2[[#This Row],[Mobile No Student(Father/Mother/Guardian]]","v":9828120781}]
[null,null,null,null,null,null,null,null,null,null,null,null,null,null,null,null,null,null,null,null,null,null,null,null,{"$f":"Table2[[#This Row],[CLASS]]","v":4},{"$f":"Table2[[#This Row],[Name]]","v":"manjeet86"},{"$f":"Table2[[#This Row],[Mobile No Student(Father/Mother/Guardian]]","v":9828120782}]
[null,null,null,null,null,null,null,null,null,null,null,null,null,null,null,null,null,null,null,null,null,null,null,null,{"$f":"Table2[[#This Row],[CLASS]]","v":4},{"$f":"Table2[[#This Row],[Name]]","v":"manjeet87"},{"$f":"Table2[[#This Row],[Mobile No Student(Father/Mother/Guardian]]","v":9828120783}]
[null,null,null,null,null,null,null,null,null,null,null,null,null,null,null,null,null,null,null,null,null,null,null,null,{"$f":"Table2[[#This Row],[CLASS]]","v":4},{"$f":"Table2[[#This Row],[Name]]","v":"manjeet88"},{"$f":"Table2[[#This Row],[Mobile No Student(Father/Mother/Guardian]]","v":9828120784}]
[null,null,null,null,null,null,null,null,null,null,null,null,null,null,null,null,null,null,null,null,null,null,null,null,{"$f":"Table2[[#This Row],[CLASS]]","v":4},{"$f":"Table2[[#This Row],[Name]]","v":"manjeet89"},{"$f":"Table2[[#This Row],[Mobile No Student(Father/Mother/Guardian]]","v":9828120785}]
[null,null,null,null,null,null,null,null,null,null,null,null,null,null,null,null,null,null,null,null,null,null,null,null,{"$f":"Table2[[#This Row],[CLASS]]","v":4},{"$f":"Table2[[#This Row],[Name]]","v":"manjeet90"},{"$f":"Table2[[#This Row],[Mobile No Student(Father/Mother/Guardian]]","v":9828120786}]
[null,null,null,null,null,null,null,null,null,null,null,null,null,null,null,null,null,null,null,null,null,null,null,null,{"$f":"Table2[[#This Row],[CLASS]]","v":4},{"$f":"Table2[[#This Row],[Name]]","v":"manjeet91"},{"$f":"Table2[[#This Row],[Mobile No Student(Father/Mother/Guardian]]","v":9828120787}]
[null,null,null,null,null,null,null,null,null,null,null,null,null,null,null,null,null,null,null,null,null,null,null,null,{"$f":"Table2[[#This Row],[CLASS]]","v":4},{"$f":"Table2[[#This Row],[Name]]","v":"manjeet92"},{"$f":"Table2[[#This Row],[Mobile No Student(Father/Mother/Guardian]]","v":9828120788}]
[null,null,null,null,null,null,null,null,null,null,null,null,null,null,null,null,null,null,null,null,null,null,null,null,{"$f":"Table2[[#This Row],[CLASS]]","v":4},{"$f":"Table2[[#This Row],[Name]]","v":"manjeet93"},{"$f":"Table2[[#This Row],[Mobile No Student(Father/Mother/Guardian]]","v":9828120789}]
[null,null,null,null,null,null,null,null,null,null,null,null,null,null,null,null,null,null,null,null,null,null,null,null,{"$f":"Table2[[#This Row],[CLASS]]","v":4},{"$f":"Table2[[#This Row],[Name]]","v":"manjeet94"},{"$f":"Table2[[#This Row],[Mobile No Student(Father/Mother/Guardian]]","v":9828120790}]
[null,null,null,null,null,null,null,null,null,null,null,null,null,null,null,null,null,null,null,null,null,null,null,null,{"$f":"Table2[[#This Row],[CLASS]]","v":4},{"$f":"Table2[[#This Row],[Name]]","v":"manjeet95"},{"$f":"Table2[[#This Row],[Mobile No Student(Father/Mother/Guardian]]","v":9828120791}]
[null,null,null,null,null,null,null,null,null,null,null,null,null,null,null,null,null,null,null,null,null,null,null,null,{"$f":"Table2[[#This Row],[CLASS]]","v":4},{"$f":"Table2[[#This Row],[Name]]","v":"manjeet96"},{"$f":"Table2[[#This Row],[Mobile No Student(Father/Mother/Guardian]]","v":9828120792}]
[null,null,null,null,null,null,null,null,null,null,null,null,null,null,null,null,null,null,null,null,null,null,null,null,{"$f":"Table2[[#This Row],[CLASS]]","v":4},{"$f":"Table2[[#This Row],[Name]]","v":"manjeet97"},{"$f":"Table2[[#This Row],[Mobile No Student(Father/Mother/Guardian]]","v":9828120793}]
[null,null,null,null,null,null,null,null,null,null,null,null,null,null,null,null,null,null,null,null,null,null,null,null,{"$f":"Table2[[#This Row],[CLASS]]","v":4},{"$f":"Table2[[#This Row],[Name]]","v":"manjeet98"},{"$f":"Table2[[#This Row],[Mobile No Student(Father/Mother/Guardian]]","v":9828120794}]
[null,null,null,null,null,null,null,null,null,null,null,null,null,null,null,null,null,null,null,null,null,null,null,null,{"$f":"Table2[[#This Row],[CLASS]]","v":4},{"$f":"Table2[[#This Row],[Name]]","v":"manjeet99"},{"$f":"Table2[[#This Row],[Mobile No Student(Father/Mother/Guardian]]","v":9828120795}]
[null,null,null,null,null,null,null,null,null,null,null,null,null,null,null,null,null,null,null,null,null,null,null,null,{"$f":"Table2[[#This Row],[CLASS]]","v":4},{"$f":"Table2[[#This Row],[Name]]","v":"manjeet100"},{"$f":"Table2[[#This Row],[Mobile No Student(Father/Mother/Guardian]]","v":9828120796}]
[null,null,null,null,null,null,null,null,null,null,null,null,null,null,null,null,null,null,null,null,null,null,null,null,{"$f":"Table2[[#This Row],[CLASS]]","v":4},{"$f":"Table2[[#This Row],[Name]]","v":"manjeet101"},{"$f":"Table2[[#This Row],[Mobile No Student(Father/Mother/Guardian]]","v":9828120797}]
[null,null,null,null,null,null,null,null,null,null,null,null,null,null,null,null,null,null,null,null,null,null,null,null,{"$f":"Table2[[#This Row],[CLASS]]","v":4},{"$f":"Table2[[#This Row],[Name]]","v":"manjeet102"},{"$f":"Table2[[#This Row],[Mobile No Student(Father/Mother/Guardian]]","v":9828120798}]
[null,null,null,null,null,null,null,null,null,null,null,null,null,null,null,null,null,null,null,null,null,null,null,null,{"$f":"Table2[[#This Row],[CLASS]]","v":4},{"$f":"Table2[[#This Row],[Name]]","v":"manjeet103"},{"$f":"Table2[[#This Row],[Mobile No Student(Father/Mother/Guardian]]","v":9828120799}]
[null,null,null,null,null,null,null,null,null,null,null,null,null,null,null,null,null,null,null,null,null,null,null,null,{"$f":"Table2[[#This Row],[CLASS]]","v":4},{"$f":"Table2[[#This Row],[Name]]","v":"manjeet104"},{"$f":"Table2[[#This Row],[Mobile No Student(Father/Mother/Guardian]]","v":9828120800}]
[null,null,null,null,null,null,null,null,null,null,null,null,null,null,null,null,null,null,null,null,null,null,null,null,{"$f":"Table2[[#This Row],[CLASS]]","v":4},{"$f":"Table2[[#This Row],[Name]]","v":"manjeet105"},{"$f":"Table2[[#This Row],[Mobile No Student(Father/Mother/Guardian]]","v":9828120801}]
[null,null,null,null,null,null,null,null,null,null,null,null,null,null,null,null,null,null,null,null,null,null,null,null,{"$f":"Table2[[#This Row],[CLASS]]","v":4},{"$f":"Table2[[#This Row],[Name]]","v":"manjeet106"},{"$f":"Table2[[#This Row],[Mobile No Student(Father/Mother/Guardian]]","v":9828120802}]
[null,null,null,null,null,null,null,null,null,null,null,null,null,null,null,null,null,null,null,null,null,null,null,null,{"$f":"Table2[[#This Row],[CLASS]]","v":4},{"$f":"Table2[[#This Row],[Name]]","v":"manjeet107"},{"$f":"Table2[[#This Row],[Mobile No Student(Father/Mother/Guardian]]","v":9828120803}]
[null,null,null,null,null,null,null,null,null,null,null,null,null,null,null,null,null,null,null,null,null,null,null,null,{"$f":"Table2[[#This Row],[CLASS]]","v":4},{"$f":"Table2[[#This Row],[Name]]","v":"manjeet108"},{"$f":"Table2[[#This Row],[Mobile No Student(Father/Mother/Guardian]]","v":9828120804}]
[null,null,null,null,null,null,null,null,null,null,null,null,null,null,null,null,null,null,null,null,null,null,null,null,{"$f":"Table2[[#This Row],[CLASS]]","v":4},{"$f":"Table2[[#This Row],[Name]]","v":"manjeet109"},{"$f":"Table2[[#This Row],[Mobile No Student(Father/Mother/Guardian]]","v":9828120805}]
[null,null,null,null,null,null,null,null,null,null,null,null,null,null,null,null,null,null,null,null,null,null,null,null,{"$f":"Table2[[#This Row],[CLASS]]","v":4},{"$f":"Table2[[#This Row],[Name]]","v":"manjeet110"},{"$f":"Table2[[#This Row],[Mobile No Student(Father/Mother/Guardian]]","v":9828120806}]
[null,null,null,null,null,null,null,null,null,null,null,null,null,null,null,null,null,null,null,null,null,null,null,null,{"$f":"Table2[[#This Row],[CLASS]]","v":4},{"$f":"Table2[[#This Row],[Name]]","v":"manjeet111"},{"$f":"Table2[[#This Row],[Mobile No Student(Father/Mother/Guardian]]","v":9828120807}]
[null,null,null,null,null,null,null,null,null,null,null,null,null,null,null,null,null,null,null,null,null,null,null,null,{"$f":"Table2[[#This Row],[CLASS]]","v":4},{"$f":"Table2[[#This Row],[Name]]","v":"manjeet112"},{"$f":"Table2[[#This Row],[Mobile No Student(Father/Mother/Guardian]]","v":9828120808}]
[null,null,null,null,null,null,null,null,null,null,null,null,null,null,null,null,null,null,null,null,null,null,null,null,{"$f":"Table2[[#This Row],[CLASS]]","v":5},{"$f":"Table2[[#This Row],[Name]]","v":"manjeet113"},{"$f":"Table2[[#This Row],[Mobile No Student(Father/Mother/Guardian]]","v":9828120809}]
[null,null,null,null,null,null,null,null,null,null,null,null,null,null,null,null,null,null,null,null,null,null,null,null,{"$f":"Table2[[#This Row],[CLASS]]","v":5},{"$f":"Table2[[#This Row],[Name]]","v":"manjeet114"},{"$f":"Table2[[#This Row],[Mobile No Student(Father/Mother/Guardian]]","v":9828120810}]
[null,null,null,null,null,null,null,null,null,null,null,null,null,null,null,null,null,null,null,null,null,null,null,null,{"$f":"Table2[[#This Row],[CLASS]]","v":5},{"$f":"Table2[[#This Row],[Name]]","v":"manjeet115"},{"$f":"Table2[[#This Row],[Mobile No Student(Father/Mother/Guardian]]","v":9828120811}]
[null,null,null,null,null,null,null,null,null,null,null,null,null,null,null,null,null,null,null,null,null,null,null,null,{"$f":"Table2[[#This Row],[CLASS]]","v":5},{"$f":"Table2[[#This Row],[Name]]","v":"manjeet116"},{"$f":"Table2[[#This Row],[Mobile No Student(Father/Mother/Guardian]]","v":9828120812}]
[null,null,null,null,null,null,null,null,null,null,null,null,null,null,null,null,null,null,null,null,null,null,null,null,{"$f":"Table2[[#This Row],[CLASS]]","v":5},{"$f":"Table2[[#This Row],[Name]]","v":"manjeet117"},{"$f":"Table2[[#This Row],[Mobile No Student(Father/Mother/Guardian]]","v":9828120813}]
[null,null,null,null,null,null,null,null,null,null,null,null,null,null,null,null,null,null,null,null,null,null,null,null,{"$f":"Table2[[#This Row],[CLASS]]","v":5},{"$f":"Table2[[#This Row],[Name]]","v":"manjeet118"},{"$f":"Table2[[#This Row],[Mobile No Student(Father/Mother/Guardian]]","v":9828120814}]
[null,null,null,null,null,null,null,null,null,null,null,null,null,null,null,null,null,null,null,null,null,null,null,null,{"$f":"Table2[[#This Row],[CLASS]]","v":5},{"$f":"Table2[[#This Row],[Name]]","v":"manjeet119"},{"$f":"Table2[[#This Row],[Mobile No Student(Father/Mother/Guardian]]","v":9828120815}]
[null,null,null,null,null,null,null,null,null,null,null,null,null,null,null,null,null,null,null,null,null,null,null,null,{"$f":"Table2[[#This Row],[CLASS]]","v":5},{"$f":"Table2[[#This Row],[Name]]","v":"manjeet120"},{"$f":"Table2[[#This Row],[Mobile No Student(Father/Mother/Guardian]]","v":9828120816}]
[null,null,null,null,null,null,null,null,null,null,null,null,null,null,null,null,null,null,null,null,null,null,null,null,{"$f":"Table2[[#This Row],[CLASS]]","v":5},{"$f":"Table2[[#This Row],[Name]]","v":"manjeet121"},{"$f":"Table2[[#This Row],[Mobile No Student(Father/Mother/Guardian]]","v":9828120817}]
[null,null,null,null,null,null,null,null,null,null,null,null,null,null,null,null,null,null,null,null,null,null,null,null,{"$f":"Table2[[#This Row],[CLASS]]","v":5},{"$f":"Table2[[#This Row],[Name]]","v":"manjeet122"},{"$f":"Table2[[#This Row],[Mobile No Student(Father/Mother/Guardian]]","v":9828120818}]
[null,null,null,null,null,null,null,null,null,null,null,null,null,null,null,null,null,null,null,null,null,null,null,null,{"$f":"Table2[[#This Row],[CLASS]]","v":5},{"$f":"Table2[[#This Row],[Name]]","v":"manjeet123"},{"$f":"Table2[[#This Row],[Mobile No Student(Father/Mother/Guardian]]","v":9828120819}]
[null,null,null,null,null,null,null,null,null,null,null,null,null,null,null,null,null,null,null,null,null,null,null,null,{"$f":"Table2[[#This Row],[CLASS]]","v":5},{"$f":"Table2[[#This Row],[Name]]","v":"manjeet124"},{"$f":"Table2[[#This Row],[Mobile No Student(Father/Mother/Guardian]]","v":9828120820}]
[null,null,null,null,null,null,null,null,null,null,null,null,null,null,null,null,null,null,null,null,null,null,null,null,{"$f":"Table2[[#This Row],[CLASS]]","v":5},{"$f":"Table2[[#This Row],[Name]]","v":"manjeet125"},{"$f":"Table2[[#This Row],[Mobile No Student(Father/Mother/Guardian]]","v":9828120821}]
[null,null,null,null,null,null,null,null,null,null,null,null,null,null,null,null,null,null,null,null,null,null,null,null,{"$f":"Table2[[#This Row],[CLASS]]","v":5},{"$f":"Table2[[#This Row],[Name]]","v":"manjeet126"},{"$f":"Table2[[#This Row],[Mobile No Student(Father/Mother/Guardian]]","v":9828120822}]
[null,null,null,null,null,null,null,null,null,null,null,null,null,null,null,null,null,null,null,null,null,null,null,null,{"$f":"Table2[[#This Row],[CLASS]]","v":5},{"$f":"Table2[[#This Row],[Name]]","v":"manjeet127"},{"$f":"Table2[[#This Row],[Mobile No Student(Father/Mother/Guardian]]","v":9828120823}]
[null,null,null,null,null,null,null,null,null,null,null,null,null,null,null,null,null,null,null,null,null,null,null,null,{"$f":"Table2[[#This Row],[CLASS]]","v":5},{"$f":"Table2[[#This Row],[Name]]","v":"manjeet128"},{"$f":"Table2[[#This Row],[Mobile No Student(Father/Mother/Guardian]]","v":9828120824}]
[null,null,null,null,null,null,null,null,null,null,null,null,null,null,null,null,null,null,null,null,null,null,null,null,{"$f":"Table2[[#This Row],[CLASS]]","v":5},{"$f":"Table2[[#This Row],[Name]]","v":"manjeet129"},{"$f":"Table2[[#This Row],[Mobile No Student(Father/Mother/Guardian]]","v":9828120825}]
[null,null,null,null,null,null,null,null,null,null,null,null,null,null,null,null,null,null,null,null,null,null,null,null,{"$f":"Table2[[#This Row],[CLASS]]","v":5},{"$f":"Table2[[#This Row],[Name]]","v":"manjeet130"},{"$f":"Table2[[#This Row],[Mobile No Student(Father/Mother/Guardian]]","v":9828120826}]
[null,null,null,null,null,null,null,null,null,null,null,null,null,null,null,null,null,null,null,null,null,null,null,null,{"$f":"Table2[[#This Row],[CLASS]]","v":5},{"$f":"Table2[[#This Row],[Name]]","v":"manjeet131"},{"$f":"Table2[[#This Row],[Mobile No Student(Father/Mother/Guardian]]","v":9828120827}]
[null,null,null,null,null,null,null,null,null,null,null,null,null,null,null,null,null,null,null,null,null,null,null,null,{"$f":"Table2[[#This Row],[CLASS]]","v":5},{"$f":"Table2[[#This Row],[Name]]","v":"manjeet132"},{"$f":"Table2[[#This Row],[Mobile No Student(Father/Mother/Guardian]]","v":9828120828}]
[null,null,null,null,null,null,null,null,null,null,null,null,null,null,null,null,null,null,null,null,null,null,null,null,{"$f":"Table2[[#This Row],[CLASS]]","v":5},{"$f":"Table2[[#This Row],[Name]]","v":"manjeet133"},{"$f":"Table2[[#This Row],[Mobile No Student(Father/Mother/Guardian]]","v":9828120829}]
[null,null,null,null,null,null,null,null,null,null,null,null,null,null,null,null,null,null,null,null,null,null,null,null,{"$f":"Table2[[#This Row],[CLASS]]","v":5},{"$f":"Table2[[#This Row],[Name]]","v":"manjeet134"},{"$f":"Table2[[#This Row],[Mobile No Student(Father/Mother/Guardian]]","v":9828120830}]
[null,null,null,null,null,null,null,null,null,null,null,null,null,null,null,null,null,null,null,null,null,null,null,null,{"$f":"Table2[[#This Row],[CLASS]]","v":5},{"$f":"Table2[[#This Row],[Name]]","v":"manjeet135"},{"$f":"Table2[[#This Row],[Mobile No Student(Father/Mother/Guardian]]","v":9828120831}]
[null,null,null,null,null,null,null,null,null,null,null,null,null,null,null,null,null,null,null,null,null,null,null,null,{"$f":"Table2[[#This Row],[CLASS]]","v":5},{"$f":"Table2[[#This Row],[Name]]","v":"manjeet136"},{"$f":"Table2[[#This Row],[Mobile No Student(Father/Mother/Guardian]]","v":9828120832}]
[null,null,null,null,null,null,null,null,null,null,null,null,null,null,null,null,null,null,null,null,null,null,null,null,{"$f":"Table2[[#This Row],[CLASS]]","v":5},{"$f":"Table2[[#This Row],[Name]]","v":"manjeet137"},{"$f":"Table2[[#This Row],[Mobile No Student(Father/Mother/Guardian]]","v":9828120833}]
[null,null,null,null,null,null,null,null,null,null,null,null,null,null,null,null,null,null,null,null,null,null,null,null,{"$f":"Table2[[#This Row],[CLASS]]","v":5},{"$f":"Table2[[#This Row],[Name]]","v":"manjeet138"},{"$f":"Table2[[#This Row],[Mobile No Student(Father/Mother/Guardian]]","v":9828120834}]
[null,null,null,null,null,null,null,null,null,null,null,null,null,null,null,null,null,null,null,null,null,null,null,null,{"$f":"Table2[[#This Row],[CLASS]]","v":5},{"$f":"Table2[[#This Row],[Name]]","v":"manjeet139"},{"$f":"Table2[[#This Row],[Mobile No Student(Father/Mother/Guardian]]","v":9828120835}]
[null,null,null,null,null,null,null,null,null,null,null,null,null,null,null,null,null,null,null,null,null,null,null,null,{"$f":"Table2[[#This Row],[CLASS]]","v":5},{"$f":"Table2[[#This Row],[Name]]","v":"manjeet140"},{"$f":"Table2[[#This Row],[Mobile No Student(Father/Mother/Guardian]]","v":9828120836}]
[null,null,null,null,null,null,null,null,null,null,null,null,null,null,null,null,null,null,null,null,null,null,null,null,{"$f":"Table2[[#This Row],[CLASS]]","v":5},{"$f":"Table2[[#This Row],[Name]]","v":"manjeet141"},{"$f":"Table2[[#This Row],[Mobile No Student(Father/Mother/Guardian]]","v":9828120837}]
[null,null,null,null,null,null,null,null,null,null,null,null,null,null,null,null,null,null,null,null,null,null,null,null,{"$f":"Table2[[#This Row],[CLASS]]","v":5},{"$f":"Table2[[#This Row],[Name]]","v":"manjeet142"},{"$f":"Table2[[#This Row],[Mobile No Student(Father/Mother/Guardian]]","v":9828120838}]
[null,null,null,null,null,null,null,null,null,null,null,null,null,null,null,null,null,null,null,null,null,null,null,null,{"$f":"Table2[[#This Row],[CLASS]]","v":5},{"$f":"Table2[[#This Row],[Name]]","v":"manjeet143"},{"$f":"Table2[[#This Row],[Mobile No Student(Father/Mother/Guardian]]","v":9828120839}]
[null,null,null,null,null,null,null,null,null,null,null,null,null,null,null,null,null,null,null,null,null,null,null,null,{"$f":"Table2[[#This Row],[CLASS]]","v":5},{"$f":"Table2[[#This Row],[Name]]","v":"manjeet144"},{"$f":"Table2[[#This Row],[Mobile No Student(Father/Mother/Guardian]]","v":9828120840}]
[null,null,null,null,null,null,null,null,null,null,null,null,null,null,null,null,null,null,null,null,null,null,null,null,{"$f":"Table2[[#This Row],[CLASS]]","v":5},{"$f":"Table2[[#This Row],[Name]]","v":"manjeet145"},{"$f":"Table2[[#This Row],[Mobile No Student(Father/Mother/Guardian]]","v":9828120841}]
[null,null,null,null,null,null,null,null,null,null,null,null,null,null,null,null,null,null,null,null,null,null,null,null,{"$f":"Table2[[#This Row],[CLASS]]","v":5},{"$f":"Table2[[#This Row],[Name]]","v":"manjeet146"},{"$f":"Table2[[#This Row],[Mobile No Student(Father/Mother/Guardian]]","v":9828120842}]
[null,null,null,null,null,null,null,null,null,null,null,null,null,null,null,null,null,null,null,null,null,null,null,null,{"$f":"Table2[[#This Row],[CLASS]]","v":5},{"$f":"Table2[[#This Row],[Name]]","v":"manjeet147"},{"$f":"Table2[[#This Row],[Mobile No Student(Father/Mother/Guardian]]","v":9828120843}]
[null,null,null,null,null,null,null,null,null,null,null,null,null,null,null,null,null,null,null,null,null,null,null,null,{"$f":"Table2[[#This Row],[CLASS]]","v":5},{"$f":"Table2[[#This Row],[Name]]","v":"manjeet148"},{"$f":"Table2[[#This Row],[Mobile No Student(Father/Mother/Guardian]]","v":9828120844}]
[null,null,null,null,null,null,null,null,null,null,null,null,null,null,null,null,null,null,null,null,null,null,null,null,{"$f":"Table2[[#This Row],[CLASS]]","v":5},{"$f":"Table2[[#This Row],[Name]]","v":"manjeet149"},{"$f":"Table2[[#This Row],[Mobile No Student(Father/Mother/Guardian]]","v":9828120845}]
[null,null,null,null,null,null,null,null,null,null,null,null,null,null,null,null,null,null,null,null,null,null,null,null,{"$f":"Table2[[#This Row],[CLASS]]","v":5},{"$f":"Table2[[#This Row],[Name]]","v":"manjeet150"},{"$f":"Table2[[#This Row],[Mobile No Student(Father/Mother/Guardian]]","v":9828120846}]
[null,null,null,null,null,null,null,null,null,null,null,null,null,null,null,null,null,null,null,null,null,null,null,null,{"$f":"Table2[[#This Row],[CLASS]]","v":5},{"$f":"Table2[[#This Row],[Name]]","v":"manjeet151"},{"$f":"Table2[[#This Row],[Mobile No Student(Father/Mother/Guardian]]","v":9828120847}]
[null,null,null,null,null,null,null,null,null,null,null,null,null,null,null,null,null,null,null,null,null,null,null,null,{"$f":"Table2[[#This Row],[CLASS]]","v":5},{"$f":"Table2[[#This Row],[Name]]","v":"manjeet152"},{"$f":"Table2[[#This Row],[Mobile No Student(Father/Mother/Guardian]]","v":9828120848}]
[null,null,null,null,null,null,null,null,null,null,null,null,null,null,null,null,null,null,null,null,null,null,null,null,{"$f":"Table2[[#This Row],[CLASS]]","v":5},{"$f":"Table2[[#This Row],[Name]]","v":"manjeet153"},{"$f":"Table2[[#This Row],[Mobile No Student(Father/Mother/Guardian]]","v":9828120849}]
[null,null,null,null,null,null,null,null,null,null,null,null,null,null,null,null,null,null,null,null,null,null,null,null,{"$f":"Table2[[#This Row],[CLASS]]","v":5},{"$f":"Table2[[#This Row],[Name]]","v":"manjeet154"},{"$f":"Table2[[#This Row],[Mobile No Student(Father/Mother/Guardian]]","v":9828120850}]
[null,null,null,null,null,null,null,null,null,null,null,null,null,null,null,null,null,null,null,null,null,null,null,null,{"$f":"Table2[[#This Row],[CLASS]]","v":6},{"$f":"Table2[[#This Row],[Name]]","v":"manjeet155"},{"$f":"Table2[[#This Row],[Mobile No Student(Father/Mother/Guardian]]","v":9828120851}]
[null,null,null,null,null,null,null,null,null,null,null,null,null,null,null,null,null,null,null,null,null,null,null,null,{"$f":"Table2[[#This Row],[CLASS]]","v":6},{"$f":"Table2[[#This Row],[Name]]","v":"manjeet156"},{"$f":"Table2[[#This Row],[Mobile No Student(Father/Mother/Guardian]]","v":9828120852}]
[null,null,null,null,null,null,null,null,null,null,null,null,null,null,null,null,null,null,null,null,null,null,null,null,{"$f":"Table2[[#This Row],[CLASS]]","v":6},{"$f":"Table2[[#This Row],[Name]]","v":"manjeet157"},{"$f":"Table2[[#This Row],[Mobile No Student(Father/Mother/Guardian]]","v":9828120853}]
[null,null,null,null,null,null,null,null,null,null,null,null,null,null,null,null,null,null,null,null,null,null,null,null,{"$f":"Table2[[#This Row],[CLASS]]","v":6},{"$f":"Table2[[#This Row],[Name]]","v":"manjeet158"},{"$f":"Table2[[#This Row],[Mobile No Student(Father/Mother/Guardian]]","v":9828120854}]
[null,null,null,null,null,null,null,null,null,null,null,null,null,null,null,null,null,null,null,null,null,null,null,null,{"$f":"Table2[[#This Row],[CLASS]]","v":6},{"$f":"Table2[[#This Row],[Name]]","v":"manjeet159"},{"$f":"Table2[[#This Row],[Mobile No Student(Father/Mother/Guardian]]","v":9828120855}]
[null,null,null,null,null,null,null,null,null,null,null,null,null,null,null,null,null,null,null,null,null,null,null,null,{"$f":"Table2[[#This Row],[CLASS]]","v":6},{"$f":"Table2[[#This Row],[Name]]","v":"manjeet160"},{"$f":"Table2[[#This Row],[Mobile No Student(Father/Mother/Guardian]]","v":9828120856}]
[null,null,null,null,null,null,null,null,null,null,null,null,null,null,null,null,null,null,null,null,null,null,null,null,{"$f":"Table2[[#This Row],[CLASS]]","v":6},{"$f":"Table2[[#This Row],[Name]]","v":"manjeet161"},{"$f":"Table2[[#This Row],[Mobile No Student(Father/Mother/Guardian]]","v":9828120857}]
[null,null,null,null,null,null,null,null,null,null,null,null,null,null,null,null,null,null,null,null,null,null,null,null,{"$f":"Table2[[#This Row],[CLASS]]","v":6},{"$f":"Table2[[#This Row],[Name]]","v":"manjeet162"},{"$f":"Table2[[#This Row],[Mobile No Student(Father/Mother/Guardian]]","v":9828120858}]
[null,null,null,null,null,null,null,null,null,null,null,null,null,null,null,null,null,null,null,null,null,null,null,null,{"$f":"Table2[[#This Row],[CLASS]]","v":6},{"$f":"Table2[[#This Row],[Name]]","v":"manjeet163"},{"$f":"Table2[[#This Row],[Mobile No Student(Father/Mother/Guardian]]","v":9828120859}]
[null,null,null,null,null,null,null,null,null,null,null,null,null,null,null,null,null,null,null,null,null,null,null,null,{"$f":"Table2[[#This Row],[CLASS]]","v":6},{"$f":"Table2[[#This Row],[Name]]","v":"manjeet164"},{"$f":"Table2[[#This Row],[Mobile No Student(Father/Mother/Guardian]]","v":9828120860}]
[null,null,null,null,null,null,null,null,null,null,null,null,null,null,null,null,null,null,null,null,null,null,null,null,{"$f":"Table2[[#This Row],[CLASS]]","v":6},{"$f":"Table2[[#This Row],[Name]]","v":"manjeet165"},{"$f":"Table2[[#This Row],[Mobile No Student(Father/Mother/Guardian]]","v":9828120861}]
[null,null,null,null,null,null,null,null,null,null,null,null,null,null,null,null,null,null,null,null,null,null,null,null,{"$f":"Table2[[#This Row],[CLASS]]","v":6},{"$f":"Table2[[#This Row],[Name]]","v":"manjeet166"},{"$f":"Table2[[#This Row],[Mobile No Student(Father/Mother/Guardian]]","v":9828120862}]
[null,null,null,null,null,null,null,null,null,null,null,null,null,null,null,null,null,null,null,null,null,null,null,null,{"$f":"Table2[[#This Row],[CLASS]]","v":6},{"$f":"Table2[[#This Row],[Name]]","v":"manjeet167"},{"$f":"Table2[[#This Row],[Mobile No Student(Father/Mother/Guardian]]","v":9828120863}]
[null,null,null,null,null,null,null,null,null,null,null,null,null,null,null,null,null,null,null,null,null,null,null,null,{"$f":"Table2[[#This Row],[CLASS]]","v":6},{"$f":"Table2[[#This Row],[Name]]","v":"manjeet168"},{"$f":"Table2[[#This Row],[Mobile No Student(Father/Mother/Guardian]]","v":9828120864}]
[null,null,null,null,null,null,null,null,null,null,null,null,null,null,null,null,null,null,null,null,null,null,null,null,{"$f":"Table2[[#This Row],[CLASS]]","v":6},{"$f":"Table2[[#This Row],[Name]]","v":"manjeet169"},{"$f":"Table2[[#This Row],[Mobile No Student(Father/Mother/Guardian]]","v":9828120865}]
[null,null,null,null,null,null,null,null,null,null,null,null,null,null,null,null,null,null,null,null,null,null,null,null,{"$f":"Table2[[#This Row],[CLASS]]","v":6},{"$f":"Table2[[#This Row],[Name]]","v":"manjeet170"},{"$f":"Table2[[#This Row],[Mobile No Student(Father/Mother/Guardian]]","v":9828120866}]
[null,null,null,null,null,null,null,null,null,null,null,null,null,null,null,null,null,null,null,null,null,null,null,null,{"$f":"Table2[[#This Row],[CLASS]]","v":6},{"$f":"Table2[[#This Row],[Name]]","v":"manjeet171"},{"$f":"Table2[[#This Row],[Mobile No Student(Father/Mother/Guardian]]","v":9828120867}]
[null,null,null,null,null,null,null,null,null,null,null,null,null,null,null,null,null,null,null,null,null,null,null,null,{"$f":"Table2[[#This Row],[CLASS]]","v":6},{"$f":"Table2[[#This Row],[Name]]","v":"manjeet172"},{"$f":"Table2[[#This Row],[Mobile No Student(Father/Mother/Guardian]]","v":9828120868}]
[null,null,null,null,null,null,null,null,null,null,null,null,null,null,null,null,null,null,null,null,null,null,null,null,{"$f":"Table2[[#This Row],[CLASS]]","v":6},{"$f":"Table2[[#This Row],[Name]]","v":"manjeet173"},{"$f":"Table2[[#This Row],[Mobile No Student(Father/Mother/Guardian]]","v":9828120869}]
[null,null,null,null,null,null,null,null,null,null,null,null,null,null,null,null,null,null,null,null,null,null,null,null,{"$f":"Table2[[#This Row],[CLASS]]","v":6},{"$f":"Table2[[#This Row],[Name]]","v":"manjeet174"},{"$f":"Table2[[#This Row],[Mobile No Student(Father/Mother/Guardian]]","v":9828120870}]
[null,null,null,null,null,null,null,null,null,null,null,null,null,null,null,null,null,null,null,null,null,null,null,null,{"$f":"Table2[[#This Row],[CLASS]]","v":6},{"$f":"Table2[[#This Row],[Name]]","v":"manjeet175"},{"$f":"Table2[[#This Row],[Mobile No Student(Father/Mother/Guardian]]","v":9828120871}]
[null,null,null,null,null,null,null,null,null,null,null,null,null,null,null,null,null,null,null,null,null,null,null,null,{"$f":"Table2[[#This Row],[CLASS]]","v":6},{"$f":"Table2[[#This Row],[Name]]","v":"manjeet176"},{"$f":"Table2[[#This Row],[Mobile No Student(Father/Mother/Guardian]]","v":9828120872}]
[null,null,null,null,null,null,null,null,null,null,null,null,null,null,null,null,null,null,null,null,null,null,null,null,{"$f":"Table2[[#This Row],[CLASS]]","v":6},{"$f":"Table2[[#This Row],[Name]]","v":"manjeet177"},{"$f":"Table2[[#This Row],[Mobile No Student(Father/Mother/Guardian]]","v":9828120873}]
[null,null,null,null,null,null,null,null,null,null,null,null,null,null,null,null,null,null,null,null,null,null,null,null,{"$f":"Table2[[#This Row],[CLASS]]","v":6},{"$f":"Table2[[#This Row],[Name]]","v":"manjeet178"},{"$f":"Table2[[#This Row],[Mobile No Student(Father/Mother/Guardian]]","v":9828120874}]
[null,null,null,null,null,null,null,null,null,null,null,null,null,null,null,null,null,null,null,null,null,null,null,null,{"$f":"Table2[[#This Row],[CLASS]]","v":6},{"$f":"Table2[[#This Row],[Name]]","v":"manjeet179"},{"$f":"Table2[[#This Row],[Mobile No Student(Father/Mother/Guardian]]","v":9828120875}]
[null,null,null,null,null,null,null,null,null,null,null,null,null,null,null,null,null,null,null,null,null,null,null,null,{"$f":"Table2[[#This Row],[CLASS]]","v":6},{"$f":"Table2[[#This Row],[Name]]","v":"manjeet180"},{"$f":"Table2[[#This Row],[Mobile No Student(Father/Mother/Guardian]]","v":9828120876}]
[null,null,null,null,null,null,null,null,null,null,null,null,null,null,null,null,null,null,null,null,null,null,null,null,{"$f":"Table2[[#This Row],[CLASS]]","v":6},{"$f":"Table2[[#This Row],[Name]]","v":"manjeet181"},{"$f":"Table2[[#This Row],[Mobile No Student(Father/Mother/Guardian]]","v":9828120877}]
[null,null,null,null,null,null,null,null,null,null,null,null,null,null,null,null,null,null,null,null,null,null,null,null,{"$f":"Table2[[#This Row],[CLASS]]","v":6},{"$f":"Table2[[#This Row],[Name]]","v":"manjeet182"},{"$f":"Table2[[#This Row],[Mobile No Student(Father/Mother/Guardian]]","v":9828120878}]
[null,null,null,null,null,null,null,null,null,null,null,null,null,null,null,null,null,null,null,null,null,null,null,null,{"$f":"Table2[[#This Row],[CLASS]]","v":6},{"$f":"Table2[[#This Row],[Name]]","v":"manjeet183"},{"$f":"Table2[[#This Row],[Mobile No Student(Father/Mother/Guardian]]","v":9828120879}]
[null,null,null,null,null,null,null,null,null,null,null,null,null,null,null,null,null,null,null,null,null,null,null,null,{"$f":"Table2[[#This Row],[CLASS]]","v":6},{"$f":"Table2[[#This Row],[Name]]","v":"manjeet184"},{"$f":"Table2[[#This Row],[Mobile No Student(Father/Mother/Guardian]]","v":9828120880}]
[null,null,null,null,null,null,null,null,null,null,null,null,null,null,null,null,null,null,null,null,null,null,null,null,{"$f":"Table2[[#This Row],[CLASS]]","v":6},{"$f":"Table2[[#This Row],[Name]]","v":"manjeet185"},{"$f":"Table2[[#This Row],[Mobile No Student(Father/Mother/Guardian]]","v":9828120881}]
[null,null,null,null,null,null,null,null,null,null,null,null,null,null,null,null,null,null,null,null,null,null,null,null,{"$f":"Table2[[#This Row],[CLASS]]","v":6},{"$f":"Table2[[#This Row],[Name]]","v":"manjeet186"},{"$f":"Table2[[#This Row],[Mobile No Student(Father/Mother/Guardian]]","v":9828120882}]
[null,null,null,null,null,null,null,null,null,null,null,null,null,null,null,null,null,null,null,null,null,null,null,null,{"$f":"Table2[[#This Row],[CLASS]]","v":6},{"$f":"Table2[[#This Row],[Name]]","v":"manjeet187"},{"$f":"Table2[[#This Row],[Mobile No Student(Father/Mother/Guardian]]","v":9828120883}]
[null,null,null,null,null,null,null,null,null,null,null,null,null,null,null,null,null,null,null,null,null,null,null,null,{"$f":"Table2[[#This Row],[CLASS]]","v":6},{"$f":"Table2[[#This Row],[Name]]","v":"manjeet188"},{"$f":"Table2[[#This Row],[Mobile No Student(Father/Mother/Guardian]]","v":9828120884}]
[null,null,null,null,null,null,null,null,null,null,null,null,null,null,null,null,null,null,null,null,null,null,null,null,{"$f":"Table2[[#This Row],[CLASS]]","v":6},{"$f":"Table2[[#This Row],[Name]]","v":"manjeet189"},{"$f":"Table2[[#This Row],[Mobile No Student(Father/Mother/Guardian]]","v":9828120885}]
[null,null,null,null,null,null,null,null,null,null,null,null,null,null,null,null,null,null,null,null,null,null,null,null,{"$f":"Table2[[#This Row],[CLASS]]","v":6},{"$f":"Table2[[#This Row],[Name]]","v":"manjeet190"},{"$f":"Table2[[#This Row],[Mobile No Student(Father/Mother/Guardian]]","v":9828120886}]
[null,null,null,null,null,null,null,null,null,null,null,null,null,null,null,null,null,null,null,null,null,null,null,null,{"$f":"Table2[[#This Row],[CLASS]]","v":6},{"$f":"Table2[[#This Row],[Name]]","v":"manjeet191"},{"$f":"Table2[[#This Row],[Mobile No Student(Father/Mother/Guardian]]","v":9828120887}]
[null,null,null,null,null,null,null,null,null,null,null,null,null,null,null,null,null,null,null,null,null,null,null,null,{"$f":"Table2[[#This Row],[CLASS]]","v":6},{"$f":"Table2[[#This Row],[Name]]","v":"manjeet192"},{"$f":"Table2[[#This Row],[Mobile No Student(Father/Mother/Guardian]]","v":9828120888}]
[null,null,null,null,null,null,null,null,null,null,null,null,null,null,null,null,null,null,null,null,null,null,null,null,{"$f":"Table2[[#This Row],[CLASS]]","v":6},{"$f":"Table2[[#This Row],[Name]]","v":"manjeet193"},{"$f":"Table2[[#This Row],[Mobile No Student(Father/Mother/Guardian]]","v":9828120889}]
[null,null,null,null,null,null,null,null,null,null,null,null,null,null,null,null,null,null,null,null,null,null,null,null,{"$f":"Table2[[#This Row],[CLASS]]","v":7},{"$f":"Table2[[#This Row],[Name]]","v":"manjeet194"},{"$f":"Table2[[#This Row],[Mobile No Student(Father/Mother/Guardian]]","v":9828120890}]
[null,null,null,null,null,null,null,null,null,null,null,null,null,null,null,null,null,null,null,null,null,null,null,null,{"$f":"Table2[[#This Row],[CLASS]]","v":7},{"$f":"Table2[[#This Row],[Name]]","v":"manjeet195"},{"$f":"Table2[[#This Row],[Mobile No Student(Father/Mother/Guardian]]","v":9828120891}]
[null,null,null,null,null,null,null,null,null,null,null,null,null,null,null,null,null,null,null,null,null,null,null,null,{"$f":"Table2[[#This Row],[CLASS]]","v":7},{"$f":"Table2[[#This Row],[Name]]","v":"manjeet196"},{"$f":"Table2[[#This Row],[Mobile No Student(Father/Mother/Guardian]]","v":9828120892}]
[null,null,null,null,null,null,null,null,null,null,null,null,null,null,null,null,null,null,null,null,null,null,null,null,{"$f":"Table2[[#This Row],[CLASS]]","v":7},{"$f":"Table2[[#This Row],[Name]]","v":"manjeet197"},{"$f":"Table2[[#This Row],[Mobile No Student(Father/Mother/Guardian]]","v":9828120893}]
[null,null,null,null,null,null,null,null,null,null,null,null,null,null,null,null,null,null,null,null,null,null,null,null,{"$f":"Table2[[#This Row],[CLASS]]","v":7},{"$f":"Table2[[#This Row],[Name]]","v":"manjeet198"},{"$f":"Table2[[#This Row],[Mobile No Student(Father/Mother/Guardian]]","v":9828120894}]
[null,null,null,null,null,null,null,null,null,null,null,null,null,null,null,null,null,null,null,null,null,null,null,null,{"$f":"Table2[[#This Row],[CLASS]]","v":7},{"$f":"Table2[[#This Row],[Name]]","v":"manjeet199"},{"$f":"Table2[[#This Row],[Mobile No Student(Father/Mother/Guardian]]","v":9828120895}]
[null,null,null,null,null,null,null,null,null,null,null,null,null,null,null,null,null,null,null,null,null,null,null,null,{"$f":"Table2[[#This Row],[CLASS]]","v":7},{"$f":"Table2[[#This Row],[Name]]","v":"manjeet200"},{"$f":"Table2[[#This Row],[Mobile No Student(Father/Mother/Guardian]]","v":9828120896}]
[null,null,null,null,null,null,null,null,null,null,null,null,null,null,null,null,null,null,null,null,null,null,null,null,{"$f":"Table2[[#This Row],[CLASS]]","v":7},{"$f":"Table2[[#This Row],[Name]]","v":"manjeet201"},{"$f":"Table2[[#This Row],[Mobile No Student(Father/Mother/Guardian]]","v":9828120897}]
[null,null,null,null,null,null,null,null,null,null,null,null,null,null,null,null,null,null,null,null,null,null,null,null,{"$f":"Table2[[#This Row],[CLASS]]","v":7},{"$f":"Table2[[#This Row],[Name]]","v":"manjeet202"},{"$f":"Table2[[#This Row],[Mobile No Student(Father/Mother/Guardian]]","v":9828120898}]
[null,null,null,null,null,null,null,null,null,null,null,null,null,null,null,null,null,null,null,null,null,null,null,null,{"$f":"Table2[[#This Row],[CLASS]]","v":7},{"$f":"Table2[[#This Row],[Name]]","v":"manjeet203"},{"$f":"Table2[[#This Row],[Mobile No Student(Father/Mother/Guardian]]","v":9828120899}]
[null,null,null,null,null,null,null,null,null,null,null,null,null,null,null,null,null,null,null,null,null,null,null,null,{"$f":"Table2[[#This Row],[CLASS]]","v":7},{"$f":"Table2[[#This Row],[Name]]","v":"manjeet204"},{"$f":"Table2[[#This Row],[Mobile No Student(Father/Mother/Guardian]]","v":9828120900}]
[null,null,null,null,null,null,null,null,null,null,null,null,null,null,null,null,null,null,null,null,null,null,null,null,{"$f":"Table2[[#This Row],[CLASS]]","v":7},{"$f":"Table2[[#This Row],[Name]]","v":"manjeet205"},{"$f":"Table2[[#This Row],[Mobile No Student(Father/Mother/Guardian]]","v":9828120901}]
[null,null,null,null,null,null,null,null,null,null,null,null,null,null,null,null,null,null,null,null,null,null,null,null,{"$f":"Table2[[#This Row],[CLASS]]","v":7},{"$f":"Table2[[#This Row],[Name]]","v":"manjeet206"},{"$f":"Table2[[#This Row],[Mobile No Student(Father/Mother/Guardian]]","v":9828120902}]
[null,null,null,null,null,null,null,null,null,null,null,null,null,null,null,null,null,null,null,null,null,null,null,null,{"$f":"Table2[[#This Row],[CLASS]]","v":7},{"$f":"Table2[[#This Row],[Name]]","v":"manjeet207"},{"$f":"Table2[[#This Row],[Mobile No Student(Father/Mother/Guardian]]","v":9828120903}]
[null,null,null,null,null,null,null,null,null,null,null,null,null,null,null,null,null,null,null,null,null,null,null,null,{"$f":"Table2[[#This Row],[CLASS]]","v":7},{"$f":"Table2[[#This Row],[Name]]","v":"manjeet208"},{"$f":"Table2[[#This Row],[Mobile No Student(Father/Mother/Guardian]]","v":9828120904}]
[null,null,null,null,null,null,null,null,null,null,null,null,null,null,null,null,null,null,null,null,null,null,null,null,{"$f":"Table2[[#This Row],[CLASS]]","v":7},{"$f":"Table2[[#This Row],[Name]]","v":"manjeet209"},{"$f":"Table2[[#This Row],[Mobile No Student(Father/Mother/Guardian]]","v":9828120905}]
[null,null,null,null,null,null,null,null,null,null,null,null,null,null,null,null,null,null,null,null,null,null,null,null,{"$f":"Table2[[#This Row],[CLASS]]","v":7},{"$f":"Table2[[#This Row],[Name]]","v":"manjeet210"},{"$f":"Table2[[#This Row],[Mobile No Student(Father/Mother/Guardian]]","v":9828120906}]
[null,null,null,null,null,null,null,null,null,null,null,null,null,null,null,null,null,null,null,null,null,null,null,null,{"$f":"Table2[[#This Row],[CLASS]]","v":7},{"$f":"Table2[[#This Row],[Name]]","v":"manjeet211"},{"$f":"Table2[[#This Row],[Mobile No Student(Father/Mother/Guardian]]","v":9828120907}]
[null,null,null,null,null,null,null,null,null,null,null,null,null,null,null,null,null,null,null,null,null,null,null,null,{"$f":"Table2[[#This Row],[CLASS]]","v":7},{"$f":"Table2[[#This Row],[Name]]","v":"manjeet212"},{"$f":"Table2[[#This Row],[Mobile No Student(Father/Mother/Guardian]]","v":9828120908}]
[null,null,null,null,null,null,null,null,null,null,null,null,null,null,null,null,null,null,null,null,null,null,null,null,{"$f":"Table2[[#This Row],[CLASS]]","v":7},{"$f":"Table2[[#This Row],[Name]]","v":"manjeet213"},{"$f":"Table2[[#This Row],[Mobile No Student(Father/Mother/Guardian]]","v":9828120909}]
[null,null,null,null,null,null,null,null,null,null,null,null,null,null,null,null,null,null,null,null,null,null,null,null,{"$f":"Table2[[#This Row],[CLASS]]","v":7},{"$f":"Table2[[#This Row],[Name]]","v":"manjeet214"},{"$f":"Table2[[#This Row],[Mobile No Student(Father/Mother/Guardian]]","v":9828120910}]
[null,null,null,null,null,null,null,null,null,null,null,null,null,null,null,null,null,null,null,null,null,null,null,null,{"$f":"Table2[[#This Row],[CLASS]]","v":7},{"$f":"Table2[[#This Row],[Name]]","v":"manjeet215"},{"$f":"Table2[[#This Row],[Mobile No Student(Father/Mother/Guardian]]","v":9828120911}]
[null,null,null,null,null,null,null,null,null,null,null,null,null,null,null,null,null,null,null,null,null,null,null,null,{"$f":"Table2[[#This Row],[CLASS]]","v":7},{"$f":"Table2[[#This Row],[Name]]","v":"manjeet216"},{"$f":"Table2[[#This Row],[Mobile No Student(Father/Mother/Guardian]]","v":9828120912}]
[null,null,null,null,null,null,null,null,null,null,null,null,null,null,null,null,null,null,null,null,null,null,null,null,{"$f":"Table2[[#This Row],[CLASS]]","v":7},{"$f":"Table2[[#This Row],[Name]]","v":"manjeet217"},{"$f":"Table2[[#This Row],[Mobile No Student(Father/Mother/Guardian]]","v":9828120913}]
[null,null,null,null,null,null,null,null,null,null,null,null,null,null,null,null,null,null,null,null,null,null,null,null,{"$f":"Table2[[#This Row],[CLASS]]","v":7},{"$f":"Table2[[#This Row],[Name]]","v":"manjeet218"},{"$f":"Table2[[#This Row],[Mobile No Student(Father/Mother/Guardian]]","v":9828120914}]
[null,null,null,null,null,null,null,null,null,null,null,null,null,null,null,null,null,null,null,null,null,null,null,null,{"$f":"Table2[[#This Row],[CLASS]]","v":7},{"$f":"Table2[[#This Row],[Name]]","v":"manjeet219"},{"$f":"Table2[[#This Row],[Mobile No Student(Father/Mother/Guardian]]","v":9828120915}]
[null,null,null,null,null,null,null,null,null,null,null,null,null,null,null,null,null,null,null,null,null,null,null,null,{"$f":"Table2[[#This Row],[CLASS]]","v":7},{"$f":"Table2[[#This Row],[Name]]","v":"manjeet220"},{"$f":"Table2[[#This Row],[Mobile No Student(Father/Mother/Guardian]]","v":9828120916}]
[null,null,null,null,null,null,null,null,null,null,null,null,null,null,null,null,null,null,null,null,null,null,null,null,{"$f":"Table2[[#This Row],[CLASS]]","v":7},{"$f":"Table2[[#This Row],[Name]]","v":"manjeet221"},{"$f":"Table2[[#This Row],[Mobile No Student(Father/Mother/Guardian]]","v":9828120917}]
[null,null,null,null,null,null,null,null,null,null,null,null,null,null,null,null,null,null,null,null,null,null,null,null,{"$f":"Table2[[#This Row],[CLASS]]","v":7},{"$f":"Table2[[#This Row],[Name]]","v":"manjeet222"},{"$f":"Table2[[#This Row],[Mobile No Student(Father/Mother/Guardian]]","v":9828120918}]
[null,null,null,null,null,null,null,null,null,null,null,null,null,null,null,null,null,null,null,null,null,null,null,null,{"$f":"Table2[[#This Row],[CLASS]]","v":7},{"$f":"Table2[[#This Row],[Name]]","v":"manjeet223"},{"$f":"Table2[[#This Row],[Mobile No Student(Father/Mother/Guardian]]","v":9828120919}]
[null,null,null,null,null,null,null,null,null,null,null,null,null,null,null,null,null,null,null,null,null,null,null,null,{"$f":"Table2[[#This Row],[CLASS]]","v":7},{"$f":"Table2[[#This Row],[Name]]","v":"manjeet224"},{"$f":"Table2[[#This Row],[Mobile No Student(Father/Mother/Guardian]]","v":9828120920}]
[null,null,null,null,null,null,null,null,null,null,null,null,null,null,null,null,null,null,null,null,null,null,null,null,{"$f":"Table2[[#This Row],[CLASS]]","v":7},{"$f":"Table2[[#This Row],[Name]]","v":"manjeet225"},{"$f":"Table2[[#This Row],[Mobile No Student(Father/Mother/Guardian]]","v":9828120921}]
[null,null,null,null,null,null,null,null,null,null,null,null,null,null,null,null,null,null,null,null,null,null,null,null,{"$f":"Table2[[#This Row],[CLASS]]","v":7},{"$f":"Table2[[#This Row],[Name]]","v":"manjeet226"},{"$f":"Table2[[#This Row],[Mobile No Student(Father/Mother/Guardian]]","v":9828120922}]
[null,null,null,null,null,null,null,null,null,null,null,null,null,null,null,null,null,null,null,null,null,null,null,null,{"$f":"Table2[[#This Row],[CLASS]]","v":7},{"$f":"Table2[[#This Row],[Name]]","v":"manjeet227"},{"$f":"Table2[[#This Row],[Mobile No Student(Father/Mother/Guardian]]","v":9828120923}]
[null,null,null,null,null,null,null,null,null,null,null,null,null,null,null,null,null,null,null,null,null,null,null,null,{"$f":"Table2[[#This Row],[CLASS]]","v":7},{"$f":"Table2[[#This Row],[Name]]","v":"manjeet228"},{"$f":"Table2[[#This Row],[Mobile No Student(Father/Mother/Guardian]]","v":9828120924}]
[null,null,null,null,null,null,null,null,null,null,null,null,null,null,null,null,null,null,null,null,null,null,null,null,{"$f":"Table2[[#This Row],[CLASS]]","v":7},{"$f":"Table2[[#This Row],[Name]]","v":"manjeet229"},{"$f":"Table2[[#This Row],[Mobile No Student(Father/Mother/Guardian]]","v":9828120925}]
[null,null,null,null,null,null,null,null,null,null,null,null,null,null,null,null,null,null,null,null,null,null,null,null,{"$f":"Table2[[#This Row],[CLASS]]","v":7},{"$f":"Table2[[#This Row],[Name]]","v":"manjeet230"},{"$f":"Table2[[#This Row],[Mobile No Student(Father/Mother/Guardian]]","v":9828120926}]
[null,null,null,null,null,null,null,null,null,null,null,null,null,null,null,null,null,null,null,null,null,null,null,null,{"$f":"Table2[[#This Row],[CLASS]]","v":7},{"$f":"Table2[[#This Row],[Name]]","v":"manjeet231"},{"$f":"Table2[[#This Row],[Mobile No Student(Father/Mother/Guardian]]","v":9828120927}]
[null,null,null,null,null,null,null,null,null,null,null,null,null,null,null,null,null,null,null,null,null,null,null,null,{"$f":"Table2[[#This Row],[CLASS]]","v":7},{"$f":"Table2[[#This Row],[Name]]","v":"manjeet232"},{"$f":"Table2[[#This Row],[Mobile No Student(Father/Mother/Guardian]]","v":9828120928}]
[null,null,null,null,null,null,null,null,null,null,null,null,null,null,null,null,null,null,null,null,null,null,null,null,{"$f":"Table2[[#This Row],[CLASS]]","v":7},{"$f":"Table2[[#This Row],[Name]]","v":"manjeet233"},{"$f":"Table2[[#This Row],[Mobile No Student(Father/Mother/Guardian]]","v":9828120929}]
[null,null,null,null,null,null,null,null,null,null,null,null,null,null,null,null,null,null,null,null,null,null,null,null,{"$f":"Table2[[#This Row],[CLASS]]","v":7},{"$f":"Table2[[#This Row],[Name]]","v":"manjeet234"},{"$f":"Table2[[#This Row],[Mobile No Student(Father/Mother/Guardian]]","v":9828120930}]
[null,null,null,null,null,null,null,null,null,null,null,null,null,null,null,null,null,null,null,null,null,null,null,null,{"$f":"Table2[[#This Row],[CLASS]]","v":7},{"$f":"Table2[[#This Row],[Name]]","v":"manjeet235"},{"$f":"Table2[[#This Row],[Mobile No Student(Father/Mother/Guardian]]","v":9828120931}]
[null,null,null,null,null,null,null,null,null,null,null,null,null,null,null,null,null,null,null,null,null,null,null,null,{"$f":"Table2[[#This Row],[CLASS]]","v":7},{"$f":"Table2[[#This Row],[Name]]","v":"manjeet236"},{"$f":"Table2[[#This Row],[Mobile No Student(Father/Mother/Guardian]]","v":9828120932}]
[null,null,null,null,null,null,null,null,null,null,null,null,null,null,null,null,null,null,null,null,null,null,null,null,{"$f":"Table2[[#This Row],[CLASS]]","v":7},{"$f":"Table2[[#This Row],[Name]]","v":"manjeet237"},{"$f":"Table2[[#This Row],[Mobile No Student(Father/Mother/Guardian]]","v":9828120933}]
[null,null,null,null,null,null,null,null,null,null,null,null,null,null,null,null,null,null,null,null,null,null,null,null,{"$f":"Table2[[#This Row],[CLASS]]","v":7},{"$f":"Table2[[#This Row],[Name]]","v":"manjeet238"},{"$f":"Table2[[#This Row],[Mobile No Student(Father/Mother/Guardian]]","v":9828120934}]
[null,null,null,null,null,null,null,null,null,null,null,null,null,null,null,null,null,null,null,null,null,null,null,null,{"$f":"Table2[[#This Row],[CLASS]]","v":7},{"$f":"Table2[[#This Row],[Name]]","v":"manjeet239"},{"$f":"Table2[[#This Row],[Mobile No Student(Father/Mother/Guardian]]","v":9828120935}]
[null,null,null,null,null,null,null,null,null,null,null,null,null,null,null,null,null,null,null,null,null,null,null,null,{"$f":"Table2[[#This Row],[CLASS]]","v":7},{"$f":"Table2[[#This Row],[Name]]","v":"manjeet240"},{"$f":"Table2[[#This Row],[Mobile No Student(Father/Mother/Guardian]]","v":9828120936}]
[null,null,null,null,null,null,null,null,null,null,null,null,null,null,null,null,null,null,null,null,null,null,null,null,{"$f":"Table2[[#This Row],[CLASS]]","v":7},{"$f":"Table2[[#This Row],[Name]]","v":"manjeet241"},{"$f":"Table2[[#This Row],[Mobile No Student(Father/Mother/Guardian]]","v":9828120937}]
[null,null,null,null,null,null,null,null,null,null,null,null,null,null,null,null,null,null,null,null,null,null,null,null,{"$f":"Table2[[#This Row],[CLASS]]","v":7},{"$f":"Table2[[#This Row],[Name]]","v":"manjeet242"},{"$f":"Table2[[#This Row],[Mobile No Student(Father/Mother/Guardian]]","v":9828120938}]
[null,null,null,null,null,null,null,null,null,null,null,null,null,null,null,null,null,null,null,null,null,null,null,null,{"$f":"Table2[[#This Row],[CLASS]]","v":7},{"$f":"Table2[[#This Row],[Name]]","v":"manjeet243"},{"$f":"Table2[[#This Row],[Mobile No Student(Father/Mother/Guardian]]","v":9828120939}]
[null,null,null,null,null,null,null,null,null,null,null,null,null,null,null,null,null,null,null,null,null,null,null,null,{"$f":"Table2[[#This Row],[CLASS]]","v":7},{"$f":"Table2[[#This Row],[Name]]","v":"manjeet244"},{"$f":"Table2[[#This Row],[Mobile No Student(Father/Mother/Guardian]]","v":9828120940}]
[null,null,null,null,null,null,null,null,null,null,null,null,null,null,null,null,null,null,null,null,null,null,null,null,{"$f":"Table2[[#This Row],[CLASS]]","v":7},{"$f":"Table2[[#This Row],[Name]]","v":"manjeet245"},{"$f":"Table2[[#This Row],[Mobile No Student(Father/Mother/Guardian]]","v":9828120941}]
[null,null,null,null,null,null,null,null,null,null,null,null,null,null,null,null,null,null,null,null,null,null,null,null,{"$f":"Table2[[#This Row],[CLASS]]","v":7},{"$f":"Table2[[#This Row],[Name]]","v":"manjeet246"},{"$f":"Table2[[#This Row],[Mobile No Student(Father/Mother/Guardian]]","v":9828120942}]
[null,null,null,null,null,null,null,null,null,null,null,null,null,null,null,null,null,null,null,null,null,null,null,null,{"$f":"Table2[[#This Row],[CLASS]]","v":7},{"$f":"Table2[[#This Row],[Name]]","v":"manjeet247"},{"$f":"Table2[[#This Row],[Mobile No Student(Father/Mother/Guardian]]","v":9828120943}]
[null,null,null,null,null,null,null,null,null,null,null,null,null,null,null,null,null,null,null,null,null,null,null,null,{"$f":"Table2[[#This Row],[CLASS]]","v":7},{"$f":"Table2[[#This Row],[Name]]","v":"manjeet248"},{"$f":"Table2[[#This Row],[Mobile No Student(Father/Mother/Guardian]]","v":9828120944}]
[null,null,null,null,null,null,null,null,null,null,null,null,null,null,null,null,null,null,null,null,null,null,null,null,{"$f":"Table2[[#This Row],[CLASS]]","v":7},{"$f":"Table2[[#This Row],[Name]]","v":"manjeet249"},{"$f":"Table2[[#This Row],[Mobile No Student(Father/Mother/Guardian]]","v":9828120945}]
[null,null,null,null,null,null,null,null,null,null,null,null,null,null,null,null,null,null,null,null,null,null,null,null,{"$f":"Table2[[#This Row],[CLASS]]","v":7},{"$f":"Table2[[#This Row],[Name]]","v":"manjeet250"},{"$f":"Table2[[#This Row],[Mobile No Student(Father/Mother/Guardian]]","v":9828120946}]
[null,null,null,null,null,null,null,null,null,null,null,null,null,null,null,null,null,null,null,null,null,null,null,null,{"$f":"Table2[[#This Row],[CLASS]]","v":7},{"$f":"Table2[[#This Row],[Name]]","v":"manjeet251"},{"$f":"Table2[[#This Row],[Mobile No Student(Father/Mother/Guardian]]","v":9828120947}]
[null,null,null,null,null,null,null,null,null,null,null,null,null,null,null,null,null,null,null,null,null,null,null,null,{"$f":"Table2[[#This Row],[CLASS]]","v":8},{"$f":"Table2[[#This Row],[Name]]","v":"manjeet252"},{"$f":"Table2[[#This Row],[Mobile No Student(Father/Mother/Guardian]]","v":9828120948}]
[null,null,null,null,null,null,null,null,null,null,null,null,null,null,null,null,null,null,null,null,null,null,null,null,{"$f":"Table2[[#This Row],[CLASS]]","v":8},{"$f":"Table2[[#This Row],[Name]]","v":"manjeet253"},{"$f":"Table2[[#This Row],[Mobile No Student(Father/Mother/Guardian]]","v":9828120949}]
[null,null,null,null,null,null,null,null,null,null,null,null,null,null,null,null,null,null,null,null,null,null,null,null,{"$f":"Table2[[#This Row],[CLASS]]","v":8},{"$f":"Table2[[#This Row],[Name]]","v":"manjeet254"},{"$f":"Table2[[#This Row],[Mobile No Student(Father/Mother/Guardian]]","v":9828120950}]
[null,null,null,null,null,null,null,null,null,null,null,null,null,null,null,null,null,null,null,null,null,null,null,null,{"$f":"Table2[[#This Row],[CLASS]]","v":8},{"$f":"Table2[[#This Row],[Name]]","v":"manjeet255"},{"$f":"Table2[[#This Row],[Mobile No Student(Father/Mother/Guardian]]","v":9828120951}]
[null,null,null,null,null,null,null,null,null,null,null,null,null,null,null,null,null,null,null,null,null,null,null,null,{"$f":"Table2[[#This Row],[CLASS]]","v":8},{"$f":"Table2[[#This Row],[Name]]","v":"manjeet256"},{"$f":"Table2[[#This Row],[Mobile No Student(Father/Mother/Guardian]]","v":9828120952}]
[null,null,null,null,null,null,null,null,null,null,null,null,null,null,null,null,null,null,null,null,null,null,null,null,{"$f":"Table2[[#This Row],[CLASS]]","v":8},{"$f":"Table2[[#This Row],[Name]]","v":"manjeet257"},{"$f":"Table2[[#This Row],[Mobile No Student(Father/Mother/Guardian]]","v":9828120953}]
[null,null,null,null,null,null,null,null,null,null,null,null,null,null,null,null,null,null,null,null,null,null,null,null,{"$f":"Table2[[#This Row],[CLASS]]","v":8},{"$f":"Table2[[#This Row],[Name]]","v":"manjeet258"},{"$f":"Table2[[#This Row],[Mobile No Student(Father/Mother/Guardian]]","v":9828120954}]
[null,null,null,null,null,null,null,null,null,null,null,null,null,null,null,null,null,null,null,null,null,null,null,null,{"$f":"Table2[[#This Row],[CLASS]]","v":8},{"$f":"Table2[[#This Row],[Name]]","v":"manjeet259"},{"$f":"Table2[[#This Row],[Mobile No Student(Father/Mother/Guardian]]","v":9828120955}]
[null,null,null,null,null,null,null,null,null,null,null,null,null,null,null,null,null,null,null,null,null,null,null,null,{"$f":"Table2[[#This Row],[CLASS]]","v":8},{"$f":"Table2[[#This Row],[Name]]","v":"manjeet260"},{"$f":"Table2[[#This Row],[Mobile No Student(Father/Mother/Guardian]]","v":9828120956}]
[null,null,null,null,null,null,null,null,null,null,null,null,null,null,null,null,null,null,null,null,null,null,null,null,{"$f":"Table2[[#This Row],[CLASS]]","v":8},{"$f":"Table2[[#This Row],[Name]]","v":"manjeet261"},{"$f":"Table2[[#This Row],[Mobile No Student(Father/Mother/Guardian]]","v":9828120957}]
[null,null,null,null,null,null,null,null,null,null,null,null,null,null,null,null,null,null,null,null,null,null,null,null,{"$f":"Table2[[#This Row],[CLASS]]","v":8},{"$f":"Table2[[#This Row],[Name]]","v":"manjeet262"},{"$f":"Table2[[#This Row],[Mobile No Student(Father/Mother/Guardian]]","v":9828120958}]
[null,null,null,null,null,null,null,null,null,null,null,null,null,null,null,null,null,null,null,null,null,null,null,null,{"$f":"Table2[[#This Row],[CLASS]]","v":8},{"$f":"Table2[[#This Row],[Name]]","v":"manjeet263"},{"$f":"Table2[[#This Row],[Mobile No Student(Father/Mother/Guardian]]","v":9828120959}]
[null,null,null,null,null,null,null,null,null,null,null,null,null,null,null,null,null,null,null,null,null,null,null,null,{"$f":"Table2[[#This Row],[CLASS]]","v":8},{"$f":"Table2[[#This Row],[Name]]","v":"manjeet264"},{"$f":"Table2[[#This Row],[Mobile No Student(Father/Mother/Guardian]]","v":9828120960}]
[null,null,null,null,null,null,null,null,null,null,null,null,null,null,null,null,null,null,null,null,null,null,null,null,{"$f":"Table2[[#This Row],[CLASS]]","v":8},{"$f":"Table2[[#This Row],[Name]]","v":"manjeet265"},{"$f":"Table2[[#This Row],[Mobile No Student(Father/Mother/Guardian]]","v":9828120961}]
[null,null,null,null,null,null,null,null,null,null,null,null,null,null,null,null,null,null,null,null,null,null,null,null,{"$f":"Table2[[#This Row],[CLASS]]","v":8},{"$f":"Table2[[#This Row],[Name]]","v":"manjeet266"},{"$f":"Table2[[#This Row],[Mobile No Student(Father/Mother/Guardian]]","v":9828120962}]
[null,null,null,null,null,null,null,null,null,null,null,null,null,null,null,null,null,null,null,null,null,null,null,null,{"$f":"Table2[[#This Row],[CLASS]]","v":8},{"$f":"Table2[[#This Row],[Name]]","v":"manjeet267"},{"$f":"Table2[[#This Row],[Mobile No Student(Father/Mother/Guardian]]","v":9828120963}]
[null,null,null,null,null,null,null,null,null,null,null,null,null,null,null,null,null,null,null,null,null,null,null,null,{"$f":"Table2[[#This Row],[CLASS]]","v":8},{"$f":"Table2[[#This Row],[Name]]","v":"manjeet268"},{"$f":"Table2[[#This Row],[Mobile No Student(Father/Mother/Guardian]]","v":9828120964}]
[null,null,null,null,null,null,null,null,null,null,null,null,null,null,null,null,null,null,null,null,null,null,null,null,{"$f":"Table2[[#This Row],[CLASS]]","v":8},{"$f":"Table2[[#This Row],[Name]]","v":"manjeet269"},{"$f":"Table2[[#This Row],[Mobile No Student(Father/Mother/Guardian]]","v":9828120965}]
[null,null,null,null,null,null,null,null,null,null,null,null,null,null,null,null,null,null,null,null,null,null,null,null,{"$f":"Table2[[#This Row],[CLASS]]","v":8},{"$f":"Table2[[#This Row],[Name]]","v":"manjeet270"},{"$f":"Table2[[#This Row],[Mobile No Student(Father/Mother/Guardian]]","v":9828120966}]
[null,null,null,null,null,null,null,null,null,null,null,null,null,null,null,null,null,null,null,null,null,null,null,null,{"$f":"Table2[[#This Row],[CLASS]]","v":8},{"$f":"Table2[[#This Row],[Name]]","v":"manjeet271"},{"$f":"Table2[[#This Row],[Mobile No Student(Father/Mother/Guardian]]","v":9828120967}]
[null,null,null,null,null,null,null,null,null,null,null,null,null,null,null,null,null,null,null,null,null,null,null,null,{"$f":"Table2[[#This Row],[CLASS]]","v":8},{"$f":"Table2[[#This Row],[Name]]","v":"manjeet272"},{"$f":"Table2[[#This Row],[Mobile No Student(Father/Mother/Guardian]]","v":9828120968}]
[null,null,null,null,null,null,null,null,null,null,null,null,null,null,null,null,null,null,null,null,null,null,null,null,{"$f":"Table2[[#This Row],[CLASS]]","v":8},{"$f":"Table2[[#This Row],[Name]]","v":"manjeet273"},{"$f":"Table2[[#This Row],[Mobile No Student(Father/Mother/Guardian]]","v":9828120969}]
[null,null,null,null,null,null,null,null,null,null,null,null,null,null,null,null,null,null,null,null,null,null,null,null,{"$f":"Table2[[#This Row],[CLASS]]","v":8},{"$f":"Table2[[#This Row],[Name]]","v":"manjeet274"},{"$f":"Table2[[#This Row],[Mobile No Student(Father/Mother/Guardian]]","v":9828120970}]
[null,null,null,null,null,null,null,null,null,null,null,null,null,null,null,null,null,null,null,null,null,null,null,null,{"$f":"Table2[[#This Row],[CLASS]]","v":8},{"$f":"Table2[[#This Row],[Name]]","v":"manjeet275"},{"$f":"Table2[[#This Row],[Mobile No Student(Father/Mother/Guardian]]","v":9828120971}]
[null,null,null,null,null,null,null,null,null,null,null,null,null,null,null,null,null,null,null,null,null,null,null,null,{"$f":"Table2[[#This Row],[CLASS]]","v":8},{"$f":"Table2[[#This Row],[Name]]","v":"manjeet276"},{"$f":"Table2[[#This Row],[Mobile No Student(Father/Mother/Guardian]]","v":9828120972}]
[null,null,null,null,null,null,null,null,null,null,null,null,null,null,null,null,null,null,null,null,null,null,null,null,{"$f":"Table2[[#This Row],[CLASS]]","v":8},{"$f":"Table2[[#This Row],[Name]]","v":"manjeet277"},{"$f":"Table2[[#This Row],[Mobile No Student(Father/Mother/Guardian]]","v":9828120973}]
[null,null,null,null,null,null,null,null,null,null,null,null,null,null,null,null,null,null,null,null,null,null,null,null,{"$f":"Table2[[#This Row],[CLASS]]","v":8},{"$f":"Table2[[#This Row],[Name]]","v":"manjeet278"},{"$f":"Table2[[#This Row],[Mobile No Student(Father/Mother/Guardian]]","v":9828120974}]
[null,null,null,null,null,null,null,null,null,null,null,null,null,null,null,null,null,null,null,null,null,null,null,null,{"$f":"Table2[[#This Row],[CLASS]]","v":8},{"$f":"Table2[[#This Row],[Name]]","v":"manjeet279"},{"$f":"Table2[[#This Row],[Mobile No Student(Father/Mother/Guardian]]","v":9828120975}]
[null,null,null,null,null,null,null,null,null,null,null,null,null,null,null,null,null,null,null,null,null,null,null,null,{"$f":"Table2[[#This Row],[CLASS]]","v":8},{"$f":"Table2[[#This Row],[Name]]","v":"manjeet280"},{"$f":"Table2[[#This Row],[Mobile No Student(Father/Mother/Guardian]]","v":9828120976}]
[null,null,null,null,null,null,null,null,null,null,null,null,null,null,null,null,null,null,null,null,null,null,null,null,{"$f":"Table2[[#This Row],[CLASS]]","v":8},{"$f":"Table2[[#This Row],[Name]]","v":"manjeet281"},{"$f":"Table2[[#This Row],[Mobile No Student(Father/Mother/Guardian]]","v":9828120977}]
[null,null,null,null,null,null,null,null,null,null,null,null,null,null,null,null,null,null,null,null,null,null,null,null,{"$f":"Table2[[#This Row],[CLASS]]","v":8},{"$f":"Table2[[#This Row],[Name]]","v":"manjeet282"},{"$f":"Table2[[#This Row],[Mobile No Student(Father/Mother/Guardian]]","v":9828120978}]
[null,null,null,null,null,null,null,null,null,null,null,null,null,null,null,null,null,null,null,null,null,null,null,null,{"$f":"Table2[[#This Row],[CLASS]]","v":8},{"$f":"Table2[[#This Row],[Name]]","v":"manjeet283"},{"$f":"Table2[[#This Row],[Mobile No Student(Father/Mother/Guardian]]","v":9828120979}]
[null,null,null,null,null,null,null,null,null,null,null,null,null,null,null,null,null,null,null,null,null,null,null,null,{"$f":"Table2[[#This Row],[CLASS]]","v":8},{"$f":"Table2[[#This Row],[Name]]","v":"manjeet284"},{"$f":"Table2[[#This Row],[Mobile No Student(Father/Mother/Guardian]]","v":9828120980}]
[null,null,null,null,null,null,null,null,null,null,null,null,null,null,null,null,null,null,null,null,null,null,null,null,{"$f":"Table2[[#This Row],[CLASS]]","v":8},{"$f":"Table2[[#This Row],[Name]]","v":"manjeet285"},{"$f":"Table2[[#This Row],[Mobile No Student(Father/Mother/Guardian]]","v":9828120981}]
[null,null,null,null,null,null,null,null,null,null,null,null,null,null,null,null,null,null,null,null,null,null,null,null,{"$f":"Table2[[#This Row],[CLASS]]","v":8},{"$f":"Table2[[#This Row],[Name]]","v":"manjeet286"},{"$f":"Table2[[#This Row],[Mobile No Student(Father/Mother/Guardian]]","v":9828120982}]
[null,null,null,null,null,null,null,null,null,null,null,null,null,null,null,null,null,null,null,null,null,null,null,null,{"$f":"Table2[[#This Row],[CLASS]]","v":8},{"$f":"Table2[[#This Row],[Name]]","v":"manjeet287"},{"$f":"Table2[[#This Row],[Mobile No Student(Father/Mother/Guardian]]","v":9828120983}]
[null,null,null,null,null,null,null,null,null,null,null,null,null,null,null,null,null,null,null,null,null,null,null,null,{"$f":"Table2[[#This Row],[CLASS]]","v":8},{"$f":"Table2[[#This Row],[Name]]","v":"manjeet288"},{"$f":"Table2[[#This Row],[Mobile No Student(Father/Mother/Guardian]]","v":9828120984}]
[null,null,null,null,null,null,null,null,null,null,null,null,null,null,null,null,null,null,null,null,null,null,null,null,{"$f":"Table2[[#This Row],[CLASS]]","v":8},{"$f":"Table2[[#This Row],[Name]]","v":"manjeet289"},{"$f":"Table2[[#This Row],[Mobile No Student(Father/Mother/Guardian]]","v":9828120985}]
[null,null,null,null,null,null,null,null,null,null,null,null,null,null,null,null,null,null,null,null,null,null,null,null,{"$f":"Table2[[#This Row],[CLASS]]","v":8},{"$f":"Table2[[#This Row],[Name]]","v":"manjeet290"},{"$f":"Table2[[#This Row],[Mobile No Student(Father/Mother/Guardian]]","v":9828120986}]
[null,null,null,null,null,null,null,null,null,null,null,null,null,null,null,null,null,null,null,null,null,null,null,null,{"$f":"Table2[[#This Row],[CLASS]]","v":8},{"$f":"Table2[[#This Row],[Name]]","v":"manjeet291"},{"$f":"Table2[[#This Row],[Mobile No Student(Father/Mother/Guardian]]","v":9828120987}]
[null,null,null,null,null,null,null,null,null,null,null,null,null,null,null,null,null,null,null,null,null,null,null,null,{"$f":"Table2[[#This Row],[CLASS]]","v":8},{"$f":"Table2[[#This Row],[Name]]","v":"manjeet292"},{"$f":"Table2[[#This Row],[Mobile No Student(Father/Mother/Guardian]]","v":9828120988}]
[null,null,null,null,null,null,null,null,null,null,null,null,null,null,null,null,null,null,null,null,null,null,null,null,{"$f":"Table2[[#This Row],[CLASS]]","v":8},{"$f":"Table2[[#This Row],[Name]]","v":"manjeet293"},{"$f":"Table2[[#This Row],[Mobile No Student(Father/Mother/Guardian]]","v":9828120989}]
[null,null,null,null,null,null,null,null,null,null,null,null,null,null,null,null,null,null,null,null,null,null,null,null,{"$f":"Table2[[#This Row],[CLASS]]","v":8},{"$f":"Table2[[#This Row],[Name]]","v":"manjeet294"},{"$f":"Table2[[#This Row],[Mobile No Student(Father/Mother/Guardian]]","v":9828120990}]
[null,null,null,null,null,null,null,null,null,null,null,null,null,null,null,null,null,null,null,null,null,null,null,null,{"$f":"Table2[[#This Row],[CLASS]]","v":8},{"$f":"Table2[[#This Row],[Name]]","v":"manjeet295"},{"$f":"Table2[[#This Row],[Mobile No Student(Father/Mother/Guardian]]","v":9828120991}]
[null,null,null,null,null,null,null,null,null,null,null,null,null,null,null,null,null,null,null,null,null,null,null,null,{"$f":"Table2[[#This Row],[CLASS]]","v":8},{"$f":"Table2[[#This Row],[Name]]","v":"manjeet296"},{"$f":"Table2[[#This Row],[Mobile No Student(Father/Mother/Guardian]]","v":9828120992}]
[null,null,null,null,null,null,null,null,null,null,null,null,null,null,null,null,null,null,null,null,null,null,null,null,{"$f":"Table2[[#This Row],[CLASS]]","v":8},{"$f":"Table2[[#This Row],[Name]]","v":"manjeet297"},{"$f":"Table2[[#This Row],[Mobile No Student(Father/Mother/Guardian]]","v":9828120993}]
[null,null,null,null,null,null,null,null,null,null,null,null,null,null,null,null,null,null,null,null,null,null,null,null,{"$f":"Table2[[#This Row],[CLASS]]","v":8},{"$f":"Table2[[#This Row],[Name]]","v":"manjeet298"},{"$f":"Table2[[#This Row],[Mobile No Student(Father/Mother/Guardian]]","v":9828120994}]
[null,null,null,null,null,null,null,null,null,null,null,null,null,null,null,null,null,null,null,null,null,null,null,null,{"$f":"Table2[[#This Row],[CLASS]]","v":8},{"$f":"Table2[[#This Row],[Name]]","v":"manjeet299"},{"$f":"Table2[[#This Row],[Mobile No Student(Father/Mother/Guardian]]","v":9828120995}]
[null,null,null,null,null,null,null,null,null,null,null,null,null,null,null,null,null,null,null,null,null,null,null,null,{"$f":"Table2[[#This Row],[CLASS]]","v":8},{"$f":"Table2[[#This Row],[Name]]","v":"manjeet300"},{"$f":"Table2[[#This Row],[Mobile No Student(Father/Mother/Guardian]]","v":9828120996}]
[null,null,null,null,null,null,null,null,null,null,null,null,null,null,null,null,null,null,null,null,null,null,null,null,{"$f":"Table2[[#This Row],[CLASS]]","v":8},{"$f":"Table2[[#This Row],[Name]]","v":"manjeet301"},{"$f":"Table2[[#This Row],[Mobile No Student(Father/Mother/Guardian]]","v":9828120997}]
[null,null,null,null,null,null,null,null,null,null,null,null,null,null,null,null,null,null,null,null,null,null,null,null,{"$f":"Table2[[#This Row],[CLASS]]","v":8},{"$f":"Table2[[#This Row],[Name]]","v":"manjeet302"},{"$f":"Table2[[#This Row],[Mobile No Student(Father/Mother/Guardian]]","v":9828120998}]
[null,null,null,null,null,null,null,null,null,null,null,null,null,null,null,null,null,null,null,null,null,null,null,null,{"$f":"Table2[[#This Row],[CLASS]]","v":8},{"$f":"Table2[[#This Row],[Name]]","v":"manjeet303"},{"$f":"Table2[[#This Row],[Mobile No Student(Father/Mother/Guardian]]","v":9828120999}]
[null,null,null,null,null,null,null,null,null,null,null,null,null,null,null,null,null,null,null,null,null,null,null,null,{"$f":"Table2[[#This Row],[CLASS]]","v":8},{"$f":"Table2[[#This Row],[Name]]","v":"manjeet304"},{"$f":"Table2[[#This Row],[Mobile No Student(Father/Mother/Guardian]]","v":9828121000}]
[null,null,null,null,null,null,null,null,null,null,null,null,null,null,null,null,null,null,null,null,null,null,null,null,{"$f":"Table2[[#This Row],[CLASS]]","v":8},{"$f":"Table2[[#This Row],[Name]]","v":"manjeet305"},{"$f":"Table2[[#This Row],[Mobile No Student(Father/Mother/Guardian]]","v":9828121001}]
[null,null,null,null,null,null,null,null,null,null,null,null,null,null,null,null,null,null,null,null,null,null,null,null,{"$f":"Table2[[#This Row],[CLASS]]","v":8},{"$f":"Table2[[#This Row],[Name]]","v":"manjeet306"},{"$f":"Table2[[#This Row],[Mobile No Student(Father/Mother/Guardian]]","v":9828121002}]
[null,null,null,null,null,null,null,null,null,null,null,null,null,null,null,null,null,null,null,null,null,null,null,null,{"$f":"Table2[[#This Row],[CLASS]]","v":8},{"$f":"Table2[[#This Row],[Name]]","v":"manjeet307"},{"$f":"Table2[[#This Row],[Mobile No Student(Father/Mother/Guardian]]","v":9828121003}]
[null,null,null,null,null,null,null,null,null,null,null,null,null,null,null,null,null,null,null,null,null,null,null,null,{"$f":"Table2[[#This Row],[CLASS]]","v":8},{"$f":"Table2[[#This Row],[Name]]","v":"manjeet308"},{"$f":"Table2[[#This Row],[Mobile No Student(Father/Mother/Guardian]]","v":9828121004}]
[null,null,null,null,null,null,null,null,null,null,null,null,null,null,null,null,null,null,null,null,null,null,null,null,{"$f":"Table2[[#This Row],[CLASS]]","v":8},{"$f":"Table2[[#This Row],[Name]]","v":"manjeet309"},{"$f":"Table2[[#This Row],[Mobile No Student(Father/Mother/Guardian]]","v":9828121005}]
[null,null,null,null,null,null,null,null,null,null,null,null,null,null,null,null,null,null,null,null,null,null,null,null,{"$f":"Table2[[#This Row],[CLASS]]","v":8},{"$f":"Table2[[#This Row],[Name]]","v":"manjeet310"},{"$f":"Table2[[#This Row],[Mobile No Student(Father/Mother/Guardian]]","v":9828121006}]
[null,null,null,null,null,null,null,null,null,null,null,null,null,null,null,null,null,null,null,null,null,null,null,null,{"$f":"Table2[[#This Row],[CLASS]]","v":8},{"$f":"Table2[[#This Row],[Name]]","v":"manjeet311"},{"$f":"Table2[[#This Row],[Mobile No Student(Father/Mother/Guardian]]","v":9828121007}]
[null,null,null,null,null,null,null,null,null,null,null,null,null,null,null,null,null,null,null,null,null,null,null,null,{"$f":"Table2[[#This Row],[CLASS]]","v":8},{"$f":"Table2[[#This Row],[Name]]","v":"manjeet312"},{"$f":"Table2[[#This Row],[Mobile No Student(Father/Mother/Guardian]]","v":9828121008}]
[null,null,null,null,null,null,null,null,null,null,null,null,null,null,null,null,null,null,null,null,null,null,null,null,{"$f":"Table2[[#This Row],[CLASS]]","v":8},{"$f":"Table2[[#This Row],[Name]]","v":"manjeet313"},{"$f":"Table2[[#This Row],[Mobile No Student(Father/Mother/Guardian]]","v":9828121009}]
[null,null,null,null,null,null,null,null,null,null,null,null,null,null,null,null,null,null,null,null,null,null,null,null,{"$f":"Table2[[#This Row],[CLASS]]","v":8},{"$f":"Table2[[#This Row],[Name]]","v":"manjeet314"},{"$f":"Table2[[#This Row],[Mobile No Student(Father/Mother/Guardian]]","v":9828121010}]
[null,null,null,null,null,null,null,null,null,null,null,null,null,null,null,null,null,null,null,null,null,null,null,null,{"$f":"Table2[[#This Row],[CLASS]]","v":8},{"$f":"Table2[[#This Row],[Name]]","v":"manjeet315"},{"$f":"Table2[[#This Row],[Mobile No Student(Father/Mother/Guardian]]","v":9828121011}]
[null,null,null,null,null,null,null,null,null,null,null,null,null,null,null,null,null,null,null,null,null,null,null,null,{"$f":"Table2[[#This Row],[CLASS]]","v":8},{"$f":"Table2[[#This Row],[Name]]","v":"manjeet316"},{"$f":"Table2[[#This Row],[Mobile No Student(Father/Mother/Guardian]]","v":9828121012}]
[null,null,null,null,null,null,null,null,null,null,null,null,null,null,null,null,null,null,null,null,null,null,null,null,{"$f":"Table2[[#This Row],[CLASS]]","v":9},{"$f":"Table2[[#This Row],[Name]]","v":"manjeet317"},{"$f":"Table2[[#This Row],[Mobile No Student(Father/Mother/Guardian]]","v":9828121013}]
[null,null,null,null,null,null,null,null,null,null,null,null,null,null,null,null,null,null,null,null,null,null,null,null,{"$f":"Table2[[#This Row],[CLASS]]","v":9},{"$f":"Table2[[#This Row],[Name]]","v":"manjeet318"},{"$f":"Table2[[#This Row],[Mobile No Student(Father/Mother/Guardian]]","v":9828121014}]
[null,null,null,null,null,null,null,null,null,null,null,null,null,null,null,null,null,null,null,null,null,null,null,null,{"$f":"Table2[[#This Row],[CLASS]]","v":9},{"$f":"Table2[[#This Row],[Name]]","v":"manjeet319"},{"$f":"Table2[[#This Row],[Mobile No Student(Father/Mother/Guardian]]","v":9828121015}]
[null,null,null,null,null,null,null,null,null,null,null,null,null,null,null,null,null,null,null,null,null,null,null,null,{"$f":"Table2[[#This Row],[CLASS]]","v":9},{"$f":"Table2[[#This Row],[Name]]","v":"manjeet320"},{"$f":"Table2[[#This Row],[Mobile No Student(Father/Mother/Guardian]]","v":9828121016}]
[null,null,null,null,null,null,null,null,null,null,null,null,null,null,null,null,null,null,null,null,null,null,null,null,{"$f":"Table2[[#This Row],[CLASS]]","v":9},{"$f":"Table2[[#This Row],[Name]]","v":"manjeet321"},{"$f":"Table2[[#This Row],[Mobile No Student(Father/Mother/Guardian]]","v":9828121017}]
[null,null,null,null,null,null,null,null,null,null,null,null,null,null,null,null,null,null,null,null,null,null,null,null,{"$f":"Table2[[#This Row],[CLASS]]","v":9},{"$f":"Table2[[#This Row],[Name]]","v":"manjeet322"},{"$f":"Table2[[#This Row],[Mobile No Student(Father/Mother/Guardian]]","v":9828121018}]
[null,null,null,null,null,null,null,null,null,null,null,null,null,null,null,null,null,null,null,null,null,null,null,null,{"$f":"Table2[[#This Row],[CLASS]]","v":9},{"$f":"Table2[[#This Row],[Name]]","v":"manjeet323"},{"$f":"Table2[[#This Row],[Mobile No Student(Father/Mother/Guardian]]","v":9828121019}]
[null,null,null,null,null,null,null,null,null,null,null,null,null,null,null,null,null,null,null,null,null,null,null,null,{"$f":"Table2[[#This Row],[CLASS]]","v":9},{"$f":"Table2[[#This Row],[Name]]","v":"manjeet324"},{"$f":"Table2[[#This Row],[Mobile No Student(Father/Mother/Guardian]]","v":9828121020}]
[null,null,null,null,null,null,null,null,null,null,null,null,null,null,null,null,null,null,null,null,null,null,null,null,{"$f":"Table2[[#This Row],[CLASS]]","v":9},{"$f":"Table2[[#This Row],[Name]]","v":"manjeet325"},{"$f":"Table2[[#This Row],[Mobile No Student(Father/Mother/Guardian]]","v":9828121021}]
[null,null,null,null,null,null,null,null,null,null,null,null,null,null,null,null,null,null,null,null,null,null,null,null,{"$f":"Table2[[#This Row],[CLASS]]","v":9},{"$f":"Table2[[#This Row],[Name]]","v":"manjeet326"},{"$f":"Table2[[#This Row],[Mobile No Student(Father/Mother/Guardian]]","v":9828121022}]
[null,null,null,null,null,null,null,null,null,null,null,null,null,null,null,null,null,null,null,null,null,null,null,null,{"$f":"Table2[[#This Row],[CLASS]]","v":9},{"$f":"Table2[[#This Row],[Name]]","v":"manjeet327"},{"$f":"Table2[[#This Row],[Mobile No Student(Father/Mother/Guardian]]","v":9828121023}]
[null,null,null,null,null,null,null,null,null,null,null,null,null,null,null,null,null,null,null,null,null,null,null,null,{"$f":"Table2[[#This Row],[CLASS]]","v":9},{"$f":"Table2[[#This Row],[Name]]","v":"manjeet328"},{"$f":"Table2[[#This Row],[Mobile No Student(Father/Mother/Guardian]]","v":9828121024}]
[null,null,null,null,null,null,null,null,null,null,null,null,null,null,null,null,null,null,null,null,null,null,null,null,{"$f":"Table2[[#This Row],[CLASS]]","v":9},{"$f":"Table2[[#This Row],[Name]]","v":"manjeet329"},{"$f":"Table2[[#This Row],[Mobile No Student(Father/Mother/Guardian]]","v":9828121025}]
[null,null,null,null,null,null,null,null,null,null,null,null,null,null,null,null,null,null,null,null,null,null,null,null,{"$f":"Table2[[#This Row],[CLASS]]","v":9},{"$f":"Table2[[#This Row],[Name]]","v":"manjeet330"},{"$f":"Table2[[#This Row],[Mobile No Student(Father/Mother/Guardian]]","v":9828121026}]
[null,null,null,null,null,null,null,null,null,null,null,null,null,null,null,null,null,null,null,null,null,null,null,null,{"$f":"Table2[[#This Row],[CLASS]]","v":9},{"$f":"Table2[[#This Row],[Name]]","v":"manjeet331"},{"$f":"Table2[[#This Row],[Mobile No Student(Father/Mother/Guardian]]","v":9828121027}]
[null,null,null,null,null,null,null,null,null,null,null,null,null,null,null,null,null,null,null,null,null,null,null,null,{"$f":"Table2[[#This Row],[CLASS]]","v":9},{"$f":"Table2[[#This Row],[Name]]","v":"manjeet332"},{"$f":"Table2[[#This Row],[Mobile No Student(Father/Mother/Guardian]]","v":9828121028}]
[null,null,null,null,null,null,null,null,null,null,null,null,null,null,null,null,null,null,null,null,null,null,null,null,{"$f":"Table2[[#This Row],[CLASS]]","v":9},{"$f":"Table2[[#This Row],[Name]]","v":"manjeet333"},{"$f":"Table2[[#This Row],[Mobile No Student(Father/Mother/Guardian]]","v":9828121029}]
[null,null,null,null,null,null,null,null,null,null,null,null,null,null,null,null,null,null,null,null,null,null,null,null,{"$f":"Table2[[#This Row],[CLASS]]","v":9},{"$f":"Table2[[#This Row],[Name]]","v":"manjeet334"},{"$f":"Table2[[#This Row],[Mobile No Student(Father/Mother/Guardian]]","v":9828121030}]
[null,null,null,null,null,null,null,null,null,null,null,null,null,null,null,null,null,null,null,null,null,null,null,null,{"$f":"Table2[[#This Row],[CLASS]]","v":9},{"$f":"Table2[[#This Row],[Name]]","v":"manjeet335"},{"$f":"Table2[[#This Row],[Mobile No Student(Father/Mother/Guardian]]","v":9828121031}]
[null,null,null,null,null,null,null,null,null,null,null,null,null,null,null,null,null,null,null,null,null,null,null,null,{"$f":"Table2[[#This Row],[CLASS]]","v":9},{"$f":"Table2[[#This Row],[Name]]","v":"manjeet336"},{"$f":"Table2[[#This Row],[Mobile No Student(Father/Mother/Guardian]]","v":9828121032}]
[null,null,null,null,null,null,null,null,null,null,null,null,null,null,null,null,null,null,null,null,null,null,null,null,{"$f":"Table2[[#This Row],[CLASS]]","v":9},{"$f":"Table2[[#This Row],[Name]]","v":"manjeet337"},{"$f":"Table2[[#This Row],[Mobile No Student(Father/Mother/Guardian]]","v":9828121033}]
[null,null,null,null,null,null,null,null,null,null,null,null,null,null,null,null,null,null,null,null,null,null,null,null,{"$f":"Table2[[#This Row],[CLASS]]","v":9},{"$f":"Table2[[#This Row],[Name]]","v":"manjeet338"},{"$f":"Table2[[#This Row],[Mobile No Student(Father/Mother/Guardian]]","v":9828121034}]
[null,null,null,null,null,null,null,null,null,null,null,null,null,null,null,null,null,null,null,null,null,null,null,null,{"$f":"Table2[[#This Row],[CLASS]]","v":9},{"$f":"Table2[[#This Row],[Name]]","v":"manjeet339"},{"$f":"Table2[[#This Row],[Mobile No Student(Father/Mother/Guardian]]","v":9828121035}]
[null,null,null,null,null,null,null,null,null,null,null,null,null,null,null,null,null,null,null,null,null,null,null,null,{"$f":"Table2[[#This Row],[CLASS]]","v":9},{"$f":"Table2[[#This Row],[Name]]","v":"manjeet340"},{"$f":"Table2[[#This Row],[Mobile No Student(Father/Mother/Guardian]]","v":9828121036}]
[null,null,null,null,null,null,null,null,null,null,null,null,null,null,null,null,null,null,null,null,null,null,null,null,{"$f":"Table2[[#This Row],[CLASS]]","v":9},{"$f":"Table2[[#This Row],[Name]]","v":"manjeet341"},{"$f":"Table2[[#This Row],[Mobile No Student(Father/Mother/Guardian]]","v":9828121037}]
[null,null,null,null,null,null,null,null,null,null,null,null,null,null,null,null,null,null,null,null,null,null,null,null,{"$f":"Table2[[#This Row],[CLASS]]","v":9},{"$f":"Table2[[#This Row],[Name]]","v":"manjeet342"},{"$f":"Table2[[#This Row],[Mobile No Student(Father/Mother/Guardian]]","v":9828121038}]
[null,null,null,null,null,null,null,null,null,null,null,null,null,null,null,null,null,null,null,null,null,null,null,null,{"$f":"Table2[[#This Row],[CLASS]]","v":9},{"$f":"Table2[[#This Row],[Name]]","v":"manjeet343"},{"$f":"Table2[[#This Row],[Mobile No Student(Father/Mother/Guardian]]","v":9828121039}]
[null,null,null,null,null,null,null,null,null,null,null,null,null,null,null,null,null,null,null,null,null,null,null,null,{"$f":"Table2[[#This Row],[CLASS]]","v":9},{"$f":"Table2[[#This Row],[Name]]","v":"manjeet344"},{"$f":"Table2[[#This Row],[Mobile No Student(Father/Mother/Guardian]]","v":9828121040}]
[null,null,null,null,null,null,null,null,null,null,null,null,null,null,null,null,null,null,null,null,null,null,null,null,{"$f":"Table2[[#This Row],[CLASS]]","v":9},{"$f":"Table2[[#This Row],[Name]]","v":"manjeet345"},{"$f":"Table2[[#This Row],[Mobile No Student(Father/Mother/Guardian]]","v":9828121041}]
[null,null,null,null,null,null,null,null,null,null,null,null,null,null,null,null,null,null,null,null,null,null,null,null,{"$f":"Table2[[#This Row],[CLASS]]","v":9},{"$f":"Table2[[#This Row],[Name]]","v":"manjeet346"},{"$f":"Table2[[#This Row],[Mobile No Student(Father/Mother/Guardian]]","v":9828121042}]
[null,null,null,null,null,null,null,null,null,null,null,null,null,null,null,null,null,null,null,null,null,null,null,null,{"$f":"Table2[[#This Row],[CLASS]]","v":9},{"$f":"Table2[[#This Row],[Name]]","v":"manjeet347"},{"$f":"Table2[[#This Row],[Mobile No Student(Father/Mother/Guardian]]","v":9828121043}]
[null,null,null,null,null,null,null,null,null,null,null,null,null,null,null,null,null,null,null,null,null,null,null,null,{"$f":"Table2[[#This Row],[CLASS]]","v":9},{"$f":"Table2[[#This Row],[Name]]","v":"manjeet348"},{"$f":"Table2[[#This Row],[Mobile No Student(Father/Mother/Guardian]]","v":9828121044}]
[null,null,null,null,null,null,null,null,null,null,null,null,null,null,null,null,null,null,null,null,null,null,null,null,{"$f":"Table2[[#This Row],[CLASS]]","v":9},{"$f":"Table2[[#This Row],[Name]]","v":"manjeet349"},{"$f":"Table2[[#This Row],[Mobile No Student(Father/Mother/Guardian]]","v":9828121045}]
[null,null,null,null,null,null,null,null,null,null,null,null,null,null,null,null,null,null,null,null,null,null,null,null,{"$f":"Table2[[#This Row],[CLASS]]","v":9},{"$f":"Table2[[#This Row],[Name]]","v":"manjeet350"},{"$f":"Table2[[#This Row],[Mobile No Student(Father/Mother/Guardian]]","v":9828121046}]
[null,null,null,null,null,null,null,null,null,null,null,null,null,null,null,null,null,null,null,null,null,null,null,null,{"$f":"Table2[[#This Row],[CLASS]]","v":9},{"$f":"Table2[[#This Row],[Name]]","v":"manjeet351"},{"$f":"Table2[[#This Row],[Mobile No Student(Father/Mother/Guardian]]","v":9828121047}]
[null,null,null,null,null,null,null,null,null,null,null,null,null,null,null,null,null,null,null,null,null,null,null,null,{"$f":"Table2[[#This Row],[CLASS]]","v":9},{"$f":"Table2[[#This Row],[Name]]","v":"manjeet352"},{"$f":"Table2[[#This Row],[Mobile No Student(Father/Mother/Guardian]]","v":9828121048}]
[null,null,null,null,null,null,null,null,null,null,null,null,null,null,null,null,null,null,null,null,null,null,null,null,{"$f":"Table2[[#This Row],[CLASS]]","v":9},{"$f":"Table2[[#This Row],[Name]]","v":"manjeet353"},{"$f":"Table2[[#This Row],[Mobile No Student(Father/Mother/Guardian]]","v":9828121049}]
[null,null,null,null,null,null,null,null,null,null,null,null,null,null,null,null,null,null,null,null,null,null,null,null,{"$f":"Table2[[#This Row],[CLASS]]","v":9},{"$f":"Table2[[#This Row],[Name]]","v":"manjeet354"},{"$f":"Table2[[#This Row],[Mobile No Student(Father/Mother/Guardian]]","v":9828121050}]
[null,null,null,null,null,null,null,null,null,null,null,null,null,null,null,null,null,null,null,null,null,null,null,null,{"$f":"Table2[[#This Row],[CLASS]]","v":9},{"$f":"Table2[[#This Row],[Name]]","v":"manjeet355"},{"$f":"Table2[[#This Row],[Mobile No Student(Father/Mother/Guardian]]","v":9828121051}]
[null,null,null,null,null,null,null,null,null,null,null,null,null,null,null,null,null,null,null,null,null,null,null,null,{"$f":"Table2[[#This Row],[CLASS]]","v":9},{"$f":"Table2[[#This Row],[Name]]","v":"manjeet356"},{"$f":"Table2[[#This Row],[Mobile No Student(Father/Mother/Guardian]]","v":9828121052}]
[null,null,null,null,null,null,null,null,null,null,null,null,null,null,null,null,null,null,null,null,null,null,null,null,{"$f":"Table2[[#This Row],[CLASS]]","v":9},{"$f":"Table2[[#This Row],[Name]]","v":"manjeet357"},{"$f":"Table2[[#This Row],[Mobile No Student(Father/Mother/Guardian]]","v":9828121053}]
[null,null,null,null,null,null,null,null,null,null,null,null,null,null,null,null,null,null,null,null,null,null,null,null,{"$f":"Table2[[#This Row],[CLASS]]","v":9},{"$f":"Table2[[#This Row],[Name]]","v":"manjeet358"},{"$f":"Table2[[#This Row],[Mobile No Student(Father/Mother/Guardian]]","v":9828121054}]
[null,null,null,null,null,null,null,null,null,null,null,null,null,null,null,null,null,null,null,null,null,null,null,null,{"$f":"Table2[[#This Row],[CLASS]]","v":9},{"$f":"Table2[[#This Row],[Name]]","v":"manjeet359"},{"$f":"Table2[[#This Row],[Mobile No Student(Father/Mother/Guardian]]","v":9828121055}]
[null,null,null,null,null,null,null,null,null,null,null,null,null,null,null,null,null,null,null,null,null,null,null,null,{"$f":"Table2[[#This Row],[CLASS]]","v":9},{"$f":"Table2[[#This Row],[Name]]","v":"manjeet360"},{"$f":"Table2[[#This Row],[Mobile No Student(Father/Mother/Guardian]]","v":9828121056}]
[null,null,null,null,null,null,null,null,null,null,null,null,null,null,null,null,null,null,null,null,null,null,null,null,{"$f":"Table2[[#This Row],[CLASS]]","v":9},{"$f":"Table2[[#This Row],[Name]]","v":"manjeet361"},{"$f":"Table2[[#This Row],[Mobile No Student(Father/Mother/Guardian]]","v":9828121057}]
[null,null,null,null,null,null,null,null,null,null,null,null,null,null,null,null,null,null,null,null,null,null,null,null,{"$f":"Table2[[#This Row],[CLASS]]","v":9},{"$f":"Table2[[#This Row],[Name]]","v":"manjeet362"},{"$f":"Table2[[#This Row],[Mobile No Student(Father/Mother/Guardian]]","v":9828121058}]
[null,null,null,null,null,null,null,null,null,null,null,null,null,null,null,null,null,null,null,null,null,null,null,null,{"$f":"Table2[[#This Row],[CLASS]]","v":9},{"$f":"Table2[[#This Row],[Name]]","v":"manjeet363"},{"$f":"Table2[[#This Row],[Mobile No Student(Father/Mother/Guardian]]","v":9828121059}]
[null,null,null,null,null,null,null,null,null,null,null,null,null,null,null,null,null,null,null,null,null,null,null,null,{"$f":"Table2[[#This Row],[CLASS]]","v":9},{"$f":"Table2[[#This Row],[Name]]","v":"manjeet364"},{"$f":"Table2[[#This Row],[Mobile No Student(Father/Mother/Guardian]]","v":9828121060}]
[null,null,null,null,null,null,null,null,null,null,null,null,null,null,null,null,null,null,null,null,null,null,null,null,{"$f":"Table2[[#This Row],[CLASS]]","v":9},{"$f":"Table2[[#This Row],[Name]]","v":"manjeet365"},{"$f":"Table2[[#This Row],[Mobile No Student(Father/Mother/Guardian]]","v":9828121061}]
[null,null,null,null,null,null,null,null,null,null,null,null,null,null,null,null,null,null,null,null,null,null,null,null,{"$f":"Table2[[#This Row],[CLASS]]","v":9},{"$f":"Table2[[#This Row],[Name]]","v":"manjeet366"},{"$f":"Table2[[#This Row],[Mobile No Student(Father/Mother/Guardian]]","v":9828121062}]
[null,null,null,null,null,null,null,null,null,null,null,null,null,null,null,null,null,null,null,null,null,null,null,null,{"$f":"Table2[[#This Row],[CLASS]]","v":9},{"$f":"Table2[[#This Row],[Name]]","v":"manjeet367"},{"$f":"Table2[[#This Row],[Mobile No Student(Father/Mother/Guardian]]","v":9828121063}]
[null,null,null,null,null,null,null,null,null,null,null,null,null,null,null,null,null,null,null,null,null,null,null,null,{"$f":"Table2[[#This Row],[CLASS]]","v":9},{"$f":"Table2[[#This Row],[Name]]","v":"manjeet368"},{"$f":"Table2[[#This Row],[Mobile No Student(Father/Mother/Guardian]]","v":9828121064}]
[null,null,null,null,null,null,null,null,null,null,null,null,null,null,null,null,null,null,null,null,null,null,null,null,{"$f":"Table2[[#This Row],[CLASS]]","v":9},{"$f":"Table2[[#This Row],[Name]]","v":"manjeet369"},{"$f":"Table2[[#This Row],[Mobile No Student(Father/Mother/Guardian]]","v":9828121065}]
[null,null,null,null,null,null,null,null,null,null,null,null,null,null,null,null,null,null,null,null,null,null,null,null,{"$f":"Table2[[#This Row],[CLASS]]","v":9},{"$f":"Table2[[#This Row],[Name]]","v":"manjeet370"},{"$f":"Table2[[#This Row],[Mobile No Student(Father/Mother/Guardian]]","v":9828121066}]
[null,null,null,null,null,null,null,null,null,null,null,null,null,null,null,null,null,null,null,null,null,null,null,null,{"$f":"Table2[[#This Row],[CLASS]]","v":9},{"$f":"Table2[[#This Row],[Name]]","v":"manjeet371"},{"$f":"Table2[[#This Row],[Mobile No Student(Father/Mother/Guardian]]","v":9828121067}]
[null,null,null,null,null,null,null,null,null,null,null,null,null,null,null,null,null,null,null,null,null,null,null,null,{"$f":"Table2[[#This Row],[CLASS]]","v":9},{"$f":"Table2[[#This Row],[Name]]","v":"manjeet372"},{"$f":"Table2[[#This Row],[Mobile No Student(Father/Mother/Guardian]]","v":9828121068}]
[null,null,null,null,null,null,null,null,null,null,null,null,null,null,null,null,null,null,null,null,null,null,null,null,{"$f":"Table2[[#This Row],[CLASS]]","v":9},{"$f":"Table2[[#This Row],[Name]]","v":"manjeet373"},{"$f":"Table2[[#This Row],[Mobile No Student(Father/Mother/Guardian]]","v":9828121069}]
[null,null,null,null,null,null,null,null,null,null,null,null,null,null,null,null,null,null,null,null,null,null,null,null,{"$f":"Table2[[#This Row],[CLASS]]","v":9},{"$f":"Table2[[#This Row],[Name]]","v":"manjeet374"},{"$f":"Table2[[#This Row],[Mobile No Student(Father/Mother/Guardian]]","v":9828121070}]
[null,null,null,null,null,null,null,null,null,null,null,null,null,null,null,null,null,null,null,null,null,null,null,null,{"$f":"Table2[[#This Row],[CLASS]]","v":9},{"$f":"Table2[[#This Row],[Name]]","v":"manjeet375"},{"$f":"Table2[[#This Row],[Mobile No Student(Father/Mother/Guardian]]","v":9828121071}]
[null,null,null,null,null,null,null,null,null,null,null,null,null,null,null,null,null,null,null,null,null,null,null,null,{"$f":"Table2[[#This Row],[CLASS]]","v":9},{"$f":"Table2[[#This Row],[Name]]","v":"manjeet376"},{"$f":"Table2[[#This Row],[Mobile No Student(Father/Mother/Guardian]]","v":9828121072}]
[null,null,null,null,null,null,null,null,null,null,null,null,null,null,null,null,null,null,null,null,null,null,null,null,{"$f":"Table2[[#This Row],[CLASS]]","v":9},{"$f":"Table2[[#This Row],[Name]]","v":"manjeet377"},{"$f":"Table2[[#This Row],[Mobile No Student(Father/Mother/Guardian]]","v":9828121073}]
[null,null,null,null,null,null,null,null,null,null,null,null,null,null,null,null,null,null,null,null,null,null,null,null,{"$f":"Table2[[#This Row],[CLASS]]","v":9},{"$f":"Table2[[#This Row],[Name]]","v":"manjeet378"},{"$f":"Table2[[#This Row],[Mobile No Student(Father/Mother/Guardian]]","v":9828121074}]
[null,null,null,null,null,null,null,null,null,null,null,null,null,null,null,null,null,null,null,null,null,null,null,null,{"$f":"Table2[[#This Row],[CLASS]]","v":9},{"$f":"Table2[[#This Row],[Name]]","v":"manjeet379"},{"$f":"Table2[[#This Row],[Mobile No Student(Father/Mother/Guardian]]","v":9828121075}]
[null,null,null,null,null,null,null,null,null,null,null,null,null,null,null,null,null,null,null,null,null,null,null,null,{"$f":"Table2[[#This Row],[CLASS]]","v":9},{"$f":"Table2[[#This Row],[Name]]","v":"manjeet380"},{"$f":"Table2[[#This Row],[Mobile No Student(Father/Mother/Guardian]]","v":9828121076}]
[null,null,null,null,null,null,null,null,null,null,null,null,null,null,null,null,null,null,null,null,null,null,null,null,{"$f":"Table2[[#This Row],[CLASS]]","v":9},{"$f":"Table2[[#This Row],[Name]]","v":"manjeet381"},{"$f":"Table2[[#This Row],[Mobile No Student(Father/Mother/Guardian]]","v":9828121077}]
[null,null,null,null,null,null,null,null,null,null,null,null,null,null,null,null,null,null,null,null,null,null,null,null,{"$f":"Table2[[#This Row],[CLASS]]","v":9},{"$f":"Table2[[#This Row],[Name]]","v":"manjeet382"},{"$f":"Table2[[#This Row],[Mobile No Student(Father/Mother/Guardian]]","v":9828121078}]
[null,null,null,null,null,null,null,null,null,null,null,null,null,null,null,null,null,null,null,null,null,null,null,null,{"$f":"Table2[[#This Row],[CLASS]]","v":9},{"$f":"Table2[[#This Row],[Name]]","v":"manjeet383"},{"$f":"Table2[[#This Row],[Mobile No Student(Father/Mother/Guardian]]","v":9828121079}]
[null,null,null,null,null,null,null,null,null,null,null,null,null,null,null,null,null,null,null,null,null,null,null,null,{"$f":"Table2[[#This Row],[CLASS]]","v":9},{"$f":"Table2[[#This Row],[Name]]","v":"manjeet384"},{"$f":"Table2[[#This Row],[Mobile No Student(Father/Mother/Guardian]]","v":9828121080}]
[null,null,null,null,null,null,null,null,null,null,null,null,null,null,null,null,null,null,null,null,null,null,null,null,{"$f":"Table2[[#This Row],[CLASS]]","v":9},{"$f":"Table2[[#This Row],[Name]]","v":"manjeet385"},{"$f":"Table2[[#This Row],[Mobile No Student(Father/Mother/Guardian]]","v":9828121081}]
[null,null,null,null,null,null,null,null,null,null,null,null,null,null,null,null,null,null,null,null,null,null,null,null,{"$f":"Table2[[#This Row],[CLASS]]","v":9},{"$f":"Table2[[#This Row],[Name]]","v":"manjeet386"},{"$f":"Table2[[#This Row],[Mobile No Student(Father/Mother/Guardian]]","v":9828121082}]
[null,null,null,null,null,null,null,null,null,null,null,null,null,null,null,null,null,null,null,null,null,null,null,null,{"$f":"Table2[[#This Row],[CLASS]]","v":9},{"$f":"Table2[[#This Row],[Name]]","v":"manjeet387"},{"$f":"Table2[[#This Row],[Mobile No Student(Father/Mother/Guardian]]","v":9828121083}]
[null,null,null,null,null,null,null,null,null,null,null,null,null,null,null,null,null,null,null,null,null,null,null,null,{"$f":"Table2[[#This Row],[CLASS]]","v":9},{"$f":"Table2[[#This Row],[Name]]","v":"manjeet388"},{"$f":"Table2[[#This Row],[Mobile No Student(Father/Mother/Guardian]]","v":9828121084}]
[null,null,null,null,null,null,null,null,null,null,null,null,null,null,null,null,null,null,null,null,null,null,null,null,{"$f":"Table2[[#This Row],[CLASS]]","v":9},{"$f":"Table2[[#This Row],[Name]]","v":"manjeet389"},{"$f":"Table2[[#This Row],[Mobile No Student(Father/Mother/Guardian]]","v":9828121085}]
[null,null,null,null,null,null,null,null,null,null,null,null,null,null,null,null,null,null,null,null,null,null,null,null,{"$f":"Table2[[#This Row],[CLASS]]","v":9},{"$f":"Table2[[#This Row],[Name]]","v":"manjeet390"},{"$f":"Table2[[#This Row],[Mobile No Student(Father/Mother/Guardian]]","v":9828121086}]
[null,null,null,null,null,null,null,null,null,null,null,null,null,null,null,null,null,null,null,null,null,null,null,null,{"$f":"Table2[[#This Row],[CLASS]]","v":9},{"$f":"Table2[[#This Row],[Name]]","v":"manjeet391"},{"$f":"Table2[[#This Row],[Mobile No Student(Father/Mother/Guardian]]","v":9828121087}]
[null,null,null,null,null,null,null,null,null,null,null,null,null,null,null,null,null,null,null,null,null,null,null,null,{"$f":"Table2[[#This Row],[CLASS]]","v":9},{"$f":"Table2[[#This Row],[Name]]","v":"manjeet392"},{"$f":"Table2[[#This Row],[Mobile No Student(Father/Mother/Guardian]]","v":9828121088}]
[null,null,null,null,null,null,null,null,null,null,null,null,null,null,null,null,null,null,null,null,null,null,null,null,{"$f":"Table2[[#This Row],[CLASS]]","v":9},{"$f":"Table2[[#This Row],[Name]]","v":"manjeet393"},{"$f":"Table2[[#This Row],[Mobile No Student(Father/Mother/Guardian]]","v":9828121089}]
[null,null,null,null,null,null,null,null,null,null,null,null,null,null,null,null,null,null,null,null,null,null,null,null,{"$f":"Table2[[#This Row],[CLASS]]","v":9},{"$f":"Table2[[#This Row],[Name]]","v":"manjeet394"},{"$f":"Table2[[#This Row],[Mobile No Student(Father/Mother/Guardian]]","v":9828121090}]
[null,null,null,null,null,null,null,null,null,null,null,null,null,null,null,null,null,null,null,null,null,null,null,null,{"$f":"Table2[[#This Row],[CLASS]]","v":9},{"$f":"Table2[[#This Row],[Name]]","v":"manjeet395"},{"$f":"Table2[[#This Row],[Mobile No Student(Father/Mother/Guardian]]","v":9828121091}]
[null,null,null,null,null,null,null,null,null,null,null,null,null,null,null,null,null,null,null,null,null,null,null,null,{"$f":"Table2[[#This Row],[CLASS]]","v":9},{"$f":"Table2[[#This Row],[Name]]","v":"manjeet396"},{"$f":"Table2[[#This Row],[Mobile No Student(Father/Mother/Guardian]]","v":9828121092}]
[null,null,null,null,null,null,null,null,null,null,null,null,null,null,null,null,null,null,null,null,null,null,null,null,{"$f":"Table2[[#This Row],[CLASS]]","v":9},{"$f":"Table2[[#This Row],[Name]]","v":"manjeet397"},{"$f":"Table2[[#This Row],[Mobile No Student(Father/Mother/Guardian]]","v":9828121093}]
[null,null,null,null,null,null,null,null,null,null,null,null,null,null,null,null,null,null,null,null,null,null,null,null,{"$f":"Table2[[#This Row],[CLASS]]","v":9},{"$f":"Table2[[#This Row],[Name]]","v":"manjeet398"},{"$f":"Table2[[#This Row],[Mobile No Student(Father/Mother/Guardian]]","v":9828121094}]
[null,null,null,null,null,null,null,null,null,null,null,null,null,null,null,null,null,null,null,null,null,null,null,null,{"$f":"Table2[[#This Row],[CLASS]]","v":9},{"$f":"Table2[[#This Row],[Name]]","v":"manjeet399"},{"$f":"Table2[[#This Row],[Mobile No Student(Father/Mother/Guardian]]","v":9828121095}]
[null,null,null,null,null,null,null,null,null,null,null,null,null,null,null,null,null,null,null,null,null,null,null,null,{"$f":"Table2[[#This Row],[CLASS]]","v":9},{"$f":"Table2[[#This Row],[Name]]","v":"manjeet400"},{"$f":"Table2[[#This Row],[Mobile No Student(Father/Mother/Guardian]]","v":9828121096}]
[null,null,null,null,null,null,null,null,null,null,null,null,null,null,null,null,null,null,null,null,null,null,null,null,{"$f":"Table2[[#This Row],[CLASS]]","v":9},{"$f":"Table2[[#This Row],[Name]]","v":"manjeet401"},{"$f":"Table2[[#This Row],[Mobile No Student(Father/Mother/Guardian]]","v":9828121097}]
[null,null,null,null,null,null,null,null,null,null,null,null,null,null,null,null,null,null,null,null,null,null,null,null,{"$f":"Table2[[#This Row],[CLASS]]","v":9},{"$f":"Table2[[#This Row],[Name]]","v":"manjeet402"},{"$f":"Table2[[#This Row],[Mobile No Student(Father/Mother/Guardian]]","v":9828121098}]
[null,null,null,null,null,null,null,null,null,null,null,null,null,null,null,null,null,null,null,null,null,null,null,null,{"$f":"Table2[[#This Row],[CLASS]]","v":9},{"$f":"Table2[[#This Row],[Name]]","v":"manjeet403"},{"$f":"Table2[[#This Row],[Mobile No Student(Father/Mother/Guardian]]","v":9828121099}]
[null,null,null,null,null,null,null,null,null,null,null,null,null,null,null,null,null,null,null,null,null,null,null,null,{"$f":"Table2[[#This Row],[CLASS]]","v":9},{"$f":"Table2[[#This Row],[Name]]","v":"manjeet404"},{"$f":"Table2[[#This Row],[Mobile No Student(Father/Mother/Guardian]]","v":9828121100}]
[null,null,null,null,null,null,null,null,null,null,null,null,null,null,null,null,null,null,null,null,null,null,null,null,{"$f":"Table2[[#This Row],[CLASS]]","v":9},{"$f":"Table2[[#This Row],[Name]]","v":"manjeet405"},{"$f":"Table2[[#This Row],[Mobile No Student(Father/Mother/Guardian]]","v":9828121101}]
[null,null,null,null,null,null,null,null,null,null,null,null,null,null,null,null,null,null,null,null,null,null,null,null,{"$f":"Table2[[#This Row],[CLASS]]","v":9},{"$f":"Table2[[#This Row],[Name]]","v":"manjeet406"},{"$f":"Table2[[#This Row],[Mobile No Student(Father/Mother/Guardian]]","v":9828121102}]
[null,null,null,null,null,null,null,null,null,null,null,null,null,null,null,null,null,null,null,null,null,null,null,null,{"$f":"Table2[[#This Row],[CLASS]]","v":9},{"$f":"Table2[[#This Row],[Name]]","v":"manjeet407"},{"$f":"Table2[[#This Row],[Mobile No Student(Father/Mother/Guardian]]","v":9828121103}]
[null,null,null,null,null,null,null,null,null,null,null,null,null,null,null,null,null,null,null,null,null,null,null,null,{"$f":"Table2[[#This Row],[CLASS]]","v":9},{"$f":"Table2[[#This Row],[Name]]","v":"manjeet408"},{"$f":"Table2[[#This Row],[Mobile No Student(Father/Mother/Guardian]]","v":9828121104}]
[null,null,null,null,null,null,null,null,null,null,null,null,null,null,null,null,null,null,null,null,null,null,null,null,{"$f":"Table2[[#This Row],[CLASS]]","v":9},{"$f":"Table2[[#This Row],[Name]]","v":"manjeet409"},{"$f":"Table2[[#This Row],[Mobile No Student(Father/Mother/Guardian]]","v":9828121105}]
[null,null,null,null,null,null,null,null,null,null,null,null,null,null,null,null,null,null,null,null,null,null,null,null,{"$f":"Table2[[#This Row],[CLASS]]","v":9},{"$f":"Table2[[#This Row],[Name]]","v":"manjeet410"},{"$f":"Table2[[#This Row],[Mobile No Student(Father/Mother/Guardian]]","v":9828121106}]
[null,null,null,null,null,null,null,null,null,null,null,null,null,null,null,null,null,null,null,null,null,null,null,null,{"$f":"Table2[[#This Row],[CLASS]]","v":9},{"$f":"Table2[[#This Row],[Name]]","v":"manjeet411"},{"$f":"Table2[[#This Row],[Mobile No Student(Father/Mother/Guardian]]","v":9828121107}]
[null,null,null,null,null,null,null,null,null,null,null,null,null,null,null,null,null,null,null,null,null,null,null,null,{"$f":"Table2[[#This Row],[CLASS]]","v":9},{"$f":"Table2[[#This Row],[Name]]","v":"manjeet412"},{"$f":"Table2[[#This Row],[Mobile No Student(Father/Mother/Guardian]]","v":9828121108}]
[null,null,null,null,null,null,null,null,null,null,null,null,null,null,null,null,null,null,null,null,null,null,null,null,{"$f":"Table2[[#This Row],[CLASS]]","v":9},{"$f":"Table2[[#This Row],[Name]]","v":"manjeet413"},{"$f":"Table2[[#This Row],[Mobile No Student(Father/Mother/Guardian]]","v":9828121109}]
[null,null,null,null,null,null,null,null,null,null,null,null,null,null,null,null,null,null,null,null,null,null,null,null,{"$f":"Table2[[#This Row],[CLASS]]","v":9},{"$f":"Table2[[#This Row],[Name]]","v":"manjeet414"},{"$f":"Table2[[#This Row],[Mobile No Student(Father/Mother/Guardian]]","v":9828121110}]
[null,null,null,null,null,null,null,null,null,null,null,null,null,null,null,null,null,null,null,null,null,null,null,null,{"$f":"Table2[[#This Row],[CLASS]]","v":9},{"$f":"Table2[[#This Row],[Name]]","v":"manjeet415"},{"$f":"Table2[[#This Row],[Mobile No Student(Father/Mother/Guardian]]","v":9828121111}]
[null,null,null,null,null,null,null,null,null,null,null,null,null,null,null,null,null,null,null,null,null,null,null,null,{"$f":"Table2[[#This Row],[CLASS]]","v":9},{"$f":"Table2[[#This Row],[Name]]","v":"manjeet416"},{"$f":"Table2[[#This Row],[Mobile No Student(Father/Mother/Guardian]]","v":9828121112}]
[null,null,null,null,null,null,null,null,null,null,null,null,null,null,null,null,null,null,null,null,null,null,null,null,{"$f":"Table2[[#This Row],[CLASS]]","v":9},{"$f":"Table2[[#This Row],[Name]]","v":"manjeet417"},{"$f":"Table2[[#This Row],[Mobile No Student(Father/Mother/Guardian]]","v":9828121113}]
[null,null,null,null,null,null,null,null,null,null,null,null,null,null,null,null,null,null,null,null,null,null,null,null,{"$f":"Table2[[#This Row],[CLASS]]","v":9},{"$f":"Table2[[#This Row],[Name]]","v":"manjeet418"},{"$f":"Table2[[#This Row],[Mobile No Student(Father/Mother/Guardian]]","v":9828121114}]
[null,null,null,null,null,null,null,null,null,null,null,null,null,null,null,null,null,null,null,null,null,null,null,null,{"$f":"Table2[[#This Row],[CLASS]]","v":9},{"$f":"Table2[[#This Row],[Name]]","v":"manjeet419"},{"$f":"Table2[[#This Row],[Mobile No Student(Father/Mother/Guardian]]","v":9828121115}]
[null,null,null,null,null,null,null,null,null,null,null,null,null,null,null,null,null,null,null,null,null,null,null,null,{"$f":"Table2[[#This Row],[CLASS]]","v":10},{"$f":"Table2[[#This Row],[Name]]","v":"manjeet420"},{"$f":"Table2[[#This Row],[Mobile No Student(Father/Mother/Guardian]]","v":9828121116}]
[null,null,null,null,null,null,null,null,null,null,null,null,null,null,null,null,null,null,null,null,null,null,null,null,{"$f":"Table2[[#This Row],[CLASS]]","v":10},{"$f":"Table2[[#This Row],[Name]]","v":"manjeet421"},{"$f":"Table2[[#This Row],[Mobile No Student(Father/Mother/Guardian]]","v":9828121117}]
[null,null,null,null,null,null,null,null,null,null,null,null,null,null,null,null,null,null,null,null,null,null,null,null,{"$f":"Table2[[#This Row],[CLASS]]","v":10},{"$f":"Table2[[#This Row],[Name]]","v":"manjeet422"},{"$f":"Table2[[#This Row],[Mobile No Student(Father/Mother/Guardian]]","v":9828121118}]
[null,null,null,null,null,null,null,null,null,null,null,null,null,null,null,null,null,null,null,null,null,null,null,null,{"$f":"Table2[[#This Row],[CLASS]]","v":10},{"$f":"Table2[[#This Row],[Name]]","v":"manjeet423"},{"$f":"Table2[[#This Row],[Mobile No Student(Father/Mother/Guardian]]","v":9828121119}]
[null,null,null,null,null,null,null,null,null,null,null,null,null,null,null,null,null,null,null,null,null,null,null,null,{"$f":"Table2[[#This Row],[CLASS]]","v":10},{"$f":"Table2[[#This Row],[Name]]","v":"manjeet424"},{"$f":"Table2[[#This Row],[Mobile No Student(Father/Mother/Guardian]]","v":9828121120}]
[null,null,null,null,null,null,null,null,null,null,null,null,null,null,null,null,null,null,null,null,null,null,null,null,{"$f":"Table2[[#This Row],[CLASS]]","v":10},{"$f":"Table2[[#This Row],[Name]]","v":"manjeet425"},{"$f":"Table2[[#This Row],[Mobile No Student(Father/Mother/Guardian]]","v":9828121121}]
[null,null,null,null,null,null,null,null,null,null,null,null,null,null,null,null,null,null,null,null,null,null,null,null,{"$f":"Table2[[#This Row],[CLASS]]","v":10},{"$f":"Table2[[#This Row],[Name]]","v":"manjeet426"},{"$f":"Table2[[#This Row],[Mobile No Student(Father/Mother/Guardian]]","v":9828121122}]
[null,null,null,null,null,null,null,null,null,null,null,null,null,null,null,null,null,null,null,null,null,null,null,null,{"$f":"Table2[[#This Row],[CLASS]]","v":10},{"$f":"Table2[[#This Row],[Name]]","v":"manjeet427"},{"$f":"Table2[[#This Row],[Mobile No Student(Father/Mother/Guardian]]","v":9828121123}]
[null,null,null,null,null,null,null,null,null,null,null,null,null,null,null,null,null,null,null,null,null,null,null,null,{"$f":"Table2[[#This Row],[CLASS]]","v":10},{"$f":"Table2[[#This Row],[Name]]","v":"manjeet428"},{"$f":"Table2[[#This Row],[Mobile No Student(Father/Mother/Guardian]]","v":9828121124}]
[null,null,null,null,null,null,null,null,null,null,null,null,null,null,null,null,null,null,null,null,null,null,null,null,{"$f":"Table2[[#This Row],[CLASS]]","v":10},{"$f":"Table2[[#This Row],[Name]]","v":"manjeet429"},{"$f":"Table2[[#This Row],[Mobile No Student(Father/Mother/Guardian]]","v":9828121125}]
[null,null,null,null,null,null,null,null,null,null,null,null,null,null,null,null,null,null,null,null,null,null,null,null,{"$f":"Table2[[#This Row],[CLASS]]","v":10},{"$f":"Table2[[#This Row],[Name]]","v":"manjeet430"},{"$f":"Table2[[#This Row],[Mobile No Student(Father/Mother/Guardian]]","v":9828121126}]
[null,null,null,null,null,null,null,null,null,null,null,null,null,null,null,null,null,null,null,null,null,null,null,null,{"$f":"Table2[[#This Row],[CLASS]]","v":10},{"$f":"Table2[[#This Row],[Name]]","v":"manjeet431"},{"$f":"Table2[[#This Row],[Mobile No Student(Father/Mother/Guardian]]","v":9828121127}]
[null,null,null,null,null,null,null,null,null,null,null,null,null,null,null,null,null,null,null,null,null,null,null,null,{"$f":"Table2[[#This Row],[CLASS]]","v":10},{"$f":"Table2[[#This Row],[Name]]","v":"manjeet432"},{"$f":"Table2[[#This Row],[Mobile No Student(Father/Mother/Guardian]]","v":9828121128}]
[null,null,null,null,null,null,null,null,null,null,null,null,null,null,null,null,null,null,null,null,null,null,null,null,{"$f":"Table2[[#This Row],[CLASS]]","v":10},{"$f":"Table2[[#This Row],[Name]]","v":"manjeet433"},{"$f":"Table2[[#This Row],[Mobile No Student(Father/Mother/Guardian]]","v":9828121129}]
[null,null,null,null,null,null,null,null,null,null,null,null,null,null,null,null,null,null,null,null,null,null,null,null,{"$f":"Table2[[#This Row],[CLASS]]","v":10},{"$f":"Table2[[#This Row],[Name]]","v":"manjeet434"},{"$f":"Table2[[#This Row],[Mobile No Student(Father/Mother/Guardian]]","v":9828121130}]
[null,null,null,null,null,null,null,null,null,null,null,null,null,null,null,null,null,null,null,null,null,null,null,null,{"$f":"Table2[[#This Row],[CLASS]]","v":10},{"$f":"Table2[[#This Row],[Name]]","v":"manjeet435"},{"$f":"Table2[[#This Row],[Mobile No Student(Father/Mother/Guardian]]","v":9828121131}]
[null,null,null,null,null,null,null,null,null,null,null,null,null,null,null,null,null,null,null,null,null,null,null,null,{"$f":"Table2[[#This Row],[CLASS]]","v":10},{"$f":"Table2[[#This Row],[Name]]","v":"manjeet436"},{"$f":"Table2[[#This Row],[Mobile No Student(Father/Mother/Guardian]]","v":9828121132}]
[null,null,null,null,null,null,null,null,null,null,null,null,null,null,null,null,null,null,null,null,null,null,null,null,{"$f":"Table2[[#This Row],[CLASS]]","v":10},{"$f":"Table2[[#This Row],[Name]]","v":"manjeet437"},{"$f":"Table2[[#This Row],[Mobile No Student(Father/Mother/Guardian]]","v":9828121133}]
[null,null,null,null,null,null,null,null,null,null,null,null,null,null,null,null,null,null,null,null,null,null,null,null,{"$f":"Table2[[#This Row],[CLASS]]","v":10},{"$f":"Table2[[#This Row],[Name]]","v":"manjeet438"},{"$f":"Table2[[#This Row],[Mobile No Student(Father/Mother/Guardian]]","v":9828121134}]
[null,null,null,null,null,null,null,null,null,null,null,null,null,null,null,null,null,null,null,null,null,null,null,null,{"$f":"Table2[[#This Row],[CLASS]]","v":10},{"$f":"Table2[[#This Row],[Name]]","v":"manjeet439"},{"$f":"Table2[[#This Row],[Mobile No Student(Father/Mother/Guardian]]","v":9828121135}]
[null,null,null,null,null,null,null,null,null,null,null,null,null,null,null,null,null,null,null,null,null,null,null,null,{"$f":"Table2[[#This Row],[CLASS]]","v":10},{"$f":"Table2[[#This Row],[Name]]","v":"manjeet440"},{"$f":"Table2[[#This Row],[Mobile No Student(Father/Mother/Guardian]]","v":9828121136}]
[null,null,null,null,null,null,null,null,null,null,null,null,null,null,null,null,null,null,null,null,null,null,null,null,{"$f":"Table2[[#This Row],[CLASS]]","v":10},{"$f":"Table2[[#This Row],[Name]]","v":"manjeet441"},{"$f":"Table2[[#This Row],[Mobile No Student(Father/Mother/Guardian]]","v":9828121137}]
[null,null,null,null,null,null,null,null,null,null,null,null,null,null,null,null,null,null,null,null,null,null,null,null,{"$f":"Table2[[#This Row],[CLASS]]","v":10},{"$f":"Table2[[#This Row],[Name]]","v":"manjeet442"},{"$f":"Table2[[#This Row],[Mobile No Student(Father/Mother/Guardian]]","v":9828121138}]
[null,null,null,null,null,null,null,null,null,null,null,null,null,null,null,null,null,null,null,null,null,null,null,null,{"$f":"Table2[[#This Row],[CLASS]]","v":10},{"$f":"Table2[[#This Row],[Name]]","v":"manjeet443"},{"$f":"Table2[[#This Row],[Mobile No Student(Father/Mother/Guardian]]","v":9828121139}]
[null,null,null,null,null,null,null,null,null,null,null,null,null,null,null,null,null,null,null,null,null,null,null,null,{"$f":"Table2[[#This Row],[CLASS]]","v":10},{"$f":"Table2[[#This Row],[Name]]","v":"manjeet444"},{"$f":"Table2[[#This Row],[Mobile No Student(Father/Mother/Guardian]]","v":9828121140}]
[null,null,null,null,null,null,null,null,null,null,null,null,null,null,null,null,null,null,null,null,null,null,null,null,{"$f":"Table2[[#This Row],[CLASS]]","v":10},{"$f":"Table2[[#This Row],[Name]]","v":"manjeet445"},{"$f":"Table2[[#This Row],[Mobile No Student(Father/Mother/Guardian]]","v":9828121141}]
[null,null,null,null,null,null,null,null,null,null,null,null,null,null,null,null,null,null,null,null,null,null,null,null,{"$f":"Table2[[#This Row],[CLASS]]","v":10},{"$f":"Table2[[#This Row],[Name]]","v":"manjeet446"},{"$f":"Table2[[#This Row],[Mobile No Student(Father/Mother/Guardian]]","v":9828121142}]
[null,null,null,null,null,null,null,null,null,null,null,null,null,null,null,null,null,null,null,null,null,null,null,null,{"$f":"Table2[[#This Row],[CLASS]]","v":10},{"$f":"Table2[[#This Row],[Name]]","v":"manjeet447"},{"$f":"Table2[[#This Row],[Mobile No Student(Father/Mother/Guardian]]","v":9828121143}]
[null,null,null,null,null,null,null,null,null,null,null,null,null,null,null,null,null,null,null,null,null,null,null,null,{"$f":"Table2[[#This Row],[CLASS]]","v":10},{"$f":"Table2[[#This Row],[Name]]","v":"manjeet448"},{"$f":"Table2[[#This Row],[Mobile No Student(Father/Mother/Guardian]]","v":9828121144}]
[null,null,null,null,null,null,null,null,null,null,null,null,null,null,null,null,null,null,null,null,null,null,null,null,{"$f":"Table2[[#This Row],[CLASS]]","v":10},{"$f":"Table2[[#This Row],[Name]]","v":"manjeet449"},{"$f":"Table2[[#This Row],[Mobile No Student(Father/Mother/Guardian]]","v":9828121145}]
[null,null,null,null,null,null,null,null,null,null,null,null,null,null,null,null,null,null,null,null,null,null,null,null,{"$f":"Table2[[#This Row],[CLASS]]","v":10},{"$f":"Table2[[#This Row],[Name]]","v":"manjeet450"},{"$f":"Table2[[#This Row],[Mobile No Student(Father/Mother/Guardian]]","v":9828121146}]
[null,null,null,null,null,null,null,null,null,null,null,null,null,null,null,null,null,null,null,null,null,null,null,null,{"$f":"Table2[[#This Row],[CLASS]]","v":10},{"$f":"Table2[[#This Row],[Name]]","v":"manjeet451"},{"$f":"Table2[[#This Row],[Mobile No Student(Father/Mother/Guardian]]","v":9828121147}]
[null,null,null,null,null,null,null,null,null,null,null,null,null,null,null,null,null,null,null,null,null,null,null,null,{"$f":"Table2[[#This Row],[CLASS]]","v":10},{"$f":"Table2[[#This Row],[Name]]","v":"manjeet452"},{"$f":"Table2[[#This Row],[Mobile No Student(Father/Mother/Guardian]]","v":9828121148}]
[null,null,null,null,null,null,null,null,null,null,null,null,null,null,null,null,null,null,null,null,null,null,null,null,{"$f":"Table2[[#This Row],[CLASS]]","v":10},{"$f":"Table2[[#This Row],[Name]]","v":"manjeet453"},{"$f":"Table2[[#This Row],[Mobile No Student(Father/Mother/Guardian]]","v":9828121149}]
[null,null,null,null,null,null,null,null,null,null,null,null,null,null,null,null,null,null,null,null,null,null,null,null,{"$f":"Table2[[#This Row],[CLASS]]","v":10},{"$f":"Table2[[#This Row],[Name]]","v":"manjeet454"},{"$f":"Table2[[#This Row],[Mobile No Student(Father/Mother/Guardian]]","v":9828121150}]
[null,null,null,null,null,null,null,null,null,null,null,null,null,null,null,null,null,null,null,null,null,null,null,null,{"$f":"Table2[[#This Row],[CLASS]]","v":10},{"$f":"Table2[[#This Row],[Name]]","v":"manjeet455"},{"$f":"Table2[[#This Row],[Mobile No Student(Father/Mother/Guardian]]","v":9828121151}]
[null,null,null,null,null,null,null,null,null,null,null,null,null,null,null,null,null,null,null,null,null,null,null,null,{"$f":"Table2[[#This Row],[CLASS]]","v":10},{"$f":"Table2[[#This Row],[Name]]","v":"manjeet456"},{"$f":"Table2[[#This Row],[Mobile No Student(Father/Mother/Guardian]]","v":9828121152}]
[null,null,null,null,null,null,null,null,null,null,null,null,null,null,null,null,null,null,null,null,null,null,null,null,{"$f":"Table2[[#This Row],[CLASS]]","v":10},{"$f":"Table2[[#This Row],[Name]]","v":"manjeet457"},{"$f":"Table2[[#This Row],[Mobile No Student(Father/Mother/Guardian]]","v":9828121153}]
[null,null,null,null,null,null,null,null,null,null,null,null,null,null,null,null,null,null,null,null,null,null,null,null,{"$f":"Table2[[#This Row],[CLASS]]","v":10},{"$f":"Table2[[#This Row],[Name]]","v":"manjeet458"},{"$f":"Table2[[#This Row],[Mobile No Student(Father/Mother/Guardian]]","v":9828121154}]
[null,null,null,null,null,null,null,null,null,null,null,null,null,null,null,null,null,null,null,null,null,null,null,null,{"$f":"Table2[[#This Row],[CLASS]]","v":10},{"$f":"Table2[[#This Row],[Name]]","v":"manjeet459"},{"$f":"Table2[[#This Row],[Mobile No Student(Father/Mother/Guardian]]","v":9828121155}]
[null,null,null,null,null,null,null,null,null,null,null,null,null,null,null,null,null,null,null,null,null,null,null,null,{"$f":"Table2[[#This Row],[CLASS]]","v":10},{"$f":"Table2[[#This Row],[Name]]","v":"manjeet460"},{"$f":"Table2[[#This Row],[Mobile No Student(Father/Mother/Guardian]]","v":9828121156}]
[null,null,null,null,null,null,null,null,null,null,null,null,null,null,null,null,null,null,null,null,null,null,null,null,{"$f":"Table2[[#This Row],[CLASS]]","v":10},{"$f":"Table2[[#This Row],[Name]]","v":"manjeet461"},{"$f":"Table2[[#This Row],[Mobile No Student(Father/Mother/Guardian]]","v":9828121157}]
[null,null,null,null,null,null,null,null,null,null,null,null,null,null,null,null,null,null,null,null,null,null,null,null,{"$f":"Table2[[#This Row],[CLASS]]","v":10},{"$f":"Table2[[#This Row],[Name]]","v":"manjeet462"},{"$f":"Table2[[#This Row],[Mobile No Student(Father/Mother/Guardian]]","v":9828121158}]
[null,null,null,null,null,null,null,null,null,null,null,null,null,null,null,null,null,null,null,null,null,null,null,null,{"$f":"Table2[[#This Row],[CLASS]]","v":10},{"$f":"Table2[[#This Row],[Name]]","v":"manjeet463"},{"$f":"Table2[[#This Row],[Mobile No Student(Father/Mother/Guardian]]","v":9828121159}]
[null,null,null,null,null,null,null,null,null,null,null,null,null,null,null,null,null,null,null,null,null,null,null,null,{"$f":"Table2[[#This Row],[CLASS]]","v":10},{"$f":"Table2[[#This Row],[Name]]","v":"manjeet464"},{"$f":"Table2[[#This Row],[Mobile No Student(Father/Mother/Guardian]]","v":9828121160}]
[null,null,null,null,null,null,null,null,null,null,null,null,null,null,null,null,null,null,null,null,null,null,null,null,{"$f":"Table2[[#This Row],[CLASS]]","v":10},{"$f":"Table2[[#This Row],[Name]]","v":"manjeet465"},{"$f":"Table2[[#This Row],[Mobile No Student(Father/Mother/Guardian]]","v":9828121161}]
[null,null,null,null,null,null,null,null,null,null,null,null,null,null,null,null,null,null,null,null,null,null,null,null,{"$f":"Table2[[#This Row],[CLASS]]","v":10},{"$f":"Table2[[#This Row],[Name]]","v":"manjeet466"},{"$f":"Table2[[#This Row],[Mobile No Student(Father/Mother/Guardian]]","v":9828121162}]
[null,null,null,null,null,null,null,null,null,null,null,null,null,null,null,null,null,null,null,null,null,null,null,null,{"$f":"Table2[[#This Row],[CLASS]]","v":10},{"$f":"Table2[[#This Row],[Name]]","v":"manjeet467"},{"$f":"Table2[[#This Row],[Mobile No Student(Father/Mother/Guardian]]","v":9828121163}]
[null,null,null,null,null,null,null,null,null,null,null,null,null,null,null,null,null,null,null,null,null,null,null,null,{"$f":"Table2[[#This Row],[CLASS]]","v":10},{"$f":"Table2[[#This Row],[Name]]","v":"manjeet468"},{"$f":"Table2[[#This Row],[Mobile No Student(Father/Mother/Guardian]]","v":9828121164}]
[null,null,null,null,null,null,null,null,null,null,null,null,null,null,null,null,null,null,null,null,null,null,null,null,{"$f":"Table2[[#This Row],[CLASS]]","v":10},{"$f":"Table2[[#This Row],[Name]]","v":"manjeet469"},{"$f":"Table2[[#This Row],[Mobile No Student(Father/Mother/Guardian]]","v":9828121165}]
[null,null,null,null,null,null,null,null,null,null,null,null,null,null,null,null,null,null,null,null,null,null,null,null,{"$f":"Table2[[#This Row],[CLASS]]","v":10},{"$f":"Table2[[#This Row],[Name]]","v":"manjeet470"},{"$f":"Table2[[#This Row],[Mobile No Student(Father/Mother/Guardian]]","v":9828121166}]
[null,null,null,null,null,null,null,null,null,null,null,null,null,null,null,null,null,null,null,null,null,null,null,null,{"$f":"Table2[[#This Row],[CLASS]]","v":10},{"$f":"Table2[[#This Row],[Name]]","v":"manjeet471"},{"$f":"Table2[[#This Row],[Mobile No Student(Father/Mother/Guardian]]","v":9828121167}]
[null,null,null,null,null,null,null,null,null,null,null,null,null,null,null,null,null,null,null,null,null,null,null,null,{"$f":"Table2[[#This Row],[CLASS]]","v":10},{"$f":"Table2[[#This Row],[Name]]","v":"manjeet472"},{"$f":"Table2[[#This Row],[Mobile No Student(Father/Mother/Guardian]]","v":9828121168}]
[null,null,null,null,null,null,null,null,null,null,null,null,null,null,null,null,null,null,null,null,null,null,null,null,{"$f":"Table2[[#This Row],[CLASS]]","v":10},{"$f":"Table2[[#This Row],[Name]]","v":"manjeet473"},{"$f":"Table2[[#This Row],[Mobile No Student(Father/Mother/Guardian]]","v":9828121169}]
[null,null,null,null,null,null,null,null,null,null,null,null,null,null,null,null,null,null,null,null,null,null,null,null,{"$f":"Table2[[#This Row],[CLASS]]","v":10},{"$f":"Table2[[#This Row],[Name]]","v":"manjeet474"},{"$f":"Table2[[#This Row],[Mobile No Student(Father/Mother/Guardian]]","v":9828121170}]
[null,null,null,null,null,null,null,null,null,null,null,null,null,null,null,null,null,null,null,null,null,null,null,null,{"$f":"Table2[[#This Row],[CLASS]]","v":10},{"$f":"Table2[[#This Row],[Name]]","v":"manjeet475"},{"$f":"Table2[[#This Row],[Mobile No Student(Father/Mother/Guardian]]","v":9828121171}]
[null,null,null,null,null,null,null,null,null,null,null,null,null,null,null,null,null,null,null,null,null,null,null,null,{"$f":"Table2[[#This Row],[CLASS]]","v":10},{"$f":"Table2[[#This Row],[Name]]","v":"manjeet476"},{"$f":"Table2[[#This Row],[Mobile No Student(Father/Mother/Guardian]]","v":9828121172}]
[null,null,null,null,null,null,null,null,null,null,null,null,null,null,null,null,null,null,null,null,null,null,null,null,{"$f":"Table2[[#This Row],[CLASS]]","v":10},{"$f":"Table2[[#This Row],[Name]]","v":"manjeet477"},{"$f":"Table2[[#This Row],[Mobile No Student(Father/Mother/Guardian]]","v":9828121173}]
[null,null,null,null,null,null,null,null,null,null,null,null,null,null,null,null,null,null,null,null,null,null,null,null,{"$f":"Table2[[#This Row],[CLASS]]","v":10},{"$f":"Table2[[#This Row],[Name]]","v":"manjeet478"},{"$f":"Table2[[#This Row],[Mobile No Student(Father/Mother/Guardian]]","v":9828121174}]
[null,null,null,null,null,null,null,null,null,null,null,null,null,null,null,null,null,null,null,null,null,null,null,null,{"$f":"Table2[[#This Row],[CLASS]]","v":10},{"$f":"Table2[[#This Row],[Name]]","v":"manjeet479"},{"$f":"Table2[[#This Row],[Mobile No Student(Father/Mother/Guardian]]","v":9828121175}]
[null,null,null,null,null,null,null,null,null,null,null,null,null,null,null,null,null,null,null,null,null,null,null,null,{"$f":"Table2[[#This Row],[CLASS]]","v":10},{"$f":"Table2[[#This Row],[Name]]","v":"manjeet480"},{"$f":"Table2[[#This Row],[Mobile No Student(Father/Mother/Guardian]]","v":9828121176}]
[null,null,null,null,null,null,null,null,null,null,null,null,null,null,null,null,null,null,null,null,null,null,null,null,{"$f":"Table2[[#This Row],[CLASS]]","v":10},{"$f":"Table2[[#This Row],[Name]]","v":"manjeet481"},{"$f":"Table2[[#This Row],[Mobile No Student(Father/Mother/Guardian]]","v":9828121177}]
[null,null,null,null,null,null,null,null,null,null,null,null,null,null,null,null,null,null,null,null,null,null,null,null,{"$f":"Table2[[#This Row],[CLASS]]","v":10},{"$f":"Table2[[#This Row],[Name]]","v":"manjeet482"},{"$f":"Table2[[#This Row],[Mobile No Student(Father/Mother/Guardian]]","v":9828121178}]
[null,null,null,null,null,null,null,null,null,null,null,null,null,null,null,null,null,null,null,null,null,null,null,null,{"$f":"Table2[[#This Row],[CLASS]]","v":10},{"$f":"Table2[[#This Row],[Name]]","v":"manjeet483"},{"$f":"Table2[[#This Row],[Mobile No Student(Father/Mother/Guardian]]","v":9828121179}]
[null,null,null,null,null,null,null,null,null,null,null,null,null,null,null,null,null,null,null,null,null,null,null,null,{"$f":"Table2[[#This Row],[CLASS]]","v":10},{"$f":"Table2[[#This Row],[Name]]","v":"manjeet484"},{"$f":"Table2[[#This Row],[Mobile No Student(Father/Mother/Guardian]]","v":9828121180}]
[null,null,null,null,null,null,null,null,null,null,null,null,null,null,null,null,null,null,null,null,null,null,null,null,{"$f":"Table2[[#This Row],[CLASS]]","v":10},{"$f":"Table2[[#This Row],[Name]]","v":"manjeet485"},{"$f":"Table2[[#This Row],[Mobile No Student(Father/Mother/Guardian]]","v":9828121181}]
[null,null,null,null,null,null,null,null,null,null,null,null,null,null,null,null,null,null,null,null,null,null,null,null,{"$f":"Table2[[#This Row],[CLASS]]","v":10},{"$f":"Table2[[#This Row],[Name]]","v":"manjeet486"},{"$f":"Table2[[#This Row],[Mobile No Student(Father/Mother/Guardian]]","v":9828121182}]
[null,null,null,null,null,null,null,null,null,null,null,null,null,null,null,null,null,null,null,null,null,null,null,null,{"$f":"Table2[[#This Row],[CLASS]]","v":10},{"$f":"Table2[[#This Row],[Name]]","v":"manjeet487"},{"$f":"Table2[[#This Row],[Mobile No Student(Father/Mother/Guardian]]","v":9828121183}]
[null,null,null,null,null,null,null,null,null,null,null,null,null,null,null,null,null,null,null,null,null,null,null,null,{"$f":"Table2[[#This Row],[CLASS]]","v":10},{"$f":"Table2[[#This Row],[Name]]","v":"manjeet488"},{"$f":"Table2[[#This Row],[Mobile No Student(Father/Mother/Guardian]]","v":9828121184}]
[null,null,null,null,null,null,null,null,null,null,null,null,null,null,null,null,null,null,null,null,null,null,null,null,{"$f":"Table2[[#This Row],[CLASS]]","v":10},{"$f":"Table2[[#This Row],[Name]]","v":"manjeet489"},{"$f":"Table2[[#This Row],[Mobile No Student(Father/Mother/Guardian]]","v":9828121185}]
[null,null,null,null,null,null,null,null,null,null,null,null,null,null,null,null,null,null,null,null,null,null,null,null,{"$f":"Table2[[#This Row],[CLASS]]","v":10},{"$f":"Table2[[#This Row],[Name]]","v":"manjeet490"},{"$f":"Table2[[#This Row],[Mobile No Student(Father/Mother/Guardian]]","v":9828121186}]
[null,null,null,null,null,null,null,null,null,null,null,null,null,null,null,null,null,null,null,null,null,null,null,null,{"$f":"Table2[[#This Row],[CLASS]]","v":10},{"$f":"Table2[[#This Row],[Name]]","v":"manjeet491"},{"$f":"Table2[[#This Row],[Mobile No Student(Father/Mother/Guardian]]","v":9828121187}]
[null,null,null,null,null,null,null,null,null,null,null,null,null,null,null,null,null,null,null,null,null,null,null,null,{"$f":"Table2[[#This Row],[CLASS]]","v":10},{"$f":"Table2[[#This Row],[Name]]","v":"manjeet492"},{"$f":"Table2[[#This Row],[Mobile No Student(Father/Mother/Guardian]]","v":9828121188}]
[null,null,null,null,null,null,null,null,null,null,null,null,null,null,null,null,null,null,null,null,null,null,null,null,{"$f":"Table2[[#This Row],[CLASS]]","v":10},{"$f":"Table2[[#This Row],[Name]]","v":"manjeet493"},{"$f":"Table2[[#This Row],[Mobile No Student(Father/Mother/Guardian]]","v":9828121189}]
[null,null,null,null,null,null,null,null,null,null,null,null,null,null,null,null,null,null,null,null,null,null,null,null,{"$f":"Table2[[#This Row],[CLASS]]","v":10},{"$f":"Table2[[#This Row],[Name]]","v":"manjeet494"},{"$f":"Table2[[#This Row],[Mobile No Student(Father/Mother/Guardian]]","v":9828121190}]
[null,null,null,null,null,null,null,null,null,null,null,null,null,null,null,null,null,null,null,null,null,null,null,null,{"$f":"Table2[[#This Row],[CLASS]]","v":10},{"$f":"Table2[[#This Row],[Name]]","v":"manjeet495"},{"$f":"Table2[[#This Row],[Mobile No Student(Father/Mother/Guardian]]","v":9828121191}]
[null,null,null,null,null,null,null,null,null,null,null,null,null,null,null,null,null,null,null,null,null,null,null,null,{"$f":"Table2[[#This Row],[CLASS]]","v":10},{"$f":"Table2[[#This Row],[Name]]","v":"manjeet496"},{"$f":"Table2[[#This Row],[Mobile No Student(Father/Mother/Guardian]]","v":9828121192}]
[null,null,null,null,null,null,null,null,null,null,null,null,null,null,null,null,null,null,null,null,null,null,null,null,{"$f":"Table2[[#This Row],[CLASS]]","v":10},{"$f":"Table2[[#This Row],[Name]]","v":"manjeet497"},{"$f":"Table2[[#This Row],[Mobile No Student(Father/Mother/Guardian]]","v":9828121193}]
[null,null,null,null,null,null,null,null,null,null,null,null,null,null,null,null,null,null,null,null,null,null,null,null,{"$f":"Table2[[#This Row],[CLASS]]","v":10},{"$f":"Table2[[#This Row],[Name]]","v":"manjeet498"},{"$f":"Table2[[#This Row],[Mobile No Student(Father/Mother/Guardian]]","v":9828121194}]

{"sheet":"ENROLLMENT","index":7,"n_rows":27,"n_cols":21,"rows_kept":27,"cut":false,"hidden":false,"merged":[[24,17,24,19],[26,17,26,19],[18,1,18,2],[1,1,1,20],[4,1,5,1],[4,2,5,2],[4,3,4,5],[4,6,4,8],[4,9,4,11],[4,12,4,14],[4,15,4,17],[4,18,4,20]]}
[]
[null,{"$f":"master!D5","v":"jktdh; mPPk ek/;fed fo|ky; vkyfu;kokl ftyk &ukXkkSj"}]
[]
[]
[null,"Sr.No.","Class","General",null,null,"ST",null,null,"SC",null,null,"OBC",null,null,"SBC",null,null,"Total Enrollment"]
[null,null,null,"Boys","Girls","Total","Boys","Girls","Total","Boys","Girls","Total","Boys","Girls","Total","Boys","Girls","Total","Boys","Girls","Total"]
[null,1,1,{"$f":"COUNTIFS(Table2[CLASS],\"1\",Table2[Category],\"gen\",Table2[Gender],\"m\")","v":2},{"$f":"COUNTIFS(Table2[CLASS],\"1\",Table2[Category],\"gen\",Table2[Gender],\"f\")","v":0},{"$f":"D7+E7","v":2},{"$f":"COUNTIFS(Table2[CLASS],\"1\",Table2[Category],\"st\",Table2[Gender],\"m\")","v":0},{"$f":"COUNTIFS(Table2[CLASS],\"1\",Table2[Category],\"st\",Table2[Gender],\"f\")","v":0},{"$f":"G7+H7","v":0},{"$f":"COUNTIFS(Table2[CLASS],\"1\",Table2[Category],\"sc\",Table2[Gender],\"m\")","v":2},{"$f":"COUNTIFS(Table2[CLASS],\"1\",Table2[Category],\"sc\",Table2[Gender],\"f\")","v":1},{"$f":"J7+K7","v":3},{"$f":"COUNTIFS(Table2[CLASS],\"1\",Table2[Category],\"obc\",Table2[Gender],\"m\")","v":7},{"$f":"COUNTIFS(Table2[CLASS],\"1\",Table2[Category],\"obc\",Table2[Gender],\"f\")","v":13},{"$f":"M7+N7","v":20},{"$f":"COUNTIFS(Table2[CLASS],\"1\",Table2[Category],\"sbc\",Table2[Gender],\"m\")","v":0},{"$f":"COUNTIFS(Table2[CLASS],\"1\",Table2[Category],\"sbc\",Table2[Gender],\"f\")","v":1},{"$f":"P7+Q7","v":1},{"$f":"D7+G7+J7+M7+P7","v":11},{"$f":"E7+H7+K7+N7+Q7","v":15},{"$f":"S7+T7","v":26}]
[null,2,2,{"$f":"COUNTIFS(Table2[CLASS],\"2\",Table2[Category],\"gen\",Table2[Gender],\"m\")","v":0},{"$f":"COUNTIFS(Table2[CLASS],\"2\",Table2[Category],\"gen\",Table2[Gender],\"f\")","v":1},{"$f":"D8+E8","v":1},{"$f":"COUNTIFS(Table2[CLASS],\"2\",Table2[Category],\"st\",Table2[Gender],\"m\")","v":0},{"$f":"COUNTIFS(Table2[CLASS],\"2\",Table2[Category],\"st\",Table2[Gender],\"f\")","v":0},{"$f":"G8+H8","v":0},{"$f":"COUNTIFS(Table2[CLASS],\"2\",Table2[Category],\"sc\",Table2[Gender],\"m\")","v":1},{"$f":"COUNTIFS(Table2[CLASS],\"2\",Table2[Category],\"sc\",Table2[Gender],\"f\")","v":4},{"$f":"J8+K8","v":5},{"$f":"COUNTIFS(Table2[CLASS],\"2\",Table2[Category],\"obc\",Table2[Gender],\"m\")","v":5},{"$f":"COUNTIFS(Table2[CLASS],\"2\",Table2[Category],\"obc\",Table2[Gender],\"f\")","v":9},{"$f":"M8+N8","v":14},{"$f":"COUNTIFS(Table2[CLASS],\"2\",Table2[Category],\"sbc\",Table2[Gender],\"m\")","v":0},{"$f":"COUNTIFS(Table2[CLASS],\"2\",Table2[Category],\"sbc\",Table2[Gender],\"f\")","v":0},{"$f":"P8+Q8","v":0},{"$f":"D8+G8+J8+M8+P8","v":6},{"$f":"E8+H8+K8+N8+Q8","v":14},{"$f":"S8+T8","v":20}]
[null,3,3,{"$f":"COUNTIFS(Table2[CLASS],\"3\",Table2[Category],\"gen\",Table2[Gender],\"m\")","v":1},{"$f":"COUNTIFS(Table2[CLASS],\"3\",Table2[Category],\"gen\",Table2[Gender],\"f\")","v":0},1,{"$f":"COUNTIFS(Table2[CLASS],\"3\",Table2[Category],\"st\",Table2[Gender],\"m\")","v":0},{"$f":"COUNTIFS(Table2[CLASS],\"3\",Table2[Category],\"st\",Table2[Gender],\"f\")","v":0},0,{"$f":"COUNTIFS(Table2[CLASS],\"3\",Table2[Category],\"sc\",Table2[Gender],\"m\")","v":4},{"$f":"COUNTIFS(Table2[CLASS],\"3\",Table2[Category],\"sc\",Table2[Gender],\"f\")","v":3},7,{"$f":"COUNTIFS(Table2[CLASS],\"3\",Table2[Category],\"obc\",Table2[Gender],\"m\")","v":10},{"$f":"COUNTIFS(Table2[CLASS],\"3\",Table2[Category],\"obc\",Table2[Gender],\"f\")","v":13},23,{"$f":"COUNTIFS(Table2[CLASS],\"3\",Table2[Category],\"sbc\",Table2[Gender],\"m\")","v":0},{"$f":"COUNTIFS(Table2[CLASS],\"3\",Table2[Category],\"sbc\",Table2[Gender],\"f\")","v":1},1,15,17,32]
[null,4,4,{"$f":"COUNTIFS(Table2[CLASS],\"4\",Table2[Category],\"gen\",Table2[Gender],\"m\")","v":0},{"$f":"COUNTIFS(Table2[CLASS],\"4\",Table2[Category],\"gen\",Table2[Gender],\"f\")","v":0},0,{"$f":"COUNTIFS(Table2[CLASS],\"4\",Table2[Category],\"st\",Table2[Gender],\"m\")","v":0},{"$f":"COUNTIFS(Table2[CLASS],\"4\",Table2[Category],\"st\",Table2[Gender],\"f\")","v":0},0,{"$f":"COUNTIFS(Table2[CLASS],\"4\",Table2[Category],\"sc\",Table2[Gender],\"m\")","v":4},{"$f":"COUNTIFS(Table2[CLASS],\"4\",Table2[Category],\"sc\",Table2[Gender],\"f\")","v":1},5,{"$f":"COUNTIFS(Table2[CLASS],\"4\",Table2[Category],\"obc\",Table2[Gender],\"m\")","v":10},{"$f":"COUNTIFS(Table2[CLASS],\"4\",Table2[Category],\"obc\",Table2[Gender],\"f\")","v":19},29,{"$f":"COUNTIFS(Table2[CLASS],\"4\",Table2[Category],\"sbc\",Table2[Gender],\"m\")","v":0},{"$f":"COUNTIFS(Table2[CLASS],\"4\",Table2[Category],\"sbc\",Table2[Gender],\"f\")","v":0},0,14,20,34]
[null,5,5,{"$f":"COUNTIFS(Table2[CLASS],\"5\",Table2[Category],\"gen\",Table2[Gender],\"m\")","v":1},{"$f":"COUNTIFS(Table2[CLASS],\"5\",Table2[Category],\"gen\",Table2[Gender],\"f\")","v":0},1,{"$f":"COUNTIFS(Table2[CLASS],\"5\",Table2[Category],\"st\",Table2[Gender],\"m\")","v":0},{"$f":"COUNTIFS(Table2[CLASS],\"5\",Table2[Category],\"st\",Table2[Gender],\"f\")","v":0},0,{"$f":"COUNTIFS(Table2[CLASS],\"5\",Table2[Category],\"sc\",Table2[Gender],\"m\")","v":3},{"$f":"COUNTIFS(Table2[CLASS],\"5\",Table2[Category],\"sc\",Table2[Gender],\"f\")","v":2},5,{"$f":"COUNTIFS(Table2[CLASS],\"5\",Table2[Category],\"obc\",Table2[Gender],\"m\")","v":20},{"$f":"COUNTIFS(Table2[CLASS],\"5\",Table2[Category],\"obc\",Table2[Gender],\"f\")","v":15},35,{"$f":"COUNTIFS(Table2[CLASS],\"5\",Table2[Category],\"sbc\",Table2[Gender],\"m\")","v":1},{"$f":"COUNTIFS(Table2[CLASS],\"5\",Table2[Category],\"sbc\",Table2[Gender],\"f\")","v":0},1,25,17,42]
[null,6,6,{"$f":"COUNTIFS(Table2[CLASS],\"6\",Table2[Category],\"gen\",Table2[Gender],\"m\")","v":0},{"$f":"COUNTIFS(Table2[CLASS],\"6\",Table2[Category],\"gen\",Table2[Gender],\"f\")","v":1},1,{"$f":"COUNTIFS(Table2[CLASS],\"6\",Table2[Category],\"st\",Table2[Gender],\"m\")","v":0},{"$f":"COUNTIFS(Table2[CLASS],\"6\",Table2[Category],\"st\",Table2[Gender],\"f\")","v":0},0,{"$f":"COUNTIFS(Table2[CLASS],\"6\",Table2[Category],\"sc\",Table2[Gender],\"m\")","v":5},{"$f":"COUNTIFS(Table2[CLASS],\"6\",Table2[Category],\"sc\",Table2[Gender],\"f\")","v":2},7,{"$f":"COUNTIFS(Table2[CLASS],\"6\",Table2[Category],\"obc\",Table2[Gender],\"m\")","v":15},{"$f":"COUNTIFS(Table2[CLASS],\"6\",Table2[Category],\"obc\",Table2[Gender],\"f\")","v":16},31,{"$f":"COUNTIFS(Table2[CLASS],\"6\",Table2[Category],\"sbc\",Table2[Gender],\"m\")","v":0},{"$f":"COUNTIFS(Table2[CLASS],\"6\",Table2[Category],\"sbc\",Table2[Gender],\"f\")","v":0},0,20,19,39]
[null,7,7,{"$f":"COUNTIFS(Table2[CLASS],\"7\",Table2[Category],\"gen\",Table2[Gender],\"m\")","v":1},{"$f":"COUNTIFS(Table2[CLASS],\"7\",Table2[Category],\"gen\",Table2[Gender],\"f\")","v":3},4,{"$f":"COUNTIFS(Table2[CLASS],\"7\",Table2[Category],\"st\",Table2[Gender],\"m\")","v":0},{"$f":"COUNTIFS(Table2[CLASS],\"7\",Table2[Category],\"st\",Table2[Gender],\"f\")","v":0},0,{"$f":"COUNTIFS(Table2[CLASS],\"7\",Table2[Category],\"sc\",Table2[Gender],\"m\")","v":11},{"$f":"COUNTIFS(Table2[CLASS],\"7\",Table2[Category],\"sc\",Table2[Gender],\"f\")","v":6},17,{"$f":"COUNTIFS(Table2[CLASS],\"7\",Table2[Category],\"obc\",Table2[Gender],\"m\")","v":18},{"$f":"COUNTIFS(Table2[CLASS],\"7\",Table2[Category],\"obc\",Table2[Gender],\"f\")","v":18},36,{"$f":"COUNTIFS(Table2[CLASS],\"7\",Table2[Category],\"sbc\",Table2[Gender],\"m\")","v":0},{"$f":"COUNTIFS(Table2[CLASS],\"7\",Table2[Category],\"sbc\",Table2[Gender],\"f\")","v":1},1,30,28,58]
[null,8,8,{"$f":"COUNTIFS(Table2[CLASS],\"8\",Table2[Category],\"gen\",Table2[Gender],\"m\")","v":5},{"$f":"COUNTIFS(Table2[CLASS],\"8\",Table2[Category],\"gen\",Table2[Gender],\"f\")","v":5},10,{"$f":"COUNTIFS(Table2[CLASS],\"8\",Table2[Category],\"st\",Table2[Gender],\"m\")","v":0},{"$f":"COUNTIFS(Table2[CLASS],\"8\",Table2[Category],\"st\",Table2[Gender],\"f\")","v":0},0,{"$f":"COUNTIFS(Table2[CLASS],\"8\",Table2[Category],\"sc\",Table2[Gender],\"m\")","v":18},{"$f":"COUNTIFS(Table2[CLASS],\"8\",Table2[Category],\"sc\",Table2[Gender],\"f\")","v":2},20,{"$f":"COUNTIFS(Table2[CLASS],\"8\",Table2[Category],\"obc\",Table2[Gender],\"m\")","v":13},{"$f":"COUNTIFS(Table2[CLASS],\"8\",Table2[Category],\"obc\",Table2[Gender],\"f\")","v":19},32,{"$f":"COUNTIFS(Table2[CLASS],\"8\",Table2[Category],\"sbc\",Table2[Gender],\"m\")","v":2},{"$f":"COUNTIFS(Table2[CLASS],\"8\",Table2[Category],\"sbc\",Table2[Gender],\"f\")","v":1},3,38,27,65]
[null,9,9,{"$f":"COUNTIFS(Table2[CLASS],\"9\",Table2[Category],\"gen\",Table2[Gender],\"m\")","v":7},{"$f":"COUNTIFS(Table2[CLASS],\"9\",Table2[Category],\"gen\",Table2[Gender],\"f\")","v":4},11,{"$f":"COUNTIFS(Table2[CLASS],\"9\",Table2[Category],\"st\",Table2[Gender],\"m\")","v":0},{"$f":"COUNTIFS(Table2[CLASS],\"9\",Table2[Category],\"st\",Table2[Gender],\"f\")","v":0},0,{"$f":"COUNTIFS(Table2[CLASS],\"9\",Table2[Category],\"sc\",Table2[Gender],\"m\")","v":6},{"$f":"COUNTIFS(Table2[CLASS],\"9\",Table2[Category],\"sc\",Table2[Gender],\"f\")","v":10},16,{"$f":"COUNTIFS(Table2[CLASS],\"9\",Table2[Category],\"obc\",Table2[Gender],\"m\")","v":37},{"$f":"COUNTIFS(Table2[CLASS],\"9\",Table2[Category],\"obc\",Table2[Gender],\"f\")","v":37},74,{"$f":"COUNTIFS(Table2[CLASS],\"9\",Table2[Category],\"sbc\",Table2[Gender],\"m\")","v":1},{"$f":"COUNTIFS(Table2[CLASS],\"9\",Table2[Category],\"sbc\",Table2[Gender],\"f\")","v":1},2,51,52,103]
[null,10,10,{"$f":"COUNTIFS(Table2[CLASS],\"10\",Table2[Category],\"gen\",Table2[Gender],\"m\")","v":14},{"$f":"COUNTIFS(Table2[CLASS],\"10\",Table2[Category],\"gen\",Table2[Gender],\"f\")","v":5},19,{"$f":"COUNTIFS(Table2[CLASS],\"10\",Table2[Category],\"st\",Table2[Gender],\"m\")","v":0},{"$f":"COUNTIFS(Table2[CLASS],\"10\",Table2[Category],\"st\",Table2[Gender],\"f\")","v":0},0,{"$f":"COUNTIFS(Table2[CLASS],\"10\",Table2[Category],\"sc\",Table2[Gender],\"m\")","v":13},{"$f":"COUNTIFS(Table2[CLASS],\"10\",Table2[Category],\"sc\",Table2[Gender],\"f\")","v":18},31,{"$f":"COUNTIFS(Table2[CLASS],\"10\",Table2[Category],\"obc\",Table2[Gender],\"m\")","v":51},{"$f":"COUNTIFS(Table2[CLASS],\"10\",Table2[Category],\"obc\",Table2[Gender],\"f\")","v":35},86,{"$f":"COUNTIFS(Table2[CLASS],\"10\",Table2[Category],\"sbc\",Table2[Gender],\"m\")","v":3},{"$f":"COUNTIFS(Table2[CLASS],\"10\",Table2[Category],\"sbc\",Table2[Gender],\"f\")","v":4},7,81,62,143]
[null,11,11,{"$f":"COUNTIFS(Table2[CLASS],\"11\",Table2[Category],\"gen\",Table2[Gender],\"m\")","v":2},{"$f":"COUNTIFS(Table2[CLASS],\"11\",Table2[Category],\"gen\",Table2[Gender],\"f\")","v":2},4,{"$f":"COUNTIFS(Table2[CLASS],\"11\",Table2[Category],\"st\",Table2[Gender],\"m\")","v":0},{"$f":"COUNTIFS(Table2[CLASS],\"11\",Table2[Category],\"st\",Table2[Gender],\"f\")","v":0},0,{"$f":"COUNTIFS(Table2[CLASS],\"11\",Table2[Category],\"sc\",Table2[Gender],\"m\")","v":11},{"$f":"COUNTIFS(Table2[CLASS],\"11\",Table2[Category],\"sc\",Table2[Gender],\"f\")","v":10},21,{"$f":"COUNTIFS(Table2[CLASS],\"11\",Table2[Category],\"obc\",Table2[Gender],\"m\")","v":33},{"$f":"COUNTIFS(Table2[CLASS],\"11\",Table2[Category],\"obc\",Table2[Gender],\"f\")","v":28},61,{"$f":"COUNTIFS(Table2[CLASS],\"11\",Table2[Category],\"sbc\",Table2[Gender],\"m\")","v":2},{"$f":"COUNTIFS(Table2[CLASS],\"11\",Table2[Category],\"sbc\",Table2[Gender],\"f\")","v":2},4,48,42,90]
[null,12,12,{"$f":"COUNTIFS(Table2[CLASS],\"12\",Table2[Category],\"gen\",Table2[Gender],\"m\")","v":5},{"$f":"COUNTIFS(Table2[CLASS],\"12\",Table2[Category],\"gen\",Table2[Gender],\"f\")","v":4},9,{"$f":"COUNTIFS(Table2[CLASS],\"12\",Table2[Category],\"st\",Table2[Gender],\"m\")","v":1},{"$f":"COUNTIFS(Table2[CLASS],\"12\",Table2[Category],\"st\",Table2[Gender],\"f\")","v":0},1,{"$f":"COUNTIFS(Table2[CLASS],\"12\",Table2[Category],\"sc\",Table2[Gender],\"m\")","v":11},{"$f":"COUNTIFS(Table2[CLASS],\"12\",Table2[Category],\"sc\",Table2[Gender],\"f\")","v":4},15,{"$f":"COUNTIFS(Table2[CLASS],\"12\",Table2[Category],\"obc\",Table2[Gender],\"m\")","v":24},{"$f":"COUNTIFS(Table2[CLASS],\"12\",Table2[Category],\"obc\",Table2[Gender],\"f\")","v":23},47,{"$f":"COUNTIFS(Table2[CLASS],\"12\",Table2[Category],\"sbc\",Table2[Gender],\"m\")","v":3},{"$f":"COUNTIFS(Table2[CLASS],\"12\",Table2[Category],\"sbc\",Table2[Gender],\"f\")","v":1},4,44,32,76]
[null,"TOTAL",null,{"$f":"SUM(D7:D18)","v":38},{"$f":"SUM(E7:E18)","v":25},63,1,0,1,89,63,152,243,245,488,12,12,24,383,345,728]
[]
[]
[]
[]
[]
[null,null,null,null,null,null,null,null,null,null,null,null,null,null,null,null,null,"gLrk{kj"]
[null,null,null,null,null,null,null,null,null,null,null,null,null,null,null,null,null,{"$f":"master!E6","v":"Jh fnus'k dqekj vks>k"}]
[null,null,null,null,null,null,null,null,null,null,null,null,null,null,null,null,null,"iz/kkukpk;Z"]

{"sheet":"PRAPATRA A","index":8,"n_rows":18,"n_cols":16,"rows_kept":18,"cut":false,"hidden":false,"merged":[[0,0,0,19],[13,0,13,1],[15,12,15,14],[16,12,16,14],[17,12,17,14],[1,0,1,14],[2,5,2,9],[2,10,2,14],[5,0,12,0],[5,1,12,1]]}
[{"$f":"master!D5","v":"jktdh; mPPk ek/;fed fo|ky; vkyfu;kokl ftyk &ukXkkSj"}]
["स्माइल 3 के अन्तर्गत विद्याथियों के अध्ययन हेतु गृहकार्य वितरण एवं संकलन हेतु शिक्षको के द्वारा भरे जाना वाला ( प्रपत्र -अ)"]
[null,null,null,null,null,"गृहकार्य वितरण से सबंधित सूचना ",null,null,null,null,"गृहकार्य संकलन  से सबंधित सूचना "]
["SN","विद्यालय  का नाम ","कक्षा ","कुल नामाकन ","गृहकार्य विवरण ( विषयवार )","ऑनलाइन माध्यम से विध्यार्थियों की संख्या  ","ऑफलाइन माध्यम से विध्यार्थियों की संख्या  ","गृहकार्य प्राप्त करने वाले विध्यार्थियों की कुल संख्या (5+6)","शेष विध्यार्थियों की संख्या ","बिंदु संख्या 8 में गृहकार्य वितरण से वंचित रहने वाले विध्यार्थियों का वंचित रहने का कारण / विवरण ","ऑनलाइन माध्यम से विध्यार्थियों की संख्या  ","ऑफलाइन माध्यम से विध्यार्थियों की संख्या  ","गृहकार्य पूर्ण  कर जमा करवाने  वाले विध्यार्थियों की कुल संख्या (10+11)","शेष विध्यार्थियों की संख्या ","बिंदु संख्या 13 में गृहकार्य संकलन  से वंचित रहने वाले विध्यार्थियों का वंचित रहने का कारण / विवरण ","संकलन पश्चात विध्यार्थियों का गृहकार्य पोर्टफोलियो तैयार कर लिया गया है, हां अथवा नहीं "]
[null,1,2,3,4,5,6,7,8,9,10,11,12,13,14,15]
[1,{"$f":"A1","v":"jktdh; mPPk ek/;fed fo|ky; vkyfu;kokl ftyk &ukXkkSj"},1,{"$f":"ENROLLMENT!U7","v":26},"सभी अनिवार्य विषय ",{"$f":"COUNTIFS(Table2[CLASS],\"1\",Table2[online],\"YES\")","v":18},{"$f":"COUNTIFS(Table2[CLASS],\"1\",Table2[online],\"NO\")","v":8},{"$f":"F6+G6","v":26},{"$f":"D6-H6","v":0},null,{"$f":"F6","v":18},{"$f":"G6","v":8},{"$f":"K6+L6","v":26},{"$f":"D6-M6","v":0},null,"YES"]
[null,null,2,{"$f":"ENROLLMENT!U8","v":20},"सभी अनिवार्य विषय ",{"$f":"COUNTIFS(Table2[CLASS],\"2\",Table2[online],\"YES\")","v":13},{"$f":"COUNTIFS(Table2[CLASS],\"2\",Table2[online],\"NO\")","v":7},{"$f":"F7+G7","v":20},{"$f":"D7-H7","v":0},null,{"$f":"F7","v":13},{"$f":"G7","v":7},{"$f":"K7+L7","v":20},{"$f":"D7-M7","v":0},null,"YES"]
[null,null,3,{"$f":"ENROLLMENT!U9","v":32},"सभी अनिवार्य विषय ",{"$f":"COUNTIFS(Table2[CLASS],\"3\",Table2[online],\"YES\")","v":21},{"$f":"COUNTIFS(Table2[CLASS],\"3\",Table2[online],\"NO\")","v":11},32,0,null,21,11,32,0,null,"YES"]
[null,null,4,{"$f":"ENROLLMENT!U10","v":34},"सभी अनिवार्य विषय ",{"$f":"COUNTIFS(Table2[CLASS],\"4\",Table2[online],\"YES\")","v":23},{"$f":"COUNTIFS(Table2[CLASS],\"4\",Table2[online],\"NO\")","v":11},34,0,null,23,11,34,0,null,"YES"]
[null,null,5,{"$f":"ENROLLMENT!U11","v":42},"सभी अनिवार्य विषय ",{"$f":"COUNTIFS(Table2[CLASS],\"5\",Table2[online],\"YES\")","v":28},{"$f":"COUNTIFS(Table2[CLASS],\"5\",Table2[online],\"NO\")","v":14},42,0,null,28,14,42,0,null,"YES"]
[null,null,6,{"$f":"ENROLLMENT!U12","v":39},"सभी अनिवार्य विषय ",{"$f":"COUNTIFS(Table2[CLASS],\"6\",Table2[online],\"YES\")","v":26},{"$f":"COUNTIFS(Table2[CLASS],\"6\",Table2[online],\"NO\")","v":13},39,0,null,26,13,39,0,null,"YES"]
[null,null,7,{"$f":"ENROLLMENT!U13","v":58},"सभी अनिवार्य विषय ",{"$f":"COUNTIFS(Table2[CLASS],\"7\",Table2[online],\"YES\")","v":39},{"$f":"COUNTIFS(Table2[CLASS],\"7\",Table2[online],\"NO\")","v":19},58,0,null,39,19,58,0,null,"YES"]
[null,null,8,{"$f":"ENROLLMENT!U14","v":65},"सभी अनिवार्य विषय ",{"$f":"COUNTIFS(Table2[CLASS],\"8\",Table2[online],\"YES\")","v":43},{"$f":"COUNTIFS(Table2[CLASS],\"8\",Table2[online],\"NO\")","v":22},65,0,null,43,22,65,0,null,"YES"]
["कुल ",null,null,{"$f":"SUM(D6:D13)","v":316},{"$f":"SUM(E6:E13)","v":0},211,105,316,0,0,211,105,316,0,0]
[]
[null,null,null,null,null,null,null,null,null,null,null,null,{"$f":"ENROLLMENT!R25","v":"gLrk{kj"}]
[null,null,null,null,null,null,null,null,null,null,null,null,{"$f":"ENROLLMENT!R26","v":"Jh fnus'k dqekj vks>k"}]
[null,null,null,null,null,null,null,null,null,null,null,null,{"$f":"ENROLLMENT!R27","v":"iz/kkukpk;Z"}]

{"sheet":"PRAPATRA B","index":9,"n_rows":11,"n_cols":14,"rows_kept":11,"cut":false,"hidden":false,"merged":[[4,0,4,1],[8,10,8,12],[9,10,9,12],[10,10,10,12],[0,0,0,12],[1,0,1,12],[2,0,3,1],[2,2,3,2],[2,3,3,3],[2,4,3,4],[2,5,2,8],[2,9,2,13]]}
[{"$f":"master!D5","v":"jktdh; mPPk ek/;fed fo|ky; vkyfu;kokl ftyk &ukXkkSj"}]
["स्माइल 3 के अन्तर्गत विद्याथियों के अध्ययन हेतु गृहकार्य वितरण एवं संकलन हेतु शिक्षको के द्वारा भरे जाना वाला ( प्रपत्र -ब)"]
["विद्यालय  का नाम ",null,"कक्षा ","कुल नामाकन ","गृहकार्य विवरण ( विषयवार )","गृहकार्य वितरण से सबंधित सूचना ",null,null,null,"गृहकार्य संकलन  से सबंधित सूचना "]
[null,null,null,null,null,"ऑनलाइन माध्यम से विध्यार्थियों का प्रतिशत  ","ऑफलाइन माध्यम से विध्यार्थियों का प्रतिशत  ","गृहकार्य प्राप्त करने वाले विध्यार्थियों का प्रतिशत(5+6)","गृहकार्य वितरण से वंचित रहने वाले विध्यार्थियों का प्रतिशत","ऑनलाइन माध्यम से वितरित गृहकार्य प्राप्त करने वाले विध्यार्थियों का प्रतिशत ","ऑफलाइन माध्यम से वितरित गृहकार्य प्राप्त करने वाले विध्यार्थियों का प्रतिशत ","गृहकार्य पूर्ण  कर जमा करवाने  वाले विध्यार्थियों का  कुल प्रतिशत (9+10)","गृहकार्य संकलन से वंचित रहे शेष विध्यार्थियों का कुल प्रतिशत","संकलन पश्चात विध्यार्थियों का गृहकार्य पोर्टफोलियो तैयार कर लिया गया है, हां अथवा नहीं "]
[1,null,2,3,4,5,6,7,8,9,10,11,12,13]
[1,{"$f":"A1","v":"jktdh; mPPk ek/;fed fo|ky; vkyfu;kokl ftyk &ukXkkSj"},"1  to 8",{"$f":"'PRAPATRA A'!D14","v":316},"सभी अनिवार्य विषय ",{"$f":"'PRAPATRA A'!F14/'PRAPATRA A'!D14","v":0.66772151898734178},{"$f":"'PRAPATRA A'!G14/'PRAPATRA A'!D14","v":0.33227848101265822},{"$f":"F6+G6","v":1},{"$f":"'PRAPATRA A'!I14/'PRAPATRA A'!D14","v":0},{"$f":"F6","v":0.66772151898734178},{"$f":"G6","v":0.33227848101265822},{"$f":"H6","v":1},{"$f":"I6","v":0},"YES"]
[]
[]
[null,null,null,null,null,null,null,null,null,null,{"$f":"ENROLLMENT!R25","v":"gLrk{kj"}]
[null,null,null,null,null,null,null,null,null,null,{"$f":"ENROLLMENT!R26","v":"Jh fnus'k dqekj vks>k"}]
[null,null,null,null,null,null,null,null,null,null,{"$f":"ENROLLMENT!R27","v":"iz/kkukpk;Z"}]

{"sheet":"MONITERING DATA","index":10,"n_rows":20,"n_cols":13,"rows_kept":20,"cut":false,"hidden":false,"merged":[[17,9,17,10],[19,9,19,10],[0,0,0,12],[2,3,2,7],[2,8,2,10],[5,0,12,0],[5,7,9,7],[10,7,12,7],[1,0,1,12],[2,11,2,12]]}
[{"$f":"master!D5","v":"jktdh; mPPk ek/;fed fo|ky; vkyfu;kokl ftyk &ukXkkSj"}]
["SMILE 3 MONITERING DATA"]
[null,null,null,"SMILE लाभान्वित",null,null,null,null,"पाठ्यपुस्तक/वर्कबुक"]
["विद्यालय  का नाम ","कक्षा ","कुल नामाकन ","व्हाट्सएप्प के माध्यम से स्माइल 2.0 से लाभान्वित ","टेलीविज़न के माध्यम से स्माइल 2.0 से लाभान्वित","ऑफलाइन माध्यम से स्माइल 2.0 से लाभान्वित","क्विज (QUIZ) अटेण्ड करने वाले विध्यार्थी","प्रतिदिन 5 CALLING FORM भरने वाले शिक्षकों की संख्या","निशुल्क पाठ्यपुस्तक प्राप्त विध्यार्थियों की संख्या","वर्कबुक प्राप्त विध्यार्थियों की संख्या AT GRADE","वर्कबुक प्राप्त विध्यार्थियों की संख्या BELOW GRADE","संकलन पश्चात विध्यार्थियों का गृहकार्य पोर्टफोलियो तैयार कर लिया गया है, हां अथवा नहीं ","पोर्टफोलियो संधारित संख्या"]
[1,2,3,4,5,6,7,8,9,10,11,23,24]
[{"$f":"A1","v":"jktdh; mPPk ek/;fed fo|ky; vkyfu;kokl ftyk &ukXkkSj"},1,{"$f":"ENROLLMENT!U7","v":26},{"$f":"'PRAPATRA A'!F6","v":18},0,{"$f":"'PRAPATRA A'!G6","v":8},0,{"$f":"COUNTA(master!F11:H16)","v":4},{"$f":"C6","v":26},0,0,"YES",{"$f":"C6","v":26}]
[null,2,{"$f":"ENROLLMENT!U8","v":20},{"$f":"'PRAPATRA A'!F7","v":13},0,{"$f":"'PRAPATRA A'!G7","v":7},0,null,{"$f":"C7","v":20},0,0,"YES",{"$f":"C7","v":20}]
[null,3,{"$f":"ENROLLMENT!U9","v":32},{"$f":"'PRAPATRA A'!F8","v":21},0,{"$f":"'PRAPATRA A'!G8","v":11},0,null,32,0,0,"YES",32]
[null,4,{"$f":"ENROLLMENT!U10","v":34},{"$f":"'PRAPATRA A'!F9","v":23},0,{"$f":"'PRAPATRA A'!G9","v":11},0,null,34,0,0,"YES",34]
[null,5,{"$f":"ENROLLMENT!U11","v":42},{"$f":"'PRAPATRA A'!F10","v":28},0,{"$f":"'PRAPATRA A'!G10","v":14},0,null,42,0,0,"YES",42]
[null,6,{"$f":"ENROLLMENT!U12","v":39},{"$f":"'PRAPATRA A'!F11","v":26},0,{"$f":"'PRAPATRA A'!G11","v":13},0,{"$f":"COUNTA(master!I11:K16)","v":6},39,0,0,"YES",39]
[null,7,{"$f":"ENROLLMENT!U13","v":58},{"$f":"'PRAPATRA A'!F12","v":39},0,{"$f":"'PRAPATRA A'!G12","v":19},0,null,58,0,0,"YES",58]
[null,8,{"$f":"ENROLLMENT!U14","v":65},{"$f":"'PRAPATRA A'!F13","v":43},0,{"$f":"'PRAPATRA A'!G13","v":22},0,null,65,0,0,"YES",65]
["योग",null,{"$f":"SUM(C6:C13)","v":316},{"$f":"SUM(D6:D13)","v":211},0,105,0,{"$f":"SUM(H6:H13)","v":10},{"$f":"SUM(I6:I13)","v":316},{"$f":"SUM(J6:J13)","v":0},{"$f":"SUM(K6:K13)","v":0},{"$f":"SUM(L6:L13)","v":0},{"$f":"SUM(M6:M13)","v":316}]
[]
[]
[]
[null,null,null,null,null,null,null,null,null,{"$f":"ENROLLMENT!R25","v":"gLrk{kj"}]
[null,null,null,null,null,null,null,null,null,{"$f":"ENROLLMENT!R26","v":"Jh fnus'k dqekj vks>k"}]
[null,null,null,null,null,null,null,null,null,{"$f":"ENROLLMENT!R27","v":"iz/kkukpk;Z"}]

{"sheet":"9-12 REPORT","index":11,"n_rows":80,"n_cols":39,"rows_kept":80,"cut":false,"hidden":false,"merged":[[1,6,1,24],[0,0,0,27],[3,2,3,31],[2,29,2,30],[2,23,2,25],[2,2,2,4],[2,26,2,28]]}
[{"$f":"master!D5","v":"jktdh; mPPk ek/;fed fo|ky; vkyfu;kokl ftyk &ukXkkSj"}]
[null,"CLASS","section",null,null,null,"d{kk 9 ls 12 rd ijke'kZ ,ao x`gdk;Z ysus tkap djkus okys fo|kfFkZ;ksa dk fooj.k"]
[null,10,"A",null,null,null,null,null,null,null,null,null,null,null,null,null,null,null,null,null,null,null,null,"MONTH",null,null,"JANUARY",null,null,2021,null,null,null,null,9,"JANUARY",null,9,"A"]
["क्र.स.",null,null,null,null,null,null,null,null,null,null,null,null,null,null,null,null,null,null,null,null,null,null,null,null,null,null,null,null,null,null,null,null,2020,10,"FEBRUARY",null,10,"B"]
["क्र.स.","Name","1900-01-01","1900-01-02","1900-01-03","1900-01-04","1900-01-05","1900-01-06","1900-01-07","1900-01-08","1900-01-09","1900-01-10","1900-01-11","1900-01-12","1900-01-13","1900-01-14","1900-01-15","1900-01-16","1900-01-17","1900-01-18","1900-01-19","1900-01-20","1900-01-21","1900-01-22","1900-01-23","1900-01-24","1900-01-25","1900-01-26","1900-01-27","1900-01-28","1900-01-29","1900-01-30",null,2021,11,"MARCH",null,11,"C"]
[1,"ABHISHEK",null,null,null,null,null,null,null,null,null,null,null,null,null,null,null,null,null,null,null,null,null,null,null,null,null,null,null,null,null,null,null,"B",1,"APRIL",null,12]
[2,"ADIL AHMAD",null,null,null,null,null,null,null,null,null,null,null,null,null,null,null,null,null,null,null,null,null,null,null,null,null,null,null,null,null,null,null,"C",2,"MAY",null,1]
[3,"ANAND SINGH",null,null,null,null,null,null,null,null,null,null,null,null,null,null,null,null,null,null,null,null,null,null,null,null,null,null,null,null,null,null,null,null,3,"JUNE",null,2]
[4,"ANKIT",null,null,null,null,null,null,null,null,null,null,null,null,null,null,null,null,null,null,null,null,null,null,null,null,null,null,null,null,null,null,null,null,4,"JULY",null,3]
[5,"ANKITA SHARMA",null,null,null,null,null,null,null,null,null,null,null,null,null,null,null,null,null,null,null,null,null,null,null,null,null,null,null,null,null,null,null,null,5,"AUGUST",null,4]
[6,"ANKU DEVI",null,null,null,null,null,null,null,null,null,null,null,null,null,null,null,null,null,null,null,null,null,null,null,null,null,null,null,null,null,null,null,null,6,"SEPTEMBER",null,5]
[7,"ARPIT SHARMA",null,null,null,null,null,null,null,null,null,null,null,null,null,null,null,null,null,null,null,null,null,null,null,null,null,null,null,null,null,null,null,null,7,"OCTOBER",null,6]
[8,"BANWARI NATH",null,null,null,null,null,null,null,null,null,null,null,null,null,null,null,null,null,null,null,null,null,null,null,null,null,null,null,null,null,null,null,null,8,"NOVEMBER",null,7]
[9,"BASANTI DEVI",null,null,null,null,null,null,null,null,null,null,null,null,null,null,null,null,null,null,null,null,null,null,null,null,null,null,null,null,null,null,null,null,null,"DECEMBER",null,8]
[10,"DASHARATH KUMAWAT"]
[11,"DEEKSHA PARIHAR"]
[12,"DEEPAK SHARMA"]
[13,"DEEPU SINGH"]
[14,"DINESH BAVRI"]
[15,"FARDEEN KHAN"]
[16,"FIROJA BANU"]
[17,"GARIMA PARIHAR"]
[18,"GAUR ABHISHEK"]
[19,"GUDDI DEVI"]
[20,"HAIDER ALI"]
[21,"HARI RAM PRAJAPAT"]
[22,"HEMLATA"]
[23,"JITENDRA SINGH"]
[24,"KALI DEVI"]
[25,"KALIM KURESHI"]
[26,"KAVITA PRAJAPAT"]
[27,"KAVITA RAIDAS"]
[28,"KIRAN DEVI"]
[29,"KOMAL DEVI"]
[30,"KOMAL PRAJAPAT"]
[31,"MADHURI"]
[32,"MANISH KUMAR"]
[33,"MAYA GURJAR"]
[34,"MEENU DEVI"]
[35,"MOHAMMAD ARSHAD"]
[36,"MOHAMMAD KAIF"]
[37,"MOHAMMAD SHAHROOKH"]
[38,"MOHIT VAISHNAV"]
[39,"MUKANDAR KHAN"]
[40,"MUKESH"]
[41,"MUKESH KUMAWAT"]
[42,"NENURAM KUMAWAT"]
[43,"OM NATH"]
[44,"PAREENA"]
[45,"PINKI"]
[46,"POOJA"]
[47,"POOJA JANGID"]
[48,"POONAM CHAND SAINI"]
[49,"PRAVEEN RAVAL"]
[50,"PUKHRAJ BORANIYA"]
[51,"PUSHPA DEVI KUMAWAT"]
[52,"RAHUL HARIJAN"]
[53,"RAJU DEVI"]
[54,"RAJU NATH"]
[55,"RAKESH KACHCHHAVA"]
[56,"RAM AVTAR SAINI"]
[57,"RAMLAL"]
[58,"RAVI KUMAR ACHARYA"]
[59,"RAVINDRA SINGH"]
[60,"ROHIT"]
[61,"SABIR HUSAIN"]
[62,"SALMAN"]
[63,"SARITA BAWARI"]
[64,"SEEMA"]
[65,"SHAKTI SINGH"]
[66,"SONU KANWAR"]
[67,"SUBRAT ALI"]
[68,"SUNIL NATH"]
[69,"TARUN SAINI"]
[70,"TEENA VAISHNAV"]
[71,"UDIT NARAYAN"]
[72,"VIKAS KUMAWAT"]
[73,"VIKRAM SINGH"]
[74,"VISHNU CHOKIDAR"]
[75,"YASIN MOHAMMAD"]

{"sheet":"HW RECORD","index":12,"n_rows":6,"n_cols":20,"rows_kept":6,"cut":false,"hidden":false,"merged":[[2,24,2,30],[4,4,4,7],[4,8,4,11],[4,12,4,15],[4,16,4,19],[4,2,5,2],[4,1,5,1],[1,2,1,17],[2,7,2,8],[2,9,2,14],[2,15,2,19],[2,5,2,6]]}
[]
[null,null,"गृहकार्य वितरण एंव संकलन चेकलिस्ट"]
[null,"कक्षा",null,null,null,"वर्ग",null,null,null,"नाम कक्षाध्यापक"]
[]
[null,"क्र-सं.","नाम विद्याथी",null,"प्रथम सप्ताह",null,null,null,"द्वितीय सप्ताह",null,null,null,"तृतीय सप्ताह",null,null,null,"चतुर्थ सप्ताह"]
[null,null,null,null,"गृहकार्य वितरित","गृहकार्य संकलित","पोर्टफोलियो संधारित","Quiz","गृहकार्य वितरित","गृहकार्य संकलित","पोर्टफोलियो संधारित","Quiz","गृहकार्य वितरित","गृहकार्य संकलित","पोर्टफोलियो संधारित","Quiz","गृहकार्य वितरित","गृहकार्य संकलित","पोर्टफोलियो संधारित","Quiz"]

{"sheet":"QUIZ RECORD2","index":13,"n_rows":22,"n_cols":16,"rows_kept":22,"cut":false,"hidden":false,"merged":[[2,20,2,26],[4,13,4,15],[2,5,2,6],[1,2,1,14],[2,8,2,12],[2,13,2,15],[4,1,5,1],[4,2,5,2],[4,4,4,6],[4,7,4,9],[4,10,4,12]]}
[]
[null,null,"QUIZ वितरण एंव संकलन ( विद्यालय स्तर )"]
[null,null,null,null,null,null,null,null,"नाम स्माइल प्रभारी"]
[]
[null,"क्र-सं.","गृहकार्य वितरण एंव संकलन चेकलिस्ट",null,"प्रथम सप्ताह",null,null,"द्वितीय सप्ताह",null,null,"तृतीय सप्ताह",null,null,"चतुर्थ सप्ताह"]
[null,null,null,null,"ऑनलाइन","ऑफलाइन","योग","ऑनलाइन","ऑफलाइन","योग","ऑनलाइन","ऑफलाइन","योग","ऑनलाइन","ऑफलाइन","योग"]
[null,1,"कक्षा -1"]
[null,2,"कक्षा -2"]
[null,3,"कक्षा -3"]
[null,4,"कक्षा -4"]
[null,5,"कक्षा -5"]
[null,6,"कक्षा -6"]
[null,7,"कक्षा -7"]
[null,8,"कक्षा -8"]
[null,9,"योग"]
[null,10,"कक्षा -9"]
[null,11,"कक्षा -10"]
[null,12,"योग"]
[null,13,"कक्षा -11"]
[null,14,"कक्षा -12"]
[null,15,"योग"]
[null,16,"महायोग"]

{"sheet":"HW CLASSWISE","index":14,"n_rows":17,"n_cols":16,"rows_kept":17,"cut":false,"hidden":false,"merged":[[2,20,2,26],[4,13,4,15],[1,2,1,14],[2,5,2,6],[2,8,2,12],[2,13,2,15],[4,1,5,1],[4,2,5,2],[4,4,4,6],[4,7,4,9],[4,10,4,12]]}
[]
[null,null,"गृहकार्य वितरण एंव संकलन ( कक्षा स्तर )"]
[null,null,"कक्षा",null,null,null,null,null,"नाम कक्षाध्यापक"]
[]
[null,"क्र-सं.","गृहकार्य वितरण एंव संकलन चेकलिस्ट",null,"प्रथम सप्ताह",null,null,"द्वितीय सप्ताह",null,null,"तृतीय सप्ताह",null,null,"चतुर्थ सप्ताह"]
[null,null,null,null,"ऑनलाइन","ऑफलाइन","योग","ऑनलाइन","ऑफलाइन","योग","ऑनलाइन","ऑफलाइन","योग","ऑनलाइन","ऑफलाइन","योग"]
[null,1,"जून"]
[null,2,"जुलाई"]
[null,3,"अगस्त"]
[null,4,"सितम्बर"]
[]
[]
[]
[]
[]
[]
[null,null,"हस्ताक्षर कक्षाध्यापक"]

{"sheet":"HW school","index":15,"n_rows":22,"n_cols":16,"rows_kept":22,"cut":false,"hidden":false,"merged":[[2,20,2,26],[4,1,5,1],[4,2,5,2],[4,4,4,6],[4,7,4,9],[4,10,4,12],[4,13,4,15],[1,2,1,14],[2,5,2,6],[2,8,2,12],[2,13,2,15]]}
[]
[null,null,"गृहकार्य वितरण एंव संकलन ( विद्यालय स्तर )"]
[null,null,null,null,null,null,null,null,"नाम स्माइल प्रभारी"]
[]
[null,"क्र-सं.","गृहकार्य वितरण एंव संकलन चेकलिस्ट",null,"प्रथम सप्ताह",null,null,"द्वितीय सप्ताह",null,null,"तृतीय सप्ताह",null,null,"चतुर्थ सप्ताह"]
[null,null,null,null,"ऑनलाइन","ऑफलाइन","योग","ऑनलाइन","ऑफलाइन","योग","ऑनलाइन","ऑफलाइन","योग","ऑनलाइन","ऑफलाइन","योग"]
[null,1,"कक्षा -1"]
[null,2,"कक्षा -2"]
[null,3,"कक्षा -3"]
[null,4,"कक्षा -4"]
[null,5,"कक्षा -5"]
[null,6,"कक्षा -6"]
[null,7,"कक्षा -7"]
[null,8,"कक्षा -8"]
[null,9,"योग"]
[null,10,"कक्षा -9"]
[null,11,"कक्षा -10"]
[null,12,"योग"]
[null,13,"कक्षा -11"]
[null,14,"कक्षा -12"]
[null,15,"योग"]
[null,16,"महायोग"]

{"sheet":"WEEKLY HW ","index":16,"n_rows":20,"n_cols":14,"rows_kept":20,"cut":false,"hidden":false,"merged":[[6,1,13,1],[1,2,1,13],[19,11,20,13],[18,11,18,13],[2,1,2,7],[3,1,4,1],[3,2,4,2],[3,3,4,3],[3,4,4,4],[3,5,3,8],[3,9,3,13]]}
[]
[null,"कार्यालय ",{"$f":"master!D5","v":"jktdh; mPPk ek/;fed fo|ky; vkyfu;kokl ftyk &ukXkkSj"}]
[null,"स्माईल - 3 साप्ताहिक  गृहकार्य की समेकित सूचना ",null,null,null,null,null,null,null,"सप्ताह","दिनांक",null,"से"]
[null,"पीईईओ क्षेत्र","कक्षा"," कुल नामांकन","गृहकार्य वितरण समस्त विषय","गृहकार्य वितरण से सम्बन्धित सूचना",null,null,null,"गृहकार्य संकलन से सम्बन्धित सूचना"]
[null,null,null,null,null,"ऑनलाईन माध्यम से वितरित गृहकार्य प्राप्त करने वाले विद्यार्थियों की संख्या","ऑफलाईन माध्यम से वितरित गृहकार्य प्राप्त करने वाले विद्यार्थियों की संख्या","गृहकार्य प्राप्त करने वाले विद्यार्थियों का कुल योग (5+6)","गृहकार्य वितरण से वंचित रहे शेष विद्यार्थियो की संख्या","ऑनलाईन माध्यम से गृहकार्य प्राप्त करने वाले विद्यार्थियो की संख्या","ऑफलाईन माध्यम से गृहकार्य प्राप्त करने वाले विद्यार्थियो की संख्या","गृहकार्य पूर्ण कर जमा कराने वाले विद्यार्थियो की संख्या","गृहकार्य संकलन से वंचित रहे विद्यार्थियों की संख्या","संकलन पश्चात विद्यार्थियो का गुहकार्य पॉर्टपोलियो तैयार कर लिया गया (संख्या में)"]
[null,1,2,3,4,5,6,7,8,9,10,11,12,13]
[null,{"$f":"master!D4","v":"jktdh; mPPk ek/;fed fo|ky; vkyfu;kokl ftyk &ukXkkSj"},1,40,"all subject",11,25,{"$f":"F7+G7","v":36},{"$f":"D7-H7","v":4},0,{"$f":"H7-J7","v":36},11,{"$f":"K7-L7","v":25},11]
[null,null,2,97,"all subject",28,49,{"$f":"F8+G8","v":77},{"$f":"D8-H8","v":20},0,{"$f":"H8-J8","v":77},22,{"$f":"K8-L8","v":55},22]
[null,null,3,97,"all subject",37,47,84,13,0,{"$f":"H9-J9","v":84},29,55,29]
[null,null,4,112,"all subject",42,42,84,28,0,{"$f":"H10-J10","v":84},31,53,31]
[null,null,5,132,"all subject",55,45,100,32,13,{"$f":"H11-J11","v":87},35,52,35]
[null,null,6,98,"all subject",34,31,65,33,15,{"$f":"H12-J12","v":50},25,25,25]
[null,null,7,94,"all subject",26,36,62,32,26,{"$f":"H13-J13","v":36},21,15,21]
[null,null,8,119,"all subject",39,34,73,46,33,{"$f":"H14-J14","v":40},30,10,30]
[]
[]
[]
[]
[null,null,null,null,null,null,null,null,null,null,null,"हस्ताक्षर संस्था प्रधान"]
[null,null,null,null,null,null,null,null,null,null,null,{"$f":"C2","v":"jktdh; mPPk ek/;fed fo|ky; vkyfu;kokl ftyk &ukXkkSj"}]