{"text_format":"1","workbook":"xlsx","n_sheets":13,"sheets":["master","sd paste","stu data","marks entry","भगत सिंह दल","att1","सुभाष दल","att2","चंद्रशेखर दल","att3","prapatr1","praman patra","Sheet1"],"not_rendered":{"charts":0,"images":3,"macros":0,"external_links":0,"defined_names":14,"comments":0,"pivot_tables":0},"unopened":[],"bounds":{"document_bytes":16777216,"sheet_cells":100000,"rows_first":2000,"rows_last":500,"rows_between":2000,"halvings":0,"cell_chars":16384,"cell_head_chars":4096},"cells_cut":0,"cells_raw":0,"read":"whole","date_system":"1900"}

{"sheet":"master","index":0,"n_rows":47,"n_cols":5,"rows_kept":47,"cut":false,"hidden":false,"merged":[[25,4,25,7],[26,4,26,7],[27,4,27,7],[28,4,28,7],[11,1,11,2],[11,4,11,7],[12,4,12,7],[13,4,13,7],[14,4,14,7],[15,4,15,7],[21,4,21,7],[22,4,22,7],[23,4,23,7],[24,4,24,7],[1,1,1,7],[17,4,17,7],[18,4,18,7],[19,4,19,7],[20,4,20,7],[16,4,16,7],[5,1,8,2],[3,1,3,7],[2,1,2,7],[4,1,4,7],[8,4,8,7],[5,4,5,7],[6,4,6,7],[7,4,7,7]]}
[]
[null," राजकीय उच्च माध्यमिक विद्यालय आलनियावास जिला - नागौर"]
[null,"समाज सेवा शिविर "]
[null,"सत्र- 2025-2026"]
[null,"दिनांक : 17.05.2025 से 31.05.2025"]
[null,"समाज सेवा शिविर की निम्न गतिविधियाँ में से चार गतिविधियाँ का  नम्बर चयन करे",null,21,{"$f":"VLOOKUP(D6,$B$13:C47,2)","v":"विद्यालय का सौदर्यकरण"}]
[null,null,null,28,{"$f":"VLOOKUP(D7,$B$13:C48,2)","v":"सार्वजनिक स्थलों पर जल सेवा"}]
[null,null,null,31,{"$f":"VLOOKUP(D8,$B$13:C49,2)","v":"यातायात के नियमो का पालन"}]
[null,null,null,14,{"$f":"VLOOKUP(D9,$B$13:C50,2)","v":"सार्वजानिक स्थल की सफाई"}]
[]
[]
[null,"समाज सेवा शिविर की निम्न गतिविधियाँ",null,null,"दल का नाम"]
[null,1,"परिवार कल्याण",1,"चंद्रशेखर आजाद दल"]
[null,2,"साक्षरता के प्रति जाग्रति",2,"भगत सिंह दल"]
[null,3,"मतदान के प्रति संचेतना",3,"सुभाष चन्द्र बॉस दल"]
[null,4,"क़ानूनी साक्षरता",4,"रानी लक्ष्मीबाई दल"]
[null,5,"उपभोक्ता संरक्षण",5,"स्वामी विवेकानंद दल"]
[null,6,"अल्प बचत",6,"महात्मा गाँधी दल"]
[null,7,"सरकारी योजनओं की जानकारी",7,"सरदार वल्लभभाई पटेल दल"]
[null,8,"ऋण उपलब्धता",8,"बाल गंगाधर तिलक दल"]
[null,9,"सामाजिक बुराइयों का निवारण",9,"कल्पना चावला दल "]
[null,10,"वाचनालय की स्थापना",10,"सावित्रीबाई फूले दल"]
[null,11,"बुक बैंक की स्थापना",11,"महाराणा प्रताप दल"]
[null,12,"चल पुस्तकालय का संचालन",12,"छत्रपति शिवाजी दल"]
[null,13,"विकासात्मक कार्य",13,"अरावली दल"]
[null,14,"सार्वजानिक स्थल की सफाई",14,"गंगा दल"]
[null,15,"सांस्कृतिक धरोहर का संरक्षण",15,"हिमालय दल"]
[null,16,"बीमार व्यक्तियों की सेवा ",16,"हिमगिरी दल"]
[null,17,"लाचार व्यक्तियों की सेवा",17,"रवीन्द्रनाथ टैगोर दल"]
[null,18,"निरक्षरों को पढना लिखना सिखाना",18]
[null,19,"समारोह-उत्सव ",19]
[null,20,"वस्तुओं का निर्माण",20]
[null,21,"विद्यालय का सौदर्यकरण",21]
[null,22,"सर्वेक्षण का कार्य",22]
[null,23,"क्रीड़ा केंद्र का संचालन",23]
[null,24,"राष्ट्रीय एकता एंव साम्प्रदायिक सदभाव",24]
[null,25,"पर्यावरण संरक्षण एंव संवर्धन",25]
[null,26,"प्राथमिक उपचार का ज्ञान",26]
[null,27,"प्राकृतिक आपदाओ में सावधानियां",27]
[null,28,"सार्वजनिक स्थलों पर जल सेवा",28]
[null,29,"अंधविश्वासों का उन्मूलन",29]
[null,30,"नैतिक शिक्षा का कार्य",30]
[null,31,"यातायात के नियमो का पालन",31]
[null,32,"अन्य कार्य",32]
[null,33,"अन्य कार्य",33]
[null,34,"अन्य कार्य",34]
[null,35,"अन्य कार्य",35]

{"sheet":"sd paste","index":1,"n_rows":611,"n_cols":30,"rows_kept":611,"cut":false,"hidden":false,"merged":[]}
["Class","Section","SRNO","DOA","Name","Late Status","FatherName","MotherName","Gender","Dob","ClassRollNo","ExamRollNumber","School Total Working Days","Student Total Attendence","Category","Religion","Previous Year Marks","Name Of School","School UDise Code","Aadhar No of Student","Bhamashash Card","Mobile No Student(Father/Mother/Guardian","Student Permanent Address","Annual Parental Income","CWSN Status","BPL Status","Minority Status","Age On Present(In Years)","Co-Curricular Activity","Distance From School"]
[1,"A",5322,"2025-01-01","vijay",null,"vk","vkk","F","2018-07-01",null,null,94,52,"OBC","Muslim",null,"ggg",8140200308,"XXXX8349",null,9828120697,"ALNIYAAWAS,BHERUNDA,ALNIYAAWAS,341513",50000,"N","N","Yes",6,"None",1]
[1,"A",5453,"2025-01-02","vkp2",null,"vk","vkk","F","2018-07-02",null,null,94,52,"OBC","Muslim",null,"ggg",8140200309,"XXXX8350",null,9828120698,"ALNIYAAWAS,BHERUNDA,ALNIYAAWAS,341514",50001,"N","N","Yes",7,"None",2]
[1,"A",5320,"2025-01-03","vkp3",null,"vk","vkk","F","2018-07-03",null,null,94,52,"OBC","Muslim",null,"ggg",8140200310,"XXXX8351",null,9828120699,"ALNIYAAWAS,BHERUNDA,ALNIYAAWAS,341515",50002,"N","N","Yes",8,"None",3]
[1,"A",5356,"2025-01-04","vkp4",null,"vk","vkk","F","2018-07-04",null,null,94,52,"OBC","Muslim",null,"ggg",8140200311,"XXXX8352",null,9828120700,"ALNIYAAWAS,BHERUNDA,ALNIYAAWAS,341516",50003,"N","N","Yes",9,"None",4]
[1,"A",5417,"2025-01-05","vkp5",null,"vk","vkk","F","2018-07-05",null,null,94,52,"OBC","Muslim",null,"ggg",8140200312,"XXXX8353",null,9828120701,"ALNIYAAWAS,BHERUNDA,ALNIYAAWAS,341517",50004,"N","N","Yes",10,"None",5]
[1,"A",5321,"2025-01-06","vkp6",null,"vk","vkk","F","2018-07-06",null,null,94,52,"OBC","Muslim",null,"ggg",8140200313,"XXXX8354",null,9828120702,"ALNIYAAWAS,BHERUNDA,ALNIYAAWAS,341518",50005,"N","N","Yes",11,"None",6]
[1,"A",5434,"2025-01-07","vkp7",null,"vk","vkk","F","2018-07-07",null,null,94,52,"OBC","Muslim",null,"ggg",8140200314,"XXXX8355",null,9828120703,"ALNIYAAWAS,BHERUNDA,ALNIYAAWAS,341519",50006,"N","N","Yes",12,"None",7]
[1,"A",5315,"2025-01-08","vkp8",null,"vk","vkk","F","2018-07-08",null,null,94,52,"OBC","Muslim",null,"ggg",8140200315,"XXXX8356",null,9828120704,"ALNIYAAWAS,BHERUNDA,ALNIYAAWAS,341520",50007,"N","N","Yes",13,"None",8]
[1,"A",5448,"2025-01-09","vkp9",null,"vk","vkk","F","2018-07-09",null,null,94,52,"OBC","Muslim",null,"ggg",8140200316,"XXXX8357",null,9828120705,"ALNIYAAWAS,BHERUNDA,ALNIYAAWAS,341521",50008,"N","N","Yes",14,"None",9]
[1,"A",5319,"2025-01-10","vkp10",null,"vk","vkk","F","2018-07-10",null,null,94,52,"OBC","Muslim",null,"ggg",8140200317,"XXXX8358",null,9828120706,"ALNIYAAWAS,BHERUNDA,ALNIYAAWAS,341522",50009,"N","N","Yes",15,"None",10]
[1,"A",5317,"2025-01-11","vkp11",null,"vk","vkk","F","2018-07-11",null,null,94,52,"OBC","Muslim",null,"ggg",8140200318,"XXXX8359",null,9828120707,"ALNIYAAWAS,BHERUNDA,ALNIYAAWAS,341523",50010,"N","N","Yes",16,"None",11]
[1,"A",5449,"2025-01-12","vkp12",null,"vk","vkk","F","2018-07-12",null,null,94,52,"OBC","Muslim",null,"ggg",8140200319,"XXXX8360",null,9828120708,"ALNIYAAWAS,BHERUNDA,ALNIYAAWAS,341524",50011,"N","N","Yes",17,"None",12]
[1,"A",5359,"2025-01-13","vkp13",null,"vk","vkk","F","2018-07-13",null,null,94,52,"OBC","Muslim",null,"ggg",8140200320,"XXXX8361",null,9828120709,"ALNIYAAWAS,BHERUNDA,ALNIYAAWAS,341525",50012,"N","N","Yes",18,"None",13]
[1,"A",5420,"2025-01-14","vkp14",null,"vk","vkk","F","2018-07-14",null,null,94,52,"OBC","Muslim",null,"ggg",8140200321,"XXXX8362",null,9828120710,"ALNIYAAWAS,BHERUNDA,ALNIYAAWAS,341526",50013,"N","N","Yes",19,"None",14]
[2,"A",5167,"2025-01-15","vkp15",null,"vk","vkk","F","2018-07-15",null,null,94,52,"OBC","Muslim",null,"ggg",8140200322,"XXXX8363",null,9828120711,"ALNIYAAWAS,BHERUNDA,ALNIYAAWAS,341527",50014,"N","N","Yes",20,"None",15]
[2,"A",5297,"2025-01-16","vkp16",null,"vk","vkk","F","2018-07-16",null,null,94,52,"OBC","Muslim",null,"ggg",8140200323,"XXXX8364",null,9828120712,"ALNIYAAWAS,BHERUNDA,ALNIYAAWAS,341528",50015,"N","N","Yes",21,"None",16]
[2,"A",5418,"2025-01-17","vkp17",null,"vk","vkk","F","2018-07-17",null,null,94,52,"OBC","Muslim",null,"ggg",8140200324,"XXXX8365",null,9828120713,"ALNIYAAWAS,BHERUNDA,ALNIYAAWAS,341529",50016,"N","N","Yes",22,"None",17]
[2,"A",5172,"2025-01-18","vkp18",null,"vk","vkk","F","2018-07-18",null,null,94,52,"OBC","Muslim",null,"ggg",8140200325,"XXXX8366",null,9828120714,"ALNIYAAWAS,BHERUNDA,ALNIYAAWAS,341530",50017,"N","N","Yes",23,"None",18]
[2,"A",5265,"2025-01-19","vkp19",null,"vk","vkk","F","2018-07-19",null,null,94,52,"OBC","Muslim",null,"ggg",8140200326,"XXXX8367",null,9828120715,"ALNIYAAWAS,BHERUNDA,ALNIYAAWAS,341531",50018,"N","N","Yes",24,"None",19]
[2,"A",5306,"2025-01-20","vkp20",null,"vk","vkk","F","2018-07-20",null,null,94,52,"OBC","Muslim",null,"ggg",8140200327,"XXXX8368",null,9828120716,"ALNIYAAWAS,BHERUNDA,ALNIYAAWAS,341532",50019,"N","N","Yes",25,"None",20]
[2,"A",5287,"2025-01-21","vkp21",null,"vk","vkk","F","2018-07-21",null,null,94,52,"OBC","Muslim",null,"ggg",8140200328,"XXXX8369",null,9828120717,"ALNIYAAWAS,BHERUNDA,ALNIYAAWAS,341533",50020,"N","N","Yes",26,"None",21]
[2,"A",5307,"2025-01-22","vkp22",null,"vk","vkk","F","2018-07-22",null,null,94,52,"OBC","Muslim",null,"ggg",8140200329,"XXXX8370",null,9828120718,"ALNIYAAWAS,BHERUNDA,ALNIYAAWAS,341534",50021,"N","N","Yes",27,"None",22]
[2,"A",5166,"2025-01-23","vkp23",null,"vk","vkk","F","2018-07-23",null,null,94,52,"OBC","Muslim",null,"ggg",8140200330,"XXXX8371",null,9828120719,"ALNIYAAWAS,BHERUNDA,ALNIYAAWAS,341535",50022,"N","N","Yes",28,"None",23]
[2,"A",5152,"2025-01-24","vkp24",null,"vk","vkk","F","2018-07-24",null,null,94,52,"OBC","Muslim",null,"ggg",8140200331,"XXXX8372",null,9828120720,"ALNIYAAWAS,BHERUNDA,ALNIYAAWAS,341536",50023,"N","N","Yes",29,"None",24]
[2,"A",5173,"2025-01-25","vkp25",null,"vk","vkk","F","2018-07-25",null,null,94,52,"OBC","Muslim",null,"ggg",8140200332,"XXXX8373",null,9828120721,"ALNIYAAWAS,BHERUNDA,ALNIYAAWAS,341537",50024,"N","N","Yes",30,"None",25]
[2,"A",5155,"2025-01-26","vkp26",null,"vk","vkk","F","2018-07-26",null,null,94,52,"OBC","Muslim",null,"ggg",8140200333,"XXXX8374",null,9828120722,"ALNIYAAWAS,BHERUNDA,ALNIYAAWAS,341538",50025,"N","N","Yes",31,"None",26]
[2,"A",5153,"2025-01-27","vkp27",null,"vk","vkk","F","2018-07-27",null,null,94,52,"OBC","Muslim",null,"ggg",8140200334,"XXXX8375",null,9828120723,"ALNIYAAWAS,BHERUNDA,ALNIYAAWAS,341539",50026,"N","N","Yes",32,"None",27]
[2,"A",5262,"2025-01-28","vkp28",null,"vk","vkk","F","2018-07-28",null,null,94,52,"OBC","Muslim",null,"ggg",8140200335,"XXXX8376",null,9828120724,"ALNIYAAWAS,BHERUNDA,ALNIYAAWAS,341540",50027,"N","N","Yes",33,"None",28]
[2,"A",5447,"2025-01-29","vkp29",null,"vk","vkk","F","2018-07-29",null,null,94,52,"OBC","Muslim",null,"ggg",8140200336,"XXXX8377",null,9828120725,"ALNIYAAWAS,BHERUNDA,ALNIYAAWAS,341541",50028,"N","N","Yes",34,"None",29]
[2,"A",5298,"2025-01-30","vkp30",null,"vk","vkk","F","2018-07-30",null,null,94,52,"OBC","Muslim",null,"ggg",8140200337,"XXXX8378",null,9828120726,"ALNIYAAWAS,BHERUNDA,ALNIYAAWAS,341542",50029,"N","N","Yes",35,"None",30]
[2,"A",5414,"2025-01-31","vkp31",null,"vk","vkk","F","2018-07-31",null,null,94,52,"OBC","Muslim",null,"ggg",8140200338,"XXXX8379",null,9828120727,"ALNIYAAWAS,BHERUNDA,ALNIYAAWAS,341543",50030,"N","N","Yes",36,"None",31]
[2,"A",5150,"2025-02-01","vkp32",null,"vk","vkk","F","2018-08-01",null,null,94,52,"OBC","Muslim",null,"ggg",8140200339,"XXXX8380",null,9828120728,"ALNIYAAWAS,BHERUNDA,ALNIYAAWAS,341544",50031,"N","N","Yes",37,"None",32]
[2,"A",5251,"2025-02-02","vkp33",null,"vk","vkk","F","2018-08-02",null,null,94,52,"OBC","Muslim",null,"ggg",8140200340,"XXXX8381",null,9828120729,"ALNIYAAWAS,BHERUNDA,ALNIYAAWAS,341545",50032,"N","N","Yes",38,"None",33]
[2,"A",5151,"2025-02-03","vkp34",null,"vk","vkk","F","2018-08-03",null,null,94,52,"OBC","Muslim",null,"ggg",8140200341,"XXXX8382",null,9828120730,"ALNIYAAWAS,BHERUNDA,ALNIYAAWAS,341546",50033,"N","N","Yes",39,"None",34]
[2,"A",5252,"2025-02-04","vkp35",null,"vk","vkk","F","2018-08-04",null,null,94,52,"OBC","Muslim",null,"ggg",8140200342,"XXXX8383",null,9828120731,"ALNIYAAWAS,BHERUNDA,ALNIYAAWAS,341547",50034,"N","N","Yes",40,"None",35]
[2,"A",5326,"2025-02-05","vkp36",null,"vk","vkk","F","2018-08-05",null,null,94,52,"OBC","Muslim",null,"ggg",8140200343,"XXXX8384",null,9828120732,"ALNIYAAWAS,BHERUNDA,ALNIYAAWAS,341548",50035,"N","N","Yes",41,"None",36]
[2,"A",5154,"2025-02-06","vkp37",null,"vk","vkk","F","2018-08-06",null,null,94,52,"OBC","Muslim",null,"ggg",8140200344,"XXXX8385",null,9828120733,"ALNIYAAWAS,BHERUNDA,ALNIYAAWAS,341549",50036,"N","N","Yes",42,"None",37]
[2,"A",5168,"2025-02-07","vkp38",null,"vk","vkk","F","2018-08-07",null,null,94,52,"OBC","Muslim",null,"ggg",8140200345,"XXXX8386",null,9828120734,"ALNIYAAWAS,BHERUNDA,ALNIYAAWAS,341550",50037,"N","N","Yes",43,"None",38]
[3,"A",4992,"2025-02-08","vkp39",null,"vk","vkk","F","2018-08-08",null,null,94,52,"OBC","Muslim",null,"ggg",8140200346,"XXXX8387",null,9828120735,"ALNIYAAWAS,BHERUNDA,ALNIYAAWAS,341551",50038,"N","N","Yes",44,"None",39]
[3,"A",5100,"2025-02-09","vkp40",null,"vk","vkk","F","2018-08-09",null,null,94,52,"OBC","Muslim",null,"ggg",8140200347,"XXXX8388",null,9828120736,"ALNIYAAWAS,BHERUNDA,ALNIYAAWAS,341552",50039,"N","N","Yes",45,"None",40]
[3,"A",4914,"2025-02-10","vkp41",null,"vk","vkk","F","2018-08-10",null,null,94,52,"OBC","Muslim",null,"ggg",8140200348,"XXXX8389",null,9828120737,"ALNIYAAWAS,BHERUNDA,ALNIYAAWAS,341553",50040,"N","N","Yes",46,"None",41]
[3,"A",5075,"2025-02-11","vkp42",null,"vk","vkk","F","2018-08-11",null,null,94,52,"OBC","Muslim",null,"ggg",8140200349,"XXXX8390",null,9828120738,"ALNIYAAWAS,BHERUNDA,ALNIYAAWAS,341554",50041,"N","N","Yes",47,"None",42]
[3,"A",4865,"2025-02-12","vkp43",null,"vk","vkk","F","2018-08-12",null,null,94,52,"OBC","Muslim",null,"ggg",8140200350,"XXXX8391",null,9828120739,"ALNIYAAWAS,BHERUNDA,ALNIYAAWAS,341555",50042,"N","N","Yes",48,"None",43]
[3,"A",4628,"2025-02-13","vkp44",null,"vk","vkk","F","2018-08-13",null,null,94,52,"OBC","Muslim",null,"ggg",8140200351,"XXXX8392",null,9828120740,"ALNIYAAWAS,BHERUNDA,ALNIYAAWAS,341556",50043,"N","N","Yes",49,"None",44]
[3,"A",5076,"2025-02-14","vkp45",null,"vk","vkk","F","2018-08-14",null,null,94,52,"OBC","Muslim",null,"ggg",8140200352,"XXXX8393",null,9828120741,"ALNIYAAWAS,BHERUNDA,ALNIYAAWAS,341557",50044,"N","N","Yes",50,"None",45]
[3,"A",5419,"2025-02-15","vkp46",null,"vk","vkk","F","2018-08-15",null,null,94,52,"OBC","Muslim",null,"ggg",8140200353,"XXXX8394",null,9828120742,"ALNIYAAWAS,BHERUNDA,ALNIYAAWAS,341558",50045,"N","N","Yes",51,"None",46]
[3,"A",5235,"2025-02-16","vkp47",null,"vk","vkk","F","2018-08-16",null,null,94,52,"OBC","Muslim",null,"ggg",8140200354,"XXXX8395",null,9828120743,"ALNIYAAWAS,BHERUNDA,ALNIYAAWAS,341559",50046,"N","N","Yes",52,"None",47]
[3,"A",4995,"2025-02-17","vkp48",null,"vk","vkk","F","2018-08-17",null,null,94,52,"OBC","Muslim",null,"ggg",8140200355,"XXXX8396",null,9828120744,"ALNIYAAWAS,BHERUNDA,ALNIYAAWAS,341560",50047,"N","N","Yes",53,"None",48]
[3,"A",4916,"2025-02-18","vkp49",null,"vk","vkk","F","2018-08-18",null,null,94,52,"OBC","Muslim",null,"ggg",8140200356,"XXXX8397",null,9828120745,"ALNIYAAWAS,BHERUNDA,ALNIYAAWAS,341561",50048,"N","N","Yes",54,"None",49]
[3,"A",4920,"2025-02-19","vkp50",null,"vk","vkk","F","2018-08-19",null,null,94,52,"OBC","Muslim",null,"ggg",8140200357,"XXXX8398",null,9828120746,"ALNIYAAWAS,BHERUNDA,ALNIYAAWAS,341562",50049,"N","N","Yes",55,"None",50]
[3,"A",4915,"2025-02-20","vkp51",null,"vk","vkk","F","2018-08-20",null,null,94,52,"OBC","Muslim",null,"ggg",8140200358,"XXXX8399",null,9828120747,"ALNIYAAWAS,BHERUNDA,ALNIYAAWAS,341563",50050,"N","N","Yes",56,"None",51]
[3,"A",4918,"2025-02-21","vkp52",null,"vk","vkk","F","2018-08-21",null,null,94,52,"OBC","Muslim",null,"ggg",8140200359,"XXXX8400",null,9828120748,"ALNIYAAWAS,BHERUNDA,ALNIYAAWAS,341564",50051,"N","N","Yes",57,"None",52]
[3,"A",5102,"2025-02-22","vkp53",null,"vk","vkk","F","2018-08-22",null,null,94,52,"OBC","Muslim",null,"ggg",8140200360,"XXXX8401",null,9828120749,"ALNIYAAWAS,BHERUNDA,ALNIYAAWAS,341565",50052,"N","N","Yes",58,"None",53]
[3,"A",5107,"2025-02-23","vkp54",null,"vk","vkk","F","2018-08-23",null,null,94,52,"OBC","Muslim",null,"ggg",8140200361,"XXXX8402",null,9828120750,"ALNIYAAWAS,BHERUNDA,ALNIYAAWAS,341566",50053,"N","N","Yes",59,"None",54]
[3,"A",4921,"2025-02-24","vkp55",null,"vk","vkk","F","2018-08-24",null,null,94,52,"OBC","Muslim",null,"ggg",8140200362,"XXXX8403",null,9828120751,"ALNIYAAWAS,BHERUNDA,ALNIYAAWAS,341567",50054,"N","N","Yes",60,"None",55]
[3,"A",5260,"2025-02-25","vkp56",null,"vk","vkk","F","2018-08-25",null,null,94,52,"OBC","Muslim",null,"ggg",8140200363,"XXXX8404",null,9828120752,"ALNIYAAWAS,BHERUNDA,ALNIYAAWAS,341568",50055,"N","N","Yes",61,"None",56]
[3,"A",4932,"2025-02-26","vkp57",null,"vk","vkk","F","2018-08-26",null,null,94,52,"OBC","Muslim",null,"ggg",8140200364,"XXXX8405",null,9828120753,"ALNIYAAWAS,BHERUNDA,ALNIYAAWAS,341569",50056,"N","N","Yes",62,"None",57]
[3,"A",4997,"2025-02-27","vkp58",null,"vk","vkk","F","2018-08-27",null,null,94,52,"OBC","Muslim",null,"ggg",8140200365,"XXXX8406",null,9828120754,"ALNIYAAWAS,BHERUNDA,ALNIYAAWAS,341570",50057,"N","N","Yes",63,"None",58]
[3,"A",5302,"2025-02-28","vkp59",null,"vk","vkk","F","2018-08-28",null,null,94,52,"OBC","Muslim",null,"ggg",8140200366,"XXXX8407",null,9828120755,"ALNIYAAWAS,BHERUNDA,ALNIYAAWAS,341571",50058,"N","N","Yes",64,"None",59]
[3,"A",5101,"2025-03-01","vkp60",null,"vk","vkk","F","2018-08-29",null,null,94,52,"OBC","Muslim",null,"ggg",8140200367,"XXXX8408",null,9828120756,"ALNIYAAWAS,BHERUNDA,ALNIYAAWAS,341572",50059,"N","N","Yes",65,"None",60]
[3,"A",4912,"2025-03-02","vkp61",null,"vk","vkk","F","2018-08-30",null,null,94,52,"OBC","Muslim",null,"ggg",8140200368,"XXXX8409",null,9828120757,"ALNIYAAWAS,BHERUNDA,ALNIYAAWAS,341573",50060,"N","N","Yes",66,"None",61]
[3,"A",4944,"2025-03-03","vkp62",null,"vk","vkk","F","2018-08-31",null,null,94,52,"OBC","Muslim",null,"ggg",8140200369,"XXXX8410",null,9828120758,"ALNIYAAWAS,BHERUNDA,ALNIYAAWAS,341574",50061,"N","N","Yes",67,"None",62]
[3,"A",5415,"2025-03-04","vkp63",null,"vk","vkk","F","2018-09-01",null,null,94,52,"OBC","Muslim",null,"ggg",8140200370,"XXXX8411",null,9828120759,"ALNIYAAWAS,BHERUNDA,ALNIYAAWAS,341575",50062,"N","N","Yes",68,"None",63]
[3,"A",5124,"2025-03-05","vkp64",null,"vk","vkk","F","2018-09-02",null,null,94,52,"OBC","Muslim",null,"ggg",8140200371,"XXXX8412",null,9828120760,"ALNIYAAWAS,BHERUNDA,ALNIYAAWAS,341576",50063,"N","N","Yes",69,"None",64]
[3,"A",5390,"2025-03-06","vkp65",null,"vk","vkk","F","2018-09-03",null,null,94,52,"OBC","Muslim",null,"ggg",8140200372,"XXXX8413",null,9828120761,"ALNIYAAWAS,BHERUNDA,ALNIYAAWAS,341577",50064,"N","N","Yes",70,"None",65]
[3,"A",5435,"2025-03-07","vkp66",null,"vk","vkk","F","2018-09-04",null,null,94,52,"OBC","Muslim",null,"ggg",8140200373,"XXXX8414",null,9828120762,"ALNIYAAWAS,BHERUNDA,ALNIYAAWAS,341578",50065,"N","N","Yes",71,"None",66]
[3,"A",4991,"2025-03-08","vkp67",null,"vk","vkk","F","2018-09-05",null,null,94,52,"OBC","Muslim",null,"ggg",8140200374,"XXXX8415",null,9828120763,"ALNIYAAWAS,BHERUNDA,ALNIYAAWAS,341579",50066,"N","N","Yes",72,"None",67]
[3,"A",4993,"2025-03-09","vkp68",null,"vk","vkk","F","2018-09-06",null,null,94,52,"OBC","Muslim",null,"ggg",8140200375,"XXXX8416",null,9828120764,"ALNIYAAWAS,BHERUNDA,ALNIYAAWAS,341580",50067,"N","N","Yes",73,"None",68]
[3,"A",5129,"2025-03-10","vkp69",null,"vk","vkk","F","2018-09-07",null,null,94,52,"OBC","Muslim",null,"ggg",8140200376,"XXXX8417",null,9828120765,"ALNIYAAWAS,BHERUNDA,ALNIYAAWAS,341581",50068,"N","N","Yes",74,"None",69]
[3,"A",4933,"2025-03-11","vkp70",null,"vk","vkk","F","2018-09-08",null,null,94,52,"OBC","Muslim",null,"ggg",8140200377,"XXXX8418",null,9828120766,"ALNIYAAWAS,BHERUNDA,ALNIYAAWAS,341582",50069,"N","N","Yes",75,"None",70]
[4,"A",4858,"2025-03-12","vkp71",null,"vk","vkk","F","2018-09-09",null,null,94,52,"OBC","Muslim",null,"ggg",8140200378,"XXXX8419",null,9828120767,"ALNIYAAWAS,BHERUNDA,ALNIYAAWAS,341583",50070,"N","N","Yes",76,"None",71]
[4,"A",5311,"2025-03-13","vkp72",null,"vk","vkk","F","2018-09-10",null,null,94,52,"OBC","Muslim",null,"ggg",8140200379,"XXXX8420",null,9828120768,"ALNIYAAWAS,BHERUNDA,ALNIYAAWAS,341584",50071,"N","N","Yes",77,"None",72]
[4,"A",4630,"2025-03-14","vkp73",null,"vk","vkk","F","2018-09-11",null,null,94,52,"OBC","Muslim",null,"ggg",8140200380,"XXXX8421",null,9828120769,"ALNIYAAWAS,BHERUNDA,ALNIYAAWAS,341585",50072,"N","N","Yes",78,"None",73]
[4,"A",4676,"2025-03-15","vkp74",null,"vk","vkk","F","2018-09-12",null,null,94,52,"OBC","Muslim",null,"ggg",8140200381,"XXXX8422",null,9828120770,"ALNIYAAWAS,BHERUNDA,ALNIYAAWAS,341586",50073,"N","N","Yes",79,"None",74]
[4,"A",4791,"2025-03-16","vkp75",null,"vk","vkk","F","2018-09-13",null,null,94,52,"OBC","Muslim",null,"ggg",8140200382,"XXXX8423",null,9828120771,"ALNIYAAWAS,BHERUNDA,ALNIYAAWAS,341587",50074,"N","N","Yes",80,"None",75]
[4,"A",5113,"2025-03-17","vkp76",null,"vk","vkk","F","2018-09-14",null,null,94,52,"OBC","Muslim",null,"ggg",8140200383,"XXXX8424",null,9828120772,"ALNIYAAWAS,BHERUNDA,ALNIYAAWAS,341588",50075,"N","N","Yes",81,"None",76]
[4,"A",4864,"2025-03-18","vkp77",null,"vk","vkk","F","2018-09-15",null,null,94,52,"OBC","Muslim",null,"ggg",8140200384,"XXXX8425",null,9828120773,"ALNIYAAWAS,BHERUNDA,ALNIYAAWAS,341589",50076,"N","N","Yes",82,"None",77]
[4,"A",4695,"2025-03-19","vkp78",null,"vk","vkk","F","2018-09-16",null,null,94,52,"OBC","Muslim",null,"ggg",8140200385,"XXXX8426",null,9828120774,"ALNIYAAWAS,BHERUNDA,ALNIYAAWAS,341590",50077,"N","N","Yes",83,"None",78]
[4,"A",5310,"2025-03-20","vkp79",null,"vk","vkk","F","2018-09-17",null,null,94,52,"OBC","Muslim",null,"ggg",8140200386,"XXXX8427",null,9828120775,"ALNIYAAWAS,BHERUNDA,ALNIYAAWAS,341591",50078,"N","N","Yes",84,"None",79]
[4,"A",4627,"2025-03-21","vkp80",null,"vk","vkk","F","2018-09-18",null,null,94,52,"OBC","Muslim",null,"ggg",8140200387,"XXXX8428",null,9828120776,"ALNIYAAWAS,BHERUNDA,ALNIYAAWAS,341592",50079,"N","N","Yes",85,"None",80]
[4,"A",5314,"2025-03-22","vkp81",null,"vk","vkk","F","2018-09-19",null,null,94,52,"OBC","Muslim",null,"ggg",8140200388,"XXXX8429",null,9828120777,"ALNIYAAWAS,BHERUNDA,ALNIYAAWAS,341593",50080,"N","N","Yes",86,"None",81]
[4,"A",5309,"2025-03-23","vkp82",null,"vk","vkk","F","2018-09-20",null,null,94,52,"OBC","Muslim",null,"ggg",8140200389,"XXXX8430",null,9828120778,"ALNIYAAWAS,BHERUNDA,ALNIYAAWAS,341594",50081,"N","N","Yes",87,"None",82]
[4,"A",5312,"2025-03-24","vkp83",null,"vk","vkk","F","2018-09-21",null,null,94,52,"OBC","Muslim",null,"ggg",8140200390,"XXXX8431",null,9828120779,"ALNIYAAWAS,BHERUNDA,ALNIYAAWAS,341595",50082,"N","N","Yes",88,"None",83]
[4,"A",4789,"2025-03-25","vkp84",null,"vk","vkk","F","2018-09-22",null,null,94,52,"OBC","Muslim",null,"ggg",8140200391,"XXXX8432",null,9828120780,"ALNIYAAWAS,BHERUNDA,ALNIYAAWAS,341596",50083,"N","N","Yes",89,"None",84]
[4,"A",4859,"2025-03-26","vkp85",null,"vk","vkk","F","2018-09-23",null,null,94,52,"OBC","Muslim",null,"ggg",8140200392,"XXXX8433",null,9828120781,"ALNIYAAWAS,BHERUNDA,ALNIYAAWAS,341597",50084,"N","N","Yes",90,"None",85]
[4,"A",4794,"2025-03-27","vkp86",null,"vk","vkk","F","2018-09-24",null,null,94,52,"OBC","Muslim",null,"ggg",8140200393,"XXXX8434",null,9828120782,"ALNIYAAWAS,BHERUNDA,ALNIYAAWAS,341598",50085,"N","N","Yes",91,"None",86]
[4,"A",5234,"2025-03-28","vkp87",null,"vk","vkk","F","2018-09-25",null,null,94,52,"OBC","Muslim",null,"ggg",8140200394,"XXXX8435",null,9828120783,"ALNIYAAWAS,BHERUNDA,ALNIYAAWAS,341599",50086,"N","N","Yes",92,"None",87]
[4,"A",4874,"2025-03-29","vkp88",null,"vk","vkk","F","2018-09-26",null,null,94,52,"OBC","Muslim",null,"ggg",8140200395,"XXXX8436",null,9828120784,"ALNIYAAWAS,BHERUNDA,ALNIYAAWAS,341600",50087,"N","N","Yes",93,"None",88]
[4,"A",4862,"2025-03-30","vkp89",null,"vk","vkk","F","2018-09-27",null,null,94,52,"OBC","Muslim",null,"ggg",8140200396,"XXXX8437",null,9828120785,"ALNIYAAWAS,BHERUNDA,ALNIYAAWAS,341601",50088,"N","N","Yes",94,"None",89]
[4,"A",4804,"2025-03-31","vkp90",null,"vk","vkk","F","2018-09-28",null,null,94,52,"OBC","Muslim",null,"ggg",8140200397,"XXXX8438",null,9828120786,"ALNIYAAWAS,BHERUNDA,ALNIYAAWAS,341602",50089,"N","N","Yes",95,"None",90]
[4,"A",4806,"2025-04-01","vkp91",null,"vk","vkk","F","2018-09-29",null,null,94,52,"OBC","Muslim",null,"ggg",8140200398,"XXXX8439",null,9828120787,"ALNIYAAWAS,BHERUNDA,ALNIYAAWAS,341603",50090,"N","N","Yes",96,"None",91]
[4,"A",4872,"2025-04-02","vkp92",null,"vk","vkk","F","2018-09-30",null,null,94,52,"OBC","Muslim",null,"ggg",8140200399,"XXXX8440",null,9828120788,"ALNIYAAWAS,BHERUNDA,ALNIYAAWAS,341604",50091,"N","N","Yes",97,"None",92]
[4,"A",4861,"2025-04-03","vkp93",null,"vk","vkk","F","2018-10-01",null,null,94,52,"OBC","Muslim",null,"ggg",8140200400,"XXXX8441",null,9828120789,"ALNIYAAWAS,BHERUNDA,ALNIYAAWAS,341605",50092,"N","N","Yes",98,"None",93]
[5,"A",5283,"2025-04-04","vkp94",null,"vk","vkk","F","2018-10-02",null,null,94,52,"OBC","Muslim",null,"ggg",8140200401,"XXXX8442",null,9828120790,"ALNIYAAWAS,BHERUNDA,ALNIYAAWAS,341606",50093,"N","N","Yes",99,"None",94]
[5,"A",4729,"2025-04-05","vkp95",null,"vk","vkk","F","2018-10-03",null,null,94,52,"OBC","Muslim",null,"ggg",8140200402,"XXXX8443",null,9828120791,"ALNIYAAWAS,BHERUNDA,ALNIYAAWAS,341607",50094,"N","N","Yes",100,"None",95]
[5,"A",4710,"2025-04-06","vkp96",null,"vk","vkk","F","2018-10-04",null,null,94,52,"OBC","Muslim",null,"ggg",8140200403,"XXXX8444",null,9828120792,"ALNIYAAWAS,BHERUNDA,ALNIYAAWAS,341608",50095,"N","N","Yes",101,"None",96]
[5,"A",5264,"2025-04-07","vkp97",null,"vk","vkk","F","2018-10-05",null,null,94,52,"OBC","Muslim",null,"ggg",8140200404,"XXXX8445",null,9828120793,"ALNIYAAWAS,BHERUNDA,ALNIYAAWAS,341609",50096,"N","N","Yes",102,"None",97]
[5,"A",5119,"2025-04-08","vkp98",null,"vk","vkk","F","2018-10-06",null,null,94,52,"OBC","Muslim",null,"ggg",8140200405,"XXXX8446",null,9828120794,"ALNIYAAWAS,BHERUNDA,ALNIYAAWAS,341610",50097,"N","N","Yes",103,"None",98]
[5,"A",4728,"2025-04-09","vkp99",null,"vk","vkk","F","2018-10-07",null,null,94,52,"OBC","Muslim",null,"ggg",8140200406,"XXXX8447",null,9828120795,"ALNIYAAWAS,BHERUNDA,ALNIYAAWAS,341611",50098,"N","N","Yes",104,"None",99]
[5,"A",4526,"2025-04-10","vkp100",null,"vk","vkk","F","2018-10-08",null,null,94,52,"OBC","Muslim",null,"ggg",8140200407,"XXXX8448",null,9828120796,"ALNIYAAWAS,BHERUNDA,ALNIYAAWAS,341612",50099,"N","N","Yes",105,"None",100]
[5,"A",5169,"2025-04-11","vkp101",null,"vk","vkk","F","2018-10-09",null,null,94,52,"OBC","Muslim",null,"ggg",8140200408,"XXXX8449",null,9828120797,"ALNIYAAWAS,BHERUNDA,ALNIYAAWAS,341613",50100,"N","N","Yes",106,"None",101]
[5,"A",4711,"2025-04-12","vkp102",null,"vk","vkk","F","2018-10-10",null,null,94,52,"OBC","Muslim",null,"ggg",8140200409,"XXXX8450",null,9828120798,"ALNIYAAWAS,BHERUNDA,ALNIYAAWAS,341614",50101,"N","N","Yes",107,"None",102]
[5,"A",5099,"2025-04-13","vkp103",null,"vk","vkk","F","2018-10-11",null,null,94,52,"OBC","Muslim",null,"ggg",8140200410,"XXXX8451",null,9828120799,"ALNIYAAWAS,BHERUNDA,ALNIYAAWAS,341615",50102,"N","N","Yes",108,"None",103]
[5,"A",5295,"2025-04-14","vkp104",null,"vk","vkk","F","2018-10-12",null,null,94,52,"OBC","Muslim",null,"ggg",8140200411,"XXXX8452",null,9828120800,"ALNIYAAWAS,BHERUNDA,ALNIYAAWAS,341616",50103,"N","N","Yes",109,"None",104]
[5,"A",4948,"2025-04-15","vkp105",null,"vk","vkk","F","2018-10-13",null,null,94,52,"OBC","Muslim",null,"ggg",8140200412,"XXXX8453",null,9828120801,"ALNIYAAWAS,BHERUNDA,ALNIYAAWAS,341617",50104,"N","N","Yes",110,"None",105]
[5,"A",4738,"2025-04-16","vkp106",null,"vk","vkk","F","2018-10-14",null,null,94,52,"OBC","Muslim",null,"ggg",8140200413,"XXXX8454",null,9828120802,"ALNIYAAWAS,BHERUNDA,ALNIYAAWAS,341618",50105,"N","N","Yes",111,"None",106]
[5,"A",4957,"2025-04-17","vkp107",null,"vk","vkk","F","2018-10-15",null,null,94,52,"OBC","Muslim",null,"ggg",8140200414,"XXXX8455",null,9828120803,"ALNIYAAWAS,BHERUNDA,ALNIYAAWAS,341619",50106,"N","N","Yes",112,"None",107]
[5,"A",5313,"2025-04-18","vkp108",null,"vk","vkk","F","2018-10-16",null,null,94,52,"OBC","Muslim",null,"ggg",8140200415,"XXXX8456",null,9828120804,"ALNIYAAWAS,BHERUNDA,ALNIYAAWAS,341620",50107,"N","N","Yes",113,"None",108]
[5,"A",4626,"2025-04-19","vkp109",null,"vk","vkk","F","2018-10-17",null,null,94,52,"OBC","Muslim",null,"ggg",8140200416,"XXXX8457",null,9828120805,"ALNIYAAWAS,BHERUNDA,ALNIYAAWAS,341621",50108,"N","N","Yes",114,"None",109]
[5,"A",5233,"2025-04-20","vkp110",null,"vk","vkk","F","2018-10-18",null,null,94,52,"OBC","Muslim",null,"ggg",8140200417,"XXXX8458",null,9828120806,"ALNIYAAWAS,BHERUNDA,ALNIYAAWAS,341622",50109,"N","N","Yes",115,"None",110]
[5,"A",4694,"2025-04-21","vkp111",null,"vk","vkk","F","2018-10-19",null,null,94,52,"OBC","Muslim",null,"ggg",8140200418,"XXXX8459",null,9828120807,"ALNIYAAWAS,BHERUNDA,ALNIYAAWAS,341623",50110,"N","N","Yes",116,"None",111]
[5,"A",4369,"2025-04-22","vkp112",null,"vk","vkk","F","2018-10-20",null,null,94,52,"OBC","Muslim",null,"ggg",8140200419,"XXXX8460",null,9828120808,"ALNIYAAWAS,BHERUNDA,ALNIYAAWAS,341624",50111,"N","N","Yes",117,"None",112]
[5,"A",4527,"2025-04-23","vkp113",null,"vk","vkk","F","2018-10-21",null,null,94,52,"OBC","Muslim",null,"ggg",8140200420,"XXXX8461",null,9828120809,"ALNIYAAWAS,BHERUNDA,ALNIYAAWAS,341625",50112,"N","N","Yes",118,"None",113]
[5,"A",4698,"2025-04-24","vkp114",null,"vk","vkk","F","2018-10-22",null,null,94,52,"OBC","Muslim",null,"ggg",8140200421,"XXXX8462",null,9828120810,"ALNIYAAWAS,BHERUNDA,ALNIYAAWAS,341626",50113,"N","N","Yes",119,"None",114]
[5,"A",4633,"2025-04-25","vkp115",null,"vk","vkk","F","2018-10-23",null,null,94,52,"OBC","Muslim",null,"ggg",8140200422,"XXXX8463",null,9828120811,"ALNIYAAWAS,BHERUNDA,ALNIYAAWAS,341627",50114,"N","N","Yes",120,"None",115]
[5,"A",4949,"2025-04-26","vkp116",null,"vk","vkk","F","2018-10-24",null,null,94,52,"OBC","Muslim",null,"ggg",8140200423,"XXXX8464",null,9828120812,"ALNIYAAWAS,BHERUNDA,ALNIYAAWAS,341628",50115,"N","N","Yes",121,"None",116]
[6,"A",4522,"2025-04-27","vkp117",null,"vk","vkk","F","2018-10-25",null,null,94,52,"OBC","Muslim",null,"ggg",8140200424,"XXXX8465",null,9828120813,"ALNIYAAWAS,BHERUNDA,ALNIYAAWAS,341629",50116,"N","N","Yes",122,"None",117]
[6,"A",5116,"2025-04-28","vkp118",null,"vk","vkk","F","2018-10-26",null,null,94,52,"OBC","Muslim",null,"ggg",8140200425,"XXXX8466",null,9828120814,"ALNIYAAWAS,BHERUNDA,ALNIYAAWAS,341630",50117,"N","N","Yes",123,"None",118]
[6,"A",5407,"2025-04-29","vkp119",null,"vk","vkk","F","2018-10-27",null,null,94,52,"OBC","Muslim",null,"ggg",8140200426,"XXXX8467",null,9828120815,"ALNIYAAWAS,BHERUNDA,ALNIYAAWAS,341631",50118,"N","N","Yes",124,"None",119]
[6,"A",5395,"2025-04-30","vkp120",null,"vk","vkk","F","2018-10-28",null,null,94,52,"OBC","Muslim",null,"ggg",8140200427,"XXXX8468",null,9828120816,"ALNIYAAWAS,BHERUNDA,ALNIYAAWAS,341632",50119,"N","N","Yes",125,"None",120]
[6,"A",5352,"2025-05-01","vkp121",null,"vk","vkk","F","2018-10-29",null,null,94,52,"OBC","Muslim",null,"ggg",8140200428,"XXXX8469",null,9828120817,"ALNIYAAWAS,BHERUNDA,ALNIYAAWAS,341633",50120,"N","N","Yes",126,"None",121]
[6,"A",5338,"2025-05-02","vkp122",null,"vk","vkk","F","2018-10-30",null,null,94,52,"OBC","Muslim",null,"ggg",8140200429,"XXXX8470",null,9828120818,"ALNIYAAWAS,BHERUNDA,ALNIYAAWAS,341634",50121,"N","N","Yes",127,"None",122]
[6,"A",4499,"2025-05-03","vkp123",null,"vk","vkk","F","2018-10-31",null,null,94,52,"OBC","Muslim",null,"ggg",8140200430,"XXXX8471",null,9828120819,"ALNIYAAWAS,BHERUNDA,ALNIYAAWAS,341635",50122,"N","N","Yes",128,"None",123]
[6,"A",5218,"2025-05-04","vkp124",null,"vk","vkk","F","2018-11-01",null,null,94,52,"OBC","Muslim",null,"ggg",8140200431,"XXXX8472",null,9828120820,"ALNIYAAWAS,BHERUNDA,ALNIYAAWAS,341636",50123,"N","N","Yes",129,"None",124]
[6,"A",5388,"2025-05-05","vkp125",null,"vk","vkk","F","2018-11-02",null,null,94,52,"OBC","Muslim",null,"ggg",8140200432,"XXXX8473",null,9828120821,"ALNIYAAWAS,BHERUNDA,ALNIYAAWAS,341637",50124,"N","N","Yes",130,"None",125]
[6,"A",4565,"2025-05-06","vkp126",null,"vk","vkk","F","2018-11-03",null,null,94,52,"OBC","Muslim",null,"ggg",8140200433,"XXXX8474",null,9828120822,"ALNIYAAWAS,BHERUNDA,ALNIYAAWAS,341638",50125,"N","N","Yes",131,"None",126]
[6,"A",4474,"2025-05-07","vkp127",null,"vk","vkk","F","2018-11-04",null,null,94,52,"OBC","Muslim",null,"ggg",8140200434,"XXXX8475",null,9828120823,"ALNIYAAWAS,BHERUNDA,ALNIYAAWAS,341639",50126,"N","N","Yes",132,"None",127]
[6,"A",4478,"2025-05-08","vkp128",null,"vk","vkk","F","2018-11-05",null,null,94,52,"OBC","Muslim",null,"ggg",8140200435,"XXXX8476",null,9828120824,"ALNIYAAWAS,BHERUNDA,ALNIYAAWAS,341640",50127,"N","N","Yes",133,"None",128]
[6,"A",5355,"2025-05-09","vkp129",null,"vk","vkk","F","2018-11-06",null,null,94,52,"OBC","Muslim",null,"ggg",8140200436,"XXXX8477",null,9828120825,"ALNIYAAWAS,BHERUNDA,ALNIYAAWAS,341641",50128,"N","N","Yes",134,"None",129]
[6,"A",5341,"2025-05-10","vkp130",null,"vk","vkk","F","2018-11-07",null,null,94,52,"OBC","Muslim",null,"ggg",8140200437,"XXXX8478",null,9828120826,"ALNIYAAWAS,BHERUNDA,ALNIYAAWAS,341642",50129,"N","N","Yes",135,"None",130]
[6,"A",4727,"2025-05-11","vkp131",null,"vk","vkk","F","2018-11-08",null,null,94,52,"OBC","Muslim",null,"ggg",8140200438,"XXXX8479",null,9828120827,"ALNIYAAWAS,BHERUNDA,ALNIYAAWAS,341643",50130,"N","N","Yes",136,"None",131]
[6,"A",4521,"2025-05-12","vkp132",null,"vk","vkk","F","2018-11-09",null,null,94,52,"OBC","Muslim",null,"ggg",8140200439,"XXXX8480",null,9828120828,"ALNIYAAWAS,BHERUNDA,ALNIYAAWAS,341644",50131,"N","N","Yes",137,"None",132]
[6,"A",4473,"2025-05-13","vkp133",null,"vk","vkk","F","2018-11-10",null,null,94,52,"OBC","Muslim",null,"ggg",8140200440,"XXXX8481",null,9828120829,"ALNIYAAWAS,BHERUNDA,ALNIYAAWAS,341645",50132,"N","N","Yes",138,"None",133]
[6,"A",4475,"2025-05-14","vkp134",null,"vk","vkk","F","2018-11-11",null,null,94,52,"OBC","Muslim",null,"ggg",8140200441,"XXXX8482",null,9828120830,"ALNIYAAWAS,BHERUNDA,ALNIYAAWAS,341646",50133,"N","N","Yes",139,"None",134]
[6,"A",5452,"2025-05-15","vkp135",null,"vk","vkk","F","2018-11-12",null,null,94,52,"OBC","Muslim",null,"ggg",8140200442,"XXXX8483",null,9828120831,"ALNIYAAWAS,BHERUNDA,ALNIYAAWAS,341647",50134,"N","N","Yes",140,"None",135]
[6,"A",5339,"2025-05-16","vkp136",null,"vk","vkk","F","2018-11-13",null,null,94,52,"OBC","Muslim",null,"ggg",8140200443,"XXXX8484",null,9828120832,"ALNIYAAWAS,BHERUNDA,ALNIYAAWAS,341648",50135,"N","N","Yes",141,"None",136]
[6,"A",4497,"2025-05-17","vkp137",null,"vk","vkk","F","2018-11-14",null,null,94,52,"OBC","Muslim",null,"ggg",8140200444,"XXXX8485",null,9828120833,"ALNIYAAWAS,BHERUNDA,ALNIYAAWAS,341649",50136,"N","N","Yes",142,"None",137]
[6,"A",5373,"2025-05-18","vkp138",null,"vk","vkk","F","2018-11-15",null,null,94,52,"OBC","Muslim",null,"ggg",8140200445,"XXXX8486",null,9828120834,"ALNIYAAWAS,BHERUNDA,ALNIYAAWAS,341650",50137,"N","N","Yes",143,"None",138]
[6,"A",4700,"2025-05-19","vkp139",null,"vk","vkk","F","2018-11-16",null,null,94,52,"OBC","Muslim",null,"ggg",8140200446,"XXXX8487",null,9828120835,"ALNIYAAWAS,BHERUNDA,ALNIYAAWAS,341651",50138,"N","N","Yes",144,"None",139]
[6,"A",4691,"2025-05-20","vkp140",null,"vk","vkk","F","2018-11-17",null,null,94,52,"OBC","Muslim",null,"ggg",8140200447,"XXXX8488",null,9828120836,"ALNIYAAWAS,BHERUNDA,ALNIYAAWAS,341652",50139,"N","N","Yes",145,"None",140]
[6,"A",5340,"2025-05-21","vkp141",null,"vk","vkk","F","2018-11-18",null,null,94,52,"OBC","Muslim",null,"ggg",8140200448,"XXXX8489",null,9828120837,"ALNIYAAWAS,BHERUNDA,ALNIYAAWAS,341653",50140,"N","N","Yes",146,"None",141]
[6,"A",5386,"2025-05-22","vkp142",null,"vk","vkk","F","2018-11-19",null,null,94,52,"OBC","Muslim",null,"ggg",8140200449,"XXXX8490",null,9828120838,"ALNIYAAWAS,BHERUNDA,ALNIYAAWAS,341654",50141,"N","N","Yes",147,"None",142]
[6,"A",4621,"2025-05-23","vkp143",null,"vk","vkk","F","2018-11-20",null,null,94,52,"OBC","Muslim",null,"ggg",8140200450,"XXXX8491",null,9828120839,"ALNIYAAWAS,BHERUNDA,ALNIYAAWAS,341655",50142,"N","N","Yes",148,"None",143]
[6,"A",5261,"2025-05-24","vkp144",null,"vk","vkk","F","2018-11-21",null,null,94,52,"OBC","Muslim",null,"ggg",8140200451,"XXXX8492",null,9828120840,"ALNIYAAWAS,BHERUNDA,ALNIYAAWAS,341656",50143,"N","N","Yes",149,"None",144]
[6,"A",4750,"2025-05-25","vkp145",null,"vk","vkk","F","2018-11-22",null,null,94,52,"OBC","Muslim",null,"ggg",8140200452,"XXXX8493",null,9828120841,"ALNIYAAWAS,BHERUNDA,ALNIYAAWAS,341657",50144,"N","N","Yes",150,"None",145]
[6,"A",4477,"2025-05-26","vkp146",null,"vk","vkk","F","2018-11-23",null,null,94,52,"OBC","Muslim",null,"ggg",8140200453,"XXXX8494",null,9828120842,"ALNIYAAWAS,BHERUNDA,ALNIYAAWAS,341658",50145,"N","N","Yes",151,"None",146]
[6,"A",5300,"2025-05-27","vkp147",null,"vk","vkk","F","2018-11-24",null,null,94,52,"OBC","Muslim",null,"ggg",8140200454,"XXXX8495",null,9828120843,"ALNIYAAWAS,BHERUNDA,ALNIYAAWAS,341659",50146,"N","N","Yes",152,"None",147]
[6,"A",5171,"2025-05-28","vkp148",null,"vk","vkk","F","2018-11-25",null,null,94,52,"OBC","Muslim",null,"ggg",8140200455,"XXXX8496",null,9828120844,"ALNIYAAWAS,BHERUNDA,ALNIYAAWAS,341660",50147,"N","N","Yes",153,"None",148]
[7,"A",5397,"2025-05-29","vkp149",null,"vk","vkk","F","2018-11-26",null,null,94,52,"OBC","Muslim",null,"ggg",8140200456,"XXXX8497",null,9828120845,"ALNIYAAWAS,BHERUNDA,ALNIYAAWAS,341661",50148,"N","N","Yes",154,"None",149]
[7,"A",4367,"2025-05-30","vkp150",null,"vk","vkk","F","2018-11-27",null,null,94,52,"OBC","Muslim",null,"ggg",8140200457,"XXXX8498",null,9828120846,"ALNIYAAWAS,BHERUNDA,ALNIYAAWAS,341662",50149,"N","N","Yes",155,"None",150]
[7,"A",4277,"2025-05-31","vkp151",null,"vk","vkk","F","2018-11-28",null,null,94,52,"OBC","Muslim",null,"ggg",8140200458,"XXXX8499",null,9828120847,"ALNIYAAWAS,BHERUNDA,ALNIYAAWAS,341663",50150,"N","N","Yes",156,"None",151]
[7,"A",4370,"2025-06-01","vkp152",null,"vk","vkk","F","2018-11-29",null,null,94,52,"OBC","Muslim",null,"ggg",8140200459,"XXXX8500",null,9828120848,"ALNIYAAWAS,BHERUNDA,ALNIYAAWAS,341664",50151,"N","N","Yes",157,"None",152]
[7,"A",5281,"2025-06-02","vkp153",null,"vk","vkk","F","2018-11-30",null,null,94,52,"OBC","Muslim",null,"ggg",8140200460,"XXXX8501",null,9828120849,"ALNIYAAWAS,BHERUNDA,ALNIYAAWAS,341665",50152,"N","N","Yes",158,"None",153]
[7,"A",4673,"2025-06-03","vkp154",null,"vk","vkk","F","2018-12-01",null,null,94,52,"OBC","Muslim",null,"ggg",8140200461,"XXXX8502",null,9828120850,"ALNIYAAWAS,BHERUNDA,ALNIYAAWAS,341666",50153,"N","N","Yes",159,"None",154]
[7,"A",4431,"2025-06-04","vkp155",null,"vk","vkk","F","2018-12-02",null,null,94,52,"OBC","Muslim",null,"ggg",8140200462,"XXXX8503",null,9828120851,"ALNIYAAWAS,BHERUNDA,ALNIYAAWAS,341667",50154,"N","N","Yes",160,"None",155]
[7,"A",4433,"2025-06-05","vkp156",null,"vk","vkk","F","2018-12-03",null,null,94,52,"OBC","Muslim",null,"ggg",8140200463,"XXXX8504",null,9828120852,"ALNIYAAWAS,BHERUNDA,ALNIYAAWAS,341668",50155,"N","N","Yes",161,"None",156]
[7,"A",5232,"2025-06-06","vkp157",null,"vk","vkk","F","2018-12-04",null,null,94,52,"OBC","Muslim",null,"ggg",8140200464,"XXXX8505",null,9828120853,"ALNIYAAWAS,BHERUNDA,ALNIYAAWAS,341669",50156,"N","N","Yes",162,"None",157]
[7,"A",5231,"2025-06-07","vkp158",null,"vk","vkk","F","2018-12-05",null,null,94,52,"OBC","Muslim",null,"ggg",8140200465,"XXXX8506",null,9828120854,"ALNIYAAWAS,BHERUNDA,ALNIYAAWAS,341670",50157,"N","N","Yes",163,"None",158]
[7,"A",5118,"2025-06-08","vkp159",null,"vk","vkk","F","2018-12-06",null,null,94,52,"OBC","Muslim",null,"ggg",8140200466,"XXXX8507",null,9828120855,"ALNIYAAWAS,BHERUNDA,ALNIYAAWAS,341671",50158,"N","N","Yes",164,"None",159]
[7,"A",5293,"2025-06-09","vkp160",null,"vk","vkk","F","2018-12-07",null,null,94,52,"OBC","Muslim",null,"ggg",8140200467,"XXXX8508",null,9828120856,"ALNIYAAWAS,BHERUNDA,ALNIYAAWAS,341672",50159,"N","N","Yes",165,"None",160]
[7,"A",5115,"2025-06-10","vkp161",null,"vk","vkk","F","2018-12-08",null,null,94,52,"OBC","Muslim",null,"ggg",8140200468,"XXXX8509",null,9828120857,"ALNIYAAWAS,BHERUNDA,ALNIYAAWAS,341673",50160,"N","N","Yes",166,"None",161]
[7,"A",5413,"2025-06-11","vkp162",null,"vk","vkk","F","2018-12-09",null,null,94,52,"OBC","Muslim",null,"ggg",8140200469,"XXXX8510",null,9828120858,"ALNIYAAWAS,BHERUNDA,ALNIYAAWAS,341674",50161,"N","N","Yes",167,"None",162]
[7,"A",4857,"2025-06-12","vkp163",null,"vk","vkk","F","2018-12-10",null,null,94,52,"OBC","Muslim",null,"ggg",8140200470,"XXXX8511",null,9828120859,"ALNIYAAWAS,BHERUNDA,ALNIYAAWAS,341675",50162,"N","N","Yes",168,"None",163]
[7,"A",5230,"2025-06-13","vkp164",null,"vk","vkk","F","2018-12-11",null,null,94,52,"OBC","Muslim",null,"ggg",8140200471,"XXXX8512",null,9828120860,"ALNIYAAWAS,BHERUNDA,ALNIYAAWAS,341676",50163,"N","N","Yes",169,"None",164]
[7,"A",4371,"2025-06-14","vkp165",null,"vk","vkk","F","2018-12-12",null,null,94,52,"OBC","Muslim",null,"ggg",8140200472,"XXXX8513",null,9828120861,"ALNIYAAWAS,BHERUNDA,ALNIYAAWAS,341677",50164,"N","N","Yes",170,"None",165]
[7,"A",5402,"2025-06-15","vkp166",null,"vk","vkk","F","2018-12-13",null,null,94,52,"OBC","Muslim",null,"ggg",8140200473,"XXXX8514",null,9828120862,"ALNIYAAWAS,BHERUNDA,ALNIYAAWAS,341678",50165,"N","N","Yes",171,"None",166]
[7,"A",4955,"2025-06-16","vkp167",null,"vk","vkk","F","2018-12-14",null,null,94,52,"OBC","Muslim",null,"ggg",8140200474,"XXXX8515",null,9828120863,"ALNIYAAWAS,BHERUNDA,ALNIYAAWAS,341679",50166,"N","N","Yes",172,"None",167]
[7,"A",5375,"2025-06-17","vkp168",null,"vk","vkk","F","2018-12-15",null,null,94,52,"OBC","Muslim",null,"ggg",8140200475,"XXXX8516",null,9828120864,"ALNIYAAWAS,BHERUNDA,ALNIYAAWAS,341680",50167,"N","N","Yes",173,"None",168]
[7,"A",5269,"2025-06-18","vkp169",null,"vk","vkk","F","2018-12-16",null,null,94,52,"OBC","Muslim",null,"ggg",8140200476,"XXXX8517",null,9828120865,"ALNIYAAWAS,BHERUNDA,ALNIYAAWAS,341681",50168,"N","N","Yes",174,"None",169]
[7,"A",5214,"2025-06-19","vkp170",null,"vk","vkk","F","2018-12-17",null,null,94,52,"OBC","Muslim",null,"ggg",8140200477,"XXXX8518",null,9828120866,"ALNIYAAWAS,BHERUNDA,ALNIYAAWAS,341682",50169,"N","N","Yes",175,"None",170]
[7,"A",5403,"2025-06-20","vkp171",null,"vk","vkk","F","2018-12-18",null,null,94,52,"OBC","Muslim",null,"ggg",8140200478,"XXXX8519",null,9828120867,"ALNIYAAWAS,BHERUNDA,ALNIYAAWAS,341683",50170,"N","N","Yes",176,"None",171]
[7,"A",5357,"2025-06-21","vkp172",null,"vk","vkk","F","2018-12-19",null,null,94,52,"OBC","Muslim",null,"ggg",8140200479,"XXXX8520",null,9828120868,"ALNIYAAWAS,BHERUNDA,ALNIYAAWAS,341684",50171,"N","N","Yes",177,"None",172]
[7,"A",4324,"2025-06-22","vkp173",null,"vk","vkk","F","2018-12-20",null,null,94,52,"OBC","Muslim",null,"ggg",8140200480,"XXXX8521",null,9828120869,"ALNIYAAWAS,BHERUNDA,ALNIYAAWAS,341685",50172,"N","N","Yes",178,"None",173]
[7,"A",5023,"2025-06-23","vkp174",null,"vk","vkk","F","2018-12-21",null,null,94,52,"OBC","Muslim",null,"ggg",8140200481,"XXXX8522",null,9828120870,"ALNIYAAWAS,BHERUNDA,ALNIYAAWAS,341686",50173,"N","N","Yes",179,"None",174]
[7,"A",4435,"2025-06-24","vkp175",null,"vk","vkk","F","2018-12-22",null,null,94,52,"OBC","Muslim",null,"ggg",8140200482,"XXXX8523",null,9828120871,"ALNIYAAWAS,BHERUNDA,ALNIYAAWAS,341687",50174,"N","N","Yes",180,"None",175]
[7,"A",4434,"2025-06-25","vkp176",null,"vk","vkk","F","2018-12-23",null,null,94,52,"OBC","Muslim",null,"ggg",8140200483,"XXXX8524",null,9828120872,"ALNIYAAWAS,BHERUNDA,ALNIYAAWAS,341688",50175,"N","N","Yes",181,"None",176]
[7,"A",5248,"2025-06-26","vkp177",null,"vk","vkk","F","2018-12-24",null,null,94,52,"OBC","Muslim",null,"ggg",8140200484,"XXXX8525",null,9828120873,"ALNIYAAWAS,BHERUNDA,ALNIYAAWAS,341689",50176,"N","N","Yes",182,"None",177]
[7,"A",4436,"2025-06-27","vkp178",null,"vk","vkk","F","2018-12-25",null,null,94,52,"OBC","Muslim",null,"ggg",8140200485,"XXXX8526",null,9828120874,"ALNIYAAWAS,BHERUNDA,ALNIYAAWAS,341690",50177,"N","N","Yes",183,"None",178]
[7,"A",5288,"2025-06-28","vkp179",null,"vk","vkk","F","2018-12-26",null,null,94,52,"OBC","Muslim",null,"ggg",8140200486,"XXXX8527",null,9828120875,"ALNIYAAWAS,BHERUNDA,ALNIYAAWAS,341691",50178,"N","N","Yes",184,"None",179]
[7,"A",4940,"2025-06-29","vkp180",null,"vk","vkk","F","2018-12-27",null,null,94,52,"OBC","Muslim",null,"ggg",8140200487,"XXXX8528",null,9828120876,"ALNIYAAWAS,BHERUNDA,ALNIYAAWAS,341692",50179,"N","N","Yes",185,"None",180]
[7,"A",5243,"2025-06-30","vkp181",null,"vk","vkk","F","2018-12-28",null,null,94,52,"OBC","Muslim",null,"ggg",8140200488,"XXXX8529",null,9828120877,"ALNIYAAWAS,BHERUNDA,ALNIYAAWAS,341693",50180,"N","N","Yes",186,"None",181]
[7,"A",4307,"2025-07-01","vkp182",null,"vk","vkk","F","2018-12-29",null,null,94,52,"OBC","Muslim",null,"ggg",8140200489,"XXXX8530",null,9828120878,"ALNIYAAWAS,BHERUNDA,ALNIYAAWAS,341694",50181,"N","N","Yes",187,"None",182]
[7,"A",5342,"2025-07-02","vkp183",null,"vk","vkk","F","2018-12-30",null,null,94,52,"OBC","Muslim",null,"ggg",8140200490,"XXXX8531",null,9828120879,"ALNIYAAWAS,BHERUNDA,ALNIYAAWAS,341695",50182,"N","N","Yes",188,"None",183]
[7,"A",4956,"2025-07-03","vkp184",null,"vk","vkk","F","2018-12-31",null,null,94,52,"OBC","Muslim",null,"ggg",8140200491,"XXXX8532",null,9828120880,"ALNIYAAWAS,BHERUNDA,ALNIYAAWAS,341696",50183,"N","N","Yes",189,"None",184]
[7,"A",5385,"2025-07-04","vkp185",null,"vk","vkk","F","2019-01-01",null,null,94,52,"OBC","Muslim",null,"ggg",8140200492,"XXXX8533",null,9828120881,"ALNIYAAWAS,BHERUNDA,ALNIYAAWAS,341697",50184,"N","N","Yes",190,"None",185]
[8,"A",5131,"2025-07-05","vkp186",null,"vk","vkk","F","2019-01-02",null,null,94,52,"OBC","Muslim",null,"ggg",8140200493,"XXXX8534",null,9828120882,"ALNIYAAWAS,BHERUNDA,ALNIYAAWAS,341698",50185,"N","N","Yes",191,"None",186]
[8,"A",5132,"2025-07-06","vkp187",null,"vk","vkk","F","2019-01-03",null,null,94,52,"OBC","Muslim",null,"ggg",8140200494,"XXXX8535",null,9828120883,"ALNIYAAWAS,BHERUNDA,ALNIYAAWAS,341699",50186,"N","N","Yes",192,"None",187]
[8,"A",4290,"2025-07-07","vkp188",null,"vk","vkk","F","2019-01-04",null,null,94,52,"OBC","Muslim",null,"ggg",8140200495,"XXXX8536",null,9828120884,"ALNIYAAWAS,BHERUNDA,ALNIYAAWAS,341700",50187,"N","N","Yes",193,"None",188]
[8,"A",4246,"2025-07-08","vkp189",null,"vk","vkk","F","2019-01-05",null,null,94,52,"OBC","Muslim",null,"ggg",8140200496,"XXXX8537",null,9828120885,"ALNIYAAWAS,BHERUNDA,ALNIYAAWAS,341701",50188,"N","N","Yes",194,"None",189]
[8,"A",4740,"2025-07-09","vkp190",null,"vk","vkk","F","2019-01-06",null,null,94,52,"OBC","Muslim",null,"ggg",8140200497,"XXXX8538",null,9828120886,"ALNIYAAWAS,BHERUNDA,ALNIYAAWAS,341702",50189,"N","N","Yes",195,"None",190]
[8,"A",4193,"2025-07-10","vkp191",null,"vk","vkk","F","2019-01-07",null,null,94,52,"OBC","Muslim",null,"ggg",8140200498,"XXXX8539",null,9828120887,"ALNIYAAWAS,BHERUNDA,ALNIYAAWAS,341703",50190,"N","N","Yes",196,"None",191]
[8,"A",5301,"2025-07-11","vkp192",null,"vk","vkk","F","2019-01-08",null,null,94,52,"OBC","Muslim",null,"ggg",8140200499,"XXXX8540",null,9828120888,"ALNIYAAWAS,BHERUNDA,ALNIYAAWAS,341704",50191,"N","N","Yes",197,"None",192]
[8,"A",5085,"2025-07-12","vkp193",null,"vk","vkk","F","2019-01-09",null,null,94,52,"OBC","Muslim",null,"ggg",8140200500,"XXXX8541",null,9828120889,"ALNIYAAWAS,BHERUNDA,ALNIYAAWAS,341705",50192,"N","N","Yes",198,"None",193]
[8,"A",4109,"2025-07-13","vkp194",null,"vk","vkk","F","2019-01-10",null,null,94,52,"OBC","Muslim",null,"ggg",8140200501,"XXXX8542",null,9828120890,"ALNIYAAWAS,BHERUNDA,ALNIYAAWAS,341706",50193,"N","N","Yes",199,"None",194]
[8,"A",4943,"2025-07-14","vkp195",null,"vk","vkk","F","2019-01-11",null,null,94,52,"OBC","Muslim",null,"ggg",8140200502,"XXXX8543",null,9828120891,"ALNIYAAWAS,BHERUNDA,ALNIYAAWAS,341707",50194,"N","N","Yes",200,"None",195]
[8,"A",4975,"2025-07-15","vkp196",null,"vk","vkk","F","2019-01-12",null,null,94,52,"OBC","Muslim",null,"ggg",8140200503,"XXXX8544",null,9828120892,"ALNIYAAWAS,BHERUNDA,ALNIYAAWAS,341708",50195,"N","N","Yes",201,"None",196]
[8,"A",5438,"2025-07-16","vkp197",null,"vk","vkk","F","2019-01-13",null,null,94,52,"OBC","Muslim",null,"ggg",8140200504,"XXXX8545",null,9828120893,"ALNIYAAWAS,BHERUNDA,ALNIYAAWAS,341709",50196,"N","N","Yes",202,"None",197]
[8,"A",5228,"2025-07-17","vkp198",null,"vk","vkk","F","2019-01-14",null,null,94,52,"OBC","Muslim",null,"ggg",8140200505,"XXXX8546",null,9828120894,"ALNIYAAWAS,BHERUNDA,ALNIYAAWAS,341710",50197,"N","N","Yes",203,"None",198]
[8,"A",4167,"2025-07-18","vkp199",null,"vk","vkk","F","2019-01-15",null,null,94,52,"OBC","Muslim",null,"ggg",8140200506,"XXXX8547",null,9828120895,"ALNIYAAWAS,BHERUNDA,ALNIYAAWAS,341711",50198,"N","N","Yes",204,"None",199]
[8,"A",4589,"2025-07-19","vkp200",null,"vk","vkk","F","2019-01-16",null,null,94,52,"OBC","Muslim",null,"ggg",8140200507,"XXXX8548",null,9828120896,"ALNIYAAWAS,BHERUNDA,ALNIYAAWAS,341712",50199,"N","N","Yes",205,"None",200]
[8,"A",4122,"2025-07-20","vkp201",null,"vk","vkk","F","2019-01-17",null,null,94,52,"OBC","Muslim",null,"ggg",8140200508,"XXXX8549",null,9828120897,"ALNIYAAWAS,BHERUNDA,ALNIYAAWAS,341713",50200,"N","N","Yes",206,"None",201]
[8,"A",4903,"2025-07-21","vkp202",null,"vk","vkk","F","2019-01-18",null,null,94,52,"OBC","Muslim",null,"ggg",8140200509,"XXXX8550",null,9828120898,"ALNIYAAWAS,BHERUNDA,ALNIYAAWAS,341714",50201,"N","N","Yes",207,"None",202]
[8,"A",4110,"2025-07-22","vkp203",null,"vk","vkk","F","2019-01-19",null,null,94,52,"OBC","Muslim",null,"ggg",8140200510,"XXXX8551",null,9828120899,"ALNIYAAWAS,BHERUNDA,ALNIYAAWAS,341715",50202,"N","N","Yes",208,"None",203]
[8,"A",4674,"2025-07-23","vkp204",null,"vk","vkk","F","2019-01-20",null,null,94,52,"OBC","Muslim",null,"ggg",8140200511,"XXXX8552",null,9828120900,"ALNIYAAWAS,BHERUNDA,ALNIYAAWAS,341716",50203,"N","N","Yes",209,"None",204]
[8,"A",4117,"2025-07-24","vkp205",null,"vk","vkk","F","2019-01-21",null,null,94,52,"OBC","Muslim",null,"ggg",8140200512,"XXXX8553",null,9828120901,"ALNIYAAWAS,BHERUNDA,ALNIYAAWAS,341717",50204,"N","N","Yes",210,"None",205]
[8,"A",5208,"2025-07-25","vkp206",null,"vk","vkk","F","2019-01-22",null,null,94,52,"OBC","Muslim",null,"ggg",8140200513,"XXXX8554",null,9828120902,"ALNIYAAWAS,BHERUNDA,ALNIYAAWAS,341718",50205,"N","N","Yes",211,"None",206]
[8,"A",5121,"2025-07-26","vkp207",null,"vk","vkk","F","2019-01-23",null,null,94,52,"OBC","Muslim",null,"ggg",8140200514,"XXXX8555",null,9828120903,"ALNIYAAWAS,BHERUNDA,ALNIYAAWAS,341719",50206,"N","N","Yes",212,"None",207]
[8,"A",5052,"2025-07-27","vkp208",null,"vk","vkk","F","2019-01-24",null,null,94,52,"OBC","Muslim",null,"ggg",8140200515,"XXXX8556",null,9828120904,"ALNIYAAWAS,BHERUNDA,ALNIYAAWAS,341720",50207,"N","N","Yes",213,"None",208]
[8,"A",4722,"2025-07-28","vkp209",null,"vk","vkk","F","2019-01-25",null,null,94,52,"OBC","Muslim",null,"ggg",8140200516,"XXXX8557",null,9828120905,"ALNIYAAWAS,BHERUNDA,ALNIYAAWAS,341721",50208,"N","N","Yes",214,"None",209]
[8,"A",4742,"2025-07-29","vkp210",null,"vk","vkk","F","2019-01-26",null,null,94,52,"OBC","Muslim",null,"ggg",8140200517,"XXXX8558",null,9828120906,"ALNIYAAWAS,BHERUNDA,ALNIYAAWAS,341722",50209,"N","N","Yes",215,"None",210]
[8,"A",5089,"2025-07-30","vkp211",null,"vk","vkk","F","2019-01-27",null,null,94,52,"OBC","Muslim",null,"ggg",8140200518,"XXXX8559",null,9828120907,"ALNIYAAWAS,BHERUNDA,ALNIYAAWAS,341723",50210,"N","N","Yes",216,"None",211]
[8,"A",5380,"2025-07-31","vkp212",null,"vk","vkk","F","2019-01-28",null,null,94,52,"OBC","Muslim",null,"ggg",8140200519,"XXXX8560",null,9828120908,"ALNIYAAWAS,BHERUNDA,ALNIYAAWAS,341724",50211,"N","N","Yes",217,"None",212]
[8,"A",4878,"2025-08-01","vkp213",null,"vk","vkk","F","2019-01-29",null,null,94,52,"OBC","Muslim",null,"ggg",8140200520,"XXXX8561",null,9828120909,"ALNIYAAWAS,BHERUNDA,ALNIYAAWAS,341725",50212,"N","N","Yes",218,"None",213]
[8,"A",4258,"2025-08-02","vkp214",null,"vk","vkk","F","2019-01-30",null,null,94,52,"OBC","Muslim",null,"ggg",8140200521,"XXXX8562",null,9828120910,"ALNIYAAWAS,BHERUNDA,ALNIYAAWAS,341726",50213,"N","N","Yes",219,"None",214]
[8,"A",4245,"2025-08-03","vkp215",null,"vk","vkk","F","2019-01-31",null,null,94,52,"OBC","Muslim",null,"ggg",8140200522,"XXXX8563",null,9828120911,"ALNIYAAWAS,BHERUNDA,ALNIYAAWAS,341727",50214,"N","N","Yes",220,"None",215]
[8,"A",4100,"2025-08-04","vkp216",null,"vk","vkk","F","2019-02-01",null,null,94,52,"OBC","Muslim",null,"ggg",8140200523,"XXXX8564",null,9828120912,"ALNIYAAWAS,BHERUNDA,ALNIYAAWAS,341728",50215,"N","N","Yes",221,"None",216]
[8,"A",4206,"2025-08-05","vkp217",null,"vk","vkk","F","2019-02-02",null,null,94,52,"OBC","Muslim",null,"ggg",8140200524,"XXXX8565",null,9828120913,"ALNIYAAWAS,BHERUNDA,ALNIYAAWAS,341729",50216,"N","N","Yes",222,"None",217]
[8,"A",5032,"2025-08-06","vkp218",null,"vk","vkk","F","2019-02-03",null,null,94,52,"OBC","Muslim",null,"ggg",8140200525,"XXXX8566",null,9828120914,"ALNIYAAWAS,BHERUNDA,ALNIYAAWAS,341730",50217,"N","N","Yes",223,"None",218]
[8,"A",5424,"2025-08-07","vkp219",null,"vk","vkk","F","2019-02-04",null,null,94,52,"OBC","Muslim",null,"ggg",8140200526,"XXXX8567",null,9828120915,"ALNIYAAWAS,BHERUNDA,ALNIYAAWAS,341731",50218,"N","N","Yes",224,"None",219]
[8,"A",5020,"2025-08-08","vkp220",null,"vk","vkk","F","2019-02-05",null,null,94,52,"OBC","Muslim",null,"ggg",8140200527,"XXXX8568",null,9828120916,"ALNIYAAWAS,BHERUNDA,ALNIYAAWAS,341732",50219,"N","N","Yes",225,"None",220]
[8,"A",5393,"2025-08-09","vkp221",null,"vk","vkk","F","2019-02-06",null,null,94,52,"OBC","Muslim",null,"ggg",8140200528,"XXXX8569",null,9828120917,"ALNIYAAWAS,BHERUNDA,ALNIYAAWAS,341733",50220,"N","N","Yes",226,"None",221]
[8,"A",5270,"2025-08-10","vkp222",null,"vk","vkk","F","2019-02-07",null,null,94,52,"OBC","Muslim",null,"ggg",8140200529,"XXXX8570",null,9828120918,"ALNIYAAWAS,BHERUNDA,ALNIYAAWAS,341734",50221,"N","N","Yes",227,"None",222]
[8,"A",4959,"2025-08-11","vkp223",null,"vk","vkk","F","2019-02-08",null,null,94,52,"OBC","Muslim",null,"ggg",8140200530,"XXXX8571",null,9828120919,"ALNIYAAWAS,BHERUNDA,ALNIYAAWAS,341735",50222,"N","N","Yes",228,"None",223]
[8,"A",4964,"2025-08-12","vkp224",null,"vk","vkk","F","2019-02-09",null,null,94,52,"OBC","Muslim",null,"ggg",8140200531,"XXXX8572",null,9828120920,"ALNIYAAWAS,BHERUNDA,ALNIYAAWAS,341736",50223,"N","N","Yes",229,"None",224]
[8,"A",4254,"2025-08-13","vkp225",null,"vk","vkk","F","2019-02-10",null,null,94,52,"OBC","Muslim",null,"ggg",8140200532,"XXXX8573",null,9828120921,"ALNIYAAWAS,BHERUNDA,ALNIYAAWAS,341737",50224,"N","N","Yes",230,"None",225]
[8,"A",4101,"2025-08-14","vkp226",null,"vk","vkk","F","2019-02-11",null,null,94,52,"OBC","Muslim",null,"ggg",8140200533,"XXXX8574",null,9828120922,"ALNIYAAWAS,BHERUNDA,ALNIYAAWAS,341738",50225,"N","N","Yes",231,"None",226]
[8,"A",5027,"2025-08-15","vkp227",null,"vk","vkk","F","2019-02-12",null,null,94,52,"OBC","Muslim",null,"ggg",8140200534,"XXXX8575",null,9828120923,"ALNIYAAWAS,BHERUNDA,ALNIYAAWAS,341739",50226,"N","N","Yes",232,"None",227]
[8,"A",4926,"2025-08-16","vkp228",null,"vk","vkk","F","2019-02-13",null,null,94,52,"OBC","Muslim",null,"ggg",8140200535,"XXXX8576",null,9828120924,"ALNIYAAWAS,BHERUNDA,ALNIYAAWAS,341740",50227,"N","N","Yes",233,"None",228]
[8,"A",4256,"2025-08-17","vkp229",null,"vk","vkk","F","2019-02-14",null,null,94,52,"OBC","Muslim",null,"ggg",8140200536,"XXXX8577",null,9828120925,"ALNIYAAWAS,BHERUNDA,ALNIYAAWAS,341741",50228,"N","N","Yes",234,"None",229]
[8,"A",4960,"2025-08-18","vkp230",null,"vk","vkk","F","2019-02-15",null,null,94,52,"OBC","Muslim",null,"ggg",8140200537,"XXXX8578",null,9828120926,"ALNIYAAWAS,BHERUNDA,ALNIYAAWAS,341742",50229,"N","N","Yes",235,"None",230]
[8,"A",4102,"2025-08-19","vkp231",null,"vk","vkk","F","2019-02-16",null,null,94,52,"OBC","Muslim",null,"ggg",8140200538,"XXXX8579",null,9828120927,"ALNIYAAWAS,BHERUNDA,ALNIYAAWAS,341743",50230,"N","N","Yes",236,"None",231]
[8,"A",5229,"2025-08-20","vkp232",null,"vk","vkk","F","2019-02-17",null,null,94,52,"OBC","Muslim",null,"ggg",8140200539,"XXXX8580",null,9828120928,"ALNIYAAWAS,BHERUNDA,ALNIYAAWAS,341744",50231,"N","N","Yes",237,"None",232]
[8,"A",5330,"2025-08-21","vkp233",null,"vk","vkk","F","2019-02-18",null,null,94,52,"OBC","Muslim",null,"ggg",8140200540,"XXXX8581",null,9828120929,"ALNIYAAWAS,BHERUNDA,ALNIYAAWAS,341745",50232,"N","N","Yes",238,"None",233]
[8,"A",5266,"2025-08-22","vkp234",null,"vk","vkk","F","2019-02-19",null,null,94,52,"OBC","Muslim",null,"ggg",8140200541,"XXXX8582",null,9828120930,"ALNIYAAWAS,BHERUNDA,ALNIYAAWAS,341746",50233,"N","N","Yes",239,"None",234]
[8,"A",4501,"2025-08-23","vkp235",null,"vk","vkk","F","2019-02-20",null,null,94,52,"OBC","Muslim",null,"ggg",8140200542,"XXXX8583",null,9828120931,"ALNIYAAWAS,BHERUNDA,ALNIYAAWAS,341747",50234,"N","N","Yes",240,"None",235]
[8,"A",5130,"2025-08-24","vkp236",null,"vk","vkk","F","2019-02-21",null,null,94,52,"OBC","Muslim",null,"ggg",8140200543,"XXXX8584",null,9828120932,"ALNIYAAWAS,BHERUNDA,ALNIYAAWAS,341748",50235,"N","N","Yes",241,"None",236]
[8,"A",4990,"2025-08-25","vkp237",null,"vk","vkk","F","2019-02-22",null,null,94,52,"OBC","Muslim",null,"ggg",8140200544,"XXXX8585",null,9828120933,"ALNIYAAWAS,BHERUNDA,ALNIYAAWAS,341749",50236,"N","N","Yes",242,"None",237]
[9,"A",4714,"2025-08-26","vkp238",null,"vk","vkk","F","2019-02-23",null,null,94,52,"OBC","Muslim",null,"ggg",8140200545,"XXXX8586",null,9828120934,"ALNIYAAWAS,BHERUNDA,ALNIYAAWAS,341750",50237,"N","N","Yes",243,"None",238]
[9,"A",4609,"2025-08-27","vkp239",null,"vk","vkk","F","2019-02-24",null,null,94,52,"OBC","Muslim",null,"ggg",8140200546,"XXXX8587",null,9828120935,"ALNIYAAWAS,BHERUNDA,ALNIYAAWAS,341751",50238,"N","N","Yes",244,"None",239]
[9,"A",5110,"2025-08-28","vkp240",null,"vk","vkk","F","2019-02-25",null,null,94,52,"OBC","Muslim",null,"ggg",8140200547,"XXXX8588",null,9828120936,"ALNIYAAWAS,BHERUNDA,ALNIYAAWAS,341752",50239,"N","N","Yes",245,"None",240]
[9,"A",4927,"2025-08-29","vkp241",null,"vk","vkk","F","2019-02-26",null,null,94,52,"OBC","Muslim",null,"ggg",8140200548,"XXXX8589",null,9828120937,"ALNIYAAWAS,BHERUNDA,ALNIYAAWAS,341753",50240,"N","N","Yes",246,"None",241]
[9,"A",5005,"2025-08-30","vkp242",null,"vk","vkk","F","2019-02-27",null,null,94,52,"OBC","Muslim",null,"ggg",8140200549,"XXXX8590",null,9828120938,"ALNIYAAWAS,BHERUNDA,ALNIYAAWAS,341754",50241,"N","N","Yes",247,"None",242]
[9,"A",4876,"2025-08-31","vkp243",null,"vk","vkk","F","2019-02-28",null,null,94,52,"OBC","Muslim",null,"ggg",8140200550,"XXXX8591",null,9828120939,"ALNIYAAWAS,BHERUNDA,ALNIYAAWAS,341755",50242,"N","N","Yes",248,"None",243]
[9,"A",5389,"2025-09-01","vkp244",null,"vk","vkk","F","2019-03-01",null,null,94,52,"OBC","Muslim",null,"ggg",8140200551,"XXXX8592",null,9828120940,"ALNIYAAWAS,BHERUNDA,ALNIYAAWAS,341756",50243,"N","N","Yes",249,"None",244]
[9,"A",4440,"2025-09-02","vkp245",null,"vk","vkk","F","2019-03-02",null,null,94,52,"OBC","Muslim",null,"ggg",8140200552,"XXXX8593",null,9828120941,"ALNIYAAWAS,BHERUNDA,ALNIYAAWAS,341757",50244,"N","N","Yes",250,"None",245]
[9,"A",5305,"2025-09-03","vkp246",null,"vk","vkk","F","2019-03-03",null,null,94,52,"OBC","Muslim",null,"ggg",8140200553,"XXXX8594",null,9828120942,"ALNIYAAWAS,BHERUNDA,ALNIYAAWAS,341758",50245,"N","N","Yes",251,"None",246]
[9,"A",4905,"2025-09-04","vkp247",null,"vk","vkk","F","2019-03-04",null,null,94,52,"OBC","Muslim",null,"ggg",8140200554,"XXXX8595",null,9828120943,"ALNIYAAWAS,BHERUNDA,ALNIYAAWAS,341759",50246,"N","N","Yes",252,"None",247]
[9,"A",4987,"2025-09-05","vkp248",null,"vk","vkk","F","2019-03-05",null,null,94,52,"OBC","Muslim",null,"ggg",8140200555,"XXXX8596",null,9828120944,"ALNIYAAWAS,BHERUNDA,ALNIYAAWAS,341760",50247,"N","N","Yes",253,"None",248]
[9,"A",5437,"2025-09-06","vkp249",null,"vk","vkk","F","2019-03-06",null,null,94,52,"OBC","Muslim",null,"ggg",8140200556,"XXXX8597",null,9828120945,"ALNIYAAWAS,BHERUNDA,ALNIYAAWAS,341761",50248,"N","N","Yes",254,"None",249]
[9,"A",5348,"2025-09-07","vkp250",null,"vk","vkk","F","2019-03-07",null,null,94,52,"OBC","Muslim",null,"ggg",8140200557,"XXXX8598",null,9828120946,"ALNIYAAWAS,BHERUNDA,ALNIYAAWAS,341762",50249,"N","N","Yes",255,"None",250]
[9,"A",5432,"2025-09-08","vkp251",null,"vk","vkk","F","2019-03-08",null,null,94,52,"OBC","Muslim",null,"ggg",8140200558,"XXXX8599",null,9828120947,"ALNIYAAWAS,BHERUNDA,ALNIYAAWAS,341763",50250,"N","N","Yes",256,"None",251]
[9,"A",5077,"2025-09-09","vkp252",null,"vk","vkk","F","2019-03-09",null,null,94,52,"OBC","Muslim",null,"ggg",8140200559,"XXXX8600",null,9828120948,"ALNIYAAWAS,BHERUNDA,ALNIYAAWAS,341764",50251,"N","N","Yes",257,"None",252]
[9,"A",5343,"2025-09-10","vkp253",null,"vk","vkk","F","2019-03-10",null,null,94,52,"OBC","Muslim",null,"ggg",8140200560,"XXXX8601",null,9828120949,"ALNIYAAWAS,BHERUNDA,ALNIYAAWAS,341765",50252,"N","N","Yes",258,"None",253]
[9,"A",5367,"2025-09-11","vkp254",null,"vk","vkk","F","2019-03-11",null,null,94,52,"OBC","Muslim",null,"ggg",8140200561,"XXXX8602",null,9828120950,"ALNIYAAWAS,BHERUNDA,ALNIYAAWAS,341766",50253,"N","N","Yes",259,"None",254]
[9,"A",5445,"2025-09-12","vkp255",null,"vk","vkk","F","2019-03-12",null,null,94,52,"OBC","Muslim",null,"ggg",8140200562,"XXXX8603",null,9828120951,"ALNIYAAWAS,BHERUNDA,ALNIYAAWAS,341767",50254,"N","N","Yes",260,"None",255]
[9,"A",4819,"2025-09-13","vkp256",null,"vk","vkk","F","2019-03-13",null,null,94,52,"OBC","Muslim",null,"ggg",8140200563,"XXXX8604",null,9828120952,"ALNIYAAWAS,BHERUNDA,ALNIYAAWAS,341768",50255,"N","N","Yes",261,"None",256]
[9,"A",5427,"2025-09-14","vkp257",null,"vk","vkk","F","2019-03-14",null,null,94,52,"OBC","Muslim",null,"ggg",8140200564,"XXXX8605",null,9828120953,"ALNIYAAWAS,BHERUNDA,ALNIYAAWAS,341769",50256,"N","N","Yes",262,"None",257]
[9,"A",5354,"2025-09-15","vkp258",null,"vk","vkk","F","2019-03-15",null,null,94,52,"OBC","Muslim",null,"ggg",8140200565,"XXXX8606",null,9828120954,"ALNIYAAWAS,BHERUNDA,ALNIYAAWAS,341770",50257,"N","N","Yes",263,"None",258]
[9,"A",5384,"2025-09-16","vkp259",null,"vk","vkk","F","2019-03-16",null,null,94,52,"OBC","Muslim",null,"ggg",8140200566,"XXXX8607",null,9828120955,"ALNIYAAWAS,BHERUNDA,ALNIYAAWAS,341771",50258,"N","N","Yes",264,"None",259]
[9,"A",5368,"2025-09-17","vkp260",null,"vk","vkk","F","2019-03-17",null,null,94,52,"OBC","Muslim",null,"ggg",8140200567,"XXXX8608",null,9828120956,"ALNIYAAWAS,BHERUNDA,ALNIYAAWAS,341772",50259,"N","N","Yes",265,"None",260]
[9,"A",5378,"2025-09-18","vkp261",null,"vk","vkk","F","2019-03-18",null,null,94,52,"OBC","Muslim",null,"ggg",8140200568,"XXXX8609",null,9828120957,"ALNIYAAWAS,BHERUNDA,ALNIYAAWAS,341773",50260,"N","N","Yes",266,"None",261]
[9,"A",5331,"2025-09-19","vkp262",null,"vk","vkk","F","2019-03-19",null,null,94,52,"OBC","Muslim",null,"ggg",8140200569,"XXXX8610",null,9828120958,"ALNIYAAWAS,BHERUNDA,ALNIYAAWAS,341774",50261,"N","N","Yes",267,"None",262]
[9,"A",5328,"2025-09-20","vkp263",null,"vk","vkk","F","2019-03-20",null,null,94,52,"OBC","Muslim",null,"ggg",8140200570,"XXXX8611",null,9828120959,"ALNIYAAWAS,BHERUNDA,ALNIYAAWAS,341775",50262,"N","N","Yes",268,"None",263]
[9,"A",5227,"2025-09-21","vkp264",null,"vk","vkk","F","2019-03-21",null,null,94,52,"OBC","Muslim",null,"ggg",8140200571,"XXXX8612",null,9828120960,"ALNIYAAWAS,BHERUNDA,ALNIYAAWAS,341776",50263,"N","N","Yes",269,"None",264]
[9,"A",4443,"2025-09-22","vkp265",null,"vk","vkk","F","2019-03-22",null,null,94,52,"OBC","Muslim",null,"ggg",8140200572,"XXXX8613",null,9828120961,"ALNIYAAWAS,BHERUNDA,ALNIYAAWAS,341777",50264,"N","N","Yes",270,"None",265]
[9,"A",5370,"2025-09-23","vkp266",null,"vk","vkk","F","2019-03-23",null,null,94,52,"OBC","Muslim",null,"ggg",8140200573,"XXXX8614",null,9828120962,"ALNIYAAWAS,BHERUNDA,ALNIYAAWAS,341778",50265,"N","N","Yes",271,"None",266]
[9,"A",5211,"2025-09-24","vkp267",null,"vk","vkk","F","2019-03-24",null,null,94,52,"OBC","Muslim",null,"ggg",8140200574,"XXXX8615",null,9828120963,"ALNIYAAWAS,BHERUNDA,ALNIYAAWAS,341779",50266,"N","N","Yes",272,"None",267]
[9,"A",4515,"2025-09-25","vkp268",null,"vk","vkk","F","2019-03-25",null,null,94,52,"OBC","Muslim",null,"ggg",8140200575,"XXXX8616",null,9828120964,"ALNIYAAWAS,BHERUNDA,ALNIYAAWAS,341780",50267,"N","N","Yes",273,"None",268]
[9,"A",4697,"2025-09-26","vkp269",null,"vk","vkk","F","2019-03-26",null,null,94,52,"OBC","Muslim",null,"ggg",8140200576,"XXXX8617",null,9828120965,"ALNIYAAWAS,BHERUNDA,ALNIYAAWAS,341781",50268,"N","N","Yes",274,"None",269]
[9,"A",4892,"2025-09-27","vkp270",null,"vk","vkk","F","2019-03-27",null,null,94,52,"OBC","Muslim",null,"ggg",8140200577,"XXXX8618",null,9828120966,"ALNIYAAWAS,BHERUNDA,ALNIYAAWAS,341782",50269,"N","N","Yes",275,"None",270]
[9,"A",5392,"2025-09-28","vkp271",null,"vk","vkk","F","2019-03-28",null,null,94,52,"OBC","Muslim",null,"ggg",8140200578,"XXXX8619",null,9828120967,"ALNIYAAWAS,BHERUNDA,ALNIYAAWAS,341783",50270,"N","N","Yes",276,"None",271]
[9,"A",5245,"2025-09-29","vkp272",null,"vk","vkk","F","2019-03-29",null,null,94,52,"OBC","Muslim",null,"ggg",8140200579,"XXXX8620",null,9828120968,"ALNIYAAWAS,BHERUNDA,ALNIYAAWAS,341784",50271,"N","N","Yes",277,"None",272]
[9,"A",4792,"2025-09-30","vkp273",null,"vk","vkk","F","2019-03-30",null,null,94,52,"OBC","Muslim",null,"ggg",8140200580,"XXXX8621",null,9828120969,"ALNIYAAWAS,BHERUNDA,ALNIYAAWAS,341785",50272,"N","N","Yes",278,"None",273]
[9,"A",5327,"2025-10-01","vkp274",null,"vk","vkk","F","2019-03-31",null,null,94,52,"OBC","Muslim",null,"ggg",8140200581,"XXXX8622",null,9828120970,"ALNIYAAWAS,BHERUNDA,ALNIYAAWAS,341786",50273,"N","N","Yes",279,"None",274]
[9,"A",5329,"2025-10-02","vkp275",null,"vk","vkk","F","2019-04-01",null,null,94,52,"OBC","Muslim",null,"ggg",8140200582,"XXXX8623",null,9828120971,"ALNIYAAWAS,BHERUNDA,ALNIYAAWAS,341787",50274,"N","N","Yes",280,"None",275]
[9,"A",4579,"2025-10-03","vkp276",null,"vk","vkk","F","2019-04-02",null,null,94,52,"OBC","Muslim",null,"ggg",8140200583,"XXXX8624",null,9828120972,"ALNIYAAWAS,BHERUNDA,ALNIYAAWAS,341788",50275,"N","N","Yes",281,"None",276]
[9,"A",3927,"2025-10-04","vkp277",null,"vk","vkk","F","2019-04-03",null,null,94,52,"OBC","Muslim",null,"ggg",8140200584,"XXXX8625",null,9828120973,"ALNIYAAWAS,BHERUNDA,ALNIYAAWAS,341789",50276,"N","N","Yes",282,"None",277]
[9,"A",4696,"2025-10-05","vkp278",null,"vk","vkk","F","2019-04-04",null,null,94,52,"OBC","Muslim",null,"ggg",8140200585,"XXXX8626",null,9828120974,"ALNIYAAWAS,BHERUNDA,ALNIYAAWAS,341790",50277,"N","N","Yes",283,"None",278]
[9,"A",3975,"2025-10-06","vkp279",null,"vk","vkk","F","2019-04-05",null,null,94,52,"OBC","Muslim",null,"ggg",8140200586,"XXXX8627",null,9828120975,"ALNIYAAWAS,BHERUNDA,ALNIYAAWAS,341791",50278,"N","N","Yes",284,"None",279]
[9,"A",5358,"2025-10-07","vkp280",null,"vk","vkk","F","2019-04-06",null,null,94,52,"OBC","Muslim",null,"ggg",8140200587,"XXXX8628",null,9828120976,"ALNIYAAWAS,BHERUNDA,ALNIYAAWAS,341792",50279,"N","N","Yes",285,"None",280]
[9,"A",5244,"2025-10-08","vkp281",null,"vk","vkk","F","2019-04-07",null,null,94,52,"OBC","Muslim",null,"ggg",8140200588,"XXXX8629",null,9828120977,"ALNIYAAWAS,BHERUNDA,ALNIYAAWAS,341793",50280,"N","N","Yes",286,"None",281]
[9,"A",5365,"2025-10-09","vkp282",null,"vk","vkk","F","2019-04-08",null,null,94,52,"OBC","Muslim",null,"ggg",8140200589,"XXXX8630",null,9828120978,"ALNIYAAWAS,BHERUNDA,ALNIYAAWAS,341794",50281,"N","N","Yes",287,"None",282]
[9,"A",3866,"2025-10-10","vkp283",null,"vk","vkk","F","2019-04-09",null,null,94,52,"OBC","Muslim",null,"ggg",8140200590,"XXXX8631",null,9828120979,"ALNIYAAWAS,BHERUNDA,ALNIYAAWAS,341795",50282,"N","N","Yes",288,"None",283]
[9,"A",5396,"2025-10-11","vkp284",null,"vk","vkk","F","2019-04-10",null,null,94,52,"OBC","Muslim",null,"ggg",8140200591,"XXXX8632",null,9828120980,"ALNIYAAWAS,BHERUNDA,ALNIYAAWAS,341796",50283,"N","N","Yes",289,"None",284]
[9,"A",5209,"2025-10-12","vkp285",null,"vk","vkk","F","2019-04-11",null,null,94,52,"OBC","Muslim",null,"ggg",8140200592,"XXXX8633",null,9828120981,"ALNIYAAWAS,BHERUNDA,ALNIYAAWAS,341797",50284,"N","N","Yes",290,"None",285]
[9,"A",3894,"2025-10-13","vkp286",null,"vk","vkk","F","2019-04-12",null,null,94,52,"OBC","Muslim",null,"ggg",8140200593,"XXXX8634",null,9828120982,"ALNIYAAWAS,BHERUNDA,ALNIYAAWAS,341798",50285,"N","N","Yes",291,"None",286]
[9,"A",5376,"2025-10-14","vkp287",null,"vk","vkk","F","2019-04-13",null,null,94,52,"OBC","Muslim",null,"ggg",8140200594,"XXXX8635",null,9828120983,"ALNIYAAWAS,BHERUNDA,ALNIYAAWAS,341799",50286,"N","N","Yes",292,"None",287]
[9,"A",5210,"2025-10-15","vkp288",null,"vk","vkk","F","2019-04-14",null,null,94,52,"OBC","Muslim",null,"ggg",8140200595,"XXXX8636",null,9828120984,"ALNIYAAWAS,BHERUNDA,ALNIYAAWAS,341800",50287,"N","N","Yes",293,"None",288]
[9,"B",4015,"2025-10-16","vkp289",null,"vk","vkk","F","2019-04-15",null,null,94,52,"OBC","Muslim",null,"ggg",8140200596,"XXXX8637",null,9828120985,"ALNIYAAWAS,BHERUNDA,ALNIYAAWAS,341801",50288,"N","N","Yes",294,"None",289]
[9,"B",5423,"2025-10-17","vkp290",null,"vk","vkk","F","2019-04-16",null,null,94,52,"OBC","Muslim",null,"ggg",8140200597,"XXXX8638",null,9828120986,"ALNIYAAWAS,BHERUNDA,ALNIYAAWAS,341802",50289,"N","N","Yes",295,"None",290]
[9,"B",5078,"2025-10-18","vkp291",null,"vk","vkk","F","2019-04-17",null,null,94,52,"OBC","Muslim",null,"ggg",8140200598,"XXXX8639",null,9828120987,"ALNIYAAWAS,BHERUNDA,ALNIYAAWAS,341803",50290,"N","N","Yes",296,"None",291]
[9,"B",4088,"2025-10-19","vkp292",null,"vk","vkk","F","2019-04-18",null,null,94,52,"OBC","Muslim",null,"ggg",8140200599,"XXXX8640",null,9828120988,"ALNIYAAWAS,BHERUNDA,ALNIYAAWAS,341804",50291,"N","N","Yes",297,"None",292]
[9,"B",4786,"2025-10-20","vkp293",null,"vk","vkk","F","2019-04-19",null,null,94,52,"OBC","Muslim",null,"ggg",8140200600,"XXXX8641",null,9828120989,"ALNIYAAWAS,BHERUNDA,ALNIYAAWAS,341805",50292,"N","N","Yes",298,"None",293]
[9,"B",5360,"2025-10-21","vkp294",null,"vk","vkk","F","2019-04-20",null,null,94,52,"OBC","Muslim",null,"ggg",8140200601,"XXXX8642",null,9828120990,"ALNIYAAWAS,BHERUNDA,ALNIYAAWAS,341806",50293,"N","N","Yes",299,"None",294]
[9,"B",4561,"2025-10-22","vkp295",null,"vk","vkk","F","2019-04-21",null,null,94,52,"OBC","Muslim",null,"ggg",8140200602,"XXXX8643",null,9828120991,"ALNIYAAWAS,BHERUNDA,ALNIYAAWAS,341807",50294,"N","N","Yes",300,"None",295]
[9,"B",5369,"2025-10-23","vkp296",null,"vk","vkk","F","2019-04-22",null,null,94,52,"OBC","Muslim",null,"ggg",8140200603,"XXXX8644",null,9828120992,"ALNIYAAWAS,BHERUNDA,ALNIYAAWAS,341808",50295,"N","N","Yes",301,"None",296]
[9,"B",5400,"2025-10-24","vkp297",null,"vk","vkk","F","2019-04-23",null,null,94,52,"OBC","Muslim",null,"ggg",8140200604,"XXXX8645",null,9828120993,"ALNIYAAWAS,BHERUNDA,ALNIYAAWAS,341809",50296,"N","N","Yes",302,"None",297]
[9,"B",5425,"2025-10-25","vkp298",null,"vk","vkk","F","2019-04-24",null,null,94,52,"OBC","Muslim",null,"ggg",8140200605,"XXXX8646",null,9828120994,"ALNIYAAWAS,BHERUNDA,ALNIYAAWAS,341810",50297,"N","N","Yes",303,"None",298]
[9,"B",5332,"2025-10-26","vkp299",null,"vk","vkk","F","2019-04-25",null,null,94,52,"OBC","Muslim",null,"ggg",8140200606,"XXXX8647",null,9828120995,"ALNIYAAWAS,BHERUNDA,ALNIYAAWAS,341811",50298,"N","N","Yes",304,"None",299]
[9,"B",5372,"2025-10-27","vkp300",null,"vk","vkk","F","2019-04-26",null,null,94,52,"OBC","Muslim",null,"ggg",8140200607,"XXXX8648",null,9828120996,"ALNIYAAWAS,BHERUNDA,ALNIYAAWAS,341812",50299,"N","N","Yes",305,"None",300]
[9,"B",5333,"2025-10-28","vkp301",null,"vk","vkk","F","2019-04-27",null,null,94,52,"OBC","Muslim",null,"ggg",8140200608,"XXXX8649",null,9828120997,"ALNIYAAWAS,BHERUNDA,ALNIYAAWAS,341813",50300,"N","N","Yes",306,"None",301]
[9,"B",4567,"2025-10-29","vkp302",null,"vk","vkk","F","2019-04-28",null,null,94,52,"OBC","Muslim",null,"ggg",8140200609,"XXXX8650",null,9828120998,"ALNIYAAWAS,BHERUNDA,ALNIYAAWAS,341814",50301,"N","N","Yes",307,"None",302]
[9,"B",5096,"2025-10-30","vkp303",null,"vk","vkk","F","2019-04-29",null,null,94,52,"OBC","Muslim",null,"ggg",8140200610,"XXXX8651",null,9828120999,"ALNIYAAWAS,BHERUNDA,ALNIYAAWAS,341815",50302,"N","N","Yes",308,"None",303]
[9,"B",5422,"2025-10-31","vkp304",null,"vk","vkk","F","2019-04-30",null,null,94,52,"OBC","Muslim",null,"ggg",8140200611,"XXXX8652",null,9828121000,"ALNIYAAWAS,BHERUNDA,ALNIYAAWAS,341816",50303,"N","N","Yes",309,"None",304]
[9,"B",5399,"2025-11-01","vkp305",null,"vk","vkk","F","2019-05-01",null,null,94,52,"OBC","Muslim",null,"ggg",8140200612,"XXXX8653",null,9828121001,"ALNIYAAWAS,BHERUNDA,ALNIYAAWAS,341817",50304,"N","N","Yes",310,"None",305]
[9,"B",5371,"2025-11-02","vkp306",null,"vk","vkk","F","2019-05-02",null,null,94,52,"OBC","Muslim",null,"ggg",8140200613,"XXXX8654",null,9828121002,"ALNIYAAWAS,BHERUNDA,ALNIYAAWAS,341818",50305,"N","N","Yes",311,"None",306]
[9,"B",3938,"2025-11-03","vkp307",null,"vk","vkk","F","2019-05-03",null,null,94,52,"OBC","Muslim",null,"ggg",8140200614,"XXXX8655",null,9828121003,"ALNIYAAWAS,BHERUNDA,ALNIYAAWAS,341819",50306,"N","N","Yes",312,"None",307]
[9,"B",4514,"2025-11-04","vkp308",null,"vk","vkk","F","2019-05-04",null,null,94,52,"OBC","Muslim",null,"ggg",8140200615,"XXXX8656",null,9828121004,"ALNIYAAWAS,BHERUNDA,ALNIYAAWAS,341820",50307,"N","N","Yes",313,"None",308]
[9,"B",5443,"2025-11-05","vkp309",null,"vk","vkk","F","2019-05-05",null,null,94,52,"OBC","Muslim",null,"ggg",8140200616,"XXXX8657",null,9828121005,"ALNIYAAWAS,BHERUNDA,ALNIYAAWAS,341821",50308,"N","N","Yes",314,"None",309]
[9,"B",4875,"2025-11-06","vkp310",null,"vk","vkk","F","2019-05-06",null,null,94,52,"OBC","Muslim",null,"ggg",8140200617,"XXXX8658",null,9828121006,"ALNIYAAWAS,BHERUNDA,ALNIYAAWAS,341822",50309,"N","N","Yes",315,"None",310]
[9,"B",5394,"2025-11-07","vkp311",null,"vk","vkk","F","2019-05-07",null,null,94,52,"OBC","Muslim",null,"ggg",8140200618,"XXXX8659",null,9828121007,"ALNIYAAWAS,BHERUNDA,ALNIYAAWAS,341823",50310,"N","N","Yes",316,"None",311]
[9,"B",5278,"2025-11-08","vkp312",null,"vk","vkk","F","2019-05-08",null,null,94,52,"OBC","Muslim",null,"ggg",8140200619,"XXXX8660",null,9828121008,"ALNIYAAWAS,BHERUNDA,ALNIYAAWAS,341824",50311,"N","N","Yes",317,"None",312]
[9,"B",4585,"2025-11-09","vkp313",null,"vk","vkk","F","2019-05-09",null,null,94,52,"OBC","Muslim",null,"ggg",8140200620,"XXXX8661",null,9828121009,"ALNIYAAWAS,BHERUNDA,ALNIYAAWAS,341825",50312,"N","N","Yes",318,"None",313]
[9,"B",5398,"2025-11-10","vkp314",null,"vk","vkk","F","2019-05-10",null,null,94,52,"OBC","Muslim",null,"ggg",8140200621,"XXXX8662",null,9828121010,"ALNIYAAWAS,BHERUNDA,ALNIYAAWAS,341826",50313,"N","N","Yes",319,"None",314]
[9,"B",5213,"2025-11-11","vkp315",null,"vk","vkk","F","2019-05-11",null,null,94,52,"OBC","Muslim",null,"ggg",8140200622,"XXXX8663",null,9828121011,"ALNIYAAWAS,BHERUNDA,ALNIYAAWAS,341827",50314,"N","N","Yes",320,"None",315]
[9,"B",5374,"2025-11-12","vkp316",null,"vk","vkk","F","2019-05-12",null,null,94,52,"OBC","Muslim",null,"ggg",8140200623,"XXXX8664",null,9828121012,"ALNIYAAWAS,BHERUNDA,ALNIYAAWAS,341828",50315,"N","N","Yes",321,"None",316]
[9,"B",5429,"2025-11-13","vkp317",null,"vk","vkk","F","2019-05-13",null,null,94,52,"OBC","Muslim",null,"ggg",8140200624,"XXXX8665",null,9828121013,"ALNIYAAWAS,BHERUNDA,ALNIYAAWAS,341829",50316,"N","N","Yes",322,"None",317]
[9,"B",5379,"2025-11-14","vkp318",null,"vk","vkk","F","2019-05-14",null,null,94,52,"OBC","Muslim",null,"ggg",8140200625,"XXXX8666",null,9828121014,"ALNIYAAWAS,BHERUNDA,ALNIYAAWAS,341830",50317,"N","N","Yes",323,"None",318]
[9,"B",3972,"2025-11-15","vkp319",null,"vk","vkk","F","2019-05-15",null,null,94,52,"OBC","Muslim",null,"ggg",8140200626,"XXXX8667",null,9828121015,"ALNIYAAWAS,BHERUNDA,ALNIYAAWAS,341831",50318,"N","N","Yes",324,"None",319]
[9,"B",3998,"2025-11-16","vkp320",null,"vk","vkk","F","2019-05-16",null,null,94,52,"OBC","Muslim",null,"ggg",8140200627,"XXXX8668",null,9828121016,"ALNIYAAWAS,BHERUNDA,ALNIYAAWAS,341832",50319,"N","N","Yes",325,"None",320]
[9,"B",5439,"2025-11-17","vkp321",null,"vk","vkk","F","2019-05-17",null,null,94,52,"OBC","Muslim",null,"ggg",8140200628,"XXXX8669",null,9828121017,"ALNIYAAWAS,BHERUNDA,ALNIYAAWAS,341833",50320,"N","N","Yes",326,"None",321]
[9,"B",4775,"2025-11-18","vkp322",null,"vk","vkk","F","2019-05-18",null,null,94,52,"OBC","Muslim",null,"ggg",8140200629,"XXXX8670",null,9828121018,"ALNIYAAWAS,BHERUNDA,ALNIYAAWAS,341834",50321,"N","N","Yes",327,"None",322]
[9,"B",5117,"2025-11-19","vkp323",null,"vk","vkk","F","2019-05-19",null,null,94,52,"OBC","Muslim",null,"ggg",8140200630,"XXXX8671",null,9828121019,"ALNIYAAWAS,BHERUNDA,ALNIYAAWAS,341835",50322,"N","N","Yes",328,"None",323]
[9,"B",5428,"2025-11-20","vkp324",null,"vk","vkk","F","2019-05-20",null,null,94,52,"OBC","Muslim",null,"ggg",8140200631,"XXXX8672",null,9828121020,"ALNIYAAWAS,BHERUNDA,ALNIYAAWAS,341836",50323,"N","N","Yes",329,"None",324]
[9,"B",5353,"2025-11-21","vkp325",null,"vk","vkk","F","2019-05-21",null,null,94,52,"OBC","Muslim",null,"ggg",8140200632,"XXXX8673",null,9828121021,"ALNIYAAWAS,BHERUNDA,ALNIYAAWAS,341837",50324,"N","N","Yes",330,"None",325]
[9,"B",5249,"2025-11-22","vkp326",null,"vk","vkk","F","2019-05-22",null,null,94,52,"OBC","Muslim",null,"ggg",8140200633,"XXXX8674",null,9828121022,"ALNIYAAWAS,BHERUNDA,ALNIYAAWAS,341838",50325,"N","N","Yes",331,"None",326]
[9,"B",5212,"2025-11-23","vkp327",null,"vk","vkk","F","2019-05-23",null,null,94,52,"OBC","Muslim",null,"ggg",8140200634,"XXXX8675",null,9828121023,"ALNIYAAWAS,BHERUNDA,ALNIYAAWAS,341839",50326,"N","N","Yes",332,"None",327]
[9,"B",5408,"2025-11-24","vkp328",null,"vk","vkk","F","2019-05-24",null,null,94,52,"OBC","Muslim",null,"ggg",8140200635,"XXXX8676",null,9828121024,"ALNIYAAWAS,BHERUNDA,ALNIYAAWAS,341840",50327,"N","N","Yes",333,"None",328]
[9,"B",3944,"2025-11-25","vkp329",null,"vk","vkk","F","2019-05-25",null,null,94,52,"OBC","Muslim",null,"ggg",8140200636,"XXXX8677",null,9828121025,"ALNIYAAWAS,BHERUNDA,ALNIYAAWAS,341841",50328,"N","N","Yes",334,"None",329]
[9,"B",4064,"2025-11-26","vkp330",null,"vk","vkk","F","2019-05-26",null,null,94,52,"OBC","Muslim",null,"ggg",8140200637,"XXXX8678",null,9828121026,"ALNIYAAWAS,BHERUNDA,ALNIYAAWAS,341842",50329,"N","N","Yes",335,"None",330]
[9,"B",5347,"2025-11-27","vkp331",null,"vk","vkk","F","2019-05-27",null,null,94,52,"OBC","Muslim",null,"ggg",8140200638,"XXXX8679",null,9828121027,"ALNIYAAWAS,BHERUNDA,ALNIYAAWAS,341843",50330,"N","N","Yes",336,"None",331]
[9,"B",3985,"2025-11-28","vkp332",null,"vk","vkk","F","2019-05-28",null,null,94,52,"OBC","Muslim",null,"ggg",8140200639,"XXXX8680",null,9828121028,"ALNIYAAWAS,BHERUNDA,ALNIYAAWAS,341844",50331,"N","N","Yes",337,"None",332]
[9,"B",5351,"2025-11-29","vkp333",null,"vk","vkk","F","2019-05-29",null,null,94,52,"OBC","Muslim",null,"ggg",8140200640,"XXXX8681",null,9828121029,"ALNIYAAWAS,BHERUNDA,ALNIYAAWAS,341845",50332,"N","N","Yes",338,"None",333]
[9,"B",4013,"2025-11-30","vkp334",null,"vk","vkk","F","2019-05-30",null,null,94,52,"OBC","Muslim",null,"ggg",8140200641,"XXXX8682",null,9828121030,"ALNIYAAWAS,BHERUNDA,ALNIYAAWAS,341846",50333,"N","N","Yes",339,"None",334]
[9,"B",3973,"2025-12-01","vkp335",null,"vk","vkk","F","2019-05-31",null,null,94,52,"OBC","Muslim",null,"ggg",8140200642,"XXXX8683",null,9828121031,"ALNIYAAWAS,BHERUNDA,ALNIYAAWAS,341847",50334,"N","N","Yes",340,"None",335]
[9,"B",3933,"2025-12-02","vkp336",null,"vk","vkk","F","2019-06-01",null,null,94,52,"OBC","Muslim",null,"ggg",8140200643,"XXXX8684",null,9828121032,"ALNIYAAWAS,BHERUNDA,ALNIYAAWAS,341848",50335,"N","N","Yes",341,"None",336]
[9,"B",4516,"2025-12-03","vkp337",null,"vk","vkk","F","2019-06-02",null,null,94,52,"OBC","Muslim",null,"ggg",8140200644,"XXXX8685",null,9828121033,"ALNIYAAWAS,BHERUNDA,ALNIYAAWAS,341849",50336,"N","N","Yes",342,"None",337]
[9,"B",5406,"2025-12-04","vkp338",null,"vk","vkk","F","2019-06-03",null,null,94,52,"OBC","Muslim",null,"ggg",8140200645,"XXXX8686",null,9828121034,"ALNIYAAWAS,BHERUNDA,ALNIYAAWAS,341850",50337,"N","N","Yes",343,"None",338]
[9,"B",5015,"2025-12-05","vkp339",null,"vk","vkk","F","2019-06-04",null,null,94,52,"OBC","Muslim",null,"ggg",8140200646,"XXXX8687",null,9828121035,"ALNIYAAWAS,BHERUNDA,ALNIYAAWAS,341851",50338,"N","N","Yes",344,"None",339]
[9,"B",5433,"2025-12-06","vkp340",null,"vk","vkk","F","2019-06-05",null,null,94,52,"OBC","Muslim",null,"ggg",8140200647,"XXXX8688",null,9828121036,"ALNIYAAWAS,BHERUNDA,ALNIYAAWAS,341852",50339,"N","N","Yes",345,"None",340]
[9,"B",5363,"2025-12-07","vkp341",null,"vk","vkk","F","2019-06-06",null,null,94,52,"OBC","Muslim",null,"ggg",8140200648,"XXXX8689",null,9828121037,"ALNIYAAWAS,BHERUNDA,ALNIYAAWAS,341853",50340,"N","N","Yes",346,"None",341]
[10,"A",4717,"2025-12-08","vkp342",null,"vk","vkk","F","2019-06-07",null,null,94,52,"OBC","Muslim",null,"ggg",8140200649,"XXXX8690",null,9828121038,"ALNIYAAWAS,BHERUNDA,ALNIYAAWAS,341854",50341,"N","N","Yes",347,"None",342]
[10,"A",5383,"2025-12-09","vkp343",null,"vk","vkk","F","2019-06-08",null,null,94,52,"OBC","Muslim",null,"ggg",8140200650,"XXXX8691",null,9828121039,"ALNIYAAWAS,BHERUNDA,ALNIYAAWAS,341855",50342,"N","N","Yes",348,"None",343]
[10,"A",5344,"2025-12-10","vkp344",null,"vk","vkk","F","2019-06-09",null,null,94,52,"OBC","Muslim",null,"ggg",8140200651,"XXXX8692",null,9828121040,"ALNIYAAWAS,BHERUNDA,ALNIYAAWAS,341856",50343,"N","N","Yes",349,"None",344]
[10,"A",5141,"2025-12-11","vkp345",null,"vk","vkk","F","2019-06-10",null,null,94,52,"OBC","Muslim",null,"ggg",8140200652,"XXXX8693",null,9828121041,"ALNIYAAWAS,BHERUNDA,ALNIYAAWAS,341857",50344,"N","N","Yes",350,"None",345]
[10,"A",5191,"2025-12-12","vkp346",null,"vk","vkk","F","2019-06-11",null,null,94,52,"OBC","Muslim",null,"ggg",8140200653,"XXXX8694",null,9828121042,"ALNIYAAWAS,BHERUNDA,ALNIYAAWAS,341858",50345,"N","N","Yes",351,"None",346]
[10,"A",4748,"2025-12-13","vkp347",null,"vk","vkk","F","2019-06-12",null,null,94,52,"OBC","Muslim",null,"ggg",8140200654,"XXXX8695",null,9828121043,"ALNIYAAWAS,BHERUNDA,ALNIYAAWAS,341859",50346,"N","N","Yes",352,"None",347]
[10,"A",5254,"2025-12-14","vkp348",null,"vk","vkk","F","2019-06-13",null,null,94,52,"OBC","Muslim",null,"ggg",8140200655,"XXXX8696",null,9828121044,"ALNIYAAWAS,BHERUNDA,ALNIYAAWAS,341860",50347,"N","N","Yes",353,"None",348]
[10,"A",5147,"2025-12-15","vkp349",null,"vk","vkk","F","2019-06-14",null,null,94,52,"OBC","Muslim",null,"ggg",8140200656,"XXXX8697",null,9828121045,"ALNIYAAWAS,BHERUNDA,ALNIYAAWAS,341861",50348,"N","N","Yes",354,"None",349]
[10,"A",5139,"2025-12-16","vkp350",null,"vk","vkk","F","2019-06-15",null,null,94,52,"OBC","Muslim",null,"ggg",8140200657,"XXXX8698",null,9828121046,"ALNIYAAWAS,BHERUNDA,ALNIYAAWAS,341862",50349,"N","N","Yes",355,"None",350]
[10,"A",3917,"2025-12-17","vkp351",null,"vk","vkk","F","2019-06-16",null,null,94,52,"OBC","Muslim",null,"ggg",8140200658,"XXXX8699",null,9828121047,"ALNIYAAWAS,BHERUNDA,ALNIYAAWAS,341863",50350,"N","N","Yes",356,"None",351]
[10,"A",5285,"2025-12-18","vkp352",null,"vk","vkk","F","2019-06-17",null,null,94,52,"OBC","Muslim",null,"ggg",8140200659,"XXXX8700",null,9828121048,"ALNIYAAWAS,BHERUNDA,ALNIYAAWAS,341864",50351,"N","N","Yes",357,"None",352]
[10,"A",3887,"2025-12-19","vkp353",null,"vk","vkk","F","2019-06-18",null,null,94,52,"OBC","Muslim",null,"ggg",8140200660,"XXXX8701",null,9828121049,"ALNIYAAWAS,BHERUNDA,ALNIYAAWAS,341865",50352,"N","N","Yes",358,"None",353]
[10,"A",5409,"2025-12-20","vkp354",null,"vk","vkk","F","2019-06-19",null,null,94,52,"OBC","Muslim",null,"ggg",8140200661,"XXXX8702",null,9828121050,"ALNIYAAWAS,BHERUNDA,ALNIYAAWAS,341866",50353,"N","N","Yes",359,"None",354]
[10,"A",4713,"2025-12-21","vkp355",null,"vk","vkk","F","2019-06-20",null,null,94,52,"OBC","Muslim",null,"ggg",8140200662,"XXXX8703",null,9828121051,"ALNIYAAWAS,BHERUNDA,ALNIYAAWAS,341867",50354,"N","N","Yes",360,"None",355]
[10,"A",5334,"2025-12-22","vkp356",null,"vk","vkk","F","2019-06-21",null,null,94,52,"OBC","Muslim",null,"ggg",8140200663,"XXXX8704",null,9828121052,"ALNIYAAWAS,BHERUNDA,ALNIYAAWAS,341868",50355,"N","N","Yes",361,"None",356]
[10,"A",3925,"2025-12-23","vkp357",null,"vk","vkk","F","2019-06-22",null,null,94,52,"OBC","Muslim",null,"ggg",8140200664,"XXXX8705",null,9828121053,"ALNIYAAWAS,BHERUNDA,ALNIYAAWAS,341869",50356,"N","N","Yes",362,"None",357]
[10,"A",5138,"2025-12-24","vkp358",null,"vk","vkk","F","2019-06-23",null,null,94,52,"OBC","Muslim",null,"ggg",8140200665,"XXXX8706",null,9828121054,"ALNIYAAWAS,BHERUNDA,ALNIYAAWAS,341870",50357,"N","N","Yes",363,"None",358]
[10,"A",5436,"2025-12-25","vkp359",null,"vk","vkk","F","2019-06-24",null,null,94,52,"OBC","Muslim",null,"ggg",8140200666,"XXXX8707",null,9828121055,"ALNIYAAWAS,BHERUNDA,ALNIYAAWAS,341871",50358,"N","N","Yes",364,"None",359]
[10,"A",5350,"2025-12-26","vkp360",null,"vk","vkk","F","2019-06-25",null,null,94,52,"OBC","Muslim",null,"ggg",8140200667,"XXXX8708",null,9828121056,"ALNIYAAWAS,BHERUNDA,ALNIYAAWAS,341872",50359,"N","N","Yes",365,"None",360]
[10,"A",5279,"2025-12-27","vkp361",null,"vk","vkk","F","2019-06-26",null,null,94,52,"OBC","Muslim",null,"ggg",8140200668,"XXXX8709",null,9828121057,"ALNIYAAWAS,BHERUNDA,ALNIYAAWAS,341873",50360,"N","N","Yes",366,"None",361]
[10,"A",5282,"2025-12-28","vkp362",null,"vk","vkk","F","2019-06-27",null,null,94,52,"OBC","Muslim",null,"ggg",8140200669,"XXXX8710",null,9828121058,"ALNIYAAWAS,BHERUNDA,ALNIYAAWAS,341874",50361,"N","N","Yes",367,"None",362]
[10,"A",5446,"2025-12-29","vkp363",null,"vk","vkk","F","2019-06-28",null,null,94,52,"OBC","Muslim",null,"ggg",8140200670,"XXXX8711",null,9828121059,"ALNIYAAWAS,BHERUNDA,ALNIYAAWAS,341875",50362,"N","N","Yes",368,"None",363]
[10,"A",4938,"2025-12-30","vkp364",null,"vk","vkk","F","2019-06-29",null,null,94,52,"OBC","Muslim",null,"ggg",8140200671,"XXXX8712",null,9828121060,"ALNIYAAWAS,BHERUNDA,ALNIYAAWAS,341876",50363,"N","N","Yes",369,"None",364]
[10,"A",5126,"2025-12-31","vkp365",null,"vk","vkk","F","2019-06-30",null,null,94,52,"OBC","Muslim",null,"ggg",8140200672,"XXXX8713",null,9828121061,"ALNIYAAWAS,BHERUNDA,ALNIYAAWAS,341877",50364,"N","N","Yes",370,"None",365]
[10,"A",3900,"2026-01-01","vkp366",null,"vk","vkk","F","2019-07-01",null,null,94,52,"OBC","Muslim",null,"ggg",8140200673,"XXXX8714",null,9828121062,"ALNIYAAWAS,BHERUNDA,ALNIYAAWAS,341878",50365,"N","N","Yes",371,"None",366]
[10,"A",5187,"2026-01-02","vkp367",null,"vk","vkk","F","2019-07-02",null,null,94,52,"OBC","Muslim",null,"ggg",8140200674,"XXXX8715",null,9828121063,"ALNIYAAWAS,BHERUNDA,ALNIYAAWAS,341879",50366,"N","N","Yes",372,"None",367]
[10,"A",5202,"2026-01-03","vkp368",null,"vk","vkk","F","2019-07-03",null,null,94,52,"OBC","Muslim",null,"ggg",8140200675,"XXXX8716",null,9828121064,"ALNIYAAWAS,BHERUNDA,ALNIYAAWAS,341880",50367,"N","N","Yes",373,"None",368]
[10,"A",5193,"2026-01-04","vkp369",null,"vk","vkk","F","2019-07-04",null,null,94,52,"OBC","Muslim",null,"ggg",8140200676,"XXXX8717",null,9828121065,"ALNIYAAWAS,BHERUNDA,ALNIYAAWAS,341881",50368,"N","N","Yes",374,"None",369]
[10,"A",5203,"2026-01-05","vkp370",null,"vk","vkk","F","2019-07-05",null,null,94,52,"OBC","Muslim",null,"ggg",8140200677,"XXXX8718",null,9828121066,"ALNIYAAWAS,BHERUNDA,ALNIYAAWAS,341882",50369,"N","N","Yes",375,"None",370]
[10,"A",5111,"2026-01-06","vkp371",null,"vk","vkk","F","2019-07-06",null,null,94,52,"OBC","Muslim",null,"ggg",8140200678,"XXXX8719",null,9828121067,"ALNIYAAWAS,BHERUNDA,ALNIYAAWAS,341883",50370,"N","N","Yes",376,"None",371]
[10,"A",5165,"2026-01-07","vkp372",null,"vk","vkk","F","2019-07-07",null,null,94,52,"OBC","Muslim",null,"ggg",8140200679,"XXXX8720",null,9828121068,"ALNIYAAWAS,BHERUNDA,ALNIYAAWAS,341884",50371,"N","N","Yes",377,"None",372]
[10,"A",4455,"2026-01-08","vkp373",null,"vk","vkk","F","2019-07-08",null,null,94,52,"OBC","Muslim",null,"ggg",8140200680,"XXXX8721",null,9828121069,"ALNIYAAWAS,BHERUNDA,ALNIYAAWAS,341885",50372,"N","N","Yes",378,"None",373]
[10,"A",5286,"2026-01-09","vkp374",null,"vk","vkk","F","2019-07-09",null,null,94,52,"OBC","Muslim",null,"ggg",8140200681,"XXXX8722",null,9828121070,"ALNIYAAWAS,BHERUNDA,ALNIYAAWAS,341886",50373,"N","N","Yes",379,"None",374]
[10,"A",5140,"2026-01-10","vkp375",null,"vk","vkk","F","2019-07-10",null,null,94,52,"OBC","Muslim",null,"ggg",8140200682,"XXXX8723",null,9828121071,"ALNIYAAWAS,BHERUNDA,ALNIYAAWAS,341887",50374,"N","N","Yes",380,"None",375]
[10,"A",5188,"2026-01-11","vkp376",null,"vk","vkk","F","2019-07-11",null,null,94,52,"OBC","Muslim",null,"ggg",8140200683,"XXXX8724",null,9828121072,"ALNIYAAWAS,BHERUNDA,ALNIYAAWAS,341888",50375,"N","N","Yes",381,"None",376]
[10,"A",5170,"2026-01-12","vkp377",null,"vk","vkk","F","2019-07-12",null,null,94,52,"OBC","Muslim",null,"ggg",8140200684,"XXXX8725",null,9828121073,"ALNIYAAWAS,BHERUNDA,ALNIYAAWAS,341889",50376,"N","N","Yes",382,"None",377]
[10,"A",5105,"2026-01-13","vkp378",null,"vk","vkk","F","2019-07-13",null,null,94,52,"OBC","Muslim",null,"ggg",8140200685,"XXXX8726",null,9828121074,"ALNIYAAWAS,BHERUNDA,ALNIYAAWAS,341890",50377,"N","N","Yes",383,"None",378]
[10,"A",5135,"2026-01-14","vkp379",null,"vk","vkk","F","2019-07-14",null,null,94,52,"OBC","Muslim",null,"ggg",8140200686,"XXXX8727",null,9828121075,"ALNIYAAWAS,BHERUNDA,ALNIYAAWAS,341891",50378,"N","N","Yes",384,"None",379]
[10,"B",5143,"2026-01-15","vkp380",null,"vk","vkk","F","2019-07-15",null,null,94,52,"OBC","Muslim",null,"ggg",8140200687,"XXXX8728",null,9828121076,"ALNIYAAWAS,BHERUNDA,ALNIYAAWAS,341892",50379,"N","N","Yes",385,"None",380]
[10,"B",4779,"2026-01-16","vkp381",null,"vk","vkk","F","2019-07-16",null,null,94,52,"OBC","Muslim",null,"ggg",8140200688,"XXXX8729",null,9828121077,"ALNIYAAWAS,BHERUNDA,ALNIYAAWAS,341893",50380,"N","N","Yes",386,"None",381]
[10,"B",5268,"2026-01-17","vkp382",null,"vk","vkk","F","2019-07-17",null,null,94,52,"OBC","Muslim",null,"ggg",8140200689,"XXXX8730",null,9828121078,"ALNIYAAWAS,BHERUNDA,ALNIYAAWAS,341894",50381,"N","N","Yes",387,"None",382]
[10,"B",5205,"2026-01-18","vkp383",null,"vk","vkk","F","2019-07-18",null,null,94,52,"OBC","Muslim",null,"ggg",8140200690,"XXXX8731",null,9828121079,"ALNIYAAWAS,BHERUNDA,ALNIYAAWAS,341895",50382,"N","N","Yes",388,"None",383]
[10,"B",5157,"2026-01-19","vkp384",null,"vk","vkk","F","2019-07-19",null,null,94,52,"OBC","Muslim",null,"ggg",8140200691,"XXXX8732",null,9828121080,"ALNIYAAWAS,BHERUNDA,ALNIYAAWAS,341896",50383,"N","N","Yes",389,"None",384]
[10,"B",5146,"2026-01-20","vkp385",null,"vk","vkk","F","2019-07-20",null,null,94,52,"OBC","Muslim",null,"ggg",8140200692,"XXXX8733",null,9828121081,"ALNIYAAWAS,BHERUNDA,ALNIYAAWAS,341897",50384,"N","N","Yes",390,"None",385]
[10,"B",4632,"2026-01-21","vkp386",null,"vk","vkk","F","2019-07-21",null,null,94,52,"OBC","Muslim",null,"ggg",8140200693,"XXXX8734",null,9828121082,"ALNIYAAWAS,BHERUNDA,ALNIYAAWAS,341898",50385,"N","N","Yes",391,"None",386]
[10,"B",5255,"2026-01-22","vkp387",null,"vk","vkk","F","2019-07-22",null,null,94,52,"OBC","Muslim",null,"ggg",8140200694,"XXXX8735",null,9828121083,"ALNIYAAWAS,BHERUNDA,ALNIYAAWAS,341899",50386,"N","N","Yes",392,"None",387]
[10,"B",4745,"2026-01-23","vkp388",null,"vk","vkk","F","2019-07-23",null,null,94,52,"OBC","Muslim",null,"ggg",8140200695,"XXXX8736",null,9828121084,"ALNIYAAWAS,BHERUNDA,ALNIYAAWAS,341900",50387,"N","N","Yes",393,"None",388]
[10,"B",5156,"2026-01-24","vkp389",null,"vk","vkk","F","2019-07-24",null,null,94,52,"OBC","Muslim",null,"ggg",8140200696,"XXXX8737",null,9828121085,"ALNIYAAWAS,BHERUNDA,ALNIYAAWAS,341901",50388,"N","N","Yes",394,"None",389]
[10,"B",5148,"2026-01-25","vkp390",null,"vk","vkk","F","2019-07-25",null,null,94,52,"OBC","Muslim",null,"ggg",8140200697,"XXXX8738",null,9828121086,"ALNIYAAWAS,BHERUNDA,ALNIYAAWAS,341902",50389,"N","N","Yes",395,"None",390]
[10,"B",4736,"2026-01-26","vkp391",null,"vk","vkk","F","2019-07-26",null,null,94,52,"OBC","Muslim",null,"ggg",8140200698,"XXXX8739",null,9828121087,"ALNIYAAWAS,BHERUNDA,ALNIYAAWAS,341903",50390,"N","N","Yes",396,"None",391]
[10,"B",4650,"2026-01-27","vkp392",null,"vk","vkk","F","2019-07-27",null,null,94,52,"OBC","Muslim",null,"ggg",8140200699,"XXXX8740",null,9828121088,"ALNIYAAWAS,BHERUNDA,ALNIYAAWAS,341904",50391,"N","N","Yes",397,"None",392]
[10,"B",4951,"2026-01-28","vkp393",null,"vk","vkk","F","2019-07-28",null,null,94,52,"OBC","Muslim",null,"ggg",8140200700,"XXXX8741",null,9828121089,"ALNIYAAWAS,BHERUNDA,ALNIYAAWAS,341905",50392,"N","N","Yes",398,"None",393]
[10,"B",3909,"2026-01-29","vkp394",null,"vk","vkk","F","2019-07-29",null,null,94,52,"OBC","Muslim",null,"ggg",8140200701,"XXXX8742",null,9828121090,"ALNIYAAWAS,BHERUNDA,ALNIYAAWAS,341906",50393,"N","N","Yes",399,"None",394]
[10,"B",5207,"2026-01-30","vkp395",null,"vk","vkk","F","2019-07-30",null,null,94,52,"OBC","Muslim",null,"ggg",8140200702,"XXXX8743",null,9828121091,"ALNIYAAWAS,BHERUNDA,ALNIYAAWAS,341907",50394,"N","N","Yes",400,"None",395]
[10,"B",5237,"2026-01-31","vkp396",null,"vk","vkk","F","2019-07-31",null,null,94,52,"OBC","Muslim",null,"ggg",8140200703,"XXXX8744",null,9828121092,"ALNIYAAWAS,BHERUNDA,ALNIYAAWAS,341908",50395,"N","N","Yes",401,"None",396]
[10,"B",5204,"2026-02-01","vkp397",null,"vk","vkk","F","2019-08-01",null,null,94,52,"OBC","Muslim",null,"ggg",8140200704,"XXXX8745",null,9828121093,"ALNIYAAWAS,BHERUNDA,ALNIYAAWAS,341909",50396,"N","N","Yes",402,"None",397]
[10,"B",4097,"2026-02-02","vkp398",null,"vk","vkk","F","2019-08-02",null,null,94,52,"OBC","Muslim",null,"ggg",8140200705,"XXXX8746",null,9828121094,"ALNIYAAWAS,BHERUNDA,ALNIYAAWAS,341910",50397,"N","N","Yes",403,"None",398]
[10,"B",5186,"2026-02-03","vkp399",null,"vk","vkk","F","2019-08-03",null,null,94,52,"OBC","Muslim",null,"ggg",8140200706,"XXXX8747",null,9828121095,"ALNIYAAWAS,BHERUNDA,ALNIYAAWAS,341911",50398,"N","N","Yes",404,"None",399]
[10,"B",5189,"2026-02-04","vkp400",null,"vk","vkk","F","2019-08-04",null,null,94,52,"OBC","Muslim",null,"ggg",8140200707,"XXXX8748",null,9828121096,"ALNIYAAWAS,BHERUNDA,ALNIYAAWAS,341912",50399,"N","N","Yes",405,"None",400]
[10,"B",5192,"2026-02-05","vkp401",null,"vk","vkk","F","2019-08-05",null,null,94,52,"OBC","Muslim",null,"ggg",8140200708,"XXXX8749",null,9828121097,"ALNIYAAWAS,BHERUNDA,ALNIYAAWAS,341913",50400,"N","N","Yes",406,"None",401]
[10,"B",5136,"2026-02-06","vkp402",null,"vk","vkk","F","2019-08-06",null,null,94,52,"OBC","Muslim",null,"ggg",8140200709,"XXXX8750",null,9828121098,"ALNIYAAWAS,BHERUNDA,ALNIYAAWAS,341914",50401,"N","N","Yes",407,"None",402]
[10,"B",5246,"2026-02-07","vkp403",null,"vk","vkk","F","2019-08-07",null,null,94,52,"OBC","Muslim",null,"ggg",8140200710,"XXXX8751",null,9828121099,"ALNIYAAWAS,BHERUNDA,ALNIYAAWAS,341915",50402,"N","N","Yes",408,"None",403]
[10,"B",4752,"2026-02-08","vkp404",null,"vk","vkk","F","2019-08-08",null,null,94,52,"OBC","Muslim",null,"ggg",8140200711,"XXXX8752",null,9828121100,"ALNIYAAWAS,BHERUNDA,ALNIYAAWAS,341916",50403,"N","N","Yes",409,"None",404]
[10,"B",5194,"2026-02-09","vkp405",null,"vk","vkk","F","2019-08-09",null,null,94,52,"OBC","Muslim",null,"ggg",8140200712,"XXXX8753",null,9828121101,"ALNIYAAWAS,BHERUNDA,ALNIYAAWAS,341917",50404,"N","N","Yes",410,"None",405]
[10,"B",3907,"2026-02-10","vkp406",null,"vk","vkk","F","2019-08-10",null,null,94,52,"OBC","Muslim",null,"ggg",8140200713,"XXXX8754",null,9828121102,"ALNIYAAWAS,BHERUNDA,ALNIYAAWAS,341918",50405,"N","N","Yes",411,"None",406]
[10,"B",5159,"2026-02-11","vkp407",null,"vk","vkk","F","2019-08-11",null,null,94,52,"OBC","Muslim",null,"ggg",8140200714,"XXXX8755",null,9828121103,"ALNIYAAWAS,BHERUNDA,ALNIYAAWAS,341919",50406,"N","N","Yes",412,"None",407]
[10,"B",4753,"2026-02-12","vkp408",null,"vk","vkk","F","2019-08-12",null,null,94,52,"OBC","Muslim",null,"ggg",8140200715,"XXXX8756",null,9828121104,"ALNIYAAWAS,BHERUNDA,ALNIYAAWAS,341920",50407,"N","N","Yes",413,"None",408]
[10,"B",5011,"2026-02-13","vkp409",null,"vk","vkk","F","2019-08-13",null,null,94,52,"OBC","Muslim",null,"ggg",8140200716,"XXXX8757",null,9828121105,"ALNIYAAWAS,BHERUNDA,ALNIYAAWAS,341921",50408,"N","N","Yes",414,"None",409]
[10,"B",5161,"2026-02-14","vkp410",null,"vk","vkk","F","2019-08-14",null,null,94,52,"OBC","Muslim",null,"ggg",8140200717,"XXXX8758",null,9828121106,"ALNIYAAWAS,BHERUNDA,ALNIYAAWAS,341922",50409,"N","N","Yes",415,"None",410]
[10,"B",5222,"2026-02-15","vkp411",null,"vk","vkk","F","2019-08-15",null,null,94,52,"OBC","Muslim",null,"ggg",8140200718,"XXXX8759",null,9828121107,"ALNIYAAWAS,BHERUNDA,ALNIYAAWAS,341923",50410,"N","N","Yes",416,"None",411]
[10,"B",4112,"2026-02-16","vkp412",null,"vk","vkk","F","2019-08-16",null,null,94,52,"OBC","Muslim",null,"ggg",8140200719,"XXXX8760",null,9828121108,"ALNIYAAWAS,BHERUNDA,ALNIYAAWAS,341924",50411,"N","N","Yes",417,"None",412]
[10,"B",5149,"2026-02-17","vkp413",null,"vk","vkk","F","2019-08-17",null,null,94,52,"OBC","Muslim",null,"ggg",8140200720,"XXXX8761",null,9828121109,"ALNIYAAWAS,BHERUNDA,ALNIYAAWAS,341925",50412,"N","N","Yes",418,"None",413]
[10,"B",5144,"2026-02-18","vkp414",null,"vk","vkk","F","2019-08-18",null,null,94,52,"OBC","Muslim",null,"ggg",8140200721,"XXXX8762",null,9828121110,"ALNIYAAWAS,BHERUNDA,ALNIYAAWAS,341926",50413,"N","N","Yes",419,"None",414]
[10,"B",5133,"2026-02-19","vkp415",null,"vk","vkk","F","2019-08-19",null,null,94,52,"OBC","Muslim",null,"ggg",8140200722,"XXXX8763",null,9828121111,"ALNIYAAWAS,BHERUNDA,ALNIYAAWAS,341927",50414,"N","N","Yes",420,"None",415]
[10,"B",5238,"2026-02-20","vkp416",null,"vk","vkk","F","2019-08-20",null,null,94,52,"OBC","Muslim",null,"ggg",8140200723,"XXXX8764",null,9828121112,"ALNIYAAWAS,BHERUNDA,ALNIYAAWAS,341928",50415,"N","N","Yes",421,"None",416]
[10,"B",5007,"2026-02-21","vkp417",null,"vk","vkk","F","2019-08-21",null,null,94,52,"OBC","Muslim",null,"ggg",8140200724,"XXXX8765",null,9828121113,"ALNIYAAWAS,BHERUNDA,ALNIYAAWAS,341929",50416,"N","N","Yes",422,"None",417]
[10,"B",5247,"2026-02-22","vkp418",null,"vk","vkk","F","2019-08-22",null,null,94,52,"OBC","Muslim",null,"ggg",8140200725,"XXXX8766",null,9828121114,"ALNIYAAWAS,BHERUNDA,ALNIYAAWAS,341930",50417,"N","N","Yes",423,"None",418]
[10,"B",5162,"2026-02-23","vkp419",null,"vk","vkk","F","2019-08-23",null,null,94,52,"OBC","Muslim",null,"ggg",8140200726,"XXXX8767",null,9828121115,"ALNIYAAWAS,BHERUNDA,ALNIYAAWAS,341931",50418,"N","N","Yes",424,"None",419]
[10,"B",5199,"2026-02-24","vkp420",null,"vk","vkk","F","2019-08-24",null,null,94,52,"OBC","Muslim",null,"ggg",8140200727,"XXXX8768",null,9828121116,"ALNIYAAWAS,BHERUNDA,ALNIYAAWAS,341932",50419,"N","N","Yes",425,"None",420]
[10,"B",4631,"2026-02-25","vkp421",null,"vk","vkk","F","2019-08-25",null,null,94,52,"OBC","Muslim",null,"ggg",8140200728,"XXXX8769",null,9828121117,"ALNIYAAWAS,BHERUNDA,ALNIYAAWAS,341933",50420,"N","N","Yes",426,"None",421]
[10,"B",5163,"2026-02-26","vkp422",null,"vk","vkk","F","2019-08-26",null,null,94,52,"OBC","Muslim",null,"ggg",8140200729,"XXXX8770",null,9828121118,"ALNIYAAWAS,BHERUNDA,ALNIYAAWAS,341934",50421,"N","N","Yes",427,"None",422]
[10,"B",5142,"2026-02-27","vkp423",null,"vk","vkk","F","2019-08-27",null,null,94,52,"OBC","Muslim",null,"ggg",8140200730,"XXXX8771",null,9828121119,"ALNIYAAWAS,BHERUNDA,ALNIYAAWAS,341935",50422,"N","N","Yes",428,"None",423]
[10,"B",4757,"2026-02-28","vkp424",null,"vk","vkk","F","2019-08-28",null,null,94,52,"OBC","Muslim",null,"ggg",8140200731,"XXXX8772",null,9828121120,"ALNIYAAWAS,BHERUNDA,ALNIYAAWAS,341936",50423,"N","N","Yes",429,"None",424]
[10,"B",5137,"2026-03-01","vkp425",null,"vk","vkk","F","2019-08-29",null,null,94,52,"OBC","Muslim",null,"ggg",8140200732,"XXXX8773",null,9828121121,"ALNIYAAWAS,BHERUNDA,ALNIYAAWAS,341937",50424,"N","N","Yes",430,"None",425]
[10,"B",4754,"2026-03-02","vkp426",null,"vk","vkk","F","2019-08-30",null,null,94,52,"OBC","Muslim",null,"ggg",8140200733,"XXXX8774",null,9828121122,"ALNIYAAWAS,BHERUNDA,ALNIYAAWAS,341938",50425,"N","N","Yes",431,"None",426]
[10,"B",5158,"2026-03-03","vkp427",null,"vk","vkk","F","2019-08-31",null,null,94,52,"OBC","Muslim",null,"ggg",8140200734,"XXXX8775",null,9828121123,"ALNIYAAWAS,BHERUNDA,ALNIYAAWAS,341939",50426,"N","N","Yes",432,"None",427]
[10,"B",5026,"2026-03-04","vkp428",null,"vk","vkk","F","2019-09-01",null,null,94,52,"OBC","Muslim",null,"ggg",8140200735,"XXXX8776",null,9828121124,"ALNIYAAWAS,BHERUNDA,ALNIYAAWAS,341940",50427,"N","N","Yes",433,"None",428]
[10,"B",5160,"2026-03-05","vkp429",null,"vk","vkk","F","2019-09-02",null,null,94,52,"OBC","Muslim",null,"ggg",8140200736,"XXXX8777",null,9828121125,"ALNIYAAWAS,BHERUNDA,ALNIYAAWAS,341941",50428,"N","N","Yes",434,"None",429]
[10,"B",5145,"2026-03-06","vkp430",null,"vk","vkk","F","2019-09-03",null,null,94,52,"OBC","Muslim",null,"ggg",8140200737,"XXXX8778",null,9828121126,"ALNIYAAWAS,BHERUNDA,ALNIYAAWAS,341942",50429,"N","N","Yes",435,"None",430]
[10,"B",5134,"2026-03-07","vkp431",null,"vk","vkk","F","2019-09-04",null,null,94,52,"OBC","Muslim",null,"ggg",8140200738,"XXXX8779",null,9828121127,"ALNIYAAWAS,BHERUNDA,ALNIYAAWAS,341943",50430,"N","N","Yes",436,"None",431]
[11,"A",5054,"2026-03-08","vkp432",null,"vk","vkk","F","2019-09-05",null,null,94,52,"OBC","Muslim",null,"ggg",8140200739,"XXXX8780",null,9828121128,"ALNIYAAWAS,BHERUNDA,ALNIYAAWAS,341944",50431,"N","N","Yes",437,"None",432]
[11,"A",3857,"2026-03-09","vkp433",null,"vk","vkk","F","2019-09-06",null,null,94,52,"OBC","Muslim",null,"ggg",8140200740,"XXXX8781",null,9828121129,"ALNIYAAWAS,BHERUNDA,ALNIYAAWAS,341945",50432,"N","N","Yes",438,"None",433]
[11,"A",5049,"2026-03-10","vkp434",null,"vk","vkk","F","2019-09-07",null,null,94,52,"OBC","Muslim",null,"ggg",8140200741,"XXXX8782",null,9828121130,"ALNIYAAWAS,BHERUNDA,ALNIYAAWAS,341946",50433,"N","N","Yes",439,"None",434]
[11,"A",4120,"2026-03-11","vkp435",null,"vk","vkk","F","2019-09-08",null,null,94,52,"OBC","Muslim",null,"ggg",8140200742,"XXXX8783",null,9828121131,"ALNIYAAWAS,BHERUNDA,ALNIYAAWAS,341947",50434,"N","N","Yes",440,"None",435]
[11,"A",4961,"2026-03-12","vkp436",null,"vk","vkk","F","2019-09-09",null,null,94,52,"OBC","Muslim",null,"ggg",8140200743,"XXXX8784",null,9828121132,"ALNIYAAWAS,BHERUNDA,ALNIYAAWAS,341948",50435,"N","N","Yes",441,"None",436]
[11,"A",5047,"2026-03-13","vkp437",null,"vk","vkk","F","2019-09-10",null,null,94,52,"OBC","Muslim",null,"ggg",8140200744,"XXXX8785",null,9828121133,"ALNIYAAWAS,BHERUNDA,ALNIYAAWAS,341949",50436,"N","N","Yes",442,"None",437]
[11,"A",4462,"2026-03-14","vkp438",null,"vk","vkk","F","2019-09-11",null,null,94,52,"OBC","Muslim",null,"ggg",8140200745,"XXXX8786",null,9828121134,"ALNIYAAWAS,BHERUNDA,ALNIYAAWAS,341950",50437,"N","N","Yes",443,"None",438]
[11,"A",4607,"2026-03-15","vkp439",null,"vk","vkk","F","2019-09-12",null,null,94,52,"OBC","Muslim",null,"ggg",8140200746,"XXXX8787",null,9828121135,"ALNIYAAWAS,BHERUNDA,ALNIYAAWAS,341951",50438,"N","N","Yes",444,"None",439]
[11,"A",5426,"2026-03-16","vkp440",null,"vk","vkk","F","2019-09-13",null,null,94,52,"OBC","Muslim",null,"ggg",8140200747,"XXXX8788",null,9828121136,"ALNIYAAWAS,BHERUNDA,ALNIYAAWAS,341952",50439,"N","N","Yes",445,"None",440]
[11,"A",5410,"2026-03-17","vkp441",null,"vk","vkk","F","2019-09-14",null,null,94,52,"OBC","Muslim",null,"ggg",8140200748,"XXXX8789",null,9828121137,"ALNIYAAWAS,BHERUNDA,ALNIYAAWAS,341953",50440,"N","N","Yes",446,"None",441]
[11,"A",4946,"2026-03-18","vkp442",null,"vk","vkk","F","2019-09-15",null,null,94,52,"OBC","Muslim",null,"ggg",8140200749,"XXXX8790",null,9828121138,"ALNIYAAWAS,BHERUNDA,ALNIYAAWAS,341954",50441,"N","N","Yes",447,"None",442]
[11,"A",5091,"2026-03-19","vkp443",null,"vk","vkk","F","2019-09-16",null,null,94,52,"OBC","Muslim",null,"ggg",8140200750,"XXXX8791",null,9828121139,"ALNIYAAWAS,BHERUNDA,ALNIYAAWAS,341955",50442,"N","N","Yes",448,"None",443]
[11,"A",4983,"2026-03-20","vkp444",null,"vk","vkk","F","2019-09-17",null,null,94,52,"OBC","Muslim",null,"ggg",8140200751,"XXXX8792",null,9828121140,"ALNIYAAWAS,BHERUNDA,ALNIYAAWAS,341956",50443,"N","N","Yes",449,"None",444]
[11,"A",4169,"2026-03-21","vkp445",null,"vk","vkk","F","2019-09-18",null,null,94,52,"OBC","Muslim",null,"ggg",8140200752,"XXXX8793",null,9828121141,"ALNIYAAWAS,BHERUNDA,ALNIYAAWAS,341957",50444,"N","N","Yes",450,"None",445]
[11,"A",5088,"2026-03-22","vkp446",null,"vk","vkk","F","2019-09-19",null,null,94,52,"OBC","Muslim",null,"ggg",8140200753,"XXXX8794",null,9828121142,"ALNIYAAWAS,BHERUNDA,ALNIYAAWAS,341958",50445,"N","N","Yes",451,"None",446]
[11,"A",5008,"2026-03-23","vkp447",null,"vk","vkk","F","2019-09-20",null,null,94,52,"OBC","Muslim",null,"ggg",8140200754,"XXXX8795",null,9828121143,"ALNIYAAWAS,BHERUNDA,ALNIYAAWAS,341959",50446,"N","N","Yes",452,"None",447]
[11,"A",5000,"2026-03-24","vkp448",null,"vk","vkk","F","2019-09-21",null,null,94,52,"OBC","Muslim",null,"ggg",8140200755,"XXXX8796",null,9828121144,"ALNIYAAWAS,BHERUNDA,ALNIYAAWAS,341960",50447,"N","N","Yes",453,"None",448]
[11,"A",4952,"2026-03-25","vkp449",null,"vk","vkk","F","2019-09-22",null,null,94,52,"OBC","Muslim",null,"ggg",8140200756,"XXXX8797",null,9828121145,"ALNIYAAWAS,BHERUNDA,ALNIYAAWAS,341961",50448,"N","N","Yes",454,"None",449]
[11,"A",5431,"2026-03-26","vkp450",null,"vk","vkk","F","2019-09-23",null,null,94,52,"OBC","Muslim",null,"ggg",8140200757,"XXXX8798",null,9828121146,"ALNIYAAWAS,BHERUNDA,ALNIYAAWAS,341962",50449,"N","N","Yes",455,"None",450]
[11,"A",4486,"2026-03-27","vkp451",null,"vk","vkk","F","2019-09-24",null,null,94,52,"OBC","Muslim",null,"ggg",8140200758,"XXXX8799",null,9828121147,"ALNIYAAWAS,BHERUNDA,ALNIYAAWAS,341963",50450,"N","N","Yes",456,"None",451]
[11,"A",5404,"2026-03-28","vkp452",null,"vk","vkk","F","2019-09-25",null,null,94,52,"OBC","Muslim",null,"ggg",8140200759,"XXXX8800",null,9828121148,"ALNIYAAWAS,BHERUNDA,ALNIYAAWAS,341964",50451,"N","N","Yes",457,"None",452]
[11,"A",4321,"2026-03-29","vkp453",null,"vk","vkk","F","2019-09-26",null,null,94,52,"OBC","Muslim",null,"ggg",8140200760,"XXXX8801",null,9828121149,"ALNIYAAWAS,BHERUNDA,ALNIYAAWAS,341965",50452,"N","N","Yes",458,"None",453]
[11,"A",4783,"2026-03-30","vkp454",null,"vk","vkk","F","2019-09-27",null,null,94,52,"OBC","Muslim",null,"ggg",8140200761,"XXXX8802",null,9828121150,"ALNIYAAWAS,BHERUNDA,ALNIYAAWAS,341966",50453,"N","N","Yes",459,"None",454]
[11,"A",5411,"2026-03-31","vkp455",null,"vk","vkk","F","2019-09-28",null,null,94,52,"OBC","Muslim",null,"ggg",8140200762,"XXXX8803",null,9828121151,"ALNIYAAWAS,BHERUNDA,ALNIYAAWAS,341967",50454,"N","N","Yes",460,"None",455]
[11,"A",4895,"2026-04-01","vkp456",null,"vk","vkk","F","2019-09-29",null,null,94,52,"OBC","Muslim",null,"ggg",8140200763,"XXXX8804",null,9828121152,"ALNIYAAWAS,BHERUNDA,ALNIYAAWAS,341968",50455,"N","N","Yes",461,"None",456]
[11,"A",4651,"2026-04-02","vkp457",null,"vk","vkk","F","2019-09-30",null,null,94,52,"OBC","Muslim",null,"ggg",8140200764,"XXXX8805",null,9828121153,"ALNIYAAWAS,BHERUNDA,ALNIYAAWAS,341969",50456,"N","N","Yes",462,"None",457]
[11,"A",5430,"2026-04-03","vkp458",null,"vk","vkk","F","2019-10-01",null,null,94,52,"OBC","Muslim",null,"ggg",8140200765,"XXXX8806",null,9828121154,"ALNIYAAWAS,BHERUNDA,ALNIYAAWAS,341970",50457,"N","N","Yes",463,"None",458]
[11,"A",4563,"2026-04-04","vkp459",null,"vk","vkk","F","2019-10-02",null,null,94,52,"OBC","Muslim",null,"ggg",8140200766,"XXXX8807",null,9828121155,"ALNIYAAWAS,BHERUNDA,ALNIYAAWAS,341971",50458,"N","N","Yes",464,"None",459]
[11,"A",4937,"2026-04-05","vkp460",null,"vk","vkk","F","2019-10-03",null,null,94,52,"OBC","Muslim",null,"ggg",8140200767,"XXXX8808",null,9828121156,"ALNIYAAWAS,BHERUNDA,ALNIYAAWAS,341972",50459,"N","N","Yes",465,"None",460]
[11,"A",5442,"2026-04-06","vkp461",null,"vk","vkk","F","2019-10-04",null,null,94,52,"OBC","Muslim",null,"ggg",8140200768,"XXXX8809",null,9828121157,"ALNIYAAWAS,BHERUNDA,ALNIYAAWAS,341973",50460,"N","N","Yes",466,"None",461]
[11,"A",4980,"2026-04-07","vkp462",null,"vk","vkk","F","2019-10-05",null,null,94,52,"OBC","Muslim",null,"ggg",8140200769,"XXXX8810",null,9828121158,"ALNIYAAWAS,BHERUNDA,ALNIYAAWAS,341974",50461,"N","N","Yes",467,"None",462]
[11,"A",4778,"2026-04-08","vkp463",null,"vk","vkk","F","2019-10-06",null,null,94,52,"OBC","Muslim",null,"ggg",8140200770,"XXXX8811",null,9828121159,"ALNIYAAWAS,BHERUNDA,ALNIYAAWAS,341975",50462,"N","N","Yes",468,"None",463]
[11,"A",4677,"2026-04-09","vkp464",null,"vk","vkk","F","2019-10-07",null,null,94,52,"OBC","Muslim",null,"ggg",8140200771,"XXXX8812",null,9828121160,"ALNIYAAWAS,BHERUNDA,ALNIYAAWAS,341976",50463,"N","N","Yes",469,"None",464]
[11,"A",4979,"2026-04-10","vkp465",null,"vk","vkk","F","2019-10-08",null,null,94,52,"OBC","Muslim",null,"ggg",8140200772,"XXXX8813",null,9828121161,"ALNIYAAWAS,BHERUNDA,ALNIYAAWAS,341977",50464,"N","N","Yes",470,"None",465]
[11,"A",5377,"2026-04-11","vkp466",null,"vk","vkk","F","2019-10-09",null,null,94,52,"OBC","Muslim",null,"ggg",8140200773,"XXXX8814",null,9828121162,"ALNIYAAWAS,BHERUNDA,ALNIYAAWAS,341978",50465,"N","N","Yes",471,"None",466]
[11,"A",4845,"2026-04-12","vkp467",null,"vk","vkk","F","2019-10-10",null,null,94,52,"OBC","Muslim",null,"ggg",8140200774,"XXXX8815",null,9828121163,"ALNIYAAWAS,BHERUNDA,ALNIYAAWAS,341979",50466,"N","N","Yes",472,"None",467]
[11,"A",4640,"2026-04-13","vkp468",null,"vk","vkk","F","2019-10-11",null,null,94,52,"OBC","Muslim",null,"ggg",8140200775,"XXXX8816",null,9828121164,"ALNIYAAWAS,BHERUNDA,ALNIYAAWAS,341980",50467,"N","N","Yes",473,"None",468]
[11,"A",5387,"2026-04-14","vkp469",null,"vk","vkk","F","2019-10-12",null,null,94,52,"OBC","Muslim",null,"ggg",8140200776,"XXXX8817",null,9828121165,"ALNIYAAWAS,BHERUNDA,ALNIYAAWAS,341981",50468,"N","N","Yes",474,"None",469]
[11,"A",5364,"2026-04-15","vkp470",null,"vk","vkk","F","2019-10-13",null,null,94,52,"OBC","Muslim",null,"ggg",8140200777,"XXXX8818",null,9828121166,"ALNIYAAWAS,BHERUNDA,ALNIYAAWAS,341982",50469,"N","N","Yes",475,"None",470]
[11,"A",3821,"2026-04-16","vkp471",null,"vk","vkk","F","2019-10-14",null,null,94,52,"OBC","Muslim",null,"ggg",8140200778,"XXXX8819",null,9828121167,"ALNIYAAWAS,BHERUNDA,ALNIYAAWAS,341983",50470,"N","N","Yes",476,"None",471]
[11,"A",5441,"2026-04-17","vkp472",null,"vk","vkk","F","2019-10-15",null,null,94,52,"OBC","Muslim",null,"ggg",8140200779,"XXXX8820",null,9828121168,"ALNIYAAWAS,BHERUNDA,ALNIYAAWAS,341984",50471,"N","N","Yes",477,"None",472]
[11,"A",5024,"2026-04-18","vkp473",null,"vk","vkk","F","2019-10-16",null,null,94,52,"OBC","Muslim",null,"ggg",8140200780,"XXXX8821",null,9828121169,"ALNIYAAWAS,BHERUNDA,ALNIYAAWAS,341985",50472,"N","N","Yes",478,"None",473]
[11,"A",5198,"2026-04-19","vkp474",null,"vk","vkk","F","2019-10-17",null,null,94,52,"OBC","Muslim",null,"ggg",8140200781,"XXXX8822",null,9828121170,"ALNIYAAWAS,BHERUNDA,ALNIYAAWAS,341986",50473,"N","N","Yes",479,"None",474]
[11,"A",4461,"2026-04-20","vkp475",null,"vk","vkk","F","2019-10-18",null,null,94,52,"OBC","Muslim",null,"ggg",8140200782,"XXXX8823",null,9828121171,"ALNIYAAWAS,BHERUNDA,ALNIYAAWAS,341987",50474,"N","N","Yes",480,"None",475]
[11,"A",4482,"2026-04-21","vkp476",null,"vk","vkk","F","2019-10-19",null,null,94,52,"OBC","Muslim",null,"ggg",8140200783,"XXXX8824",null,9828121172,"ALNIYAAWAS,BHERUNDA,ALNIYAAWAS,341988",50475,"N","N","Yes",481,"None",476]
[11,"A",4460,"2026-04-22","vkp477",null,"vk","vkk","F","2019-10-20",null,null,94,52,"OBC","Muslim",null,"ggg",8140200784,"XXXX8825",null,9828121173,"ALNIYAAWAS,BHERUNDA,ALNIYAAWAS,341989",50476,"N","N","Yes",482,"None",477]
[11,"A",4781,"2026-04-23","vkp478",null,"vk","vkk","F","2019-10-21",null,null,94,52,"OBC","Muslim",null,"ggg",8140200785,"XXXX8826",null,9828121174,"ALNIYAAWAS,BHERUNDA,ALNIYAAWAS,341990",50477,"N","N","Yes",483,"None",478]
[11,"A",4985,"2026-04-24","vkp479",null,"vk","vkk","F","2019-10-22",null,null,94,52,"OBC","Muslim",null,"ggg",8140200786,"XXXX8827",null,9828121175,"ALNIYAAWAS,BHERUNDA,ALNIYAAWAS,341991",50478,"N","N","Yes",484,"None",479]
[11,"A",4968,"2026-04-25","vkp480",null,"vk","vkk","F","2019-10-23",null,null,94,52,"OBC","Muslim",null,"ggg",8140200787,"XXXX8828",null,9828121176,"ALNIYAAWAS,BHERUNDA,ALNIYAAWAS,341992",50479,"N","N","Yes",485,"None",480]
[11,"A",4969,"2026-04-26","vkp481",null,"vk","vkk","F","2019-10-24",null,null,94,52,"OBC","Muslim",null,"ggg",8140200788,"XXXX8829",null,9828121177,"ALNIYAAWAS,BHERUNDA,ALNIYAAWAS,341993",50480,"N","N","Yes",486,"None",481]
[11,"A",4774,"2026-04-27","vkp482",null,"vk","vkk","F","2019-10-25",null,null,94,52,"OBC","Muslim",null,"ggg",8140200789,"XXXX8830",null,9828121178,"ALNIYAAWAS,BHERUNDA,ALNIYAAWAS,341994",50481,"N","N","Yes",487,"None",482]
[11,"A",4604,"2026-04-28","vkp483",null,"vk","vkk","F","2019-10-26",null,null,94,52,"OBC","Muslim",null,"ggg",8140200790,"XXXX8831",null,9828121179,"ALNIYAAWAS,BHERUNDA,ALNIYAAWAS,341995",50482,"N","N","Yes",488,"None",483]
[11,"A",4971,"2026-04-29","vkp484",null,"vk","vkk","F","2019-10-27",null,null,94,52,"OBC","Muslim",null,"ggg",8140200791,"XXXX8832",null,9828121180,"ALNIYAAWAS,BHERUNDA,ALNIYAAWAS,341996",50483,"N","N","Yes",489,"None",484]
[11,"A",4693,"2026-04-30","vkp485",null,"vk","vkk","F","2019-10-28",null,null,94,52,"OBC","Muslim",null,"ggg",8140200792,"XXXX8833",null,9828121181,"ALNIYAAWAS,BHERUNDA,ALNIYAAWAS,341997",50484,"N","N","Yes",490,"None",485]
[11,"A",4922,"2026-05-01","vkp486",null,"vk","vkk","F","2019-10-29",null,null,94,52,"OBC","Muslim",null,"ggg",8140200793,"XXXX8834",null,9828121182,"ALNIYAAWAS,BHERUNDA,ALNIYAAWAS,341998",50485,"N","N","Yes",491,"None",486]
[11,"A",5362,"2026-05-02","vkp487",null,"vk","vkk","F","2019-10-30",null,null,94,52,"OBC","Muslim",null,"ggg",8140200794,"XXXX8835",null,9828121183,"ALNIYAAWAS,BHERUNDA,ALNIYAAWAS,341999",50486,"N","N","Yes",492,"None",487]
[11,"A",5361,"2026-05-03","vkp488",null,"vk","vkk","F","2019-10-31",null,null,94,52,"OBC","Muslim",null,"ggg",8140200795,"XXXX8836",null,9828121184,"ALNIYAAWAS,BHERUNDA,ALNIYAAWAS,342000",50487,"N","N","Yes",493,"None",488]
[11,"A",4935,"2026-05-04","vkp489",null,"vk","vkk","F","2019-11-01",null,null,94,52,"OBC","Muslim",null,"ggg",8140200796,"XXXX8837",null,9828121185,"ALNIYAAWAS,BHERUNDA,ALNIYAAWAS,342001",50488,"N","N","Yes",494,"None",489]
[11,"A",5009,"2026-05-05","vkp490",null,"vk","vkk","F","2019-11-02",null,null,94,52,"OBC","Muslim",null,"ggg",8140200797,"XXXX8838",null,9828121186,"ALNIYAAWAS,BHERUNDA,ALNIYAAWAS,342002",50489,"N","N","Yes",495,"None",490]
[11,"B",5444,"2026-05-06","vkp491",null,"vk","vkk","F","2019-11-03",null,null,94,52,"OBC","Muslim",null,"ggg",8140200798,"XXXX8839",null,9828121187,"ALNIYAAWAS,BHERUNDA,ALNIYAAWAS,342003",50490,"N","N","Yes",496,"None",491]
[11,"B",5018,"2026-05-07","vkp492",null,"vk","vkk","F","2019-11-04",null,null,94,52,"OBC","Muslim",null,"ggg",8140200799,"XXXX8840",null,9828121188,"ALNIYAAWAS,BHERUNDA,ALNIYAAWAS,342004",50491,"N","N","Yes",497,"None",492]
[11,"B",4844,"2026-05-08","vkp493",null,"vk","vkk","F","2019-11-05",null,null,94,52,"OBC","Muslim",null,"ggg",8140200800,"XXXX8841",null,9828121189,"ALNIYAAWAS,BHERUNDA,ALNIYAAWAS,342005",50492,"N","N","Yes",498,"None",493]
[11,"B",4896,"2026-05-09","vkp494",null,"vk","vkk","F","2019-11-06",null,null,94,52,"OBC","Muslim",null,"ggg",8140200801,"XXXX8842",null,9828121190,"ALNIYAAWAS,BHERUNDA,ALNIYAAWAS,342006",50493,"N","N","Yes",499,"None",494]
[11,"B",4263,"2026-05-10","vkp495",null,"vk","vkk","F","2019-11-07",null,null,94,52,"OBC","Muslim",null,"ggg",8140200802,"XXXX8843",null,9828121191,"ALNIYAAWAS,BHERUNDA,ALNIYAAWAS,342007",50494,"N","N","Yes",500,"None",495]
[11,"B",4936,"2026-05-11","vkp496",null,"vk","vkk","F","2019-11-08",null,null,94,52,"OBC","Muslim",null,"ggg",8140200803,"XXXX8844",null,9828121192,"ALNIYAAWAS,BHERUNDA,ALNIYAAWAS,342008",50495,"N","N","Yes",501,"None",496]
[11,"B",4958,"2026-05-12","vkp497",null,"vk","vkk","F","2019-11-09",null,null,94,52,"OBC","Muslim",null,"ggg",8140200804,"XXXX8845",null,9828121193,"ALNIYAAWAS,BHERUNDA,ALNIYAAWAS,342009",50496,"N","N","Yes",502,"None",497]
[11,"B",4999,"2026-05-13","vkp498",null,"vk","vkk","F","2019-11-10",null,null,94,52,"OBC","Muslim",null,"ggg",8140200805,"XXXX8846",null,9828121194,"ALNIYAAWAS,BHERUNDA,ALNIYAAWAS,342010",50497,"N","N","Yes",503,"None",498]
[11,"B",4801,"2026-05-14","vkp499",null,"vk","vkk","F","2019-11-11",null,null,94,52,"OBC","Muslim",null,"ggg",8140200806,"XXXX8847",null,9828121195,"ALNIYAAWAS,BHERUNDA,ALNIYAAWAS,342011",50498,"N","N","Yes",504,"None",499]
[11,"B",4954,"2026-05-15","vkp500",null,"vk","vkk","F","2019-11-12",null,null,94,52,"OBC","Muslim",null,"ggg",8140200807,"XXXX8848",null,9828121196,"ALNIYAAWAS,BHERUNDA,ALNIYAAWAS,342012",50499,"N","N","Yes",505,"None",500]
[11,"B",5335,"2026-05-16","vkp501",null,"vk","vkk","F","2019-11-13",null,null,94,52,"OBC","Muslim",null,"ggg",8140200808,"XXXX8849",null,9828121197,"ALNIYAAWAS,BHERUNDA,ALNIYAAWAS,342013",50500,"N","N","Yes",506,"None",501]
[11,"B",5084,"2026-05-17","vkp502",null,"vk","vkk","F","2019-11-14",null,null,94,52,"OBC","Muslim",null,"ggg",8140200809,"XXXX8850",null,9828121198,"ALNIYAAWAS,BHERUNDA,ALNIYAAWAS,342014",50501,"N","N","Yes",507,"None",502]
[11,"B",4576,"2026-05-18","vkp503",null,"vk","vkk","F","2019-11-15",null,null,94,52,"OBC","Muslim",null,"ggg",8140200810,"XXXX8851",null,9828121199,"ALNIYAAWAS,BHERUNDA,ALNIYAAWAS,342015",50502,"N","N","Yes",508,"None",503]
[11,"B",4923,"2026-05-19","vkp504",null,"vk","vkk","F","2019-11-16",null,null,94,52,"OBC","Muslim",null,"ggg",8140200811,"XXXX8852",null,9828121200,"ALNIYAAWAS,BHERUNDA,ALNIYAAWAS,342016",50503,"N","N","Yes",509,"None",504]
[11,"B",4977,"2026-05-20","vkp505",null,"vk","vkk","F","2019-11-17",null,null,94,52,"OBC","Muslim",null,"ggg",8140200812,"XXXX8853",null,9828121201,"ALNIYAAWAS,BHERUNDA,ALNIYAAWAS,342017",50504,"N","N","Yes",510,"None",505]
[11,"B",4485,"2026-05-21","vkp506",null,"vk","vkk","F","2019-11-18",null,null,94,52,"OBC","Muslim",null,"ggg",8140200813,"XXXX8854",null,9828121202,"ALNIYAAWAS,BHERUNDA,ALNIYAAWAS,342018",50505,"N","N","Yes",511,"None",506]
[11,"B",4953,"2026-05-22","vkp507",null,"vk","vkk","F","2019-11-19",null,null,94,52,"OBC","Muslim",null,"ggg",8140200814,"XXXX8855",null,9828121203,"ALNIYAAWAS,BHERUNDA,ALNIYAAWAS,342019",50506,"N","N","Yes",512,"None",507]
[11,"B",5002,"2026-05-23","vkp508",null,"vk","vkk","F","2019-11-20",null,null,94,52,"OBC","Muslim",null,"ggg",8140200815,"XXXX8856",null,9828121204,"ALNIYAAWAS,BHERUNDA,ALNIYAAWAS,342020",50507,"N","N","Yes",513,"None",508]
[11,"B",4984,"2026-05-24","vkp509",null,"vk","vkk","F","2019-11-21",null,null,94,52,"OBC","Muslim",null,"ggg",8140200816,"XXXX8857",null,9828121205,"ALNIYAAWAS,BHERUNDA,ALNIYAAWAS,342021",50508,"N","N","Yes",514,"None",509]
[11,"B",5336,"2026-05-25","vkp510",null,"vk","vkk","F","2019-11-22",null,null,94,52,"OBC","Muslim",null,"ggg",8140200817,"XXXX8858",null,9828121206,"ALNIYAAWAS,BHERUNDA,ALNIYAAWAS,342022",50509,"N","N","Yes",515,"None",510]
[11,"B",5042,"2026-05-26","vkp511",null,"vk","vkk","F","2019-11-23",null,null,94,52,"OBC","Muslim",null,"ggg",8140200818,"XXXX8859",null,9828121207,"ALNIYAAWAS,BHERUNDA,ALNIYAAWAS,342023",50510,"N","N","Yes",516,"None",511]
[11,"B",5041,"2026-05-27","vkp512",null,"vk","vkk","F","2019-11-24",null,null,94,52,"OBC","Muslim",null,"ggg",8140200819,"XXXX8860",null,9828121208,"ALNIYAAWAS,BHERUNDA,ALNIYAAWAS,342024",50511,"N","N","Yes",517,"None",512]
[11,"B",5412,"2026-05-28","vkp513",null,"vk","vkk","F","2019-11-25",null,null,94,52,"OBC","Muslim",null,"ggg",8140200820,"XXXX8861",null,9828121209,"ALNIYAAWAS,BHERUNDA,ALNIYAAWAS,342025",50512,"N","N","Yes",518,"None",513]
[11,"B",5366,"2026-05-29","vkp514",null,"vk","vkk","F","2019-11-26",null,null,94,52,"OBC","Muslim",null,"ggg",8140200821,"XXXX8862",null,9828121210,"ALNIYAAWAS,BHERUNDA,ALNIYAAWAS,342026",50513,"N","N","Yes",519,"None",514]
[11,"B",3882,"2026-05-30","vkp515",null,"vk","vkk","F","2019-11-27",null,null,94,52,"OBC","Muslim",null,"ggg",8140200822,"XXXX8863",null,9828121211,"ALNIYAAWAS,BHERUNDA,ALNIYAAWAS,342027",50514,"N","N","Yes",520,"None",515]
[11,"B",4934,"2026-05-31","vkp516",null,"vk","vkk","F","2019-11-28",null,null,94,52,"OBC","Muslim",null,"ggg",8140200823,"XXXX8864",null,9828121212,"ALNIYAAWAS,BHERUNDA,ALNIYAAWAS,342028",50515,"N","N","Yes",521,"None",516]
[11,"B",3867,"2026-06-01","vkp517",null,"vk","vkk","F","2019-11-29",null,null,94,52,"OBC","Muslim",null,"ggg",8140200824,"XXXX8865",null,9828121213,"ALNIYAAWAS,BHERUNDA,ALNIYAAWAS,342029",50516,"N","N","Yes",522,"None",517]
[11,"B",5405,"2026-06-02","vkp518",null,"vk","vkk","F","2019-11-30",null,null,94,52,"OBC","Muslim",null,"ggg",8140200825,"XXXX8866",null,9828121214,"ALNIYAAWAS,BHERUNDA,ALNIYAAWAS,342030",50517,"N","N","Yes",523,"None",518]
[11,"B",4998,"2026-06-03","vkp519",null,"vk","vkk","F","2019-12-01",null,null,94,52,"OBC","Muslim",null,"ggg",8140200826,"XXXX8867",null,9828121215,"ALNIYAAWAS,BHERUNDA,ALNIYAAWAS,342031",50518,"N","N","Yes",524,"None",519]
[11,"B",4967,"2026-06-04","vkp520",null,"vk","vkk","F","2019-12-02",null,null,94,52,"OBC","Muslim",null,"ggg",8140200827,"XXXX8868",null,9828121216,"ALNIYAAWAS,BHERUNDA,ALNIYAAWAS,342032",50519,"N","N","Yes",525,"None",520]
[11,"B",5034,"2026-06-05","vkp521",null,"vk","vkk","F","2019-12-03",null,null,94,52,"OBC","Muslim",null,"ggg",8140200828,"XXXX8869",null,9828121217,"ALNIYAAWAS,BHERUNDA,ALNIYAAWAS,342033",50520,"N","N","Yes",526,"None",521]
[11,"B",5382,"2026-06-06","vkp522",null,"vk","vkk","F","2019-12-04",null,null,94,52,"OBC","Muslim",null,"ggg",8140200829,"XXXX8870",null,9828121218,"ALNIYAAWAS,BHERUNDA,ALNIYAAWAS,342034",50521,"N","N","Yes",527,"None",522]
[11,"B",4523,"2026-06-07","vkp523",null,"vk","vkk","F","2019-12-05",null,null,94,52,"OBC","Muslim",null,"ggg",8140200830,"XXXX8871",null,9828121219,"ALNIYAAWAS,BHERUNDA,ALNIYAAWAS,342035",50522,"N","N","Yes",528,"None",523]
[11,"B",4928,"2026-06-08","vkp524",null,"vk","vkk","F","2019-12-06",null,null,94,52,"OBC","Muslim",null,"ggg",8140200831,"XXXX8872",null,9828121220,"ALNIYAAWAS,BHERUNDA,ALNIYAAWAS,342036",50523,"N","N","Yes",529,"None",524]
[11,"B",5337,"2026-06-09","vkp525",null,"vk","vkk","F","2019-12-07",null,null,94,52,"OBC","Muslim",null,"ggg",8140200832,"XXXX8873",null,9828121221,"ALNIYAAWAS,BHERUNDA,ALNIYAAWAS,342037",50524,"N","N","Yes",530,"None",525]
[11,"B",5421,"2026-06-10","vkp526",null,"vk","vkk","F","2019-12-08",null,null,94,52,"OBC","Muslim",null,"ggg",8140200833,"XXXX8874",null,9828121222,"ALNIYAAWAS,BHERUNDA,ALNIYAAWAS,342038",50525,"N","N","Yes",531,"None",526]
[11,"B",5345,"2026-06-11","vkp527",null,"vk","vkk","F","2019-12-09",null,null,94,52,"OBC","Muslim",null,"ggg",8140200834,"XXXX8875",null,9828121223,"ALNIYAAWAS,BHERUNDA,ALNIYAAWAS,342039",50526,"N","N","Yes",532,"None",527]
[11,"B",5440,"2026-06-12","vkp528",null,"vk","vkk","F","2019-12-10",null,null,94,52,"OBC","Muslim",null,"ggg",8140200835,"XXXX8876",null,9828121224,"ALNIYAAWAS,BHERUNDA,ALNIYAAWAS,342040",50527,"N","N","Yes",533,"None",528]
[11,"B",5016,"2026-06-13","vkp529",null,"vk","vkk","F","2019-12-11",null,null,94,52,"OBC","Muslim",null,"ggg",8140200836,"XXXX8877",null,9828121225,"ALNIYAAWAS,BHERUNDA,ALNIYAAWAS,342041",50528,"N","N","Yes",534,"None",529]
[11,"B",5033,"2026-06-14","vkp530",null,"vk","vkk","F","2019-12-12",null,null,94,52,"OBC","Muslim",null,"ggg",8140200837,"XXXX8878",null,9828121226,"ALNIYAAWAS,BHERUNDA,ALNIYAAWAS,342042",50529,"N","N","Yes",535,"None",530]
[12,"A",3822,"2026-06-15","vkp531",null,"vk","vkk","F","2019-12-13",null,null,94,52,"OBC","Muslim",null,"ggg",8140200838,"XXXX8879",null,9828121227,"ALNIYAAWAS,BHERUNDA,ALNIYAAWAS,342043",50530,"N","N","Yes",536,"None",531]
[12,"A",4266,"2026-06-16","vkp532",null,"vk","vkk","F","2019-12-14",null,null,94,52,"OBC","Muslim",null,"ggg",8140200839,"XXXX8880",null,9828121228,"ALNIYAAWAS,BHERUNDA,ALNIYAAWAS,342044",50531,"N","N","Yes",537,"None",532]
[12,"A",4773,"2026-06-17","vkp533",null,"vk","vkk","F","2019-12-15",null,null,94,52,"OBC","Muslim",null,"ggg",8140200840,"XXXX8881",null,9828121229,"ALNIYAAWAS,BHERUNDA,ALNIYAAWAS,342045",50532,"N","N","Yes",538,"None",533]
[12,"A",5180,"2026-06-18","vkp534",null,"vk","vkk","F","2019-12-16",null,null,94,52,"OBC","Muslim",null,"ggg",8140200841,"XXXX8882",null,9828121230,"ALNIYAAWAS,BHERUNDA,ALNIYAAWAS,342046",50533,"N","N","Yes",539,"None",534]
[12,"A",4847,"2026-06-19","vkp535",null,"vk","vkk","F","2019-12-17",null,null,94,52,"OBC","Muslim",null,"ggg",8140200842,"XXXX8883",null,9828121231,"ALNIYAAWAS,BHERUNDA,ALNIYAAWAS,342047",50534,"N","N","Yes",540,"None",535]
[12,"A",5267,"2026-06-20","vkp536",null,"vk","vkk","F","2019-12-18",null,null,94,52,"OBC","Muslim",null,"ggg",8140200843,"XXXX8884",null,9828121232,"ALNIYAAWAS,BHERUNDA,ALNIYAAWAS,342048",50535,"N","N","Yes",541,"None",536]
[12,"A",5250,"2026-06-21","vkp537",null,"vk","vkk","F","2019-12-19",null,null,94,52,"OBC","Muslim",null,"ggg",8140200844,"XXXX8885",null,9828121233,"ALNIYAAWAS,BHERUNDA,ALNIYAAWAS,342049",50536,"N","N","Yes",542,"None",537]
[12,"A",4836,"2026-06-22","vkp538",null,"vk","vkk","F","2019-12-20",null,null,94,52,"OBC","Muslim",null,"ggg",8140200845,"XXXX8886",null,9828121234,"ALNIYAAWAS,BHERUNDA,ALNIYAAWAS,342050",50537,"N","N","Yes",543,"None",538]
[12,"A",4853,"2026-06-23","vkp539",null,"vk","vkk","F","2019-12-21",null,null,94,52,"OBC","Muslim",null,"ggg",8140200846,"XXXX8887",null,9828121235,"ALNIYAAWAS,BHERUNDA,ALNIYAAWAS,342051",50538,"N","N","Yes",544,"None",539]
[12,"A",4831,"2026-06-24","vkp540",null,"vk","vkk","F","2019-12-22",null,null,94,52,"OBC","Muslim",null,"ggg",8140200847,"XXXX8888",null,9828121236,"ALNIYAAWAS,BHERUNDA,ALNIYAAWAS,342052",50539,"N","N","Yes",545,"None",540]
[12,"A",5346,"2026-06-25","vkp541",null,"vk","vkk","F","2019-12-23",null,null,94,52,"OBC","Muslim",null,"ggg",8140200848,"XXXX8889",null,9828121237,"ALNIYAAWAS,BHERUNDA,ALNIYAAWAS,342053",50540,"N","N","Yes",546,"None",541]
[12,"A",4546,"2026-06-26","vkp542",null,"vk","vkk","F","2019-12-24",null,null,94,52,"OBC","Muslim",null,"ggg",8140200849,"XXXX8890",null,9828121238,"ALNIYAAWAS,BHERUNDA,ALNIYAAWAS,342054",50541,"N","N","Yes",547,"None",542]
[12,"A",4828,"2026-06-27","vkp543",null,"vk","vkk","F","2019-12-25",null,null,94,52,"OBC","Muslim",null,"ggg",8140200850,"XXXX8891",null,9828121239,"ALNIYAAWAS,BHERUNDA,ALNIYAAWAS,342055",50542,"N","N","Yes",548,"None",543]
[12,"A",5275,"2026-06-28","vkp544",null,"vk","vkk","F","2019-12-26",null,null,94,52,"OBC","Muslim",null,"ggg",8140200851,"XXXX8892",null,9828121240,"ALNIYAAWAS,BHERUNDA,ALNIYAAWAS,342056",50543,"N","N","Yes",549,"None",544]
[12,"A",4824,"2026-06-29","vkp545",null,"vk","vkk","F","2019-12-27",null,null,94,52,"OBC","Muslim",null,"ggg",8140200852,"XXXX8893",null,9828121241,"ALNIYAAWAS,BHERUNDA,ALNIYAAWAS,342057",50544,"N","N","Yes",550,"None",545]
[12,"A",4511,"2026-06-30","vkp546",null,"vk","vkk","F","2019-12-28",null,null,94,52,"OBC","Muslim",null,"ggg",8140200853,"XXXX8894",null,9828121242,"ALNIYAAWAS,BHERUNDA,ALNIYAAWAS,342058",50545,"N","N","Yes",551,"None",546]
[12,"A",5174,"2026-07-01","vkp547",null,"vk","vkk","F","2019-12-29",null,null,94,52,"OBC","Muslim",null,"ggg",8140200854,"XXXX8895",null,9828121243,"ALNIYAAWAS,BHERUNDA,ALNIYAAWAS,342059",50546,"N","N","Yes",552,"None",547]
[12,"A",4759,"2026-07-02","vkp548",null,"vk","vkk","F","2019-12-30",null,null,94,52,"OBC","Muslim",null,"ggg",8140200855,"XXXX8896",null,9828121244,"ALNIYAAWAS,BHERUNDA,ALNIYAAWAS,342060",50547,"N","N","Yes",553,"None",548]
[12,"A",3846,"2026-07-03","vkp549",null,"vk","vkk","F","2019-12-31",null,null,94,52,"OBC","Muslim",null,"ggg",8140200856,"XXXX8897",null,9828121245,"ALNIYAAWAS,BHERUNDA,ALNIYAAWAS,342061",50548,"N","N","Yes",554,"None",549]
[12,"A",4222,"2026-07-04","vkp550",null,"vk","vkk","F","2020-01-01",null,null,94,52,"OBC","Muslim",null,"ggg",8140200857,"XXXX8898",null,9828121246,"ALNIYAAWAS,BHERUNDA,ALNIYAAWAS,342062",50549,"N","N","Yes",555,"None",550]
[12,"A",4387,"2026-07-05","vkp551",null,"vk","vkk","F","2020-01-02",null,null,94,52,"OBC","Muslim",null,"ggg",8140200858,"XXXX8899",null,9828121247,"ALNIYAAWAS,BHERUNDA,ALNIYAAWAS,342063",50550,"N","N","Yes",556,"None",551]
[12,"A",5292,"2026-07-06","vkp552",null,"vk","vkk","F","2020-01-03",null,null,94,52,"OBC","Muslim",null,"ggg",8140200859,"XXXX8900",null,9828121248,"ALNIYAAWAS,BHERUNDA,ALNIYAAWAS,342064",50551,"N","N","Yes",557,"None",552]
[12,"A",4848,"2026-07-07","vkp553",null,"vk","vkk","F","2020-01-04",null,null,94,52,"OBC","Muslim",null,"ggg",8140200860,"XXXX8901",null,9828121249,"ALNIYAAWAS,BHERUNDA,ALNIYAAWAS,342065",50552,"N","N","Yes",558,"None",553]
[12,"A",5017,"2026-07-08","vkp554",null,"vk","vkk","F","2020-01-05",null,null,94,52,"OBC","Muslim",null,"ggg",8140200861,"XXXX8902",null,9828121250,"ALNIYAAWAS,BHERUNDA,ALNIYAAWAS,342066",50553,"N","N","Yes",559,"None",554]
[12,"A",4291,"2026-07-09","vkp555",null,"vk","vkk","F","2020-01-06",null,null,94,52,"OBC","Muslim",null,"ggg",8140200862,"XXXX8903",null,9828121251,"ALNIYAAWAS,BHERUNDA,ALNIYAAWAS,342067",50554,"N","N","Yes",560,"None",555]
[12,"A",4768,"2026-07-10","vkp556",null,"vk","vkk","F","2020-01-07",null,null,94,52,"OBC","Muslim",null,"ggg",8140200863,"XXXX8904",null,9828121252,"ALNIYAAWAS,BHERUNDA,ALNIYAAWAS,342068",50555,"N","N","Yes",561,"None",556]
[12,"A",4889,"2026-07-11","vkp557",null,"vk","vkk","F","2020-01-08",null,null,94,52,"OBC","Muslim",null,"ggg",8140200864,"XXXX8905",null,9828121253,"ALNIYAAWAS,BHERUNDA,ALNIYAAWAS,342069",50556,"N","N","Yes",562,"None",557]
[12,"A",5086,"2026-07-12","vkp558",null,"vk","vkk","F","2020-01-09",null,null,94,52,"OBC","Muslim",null,"ggg",8140200865,"XXXX8906",null,9828121254,"ALNIYAAWAS,BHERUNDA,ALNIYAAWAS,342070",50557,"N","N","Yes",563,"None",558]
[12,"A",3817,"2026-07-13","vkp559",null,"vk","vkk","F","2020-01-10",null,null,94,52,"OBC","Muslim",null,"ggg",8140200866,"XXXX8907",null,9828121255,"ALNIYAAWAS,BHERUNDA,ALNIYAAWAS,342071",50558,"N","N","Yes",564,"None",559]
[12,"A",3848,"2026-07-14","vkp560",null,"vk","vkk","F","2020-01-11",null,null,94,52,"OBC","Muslim",null,"ggg",8140200867,"XXXX8908",null,9828121256,"ALNIYAAWAS,BHERUNDA,ALNIYAAWAS,342072",50559,"N","N","Yes",565,"None",560]
[12,"A",4825,"2026-07-15","vkp561",null,"vk","vkk","F","2020-01-12",null,null,94,52,"OBC","Muslim",null,"ggg",8140200868,"XXXX8909",null,9828121257,"ALNIYAAWAS,BHERUNDA,ALNIYAAWAS,342073",50560,"N","N","Yes",566,"None",561]
[12,"A",3839,"2026-07-16","vkp562",null,"vk","vkk","F","2020-01-13",null,null,94,52,"OBC","Muslim",null,"ggg",8140200869,"XXXX8910",null,9828121258,"ALNIYAAWAS,BHERUNDA,ALNIYAAWAS,342074",50561,"N","N","Yes",567,"None",562]
[12,"A",4840,"2026-07-17","vkp563",null,"vk","vkk","F","2020-01-14",null,null,94,52,"OBC","Muslim",null,"ggg",8140200870,"XXXX8911",null,9828121259,"ALNIYAAWAS,BHERUNDA,ALNIYAAWAS,342075",50562,"N","N","Yes",568,"None",563]
[12,"A",4817,"2026-07-18","vkp564",null,"vk","vkk","F","2020-01-15",null,null,94,52,"OBC","Muslim",null,"ggg",8140200871,"XXXX8912",null,9828121260,"ALNIYAAWAS,BHERUNDA,ALNIYAAWAS,342076",50563,"N","N","Yes",569,"None",564]
[12,"A",4726,"2026-07-19","vkp565",null,"vk","vkk","F","2020-01-16",null,null,94,52,"OBC","Muslim",null,"ggg",8140200872,"XXXX8913",null,9828121261,"ALNIYAAWAS,BHERUNDA,ALNIYAAWAS,342077",50564,"N","N","Yes",570,"None",565]
[12,"A",4284,"2026-07-20","vkp566",null,"vk","vkk","F","2020-01-17",null,null,94,52,"OBC","Muslim",null,"ggg",8140200873,"XXXX8914",null,9828121262,"ALNIYAAWAS,BHERUNDA,ALNIYAAWAS,342078",50565,"N","N","Yes",571,"None",566]
[12,"A",5451,"2026-07-21","vkp567",null,"vk","vkk","F","2020-01-18",null,null,94,52,"OBC","Muslim",null,"ggg",8140200874,"XXXX8915",null,9828121263,"ALNIYAAWAS,BHERUNDA,ALNIYAAWAS,342079",50566,"N","N","Yes",572,"None",567]
[12,"A",5175,"2026-07-22","vkp568",null,"vk","vkk","F","2020-01-19",null,null,94,52,"OBC","Muslim",null,"ggg",8140200875,"XXXX8916",null,9828121264,"ALNIYAAWAS,BHERUNDA,ALNIYAAWAS,342080",50567,"N","N","Yes",573,"None",568]
[12,"A",5178,"2026-07-23","vkp569",null,"vk","vkk","F","2020-01-20",null,null,94,52,"OBC","Muslim",null,"ggg",8140200876,"XXXX8917",null,9828121265,"ALNIYAAWAS,BHERUNDA,ALNIYAAWAS,342081",50568,"N","N","Yes",574,"None",569]
[12,"A",4877,"2026-07-24","vkp570",null,"vk","vkk","F","2020-01-21",null,null,94,52,"OBC","Muslim",null,"ggg",8140200877,"XXXX8918",null,9828121266,"ALNIYAAWAS,BHERUNDA,ALNIYAAWAS,342082",50569,"N","N","Yes",575,"None",570]
[12,"A",5079,"2026-07-25","vkp571",null,"vk","vkk","F","2020-01-22",null,null,94,52,"OBC","Muslim",null,"ggg",8140200878,"XXXX8919",null,9828121267,"ALNIYAAWAS,BHERUNDA,ALNIYAAWAS,342083",50570,"N","N","Yes",576,"None",571]
[12,"A",4827,"2026-07-26","vkp572",null,"vk","vkk","F","2020-01-23",null,null,94,52,"OBC","Muslim",null,"ggg",8140200879,"XXXX8920",null,9828121268,"ALNIYAAWAS,BHERUNDA,ALNIYAAWAS,342084",50571,"N","N","Yes",577,"None",572]
[12,"A",4701,"2026-07-27","vkp573",null,"vk","vkk","F","2020-01-24",null,null,94,52,"OBC","Muslim",null,"ggg",8140200880,"XXXX8921",null,9828121269,"ALNIYAAWAS,BHERUNDA,ALNIYAAWAS,342085",50572,"N","N","Yes",578,"None",573]
[12,"A",4785,"2026-07-28","vkp574",null,"vk","vkk","F","2020-01-25",null,null,94,52,"OBC","Muslim",null,"ggg",8140200881,"XXXX8922",null,9828121270,"ALNIYAAWAS,BHERUNDA,ALNIYAAWAS,342086",50573,"N","N","Yes",579,"None",574]
[12,"A",5164,"2026-07-29","vkp575",null,"vk","vkk","F","2020-01-26",null,null,94,52,"OBC","Muslim",null,"ggg",8140200882,"XXXX8923",null,9828121271,"ALNIYAAWAS,BHERUNDA,ALNIYAAWAS,342087",50574,"N","N","Yes",580,"None",575]
[12,"A",5177,"2026-07-30","vkp576",null,"vk","vkk","F","2020-01-27",null,null,94,52,"OBC","Muslim",null,"ggg",8140200883,"XXXX8924",null,9828121272,"ALNIYAAWAS,BHERUNDA,ALNIYAAWAS,342088",50575,"N","N","Yes",581,"None",576]
[12,"A",5179,"2026-07-31","vkp577",null,"vk","vkk","F","2020-01-28",null,null,94,52,"OBC","Muslim",null,"ggg",8140200884,"XXXX8925",null,9828121273,"ALNIYAAWAS,BHERUNDA,ALNIYAAWAS,342089",50576,"N","N","Yes",582,"None",577]
[12,"A",4839,"2026-08-01","vkp578",null,"vk","vkk","F","2020-01-29",null,null,94,52,"OBC","Muslim",null,"ggg",8140200885,"XXXX8926",null,9828121274,"ALNIYAAWAS,BHERUNDA,ALNIYAAWAS,342090",50577,"N","N","Yes",583,"None",578]
[12,"A",4812,"2026-08-02","vkp579",null,"vk","vkk","F","2020-01-30",null,null,94,52,"OBC","Muslim",null,"ggg",8140200886,"XXXX8927",null,9828121275,"ALNIYAAWAS,BHERUNDA,ALNIYAAWAS,342091",50578,"N","N","Yes",584,"None",579]
[12,"A",3835,"2026-08-03","vkp580",null,"vk","vkk","F","2020-01-31",null,null,94,52,"OBC","Muslim",null,"ggg",8140200887,"XXXX8928",null,9828121276,"ALNIYAAWAS,BHERUNDA,ALNIYAAWAS,342092",50579,"N","N","Yes",585,"None",580]
[12,"A",4271,"2026-08-04","vkp581",null,"vk","vkk","F","2020-02-01",null,null,94,52,"OBC","Muslim",null,"ggg",8140200888,"XXXX8929",null,9828121277,"ALNIYAAWAS,BHERUNDA,ALNIYAAWAS,342093",50580,"N","N","Yes",586,"None",581]
[12,"A",4822,"2026-08-05","vkp582",null,"vk","vkk","F","2020-02-02",null,null,94,52,"OBC","Muslim",null,"ggg",8140200889,"XXXX8930",null,9828121278,"ALNIYAAWAS,BHERUNDA,ALNIYAAWAS,342094",50581,"N","N","Yes",587,"None",582]
[12,"A",4833,"2026-08-06","vkp583",null,"vk","vkk","F","2020-02-03",null,null,94,52,"OBC","Muslim",null,"ggg",8140200890,"XXXX8931",null,9828121279,"ALNIYAAWAS,BHERUNDA,ALNIYAAWAS,342095",50582,"N","N","Yes",588,"None",583]
[12,"A",5176,"2026-08-07","vkp584",null,"vk","vkk","F","2020-02-04",null,null,94,52,"OBC","Muslim",null,"ggg",8140200891,"XXXX8932",null,9828121280,"ALNIYAAWAS,BHERUNDA,ALNIYAAWAS,342096",50583,"N","N","Yes",589,"None",584]
[12,"A",3823,"2026-08-08","vkp585",null,"vk","vkk","F","2020-02-05",null,null,94,52,"OBC","Muslim",null,"ggg",8140200892,"XXXX8933",null,9828121281,"ALNIYAAWAS,BHERUNDA,ALNIYAAWAS,342097",50584,"N","N","Yes",590,"None",585]
[12,"A",3783,"2026-08-09","vkp586",null,"vk","vkk","F","2020-02-06",null,null,94,52,"OBC","Muslim",null,"ggg",8140200893,"XXXX8934",null,9828121282,"ALNIYAAWAS,BHERUNDA,ALNIYAAWAS,342098",50585,"N","N","Yes",591,"None",586]
[12,"A",4798,"2026-08-10","vkp587",null,"vk","vkk","F","2020-02-07",null,null,94,52,"OBC","Muslim",null,"ggg",8140200894,"XXXX8935",null,9828121283,"ALNIYAAWAS,BHERUNDA,ALNIYAAWAS,342099",50586,"N","N","Yes",592,"None",587]
[12,"A",4444,"2026-08-11","vkp588",null,"vk","vkk","F","2020-02-08",null,null,94,52,"OBC","Muslim",null,"ggg",8140200895,"XXXX8936",null,9828121284,"ALNIYAAWAS,BHERUNDA,ALNIYAAWAS,342100",50587,"N","N","Yes",593,"None",588]
[12,"A",4569,"2026-08-12","vkp589",null,"vk","vkk","F","2020-02-09",null,null,94,52,"OBC","Muslim",null,"ggg",8140200896,"XXXX8937",null,9828121285,"ALNIYAAWAS,BHERUNDA,ALNIYAAWAS,342101",50588,"N","N","Yes",594,"None",589]
[12,"A",4890,"2026-08-13","vkp590",null,"vk","vkk","F","2020-02-10",null,null,94,52,"OBC","Muslim",null,"ggg",8140200897,"XXXX8938",null,9828121286,"ALNIYAAWAS,BHERUNDA,ALNIYAAWAS,342102",50589,"N","N","Yes",595,"None",590]
[12,"A",4098,"2026-08-14","vkp591",null,"vk","vkk","F","2020-02-11",null,null,94,52,"OBC","Muslim",null,"ggg",8140200898,"XXXX8939",null,9828121287,"ALNIYAAWAS,BHERUNDA,ALNIYAAWAS,342103",50590,"N","N","Yes",596,"None",591]
[12,"B",4636,"2026-08-15","vkp592",null,"vk","vkk","F","2020-02-12",null,null,94,52,"OBC","Muslim",null,"ggg",8140200899,"XXXX8940",null,9828121288,"ALNIYAAWAS,BHERUNDA,ALNIYAAWAS,342104",50591,"N","N","Yes",597,"None",592]
[12,"B",4823,"2026-08-16","vkp593",null,"vk","vkk","F","2020-02-13",null,null,94,52,"OBC","Muslim",null,"ggg",8140200900,"XXXX8941",null,9828121289,"ALNIYAAWAS,BHERUNDA,ALNIYAAWAS,342105",50592,"N","N","Yes",598,"None",593]
[12,"B",5325,"2026-08-17","vkp594",null,"vk","vkk","F","2020-02-14",null,null,94,52,"OBC","Muslim",null,"ggg",8140200901,"XXXX8942",null,9828121290,"ALNIYAAWAS,BHERUNDA,ALNIYAAWAS,342106",50593,"N","N","Yes",599,"None",594]
[12,"B",5195,"2026-08-18","vkp595",null,"vk","vkk","F","2020-02-15",null,null,94,52,"OBC","Muslim",null,"ggg",8140200902,"XXXX8943",null,9828121291,"ALNIYAAWAS,BHERUNDA,ALNIYAAWAS,342107",50594,"N","N","Yes",600,"None",595]
[12,"B",5349,"2026-08-19","vkp596",null,"vk","vkk","F","2020-02-16",null,null,94,52,"OBC","Muslim",null,"ggg",8140200903,"XXXX8944",null,9828121292,"ALNIYAAWAS,BHERUNDA,ALNIYAAWAS,342108",50595,"N","N","Yes",601,"None",596]
[12,"B",5324,"2026-08-20","vkp597",null,"vk","vkk","F","2020-02-17",null,null,94,52,"OBC","Muslim",null,"ggg",8140200904,"XXXX8945",null,9828121293,"ALNIYAAWAS,BHERUNDA,ALNIYAAWAS,342109",50596,"N","N","Yes",602,"None",597]
[12,"B",4643,"2026-08-21","vkp598",null,"vk","vkk","F","2020-02-18",null,null,94,52,"OBC","Muslim",null,"ggg",8140200905,"XXXX8946",null,9828121294,"ALNIYAAWAS,BHERUNDA,ALNIYAAWAS,342110",50597,"N","N","Yes",603,"None",598]
[12,"B",4800,"2026-08-22","vkp599",null,"vk","vkk","F","2020-02-19",null,null,94,52,"OBC","Muslim",null,"ggg",8140200906,"XXXX8947",null,9828121295,"ALNIYAAWAS,BHERUNDA,ALNIYAAWAS,342111",50598,"N","N","Yes",604,"None",599]
[12,"B",4835,"2026-08-23","vkp600",null,"vk","vkk","F","2020-02-20",null,null,94,52,"OBC","Muslim",null,"ggg",8140200907,"XXXX8948",null,9828121296,"ALNIYAAWAS,BHERUNDA,ALNIYAAWAS,342112",50599,"N","N","Yes",605,"None",600]
[12,"B",4317,"2026-08-24","vkp601",null,"vk","vkk","F","2020-02-21",null,null,94,52,"OBC","Muslim",null,"ggg",8140200908,"XXXX8949",null,9828121297,"ALNIYAAWAS,BHERUNDA,ALNIYAAWAS,342113",50600,"N","N","Yes",606,"None",601]
[12,"B",4854,"2026-08-25","vkp602",null,"vk","vkk","F","2020-02-22",null,null,94,52,"OBC","Muslim",null,"ggg",8140200909,"XXXX8950",null,9828121298,"ALNIYAAWAS,BHERUNDA,ALNIYAAWAS,342114",50601,"N","N","Yes",607,"None",602]
[12,"B",4846,"2026-08-26","vkp603",null,"vk","vkk","F","2020-02-23",null,null,94,52,"OBC","Muslim",null,"ggg",8140200910,"XXXX8951",null,9828121299,"ALNIYAAWAS,BHERUNDA,ALNIYAAWAS,342115",50602,"N","N","Yes",608,"None",603]
[12,"B",4820,"2026-08-27","vkp604",null,"vk","vkk","F","2020-02-24",null,null,94,52,"OBC","Muslim",null,"ggg",8140200911,"XXXX8952",null,9828121300,"ALNIYAAWAS,BHERUNDA,ALNIYAAWAS,342116",50603,"N","N","Yes",609,"None",604]
[12,"B",5181,"2026-08-28","vkp605",null,"vk","vkk","F","2020-02-25",null,null,94,52,"OBC","Muslim",null,"ggg",8140200912,"XXXX8953",null,9828121301,"ALNIYAAWAS,BHERUNDA,ALNIYAAWAS,342117",50604,"N","N","Yes",610,"None",605]
[12,"B",5196,"2026-08-29","vkp606",null,"vk","vkk","F","2020-02-26",null,null,94,52,"OBC","Muslim",null,"ggg",8140200913,"XXXX8954",null,9828121302,"ALNIYAAWAS,BHERUNDA,ALNIYAAWAS,342118",50605,"N","N","Yes",611,"None",606]
[12,"B",5221,"2026-08-30","vkp607",null,"vk","vkk","F","2020-02-27",null,null,94,52,"OBC","Muslim",null,"ggg",8140200914,"XXXX8955",null,9828121303,"ALNIYAAWAS,BHERUNDA,ALNIYAAWAS,342119",50606,"N","N","Yes",612,"None",607]
[12,"B",5290,"2026-08-31","vkp608",null,"vk","vkk","F","2020-02-28",null,null,94,52,"OBC","Muslim",null,"ggg",8140200915,"XXXX8956",null,9828121304,"ALNIYAAWAS,BHERUNDA,ALNIYAAWAS,342120",50607,"N","N","Yes",613,"None",608]
[12,"B",4883,"2026-09-01","vkp609",null,"vk","vkk","F","2020-02-29",null,null,94,52,"OBC","Muslim",null,"ggg",8140200916,"XXXX8957",null,9828121305,"ALNIYAAWAS,BHERUNDA,ALNIYAAWAS,342121",50608,"N","N","Yes",614,"None",609]
[12,"B",5092,"2026-09-02","vkp610",null,"vk","vkk","F","2020-03-01",null,null,94,52,"OBC","Muslim",null,"ggg",8140200917,"XXXX8958",null,9828121306,"ALNIYAAWAS,BHERUNDA,ALNIYAAWAS,342122",50609,"N","N","Yes",615,"None",610]

{"sheet":"stu data","index":2,"n_rows":700,"n_cols":16,"rows_kept":700,"cut":false,"hidden":false,"merged":[[2,4,2,5],[0,0,0,8]]}
[{"$f":"master!B2","v":" राजकीय उच्च माध्यमिक विद्यालय आलनियावास जिला - नागौर"}]
[]
[null,null,null,null,"STUDENT DATA OF SCHOOL",null,null,null,null,null,null,null,null,null,null,11]
[]
["sno","Class","Section","SRNO","Name","FatherName","MotherName","Dob","Mobile No Student(Father/Mother/Guardian"]
[{"$f":"IF(F6=\"\",\"\",ROW(1:1))","v":1},{"$f":"IF('sd paste'!A2=\"\",\"\",'sd paste'!A2)","v":1},{"$f":"IF('sd paste'!B2=\"\",\"\",'sd paste'!B2)","v":"A"},{"$f":"IF('sd paste'!C2=\"\",\"\",'sd paste'!C2)","v":5322},{"$f":"IF('sd paste'!E2=\"\",\"\",'sd paste'!E2)","v":"vijay"},{"$f":"IF('sd paste'!G2=\"\",\"\",'sd paste'!G2)","v":"vk"},{"$f":"IF('sd paste'!H2=\"\",\"\",'sd paste'!H2)","v":"vkk"},{"$f":"IF('sd paste'!J2=\"\",\"\",'sd paste'!J2)","v":"2018-07-01"},{"$f":"IF('sd paste'!V2=\"\",\"\",'sd paste'!V2)","v":9828120697}]
[{"$f":"IF(F7=\"\",\"\",ROW(2:2))","v":2},{"$f":"IF('sd paste'!A3=\"\",\"\",'sd paste'!A3)","v":1},{"$f":"IF('sd paste'!B3=\"\",\"\",'sd paste'!B3)","v":"A"},{"$f":"IF('sd paste'!C3=\"\",\"\",'sd paste'!C3)","v":5453},{"$f":"IF('sd paste'!E3=\"\",\"\",'sd paste'!E3)","v":"vkp2"},{"$f":"IF('sd paste'!G3=\"\",\"\",'sd paste'!G3)","v":"vk"},{"$f":"IF('sd paste'!H3=\"\",\"\",'sd paste'!H3)","v":"vkk"},{"$f":"IF('sd paste'!J3=\"\",\"\",'sd paste'!J3)","v":"2018-07-02"},{"$f":"IF('sd paste'!V3=\"\",\"\",'sd paste'!V3)","v":9828120698}]
[3,{"$f":"IF('sd paste'!A4=\"\",\"\",'sd paste'!A4)","v":1},{"$f":"IF('sd paste'!B4=\"\",\"\",'sd paste'!B4)","v":"A"},{"$f":"IF('sd paste'!C4=\"\",\"\",'sd paste'!C4)","v":5320},{"$f":"IF('sd paste'!E4=\"\",\"\",'sd paste'!E4)","v":"vkp3"},{"$f":"IF('sd paste'!G4=\"\",\"\",'sd paste'!G4)","v":"vk"},{"$f":"IF('sd paste'!H4=\"\",\"\",'sd paste'!H4)","v":"vkk"},{"$f":"IF('sd paste'!J4=\"\",\"\",'sd paste'!J4)","v":"2018-07-03"},{"$f":"IF('sd paste'!V4=\"\",\"\",'sd paste'!V4)","v":9828120699}]
[4,{"$f":"IF('sd paste'!A5=\"\",\"\",'sd paste'!A5)","v":1},{"$f":"IF('sd paste'!B5=\"\",\"\",'sd paste'!B5)","v":"A"},{"$f":"IF('sd paste'!C5=\"\",\"\",'sd paste'!C5)","v":5356},{"$f":"IF('sd paste'!E5=\"\",\"\",'sd paste'!E5)","v":"vkp4"},{"$f":"IF('sd paste'!G5=\"\",\"\",'sd paste'!G5)","v":"vk"},{"$f":"IF('sd paste'!H5=\"\",\"\",'sd paste'!H5)","v":"vkk"},{"$f":"IF('sd paste'!J5=\"\",\"\",'sd paste'!J5)","v":"2018-07-04"},{"$f":"IF('sd paste'!V5=\"\",\"\",'sd paste'!V5)","v":9828120700}]
[5,{"$f":"IF('sd paste'!A6=\"\",\"\",'sd paste'!A6)","v":1},{"$f":"IF('sd paste'!B6=\"\",\"\",'sd paste'!B6)","v":"A"},{"$f":"IF('sd paste'!C6=\"\",\"\",'sd paste'!C6)","v":5417},{"$f":"IF('sd paste'!E6=\"\",\"\",'sd paste'!E6)","v":"vkp5"},{"$f":"IF('sd paste'!G6=\"\",\"\",'sd paste'!G6)","v":"vk"},{"$f":"IF('sd paste'!H6=\"\",\"\",'sd paste'!H6)","v":"vkk"},{"$f":"IF('sd paste'!J6=\"\",\"\",'sd paste'!J6)","v":"2018-07-05"},{"$f":"IF('sd paste'!V6=\"\",\"\",'sd paste'!V6)","v":9828120701}]
[6,{"$f":"IF('sd paste'!A7=\"\",\"\",'sd paste'!A7)","v":1},{"$f":"IF('sd paste'!B7=\"\",\"\",'sd paste'!B7)","v":"A"},{"$f":"IF('sd paste'!C7=\"\",\"\",'sd paste'!C7)","v":5321},{"$f":"IF('sd paste'!E7=\"\",\"\",'sd paste'!E7)","v":"vkp6"},{"$f":"IF('sd paste'!G7=\"\",\"\",'sd paste'!G7)","v":"vk"},{"$f":"IF('sd paste'!H7=\"\",\"\",'sd paste'!H7)","v":"vkk"},{"$f":"IF('sd paste'!J7=\"\",\"\",'sd paste'!J7)","v":"2018-07-06"},{"$f":"IF('sd paste'!V7=\"\",\"\",'sd paste'!V7)","v":9828120702}]
[7,{"$f":"IF('sd paste'!A8=\"\",\"\",'sd paste'!A8)","v":1},{"$f":"IF('sd paste'!B8=\"\",\"\",'sd paste'!B8)","v":"A"},{"$f":"IF('sd paste'!C8=\"\",\"\",'sd paste'!C8)","v":5434},{"$f":"IF('sd paste'!E8=\"\",\"\",'sd paste'!E8)","v":"vkp7"},{"$f":"IF('sd paste'!G8=\"\",\"\",'sd paste'!G8)","v":"vk"},{"$f":"IF('sd paste'!H8=\"\",\"\",'sd paste'!H8)","v":"vkk"},{"$f":"IF('sd paste'!J8=\"\",\"\",'sd paste'!J8)","v":"2018-07-07"},{"$f":"IF('sd paste'!V8=\"\",\"\",'sd paste'!V8)","v":9828120703}]
[8,{"$f":"IF('sd paste'!A9=\"\",\"\",'sd paste'!A9)","v":1},{"$f":"IF('sd paste'!B9=\"\",\"\",'sd paste'!B9)","v":"A"},{"$f":"IF('sd paste'!C9=\"\",\"\",'sd paste'!C9)","v":5315},{"$f":"IF('sd paste'!E9=\"\",\"\",'sd paste'!E9)","v":"vkp8"},{"$f":"IF('sd paste'!G9=\"\",\"\",'sd paste'!G9)","v":"vk"},{"$f":"IF('sd paste'!H9=\"\",\"\",'sd paste'!H9)","v":"vkk"},{"$f":"IF('sd paste'!J9=\"\",\"\",'sd paste'!J9)","v":"2018-07-08"},{"$f":"IF('sd paste'!V9=\"\",\"\",'sd paste'!V9)","v":9828120704}]
[9,{"$f":"IF('sd paste'!A10=\"\",\"\",'sd paste'!A10)","v":1},{"$f":"IF('sd paste'!B10=\"\",\"\",'sd paste'!B10)","v":"A"},{"$f":"IF('sd paste'!C10=\"\",\"\",'sd paste'!C10)","v":5448},{"$f":"IF('sd paste'!E10=\"\",\"\",'sd paste'!E10)","v":"vkp9"},{"$f":"IF('sd paste'!G10=\"\",\"\",'sd paste'!G10)","v":"vk"},{"$f":"IF('sd paste'!H10=\"\",\"\",'sd paste'!H10)","v":"vkk"},{"$f":"IF('sd paste'!J10=\"\",\"\",'sd paste'!J10)","v":"2018-07-09"},{"$f":"IF('sd paste'!V10=\"\",\"\",'sd paste'!V10)","v":9828120705}]
[10,{"$f":"IF('sd paste'!A11=\"\",\"\",'sd paste'!A11)","v":1},{"$f":"IF('sd paste'!B11=\"\",\"\",'sd paste'!B11)","v":"A"},{"$f":"IF('sd paste'!C11=\"\",\"\",'sd paste'!C11)","v":5319},{"$f":"IF('sd paste'!E11=\"\",\"\",'sd paste'!E11)","v":"vkp10"},{"$f":"IF('sd paste'!G11=\"\",\"\",'sd paste'!G11)","v":"vk"},{"$f":"IF('sd paste'!H11=\"\",\"\",'sd paste'!H11)","v":"vkk"},{"$f":"IF('sd paste'!J11=\"\",\"\",'sd paste'!J11)","v":"2018-07-10"},{"$f":"IF('sd paste'!V11=\"\",\"\",'sd paste'!V11)","v":9828120706},null,null,"s"]
[11,{"$f":"IF('sd paste'!A12=\"\",\"\",'sd paste'!A12)","v":1},{"$f":"IF('sd paste'!B12=\"\",\"\",'sd paste'!B12)","v":"A"},{"$f":"IF('sd paste'!C12=\"\",\"\",'sd paste'!C12)","v":5317},{"$f":"IF('sd paste'!E12=\"\",\"\",'sd paste'!E12)","v":"vkp11"},{"$f":"IF('sd paste'!G12=\"\",\"\",'sd paste'!G12)","v":"vk"},{"$f":"IF('sd paste'!H12=\"\",\"\",'sd paste'!H12)","v":"vkk"},{"$f":"IF('sd paste'!J12=\"\",\"\",'sd paste'!J12)","v":"2018-07-11"},{"$f":"IF('sd paste'!V12=\"\",\"\",'sd paste'!V12)","v":9828120707}]
[12,{"$f":"IF('sd paste'!A13=\"\",\"\",'sd paste'!A13)","v":1},{"$f":"IF('sd paste'!B13=\"\",\"\",'sd paste'!B13)","v":"A"},{"$f":"IF('sd paste'!C13=\"\",\"\",'sd paste'!C13)","v":5449},{"$f":"IF('sd paste'!E13=\"\",\"\",'sd paste'!E13)","v":"vkp12"},{"$f":"IF('sd paste'!G13=\"\",\"\",'sd paste'!G13)","v":"vk"},{"$f":"IF('sd paste'!H13=\"\",\"\",'sd paste'!H13)","v":"vkk"},{"$f":"IF('sd paste'!J13=\"\",\"\",'sd paste'!J13)","v":"2018-07-12"},{"$f":"IF('sd paste'!V13=\"\",\"\",'sd paste'!V13)","v":9828120708}]
[13,{"$f":"IF('sd paste'!A14=\"\",\"\",'sd paste'!A14)","v":1},{"$f":"IF('sd paste'!B14=\"\",\"\",'sd paste'!B14)","v":"A"},{"$f":"IF('sd paste'!C14=\"\",\"\",'sd paste'!C14)","v":5359},{"$f":"IF('sd paste'!E14=\"\",\"\",'sd paste'!E14)","v":"vkp13"},{"$f":"IF('sd paste'!G14=\"\",\"\",'sd paste'!G14)","v":"vk"},{"$f":"IF('sd paste'!H14=\"\",\"\",'sd paste'!H14)","v":"vkk"},{"$f":"IF('sd paste'!J14=\"\",\"\",'sd paste'!J14)","v":"2018-07-13"},{"$f":"IF('sd paste'!V14=\"\",\"\",'sd paste'!V14)","v":9828120709}]
[14,{"$f":"IF('sd paste'!A15=\"\",\"\",'sd paste'!A15)","v":1},{"$f":"IF('sd paste'!B15=\"\",\"\",'sd paste'!B15)","v":"A"},{"$f":"IF('sd paste'!C15=\"\",\"\",'sd paste'!C15)","v":5420},{"$f":"IF('sd paste'!E15=\"\",\"\",'sd paste'!E15)","v":"vkp14"},{"$f":"IF('sd paste'!G15=\"\",\"\",'sd paste'!G15)","v":"vk"},{"$f":"IF('sd paste'!H15=\"\",\"\",'sd paste'!H15)","v":"vkk"},{"$f":"IF('sd paste'!J15=\"\",\"\",'sd paste'!J15)","v":"2018-07-14"},{"$f":"IF('sd paste'!V15=\"\",\"\",'sd paste'!V15)","v":9828120710}]
[15,{"$f":"IF('sd paste'!A16=\"\",\"\",'sd paste'!A16)","v":2},{"$f":"IF('sd paste'!B16=\"\",\"\",'sd paste'!B16)","v":"A"},{"$f":"IF('sd paste'!C16=\"\",\"\",'sd paste'!C16)","v":5167},{"$f":"IF('sd paste'!E16=\"\",\"\",'sd paste'!E16)","v":"vkp15"},{"$f":"IF('sd paste'!G16=\"\",\"\",'sd paste'!G16)","v":"vk"},{"$f":"IF('sd paste'!H16=\"\",\"\",'sd paste'!H16)","v":"vkk"},{"$f":"IF('sd paste'!J16=\"\",\"\",'sd paste'!J16)","v":"2018-07-15"},{"$f":"IF('sd paste'!V16=\"\",\"\",'sd paste'!V16)","v":9828120711}]
[16,{"$f":"IF('sd paste'!A17=\"\",\"\",'sd paste'!A17)","v":2},{"$f":"IF('sd paste'!B17=\"\",\"\",'sd paste'!B17)","v":"A"},{"$f":"IF('sd paste'!C17=\"\",\"\",'sd paste'!C17)","v":5297},{"$f":"IF('sd paste'!E17=\"\",\"\",'sd paste'!E17)","v":"vkp16"},{"$f":"IF('sd paste'!G17=\"\",\"\",'sd paste'!G17)","v":"vk"},{"$f":"IF('sd paste'!H17=\"\",\"\",'sd paste'!H17)","v":"vkk"},{"$f":"IF('sd paste'!J17=\"\",\"\",'sd paste'!J17)","v":"2018-07-16"},{"$f":"IF('sd paste'!V17=\"\",\"\",'sd paste'!V17)","v":9828120712}]
[17,{"$f":"IF('sd paste'!A18=\"\",\"\",'sd paste'!A18)","v":2},{"$f":"IF('sd paste'!B18=\"\",\"\",'sd paste'!B18)","v":"A"},{"$f":"IF('sd paste'!C18=\"\",\"\",'sd paste'!C18)","v":5418},{"$f":"IF('sd paste'!E18=\"\",\"\",'sd paste'!E18)","v":"vkp17"},{"$f":"IF('sd paste'!G18=\"\",\"\",'sd paste'!G18)","v":"vk"},{"$f":"IF('sd paste'!H18=\"\",\"\",'sd paste'!H18)","v":"vkk"},{"$f":"IF('sd paste'!J18=\"\",\"\",'sd paste'!J18)","v":"2018-07-17"},{"$f":"IF('sd paste'!V18=\"\",\"\",'sd paste'!V18)","v":9828120713}]
[18,{"$f":"IF('sd paste'!A19=\"\",\"\",'sd paste'!A19)","v":2},{"$f":"IF('sd paste'!B19=\"\",\"\",'sd paste'!B19)","v":"A"},{"$f":"IF('sd paste'!C19=\"\",\"\",'sd paste'!C19)","v":5172},{"$f":"IF('sd paste'!E19=\"\",\"\",'sd paste'!E19)","v":"vkp18"},{"$f":"IF('sd paste'!G19=\"\",\"\",'sd paste'!G19)","v":"vk"},{"$f":"IF('sd paste'!H19=\"\",\"\",'sd paste'!H19)","v":"vkk"},{"$f":"IF('sd paste'!J19=\"\",\"\",'sd paste'!J19)","v":"2018-07-18"},{"$f":"IF('sd paste'!V19=\"\",\"\",'sd paste'!V19)","v":9828120714}]
[19,{"$f":"IF('sd paste'!A20=\"\",\"\",'sd paste'!A20)","v":2},{"$f":"IF('sd paste'!B20=\"\",\"\",'sd paste'!B20)","v":"A"},{"$f":"IF('sd paste'!C20=\"\",\"\",'sd paste'!C20)","v":5265},{"$f":"IF('sd paste'!E20=\"\",\"\",'sd paste'!E20)","v":"vkp19"},{"$f":"IF('sd paste'!G20=\"\",\"\",'sd paste'!G20)","v":"vk"},{"$f":"IF('sd paste'!H20=\"\",\"\",'sd paste'!H20)","v":"vkk"},{"$f":"IF('sd paste'!J20=\"\",\"\",'sd paste'!J20)","v":"2018-07-19"},{"$f":"IF('sd paste'!V20=\"\",\"\",'sd paste'!V20)","v":9828120715}]
[20,{"$f":"IF('sd paste'!A21=\"\",\"\",'sd paste'!A21)","v":2},{"$f":"IF('sd paste'!B21=\"\",\"\",'sd paste'!B21)","v":"A"},{"$f":"IF('sd paste'!C21=\"\",\"\",'sd paste'!C21)","v":5306},{"$f":"IF('sd paste'!E21=\"\",\"\",'sd paste'!E21)","v":"vkp20"},{"$f":"IF('sd paste'!G21=\"\",\"\",'sd paste'!G21)","v":"vk"},{"$f":"IF('sd paste'!H21=\"\",\"\",'sd paste'!H21)","v":"vkk"},{"$f":"IF('sd paste'!J21=\"\",\"\",'sd paste'!J21)","v":"2018-07-20"},{"$f":"IF('sd paste'!V21=\"\",\"\",'sd paste'!V21)","v":9828120716}]
[21,{"$f":"IF('sd paste'!A22=\"\",\"\",'sd paste'!A22)","v":2},{"$f":"IF('sd paste'!B22=\"\",\"\",'sd paste'!B22)","v":"A"},{"$f":"IF('sd paste'!C22=\"\",\"\",'sd paste'!C22)","v":5287},{"$f":"IF('sd paste'!E22=\"\",\"\",'sd paste'!E22)","v":"vkp21"},{"$f":"IF('sd paste'!G22=\"\",\"\",'sd paste'!G22)","v":"vk"},{"$f":"IF('sd paste'!H22=\"\",\"\",'sd paste'!H22)","v":"vkk"},{"$f":"IF('sd paste'!J22=\"\",\"\",'sd paste'!J22)","v":"2018-07-21"},{"$f":"IF('sd paste'!V22=\"\",\"\",'sd paste'!V22)","v":9828120717}]
[22,{"$f":"IF('sd paste'!A23=\"\",\"\",'sd paste'!A23)","v":2},{"$f":"IF('sd paste'!B23=\"\",\"\",'sd paste'!B23)","v":"A"},{"$f":"IF('sd paste'!C23=\"\",\"\",'sd paste'!C23)","v":5307},{"$f":"IF('sd paste'!E23=\"\",\"\",'sd paste'!E23)","v":"vkp22"},{"$f":"IF('sd paste'!G23=\"\",\"\",'sd paste'!G23)","v":"vk"},{"$f":"IF('sd paste'!H23=\"\",\"\",'sd paste'!H23)","v":"vkk"},{"$f":"IF('sd paste'!J23=\"\",\"\",'sd paste'!J23)","v":"2018-07-22"},{"$f":"IF('sd paste'!V23=\"\",\"\",'sd paste'!V23)","v":9828120718}]
[23,{"$f":"IF('sd paste'!A24=\"\",\"\",'sd paste'!A24)","v":2},{"$f":"IF('sd paste'!B24=\"\",\"\",'sd paste'!B24)","v":"A"},{"$f":"IF('sd paste'!C24=\"\",\"\",'sd paste'!C24)","v":5166},{"$f":"IF('sd paste'!E24=\"\",\"\",'sd paste'!E24)","v":"vkp23"},{"$f":"IF('sd paste'!G24=\"\",\"\",'sd paste'!G24)","v":"vk"},{"$f":"IF('sd paste'!H24=\"\",\"\",'sd paste'!H24)","v":"vkk"},{"$f":"IF('sd paste'!J24=\"\",\"\",'sd paste'!J24)","v":"2018-07-23"},{"$f":"IF('sd paste'!V24=\"\",\"\",'sd paste'!V24)","v":9828120719}]
[24,{"$f":"IF('sd paste'!A25=\"\",\"\",'sd paste'!A25)","v":2},{"$f":"IF('sd paste'!B25=\"\",\"\",'sd paste'!B25)","v":"A"},{"$f":"IF('sd paste'!C25=\"\",\"\",'sd paste'!C25)","v":5152},{"$f":"IF('sd paste'!E25=\"\",\"\",'sd paste'!E25)","v":"vkp24"},{"$f":"IF('sd paste'!G25=\"\",\"\",'sd paste'!G25)","v":"vk"},{"$f":"IF('sd paste'!H25=\"\",\"\",'sd paste'!H25)","v":"vkk"},{"$f":"IF('sd paste'!J25=\"\",\"\",'sd paste'!J25)","v":"2018-07-24"},{"$f":"IF('sd paste'!V25=\"\",\"\",'sd paste'!V25)","v":9828120720}]
[25,{"$f":"IF('sd paste'!A26=\"\",\"\",'sd paste'!A26)","v":2},{"$f":"IF('sd paste'!B26=\"\",\"\",'sd paste'!B26)","v":"A"},{"$f":"IF('sd paste'!C26=\"\",\"\",'sd paste'!C26)","v":5173},{"$f":"IF('sd paste'!E26=\"\",\"\",'sd paste'!E26)","v":"vkp25"},{"$f":"IF('sd paste'!G26=\"\",\"\",'sd paste'!G26)","v":"vk"},{"$f":"IF('sd paste'!H26=\"\",\"\",'sd paste'!H26)","v":"vkk"},{"$f":"IF('sd paste'!J26=\"\",\"\",'sd paste'!J26)","v":"2018-07-25"},{"$f":"IF('sd paste'!V26=\"\",\"\",'sd paste'!V26)","v":9828120721}]
[26,{"$f":"IF('sd paste'!A27=\"\",\"\",'sd paste'!A27)","v":2},{"$f":"IF('sd paste'!B27=\"\",\"\",'sd paste'!B27)","v":"A"},{"$f":"IF('sd paste'!C27=\"\",\"\",'sd paste'!C27)","v":5155},{"$f":"IF('sd paste'!E27=\"\",\"\",'sd paste'!E27)","v":"vkp26"},{"$f":"IF('sd paste'!G27=\"\",\"\",'sd paste'!G27)","v":"vk"},{"$f":"IF('sd paste'!H27=\"\",\"\",'sd paste'!H27)","v":"vkk"},{"$f":"IF('sd paste'!J27=\"\",\"\",'sd paste'!J27)","v":"2018-07-26"},{"$f":"IF('sd paste'!V27=\"\",\"\",'sd paste'!V27)","v":9828120722}]
[27,{"$f":"IF('sd paste'!A28=\"\",\"\",'sd paste'!A28)","v":2},{"$f":"IF('sd paste'!B28=\"\",\"\",'sd paste'!B28)","v":"A"},{"$f":"IF('sd paste'!C28=\"\",\"\",'sd paste'!C28)","v":5153},{"$f":"IF('sd paste'!E28=\"\",\"\",'sd paste'!E28)","v":"vkp27"},{"$f":"IF('sd paste'!G28=\"\",\"\",'sd paste'!G28)","v":"vk"},{"$f":"IF('sd paste'!H28=\"\",\"\",'sd paste'!H28)","v":"vkk"},{"$f":"IF('sd paste'!J28=\"\",\"\",'sd paste'!J28)","v":"2018-07-27"},{"$f":"IF('sd paste'!V28=\"\",\"\",'sd paste'!V28)","v":9828120723}]
[28,{"$f":"IF('sd paste'!A29=\"\",\"\",'sd paste'!A29)","v":2},{"$f":"IF('sd paste'!B29=\"\",\"\",'sd paste'!B29)","v":"A"},{"$f":"IF('sd paste'!C29=\"\",\"\",'sd paste'!C29)","v":5262},{"$f":"IF('sd paste'!E29=\"\",\"\",'sd paste'!E29)","v":"vkp28"},{"$f":"IF('sd paste'!G29=\"\",\"\",'sd paste'!G29)","v":"vk"},{"$f":"IF('sd paste'!H29=\"\",\"\",'sd paste'!H29)","v":"vkk"},{"$f":"IF('sd paste'!J29=\"\",\"\",'sd paste'!J29)","v":"2018-07-28"},{"$f":"IF('sd paste'!V29=\"\",\"\",'sd paste'!V29)","v":9828120724}]
[29,{"$f":"IF('sd paste'!A30=\"\",\"\",'sd paste'!A30)","v":2},{"$f":"IF('sd paste'!B30=\"\",\"\",'sd paste'!B30)","v":"A"},{"$f":"IF('sd paste'!C30=\"\",\"\",'sd paste'!C30)","v":5447},{"$f":"IF('sd paste'!E30=\"\",\"\",'sd paste'!E30)","v":"vkp29"},{"$f":"IF('sd paste'!G30=\"\",\"\",'sd paste'!G30)","v":"vk"},{"$f":"IF('sd paste'!H30=\"\",\"\",'sd paste'!H30)","v":"vkk"},{"$f":"IF('sd paste'!J30=\"\",\"\",'sd paste'!J30)","v":"2018-07-29"},{"$f":"IF('sd paste'!V30=\"\",\"\",'sd paste'!V30)","v":9828120725}]
[30,{"$f":"IF('sd paste'!A31=\"\",\"\",'sd paste'!A31)","v":2},{"$f":"IF('sd paste'!B31=\"\",\"\",'sd paste'!B31)","v":"A"},{"$f":"IF('sd paste'!C31=\"\",\"\",'sd paste'!C31)","v":5298},{"$f":"IF('sd paste'!E31=\"\",\"\",'sd paste'!E31)","v":"vkp30"},{"$f":"IF('sd paste'!G31=\"\",\"\",'sd paste'!G31)","v":"vk"},{"$f":"IF('sd paste'!H31=\"\",\"\",'sd paste'!H31)","v":"vkk"},{"$f":"IF('sd paste'!J31=\"\",\"\",'sd paste'!J31)","v":"2018-07-30"},{"$f":"IF('sd paste'!V31=\"\",\"\",'sd paste'!V31)","v":9828120726}]
[31,{"$f":"IF('sd paste'!A32=\"\",\"\",'sd paste'!A32)","v":2},{"$f":"IF('sd paste'!B32=\"\",\"\",'sd paste'!B32)","v":"A"},{"$f":"IF('sd paste'!C32=\"\",\"\",'sd paste'!C32)","v":5414},{"$f":"IF('sd paste'!E32=\"\",\"\",'sd paste'!E32)","v":"vkp31"},{"$f":"IF('sd paste'!G32=\"\",\"\",'sd paste'!G32)","v":"vk"},{"$f":"IF('sd paste'!H32=\"\",\"\",'sd paste'!H32)","v":"vkk"},{"$f":"IF('sd paste'!J32=\"\",\"\",'sd paste'!J32)","v":"2018-07-31"},{"$f":"IF('sd paste'!V32=\"\",\"\",'sd paste'!V32)","v":9828120727}]
[32,{"$f":"IF('sd paste'!A33=\"\",\"\",'sd paste'!A33)","v":2},{"$f":"IF('sd paste'!B33=\"\",\"\",'sd paste'!B33)","v":"A"},{"$f":"IF('sd paste'!C33=\"\",\"\",'sd paste'!C33)","v":5150},{"$f":"IF('sd paste'!E33=\"\",\"\",'sd paste'!E33)","v":"vkp32"},{"$f":"IF('sd paste'!G33=\"\",\"\",'sd paste'!G33)","v":"vk"},{"$f":"IF('sd paste'!H33=\"\",\"\",'sd paste'!H33)","v":"vkk"},{"$f":"IF('sd paste'!J33=\"\",\"\",'sd paste'!J33)","v":"2018-08-01"},{"$f":"IF('sd paste'!V33=\"\",\"\",'sd paste'!V33)","v":9828120728}]
[33,{"$f":"IF('sd paste'!A34=\"\",\"\",'sd paste'!A34)","v":2},{"$f":"IF('sd paste'!B34=\"\",\"\",'sd paste'!B34)","v":"A"},{"$f":"IF('sd paste'!C34=\"\",\"\",'sd paste'!C34)","v":5251},{"$f":"IF('sd paste'!E34=\"\",\"\",'sd paste'!E34)","v":"vkp33"},{"$f":"IF('sd paste'!G34=\"\",\"\",'sd paste'!G34)","v":"vk"},{"$f":"IF('sd paste'!H34=\"\",\"\",'sd paste'!H34)","v":"vkk"},{"$f":"IF('sd paste'!J34=\"\",\"\",'sd paste'!J34)","v":"2018-08-02"},{"$f":"IF('sd paste'!V34=\"\",\"\",'sd paste'!V34)","v":9828120729}]
[34,{"$f":"IF('sd paste'!A35=\"\",\"\",'sd paste'!A35)","v":2},{"$f":"IF('sd paste'!B35=\"\",\"\",'sd paste'!B35)","v":"A"},{"$f":"IF('sd paste'!C35=\"\",\"\",'sd paste'!C35)","v":5151},{"$f":"IF('sd paste'!E35=\"\",\"\",'sd paste'!E35)","v":"vkp34"},{"$f":"IF('sd paste'!G35=\"\",\"\",'sd paste'!G35)","v":"vk"},{"$f":"IF('sd paste'!H35=\"\",\"\",'sd paste'!H35)","v":"vkk"},{"$f":"IF('sd paste'!J35=\"\",\"\",'sd paste'!J35)","v":"2018-08-03"},{"$f":"IF('sd paste'!V35=\"\",\"\",'sd paste'!V35)","v":9828120730}]
[35,{"$f":"IF('sd paste'!A36=\"\",\"\",'sd paste'!A36)","v":2},{"$f":"IF('sd paste'!B36=\"\",\"\",'sd paste'!B36)","v":"A"},{"$f":"IF('sd paste'!C36=\"\",\"\",'sd paste'!C36)","v":5252},{"$f":"IF('sd paste'!E36=\"\",\"\",'sd paste'!E36)","v":"vkp35"},{"$f":"IF('sd paste'!G36=\"\",\"\",'sd paste'!G36)","v":"vk"},{"$f":"IF('sd paste'!H36=\"\",\"\",'sd paste'!H36)","v":"vkk"},{"$f":"IF('sd paste'!J36=\"\",\"\",'sd paste'!J36)","v":"2018-08-04"},{"$f":"IF('sd paste'!V36=\"\",\"\",'sd paste'!V36)","v":9828120731}]
[36,{"$f":"IF('sd paste'!A37=\"\",\"\",'sd paste'!A37)","v":2},{"$f":"IF('sd paste'!B37=\"\",\"\",'sd paste'!B37)","v":"A"},{"$f":"IF('sd paste'!C37=\"\",\"\",'sd paste'!C37)","v":5326},{"$f":"IF('sd paste'!E37=\"\",\"\",'sd paste'!E37)","v":"vkp36"},{"$f":"IF('sd paste'!G37=\"\",\"\",'sd paste'!G37)","v":"vk"},{"$f":"IF('sd paste'!H37=\"\",\"\",'sd paste'!H37)","v":"vkk"},{"$f":"IF('sd paste'!J37=\"\",\"\",'sd paste'!J37)","v":"2018-08-05"},{"$f":"IF('sd paste'!V37=\"\",\"\",'sd paste'!V37)","v":9828120732}]
[37,{"$f":"IF('sd paste'!A38=\"\",\"\",'sd paste'!A38)","v":2},{"$f":"IF('sd paste'!B38=\"\",\"\",'sd paste'!B38)","v":"A"},{"$f":"IF('sd paste'!C38=\"\",\"\",'sd paste'!C38)","v":5154},{"$f":"IF('sd paste'!E38=\"\",\"\",'sd paste'!E38)","v":"vkp37"},{"$f":"IF('sd paste'!G38=\"\",\"\",'sd paste'!G38)","v":"vk"},{"$f":"IF('sd paste'!H38=\"\",\"\",'sd paste'!H38)","v":"vkk"},{"$f":"IF('sd paste'!J38=\"\",\"\",'sd paste'!J38)","v":"2018-08-06"},{"$f":"IF('sd paste'!V38=\"\",\"\",'sd paste'!V38)","v":9828120733}]
[38,{"$f":"IF('sd paste'!A39=\"\",\"\",'sd paste'!A39)","v":2},{"$f":"IF('sd paste'!B39=\"\",\"\",'sd paste'!B39)","v":"A"},{"$f":"IF('sd paste'!C39=\"\",\"\",'sd paste'!C39)","v":5168},{"$f":"IF('sd paste'!E39=\"\",\"\",'sd paste'!E39)","v":"vkp38"},{"$f":"IF('sd paste'!G39=\"\",\"\",'sd paste'!G39)","v":"vk"},{"$f":"IF('sd paste'!H39=\"\",\"\",'sd paste'!H39)","v":"vkk"},{"$f":"IF('sd paste'!J39=\"\",\"\",'sd paste'!J39)","v":"2018-08-07"},{"$f":"IF('sd paste'!V39=\"\",\"\",'sd paste'!V39)","v":9828120734}]
[39,{"$f":"IF('sd paste'!A40=\"\",\"\",'sd paste'!A40)","v":3},{"$f":"IF('sd paste'!B40=\"\",\"\",'sd paste'!B40)","v":"A"},{"$f":"IF('sd paste'!C40=\"\",\"\",'sd paste'!C40)","v":4992},{"$f":"IF('sd paste'!E40=\"\",\"\",'sd paste'!E40)","v":"vkp39"},{"$f":"IF('sd paste'!G40=\"\",\"\",'sd paste'!G40)","v":"vk"},{"$f":"IF('sd paste'!H40=\"\",\"\",'sd paste'!H40)","v":"vkk"},{"$f":"IF('sd paste'!J40=\"\",\"\",'sd paste'!J40)","v":"2018-08-08"},{"$f":"IF('sd paste'!V40=\"\",\"\",'sd paste'!V40)","v":9828120735}]
[40,{"$f":"IF('sd paste'!A41=\"\",\"\",'sd paste'!A41)","v":3},{"$f":"IF('sd paste'!B41=\"\",\"\",'sd paste'!B41)","v":"A"},{"$f":"IF('sd paste'!C41=\"\",\"\",'sd paste'!C41)","v":5100},{"$f":"IF('sd paste'!E41=\"\",\"\",'sd paste'!E41)","v":"vkp40"},{"$f":"IF('sd paste'!G41=\"\",\"\",'sd paste'!G41)","v":"vk"},{"$f":"IF('sd paste'!H41=\"\",\"\",'sd paste'!H41)","v":"vkk"},{"$f":"IF('sd paste'!J41=\"\",\"\",'sd paste'!J41)","v":"2018-08-09"},{"$f":"IF('sd paste'!V41=\"\",\"\",'sd paste'!V41)","v":9828120736}]
[41,{"$f":"IF('sd paste'!A42=\"\",\"\",'sd paste'!A42)","v":3},{"$f":"IF('sd paste'!B42=\"\",\"\",'sd paste'!B42)","v":"A"},{"$f":"IF('sd paste'!C42=\"\",\"\",'sd paste'!C42)","v":4914},{"$f":"IF('sd paste'!E42=\"\",\"\",'sd paste'!E42)","v":"vkp41"},{"$f":"IF('sd paste'!G42=\"\",\"\",'sd paste'!G42)","v":"vk"},{"$f":"IF('sd paste'!H42=\"\",\"\",'sd paste'!H42)","v":"vkk"},{"$f":"IF('sd paste'!J42=\"\",\"\",'sd paste'!J42)","v":"2018-08-10"},{"$f":"IF('sd paste'!V42=\"\",\"\",'sd paste'!V42)","v":9828120737}]
[42,{"$f":"IF('sd paste'!A43=\"\",\"\",'sd paste'!A43)","v":3},{"$f":"IF('sd paste'!B43=\"\",\"\",'sd paste'!B43)","v":"A"},{"$f":"IF('sd paste'!C43=\"\",\"\",'sd paste'!C43)","v":5075},{"$f":"IF('sd paste'!E43=\"\",\"\",'sd paste'!E43)","v":"vkp42"},{"$f":"IF('sd paste'!G43=\"\",\"\",'sd paste'!G43)","v":"vk"},{"$f":"IF('sd paste'!H43=\"\",\"\",'sd paste'!H43)","v":"vkk"},{"$f":"IF('sd paste'!J43=\"\",\"\",'sd paste'!J43)","v":"2018-08-11"},{"$f":"IF('sd paste'!V43=\"\",\"\",'sd paste'!V43)","v":9828120738}]
[43,{"$f":"IF('sd paste'!A44=\"\",\"\",'sd paste'!A44)","v":3},{"$f":"IF('sd paste'!B44=\"\",\"\",'sd paste'!B44)","v":"A"},{"$f":"IF('sd paste'!C44=\"\",\"\",'sd paste'!C44)","v":4865},{"$f":"IF('sd paste'!E44=\"\",\"\",'sd paste'!E44)","v":"vkp43"},{"$f":"IF('sd paste'!G44=\"\",\"\",'sd paste'!G44)","v":"vk"},{"$f":"IF('sd paste'!H44=\"\",\"\",'sd paste'!H44)","v":"vkk"},{"$f":"IF('sd paste'!J44=\"\",\"\",'sd paste'!J44)","v":"2018-08-12"},{"$f":"IF('sd paste'!V44=\"\",\"\",'sd paste'!V44)","v":9828120739}]
[44,{"$f":"IF('sd paste'!A45=\"\",\"\",'sd paste'!A45)","v":3},{"$f":"IF('sd paste'!B45=\"\",\"\",'sd paste'!B45)","v":"A"},{"$f":"IF('sd paste'!C45=\"\",\"\",'sd paste'!C45)","v":4628},{"$f":"IF('sd paste'!E45=\"\",\"\",'sd paste'!E45)","v":"vkp44"},{"$f":"IF('sd paste'!G45=\"\",\"\",'sd paste'!G45)","v":"vk"},{"$f":"IF('sd paste'!H45=\"\",\"\",'sd paste'!H45)","v":"vkk"},{"$f":"IF('sd paste'!J45=\"\",\"\",'sd paste'!J45)","v":"2018-08-13"},{"$f":"IF('sd paste'!V45=\"\",\"\",'sd paste'!V45)","v":9828120740}]
[45,{"$f":"IF('sd paste'!A46=\"\",\"\",'sd paste'!A46)","v":3},{"$f":"IF('sd paste'!B46=\"\",\"\",'sd paste'!B46)","v":"A"},{"$f":"IF('sd paste'!C46=\"\",\"\",'sd paste'!C46)","v":5076},{"$f":"IF('sd paste'!E46=\"\",\"\",'sd paste'!E46)","v":"vkp45"},{"$f":"IF('sd paste'!G46=\"\",\"\",'sd paste'!G46)","v":"vk"},{"$f":"IF('sd paste'!H46=\"\",\"\",'sd paste'!H46)","v":"vkk"},{"$f":"IF('sd paste'!J46=\"\",\"\",'sd paste'!J46)","v":"2018-08-14"},{"$f":"IF('sd paste'!V46=\"\",\"\",'sd paste'!V46)","v":9828120741}]
[46,{"$f":"IF('sd paste'!A47=\"\",\"\",'sd paste'!A47)","v":3},{"$f":"IF('sd paste'!B47=\"\",\"\",'sd paste'!B47)","v":"A"},{"$f":"IF('sd paste'!C47=\"\",\"\",'sd paste'!C47)","v":5419},{"$f":"IF('sd paste'!E47=\"\",\"\",'sd paste'!E47)","v":"vkp46"},{"$f":"IF('sd paste'!G47=\"\",\"\",'sd paste'!G47)","v":"vk"},{"$f":"IF('sd paste'!H47=\"\",\"\",'sd paste'!H47)","v":"vkk"},{"$f":"IF('sd paste'!J47=\"\",\"\",'sd paste'!J47)","v":"2018-08-15"},{"$f":"IF('sd paste'!V47=\"\",\"\",'sd paste'!V47)","v":9828120742}]
[47,{"$f":"IF('sd paste'!A48=\"\",\"\",'sd paste'!A48)","v":3},{"$f":"IF('sd paste'!B48=\"\",\"\",'sd paste'!B48)","v":"A"},{"$f":"IF('sd paste'!C48=\"\",\"\",'sd paste'!C48)","v":5235},{"$f":"IF('sd paste'!E48=\"\",\"\",'sd paste'!E48)","v":"vkp47"},{"$f":"IF('sd paste'!G48=\"\",\"\",'sd paste'!G48)","v":"vk"},{"$f":"IF('sd paste'!H48=\"\",\"\",'sd paste'!H48)","v":"vkk"},{"$f":"IF('sd paste'!J48=\"\",\"\",'sd paste'!J48)","v":"2018-08-16"},{"$f":"IF('sd paste'!V48=\"\",\"\",'sd paste'!V48)","v":9828120743}]
[48,{"$f":"IF('sd paste'!A49=\"\",\"\",'sd paste'!A49)","v":3},{"$f":"IF('sd paste'!B49=\"\",\"\",'sd paste'!B49)","v":"A"},{"$f":"IF('sd paste'!C49=\"\",\"\",'sd paste'!C49)","v":4995},{"$f":"IF('sd paste'!E49=\"\",\"\",'sd paste'!E49)","v":"vkp48"},{"$f":"IF('sd paste'!G49=\"\",\"\",'sd paste'!G49)","v":"vk"},{"$f":"IF('sd paste'!H49=\"\",\"\",'sd paste'!H49)","v":"vkk"},{"$f":"IF('sd paste'!J49=\"\",\"\",'sd paste'!J49)","v":"2018-08-17"},{"$f":"IF('sd paste'!V49=\"\",\"\",'sd paste'!V49)","v":9828120744}]
[49,{"$f":"IF('sd paste'!A50=\"\",\"\",'sd paste'!A50)","v":3},{"$f":"IF('sd paste'!B50=\"\",\"\",'sd paste'!B50)","v":"A"},{"$f":"IF('sd paste'!C50=\"\",\"\",'sd paste'!C50)","v":4916},{"$f":"IF('sd paste'!E50=\"\",\"\",'sd paste'!E50)","v":"vkp49"},{"$f":"IF('sd paste'!G50=\"\",\"\",'sd paste'!G50)","v":"vk"},{"$f":"IF('sd paste'!H50=\"\",\"\",'sd paste'!H50)","v":"vkk"},{"$f":"IF('sd paste'!J50=\"\",\"\",'sd paste'!J50)","v":"2018-08-18"},{"$f":"IF('sd paste'!V50=\"\",\"\",'sd paste'!V50)","v":9828120745}]
[50,{"$f":"IF('sd paste'!A51=\"\",\"\",'sd paste'!A51)","v":3},{"$f":"IF('sd paste'!B51=\"\",\"\",'sd paste'!B51)","v":"A"},{"$f":"IF('sd paste'!C51=\"\",\"\",'sd paste'!C51)","v":4920},{"$f":"IF('sd paste'!E51=\"\",\"\",'sd paste'!E51)","v":"vkp50"},{"$f":"IF('sd paste'!G51=\"\",\"\",'sd paste'!G51)","v":"vk"},{"$f":"IF('sd paste'!H51=\"\",\"\",'sd paste'!H51)","v":"vkk"},{"$f":"IF('sd paste'!J51=\"\",\"\",'sd paste'!J51)","v":"2018-08-19"},{"$f":"IF('sd paste'!V51=\"\",\"\",'sd paste'!V51)","v":9828120746}]
[51,{"$f":"IF('sd paste'!A52=\"\",\"\",'sd paste'!A52)","v":3},{"$f":"IF('sd paste'!B52=\"\",\"\",'sd paste'!B52)","v":"A"},{"$f":"IF('sd paste'!C52=\"\",\"\",'sd paste'!C52)","v":4915},{"$f":"IF('sd paste'!E52=\"\",\"\",'sd paste'!E52)","v":"vkp51"},{"$f":"IF('sd paste'!G52=\"\",\"\",'sd paste'!G52)","v":"vk"},{"$f":"IF('sd paste'!H52=\"\",\"\",'sd paste'!H52)","v":"vkk"},{"$f":"IF('sd paste'!J52=\"\",\"\",'sd paste'!J52)","v":"2018-08-20"},{"$f":"IF('sd paste'!V52=\"\",\"\",'sd paste'!V52)","v":9828120747}]
[52,{"$f":"IF('sd paste'!A53=\"\",\"\",'sd paste'!A53)","v":3},{"$f":"IF('sd paste'!B53=\"\",\"\",'sd paste'!B53)","v":"A"},{"$f":"IF('sd paste'!C53=\"\",\"\",'sd paste'!C53)","v":4918},{"$f":"IF('sd paste'!E53=\"\",\"\",'sd paste'!E53)","v":"vkp52"},{"$f":"IF('sd paste'!G53=\"\",\"\",'sd paste'!G53)","v":"vk"},{"$f":"IF('sd paste'!H53=\"\",\"\",'sd paste'!H53)","v":"vkk"},{"$f":"IF('sd paste'!J53=\"\",\"\",'sd paste'!J53)","v":"2018-08-21"},{"$f":"IF('sd paste'!V53=\"\",\"\",'sd paste'!V53)","v":9828120748}]
[53,{"$f":"IF('sd paste'!A54=\"\",\"\",'sd paste'!A54)","v":3},{"$f":"IF('sd paste'!B54=\"\",\"\",'sd paste'!B54)","v":"A"},{"$f":"IF('sd paste'!C54=\"\",\"\",'sd paste'!C54)","v":5102},{"$f":"IF('sd paste'!E54=\"\",\"\",'sd paste'!E54)","v":"vkp53"},{"$f":"IF('sd paste'!G54=\"\",\"\",'sd paste'!G54)","v":"vk"},{"$f":"IF('sd paste'!H54=\"\",\"\",'sd paste'!H54)","v":"vkk"},{"$f":"IF('sd paste'!J54=\"\",\"\",'sd paste'!J54)","v":"2018-08-22"},{"$f":"IF('sd paste'!V54=\"\",\"\",'sd paste'!V54)","v":9828120749}]
[54,{"$f":"IF('sd paste'!A55=\"\",\"\",'sd paste'!A55)","v":3},{"$f":"IF('sd paste'!B55=\"\",\"\",'sd paste'!B55)","v":"A"},{"$f":"IF('sd paste'!C55=\"\",\"\",'sd paste'!C55)","v":5107},{"$f":"IF('sd paste'!E55=\"\",\"\",'sd paste'!E55)","v":"vkp54"},{"$f":"IF('sd paste'!G55=\"\",\"\",'sd paste'!G55)","v":"vk"},{"$f":"IF('sd paste'!H55=\"\",\"\",'sd paste'!H55)","v":"vkk"},{"$f":"IF('sd paste'!J55=\"\",\"\",'sd paste'!J55)","v":"2018-08-23"},{"$f":"IF('sd paste'!V55=\"\",\"\",'sd paste'!V55)","v":9828120750}]
[55,{"$f":"IF('sd paste'!A56=\"\",\"\",'sd paste'!A56)","v":3},{"$f":"IF('sd paste'!B56=\"\",\"\",'sd paste'!B56)","v":"A"},{"$f":"IF('sd paste'!C56=\"\",\"\",'sd paste'!C56)","v":4921},{"$f":"IF('sd paste'!E56=\"\",\"\",'sd paste'!E56)","v":"vkp55"},{"$f":"IF('sd paste'!G56=\"\",\"\",'sd paste'!G56)","v":"vk"},{"$f":"IF('sd paste'!H56=\"\",\"\",'sd paste'!H56)","v":"vkk"},{"$f":"IF('sd paste'!J56=\"\",\"\",'sd paste'!J56)","v":"2018-08-24"},{"$f":"IF('sd paste'!V56=\"\",\"\",'sd paste'!V56)","v":9828120751}]
[56,{"$f":"IF('sd paste'!A57=\"\",\"\",'sd paste'!A57)","v":3},{"$f":"IF('sd paste'!B57=\"\",\"\",'sd paste'!B57)","v":"A"},{"$f":"IF('sd paste'!C57=\"\",\"\",'sd paste'!C57)","v":5260},{"$f":"IF('sd paste'!E57=\"\",\"\",'sd paste'!E57)","v":"vkp56"},{"$f":"IF('sd paste'!G57=\"\",\"\",'sd paste'!G57)","v":"vk"},{"$f":"IF('sd paste'!H57=\"\",\"\",'sd paste'!H57)","v":"vkk"},{"$f":"IF('sd paste'!J57=\"\",\"\",'sd paste'!J57)","v":"2018-08-25"},{"$f":"IF('sd paste'!V57=\"\",\"\",'sd paste'!V57)","v":9828120752}]
[57,{"$f":"IF('sd paste'!A58=\"\",\"\",'sd paste'!A58)","v":3},{"$f":"IF('sd paste'!B58=\"\",\"\",'sd paste'!B58)","v":"A"},{"$f":"IF('sd paste'!C58=\"\",\"\",'sd paste'!C58)","v":4932},{"$f":"IF('sd paste'!E58=\"\",\"\",'sd paste'!E58)","v":"vkp57"},{"$f":"IF('sd paste'!G58=\"\",\"\",'sd paste'!G58)","v":"vk"},{"$f":"IF('sd paste'!H58=\"\",\"\",'sd paste'!H58)","v":"vkk"},{"$f":"IF('sd paste'!J58=\"\",\"\",'sd paste'!J58)","v":"2018-08-26"},{"$f":"IF('sd paste'!V58=\"\",\"\",'sd paste'!V58)","v":9828120753}]
[58,{"$f":"IF('sd paste'!A59=\"\",\"\",'sd paste'!A59)","v":3},{"$f":"IF('sd paste'!B59=\"\",\"\",'sd paste'!B59)","v":"A"},{"$f":"IF('sd paste'!C59=\"\",\"\",'sd paste'!C59)","v":4997},{"$f":"IF('sd paste'!E59=\"\",\"\",'sd paste'!E59)","v":"vkp58"},{"$f":"IF('sd paste'!G59=\"\",\"\",'sd paste'!G59)","v":"vk"},{"$f":"IF('sd paste'!H59=\"\",\"\",'sd paste'!H59)","v":"vkk"},{"$f":"IF('sd paste'!J59=\"\",\"\",'sd paste'!J59)","v":"2018-08-27"},{"$f":"IF('sd paste'!V59=\"\",\"\",'sd paste'!V59)","v":9828120754}]
[59,{"$f":"IF('sd paste'!A60=\"\",\"\",'sd paste'!A60)","v":3},{"$f":"IF('sd paste'!B60=\"\",\"\",'sd paste'!B60)","v":"A"},{"$f":"IF('sd paste'!C60=\"\",\"\",'sd paste'!C60)","v":5302},{"$f":"IF('sd paste'!E60=\"\",\"\",'sd paste'!E60)","v":"vkp59"},{"$f":"IF('sd paste'!G60=\"\",\"\",'sd paste'!G60)","v":"vk"},{"$f":"IF('sd paste'!H60=\"\",\"\",'sd paste'!H60)","v":"vkk"},{"$f":"IF('sd paste'!J60=\"\",\"\",'sd paste'!J60)","v":"2018-08-28"},{"$f":"IF('sd paste'!V60=\"\",\"\",'sd paste'!V60)","v":9828120755}]
[60,{"$f":"IF('sd paste'!A61=\"\",\"\",'sd paste'!A61)","v":3},{"$f":"IF('sd paste'!B61=\"\",\"\",'sd paste'!B61)","v":"A"},{"$f":"IF('sd paste'!C61=\"\",\"\",'sd paste'!C61)","v":5101},{"$f":"IF('sd paste'!E61=\"\",\"\",'sd paste'!E61)","v":"vkp60"},{"$f":"IF('sd paste'!G61=\"\",\"\",'sd paste'!G61)","v":"vk"},{"$f":"IF('sd paste'!H61=\"\",\"\",'sd paste'!H61)","v":"vkk"},{"$f":"IF('sd paste'!J61=\"\",\"\",'sd paste'!J61)","v":"2018-08-29"},{"$f":"IF('sd paste'!V61=\"\",\"\",'sd paste'!V61)","v":9828120756}]
[61,{"$f":"IF('sd paste'!A62=\"\",\"\",'sd paste'!A62)","v":3},{"$f":"IF('sd paste'!B62=\"\",\"\",'sd paste'!B62)","v":"A"},{"$f":"IF('sd paste'!C62=\"\",\"\",'sd paste'!C62)","v":4912},{"$f":"IF('sd paste'!E62=\"\",\"\",'sd paste'!E62)","v":"vkp61"},{"$f":"IF('sd paste'!G62=\"\",\"\",'sd paste'!G62)","v":"vk"},{"$f":"IF('sd paste'!H62=\"\",\"\",'sd paste'!H62)","v":"vkk"},{"$f":"IF('sd paste'!J62=\"\",\"\",'sd paste'!J62)","v":"2018-08-30"},{"$f":"IF('sd paste'!V62=\"\",\"\",'sd paste'!V62)","v":9828120757}]
[62,{"$f":"IF('sd paste'!A63=\"\",\"\",'sd paste'!A63)","v":3},{"$f":"IF('sd paste'!B63=\"\",\"\",'sd paste'!B63)","v":"A"},{"$f":"IF('sd paste'!C63=\"\",\"\",'sd paste'!C63)","v":4944},{"$f":"IF('sd paste'!E63=\"\",\"\",'sd paste'!E63)","v":"vkp62"},{"$f":"IF('sd paste'!G63=\"\",\"\",'sd paste'!G63)","v":"vk"},{"$f":"IF('sd paste'!H63=\"\",\"\",'sd paste'!H63)","v":"vkk"},{"$f":"IF('sd paste'!J63=\"\",\"\",'sd paste'!J63)","v":"2018-08-31"},{"$f":"IF('sd paste'!V63=\"\",\"\",'sd paste'!V63)","v":9828120758}]
[63,{"$f":"IF('sd paste'!A64=\"\",\"\",'sd paste'!A64)","v":3},{"$f":"IF('sd paste'!B64=\"\",\"\",'sd paste'!B64)","v":"A"},{"$f":"IF('sd paste'!C64=\"\",\"\",'sd paste'!C64)","v":5415},{"$f":"IF('sd paste'!E64=\"\",\"\",'sd paste'!E64)","v":"vkp63"},{"$f":"IF('sd paste'!G64=\"\",\"\",'sd paste'!G64)","v":"vk"},{"$f":"IF('sd paste'!H64=\"\",\"\",'sd paste'!H64)","v":"vkk"},{"$f":"IF('sd paste'!J64=\"\",\"\",'sd paste'!J64)","v":"2018-09-01"},{"$f":"IF('sd paste'!V64=\"\",\"\",'sd paste'!V64)","v":9828120759}]
[64,{"$f":"IF('sd paste'!A65=\"\",\"\",'sd paste'!A65)","v":3},{"$f":"IF('sd paste'!B65=\"\",\"\",'sd paste'!B65)","v":"A"},{"$f":"IF('sd paste'!C65=\"\",\"\",'sd paste'!C65)","v":5124},{"$f":"IF('sd paste'!E65=\"\",\"\",'sd paste'!E65)","v":"vkp64"},{"$f":"IF('sd paste'!G65=\"\",\"\",'sd paste'!G65)","v":"vk"},{"$f":"IF('sd paste'!H65=\"\",\"\",'sd paste'!H65)","v":"vkk"},{"$f":"IF('sd paste'!J65=\"\",\"\",'sd paste'!J65)","v":"2018-09-02"},{"$f":"IF('sd paste'!V65=\"\",\"\",'sd paste'!V65)","v":9828120760}]
[65,{"$f":"IF('sd paste'!A66=\"\",\"\",'sd paste'!A66)","v":3},{"$f":"IF('sd paste'!B66=\"\",\"\",'sd paste'!B66)","v":"A"},{"$f":"IF('sd paste'!C66=\"\",\"\",'sd paste'!C66)","v":5390},{"$f":"IF('sd paste'!E66=\"\",\"\",'sd paste'!E66)","v":"vkp65"},{"$f":"IF('sd paste'!G66=\"\",\"\",'sd paste'!G66)","v":"vk"},{"$f":"IF('sd paste'!H66=\"\",\"\",'sd paste'!H66)","v":"vkk"},{"$f":"IF('sd paste'!J66=\"\",\"\",'sd paste'!J66)","v":"2018-09-03"},{"$f":"IF('sd paste'!V66=\"\",\"\",'sd paste'!V66)","v":9828120761}]
[{"$f":"IF(F71=\"\",\"\",ROW(66:66))","v":66},{"$f":"IF('sd paste'!A67=\"\",\"\",'sd paste'!A67)","v":3},{"$f":"IF('sd paste'!B67=\"\",\"\",'sd paste'!B67)","v":"A"},{"$f":"IF('sd paste'!C67=\"\",\"\",'sd paste'!C67)","v":5435},{"$f":"IF('sd paste'!E67=\"\",\"\",'sd paste'!E67)","v":"vkp66"},{"$f":"IF('sd paste'!G67=\"\",\"\",'sd paste'!G67)","v":"vk"},{"$f":"IF('sd paste'!H67=\"\",\"\",'sd paste'!H67)","v":"vkk"},{"$f":"IF('sd paste'!J67=\"\",\"\",'sd paste'!J67)","v":"2018-09-04"},{"$f":"IF('sd paste'!V67=\"\",\"\",'sd paste'!V67)","v":9828120762}]
[67,{"$f":"IF('sd paste'!A68=\"\",\"\",'sd paste'!A68)","v":3},{"$f":"IF('sd paste'!B68=\"\",\"\",'sd paste'!B68)","v":"A"},{"$f":"IF('sd paste'!C68=\"\",\"\",'sd paste'!C68)","v":4991},{"$f":"IF('sd paste'!E68=\"\",\"\",'sd paste'!E68)","v":"vkp67"},{"$f":"IF('sd paste'!G68=\"\",\"\",'sd paste'!G68)","v":"vk"},{"$f":"IF('sd paste'!H68=\"\",\"\",'sd paste'!H68)","v":"vkk"},{"$f":"IF('sd paste'!J68=\"\",\"\",'sd paste'!J68)","v":"2018-09-05"},{"$f":"IF('sd paste'!V68=\"\",\"\",'sd paste'!V68)","v":9828120763}]
[68,{"$f":"IF('sd paste'!A69=\"\",\"\",'sd paste'!A69)","v":3},{"$f":"IF('sd paste'!B69=\"\",\"\",'sd paste'!B69)","v":"A"},{"$f":"IF('sd paste'!C69=\"\",\"\",'sd paste'!C69)","v":4993},{"$f":"IF('sd paste'!E69=\"\",\"\",'sd paste'!E69)","v":"vkp68"},{"$f":"IF('sd paste'!G69=\"\",\"\",'sd paste'!G69)","v":"vk"},{"$f":"IF('sd paste'!H69=\"\",\"\",'sd paste'!H69)","v":"vkk"},{"$f":"IF('sd paste'!J69=\"\",\"\",'sd paste'!J69)","v":"2018-09-06"},{"$f":"IF('sd paste'!V69=\"\",\"\",'sd paste'!V69)","v":9828120764}]
[69,{"$f":"IF('sd paste'!A70=\"\",\"\",'sd paste'!A70)","v":3},{"$f":"IF('sd paste'!B70=\"\",\"\",'sd paste'!B70)","v":"A"},{"$f":"IF('sd paste'!C70=\"\",\"\",'sd paste'!C70)","v":5129},{"$f":"IF('sd paste'!E70=\"\",\"\",'sd paste'!E70)","v":"vkp69"},{"$f":"IF('sd paste'!G70=\"\",\"\",'sd paste'!G70)","v":"vk"},{"$f":"IF('sd paste'!H70=\"\",\"\",'sd paste'!H70)","v":"vkk"},{"$f":"IF('sd paste'!J70=\"\",\"\",'sd paste'!J70)","v":"2018-09-07"},{"$f":"IF('sd paste'!V70=\"\",\"\",'sd paste'!V70)","v":9828120765}]
[70,{"$f":"IF('sd paste'!A71=\"\",\"\",'sd paste'!A71)","v":3},{"$f":"IF('sd paste'!B71=\"\",\"\",'sd paste'!B71)","v":"A"},{"$f":"IF('sd paste'!C71=\"\",\"\",'sd paste'!C71)","v":4933},{"$f":"IF('sd paste'!E71=\"\",\"\",'sd paste'!E71)","v":"vkp70"},{"$f":"IF('sd paste'!G71=\"\",\"\",'sd paste'!G71)","v":"vk"},{"$f":"IF('sd paste'!H71=\"\",\"\",'sd paste'!H71)","v":"vkk"},{"$f":"IF('sd paste'!J71=\"\",\"\",'sd paste'!J71)","v":"2018-09-08"},{"$f":"IF('sd paste'!V71=\"\",\"\",'sd paste'!V71)","v":9828120766}]
[71,{"$f":"IF('sd paste'!A72=\"\",\"\",'sd paste'!A72)","v":4},{"$f":"IF('sd paste'!B72=\"\",\"\",'sd paste'!B72)","v":"A"},{"$f":"IF('sd paste'!C72=\"\",\"\",'sd paste'!C72)","v":4858},{"$f":"IF('sd paste'!E72=\"\",\"\",'sd paste'!E72)","v":"vkp71"},{"$f":"IF('sd paste'!G72=\"\",\"\",'sd paste'!G72)","v":"vk"},{"$f":"IF('sd paste'!H72=\"\",\"\",'sd paste'!H72)","v":"vkk"},{"$f":"IF('sd paste'!J72=\"\",\"\",'sd paste'!J72)","v":"2018-09-09"},{"$f":"IF('sd paste'!V72=\"\",\"\",'sd paste'!V72)","v":9828120767}]
[72,{"$f":"IF('sd paste'!A73=\"\",\"\",'sd paste'!A73)","v":4},{"$f":"IF('sd paste'!B73=\"\",\"\",'sd paste'!B73)","v":"A"},{"$f":"IF('sd paste'!C73=\"\",\"\",'sd paste'!C73)","v":5311},{"$f":"IF('sd paste'!E73=\"\",\"\",'sd paste'!E73)","v":"vkp72"},{"$f":"IF('sd paste'!G73=\"\",\"\",'sd paste'!G73)","v":"vk"},{"$f":"IF('sd paste'!H73=\"\",\"\",'sd paste'!H73)","v":"vkk"},{"$f":"IF('sd paste'!J73=\"\",\"\",'sd paste'!J73)","v":"2018-09-10"},{"$f":"IF('sd paste'!V73=\"\",\"\",'sd paste'!V73)","v":9828120768}]
[73,{"$f":"IF('sd paste'!A74=\"\",\"\",'sd paste'!A74)","v":4},{"$f":"IF('sd paste'!B74=\"\",\"\",'sd paste'!B74)","v":"A"},{"$f":"IF('sd paste'!C74=\"\",\"\",'sd paste'!C74)","v":4630},{"$f":"IF('sd paste'!E74=\"\",\"\",'sd paste'!E74)","v":"vkp73"},{"$f":"IF('sd paste'!G74=\"\",\"\",'sd paste'!G74)","v":"vk"},{"$f":"IF('sd paste'!H74=\"\",\"\",'sd paste'!H74)","v":"vkk"},{"$f":"IF('sd paste'!J74=\"\",\"\",'sd paste'!J74)","v":"2018-09-11"},{"$f":"IF('sd paste'!V74=\"\",\"\",'sd paste'!V74)","v":9828120769}]
[74,{"$f":"IF('sd paste'!A75=\"\",\"\",'sd paste'!A75)","v":4},{"$f":"IF('sd paste'!B75=\"\",\"\",'sd paste'!B75)","v":"A"},{"$f":"IF('sd paste'!C75=\"\",\"\",'sd paste'!C75)","v":4676},{"$f":"IF('sd paste'!E75=\"\",\"\",'sd paste'!E75)","v":"vkp74"},{"$f":"IF('sd paste'!G75=\"\",\"\",'sd paste'!G75)","v":"vk"},{"$f":"IF('sd paste'!H75=\"\",\"\",'sd paste'!H75)","v":"vkk"},{"$f":"IF('sd paste'!J75=\"\",\"\",'sd paste'!J75)","v":"2018-09-12"},{"$f":"IF('sd paste'!V75=\"\",\"\",'sd paste'!V75)","v":9828120770}]
[75,{"$f":"IF('sd paste'!A76=\"\",\"\",'sd paste'!A76)","v":4},{"$f":"IF('sd paste'!B76=\"\",\"\",'sd paste'!B76)","v":"A"},{"$f":"IF('sd paste'!C76=\"\",\"\",'sd paste'!C76)","v":4791},{"$f":"IF('sd paste'!E76=\"\",\"\",'sd paste'!E76)","v":"vkp75"},{"$f":"IF('sd paste'!G76=\"\",\"\",'sd paste'!G76)","v":"vk"},{"$f":"IF('sd paste'!H76=\"\",\"\",'sd paste'!H76)","v":"vkk"},{"$f":"IF('sd paste'!J76=\"\",\"\",'sd paste'!J76)","v":"2018-09-13"},{"$f":"IF('sd paste'!V76=\"\",\"\",'sd paste'!V76)","v":9828120771}]
[76,{"$f":"IF('sd paste'!A77=\"\",\"\",'sd paste'!A77)","v":4},{"$f":"IF('sd paste'!B77=\"\",\"\",'sd paste'!B77)","v":"A"},{"$f":"IF('sd paste'!C77=\"\",\"\",'sd paste'!C77)","v":5113},{"$f":"IF('sd paste'!E77=\"\",\"\",'sd paste'!E77)","v":"vkp76"},{"$f":"IF('sd paste'!G77=\"\",\"\",'sd paste'!G77)","v":"vk"},{"$f":"IF('sd paste'!H77=\"\",\"\",'sd paste'!H77)","v":"vkk"},{"$f":"IF('sd paste'!J77=\"\",\"\",'sd paste'!J77)","v":"2018-09-14"},{"$f":"IF('sd paste'!V77=\"\",\"\",'sd paste'!V77)","v":9828120772}]
[77,{"$f":"IF('sd paste'!A78=\"\",\"\",'sd paste'!A78)","v":4},{"$f":"IF('sd paste'!B78=\"\",\"\",'sd paste'!B78)","v":"A"},{"$f":"IF('sd paste'!C78=\"\",\"\",'sd paste'!C78)","v":4864},{"$f":"IF('sd paste'!E78=\"\",\"\",'sd paste'!E78)","v":"vkp77"},{"$f":"IF('sd paste'!G78=\"\",\"\",'sd paste'!G78)","v":"vk"},{"$f":"IF('sd paste'!H78=\"\",\"\",'sd paste'!H78)","v":"vkk"},{"$f":"IF('sd paste'!J78=\"\",\"\",'sd paste'!J78)","v":"2018-09-15"},{"$f":"IF('sd paste'!V78=\"\",\"\",'sd paste'!V78)","v":9828120773}]
[78,{"$f":"IF('sd paste'!A79=\"\",\"\",'sd paste'!A79)","v":4},{"$f":"IF('sd paste'!B79=\"\",\"\",'sd paste'!B79)","v":"A"},{"$f":"IF('sd paste'!C79=\"\",\"\",'sd paste'!C79)","v":4695},{"$f":"IF('sd paste'!E79=\"\",\"\",'sd paste'!E79)","v":"vkp78"},{"$f":"IF('sd paste'!G79=\"\",\"\",'sd paste'!G79)","v":"vk"},{"$f":"IF('sd paste'!H79=\"\",\"\",'sd paste'!H79)","v":"vkk"},{"$f":"IF('sd paste'!J79=\"\",\"\",'sd paste'!J79)","v":"2018-09-16"},{"$f":"IF('sd paste'!V79=\"\",\"\",'sd paste'!V79)","v":9828120774}]
[79,{"$f":"IF('sd paste'!A80=\"\",\"\",'sd paste'!A80)","v":4},{"$f":"IF('sd paste'!B80=\"\",\"\",'sd paste'!B80)","v":"A"},{"$f":"IF('sd paste'!C80=\"\",\"\",'sd paste'!C80)","v":5310},{"$f":"IF('sd paste'!E80=\"\",\"\",'sd paste'!E80)","v":"vkp79"},{"$f":"IF('sd paste'!G80=\"\",\"\",'sd paste'!G80)","v":"vk"},{"$f":"IF('sd paste'!H80=\"\",\"\",'sd paste'!H80)","v":"vkk"},{"$f":"IF('sd paste'!J80=\"\",\"\",'sd paste'!J80)","v":"2018-09-17"},{"$f":"IF('sd paste'!V80=\"\",\"\",'sd paste'!V80)","v":9828120775}]
[80,{"$f":"IF('sd paste'!A81=\"\",\"\",'sd paste'!A81)","v":4},{"$f":"IF('sd paste'!B81=\"\",\"\",'sd paste'!B81)","v":"A"},{"$f":"IF('sd paste'!C81=\"\",\"\",'sd paste'!C81)","v":4627},{"$f":"IF('sd paste'!E81=\"\",\"\",'sd paste'!E81)","v":"vkp80"},{"$f":"IF('sd paste'!G81=\"\",\"\",'sd paste'!G81)","v":"vk"},{"$f":"IF('sd paste'!H81=\"\",\"\",'sd paste'!H81)","v":"vkk"},{"$f":"IF('sd paste'!J81=\"\",\"\",'sd paste'!J81)","v":"2018-09-18"},{"$f":"IF('sd paste'!V81=\"\",\"\",'sd paste'!V81)","v":9828120776}]
[81,{"$f":"IF('sd paste'!A82=\"\",\"\",'sd paste'!A82)","v":4},{"$f":"IF('sd paste'!B82=\"\",\"\",'sd paste'!B82)","v":"A"},{"$f":"IF('sd paste'!C82=\"\",\"\",'sd paste'!C82)","v":5314},{"$f":"IF('sd paste'!E82=\"\",\"\",'sd paste'!E82)","v":"vkp81"},{"$f":"IF('sd paste'!G82=\"\",\"\",'sd paste'!G82)","v":"vk"},{"$f":"IF('sd paste'!H82=\"\",\"\",'sd paste'!H82)","v":"vkk"},{"$f":"IF('sd paste'!J82=\"\",\"\",'sd paste'!J82)","v":"2018-09-19"},{"$f":"IF('sd paste'!V82=\"\",\"\",'sd paste'!V82)","v":9828120777}]
[82,{"$f":"IF('sd paste'!A83=\"\",\"\",'sd paste'!A83)","v":4},{"$f":"IF('sd paste'!B83=\"\",\"\",'sd paste'!B83)","v":"A"},{"$f":"IF('sd paste'!C83=\"\",\"\",'sd paste'!C83)","v":5309},{"$f":"IF('sd paste'!E83=\"\",\"\",'sd paste'!E83)","v":"vkp82"},{"$f":"IF('sd paste'!G83=\"\",\"\",'sd paste'!G83)","v":"vk"},{"$f":"IF('sd paste'!H83=\"\",\"\",'sd paste'!H83)","v":"vkk"},{"$f":"IF('sd paste'!J83=\"\",\"\",'sd paste'!J83)","v":"2018-09-20"},{"$f":"IF('sd paste'!V83=\"\",\"\",'sd paste'!V83)","v":9828120778}]
[83,{"$f":"IF('sd paste'!A84=\"\",\"\",'sd paste'!A84)","v":4},{"$f":"IF('sd paste'!B84=\"\",\"\",'sd paste'!B84)","v":"A"},{"$f":"IF('sd paste'!C84=\"\",\"\",'sd paste'!C84)","v":5312},{"$f":"IF('sd paste'!E84=\"\",\"\",'sd paste'!E84)","v":"vkp83"},{"$f":"IF('sd paste'!G84=\"\",\"\",'sd paste'!G84)","v":"vk"},{"$f":"IF('sd paste'!H84=\"\",\"\",'sd paste'!H84)","v":"vkk"},{"$f":"IF('sd paste'!J84=\"\",\"\",'sd paste'!J84)","v":"2018-09-21"},{"$f":"IF('sd paste'!V84=\"\",\"\",'sd paste'!V84)","v":9828120779}]
[84,{"$f":"IF('sd paste'!A85=\"\",\"\",'sd paste'!A85)","v":4},{"$f":"IF('sd paste'!B85=\"\",\"\",'sd paste'!B85)","v":"A"},{"$f":"IF('sd paste'!C85=\"\",\"\",'sd paste'!C85)","v":4789},{"$f":"IF('sd paste'!E85=\"\",\"\",'sd paste'!E85)","v":"vkp84"},{"$f":"IF('sd paste'!G85=\"\",\"\",'sd paste'!G85)","v":"vk"},{"$f":"IF('sd paste'!H85=\"\",\"\",'sd paste'!H85)","v":"vkk"},{"$f":"IF('sd paste'!J85=\"\",\"\",'sd paste'!J85)","v":"2018-09-22"},{"$f":"IF('sd paste'!V85=\"\",\"\",'sd paste'!V85)","v":9828120780}]
[85,{"$f":"IF('sd paste'!A86=\"\",\"\",'sd paste'!A86)","v":4},{"$f":"IF('sd paste'!B86=\"\",\"\",'sd paste'!B86)","v":"A"},{"$f":"IF('sd paste'!C86=\"\",\"\",'sd paste'!C86)","v":4859},{"$f":"IF('sd paste'!E86=\"\",\"\",'sd paste'!E86)","v":"vkp85"},{"$f":"IF('sd paste'!G86=\"\",\"\",'sd paste'!G86)","v":"vk"},{"$f":"IF('sd paste'!H86=\"\",\"\",'sd paste'!H86)","v":"vkk"},{"$f":"IF('sd paste'!J86=\"\",\"\",'sd paste'!J86)","v":"2018-09-23"},{"$f":"IF('sd paste'!V86=\"\",\"\",'sd paste'!V86)","v":9828120781}]
[86,{"$f":"IF('sd paste'!A87=\"\",\"\",'sd paste'!A87)","v":4},{"$f":"IF('sd paste'!B87=\"\",\"\",'sd paste'!B87)","v":"A"},{"$f":"IF('sd paste'!C87=\"\",\"\",'sd paste'!C87)","v":4794},{"$f":"IF('sd paste'!E87=\"\",\"\",'sd paste'!E87)","v":"vkp86"},{"$f":"IF('sd paste'!G87=\"\",\"\",'sd paste'!G87)","v":"vk"},{"$f":"IF('sd paste'!H87=\"\",\"\",'sd paste'!H87)","v":"vkk"},{"$f":"IF('sd paste'!J87=\"\",\"\",'sd paste'!J87)","v":"2018-09-24"},{"$f":"IF('sd paste'!V87=\"\",\"\",'sd paste'!V87)","v":9828120782}]
[87,{"$f":"IF('sd paste'!A88=\"\",\"\",'sd paste'!A88)","v":4},{"$f":"IF('sd paste'!B88=\"\",\"\",'sd paste'!B88)","v":"A"},{"$f":"IF('sd paste'!C88=\"\",\"\",'sd paste'!C88)","v":5234},{"$f":"IF('sd paste'!E88=\"\",\"\",'sd paste'!E88)","v":"vkp87"},{"$f":"IF('sd paste'!G88=\"\",\"\",'sd paste'!G88)","v":"vk"},{"$f":"IF('sd paste'!H88=\"\",\"\",'sd paste'!H88)","v":"vkk"},{"$f":"IF('sd paste'!J88=\"\",\"\",'sd paste'!J88)","v":"2018-09-25"},{"$f":"IF('sd paste'!V88=\"\",\"\",'sd paste'!V88)","v":9828120783}]
[88,{"$f":"IF('sd paste'!A89=\"\",\"\",'sd paste'!A89)","v":4},{"$f":"IF('sd paste'!B89=\"\",\"\",'sd paste'!B89)","v":"A"},{"$f":"IF('sd paste'!C89=\"\",\"\",'sd paste'!C89)","v":4874},{"$f":"IF('sd paste'!E89=\"\",\"\",'sd paste'!E89)","v":"vkp88"},{"$f":"IF('sd paste'!G89=\"\",\"\",'sd paste'!G89)","v":"vk"},{"$f":"IF('sd paste'!H89=\"\",\"\",'sd paste'!H89)","v":"vkk"},{"$f":"IF('sd paste'!J89=\"\",\"\",'sd paste'!J89)","v":"2018-09-26"},{"$f":"IF('sd paste'!V89=\"\",\"\",'sd paste'!V89)","v":9828120784}]
[89,{"$f":"IF('sd paste'!A90=\"\",\"\",'sd paste'!A90)","v":4},{"$f":"IF('sd paste'!B90=\"\",\"\",'sd paste'!B90)","v":"A"},{"$f":"IF('sd paste'!C90=\"\",\"\",'sd paste'!C90)","v":4862},{"$f":"IF('sd paste'!E90=\"\",\"\",'sd paste'!E90)","v":"vkp89"},{"$f":"IF('sd paste'!G90=\"\",\"\",'sd paste'!G90)","v":"vk"},{"$f":"IF('sd paste'!H90=\"\",\"\",'sd paste'!H90)","v":"vkk"},{"$f":"IF('sd paste'!J90=\"\",\"\",'sd paste'!J90)","v":"2018-09-27"},{"$f":"IF('sd paste'!V90=\"\",\"\",'sd paste'!V90)","v":9828120785}]
[90,{"$f":"IF('sd paste'!A91=\"\",\"\",'sd paste'!A91)","v":4},{"$f":"IF('sd paste'!B91=\"\",\"\",'sd paste'!B91)","v":"A"},{"$f":"IF('sd paste'!C91=\"\",\"\",'sd paste'!C91)","v":4804},{"$f":"IF('sd paste'!E91=\"\",\"\",'sd paste'!E91)","v":"vkp90"},{"$f":"IF('sd paste'!G91=\"\",\"\",'sd paste'!G91)","v":"vk"},{"$f":"IF('sd paste'!H91=\"\",\"\",'sd paste'!H91)","v":"vkk"},{"$f":"IF('sd paste'!J91=\"\",\"\",'sd paste'!J91)","v":"2018-09-28"},{"$f":"IF('sd paste'!V91=\"\",\"\",'sd paste'!V91)","v":9828120786}]
[91,{"$f":"IF('sd paste'!A92=\"\",\"\",'sd paste'!A92)","v":4},{"$f":"IF('sd paste'!B92=\"\",\"\",'sd paste'!B92)","v":"A"},{"$f":"IF('sd paste'!C92=\"\",\"\",'sd paste'!C92)","v":4806},{"$f":"IF('sd paste'!E92=\"\",\"\",'sd paste'!E92)","v":"vkp91"},{"$f":"IF('sd paste'!G92=\"\",\"\",'sd paste'!G92)","v":"vk"},{"$f":"IF('sd paste'!H92=\"\",\"\",'sd paste'!H92)","v":"vkk"},{"$f":"IF('sd paste'!J92=\"\",\"\",'sd paste'!J92)","v":"2018-09-29"},{"$f":"IF('sd paste'!V92=\"\",\"\",'sd paste'!V92)","v":9828120787}]
[92,{"$f":"IF('sd paste'!A93=\"\",\"\",'sd paste'!A93)","v":4},{"$f":"IF('sd paste'!B93=\"\",\"\",'sd paste'!B93)","v":"A"},{"$f":"IF('sd paste'!C93=\"\",\"\",'sd paste'!C93)","v":4872},{"$f":"IF('sd paste'!E93=\"\",\"\",'sd paste'!E93)","v":"vkp92"},{"$f":"IF('sd paste'!G93=\"\",\"\",'sd paste'!G93)","v":"vk"},{"$f":"IF('sd paste'!H93=\"\",\"\",'sd paste'!H93)","v":"vkk"},{"$f":"IF('sd paste'!J93=\"\",\"\",'sd paste'!J93)","v":"2018-09-30"},{"$f":"IF('sd paste'!V93=\"\",\"\",'sd paste'!V93)","v":9828120788}]
[93,{"$f":"IF('sd paste'!A94=\"\",\"\",'sd paste'!A94)","v":4},{"$f":"IF('sd paste'!B94=\"\",\"\",'sd paste'!B94)","v":"A"},{"$f":"IF('sd paste'!C94=\"\",\"\",'sd paste'!C94)","v":4861},{"$f":"IF('sd paste'!E94=\"\",\"\",'sd paste'!E94)","v":"vkp93"},{"$f":"IF('sd paste'!G94=\"\",\"\",'sd paste'!G94)","v":"vk"},{"$f":"IF('sd paste'!H94=\"\",\"\",'sd paste'!H94)","v":"vkk"},{"$f":"IF('sd paste'!J94=\"\",\"\",'sd paste'!J94)","v":"2018-10-01"},{"$f":"IF('sd paste'!V94=\"\",\"\",'sd paste'!V94)","v":9828120789}]
[94,{"$f":"IF('sd paste'!A95=\"\",\"\",'sd paste'!A95)","v":5},{"$f":"IF('sd paste'!B95=\"\",\"\",'sd paste'!B95)","v":"A"},{"$f":"IF('sd paste'!C95=\"\",\"\",'sd paste'!C95)","v":5283},{"$f":"IF('sd paste'!E95=\"\",\"\",'sd paste'!E95)","v":"vkp94"},{"$f":"IF('sd paste'!G95=\"\",\"\",'sd paste'!G95)","v":"vk"},{"$f":"IF('sd paste'!H95=\"\",\"\",'sd paste'!H95)","v":"vkk"},{"$f":"IF('sd paste'!J95=\"\",\"\",'sd paste'!J95)","v":"2018-10-02"},{"$f":"IF('sd paste'!V95=\"\",\"\",'sd paste'!V95)","v":9828120790}]
[95,{"$f":"IF('sd paste'!A96=\"\",\"\",'sd paste'!A96)","v":5},{"$f":"IF('sd paste'!B96=\"\",\"\",'sd paste'!B96)","v":"A"},{"$f":"IF('sd paste'!C96=\"\",\"\",'sd paste'!C96)","v":4729},{"$f":"IF('sd paste'!E96=\"\",\"\",'sd paste'!E96)","v":"vkp95"},{"$f":"IF('sd paste'!G96=\"\",\"\",'sd paste'!G96)","v":"vk"},{"$f":"IF('sd paste'!H96=\"\",\"\",'sd paste'!H96)","v":"vkk"},{"$f":"IF('sd paste'!J96=\"\",\"\",'sd paste'!J96)","v":"2018-10-03"},{"$f":"IF('sd paste'!V96=\"\",\"\",'sd paste'!V96)","v":9828120791}]
[96,{"$f":"IF('sd paste'!A97=\"\",\"\",'sd paste'!A97)","v":5},{"$f":"IF('sd paste'!B97=\"\",\"\",'sd paste'!B97)","v":"A"},{"$f":"IF('sd paste'!C97=\"\",\"\",'sd paste'!C97)","v":4710},{"$f":"IF('sd paste'!E97=\"\",\"\",'sd paste'!E97)","v":"vkp96"},{"$f":"IF('sd paste'!G97=\"\",\"\",'sd paste'!G97)","v":"vk"},{"$f":"IF('sd paste'!H97=\"\",\"\",'sd paste'!H97)","v":"vkk"},{"$f":"IF('sd paste'!J97=\"\",\"\",'sd paste'!J97)","v":"2018-10-04"},{"$f":"IF('sd paste'!V97=\"\",\"\",'sd paste'!V97)","v":9828120792}]
[97,{"$f":"IF('sd paste'!A98=\"\",\"\",'sd paste'!A98)","v":5},{"$f":"IF('sd paste'!B98=\"\",\"\",'sd paste'!B98)","v":"A"},{"$f":"IF('sd paste'!C98=\"\",\"\",'sd paste'!C98)","v":5264},{"$f":"IF('sd paste'!E98=\"\",\"\",'sd paste'!E98)","v":"vkp97"},{"$f":"IF('sd paste'!G98=\"\",\"\",'sd paste'!G98)","v":"vk"},{"$f":"IF('sd paste'!H98=\"\",\"\",'sd paste'!H98)","v":"vkk"},{"$f":"IF('sd paste'!J98=\"\",\"\",'sd paste'!J98)","v":"2018-10-05"},{"$f":"IF('sd paste'!V98=\"\",\"\",'sd paste'!V98)","v":9828120793}]
[98,{"$f":"IF('sd paste'!A99=\"\",\"\",'sd paste'!A99)","v":5},{"$f":"IF('sd paste'!B99=\"\",\"\",'sd paste'!B99)","v":"A"},{"$f":"IF('sd paste'!C99=\"\",\"\",'sd paste'!C99)","v":5119},{"$f":"IF('sd paste'!E99=\"\",\"\",'sd paste'!E99)","v":"vkp98"},{"$f":"IF('sd paste'!G99=\"\",\"\",'sd paste'!G99)","v":"vk"},{"$f":"IF('sd paste'!H99=\"\",\"\",'sd paste'!H99)","v":"vkk"},{"$f":"IF('sd paste'!J99=\"\",\"\",'sd paste'!J99)","v":"2018-10-06"},{"$f":"IF('sd paste'!V99=\"\",\"\",'sd paste'!V99)","v":9828120794}]
[99,{"$f":"IF('sd paste'!A100=\"\",\"\",'sd paste'!A100)","v":5},{"$f":"IF('sd paste'!B100=\"\",\"\",'sd paste'!B100)","v":"A"},{"$f":"IF('sd paste'!C100=\"\",\"\",'sd paste'!C100)","v":4728},{"$f":"IF('sd paste'!E100=\"\",\"\",'sd paste'!E100)","v":"vkp99"},{"$f":"IF('sd paste'!G100=\"\",\"\",'sd paste'!G100)","v":"vk"},{"$f":"IF('sd paste'!H100=\"\",\"\",'sd paste'!H100)","v":"vkk"},{"$f":"IF('sd paste'!J100=\"\",\"\",'sd paste'!J100)","v":"2018-10-07"},{"$f":"IF('sd paste'!V100=\"\",\"\",'sd paste'!V100)","v":9828120795}]
[100,{"$f":"IF('sd paste'!A101=\"\",\"\",'sd paste'!A101)","v":5},{"$f":"IF('sd paste'!B101=\"\",\"\",'sd paste'!B101)","v":"A"},{"$f":"IF('sd paste'!C101=\"\",\"\",'sd paste'!C101)","v":4526},{"$f":"IF('sd paste'!E101=\"\",\"\",'sd paste'!E101)","v":"vkp100"},{"$f":"IF('sd paste'!G101=\"\",\"\",'sd paste'!G101)","v":"vk"},{"$f":"IF('sd paste'!H101=\"\",\"\",'sd paste'!H101)","v":"vkk"},{"$f":"IF('sd paste'!J101=\"\",\"\",'sd paste'!J101)","v":"2018-10-08"},{"$f":"IF('sd paste'!V101=\"\",\"\",'sd paste'!V101)","v":9828120796}]
[101,{"$f":"IF('sd paste'!A102=\"\",\"\",'sd paste'!A102)","v":5},{"$f":"IF('sd paste'!B102=\"\",\"\",'sd paste'!B102)","v":"A"},{"$f":"IF('sd paste'!C102=\"\",\"\",'sd paste'!C102)","v":5169},{"$f":"IF('sd paste'!E102=\"\",\"\",'sd paste'!E102)","v":"vkp101"},{"$f":"IF('sd paste'!G102=\"\",\"\",'sd paste'!G102)","v":"vk"},{"$f":"IF('sd paste'!H102=\"\",\"\",'sd paste'!H102)","v":"vkk"},{"$f":"IF('sd paste'!J102=\"\",\"\",'sd paste'!J102)","v":"2018-10-09"},{"$f":"IF('sd paste'!V102=\"\",\"\",'sd paste'!V102)","v":9828120797}]
[102,{"$f":"IF('sd paste'!A103=\"\",\"\",'sd paste'!A103)","v":5},{"$f":"IF('sd paste'!B103=\"\",\"\",'sd paste'!B103)","v":"A"},{"$f":"IF('sd paste'!C103=\"\",\"\",'sd paste'!C103)","v":4711},{"$f":"IF('sd paste'!E103=\"\",\"\",'sd paste'!E103)","v":"vkp102"},{"$f":"IF('sd paste'!G103=\"\",\"\",'sd paste'!G103)","v":"vk"},{"$f":"IF('sd paste'!H103=\"\",\"\",'sd paste'!H103)","v":"vkk"},{"$f":"IF('sd paste'!J103=\"\",\"\",'sd paste'!J103)","v":"2018-10-10"},{"$f":"IF('sd paste'!V103=\"\",\"\",'sd paste'!V103)","v":9828120798}]
[103,{"$f":"IF('sd paste'!A104=\"\",\"\",'sd paste'!A104)","v":5},{"$f":"IF('sd paste'!B104=\"\",\"\",'sd paste'!B104)","v":"A"},{"$f":"IF('sd paste'!C104=\"\",\"\",'sd paste'!C104)","v":5099},{"$f":"IF('sd paste'!E104=\"\",\"\",'sd paste'!E104)","v":"vkp103"},{"$f":"IF('sd paste'!G104=\"\",\"\",'sd paste'!G104)","v":"vk"},{"$f":"IF('sd paste'!H104=\"\",\"\",'sd paste'!H104)","v":"vkk"},{"$f":"IF('sd paste'!J104=\"\",\"\",'sd paste'!J104)","v":"2018-10-11"},{"$f":"IF('sd paste'!V104=\"\",\"\",'sd paste'!V104)","v":9828120799}]
[104,{"$f":"IF('sd paste'!A105=\"\",\"\",'sd paste'!A105)","v":5},{"$f":"IF('sd paste'!B105=\"\",\"\",'sd paste'!B105)","v":"A"},{"$f":"IF('sd paste'!C105=\"\",\"\",'sd paste'!C105)","v":5295},{"$f":"IF('sd paste'!E105=\"\",\"\",'sd paste'!E105)","v":"vkp104"},{"$f":"IF('sd paste'!G105=\"\",\"\",'sd paste'!G105)","v":"vk"},{"$f":"IF('sd paste'!H105=\"\",\"\",'sd paste'!H105)","v":"vkk"},{"$f":"IF('sd paste'!J105=\"\",\"\",'sd paste'!J105)","v":"2018-10-12"},{"$f":"IF('sd paste'!V105=\"\",\"\",'sd paste'!V105)","v":9828120800}]
[105,{"$f":"IF('sd paste'!A106=\"\",\"\",'sd paste'!A106)","v":5},{"$f":"IF('sd paste'!B106=\"\",\"\",'sd paste'!B106)","v":"A"},{"$f":"IF('sd paste'!C106=\"\",\"\",'sd paste'!C106)","v":4948},{"$f":"IF('sd paste'!E106=\"\",\"\",'sd paste'!E106)","v":"vkp105"},{"$f":"IF('sd paste'!G106=\"\",\"\",'sd paste'!G106)","v":"vk"},{"$f":"IF('sd paste'!H106=\"\",\"\",'sd paste'!H106)","v":"vkk"},{"$f":"IF('sd paste'!J106=\"\",\"\",'sd paste'!J106)","v":"2018-10-13"},{"$f":"IF('sd paste'!V106=\"\",\"\",'sd paste'!V106)","v":9828120801}]
[106,{"$f":"IF('sd paste'!A107=\"\",\"\",'sd paste'!A107)","v":5},{"$f":"IF('sd paste'!B107=\"\",\"\",'sd paste'!B107)","v":"A"},{"$f":"IF('sd paste'!C107=\"\",\"\",'sd paste'!C107)","v":4738},{"$f":"IF('sd paste'!E107=\"\",\"\",'sd paste'!E107)","v":"vkp106"},{"$f":"IF('sd paste'!G107=\"\",\"\",'sd paste'!G107)","v":"vk"},{"$f":"IF('sd paste'!H107=\"\",\"\",'sd paste'!H107)","v":"vkk"},{"$f":"IF('sd paste'!J107=\"\",\"\",'sd paste'!J107)","v":"2018-10-14"},{"$f":"IF('sd paste'!V107=\"\",\"\",'sd paste'!V107)","v":9828120802}]
[107,{"$f":"IF('sd paste'!A108=\"\",\"\",'sd paste'!A108)","v":5},{"$f":"IF('sd paste'!B108=\"\",\"\",'sd paste'!B108)","v":"A"},{"$f":"IF('sd paste'!C108=\"\",\"\",'sd paste'!C108)","v":4957},{"$f":"IF('sd paste'!E108=\"\",\"\",'sd paste'!E108)","v":"vkp107"},{"$f":"IF('sd paste'!G108=\"\",\"\",'sd paste'!G108)","v":"vk"},{"$f":"IF('sd paste'!H108=\"\",\"\",'sd paste'!H108)","v":"vkk"},{"$f":"IF('sd paste'!J108=\"\",\"\",'sd paste'!J108)","v":"2018-10-15"},{"$f":"IF('sd paste'!V108=\"\",\"\",'sd paste'!V108)","v":9828120803}]
[108,{"$f":"IF('sd paste'!A109=\"\",\"\",'sd paste'!A109)","v":5},{"$f":"IF('sd paste'!B109=\"\",\"\",'sd paste'!B109)","v":"A"},{"$f":"IF('sd paste'!C109=\"\",\"\",'sd paste'!C109)","v":5313},{"$f":"IF('sd paste'!E109=\"\",\"\",'sd paste'!E109)","v":"vkp108"},{"$f":"IF('sd paste'!G109=\"\",\"\",'sd paste'!G109)","v":"vk"},{"$f":"IF('sd paste'!H109=\"\",\"\",'sd paste'!H109)","v":"vkk"},{"$f":"IF('sd paste'!J109=\"\",\"\",'sd paste'!J109)","v":"2018-10-16"},{"$f":"IF('sd paste'!V109=\"\",\"\",'sd paste'!V109)","v":9828120804}]
[109,{"$f":"IF('sd paste'!A110=\"\",\"\",'sd paste'!A110)","v":5},{"$f":"IF('sd paste'!B110=\"\",\"\",'sd paste'!B110)","v":"A"},{"$f":"IF('sd paste'!C110=\"\",\"\",'sd paste'!C110)","v":4626},{"$f":"IF('sd paste'!E110=\"\",\"\",'sd paste'!E110)","v":"vkp109"},{"$f":"IF('sd paste'!G110=\"\",\"\",'sd paste'!G110)","v":"vk"},{"$f":"IF('sd paste'!H110=\"\",\"\",'sd paste'!H110)","v":"vkk"},{"$f":"IF('sd paste'!J110=\"\",\"\",'sd paste'!J110)","v":"2018-10-17"},{"$f":"IF('sd paste'!V110=\"\",\"\",'sd paste'!V110)","v":9828120805}]
[110,{"$f":"IF('sd paste'!A111=\"\",\"\",'sd paste'!A111)","v":5},{"$f":"IF('sd paste'!B111=\"\",\"\",'sd paste'!B111)","v":"A"},{"$f":"IF('sd paste'!C111=\"\",\"\",'sd paste'!C111)","v":5233},{"$f":"IF('sd paste'!E111=\"\",\"\",'sd paste'!E111)","v":"vkp110"},{"$f":"IF('sd paste'!G111=\"\",\"\",'sd paste'!G111)","v":"vk"},{"$f":"IF('sd paste'!H111=\"\",\"\",'sd paste'!H111)","v":"vkk"},{"$f":"IF('sd paste'!J111=\"\",\"\",'sd paste'!J111)","v":"2018-10-18"},{"$f":"IF('sd paste'!V111=\"\",\"\",'sd paste'!V111)","v":9828120806}]
[111,{"$f":"IF('sd paste'!A112=\"\",\"\",'sd paste'!A112)","v":5},{"$f":"IF('sd paste'!B112=\"\",\"\",'sd paste'!B112)","v":"A"},{"$f":"IF('sd paste'!C112=\"\",\"\",'sd paste'!C112)","v":4694},{"$f":"IF('sd paste'!E112=\"\",\"\",'sd paste'!E112)","v":"vkp111"},{"$f":"IF('sd paste'!G112=\"\",\"\",'sd paste'!G112)","v":"vk"},{"$f":"IF('sd paste'!H112=\"\",\"\",'sd paste'!H112)","v":"vkk"},{"$f":"IF('sd paste'!J112=\"\",\"\",'sd paste'!J112)","v":"2018-10-19"},{"$f":"IF('sd paste'!V112=\"\",\"\",'sd paste'!V112)","v":9828120807}]
[112,{"$f":"IF('sd paste'!A113=\"\",\"\",'sd paste'!A113)","v":5},{"$f":"IF('sd paste'!B113=\"\",\"\",'sd paste'!B113)","v":"A"},{"$f":"IF('sd paste'!C113=\"\",\"\",'sd paste'!C113)","v":4369},{"$f":"IF('sd paste'!E113=\"\",\"\",'sd paste'!E113)","v":"vkp112"},{"$f":"IF('sd paste'!G113=\"\",\"\",'sd paste'!G113)","v":"vk"},{"$f":"IF('sd paste'!H113=\"\",\"\",'sd paste'!H113)","v":"vkk"},{"$f":"IF('sd paste'!J113=\"\",\"\",'sd paste'!J113)","v":"2018-10-20"},{"$f":"IF('sd paste'!V113=\"\",\"\",'sd paste'!V113)","v":9828120808}]
[113,{"$f":"IF('sd paste'!A114=\"\",\"\",'sd paste'!A114)","v":5},{"$f":"IF('sd paste'!B114=\"\",\"\",'sd paste'!B114)","v":"A"},{"$f":"IF('sd paste'!C114=\"\",\"\",'sd paste'!C114)","v":4527},{"$f":"IF('sd paste'!E114=\"\",\"\",'sd paste'!E114)","v":"vkp113"},{"$f":"IF('sd paste'!G114=\"\",\"\",'sd paste'!G114)","v":"vk"},{"$f":"IF('sd paste'!H114=\"\",\"\",'sd paste'!H114)","v":"vkk"},{"$f":"IF('sd paste'!J114=\"\",\"\",'sd paste'!J114)","v":"2018-10-21"},{"$f":"IF('sd paste'!V114=\"\",\"\",'sd paste'!V114)","v":9828120809}]
[114,{"$f":"IF('sd paste'!A115=\"\",\"\",'sd paste'!A115)","v":5},{"$f":"IF('sd paste'!B115=\"\",\"\",'sd paste'!B115)","v":"A"},{"$f":"IF('sd paste'!C115=\"\",\"\",'sd paste'!C115)","v":4698},{"$f":"IF('sd paste'!E115=\"\",\"\",'sd paste'!E115)","v":"vkp114"},{"$f":"IF('sd paste'!G115=\"\",\"\",'sd paste'!G115)","v":"vk"},{"$f":"IF('sd paste'!H115=\"\",\"\",'sd paste'!H115)","v":"vkk"},{"$f":"IF('sd paste'!J115=\"\",\"\",'sd paste'!J115)","v":"2018-10-22"},{"$f":"IF('sd paste'!V115=\"\",\"\",'sd paste'!V115)","v":9828120810}]
[115,{"$f":"IF('sd paste'!A116=\"\",\"\",'sd paste'!A116)","v":5},{"$f":"IF('sd paste'!B116=\"\",\"\",'sd paste'!B116)","v":"A"},{"$f":"IF('sd paste'!C116=\"\",\"\",'sd paste'!C116)","v":4633},{"$f":"IF('sd paste'!E116=\"\",\"\",'sd paste'!E116)","v":"vkp115"},{"$f":"IF('sd paste'!G116=\"\",\"\",'sd paste'!G116)","v":"vk"},{"$f":"IF('sd paste'!H116=\"\",\"\",'sd paste'!H116)","v":"vkk"},{"$f":"IF('sd paste'!J116=\"\",\"\",'sd paste'!J116)","v":"2018-10-23"},{"$f":"IF('sd paste'!V116=\"\",\"\",'sd paste'!V116)","v":9828120811}]
[116,{"$f":"IF('sd paste'!A117=\"\",\"\",'sd paste'!A117)","v":5},{"$f":"IF('sd paste'!B117=\"\",\"\",'sd paste'!B117)","v":"A"},{"$f":"IF('sd paste'!C117=\"\",\"\",'sd paste'!C117)","v":4949},{"$f":"IF('sd paste'!E117=\"\",\"\",'sd paste'!E117)","v":"vkp116"},{"$f":"IF('sd paste'!G117=\"\",\"\",'sd paste'!G117)","v":"vk"},{"$f":"IF('sd paste'!H117=\"\",\"\",'sd paste'!H117)","v":"vkk"},{"$f":"IF('sd paste'!J117=\"\",\"\",'sd paste'!J117)","v":"2018-10-24"},{"$f":"IF('sd paste'!V117=\"\",\"\",'sd paste'!V117)","v":9828120812}]
[117,{"$f":"IF('sd paste'!A118=\"\",\"\",'sd paste'!A118)","v":6},{"$f":"IF('sd paste'!B118=\"\",\"\",'sd paste'!B118)","v":"A"},{"$f":"IF('sd paste'!C118=\"\",\"\",'sd paste'!C118)","v":4522},{"$f":"IF('sd paste'!E118=\"\",\"\",'sd paste'!E118)","v":"vkp117"},{"$f":"IF('sd paste'!G118=\"\",\"\",'sd paste'!G118)","v":"vk"},{"$f":"IF('sd paste'!H118=\"\",\"\",'sd paste'!H118)","v":"vkk"},{"$f":"IF('sd paste'!J118=\"\",\"\",'sd paste'!J118)","v":"2018-10-25"},{"$f":"IF('sd paste'!V118=\"\",\"\",'sd paste'!V118)","v":9828120813}]
[118,{"$f":"IF('sd paste'!A119=\"\",\"\",'sd paste'!A119)","v":6},{"$f":"IF('sd paste'!B119=\"\",\"\",'sd paste'!B119)","v":"A"},{"$f":"IF('sd paste'!C119=\"\",\"\",'sd paste'!C119)","v":5116},{"$f":"IF('sd paste'!E119=\"\",\"\",'sd paste'!E119)","v":"vkp118"},{"$f":"IF('sd paste'!G119=\"\",\"\",'sd paste'!G119)","v":"vk"},{"$f":"IF('sd paste'!H119=\"\",\"\",'sd paste'!H119)","v":"vkk"},{"$f":"IF('sd paste'!J119=\"\",\"\",'sd paste'!J119)","v":"2018-10-26"},{"$f":"IF('sd paste'!V119=\"\",\"\",'sd paste'!V119)","v":9828120814}]
[119,{"$f":"IF('sd paste'!A120=\"\",\"\",'sd paste'!A120)","v":6},{"$f":"IF('sd paste'!B120=\"\",\"\",'sd paste'!B120)","v":"A"},{"$f":"IF('sd paste'!C120=\"\",\"\",'sd paste'!C120)","v":5407},{"$f":"IF('sd paste'!E120=\"\",\"\",'sd paste'!E120)","v":"vkp119"},{"$f":"IF('sd paste'!G120=\"\",\"\",'sd paste'!G120)","v":"vk"},{"$f":"IF('sd paste'!H120=\"\",\"\",'sd paste'!H120)","v":"vkk"},{"$f":"IF('sd paste'!J120=\"\",\"\",'sd paste'!J120)","v":"2018-10-27"},{"$f":"IF('sd paste'!V120=\"\",\"\",'sd paste'!V120)","v":9828120815}]
[120,{"$f":"IF('sd paste'!A121=\"\",\"\",'sd paste'!A121)","v":6},{"$f":"IF('sd paste'!B121=\"\",\"\",'sd paste'!B121)","v":"A"},{"$f":"IF('sd paste'!C121=\"\",\"\",'sd paste'!C121)","v":5395},{"$f":"IF('sd paste'!E121=\"\",\"\",'sd paste'!E121)","v":"vkp120"},{"$f":"IF('sd paste'!G121=\"\",\"\",'sd paste'!G121)","v":"vk"},{"$f":"IF('sd paste'!H121=\"\",\"\",'sd paste'!H121)","v":"vkk"},{"$f":"IF('sd paste'!J121=\"\",\"\",'sd paste'!J121)","v":"2018-10-28"},{"$f":"IF('sd paste'!V121=\"\",\"\",'sd paste'!V121)","v":9828120816}]
[121,{"$f":"IF('sd paste'!A122=\"\",\"\",'sd paste'!A122)","v":6},{"$f":"IF('sd paste'!B122=\"\",\"\",'sd paste'!B122)","v":"A"},{"$f":"IF('sd paste'!C122=\"\",\"\",'sd paste'!C122)","v":5352},{"$f":"IF('sd paste'!E122=\"\",\"\",'sd paste'!E122)","v":"vkp121"},{"$f":"IF('sd paste'!G122=\"\",\"\",'sd paste'!G122)","v":"vk"},{"$f":"IF('sd paste'!H122=\"\",\"\",'sd paste'!H122)","v":"vkk"},{"$f":"IF('sd paste'!J122=\"\",\"\",'sd paste'!J122)","v":"2018-10-29"},{"$f":"IF('sd paste'!V122=\"\",\"\",'sd paste'!V122)","v":9828120817}]
[122,{"$f":"IF('sd paste'!A123=\"\",\"\",'sd paste'!A123)","v":6},{"$f":"IF('sd paste'!B123=\"\",\"\",'sd paste'!B123)","v":"A"},{"$f":"IF('sd paste'!C123=\"\",\"\",'sd paste'!C123)","v":5338},{"$f":"IF('sd paste'!E123=\"\",\"\",'sd paste'!E123)","v":"vkp122"},{"$f":"IF('sd paste'!G123=\"\",\"\",'sd paste'!G123)","v":"vk"},{"$f":"IF('sd paste'!H123=\"\",\"\",'sd paste'!H123)","v":"vkk"},{"$f":"IF('sd paste'!J123=\"\",\"\",'sd paste'!J123)","v":"2018-10-30"},{"$f":"IF('sd paste'!V123=\"\",\"\",'sd paste'!V123)","v":9828120818}]
[123,{"$f":"IF('sd paste'!A124=\"\",\"\",'sd paste'!A124)","v":6},{"$f":"IF('sd paste'!B124=\"\",\"\",'sd paste'!B124)","v":"A"},{"$f":"IF('sd paste'!C124=\"\",\"\",'sd paste'!C124)","v":4499},{"$f":"IF('sd paste'!E124=\"\",\"\",'sd paste'!E124)","v":"vkp123"},{"$f":"IF('sd paste'!G124=\"\",\"\",'sd paste'!G124)","v":"vk"},{"$f":"IF('sd paste'!H124=\"\",\"\",'sd paste'!H124)","v":"vkk"},{"$f":"IF('sd paste'!J124=\"\",\"\",'sd paste'!J124)","v":"2018-10-31"},{"$f":"IF('sd paste'!V124=\"\",\"\",'sd paste'!V124)","v":9828120819}]
[124,{"$f":"IF('sd paste'!A125=\"\",\"\",'sd paste'!A125)","v":6},{"$f":"IF('sd paste'!B125=\"\",\"\",'sd paste'!B125)","v":"A"},{"$f":"IF('sd paste'!C125=\"\",\"\",'sd paste'!C125)","v":5218},{"$f":"IF('sd paste'!E125=\"\",\"\",'sd paste'!E125)","v":"vkp124"},{"$f":"IF('sd paste'!G125=\"\",\"\",'sd paste'!G125)","v":"vk"},{"$f":"IF('sd paste'!H125=\"\",\"\",'sd paste'!H125)","v":"vkk"},{"$f":"IF('sd paste'!J125=\"\",\"\",'sd paste'!J125)","v":"2018-11-01"},{"$f":"IF('sd paste'!V125=\"\",\"\",'sd paste'!V125)","v":9828120820}]
[125,{"$f":"IF('sd paste'!A126=\"\",\"\",'sd paste'!A126)","v":6},{"$f":"IF('sd paste'!B126=\"\",\"\",'sd paste'!B126)","v":"A"},{"$f":"IF('sd paste'!C126=\"\",\"\",'sd paste'!C126)","v":5388},{"$f":"IF('sd paste'!E126=\"\",\"\",'sd paste'!E126)","v":"vkp125"},{"$f":"IF('sd paste'!G126=\"\",\"\",'sd paste'!G126)","v":"vk"},{"$f":"IF('sd paste'!H126=\"\",\"\",'sd paste'!H126)","v":"vkk"},{"$f":"IF('sd paste'!J126=\"\",\"\",'sd paste'!J126)","v":"2018-11-02"},{"$f":"IF('sd paste'!V126=\"\",\"\",'sd paste'!V126)","v":9828120821}]
[126,{"$f":"IF('sd paste'!A127=\"\",\"\",'sd paste'!A127)","v":6},{"$f":"IF('sd paste'!B127=\"\",\"\",'sd paste'!B127)","v":"A"},{"$f":"IF('sd paste'!C127=\"\",\"\",'sd paste'!C127)","v":4565},{"$f":"IF('sd paste'!E127=\"\",\"\",'sd paste'!E127)","v":"vkp126"},{"$f":"IF('sd paste'!G127=\"\",\"\",'sd paste'!G127)","v":"vk"},{"$f":"IF('sd paste'!H127=\"\",\"\",'sd paste'!H127)","v":"vkk"},{"$f":"IF('sd paste'!J127=\"\",\"\",'sd paste'!J127)","v":"2018-11-03"},{"$f":"IF('sd paste'!V127=\"\",\"\",'sd paste'!V127)","v":9828120822}]
[127,{"$f":"IF('sd paste'!A128=\"\",\"\",'sd paste'!A128)","v":6},{"$f":"IF('sd paste'!B128=\"\",\"\",'sd paste'!B128)","v":"A"},{"$f":"IF('sd paste'!C128=\"\",\"\",'sd paste'!C128)","v":4474},{"$f":"IF('sd paste'!E128=\"\",\"\",'sd paste'!E128)","v":"vkp127"},{"$f":"IF('sd paste'!G128=\"\",\"\",'sd paste'!G128)","v":"vk"},{"$f":"IF('sd paste'!H128=\"\",\"\",'sd paste'!H128)","v":"vkk"},{"$f":"IF('sd paste'!J128=\"\",\"\",'sd paste'!J128)","v":"2018-11-04"},{"$f":"IF('sd paste'!V128=\"\",\"\",'sd paste'!V128)","v":9828120823}]
[128,{"$f":"IF('sd paste'!A129=\"\",\"\",'sd paste'!A129)","v":6},{"$f":"IF('sd paste'!B129=\"\",\"\",'sd paste'!B129)","v":"A"},{"$f":"IF('sd paste'!C129=\"\",\"\",'sd paste'!C129)","v":4478},{"$f":"IF('sd paste'!E129=\"\",\"\",'sd paste'!E129)","v":"vkp128"},{"$f":"IF('sd paste'!G129=\"\",\"\",'sd paste'!G129)","v":"vk"},{"$f":"IF('sd paste'!H129=\"\",\"\",'sd paste'!H129)","v":"vkk"},{"$f":"IF('sd paste'!J129=\"\",\"\",'sd paste'!J129)","v":"2018-11-05"},{"$f":"IF('sd paste'!V129=\"\",\"\",'sd paste'!V129)","v":9828120824}]
[129,{"$f":"IF('sd paste'!A130=\"\",\"\",'sd paste'!A130)","v":6},{"$f":"IF('sd paste'!B130=\"\",\"\",'sd paste'!B130)","v":"A"},{"$f":"IF('sd paste'!C130=\"\",\"\",'sd paste'!C130)","v":5355},{"$f":"IF('sd paste'!E130=\"\",\"\",'sd paste'!E130)","v":"vkp129"},{"$f":"IF('sd paste'!G130=\"\",\"\",'sd paste'!G130)","v":"vk"},{"$f":"IF('sd paste'!H130=\"\",\"\",'sd paste'!H130)","v":"vkk"},{"$f":"IF('sd paste'!J130=\"\",\"\",'sd paste'!J130)","v":"2018-11-06"},{"$f":"IF('sd paste'!V130=\"\",\"\",'sd paste'!V130)","v":9828120825}]
[{"$f":"IF(F135=\"\",\"\",ROW(130:130))","v":130},{"$f":"IF('sd paste'!A131=\"\",\"\",'sd paste'!A131)","v":6},{"$f":"IF('sd paste'!B131=\"\",\"\",'sd paste'!B131)","v":"A"},{"$f":"IF('sd paste'!C131=\"\",\"\",'sd paste'!C131)","v":5341},{"$f":"IF('sd paste'!E131=\"\",\"\",'sd paste'!E131)","v":"vkp130"},{"$f":"IF('sd paste'!G131=\"\",\"\",'sd paste'!G131)","v":"vk"},{"$f":"IF('sd paste'!H131=\"\",\"\",'sd paste'!H131)","v":"vkk"},{"$f":"IF('sd paste'!J131=\"\",\"\",'sd paste'!J131)","v":"2018-11-07"},{"$f":"IF('sd paste'!V131=\"\",\"\",'sd paste'!V131)","v":9828120826}]
[131,{"$f":"IF('sd paste'!A132=\"\",\"\",'sd paste'!A132)","v":6},{"$f":"IF('sd paste'!B132=\"\",\"\",'sd paste'!B132)","v":"A"},{"$f":"IF('sd paste'!C132=\"\",\"\",'sd paste'!C132)","v":4727},{"$f":"IF('sd paste'!E132=\"\",\"\",'sd paste'!E132)","v":"vkp131"},{"$f":"IF('sd paste'!G132=\"\",\"\",'sd paste'!G132)","v":"vk"},{"$f":"IF('sd paste'!H132=\"\",\"\",'sd paste'!H132)","v":"vkk"},{"$f":"IF('sd paste'!J132=\"\",\"\",'sd paste'!J132)","v":"2018-11-08"},{"$f":"IF('sd paste'!V132=\"\",\"\",'sd paste'!V132)","v":9828120827}]
[132,{"$f":"IF('sd paste'!A133=\"\",\"\",'sd paste'!A133)","v":6},{"$f":"IF('sd paste'!B133=\"\",\"\",'sd paste'!B133)","v":"A"},{"$f":"IF('sd paste'!C133=\"\",\"\",'sd paste'!C133)","v":4521},{"$f":"IF('sd paste'!E133=\"\",\"\",'sd paste'!E133)","v":"vkp132"},{"$f":"IF('sd paste'!G133=\"\",\"\",'sd paste'!G133)","v":"vk"},{"$f":"IF('sd paste'!H133=\"\",\"\",'sd paste'!H133)","v":"vkk"},{"$f":"IF('sd paste'!J133=\"\",\"\",'sd paste'!J133)","v":"2018-11-09"},{"$f":"IF('sd paste'!V133=\"\",\"\",'sd paste'!V133)","v":9828120828}]
[133,{"$f":"IF('sd paste'!A134=\"\",\"\",'sd paste'!A134)","v":6},{"$f":"IF('sd paste'!B134=\"\",\"\",'sd paste'!B134)","v":"A"},{"$f":"IF('sd paste'!C134=\"\",\"\",'sd paste'!C134)","v":4473},{"$f":"IF('sd paste'!E134=\"\",\"\",'sd paste'!E134)","v":"vkp133"},{"$f":"IF('sd paste'!G134=\"\",\"\",'sd paste'!G134)","v":"vk"},{"$f":"IF('sd paste'!H134=\"\",\"\",'sd paste'!H134)","v":"vkk"},{"$f":"IF('sd paste'!J134=\"\",\"\",'sd paste'!J134)","v":"2018-11-10"},{"$f":"IF('sd paste'!V134=\"\",\"\",'sd paste'!V134)","v":9828120829}]
[134,{"$f":"IF('sd paste'!A135=\"\",\"\",'sd paste'!A135)","v":6},{"$f":"IF('sd paste'!B135=\"\",\"\",'sd paste'!B135)","v":"A"},{"$f":"IF('sd paste'!C135=\"\",\"\",'sd paste'!C135)","v":4475},{"$f":"IF('sd paste'!E135=\"\",\"\",'sd paste'!E135)","v":"vkp134"},{"$f":"IF('sd paste'!G135=\"\",\"\",'sd paste'!G135)","v":"vk"},{"$f":"IF('sd paste'!H135=\"\",\"\",'sd paste'!H135)","v":"vkk"},{"$f":"IF('sd paste'!J135=\"\",\"\",'sd paste'!J135)","v":"2018-11-11"},{"$f":"IF('sd paste'!V135=\"\",\"\",'sd paste'!V135)","v":9828120830}]
[135,{"$f":"IF('sd paste'!A136=\"\",\"\",'sd paste'!A136)","v":6},{"$f":"IF('sd paste'!B136=\"\",\"\",'sd paste'!B136)","v":"A"},{"$f":"IF('sd paste'!C136=\"\",\"\",'sd paste'!C136)","v":5452},{"$f":"IF('sd paste'!E136=\"\",\"\",'sd paste'!E136)","v":"vkp135"},{"$f":"IF('sd paste'!G136=\"\",\"\",'sd paste'!G136)","v":"vk"},{"$f":"IF('sd paste'!H136=\"\",\"\",'sd paste'!H136)","v":"vkk"},{"$f":"IF('sd paste'!J136=\"\",\"\",'sd paste'!J136)","v":"2018-11-12"},{"$f":"IF('sd paste'!V136=\"\",\"\",'sd paste'!V136)","v":9828120831}]
[136,{"$f":"IF('sd paste'!A137=\"\",\"\",'sd paste'!A137)","v":6},{"$f":"IF('sd paste'!B137=\"\",\"\",'sd paste'!B137)","v":"A"},{"$f":"IF('sd paste'!C137=\"\",\"\",'sd paste'!C137)","v":5339},{"$f":"IF('sd paste'!E137=\"\",\"\",'sd paste'!E137)","v":"vkp136"},{"$f":"IF('sd paste'!G137=\"\",\"\",'sd paste'!G137)","v":"vk"},{"$f":"IF('sd paste'!H137=\"\",\"\",'sd paste'!H137)","v":"vkk"},{"$f":"IF('sd paste'!J137=\"\",\"\",'sd paste'!J137)","v":"2018-11-13"},{"$f":"IF('sd paste'!V137=\"\",\"\",'sd paste'!V137)","v":9828120832}]
[137,{"$f":"IF('sd paste'!A138=\"\",\"\",'sd paste'!A138)","v":6},{"$f":"IF('sd paste'!B138=\"\",\"\",'sd paste'!B138)","v":"A"},{"$f":"IF('sd paste'!C138=\"\",\"\",'sd paste'!C138)","v":4497},{"$f":"IF('sd paste'!E138=\"\",\"\",'sd paste'!E138)","v":"vkp137"},{"$f":"IF('sd paste'!G138=\"\",\"\",'sd paste'!G138)","v":"vk"},{"$f":"IF('sd paste'!H138=\"\",\"\",'sd paste'!H138)","v":"vkk"},{"$f":"IF('sd paste'!J138=\"\",\"\",'sd paste'!J138)","v":"2018-11-14"},{"$f":"IF('sd paste'!V138=\"\",\"\",'sd paste'!V138)","v":9828120833}]
[138,{"$f":"IF('sd paste'!A139=\"\",\"\",'sd paste'!A139)","v":6},{"$f":"IF('sd paste'!B139=\"\",\"\",'sd paste'!B139)","v":"A"},{"$f":"IF('sd paste'!C139=\"\",\"\",'sd paste'!C139)","v":5373},{"$f":"IF('sd paste'!E139=\"\",\"\",'sd paste'!E139)","v":"vkp138"},{"$f":"IF('sd paste'!G139=\"\",\"\",'sd paste'!G139)","v":"vk"},{"$f":"IF('sd paste'!H139=\"\",\"\",'sd paste'!H139)","v":"vkk"},{"$f":"IF('sd paste'!J139=\"\",\"\",'sd paste'!J139)","v":"2018-11-15"},{"$f":"IF('sd paste'!V139=\"\",\"\",'sd paste'!V139)","v":9828120834}]
[139,{"$f":"IF('sd paste'!A140=\"\",\"\",'sd paste'!A140)","v":6},{"$f":"IF('sd paste'!B140=\"\",\"\",'sd paste'!B140)","v":"A"},{"$f":"IF('sd paste'!C140=\"\",\"\",'sd paste'!C140)","v":4700},{"$f":"IF('sd paste'!E140=\"\",\"\",'sd paste'!E140)","v":"vkp139"},{"$f":"IF('sd paste'!G140=\"\",\"\",'sd paste'!G140)","v":"vk"},{"$f":"IF('sd paste'!H140=\"\",\"\",'sd paste'!H140)","v":"vkk"},{"$f":"IF('sd paste'!J140=\"\",\"\",'sd paste'!J140)","v":"2018-11-16"},{"$f":"IF('sd paste'!V140=\"\",\"\",'sd paste'!V140)","v":9828120835}]
[140,{"$f":"IF('sd paste'!A141=\"\",\"\",'sd paste'!A141)","v":6},{"$f":"IF('sd paste'!B141=\"\",\"\",'sd paste'!B141)","v":"A"},{"$f":"IF('sd paste'!C141=\"\",\"\",'sd paste'!C141)","v":4691},{"$f":"IF('sd paste'!E141=\"\",\"\",'sd paste'!E141)","v":"vkp140"},{"$f":"IF('sd paste'!G141=\"\",\"\",'sd paste'!G141)","v":"vk"},{"$f":"IF('sd paste'!H141=\"\",\"\",'sd paste'!H141)","v":"vkk"},{"$f":"IF('sd paste'!J141=\"\",\"\",'sd paste'!J141)","v":"2018-11-17"},{"$f":"IF('sd paste'!V141=\"\",\"\",'sd paste'!V141)","v":9828120836}]
[141,{"$f":"IF('sd paste'!A142=\"\",\"\",'sd paste'!A142)","v":6},{"$f":"IF('sd paste'!B142=\"\",\"\",'sd paste'!B142)","v":"A"},{"$f":"IF('sd paste'!C142=\"\",\"\",'sd paste'!C142)","v":5340},{"$f":"IF('sd paste'!E142=\"\",\"\",'sd paste'!E142)","v":"vkp141"},{"$f":"IF('sd paste'!G142=\"\",\"\",'sd paste'!G142)","v":"vk"},{"$f":"IF('sd paste'!H142=\"\",\"\",'sd paste'!H142)","v":"vkk"},{"$f":"IF('sd paste'!J142=\"\",\"\",'sd paste'!J142)","v":"2018-11-18"},{"$f":"IF('sd paste'!V142=\"\",\"\",'sd paste'!V142)","v":9828120837}]
[142,{"$f":"IF('sd paste'!A143=\"\",\"\",'sd paste'!A143)","v":6},{"$f":"IF('sd paste'!B143=\"\",\"\",'sd paste'!B143)","v":"A"},{"$f":"IF('sd paste'!C143=\"\",\"\",'sd paste'!C143)","v":5386},{"$f":"IF('sd paste'!E143=\"\",\"\",'sd paste'!E143)","v":"vkp142"},{"$f":"IF('sd paste'!G143=\"\",\"\",'sd paste'!G143)","v":"vk"},{"$f":"IF('sd paste'!H143=\"\",\"\",'sd paste'!H143)","v":"vkk"},{"$f":"IF('sd paste'!J143=\"\",\"\",'sd paste'!J143)","v":"2018-11-19"},{"$f":"IF('sd paste'!V143=\"\",\"\",'sd paste'!V143)","v":9828120838}]
[143,{"$f":"IF('sd paste'!A144=\"\",\"\",'sd paste'!A144)","v":6},{"$f":"IF('sd paste'!B144=\"\",\"\",'sd paste'!B144)","v":"A"},{"$f":"IF('sd paste'!C144=\"\",\"\",'sd paste'!C144)","v":4621},{"$f":"IF('sd paste'!E144=\"\",\"\",'sd paste'!E144)","v":"vkp143"},{"$f":"IF('sd paste'!G144=\"\",\"\",'sd paste'!G144)","v":"vk"},{"$f":"IF('sd paste'!H144=\"\",\"\",'sd paste'!H144)","v":"vkk"},{"$f":"IF('sd paste'!J144=\"\",\"\",'sd paste'!J144)","v":"2018-11-20"},{"$f":"IF('sd paste'!V144=\"\",\"\",'sd paste'!V144)","v":9828120839}]
[144,{"$f":"IF('sd paste'!A145=\"\",\"\",'sd paste'!A145)","v":6},{"$f":"IF('sd paste'!B145=\"\",\"\",'sd paste'!B145)","v":"A"},{"$f":"IF('sd paste'!C145=\"\",\"\",'sd paste'!C145)","v":5261},{"$f":"IF('sd paste'!E145=\"\",\"\",'sd paste'!E145)","v":"vkp144"},{"$f":"IF('sd paste'!G145=\"\",\"\",'sd paste'!G145)","v":"vk"},{"$f":"IF('sd paste'!H145=\"\",\"\",'sd paste'!H145)","v":"vkk"},{"$f":"IF('sd paste'!J145=\"\",\"\",'sd paste'!J145)","v":"2018-11-21"},{"$f":"IF('sd paste'!V145=\"\",\"\",'sd paste'!V145)","v":9828120840}]
[145,{"$f":"IF('sd paste'!A146=\"\",\"\",'sd paste'!A146)","v":6},{"$f":"IF('sd paste'!B146=\"\",\"\",'sd paste'!B146)","v":"A"},{"$f":"IF('sd paste'!C146=\"\",\"\",'sd paste'!C146)","v":4750},{"$f":"IF('sd paste'!E146=\"\",\"\",'sd paste'!E146)","v":"vkp145"},{"$f":"IF('sd paste'!G146=\"\",\"\",'sd paste'!G146)","v":"vk"},{"$f":"IF('sd paste'!H146=\"\",\"\",'sd paste'!H146)","v":"vkk"},{"$f":"IF('sd paste'!J146=\"\",\"\",'sd paste'!J146)","v":"2018-11-22"},{"$f":"IF('sd paste'!V146=\"\",\"\",'sd paste'!V146)","v":9828120841}]
[146,{"$f":"IF('sd paste'!A147=\"\",\"\",'sd paste'!A147)","v":6},{"$f":"IF('sd paste'!B147=\"\",\"\",'sd paste'!B147)","v":"A"},{"$f":"IF('sd paste'!C147=\"\",\"\",'sd paste'!C147)","v":4477},{"$f":"IF('sd paste'!E147=\"\",\"\",'sd paste'!E147)","v":"vkp146"},{"$f":"IF('sd paste'!G147=\"\",\"\",'sd paste'!G147)","v":"vk"},{"$f":"IF('sd paste'!H147=\"\",\"\",'sd paste'!H147)","v":"vkk"},{"$f":"IF('sd paste'!J147=\"\",\"\",'sd paste'!J147)","v":"2018-11-23"},{"$f":"IF('sd paste'!V147=\"\",\"\",'sd paste'!V147)","v":9828120842}]
[147,{"$f":"IF('sd paste'!A148=\"\",\"\",'sd paste'!A148)","v":6},{"$f":"IF('sd paste'!B148=\"\",\"\",'sd paste'!B148)","v":"A"},{"$f":"IF('sd paste'!C148=\"\",\"\",'sd paste'!C148)","v":5300},{"$f":"IF('sd paste'!E148=\"\",\"\",'sd paste'!E148)","v":"vkp147"},{"$f":"IF('sd paste'!G148=\"\",\"\",'sd paste'!G148)","v":"vk"},{"$f":"IF('sd paste'!H148=\"\",\"\",'sd paste'!H148)","v":"vkk"},{"$f":"IF('sd paste'!J148=\"\",\"\",'sd paste'!J148)","v":"2018-11-24"},{"$f":"IF('sd paste'!V148=\"\",\"\",'sd paste'!V148)","v":9828120843}]
[148,{"$f":"IF('sd paste'!A149=\"\",\"\",'sd paste'!A149)","v":6},{"$f":"IF('sd paste'!B149=\"\",\"\",'sd paste'!B149)","v":"A"},{"$f":"IF('sd paste'!C149=\"\",\"\",'sd paste'!C149)","v":5171},{"$f":"IF('sd paste'!E149=\"\",\"\",'sd paste'!E149)","v":"vkp148"},{"$f":"IF('sd paste'!G149=\"\",\"\",'sd paste'!G149)","v":"vk"},{"$f":"IF('sd paste'!H149=\"\",\"\",'sd paste'!H149)","v":"vkk"},{"$f":"IF('sd paste'!J149=\"\",\"\",'sd paste'!J149)","v":"2018-11-25"},{"$f":"IF('sd paste'!V149=\"\",\"\",'sd paste'!V149)","v":9828120844}]
[149,{"$f":"IF('sd paste'!A150=\"\",\"\",'sd paste'!A150)","v":7},{"$f":"IF('sd paste'!B150=\"\",\"\",'sd paste'!B150)","v":"A"},{"$f":"IF('sd paste'!C150=\"\",\"\",'sd paste'!C150)","v":5397},{"$f":"IF('sd paste'!E150=\"\",\"\",'sd paste'!E150)","v":"vkp149"},{"$f":"IF('sd paste'!G150=\"\",\"\",'sd paste'!G150)","v":"vk"},{"$f":"IF('sd paste'!H150=\"\",\"\",'sd paste'!H150)","v":"vkk"},{"$f":"IF('sd paste'!J150=\"\",\"\",'sd paste'!J150)","v":"2018-11-26"},{"$f":"IF('sd paste'!V150=\"\",\"\",'sd paste'!V150)","v":9828120845}]
[150,{"$f":"IF('sd paste'!A151=\"\",\"\",'sd paste'!A151)","v":7},{"$f":"IF('sd paste'!B151=\"\",\"\",'sd paste'!B151)","v":"A"},{"$f":"IF('sd paste'!C151=\"\",\"\",'sd paste'!C151)","v":4367},{"$f":"IF('sd paste'!E151=\"\",\"\",'sd paste'!E151)","v":"vkp150"},{"$f":"IF('sd paste'!G151=\"\",\"\",'sd paste'!G151)","v":"vk"},{"$f":"IF('sd paste'!H151=\"\",\"\",'sd paste'!H151)","v":"vkk"},{"$f":"IF('sd paste'!J151=\"\",\"\",'sd paste'!J151)","v":"2018-11-27"},{"$f":"IF('sd paste'!V151=\"\",\"\",'sd paste'!V151)","v":9828120846}]
[151,{"$f":"IF('sd paste'!A152=\"\",\"\",'sd paste'!A152)","v":7},{"$f":"IF('sd paste'!B152=\"\",\"\",'sd paste'!B152)","v":"A"},{"$f":"IF('sd paste'!C152=\"\",\"\",'sd paste'!C152)","v":4277},{"$f":"IF('sd paste'!E152=\"\",\"\",'sd paste'!E152)","v":"vkp151"},{"$f":"IF('sd paste'!G152=\"\",\"\",'sd paste'!G152)","v":"vk"},{"$f":"IF('sd paste'!H152=\"\",\"\",'sd paste'!H152)","v":"vkk"},{"$f":"IF('sd paste'!J152=\"\",\"\",'sd paste'!J152)","v":"2018-11-28"},{"$f":"IF('sd paste'!V152=\"\",\"\",'sd paste'!V152)","v":9828120847}]
[152,{"$f":"IF('sd paste'!A153=\"\",\"\",'sd paste'!A153)","v":7},{"$f":"IF('sd paste'!B153=\"\",\"\",'sd paste'!B153)","v":"A"},{"$f":"IF('sd paste'!C153=\"\",\"\",'sd paste'!C153)","v":4370},{"$f":"IF('sd paste'!E153=\"\",\"\",'sd paste'!E153)","v":"vkp152"},{"$f":"IF('sd paste'!G153=\"\",\"\",'sd paste'!G153)","v":"vk"},{"$f":"IF('sd paste'!H153=\"\",\"\",'sd paste'!H153)","v":"vkk"},{"$f":"IF('sd paste'!J153=\"\",\"\",'sd paste'!J153)","v":"2018-11-29"},{"$f":"IF('sd paste'!V153=\"\",\"\",'sd paste'!V153)","v":9828120848}]
[153,{"$f":"IF('sd paste'!A154=\"\",\"\",'sd paste'!A154)","v":7},{"$f":"IF('sd paste'!B154=\"\",\"\",'sd paste'!B154)","v":"A"},{"$f":"IF('sd paste'!C154=\"\",\"\",'sd paste'!C154)","v":5281},{"$f":"IF('sd paste'!E154=\"\",\"\",'sd paste'!E154)","v":"vkp153"},{"$f":"IF('sd paste'!G154=\"\",\"\",'sd paste'!G154)","v":"vk"},{"$f":"IF('sd paste'!H154=\"\",\"\",'sd paste'!H154)","v":"vkk"},{"$f":"IF('sd paste'!J154=\"\",\"\",'sd paste'!J154)","v":"2018-11-30"},{"$f":"IF('sd paste'!V154=\"\",\"\",'sd paste'!V154)","v":9828120849}]
[154,{"$f":"IF('sd paste'!A155=\"\",\"\",'sd paste'!A155)","v":7},{"$f":"IF('sd paste'!B155=\"\",\"\",'sd paste'!B155)","v":"A"},{"$f":"IF('sd paste'!C155=\"\",\"\",'sd paste'!C155)","v":4673},{"$f":"IF('sd paste'!E155=\"\",\"\",'sd paste'!E155)","v":"vkp154"},{"$f":"IF('sd paste'!G155=\"\",\"\",'sd paste'!G155)","v":"vk"},{"$f":"IF('sd paste'!H155=\"\",\"\",'sd paste'!H155)","v":"vkk"},{"$f":"IF('sd paste'!J155=\"\",\"\",'sd paste'!J155)","v":"2018-12-01"},{"$f":"IF('sd paste'!V155=\"\",\"\",'sd paste'!V155)","v":9828120850}]
[155,{"$f":"IF('sd paste'!A156=\"\",\"\",'sd paste'!A156)","v":7},{"$f":"IF('sd paste'!B156=\"\",\"\",'sd paste'!B156)","v":"A"},{"$f":"IF('sd paste'!C156=\"\",\"\",'sd paste'!C156)","v":4431},{"$f":"IF('sd paste'!E156=\"\",\"\",'sd paste'!E156)","v":"vkp155"},{"$f":"IF('sd paste'!G156=\"\",\"\",'sd paste'!G156)","v":"vk"},{"$f":"IF('sd paste'!H156=\"\",\"\",'sd paste'!H156)","v":"vkk"},{"$f":"IF('sd paste'!J156=\"\",\"\",'sd paste'!J156)","v":"2018-12-02"},{"$f":"IF('sd paste'!V156=\"\",\"\",'sd paste'!V156)","v":9828120851}]
[156,{"$f":"IF('sd paste'!A157=\"\",\"\",'sd paste'!A157)","v":7},{"$f":"IF('sd paste'!B157=\"\",\"\",'sd paste'!B157)","v":"A"},{"$f":"IF('sd paste'!C157=\"\",\"\",'sd paste'!C157)","v":4433},{"$f":"IF('sd paste'!E157=\"\",\"\",'sd paste'!E157)","v":"vkp156"},{"$f":"IF('sd paste'!G157=\"\",\"\",'sd paste'!G157)","v":"vk"},{"$f":"IF('sd paste'!H157=\"\",\"\",'sd paste'!H157)","v":"vkk"},{"$f":"IF('sd paste'!J157=\"\",\"\",'sd paste'!J157)","v":"2018-12-03"},{"$f":"IF('sd paste'!V157=\"\",\"\",'sd paste'!V157)","v":9828120852}]
[157,{"$f":"IF('sd paste'!A158=\"\",\"\",'sd paste'!A158)","v":7},{"$f":"IF('sd paste'!B158=\"\",\"\",'sd paste'!B158)","v":"A"},{"$f":"IF('sd paste'!C158=\"\",\"\",'sd paste'!C158)","v":5232},{"$f":"IF('sd paste'!E158=\"\",\"\",'sd paste'!E158)","v":"vkp157"},{"$f":"IF('sd paste'!G158=\"\",\"\",'sd paste'!G158)","v":"vk"},{"$f":"IF('sd paste'!H158=\"\",\"\",'sd paste'!H158)","v":"vkk"},{"$f":"IF('sd paste'!J158=\"\",\"\",'sd paste'!J158)","v":"2018-12-04"},{"$f":"IF('sd paste'!V158=\"\",\"\",'sd paste'!V158)","v":9828120853}]
[158,{"$f":"IF('sd paste'!A159=\"\",\"\",'sd paste'!A159)","v":7},{"$f":"IF('sd paste'!B159=\"\",\"\",'sd paste'!B159)","v":"A"},{"$f":"IF('sd paste'!C159=\"\",\"\",'sd paste'!C159)","v":5231},{"$f":"IF('sd paste'!E159=\"\",\"\",'sd paste'!E159)","v":"vkp158"},{"$f":"IF('sd paste'!G159=\"\",\"\",'sd paste'!G159)","v":"vk"},{"$f":"IF('sd paste'!H159=\"\",\"\",'sd paste'!H159)","v":"vkk"},{"$f":"IF('sd paste'!J159=\"\",\"\",'sd paste'!J159)","v":"2018-12-05"},{"$f":"IF('sd paste'!V159=\"\",\"\",'sd paste'!V159)","v":9828120854}]
[159,{"$f":"IF('sd paste'!A160=\"\",\"\",'sd paste'!A160)","v":7},{"$f":"IF('sd paste'!B160=\"\",\"\",'sd paste'!B160)","v":"A"},{"$f":"IF('sd paste'!C160=\"\",\"\",'sd paste'!C160)","v":5118},{"$f":"IF('sd paste'!E160=\"\",\"\",'sd paste'!E160)","v":"vkp159"},{"$f":"IF('sd paste'!G160=\"\",\"\",'sd paste'!G160)","v":"vk"},{"$f":"IF('sd paste'!H160=\"\",\"\",'sd paste'!H160)","v":"vkk"},{"$f":"IF('sd paste'!J160=\"\",\"\",'sd paste'!J160)","v":"2018-12-06"},{"$f":"IF('sd paste'!V160=\"\",\"\",'sd paste'!V160)","v":9828120855}]
[160,{"$f":"IF('sd paste'!A161=\"\",\"\",'sd paste'!A161)","v":7},{"$f":"IF('sd paste'!B161=\"\",\"\",'sd paste'!B161)","v":"A"},{"$f":"IF('sd paste'!C161=\"\",\"\",'sd paste'!C161)","v":5293},{"$f":"IF('sd paste'!E161=\"\",\"\",'sd paste'!E161)","v":"vkp160"},{"$f":"IF('sd paste'!G161=\"\",\"\",'sd paste'!G161)","v":"vk"},{"$f":"IF('sd paste'!H161=\"\",\"\",'sd paste'!H161)","v":"vkk"},{"$f":"IF('sd paste'!J161=\"\",\"\",'sd paste'!J161)","v":"2018-12-07"},{"$f":"IF('sd paste'!V161=\"\",\"\",'sd paste'!V161)","v":9828120856}]
[161,{"$f":"IF('sd paste'!A162=\"\",\"\",'sd paste'!A162)","v":7},{"$f":"IF('sd paste'!B162=\"\",\"\",'sd paste'!B162)","v":"A"},{"$f":"IF('sd paste'!C162=\"\",\"\",'sd paste'!C162)","v":5115},{"$f":"IF('sd paste'!E162=\"\",\"\",'sd paste'!E162)","v":"vkp161"},{"$f":"IF('sd paste'!G162=\"\",\"\",'sd paste'!G162)","v":"vk"},{"$f":"IF('sd paste'!H162=\"\",\"\",'sd paste'!H162)","v":"vkk"},{"$f":"IF('sd paste'!J162=\"\",\"\",'sd paste'!J162)","v":"2018-12-08"},{"$f":"IF('sd paste'!V162=\"\",\"\",'sd paste'!V162)","v":9828120857}]
[162,{"$f":"IF('sd paste'!A163=\"\",\"\",'sd paste'!A163)","v":7},{"$f":"IF('sd paste'!B163=\"\",\"\",'sd paste'!B163)","v":"A"},{"$f":"IF('sd paste'!C163=\"\",\"\",'sd paste'!C163)","v":5413},{"$f":"IF('sd paste'!E163=\"\",\"\",'sd paste'!E163)","v":"vkp162"},{"$f":"IF('sd paste'!G163=\"\",\"\",'sd paste'!G163)","v":"vk"},{"$f":"IF('sd paste'!H163=\"\",\"\",'sd paste'!H163)","v":"vkk"},{"$f":"IF('sd paste'!J163=\"\",\"\",'sd paste'!J163)","v":"2018-12-09"},{"$f":"IF('sd paste'!V163=\"\",\"\",'sd paste'!V163)","v":9828120858}]
[163,{"$f":"IF('sd paste'!A164=\"\",\"\",'sd paste'!A164)","v":7},{"$f":"IF('sd paste'!B164=\"\",\"\",'sd paste'!B164)","v":"A"},{"$f":"IF('sd paste'!C164=\"\",\"\",'sd paste'!C164)","v":4857},{"$f":"IF('sd paste'!E164=\"\",\"\",'sd paste'!E164)","v":"vkp163"},{"$f":"IF('sd paste'!G164=\"\",\"\",'sd paste'!G164)","v":"vk"},{"$f":"IF('sd paste'!H164=\"\",\"\",'sd paste'!H164)","v":"vkk"},{"$f":"IF('sd paste'!J164=\"\",\"\",'sd paste'!J164)","v":"2018-12-10"},{"$f":"IF('sd paste'!V164=\"\",\"\",'sd paste'!V164)","v":9828120859}]
[164,{"$f":"IF('sd paste'!A165=\"\",\"\",'sd paste'!A165)","v":7},{"$f":"IF('sd paste'!B165=\"\",\"\",'sd paste'!B165)","v":"A"},{"$f":"IF('sd paste'!C165=\"\",\"\",'sd paste'!C165)","v":5230},{"$f":"IF('sd paste'!E165=\"\",\"\",'sd paste'!E165)","v":"vkp164"},{"$f":"IF('sd paste'!G165=\"\",\"\",'sd paste'!G165)","v":"vk"},{"$f":"IF('sd paste'!H165=\"\",\"\",'sd paste'!H165)","v":"vkk"},{"$f":"IF('sd paste'!J165=\"\",\"\",'sd paste'!J165)","v":"2018-12-11"},{"$f":"IF('sd paste'!V165=\"\",\"\",'sd paste'!V165)","v":9828120860}]
[165,{"$f":"IF('sd paste'!A166=\"\",\"\",'sd paste'!A166)","v":7},{"$f":"IF('sd paste'!B166=\"\",\"\",'sd paste'!B166)","v":"A"},{"$f":"IF('sd paste'!C166=\"\",\"\",'sd paste'!C166)","v":4371},{"$f":"IF('sd paste'!E166=\"\",\"\",'sd paste'!E166)","v":"vkp165"},{"$f":"IF('sd paste'!G166=\"\",\"\",'sd paste'!G166)","v":"vk"},{"$f":"IF('sd paste'!H166=\"\",\"\",'sd paste'!H166)","v":"vkk"},{"$f":"IF('sd paste'!J166=\"\",\"\",'sd paste'!J166)","v":"2018-12-12"},{"$f":"IF('sd paste'!V166=\"\",\"\",'sd paste'!V166)","v":9828120861}]
[166,{"$f":"IF('sd paste'!A167=\"\",\"\",'sd paste'!A167)","v":7},{"$f":"IF('sd paste'!B167=\"\",\"\",'sd paste'!B167)","v":"A"},{"$f":"IF('sd paste'!C167=\"\",\"\",'sd paste'!C167)","v":5402},{"$f":"IF('sd paste'!E167=\"\",\"\",'sd paste'!E167)","v":"vkp166"},{"$f":"IF('sd paste'!G167=\"\",\"\",'sd paste'!G167)","v":"vk"},{"$f":"IF('sd paste'!H167=\"\",\"\",'sd paste'!H167)","v":"vkk"},{"$f":"IF('sd paste'!J167=\"\",\"\",'sd paste'!J167)","v":"2018-12-13"},{"$f":"IF('sd paste'!V167=\"\",\"\",'sd paste'!V167)","v":9828120862}]
[167,{"$f":"IF('sd paste'!A168=\"\",\"\",'sd paste'!A168)","v":7},{"$f":"IF('sd paste'!B168=\"\",\"\",'sd paste'!B168)","v":"A"},{"$f":"IF('sd paste'!C168=\"\",\"\",'sd paste'!C168)","v":4955},{"$f":"IF('sd paste'!E168=\"\",\"\",'sd paste'!E168)","v":"vkp167"},{"$f":"IF('sd paste'!G168=\"\",\"\",'sd paste'!G168)","v":"vk"},{"$f":"IF('sd paste'!H168=\"\",\"\",'sd paste'!H168)","v":"vkk"},{"$f":"IF('sd paste'!J168=\"\",\"\",'sd paste'!J168)","v":"2018-12-14"},{"$f":"IF('sd paste'!V168=\"\",\"\",'sd paste'!V168)","v":9828120863}]
[168,{"$f":"IF('sd paste'!A169=\"\",\"\",'sd paste'!A169)","v":7},{"$f":"IF('sd paste'!B169=\"\",\"\",'sd paste'!B169)","v":"A"},{"$f":"IF('sd paste'!C169=\"\",\"\",'sd paste'!C169)","v":5375},{"$f":"IF('sd paste'!E169=\"\",\"\",'sd paste'!E169)","v":"vkp168"},{"$f":"IF('sd paste'!G169=\"\",\"\",'sd paste'!G169)","v":"vk"},{"$f":"IF('sd paste'!H169=\"\",\"\",'sd paste'!H169)","v":"vkk"},{"$f":"IF('sd paste'!J169=\"\",\"\",'sd paste'!J169)","v":"2018-12-15"},{"$f":"IF('sd paste'!V169=\"\",\"\",'sd paste'!V169)","v":9828120864}]
[169,{"$f":"IF('sd paste'!A170=\"\",\"\",'sd paste'!A170)","v":7},{"$f":"IF('sd paste'!B170=\"\",\"\",'sd paste'!B170)","v":"A"},{"$f":"IF('sd paste'!C170=\"\",\"\",'sd paste'!C170)","v":5269},{"$f":"IF('sd paste'!E170=\"\",\"\",'sd paste'!E170)","v":"vkp169"},{"$f":"IF('sd paste'!G170=\"\",\"\",'sd paste'!G170)","v":"vk"},{"$f":"IF('sd paste'!H170=\"\",\"\",'sd paste'!H170)","v":"vkk"},{"$f":"IF('sd paste'!J170=\"\",\"\",'sd paste'!J170)","v":"2018-12-16"},{"$f":"IF('sd paste'!V170=\"\",\"\",'sd paste'!V170)","v":9828120865}]
[170,{"$f":"IF('sd paste'!A171=\"\",\"\",'sd paste'!A171)","v":7},{"$f":"IF('sd paste'!B171=\"\",\"\",'sd paste'!B171)","v":"A"},{"$f":"IF('sd paste'!C171=\"\",\"\",'sd paste'!C171)","v":5214},{"$f":"IF('sd paste'!E171=\"\",\"\",'sd paste'!E171)","v":"vkp170"},{"$f":"IF('sd paste'!G171=\"\",\"\",'sd paste'!G171)","v":"vk"},{"$f":"IF('sd paste'!H171=\"\",\"\",'sd paste'!H171)","v":"vkk"},{"$f":"IF('sd paste'!J171=\"\",\"\",'sd paste'!J171)","v":"2018-12-17"},{"$f":"IF('sd paste'!V171=\"\",\"\",'sd paste'!V171)","v":9828120866}]
[171,{"$f":"IF('sd paste'!A172=\"\",\"\",'sd paste'!A172)","v":7},{"$f":"IF('sd paste'!B172=\"\",\"\",'sd paste'!B172)","v":"A"},{"$f":"IF('sd paste'!C172=\"\",\"\",'sd paste'!C172)","v":5403},{"$f":"IF('sd paste'!E172=\"\",\"\",'sd paste'!E172)","v":"vkp171"},{"$f":"IF('sd paste'!G172=\"\",\"\",'sd paste'!G172)","v":"vk"},{"$f":"IF('sd paste'!H172=\"\",\"\",'sd paste'!H172)","v":"vkk"},{"$f":"IF('sd paste'!J172=\"\",\"\",'sd paste'!J172)","v":"2018-12-18"},{"$f":"IF('sd paste'!V172=\"\",\"\",'sd paste'!V172)","v":9828120867}]
[172,{"$f":"IF('sd paste'!A173=\"\",\"\",'sd paste'!A173)","v":7},{"$f":"IF('sd paste'!B173=\"\",\"\",'sd paste'!B173)","v":"A"},{"$f":"IF('sd paste'!C173=\"\",\"\",'sd paste'!C173)","v":5357},{"$f":"IF('sd paste'!E173=\"\",\"\",'sd paste'!E173)","v":"vkp172"},{"$f":"IF('sd paste'!G173=\"\",\"\",'sd paste'!G173)","v":"vk"},{"$f":"IF('sd paste'!H173=\"\",\"\",'sd paste'!H173)","v":"vkk"},{"$f":"IF('sd paste'!J173=\"\",\"\",'sd paste'!J173)","v":"2018-12-19"},{"$f":"IF('sd paste'!V173=\"\",\"\",'sd paste'!V173)","v":9828120868}]
[173,{"$f":"IF('sd paste'!A174=\"\",\"\",'sd paste'!A174)","v":7},{"$f":"IF('sd paste'!B174=\"\",\"\",'sd paste'!B174)","v":"A"},{"$f":"IF('sd paste'!C174=\"\",\"\",'sd paste'!C174)","v":4324},{"$f":"IF('sd paste'!E174=\"\",\"\",'sd paste'!E174)","v":"vkp173"},{"$f":"IF('sd paste'!G174=\"\",\"\",'sd paste'!G174)","v":"vk"},{"$f":"IF('sd paste'!H174=\"\",\"\",'sd paste'!H174)","v":"vkk"},{"$f":"IF('sd paste'!J174=\"\",\"\",'sd paste'!J174)","v":"2018-12-20"},{"$f":"IF('sd paste'!V174=\"\",\"\",'sd paste'!V174)","v":9828120869}]
[174,{"$f":"IF('sd paste'!A175=\"\",\"\",'sd paste'!A175)","v":7},{"$f":"IF('sd paste'!B175=\"\",\"\",'sd paste'!B175)","v":"A"},{"$f":"IF('sd paste'!C175=\"\",\"\",'sd paste'!C175)","v":5023},{"$f":"IF('sd paste'!E175=\"\",\"\",'sd paste'!E175)","v":"vkp174"},{"$f":"IF('sd paste'!G175=\"\",\"\",'sd paste'!G175)","v":"vk"},{"$f":"IF('sd paste'!H175=\"\",\"\",'sd paste'!H175)","v":"vkk"},{"$f":"IF('sd paste'!J175=\"\",\"\",'sd paste'!J175)","v":"2018-12-21"},{"$f":"IF('sd paste'!V175=\"\",\"\",'sd paste'!V175)","v":9828120870}]
[175,{"$f":"IF('sd paste'!A176=\"\",\"\",'sd paste'!A176)","v":7},{"$f":"IF('sd paste'!B176=\"\",\"\",'sd paste'!B176)","v":"A"},{"$f":"IF('sd paste'!C176=\"\",\"\",'sd paste'!C176)","v":4435},{"$f":"IF('sd paste'!E176=\"\",\"\",'sd paste'!E176)","v":"vkp175"},{"$f":"IF('sd paste'!G176=\"\",\"\",'sd paste'!G176)","v":"vk"},{"$f":"IF('sd paste'!H176=\"\",\"\",'sd paste'!H176)","v":"vkk"},{"$f":"IF('sd paste'!J176=\"\",\"\",'sd paste'!J176)","v":"2018-12-22"},{"$f":"IF('sd paste'!V176=\"\",\"\",'sd paste'!V176)","v":9828120871}]
[176,{"$f":"IF('sd paste'!A177=\"\",\"\",'sd paste'!A177)","v":7},{"$f":"IF('sd paste'!B177=\"\",\"\",'sd paste'!B177)","v":"A"},{"$f":"IF('sd paste'!C177=\"\",\"\",'sd paste'!C177)","v":4434},{"$f":"IF('sd paste'!E177=\"\",\"\",'sd paste'!E177)","v":"vkp176"},{"$f":"IF('sd paste'!G177=\"\",\"\",'sd paste'!G177)","v":"vk"},{"$f":"IF('sd paste'!H177=\"\",\"\",'sd paste'!H177)","v":"vkk"},{"$f":"IF('sd paste'!J177=\"\",\"\",'sd paste'!J177)","v":"2018-12-23"},{"$f":"IF('sd paste'!V177=\"\",\"\",'sd paste'!V177)","v":9828120872}]
[177,{"$f":"IF('sd paste'!A178=\"\",\"\",'sd paste'!A178)","v":7},{"$f":"IF('sd paste'!B178=\"\",\"\",'sd paste'!B178)","v":"A"},{"$f":"IF('sd paste'!C178=\"\",\"\",'sd paste'!C178)","v":5248},{"$f":"IF('sd paste'!E178=\"\",\"\",'sd paste'!E178)","v":"vkp177"},{"$f":"IF('sd paste'!G178=\"\",\"\",'sd paste'!G178)","v":"vk"},{"$f":"IF('sd paste'!H178=\"\",\"\",'sd paste'!H178)","v":"vkk"},{"$f":"IF('sd paste'!J178=\"\",\"\",'sd paste'!J178)","v":"2018-12-24"},{"$f":"IF('sd paste'!V178=\"\",\"\",'sd paste'!V178)","v":9828120873}]
[178,{"$f":"IF('sd paste'!A179=\"\",\"\",'sd paste'!A179)","v":7},{"$f":"IF('sd paste'!B179=\"\",\"\",'sd paste'!B179)","v":"A"},{"$f":"IF('sd paste'!C179=\"\",\"\",'sd paste'!C179)","v":4436},{"$f":"IF('sd paste'!E179=\"\",\"\",'sd paste'!E179)","v":"vkp178"},{"$f":"IF('sd paste'!G179=\"\",\"\",'sd paste'!G179)","v":"vk"},{"$f":"IF('sd paste'!H179=\"\",\"\",'sd paste'!H179)","v":"vkk"},{"$f":"IF('sd paste'!J179=\"\",\"\",'sd paste'!J179)","v":"2018-12-25"},{"$f":"IF('sd paste'!V179=\"\",\"\",'sd paste'!V179)","v":9828120874}]
[179,{"$f":"IF('sd paste'!A180=\"\",\"\",'sd paste'!A180)","v":7},{"$f":"IF('sd paste'!B180=\"\",\"\",'sd paste'!B180)","v":"A"},{"$f":"IF('sd paste'!C180=\"\",\"\",'sd paste'!C180)","v":5288},{"$f":"IF('sd paste'!E180=\"\",\"\",'sd paste'!E180)","v":"vkp179"},{"$f":"IF('sd paste'!G180=\"\",\"\",'sd paste'!G180)","v":"vk"},{"$f":"IF('sd paste'!H180=\"\",\"\",'sd paste'!H180)","v":"vkk"},{"$f":"IF('sd paste'!J180=\"\",\"\",'sd paste'!J180)","v":"2018-12-26"},{"$f":"IF('sd paste'!V180=\"\",\"\",'sd paste'!V180)","v":9828120875}]
[180,{"$f":"IF('sd paste'!A181=\"\",\"\",'sd paste'!A181)","v":7},{"$f":"IF('sd paste'!B181=\"\",\"\",'sd paste'!B181)","v":"A"},{"$f":"IF('sd paste'!C181=\"\",\"\",'sd paste'!C181)","v":4940},{"$f":"IF('sd paste'!E181=\"\",\"\",'sd paste'!E181)","v":"vkp180"},{"$f":"IF('sd paste'!G181=\"\",\"\",'sd paste'!G181)","v":"vk"},{"$f":"IF('sd paste'!H181=\"\",\"\",'sd paste'!H181)","v":"vkk"},{"$f":"IF('sd paste'!J181=\"\",\"\",'sd paste'!J181)","v":"2018-12-27"},{"$f":"IF('sd paste'!V181=\"\",\"\",'sd paste'!V181)","v":9828120876}]
[181,{"$f":"IF('sd paste'!A182=\"\",\"\",'sd paste'!A182)","v":7},{"$f":"IF('sd paste'!B182=\"\",\"\",'sd paste'!B182)","v":"A"},{"$f":"IF('sd paste'!C182=\"\",\"\",'sd paste'!C182)","v":5243},{"$f":"IF('sd paste'!E182=\"\",\"\",'sd paste'!E182)","v":"vkp181"},{"$f":"IF('sd paste'!G182=\"\",\"\",'sd paste'!G182)","v":"vk"},{"$f":"IF('sd paste'!H182=\"\",\"\",'sd paste'!H182)","v":"vkk"},{"$f":"IF('sd paste'!J182=\"\",\"\",'sd paste'!J182)","v":"2018-12-28"},{"$f":"IF('sd paste'!V182=\"\",\"\",'sd paste'!V182)","v":9828120877}]
[182,{"$f":"IF('sd paste'!A183=\"\",\"\",'sd paste'!A183)","v":7},{"$f":"IF('sd paste'!B183=\"\",\"\",'sd paste'!B183)","v":"A"},{"$f":"IF('sd paste'!C183=\"\",\"\",'sd paste'!C183)","v":4307},{"$f":"IF('sd paste'!E183=\"\",\"\",'sd paste'!E183)","v":"vkp182"},{"$f":"IF('sd paste'!G183=\"\",\"\",'sd paste'!G183)","v":"vk"},{"$f":"IF('sd paste'!H183=\"\",\"\",'sd paste'!H183)","v":"vkk"},{"$f":"IF('sd paste'!J183=\"\",\"\",'sd paste'!J183)","v":"2018-12-29"},{"$f":"IF('sd paste'!V183=\"\",\"\",'sd paste'!V183)","v":9828120878}]
[183,{"$f":"IF('sd paste'!A184=\"\",\"\",'sd paste'!A184)","v":7},{"$f":"IF('sd paste'!B184=\"\",\"\",'sd paste'!B184)","v":"A"},{"$f":"IF('sd paste'!C184=\"\",\"\",'sd paste'!C184)","v":5342},{"$f":"IF('sd paste'!E184=\"\",\"\",'sd paste'!E184)","v":"vkp183"},{"$f":"IF('sd paste'!G184=\"\",\"\",'sd paste'!G184)","v":"vk"},{"$f":"IF('sd paste'!H184=\"\",\"\",'sd paste'!H184)","v":"vkk"},{"$f":"IF('sd paste'!J184=\"\",\"\",'sd paste'!J184)","v":"2018-12-30"},{"$f":"IF('sd paste'!V184=\"\",\"\",'sd paste'!V184)","v":9828120879}]
[184,{"$f":"IF('sd paste'!A185=\"\",\"\",'sd paste'!A185)","v":7},{"$f":"IF('sd paste'!B185=\"\",\"\",'sd paste'!B185)","v":"A"},{"$f":"IF('sd paste'!C185=\"\",\"\",'sd paste'!C185)","v":4956},{"$f":"IF('sd paste'!E185=\"\",\"\",'sd paste'!E185)","v":"vkp184"},{"$f":"IF('sd paste'!G185=\"\",\"\",'sd paste'!G185)","v":"vk"},{"$f":"IF('sd paste'!H185=\"\",\"\",'sd paste'!H185)","v":"vkk"},{"$f":"IF('sd paste'!J185=\"\",\"\",'sd paste'!J185)","v":"2018-12-31"},{"$f":"IF('sd paste'!V185=\"\",\"\",'sd paste'!V185)","v":9828120880}]
[185,{"$f":"IF('sd paste'!A186=\"\",\"\",'sd paste'!A186)","v":7},{"$f":"IF('sd paste'!B186=\"\",\"\",'sd paste'!B186)","v":"A"},{"$f":"IF('sd paste'!C186=\"\",\"\",'sd paste'!C186)","v":5385},{"$f":"IF('sd paste'!E186=\"\",\"\",'sd paste'!E186)","v":"vkp185"},{"$f":"IF('sd paste'!G186=\"\",\"\",'sd paste'!G186)","v":"vk"},{"$f":"IF('sd paste'!H186=\"\",\"\",'sd paste'!H186)","v":"vkk"},{"$f":"IF('sd paste'!J186=\"\",\"\",'sd paste'!J186)","v":"2019-01-01"},{"$f":"IF('sd paste'!V186=\"\",\"\",'sd paste'!V186)","v":9828120881}]
[186,{"$f":"IF('sd paste'!A187=\"\",\"\",'sd paste'!A187)","v":8},{"$f":"IF('sd paste'!B187=\"\",\"\",'sd paste'!B187)","v":"A"},{"$f":"IF('sd paste'!C187=\"\",\"\",'sd paste'!C187)","v":5131},{"$f":"IF('sd paste'!E187=\"\",\"\",'sd paste'!E187)","v":"vkp186"},{"$f":"IF('sd paste'!G187=\"\",\"\",'sd paste'!G187)","v":"vk"},{"$f":"IF('sd paste'!H187=\"\",\"\",'sd paste'!H187)","v":"vkk"},{"$f":"IF('sd paste'!J187=\"\",\"\",'sd paste'!J187)","v":"2019-01-02"},{"$f":"IF('sd paste'!V187=\"\",\"\",'sd paste'!V187)","v":9828120882}]
[187,{"$f":"IF('sd paste'!A188=\"\",\"\",'sd paste'!A188)","v":8},{"$f":"IF('sd paste'!B188=\"\",\"\",'sd paste'!B188)","v":"A"},{"$f":"IF('sd paste'!C188=\"\",\"\",'sd paste'!C188)","v":5132},{"$f":"IF('sd paste'!E188=\"\",\"\",'sd paste'!E188)","v":"vkp187"},{"$f":"IF('sd paste'!G188=\"\",\"\",'sd paste'!G188)","v":"vk"},{"$f":"IF('sd paste'!H188=\"\",\"\",'sd paste'!H188)","v":"vkk"},{"$f":"IF('sd paste'!J188=\"\",\"\",'sd paste'!J188)","v":"2019-01-03"},{"$f":"IF('sd paste'!V188=\"\",\"\",'sd paste'!V188)","v":9828120883}]
[188,{"$f":"IF('sd paste'!A189=\"\",\"\",'sd paste'!A189)","v":8},{"$f":"IF('sd paste'!B189=\"\",\"\",'sd paste'!B189)","v":"A"},{"$f":"IF('sd paste'!C189=\"\",\"\",'sd paste'!C189)","v":4290},{"$f":"IF('sd paste'!E189=\"\",\"\",'sd paste'!E189)","v":"vkp188"},{"$f":"IF('sd paste'!G189=\"\",\"\",'sd paste'!G189)","v":"vk"},{"$f":"IF('sd paste'!H189=\"\",\"\",'sd paste'!H189)","v":"vkk"},{"$f":"IF('sd paste'!J189=\"\",\"\",'sd paste'!J189)","v":"2019-01-04"},{"$f":"IF('sd paste'!V189=\"\",\"\",'sd paste'!V189)","v":9828120884}]
[189,{"$f":"IF('sd paste'!A190=\"\",\"\",'sd paste'!A190)","v":8},{"$f":"IF('sd paste'!B190=\"\",\"\",'sd paste'!B190)","v":"A"},{"$f":"IF('sd paste'!C190=\"\",\"\",'sd paste'!C190)","v":4246},{"$f":"IF('sd paste'!E190=\"\",\"\",'sd paste'!E190)","v":"vkp189"},{"$f":"IF('sd paste'!G190=\"\",\"\",'sd paste'!G190)","v":"vk"},{"$f":"IF('sd paste'!H190=\"\",\"\",'sd paste'!H190)","v":"vkk"},{"$f":"IF('sd paste'!J190=\"\",\"\",'sd paste'!J190)","v":"2019-01-05"},{"$f":"IF('sd paste'!V190=\"\",\"\",'sd paste'!V190)","v":9828120885}]
[190,{"$f":"IF('sd paste'!A191=\"\",\"\",'sd paste'!A191)","v":8},{"$f":"IF('sd paste'!B191=\"\",\"\",'sd paste'!B191)","v":"A"},{"$f":"IF('sd paste'!C191=\"\",\"\",'sd paste'!C191)","v":4740},{"$f":"IF('sd paste'!E191=\"\",\"\",'sd paste'!E191)","v":"vkp190"},{"$f":"IF('sd paste'!G191=\"\",\"\",'sd paste'!G191)","v":"vk"},{"$f":"IF('sd paste'!H191=\"\",\"\",'sd paste'!H191)","v":"vkk"},{"$f":"IF('sd paste'!J191=\"\",\"\",'sd paste'!J191)","v":"2019-01-06"},{"$f":"IF('sd paste'!V191=\"\",\"\",'sd paste'!V191)","v":9828120886}]
[191,{"$f":"IF('sd paste'!A192=\"\",\"\",'sd paste'!A192)","v":8},{"$f":"IF('sd paste'!B192=\"\",\"\",'sd paste'!B192)","v":"A"},{"$f":"IF('sd paste'!C192=\"\",\"\",'sd paste'!C192)","v":4193},{"$f":"IF('sd paste'!E192=\"\",\"\",'sd paste'!E192)","v":"vkp191"},{"$f":"IF('sd paste'!G192=\"\",\"\",'sd paste'!G192)","v":"vk"},{"$f":"IF('sd paste'!H192=\"\",\"\",'sd paste'!H192)","v":"vkk"},{"$f":"IF('sd paste'!J192=\"\",\"\",'sd paste'!J192)","v":"2019-01-07"},{"$f":"IF('sd paste'!V192=\"\",\"\",'sd paste'!V192)","v":9828120887}]
[192,{"$f":"IF('sd paste'!A193=\"\",\"\",'sd paste'!A193)","v":8},{"$f":"IF('sd paste'!B193=\"\",\"\",'sd paste'!B193)","v":"A"},{"$f":"IF('sd paste'!C193=\"\",\"\",'sd paste'!C193)","v":5301},{"$f":"IF('sd paste'!E193=\"\",\"\",'sd paste'!E193)","v":"vkp192"},{"$f":"IF('sd paste'!G193=\"\",\"\",'sd paste'!G193)","v":"vk"},{"$f":"IF('sd paste'!H193=\"\",\"\",'sd paste'!H193)","v":"vkk"},{"$f":"IF('sd paste'!J193=\"\",\"\",'sd paste'!J193)","v":"2019-01-08"},{"$f":"IF('sd paste'!V193=\"\",\"\",'sd paste'!V193)","v":9828120888}]
[193,{"$f":"IF('sd paste'!A194=\"\",\"\",'sd paste'!A194)","v":8},{"$f":"IF('sd paste'!B194=\"\",\"\",'sd paste'!B194)","v":"A"},{"$f":"IF('sd paste'!C194=\"\",\"\",'sd paste'!C194)","v":5085},{"$f":"IF('sd paste'!E194=\"\",\"\",'sd paste'!E194)","v":"vkp193"},{"$f":"IF('sd paste'!G194=\"\",\"\",'sd paste'!G194)","v":"vk"},{"$f":"IF('sd paste'!H194=\"\",\"\",'sd paste'!H194)","v":"vkk"},{"$f":"IF('sd paste'!J194=\"\",\"\",'sd paste'!J194)","v":"2019-01-09"},{"$f":"IF('sd paste'!V194=\"\",\"\",'sd paste'!V194)","v":9828120889}]
[{"$f":"IF(F199=\"\",\"\",ROW(194:194))","v":194},{"$f":"IF('sd paste'!A195=\"\",\"\",'sd paste'!A195)","v":8},{"$f":"IF('sd paste'!B195=\"\",\"\",'sd paste'!B195)","v":"A"},{"$f":"IF('sd paste'!C195=\"\",\"\",'sd paste'!C195)","v":4109},{"$f":"IF('sd paste'!E195=\"\",\"\",'sd paste'!E195)","v":"vkp194"},{"$f":"IF('sd paste'!G195=\"\",\"\",'sd paste'!G195)","v":"vk"},{"$f":"IF('sd paste'!H195=\"\",\"\",'sd paste'!H195)","v":"vkk"},{"$f":"IF('sd paste'!J195=\"\",\"\",'sd paste'!J195)","v":"2019-01-10"},{"$f":"IF('sd paste'!V195=\"\",\"\",'sd paste'!V195)","v":9828120890}]
[195,{"$f":"IF('sd paste'!A196=\"\",\"\",'sd paste'!A196)","v":8},{"$f":"IF('sd paste'!B196=\"\",\"\",'sd paste'!B196)","v":"A"},{"$f":"IF('sd paste'!C196=\"\",\"\",'sd paste'!C196)","v":4943},{"$f":"IF('sd paste'!E196=\"\",\"\",'sd paste'!E196)","v":"vkp195"},{"$f":"IF('sd paste'!G196=\"\",\"\",'sd paste'!G196)","v":"vk"},{"$f":"IF('sd paste'!H196=\"\",\"\",'sd paste'!H196)","v":"vkk"},{"$f":"IF('sd paste'!J196=\"\",\"\",'sd paste'!J196)","v":"2019-01-11"},{"$f":"IF('sd paste'!V196=\"\",\"\",'sd paste'!V196)","v":9828120891}]
[196,{"$f":"IF('sd paste'!A197=\"\",\"\",'sd paste'!A197)","v":8},{"$f":"IF('sd paste'!B197=\"\",\"\",'sd paste'!B197)","v":"A"},{"$f":"IF('sd paste'!C197=\"\",\"\",'sd paste'!C197)","v":4975},{"$f":"IF('sd paste'!E197=\"\",\"\",'sd paste'!E197)","v":"vkp196"},{"$f":"IF('sd paste'!G197=\"\",\"\",'sd paste'!G197)","v":"vk"},{"$f":"IF('sd paste'!H197=\"\",\"\",'sd paste'!H197)","v":"vkk"},{"$f":"IF('sd paste'!J197=\"\",\"\",'sd paste'!J197)","v":"2019-01-12"},{"$f":"IF('sd paste'!V197=\"\",\"\",'sd paste'!V197)","v":9828120892}]
[197,{"$f":"IF('sd paste'!A198=\"\",\"\",'sd paste'!A198)","v":8},{"$f":"IF('sd paste'!B198=\"\",\"\",'sd paste'!B198)","v":"A"},{"$f":"IF('sd paste'!C198=\"\",\"\",'sd paste'!C198)","v":5438},{"$f":"IF('sd paste'!E198=\"\",\"\",'sd paste'!E198)","v":"vkp197"},{"$f":"IF('sd paste'!G198=\"\",\"\",'sd paste'!G198)","v":"vk"},{"$f":"IF('sd paste'!H198=\"\",\"\",'sd paste'!H198)","v":"vkk"},{"$f":"IF('sd paste'!J198=\"\",\"\",'sd paste'!J198)","v":"2019-01-13"},{"$f":"IF('sd paste'!V198=\"\",\"\",'sd paste'!V198)","v":9828120893}]
[198,{"$f":"IF('sd paste'!A199=\"\",\"\",'sd paste'!A199)","v":8},{"$f":"IF('sd paste'!B199=\"\",\"\",'sd paste'!B199)","v":"A"},{"$f":"IF('sd paste'!C199=\"\",\"\",'sd paste'!C199)","v":5228},{"$f":"IF('sd paste'!E199=\"\",\"\",'sd paste'!E199)","v":"vkp198"},{"$f":"IF('sd paste'!G199=\"\",\"\",'sd paste'!G199)","v":"vk"},{"$f":"IF('sd paste'!H199=\"\",\"\",'sd paste'!H199)","v":"vkk"},{"$f":"IF('sd paste'!J199=\"\",\"\",'sd paste'!J199)","v":"2019-01-14"},{"$f":"IF('sd paste'!V199=\"\",\"\",'sd paste'!V199)","v":9828120894}]
[199,{"$f":"IF('sd paste'!A200=\"\",\"\",'sd paste'!A200)","v":8},{"$f":"IF('sd paste'!B200=\"\",\"\",'sd paste'!B200)","v":"A"},{"$f":"IF('sd paste'!C200=\"\",\"\",'sd paste'!C200)","v":4167},{"$f":"IF('sd paste'!E200=\"\",\"\",'sd paste'!E200)","v":"vkp199"},{"$f":"IF('sd paste'!G200=\"\",\"\",'sd paste'!G200)","v":"vk"},{"$f":"IF('sd paste'!H200=\"\",\"\",'sd paste'!H200)","v":"vkk"},{"$f":"IF('sd paste'!J200=\"\",\"\",'sd paste'!J200)","v":"2019-01-15"},{"$f":"IF('sd paste'!V200=\"\",\"\",'sd paste'!V200)","v":9828120895}]
[200,{"$f":"IF('sd paste'!A201=\"\",\"\",'sd paste'!A201)","v":8},{"$f":"IF('sd paste'!B201=\"\",\"\",'sd paste'!B201)","v":"A"},{"$f":"IF('sd paste'!C201=\"\",\"\",'sd paste'!C201)","v":4589},{"$f":"IF('sd paste'!E201=\"\",\"\",'sd paste'!E201)","v":"vkp200"},{"$f":"IF('sd paste'!G201=\"\",\"\",'sd paste'!G201)","v":"vk"},{"$f":"IF('sd paste'!H201=\"\",\"\",'sd paste'!H201)","v":"vkk"},{"$f":"IF('sd paste'!J201=\"\",\"\",'sd paste'!J201)","v":"2019-01-16"},{"$f":"IF('sd paste'!V201=\"\",\"\",'sd paste'!V201)","v":9828120896}]
[201,{"$f":"IF('sd paste'!A202=\"\",\"\",'sd paste'!A202)","v":8},{"$f":"IF('sd paste'!B202=\"\",\"\",'sd paste'!B202)","v":"A"},{"$f":"IF('sd paste'!C202=\"\",\"\",'sd paste'!C202)","v":4122},{"$f":"IF('sd paste'!E202=\"\",\"\",'sd paste'!E202)","v":"vkp201"},{"$f":"IF('sd paste'!G202=\"\",\"\",'sd paste'!G202)","v":"vk"},{"$f":"IF('sd paste'!H202=\"\",\"\",'sd paste'!H202)","v":"vkk"},{"$f":"IF('sd paste'!J202=\"\",\"\",'sd paste'!J202)","v":"2019-01-17"},{"$f":"IF('sd paste'!V202=\"\",\"\",'sd paste'!V202)","v":9828120897}]
[202,{"$f":"IF('sd paste'!A203=\"\",\"\",'sd paste'!A203)","v":8},{"$f":"IF('sd paste'!B203=\"\",\"\",'sd paste'!B203)","v":"A"},{"$f":"IF('sd paste'!C203=\"\",\"\",'sd paste'!C203)","v":4903},{"$f":"IF('sd paste'!E203=\"\",\"\",'sd paste'!E203)","v":"vkp202"},{"$f":"IF('sd paste'!G203=\"\",\"\",'sd paste'!G203)","v":"vk"},{"$f":"IF('sd paste'!H203=\"\",\"\",'sd paste'!H203)","v":"vkk"},{"$f":"IF('sd paste'!J203=\"\",\"\",'sd paste'!J203)","v":"2019-01-18"},{"$f":"IF('sd paste'!V203=\"\",\"\",'sd paste'!V203)","v":9828120898}]
[203,{"$f":"IF('sd paste'!A204=\"\",\"\",'sd paste'!A204)","v":8},{"$f":"IF('sd paste'!B204=\"\",\"\",'sd paste'!B204)","v":"A"},{"$f":"IF('sd paste'!C204=\"\",\"\",'sd paste'!C204)","v":4110},{"$f":"IF('sd paste'!E204=\"\",\"\",'sd paste'!E204)","v":"vkp203"},{"$f":"IF('sd paste'!G204=\"\",\"\",'sd paste'!G204)","v":"vk"},{"$f":"IF('sd paste'!H204=\"\",\"\",'sd paste'!H204)","v":"vkk"},{"$f":"IF('sd paste'!J204=\"\",\"\",'sd paste'!J204)","v":"2019-01-19"},{"$f":"IF('sd paste'!V204=\"\",\"\",'sd paste'!V204)","v":9828120899}]
[204,{"$f":"IF('sd paste'!A205=\"\",\"\",'sd paste'!A205)","v":8},{"$f":"IF('sd paste'!B205=\"\",\"\",'sd paste'!B205)","v":"A"},{"$f":"IF('sd paste'!C205=\"\",\"\",'sd paste'!C205)","v":4674},{"$f":"IF('sd paste'!E205=\"\",\"\",'sd paste'!E205)","v":"vkp204"},{"$f":"IF('sd paste'!G205=\"\",\"\",'sd paste'!G205)","v":"vk"},{"$f":"IF('sd paste'!H205=\"\",\"\",'sd paste'!H205)","v":"vkk"},{"$f":"IF('sd paste'!J205=\"\",\"\",'sd paste'!J205)","v":"2019-01-20"},{"$f":"IF('sd paste'!V205=\"\",\"\",'sd paste'!V205)","v":9828120900}]
[205,{"$f":"IF('sd paste'!A206=\"\",\"\",'sd paste'!A206)","v":8},{"$f":"IF('sd paste'!B206=\"\",\"\",'sd paste'!B206)","v":"A"},{"$f":"IF('sd paste'!C206=\"\",\"\",'sd paste'!C206)","v":4117},{"$f":"IF('sd paste'!E206=\"\",\"\",'sd paste'!E206)","v":"vkp205"},{"$f":"IF('sd paste'!G206=\"\",\"\",'sd paste'!G206)","v":"vk"},{"$f":"IF('sd paste'!H206=\"\",\"\",'sd paste'!H206)","v":"vkk"},{"$f":"IF('sd paste'!J206=\"\",\"\",'sd paste'!J206)","v":"2019-01-21"},{"$f":"IF('sd paste'!V206=\"\",\"\",'sd paste'!V206)","v":9828120901}]
[206,{"$f":"IF('sd paste'!A207=\"\",\"\",'sd paste'!A207)","v":8},{"$f":"IF('sd paste'!B207=\"\",\"\",'sd paste'!B207)","v":"A"},{"$f":"IF('sd paste'!C207=\"\",\"\",'sd paste'!C207)","v":5208},{"$f":"IF('sd paste'!E207=\"\",\"\",'sd paste'!E207)","v":"vkp206"},{"$f":"IF('sd paste'!G207=\"\",\"\",'sd paste'!G207)","v":"vk"},{"$f":"IF('sd paste'!H207=\"\",\"\",'sd paste'!H207)","v":"vkk"},{"$f":"IF('sd paste'!J207=\"\",\"\",'sd paste'!J207)","v":"2019-01-22"},{"$f":"IF('sd paste'!V207=\"\",\"\",'sd paste'!V207)","v":9828120902}]
[207,{"$f":"IF('sd paste'!A208=\"\",\"\",'sd paste'!A208)","v":8},{"$f":"IF('sd paste'!B208=\"\",\"\",'sd paste'!B208)","v":"A"},{"$f":"IF('sd paste'!C208=\"\",\"\",'sd paste'!C208)","v":5121},{"$f":"IF('sd paste'!E208=\"\",\"\",'sd paste'!E208)","v":"vkp207"},{"$f":"IF('sd paste'!G208=\"\",\"\",'sd paste'!G208)","v":"vk"},{"$f":"IF('sd paste'!H208=\"\",\"\",'sd paste'!H208)","v":"vkk"},{"$f":"IF('sd paste'!J208=\"\",\"\",'sd paste'!J208)","v":"2019-01-23"},{"$f":"IF('sd paste'!V208=\"\",\"\",'sd paste'!V208)","v":9828120903}]
[208,{"$f":"IF('sd paste'!A209=\"\",\"\",'sd paste'!A209)","v":8},{"$f":"IF('sd paste'!B209=\"\",\"\",'sd paste'!B209)","v":"A"},{"$f":"IF('sd paste'!C209=\"\",\"\",'sd paste'!C209)","v":5052},{"$f":"IF('sd paste'!E209=\"\",\"\",'sd paste'!E209)","v":"vkp208"},{"$f":"IF('sd paste'!G209=\"\",\"\",'sd paste'!G209)","v":"vk"},{"$f":"IF('sd paste'!H209=\"\",\"\",'sd paste'!H209)","v":"vkk"},{"$f":"IF('sd paste'!J209=\"\",\"\",'sd paste'!J209)","v":"2019-01-24"},{"$f":"IF('sd paste'!V209=\"\",\"\",'sd paste'!V209)","v":9828120904}]
[209,{"$f":"IF('sd paste'!A210=\"\",\"\",'sd paste'!A210)","v":8},{"$f":"IF('sd paste'!B210=\"\",\"\",'sd paste'!B210)","v":"A"},{"$f":"IF('sd paste'!C210=\"\",\"\",'sd paste'!C210)","v":4722},{"$f":"IF('sd paste'!E210=\"\",\"\",'sd paste'!E210)","v":"vkp209"},{"$f":"IF('sd paste'!G210=\"\",\"\",'sd paste'!G210)","v":"vk"},{"$f":"IF('sd paste'!H210=\"\",\"\",'sd paste'!H210)","v":"vkk"},{"$f":"IF('sd paste'!J210=\"\",\"\",'sd paste'!J210)","v":"2019-01-25"},{"$f":"IF('sd paste'!V210=\"\",\"\",'sd paste'!V210)","v":9828120905}]
[210,{"$f":"IF('sd paste'!A211=\"\",\"\",'sd paste'!A211)","v":8},{"$f":"IF('sd paste'!B211=\"\",\"\",'sd paste'!B211)","v":"A"},{"$f":"IF('sd paste'!C211=\"\",\"\",'sd paste'!C211)","v":4742},{"$f":"IF('sd paste'!E211=\"\",\"\",'sd paste'!E211)","v":"vkp210"},{"$f":"IF('sd paste'!G211=\"\",\"\",'sd paste'!G211)","v":"vk"},{"$f":"IF('sd paste'!H211=\"\",\"\",'sd paste'!H211)","v":"vkk"},{"$f":"IF('sd paste'!J211=\"\",\"\",'sd paste'!J211)","v":"2019-01-26"},{"$f":"IF('sd paste'!V211=\"\",\"\",'sd paste'!V211)","v":9828120906}]
[211,{"$f":"IF('sd paste'!A212=\"\",\"\",'sd paste'!A212)","v":8},{"$f":"IF('sd paste'!B212=\"\",\"\",'sd paste'!B212)","v":"A"},{"$f":"IF('sd paste'!C212=\"\",\"\",'sd paste'!C212)","v":5089},{"$f":"IF('sd paste'!E212=\"\",\"\",'sd paste'!E212)","v":"vkp211"},{"$f":"IF('sd paste'!G212=\"\",\"\",'sd paste'!G212)","v":"vk"},{"$f":"IF('sd paste'!H212=\"\",\"\",'sd paste'!H212)","v":"vkk"},{"$f":"IF('sd paste'!J212=\"\",\"\",'sd paste'!J212)","v":"2019-01-27"},{"$f":"IF('sd paste'!V212=\"\",\"\",'sd paste'!V212)","v":9828120907}]
[212,{"$f":"IF('sd paste'!A213=\"\",\"\",'sd paste'!A213)","v":8},{"$f":"IF('sd paste'!B213=\"\",\"\",'sd paste'!B213)","v":"A"},{"$f":"IF('sd paste'!C213=\"\",\"\",'sd paste'!C213)","v":5380},{"$f":"IF('sd paste'!E213=\"\",\"\",'sd paste'!E213)","v":"vkp212"},{"$f":"IF('sd paste'!G213=\"\",\"\",'sd paste'!G213)","v":"vk"},{"$f":"IF('sd paste'!H213=\"\",\"\",'sd paste'!H213)","v":"vkk"},{"$f":"IF('sd paste'!J213=\"\",\"\",'sd paste'!J213)","v":"2019-01-28"},{"$f":"IF('sd paste'!V213=\"\",\"\",'sd paste'!V213)","v":9828120908}]
[213,{"$f":"IF('sd paste'!A214=\"\",\"\",'sd paste'!A214)","v":8},{"$f":"IF('sd paste'!B214=\"\",\"\",'sd paste'!B214)","v":"A"},{"$f":"IF('sd paste'!C214=\"\",\"\",'sd paste'!C214)","v":4878},{"$f":"IF('sd paste'!E214=\"\",\"\",'sd paste'!E214)","v":"vkp213"},{"$f":"IF('sd paste'!G214=\"\",\"\",'sd paste'!G214)","v":"vk"},{"$f":"IF('sd paste'!H214=\"\",\"\",'sd paste'!H214)","v":"vkk"},{"$f":"IF('sd paste'!J214=\"\",\"\",'sd paste'!J214)","v":"2019-01-29"},{"$f":"IF('sd paste'!V214=\"\",\"\",'sd paste'!V214)","v":9828120909}]
[214,{"$f":"IF('sd paste'!A215=\"\",\"\",'sd paste'!A215)","v":8},{"$f":"IF('sd paste'!B215=\"\",\"\",'sd paste'!B215)","v":"A"},{"$f":"IF('sd paste'!C215=\"\",\"\",'sd paste'!C215)","v":4258},{"$f":"IF('sd paste'!E215=\"\",\"\",'sd paste'!E215)","v":"vkp214"},{"$f":"IF('sd paste'!G215=\"\",\"\",'sd paste'!G215)","v":"vk"},{"$f":"IF('sd paste'!H215=\"\",\"\",'sd paste'!H215)","v":"vkk"},{"$f":"IF('sd paste'!J215=\"\",\"\",'sd paste'!J215)","v":"2019-01-30"},{"$f":"IF('sd paste'!V215=\"\",\"\",'sd paste'!V215)","v":9828120910}]
[215,{"$f":"IF('sd paste'!A216=\"\",\"\",'sd paste'!A216)","v":8},{"$f":"IF('sd paste'!B216=\"\",\"\",'sd paste'!B216)","v":"A"},{"$f":"IF('sd paste'!C216=\"\",\"\",'sd paste'!C216)","v":4245},{"$f":"IF('sd paste'!E216=\"\",\"\",'sd paste'!E216)","v":"vkp215"},{"$f":"IF('sd paste'!G216=\"\",\"\",'sd paste'!G216)","v":"vk"},{"$f":"IF('sd paste'!H216=\"\",\"\",'sd paste'!H216)","v":"vkk"},{"$f":"IF('sd paste'!J216=\"\",\"\",'sd paste'!J216)","v":"2019-01-31"},{"$f":"IF('sd paste'!V216=\"\",\"\",'sd paste'!V216)","v":9828120911}]
[216,{"$f":"IF('sd paste'!A217=\"\",\"\",'sd paste'!A217)","v":8},{"$f":"IF('sd paste'!B217=\"\",\"\",'sd paste'!B217)","v":"A"},{"$f":"IF('sd paste'!C217=\"\",\"\",'sd paste'!C217)","v":4100},{"$f":"IF('sd paste'!E217=\"\",\"\",'sd paste'!E217)","v":"vkp216"},{"$f":"IF('sd paste'!G217=\"\",\"\",'sd paste'!G217)","v":"vk"},{"$f":"IF('sd paste'!H217=\"\",\"\",'sd paste'!H217)","v":"vkk"},{"$f":"IF('sd paste'!J217=\"\",\"\",'sd paste'!J217)","v":"2019-02-01"},{"$f":"IF('sd paste'!V217=\"\",\"\",'sd paste'!V217)","v":9828120912}]
[217,{"$f":"IF('sd paste'!A218=\"\",\"\",'sd paste'!A218)","v":8},{"$f":"IF('sd paste'!B218=\"\",\"\",'sd paste'!B218)","v":"A"},{"$f":"IF('sd paste'!C218=\"\",\"\",'sd paste'!C218)","v":4206},{"$f":"IF('sd paste'!E218=\"\",\"\",'sd paste'!E218)","v":"vkp217"},{"$f":"IF('sd paste'!G218=\"\",\"\",'sd paste'!G218)","v":"vk"},{"$f":"IF('sd paste'!H218=\"\",\"\",'sd paste'!H218)","v":"vkk"},{"$f":"IF('sd paste'!J218=\"\",\"\",'sd paste'!J218)","v":"2019-02-02"},{"$f":"IF('sd paste'!V218=\"\",\"\",'sd paste'!V218)","v":9828120913}]
[218,{"$f":"IF('sd paste'!A219=\"\",\"\",'sd paste'!A219)","v":8},{"$f":"IF('sd paste'!B219=\"\",\"\",'sd paste'!B219)","v":"A"},{"$f":"IF('sd paste'!C219=\"\",\"\",'sd paste'!C219)","v":5032},{"$f":"IF('sd paste'!E219=\"\",\"\",'sd paste'!E219)","v":"vkp218"},{"$f":"IF('sd paste'!G219=\"\",\"\",'sd paste'!G219)","v":"vk"},{"$f":"IF('sd paste'!H219=\"\",\"\",'sd paste'!H219)","v":"vkk"},{"$f":"IF('sd paste'!J219=\"\",\"\",'sd paste'!J219)","v":"2019-02-03"},{"$f":"IF('sd paste'!V219=\"\",\"\",'sd paste'!V219)","v":9828120914}]
[219,{"$f":"IF('sd paste'!A220=\"\",\"\",'sd paste'!A220)","v":8},{"$f":"IF('sd paste'!B220=\"\",\"\",'sd paste'!B220)","v":"A"},{"$f":"IF('sd paste'!C220=\"\",\"\",'sd paste'!C220)","v":5424},{"$f":"IF('sd paste'!E220=\"\",\"\",'sd paste'!E220)","v":"vkp219"},{"$f":"IF('sd paste'!G220=\"\",\"\",'sd paste'!G220)","v":"vk"},{"$f":"IF('sd paste'!H220=\"\",\"\",'sd paste'!H220)","v":"vkk"},{"$f":"IF('sd paste'!J220=\"\",\"\",'sd paste'!J220)","v":"2019-02-04"},{"$f":"IF('sd paste'!V220=\"\",\"\",'sd paste'!V220)","v":9828120915}]
[220,{"$f":"IF('sd paste'!A221=\"\",\"\",'sd paste'!A221)","v":8},{"$f":"IF('sd paste'!B221=\"\",\"\",'sd paste'!B221)","v":"A"},{"$f":"IF('sd paste'!C221=\"\",\"\",'sd paste'!C221)","v":5020},{"$f":"IF('sd paste'!E221=\"\",\"\",'sd paste'!E221)","v":"vkp220"},{"$f":"IF('sd paste'!G221=\"\",\"\",'sd paste'!G221)","v":"vk"},{"$f":"IF('sd paste'!H221=\"\",\"\",'sd paste'!H221)","v":"vkk"},{"$f":"IF('sd paste'!J221=\"\",\"\",'sd paste'!J221)","v":"2019-02-05"},{"$f":"IF('sd paste'!V221=\"\",\"\",'sd paste'!V221)","v":9828120916}]
[221,{"$f":"IF('sd paste'!A222=\"\",\"\",'sd paste'!A222)","v":8},{"$f":"IF('sd paste'!B222=\"\",\"\",'sd paste'!B222)","v":"A"},{"$f":"IF('sd paste'!C222=\"\",\"\",'sd paste'!C222)","v":5393},{"$f":"IF('sd paste'!E222=\"\",\"\",'sd paste'!E222)","v":"vkp221"},{"$f":"IF('sd paste'!G222=\"\",\"\",'sd paste'!G222)","v":"vk"},{"$f":"IF('sd paste'!H222=\"\",\"\",'sd paste'!H222)","v":"vkk"},{"$f":"IF('sd paste'!J222=\"\",\"\",'sd paste'!J222)","v":"2019-02-06"},{"$f":"IF('sd paste'!V222=\"\",\"\",'sd paste'!V222)","v":9828120917}]
[222,{"$f":"IF('sd paste'!A223=\"\",\"\",'sd paste'!A223)","v":8},{"$f":"IF('sd paste'!B223=\"\",\"\",'sd paste'!B223)","v":"A"},{"$f":"IF('sd paste'!C223=\"\",\"\",'sd paste'!C223)","v":5270},{"$f":"IF('sd paste'!E223=\"\",\"\",'sd paste'!E223)","v":"vkp222"},{"$f":"IF('sd paste'!G223=\"\",\"\",'sd paste'!G223)","v":"vk"},{"$f":"IF('sd paste'!H223=\"\",\"\",'sd paste'!H223)","v":"vkk"},{"$f":"IF('sd paste'!J223=\"\",\"\",'sd paste'!J223)","v":"2019-02-07"},{"$f":"IF('sd paste'!V223=\"\",\"\",'sd paste'!V223)","v":9828120918}]
[223,{"$f":"IF('sd paste'!A224=\"\",\"\",'sd paste'!A224)","v":8},{"$f":"IF('sd paste'!B224=\"\",\"\",'sd paste'!B224)","v":"A"},{"$f":"IF('sd paste'!C224=\"\",\"\",'sd paste'!C224)","v":4959},{"$f":"IF('sd paste'!E224=\"\",\"\",'sd paste'!E224)","v":"vkp223"},{"$f":"IF('sd paste'!G224=\"\",\"\",'sd paste'!G224)","v":"vk"},{"$f":"IF('sd paste'!H224=\"\",\"\",'sd paste'!H224)","v":"vkk"},{"$f":"IF('sd paste'!J224=\"\",\"\",'sd paste'!J224)","v":"2019-02-08"},{"$f":"IF('sd paste'!V224=\"\",\"\",'sd paste'!V224)","v":9828120919}]
[224,{"$f":"IF('sd paste'!A225=\"\",\"\",'sd paste'!A225)","v":8},{"$f":"IF('sd paste'!B225=\"\",\"\",'sd paste'!B225)","v":"A"},{"$f":"IF('sd paste'!C225=\"\",\"\",'sd paste'!C225)","v":4964},{"$f":"IF('sd paste'!E225=\"\",\"\",'sd paste'!E225)","v":"vkp224"},{"$f":"IF('sd paste'!G225=\"\",\"\",'sd paste'!G225)","v":"vk"},{"$f":"IF('sd paste'!H225=\"\",\"\",'sd paste'!H225)","v":"vkk"},{"$f":"IF('sd paste'!J225=\"\",\"\",'sd paste'!J225)","v":"2019-02-09"},{"$f":"IF('sd paste'!V225=\"\",\"\",'sd paste'!V225)","v":9828120920}]
[225,{"$f":"IF('sd paste'!A226=\"\",\"\",'sd paste'!A226)","v":8},{"$f":"IF('sd paste'!B226=\"\",\"\",'sd paste'!B226)","v":"A"},{"$f":"IF('sd paste'!C226=\"\",\"\",'sd paste'!C226)","v":4254},{"$f":"IF('sd paste'!E226=\"\",\"\",'sd paste'!E226)","v":"vkp225"},{"$f":"IF('sd paste'!G226=\"\",\"\",'sd paste'!G226)","v":"vk"},{"$f":"IF('sd paste'!H226=\"\",\"\",'sd paste'!H226)","v":"vkk"},{"$f":"IF('sd paste'!J226=\"\",\"\",'sd paste'!J226)","v":"2019-02-10"},{"$f":"IF('sd paste'!V226=\"\",\"\",'sd paste'!V226)","v":9828120921}]
[226,{"$f":"IF('sd paste'!A227=\"\",\"\",'sd paste'!A227)","v":8},{"$f":"IF('sd paste'!B227=\"\",\"\",'sd paste'!B227)","v":"A"},{"$f":"IF('sd paste'!C227=\"\",\"\",'sd paste'!C227)","v":4101},{"$f":"IF('sd paste'!E227=\"\",\"\",'sd paste'!E227)","v":"vkp226"},{"$f":"IF('sd paste'!G227=\"\",\"\",'sd paste'!G227)","v":"vk"},{"$f":"IF('sd paste'!H227=\"\",\"\",'sd paste'!H227)","v":"vkk"},{"$f":"IF('sd paste'!J227=\"\",\"\",'sd paste'!J227)","v":"2019-02-11"},{"$f":"IF('sd paste'!V227=\"\",\"\",'sd paste'!V227)","v":9828120922}]
[227,{"$f":"IF('sd paste'!A228=\"\",\"\",'sd paste'!A228)","v":8},{"$f":"IF('sd paste'!B228=\"\",\"\",'sd paste'!B228)","v":"A"},{"$f":"IF('sd paste'!C228=\"\",\"\",'sd paste'!C228)","v":5027},{"$f":"IF('sd paste'!E228=\"\",\"\",'sd paste'!E228)","v":"vkp227"},{"$f":"IF('sd paste'!G228=\"\",\"\",'sd paste'!G228)","v":"vk"},{"$f":"IF('sd paste'!H228=\"\",\"\",'sd paste'!H228)","v":"vkk"},{"$f":"IF('sd paste'!J228=\"\",\"\",'sd paste'!J228)","v":"2019-02-12"},{"$f":"IF('sd paste'!V228=\"\",\"\",'sd paste'!V228)","v":9828120923}]
[228,{"$f":"IF('sd paste'!A229=\"\",\"\",'sd paste'!A229)","v":8},{"$f":"IF('sd paste'!B229=\"\",\"\",'sd paste'!B229)","v":"A"},{"$f":"IF('sd paste'!C229=\"\",\"\",'sd paste'!C229)","v":4926},{"$f":"IF('sd paste'!E229=\"\",\"\",'sd paste'!E229)","v":"vkp228"},{"$f":"IF('sd paste'!G229=\"\",\"\",'sd paste'!G229)","v":"vk"},{"$f":"IF('sd paste'!H229=\"\",\"\",'sd paste'!H229)","v":"vkk"},{"$f":"IF('sd paste'!J229=\"\",\"\",'sd paste'!J229)","v":"2019-02-13"},{"$f":"IF('sd paste'!V229=\"\",\"\",'sd paste'!V229)","v":9828120924}]
[229,{"$f":"IF('sd paste'!A230=\"\",\"\",'sd paste'!A230)","v":8},{"$f":"IF('sd paste'!B230=\"\",\"\",'sd paste'!B230)","v":"A"},{"$f":"IF('sd paste'!C230=\"\",\"\",'sd paste'!C230)","v":4256},{"$f":"IF('sd paste'!E230=\"\",\"\",'sd paste'!E230)","v":"vkp229"},{"$f":"IF('sd paste'!G230=\"\",\"\",'sd paste'!G230)","v":"vk"},{"$f":"IF('sd paste'!H230=\"\",\"\",'sd paste'!H230)","v":"vkk"},{"$f":"IF('sd paste'!J230=\"\",\"\",'sd paste'!J230)","v":"2019-02-14"},{"$f":"IF('sd paste'!V230=\"\",\"\",'sd paste'!V230)","v":9828120925}]
[230,{"$f":"IF('sd paste'!A231=\"\",\"\",'sd paste'!A231)","v":8},{"$f":"IF('sd paste'!B231=\"\",\"\",'sd paste'!B231)","v":"A"},{"$f":"IF('sd paste'!C231=\"\",\"\",'sd paste'!C231)","v":4960},{"$f":"IF('sd paste'!E231=\"\",\"\",'sd paste'!E231)","v":"vkp230"},{"$f":"IF('sd paste'!G231=\"\",\"\",'sd paste'!G231)","v":"vk"},{"$f":"IF('sd paste'!H231=\"\",\"\",'sd paste'!H231)","v":"vkk"},{"$f":"IF('sd paste'!J231=\"\",\"\",'sd paste'!J231)","v":"2019-02-15"},{"$f":"IF('sd paste'!V231=\"\",\"\",'sd paste'!V231)","v":9828120926}]
[231,{"$f":"IF('sd paste'!A232=\"\",\"\",'sd paste'!A232)","v":8},{"$f":"IF('sd paste'!B232=\"\",\"\",'sd paste'!B232)","v":"A"},{"$f":"IF('sd paste'!C232=\"\",\"\",'sd paste'!C232)","v":4102},{"$f":"IF('sd paste'!E232=\"\",\"\",'sd paste'!E232)","v":"vkp231"},{"$f":"IF('sd paste'!G232=\"\",\"\",'sd paste'!G232)","v":"vk"},{"$f":"IF('sd paste'!H232=\"\",\"\",'sd paste'!H232)","v":"vkk"},{"$f":"IF('sd paste'!J232=\"\",\"\",'sd paste'!J232)","v":"2019-02-16"},{"$f":"IF('sd paste'!V232=\"\",\"\",'sd paste'!V232)","v":9828120927}]
[232,{"$f":"IF('sd paste'!A233=\"\",\"\",'sd paste'!A233)","v":8},{"$f":"IF('sd paste'!B233=\"\",\"\",'sd paste'!B233)","v":"A"},{"$f":"IF('sd paste'!C233=\"\",\"\",'sd paste'!C233)","v":5229},{"$f":"IF('sd paste'!E233=\"\",\"\",'sd paste'!E233)","v":"vkp232"},{"$f":"IF('sd paste'!G233=\"\",\"\",'sd paste'!G233)","v":"vk"},{"$f":"IF('sd paste'!H233=\"\",\"\",'sd paste'!H233)","v":"vkk"},{"$f":"IF('sd paste'!J233=\"\",\"\",'sd paste'!J233)","v":"2019-02-17"},{"$f":"IF('sd paste'!V233=\"\",\"\",'sd paste'!V233)","v":9828120928}]
[233,{"$f":"IF('sd paste'!A234=\"\",\"\",'sd paste'!A234)","v":8},{"$f":"IF('sd paste'!B234=\"\",\"\",'sd paste'!B234)","v":"A"},{"$f":"IF('sd paste'!C234=\"\",\"\",'sd paste'!C234)","v":5330},{"$f":"IF('sd paste'!E234=\"\",\"\",'sd paste'!E234)","v":"vkp233"},{"$f":"IF('sd paste'!G234=\"\",\"\",'sd paste'!G234)","v":"vk"},{"$f":"IF('sd paste'!H234=\"\",\"\",'sd paste'!H234)","v":"vkk"},{"$f":"IF('sd paste'!J234=\"\",\"\",'sd paste'!J234)","v":"2019-02-18"},{"$f":"IF('sd paste'!V234=\"\",\"\",'sd paste'!V234)","v":9828120929}]
[234,{"$f":"IF('sd paste'!A235=\"\",\"\",'sd paste'!A235)","v":8},{"$f":"IF('sd paste'!B235=\"\",\"\",'sd paste'!B235)","v":"A"},{"$f":"IF('sd paste'!C235=\"\",\"\",'sd paste'!C235)","v":5266},{"$f":"IF('sd paste'!E235=\"\",\"\",'sd paste'!E235)","v":"vkp234"},{"$f":"IF('sd paste'!G235=\"\",\"\",'sd paste'!G235)","v":"vk"},{"$f":"IF('sd paste'!H235=\"\",\"\",'sd paste'!H235)","v":"vkk"},{"$f":"IF('sd paste'!J235=\"\",\"\",'sd paste'!J235)","v":"2019-02-19"},{"$f":"IF('sd paste'!V235=\"\",\"\",'sd paste'!V235)","v":9828120930}]
[235,{"$f":"IF('sd paste'!A236=\"\",\"\",'sd paste'!A236)","v":8},{"$f":"IF('sd paste'!B236=\"\",\"\",'sd paste'!B236)","v":"A"},{"$f":"IF('sd paste'!C236=\"\",\"\",'sd paste'!C236)","v":4501},{"$f":"IF('sd paste'!E236=\"\",\"\",'sd paste'!E236)","v":"vkp235"},{"$f":"IF('sd paste'!G236=\"\",\"\",'sd paste'!G236)","v":"vk"},{"$f":"IF('sd paste'!H236=\"\",\"\",'sd paste'!H236)","v":"vkk"},{"$f":"IF('sd paste'!J236=\"\",\"\",'sd paste'!J236)","v":"2019-02-20"},{"$f":"IF('sd paste'!V236=\"\",\"\",'sd paste'!V236)","v":9828120931}]
[236,{"$f":"IF('sd paste'!A237=\"\",\"\",'sd paste'!A237)","v":8},{"$f":"IF('sd paste'!B237=\"\",\"\",'sd paste'!B237)","v":"A"},{"$f":"IF('sd paste'!C237=\"\",\"\",'sd paste'!C237)","v":5130},{"$f":"IF('sd paste'!E237=\"\",\"\",'sd paste'!E237)","v":"vkp236"},{"$f":"IF('sd paste'!G237=\"\",\"\",'sd paste'!G237)","v":"vk"},{"$f":"IF('sd paste'!H237=\"\",\"\",'sd paste'!H237)","v":"vkk"},{"$f":"IF('sd paste'!J237=\"\",\"\",'sd paste'!J237)","v":"2019-02-21"},{"$f":"IF('sd paste'!V237=\"\",\"\",'sd paste'!V237)","v":9828120932}]
[237,{"$f":"IF('sd paste'!A238=\"\",\"\",'sd paste'!A238)","v":8},{"$f":"IF('sd paste'!B238=\"\",\"\",'sd paste'!B238)","v":"A"},{"$f":"IF('sd paste'!C238=\"\",\"\",'sd paste'!C238)","v":4990},{"$f":"IF('sd paste'!E238=\"\",\"\",'sd paste'!E238)","v":"vkp237"},{"$f":"IF('sd paste'!G238=\"\",\"\",'sd paste'!G238)","v":"vk"},{"$f":"IF('sd paste'!H238=\"\",\"\",'sd paste'!H238)","v":"vkk"},{"$f":"IF('sd paste'!J238=\"\",\"\",'sd paste'!J238)","v":"2019-02-22"},{"$f":"IF('sd paste'!V238=\"\",\"\",'sd paste'!V238)","v":9828120933}]
[238,{"$f":"IF('sd paste'!A239=\"\",\"\",'sd paste'!A239)","v":9},{"$f":"IF('sd paste'!B239=\"\",\"\",'sd paste'!B239)","v":"A"},{"$f":"IF('sd paste'!C239=\"\",\"\",'sd paste'!C239)","v":4714},{"$f":"IF('sd paste'!E239=\"\",\"\",'sd paste'!E239)","v":"vkp238"},{"$f":"IF('sd paste'!G239=\"\",\"\",'sd paste'!G239)","v":"vk"},{"$f":"IF('sd paste'!H239=\"\",\"\",'sd paste'!H239)","v":"vkk"},{"$f":"IF('sd paste'!J239=\"\",\"\",'sd paste'!J239)","v":"2019-02-23"},{"$f":"IF('sd paste'!V239=\"\",\"\",'sd paste'!V239)","v":9828120934}]
[239,{"$f":"IF('sd paste'!A240=\"\",\"\",'sd paste'!A240)","v":9},{"$f":"IF('sd paste'!B240=\"\",\"\",'sd paste'!B240)","v":"A"},{"$f":"IF('sd paste'!C240=\"\",\"\",'sd paste'!C240)","v":4609},{"$f":"IF('sd paste'!E240=\"\",\"\",'sd paste'!E240)","v":"vkp239"},{"$f":"IF('sd paste'!G240=\"\",\"\",'sd paste'!G240)","v":"vk"},{"$f":"IF('sd paste'!H240=\"\",\"\",'sd paste'!H240)","v":"vkk"},{"$f":"IF('sd paste'!J240=\"\",\"\",'sd paste'!J240)","v":"2019-02-24"},{"$f":"IF('sd paste'!V240=\"\",\"\",'sd paste'!V240)","v":9828120935}]
[240,{"$f":"IF('sd paste'!A241=\"\",\"\",'sd paste'!A241)","v":9},{"$f":"IF('sd paste'!B241=\"\",\"\",'sd paste'!B241)","v":"A"},{"$f":"IF('sd paste'!C241=\"\",\"\",'sd paste'!C241)","v":5110},{"$f":"IF('sd paste'!E241=\"\",\"\",'sd paste'!E241)","v":"vkp240"},{"$f":"IF('sd paste'!G241=\"\",\"\",'sd paste'!G241)","v":"vk"},{"$f":"IF('sd paste'!H241=\"\",\"\",'sd paste'!H241)","v":"vkk"},{"$f":"IF('sd paste'!J241=\"\",\"\",'sd paste'!J241)","v":"2019-02-25"},{"$f":"IF('sd paste'!V241=\"\",\"\",'sd paste'!V241)","v":9828120936}]
[241,{"$f":"IF('sd paste'!A242=\"\",\"\",'sd paste'!A242)","v":9},{"$f":"IF('sd paste'!B242=\"\",\"\",'sd paste'!B242)","v":"A"},{"$f":"IF('sd paste'!C242=\"\",\"\",'sd paste'!C242)","v":4927},{"$f":"IF('sd paste'!E242=\"\",\"\",'sd paste'!E242)","v":"vkp241"},{"$f":"IF('sd paste'!G242=\"\",\"\",'sd paste'!G242)","v":"vk"},{"$f":"IF('sd paste'!H242=\"\",\"\",'sd paste'!H242)","v":"vkk"},{"$f":"IF('sd paste'!J242=\"\",\"\",'sd paste'!J242)","v":"2019-02-26"},{"$f":"IF('sd paste'!V242=\"\",\"\",'sd paste'!V242)","v":9828120937}]
[242,{"$f":"IF('sd paste'!A243=\"\",\"\",'sd paste'!A243)","v":9},{"$f":"IF('sd paste'!B243=\"\",\"\",'sd paste'!B243)","v":"A"},{"$f":"IF('sd paste'!C243=\"\",\"\",'sd paste'!C243)","v":5005},{"$f":"IF('sd paste'!E243=\"\",\"\",'sd paste'!E243)","v":"vkp242"},{"$f":"IF('sd paste'!G243=\"\",\"\",'sd paste'!G243)","v":"vk"},{"$f":"IF('sd paste'!H243=\"\",\"\",'sd paste'!H243)","v":"vkk"},{"$f":"IF('sd paste'!J243=\"\",\"\",'sd paste'!J243)","v":"2019-02-27"},{"$f":"IF('sd paste'!V243=\"\",\"\",'sd paste'!V243)","v":9828120938}]
[243,{"$f":"IF('sd paste'!A244=\"\",\"\",'sd paste'!A244)","v":9},{"$f":"IF('sd paste'!B244=\"\",\"\",'sd paste'!B244)","v":"A"},{"$f":"IF('sd paste'!C244=\"\",\"\",'sd paste'!C244)","v":4876},{"$f":"IF('sd paste'!E244=\"\",\"\",'sd paste'!E244)","v":"vkp243"},{"$f":"IF('sd paste'!G244=\"\",\"\",'sd paste'!G244)","v":"vk"},{"$f":"IF('sd paste'!H244=\"\",\"\",'sd paste'!H244)","v":"vkk"},{"$f":"IF('sd paste'!J244=\"\",\"\",'sd paste'!J244)","v":"2019-02-28"},{"$f":"IF('sd paste'!V244=\"\",\"\",'sd paste'!V244)","v":9828120939}]
[244,{"$f":"IF('sd paste'!A245=\"\",\"\",'sd paste'!A245)","v":9},{"$f":"IF('sd paste'!B245=\"\",\"\",'sd paste'!B245)","v":"A"},{"$f":"IF('sd paste'!C245=\"\",\"\",'sd paste'!C245)","v":5389},{"$f":"IF('sd paste'!E245=\"\",\"\",'sd paste'!E245)","v":"vkp244"},{"$f":"IF('sd paste'!G245=\"\",\"\",'sd paste'!G245)","v":"vk"},{"$f":"IF('sd paste'!H245=\"\",\"\",'sd paste'!H245)","v":"vkk"},{"$f":"IF('sd paste'!J245=\"\",\"\",'sd paste'!J245)","v":"2019-03-01"},{"$f":"IF('sd paste'!V245=\"\",\"\",'sd paste'!V245)","v":9828120940}]
[245,{"$f":"IF('sd paste'!A246=\"\",\"\",'sd paste'!A246)","v":9},{"$f":"IF('sd paste'!B246=\"\",\"\",'sd paste'!B246)","v":"A"},{"$f":"IF('sd paste'!C246=\"\",\"\",'sd paste'!C246)","v":4440},{"$f":"IF('sd paste'!E246=\"\",\"\",'sd paste'!E246)","v":"vkp245"},{"$f":"IF('sd paste'!G246=\"\",\"\",'sd paste'!G246)","v":"vk"},{"$f":"IF('sd paste'!H246=\"\",\"\",'sd paste'!H246)","v":"vkk"},{"$f":"IF('sd paste'!J246=\"\",\"\",'sd paste'!J246)","v":"2019-03-02"},{"$f":"IF('sd paste'!V246=\"\",\"\",'sd paste'!V246)","v":9828120941}]
[246,{"$f":"IF('sd paste'!A247=\"\",\"\",'sd paste'!A247)","v":9},{"$f":"IF('sd paste'!B247=\"\",\"\",'sd paste'!B247)","v":"A"},{"$f":"IF('sd paste'!C247=\"\",\"\",'sd paste'!C247)","v":5305},{"$f":"IF('sd paste'!E247=\"\",\"\",'sd paste'!E247)","v":"vkp246"},{"$f":"IF('sd paste'!G247=\"\",\"\",'sd paste'!G247)","v":"vk"},{"$f":"IF('sd paste'!H247=\"\",\"\",'sd paste'!H247)","v":"vkk"},{"$f":"IF('sd paste'!J247=\"\",\"\",'sd paste'!J247)","v":"2019-03-03"},{"$f":"IF('sd paste'!V247=\"\",\"\",'sd paste'!V247)","v":9828120942}]
[247,{"$f":"IF('sd paste'!A248=\"\",\"\",'sd paste'!A248)","v":9},{"$f":"IF('sd paste'!B248=\"\",\"\",'sd paste'!B248)","v":"A"},{"$f":"IF('sd paste'!C248=\"\",\"\",'sd paste'!C248)","v":4905},{"$f":"IF('sd paste'!E248=\"\",\"\",'sd paste'!E248)","v":"vkp247"},{"$f":"IF('sd paste'!G248=\"\",\"\",'sd paste'!G248)","v":"vk"},{"$f":"IF('sd paste'!H248=\"\",\"\",'sd paste'!H248)","v":"vkk"},{"$f":"IF('sd paste'!J248=\"\",\"\",'sd paste'!J248)","v":"2019-03-04"},{"$f":"IF('sd paste'!V248=\"\",\"\",'sd paste'!V248)","v":9828120943}]
[248,{"$f":"IF('sd paste'!A249=\"\",\"\",'sd paste'!A249)","v":9},{"$f":"IF('sd paste'!B249=\"\",\"\",'sd paste'!B249)","v":"A"},{"$f":"IF('sd paste'!C249=\"\",\"\",'sd paste'!C249)","v":4987},{"$f":"IF('sd paste'!E249=\"\",\"\",'sd paste'!E249)","v":"vkp248"},{"$f":"IF('sd paste'!G249=\"\",\"\",'sd paste'!G249)","v":"vk"},{"$f":"IF('sd paste'!H249=\"\",\"\",'sd paste'!H249)","v":"vkk"},{"$f":"IF('sd paste'!J249=\"\",\"\",'sd paste'!J249)","v":"2019-03-05"},{"$f":"IF('sd paste'!V249=\"\",\"\",'sd paste'!V249)","v":9828120944}]
[249,{"$f":"IF('sd paste'!A250=\"\",\"\",'sd paste'!A250)","v":9},{"$f":"IF('sd paste'!B250=\"\",\"\",'sd paste'!B250)","v":"A"},{"$f":"IF('sd paste'!C250=\"\",\"\",'sd paste'!C250)","v":5437},{"$f":"IF('sd paste'!E250=\"\",\"\",'sd paste'!E250)","v":"vkp249"},{"$f":"IF('sd paste'!G250=\"\",\"\",'sd paste'!G250)","v":"vk"},{"$f":"IF('sd paste'!H250=\"\",\"\",'sd paste'!H250)","v":"vkk"},{"$f":"IF('sd paste'!J250=\"\",\"\",'sd paste'!J250)","v":"2019-03-06"},{"$f":"IF('sd paste'!V250=\"\",\"\",'sd paste'!V250)","v":9828120945}]
[250,{"$f":"IF('sd paste'!A251=\"\",\"\",'sd paste'!A251)","v":9},{"$f":"IF('sd paste'!B251=\"\",\"\",'sd paste'!B251)","v":"A"},{"$f":"IF('sd paste'!C251=\"\",\"\",'sd paste'!C251)","v":5348},{"$f":"IF('sd paste'!E251=\"\",\"\",'sd paste'!E251)","v":"vkp250"},{"$f":"IF('sd paste'!G251=\"\",\"\",'sd paste'!G251)","v":"vk"},{"$f":"IF('sd paste'!H251=\"\",\"\",'sd paste'!H251)","v":"vkk"},{"$f":"IF('sd paste'!J251=\"\",\"\",'sd paste'!J251)","v":"2019-03-07"},{"$f":"IF('sd paste'!V251=\"\",\"\",'sd paste'!V251)","v":9828120946}]
[251,{"$f":"IF('sd paste'!A252=\"\",\"\",'sd paste'!A252)","v":9},{"$f":"IF('sd paste'!B252=\"\",\"\",'sd paste'!B252)","v":"A"},{"$f":"IF('sd paste'!C252=\"\",\"\",'sd paste'!C252)","v":5432},{"$f":"IF('sd paste'!E252=\"\",\"\",'sd paste'!E252)","v":"vkp251"},{"$f":"IF('sd paste'!G252=\"\",\"\",'sd paste'!G252)","v":"vk"},{"$f":"IF('sd paste'!H252=\"\",\"\",'sd paste'!H252)","v":"vkk"},{"$f":"IF('sd paste'!J252=\"\",\"\",'sd paste'!J252)","v":"2019-03-08"},{"$f":"IF('sd paste'!V252=\"\",\"\",'sd paste'!V252)","v":9828120947}]
[252,{"$f":"IF('sd paste'!A253=\"\",\"\",'sd paste'!A253)","v":9},{"$f":"IF('sd paste'!B253=\"\",\"\",'sd paste'!B253)","v":"A"},{"$f":"IF('sd paste'!C253=\"\",\"\",'sd paste'!C253)","v":5077},{"$f":"IF('sd paste'!E253=\"\",\"\",'sd paste'!E253)","v":"vkp252"},{"$f":"IF('sd paste'!G253=\"\",\"\",'sd paste'!G253)","v":"vk"},{"$f":"IF('sd paste'!H253=\"\",\"\",'sd paste'!H253)","v":"vkk"},{"$f":"IF('sd paste'!J253=\"\",\"\",'sd paste'!J253)","v":"2019-03-09"},{"$f":"IF('sd paste'!V253=\"\",\"\",'sd paste'!V253)","v":9828120948}]
[253,{"$f":"IF('sd paste'!A254=\"\",\"\",'sd paste'!A254)","v":9},{"$f":"IF('sd paste'!B254=\"\",\"\",'sd paste'!B254)","v":"A"},{"$f":"IF('sd paste'!C254=\"\",\"\",'sd paste'!C254)","v":5343},{"$f":"IF('sd paste'!E254=\"\",\"\",'sd paste'!E254)","v":"vkp253"},{"$f":"IF('sd paste'!G254=\"\",\"\",'sd paste'!G254)","v":"vk"},{"$f":"IF('sd paste'!H254=\"\",\"\",'sd paste'!H254)","v":"vkk"},{"$f":"IF('sd paste'!J254=\"\",\"\",'sd paste'!J254)","v":"2019-03-10"},{"$f":"IF('sd paste'!V254=\"\",\"\",'sd paste'!V254)","v":9828120949}]
[254,{"$f":"IF('sd paste'!A255=\"\",\"\",'sd paste'!A255)","v":9},{"$f":"IF('sd paste'!B255=\"\",\"\",'sd paste'!B255)","v":"A"},{"$f":"IF('sd paste'!C255=\"\",\"\",'sd paste'!C255)","v":5367},{"$f":"IF('sd paste'!E255=\"\",\"\",'sd paste'!E255)","v":"vkp254"},{"$f":"IF('sd paste'!G255=\"\",\"\",'sd paste'!G255)","v":"vk"},{"$f":"IF('sd paste'!H255=\"\",\"\",'sd paste'!H255)","v":"vkk"},{"$f":"IF('sd paste'!J255=\"\",\"\",'sd paste'!J255)","v":"2019-03-11"},{"$f":"IF('sd paste'!V255=\"\",\"\",'sd paste'!V255)","v":9828120950}]
[255,{"$f":"IF('sd paste'!A256=\"\",\"\",'sd paste'!A256)","v":9},{"$f":"IF('sd paste'!B256=\"\",\"\",'sd paste'!B256)","v":"A"},{"$f":"IF('sd paste'!C256=\"\",\"\",'sd paste'!C256)","v":5445},{"$f":"IF('sd paste'!E256=\"\",\"\",'sd paste'!E256)","v":"vkp255"},{"$f":"IF('sd paste'!G256=\"\",\"\",'sd paste'!G256)","v":"vk"},{"$f":"IF('sd paste'!H256=\"\",\"\",'sd paste'!H256)","v":"vkk"},{"$f":"IF('sd paste'!J256=\"\",\"\",'sd paste'!J256)","v":"2019-03-12"},{"$f":"IF('sd paste'!V256=\"\",\"\",'sd paste'!V256)","v":9828120951}]
[256,{"$f":"IF('sd paste'!A257=\"\",\"\",'sd paste'!A257)","v":9},{"$f":"IF('sd paste'!B257=\"\",\"\",'sd paste'!B257)","v":"A"},{"$f":"IF('sd paste'!C257=\"\",\"\",'sd paste'!C257)","v":4819},{"$f":"IF('sd paste'!E257=\"\",\"\",'sd paste'!E257)","v":"vkp256"},{"$f":"IF('sd paste'!G257=\"\",\"\",'sd paste'!G257)","v":"vk"},{"$f":"IF('sd paste'!H257=\"\",\"\",'sd paste'!H257)","v":"vkk"},{"$f":"IF('sd paste'!J257=\"\",\"\",'sd paste'!J257)","v":"2019-03-13"},{"$f":"IF('sd paste'!V257=\"\",\"\",'sd paste'!V257)","v":9828120952}]
[257,{"$f":"IF('sd paste'!A258=\"\",\"\",'sd paste'!A258)","v":9},{"$f":"IF('sd paste'!B258=\"\",\"\",'sd paste'!B258)","v":"A"},{"$f":"IF('sd paste'!C258=\"\",\"\",'sd paste'!C258)","v":5427},{"$f":"IF('sd paste'!E258=\"\",\"\",'sd paste'!E258)","v":"vkp257"},{"$f":"IF('sd paste'!G258=\"\",\"\",'sd paste'!G258)","v":"vk"},{"$f":"IF('sd paste'!H258=\"\",\"\",'sd paste'!H258)","v":"vkk"},{"$f":"IF('sd paste'!J258=\"\",\"\",'sd paste'!J258)","v":"2019-03-14"},{"$f":"IF('sd paste'!V258=\"\",\"\",'sd paste'!V258)","v":9828120953}]
[{"$f":"IF(F263=\"\",\"\",ROW(258:258))","v":258},{"$f":"IF('sd paste'!A259=\"\",\"\",'sd paste'!A259)","v":9},{"$f":"IF('sd paste'!B259=\"\",\"\",'sd paste'!B259)","v":"A"},{"$f":"IF('sd paste'!C259=\"\",\"\",'sd paste'!C259)","v":5354},{"$f":"IF('sd paste'!E259=\"\",\"\",'sd paste'!E259)","v":"vkp258"},{"$f":"IF('sd paste'!G259=\"\",\"\",'sd paste'!G259)","v":"vk"},{"$f":"IF('sd paste'!H259=\"\",\"\",'sd paste'!H259)","v":"vkk"},{"$f":"IF('sd paste'!J259=\"\",\"\",'sd paste'!J259)","v":"2019-03-15"},{"$f":"IF('sd paste'!V259=\"\",\"\",'sd paste'!V259)","v":9828120954}]
[259,{"$f":"IF('sd paste'!A260=\"\",\"\",'sd paste'!A260)","v":9},{"$f":"IF('sd paste'!B260=\"\",\"\",'sd paste'!B260)","v":"A"},{"$f":"IF('sd paste'!C260=\"\",\"\",'sd paste'!C260)","v":5384},{"$f":"IF('sd paste'!E260=\"\",\"\",'sd paste'!E260)","v":"vkp259"},{"$f":"IF('sd paste'!G260=\"\",\"\",'sd paste'!G260)","v":"vk"},{"$f":"IF('sd paste'!H260=\"\",\"\",'sd paste'!H260)","v":"vkk"},{"$f":"IF('sd paste'!J260=\"\",\"\",'sd paste'!J260)","v":"2019-03-16"},{"$f":"IF('sd paste'!V260=\"\",\"\",'sd paste'!V260)","v":9828120955}]
[260,{"$f":"IF('sd paste'!A261=\"\",\"\",'sd paste'!A261)","v":9},{"$f":"IF('sd paste'!B261=\"\",\"\",'sd paste'!B261)","v":"A"},{"$f":"IF('sd paste'!C261=\"\",\"\",'sd paste'!C261)","v":5368},{"$f":"IF('sd paste'!E261=\"\",\"\",'sd paste'!E261)","v":"vkp260"},{"$f":"IF('sd paste'!G261=\"\",\"\",'sd paste'!G261)","v":"vk"},{"$f":"IF('sd paste'!H261=\"\",\"\",'sd paste'!H261)","v":"vkk"},{"$f":"IF('sd paste'!J261=\"\",\"\",'sd paste'!J261)","v":"2019-03-17"},{"$f":"IF('sd paste'!V261=\"\",\"\",'sd paste'!V261)","v":9828120956}]
[261,{"$f":"IF('sd paste'!A262=\"\",\"\",'sd paste'!A262)","v":9},{"$f":"IF('sd paste'!B262=\"\",\"\",'sd paste'!B262)","v":"A"},{"$f":"IF('sd paste'!C262=\"\",\"\",'sd paste'!C262)","v":5378},{"$f":"IF('sd paste'!E262=\"\",\"\",'sd paste'!E262)","v":"vkp261"},{"$f":"IF('sd paste'!G262=\"\",\"\",'sd paste'!G262)","v":"vk"},{"$f":"IF('sd paste'!H262=\"\",\"\",'sd paste'!H262)","v":"vkk"},{"$f":"IF('sd paste'!J262=\"\",\"\",'sd paste'!J262)","v":"2019-03-18"},{"$f":"IF('sd paste'!V262=\"\",\"\",'sd paste'!V262)","v":9828120957}]
[262,{"$f":"IF('sd paste'!A263=\"\",\"\",'sd paste'!A263)","v":9},{"$f":"IF('sd paste'!B263=\"\",\"\",'sd paste'!B263)","v":"A"},{"$f":"IF('sd paste'!C263=\"\",\"\",'sd paste'!C263)","v":5331},{"$f":"IF('sd paste'!E263=\"\",\"\",'sd paste'!E263)","v":"vkp262"},{"$f":"IF('sd paste'!G263=\"\",\"\",'sd paste'!G263)","v":"vk"},{"$f":"IF('sd paste'!H263=\"\",\"\",'sd paste'!H263)","v":"vkk"},{"$f":"IF('sd paste'!J263=\"\",\"\",'sd paste'!J263)","v":"2019-03-19"},{"$f":"IF('sd paste'!V263=\"\",\"\",'sd paste'!V263)","v":9828120958}]
[263,{"$f":"IF('sd paste'!A264=\"\",\"\",'sd paste'!A264)","v":9},{"$f":"IF('sd paste'!B264=\"\",\"\",'sd paste'!B264)","v":"A"},{"$f":"IF('sd paste'!C264=\"\",\"\",'sd paste'!C264)","v":5328},{"$f":"IF('sd paste'!E264=\"\",\"\",'sd paste'!E264)","v":"vkp263"},{"$f":"IF('sd paste'!G264=\"\",\"\",'sd paste'!G264)","v":"vk"},{"$f":"IF('sd paste'!H264=\"\",\"\",'sd paste'!H264)","v":"vkk"},{"$f":"IF('sd paste'!J264=\"\",\"\",'sd paste'!J264)","v":"2019-03-20"},{"$f":"IF('sd paste'!V264=\"\",\"\",'sd paste'!V264)","v":9828120959}]
[264,{"$f":"IF('sd paste'!A265=\"\",\"\",'sd paste'!A265)","v":9},{"$f":"IF('sd paste'!B265=\"\",\"\",'sd paste'!B265)","v":"A"},{"$f":"IF('sd paste'!C265=\"\",\"\",'sd paste'!C265)","v":5227},{"$f":"IF('sd paste'!E265=\"\",\"\",'sd paste'!E265)","v":"vkp264"},{"$f":"IF('sd paste'!G265=\"\",\"\",'sd paste'!G265)","v":"vk"},{"$f":"IF('sd paste'!H265=\"\",\"\",'sd paste'!H265)","v":"vkk"},{"$f":"IF('sd paste'!J265=\"\",\"\",'sd paste'!J265)","v":"2019-03-21"},{"$f":"IF('sd paste'!V265=\"\",\"\",'sd paste'!V265)","v":9828120960}]
[265,{"$f":"IF('sd paste'!A266=\"\",\"\",'sd paste'!A266)","v":9},{"$f":"IF('sd paste'!B266=\"\",\"\",'sd paste'!B266)","v":"A"},{"$f":"IF('sd paste'!C266=\"\",\"\",'sd paste'!C266)","v":4443},{"$f":"IF('sd paste'!E266=\"\",\"\",'sd paste'!E266)","v":"vkp265"},{"$f":"IF('sd paste'!G266=\"\",\"\",'sd paste'!G266)","v":"vk"},{"$f":"IF('sd paste'!H266=\"\",\"\",'sd paste'!H266)","v":"vkk"},{"$f":"IF('sd paste'!J266=\"\",\"\",'sd paste'!J266)","v":"2019-03-22"},{"$f":"IF('sd paste'!V266=\"\",\"\",'sd paste'!V266)","v":9828120961}]
[266,{"$f":"IF('sd paste'!A267=\"\",\"\",'sd paste'!A267)","v":9},{"$f":"IF('sd paste'!B267=\"\",\"\",'sd paste'!B267)","v":"A"},{"$f":"IF('sd paste'!C267=\"\",\"\",'sd paste'!C267)","v":5370},{"$f":"IF('sd paste'!E267=\"\",\"\",'sd paste'!E267)","v":"vkp266"},{"$f":"IF('sd paste'!G267=\"\",\"\",'sd paste'!G267)","v":"vk"},{"$f":"IF('sd paste'!H267=\"\",\"\",'sd paste'!H267)","v":"vkk"},{"$f":"IF('sd paste'!J267=\"\",\"\",'sd paste'!J267)","v":"2019-03-23"},{"$f":"IF('sd paste'!V267=\"\",\"\",'sd paste'!V267)","v":9828120962}]
[267,{"$f":"IF('sd paste'!A268=\"\",\"\",'sd paste'!A268)","v":9},{"$f":"IF('sd paste'!B268=\"\",\"\",'sd paste'!B268)","v":"A"},{"$f":"IF('sd paste'!C268=\"\",\"\",'sd paste'!C268)","v":5211},{"$f":"IF('sd paste'!E268=\"\",\"\",'sd paste'!E268)","v":"vkp267"},{"$f":"IF('sd paste'!G268=\"\",\"\",'sd paste'!G268)","v":"vk"},{"$f":"IF('sd paste'!H268=\"\",\"\",'sd paste'!H268)","v":"vkk"},{"$f":"IF('sd paste'!J268=\"\",\"\",'sd paste'!J268)","v":"2019-03-24"},{"$f":"IF('sd paste'!V268=\"\",\"\",'sd paste'!V268)","v":9828120963}]
[268,{"$f":"IF('sd paste'!A269=\"\",\"\",'sd paste'!A269)","v":9},{"$f":"IF('sd paste'!B269=\"\",\"\",'sd paste'!B269)","v":"A"},{"$f":"IF('sd paste'!C269=\"\",\"\",'sd paste'!C269)","v":4515},{"$f":"IF('sd paste'!E269=\"\",\"\",'sd paste'!E269)","v":"vkp268"},{"$f":"IF('sd paste'!G269=\"\",\"\",'sd paste'!G269)","v":"vk"},{"$f":"IF('sd paste'!H269=\"\",\"\",'sd paste'!H269)","v":"vkk"},{"$f":"IF('sd paste'!J269=\"\",\"\",'sd paste'!J269)","v":"2019-03-25"},{"$f":"IF('sd paste'!V269=\"\",\"\",'sd paste'!V269)","v":9828120964}]
[269,{"$f":"IF('sd paste'!A270=\"\",\"\",'sd paste'!A270)","v":9},{"$f":"IF('sd paste'!B270=\"\",\"\",'sd paste'!B270)","v":"A"},{"$f":"IF('sd paste'!C270=\"\",\"\",'sd paste'!C270)","v":4697},{"$f":"IF('sd paste'!E270=\"\",\"\",'sd paste'!E270)","v":"vkp269"},{"$f":"IF('sd paste'!G270=\"\",\"\",'sd paste'!G270)","v":"vk"},{"$f":"IF('sd paste'!H270=\"\",\"\",'sd paste'!H270)","v":"vkk"},{"$f":"IF('sd paste'!J270=\"\",\"\",'sd paste'!J270)","v":"2019-03-26"},{"$f":"IF('sd paste'!V270=\"\",\"\",'sd paste'!V270)","v":9828120965}]
[270,{"$f":"IF('sd paste'!A271=\"\",\"\",'sd paste'!A271)","v":9},{"$f":"IF('sd paste'!B271=\"\",\"\",'sd paste'!B271)","v":"A"},{"$f":"IF('sd paste'!C271=\"\",\"\",'sd paste'!C271)","v":4892},{"$f":"IF('sd paste'!E271=\"\",\"\",'sd paste'!E271)","v":"vkp270"},{"$f":"IF('sd paste'!G271=\"\",\"\",'sd paste'!G271)","v":"vk"},{"$f":"IF('sd paste'!H271=\"\",\"\",'sd paste'!H271)","v":"vkk"},{"$f":"IF('sd paste'!J271=\"\",\"\",'sd paste'!J271)","v":"2019-03-27"},{"$f":"IF('sd paste'!V271=\"\",\"\",'sd paste'!V271)","v":9828120966}]
[271,{"$f":"IF('sd paste'!A272=\"\",\"\",'sd paste'!A272)","v":9},{"$f":"IF('sd paste'!B272=\"\",\"\",'sd paste'!B272)","v":"A"},{"$f":"IF('sd paste'!C272=\"\",\"\",'sd paste'!C272)","v":5392},{"$f":"IF('sd paste'!E272=\"\",\"\",'sd paste'!E272)","v":"vkp271"},{"$f":"IF('sd paste'!G272=\"\",\"\",'sd paste'!G272)","v":"vk"},{"$f":"IF('sd paste'!H272=\"\",\"\",'sd paste'!H272)","v":"vkk"},{"$f":"IF('sd paste'!J272=\"\",\"\",'sd paste'!J272)","v":"2019-03-28"},{"$f":"IF('sd paste'!V272=\"\",\"\",'sd paste'!V272)","v":9828120967}]
[272,{"$f":"IF('sd paste'!A273=\"\",\"\",'sd paste'!A273)","v":9},{"$f":"IF('sd paste'!B273=\"\",\"\",'sd paste'!B273)","v":"A"},{"$f":"IF('sd paste'!C273=\"\",\"\",'sd paste'!C273)","v":5245},{"$f":"IF('sd paste'!E273=\"\",\"\",'sd paste'!E273)","v":"vkp272"},{"$f":"IF('sd paste'!G273=\"\",\"\",'sd paste'!G273)","v":"vk"},{"$f":"IF('sd paste'!H273=\"\",\"\",'sd paste'!H273)","v":"vkk"},{"$f":"IF('sd paste'!J273=\"\",\"\",'sd paste'!J273)","v":"2019-03-29"},{"$f":"IF('sd paste'!V273=\"\",\"\",'sd paste'!V273)","v":9828120968}]
[273,{"$f":"IF('sd paste'!A274=\"\",\"\",'sd paste'!A274)","v":9},{"$f":"IF('sd paste'!B274=\"\",\"\",'sd paste'!B274)","v":"A"},{"$f":"IF('sd paste'!C274=\"\",\"\",'sd paste'!C274)","v":4792},{"$f":"IF('sd paste'!E274=\"\",\"\",'sd paste'!E274)","v":"vkp273"},{"$f":"IF('sd paste'!G274=\"\",\"\",'sd paste'!G274)","v":"vk"},{"$f":"IF('sd paste'!H274=\"\",\"\",'sd paste'!H274)","v":"vkk"},{"$f":"IF('sd paste'!J274=\"\",\"\",'sd paste'!J274)","v":"2019-03-30"},{"$f":"IF('sd paste'!V274=\"\",\"\",'sd paste'!V274)","v":9828120969}]
[274,{"$f":"IF('sd paste'!A275=\"\",\"\",'sd paste'!A275)","v":9},{"$f":"IF('sd paste'!B275=\"\",\"\",'sd paste'!B275)","v":"A"},{"$f":"IF('sd paste'!C275=\"\",\"\",'sd paste'!C275)","v":5327},{"$f":"IF('sd paste'!E275=\"\",\"\",'sd paste'!E275)","v":"vkp274"},{"$f":"IF('sd paste'!G275=\"\",\"\",'sd paste'!G275)","v":"vk"},{"$f":"IF('sd paste'!H275=\"\",\"\",'sd paste'!H275)","v":"vkk"},{"$f":"IF('sd paste'!J275=\"\",\"\",'sd paste'!J275)","v":"2019-03-31"},{"$f":"IF('sd paste'!V275=\"\",\"\",'sd paste'!V275)","v":9828120970}]
[275,{"$f":"IF('sd paste'!A276=\"\",\"\",'sd paste'!A276)","v":9},{"$f":"IF('sd paste'!B276=\"\",\"\",'sd paste'!B276)","v":"A"},{"$f":"IF('sd paste'!C276=\"\",\"\",'sd paste'!C276)","v":5329},{"$f":"IF('sd paste'!E276=\"\",\"\",'sd paste'!E276)","v":"vkp275"},{"$f":"IF('sd paste'!G276=\"\",\"\",'sd paste'!G276)","v":"vk"},{"$f":"IF('sd paste'!H276=\"\",\"\",'sd paste'!H276)","v":"vkk"},{"$f":"IF('sd paste'!J276=\"\",\"\",'sd paste'!J276)","v":"2019-04-01"},{"$f":"IF('sd paste'!V276=\"\",\"\",'sd paste'!V276)","v":9828120971}]
[276,{"$f":"IF('sd paste'!A277=\"\",\"\",'sd paste'!A277)","v":9},{"$f":"IF('sd paste'!B277=\"\",\"\",'sd paste'!B277)","v":"A"},{"$f":"IF('sd paste'!C277=\"\",\"\",'sd paste'!C277)","v":4579},{"$f":"IF('sd paste'!E277=\"\",\"\",'sd paste'!E277)","v":"vkp276"},{"$f":"IF('sd paste'!G277=\"\",\"\",'sd paste'!G277)","v":"vk"},{"$f":"IF('sd paste'!H277=\"\",\"\",'sd paste'!H277)","v":"vkk"},{"$f":"IF('sd paste'!J277=\"\",\"\",'sd paste'!J277)","v":"2019-04-02"},{"$f":"IF('sd paste'!V277=\"\",\"\",'sd paste'!V277)","v":9828120972}]
[277,{"$f":"IF('sd paste'!A278=\"\",\"\",'sd paste'!A278)","v":9},{"$f":"IF('sd paste'!B278=\"\",\"\",'sd paste'!B278)","v":"A"},{"$f":"IF('sd paste'!C278=\"\",\"\",'sd paste'!C278)","v":3927},{"$f":"IF('sd paste'!E278=\"\",\"\",'sd paste'!E278)","v":"vkp277"},{"$f":"IF('sd paste'!G278=\"\",\"\",'sd paste'!G278)","v":"vk"},{"$f":"IF('sd paste'!H278=\"\",\"\",'sd paste'!H278)","v":"vkk"},{"$f":"IF('sd paste'!J278=\"\",\"\",'sd paste'!J278)","v":"2019-04-03"},{"$f":"IF('sd paste'!V278=\"\",\"\",'sd paste'!V278)","v":9828120973}]
[278,{"$f":"IF('sd paste'!A279=\"\",\"\",'sd paste'!A279)","v":9},{"$f":"IF('sd paste'!B279=\"\",\"\",'sd paste'!B279)","v":"A"},{"$f":"IF('sd paste'!C279=\"\",\"\",'sd paste'!C279)","v":4696},{"$f":"IF('sd paste'!E279=\"\",\"\",'sd paste'!E279)","v":"vkp278"},{"$f":"IF('sd paste'!G279=\"\",\"\",'sd paste'!G279)","v":"vk"},{"$f":"IF('sd paste'!H279=\"\",\"\",'sd paste'!H279)","v":"vkk"},{"$f":"IF('sd paste'!J279=\"\",\"\",'sd paste'!J279)","v":"2019-04-04"},{"$f":"IF('sd paste'!V279=\"\",\"\",'sd paste'!V279)","v":9828120974}]
[279,{"$f":"IF('sd paste'!A280=\"\",\"\",'sd paste'!A280)","v":9},{"$f":"IF('sd paste'!B280=\"\",\"\",'sd paste'!B280)","v":"A"},{"$f":"IF('sd paste'!C280=\"\",\"\",'sd paste'!C280)","v":3975},{"$f":"IF('sd paste'!E280=\"\",\"\",'sd paste'!E280)","v":"vkp279"},{"$f":"IF('sd paste'!G280=\"\",\"\",'sd paste'!G280)","v":"vk"},{"$f":"IF('sd paste'!H280=\"\",\"\",'sd paste'!H280)","v":"vkk"},{"$f":"IF('sd paste'!J280=\"\",\"\",'sd paste'!J280)","v":"2019-04-05"},{"$f":"IF('sd paste'!V280=\"\",\"\",'sd paste'!V280)","v":9828120975}]
[280,{"$f":"IF('sd paste'!A281=\"\",\"\",'sd paste'!A281)","v":9},{"$f":"IF('sd paste'!B281=\"\",\"\",'sd paste'!B281)","v":"A"},{"$f":"IF('sd paste'!C281=\"\",\"\",'sd paste'!C281)","v":5358},{"$f":"IF('sd paste'!E281=\"\",\"\",'sd paste'!E281)","v":"vkp280"},{"$f":"IF('sd paste'!G281=\"\",\"\",'sd paste'!G281)","v":"vk"},{"$f":"IF('sd paste'!H281=\"\",\"\",'sd paste'!H281)","v":"vkk"},{"$f":"IF('sd paste'!J281=\"\",\"\",'sd paste'!J281)","v":"2019-04-06"},{"$f":"IF('sd paste'!V281=\"\",\"\",'sd paste'!V281)","v":9828120976}]
[281,{"$f":"IF('sd paste'!A282=\"\",\"\",'sd paste'!A282)","v":9},{"$f":"IF('sd paste'!B282=\"\",\"\",'sd paste'!B282)","v":"A"},{"$f":"IF('sd paste'!C282=\"\",\"\",'sd paste'!C282)","v":5244},{"$f":"IF('sd paste'!E282=\"\",\"\",'sd paste'!E282)","v":"vkp281"},{"$f":"IF('sd paste'!G282=\"\",\"\",'sd paste'!G282)","v":"vk"},{"$f":"IF('sd paste'!H282=\"\",\"\",'sd paste'!H282)","v":"vkk"},{"$f":"IF('sd paste'!J282=\"\",\"\",'sd paste'!J282)","v":"2019-04-07"},{"$f":"IF('sd paste'!V282=\"\",\"\",'sd paste'!V282)","v":9828120977}]
[282,{"$f":"IF('sd paste'!A283=\"\",\"\",'sd paste'!A283)","v":9},{"$f":"IF('sd paste'!B283=\"\",\"\",'sd paste'!B283)","v":"A"},{"$f":"IF('sd paste'!C283=\"\",\"\",'sd paste'!C283)","v":5365},{"$f":"IF('sd paste'!E283=\"\",\"\",'sd paste'!E283)","v":"vkp282"},{"$f":"IF('sd paste'!G283=\"\",\"\",'sd paste'!G283)","v":"vk"},{"$f":"IF('sd paste'!H283=\"\",\"\",'sd paste'!H283)","v":"vkk"},{"$f":"IF('sd paste'!J283=\"\",\"\",'sd paste'!J283)","v":"2019-04-08"},{"$f":"IF('sd paste'!V283=\"\",\"\",'sd paste'!V283)","v":9828120978}]
[283,{"$f":"IF('sd paste'!A284=\"\",\"\",'sd paste'!A284)","v":9},{"$f":"IF('sd paste'!B284=\"\",\"\",'sd paste'!B284)","v":"A"},{"$f":"IF('sd paste'!C284=\"\",\"\",'sd paste'!C284)","v":3866},{"$f":"IF('sd paste'!E284=\"\",\"\",'sd paste'!E284)","v":"vkp283"},{"$f":"IF('sd paste'!G284=\"\",\"\",'sd paste'!G284)","v":"vk"},{"$f":"IF('sd paste'!H284=\"\",\"\",'sd paste'!H284)","v":"vkk"},{"$f":"IF('sd paste'!J284=\"\",\"\",'sd paste'!J284)","v":"2019-04-09"},{"$f":"IF('sd paste'!V284=\"\",\"\",'sd paste'!V284)","v":9828120979}]
[284,{"$f":"IF('sd paste'!A285=\"\",\"\",'sd paste'!A285)","v":9},{"$f":"IF('sd paste'!B285=\"\",\"\",'sd paste'!B285)","v":"A"},{"$f":"IF('sd paste'!C285=\"\",\"\",'sd paste'!C285)","v":5396},{"$f":"IF('sd paste'!E285=\"\",\"\",'sd paste'!E285)","v":"vkp284"},{"$f":"IF('sd paste'!G285=\"\",\"\",'sd paste'!G285)","v":"vk"},{"$f":"IF('sd paste'!H285=\"\",\"\",'sd paste'!H285)","v":"vkk"},{"$f":"IF('sd paste'!J285=\"\",\"\",'sd paste'!J285)","v":"2019-04-10"},{"$f":"IF('sd paste'!V285=\"\",\"\",'sd paste'!V285)","v":9828120980}]
[285,{"$f":"IF('sd paste'!A286=\"\",\"\",'sd paste'!A286)","v":9},{"$f":"IF('sd paste'!B286=\"\",\"\",'sd paste'!B286)","v":"A"},{"$f":"IF('sd paste'!C286=\"\",\"\",'sd paste'!C286)","v":5209},{"$f":"IF('sd paste'!E286=\"\",\"\",'sd paste'!E286)","v":"vkp285"},{"$f":"IF('sd paste'!G286=\"\",\"\",'sd paste'!G286)","v":"vk"},{"$f":"IF('sd paste'!H286=\"\",\"\",'sd paste'!H286)","v":"vkk"},{"$f":"IF('sd paste'!J286=\"\",\"\",'sd paste'!J286)","v":"2019-04-11"},{"$f":"IF('sd paste'!V286=\"\",\"\",'sd paste'!V286)","v":9828120981}]
[286,{"$f":"IF('sd paste'!A287=\"\",\"\",'sd paste'!A287)","v":9},{"$f":"IF('sd paste'!B287=\"\",\"\",'sd paste'!B287)","v":"A"},{"$f":"IF('sd paste'!C287=\"\",\"\",'sd paste'!C287)","v":3894},{"$f":"IF('sd paste'!E287=\"\",\"\",'sd paste'!E287)","v":"vkp286"},{"$f":"IF('sd paste'!G287=\"\",\"\",'sd paste'!G287)","v":"vk"},{"$f":"IF('sd paste'!H287=\"\",\"\",'sd paste'!H287)","v":"vkk"},{"$f":"IF('sd paste'!J287=\"\",\"\",'sd paste'!J287)","v":"2019-04-12"},{"$f":"IF('sd paste'!V287=\"\",\"\",'sd paste'!V287)","v":9828120982}]
[287,{"$f":"IF('sd paste'!A288=\"\",\"\",'sd paste'!A288)","v":9},{"$f":"IF('sd paste'!B288=\"\",\"\",'sd paste'!B288)","v":"A"},{"$f":"IF('sd paste'!C288=\"\",\"\",'sd paste'!C288)","v":5376},{"$f":"IF('sd paste'!E288=\"\",\"\",'sd paste'!E288)","v":"vkp287"},{"$f":"IF('sd paste'!G288=\"\",\"\",'sd paste'!G288)","v":"vk"},{"$f":"IF('sd paste'!H288=\"\",\"\",'sd paste'!H288)","v":"vkk"},{"$f":"IF('sd paste'!J288=\"\",\"\",'sd paste'!J288)","v":"2019-04-13"},{"$f":"IF('sd paste'!V288=\"\",\"\",'sd paste'!V288)","v":9828120983}]
[288,{"$f":"IF('sd paste'!A289=\"\",\"\",'sd paste'!A289)","v":9},{"$f":"IF('sd paste'!B289=\"\",\"\",'sd paste'!B289)","v":"A"},{"$f":"IF('sd paste'!C289=\"\",\"\",'sd paste'!C289)","v":5210},{"$f":"IF('sd paste'!E289=\"\",\"\",'sd paste'!E289)","v":"vkp288"},{"$f":"IF('sd paste'!G289=\"\",\"\",'sd paste'!G289)","v":"vk"},{"$f":"IF('sd paste'!H289=\"\",\"\",'sd paste'!H289)","v":"vkk"},{"$f":"IF('sd paste'!J289=\"\",\"\",'sd paste'!J289)","v":"2019-04-14"},{"$f":"IF('sd paste'!V289=\"\",\"\",'sd paste'!V289)","v":9828120984}]
[289,{"$f":"IF('sd paste'!A290=\"\",\"\",'sd paste'!A290)","v":9},{"$f":"IF('sd paste'!B290=\"\",\"\",'sd paste'!B290)","v":"B"},{"$f":"IF('sd paste'!C290=\"\",\"\",'sd paste'!C290)","v":4015},{"$f":"IF('sd paste'!E290=\"\",\"\",'sd paste'!E290)","v":"vkp289"},{"$f":"IF('sd paste'!G290=\"\",\"\",'sd paste'!G290)","v":"vk"},{"$f":"IF('sd paste'!H290=\"\",\"\",'sd paste'!H290)","v":"vkk"},{"$f":"IF('sd paste'!J290=\"\",\"\",'sd paste'!J290)","v":"2019-04-15"},{"$f":"IF('sd paste'!V290=\"\",\"\",'sd paste'!V290)","v":9828120985}]
[290,{"$f":"IF('sd paste'!A291=\"\",\"\",'sd paste'!A291)","v":9},{"$f":"IF('sd paste'!B291=\"\",\"\",'sd paste'!B291)","v":"B"},{"$f":"IF('sd paste'!C291=\"\",\"\",'sd paste'!C291)","v":5423},{"$f":"IF('sd paste'!E291=\"\",\"\",'sd paste'!E291)","v":"vkp290"},{"$f":"IF('sd paste'!G291=\"\",\"\",'sd paste'!G291)","v":"vk"},{"$f":"IF('sd paste'!H291=\"\",\"\",'sd paste'!H291)","v":"vkk"},{"$f":"IF('sd paste'!J291=\"\",\"\",'sd paste'!J291)","v":"2019-04-16"},{"$f":"IF('sd paste'!V291=\"\",\"\",'sd paste'!V291)","v":9828120986}]
[291,{"$f":"IF('sd paste'!A292=\"\",\"\",'sd paste'!A292)","v":9},{"$f":"IF('sd paste'!B292=\"\",\"\",'sd paste'!B292)","v":"B"},{"$f":"IF('sd paste'!C292=\"\",\"\",'sd paste'!C292)","v":5078},{"$f":"IF('sd paste'!E292=\"\",\"\",'sd paste'!E292)","v":"vkp291"},{"$f":"IF('sd paste'!G292=\"\",\"\",'sd paste'!G292)","v":"vk"},{"$f":"IF('sd paste'!H292=\"\",\"\",'sd paste'!H292)","v":"vkk"},{"$f":"IF('sd paste'!J292=\"\",\"\",'sd paste'!J292)","v":"2019-04-17"},{"$f":"IF('sd paste'!V292=\"\",\"\",'sd paste'!V292)","v":9828120987}]
[292,{"$f":"IF('sd paste'!A293=\"\",\"\",'sd paste'!A293)","v":9},{"$f":"IF('sd paste'!B293=\"\",\"\",'sd paste'!B293)","v":"B"},{"$f":"IF('sd paste'!C293=\"\",\"\",'sd paste'!C293)","v":4088},{"$f":"IF('sd paste'!E293=\"\",\"\",'sd paste'!E293)","v":"vkp292"},{"$f":"IF('sd paste'!G293=\"\",\"\",'sd paste'!G293)","v":"vk"},{"$f":"IF('sd paste'!H293=\"\",\"\",'sd paste'!H293)","v":"vkk"},{"$f":"IF('sd paste'!J293=\"\",\"\",'sd paste'!J293)","v":"2019-04-18"},{"$f":"IF('sd paste'!V293=\"\",\"\",'sd paste'!V293)","v":9828120988}]
[293,{"$f":"IF('sd paste'!A294=\"\",\"\",'sd paste'!A294)","v":9},{"$f":"IF('sd paste'!B294=\"\",\"\",'sd paste'!B294)","v":"B"},{"$f":"IF('sd paste'!C294=\"\",\"\",'sd paste'!C294)","v":4786},{"$f":"IF('sd paste'!E294=\"\",\"\",'sd paste'!E294)","v":"vkp293"},{"$f":"IF('sd paste'!G294=\"\",\"\",'sd paste'!G294)","v":"vk"},{"$f":"IF('sd paste'!H294=\"\",\"\",'sd paste'!H294)","v":"vkk"},{"$f":"IF('sd paste'!J294=\"\",\"\",'sd paste'!J294)","v":"2019-04-19"},{"$f":"IF('sd paste'!V294=\"\",\"\",'sd paste'!V294)","v":9828120989}]
[294,{"$f":"IF('sd paste'!A295=\"\",\"\",'sd paste'!A295)","v":9},{"$f":"IF('sd paste'!B295=\"\",\"\",'sd paste'!B295)","v":"B"},{"$f":"IF('sd paste'!C295=\"\",\"\",'sd paste'!C295)","v":5360},{"$f":"IF('sd paste'!E295=\"\",\"\",'sd paste'!E295)","v":"vkp294"},{"$f":"IF('sd paste'!G295=\"\",\"\",'sd paste'!G295)","v":"vk"},{"$f":"IF('sd paste'!H295=\"\",\"\",'sd paste'!H295)","v":"vkk"},{"$f":"IF('sd paste'!J295=\"\",\"\",'sd paste'!J295)","v":"2019-04-20"},{"$f":"IF('sd paste'!V295=\"\",\"\",'sd paste'!V295)","v":9828120990}]
[295,{"$f":"IF('sd paste'!A296=\"\",\"\",'sd paste'!A296)","v":9},{"$f":"IF('sd paste'!B296=\"\",\"\",'sd paste'!B296)","v":"B"},{"$f":"IF('sd paste'!C296=\"\",\"\",'sd paste'!C296)","v":4561},{"$f":"IF('sd paste'!E296=\"\",\"\",'sd paste'!E296)","v":"vkp295"},{"$f":"IF('sd paste'!G296=\"\",\"\",'sd paste'!G296)","v":"vk"},{"$f":"IF('sd paste'!H296=\"\",\"\",'sd paste'!H296)","v":"vkk"},{"$f":"IF('sd paste'!J296=\"\",\"\",'sd paste'!J296)","v":"2019-04-21"},{"$f":"IF('sd paste'!V296=\"\",\"\",'sd paste'!V296)","v":9828120991}]
[296,{"$f":"IF('sd paste'!A297=\"\",\"\",'sd paste'!A297)","v":9},{"$f":"IF('sd paste'!B297=\"\",\"\",'sd paste'!B297)","v":"B"},{"$f":"IF('sd paste'!C297=\"\",\"\",'sd paste'!C297)","v":5369},{"$f":"IF('sd paste'!E297=\"\",\"\",'sd paste'!E297)","v":"vkp296"},{"$f":"IF('sd paste'!G297=\"\",\"\",'sd paste'!G297)","v":"vk"},{"$f":"IF('sd paste'!H297=\"\",\"\",'sd paste'!H297)","v":"vkk"},{"$f":"IF('sd paste'!J297=\"\",\"\",'sd paste'!J297)","v":"2019-04-22"},{"$f":"IF('sd paste'!V297=\"\",\"\",'sd paste'!V297)","v":9828120992}]
[297,{"$f":"IF('sd paste'!A298=\"\",\"\",'sd paste'!A298)","v":9},{"$f":"IF('sd paste'!B298=\"\",\"\",'sd paste'!B298)","v":"B"},{"$f":"IF('sd paste'!C298=\"\",\"\",'sd paste'!C298)","v":5400},{"$f":"IF('sd paste'!E298=\"\",\"\",'sd paste'!E298)","v":"vkp297"},{"$f":"IF('sd paste'!G298=\"\",\"\",'sd paste'!G298)","v":"vk"},{"$f":"IF('sd paste'!H298=\"\",\"\",'sd paste'!H298)","v":"vkk"},{"$f":"IF('sd paste'!J298=\"\",\"\",'sd paste'!J298)","v":"2019-04-23"},{"$f":"IF('sd paste'!V298=\"\",\"\",'sd paste'!V298)","v":9828120993}]
[298,{"$f":"IF('sd paste'!A299=\"\",\"\",'sd paste'!A299)","v":9},{"$f":"IF('sd paste'!B299=\"\",\"\",'sd paste'!B299)","v":"B"},{"$f":"IF('sd paste'!C299=\"\",\"\",'sd paste'!C299)","v":5425},{"$f":"IF('sd paste'!E299=\"\",\"\",'sd paste'!E299)","v":"vkp298"},{"$f":"IF('sd paste'!G299=\"\",\"\",'sd paste'!G299)","v":"vk"},{"$f":"IF('sd paste'!H299=\"\",\"\",'sd paste'!H299)","v":"vkk"},{"$f":"IF('sd paste'!J299=\"\",\"\",'sd paste'!J299)","v":"2019-04-24"},{"$f":"IF('sd paste'!V299=\"\",\"\",'sd paste'!V299)","v":9828120994}]
[299,{"$f":"IF('sd paste'!A300=\"\",\"\",'sd paste'!A300)","v":9},{"$f":"IF('sd paste'!B300=\"\",\"\",'sd paste'!B300)","v":"B"},{"$f":"IF('sd paste'!C300=\"\",\"\",'sd paste'!C300)","v":5332},{"$f":"IF('sd paste'!E300=\"\",\"\",'sd paste'!E300)","v":"vkp299"},{"$f":"IF('sd paste'!G300=\"\",\"\",'sd paste'!G300)","v":"vk"},{"$f":"IF('sd paste'!H300=\"\",\"\",'sd paste'!H300)","v":"vkk"},{"$f":"IF('sd paste'!J300=\"\",\"\",'sd paste'!J300)","v":"2019-04-25"},{"$f":"IF('sd paste'!V300=\"\",\"\",'sd paste'!V300)","v":9828120995}]
[300,{"$f":"IF('sd paste'!A301=\"\",\"\",'sd paste'!A301)","v":9},{"$f":"IF('sd paste'!B301=\"\",\"\",'sd paste'!B301)","v":"B"},{"$f":"IF('sd paste'!C301=\"\",\"\",'sd paste'!C301)","v":5372},{"$f":"IF('sd paste'!E301=\"\",\"\",'sd paste'!E301)","v":"vkp300"},{"$f":"IF('sd paste'!G301=\"\",\"\",'sd paste'!G301)","v":"vk"},{"$f":"IF('sd paste'!H301=\"\",\"\",'sd paste'!H301)","v":"vkk"},{"$f":"IF('sd paste'!J301=\"\",\"\",'sd paste'!J301)","v":"2019-04-26"},{"$f":"IF('sd paste'!V301=\"\",\"\",'sd paste'!V301)","v":9828120996}]
[301,{"$f":"IF('sd paste'!A302=\"\",\"\",'sd paste'!A302)","v":9},{"$f":"IF('sd paste'!B302=\"\",\"\",'sd paste'!B302)","v":"B"},{"$f":"IF('sd paste'!C302=\"\",\"\",'sd paste'!C302)","v":5333},{"$f":"IF('sd paste'!E302=\"\",\"\",'sd paste'!E302)","v":"vkp301"},{"$f":"IF('sd paste'!G302=\"\",\"\",'sd paste'!G302)","v":"vk"},{"$f":"IF('sd paste'!H302=\"\",\"\",'sd paste'!H302)","v":"vkk"},{"$f":"IF('sd paste'!J302=\"\",\"\",'sd paste'!J302)","v":"2019-04-27"},{"$f":"IF('sd paste'!V302=\"\",\"\",'sd paste'!V302)","v":9828120997}]
[302,{"$f":"IF('sd paste'!A303=\"\",\"\",'sd paste'!A303)","v":9},{"$f":"IF('sd paste'!B303=\"\",\"\",'sd paste'!B303)","v":"B"},{"$f":"IF('sd paste'!C303=\"\",\"\",'sd paste'!C303)","v":4567},{"$f":"IF('sd paste'!E303=\"\",\"\",'sd paste'!E303)","v":"vkp302"},{"$f":"IF('sd paste'!G303=\"\",\"\",'sd paste'!G303)","v":"vk"},{"$f":"IF('sd paste'!H303=\"\",\"\",'sd paste'!H303)","v":"vkk"},{"$f":"IF('sd paste'!J303=\"\",\"\",'sd paste'!J303)","v":"2019-04-28"},{"$f":"IF('sd paste'!V303=\"\",\"\",'sd paste'!V303)","v":9828120998}]
[303,{"$f":"IF('sd paste'!A304=\"\",\"\",'sd paste'!A304)","v":9},{"$f":"IF('sd paste'!B304=\"\",\"\",'sd paste'!B304)","v":"B"},{"$f":"IF('sd paste'!C304=\"\",\"\",'sd paste'!C304)","v":5096},{"$f":"IF('sd paste'!E304=\"\",\"\",'sd paste'!E304)","v":"vkp303"},{"$f":"IF('sd paste'!G304=\"\",\"\",'sd paste'!G304)","v":"vk"},{"$f":"IF('sd paste'!H304=\"\",\"\",'sd paste'!H304)","v":"vkk"},{"$f":"IF('sd paste'!J304=\"\",\"\",'sd paste'!J304)","v":"2019-04-29"},{"$f":"IF('sd paste'!V304=\"\",\"\",'sd paste'!V304)","v":9828120999}]
[304,{"$f":"IF('sd paste'!A305=\"\",\"\",'sd paste'!A305)","v":9},{"$f":"IF('sd paste'!B305=\"\",\"\",'sd paste'!B305)","v":"B"},{"$f":"IF('sd paste'!C305=\"\",\"\",'sd paste'!C305)","v":5422},{"$f":"IF('sd paste'!E305=\"\",\"\",'sd paste'!E305)","v":"vkp304"},{"$f":"IF('sd paste'!G305=\"\",\"\",'sd paste'!G305)","v":"vk"},{"$f":"IF('sd paste'!H305=\"\",\"\",'sd paste'!H305)","v":"vkk"},{"$f":"IF('sd paste'!J305=\"\",\"\",'sd paste'!J305)","v":"2019-04-30"},{"$f":"IF('sd paste'!V305=\"\",\"\",'sd paste'!V305)","v":9828121000}]
[305,{"$f":"IF('sd paste'!A306=\"\",\"\",'sd paste'!A306)","v":9},{"$f":"IF('sd paste'!B306=\"\",\"\",'sd paste'!B306)","v":"B"},{"$f":"IF('sd paste'!C306=\"\",\"\",'sd paste'!C306)","v":5399},{"$f":"IF('sd paste'!E306=\"\",\"\",'sd paste'!E306)","v":"vkp305"},{"$f":"IF('sd paste'!G306=\"\",\"\",'sd paste'!G306)","v":"vk"},{"$f":"IF('sd paste'!H306=\"\",\"\",'sd paste'!H306)","v":"vkk"},{"$f":"IF('sd paste'!J306=\"\",\"\",'sd paste'!J306)","v":"2019-05-01"},{"$f":"IF('sd paste'!V306=\"\",\"\",'sd paste'!V306)","v":9828121001}]
[306,{"$f":"IF('sd paste'!A307=\"\",\"\",'sd paste'!A307)","v":9},{"$f":"IF('sd paste'!B307=\"\",\"\",'sd paste'!B307)","v":"B"},{"$f":"IF('sd paste'!C307=\"\",\"\",'sd paste'!C307)","v":5371},{"$f":"IF('sd paste'!E307=\"\",\"\",'sd paste'!E307)","v":"vkp306"},{"$f":"IF('sd paste'!G307=\"\",\"\",'sd paste'!G307)","v":"vk"},{"$f":"IF('sd paste'!H307=\"\",\"\",'sd paste'!H307)","v":"vkk"},{"$f":"IF('sd paste'!J307=\"\",\"\",'sd paste'!J307)","v":"2019-05-02"},{"$f":"IF('sd paste'!V307=\"\",\"\",'sd paste'!V307)","v":9828121002}]
[307,{"$f":"IF('sd paste'!A308=\"\",\"\",'sd paste'!A308)","v":9},{"$f":"IF('sd paste'!B308=\"\",\"\",'sd paste'!B308)","v":"B"},{"$f":"IF('sd paste'!C308=\"\",\"\",'sd paste'!C308)","v":3938},{"$f":"IF('sd paste'!E308=\"\",\"\",'sd paste'!E308)","v":"vkp307"},{"$f":"IF('sd paste'!G308=\"\",\"\",'sd paste'!G308)","v":"vk"},{"$f":"IF('sd paste'!H308=\"\",\"\",'sd paste'!H308)","v":"vkk"},{"$f":"IF('sd paste'!J308=\"\",\"\",'sd paste'!J308)","v":"2019-05-03"},{"$f":"IF('sd paste'!V308=\"\",\"\",'sd paste'!V308)","v":9828121003}]
[308,{"$f":"IF('sd paste'!A309=\"\",\"\",'sd paste'!A309)","v":9},{"$f":"IF('sd paste'!B309=\"\",\"\",'sd paste'!B309)","v":"B"},{"$f":"IF('sd paste'!C309=\"\",\"\",'sd paste'!C309)","v":4514},{"$f":"IF('sd paste'!E309=\"\",\"\",'sd paste'!E309)","v":"vkp308"},{"$f":"IF('sd paste'!G309=\"\",\"\",'sd paste'!G309)","v":"vk"},{"$f":"IF('sd paste'!H309=\"\",\"\",'sd paste'!H309)","v":"vkk"},{"$f":"IF('sd paste'!J309=\"\",\"\",'sd paste'!J309)","v":"2019-05-04"},{"$f":"IF('sd paste'!V309=\"\",\"\",'sd paste'!V309)","v":9828121004}]
[309,{"$f":"IF('sd paste'!A310=\"\",\"\",'sd paste'!A310)","v":9},{"$f":"IF('sd paste'!B310=\"\",\"\",'sd paste'!B310)","v":"B"},{"$f":"IF('sd paste'!C310=\"\",\"\",'sd paste'!C310)","v":5443},{"$f":"IF('sd paste'!E310=\"\",\"\",'sd paste'!E310)","v":"vkp309"},{"$f":"IF('sd paste'!G310=\"\",\"\",'sd paste'!G310)","v":"vk"},{"$f":"IF('sd paste'!H310=\"\",\"\",'sd paste'!H310)","v":"vkk"},{"$f":"IF('sd paste'!J310=\"\",\"\",'sd paste'!J310)","v":"2019-05-05"},{"$f":"IF('sd paste'!V310=\"\",\"\",'sd paste'!V310)","v":9828121005}]
[310,{"$f":"IF('sd paste'!A311=\"\",\"\",'sd paste'!A311)","v":9},{"$f":"IF('sd paste'!B311=\"\",\"\",'sd paste'!B311)","v":"B"},{"$f":"IF('sd paste'!C311=\"\",\"\",'sd paste'!C311)","v":4875},{"$f":"IF('sd paste'!E311=\"\",\"\",'sd paste'!E311)","v":"vkp310"},{"$f":"IF('sd paste'!G311=\"\",\"\",'sd paste'!G311)","v":"vk"},{"$f":"IF('sd paste'!H311=\"\",\"\",'sd paste'!H311)","v":"vkk"},{"$f":"IF('sd paste'!J311=\"\",\"\",'sd paste'!J311)","v":"2019-05-06"},{"$f":"IF('sd paste'!V311=\"\",\"\",'sd paste'!V311)","v":9828121006}]
[311,{"$f":"IF('sd paste'!A312=\"\",\"\",'sd paste'!A312)","v":9},{"$f":"IF('sd paste'!B312=\"\",\"\",'sd paste'!B312)","v":"B"},{"$f":"IF('sd paste'!C312=\"\",\"\",'sd paste'!C312)","v":5394},{"$f":"IF('sd paste'!E312=\"\",\"\",'sd paste'!E312)","v":"vkp311"},{"$f":"IF('sd paste'!G312=\"\",\"\",'sd paste'!G312)","v":"vk"},{"$f":"IF('sd paste'!H312=\"\",\"\",'sd paste'!H312)","v":"vkk"},{"$f":"IF('sd paste'!J312=\"\",\"\",'sd paste'!J312)","v":"2019-05-07"},{"$f":"IF('sd paste'!V312=\"\",\"\",'sd paste'!V312)","v":9828121007}]
[312,{"$f":"IF('sd paste'!A313=\"\",\"\",'sd paste'!A313)","v":9},{"$f":"IF('sd paste'!B313=\"\",\"\",'sd paste'!B313)","v":"B"},{"$f":"IF('sd paste'!C313=\"\",\"\",'sd paste'!C313)","v":5278},{"$f":"IF('sd paste'!E313=\"\",\"\",'sd paste'!E313)","v":"vkp312"},{"$f":"IF('sd paste'!G313=\"\",\"\",'sd paste'!G313)","v":"vk"},{"$f":"IF('sd paste'!H313=\"\",\"\",'sd paste'!H313)","v":"vkk"},{"$f":"IF('sd paste'!J313=\"\",\"\",'sd paste'!J313)","v":"2019-05-08"},{"$f":"IF('sd paste'!V313=\"\",\"\",'sd paste'!V313)","v":9828121008}]
[313,{"$f":"IF('sd paste'!A314=\"\",\"\",'sd paste'!A314)","v":9},{"$f":"IF('sd paste'!B314=\"\",\"\",'sd paste'!B314)","v":"B"},{"$f":"IF('sd paste'!C314=\"\",\"\",'sd paste'!C314)","v":4585},{"$f":"IF('sd paste'!E314=\"\",\"\",'sd paste'!E314)","v":"vkp313"},{"$f":"IF('sd paste'!G314=\"\",\"\",'sd paste'!G314)","v":"vk"},{"$f":"IF('sd paste'!H314=\"\",\"\",'sd paste'!H314)","v":"vkk"},{"$f":"IF('sd paste'!J314=\"\",\"\",'sd paste'!J314)","v":"2019-05-09"},{"$f":"IF('sd paste'!V314=\"\",\"\",'sd paste'!V314)","v":9828121009}]
[314,{"$f":"IF('sd paste'!A315=\"\",\"\",'sd paste'!A315)","v":9},{"$f":"IF('sd paste'!B315=\"\",\"\",'sd paste'!B315)","v":"B"},{"$f":"IF('sd paste'!C315=\"\",\"\",'sd paste'!C315)","v":5398},{"$f":"IF('sd paste'!E315=\"\",\"\",'sd paste'!E315)","v":"vkp314"},{"$f":"IF('sd paste'!G315=\"\",\"\",'sd paste'!G315)","v":"vk"},{"$f":"IF('sd paste'!H315=\"\",\"\",'sd paste'!H315)","v":"vkk"},{"$f":"IF('sd paste'!J315=\"\",\"\",'sd paste'!J315)","v":"2019-05-10"},{"$f":"IF('sd paste'!V315=\"\",\"\",'sd paste'!V315)","v":9828121010}]
[315,{"$f":"IF('sd paste'!A316=\"\",\"\",'sd paste'!A316)","v":9},{"$f":"IF('sd paste'!B316=\"\",\"\",'sd paste'!B316)","v":"B"},{"$f":"IF('sd paste'!C316=\"\",\"\",'sd paste'!C316)","v":5213},{"$f":"IF('sd paste'!E316=\"\",\"\",'sd paste'!E316)","v":"vkp315"},{"$f":"IF('sd paste'!G316=\"\",\"\",'sd paste'!G316)","v":"vk"},{"$f":"IF('sd paste'!H316=\"\",\"\",'sd paste'!H316)","v":"vkk"},{"$f":"IF('sd paste'!J316=\"\",\"\",'sd paste'!J316)","v":"2019-05-11"},{"$f":"IF('sd paste'!V316=\"\",\"\",'sd paste'!V316)","v":9828121011}]
[316,{"$f":"IF('sd paste'!A317=\"\",\"\",'sd paste'!A317)","v":9},{"$f":"IF('sd paste'!B317=\"\",\"\",'sd paste'!B317)","v":"B"},{"$f":"IF('sd paste'!C317=\"\",\"\",'sd paste'!C317)","v":5374},{"$f":"IF('sd paste'!E317=\"\",\"\",'sd paste'!E317)","v":"vkp316"},{"$f":"IF('sd paste'!G317=\"\",\"\",'sd paste'!G317)","v":"vk"},{"$f":"IF('sd paste'!H317=\"\",\"\",'sd paste'!H317)","v":"vkk"},{"$f":"IF('sd paste'!J317=\"\",\"\",'sd paste'!J317)","v":"2019-05-12"},{"$f":"IF('sd paste'!V317=\"\",\"\",'sd paste'!V317)","v":9828121012}]
[317,{"$f":"IF('sd paste'!A318=\"\",\"\",'sd paste'!A318)","v":9},{"$f":"IF('sd paste'!B318=\"\",\"\",'sd paste'!B318)","v":"B"},{"$f":"IF('sd paste'!C318=\"\",\"\",'sd paste'!C318)","v":5429},{"$f":"IF('sd paste'!E318=\"\",\"\",'sd paste'!E318)","v":"vkp317"},{"$f":"IF('sd paste'!G318=\"\",\"\",'sd paste'!G318)","v":"vk"},{"$f":"IF('sd paste'!H318=\"\",\"\",'sd paste'!H318)","v":"vkk"},{"$f":"IF('sd paste'!J318=\"\",\"\",'sd paste'!J318)","v":"2019-05-13"},{"$f":"IF('sd paste'!V318=\"\",\"\",'sd paste'!V318)","v":9828121013}]
[318,{"$f":"IF('sd paste'!A319=\"\",\"\",'sd paste'!A319)","v":9},{"$f":"IF('sd paste'!B319=\"\",\"\",'sd paste'!B319)","v":"B"},{"$f":"IF('sd paste'!C319=\"\",\"\",'sd paste'!C319)","v":5379},{"$f":"IF('sd paste'!E319=\"\",\"\",'sd paste'!E319)","v":"vkp318"},{"$f":"IF('sd paste'!G319=\"\",\"\",'sd paste'!G319)","v":"vk"},{"$f":"IF('sd paste'!H319=\"\",\"\",'sd paste'!H319)","v":"vkk"},{"$f":"IF('sd paste'!J319=\"\",\"\",'sd paste'!J319)","v":"2019-05-14"},{"$f":"IF('sd paste'!V319=\"\",\"\",'sd paste'!V319)","v":9828121014}]
[319,{"$f":"IF('sd paste'!A320=\"\",\"\",'sd paste'!A320)","v":9},{"$f":"IF('sd paste'!B320=\"\",\"\",'sd paste'!B320)","v":"B"},{"$f":"IF('sd paste'!C320=\"\",\"\",'sd paste'!C320)","v":3972},{"$f":"IF('sd paste'!E320=\"\",\"\",'sd paste'!E320)","v":"vkp319"},{"$f":"IF('sd paste'!G320=\"\",\"\",'sd paste'!G320)","v":"vk"},{"$f":"IF('sd paste'!H320=\"\",\"\",'sd paste'!H320)","v":"vkk"},{"$f":"IF('sd paste'!J320=\"\",\"\",'sd paste'!J320)","v":"2019-05-15"},{"$f":"IF('sd paste'!V320=\"\",\"\",'sd paste'!V320)","v":9828121015}]
[320,{"$f":"IF('sd paste'!A321=\"\",\"\",'sd paste'!A321)","v":9},{"$f":"IF('sd paste'!B321=\"\",\"\",'sd paste'!B321)","v":"B"},{"$f":"IF('sd paste'!C321=\"\",\"\",'sd paste'!C321)","v":3998},{"$f":"IF('sd paste'!E321=\"\",\"\",'sd paste'!E321)","v":"vkp320"},{"$f":"IF('sd paste'!G321=\"\",\"\",'sd paste'!G321)","v":"vk"},{"$f":"IF('sd paste'!H321=\"\",\"\",'sd paste'!H321)","v":"vkk"},{"$f":"IF('sd paste'!J321=\"\",\"\",'sd paste'!J321)","v":"2019-05-16"},{"$f":"IF('sd paste'!V321=\"\",\"\",'sd paste'!V321)","v":9828121016}]
[321,{"$f":"IF('sd paste'!A322=\"\",\"\",'sd paste'!A322)","v":9},{"$f":"IF('sd paste'!B322=\"\",\"\",'sd paste'!B322)","v":"B"},{"$f":"IF('sd paste'!C322=\"\",\"\",'sd paste'!C322)","v":5439},{"$f":"IF('sd paste'!E322=\"\",\"\",'sd paste'!E322)","v":"vkp321"},{"$f":"IF('sd paste'!G322=\"\",\"\",'sd paste'!G322)","v":"vk"},{"$f":"IF('sd paste'!H322=\"\",\"\",'sd paste'!H322)","v":"vkk"},{"$f":"IF('sd paste'!J322=\"\",\"\",'sd paste'!J322)","v":"2019-05-17"},{"$f":"IF('sd paste'!V322=\"\",\"\",'sd paste'!V322)","v":9828121017}]
[{"$f":"IF(F327=\"\",\"\",ROW(322:322))","v":322},{"$f":"IF('sd paste'!A323=\"\",\"\",'sd paste'!A323)","v":9},{"$f":"IF('sd paste'!B323=\"\",\"\",'sd paste'!B323)","v":"B"},{"$f":"IF('sd paste'!C323=\"\",\"\",'sd paste'!C323)","v":4775},{"$f":"IF('sd paste'!E323=\"\",\"\",'sd paste'!E323)","v":"vkp322"},{"$f":"IF('sd paste'!G323=\"\",\"\",'sd paste'!G323)","v":"vk"},{"$f":"IF('sd paste'!H323=\"\",\"\",'sd paste'!H323)","v":"vkk"},{"$f":"IF('sd paste'!J323=\"\",\"\",'sd paste'!J323)","v":"2019-05-18"},{"$f":"IF('sd paste'!V323=\"\",\"\",'sd paste'!V323)","v":9828121018}]
[323,{"$f":"IF('sd paste'!A324=\"\",\"\",'sd paste'!A324)","v":9},{"$f":"IF('sd paste'!B324=\"\",\"\",'sd paste'!B324)","v":"B"},{"$f":"IF('sd paste'!C324=\"\",\"\",'sd paste'!C324)","v":5117},{"$f":"IF('sd paste'!E324=\"\",\"\",'sd paste'!E324)","v":"vkp323"},{"$f":"IF('sd paste'!G324=\"\",\"\",'sd paste'!G324)","v":"vk"},{"$f":"IF('sd paste'!H324=\"\",\"\",'sd paste'!H324)","v":"vkk"},{"$f":"IF('sd paste'!J324=\"\",\"\",'sd paste'!J324)","v":"2019-05-19"},{"$f":"IF('sd paste'!V324=\"\",\"\",'sd paste'!V324)","v":9828121019}]
[324,{"$f":"IF('sd paste'!A325=\"\",\"\",'sd paste'!A325)","v":9},{"$f":"IF('sd paste'!B325=\"\",\"\",'sd paste'!B325)","v":"B"},{"$f":"IF('sd paste'!C325=\"\",\"\",'sd paste'!C325)","v":5428},{"$f":"IF('sd paste'!E325=\"\",\"\",'sd paste'!E325)","v":"vkp324"},{"$f":"IF('sd paste'!G325=\"\",\"\",'sd paste'!G325)","v":"vk"},{"$f":"IF('sd paste'!H325=\"\",\"\",'sd paste'!H325)","v":"vkk"},{"$f":"IF('sd paste'!J325=\"\",\"\",'sd paste'!J325)","v":"2019-05-20"},{"$f":"IF('sd paste'!V325=\"\",\"\",'sd paste'!V325)","v":9828121020}]
[325,{"$f":"IF('sd paste'!A326=\"\",\"\",'sd paste'!A326)","v":9},{"$f":"IF('sd paste'!B326=\"\",\"\",'sd paste'!B326)","v":"B"},{"$f":"IF('sd paste'!C326=\"\",\"\",'sd paste'!C326)","v":5353},{"$f":"IF('sd paste'!E326=\"\",\"\",'sd paste'!E326)","v":"vkp325"},{"$f":"IF('sd paste'!G326=\"\",\"\",'sd paste'!G326)","v":"vk"},{"$f":"IF('sd paste'!H326=\"\",\"\",'sd paste'!H326)","v":"vkk"},{"$f":"IF('sd paste'!J326=\"\",\"\",'sd paste'!J326)","v":"2019-05-21"},{"$f":"IF('sd paste'!V326=\"\",\"\",'sd paste'!V326)","v":9828121021}]
[326,{"$f":"IF('sd paste'!A327=\"\",\"\",'sd paste'!A327)","v":9},{"$f":"IF('sd paste'!B327=\"\",\"\",'sd paste'!B327)","v":"B"},{"$f":"IF('sd paste'!C327=\"\",\"\",'sd paste'!C327)","v":5249},{"$f":"IF('sd paste'!E327=\"\",\"\",'sd paste'!E327)","v":"vkp326"},{"$f":"IF('sd paste'!G327=\"\",\"\",'sd paste'!G327)","v":"vk"},{"$f":"IF('sd paste'!H327=\"\",\"\",'sd paste'!H327)","v":"vkk"},{"$f":"IF('sd paste'!J327=\"\",\"\",'sd paste'!J327)","v":"2019-05-22"},{"$f":"IF('sd paste'!V327=\"\",\"\",'sd paste'!V327)","v":9828121022}]
[327,{"$f":"IF('sd paste'!A328=\"\",\"\",'sd paste'!A328)","v":9},{"$f":"IF('sd paste'!B328=\"\",\"\",'sd paste'!B328)","v":"B"},{"$f":"IF('sd paste'!C328=\"\",\"\",'sd paste'!C328)","v":5212},{"$f":"IF('sd paste'!E328=\"\",\"\",'sd paste'!E328)","v":"vkp327"},{"$f":"IF('sd paste'!G328=\"\",\"\",'sd paste'!G328)","v":"vk"},{"$f":"IF('sd paste'!H328=\"\",\"\",'sd paste'!H328)","v":"vkk"},{"$f":"IF('sd paste'!J328=\"\",\"\",'sd paste'!J328)","v":"2019-05-23"},{"$f":"IF('sd paste'!V328=\"\",\"\",'sd paste'!V328)","v":9828121023}]
[328,{"$f":"IF('sd paste'!A329=\"\",\"\",'sd paste'!A329)","v":9},{"$f":"IF('sd paste'!B329=\"\",\"\",'sd paste'!B329)","v":"B"},{"$f":"IF('sd paste'!C329=\"\",\"\",'sd paste'!C329)","v":5408},{"$f":"IF('sd paste'!E329=\"\",\"\",'sd paste'!E329)","v":"vkp328"},{"$f":"IF('sd paste'!G329=\"\",\"\",'sd paste'!G329)","v":"vk"},{"$f":"IF('sd paste'!H329=\"\",\"\",'sd paste'!H329)","v":"vkk"},{"$f":"IF('sd paste'!J329=\"\",\"\",'sd paste'!J329)","v":"2019-05-24"},{"$f":"IF('sd paste'!V329=\"\",\"\",'sd paste'!V329)","v":9828121024}]
[329,{"$f":"IF('sd paste'!A330=\"\",\"\",'sd paste'!A330)","v":9},{"$f":"IF('sd paste'!B330=\"\",\"\",'sd paste'!B330)","v":"B"},{"$f":"IF('sd paste'!C330=\"\",\"\",'sd paste'!C330)","v":3944},{"$f":"IF('sd paste'!E330=\"\",\"\",'sd paste'!E330)","v":"vkp329"},{"$f":"IF('sd paste'!G330=\"\",\"\",'sd paste'!G330)","v":"vk"},{"$f":"IF('sd paste'!H330=\"\",\"\",'sd paste'!H330)","v":"vkk"},{"$f":"IF('sd paste'!J330=\"\",\"\",'sd paste'!J330)","v":"2019-05-25"},{"$f":"IF('sd paste'!V330=\"\",\"\",'sd paste'!V330)","v":9828121025}]
[330,{"$f":"IF('sd paste'!A331=\"\",\"\",'sd paste'!A331)","v":9},{"$f":"IF('sd paste'!B331=\"\",\"\",'sd paste'!B331)","v":"B"},{"$f":"IF('sd paste'!C331=\"\",\"\",'sd paste'!C331)","v":4064},{"$f":"IF('sd paste'!E331=\"\",\"\",'sd paste'!E331)","v":"vkp330"},{"$f":"IF('sd paste'!G331=\"\",\"\",'sd paste'!G331)","v":"vk"},{"$f":"IF('sd paste'!H331=\"\",\"\",'sd paste'!H331)","v":"vkk"},{"$f":"IF('sd paste'!J331=\"\",\"\",'sd paste'!J331)","v":"2019-05-26"},{"$f":"IF('sd paste'!V331=\"\",\"\",'sd paste'!V331)","v":9828121026}]
[331,{"$f":"IF('sd paste'!A332=\"\",\"\",'sd paste'!A332)","v":9},{"$f":"IF('sd paste'!B332=\"\",\"\",'sd paste'!B332)","v":"B"},{"$f":"IF('sd paste'!C332=\"\",\"\",'sd paste'!C332)","v":5347},{"$f":"IF('sd paste'!E332=\"\",\"\",'sd paste'!E332)","v":"vkp331"},{"$f":"IF('sd paste'!G332=\"\",\"\",'sd paste'!G332)","v":"vk"},{"$f":"IF('sd paste'!H332=\"\",\"\",'sd paste'!H332)","v":"vkk"},{"$f":"IF('sd paste'!J332=\"\",\"\",'sd paste'!J332)","v":"2019-05-27"},{"$f":"IF('sd paste'!V332=\"\",\"\",'sd paste'!V332)","v":9828121027}]
[332,{"$f":"IF('sd paste'!A333=\"\",\"\",'sd paste'!A333)","v":9},{"$f":"IF('sd paste'!B333=\"\",\"\",'sd paste'!B333)","v":"B"},{"$f":"IF('sd paste'!C333=\"\",\"\",'sd paste'!C333)","v":3985},{"$f":"IF('sd paste'!E333=\"\",\"\",'sd paste'!E333)","v":"vkp332"},{"$f":"IF('sd paste'!G333=\"\",\"\",'sd paste'!G333)","v":"vk"},{"$f":"IF('sd paste'!H333=\"\",\"\",'sd paste'!H333)","v":"vkk"},{"$f":"IF('sd paste'!J333=\"\",\"\",'sd paste'!J333)","v":"2019-05-28"},{"$f":"IF('sd paste'!V333=\"\",\"\",'sd paste'!V333)","v":9828121028}]
[333,{"$f":"IF('sd paste'!A334=\"\",\"\",'sd paste'!A334)","v":9},{"$f":"IF('sd paste'!B334=\"\",\"\",'sd paste'!B334)","v":"B"},{"$f":"IF('sd paste'!C334=\"\",\"\",'sd paste'!C334)","v":5351},{"$f":"IF('sd paste'!E334=\"\",\"\",'sd paste'!E334)","v":"vkp333"},{"$f":"IF('sd paste'!G334=\"\",\"\",'sd paste'!G334)","v":"vk"},{"$f":"IF('sd paste'!H334=\"\",\"\",'sd paste'!H334)","v":"vkk"},{"$f":"IF('sd paste'!J334=\"\",\"\",'sd paste'!J334)","v":"2019-05-29"},{"$f":"IF('sd paste'!V334=\"\",\"\",'sd paste'!V334)","v":9828121029}]
[334,{"$f":"IF('sd paste'!A335=\"\",\"\",'sd paste'!A335)","v":9},{"$f":"IF('sd paste'!B335=\"\",\"\",'sd paste'!B335)","v":"B"},{"$f":"IF('sd paste'!C335=\"\",\"\",'sd paste'!C335)","v":4013},{"$f":"IF('sd paste'!E335=\"\",\"\",'sd paste'!E335)","v":"vkp334"},{"$f":"IF('sd paste'!G335=\"\",\"\",'sd paste'!G335)","v":"vk"},{"$f":"IF('sd paste'!H335=\"\",\"\",'sd paste'!H335)","v":"vkk"},{"$f":"IF('sd paste'!J335=\"\",\"\",'sd paste'!J335)","v":"2019-05-30"},{"$f":"IF('sd paste'!V335=\"\",\"\",'sd paste'!V335)","v":9828121030}]
[335,{"$f":"IF('sd paste'!A336=\"\",\"\",'sd paste'!A336)","v":9},{"$f":"IF('sd paste'!B336=\"\",\"\",'sd paste'!B336)","v":"B"},{"$f":"IF('sd paste'!C336=\"\",\"\",'sd paste'!C336)","v":3973},{"$f":"IF('sd paste'!E336=\"\",\"\",'sd paste'!E336)","v":"vkp335"},{"$f":"IF('sd paste'!G336=\"\",\"\",'sd paste'!G336)","v":"vk"},{"$f":"IF('sd paste'!H336=\"\",\"\",'sd paste'!H336)","v":"vkk"},{"$f":"IF('sd paste'!J336=\"\",\"\",'sd paste'!J336)","v":"2019-05-31"},{"$f":"IF('sd paste'!V336=\"\",\"\",'sd paste'!V336)","v":9828121031}]
[336,{"$f":"IF('sd paste'!A337=\"\",\"\",'sd paste'!A337)","v":9},{"$f":"IF('sd paste'!B337=\"\",\"\",'sd paste'!B337)","v":"B"},{"$f":"IF('sd paste'!C337=\"\",\"\",'sd paste'!C337)","v":3933},{"$f":"IF('sd paste'!E337=\"\",\"\",'sd paste'!E337)","v":"vkp336"},{"$f":"IF('sd paste'!G337=\"\",\"\",'sd paste'!G337)","v":"vk"},{"$f":"IF('sd paste'!H337=\"\",\"\",'sd paste'!H337)","v":"vkk"},{"$f":"IF('sd paste'!J337=\"\",\"\",'sd paste'!J337)","v":"2019-06-01"},{"$f":"IF('sd paste'!V337=\"\",\"\",'sd paste'!V337)","v":9828121032}]
[337,{"$f":"IF('sd paste'!A338=\"\",\"\",'sd paste'!A338)","v":9},{"$f":"IF('sd paste'!B338=\"\",\"\",'sd paste'!B338)","v":"B"},{"$f":"IF('sd paste'!C338=\"\",\"\",'sd paste'!C338)","v":4516},{"$f":"IF('sd paste'!E338=\"\",\"\",'sd paste'!E338)","v":"vkp337"},{"$f":"IF('sd paste'!G338=\"\",\"\",'sd paste'!G338)","v":"vk"},{"$f":"IF('sd paste'!H338=\"\",\"\",'sd paste'!H338)","v":"vkk"},{"$f":"IF('sd paste'!J338=\"\",\"\",'sd paste'!J338)","v":"2019-06-02"},{"$f":"IF('sd paste'!V338=\"\",\"\",'sd paste'!V338)","v":9828121033}]
[338,{"$f":"IF('sd paste'!A339=\"\",\"\",'sd paste'!A339)","v":9},{"$f":"IF('sd paste'!B339=\"\",\"\",'sd paste'!B339)","v":"B"},{"$f":"IF('sd paste'!C339=\"\",\"\",'sd paste'!C339)","v":5406},{"$f":"IF('sd paste'!E339=\"\",\"\",'sd paste'!E339)","v":"vkp338"},{"$f":"IF('sd paste'!G339=\"\",\"\",'sd paste'!G339)","v":"vk"},{"$f":"IF('sd paste'!H339=\"\",\"\",'sd paste'!H339)","v":"vkk"},{"$f":"IF('sd paste'!J339=\"\",\"\",'sd paste'!J339)","v":"2019-06-03"},{"$f":"IF('sd paste'!V339=\"\",\"\",'sd paste'!V339)","v":9828121034}]
[339,{"$f":"IF('sd paste'!A340=\"\",\"\",'sd paste'!A340)","v":9},{"$f":"IF('sd paste'!B340=\"\",\"\",'sd paste'!B340)","v":"B"},{"$f":"IF('sd paste'!C340=\"\",\"\",'sd paste'!C340)","v":5015},{"$f":"IF('sd paste'!E340=\"\",\"\",'sd paste'!E340)","v":"vkp339"},{"$f":"IF('sd paste'!G340=\"\",\"\",'sd paste'!G340)","v":"vk"},{"$f":"IF('sd paste'!H340=\"\",\"\",'sd paste'!H340)","v":"vkk"},{"$f":"IF('sd paste'!J340=\"\",\"\",'sd paste'!J340)","v":"2019-06-04"},{"$f":"IF('sd paste'!V340=\"\",\"\",'sd paste'!V340)","v":9828121035}]
[340,{"$f":"IF('sd paste'!A341=\"\",\"\",'sd paste'!A341)","v":9},{"$f":"IF('sd paste'!B341=\"\",\"\",'sd paste'!B341)","v":"B"},{"$f":"IF('sd paste'!C341=\"\",\"\",'sd paste'!C341)","v":5433},{"$f":"IF('sd paste'!E341=\"\",\"\",'sd paste'!E341)","v":"vkp340"},{"$f":"IF('sd paste'!G341=\"\",\"\",'sd paste'!G341)","v":"vk"},{"$f":"IF('sd paste'!H341=\"\",\"\",'sd paste'!H341)","v":"vkk"},{"$f":"IF('sd paste'!J341=\"\",\"\",'sd paste'!J341)","v":"2019-06-05"},{"$f":"IF('sd paste'!V341=\"\",\"\",'sd paste'!V341)","v":9828121036}]
[341,{"$f":"IF('sd paste'!A342=\"\",\"\",'sd paste'!A342)","v":9},{"$f":"IF('sd paste'!B342=\"\",\"\",'sd paste'!B342)","v":"B"},{"$f":"IF('sd paste'!C342=\"\",\"\",'sd paste'!C342)","v":5363},{"$f":"IF('sd paste'!E342=\"\",\"\",'sd paste'!E342)","v":"vkp341"},{"$f":"IF('sd paste'!G342=\"\",\"\",'sd paste'!G342)","v":"vk"},{"$f":"IF('sd paste'!H342=\"\",\"\",'sd paste'!H342)","v":"vkk"},{"$f":"IF('sd paste'!J342=\"\",\"\",'sd paste'!J342)","v":"2019-06-06"},{"$f":"IF('sd paste'!V342=\"\",\"\",'sd paste'!V342)","v":9828121037}]
[342,{"$f":"IF('sd paste'!A343=\"\",\"\",'sd paste'!A343)","v":10},{"$f":"IF('sd paste'!B343=\"\",\"\",'sd paste'!B343)","v":"A"},{"$f":"IF('sd paste'!C343=\"\",\"\",'sd paste'!C343)","v":4717},{"$f":"IF('sd paste'!E343=\"\",\"\",'sd paste'!E343)","v":"vkp342"},{"$f":"IF('sd paste'!G343=\"\",\"\",'sd paste'!G343)","v":"vk"},{"$f":"IF('sd paste'!H343=\"\",\"\",'sd paste'!H343)","v":"vkk"},{"$f":"IF('sd paste'!J343=\"\",\"\",'sd paste'!J343)","v":"2019-06-07"},{"$f":"IF('sd paste'!V343=\"\",\"\",'sd paste'!V343)","v":9828121038}]
[343,{"$f":"IF('sd paste'!A344=\"\",\"\",'sd paste'!A344)","v":10},{"$f":"IF('sd paste'!B344=\"\",\"\",'sd paste'!B344)","v":"A"},{"$f":"IF('sd paste'!C344=\"\",\"\",'sd paste'!C344)","v":5383},{"$f":"IF('sd paste'!E344=\"\",\"\",'sd paste'!E344)","v":"vkp343"},{"$f":"IF('sd paste'!G344=\"\",\"\",'sd paste'!G344)","v":"vk"},{"$f":"IF('sd paste'!H344=\"\",\"\",'sd paste'!H344)","v":"vkk"},{"$f":"IF('sd paste'!J344=\"\",\"\",'sd paste'!J344)","v":"2019-06-08"},{"$f":"IF('sd paste'!V344=\"\",\"\",'sd paste'!V344)","v":9828121039}]
[344,{"$f":"IF('sd paste'!A345=\"\",\"\",'sd paste'!A345)","v":10},{"$f":"IF('sd paste'!B345=\"\",\"\",'sd paste'!B345)","v":"A"},{"$f":"IF('sd paste'!C345=\"\",\"\",'sd paste'!C345)","v":5344},{"$f":"IF('sd paste'!E345=\"\",\"\",'sd paste'!E345)","v":"vkp344"},{"$f":"IF('sd paste'!G345=\"\",\"\",'sd paste'!G345)","v":"vk"},{"$f":"IF('sd paste'!H345=\"\",\"\",'sd paste'!H345)","v":"vkk"},{"$f":"IF('sd paste'!J345=\"\",\"\",'sd paste'!J345)","v":"2019-06-09"},{"$f":"IF('sd paste'!V345=\"\",\"\",'sd paste'!V345)","v":9828121040}]
[345,{"$f":"IF('sd paste'!A346=\"\",\"\",'sd paste'!A346)","v":10},{"$f":"IF('sd paste'!B346=\"\",\"\",'sd paste'!B346)","v":"A"},{"$f":"IF('sd paste'!C346=\"\",\"\",'sd paste'!C346)","v":5141},{"$f":"IF('sd paste'!E346=\"\",\"\",'sd paste'!E346)","v":"vkp345"},{"$f":"IF('sd paste'!G346=\"\",\"\",'sd paste'!G346)","v":"vk"},{"$f":"IF('sd paste'!H346=\"\",\"\",'sd paste'!H346)","v":"vkk"},{"$f":"IF('sd paste'!J346=\"\",\"\",'sd paste'!J346)","v":"2019-06-10"},{"$f":"IF('sd paste'!V346=\"\",\"\",'sd paste'!V346)","v":9828121041}]
[346,{"$f":"IF('sd paste'!A347=\"\",\"\",'sd paste'!A347)","v":10},{"$f":"IF('sd paste'!B347=\"\",\"\",'sd paste'!B347)","v":"A"},{"$f":"IF('sd paste'!C347=\"\",\"\",'sd paste'!C347)","v":5191},{"$f":"IF('sd paste'!E347=\"\",\"\",'sd paste'!E347)","v":"vkp346"},{"$f":"IF('sd paste'!G347=\"\",\"\",'sd paste'!G347)","v":"vk"},{"$f":"IF('sd paste'!H347=\"\",\"\",'sd paste'!H347)","v":"vkk"},{"$f":"IF('sd paste'!J347=\"\",\"\",'sd paste'!J347)","v":"2019-06-11"},{"$f":"IF('sd paste'!V347=\"\",\"\",'sd paste'!V347)","v":9828121042}]
[347,{"$f":"IF('sd paste'!A348=\"\",\"\",'sd paste'!A348)","v":10},{"$f":"IF('sd paste'!B348=\"\",\"\",'sd paste'!B348)","v":"A"},{"$f":"IF('sd paste'!C348=\"\",\"\",'sd paste'!C348)","v":4748},{"$f":"IF('sd paste'!E348=\"\",\"\",'sd paste'!E348)","v":"vkp347"},{"$f":"IF('sd paste'!G348=\"\",\"\",'sd paste'!G348)","v":"vk"},{"$f":"IF('sd paste'!H348=\"\",\"\",'sd paste'!H348)","v":"vkk"},{"$f":"IF('sd paste'!J348=\"\",\"\",'sd paste'!J348)","v":"2019-06-12"},{"$f":"IF('sd paste'!V348=\"\",\"\",'sd paste'!V348)","v":9828121043}]
[348,{"$f":"IF('sd paste'!A349=\"\",\"\",'sd paste'!A349)","v":10},{"$f":"IF('sd paste'!B349=\"\",\"\",'sd paste'!B349)","v":"A"},{"$f":"IF('sd paste'!C349=\"\",\"\",'sd paste'!C349)","v":5254},{"$f":"IF('sd paste'!E349=\"\",\"\",'sd paste'!E349)","v":"vkp348"},{"$f":"IF('sd paste'!G349=\"\",\"\",'sd paste'!G349)","v":"vk"},{"$f":"IF('sd paste'!H349=\"\",\"\",'sd paste'!H349)","v":"vkk"},{"$f":"IF('sd paste'!J349=\"\",\"\",'sd paste'!J349)","v":"2019-06-13"},{"$f":"IF('sd paste'!V349=\"\",\"\",'sd paste'!V349)","v":9828121044}]
[349,{"$f":"IF('sd paste'!A350=\"\",\"\",'sd paste'!A350)","v":10},{"$f":"IF('sd paste'!B350=\"\",\"\",'sd paste'!B350)","v":"A"},{"$f":"IF('sd paste'!C350=\"\",\"\",'sd paste'!C350)","v":5147},{"$f":"IF('sd paste'!E350=\"\",\"\",'sd paste'!E350)","v":"vkp349"},{"$f":"IF('sd paste'!G350=\"\",\"\",'sd paste'!G350)","v":"vk"},{"$f":"IF('sd paste'!H350=\"\",\"\",'sd paste'!H350)","v":"vkk"},{"$f":"IF('sd paste'!J350=\"\",\"\",'sd paste'!J350)","v":"2019-06-14"},{"$f":"IF('sd paste'!V350=\"\",\"\",'sd paste'!V350)","v":9828121045}]
[350,{"$f":"IF('sd paste'!A351=\"\",\"\",'sd paste'!A351)","v":10},{"$f":"IF('sd paste'!B351=\"\",\"\",'sd paste'!B351)","v":"A"},{"$f":"IF('sd paste'!C351=\"\",\"\",'sd paste'!C351)","v":5139},{"$f":"IF('sd paste'!E351=\"\",\"\",'sd paste'!E351)","v":"vkp350"},{"$f":"IF('sd paste'!G351=\"\",\"\",'sd paste'!G351)","v":"vk"},{"$f":"IF('sd paste'!H351=\"\",\"\",'sd paste'!H351)","v":"vkk"},{"$f":"IF('sd paste'!J351=\"\",\"\",'sd paste'!J351)","v":"2019-06-15"},{"$f":"IF('sd paste'!V351=\"\",\"\",'sd paste'!V351)","v":9828121046}]
[351,{"$f":"IF('sd paste'!A352=\"\",\"\",'sd paste'!A352)","v":10},{"$f":"IF('sd paste'!B352=\"\",\"\",'sd paste'!B352)","v":"A"},{"$f":"IF('sd paste'!C352=\"\",\"\",'sd paste'!C352)","v":3917},{"$f":"IF('sd paste'!E352=\"\",\"\",'sd paste'!E352)","v":"vkp351"},{"$f":"IF('sd paste'!G352=\"\",\"\",'sd paste'!G352)","v":"vk"},{"$f":"IF('sd paste'!H352=\"\",\"\",'sd paste'!H352)","v":"vkk"},{"$f":"IF('sd paste'!J352=\"\",\"\",'sd paste'!J352)","v":"2019-06-16"},{"$f":"IF('sd paste'!V352=\"\",\"\",'sd paste'!V352)","v":9828121047}]
[352,{"$f":"IF('sd paste'!A353=\"\",\"\",'sd paste'!A353)","v":10},{"$f":"IF('sd paste'!B353=\"\",\"\",'sd paste'!B353)","v":"A"},{"$f":"IF('sd paste'!C353=\"\",\"\",'sd paste'!C353)","v":5285},{"$f":"IF('sd paste'!E353=\"\",\"\",'sd paste'!E353)","v":"vkp352"},{"$f":"IF('sd paste'!G353=\"\",\"\",'sd paste'!G353)","v":"vk"},{"$f":"IF('sd paste'!H353=\"\",\"\",'sd paste'!H353)","v":"vkk"},{"$f":"IF('sd paste'!J353=\"\",\"\",'sd paste'!J353)","v":"2019-06-17"},{"$f":"IF('sd paste'!V353=\"\",\"\",'sd paste'!V353)","v":9828121048}]
[353,{"$f":"IF('sd paste'!A354=\"\",\"\",'sd paste'!A354)","v":10},{"$f":"IF('sd paste'!B354=\"\",\"\",'sd paste'!B354)","v":"A"},{"$f":"IF('sd paste'!C354=\"\",\"\",'sd paste'!C354)","v":3887},{"$f":"IF('sd paste'!E354=\"\",\"\",'sd paste'!E354)","v":"vkp353"},{"$f":"IF('sd paste'!G354=\"\",\"\",'sd paste'!G354)","v":"vk"},{"$f":"IF('sd paste'!H354=\"\",\"\",'sd paste'!H354)","v":"vkk"},{"$f":"IF('sd paste'!J354=\"\",\"\",'sd paste'!J354)","v":"2019-06-18"},{"$f":"IF('sd paste'!V354=\"\",\"\",'sd paste'!V354)","v":9828121049}]
[354,{"$f":"IF('sd paste'!A355=\"\",\"\",'sd paste'!A355)","v":10},{"$f":"IF('sd paste'!B355=\"\",\"\",'sd paste'!B355)","v":"A"},{"$f":"IF('sd paste'!C355=\"\",\"\",'sd paste'!C355)","v":5409},{"$f":"IF('sd paste'!E355=\"\",\"\",'sd paste'!E355)","v":"vkp354"},{"$f":"IF('sd paste'!G355=\"\",\"\",'sd paste'!G355)","v":"vk"},{"$f":"IF('sd paste'!H355=\"\",\"\",'sd paste'!H355)","v":"vkk"},{"$f":"IF('sd paste'!J355=\"\",\"\",'sd paste'!J355)","v":"2019-06-19"},{"$f":"IF('sd paste'!V355=\"\",\"\",'sd paste'!V355)","v":9828121050}]
[355,{"$f":"IF('sd paste'!A356=\"\",\"\",'sd paste'!A356)","v":10},{"$f":"IF('sd paste'!B356=\"\",\"\",'sd paste'!B356)","v":"A"},{"$f":"IF('sd paste'!C356=\"\",\"\",'sd paste'!C356)","v":4713},{"$f":"IF('sd paste'!E356=\"\",\"\",'sd paste'!E356)","v":"vkp355"},{"$f":"IF('sd paste'!G356=\"\",\"\",'sd paste'!G356)","v":"vk"},{"$f":"IF('sd paste'!H356=\"\",\"\",'sd paste'!H356)","v":"vkk"},{"$f":"IF('sd paste'!J356=\"\",\"\",'sd paste'!J356)","v":"2019-06-20"},{"$f":"IF('sd paste'!V356=\"\",\"\",'sd paste'!V356)","v":9828121051}]
[356,{"$f":"IF('sd paste'!A357=\"\",\"\",'sd paste'!A357)","v":10},{"$f":"IF('sd paste'!B357=\"\",\"\",'sd paste'!B357)","v":"A"},{"$f":"IF('sd paste'!C357=\"\",\"\",'sd paste'!C357)","v":5334},{"$f":"IF('sd paste'!E357=\"\",\"\",'sd paste'!E357)","v":"vkp356"},{"$f":"IF('sd paste'!G357=\"\",\"\",'sd paste'!G357)","v":"vk"},{"$f":"IF('sd paste'!H357=\"\",\"\",'sd paste'!H357)","v":"vkk"},{"$f":"IF('sd paste'!J357=\"\",\"\",'sd paste'!J357)","v":"2019-06-21"},{"$f":"IF('sd paste'!V357=\"\",\"\",'sd paste'!V357)","v":9828121052}]
[357,{"$f":"IF('sd paste'!A358=\"\",\"\",'sd paste'!A358)","v":10},{"$f":"IF('sd paste'!B358=\"\",\"\",'sd paste'!B358)","v":"A"},{"$f":"IF('sd paste'!C358=\"\",\"\",'sd paste'!C358)","v":3925},{"$f":"IF('sd paste'!E358=\"\",\"\",'sd paste'!E358)","v":"vkp357"},{"$f":"IF('sd paste'!G358=\"\",\"\",'sd paste'!G358)","v":"vk"},{"$f":"IF('sd paste'!H358=\"\",\"\",'sd paste'!H358)","v":"vkk"},{"$f":"IF('sd paste'!J358=\"\",\"\",'sd paste'!J358)","v":"2019-06-22"},{"$f":"IF('sd paste'!V358=\"\",\"\",'sd paste'!V358)","v":9828121053}]
[358,{"$f":"IF('sd paste'!A359=\"\",\"\",'sd paste'!A359)","v":10},{"$f":"IF('sd paste'!B359=\"\",\"\",'sd paste'!B359)","v":"A"},{"$f":"IF('sd paste'!C359=\"\",\"\",'sd paste'!C359)","v":5138},{"$f":"IF('sd paste'!E359=\"\",\"\",'sd paste'!E359)","v":"vkp358"},{"$f":"IF('sd paste'!G359=\"\",\"\",'sd paste'!G359)","v":"vk"},{"$f":"IF('sd paste'!H359=\"\",\"\",'sd paste'!H359)","v":"vkk"},{"$f":"IF('sd paste'!J359=\"\",\"\",'sd paste'!J359)","v":"2019-06-23"},{"$f":"IF('sd paste'!V359=\"\",\"\",'sd paste'!V359)","v":9828121054}]
[359,{"$f":"IF('sd paste'!A360=\"\",\"\",'sd paste'!A360)","v":10},{"$f":"IF('sd paste'!B360=\"\",\"\",'sd paste'!B360)","v":"A"},{"$f":"IF('sd paste'!C360=\"\",\"\",'sd paste'!C360)","v":5436},{"$f":"IF('sd paste'!E360=\"\",\"\",'sd paste'!E360)","v":"vkp359"},{"$f":"IF('sd paste'!G360=\"\",\"\",'sd paste'!G360)","v":"vk"},{"$f":"IF('sd paste'!H360=\"\",\"\",'sd paste'!H360)","v":"vkk"},{"$f":"IF('sd paste'!J360=\"\",\"\",'sd paste'!J360)","v":"2019-06-24"},{"$f":"IF('sd paste'!V360=\"\",\"\",'sd paste'!V360)","v":9828121055}]
[360,{"$f":"IF('sd paste'!A361=\"\",\"\",'sd paste'!A361)","v":10},{"$f":"IF('sd paste'!B361=\"\",\"\",'sd paste'!B361)","v":"A"},{"$f":"IF('sd paste'!C361=\"\",\"\",'sd paste'!C361)","v":5350},{"$f":"IF('sd paste'!E361=\"\",\"\",'sd paste'!E361)","v":"vkp360"},{"$f":"IF('sd paste'!G361=\"\",\"\",'sd paste'!G361)","v":"vk"},{"$f":"IF('sd paste'!H361=\"\",\"\",'sd paste'!H361)","v":"vkk"},{"$f":"IF('sd paste'!J361=\"\",\"\",'sd paste'!J361)","v":"2019-06-25"},{"$f":"IF('sd paste'!V361=\"\",\"\",'sd paste'!V361)","v":9828121056}]
[361,{"$f":"IF('sd paste'!A362=\"\",\"\",'sd paste'!A362)","v":10},{"$f":"IF('sd paste'!B362=\"\",\"\",'sd paste'!B362)","v":"A"},{"$f":"IF('sd paste'!C362=\"\",\"\",'sd paste'!C362)","v":5279},{"$f":"IF('sd paste'!E362=\"\",\"\",'sd paste'!E362)","v":"vkp361"},{"$f":"IF('sd paste'!G362=\"\",\"\",'sd paste'!G362)","v":"vk"},{"$f":"IF('sd paste'!H362=\"\",\"\",'sd paste'!H362)","v":"vkk"},{"$f":"IF('sd paste'!J362=\"\",\"\",'sd paste'!J362)","v":"2019-06-26"},{"$f":"IF('sd paste'!V362=\"\",\"\",'sd paste'!V362)","v":9828121057}]
[362,{"$f":"IF('sd paste'!A363=\"\",\"\",'sd paste'!A363)","v":10},{"$f":"IF('sd paste'!B363=\"\",\"\",'sd paste'!B363)","v":"A"},{"$f":"IF('sd paste'!C363=\"\",\"\",'sd paste'!C363)","v":5282},{"$f":"IF('sd paste'!E363=\"\",\"\",'sd paste'!E363)","v":"vkp362"},{"$f":"IF('sd paste'!G363=\"\",\"\",'sd paste'!G363)","v":"vk"},{"$f":"IF('sd paste'!H363=\"\",\"\",'sd paste'!H363)","v":"vkk"},{"$f":"IF('sd paste'!J363=\"\",\"\",'sd paste'!J363)","v":"2019-06-27"},{"$f":"IF('sd paste'!V363=\"\",\"\",'sd paste'!V363)","v":9828121058}]
[363,{"$f":"IF('sd paste'!A364=\"\",\"\",'sd paste'!A364)","v":10},{"$f":"IF('sd paste'!B364=\"\",\"\",'sd paste'!B364)","v":"A"},{"$f":"IF('sd paste'!C364=\"\",\"\",'sd paste'!C364)","v":5446},{"$f":"IF('sd paste'!E364=\"\",\"\",'sd paste'!E364)","v":"vkp363"},{"$f":"IF('sd paste'!G364=\"\",\"\",'sd paste'!G364)","v":"vk"},{"$f":"IF('sd paste'!H364=\"\",\"\",'sd paste'!H364)","v":"vkk"},{"$f":"IF('sd paste'!J364=\"\",\"\",'sd paste'!J364)","v":"2019-06-28"},{"$f":"IF('sd paste'!V364=\"\",\"\",'sd paste'!V364)","v":9828121059}]
[364,{"$f":"IF('sd paste'!A365=\"\",\"\",'sd paste'!A365)","v":10},{"$f":"IF('sd paste'!B365=\"\",\"\",'sd paste'!B365)","v":"A"},{"$f":"IF('sd paste'!C365=\"\",\"\",'sd paste'!C365)","v":4938},{"$f":"IF('sd paste'!E365=\"\",\"\",'sd paste'!E365)","v":"vkp364"},{"$f":"IF('sd paste'!G365=\"\",\"\",'sd paste'!G365)","v":"vk"},{"$f":"IF('sd paste'!H365=\"\",\"\",'sd paste'!H365)","v":"vkk"},{"$f":"IF('sd paste'!J365=\"\",\"\",'sd paste'!J365)","v":"2019-06-29"},{"$f":"IF('sd paste'!V365=\"\",\"\",'sd paste'!V365)","v":9828121060}]
[365,{"$f":"IF('sd paste'!A366=\"\",\"\",'sd paste'!A366)","v":10},{"$f":"IF('sd paste'!B366=\"\",\"\",'sd paste'!B366)","v":"A"},{"$f":"IF('sd paste'!C366=\"\",\"\",'sd paste'!C366)","v":5126},{"$f":"IF('sd paste'!E366=\"\",\"\",'sd paste'!E366)","v":"vkp365"},{"$f":"IF('sd paste'!G366=\"\",\"\",'sd paste'!G366)","v":"vk"},{"$f":"IF('sd paste'!H366=\"\",\"\",'sd paste'!H366)","v":"vkk"},{"$f":"IF('sd paste'!J366=\"\",\"\",'sd paste'!J366)","v":"2019-06-30"},{"$f":"IF('sd paste'!V366=\"\",\"\",'sd paste'!V366)","v":9828121061}]
[366,{"$f":"IF('sd paste'!A367=\"\",\"\",'sd paste'!A367)","v":10},{"$f":"IF('sd paste'!B367=\"\",\"\",'sd paste'!B367)","v":"A"},{"$f":"IF('sd paste'!C367=\"\",\"\",'sd paste'!C367)","v":3900},{"$f":"IF('sd paste'!E367=\"\",\"\",'sd paste'!E367)","v":"vkp366"},{"$f":"IF('sd paste'!G367=\"\",\"\",'sd paste'!G367)","v":"vk"},{"$f":"IF('sd paste'!H367=\"\",\"\",'sd paste'!H367)","v":"vkk"},{"$f":"IF('sd paste'!J367=\"\",\"\",'sd paste'!J367)","v":"2019-07-01"},{"$f":"IF('sd paste'!V367=\"\",\"\",'sd paste'!V367)","v":9828121062}]
[367,{"$f":"IF('sd paste'!A368=\"\",\"\",'sd paste'!A368)","v":10},{"$f":"IF('sd paste'!B368=\"\",\"\",'sd paste'!B368)","v":"A"},{"$f":"IF('sd paste'!C368=\"\",\"\",'sd paste'!C368)","v":5187},{"$f":"IF('sd paste'!E368=\"\",\"\",'sd paste'!E368)","v":"vkp367"},{"$f":"IF('sd paste'!G368=\"\",\"\",'sd paste'!G368)","v":"vk"},{"$f":"IF('sd paste'!H368=\"\",\"\",'sd paste'!H368)","v":"vkk"},{"$f":"IF('sd paste'!J368=\"\",\"\",'sd paste'!J368)","v":"2019-07-02"},{"$f":"IF('sd paste'!V368=\"\",\"\",'sd paste'!V368)","v":9828121063}]
[368,{"$f":"IF('sd paste'!A369=\"\",\"\",'sd paste'!A369)","v":10},{"$f":"IF('sd paste'!B369=\"\",\"\",'sd paste'!B369)","v":"A"},{"$f":"IF('sd paste'!C369=\"\",\"\",'sd paste'!C369)","v":5202},{"$f":"IF('sd paste'!E369=\"\",\"\",'sd paste'!E369)","v":"vkp368"},{"$f":"IF('sd paste'!G369=\"\",\"\",'sd paste'!G369)","v":"vk"},{"$f":"IF('sd paste'!H369=\"\",\"\",'sd paste'!H369)","v":"vkk"},{"$f":"IF('sd paste'!J369=\"\",\"\",'sd paste'!J369)","v":"2019-07-03"},{"$f":"IF('sd paste'!V369=\"\",\"\",'sd paste'!V369)","v":9828121064}]
[369,{"$f":"IF('sd paste'!A370=\"\",\"\",'sd paste'!A370)","v":10},{"$f":"IF('sd paste'!B370=\"\",\"\",'sd paste'!B370)","v":"A"},{"$f":"IF('sd paste'!C370=\"\",\"\",'sd paste'!C370)","v":5193},{"$f":"IF('sd paste'!E370=\"\",\"\",'sd paste'!E370)","v":"vkp369"},{"$f":"IF('sd paste'!G370=\"\",\"\",'sd paste'!G370)","v":"vk"},{"$f":"IF('sd paste'!H370=\"\",\"\",'sd paste'!H370)","v":"vkk"},{"$f":"IF('sd paste'!J370=\"\",\"\",'sd paste'!J370)","v":"2019-07-04"},{"$f":"IF('sd paste'!V370=\"\",\"\",'sd paste'!V370)","v":9828121065}]
[370,{"$f":"IF('sd paste'!A371=\"\",\"\",'sd paste'!A371)","v":10},{"$f":"IF('sd paste'!B371=\"\",\"\",'sd paste'!B371)","v":"A"},{"$f":"IF('sd paste'!C371=\"\",\"\",'sd paste'!C371)","v":5203},{"$f":"IF('sd paste'!E371=\"\",\"\",'sd paste'!E371)","v":"vkp370"},{"$f":"IF('sd paste'!G371=\"\",\"\",'sd paste'!G371)","v":"vk"},{"$f":"IF('sd paste'!H371=\"\",\"\",'sd paste'!H371)","v":"vkk"},{"$f":"IF('sd paste'!J371=\"\",\"\",'sd paste'!J371)","v":"2019-07-05"},{"$f":"IF('sd paste'!V371=\"\",\"\",'sd paste'!V371)","v":9828121066}]
[371,{"$f":"IF('sd paste'!A372=\"\",\"\",'sd paste'!A372)","v":10},{"$f":"IF('sd paste'!B372=\"\",\"\",'sd paste'!B372)","v":"A"},{"$f":"IF('sd paste'!C372=\"\",\"\",'sd paste'!C372)","v":5111},{"$f":"IF('sd paste'!E372=\"\",\"\",'sd paste'!E372)","v":"vkp371"},{"$f":"IF('sd paste'!G372=\"\",\"\",'sd paste'!G372)","v":"vk"},{"$f":"IF('sd paste'!H372=\"\",\"\",'sd paste'!H372)","v":"vkk"},{"$f":"IF('sd paste'!J372=\"\",\"\",'sd paste'!J372)","v":"2019-07-06"},{"$f":"IF('sd paste'!V372=\"\",\"\",'sd paste'!V372)","v":9828121067}]
[372,{"$f":"IF('sd paste'!A373=\"\",\"\",'sd paste'!A373)","v":10},{"$f":"IF('sd paste'!B373=\"\",\"\",'sd paste'!B373)","v":"A"},{"$f":"IF('sd paste'!C373=\"\",\"\",'sd paste'!C373)","v":5165},{"$f":"IF('sd paste'!E373=\"\",\"\",'sd paste'!E373)","v":"vkp372"},{"$f":"IF('sd paste'!G373=\"\",\"\",'sd paste'!G373)","v":"vk"},{"$f":"IF('sd paste'!H373=\"\",\"\",'sd paste'!H373)","v":"vkk"},{"$f":"IF('sd paste'!J373=\"\",\"\",'sd paste'!J373)","v":"2019-07-07"},{"$f":"IF('sd paste'!V373=\"\",\"\",'sd paste'!V373)","v":9828121068}]
[373,{"$f":"IF('sd paste'!A374=\"\",\"\",'sd paste'!A374)","v":10},{"$f":"IF('sd paste'!B374=\"\",\"\",'sd paste'!B374)","v":"A"},{"$f":"IF('sd paste'!C374=\"\",\"\",'sd paste'!C374)","v":4455},{"$f":"IF('sd paste'!E374=\"\",\"\",'sd paste'!E374)","v":"vkp373"},{"$f":"IF('sd paste'!G374=\"\",\"\",'sd paste'!G374)","v":"vk"},{"$f":"IF('sd paste'!H374=\"\",\"\",'sd paste'!H374)","v":"vkk"},{"$f":"IF('sd paste'!J374=\"\",\"\",'sd paste'!J374)","v":"2019-07-08"},{"$f":"IF('sd paste'!V374=\"\",\"\",'sd paste'!V374)","v":9828121069}]
[374,{"$f":"IF('sd paste'!A375=\"\",\"\",'sd paste'!A375)","v":10},{"$f":"IF('sd paste'!B375=\"\",\"\",'sd paste'!B375)","v":"A"},{"$f":"IF('sd paste'!C375=\"\",\"\",'sd paste'!C375)","v":5286},{"$f":"IF('sd paste'!E375=\"\",\"\",'sd paste'!E375)","v":"vkp374"},{"$f":"IF('sd paste'!G375=\"\",\"\",'sd paste'!G375)","v":"vk"},{"$f":"IF('sd paste'!H375=\"\",\"\",'sd paste'!H375)","v":"vkk"},{"$f":"IF('sd paste'!J375=\"\",\"\",'sd paste'!J375)","v":"2019-07-09"},{"$f":"IF('sd paste'!V375=\"\",\"\",'sd paste'!V375)","v":9828121070}]
[375,{"$f":"IF('sd paste'!A376=\"\",\"\",'sd paste'!A376)","v":10},{"$f":"IF('sd paste'!B376=\"\",\"\",'sd paste'!B376)","v":"A"},{"$f":"IF('sd paste'!C376=\"\",\"\",'sd paste'!C376)","v":5140},{"$f":"IF('sd paste'!E376=\"\",\"\",'sd paste'!E376)","v":"vkp375"},{"$f":"IF('sd paste'!G376=\"\",\"\",'sd paste'!G376)","v":"vk"},{"$f":"IF('sd paste'!H376=\"\",\"\",'sd paste'!H376)","v":"vkk"},{"$f":"IF('sd paste'!J376=\"\",\"\",'sd paste'!J376)","v":"2019-07-10"},{"$f":"IF('sd paste'!V376=\"\",\"\",'sd paste'!V376)","v":9828121071}]
[376,{"$f":"IF('sd paste'!A377=\"\",\"\",'sd paste'!A377)","v":10},{"$f":"IF('sd paste'!B377=\"\",\"\",'sd paste'!B377)","v":"A"},{"$f":"IF('sd paste'!C377=\"\",\"\",'sd paste'!C377)","v":5188},{"$f":"IF('sd paste'!E377=\"\",\"\",'sd paste'!E377)","v":"vkp376"},{"$f":"IF('sd paste'!G377=\"\",\"\",'sd paste'!G377)","v":"vk"},{"$f":"IF('sd paste'!H377=\"\",\"\",'sd paste'!H377)","v":"vkk"},{"$f":"IF('sd paste'!J377=\"\",\"\",'sd paste'!J377)","v":"2019-07-11"},{"$f":"IF('sd paste'!V377=\"\",\"\",'sd paste'!V377)","v":9828121072}]
[377,{"$f":"IF('sd paste'!A378=\"\",\"\",'sd paste'!A378)","v":10},{"$f":"IF('sd paste'!B378=\"\",\"\",'sd paste'!B378)","v":"A"},{"$f":"IF('sd paste'!C378=\"\",\"\",'sd paste'!C378)","v":5170},{"$f":"IF('sd paste'!E378=\"\",\"\",'sd paste'!E378)","v":"vkp377"},{"$f":"IF('sd paste'!G378=\"\",\"\",'sd paste'!G378)","v":"vk"},{"$f":"IF('sd paste'!H378=\"\",\"\",'sd paste'!H378)","v":"vkk"},{"$f":"IF('sd paste'!J378=\"\",\"\",'sd paste'!J378)","v":"2019-07-12"},{"$f":"IF('sd paste'!V378=\"\",\"\",'sd paste'!V378)","v":9828121073}]
[378,{"$f":"IF('sd paste'!A379=\"\",\"\",'sd paste'!A379)","v":10},{"$f":"IF('sd paste'!B379=\"\",\"\",'sd paste'!B379)","v":"A"},{"$f":"IF('sd paste'!C379=\"\",\"\",'sd paste'!C379)","v":5105},{"$f":"IF('sd paste'!E379=\"\",\"\",'sd paste'!E379)","v":"vkp378"},{"$f":"IF('sd paste'!G379=\"\",\"\",'sd paste'!G379)","v":"vk"},{"$f":"IF('sd paste'!H379=\"\",\"\",'sd paste'!H379)","v":"vkk"},{"$f":"IF('sd paste'!J379=\"\",\"\",'sd paste'!J379)","v":"2019-07-13"},{"$f":"IF('sd paste'!V379=\"\",\"\",'sd paste'!V379)","v":9828121074}]
[379,{"$f":"IF('sd paste'!A380=\"\",\"\",'sd paste'!A380)","v":10},{"$f":"IF('sd paste'!B380=\"\",\"\",'sd paste'!B380)","v":"A"},{"$f":"IF('sd paste'!C380=\"\",\"\",'sd paste'!C380)","v":5135},{"$f":"IF('sd paste'!E380=\"\",\"\",'sd paste'!E380)","v":"vkp379"},{"$f":"IF('sd paste'!G380=\"\",\"\",'sd paste'!G380)","v":"vk"},{"$f":"IF('sd paste'!H380=\"\",\"\",'sd paste'!H380)","v":"vkk"},{"$f":"IF('sd paste'!J380=\"\",\"\",'sd paste'!J380)","v":"2019-07-14"},{"$f":"IF('sd paste'!V380=\"\",\"\",'sd paste'!V380)","v":9828121075}]
[380,{"$f":"IF('sd paste'!A381=\"\",\"\",'sd paste'!A381)","v":10},{"$f":"IF('sd paste'!B381=\"\",\"\",'sd paste'!B381)","v":"B"},{"$f":"IF('sd paste'!C381=\"\",\"\",'sd paste'!C381)","v":5143},{"$f":"IF('sd paste'!E381=\"\",\"\",'sd paste'!E381)","v":"vkp380"},{"$f":"IF('sd paste'!G381=\"\",\"\",'sd paste'!G381)","v":"vk"},{"$f":"IF('sd paste'!H381=\"\",\"\",'sd paste'!H381)","v":"vkk"},{"$f":"IF('sd paste'!J381=\"\",\"\",'sd paste'!J381)","v":"2019-07-15"},{"$f":"IF('sd paste'!V381=\"\",\"\",'sd paste'!V381)","v":9828121076}]
[381,{"$f":"IF('sd paste'!A382=\"\",\"\",'sd paste'!A382)","v":10},{"$f":"IF('sd paste'!B382=\"\",\"\",'sd paste'!B382)","v":"B"},{"$f":"IF('sd paste'!C382=\"\",\"\",'sd paste'!C382)","v":4779},{"$f":"IF('sd paste'!E382=\"\",\"\",'sd paste'!E382)","v":"vkp381"},{"$f":"IF('sd paste'!G382=\"\",\"\",'sd paste'!G382)","v":"vk"},{"$f":"IF('sd paste'!H382=\"\",\"\",'sd paste'!H382)","v":"vkk"},{"$f":"IF('sd paste'!J382=\"\",\"\",'sd paste'!J382)","v":"2019-07-16"},{"$f":"IF('sd paste'!V382=\"\",\"\",'sd paste'!V382)","v":9828121077}]
[382,{"$f":"IF('sd paste'!A383=\"\",\"\",'sd paste'!A383)","v":10},{"$f":"IF('sd paste'!B383=\"\",\"\",'sd paste'!B383)","v":"B"},{"$f":"IF('sd paste'!C383=\"\",\"\",'sd paste'!C383)","v":5268},{"$f":"IF('sd paste'!E383=\"\",\"\",'sd paste'!E383)","v":"vkp382"},{"$f":"IF('sd paste'!G383=\"\",\"\",'sd paste'!G383)","v":"vk"},{"$f":"IF('sd paste'!H383=\"\",\"\",'sd paste'!H383)","v":"vkk"},{"$f":"IF('sd paste'!J383=\"\",\"\",'sd paste'!J383)","v":"2019-07-17"},{"$f":"IF('sd paste'!V383=\"\",\"\",'sd paste'!V383)","v":9828121078}]
[383,{"$f":"IF('sd paste'!A384=\"\",\"\",'sd paste'!A384)","v":10},{"$f":"IF('sd paste'!B384=\"\",\"\",'sd paste'!B384)","v":"B"},{"$f":"IF('sd paste'!C384=\"\",\"\",'sd paste'!C384)","v":5205},{"$f":"IF('sd paste'!E384=\"\",\"\",'sd paste'!E384)","v":"vkp383"},{"$f":"IF('sd paste'!G384=\"\",\"\",'sd paste'!G384)","v":"vk"},{"$f":"IF('sd paste'!H384=\"\",\"\",'sd paste'!H384)","v":"vkk"},{"$f":"IF('sd paste'!J384=\"\",\"\",'sd paste'!J384)","v":"2019-07-18"},{"$f":"IF('sd paste'!V384=\"\",\"\",'sd paste'!V384)","v":9828121079}]
[384,{"$f":"IF('sd paste'!A385=\"\",\"\",'sd paste'!A385)","v":10},{"$f":"IF('sd paste'!B385=\"\",\"\",'sd paste'!B385)","v":"B"},{"$f":"IF('sd paste'!C385=\"\",\"\",'sd paste'!C385)","v":5157},{"$f":"IF('sd paste'!E385=\"\",\"\",'sd paste'!E385)","v":"vkp384"},{"$f":"IF('sd paste'!G385=\"\",\"\",'sd paste'!G385)","v":"vk"},{"$f":"IF('sd paste'!H385=\"\",\"\",'sd paste'!H385)","v":"vkk"},{"$f":"IF('sd paste'!J385=\"\",\"\",'sd paste'!J385)","v":"2019-07-19"},{"$f":"IF('sd paste'!V385=\"\",\"\",'sd paste'!V385)","v":9828121080}]
[385,{"$f":"IF('sd paste'!A386=\"\",\"\",'sd paste'!A386)","v":10},{"$f":"IF('sd paste'!B386=\"\",\"\",'sd paste'!B386)","v":"B"},{"$f":"IF('sd paste'!C386=\"\",\"\",'sd paste'!C386)","v":5146},{"$f":"IF('sd paste'!E386=\"\",\"\",'sd paste'!E386)","v":"vkp385"},{"$f":"IF('sd paste'!G386=\"\",\"\",'sd paste'!G386)","v":"vk"},{"$f":"IF('sd paste'!H386=\"\",\"\",'sd paste'!H386)","v":"vkk"},{"$f":"IF('sd paste'!J386=\"\",\"\",'sd paste'!J386)","v":"2019-07-20"},{"$f":"IF('sd paste'!V386=\"\",\"\",'sd paste'!V386)","v":9828121081}]
[{"$f":"IF(F391=\"\",\"\",ROW(386:386))","v":386},{"$f":"IF('sd paste'!A387=\"\",\"\",'sd paste'!A387)","v":10},{"$f":"IF('sd paste'!B387=\"\",\"\",'sd paste'!B387)","v":"B"},{"$f":"IF('sd paste'!C387=\"\",\"\",'sd paste'!C387)","v":4632},{"$f":"IF('sd paste'!E387=\"\",\"\",'sd paste'!E387)","v":"vkp386"},{"$f":"IF('sd paste'!G387=\"\",\"\",'sd paste'!G387)","v":"vk"},{"$f":"IF('sd paste'!H387=\"\",\"\",'sd paste'!H387)","v":"vkk"},{"$f":"IF('sd paste'!J387=\"\",\"\",'sd paste'!J387)","v":"2019-07-21"},{"$f":"IF('sd paste'!V387=\"\",\"\",'sd paste'!V387)","v":9828121082}]
[387,{"$f":"IF('sd paste'!A388=\"\",\"\",'sd paste'!A388)","v":10},{"$f":"IF('sd paste'!B388=\"\",\"\",'sd paste'!B388)","v":"B"},{"$f":"IF('sd paste'!C388=\"\",\"\",'sd paste'!C388)","v":5255},{"$f":"IF('sd paste'!E388=\"\",\"\",'sd paste'!E388)","v":"vkp387"},{"$f":"IF('sd paste'!G388=\"\",\"\",'sd paste'!G388)","v":"vk"},{"$f":"IF('sd paste'!H388=\"\",\"\",'sd paste'!H388)","v":"vkk"},{"$f":"IF('sd paste'!J388=\"\",\"\",'sd paste'!J388)","v":"2019-07-22"},{"$f":"IF('sd paste'!V388=\"\",\"\",'sd paste'!V388)","v":9828121083}]
[388,{"$f":"IF('sd paste'!A389=\"\",\"\",'sd paste'!A389)","v":10},{"$f":"IF('sd paste'!B389=\"\",\"\",'sd paste'!B389)","v":"B"},{"$f":"IF('sd paste'!C389=\"\",\"\",'sd paste'!C389)","v":4745},{"$f":"IF('sd paste'!E389=\"\",\"\",'sd paste'!E389)","v":"vkp388"},{"$f":"IF('sd paste'!G389=\"\",\"\",'sd paste'!G389)","v":"vk"},{"$f":"IF('sd paste'!H389=\"\",\"\",'sd paste'!H389)","v":"vkk"},{"$f":"IF('sd paste'!J389=\"\",\"\",'sd paste'!J389)","v":"2019-07-23"},{"$f":"IF('sd paste'!V389=\"\",\"\",'sd paste'!V389)","v":9828121084}]
[389,{"$f":"IF('sd paste'!A390=\"\",\"\",'sd paste'!A390)","v":10},{"$f":"IF('sd paste'!B390=\"\",\"\",'sd paste'!B390)","v":"B"},{"$f":"IF('sd paste'!C390=\"\",\"\",'sd paste'!C390)","v":5156},{"$f":"IF('sd paste'!E390=\"\",\"\",'sd paste'!E390)","v":"vkp389"},{"$f":"IF('sd paste'!G390=\"\",\"\",'sd paste'!G390)","v":"vk"},{"$f":"IF('sd paste'!H390=\"\",\"\",'sd paste'!H390)","v":"vkk"},{"$f":"IF('sd paste'!J390=\"\",\"\",'sd paste'!J390)","v":"2019-07-24"},{"$f":"IF('sd paste'!V390=\"\",\"\",'sd paste'!V390)","v":9828121085}]
[390,{"$f":"IF('sd paste'!A391=\"\",\"\",'sd paste'!A391)","v":10},{"$f":"IF('sd paste'!B391=\"\",\"\",'sd paste'!B391)","v":"B"},{"$f":"IF('sd paste'!C391=\"\",\"\",'sd paste'!C391)","v":5148},{"$f":"IF('sd paste'!E391=\"\",\"\",'sd paste'!E391)","v":"vkp390"},{"$f":"IF('sd paste'!G391=\"\",\"\",'sd paste'!G391)","v":"vk"},{"$f":"IF('sd paste'!H391=\"\",\"\",'sd paste'!H391)","v":"vkk"},{"$f":"IF('sd paste'!J391=\"\",\"\",'sd paste'!J391)","v":"2019-07-25"},{"$f":"IF('sd paste'!V391=\"\",\"\",'sd paste'!V391)","v":9828121086}]
[391,{"$f":"IF('sd paste'!A392=\"\",\"\",'sd paste'!A392)","v":10},{"$f":"IF('sd paste'!B392=\"\",\"\",'sd paste'!B392)","v":"B"},{"$f":"IF('sd paste'!C392=\"\",\"\",'sd paste'!C392)","v":4736},{"$f":"IF('sd paste'!E392=\"\",\"\",'sd paste'!E392)","v":"vkp391"},{"$f":"IF('sd paste'!G392=\"\",\"\",'sd paste'!G392)","v":"vk"},{"$f":"IF('sd paste'!H392=\"\",\"\",'sd paste'!H392)","v":"vkk"},{"$f":"IF('sd paste'!J392=\"\",\"\",'sd paste'!J392)","v":"2019-07-26"},{"$f":"IF('sd paste'!V392=\"\",\"\",'sd paste'!V392)","v":9828121087}]
[392,{"$f":"IF('sd paste'!A393=\"\",\"\",'sd paste'!A393)","v":10},{"$f":"IF('sd paste'!B393=\"\",\"\",'sd paste'!B393)","v":"B"},{"$f":"IF('sd paste'!C393=\"\",\"\",'sd paste'!C393)","v":4650},{"$f":"IF('sd paste'!E393=\"\",\"\",'sd paste'!E393)","v":"vkp392"},{"$f":"IF('sd paste'!G393=\"\",\"\",'sd paste'!G393)","v":"vk"},{"$f":"IF('sd paste'!H393=\"\",\"\",'sd paste'!H393)","v":"vkk"},{"$f":"IF('sd paste'!J393=\"\",\"\",'sd paste'!J393)","v":"2019-07-27"},{"$f":"IF('sd paste'!V393=\"\",\"\",'sd paste'!V393)","v":9828121088}]
[393,{"$f":"IF('sd paste'!A394=\"\",\"\",'sd paste'!A394)","v":10},{"$f":"IF('sd paste'!B394=\"\",\"\",'sd paste'!B394)","v":"B"},{"$f":"IF('sd paste'!C394=\"\",\"\",'sd paste'!C394)","v":4951},{"$f":"IF('sd paste'!E394=\"\",\"\",'sd paste'!E394)","v":"vkp393"},{"$f":"IF('sd paste'!G394=\"\",\"\",'sd paste'!G394)","v":"vk"},{"$f":"IF('sd paste'!H394=\"\",\"\",'sd paste'!H394)","v":"vkk"},{"$f":"IF('sd paste'!J394=\"\",\"\",'sd paste'!J394)","v":"2019-07-28"},{"$f":"IF('sd paste'!V394=\"\",\"\",'sd paste'!V394)","v":9828121089}]
[394,{"$f":"IF('sd paste'!A395=\"\",\"\",'sd paste'!A395)","v":10},{"$f":"IF('sd paste'!B395=\"\",\"\",'sd paste'!B395)","v":"B"},{"$f":"IF('sd paste'!C395=\"\",\"\",'sd paste'!C395)","v":3909},{"$f":"IF('sd paste'!E395=\"\",\"\",'sd paste'!E395)","v":"vkp394"},{"$f":"IF('sd paste'!G395=\"\",\"\",'sd paste'!G395)","v":"vk"},{"$f":"IF('sd paste'!H395=\"\",\"\",'sd paste'!H395)","v":"vkk"},{"$f":"IF('sd paste'!J395=\"\",\"\",'sd paste'!J395)","v":"2019-07-29"},{"$f":"IF('sd paste'!V395=\"\",\"\",'sd paste'!V395)","v":9828121090}]
[395,{"$f":"IF('sd paste'!A396=\"\",\"\",'sd paste'!A396)","v":10},{"$f":"IF('sd paste'!B396=\"\",\"\",'sd paste'!B396)","v":"B"},{"$f":"IF('sd paste'!C396=\"\",\"\",'sd paste'!C396)","v":5207},{"$f":"IF('sd paste'!E396=\"\",\"\",'sd paste'!E396)","v":"vkp395"},{"$f":"IF('sd paste'!G396=\"\",\"\",'sd paste'!G396)","v":"vk"},{"$f":"IF('sd paste'!H396=\"\",\"\",'sd paste'!H396)","v":"vkk"},{"$f":"IF('sd paste'!J396=\"\",\"\",'sd paste'!J396)","v":"2019-07-30"},{"$f":"IF('sd paste'!V396=\"\",\"\",'sd paste'!V396)","v":9828121091}]
[396,{"$f":"IF('sd paste'!A397=\"\",\"\",'sd paste'!A397)","v":10},{"$f":"IF('sd paste'!B397=\"\",\"\",'sd paste'!B397)","v":"B"},{"$f":"IF('sd paste'!C397=\"\",\"\",'sd paste'!C397)","v":5237},{"$f":"IF('sd paste'!E397=\"\",\"\",'sd paste'!E397)","v":"vkp396"},{"$f":"IF('sd paste'!G397=\"\",\"\",'sd paste'!G397)","v":"vk"},{"$f":"IF('sd paste'!H397=\"\",\"\",'sd paste'!H397)","v":"vkk"},{"$f":"IF('sd paste'!J397=\"\",\"\",'sd paste'!J397)","v":"2019-07-31"},{"$f":"IF('sd paste'!V397=\"\",\"\",'sd paste'!V397)","v":9828121092}]
[397,{"$f":"IF('sd paste'!A398=\"\",\"\",'sd paste'!A398)","v":10},{"$f":"IF('sd paste'!B398=\"\",\"\",'sd paste'!B398)","v":"B"},{"$f":"IF('sd paste'!C398=\"\",\"\",'sd paste'!C398)","v":5204},{"$f":"IF('sd paste'!E398=\"\",\"\",'sd paste'!E398)","v":"vkp397"},{"$f":"IF('sd paste'!G398=\"\",\"\",'sd paste'!G398)","v":"vk"},{"$f":"IF('sd paste'!H398=\"\",\"\",'sd paste'!H398)","v":"vkk"},{"$f":"IF('sd paste'!J398=\"\",\"\",'sd paste'!J398)","v":"2019-08-01"},{"$f":"IF('sd paste'!V398=\"\",\"\",'sd paste'!V398)","v":9828121093}]
[398,{"$f":"IF('sd paste'!A399=\"\",\"\",'sd paste'!A399)","v":10},{"$f":"IF('sd paste'!B399=\"\",\"\",'sd paste'!B399)","v":"B"},{"$f":"IF('sd paste'!C399=\"\",\"\",'sd paste'!C399)","v":4097},{"$f":"IF('sd paste'!E399=\"\",\"\",'sd paste'!E399)","v":"vkp398"},{"$f":"IF('sd paste'!G399=\"\",\"\",'sd paste'!G399)","v":"vk"},{"$f":"IF('sd paste'!H399=\"\",\"\",'sd paste'!H399)","v":"vkk"},{"$f":"IF('sd paste'!J399=\"\",\"\",'sd paste'!J399)","v":"2019-08-02"},{"$f":"IF('sd paste'!V399=\"\",\"\",'sd paste'!V399)","v":9828121094}]
[399,{"$f":"IF('sd paste'!A400=\"\",\"\",'sd paste'!A400)","v":10},{"$f":"IF('sd paste'!B400=\"\",\"\",'sd paste'!B400)","v":"B"},{"$f":"IF('sd paste'!C400=\"\",\"\",'sd paste'!C400)","v":5186},{"$f":"IF('sd paste'!E400=\"\",\"\",'sd paste'!E400)","v":"vkp399"},{"$f":"IF('sd paste'!G400=\"\",\"\",'sd paste'!G400)","v":"vk"},{"$f":"IF('sd paste'!H400=\"\",\"\",'sd paste'!H400)","v":"vkk"},{"$f":"IF('sd paste'!J400=\"\",\"\",'sd paste'!J400)","v":"2019-08-03"},{"$f":"IF('sd paste'!V400=\"\",\"\",'sd paste'!V400)","v":9828121095}]
[400,{"$f":"IF('sd paste'!A401=\"\",\"\",'sd paste'!A401)","v":10},{"$f":"IF('sd paste'!B401=\"\",\"\",'sd paste'!B401)","v":"B"},{"$f":"IF('sd paste'!C401=\"\",\"\",'sd paste'!C401)","v":5189},{"$f":"IF('sd paste'!E401=\"\",\"\",'sd paste'!E401)","v":"vkp400"},{"$f":"IF('sd paste'!G401=\"\",\"\",'sd paste'!G401)","v":"vk"},{"$f":"IF('sd paste'!H401=\"\",\"\",'sd paste'!H401)","v":"vkk"},{"$f":"IF('sd paste'!J401=\"\",\"\",'sd paste'!J401)","v":"2019-08-04"},{"$f":"IF('sd paste'!V401=\"\",\"\",'sd paste'!V401)","v":9828121096}]
[401,{"$f":"IF('sd paste'!A402=\"\",\"\",'sd paste'!A402)","v":10},{"$f":"IF('sd paste'!B402=\"\",\"\",'sd paste'!B402)","v":"B"},{"$f":"IF('sd paste'!C402=\"\",\"\",'sd paste'!C402)","v":5192},{"$f":"IF('sd paste'!E402=\"\",\"\",'sd paste'!E402)","v":"vkp401"},{"$f":"IF('sd paste'!G402=\"\",\"\",'sd paste'!G402)","v":"vk"},{"$f":"IF('sd paste'!H402=\"\",\"\",'sd paste'!H402)","v":"vkk"},{"$f":"IF('sd paste'!J402=\"\",\"\",'sd paste'!J402)","v":"2019-08-05"},{"$f":"IF('sd paste'!V402=\"\",\"\",'sd paste'!V402)","v":9828121097}]
[402,{"$f":"IF('sd paste'!A403=\"\",\"\",'sd paste'!A403)","v":10},{"$f":"IF('sd paste'!B403=\"\",\"\",'sd paste'!B403)","v":"B"},{"$f":"IF('sd paste'!C403=\"\",\"\",'sd paste'!C403)","v":5136},{"$f":"IF('sd paste'!E403=\"\",\"\",'sd paste'!E403)","v":"vkp402"},{"$f":"IF('sd paste'!G403=\"\",\"\",'sd paste'!G403)","v":"vk"},{"$f":"IF('sd paste'!H403=\"\",\"\",'sd paste'!H403)","v":"vkk"},{"$f":"IF('sd paste'!J403=\"\",\"\",'sd paste'!J403)","v":"2019-08-06"},{"$f":"IF('sd paste'!V403=\"\",\"\",'sd paste'!V403)","v":9828121098}]
[403,{"$f":"IF('sd paste'!A404=\"\",\"\",'sd paste'!A404)","v":10},{"$f":"IF('sd paste'!B404=\"\",\"\",'sd paste'!B404)","v":"B"},{"$f":"IF('sd paste'!C404=\"\",\"\",'sd paste'!C404)","v":5246},{"$f":"IF('sd paste'!E404=\"\",\"\",'sd paste'!E404)","v":"vkp403"},{"$f":"IF('sd paste'!G404=\"\",\"\",'sd paste'!G404)","v":"vk"},{"$f":"IF('sd paste'!H404=\"\",\"\",'sd paste'!H404)","v":"vkk"},{"$f":"IF('sd paste'!J404=\"\",\"\",'sd paste'!J404)","v":"2019-08-07"},{"$f":"IF('sd paste'!V404=\"\",\"\",'sd paste'!V404)","v":9828121099}]
[404,{"$f":"IF('sd paste'!A405=\"\",\"\",'sd paste'!A405)","v":10},{"$f":"IF('sd paste'!B405=\"\",\"\",'sd paste'!B405)","v":"B"},{"$f":"IF('sd paste'!C405=\"\",\"\",'sd paste'!C405)","v":4752},{"$f":"IF('sd paste'!E405=\"\",\"\",'sd paste'!E405)","v":"vkp404"},{"$f":"IF('sd paste'!G405=\"\",\"\",'sd paste'!G405)","v":"vk"},{"$f":"IF('sd paste'!H405=\"\",\"\",'sd paste'!H405)","v":"vkk"},{"$f":"IF('sd paste'!J405=\"\",\"\",'sd paste'!J405)","v":"2019-08-08"},{"$f":"IF('sd paste'!V405=\"\",\"\",'sd paste'!V405)","v":9828121100}]
[405,{"$f":"IF('sd paste'!A406=\"\",\"\",'sd paste'!A406)","v":10},{"$f":"IF('sd paste'!B406=\"\",\"\",'sd paste'!B406)","v":"B"},{"$f":"IF('sd paste'!C406=\"\",\"\",'sd paste'!C406)","v":5194},{"$f":"IF('sd paste'!E406=\"\",\"\",'sd paste'!E406)","v":"vkp405"},{"$f":"IF('sd paste'!G406=\"\",\"\",'sd paste'!G406)","v":"vk"},{"$f":"IF('sd paste'!H406=\"\",\"\",'sd paste'!H406)","v":"vkk"},{"$f":"IF('sd paste'!J406=\"\",\"\",'sd paste'!J406)","v":"2019-08-09"},{"$f":"IF('sd paste'!V406=\"\",\"\",'sd paste'!V406)","v":9828121101}]
[406,{"$f":"IF('sd paste'!A407=\"\",\"\",'sd paste'!A407)","v":10},{"$f":"IF('sd paste'!B407=\"\",\"\",'sd paste'!B407)","v":"B"},{"$f":"IF('sd paste'!C407=\"\",\"\",'sd paste'!C407)","v":3907},{"$f":"IF('sd paste'!E407=\"\",\"\",'sd paste'!E407)","v":"vkp406"},{"$f":"IF('sd paste'!G407=\"\",\"\",'sd paste'!G407)","v":"vk"},{"$f":"IF('sd paste'!H407=\"\",\"\",'sd paste'!H407)","v":"vkk"},{"$f":"IF('sd paste'!J407=\"\",\"\",'sd paste'!J407)","v":"2019-08-10"},{"$f":"IF('sd paste'!V407=\"\",\"\",'sd paste'!V407)","v":9828121102}]
[407,{"$f":"IF('sd paste'!A408=\"\",\"\",'sd paste'!A408)","v":10},{"$f":"IF('sd paste'!B408=\"\",\"\",'sd paste'!B408)","v":"B"},{"$f":"IF('sd paste'!C408=\"\",\"\",'sd paste'!C408)","v":5159},{"$f":"IF('sd paste'!E408=\"\",\"\",'sd paste'!E408)","v":"vkp407"},{"$f":"IF('sd paste'!G408=\"\",\"\",'sd paste'!G408)","v":"vk"},{"$f":"IF('sd paste'!H408=\"\",\"\",'sd paste'!H408)","v":"vkk"},{"$f":"IF('sd paste'!J408=\"\",\"\",'sd paste'!J408)","v":"2019-08-11"},{"$f":"IF('sd paste'!V408=\"\",\"\",'sd paste'!V408)","v":9828121103}]
[408,{"$f":"IF('sd paste'!A409=\"\",\"\",'sd paste'!A409)","v":10},{"$f":"IF('sd paste'!B409=\"\",\"\",'sd paste'!B409)","v":"B"},{"$f":"IF('sd paste'!C409=\"\",\"\",'sd paste'!C409)","v":4753},{"$f":"IF('sd paste'!E409=\"\",\"\",'sd paste'!E409)","v":"vkp408"},{"$f":"IF('sd paste'!G409=\"\",\"\",'sd paste'!G409)","v":"vk"},{"$f":"IF('sd paste'!H409=\"\",\"\",'sd paste'!H409)","v":"vkk"},{"$f":"IF('sd paste'!J409=\"\",\"\",'sd paste'!J409)","v":"2019-08-12"},{"$f":"IF('sd paste'!V409=\"\",\"\",'sd paste'!V409)","v":9828121104}]
[409,{"$f":"IF('sd paste'!A410=\"\",\"\",'sd paste'!A410)","v":10},{"$f":"IF('sd paste'!B410=\"\",\"\",'sd paste'!B410)","v":"B"},{"$f":"IF('sd paste'!C410=\"\",\"\",'sd paste'!C410)","v":5011},{"$f":"IF('sd paste'!E410=\"\",\"\",'sd paste'!E410)","v":"vkp409"},{"$f":"IF('sd paste'!G410=\"\",\"\",'sd paste'!G410)","v":"vk"},{"$f":"IF('sd paste'!H410=\"\",\"\",'sd paste'!H410)","v":"vkk"},{"$f":"IF('sd paste'!J410=\"\",\"\",'sd paste'!J410)","v":"2019-08-13"},{"$f":"IF('sd paste'!V410=\"\",\"\",'sd paste'!V410)","v":9828121105}]
[410,{"$f":"IF('sd paste'!A411=\"\",\"\",'sd paste'!A411)","v":10},{"$f":"IF('sd paste'!B411=\"\",\"\",'sd paste'!B411)","v":"B"},{"$f":"IF('sd paste'!C411=\"\",\"\",'sd paste'!C411)","v":5161},{"$f":"IF('sd paste'!E411=\"\",\"\",'sd paste'!E411)","v":"vkp410"},{"$f":"IF('sd paste'!G411=\"\",\"\",'sd paste'!G411)","v":"vk"},{"$f":"IF('sd paste'!H411=\"\",\"\",'sd paste'!H411)","v":"vkk"},{"$f":"IF('sd paste'!J411=\"\",\"\",'sd paste'!J411)","v":"2019-08-14"},{"$f":"IF('sd paste'!V411=\"\",\"\",'sd paste'!V411)","v":9828121106}]
[411,{"$f":"IF('sd paste'!A412=\"\",\"\",'sd paste'!A412)","v":10},{"$f":"IF('sd paste'!B412=\"\",\"\",'sd paste'!B412)","v":"B"},{"$f":"IF('sd paste'!C412=\"\",\"\",'sd paste'!C412)","v":5222},{"$f":"IF('sd paste'!E412=\"\",\"\",'sd paste'!E412)","v":"vkp411"},{"$f":"IF('sd paste'!G412=\"\",\"\",'sd paste'!G412)","v":"vk"},{"$f":"IF('sd paste'!H412=\"\",\"\",'sd paste'!H412)","v":"vkk"},{"$f":"IF('sd paste'!J412=\"\",\"\",'sd paste'!J412)","v":"2019-08-15"},{"$f":"IF('sd paste'!V412=\"\",\"\",'sd paste'!V412)","v":9828121107}]
[412,{"$f":"IF('sd paste'!A413=\"\",\"\",'sd paste'!A413)","v":10},{"$f":"IF('sd paste'!B413=\"\",\"\",'sd paste'!B413)","v":"B"},{"$f":"IF('sd paste'!C413=\"\",\"\",'sd paste'!C413)","v":4112},{"$f":"IF('sd paste'!E413=\"\",\"\",'sd paste'!E413)","v":"vkp412"},{"$f":"IF('sd paste'!G413=\"\",\"\",'sd paste'!G413)","v":"vk"},{"$f":"IF('sd paste'!H413=\"\",\"\",'sd paste'!H413)","v":"vkk"},{"$f":"IF('sd paste'!J413=\"\",\"\",'sd paste'!J413)","v":"2019-08-16"},{"$f":"IF('sd paste'!V413=\"\",\"\",'sd paste'!V413)","v":9828121108}]
[413,{"$f":"IF('sd paste'!A414=\"\",\"\",'sd paste'!A414)","v":10},{"$f":"IF('sd paste'!B414=\"\",\"\",'sd paste'!B414)","v":"B"},{"$f":"IF('sd paste'!C414=\"\",\"\",'sd paste'!C414)","v":5149},{"$f":"IF('sd paste'!E414=\"\",\"\",'sd paste'!E414)","v":"vkp413"},{"$f":"IF('sd paste'!G414=\"\",\"\",'sd paste'!G414)","v":"vk"},{"$f":"IF('sd paste'!H414=\"\",\"\",'sd paste'!H414)","v":"vkk"},{"$f":"IF('sd paste'!J414=\"\",\"\",'sd paste'!J414)","v":"2019-08-17"},{"$f":"IF('sd paste'!V414=\"\",\"\",'sd paste'!V414)","v":9828121109}]
[414,{"$f":"IF('sd paste'!A415=\"\",\"\",'sd paste'!A415)","v":10},{"$f":"IF('sd paste'!B415=\"\",\"\",'sd paste'!B415)","v":"B"},{"$f":"IF('sd paste'!C415=\"\",\"\",'sd paste'!C415)","v":5144},{"$f":"IF('sd paste'!E415=\"\",\"\",'sd paste'!E415)","v":"vkp414"},{"$f":"IF('sd paste'!G415=\"\",\"\",'sd paste'!G415)","v":"vk"},{"$f":"IF('sd paste'!H415=\"\",\"\",'sd paste'!H415)","v":"vkk"},{"$f":"IF('sd paste'!J415=\"\",\"\",'sd paste'!J415)","v":"2019-08-18"},{"$f":"IF('sd paste'!V415=\"\",\"\",'sd paste'!V415)","v":9828121110}]
[415,{"$f":"IF('sd paste'!A416=\"\",\"\",'sd paste'!A416)","v":10},{"$f":"IF('sd paste'!B416=\"\",\"\",'sd paste'!B416)","v":"B"},{"$f":"IF('sd paste'!C416=\"\",\"\",'sd paste'!C416)","v":5133},{"$f":"IF('sd paste'!E416=\"\",\"\",'sd paste'!E416)","v":"vkp415"},{"$f":"IF('sd paste'!G416=\"\",\"\",'sd paste'!G416)","v":"vk"},{"$f":"IF('sd paste'!H416=\"\",\"\",'sd paste'!H416)","v":"vkk"},{"$f":"IF('sd paste'!J416=\"\",\"\",'sd paste'!J416)","v":"2019-08-19"},{"$f":"IF('sd paste'!V416=\"\",\"\",'sd paste'!V416)","v":9828121111}]
[416,{"$f":"IF('sd paste'!A417=\"\",\"\",'sd paste'!A417)","v":10},{"$f":"IF('sd paste'!B417=\"\",\"\",'sd paste'!B417)","v":"B"},{"$f":"IF('sd paste'!C417=\"\",\"\",'sd paste'!C417)","v":5238},{"$f":"IF('sd paste'!E417=\"\",\"\",'sd paste'!E417)","v":"vkp416"},{"$f":"IF('sd paste'!G417=\"\",\"\",'sd paste'!G417)","v":"vk"},{"$f":"IF('sd paste'!H417=\"\",\"\",'sd paste'!H417)","v":"vkk"},{"$f":"IF('sd paste'!J417=\"\",\"\",'sd paste'!J417)","v":"2019-08-20"},{"$f":"IF('sd paste'!V417=\"\",\"\",'sd paste'!V417)","v":9828121112}]
[417,{"$f":"IF('sd paste'!A418=\"\",\"\",'sd paste'!A418)","v":10},{"$f":"IF('sd paste'!B418=\"\",\"\",'sd paste'!B418)","v":"B"},{"$f":"IF('sd paste'!C418=\"\",\"\",'sd paste'!C418)","v":5007},{"$f":"IF('sd paste'!E418=\"\",\"\",'sd paste'!E418)","v":"vkp417"},{"$f":"IF('sd paste'!G418=\"\",\"\",'sd paste'!G418)","v":"vk"},{"$f":"IF('sd paste'!H418=\"\",\"\",'sd paste'!H418)","v":"vkk"},{"$f":"IF('sd paste'!J418=\"\",\"\",'sd paste'!J418)","v":"2019-08-21"},{"$f":"IF('sd paste'!V418=\"\",\"\",'sd paste'!V418)","v":9828121113}]
[418,{"$f":"IF('sd paste'!A419=\"\",\"\",'sd paste'!A419)","v":10},{"$f":"IF('sd paste'!B419=\"\",\"\",'sd paste'!B419)","v":"B"},{"$f":"IF('sd paste'!C419=\"\",\"\",'sd paste'!C419)","v":5247},{"$f":"IF('sd paste'!E419=\"\",\"\",'sd paste'!E419)","v":"vkp418"},{"$f":"IF('sd paste'!G419=\"\",\"\",'sd paste'!G419)","v":"vk"},{"$f":"IF('sd paste'!H419=\"\",\"\",'sd paste'!H419)","v":"vkk"},{"$f":"IF('sd paste'!J419=\"\",\"\",'sd paste'!J419)","v":"2019-08-22"},{"$f":"IF('sd paste'!V419=\"\",\"\",'sd paste'!V419)","v":9828121114}]
[419,{"$f":"IF('sd paste'!A420=\"\",\"\",'sd paste'!A420)","v":10},{"$f":"IF('sd paste'!B420=\"\",\"\",'sd paste'!B420)","v":"B"},{"$f":"IF('sd paste'!C420=\"\",\"\",'sd paste'!C420)","v":5162},{"$f":"IF('sd paste'!E420=\"\",\"\",'sd paste'!E420)","v":"vkp419"},{"$f":"IF('sd paste'!G420=\"\",\"\",'sd paste'!G420)","v":"vk"},{"$f":"IF('sd paste'!H420=\"\",\"\",'sd paste'!H420)","v":"vkk"},{"$f":"IF('sd paste'!J420=\"\",\"\",'sd paste'!J420)","v":"2019-08-23"},{"$f":"IF('sd paste'!V420=\"\",\"\",'sd paste'!V420)","v":9828121115}]
[420,{"$f":"IF('sd paste'!A421=\"\",\"\",'sd paste'!A421)","v":10},{"$f":"IF('sd paste'!B421=\"\",\"\",'sd paste'!B421)","v":"B"},{"$f":"IF('sd paste'!C421=\"\",\"\",'sd paste'!C421)","v":5199},{"$f":"IF('sd paste'!E421=\"\",\"\",'sd paste'!E421)","v":"vkp420"},{"$f":"IF('sd paste'!G421=\"\",\"\",'sd paste'!G421)","v":"vk"},{"$f":"IF('sd paste'!H421=\"\",\"\",'sd paste'!H421)","v":"vkk"},{"$f":"IF('sd paste'!J421=\"\",\"\",'sd paste'!J421)","v":"2019-08-24"},{"$f":"IF('sd paste'!V421=\"\",\"\",'sd paste'!V421)","v":9828121116}]
[421,{"$f":"IF('sd paste'!A422=\"\",\"\",'sd paste'!A422)","v":10},{"$f":"IF('sd paste'!B422=\"\",\"\",'sd paste'!B422)","v":"B"},{"$f":"IF('sd paste'!C422=\"\",\"\",'sd paste'!C422)","v":4631},{"$f":"IF('sd paste'!E422=\"\",\"\",'sd paste'!E422)","v":"vkp421"},{"$f":"IF('sd paste'!G422=\"\",\"\",'sd paste'!G422)","v":"vk"},{"$f":"IF('sd paste'!H422=\"\",\"\",'sd paste'!H422)","v":"vkk"},{"$f":"IF('sd paste'!J422=\"\",\"\",'sd paste'!J422)","v":"2019-08-25"},{"$f":"IF('sd paste'!V422=\"\",\"\",'sd paste'!V422)","v":9828121117}]
[422,{"$f":"IF('sd paste'!A423=\"\",\"\",'sd paste'!A423)","v":10},{"$f":"IF('sd paste'!B423=\"\",\"\",'sd paste'!B423)","v":"B"},{"$f":"IF('sd paste'!C423=\"\",\"\",'sd paste'!C423)","v":5163},{"$f":"IF('sd paste'!E423=\"\",\"\",'sd paste'!E423)","v":"vkp422"},{"$f":"IF('sd paste'!G423=\"\",\"\",'sd paste'!G423)","v":"vk"},{"$f":"IF('sd paste'!H423=\"\",\"\",'sd paste'!H423)","v":"vkk"},{"$f":"IF('sd paste'!J423=\"\",\"\",'sd paste'!J423)","v":"2019-08-26"},{"$f":"IF('sd paste'!V423=\"\",\"\",'sd paste'!V423)","v":9828121118}]
[423,{"$f":"IF('sd paste'!A424=\"\",\"\",'sd paste'!A424)","v":10},{"$f":"IF('sd paste'!B424=\"\",\"\",'sd paste'!B424)","v":"B"},{"$f":"IF('sd paste'!C424=\"\",\"\",'sd paste'!C424)","v":5142},{"$f":"IF('sd paste'!E424=\"\",\"\",'sd paste'!E424)","v":"vkp423"},{"$f":"IF('sd paste'!G424=\"\",\"\",'sd paste'!G424)","v":"vk"},{"$f":"IF('sd paste'!H424=\"\",\"\",'sd paste'!H424)","v":"vkk"},{"$f":"IF('sd paste'!J424=\"\",\"\",'sd paste'!J424)","v":"2019-08-27"},{"$f":"IF('sd paste'!V424=\"\",\"\",'sd paste'!V424)","v":9828121119}]
[424,{"$f":"IF('sd paste'!A425=\"\",\"\",'sd paste'!A425)","v":10},{"$f":"IF('sd paste'!B425=\"\",\"\",'sd paste'!B425)","v":"B"},{"$f":"IF('sd paste'!C425=\"\",\"\",'sd paste'!C425)","v":4757},{"$f":"IF('sd paste'!E425=\"\",\"\",'sd paste'!E425)","v":"vkp424"},{"$f":"IF('sd paste'!G425=\"\",\"\",'sd paste'!G425)","v":"vk"},{"$f":"IF('sd paste'!H425=\"\",\"\",'sd paste'!H425)","v":"vkk"},{"$f":"IF('sd paste'!J425=\"\",\"\",'sd paste'!J425)","v":"2019-08-28"},{"$f":"IF('sd paste'!V425=\"\",\"\",'sd paste'!V425)","v":9828121120}]
[425,{"$f":"IF('sd paste'!A426=\"\",\"\",'sd paste'!A426)","v":10},{"$f":"IF('sd paste'!B426=\"\",\"\",'sd paste'!B426)","v":"B"},{"$f":"IF('sd paste'!C426=\"\",\"\",'sd paste'!C426)","v":5137},{"$f":"IF('sd paste'!E426=\"\",\"\",'sd paste'!E426)","v":"vkp425"},{"$f":"IF('sd paste'!G426=\"\",\"\",'sd paste'!G426)","v":"vk"},{"$f":"IF('sd paste'!H426=\"\",\"\",'sd paste'!H426)","v":"vkk"},{"$f":"IF('sd paste'!J426=\"\",\"\",'sd paste'!J426)","v":"2019-08-29"},{"$f":"IF('sd paste'!V426=\"\",\"\",'sd paste'!V426)","v":9828121121}]
[426,{"$f":"IF('sd paste'!A427=\"\",\"\",'sd paste'!A427)","v":10},{"$f":"IF('sd paste'!B427=\"\",\"\",'sd paste'!B427)","v":"B"},{"$f":"IF('sd paste'!C427=\"\",\"\",'sd paste'!C427)","v":4754},{"$f":"IF('sd paste'!E427=\"\",\"\",'sd paste'!E427)","v":"vkp426"},{"$f":"IF('sd paste'!G427=\"\",\"\",'sd paste'!G427)","v":"vk"},{"$f":"IF('sd paste'!H427=\"\",\"\",'sd paste'!H427)","v":"vkk"},{"$f":"IF('sd paste'!J427=\"\",\"\",'sd paste'!J427)","v":"2019-08-30"},{"$f":"IF('sd paste'!V427=\"\",\"\",'sd paste'!V427)","v":9828121122}]
[427,{"$f":"IF('sd paste'!A428=\"\",\"\",'sd paste'!A428)","v":10},{"$f":"IF('sd paste'!B428=\"\",\"\",'sd paste'!B428)","v":"B"},{"$f":"IF('sd paste'!C428=\"\",\"\",'sd paste'!C428)","v":5158},{"$f":"IF('sd paste'!E428=\"\",\"\",'sd paste'!E428)","v":"vkp427"},{"$f":"IF('sd paste'!G428=\"\",\"\",'sd paste'!G428)","v":"vk"},{"$f":"IF('sd paste'!H428=\"\",\"\",'sd paste'!H428)","v":"vkk"},{"$f":"IF('sd paste'!J428=\"\",\"\",'sd paste'!J428)","v":"2019-08-31"},{"$f":"IF('sd paste'!V428=\"\",\"\",'sd paste'!V428)","v":9828121123}]
[428,{"$f":"IF('sd paste'!A429=\"\",\"\",'sd paste'!A429)","v":10},{"$f":"IF('sd paste'!B429=\"\",\"\",'sd paste'!B429)","v":"B"},{"$f":"IF('sd paste'!C429=\"\",\"\",'sd paste'!C429)","v":5026},{"$f":"IF('sd paste'!E429=\"\",\"\",'sd paste'!E429)","v":"vkp428"},{"$f":"IF('sd paste'!G429=\"\",\"\",'sd paste'!G429)","v":"vk"},{"$f":"IF('sd paste'!H429=\"\",\"\",'sd paste'!H429)","v":"vkk"},{"$f":"IF('sd paste'!J429=\"\",\"\",'sd paste'!J429)","v":"2019-09-01"},{"$f":"IF('sd paste'!V429=\"\",\"\",'sd paste'!V429)","v":9828121124}]
[429,{"$f":"IF('sd paste'!A430=\"\",\"\",'sd paste'!A430)","v":10},{"$f":"IF('sd paste'!B430=\"\",\"\",'sd paste'!B430)","v":"B"},{"$f":"IF('sd paste'!C430=\"\",\"\",'sd paste'!C430)","v":5160},{"$f":"IF('sd paste'!E430=\"\",\"\",'sd paste'!E430)","v":"vkp429"},{"$f":"IF('sd paste'!G430=\"\",\"\",'sd paste'!G430)","v":"vk"},{"$f":"IF('sd paste'!H430=\"\",\"\",'sd paste'!H430)","v":"vkk"},{"$f":"IF('sd paste'!J430=\"\",\"\",'sd paste'!J430)","v":"2019-09-02"},{"$f":"IF('sd paste'!V430=\"\",\"\",'sd paste'!V430)","v":9828121125}]
[430,{"$f":"IF('sd paste'!A431=\"\",\"\",'sd paste'!A431)","v":10},{"$f":"IF('sd paste'!B431=\"\",\"\",'sd paste'!B431)","v":"B"},{"$f":"IF('sd paste'!C431=\"\",\"\",'sd paste'!C431)","v":5145},{"$f":"IF('sd paste'!E431=\"\",\"\",'sd paste'!E431)","v":"vkp430"},{"$f":"IF('sd paste'!G431=\"\",\"\",'sd paste'!G431)","v":"vk"},{"$f":"IF('sd paste'!H431=\"\",\"\",'sd paste'!H431)","v":"vkk"},{"$f":"IF('sd paste'!J431=\"\",\"\",'sd paste'!J431)","v":"2019-09-03"},{"$f":"IF('sd paste'!V431=\"\",\"\",'sd paste'!V431)","v":9828121126}]
[431,{"$f":"IF('sd paste'!A432=\"\",\"\",'sd paste'!A432)","v":10},{"$f":"IF('sd paste'!B432=\"\",\"\",'sd paste'!B432)","v":"B"},{"$f":"IF('sd paste'!C432=\"\",\"\",'sd paste'!C432)","v":5134},{"$f":"IF('sd paste'!E432=\"\",\"\",'sd paste'!E432)","v":"vkp431"},{"$f":"IF('sd paste'!G432=\"\",\"\",'sd paste'!G432)","v":"vk"},{"$f":"IF('sd paste'!H432=\"\",\"\",'sd paste'!H432)","v":"vkk"},{"$f":"IF('sd paste'!J432=\"\",\"\",'sd paste'!J432)","v":"2019-09-04"},{"$f":"IF('sd paste'!V432=\"\",\"\",'sd paste'!V432)","v":9828121127}]
[432,{"$f":"IF('sd paste'!A433=\"\",\"\",'sd paste'!A433)","v":11},{"$f":"IF('sd paste'!B433=\"\",\"\",'sd paste'!B433)","v":"A"},{"$f":"IF('sd paste'!C433=\"\",\"\",'sd paste'!C433)","v":5054},{"$f":"IF('sd paste'!E433=\"\",\"\",'sd paste'!E433)","v":"vkp432"},{"$f":"IF('sd paste'!G433=\"\",\"\",'sd paste'!G433)","v":"vk"},{"$f":"IF('sd paste'!H433=\"\",\"\",'sd paste'!H433)","v":"vkk"},{"$f":"IF('sd paste'!J433=\"\",\"\",'sd paste'!J433)","v":"2019-09-05"},{"$f":"IF('sd paste'!V433=\"\",\"\",'sd paste'!V433)","v":9828121128}]
[433,{"$f":"IF('sd paste'!A434=\"\",\"\",'sd paste'!A434)","v":11},{"$f":"IF('sd paste'!B434=\"\",\"\",'sd paste'!B434)","v":"A"},{"$f":"IF('sd paste'!C434=\"\",\"\",'sd paste'!C434)","v":3857},{"$f":"IF('sd paste'!E434=\"\",\"\",'sd paste'!E434)","v":"vkp433"},{"$f":"IF('sd paste'!G434=\"\",\"\",'sd paste'!G434)","v":"vk"},{"$f":"IF('sd paste'!H434=\"\",\"\",'sd paste'!H434)","v":"vkk"},{"$f":"IF('sd paste'!J434=\"\",\"\",'sd paste'!J434)","v":"2019-09-06"},{"$f":"IF('sd paste'!V434=\"\",\"\",'sd paste'!V434)","v":9828121129}]
[434,{"$f":"IF('sd paste'!A435=\"\",\"\",'sd paste'!A435)","v":11},{"$f":"IF('sd paste'!B435=\"\",\"\",'sd paste'!B435)","v":"A"},{"$f":"IF('sd paste'!C435=\"\",\"\",'sd paste'!C435)","v":5049},{"$f":"IF('sd paste'!E435=\"\",\"\",'sd paste'!E435)","v":"vkp434"},{"$f":"IF('sd paste'!G435=\"\",\"\",'sd paste'!G435)","v":"vk"},{"$f":"IF('sd paste'!H435=\"\",\"\",'sd paste'!H435)","v":"vkk"},{"$f":"IF('sd paste'!J435=\"\",\"\",'sd paste'!J435)","v":"2019-09-07"},{"$f":"IF('sd paste'!V435=\"\",\"\",'sd paste'!V435)","v":9828121130}]
[435,{"$f":"IF('sd paste'!A436=\"\",\"\",'sd paste'!A436)","v":11},{"$f":"IF('sd paste'!B436=\"\",\"\",'sd paste'!B436)","v":"A"},{"$f":"IF('sd paste'!C436=\"\",\"\",'sd paste'!C436)","v":4120},{"$f":"IF('sd paste'!E436=\"\",\"\",'sd paste'!E436)","v":"vkp435"},{"$f":"IF('sd paste'!G436=\"\",\"\",'sd paste'!G436)","v":"vk"},{"$f":"IF('sd paste'!H436=\"\",\"\",'sd paste'!H436)","v":"vkk"},{"$f":"IF('sd paste'!J436=\"\",\"\",'sd paste'!J436)","v":"2019-09-08"},{"$f":"IF('sd paste'!V436=\"\",\"\",'sd paste'!V436)","v":9828121131}]
[436,{"$f":"IF('sd paste'!A437=\"\",\"\",'sd paste'!A437)","v":11},{"$f":"IF('sd paste'!B437=\"\",\"\",'sd paste'!B437)","v":"A"},{"$f":"IF('sd paste'!C437=\"\",\"\",'sd paste'!C437)","v":4961},{"$f":"IF('sd paste'!E437=\"\",\"\",'sd paste'!E437)","v":"vkp436"},{"$f":"IF('sd paste'!G437=\"\",\"\",'sd paste'!G437)","v":"vk"},{"$f":"IF('sd paste'!H437=\"\",\"\",'sd paste'!H437)","v":"vkk"},{"$f":"IF('sd paste'!J437=\"\",\"\",'sd paste'!J437)","v":"2019-09-09"},{"$f":"IF('sd paste'!V437=\"\",\"\",'sd paste'!V437)","v":9828121132}]
[437,{"$f":"IF('sd paste'!A438=\"\",\"\",'sd paste'!A438)","v":11},{"$f":"IF('sd paste'!B438=\"\",\"\",'sd paste'!B438)","v":"A"},{"$f":"IF('sd paste'!C438=\"\",\"\",'sd paste'!C438)","v":5047},{"$f":"IF('sd paste'!E438=\"\",\"\",'sd paste'!E438)","v":"vkp437"},{"$f":"IF('sd paste'!G438=\"\",\"\",'sd paste'!G438)","v":"vk"},{"$f":"IF('sd paste'!H438=\"\",\"\",'sd paste'!H438)","v":"vkk"},{"$f":"IF('sd paste'!J438=\"\",\"\",'sd paste'!J438)","v":"2019-09-10"},{"$f":"IF('sd paste'!V438=\"\",\"\",'sd paste'!V438)","v":9828121133}]
[438,{"$f":"IF('sd paste'!A439=\"\",\"\",'sd paste'!A439)","v":11},{"$f":"IF('sd paste'!B439=\"\",\"\",'sd paste'!B439)","v":"A"},{"$f":"IF('sd paste'!C439=\"\",\"\",'sd paste'!C439)","v":4462},{"$f":"IF('sd paste'!E439=\"\",\"\",'sd paste'!E439)","v":"vkp438"},{"$f":"IF('sd paste'!G439=\"\",\"\",'sd paste'!G439)","v":"vk"},{"$f":"IF('sd paste'!H439=\"\",\"\",'sd paste'!H439)","v":"vkk"},{"$f":"IF('sd paste'!J439=\"\",\"\",'sd paste'!J439)","v":"2019-09-11"},{"$f":"IF('sd paste'!V439=\"\",\"\",'sd paste'!V439)","v":9828121134}]
[439,{"$f":"IF('sd paste'!A440=\"\",\"\",'sd paste'!A440)","v":11},{"$f":"IF('sd paste'!B440=\"\",\"\",'sd paste'!B440)","v":"A"},{"$f":"IF('sd paste'!C440=\"\",\"\",'sd paste'!C440)","v":4607},{"$f":"IF('sd paste'!E440=\"\",\"\",'sd paste'!E440)","v":"vkp439"},{"$f":"IF('sd paste'!G440=\"\",\"\",'sd paste'!G440)","v":"vk"},{"$f":"IF('sd paste'!H440=\"\",\"\",'sd paste'!H440)","v":"vkk"},{"$f":"IF('sd paste'!J440=\"\",\"\",'sd paste'!J440)","v":"2019-09-12"},{"$f":"IF('sd paste'!V440=\"\",\"\",'sd paste'!V440)","v":9828121135}]
[440,{"$f":"IF('sd paste'!A441=\"\",\"\",'sd paste'!A441)","v":11},{"$f":"IF('sd paste'!B441=\"\",\"\",'sd paste'!B441)","v":"A"},{"$f":"IF('sd paste'!C441=\"\",\"\",'sd paste'!C441)","v":5426},{"$f":"IF('sd paste'!E441=\"\",\"\",'sd paste'!E441)","v":"vkp440"},{"$f":"IF('sd paste'!G441=\"\",\"\",'sd paste'!G441)","v":"vk"},{"$f":"IF('sd paste'!H441=\"\",\"\",'sd paste'!H441)","v":"vkk"},{"$f":"IF('sd paste'!J441=\"\",\"\",'sd paste'!J441)","v":"2019-09-13"},{"$f":"IF('sd paste'!V441=\"\",\"\",'sd paste'!V441)","v":9828121136}]
[441,{"$f":"IF('sd paste'!A442=\"\",\"\",'sd paste'!A442)","v":11},{"$f":"IF('sd paste'!B442=\"\",\"\",'sd paste'!B442)","v":"A"},{"$f":"IF('sd paste'!C442=\"\",\"\",'sd paste'!C442)","v":5410},{"$f":"IF('sd paste'!E442=\"\",\"\",'sd paste'!E442)","v":"vkp441"},{"$f":"IF('sd paste'!G442=\"\",\"\",'sd paste'!G442)","v":"vk"},{"$f":"IF('sd paste'!H442=\"\",\"\",'sd paste'!H442)","v":"vkk"},{"$f":"IF('sd paste'!J442=\"\",\"\",'sd paste'!J442)","v":"2019-09-14"},{"$f":"IF('sd paste'!V442=\"\",\"\",'sd paste'!V442)","v":9828121137}]
[442,{"$f":"IF('sd paste'!A443=\"\",\"\",'sd paste'!A443)","v":11},{"$f":"IF('sd paste'!B443=\"\",\"\",'sd paste'!B443)","v":"A"},{"$f":"IF('sd paste'!C443=\"\",\"\",'sd paste'!C443)","v":4946},{"$f":"IF('sd paste'!E443=\"\",\"\",'sd paste'!E443)","v":"vkp442"},{"$f":"IF('sd paste'!G443=\"\",\"\",'sd paste'!G443)","v":"vk"},{"$f":"IF('sd paste'!H443=\"\",\"\",'sd paste'!H443)","v":"vkk"},{"$f":"IF('sd paste'!J443=\"\",\"\",'sd paste'!J443)","v":"2019-09-15"},{"$f":"IF('sd paste'!V443=\"\",\"\",'sd paste'!V443)","v":9828121138}]
[443,{"$f":"IF('sd paste'!A444=\"\",\"\",'sd paste'!A444)","v":11},{"$f":"IF('sd paste'!B444=\"\",\"\",'sd paste'!B444)","v":"A"},{"$f":"IF('sd paste'!C444=\"\",\"\",'sd paste'!C444)","v":5091},{"$f":"IF('sd paste'!E444=\"\",\"\",'sd paste'!E444)","v":"vkp443"},{"$f":"IF('sd paste'!G444=\"\",\"\",'sd paste'!G444)","v":"vk"},{"$f":"IF('sd paste'!H444=\"\",\"\",'sd paste'!H444)","v":"vkk"},{"$f":"IF('sd paste'!J444=\"\",\"\",'sd paste'!J444)","v":"2019-09-16"},{"$f":"IF('sd paste'!V444=\"\",\"\",'sd paste'!V444)","v":9828121139}]
[444,{"$f":"IF('sd paste'!A445=\"\",\"\",'sd paste'!A445)","v":11},{"$f":"IF('sd paste'!B445=\"\",\"\",'sd paste'!B445)","v":"A"},{"$f":"IF('sd paste'!C445=\"\",\"\",'sd paste'!C445)","v":4983},{"$f":"IF('sd paste'!E445=\"\",\"\",'sd paste'!E445)","v":"vkp444"},{"$f":"IF('sd paste'!G445=\"\",\"\",'sd paste'!G445)","v":"vk"},{"$f":"IF('sd paste'!H445=\"\",\"\",'sd paste'!H445)","v":"vkk"},{"$f":"IF('sd paste'!J445=\"\",\"\",'sd paste'!J445)","v":"2019-09-17"},{"$f":"IF('sd paste'!V445=\"\",\"\",'sd paste'!V445)","v":9828121140}]
[445,{"$f":"IF('sd paste'!A446=\"\",\"\",'sd paste'!A446)","v":11},{"$f":"IF('sd paste'!B446=\"\",\"\",'sd paste'!B446)","v":"A"},{"$f":"IF('sd paste'!C446=\"\",\"\",'sd paste'!C446)","v":4169},{"$f":"IF('sd paste'!E446=\"\",\"\",'sd paste'!E446)","v":"vkp445"},{"$f":"IF('sd paste'!G446=\"\",\"\",'sd paste'!G446)","v":"vk"},{"$f":"IF('sd paste'!H446=\"\",\"\",'sd paste'!H446)","v":"vkk"},{"$f":"IF('sd paste'!J446=\"\",\"\",'sd paste'!J446)","v":"2019-09-18"},{"$f":"IF('sd paste'!V446=\"\",\"\",'sd paste'!V446)","v":9828121141}]
[446,{"$f":"IF('sd paste'!A447=\"\",\"\",'sd paste'!A447)","v":11},{"$f":"IF('sd paste'!B447=\"\",\"\",'sd paste'!B447)","v":"A"},{"$f":"IF('sd paste'!C447=\"\",\"\",'sd paste'!C447)","v":5088},{"$f":"IF('sd paste'!E447=\"\",\"\",'sd paste'!E447)","v":"vkp446"},{"$f":"IF('sd paste'!G447=\"\",\"\",'sd paste'!G447)","v":"vk"},{"$f":"IF('sd paste'!H447=\"\",\"\",'sd paste'!H447)","v":"vkk"},{"$f":"IF('sd paste'!J447=\"\",\"\",'sd paste'!J447)","v":"2019-09-19"},{"$f":"IF('sd paste'!V447=\"\",\"\",'sd paste'!V447)","v":9828121142}]
[447,{"$f":"IF('sd paste'!A448=\"\",\"\",'sd paste'!A448)","v":11},{"$f":"IF('sd paste'!B448=\"\",\"\",'sd paste'!B448)","v":"A"},{"$f":"IF('sd paste'!C448=\"\",\"\",'sd paste'!C448)","v":5008},{"$f":"IF('sd paste'!E448=\"\",\"\",'sd paste'!E448)","v":"vkp447"},{"$f":"IF('sd paste'!G448=\"\",\"\",'sd paste'!G448)","v":"vk"},{"$f":"IF('sd paste'!H448=\"\",\"\",'sd paste'!H448)","v":"vkk"},{"$f":"IF('sd paste'!J448=\"\",\"\",'sd paste'!J448)","v":"2019-09-20"},{"$f":"IF('sd paste'!V448=\"\",\"\",'sd paste'!V448)","v":9828121143}]
[448,{"$f":"IF('sd paste'!A449=\"\",\"\",'sd paste'!A449)","v":11},{"$f":"IF('sd paste'!B449=\"\",\"\",'sd paste'!B449)","v":"A"},{"$f":"IF('sd paste'!C449=\"\",\"\",'sd paste'!C449)","v":5000},{"$f":"IF('sd paste'!E449=\"\",\"\",'sd paste'!E449)","v":"vkp448"},{"$f":"IF('sd paste'!G449=\"\",\"\",'sd paste'!G449)","v":"vk"},{"$f":"IF('sd paste'!H449=\"\",\"\",'sd paste'!H449)","v":"vkk"},{"$f":"IF('sd paste'!J449=\"\",\"\",'sd paste'!J449)","v":"2019-09-21"},{"$f":"IF('sd paste'!V449=\"\",\"\",'sd paste'!V449)","v":9828121144}]
[449,{"$f":"IF('sd paste'!A450=\"\",\"\",'sd paste'!A450)","v":11},{"$f":"IF('sd paste'!B450=\"\",\"\",'sd paste'!B450)","v":"A"},{"$f":"IF('sd paste'!C450=\"\",\"\",'sd paste'!C450)","v":4952},{"$f":"IF('sd paste'!E450=\"\",\"\",'sd paste'!E450)","v":"vkp449"},{"$f":"IF('sd paste'!G450=\"\",\"\",'sd paste'!G450)","v":"vk"},{"$f":"IF('sd paste'!H450=\"\",\"\",'sd paste'!H450)","v":"vkk"},{"$f":"IF('sd paste'!J450=\"\",\"\",'sd paste'!J450)","v":"2019-09-22"},{"$f":"IF('sd paste'!V450=\"\",\"\",'sd paste'!V450)","v":9828121145}]
[{"$f":"IF(F455=\"\",\"\",ROW(450:450))","v":450},{"$f":"IF('sd paste'!A451=\"\",\"\",'sd paste'!A451)","v":11},{"$f":"IF('sd paste'!B451=\"\",\"\",'sd paste'!B451)","v":"A"},{"$f":"IF('sd paste'!C451=\"\",\"\",'sd paste'!C451)","v":5431},{"$f":"IF('sd paste'!E451=\"\",\"\",'sd paste'!E451)","v":"vkp450"},{"$f":"IF('sd paste'!G451=\"\",\"\",'sd paste'!G451)","v":"vk"},{"$f":"IF('sd paste'!H451=\"\",\"\",'sd paste'!H451)","v":"vkk"},{"$f":"IF('sd paste'!J451=\"\",\"\",'sd paste'!J451)","v":"2019-09-23"},{"$f":"IF('sd paste'!V451=\"\",\"\",'sd paste'!V451)","v":9828121146}]
[451,{"$f":"IF('sd paste'!A452=\"\",\"\",'sd paste'!A452)","v":11},{"$f":"IF('sd paste'!B452=\"\",\"\",'sd paste'!B452)","v":"A"},{"$f":"IF('sd paste'!C452=\"\",\"\",'sd paste'!C452)","v":4486},{"$f":"IF('sd paste'!E452=\"\",\"\",'sd paste'!E452)","v":"vkp451"},{"$f":"IF('sd paste'!G452=\"\",\"\",'sd paste'!G452)","v":"vk"},{"$f":"IF('sd paste'!H452=\"\",\"\",'sd paste'!H452)","v":"vkk"},{"$f":"IF('sd paste'!J452=\"\",\"\",'sd paste'!J452)","v":"2019-09-24"},{"$f":"IF('sd paste'!V452=\"\",\"\",'sd paste'!V452)","v":9828121147}]
[452,{"$f":"IF('sd paste'!A453=\"\",\"\",'sd paste'!A453)","v":11},{"$f":"IF('sd paste'!B453=\"\",\"\",'sd paste'!B453)","v":"A"},{"$f":"IF('sd paste'!C453=\"\",\"\",'sd paste'!C453)","v":5404},{"$f":"IF('sd paste'!E453=\"\",\"\",'sd paste'!E453)","v":"vkp452"},{"$f":"IF('sd paste'!G453=\"\",\"\",'sd paste'!G453)","v":"vk"},{"$f":"IF('sd paste'!H453=\"\",\"\",'sd paste'!H453)","v":"vkk"},{"$f":"IF('sd paste'!J453=\"\",\"\",'sd paste'!J453)","v":"2019-09-25"},{"$f":"IF('sd paste'!V453=\"\",\"\",'sd paste'!V453)","v":9828121148}]
[453,{"$f":"IF('sd paste'!A454=\"\",\"\",'sd paste'!A454)","v":11},{"$f":"IF('sd paste'!B454=\"\",\"\",'sd paste'!B454)","v":"A"},{"$f":"IF('sd paste'!C454=\"\",\"\",'sd paste'!C454)","v":4321},{"$f":"IF('sd paste'!E454=\"\",\"\",'sd paste'!E454)","v":"vkp453"},{"$f":"IF('sd paste'!G454=\"\",\"\",'sd paste'!G454)","v":"vk"},{"$f":"IF('sd paste'!H454=\"\",\"\",'sd paste'!H454)","v":"vkk"},{"$f":"IF('sd paste'!J454=\"\",\"\",'sd paste'!J454)","v":"2019-09-26"},{"$f":"IF('sd paste'!V454=\"\",\"\",'sd paste'!V454)","v":9828121149}]
[454,{"$f":"IF('sd paste'!A455=\"\",\"\",'sd paste'!A455)","v":11},{"$f":"IF('sd paste'!B455=\"\",\"\",'sd paste'!B455)","v":"A"},{"$f":"IF('sd paste'!C455=\"\",\"\",'sd paste'!C455)","v":4783},{"$f":"IF('sd paste'!E455=\"\",\"\",'sd paste'!E455)","v":"vkp454"},{"$f":"IF('sd paste'!G455=\"\",\"\",'sd paste'!G455)","v":"vk"},{"$f":"IF('sd paste'!H455=\"\",\"\",'sd paste'!H455)","v":"vkk"},{"$f":"IF('sd paste'!J455=\"\",\"\",'sd paste'!J455)","v":"2019-09-27"},{"$f":"IF('sd paste'!V455=\"\",\"\",'sd paste'!V455)","v":9828121150}]
[455,{"$f":"IF('sd paste'!A456=\"\",\"\",'sd paste'!A456)","v":11},{"$f":"IF('sd paste'!B456=\"\",\"\",'sd paste'!B456)","v":"A"},{"$f":"IF('sd paste'!C456=\"\",\"\",'sd paste'!C456)","v":5411},{"$f":"IF('sd paste'!E456=\"\",\"\",'sd paste'!E456)","v":"vkp455"},{"$f":"IF('sd paste'!G456=\"\",\"\",'sd paste'!G456)","v":"vk"},{"$f":"IF('sd paste'!H456=\"\",\"\",'sd paste'!H456)","v":"vkk"},{"$f":"IF('sd paste'!J456=\"\",\"\",'sd paste'!J456)","v":"2019-09-28"},{"$f":"IF('sd paste'!V456=\"\",\"\",'sd paste'!V456)","v":9828121151}]
[456,{"$f":"IF('sd paste'!A457=\"\",\"\",'sd paste'!A457)","v":11},{"$f":"IF('sd paste'!B457=\"\",\"\",'sd paste'!B457)","v":"A"},{"$f":"IF('sd paste'!C457=\"\",\"\",'sd paste'!C457)","v":4895},{"$f":"IF('sd paste'!E457=\"\",\"\",'sd paste'!E457)","v":"vkp456"},{"$f":"IF('sd paste'!G457=\"\",\"\",'sd paste'!G457)","v":"vk"},{"$f":"IF('sd paste'!H457=\"\",\"\",'sd paste'!H457)","v":"vkk"},{"$f":"IF('sd paste'!J457=\"\",\"\",'sd paste'!J457)","v":"2019-09-29"},{"$f":"IF('sd paste'!V457=\"\",\"\",'sd paste'!V457)","v":9828121152}]
[457,{"$f":"IF('sd paste'!A458=\"\",\"\",'sd paste'!A458)","v":11},{"$f":"IF('sd paste'!B458=\"\",\"\",'sd paste'!B458)","v":"A"},{"$f":"IF('sd paste'!C458=\"\",\"\",'sd paste'!C458)","v":4651},{"$f":"IF('sd paste'!E458=\"\",\"\",'sd paste'!E458)","v":"vkp457"},{"$f":"IF('sd paste'!G458=\"\",\"\",'sd paste'!G458)","v":"vk"},{"$f":"IF('sd paste'!H458=\"\",\"\",'sd paste'!H458)","v":"vkk"},{"$f":"IF('sd paste'!J458=\"\",\"\",'sd paste'!J458)","v":"2019-09-30"},{"$f":"IF('sd paste'!V458=\"\",\"\",'sd paste'!V458)","v":9828121153}]
[458,{"$f":"IF('sd paste'!A459=\"\",\"\",'sd paste'!A459)","v":11},{"$f":"IF('sd paste'!B459=\"\",\"\",'sd paste'!B459)","v":"A"},{"$f":"IF('sd paste'!C459=\"\",\"\",'sd paste'!C459)","v":5430},{"$f":"IF('sd paste'!E459=\"\",\"\",'sd paste'!E459)","v":"vkp458"},{"$f":"IF('sd paste'!G459=\"\",\"\",'sd paste'!G459)","v":"vk"},{"$f":"IF('sd paste'!H459=\"\",\"\",'sd paste'!H459)","v":"vkk"},{"$f":"IF('sd paste'!J459=\"\",\"\",'sd paste'!J459)","v":"2019-10-01"},{"$f":"IF('sd paste'!V459=\"\",\"\",'sd paste'!V459)","v":9828121154}]
[459,{"$f":"IF('sd paste'!A460=\"\",\"\",'sd paste'!A460)","v":11},{"$f":"IF('sd paste'!B460=\"\",\"\",'sd paste'!B460)","v":"A"},{"$f":"IF('sd paste'!C460=\"\",\"\",'sd paste'!C460)","v":4563},{"$f":"IF('sd paste'!E460=\"\",\"\",'sd paste'!E460)","v":"vkp459"},{"$f":"IF('sd paste'!G460=\"\",\"\",'sd paste'!G460)","v":"vk"},{"$f":"IF('sd paste'!H460=\"\",\"\",'sd paste'!H460)","v":"vkk"},{"$f":"IF('sd paste'!J460=\"\",\"\",'sd paste'!J460)","v":"2019-10-02"},{"$f":"IF('sd paste'!V460=\"\",\"\",'sd paste'!V460)","v":9828121155}]
[460,{"$f":"IF('sd paste'!A461=\"\",\"\",'sd paste'!A461)","v":11},{"$f":"IF('sd paste'!B461=\"\",\"\",'sd paste'!B461)","v":"A"},{"$f":"IF('sd paste'!C461=\"\",\"\",'sd paste'!C461)","v":4937},{"$f":"IF('sd paste'!E461=\"\",\"\",'sd paste'!E461)","v":"vkp460"},{"$f":"IF('sd paste'!G461=\"\",\"\",'sd paste'!G461)","v":"vk"},{"$f":"IF('sd paste'!H461=\"\",\"\",'sd paste'!H461)","v":"vkk"},{"$f":"IF('sd paste'!J461=\"\",\"\",'sd paste'!J461)","v":"2019-10-03"},{"$f":"IF('sd paste'!V461=\"\",\"\",'sd paste'!V461)","v":9828121156}]
[461,{"$f":"IF('sd paste'!A462=\"\",\"\",'sd paste'!A462)","v":11},{"$f":"IF('sd paste'!B462=\"\",\"\",'sd paste'!B462)","v":"A"},{"$f":"IF('sd paste'!C462=\"\",\"\",'sd paste'!C462)","v":5442},{"$f":"IF('sd paste'!E462=\"\",\"\",'sd paste'!E462)","v":"vkp461"},{"$f":"IF('sd paste'!G462=\"\",\"\",'sd paste'!G462)","v":"vk"},{"$f":"IF('sd paste'!H462=\"\",\"\",'sd paste'!H462)","v":"vkk"},{"$f":"IF('sd paste'!J462=\"\",\"\",'sd paste'!J462)","v":"2019-10-04"},{"$f":"IF('sd paste'!V462=\"\",\"\",'sd paste'!V462)","v":9828121157}]
[462,{"$f":"IF('sd paste'!A463=\"\",\"\",'sd paste'!A463)","v":11},{"$f":"IF('sd paste'!B463=\"\",\"\",'sd paste'!B463)","v":"A"},{"$f":"IF('sd paste'!C463=\"\",\"\",'sd paste'!C463)","v":4980},{"$f":"IF('sd paste'!E463=\"\",\"\",'sd paste'!E463)","v":"vkp462"},{"$f":"IF('sd paste'!G463=\"\",\"\",'sd paste'!G463)","v":"vk"},{"$f":"IF('sd paste'!H463=\"\",\"\",'sd paste'!H463)","v":"vkk"},{"$f":"IF('sd paste'!J463=\"\",\"\",'sd paste'!J463)","v":"2019-10-05"},{"$f":"IF('sd paste'!V463=\"\",\"\",'sd paste'!V463)","v":9828121158}]
[463,{"$f":"IF('sd paste'!A464=\"\",\"\",'sd paste'!A464)","v":11},{"$f":"IF('sd paste'!B464=\"\",\"\",'sd paste'!B464)","v":"A"},{"$f":"IF('sd paste'!C464=\"\",\"\",'sd paste'!C464)","v":4778},{"$f":"IF('sd paste'!E464=\"\",\"\",'sd paste'!E464)","v":"vkp463"},{"$f":"IF('sd paste'!G464=\"\",\"\",'sd paste'!G464)","v":"vk"},{"$f":"IF('sd paste'!H464=\"\",\"\",'sd paste'!H464)","v":"vkk"},{"$f":"IF('sd paste'!J464=\"\",\"\",'sd paste'!J464)","v":"2019-10-06"},{"$f":"IF('sd paste'!V464=\"\",\"\",'sd paste'!V464)","v":9828121159}]
[464,{"$f":"IF('sd paste'!A465=\"\",\"\",'sd paste'!A465)","v":11},{"$f":"IF('sd paste'!B465=\"\",\"\",'sd paste'!B465)","v":"A"},{"$f":"IF('sd paste'!C465=\"\",\"\",'sd paste'!C465)","v":4677},{"$f":"IF('sd paste'!E465=\"\",\"\",'sd paste'!E465)","v":"vkp464"},{"$f":"IF('sd paste'!G465=\"\",\"\",'sd paste'!G465)","v":"vk"},{"$f":"IF('sd paste'!H465=\"\",\"\",'sd paste'!H465)","v":"vkk"},{"$f":"IF('sd paste'!J465=\"\",\"\",'sd paste'!J465)","v":"2019-10-07"},{"$f":"IF('sd paste'!V465=\"\",\"\",'sd paste'!V465)","v":9828121160}]
[465,{"$f":"IF('sd paste'!A466=\"\",\"\",'sd paste'!A466)","v":11},{"$f":"IF('sd paste'!B466=\"\",\"\",'sd paste'!B466)","v":"A"},{"$f":"IF('sd paste'!C466=\"\",\"\",'sd paste'!C466)","v":4979},{"$f":"IF('sd paste'!E466=\"\",\"\",'sd paste'!E466)","v":"vkp465"},{"$f":"IF('sd paste'!G466=\"\",\"\",'sd paste'!G466)","v":"vk"},{"$f":"IF('sd paste'!H466=\"\",\"\",'sd paste'!H466)","v":"vkk"},{"$f":"IF('sd paste'!J466=\"\",\"\",'sd paste'!J466)","v":"2019-10-08"},{"$f":"IF('sd paste'!V466=\"\",\"\",'sd paste'!V466)","v":9828121161}]
[466,{"$f":"IF('sd paste'!A467=\"\",\"\",'sd paste'!A467)","v":11},{"$f":"IF('sd paste'!B467=\"\",\"\",'sd paste'!B467)","v":"A"},{"$f":"IF('sd paste'!C467=\"\",\"\",'sd paste'!C467)","v":5377},{"$f":"IF('sd paste'!E467=\"\",\"\",'sd paste'!E467)","v":"vkp466"},{"$f":"IF('sd paste'!G467=\"\",\"\",'sd paste'!G467)","v":"vk"},{"$f":"IF('sd paste'!H467=\"\",\"\",'sd paste'!H467)","v":"vkk"},{"$f":"IF('sd paste'!J467=\"\",\"\",'sd paste'!J467)","v":"2019-10-09"},{"$f":"IF('sd paste'!V467=\"\",\"\",'sd paste'!V467)","v":9828121162}]
[467,{"$f":"IF('sd paste'!A468=\"\",\"\",'sd paste'!A468)","v":11},{"$f":"IF('sd paste'!B468=\"\",\"\",'sd paste'!B468)","v":"A"},{"$f":"IF('sd paste'!C468=\"\",\"\",'sd paste'!C468)","v":4845},{"$f":"IF('sd paste'!E468=\"\",\"\",'sd paste'!E468)","v":"vkp467"},{"$f":"IF('sd paste'!G468=\"\",\"\",'sd paste'!G468)","v":"vk"},{"$f":"IF('sd paste'!H468=\"\",\"\",'sd paste'!H468)","v":"vkk"},{"$f":"IF('sd paste'!J468=\"\",\"\",'sd paste'!J468)","v":"2019-10-10"},{"$f":"IF('sd paste'!V468=\"\",\"\",'sd paste'!V468)","v":9828121163}]
[468,{"$f":"IF('sd paste'!A469=\"\",\"\",'sd paste'!A469)","v":11},{"$f":"IF('sd paste'!B469=\"\",\"\",'sd paste'!B469)","v":"A"},{"$f":"IF('sd paste'!C469=\"\",\"\",'sd paste'!C469)","v":4640},{"$f":"IF('sd paste'!E469=\"\",\"\",'sd paste'!E469)","v":"vkp468"},{"$f":"IF('sd paste'!G469=\"\",\"\",'sd paste'!G469)","v":"vk"},{"$f":"IF('sd paste'!H469=\"\",\"\",'sd paste'!H469)","v":"vkk"},{"$f":"IF('sd paste'!J469=\"\",\"\",'sd paste'!J469)","v":"2019-10-11"},{"$f":"IF('sd paste'!V469=\"\",\"\",'sd paste'!V469)","v":9828121164}]
[469,{"$f":"IF('sd paste'!A470=\"\",\"\",'sd paste'!A470)","v":11},{"$f":"IF('sd paste'!B470=\"\",\"\",'sd paste'!B470)","v":"A"},{"$f":"IF('sd paste'!C470=\"\",\"\",'sd paste'!C470)","v":5387},{"$f":"IF('sd paste'!E470=\"\",\"\",'sd paste'!E470)","v":"vkp469"},{"$f":"IF('sd paste'!G470=\"\",\"\",'sd paste'!G470)","v":"vk"},{"$f":"IF('sd paste'!H470=\"\",\"\",'sd paste'!H470)","v":"vkk"},{"$f":"IF('sd paste'!J470=\"\",\"\",'sd paste'!J470)","v":"2019-10-12"},{"$f":"IF('sd paste'!V470=\"\",\"\",'sd paste'!V470)","v":9828121165}]
[470,{"$f":"IF('sd paste'!A471=\"\",\"\",'sd paste'!A471)","v":11},{"$f":"IF('sd paste'!B471=\"\",\"\",'sd paste'!B471)","v":"A"},{"$f":"IF('sd paste'!C471=\"\",\"\",'sd paste'!C471)","v":5364},{"$f":"IF('sd paste'!E471=\"\",\"\",'sd paste'!E471)","v":"vkp470"},{"$f":"IF('sd paste'!G471=\"\",\"\",'sd paste'!G471)","v":"vk"},{"$f":"IF('sd paste'!H471=\"\",\"\",'sd paste'!H471)","v":"vkk"},{"$f":"IF('sd paste'!J471=\"\",\"\",'sd paste'!J471)","v":"2019-10-13"},{"$f":"IF('sd paste'!V471=\"\",\"\",'sd paste'!V471)","v":9828121166}]
[471,{"$f":"IF('sd paste'!A472=\"\",\"\",'sd paste'!A472)","v":11},{"$f":"IF('sd paste'!B472=\"\",\"\",'sd paste'!B472)","v":"A"},{"$f":"IF('sd paste'!C472=\"\",\"\",'sd paste'!C472)","v":3821},{"$f":"IF('sd paste'!E472=\"\",\"\",'sd paste'!E472)","v":"vkp471"},{"$f":"IF('sd paste'!G472=\"\",\"\",'sd paste'!G472)","v":"vk"},{"$f":"IF('sd paste'!H472=\"\",\"\",'sd paste'!H472)","v":"vkk"},{"$f":"IF('sd paste'!J472=\"\",\"\",'sd paste'!J472)","v":"2019-10-14"},{"$f":"IF('sd paste'!V472=\"\",\"\",'sd paste'!V472)","v":9828121167}]
[472,{"$f":"IF('sd paste'!A473=\"\",\"\",'sd paste'!A473)","v":11},{"$f":"IF('sd paste'!B473=\"\",\"\",'sd paste'!B473)","v":"A"},{"$f":"IF('sd paste'!C473=\"\",\"\",'sd paste'!C473)","v":5441},{"$f":"IF('sd paste'!E473=\"\",\"\",'sd paste'!E473)","v":"vkp472"},{"$f":"IF('sd paste'!G473=\"\",\"\",'sd paste'!G473)","v":"vk"},{"$f":"IF('sd paste'!H473=\"\",\"\",'sd paste'!H473)","v":"vkk"},{"$f":"IF('sd paste'!J473=\"\",\"\",'sd paste'!J473)","v":"2019-10-15"},{"$f":"IF('sd paste'!V473=\"\",\"\",'sd paste'!V473)","v":9828121168}]
[473,{"$f":"IF('sd paste'!A474=\"\",\"\",'sd paste'!A474)","v":11},{"$f":"IF('sd paste'!B474=\"\",\"\",'sd paste'!B474)","v":"A"},{"$f":"IF('sd paste'!C474=\"\",\"\",'sd paste'!C474)","v":5024},{"$f":"IF('sd paste'!E474=\"\",\"\",'sd paste'!E474)","v":"vkp473"},{"$f":"IF('sd paste'!G474=\"\",\"\",'sd paste'!G474)","v":"vk"},{"$f":"IF('sd paste'!H474=\"\",\"\",'sd paste'!H474)","v":"vkk"},{"$f":"IF('sd paste'!J474=\"\",\"\",'sd paste'!J474)","v":"2019-10-16"},{"$f":"IF('sd paste'!V474=\"\",\"\",'sd paste'!V474)","v":9828121169}]
[474,{"$f":"IF('sd paste'!A475=\"\",\"\",'sd paste'!A475)","v":11},{"$f":"IF('sd paste'!B475=\"\",\"\",'sd paste'!B475)","v":"A"},{"$f":"IF('sd paste'!C475=\"\",\"\",'sd paste'!C475)","v":5198},{"$f":"IF('sd paste'!E475=\"\",\"\",'sd paste'!E475)","v":"vkp474"},{"$f":"IF('sd paste'!G475=\"\",\"\",'sd paste'!G475)","v":"vk"},{"$f":"IF('sd paste'!H475=\"\",\"\",'sd paste'!H475)","v":"vkk"},{"$f":"IF('sd paste'!J475=\"\",\"\",'sd paste'!J475)","v":"2019-10-17"},{"$f":"IF('sd paste'!V475=\"\",\"\",'sd paste'!V475)","v":9828121170}]
[475,{"$f":"IF('sd paste'!A476=\"\",\"\",'sd paste'!A476)","v":11},{"$f":"IF('sd paste'!B476=\"\",\"\",'sd paste'!B476)","v":"A"},{"$f":"IF('sd paste'!C476=\"\",\"\",'sd paste'!C476)","v":4461},{"$f":"IF('sd paste'!E476=\"\",\"\",'sd paste'!E476)","v":"vkp475"},{"$f":"IF('sd paste'!G476=\"\",\"\",'sd paste'!G476)","v":"vk"},{"$f":"IF('sd paste'!H476=\"\",\"\",'sd paste'!H476)","v":"vkk"},{"$f":"IF('sd paste'!J476=\"\",\"\",'sd paste'!J476)","v":"2019-10-18"},{"$f":"IF('sd paste'!V476=\"\",\"\",'sd paste'!V476)","v":9828121171}]
[476,{"$f":"IF('sd paste'!A477=\"\",\"\",'sd paste'!A477)","v":11},{"$f":"IF('sd paste'!B477=\"\",\"\",'sd paste'!B477)","v":"A"},{"$f":"IF('sd paste'!C477=\"\",\"\",'sd paste'!C477)","v":4482},{"$f":"IF('sd paste'!E477=\"\",\"\",'sd paste'!E477)","v":"vkp476"},{"$f":"IF('sd paste'!G477=\"\",\"\",'sd paste'!G477)","v":"vk"},{"$f":"IF('sd paste'!H477=\"\",\"\",'sd paste'!H477)","v":"vkk"},{"$f":"IF('sd paste'!J477=\"\",\"\",'sd paste'!J477)","v":"2019-10-19"},{"$f":"IF('sd paste'!V477=\"\",\"\",'sd paste'!V477)","v":9828121172}]
[477,{"$f":"IF('sd paste'!A478=\"\",\"\",'sd paste'!A478)","v":11},{"$f":"IF('sd paste'!B478=\"\",\"\",'sd paste'!B478)","v":"A"},{"$f":"IF('sd paste'!C478=\"\",\"\",'sd paste'!C478)","v":4460},{"$f":"IF('sd paste'!E478=\"\",\"\",'sd paste'!E478)","v":"vkp477"},{"$f":"IF('sd paste'!G478=\"\",\"\",'sd paste'!G478)","v":"vk"},{"$f":"IF('sd paste'!H478=\"\",\"\",'sd paste'!H478)","v":"vkk"},{"$f":"IF('sd paste'!J478=\"\",\"\",'sd paste'!J478)","v":"2019-10-20"},{"$f":"IF('sd paste'!V478=\"\",\"\",'sd paste'!V478)","v":9828121173}]
[478,{"$f":"IF('sd paste'!A479=\"\",\"\",'sd paste'!A479)","v":11},{"$f":"IF('sd paste'!B479=\"\",\"\",'sd paste'!B479)","v":"A"},{"$f":"IF('sd paste'!C479=\"\",\"\",'sd paste'!C479)","v":4781},{"$f":"IF('sd paste'!E479=\"\",\"\",'sd paste'!E479)","v":"vkp478"},{"$f":"IF('sd paste'!G479=\"\",\"\",'sd paste'!G479)","v":"vk"},{"$f":"IF('sd paste'!H479=\"\",\"\",'sd paste'!H479)","v":"vkk"},{"$f":"IF('sd paste'!J479=\"\",\"\",'sd paste'!J479)","v":"2019-10-21"},{"$f":"IF('sd paste'!V479=\"\",\"\",'sd paste'!V479)","v":9828121174}]
[479,{"$f":"IF('sd paste'!A480=\"\",\"\",'sd paste'!A480)","v":11},{"$f":"IF('sd paste'!B480=\"\",\"\",'sd paste'!B480)","v":"A"},{"$f":"IF('sd paste'!C480=\"\",\"\",'sd paste'!C480)","v":4985},{"$f":"IF('sd paste'!E480=\"\",\"\",'sd paste'!E480)","v":"vkp479"},{"$f":"IF('sd paste'!G480=\"\",\"\",'sd paste'!G480)","v":"vk"},{"$f":"IF('sd paste'!H480=\"\",\"\",'sd paste'!H480)","v":"vkk"},{"$f":"IF('sd paste'!J480=\"\",\"\",'sd paste'!J480)","v":"2019-10-22"},{"$f":"IF('sd paste'!V480=\"\",\"\",'sd paste'!V480)","v":9828121175}]
[480,{"$f":"IF('sd paste'!A481=\"\",\"\",'sd paste'!A481)","v":11},{"$f":"IF('sd paste'!B481=\"\",\"\",'sd paste'!B481)","v":"A"},{"$f":"IF('sd paste'!C481=\"\",\"\",'sd paste'!C481)","v":4968},{"$f":"IF('sd paste'!E481=\"\",\"\",'sd paste'!E481)","v":"vkp480"},{"$f":"IF('sd paste'!G481=\"\",\"\",'sd paste'!G481)","v":"vk"},{"$f":"IF('sd paste'!H481=\"\",\"\",'sd paste'!H481)","v":"vkk"},{"$f":"IF('sd paste'!J481=\"\",\"\",'sd paste'!J481)","v":"2019-10-23"},{"$f":"IF('sd paste'!V481=\"\",\"\",'sd paste'!V481)","v":9828121176}]
[481,{"$f":"IF('sd paste'!A482=\"\",\"\",'sd paste'!A482)","v":11},{"$f":"IF('sd paste'!B482=\"\",\"\",'sd paste'!B482)","v":"A"},{"$f":"IF('sd paste'!C482=\"\",\"\",'sd paste'!C482)","v":4969},{"$f":"IF('sd paste'!E482=\"\",\"\",'sd paste'!E482)","v":"vkp481"},{"$f":"IF('sd paste'!G482=\"\",\"\",'sd paste'!G482)","v":"vk"},{"$f":"IF('sd paste'!H482=\"\",\"\",'sd paste'!H482)","v":"vkk"},{"$f":"IF('sd paste'!J482=\"\",\"\",'sd paste'!J482)","v":"2019-10-24"},{"$f":"IF('sd paste'!V482=\"\",\"\",'sd paste'!V482)","v":9828121177}]
[482,{"$f":"IF('sd paste'!A483=\"\",\"\",'sd paste'!A483)","v":11},{"$f":"IF('sd paste'!B483=\"\",\"\",'sd paste'!B483)","v":"A"},{"$f":"IF('sd paste'!C483=\"\",\"\",'sd paste'!C483)","v":4774},{"$f":"IF('sd paste'!E483=\"\",\"\",'sd paste'!E483)","v":"vkp482"},{"$f":"IF('sd paste'!G483=\"\",\"\",'sd paste'!G483)","v":"vk"},{"$f":"IF('sd paste'!H483=\"\",\"\",'sd paste'!H483)","v":"vkk"},{"$f":"IF('sd paste'!J483=\"\",\"\",'sd paste'!J483)","v":"2019-10-25"},{"$f":"IF('sd paste'!V483=\"\",\"\",'sd paste'!V483)","v":9828121178}]
[483,{"$f":"IF('sd paste'!A484=\"\",\"\",'sd paste'!A484)","v":11},{"$f":"IF('sd paste'!B484=\"\",\"\",'sd paste'!B484)","v":"A"},{"$f":"IF('sd paste'!C484=\"\",\"\",'sd paste'!C484)","v":4604},{"$f":"IF('sd paste'!E484=\"\",\"\",'sd paste'!E484)","v":"vkp483"},{"$f":"IF('sd paste'!G484=\"\",\"\",'sd paste'!G484)","v":"vk"},{"$f":"IF('sd paste'!H484=\"\",\"\",'sd paste'!H484)","v":"vkk"},{"$f":"IF('sd paste'!J484=\"\",\"\",'sd paste'!J484)","v":"2019-10-26"},{"$f":"IF('sd paste'!V484=\"\",\"\",'sd paste'!V484)","v":9828121179}]
[484,{"$f":"IF('sd paste'!A485=\"\",\"\",'sd paste'!A485)","v":11},{"$f":"IF('sd paste'!B485=\"\",\"\",'sd paste'!B485)","v":"A"},{"$f":"IF('sd paste'!C485=\"\",\"\",'sd paste'!C485)","v":4971},{"$f":"IF('sd paste'!E485=\"\",\"\",'sd paste'!E485)","v":"vkp484"},{"$f":"IF('sd paste'!G485=\"\",\"\",'sd paste'!G485)","v":"vk"},{"$f":"IF('sd paste'!H485=\"\",\"\",'sd paste'!H485)","v":"vkk"},{"$f":"IF('sd paste'!J485=\"\",\"\",'sd paste'!J485)","v":"2019-10-27"},{"$f":"IF('sd paste'!V485=\"\",\"\",'sd paste'!V485)","v":9828121180}]
[485,{"$f":"IF('sd paste'!A486=\"\",\"\",'sd paste'!A486)","v":11},{"$f":"IF('sd paste'!B486=\"\",\"\",'sd paste'!B486)","v":"A"},{"$f":"IF('sd paste'!C486=\"\",\"\",'sd paste'!C486)","v":4693},{"$f":"IF('sd paste'!E486=\"\",\"\",'sd paste'!E486)","v":"vkp485"},{"$f":"IF('sd paste'!G486=\"\",\"\",'sd paste'!G486)","v":"vk"},{"$f":"IF('sd paste'!H486=\"\",\"\",'sd paste'!H486)","v":"vkk"},{"$f":"IF('sd paste'!J486=\"\",\"\",'sd paste'!J486)","v":"2019-10-28"},{"$f":"IF('sd paste'!V486=\"\",\"\",'sd paste'!V486)","v":9828121181}]
[486,{"$f":"IF('sd paste'!A487=\"\",\"\",'sd paste'!A487)","v":11},{"$f":"IF('sd paste'!B487=\"\",\"\",'sd paste'!B487)","v":"A"},{"$f":"IF('sd paste'!C487=\"\",\"\",'sd paste'!C487)","v":4922},{"$f":"IF('sd paste'!E487=\"\",\"\",'sd paste'!E487)","v":"vkp486"},{"$f":"IF('sd paste'!G487=\"\",\"\",'sd paste'!G487)","v":"vk"},{"$f":"IF('sd paste'!H487=\"\",\"\",'sd paste'!H487)","v":"vkk"},{"$f":"IF('sd paste'!J487=\"\",\"\",'sd paste'!J487)","v":"2019-10-29"},{"$f":"IF('sd paste'!V487=\"\",\"\",'sd paste'!V487)","v":9828121182}]
[487,{"$f":"IF('sd paste'!A488=\"\",\"\",'sd paste'!A488)","v":11},{"$f":"IF('sd paste'!B488=\"\",\"\",'sd paste'!B488)","v":"A"},{"$f":"IF('sd paste'!C488=\"\",\"\",'sd paste'!C488)","v":5362},{"$f":"IF('sd paste'!E488=\"\",\"\",'sd paste'!E488)","v":"vkp487"},{"$f":"IF('sd paste'!G488=\"\",\"\",'sd paste'!G488)","v":"vk"},{"$f":"IF('sd paste'!H488=\"\",\"\",'sd paste'!H488)","v":"vkk"},{"$f":"IF('sd paste'!J488=\"\",\"\",'sd paste'!J488)","v":"2019-10-30"},{"$f":"IF('sd paste'!V488=\"\",\"\",'sd paste'!V488)","v":9828121183}]
[488,{"$f":"IF('sd paste'!A489=\"\",\"\",'sd paste'!A489)","v":11},{"$f":"IF('sd paste'!B489=\"\",\"\",'sd paste'!B489)","v":"A"},{"$f":"IF('sd paste'!C489=\"\",\"\",'sd paste'!C489)","v":5361},{"$f":"IF('sd paste'!E489=\"\",\"\",'sd paste'!E489)","v":"vkp488"},{"$f":"IF('sd paste'!G489=\"\",\"\",'sd paste'!G489)","v":"vk"},{"$f":"IF('sd paste'!H489=\"\",\"\",'sd paste'!H489)","v":"vkk"},{"$f":"IF('sd paste'!J489=\"\",\"\",'sd paste'!J489)","v":"2019-10-31"},{"$f":"IF('sd paste'!V489=\"\",\"\",'sd paste'!V489)","v":9828121184}]
[489,{"$f":"IF('sd paste'!A490=\"\",\"\",'sd paste'!A490)","v":11},{"$f":"IF('sd paste'!B490=\"\",\"\",'sd paste'!B490)","v":"A"},{"$f":"IF('sd paste'!C490=\"\",\"\",'sd paste'!C490)","v":4935},{"$f":"IF('sd paste'!E490=\"\",\"\",'sd paste'!E490)","v":"vkp489"},{"$f":"IF('sd paste'!G490=\"\",\"\",'sd paste'!G490)","v":"vk"},{"$f":"IF('sd paste'!H490=\"\",\"\",'sd paste'!H490)","v":"vkk"},{"$f":"IF('sd paste'!J490=\"\",\"\",'sd paste'!J490)","v":"2019-11-01"},{"$f":"IF('sd paste'!V490=\"\",\"\",'sd paste'!V490)","v":9828121185}]
[490,{"$f":"IF('sd paste'!A491=\"\",\"\",'sd paste'!A491)","v":11},{"$f":"IF('sd paste'!B491=\"\",\"\",'sd paste'!B491)","v":"A"},{"$f":"IF('sd paste'!C491=\"\",\"\",'sd paste'!C491)","v":5009},{"$f":"IF('sd paste'!E491=\"\",\"\",'sd paste'!E491)","v":"vkp490"},{"$f":"IF('sd paste'!G491=\"\",\"\",'sd paste'!G491)","v":"vk"},{"$f":"IF('sd paste'!H491=\"\",\"\",'sd paste'!H491)","v":"vkk"},{"$f":"IF('sd paste'!J491=\"\",\"\",'sd paste'!J491)","v":"2019-11-02"},{"$f":"IF('sd paste'!V491=\"\",\"\",'sd paste'!V491)","v":9828121186}]
[491,{"$f":"IF('sd paste'!A492=\"\",\"\",'sd paste'!A492)","v":11},{"$f":"IF('sd paste'!B492=\"\",\"\",'sd paste'!B492)","v":"B"},{"$f":"IF('sd paste'!C492=\"\",\"\",'sd paste'!C492)","v":5444},{"$f":"IF('sd paste'!E492=\"\",\"\",'sd paste'!E492)","v":"vkp491"},{"$f":"IF('sd paste'!G492=\"\",\"\",'sd paste'!G492)","v":"vk"},{"$f":"IF('sd paste'!H492=\"\",\"\",'sd paste'!H492)","v":"vkk"},{"$f":"IF('sd paste'!J492=\"\",\"\",'sd paste'!J492)","v":"2019-11-03"},{"$f":"IF('sd paste'!V492=\"\",\"\",'sd paste'!V492)","v":9828121187}]
[492,{"$f":"IF('sd paste'!A493=\"\",\"\",'sd paste'!A493)","v":11},{"$f":"IF('sd paste'!B493=\"\",\"\",'sd paste'!B493)","v":"B"},{"$f":"IF('sd paste'!C493=\"\",\"\",'sd paste'!C493)","v":5018},{"$f":"IF('sd paste'!E493=\"\",\"\",'sd paste'!E493)","v":"vkp492"},{"$f":"IF('sd paste'!G493=\"\",\"\",'sd paste'!G493)","v":"vk"},{"$f":"IF('sd paste'!H493=\"\",\"\",'sd paste'!H493)","v":"vkk"},{"$f":"IF('sd paste'!J493=\"\",\"\",'sd paste'!J493)","v":"2019-11-04"},{"$f":"IF('sd paste'!V493=\"\",\"\",'sd paste'!V493)","v":9828121188}]
[493,{"$f":"IF('sd paste'!A494=\"\",\"\",'sd paste'!A494)","v":11},{"$f":"IF('sd paste'!B494=\"\",\"\",'sd paste'!B494)","v":"B"},{"$f":"IF('sd paste'!C494=\"\",\"\",'sd paste'!C494)","v":4844},{"$f":"IF('sd paste'!E494=\"\",\"\",'sd paste'!E494)","v":"vkp493"},{"$f":"IF('sd paste'!G494=\"\",\"\",'sd paste'!G494)","v":"vk"},{"$f":"IF('sd paste'!H494=\"\",\"\",'sd paste'!H494)","v":"vkk"},{"$f":"IF('sd paste'!J494=\"\",\"\",'sd paste'!J494)","v":"2019-11-05"},{"$f":"IF('sd paste'!V494=\"\",\"\",'sd paste'!V494)","v":9828121189}]
[494,{"$f":"IF('sd paste'!A495=\"\",\"\",'sd paste'!A495)","v":11},{"$f":"IF('sd paste'!B495=\"\",\"\",'sd paste'!B495)","v":"B"},{"$f":"IF('sd paste'!C495=\"\",\"\",'sd paste'!C495)","v":4896},{"$f":"IF('sd paste'!E495=\"\",\"\",'sd paste'!E495)","v":"vkp494"},{"$f":"IF('sd paste'!G495=\"\",\"\",'sd paste'!G495)","v":"vk"},{"$f":"IF('sd paste'!H495=\"\",\"\",'sd paste'!H495)","v":"vkk"},{"$f":"IF('sd paste'!J495=\"\",\"\",'sd paste'!J495)","v":"2019-11-06"},{"$f":"IF('sd paste'!V495=\"\",\"\",'sd paste'!V495)","v":9828121190}]
[495,{"$f":"IF('sd paste'!A496=\"\",\"\",'sd paste'!A496)","v":11},{"$f":"IF('sd paste'!B496=\"\",\"\",'sd paste'!B496)","v":"B"},{"$f":"IF('sd paste'!C496=\"\",\"\",'sd paste'!C496)","v":4263},{"$f":"IF('sd paste'!E496=\"\",\"\",'sd paste'!E496)","v":"vkp495"},{"$f":"IF('sd paste'!G496=\"\",\"\",'sd paste'!G496)","v":"vk"},{"$f":"IF('sd paste'!H496=\"\",\"\",'sd paste'!H496)","v":"vkk"},{"$f":"IF('sd paste'!J496=\"\",\"\",'sd paste'!J496)","v":"2019-11-07"},{"$f":"IF('sd paste'!V496=\"\",\"\",'sd paste'!V496)","v":9828121191}]
[496,{"$f":"IF('sd paste'!A497=\"\",\"\",'sd paste'!A497)","v":11},{"$f":"IF('sd paste'!B497=\"\",\"\",'sd paste'!B497)","v":"B"},{"$f":"IF('sd paste'!C497=\"\",\"\",'sd paste'!C497)","v":4936},{"$f":"IF('sd paste'!E497=\"\",\"\",'sd paste'!E497)","v":"vkp496"},{"$f":"IF('sd paste'!G497=\"\",\"\",'sd paste'!G497)","v":"vk"},{"$f":"IF('sd paste'!H497=\"\",\"\",'sd paste'!H497)","v":"vkk"},{"$f":"IF('sd paste'!J497=\"\",\"\",'sd paste'!J497)","v":"2019-11-08"},{"$f":"IF('sd paste'!V497=\"\",\"\",'sd paste'!V497)","v":9828121192}]
[497,{"$f":"IF('sd paste'!A498=\"\",\"\",'sd paste'!A498)","v":11},{"$f":"IF('sd paste'!B498=\"\",\"\",'sd paste'!B498)","v":"B"},{"$f":"IF('sd paste'!C498=\"\",\"\",'sd paste'!C498)","v":4958},{"$f":"IF('sd paste'!E498=\"\",\"\",'sd paste'!E498)","v":"vkp497"},{"$f":"IF('sd paste'!G498=\"\",\"\",'sd paste'!G498)","v":"vk"},{"$f":"IF('sd paste'!H498=\"\",\"\",'sd paste'!H498)","v":"vkk"},{"$f":"IF('sd paste'!J498=\"\",\"\",'sd paste'!J498)","v":"2019-11-09"},{"$f":"IF('sd paste'!V498=\"\",\"\",'sd paste'!V498)","v":9828121193}]
[498,{"$f":"IF('sd paste'!A499=\"\",\"\",'sd paste'!A499)","v":11},{"$f":"IF('sd paste'!B499=\"\",\"\",'sd paste'!B499)","v":"B"},{"$f":"IF('sd paste'!C499=\"\",\"\",'sd paste'!C499)","v":4999},{"$f":"IF('sd paste'!E499=\"\",\"\",'sd paste'!E499)","v":"vkp498"},{"$f":"IF('sd paste'!G499=\"\",\"\",'sd paste'!G499)","v":"vk"},{"$f":"IF('sd paste'!H499=\"\",\"\",'sd paste'!H499)","v":"vkk"},{"$f":"IF('sd paste'!J499=\"\",\"\",'sd paste'!J499)","v":"2019-11-10"},{"$f":"IF('sd paste'!V499=\"\",\"\",'sd paste'!V499)","v":9828121194}]
[499,{"$f":"IF('sd paste'!A500=\"\",\"\",'sd paste'!A500)","v":11},{"$f":"IF('sd paste'!B500=\"\",\"\",'sd paste'!B500)","v":"B"},{"$f":"IF('sd paste'!C500=\"\",\"\",'sd paste'!C500)","v":4801},{"$f":"IF('sd paste'!E500=\"\",\"\",'sd paste'!E500)","v":"vkp499"},{"$f":"IF('sd paste'!G500=\"\",\"\",'sd paste'!G500)","v":"vk"},{"$f":"IF('sd paste'!H500=\"\",\"\",'sd paste'!H500)","v":"vkk"},{"$f":"IF('sd paste'!J500=\"\",\"\",'sd paste'!J500)","v":"2019-11-11"},{"$f":"IF('sd paste'!V500=\"\",\"\",'sd paste'!V500)","v":9828121195}]
[500,{"$f":"IF('sd paste'!A501=\"\",\"\",'sd paste'!A501)","v":11},{"$f":"IF('sd paste'!B501=\"\",\"\",'sd paste'!B501)","v":"B"},{"$f":"IF('sd paste'!C501=\"\",\"\",'sd paste'!C501)","v":4954},{"$f":"IF('sd paste'!E501=\"\",\"\",'sd paste'!E501)","v":"vkp500"},{"$f":"IF('sd paste'!G501=\"\",\"\",'sd paste'!G501)","v":"vk"},{"$f":"IF('sd paste'!H501=\"\",\"\",'sd paste'!H501)","v":"vkk"},{"$f":"IF('sd paste'!J501=\"\",\"\",'sd paste'!J501)","v":"2019-11-12"},{"$f":"IF('sd paste'!V501=\"\",\"\",'sd paste'!V501)","v":9828121196}]
[501,{"$f":"IF('sd paste'!A502=\"\",\"\",'sd paste'!A502)","v":11},{"$f":"IF('sd paste'!B502=\"\",\"\",'sd paste'!B502)","v":"B"},{"$f":"IF('sd paste'!C502=\"\",\"\",'sd paste'!C502)","v":5335},{"$f":"IF('sd paste'!E502=\"\",\"\",'sd paste'!E502)","v":"vkp501"},{"$f":"IF('sd paste'!G502=\"\",\"\",'sd paste'!G502)","v":"vk"},{"$f":"IF('sd paste'!H502=\"\",\"\",'sd paste'!H502)","v":"vkk"},{"$f":"IF('sd paste'!J502=\"\",\"\",'sd paste'!J502)","v":"2019-11-13"},{"$f":"IF('sd paste'!V502=\"\",\"\",'sd paste'!V502)","v":9828121197}]
[502,{"$f":"IF('sd paste'!A503=\"\",\"\",'sd paste'!A503)","v":11},{"$f":"IF('sd paste'!B503=\"\",\"\",'sd paste'!B503)","v":"B"},{"$f":"IF('sd paste'!C503=\"\",\"\",'sd paste'!C503)","v":5084},{"$f":"IF('sd paste'!E503=\"\",\"\",'sd paste'!E503)","v":"vkp502"},{"$f":"IF('sd paste'!G503=\"\",\"\",'sd paste'!G503)","v":"vk"},{"$f":"IF('sd paste'!H503=\"\",\"\",'sd paste'!H503)","v":"vkk"},{"$f":"IF('sd paste'!J503=\"\",\"\",'sd paste'!J503)","v":"2019-11-14"},{"$f":"IF('sd paste'!V503=\"\",\"\",'sd paste'!V503)","v":9828121198}]
[503,{"$f":"IF('sd paste'!A504=\"\",\"\",'sd paste'!A504)","v":11},{"$f":"IF('sd paste'!B504=\"\",\"\",'sd paste'!B504)","v":"B"},{"$f":"IF('sd paste'!C504=\"\",\"\",'sd paste'!C504)","v":4576},{"$f":"IF('sd paste'!E504=\"\",\"\",'sd paste'!E504)","v":"vkp503"},{"$f":"IF('sd paste'!G504=\"\",\"\",'sd paste'!G504)","v":"vk"},{"$f":"IF('sd paste'!H504=\"\",\"\",'sd paste'!H504)","v":"vkk"},{"$f":"IF('sd paste'!J504=\"\",\"\",'sd paste'!J504)","v":"2019-11-15"},{"$f":"IF('sd paste'!V504=\"\",\"\",'sd paste'!V504)","v":9828121199}]
[504,{"$f":"IF('sd paste'!A505=\"\",\"\",'sd paste'!A505)","v":11},{"$f":"IF('sd paste'!B505=\"\",\"\",'sd paste'!B505)","v":"B"},{"$f":"IF('sd paste'!C505=\"\",\"\",'sd paste'!C505)","v":4923},{"$f":"IF('sd paste'!E505=\"\",\"\",'sd paste'!E505)","v":"vkp504"},{"$f":"IF('sd paste'!G505=\"\",\"\",'sd paste'!G505)","v":"vk"},{"$f":"IF('sd paste'!H505=\"\",\"\",'sd paste'!H505)","v":"vkk"},{"$f":"IF('sd paste'!J505=\"\",\"\",'sd paste'!J505)","v":"2019-11-16"},{"$f":"IF('sd paste'!V505=\"\",\"\",'sd paste'!V505)","v":9828121200}]
[505,{"$f":"IF('sd paste'!A506=\"\",\"\",'sd paste'!A506)","v":11},{"$f":"IF('sd paste'!B506=\"\",\"\",'sd paste'!B506)","v":"B"},{"$f":"IF('sd paste'!C506=\"\",\"\",'sd paste'!C506)","v":4977},{"$f":"IF('sd paste'!E506=\"\",\"\",'sd paste'!E506)","v":"vkp505"},{"$f":"IF('sd paste'!G506=\"\",\"\",'sd paste'!G506)","v":"vk"},{"$f":"IF('sd paste'!H506=\"\",\"\",'sd paste'!H506)","v":"vkk"},{"$f":"IF('sd paste'!J506=\"\",\"\",'sd paste'!J506)","v":"2019-11-17"},{"$f":"IF('sd paste'!V506=\"\",\"\",'sd paste'!V506)","v":9828121201}]
[506,{"$f":"IF('sd paste'!A507=\"\",\"\",'sd paste'!A507)","v":11},{"$f":"IF('sd paste'!B507=\"\",\"\",'sd paste'!B507)","v":"B"},{"$f":"IF('sd paste'!C507=\"\",\"\",'sd paste'!C507)","v":4485},{"$f":"IF('sd paste'!E507=\"\",\"\",'sd paste'!E507)","v":"vkp506"},{"$f":"IF('sd paste'!G507=\"\",\"\",'sd paste'!G507)","v":"vk"},{"$f":"IF('sd paste'!H507=\"\",\"\",'sd paste'!H507)","v":"vkk"},{"$f":"IF('sd paste'!J507=\"\",\"\",'sd paste'!J507)","v":"2019-11-18"},{"$f":"IF('sd paste'!V507=\"\",\"\",'sd paste'!V507)","v":9828121202}]
[507,{"$f":"IF('sd paste'!A508=\"\",\"\",'sd paste'!A508)","v":11},{"$f":"IF('sd paste'!B508=\"\",\"\",'sd paste'!B508)","v":"B"},{"$f":"IF('sd paste'!C508=\"\",\"\",'sd paste'!C508)","v":4953},{"$f":"IF('sd paste'!E508=\"\",\"\",'sd paste'!E508)","v":"vkp507"},{"$f":"IF('sd paste'!G508=\"\",\"\",'sd paste'!G508)","v":"vk"},{"$f":"IF('sd paste'!H508=\"\",\"\",'sd paste'!H508)","v":"vkk"},{"$f":"IF('sd paste'!J508=\"\",\"\",'sd paste'!J508)","v":"2019-11-19"},{"$f":"IF('sd paste'!V508=\"\",\"\",'sd paste'!V508)","v":9828121203}]
[508,{"$f":"IF('sd paste'!A509=\"\",\"\",'sd paste'!A509)","v":11},{"$f":"IF('sd paste'!B509=\"\",\"\",'sd paste'!B509)","v":"B"},{"$f":"IF('sd paste'!C509=\"\",\"\",'sd paste'!C509)","v":5002},{"$f":"IF('sd paste'!E509=\"\",\"\",'sd paste'!E509)","v":"vkp508"},{"$f":"IF('sd paste'!G509=\"\",\"\",'sd paste'!G509)","v":"vk"},{"$f":"IF('sd paste'!H509=\"\",\"\",'sd paste'!H509)","v":"vkk"},{"$f":"IF('sd paste'!J509=\"\",\"\",'sd paste'!J509)","v":"2019-11-20"},{"$f":"IF('sd paste'!V509=\"\",\"\",'sd paste'!V509)","v":9828121204}]
[509,{"$f":"IF('sd paste'!A510=\"\",\"\",'sd paste'!A510)","v":11},{"$f":"IF('sd paste'!B510=\"\",\"\",'sd paste'!B510)","v":"B"},{"$f":"IF('sd paste'!C510=\"\",\"\",'sd paste'!C510)","v":4984},{"$f":"IF('sd paste'!E510=\"\",\"\",'sd paste'!E510)","v":"vkp509"},{"$f":"IF('sd paste'!G510=\"\",\"\",'sd paste'!G510)","v":"vk"},{"$f":"IF('sd paste'!H510=\"\",\"\",'sd paste'!H510)","v":"vkk"},{"$f":"IF('sd paste'!J510=\"\",\"\",'sd paste'!J510)","v":"2019-11-21"},{"$f":"IF('sd paste'!V510=\"\",\"\",'sd paste'!V510)","v":9828121205}]
[510,{"$f":"IF('sd paste'!A511=\"\",\"\",'sd paste'!A511)","v":11},{"$f":"IF('sd paste'!B511=\"\",\"\",'sd paste'!B511)","v":"B"},{"$f":"IF('sd paste'!C511=\"\",\"\",'sd paste'!C511)","v":5336},{"$f":"IF('sd paste'!E511=\"\",\"\",'sd paste'!E511)","v":"vkp510"},{"$f":"IF('sd paste'!G511=\"\",\"\",'sd paste'!G511)","v":"vk"},{"$f":"IF('sd paste'!H511=\"\",\"\",'sd paste'!H511)","v":"vkk"},{"$f":"IF('sd paste'!J511=\"\",\"\",'sd paste'!J511)","v":"2019-11-22"},{"$f":"IF('sd paste'!V511=\"\",\"\",'sd paste'!V511)","v":9828121206}]
[511,{"$f":"IF('sd paste'!A512=\"\",\"\",'sd paste'!A512)","v":11},{"$f":"IF('sd paste'!B512=\"\",\"\",'sd paste'!B512)","v":"B"},{"$f":"IF('sd paste'!C512=\"\",\"\",'sd paste'!C512)","v":5042},{"$f":"IF('sd paste'!E512=\"\",\"\",'sd paste'!E512)","v":"vkp511"},{"$f":"IF('sd paste'!G512=\"\",\"\",'sd paste'!G512)","v":"vk"},{"$f":"IF('sd paste'!H512=\"\",\"\",'sd paste'!H512)","v":"vkk"},{"$f":"IF('sd paste'!J512=\"\",\"\",'sd paste'!J512)","v":"2019-11-23"},{"$f":"IF('sd paste'!V512=\"\",\"\",'sd paste'!V512)","v":9828121207}]
[512,{"$f":"IF('sd paste'!A513=\"\",\"\",'sd paste'!A513)","v":11},{"$f":"IF('sd paste'!B513=\"\",\"\",'sd paste'!B513)","v":"B"},{"$f":"IF('sd paste'!C513=\"\",\"\",'sd paste'!C513)","v":5041},{"$f":"IF('sd paste'!E513=\"\",\"\",'sd paste'!E513)","v":"vkp512"},{"$f":"IF('sd paste'!G513=\"\",\"\",'sd paste'!G513)","v":"vk"},{"$f":"IF('sd paste'!H513=\"\",\"\",'sd paste'!H513)","v":"vkk"},{"$f":"IF('sd paste'!J513=\"\",\"\",'sd paste'!J513)","v":"2019-11-24"},{"$f":"IF('sd paste'!V513=\"\",\"\",'sd paste'!V513)","v":9828121208}]
[513,{"$f":"IF('sd paste'!A514=\"\",\"\",'sd paste'!A514)","v":11},{"$f":"IF('sd paste'!B514=\"\",\"\",'sd paste'!B514)","v":"B"},{"$f":"IF('sd paste'!C514=\"\",\"\",'sd paste'!C514)","v":5412},{"$f":"IF('sd paste'!E514=\"\",\"\",'sd paste'!E514)","v":"vkp513"},{"$f":"IF('sd paste'!G514=\"\",\"\",'sd paste'!G514)","v":"vk"},{"$f":"IF('sd paste'!H514=\"\",\"\",'sd paste'!H514)","v":"vkk"},{"$f":"IF('sd paste'!J514=\"\",\"\",'sd paste'!J514)","v":"2019-11-25"},{"$f":"IF('sd paste'!V514=\"\",\"\",'sd paste'!V514)","v":9828121209}]
[{"$f":"IF(F519=\"\",\"\",ROW(514:514))","v":514},{"$f":"IF('sd paste'!A515=\"\",\"\",'sd paste'!A515)","v":11},{"$f":"IF('sd paste'!B515=\"\",\"\",'sd paste'!B515)","v":"B"},{"$f":"IF('sd paste'!C515=\"\",\"\",'sd paste'!C515)","v":5366},{"$f":"IF('sd paste'!E515=\"\",\"\",'sd paste'!E515)","v":"vkp514"},{"$f":"IF('sd paste'!G515=\"\",\"\",'sd paste'!G515)","v":"vk"},{"$f":"IF('sd paste'!H515=\"\",\"\",'sd paste'!H515)","v":"vkk"},{"$f":"IF('sd paste'!J515=\"\",\"\",'sd paste'!J515)","v":"2019-11-26"},{"$f":"IF('sd paste'!V515=\"\",\"\",'sd paste'!V515)","v":9828121210}]
[515,{"$f":"IF('sd paste'!A516=\"\",\"\",'sd paste'!A516)","v":11},{"$f":"IF('sd paste'!B516=\"\",\"\",'sd paste'!B516)","v":"B"},{"$f":"IF('sd paste'!C516=\"\",\"\",'sd paste'!C516)","v":3882},{"$f":"IF('sd paste'!E516=\"\",\"\",'sd paste'!E516)","v":"vkp515"},{"$f":"IF('sd paste'!G516=\"\",\"\",'sd paste'!G516)","v":"vk"},{"$f":"IF('sd paste'!H516=\"\",\"\",'sd paste'!H516)","v":"vkk"},{"$f":"IF('sd paste'!J516=\"\",\"\",'sd paste'!J516)","v":"2019-11-27"},{"$f":"IF('sd paste'!V516=\"\",\"\",'sd paste'!V516)","v":9828121211}]
[516,{"$f":"IF('sd paste'!A517=\"\",\"\",'sd paste'!A517)","v":11},{"$f":"IF('sd paste'!B517=\"\",\"\",'sd paste'!B517)","v":"B"},{"$f":"IF('sd paste'!C517=\"\",\"\",'sd paste'!C517)","v":4934},{"$f":"IF('sd paste'!E517=\"\",\"\",'sd paste'!E517)","v":"vkp516"},{"$f":"IF('sd paste'!G517=\"\",\"\",'sd paste'!G517)","v":"vk"},{"$f":"IF('sd paste'!H517=\"\",\"\",'sd paste'!H517)","v":"vkk"},{"$f":"IF('sd paste'!J517=\"\",\"\",'sd paste'!J517)","v":"2019-11-28"},{"$f":"IF('sd paste'!V517=\"\",\"\",'sd paste'!V517)","v":9828121212}]
[517,{"$f":"IF('sd paste'!A518=\"\",\"\",'sd paste'!A518)","v":11},{"$f":"IF('sd paste'!B518=\"\",\"\",'sd paste'!B518)","v":"B"},{"$f":"IF('sd paste'!C518=\"\",\"\",'sd paste'!C518)","v":3867},{"$f":"IF('sd paste'!E518=\"\",\"\",'sd paste'!E518)","v":"vkp517"},{"$f":"IF('sd paste'!G518=\"\",\"\",'sd paste'!G518)","v":"vk"},{"$f":"IF('sd paste'!H518=\"\",\"\",'sd paste'!H518)","v":"vkk"},{"$f":"IF('sd paste'!J518=\"\",\"\",'sd paste'!J518)","v":"2019-11-29"},{"$f":"IF('sd paste'!V518=\"\",\"\",'sd paste'!V518)","v":9828121213}]
[518,{"$f":"IF('sd paste'!A519=\"\",\"\",'sd paste'!A519)","v":11},{"$f":"IF('sd paste'!B519=\"\",\"\",'sd paste'!B519)","v":"B"},{"$f":"IF('sd paste'!C519=\"\",\"\",'sd paste'!C519)","v":5405},{"$f":"IF('sd paste'!E519=\"\",\"\",'sd paste'!E519)","v":"vkp518"},{"$f":"IF('sd paste'!G519=\"\",\"\",'sd paste'!G519)","v":"vk"},{"$f":"IF('sd paste'!H519=\"\",\"\",'sd paste'!H519)","v":"vkk"},{"$f":"IF('sd paste'!J519=\"\",\"\",'sd paste'!J519)","v":"2019-11-30"},{"$f":"IF('sd paste'!V519=\"\",\"\",'sd paste'!V519)","v":9828121214}]
[519,{"$f":"IF('sd paste'!A520=\"\",\"\",'sd paste'!A520)","v":11},{"$f":"IF('sd paste'!B520=\"\",\"\",'sd paste'!B520)","v":"B"},{"$f":"IF('sd paste'!C520=\"\",\"\",'sd paste'!C520)","v":4998},{"$f":"IF('sd paste'!E520=\"\",\"\",'sd paste'!E520)","v":"vkp519"},{"$f":"IF('sd paste'!G520=\"\",\"\",'sd paste'!G520)","v":"vk"},{"$f":"IF('sd paste'!H520=\"\",\"\",'sd paste'!H520)","v":"vkk"},{"$f":"IF('sd paste'!J520=\"\",\"\",'sd paste'!J520)","v":"2019-12-01"},{"$f":"IF('sd paste'!V520=\"\",\"\",'sd paste'!V520)","v":9828121215}]
[520,{"$f":"IF('sd paste'!A521=\"\",\"\",'sd paste'!A521)","v":11},{"$f":"IF('sd paste'!B521=\"\",\"\",'sd paste'!B521)","v":"B"},{"$f":"IF('sd paste'!C521=\"\",\"\",'sd paste'!C521)","v":4967},{"$f":"IF('sd paste'!E521=\"\",\"\",'sd paste'!E521)","v":"vkp520"},{"$f":"IF('sd paste'!G521=\"\",\"\",'sd paste'!G521)","v":"vk"},{"$f":"IF('sd paste'!H521=\"\",\"\",'sd paste'!H521)","v":"vkk"},{"$f":"IF('sd paste'!J521=\"\",\"\",'sd paste'!J521)","v":"2019-12-02"},{"$f":"IF('sd paste'!V521=\"\",\"\",'sd paste'!V521)","v":9828121216}]
[521,{"$f":"IF('sd paste'!A522=\"\",\"\",'sd paste'!A522)","v":11},{"$f":"IF('sd paste'!B522=\"\",\"\",'sd paste'!B522)","v":"B"},{"$f":"IF('sd paste'!C522=\"\",\"\",'sd paste'!C522)","v":5034},{"$f":"IF('sd paste'!E522=\"\",\"\",'sd paste'!E522)","v":"vkp521"},{"$f":"IF('sd paste'!G522=\"\",\"\",'sd paste'!G522)","v":"vk"},{"$f":"IF('sd paste'!H522=\"\",\"\",'sd paste'!H522)","v":"vkk"},{"$f":"IF('sd paste'!J522=\"\",\"\",'sd paste'!J522)","v":"2019-12-03"},{"$f":"IF('sd paste'!V522=\"\",\"\",'sd paste'!V522)","v":9828121217}]
[522,{"$f":"IF('sd paste'!A523=\"\",\"\",'sd paste'!A523)","v":11},{"$f":"IF('sd paste'!B523=\"\",\"\",'sd paste'!B523)","v":"B"},{"$f":"IF('sd paste'!C523=\"\",\"\",'sd paste'!C523)","v":5382},{"$f":"IF('sd paste'!E523=\"\",\"\",'sd paste'!E523)","v":"vkp522"},{"$f":"IF('sd paste'!G523=\"\",\"\",'sd paste'!G523)","v":"vk"},{"$f":"IF('sd paste'!H523=\"\",\"\",'sd paste'!H523)","v":"vkk"},{"$f":"IF('sd paste'!J523=\"\",\"\",'sd paste'!J523)","v":"2019-12-04"},{"$f":"IF('sd paste'!V523=\"\",\"\",'sd paste'!V523)","v":9828121218}]
[523,{"$f":"IF('sd paste'!A524=\"\",\"\",'sd paste'!A524)","v":11},{"$f":"IF('sd paste'!B524=\"\",\"\",'sd paste'!B524)","v":"B"},{"$f":"IF('sd paste'!C524=\"\",\"\",'sd paste'!C524)","v":4523},{"$f":"IF('sd paste'!E524=\"\",\"\",'sd paste'!E524)","v":"vkp523"},{"$f":"IF('sd paste'!G524=\"\",\"\",'sd paste'!G524)","v":"vk"},{"$f":"IF('sd paste'!H524=\"\",\"\",'sd paste'!H524)","v":"vkk"},{"$f":"IF('sd paste'!J524=\"\",\"\",'sd paste'!J524)","v":"2019-12-05"},{"$f":"IF('sd paste'!V524=\"\",\"\",'sd paste'!V524)","v":9828121219}]
[524,{"$f":"IF('sd paste'!A525=\"\",\"\",'sd paste'!A525)","v":11},{"$f":"IF('sd paste'!B525=\"\",\"\",'sd paste'!B525)","v":"B"},{"$f":"IF('sd paste'!C525=\"\",\"\",'sd paste'!C525)","v":4928},{"$f":"IF('sd paste'!E525=\"\",\"\",'sd paste'!E525)","v":"vkp524"},{"$f":"IF('sd paste'!G525=\"\",\"\",'sd paste'!G525)","v":"vk"},{"$f":"IF('sd paste'!H525=\"\",\"\",'sd paste'!H525)","v":"vkk"},{"$f":"IF('sd paste'!J525=\"\",\"\",'sd paste'!J525)","v":"2019-12-06"},{"$f":"IF('sd paste'!V525=\"\",\"\",'sd paste'!V525)","v":9828121220}]
[525,{"$f":"IF('sd paste'!A526=\"\",\"\",'sd paste'!A526)","v":11},{"$f":"IF('sd paste'!B526=\"\",\"\",'sd paste'!B526)","v":"B"},{"$f":"IF('sd paste'!C526=\"\",\"\",'sd paste'!C526)","v":5337},{"$f":"IF('sd paste'!E526=\"\",\"\",'sd paste'!E526)","v":"vkp525"},{"$f":"IF('sd paste'!G526=\"\",\"\",'sd paste'!G526)","v":"vk"},{"$f":"IF('sd paste'!H526=\"\",\"\",'sd paste'!H526)","v":"vkk"},{"$f":"IF('sd paste'!J526=\"\",\"\",'sd paste'!J526)","v":"2019-12-07"},{"$f":"IF('sd paste'!V526=\"\",\"\",'sd paste'!V526)","v":9828121221}]
[526,{"$f":"IF('sd paste'!A527=\"\",\"\",'sd paste'!A527)","v":11},{"$f":"IF('sd paste'!B527=\"\",\"\",'sd paste'!B527)","v":"B"},{"$f":"IF('sd paste'!C527=\"\",\"\",'sd paste'!C527)","v":5421},{"$f":"IF('sd paste'!E527=\"\",\"\",'sd paste'!E527)","v":"vkp526"},{"$f":"IF('sd paste'!G527=\"\",\"\",'sd paste'!G527)","v":"vk"},{"$f":"IF('sd paste'!H527=\"\",\"\",'sd paste'!H527)","v":"vkk"},{"$f":"IF('sd paste'!J527=\"\",\"\",'sd paste'!J527)","v":"2019-12-08"},{"$f":"IF('sd paste'!V527=\"\",\"\",'sd paste'!V527)","v":9828121222}]
[527,{"$f":"IF('sd paste'!A528=\"\",\"\",'sd paste'!A528)","v":11},{"$f":"IF('sd paste'!B528=\"\",\"\",'sd paste'!B528)","v":"B"},{"$f":"IF('sd paste'!C528=\"\",\"\",'sd paste'!C528)","v":5345},{"$f":"IF('sd paste'!E528=\"\",\"\",'sd paste'!E528)","v":"vkp527"},{"$f":"IF('sd paste'!G528=\"\",\"\",'sd paste'!G528)","v":"vk"},{"$f":"IF('sd paste'!H528=\"\",\"\",'sd paste'!H528)","v":"vkk"},{"$f":"IF('sd paste'!J528=\"\",\"\",'sd paste'!J528)","v":"2019-12-09"},{"$f":"IF('sd paste'!V528=\"\",\"\",'sd paste'!V528)","v":9828121223}]
[528,{"$f":"IF('sd paste'!A529=\"\",\"\",'sd paste'!A529)","v":11},{"$f":"IF('sd paste'!B529=\"\",\"\",'sd paste'!B529)","v":"B"},{"$f":"IF('sd paste'!C529=\"\",\"\",'sd paste'!C529)","v":5440},{"$f":"IF('sd paste'!E529=\"\",\"\",'sd paste'!E529)","v":"vkp528"},{"$f":"IF('sd paste'!G529=\"\",\"\",'sd paste'!G529)","v":"vk"},{"$f":"IF('sd paste'!H529=\"\",\"\",'sd paste'!H529)","v":"vkk"},{"$f":"IF('sd paste'!J529=\"\",\"\",'sd paste'!J529)","v":"2019-12-10"},{"$f":"IF('sd paste'!V529=\"\",\"\",'sd paste'!V529)","v":9828121224}]
[529,{"$f":"IF('sd paste'!A530=\"\",\"\",'sd paste'!A530)","v":11},{"$f":"IF('sd paste'!B530=\"\",\"\",'sd paste'!B530)","v":"B"},{"$f":"IF('sd paste'!C530=\"\",\"\",'sd paste'!C530)","v":5016},{"$f":"IF('sd paste'!E530=\"\",\"\",'sd paste'!E530)","v":"vkp529"},{"$f":"IF('sd paste'!G530=\"\",\"\",'sd paste'!G530)","v":"vk"},{"$f":"IF('sd paste'!H530=\"\",\"\",'sd paste'!H530)","v":"vkk"},{"$f":"IF('sd paste'!J530=\"\",\"\",'sd paste'!J530)","v":"2019-12-11"},{"$f":"IF('sd paste'!V530=\"\",\"\",'sd paste'!V530)","v":9828121225}]
[530,{"$f":"IF('sd paste'!A531=\"\",\"\",'sd paste'!A531)","v":11},{"$f":"IF('sd paste'!B531=\"\",\"\",'sd paste'!B531)","v":"B"},{"$f":"IF('sd paste'!C531=\"\",\"\",'sd paste'!C531)","v":5033},{"$f":"IF('sd paste'!E531=\"\",\"\",'sd paste'!E531)","v":"vkp530"},{"$f":"IF('sd paste'!G531=\"\",\"\",'sd paste'!G531)","v":"vk"},{"$f":"IF('sd paste'!H531=\"\",\"\",'sd paste'!H531)","v":"vkk"},{"$f":"IF('sd paste'!J531=\"\",\"\",'sd paste'!J531)","v":"2019-12-12"},{"$f":"IF('sd paste'!V531=\"\",\"\",'sd paste'!V531)","v":9828121226}]
[531,{"$f":"IF('sd paste'!A532=\"\",\"\",'sd paste'!A532)","v":12},{"$f":"IF('sd paste'!B532=\"\",\"\",'sd paste'!B532)","v":"A"},{"$f":"IF('sd paste'!C532=\"\",\"\",'sd paste'!C532)","v":3822},{"$f":"IF('sd paste'!E532=\"\",\"\",'sd paste'!E532)","v":"vkp531"},{"$f":"IF('sd paste'!G532=\"\",\"\",'sd paste'!G532)","v":"vk"},{"$f":"IF('sd paste'!H532=\"\",\"\",'sd paste'!H532)","v":"vkk"},{"$f":"IF('sd paste'!J532=\"\",\"\",'sd paste'!J532)","v":"2019-12-13"},{"$f":"IF('sd paste'!V532=\"\",\"\",'sd paste'!V532)","v":9828121227}]
[532,{"$f":"IF('sd paste'!A533=\"\",\"\",'sd paste'!A533)","v":12},{"$f":"IF('sd paste'!B533=\"\",\"\",'sd paste'!B533)","v":"A"},{"$f":"IF('sd paste'!C533=\"\",\"\",'sd paste'!C533)","v":4266},{"$f":"IF('sd paste'!E533=\"\",\"\",'sd paste'!E533)","v":"vkp532"},{"$f":"IF('sd paste'!G533=\"\",\"\",'sd paste'!G533)","v":"vk"},{"$f":"IF('sd paste'!H533=\"\",\"\",'sd paste'!H533)","v":"vkk"},{"$f":"IF('sd paste'!J533=\"\",\"\",'sd paste'!J533)","v":"2019-12-14"},{"$f":"IF('sd paste'!V533=\"\",\"\",'sd paste'!V533)","v":9828121228}]
[533,{"$f":"IF('sd paste'!A534=\"\",\"\",'sd paste'!A534)","v":12},{"$f":"IF('sd paste'!B534=\"\",\"\",'sd paste'!B534)","v":"A"},{"$f":"IF('sd paste'!C534=\"\",\"\",'sd paste'!C534)","v":4773},{"$f":"IF('sd paste'!E534=\"\",\"\",'sd paste'!E534)","v":"vkp533"},{"$f":"IF('sd paste'!G534=\"\",\"\",'sd paste'!G534)","v":"vk"},{"$f":"IF('sd paste'!H534=\"\",\"\",'sd paste'!H534)","v":"vkk"},{"$f":"IF('sd paste'!J534=\"\",\"\",'sd paste'!J534)","v":"2019-12-15"},{"$f":"IF('sd paste'!V534=\"\",\"\",'sd paste'!V534)","v":9828121229}]
[534,{"$f":"IF('sd paste'!A535=\"\",\"\",'sd paste'!A535)","v":12},{"$f":"IF('sd paste'!B535=\"\",\"\",'sd paste'!B535)","v":"A"},{"$f":"IF('sd paste'!C535=\"\",\"\",'sd paste'!C535)","v":5180},{"$f":"IF('sd paste'!E535=\"\",\"\",'sd paste'!E535)","v":"vkp534"},{"$f":"IF('sd paste'!G535=\"\",\"\",'sd paste'!G535)","v":"vk"},{"$f":"IF('sd paste'!H535=\"\",\"\",'sd paste'!H535)","v":"vkk"},{"$f":"IF('sd paste'!J535=\"\",\"\",'sd paste'!J535)","v":"2019-12-16"},{"$f":"IF('sd paste'!V535=\"\",\"\",'sd paste'!V535)","v":9828121230}]
[535,{"$f":"IF('sd paste'!A536=\"\",\"\",'sd paste'!A536)","v":12},{"$f":"IF('sd paste'!B536=\"\",\"\",'sd paste'!B536)","v":"A"},{"$f":"IF('sd paste'!C536=\"\",\"\",'sd paste'!C536)","v":4847},{"$f":"IF('sd paste'!E536=\"\",\"\",'sd paste'!E536)","v":"vkp535"},{"$f":"IF('sd paste'!G536=\"\",\"\",'sd paste'!G536)","v":"vk"},{"$f":"IF('sd paste'!H536=\"\",\"\",'sd paste'!H536)","v":"vkk"},{"$f":"IF('sd paste'!J536=\"\",\"\",'sd paste'!J536)","v":"2019-12-17"},{"$f":"IF('sd paste'!V536=\"\",\"\",'sd paste'!V536)","v":9828121231}]
[536,{"$f":"IF('sd paste'!A537=\"\",\"\",'sd paste'!A537)","v":12},{"$f":"IF('sd paste'!B537=\"\",\"\",'sd paste'!B537)","v":"A"},{"$f":"IF('sd paste'!C537=\"\",\"\",'sd paste'!C537)","v":5267},{"$f":"IF('sd paste'!E537=\"\",\"\",'sd paste'!E537)","v":"vkp536"},{"$f":"IF('sd paste'!G537=\"\",\"\",'sd paste'!G537)","v":"vk"},{"$f":"IF('sd paste'!H537=\"\",\"\",'sd paste'!H537)","v":"vkk"},{"$f":"IF('sd paste'!J537=\"\",\"\",'sd paste'!J537)","v":"2019-12-18"},{"$f":"IF('sd paste'!V537=\"\",\"\",'sd paste'!V537)","v":9828121232}]
[537,{"$f":"IF('sd paste'!A538=\"\",\"\",'sd paste'!A538)","v":12},{"$f":"IF('sd paste'!B538=\"\",\"\",'sd paste'!B538)","v":"A"},{"$f":"IF('sd paste'!C538=\"\",\"\",'sd paste'!C538)","v":5250},{"$f":"IF('sd paste'!E538=\"\",\"\",'sd paste'!E538)","v":"vkp537"},{"$f":"IF('sd paste'!G538=\"\",\"\",'sd paste'!G538)","v":"vk"},{"$f":"IF('sd paste'!H538=\"\",\"\",'sd paste'!H538)","v":"vkk"},{"$f":"IF('sd paste'!J538=\"\",\"\",'sd paste'!J538)","v":"2019-12-19"},{"$f":"IF('sd paste'!V538=\"\",\"\",'sd paste'!V538)","v":9828121233}]
[538,{"$f":"IF('sd paste'!A539=\"\",\"\",'sd paste'!A539)","v":12},{"$f":"IF('sd paste'!B539=\"\",\"\",'sd paste'!B539)","v":"A"},{"$f":"IF('sd paste'!C539=\"\",\"\",'sd paste'!C539)","v":4836},{"$f":"IF('sd paste'!E539=\"\",\"\",'sd paste'!E539)","v":"vkp538"},{"$f":"IF('sd paste'!G539=\"\",\"\",'sd paste'!G539)","v":"vk"},{"$f":"IF('sd paste'!H539=\"\",\"\",'sd paste'!H539)","v":"vkk"},{"$f":"IF('sd paste'!J539=\"\",\"\",'sd paste'!J539)","v":"2019-12-20"},{"$f":"IF('sd paste'!V539=\"\",\"\",'sd paste'!V539)","v":9828121234}]
[539,{"$f":"IF('sd paste'!A540=\"\",\"\",'sd paste'!A540)","v":12},{"$f":"IF('sd paste'!B540=\"\",\"\",'sd paste'!B540)","v":"A"},{"$f":"IF('sd paste'!C540=\"\",\"\",'sd paste'!C540)","v":4853},{"$f":"IF('sd paste'!E540=\"\",\"\",'sd paste'!E540)","v":"vkp539"},{"$f":"IF('sd paste'!G540=\"\",\"\",'sd paste'!G540)","v":"vk"},{"$f":"IF('sd paste'!H540=\"\",\"\",'sd paste'!H540)","v":"vkk"},{"$f":"IF('sd paste'!J540=\"\",\"\",'sd paste'!J540)","v":"2019-12-21"},{"$f":"IF('sd paste'!V540=\"\",\"\",'sd paste'!V540)","v":9828121235}]
[540,{"$f":"IF('sd paste'!A541=\"\",\"\",'sd paste'!A541)","v":12},{"$f":"IF('sd paste'!B541=\"\",\"\",'sd paste'!B541)","v":"A"},{"$f":"IF('sd paste'!C541=\"\",\"\",'sd paste'!C541)","v":4831},{"$f":"IF('sd paste'!E541=\"\",\"\",'sd paste'!E541)","v":"vkp540"},{"$f":"IF('sd paste'!G541=\"\",\"\",'sd paste'!G541)","v":"vk"},{"$f":"IF('sd paste'!H541=\"\",\"\",'sd paste'!H541)","v":"vkk"},{"$f":"IF('sd paste'!J541=\"\",\"\",'sd paste'!J541)","v":"2019-12-22"},{"$f":"IF('sd paste'!V541=\"\",\"\",'sd paste'!V541)","v":9828121236}]
[541,{"$f":"IF('sd paste'!A542=\"\",\"\",'sd paste'!A542)","v":12},{"$f":"IF('sd paste'!B542=\"\",\"\",'sd paste'!B542)","v":"A"},{"$f":"IF('sd paste'!C542=\"\",\"\",'sd paste'!C542)","v":5346},{"$f":"IF('sd paste'!E542=\"\",\"\",'sd paste'!E542)","v":"vkp541"},{"$f":"IF('sd paste'!G542=\"\",\"\",'sd paste'!G542)","v":"vk"},{"$f":"IF('sd paste'!H542=\"\",\"\",'sd paste'!H542)","v":"vkk"},{"$f":"IF('sd paste'!J542=\"\",\"\",'sd paste'!J542)","v":"2019-12-23"},{"$f":"IF('sd paste'!V542=\"\",\"\",'sd paste'!V542)","v":9828121237}]
[542,{"$f":"IF('sd paste'!A543=\"\",\"\",'sd paste'!A543)","v":12},{"$f":"IF('sd paste'!B543=\"\",\"\",'sd paste'!B543)","v":"A"},{"$f":"IF('sd paste'!C543=\"\",\"\",'sd paste'!C543)","v":4546},{"$f":"IF('sd paste'!E543=\"\",\"\",'sd paste'!E543)","v":"vkp542"},{"$f":"IF('sd paste'!G543=\"\",\"\",'sd paste'!G543)","v":"vk"},{"$f":"IF('sd paste'!H543=\"\",\"\",'sd paste'!H543)","v":"vkk"},{"$f":"IF('sd paste'!J543=\"\",\"\",'sd paste'!J543)","v":"2019-12-24"},{"$f":"IF('sd paste'!V543=\"\",\"\",'sd paste'!V543)","v":9828121238}]
[543,{"$f":"IF('sd paste'!A544=\"\",\"\",'sd paste'!A544)","v":12},{"$f":"IF('sd paste'!B544=\"\",\"\",'sd paste'!B544)","v":"A"},{"$f":"IF('sd paste'!C544=\"\",\"\",'sd paste'!C544)","v":4828},{"$f":"IF('sd paste'!E544=\"\",\"\",'sd paste'!E544)","v":"vkp543"},{"$f":"IF('sd paste'!G544=\"\",\"\",'sd paste'!G544)","v":"vk"},{"$f":"IF('sd paste'!H544=\"\",\"\",'sd paste'!H544)","v":"vkk"},{"$f":"IF('sd paste'!J544=\"\",\"\",'sd paste'!J544)","v":"2019-12-25"},{"$f":"IF('sd paste'!V544=\"\",\"\",'sd paste'!V544)","v":9828121239}]
[544,{"$f":"IF('sd paste'!A545=\"\",\"\",'sd paste'!A545)","v":12},{"$f":"IF('sd paste'!B545=\"\",\"\",'sd paste'!B545)","v":"A"},{"$f":"IF('sd paste'!C545=\"\",\"\",'sd paste'!C545)","v":5275},{"$f":"IF('sd paste'!E545=\"\",\"\",'sd paste'!E545)","v":"vkp544"},{"$f":"IF('sd paste'!G545=\"\",\"\",'sd paste'!G545)","v":"vk"},{"$f":"IF('sd paste'!H545=\"\",\"\",'sd paste'!H545)","v":"vkk"},{"$f":"IF('sd paste'!J545=\"\",\"\",'sd paste'!J545)","v":"2019-12-26"},{"$f":"IF('sd paste'!V545=\"\",\"\",'sd paste'!V545)","v":9828121240}]
[545,{"$f":"IF('sd paste'!A546=\"\",\"\",'sd paste'!A546)","v":12},{"$f":"IF('sd paste'!B546=\"\",\"\",'sd paste'!B546)","v":"A"},{"$f":"IF('sd paste'!C546=\"\",\"\",'sd paste'!C546)","v":4824},{"$f":"IF('sd paste'!E546=\"\",\"\",'sd paste'!E546)","v":"vkp545"},{"$f":"IF('sd paste'!G546=\"\",\"\",'sd paste'!G546)","v":"vk"},{"$f":"IF('sd paste'!H546=\"\",\"\",'sd paste'!H546)","v":"vkk"},{"$f":"IF('sd paste'!J546=\"\",\"\",'sd paste'!J546)","v":"2019-12-27"},{"$f":"IF('sd paste'!V546=\"\",\"\",'sd paste'!V546)","v":9828121241}]
[546,{"$f":"IF('sd paste'!A547=\"\",\"\",'sd paste'!A547)","v":12},{"$f":"IF('sd paste'!B547=\"\",\"\",'sd paste'!B547)","v":"A"},{"$f":"IF('sd paste'!C547=\"\",\"\",'sd paste'!C547)","v":4511},{"$f":"IF('sd paste'!E547=\"\",\"\",'sd paste'!E547)","v":"vkp546"},{"$f":"IF('sd paste'!G547=\"\",\"\",'sd paste'!G547)","v":"vk"},{"$f":"IF('sd paste'!H547=\"\",\"\",'sd paste'!H547)","v":"vkk"},{"$f":"IF('sd paste'!J547=\"\",\"\",'sd paste'!J547)","v":"2019-12-28"},{"$f":"IF('sd paste'!V547=\"\",\"\",'sd paste'!V547)","v":9828121242}]
[547,{"$f":"IF('sd paste'!A548=\"\",\"\",'sd paste'!A548)","v":12},{"$f":"IF('sd paste'!B548=\"\",\"\",'sd paste'!B548)","v":"A"},{"$f":"IF('sd paste'!C548=\"\",\"\",'sd paste'!C548)","v":5174},{"$f":"IF('sd paste'!E548=\"\",\"\",'sd paste'!E548)","v":"vkp547"},{"$f":"IF('sd paste'!G548=\"\",\"\",'sd paste'!G548)","v":"vk"},{"$f":"IF('sd paste'!H548=\"\",\"\",'sd paste'!H548)","v":"vkk"},{"$f":"IF('sd paste'!J548=\"\",\"\",'sd paste'!J548)","v":"2019-12-29"},{"$f":"IF('sd paste'!V548=\"\",\"\",'sd paste'!V548)","v":9828121243}]
[548,{"$f":"IF('sd paste'!A549=\"\",\"\",'sd paste'!A549)","v":12},{"$f":"IF('sd paste'!B549=\"\",\"\",'sd paste'!B549)","v":"A"},{"$f":"IF('sd paste'!C549=\"\",\"\",'sd paste'!C549)","v":4759},{"$f":"IF('sd paste'!E549=\"\",\"\",'sd paste'!E549)","v":"vkp548"},{"$f":"IF('sd paste'!G549=\"\",\"\",'sd paste'!G549)","v":"vk"},{"$f":"IF('sd paste'!H549=\"\",\"\",'sd paste'!H549)","v":"vkk"},{"$f":"IF('sd paste'!J549=\"\",\"\",'sd paste'!J549)","v":"2019-12-30"},{"$f":"IF('sd paste'!V549=\"\",\"\",'sd paste'!V549)","v":9828121244}]
[549,{"$f":"IF('sd paste'!A550=\"\",\"\",'sd paste'!A550)","v":12},{"$f":"IF('sd paste'!B550=\"\",\"\",'sd paste'!B550)","v":"A"},{"$f":"IF('sd paste'!C550=\"\",\"\",'sd paste'!C550)","v":3846},{"$f":"IF('sd paste'!E550=\"\",\"\",'sd paste'!E550)","v":"vkp549"},{"$f":"IF('sd paste'!G550=\"\",\"\",'sd paste'!G550)","v":"vk"},{"$f":"IF('sd paste'!H550=\"\",\"\",'sd paste'!H550)","v":"vkk"},{"$f":"IF('sd paste'!J550=\"\",\"\",'sd paste'!J550)","v":"2019-12-31"},{"$f":"IF('sd paste'!V550=\"\",\"\",'sd paste'!V550)","v":9828121245}]
[550,{"$f":"IF('sd paste'!A551=\"\",\"\",'sd paste'!A551)","v":12},{"$f":"IF('sd paste'!B551=\"\",\"\",'sd paste'!B551)","v":"A"},{"$f":"IF('sd paste'!C551=\"\",\"\",'sd paste'!C551)","v":4222},{"$f":"IF('sd paste'!E551=\"\",\"\",'sd paste'!E551)","v":"vkp550"},{"$f":"IF('sd paste'!G551=\"\",\"\",'sd paste'!G551)","v":"vk"},{"$f":"IF('sd paste'!H551=\"\",\"\",'sd paste'!H551)","v":"vkk"},{"$f":"IF('sd paste'!J551=\"\",\"\",'sd paste'!J551)","v":"2020-01-01"},{"$f":"IF('sd paste'!V551=\"\",\"\",'sd paste'!V551)","v":9828121246}]
[551,{"$f":"IF('sd paste'!A552=\"\",\"\",'sd paste'!A552)","v":12},{"$f":"IF('sd paste'!B552=\"\",\"\",'sd paste'!B552)","v":"A"},{"$f":"IF('sd paste'!C552=\"\",\"\",'sd paste'!C552)","v":4387},{"$f":"IF('sd paste'!E552=\"\",\"\",'sd paste'!E552)","v":"vkp551"},{"$f":"IF('sd paste'!G552=\"\",\"\",'sd paste'!G552)","v":"vk"},{"$f":"IF('sd paste'!H552=\"\",\"\",'sd paste'!H552)","v":"vkk"},{"$f":"IF('sd paste'!J552=\"\",\"\",'sd paste'!J552)","v":"2020-01-02"},{"$f":"IF('sd paste'!V552=\"\",\"\",'sd paste'!V552)","v":9828121247}]
[552,{"$f":"IF('sd paste'!A553=\"\",\"\",'sd paste'!A553)","v":12},{"$f":"IF('sd paste'!B553=\"\",\"\",'sd paste'!B553)","v":"A"},{"$f":"IF('sd paste'!C553=\"\",\"\",'sd paste'!C553)","v":5292},{"$f":"IF('sd paste'!E553=\"\",\"\",'sd paste'!E553)","v":"vkp552"},{"$f":"IF('sd paste'!G553=\"\",\"\",'sd paste'!G553)","v":"vk"},{"$f":"IF('sd paste'!H553=\"\",\"\",'sd paste'!H553)","v":"vkk"},{"$f":"IF('sd paste'!J553=\"\",\"\",'sd paste'!J553)","v":"2020-01-03"},{"$f":"IF('sd paste'!V553=\"\",\"\",'sd paste'!V553)","v":9828121248}]
[553,{"$f":"IF('sd paste'!A554=\"\",\"\",'sd paste'!A554)","v":12},{"$f":"IF('sd paste'!B554=\"\",\"\",'sd paste'!B554)","v":"A"},{"$f":"IF('sd paste'!C554=\"\",\"\",'sd paste'!C554)","v":4848},{"$f":"IF('sd paste'!E554=\"\",\"\",'sd paste'!E554)","v":"vkp553"},{"$f":"IF('sd paste'!G554=\"\",\"\",'sd paste'!G554)","v":"vk"},{"$f":"IF('sd paste'!H554=\"\",\"\",'sd paste'!H554)","v":"vkk"},{"$f":"IF('sd paste'!J554=\"\",\"\",'sd paste'!J554)","v":"2020-01-04"},{"$f":"IF('sd paste'!V554=\"\",\"\",'sd paste'!V554)","v":9828121249}]
[554,{"$f":"IF('sd paste'!A555=\"\",\"\",'sd paste'!A555)","v":12},{"$f":"IF('sd paste'!B555=\"\",\"\",'sd paste'!B555)","v":"A"},{"$f":"IF('sd paste'!C555=\"\",\"\",'sd paste'!C555)","v":5017},{"$f":"IF('sd paste'!E555=\"\",\"\",'sd paste'!E555)","v":"vkp554"},{"$f":"IF('sd paste'!G555=\"\",\"\",'sd paste'!G555)","v":"vk"},{"$f":"IF('sd paste'!H555=\"\",\"\",'sd paste'!H555)","v":"vkk"},{"$f":"IF('sd paste'!J555=\"\",\"\",'sd paste'!J555)","v":"2020-01-05"},{"$f":"IF('sd paste'!V555=\"\",\"\",'sd paste'!V555)","v":9828121250}]
[555,{"$f":"IF('sd paste'!A556=\"\",\"\",'sd paste'!A556)","v":12},{"$f":"IF('sd paste'!B556=\"\",\"\",'sd paste'!B556)","v":"A"},{"$f":"IF('sd paste'!C556=\"\",\"\",'sd paste'!C556)","v":4291},{"$f":"IF('sd paste'!E556=\"\",\"\",'sd paste'!E556)","v":"vkp555"},{"$f":"IF('sd paste'!G556=\"\",\"\",'sd paste'!G556)","v":"vk"},{"$f":"IF('sd paste'!H556=\"\",\"\",'sd paste'!H556)","v":"vkk"},{"$f":"IF('sd paste'!J556=\"\",\"\",'sd paste'!J556)","v":"2020-01-06"},{"$f":"IF('sd paste'!V556=\"\",\"\",'sd paste'!V556)","v":9828121251}]
[556,{"$f":"IF('sd paste'!A557=\"\",\"\",'sd paste'!A557)","v":12},{"$f":"IF('sd paste'!B557=\"\",\"\",'sd paste'!B557)","v":"A"},{"$f":"IF('sd paste'!C557=\"\",\"\",'sd paste'!C557)","v":4768},{"$f":"IF('sd paste'!E557=\"\",\"\",'sd paste'!E557)","v":"vkp556"},{"$f":"IF('sd paste'!G557=\"\",\"\",'sd paste'!G557)","v":"vk"},{"$f":"IF('sd paste'!H557=\"\",\"\",'sd paste'!H557)","v":"vkk"},{"$f":"IF('sd paste'!J557=\"\",\"\",'sd paste'!J557)","v":"2020-01-07"},{"$f":"IF('sd paste'!V557=\"\",\"\",'sd paste'!V557)","v":9828121252}]
[557,{"$f":"IF('sd paste'!A558=\"\",\"\",'sd paste'!A558)","v":12},{"$f":"IF('sd paste'!B558=\"\",\"\",'sd paste'!B558)","v":"A"},{"$f":"IF('sd paste'!C558=\"\",\"\",'sd paste'!C558)","v":4889},{"$f":"IF('sd paste'!E558=\"\",\"\",'sd paste'!E558)","v":"vkp557"},{"$f":"IF('sd paste'!G558=\"\",\"\",'sd paste'!G558)","v":"vk"},{"$f":"IF('sd paste'!H558=\"\",\"\",'sd paste'!H558)","v":"vkk"},{"$f":"IF('sd paste'!J558=\"\",\"\",'sd paste'!J558)","v":"2020-01-08"},{"$f":"IF('sd paste'!V558=\"\",\"\",'sd paste'!V558)","v":9828121253}]
[558,{"$f":"IF('sd paste'!A559=\"\",\"\",'sd paste'!A559)","v":12},{"$f":"IF('sd paste'!B559=\"\",\"\",'sd paste'!B559)","v":"A"},{"$f":"IF('sd paste'!C559=\"\",\"\",'sd paste'!C559)","v":5086},{"$f":"IF('sd paste'!E559=\"\",\"\",'sd paste'!E559)","v":"vkp558"},{"$f":"IF('sd paste'!G559=\"\",\"\",'sd paste'!G559)","v":"vk"},{"$f":"IF('sd paste'!H559=\"\",\"\",'sd paste'!H559)","v":"vkk"},{"$f":"IF('sd paste'!J559=\"\",\"\",'sd paste'!J559)","v":"2020-01-09"},{"$f":"IF('sd paste'!V559=\"\",\"\",'sd paste'!V559)","v":9828121254}]
[559,{"$f":"IF('sd paste'!A560=\"\",\"\",'sd paste'!A560)","v":12},{"$f":"IF('sd paste'!B560=\"\",\"\",'sd paste'!B560)","v":"A"},{"$f":"IF('sd paste'!C560=\"\",\"\",'sd paste'!C560)","v":3817},{"$f":"IF('sd paste'!E560=\"\",\"\",'sd paste'!E560)","v":"vkp559"},{"$f":"IF('sd paste'!G560=\"\",\"\",'sd paste'!G560)","v":"vk"},{"$f":"IF('sd paste'!H560=\"\",\"\",'sd paste'!H560)","v":"vkk"},{"$f":"IF('sd paste'!J560=\"\",\"\",'sd paste'!J560)","v":"2020-01-10"},{"$f":"IF('sd paste'!V560=\"\",\"\",'sd paste'!V560)","v":9828121255}]
[560,{"$f":"IF('sd paste'!A561=\"\",\"\",'sd paste'!A561)","v":12},{"$f":"IF('sd paste'!B561=\"\",\"\",'sd paste'!B561)","v":"A"},{"$f":"IF('sd paste'!C561=\"\",\"\",'sd paste'!C561)","v":3848},{"$f":"IF('sd paste'!E561=\"\",\"\",'sd paste'!E561)","v":"vkp560"},{"$f":"IF('sd paste'!G561=\"\",\"\",'sd paste'!G561)","v":"vk"},{"$f":"IF('sd paste'!H561=\"\",\"\",'sd paste'!H561)","v":"vkk"},{"$f":"IF('sd paste'!J561=\"\",\"\",'sd paste'!J561)","v":"2020-01-11"},{"$f":"IF('sd paste'!V561=\"\",\"\",'sd paste'!V561)","v":9828121256}]
[561,{"$f":"IF('sd paste'!A562=\"\",\"\",'sd paste'!A562)","v":12},{"$f":"IF('sd paste'!B562=\"\",\"\",'sd paste'!B562)","v":"A"},{"$f":"IF('sd paste'!C562=\"\",\"\",'sd paste'!C562)","v":4825},{"$f":"IF('sd paste'!E562=\"\",\"\",'sd paste'!E562)","v":"vkp561"},{"$f":"IF('sd paste'!G562=\"\",\"\",'sd paste'!G562)","v":"vk"},{"$f":"IF('sd paste'!H562=\"\",\"\",'sd paste'!H562)","v":"vkk"},{"$f":"IF('sd paste'!J562=\"\",\"\",'sd paste'!J562)","v":"2020-01-12"},{"$f":"IF('sd paste'!V562=\"\",\"\",'sd paste'!V562)","v":9828121257}]
[562,{"$f":"IF('sd paste'!A563=\"\",\"\",'sd paste'!A563)","v":12},{"$f":"IF('sd paste'!B563=\"\",\"\",'sd paste'!B563)","v":"A"},{"$f":"IF('sd paste'!C563=\"\",\"\",'sd paste'!C563)","v":3839},{"$f":"IF('sd paste'!E563=\"\",\"\",'sd paste'!E563)","v":"vkp562"},{"$f":"IF('sd paste'!G563=\"\",\"\",'sd paste'!G563)","v":"vk"},{"$f":"IF('sd paste'!H563=\"\",\"\",'sd paste'!H563)","v":"vkk"},{"$f":"IF('sd paste'!J563=\"\",\"\",'sd paste'!J563)","v":"2020-01-13"},{"$f":"IF('sd paste'!V563=\"\",\"\",'sd paste'!V563)","v":9828121258}]
[563,{"$f":"IF('sd paste'!A564=\"\",\"\",'sd paste'!A564)","v":12},{"$f":"IF('sd paste'!B564=\"\",\"\",'sd paste'!B564)","v":"A"},{"$f":"IF('sd paste'!C564=\"\",\"\",'sd paste'!C564)","v":4840},{"$f":"IF('sd paste'!E564=\"\",\"\",'sd paste'!E564)","v":"vkp563"},{"$f":"IF('sd paste'!G564=\"\",\"\",'sd paste'!G564)","v":"vk"},{"$f":"IF('sd paste'!H564=\"\",\"\",'sd paste'!H564)","v":"vkk"},{"$f":"IF('sd paste'!J564=\"\",\"\",'sd paste'!J564)","v":"2020-01-14"},{"$f":"IF('sd paste'!V564=\"\",\"\",'sd paste'!V564)","v":9828121259}]
[564,{"$f":"IF('sd paste'!A565=\"\",\"\",'sd paste'!A565)","v":12},{"$f":"IF('sd paste'!B565=\"\",\"\",'sd paste'!B565)","v":"A"},{"$f":"IF('sd paste'!C565=\"\",\"\",'sd paste'!C565)","v":4817},{"$f":"IF('sd paste'!E565=\"\",\"\",'sd paste'!E565)","v":"vkp564"},{"$f":"IF('sd paste'!G565=\"\",\"\",'sd paste'!G565)","v":"vk"},{"$f":"IF('sd paste'!H565=\"\",\"\",'sd paste'!H565)","v":"vkk"},{"$f":"IF('sd paste'!J565=\"\",\"\",'sd paste'!J565)","v":"2020-01-15"},{"$f":"IF('sd paste'!V565=\"\",\"\",'sd paste'!V565)","v":9828121260}]
[565,{"$f":"IF('sd paste'!A566=\"\",\"\",'sd paste'!A566)","v":12},{"$f":"IF('sd paste'!B566=\"\",\"\",'sd paste'!B566)","v":"A"},{"$f":"IF('sd paste'!C566=\"\",\"\",'sd paste'!C566)","v":4726},{"$f":"IF('sd paste'!E566=\"\",\"\",'sd paste'!E566)","v":"vkp565"},{"$f":"IF('sd paste'!G566=\"\",\"\",'sd paste'!G566)","v":"vk"},{"$f":"IF('sd paste'!H566=\"\",\"\",'sd paste'!H566)","v":"vkk"},{"$f":"IF('sd paste'!J566=\"\",\"\",'sd paste'!J566)","v":"2020-01-16"},{"$f":"IF('sd paste'!V566=\"\",\"\",'sd paste'!V566)","v":9828121261}]
[566,{"$f":"IF('sd paste'!A567=\"\",\"\",'sd paste'!A567)","v":12},{"$f":"IF('sd paste'!B567=\"\",\"\",'sd paste'!B567)","v":"A"},{"$f":"IF('sd paste'!C567=\"\",\"\",'sd paste'!C567)","v":4284},{"$f":"IF('sd paste'!E567=\"\",\"\",'sd paste'!E567)","v":"vkp566"},{"$f":"IF('sd paste'!G567=\"\",\"\",'sd paste'!G567)","v":"vk"},{"$f":"IF('sd paste'!H567=\"\",\"\",'sd paste'!H567)","v":"vkk"},{"$f":"IF('sd paste'!J567=\"\",\"\",'sd paste'!J567)","v":"2020-01-17"},{"$f":"IF('sd paste'!V567=\"\",\"\",'sd paste'!V567)","v":9828121262}]
[567,{"$f":"IF('sd paste'!A568=\"\",\"\",'sd paste'!A568)","v":12},{"$f":"IF('sd paste'!B568=\"\",\"\",'sd paste'!B568)","v":"A"},{"$f":"IF('sd paste'!C568=\"\",\"\",'sd paste'!C568)","v":5451},{"$f":"IF('sd paste'!E568=\"\",\"\",'sd paste'!E568)","v":"vkp567"},{"$f":"IF('sd paste'!G568=\"\",\"\",'sd paste'!G568)","v":"vk"},{"$f":"IF('sd paste'!H568=\"\",\"\",'sd paste'!H568)","v":"vkk"},{"$f":"IF('sd paste'!J568=\"\",\"\",'sd paste'!J568)","v":"2020-01-18"},{"$f":"IF('sd paste'!V568=\"\",\"\",'sd paste'!V568)","v":9828121263}]
[568,{"$f":"IF('sd paste'!A569=\"\",\"\",'sd paste'!A569)","v":12},{"$f":"IF('sd paste'!B569=\"\",\"\",'sd paste'!B569)","v":"A"},{"$f":"IF('sd paste'!C569=\"\",\"\",'sd paste'!C569)","v":5175},{"$f":"IF('sd paste'!E569=\"\",\"\",'sd paste'!E569)","v":"vkp568"},{"$f":"IF('sd paste'!G569=\"\",\"\",'sd paste'!G569)","v":"vk"},{"$f":"IF('sd paste'!H569=\"\",\"\",'sd paste'!H569)","v":"vkk"},{"$f":"IF('sd paste'!J569=\"\",\"\",'sd paste'!J569)","v":"2020-01-19"},{"$f":"IF('sd paste'!V569=\"\",\"\",'sd paste'!V569)","v":9828121264}]
[569,{"$f":"IF('sd paste'!A570=\"\",\"\",'sd paste'!A570)","v":12},{"$f":"IF('sd paste'!B570=\"\",\"\",'sd paste'!B570)","v":"A"},{"$f":"IF('sd paste'!C570=\"\",\"\",'sd paste'!C570)","v":5178},{"$f":"IF('sd paste'!E570=\"\",\"\",'sd paste'!E570)","v":"vkp569"},{"$f":"IF('sd paste'!G570=\"\",\"\",'sd paste'!G570)","v":"vk"},{"$f":"IF('sd paste'!H570=\"\",\"\",'sd paste'!H570)","v":"vkk"},{"$f":"IF('sd paste'!J570=\"\",\"\",'sd paste'!J570)","v":"2020-01-20"},{"$f":"IF('sd paste'!V570=\"\",\"\",'sd paste'!V570)","v":9828121265}]
[570,{"$f":"IF('sd paste'!A571=\"\",\"\",'sd paste'!A571)","v":12},{"$f":"IF('sd paste'!B571=\"\",\"\",'sd paste'!B571)","v":"A"},{"$f":"IF('sd paste'!C571=\"\",\"\",'sd paste'!C571)","v":4877},{"$f":"IF('sd paste'!E571=\"\",\"\",'sd paste'!E571)","v":"vkp570"},{"$f":"IF('sd paste'!G571=\"\",\"\",'sd paste'!G571)","v":"vk"},{"$f":"IF('sd paste'!H571=\"\",\"\",'sd paste'!H571)","v":"vkk"},{"$f":"IF('sd paste'!J571=\"\",\"\",'sd paste'!J571)","v":"2020-01-21"},{"$f":"IF('sd paste'!V571=\"\",\"\",'sd paste'!V571)","v":9828121266}]
[571,{"$f":"IF('sd paste'!A572=\"\",\"\",'sd paste'!A572)","v":12},{"$f":"IF('sd paste'!B572=\"\",\"\",'sd paste'!B572)","v":"A"},{"$f":"IF('sd paste'!C572=\"\",\"\",'sd paste'!C572)","v":5079},{"$f":"IF('sd paste'!E572=\"\",\"\",'sd paste'!E572)","v":"vkp571"},{"$f":"IF('sd paste'!G572=\"\",\"\",'sd paste'!G572)","v":"vk"},{"$f":"IF('sd paste'!H572=\"\",\"\",'sd paste'!H572)","v":"vkk"},{"$f":"IF('sd paste'!J572=\"\",\"\",'sd paste'!J572)","v":"2020-01-22"},{"$f":"IF('sd paste'!V572=\"\",\"\",'sd paste'!V572)","v":9828121267}]
[572,{"$f":"IF('sd paste'!A573=\"\",\"\",'sd paste'!A573)","v":12},{"$f":"IF('sd paste'!B573=\"\",\"\",'sd paste'!B573)","v":"A"},{"$f":"IF('sd paste'!C573=\"\",\"\",'sd paste'!C573)","v":4827},{"$f":"IF('sd paste'!E573=\"\",\"\",'sd paste'!E573)","v":"vkp572"},{"$f":"IF('sd paste'!G573=\"\",\"\",'sd paste'!G573)","v":"vk"},{"$f":"IF('sd paste'!H573=\"\",\"\",'sd paste'!H573)","v":"vkk"},{"$f":"IF('sd paste'!J573=\"\",\"\",'sd paste'!J573)","v":"2020-01-23"},{"$f":"IF('sd paste'!V573=\"\",\"\",'sd paste'!V573)","v":9828121268}]
[573,{"$f":"IF('sd paste'!A574=\"\",\"\",'sd paste'!A574)","v":12},{"$f":"IF('sd paste'!B574=\"\",\"\",'sd paste'!B574)","v":"A"},{"$f":"IF('sd paste'!C574=\"\",\"\",'sd paste'!C574)","v":4701},{"$f":"IF('sd paste'!E574=\"\",\"\",'sd paste'!E574)","v":"vkp573"},{"$f":"IF('sd paste'!G574=\"\",\"\",'sd paste'!G574)","v":"vk"},{"$f":"IF('sd paste'!H574=\"\",\"\",'sd paste'!H574)","v":"vkk"},{"$f":"IF('sd paste'!J574=\"\",\"\",'sd paste'!J574)","v":"2020-01-24"},{"$f":"IF('sd paste'!V574=\"\",\"\",'sd paste'!V574)","v":9828121269}]
[574,{"$f":"IF('sd paste'!A575=\"\",\"\",'sd paste'!A575)","v":12},{"$f":"IF('sd paste'!B575=\"\",\"\",'sd paste'!B575)","v":"A"},{"$f":"IF('sd paste'!C575=\"\",\"\",'sd paste'!C575)","v":4785},{"$f":"IF('sd paste'!E575=\"\",\"\",'sd paste'!E575)","v":"vkp574"},{"$f":"IF('sd paste'!G575=\"\",\"\",'sd paste'!G575)","v":"vk"},{"$f":"IF('sd paste'!H575=\"\",\"\",'sd paste'!H575)","v":"vkk"},{"$f":"IF('sd paste'!J575=\"\",\"\",'sd paste'!J575)","v":"2020-01-25"},{"$f":"IF('sd paste'!V575=\"\",\"\",'sd paste'!V575)","v":9828121270}]
[575,{"$f":"IF('sd paste'!A576=\"\",\"\",'sd paste'!A576)","v":12},{"$f":"IF('sd paste'!B576=\"\",\"\",'sd paste'!B576)","v":"A"},{"$f":"IF('sd paste'!C576=\"\",\"\",'sd paste'!C576)","v":5164},{"$f":"IF('sd paste'!E576=\"\",\"\",'sd paste'!E576)","v":"vkp575"},{"$f":"IF('sd paste'!G576=\"\",\"\",'sd paste'!G576)","v":"vk"},{"$f":"IF('sd paste'!H576=\"\",\"\",'sd paste'!H576)","v":"vkk"},{"$f":"IF('sd paste'!J576=\"\",\"\",'sd paste'!J576)","v":"2020-01-26"},{"$f":"IF('sd paste'!V576=\"\",\"\",'sd paste'!V576)","v":9828121271}]
[576,{"$f":"IF('sd paste'!A577=\"\",\"\",'sd paste'!A577)","v":12},{"$f":"IF('sd paste'!B577=\"\",\"\",'sd paste'!B577)","v":"A"},{"$f":"IF('sd paste'!C577=\"\",\"\",'sd paste'!C577)","v":5177},{"$f":"IF('sd paste'!E577=\"\",\"\",'sd paste'!E577)","v":"vkp576"},{"$f":"IF('sd paste'!G577=\"\",\"\",'sd paste'!G577)","v":"vk"},{"$f":"IF('sd paste'!H577=\"\",\"\",'sd paste'!H577)","v":"vkk"},{"$f":"IF('sd paste'!J577=\"\",\"\",'sd paste'!J577)","v":"2020-01-27"},{"$f":"IF('sd paste'!V577=\"\",\"\",'sd paste'!V577)","v":9828121272}]
[577,{"$f":"IF('sd paste'!A578=\"\",\"\",'sd paste'!A578)","v":12},{"$f":"IF('sd paste'!B578=\"\",\"\",'sd paste'!B578)","v":"A"},{"$f":"IF('sd paste'!C578=\"\",\"\",'sd paste'!C578)","v":5179},{"$f":"IF('sd paste'!E578=\"\",\"\",'sd paste'!E578)","v":"vkp577"},{"$f":"IF('sd paste'!G578=\"\",\"\",'sd paste'!G578)","v":"vk"},{"$f":"IF('sd paste'!H578=\"\",\"\",'sd paste'!H578)","v":"vkk"},{"$f":"IF('sd paste'!J578=\"\",\"\",'sd paste'!J578)","v":"2020-01-28"},{"$f":"IF('sd paste'!V578=\"\",\"\",'sd paste'!V578)","v":9828121273}]
[{"$f":"IF(F583=\"\",\"\",ROW(578:578))","v":578},{"$f":"IF('sd paste'!A579=\"\",\"\",'sd paste'!A579)","v":12},{"$f":"IF('sd paste'!B579=\"\",\"\",'sd paste'!B579)","v":"A"},{"$f":"IF('sd paste'!C579=\"\",\"\",'sd paste'!C579)","v":4839},{"$f":"IF('sd paste'!E579=\"\",\"\",'sd paste'!E579)","v":"vkp578"},{"$f":"IF('sd paste'!G579=\"\",\"\",'sd paste'!G579)","v":"vk"},{"$f":"IF('sd paste'!H579=\"\",\"\",'sd paste'!H579)","v":"vkk"},{"$f":"IF('sd paste'!J579=\"\",\"\",'sd paste'!J579)","v":"2020-01-29"},{"$f":"IF('sd paste'!V579=\"\",\"\",'sd paste'!V579)","v":9828121274}]
[579,{"$f":"IF('sd paste'!A580=\"\",\"\",'sd paste'!A580)","v":12},{"$f":"IF('sd paste'!B580=\"\",\"\",'sd paste'!B580)","v":"A"},{"$f":"IF('sd paste'!C580=\"\",\"\",'sd paste'!C580)","v":4812},{"$f":"IF('sd paste'!E580=\"\",\"\",'sd paste'!E580)","v":"vkp579"},{"$f":"IF('sd paste'!G580=\"\",\"\",'sd paste'!G580)","v":"vk"},{"$f":"IF('sd paste'!H580=\"\",\"\",'sd paste'!H580)","v":"vkk"},{"$f":"IF('sd paste'!J580=\"\",\"\",'sd paste'!J580)","v":"2020-01-30"},{"$f":"IF('sd paste'!V580=\"\",\"\",'sd paste'!V580)","v":9828121275}]
[580,{"$f":"IF('sd paste'!A581=\"\",\"\",'sd paste'!A581)","v":12},{"$f":"IF('sd paste'!B581=\"\",\"\",'sd paste'!B581)","v":"A"},{"$f":"IF('sd paste'!C581=\"\",\"\",'sd paste'!C581)","v":3835},{"$f":"IF('sd paste'!E581=\"\",\"\",'sd paste'!E581)","v":"vkp580"},{"$f":"IF('sd paste'!G581=\"\",\"\",'sd paste'!G581)","v":"vk"},{"$f":"IF('sd paste'!H581=\"\",\"\",'sd paste'!H581)","v":"vkk"},{"$f":"IF('sd paste'!J581=\"\",\"\",'sd paste'!J581)","v":"2020-01-31"},{"$f":"IF('sd paste'!V581=\"\",\"\",'sd paste'!V581)","v":9828121276}]
[581,{"$f":"IF('sd paste'!A582=\"\",\"\",'sd paste'!A582)","v":12},{"$f":"IF('sd paste'!B582=\"\",\"\",'sd paste'!B582)","v":"A"},{"$f":"IF('sd paste'!C582=\"\",\"\",'sd paste'!C582)","v":4271},{"$f":"IF('sd paste'!E582=\"\",\"\",'sd paste'!E582)","v":"vkp581"},{"$f":"IF('sd paste'!G582=\"\",\"\",'sd paste'!G582)","v":"vk"},{"$f":"IF('sd paste'!H582=\"\",\"\",'sd paste'!H582)","v":"vkk"},{"$f":"IF('sd paste'!J582=\"\",\"\",'sd paste'!J582)","v":"2020-02-01"},{"$f":"IF('sd paste'!V582=\"\",\"\",'sd paste'!V582)","v":9828121277}]
[582,{"$f":"IF('sd paste'!A583=\"\",\"\",'sd paste'!A583)","v":12},{"$f":"IF('sd paste'!B583=\"\",\"\",'sd paste'!B583)","v":"A"},{"$f":"IF('sd paste'!C583=\"\",\"\",'sd paste'!C583)","v":4822},{"$f":"IF('sd paste'!E583=\"\",\"\",'sd paste'!E583)","v":"vkp582"},{"$f":"IF('sd paste'!G583=\"\",\"\",'sd paste'!G583)","v":"vk"},{"$f":"IF('sd paste'!H583=\"\",\"\",'sd paste'!H583)","v":"vkk"},{"$f":"IF('sd paste'!J583=\"\",\"\",'sd paste'!J583)","v":"2020-02-02"},{"$f":"IF('sd paste'!V583=\"\",\"\",'sd paste'!V583)","v":9828121278}]
[583,{"$f":"IF('sd paste'!A584=\"\",\"\",'sd paste'!A584)","v":12},{"$f":"IF('sd paste'!B584=\"\",\"\",'sd paste'!B584)","v":"A"},{"$f":"IF('sd paste'!C584=\"\",\"\",'sd paste'!C584)","v":4833},{"$f":"IF('sd paste'!E584=\"\",\"\",'sd paste'!E584)","v":"vkp583"},{"$f":"IF('sd paste'!G584=\"\",\"\",'sd paste'!G584)","v":"vk"},{"$f":"IF('sd paste'!H584=\"\",\"\",'sd paste'!H584)","v":"vkk"},{"$f":"IF('sd paste'!J584=\"\",\"\",'sd paste'!J584)","v":"2020-02-03"},{"$f":"IF('sd paste'!V584=\"\",\"\",'sd paste'!V584)","v":9828121279}]
[584,{"$f":"IF('sd paste'!A585=\"\",\"\",'sd paste'!A585)","v":12},{"$f":"IF('sd paste'!B585=\"\",\"\",'sd paste'!B585)","v":"A"},{"$f":"IF('sd paste'!C585=\"\",\"\",'sd paste'!C585)","v":5176},{"$f":"IF('sd paste'!E585=\"\",\"\",'sd paste'!E585)","v":"vkp584"},{"$f":"IF('sd paste'!G585=\"\",\"\",'sd paste'!G585)","v":"vk"},{"$f":"IF('sd paste'!H585=\"\",\"\",'sd paste'!H585)","v":"vkk"},{"$f":"IF('sd paste'!J585=\"\",\"\",'sd paste'!J585)","v":"2020-02-04"},{"$f":"IF('sd paste'!V585=\"\",\"\",'sd paste'!V585)","v":9828121280}]
[585,{"$f":"IF('sd paste'!A586=\"\",\"\",'sd paste'!A586)","v":12},{"$f":"IF('sd paste'!B586=\"\",\"\",'sd paste'!B586)","v":"A"},{"$f":"IF('sd paste'!C586=\"\",\"\",'sd paste'!C586)","v":3823},{"$f":"IF('sd paste'!E586=\"\",\"\",'sd paste'!E586)","v":"vkp585"},{"$f":"IF('sd paste'!G586=\"\",\"\",'sd paste'!G586)","v":"vk"},{"$f":"IF('sd paste'!H586=\"\",\"\",'sd paste'!H586)","v":"vkk"},{"$f":"IF('sd paste'!J586=\"\",\"\",'sd paste'!J586)","v":"2020-02-05"},{"$f":"IF('sd paste'!V586=\"\",\"\",'sd paste'!V586)","v":9828121281}]
[586,{"$f":"IF('sd paste'!A587=\"\",\"\",'sd paste'!A587)","v":12},{"$f":"IF('sd paste'!B587=\"\",\"\",'sd paste'!B587)","v":"A"},{"$f":"IF('sd paste'!C587=\"\",\"\",'sd paste'!C587)","v":3783},{"$f":"IF('sd paste'!E587=\"\",\"\",'sd paste'!E587)","v":"vkp586"},{"$f":"IF('sd paste'!G587=\"\",\"\",'sd paste'!G587)","v":"vk"},{"$f":"IF('sd paste'!H587=\"\",\"\",'sd paste'!H587)","v":"vkk"},{"$f":"IF('sd paste'!J587=\"\",\"\",'sd paste'!J587)","v":"2020-02-06"},{"$f":"IF('sd paste'!V587=\"\",\"\",'sd paste'!V587)","v":9828121282}]
[587,{"$f":"IF('sd paste'!A588=\"\",\"\",'sd paste'!A588)","v":12},{"$f":"IF('sd paste'!B588=\"\",\"\",'sd paste'!B588)","v":"A"},{"$f":"IF('sd paste'!C588=\"\",\"\",'sd paste'!C588)","v":4798},{"$f":"IF('sd paste'!E588=\"\",\"\",'sd paste'!E588)","v":"vkp587"},{"$f":"IF('sd paste'!G588=\"\",\"\",'sd paste'!G588)","v":"vk"},{"$f":"IF('sd paste'!H588=\"\",\"\",'sd paste'!H588)","v":"vkk"},{"$f":"IF('sd paste'!J588=\"\",\"\",'sd paste'!J588)","v":"2020-02-07"},{"$f":"IF('sd paste'!V588=\"\",\"\",'sd paste'!V588)","v":9828121283}]
[588,{"$f":"IF('sd paste'!A589=\"\",\"\",'sd paste'!A589)","v":12},{"$f":"IF('sd paste'!B589=\"\",\"\",'sd paste'!B589)","v":"A"},{"$f":"IF('sd paste'!C589=\"\",\"\",'sd paste'!C589)","v":4444},{"$f":"IF('sd paste'!E589=\"\",\"\",'sd paste'!E589)","v":"vkp588"},{"$f":"IF('sd paste'!G589=\"\",\"\",'sd paste'!G589)","v":"vk"},{"$f":"IF('sd paste'!H589=\"\",\"\",'sd paste'!H589)","v":"vkk"},{"$f":"IF('sd paste'!J589=\"\",\"\",'sd paste'!J589)","v":"2020-02-08"},{"$f":"IF('sd paste'!V589=\"\",\"\",'sd paste'!V589)","v":9828121284}]
[589,{"$f":"IF('sd paste'!A590=\"\",\"\",'sd paste'!A590)","v":12},{"$f":"IF('sd paste'!B590=\"\",\"\",'sd paste'!B590)","v":"A"},{"$f":"IF('sd paste'!C590=\"\",\"\",'sd paste'!C590)","v":4569},{"$f":"IF('sd paste'!E590=\"\",\"\",'sd paste'!E590)","v":"vkp589"},{"$f":"IF('sd paste'!G590=\"\",\"\",'sd paste'!G590)","v":"vk"},{"$f":"IF('sd paste'!H590=\"\",\"\",'sd paste'!H590)","v":"vkk"},{"$f":"IF('sd paste'!J590=\"\",\"\",'sd paste'!J590)","v":"2020-02-09"},{"$f":"IF('sd paste'!V590=\"\",\"\",'sd paste'!V590)","v":9828121285}]
[590,{"$f":"IF('sd paste'!A591=\"\",\"\",'sd paste'!A591)","v":12},{"$f":"IF('sd paste'!B591=\"\",\"\",'sd paste'!B591)","v":"A"},{"$f":"IF('sd paste'!C591=\"\",\"\",'sd paste'!C591)","v":4890},{"$f":"IF('sd paste'!E591=\"\",\"\",'sd paste'!E591)","v":"vkp590"},{"$f":"IF('sd paste'!G591=\"\",\"\",'sd paste'!G591)","v":"vk"},{"$f":"IF('sd paste'!H591=\"\",\"\",'sd paste'!H591)","v":"vkk"},{"$f":"IF('sd paste'!J591=\"\",\"\",'sd paste'!J591)","v":"2020-02-10"},{"$f":"IF('sd paste'!V591=\"\",\"\",'sd paste'!V591)","v":9828121286}]
[591,{"$f":"IF('sd paste'!A592=\"\",\"\",'sd paste'!A592)","v":12},{"$f":"IF('sd paste'!B592=\"\",\"\",'sd paste'!B592)","v":"A"},{"$f":"IF('sd paste'!C592=\"\",\"\",'sd paste'!C592)","v":4098},{"$f":"IF('sd paste'!E592=\"\",\"\",'sd paste'!E592)","v":"vkp591"},{"$f":"IF('sd paste'!G592=\"\",\"\",'sd paste'!G592)","v":"vk"},{"$f":"IF('sd paste'!H592=\"\",\"\",'sd paste'!H592)","v":"vkk"},{"$f":"IF('sd paste'!J592=\"\",\"\",'sd paste'!J592)","v":"2020-02-11"},{"$f":"IF('sd paste'!V592=\"\",\"\",'sd paste'!V592)","v":9828121287}]
[592,{"$f":"IF('sd paste'!A593=\"\",\"\",'sd paste'!A593)","v":12},{"$f":"IF('sd paste'!B593=\"\",\"\",'sd paste'!B593)","v":"B"},{"$f":"IF('sd paste'!C593=\"\",\"\",'sd paste'!C593)","v":4636},{"$f":"IF('sd paste'!E593=\"\",\"\",'sd paste'!E593)","v":"vkp592"},{"$f":"IF('sd paste'!G593=\"\",\"\",'sd paste'!G593)","v":"vk"},{"$f":"IF('sd paste'!H593=\"\",\"\",'sd paste'!H593)","v":"vkk"},{"$f":"IF('sd paste'!J593=\"\",\"\",'sd paste'!J593)","v":"2020-02-12"},{"$f":"IF('sd paste'!V593=\"\",\"\",'sd paste'!V593)","v":9828121288}]
[593,{"$f":"IF('sd paste'!A594=\"\",\"\",'sd paste'!A594)","v":12},{"$f":"IF('sd paste'!B594=\"\",\"\",'sd paste'!B594)","v":"B"},{"$f":"IF('sd paste'!C594=\"\",\"\",'sd paste'!C594)","v":4823},{"$f":"IF('sd paste'!E594=\"\",\"\",'sd paste'!E594)","v":"vkp593"},{"$f":"IF('sd paste'!G594=\"\",\"\",'sd paste'!G594)","v":"vk"},{"$f":"IF('sd paste'!H594=\"\",\"\",'sd paste'!H594)","v":"vkk"},{"$f":"IF('sd paste'!J594=\"\",\"\",'sd paste'!J594)","v":"2020-02-13"},{"$f":"IF('sd paste'!V594=\"\",\"\",'sd paste'!V594)","v":9828121289}]
[594,{"$f":"IF('sd paste'!A595=\"\",\"\",'sd paste'!A595)","v":12},{"$f":"IF('sd paste'!B595=\"\",\"\",'sd paste'!B595)","v":"B"},{"$f":"IF('sd paste'!C595=\"\",\"\",'sd paste'!C595)","v":5325},{"$f":"IF('sd paste'!E595=\"\",\"\",'sd paste'!E595)","v":"vkp594"},{"$f":"IF('sd paste'!G595=\"\",\"\",'sd paste'!G595)","v":"vk"},{"$f":"IF('sd paste'!H595=\"\",\"\",'sd paste'!H595)","v":"vkk"},{"$f":"IF('sd paste'!J595=\"\",\"\",'sd paste'!J595)","v":"2020-02-14"},{"$f":"IF('sd paste'!V595=\"\",\"\",'sd paste'!V595)","v":9828121290}]
[595,{"$f":"IF('sd paste'!A596=\"\",\"\",'sd paste'!A596)","v":12},{"$f":"IF('sd paste'!B596=\"\",\"\",'sd paste'!B596)","v":"B"},{"$f":"IF('sd paste'!C596=\"\",\"\",'sd paste'!C596)","v":5195},{"$f":"IF('sd paste'!E596=\"\",\"\",'sd paste'!E596)","v":"vkp595"},{"$f":"IF('sd paste'!G596=\"\",\"\",'sd paste'!G596)","v":"vk"},{"$f":"IF('sd paste'!H596=\"\",\"\",'sd paste'!H596)","v":"vkk"},{"$f":"IF('sd paste'!J596=\"\",\"\",'sd paste'!J596)","v":"2020-02-15"},{"$f":"IF('sd paste'!V596=\"\",\"\",'sd paste'!V596)","v":9828121291}]
[596,{"$f":"IF('sd paste'!A597=\"\",\"\",'sd paste'!A597)","v":12},{"$f":"IF('sd paste'!B597=\"\",\"\",'sd paste'!B597)","v":"B"},{"$f":"IF('sd paste'!C597=\"\",\"\",'sd paste'!C597)","v":5349},{"$f":"IF('sd paste'!E597=\"\",\"\",'sd paste'!E597)","v":"vkp596"},{"$f":"IF('sd paste'!G597=\"\",\"\",'sd paste'!G597)","v":"vk"},{"$f":"IF('sd paste'!H597=\"\",\"\",'sd paste'!H597)","v":"vkk"},{"$f":"IF('sd paste'!J597=\"\",\"\",'sd paste'!J597)","v":"2020-02-16"},{"$f":"IF('sd paste'!V597=\"\",\"\",'sd paste'!V597)","v":9828121292}]
[597,{"$f":"IF('sd paste'!A598=\"\",\"\",'sd paste'!A598)","v":12},{"$f":"IF('sd paste'!B598=\"\",\"\",'sd paste'!B598)","v":"B"},{"$f":"IF('sd paste'!C598=\"\",\"\",'sd paste'!C598)","v":5324},{"$f":"IF('sd paste'!E598=\"\",\"\",'sd paste'!E598)","v":"vkp597"},{"$f":"IF('sd paste'!G598=\"\",\"\",'sd paste'!G598)","v":"vk"},{"$f":"IF('sd paste'!H598=\"\",\"\",'sd paste'!H598)","v":"vkk"},{"$f":"IF('sd paste'!J598=\"\",\"\",'sd paste'!J598)","v":"2020-02-17"},{"$f":"IF('sd paste'!V598=\"\",\"\",'sd paste'!V598)","v":9828121293}]
[598,{"$f":"IF('sd paste'!A599=\"\",\"\",'sd paste'!A599)","v":12},{"$f":"IF('sd paste'!B599=\"\",\"\",'sd paste'!B599)","v":"B"},{"$f":"IF('sd paste'!C599=\"\",\"\",'sd paste'!C599)","v":4643},{"$f":"IF('sd paste'!E599=\"\",\"\",'sd paste'!E599)","v":"vkp598"},{"$f":"IF('sd paste'!G599=\"\",\"\",'sd paste'!G599)","v":"vk"},{"$f":"IF('sd paste'!H599=\"\",\"\",'sd paste'!H599)","v":"vkk"},{"$f":"IF('sd paste'!J599=\"\",\"\",'sd paste'!J599)","v":"2020-02-18"},{"$f":"IF('sd paste'!V599=\"\",\"\",'sd paste'!V599)","v":9828121294}]
[599,{"$f":"IF('sd paste'!A600=\"\",\"\",'sd paste'!A600)","v":12},{"$f":"IF('sd paste'!B600=\"\",\"\",'sd paste'!B600)","v":"B"},{"$f":"IF('sd paste'!C600=\"\",\"\",'sd paste'!C600)","v":4800},{"$f":"IF('sd paste'!E600=\"\",\"\",'sd paste'!E600)","v":"vkp599"},{"$f":"IF('sd paste'!G600=\"\",\"\",'sd paste'!G600)","v":"vk"},{"$f":"IF('sd paste'!H600=\"\",\"\",'sd paste'!H600)","v":"vkk"},{"$f":"IF('sd paste'!J600=\"\",\"\",'sd paste'!J600)","v":"2020-02-19"},{"$f":"IF('sd paste'!V600=\"\",\"\",'sd paste'!V600)","v":9828121295}]
[600,{"$f":"IF('sd paste'!A601=\"\",\"\",'sd paste'!A601)","v":12},{"$f":"IF('sd paste'!B601=\"\",\"\",'sd paste'!B601)","v":"B"},{"$f":"IF('sd paste'!C601=\"\",\"\",'sd paste'!C601)","v":4835},{"$f":"IF('sd paste'!E601=\"\",\"\",'sd paste'!E601)","v":"vkp600"},{"$f":"IF('sd paste'!G601=\"\",\"\",'sd paste'!G601)","v":"vk"},{"$f":"IF('sd paste'!H601=\"\",\"\",'sd paste'!H601)","v":"vkk"},{"$f":"IF('sd paste'!J601=\"\",\"\",'sd paste'!J601)","v":"2020-02-20"},{"$f":"IF('sd paste'!V601=\"\",\"\",'sd paste'!V601)","v":9828121296}]
[601,{"$f":"IF('sd paste'!A602=\"\",\"\",'sd paste'!A602)","v":12},{"$f":"IF('sd paste'!B602=\"\",\"\",'sd paste'!B602)","v":"B"},{"$f":"IF('sd paste'!C602=\"\",\"\",'sd paste'!C602)","v":4317},{"$f":"IF('sd paste'!E602=\"\",\"\",'sd paste'!E602)","v":"vkp601"},{"$f":"IF('sd paste'!G602=\"\",\"\",'sd paste'!G602)","v":"vk"},{"$f":"IF('sd paste'!H602=\"\",\"\",'sd paste'!H602)","v":"vkk"},{"$f":"IF('sd paste'!J602=\"\",\"\",'sd paste'!J602)","v":"2020-02-21"},{"$f":"IF('sd paste'!V602=\"\",\"\",'sd paste'!V602)","v":9828121297}]
[602,{"$f":"IF('sd paste'!A603=\"\",\"\",'sd paste'!A603)","v":12},{"$f":"IF('sd paste'!B603=\"\",\"\",'sd paste'!B603)","v":"B"},{"$f":"IF('sd paste'!C603=\"\",\"\",'sd paste'!C603)","v":4854},{"$f":"IF('sd paste'!E603=\"\",\"\",'sd paste'!E603)","v":"vkp602"},{"$f":"IF('sd paste'!G603=\"\",\"\",'sd paste'!G603)","v":"vk"},{"$f":"IF('sd paste'!H603=\"\",\"\",'sd paste'!H603)","v":"vkk"},{"$f":"IF('sd paste'!J603=\"\",\"\",'sd paste'!J603)","v":"2020-02-22"},{"$f":"IF('sd paste'!V603=\"\",\"\",'sd paste'!V603)","v":9828121298}]
[603,{"$f":"IF('sd paste'!A604=\"\",\"\",'sd paste'!A604)","v":12},{"$f":"IF('sd paste'!B604=\"\",\"\",'sd paste'!B604)","v":"B"},{"$f":"IF('sd paste'!C604=\"\",\"\",'sd paste'!C604)","v":4846},{"$f":"IF('sd paste'!E604=\"\",\"\",'sd paste'!E604)","v":"vkp603"},{"$f":"IF('sd paste'!G604=\"\",\"\",'sd paste'!G604)","v":"vk"},{"$f":"IF('sd paste'!H604=\"\",\"\",'sd paste'!H604)","v":"vkk"},{"$f":"IF('sd paste'!J604=\"\",\"\",'sd paste'!J604)","v":"2020-02-23"},{"$f":"IF('sd paste'!V604=\"\",\"\",'sd paste'!V604)","v":9828121299}]
[604,{"$f":"IF('sd paste'!A605=\"\",\"\",'sd paste'!A605)","v":12},{"$f":"IF('sd paste'!B605=\"\",\"\",'sd paste'!B605)","v":"B"},{"$f":"IF('sd paste'!C605=\"\",\"\",'sd paste'!C605)","v":4820},{"$f":"IF('sd paste'!E605=\"\",\"\",'sd paste'!E605)","v":"vkp604"},{"$f":"IF('sd paste'!G605=\"\",\"\",'sd paste'!G605)","v":"vk"},{"$f":"IF('sd paste'!H605=\"\",\"\",'sd paste'!H605)","v":"vkk"},{"$f":"IF('sd paste'!J605=\"\",\"\",'sd paste'!J605)","v":"2020-02-24"},{"$f":"IF('sd paste'!V605=\"\",\"\",'sd paste'!V605)","v":9828121300}]
[605,{"$f":"IF('sd paste'!A606=\"\",\"\",'sd paste'!A606)","v":12},{"$f":"IF('sd paste'!B606=\"\",\"\",'sd paste'!B606)","v":"B"},{"$f":"IF('sd paste'!C606=\"\",\"\",'sd paste'!C606)","v":5181},{"$f":"IF('sd paste'!E606=\"\",\"\",'sd paste'!E606)","v":"vkp605"},{"$f":"IF('sd paste'!G606=\"\",\"\",'sd paste'!G606)","v":"vk"},{"$f":"IF('sd paste'!H606=\"\",\"\",'sd paste'!H606)","v":"vkk"},{"$f":"IF('sd paste'!J606=\"\",\"\",'sd paste'!J606)","v":"2020-02-25"},{"$f":"IF('sd paste'!V606=\"\",\"\",'sd paste'!V606)","v":9828121301}]
[606,{"$f":"IF('sd paste'!A607=\"\",\"\",'sd paste'!A607)","v":12},{"$f":"IF('sd paste'!B607=\"\",\"\",'sd paste'!B607)","v":"B"},{"$f":"IF('sd paste'!C607=\"\",\"\",'sd paste'!C607)","v":5196},{"$f":"IF('sd paste'!E607=\"\",\"\",'sd paste'!E607)","v":"vkp606"},{"$f":"IF('sd paste'!G607=\"\",\"\",'sd paste'!G607)","v":"vk"},{"$f":"IF('sd paste'!H607=\"\",\"\",'sd paste'!H607)","v":"vkk"},{"$f":"IF('sd paste'!J607=\"\",\"\",'sd paste'!J607)","v":"2020-02-26"},{"$f":"IF('sd paste'!V607=\"\",\"\",'sd paste'!V607)","v":9828121302}]
[607,{"$f":"IF('sd paste'!A608=\"\",\"\",'sd paste'!A608)","v":12},{"$f":"IF('sd paste'!B608=\"\",\"\",'sd paste'!B608)","v":"B"},{"$f":"IF('sd paste'!C608=\"\",\"\",'sd paste'!C608)","v":5221},{"$f":"IF('sd paste'!E608=\"\",\"\",'sd paste'!E608)","v":"vkp607"},{"$f":"IF('sd paste'!G608=\"\",\"\",'sd paste'!G608)","v":"vk"},{"$f":"IF('sd paste'!H608=\"\",\"\",'sd paste'!H608)","v":"vkk"},{"$f":"IF('sd paste'!J608=\"\",\"\",'sd paste'!J608)","v":"2020-02-27"},{"$f":"IF('sd paste'!V608=\"\",\"\",'sd paste'!V608)","v":9828121303}]
[608,{"$f":"IF('sd paste'!A609=\"\",\"\",'sd paste'!A609)","v":12},{"$f":"IF('sd paste'!B609=\"\",\"\",'sd paste'!B609)","v":"B"},{"$f":"IF('sd paste'!C609=\"\",\"\",'sd paste'!C609)","v":5290},{"$f":"IF('sd paste'!E609=\"\",\"\",'sd paste'!E609)","v":"vkp608"},{"$f":"IF('sd paste'!G609=\"\",\"\",'sd paste'!G609)","v":"vk"},{"$f":"IF('sd paste'!H609=\"\",\"\",'sd paste'!H609)","v":"vkk"},{"$f":"IF('sd paste'!J609=\"\",\"\",'sd paste'!J609)","v":"2020-02-28"},{"$f":"IF('sd paste'!V609=\"\",\"\",'sd paste'!V609)","v":9828121304}]
[609,{"$f":"IF('sd paste'!A610=\"\",\"\",'sd paste'!A610)","v":12},{"$f":"IF('sd paste'!B610=\"\",\"\",'sd paste'!B610)","v":"B"},{"$f":"IF('sd paste'!C610=\"\",\"\",'sd paste'!C610)","v":4883},{"$f":"IF('sd paste'!E610=\"\",\"\",'sd paste'!E610)","v":"vkp609"},{"$f":"IF('sd paste'!G610=\"\",\"\",'sd paste'!G610)","v":"vk"},{"$f":"IF('sd paste'!H610=\"\",\"\",'sd paste'!H610)","v":"vkk"},{"$f":"IF('sd paste'!J610=\"\",\"\",'sd paste'!J610)","v":"2020-02-29"},{"$f":"IF('sd paste'!V610=\"\",\"\",'sd paste'!V610)","v":9828121305}]
[610,{"$f":"IF('sd paste'!A611=\"\",\"\",'sd paste'!A611)","v":12},{"$f":"IF('sd paste'!B611=\"\",\"\",'sd paste'!B611)","v":"B"},{"$f":"IF('sd paste'!C611=\"\",\"\",'sd paste'!C611)","v":5092},{"$f":"IF('sd paste'!E611=\"\",\"\",'sd paste'!E611)","v":"vkp610"},{"$f":"IF('sd paste'!G611=\"\",\"\",'sd paste'!G611)","v":"vk"},{"$f":"IF('sd paste'!H611=\"\",\"\",'sd paste'!H611)","v":"vkk"},{"$f":"IF('sd paste'!J611=\"\",\"\",'sd paste'!J611)","v":"2020-03-01"},{"$f":"IF('sd paste'!V611=\"\",\"\",'sd paste'!V611)","v":9828121306}]
["",{"$f":"IF('sd paste'!A612=\"\",\"\",'sd paste'!A612)","v":""},{"$f":"IF('sd paste'!B612=\"\",\"\",'sd paste'!B612)","v":""},{"$f":"IF('sd paste'!C612=\"\",\"\",'sd paste'!C612)","v":""},{"$f":"IF('sd paste'!E612=\"\",\"\",'sd paste'!E612)","v":""},{"$f":"IF('sd paste'!G612=\"\",\"\",'sd paste'!G612)","v":""},{"$f":"IF('sd paste'!H612=\"\",\"\",'sd paste'!H612)","v":""},{"$f":"IF('sd paste'!J612=\"\",\"\",'sd paste'!J612)","v":""},{"$f":"IF('sd paste'!V612=\"\",\"\",'sd paste'!V612)","v":""}]
["",{"$f":"IF('sd paste'!A613=\"\",\"\",'sd paste'!A613)","v":""},{"$f":"IF('sd paste'!B613=\"\",\"\",'sd paste'!B613)","v":""},{"$f":"IF('sd paste'!C613=\"\",\"\",'sd paste'!C613)","v":""},{"$f":"IF('sd paste'!E613=\"\",\"\",'sd paste'!E613)","v":""},{"$f":"IF('sd paste'!G613=\"\",\"\",'sd paste'!G613)","v":""},{"$f":"IF('sd paste'!H613=\"\",\"\",'sd paste'!H613)","v":""},{"$f":"IF('sd paste'!J613=\"\",\"\",'sd paste'!J613)","v":""},{"$f":"IF('sd paste'!V613=\"\",\"\",'sd paste'!V613)","v":""}]
["",{"$f":"IF('sd paste'!A614=\"\",\"\",'sd paste'!A614)","v":""},{"$f":"IF('sd paste'!B614=\"\",\"\",'sd paste'!B614)","v":""},{"$f":"IF('sd paste'!C614=\"\",\"\",'sd paste'!C614)","v":""},{"$f":"IF('sd paste'!E614=\"\",\"\",'sd paste'!E614)","v":""},{"$f":"IF('sd paste'!G614=\"\",\"\",'sd paste'!G614)","v":""},{"$f":"IF('sd paste'!H614=\"\",\"\",'sd paste'!H614)","v":""},{"$f":"IF('sd paste'!J614=\"\",\"\",'sd paste'!J614)","v":""},{"$f":"IF('sd paste'!V614=\"\",\"\",'sd paste'!V614)","v":""}]
["",{"$f":"IF('sd paste'!A615=\"\",\"\",'sd paste'!A615)","v":""},{"$f":"IF('sd paste'!B615=\"\",\"\",'sd paste'!B615)","v":""},{"$f":"IF('sd paste'!C615=\"\",\"\",'sd paste'!C615)","v":""},{"$f":"IF('sd paste'!E615=\"\",\"\",'sd paste'!E615)","v":""},{"$f":"IF('sd paste'!G615=\"\",\"\",'sd paste'!G615)","v":""},{"$f":"IF('sd paste'!H615=\"\",\"\",'sd paste'!H615)","v":""},{"$f":"IF('sd paste'!J615=\"\",\"\",'sd paste'!J615)","v":""},{"$f":"IF('sd paste'!V615=\"\",\"\",'sd paste'!V615)","v":""}]
["",{"$f":"IF('sd paste'!A616=\"\",\"\",'sd paste'!A616)","v":""},{"$f":"IF('sd paste'!B616=\"\",\"\",'sd paste'!B616)","v":""},{"$f":"IF('sd paste'!C616=\"\",\"\",'sd paste'!C616)","v":""},{"$f":"IF('sd paste'!E616=\"\",\"\",'sd paste'!E616)","v":""},{"$f":"IF('sd paste'!G616=\"\",\"\",'sd paste'!G616)","v":""},{"$f":"IF('sd paste'!H616=\"\",\"\",'sd paste'!H616)","v":""},{"$f":"IF('sd paste'!J616=\"\",\"\",'sd paste'!J616)","v":""},{"$f":"IF('sd paste'!V616=\"\",\"\",'sd paste'!V616)","v":""}]
["",{"$f":"IF('sd paste'!A617=\"\",\"\",'sd paste'!A617)","v":""},{"$f":"IF('sd paste'!B617=\"\",\"\",'sd paste'!B617)","v":""},{"$f":"IF('sd paste'!C617=\"\",\"\",'sd paste'!C617)","v":""},{"$f":"IF('sd paste'!E617=\"\",\"\",'sd paste'!E617)","v":""},{"$f":"IF('sd paste'!G617=\"\",\"\",'sd paste'!G617)","v":""},{"$f":"IF('sd paste'!H617=\"\",\"\",'sd paste'!H617)","v":""},{"$f":"IF('sd paste'!J617=\"\",\"\",'sd paste'!J617)","v":""},{"$f":"IF('sd paste'!V617=\"\",\"\",'sd paste'!V617)","v":""}]
["",{"$f":"IF('sd paste'!A618=\"\",\"\",'sd paste'!A618)","v":""},{"$f":"IF('sd paste'!B618=\"\",\"\",'sd paste'!B618)","v":""},{"$f":"IF('sd paste'!C618=\"\",\"\",'sd paste'!C618)","v":""},{"$f":"IF('sd paste'!E618=\"\",\"\",'sd paste'!E618)","v":""},{"$f":"IF('sd paste'!G618=\"\",\"\",'sd paste'!G618)","v":""},{"$f":"IF('sd paste'!H618=\"\",\"\",'sd paste'!H618)","v":""},{"$f":"IF('sd paste'!J618=\"\",\"\",'sd paste'!J618)","v":""},{"$f":"IF('sd paste'!V618=\"\",\"\",'sd paste'!V618)","v":""}]
["",{"$f":"IF('sd paste'!A619=\"\",\"\",'sd paste'!A619)","v":""},{"$f":"IF('sd paste'!B619=\"\",\"\",'sd paste'!B619)","v":""},{"$f":"IF('sd paste'!C619=\"\",\"\",'sd paste'!C619)","v":""},{"$f":"IF('sd paste'!E619=\"\",\"\",'sd paste'!E619)","v":""},{"$f":"IF('sd paste'!G619=\"\",\"\",'sd paste'!G619)","v":""},{"$f":"IF('sd paste'!H619=\"\",\"\",'sd paste'!H619)","v":""},{"$f":"IF('sd paste'!J619=\"\",\"\",'sd paste'!J619)","v":""},{"$f":"IF('sd paste'!V619=\"\",\"\",'sd paste'!V619)","v":""}]
["",{"$f":"IF('sd paste'!A620=\"\",\"\",'sd paste'!A620)","v":""},{"$f":"IF('sd paste'!B620=\"\",\"\",'sd paste'!B620)","v":""},{"$f":"IF('sd paste'!C620=\"\",\"\",'sd paste'!C620)","v":""},{"$f":"IF('sd paste'!E620=\"\",\"\",'sd paste'!E620)","v":""},{"$f":"IF('sd paste'!G620=\"\",\"\",'sd paste'!G620)","v":""},{"$f":"IF('sd paste'!H620=\"\",\"\",'sd paste'!H620)","v":""},{"$f":"IF('sd paste'!J620=\"\",\"\",'sd paste'!J620)","v":""},{"$f":"IF('sd paste'!V620=\"\",\"\",'sd paste'!V620)","v":""}]
["",{"$f":"IF('sd paste'!A621=\"\",\"\",'sd paste'!A621)","v":""},{"$f":"IF('sd paste'!B621=\"\",\"\",'sd paste'!B621)","v":""},{"$f":"IF('sd paste'!C621=\"\",\"\",'sd paste'!C621)","v":""},{"$f":"IF('sd paste'!E621=\"\",\"\",'sd paste'!E621)","v":""},{"$f":"IF('sd paste'!G621=\"\",\"\",'sd paste'!G621)","v":""},{"$f":"IF('sd paste'!H621=\"\",\"\",'sd paste'!H621)","v":""},{"$f":"IF('sd paste'!J621=\"\",\"\",'sd paste'!J621)","v":""},{"$f":"IF('sd paste'!V621=\"\",\"\",'sd paste'!V621)","v":""}]
["",{"$f":"IF('sd paste'!A622=\"\",\"\",'sd paste'!A622)","v":""},{"$f":"IF('sd paste'!B622=\"\",\"\",'sd paste'!B622)","v":""},{"$f":"IF('sd paste'!C622=\"\",\"\",'sd paste'!C622)","v":""},{"$f":"IF('sd paste'!E622=\"\",\"\",'sd paste'!E622)","v":""},{"$f":"IF('sd paste'!G622=\"\",\"\",'sd paste'!G622)","v":""},{"$f":"IF('sd paste'!H622=\"\",\"\",'sd paste'!H622)","v":""},{"$f":"IF('sd paste'!J622=\"\",\"\",'sd paste'!J622)","v":""},{"$f":"IF('sd paste'!V622=\"\",\"\",'sd paste'!V622)","v":""}]
["",{"$f":"IF('sd paste'!A623=\"\",\"\",'sd paste'!A623)","v":""},{"$f":"IF('sd paste'!B623=\"\",\"\",'sd paste'!B623)","v":""},{"$f":"IF('sd paste'!C623=\"\",\"\",'sd paste'!C623)","v":""},{"$f":"IF('sd paste'!E623=\"\",\"\",'sd paste'!E623)","v":""},{"$f":"IF('sd paste'!G623=\"\",\"\",'sd paste'!G623)","v":""},{"$f":"IF('sd paste'!H623=\"\",\"\",'sd paste'!H623)","v":""},{"$f":"IF('sd paste'!J623=\"\",\"\",'sd paste'!J623)","v":""},{"$f":"IF('sd paste'!V623=\"\",\"\",'sd paste'!V623)","v":""}]
["",{"$f":"IF('sd paste'!A624=\"\",\"\",'sd paste'!A624)","v":""},{"$f":"IF('sd paste'!B624=\"\",\"\",'sd paste'!B624)","v":""},{"$f":"IF('sd paste'!C624=\"\",\"\",'sd paste'!C624)","v":""},{"$f":"IF('sd paste'!E624=\"\",\"\",'sd paste'!E624)","v":""},{"$f":"IF('sd paste'!G624=\"\",\"\",'sd paste'!G624)","v":""},{"$f":"IF('sd paste'!H624=\"\",\"\",'sd paste'!H624)","v":""},{"$f":"IF('sd paste'!J624=\"\",\"\",'sd paste'!J624)","v":""},{"$f":"IF('sd paste'!V624=\"\",\"\",'sd paste'!V624)","v":""}]
["",{"$f":"IF('sd paste'!A625=\"\",\"\",'sd paste'!A625)","v":""},{"$f":"IF('sd paste'!B625=\"\",\"\",'sd paste'!B625)","v":""},{"$f":"IF('sd paste'!C625=\"\",\"\",'sd paste'!C625)","v":""},{"$f":"IF('sd paste'!E625=\"\",\"\",'sd paste'!E625)","v":""},{"$f":"IF('sd paste'!G625=\"\",\"\",'sd paste'!G625)","v":""},{"$f":"IF('sd paste'!H625=\"\",\"\",'sd paste'!H625)","v":""},{"$f":"IF('sd paste'!J625=\"\",\"\",'sd paste'!J625)","v":""},{"$f":"IF('sd paste'!V625=\"\",\"\",'sd paste'!V625)","v":""}]
["",{"$f":"IF('sd paste'!A626=\"\",\"\",'sd paste'!A626)","v":""},{"$f":"IF('sd paste'!B626=\"\",\"\",'sd paste'!B626)","v":""},{"$f":"IF('sd paste'!C626=\"\",\"\",'sd paste'!C626)","v":""},{"$f":"IF('sd paste'!E626=\"\",\"\",'sd paste'!E626)","v":""},{"$f":"IF('sd paste'!G626=\"\",\"\",'sd paste'!G626)","v":""},{"$f":"IF('sd paste'!H626=\"\",\"\",'sd paste'!H626)","v":""},{"$f":"IF('sd paste'!J626=\"\",\"\",'sd paste'!J626)","v":""},{"$f":"IF('sd paste'!V626=\"\",\"\",'sd paste'!V626)","v":""}]
["",{"$f":"IF('sd paste'!A627=\"\",\"\",'sd paste'!A627)","v":""},{"$f":"IF('sd paste'!B627=\"\",\"\",'sd paste'!B627)","v":""},{"$f":"IF('sd paste'!C627=\"\",\"\",'sd paste'!C627)","v":""},{"$f":"IF('sd paste'!E627=\"\",\"\",'sd paste'!E627)","v":""},{"$f":"IF('sd paste'!G627=\"\",\"\",'sd paste'!G627)","v":""},{"$f":"IF('sd paste'!H627=\"\",\"\",'sd paste'!H627)","v":""},{"$f":"IF('sd paste'!J627=\"\",\"\",'sd paste'!J627)","v":""},{"$f":"IF('sd paste'!V627=\"\",\"\",'sd paste'!V627)","v":""}]
["",{"$f":"IF('sd paste'!A628=\"\",\"\",'sd paste'!A628)","v":""},{"$f":"IF('sd paste'!B628=\"\",\"\",'sd paste'!B628)","v":""},{"$f":"IF('sd paste'!C628=\"\",\"\",'sd paste'!C628)","v":""},{"$f":"IF('sd paste'!E628=\"\",\"\",'sd paste'!E628)","v":""},{"$f":"IF('sd paste'!G628=\"\",\"\",'sd paste'!G628)","v":""},{"$f":"IF('sd paste'!H628=\"\",\"\",'sd paste'!H628)","v":""},{"$f":"IF('sd paste'!J628=\"\",\"\",'sd paste'!J628)","v":""},{"$f":"IF('sd paste'!V628=\"\",\"\",'sd paste'!V628)","v":""}]
["",{"$f":"IF('sd paste'!A629=\"\",\"\",'sd paste'!A629)","v":""},{"$f":"IF('sd paste'!B629=\"\",\"\",'sd paste'!B629)","v":""},{"$f":"IF('sd paste'!C629=\"\",\"\",'sd paste'!C629)","v":""},{"$f":"IF('sd paste'!E629=\"\",\"\",'sd paste'!E629)","v":""},{"$f":"IF('sd paste'!G629=\"\",\"\",'sd paste'!G629)","v":""},{"$f":"IF('sd paste'!H629=\"\",\"\",'sd paste'!H629)","v":""},{"$f":"IF('sd paste'!J629=\"\",\"\",'sd paste'!J629)","v":""},{"$f":"IF('sd paste'!V629=\"\",\"\",'sd paste'!V629)","v":""}]
["",{"$f":"IF('sd paste'!A630=\"\",\"\",'sd paste'!A630)","v":""},{"$f":"IF('sd paste'!B630=\"\",\"\",'sd paste'!B630)","v":""},{"$f":"IF('sd paste'!C630=\"\",\"\",'sd paste'!C630)","v":""},{"$f":"IF('sd paste'!E630=\"\",\"\",'sd paste'!E630)","v":""},{"$f":"IF('sd paste'!G630=\"\",\"\",'sd paste'!G630)","v":""},{"$f":"IF('sd paste'!H630=\"\",\"\",'sd paste'!H630)","v":""},{"$f":"IF('sd paste'!J630=\"\",\"\",'sd paste'!J630)","v":""},{"$f":"IF('sd paste'!V630=\"\",\"\",'sd paste'!V630)","v":""}]
["",{"$f":"IF('sd paste'!A631=\"\",\"\",'sd paste'!A631)","v":""},{"$f":"IF('sd paste'!B631=\"\",\"\",'sd paste'!B631)","v":""},{"$f":"IF('sd paste'!C631=\"\",\"\",'sd paste'!C631)","v":""},{"$f":"IF('sd paste'!E631=\"\",\"\",'sd paste'!E631)","v":""},{"$f":"IF('sd paste'!G631=\"\",\"\",'sd paste'!G631)","v":""},{"$f":"IF('sd paste'!H631=\"\",\"\",'sd paste'!H631)","v":""},{"$f":"IF('sd paste'!J631=\"\",\"\",'sd paste'!J631)","v":""},{"$f":"IF('sd paste'!V631=\"\",\"\",'sd paste'!V631)","v":""}]
["",{"$f":"IF('sd paste'!A632=\"\",\"\",'sd paste'!A632)","v":""},{"$f":"IF('sd paste'!B632=\"\",\"\",'sd paste'!B632)","v":""},{"$f":"IF('sd paste'!C632=\"\",\"\",'sd paste'!C632)","v":""},{"$f":"IF('sd paste'!E632=\"\",\"\",'sd paste'!E632)","v":""},{"$f":"IF('sd paste'!G632=\"\",\"\",'sd paste'!G632)","v":""},{"$f":"IF('sd paste'!H632=\"\",\"\",'sd paste'!H632)","v":""},{"$f":"IF('sd paste'!J632=\"\",\"\",'sd paste'!J632)","v":""},{"$f":"IF('sd paste'!V632=\"\",\"\",'sd paste'!V632)","v":""}]
["",{"$f":"IF('sd paste'!A633=\"\",\"\",'sd paste'!A633)","v":""},{"$f":"IF('sd paste'!B633=\"\",\"\",'sd paste'!B633)","v":""},{"$f":"IF('sd paste'!C633=\"\",\"\",'sd paste'!C633)","v":""},{"$f":"IF('sd paste'!E633=\"\",\"\",'sd paste'!E633)","v":""},{"$f":"IF('sd paste'!G633=\"\",\"\",'sd paste'!G633)","v":""},{"$f":"IF('sd paste'!H633=\"\",\"\",'sd paste'!H633)","v":""},{"$f":"IF('sd paste'!J633=\"\",\"\",'sd paste'!J633)","v":""},{"$f":"IF('sd paste'!V633=\"\",\"\",'sd paste'!V633)","v":""}]
["",{"$f":"IF('sd paste'!A634=\"\",\"\",'sd paste'!A634)","v":""},{"$f":"IF('sd paste'!B634=\"\",\"\",'sd paste'!B634)","v":""},{"$f":"IF('sd paste'!C634=\"\",\"\",'sd paste'!C634)","v":""},{"$f":"IF('sd paste'!E634=\"\",\"\",'sd paste'!E634)","v":""},{"$f":"IF('sd paste'!G634=\"\",\"\",'sd paste'!G634)","v":""},{"$f":"IF('sd paste'!H634=\"\",\"\",'sd paste'!H634)","v":""},{"$f":"IF('sd paste'!J634=\"\",\"\",'sd paste'!J634)","v":""},{"$f":"IF('sd paste'!V634=\"\",\"\",'sd paste'!V634)","v":""}]
["",{"$f":"IF('sd paste'!A635=\"\",\"\",'sd paste'!A635)","v":""},{"$f":"IF('sd paste'!B635=\"\",\"\",'sd paste'!B635)","v":""},{"$f":"IF('sd paste'!C635=\"\",\"\",'sd paste'!C635)","v":""},{"$f":"IF('sd paste'!E635=\"\",\"\",'sd paste'!E635)","v":""},{"$f":"IF('sd paste'!G635=\"\",\"\",'sd paste'!G635)","v":""},{"$f":"IF('sd paste'!H635=\"\",\"\",'sd paste'!H635)","v":""},{"$f":"IF('sd paste'!J635=\"\",\"\",'sd paste'!J635)","v":""},{"$f":"IF('sd paste'!V635=\"\",\"\",'sd paste'!V635)","v":""}]
["",{"$f":"IF('sd paste'!A636=\"\",\"\",'sd paste'!A636)","v":""},{"$f":"IF('sd paste'!B636=\"\",\"\",'sd paste'!B636)","v":""},{"$f":"IF('sd paste'!C636=\"\",\"\",'sd paste'!C636)","v":""},{"$f":"IF('sd paste'!E636=\"\",\"\",'sd paste'!E636)","v":""},{"$f":"IF('sd paste'!G636=\"\",\"\",'sd paste'!G636)","v":""},{"$f":"IF('sd paste'!H636=\"\",\"\",'sd paste'!H636)","v":""},{"$f":"IF('sd paste'!J636=\"\",\"\",'sd paste'!J636)","v":""},{"$f":"IF('sd paste'!V636=\"\",\"\",'sd paste'!V636)","v":""}]
["",{"$f":"IF('sd paste'!A637=\"\",\"\",'sd paste'!A637)","v":""},{"$f":"IF('sd paste'!B637=\"\",\"\",'sd paste'!B637)","v":""},{"$f":"IF('sd paste'!C637=\"\",\"\",'sd paste'!C637)","v":""},{"$f":"IF('sd paste'!E637=\"\",\"\",'sd paste'!E637)","v":""},{"$f":"IF('sd paste'!G637=\"\",\"\",'sd paste'!G637)","v":""},{"$f":"IF('sd paste'!H637=\"\",\"\",'sd paste'!H637)","v":""},{"$f":"IF('sd paste'!J637=\"\",\"\",'sd paste'!J637)","v":""},{"$f":"IF('sd paste'!V637=\"\",\"\",'sd paste'!V637)","v":""}]
["",{"$f":"IF('sd paste'!A638=\"\",\"\",'sd paste'!A638)","v":""},{"$f":"IF('sd paste'!B638=\"\",\"\",'sd paste'!B638)","v":""},{"$f":"IF('sd paste'!C638=\"\",\"\",'sd paste'!C638)","v":""},{"$f":"IF('sd paste'!E638=\"\",\"\",'sd paste'!E638)","v":""},{"$f":"IF('sd paste'!G638=\"\",\"\",'sd paste'!G638)","v":""},{"$f":"IF('sd paste'!H638=\"\",\"\",'sd paste'!H638)","v":""},{"$f":"IF('sd paste'!J638=\"\",\"\",'sd paste'!J638)","v":""},{"$f":"IF('sd paste'!V638=\"\",\"\",'sd paste'!V638)","v":""}]
["",{"$f":"IF('sd paste'!A639=\"\",\"\",'sd paste'!A639)","v":""},{"$f":"IF('sd paste'!B639=\"\",\"\",'sd paste'!B639)","v":""},{"$f":"IF('sd paste'!C639=\"\",\"\",'sd paste'!C639)","v":""},{"$f":"IF('sd paste'!E639=\"\",\"\",'sd paste'!E639)","v":""},{"$f":"IF('sd paste'!G639=\"\",\"\",'sd paste'!G639)","v":""},{"$f":"IF('sd paste'!H639=\"\",\"\",'sd paste'!H639)","v":""},{"$f":"IF('sd paste'!J639=\"\",\"\",'sd paste'!J639)","v":""},{"$f":"IF('sd paste'!V639=\"\",\"\",'sd paste'!V639)","v":""}]
["",{"$f":"IF('sd paste'!A640=\"\",\"\",'sd paste'!A640)","v":""},{"$f":"IF('sd paste'!B640=\"\",\"\",'sd paste'!B640)","v":""},{"$f":"IF('sd paste'!C640=\"\",\"\",'sd paste'!C640)","v":""},{"$f":"IF('sd paste'!E640=\"\",\"\",'sd paste'!E640)","v":""},{"$f":"IF('sd paste'!G640=\"\",\"\",'sd paste'!G640)","v":""},{"$f":"IF('sd paste'!H640=\"\",\"\",'sd paste'!H640)","v":""},{"$f":"IF('sd paste'!J640=\"\",\"\",'sd paste'!J640)","v":""},{"$f":"IF('sd paste'!V640=\"\",\"\",'sd paste'!V640)","v":""}]
["",{"$f":"IF('sd paste'!A641=\"\",\"\",'sd paste'!A641)","v":""},{"$f":"IF('sd paste'!B641=\"\",\"\",'sd paste'!B641)","v":""},{"$f":"IF('sd paste'!C641=\"\",\"\",'sd paste'!C641)","v":""},{"$f":"IF('sd paste'!E641=\"\",\"\",'sd paste'!E641)","v":""},{"$f":"IF('sd paste'!G641=\"\",\"\",'sd paste'!G641)","v":""},{"$f":"IF('sd paste'!H641=\"\",\"\",'sd paste'!H641)","v":""},{"$f":"IF('sd paste'!J641=\"\",\"\",'sd paste'!J641)","v":""},{"$f":"IF('sd paste'!V641=\"\",\"\",'sd paste'!V641)","v":""}]
["",{"$f":"IF('sd paste'!A642=\"\",\"\",'sd paste'!A642)","v":""},{"$f":"IF('sd paste'!B642=\"\",\"\",'sd paste'!B642)","v":""},{"$f":"IF('sd paste'!C642=\"\",\"\",'sd paste'!C642)","v":""},{"$f":"IF('sd paste'!E642=\"\",\"\",'sd paste'!E642)","v":""},{"$f":"IF('sd paste'!G642=\"\",\"\",'sd paste'!G642)","v":""},{"$f":"IF('sd paste'!H642=\"\",\"\",'sd paste'!H642)","v":""},{"$f":"IF('sd paste'!J642=\"\",\"\",'sd paste'!J642)","v":""},{"$f":"IF('sd paste'!V642=\"\",\"\",'sd paste'!V642)","v":""}]
[{"$f":"IF(F647=\"\",\"\",ROW(642:642))","v":""},{"$f":"IF('sd paste'!A643=\"\",\"\",'sd paste'!A643)","v":""},{"$f":"IF('sd paste'!B643=\"\",\"\",'sd paste'!B643)","v":""},{"$f":"IF('sd paste'!C643=\"\",\"\",'sd paste'!C643)","v":""},{"$f":"IF('sd paste'!E643=\"\",\"\",'sd paste'!E643)","v":""},{"$f":"IF('sd paste'!G643=\"\",\"\",'sd paste'!G643)","v":""},{"$f":"IF('sd paste'!H643=\"\",\"\",'sd paste'!H643)","v":""},{"$f":"IF('sd paste'!J643=\"\",\"\",'sd paste'!J643)","v":""},{"$f":"IF('sd paste'!V643=\"\",\"\",'sd paste'!V643)","v":""}]
["",{"$f":"IF('sd paste'!A644=\"\",\"\",'sd paste'!A644)","v":""},{"$f":"IF('sd paste'!B644=\"\",\"\",'sd paste'!B644)","v":""},{"$f":"IF('sd paste'!C644=\"\",\"\",'sd paste'!C644)","v":""},{"$f":"IF('sd paste'!E644=\"\",\"\",'sd paste'!E644)","v":""},{"$f":"IF('sd paste'!G644=\"\",\"\",'sd paste'!G644)","v":""},{"$f":"IF('sd paste'!H644=\"\",\"\",'sd paste'!H644)","v":""},{"$f":"IF('sd paste'!J644=\"\",\"\",'sd paste'!J644)","v":""},{"$f":"IF('sd paste'!V644=\"\",\"\",'sd paste'!V644)","v":""}]
["",{"$f":"IF('sd paste'!A645=\"\",\"\",'sd paste'!A645)","v":""},{"$f":"IF('sd paste'!B645=\"\",\"\",'sd paste'!B645)","v":""},{"$f":"IF('sd paste'!C645=\"\",\"\",'sd paste'!C645)","v":""},{"$f":"IF('sd paste'!E645=\"\",\"\",'sd paste'!E645)","v":""},{"$f":"IF('sd paste'!G645=\"\",\"\",'sd paste'!G645)","v":""},{"$f":"IF('sd paste'!H645=\"\",\"\",'sd paste'!H645)","v":""},{"$f":"IF('sd paste'!J645=\"\",\"\",'sd paste'!J645)","v":""},{"$f":"IF('sd paste'!V645=\"\",\"\",'sd paste'!V645)","v":""}]
["",{"$f":"IF('sd paste'!A646=\"\",\"\",'sd paste'!A646)","v":""},{"$f":"IF('sd paste'!B646=\"\",\"\",'sd paste'!B646)","v":""},{"$f":"IF('sd paste'!C646=\"\",\"\",'sd paste'!C646)","v":""},{"$f":"IF('sd paste'!E646=\"\",\"\",'sd paste'!E646)","v":""},{"$f":"IF('sd paste'!G646=\"\",\"\",'sd paste'!G646)","v":""},{"$f":"IF('sd paste'!H646=\"\",\"\",'sd paste'!H646)","v":""},{"$f":"IF('sd paste'!J646=\"\",\"\",'sd paste'!J646)","v":""},{"$f":"IF('sd paste'!V646=\"\",\"\",'sd paste'!V646)","v":""}]
["",{"$f":"IF('sd paste'!A647=\"\",\"\",'sd paste'!A647)","v":""},{"$f":"IF('sd paste'!B647=\"\",\"\",'sd paste'!B647)","v":""},{"$f":"IF('sd paste'!C647=\"\",\"\",'sd paste'!C647)","v":""},{"$f":"IF('sd paste'!E647=\"\",\"\",'sd paste'!E647)","v":""},{"$f":"IF('sd paste'!G647=\"\",\"\",'sd paste'!G647)","v":""},{"$f":"IF('sd paste'!H647=\"\",\"\",'sd paste'!H647)","v":""},{"$f":"IF('sd paste'!J647=\"\",\"\",'sd paste'!J647)","v":""},{"$f":"IF('sd paste'!V647=\"\",\"\",'sd paste'!V647)","v":""}]
["",{"$f":"IF('sd paste'!A648=\"\",\"\",'sd paste'!A648)","v":""},{"$f":"IF('sd paste'!B648=\"\",\"\",'sd paste'!B648)","v":""},{"$f":"IF('sd paste'!C648=\"\",\"\",'sd paste'!C648)","v":""},{"$f":"IF('sd paste'!E648=\"\",\"\",'sd paste'!E648)","v":""},{"$f":"IF('sd paste'!G648=\"\",\"\",'sd paste'!G648)","v":""},{"$f":"IF('sd paste'!H648=\"\",\"\",'sd paste'!H648)","v":""},{"$f":"IF('sd paste'!J648=\"\",\"\",'sd paste'!J648)","v":""},{"$f":"IF('sd paste'!V648=\"\",\"\",'sd paste'!V648)","v":""}]
["",{"$f":"IF('sd paste'!A649=\"\",\"\",'sd paste'!A649)","v":""},{"$f":"IF('sd paste'!B649=\"\",\"\",'sd paste'!B649)","v":""},{"$f":"IF('sd paste'!C649=\"\",\"\",'sd paste'!C649)","v":""},{"$f":"IF('sd paste'!E649=\"\",\"\",'sd paste'!E649)","v":""},{"$f":"IF('sd paste'!G649=\"\",\"\",'sd paste'!G649)","v":""},{"$f":"IF('sd paste'!H649=\"\",\"\",'sd paste'!H649)","v":""},{"$f":"IF('sd paste'!J649=\"\",\"\",'sd paste'!J649)","v":""},{"$f":"IF('sd paste'!V649=\"\",\"\",'sd paste'!V649)","v":""}]
["",{"$f":"IF('sd paste'!A650=\"\",\"\",'sd paste'!A650)","v":""},{"$f":"IF('sd paste'!B650=\"\",\"\",'sd paste'!B650)","v":""},{"$f":"IF('sd paste'!C650=\"\",\"\",'sd paste'!C650)","v":""},{"$f":"IF('sd paste'!E650=\"\",\"\",'sd paste'!E650)","v":""},{"$f":"IF('sd paste'!G650=\"\",\"\",'sd paste'!G650)","v":""},{"$f":"IF('sd paste'!H650=\"\",\"\",'sd paste'!H650)","v":""},{"$f":"IF('sd paste'!J650=\"\",\"\",'sd paste'!J650)","v":""},{"$f":"IF('sd paste'!V650=\"\",\"\",'sd paste'!V650)","v":""}]
["",{"$f":"IF('sd paste'!A651=\"\",\"\",'sd paste'!A651)","v":""},{"$f":"IF('sd paste'!B651=\"\",\"\",'sd paste'!B651)","v":""},{"$f":"IF('sd paste'!C651=\"\",\"\",'sd paste'!C651)","v":""},{"$f":"IF('sd paste'!E651=\"\",\"\",'sd paste'!E651)","v":""},{"$f":"IF('sd paste'!G651=\"\",\"\",'sd paste'!G651)","v":""},{"$f":"IF('sd paste'!H651=\"\",\"\",'sd paste'!H651)","v":""},{"$f":"IF('sd paste'!J651=\"\",\"\",'sd paste'!J651)","v":""},{"$f":"IF('sd paste'!V651=\"\",\"\",'sd paste'!V651)","v":""}]
["",{"$f":"IF('sd paste'!A652=\"\",\"\",'sd paste'!A652)","v":""},{"$f":"IF('sd paste'!B652=\"\",\"\",'sd paste'!B652)","v":""},{"$f":"IF('sd paste'!C652=\"\",\"\",'sd paste'!C652)","v":""},{"$f":"IF('sd paste'!E652=\"\",\"\",'sd paste'!E652)","v":""},{"$f":"IF('sd paste'!G652=\"\",\"\",'sd paste'!G652)","v":""},{"$f":"IF('sd paste'!H652=\"\",\"\",'sd paste'!H652)","v":""},{"$f":"IF('sd paste'!J652=\"\",\"\",'sd paste'!J652)","v":""},{"$f":"IF('sd paste'!V652=\"\",\"\",'sd paste'!V652)","v":""}]
["",{"$f":"IF('sd paste'!A653=\"\",\"\",'sd paste'!A653)","v":""},{"$f":"IF('sd paste'!B653=\"\",\"\",'sd paste'!B653)","v":""},{"$f":"IF('sd paste'!C653=\"\",\"\",'sd paste'!C653)","v":""},{"$f":"IF('sd paste'!E653=\"\",\"\",'sd paste'!E653)","v":""},{"$f":"IF('sd paste'!G653=\"\",\"\",'sd paste'!G653)","v":""},{"$f":"IF('sd paste'!H653=\"\",\"\",'sd paste'!H653)","v":""},{"$f":"IF('sd paste'!J653=\"\",\"\",'sd paste'!J653)","v":""},{"$f":"IF('sd paste'!V653=\"\",\"\",'sd paste'!V653)","v":""}]
["",{"$f":"IF('sd paste'!A654=\"\",\"\",'sd paste'!A654)","v":""},{"$f":"IF('sd paste'!B654=\"\",\"\",'sd paste'!B654)","v":""},{"$f":"IF('sd paste'!C654=\"\",\"\",'sd paste'!C654)","v":""},{"$f":"IF('sd paste'!E654=\"\",\"\",'sd paste'!E654)","v":""},{"$f":"IF('sd paste'!G654=\"\",\"\",'sd paste'!G654)","v":""},{"$f":"IF('sd paste'!H654=\"\",\"\",'sd paste'!H654)","v":""},{"$f":"IF('sd paste'!J654=\"\",\"\",'sd paste'!J654)","v":""},{"$f":"IF('sd paste'!V654=\"\",\"\",'sd paste'!V654)","v":""}]
["",{"$f":"IF('sd paste'!A655=\"\",\"\",'sd paste'!A655)","v":""},{"$f":"IF('sd paste'!B655=\"\",\"\",'sd paste'!B655)","v":""},{"$f":"IF('sd paste'!C655=\"\",\"\",'sd paste'!C655)","v":""},{"$f":"IF('sd paste'!E655=\"\",\"\",'sd paste'!E655)","v":""},{"$f":"IF('sd paste'!G655=\"\",\"\",'sd paste'!G655)","v":""},{"$f":"IF('sd paste'!H655=\"\",\"\",'sd paste'!H655)","v":""},{"$f":"IF('sd paste'!J655=\"\",\"\",'sd paste'!J655)","v":""},{"$f":"IF('sd paste'!V655=\"\",\"\",'sd paste'!V655)","v":""}]
["",{"$f":"IF('sd paste'!A656=\"\",\"\",'sd paste'!A656)","v":""},{"$f":"IF('sd paste'!B656=\"\",\"\",'sd paste'!B656)","v":""},{"$f":"IF('sd paste'!C656=\"\",\"\",'sd paste'!C656)","v":""},{"$f":"IF('sd paste'!E656=\"\",\"\",'sd paste'!E656)","v":""},{"$f":"IF('sd paste'!G656=\"\",\"\",'sd paste'!G656)","v":""},{"$f":"IF('sd paste'!H656=\"\",\"\",'sd paste'!H656)","v":""},{"$f":"IF('sd paste'!J656=\"\",\"\",'sd paste'!J656)","v":""},{"$f":"IF('sd paste'!V656=\"\",\"\",'sd paste'!V656)","v":""}]
["",{"$f":"IF('sd paste'!A657=\"\",\"\",'sd paste'!A657)","v":""},{"$f":"IF('sd paste'!B657=\"\",\"\",'sd paste'!B657)","v":""},{"$f":"IF('sd paste'!C657=\"\",\"\",'sd paste'!C657)","v":""},{"$f":"IF('sd paste'!E657=\"\",\"\",'sd paste'!E657)","v":""},{"$f":"IF('sd paste'!G657=\"\",\"\",'sd paste'!G657)","v":""},{"$f":"IF('sd paste'!H657=\"\",\"\",'sd paste'!H657)","v":""},{"$f":"IF('sd paste'!J657=\"\",\"\",'sd paste'!J657)","v":""},{"$f":"IF('sd paste'!V657=\"\",\"\",'sd paste'!V657)","v":""}]
["",{"$f":"IF('sd paste'!A658=\"\",\"\",'sd paste'!A658)","v":""},{"$f":"IF('sd paste'!B658=\"\",\"\",'sd paste'!B658)","v":""},{"$f":"IF('sd paste'!C658=\"\",\"\",'sd paste'!C658)","v":""},{"$f":"IF('sd paste'!E658=\"\",\"\",'sd paste'!E658)","v":""},{"$f":"IF('sd paste'!G658=\"\",\"\",'sd paste'!G658)","v":""},{"$f":"IF('sd paste'!H658=\"\",\"\",'sd paste'!H658)","v":""},{"$f":"IF('sd paste'!J658=\"\",\"\",'sd paste'!J658)","v":""},{"$f":"IF('sd paste'!V658=\"\",\"\",'sd paste'!V658)","v":""}]
["",{"$f":"IF('sd paste'!A659=\"\",\"\",'sd paste'!A659)","v":""},{"$f":"IF('sd paste'!B659=\"\",\"\",'sd paste'!B659)","v":""},{"$f":"IF('sd paste'!C659=\"\",\"\",'sd paste'!C659)","v":""},{"$f":"IF('sd paste'!E659=\"\",\"\",'sd paste'!E659)","v":""},{"$f":"IF('sd paste'!G659=\"\",\"\",'sd paste'!G659)","v":""},{"$f":"IF('sd paste'!H659=\"\",\"\",'sd paste'!H659)","v":""},{"$f":"IF('sd paste'!J659=\"\",\"\",'sd paste'!J659)","v":""},{"$f":"IF('sd paste'!V659=\"\",\"\",'sd paste'!V659)","v":""}]
["",{"$f":"IF('sd paste'!A660=\"\",\"\",'sd paste'!A660)","v":""},{"$f":"IF('sd paste'!B660=\"\",\"\",'sd paste'!B660)","v":""},{"$f":"IF('sd paste'!C660=\"\",\"\",'sd paste'!C660)","v":""},{"$f":"IF('sd paste'!E660=\"\",\"\",'sd paste'!E660)","v":""},{"$f":"IF('sd paste'!G660=\"\",\"\",'sd paste'!G660)","v":""},{"$f":"IF('sd paste'!H660=\"\",\"\",'sd paste'!H660)","v":""},{"$f":"IF('sd paste'!J660=\"\",\"\",'sd paste'!J660)","v":""},{"$f":"IF('sd paste'!V660=\"\",\"\",'sd paste'!V660)","v":""}]
["",{"$f":"IF('sd paste'!A661=\"\",\"\",'sd paste'!A661)","v":""},{"$f":"IF('sd paste'!B661=\"\",\"\",'sd paste'!B661)","v":""},{"$f":"IF('sd paste'!C661=\"\",\"\",'sd paste'!C661)","v":""},{"$f":"IF('sd paste'!E661=\"\",\"\",'sd paste'!E661)","v":""},{"$f":"IF('sd paste'!G661=\"\",\"\",'sd paste'!G661)","v":""},{"$f":"IF('sd paste'!H661=\"\",\"\",'sd paste'!H661)","v":""},{"$f":"IF('sd paste'!J661=\"\",\"\",'sd paste'!J661)","v":""},{"$f":"IF('sd paste'!V661=\"\",\"\",'sd paste'!V661)","v":""}]
["",{"$f":"IF('sd paste'!A662=\"\",\"\",'sd paste'!A662)","v":""},{"$f":"IF('sd paste'!B662=\"\",\"\",'sd paste'!B662)","v":""},{"$f":"IF('sd paste'!C662=\"\",\"\",'sd paste'!C662)","v":""},{"$f":"IF('sd paste'!E662=\"\",\"\",'sd paste'!E662)","v":""},{"$f":"IF('sd paste'!G662=\"\",\"\",'sd paste'!G662)","v":""},{"$f":"IF('sd paste'!H662=\"\",\"\",'sd paste'!H662)","v":""},{"$f":"IF('sd paste'!J662=\"\",\"\",'sd paste'!J662)","v":""},{"$f":"IF('sd paste'!V662=\"\",\"\",'sd paste'!V662)","v":""}]
["",{"$f":"IF('sd paste'!A663=\"\",\"\",'sd paste'!A663)","v":""},{"$f":"IF('sd paste'!B663=\"\",\"\",'sd paste'!B663)","v":""},{"$f":"IF('sd paste'!C663=\"\",\"\",'sd paste'!C663)","v":""},{"$f":"IF('sd paste'!E663=\"\",\"\",'sd paste'!E663)","v":""},{"$f":"IF('sd paste'!G663=\"\",\"\",'sd paste'!G663)","v":""},{"$f":"IF('sd paste'!H663=\"\",\"\",'sd paste'!H663)","v":""},{"$f":"IF('sd paste'!J663=\"\",\"\",'sd paste'!J663)","v":""},{"$f":"IF('sd paste'!V663=\"\",\"\",'sd paste'!V663)","v":""}]
["",{"$f":"IF('sd paste'!A664=\"\",\"\",'sd paste'!A664)","v":""},{"$f":"IF('sd paste'!B664=\"\",\"\",'sd paste'!B664)","v":""},{"$f":"IF('sd paste'!C664=\"\",\"\",'sd paste'!C664)","v":""},{"$f":"IF('sd paste'!E664=\"\",\"\",'sd paste'!E664)","v":""},{"$f":"IF('sd paste'!G664=\"\",\"\",'sd paste'!G664)","v":""},{"$f":"IF('sd paste'!H664=\"\",\"\",'sd paste'!H664)","v":""},{"$f":"IF('sd paste'!J664=\"\",\"\",'sd paste'!J664)","v":""},{"$f":"IF('sd paste'!V664=\"\",\"\",'sd paste'!V664)","v":""}]
["",{"$f":"IF('sd paste'!A665=\"\",\"\",'sd paste'!A665)","v":""},{"$f":"IF('sd paste'!B665=\"\",\"\",'sd paste'!B665)","v":""},{"$f":"IF('sd paste'!C665=\"\",\"\",'sd paste'!C665)","v":""},{"$f":"IF('sd paste'!E665=\"\",\"\",'sd paste'!E665)","v":""},{"$f":"IF('sd paste'!G665=\"\",\"\",'sd paste'!G665)","v":""},{"$f":"IF('sd paste'!H665=\"\",\"\",'sd paste'!H665)","v":""},{"$f":"IF('sd paste'!J665=\"\",\"\",'sd paste'!J665)","v":""},{"$f":"IF('sd paste'!V665=\"\",\"\",'sd paste'!V665)","v":""}]
["",{"$f":"IF('sd paste'!A666=\"\",\"\",'sd paste'!A666)","v":""},{"$f":"IF('sd paste'!B666=\"\",\"\",'sd paste'!B666)","v":""},{"$f":"IF('sd paste'!C666=\"\",\"\",'sd paste'!C666)","v":""},{"$f":"IF('sd paste'!E666=\"\",\"\",'sd paste'!E666)","v":""},{"$f":"IF('sd paste'!G666=\"\",\"\",'sd paste'!G666)","v":""},{"$f":"IF('sd paste'!H666=\"\",\"\",'sd paste'!H666)","v":""},{"$f":"IF('sd paste'!J666=\"\",\"\",'sd paste'!J666)","v":""},{"$f":"IF('sd paste'!V666=\"\",\"\",'sd paste'!V666)","v":""}]
["",{"$f":"IF('sd paste'!A667=\"\",\"\",'sd paste'!A667)","v":""},{"$f":"IF('sd paste'!B667=\"\",\"\",'sd paste'!B667)","v":""},{"$f":"IF('sd paste'!C667=\"\",\"\",'sd paste'!C667)","v":""},{"$f":"IF('sd paste'!E667=\"\",\"\",'sd paste'!E667)","v":""},{"$f":"IF('sd paste'!G667=\"\",\"\",'sd paste'!G667)","v":""},{"$f":"IF('sd paste'!H667=\"\",\"\",'sd paste'!H667)","v":""},{"$f":"IF('sd paste'!J667=\"\",\"\",'sd paste'!J667)","v":""},{"$f":"IF('sd paste'!V667=\"\",\"\",'sd paste'!V667)","v":""}]
["",{"$f":"IF('sd paste'!A668=\"\",\"\",'sd paste'!A668)","v":""},{"$f":"IF('sd paste'!B668=\"\",\"\",'sd paste'!B668)","v":""},{"$f":"IF('sd paste'!C668=\"\",\"\",'sd paste'!C668)","v":""},{"$f":"IF('sd paste'!E668=\"\",\"\",'sd paste'!E668)","v":""},{"$f":"IF('sd paste'!G668=\"\",\"\",'sd paste'!G668)","v":""},{"$f":"IF('sd paste'!H668=\"\",\"\",'sd paste'!H668)","v":""},{"$f":"IF('sd paste'!J668=\"\",\"\",'sd paste'!J668)","v":""},{"$f":"IF('sd paste'!V668=\"\",\"\",'sd paste'!V668)","v":""}]
["",{"$f":"IF('sd paste'!A669=\"\",\"\",'sd paste'!A669)","v":""},{"$f":"IF('sd paste'!B669=\"\",\"\",'sd paste'!B669)","v":""},{"$f":"IF('sd paste'!C669=\"\",\"\",'sd paste'!C669)","v":""},{"$f":"IF('sd paste'!E669=\"\",\"\",'sd paste'!E669)","v":""},{"$f":"IF('sd paste'!G669=\"\",\"\",'sd paste'!G669)","v":""},{"$f":"IF('sd paste'!H669=\"\",\"\",'sd paste'!H669)","v":""},{"$f":"IF('sd paste'!J669=\"\",\"\",'sd paste'!J669)","v":""},{"$f":"IF('sd paste'!V669=\"\",\"\",'sd paste'!V669)","v":""}]
["",{"$f":"IF('sd paste'!A670=\"\",\"\",'sd paste'!A670)","v":""},{"$f":"IF('sd paste'!B670=\"\",\"\",'sd paste'!B670)","v":""},{"$f":"IF('sd paste'!C670=\"\",\"\",'sd paste'!C670)","v":""},{"$f":"IF('sd paste'!E670=\"\",\"\",'sd paste'!E670)","v":""},{"$f":"IF('sd paste'!G670=\"\",\"\",'sd paste'!G670)","v":""},{"$f":"IF('sd paste'!H670=\"\",\"\",'sd paste'!H670)","v":""},{"$f":"IF('sd paste'!J670=\"\",\"\",'sd paste'!J670)","v":""},{"$f":"IF('sd paste'!V670=\"\",\"\",'sd paste'!V670)","v":""}]
["",{"$f":"IF('sd paste'!A671=\"\",\"\",'sd paste'!A671)","v":""},{"$f":"IF('sd paste'!B671=\"\",\"\",'sd paste'!B671)","v":""},{"$f":"IF('sd paste'!C671=\"\",\"\",'sd paste'!C671)","v":""},{"$f":"IF('sd paste'!E671=\"\",\"\",'sd paste'!E671)","v":""},{"$f":"IF('sd paste'!G671=\"\",\"\",'sd paste'!G671)","v":""},{"$f":"IF('sd paste'!H671=\"\",\"\",'sd paste'!H671)","v":""},{"$f":"IF('sd paste'!J671=\"\",\"\",'sd paste'!J671)","v":""},{"$f":"IF('sd paste'!V671=\"\",\"\",'sd paste'!V671)","v":""}]
["",{"$f":"IF('sd paste'!A672=\"\",\"\",'sd paste'!A672)","v":""},{"$f":"IF('sd paste'!B672=\"\",\"\",'sd paste'!B672)","v":""},{"$f":"IF('sd paste'!C672=\"\",\"\",'sd paste'!C672)","v":""},{"$f":"IF('sd paste'!E672=\"\",\"\",'sd paste'!E672)","v":""},{"$f":"IF('sd paste'!G672=\"\",\"\",'sd paste'!G672)","v":""},{"$f":"IF('sd paste'!H672=\"\",\"\",'sd paste'!H672)","v":""},{"$f":"IF('sd paste'!J672=\"\",\"\",'sd paste'!J672)","v":""},{"$f":"IF('sd paste'!V672=\"\",\"\",'sd paste'!V672)","v":""}]
["",{"$f":"IF('sd paste'!A673=\"\",\"\",'sd paste'!A673)","v":""},{"$f":"IF('sd paste'!B673=\"\",\"\",'sd paste'!B673)","v":""},{"$f":"IF('sd paste'!C673=\"\",\"\",'sd paste'!C673)","v":""},{"$f":"IF('sd paste'!E673=\"\",\"\",'sd paste'!E673)","v":""},{"$f":"IF('sd paste'!G673=\"\",\"\",'sd paste'!G673)","v":""},{"$f":"IF('sd paste'!H673=\"\",\"\",'sd paste'!H673)","v":""},{"$f":"IF('sd paste'!J673=\"\",\"\",'sd paste'!J673)","v":""},{"$f":"IF('sd paste'!V673=\"\",\"\",'sd paste'!V673)","v":""}]
["",{"$f":"IF('sd paste'!A674=\"\",\"\",'sd paste'!A674)","v":""},{"$f":"IF('sd paste'!B674=\"\",\"\",'sd paste'!B674)","v":""},{"$f":"IF('sd paste'!C674=\"\",\"\",'sd paste'!C674)","v":""},{"$f":"IF('sd paste'!E674=\"\",\"\",'sd paste'!E674)","v":""},{"$f":"IF('sd paste'!G674=\"\",\"\",'sd paste'!G674)","v":""},{"$f":"IF('sd paste'!H674=\"\",\"\",'sd paste'!H674)","v":""},{"$f":"IF('sd paste'!J674=\"\",\"\",'sd paste'!J674)","v":""},{"$f":"IF('sd paste'!V674=\"\",\"\",'sd paste'!V674)","v":""}]
["",{"$f":"IF('sd paste'!A675=\"\",\"\",'sd paste'!A675)","v":""},{"$f":"IF('sd paste'!B675=\"\",\"\",'sd paste'!B675)","v":""},{"$f":"IF('sd paste'!C675=\"\",\"\",'sd paste'!C675)","v":""},{"$f":"IF('sd paste'!E675=\"\",\"\",'sd paste'!E675)","v":""},{"$f":"IF('sd paste'!G675=\"\",\"\",'sd paste'!G675)","v":""},{"$f":"IF('sd paste'!H675=\"\",\"\",'sd paste'!H675)","v":""},{"$f":"IF('sd paste'!J675=\"\",\"\",'sd paste'!J675)","v":""},{"$f":"IF('sd paste'!V675=\"\",\"\",'sd paste'!V675)","v":""}]
["",{"$f":"IF('sd paste'!A676=\"\",\"\",'sd paste'!A676)","v":""},{"$f":"IF('sd paste'!B676=\"\",\"\",'sd paste'!B676)","v":""},{"$f":"IF('sd paste'!C676=\"\",\"\",'sd paste'!C676)","v":""},{"$f":"IF('sd paste'!E676=\"\",\"\",'sd paste'!E676)","v":""},{"$f":"IF('sd paste'!G676=\"\",\"\",'sd paste'!G676)","v":""},{"$f":"IF('sd paste'!H676=\"\",\"\",'sd paste'!H676)","v":""},{"$f":"IF('sd paste'!J676=\"\",\"\",'sd paste'!J676)","v":""},{"$f":"IF('sd paste'!V676=\"\",\"\",'sd paste'!V676)","v":""}]
["",{"$f":"IF('sd paste'!A677=\"\",\"\",'sd paste'!A677)","v":""},{"$f":"IF('sd paste'!B677=\"\",\"\",'sd paste'!B677)","v":""},{"$f":"IF('sd paste'!C677=\"\",\"\",'sd paste'!C677)","v":""},{"$f":"IF('sd paste'!E677=\"\",\"\",'sd paste'!E677)","v":""},{"$f":"IF('sd paste'!G677=\"\",\"\",'sd paste'!G677)","v":""},{"$f":"IF('sd paste'!H677=\"\",\"\",'sd paste'!H677)","v":""},{"$f":"IF('sd paste'!J677=\"\",\"\",'sd paste'!J677)","v":""},{"$f":"IF('sd paste'!V677=\"\",\"\",'sd paste'!V677)","v":""}]
["",{"$f":"IF('sd paste'!A678=\"\",\"\",'sd paste'!A678)","v":""},{"$f":"IF('sd paste'!B678=\"\",\"\",'sd paste'!B678)","v":""},{"$f":"IF('sd paste'!C678=\"\",\"\",'sd paste'!C678)","v":""},{"$f":"IF('sd paste'!E678=\"\",\"\",'sd paste'!E678)","v":""},{"$f":"IF('sd paste'!G678=\"\",\"\",'sd paste'!G678)","v":""},{"$f":"IF('sd paste'!H678=\"\",\"\",'sd paste'!H678)","v":""},{"$f":"IF('sd paste'!J678=\"\",\"\",'sd paste'!J678)","v":""},{"$f":"IF('sd paste'!V678=\"\",\"\",'sd paste'!V678)","v":""}]
["",{"$f":"IF('sd paste'!A679=\"\",\"\",'sd paste'!A679)","v":""},{"$f":"IF('sd paste'!B679=\"\",\"\",'sd paste'!B679)","v":""},{"$f":"IF('sd paste'!C679=\"\",\"\",'sd paste'!C679)","v":""},{"$f":"IF('sd paste'!E679=\"\",\"\",'sd paste'!E679)","v":""},{"$f":"IF('sd paste'!G679=\"\",\"\",'sd paste'!G679)","v":""},{"$f":"IF('sd paste'!H679=\"\",\"\",'sd paste'!H679)","v":""},{"$f":"IF('sd paste'!J679=\"\",\"\",'sd paste'!J679)","v":""},{"$f":"IF('sd paste'!V679=\"\",\"\",'sd paste'!V679)","v":""}]
["",{"$f":"IF('sd paste'!A680=\"\",\"\",'sd paste'!A680)","v":""},{"$f":"IF('sd paste'!B680=\"\",\"\",'sd paste'!B680)","v":""},{"$f":"IF('sd paste'!C680=\"\",\"\",'sd paste'!C680)","v":""},{"$f":"IF('sd paste'!E680=\"\",\"\",'sd paste'!E680)","v":""},{"$f":"IF('sd paste'!G680=\"\",\"\",'sd paste'!G680)","v":""},{"$f":"IF('sd paste'!H680=\"\",\"\",'sd paste'!H680)","v":""},{"$f":"IF('sd paste'!J680=\"\",\"\",'sd paste'!J680)","v":""},{"$f":"IF('sd paste'!V680=\"\",\"\",'sd paste'!V680)","v":""}]
["",{"$f":"IF('sd paste'!A681=\"\",\"\",'sd paste'!A681)","v":""},{"$f":"IF('sd paste'!B681=\"\",\"\",'sd paste'!B681)","v":""},{"$f":"IF('sd paste'!C681=\"\",\"\",'sd paste'!C681)","v":""},{"$f":"IF('sd paste'!E681=\"\",\"\",'sd paste'!E681)","v":""},{"$f":"IF('sd paste'!G681=\"\",\"\",'sd paste'!G681)","v":""},{"$f":"IF('sd paste'!H681=\"\",\"\",'sd paste'!H681)","v":""},{"$f":"IF('sd paste'!J681=\"\",\"\",'sd paste'!J681)","v":""},{"$f":"IF('sd paste'!V681=\"\",\"\",'sd paste'!V681)","v":""}]
["",{"$f":"IF('sd paste'!A682=\"\",\"\",'sd paste'!A682)","v":""},{"$f":"IF('sd paste'!B682=\"\",\"\",'sd paste'!B682)","v":""},{"$f":"IF('sd paste'!C682=\"\",\"\",'sd paste'!C682)","v":""},{"$f":"IF('sd paste'!E682=\"\",\"\",'sd paste'!E682)","v":""},{"$f":"IF('sd paste'!G682=\"\",\"\",'sd paste'!G682)","v":""},{"$f":"IF('sd paste'!H682=\"\",\"\",'sd paste'!H682)","v":""},{"$f":"IF('sd paste'!J682=\"\",\"\",'sd paste'!J682)","v":""},{"$f":"IF('sd paste'!V682=\"\",\"\",'sd paste'!V682)","v":""}]
["",{"$f":"IF('sd paste'!A683=\"\",\"\",'sd paste'!A683)","v":""},{"$f":"IF('sd paste'!B683=\"\",\"\",'sd paste'!B683)","v":""},{"$f":"IF('sd paste'!C683=\"\",\"\",'sd paste'!C683)","v":""},{"$f":"IF('sd paste'!E683=\"\",\"\",'sd paste'!E683)","v":""},{"$f":"IF('sd paste'!G683=\"\",\"\",'sd paste'!G683)","v":""},{"$f":"IF('sd paste'!H683=\"\",\"\",'sd paste'!H683)","v":""},{"$f":"IF('sd paste'!J683=\"\",\"\",'sd paste'!J683)","v":""},{"$f":"IF('sd paste'!V683=\"\",\"\",'sd paste'!V683)","v":""}]
["",{"$f":"IF('sd paste'!A684=\"\",\"\",'sd paste'!A684)","v":""},{"$f":"IF('sd paste'!B684=\"\",\"\",'sd paste'!B684)","v":""},{"$f":"IF('sd paste'!C684=\"\",\"\",'sd paste'!C684)","v":""},{"$f":"IF('sd paste'!E684=\"\",\"\",'sd paste'!E684)","v":""},{"$f":"IF('sd paste'!G684=\"\",\"\",'sd paste'!G684)","v":""},{"$f":"IF('sd paste'!H684=\"\",\"\",'sd paste'!H684)","v":""},{"$f":"IF('sd paste'!J684=\"\",\"\",'sd paste'!J684)","v":""},{"$f":"IF('sd paste'!V684=\"\",\"\",'sd paste'!V684)","v":""}]
["",{"$f":"IF('sd paste'!A685=\"\",\"\",'sd paste'!A685)","v":""},{"$f":"IF('sd paste'!B685=\"\",\"\",'sd paste'!B685)","v":""},{"$f":"IF('sd paste'!C685=\"\",\"\",'sd paste'!C685)","v":""},{"$f":"IF('sd paste'!E685=\"\",\"\",'sd paste'!E685)","v":""},{"$f":"IF('sd paste'!G685=\"\",\"\",'sd paste'!G685)","v":""},{"$f":"IF('sd paste'!H685=\"\",\"\",'sd paste'!H685)","v":""},{"$f":"IF('sd paste'!J685=\"\",\"\",'sd paste'!J685)","v":""},{"$f":"IF('sd paste'!V685=\"\",\"\",'sd paste'!V685)","v":""}]
["",{"$f":"IF('sd paste'!A686=\"\",\"\",'sd paste'!A686)","v":""},{"$f":"IF('sd paste'!B686=\"\",\"\",'sd paste'!B686)","v":""},{"$f":"IF('sd paste'!C686=\"\",\"\",'sd paste'!C686)","v":""},{"$f":"IF('sd paste'!E686=\"\",\"\",'sd paste'!E686)","v":""},{"$f":"IF('sd paste'!G686=\"\",\"\",'sd paste'!G686)","v":""},{"$f":"IF('sd paste'!H686=\"\",\"\",'sd paste'!H686)","v":""},{"$f":"IF('sd paste'!J686=\"\",\"\",'sd paste'!J686)","v":""},{"$f":"IF('sd paste'!V686=\"\",\"\",'sd paste'!V686)","v":""}]
["",{"$f":"IF('sd paste'!A687=\"\",\"\",'sd paste'!A687)","v":""},{"$f":"IF('sd paste'!B687=\"\",\"\",'sd paste'!B687)","v":""},{"$f":"IF('sd paste'!C687=\"\",\"\",'sd paste'!C687)","v":""},{"$f":"IF('sd paste'!E687=\"\",\"\",'sd paste'!E687)","v":""},{"$f":"IF('sd paste'!G687=\"\",\"\",'sd paste'!G687)","v":""},{"$f":"IF('sd paste'!H687=\"\",\"\",'sd paste'!H687)","v":""},{"$f":"IF('sd paste'!J687=\"\",\"\",'sd paste'!J687)","v":""},{"$f":"IF('sd paste'!V687=\"\",\"\",'sd paste'!V687)","v":""}]
["",{"$f":"IF('sd paste'!A688=\"\",\"\",'sd paste'!A688)","v":""},{"$f":"IF('sd paste'!B688=\"\",\"\",'sd paste'!B688)","v":""},{"$f":"IF('sd paste'!C688=\"\",\"\",'sd paste'!C688)","v":""},{"$f":"IF('sd paste'!E688=\"\",\"\",'sd paste'!E688)","v":""},{"$f":"IF('sd paste'!G688=\"\",\"\",'sd paste'!G688)","v":""},{"$f":"IF('sd paste'!H688=\"\",\"\",'sd paste'!H688)","v":""},{"$f":"IF('sd paste'!J688=\"\",\"\",'sd paste'!J688)","v":""},{"$f":"IF('sd paste'!V688=\"\",\"\",'sd paste'!V688)","v":""}]
["",{"$f":"IF('sd paste'!A689=\"\",\"\",'sd paste'!A689)","v":""},{"$f":"IF('sd paste'!B689=\"\",\"\",'sd paste'!B689)","v":""},{"$f":"IF('sd paste'!C689=\"\",\"\",'sd paste'!C689)","v":""},{"$f":"IF('sd paste'!E689=\"\",\"\",'sd paste'!E689)","v":""},{"$f":"IF('sd paste'!G689=\"\",\"\",'sd paste'!G689)","v":""},{"$f":"IF('sd paste'!H689=\"\",\"\",'sd paste'!H689)","v":""},{"$f":"IF('sd paste'!J689=\"\",\"\",'sd paste'!J689)","v":""},{"$f":"IF('sd paste'!V689=\"\",\"\",'sd paste'!V689)","v":""}]
["",{"$f":"IF('sd paste'!A690=\"\",\"\",'sd paste'!A690)","v":""},{"$f":"IF('sd paste'!B690=\"\",\"\",'sd paste'!B690)","v":""},{"$f":"IF('sd paste'!C690=\"\",\"\",'sd paste'!C690)","v":""},{"$f":"IF('sd paste'!E690=\"\",\"\",'sd paste'!E690)","v":""},{"$f":"IF('sd paste'!G690=\"\",\"\",'sd paste'!G690)","v":""},{"$f":"IF('sd paste'!H690=\"\",\"\",'sd paste'!H690)","v":""},{"$f":"IF('sd paste'!J690=\"\",\"\",'sd paste'!J690)","v":""},{"$f":"IF('sd paste'!V690=\"\",\"\",'sd paste'!V690)","v":""}]
["",{"$f":"IF('sd paste'!A691=\"\",\"\",'sd paste'!A691)","v":""},{"$f":"IF('sd paste'!B691=\"\",\"\",'sd paste'!B691)","v":""},{"$f":"IF('sd paste'!C691=\"\",\"\",'sd paste'!C691)","v":""},{"$f":"IF('sd paste'!E691=\"\",\"\",'sd paste'!E691)","v":""},{"$f":"IF('sd paste'!G691=\"\",\"\",'sd paste'!G691)","v":""},{"$f":"IF('sd paste'!H691=\"\",\"\",'sd paste'!H691)","v":""},{"$f":"IF('sd paste'!J691=\"\",\"\",'sd paste'!J691)","v":""},{"$f":"IF('sd paste'!V691=\"\",\"\",'sd paste'!V691)","v":""}]
["",{"$f":"IF('sd paste'!A692=\"\",\"\",'sd paste'!A692)","v":""},{"$f":"IF('sd paste'!B692=\"\",\"\",'sd paste'!B692)","v":""},{"$f":"IF('sd paste'!C692=\"\",\"\",'sd paste'!C692)","v":""},{"$f":"IF('sd paste'!E692=\"\",\"\",'sd paste'!E692)","v":""},{"$f":"IF('sd paste'!G692=\"\",\"\",'sd paste'!G692)","v":""},{"$f":"IF('sd paste'!H692=\"\",\"\",'sd paste'!H692)","v":""},{"$f":"IF('sd paste'!J692=\"\",\"\",'sd paste'!J692)","v":""},{"$f":"IF('sd paste'!V692=\"\",\"\",'sd paste'!V692)","v":""}]
["",{"$f":"IF('sd paste'!A693=\"\",\"\",'sd paste'!A693)","v":""},{"$f":"IF('sd paste'!B693=\"\",\"\",'sd paste'!B693)","v":""},{"$f":"IF('sd paste'!C693=\"\",\"\",'sd paste'!C693)","v":""},{"$f":"IF('sd paste'!E693=\"\",\"\",'sd paste'!E693)","v":""},{"$f":"IF('sd paste'!G693=\"\",\"\",'sd paste'!G693)","v":""},{"$f":"IF('sd paste'!H693=\"\",\"\",'sd paste'!H693)","v":""},{"$f":"IF('sd paste'!J693=\"\",\"\",'sd paste'!J693)","v":""},{"$f":"IF('sd paste'!V693=\"\",\"\",'sd paste'!V693)","v":""}]
["",{"$f":"IF('sd paste'!A694=\"\",\"\",'sd paste'!A694)","v":""},{"$f":"IF('sd paste'!B694=\"\",\"\",'sd paste'!B694)","v":""},{"$f":"IF('sd paste'!C694=\"\",\"\",'sd paste'!C694)","v":""},{"$f":"IF('sd paste'!E694=\"\",\"\",'sd paste'!E694)","v":""},{"$f":"IF('sd paste'!G694=\"\",\"\",'sd paste'!G694)","v":""},{"$f":"IF('sd paste'!H694=\"\",\"\",'sd paste'!H694)","v":""},{"$f":"IF('sd paste'!J694=\"\",\"\",'sd paste'!J694)","v":""},{"$f":"IF('sd paste'!V694=\"\",\"\",'sd paste'!V694)","v":""}]
["",{"$f":"IF('sd paste'!A695=\"\",\"\",'sd paste'!A695)","v":""},{"$f":"IF('sd paste'!B695=\"\",\"\",'sd paste'!B695)","v":""},{"$f":"IF('sd paste'!C695=\"\",\"\",'sd paste'!C695)","v":""},{"$f":"IF('sd paste'!E695=\"\",\"\",'sd paste'!E695)","v":""},{"$f":"IF('sd paste'!G695=\"\",\"\",'sd paste'!G695)","v":""},{"$f":"IF('sd paste'!H695=\"\",\"\",'sd paste'!H695)","v":""},{"$f":"IF('sd paste'!J695=\"\",\"\",'sd paste'!J695)","v":""},{"$f":"IF('sd paste'!V695=\"\",\"\",'sd paste'!V695)","v":""}]
["",{"$f":"IF('sd paste'!A696=\"\",\"\",'sd paste'!A696)","v":""},{"$f":"IF('sd paste'!B696=\"\",\"\",'sd paste'!B696)","v":""},{"$f":"IF('sd paste'!C696=\"\",\"\",'sd paste'!C696)","v":""},{"$f":"IF('sd paste'!E696=\"\",\"\",'sd paste'!E696)","v":""},{"$f":"IF('sd paste'!G696=\"\",\"\",'sd paste'!G696)","v":""},{"$f":"IF('sd paste'!H696=\"\",\"\",'sd paste'!H696)","v":""},{"$f":"IF('sd paste'!J696=\"\",\"\",'sd paste'!J696)","v":""},{"$f":"IF('sd paste'!V696=\"\",\"\",'sd paste'!V696)","v":""}]

{"sheet":"marks entry","index":3,"n_rows":412,"n_cols":38,"rows_kept":412,"cut":false,"hidden":false,"merged":[[4,6,6,6],[4,31,7,31],[5,9,5,13],[5,14,5,18],[5,19,5,23],[5,24,5,28],[4,29,6,29],[4,30,7,30],[4,19,4,23],[4,24,4,28],[4,4,6,4],[4,5,6,5],[7,0,7,8],[0,0,0,14],[4,0,6,0],[4,1,6,1],[4,2,6,2],[4,3,6,3],[1,0,1,5],[1,7,1,14],[2,0,2,2],[4,9,4,13],[4,14,4,18],[4,7,6,7],[4,8,6,8],[2,5,2,10]]}
[{"$f":"master!B2","v":" राजकीय उच्च माध्यमिक विद्यालय आलनियावास जिला - नागौर"}]
[{"$f":"master!B3","v":"समाज सेवा शिविर "},null,null,null,null,null,null,{"$f":"master!B5","v":"दिनांक : 17.05.2025 से 31.05.2025"}]
[null,null,null,"Class",null,"RESULT SHEET"]
[null,null,null,11]
["Sr.No.","Class","Section","SR NO","Name","FatherName","MotherName","Dob","Mobile No Student(Father/Mother/Guardian","समाज सेवा गतिविधि 1",null,null,null,null,"समाज सेवा गतिविधि 2",null,null,null,null,"समाज सेवा गतिविधि 3",null,null,null,null,"समाज सेवा गतिविधि 4",null,null,null,null,"महा योग","ग्रेड","सम्प्राप्ति स्तर"]
[null,null,null,null,null,null,null,null,null,{"$f":"master!E6","v":"विद्यालय का सौदर्यकरण"},null,null,null,null,{"$f":"master!E7","v":"सार्वजनिक स्थलों पर जल सेवा"},null,null,null,null,{"$f":"master!E8","v":"यातायात के नियमो का पालन"},null,null,null,null,{"$f":"master!E9","v":"सार्वजानिक स्थल की सफाई"}]
[null,null,null,null,null,null,null,null,null,"आयोजना","प्रबंधन","क्रियान्विति","निष्पादन","गुणवत्ता","आयोजना","प्रबंधन","क्रियान्विति","निष्पादन","गुणवत्ता","आयोजना","प्रबंधन","क्रियान्विति","निष्पादन","गुणवत्ता","आयोजना","प्रबंधन","क्रियान्विति","निष्पादन","गुणवत्ता"]
["पूर्णांक",null,null,null,null,null,null,null,null,5,5,5,5,5,5,5,5,5,5,5,5,5,5,5,5,5,5,5,5,100]
["SNO","Class","Section","SRNO","Name","FatherName","MotherName","Dob","Mobile No Student(Father/Mother/Guardian"]
[{"$f":"IF(E10=\"\",\"\",ROW(1:1))","v":1},11,"A",3857,"Aakash Suwasiya","Bhanwar Lal","Chhoti Devi","2007-02-07",9610279300,3,5,3,2,4,3,5,3,2,4,3,5,3,2,4,3,5,3,2,4,{"$f":"SUM(J10:AC10)","v":68},{"$f":"IF(AD10>=80,\"A\",IF(AD10>=60,\"B\",IF(AD10>=59,\"C\",\"D\")))","v":"B"},{"$f":"IF(AD10=100,\"श्रैष्ठ\",IF(AD10>=80,\"उत्कृष्ट\",IF(AD10>=60,\"उत्तम\",IF(AD10>=50,\"अच्छा\",\"सामान्य\"))))","v":"उत्तम"},null,1,{"$f":"SUM(J10:N10)","v":17},{"$f":"SUM(O10:S10)","v":17},{"$f":"SUM(T10:X10)","v":17},{"$f":"SUM(Y10:AC10)","v":17}]
[{"$f":"IF(E11=\"\",\"\",ROW(2:2))","v":2},11,"A",3857,"Aakash Suwasiya","Bhanwar Lal","Chhoti Devi","2007-02-08",9610279300,5,5,5,5,5,5,5,5,5,5,5,5,5,5,5,5,5,5,5,5,{"$f":"SUM(J11:AC11)","v":100},{"$f":"IF(AD11>=80,\"A\",IF(AD11>=60,\"B\",IF(AD11>=59,\"C\",\"D\")))","v":"A"},{"$f":"IF(AD11=100,\"श्रैष्ठ\",IF(AD11>=80,\"उत्कृष्ट\",IF(AD11>=60,\"उत्तम\",IF(AD11>=50,\"अच्छा\",\"सामान्य\"))))","v":"श्रैष्ठ"},null,2,{"$f":"SUM(J11:N11)","v":25},{"$f":"SUM(O11:S11)","v":25},{"$f":"SUM(T11:X11)","v":25},{"$f":"SUM(Y11:AC11)","v":25}]
[3,11,"A",5049,"Aakash Suwasiya","Bhanwar Lal","Chhoti Devi","2007-02-09",9610279300,5,5,5,5,5,5,5,5,5,5,5,5,5,5,5,5,5,5,5,5,{"$f":"SUM(J12:AC12)","v":100},"A","श्रैष्ठ",null,3,25,25,25,25]
[4,11,"A",4120,"Aakash Suwasiya","Bhanwar Lal","Chhoti Devi","2007-02-10",9610279300,5,3,4,2,5,5,3,4,2,5,5,3,4,2,5,5,3,4,2,5,{"$f":"SUM(J13:AC13)","v":76},"B","उत्तम",null,4,19,19,19,19]
[5,11,"A",4961,"Aakash Suwasiya","Bhanwar Lal","Chhoti Devi","2007-02-11",9610279300,3,5,3,2,4,3,5,3,2,4,3,5,3,2,4,3,5,3,2,4,68,"B","उत्तम",null,5,17,17,17,17]
[6,11,"A",5047,"Aakash Suwasiya","Bhanwar Lal","Chhoti Devi","2007-02-12",9610279300,5,4,2,3,5,5,4,2,3,5,5,4,2,3,5,5,4,2,3,5,76,"B","उत्तम",null,6,19,19,19,19]
[7,11,"A",4462,"Aakash Suwasiya","Bhanwar Lal","Chhoti Devi","2007-02-13",9610279300,1,3,2,1,3,1,3,2,1,3,1,3,2,1,3,1,3,2,1,3,40,"D","सामान्य",null,7,10,10,10,10]
[8,11,"A",4607,"Aakash Suwasiya","Bhanwar Lal","Chhoti Devi","2007-02-14",9610279300,5,3,4,2,5,5,3,4,2,5,5,3,4,2,5,5,3,4,2,5,76,"B","उत्तम",null,8,19,19,19,19]
[9,11,"A",5426,"Aakash Suwasiya","Bhanwar Lal","Chhoti Devi","2007-02-15",9610279300,3,5,3,2,4,3,5,3,2,4,3,5,3,2,4,3,5,3,2,4,68,"B","उत्तम",null,9,17,17,17,17]
[10,11,"A",5410,"Aakash Suwasiya","Bhanwar Lal","Chhoti Devi","2007-02-16",9610279300,5,4,2,3,5,5,4,2,3,5,5,4,2,3,5,5,4,2,3,5,76,"B","उत्तम",null,10,19,19,19,19]
[11,11,"A",4946,"Aakash Suwasiya","Bhanwar Lal","Chhoti Devi","2007-02-17",9610279300,1,3,2,1,3,1,3,2,1,3,1,3,2,1,3,1,3,2,1,3,40,"D","सामान्य",null,11,10,10,10,10]
[12,11,"A",5091,"Aakash Suwasiya","Bhanwar Lal","Chhoti Devi","2007-02-18",9610279300,5,3,4,2,5,5,3,4,2,5,5,3,4,2,5,5,3,4,2,5,76,"B","उत्तम",null,12,19,19,19,19]
[13,11,"A",4983,"Aakash Suwasiya","Bhanwar Lal","Chhoti Devi","2007-02-19",9610279300,3,5,3,2,4,3,5,3,2,4,3,5,3,2,4,3,5,3,2,4,68,"B","उत्तम",null,13,17,17,17,17]
[14,11,"A",4169,"Aakash Suwasiya","Bhanwar Lal","Chhoti Devi","2007-02-20",9610279300,5,4,2,3,5,5,4,2,3,5,5,4,2,3,5,5,4,2,3,5,76,"B","उत्तम",null,14,19,19,19,19]
[15,11,"A",5088,"Aakash Suwasiya","Bhanwar Lal","Chhoti Devi","2007-02-21",9610279300,1,3,2,1,3,1,3,2,1,3,1,3,2,1,3,1,3,2,1,3,40,"D","सामान्य",null,15,10,10,10,10]
[16,11,"A",5008,"Aakash Suwasiya","Bhanwar Lal","Chhoti Devi","2007-02-22",9610279300,5,3,4,2,5,5,3,4,2,5,5,3,4,2,5,5,3,4,2,5,76,"B","उत्तम",null,16,19,19,19,19]
[17,11,"A",5000,"Aakash Suwasiya","Bhanwar Lal","Chhoti Devi","2007-02-23",9610279300,3,5,3,2,4,3,5,3,2,4,3,5,3,2,4,3,5,3,2,4,68,"B","उत्तम",null,17,17,17,17,17]
[18,11,"A",4952,"Aakash Suwasiya","Bhanwar Lal","Chhoti Devi","2007-02-24",9610279300,5,4,2,3,5,5,4,2,3,5,5,4,2,3,5,5,4,2,3,5,76,"B","उत्तम",null,18,19,19,19,19]
[19,11,"A",5431,"Aakash Suwasiya","Bhanwar Lal","Chhoti Devi","2007-02-25",9610279300,1,3,2,1,3,1,3,2,1,3,1,3,2,1,3,1,3,2,1,3,40,"D","सामान्य",null,19,10,10,10,10]
[20,11,"A",4486,"Aakash Suwasiya","Bhanwar Lal","Chhoti Devi","2007-02-26",9610279300,5,3,4,2,5,5,3,4,2,5,5,3,4,2,5,5,3,4,2,5,76,"B","उत्तम",null,20,19,19,19,19]
[21,11,"A",5404,"Aakash Suwasiya","Bhanwar Lal","Chhoti Devi","2007-02-27",9610279300,3,5,3,2,4,3,5,3,2,4,3,5,3,2,4,3,5,3,2,4,68,"B","उत्तम",null,21,17,17,17,17]
[22,11,"A",4321,"Aakash Suwasiya","Bhanwar Lal","Chhoti Devi","2007-02-28",9610279300,5,4,2,3,5,5,4,2,3,5,5,4,2,3,5,5,4,2,3,5,76,"B","उत्तम",null,22,19,19,19,19]
[23,11,"A",4783,"Aakash Suwasiya","Bhanwar Lal","Chhoti Devi","2007-03-01",9610279300,1,3,2,1,3,1,3,2,1,3,1,3,2,1,3,1,3,2,1,3,40,"D","सामान्य",null,23,10,10,10,10]
[24,11,"A",5411,"Aakash Suwasiya","Bhanwar Lal","Chhoti Devi","2007-03-02",9610279300,5,3,4,2,5,5,3,4,2,5,5,3,4,2,5,5,3,4,2,5,76,"B","उत्तम",null,24,19,19,19,19]
[25,11,"A",4895,"Aakash Suwasiya","Bhanwar Lal","Chhoti Devi","2007-03-03",9610279300,3,5,3,2,4,3,5,3,2,4,3,5,3,2,4,3,5,3,2,4,68,"B","उत्तम",null,25,17,17,17,17]
[26,11,"A",4651,"Aakash Suwasiya","Bhanwar Lal","Chhoti Devi","2007-03-04",9610279300,5,4,2,3,5,5,4,2,3,5,5,4,2,3,5,5,4,2,3,5,76,"B","उत्तम",null,26,19,19,19,19]
[27,11,"A",5430,"Aakash Suwasiya","Bhanwar Lal","Chhoti Devi","2007-03-05",9610279300,1,3,2,1,3,1,3,2,1,3,1,3,2,1,3,1,3,2,1,3,40,"D","सामान्य",null,27,10,10,10,10]
[28,11,"A",4563,"Aakash Suwasiya","Bhanwar Lal","Chhoti Devi","2007-03-06",9610279300,5,3,4,2,5,5,3,4,2,5,5,3,4,2,5,5,3,4,2,5,76,"B","उत्तम",null,28,19,19,19,19]
[29,11,"A",4937,"Aakash Suwasiya","Bhanwar Lal","Chhoti Devi","2007-03-07",9610279300,3,5,3,2,4,3,5,3,2,4,3,5,3,2,4,3,5,3,2,4,68,"B","उत्तम",null,29,17,17,17,17]
[30,11,"A",5442,"Aakash Suwasiya","Bhanwar Lal","Chhoti Devi","2007-03-08",9610279300,5,4,2,3,5,5,4,2,3,5,5,4,2,3,5,5,4,2,3,5,76,"B","उत्तम",null,30,19,19,19,19]
[31,11,"A",4980,"Aakash Suwasiya","Bhanwar Lal","Chhoti Devi","2007-03-09",9610279300,1,3,2,1,3,1,3,2,1,3,1,3,2,1,3,1,3,2,1,3,40,"D","सामान्य",null,31,10,10,10,10]
[32,11,"A",4778,"Aakash Suwasiya","Bhanwar Lal","Chhoti Devi","2007-03-10",9610279300,5,3,4,2,5,5,3,4,2,5,5,3,4,2,5,5,3,4,2,5,76,"B","उत्तम",null,32,19,19,19,19]
[33,11,"A",4677,"Aakash Suwasiya","Bhanwar Lal","Chhoti Devi","2007-03-11",9610279300,3,5,3,2,4,3,5,3,2,4,3,5,3,2,4,3,5,3,2,4,68,"B","उत्तम",null,33,17,17,17,17]
[34,11,"A",4979,"Aakash Suwasiya","Bhanwar Lal","Chhoti Devi","2007-03-12",9610279300,5,4,2,3,5,5,4,2,3,5,5,4,2,3,5,5,4,2,3,5,76,"B","उत्तम",null,34,19,19,19,19]
[35,11,"A",5377,"Aakash Suwasiya","Bhanwar Lal","Chhoti Devi","2007-03-13",9610279300,1,3,2,1,3,1,3,2,1,3,1,3,2,1,3,1,3,2,1,3,40,"D","सामान्य",null,35,10,10,10,10]
[36,11,"A",4845,"Aakash Suwasiya","Bhanwar Lal","Chhoti Devi","2007-03-14",9610279300,5,3,4,2,5,5,3,4,2,5,5,3,4,2,5,5,3,4,2,5,76,"B","उत्तम",null,36,19,19,19,19]
[37,11,"A",4640,"Aakash Suwasiya","Bhanwar Lal","Chhoti Devi","2007-03-15",9610279300,3,5,3,2,4,3,5,3,2,4,3,5,3,2,4,3,5,3,2,4,68,"B","उत्तम",null,37,17,17,17,17]
[38,11,"A",5387,"Aakash Suwasiya","Bhanwar Lal","Chhoti Devi","2007-03-16",9610279300,5,4,2,3,5,5,4,2,3,5,5,4,2,3,5,5,4,2,3,5,76,"B","उत्तम",null,38,19,19,19,19]
[39,11,"A",5364,"Aakash Suwasiya","Bhanwar Lal","Chhoti Devi","2007-03-17",9610279300,1,3,2,1,3,1,3,2,1,3,1,3,2,1,3,1,3,2,1,3,40,"D","सामान्य",null,39,10,10,10,10]
[40,11,"A",3821,"Aakash Suwasiya","Bhanwar Lal","Chhoti Devi","2007-03-18",9610279300,5,3,4,2,5,5,3,4,2,5,5,3,4,2,5,5,3,4,2,5,76,"B","उत्तम",null,40,19,19,19,19]
[41,11,"A",5441,"Aakash Suwasiya","Bhanwar Lal","Chhoti Devi","2007-03-19",9610279300,3,5,3,2,4,3,5,3,2,4,3,5,3,2,4,3,5,3,2,4,68,"B","उत्तम",null,41,17,17,17,17]
[42,11,"A",5024,"Aakash Suwasiya","Bhanwar Lal","Chhoti Devi","2007-03-20",9610279300,5,4,2,3,5,5,4,2,3,5,5,4,2,3,5,5,4,2,3,5,76,"B","उत्तम",null,42,19,19,19,19]
[43,11,"A",5198,"Aakash Suwasiya","Bhanwar Lal","Chhoti Devi","2007-03-21",9610279300,1,3,2,1,3,1,3,2,1,3,1,3,2,1,3,1,3,2,1,3,40,"D","सामान्य",null,43,10,10,10,10]
[44,11,"A",4461,"Aakash Suwasiya","Bhanwar Lal","Chhoti Devi","2007-03-22",9610279300,5,3,4,2,5,5,3,4,2,5,5,3,4,2,5,5,3,4,2,5,76,"B","उत्तम",null,44,19,19,19,19]
[45,11,"A",4482,"Aakash Suwasiya","Bhanwar Lal","Chhoti Devi","2007-03-23",9610279300,3,5,3,2,4,3,5,3,2,4,3,5,3,2,4,3,5,3,2,4,68,"B","उत्तम",null,45,17,17,17,17]
[46,11,"A",4460,"Aakash Suwasiya","Bhanwar Lal","Chhoti Devi","2007-03-24",9610279300,5,4,2,3,5,5,4,2,3,5,5,4,2,3,5,5,4,2,3,5,76,"B","उत्तम",null,46,19,19,19,19]
[47,11,"A",4781,"Aakash Suwasiya","Bhanwar Lal","Chhoti Devi","2007-03-25",9610279300,1,3,2,1,3,1,3,2,1,3,1,3,2,1,3,1,3,2,1,3,40,"D","सामान्य",null,47,10,10,10,10]
[48,11,"A",4985,"Aakash Suwasiya","Bhanwar Lal","Chhoti Devi","2007-03-26",9610279300,5,3,4,2,5,5,3,4,2,5,5,3,4,2,5,5,3,4,2,5,76,"B","उत्तम",null,48,19,19,19,19]
[49,11,"A",4968,"Aakash Suwasiya","Bhanwar Lal","Chhoti Devi","2007-03-27",9610279300,3,5,3,2,4,3,5,3,2,4,3,5,3,2,4,3,5,3,2,4,68,"B","उत्तम",null,49,17,17,17,17]
[50,11,"A",4969,"Aakash Suwasiya","Bhanwar Lal","Chhoti Devi","2007-03-28",9610279300,5,4,2,3,5,5,4,2,3,5,5,4,2,3,5,5,4,2,3,5,76,"B","उत्तम",null,50,19,19,19,19]
[51,11,"A",4774,"Aakash Suwasiya","Bhanwar Lal","Chhoti Devi","2007-03-29",9610279300,1,3,2,1,3,1,3,2,1,3,1,3,2,1,3,1,3,2,1,3,40,"D","सामान्य",null,51,10,10,10,10]
[52,11,"A",4604,"Aakash Suwasiya","Bhanwar Lal","Chhoti Devi","2007-03-30",9610279300,5,3,4,2,5,5,3,4,2,5,5,3,4,2,5,5,3,4,2,5,76,"B","उत्तम",null,52,19,19,19,19]
[53,11,"A",4971,"Aakash Suwasiya","Bhanwar Lal","Chhoti Devi","2007-03-31",9610279300,3,5,3,2,4,3,5,3,2,4,3,5,3,2,4,3,5,3,2,4,68,"B","उत्तम",null,53,17,17,17,17]
[54,11,"A",4693,"Aakash Suwasiya","Bhanwar Lal","Chhoti Devi","2007-04-01",9610279300,5,4,2,3,5,5,4,2,3,5,5,4,2,3,5,5,4,2,3,5,76,"B","उत्तम",null,54,19,19,19,19]
[55,11,"A",4922,"Aakash Suwasiya","Bhanwar Lal","Chhoti Devi","2007-04-02",9610279300,1,3,2,1,3,1,3,2,1,3,1,3,2,1,3,1,3,2,1,3,40,"D","सामान्य",null,55,10,10,10,10]
[56,11,"A",5362,"Aakash Suwasiya","Bhanwar Lal","Chhoti Devi","2007-04-03",9610279300,5,3,4,2,5,5,3,4,2,5,5,3,4,2,5,5,3,4,2,5,76,"B","उत्तम",null,56,19,19,19,19]
[57,11,"A",5361,"Aakash Suwasiya","Bhanwar Lal","Chhoti Devi","2007-04-04",9610279300,3,5,3,2,4,3,5,3,2,4,3,5,3,2,4,3,5,3,2,4,68,"B","उत्तम",null,57,17,17,17,17]
[58,11,"A",4935,"Aakash Suwasiya","Bhanwar Lal","Chhoti Devi","2007-04-05",9610279300,5,4,2,3,5,5,4,2,3,5,5,4,2,3,5,5,4,2,3,5,76,"B","उत्तम",null,58,19,19,19,19]
[59,11,"A",5009,"Aakash Suwasiya","Bhanwar Lal","Chhoti Devi","2007-04-06",9610279300,1,3,2,1,3,1,3,2,1,3,1,3,2,1,3,1,3,2,1,3,40,"D","सामान्य",null,59,10,10,10,10]
[60,11,"B",5444,"Aakash Suwasiya","Bhanwar Lal","Chhoti Devi","2007-04-07",9610279300,5,3,4,2,5,5,3,4,2,5,5,3,4,2,5,5,3,4,2,5,76,"B","उत्तम",null,60,19,19,19,19]
[61,11,"B",5018,"Aakash Suwasiya","Bhanwar Lal","Chhoti Devi","2007-04-08",9610279300,3,5,3,2,4,3,5,3,2,4,3,5,3,2,4,3,5,3,2,4,68,"B","उत्तम",null,61,17,17,17,17]
[62,11,"B",4844,"Aakash Suwasiya","Bhanwar Lal","Chhoti Devi","2007-04-09",9610279300,5,4,2,3,5,5,4,2,3,5,5,4,2,3,5,5,4,2,3,5,76,"B","उत्तम",null,62,19,19,19,19]
[63,11,"B",4896,"Aakash Suwasiya","Bhanwar Lal","Chhoti Devi","2007-04-10",9610279300,1,3,2,1,3,1,3,2,1,3,1,3,2,1,3,1,3,2,1,3,40,"D","सामान्य",null,63,10,10,10,10]
[64,11,"B",4263,"Aakash Suwasiya","Bhanwar Lal","Chhoti Devi","2007-04-11",9610279300,5,3,4,2,5,5,3,4,2,5,5,3,4,2,5,5,3,4,2,5,76,"B","उत्तम",null,64,19,19,19,19]
[65,11,"B",4936,"Aakash Suwasiya","Bhanwar Lal","Chhoti Devi","2007-04-12",9610279300,3,5,3,2,4,3,5,3,2,4,3,5,3,2,4,3,5,3,2,4,68,"B","उत्तम",null,65,17,17,17,17]
[{"$f":"IF(E75=\"\",\"\",ROW(66:66))","v":66},11,"B",4958,"Aakash Suwasiya","Bhanwar Lal","Chhoti Devi","2007-04-13",9610279300,5,4,2,3,5,5,4,2,3,5,5,4,2,3,5,5,4,2,3,5,{"$f":"SUM(J75:AC75)","v":76},{"$f":"IF(AD75>=80,\"A\",IF(AD75>=60,\"B\",IF(AD75>=59,\"C\",\"D\")))","v":"B"},{"$f":"IF(AD75=100,\"श्रैष्ठ\",IF(AD75>=80,\"उत्कृष्ट\",IF(AD75>=60,\"उत्तम\",IF(AD75>=50,\"अच्छा\",\"सामान्य\"))))","v":"उत्तम"},null,66,{"$f":"SUM(J75:N75)","v":19},{"$f":"SUM(O75:S75)","v":19},{"$f":"SUM(T75:X75)","v":19},{"$f":"SUM(Y75:AC75)","v":19}]
[67,11,"B",4999,"Aakash Suwasiya","Bhanwar Lal","Chhoti Devi","2007-04-14",9610279300,1,3,2,1,3,1,3,2,1,3,1,3,2,1,3,1,3,2,1,3,40,"D","सामान्य",null,67,10,10,10,10]
[68,11,"B",4801,"Aakash Suwasiya","Bhanwar Lal","Chhoti Devi","2007-04-15",9610279300,5,3,4,2,5,5,3,4,2,5,5,3,4,2,5,5,3,4,2,5,76,"B","उत्तम",null,68,19,19,19,19]
[69,11,"B",4954,"Aakash Suwasiya","Bhanwar Lal","Chhoti Devi","2007-04-16",9610279300,3,5,3,2,4,3,5,3,2,4,3,5,3,2,4,3,5,3,2,4,68,"B","उत्तम",null,69,17,17,17,17]
[70,11,"B",5335,"Aakash Suwasiya","Bhanwar Lal","Chhoti Devi","2007-04-17",9610279300,5,4,2,3,5,5,4,2,3,5,5,4,2,3,5,5,4,2,3,5,76,"B","उत्तम",null,70,19,19,19,19]
[71,11,"B",5084,"Aakash Suwasiya","Bhanwar Lal","Chhoti Devi","2007-04-18",9610279300,1,3,2,1,3,1,3,2,1,3,1,3,2,1,3,1,3,2,1,3,40,"D","सामान्य",null,71,10,10,10,10]
[72,11,"B",4576,"Aakash Suwasiya","Bhanwar Lal","Chhoti Devi","2007-04-19",9610279300,5,3,4,2,5,5,3,4,2,5,5,3,4,2,5,5,3,4,2,5,76,"B","उत्तम",null,72,19,19,19,19]
[73,11,"B",4923,"Aakash Suwasiya","Bhanwar Lal","Chhoti Devi","2007-04-20",9610279300,3,5,3,2,4,3,5,3,2,4,3,5,3,2,4,3,5,3,2,4,68,"B","उत्तम",null,73,17,17,17,17]
[74,11,"B",4977,"Aakash Suwasiya","Bhanwar Lal","Chhoti Devi","2007-04-21",9610279300,5,4,2,3,5,5,4,2,3,5,5,4,2,3,5,5,4,2,3,5,76,"B","उत्तम",null,74,19,19,19,19]
[75,11,"B",4485,"Aakash Suwasiya","Bhanwar Lal","Chhoti Devi","2007-04-22",9610279300,1,3,2,1,3,1,3,2,1,3,1,3,2,1,3,1,3,2,1,3,40,"D","सामान्य",null,75,10,10,10,10]
[76,11,"B",4953,"Aakash Suwasiya","Bhanwar Lal","Chhoti Devi","2007-04-23",9610279300,5,5,5,5,5,5,5,5,5,5,5,5,5,5,5,5,5,5,5,5,100,"A","श्रैष्ठ",null,76,25,25,25,25]
[77,11,"B",5002,"Aakash Suwasiya","Bhanwar Lal","Chhoti Devi","2007-04-24",9610279300,3,5,3,2,4,3,5,3,2,4,3,5,3,2,4,3,5,3,2,4,68,"B","उत्तम",null,77,17,17,17,17]
[78,11,"B",4984,"Aakash Suwasiya","Bhanwar Lal","Chhoti Devi","2007-04-25",9610279300,5,4,2,3,5,5,4,2,3,5,5,4,2,3,5,5,4,2,3,5,76,"B","उत्तम",null,78,19,19,19,19]
[79,11,"B",5336,"Aakash Suwasiya","Bhanwar Lal","Chhoti Devi","2007-04-26",9610279300,1,3,2,1,3,1,3,2,1,3,1,3,2,1,3,1,3,2,1,3,40,"D","सामान्य",null,79,10,10,10,10]
[80,11,"B",5042,"Aakash Suwasiya","Bhanwar Lal","Chhoti Devi","2007-04-27",9610279300,5,3,4,2,5,5,3,4,2,5,5,3,4,2,5,5,3,4,2,5,76,"B","उत्तम",null,80,19,19,19,19]
[81,11,"B",5041,"Aakash Suwasiya","Bhanwar Lal","Chhoti Devi","2007-04-28",9610279300,3,5,3,2,4,3,5,3,2,4,3,5,3,2,4,3,5,3,2,4,68,"B","उत्तम",null,81,17,17,17,17]
[82,11,"B",5412,"Aakash Suwasiya","Bhanwar Lal","Chhoti Devi","2007-04-29",9610279300,5,4,2,3,5,5,4,2,3,5,5,4,2,3,5,5,4,2,3,5,76,"B","उत्तम",null,82,19,19,19,19]
[83,11,"B",5366,"Aakash Suwasiya","Bhanwar Lal","Chhoti Devi","2007-04-30",9610279300,1,3,2,1,3,1,3,2,1,3,1,3,2,1,3,1,3,2,1,3,40,"D","सामान्य",null,83,10,10,10,10]
[84,11,"B",3882,"Aakash Suwasiya","Bhanwar Lal","Chhoti Devi","2007-05-01",9610279300,5,3,4,2,5,5,3,4,2,5,5,3,4,2,5,5,3,4,2,5,76,"B","उत्तम",null,84,19,19,19,19]
[85,11,"B",4934,"Aakash Suwasiya","Bhanwar Lal","Chhoti Devi","2007-05-02",9610279300,3,5,3,2,4,3,5,3,2,4,3,5,3,2,4,3,5,3,2,4,68,"B","उत्तम",null,85,17,17,17,17]
[86,11,"B",3867,"Aakash Suwasiya","Bhanwar Lal","Chhoti Devi","2007-05-03",9610279300,5,4,2,3,5,5,4,2,3,5,5,4,2,3,5,5,4,2,3,5,76,"B","उत्तम",null,86,19,19,19,19]
[87,11,"B",5405,"Aakash Suwasiya","Bhanwar Lal","Chhoti Devi","2007-05-04",9610279300,1,3,2,1,3,1,3,2,1,3,1,3,2,1,3,1,3,2,1,3,40,"D","सामान्य",null,87,10,10,10,10]
[88,11,"B",4998,"Aakash Suwasiya","Bhanwar Lal","Chhoti Devi","2007-05-05",9610279300,5,3,4,2,5,5,3,4,2,5,5,3,4,2,5,5,3,4,2,5,76,"B","उत्तम",null,88,19,19,19,19]
[89,11,"B",4967,"Aakash Suwasiya","Bhanwar Lal","Chhoti Devi","2007-05-06",9610279300,3,5,3,2,4,3,5,3,2,4,3,5,3,2,4,3,5,3,2,4,68,"B","उत्तम",null,89,17,17,17,17]
[90,11,"B",5034,"Aakash Suwasiya","Bhanwar Lal","Chhoti Devi","2007-05-07",9610279300,5,4,2,3,5,5,4,2,3,5,5,4,2,3,5,5,4,2,3,5,76,"B","उत्तम",null,90,19,19,19,19]
[91,11,"B",5382,"Aakash Suwasiya","Bhanwar Lal","Chhoti Devi","2007-05-08",9610279300,1,3,2,1,3,1,3,2,1,3,1,3,2,1,3,1,3,2,1,3,40,"D","सामान्य",null,91,10,10,10,10]
[92,11,"B",4523,"Aakash Suwasiya","Bhanwar Lal","Chhoti Devi","2007-05-09",9610279300,5,3,4,2,5,5,3,4,2,5,5,3,4,2,5,5,3,4,2,5,76,"B","उत्तम",null,92,19,19,19,19]
[93,11,"B",4928,"Aakash Suwasiya","Bhanwar Lal","Chhoti Devi","2007-05-10",9610279300,3,5,3,2,4,3,5,3,2,4,3,5,3,2,4,3,5,3,2,4,68,"B","उत्तम",null,93,17,17,17,17]
[94,11,"B",5337,"Aakash Suwasiya","Bhanwar Lal","Chhoti Devi","2007-05-11",9610279300,5,4,2,3,5,5,4,2,3,5,5,4,2,3,5,5,4,2,3,5,76,"B","उत्तम",null,94,19,19,19,19]
[95,11,"B",5421,"Aakash Suwasiya","Bhanwar Lal","Chhoti Devi","2007-05-12",9610279300,1,3,2,1,3,1,3,2,1,3,1,3,2,1,3,1,3,2,1,3,40,"D","सामान्य",null,95,10,10,10,10]
[96,11,"B",5345,"Aakash Suwasiya","Bhanwar Lal","Chhoti Devi","2007-05-13",9610279300,5,3,4,2,5,5,3,4,2,5,5,3,4,2,5,5,3,4,2,5,76,"B","उत्तम",null,96,19,19,19,19]
[97,11,"B",5440,"Aakash Suwasiya","Bhanwar Lal","Chhoti Devi","2007-05-14",9610279300,3,5,3,2,4,3,5,3,2,4,3,5,3,2,4,3,5,3,2,4,68,"B","उत्तम",null,97,17,17,17,17]
[98,11,"B",5016,"Aakash Suwasiya","Bhanwar Lal","Chhoti Devi","2007-05-15",9610279300,5,4,2,3,5,5,4,2,3,5,5,4,2,3,5,5,4,2,3,5,76,"B","उत्तम",null,98,19,19,19,19]
[99,11,"B",5033,"Aakash Suwasiya","Bhanwar Lal","Chhoti Devi","2007-05-16",9610279300,1,3,2,1,3,1,3,2,1,3,1,3,2,1,3,1,3,2,1,3,40,"D","सामान्य",null,99,10,10,10,10]
["",null,null,null,null,null,null,null,null,null,null,null,null,null,null,null,null,null,null,null,null,null,null,null,null,null,null,null,null,0,"D","सामान्य",null,100,0,0,0,0]
["",null,null,null,null,null,null,null,null,null,null,null,null,null,null,null,null,null,null,null,null,null,null,null,null,null,null,null,null,0,"D","सामान्य",null,101,0,0,0,0]
["",null,null,null,null,null,null,null,null,null,null,null,null,null,null,null,null,null,null,null,null,null,null,null,null,null,null,null,null,0,"D","सामान्य",null,102,0,0,0,0]
["",null,null,null,null,null,null,null,null,null,null,null,null,null,null,null,null,null,null,null,null,null,null,null,null,null,null,null,null,0,"D","सामान्य",null,103,0,0,0,0]
["",null,null,null,null,null,null,null,null,null,null,null,null,null,null,null,null,null,null,null,null,null,null,null,null,null,null,null,null,0,"D","सामान्य",null,104,0,0,0,0]
["",null,null,null,null,null,null,null,null,null,null,null,null,null,null,null,null,null,null,null,null,null,null,null,null,null,null,null,null,0,"D","सामान्य",null,105,0,0,0,0]
["",null,null,null,null,null,null,null,null,null,null,null,null,null,null,null,null,null,null,null,null,null,null,null,null,null,null,null,null,0,"D","सामान्य",null,106,0,0,0,0]
["",null,null,null,null,null,null,null,null,null,null,null,null,null,null,null,null,null,null,null,null,null,null,null,null,null,null,null,null,0,"D","सामान्य",null,107,0,0,0,0]
["",null,null,null,null,null,null,null,null,null,null,null,null,null,null,null,null,null,null,null,null,null,null,null,null,null,null,null,null,0,"D","सामान्य",null,108,0,0,0,0]
["",null,null,null,null,null,null,null,null,null,null,null,null,null,null,null,null,null,null,null,null,null,null,null,null,null,null,null,null,0,"D","सामान्य",null,109,0,0,0,0]
["",null,null,null,null,null,null,null,null,null,null,null,null,null,null,null,null,null,null,null,null,null,null,null,null,null,null,null,null,0,"D","सामान्य",null,110,0,0,0,0]
["",null,null,null,null,null,null,null,null,null,null,null,null,null,null,null,null,null,null,null,null,null,null,null,null,null,null,null,null,0,"D","सामान्य",null,111,0,0,0,0]
["",null,null,null,null,null,null,null,null,null,null,null,null,null,null,null,null,null,null,null,null,null,null,null,null,null,null,null,null,0,"D","सामान्य",null,112,0,0,0,0]
["",null,null,null,null,null,null,null,null,null,null,null,null,null,null,null,null,null,null,null,null,null,null,null,null,null,null,null,null,0,"D","सामान्य",null,113,0,0,0,0]
["",null,null,null,null,null,null,null,null,null,null,null,null,null,null,null,null,null,null,null,null,null,null,null,null,null,null,null,null,0,"D","सामान्य",null,114,0,0,0,0]
["",null,null,null,null,null,null,null,null,null,null,null,null,null,null,null,null,null,null,null,null,null,null,null,null,null,null,null,null,0,"D","सामान्य",null,115,0,0,0,0]
["",null,null,null,null,null,null,null,null,null,null,null,null,null,null,null,null,null,null,null,null,null,null,null,null,null,null,null,null,0,"D","सामान्य",null,116,0,0,0,0]
["",null,null,null,null,null,null,null,null,null,null,null,null,null,null,null,null,null,null,null,null,null,null,null,null,null,null,null,null,0,"D","सामान्य",null,117,0,0,0,0]
["",null,null,null,null,null,null,null,null,null,null,null,null,null,null,null,null,null,null,null,null,null,null,null,null,null,null,null,null,0,"D","सामान्य",null,118,0,0,0,0]
["",null,null,null,null,null,null,null,null,null,null,null,null,null,null,null,null,null,null,null,null,null,null,null,null,null,null,null,null,0,"D","सामान्य",null,119,0,0,0,0]
["",null,null,null,null,null,null,null,null,null,null,null,null,null,null,null,null,null,null,null,null,null,null,null,null,null,null,null,null,0,"D","सामान्य",null,120,0,0,0,0]
["",null,null,null,null,null,null,null,null,null,null,null,null,null,null,null,null,null,null,null,null,null,null,null,null,null,null,null,null,0,"D","सामान्य",null,121,0,0,0,0]
["",null,null,null,null,null,null,null,null,null,null,null,null,null,null,null,null,null,null,null,null,null,null,null,null,null,null,null,null,0,"D","सामान्य",null,122,0,0,0,0]
["",null,null,null,null,null,null,null,null,null,null,null,null,null,null,null,null,null,null,null,null,null,null,null,null,null,null,null,null,0,"D","सामान्य",null,123,0,0,0,0]
["",null,null,null,null,null,null,null,null,null,null,null,null,null,null,null,null,null,null,null,null,null,null,null,null,null,null,null,null,0,"D","सामान्य",null,124,0,0,0,0]
["",null,null,null,null,null,null,null,null,null,null,null,null,null,null,null,null,null,null,null,null,null,null,null,null,null,null,null,null,0,"D","सामान्य",null,125,0,0,0,0]
["",null,null,null,null,null,null,null,null,null,null,null,null,null,null,null,null,null,null,null,null,null,null,null,null,null,null,null,null,0,"D","सामान्य",null,126,0,0,0,0]
["",null,null,null,null,null,null,null,null,null,null,null,null,null,null,null,null,null,null,null,null,null,null,null,null,null,null,null,null,0,"D","सामान्य",null,127,0,0,0,0]
["",null,null,null,null,null,null,null,null,null,null,null,null,null,null,null,null,null,null,null,null,null,null,null,null,null,null,null,null,0,"D","सामान्य",null,128,0,0,0,0]
["",null,null,null,null,null,null,null,null,null,null,null,null,null,null,null,null,null,null,null,null,null,null,null,null,null,null,null,null,0,"D","सामान्य",null,129,0,0,0,0]
[{"$f":"IF(E139=\"\",\"\",ROW(130:130))","v":""},null,null,null,null,null,null,null,null,null,null,null,null,null,null,null,null,null,null,null,null,null,null,null,null,null,null,null,null,{"$f":"SUM(J139:AC139)","v":0},{"$f":"IF(AD139>=80,\"A\",IF(AD139>=60,\"B\",IF(AD139>=59,\"C\",\"D\")))","v":"D"},{"$f":"IF(AD139=100,\"श्रैष्ठ\",IF(AD139>=80,\"उत्कृष्ट\",IF(AD139>=60,\"उत्तम\",IF(AD139>=50,\"अच्छा\",\"सामान्य\"))))","v":"सामान्य"},null,130,{"$f":"SUM(J139:N139)","v":0},{"$f":"SUM(O139:S139)","v":0},{"$f":"SUM(T139:X139)","v":0},{"$f":"SUM(Y139:AC139)","v":0}]
["",null,null,null,null,null,null,null,null,null,null,null,null,null,null,null,null,null,null,null,null,null,null,null,null,null,null,null,null,0,"D","सामान्य",null,131,0,0,0,0]
["",null,null,null,null,null,null,null,null,null,null,null,null,null,null,null,null,null,null,null,null,null,null,null,null,null,null,null,null,0,"D","सामान्य",null,132,0,0,0,0]
["",null,null,null,null,null,null,null,null,null,null,null,null,null,null,null,null,null,null,null,null,null,null,null,null,null,null,null,null,0,"D","सामान्य",null,133,0,0,0,0]
["",null,null,null,null,null,null,null,null,null,null,null,null,null,null,null,null,null,null,null,null,null,null,null,null,null,null,null,null,0,"D","सामान्य",null,134,0,0,0,0]
["",null,null,null,null,null,null,null,null,null,null,null,null,null,null,null,null,null,null,null,null,null,null,null,null,null,null,null,null,0,"D","सामान्य",null,135,0,0,0,0]
["",null,null,null,null,null,null,null,null,null,null,null,null,null,null,null,null,null,null,null,null,null,null,null,null,null,null,null,null,0,"D","सामान्य",null,136,0,0,0,0]
["",null,null,null,null,null,null,null,null,null,null,null,null,null,null,null,null,null,null,null,null,null,null,null,null,null,null,null,null,0,"D","सामान्य",null,137,0,0,0,0]
["",null,null,null,null,null,null,null,null,null,null,null,null,null,null,null,null,null,null,null,null,null,null,null,null,null,null,null,null,0,"D","सामान्य",null,138,0,0,0,0]
["",null,null,null,null,null,null,null,null,null,null,null,null,null,null,null,null,null,null,null,null,null,null,null,null,null,null,null,null,0,"D","सामान्य",null,139,0,0,0,0]
["",null,null,null,null,null,null,null,null,null,null,null,null,null,null,null,null,null,null,null,null,null,null,null,null,null,null,null,null,0,"D","सामान्य",null,140,0,0,0,0]
["",null,null,null,null,null,null,null,null,null,null,null,null,null,null,null,null,null,null,null,null,null,null,null,null,null,null,null,null,0,"D","सामान्य",null,141,0,0,0,0]
["",null,null,null,null,null,null,null,null,null,null,null,null,null,null,null,null,null,null,null,null,null,null,null,null,null,null,null,null,0,"D","सामान्य",null,142,0,0,0,0]
["",null,null,null,null,null,null,null,null,null,null,null,null,null,null,null,null,null,null,null,null,null,null,null,null,null,null,null,null,0,"D","सामान्य",null,143,0,0,0,0]
["",null,null,null,null,null,null,null,null,null,null,null,null,null,null,null,null,null,null,null,null,null,null,null,null,null,null,null,null,0,"D","सामान्य",null,144,0,0,0,0]
["",null,null,null,null,null,null,null,null,null,null,null,null,null,null,null,null,null,null,null,null,null,null,null,null,null,null,null,null,0,"D","सामान्य",null,145,0,0,0,0]
["",null,null,null,null,null,null,null,null,null,null,null,null,null,null,null,null,null,null,null,null,null,null,null,null,null,null,null,null,0,"D","सामान्य",null,146,0,0,0,0]
["",null,null,null,null,null,null,null,null,null,null,null,null,null,null,null,null,null,null,null,null,null,null,null,null,null,null,null,null,0,"D","सामान्य",null,147,0,0,0,0]
["",null,null,null,null,null,null,null,null,null,null,null,null,null,null,null,null,null,null,null,null,null,null,null,null,null,null,null,null,0,"D","सामान्य",null,148,0,0,0,0]
["",null,null,null,null,null,null,null,null,null,null,null,null,null,null,null,null,null,null,null,null,null,null,null,null,null,null,null,null,0,"D","सामान्य",null,149,0,0,0,0]
["",null,null,null,null,null,null,null,null,null,null,null,null,null,null,null,null,null,null,null,null,null,null,null,null,null,null,null,null,0,"D","सामान्य",null,150,0,0,0,0]
["",null,null,null,null,null,null,null,null,null,null,null,null,null,null,null,null,null,null,null,null,null,null,null,null,null,null,null,null,0,"D","सामान्य",null,151,0,0,0,0]
["",null,null,null,null,null,null,null,null,null,null,null,null,null,null,null,null,null,null,null,null,null,null,null,null,null,null,null,null,0,"D","सामान्य",null,152,0,0,0,0]
["",null,null,null,null,null,null,null,null,null,null,null,null,null,null,null,null,null,null,null,null,null,null,null,null,null,null,null,null,0,"D","सामान्य",null,153,0,0,0,0]
["",null,null,null,null,null,null,null,null,null,null,null,null,null,null,null,null,null,null,null,null,null,null,null,null,null,null,null,null,0,"D","सामान्य",null,154,0,0,0,0]
["",null,null,null,null,null,null,null,null,null,null,null,null,null,null,null,null,null,null,null,null,null,null,null,null,null,null,null,null,0,"D","सामान्य",null,155,0,0,0,0]
["",null,null,null,null,null,null,null,null,null,null,null,null,null,null,null,null,null,null,null,null,null,null,null,null,null,null,null,null,0,"D","सामान्य",null,156,0,0,0,0]
["",null,null,null,null,null,null,null,null,null,null,null,null,null,null,null,null,null,null,null,null,null,null,null,null,null,null,null,null,0,"D","सामान्य",null,157,0,0,0,0]
["",null,null,null,null,null,null,null,null,null,null,null,null,null,null,null,null,null,null,null,null,null,null,null,null,null,null,null,null,0,"D","सामान्य",null,158,0,0,0,0]
["",null,null,null,null,null,null,null,null,null,null,null,null,null,null,null,null,null,null,null,null,null,null,null,null,null,null,null,null,0,"D","सामान्य",null,159,0,0,0,0]
["",null,null,null,null,null,null,null,null,null,null,null,null,null,null,null,null,null,null,null,null,null,null,null,null,null,null,null,null,0,"D","सामान्य",null,160,0,0,0,0]
["",null,null,null,null,null,null,null,null,null,null,null,null,null,null,null,null,null,null,null,null,null,null,null,null,null,null,null,null,0,"D","सामान्य",null,161,0,0,0,0]
["",null,null,null,null,null,null,null,null,null,null,null,null,null,null,null,null,null,null,null,null,null,null,null,null,null,null,null,null,0,"D","सामान्य",null,162,0,0,0,0]
["",null,null,null,null,null,null,null,null,null,null,null,null,null,null,null,null,null,null,null,null,null,null,null,null,null,null,null,null,0,"D","सामान्य",null,163,0,0,0,0]
["",null,null,null,null,null,null,null,null,null,null,null,null,null,null,null,null,null,null,null,null,null,null,null,null,null,null,null,null,0,"D","सामान्य",null,164,0,0,0,0]
["",null,null,null,null,null,null,null,null,null,null,null,null,null,null,null,null,null,null,null,null,null,null,null,null,null,null,null,null,0,"D","सामान्य",null,165,0,0,0,0]
["",null,null,null,null,null,null,null,null,null,null,null,null,null,null,null,null,null,null,null,null,null,null,null,null,null,null,null,null,0,"D","सामान्य",null,166,0,0,0,0]
["",null,null,null,null,null,null,null,null,null,null,null,null,null,null,null,null,null,null,null,null,null,null,null,null,null,null,null,null,0,"D","सामान्य",null,167,0,0,0,0]
["",null,null,null,null,null,null,null,null,null,null,null,null,null,null,null,null,null,null,null,null,null,null,null,null,null,null,null,null,0,"D","सामान्य",null,168,0,0,0,0]
["",null,null,null,null,null,null,null,null,null,null,null,null,null,null,null,null,null,null,null,null,null,null,null,null,null,null,null,null,0,"D","सामान्य",null,169,0,0,0,0]
["",null,null,null,null,null,null,null,null,null,null,null,null,null,null,null,null,null,null,null,null,null,null,null,null,null,null,null,null,0,"D","सामान्य",null,170,0,0,0,0]
["",null,null,null,null,null,null,null,null,null,null,null,null,null,null,null,null,null,null,null,null,null,null,null,null,null,null,null,null,0,"D","सामान्य",null,171,0,0,0,0]
["",null,null,null,null,null,null,null,null,null,null,null,null,null,null,null,null,null,null,null,null,null,null,null,null,null,null,null,null,0,"D","सामान्य",null,172,0,0,0,0]
["",null,null,null,null,null,null,null,null,null,null,null,null,null,null,null,null,null,null,null,null,null,null,null,null,null,null,null,null,0,"D","सामान्य",null,173,0,0,0,0]
["",null,null,null,null,null,null,null,null,null,null,null,null,null,null,null,null,null,null,null,null,null,null,null,null,null,null,null,null,0,"D","सामान्य",null,174,0,0,0,0]
["",null,null,null,null,null,null,null,null,null,null,null,null,null,null,null,null,null,null,null,null,null,null,null,null,null,null,null,null,0,"D","सामान्य",null,175,0,0,0,0]
["",null,null,null,null,null,null,null,null,null,null,null,null,null,null,null,null,null,null,null,null,null,null,null,null,null,null,null,null,0,"D","सामान्य",null,176,0,0,0,0]
["",null,null,null,null,null,null,null,null,null,null,null,null,null,null,null,null,null,null,null,null,null,null,null,null,null,null,null,null,0,"D","सामान्य",null,177,0,0,0,0]
["",null,null,null,null,null,null,null,null,null,null,null,null,null,null,null,null,null,null,null,null,null,null,null,null,null,null,null,null,0,"D","सामान्य",null,178,0,0,0,0]
["",null,null,null,null,null,null,null,null,null,null,null,null,null,null,null,null,null,null,null,null,null,null,null,null,null,null,null,null,0,"D","सामान्य",null,179,0,0,0,0]
["",null,null,null,null,null,null,null,null,null,null,null,null,null,null,null,null,null,null,null,null,null,null,null,null,null,null,null,null,0,"D","सामान्य",null,180,0,0,0,0]
["",null,null,null,null,null,null,null,null,null,null,null,null,null,null,null,null,null,null,null,null,null,null,null,null,null,null,null,null,0,"D","सामान्य",null,181,0,0,0,0]
["",null,null,null,null,null,null,null,null,null,null,null,null,null,null,null,null,null,null,null,null,null,null,null,null,null,null,null,null,0,"D","सामान्य",null,182,0,0,0,0]
["",null,null,null,null,null,null,null,null,null,null,null,null,null,null,null,null,null,null,null,null,null,null,null,null,null,null,null,null,0,"D","सामान्य",null,183,0,0,0,0]
["",null,null,null,null,null,null,null,null,null,null,null,null,null,null,null,null,null,null,null,null,null,null,null,null,null,null,null,null,0,"D","सामान्य",null,184,0,0,0,0]
["",null,null,null,null,null,null,null,null,null,null,null,null,null,null,null,null,null,null,null,null,null,null,null,null,null,null,null,null,0,"D","सामान्य",null,185,0,0,0,0]
["",null,null,null,null,null,null,null,null,null,null,null,null,null,null,null,null,null,null,null,null,null,null,null,null,null,null,null,null,0,"D","सामान्य",null,186,0,0,0,0]
["",null,null,null,null,null,null,null,null,null,null,null,null,null,null,null,null,null,null,null,null,null,null,null,null,null,null,null,null,0,"D","सामान्य",null,187,0,0,0,0]
["",null,null,null,null,null,null,null,null,null,null,null,null,null,null,null,null,null,null,null,null,null,null,null,null,null,null,null,null,0,"D","सामान्य",null,188,0,0,0,0]
["",null,null,null,null,null,null,null,null,null,null,null,null,null,null,null,null,null,null,null,null,null,null,null,null,null,null,null,null,0,"D","सामान्य",null,189,0,0,0,0]
["",null,null,null,null,null,null,null,null,null,null,null,null,null,null,null,null,null,null,null,null,null,null,null,null,null,null,null,null,0,"D","सामान्य",null,190,0,0,0,0]
["",null,null,null,null,null,null,null,null,null,null,null,null,null,null,null,null,null,null,null,null,null,null,null,null,null,null,null,null,0,"D","सामान्य",null,191,0,0,0,0]
["",null,null,null,null,null,null,null,null,null,null,null,null,null,null,null,null,null,null,null,null,null,null,null,null,null,null,null,null,0,"D","सामान्य",null,192,0,0,0,0]
["",null,null,null,null,null,null,null,null,null,null,null,null,null,null,null,null,null,null,null,null,null,null,null,null,null,null,null,null,0,"D","सामान्य",null,193,0,0,0,0]
[{"$f":"IF(E203=\"\",\"\",ROW(194:194))","v":""},null,null,null,null,null,null,null,null,null,null,null,null,null,null,null,null,null,null,null,null,null,null,null,null,null,null,null,null,{"$f":"SUM(J203:AC203)","v":0},{"$f":"IF(AD203>=80,\"A\",IF(AD203>=60,\"B\",IF(AD203>=59,\"C\",\"D\")))","v":"D"},{"$f":"IF(AD203=100,\"श्रैष्ठ\",IF(AD203>=80,\"उत्कृष्ट\",IF(AD203>=60,\"उत्तम\",IF(AD203>=50,\"अच्छा\",\"सामान्य\"))))","v":"सामान्य"},null,194,{"$f":"SUM(J203:N203)","v":0},{"$f":"SUM(O203:S203)","v":0},{"$f":"SUM(T203:X203)","v":0},{"$f":"SUM(Y203:AC203)","v":0}]
["",null,null,null,null,null,null,null,null,null,null,null,null,null,null,null,null,null,null,null,null,null,null,null,null,null,null,null,null,0,"D","सामान्य",null,195,0,0,0,0]
["",null,null,null,null,null,null,null,null,null,null,null,null,null,null,null,null,null,null,null,null,null,null,null,null,null,null,null,null,0,"D","सामान्य",null,196,0,0,0,0]
["",null,null,null,null,null,null,null,null,null,null,null,null,null,null,null,null,null,null,null,null,null,null,null,null,null,null,null,null,0,"D","सामान्य",null,197,0,0,0,0]
["",null,null,null,null,null,null,null,null,null,null,null,null,null,null,null,null,null,null,null,null,null,null,null,null,null,null,null,null,0,"D","सामान्य",null,198,0,0,0,0]
["",null,null,null,null,null,null,null,null,null,null,null,null,null,null,null,null,null,null,null,null,null,null,null,null,null,null,null,null,0,"D","सामान्य",null,199,0,0,0,0]
["",null,null,null,null,null,null,null,null,null,null,null,null,null,null,null,null,null,null,null,null,null,null,null,null,null,null,null,null,0,"D","सामान्य",null,200,0,0,0,0]
["",null,null,null,null,null,null,null,null,null,null,null,null,null,null,null,null,null,null,null,null,null,null,null,null,null,null,null,null,0,"D","सामान्य",null,201,0,0,0,0]
["",null,null,null,null,null,null,null,null,null,null,null,null,null,null,null,null,null,null,null,null,null,null,null,null,null,null,null,null,0,"D","सामान्य",null,202,0,0,0,0]
["",null,null,null,null,null,null,null,null,null,null,null,null,null,null,null,null,null,null,null,null,null,null,null,null,null,null,null,null,0,"D","सामान्य",null,203,0,0,0,0]
["",null,null,null,null,null,null,null,null,null,null,null,null,null,null,null,null,null,null,null,null,null,null,null,null,null,null,null,null,0,"D","सामान्य",null,204,0,0,0,0]
["",null,null,null,null,null,null,null,null,null,null,null,null,null,null,null,null,null,null,null,null,null,null,null,null,null,null,null,null,0,"D","सामान्य",null,205,0,0,0,0]
["",null,null,null,null,null,null,null,null,null,null,null,null,null,null,null,null,null,null,null,null,null,null,null,null,null,null,null,null,0,"D","सामान्य",null,206,0,0,0,0]
["",null,null,null,null,null,null,null,null,null,null,null,null,null,null,null,null,null,null,null,null,null,null,null,null,null,null,null,null,0,"D","सामान्य",null,207,0,0,0,0]
["",null,null,null,null,null,null,null,null,null,null,null,null,null,null,null,null,null,null,null,null,null,null,null,null,null,null,null,null,0,"D","सामान्य",null,208,0,0,0,0]
["",null,null,null,null,null,null,null,null,null,null,null,null,null,null,null,null,null,null,null,null,null,null,null,null,null,null,null,null,0,"D","सामान्य",null,209,0,0,0,0]
["",null,null,null,null,null,null,null,null,null,null,null,null,null,null,null,null,null,null,null,null,null,null,null,null,null,null,null,null,0,"D","सामान्य",null,210,0,0,0,0]
["",null,null,null,null,null,null,null,null,null,null,null,null,null,null,null,null,null,null,null,null,null,null,null,null,null,null,null,null,0,"D","सामान्य",null,211,0,0,0,0]
["",null,null,null,null,null,null,null,null,null,null,null,null,null,null,null,null,null,null,null,null,null,null,null,null,null,null,null,null,0,"D","सामान्य",null,212,0,0,0,0]
["",null,null,null,null,null,null,null,null,null,null,null,null,null,null,null,null,null,null,null,null,null,null,null,null,null,null,null,null,0,"D","सामान्य",null,213,0,0,0,0]
["",null,null,null,null,null,null,null,null,null,null,null,null,null,null,null,null,null,null,null,null,null,null,null,null,null,null,null,null,0,"D","सामान्य",null,214,0,0,0,0]
["",null,null,null,null,null,null,null,null,null,null,null,null,null,null,null,null,null,null,null,null,null,null,null,null,null,null,null,null,0,"D","सामान्य",null,215,0,0,0,0]
["",null,null,null,null,null,null,null,null,null,null,null,null,null,null,null,null,null,null,null,null,null,null,null,null,null,null,null,null,0,"D","सामान्य",null,216,0,0,0,0]
["",null,null,null,null,null,null,null,null,null,null,null,null,null,null,null,null,null,null,null,null,null,null,null,null,null,null,null,null,0,"D","सामान्य",null,217,0,0,0,0]
["",null,null,null,null,null,null,null,null,null,null,null,null,null,null,null,null,null,null,null,null,null,null,null,null,null,null,null,null,0,"D","सामान्य",null,218,0,0,0,0]
["",null,null,null,null,null,null,null,null,null,null,null,null,null,null,null,null,null,null,null,null,null,null,null,null,null,null,null,null,0,"D","सामान्य",null,219,0,0,0,0]
["",null,null,null,null,null,null,null,null,null,null,null,null,null,null,null,null,null,null,null,null,null,null,null,null,null,null,null,null,0,"D","सामान्य",null,220,0,0,0,0]
["",null,null,null,null,null,null,null,null,null,null,null,null,null,null,null,null,null,null,null,null,null,null,null,null,null,null,null,null,0,"D","सामान्य",null,221,0,0,0,0]
["",null,null,null,null,null,null,null,null,null,null,null,null,null,null,null,null,null,null,null,null,null,null,null,null,null,null,null,null,0,"D","सामान्य",null,222,0,0,0,0]
["",null,null,null,null,null,null,null,null,null,null,null,null,null,null,null,null,null,null,null,null,null,null,null,null,null,null,null,null,0,"D","सामान्य",null,223,0,0,0,0]
["",null,null,null,null,null,null,null,null,null,null,null,null,null,null,null,null,null,null,null,null,null,null,null,null,null,null,null,null,0,"D","सामान्य",null,224,0,0,0,0]
["",null,null,null,null,null,null,null,null,null,null,null,null,null,null,null,null,null,null,null,null,null,null,null,null,null,null,null,null,0,"D","सामान्य",null,225,0,0,0,0]
["",null,null,null,null,null,null,null,null,null,null,null,null,null,null,null,null,null,null,null,null,null,null,null,null,null,null,null,null,0,"D","सामान्य",null,226,0,0,0,0]
["",null,null,null,null,null,null,null,null,null,null,null,null,null,null,null,null,null,null,null,null,null,null,null,null,null,null,null,null,0,"D","सामान्य",null,227,0,0,0,0]
["",null,null,null,null,null,null,null,null,null,null,null,null,null,null,null,null,null,null,null,null,null,null,null,null,null,null,null,null,0,"D","सामान्य",null,228,0,0,0,0]
["",null,null,null,null,null,null,null,null,null,null,null,null,null,null,null,null,null,null,null,null,null,null,null,null,null,null,null,null,0,"D","सामान्य",null,229,0,0,0,0]
["",null,null,null,null,null,null,null,null,null,null,null,null,null,null,null,null,null,null,null,null,null,null,null,null,null,null,null,null,0,"D","सामान्य",null,230,0,0,0,0]
["",null,null,null,null,null,null,null,null,null,null,null,null,null,null,null,null,null,null,null,null,null,null,null,null,null,null,null,null,0,"D","सामान्य",null,231,0,0,0,0]
["",null,null,null,null,null,null,null,null,null,null,null,null,null,null,null,null,null,null,null,null,null,null,null,null,null,null,null,null,0,"D","सामान्य",null,232,0,0,0,0]
["",null,null,null,null,null,null,null,null,null,null,null,null,null,null,null,null,null,null,null,null,null,null,null,null,null,null,null,null,0,"D","सामान्य",null,233,0,0,0,0]
["",null,null,null,null,null,null,null,null,null,null,null,null,null,null,null,null,null,null,null,null,null,null,null,null,null,null,null,null,0,"D","सामान्य",null,234,0,0,0,0]
["",null,null,null,null,null,null,null,null,null,null,null,null,null,null,null,null,null,null,null,null,null,null,null,null,null,null,null,null,0,"D","सामान्य",null,235,0,0,0,0]
["",null,null,null,null,null,null,null,null,null,null,null,null,null,null,null,null,null,null,null,null,null,null,null,null,null,null,null,null,0,"D","सामान्य",null,236,0,0,0,0]
["",null,null,null,null,null,null,null,null,null,null,null,null,null,null,null,null,null,null,null,null,null,null,null,null,null,null,null,null,0,"D","सामान्य",null,237,0,0,0,0]
["",null,null,null,null,null,null,null,null,null,null,null,null,null,null,null,null,null,null,null,null,null,null,null,null,null,null,null,null,0,"D","सामान्य",null,238,0,0,0,0]
["",null,null,null,null,null,null,null,null,null,null,null,null,null,null,null,null,null,null,null,null,null,null,null,null,null,null,null,null,0,"D","सामान्य",null,239,0,0,0,0]
["",null,null,null,null,null,null,null,null,null,null,null,null,null,null,null,null,null,null,null,null,null,null,null,null,null,null,null,null,0,"D","सामान्य",null,240,0,0,0,0]
["",null,null,null,null,null,null,null,null,null,null,null,null,null,null,null,null,null,null,null,null,null,null,null,null,null,null,null,null,0,"D","सामान्य",null,241,0,0,0,0]
["",null,null,null,null,null,null,null,null,null,null,null,null,null,null,null,null,null,null,null,null,null,null,null,null,null,null,null,null,0,"D","सामान्य",null,242,0,0,0,0]
["",null,null,null,null,null,null,null,null,null,null,null,null,null,null,null,null,null,null,null,null,null,null,null,null,null,null,null,null,0,"D","सामान्य",null,243,0,0,0,0]
["",null,null,null,null,null,null,null,null,null,null,null,null,null,null,null,null,null,null,null,null,null,null,null,null,null,null,null,null,0,"D","सामान्य",null,244,0,0,0,0]
["",null,null,null,null,null,null,null,null,null,null,null,null,null,null,null,null,null,null,null,null,null,null,null,null,null,null,null,null,0,"D","सामान्य",null,245,0,0,0,0]
["",null,null,null,null,null,null,null,null,null,null,null,null,null,null,null,null,null,null,null,null,null,null,null,null,null,null,null,null,0,"D","सामान्य",null,246,0,0,0,0]
["",null,null,null,null,null,null,null,null,null,null,null,null,null,null,null,null,null,null,null,null,null,null,null,null,null,null,null,null,0,"D","सामान्य",null,247,0,0,0,0]
["",null,null,null,null,null,null,null,null,null,null,null,null,null,null,null,null,null,null,null,null,null,null,null,null,null,null,null,null,0,"D","सामान्य",null,248,0,0,0,0]
["",null,null,null,null,null,null,null,null,null,null,null,null,null,null,null,null,null,null,null,null,null,null,null,null,null,null,null,null,0,"D","सामान्य",null,249,0,0,0,0]
["",null,null,null,null,null,null,null,null,null,null,null,null,null,null,null,null,null,null,null,null,null,null,null,null,null,null,null,null,0,"D","सामान्य",null,250,0,0,0,0]
["",null,null,null,null,null,null,null,null,null,null,null,null,null,null,null,null,null,null,null,null,null,null,null,null,null,null,null,null,0,"D","सामान्य",null,251,0,0,0,0]
["",null,null,null,null,null,null,null,null,null,null,null,null,null,null,null,null,null,null,null,null,null,null,null,null,null,null,null,null,0,"D","सामान्य",null,252,0,0,0,0]
["",null,null,null,null,null,null,null,null,null,null,null,null,null,null,null,null,null,null,null,null,null,null,null,null,null,null,null,null,0,"D","सामान्य",null,253,0,0,0,0]
["",null,null,null,null,null,null,null,null,null,null,null,null,null,null,null,null,null,null,null,null,null,null,null,null,null,null,null,null,0,"D","सामान्य",null,254,0,0,0,0]
["",null,null,null,null,null,null,null,null,null,null,null,null,null,null,null,null,null,null,null,null,null,null,null,null,null,null,null,null,0,"D","सामान्य",null,255,0,0,0,0]
["",null,null,null,null,null,null,null,null,null,null,null,null,null,null,null,null,null,null,null,null,null,null,null,null,null,null,null,null,0,"D","सामान्य",null,256,0,0,0,0]
["",null,null,null,null,null,null,null,null,null,null,null,null,null,null,null,null,null,null,null,null,null,null,null,null,null,null,null,null,0,"D","सामान्य",null,257,0,0,0,0]
[{"$f":"IF(E267=\"\",\"\",ROW(258:258))","v":""},null,null,null,null,null,null,null,null,null,null,null,null,null,null,null,null,null,null,null,null,null,null,null,null,null,null,null,null,{"$f":"SUM(J267:AC267)","v":0},{"$f":"IF(AD267>=80,\"A\",IF(AD267>=60,\"B\",IF(AD267>=59,\"C\",\"D\")))","v":"D"},{"$f":"IF(AD267=100,\"श्रैष्ठ\",IF(AD267>=80,\"उत्कृष्ट\",IF(AD267>=60,\"उत्तम\",IF(AD267>=50,\"अच्छा\",\"सामान्य\"))))","v":"सामान्य"},null,258,{"$f":"SUM(J267:N267)","v":0},{"$f":"SUM(O267:S267)","v":0},{"$f":"SUM(T267:X267)","v":0},{"$f":"SUM(Y267:AC267)","v":0}]
["",null,null,null,null,null,null,null,null,null,null,null,null,null,null,null,null,null,null,null,null,null,null,null,null,null,null,null,null,0,"D","सामान्य",null,259,0,0,0,0]
["",null,null,null,null,null,null,null,null,null,null,null,null,null,null,null,null,null,null,null,null,null,null,null,null,null,null,null,null,0,"D","सामान्य",null,260,0,0,0,0]
["",null,null,null,null,null,null,null,null,null,null,null,null,null,null,null,null,null,null,null,null,null,null,null,null,null,null,null,null,0,"D","सामान्य",null,261,0,0,0,0]
["",null,null,null,null,null,null,null,null,null,null,null,null,null,null,null,null,null,null,null,null,null,null,null,null,null,null,null,null,0,"D","सामान्य",null,262,0,0,0,0]
["",null,null,null,null,null,null,null,null,null,null,null,null,null,null,null,null,null,null,null,null,null,null,null,null,null,null,null,null,0,"D","सामान्य",null,263,0,0,0,0]
["",null,null,null,null,null,null,null,null,null,null,null,null,null,null,null,null,null,null,null,null,null,null,null,null,null,null,null,null,0,"D","सामान्य",null,264,0,0,0,0]
["",null,null,null,null,null,null,null,null,null,null,null,null,null,null,null,null,null,null,null,null,null,null,null,null,null,null,null,null,0,"D","सामान्य",null,265,0,0,0,0]
["",null,null,null,null,null,null,null,null,null,null,null,null,null,null,null,null,null,null,null,null,null,null,null,null,null,null,null,null,0,"D","सामान्य",null,266,0,0,0,0]
["",null,null,null,null,null,null,null,null,null,null,null,null,null,null,null,null,null,null,null,null,null,null,null,null,null,null,null,null,0,"D","सामान्य",null,267,0,0,0,0]
["",null,null,null,null,null,null,null,null,null,null,null,null,null,null,null,null,null,null,null,null,null,null,null,null,null,null,null,null,0,"D","सामान्य",null,268,0,0,0,0]
["",null,null,null,null,null,null,null,null,null,null,null,null,null,null,null,null,null,null,null,null,null,null,null,null,null,null,null,null,0,"D","सामान्य",null,269,0,0,0,0]
["",null,null,null,null,null,null,null,null,null,null,null,null,null,null,null,null,null,null,null,null,null,null,null,null,null,null,null,null,0,"D","सामान्य",null,270,0,0,0,0]
["",null,null,null,null,null,null,null,null,null,null,null,null,null,null,null,null,null,null,null,null,null,null,null,null,null,null,null,null,0,"D","सामान्य",null,271,0,0,0,0]
["",null,null,null,null,null,null,null,null,null,null,null,null,null,null,null,null,null,null,null,null,null,null,null,null,null,null,null,null,0,"D","सामान्य",null,272,0,0,0,0]
["",null,null,null,null,null,null,null,null,null,null,null,null,null,null,null,null,null,null,null,null,null,null,null,null,null,null,null,null,0,"D","सामान्य",null,273,0,0,0,0]
["",null,null,null,null,null,null,null,null,null,null,null,null,null,null,null,null,null,null,null,null,null,null,null,null,null,null,null,null,0,"D","सामान्य",null,274,0,0,0,0]
["",null,null,null,null,null,null,null,null,null,null,null,null,null,null,null,null,null,null,null,null,null,null,null,null,null,null,null,null,0,"D","सामान्य",null,275,0,0,0,0]
["",null,null,null,null,null,null,null,null,null,null,null,null,null,null,null,null,null,null,null,null,null,null,null,null,null,null,null,null,0,"D","सामान्य",null,276,0,0,0,0]
["",null,null,null,null,null,null,null,null,null,null,null,null,null,null,null,null,null,null,null,null,null,null,null,null,null,null,null,null,0,"D","सामान्य",null,277,0,0,0,0]
["",null,null,null,null,null,null,null,null,null,null,null,null,null,null,null,null,null,null,null,null,null,null,null,null,null,null,null,null,0,"D","सामान्य",null,278,0,0,0,0]
["",null,null,null,null,null,null,null,null,null,null,null,null,null,null,null,null,null,null,null,null,null,null,null,null,null,null,null,null,0,"D","सामान्य",null,279,0,0,0,0]
["",null,null,null,null,null,null,null,null,null,null,null,null,null,null,null,null,null,null,null,null,null,null,null,null,null,null,null,null,0,"D","सामान्य",null,280,0,0,0,0]
["",null,null,null,null,null,null,null,null,null,null,null,null,null,null,null,null,null,null,null,null,null,null,null,null,null,null,null,null,0,"D","सामान्य",null,281,0,0,0,0]
["",null,null,null,null,null,null,null,null,null,null,null,null,null,null,null,null,null,null,null,null,null,null,null,null,null,null,null,null,0,"D","सामान्य",null,282,0,0,0,0]
["",null,null,null,null,null,null,null,null,null,null,null,null,null,null,null,null,null,null,null,null,null,null,null,null,null,null,null,null,0,"D","सामान्य",null,283,0,0,0,0]
["",null,null,null,null,null,null,null,null,null,null,null,null,null,null,null,null,null,null,null,null,null,null,null,null,null,null,null,null,0,"D","सामान्य",null,284,0,0,0,0]
["",null,null,null,null,null,null,null,null,null,null,null,null,null,null,null,null,null,null,null,null,null,null,null,null,null,null,null,null,0,"D","सामान्य",null,285,0,0,0,0]
["",null,null,null,null,null,null,null,null,null,null,null,null,null,null,null,null,null,null,null,null,null,null,null,null,null,null,null,null,0,"D","सामान्य",null,286,0,0,0,0]
["",null,null,null,null,null,null,null,null,null,null,null,null,null,null,null,null,null,null,null,null,null,null,null,null,null,null,null,null,0,"D","सामान्य",null,287,0,0,0,0]
["",null,null,null,null,null,null,null,null,null,null,null,null,null,null,null,null,null,null,null,null,null,null,null,null,null,null,null,null,0,"D","सामान्य",null,288,0,0,0,0]
["",null,null,null,null,null,null,null,null,null,null,null,null,null,null,null,null,null,null,null,null,null,null,null,null,null,null,null,null,0,"D","सामान्य",null,289,0,0,0,0]
["",null,null,null,null,null,null,null,null,null,null,null,null,null,null,null,null,null,null,null,null,null,null,null,null,null,null,null,null,0,"D","सामान्य",null,290,0,0,0,0]
["",null,null,null,null,null,null,null,null,null,null,null,null,null,null,null,null,null,null,null,null,null,null,null,null,null,null,null,null,0,"D","सामान्य",null,291,0,0,0,0]
["",null,null,null,null,null,null,null,null,null,null,null,null,null,null,null,null,null,null,null,null,null,null,null,null,null,null,null,null,0,"D","सामान्य",null,292,0,0,0,0]
["",null,null,null,null,null,null,null,null,null,null,null,null,null,null,null,null,null,null,null,null,null,null,null,null,null,null,null,null,0,"D","सामान्य",null,293,0,0,0,0]
["",null,null,null,null,null,null,null,null,null,null,null,null,null,null,null,null,null,null,null,null,null,null,null,null,null,null,null,null,0,"D","सामान्य",null,294,0,0,0,0]
["",null,null,null,null,null,null,null,null,null,null,null,null,null,null,null,null,null,null,null,null,null,null,null,null,null,null,null,null,0,"D","सामान्य",null,295,0,0,0,0]
["",null,null,null,null,null,null,null,null,null,null,null,null,null,null,null,null,null,null,null,null,null,null,null,null,null,null,null,null,0,"D","सामान्य",null,296,0,0,0,0]
["",null,null,null,null,null,null,null,null,null,null,null,null,null,null,null,null,null,null,null,null,null,null,null,null,null,null,null,null,0,"D","सामान्य",null,297,0,0,0,0]
["",null,null,null,null,null,null,null,null,null,null,null,null,null,null,null,null,null,null,null,null,null,null,null,null,null,null,null,null,0,"D","सामान्य",null,298,0,0,0,0]
["",null,null,null,null,null,null,null,null,null,null,null,null,null,null,null,null,null,null,null,null,null,null,null,null,null,null,null,null,0,"D","सामान्य",null,299,0,0,0,0]
["",null,null,null,null,null,null,null,null,null,null,null,null,null,null,null,null,null,null,null,null,null,null,null,null,null,null,null,null,0,"D","सामान्य",null,300,0,0,0,0]
["",null,null,null,null,null,null,null,null,null,null,null,null,null,null,null,null,null,null,null,null,null,null,null,null,null,null,null,null,0,"D","सामान्य",null,301,0,0,0,0]
["",null,null,null,null,null,null,null,null,null,null,null,null,null,null,null,null,null,null,null,null,null,null,null,null,null,null,null,null,0,"D","सामान्य",null,302,0,0,0,0]
["",null,null,null,null,null,null,null,null,null,null,null,null,null,null,null,null,null,null,null,null,null,null,null,null,null,null,null,null,0,"D","सामान्य",null,303,0,0,0,0]
["",null,null,null,null,null,null,null,null,null,null,null,null,null,null,null,null,null,null,null,null,null,null,null,null,null,null,null,null,0,"D","सामान्य",null,304,0,0,0,0]
["",null,null,null,null,null,null,null,null,null,null,null,null,null,null,null,null,null,null,null,null,null,null,null,null,null,null,null,null,0,"D","सामान्य",null,305,0,0,0,0]
["",null,null,null,null,null,null,null,null,null,null,null,null,null,null,null,null,null,null,null,null,null,null,null,null,null,null,null,null,0,"D","सामान्य",null,306,0,0,0,0]
["",null,null,null,null,null,null,null,null,null,null,null,null,null,null,null,null,null,null,null,null,null,null,null,null,null,null,null,null,0,"D","सामान्य",null,307,0,0,0,0]
["",null,null,null,null,null,null,null,null,null,null,null,null,null,null,null,null,null,null,null,null,null,null,null,null,null,null,null,null,0,"D","सामान्य",null,308,0,0,0,0]
["",null,null,null,null,null,null,null,null,null,null,null,null,null,null,null,null,null,null,null,null,null,null,null,null,null,null,null,null,0,"D","सामान्य",null,309,0,0,0,0]
["",null,null,null,null,null,null,null,null,null,null,null,null,null,null,null,null,null,null,null,null,null,null,null,null,null,null,null,null,0,"D","सामान्य",null,310,0,0,0,0]
["",null,null,null,null,null,null,null,null,null,null,null,null,null,null,null,null,null,null,null,null,null,null,null,null,null,null,null,null,0,"D","सामान्य",null,311,0,0,0,0]
["",null,null,null,null,null,null,null,null,null,null,null,null,null,null,null,null,null,null,null,null,null,null,null,null,null,null,null,null,0,"D","सामान्य",null,312,0,0,0,0]
["",null,null,null,null,null,null,null,null,null,null,null,null,null,null,null,null,null,null,null,null,null,null,null,null,null,null,null,null,0,"D","सामान्य",null,313,0,0,0,0]
["",null,null,null,null,null,null,null,null,null,null,null,null,null,null,null,null,null,null,null,null,null,null,null,null,null,null,null,null,0,"D","सामान्य",null,314,0,0,0,0]
["",null,null,null,null,null,null,null,null,null,null,null,null,null,null,null,null,null,null,null,null,null,null,null,null,null,null,null,null,0,"D","सामान्य",null,315,0,0,0,0]
["",null,null,null,null,null,null,null,null,null,null,null,null,null,null,null,null,null,null,null,null,null,null,null,null,null,null,null,null,0,"D","सामान्य",null,316,0,0,0,0]
["",null,null,null,null,null,null,null,null,null,null,null,null,null,null,null,null,null,null,null,null,null,null,null,null,null,null,null,null,0,"D","सामान्य",null,317,0,0,0,0]
["",null,null,null,null,null,null,null,null,null,null,null,null,null,null,null,null,null,null,null,null,null,null,null,null,null,null,null,null,0,"D","सामान्य",null,318,0,0,0,0]
["",null,null,null,null,null,null,null,null,null,null,null,null,null,null,null,null,null,null,null,null,null,null,null,null,null,null,null,null,0,"D","सामान्य",null,319,0,0,0,0]
["",null,null,null,null,null,null,null,null,null,null,null,null,null,null,null,null,null,null,null,null,null,null,null,null,null,null,null,null,0,"D","सामान्य",null,320,0,0,0,0]
["",null,null,null,null,null,null,null,null,null,null,null,null,null,null,null,null,null,null,null,null,null,null,null,null,null,null,null,null,0,"D","सामान्य",null,321,0,0,0,0]
[{"$f":"IF(E331=\"\",\"\",ROW(322:322))","v":""},null,null,null,null,null,null,null,null,null,null,null,null,null,null,null,null,null,null,null,null,null,null,null,null,null,null,null,null,{"$f":"SUM(J331:AC331)","v":0},{"$f":"IF(AD331>=80,\"A\",IF(AD331>=60,\"B\",IF(AD331>=59,\"C\",\"D\")))","v":"D"},{"$f":"IF(AD331=100,\"श्रैष्ठ\",IF(AD331>=80,\"उत्कृष्ट\",IF(AD331>=60,\"उत्तम\",IF(AD331>=50,\"अच्छा\",\"सामान्य\"))))","v":"सामान्य"},null,322,{"$f":"SUM(J331:N331)","v":0},{"$f":"SUM(O331:S331)","v":0},{"$f":"SUM(T331:X331)","v":0},{"$f":"SUM(Y331:AC331)","v":0}]
["",null,null,null,null,null,null,null,null,null,null,null,null,null,null,null,null,null,null,null,null,null,null,null,null,null,null,null,null,0,"D","सामान्य",null,323,0,0,0,0]
["",null,null,null,null,null,null,null,null,null,null,null,null,null,null,null,null,null,null,null,null,null,null,null,null,null,null,null,null,0,"D","सामान्य",null,324,0,0,0,0]
["",null,null,null,null,null,null,null,null,null,null,null,null,null,null,null,null,null,null,null,null,null,null,null,null,null,null,null,null,0,"D","सामान्य",null,325,0,0,0,0]
["",null,null,null,null,null,null,null,null,null,null,null,null,null,null,null,null,null,null,null,null,null,null,null,null,null,null,null,null,0,"D","सामान्य",null,326,0,0,0,0]
["",null,null,null,null,null,null,null,null,null,null,null,null,null,null,null,null,null,null,null,null,null,null,null,null,null,null,null,null,0,"D","सामान्य",null,327,0,0,0,0]
["",null,null,null,null,null,null,null,null,null,null,null,null,null,null,null,null,null,null,null,null,null,null,null,null,null,null,null,null,0,"D","सामान्य",null,328,0,0,0,0]
["",null,null,null,null,null,null,null,null,null,null,null,null,null,null,null,null,null,null,null,null,null,null,null,null,null,null,null,null,0,"D","सामान्य",null,329,0,0,0,0]
["",null,null,null,null,null,null,null,null,null,null,null,null,null,null,null,null,null,null,null,null,null,null,null,null,null,null,null,null,0,"D","सामान्य",null,330,0,0,0,0]
["",null,null,null,null,null,null,null,null,null,null,null,null,null,null,null,null,null,null,null,null,null,null,null,null,null,null,null,null,0,"D","सामान्य",null,331,0,0,0,0]
["",null,null,null,null,null,null,null,null,null,null,null,null,null,null,null,null,null,null,null,null,null,null,null,null,null,null,null,null,0,"D","सामान्य",null,332,0,0,0,0]
["",null,null,null,null,null,null,null,null,null,null,null,null,null,null,null,null,null,null,null,null,null,null,null,null,null,null,null,null,0,"D","सामान्य",null,333,0,0,0,0]
["",null,null,null,null,null,null,null,null,null,null,null,null,null,null,null,null,null,null,null,null,null,null,null,null,null,null,null,null,0,"D","सामान्य",null,334,0,0,0,0]
["",null,null,null,null,null,null,null,null,null,null,null,null,null,null,null,null,null,null,null,null,null,null,null,null,null,null,null,null,0,"D","सामान्य",null,335,0,0,0,0]
["",null,null,null,null,null,null,null,null,null,null,null,null,null,null,null,null,null,null,null,null,null,null,null,null,null,null,null,null,0,"D","सामान्य",null,336,0,0,0,0]
["",null,null,null,null,null,null,null,null,null,null,null,null,null,null,null,null,null,null,null,null,null,null,null,null,null,null,null,null,0,"D","सामान्य",null,337,0,0,0,0]
["",null,null,null,null,null,null,null,null,null,null,null,null,null,null,null,null,null,null,null,null,null,null,null,null,null,null,null,null,0,"D","सामान्य",null,338,0,0,0,0]
["",null,null,null,null,null,null,null,null,null,null,null,null,null,null,null,null,null,null,null,null,null,null,null,null,null,null,null,null,0,"D","सामान्य",null,339,0,0,0,0]
["",null,null,null,null,null,null,null,null,null,null,null,null,null,null,null,null,null,null,null,null,null,null,null,null,null,null,null,null,0,"D","सामान्य",null,340,0,0,0,0]
["",null,null,null,null,null,null,null,null,null,null,null,null,null,null,null,null,null,null,null,null,null,null,null,null,null,null,null,null,0,"D","सामान्य",null,341,0,0,0,0]
["",null,null,null,null,null,null,null,null,null,null,null,null,null,null,null,null,null,null,null,null,null,null,null,null,null,null,null,null,0,"D","सामान्य",null,342,0,0,0,0]
["",null,null,null,null,null,null,null,null,null,null,null,null,null,null,null,null,null,null,null,null,null,null,null,null,null,null,null,null,0,"D","सामान्य",null,343,0,0,0,0]
["",null,null,null,null,null,null,null,null,null,null,null,null,null,null,null,null,null,null,null,null,null,null,null,null,null,null,null,null,0,"D","सामान्य",null,344,0,0,0,0]
["",null,null,null,null,null,null,null,null,null,null,null,null,null,null,null,null,null,null,null,null,null,null,null,null,null,null,null,null,0,"D","सामान्य",null,345,0,0,0,0]
["",null,null,null,null,null,null,null,null,null,null,null,null,null,null,null,null,null,null,null,null,null,null,null,null,null,null,null,null,0,"D","सामान्य",null,346,0,0,0,0]
["",null,null,null,null,null,null,null,null,null,null,null,null,null,null,null,null,null,null,null,null,null,null,null,null,null,null,null,null,0,"D","सामान्य",null,347,0,0,0,0]
["",null,null,null,null,null,null,null,null,null,null,null,null,null,null,null,null,null,null,null,null,null,null,null,null,null,null,null,null,0,"D","सामान्य",null,348,0,0,0,0]
["",null,null,null,null,null,null,null,null,null,null,null,null,null,null,null,null,null,null,null,null,null,null,null,null,null,null,null,null,0,"D","सामान्य",null,349,0,0,0,0]
["",null,null,null,null,null,null,null,null,null,null,null,null,null,null,null,null,null,null,null,null,null,null,null,null,null,null,null,null,0,"D","सामान्य",null,350,0,0,0,0]
["",null,null,null,null,null,null,null,null,null,null,null,null,null,null,null,null,null,null,null,null,null,null,null,null,null,null,null,null,0,"D","सामान्य",null,351,0,0,0,0]
["",null,null,null,null,null,null,null,null,null,null,null,null,null,null,null,null,null,null,null,null,null,null,null,null,null,null,null,null,0,"D","सामान्य",null,352,0,0,0,0]
["",null,null,null,null,null,null,null,null,null,null,null,null,null,null,null,null,null,null,null,null,null,null,null,null,null,null,null,null,0,"D","सामान्य",null,353,0,0,0,0]
["",null,null,null,null,null,null,null,null,null,null,null,null,null,null,null,null,null,null,null,null,null,null,null,null,null,null,null,null,0,"D","सामान्य",null,354,0,0,0,0]
["",null,null,null,null,null,null,null,null,null,null,null,null,null,null,null,null,null,null,null,null,null,null,null,null,null,null,null,null,0,"D","सामान्य",null,355,0,0,0,0]
["",null,null,null,null,null,null,null,null,null,null,null,null,null,null,null,null,null,null,null,null,null,null,null,null,null,null,null,null,0,"D","सामान्य",null,356,0,0,0,0]
["",null,null,null,null,null,null,null,null,null,null,null,null,null,null,null,null,null,null,null,null,null,null,null,null,null,null,null,null,0,"D","सामान्य",null,357,0,0,0,0]
["",null,null,null,null,null,null,null,null,null,null,null,null,null,null,null,null,null,null,null,null,null,null,null,null,null,null,null,null,0,"D","सामान्य",null,358,0,0,0,0]
["",null,null,null,null,null,null,null,null,null,null,null,null,null,null,null,null,null,null,null,null,null,null,null,null,null,null,null,null,0,"D","सामान्य",null,359,0,0,0,0]
["",null,null,null,null,null,null,null,null,null,null,null,null,null,null,null,null,null,null,null,null,null,null,null,null,null,null,null,null,0,"D","सामान्य",null,360,0,0,0,0]
["",null,null,null,null,null,null,null,null,null,null,null,null,null,null,null,null,null,null,null,null,null,null,null,null,null,null,null,null,0,"D","सामान्य",null,361,0,0,0,0]
["",null,null,null,null,null,null,null,null,null,null,null,null,null,null,null,null,null,null,null,null,null,null,null,null,null,null,null,null,0,"D","सामान्य",null,362,0,0,0,0]
["",null,null,null,null,null,null,null,null,null,null,null,null,null,null,null,null,null,null,null,null,null,null,null,null,null,null,null,null,0,"D","सामान्य",null,363,0,0,0,0]
["",null,null,null,null,null,null,null,null,null,null,null,null,null,null,null,null,null,null,null,null,null,null,null,null,null,null,null,null,0,"D","सामान्य",null,364,0,0,0,0]
["",null,null,null,null,null,null,null,null,null,null,null,null,null,null,null,null,null,null,null,null,null,null,null,null,null,null,null,null,0,"D","सामान्य",null,365,0,0,0,0]
["",null,null,null,null,null,null,null,null,null,null,null,null,null,null,null,null,null,null,null,null,null,null,null,null,null,null,null,null,0,"D","सामान्य",null,366,0,0,0,0]
["",null,null,null,null,null,null,null,null,null,null,null,null,null,null,null,null,null,null,null,null,null,null,null,null,null,null,null,null,0,"D","सामान्य",null,367,0,0,0,0]
["",null,null,null,null,null,null,null,null,null,null,null,null,null,null,null,null,null,null,null,null,null,null,null,null,null,null,null,null,0,"D","सामान्य",null,368,0,0,0,0]
["",null,null,null,null,null,null,null,null,null,null,null,null,null,null,null,null,null,null,null,null,null,null,null,null,null,null,null,null,0,"D","सामान्य",null,369,0,0,0,0]
["",null,null,null,null,null,null,null,null,null,null,null,null,null,null,null,null,null,null,null,null,null,null,null,null,null,null,null,null,0,"D","सामान्य",null,370,0,0,0,0]
["",null,null,null,null,null,null,null,null,null,null,null,null,null,null,null,null,null,null,null,null,null,null,null,null,null,null,null,null,0,"D","सामान्य",null,371,0,0,0,0]
["",null,null,null,null,null,null,null,null,null,null,null,null,null,null,null,null,null,null,null,null,null,null,null,null,null,null,null,null,0,"D","सामान्य",null,372,0,0,0,0]
["",null,null,null,null,null,null,null,null,null,null,null,null,null,null,null,null,null,null,null,null,null,null,null,null,null,null,null,null,0,"D","सामान्य",null,373,0,0,0,0]
["",null,null,null,null,null,null,null,null,null,null,null,null,null,null,null,null,null,null,null,null,null,null,null,null,null,null,null,null,0,"D","सामान्य",null,374,0,0,0,0]
["",null,null,null,null,null,null,null,null,null,null,null,null,null,null,null,null,null,null,null,null,null,null,null,null,null,null,null,null,0,"D","सामान्य",null,375,0,0,0,0]
["",null,null,null,null,null,null,null,null,null,null,null,null,null,null,null,null,null,null,null,null,null,null,null,null,null,null,null,null,0,"D","सामान्य",null,376,0,0,0,0]
["",null,null,null,null,null,null,null,null,null,null,null,null,null,null,null,null,null,null,null,null,null,null,null,null,null,null,null,null,0,"D","सामान्य",null,377,0,0,0,0]
["",null,null,null,null,null,null,null,null,null,null,null,null,null,null,null,null,null,null,null,null,null,null,null,null,null,null,null,null,0,"D","सामान्य",null,378,0,0,0,0]
["",null,null,null,null,null,null,null,null,null,null,null,null,null,null,null,null,null,null,null,null,null,null,null,null,null,null,null,null,0,"D","सामान्य",null,379,0,0,0,0]
["",null,null,null,null,null,null,null,null,null,null,null,null,null,null,null,null,null,null,null,null,null,null,null,null,null,null,null,null,0,"D","सामान्य",null,380,0,0,0,0]
["",null,null,null,null,null,null,null,null,null,null,null,null,null,null,null,null,null,null,null,null,null,null,null,null,null,null,null,null,0,"D","सामान्य",null,381,0,0,0,0]
["",null,null,null,null,null,null,null,null,null,null,null,null,null,null,null,null,null,null,null,null,null,null,null,null,null,null,null,null,0,"D","सामान्य",null,382,0,0,0,0]
["",null,null,null,null,null,null,null,null,null,null,null,null,null,null,null,null,null,null,null,null,null,null,null,null,null,null,null,null,0,"D","सामान्य",null,383,0,0,0,0]
["",null,null,null,null,null,null,null,null,null,null,null,null,null,null,null,null,null,null,null,null,null,null,null,null,null,null,null,null,0,"D","सामान्य",null,384,0,0,0,0]
["",null,null,null,null,null,null,null,null,null,null,null,null,null,null,null,null,null,null,null,null,null,null,null,null,null,null,null,null,0,"D","सामान्य",null,385,0,0,0,0]
[{"$f":"IF(E395=\"\",\"\",ROW(386:386))","v":""},null,null,null,null,null,null,null,null,null,null,null,null,null,null,null,null,null,null,null,null,null,null,null,null,null,null,null,null,{"$f":"SUM(J395:AC395)","v":0},{"$f":"IF(AD395>=80,\"A\",IF(AD395>=60,\"B\",IF(AD395>=59,\"C\",\"D\")))","v":"D"},{"$f":"IF(AD395=100,\"श्रैष्ठ\",IF(AD395>=80,\"उत्कृष्ट\",IF(AD395>=60,\"उत्तम\",IF(AD395>=50,\"अच्छा\",\"सामान्य\"))))","v":"सामान्य"},null,386,{"$f":"SUM(J395:N395)","v":0},{"$f":"SUM(O395:S395)","v":0},{"$f":"SUM(T395:X395)","v":0},{"$f":"SUM(Y395:AC395)","v":0}]
["",null,null,null,null,null,null,null,null,null,null,null,null,null,null,null,null,null,null,null,null,null,null,null,null,null,null,null,null,0,"D","सामान्य",null,387,0,0,0,0]
["",null,null,null,null,null,null,null,null,null,null,null,null,null,null,null,null,null,null,null,null,null,null,null,null,null,null,null,null,0,"D","सामान्य",null,388,0,0,0,0]
["",null,null,null,null,null,null,null,null,null,null,null,null,null,null,null,null,null,null,null,null,null,null,null,null,null,null,null,null,0,"D","सामान्य",null,389,0,0,0,0]
["",null,null,null,null,null,null,null,null,null,null,null,null,null,null,null,null,null,null,null,null,null,null,null,null,null,null,null,null,0,"D","सामान्य",null,390,0,0,0,0]
["",null,null,null,null,null,null,null,null,null,null,null,null,null,null,null,null,null,null,null,null,null,null,null,null,null,null,null,null,0,"D","सामान्य",null,391,0,0,0,0]
["",null,null,null,null,null,null,null,null,null,null,null,null,null,null,null,null,null,null,null,null,null,null,null,null,null,null,null,null,0,"D","सामान्य",null,392,0,0,0,0]
["",null,null,null,null,null,null,null,null,null,null,null,null,null,null,null,null,null,null,null,null,null,null,null,null,null,null,null,null,0,"D","सामान्य",null,393,0,0,0,0]
["",null,null,null,null,null,null,null,null,null,null,null,null,null,null,null,null,null,null,null,null,null,null,null,null,null,null,null,null,0,"D","सामान्य",null,394,0,0,0,0]
["",null,null,null,null,null,null,null,null,null,null,null,null,null,null,null,null,null,null,null,null,null,null,null,null,null,null,null,null,0,"D","सामान्य",null,395,0,0,0,0]
["",null,null,null,null,null,null,null,null,null,null,null,null,null,null,null,null,null,null,null,null,null,null,null,null,null,null,null,null,0,"D","सामान्य",null,396,0,0,0,0]
["",null,null,null,null,null,null,null,null,null,null,null,null,null,null,null,null,null,null,null,null,null,null,null,null,null,null,null,null,0,"D","सामान्य",null,397,0,0,0,0]
["",null,null,null,null,null,null,null,null,null,null,null,null,null,null,null,null,null,null,null,null,null,null,null,null,null,null,null,null,0,"D","सामान्य",null,398,0,0,0,0]
["",null,null,null,null,null,null,null,null,null,null,null,null,null,null,null,null,null,null,null,null,null,null,null,null,null,null,null,null,0,"D","सामान्य",null,399,0,0,0,0]
["",null,null,null,null,null,null,null,null,null,null,null,null,null,null,null,null,null,null,null,null,null,null,null,null,null,null,null,null,0,"D","सामान्य",null,400,0,0,0,0]
["",null,null,null,null,null,null,null,null,null,null,null,null,null,null,null,null,null,null,null,null,null,null,null,null,null,null,null,null,0,"D","सामान्य",null,401,0,0,0,0]
["",null,null,null,null,null,null,null,null,null,null,null,null,null,null,null,null,null,null,null,null,null,null,null,null,null,null,null,null,0,"D","सामान्य",null,402,0,0,0,0]
["",null,null,null,null,null,null,null,null,null,null,null,null,null,null,null,null,null,null,null,null,null,null,null,null,null,null,null,null,0,"D","सामान्य",null,403,0,0,0,0]

{"sheet":"भगत सिंह दल","index":4,"n_rows":41,"n_cols":29,"rows_kept":41,"cut":false,"hidden":false,"merged":[[0,0,0,5],[2,1,2,2],[2,3,2,4],[4,28,4,31],[5,28,5,31],[3,4,3,5],[6,28,6,31],[7,28,7,31],[8,28,8,31],[9,28,9,31],[10,28,10,31],[11,28,11,31],[12,28,12,31],[13,28,13,31],[14,28,14,31],[15,28,15,31],[16,28,16,31],[17,28,17,31],[18,28,18,31],[19,28,19,31],[20,28,20,31]]}
[{"$f":"'marks entry'!A1:O1","v":" राजकीय उच्च माध्यमिक विद्यालय आलनियावास जिला - नागौर"}]
[]
[null,"समाज सेवा शिविर 2024",null,"भगत सिंह दल"]
["CLASS ","SECTION",null,"प्रभारी","श्री लालाराम जांगिड"]
[11,"A",null,null,null,null,null,null,null,null,null,null,null,null,null,null,null,null,null,null,null,null,null,null,null,null,null,null,"चंद्रशेखर आजाद दल"]
["SNO","SR NO","NAME OF STUDENT","FATHER NAME","MOB NO","S.S.",null,null,null,null,null,null,null,null,null,null,null,null,null,null,null,null,null,null,null,null,null,null,"भगत सिंह दल"]
[1,5054,"Aakash Suwasiya","Bhanwar Lal",9610279300,null,null,null,null,null,null,null,null,null,null,null,null,null,null,null,null,null,null,null,null,null,null,null,"सुभाष चन्द्र बॉस दल"]
[2,3857,"Aakash Suwasiya","Bhanwar Lal",9610279301,null,null,null,null,null,null,null,null,null,null,null,null,null,null,null,null,null,null,null,null,null,null,null,"रानी लक्ष्मीबाई दल"]
[3,5049,"Aakash Suwasiya","Bhanwar Lal",9610279302,null,null,null,null,null,null,null,null,null,null,null,null,null,null,null,null,null,null,null,null,null,null,null,"स्वामी विवेकानंद दल"]
[4,4120,"Aakash Suwasiya","Bhanwar Lal",9610279303,null,null,null,null,null,null,null,null,null,null,null,null,null,null,null,null,null,null,null,null,null,null,null,"महात्मा गाँधी दल"]
[5,4961,"Aakash Suwasiya","Bhanwar Lal",9610279304,null,null,null,null,null,null,null,null,null,null,null,null,null,null,null,null,null,null,null,null,null,null,null,"सरदार वल्लभभाई पटेल दल"]
[6,5047,"Aakash Suwasiya","Bhanwar Lal",9610279305,null,null,null,null,null,null,null,null,null,null,null,null,null,null,null,null,null,null,null,null,null,null,null,"बाल गंगाधर तिलक दल"]
[7,4462,"Aakash Suwasiya","Bhanwar Lal",9610279306,null,null,null,null,null,null,null,null,null,null,null,null,null,null,null,null,null,null,null,null,null,null,null,"कल्पना चावला दल "]
[8,4607,"Aakash Suwasiya","Bhanwar Lal",9610279307,null,null,null,null,null,null,null,null,null,null,null,null,null,null,null,null,null,null,null,null,null,null,null,"सावित्रीबाई फूले दल"]
[9,5426,"Aakash Suwasiya","Bhanwar Lal",9610279308,null,null,null,null,null,null,null,null,null,null,null,null,null,null,null,null,null,null,null,null,null,null,null,"महाराणा प्रताप दल"]
[10,5410,"Aakash Suwasiya","Bhanwar Lal",9610279309,null,null,null,null,null,null,null,null,null,null,null,null,null,null,null,null,null,null,null,null,null,null,null,"छत्रपति शिवाजी दल"]
[11,4946,"Aakash Suwasiya","Bhanwar Lal",9610279310,null,null,null,null,null,null,null,null,null,null,null,null,null,null,null,null,null,null,null,null,null,null,null,"अरावली दल"]
[12,5091,"Aakash Suwasiya","Bhanwar Lal",9610279311,null,null,null,null,null,null,null,null,null,null,null,null,null,null,null,null,null,null,null,null,null,null,null,"गंगा दल"]
[13,4983,"Aakash Suwasiya","Bhanwar Lal",9610279312,null,null,null,null,null,null,null,null,null,null,null,null,null,null,null,null,null,null,null,null,null,null,null,"हिमालय दल"]
[14,4169,"Aakash Suwasiya","Bhanwar Lal",9610279313,null,null,null,null,null,null,null,null,null,null,null,null,null,null,null,null,null,null,null,null,null,null,null,"हिमगिरी दल"]
[15,5088,"Aakash Suwasiya","Bhanwar Lal",9610279314,null,null,null,null,null,null,null,null,null,null,null,null,null,null,null,null,null,null,null,null,null,null,null,"रवीन्द्रनाथ टैगोर दल"]
[16,5008,"Aakash Suwasiya","Bhanwar Lal",9610279315]
[17,5000,"Aakash Suwasiya","Bhanwar Lal",9610279316]
[18,4952,"Aakash Suwasiya","Bhanwar Lal",9610279317]
[19,5431,"Aakash Suwasiya","Bhanwar Lal",9610279318]
[20,4486,"Aakash Suwasiya","Bhanwar Lal",9610279319]
[21,5404,"Aakash Suwasiya","Bhanwar Lal",9610279320]
[22,4321,"Aakash Suwasiya","Bhanwar Lal",9610279321]
[23,4783,"Aakash Suwasiya","Bhanwar Lal",9610279322]
[24,5411,"Aakash Suwasiya","Bhanwar Lal",9610279323]
[25,4895,"Aakash Suwasiya","Bhanwar Lal",9610279324]
[26,4651,"Aakash Suwasiya","Bhanwar Lal",9610279325]
[27,5430,"Aakash Suwasiya","Bhanwar Lal",9610279326]
[28,4563,"Aakash Suwasiya","Bhanwar Lal",9610279327]
[29,4937,"Aakash Suwasiya","Bhanwar Lal",9610279328]
[30,5442,"Aakash Suwasiya","Bhanwar Lal",9610279329]
[31,4980,"Aakash Suwasiya","Bhanwar Lal",9610279330]
[32,4778,"Aakash Suwasiya","Bhanwar Lal",9610279331]
[33,4677,"Aakash Suwasiya","Bhanwar Lal",9610279332]
[34,4979,"Aakash Suwasiya","Bhanwar Lal",9610279333]
[35,5377,"Aakash Suwasiya","Bhanwar Lal",9610279334]

{"sheet":"att1","index":5,"n_rows":41,"n_cols":17,"rows_kept":41,"cut":false,"hidden":false,"merged":[[0,0,0,14],[2,1,2,8],[2,9,2,10],[2,11,2,14],[3,12,3,16]]}
[{"$f":"'भगत सिंह दल'!A1:F1","v":" राजकीय उच्च माध्यमिक विद्यालय आलनियावास जिला - नागौर"}]
[]
[null,{"$f":"'भगत सिंह दल'!B3:C3","v":"समाज सेवा शिविर 2024"},null,null,null,null,null,null,null,null,null,{"$f":"'भगत सिंह दल'!D3","v":"भगत सिंह दल"}]
["CLASS ","SECTION",null,null,null,null,null,null,null,null,null,"प्रभारी",{"$f":"'भगत सिंह दल'!E4","v":"श्री लालाराम जांगिड"}]
[11,"A"]
["क्र.सं.","नाम विद्यार्थी",17,18,19,20,21,22,23,24,25,26,27,28,29,30,31]
[1,{"$f":"'भगत सिंह दल'!C7","v":"Aakash Suwasiya"}]
[2,{"$f":"'भगत सिंह दल'!C8","v":"Aakash Suwasiya"}]
[3,{"$f":"'भगत सिंह दल'!C9","v":"Aakash Suwasiya"}]
[4,{"$f":"'भगत सिंह दल'!C10","v":"Aakash Suwasiya"}]
[5,{"$f":"'भगत सिंह दल'!C11","v":"Aakash Suwasiya"}]
[6,{"$f":"'भगत सिंह दल'!C12","v":"Aakash Suwasiya"}]
[7,{"$f":"'भगत सिंह दल'!C13","v":"Aakash Suwasiya"}]
[8,{"$f":"'भगत सिंह दल'!C14","v":"Aakash Suwasiya"}]
[9,{"$f":"'भगत सिंह दल'!C15","v":"Aakash Suwasiya"}]
[10,{"$f":"'भगत सिंह दल'!C16","v":"Aakash Suwasiya"}]
[11,{"$f":"'भगत सिंह दल'!C17","v":"Aakash Suwasiya"}]
[12,{"$f":"'भगत सिंह दल'!C18","v":"Aakash Suwasiya"}]
[13,{"$f":"'भगत सिंह दल'!C19","v":"Aakash Suwasiya"}]
[14,{"$f":"'भगत सिंह दल'!C20","v":"Aakash Suwasiya"}]
[15,{"$f":"'भगत सिंह दल'!C21","v":"Aakash Suwasiya"}]
[16,{"$f":"'भगत सिंह दल'!C22","v":"Aakash Suwasiya"}]
[17,{"$f":"'भगत सिंह दल'!C23","v":"Aakash Suwasiya"}]
[18,{"$f":"'भगत सिंह दल'!C24","v":"Aakash Suwasiya"}]
[19,{"$f":"'भगत सिंह दल'!C25","v":"Aakash Suwasiya"}]
[20,{"$f":"'भगत सिंह दल'!C26","v":"Aakash Suwasiya"}]
[21,{"$f":"'भगत सिंह दल'!C27","v":"Aakash Suwasiya"}]
[22,{"$f":"'भगत सिंह दल'!C28","v":"Aakash Suwasiya"}]
[23,{"$f":"'भगत सिंह दल'!C29","v":"Aakash Suwasiya"}]
[24,{"$f":"'भगत सिंह दल'!C30","v":"Aakash Suwasiya"}]
[25,{"$f":"'भगत सिंह दल'!C31","v":"Aakash Suwasiya"}]
[26,{"$f":"'भगत सिंह दल'!C32","v":"Aakash Suwasiya"}]
[27,{"$f":"'भगत सिंह दल'!C33","v":"Aakash Suwasiya"}]
[28,{"$f":"'भगत सिंह दल'!C34","v":"Aakash Suwasiya"}]
[29,{"$f":"'भगत सिंह दल'!C35","v":"Aakash Suwasiya"}]
[30,{"$f":"'भगत सिंह दल'!C36","v":"Aakash Suwasiya"}]
[31,{"$f":"'भगत सिंह दल'!C37","v":"Aakash Suwasiya"}]
[32,{"$f":"'भगत सिंह दल'!C38","v":"Aakash Suwasiya"}]
[33,{"$f":"'भगत सिंह दल'!C39","v":"Aakash Suwasiya"}]
[34,{"$f":"'भगत सिंह दल'!C40","v":"Aakash Suwasiya"}]
[35,{"$f":"'भगत सिंह दल'!C41","v":"Aakash Suwasiya"}]

{"sheet":"सुभाष दल","index":6,"n_rows":41,"n_cols":29,"rows_kept":41,"cut":false,"hidden":false,"merged":[[0,0,0,5],[2,1,2,2],[2,3,2,4],[3,4,3,5],[1,28,1,31],[2,28,2,31],[3,28,3,31],[4,28,4,31],[5,28,5,31],[6,28,6,31],[7,28,7,31],[8,28,8,31],[14,28,14,31],[15,28,15,31],[16,28,16,31],[17,28,17,31],[9,28,9,31],[10,28,10,31],[11,28,11,31],[12,28,12,31],[13,28,13,31]]}
[{"$f":"'भगत सिंह दल'!A1:F1","v":" राजकीय उच्च माध्यमिक विद्यालय आलनियावास जिला - नागौर"}]
[null,null,null,null,null,null,null,null,null,null,null,null,null,null,null,null,null,null,null,null,null,null,null,null,null,null,null,null,"चंद्रशेखर आजाद दल"]
[null,{"$f":"'भगत सिंह दल'!B3:C3","v":"समाज सेवा शिविर 2024"},null,"सुभाष दल",null,null,null,null,null,null,null,null,null,null,null,null,null,null,null,null,null,null,null,null,null,null,null,null,"भगत सिंह दल"]
["CLASS ","SECTION",null,"प्रभारी",null,null,null,null,null,null,null,null,null,null,null,null,null,null,null,null,null,null,null,null,null,null,null,null,"सुभाष चन्द्र बॉस दल"]
[11,"A",null,null,null,null,null,null,null,null,null,null,null,null,null,null,null,null,null,null,null,null,null,null,null,null,null,null,"रानी लक्ष्मीबाई दल"]
["SNO","SR NO","NAME OF STUDENT","FATHER NAME","MOB NO","S.S.",null,null,null,null,null,null,null,null,null,null,null,null,null,null,null,null,null,null,null,null,null,null,"स्वामी विवेकानंद दल"]
[1,4845,"Pradeep Sharma","Mahaveer Prasad",9928980546,null,null,null,null,null,null,null,null,null,null,null,null,null,null,null,null,null,null,null,null,null,null,null,"महात्मा गाँधी दल"]
[2,4640,"Pradeep Sharma","Mahaveer Prasad",9928980547,null,null,null,null,null,null,null,null,null,null,null,null,null,null,null,null,null,null,null,null,null,null,null,"सरदार वल्लभभाई पटेल दल"]
[3,5387,"Pradeep Sharma","Mahaveer Prasad",9928980548,null,null,null,null,null,null,null,null,null,null,null,null,null,null,null,null,null,null,null,null,null,null,null,"बाल गंगाधर तिलक दल"]
[4,5364,"Pradeep Sharma","Mahaveer Prasad",9928980549,null,null,null,null,null,null,null,null,null,null,null,null,null,null,null,null,null,null,null,null,null,null,null,"कल्पना चावला दल "]
[5,3821,"Pradeep Sharma","Mahaveer Prasad",9928980550,null,null,null,null,null,null,null,null,null,null,null,null,null,null,null,null,null,null,null,null,null,null,null,"सावित्रीबाई फूले दल"]
[6,5441,"Pradeep Sharma","Mahaveer Prasad",9928980551,null,null,null,null,null,null,null,null,null,null,null,null,null,null,null,null,null,null,null,null,null,null,null,"महाराणा प्रताप दल"]
[7,5024,"Pradeep Sharma","Mahaveer Prasad",9928980552,null,null,null,null,null,null,null,null,null,null,null,null,null,null,null,null,null,null,null,null,null,null,null,"छत्रपति शिवाजी दल"]
[8,5198,"Pradeep Sharma","Mahaveer Prasad",9928980553,null,null,null,null,null,null,null,null,null,null,null,null,null,null,null,null,null,null,null,null,null,null,null,"अरावली दल"]
[9,4461,"Pradeep Sharma","Mahaveer Prasad",9928980554,null,null,null,null,null,null,null,null,null,null,null,null,null,null,null,null,null,null,null,null,null,null,null,"गंगा दल"]
[10,4482,"Pradeep Sharma","Mahaveer Prasad",9928980555,null,null,null,null,null,null,null,null,null,null,null,null,null,null,null,null,null,null,null,null,null,null,null,"हिमालय दल"]
[11,4460,"Pradeep Sharma","Mahaveer Prasad",9928980556,null,null,null,null,null,null,null,null,null,null,null,null,null,null,null,null,null,null,null,null,null,null,null,"हिमगिरी दल"]
[12,4781,"Pradeep Sharma","Mahaveer Prasad",9928980557,null,null,null,null,null,null,null,null,null,null,null,null,null,null,null,null,null,null,null,null,null,null,null,"रवीन्द्रनाथ टैगोर दल"]
[13,4985,"Pradeep Sharma","Mahaveer Prasad",9928980558]
[14,4968,"Pradeep Sharma","Mahaveer Prasad",9928980559]
[15,4969,"Pradeep Sharma","Mahaveer Prasad",9928980560]
[16,4774,"Pradeep Sharma","Mahaveer Prasad",9928980561]
[17,4604,"Pradeep Sharma","Mahaveer Prasad",9928980562]
[18,4971,"Pradeep Sharma","Mahaveer Prasad",9928980563]
[19,4693,"Pradeep Sharma","Mahaveer Prasad",9928980564]
[20,4922,"Pradeep Sharma","Mahaveer Prasad",9928980565]
[21,5362,"Pradeep Sharma","Mahaveer Prasad",9928980566]
[22,5361,"Pradeep Sharma","Mahaveer Prasad",9928980567]
[23,4935,"Pradeep Sharma","Mahaveer Prasad",9928980568]
[24,5009,"Pradeep Sharma","Mahaveer Prasad",9928980569]
[25,5444,"Pradeep Sharma","Mahaveer Prasad",9928980570]
[26,5018,"Pradeep Sharma","Mahaveer Prasad",9928980571]
[27,4844,"Pradeep Sharma","Mahaveer Prasad",9928980572]
[28,4896,"Pradeep Sharma","Mahaveer Prasad",9928980573]
[29,4263,"Pradeep Sharma","Mahaveer Prasad",9928980574]
[30,4936,"Pradeep Sharma","Mahaveer Prasad",9928980575]
[31,4958,"Pradeep Sharma","Mahaveer Prasad",9928980576]
[32,4999,"Pradeep Sharma","Mahaveer Prasad",9928980577]
[33,4801,"Pradeep Sharma","Mahaveer Prasad",9928980578]
[34,4954,"Pradeep Sharma","Mahaveer Prasad",9928980579]
[35,5335,"Pradeep Sharma","Mahaveer Prasad",9928980580]

{"sheet":"att2","index":7,"n_rows":41,"n_cols":17,"rows_kept":41,"cut":false,"hidden":false,"merged":[[0,0,0,14],[2,1,2,8],[2,9,2,10],[2,11,2,14],[3,10,3,14]]}
[{"$f":"'सुभाष दल'!A1:F1","v":" राजकीय उच्च माध्यमिक विद्यालय आलनियावास जिला - नागौर"}]
[]
[null,{"$f":"'भगत सिंह दल'!B3:C3","v":"समाज सेवा शिविर 2024"},null,null,null,null,null,null,null,null,null,{"$f":"'सुभाष दल'!D3","v":"सुभाष दल"}]
["CLASS ","SECTION",null,null,null,null,null,null,null,"प्रभारी",{"$f":"'सुभाष दल'!E4","v":0}]
[11,"A"]
["क्र.सं.","नाम विद्यार्थी",17,18,19,20,21,22,23,24,25,26,27,28,29,30,31]
[1,{"$f":"'सुभाष दल'!C7","v":"Pradeep Sharma"}]
[2,{"$f":"'सुभाष दल'!C8","v":"Pradeep Sharma"}]
[3,{"$f":"'सुभाष दल'!C9","v":"Pradeep Sharma"}]
[4,{"$f":"'सुभाष दल'!C10","v":"Pradeep Sharma"}]
[5,{"$f":"'सुभाष दल'!C11","v":"Pradeep Sharma"}]
[6,{"$f":"'सुभाष दल'!C12","v":"Pradeep Sharma"}]
[7,{"$f":"'सुभाष दल'!C13","v":"Pradeep Sharma"}]
[8,{"$f":"'सुभाष दल'!C14","v":"Pradeep Sharma"}]
[9,{"$f":"'सुभाष दल'!C15","v":"Pradeep Sharma"}]
[10,{"$f":"'सुभाष दल'!C16","v":"Pradeep Sharma"}]
[11,{"$f":"'सुभाष दल'!C17","v":"Pradeep Sharma"}]
[12,{"$f":"'सुभाष दल'!C18","v":"Pradeep Sharma"}]
[13,{"$f":"'सुभाष दल'!C19","v":"Pradeep Sharma"}]
[14,{"$f":"'सुभाष दल'!C20","v":"Pradeep Sharma"}]
[15,{"$f":"'सुभाष दल'!C21","v":"Pradeep Sharma"}]
[16,{"$f":"'सुभाष दल'!C22","v":"Pradeep Sharma"}]
[17,{"$f":"'सुभाष दल'!C23","v":"Pradeep Sharma"}]
[18,{"$f":"'सुभाष दल'!C24","v":"Pradeep Sharma"}]
[19,{"$f":"'सुभाष दल'!C25","v":"Pradeep Sharma"}]
[20,{"$f":"'सुभाष दल'!C26","v":"Pradeep Sharma"}]
[21,{"$f":"'सुभाष दल'!C27","v":"Pradeep Sharma"}]
[22,{"$f":"'सुभाष दल'!C28","v":"Pradeep Sharma"}]
[23,{"$f":"'सुभाष दल'!C29","v":"Pradeep Sharma"}]
[24,{"$f":"'सुभाष दल'!C30","v":"Pradeep Sharma"}]
[25,{"$f":"'सुभाष दल'!C31","v":"Pradeep Sharma"}]
[26,{"$f":"'सुभाष दल'!C32","v":"Pradeep Sharma"}]
[27,{"$f":"'सुभाष दल'!C33","v":"Pradeep Sharma"}]
[28,{"$f":"'सुभाष दल'!C34","v":"Pradeep Sharma"}]
[29,{"$f":"'सुभाष दल'!C35","v":"Pradeep Sharma"}]
[30,{"$f":"'सुभाष दल'!C36","v":"Pradeep Sharma"}]
[31,{"$f":"'सुभाष दल'!C37","v":"Pradeep Sharma"}]
[32,{"$f":"'सुभाष दल'!C38","v":"Pradeep Sharma"}]
[33,{"$f":"'सुभाष दल'!C39","v":"Pradeep Sharma"}]
[34,{"$f":"'सुभाष दल'!C40","v":"Pradeep Sharma"}]
[35,{"$f":"'सुभाष दल'!C41","v":"Pradeep Sharma"}]

{"sheet":"चंद्रशेखर दल","index":8,"n_rows":40,"n_cols":29,"rows_kept":40,"cut":false,"hidden":false,"merged":[[0,0,0,5],[2,1,2,2],[2,3,2,4],[3,4,3,5],[23,28,23,31],[24,28,24,31],[25,28,25,31],[26,28,26,31],[27,28,27,31],[28,28,28,31],[29,28,29,31],[30,28,30,31],[31,28,31,31],[32,28,32,31],[33,28,33,31],[39,28,39,31],[34,28,34,31],[35,28,35,31],[36,28,36,31],[37,28,37,31],[38,28,38,31]]}
[{"$f":"'सुभाष दल'!A1:F1","v":" राजकीय उच्च माध्यमिक विद्यालय आलनियावास जिला - नागौर"}]
[]
[null,{"$f":"'भगत सिंह दल'!B3:C3","v":"समाज सेवा शिविर 2024"},null,"चंद्रशेखर आजाद दल"]
["CLASS ","SECTION",null,"प्रभारी","विजय कुमार प्रजापत"]
[11,"A"]
["SNO","SR NO","NAME OF STUDENT","FATHER NAME","MOB NO","S.S."]
[1,5084,"rajram","Mangala Ram",9680511301]
[2,4576,"rajram","Mangala Ram",9680511302]
[3,4923,"rajram","Mangala Ram",9680511303]
[4,4977,"rajram","Mangala Ram",9680511304]
[5,4485,"rajram","Mangala Ram",9680511305]
[6,4953,"rajram","Mangala Ram",9680511306]
[7,5002,"rajram","Mangala Ram",9680511307]
[8,4984,"rajram","Mangala Ram",9680511308]
[9,5336,"rajram","Mangala Ram",9680511309]
[10,5042,"rajram","Mangala Ram",9680511310]
[11,5041,"rajram","Mangala Ram",9680511311]
[12,5412,"rajram","Mangala Ram",9680511312]
[13,5366,"rajram","Mangala Ram",9680511313]
[14,3882,"rajram","Mangala Ram",9680511314]
[15,4934,"rajram","Mangala Ram",9680511315]
[16,3867,"rajram","Mangala Ram",9680511316]
[17,5405,"rajram","Mangala Ram",9680511317]
[18,4998,"rajram","Mangala Ram",9680511318,null,null,null,null,null,null,null,null,null,null,null,null,null,null,null,null,null,null,null,null,null,null,null,"चंद्रशेखर आजाद दल"]
[19,4967,"rajram","Mangala Ram",9680511319,null,null,null,null,null,null,null,null,null,null,null,null,null,null,null,null,null,null,null,null,null,null,null,"भगत सिंह दल"]
[20,5034,"rajram","Mangala Ram",9680511320,null,null,null,null,null,null,null,null,null,null,null,null,null,null,null,null,null,null,null,null,null,null,null,"सुभाष चन्द्र बॉस दल"]
[21,5382,"rajram","Mangala Ram",9680511321,null,null,null,null,null,null,null,null,null,null,null,null,null,null,null,null,null,null,null,null,null,null,null,"रानी लक्ष्मीबाई दल"]
[22,4523,"rajram","Mangala Ram",9680511322,null,null,null,null,null,null,null,null,null,null,null,null,null,null,null,null,null,null,null,null,null,null,null,"स्वामी विवेकानंद दल"]
[23,4928,"rajram","Mangala Ram",9680511323,null,null,null,null,null,null,null,null,null,null,null,null,null,null,null,null,null,null,null,null,null,null,null,"महात्मा गाँधी दल"]
[24,5337,"rajram","Mangala Ram",9680511324,null,null,null,null,null,null,null,null,null,null,null,null,null,null,null,null,null,null,null,null,null,null,null,"सरदार वल्लभभाई पटेल दल"]
[25,5421,"rajram","Mangala Ram",9680511325,null,null,null,null,null,null,null,null,null,null,null,null,null,null,null,null,null,null,null,null,null,null,null,"बाल गंगाधर तिलक दल"]
[26,5345,"rajram","Mangala Ram",9680511326,null,null,null,null,null,null,null,null,null,null,null,null,null,null,null,null,null,null,null,null,null,null,null,"कल्पना चावला दल "]
[27,5440,"rajram","Mangala Ram",9680511327,null,null,null,null,null,null,null,null,null,null,null,null,null,null,null,null,null,null,null,null,null,null,null,"सावित्रीबाई फूले दल"]
[28,5016,"rajram","Mangala Ram",9680511328,null,null,null,null,null,null,null,null,null,null,null,null,null,null,null,null,null,null,null,null,null,null,null,"महाराणा प्रताप दल"]
[29,5033,"rajram","Mangala Ram",9680511329,null,null,null,null,null,null,null,null,null,null,null,null,null,null,null,null,null,null,null,null,null,null,null,"छत्रपति शिवाजी दल"]
[null,null,null,null,null,null,null,null,null,null,null,null,null,null,null,null,null,null,null,null,null,null,null,null,null,null,null,null,"अरावली दल"]
[null,null,null,null,null,null,null,null,null,null,null,null,null,null,null,null,null,null,null,null,null,null,null,null,null,null,null,null,"गंगा दल"]
[null,null,null,null,null,null,null,null,null,null,null,null,null,null,null,null,null,null,null,null,null,null,null,null,null,null,null,null,"हिमालय दल"]
[null,null,null,null,null,null,null,null,null,null,null,null,null,null,null,null,null,null,null,null,null,null,null,null,null,null,null,null,"हिमगिरी दल"]
[null,null,null,null,null,null,null,null,null,null,null,null,null,null,null,null,null,null,null,null,null,null,null,null,null,null,null,null,"रवीन्द्रनाथ टैगोर दल"]

{"sheet":"att3","index":9,"n_rows":35,"n_cols":17,"rows_kept":35,"cut":false,"hidden":false,"merged":[[0,0,0,14],[2,1,2,8],[2,9,2,10],[2,11,2,14],[3,10,3,14]]}
[{"$f":"master!B2","v":" राजकीय उच्च माध्यमिक विद्यालय आलनियावास जिला - नागौर"}]
[]
[null,{"$f":"'भगत सिंह दल'!B3:C3","v":"समाज सेवा शिविर 2024"},null,null,null,null,null,null,null,null,null,{"$f":"'चंद्रशेखर दल'!D3","v":"चंद्रशेखर आजाद दल"}]
["CLASS ","SECTION",null,null,null,null,null,null,null,"प्रभारी",{"$f":"'चंद्रशेखर दल'!E4","v":"विजय कुमार प्रजापत"}]
[11,"A"]
["क्र.सं.","नाम विद्यार्थी",17,18,19,20,21,22,23,24,25,26,27,28,29,30,31]
[1,{"$f":"'चंद्रशेखर दल'!C7","v":"rajram"}]
[2,{"$f":"'चंद्रशेखर दल'!C8","v":"rajram"}]
[3,{"$f":"'चंद्रशेखर दल'!C9","v":"rajram"}]
[4,{"$f":"'चंद्रशेखर दल'!C10","v":"rajram"}]
[5,{"$f":"'चंद्रशेखर दल'!C11","v":"rajram"}]
[6,{"$f":"'चंद्रशेखर दल'!C12","v":"rajram"}]
[7,{"$f":"'चंद्रशेखर दल'!C13","v":"rajram"}]
[8,{"$f":"'चंद्रशेखर दल'!C14","v":"rajram"}]
[9,{"$f":"'चंद्रशेखर दल'!C15","v":"rajram"}]
[10,{"$f":"'चंद्रशेखर दल'!C16","v":"rajram"}]
[11,{"$f":"'चंद्रशेखर दल'!C17","v":"rajram"}]
[12,{"$f":"'चंद्रशेखर दल'!C18","v":"rajram"}]
[13,{"$f":"'चंद्रशेखर दल'!C19","v":"rajram"}]
[14,{"$f":"'चंद्रशेखर दल'!C20","v":"rajram"}]
[15,{"$f":"'चंद्रशेखर दल'!C21","v":"rajram"}]
[16,{"$f":"'चंद्रशेखर दल'!C22","v":"rajram"}]
[17,{"$f":"'चंद्रशेखर दल'!C23","v":"rajram"}]
[18,{"$f":"'चंद्रशेखर दल'!C24","v":"rajram"}]
[19,{"$f":"'चंद्रशेखर दल'!C25","v":"rajram"}]
[20,{"$f":"'चंद्रशेखर दल'!C26","v":"rajram"}]
[21,{"$f":"'चंद्रशेखर दल'!C27","v":"rajram"}]
[22,{"$f":"'चंद्रशेखर दल'!C28","v":"rajram"}]
[23,{"$f":"'चंद्रशेखर दल'!C29","v":"rajram"}]
[24,{"$f":"'चंद्रशेखर दल'!C30","v":"rajram"}]
[25,{"$f":"'चंद्रशेखर दल'!C31","v":"rajram"}]
[26,{"$f":"'चंद्रशेखर दल'!C32","v":"rajram"}]
[27,{"$f":"'चंद्रशेखर दल'!C33","v":"rajram"}]
[28,{"$f":"'चंद्रशेखर दल'!C34","v":"rajram"}]
[29,{"$f":"'चंद्रशेखर दल'!C35","v":"rajram"}]

{"sheet":"prapatr1","index":10,"n_rows":252,"n_cols":19,"rows_kept":252,"cut":false,"hidden":false,"merged":[[2,13,3,13],[29,1,30,2],[29,4,30,5],[29,8,30,9],[24,5,24,9],[11,4,11,8],[12,4,12,8],[13,4,13,8],[22,7,22,8],[1,1,1,10],[15,9,17,9],[15,2,17,2],[15,3,17,3],[15,1,17,1],[10,4,10,8],[4,2,4,8],[6,2,6,7],[7,2,7,8],[8,4,8,8],[2,1,2,10],[9,4,9,6],[9,7,9,8]]}
[]
[null,"परिशिष्ट-1"]
[null,{"$f":"master!B2","v":" राजकीय उच्च माध्यमिक विद्यालय आलनियावास जिला - नागौर"},null,null,null,null,null,null,null,null,null,null,null,"प्रिंट के लिए चयन करे",null,null,null,null,1]
[null,null,null,null,null,null,null,null,null,null,null,null,null,null,null,null,null,null,2]
[null,null,"समाज सेवा योजना मूल्यांकन प्रपत्र",null,null,null,null,null,null,null,null,null,null,92,null,null,null,null,3]
[null,null,null,null,null,null,null,null,null,null,null,null,null,null,null,null,null,null,4]
[null,null,{"$f":"master!B4","v":"सत्र- 2025-2026"},null,null,null,null,null,null,null,null,null,null,null,null,null,null,null,5]
[null,null,{"$f":"master!B5","v":"दिनांक : 17.05.2025 से 31.05.2025"},null,null,null,null,null,null,null,null,null,null,null,null,null,null,null,6]
[null,1,"विद्यार्थी का नाम",":",{"$f":"VLOOKUP($N$5,MARKS,5)","v":"Aakash Suwasiya"},null,null,null,null,null,null,null,null,null,null,null,null,null,7]
[null,2,"कक्षा",":",{"$f":"VLOOKUP($N$5,MARKS,2)","v":11},null,null,"उत्तीर्ण",null,null,null,null,null,null,null,null,null,null,8]
[null,3,"जन्म तिथि",":",{"$f":"VLOOKUP($N$5,MARKS,8)","v":"2007-05-09"},null,null,null,null,null,null,null,null,null,null,null,null,null,9]
[null,4,"माता का नाम",":",{"$f":"VLOOKUP($N$5,MARKS,7)","v":"Chhoti Devi"},null,null,null,null,null,null,null,null,null,null,null,null,null,10]
[null,5,"पिता का नाम",":",{"$f":"VLOOKUP($N$5,MARKS,6)","v":"Bhanwar Lal"},null,null,null,null,null,null,null,null,null,null,null,null,null,11]
[null,6,"विद्यार्थी का प्रवेशांक",":",{"$f":"VLOOKUP($N$5,MARKS,4)","v":4523},null,null,null,null,null,null,null,null,null,null,null,null,null,12]
[null,7,"मूल्याङ्कन के आधार पर प्राप्तांक  :---",null,null,null,null,null,null,null,null,null,null,null,null,null,null,null,13]
[null,"क्रम","समाज सेवा गतिविधि का नाम","पूर्णांक","मूल्यांकन का मापदंड",null,null,null,null,"प्राप्तांक",null,null,null,null,null,null,null,null,14]
[null,null,null,null,"आयोजना","प्रबंधन","क्रियान्विति","निष्पादन","गुणवत्ता",null,null,null,null,null,null,null,null,null,15]
[null,null,null,null,"पूर्णांक 5","पूर्णांक 5","पूर्णांक 5","पूर्णांक 5","पूर्णांक 5",null,null,null,null,null,null,null,null,null,16]
[null,1,{"$f":"master!E6","v":"विद्यालय का सौदर्यकरण"},25,{"$f":"VLOOKUP($N$5,MARKSS,10)","v":5},{"$f":"VLOOKUP($N$5,MARKSS,11)","v":3},{"$f":"VLOOKUP($N$5,MARKSS,12)","v":4},{"$f":"VLOOKUP($N$5,MARKSS,13)","v":2},{"$f":"VLOOKUP($N$5,MARKSS,14)","v":5},{"$f":"SUM(E19:I19)","v":19},null,null,null,null,null,null,null,null,17]
[null,2,{"$f":"master!E7","v":"सार्वजनिक स्थलों पर जल सेवा"},25,{"$f":"VLOOKUP($N$5,MARKSS,15)","v":5},{"$f":"VLOOKUP($N$5,MARKSS,16)","v":3},{"$f":"VLOOKUP($N$5,MARKSS,17)","v":4},{"$f":"VLOOKUP($N$5,MARKSS,18)","v":2},{"$f":"VLOOKUP($N$5,MARKSS,19)","v":5},{"$f":"SUM(E20:I20)","v":19},null,null,null,null,null,null,null,null,18]
[null,3,{"$f":"master!E8","v":"यातायात के नियमो का पालन"},25,{"$f":"VLOOKUP($N$5,MARKSS,20)","v":5},{"$f":"VLOOKUP($N$5,MARKSS,21)","v":3},{"$f":"VLOOKUP($N$5,MARKSS,22)","v":4},{"$f":"VLOOKUP($N$5,MARKSS,23)","v":2},{"$f":"VLOOKUP($N$5,MARKSS,24)","v":5},19,null,null,null,null,null,null,null,null,19]
[null,4,{"$f":"master!E9","v":"सार्वजानिक स्थल की सफाई"},25,{"$f":"VLOOKUP($N$5,MARKSS,25)","v":5},{"$f":"VLOOKUP($N$5,MARKSS,26)","v":3},{"$f":"VLOOKUP($N$5,MARKSS,27)","v":4},{"$f":"VLOOKUP($N$5,MARKSS,28)","v":2},{"$f":"VLOOKUP($N$5,MARKSS,29)","v":5},19,null,null,null,null,null,null,null,null,20]
[null,null,null,null,null,null,null,"100 में से कुल प्राप्तांक",null,{"$f":"SUM(J19:J22)","v":76},null,null,null,null,null,null,null,null,21]
[null,null,null,null,null,null,null,null,null,null,null,null,null,null,null,null,null,null,22]
[null,8,"मूल्यांकन के आधार पर ग्रेड",null,null,{"$f":"VLOOKUP(N5,MARKSS,31)","v":"B"},null,null,null,null,null,null,null,null,null,null,null,null,23]
[null,null,null,null,null,null,null,null,null,null,null,null,null,null,null,null,null,null,24]
[null,null,null,null,null,null,null,null,null,null,null,null,null,null,null,null,null,null,25]
[null,null,null,null,null,null,null,null,null,null,null,null,null,null,null,null,null,null,26]
[null,null,null,null,null,null,null,null,null,null,null,null,null,null,null,null,null,null,27]
[null,"दलनायक शिक्षक के हस्ताक्षर",null,null,"प्रभारी शिक्षक के हस्ताक्षर",null,null,null,"संस्था प्रधान के हस्ताक्षर",null,null,null,null,null,null,null,null,null,28]
[null,null,null,null,null,null,null,null,null,null,null,null,null,null,null,null,null,null,29]
[null,null,null,null,null,null,null,null,null,null,null,null,null,null,null,null,null,null,30]
[null,null,null,null,null,null,null,null,null,null,null,null,null,null,null,null,null,null,31]
[null,null,null,null,null,null,null,null,null,null,null,null,null,null,null,null,null,null,32]
[null,null,null,null,null,null,null,null,null,null,null,null,null,null,null,null,null,null,33]
[null,null,null,null,null,null,null,null,null,null,null,null,null,null,null,null,null,null,34]
[null,null,null,null,null,null,null,null,null,null,null,null,null,null,null,null,null,null,35]
[null,null,null,null,null,null,null,null,null,null,null,null,null,null,null,null,null,null,36]
[null,null,null,null,null,null,null,null,null,null,null,null,null,null,null,null,null,null,37]
[null,null,null,null,null,null,null,null,null,null,null,null,null,null,null,null,null,null,38]
[null,null,null,null,null,null,null,null,null,null,null,null,null,null,null,null,null,null,39]
[null,null,null,null,null,null,null,null,null,null,null,null,null,null,null,null,null,null,40]
[null,null,null,null,null,null,null,null,null,null,null,null,null,null,null,null,null,null,41]
[null,null,null,null,null,null,null,null,null,null,null,null,null,null,null,null,null,null,42]
[null,null,null,null,null,null,null,null,null,null,null,null,null,null,null,null,null,null,43]
[null,null,null,null,null,null,null,null,null,null,null,null,null,null,null,null,null,null,44]
[null,null,null,null,null,null,null,null,null,null,null,null,null,null,null,null,null,null,45]
[null,null,null,null,null,null,null,null,null,null,null,null,null,null,null,null,null,null,46]
[null,null,null,null,null,null,null,null,null,null,null,null,null,null,null,null,null,null,47]
[null,null,null,null,null,null,null,null,null,null,null,null,null,null,null,null,null,null,48]
[null,null,null,null,null,null,null,null,null,null,null,null,null,null,null,null,null,null,49]
[null,null,null,null,null,null,null,null,null,null,null,null,null,null,null,null,null,null,50]
[null,null,null,null,null,null,null,null,null,null,null,null,null,null,null,null,null,null,51]
[null,null,null,null,null,null,null,null,null,null,null,null,null,null,null,null,null,null,52]
[null,null,null,null,null,null,null,null,null,null,null,null,null,null,null,null,null,null,53]
[null,null,null,null,null,null,null,null,null,null,null,null,null,null,null,null,null,null,54]
[null,null,null,null,null,null,null,null,null,null,null,null,null,null,null,null,null,null,55]
[null,null,null,null,null,null,null,null,null,null,null,null,null,null,null,null,null,null,56]
[null,null,null,null,null,null,null,null,null,null,null,null,null,null,null,null,null,null,57]
[null,null,null,null,null,null,null,null,null,null,null,null,null,null,null,null,null,null,58]
[null,null,null,null,null,null,null,null,null,null,null,null,null,null,null,null,null,null,59]
[null,null,null,null,null,null,null,null,null,null,null,null,null,null,null,null,null,null,60]
[null,null,null,null,null,null,null,null,null,null,null,null,null,null,null,null,null,null,61]
[null,null,null,null,null,null,null,null,null,null,null,null,null,null,null,null,null,null,62]
[null,null,null,null,null,null,null,null,null,null,null,null,null,null,null,null,null,null,63]
[null,null,null,null,null,null,null,null,null,null,null,null,null,null,null,null,null,null,64]
[null,null,null,null,null,null,null,null,null,null,null,null,null,null,null,null,null,null,65]
[null,null,null,null,null,null,null,null,null,null,null,null,null,null,null,null,null,null,66]
[null,null,null,null,null,null,null,null,null,null,null,null,null,null,null,null,null,null,67]
[null,null,null,null,null,null,null,null,null,null,null,null,null,null,null,null,null,null,68]
[null,null,null,null,null,null,null,null,null,null,null,null,null,null,null,null,null,null,69]
[null,null,null,null,null,null,null,null,null,null,null,null,null,null,null,null,null,null,70]
[null,null,null,null,null,null,null,null,null,null,null,null,null,null,null,null,null,null,71]
[null,null,null,null,null,null,null,null,null,null,null,null,null,null,null,null,null,null,72]
[null,null,null,null,null,null,null,null,null,null,null,null,null,null,null,null,null,null,73]
[null,null,null,null,null,null,null,null,null,null,null,null,null,null,null,null,null,null,74]
[null,null,null,null,null,null,null,null,null,null,null,null,null,null,null,null,null,null,75]
[null,null,null,null,null,null,null,null,null,null,null,null,null,null,null,null,null,null,76]
[null,null,null,null,null,null,null,null,null,null,null,null,null,null,null,null,null,null,77]
[null,null,null,null,null,null,null,null,null,null,null,null,null,null,null,null,null,null,78]
[null,null,null,null,null,null,null,null,null,null,null,null,null,null,null,null,null,null,79]
[null,null,null,null,null,null,null,null,null,null,null,null,null,null,null,null,null,null,80]
[null,null,null,null,null,null,null,null,null,null,null,null,null,null,null,null,null,null,81]
[null,null,null,null,null,null,null,null,null,null,null,null,null,null,null,null,null,null,82]
[null,null,null,null,null,null,null,null,null,null,null,null,null,null,null,null,null,null,83]
[null,null,null,null,null,null,null,null,null,null,null,null,null,null,null,null,null,null,84]
[null,null,null,null,null,null,null,null,null,null,null,null,null,null,null,null,null,null,85]
[null,null,null,null,null,null,null,null,null,null,null,null,null,null,null,null,null,null,86]
[null,null,null,null,null,null,null,null,null,null,null,null,null,null,null,null,null,null,87]
[null,null,null,null,null,null,null,null,null,null,null,null,null,null,null,null,null,null,88]
[null,null,null,null,null,null,null,null,null,null,null,null,null,null,null,null,null,null,89]
[null,null,null,null,null,null,null,null,null,null,null,null,null,null,null,null,null,null,90]
[null,null,null,null,null,null,null,null,null,null,null,null,null,null,null,null,null,null,91]
[null,null,null,null,null,null,null,null,null,null,null,null,null,null,null,null,null,null,92]
[null,null,null,null,null,null,null,null,null,null,null,null,null,null,null,null,null,null,93]
[null,null,null,null,null,null,null,null,null,null,null,null,null,null,null,null,null,null,94]
[null,null,null,null,null,null,null,null,null,null,null,null,null,null,null,null,null,null,95]
[null,null,null,null,null,null,null,null,null,null,null,null,null,null,null,null,null,null,96]
[null,null,null,null,null,null,null,null,null,null,null,null,null,null,null,null,null,null,97]
[null,null,null,null,null,null,null,null,null,null,null,null,null,null,null,null,null,null,98]
[null,null,null,null,null,null,null,null,null,null,null,null,null,null,null,null,null,null,99]
[null,null,null,null,null,null,null,null,null,null,null,null,null,null,null,null,null,null,100]
[null,null,null,null,null,null,null,null,null,null,null,null,null,null,null,null,null,null,101]
[null,null,null,null,null,null,null,null,null,null,null,null,null,null,null,null,null,null,102]
[null,null,null,null,null,null,null,null,null,null,null,null,null,null,null,null,null,null,103]
[null,null,null,null,null,null,null,null,null,null,null,null,null,null,null,null,null,null,104]
[null,null,null,null,null,null,null,null,null,null,null,null,null,null,null,null,null,null,105]
[null,null,null,null,null,null,null,null,null,null,null,null,null,null,null,null,null,null,106]
[null,null,null,null,null,null,null,null,null,null,null,null,null,null,null,null,null,null,107]
[null,null,null,null,null,null,null,null,null,null,null,null,null,null,null,null,null,null,108]
[null,null,null,null,null,null,null,null,null,null,null,null,null,null,null,null,null,null,109]
[null,null,null,null,null,null,null,null,null,null,null,null,null,null,null,null,null,null,110]
[null,null,null,null,null,null,null,null,null,null,null,null,null,null,null,null,null,null,111]
[null,null,null,null,null,null,null,null,null,null,null,null,null,null,null,null,null,null,112]
[null,null,null,null,null,null,null,null,null,null,null,null,null,null,null,null,null,null,113]
[null,null,null,null,null,null,null,null,null,null,null,null,null,null,null,null,null,null,114]
[null,null,null,null,null,null,null,null,null,null,null,null,null,null,null,null,null,null,115]
[null,null,null,null,null,null,null,null,null,null,null,null,null,null,null,null,null,null,116]
[null,null,null,null,null,null,null,null,null,null,null,null,null,null,null,null,null,null,117]
[null,null,null,null,null,null,null,null,null,null,null,null,null,null,null,null,null,null,118]
[null,null,null,null,null,null,null,null,null,null,null,null,null,null,null,null,null,null,119]
[null,null,null,null,null,null,null,null,null,null,null,null,null,null,null,null,null,null,120]
[null,null,null,null,null,null,null,null,null,null,null,null,null,null,null,null,null,null,121]
[null,null,null,null,null,null,null,null,null,null,null,null,null,null,null,null,null,null,122]
[null,null,null,null,null,null,null,null,null,null,null,null,null,null,null,null,null,null,123]
[null,null,null,null,null,null,null,null,null,null,null,null,null,null,null,null,null,null,124]
[null,null,null,null,null,null,null,null,null,null,null,null,null,null,null,null,null,null,125]
[null,null,null,null,null,null,null,null,null,null,null,null,null,null,null,null,null,null,126]
[null,null,null,null,null,null,null,null,null,null,null,null,null,null,null,null,null,null,127]
[null,null,null,null,null,null,null,null,null,null,null,null,null,null,null,null,null,null,128]
[null,null,null,null,null,null,null,null,null,null,null,null,null,null,null,null,null,null,129]
[null,null,null,null,null,null,null,null,null,null,null,null,null,null,null,null,null,null,130]
[null,null,null,null,null,null,null,null,null,null,null,null,null,null,null,null,null,null,131]
[null,null,null,null,null,null,null,null,null,null,null,null,null,null,null,null,null,null,132]
[null,null,null,null,null,null,null,null,null,null,null,null,null,null,null,null,null,null,133]
[null,null,null,null,null,null,null,null,null,null,null,null,null,null,null,null,null,null,134]
[null,null,null,null,null,null,null,null,null,null,null,null,null,null,null,null,null,null,135]
[null,null,null,null,null,null,null,null,null,null,null,null,null,null,null,null,null,null,136]
[null,null,null,null,null,null,null,null,null,null,null,null,null,null,null,null,null,null,137]
[null,null,null,null,null,null,null,null,null,null,null,null,null,null,null,null,null,null,138]
[null,null,null,null,null,null,null,null,null,null,null,null,null,null,null,null,null,null,139]
[null,null,null,null,null,null,null,null,null,null,null,null,null,null,null,null,null,null,140]
[null,null,null,null,null,null,null,null,null,null,null,null,null,null,null,null,null,null,141]
[null,null,null,null,null,null,null,null,null,null,null,null,null,null,null,null,null,null,142]
[null,null,null,null,null,null,null,null,null,null,null,null,null,null,null,null,null,null,143]
[null,null,null,null,null,null,null,null,null,null,null,null,null,null,null,null,null,null,144]
[null,null,null,null,null,null,null,null,null,null,null,null,null,null,null,null,null,null,145]
[null,null,null,null,null,null,null,null,null,null,null,null,null,null,null,null,null,null,146]
[null,null,null,null,null,null,null,null,null,null,null,null,null,null,null,null,null,null,147]
[null,null,null,null,null,null,null,null,null,null,null,null,null,null,null,null,null,null,148]
[null,null,null,null,null,null,null,null,null,null,null,null,null,null,null,null,null,null,149]
[null,null,null,null,null,null,null,null,null,null,null,null,null,null,null,null,null,null,150]
[null,null,null,null,null,null,null,null,null,null,null,null,null,null,null,null,null,null,151]
[null,null,null,null,null,null,null,null,null,null,null,null,null,null,null,null,null,null,152]
[null,null,null,null,null,null,null,null,null,null,null,null,null,null,null,null,null,null,153]
[null,null,null,null,null,null,null,null,null,null,null,null,null,null,null,null,null,null,154]
[null,null,null,null,null,null,null,null,null,null,null,null,null,null,null,null,null,null,155]
[null,null,null,null,null,null,null,null,null,null,null,null,null,null,null,null,null,null,156]
[null,null,null,null,null,null,null,null,null,null,null,null,null,null,null,null,null,null,157]
[null,null,null,null,null,null,null,null,null,null,null,null,null,null,null,null,null,null,158]
[null,null,null,null,null,null,null,null,null,null,null,null,null,null,null,null,null,null,159]
[null,null,null,null,null,null,null,null,null,null,null,null,null,null,null,null,null,null,160]
[null,null,null,null,null,null,null,null,null,null,null,null,null,null,null,null,null,null,161]
[null,null,null,null,null,null,null,null,null,null,null,null,null,null,null,null,null,null,162]
[null,null,null,null,null,null,null,null,null,null,null,null,null,null,null,null,null,null,163]
[null,null,null,null,null,null,null,null,null,null,null,null,null,null,null,null,null,null,164]
[null,null,null,null,null,null,null,null,null,null,null,null,null,null,null,null,null,null,165]
[null,null,null,null,null,null,null,null,null,null,null,null,null,null,null,null,null,null,166]
[null,null,null,null,null,null,null,null,null,null,null,null,null,null,null,null,null,null,167]
[null,null,null,null,null,null,null,null,null,null,null,null,null,null,null,null,null,null,168]
[null,null,null,null,null,null,null,null,null,null,null,null,null,null,null,null,null,null,169]
[null,null,null,null,null,null,null,null,null,null,null,null,null,null,null,null,null,null,170]
[null,null,null,null,null,null,null,null,null,null,null,null,null,null,null,null,null,null,171]
[null,null,null,null,null,null,null,null,null,null,null,null,null,null,null,null,null,null,172]
[null,null,null,null,null,null,null,null,null,null,null,null,null,null,null,null,null,null,173]
[null,null,null,null,null,null,null,null,null,null,null,null,null,null,null,null,null,null,174]
[null,null,null,null,null,null,null,null,null,null,null,null,null,null,null,null,null,null,175]
[null,null,null,null,null,null,null,null,null,null,null,null,null,null,null,null,null,null,176]
[null,null,null,null,null,null,null,null,null,null,null,null,null,null,null,null,null,null,177]
[null,null,null,null,null,null,null,null,null,null,null,null,null,null,null,null,null,null,178]
[null,null,null,null,null,null,null,null,null,null,null,null,null,null,null,null,null,null,179]
[null,null,null,null,null,null,null,null,null,null,null,null,null,null,null,null,null,null,180]
[null,null,null,null,null,null,null,null,null,null,null,null,null,null,null,null,null,null,181]
[null,null,null,null,null,null,null,null,null,null,null,null,null,null,null,null,null,null,182]
[null,null,null,null,null,null,null,null,null,null,null,null,null,null,null,null,null,null,183]
[null,null,null,null,null,null,null,null,null,null,null,null,null,null,null,null,null,null,184]
[null,null,null,null,null,null,null,null,null,null,null,null,null,null,null,null,null,null,185]
[null,null,null,null,null,null,null,null,null,null,null,null,null,null,null,null,null,null,186]
[null,null,null,null,null,null,null,null,null,null,null,null,null,null,null,null,null,null,187]
[null,null,null,null,null,null,null,null,null,null,null,null,null,null,null,null,null,null,188]
[null,null,null,null,null,null,null,null,null,null,null,null,null,null,null,null,null,null,189]
[null,null,null,null,null,null,null,null,null,null,null,null,null,null,null,null,null,null,190]
[null,null,null,null,null,null,null,null,null,null,null,null,null,null,null,null,null,null,191]
[null,null,null,null,null,null,null,null,null,null,null,null,null,null,null,null,null,null,192]
[null,null,null,null,null,null,null,null,null,null,null,null,null,null,null,null,null,null,193]
[null,null,null,null,null,null,null,null,null,null,null,null,null,null,null,null,null,null,194]
[null,null,null,null,null,null,null,null,null,null,null,null,null,null,null,null,null,null,195]
[null,null,null,null,null,null,null,null,null,null,null,null,null,null,null,null,null,null,196]
[null,null,null,null,null,null,null,null,null,null,null,null,null,null,null,null,null,null,197]
[null,null,null,null,null,null,null,null,null,null,null,null,null,null,null,null,null,null,198]
[null,null,null,null,null,null,null,null,null,null,null,null,null,null,null,null,null,null,199]
[null,null,null,null,null,null,null,null,null,null,null,null,null,null,null,null,null,null,200]
[null,null,null,null,null,null,null,null,null,null,null,null,null,null,null,null,null,null,201]
[null,null,null,null,null,null,null,null,null,null,null,null,null,null,null,null,null,null,202]
[null,null,null,null,null,null,null,null,null,null,null,null,null,null,null,null,null,null,203]
[null,null,null,null,null,null,null,null,null,null,null,null,null,null,null,null,null,null,204]
[null,null,null,null,null,null,null,null,null,null,null,null,null,null,null,null,null,null,205]
[null,null,null,null,null,null,null,null,null,null,null,null,null,null,null,null,null,null,206]
[null,null,null,null,null,null,null,null,null,null,null,null,null,null,null,null,null,null,207]
[null,null,null,null,null,null,null,null,null,null,null,null,null,null,null,null,null,null,208]
[null,null,null,null,null,null,null,null,null,null,null,null,null,null,null,null,null,null,209]
[null,null,null,null,null,null,null,null,null,null,null,null,null,null,null,null,null,null,210]
[null,null,null,null,null,null,null,null,null,null,null,null,null,null,null,null,null,null,211]
[null,null,null,null,null,null,null,null,null,null,null,null,null,null,null,null,null,null,212]
[null,null,null,null,null,null,null,null,null,null,null,null,null,null,null,null,null,null,213]
[null,null,null,null,null,null,null,null,null,null,null,null,null,null,null,null,null,null,214]
[null,null,null,null,null,null,null,null,null,null,null,null,null,null,null,null,null,null,215]
[null,null,null,null,null,null,null,null,null,null,null,null,null,null,null,null,null,null,216]
[null,null,null,null,null,null,null,null,null,null,null,null,null,null,null,null,null,null,217]
[null,null,null,null,null,null,null,null,null,null,null,null,null,null,null,null,null,null,218]
[null,null,null,null,null,null,null,null,null,null,null,null,null,null,null,null,null,null,219]
[null,null,null,null,null,null,null,null,null,null,null,null,null,null,null,null,null,null,220]
[null,null,null,null,null,null,null,null,null,null,null,null,null,null,null,null,null,null,221]
[null,null,null,null,null,null,null,null,null,null,null,null,null,null,null,null,null,null,222]
[null,null,null,null,null,null,null,null,null,null,null,null,null,null,null,null,null,null,223]
[null,null,null,null,null,null,null,null,null,null,null,null,null,null,null,null,null,null,224]
[null,null,null,null,null,null,null,null,null,null,null,null,null,null,null,null,null,null,225]
[null,null,null,null,null,null,null,null,null,null,null,null,null,null,null,null,null,null,226]
[null,null,null,null,null,null,null,null,null,null,null,null,null,null,null,null,null,null,227]
[null,null,null,null,null,null,null,null,null,null,null,null,null,null,null,null,null,null,228]
[null,null,null,null,null,null,null,null,null,null,null,null,null,null,null,null,null,null,229]
[null,null,null,null,null,null,null,null,null,null,null,null,null,null,null,null,null,null,230]
[null,null,null,null,null,null,null,null,null,null,null,null,null,null,null,null,null,null,231]
[null,null,null,null,null,null,null,null,null,null,null,null,null,null,null,null,null,null,232]
[null,null,null,null,null,null,null,null,null,null,null,null,null,null,null,null,null,null,233]
[null,null,null,null,null,null,null,null,null,null,null,null,null,null,null,null,null,null,234]
[null,null,null,null,null,null,null,null,null,null,null,null,null,null,null,null,null,null,235]
[null,null,null,null,null,null,null,null,null,null,null,null,null,null,null,null,null,null,236]
[null,null,null,null,null,null,null,null,null,null,null,null,null,null,null,null,null,null,237]
[null,null,null,null,null,null,null,null,null,null,null,null,null,null,null,null,null,null,238]
[null,null,null,null,null,null,null,null,null,null,null,null,null,null,null,null,null,null,239]
[null,null,null,null,null,null,null,null,null,null,null,null,null,null,null,null,null,null,240]
[null,null,null,null,null,null,null,null,null,null,null,null,null,null,null,null,null,null,241]
[null,null,null,null,null,null,null,null,null,null,null,null,null,null,null,null,null,null,242]
[null,null,null,null,null,null,null,null,null,null,null,null,null,null,null,null,null,null,243]
[null,null,null,null,null,null,null,null,null,null,null,null,null,null,null,null,null,null,244]
[null,null,null,null,null,null,null,null,null,null,null,null,null,null,null,null,null,null,245]
[null,null,null,null,null,null,null,null,null,null,null,null,null,null,null,null,null,null,246]
[null,null,null,null,null,null,null,null,null,null,null,null,null,null,null,null,null,null,247]
[null,null,null,null,null,null,null,null,null,null,null,null,null,null,null,null,null,null,248]
[null,null,null,null,null,null,null,null,null,null,null,null,null,null,null,null,null,null,249]
[null,null,null,null,null,null,null,null,null,null,null,null,null,null,null,null,null,null,250]

{"sheet":"praman patra","index":11,"n_rows":499,"n_cols":19,"rows_kept":499,"cut":false,"hidden":false,"merged":[[1,1,1,11],[24,1,24,3],[24,9,24,11],[27,7,27,8],[32,1,33,2],[32,5,33,6],[32,10,33,11],[20,9,20,10],[21,3,21,7],[23,2,23,6],[23,7,23,9],[23,10,23,11],[19,1,19,11],[9,7,9,8],[14,1,15,2],[14,5,15,6],[14,10,15,11],[3,3,3,7],[2,9,2,10],[5,7,5,9],[5,2,5,6],[6,1,6,3],[6,9,6,11],[5,10,5,11],[7,6,7,10]]}
[]
[null,{"$f":"master!B2","v":" राजकीय उच्च माध्यमिक विद्यालय आलनियावास जिला - नागौर"}]
[null,"क्रमांक",79,null,null,null,null,null,"दिनांक :","31-05-2024"]
[null,null,null,"प्रमाण पत्र",null,null,null,null,null,null,null,null,null,null,null,null,null,null,1]
[null,null,null,null,null,null,null,null,null,null,null,null,null,null,null,null,null,null,2]
[null,null,"प्रमाणित किया जाता है कि विद्यार्थी",null,null,null,null,{"$f":"VLOOKUP($C$3,MARKSS,5)","v":"Aakash Suwasiya"},null,null,"पुत्र/पुत्री ",null,null,null,null,null,null,null,3]
[null,{"$f":"VLOOKUP($C$3,MARKSS,6)","v":"Bhanwar Lal"},null,null,"प्रवेशांक",{"$f":"VLOOKUP(C3,MARKSS,4)","v":5336},"कक्षा",11,"उत्तीर्ण","ने पीएम श्री राजकीय",null,null,null,null,null,null,null,null,4]
[null,"उच्च माध्यमिक विद्यालय आलनियावास में दिनांक 17-05-2024 से 31-05-2024 तक",null,null,null,null,{"$f":"'marks entry'!H2","v":"दिनांक : 17.05.2025 से 31.05.2025"},null,null,null,null,"तक",null,null,null,null,null,null,5]
[null,"माध्यमिक शिक्षा बोर्ड अजमेर के निर्देशानुसार ग्रीष्मकालीन समाज सेवा शिविर की चार ",null,null,null,null,null,null,null,null,null,null,null,null,null,null,null,null,6]
[null,"गतिविधियों में भाग लिया उक्त विद्यार्थी का कार्य",null,null,null,null,null,{"$f":"VLOOKUP(C3,MARKSS,32)","v":"सामान्य"},null,"रहा |",null,null,null,null,null,null,null,null,7]
[null,null,"विद्यालय परिवार उक्त विद्यार्थी के उज्ज्वल भविष्य की कामना करता है |",null,null,null,null,null,null,null,null,null,null,null,null,null,null,null,9]
[null,null,null,null,null,null,null,null,null,null,null,null,null,null,null,null,null,null,10]
[null,null,null,null,null,null,null,null,null,null,null,null,null,null,null,null,null,null,11]
[null,null,null,null,null,null,null,null,null,null,null,null,null,null,null,null,null,null,12]
[null,"दलनायक शिक्षक के हस्ताक्षर",null,null,null,"शिविर प्रभारी के हस्ताक्षर",null,null,null,null,"संस्था प्रधान के हस्ताक्षर",null,null,null,null,null,null,null,13]
[null,null,null,null,null,null,null,null,null,null,null,null,null,null,null,null,null,null,14]
[null,null,null,null,null,null,null,null,"made by- vijay prajapat",null,null,null,null,null,null,null,null,null,16]
[null,null,null,null,null,null,null,null,null,null,null,null,null,null,null,null,null,null,17]
[null,null,null,null,null,null,null,null,null,null,null,null,null,null,null,null,null,null,18]
[null,{"$f":"B2","v":" राजकीय उच्च माध्यमिक विद्यालय आलनियावास जिला - नागौर"},null,null,null,null,null,null,null,null,null,null,null,null,null,null,null,null,19]
[null,"क्रमांक",{"$f":"C3+1","v":80},null,null,null,null,null,"दिनांक:-","31-05-2024",null,null,null,null,null,null,null,null,20]
[null,null,null,"प्रमाण पत्र",null,null,null,null,null,null,null,null,null,null,null,null,null,null,21]
[null,null,null,null,null,null,null,null,null,null,null,null,null,null,null,null,null,null,22]
[null,null,"प्रमाणित किया जाता है कि विद्यार्थी",null,null,null,null,{"$f":"VLOOKUP(C21,MARKSS,5)","v":"Aakash Suwasiya"},null,null,"पुत्र/पुत्री ",null,null,null,null,null,null,null,23]
[null,{"$f":"VLOOKUP(C21,MARKSS,6)","v":"Bhanwar Lal"},null,null,"प्रवेशांक",{"$f":"VLOOKUP(C21,MARKSS,4)","v":5042},"कक्षा",11,"उत्तीर्ण","ने पीएम श्री राजकीय",null,null,null,null,null,null,null,null,24]
[null,"उच्च माध्यमिक विद्यालय आलनियावास में दिनांक 17-05-2024 से 31-05-2024 तक",null,null,null,null,null,null,null,null,null,null,null,null,null,null,null,null,25]
[null,"माध्यमिक शिक्षा बोर्ड अजमेर के निर्देशानुसार ग्रीष्मकालीन समाज सेवा शिविर की चार ",null,null,null,null,null,null,null,null,null,null,null,null,null,null,null,null,26]
[null,"गतिविधियों में भाग लिया उक्त विद्यार्थी का कार्य",null,null,null,null,null,{"$f":"VLOOKUP(C21,MARKSS,32)","v":"उत्तम"},null,"रहा |",null,null,null,null,null,null,null,null,27]
[null,null,"विद्यालय परिवार उक्त विद्यार्थी के उज्ज्वल भविष्य की कामना करता है |",null,null,null,null,null,null,null,null,null,null,null,null,null,null,null,29]
[null,null,null,null,null,null,null,null,null,null,null,null,null,null,null,null,null,null,30]
[null,null,null,null,null,null,null,null,null,null,null,null,null,null,null,null,null,null,31]
[null,null,null,null,null,null,null,null,null,null,null,null,null,null,null,null,null,null,32]
[null,"दलनायक शिक्षक के हस्ताक्षर",null,null,null,"शिविर प्रभारी के हस्ताक्षर",null,null,null,null,"संस्था प्रधान के हस्ताक्षर",null,null,null,null,null,null,null,33]
[null,null,null,null,null,null,null,null,null,null,null,null,null,null,null,null,null,null,34]
[null,null,null,null,null,null,null,null,"made by- vijay prajapat",null,null,null,null,null,null,null,null,null,36]
[null,null,null,null,null,null,null,null,null,null,null,null,null,null,null,null,null,null,37]
[null,null,null,null,null,null,null,null,null,null,null,null,null,null,null,null,null,null,38]
[null,null,null,null,null,null,null,null,null,null,null,null,null,null,null,null,null,null,39]
[null,null,null,null,null,null,null,null,null,null,null,null,null,null,null,null,null,null,40]
[null,null,null,null,null,null,null,null,null,null,null,null,null,null,null,null,null,null,41]
[null,null,null,null,null,null,null,null,null,null,null,null,null,null,null,null,null,null,42]
[null,null,null,null,null,null,null,null,null,null,null,null,null,null,null,null,null,null,43]
[null,null,null,null,null,null,null,null,null,null,null,null,null,null,null,null,null,null,44]
[null,null,null,null,null,null,null,null,null,null,null,null,null,null,null,null,null,null,45]
[null,null,null,null,null,null,null,null,null,null,null,null,null,null,null,null,null,null,46]
[null,null,null,null,null,null,null,null,null,null,null,null,null,null,null,null,null,null,47]
[null,null,null,null,null,null,null,null,null,null,null,null,null,null,null,null,null,null,48]
[null,null,null,null,null,null,null,null,null,null,null,null,null,null,null,null,null,null,49]
[null,null,null,null,null,null,null,null,null,null,null,null,null,null,null,null,null,null,50]
[null,null,null,null,null,null,null,null,null,null,null,null,null,null,null,null,null,null,51]
[null,null,null,null,null,null,null,null,null,null,null,null,null,null,null,null,null,null,52]
[null,null,null,null,null,null,null,null,null,null,null,null,null,null,null,null,null,null,53]
[null,null,null,null,null,null,null,null,null,null,null,null,null,null,null,null,null,null,54]
[null,null,null,null,null,null,null,null,null,null,null,null,null,null,null,null,null,null,55]
[null,null,null,null,null,null,null,null,null,null,null,null,null,null,null,null,null,null,56]
[null,null,null,null,null,null,null,null,null,null,null,null,null,null,null,null,null,null,57]
[null,null,null,null,null,null,null,null,null,null,null,null,null,null,null,null,null,null,58]
[null,null,null,null,null,null,null,null,null,null,null,null,null,null,null,null,null,null,59]
[null,null,null,null,null,null,null,null,null,null,null,null,null,null,null,null,null,null,60]
[null,null,null,null,null,null,null,null,null,null,null,null,null,null,null,null,null,null,61]
[null,null,null,null,null,null,null,null,null,null,null,null,null,null,null,null,null,null,62]
[null,null,null,null,null,null,null,null,null,null,null,null,null,null,null,null,null,null,63]
[null,null,null,null,null,null,null,null,null,null,null,null,null,null,null,null,null,null,64]
[null,null,null,null,null,null,null,null,null,null,null,null,null,null,null,null,null,null,65]
[null,null,null,null,null,null,null,null,null,null,null,null,null,null,null,null,null,null,66]
[null,null,null,null,null,null,null,null,null,null,null,null,null,null,null,null,null,null,67]
[null,null,null,null,null,null,null,null,null,null,null,null,null,null,null,null,null,null,68]
[null,null,null,null,null,null,null,null,null,null,null,null,null,null,null,null,null,null,69]
[null,null,null,null,null,null,null,null,null,null,null,null,null,null,null,null,null,null,70]
[null,null,null,null,null,null,null,null,null,null,null,null,null,null,null,null,null,null,71]
[null,null,null,null,null,null,null,null,null,null,null,null,null,null,null,null,null,null,72]
[null,null,null,null,null,null,null,null,null,null,null,null,null,null,null,null,null,null,73]
[null,null,null,null,null,null,null,null,null,null,null,null,null,null,null,null,null,null,74]
[null,null,null,null,null,null,null,null,null,null,null,null,null,null,null,null,null,null,75]
[null,null,null,null,null,null,null,null,null,null,null,null,null,null,null,null,null,null,76]
[null,null,null,null,null,null,null,null,null,null,null,null,null,null,null,null,null,null,77]
[null,null,null,null,null,null,null,null,null,null,null,null,null,null,null,null,null,null,78]
[null,null,null,null,null,null,null,null,null,null,null,null,null,null,null,null,null,null,79]
[null,null,null,null,null,null,null,null,null,null,null,null,null,null,null,null,null,null,80]
[null,null,null,null,null,null,null,null,null,null,null,null,null,null,null,null,null,null,81]
[null,null,null,null,null,null,null,null,null,null,null,null,null,null,null,null,null,null,82]
[null,null,null,null,null,null,null,null,null,null,null,null,null,null,null,null,null,null,83]
[null,null,null,null,null,null,null,null,null,null,null,null,null,null,null,null,null,null,84]
[null,null,null,null,null,null,null,null,null,null,null,null,null,null,null,null,null,null,85]
[null,null,null,null,null,null,null,null,null,null,null,null,null,null,null,null,null,null,86]
[null,null,null,null,null,null,null,null,null,null,null,null,null,null,null,null,null,null,87]
[null,null,null,null,null,null,null,null,null,null,null,null,null,null,null,null,null,null,88]
[null,null,null,null,null,null,null,null,null,null,null,null,null,null,null,null,null,null,89]
[null,null,null,null,null,null,null,null,null,null,null,null,null,null,null,null,null,null,90]
[null,null,null,null,null,null,null,null,null,null,null,null,null,null,null,null,null,null,91]
[null,null,null,null,null,null,null,null,null,null,null,null,null,null,null,null,null,null,92]
[null,null,null,null,null,null,null,null,null,null,null,null,null,null,null,null,null,null,93]
[null,null,null,null,null,null,null,null,null,null,null,null,null,null,null,null,null,null,94]
[null,null,null,null,null,null,null,null,null,null,null,null,null,null,null,null,null,null,95]
[null,null,null,null,null,null,null,null,null,null,null,null,null,null,null,null,null,null,96]
[null,null,null,null,null,null,null,null,null,null,null,null,null,null,null,null,null,null,97]
[null,null,null,null,null,null,null,null,null,null,null,null,null,null,null,null,null,null,98]
[null,null,null,null,null,null,null,null,null,null,null,null,null,null,null,null,null,null,99]
[null,null,null,null,null,null,null,null,null,null,null,null,null,null,null,null,null,null,100]
[null,null,null,null,null,null,null,null,null,null,null,null,null,null,null,null,null,null,101]
[null,null,null,null,null,null,null,null,null,null,null,null,null,null,null,null,null,null,102]
[null,null,null,null,null,null,null,null,null,null,null,null,null,null,null,null,null,null,103]
[null,null,null,null,null,null,null,null,null,null,null,null,null,null,null,null,null,null,104]
[null,null,null,null,null,null,null,null,null,null,null,null,null,null,null,null,null,null,105]
[null,null,null,null,null,null,null,null,null,null,null,null,null,null,null,null,null,null,106]
[null,null,null,null,null,null,null,null,null,null,null,null,null,null,null,null,null,null,107]
[null,null,null,null,null,null,null,null,null,null,null,null,null,null,null,null,null,null,108]
[null,null,null,null,null,null,null,null,null,null,null,null,null,null,null,null,null,null,109]
[null,null,null,null,null,null,null,null,null,null,null,null,null,null,null,null,null,null,110]
[null,null,null,null,null,null,null,null,null,null,null,null,null,null,null,null,null,null,111]
[null,null,null,null,null,null,null,null,null,null,null,null,null,null,null,null,null,null,112]
[null,null,null,null,null,null,null,null,null,null,null,null,null,null,null,null,null,null,113]
[null,null,null,null,null,null,null,null,null,null,null,null,null,null,null,null,null,null,114]
[null,null,null,null,null,null,null,null,null,null,null,null,null,null,null,null,null,null,115]
[null,null,null,null,null,null,null,null,null,null,null,null,null,null,null,null,null,null,116]
[null,null,null,null,null,null,null,null,null,null,null,null,null,null,null,null,null,null,117]
[null,null,null,null,null,null,null,null,null,null,null,null,null,null,null,null,null,null,118]
[null,null,null,null,null,null,null,null,null,null,null,null,null,null,null,null,null,null,119]
[null,null,null,null,null,null,null,null,null,null,null,null,null,null,null,null,null,null,120]
[null,null,null,null,null,null,null,null,null,null,null,null,null,null,null,null,null,null,121]
[null,null,null,null,null,null,null,null,null,null,null,null,null,null,null,null,null,null,122]
[null,null,null,null,null,null,null,null,null,null,null,null,null,null,null,null,null,null,123]
[null,null,null,null,null,null,null,null,null,null,null,null,null,null,null,null,null,null,124]
[null,null,null,null,null,null,null,null,null,null,null,null,null,null,null,null,null,null,125]
[null,null,null,null,null,null,null,null,null,null,null,null,null,null,null,null,null,null,126]
[null,null,null,null,null,null,null,null,null,null,null,null,null,null,null,null,null,null,127]
[null,null,null,null,null,null,null,null,null,null,null,null,null,null,null,null,null,null,128]
[null,null,null,null,null,null,null,null,null,null,null,null,null,null,null,null,null,null,129]
[null,null,null,null,null,null,null,null,null,null,null,null,null,null,null,null,null,null,130]
[null,null,null,null,null,null,null,null,null,null,null,null,null,null,null,null,null,null,131]
[null,null,null,null,null,null,null,null,null,null,null,null,null,null,null,null,null,null,132]
[null,null,null,null,null,null,null,null,null,null,null,null,null,null,null,null,null,null,133]
[null,null,null,null,null,null,null,null,null,null,null,null,null,null,null,null,null,null,134]
[null,null,null,null,null,null,null,null,null,null,null,null,null,null,null,null,null,null,135]
[null,null,null,null,null,null,null,null,null,null,null,null,null,null,null,null,null,null,136]
[null,null,null,null,null,null,null,null,null,null,null,null,null,null,null,null,null,null,137]
[null,null,null,null,null,null,null,null,null,null,null,null,null,null,null,null,null,null,138]
[null,null,null,null,null,null,null,null,null,null,null,null,null,null,null,null,null,null,139]
[null,null,null,null,null,null,null,null,null,null,null,null,null,null,null,null,null,null,140]
[null,null,null,null,null,null,null,null,null,null,null,null,null,null,null,null,null,null,141]
[null,null,null,null,null,null,null,null,null,null,null,null,null,null,null,null,null,null,142]
[null,null,null,null,null,null,null,null,null,null,null,null,null,null,null,null,null,null,143]
[null,null,null,null,null,null,null,null,null,null,null,null,null,null,null,null,null,null,144]
[null,null,null,null,null,null,null,null,null,null,null,null,null,null,null,null,null,null,145]
[null,null,null,null,null,null,null,null,null,null,null,null,null,null,null,null,null,null,146]
[null,null,null,null,null,null,null,null,null,null,null,null,null,null,null,null,null,null,147]
[null,null,null,null,null,null,null,null,null,null,null,null,null,null,null,null,null,null,148]
[null,null,null,null,null,null,null,null,null,null,null,null,null,null,null,null,null,null,149]
[null,null,null,null,null,null,null,null,null,null,null,null,null,null,null,null,null,null,150]
[null,null,null,null,null,null,null,null,null,null,null,null,null,null,null,null,null,null,151]
[null,null,null,null,null,null,null,null,null,null,null,null,null,null,null,null,null,null,152]
[null,null,null,null,null,null,null,null,null,null,null,null,null,null,null,null,null,null,153]
[null,null,null,null,null,null,null,null,null,null,null,null,null,null,null,null,null,null,154]
[null,null,null,null,null,null,null,null,null,null,null,null,null,null,null,null,null,null,155]
[null,null,null,null,null,null,null,null,null,null,null,null,null,null,null,null,null,null,156]
[null,null,null,null,null,null,null,null,null,null,null,null,null,null,null,null,null,null,157]
[null,null,null,null,null,null,null,null,null,null,null,null,null,null,null,null,null,null,158]
[null,null,null,null,null,null,null,null,null,null,null,null,null,null,null,null,null,null,159]
[null,null,null,null,null,null,null,null,null,null,null,null,null,null,null,null,null,null,160]
[null,null,null,null,null,null,null,null,null,null,null,null,null,null,null,null,null,null,161]
[null,null,null,null,null,null,null,null,null,null,null,null,null,null,null,null,null,null,162]
[null,null,null,null,null,null,null,null,null,null,null,null,null,null,null,null,null,null,163]
[null,null,null,null,null,null,null,null,null,null,null,null,null,null,null,null,null,null,164]
[null,null,null,null,null,null,null,null,null,null,null,null,null,null,null,null,null,null,165]
[null,null,null,null,null,null,null,null,null,null,null,null,null,null,null,null,null,null,166]
[null,null,null,null,null,null,null,null,null,null,null,null,null,null,null,null,null,null,167]
[null,null,null,null,null,null,null,null,null,null,null,null,null,null,null,null,null,null,168]
[null,null,null,null,null,null,null,null,null,null,null,null,null,null,null,null,null,null,169]
[null,null,null,null,null,null,null,null,null,null,null,null,null,null,null,null,null,null,170]
[null,null,null,null,null,null,null,null,null,null,null,null,null,null,null,null,null,null,171]
[null,null,null,null,null,null,null,null,null,null,null,null,null,null,null,null,null,null,172]
[null,null,null,null,null,null,null,null,null,null,null,null,null,null,null,null,null,null,173]
[null,null,null,null,null,null,null,null,null,null,null,null,null,null,null,null,null,null,174]
[null,null,null,null,null,null,null,null,null,null,null,null,null,null,null,null,null,null,175]
[null,null,null,null,null,null,null,null,null,null,null,null,null,null,null,null,null,null,176]
[null,null,null,null,null,null,null,null,null,null,null,null,null,null,null,null,null,null,177]
[null,null,null,null,null,null,null,null,null,null,null,null,null,null,null,null,null,null,178]
[null,null,null,null,null,null,null,null,null,null,null,null,null,null,null,null,null,null,179]
[null,null,null,null,null,null,null,null,null,null,null,null,null,null,null,null,null,null,180]
[null,null,null,null,null,null,null,null,null,null,null,null,null,null,null,null,null,null,181]
[null,null,null,null,null,null,null,null,null,null,null,null,null,null,null,null,null,null,182]
[null,null,null,null,null,null,null,null,null,null,null,null,null,null,null,null,null,null,183]
[null,null,null,null,null,null,null,null,null,null,null,null,null,null,null,null,null,null,184]
[null,null,null,null,null,null,null,null,null,null,null,null,null,null,null,null,null,null,185]
[null,null,null,null,null,null,null,null,null,null,null,null,null,null,null,null,null,null,186]
[null,null,null,null,null,null,null,null,null,null,null,null,null,null,null,null,null,null,187]
[null,null,null,null,null,null,null,null,null,null,null,null,null,null,null,null,null,null,188]
[null,null,null,null,null,null,null,null,null,null,null,null,null,null,null,null,null,null,189]
[null,null,null,null,null,null,null,null,null,null,null,null,null,null,null,null,null,null,190]
[null,null,null,null,null,null,null,null,null,null,null,null,null,null,null,null,null,null,191]
[null,null,null,null,null,null,null,null,null,null,null,null,null,null,null,null,null,null,192]
[null,null,null,null,null,null,null,null,null,null,null,null,null,null,null,null,null,null,193]
[null,null,null,null,null,null,null,null,null,null,null,null,null,null,null,null,null,null,194]
[null,null,null,null,null,null,null,null,null,null,null,null,null,null,null,null,null,null,195]
[null,null,null,null,null,null,null,null,null,null,null,null,null,null,null,null,null,null,196]
[null,null,null,null,null,null,null,null,null,null,null,null,null,null,null,null,null,null,197]
[null,null,null,null,null,null,null,null,null,null,null,null,null,null,null,null,null,null,198]
[null,null,null,null,null,null,null,null,null,null,null,null,null,null,null,null,null,null,199]
[null,null,null,null,null,null,null,null,null,null,null,null,null,null,null,null,null,null,200]
[null,null,null,null,null,null,null,null,null,null,null,null,null,null,null,null,null,null,201]
[null,null,null,null,null,null,null,null,null,null,null,null,null,null,null,null,null,null,202]
[null,null,null,null,null,null,null,null,null,null,null,null,null,null,null,null,null,null,203]
[null,null,null,null,null,null,null,null,null,null,null,null,null,null,null,null,null,null,204]
[null,null,null,null,null,null,null,null,null,null,null,null,null,null,null,null,null,null,205]
[null,null,null,null,null,null,null,null,null,null,null,null,null,null,null,null,null,null,206]
[null,null,null,null,null,null,null,null,null,null,null,null,null,null,null,null,null,null,207]
[null,null,null,null,null,null,null,null,null,null,null,null,null,null,null,null,null,null,208]
[null,null,null,null,null,null,null,null,null,null,null,null,null,null,null,null,null,null,209]
[null,null,null,null,null,null,null,null,null,null,null,null,null,null,null,null,null,null,210]
[null,null,null,null,null,null,null,null,null,null,null,null,null,null,null,null,null,null,211]
[null,null,null,null,null,null,null,null,null,null,null,null,null,null,null,null,null,null,212]
[null,null,null,null,null,null,null,null,null,null,null,null,null,null,null,null,null,null,213]
[null,null,null,null,null,null,null,null,null,null,null,null,null,null,null,null,null,null,214]
[null,null,null,null,null,null,null,null,null,null,null,null,null,null,null,null,null,null,215]
[null,null,null,null,null,null,null,null,null,null,null,null,null,null,null,null,null,null,216]
[null,null,null,null,null,null,null,null,null,null,null,null,null,null,null,null,null,null,217]
[null,null,null,null,null,null,null,null,null,null,null,null,null,null,null,null,null,null,218]
[null,null,null,null,null,null,null,null,null,null,null,null,null,null,null,null,null,null,219]
[null,null,null,null,null,null,null,null,null,null,null,null,null,null,null,null,null,null,220]
[null,null,null,null,null,null,null,null,null,null,null,null,null,null,null,null,null,null,221]
[null,null,null,null,null,null,null,null,null,null,null,null,null,null,null,null,null,null,222]
[null,null,null,null,null,null,null,null,null,null,null,null,null,null,null,null,null,null,223]
[null,null,null,null,null,null,null,null,null,null,null,null,null,null,null,null,null,null,224]
[null,null,null,null,null,null,null,null,null,null,null,null,null,null,null,null,null,null,225]
[null,null,null,null,null,null,null,null,null,null,null,null,null,null,null,null,null,null,226]
[null,null,null,null,null,null,null,null,null,null,null,null,null,null,null,null,null,null,227]
[null,null,null,null,null,null,null,null,null,null,null,null,null,null,null,null,null,null,228]
[null,null,null,null,null,null,null,null,null,null,null,null,null,null,null,null,null,null,229]
[null,null,null,null,null,null,null,null,null,null,null,null,null,null,null,null,null,null,230]
[null,null,null,null,null,null,null,null,null,null,null,null,null,null,null,null,null,null,231]
[null,null,null,null,null,null,null,null,null,null,null,null,null,null,null,null,null,null,232]
[null,null,null,null,null,null,null,null,null,null,null,null,null,null,null,null,null,null,233]
[null,null,null,null,null,null,null,null,null,null,null,null,null,null,null,null,null,null,234]
[null,null,null,null,null,null,null,null,null,null,null,null,null,null,null,null,null,null,235]
[null,null,null,null,null,null,null,null,null,null,null,null,null,null,null,null,null,null,236]
[null,null,null,null,null,null,null,null,null,null,null,null,null,null,null,null,null,null,237]
[null,null,null,null,null,null,null,null,null,null,null,null,null,null,null,null,null,null,238]
[null,null,null,null,null,null,null,null,null,null,null,null,null,null,null,null,null,null,239]
[null,null,null,null,null,null,null,null,null,null,null,null,null,null,null,null,null,null,240]
[null,null,null,null,null,null,null,null,null,null,null,null,null,null,null,null,null,null,241]
[null,null,null,null,null,null,null,null,null,null,null,null,null,null,null,null,null,null,242]
[null,null,null,null,null,null,null,null,null,null,null,null,null,null,null,null,null,null,243]
[null,null,null,null,null,null,null,null,null,null,null,null,null,null,null,null,null,null,244]
[null,null,null,null,null,null,null,null,null,null,null,null,null,null,null,null,null,null,245]
[null,null,null,null,null,null,null,null,null,null,null,null,null,null,null,null,null,null,246]
[null,null,null,null,null,null,null,null,null,null,null,null,null,null,null,null,null,null,247]
[null,null,null,null,null,null,null,null,null,null,null,null,null,null,null,null,null,null,248]
[null,null,null,null,null,null,null,null,null,null,null,null,null,null,null,null,null,null,249]
[null,null,null,null,null,null,null,null,null,null,null,null,null,null,null,null,null,null,250]
[null,null,null,null,null,null,null,null,null,null,null,null,null,null,null,null,null,null,251]
[null,null,null,null,null,null,null,null,null,null,null,null,null,null,null,null,null,null,252]
[null,null,null,null,null,null,null,null,null,null,null,null,null,null,null,null,null,null,253]
[null,null,null,null,null,null,null,null,null,null,null,null,null,null,null,null,null,null,254]
[null,null,null,null,null,null,null,null,null,null,null,null,null,null,null,null,null,null,255]
[null,null,null,null,null,null,null,null,null,null,null,null,null,null,null,null,null,null,256]
[null,null,null,null,null,null,null,null,null,null,null,null,null,null,null,null,null,null,257]
[null,null,null,null,null,null,null,null,null,null,null,null,null,null,null,null,null,null,258]
[null,null,null,null,null,null,null,null,null,null,null,null,null,null,null,null,null,null,259]
[null,null,null,null,null,null,null,null,null,null,null,null,null,null,null,null,null,null,260]
[null,null,null,null,null,null,null,null,null,null,null,null,null,null,null,null,null,null,261]
[null,null,null,null,null,null,null,null,null,null,null,null,null,null,null,null,null,null,262]
[null,null,null,null,null,null,null,null,null,null,null,null,null,null,null,null,null,null,263]
[null,null,null,null,null,null,null,null,null,null,null,null,null,null,null,null,null,null,264]
[null,null,null,null,null,null,null,null,null,null,null,null,null,null,null,null,null,null,265]
[null,null,null,null,null,null,null,null,null,null,null,null,null,null,null,null,null,null,266]
[null,null,null,null,null,null,null,null,null,null,null,null,null,null,null,null,null,null,267]
[null,null,null,null,null,null,null,null,null,null,null,null,null,null,null,null,null,null,268]
[null,null,null,null,null,null,null,null,null,null,null,null,null,null,null,null,null,null,269]
[null,null,null,null,null,null,null,null,null,null,null,null,null,null,null,null,null,null,270]
[null,null,null,null,null,null,null,null,null,null,null,null,null,null,null,null,null,null,271]
[null,null,null,null,null,null,null,null,null,null,null,null,null,null,null,null,null,null,272]
[null,null,null,null,null,null,null,null,null,null,null,null,null,null,null,null,null,null,273]
[null,null,null,null,null,null,null,null,null,null,null,null,null,null,null,null,null,null,274]
[null,null,null,null,null,null,null,null,null,null,null,null,null,null,null,null,null,null,275]
[null,null,null,null,null,null,null,null,null,null,null,null,null,null,null,null,null,null,276]
[null,null,null,null,null,null,null,null,null,null,null,null,null,null,null,null,null,null,277]
[null,null,null,null,null,null,null,null,null,null,null,null,null,null,null,null,null,null,278]
[null,null,null,null,null,null,null,null,null,null,null,null,null,null,null,null,null,null,279]
[null,null,null,null,null,null,null,null,null,null,null,null,null,null,null,null,null,null,280]
[null,null,null,null,null,null,null,null,null,null,null,null,null,null,null,null,null,null,281]
[null,null,null,null,null,null,null,null,null,null,null,null,null,null,null,null,null,null,282]
[null,null,null,null,null,null,null,null,null,null,null,null,null,null,null,null,null,null,283]
[null,null,null,null,null,null,null,null,null,null,null,null,null,null,null,null,null,null,284]
[null,null,null,null,null,null,null,null,null,null,null,null,null,null,null,null,null,null,285]
[null,null,null,null,null,null,null,null,null,null,null,null,null,null,null,null,null,null,286]
[null,null,null,null,null,null,null,null,null,null,null,null,null,null,null,null,null,null,287]
[null,null,null,null,null,null,null,null,null,null,null,null,null,null,null,null,null,null,288]
[null,null,null,null,null,null,null,null,null,null,null,null,null,null,null,null,null,null,289]
[null,null,null,null,null,null,null,null,null,null,null,null,null,null,null,null,null,null,290]
[null,null,null,null,null,null,null,null,null,null,null,null,null,null,null,null,null,null,291]
[null,null,null,null,null,null,null,null,null,null,null,null,null,null,null,null,null,null,292]
[null,null,null,null,null,null,null,null,null,null,null,null,null,null,null,null,null,null,293]
[null,null,null,null,null,null,null,null,null,null,null,null,null,null,null,null,null,null,294]
[null,null,null,null,null,null,null,null,null,null,null,null,null,null,null,null,null,null,295]
[null,null,null,null,null,null,null,null,null,null,null,null,null,null,null,null,null,null,296]
[null,null,null,null,null,null,null,null,null,null,null,null,null,null,null,null,null,null,297]
[null,null,null,null,null,null,null,null,null,null,null,null,null,null,null,null,null,null,298]
[null,null,null,null,null,null,null,null,null,null,null,null,null,null,null,null,null,null,299]
[null,null,null,null,null,null,null,null,null,null,null,null,null,null,null,null,null,null,300]
[null,null,null,null,null,null,null,null,null,null,null,null,null,null,null,null,null,null,301]
[null,null,null,null,null,null,null,null,null,null,null,null,null,null,null,null,null,null,302]
[null,null,null,null,null,null,null,null,null,null,null,null,null,null,null,null,null,null,303]
[null,null,null,null,null,null,null,null,null,null,null,null,null,null,null,null,null,null,304]
[null,null,null,null,null,null,null,null,null,null,null,null,null,null,null,null,null,null,305]
[null,null,null,null,null,null,null,null,null,null,null,null,null,null,null,null,null,null,306]
[null,null,null,null,null,null,null,null,null,null,null,null,null,null,null,null,null,null,307]
[null,null,null,null,null,null,null,null,null,null,null,null,null,null,null,null,null,null,308]
[null,null,null,null,null,null,null,null,null,null,null,null,null,null,null,null,null,null,309]
[null,null,null,null,null,null,null,null,null,null,null,null,null,null,null,null,null,null,310]
[null,null,null,null,null,null,null,null,null,null,null,null,null,null,null,null,null,null,311]
[null,null,null,null,null,null,null,null,null,null,null,null,null,null,null,null,null,null,312]
[null,null,null,null,null,null,null,null,null,null,null,null,null,null,null,null,null,null,313]
[null,null,null,null,null,null,null,null,null,null,null,null,null,null,null,null,null,null,314]
[null,null,null,null,null,null,null,null,null,null,null,null,null,null,null,null,null,null,315]
[null,null,null,null,null,null,null,null,null,null,null,null,null,null,null,null,null,null,316]
[null,null,null,null,null,null,null,null,null,null,null,null,null,null,null,null,null,null,317]
[null,null,null,null,null,null,null,null,null,null,null,null,null,null,null,null,null,null,318]
[null,null,null,null,null,null,null,null,null,null,null,null,null,null,null,null,null,null,319]
[null,null,null,null,null,null,null,null,null,null,null,null,null,null,null,null,null,null,320]
[null,null,null,null,null,null,null,null,null,null,null,null,null,null,null,null,null,null,321]
[null,null,null,null,null,null,null,null,null,null,null,null,null,null,null,null,null,null,322]
[null,null,null,null,null,null,null,null,null,null,null,null,null,null,null,null,null,null,323]
[null,null,null,null,null,null,null,null,null,null,null,null,null,null,null,null,null,null,324]
[null,null,null,null,null,null,null,null,null,null,null,null,null,null,null,null,null,null,325]
[null,null,null,null,null,null,null,null,null,null,null,null,null,null,null,null,null,null,326]
[null,null,null,null,null,null,null,null,null,null,null,null,null,null,null,null,null,null,327]
[null,null,null,null,null,null,null,null,null,null,null,null,null,null,null,null,null,null,328]
[null,null,null,null,null,null,null,null,null,null,null,null,null,null,null,null,null,null,329]
[null,null,null,null,null,null,null,null,null,null,null,null,null,null,null,null,null,null,330]
[null,null,null,null,null,null,null,null,null,null,null,null,null,null,null,null,null,null,331]
[null,null,null,null,null,null,null,null,null,null,null,null,null,null,null,null,null,null,332]
[null,null,null,null,null,null,null,null,null,null,null,null,null,null,null,null,null,null,333]
[null,null,null,null,null,null,null,null,null,null,null,null,null,null,null,null,null,null,334]
[null,null,null,null,null,null,null,null,null,null,null,null,null,null,null,null,null,null,335]
[null,null,null,null,null,null,null,null,null,null,null,null,null,null,null,null,null,null,336]
[null,null,null,null,null,null,null,null,null,null,null,null,null,null,null,null,null,null,337]
[null,null,null,null,null,null,null,null,null,null,null,null,null,null,null,null,null,null,338]
[null,null,null,null,null,null,null,null,null,null,null,null,null,null,null,null,null,null,339]
[null,null,null,null,null,null,null,null,null,null,null,null,null,null,null,null,null,null,340]
[null,null,null,null,null,null,null,null,null,null,null,null,null,null,null,null,null,null,341]
[null,null,null,null,null,null,null,null,null,null,null,null,null,null,null,null,null,null,342]
[null,null,null,null,null,null,null,null,null,null,null,null,null,null,null,null,null,null,343]
[null,null,null,null,null,null,null,null,null,null,null,null,null,null,null,null,null,null,344]
[null,null,null,null,null,null,null,null,null,null,null,null,null,null,null,null,null,null,345]
[null,null,null,null,null,null,null,null,null,null,null,null,null,null,null,null,null,null,346]
[null,null,null,null,null,null,null,null,null,null,null,null,null,null,null,null,null,null,347]
[null,null,null,null,null,null,null,null,null,null,null,null,null,null,null,null,null,null,348]
[null,null,null,null,null,null,null,null,null,null,null,null,null,null,null,null,null,null,349]
[null,null,null,null,null,null,null,null,null,null,null,null,null,null,null,null,null,null,350]
[null,null,null,null,null,null,null,null,null,null,null,null,null,null,null,null,null,null,351]
[null,null,null,null,null,null,null,null,null,null,null,null,null,null,null,null,null,null,352]
[null,null,null,null,null,null,null,null,null,null,null,null,null,null,null,null,null,null,353]
[null,null,null,null,null,null,null,null,null,null,null,null,null,null,null,null,null,null,354]
[null,null,null,null,null,null,null,null,null,null,null,null,null,null,null,null,null,null,355]
[null,null,null,null,null,null,null,null,null,null,null,null,null,null,null,null,null,null,356]
[null,null,null,null,null,null,null,null,null,null,null,null,null,null,null,null,null,null,357]
[null,null,null,null,null,null,null,null,null,null,null,null,null,null,null,null,null,null,358]
[null,null,null,null,null,null,null,null,null,null,null,null,null,null,null,null,null,null,359]
[null,null,null,null,null,null,null,null,null,null,null,null,null,null,null,null,null,null,360]
[null,null,null,null,null,null,null,null,null,null,null,null,null,null,null,null,null,null,361]
[null,null,null,null,null,null,null,null,null,null,null,null,null,null,null,null,null,null,362]
[null,null,null,null,null,null,null,null,null,null,null,null,null,null,null,null,null,null,363]
[null,null,null,null,null,null,null,null,null,null,null,null,null,null,null,null,null,null,364]
[null,null,null,null,null,null,null,null,null,null,null,null,null,null,null,null,null,null,365]
[null,null,null,null,null,null,null,null,null,null,null,null,null,null,null,null,null,null,366]
[null,null,null,null,null,null,null,null,null,null,null,null,null,null,null,null,null,null,367]
[null,null,null,null,null,null,null,null,null,null,null,null,null,null,null,null,null,null,368]
[null,null,null,null,null,null,null,null,null,null,null,null,null,null,null,null,null,null,369]
[null,null,null,null,null,null,null,null,null,null,null,null,null,null,null,null,null,null,370]
[null,null,null,null,null,null,null,null,null,null,null,null,null,null,null,null,null,null,371]
[null,null,null,null,null,null,null,null,null,null,null,null,null,null,null,null,null,null,372]
[null,null,null,null,null,null,null,null,null,null,null,null,null,null,null,null,null,null,373]
[null,null,null,null,null,null,null,null,null,null,null,null,null,null,null,null,null,null,374]
[null,null,null,null,null,null,null,null,null,null,null,null,null,null,null,null,null,null,375]
[null,null,null,null,null,null,null,null,null,null,null,null,null,null,null,null,null,null,376]
[null,null,null,null,null,null,null,null,null,null,null,null,null,null,null,null,null,null,377]
[null,null,null,null,null,null,null,null,null,null,null,null,null,null,null,null,null,null,378]
[null,null,null,null,null,null,null,null,null,null,null,null,null,null,null,null,null,null,379]
[null,null,null,null,null,null,null,null,null,null,null,null,null,null,null,null,null,null,380]
[null,null,null,null,null,null,null,null,null,null,null,null,null,null,null,null,null,null,381]
[null,null,null,null,null,null,null,null,null,null,null,null,null,null,null,null,null,null,382]
[null,null,null,null,null,null,null,null,null,null,null,null,null,null,null,null,null,null,383]
[null,null,null,null,null,null,null,null,null,null,null,null,null,null,null,null,null,null,384]
[null,null,null,null,null,null,null,null,null,null,null,null,null,null,null,null,null,null,385]
[null,null,null,null,null,null,null,null,null,null,null,null,null,null,null,null,null,null,386]
[null,null,null,null,null,null,null,null,null,null,null,null,null,null,null,null,null,null,387]
[null,null,null,null,null,null,null,null,null,null,null,null,null,null,null,null,null,null,388]
[null,null,null,null,null,null,null,null,null,null,null,null,null,null,null,null,null,null,389]
[null,null,null,null,null,null,null,null,null,null,null,null,null,null,null,null,null,null,390]
[null,null,null,null,null,null,null,null,null,null,null,null,null,null,null,null,null,null,391]
[null,null,null,null,null,null,null,null,null,null,null,null,null,null,null,null,null,null,392]
[null,null,null,null,null,null,null,null,null,null,null,null,null,null,null,null,null,null,393]
[null,null,null,null,null,null,null,null,null,null,null,null,null,null,null,null,null,null,394]
[null,null,null,null,null,null,null,null,null,null,null,null,null,null,null,null,null,null,395]
[null,null,null,null,null,null,null,null,null,null,null,null,null,null,null,null,null,null,396]
[null,null,null,null,null,null,null,null,null,null,null,null,null,null,null,null,null,null,397]
[null,null,null,null,null,null,null,null,null,null,null,null,null,null,null,null,null,null,398]
[null,null,null,null,null,null,null,null,null,null,null,null,null,null,null,null,null,null,399]
[null,null,null,null,null,null,null,null,null,null,null,null,null,null,null,null,null,null,400]
[null,null,null,null,null,null,null,null,null,null,null,null,null,null,null,null,null,null,401]
[null,null,null,null,null,null,null,null,null,null,null,null,null,null,null,null,null,null,402]
[null,null,null,null,null,null,null,null,null,null,null,null,null,null,null,null,null,null,403]
[null,null,null,null,null,null,null,null,null,null,null,null,null,null,null,null,null,null,404]
[null,null,null,null,null,null,null,null,null,null,null,null,null,null,null,null,null,null,405]
[null,null,null,null,null,null,null,null,null,null,null,null,null,null,null,null,null,null,406]
[null,null,null,null,null,null,null,null,null,null,null,null,null,null,null,null,null,null,407]
[null,null,null,null,null,null,null,null,null,null,null,null,null,null,null,null,null,null,408]
[null,null,null,null,null,null,null,null,null,null,null,null,null,null,null,null,null,null,409]
[null,null,null,null,null,null,null,null,null,null,null,null,null,null,null,null,null,null,410]
[null,null,null,null,null,null,null,null,null,null,null,null,null,null,null,null,null,null,411]
[null,null,null,null,null,null,null,null,null,null,null,null,null,null,null,null,null,null,412]
[null,null,null,null,null,null,null,null,null,null,null,null,null,null,null,null,null,null,413]
[null,null,null,null,null,null,null,null,null,null,null,null,null,null,null,null,null,null,414]
[null,null,null,null,null,null,null,null,null,null,null,null,null,null,null,null,null,null,415]
[null,null,null,null,null,null,null,null,null,null,null,null,null,null,null,null,null,null,416]
[null,null,null,null,null,null,null,null,null,null,null,null,null,null,null,null,null,null,417]
[null,null,null,null,null,null,null,null,null,null,null,null,null,null,null,null,null,null,418]
[null,null,null,null,null,null,null,null,null,null,null,null,null,null,null,null,null,null,419]
[null,null,null,null,null,null,null,null,null,null,null,null,null,null,null,null,null,null,420]
[null,null,null,null,null,null,null,null,null,null,null,null,null,null,null,null,null,null,421]
[null,null,null,null,null,null,null,null,null,null,null,null,null,null,null,null,null,null,422]
[null,null,null,null,null,null,null,null,null,null,null,null,null,null,null,null,null,null,423]
[null,null,null,null,null,null,null,null,null,null,null,null,null,null,null,null,null,null,424]
[null,null,null,null,null,null,null,null,null,null,null,null,null,null,null,null,null,null,425]
[null,null,null,null,null,null,null,null,null,null,null,null,null,null,null,null,null,null,426]
[null,null,null,null,null,null,null,null,null,null,null,null,null,null,null,null,null,null,427]
[null,null,null,null,null,null,null,null,null,null,null,null,null,null,null,null,null,null,428]
[null,null,null,null,null,null,null,null,null,null,null,null,null,null,null,null,null,null,429]
[null,null,null,null,null,null,null,null,null,null,null,null,null,null,null,null,null,null,430]
[null,null,null,null,null,null,null,null,null,null,null,null,null,null,null,null,null,null,431]
[null,null,null,null,null,null,null,null,null,null,null,null,null,null,null,null,null,null,432]
[null,null,null,null,null,null,null,null,null,null,null,null,null,null,null,null,null,null,433]
[null,null,null,null,null,null,null,null,null,null,null,null,null,null,null,null,null,null,434]
[null,null,null,null,null,null,null,null,null,null,null,null,null,null,null,null,null,null,435]
[null,null,null,null,null,null,null,null,null,null,null,null,null,null,null,null,null,null,436]
[null,null,null,null,null,null,null,null,null,null,null,null,null,null,null,null,null,null,437]
[null,null,null,null,null,null,null,null,null,null,null,null,null,null,null,null,null,null,438]
[null,null,null,null,null,null,null,null,null,null,null,null,null,null,null,null,null,null,439]
[null,null,null,null,null,null,null,null,null,null,null,null,null,null,null,null,null,null,440]
[null,null,null,null,null,null,null,null,null,null,null,null,null,null,null,null,null,null,441]
[null,null,null,null,null,null,null,null,null,null,null,null,null,null,null,null,null,null,442]
[null,null,null,null,null,null,null,null,null,null,null,null,null,null,null,null,null,null,443]
[null,null,null,null,null,null,null,null,null,null,null,null,null,null,null,null,null,null,444]
[null,null,null,null,null,null,null,null,null,null,null,null,null,null,null,null,null,null,445]
[null,null,null,null,null,null,null,null,null,null,null,null,null,null,null,null,null,null,446]
[null,null,null,null,null,null,null,null,null,null,null,null,null,null,null,null,null,null,447]
[null,null,null,null,null,null,null,null,null,null,null,null,null,null,null,null,null,null,448]
[null,null,null,null,null,null,null,null,null,null,null,null,null,null,null,null,null,null,449]
[null,null,null,null,null,null,null,null,null,null,null,null,null,null,null,null,null,null,450]
[null,null,null,null,null,null,null,null,null,null,null,null,null,null,null,null,null,null,451]
[null,null,null,null,null,null,null,null,null,null,null,null,null,null,null,null,null,null,452]
[null,null,null,null,null,null,null,null,null,null,null,null,null,null,null,null,null,null,453]
[null,null,null,null,null,null,null,null,null,null,null,null,null,null,null,null,null,null,454]
[null,null,null,null,null,null,null,null,null,null,null,null,null,null,null,null,null,null,455]
[null,null,null,null,null,null,null,null,null,null,null,null,null,null,null,null,null,null,456]
[null,null,null,null,null,null,null,null,null,null,null,null,null,null,null,null,null,null,457]
[null,null,null,null,null,null,null,null,null,null,null,null,null,null,null,null,null,null,458]
[null,null,null,null,null,null,null,null,null,null,null,null,null,null,null,null,null,null,459]
[null,null,null,null,null,null,null,null,null,null,null,null,null,null,null,null,null,null,460]
[null,null,null,null,null,null,null,null,null,null,null,null,null,null,null,null,null,null,461]
[null,null,null,null,null,null,null,null,null,null,null,null,null,null,null,null,null,null,462]
[null,null,null,null,null,null,null,null,null,null,null,null,null,null,null,null,null,null,463]
[null,null,null,null,null,null,null,null,null,null,null,null,null,null,null,null,null,null,464]
[null,null,null,null,null,null,null,null,null,null,null,null,null,null,null,null,null,null,465]
[null,null,null,null,null,null,null,null,null,null,null,null,null,null,null,null,null,null,466]
[null,null,null,null,null,null,null,null,null,null,null,null,null,null,null,null,null,null,467]
[null,null,null,null,null,null,null,null,null,null,null,null,null,null,null,null,null,null,468]
[null,null,null,null,null,null,null,null,null,null,null,null,null,null,null,null,null,null,469]
[null,null,null,null,null,null,null,null,null,null,null,null,null,null,null,null,null,null,470]
[null,null,null,null,null,null,null,null,null,null,null,null,null,null,null,null,null,null,471]
[null,null,null,null,null,null,null,null,null,null,null,null,null,null,null,null,null,null,472]
[null,null,null,null,null,null,null,null,null,null,null,null,null,null,null,null,null,null,473]
[null,null,null,null,null,null,null,null,null,null,null,null,null,null,null,null,null,null,474]
[null,null,null,null,null,null,null,null,null,null,null,null,null,null,null,null,null,null,475]
[null,null,null,null,null,null,null,null,null,null,null,null,null,null,null,null,null,null,476]
[null,null,null,null,null,null,null,null,null,null,null,null,null,null,null,null,null,null,477]
[null,null,null,null,null,null,null,null,null,null,null,null,null,null,null,null,null,null,478]
[null,null,null,null,null,null,null,null,null,null,null,null,null,null,null,null,null,null,479]
[null,null,null,null,null,null,null,null,null,null,null,null,null,null,null,null,null,null,480]
[null,null,null,null,null,null,null,null,null,null,null,null,null,null,null,null,null,null,481]
[null,null,null,null,null,null,null,null,null,null,null,null,null,null,null,null,null,null,482]
[null,null,null,null,null,null,null,null,null,null,null,null,null,null,null,null,null,null,483]
[null,null,null,null,null,null,null,null,null,null,null,null,null,null,null,null,null,null,484]
[null,null,null,null,null,null,null,null,null,null,null,null,null,null,null,null,null,null,485]
[null,null,null,null,null,null,null,null,null,null,null,null,null,null,null,null,null,null,486]
[null,null,null,null,null,null,null,null,null,null,null,null,null,null,null,null,null,null,487]
[null,null,null,null,null,null,null,null,null,null,null,null,null,null,null,null,null,null,488]
[null,null,null,null,null,null,null,null,null,null,null,null,null,null,null,null,null,null,489]
[null,null,null,null,null,null,null,null,null,null,null,null,null,null,null,null,null,null,490]
[null,null,null,null,null,null,null,null,null,null,null,null,null,null,null,null,null,null,491]
[null,null,null,null,null,null,null,null,null,null,null,null,null,null,null,null,null,null,492]
[null,null,null,null,null,null,null,null,null,null,null,null,null,null,null,null,null,null,493]
[null,null,null,null,null,null,null,null,null,null,null,null,null,null,null,null,null,null,494]
[null,null,null,null,null,null,null,null,null,null,null,null,null,null,null,null,null,null,495]
[null,null,null,null,null,null,null,null,null,null,null,null,null,null,null,null,null,null,496]
[null,null,null,null,null,null,null,null,null,null,null,null,null,null,null,null,null,null,497]
[null,null,null,null,null,null,null,null,null,null,null,null,null,null,null,null,null,null,498]
[null,null,null,null,null,null,null,null,null,null,null,null,null,null,null,null,null,null,499]
[null,null,null,null,null,null,null,null,null,null,null,null,null,null,null,null,null,null,500]

{"sheet":"Sheet1","index":12,"n_rows":0,"n_cols":0,"rows_kept":0,"cut":false,"hidden":false,"merged":[]}