{"text_format":"1","workbook":"xlsx","n_sheets":18,"sheets":["Table-State","Home","Gp Incr. Order","Employee Data","Table_vi","DDO Data","Databackup","Table_Incr","ACP-1","Incr_2017","Data Entry","Sheet3","Blank copy","utility","Key Points","Order","View Pay Matrix","Sheet1"],"not_rendered":{"charts":0,"images":0,"macros":1,"external_links":2,"defined_names":132,"comments":1,"pivot_tables":0},"unopened":[],"bounds":{"document_bytes":16777216,"sheet_cells":100000,"rows_first":2000,"rows_last":500,"rows_between":2000,"halvings":0,"cell_chars":16384,"cell_head_chars":4096},"cells_cut":0,"cells_raw":0,"read":"whole","date_system":"1900"}

{"sheet":"Table-State","index":0,"n_rows":225,"n_cols":95,"rows_kept":225,"cut":false,"hidden":true,"merged":[[53,11,53,14],[16,89,16,90],[31,85,31,87],[40,29,40,31],[41,26,43,28],[41,29,41,31],[42,29,42,31],[43,29,43,31],[44,29,44,31],[45,29,45,31],[46,29,46,31],[51,11,51,14],[52,11,52,14],[134,3,134,5],[134,6,134,8],[134,16,134,18],[54,11,54,14],[55,11,55,14],[56,11,56,14],[57,11,57,14],[75,1,75,6],[89,1,89,6],[101,0,101,6],[101,8,101,12],[129,1,129,2],[133,6,133,8],[133,16,133,18],[135,6,135,8],[135,16,135,18],[136,6,136,8],[136,16,136,18],[137,6,137,8],[137,16,137,18],[147,7,147,8],[147,9,147,11],[169,1,169,3],[139,16,139,18],[140,16,140,18],[143,0,143,1],[143,2,143,5],[144,6,144,11],[145,7,145,8],[145,9,145,11]]}
[]
[]
[]
[]
[]
[]
[]
[]
[]
[]
[]
[]
[null,null,null,"RUNNING \nPAY BAND","GRADE  PAY NO","(Grade Pay","Mini of Pay Band","Max of Grade Pay","Revised GradePay Min","Revised GradePay Max,","Proposed Pay Band","Propsed Grade Pay","Existing_Pay_Band_for_7PC",null,null,{"$f":"C16","v":"9300-34800"},{"$f":"C15","v":4800},{"$f":"C23","v":63351},null,null,null,"Propsed table",null,null,null,null,"Acutal basis",null,null,null,{"$f":"COUNTIF(AE15:AE38,\">0\")","v":1},null,null,{"$f":"$D$77","v":14},null,null,27570,{"$f":"B21","v":34800},{"$f":"IF(ISERROR(AL13),\"\",AL13)","v":34800},null,null,null,null,null,null,null,null,null,null,null,null,null,null,null,null,null,null,null,null,null,null,null,null,null,null,null,null,null,null,null,null,null,null,null,null,null,null,null,null,null,null,null,null,"AJMER","Arrear_Period",null,null,null,null,"Existing pay",{"$f":"B20","v":27570},null,"HRA Rate","Basic Pay as on 1-7-16","HRA Rate"]
["Exisint Pay band","9300-34800  (Grade Pay  Rs.  5400)","PB-2 (9300-34800)  Grade Pay  Rs.  4800  GP NO-14 ","5200-20200",2,1700,5200,20200,{"$f":"G14*3","v":15600},60600,{"$f":"CONCATENATE(I14,\"-\",J14)","v":"15600-60600"},{"$f":"F14*3","v":5100},{"$f":"CONCATENATE(D14,\"  \",$F$13,\"  \",\"Rs.\",\"  \",F14,\")\")","v":"5200-20200  (Grade Pay  Rs.  1700)"},null,null,"PAY BAND","GTARE PAY","ENTRY PAY","FACTOR","FACTOR","MIN. PAY ","Condt.","Cal. Value",null,null,{"$f":"(MAX(Z15:Z35))","v":64000},"Condt.","Cal. Value",null,null,{"$f":"INDEX($AD$15:$AD$38,MATCH($AH$13,$AH$15:$AH$38,0))","v":65000},{"$f":"IF($AE$13>1,AE14,(MAX($AE$15:$AE$38)))","v":65000},"Existing Grade Pay","Existing Grade Pay No.","Levels",1,2,3,4,5,6,7,8,9,10,11,12,13,14,15,16,17,18,19,20,21,22,23,24,25,26,27,28,29,30,31,32,33,34,35,36,37,38,39,40,"Existing Grade Pay","Existing Grade Pay No.","Levels","Recovery Codition","Next Level for ACP1",null,null,null,"ALWAR","2016-01-01",1,9867,{"$f":"CI14","v":9867},null,"Probable DA",1.19,null,0.2,75582,{"$f":"CO14","v":0.2}]
["Existing Grade Pay",{"$f":"INDEX($F$14:$F$38,MATCH(B14,$M$14:$M$38,0))","v":5400},4800,"5200-20200",2,1700,5200,20200,15600,60600,"15600-60600",5100,"5200-20200  (Grade Pay  Rs.  1700)",null,null,"5200-20200",1700,6900,2.57,2.57,17700,{"$f":"IF($P$13=P15,IF($Q$13=Q15,\"YES\",\"NO\"))","v":false},{"$f":"IF(V15=\"YES\",$R$13,0)","v":0},1,{"$f":"SMALL(AJ15:BW15,COUNTIF(AJ15:BW15,\"<\"&W15)+1)","v":17700},{"$f":"IF(W15=0,0,Y15)","v":0},{"$f":"IF($C$16=AF15,IF($C$15=AG15,\"YES\",\"NO\"))","v":false},{"$f":"IF(AA15=\"YES\",$C$23,0)","v":0},1,{"$f":"SMALL(AJ15:BW15,COUNTIF(AJ15:BW15,\"<\"&AB15)+1)","v":17700},{"$f":"IF(AB15=0,0,AD15)","v":0},"5200-20200",1700,2,"L-1",{"$f":"U15","v":17700},{"$f":"ROUND((U15*1.03),-2)","v":18200},{"$f":"ROUND((AK15*1.03),-2)","v":18700},19300,19900,20500,21100,21700,22400,23100,23800,24500,25200,26000,26800,27600,28400,29300,30200,31100,32000,33000,34000,35000,36100,37200,38300,39400,40600,41800,43100,44400,45700,47100,48500,50000,51500,53000,54600,56200,1700,2,"L-1",null,{"$f":"BZ16","v":"L-2"},null,null,null,"BANSWARA ","2016-02-01",2,{"$f":"CI14","v":9867},{"$f":"CJ14+CI15","v":19734},null,"DA",{"$f":"ROUND(CM13*CM14,0)+CM13","v":60378},null,null,28400]
["Pay Band",{"$f":"INDEX($D$14:$D$38,MATCH(B14,$M$14:$M$38,0))","v":"9300-34800"},{"$f":"E77","v":"9300-34800"},"5200-20200",3,1750,5200,20200,15600,60600,"15600-60600",5250,"5200-20200  (Grade Pay  Rs.  1750)",null,null,"5200-20200",1750,7000,2.57,2.57,17900,false,0,2,17900,0,false,0,2,17900,0,"5200-20200",1750,3,"L-2",17900,18400,19000,19600,20200,20800,21400,22000,22700,23400,24100,24800,25500,26300,27100,27900,28700,29600,30500,31400,32300,33300,34300,35300,36400,37500,38600,39800,41000,42200,43500,44800,46100,47500,48900,50400,51900,53500,55100,56800,1750,3,"L-2","PP",{"$f":"BZ17","v":"L-3"},null,null,null,"BARAN","2016-03-01",3,{"$f":"CI15","v":9867},29601,null,null,null,null,null,{"$f":"IF(CH33=CH32,ROUND(CP14*CQ14,0),ROUND(CP15*CQ14,0))","v":5680}]
["Factor",{"$f":"INDEX($T$15:$T$35,MATCH(B15,$Q$15:$Q$35,0))","v":2.57},2.57,"5200-20200",4,1900,5200,20200,15600,60600,"15600-60600",5700,"5200-20200  (Grade Pay  Rs.  1900)",null,null,"5200-20200",1900,7580,2.57,2.57,18200,false,0,3,18200,0,false,0,3,18200,0,"5200-20200",1900,4,"L-3",18200,18700,19300,19900,20500,21100,21700,22400,23100,23800,24500,25200,26000,26800,27600,28400,29300,30200,31100,32000,33000,34000,35000,36100,37200,38300,39400,40600,41800,43100,44400,45700,47100,48500,50000,51500,53000,54600,56200,57900,1900,4,"L-3","PP","L-4",null,null,null,"BARMER","2016-04-01",4,{"$f":"CI16","v":9867},39468,null,"Desing & prepared by Pravesh -praveshbkn@gmail.com"]
["Entry Pay",{"$f":"INDEX($R$15:$R$35,MATCH($B$15,$Q$15:$Q$35,0))","v":21000},{"$f":"INDEX($R$15:$R$35,MATCH($C$15,$Q$15:$Q$35,0))","v":18750},"5200-20200",5,2000,5200,20200,15600,60600,"15600-60600",6000,"5200-20200  (Grade Pay  Rs.  2000)",null,null,"5200-20200",2000,7960,2.57,2.57,19200,false,0,4,19200,0,false,0,4,19200,0,"5200-20200",2000,5,"L-4",19200,19800,20400,21000,21600,22200,22900,23600,24300,25000,25800,26600,27400,28200,29000,29900,30800,31700,32700,33700,34700,35700,36800,37900,39000,40200,41400,42600,43900,45200,46600,48000,49400,50900,52400,54000,55600,57300,59000,60800,2000,5,"L-4","PP","L-5",null,null,null,"BHARATPUR ","2016-05-01",5,{"$f":"CI17","v":9867},49335]
["Minimum Pay",{"$f":"INDEX($U$15:$U$35,MATCH($B$15,$Q$15:$Q$35,0))","v":33800},{"$f":"INDEX($U$15:$U$35,MATCH($B$15,$Q$15:$Q$35,0))","v":33800},"5200-20200",9,2400,5200,20200,15600,60600,"15600-60600",7200,"5200-20200  (Grade Pay  Rs.  2400)",null,null,"5200-20200",2400,9840,2.57,2.57,20800,false,0,5,20800,0,false,0,5,20800,0,"5200-20200",2400,9,"L-5",20800,21400,22000,22700,23400,24100,24800,25500,26300,27100,27900,28700,29600,30500,31400,32300,33300,34300,35300,36400,37500,38600,39800,41000,42200,43500,44800,46100,47500,48900,50400,51900,53500,55100,56800,58500,60300,62100,64000,65900,2400,9,"L-5","PP","L-6",null,null,null,"BHILWARA","2016-06-01",6,{"$f":"CI18","v":9867},59202,null,null,{"$f":"ROUND((B23*1.03),-2)","v":73000}]
["Present Pay",27570,24650,"5200-20200",9,2400,5200,20200,15600,60600,"15600-60600",7200,"5200-20200  (Grade Pay  Rs.  2400)",null,null,"5200-20200",2400,11170,2.57,2.57,21500,false,0,6,21500,0,false,0,6,21500,0,"5200-20200",2400,"9A","L-6",21500,22100,22800,23500,24200,24900,25600,26400,27200,28000,28800,29700,30600,31500,32400,33400,34400,35400,36500,37600,38700,39900,41100,42300,43600,44900,46200,47600,49000,50500,52000,53600,55200,56900,58600,60400,62200,64100,66000,68000,2400,"9A","L-6","PP","L-7",null,null,null,"BIKANER","2016-07-01",7,9694,68896]
["Highest value in pb",{"$f":"INDEX($H$14:$H$38,MATCH($Q$13,$F$14:$F$38,0))","v":34800},{"$f":"INDEX($H$14:$H$38,MATCH($C$15,$F$14:$F$38,0))","v":34800},"5200-20200",9,2400,5200,20200,15600,60600,"15600-60600",7200,"5200-20200  (Grade Pay  Rs.  2400)",null,null,"9300-34800",3600,12900,2.62,2.57,22400,"NO",0,7,22400,0,false,0,7,22400,0,"5200-20200",2400,"9B","L-7",22400,23100,23800,24500,25200,26000,26800,27600,28400,29300,30200,31100,32000,33000,34000,35000,36100,37200,38300,39400,40600,41800,43100,44400,45700,47100,48500,50000,51500,{"$f":"ROUND((BL21*1.03),-2)","v":53000},54600,56200,57900,59600,61400,63200,65100,67100,69100,71200,2400,"9B","L-7","PP","L-8",null,null,null,"BUNDI","2016-08-01",8,{"$f":"CI20","v":9694},78590]
["Lowest value in pb",{"$f":"INDEX($G$14:$G$38,MATCH($Q$13,$F$14:$F$38,0))","v":9300},{"$f":"INDEX($G$14:$G$38,MATCH($C$15,$F$14:$F$38,0))","v":9300},"5200-20200",10,2800,5200,20200,15600,60600,"15600-60600",8400,"5200-20200  (Grade Pay  Rs.  2800)",null,null,"9300-34800",4200,14430,2.62,2.57,26300,"NO",0,8,26300,0,false,0,8,26300,0,"5200-20200",2800,10,"L-8",26300,27100,{"$f":"ROUND((AK22*1.03),-2)","v":27900},28700,29600,30500,31400,32300,33300,34300,35300,36400,37500,38600,39800,41000,42200,43500,44800,46100,47500,48900,50400,51900,53500,55100,56800,58500,60300,62100,64000,65900,67900,69900,72000,74200,76400,78700,81100,83500,2800,10,"L-8","PP","L-9",null,null,null,"CHITTORGARH ","2016-09-01",9,{"$f":"CI21","v":9694},88284,null,0,0]
["Computed Value",{"$f":"IF(B22>B20,0,IF(B20>B21,0,ROUND($B$20*$B$17,0)))","v":70855},{"$f":"J106","v":63351},"5200-20200",10,2800,5200,20200,15600,60600,"15600-60600",8400,"5200-20200  (Grade Pay  Rs.  2800)",null,null,"9300-34800",4800,18750,2.62,2.57,28700,"YES",63351,9,64000,64000,false,0,9,28700,0,"5200-20200",2800,"10A","L-9",28700,29600,30500,31400,32300,33300,34300,35300,36400,37500,38600,39800,41000,42200,43500,44800,46100,47500,48900,50400,51900,53500,55100,56800,58500,60300,62100,64000,65900,67900,69900,72000,74200,76400,78700,81100,83500,86000,88600,91300,2800,"10A","L-9","PP","L-10",null,null,null,"CHURU","2016-10-01",10,{"$f":"CI22","v":9694},97978,null,0.1,0.1]
["Next Level",{"$f":"Z14","v":64000},{"$f":"AG14","v":"Existing Grade Pay"},"9300-34800",11,3600,9300,34800,27900,104400,"27900-104400",10800,"9300-34800  (Grade Pay  Rs.  3600)",null,null,"9300-34800",5400,21000,2.62,2.57,33800,"NO",0,10,33800,0,"NO",0,10,33800,0,"9300-34800",3600,11,"L-10",33800,34800,35800,36900,38000,39100,40300,41500,42700,44000,45300,46700,48100,49500,51000,52500,54100,55700,57400,59100,60900,62700,64600,66500,68500,70600,72700,74900,77100,79400,81800,84300,86800,89400,92100,94900,97700,100600,103600,106700,3600,11,"L-10",null,"L-11",null,null,null,"DAUSA","2016-11-01",11,{"$f":"CI23","v":9694},107672,null,0.2,0.2]
[null,null,null,"9300-34800",12,4200,9300,34800,27900,104400,"27900-104400",12600,"9300-34800  (Grade Pay  Rs.  4200)",null,null,"15600-39100",5400,21000,2.67,2.57,37800,false,0,11,37800,0,"NO",0,11,37800,0,"9300-34800",4200,12,"L-11",37800,38900,40100,41300,42500,43800,45100,46500,47900,49300,50800,52300,53900,55500,57200,58900,60700,62500,64400,66300,68300,70300,72400,74600,76800,79100,81500,83900,86400,89000,91700,94500,97300,100200,103200,106300,109500,112800,116200,119700,4200,12,"L-11",null,"L-12",null,null,null,"DHOLPUR","2016-12-01",12,{"$f":"CI24","v":9694},117366,null,0.3,0.3]
[null,null,null,"9300-34800",14,4800,9300,34800,27900,104400,"27900-104400",14400,"9300-34800  (Grade Pay  Rs.  4800)",null,null,"15600-39100",6000,22740,2.67,2.57,44300,false,0,12,44300,0,"YES",63351,12,65000,65000,"9300-34800",4800,14,"L-12",44300,45600,47000,48400,49900,51400,52900,54500,56100,57800,59500,61300,63100,65000,67000,69000,71100,73200,75400,77700,80000,82400,84900,87400,90000,92700,95500,98400,101400,104400,107500,110700,114000,117400,120900,124500,128200,132000,136000,140100,4800,14,"L-12","PP","L-13",null,null,null,"DUNGARPUR",null,null,null,null,null,"Cureent",0.2]
[null,null,null,"9300-34800",15,5400,15600,39100,46800,117300,"46800-117300",16200,"9300-34800  (Grade Pay  Rs.  5400)",null,null,"15600-39100",6600,25200,2.67,2.57,53100,false,0,13,53100,0,"NO",0,13,53100,0,"9300-34800",5400,15,"L-13",53100,54700,56300,58000,59700,61500,63300,65200,67200,69200,71300,73400,75600,77900,80200,82600,85100,87700,90300,93000,95800,98700,101700,104800,107900,111100,114400,117800,121300,124900,128600,132500,136500,140600,144800,149100,153600,158200,162900,167800,5400,15,"L-13",null,"L-14",null,null,null,"GANGANAGAR ","Start period","2016-01-01","Proposed arrear amt",null,null,"Proposed",{"$f":"VLOOKUP(CM26,CL22:CM25,2)","v":0.2}]
[null,null,null,"15600-39100",15,5400,15600,39100,46800,117300,"46800-117300",16200,"15600-39100  (Grade Pay  Rs.  5400)",null,null,"15600-39100",6800,26610,2.67,2.57,56100,false,0,14,56100,0,false,0,14,56100,0,"15600-39100",5400,15,"L-14",56100,57800,59500,61300,63100,65000,67000,69000,71100,73200,75400,77700,80000,82400,84900,87400,90000,92700,95500,98400,101400,104400,107500,110700,114000,117400,120900,124500,128200,{"$f":"ROUND((BL28*1.03),-2)","v":132000},136000,140100,144300,148600,153100,157700,162400,167300,172300,177500,5400,15,"L-14",null,"L-15",null,null,null,"HANUMANGARH","End Period","2017-02-01",{"$f":"VLOOKUP(CH29,CH14:CJ25,3)","v":{"$error":"#REF!"}}]
[null,null,null,"15600-39100",16,6000,15600,39100,46800,117300,"46800-117300",18000,"15600-39100  (Grade Pay  Rs.  6000)",null,null,"15600-39100",7200,28220,2.67,2.57,60700,false,0,15,60700,0,false,0,15,60700,0,"15600-39100",6000,16,"L-15",60700,62500,{"$f":"ROUND((AK29*1.03),-2)","v":64400},66300,68300,70300,72400,74600,76800,79100,81500,83900,86400,89000,91700,94500,97300,100200,103200,106300,109500,112800,116200,119700,123300,127000,130800,134700,138700,142900,147200,151600,156100,160800,165600,170600,175700,181000,186400,192000,6000,16,"L-15",null,"L-16",null,null,null,"JAIPUR ","Month code",{"$error":"#REF!"}]
[null,null,null,"15600-39100",17,6600,15600,39100,46800,117300,"46800-117300",19800,"15600-39100  (Grade Pay  Rs.  6600)",null,null,"15600-39100",7600,29920,2.67,2.57,67300,false,0,16,67300,0,false,0,16,67300,0,"15600-39100",6600,17,"L-16",67300,69300,71400,73500,75700,78000,80300,82700,85200,87800,90400,93100,95900,98800,101800,104900,108000,111200,114500,117900,121400,125000,128800,132700,136700,140800,145000,149400,153900,158500,163300,168200,173200,178400,183800,189300,195000,null,null,null,6600,17,"L-16",null,"L-l 7",null,null,null,"JAISALMER",null,null,{"$f":"CONCATENATE(\"Expected Arrear from\",\" \",TEXT(CH27,\"mm/yy\"),\"  \",\"to\",\" \",TEXT(CH28,\"mm/yy\"),\"  \",\"Rs.\",CI28,\"  \")","v":{"$error":"#REF!"}}]
[null,null,null,"15600-39100",18,6800,15600,39100,46800,117300,"46800-117300",20400,"15600-39100  (Grade Pay  Rs.  6800)",null,null,"15600-39100",8200,33310,2.67,2.57,71000,false,0,17,71000,0,false,0,17,71000,0,"15600-39100",6800,18,"L-l 7",71000,73100,75300,77600,79900,82300,84800,87300,89900,92600,95400,98300,101200,104200,107300,110500,113800,117200,120700,124300,128000,131800,135800,139900,144100,148400,152900,157500,162200,167100,172100,177300,182600,188100,193700,199500,null,null,null,null,6800,18,"L-l 7",null,"L-18",null,null,null,"JALORE"]
[null,null,null,"15600-39100",19,7200,15600,39100,46800,117300,"46800-117300",21600,"15600-39100  (Grade Pay  Rs.  7200)",null,null,"37400-67000",8700,46100,2.57,2.57,75300,false,0,18,75300,0,false,0,18,75300,0,"15600-39100",7200,19,"L-18",75300,77600,79900,82300,84800,87300,89900,92600,95400,98300,101200,104200,107300,110500,113800,117200,120700,124300,128000,131800,135800,139900,144100,148400,152900,157500,162200,167100,172100,177300,182600,188100,193700,199500,null,null,null,null,null,null,7200,19,"L-18",null,"L-19",null,null,null,"JHALAWAR",null,"Existing Rate(as in 6PC) ",null,null,null,null,null,"Basic Pay as on 1-1-16"]
[null,null,null,"15600-39100",20,7600,15600,39100,46800,117300,"46800-117300",22800,"15600-39100  (Grade Pay  Rs.  7600)",null,null,"37400-67000",8900,48590,2.67,2.57,79900,false,0,19,79900,0,false,0,19,79900,0,"15600-39100",7600,20,"L-19",79900,82300,84800,87300,89900,92600,95400,98300,101200,104200,107300,110500,113800,117200,120700,124300,128000,131800,135800,139900,144100,148400,152900,157500,162200,167100,172100,177300,182600,188100,193700,199500,null,null,null,null,null,null,null,null,7600,20,"L-19",null,"L-20",null,null,null,"JHUNJHUNU","(a)","Proposed Rate in 7PC",null,null,null,null,null,71900]
[null,null,null,"15600-39100",21,8200,15600,39100,46800,117300,"46800-117300",24600,"15600-39100  (Grade Pay  Rs.  8200)",null,null,"37400-67000",9500,53600,2.67,2.57,88900,false,0,20,88900,0,false,0,20,88900,0,"15600-39100",8200,21,"L-20",88900,91600,94300,97100,100000,103000,106100,109300,112600,116000,119500,123100,126800,130600,134500,138500,142700,147000,151400,155900,160600,165400,170400,175500,180800,186200,191800,197600,203500,null,null,null,null,null,null,null,null,null,null,null,8200,21,"L-20",null,"L-21",null,null,null,"JODHPUR","(b)","Existing Rate(as in 6PC) ",null,null,null,null,null,27570]
[null,null,null,"37400-67000",22,8700,37400,67000,112200,201000,"112200-201000",26100,"37400-67000  (Grade Pay  Rs.  8700)",null,null,"37400-67000",10000,54700,2.72,2.57,123100,false,0,21,123100,0,false,0,21,123100,0,"37400-67000",8700,22,"L-21",123100,{"$f":"ROUND((U35*1.03),-2)","v":126800},130600,134500,138500,142700,147000,151400,155900,160600,165400,170400,175500,180800,186200,191800,197600,203500,null,null,null,null,null,null,null,null,null,null,null,null,null,null,null,null,null,null,null,null,null,null,8700,22,"L-21",null,"L-22",null,null,null,"KARAULI  ",null,"HRA amount",null,null,null,null,null,{"$f":"IF(CH33=CH32,ROUND(CN33*CO14,0),ROUND(CN34*CO14,0))","v":5514}]
[null,null,null,"37400-67000",23,8900,37400,67000,112200,201000,"112200-201000",26700,"37400-67000  (Grade Pay  Rs.  8900)",null,null,null,null,null,null,null,129700,false,0,21,129700,0,false,0,21,129700,0,"37400-67000",8900,23,"L-22",129700,133600,137600,141700,146000,150400,154900,159500,164300,169200,174300,179500,184900,190400,196100,202000,208100,null,null,null,null,null,null,null,null,null,null,null,null,null,null,null,null,null,null,null,null,null,null,null,8900,23,"L-22",null,"L-23",null,null,null,"KOTA"]
[null,null,null,"37400-67000","23A",9500,37400,67000,112200,201000,"112200-201000",28500,"37400-67000  (Grade Pay  Rs.  9500)",null,null,null,null,null,null,null,145800,false,0,21,145800,0,false,0,21,145800,0,"37400-67000",9500,"23A","L-23",145800,150200,154700,159300,164100,169000,174100,179300,184700,190200,195900,201800,207900,214100,null,null,null,null,null,null,null,null,null,null,null,null,null,null,null,null,null,null,null,null,null,null,null,null,null,null,9500,"23A","L-23",null,"L-24",null,null,null,"NAGAUR"]
[null,null,null,"37400-67000",24,10000,37400,67000,112200,201000,"112200-201000",30000,"37400-67000  (Grade Pay  Rs.  10000)",null,null,null,null,null,null,null,148800,false,0,21,148800,0,false,0,21,148800,0,"37400-67000",10000,24,"L-24",148800,153300,157900,162600,167500,172500,177700,183000,188500,194200,200000,206000,212200,218600,null,null,null,null,null,null,null,null,null,null,null,null,null,null,null,null,null,null,null,null,null,null,null,null,null,null,10000,24,"L-24",null,{"$f":"BZ38","v":"L-24"},null,null,null,"PALI"]
[null,null,null,null,null,null,null,null,null,null,null,null,null,null,null,null,null,null,null,null,null,null,null,null,null,null,null,null,null,null,null,null,null,null,null,1,2,3,4,5,6,7,8,9,10,11,12,13,14,15,16,17,18,19,20,21,22,23,24,25,26,27,28,29,30,31,32,33,34,35,36,37,38,39,40,null,null,null,null,null,null,null,null,"PRATAPGARH"]
[null,null,null,null,null,null,null,null,null,null,null,null,null,null,null,null,null,null,null,null,null,null,null,null,null,null,null,null,null,null,null,null,null,null,null,null,null,null,null,null,null,null,null,null,null,null,null,null,null,null,null,null,null,null,null,null,null,null,null,null,null,null,null,null,null,null,null,null,null,null,null,null,null,null,null,null,null,null,null,null,null,null,null,"RAJSAMAND"]
[null,null,null,null,null,null,null,null,null,null,null,null,null,null,null,null,null,null,null,null,null,null,null,null,null,null,null,null,null,"Pay at Start",null,null,{"$f":"INDEX($I$151:$I$167,MATCH(E137,$G$151:$G$167,0))","v":67000},null,{"$f":"AG42","v":"L-12"},{"$f":"INDEX(AJ15:AJ38,MATCH($AI$41,$AI$15:$AI$38,0))","v":44300},{"$f":"INDEX(AK15:AK38,MATCH($AI$41,$AI$15:$AI$38,0))","v":45600},47000,48400,49900,51400,52900,54500,56100,57800,59500,61300,63100,65000,67000,69000,71100,73200,75400,77700,80000,82400,84900,87400,90000,92700,95500,98400,101400,104400,107500,110700,114000,117400,120900,124500,128200,132000,136000,140100,null,null,null,null,null,null,null,null,"SAWAI MADHOPUR "]
[null,null,null,null,null,null,null,null,null,null,null,null,null,null,null,null,null,null,null,null,null,null,null,null,null,null,"If in ACP different grade pay granted insipte of next grade pay",null,null,"Pay Level",null,null,"L-12",null,{"$f":"AG43","v":"L-13"},{"$f":"INDEX(AJ15:AJ38,MATCH($AI$42,$AI$15:$AI$38,0))","v":53100},{"$f":"INDEX(AK15:AK38,MATCH($AI$42,$AI$15:$AI$38,0))","v":54700},56300,58000,59700,61500,63300,65200,67200,69200,71300,73400,75600,77900,80200,82600,85100,87700,90300,93000,95800,98700,101700,104800,107900,111100,114400,117800,121300,124900,128600,132500,136500,140600,144800,149100,153600,158200,162900,167800,null,null,null,null,null,null,null,null,"SIKAR"]
[null,null,null,null,null,null,null,null,null,null,null,null,null,null,null,null,null,null,null,null,null,null,null,null,null,null,null,null,null,"Next Level",null,null,{"$f":"IF(AB46=\"YES\",AC46,INDEX($CB$15:$CB$38,MATCH($AG$42,$AI$15:$AI$38,0)))","v":"L-13"},null,null,null,null,null,null,null,null,null,null,null,null,null,null,null,null,null,null,null,null,null,null,null,null,null,null,null,null,null,null,null,null,null,null,null,null,null,null,null,null,null,null,null,null,null,null,null,null,null,null,"SIROHI"]
[null,null,null,null,null,null,null,null,null,null,null,null,null,null,null,null,null,null,null,null,null,null,null,null,null,null,null,null,null,"ACP condition",null,null,{"$f":"N135","v":"YES"},null,null,null,null,null,null,null,null,null,null,null,null,null,null,null,null,null,null,null,null,null,null,null,null,null,null,null,null,null,null,null,null,null,null,null,null,null,null,null,null,null,null,null,null,null,null,null,null,null,null,"TONK"]
[null,null,null,null,null,null,null,null,null,null,null,null,null,null,null,null,null,null,null,null,null,null,null,null,null,"Icr condition","Next Gr.Pay","Condt.","next level","Incre in existing level",null,null,{"$f":"IF($Z$46=\"NO\",0,IF($AG$44=\"YES\",ROUND((AG41*3%),-2),0))","v":2000},null,null,null,null,null,null,null,null,null,null,null,null,null,null,null,null,null,null,null,null,null,null,null,null,null,null,null,null,null,null,null,null,null,null,null,null,null,null,null,null,null,null,null,null,null,null,null,null,null,null,"UDAIPUR"]
[null,null,null,null,null,null,null,null,null,null,null,null,null,null,null,null,null,null,null,null,null,null,null,null,null,"YES",8200,"NO",{"$f":"INDEX($CB$15:$CB$38,MATCH(AA46,$AG$15:$AG$38,0))","v":"L-21"},"Pay after increment",null,null,{"$f":"AG41+AG45","v":69000},null,null,null,null,null,null,null,null,null,null,null,null,null,null,null,null,null,null,null,null,null,null,null,null,null,null,null,null,null,null,null,null,null,null,null,null,null,null,null,null,null,null,null,null,null,null,null,null,null,null,"Secretariat"]
[null,null,null,null,null,null,null,null,null,null,null,null,null,null,null,null,null,null,null,null,null,null,null,null,null,null,null,null,null,"Pay in upgraded level",null,null,{"$f":"SMALL($AJ$42:$BW$42,1+COUNTIF($AJ$42:$BW$42,\"<=\"&AG46))","v":69200}]
[]
[]
["s. No.","Existing Running Pay Band","Existing Grade Pay","Existing Grade Pay No.","Existing Pay Band","Level in Pay Matrix","Concenture Text for payband,grade pay and no.","Recovery Condition","Existing Grade Pay","Existing Amount of Fixed Remuneration","Amount of Fixed Remuneration per month with effect from 01.10.2017"]
["1","2","3","4",null,"5",null,null,2,4,6]
["1","PB-1 (5200-20200)",1700,2,"5200-20200","L-1",{"$f":"CONCATENATE(B52,\"  \",\"Grade Pay\",\"  \",\"Rs.\",\"  \",C52,\"  \",\"GP NO-\",D52,\" \",\"\")","v":"PB-1 (5200-20200)  Grade Pay  Rs.  1700  GP NO-2 "},{"$f":"IF(CA15=\"\",\"\",CA15)","v":""},1700,6670,12400,"Existing Amount of Fixed Remuneration",null,null,null,13200,null,null,null,"Employee_Type"]
["2","PB-1 (5200-20200)",1750,3,{"$f":"E52","v":"5200-20200"},"L-2","PB-1 (5200-20200)  Grade Pay  Rs.  1750  GP NO-3 ","PP",1750,7000,12600,"Existing Grade Pay",null,null,null,3600,null,null,null,"Regular"]
["3","PB-1 (5200-20200)",1900,4,"5200-20200","L-3","PB-1 (5200-20200)  Grade Pay  Rs.  1900  GP NO-4 ","PP",1900,7400,12800,"Existing Grade Pay No.",null,null,null,11,null,null,null,"Pensioner"]
["4","PB-1 (5200-20200)",2000,5,"5200-20200","L-4","PB-1 (5200-20200)  Grade Pay  Rs.  2000  GP NO-5 ","PP",2000,7790,13500,"Existing Pay Band",null,null,null,"9300-34800",null,null,null,"Probationer"]
["5","PB-1 (5200-20200)",2400,9,"5200-20200","L-5","PB-1 (5200-20200)  Grade Pay  Rs.  2400  GP NO-9 ","PP",2400,8910,14600]
["6","PB-1 (5200-20200)",2400,"9A","5200-20200","L-6","PB-1 (5200-20200)  Grade Pay  Rs.  2400  GP NO-9A ","PP",2400,8910,15100,"New amount of fixed reuneration",null,null,null,23700]
["7","PB-1 (5200-20200)",2400,"9B","5200-20200","L-7","PB-1 (5200-20200)  Grade Pay  Rs.  2400  GP NO-9B ","PP",2400,8910,15700,"Level in Pay Matrix",null,null,null,"L-10"]
["8","PB-1 (5200-20200)",2800,10,"5200-20200","L-8","PB-1 (5200-20200)  Grade Pay  Rs.  2800  GP NO-10 ","PP",2800,11820,18500]
["9","PB-1 (5200-20200)",2800,"10A","5200-20200","L-9","PB-1 (5200-20200)  Grade Pay  Rs.  2800  GP NO-10A ","PP",2800,11820,20100]
["10","PB-2 (9300-34800)",3600,11,"9300-34800","L-10","PB-2 (9300-34800)  Grade Pay  Rs.  3600  GP NO-11 ","",3600,13200,23700]
["11","PB-2 (9300-34800)",4200,12,{"$f":"E61","v":"9300-34800"},"L-11","PB-2 (9300-34800)  Grade Pay  Rs.  4200  GP NO-12 ","",4200,14660,26500]
["12","PB-2 (9300-34800)",4800,14,{"$f":"E62","v":"9300-34800"},"L-12","PB-2 (9300-34800)  Grade Pay  Rs.  4800  GP NO-14 ","PP",4800,17230,31100]
["13","PB-2 (9300-34800)",5400,15,{"$f":"E63","v":"9300-34800"},"L-13","PB-2 (9300-34800)  Grade Pay  Rs.  5400  GP NO-15 ","","N.A.","NA.","NA."]
["14","PB-3 (15600-39100)",5400,15,"15600-39100","L-14","PB-3 (15600-39100)  Grade Pay  Rs.  5400  GP NO-15 ","",5400,22180,39300]
["15","PB-3 (15600-39100)",6000,16,{"$f":"E65","v":"15600-39100"},"L-15","PB-3 (15600-39100)  Grade Pay  Rs.  6000  GP NO-16 ","",6000,24030,42500]
["16","PB-3 (15600-39100)",6600,17,"15600-39100","L-16","PB-3 (15600-39100)  Grade Pay  Rs.  6600  GP NO-17 ","",6600,26670,47200]
["17","PB-3 (15600-39100)",6800,18,"15600-39100","L-17","PB-3 (15600-39100)  Grade Pay  Rs.  6800  GP NO-18 ","",6800,28120,49700]
["18","PB-3 (15600-39100)",7200,19,"15600-39100","L-18","PB-3 (15600-39100)  Grade Pay  Rs.  7200  GP NO-19 ","",7200,29840,52800]
["19","PB-3 (15600-39100)",7600,20,"15600-39100","L-19","PB-3 (15600-39100)  Grade Pay  Rs.  7600  GP NO-20 ","",7600,31620,56000]
["20","PB-3 (15600-39100)",8200,21,"15600-39100","L-20","PB-3 (15600-39100)  Grade Pay  Rs.  8200  GP NO-21 ","",8200,35180,62300]
["21","PB-4 (37400-67000)",8700,22,"37400-67000","L-21","PB-4 (37400-67000)  Grade Pay  Rs.  8700  GP NO-22 ","",8700,48710,86200]
["22","PB-4 (37400-67000)",8900,23,{"$f":"E72","v":"37400-67000"},"L-22","PB-4 (37400-67000)  Grade Pay  Rs.  8900  GP NO-23 ","",8900,51350,90800]
["23","PB-4 (37400-67000)",9500,"23A",{"$f":"E73","v":"37400-67000"},"L-23","PB-4 (37400-67000)  Grade Pay  Rs.  9500  GP NO-23A ","",9500,54120,102100]
["24","PB-4 (37400-67000)",10000,24,{"$f":"E74","v":"37400-67000"},"L-24","PB-4 (37400-67000)  Grade Pay  Rs.  10000  GP NO-24 ","",10000,57820,104200]
[null,"Output"]
["Pensioner","PB-2 (9300-34800)  Grade Pay  Rs.  4800  GP NO-14 ",4800,14,"9300-34800",null,"L-12"]
[null,null,null,null,null,null,null,null,{"$f":"ISERROR(MATCH(P52,J52:J75,0))","v":false}]
[]
[null,"Option",647805,null,null,"CODE","VALUE","Input Value"]
[null,"hereby elect the revised pay structure with effect from 1st January, 2016",null,null,null,"A","DATE","2016-01-02",{"$f":"IF($F$85=F81,$C$87,$C$88)","v":"√"}]
[null,"hereby elect to  the date of my next increment/the date of my subsequent increment raising  my pay to Rs.",null,null,null,"B","AMOUNT",{"$f":"H81","v":"2016-01-02"},{"$f":"IF($F$85=F82,$C$87,$C$88)","v":"X"}]
[null,"the date of my subsequent increment raising my pay to Rs.",null,null,null,"C","PAY SCALE",{"$f":"H82","v":"2016-01-02"},{"$f":"IF($F$85=F83,$C$87,$C$88)","v":"X"}]
[null,"1 vacate or cease to draw pay in the existing Pay structure/the date of my promotion/upgradation to the post of__.",null,null,null,"D",null,{"$f":"H83","v":"2016-01-02"},{"$f":"IF($F$85=F84,$C$87,$C$88)","v":"X"}]
[null,"hereby elect the revised pay structure with effect from 1st January, 2016",null,null,null,"A",{"$f":"INDEX($F$159:$F$163,MATCH($A$165,$A$159:$A$163,0))","v":43647},42371,"√"]
[]
[null,"YES","√"]
[null,null,"X"]
[]
[null,"Calculation of Personal Pay"]
[null,"Existing Basic Pay","Revised Basic Pay","D.A. Rate","Difference","Rec. condt.","PP apply"]
[null,24650,0,1.25,{"$f":"IF(F92=\"NO\",0,IF(C92=0,0,IF(G92=\"\",0,IF(B92=C92,0,B92+ROUND(B92*D92,0)-(C92+ROUND(C92*D92,0))))))","v":0},"NO",{"$f":"INDEX($H$52:$H$75,MATCH($C$77,$C$52:$C$75,0))","v":"PP"}]
[null,"Calculation of Personal Pay",0,"Final value",{"$f":"ABS(E92)","v":0},0]
[null,"Text message","The difference of Rs."]
[null,null,"shall be Personal Pay and which is to be absorbed in future increases in Pay (as per FD order no. F.14(1)FD/Rules/2013 dt. 09-12-17)"]
[null,"Message 1",{"$f":"CONCATENATE(C94,\"  \",F93,\"  \",C95)","v":"The difference of Rs.  0  shall be Personal Pay and which is to be absorbed in future increases in Pay (as per FD order no. F.14(1)FD/Rules/2013 dt. 09-12-17)"}]
[null,"Message 2","---N.A.----"]
[null,"Final message",{"$f":"IF(G92=\"PP\",C96,\"\")","v":"The difference of Rs.  0  shall be Personal Pay and which is to be absorbed in future increases in Pay (as per FD order no. F.14(1)FD/Rules/2013 dt. 09-12-17)"}]
[null,null,{"$f":"IF(E92>0,C98,IF($C$97=\"---N.A.----\",$C$97,$E$92))","v":"---N.A.----"}]
[null,"19bmngr5GYTrBPCJQiTYDdyHhqRjA7YGsi","19bmngr5GYTrBPCJQiTYDdyHhqRjA7YGsi"]
[null,"16.18.1.22.5.19.8√97263.0458756048","16.18.1.22.5.19.8√97263.0458756048",null,{"$f":"IF(B101=C101,0,1)","v":0}]
["AMOUNT OF FIXED REMUNEREATION FOR PROBATIONER-TRAINEE",null,null,null,null,null,null,null,"Treatment of NPA"]
[null,null,null,null,null,null,null,null,"Condition","Basic Pay","NPS","DA on NPS","Pay "]
["S.No.","Existing Grade Pay","Existing Grade Pay No.","Existing Amount of Fixed Remuneration","Corresponding Level","Amount of Fixed Remuneration per month with effect from 01.10.2017","Remarks",null,"NO",24650,{"$f":"IF(I104=\"YES\",ROUND(J104*25%,0),0)","v":0},{"$f":"ROUND(K104*125%,0)","v":0}]
[1,2,3,4,5,6,7,null,"Multipy factor",{"$f":"ROUND(J104*2.57,0)","v":63351}]
[1,1700,2,6670,"L-1",12400,null,null,"Revised pay",{"$f":"IF(K104=0,J105,ROUNDUP(SUM(J105+L104),-1))","v":63351}]
[2,1750,3,7000,"L-2",12600,null,null,"Pay in matrix",65000]
[3,1900,4,7400,"L-3",12800,null,null,"Message 1","Amount arrived at by multiplying basic pay as at SI.No. 5{A) by 2.57 (rounded in Rs.)"]
[4,2000,5,7790,"L-4",13500,null,null,"Message 2",{"$f":"CONCATENATE(\"(\",\"including DA @ 125% on NPA amt.\",\"  \",K104,\"  \",\"Rs.\",L104,\"  \",\")\")","v":"(including DA @ 125% on NPA amt.  0  Rs.0  )"}]
[5,2400,9,8910,"L-5",14600,null,null,"Message 3",{"$f":"CONCATENATE(J108,\"  \",J109)","v":"Amount arrived at by multiplying basic pay as at SI.No. 5{A) by 2.57 (rounded in Rs.)  (including DA @ 125% on NPA amt.  0  Rs.0  )"}]
[6,2400,"9A",8910,"L-6",15100,null,null,"Final message",{"$f":"IF($I$104=\"YES\",J110,J108)","v":"Amount arrived at by multiplying basic pay as at SI.No. 5{A) by 2.57 (rounded in Rs.)"}]
[7,2400,"9B",8910,"L-7",15700]
[8,2800,10,11820,"L-8",18500,null,null,"Revsied Pay in 7PC"]
[9,2800,"10A",11820,"L-9",20100,null,null,"Pay in matrix",{"$f":"J107","v":65000}]
[10,3600,11,13200,"L-10",23700,null,null,"Existing NPA",{"$f":"K104","v":0}]
[11,4200,12,14660,"L-11",26500,null,null,"Final Pay",{"$f":"SUM(J114:J115)","v":65000}]
[12,4800,14,17230,"L-12",31100,null,null,"Message 1","Revised emoluments as at SI. No.8"]
[13,5400,15,22180,"L-14",39300,null,null,"Message 2",{"$f":"CONCATENATE(\"(\",\"including pre-revised Non Practicing Allowance Rs.\",\"  \",J115,\")\",\" \",\"i.e.\",\" \",\"Rs.\",J114,\"+\",\"Rs.\",J115,\"=\",\"Rs.\",J116,\")\")","v":"(including pre-revised Non Practicing Allowance Rs.  0) i.e. Rs.65000+Rs.0=Rs.65000)"}]
[14,6000,16,24030,"L-15",42500,null,null,"Message 3",{"$f":"CONCATENATE(J117,\"  \",J118)","v":"Revised emoluments as at SI. No.8  (including pre-revised Non Practicing Allowance Rs.  0) i.e. Rs.65000+Rs.0=Rs.65000)"}]
[15,6600,17,26670,"L-16",47200,null,null,"Final message",{"$f":"IF($I$104=\"YES\",J119,J117)","v":"Revised emoluments as at SI. No.8"}]
[16,6800,18,28120,"L-17",49700]
[17,7200,19,29840,"L-18",52800]
[18,7600,20,31620,"L-19",56000]
[19,8200,21,35180,"L-20",62300]
[20,8700,22,48710,"L-21",86200,null,{"$f":"INDEX(I151:I167,COUNT(I151:I167))","v":0}]
[21,8900,23,51350,"L-22",90800,null,"{=INDEX(array,SMALL(IF(vals=val,ROW(vals)-ROW(INDEX(vals,1,1))+1),nth))}"]
[22,9500,"23A",54120,"L-2 3",102100]
[23,10000,24,57820,"L-24",104200,null,{"$f":"VLOOKUP(L135,$G$151:$G$167,1,TRUE)","v":"2017-04-16"}]
[]
[null,"Minimum Six month servicecondition",null,"No of days"]
[null,"Condition","YES",{"$f":"EDATE(B134,6)","v":"2016-07-02"},{"$f":"D131","v":"2016-07-02"}]
[]
[null,{"$f":"YEAR(B134)","v":2016},{"$f":"IF(B133=2016,A137,IF(B133=2017,A138,A139))","v":"2016-07-01"},null,null,null,"2017-07-01","2018-07-01",{"$f":"IF(F137=\"YES\",H133,G133)","v":"2018-07-01"},"2019-07-01"]
["Option in VII pay","2016-01-02","Add-6 month condt.",{"$f":"IF($C$131=\"YES\",$B$134,EDATE(B134,6))","v":"2016-01-02"},"First Incr. Start",{"$f":"LARGE($A$137:$A$139,COUNTIF($A$137:$A$139,\">=\"&$D$134))","v":"2016-07-01"},"Increment start date",null,null,{"$f":"F134","v":"2016-07-01"},"Code","ACP date","ACP CONDT","Condt.","Code",null,"Pay at Start",null,null,{"$f":"AG41","v":67000}]
["Employee code","YEAR","Condition","ACP/PROMOTION STATUS",null,null,"Increment end date",null,null,{"$f":"IF($B$147=\"Pensioner\",J133,I133)","v":"2019-07-01"},"A",{"$f":"IF(F137=\"YES\",E137,\"\")","v":"2017-04-16"},{"$f":"IF(J134=L135,\"NO\",\"YES\")","v":"YES"},{"$f":"F137","v":"YES"},1,null,"Pay Level",null,null,{"$f":"AG42","v":"L-12"}]
[647805,2016,"YES","Type","Effective Date","Condition","Base Pay",null,null,27570,"B",{"$f":"IF(F138=\"YES\",E138,\"\")","v":""},"2017-07-01",{"$f":"F138","v":0},2,null,"Next Level",null,null,"L-13"]
["2016-07-01",2017,"YES","ACP","2017-04-16","YES","Increment Rate",null,null,0.03,"C","Base G.Pay",{"$f":"IF(D150<M136,\"YES\",\"NO\")","v":"NO"},null,null,null,"ACP condition",null,null,"YES"]
["2017-07-01",null,null,0,"00:00:00",0,"BASE DATE FOR START POINT",null,null,{"$f":"IF(N135=\"YES\",IF(L135<=J134,L135,J134))","v":"2016-07-01"},{"$f":"IF(J138=FALSE,J134,J138)","v":"2016-07-01"},null,null,null,null,null,"Incre in existing level",null,null,2000]
["2018-07-01"]
[{"$f":"INDEX($B$140:$B$143,MATCH(SMALL(COUNTIF($B$140:$B$143,\"<\"&$B$140:$B$143),ROW(1:1)),COUNTIF($B$140:$B$143,\"<\"&$B$140:$B$143),0))","v":"2016-07-01"},"2016-07-01",{"$f":"C136","v":"YES"},{"$f":"INDEX($B$140:$B$143,MATCH(ROWS($D$139:D139),COUNTIF($B$140:$B$143,\"<=\"&$B$140:$B$143),0))","v":"2016-07-01"},{"$f":"INDEX($C$140:$C$143,MATCH(D140,$B$140:$B$143,0))","v":"YES"},{"$f":"IFERROR(E140,\"\")","v":"YES"},"Text message for Incr order",null,{"$f":"CONCATENATE(\"Details of\",\"  \",D137,\"  \",\"between \",TEXT(J134,\"dd/mm/yyyy\"),\" \",\"to\",\" \",TEXT(G133,\"dd/mm/yyyy\"))","v":"Details of  ACP  between 01/07/2016 to 01/07/2017"},null,null,null,null,"PP amt",null,null,"Pay after increment",null,null,{"$f":"AG46","v":69000}]
[{"$f":"INDEX($B$140:$B$143,MATCH(SMALL(COUNTIF($B$140:$B$143,\"<\"&$B$140:$B$143),ROW(2:2)),COUNTIF($B$140:$B$143,\"<\"&$B$140:$B$143),0))","v":"2016-07-01"},"2017-07-01",{"$f":"C137","v":"YES"},{"$f":"INDEX($B$140:$B$143,MATCH(ROWS($D$139:D140),COUNTIF($B$140:$B$143,\"<=\"&$B$140:$B$143),0))","v":"2017-04-16"},{"$f":"INDEX($C$140:$C$143,MATCH(D141,$B$140:$B$143,0))","v":"YES"},"YES","Due","Exist. Pay Level","New Pay Level","Existing Pay","Incre. Amt.","Pay after Incr.",null,"---N.A.----",null,null,"Pay in upgraded level",null,null,{"$f":"AG47","v":69200}]
[{"$f":"INDEX($B$140:$B$143,MATCH(SMALL(COUNTIF($B$140:$B$143,\"<\"&$B$140:$B$143),ROW(3:3)),COUNTIF($B$140:$B$143,\"<\"&$B$140:$B$143),0))","v":"2017-04-16"},{"$f":"IF(C142=\"YES\",E137,\"\")","v":"2017-04-16"},{"$f":"IF(F137=\"YES\",F137,\"\")","v":"YES"},{"$f":"INDEX($B$140:$B$143,MATCH(ROWS($D$139:D141),COUNTIF($B$140:$B$143,\"<=\"&$B$140:$B$143),0))","v":"2017-07-01"},"YES","YES",{"$f":"CONCATENATE(D137,\"  \",\"due date\")","v":"ACP  due date"},{"$f":"T135","v":"L-12"},{"$f":"T136","v":"L-13"},{"$f":"T134","v":67000},{"$f":"T138","v":2000},{"$f":"T141","v":69200}]
[{"$f":"INDEX($B$140:$B$143,MATCH(SMALL(COUNTIF($B$140:$B$143,\"<\"&$B$140:$B$143),ROW(4:4)),COUNTIF($B$140:$B$143,\"<\"&$B$140:$B$143),0))","v":"2017-07-01"},{"$f":"IF(C143=\"YES\",E138,\"\")","v":""},{"$f":"IF(F138=\"YES\",F138,\"\")","v":""},{"$f":"INDEX($B$140:$B$143,MATCH(ROWS($D$139:D142),COUNTIF($B$140:$B$143,\"<=\"&$B$140:$B$143),0))","v":{"$error":"#N/A"}},{"$error":"#N/A"},"",{"$f":"IF($F$137=\"YES\",G142,\"\")","v":"ACP  due date"},{"$f":"IF($F$137=\"YES\",H142,\"\")","v":"L-12"},{"$f":"IF($F$137=\"YES\",I142,\"\")","v":"L-13"},{"$f":"IF($F$137=\"YES\",J142,\"\")","v":67000},{"$f":"IF($F$137=\"YES\",K142,\"\")","v":2000},69200,null,{"$f":"CONCATENATE(\"Personal Pay\",\"(\",N141,\")\")","v":"Personal Pay(---N.A.----)"},null,null,null,null,null,null,null,null,null,null,null,null,null,null,"2016-07-01"]
["Text message for first increments",null,{"$f":"IF(F134-C133=0,\"\",\"Date of first incre. applicable [Rule 13(1) i.e. mini. 6 months service condition]\")","v":""}]
[null,null,null,null,null,null,"Note shown in increment order for retirement purpose",null,null,null,null,null,"Types of pension","Process condition","Employee type","Last Pay","Last Pay"]
["Date of service end","Employee category","Last increment date",null,"DATE OF RETIREMENT/SERVICE END DATE ",null,{"$f":"IF($B$147=\"Pensioner\", IF($M$146=\"Death\",\"Retire(Death)date\",IF($M$146=\"Retirement\",\"Retirement date\",IF($M$146=\"Voluntary\",\"Voluntary Ret. Date\",\"\"))))","v":"Retire(Death)date"},{"$f":"IF($B$147=\"Pensioner\", IF($M$146=\"Death\",\"Pay on Retire(Death)date\",IF($M$146=\"Retirement\",\"Pay on Retirement date\",IF($M$146=\"Voluntary\",\"Pay on Voluntary Ret. Date\",\"\"))))","v":"Pay on Retire(Death)date"},null,{"$f":"IF($B$147=\"Pensioner\", IF($M$146=\"Death\",\"Revised Pay on Retire(Death)date\",IF($M$146=\"Retirement\",\"Revised Pay on Retirement date\",IF($M$146=\"Voluntary\",\"Revised Pay on Voluntary Ret. Date\",\"\"))))","v":"Revised Pay on Retire(Death)date"},null,null,"Death","YES","Pensioner",24650,{"$f":"X168","v":67000}]
[{"$f":"E148","v":"2016-05-01"},{"$f":"O148","v":"Pensioner"},{"$f":"IF(B147=\"Pensioner\",LARGE($G$151:$G$167,COUNTIF($G$151:$G$167,\">=\"&$A$147)),MAX($G$151:$G$167))","v":"2016-07-01"},null,"2016-05-01"]
[null,null,{"$f":"LARGE($G$151:$G$167,COUNTIF($G$151:$G$167,\">=\"&$A$147))","v":"2016-07-01"},null,{"$f":"IF($B$147=\"Pensioner\",IF(E147=FALSE,\"\",E147),\"\")","v":"2016-05-01"},null,{"$f":"IF(G146=FALSE,\"\",G146)","v":"Retire(Death)date"},{"$f":"IF(H146=FALSE,\"\",H146)","v":"Pay on Retire(Death)date"},null,{"$f":"IF(J146=FALSE,\"\",J146)","v":"Revised Pay on Retire(Death)date"},null,null,{"$f":"IF(M146=FALSE,\"\",M146)","v":"Death"},{"$f":"IF(N146=FALSE,\"\",N146)","v":"YES"},{"$f":"IF(O146=FALSE,\"\",O146)","v":"Pensioner"},{"$f":"IF($B$147=\"Pensioner\",IF(P146=FALSE,\"\",P146),\"\")","v":24650},{"$f":"IF($B$147=\"Pensioner\",IF(Q146=FALSE,\"\",Q146),\"\")","v":67000}]
[null,null,null,null,null,null,null,null,null,null,null,null,null,null,null,null,null,null,null,"Start date:",{"$f":"J134","v":"2016-07-01"},"End date:",{"$f":"IF(J134-A139=0,F134,J135)","v":"2019-07-01"},null,null,null,null,null,"Month code",null,"Cal date",null,"Base Date","Final Month Code",null,"Final Cal Date"]
["Next Date \nof Increement","Next Date of Increement","Change Date","Condition","Change date after condt.","Close Date","Final Date for further cal.","Incr. Condt.","Pay at start","Incr. amt","Change Pay Level","Change Pay Level due to ACP/Promt","Grade Pay (a)","GradePay (b)","Adjusted PP","Balance PP amt","Final Grade Pay for cal","Pay at end","S.N.","Date_list","SHORT DATE (A)",null,null,null,null,null,null,1,{"$f":"IF(AE150=\"\",\"\",1)","v":""},null,{"$f":"IF(L135=\"\",\"\",IF(L135<AE151,L135,\"\"))","v":""},null,null,null,null,null,null,{"$f":"AC150","v":""}]
[{"$f":"AA151","v":"2016-07-01"},{"$f":"A151","v":"2016-07-01"},null,"NO",{"$f":"IF(D151=\"YES\",C151,A151)","v":"2016-07-01"},{"$f":"J135","v":"2019-07-01"},{"$f":"E151","v":"2016-07-01"},{"$f":"F140","v":"YES"},65000,{"$f":"IF(H151=\"YES\",ROUND((I151*3%),-2),0)","v":2000},{"$f":"IF($L$135=G151,\"1\",IF($L$136=G151,\"2\",\"NO\"))","v":"NO"},{"$f":"IF(K151=\"1\",J151,IF(K151=\"2\",J151,0))","v":0},{"$f":"IF(L151>0,IF($N$135=\"YES\",IF($L$135=G151,$T$141,0)))","v":false},{"$f":"IF(M151,M151,0)","v":0},{"$f":"IF($N$141=\"---N.A.----\",\"--NIL--\",IF($N$141>J151,J151,N141))","v":"--NIL--"},{"$f":"IF($N$141=\"---N.A.----\",\"--NIL--\",$N$141-O151)","v":"--NIL--"},null,{"$f":"IF(N151>0,N151,I151+J151)","v":67000},1,{"$f":"U149","v":"2016-07-01"},"2016-07-01",{"$f":"U151","v":"2016-07-01"},{"$f":"IF($B$147=\"Pensioner\",IF($C$147<G151,\"N.A.\",R151),R151)","v":67000},{"$f":"IF(W151=FALSE,V171,W151)","v":67000},"YES",{"$f":"IF(Y151=\"YES\",V151,U151)","v":"2016-07-01"},{"$f":"IFERROR(Z151,\"\")","v":"2016-07-01"},null,{"$f":"IF(AE151=\"\",\"\",(MAX(AA$21:AA150)+1))","v":8201},"2016-07-01",{"$f":"AG151","v":"2016-07-01"},{"$f":"AE151","v":"2016-07-01"},"2016-07-01",1,{"$f":"IF(ISNA(VLOOKUP(AC151,Z$21:AB$65,3,FALSE)),\" \",(VLOOKUP(AC151,Z$21:AB$65,3,FALSE)))","v":" "},{"$f":"IF(ISNA(VLOOKUP(AH151,AA$21:AC$65,3,FALSE)),\" \",(VLOOKUP(AH151,AA$21:AC$65,3,FALSE)))","v":" "},{"$f":"AJ151","v":" "},8201]
[{"$f":"IF($K$138=$J$135,\"\",AA152)","v":"2017-04-16"},{"$f":"IF(A152=\"\",\"\",\"01/07/\"&(IF(MONTH(A152)<=6,YEAR(A152),(YEAR(A152)+1))))","v":"01/07/2017"},null,"NO","2017-04-16",{"$f":"F151","v":"2019-07-01"},{"$f":"IF(G151=\"\",\"\",IF(F152>=E152,E152,\"\"))","v":"2017-04-16"},{"$f":"F141","v":"YES"},{"$f":"R151","v":67000},{"$f":"IF(H152=\"YES\",ROUND((I152*3%),-2),0)","v":2000},"1",{"$f":"IF(K152=\"1\",J152,IF(K152=\"2\",J152,0))","v":2000},{"$f":"IF(L152>0,IF($N$135=\"YES\",IF($L$135=G152,$T$141,0)))","v":69200},{"$f":"IF(M152,M152,0)","v":69200},{"$f":"IF(X152=\"---\",0,IF($N$141=\"---N.A.----\",\"--NIL--\",IF(P151>J152,J152,P151)))","v":0},{"$f":"IF($N$141=\"---N.A.----\",\"--NIL--\",P151-O152)","v":"--NIL--"},null,{"$f":"IF(AA152=\"\",0,IF(N152>0,N152,I152+J152))","v":69200},2,{"$f":"DATE(YEAR(T151),MONTH(T151)+12,DAY(T151))","v":"2017-07-01"},"2017-04-16",{"$f":"U152","v":"2017-04-16"},{"$f":"IF($B$147=\"Pensioner\",IF($C$147<=G152,\"---\",R152),R152)","v":"---"},"---","YES","2017-04-16","2017-04-16",null,{"$f":"IF(AF152=\"\",\"\",AC151)","v":8201},null,{"$f":"DATE(YEAR(AE151),MONTH(AE151)+6,DAY(AE151))","v":"2017-01-01"},{"$f":"IF(AE152=AE151,\"\",AE152)","v":"2017-01-01"},{"$f":"DATE(YEAR(AG151)+1,MONTH(AG151),DAY(AG151))","v":"2017-07-01"},2," "," ",{"$f":"IF(AI152>0,AI154,AI152)","v":" "},8201]
["2017-07-01","01/07/2018",null,"NO","2017-07-01","2019-07-01","2017-07-01",{"$f":"F142","v":"YES"},69200,2100,"NO",{"$f":"IF(K153=\"1\",J153,IF(K153=\"2\",J153,0))","v":0},false,0,{"$f":"IF(X153=\"---\",0,IF($N$141=\"---N.A.----\",\"--NIL--\",IF(P152>J153,J153,P152)))","v":0},{"$f":"IF($N$141=\"---N.A.----\",\"--NIL--\",P152-O153)","v":"--NIL--"},null,{"$f":"IF(AA153=\"\",0,IF(N153>0,N153,I153+J153))","v":71300},3,{"$f":"DATE(YEAR(T152),MONTH(T152)+12,DAY(T152))","v":"2018-07-01"},"2017-07-01","2017-07-01",{"$f":"IF($B$147=\"Pensioner\",IF($C$147<=G153,\"---\",R153),R153)","v":"---"},"---","YES","2017-07-01","2017-07-01",2,{"$f":"IF(AF153=\"\",\"\",MAX(AC151:AC152))","v":8201},null,null,{"$f":"IF(AE153=AE152,\"\",AE153)","v":"00:00:00"},{"$f":"DATE(YEAR(AG152)+1,MONTH(AG152),DAY(AG152))","v":"2018-07-01"},3," "," ",{"$f":"IF(AI153>0,AI157,AI153)","v":" "},8201]
["2018-07-01","01/07/2019",null,"NO","2018-07-01","2019-07-01",{"$f":"IF(G153=\"\",\"\",IF(F154>=E154,E154,\"\"))","v":"2018-07-01"},{"$f":"F143","v":""},71300,0,"NO",0,false,0,{"$f":"IF(X154=\"---\",0,IF($N$141=\"---N.A.----\",\"--NIL--\",IF(P153>J154,J154,P153)))","v":0},{"$f":"IF($N$141=\"---N.A.----\",\"--NIL--\",P153-O154)","v":"--NIL--"},null,71300,4,"2019-07-01","2018-07-01","2018-07-01","---","---","YES","2018-07-01","2018-07-01",null,{"$f":"IF(AE154=\"\",\"\",(MAX(AA$21:AA153)+1))","v":42918},{"$f":"DATE(YEAR(AD151)+1,MONTH(AD151),DAY(AD151))","v":"2017-07-01"},{"$f":"DATE(YEAR(AE153),MONTH(AE153)+12,DAY(AE153))","v":"1900-12-31"},{"$f":"AE154","v":"1900-12-31"},{"$f":"DATE(YEAR(AG152)+1,MONTH(AG152),DAY(AG152))","v":"2018-07-01"},4," "," ",{"$f":"IF(AI154>0,AI158,AI154)","v":" "},42918]
["","",{"$f":"B155","v":""},"NO","","2019-07-01","",null,71300,0,"2",0,false,0,null,null,null,0,5,"2020-07-01",{"$error":"#VALUE!"},{"$error":"#VALUE!"},"---","---","YES",{"$error":"#VALUE!"},"",null,{"$f":"IF(AF155=\"\",\"\",AC154)","v":""},null,null,{"$f":"IF(AE155=AE153,\"\",AE155)","v":""},{"$f":"DATE(YEAR(AG154)+1,MONTH(AG154),DAY(AG154))","v":"2019-07-01"},5," "," ",{"$f":"IF(AI155>0,AI159,AI155)","v":" "},""]
["","","","NO","","2019-07-01","",null,0,0,"2",0,false,0,null,null,null,0,6,"2021-07-01",{"$error":"#VALUE!"},{"$error":"#VALUE!"},"---","---","YES",{"$error":"#VALUE!"},"",3,{"$f":"IF(AF156=\"\",\"\",MAX(AC154:AC155))","v":42918},null,null,{"$f":"IF(AE156=AE154,\"\",AE156)","v":"00:00:00"},{"$f":"DATE(YEAR(AG155)+1,MONTH(AG155),DAY(AG155))","v":"2020-07-01"},6," "," ",{"$f":"IF(AI156>0,AI160,AI156)","v":" "},42918]
["","","","NO","","2019-07-01","",null,0,0,"2",0,false,0,null,null,null,0,7,"2022-07-01",{"$error":"#VALUE!"},{"$error":"#VALUE!"},"---","---","YES",{"$error":"#VALUE!"},"",null,{"$f":"IF(AE157=\"\",\"\",(MAX(AA$21:AA156)+1))","v":43283},{"$f":"DATE(YEAR(AD154)+1,MONTH(AD154),DAY(AD154))","v":"2018-07-01"},{"$f":"DATE(YEAR(AE156),MONTH(AE156)+12,DAY(AE156))","v":"1900-12-31"},{"$f":"AE157","v":"1900-12-31"},{"$f":"DATE(YEAR(AG155)+1,MONTH(AG155),DAY(AG155))","v":"2020-07-01"},7," "," ",{"$f":"IF(AJ157=$AK$22,DATE(YEAR(AK155)+1,MONTH(AK155),DAY(AK155)),AJ157)","v":" "},43283]
["","","","NO","","2019-07-01","",null,0,0,"2",0,false,0,null,null,null,0,8,"2023-07-01",{"$error":"#VALUE!"},{"$error":"#VALUE!"},"---","---","YES",{"$error":"#VALUE!"},"",null,{"$f":"IF(AF158=\"\",\"\",AC157)","v":""},null,null,{"$f":"IF(AE158=AE156,\"\",AE158)","v":""},{"$f":"DATE(YEAR(AG157)+1,MONTH(AG157),DAY(AG157))","v":"2021-07-01"},8," "," ",{"$f":"IF(AJ158=$AK$22,DATE(YEAR(AK157)+1,MONTH(AK157),DAY(AK157)),AJ158)","v":" "},""]
["","","","NO","","2019-07-01","",null,0,0,"2",null,false,0,null,null,null,0,9,"2024-07-01",{"$error":"#VALUE!"},{"$error":"#VALUE!"},"---","---","YES",{"$error":"#VALUE!"},"",4,{"$f":"IF(AF159=\"\",\"\",MAX(AC157:AC158))","v":43283},null,null,{"$f":"IF(AE159=AE157,\"\",AE159)","v":"00:00:00"},{"$f":"DATE(YEAR(AG158)+1,MONTH(AG158),DAY(AG158))","v":"2022-07-01"},9," "," ",{"$f":"IF(AJ159=$AK$22,DATE(YEAR(AK158)+1,MONTH(AK158),DAY(AK158)),AJ159)","v":" "},43283]
["",{"$f":"IF(A160=\"\",\"\",\"01/07/\"&YEAR(A160)+1)","v":""},"","NO","","2019-07-01","",null,0,0,"2",null,false,0,null,null,null,0,10,"2025-07-01",{"$error":"#VALUE!"},{"$error":"#VALUE!"},"---","---","YES",{"$error":"#VALUE!"},"",null,{"$f":"IF(AE160=\"\",\"\",(MAX(AA$21:AA159)+1))","v":43283},{"$f":"DATE(YEAR(AD157)+1,MONTH(AD157),DAY(AD157))","v":"2019-07-01"},{"$f":"DATE(YEAR(AE159),MONTH(AE159)+12,DAY(AE159))","v":"1900-12-31"},{"$f":"AE160","v":"1900-12-31"},{"$f":"DATE(YEAR(AG158)+1,MONTH(AG158),DAY(AG158))","v":"2022-07-01"},10," "," ",{"$f":"IF(AJ160=$AK$22,DATE(YEAR(AK158)+1,MONTH(AK158),DAY(AK158)),AJ160)","v":" "},43283]
["","","","NO","","2019-07-01","",null,0,0,"2",null,false,0,null,null,null,0,11,"2026-07-01",{"$error":"#VALUE!"},{"$error":"#VALUE!"},"---","---","YES",{"$error":"#VALUE!"},"",null,{"$f":"IF(AF161=\"\",\"\",AC160)","v":""},null,{"$f":"IF(AND($L$135>=AE160,$L$135<=AE163),$L$135,IF(AND($L$136>=AE160,$L$136<=AE163),$L$136,IF(AND($L$137>=AE160,$L$137<=AE163),$L$137,\"\")))","v":""},{"$f":"IF(AE161=AE159,\"\",AE161)","v":""},{"$f":"DATE(YEAR(AG160)+1,MONTH(AG160),DAY(AG160))","v":"2023-07-01"},11," "," ",{"$f":"IF(AJ161=$AK$22,DATE(YEAR(AK160)+1,MONTH(AK160),DAY(AK160)),AJ161)","v":" "},""]
["","","","NO","","2019-07-01","",null,0,0,"2",null,false,0,null,null,null,0,12,"2027-07-01",{"$error":"#VALUE!"},{"$error":"#VALUE!"},"---","---","YES",{"$error":"#VALUE!"},"",5,{"$f":"IF(AF162=\"\",\"\",MAX(AC160:AC161))","v":43283},null,null,{"$f":"IF(AE162=AE160,\"\",AE162)","v":"00:00:00"},{"$f":"DATE(YEAR(AG161)+1,MONTH(AG161),DAY(AG161))","v":"2024-07-01"},12," "," ",{"$f":"IF(AJ162=$AK$22,DATE(YEAR(AK161)+1,MONTH(AK161),DAY(AK161)),AJ162)","v":" "},43283]
["","","","NO","","2019-07-01","",null,0,0,"2",null,false,0,null,null,null,0,13,"2028-07-01",{"$error":"#VALUE!"},{"$error":"#VALUE!"},"---","---","YES",{"$error":"#VALUE!"},"",null,{"$f":"IF(AE163=\"\",\"\",(MAX(AA$21:AA162)+1))","v":43283},{"$f":"DATE(YEAR(AD160)+1,MONTH(AD160),DAY(AD160))","v":"2020-07-01"},{"$f":"DATE(YEAR(AE162),MONTH(AE162)+12,DAY(AE162))","v":"1900-12-31"},{"$f":"AE163","v":"1900-12-31"},{"$f":"DATE(YEAR(AG161)+1,MONTH(AG161),DAY(AG161))","v":"2024-07-01"},13," "," ",{"$f":"IF(AJ163=$AK$22,DATE(YEAR(AK161)+1,MONTH(AK161),DAY(AK161)),AJ163)","v":" "},43283]
["","","","NO","","2019-07-01","",null,0,0,"2",null,false,0,null,null,null,0,14,"2029-07-01",{"$error":"#VALUE!"},{"$error":"#VALUE!"},"---","---","YES",{"$error":"#VALUE!"},"",null,{"$f":"IF(AF164=\"\",\"\",AC163)","v":""},null,null,{"$f":"IF(AE164=AE162,\"\",AE164)","v":""},{"$f":"DATE(YEAR(AG163)+1,MONTH(AG163),DAY(AG163))","v":"2025-07-01"},14," "," ",{"$f":"IF(AJ164=$AK$22,DATE(YEAR(AK163)+1,MONTH(AK163),DAY(AK163)),AJ164)","v":" "},""]
["","","","NO","","2019-07-01","",null,0,0,"2",null,false,0,null,null,null,0,15,"2030-07-01",{"$error":"#VALUE!"},{"$error":"#VALUE!"},"---","---","YES",{"$error":"#VALUE!"},"",6,{"$f":"IF(AF165=\"\",\"\",MAX(AC163:AC164))","v":43283},null,null,{"$f":"IF(AE165=AE163,\"\",AE165)","v":"00:00:00"},{"$f":"DATE(YEAR(AG164)+1,MONTH(AG164),DAY(AG164))","v":"2026-07-01"},15," "," ",{"$f":"IF(AJ165=$AK$22,DATE(YEAR(AK164)+1,MONTH(AK164),DAY(AK164)),AJ165)","v":" "},43283]
["2030-07-01","01/07/2031","01/07/2031","NO","2030-07-01","2019-07-01","",null,0,0,"2",null,false,0,null,null,null,0,16,{"$f":"IF(N135=\"YES\",L135,\"\")","v":"2017-04-16"},"2030-07-01","2030-07-01","---","---","YES","2030-07-01","2030-07-01",null,{"$f":"IF(AE166=\"\",\"\",(MAX(AA$21:AA165)+1))","v":43283},{"$f":"DATE(YEAR(AD163)+1,MONTH(AD163),DAY(AD163))","v":"2021-07-01"},{"$f":"DATE(YEAR(AE165),MONTH(AE165)+12,DAY(AE165))","v":"1900-12-31"},{"$f":"AE166","v":"1900-12-31"},{"$f":"DATE(YEAR(AG164)+1,MONTH(AG164),DAY(AG164))","v":"2026-07-01"},16," "," ",{"$f":"IF(AJ166=$AK$22,DATE(YEAR(AK164)+1,MONTH(AK164),DAY(AK164)),AJ166)","v":" "},43283]
["","","","NO","","2019-07-01","",null,0,0,"2",null,false,0,null,null,null,0,17,{"$f":"IF(N136=\"YES\",L136,\"\")","v":""},{"$error":"#VALUE!"},{"$error":"#VALUE!"},"---","---","YES",{"$error":"#VALUE!"},"",null,{"$f":"IF(AF167=\"\",\"\",AC166)","v":""},null,null,{"$f":"IF(AE167=AE165,\"\",AE167)","v":""},{"$f":"DATE(YEAR(AG166)+1,MONTH(AG166),DAY(AG166))","v":"2027-07-01"},17," "," ",{"$f":"IF(AJ167=$AK$22,DATE(YEAR(AK166)+1,MONTH(AK166),DAY(AK166)),AJ167)","v":" "},""]
[null,null,null,null,null,null,null,null,null,null,null,null,null,null,null,null,null,null,null,null,null,null,null,{"$f":"MAX(X151:X167)","v":67000},null,null,null,7,{"$f":"IF(AF168=\"\",\"\",MAX(AC166:AC167))","v":43283},null,null,{"$f":"IF(AE168=AE166,\"\",AE168)","v":"00:00:00"},{"$f":"DATE(YEAR(AG167)+1,MONTH(AG167),DAY(AG167))","v":"2028-07-01"},18," "," ",{"$f":"IF(AJ168=$AK$22,DATE(YEAR(AK167)+1,MONTH(AK167),DAY(AK167)),AJ168)","v":" "},43283]
[null,null,null,null,null,null,null,null,null,null,null,null,null,null,null,null,null,null,null,null,null,null,null,null,null,null,null,null,{"$f":"IF(AE169=\"\",\"\",(MAX(AA$21:AA168)+1))","v":47666},{"$f":"DATE(YEAR(AD166)+1,MONTH(AD166),DAY(AD166))","v":"2022-07-01"},{"$f":"DATE(YEAR(AE168),MONTH(AE168)+12,DAY(AE168))","v":"1900-12-31"},{"$f":"AE169","v":"1900-12-31"},{"$f":"DATE(YEAR(AG167)+1,MONTH(AG167),DAY(AG167))","v":"2028-07-01"},{"$f":"AC169","v":47666}," "," ",{"$f":"IF(AJ169=$AK$22,DATE(YEAR(AK167)+1,MONTH(AK167),DAY(AK167)),AJ169)","v":" "},47666]
[null,"DA RATE IN VII PC",null,null,null,null,null,null,null,null,null,null,null,null,null,null,null,null,null,null,null,null,null,null,null,null,null,null,{"$f":"IF(AF170=\"\",\"\",AC169)","v":""},null,null,{"$f":"IF(AE170=AE168,\"\",AE170)","v":""},{"$f":"DATE(YEAR(AG169)+1,MONTH(AG169),DAY(AG169))","v":"2029-07-01"},""," "," ",{"$f":"IF(AJ170=$AK$22,DATE(YEAR(AK169)+1,MONTH(AK169),DAY(AK169)),AJ170)","v":" "},""]
[null,"2016-01-01","2016-12-31",0,null,null,null,null,null,null,null,null,null,null,null,null,null,null,null,null,null,null,null,null,null,null,null,8,{"$f":"IF(AF171=\"\",\"\",MAX(AC169:AC170))","v":47666},null,null,{"$f":"IF(AE171=AE169,\"\",AE171)","v":"00:00:00"},{"$f":"DATE(YEAR(AG170)+1,MONTH(AG170),DAY(AG170))","v":"2030-07-01"},47666," "," ",{"$f":"IF(AJ171=$AK$22,DATE(YEAR(AK170)+1,MONTH(AK170),DAY(AK170)),AJ171)","v":" "},47666]
[null,{"$f":"C171+1","v":"2017-01-01"},"2017-06-30",0.04,null,null,null,null,null,null,null,null,null,null,null,null,null,null,null,null,null,null,null,null,null,null,null,null,{"$f":"IF(AE172=\"\",\"\",(MAX(AA$21:AA171)+1))","v":47666},{"$f":"DATE(YEAR(AD169)+1,MONTH(AD169),DAY(AD169))","v":"2023-07-01"},{"$f":"DATE(YEAR(AE171),MONTH(AE171)+12,DAY(AE171))","v":"1900-12-31"},{"$f":"AE172","v":"1900-12-31"},{"$f":"DATE(YEAR(AG170)+1,MONTH(AG170),DAY(AG170))","v":"2030-07-01"},47666," "," ",{"$f":"IF(AJ172=$AK$22,DATE(YEAR(AK170)+1,MONTH(AK170),DAY(AK170)),AJ172)","v":" "},47666]
[null,{"$f":"C172+1","v":"2017-07-01"},null,0.05,null,null,null,null,null,null,null,null,null,null,null,null,null,null,null,null,null,null,null,null,null,null,null,null,{"$f":"IF(AF173=\"\",\"\",AC172)","v":""},null,null,{"$f":"IF(AE173=AE171,\"\",AE173)","v":""},null,""," "," ",{"$f":"IF(AJ173=$AK$22,DATE(YEAR(AK172)+1,MONTH(AK172),DAY(AK172)),AJ173)","v":" "},""]
[null,null,null,null,null,null,null,null,null,null,null,null,null,null,null,null,null,null,null,null,null,null,null,null,null,null,null,9,{"$f":"IF(AF174=\"\",\"\",MAX(AC172:AC173))","v":47666},null,null,{"$f":"IF(AE174=AE172,\"\",AE174)","v":"00:00:00"},null,47666," "," ",{"$f":"IF(AJ174=$AK$22,DATE(YEAR(AK173)+1,MONTH(AK173),DAY(AK173)),AJ174)","v":" "},47666]
[null,null,null,null,null,null,null,null,null,null,null,null,null,null,null,null,null,null,null,null,null,null,null,null,null,null,null,null,{"$f":"IF(AE175=\"\",\"\",(MAX(AA$21:AA174)+1))","v":47666},{"$f":"DATE(YEAR(AD172)+1,MONTH(AD172),DAY(AD172))","v":"2024-07-01"},{"$f":"DATE(YEAR(AE174),MONTH(AE174)+12,DAY(AE174))","v":"1900-12-31"},{"$f":"AE175","v":"1900-12-31"},null,47666," "," ",{"$f":"IF(AJ175=$AK$22,DATE(YEAR(AK173)+1,MONTH(AK173),DAY(AK173)),AJ175)","v":" "},47666]
[null,"PENSION SERVICE END DATE",{"$f":"A147","v":"2016-05-01"},{"$f":"VLOOKUP($C$176,$B$171:$D$173,3)","v":0},null,null,{"$f":"A147","v":"2016-05-01"},null,null,null,null,null,null,null,null,null,null,null,null,null,null,null,null,null,null,null,null,null,{"$f":"IF(AF176=\"\",\"\",AC175)","v":""},null,null,{"$f":"IF(AE176=AE174,\"\",AE176)","v":""},null,""," "," ",{"$f":"IF(AJ176=$AK$22,DATE(YEAR(AK175)+1,MONTH(AK175),DAY(AK175)),AJ176)","v":" "},""]
[null,"Pension Type","Family Pension",null,null,null,null,null,null,null,null,null,null,null,null,null,null,null,null,null,null,null,null,null,null,null,null,10,{"$f":"IF(AF177=\"\",\"\",MAX(AC175:AC176))","v":47666},null,null,{"$f":"IF(AE177=AE175,\"\",AE177)","v":"00:00:00"},null,47666," "," ",{"$f":"IF(AJ177=$AK$22,DATE(YEAR(AK176)+1,MONTH(AK176),DAY(AK176)),AJ177)","v":" "},47666]
[null,"End day of service end date",{"$f":"EOMONTH(C176,0)","v":"2016-05-31"},null,null,null,null,null,null,null,null,null,null,null,null,null,null,null,null,null,null,null,null,null,null,null,null,null,{"$f":"IF(AE178=\"\",\"\",(MAX(AA$21:AA177)+1))","v":47666},{"$f":"DATE(YEAR(AD175)+1,MONTH(AD175),DAY(AD175))","v":"2025-07-01"},{"$f":"DATE(YEAR(AE177),MONTH(AE177)+12,DAY(AE177))","v":"1900-12-31"},{"$f":"AE178","v":"1900-12-31"},null,47666," "," ",{"$f":"IF(AJ178=$AK$22,DATE(YEAR(AK176)+1,MONTH(AK176),DAY(AK176)),AJ178)","v":" "},47666]
[null,"Partial payment status",{"$f":"IF(C178>C176,\"YES\",\"NO\")","v":"YES"},null,null,null,null,null,null,null,null,null,null,null,null,null,null,null,null,null,null,null,null,null,null,null,null,null,{"$f":"IF(AF179=\"\",\"\",AC178)","v":""},null,null,{"$f":"IF(AE179=AE177,\"\",AE179)","v":""},null,""," "," ",{"$f":"IF(AJ179=$AK$22,DATE(YEAR(AK178)+1,MONTH(AK178),DAY(AK178)),AJ179)","v":" "},""]
[null,"LAST DAY OF MONTH",{"$f":"EOMONTH(C176,-1)","v":"2016-04-30"},null,null,null,null,null,null,null,null,null,null,null,null,null,null,null,null,null,null,null,null,null,null,null,null,11,{"$f":"IF(AF180=\"\",\"\",MAX(AC178:AC179))","v":47666},null,null,{"$f":"IF(AE180=AE178,\"\",AE180)","v":"00:00:00"},null,47666," "," ",{"$f":"IF(AJ180=$AK$22,DATE(YEAR(AK179)+1,MONTH(AK179),DAY(AK179)),AJ180)","v":" "},47666]
[null,"WORKING DAY FOR SERVICE",{"$f":"C176-C180","v":1},null,null,null,null,null,null,null,null,null,null,null,null,null,null,null,null,null,null,null,null,null,null,null,null,null,{"$f":"IF(AE181=\"\",\"\",(MAX(AA$21:AA180)+1))","v":47666},{"$f":"DATE(YEAR(AD178)+1,MONTH(AD178),DAY(AD178))","v":"2026-07-01"},{"$f":"DATE(YEAR(AE180),MONTH(AE180)+12,DAY(AE180))","v":"1900-12-31"},{"$f":"AE181","v":"1900-12-31"},null,47666," "," ",{"$f":"IF(AJ181=$AK$22,DATE(YEAR(AK179)+1,MONTH(AK179),DAY(AK179)),AJ181)","v":" "},47666]
[null,"NO OF DAYS ",{"$f":"DAY(EOMONTH(C176,0))","v":31},{"$f":"C182","v":31},null,null,null,null,null,null,null,null,null,null,null,null,null,null,null,null,null,null,null,null,null,null,null,null,{"$f":"IF(AF182=\"\",\"\",AC181)","v":""},null,null,{"$f":"IF(AE182=AE180,\"\",AE182)","v":""},null,""," "," ",{"$f":"IF(AJ182=$AK$22,DATE(YEAR(AK181)+1,MONTH(AK181),DAY(AK181)),AJ182)","v":" "},""]
[null,null,null,null,null,null,null,null,null,null,null,null,null,null,null,null,null,null,null,null,null,null,null,null,null,null,null,12,{"$f":"IF(AF183=\"\",\"\",MAX(AC181:AC182))","v":47666},null,null,{"$f":"IF(AE183=AE181,\"\",AE183)","v":"00:00:00"},null,47666," "," ",{"$f":"IF(AJ183=$AK$22,DATE(YEAR(AK182)+1,MONTH(AK182),DAY(AK182)),AJ183)","v":" "},47666]
[null,"BASIC PAY",67000,{"$f":"IF($C$179=\"YES\",ROUND(C184*$C$181/$D$182,0),C184)","v":2161},null,null,null,null,null,null,null,null,null,null,null,null,null,null,null,null,null,null,null,null,null,null,null,null,{"$f":"IF(AE184=\"\",\"\",(MAX(AA$21:AA183)+1))","v":47666},{"$f":"DATE(YEAR(AD181)+1,MONTH(AD181),DAY(AD181))","v":"2027-07-01"},{"$f":"DATE(YEAR(AE183),MONTH(AE183)+12,DAY(AE183))","v":"1900-12-31"},{"$f":"AE184","v":"1900-12-31"},null,47666," "," ",{"$f":"IF(AJ184=$AK$22,DATE(YEAR(AK182)+1,MONTH(AK182),DAY(AK182)),AJ184)","v":" "},47666]
[null,"DA",0,{"$f":"IF($C$179=\"YES\",ROUND(C185*$C$181/$D$182,0),C185)","v":0},null,null,null,null,null,null,null,null,null,null,null,null,null,null,null,null,null,null,null,null,null,null,null,null,{"$f":"IF(AF185=\"\",\"\",AC184)","v":""},null,null,{"$f":"IF(AE185=AE183,\"\",AE185)","v":""},null,""," "," ",{"$f":"IF(AJ185=$AK$22,DATE(YEAR(AK184)+1,MONTH(AK184),DAY(AK184)),AJ185)","v":" "},""]
[null,null,null,null,null,null,null,null,null,null,null,null,null,null,null,null,null,null,null,null,null,null,null,null,null,null,null,null,{"$f":"IF(AF186=\"\",\"\",MAX(AC184:AC185))","v":47666},null,null,{"$f":"IF(AE186=AE184,\"\",AE186)","v":"00:00:00"},null,47666," "," ",{"$f":"IF(AJ186=$AK$22,DATE(YEAR(AK185)+1,MONTH(AK185),DAY(AK185)),AJ186)","v":" "},47666]
[null,null,null,null,null,null,null,null,null,null,null,null,null,null,null,null,null,null,null,null,null,null,null,null,null,null,null,null,{"$f":"IF(AE187=\"\",\"\",(MAX(AA$21:AA186)+1))","v":47666},{"$f":"DATE(YEAR(AD184)+1,MONTH(AD184),DAY(AD184))","v":"2028-07-01"},{"$f":"DATE(YEAR(AE186),MONTH(AE186)+12,DAY(AE186))","v":"1900-12-31"},{"$f":"AE187","v":"1900-12-31"},null,47666," "," ",{"$f":"IF(AJ187=$AK$22,DATE(YEAR(AK185)+1,MONTH(AK185),DAY(AK185)),AJ187)","v":" "},47666]
[]
[]
[]
[]
[null,"Incr_Name_of_Treasury"]
[null,"AJMER"]
[null,"ALWAR"]
[null,"BANSWARA "]
[null,"BARAN"]
[null,"BARMER"]
[null,"BHARATPUR "]
[null,"BHILWARA"]
[null,"BIKANER"]
[null,"BUNDI"]
[null,"CHITTORGARH "]
[null,"CHURU"]
[null,"DAUSA"]
[null,"DHOLPUR"]
[null,"DUNGARPUR"]
[null,"GANGANAGAR "]
[null,"HANUMANGARH"]
[null,"JAIPUR "]
[null,"JAISALMER"]
[null,"JALORE"]
[null,"JHALAWAR"]
[null,"JHUNJHUNU"]
[null,"JODHPUR"]
[null,"KARAULI  "]
[null,"KOTA"]
[null,"NAGAUR"]
[null,"PALI"]
[null,"RAJSAMAND"]
[null,"SAWAI MADHOPUR "]
[null,"SIKAR"]
[null,"SIROHI"]
[null,"TONK"]
[null,"UDAIPUR"]
[null,"SECRETAIAT"]

{"sheet":"Home","index":1,"n_rows":31,"n_cols":19,"rows_kept":31,"cut":false,"hidden":false,"merged":[[13,18,14,23],[16,18,16,23],[1,18,1,23],[2,18,8,23],[10,18,12,23],[0,0,2,16],[19,0,21,0],[25,1,26,6],[25,8,26,15],[28,2,28,14],[15,11,16,15],[30,1,31,5],[5,10,6,16],[8,6,9,8],[19,1,21,8],[8,1,9,4],[12,1,13,4],[16,1,17,4],[12,11,13,15],[9,11,10,15],[5,0,6,8],[23,2,23,14],[30,12,31,15],[30,7,31,10]]}
["Design & Prepaired by Pravesh Kumar Sharma, Accountant, please call-9460100093 or write mail to  praveshbkn@gmail.com for further query/error/updation/suggestion"]
[null,null,null,null,null,null,null,null,null,null,null,null,null,null,null,null,null,null,"(A) Prepare Increment order  in VII PC   "]
[null,null,null,null,null,null,null,null,null,null,null,null,null,null,null,null,null,null,"इसमें यूजर सामयिक वेतनवृद्वि का 550 कार्मिकों की संख्या तक परिकलन एवं प्रमाण पत्र का व्यूह/प्रिंट ले सकता है । इसके लिये सर्वप्रथम डीडीओ डाटा सीट में आवश्यक प्रविष्ट करनी है तथा इसके पास एम्पयोली सीट में आवश्यक प्रविष्टि करनी है एवं कन्डीशन को यस या नो को सलेक्ट करना है । शेष प्रक्रिया आटो-प्रोसेस है । "]
[]
[]
["(A) Prepare Increment order  in VII PC      \n (upto 550 employee)",null,null,null,null,null,null,null,null,null,"(B) Prepare Increment order  in VII PC \nwith ACP effect"]
[]
[]
[null,"DDO DATA"]
[null,null,null,null,null,null,null,null,null,null,null,"Data Entry"]
[null,null,null,null,null,null,null,null,null,null,null,null,null,null,null,null,null,null,"(B) Prepare Increment order  in VII PC with following effect"]
[]
[null,"Employee Data",null,null,null,null,null,null,null,null,null,"View/Print Incremental Order"]
[null,null,null,null,null,null,null,null,null,null,null,null,null,null,null,null,null,null,"इसमें यूजर सातवें वेतनमान में इनके प्रभाव को समाहित करते हुए सामयिक वेतनवृद्वि का परिकलन कर सकता है । "]
[]
[null,null,null,null,null,null,null,null,null,null,null,"View/Print ACP order"]
[null,"Gp Incr. Order",null,null,null,null,null,null,null,null,null,null,null,null,null,null,null,null,"Regular ACP"]
[null,null,null,null,null,null,null,null,null,null,null,null,null,null,null,null,null,null,"Probation Period Complete in Regular Pay"]
[null,null,null,null,null,null,null,null,null,null,null,null,null,null,null,null,null,null,"Probation Period Complete in Fix Pay"]
[null,"Only those employee name and its data will be shown in Incremental order,if incremental condition is \"YES\" in sheet \"Employee Data\"… rest data will be hide in sheet 'Gp Incr. Order\"",null,null,null,null,null,null,null,null,null,null,null,null,null,null,null,null,"Promotion after ACP benefit"]
[]
[]
[]
[null,null,"(C) Genernal information on Increment"]
[]
[null,"Key Points on Increment",null,null,null,null,null,null,"Important circular/ memoramdum/clearfication on FD portal"]
[]
[]
[null,null,"(D) Utility"]
[]
[null,"Check Increment amount\n (In VI & VII Pay)",null,null,null,null,null,"View Pay Matrix \n(in different way)",null,null,null,null,"Blank copy of Increment order"]

{"sheet":"Gp Incr. Order","index":2,"n_rows":576,"n_cols":14,"rows_kept":576,"cut":false,"hidden":false,"merged":[[6,0,7,0],[6,1,7,11],[9,9,12,9],[0,13,0,14],[1,0,1,11],[2,0,2,11],[3,0,5,0],[3,1,5,11],[0,3,0,8],[569,0,569,1],[8,6,8,8],[8,10,8,11],[8,0,12,0],[8,1,12,1],[8,2,12,2],[9,6,12,6],[9,7,12,7],[9,8,12,8],[9,10,12,10],[9,11,12,11],[8,4,12,4],[8,5,12,5],[575,6,576,9],[8,3,12,3],[569,2,569,5],[569,8,569,9],[567,6,568,9]]}
[null,"HOME",null,"\"\"Please don't edit in this sheet, if you want any kind of updation .. Please use sheet DDO Data & Employee Data\",the macros are enable for this sheet only adjusting print purpose\"",null,null,null,null,null,null,"HOME",null,null,"Employee Data"]
[{"$f":"UPPER('DDO Data'!$C$4)","v":"DIRECTOR XXXXX...XXX, RAJASTHAN, BIKANER"}]
["Periodic Salalry Increment Certificate"]
[1,"Certified that the Government servents named below have earned the prescribed periodical increments from the date cited in column 6 having been the incumbent of the posts specified    not less than year from the date in column 6 after deducting period of suspension for misconduct etc. and absence on leave without pay & the case of those holding the post in officiating capacity, all other kinds of leave.  "]
[]
[]
[2,"Certified that the Government servents named below have earned/will earn periodical increments from the date cited for reasons stated in the explanatory memo \n attached here to.      "]
[]
["Emp. Code","Name of Incumbent ","Post","Pay Level\n","Date From \nPresent Pay \nis being taken","Date \nof Increment ","Annual Increment Amount",null,null,null,"Personal Pay"]
[null,null,null,null,null,null," Pay in the Level in the Pay Matrix","Increment amount","Total Basic Pay ","Opening Balance of  P.P. under Rule 11(6)","Adjusted P.P. under Rule 11(6)","Balace P.P. amt "]
[]
[]
[]
[1,{"$f":"A14+1","v":2},{"$f":"B14+1","v":3},4,5,6,7,8,9,{"$f":"I14+1","v":10},{"$f":"J14+1","v":11},{"$f":"K14+1","v":12},"Shri/Smt/……./"]
[{"$f":"IF(Databackup!B3=\"\",\"\",Databackup!B3)","v":1},{"$f":"Databackup!C3","v":"PKS "},{"$f":"Databackup!D3","v":"AAO-I"},{"$f":"Databackup!E3","v":"L-13"},{"$f":"Databackup!F3","v":"2022-07-01"},{"$f":"Databackup!G3","v":"2023-07-01"},{"$f":"Databackup!I3","v":82600},{"$f":"Databackup!J3","v":2500},{"$f":"Databackup!K3","v":85100},{"$f":"Databackup!L3","v":0},{"$f":"Databackup!M3","v":""},{"$f":"IF(Databackup!N3>0,Databackup!N3,\"--.--\")","v":"--N.A.--"},{"$f":"CONCATENATE(B15,\"  \",\"Designation\",\"  \",C15)","v":"PKS   Designation  AAO-I"}]
[{"$f":"IF(Databackup!B4=\"\",\"\",Databackup!B4)","v":""},{"$f":"Databackup!C4","v":""},{"$f":"Databackup!D4","v":""},{"$f":"Databackup!E4","v":""},{"$f":"Databackup!F4","v":""},{"$f":"Databackup!G4","v":""},{"$f":"Databackup!I4","v":""},{"$f":"Databackup!J4","v":""},{"$f":"Databackup!K4","v":""},{"$f":"Databackup!L4","v":""},{"$f":"Databackup!M4","v":""},{"$f":"IF(Databackup!N4>0,Databackup!N4,\"--.--\")","v":""},"  Designation  "]
[{"$f":"IF(Databackup!B5=\"\",\"\",Databackup!B5)","v":""},{"$f":"Databackup!C5","v":""},{"$f":"Databackup!D5","v":""},{"$f":"Databackup!E5","v":""},{"$f":"Databackup!F5","v":""},{"$f":"Databackup!G5","v":""},{"$f":"Databackup!I5","v":""},{"$f":"Databackup!J5","v":""},{"$f":"Databackup!K5","v":""},{"$f":"Databackup!L5","v":""},{"$f":"Databackup!M5","v":""},{"$f":"IF(Databackup!N5>0,Databackup!N5,\"--.--\")","v":""},"  Designation  "]
[{"$f":"IF(Databackup!B6=\"\",\"\",Databackup!B6)","v":""},{"$f":"Databackup!C6","v":""},{"$f":"Databackup!D6","v":""},{"$f":"Databackup!E6","v":""},{"$f":"Databackup!F6","v":""},{"$f":"Databackup!G6","v":""},{"$f":"Databackup!I6","v":""},{"$f":"Databackup!J6","v":""},{"$f":"Databackup!K6","v":""},{"$f":"Databackup!L6","v":""},{"$f":"Databackup!M6","v":""},{"$f":"IF(Databackup!N6>0,Databackup!N6,\"--.--\")","v":""},"  Designation  "]
[{"$f":"IF(Databackup!B7=\"\",\"\",Databackup!B7)","v":""},{"$f":"Databackup!C7","v":""},{"$f":"Databackup!D7","v":""},{"$f":"Databackup!E7","v":""},{"$f":"Databackup!F7","v":""},{"$f":"Databackup!G7","v":""},{"$f":"Databackup!I7","v":""},{"$f":"Databackup!J7","v":""},{"$f":"Databackup!K7","v":""},{"$f":"Databackup!L7","v":""},{"$f":"Databackup!M7","v":""},{"$f":"IF(Databackup!N7>0,Databackup!N7,\"--.--\")","v":""},{"$f":"CONCATENATE(B19,\"  \",\"Designation\",\"  \",C19)","v":"  Designation  "}]
[{"$f":"IF(Databackup!B8=\"\",\"\",Databackup!B8)","v":""},{"$f":"Databackup!C8","v":""},{"$f":"Databackup!D8","v":""},{"$f":"Databackup!E8","v":""},{"$f":"Databackup!F8","v":""},{"$f":"Databackup!G8","v":""},{"$f":"Databackup!I8","v":""},{"$f":"Databackup!J8","v":""},{"$f":"Databackup!K8","v":""},{"$f":"Databackup!L8","v":""},{"$f":"Databackup!M8","v":""},{"$f":"IF(Databackup!N8>0,Databackup!N8,\"--.--\")","v":""},"  Designation  "]
[{"$f":"IF(Databackup!B9=\"\",\"\",Databackup!B9)","v":""},{"$f":"Databackup!C9","v":""},{"$f":"Databackup!D9","v":""},{"$f":"Databackup!E9","v":""},{"$f":"Databackup!F9","v":""},{"$f":"Databackup!G9","v":""},{"$f":"Databackup!I9","v":""},{"$f":"Databackup!J9","v":""},{"$f":"Databackup!K9","v":""},{"$f":"Databackup!L9","v":""},{"$f":"Databackup!M9","v":""},{"$f":"IF(Databackup!N9>0,Databackup!N9,\"--.--\")","v":""},"  Designation  "]
[{"$f":"IF(Databackup!B10=\"\",\"\",Databackup!B10)","v":""},{"$f":"Databackup!C10","v":""},{"$f":"Databackup!D10","v":""},{"$f":"Databackup!E10","v":""},{"$f":"Databackup!F10","v":""},{"$f":"Databackup!G10","v":""},{"$f":"Databackup!I10","v":""},{"$f":"Databackup!J10","v":""},{"$f":"Databackup!K10","v":""},{"$f":"Databackup!L10","v":""},{"$f":"Databackup!M10","v":""},{"$f":"IF(Databackup!N10>0,Databackup!N10,\"--.--\")","v":""},"  Designation  "]
[{"$f":"IF(Databackup!B11=\"\",\"\",Databackup!B11)","v":""},{"$f":"Databackup!C11","v":""},{"$f":"Databackup!D11","v":""},{"$f":"Databackup!E11","v":""},{"$f":"Databackup!F11","v":""},{"$f":"Databackup!G11","v":""},{"$f":"Databackup!I11","v":""},{"$f":"Databackup!J11","v":""},{"$f":"Databackup!K11","v":""},{"$f":"Databackup!L11","v":""},{"$f":"Databackup!M11","v":""},{"$f":"IF(Databackup!N11>0,Databackup!N11,\"--.--\")","v":""},"  Designation  "]
[{"$f":"IF(Databackup!B12=\"\",\"\",Databackup!B12)","v":""},{"$f":"Databackup!C12","v":""},{"$f":"Databackup!D12","v":""},{"$f":"Databackup!E12","v":""},{"$f":"Databackup!F12","v":""},{"$f":"Databackup!G12","v":""},{"$f":"Databackup!I12","v":""},{"$f":"Databackup!J12","v":""},{"$f":"Databackup!K12","v":""},{"$f":"Databackup!L12","v":""},{"$f":"Databackup!M12","v":""},{"$f":"IF(Databackup!N12>0,Databackup!N12,\"--.--\")","v":""},"  Designation  "]
[{"$f":"IF(Databackup!B13=\"\",\"\",Databackup!B13)","v":""},{"$f":"Databackup!C13","v":""},{"$f":"Databackup!D13","v":""},{"$f":"Databackup!E13","v":""},{"$f":"Databackup!F13","v":""},{"$f":"Databackup!G13","v":""},{"$f":"Databackup!I13","v":""},{"$f":"Databackup!J13","v":""},{"$f":"Databackup!K13","v":""},{"$f":"Databackup!L13","v":""},{"$f":"Databackup!M13","v":""},{"$f":"IF(Databackup!N13>0,Databackup!N13,\"--.--\")","v":""},"  Designation  "]
[{"$f":"IF(Databackup!B14=\"\",\"\",Databackup!B14)","v":""},{"$f":"Databackup!C14","v":""},{"$f":"Databackup!D14","v":""},{"$f":"Databackup!E14","v":""},{"$f":"Databackup!F14","v":""},{"$f":"Databackup!G14","v":""},{"$f":"Databackup!I14","v":""},{"$f":"Databackup!J14","v":""},{"$f":"Databackup!K14","v":""},{"$f":"Databackup!L14","v":""},{"$f":"Databackup!M14","v":""},{"$f":"IF(Databackup!N14>0,Databackup!N14,\"--.--\")","v":""},"  Designation  "]
[{"$f":"IF(Databackup!B15=\"\",\"\",Databackup!B15)","v":""},{"$f":"Databackup!C15","v":""},{"$f":"Databackup!D15","v":""},{"$f":"Databackup!E15","v":""},{"$f":"Databackup!F15","v":""},{"$f":"Databackup!G15","v":""},{"$f":"Databackup!I15","v":""},{"$f":"Databackup!J15","v":""},{"$f":"Databackup!K15","v":""},{"$f":"Databackup!L15","v":""},{"$f":"Databackup!M15","v":""},{"$f":"IF(Databackup!N15>0,Databackup!N15,\"--.--\")","v":""},"  Designation  "]
[{"$f":"IF(Databackup!B16=\"\",\"\",Databackup!B16)","v":""},{"$f":"Databackup!C16","v":""},{"$f":"Databackup!D16","v":""},{"$f":"Databackup!E16","v":""},{"$f":"Databackup!F16","v":""},{"$f":"Databackup!G16","v":""},{"$f":"Databackup!I16","v":""},{"$f":"Databackup!J16","v":""},{"$f":"Databackup!K16","v":""},{"$f":"Databackup!L16","v":""},{"$f":"Databackup!M16","v":""},{"$f":"IF(Databackup!N16>0,Databackup!N16,\"--.--\")","v":""},"  Designation  "]
[{"$f":"IF(Databackup!B17=\"\",\"\",Databackup!B17)","v":""},{"$f":"Databackup!C17","v":""},{"$f":"Databackup!D17","v":""},{"$f":"Databackup!E17","v":""},{"$f":"Databackup!F17","v":""},{"$f":"Databackup!G17","v":""},{"$f":"Databackup!I17","v":""},{"$f":"Databackup!J17","v":""},{"$f":"Databackup!K17","v":""},{"$f":"Databackup!L17","v":""},{"$f":"Databackup!M17","v":""},{"$f":"IF(Databackup!N17>0,Databackup!N17,\"--.--\")","v":""},"  Designation  "]
[{"$f":"IF(Databackup!B18=\"\",\"\",Databackup!B18)","v":""},{"$f":"Databackup!C18","v":""},{"$f":"Databackup!D18","v":""},{"$f":"Databackup!E18","v":""},{"$f":"Databackup!F18","v":""},{"$f":"Databackup!G18","v":""},{"$f":"Databackup!I18","v":""},{"$f":"Databackup!J18","v":""},{"$f":"Databackup!K18","v":""},{"$f":"Databackup!L18","v":""},{"$f":"Databackup!M18","v":""},{"$f":"IF(Databackup!N18>0,Databackup!N18,\"--.--\")","v":""},"  Designation  "]
[{"$f":"IF(Databackup!B19=\"\",\"\",Databackup!B19)","v":""},{"$f":"Databackup!C19","v":""},{"$f":"Databackup!D19","v":""},{"$f":"Databackup!E19","v":""},{"$f":"Databackup!F19","v":""},{"$f":"Databackup!G19","v":""},{"$f":"Databackup!I19","v":""},{"$f":"Databackup!J19","v":""},{"$f":"Databackup!K19","v":""},{"$f":"Databackup!L19","v":""},{"$f":"Databackup!M19","v":""},{"$f":"IF(Databackup!N19>0,Databackup!N19,\"--.--\")","v":""},"  Designation  "]
[{"$f":"IF(Databackup!B20=\"\",\"\",Databackup!B20)","v":""},{"$f":"Databackup!C20","v":""},{"$f":"Databackup!D20","v":""},{"$f":"Databackup!E20","v":""},{"$f":"Databackup!F20","v":""},{"$f":"Databackup!G20","v":""},{"$f":"Databackup!I20","v":""},{"$f":"Databackup!J20","v":""},{"$f":"Databackup!K20","v":""},{"$f":"Databackup!L20","v":""},{"$f":"Databackup!M20","v":""},{"$f":"IF(Databackup!N20>0,Databackup!N20,\"--.--\")","v":""},"  Designation  "]
[{"$f":"IF(Databackup!B21=\"\",\"\",Databackup!B21)","v":""},{"$f":"Databackup!C21","v":""},{"$f":"Databackup!D21","v":""},{"$f":"Databackup!E21","v":""},{"$f":"Databackup!F21","v":""},{"$f":"Databackup!G21","v":""},{"$f":"Databackup!I21","v":""},{"$f":"Databackup!J21","v":""},{"$f":"Databackup!K21","v":""},{"$f":"Databackup!L21","v":""},{"$f":"Databackup!M21","v":""},{"$f":"IF(Databackup!N21>0,Databackup!N21,\"--.--\")","v":""},"  Designation  "]
[{"$f":"IF(Databackup!B22=\"\",\"\",Databackup!B22)","v":""},{"$f":"Databackup!C22","v":""},{"$f":"Databackup!D22","v":""},{"$f":"Databackup!E22","v":""},{"$f":"Databackup!F22","v":""},{"$f":"Databackup!G22","v":""},{"$f":"Databackup!I22","v":""},{"$f":"Databackup!J22","v":""},{"$f":"Databackup!K22","v":""},{"$f":"Databackup!L22","v":""},{"$f":"Databackup!M22","v":""},{"$f":"IF(Databackup!N22>0,Databackup!N22,\"--.--\")","v":""},"  Designation  "]
[{"$f":"IF(Databackup!B23=\"\",\"\",Databackup!B23)","v":""},{"$f":"Databackup!C23","v":""},{"$f":"Databackup!D23","v":""},{"$f":"Databackup!E23","v":""},{"$f":"Databackup!F23","v":""},{"$f":"Databackup!G23","v":""},{"$f":"Databackup!I23","v":""},{"$f":"Databackup!J23","v":""},{"$f":"Databackup!K23","v":""},{"$f":"Databackup!L23","v":""},{"$f":"Databackup!M23","v":""},{"$f":"IF(Databackup!N23>0,Databackup!N23,\"--.--\")","v":""},"  Designation  "]
[{"$f":"IF(Databackup!B24=\"\",\"\",Databackup!B24)","v":""},{"$f":"Databackup!C24","v":""},{"$f":"Databackup!D24","v":""},{"$f":"Databackup!E24","v":""},{"$f":"Databackup!F24","v":""},{"$f":"Databackup!G24","v":""},{"$f":"Databackup!I24","v":""},{"$f":"Databackup!J24","v":""},{"$f":"Databackup!K24","v":""},{"$f":"Databackup!L24","v":""},{"$f":"Databackup!M24","v":""},{"$f":"IF(Databackup!N24>0,Databackup!N24,\"--.--\")","v":""},"  Designation  "]
[{"$f":"IF(Databackup!B25=\"\",\"\",Databackup!B25)","v":""},{"$f":"Databackup!C25","v":""},{"$f":"Databackup!D25","v":""},{"$f":"Databackup!E25","v":""},{"$f":"Databackup!F25","v":""},{"$f":"Databackup!G25","v":""},{"$f":"Databackup!I25","v":""},{"$f":"Databackup!J25","v":""},{"$f":"Databackup!K25","v":""},{"$f":"Databackup!L25","v":""},{"$f":"Databackup!M25","v":""},{"$f":"IF(Databackup!N25>0,Databackup!N25,\"--.--\")","v":""},"  Designation  "]
[{"$f":"IF(Databackup!B26=\"\",\"\",Databackup!B26)","v":""},{"$f":"Databackup!C26","v":""},{"$f":"Databackup!D26","v":""},{"$f":"Databackup!E26","v":""},{"$f":"Databackup!F26","v":""},{"$f":"Databackup!G26","v":""},{"$f":"Databackup!I26","v":""},{"$f":"Databackup!J26","v":""},{"$f":"Databackup!K26","v":""},{"$f":"Databackup!L26","v":""},{"$f":"Databackup!M26","v":""},{"$f":"IF(Databackup!N26>0,Databackup!N26,\"--.--\")","v":""},"  Designation  "]
[{"$f":"IF(Databackup!B27=\"\",\"\",Databackup!B27)","v":""},{"$f":"Databackup!C27","v":""},{"$f":"Databackup!D27","v":""},{"$f":"Databackup!E27","v":""},{"$f":"Databackup!F27","v":""},{"$f":"Databackup!G27","v":""},{"$f":"Databackup!I27","v":""},{"$f":"Databackup!J27","v":""},{"$f":"Databackup!K27","v":""},{"$f":"Databackup!L27","v":""},{"$f":"Databackup!M27","v":""},{"$f":"IF(Databackup!N27>0,Databackup!N27,\"--.--\")","v":""},"  Designation  "]
[{"$f":"IF(Databackup!B28=\"\",\"\",Databackup!B28)","v":""},{"$f":"Databackup!C28","v":""},{"$f":"Databackup!D28","v":""},{"$f":"Databackup!E28","v":""},{"$f":"Databackup!F28","v":""},{"$f":"Databackup!G28","v":""},{"$f":"Databackup!I28","v":""},{"$f":"Databackup!J28","v":""},{"$f":"Databackup!K28","v":""},{"$f":"Databackup!L28","v":""},{"$f":"Databackup!M28","v":""},{"$f":"IF(Databackup!N28>0,Databackup!N28,\"--.--\")","v":""},"  Designation  "]
[{"$f":"IF(Databackup!B29=\"\",\"\",Databackup!B29)","v":""},{"$f":"Databackup!C29","v":""},{"$f":"Databackup!D29","v":""},{"$f":"Databackup!E29","v":""},{"$f":"Databackup!F29","v":""},{"$f":"Databackup!G29","v":""},{"$f":"Databackup!I29","v":""},{"$f":"Databackup!J29","v":""},{"$f":"Databackup!K29","v":""},{"$f":"Databackup!L29","v":""},{"$f":"Databackup!M29","v":""},{"$f":"IF(Databackup!N29>0,Databackup!N29,\"--.--\")","v":""},"  Designation  "]
[{"$f":"IF(Databackup!B30=\"\",\"\",Databackup!B30)","v":""},{"$f":"Databackup!C30","v":""},{"$f":"Databackup!D30","v":""},{"$f":"Databackup!E30","v":""},{"$f":"Databackup!F30","v":""},{"$f":"Databackup!G30","v":""},{"$f":"Databackup!I30","v":""},{"$f":"Databackup!J30","v":""},{"$f":"Databackup!K30","v":""},{"$f":"Databackup!L30","v":""},{"$f":"Databackup!M30","v":""},{"$f":"IF(Databackup!N30>0,Databackup!N30,\"--.--\")","v":""},"  Designation  "]
[{"$f":"IF(Databackup!B31=\"\",\"\",Databackup!B31)","v":""},{"$f":"Databackup!C31","v":""},{"$f":"Databackup!D31","v":""},{"$f":"Databackup!E31","v":""},{"$f":"Databackup!F31","v":""},{"$f":"Databackup!G31","v":""},{"$f":"Databackup!I31","v":""},{"$f":"Databackup!J31","v":""},{"$f":"Databackup!K31","v":""},{"$f":"Databackup!L31","v":""},{"$f":"Databackup!M31","v":""},{"$f":"IF(Databackup!N31>0,Databackup!N31,\"--.--\")","v":""},"  Designation  "]
[{"$f":"IF(Databackup!B32=\"\",\"\",Databackup!B32)","v":""},{"$f":"Databackup!C32","v":""},{"$f":"Databackup!D32","v":""},{"$f":"Databackup!E32","v":""},{"$f":"Databackup!F32","v":""},{"$f":"Databackup!G32","v":""},{"$f":"Databackup!I32","v":""},{"$f":"Databackup!J32","v":""},{"$f":"Databackup!K32","v":""},{"$f":"Databackup!L32","v":""},{"$f":"Databackup!M32","v":""},{"$f":"IF(Databackup!N32>0,Databackup!N32,\"--.--\")","v":""},"  Designation  "]
[{"$f":"IF(Databackup!B33=\"\",\"\",Databackup!B33)","v":""},{"$f":"Databackup!C33","v":""},{"$f":"Databackup!D33","v":""},{"$f":"Databackup!E33","v":""},{"$f":"Databackup!F33","v":""},{"$f":"Databackup!G33","v":""},{"$f":"Databackup!I33","v":""},{"$f":"Databackup!J33","v":""},{"$f":"Databackup!K33","v":""},{"$f":"Databackup!L33","v":""},{"$f":"Databackup!M33","v":""},{"$f":"IF(Databackup!N33>0,Databackup!N33,\"--.--\")","v":""},"  Designation  "]
[{"$f":"IF(Databackup!B34=\"\",\"\",Databackup!B34)","v":""},{"$f":"Databackup!C34","v":""},{"$f":"Databackup!D34","v":""},{"$f":"Databackup!E34","v":""},{"$f":"Databackup!F34","v":""},{"$f":"Databackup!G34","v":""},{"$f":"Databackup!I34","v":""},{"$f":"Databackup!J34","v":""},{"$f":"Databackup!K34","v":""},{"$f":"Databackup!L34","v":""},{"$f":"Databackup!M34","v":""},{"$f":"IF(Databackup!N34>0,Databackup!N34,\"--.--\")","v":""},"  Designation  "]
[{"$f":"IF(Databackup!B35=\"\",\"\",Databackup!B35)","v":""},{"$f":"Databackup!C35","v":""},{"$f":"Databackup!D35","v":""},{"$f":"Databackup!E35","v":""},{"$f":"Databackup!F35","v":""},{"$f":"Databackup!G35","v":""},{"$f":"Databackup!I35","v":""},{"$f":"Databackup!J35","v":""},{"$f":"Databackup!K35","v":""},{"$f":"Databackup!L35","v":""},{"$f":"Databackup!M35","v":""},{"$f":"IF(Databackup!N35>0,Databackup!N35,\"--.--\")","v":""},"  Designation  "]
[{"$f":"IF(Databackup!B36=\"\",\"\",Databackup!B36)","v":""},{"$f":"Databackup!C36","v":""},{"$f":"Databackup!D36","v":""},{"$f":"Databackup!E36","v":""},{"$f":"Databackup!F36","v":""},{"$f":"Databackup!G36","v":""},{"$f":"Databackup!I36","v":""},{"$f":"Databackup!J36","v":""},{"$f":"Databackup!K36","v":""},{"$f":"Databackup!L36","v":""},{"$f":"Databackup!M36","v":""},{"$f":"IF(Databackup!N36>0,Databackup!N36,\"--.--\")","v":""},"  Designation  "]
[{"$f":"IF(Databackup!B37=\"\",\"\",Databackup!B37)","v":""},{"$f":"Databackup!C37","v":""},{"$f":"Databackup!D37","v":""},{"$f":"Databackup!E37","v":""},{"$f":"Databackup!F37","v":""},{"$f":"Databackup!G37","v":""},{"$f":"Databackup!I37","v":""},{"$f":"Databackup!J37","v":""},{"$f":"Databackup!K37","v":""},{"$f":"Databackup!L37","v":""},{"$f":"Databackup!M37","v":""},{"$f":"IF(Databackup!N37>0,Databackup!N37,\"--.--\")","v":""},"  Designation  "]
[{"$f":"IF(Databackup!B38=\"\",\"\",Databackup!B38)","v":""},{"$f":"Databackup!C38","v":""},{"$f":"Databackup!D38","v":""},{"$f":"Databackup!E38","v":""},{"$f":"Databackup!F38","v":""},{"$f":"Databackup!G38","v":""},{"$f":"Databackup!I38","v":""},{"$f":"Databackup!J38","v":""},{"$f":"Databackup!K38","v":""},{"$f":"Databackup!L38","v":""},{"$f":"Databackup!M38","v":""},{"$f":"IF(Databackup!N38>0,Databackup!N38,\"--.--\")","v":""},"  Designation  "]
[{"$f":"IF(Databackup!B39=\"\",\"\",Databackup!B39)","v":""},{"$f":"Databackup!C39","v":""},{"$f":"Databackup!D39","v":""},{"$f":"Databackup!E39","v":""},{"$f":"Databackup!F39","v":""},{"$f":"Databackup!G39","v":""},{"$f":"Databackup!I39","v":""},{"$f":"Databackup!J39","v":""},{"$f":"Databackup!K39","v":""},{"$f":"Databackup!L39","v":""},{"$f":"Databackup!M39","v":""},{"$f":"IF(Databackup!N39>0,Databackup!N39,\"--.--\")","v":""},"  Designation  "]
[{"$f":"IF(Databackup!B40=\"\",\"\",Databackup!B40)","v":""},{"$f":"Databackup!C40","v":""},{"$f":"Databackup!D40","v":""},{"$f":"Databackup!E40","v":""},{"$f":"Databackup!F40","v":""},{"$f":"Databackup!G40","v":""},{"$f":"Databackup!I40","v":""},{"$f":"Databackup!J40","v":""},{"$f":"Databackup!K40","v":""},{"$f":"Databackup!L40","v":""},{"$f":"Databackup!M40","v":""},{"$f":"IF(Databackup!N40>0,Databackup!N40,\"--.--\")","v":""},"  Designation  "]
[{"$f":"IF(Databackup!B41=\"\",\"\",Databackup!B41)","v":""},{"$f":"Databackup!C41","v":""},{"$f":"Databackup!D41","v":""},{"$f":"Databackup!E41","v":""},{"$f":"Databackup!F41","v":""},{"$f":"Databackup!G41","v":""},{"$f":"Databackup!I41","v":""},{"$f":"Databackup!J41","v":""},{"$f":"Databackup!K41","v":""},{"$f":"Databackup!L41","v":""},{"$f":"Databackup!M41","v":""},{"$f":"IF(Databackup!N41>0,Databackup!N41,\"--.--\")","v":""},"  Designation  "]
[{"$f":"IF(Databackup!B42=\"\",\"\",Databackup!B42)","v":""},{"$f":"Databackup!C42","v":""},{"$f":"Databackup!D42","v":""},{"$f":"Databackup!E42","v":""},{"$f":"Databackup!F42","v":""},{"$f":"Databackup!G42","v":""},{"$f":"Databackup!I42","v":""},{"$f":"Databackup!J42","v":""},{"$f":"Databackup!K42","v":""},{"$f":"Databackup!L42","v":""},{"$f":"Databackup!M42","v":""},{"$f":"IF(Databackup!N42>0,Databackup!N42,\"--.--\")","v":""},"  Designation  "]
[{"$f":"IF(Databackup!B43=\"\",\"\",Databackup!B43)","v":""},{"$f":"Databackup!C43","v":""},{"$f":"Databackup!D43","v":""},{"$f":"Databackup!E43","v":""},{"$f":"Databackup!F43","v":""},{"$f":"Databackup!G43","v":""},{"$f":"Databackup!I43","v":""},{"$f":"Databackup!J43","v":""},{"$f":"Databackup!K43","v":""},{"$f":"Databackup!L43","v":""},{"$f":"Databackup!M43","v":""},{"$f":"IF(Databackup!N43>0,Databackup!N43,\"--.--\")","v":""},"  Designation  "]
[{"$f":"IF(Databackup!B44=\"\",\"\",Databackup!B44)","v":""},{"$f":"Databackup!C44","v":""},{"$f":"Databackup!D44","v":""},{"$f":"Databackup!E44","v":""},{"$f":"Databackup!F44","v":""},{"$f":"Databackup!G44","v":""},{"$f":"Databackup!I44","v":""},{"$f":"Databackup!J44","v":""},{"$f":"Databackup!K44","v":""},{"$f":"Databackup!L44","v":""},{"$f":"Databackup!M44","v":""},{"$f":"IF(Databackup!N44>0,Databackup!N44,\"--.--\")","v":""},"  Designation  "]
[{"$f":"IF(Databackup!B45=\"\",\"\",Databackup!B45)","v":""},{"$f":"Databackup!C45","v":""},{"$f":"Databackup!D45","v":""},{"$f":"Databackup!E45","v":""},{"$f":"Databackup!F45","v":""},{"$f":"Databackup!G45","v":""},{"$f":"Databackup!I45","v":""},{"$f":"Databackup!J45","v":""},{"$f":"Databackup!K45","v":""},{"$f":"Databackup!L45","v":""},{"$f":"Databackup!M45","v":""},{"$f":"IF(Databackup!N45>0,Databackup!N45,\"--.--\")","v":""},"  Designation  "]
[{"$f":"IF(Databackup!B46=\"\",\"\",Databackup!B46)","v":""},{"$f":"Databackup!C46","v":""},{"$f":"Databackup!D46","v":""},{"$f":"Databackup!E46","v":""},{"$f":"Databackup!F46","v":""},{"$f":"Databackup!G46","v":""},{"$f":"Databackup!I46","v":""},{"$f":"Databackup!J46","v":""},{"$f":"Databackup!K46","v":""},{"$f":"Databackup!L46","v":""},{"$f":"Databackup!M46","v":""},{"$f":"IF(Databackup!N46>0,Databackup!N46,\"--.--\")","v":""},"  Designation  "]
[{"$f":"IF(Databackup!B47=\"\",\"\",Databackup!B47)","v":""},{"$f":"Databackup!C47","v":""},{"$f":"Databackup!D47","v":""},{"$f":"Databackup!E47","v":""},{"$f":"Databackup!F47","v":""},{"$f":"Databackup!G47","v":""},{"$f":"Databackup!I47","v":""},{"$f":"Databackup!J47","v":""},{"$f":"Databackup!K47","v":""},{"$f":"Databackup!L47","v":""},{"$f":"Databackup!M47","v":""},{"$f":"IF(Databackup!N47>0,Databackup!N47,\"--.--\")","v":""},"  Designation  "]
[{"$f":"IF(Databackup!B48=\"\",\"\",Databackup!B48)","v":""},{"$f":"Databackup!C48","v":""},{"$f":"Databackup!D48","v":""},{"$f":"Databackup!E48","v":""},{"$f":"Databackup!F48","v":""},{"$f":"Databackup!G48","v":""},{"$f":"Databackup!I48","v":""},{"$f":"Databackup!J48","v":""},{"$f":"Databackup!K48","v":""},{"$f":"Databackup!L48","v":""},{"$f":"Databackup!M48","v":""},{"$f":"IF(Databackup!N48>0,Databackup!N48,\"--.--\")","v":""},"  Designation  "]
[{"$f":"IF(Databackup!B49=\"\",\"\",Databackup!B49)","v":""},{"$f":"Databackup!C49","v":""},{"$f":"Databackup!D49","v":""},{"$f":"Databackup!E49","v":""},{"$f":"Databackup!F49","v":""},{"$f":"Databackup!G49","v":""},{"$f":"Databackup!I49","v":""},{"$f":"Databackup!J49","v":""},{"$f":"Databackup!K49","v":""},{"$f":"Databackup!L49","v":""},{"$f":"Databackup!M49","v":""},{"$f":"IF(Databackup!N49>0,Databackup!N49,\"--.--\")","v":""},"  Designation  "]
[{"$f":"IF(Databackup!B50=\"\",\"\",Databackup!B50)","v":""},{"$f":"Databackup!C50","v":""},{"$f":"Databackup!D50","v":""},{"$f":"Databackup!E50","v":""},{"$f":"Databackup!F50","v":""},{"$f":"Databackup!G50","v":""},{"$f":"Databackup!I50","v":""},{"$f":"Databackup!J50","v":""},{"$f":"Databackup!K50","v":""},{"$f":"Databackup!L50","v":""},{"$f":"Databackup!M50","v":""},{"$f":"IF(Databackup!N50>0,Databackup!N50,\"--.--\")","v":""},"  Designation  "]
[{"$f":"IF(Databackup!B51=\"\",\"\",Databackup!B51)","v":""},{"$f":"Databackup!C51","v":""},{"$f":"Databackup!D51","v":""},{"$f":"Databackup!E51","v":""},{"$f":"Databackup!F51","v":""},{"$f":"Databackup!G51","v":""},{"$f":"Databackup!I51","v":""},{"$f":"Databackup!J51","v":""},{"$f":"Databackup!K51","v":""},{"$f":"Databackup!L51","v":""},{"$f":"Databackup!M51","v":""},{"$f":"IF(Databackup!N51>0,Databackup!N51,\"--.--\")","v":""},"  Designation  "]
[{"$f":"IF(Databackup!B52=\"\",\"\",Databackup!B52)","v":""},{"$f":"Databackup!C52","v":""},{"$f":"Databackup!D52","v":""},{"$f":"Databackup!E52","v":""},{"$f":"Databackup!F52","v":""},{"$f":"Databackup!G52","v":""},{"$f":"Databackup!I52","v":""},{"$f":"Databackup!J52","v":""},{"$f":"Databackup!K52","v":""},{"$f":"Databackup!L52","v":""},{"$f":"Databackup!M52","v":""},{"$f":"IF(Databackup!N52>0,Databackup!N52,\"--.--\")","v":""},"  Designation  "]
[{"$f":"IF(Databackup!B53=\"\",\"\",Databackup!B53)","v":""},{"$f":"Databackup!C53","v":""},{"$f":"Databackup!D53","v":""},{"$f":"Databackup!E53","v":""},{"$f":"Databackup!F53","v":""},{"$f":"Databackup!G53","v":""},{"$f":"Databackup!I53","v":""},{"$f":"Databackup!J53","v":""},{"$f":"Databackup!K53","v":""},{"$f":"Databackup!L53","v":""},{"$f":"Databackup!M53","v":""},{"$f":"IF(Databackup!N53>0,Databackup!N53,\"--.--\")","v":""},"  Designation  "]
[{"$f":"IF(Databackup!B54=\"\",\"\",Databackup!B54)","v":""},{"$f":"Databackup!C54","v":""},{"$f":"Databackup!D54","v":""},{"$f":"Databackup!E54","v":""},{"$f":"Databackup!F54","v":""},{"$f":"Databackup!G54","v":""},{"$f":"Databackup!I54","v":""},{"$f":"Databackup!J54","v":""},{"$f":"Databackup!K54","v":""},{"$f":"Databackup!L54","v":""},{"$f":"Databackup!M54","v":""},{"$f":"IF(Databackup!N54>0,Databackup!N54,\"--.--\")","v":""},"  Designation  "]
[{"$f":"IF(Databackup!B55=\"\",\"\",Databackup!B55)","v":""},{"$f":"Databackup!C55","v":""},{"$f":"Databackup!D55","v":""},{"$f":"Databackup!E55","v":""},{"$f":"Databackup!F55","v":""},{"$f":"Databackup!G55","v":""},{"$f":"Databackup!I55","v":""},{"$f":"Databackup!J55","v":""},{"$f":"Databackup!K55","v":""},{"$f":"Databackup!L55","v":""},{"$f":"Databackup!M55","v":""},{"$f":"IF(Databackup!N55>0,Databackup!N55,\"--.--\")","v":""},"  Designation  "]
[{"$f":"IF(Databackup!B56=\"\",\"\",Databackup!B56)","v":""},{"$f":"Databackup!C56","v":""},{"$f":"Databackup!D56","v":""},{"$f":"Databackup!E56","v":""},{"$f":"Databackup!F56","v":""},{"$f":"Databackup!G56","v":""},{"$f":"Databackup!I56","v":""},{"$f":"Databackup!J56","v":""},{"$f":"Databackup!K56","v":""},{"$f":"Databackup!L56","v":""},{"$f":"Databackup!M56","v":""},{"$f":"IF(Databackup!N56>0,Databackup!N56,\"--.--\")","v":""},"  Designation  "]
[{"$f":"IF(Databackup!B57=\"\",\"\",Databackup!B57)","v":""},{"$f":"Databackup!C57","v":""},{"$f":"Databackup!D57","v":""},{"$f":"Databackup!E57","v":""},{"$f":"Databackup!F57","v":""},{"$f":"Databackup!G57","v":""},{"$f":"Databackup!I57","v":""},{"$f":"Databackup!J57","v":""},{"$f":"Databackup!K57","v":""},{"$f":"Databackup!L57","v":""},{"$f":"Databackup!M57","v":""},{"$f":"IF(Databackup!N57>0,Databackup!N57,\"--.--\")","v":""},"  Designation  "]
[{"$f":"IF(Databackup!B58=\"\",\"\",Databackup!B58)","v":""},{"$f":"Databackup!C58","v":""},{"$f":"Databackup!D58","v":""},{"$f":"Databackup!E58","v":""},{"$f":"Databackup!F58","v":""},{"$f":"Databackup!G58","v":""},{"$f":"Databackup!I58","v":""},{"$f":"Databackup!J58","v":""},{"$f":"Databackup!K58","v":""},{"$f":"Databackup!L58","v":""},{"$f":"Databackup!M58","v":""},{"$f":"IF(Databackup!N58>0,Databackup!N58,\"--.--\")","v":""},"  Designation  "]
[{"$f":"IF(Databackup!B59=\"\",\"\",Databackup!B59)","v":""},{"$f":"Databackup!C59","v":""},{"$f":"Databackup!D59","v":""},{"$f":"Databackup!E59","v":""},{"$f":"Databackup!F59","v":""},{"$f":"Databackup!G59","v":""},{"$f":"Databackup!I59","v":""},{"$f":"Databackup!J59","v":""},{"$f":"Databackup!K59","v":""},{"$f":"Databackup!L59","v":""},{"$f":"Databackup!M59","v":""},{"$f":"IF(Databackup!N59>0,Databackup!N59,\"--.--\")","v":""},"  Designation  "]
[{"$f":"IF(Databackup!B60=\"\",\"\",Databackup!B60)","v":""},{"$f":"Databackup!C60","v":""},{"$f":"Databackup!D60","v":""},{"$f":"Databackup!E60","v":""},{"$f":"Databackup!F60","v":""},{"$f":"Databackup!G60","v":""},{"$f":"Databackup!I60","v":""},{"$f":"Databackup!J60","v":""},{"$f":"Databackup!K60","v":""},{"$f":"Databackup!L60","v":""},{"$f":"Databackup!M60","v":""},{"$f":"IF(Databackup!N60>0,Databackup!N60,\"--.--\")","v":""},"  Designation  "]
[{"$f":"IF(Databackup!B61=\"\",\"\",Databackup!B61)","v":""},{"$f":"Databackup!C61","v":""},{"$f":"Databackup!D61","v":""},{"$f":"Databackup!E61","v":""},{"$f":"Databackup!F61","v":""},{"$f":"Databackup!G61","v":""},{"$f":"Databackup!I61","v":""},{"$f":"Databackup!J61","v":""},{"$f":"Databackup!K61","v":""},{"$f":"Databackup!L61","v":""},{"$f":"Databackup!M61","v":""},{"$f":"IF(Databackup!N61>0,Databackup!N61,\"--.--\")","v":""},"  Designation  "]
[{"$f":"IF(Databackup!B62=\"\",\"\",Databackup!B62)","v":""},{"$f":"Databackup!C62","v":""},{"$f":"Databackup!D62","v":""},{"$f":"Databackup!E62","v":""},{"$f":"Databackup!F62","v":""},{"$f":"Databackup!G62","v":""},{"$f":"Databackup!I62","v":""},{"$f":"Databackup!J62","v":""},{"$f":"Databackup!K62","v":""},{"$f":"Databackup!L62","v":""},{"$f":"Databackup!M62","v":""},{"$f":"IF(Databackup!N62>0,Databackup!N62,\"--.--\")","v":""},"  Designation  "]
[{"$f":"IF(Databackup!B63=\"\",\"\",Databackup!B63)","v":""},{"$f":"Databackup!C63","v":""},{"$f":"Databackup!D63","v":""},{"$f":"Databackup!E63","v":""},{"$f":"Databackup!F63","v":""},{"$f":"Databackup!G63","v":""},{"$f":"Databackup!I63","v":""},{"$f":"Databackup!J63","v":""},{"$f":"Databackup!K63","v":""},{"$f":"Databackup!L63","v":""},{"$f":"Databackup!M63","v":""},{"$f":"IF(Databackup!N63>0,Databackup!N63,\"--.--\")","v":""},"  Designation  "]
[{"$f":"IF(Databackup!B64=\"\",\"\",Databackup!B64)","v":""},{"$f":"Databackup!C64","v":""},{"$f":"Databackup!D64","v":""},{"$f":"Databackup!E64","v":""},{"$f":"Databackup!F64","v":""},{"$f":"Databackup!G64","v":""},{"$f":"Databackup!I64","v":""},{"$f":"Databackup!J64","v":""},{"$f":"Databackup!K64","v":""},{"$f":"Databackup!L64","v":""},{"$f":"Databackup!M64","v":""},{"$f":"IF(Databackup!N64>0,Databackup!N64,\"--.--\")","v":""},"  Designation  "]
[{"$f":"IF(Databackup!B65=\"\",\"\",Databackup!B65)","v":""},{"$f":"Databackup!C65","v":""},{"$f":"Databackup!D65","v":""},{"$f":"Databackup!E65","v":""},{"$f":"Databackup!F65","v":""},{"$f":"Databackup!G65","v":""},{"$f":"Databackup!I65","v":""},{"$f":"Databackup!J65","v":""},{"$f":"Databackup!K65","v":""},{"$f":"Databackup!L65","v":""},{"$f":"Databackup!M65","v":""},{"$f":"IF(Databackup!N65>0,Databackup!N65,\"--.--\")","v":""},"  Designation  "]
[{"$f":"IF(Databackup!B66=\"\",\"\",Databackup!B66)","v":""},{"$f":"Databackup!C66","v":""},{"$f":"Databackup!D66","v":""},{"$f":"Databackup!E66","v":""},{"$f":"Databackup!F66","v":""},{"$f":"Databackup!G66","v":""},{"$f":"Databackup!I66","v":""},{"$f":"Databackup!J66","v":""},{"$f":"Databackup!K66","v":""},{"$f":"Databackup!L66","v":""},{"$f":"Databackup!M66","v":""},{"$f":"IF(Databackup!N66>0,Databackup!N66,\"--.--\")","v":""},"  Designation  "]
[{"$f":"IF(Databackup!B67=\"\",\"\",Databackup!B67)","v":""},{"$f":"Databackup!C67","v":""},{"$f":"Databackup!D67","v":""},{"$f":"Databackup!E67","v":""},{"$f":"Databackup!F67","v":""},{"$f":"Databackup!G67","v":""},{"$f":"Databackup!I67","v":""},{"$f":"Databackup!J67","v":""},{"$f":"Databackup!K67","v":""},{"$f":"Databackup!L67","v":""},{"$f":"Databackup!M67","v":""},{"$f":"IF(Databackup!N67>0,Databackup!N67,\"--.--\")","v":""},"  Designation  "]
[{"$f":"IF(Databackup!B68=\"\",\"\",Databackup!B68)","v":""},{"$f":"Databackup!C68","v":""},{"$f":"Databackup!D68","v":""},{"$f":"Databackup!E68","v":""},{"$f":"Databackup!F68","v":""},{"$f":"Databackup!G68","v":""},{"$f":"Databackup!I68","v":""},{"$f":"Databackup!J68","v":""},{"$f":"Databackup!K68","v":""},{"$f":"Databackup!L68","v":""},{"$f":"Databackup!M68","v":""},{"$f":"IF(Databackup!N68>0,Databackup!N68,\"--.--\")","v":""},"  Designation  "]
[{"$f":"IF(Databackup!B69=\"\",\"\",Databackup!B69)","v":""},{"$f":"Databackup!C69","v":""},{"$f":"Databackup!D69","v":""},{"$f":"Databackup!E69","v":""},{"$f":"Databackup!F69","v":""},{"$f":"Databackup!G69","v":""},{"$f":"Databackup!I69","v":""},{"$f":"Databackup!J69","v":""},{"$f":"Databackup!K69","v":""},{"$f":"Databackup!L69","v":""},{"$f":"Databackup!M69","v":""},{"$f":"IF(Databackup!N69>0,Databackup!N69,\"--.--\")","v":""},"  Designation  "]
[{"$f":"IF(Databackup!B70=\"\",\"\",Databackup!B70)","v":""},{"$f":"Databackup!C70","v":""},{"$f":"Databackup!D70","v":""},{"$f":"Databackup!E70","v":""},{"$f":"Databackup!F70","v":""},{"$f":"Databackup!G70","v":""},{"$f":"Databackup!I70","v":""},{"$f":"Databackup!J70","v":""},{"$f":"Databackup!K70","v":""},{"$f":"Databackup!L70","v":""},{"$f":"Databackup!M70","v":""},{"$f":"IF(Databackup!N70>0,Databackup!N70,\"--.--\")","v":""},"  Designation  "]
[{"$f":"IF(Databackup!B71=\"\",\"\",Databackup!B71)","v":""},{"$f":"Databackup!C71","v":""},{"$f":"Databackup!D71","v":""},{"$f":"Databackup!E71","v":""},{"$f":"Databackup!F71","v":""},{"$f":"Databackup!G71","v":""},{"$f":"Databackup!I71","v":""},{"$f":"Databackup!J71","v":""},{"$f":"Databackup!K71","v":""},{"$f":"Databackup!L71","v":""},{"$f":"Databackup!M71","v":""},{"$f":"IF(Databackup!N71>0,Databackup!N71,\"--.--\")","v":""},{"$f":"CONCATENATE(B83,\"  \",\"Designation\",\"  \",C83)","v":"  Designation  "}]
[{"$f":"IF(Databackup!B72=\"\",\"\",Databackup!B72)","v":""},{"$f":"Databackup!C72","v":""},{"$f":"Databackup!D72","v":""},{"$f":"Databackup!E72","v":""},{"$f":"Databackup!F72","v":""},{"$f":"Databackup!G72","v":""},{"$f":"Databackup!I72","v":""},{"$f":"Databackup!J72","v":""},{"$f":"Databackup!K72","v":""},{"$f":"Databackup!L72","v":""},{"$f":"Databackup!M72","v":""},{"$f":"IF(Databackup!N72>0,Databackup!N72,\"--.--\")","v":""},"  Designation  "]
[{"$f":"IF(Databackup!B73=\"\",\"\",Databackup!B73)","v":""},{"$f":"Databackup!C73","v":""},{"$f":"Databackup!D73","v":""},{"$f":"Databackup!E73","v":""},{"$f":"Databackup!F73","v":""},{"$f":"Databackup!G73","v":""},{"$f":"Databackup!I73","v":""},{"$f":"Databackup!J73","v":""},{"$f":"Databackup!K73","v":""},{"$f":"Databackup!L73","v":""},{"$f":"Databackup!M73","v":""},{"$f":"IF(Databackup!N73>0,Databackup!N73,\"--.--\")","v":""},"  Designation  "]
[{"$f":"IF(Databackup!B74=\"\",\"\",Databackup!B74)","v":""},{"$f":"Databackup!C74","v":""},{"$f":"Databackup!D74","v":""},{"$f":"Databackup!E74","v":""},{"$f":"Databackup!F74","v":""},{"$f":"Databackup!G74","v":""},{"$f":"Databackup!I74","v":""},{"$f":"Databackup!J74","v":""},{"$f":"Databackup!K74","v":""},{"$f":"Databackup!L74","v":""},{"$f":"Databackup!M74","v":""},{"$f":"IF(Databackup!N74>0,Databackup!N74,\"--.--\")","v":""},"  Designation  "]
[{"$f":"IF(Databackup!B75=\"\",\"\",Databackup!B75)","v":""},{"$f":"Databackup!C75","v":""},{"$f":"Databackup!D75","v":""},{"$f":"Databackup!E75","v":""},{"$f":"Databackup!F75","v":""},{"$f":"Databackup!G75","v":""},{"$f":"Databackup!I75","v":""},{"$f":"Databackup!J75","v":""},{"$f":"Databackup!K75","v":""},{"$f":"Databackup!L75","v":""},{"$f":"Databackup!M75","v":""},{"$f":"IF(Databackup!N75>0,Databackup!N75,\"--.--\")","v":""},"  Designation  "]
[{"$f":"IF(Databackup!B76=\"\",\"\",Databackup!B76)","v":""},{"$f":"Databackup!C76","v":""},{"$f":"Databackup!D76","v":""},{"$f":"Databackup!E76","v":""},{"$f":"Databackup!F76","v":""},{"$f":"Databackup!G76","v":""},{"$f":"Databackup!I76","v":""},{"$f":"Databackup!J76","v":""},{"$f":"Databackup!K76","v":""},{"$f":"Databackup!L76","v":""},{"$f":"Databackup!M76","v":""},{"$f":"IF(Databackup!N76>0,Databackup!N76,\"--.--\")","v":""},"  Designation  "]
[{"$f":"IF(Databackup!B77=\"\",\"\",Databackup!B77)","v":""},{"$f":"Databackup!C77","v":""},{"$f":"Databackup!D77","v":""},{"$f":"Databackup!E77","v":""},{"$f":"Databackup!F77","v":""},{"$f":"Databackup!G77","v":""},{"$f":"Databackup!I77","v":""},{"$f":"Databackup!J77","v":""},{"$f":"Databackup!K77","v":""},{"$f":"Databackup!L77","v":""},{"$f":"Databackup!M77","v":""},{"$f":"IF(Databackup!N77>0,Databackup!N77,\"--.--\")","v":""},"  Designation  "]
[{"$f":"IF(Databackup!B78=\"\",\"\",Databackup!B78)","v":""},{"$f":"Databackup!C78","v":""},{"$f":"Databackup!D78","v":""},{"$f":"Databackup!E78","v":""},{"$f":"Databackup!F78","v":""},{"$f":"Databackup!G78","v":""},{"$f":"Databackup!I78","v":""},{"$f":"Databackup!J78","v":""},{"$f":"Databackup!K78","v":""},{"$f":"Databackup!L78","v":""},{"$f":"Databackup!M78","v":""},{"$f":"IF(Databackup!N78>0,Databackup!N78,\"--.--\")","v":""},"  Designation  "]
[{"$f":"IF(Databackup!B79=\"\",\"\",Databackup!B79)","v":""},{"$f":"Databackup!C79","v":""},{"$f":"Databackup!D79","v":""},{"$f":"Databackup!E79","v":""},{"$f":"Databackup!F79","v":""},{"$f":"Databackup!G79","v":""},{"$f":"Databackup!I79","v":""},{"$f":"Databackup!J79","v":""},{"$f":"Databackup!K79","v":""},{"$f":"Databackup!L79","v":""},{"$f":"Databackup!M79","v":""},{"$f":"IF(Databackup!N79>0,Databackup!N79,\"--.--\")","v":""},"  Designation  "]
[{"$f":"IF(Databackup!B80=\"\",\"\",Databackup!B80)","v":""},{"$f":"Databackup!C80","v":""},{"$f":"Databackup!D80","v":""},{"$f":"Databackup!E80","v":""},{"$f":"Databackup!F80","v":""},{"$f":"Databackup!G80","v":""},{"$f":"Databackup!I80","v":""},{"$f":"Databackup!J80","v":""},{"$f":"Databackup!K80","v":""},{"$f":"Databackup!L80","v":""},{"$f":"Databackup!M80","v":""},{"$f":"IF(Databackup!N80>0,Databackup!N80,\"--.--\")","v":""},"  Designation  "]
[{"$f":"IF(Databackup!B81=\"\",\"\",Databackup!B81)","v":""},{"$f":"Databackup!C81","v":""},{"$f":"Databackup!D81","v":""},{"$f":"Databackup!E81","v":""},{"$f":"Databackup!F81","v":""},{"$f":"Databackup!G81","v":""},{"$f":"Databackup!I81","v":""},{"$f":"Databackup!J81","v":""},{"$f":"Databackup!K81","v":""},{"$f":"Databackup!L81","v":""},{"$f":"Databackup!M81","v":""},{"$f":"IF(Databackup!N81>0,Databackup!N81,\"--.--\")","v":""},"  Designation  "]
[{"$f":"IF(Databackup!B82=\"\",\"\",Databackup!B82)","v":""},{"$f":"Databackup!C82","v":""},{"$f":"Databackup!D82","v":""},{"$f":"Databackup!E82","v":""},{"$f":"Databackup!F82","v":""},{"$f":"Databackup!G82","v":""},{"$f":"Databackup!I82","v":""},{"$f":"Databackup!J82","v":""},{"$f":"Databackup!K82","v":""},{"$f":"Databackup!L82","v":""},{"$f":"Databackup!M82","v":""},{"$f":"IF(Databackup!N82>0,Databackup!N82,\"--.--\")","v":""},"  Designation  "]
[{"$f":"IF(Databackup!B83=\"\",\"\",Databackup!B83)","v":""},{"$f":"Databackup!C83","v":""},{"$f":"Databackup!D83","v":""},{"$f":"Databackup!E83","v":""},{"$f":"Databackup!F83","v":""},{"$f":"Databackup!G83","v":""},{"$f":"Databackup!I83","v":""},{"$f":"Databackup!J83","v":""},{"$f":"Databackup!K83","v":""},{"$f":"Databackup!L83","v":""},{"$f":"Databackup!M83","v":""},{"$f":"IF(Databackup!N83>0,Databackup!N83,\"--.--\")","v":""},"  Designation  "]
[{"$f":"IF(Databackup!B84=\"\",\"\",Databackup!B84)","v":""},{"$f":"Databackup!C84","v":""},{"$f":"Databackup!D84","v":""},{"$f":"Databackup!E84","v":""},{"$f":"Databackup!F84","v":""},{"$f":"Databackup!G84","v":""},{"$f":"Databackup!I84","v":""},{"$f":"Databackup!J84","v":""},{"$f":"Databackup!K84","v":""},{"$f":"Databackup!L84","v":""},{"$f":"Databackup!M84","v":""},{"$f":"IF(Databackup!N84>0,Databackup!N84,\"--.--\")","v":""},"  Designation  "]
[{"$f":"IF(Databackup!B85=\"\",\"\",Databackup!B85)","v":""},{"$f":"Databackup!C85","v":""},{"$f":"Databackup!D85","v":""},{"$f":"Databackup!E85","v":""},{"$f":"Databackup!F85","v":""},{"$f":"Databackup!G85","v":""},{"$f":"Databackup!I85","v":""},{"$f":"Databackup!J85","v":""},{"$f":"Databackup!K85","v":""},{"$f":"Databackup!L85","v":""},{"$f":"Databackup!M85","v":""},{"$f":"IF(Databackup!N85>0,Databackup!N85,\"--.--\")","v":""},"  Designation  "]
[{"$f":"IF(Databackup!B86=\"\",\"\",Databackup!B86)","v":""},{"$f":"Databackup!C86","v":""},{"$f":"Databackup!D86","v":""},{"$f":"Databackup!E86","v":""},{"$f":"Databackup!F86","v":""},{"$f":"Databackup!G86","v":""},{"$f":"Databackup!I86","v":""},{"$f":"Databackup!J86","v":""},{"$f":"Databackup!K86","v":""},{"$f":"Databackup!L86","v":""},{"$f":"Databackup!M86","v":""},{"$f":"IF(Databackup!N86>0,Databackup!N86,\"--.--\")","v":""},"  Designation  "]
[{"$f":"IF(Databackup!B87=\"\",\"\",Databackup!B87)","v":""},{"$f":"Databackup!C87","v":""},{"$f":"Databackup!D87","v":""},{"$f":"Databackup!E87","v":""},{"$f":"Databackup!F87","v":""},{"$f":"Databackup!G87","v":""},{"$f":"Databackup!I87","v":""},{"$f":"Databackup!J87","v":""},{"$f":"Databackup!K87","v":""},{"$f":"Databackup!L87","v":""},{"$f":"Databackup!M87","v":""},{"$f":"IF(Databackup!N87>0,Databackup!N87,\"--.--\")","v":""},"  Designation  "]
[{"$f":"IF(Databackup!B88=\"\",\"\",Databackup!B88)","v":""},{"$f":"Databackup!C88","v":""},{"$f":"Databackup!D88","v":""},{"$f":"Databackup!E88","v":""},{"$f":"Databackup!F88","v":""},{"$f":"Databackup!G88","v":""},{"$f":"Databackup!I88","v":""},{"$f":"Databackup!J88","v":""},{"$f":"Databackup!K88","v":""},{"$f":"Databackup!L88","v":""},{"$f":"Databackup!M88","v":""},{"$f":"IF(Databackup!N88>0,Databackup!N88,\"--.--\")","v":""},"  Designation  "]
[{"$f":"IF(Databackup!B89=\"\",\"\",Databackup!B89)","v":""},{"$f":"Databackup!C89","v":""},{"$f":"Databackup!D89","v":""},{"$f":"Databackup!E89","v":""},{"$f":"Databackup!F89","v":""},{"$f":"Databackup!G89","v":""},{"$f":"Databackup!I89","v":""},{"$f":"Databackup!J89","v":""},{"$f":"Databackup!K89","v":""},{"$f":"Databackup!L89","v":""},{"$f":"Databackup!M89","v":""},{"$f":"IF(Databackup!N89>0,Databackup!N89,\"--.--\")","v":""},"  Designation  "]
[{"$f":"IF(Databackup!B90=\"\",\"\",Databackup!B90)","v":""},{"$f":"Databackup!C90","v":""},{"$f":"Databackup!D90","v":""},{"$f":"Databackup!E90","v":""},{"$f":"Databackup!F90","v":""},{"$f":"Databackup!G90","v":""},{"$f":"Databackup!I90","v":""},{"$f":"Databackup!J90","v":""},{"$f":"Databackup!K90","v":""},{"$f":"Databackup!L90","v":""},{"$f":"Databackup!M90","v":""},{"$f":"IF(Databackup!N90>0,Databackup!N90,\"--.--\")","v":""},"  Designation  "]
[{"$f":"IF(Databackup!B91=\"\",\"\",Databackup!B91)","v":""},{"$f":"Databackup!C91","v":""},{"$f":"Databackup!D91","v":""},{"$f":"Databackup!E91","v":""},{"$f":"Databackup!F91","v":""},{"$f":"Databackup!G91","v":""},{"$f":"Databackup!I91","v":""},{"$f":"Databackup!J91","v":""},{"$f":"Databackup!K91","v":""},{"$f":"Databackup!L91","v":""},{"$f":"Databackup!M91","v":""},{"$f":"IF(Databackup!N91>0,Databackup!N91,\"--.--\")","v":""},"  Designation  "]
[{"$f":"IF(Databackup!B92=\"\",\"\",Databackup!B92)","v":""},{"$f":"Databackup!C92","v":""},{"$f":"Databackup!D92","v":""},{"$f":"Databackup!E92","v":""},{"$f":"Databackup!F92","v":""},{"$f":"Databackup!G92","v":""},{"$f":"Databackup!I92","v":""},{"$f":"Databackup!J92","v":""},{"$f":"Databackup!K92","v":""},{"$f":"Databackup!L92","v":""},{"$f":"Databackup!M92","v":""},{"$f":"IF(Databackup!N92>0,Databackup!N92,\"--.--\")","v":""},"  Designation  "]
[{"$f":"IF(Databackup!B93=\"\",\"\",Databackup!B93)","v":""},{"$f":"Databackup!C93","v":""},{"$f":"Databackup!D93","v":""},{"$f":"Databackup!E93","v":""},{"$f":"Databackup!F93","v":""},{"$f":"Databackup!G93","v":""},{"$f":"Databackup!I93","v":""},{"$f":"Databackup!J93","v":""},{"$f":"Databackup!K93","v":""},{"$f":"Databackup!L93","v":""},{"$f":"Databackup!M93","v":""},{"$f":"IF(Databackup!N93>0,Databackup!N93,\"--.--\")","v":""},"  Designation  "]
[{"$f":"IF(Databackup!B94=\"\",\"\",Databackup!B94)","v":""},{"$f":"Databackup!C94","v":""},{"$f":"Databackup!D94","v":""},{"$f":"Databackup!E94","v":""},{"$f":"Databackup!F94","v":""},{"$f":"Databackup!G94","v":""},{"$f":"Databackup!I94","v":""},{"$f":"Databackup!J94","v":""},{"$f":"Databackup!K94","v":""},{"$f":"Databackup!L94","v":""},{"$f":"Databackup!M94","v":""},{"$f":"IF(Databackup!N94>0,Databackup!N94,\"--.--\")","v":""},"  Designation  "]
[{"$f":"IF(Databackup!B95=\"\",\"\",Databackup!B95)","v":""},{"$f":"Databackup!C95","v":""},{"$f":"Databackup!D95","v":""},{"$f":"Databackup!E95","v":""},{"$f":"Databackup!F95","v":""},{"$f":"Databackup!G95","v":""},{"$f":"Databackup!I95","v":""},{"$f":"Databackup!J95","v":""},{"$f":"Databackup!K95","v":""},{"$f":"Databackup!L95","v":""},{"$f":"Databackup!M95","v":""},{"$f":"IF(Databackup!N95>0,Databackup!N95,\"--.--\")","v":""},"  Designation  "]
[{"$f":"IF(Databackup!B96=\"\",\"\",Databackup!B96)","v":""},{"$f":"Databackup!C96","v":""},{"$f":"Databackup!D96","v":""},{"$f":"Databackup!E96","v":""},{"$f":"Databackup!F96","v":""},{"$f":"Databackup!G96","v":""},{"$f":"Databackup!I96","v":""},{"$f":"Databackup!J96","v":""},{"$f":"Databackup!K96","v":""},{"$f":"Databackup!L96","v":""},{"$f":"Databackup!M96","v":""},{"$f":"IF(Databackup!N96>0,Databackup!N96,\"--.--\")","v":""},"  Designation  "]
[{"$f":"IF(Databackup!B97=\"\",\"\",Databackup!B97)","v":""},{"$f":"Databackup!C97","v":""},{"$f":"Databackup!D97","v":""},{"$f":"Databackup!E97","v":""},{"$f":"Databackup!F97","v":""},{"$f":"Databackup!G97","v":""},{"$f":"Databackup!I97","v":""},{"$f":"Databackup!J97","v":""},{"$f":"Databackup!K97","v":""},{"$f":"Databackup!L97","v":""},{"$f":"Databackup!M97","v":""},{"$f":"IF(Databackup!N97>0,Databackup!N97,\"--.--\")","v":""},"  Designation  "]
[{"$f":"IF(Databackup!B98=\"\",\"\",Databackup!B98)","v":""},{"$f":"Databackup!C98","v":""},{"$f":"Databackup!D98","v":""},{"$f":"Databackup!E98","v":""},{"$f":"Databackup!F98","v":""},{"$f":"Databackup!G98","v":""},{"$f":"Databackup!I98","v":""},{"$f":"Databackup!J98","v":""},{"$f":"Databackup!K98","v":""},{"$f":"Databackup!L98","v":""},{"$f":"Databackup!M98","v":""},{"$f":"IF(Databackup!N98>0,Databackup!N98,\"--.--\")","v":""},"  Designation  "]
[{"$f":"IF(Databackup!B99=\"\",\"\",Databackup!B99)","v":""},{"$f":"Databackup!C99","v":""},{"$f":"Databackup!D99","v":""},{"$f":"Databackup!E99","v":""},{"$f":"Databackup!F99","v":""},{"$f":"Databackup!G99","v":""},{"$f":"Databackup!I99","v":""},{"$f":"Databackup!J99","v":""},{"$f":"Databackup!K99","v":""},{"$f":"Databackup!L99","v":""},{"$f":"Databackup!M99","v":""},{"$f":"IF(Databackup!N99>0,Databackup!N99,\"--.--\")","v":""},"  Designation  "]
[{"$f":"IF(Databackup!B100=\"\",\"\",Databackup!B100)","v":""},{"$f":"Databackup!C100","v":""},{"$f":"Databackup!D100","v":""},{"$f":"Databackup!E100","v":""},{"$f":"Databackup!F100","v":""},{"$f":"Databackup!G100","v":""},{"$f":"Databackup!I100","v":""},{"$f":"Databackup!J100","v":""},{"$f":"Databackup!K100","v":""},{"$f":"Databackup!L100","v":""},{"$f":"Databackup!M100","v":""},{"$f":"IF(Databackup!N100>0,Databackup!N100,\"--.--\")","v":""},"  Designation  "]
[{"$f":"IF(Databackup!B101=\"\",\"\",Databackup!B101)","v":""},{"$f":"Databackup!C101","v":""},{"$f":"Databackup!D101","v":""},{"$f":"Databackup!E101","v":""},{"$f":"Databackup!F101","v":""},{"$f":"Databackup!G101","v":""},{"$f":"Databackup!I101","v":""},{"$f":"Databackup!J101","v":""},{"$f":"Databackup!K101","v":""},{"$f":"Databackup!L101","v":""},{"$f":"Databackup!M101","v":""},{"$f":"IF(Databackup!N101>0,Databackup!N101,\"--.--\")","v":""},"  Designation  "]
[{"$f":"IF(Databackup!B102=\"\",\"\",Databackup!B102)","v":""},{"$f":"Databackup!C102","v":""},{"$f":"Databackup!D102","v":""},{"$f":"Databackup!E102","v":""},{"$f":"Databackup!F102","v":""},{"$f":"Databackup!G102","v":""},{"$f":"Databackup!I102","v":""},{"$f":"Databackup!J102","v":""},{"$f":"Databackup!K102","v":""},{"$f":"Databackup!L102","v":""},{"$f":"Databackup!M102","v":""},{"$f":"IF(Databackup!N102>0,Databackup!N102,\"--.--\")","v":""},"  Designation  "]
[{"$f":"IF(Databackup!B103=\"\",\"\",Databackup!B103)","v":""},{"$f":"Databackup!C103","v":""},{"$f":"Databackup!D103","v":""},{"$f":"Databackup!E103","v":""},{"$f":"Databackup!F103","v":""},{"$f":"Databackup!G103","v":""},{"$f":"Databackup!I103","v":""},{"$f":"Databackup!J103","v":""},{"$f":"Databackup!K103","v":""},{"$f":"Databackup!L103","v":""},{"$f":"Databackup!M103","v":""},{"$f":"IF(Databackup!N103>0,Databackup!N103,\"--.--\")","v":""},"  Designation  "]
[{"$f":"IF(Databackup!B104=\"\",\"\",Databackup!B104)","v":""},{"$f":"Databackup!C104","v":""},{"$f":"Databackup!D104","v":""},{"$f":"Databackup!E104","v":""},{"$f":"Databackup!F104","v":""},{"$f":"Databackup!G104","v":""},{"$f":"Databackup!I104","v":""},{"$f":"Databackup!J104","v":""},{"$f":"Databackup!K104","v":""},{"$f":"Databackup!L104","v":""},{"$f":"Databackup!M104","v":""},{"$f":"IF(Databackup!N104>0,Databackup!N104,\"--.--\")","v":""},"  Designation  "]
[{"$f":"IF(Databackup!B105=\"\",\"\",Databackup!B105)","v":""},{"$f":"Databackup!C105","v":""},{"$f":"Databackup!D105","v":""},{"$f":"Databackup!E105","v":""},{"$f":"Databackup!F105","v":""},{"$f":"Databackup!G105","v":""},{"$f":"Databackup!I105","v":""},{"$f":"Databackup!J105","v":""},{"$f":"Databackup!K105","v":""},{"$f":"Databackup!L105","v":""},{"$f":"Databackup!M105","v":""},{"$f":"IF(Databackup!N105>0,Databackup!N105,\"--.--\")","v":""},"  Designation  "]
[{"$f":"IF(Databackup!B106=\"\",\"\",Databackup!B106)","v":""},{"$f":"Databackup!C106","v":""},{"$f":"Databackup!D106","v":""},{"$f":"Databackup!E106","v":""},{"$f":"Databackup!F106","v":""},{"$f":"Databackup!G106","v":""},{"$f":"Databackup!I106","v":""},{"$f":"Databackup!J106","v":""},{"$f":"Databackup!K106","v":""},{"$f":"Databackup!L106","v":""},{"$f":"Databackup!M106","v":""},{"$f":"IF(Databackup!N106>0,Databackup!N106,\"--.--\")","v":""},"  Designation  "]
[{"$f":"IF(Databackup!B107=\"\",\"\",Databackup!B107)","v":""},{"$f":"Databackup!C107","v":""},{"$f":"Databackup!D107","v":""},{"$f":"Databackup!E107","v":""},{"$f":"Databackup!F107","v":""},{"$f":"Databackup!G107","v":""},{"$f":"Databackup!I107","v":""},{"$f":"Databackup!J107","v":""},{"$f":"Databackup!K107","v":""},{"$f":"Databackup!L107","v":""},{"$f":"Databackup!M107","v":""},{"$f":"IF(Databackup!N107>0,Databackup!N107,\"--.--\")","v":""},"  Designation  "]
[{"$f":"IF(Databackup!B108=\"\",\"\",Databackup!B108)","v":""},{"$f":"Databackup!C108","v":""},{"$f":"Databackup!D108","v":""},{"$f":"Databackup!E108","v":""},{"$f":"Databackup!F108","v":""},{"$f":"Databackup!G108","v":""},{"$f":"Databackup!I108","v":""},{"$f":"Databackup!J108","v":""},{"$f":"Databackup!K108","v":""},{"$f":"Databackup!L108","v":""},{"$f":"Databackup!M108","v":""},{"$f":"IF(Databackup!N108>0,Databackup!N108,\"--.--\")","v":""},"  Designation  "]
[{"$f":"IF(Databackup!B109=\"\",\"\",Databackup!B109)","v":""},{"$f":"Databackup!C109","v":""},{"$f":"Databackup!D109","v":""},{"$f":"Databackup!E109","v":""},{"$f":"Databackup!F109","v":""},{"$f":"Databackup!G109","v":""},{"$f":"Databackup!I109","v":""},{"$f":"Databackup!J109","v":""},{"$f":"Databackup!K109","v":""},{"$f":"Databackup!L109","v":""},{"$f":"Databackup!M109","v":""},{"$f":"IF(Databackup!N109>0,Databackup!N109,\"--.--\")","v":""},"  Designation  "]
[{"$f":"IF(Databackup!B110=\"\",\"\",Databackup!B110)","v":""},{"$f":"Databackup!C110","v":""},{"$f":"Databackup!D110","v":""},{"$f":"Databackup!E110","v":""},{"$f":"Databackup!F110","v":""},{"$f":"Databackup!G110","v":""},{"$f":"Databackup!I110","v":""},{"$f":"Databackup!J110","v":""},{"$f":"Databackup!K110","v":""},{"$f":"Databackup!L110","v":""},{"$f":"Databackup!M110","v":""},{"$f":"IF(Databackup!N110>0,Databackup!N110,\"--.--\")","v":""},"  Designation  "]
[{"$f":"IF(Databackup!B111=\"\",\"\",Databackup!B111)","v":""},{"$f":"Databackup!C111","v":""},{"$f":"Databackup!D111","v":""},{"$f":"Databackup!E111","v":""},{"$f":"Databackup!F111","v":""},{"$f":"Databackup!G111","v":""},{"$f":"Databackup!I111","v":""},{"$f":"Databackup!J111","v":""},{"$f":"Databackup!K111","v":""},{"$f":"Databackup!L111","v":""},{"$f":"Databackup!M111","v":""},{"$f":"IF(Databackup!N111>0,Databackup!N111,\"--.--\")","v":""},"  Designation  "]
[{"$f":"IF(Databackup!B112=\"\",\"\",Databackup!B112)","v":""},{"$f":"Databackup!C112","v":""},{"$f":"Databackup!D112","v":""},{"$f":"Databackup!E112","v":""},{"$f":"Databackup!F112","v":""},{"$f":"Databackup!G112","v":""},{"$f":"Databackup!I112","v":""},{"$f":"Databackup!J112","v":""},{"$f":"Databackup!K112","v":""},{"$f":"Databackup!L112","v":""},{"$f":"Databackup!M112","v":""},{"$f":"IF(Databackup!N112>0,Databackup!N112,\"--.--\")","v":""},"  Designation  "]
[{"$f":"IF(Databackup!B113=\"\",\"\",Databackup!B113)","v":""},{"$f":"Databackup!C113","v":""},{"$f":"Databackup!D113","v":""},{"$f":"Databackup!E113","v":""},{"$f":"Databackup!F113","v":""},{"$f":"Databackup!G113","v":""},{"$f":"Databackup!I113","v":""},{"$f":"Databackup!J113","v":""},{"$f":"Databackup!K113","v":""},{"$f":"Databackup!L113","v":""},{"$f":"Databackup!M113","v":""},{"$f":"IF(Databackup!N113>0,Databackup!N113,\"--.--\")","v":""},"  Designation  "]
[{"$f":"IF(Databackup!B114=\"\",\"\",Databackup!B114)","v":""},{"$f":"Databackup!C114","v":""},{"$f":"Databackup!D114","v":""},{"$f":"Databackup!E114","v":""},{"$f":"Databackup!F114","v":""},{"$f":"Databackup!G114","v":""},{"$f":"Databackup!I114","v":""},{"$f":"Databackup!J114","v":""},{"$f":"Databackup!K114","v":""},{"$f":"Databackup!L114","v":""},{"$f":"Databackup!M114","v":""},{"$f":"IF(Databackup!N114>0,Databackup!N114,\"--.--\")","v":""},"  Designation  "]
[{"$f":"IF(Databackup!B115=\"\",\"\",Databackup!B115)","v":""},{"$f":"Databackup!C115","v":""},{"$f":"Databackup!D115","v":""},{"$f":"Databackup!E115","v":""},{"$f":"Databackup!F115","v":""},{"$f":"Databackup!G115","v":""},{"$f":"Databackup!I115","v":""},{"$f":"Databackup!J115","v":""},{"$f":"Databackup!K115","v":""},{"$f":"Databackup!L115","v":""},{"$f":"Databackup!M115","v":""},{"$f":"IF(Databackup!N115>0,Databackup!N115,\"--.--\")","v":""},"  Designation  "]
[{"$f":"IF(Databackup!B116=\"\",\"\",Databackup!B116)","v":""},{"$f":"Databackup!C116","v":""},{"$f":"Databackup!D116","v":""},{"$f":"Databackup!E116","v":""},{"$f":"Databackup!F116","v":""},{"$f":"Databackup!G116","v":""},{"$f":"Databackup!I116","v":""},{"$f":"Databackup!J116","v":""},{"$f":"Databackup!K116","v":""},{"$f":"Databackup!L116","v":""},{"$f":"Databackup!M116","v":""},{"$f":"IF(Databackup!N116>0,Databackup!N116,\"--.--\")","v":""},"  Designation  "]
[{"$f":"IF(Databackup!B117=\"\",\"\",Databackup!B117)","v":""},{"$f":"Databackup!C117","v":""},{"$f":"Databackup!D117","v":""},{"$f":"Databackup!E117","v":""},{"$f":"Databackup!F117","v":""},{"$f":"Databackup!G117","v":""},{"$f":"Databackup!I117","v":""},{"$f":"Databackup!J117","v":""},{"$f":"Databackup!K117","v":""},{"$f":"Databackup!L117","v":""},{"$f":"Databackup!M117","v":""},{"$f":"IF(Databackup!N117>0,Databackup!N117,\"--.--\")","v":""},"  Designation  "]
[{"$f":"IF(Databackup!B118=\"\",\"\",Databackup!B118)","v":""},{"$f":"Databackup!C118","v":""},{"$f":"Databackup!D118","v":""},{"$f":"Databackup!E118","v":""},{"$f":"Databackup!F118","v":""},{"$f":"Databackup!G118","v":""},{"$f":"Databackup!I118","v":""},{"$f":"Databackup!J118","v":""},{"$f":"Databackup!K118","v":""},{"$f":"Databackup!L118","v":""},{"$f":"Databackup!M118","v":""},{"$f":"IF(Databackup!N118>0,Databackup!N118,\"--.--\")","v":""},"  Designation  "]
[{"$f":"IF(Databackup!B119=\"\",\"\",Databackup!B119)","v":""},{"$f":"Databackup!C119","v":""},{"$f":"Databackup!D119","v":""},{"$f":"Databackup!E119","v":""},{"$f":"Databackup!F119","v":""},{"$f":"Databackup!G119","v":""},{"$f":"Databackup!I119","v":""},{"$f":"Databackup!J119","v":""},{"$f":"Databackup!K119","v":""},{"$f":"Databackup!L119","v":""},{"$f":"Databackup!M119","v":""},{"$f":"IF(Databackup!N119>0,Databackup!N119,\"--.--\")","v":""},"  Designation  "]
[{"$f":"IF(Databackup!B120=\"\",\"\",Databackup!B120)","v":""},{"$f":"Databackup!C120","v":""},{"$f":"Databackup!D120","v":""},{"$f":"Databackup!E120","v":""},{"$f":"Databackup!F120","v":""},{"$f":"Databackup!G120","v":""},{"$f":"Databackup!I120","v":""},{"$f":"Databackup!J120","v":""},{"$f":"Databackup!K120","v":""},{"$f":"Databackup!L120","v":""},{"$f":"Databackup!M120","v":""},{"$f":"IF(Databackup!N120>0,Databackup!N120,\"--.--\")","v":""},"  Designation  "]
[{"$f":"IF(Databackup!B121=\"\",\"\",Databackup!B121)","v":""},{"$f":"Databackup!C121","v":""},{"$f":"Databackup!D121","v":""},{"$f":"Databackup!E121","v":""},{"$f":"Databackup!F121","v":""},{"$f":"Databackup!G121","v":""},{"$f":"Databackup!I121","v":""},{"$f":"Databackup!J121","v":""},{"$f":"Databackup!K121","v":""},{"$f":"Databackup!L121","v":""},{"$f":"Databackup!M121","v":""},{"$f":"IF(Databackup!N121>0,Databackup!N121,\"--.--\")","v":""},"  Designation  "]
[{"$f":"IF(Databackup!B122=\"\",\"\",Databackup!B122)","v":""},{"$f":"Databackup!C122","v":""},{"$f":"Databackup!D122","v":""},{"$f":"Databackup!E122","v":""},{"$f":"Databackup!F122","v":""},{"$f":"Databackup!G122","v":""},{"$f":"Databackup!I122","v":""},{"$f":"Databackup!J122","v":""},{"$f":"Databackup!K122","v":""},{"$f":"Databackup!L122","v":""},{"$f":"Databackup!M122","v":""},{"$f":"IF(Databackup!N122>0,Databackup!N122,\"--.--\")","v":""},"  Designation  "]
[{"$f":"IF(Databackup!B123=\"\",\"\",Databackup!B123)","v":""},{"$f":"Databackup!C123","v":""},{"$f":"Databackup!D123","v":""},{"$f":"Databackup!E123","v":""},{"$f":"Databackup!F123","v":""},{"$f":"Databackup!G123","v":""},{"$f":"Databackup!I123","v":""},{"$f":"Databackup!J123","v":""},{"$f":"Databackup!K123","v":""},{"$f":"Databackup!L123","v":""},{"$f":"Databackup!M123","v":""},{"$f":"IF(Databackup!N123>0,Databackup!N123,\"--.--\")","v":""},"  Designation  "]
[{"$f":"IF(Databackup!B124=\"\",\"\",Databackup!B124)","v":""},{"$f":"Databackup!C124","v":""},{"$f":"Databackup!D124","v":""},{"$f":"Databackup!E124","v":""},{"$f":"Databackup!F124","v":""},{"$f":"Databackup!G124","v":""},{"$f":"Databackup!I124","v":""},{"$f":"Databackup!J124","v":""},{"$f":"Databackup!K124","v":""},{"$f":"Databackup!L124","v":""},{"$f":"Databackup!M124","v":""},{"$f":"IF(Databackup!N124>0,Databackup!N124,\"--.--\")","v":""},"  Designation  "]
[{"$f":"IF(Databackup!B125=\"\",\"\",Databackup!B125)","v":""},{"$f":"Databackup!C125","v":""},{"$f":"Databackup!D125","v":""},{"$f":"Databackup!E125","v":""},{"$f":"Databackup!F125","v":""},{"$f":"Databackup!G125","v":""},{"$f":"Databackup!I125","v":""},{"$f":"Databackup!J125","v":""},{"$f":"Databackup!K125","v":""},{"$f":"Databackup!L125","v":""},{"$f":"Databackup!M125","v":""},{"$f":"IF(Databackup!N125>0,Databackup!N125,\"--.--\")","v":""},"  Designation  "]
[{"$f":"IF(Databackup!B126=\"\",\"\",Databackup!B126)","v":""},{"$f":"Databackup!C126","v":""},{"$f":"Databackup!D126","v":""},{"$f":"Databackup!E126","v":""},{"$f":"Databackup!F126","v":""},{"$f":"Databackup!G126","v":""},{"$f":"Databackup!I126","v":""},{"$f":"Databackup!J126","v":""},{"$f":"Databackup!K126","v":""},{"$f":"Databackup!L126","v":""},{"$f":"Databackup!M126","v":""},{"$f":"IF(Databackup!N126>0,Databackup!N126,\"--.--\")","v":""},"  Designation  "]
[{"$f":"IF(Databackup!B127=\"\",\"\",Databackup!B127)","v":""},{"$f":"Databackup!C127","v":""},{"$f":"Databackup!D127","v":""},{"$f":"Databackup!E127","v":""},{"$f":"Databackup!F127","v":""},{"$f":"Databackup!G127","v":""},{"$f":"Databackup!I127","v":""},{"$f":"Databackup!J127","v":""},{"$f":"Databackup!K127","v":""},{"$f":"Databackup!L127","v":""},{"$f":"Databackup!M127","v":""},{"$f":"IF(Databackup!N127>0,Databackup!N127,\"--.--\")","v":""},"  Designation  "]
[{"$f":"IF(Databackup!B128=\"\",\"\",Databackup!B128)","v":""},{"$f":"Databackup!C128","v":""},{"$f":"Databackup!D128","v":""},{"$f":"Databackup!E128","v":""},{"$f":"Databackup!F128","v":""},{"$f":"Databackup!G128","v":""},{"$f":"Databackup!I128","v":""},{"$f":"Databackup!J128","v":""},{"$f":"Databackup!K128","v":""},{"$f":"Databackup!L128","v":""},{"$f":"Databackup!M128","v":""},{"$f":"IF(Databackup!N128>0,Databackup!N128,\"--.--\")","v":""},"  Designation  "]
[{"$f":"IF(Databackup!B129=\"\",\"\",Databackup!B129)","v":""},{"$f":"Databackup!C129","v":""},{"$f":"Databackup!D129","v":""},{"$f":"Databackup!E129","v":""},{"$f":"Databackup!F129","v":""},{"$f":"Databackup!G129","v":""},{"$f":"Databackup!I129","v":""},{"$f":"Databackup!J129","v":""},{"$f":"Databackup!K129","v":""},{"$f":"Databackup!L129","v":""},{"$f":"Databackup!M129","v":""},{"$f":"IF(Databackup!N129>0,Databackup!N129,\"--.--\")","v":""},"  Designation  "]
[{"$f":"IF(Databackup!B130=\"\",\"\",Databackup!B130)","v":""},{"$f":"Databackup!C130","v":""},{"$f":"Databackup!D130","v":""},{"$f":"Databackup!E130","v":""},{"$f":"Databackup!F130","v":""},{"$f":"Databackup!G130","v":""},{"$f":"Databackup!I130","v":""},{"$f":"Databackup!J130","v":""},{"$f":"Databackup!K130","v":""},{"$f":"Databackup!L130","v":""},{"$f":"Databackup!M130","v":""},{"$f":"IF(Databackup!N130>0,Databackup!N130,\"--.--\")","v":""},"  Designation  "]
[{"$f":"IF(Databackup!B131=\"\",\"\",Databackup!B131)","v":""},{"$f":"Databackup!C131","v":""},{"$f":"Databackup!D131","v":""},{"$f":"Databackup!E131","v":""},{"$f":"Databackup!F131","v":""},{"$f":"Databackup!G131","v":""},{"$f":"Databackup!I131","v":""},{"$f":"Databackup!J131","v":""},{"$f":"Databackup!K131","v":""},{"$f":"Databackup!L131","v":""},{"$f":"Databackup!M131","v":""},{"$f":"IF(Databackup!N131>0,Databackup!N131,\"--.--\")","v":""},"  Designation  "]
[{"$f":"IF(Databackup!B132=\"\",\"\",Databackup!B132)","v":""},{"$f":"Databackup!C132","v":""},{"$f":"Databackup!D132","v":""},{"$f":"Databackup!E132","v":""},{"$f":"Databackup!F132","v":""},{"$f":"Databackup!G132","v":""},{"$f":"Databackup!I132","v":""},{"$f":"Databackup!J132","v":""},{"$f":"Databackup!K132","v":""},{"$f":"Databackup!L132","v":""},{"$f":"Databackup!M132","v":""},{"$f":"IF(Databackup!N132>0,Databackup!N132,\"--.--\")","v":""},"  Designation  "]
[{"$f":"IF(Databackup!B133=\"\",\"\",Databackup!B133)","v":""},{"$f":"Databackup!C133","v":""},{"$f":"Databackup!D133","v":""},{"$f":"Databackup!E133","v":""},{"$f":"Databackup!F133","v":""},{"$f":"Databackup!G133","v":""},{"$f":"Databackup!I133","v":""},{"$f":"Databackup!J133","v":""},{"$f":"Databackup!K133","v":""},{"$f":"Databackup!L133","v":""},{"$f":"Databackup!M133","v":""},{"$f":"IF(Databackup!N133>0,Databackup!N133,\"--.--\")","v":""},"  Designation  "]
[{"$f":"IF(Databackup!B134=\"\",\"\",Databackup!B134)","v":""},{"$f":"Databackup!C134","v":""},{"$f":"Databackup!D134","v":""},{"$f":"Databackup!E134","v":""},{"$f":"Databackup!F134","v":""},{"$f":"Databackup!G134","v":""},{"$f":"Databackup!I134","v":""},{"$f":"Databackup!J134","v":""},{"$f":"Databackup!K134","v":""},{"$f":"Databackup!L134","v":""},{"$f":"Databackup!M134","v":""},{"$f":"IF(Databackup!N134>0,Databackup!N134,\"--.--\")","v":""},"  Designation  "]
[{"$f":"IF(Databackup!B135=\"\",\"\",Databackup!B135)","v":""},{"$f":"Databackup!C135","v":""},{"$f":"Databackup!D135","v":""},{"$f":"Databackup!E135","v":""},{"$f":"Databackup!F135","v":""},{"$f":"Databackup!G135","v":""},{"$f":"Databackup!I135","v":""},{"$f":"Databackup!J135","v":""},{"$f":"Databackup!K135","v":""},{"$f":"Databackup!L135","v":""},{"$f":"Databackup!M135","v":""},{"$f":"IF(Databackup!N135>0,Databackup!N135,\"--.--\")","v":""},{"$f":"CONCATENATE(B147,\"  \",\"Designation\",\"  \",C147)","v":"  Designation  "}]
[{"$f":"IF(Databackup!B136=\"\",\"\",Databackup!B136)","v":""},{"$f":"Databackup!C136","v":""},{"$f":"Databackup!D136","v":""},{"$f":"Databackup!E136","v":""},{"$f":"Databackup!F136","v":""},{"$f":"Databackup!G136","v":""},{"$f":"Databackup!I136","v":""},{"$f":"Databackup!J136","v":""},{"$f":"Databackup!K136","v":""},{"$f":"Databackup!L136","v":""},{"$f":"Databackup!M136","v":""},{"$f":"IF(Databackup!N136>0,Databackup!N136,\"--.--\")","v":""},"  Designation  "]
[{"$f":"IF(Databackup!B137=\"\",\"\",Databackup!B137)","v":""},{"$f":"Databackup!C137","v":""},{"$f":"Databackup!D137","v":""},{"$f":"Databackup!E137","v":""},{"$f":"Databackup!F137","v":""},{"$f":"Databackup!G137","v":""},{"$f":"Databackup!I137","v":""},{"$f":"Databackup!J137","v":""},{"$f":"Databackup!K137","v":""},{"$f":"Databackup!L137","v":""},{"$f":"Databackup!M137","v":""},{"$f":"IF(Databackup!N137>0,Databackup!N137,\"--.--\")","v":""},"  Designation  "]
[{"$f":"IF(Databackup!B138=\"\",\"\",Databackup!B138)","v":""},{"$f":"Databackup!C138","v":""},{"$f":"Databackup!D138","v":""},{"$f":"Databackup!E138","v":""},{"$f":"Databackup!F138","v":""},{"$f":"Databackup!G138","v":""},{"$f":"Databackup!I138","v":""},{"$f":"Databackup!J138","v":""},{"$f":"Databackup!K138","v":""},{"$f":"Databackup!L138","v":""},{"$f":"Databackup!M138","v":""},{"$f":"IF(Databackup!N138>0,Databackup!N138,\"--.--\")","v":""},"  Designation  "]
[{"$f":"IF(Databackup!B139=\"\",\"\",Databackup!B139)","v":""},{"$f":"Databackup!C139","v":""},{"$f":"Databackup!D139","v":""},{"$f":"Databackup!E139","v":""},{"$f":"Databackup!F139","v":""},{"$f":"Databackup!G139","v":""},{"$f":"Databackup!I139","v":""},{"$f":"Databackup!J139","v":""},{"$f":"Databackup!K139","v":""},{"$f":"Databackup!L139","v":""},{"$f":"Databackup!M139","v":""},{"$f":"IF(Databackup!N139>0,Databackup!N139,\"--.--\")","v":""},"  Designation  "]
[{"$f":"IF(Databackup!B140=\"\",\"\",Databackup!B140)","v":""},{"$f":"Databackup!C140","v":""},{"$f":"Databackup!D140","v":""},{"$f":"Databackup!E140","v":""},{"$f":"Databackup!F140","v":""},{"$f":"Databackup!G140","v":""},{"$f":"Databackup!I140","v":""},{"$f":"Databackup!J140","v":""},{"$f":"Databackup!K140","v":""},{"$f":"Databackup!L140","v":""},{"$f":"Databackup!M140","v":""},{"$f":"IF(Databackup!N140>0,Databackup!N140,\"--.--\")","v":""},"  Designation  "]
[{"$f":"IF(Databackup!B141=\"\",\"\",Databackup!B141)","v":""},{"$f":"Databackup!C141","v":""},{"$f":"Databackup!D141","v":""},{"$f":"Databackup!E141","v":""},{"$f":"Databackup!F141","v":""},{"$f":"Databackup!G141","v":""},{"$f":"Databackup!I141","v":""},{"$f":"Databackup!J141","v":""},{"$f":"Databackup!K141","v":""},{"$f":"Databackup!L141","v":""},{"$f":"Databackup!M141","v":""},{"$f":"IF(Databackup!N141>0,Databackup!N141,\"--.--\")","v":""},"  Designation  "]
[{"$f":"IF(Databackup!B142=\"\",\"\",Databackup!B142)","v":""},{"$f":"Databackup!C142","v":""},{"$f":"Databackup!D142","v":""},{"$f":"Databackup!E142","v":""},{"$f":"Databackup!F142","v":""},{"$f":"Databackup!G142","v":""},{"$f":"Databackup!I142","v":""},{"$f":"Databackup!J142","v":""},{"$f":"Databackup!K142","v":""},{"$f":"Databackup!L142","v":""},{"$f":"Databackup!M142","v":""},{"$f":"IF(Databackup!N142>0,Databackup!N142,\"--.--\")","v":""},"  Designation  "]
[{"$f":"IF(Databackup!B143=\"\",\"\",Databackup!B143)","v":""},{"$f":"Databackup!C143","v":""},{"$f":"Databackup!D143","v":""},{"$f":"Databackup!E143","v":""},{"$f":"Databackup!F143","v":""},{"$f":"Databackup!G143","v":""},{"$f":"Databackup!I143","v":""},{"$f":"Databackup!J143","v":""},{"$f":"Databackup!K143","v":""},{"$f":"Databackup!L143","v":""},{"$f":"Databackup!M143","v":""},{"$f":"IF(Databackup!N143>0,Databackup!N143,\"--.--\")","v":""},"  Designation  "]
[{"$f":"IF(Databackup!B144=\"\",\"\",Databackup!B144)","v":""},{"$f":"Databackup!C144","v":""},{"$f":"Databackup!D144","v":""},{"$f":"Databackup!E144","v":""},{"$f":"Databackup!F144","v":""},{"$f":"Databackup!G144","v":""},{"$f":"Databackup!I144","v":""},{"$f":"Databackup!J144","v":""},{"$f":"Databackup!K144","v":""},{"$f":"Databackup!L144","v":""},{"$f":"Databackup!M144","v":""},{"$f":"IF(Databackup!N144>0,Databackup!N144,\"--.--\")","v":""},"  Designation  "]
[{"$f":"IF(Databackup!B145=\"\",\"\",Databackup!B145)","v":""},{"$f":"Databackup!C145","v":""},{"$f":"Databackup!D145","v":""},{"$f":"Databackup!E145","v":""},{"$f":"Databackup!F145","v":""},{"$f":"Databackup!G145","v":""},{"$f":"Databackup!I145","v":""},{"$f":"Databackup!J145","v":""},{"$f":"Databackup!K145","v":""},{"$f":"Databackup!L145","v":""},{"$f":"Databackup!M145","v":""},{"$f":"IF(Databackup!N145>0,Databackup!N145,\"--.--\")","v":""},"  Designation  "]
[{"$f":"IF(Databackup!B146=\"\",\"\",Databackup!B146)","v":""},{"$f":"Databackup!C146","v":""},{"$f":"Databackup!D146","v":""},{"$f":"Databackup!E146","v":""},{"$f":"Databackup!F146","v":""},{"$f":"Databackup!G146","v":""},{"$f":"Databackup!I146","v":""},{"$f":"Databackup!J146","v":""},{"$f":"Databackup!K146","v":""},{"$f":"Databackup!L146","v":""},{"$f":"Databackup!M146","v":""},{"$f":"IF(Databackup!N146>0,Databackup!N146,\"--.--\")","v":""},"  Designation  "]
[{"$f":"IF(Databackup!B147=\"\",\"\",Databackup!B147)","v":""},{"$f":"Databackup!C147","v":""},{"$f":"Databackup!D147","v":""},{"$f":"Databackup!E147","v":""},{"$f":"Databackup!F147","v":""},{"$f":"Databackup!G147","v":""},{"$f":"Databackup!I147","v":""},{"$f":"Databackup!J147","v":""},{"$f":"Databackup!K147","v":""},{"$f":"Databackup!L147","v":""},{"$f":"Databackup!M147","v":""},{"$f":"IF(Databackup!N147>0,Databackup!N147,\"--.--\")","v":""},"  Designation  "]
[{"$f":"IF(Databackup!B148=\"\",\"\",Databackup!B148)","v":""},{"$f":"Databackup!C148","v":""},{"$f":"Databackup!D148","v":""},{"$f":"Databackup!E148","v":""},{"$f":"Databackup!F148","v":""},{"$f":"Databackup!G148","v":""},{"$f":"Databackup!I148","v":""},{"$f":"Databackup!J148","v":""},{"$f":"Databackup!K148","v":""},{"$f":"Databackup!L148","v":""},{"$f":"Databackup!M148","v":""},{"$f":"IF(Databackup!N148>0,Databackup!N148,\"--.--\")","v":""},"  Designation  "]
[{"$f":"IF(Databackup!B149=\"\",\"\",Databackup!B149)","v":""},{"$f":"Databackup!C149","v":""},{"$f":"Databackup!D149","v":""},{"$f":"Databackup!E149","v":""},{"$f":"Databackup!F149","v":""},{"$f":"Databackup!G149","v":""},{"$f":"Databackup!I149","v":""},{"$f":"Databackup!J149","v":""},{"$f":"Databackup!K149","v":""},{"$f":"Databackup!L149","v":""},{"$f":"Databackup!M149","v":""},{"$f":"IF(Databackup!N149>0,Databackup!N149,\"--.--\")","v":""},"  Designation  "]
[{"$f":"IF(Databackup!B150=\"\",\"\",Databackup!B150)","v":""},{"$f":"Databackup!C150","v":""},{"$f":"Databackup!D150","v":""},{"$f":"Databackup!E150","v":""},{"$f":"Databackup!F150","v":""},{"$f":"Databackup!G150","v":""},{"$f":"Databackup!I150","v":""},{"$f":"Databackup!J150","v":""},{"$f":"Databackup!K150","v":""},{"$f":"Databackup!L150","v":""},{"$f":"Databackup!M150","v":""},{"$f":"IF(Databackup!N150>0,Databackup!N150,\"--.--\")","v":""},"  Designation  "]
[{"$f":"IF(Databackup!B151=\"\",\"\",Databackup!B151)","v":""},{"$f":"Databackup!C151","v":""},{"$f":"Databackup!D151","v":""},{"$f":"Databackup!E151","v":""},{"$f":"Databackup!F151","v":""},{"$f":"Databackup!G151","v":""},{"$f":"Databackup!I151","v":""},{"$f":"Databackup!J151","v":""},{"$f":"Databackup!K151","v":""},{"$f":"Databackup!L151","v":""},{"$f":"Databackup!M151","v":""},{"$f":"IF(Databackup!N151>0,Databackup!N151,\"--.--\")","v":""},"  Designation  "]
[{"$f":"IF(Databackup!B152=\"\",\"\",Databackup!B152)","v":""},{"$f":"Databackup!C152","v":""},{"$f":"Databackup!D152","v":""},{"$f":"Databackup!E152","v":""},{"$f":"Databackup!F152","v":""},{"$f":"Databackup!G152","v":""},{"$f":"Databackup!I152","v":""},{"$f":"Databackup!J152","v":""},{"$f":"Databackup!K152","v":""},{"$f":"Databackup!L152","v":""},{"$f":"Databackup!M152","v":""},{"$f":"IF(Databackup!N152>0,Databackup!N152,\"--.--\")","v":""},"  Designation  "]
[{"$f":"IF(Databackup!B153=\"\",\"\",Databackup!B153)","v":""},{"$f":"Databackup!C153","v":""},{"$f":"Databackup!D153","v":""},{"$f":"Databackup!E153","v":""},{"$f":"Databackup!F153","v":""},{"$f":"Databackup!G153","v":""},{"$f":"Databackup!I153","v":""},{"$f":"Databackup!J153","v":""},{"$f":"Databackup!K153","v":""},{"$f":"Databackup!L153","v":""},{"$f":"Databackup!M153","v":""},{"$f":"IF(Databackup!N153>0,Databackup!N153,\"--.--\")","v":""},"  Designation  "]
[{"$f":"IF(Databackup!B154=\"\",\"\",Databackup!B154)","v":""},{"$f":"Databackup!C154","v":""},{"$f":"Databackup!D154","v":""},{"$f":"Databackup!E154","v":""},{"$f":"Databackup!F154","v":""},{"$f":"Databackup!G154","v":""},{"$f":"Databackup!I154","v":""},{"$f":"Databackup!J154","v":""},{"$f":"Databackup!K154","v":""},{"$f":"Databackup!L154","v":""},{"$f":"Databackup!M154","v":""},{"$f":"IF(Databackup!N154>0,Databackup!N154,\"--.--\")","v":""},"  Designation  "]
[{"$f":"IF(Databackup!B155=\"\",\"\",Databackup!B155)","v":""},{"$f":"Databackup!C155","v":""},{"$f":"Databackup!D155","v":""},{"$f":"Databackup!E155","v":""},{"$f":"Databackup!F155","v":""},{"$f":"Databackup!G155","v":""},{"$f":"Databackup!I155","v":""},{"$f":"Databackup!J155","v":""},{"$f":"Databackup!K155","v":""},{"$f":"Databackup!L155","v":""},{"$f":"Databackup!M155","v":""},{"$f":"IF(Databackup!N155>0,Databackup!N155,\"--.--\")","v":""},"  Designation  "]
[{"$f":"IF(Databackup!B156=\"\",\"\",Databackup!B156)","v":""},{"$f":"Databackup!C156","v":""},{"$f":"Databackup!D156","v":""},{"$f":"Databackup!E156","v":""},{"$f":"Databackup!F156","v":""},{"$f":"Databackup!G156","v":""},{"$f":"Databackup!I156","v":""},{"$f":"Databackup!J156","v":""},{"$f":"Databackup!K156","v":""},{"$f":"Databackup!L156","v":""},{"$f":"Databackup!M156","v":""},{"$f":"IF(Databackup!N156>0,Databackup!N156,\"--.--\")","v":""},"  Designation  "]
[{"$f":"IF(Databackup!B157=\"\",\"\",Databackup!B157)","v":""},{"$f":"Databackup!C157","v":""},{"$f":"Databackup!D157","v":""},{"$f":"Databackup!E157","v":""},{"$f":"Databackup!F157","v":""},{"$f":"Databackup!G157","v":""},{"$f":"Databackup!I157","v":""},{"$f":"Databackup!J157","v":""},{"$f":"Databackup!K157","v":""},{"$f":"Databackup!L157","v":""},{"$f":"Databackup!M157","v":""},{"$f":"IF(Databackup!N157>0,Databackup!N157,\"--.--\")","v":""},"  Designation  "]
[{"$f":"IF(Databackup!B158=\"\",\"\",Databackup!B158)","v":""},{"$f":"Databackup!C158","v":""},{"$f":"Databackup!D158","v":""},{"$f":"Databackup!E158","v":""},{"$f":"Databackup!F158","v":""},{"$f":"Databackup!G158","v":""},{"$f":"Databackup!I158","v":""},{"$f":"Databackup!J158","v":""},{"$f":"Databackup!K158","v":""},{"$f":"Databackup!L158","v":""},{"$f":"Databackup!M158","v":""},{"$f":"IF(Databackup!N158>0,Databackup!N158,\"--.--\")","v":""},"  Designation  "]
[{"$f":"IF(Databackup!B159=\"\",\"\",Databackup!B159)","v":""},{"$f":"Databackup!C159","v":""},{"$f":"Databackup!D159","v":""},{"$f":"Databackup!E159","v":""},{"$f":"Databackup!F159","v":""},{"$f":"Databackup!G159","v":""},{"$f":"Databackup!I159","v":""},{"$f":"Databackup!J159","v":""},{"$f":"Databackup!K159","v":""},{"$f":"Databackup!L159","v":""},{"$f":"Databackup!M159","v":""},{"$f":"IF(Databackup!N159>0,Databackup!N159,\"--.--\")","v":""},"  Designation  "]
[{"$f":"IF(Databackup!B160=\"\",\"\",Databackup!B160)","v":""},{"$f":"Databackup!C160","v":""},{"$f":"Databackup!D160","v":""},{"$f":"Databackup!E160","v":""},{"$f":"Databackup!F160","v":""},{"$f":"Databackup!G160","v":""},{"$f":"Databackup!I160","v":""},{"$f":"Databackup!J160","v":""},{"$f":"Databackup!K160","v":""},{"$f":"Databackup!L160","v":""},{"$f":"Databackup!M160","v":""},{"$f":"IF(Databackup!N160>0,Databackup!N160,\"--.--\")","v":""},"  Designation  "]
[{"$f":"IF(Databackup!B161=\"\",\"\",Databackup!B161)","v":""},{"$f":"Databackup!C161","v":""},{"$f":"Databackup!D161","v":""},{"$f":"Databackup!E161","v":""},{"$f":"Databackup!F161","v":""},{"$f":"Databackup!G161","v":""},{"$f":"Databackup!I161","v":""},{"$f":"Databackup!J161","v":""},{"$f":"Databackup!K161","v":""},{"$f":"Databackup!L161","v":""},{"$f":"Databackup!M161","v":""},{"$f":"IF(Databackup!N161>0,Databackup!N161,\"--.--\")","v":""},"  Designation  "]
[{"$f":"IF(Databackup!B162=\"\",\"\",Databackup!B162)","v":""},{"$f":"Databackup!C162","v":""},{"$f":"Databackup!D162","v":""},{"$f":"Databackup!E162","v":""},{"$f":"Databackup!F162","v":""},{"$f":"Databackup!G162","v":""},{"$f":"Databackup!I162","v":""},{"$f":"Databackup!J162","v":""},{"$f":"Databackup!K162","v":""},{"$f":"Databackup!L162","v":""},{"$f":"Databackup!M162","v":""},{"$f":"IF(Databackup!N162>0,Databackup!N162,\"--.--\")","v":""},"  Designation  "]
[{"$f":"IF(Databackup!B163=\"\",\"\",Databackup!B163)","v":""},{"$f":"Databackup!C163","v":""},{"$f":"Databackup!D163","v":""},{"$f":"Databackup!E163","v":""},{"$f":"Databackup!F163","v":""},{"$f":"Databackup!G163","v":""},{"$f":"Databackup!I163","v":""},{"$f":"Databackup!J163","v":""},{"$f":"Databackup!K163","v":""},{"$f":"Databackup!L163","v":""},{"$f":"Databackup!M163","v":""},{"$f":"IF(Databackup!N163>0,Databackup!N163,\"--.--\")","v":""},"  Designation  "]
[{"$f":"IF(Databackup!B164=\"\",\"\",Databackup!B164)","v":""},{"$f":"Databackup!C164","v":""},{"$f":"Databackup!D164","v":""},{"$f":"Databackup!E164","v":""},{"$f":"Databackup!F164","v":""},{"$f":"Databackup!G164","v":""},{"$f":"Databackup!I164","v":""},{"$f":"Databackup!J164","v":""},{"$f":"Databackup!K164","v":""},{"$f":"Databackup!L164","v":""},{"$f":"Databackup!M164","v":""},{"$f":"IF(Databackup!N164>0,Databackup!N164,\"--.--\")","v":""},"  Designation  "]
[{"$f":"IF(Databackup!B165=\"\",\"\",Databackup!B165)","v":""},{"$f":"Databackup!C165","v":""},{"$f":"Databackup!D165","v":""},{"$f":"Databackup!E165","v":""},{"$f":"Databackup!F165","v":""},{"$f":"Databackup!G165","v":""},{"$f":"Databackup!I165","v":""},{"$f":"Databackup!J165","v":""},{"$f":"Databackup!K165","v":""},{"$f":"Databackup!L165","v":""},{"$f":"Databackup!M165","v":""},{"$f":"IF(Databackup!N165>0,Databackup!N165,\"--.--\")","v":""},"  Designation  "]
[{"$f":"IF(Databackup!B166=\"\",\"\",Databackup!B166)","v":""},{"$f":"Databackup!C166","v":""},{"$f":"Databackup!D166","v":""},{"$f":"Databackup!E166","v":""},{"$f":"Databackup!F166","v":""},{"$f":"Databackup!G166","v":""},{"$f":"Databackup!I166","v":""},{"$f":"Databackup!J166","v":""},{"$f":"Databackup!K166","v":""},{"$f":"Databackup!L166","v":""},{"$f":"Databackup!M166","v":""},{"$f":"IF(Databackup!N166>0,Databackup!N166,\"--.--\")","v":""},"  Designation  "]
[{"$f":"IF(Databackup!B167=\"\",\"\",Databackup!B167)","v":""},{"$f":"Databackup!C167","v":""},{"$f":"Databackup!D167","v":""},{"$f":"Databackup!E167","v":""},{"$f":"Databackup!F167","v":""},{"$f":"Databackup!G167","v":""},{"$f":"Databackup!I167","v":""},{"$f":"Databackup!J167","v":""},{"$f":"Databackup!K167","v":""},{"$f":"Databackup!L167","v":""},{"$f":"Databackup!M167","v":""},{"$f":"IF(Databackup!N167>0,Databackup!N167,\"--.--\")","v":""},"  Designation  "]
[{"$f":"IF(Databackup!B168=\"\",\"\",Databackup!B168)","v":""},{"$f":"Databackup!C168","v":""},{"$f":"Databackup!D168","v":""},{"$f":"Databackup!E168","v":""},{"$f":"Databackup!F168","v":""},{"$f":"Databackup!G168","v":""},{"$f":"Databackup!I168","v":""},{"$f":"Databackup!J168","v":""},{"$f":"Databackup!K168","v":""},{"$f":"Databackup!L168","v":""},{"$f":"Databackup!M168","v":""},{"$f":"IF(Databackup!N168>0,Databackup!N168,\"--.--\")","v":""},"  Designation  "]
[{"$f":"IF(Databackup!B169=\"\",\"\",Databackup!B169)","v":""},{"$f":"Databackup!C169","v":""},{"$f":"Databackup!D169","v":""},{"$f":"Databackup!E169","v":""},{"$f":"Databackup!F169","v":""},{"$f":"Databackup!G169","v":""},{"$f":"Databackup!I169","v":""},{"$f":"Databackup!J169","v":""},{"$f":"Databackup!K169","v":""},{"$f":"Databackup!L169","v":""},{"$f":"Databackup!M169","v":""},{"$f":"IF(Databackup!N169>0,Databackup!N169,\"--.--\")","v":""},"  Designation  "]
[{"$f":"IF(Databackup!B170=\"\",\"\",Databackup!B170)","v":""},{"$f":"Databackup!C170","v":""},{"$f":"Databackup!D170","v":""},{"$f":"Databackup!E170","v":""},{"$f":"Databackup!F170","v":""},{"$f":"Databackup!G170","v":""},{"$f":"Databackup!I170","v":""},{"$f":"Databackup!J170","v":""},{"$f":"Databackup!K170","v":""},{"$f":"Databackup!L170","v":""},{"$f":"Databackup!M170","v":""},{"$f":"IF(Databackup!N170>0,Databackup!N170,\"--.--\")","v":""},"  Designation  "]
[{"$f":"IF(Databackup!B171=\"\",\"\",Databackup!B171)","v":""},{"$f":"Databackup!C171","v":""},{"$f":"Databackup!D171","v":""},{"$f":"Databackup!E171","v":""},{"$f":"Databackup!F171","v":""},{"$f":"Databackup!G171","v":""},{"$f":"Databackup!I171","v":""},{"$f":"Databackup!J171","v":""},{"$f":"Databackup!K171","v":""},{"$f":"Databackup!L171","v":""},{"$f":"Databackup!M171","v":""},{"$f":"IF(Databackup!N171>0,Databackup!N171,\"--.--\")","v":""},"  Designation  "]
[{"$f":"IF(Databackup!B172=\"\",\"\",Databackup!B172)","v":""},{"$f":"Databackup!C172","v":""},{"$f":"Databackup!D172","v":""},{"$f":"Databackup!E172","v":""},{"$f":"Databackup!F172","v":""},{"$f":"Databackup!G172","v":""},{"$f":"Databackup!I172","v":""},{"$f":"Databackup!J172","v":""},{"$f":"Databackup!K172","v":""},{"$f":"Databackup!L172","v":""},{"$f":"Databackup!M172","v":""},{"$f":"IF(Databackup!N172>0,Databackup!N172,\"--.--\")","v":""},"  Designation  "]
[{"$f":"IF(Databackup!B173=\"\",\"\",Databackup!B173)","v":""},{"$f":"Databackup!C173","v":""},{"$f":"Databackup!D173","v":""},{"$f":"Databackup!E173","v":""},{"$f":"Databackup!F173","v":""},{"$f":"Databackup!G173","v":""},{"$f":"Databackup!I173","v":""},{"$f":"Databackup!J173","v":""},{"$f":"Databackup!K173","v":""},{"$f":"Databackup!L173","v":""},{"$f":"Databackup!M173","v":""},{"$f":"IF(Databackup!N173>0,Databackup!N173,\"--.--\")","v":""},"  Designation  "]
[{"$f":"IF(Databackup!B174=\"\",\"\",Databackup!B174)","v":""},{"$f":"Databackup!C174","v":""},{"$f":"Databackup!D174","v":""},{"$f":"Databackup!E174","v":""},{"$f":"Databackup!F174","v":""},{"$f":"Databackup!G174","v":""},{"$f":"Databackup!I174","v":""},{"$f":"Databackup!J174","v":""},{"$f":"Databackup!K174","v":""},{"$f":"Databackup!L174","v":""},{"$f":"Databackup!M174","v":""},{"$f":"IF(Databackup!N174>0,Databackup!N174,\"--.--\")","v":""},"  Designation  "]
[{"$f":"IF(Databackup!B175=\"\",\"\",Databackup!B175)","v":""},{"$f":"Databackup!C175","v":""},{"$f":"Databackup!D175","v":""},{"$f":"Databackup!E175","v":""},{"$f":"Databackup!F175","v":""},{"$f":"Databackup!G175","v":""},{"$f":"Databackup!I175","v":""},{"$f":"Databackup!J175","v":""},{"$f":"Databackup!K175","v":""},{"$f":"Databackup!L175","v":""},{"$f":"Databackup!M175","v":""},{"$f":"IF(Databackup!N175>0,Databackup!N175,\"--.--\")","v":""},"  Designation  "]
[{"$f":"IF(Databackup!B176=\"\",\"\",Databackup!B176)","v":""},{"$f":"Databackup!C176","v":""},{"$f":"Databackup!D176","v":""},{"$f":"Databackup!E176","v":""},{"$f":"Databackup!F176","v":""},{"$f":"Databackup!G176","v":""},{"$f":"Databackup!I176","v":""},{"$f":"Databackup!J176","v":""},{"$f":"Databackup!K176","v":""},{"$f":"Databackup!L176","v":""},{"$f":"Databackup!M176","v":""},{"$f":"IF(Databackup!N176>0,Databackup!N176,\"--.--\")","v":""},"  Designation  "]
[{"$f":"IF(Databackup!B177=\"\",\"\",Databackup!B177)","v":""},{"$f":"Databackup!C177","v":""},{"$f":"Databackup!D177","v":""},{"$f":"Databackup!E177","v":""},{"$f":"Databackup!F177","v":""},{"$f":"Databackup!G177","v":""},{"$f":"Databackup!I177","v":""},{"$f":"Databackup!J177","v":""},{"$f":"Databackup!K177","v":""},{"$f":"Databackup!L177","v":""},{"$f":"Databackup!M177","v":""},{"$f":"IF(Databackup!N177>0,Databackup!N177,\"--.--\")","v":""},"  Designation  "]
[{"$f":"IF(Databackup!B178=\"\",\"\",Databackup!B178)","v":""},{"$f":"Databackup!C178","v":""},{"$f":"Databackup!D178","v":""},{"$f":"Databackup!E178","v":""},{"$f":"Databackup!F178","v":""},{"$f":"Databackup!G178","v":""},{"$f":"Databackup!I178","v":""},{"$f":"Databackup!J178","v":""},{"$f":"Databackup!K178","v":""},{"$f":"Databackup!L178","v":""},{"$f":"Databackup!M178","v":""},{"$f":"IF(Databackup!N178>0,Databackup!N178,\"--.--\")","v":""},"  Designation  "]
[{"$f":"IF(Databackup!B179=\"\",\"\",Databackup!B179)","v":""},{"$f":"Databackup!C179","v":""},{"$f":"Databackup!D179","v":""},{"$f":"Databackup!E179","v":""},{"$f":"Databackup!F179","v":""},{"$f":"Databackup!G179","v":""},{"$f":"Databackup!I179","v":""},{"$f":"Databackup!J179","v":""},{"$f":"Databackup!K179","v":""},{"$f":"Databackup!L179","v":""},{"$f":"Databackup!M179","v":""},{"$f":"IF(Databackup!N179>0,Databackup!N179,\"--.--\")","v":""},"  Designation  "]
[{"$f":"IF(Databackup!B180=\"\",\"\",Databackup!B180)","v":""},{"$f":"Databackup!C180","v":""},{"$f":"Databackup!D180","v":""},{"$f":"Databackup!E180","v":""},{"$f":"Databackup!F180","v":""},{"$f":"Databackup!G180","v":""},{"$f":"Databackup!I180","v":""},{"$f":"Databackup!J180","v":""},{"$f":"Databackup!K180","v":""},{"$f":"Databackup!L180","v":""},{"$f":"Databackup!M180","v":""},{"$f":"IF(Databackup!N180>0,Databackup!N180,\"--.--\")","v":""},"  Designation  "]
[{"$f":"IF(Databackup!B181=\"\",\"\",Databackup!B181)","v":""},{"$f":"Databackup!C181","v":""},{"$f":"Databackup!D181","v":""},{"$f":"Databackup!E181","v":""},{"$f":"Databackup!F181","v":""},{"$f":"Databackup!G181","v":""},{"$f":"Databackup!I181","v":""},{"$f":"Databackup!J181","v":""},{"$f":"Databackup!K181","v":""},{"$f":"Databackup!L181","v":""},{"$f":"Databackup!M181","v":""},{"$f":"IF(Databackup!N181>0,Databackup!N181,\"--.--\")","v":""},"  Designation  "]
[{"$f":"IF(Databackup!B182=\"\",\"\",Databackup!B182)","v":""},{"$f":"Databackup!C182","v":""},{"$f":"Databackup!D182","v":""},{"$f":"Databackup!E182","v":""},{"$f":"Databackup!F182","v":""},{"$f":"Databackup!G182","v":""},{"$f":"Databackup!I182","v":""},{"$f":"Databackup!J182","v":""},{"$f":"Databackup!K182","v":""},{"$f":"Databackup!L182","v":""},{"$f":"Databackup!M182","v":""},{"$f":"IF(Databackup!N182>0,Databackup!N182,\"--.--\")","v":""},"  Designation  "]
[{"$f":"IF(Databackup!B183=\"\",\"\",Databackup!B183)","v":""},{"$f":"Databackup!C183","v":""},{"$f":"Databackup!D183","v":""},{"$f":"Databackup!E183","v":""},{"$f":"Databackup!F183","v":""},{"$f":"Databackup!G183","v":""},{"$f":"Databackup!I183","v":""},{"$f":"Databackup!J183","v":""},{"$f":"Databackup!K183","v":""},{"$f":"Databackup!L183","v":""},{"$f":"Databackup!M183","v":""},{"$f":"IF(Databackup!N183>0,Databackup!N183,\"--.--\")","v":""},"  Designation  "]
[{"$f":"IF(Databackup!B184=\"\",\"\",Databackup!B184)","v":""},{"$f":"Databackup!C184","v":""},{"$f":"Databackup!D184","v":""},{"$f":"Databackup!E184","v":""},{"$f":"Databackup!F184","v":""},{"$f":"Databackup!G184","v":""},{"$f":"Databackup!I184","v":""},{"$f":"Databackup!J184","v":""},{"$f":"Databackup!K184","v":""},{"$f":"Databackup!L184","v":""},{"$f":"Databackup!M184","v":""},{"$f":"IF(Databackup!N184>0,Databackup!N184,\"--.--\")","v":""},"  Designation  "]
[{"$f":"IF(Databackup!B185=\"\",\"\",Databackup!B185)","v":""},{"$f":"Databackup!C185","v":""},{"$f":"Databackup!D185","v":""},{"$f":"Databackup!E185","v":""},{"$f":"Databackup!F185","v":""},{"$f":"Databackup!G185","v":""},{"$f":"Databackup!I185","v":""},{"$f":"Databackup!J185","v":""},{"$f":"Databackup!K185","v":""},{"$f":"Databackup!L185","v":""},{"$f":"Databackup!M185","v":""},{"$f":"IF(Databackup!N185>0,Databackup!N185,\"--.--\")","v":""},"  Designation  "]
[{"$f":"IF(Databackup!B186=\"\",\"\",Databackup!B186)","v":""},{"$f":"Databackup!C186","v":""},{"$f":"Databackup!D186","v":""},{"$f":"Databackup!E186","v":""},{"$f":"Databackup!F186","v":""},{"$f":"Databackup!G186","v":""},{"$f":"Databackup!I186","v":""},{"$f":"Databackup!J186","v":""},{"$f":"Databackup!K186","v":""},{"$f":"Databackup!L186","v":""},{"$f":"Databackup!M186","v":""},{"$f":"IF(Databackup!N186>0,Databackup!N186,\"--.--\")","v":""},"  Designation  "]
[{"$f":"IF(Databackup!B187=\"\",\"\",Databackup!B187)","v":""},{"$f":"Databackup!C187","v":""},{"$f":"Databackup!D187","v":""},{"$f":"Databackup!E187","v":""},{"$f":"Databackup!F187","v":""},{"$f":"Databackup!G187","v":""},{"$f":"Databackup!I187","v":""},{"$f":"Databackup!J187","v":""},{"$f":"Databackup!K187","v":""},{"$f":"Databackup!L187","v":""},{"$f":"Databackup!M187","v":""},{"$f":"IF(Databackup!N187>0,Databackup!N187,\"--.--\")","v":""},"  Designation  "]
[{"$f":"IF(Databackup!B188=\"\",\"\",Databackup!B188)","v":""},{"$f":"Databackup!C188","v":""},{"$f":"Databackup!D188","v":""},{"$f":"Databackup!E188","v":""},{"$f":"Databackup!F188","v":""},{"$f":"Databackup!G188","v":""},{"$f":"Databackup!I188","v":""},{"$f":"Databackup!J188","v":""},{"$f":"Databackup!K188","v":""},{"$f":"Databackup!L188","v":""},{"$f":"Databackup!M188","v":""},{"$f":"IF(Databackup!N188>0,Databackup!N188,\"--.--\")","v":""},"  Designation  "]
[{"$f":"IF(Databackup!B189=\"\",\"\",Databackup!B189)","v":""},{"$f":"Databackup!C189","v":""},{"$f":"Databackup!D189","v":""},{"$f":"Databackup!E189","v":""},{"$f":"Databackup!F189","v":""},{"$f":"Databackup!G189","v":""},{"$f":"Databackup!I189","v":""},{"$f":"Databackup!J189","v":""},{"$f":"Databackup!K189","v":""},{"$f":"Databackup!L189","v":""},{"$f":"Databackup!M189","v":""},{"$f":"IF(Databackup!N189>0,Databackup!N189,\"--.--\")","v":""},"  Designation  "]
[{"$f":"IF(Databackup!B190=\"\",\"\",Databackup!B190)","v":""},{"$f":"Databackup!C190","v":""},{"$f":"Databackup!D190","v":""},{"$f":"Databackup!E190","v":""},{"$f":"Databackup!F190","v":""},{"$f":"Databackup!G190","v":""},{"$f":"Databackup!I190","v":""},{"$f":"Databackup!J190","v":""},{"$f":"Databackup!K190","v":""},{"$f":"Databackup!L190","v":""},{"$f":"Databackup!M190","v":""},{"$f":"IF(Databackup!N190>0,Databackup!N190,\"--.--\")","v":""},"  Designation  "]
[{"$f":"IF(Databackup!B191=\"\",\"\",Databackup!B191)","v":""},{"$f":"Databackup!C191","v":""},{"$f":"Databackup!D191","v":""},{"$f":"Databackup!E191","v":""},{"$f":"Databackup!F191","v":""},{"$f":"Databackup!G191","v":""},{"$f":"Databackup!I191","v":""},{"$f":"Databackup!J191","v":""},{"$f":"Databackup!K191","v":""},{"$f":"Databackup!L191","v":""},{"$f":"Databackup!M191","v":""},{"$f":"IF(Databackup!N191>0,Databackup!N191,\"--.--\")","v":""},"  Designation  "]
[{"$f":"IF(Databackup!B192=\"\",\"\",Databackup!B192)","v":""},{"$f":"Databackup!C192","v":""},{"$f":"Databackup!D192","v":""},{"$f":"Databackup!E192","v":""},{"$f":"Databackup!F192","v":""},{"$f":"Databackup!G192","v":""},{"$f":"Databackup!I192","v":""},{"$f":"Databackup!J192","v":""},{"$f":"Databackup!K192","v":""},{"$f":"Databackup!L192","v":""},{"$f":"Databackup!M192","v":""},{"$f":"IF(Databackup!N192>0,Databackup!N192,\"--.--\")","v":""},"  Designation  "]
[{"$f":"IF(Databackup!B193=\"\",\"\",Databackup!B193)","v":""},{"$f":"Databackup!C193","v":""},{"$f":"Databackup!D193","v":""},{"$f":"Databackup!E193","v":""},{"$f":"Databackup!F193","v":""},{"$f":"Databackup!G193","v":""},{"$f":"Databackup!I193","v":""},{"$f":"Databackup!J193","v":""},{"$f":"Databackup!K193","v":""},{"$f":"Databackup!L193","v":""},{"$f":"Databackup!M193","v":""},{"$f":"IF(Databackup!N193>0,Databackup!N193,\"--.--\")","v":""},"  Designation  "]
[{"$f":"IF(Databackup!B194=\"\",\"\",Databackup!B194)","v":""},{"$f":"Databackup!C194","v":""},{"$f":"Databackup!D194","v":""},{"$f":"Databackup!E194","v":""},{"$f":"Databackup!F194","v":""},{"$f":"Databackup!G194","v":""},{"$f":"Databackup!I194","v":""},{"$f":"Databackup!J194","v":""},{"$f":"Databackup!K194","v":""},{"$f":"Databackup!L194","v":""},{"$f":"Databackup!M194","v":""},{"$f":"IF(Databackup!N194>0,Databackup!N194,\"--.--\")","v":""},"  Designation  "]
[{"$f":"IF(Databackup!B195=\"\",\"\",Databackup!B195)","v":""},{"$f":"Databackup!C195","v":""},{"$f":"Databackup!D195","v":""},{"$f":"Databackup!E195","v":""},{"$f":"Databackup!F195","v":""},{"$f":"Databackup!G195","v":""},{"$f":"Databackup!I195","v":""},{"$f":"Databackup!J195","v":""},{"$f":"Databackup!K195","v":""},{"$f":"Databackup!L195","v":""},{"$f":"Databackup!M195","v":""},{"$f":"IF(Databackup!N195>0,Databackup!N195,\"--.--\")","v":""},"  Designation  "]
[{"$f":"IF(Databackup!B196=\"\",\"\",Databackup!B196)","v":""},{"$f":"Databackup!C196","v":""},{"$f":"Databackup!D196","v":""},{"$f":"Databackup!E196","v":""},{"$f":"Databackup!F196","v":""},{"$f":"Databackup!G196","v":""},{"$f":"Databackup!I196","v":""},{"$f":"Databackup!J196","v":""},{"$f":"Databackup!K196","v":""},{"$f":"Databackup!L196","v":""},{"$f":"Databackup!M196","v":""},{"$f":"IF(Databackup!N196>0,Databackup!N196,\"--.--\")","v":""},"  Designation  "]
[{"$f":"IF(Databackup!B197=\"\",\"\",Databackup!B197)","v":""},{"$f":"Databackup!C197","v":""},{"$f":"Databackup!D197","v":""},{"$f":"Databackup!E197","v":""},{"$f":"Databackup!F197","v":""},{"$f":"Databackup!G197","v":""},{"$f":"Databackup!I197","v":""},{"$f":"Databackup!J197","v":""},{"$f":"Databackup!K197","v":""},{"$f":"Databackup!L197","v":""},{"$f":"Databackup!M197","v":""},{"$f":"IF(Databackup!N197>0,Databackup!N197,\"--.--\")","v":""},"  Designation  "]
[{"$f":"IF(Databackup!B198=\"\",\"\",Databackup!B198)","v":""},{"$f":"Databackup!C198","v":""},{"$f":"Databackup!D198","v":""},{"$f":"Databackup!E198","v":""},{"$f":"Databackup!F198","v":""},{"$f":"Databackup!G198","v":""},{"$f":"Databackup!I198","v":""},{"$f":"Databackup!J198","v":""},{"$f":"Databackup!K198","v":""},{"$f":"Databackup!L198","v":""},{"$f":"Databackup!M198","v":""},{"$f":"IF(Databackup!N198>0,Databackup!N198,\"--.--\")","v":""},"  Designation  "]
[{"$f":"IF(Databackup!B199=\"\",\"\",Databackup!B199)","v":""},{"$f":"Databackup!C199","v":""},{"$f":"Databackup!D199","v":""},{"$f":"Databackup!E199","v":""},{"$f":"Databackup!F199","v":""},{"$f":"Databackup!G199","v":""},{"$f":"Databackup!I199","v":""},{"$f":"Databackup!J199","v":""},{"$f":"Databackup!K199","v":""},{"$f":"Databackup!L199","v":""},{"$f":"Databackup!M199","v":""},{"$f":"IF(Databackup!N199>0,Databackup!N199,\"--.--\")","v":""},{"$f":"CONCATENATE(B211,\"  \",\"Designation\",\"  \",C211)","v":"  Designation  "}]
[{"$f":"IF(Databackup!B200=\"\",\"\",Databackup!B200)","v":""},{"$f":"Databackup!C200","v":""},{"$f":"Databackup!D200","v":""},{"$f":"Databackup!E200","v":""},{"$f":"Databackup!F200","v":""},{"$f":"Databackup!G200","v":""},{"$f":"Databackup!I200","v":""},{"$f":"Databackup!J200","v":""},{"$f":"Databackup!K200","v":""},{"$f":"Databackup!L200","v":""},{"$f":"Databackup!M200","v":""},{"$f":"IF(Databackup!N200>0,Databackup!N200,\"--.--\")","v":""},"  Designation  "]
[{"$f":"IF(Databackup!B201=\"\",\"\",Databackup!B201)","v":""},{"$f":"Databackup!C201","v":""},{"$f":"Databackup!D201","v":""},{"$f":"Databackup!E201","v":""},{"$f":"Databackup!F201","v":""},{"$f":"Databackup!G201","v":""},{"$f":"Databackup!I201","v":""},{"$f":"Databackup!J201","v":""},{"$f":"Databackup!K201","v":""},{"$f":"Databackup!L201","v":""},{"$f":"Databackup!M201","v":""},{"$f":"IF(Databackup!N201>0,Databackup!N201,\"--.--\")","v":""},"  Designation  "]
[{"$f":"IF(Databackup!B202=\"\",\"\",Databackup!B202)","v":""},{"$f":"Databackup!C202","v":""},{"$f":"Databackup!D202","v":""},{"$f":"Databackup!E202","v":""},{"$f":"Databackup!F202","v":""},{"$f":"Databackup!G202","v":""},{"$f":"Databackup!I202","v":""},{"$f":"Databackup!J202","v":""},{"$f":"Databackup!K202","v":""},{"$f":"Databackup!L202","v":""},{"$f":"Databackup!M202","v":""},{"$f":"IF(Databackup!N202>0,Databackup!N202,\"--.--\")","v":""},"  Designation  "]
[{"$f":"IF(Databackup!B203=\"\",\"\",Databackup!B203)","v":""},{"$f":"Databackup!C203","v":""},{"$f":"Databackup!D203","v":""},{"$f":"Databackup!E203","v":""},{"$f":"Databackup!F203","v":""},{"$f":"Databackup!G203","v":""},{"$f":"Databackup!I203","v":""},{"$f":"Databackup!J203","v":""},{"$f":"Databackup!K203","v":""},{"$f":"Databackup!L203","v":""},{"$f":"Databackup!M203","v":""},{"$f":"IF(Databackup!N203>0,Databackup!N203,\"--.--\")","v":""},"  Designation  "]
[{"$f":"IF(Databackup!B204=\"\",\"\",Databackup!B204)","v":""},{"$f":"Databackup!C204","v":""},{"$f":"Databackup!D204","v":""},{"$f":"Databackup!E204","v":""},{"$f":"Databackup!F204","v":""},{"$f":"Databackup!G204","v":""},{"$f":"Databackup!I204","v":""},{"$f":"Databackup!J204","v":""},{"$f":"Databackup!K204","v":""},{"$f":"Databackup!L204","v":""},{"$f":"Databackup!M204","v":""},{"$f":"IF(Databackup!N204>0,Databackup!N204,\"--.--\")","v":""},"  Designation  "]
[{"$f":"IF(Databackup!B205=\"\",\"\",Databackup!B205)","v":""},{"$f":"Databackup!C205","v":""},{"$f":"Databackup!D205","v":""},{"$f":"Databackup!E205","v":""},{"$f":"Databackup!F205","v":""},{"$f":"Databackup!G205","v":""},{"$f":"Databackup!I205","v":""},{"$f":"Databackup!J205","v":""},{"$f":"Databackup!K205","v":""},{"$f":"Databackup!L205","v":""},{"$f":"Databackup!M205","v":""},{"$f":"IF(Databackup!N205>0,Databackup!N205,\"--.--\")","v":""},"  Designation  "]
[{"$f":"IF(Databackup!B206=\"\",\"\",Databackup!B206)","v":""},{"$f":"Databackup!C206","v":""},{"$f":"Databackup!D206","v":""},{"$f":"Databackup!E206","v":""},{"$f":"Databackup!F206","v":""},{"$f":"Databackup!G206","v":""},{"$f":"Databackup!I206","v":""},{"$f":"Databackup!J206","v":""},{"$f":"Databackup!K206","v":""},{"$f":"Databackup!L206","v":""},{"$f":"Databackup!M206","v":""},{"$f":"IF(Databackup!N206>0,Databackup!N206,\"--.--\")","v":""},"  Designation  "]
[{"$f":"IF(Databackup!B207=\"\",\"\",Databackup!B207)","v":""},{"$f":"Databackup!C207","v":""},{"$f":"Databackup!D207","v":""},{"$f":"Databackup!E207","v":""},{"$f":"Databackup!F207","v":""},{"$f":"Databackup!G207","v":""},{"$f":"Databackup!I207","v":""},{"$f":"Databackup!J207","v":""},{"$f":"Databackup!K207","v":""},{"$f":"Databackup!L207","v":""},{"$f":"Databackup!M207","v":""},{"$f":"IF(Databackup!N207>0,Databackup!N207,\"--.--\")","v":""},"  Designation  "]
[{"$f":"IF(Databackup!B208=\"\",\"\",Databackup!B208)","v":""},{"$f":"Databackup!C208","v":""},{"$f":"Databackup!D208","v":""},{"$f":"Databackup!E208","v":""},{"$f":"Databackup!F208","v":""},{"$f":"Databackup!G208","v":""},{"$f":"Databackup!I208","v":""},{"$f":"Databackup!J208","v":""},{"$f":"Databackup!K208","v":""},{"$f":"Databackup!L208","v":""},{"$f":"Databackup!M208","v":""},{"$f":"IF(Databackup!N208>0,Databackup!N208,\"--.--\")","v":""},"  Designation  "]
[{"$f":"IF(Databackup!B209=\"\",\"\",Databackup!B209)","v":""},{"$f":"Databackup!C209","v":""},{"$f":"Databackup!D209","v":""},{"$f":"Databackup!E209","v":""},{"$f":"Databackup!F209","v":""},{"$f":"Databackup!G209","v":""},{"$f":"Databackup!I209","v":""},{"$f":"Databackup!J209","v":""},{"$f":"Databackup!K209","v":""},{"$f":"Databackup!L209","v":""},{"$f":"Databackup!M209","v":""},{"$f":"IF(Databackup!N209>0,Databackup!N209,\"--.--\")","v":""},"  Designation  "]
[{"$f":"IF(Databackup!B210=\"\",\"\",Databackup!B210)","v":""},{"$f":"Databackup!C210","v":""},{"$f":"Databackup!D210","v":""},{"$f":"Databackup!E210","v":""},{"$f":"Databackup!F210","v":""},{"$f":"Databackup!G210","v":""},{"$f":"Databackup!I210","v":""},{"$f":"Databackup!J210","v":""},{"$f":"Databackup!K210","v":""},{"$f":"Databackup!L210","v":""},{"$f":"Databackup!M210","v":""},{"$f":"IF(Databackup!N210>0,Databackup!N210,\"--.--\")","v":""},"  Designation  "]
[{"$f":"IF(Databackup!B211=\"\",\"\",Databackup!B211)","v":""},{"$f":"Databackup!C211","v":""},{"$f":"Databackup!D211","v":""},{"$f":"Databackup!E211","v":""},{"$f":"Databackup!F211","v":""},{"$f":"Databackup!G211","v":""},{"$f":"Databackup!I211","v":""},{"$f":"Databackup!J211","v":""},{"$f":"Databackup!K211","v":""},{"$f":"Databackup!L211","v":""},{"$f":"Databackup!M211","v":""},{"$f":"IF(Databackup!N211>0,Databackup!N211,\"--.--\")","v":""},"  Designation  "]
[{"$f":"IF(Databackup!B212=\"\",\"\",Databackup!B212)","v":""},{"$f":"Databackup!C212","v":""},{"$f":"Databackup!D212","v":""},{"$f":"Databackup!E212","v":""},{"$f":"Databackup!F212","v":""},{"$f":"Databackup!G212","v":""},{"$f":"Databackup!I212","v":""},{"$f":"Databackup!J212","v":""},{"$f":"Databackup!K212","v":""},{"$f":"Databackup!L212","v":""},{"$f":"Databackup!M212","v":""},{"$f":"IF(Databackup!N212>0,Databackup!N212,\"--.--\")","v":""},"  Designation  "]
[{"$f":"IF(Databackup!B213=\"\",\"\",Databackup!B213)","v":""},{"$f":"Databackup!C213","v":""},{"$f":"Databackup!D213","v":""},{"$f":"Databackup!E213","v":""},{"$f":"Databackup!F213","v":""},{"$f":"Databackup!G213","v":""},{"$f":"Databackup!I213","v":""},{"$f":"Databackup!J213","v":""},{"$f":"Databackup!K213","v":""},{"$f":"Databackup!L213","v":""},{"$f":"Databackup!M213","v":""},{"$f":"IF(Databackup!N213>0,Databackup!N213,\"--.--\")","v":""},"  Designation  "]
[{"$f":"IF(Databackup!B214=\"\",\"\",Databackup!B214)","v":""},{"$f":"Databackup!C214","v":""},{"$f":"Databackup!D214","v":""},{"$f":"Databackup!E214","v":""},{"$f":"Databackup!F214","v":""},{"$f":"Databackup!G214","v":""},{"$f":"Databackup!I214","v":""},{"$f":"Databackup!J214","v":""},{"$f":"Databackup!K214","v":""},{"$f":"Databackup!L214","v":""},{"$f":"Databackup!M214","v":""},{"$f":"IF(Databackup!N214>0,Databackup!N214,\"--.--\")","v":""},"  Designation  "]
[{"$f":"IF(Databackup!B215=\"\",\"\",Databackup!B215)","v":""},{"$f":"Databackup!C215","v":""},{"$f":"Databackup!D215","v":""},{"$f":"Databackup!E215","v":""},{"$f":"Databackup!F215","v":""},{"$f":"Databackup!G215","v":""},{"$f":"Databackup!I215","v":""},{"$f":"Databackup!J215","v":""},{"$f":"Databackup!K215","v":""},{"$f":"Databackup!L215","v":""},{"$f":"Databackup!M215","v":""},{"$f":"IF(Databackup!N215>0,Databackup!N215,\"--.--\")","v":""},"  Designation  "]
[{"$f":"IF(Databackup!B216=\"\",\"\",Databackup!B216)","v":""},{"$f":"Databackup!C216","v":""},{"$f":"Databackup!D216","v":""},{"$f":"Databackup!E216","v":""},{"$f":"Databackup!F216","v":""},{"$f":"Databackup!G216","v":""},{"$f":"Databackup!I216","v":""},{"$f":"Databackup!J216","v":""},{"$f":"Databackup!K216","v":""},{"$f":"Databackup!L216","v":""},{"$f":"Databackup!M216","v":""},{"$f":"IF(Databackup!N216>0,Databackup!N216,\"--.--\")","v":""},"  Designation  "]
[{"$f":"IF(Databackup!B217=\"\",\"\",Databackup!B217)","v":""},{"$f":"Databackup!C217","v":""},{"$f":"Databackup!D217","v":""},{"$f":"Databackup!E217","v":""},{"$f":"Databackup!F217","v":""},{"$f":"Databackup!G217","v":""},{"$f":"Databackup!I217","v":""},{"$f":"Databackup!J217","v":""},{"$f":"Databackup!K217","v":""},{"$f":"Databackup!L217","v":""},{"$f":"Databackup!M217","v":""},{"$f":"IF(Databackup!N217>0,Databackup!N217,\"--.--\")","v":""},"  Designation  "]
[{"$f":"IF(Databackup!B218=\"\",\"\",Databackup!B218)","v":""},{"$f":"Databackup!C218","v":""},{"$f":"Databackup!D218","v":""},{"$f":"Databackup!E218","v":""},{"$f":"Databackup!F218","v":""},{"$f":"Databackup!G218","v":""},{"$f":"Databackup!I218","v":""},{"$f":"Databackup!J218","v":""},{"$f":"Databackup!K218","v":""},{"$f":"Databackup!L218","v":""},{"$f":"Databackup!M218","v":""},{"$f":"IF(Databackup!N218>0,Databackup!N218,\"--.--\")","v":""},"  Designation  "]
[{"$f":"IF(Databackup!B219=\"\",\"\",Databackup!B219)","v":""},{"$f":"Databackup!C219","v":""},{"$f":"Databackup!D219","v":""},{"$f":"Databackup!E219","v":""},{"$f":"Databackup!F219","v":""},{"$f":"Databackup!G219","v":""},{"$f":"Databackup!I219","v":""},{"$f":"Databackup!J219","v":""},{"$f":"Databackup!K219","v":""},{"$f":"Databackup!L219","v":""},{"$f":"Databackup!M219","v":""},{"$f":"IF(Databackup!N219>0,Databackup!N219,\"--.--\")","v":""},"  Designation  "]
[{"$f":"IF(Databackup!B220=\"\",\"\",Databackup!B220)","v":""},{"$f":"Databackup!C220","v":""},{"$f":"Databackup!D220","v":""},{"$f":"Databackup!E220","v":""},{"$f":"Databackup!F220","v":""},{"$f":"Databackup!G220","v":""},{"$f":"Databackup!I220","v":""},{"$f":"Databackup!J220","v":""},{"$f":"Databackup!K220","v":""},{"$f":"Databackup!L220","v":""},{"$f":"Databackup!M220","v":""},{"$f":"IF(Databackup!N220>0,Databackup!N220,\"--.--\")","v":""},"  Designation  "]
[{"$f":"IF(Databackup!B221=\"\",\"\",Databackup!B221)","v":""},{"$f":"Databackup!C221","v":""},{"$f":"Databackup!D221","v":""},{"$f":"Databackup!E221","v":""},{"$f":"Databackup!F221","v":""},{"$f":"Databackup!G221","v":""},{"$f":"Databackup!I221","v":""},{"$f":"Databackup!J221","v":""},{"$f":"Databackup!K221","v":""},{"$f":"Databackup!L221","v":""},{"$f":"Databackup!M221","v":""},{"$f":"IF(Databackup!N221>0,Databackup!N221,\"--.--\")","v":""},"  Designation  "]
[{"$f":"IF(Databackup!B222=\"\",\"\",Databackup!B222)","v":""},{"$f":"Databackup!C222","v":""},{"$f":"Databackup!D222","v":""},{"$f":"Databackup!E222","v":""},{"$f":"Databackup!F222","v":""},{"$f":"Databackup!G222","v":""},{"$f":"Databackup!I222","v":""},{"$f":"Databackup!J222","v":""},{"$f":"Databackup!K222","v":""},{"$f":"Databackup!L222","v":""},{"$f":"Databackup!M222","v":""},{"$f":"IF(Databackup!N222>0,Databackup!N222,\"--.--\")","v":""},"  Designation  "]
[{"$f":"IF(Databackup!B223=\"\",\"\",Databackup!B223)","v":""},{"$f":"Databackup!C223","v":""},{"$f":"Databackup!D223","v":""},{"$f":"Databackup!E223","v":""},{"$f":"Databackup!F223","v":""},{"$f":"Databackup!G223","v":""},{"$f":"Databackup!I223","v":""},{"$f":"Databackup!J223","v":""},{"$f":"Databackup!K223","v":""},{"$f":"Databackup!L223","v":""},{"$f":"Databackup!M223","v":""},{"$f":"IF(Databackup!N223>0,Databackup!N223,\"--.--\")","v":""},"  Designation  "]
[{"$f":"IF(Databackup!B224=\"\",\"\",Databackup!B224)","v":""},{"$f":"Databackup!C224","v":""},{"$f":"Databackup!D224","v":""},{"$f":"Databackup!E224","v":""},{"$f":"Databackup!F224","v":""},{"$f":"Databackup!G224","v":""},{"$f":"Databackup!I224","v":""},{"$f":"Databackup!J224","v":""},{"$f":"Databackup!K224","v":""},{"$f":"Databackup!L224","v":""},{"$f":"Databackup!M224","v":""},{"$f":"IF(Databackup!N224>0,Databackup!N224,\"--.--\")","v":""},"  Designation  "]
[{"$f":"IF(Databackup!B225=\"\",\"\",Databackup!B225)","v":""},{"$f":"Databackup!C225","v":""},{"$f":"Databackup!D225","v":""},{"$f":"Databackup!E225","v":""},{"$f":"Databackup!F225","v":""},{"$f":"Databackup!G225","v":""},{"$f":"Databackup!I225","v":""},{"$f":"Databackup!J225","v":""},{"$f":"Databackup!K225","v":""},{"$f":"Databackup!L225","v":""},{"$f":"Databackup!M225","v":""},{"$f":"IF(Databackup!N225>0,Databackup!N225,\"--.--\")","v":""},"  Designation  "]
[{"$f":"IF(Databackup!B226=\"\",\"\",Databackup!B226)","v":""},{"$f":"Databackup!C226","v":""},{"$f":"Databackup!D226","v":""},{"$f":"Databackup!E226","v":""},{"$f":"Databackup!F226","v":""},{"$f":"Databackup!G226","v":""},{"$f":"Databackup!I226","v":""},{"$f":"Databackup!J226","v":""},{"$f":"Databackup!K226","v":""},{"$f":"Databackup!L226","v":""},{"$f":"Databackup!M226","v":""},{"$f":"IF(Databackup!N226>0,Databackup!N226,\"--.--\")","v":""},"  Designation  "]
[{"$f":"IF(Databackup!B227=\"\",\"\",Databackup!B227)","v":""},{"$f":"Databackup!C227","v":""},{"$f":"Databackup!D227","v":""},{"$f":"Databackup!E227","v":""},{"$f":"Databackup!F227","v":""},{"$f":"Databackup!G227","v":""},{"$f":"Databackup!I227","v":""},{"$f":"Databackup!J227","v":""},{"$f":"Databackup!K227","v":""},{"$f":"Databackup!L227","v":""},{"$f":"Databackup!M227","v":""},{"$f":"IF(Databackup!N227>0,Databackup!N227,\"--.--\")","v":""},"  Designation  "]
[{"$f":"IF(Databackup!B228=\"\",\"\",Databackup!B228)","v":""},{"$f":"Databackup!C228","v":""},{"$f":"Databackup!D228","v":""},{"$f":"Databackup!E228","v":""},{"$f":"Databackup!F228","v":""},{"$f":"Databackup!G228","v":""},{"$f":"Databackup!I228","v":""},{"$f":"Databackup!J228","v":""},{"$f":"Databackup!K228","v":""},{"$f":"Databackup!L228","v":""},{"$f":"Databackup!M228","v":""},{"$f":"IF(Databackup!N228>0,Databackup!N228,\"--.--\")","v":""},"  Designation  "]
[{"$f":"IF(Databackup!B229=\"\",\"\",Databackup!B229)","v":""},{"$f":"Databackup!C229","v":""},{"$f":"Databackup!D229","v":""},{"$f":"Databackup!E229","v":""},{"$f":"Databackup!F229","v":""},{"$f":"Databackup!G229","v":""},{"$f":"Databackup!I229","v":""},{"$f":"Databackup!J229","v":""},{"$f":"Databackup!K229","v":""},{"$f":"Databackup!L229","v":""},{"$f":"Databackup!M229","v":""},{"$f":"IF(Databackup!N229>0,Databackup!N229,\"--.--\")","v":""},"  Designation  "]
[{"$f":"IF(Databackup!B230=\"\",\"\",Databackup!B230)","v":""},{"$f":"Databackup!C230","v":""},{"$f":"Databackup!D230","v":""},{"$f":"Databackup!E230","v":""},{"$f":"Databackup!F230","v":""},{"$f":"Databackup!G230","v":""},{"$f":"Databackup!I230","v":""},{"$f":"Databackup!J230","v":""},{"$f":"Databackup!K230","v":""},{"$f":"Databackup!L230","v":""},{"$f":"Databackup!M230","v":""},{"$f":"IF(Databackup!N230>0,Databackup!N230,\"--.--\")","v":""},"  Designation  "]
[{"$f":"IF(Databackup!B231=\"\",\"\",Databackup!B231)","v":""},{"$f":"Databackup!C231","v":""},{"$f":"Databackup!D231","v":""},{"$f":"Databackup!E231","v":""},{"$f":"Databackup!F231","v":""},{"$f":"Databackup!G231","v":""},{"$f":"Databackup!I231","v":""},{"$f":"Databackup!J231","v":""},{"$f":"Databackup!K231","v":""},{"$f":"Databackup!L231","v":""},{"$f":"Databackup!M231","v":""},{"$f":"IF(Databackup!N231>0,Databackup!N231,\"--.--\")","v":""},"  Designation  "]
[{"$f":"IF(Databackup!B232=\"\",\"\",Databackup!B232)","v":""},{"$f":"Databackup!C232","v":""},{"$f":"Databackup!D232","v":""},{"$f":"Databackup!E232","v":""},{"$f":"Databackup!F232","v":""},{"$f":"Databackup!G232","v":""},{"$f":"Databackup!I232","v":""},{"$f":"Databackup!J232","v":""},{"$f":"Databackup!K232","v":""},{"$f":"Databackup!L232","v":""},{"$f":"Databackup!M232","v":""},{"$f":"IF(Databackup!N232>0,Databackup!N232,\"--.--\")","v":""},"  Designation  "]
[{"$f":"IF(Databackup!B233=\"\",\"\",Databackup!B233)","v":""},{"$f":"Databackup!C233","v":""},{"$f":"Databackup!D233","v":""},{"$f":"Databackup!E233","v":""},{"$f":"Databackup!F233","v":""},{"$f":"Databackup!G233","v":""},{"$f":"Databackup!I233","v":""},{"$f":"Databackup!J233","v":""},{"$f":"Databackup!K233","v":""},{"$f":"Databackup!L233","v":""},{"$f":"Databackup!M233","v":""},{"$f":"IF(Databackup!N233>0,Databackup!N233,\"--.--\")","v":""},"  Designation  "]
[{"$f":"IF(Databackup!B234=\"\",\"\",Databackup!B234)","v":""},{"$f":"Databackup!C234","v":""},{"$f":"Databackup!D234","v":""},{"$f":"Databackup!E234","v":""},{"$f":"Databackup!F234","v":""},{"$f":"Databackup!G234","v":""},{"$f":"Databackup!I234","v":""},{"$f":"Databackup!J234","v":""},{"$f":"Databackup!K234","v":""},{"$f":"Databackup!L234","v":""},{"$f":"Databackup!M234","v":""},{"$f":"IF(Databackup!N234>0,Databackup!N234,\"--.--\")","v":""},"  Designation  "]
[{"$f":"IF(Databackup!B235=\"\",\"\",Databackup!B235)","v":""},{"$f":"Databackup!C235","v":""},{"$f":"Databackup!D235","v":""},{"$f":"Databackup!E235","v":""},{"$f":"Databackup!F235","v":""},{"$f":"Databackup!G235","v":""},{"$f":"Databackup!I235","v":""},{"$f":"Databackup!J235","v":""},{"$f":"Databackup!K235","v":""},{"$f":"Databackup!L235","v":""},{"$f":"Databackup!M235","v":""},{"$f":"IF(Databackup!N235>0,Databackup!N235,\"--.--\")","v":""},"  Designation  "]
[{"$f":"IF(Databackup!B236=\"\",\"\",Databackup!B236)","v":""},{"$f":"Databackup!C236","v":""},{"$f":"Databackup!D236","v":""},{"$f":"Databackup!E236","v":""},{"$f":"Databackup!F236","v":""},{"$f":"Databackup!G236","v":""},{"$f":"Databackup!I236","v":""},{"$f":"Databackup!J236","v":""},{"$f":"Databackup!K236","v":""},{"$f":"Databackup!L236","v":""},{"$f":"Databackup!M236","v":""},{"$f":"IF(Databackup!N236>0,Databackup!N236,\"--.--\")","v":""},"  Designation  "]
[{"$f":"IF(Databackup!B237=\"\",\"\",Databackup!B237)","v":""},{"$f":"Databackup!C237","v":""},{"$f":"Databackup!D237","v":""},{"$f":"Databackup!E237","v":""},{"$f":"Databackup!F237","v":""},{"$f":"Databackup!G237","v":""},{"$f":"Databackup!I237","v":""},{"$f":"Databackup!J237","v":""},{"$f":"Databackup!K237","v":""},{"$f":"Databackup!L237","v":""},{"$f":"Databackup!M237","v":""},{"$f":"IF(Databackup!N237>0,Databackup!N237,\"--.--\")","v":""},"  Designation  "]
[{"$f":"IF(Databackup!B238=\"\",\"\",Databackup!B238)","v":""},{"$f":"Databackup!C238","v":""},{"$f":"Databackup!D238","v":""},{"$f":"Databackup!E238","v":""},{"$f":"Databackup!F238","v":""},{"$f":"Databackup!G238","v":""},{"$f":"Databackup!I238","v":""},{"$f":"Databackup!J238","v":""},{"$f":"Databackup!K238","v":""},{"$f":"Databackup!L238","v":""},{"$f":"Databackup!M238","v":""},{"$f":"IF(Databackup!N238>0,Databackup!N238,\"--.--\")","v":""},"  Designation  "]
[{"$f":"IF(Databackup!B239=\"\",\"\",Databackup!B239)","v":""},{"$f":"Databackup!C239","v":""},{"$f":"Databackup!D239","v":""},{"$f":"Databackup!E239","v":""},{"$f":"Databackup!F239","v":""},{"$f":"Databackup!G239","v":""},{"$f":"Databackup!I239","v":""},{"$f":"Databackup!J239","v":""},{"$f":"Databackup!K239","v":""},{"$f":"Databackup!L239","v":""},{"$f":"Databackup!M239","v":""},{"$f":"IF(Databackup!N239>0,Databackup!N239,\"--.--\")","v":""},"  Designation  "]
[{"$f":"IF(Databackup!B240=\"\",\"\",Databackup!B240)","v":""},{"$f":"Databackup!C240","v":""},{"$f":"Databackup!D240","v":""},{"$f":"Databackup!E240","v":""},{"$f":"Databackup!F240","v":""},{"$f":"Databackup!G240","v":""},{"$f":"Databackup!I240","v":""},{"$f":"Databackup!J240","v":""},{"$f":"Databackup!K240","v":""},{"$f":"Databackup!L240","v":""},{"$f":"Databackup!M240","v":""},{"$f":"IF(Databackup!N240>0,Databackup!N240,\"--.--\")","v":""},"  Designation  "]
[{"$f":"IF(Databackup!B241=\"\",\"\",Databackup!B241)","v":""},{"$f":"Databackup!C241","v":""},{"$f":"Databackup!D241","v":""},{"$f":"Databackup!E241","v":""},{"$f":"Databackup!F241","v":""},{"$f":"Databackup!G241","v":""},{"$f":"Databackup!I241","v":""},{"$f":"Databackup!J241","v":""},{"$f":"Databackup!K241","v":""},{"$f":"Databackup!L241","v":""},{"$f":"Databackup!M241","v":""},{"$f":"IF(Databackup!N241>0,Databackup!N241,\"--.--\")","v":""},"  Designation  "]
[{"$f":"IF(Databackup!B242=\"\",\"\",Databackup!B242)","v":""},{"$f":"Databackup!C242","v":""},{"$f":"Databackup!D242","v":""},{"$f":"Databackup!E242","v":""},{"$f":"Databackup!F242","v":""},{"$f":"Databackup!G242","v":""},{"$f":"Databackup!I242","v":""},{"$f":"Databackup!J242","v":""},{"$f":"Databackup!K242","v":""},{"$f":"Databackup!L242","v":""},{"$f":"Databackup!M242","v":""},{"$f":"IF(Databackup!N242>0,Databackup!N242,\"--.--\")","v":""},"  Designation  "]
[{"$f":"IF(Databackup!B243=\"\",\"\",Databackup!B243)","v":""},{"$f":"Databackup!C243","v":""},{"$f":"Databackup!D243","v":""},{"$f":"Databackup!E243","v":""},{"$f":"Databackup!F243","v":""},{"$f":"Databackup!G243","v":""},{"$f":"Databackup!I243","v":""},{"$f":"Databackup!J243","v":""},{"$f":"Databackup!K243","v":""},{"$f":"Databackup!L243","v":""},{"$f":"Databackup!M243","v":""},{"$f":"IF(Databackup!N243>0,Databackup!N243,\"--.--\")","v":""},"  Designation  "]
[{"$f":"IF(Databackup!B244=\"\",\"\",Databackup!B244)","v":""},{"$f":"Databackup!C244","v":""},{"$f":"Databackup!D244","v":""},{"$f":"Databackup!E244","v":""},{"$f":"Databackup!F244","v":""},{"$f":"Databackup!G244","v":""},{"$f":"Databackup!I244","v":""},{"$f":"Databackup!J244","v":""},{"$f":"Databackup!K244","v":""},{"$f":"Databackup!L244","v":""},{"$f":"Databackup!M244","v":""},{"$f":"IF(Databackup!N244>0,Databackup!N244,\"--.--\")","v":""},"  Designation  "]
[{"$f":"IF(Databackup!B245=\"\",\"\",Databackup!B245)","v":""},{"$f":"Databackup!C245","v":""},{"$f":"Databackup!D245","v":""},{"$f":"Databackup!E245","v":""},{"$f":"Databackup!F245","v":""},{"$f":"Databackup!G245","v":""},{"$f":"Databackup!I245","v":""},{"$f":"Databackup!J245","v":""},{"$f":"Databackup!K245","v":""},{"$f":"Databackup!L245","v":""},{"$f":"Databackup!M245","v":""},{"$f":"IF(Databackup!N245>0,Databackup!N245,\"--.--\")","v":""},"  Designation  "]
[{"$f":"IF(Databackup!B246=\"\",\"\",Databackup!B246)","v":""},{"$f":"Databackup!C246","v":""},{"$f":"Databackup!D246","v":""},{"$f":"Databackup!E246","v":""},{"$f":"Databackup!F246","v":""},{"$f":"Databackup!G246","v":""},{"$f":"Databackup!I246","v":""},{"$f":"Databackup!J246","v":""},{"$f":"Databackup!K246","v":""},{"$f":"Databackup!L246","v":""},{"$f":"Databackup!M246","v":""},{"$f":"IF(Databackup!N246>0,Databackup!N246,\"--.--\")","v":""},"  Designation  "]
[{"$f":"IF(Databackup!B247=\"\",\"\",Databackup!B247)","v":""},{"$f":"Databackup!C247","v":""},{"$f":"Databackup!D247","v":""},{"$f":"Databackup!E247","v":""},{"$f":"Databackup!F247","v":""},{"$f":"Databackup!G247","v":""},{"$f":"Databackup!I247","v":""},{"$f":"Databackup!J247","v":""},{"$f":"Databackup!K247","v":""},{"$f":"Databackup!L247","v":""},{"$f":"Databackup!M247","v":""},{"$f":"IF(Databackup!N247>0,Databackup!N247,\"--.--\")","v":""},"  Designation  "]
[{"$f":"IF(Databackup!B248=\"\",\"\",Databackup!B248)","v":""},{"$f":"Databackup!C248","v":""},{"$f":"Databackup!D248","v":""},{"$f":"Databackup!E248","v":""},{"$f":"Databackup!F248","v":""},{"$f":"Databackup!G248","v":""},{"$f":"Databackup!I248","v":""},{"$f":"Databackup!J248","v":""},{"$f":"Databackup!K248","v":""},{"$f":"Databackup!L248","v":""},{"$f":"Databackup!M248","v":""},{"$f":"IF(Databackup!N248>0,Databackup!N248,\"--.--\")","v":""},"  Designation  "]
[{"$f":"IF(Databackup!B249=\"\",\"\",Databackup!B249)","v":""},{"$f":"Databackup!C249","v":""},{"$f":"Databackup!D249","v":""},{"$f":"Databackup!E249","v":""},{"$f":"Databackup!F249","v":""},{"$f":"Databackup!G249","v":""},{"$f":"Databackup!I249","v":""},{"$f":"Databackup!J249","v":""},{"$f":"Databackup!K249","v":""},{"$f":"Databackup!L249","v":""},{"$f":"Databackup!M249","v":""},{"$f":"IF(Databackup!N249>0,Databackup!N249,\"--.--\")","v":""},"  Designation  "]
[{"$f":"IF(Databackup!B250=\"\",\"\",Databackup!B250)","v":""},{"$f":"Databackup!C250","v":""},{"$f":"Databackup!D250","v":""},{"$f":"Databackup!E250","v":""},{"$f":"Databackup!F250","v":""},{"$f":"Databackup!G250","v":""},{"$f":"Databackup!I250","v":""},{"$f":"Databackup!J250","v":""},{"$f":"Databackup!K250","v":""},{"$f":"Databackup!L250","v":""},{"$f":"Databackup!M250","v":""},{"$f":"IF(Databackup!N250>0,Databackup!N250,\"--.--\")","v":""},"  Designation  "]
[{"$f":"IF(Databackup!B251=\"\",\"\",Databackup!B251)","v":""},{"$f":"Databackup!C251","v":""},{"$f":"Databackup!D251","v":""},{"$f":"Databackup!E251","v":""},{"$f":"Databackup!F251","v":""},{"$f":"Databackup!G251","v":""},{"$f":"Databackup!I251","v":""},{"$f":"Databackup!J251","v":""},{"$f":"Databackup!K251","v":""},{"$f":"Databackup!L251","v":""},{"$f":"Databackup!M251","v":""},{"$f":"IF(Databackup!N251>0,Databackup!N251,\"--.--\")","v":""},"  Designation  "]
[{"$f":"IF(Databackup!B252=\"\",\"\",Databackup!B252)","v":""},{"$f":"Databackup!C252","v":""},{"$f":"Databackup!D252","v":""},{"$f":"Databackup!E252","v":""},{"$f":"Databackup!F252","v":""},{"$f":"Databackup!G252","v":""},{"$f":"Databackup!I252","v":""},{"$f":"Databackup!J252","v":""},{"$f":"Databackup!K252","v":""},{"$f":"Databackup!L252","v":""},{"$f":"Databackup!M252","v":""},{"$f":"IF(Databackup!N252>0,Databackup!N252,\"--.--\")","v":""},"  Designation  "]
[{"$f":"IF(Databackup!B253=\"\",\"\",Databackup!B253)","v":""},{"$f":"Databackup!C253","v":""},{"$f":"Databackup!D253","v":""},{"$f":"Databackup!E253","v":""},{"$f":"Databackup!F253","v":""},{"$f":"Databackup!G253","v":""},{"$f":"Databackup!I253","v":""},{"$f":"Databackup!J253","v":""},{"$f":"Databackup!K253","v":""},{"$f":"Databackup!L253","v":""},{"$f":"Databackup!M253","v":""},{"$f":"IF(Databackup!N253>0,Databackup!N253,\"--.--\")","v":""},"  Designation  "]
[{"$f":"IF(Databackup!B254=\"\",\"\",Databackup!B254)","v":""},{"$f":"Databackup!C254","v":""},{"$f":"Databackup!D254","v":""},{"$f":"Databackup!E254","v":""},{"$f":"Databackup!F254","v":""},{"$f":"Databackup!G254","v":""},{"$f":"Databackup!I254","v":""},{"$f":"Databackup!J254","v":""},{"$f":"Databackup!K254","v":""},{"$f":"Databackup!L254","v":""},{"$f":"Databackup!M254","v":""},{"$f":"IF(Databackup!N254>0,Databackup!N254,\"--.--\")","v":""},"  Designation  "]
[{"$f":"IF(Databackup!B255=\"\",\"\",Databackup!B255)","v":""},{"$f":"Databackup!C255","v":""},{"$f":"Databackup!D255","v":""},{"$f":"Databackup!E255","v":""},{"$f":"Databackup!F255","v":""},{"$f":"Databackup!G255","v":""},{"$f":"Databackup!I255","v":""},{"$f":"Databackup!J255","v":""},{"$f":"Databackup!K255","v":""},{"$f":"Databackup!L255","v":""},{"$f":"Databackup!M255","v":""},{"$f":"IF(Databackup!N255>0,Databackup!N255,\"--.--\")","v":""},"  Designation  "]
[{"$f":"IF(Databackup!B256=\"\",\"\",Databackup!B256)","v":""},{"$f":"Databackup!C256","v":""},{"$f":"Databackup!D256","v":""},{"$f":"Databackup!E256","v":""},{"$f":"Databackup!F256","v":""},{"$f":"Databackup!G256","v":""},{"$f":"Databackup!I256","v":""},{"$f":"Databackup!J256","v":""},{"$f":"Databackup!K256","v":""},{"$f":"Databackup!L256","v":""},{"$f":"Databackup!M256","v":""},{"$f":"IF(Databackup!N256>0,Databackup!N256,\"--.--\")","v":""},"  Designation  "]
[{"$f":"IF(Databackup!B257=\"\",\"\",Databackup!B257)","v":""},{"$f":"Databackup!C257","v":""},{"$f":"Databackup!D257","v":""},{"$f":"Databackup!E257","v":""},{"$f":"Databackup!F257","v":""},{"$f":"Databackup!G257","v":""},{"$f":"Databackup!I257","v":""},{"$f":"Databackup!J257","v":""},{"$f":"Databackup!K257","v":""},{"$f":"Databackup!L257","v":""},{"$f":"Databackup!M257","v":""},{"$f":"IF(Databackup!N257>0,Databackup!N257,\"--.--\")","v":""},"  Designation  "]
[{"$f":"IF(Databackup!B258=\"\",\"\",Databackup!B258)","v":""},{"$f":"Databackup!C258","v":""},{"$f":"Databackup!D258","v":""},{"$f":"Databackup!E258","v":""},{"$f":"Databackup!F258","v":""},{"$f":"Databackup!G258","v":""},{"$f":"Databackup!I258","v":""},{"$f":"Databackup!J258","v":""},{"$f":"Databackup!K258","v":""},{"$f":"Databackup!L258","v":""},{"$f":"Databackup!M258","v":""},{"$f":"IF(Databackup!N258>0,Databackup!N258,\"--.--\")","v":""},"  Designation  "]
[{"$f":"IF(Databackup!B259=\"\",\"\",Databackup!B259)","v":""},{"$f":"Databackup!C259","v":""},{"$f":"Databackup!D259","v":""},{"$f":"Databackup!E259","v":""},{"$f":"Databackup!F259","v":""},{"$f":"Databackup!G259","v":""},{"$f":"Databackup!I259","v":""},{"$f":"Databackup!J259","v":""},{"$f":"Databackup!K259","v":""},{"$f":"Databackup!L259","v":""},{"$f":"Databackup!M259","v":""},{"$f":"IF(Databackup!N259>0,Databackup!N259,\"--.--\")","v":""},"  Designation  "]
[{"$f":"IF(Databackup!B260=\"\",\"\",Databackup!B260)","v":""},{"$f":"Databackup!C260","v":""},{"$f":"Databackup!D260","v":""},{"$f":"Databackup!E260","v":""},{"$f":"Databackup!F260","v":""},{"$f":"Databackup!G260","v":""},{"$f":"Databackup!I260","v":""},{"$f":"Databackup!J260","v":""},{"$f":"Databackup!K260","v":""},{"$f":"Databackup!L260","v":""},{"$f":"Databackup!M260","v":""},{"$f":"IF(Databackup!N260>0,Databackup!N260,\"--.--\")","v":""},"  Designation  "]
[{"$f":"IF(Databackup!B261=\"\",\"\",Databackup!B261)","v":""},{"$f":"Databackup!C261","v":""},{"$f":"Databackup!D261","v":""},{"$f":"Databackup!E261","v":""},{"$f":"Databackup!F261","v":""},{"$f":"Databackup!G261","v":""},{"$f":"Databackup!I261","v":""},{"$f":"Databackup!J261","v":""},{"$f":"Databackup!K261","v":""},{"$f":"Databackup!L261","v":""},{"$f":"Databackup!M261","v":""},{"$f":"IF(Databackup!N261>0,Databackup!N261,\"--.--\")","v":""},"  Designation  "]
[{"$f":"IF(Databackup!B262=\"\",\"\",Databackup!B262)","v":""},{"$f":"Databackup!C262","v":""},{"$f":"Databackup!D262","v":""},{"$f":"Databackup!E262","v":""},{"$f":"Databackup!F262","v":""},{"$f":"Databackup!G262","v":""},{"$f":"Databackup!I262","v":""},{"$f":"Databackup!J262","v":""},{"$f":"Databackup!K262","v":""},{"$f":"Databackup!L262","v":""},{"$f":"Databackup!M262","v":""},{"$f":"IF(Databackup!N262>0,Databackup!N262,\"--.--\")","v":""},"  Designation  "]
[{"$f":"IF(Databackup!B263=\"\",\"\",Databackup!B263)","v":""},{"$f":"Databackup!C263","v":""},{"$f":"Databackup!D263","v":""},{"$f":"Databackup!E263","v":""},{"$f":"Databackup!F263","v":""},{"$f":"Databackup!G263","v":""},{"$f":"Databackup!I263","v":""},{"$f":"Databackup!J263","v":""},{"$f":"Databackup!K263","v":""},{"$f":"Databackup!L263","v":""},{"$f":"Databackup!M263","v":""},{"$f":"IF(Databackup!N263>0,Databackup!N263,\"--.--\")","v":""},{"$f":"CONCATENATE(B275,\"  \",\"Designation\",\"  \",C275)","v":"  Designation  "}]
[{"$f":"IF(Databackup!B264=\"\",\"\",Databackup!B264)","v":""},{"$f":"Databackup!C264","v":""},{"$f":"Databackup!D264","v":""},{"$f":"Databackup!E264","v":""},{"$f":"Databackup!F264","v":""},{"$f":"Databackup!G264","v":""},{"$f":"Databackup!I264","v":""},{"$f":"Databackup!J264","v":""},{"$f":"Databackup!K264","v":""},{"$f":"Databackup!L264","v":""},{"$f":"Databackup!M264","v":""},{"$f":"IF(Databackup!N264>0,Databackup!N264,\"--.--\")","v":""},"  Designation  "]
[{"$f":"IF(Databackup!B265=\"\",\"\",Databackup!B265)","v":""},{"$f":"Databackup!C265","v":""},{"$f":"Databackup!D265","v":""},{"$f":"Databackup!E265","v":""},{"$f":"Databackup!F265","v":""},{"$f":"Databackup!G265","v":""},{"$f":"Databackup!I265","v":""},{"$f":"Databackup!J265","v":""},{"$f":"Databackup!K265","v":""},{"$f":"Databackup!L265","v":""},{"$f":"Databackup!M265","v":""},{"$f":"IF(Databackup!N265>0,Databackup!N265,\"--.--\")","v":""},"  Designation  "]
[{"$f":"IF(Databackup!B266=\"\",\"\",Databackup!B266)","v":""},{"$f":"Databackup!C266","v":""},{"$f":"Databackup!D266","v":""},{"$f":"Databackup!E266","v":""},{"$f":"Databackup!F266","v":""},{"$f":"Databackup!G266","v":""},{"$f":"Databackup!I266","v":""},{"$f":"Databackup!J266","v":""},{"$f":"Databackup!K266","v":""},{"$f":"Databackup!L266","v":""},{"$f":"Databackup!M266","v":""},{"$f":"IF(Databackup!N266>0,Databackup!N266,\"--.--\")","v":""},"  Designation  "]
[{"$f":"IF(Databackup!B267=\"\",\"\",Databackup!B267)","v":""},{"$f":"Databackup!C267","v":""},{"$f":"Databackup!D267","v":""},{"$f":"Databackup!E267","v":""},{"$f":"Databackup!F267","v":""},{"$f":"Databackup!G267","v":""},{"$f":"Databackup!I267","v":""},{"$f":"Databackup!J267","v":""},{"$f":"Databackup!K267","v":""},{"$f":"Databackup!L267","v":""},{"$f":"Databackup!M267","v":""},{"$f":"IF(Databackup!N267>0,Databackup!N267,\"--.--\")","v":""},"  Designation  "]
[{"$f":"IF(Databackup!B268=\"\",\"\",Databackup!B268)","v":""},{"$f":"Databackup!C268","v":""},{"$f":"Databackup!D268","v":""},{"$f":"Databackup!E268","v":""},{"$f":"Databackup!F268","v":""},{"$f":"Databackup!G268","v":""},{"$f":"Databackup!I268","v":""},{"$f":"Databackup!J268","v":""},{"$f":"Databackup!K268","v":""},{"$f":"Databackup!L268","v":""},{"$f":"Databackup!M268","v":""},{"$f":"IF(Databackup!N268>0,Databackup!N268,\"--.--\")","v":""},"  Designation  "]
[{"$f":"IF(Databackup!B269=\"\",\"\",Databackup!B269)","v":""},{"$f":"Databackup!C269","v":""},{"$f":"Databackup!D269","v":""},{"$f":"Databackup!E269","v":""},{"$f":"Databackup!F269","v":""},{"$f":"Databackup!G269","v":""},{"$f":"Databackup!I269","v":""},{"$f":"Databackup!J269","v":""},{"$f":"Databackup!K269","v":""},{"$f":"Databackup!L269","v":""},{"$f":"Databackup!M269","v":""},{"$f":"IF(Databackup!N269>0,Databackup!N269,\"--.--\")","v":""},"  Designation  "]
[{"$f":"IF(Databackup!B270=\"\",\"\",Databackup!B270)","v":""},{"$f":"Databackup!C270","v":""},{"$f":"Databackup!D270","v":""},{"$f":"Databackup!E270","v":""},{"$f":"Databackup!F270","v":""},{"$f":"Databackup!G270","v":""},{"$f":"Databackup!I270","v":""},{"$f":"Databackup!J270","v":""},{"$f":"Databackup!K270","v":""},{"$f":"Databackup!L270","v":""},{"$f":"Databackup!M270","v":""},{"$f":"IF(Databackup!N270>0,Databackup!N270,\"--.--\")","v":""},"  Designation  "]
[{"$f":"IF(Databackup!B271=\"\",\"\",Databackup!B271)","v":""},{"$f":"Databackup!C271","v":""},{"$f":"Databackup!D271","v":""},{"$f":"Databackup!E271","v":""},{"$f":"Databackup!F271","v":""},{"$f":"Databackup!G271","v":""},{"$f":"Databackup!I271","v":""},{"$f":"Databackup!J271","v":""},{"$f":"Databackup!K271","v":""},{"$f":"Databackup!L271","v":""},{"$f":"Databackup!M271","v":""},{"$f":"IF(Databackup!N271>0,Databackup!N271,\"--.--\")","v":""},"  Designation  "]
[{"$f":"IF(Databackup!B272=\"\",\"\",Databackup!B272)","v":""},{"$f":"Databackup!C272","v":""},{"$f":"Databackup!D272","v":""},{"$f":"Databackup!E272","v":""},{"$f":"Databackup!F272","v":""},{"$f":"Databackup!G272","v":""},{"$f":"Databackup!I272","v":""},{"$f":"Databackup!J272","v":""},{"$f":"Databackup!K272","v":""},{"$f":"Databackup!L272","v":""},{"$f":"Databackup!M272","v":""},{"$f":"IF(Databackup!N272>0,Databackup!N272,\"--.--\")","v":""},"  Designation  "]
[{"$f":"IF(Databackup!B273=\"\",\"\",Databackup!B273)","v":""},{"$f":"Databackup!C273","v":""},{"$f":"Databackup!D273","v":""},{"$f":"Databackup!E273","v":""},{"$f":"Databackup!F273","v":""},{"$f":"Databackup!G273","v":""},{"$f":"Databackup!I273","v":""},{"$f":"Databackup!J273","v":""},{"$f":"Databackup!K273","v":""},{"$f":"Databackup!L273","v":""},{"$f":"Databackup!M273","v":""},{"$f":"IF(Databackup!N273>0,Databackup!N273,\"--.--\")","v":""},"  Designation  "]
[{"$f":"IF(Databackup!B274=\"\",\"\",Databackup!B274)","v":""},{"$f":"Databackup!C274","v":""},{"$f":"Databackup!D274","v":""},{"$f":"Databackup!E274","v":""},{"$f":"Databackup!F274","v":""},{"$f":"Databackup!G274","v":""},{"$f":"Databackup!I274","v":""},{"$f":"Databackup!J274","v":""},{"$f":"Databackup!K274","v":""},{"$f":"Databackup!L274","v":""},{"$f":"Databackup!M274","v":""},{"$f":"IF(Databackup!N274>0,Databackup!N274,\"--.--\")","v":""},"  Designation  "]
[{"$f":"IF(Databackup!B275=\"\",\"\",Databackup!B275)","v":""},{"$f":"Databackup!C275","v":""},{"$f":"Databackup!D275","v":""},{"$f":"Databackup!E275","v":""},{"$f":"Databackup!F275","v":""},{"$f":"Databackup!G275","v":""},{"$f":"Databackup!I275","v":""},{"$f":"Databackup!J275","v":""},{"$f":"Databackup!K275","v":""},{"$f":"Databackup!L275","v":""},{"$f":"Databackup!M275","v":""},{"$f":"IF(Databackup!N275>0,Databackup!N275,\"--.--\")","v":""},"  Designation  "]
[{"$f":"IF(Databackup!B276=\"\",\"\",Databackup!B276)","v":""},{"$f":"Databackup!C276","v":""},{"$f":"Databackup!D276","v":""},{"$f":"Databackup!E276","v":""},{"$f":"Databackup!F276","v":""},{"$f":"Databackup!G276","v":""},{"$f":"Databackup!I276","v":""},{"$f":"Databackup!J276","v":""},{"$f":"Databackup!K276","v":""},{"$f":"Databackup!L276","v":""},{"$f":"Databackup!M276","v":""},{"$f":"IF(Databackup!N276>0,Databackup!N276,\"--.--\")","v":""},"  Designation  "]
[{"$f":"IF(Databackup!B277=\"\",\"\",Databackup!B277)","v":""},{"$f":"Databackup!C277","v":""},{"$f":"Databackup!D277","v":""},{"$f":"Databackup!E277","v":""},{"$f":"Databackup!F277","v":""},{"$f":"Databackup!G277","v":""},{"$f":"Databackup!I277","v":""},{"$f":"Databackup!J277","v":""},{"$f":"Databackup!K277","v":""},{"$f":"Databackup!L277","v":""},{"$f":"Databackup!M277","v":""},{"$f":"IF(Databackup!N277>0,Databackup!N277,\"--.--\")","v":""},"  Designation  "]
[{"$f":"IF(Databackup!B278=\"\",\"\",Databackup!B278)","v":""},{"$f":"Databackup!C278","v":""},{"$f":"Databackup!D278","v":""},{"$f":"Databackup!E278","v":""},{"$f":"Databackup!F278","v":""},{"$f":"Databackup!G278","v":""},{"$f":"Databackup!I278","v":""},{"$f":"Databackup!J278","v":""},{"$f":"Databackup!K278","v":""},{"$f":"Databackup!L278","v":""},{"$f":"Databackup!M278","v":""},{"$f":"IF(Databackup!N278>0,Databackup!N278,\"--.--\")","v":""},"  Designation  "]
[{"$f":"IF(Databackup!B279=\"\",\"\",Databackup!B279)","v":""},{"$f":"Databackup!C279","v":""},{"$f":"Databackup!D279","v":""},{"$f":"Databackup!E279","v":""},{"$f":"Databackup!F279","v":""},{"$f":"Databackup!G279","v":""},{"$f":"Databackup!I279","v":""},{"$f":"Databackup!J279","v":""},{"$f":"Databackup!K279","v":""},{"$f":"Databackup!L279","v":""},{"$f":"Databackup!M279","v":""},{"$f":"IF(Databackup!N279>0,Databackup!N279,\"--.--\")","v":""},"  Designation  "]
[{"$f":"IF(Databackup!B280=\"\",\"\",Databackup!B280)","v":""},{"$f":"Databackup!C280","v":""},{"$f":"Databackup!D280","v":""},{"$f":"Databackup!E280","v":""},{"$f":"Databackup!F280","v":""},{"$f":"Databackup!G280","v":""},{"$f":"Databackup!I280","v":""},{"$f":"Databackup!J280","v":""},{"$f":"Databackup!K280","v":""},{"$f":"Databackup!L280","v":""},{"$f":"Databackup!M280","v":""},{"$f":"IF(Databackup!N280>0,Databackup!N280,\"--.--\")","v":""},"  Designation  "]
[{"$f":"IF(Databackup!B281=\"\",\"\",Databackup!B281)","v":""},{"$f":"Databackup!C281","v":""},{"$f":"Databackup!D281","v":""},{"$f":"Databackup!E281","v":""},{"$f":"Databackup!F281","v":""},{"$f":"Databackup!G281","v":""},{"$f":"Databackup!I281","v":""},{"$f":"Databackup!J281","v":""},{"$f":"Databackup!K281","v":""},{"$f":"Databackup!L281","v":""},{"$f":"Databackup!M281","v":""},{"$f":"IF(Databackup!N281>0,Databackup!N281,\"--.--\")","v":""},"  Designation  "]
[{"$f":"IF(Databackup!B282=\"\",\"\",Databackup!B282)","v":""},{"$f":"Databackup!C282","v":""},{"$f":"Databackup!D282","v":""},{"$f":"Databackup!E282","v":""},{"$f":"Databackup!F282","v":""},{"$f":"Databackup!G282","v":""},{"$f":"Databackup!I282","v":""},{"$f":"Databackup!J282","v":""},{"$f":"Databackup!K282","v":""},{"$f":"Databackup!L282","v":""},{"$f":"Databackup!M282","v":""},{"$f":"IF(Databackup!N282>0,Databackup!N282,\"--.--\")","v":""},"  Designation  "]
[{"$f":"IF(Databackup!B283=\"\",\"\",Databackup!B283)","v":""},{"$f":"Databackup!C283","v":""},{"$f":"Databackup!D283","v":""},{"$f":"Databackup!E283","v":""},{"$f":"Databackup!F283","v":""},{"$f":"Databackup!G283","v":""},{"$f":"Databackup!I283","v":""},{"$f":"Databackup!J283","v":""},{"$f":"Databackup!K283","v":""},{"$f":"Databackup!L283","v":""},{"$f":"Databackup!M283","v":""},{"$f":"IF(Databackup!N283>0,Databackup!N283,\"--.--\")","v":""},"  Designation  "]
[{"$f":"IF(Databackup!B284=\"\",\"\",Databackup!B284)","v":""},{"$f":"Databackup!C284","v":""},{"$f":"Databackup!D284","v":""},{"$f":"Databackup!E284","v":""},{"$f":"Databackup!F284","v":""},{"$f":"Databackup!G284","v":""},{"$f":"Databackup!I284","v":""},{"$f":"Databackup!J284","v":""},{"$f":"Databackup!K284","v":""},{"$f":"Databackup!L284","v":""},{"$f":"Databackup!M284","v":""},{"$f":"IF(Databackup!N284>0,Databackup!N284,\"--.--\")","v":""},"  Designation  "]
[{"$f":"IF(Databackup!B285=\"\",\"\",Databackup!B285)","v":""},{"$f":"Databackup!C285","v":""},{"$f":"Databackup!D285","v":""},{"$f":"Databackup!E285","v":""},{"$f":"Databackup!F285","v":""},{"$f":"Databackup!G285","v":""},{"$f":"Databackup!I285","v":""},{"$f":"Databackup!J285","v":""},{"$f":"Databackup!K285","v":""},{"$f":"Databackup!L285","v":""},{"$f":"Databackup!M285","v":""},{"$f":"IF(Databackup!N285>0,Databackup!N285,\"--.--\")","v":""},"  Designation  "]
[{"$f":"IF(Databackup!B286=\"\",\"\",Databackup!B286)","v":""},{"$f":"Databackup!C286","v":""},{"$f":"Databackup!D286","v":""},{"$f":"Databackup!E286","v":""},{"$f":"Databackup!F286","v":""},{"$f":"Databackup!G286","v":""},{"$f":"Databackup!I286","v":""},{"$f":"Databackup!J286","v":""},{"$f":"Databackup!K286","v":""},{"$f":"Databackup!L286","v":""},{"$f":"Databackup!M286","v":""},{"$f":"IF(Databackup!N286>0,Databackup!N286,\"--.--\")","v":""},"  Designation  "]
[{"$f":"IF(Databackup!B287=\"\",\"\",Databackup!B287)","v":""},{"$f":"Databackup!C287","v":""},{"$f":"Databackup!D287","v":""},{"$f":"Databackup!E287","v":""},{"$f":"Databackup!F287","v":""},{"$f":"Databackup!G287","v":""},{"$f":"Databackup!I287","v":""},{"$f":"Databackup!J287","v":""},{"$f":"Databackup!K287","v":""},{"$f":"Databackup!L287","v":""},{"$f":"Databackup!M287","v":""},{"$f":"IF(Databackup!N287>0,Databackup!N287,\"--.--\")","v":""},"  Designation  "]
[{"$f":"IF(Databackup!B288=\"\",\"\",Databackup!B288)","v":""},{"$f":"Databackup!C288","v":""},{"$f":"Databackup!D288","v":""},{"$f":"Databackup!E288","v":""},{"$f":"Databackup!F288","v":""},{"$f":"Databackup!G288","v":""},{"$f":"Databackup!I288","v":""},{"$f":"Databackup!J288","v":""},{"$f":"Databackup!K288","v":""},{"$f":"Databackup!L288","v":""},{"$f":"Databackup!M288","v":""},{"$f":"IF(Databackup!N288>0,Databackup!N288,\"--.--\")","v":""},"  Designation  "]
[{"$f":"IF(Databackup!B289=\"\",\"\",Databackup!B289)","v":""},{"$f":"Databackup!C289","v":""},{"$f":"Databackup!D289","v":""},{"$f":"Databackup!E289","v":""},{"$f":"Databackup!F289","v":""},{"$f":"Databackup!G289","v":""},{"$f":"Databackup!I289","v":""},{"$f":"Databackup!J289","v":""},{"$f":"Databackup!K289","v":""},{"$f":"Databackup!L289","v":""},{"$f":"Databackup!M289","v":""},{"$f":"IF(Databackup!N289>0,Databackup!N289,\"--.--\")","v":""},"  Designation  "]
[{"$f":"IF(Databackup!B290=\"\",\"\",Databackup!B290)","v":""},{"$f":"Databackup!C290","v":""},{"$f":"Databackup!D290","v":""},{"$f":"Databackup!E290","v":""},{"$f":"Databackup!F290","v":""},{"$f":"Databackup!G290","v":""},{"$f":"Databackup!I290","v":""},{"$f":"Databackup!J290","v":""},{"$f":"Databackup!K290","v":""},{"$f":"Databackup!L290","v":""},{"$f":"Databackup!M290","v":""},{"$f":"IF(Databackup!N290>0,Databackup!N290,\"--.--\")","v":""},"  Designation  "]
[{"$f":"IF(Databackup!B291=\"\",\"\",Databackup!B291)","v":""},{"$f":"Databackup!C291","v":""},{"$f":"Databackup!D291","v":""},{"$f":"Databackup!E291","v":""},{"$f":"Databackup!F291","v":""},{"$f":"Databackup!G291","v":""},{"$f":"Databackup!I291","v":""},{"$f":"Databackup!J291","v":""},{"$f":"Databackup!K291","v":""},{"$f":"Databackup!L291","v":""},{"$f":"Databackup!M291","v":""},{"$f":"IF(Databackup!N291>0,Databackup!N291,\"--.--\")","v":""},"  Designation  "]
[{"$f":"IF(Databackup!B292=\"\",\"\",Databackup!B292)","v":""},{"$f":"Databackup!C292","v":""},{"$f":"Databackup!D292","v":""},{"$f":"Databackup!E292","v":""},{"$f":"Databackup!F292","v":""},{"$f":"Databackup!G292","v":""},{"$f":"Databackup!I292","v":""},{"$f":"Databackup!J292","v":""},{"$f":"Databackup!K292","v":""},{"$f":"Databackup!L292","v":""},{"$f":"Databackup!M292","v":""},{"$f":"IF(Databackup!N292>0,Databackup!N292,\"--.--\")","v":""},"  Designation  "]
[{"$f":"IF(Databackup!B293=\"\",\"\",Databackup!B293)","v":""},{"$f":"Databackup!C293","v":""},{"$f":"Databackup!D293","v":""},{"$f":"Databackup!E293","v":""},{"$f":"Databackup!F293","v":""},{"$f":"Databackup!G293","v":""},{"$f":"Databackup!I293","v":""},{"$f":"Databackup!J293","v":""},{"$f":"Databackup!K293","v":""},{"$f":"Databackup!L293","v":""},{"$f":"Databackup!M293","v":""},{"$f":"IF(Databackup!N293>0,Databackup!N293,\"--.--\")","v":""},"  Designation  "]
[{"$f":"IF(Databackup!B294=\"\",\"\",Databackup!B294)","v":""},{"$f":"Databackup!C294","v":""},{"$f":"Databackup!D294","v":""},{"$f":"Databackup!E294","v":""},{"$f":"Databackup!F294","v":""},{"$f":"Databackup!G294","v":""},{"$f":"Databackup!I294","v":""},{"$f":"Databackup!J294","v":""},{"$f":"Databackup!K294","v":""},{"$f":"Databackup!L294","v":""},{"$f":"Databackup!M294","v":""},{"$f":"IF(Databackup!N294>0,Databackup!N294,\"--.--\")","v":""},"  Designation  "]
[{"$f":"IF(Databackup!B295=\"\",\"\",Databackup!B295)","v":""},{"$f":"Databackup!C295","v":""},{"$f":"Databackup!D295","v":""},{"$f":"Databackup!E295","v":""},{"$f":"Databackup!F295","v":""},{"$f":"Databackup!G295","v":""},{"$f":"Databackup!I295","v":""},{"$f":"Databackup!J295","v":""},{"$f":"Databackup!K295","v":""},{"$f":"Databackup!L295","v":""},{"$f":"Databackup!M295","v":""},{"$f":"IF(Databackup!N295>0,Databackup!N295,\"--.--\")","v":""},"  Designation  "]
[{"$f":"IF(Databackup!B296=\"\",\"\",Databackup!B296)","v":""},{"$f":"Databackup!C296","v":""},{"$f":"Databackup!D296","v":""},{"$f":"Databackup!E296","v":""},{"$f":"Databackup!F296","v":""},{"$f":"Databackup!G296","v":""},{"$f":"Databackup!I296","v":""},{"$f":"Databackup!J296","v":""},{"$f":"Databackup!K296","v":""},{"$f":"Databackup!L296","v":""},{"$f":"Databackup!M296","v":""},{"$f":"IF(Databackup!N296>0,Databackup!N296,\"--.--\")","v":""},"  Designation  "]
[{"$f":"IF(Databackup!B297=\"\",\"\",Databackup!B297)","v":""},{"$f":"Databackup!C297","v":""},{"$f":"Databackup!D297","v":""},{"$f":"Databackup!E297","v":""},{"$f":"Databackup!F297","v":""},{"$f":"Databackup!G297","v":""},{"$f":"Databackup!I297","v":""},{"$f":"Databackup!J297","v":""},{"$f":"Databackup!K297","v":""},{"$f":"Databackup!L297","v":""},{"$f":"Databackup!M297","v":""},{"$f":"IF(Databackup!N297>0,Databackup!N297,\"--.--\")","v":""},"  Designation  "]
[{"$f":"IF(Databackup!B298=\"\",\"\",Databackup!B298)","v":""},{"$f":"Databackup!C298","v":""},{"$f":"Databackup!D298","v":""},{"$f":"Databackup!E298","v":""},{"$f":"Databackup!F298","v":""},{"$f":"Databackup!G298","v":""},{"$f":"Databackup!I298","v":""},{"$f":"Databackup!J298","v":""},{"$f":"Databackup!K298","v":""},{"$f":"Databackup!L298","v":""},{"$f":"Databackup!M298","v":""},{"$f":"IF(Databackup!N298>0,Databackup!N298,\"--.--\")","v":""},"  Designation  "]
[{"$f":"IF(Databackup!B299=\"\",\"\",Databackup!B299)","v":""},{"$f":"Databackup!C299","v":""},{"$f":"Databackup!D299","v":""},{"$f":"Databackup!E299","v":""},{"$f":"Databackup!F299","v":""},{"$f":"Databackup!G299","v":""},{"$f":"Databackup!I299","v":""},{"$f":"Databackup!J299","v":""},{"$f":"Databackup!K299","v":""},{"$f":"Databackup!L299","v":""},{"$f":"Databackup!M299","v":""},{"$f":"IF(Databackup!N299>0,Databackup!N299,\"--.--\")","v":""},"  Designation  "]
[{"$f":"IF(Databackup!B300=\"\",\"\",Databackup!B300)","v":""},{"$f":"Databackup!C300","v":""},{"$f":"Databackup!D300","v":""},{"$f":"Databackup!E300","v":""},{"$f":"Databackup!F300","v":""},{"$f":"Databackup!G300","v":""},{"$f":"Databackup!I300","v":""},{"$f":"Databackup!J300","v":""},{"$f":"Databackup!K300","v":""},{"$f":"Databackup!L300","v":""},{"$f":"Databackup!M300","v":""},{"$f":"IF(Databackup!N300>0,Databackup!N300,\"--.--\")","v":""},"  Designation  "]
[{"$f":"IF(Databackup!B301=\"\",\"\",Databackup!B301)","v":""},{"$f":"Databackup!C301","v":""},{"$f":"Databackup!D301","v":""},{"$f":"Databackup!E301","v":""},{"$f":"Databackup!F301","v":""},{"$f":"Databackup!G301","v":""},{"$f":"Databackup!I301","v":""},{"$f":"Databackup!J301","v":""},{"$f":"Databackup!K301","v":""},{"$f":"Databackup!L301","v":""},{"$f":"Databackup!M301","v":""},{"$f":"IF(Databackup!N301>0,Databackup!N301,\"--.--\")","v":""},"  Designation  "]
[{"$f":"IF(Databackup!B302=\"\",\"\",Databackup!B302)","v":""},{"$f":"Databackup!C302","v":""},{"$f":"Databackup!D302","v":""},{"$f":"Databackup!E302","v":""},{"$f":"Databackup!F302","v":""},{"$f":"Databackup!G302","v":""},{"$f":"Databackup!I302","v":""},{"$f":"Databackup!J302","v":""},{"$f":"Databackup!K302","v":""},{"$f":"Databackup!L302","v":""},{"$f":"Databackup!M302","v":""},{"$f":"IF(Databackup!N302>0,Databackup!N302,\"--.--\")","v":""},"  Designation  "]
[{"$f":"IF(Databackup!B303=\"\",\"\",Databackup!B303)","v":""},{"$f":"Databackup!C303","v":""},{"$f":"Databackup!D303","v":""},{"$f":"Databackup!E303","v":""},{"$f":"Databackup!F303","v":""},{"$f":"Databackup!G303","v":""},{"$f":"Databackup!I303","v":""},{"$f":"Databackup!J303","v":""},{"$f":"Databackup!K303","v":""},{"$f":"Databackup!L303","v":""},{"$f":"Databackup!M303","v":""},{"$f":"IF(Databackup!N303>0,Databackup!N303,\"--.--\")","v":""},"  Designation  "]
[{"$f":"IF(Databackup!B304=\"\",\"\",Databackup!B304)","v":""},{"$f":"Databackup!C304","v":""},{"$f":"Databackup!D304","v":""},{"$f":"Databackup!E304","v":""},{"$f":"Databackup!F304","v":""},{"$f":"Databackup!G304","v":""},{"$f":"Databackup!I304","v":""},{"$f":"Databackup!J304","v":""},{"$f":"Databackup!K304","v":""},{"$f":"Databackup!L304","v":""},{"$f":"Databackup!M304","v":""},{"$f":"IF(Databackup!N304>0,Databackup!N304,\"--.--\")","v":""},"  Designation  "]
[{"$f":"IF(Databackup!B305=\"\",\"\",Databackup!B305)","v":""},{"$f":"Databackup!C305","v":""},{"$f":"Databackup!D305","v":""},{"$f":"Databackup!E305","v":""},{"$f":"Databackup!F305","v":""},{"$f":"Databackup!G305","v":""},{"$f":"Databackup!I305","v":""},{"$f":"Databackup!J305","v":""},{"$f":"Databackup!K305","v":""},{"$f":"Databackup!L305","v":""},{"$f":"Databackup!M305","v":""},{"$f":"IF(Databackup!N305>0,Databackup!N305,\"--.--\")","v":""},"  Designation  "]
[{"$f":"IF(Databackup!B306=\"\",\"\",Databackup!B306)","v":""},{"$f":"Databackup!C306","v":""},{"$f":"Databackup!D306","v":""},{"$f":"Databackup!E306","v":""},{"$f":"Databackup!F306","v":""},{"$f":"Databackup!G306","v":""},{"$f":"Databackup!I306","v":""},{"$f":"Databackup!J306","v":""},{"$f":"Databackup!K306","v":""},{"$f":"Databackup!L306","v":""},{"$f":"Databackup!M306","v":""},{"$f":"IF(Databackup!N306>0,Databackup!N306,\"--.--\")","v":""},"  Designation  "]
[{"$f":"IF(Databackup!B307=\"\",\"\",Databackup!B307)","v":""},{"$f":"Databackup!C307","v":""},{"$f":"Databackup!D307","v":""},{"$f":"Databackup!E307","v":""},{"$f":"Databackup!F307","v":""},{"$f":"Databackup!G307","v":""},{"$f":"Databackup!I307","v":""},{"$f":"Databackup!J307","v":""},{"$f":"Databackup!K307","v":""},{"$f":"Databackup!L307","v":""},{"$f":"Databackup!M307","v":""},{"$f":"IF(Databackup!N307>0,Databackup!N307,\"--.--\")","v":""},"  Designation  "]
[{"$f":"IF(Databackup!B308=\"\",\"\",Databackup!B308)","v":""},{"$f":"Databackup!C308","v":""},{"$f":"Databackup!D308","v":""},{"$f":"Databackup!E308","v":""},{"$f":"Databackup!F308","v":""},{"$f":"Databackup!G308","v":""},{"$f":"Databackup!I308","v":""},{"$f":"Databackup!J308","v":""},{"$f":"Databackup!K308","v":""},{"$f":"Databackup!L308","v":""},{"$f":"Databackup!M308","v":""},{"$f":"IF(Databackup!N308>0,Databackup!N308,\"--.--\")","v":""},"  Designation  "]
[{"$f":"IF(Databackup!B309=\"\",\"\",Databackup!B309)","v":""},{"$f":"Databackup!C309","v":""},{"$f":"Databackup!D309","v":""},{"$f":"Databackup!E309","v":""},{"$f":"Databackup!F309","v":""},{"$f":"Databackup!G309","v":""},{"$f":"Databackup!I309","v":""},{"$f":"Databackup!J309","v":""},{"$f":"Databackup!K309","v":""},{"$f":"Databackup!L309","v":""},{"$f":"Databackup!M309","v":""},{"$f":"IF(Databackup!N309>0,Databackup!N309,\"--.--\")","v":""},"  Designation  "]
[{"$f":"IF(Databackup!B310=\"\",\"\",Databackup!B310)","v":""},{"$f":"Databackup!C310","v":""},{"$f":"Databackup!D310","v":""},{"$f":"Databackup!E310","v":""},{"$f":"Databackup!F310","v":""},{"$f":"Databackup!G310","v":""},{"$f":"Databackup!I310","v":""},{"$f":"Databackup!J310","v":""},{"$f":"Databackup!K310","v":""},{"$f":"Databackup!L310","v":""},{"$f":"Databackup!M310","v":""},{"$f":"IF(Databackup!N310>0,Databackup!N310,\"--.--\")","v":""},"  Designation  "]
[{"$f":"IF(Databackup!B311=\"\",\"\",Databackup!B311)","v":""},{"$f":"Databackup!C311","v":""},{"$f":"Databackup!D311","v":""},{"$f":"Databackup!E311","v":""},{"$f":"Databackup!F311","v":""},{"$f":"Databackup!G311","v":""},{"$f":"Databackup!I311","v":""},{"$f":"Databackup!J311","v":""},{"$f":"Databackup!K311","v":""},{"$f":"Databackup!L311","v":""},{"$f":"Databackup!M311","v":""},{"$f":"IF(Databackup!N311>0,Databackup!N311,\"--.--\")","v":""},"  Designation  "]
[{"$f":"IF(Databackup!B312=\"\",\"\",Databackup!B312)","v":""},{"$f":"Databackup!C312","v":""},{"$f":"Databackup!D312","v":""},{"$f":"Databackup!E312","v":""},{"$f":"Databackup!F312","v":""},{"$f":"Databackup!G312","v":""},{"$f":"Databackup!I312","v":""},{"$f":"Databackup!J312","v":""},{"$f":"Databackup!K312","v":""},{"$f":"Databackup!L312","v":""},{"$f":"Databackup!M312","v":""},{"$f":"IF(Databackup!N312>0,Databackup!N312,\"--.--\")","v":""},"  Designation  "]
[{"$f":"IF(Databackup!B313=\"\",\"\",Databackup!B313)","v":""},{"$f":"Databackup!C313","v":""},{"$f":"Databackup!D313","v":""},{"$f":"Databackup!E313","v":""},{"$f":"Databackup!F313","v":""},{"$f":"Databackup!G313","v":""},{"$f":"Databackup!I313","v":""},{"$f":"Databackup!J313","v":""},{"$f":"Databackup!K313","v":""},{"$f":"Databackup!L313","v":""},{"$f":"Databackup!M313","v":""},{"$f":"IF(Databackup!N313>0,Databackup!N313,\"--.--\")","v":""},"  Designation  "]
[{"$f":"IF(Databackup!B314=\"\",\"\",Databackup!B314)","v":""},{"$f":"Databackup!C314","v":""},{"$f":"Databackup!D314","v":""},{"$f":"Databackup!E314","v":""},{"$f":"Databackup!F314","v":""},{"$f":"Databackup!G314","v":""},{"$f":"Databackup!I314","v":""},{"$f":"Databackup!J314","v":""},{"$f":"Databackup!K314","v":""},{"$f":"Databackup!L314","v":""},{"$f":"Databackup!M314","v":""},{"$f":"IF(Databackup!N314>0,Databackup!N314,\"--.--\")","v":""},"  Designation  "]
[{"$f":"IF(Databackup!B315=\"\",\"\",Databackup!B315)","v":""},{"$f":"Databackup!C315","v":""},{"$f":"Databackup!D315","v":""},{"$f":"Databackup!E315","v":""},{"$f":"Databackup!F315","v":""},{"$f":"Databackup!G315","v":""},{"$f":"Databackup!I315","v":""},{"$f":"Databackup!J315","v":""},{"$f":"Databackup!K315","v":""},{"$f":"Databackup!L315","v":""},{"$f":"Databackup!M315","v":""},{"$f":"IF(Databackup!N315>0,Databackup!N315,\"--.--\")","v":""},"  Designation  "]
[{"$f":"IF(Databackup!B316=\"\",\"\",Databackup!B316)","v":""},{"$f":"Databackup!C316","v":""},{"$f":"Databackup!D316","v":""},{"$f":"Databackup!E316","v":""},{"$f":"Databackup!F316","v":""},{"$f":"Databackup!G316","v":""},{"$f":"Databackup!I316","v":""},{"$f":"Databackup!J316","v":""},{"$f":"Databackup!K316","v":""},{"$f":"Databackup!L316","v":""},{"$f":"Databackup!M316","v":""},{"$f":"IF(Databackup!N316>0,Databackup!N316,\"--.--\")","v":""},"  Designation  "]
[{"$f":"IF(Databackup!B317=\"\",\"\",Databackup!B317)","v":""},{"$f":"Databackup!C317","v":""},{"$f":"Databackup!D317","v":""},{"$f":"Databackup!E317","v":""},{"$f":"Databackup!F317","v":""},{"$f":"Databackup!G317","v":""},{"$f":"Databackup!I317","v":""},{"$f":"Databackup!J317","v":""},{"$f":"Databackup!K317","v":""},{"$f":"Databackup!L317","v":""},{"$f":"Databackup!M317","v":""},{"$f":"IF(Databackup!N317>0,Databackup!N317,\"--.--\")","v":""},"  Designation  "]
[{"$f":"IF(Databackup!B318=\"\",\"\",Databackup!B318)","v":""},{"$f":"Databackup!C318","v":""},{"$f":"Databackup!D318","v":""},{"$f":"Databackup!E318","v":""},{"$f":"Databackup!F318","v":""},{"$f":"Databackup!G318","v":""},{"$f":"Databackup!I318","v":""},{"$f":"Databackup!J318","v":""},{"$f":"Databackup!K318","v":""},{"$f":"Databackup!L318","v":""},{"$f":"Databackup!M318","v":""},{"$f":"IF(Databackup!N318>0,Databackup!N318,\"--.--\")","v":""},"  Designation  "]
[{"$f":"IF(Databackup!B319=\"\",\"\",Databackup!B319)","v":""},{"$f":"Databackup!C319","v":""},{"$f":"Databackup!D319","v":""},{"$f":"Databackup!E319","v":""},{"$f":"Databackup!F319","v":""},{"$f":"Databackup!G319","v":""},{"$f":"Databackup!I319","v":""},{"$f":"Databackup!J319","v":""},{"$f":"Databackup!K319","v":""},{"$f":"Databackup!L319","v":""},{"$f":"Databackup!M319","v":""},{"$f":"IF(Databackup!N319>0,Databackup!N319,\"--.--\")","v":""},"  Designation  "]
[{"$f":"IF(Databackup!B320=\"\",\"\",Databackup!B320)","v":""},{"$f":"Databackup!C320","v":""},{"$f":"Databackup!D320","v":""},{"$f":"Databackup!E320","v":""},{"$f":"Databackup!F320","v":""},{"$f":"Databackup!G320","v":""},{"$f":"Databackup!I320","v":""},{"$f":"Databackup!J320","v":""},{"$f":"Databackup!K320","v":""},{"$f":"Databackup!L320","v":""},{"$f":"Databackup!M320","v":""},{"$f":"IF(Databackup!N320>0,Databackup!N320,\"--.--\")","v":""},"  Designation  "]
[{"$f":"IF(Databackup!B321=\"\",\"\",Databackup!B321)","v":""},{"$f":"Databackup!C321","v":""},{"$f":"Databackup!D321","v":""},{"$f":"Databackup!E321","v":""},{"$f":"Databackup!F321","v":""},{"$f":"Databackup!G321","v":""},{"$f":"Databackup!I321","v":""},{"$f":"Databackup!J321","v":""},{"$f":"Databackup!K321","v":""},{"$f":"Databackup!L321","v":""},{"$f":"Databackup!M321","v":""},{"$f":"IF(Databackup!N321>0,Databackup!N321,\"--.--\")","v":""},"  Designation  "]
[{"$f":"IF(Databackup!B322=\"\",\"\",Databackup!B322)","v":""},{"$f":"Databackup!C322","v":""},{"$f":"Databackup!D322","v":""},{"$f":"Databackup!E322","v":""},{"$f":"Databackup!F322","v":""},{"$f":"Databackup!G322","v":""},{"$f":"Databackup!I322","v":""},{"$f":"Databackup!J322","v":""},{"$f":"Databackup!K322","v":""},{"$f":"Databackup!L322","v":""},{"$f":"Databackup!M322","v":""},{"$f":"IF(Databackup!N322>0,Databackup!N322,\"--.--\")","v":""},"  Designation  "]
[{"$f":"IF(Databackup!B323=\"\",\"\",Databackup!B323)","v":""},{"$f":"Databackup!C323","v":""},{"$f":"Databackup!D323","v":""},{"$f":"Databackup!E323","v":""},{"$f":"Databackup!F323","v":""},{"$f":"Databackup!G323","v":""},{"$f":"Databackup!I323","v":""},{"$f":"Databackup!J323","v":""},{"$f":"Databackup!K323","v":""},{"$f":"Databackup!L323","v":""},{"$f":"Databackup!M323","v":""},{"$f":"IF(Databackup!N323>0,Databackup!N323,\"--.--\")","v":""},"  Designation  "]
[{"$f":"IF(Databackup!B324=\"\",\"\",Databackup!B324)","v":""},{"$f":"Databackup!C324","v":""},{"$f":"Databackup!D324","v":""},{"$f":"Databackup!E324","v":""},{"$f":"Databackup!F324","v":""},{"$f":"Databackup!G324","v":""},{"$f":"Databackup!I324","v":""},{"$f":"Databackup!J324","v":""},{"$f":"Databackup!K324","v":""},{"$f":"Databackup!L324","v":""},{"$f":"Databackup!M324","v":""},{"$f":"IF(Databackup!N324>0,Databackup!N324,\"--.--\")","v":""},"  Designation  "]
[{"$f":"IF(Databackup!B325=\"\",\"\",Databackup!B325)","v":""},{"$f":"Databackup!C325","v":""},{"$f":"Databackup!D325","v":""},{"$f":"Databackup!E325","v":""},{"$f":"Databackup!F325","v":""},{"$f":"Databackup!G325","v":""},{"$f":"Databackup!I325","v":""},{"$f":"Databackup!J325","v":""},{"$f":"Databackup!K325","v":""},{"$f":"Databackup!L325","v":""},{"$f":"Databackup!M325","v":""},{"$f":"IF(Databackup!N325>0,Databackup!N325,\"--.--\")","v":""},"  Designation  "]
[{"$f":"IF(Databackup!B326=\"\",\"\",Databackup!B326)","v":""},{"$f":"Databackup!C326","v":""},{"$f":"Databackup!D326","v":""},{"$f":"Databackup!E326","v":""},{"$f":"Databackup!F326","v":""},{"$f":"Databackup!G326","v":""},{"$f":"Databackup!I326","v":""},{"$f":"Databackup!J326","v":""},{"$f":"Databackup!K326","v":""},{"$f":"Databackup!L326","v":""},{"$f":"Databackup!M326","v":""},{"$f":"IF(Databackup!N326>0,Databackup!N326,\"--.--\")","v":""},"  Designation  "]
[{"$f":"IF(Databackup!B327=\"\",\"\",Databackup!B327)","v":""},{"$f":"Databackup!C327","v":""},{"$f":"Databackup!D327","v":""},{"$f":"Databackup!E327","v":""},{"$f":"Databackup!F327","v":""},{"$f":"Databackup!G327","v":""},{"$f":"Databackup!I327","v":""},{"$f":"Databackup!J327","v":""},{"$f":"Databackup!K327","v":""},{"$f":"Databackup!L327","v":""},{"$f":"Databackup!M327","v":""},{"$f":"IF(Databackup!N327>0,Databackup!N327,\"--.--\")","v":""},{"$f":"CONCATENATE(B339,\"  \",\"Designation\",\"  \",C339)","v":"  Designation  "}]
[{"$f":"IF(Databackup!B328=\"\",\"\",Databackup!B328)","v":""},{"$f":"Databackup!C328","v":""},{"$f":"Databackup!D328","v":""},{"$f":"Databackup!E328","v":""},{"$f":"Databackup!F328","v":""},{"$f":"Databackup!G328","v":""},{"$f":"Databackup!I328","v":""},{"$f":"Databackup!J328","v":""},{"$f":"Databackup!K328","v":""},{"$f":"Databackup!L328","v":""},{"$f":"Databackup!M328","v":""},{"$f":"IF(Databackup!N328>0,Databackup!N328,\"--.--\")","v":""},"  Designation  "]
[{"$f":"IF(Databackup!B329=\"\",\"\",Databackup!B329)","v":""},{"$f":"Databackup!C329","v":""},{"$f":"Databackup!D329","v":""},{"$f":"Databackup!E329","v":""},{"$f":"Databackup!F329","v":""},{"$f":"Databackup!G329","v":""},{"$f":"Databackup!I329","v":""},{"$f":"Databackup!J329","v":""},{"$f":"Databackup!K329","v":""},{"$f":"Databackup!L329","v":""},{"$f":"Databackup!M329","v":""},{"$f":"IF(Databackup!N329>0,Databackup!N329,\"--.--\")","v":""},"  Designation  "]
[{"$f":"IF(Databackup!B330=\"\",\"\",Databackup!B330)","v":""},{"$f":"Databackup!C330","v":""},{"$f":"Databackup!D330","v":""},{"$f":"Databackup!E330","v":""},{"$f":"Databackup!F330","v":""},{"$f":"Databackup!G330","v":""},{"$f":"Databackup!I330","v":""},{"$f":"Databackup!J330","v":""},{"$f":"Databackup!K330","v":""},{"$f":"Databackup!L330","v":""},{"$f":"Databackup!M330","v":""},{"$f":"IF(Databackup!N330>0,Databackup!N330,\"--.--\")","v":""},"  Designation  "]
[{"$f":"IF(Databackup!B331=\"\",\"\",Databackup!B331)","v":""},{"$f":"Databackup!C331","v":""},{"$f":"Databackup!D331","v":""},{"$f":"Databackup!E331","v":""},{"$f":"Databackup!F331","v":""},{"$f":"Databackup!G331","v":""},{"$f":"Databackup!I331","v":""},{"$f":"Databackup!J331","v":""},{"$f":"Databackup!K331","v":""},{"$f":"Databackup!L331","v":""},{"$f":"Databackup!M331","v":""},{"$f":"IF(Databackup!N331>0,Databackup!N331,\"--.--\")","v":""},"  Designation  "]
[{"$f":"IF(Databackup!B332=\"\",\"\",Databackup!B332)","v":""},{"$f":"Databackup!C332","v":""},{"$f":"Databackup!D332","v":""},{"$f":"Databackup!E332","v":""},{"$f":"Databackup!F332","v":""},{"$f":"Databackup!G332","v":""},{"$f":"Databackup!I332","v":""},{"$f":"Databackup!J332","v":""},{"$f":"Databackup!K332","v":""},{"$f":"Databackup!L332","v":""},{"$f":"Databackup!M332","v":""},{"$f":"IF(Databackup!N332>0,Databackup!N332,\"--.--\")","v":""},"  Designation  "]
[{"$f":"IF(Databackup!B333=\"\",\"\",Databackup!B333)","v":""},{"$f":"Databackup!C333","v":""},{"$f":"Databackup!D333","v":""},{"$f":"Databackup!E333","v":""},{"$f":"Databackup!F333","v":""},{"$f":"Databackup!G333","v":""},{"$f":"Databackup!I333","v":""},{"$f":"Databackup!J333","v":""},{"$f":"Databackup!K333","v":""},{"$f":"Databackup!L333","v":""},{"$f":"Databackup!M333","v":""},{"$f":"IF(Databackup!N333>0,Databackup!N333,\"--.--\")","v":""},"  Designation  "]
[{"$f":"IF(Databackup!B334=\"\",\"\",Databackup!B334)","v":""},{"$f":"Databackup!C334","v":""},{"$f":"Databackup!D334","v":""},{"$f":"Databackup!E334","v":""},{"$f":"Databackup!F334","v":""},{"$f":"Databackup!G334","v":""},{"$f":"Databackup!I334","v":""},{"$f":"Databackup!J334","v":""},{"$f":"Databackup!K334","v":""},{"$f":"Databackup!L334","v":""},{"$f":"Databackup!M334","v":""},{"$f":"IF(Databackup!N334>0,Databackup!N334,\"--.--\")","v":""},"  Designation  "]
[{"$f":"IF(Databackup!B335=\"\",\"\",Databackup!B335)","v":""},{"$f":"Databackup!C335","v":""},{"$f":"Databackup!D335","v":""},{"$f":"Databackup!E335","v":""},{"$f":"Databackup!F335","v":""},{"$f":"Databackup!G335","v":""},{"$f":"Databackup!I335","v":""},{"$f":"Databackup!J335","v":""},{"$f":"Databackup!K335","v":""},{"$f":"Databackup!L335","v":""},{"$f":"Databackup!M335","v":""},{"$f":"IF(Databackup!N335>0,Databackup!N335,\"--.--\")","v":""},"  Designation  "]
[{"$f":"IF(Databackup!B336=\"\",\"\",Databackup!B336)","v":""},{"$f":"Databackup!C336","v":""},{"$f":"Databackup!D336","v":""},{"$f":"Databackup!E336","v":""},{"$f":"Databackup!F336","v":""},{"$f":"Databackup!G336","v":""},{"$f":"Databackup!I336","v":""},{"$f":"Databackup!J336","v":""},{"$f":"Databackup!K336","v":""},{"$f":"Databackup!L336","v":""},{"$f":"Databackup!M336","v":""},{"$f":"IF(Databackup!N336>0,Databackup!N336,\"--.--\")","v":""},"  Designation  "]
[{"$f":"IF(Databackup!B337=\"\",\"\",Databackup!B337)","v":""},{"$f":"Databackup!C337","v":""},{"$f":"Databackup!D337","v":""},{"$f":"Databackup!E337","v":""},{"$f":"Databackup!F337","v":""},{"$f":"Databackup!G337","v":""},{"$f":"Databackup!I337","v":""},{"$f":"Databackup!J337","v":""},{"$f":"Databackup!K337","v":""},{"$f":"Databackup!L337","v":""},{"$f":"Databackup!M337","v":""},{"$f":"IF(Databackup!N337>0,Databackup!N337,\"--.--\")","v":""},"  Designation  "]
[{"$f":"IF(Databackup!B338=\"\",\"\",Databackup!B338)","v":""},{"$f":"Databackup!C338","v":""},{"$f":"Databackup!D338","v":""},{"$f":"Databackup!E338","v":""},{"$f":"Databackup!F338","v":""},{"$f":"Databackup!G338","v":""},{"$f":"Databackup!I338","v":""},{"$f":"Databackup!J338","v":""},{"$f":"Databackup!K338","v":""},{"$f":"Databackup!L338","v":""},{"$f":"Databackup!M338","v":""},{"$f":"IF(Databackup!N338>0,Databackup!N338,\"--.--\")","v":""},"  Designation  "]
[{"$f":"IF(Databackup!B339=\"\",\"\",Databackup!B339)","v":""},{"$f":"Databackup!C339","v":""},{"$f":"Databackup!D339","v":""},{"$f":"Databackup!E339","v":""},{"$f":"Databackup!F339","v":""},{"$f":"Databackup!G339","v":""},{"$f":"Databackup!I339","v":""},{"$f":"Databackup!J339","v":""},{"$f":"Databackup!K339","v":""},{"$f":"Databackup!L339","v":""},{"$f":"Databackup!M339","v":""},{"$f":"IF(Databackup!N339>0,Databackup!N339,\"--.--\")","v":""},"  Designation  "]
[{"$f":"IF(Databackup!B340=\"\",\"\",Databackup!B340)","v":""},{"$f":"Databackup!C340","v":""},{"$f":"Databackup!D340","v":""},{"$f":"Databackup!E340","v":""},{"$f":"Databackup!F340","v":""},{"$f":"Databackup!G340","v":""},{"$f":"Databackup!I340","v":""},{"$f":"Databackup!J340","v":""},{"$f":"Databackup!K340","v":""},{"$f":"Databackup!L340","v":""},{"$f":"Databackup!M340","v":""},{"$f":"IF(Databackup!N340>0,Databackup!N340,\"--.--\")","v":""},"  Designation  "]
[{"$f":"IF(Databackup!B341=\"\",\"\",Databackup!B341)","v":""},{"$f":"Databackup!C341","v":""},{"$f":"Databackup!D341","v":""},{"$f":"Databackup!E341","v":""},{"$f":"Databackup!F341","v":""},{"$f":"Databackup!G341","v":""},{"$f":"Databackup!I341","v":""},{"$f":"Databackup!J341","v":""},{"$f":"Databackup!K341","v":""},{"$f":"Databackup!L341","v":""},{"$f":"Databackup!M341","v":""},{"$f":"IF(Databackup!N341>0,Databackup!N341,\"--.--\")","v":""},"  Designation  "]
[{"$f":"IF(Databackup!B342=\"\",\"\",Databackup!B342)","v":""},{"$f":"Databackup!C342","v":""},{"$f":"Databackup!D342","v":""},{"$f":"Databackup!E342","v":""},{"$f":"Databackup!F342","v":""},{"$f":"Databackup!G342","v":""},{"$f":"Databackup!I342","v":""},{"$f":"Databackup!J342","v":""},{"$f":"Databackup!K342","v":""},{"$f":"Databackup!L342","v":""},{"$f":"Databackup!M342","v":""},{"$f":"IF(Databackup!N342>0,Databackup!N342,\"--.--\")","v":""},"  Designation  "]
[{"$f":"IF(Databackup!B343=\"\",\"\",Databackup!B343)","v":""},{"$f":"Databackup!C343","v":""},{"$f":"Databackup!D343","v":""},{"$f":"Databackup!E343","v":""},{"$f":"Databackup!F343","v":""},{"$f":"Databackup!G343","v":""},{"$f":"Databackup!I343","v":""},{"$f":"Databackup!J343","v":""},{"$f":"Databackup!K343","v":""},{"$f":"Databackup!L343","v":""},{"$f":"Databackup!M343","v":""},{"$f":"IF(Databackup!N343>0,Databackup!N343,\"--.--\")","v":""},"  Designation  "]
[{"$f":"IF(Databackup!B344=\"\",\"\",Databackup!B344)","v":""},{"$f":"Databackup!C344","v":""},{"$f":"Databackup!D344","v":""},{"$f":"Databackup!E344","v":""},{"$f":"Databackup!F344","v":""},{"$f":"Databackup!G344","v":""},{"$f":"Databackup!I344","v":""},{"$f":"Databackup!J344","v":""},{"$f":"Databackup!K344","v":""},{"$f":"Databackup!L344","v":""},{"$f":"Databackup!M344","v":""},{"$f":"IF(Databackup!N344>0,Databackup!N344,\"--.--\")","v":""},"  Designation  "]
[{"$f":"IF(Databackup!B345=\"\",\"\",Databackup!B345)","v":""},{"$f":"Databackup!C345","v":""},{"$f":"Databackup!D345","v":""},{"$f":"Databackup!E345","v":""},{"$f":"Databackup!F345","v":""},{"$f":"Databackup!G345","v":""},{"$f":"Databackup!I345","v":""},{"$f":"Databackup!J345","v":""},{"$f":"Databackup!K345","v":""},{"$f":"Databackup!L345","v":""},{"$f":"Databackup!M345","v":""},{"$f":"IF(Databackup!N345>0,Databackup!N345,\"--.--\")","v":""},"  Designation  "]
[{"$f":"IF(Databackup!B346=\"\",\"\",Databackup!B346)","v":""},{"$f":"Databackup!C346","v":""},{"$f":"Databackup!D346","v":""},{"$f":"Databackup!E346","v":""},{"$f":"Databackup!F346","v":""},{"$f":"Databackup!G346","v":""},{"$f":"Databackup!I346","v":""},{"$f":"Databackup!J346","v":""},{"$f":"Databackup!K346","v":""},{"$f":"Databackup!L346","v":""},{"$f":"Databackup!M346","v":""},{"$f":"IF(Databackup!N346>0,Databackup!N346,\"--.--\")","v":""},"  Designation  "]
[{"$f":"IF(Databackup!B347=\"\",\"\",Databackup!B347)","v":""},{"$f":"Databackup!C347","v":""},{"$f":"Databackup!D347","v":""},{"$f":"Databackup!E347","v":""},{"$f":"Databackup!F347","v":""},{"$f":"Databackup!G347","v":""},{"$f":"Databackup!I347","v":""},{"$f":"Databackup!J347","v":""},{"$f":"Databackup!K347","v":""},{"$f":"Databackup!L347","v":""},{"$f":"Databackup!M347","v":""},{"$f":"IF(Databackup!N347>0,Databackup!N347,\"--.--\")","v":""},"  Designation  "]
[{"$f":"IF(Databackup!B348=\"\",\"\",Databackup!B348)","v":""},{"$f":"Databackup!C348","v":""},{"$f":"Databackup!D348","v":""},{"$f":"Databackup!E348","v":""},{"$f":"Databackup!F348","v":""},{"$f":"Databackup!G348","v":""},{"$f":"Databackup!I348","v":""},{"$f":"Databackup!J348","v":""},{"$f":"Databackup!K348","v":""},{"$f":"Databackup!L348","v":""},{"$f":"Databackup!M348","v":""},{"$f":"IF(Databackup!N348>0,Databackup!N348,\"--.--\")","v":""},"  Designation  "]
[{"$f":"IF(Databackup!B349=\"\",\"\",Databackup!B349)","v":""},{"$f":"Databackup!C349","v":""},{"$f":"Databackup!D349","v":""},{"$f":"Databackup!E349","v":""},{"$f":"Databackup!F349","v":""},{"$f":"Databackup!G349","v":""},{"$f":"Databackup!I349","v":""},{"$f":"Databackup!J349","v":""},{"$f":"Databackup!K349","v":""},{"$f":"Databackup!L349","v":""},{"$f":"Databackup!M349","v":""},{"$f":"IF(Databackup!N349>0,Databackup!N349,\"--.--\")","v":""},"  Designation  "]
[{"$f":"IF(Databackup!B350=\"\",\"\",Databackup!B350)","v":""},{"$f":"Databackup!C350","v":""},{"$f":"Databackup!D350","v":""},{"$f":"Databackup!E350","v":""},{"$f":"Databackup!F350","v":""},{"$f":"Databackup!G350","v":""},{"$f":"Databackup!I350","v":""},{"$f":"Databackup!J350","v":""},{"$f":"Databackup!K350","v":""},{"$f":"Databackup!L350","v":""},{"$f":"Databackup!M350","v":""},{"$f":"IF(Databackup!N350>0,Databackup!N350,\"--.--\")","v":""},"  Designation  "]
[{"$f":"IF(Databackup!B351=\"\",\"\",Databackup!B351)","v":""},{"$f":"Databackup!C351","v":""},{"$f":"Databackup!D351","v":""},{"$f":"Databackup!E351","v":""},{"$f":"Databackup!F351","v":""},{"$f":"Databackup!G351","v":""},{"$f":"Databackup!I351","v":""},{"$f":"Databackup!J351","v":""},{"$f":"Databackup!K351","v":""},{"$f":"Databackup!L351","v":""},{"$f":"Databackup!M351","v":""},{"$f":"IF(Databackup!N351>0,Databackup!N351,\"--.--\")","v":""},"  Designation  "]
[{"$f":"IF(Databackup!B352=\"\",\"\",Databackup!B352)","v":""},{"$f":"Databackup!C352","v":""},{"$f":"Databackup!D352","v":""},{"$f":"Databackup!E352","v":""},{"$f":"Databackup!F352","v":""},{"$f":"Databackup!G352","v":""},{"$f":"Databackup!I352","v":""},{"$f":"Databackup!J352","v":""},{"$f":"Databackup!K352","v":""},{"$f":"Databackup!L352","v":""},{"$f":"Databackup!M352","v":""},{"$f":"IF(Databackup!N352>0,Databackup!N352,\"--.--\")","v":""},"  Designation  "]
[{"$f":"IF(Databackup!B353=\"\",\"\",Databackup!B353)","v":""},{"$f":"Databackup!C353","v":""},{"$f":"Databackup!D353","v":""},{"$f":"Databackup!E353","v":""},{"$f":"Databackup!F353","v":""},{"$f":"Databackup!G353","v":""},{"$f":"Databackup!I353","v":""},{"$f":"Databackup!J353","v":""},{"$f":"Databackup!K353","v":""},{"$f":"Databackup!L353","v":""},{"$f":"Databackup!M353","v":""},{"$f":"IF(Databackup!N353>0,Databackup!N353,\"--.--\")","v":""},"  Designation  "]
[{"$f":"IF(Databackup!B354=\"\",\"\",Databackup!B354)","v":""},{"$f":"Databackup!C354","v":""},{"$f":"Databackup!D354","v":""},{"$f":"Databackup!E354","v":""},{"$f":"Databackup!F354","v":""},{"$f":"Databackup!G354","v":""},{"$f":"Databackup!I354","v":""},{"$f":"Databackup!J354","v":""},{"$f":"Databackup!K354","v":""},{"$f":"Databackup!L354","v":""},{"$f":"Databackup!M354","v":""},{"$f":"IF(Databackup!N354>0,Databackup!N354,\"--.--\")","v":""},"  Designation  "]
[{"$f":"IF(Databackup!B355=\"\",\"\",Databackup!B355)","v":""},{"$f":"Databackup!C355","v":""},{"$f":"Databackup!D355","v":""},{"$f":"Databackup!E355","v":""},{"$f":"Databackup!F355","v":""},{"$f":"Databackup!G355","v":""},{"$f":"Databackup!I355","v":""},{"$f":"Databackup!J355","v":""},{"$f":"Databackup!K355","v":""},{"$f":"Databackup!L355","v":""},{"$f":"Databackup!M355","v":""},{"$f":"IF(Databackup!N355>0,Databackup!N355,\"--.--\")","v":""},"  Designation  "]
[{"$f":"IF(Databackup!B356=\"\",\"\",Databackup!B356)","v":""},{"$f":"Databackup!C356","v":""},{"$f":"Databackup!D356","v":""},{"$f":"Databackup!E356","v":""},{"$f":"Databackup!F356","v":""},{"$f":"Databackup!G356","v":""},{"$f":"Databackup!I356","v":""},{"$f":"Databackup!J356","v":""},{"$f":"Databackup!K356","v":""},{"$f":"Databackup!L356","v":""},{"$f":"Databackup!M356","v":""},{"$f":"IF(Databackup!N356>0,Databackup!N356,\"--.--\")","v":""},"  Designation  "]
[{"$f":"IF(Databackup!B357=\"\",\"\",Databackup!B357)","v":""},{"$f":"Databackup!C357","v":""},{"$f":"Databackup!D357","v":""},{"$f":"Databackup!E357","v":""},{"$f":"Databackup!F357","v":""},{"$f":"Databackup!G357","v":""},{"$f":"Databackup!I357","v":""},{"$f":"Databackup!J357","v":""},{"$f":"Databackup!K357","v":""},{"$f":"Databackup!L357","v":""},{"$f":"Databackup!M357","v":""},{"$f":"IF(Databackup!N357>0,Databackup!N357,\"--.--\")","v":""},"  Designation  "]
[{"$f":"IF(Databackup!B358=\"\",\"\",Databackup!B358)","v":""},{"$f":"Databackup!C358","v":""},{"$f":"Databackup!D358","v":""},{"$f":"Databackup!E358","v":""},{"$f":"Databackup!F358","v":""},{"$f":"Databackup!G358","v":""},{"$f":"Databackup!I358","v":""},{"$f":"Databackup!J358","v":""},{"$f":"Databackup!K358","v":""},{"$f":"Databackup!L358","v":""},{"$f":"Databackup!M358","v":""},{"$f":"IF(Databackup!N358>0,Databackup!N358,\"--.--\")","v":""},"  Designation  "]
[{"$f":"IF(Databackup!B359=\"\",\"\",Databackup!B359)","v":""},{"$f":"Databackup!C359","v":""},{"$f":"Databackup!D359","v":""},{"$f":"Databackup!E359","v":""},{"$f":"Databackup!F359","v":""},{"$f":"Databackup!G359","v":""},{"$f":"Databackup!I359","v":""},{"$f":"Databackup!J359","v":""},{"$f":"Databackup!K359","v":""},{"$f":"Databackup!L359","v":""},{"$f":"Databackup!M359","v":""},{"$f":"IF(Databackup!N359>0,Databackup!N359,\"--.--\")","v":""},"  Designation  "]
[{"$f":"IF(Databackup!B360=\"\",\"\",Databackup!B360)","v":""},{"$f":"Databackup!C360","v":""},{"$f":"Databackup!D360","v":""},{"$f":"Databackup!E360","v":""},{"$f":"Databackup!F360","v":""},{"$f":"Databackup!G360","v":""},{"$f":"Databackup!I360","v":""},{"$f":"Databackup!J360","v":""},{"$f":"Databackup!K360","v":""},{"$f":"Databackup!L360","v":""},{"$f":"Databackup!M360","v":""},{"$f":"IF(Databackup!N360>0,Databackup!N360,\"--.--\")","v":""},"  Designation  "]
[{"$f":"IF(Databackup!B361=\"\",\"\",Databackup!B361)","v":""},{"$f":"Databackup!C361","v":""},{"$f":"Databackup!D361","v":""},{"$f":"Databackup!E361","v":""},{"$f":"Databackup!F361","v":""},{"$f":"Databackup!G361","v":""},{"$f":"Databackup!I361","v":""},{"$f":"Databackup!J361","v":""},{"$f":"Databackup!K361","v":""},{"$f":"Databackup!L361","v":""},{"$f":"Databackup!M361","v":""},{"$f":"IF(Databackup!N361>0,Databackup!N361,\"--.--\")","v":""},"  Designation  "]
[{"$f":"IF(Databackup!B362=\"\",\"\",Databackup!B362)","v":""},{"$f":"Databackup!C362","v":""},{"$f":"Databackup!D362","v":""},{"$f":"Databackup!E362","v":""},{"$f":"Databackup!F362","v":""},{"$f":"Databackup!G362","v":""},{"$f":"Databackup!I362","v":""},{"$f":"Databackup!J362","v":""},{"$f":"Databackup!K362","v":""},{"$f":"Databackup!L362","v":""},{"$f":"Databackup!M362","v":""},{"$f":"IF(Databackup!N362>0,Databackup!N362,\"--.--\")","v":""},"  Designation  "]
[{"$f":"IF(Databackup!B363=\"\",\"\",Databackup!B363)","v":""},{"$f":"Databackup!C363","v":""},{"$f":"Databackup!D363","v":""},{"$f":"Databackup!E363","v":""},{"$f":"Databackup!F363","v":""},{"$f":"Databackup!G363","v":""},{"$f":"Databackup!I363","v":""},{"$f":"Databackup!J363","v":""},{"$f":"Databackup!K363","v":""},{"$f":"Databackup!L363","v":""},{"$f":"Databackup!M363","v":""},{"$f":"IF(Databackup!N363>0,Databackup!N363,\"--.--\")","v":""},"  Designation  "]
[{"$f":"IF(Databackup!B364=\"\",\"\",Databackup!B364)","v":""},{"$f":"Databackup!C364","v":""},{"$f":"Databackup!D364","v":""},{"$f":"Databackup!E364","v":""},{"$f":"Databackup!F364","v":""},{"$f":"Databackup!G364","v":""},{"$f":"Databackup!I364","v":""},{"$f":"Databackup!J364","v":""},{"$f":"Databackup!K364","v":""},{"$f":"Databackup!L364","v":""},{"$f":"Databackup!M364","v":""},{"$f":"IF(Databackup!N364>0,Databackup!N364,\"--.--\")","v":""},"  Designation  "]
[{"$f":"IF(Databackup!B365=\"\",\"\",Databackup!B365)","v":""},{"$f":"Databackup!C365","v":""},{"$f":"Databackup!D365","v":""},{"$f":"Databackup!E365","v":""},{"$f":"Databackup!F365","v":""},{"$f":"Databackup!G365","v":""},{"$f":"Databackup!I365","v":""},{"$f":"Databackup!J365","v":""},{"$f":"Databackup!K365","v":""},{"$f":"Databackup!L365","v":""},{"$f":"Databackup!M365","v":""},{"$f":"IF(Databackup!N365>0,Databackup!N365,\"--.--\")","v":""},"  Designation  "]
[{"$f":"IF(Databackup!B366=\"\",\"\",Databackup!B366)","v":""},{"$f":"Databackup!C366","v":""},{"$f":"Databackup!D366","v":""},{"$f":"Databackup!E366","v":""},{"$f":"Databackup!F366","v":""},{"$f":"Databackup!G366","v":""},{"$f":"Databackup!I366","v":""},{"$f":"Databackup!J366","v":""},{"$f":"Databackup!K366","v":""},{"$f":"Databackup!L366","v":""},{"$f":"Databackup!M366","v":""},{"$f":"IF(Databackup!N366>0,Databackup!N366,\"--.--\")","v":""},"  Designation  "]
[{"$f":"IF(Databackup!B367=\"\",\"\",Databackup!B367)","v":""},{"$f":"Databackup!C367","v":""},{"$f":"Databackup!D367","v":""},{"$f":"Databackup!E367","v":""},{"$f":"Databackup!F367","v":""},{"$f":"Databackup!G367","v":""},{"$f":"Databackup!I367","v":""},{"$f":"Databackup!J367","v":""},{"$f":"Databackup!K367","v":""},{"$f":"Databackup!L367","v":""},{"$f":"Databackup!M367","v":""},{"$f":"IF(Databackup!N367>0,Databackup!N367,\"--.--\")","v":""},"  Designation  "]
[{"$f":"IF(Databackup!B368=\"\",\"\",Databackup!B368)","v":""},{"$f":"Databackup!C368","v":""},{"$f":"Databackup!D368","v":""},{"$f":"Databackup!E368","v":""},{"$f":"Databackup!F368","v":""},{"$f":"Databackup!G368","v":""},{"$f":"Databackup!I368","v":""},{"$f":"Databackup!J368","v":""},{"$f":"Databackup!K368","v":""},{"$f":"Databackup!L368","v":""},{"$f":"Databackup!M368","v":""},{"$f":"IF(Databackup!N368>0,Databackup!N368,\"--.--\")","v":""},"  Designation  "]
[{"$f":"IF(Databackup!B369=\"\",\"\",Databackup!B369)","v":""},{"$f":"Databackup!C369","v":""},{"$f":"Databackup!D369","v":""},{"$f":"Databackup!E369","v":""},{"$f":"Databackup!F369","v":""},{"$f":"Databackup!G369","v":""},{"$f":"Databackup!I369","v":""},{"$f":"Databackup!J369","v":""},{"$f":"Databackup!K369","v":""},{"$f":"Databackup!L369","v":""},{"$f":"Databackup!M369","v":""},{"$f":"IF(Databackup!N369>0,Databackup!N369,\"--.--\")","v":""},"  Designation  "]
[{"$f":"IF(Databackup!B370=\"\",\"\",Databackup!B370)","v":""},{"$f":"Databackup!C370","v":""},{"$f":"Databackup!D370","v":""},{"$f":"Databackup!E370","v":""},{"$f":"Databackup!F370","v":""},{"$f":"Databackup!G370","v":""},{"$f":"Databackup!I370","v":""},{"$f":"Databackup!J370","v":""},{"$f":"Databackup!K370","v":""},{"$f":"Databackup!L370","v":""},{"$f":"Databackup!M370","v":""},{"$f":"IF(Databackup!N370>0,Databackup!N370,\"--.--\")","v":""},"  Designation  "]
[{"$f":"IF(Databackup!B371=\"\",\"\",Databackup!B371)","v":""},{"$f":"Databackup!C371","v":""},{"$f":"Databackup!D371","v":""},{"$f":"Databackup!E371","v":""},{"$f":"Databackup!F371","v":""},{"$f":"Databackup!G371","v":""},{"$f":"Databackup!I371","v":""},{"$f":"Databackup!J371","v":""},{"$f":"Databackup!K371","v":""},{"$f":"Databackup!L371","v":""},{"$f":"Databackup!M371","v":""},{"$f":"IF(Databackup!N371>0,Databackup!N371,\"--.--\")","v":""},"  Designation  "]
[{"$f":"IF(Databackup!B372=\"\",\"\",Databackup!B372)","v":""},{"$f":"Databackup!C372","v":""},{"$f":"Databackup!D372","v":""},{"$f":"Databackup!E372","v":""},{"$f":"Databackup!F372","v":""},{"$f":"Databackup!G372","v":""},{"$f":"Databackup!I372","v":""},{"$f":"Databackup!J372","v":""},{"$f":"Databackup!K372","v":""},{"$f":"Databackup!L372","v":""},{"$f":"Databackup!M372","v":""},{"$f":"IF(Databackup!N372>0,Databackup!N372,\"--.--\")","v":""},"  Designation  "]
[{"$f":"IF(Databackup!B373=\"\",\"\",Databackup!B373)","v":""},{"$f":"Databackup!C373","v":""},{"$f":"Databackup!D373","v":""},{"$f":"Databackup!E373","v":""},{"$f":"Databackup!F373","v":""},{"$f":"Databackup!G373","v":""},{"$f":"Databackup!I373","v":""},{"$f":"Databackup!J373","v":""},{"$f":"Databackup!K373","v":""},{"$f":"Databackup!L373","v":""},{"$f":"Databackup!M373","v":""},{"$f":"IF(Databackup!N373>0,Databackup!N373,\"--.--\")","v":""},"  Designation  "]
[{"$f":"IF(Databackup!B374=\"\",\"\",Databackup!B374)","v":""},{"$f":"Databackup!C374","v":""},{"$f":"Databackup!D374","v":""},{"$f":"Databackup!E374","v":""},{"$f":"Databackup!F374","v":""},{"$f":"Databackup!G374","v":""},{"$f":"Databackup!I374","v":""},{"$f":"Databackup!J374","v":""},{"$f":"Databackup!K374","v":""},{"$f":"Databackup!L374","v":""},{"$f":"Databackup!M374","v":""},{"$f":"IF(Databackup!N374>0,Databackup!N374,\"--.--\")","v":""},"  Designation  "]
[{"$f":"IF(Databackup!B375=\"\",\"\",Databackup!B375)","v":""},{"$f":"Databackup!C375","v":""},{"$f":"Databackup!D375","v":""},{"$f":"Databackup!E375","v":""},{"$f":"Databackup!F375","v":""},{"$f":"Databackup!G375","v":""},{"$f":"Databackup!I375","v":""},{"$f":"Databackup!J375","v":""},{"$f":"Databackup!K375","v":""},{"$f":"Databackup!L375","v":""},{"$f":"Databackup!M375","v":""},{"$f":"IF(Databackup!N375>0,Databackup!N375,\"--.--\")","v":""},"  Designation  "]
[{"$f":"IF(Databackup!B376=\"\",\"\",Databackup!B376)","v":""},{"$f":"Databackup!C376","v":""},{"$f":"Databackup!D376","v":""},{"$f":"Databackup!E376","v":""},{"$f":"Databackup!F376","v":""},{"$f":"Databackup!G376","v":""},{"$f":"Databackup!I376","v":""},{"$f":"Databackup!J376","v":""},{"$f":"Databackup!K376","v":""},{"$f":"Databackup!L376","v":""},{"$f":"Databackup!M376","v":""},{"$f":"IF(Databackup!N376>0,Databackup!N376,\"--.--\")","v":""},"  Designation  "]
[{"$f":"IF(Databackup!B377=\"\",\"\",Databackup!B377)","v":""},{"$f":"Databackup!C377","v":""},{"$f":"Databackup!D377","v":""},{"$f":"Databackup!E377","v":""},{"$f":"Databackup!F377","v":""},{"$f":"Databackup!G377","v":""},{"$f":"Databackup!I377","v":""},{"$f":"Databackup!J377","v":""},{"$f":"Databackup!K377","v":""},{"$f":"Databackup!L377","v":""},{"$f":"Databackup!M377","v":""},{"$f":"IF(Databackup!N377>0,Databackup!N377,\"--.--\")","v":""},"  Designation  "]
[{"$f":"IF(Databackup!B378=\"\",\"\",Databackup!B378)","v":""},{"$f":"Databackup!C378","v":""},{"$f":"Databackup!D378","v":""},{"$f":"Databackup!E378","v":""},{"$f":"Databackup!F378","v":""},{"$f":"Databackup!G378","v":""},{"$f":"Databackup!I378","v":""},{"$f":"Databackup!J378","v":""},{"$f":"Databackup!K378","v":""},{"$f":"Databackup!L378","v":""},{"$f":"Databackup!M378","v":""},{"$f":"IF(Databackup!N378>0,Databackup!N378,\"--.--\")","v":""},"  Designation  "]
[{"$f":"IF(Databackup!B379=\"\",\"\",Databackup!B379)","v":""},{"$f":"Databackup!C379","v":""},{"$f":"Databackup!D379","v":""},{"$f":"Databackup!E379","v":""},{"$f":"Databackup!F379","v":""},{"$f":"Databackup!G379","v":""},{"$f":"Databackup!I379","v":""},{"$f":"Databackup!J379","v":""},{"$f":"Databackup!K379","v":""},{"$f":"Databackup!L379","v":""},{"$f":"Databackup!M379","v":""},{"$f":"IF(Databackup!N379>0,Databackup!N379,\"--.--\")","v":""},"  Designation  "]
[{"$f":"IF(Databackup!B380=\"\",\"\",Databackup!B380)","v":""},{"$f":"Databackup!C380","v":""},{"$f":"Databackup!D380","v":""},{"$f":"Databackup!E380","v":""},{"$f":"Databackup!F380","v":""},{"$f":"Databackup!G380","v":""},{"$f":"Databackup!I380","v":""},{"$f":"Databackup!J380","v":""},{"$f":"Databackup!K380","v":""},{"$f":"Databackup!L380","v":""},{"$f":"Databackup!M380","v":""},{"$f":"IF(Databackup!N380>0,Databackup!N380,\"--.--\")","v":""},"  Designation  "]
[{"$f":"IF(Databackup!B381=\"\",\"\",Databackup!B381)","v":""},{"$f":"Databackup!C381","v":""},{"$f":"Databackup!D381","v":""},{"$f":"Databackup!E381","v":""},{"$f":"Databackup!F381","v":""},{"$f":"Databackup!G381","v":""},{"$f":"Databackup!I381","v":""},{"$f":"Databackup!J381","v":""},{"$f":"Databackup!K381","v":""},{"$f":"Databackup!L381","v":""},{"$f":"Databackup!M381","v":""},{"$f":"IF(Databackup!N381>0,Databackup!N381,\"--.--\")","v":""},"  Designation  "]
[{"$f":"IF(Databackup!B382=\"\",\"\",Databackup!B382)","v":""},{"$f":"Databackup!C382","v":""},{"$f":"Databackup!D382","v":""},{"$f":"Databackup!E382","v":""},{"$f":"Databackup!F382","v":""},{"$f":"Databackup!G382","v":""},{"$f":"Databackup!I382","v":""},{"$f":"Databackup!J382","v":""},{"$f":"Databackup!K382","v":""},{"$f":"Databackup!L382","v":""},{"$f":"Databackup!M382","v":""},{"$f":"IF(Databackup!N382>0,Databackup!N382,\"--.--\")","v":""},"  Designation  "]
[{"$f":"IF(Databackup!B383=\"\",\"\",Databackup!B383)","v":""},{"$f":"Databackup!C383","v":""},{"$f":"Databackup!D383","v":""},{"$f":"Databackup!E383","v":""},{"$f":"Databackup!F383","v":""},{"$f":"Databackup!G383","v":""},{"$f":"Databackup!I383","v":""},{"$f":"Databackup!J383","v":""},{"$f":"Databackup!K383","v":""},{"$f":"Databackup!L383","v":""},{"$f":"Databackup!M383","v":""},{"$f":"IF(Databackup!N383>0,Databackup!N383,\"--.--\")","v":""},"  Designation  "]
[{"$f":"IF(Databackup!B384=\"\",\"\",Databackup!B384)","v":""},{"$f":"Databackup!C384","v":""},{"$f":"Databackup!D384","v":""},{"$f":"Databackup!E384","v":""},{"$f":"Databackup!F384","v":""},{"$f":"Databackup!G384","v":""},{"$f":"Databackup!I384","v":""},{"$f":"Databackup!J384","v":""},{"$f":"Databackup!K384","v":""},{"$f":"Databackup!L384","v":""},{"$f":"Databackup!M384","v":""},{"$f":"IF(Databackup!N384>0,Databackup!N384,\"--.--\")","v":""},"  Designation  "]
[{"$f":"IF(Databackup!B385=\"\",\"\",Databackup!B385)","v":""},{"$f":"Databackup!C385","v":""},{"$f":"Databackup!D385","v":""},{"$f":"Databackup!E385","v":""},{"$f":"Databackup!F385","v":""},{"$f":"Databackup!G385","v":""},{"$f":"Databackup!I385","v":""},{"$f":"Databackup!J385","v":""},{"$f":"Databackup!K385","v":""},{"$f":"Databackup!L385","v":""},{"$f":"Databackup!M385","v":""},{"$f":"IF(Databackup!N385>0,Databackup!N385,\"--.--\")","v":""},"  Designation  "]
[{"$f":"IF(Databackup!B386=\"\",\"\",Databackup!B386)","v":""},{"$f":"Databackup!C386","v":""},{"$f":"Databackup!D386","v":""},{"$f":"Databackup!E386","v":""},{"$f":"Databackup!F386","v":""},{"$f":"Databackup!G386","v":""},{"$f":"Databackup!I386","v":""},{"$f":"Databackup!J386","v":""},{"$f":"Databackup!K386","v":""},{"$f":"Databackup!L386","v":""},{"$f":"Databackup!M386","v":""},{"$f":"IF(Databackup!N386>0,Databackup!N386,\"--.--\")","v":""},"  Designation  "]
[{"$f":"IF(Databackup!B387=\"\",\"\",Databackup!B387)","v":""},{"$f":"Databackup!C387","v":""},{"$f":"Databackup!D387","v":""},{"$f":"Databackup!E387","v":""},{"$f":"Databackup!F387","v":""},{"$f":"Databackup!G387","v":""},{"$f":"Databackup!I387","v":""},{"$f":"Databackup!J387","v":""},{"$f":"Databackup!K387","v":""},{"$f":"Databackup!L387","v":""},{"$f":"Databackup!M387","v":""},{"$f":"IF(Databackup!N387>0,Databackup!N387,\"--.--\")","v":""},"  Designation  "]
[{"$f":"IF(Databackup!B388=\"\",\"\",Databackup!B388)","v":""},{"$f":"Databackup!C388","v":""},{"$f":"Databackup!D388","v":""},{"$f":"Databackup!E388","v":""},{"$f":"Databackup!F388","v":""},{"$f":"Databackup!G388","v":""},{"$f":"Databackup!I388","v":""},{"$f":"Databackup!J388","v":""},{"$f":"Databackup!K388","v":""},{"$f":"Databackup!L388","v":""},{"$f":"Databackup!M388","v":""},{"$f":"IF(Databackup!N388>0,Databackup!N388,\"--.--\")","v":""},"  Designation  "]
[{"$f":"IF(Databackup!B389=\"\",\"\",Databackup!B389)","v":""},{"$f":"Databackup!C389","v":""},{"$f":"Databackup!D389","v":""},{"$f":"Databackup!E389","v":""},{"$f":"Databackup!F389","v":""},{"$f":"Databackup!G389","v":""},{"$f":"Databackup!I389","v":""},{"$f":"Databackup!J389","v":""},{"$f":"Databackup!K389","v":""},{"$f":"Databackup!L389","v":""},{"$f":"Databackup!M389","v":""},{"$f":"IF(Databackup!N389>0,Databackup!N389,\"--.--\")","v":""},"  Designation  "]
[{"$f":"IF(Databackup!B390=\"\",\"\",Databackup!B390)","v":""},{"$f":"Databackup!C390","v":""},{"$f":"Databackup!D390","v":""},{"$f":"Databackup!E390","v":""},{"$f":"Databackup!F390","v":""},{"$f":"Databackup!G390","v":""},{"$f":"Databackup!I390","v":""},{"$f":"Databackup!J390","v":""},{"$f":"Databackup!K390","v":""},{"$f":"Databackup!L390","v":""},{"$f":"Databackup!M390","v":""},{"$f":"IF(Databackup!N390>0,Databackup!N390,\"--.--\")","v":""},"  Designation  "]
[{"$f":"IF(Databackup!B391=\"\",\"\",Databackup!B391)","v":""},{"$f":"Databackup!C391","v":""},{"$f":"Databackup!D391","v":""},{"$f":"Databackup!E391","v":""},{"$f":"Databackup!F391","v":""},{"$f":"Databackup!G391","v":""},{"$f":"Databackup!I391","v":""},{"$f":"Databackup!J391","v":""},{"$f":"Databackup!K391","v":""},{"$f":"Databackup!L391","v":""},{"$f":"Databackup!M391","v":""},{"$f":"IF(Databackup!N391>0,Databackup!N391,\"--.--\")","v":""},{"$f":"CONCATENATE(B403,\"  \",\"Designation\",\"  \",C403)","v":"  Designation  "}]
[{"$f":"IF(Databackup!B392=\"\",\"\",Databackup!B392)","v":""},{"$f":"Databackup!C392","v":""},{"$f":"Databackup!D392","v":""},{"$f":"Databackup!E392","v":""},{"$f":"Databackup!F392","v":""},{"$f":"Databackup!G392","v":""},{"$f":"Databackup!I392","v":""},{"$f":"Databackup!J392","v":""},{"$f":"Databackup!K392","v":""},{"$f":"Databackup!L392","v":""},{"$f":"Databackup!M392","v":""},{"$f":"IF(Databackup!N392>0,Databackup!N392,\"--.--\")","v":""},"  Designation  "]
[{"$f":"IF(Databackup!B393=\"\",\"\",Databackup!B393)","v":""},{"$f":"Databackup!C393","v":""},{"$f":"Databackup!D393","v":""},{"$f":"Databackup!E393","v":""},{"$f":"Databackup!F393","v":""},{"$f":"Databackup!G393","v":""},{"$f":"Databackup!I393","v":""},{"$f":"Databackup!J393","v":""},{"$f":"Databackup!K393","v":""},{"$f":"Databackup!L393","v":""},{"$f":"Databackup!M393","v":""},{"$f":"IF(Databackup!N393>0,Databackup!N393,\"--.--\")","v":""},"  Designation  "]
[{"$f":"IF(Databackup!B394=\"\",\"\",Databackup!B394)","v":""},{"$f":"Databackup!C394","v":""},{"$f":"Databackup!D394","v":""},{"$f":"Databackup!E394","v":""},{"$f":"Databackup!F394","v":""},{"$f":"Databackup!G394","v":""},{"$f":"Databackup!I394","v":""},{"$f":"Databackup!J394","v":""},{"$f":"Databackup!K394","v":""},{"$f":"Databackup!L394","v":""},{"$f":"Databackup!M394","v":""},{"$f":"IF(Databackup!N394>0,Databackup!N394,\"--.--\")","v":""},"  Designation  "]
[{"$f":"IF(Databackup!B395=\"\",\"\",Databackup!B395)","v":""},{"$f":"Databackup!C395","v":""},{"$f":"Databackup!D395","v":""},{"$f":"Databackup!E395","v":""},{"$f":"Databackup!F395","v":""},{"$f":"Databackup!G395","v":""},{"$f":"Databackup!I395","v":""},{"$f":"Databackup!J395","v":""},{"$f":"Databackup!K395","v":""},{"$f":"Databackup!L395","v":""},{"$f":"Databackup!M395","v":""},{"$f":"IF(Databackup!N395>0,Databackup!N395,\"--.--\")","v":""},"  Designation  "]
[{"$f":"IF(Databackup!B396=\"\",\"\",Databackup!B396)","v":""},{"$f":"Databackup!C396","v":""},{"$f":"Databackup!D396","v":""},{"$f":"Databackup!E396","v":""},{"$f":"Databackup!F396","v":""},{"$f":"Databackup!G396","v":""},{"$f":"Databackup!I396","v":""},{"$f":"Databackup!J396","v":""},{"$f":"Databackup!K396","v":""},{"$f":"Databackup!L396","v":""},{"$f":"Databackup!M396","v":""},{"$f":"IF(Databackup!N396>0,Databackup!N396,\"--.--\")","v":""},"  Designation  "]
[{"$f":"IF(Databackup!B397=\"\",\"\",Databackup!B397)","v":""},{"$f":"Databackup!C397","v":""},{"$f":"Databackup!D397","v":""},{"$f":"Databackup!E397","v":""},{"$f":"Databackup!F397","v":""},{"$f":"Databackup!G397","v":""},{"$f":"Databackup!I397","v":""},{"$f":"Databackup!J397","v":""},{"$f":"Databackup!K397","v":""},{"$f":"Databackup!L397","v":""},{"$f":"Databackup!M397","v":""},{"$f":"IF(Databackup!N397>0,Databackup!N397,\"--.--\")","v":""},"  Designation  "]
[{"$f":"IF(Databackup!B398=\"\",\"\",Databackup!B398)","v":""},{"$f":"Databackup!C398","v":""},{"$f":"Databackup!D398","v":""},{"$f":"Databackup!E398","v":""},{"$f":"Databackup!F398","v":""},{"$f":"Databackup!G398","v":""},{"$f":"Databackup!I398","v":""},{"$f":"Databackup!J398","v":""},{"$f":"Databackup!K398","v":""},{"$f":"Databackup!L398","v":""},{"$f":"Databackup!M398","v":""},{"$f":"IF(Databackup!N398>0,Databackup!N398,\"--.--\")","v":""},"  Designation  "]
[{"$f":"IF(Databackup!B399=\"\",\"\",Databackup!B399)","v":""},{"$f":"Databackup!C399","v":""},{"$f":"Databackup!D399","v":""},{"$f":"Databackup!E399","v":""},{"$f":"Databackup!F399","v":""},{"$f":"Databackup!G399","v":""},{"$f":"Databackup!I399","v":""},{"$f":"Databackup!J399","v":""},{"$f":"Databackup!K399","v":""},{"$f":"Databackup!L399","v":""},{"$f":"Databackup!M399","v":""},{"$f":"IF(Databackup!N399>0,Databackup!N399,\"--.--\")","v":""},"  Designation  "]
[{"$f":"IF(Databackup!B400=\"\",\"\",Databackup!B400)","v":""},{"$f":"Databackup!C400","v":""},{"$f":"Databackup!D400","v":""},{"$f":"Databackup!E400","v":""},{"$f":"Databackup!F400","v":""},{"$f":"Databackup!G400","v":""},{"$f":"Databackup!I400","v":""},{"$f":"Databackup!J400","v":""},{"$f":"Databackup!K400","v":""},{"$f":"Databackup!L400","v":""},{"$f":"Databackup!M400","v":""},{"$f":"IF(Databackup!N400>0,Databackup!N400,\"--.--\")","v":""},"  Designation  "]
[{"$f":"IF(Databackup!B401=\"\",\"\",Databackup!B401)","v":""},{"$f":"Databackup!C401","v":""},{"$f":"Databackup!D401","v":""},{"$f":"Databackup!E401","v":""},{"$f":"Databackup!F401","v":""},{"$f":"Databackup!G401","v":""},{"$f":"Databackup!I401","v":""},{"$f":"Databackup!J401","v":""},{"$f":"Databackup!K401","v":""},{"$f":"Databackup!L401","v":""},{"$f":"Databackup!M401","v":""},{"$f":"IF(Databackup!N401>0,Databackup!N401,\"--.--\")","v":""},"  Designation  "]
[{"$f":"IF(Databackup!B402=\"\",\"\",Databackup!B402)","v":""},{"$f":"Databackup!C402","v":""},{"$f":"Databackup!D402","v":""},{"$f":"Databackup!E402","v":""},{"$f":"Databackup!F402","v":""},{"$f":"Databackup!G402","v":""},{"$f":"Databackup!I402","v":""},{"$f":"Databackup!J402","v":""},{"$f":"Databackup!K402","v":""},{"$f":"Databackup!L402","v":""},{"$f":"Databackup!M402","v":""},{"$f":"IF(Databackup!N402>0,Databackup!N402,\"--.--\")","v":""},"  Designation  "]
[{"$f":"IF(Databackup!B403=\"\",\"\",Databackup!B403)","v":""},{"$f":"Databackup!C403","v":""},{"$f":"Databackup!D403","v":""},{"$f":"Databackup!E403","v":""},{"$f":"Databackup!F403","v":""},{"$f":"Databackup!G403","v":""},{"$f":"Databackup!I403","v":""},{"$f":"Databackup!J403","v":""},{"$f":"Databackup!K403","v":""},{"$f":"Databackup!L403","v":""},{"$f":"Databackup!M403","v":""},{"$f":"IF(Databackup!N403>0,Databackup!N403,\"--.--\")","v":""},"  Designation  "]
[{"$f":"IF(Databackup!B404=\"\",\"\",Databackup!B404)","v":""},{"$f":"Databackup!C404","v":""},{"$f":"Databackup!D404","v":""},{"$f":"Databackup!E404","v":""},{"$f":"Databackup!F404","v":""},{"$f":"Databackup!G404","v":""},{"$f":"Databackup!I404","v":""},{"$f":"Databackup!J404","v":""},{"$f":"Databackup!K404","v":""},{"$f":"Databackup!L404","v":""},{"$f":"Databackup!M404","v":""},{"$f":"IF(Databackup!N404>0,Databackup!N404,\"--.--\")","v":""},"  Designation  "]
[{"$f":"IF(Databackup!B405=\"\",\"\",Databackup!B405)","v":""},{"$f":"Databackup!C405","v":""},{"$f":"Databackup!D405","v":""},{"$f":"Databackup!E405","v":""},{"$f":"Databackup!F405","v":""},{"$f":"Databackup!G405","v":""},{"$f":"Databackup!I405","v":""},{"$f":"Databackup!J405","v":""},{"$f":"Databackup!K405","v":""},{"$f":"Databackup!L405","v":""},{"$f":"Databackup!M405","v":""},{"$f":"IF(Databackup!N405>0,Databackup!N405,\"--.--\")","v":""},"  Designation  "]
[{"$f":"IF(Databackup!B406=\"\",\"\",Databackup!B406)","v":""},{"$f":"Databackup!C406","v":""},{"$f":"Databackup!D406","v":""},{"$f":"Databackup!E406","v":""},{"$f":"Databackup!F406","v":""},{"$f":"Databackup!G406","v":""},{"$f":"Databackup!I406","v":""},{"$f":"Databackup!J406","v":""},{"$f":"Databackup!K406","v":""},{"$f":"Databackup!L406","v":""},{"$f":"Databackup!M406","v":""},{"$f":"IF(Databackup!N406>0,Databackup!N406,\"--.--\")","v":""},"  Designation  "]
[{"$f":"IF(Databackup!B407=\"\",\"\",Databackup!B407)","v":""},{"$f":"Databackup!C407","v":""},{"$f":"Databackup!D407","v":""},{"$f":"Databackup!E407","v":""},{"$f":"Databackup!F407","v":""},{"$f":"Databackup!G407","v":""},{"$f":"Databackup!I407","v":""},{"$f":"Databackup!J407","v":""},{"$f":"Databackup!K407","v":""},{"$f":"Databackup!L407","v":""},{"$f":"Databackup!M407","v":""},{"$f":"IF(Databackup!N407>0,Databackup!N407,\"--.--\")","v":""},"  Designation  "]
[{"$f":"IF(Databackup!B408=\"\",\"\",Databackup!B408)","v":""},{"$f":"Databackup!C408","v":""},{"$f":"Databackup!D408","v":""},{"$f":"Databackup!E408","v":""},{"$f":"Databackup!F408","v":""},{"$f":"Databackup!G408","v":""},{"$f":"Databackup!I408","v":""},{"$f":"Databackup!J408","v":""},{"$f":"Databackup!K408","v":""},{"$f":"Databackup!L408","v":""},{"$f":"Databackup!M408","v":""},{"$f":"IF(Databackup!N408>0,Databackup!N408,\"--.--\")","v":""},"  Designation  "]
[{"$f":"IF(Databackup!B409=\"\",\"\",Databackup!B409)","v":""},{"$f":"Databackup!C409","v":""},{"$f":"Databackup!D409","v":""},{"$f":"Databackup!E409","v":""},{"$f":"Databackup!F409","v":""},{"$f":"Databackup!G409","v":""},{"$f":"Databackup!I409","v":""},{"$f":"Databackup!J409","v":""},{"$f":"Databackup!K409","v":""},{"$f":"Databackup!L409","v":""},{"$f":"Databackup!M409","v":""},{"$f":"IF(Databackup!N409>0,Databackup!N409,\"--.--\")","v":""},"  Designation  "]
[{"$f":"IF(Databackup!B410=\"\",\"\",Databackup!B410)","v":""},{"$f":"Databackup!C410","v":""},{"$f":"Databackup!D410","v":""},{"$f":"Databackup!E410","v":""},{"$f":"Databackup!F410","v":""},{"$f":"Databackup!G410","v":""},{"$f":"Databackup!I410","v":""},{"$f":"Databackup!J410","v":""},{"$f":"Databackup!K410","v":""},{"$f":"Databackup!L410","v":""},{"$f":"Databackup!M410","v":""},{"$f":"IF(Databackup!N410>0,Databackup!N410,\"--.--\")","v":""},"  Designation  "]
[{"$f":"IF(Databackup!B411=\"\",\"\",Databackup!B411)","v":""},{"$f":"Databackup!C411","v":""},{"$f":"Databackup!D411","v":""},{"$f":"Databackup!E411","v":""},{"$f":"Databackup!F411","v":""},{"$f":"Databackup!G411","v":""},{"$f":"Databackup!I411","v":""},{"$f":"Databackup!J411","v":""},{"$f":"Databackup!K411","v":""},{"$f":"Databackup!L411","v":""},{"$f":"Databackup!M411","v":""},{"$f":"IF(Databackup!N411>0,Databackup!N411,\"--.--\")","v":""},"  Designation  "]
[{"$f":"IF(Databackup!B412=\"\",\"\",Databackup!B412)","v":""},{"$f":"Databackup!C412","v":""},{"$f":"Databackup!D412","v":""},{"$f":"Databackup!E412","v":""},{"$f":"Databackup!F412","v":""},{"$f":"Databackup!G412","v":""},{"$f":"Databackup!I412","v":""},{"$f":"Databackup!J412","v":""},{"$f":"Databackup!K412","v":""},{"$f":"Databackup!L412","v":""},{"$f":"Databackup!M412","v":""},{"$f":"IF(Databackup!N412>0,Databackup!N412,\"--.--\")","v":""},"  Designation  "]
[{"$f":"IF(Databackup!B413=\"\",\"\",Databackup!B413)","v":""},{"$f":"Databackup!C413","v":""},{"$f":"Databackup!D413","v":""},{"$f":"Databackup!E413","v":""},{"$f":"Databackup!F413","v":""},{"$f":"Databackup!G413","v":""},{"$f":"Databackup!I413","v":""},{"$f":"Databackup!J413","v":""},{"$f":"Databackup!K413","v":""},{"$f":"Databackup!L413","v":""},{"$f":"Databackup!M413","v":""},{"$f":"IF(Databackup!N413>0,Databackup!N413,\"--.--\")","v":""},"  Designation  "]
[{"$f":"IF(Databackup!B414=\"\",\"\",Databackup!B414)","v":""},{"$f":"Databackup!C414","v":""},{"$f":"Databackup!D414","v":""},{"$f":"Databackup!E414","v":""},{"$f":"Databackup!F414","v":""},{"$f":"Databackup!G414","v":""},{"$f":"Databackup!I414","v":""},{"$f":"Databackup!J414","v":""},{"$f":"Databackup!K414","v":""},{"$f":"Databackup!L414","v":""},{"$f":"Databackup!M414","v":""},{"$f":"IF(Databackup!N414>0,Databackup!N414,\"--.--\")","v":""},"  Designation  "]
[{"$f":"IF(Databackup!B415=\"\",\"\",Databackup!B415)","v":""},{"$f":"Databackup!C415","v":""},{"$f":"Databackup!D415","v":""},{"$f":"Databackup!E415","v":""},{"$f":"Databackup!F415","v":""},{"$f":"Databackup!G415","v":""},{"$f":"Databackup!I415","v":""},{"$f":"Databackup!J415","v":""},{"$f":"Databackup!K415","v":""},{"$f":"Databackup!L415","v":""},{"$f":"Databackup!M415","v":""},{"$f":"IF(Databackup!N415>0,Databackup!N415,\"--.--\")","v":""},"  Designation  "]
[{"$f":"IF(Databackup!B416=\"\",\"\",Databackup!B416)","v":""},{"$f":"Databackup!C416","v":""},{"$f":"Databackup!D416","v":""},{"$f":"Databackup!E416","v":""},{"$f":"Databackup!F416","v":""},{"$f":"Databackup!G416","v":""},{"$f":"Databackup!I416","v":""},{"$f":"Databackup!J416","v":""},{"$f":"Databackup!K416","v":""},{"$f":"Databackup!L416","v":""},{"$f":"Databackup!M416","v":""},{"$f":"IF(Databackup!N416>0,Databackup!N416,\"--.--\")","v":""},"  Designation  "]
[{"$f":"IF(Databackup!B417=\"\",\"\",Databackup!B417)","v":""},{"$f":"Databackup!C417","v":""},{"$f":"Databackup!D417","v":""},{"$f":"Databackup!E417","v":""},{"$f":"Databackup!F417","v":""},{"$f":"Databackup!G417","v":""},{"$f":"Databackup!I417","v":""},{"$f":"Databackup!J417","v":""},{"$f":"Databackup!K417","v":""},{"$f":"Databackup!L417","v":""},{"$f":"Databackup!M417","v":""},{"$f":"IF(Databackup!N417>0,Databackup!N417,\"--.--\")","v":""},"  Designation  "]
[{"$f":"IF(Databackup!B418=\"\",\"\",Databackup!B418)","v":""},{"$f":"Databackup!C418","v":""},{"$f":"Databackup!D418","v":""},{"$f":"Databackup!E418","v":""},{"$f":"Databackup!F418","v":""},{"$f":"Databackup!G418","v":""},{"$f":"Databackup!I418","v":""},{"$f":"Databackup!J418","v":""},{"$f":"Databackup!K418","v":""},{"$f":"Databackup!L418","v":""},{"$f":"Databackup!M418","v":""},{"$f":"IF(Databackup!N418>0,Databackup!N418,\"--.--\")","v":""},"  Designation  "]
[{"$f":"IF(Databackup!B419=\"\",\"\",Databackup!B419)","v":""},{"$f":"Databackup!C419","v":""},{"$f":"Databackup!D419","v":""},{"$f":"Databackup!E419","v":""},{"$f":"Databackup!F419","v":""},{"$f":"Databackup!G419","v":""},{"$f":"Databackup!I419","v":""},{"$f":"Databackup!J419","v":""},{"$f":"Databackup!K419","v":""},{"$f":"Databackup!L419","v":""},{"$f":"Databackup!M419","v":""},{"$f":"IF(Databackup!N419>0,Databackup!N419,\"--.--\")","v":""},"  Designation  "]
[{"$f":"IF(Databackup!B420=\"\",\"\",Databackup!B420)","v":""},{"$f":"Databackup!C420","v":""},{"$f":"Databackup!D420","v":""},{"$f":"Databackup!E420","v":""},{"$f":"Databackup!F420","v":""},{"$f":"Databackup!G420","v":""},{"$f":"Databackup!I420","v":""},{"$f":"Databackup!J420","v":""},{"$f":"Databackup!K420","v":""},{"$f":"Databackup!L420","v":""},{"$f":"Databackup!M420","v":""},{"$f":"IF(Databackup!N420>0,Databackup!N420,\"--.--\")","v":""},"  Designation  "]
[{"$f":"IF(Databackup!B421=\"\",\"\",Databackup!B421)","v":""},{"$f":"Databackup!C421","v":""},{"$f":"Databackup!D421","v":""},{"$f":"Databackup!E421","v":""},{"$f":"Databackup!F421","v":""},{"$f":"Databackup!G421","v":""},{"$f":"Databackup!I421","v":""},{"$f":"Databackup!J421","v":""},{"$f":"Databackup!K421","v":""},{"$f":"Databackup!L421","v":""},{"$f":"Databackup!M421","v":""},{"$f":"IF(Databackup!N421>0,Databackup!N421,\"--.--\")","v":""},"  Designation  "]
[{"$f":"IF(Databackup!B422=\"\",\"\",Databackup!B422)","v":""},{"$f":"Databackup!C422","v":""},{"$f":"Databackup!D422","v":""},{"$f":"Databackup!E422","v":""},{"$f":"Databackup!F422","v":""},{"$f":"Databackup!G422","v":""},{"$f":"Databackup!I422","v":""},{"$f":"Databackup!J422","v":""},{"$f":"Databackup!K422","v":""},{"$f":"Databackup!L422","v":""},{"$f":"Databackup!M422","v":""},{"$f":"IF(Databackup!N422>0,Databackup!N422,\"--.--\")","v":""},"  Designation  "]
[{"$f":"IF(Databackup!B423=\"\",\"\",Databackup!B423)","v":""},{"$f":"Databackup!C423","v":""},{"$f":"Databackup!D423","v":""},{"$f":"Databackup!E423","v":""},{"$f":"Databackup!F423","v":""},{"$f":"Databackup!G423","v":""},{"$f":"Databackup!I423","v":""},{"$f":"Databackup!J423","v":""},{"$f":"Databackup!K423","v":""},{"$f":"Databackup!L423","v":""},{"$f":"Databackup!M423","v":""},{"$f":"IF(Databackup!N423>0,Databackup!N423,\"--.--\")","v":""},"  Designation  "]
[{"$f":"IF(Databackup!B424=\"\",\"\",Databackup!B424)","v":""},{"$f":"Databackup!C424","v":""},{"$f":"Databackup!D424","v":""},{"$f":"Databackup!E424","v":""},{"$f":"Databackup!F424","v":""},{"$f":"Databackup!G424","v":""},{"$f":"Databackup!I424","v":""},{"$f":"Databackup!J424","v":""},{"$f":"Databackup!K424","v":""},{"$f":"Databackup!L424","v":""},{"$f":"Databackup!M424","v":""},{"$f":"IF(Databackup!N424>0,Databackup!N424,\"--.--\")","v":""},"  Designation  "]
[{"$f":"IF(Databackup!B425=\"\",\"\",Databackup!B425)","v":""},{"$f":"Databackup!C425","v":""},{"$f":"Databackup!D425","v":""},{"$f":"Databackup!E425","v":""},{"$f":"Databackup!F425","v":""},{"$f":"Databackup!G425","v":""},{"$f":"Databackup!I425","v":""},{"$f":"Databackup!J425","v":""},{"$f":"Databackup!K425","v":""},{"$f":"Databackup!L425","v":""},{"$f":"Databackup!M425","v":""},{"$f":"IF(Databackup!N425>0,Databackup!N425,\"--.--\")","v":""},"  Designation  "]
[{"$f":"IF(Databackup!B426=\"\",\"\",Databackup!B426)","v":""},{"$f":"Databackup!C426","v":""},{"$f":"Databackup!D426","v":""},{"$f":"Databackup!E426","v":""},{"$f":"Databackup!F426","v":""},{"$f":"Databackup!G426","v":""},{"$f":"Databackup!I426","v":""},{"$f":"Databackup!J426","v":""},{"$f":"Databackup!K426","v":""},{"$f":"Databackup!L426","v":""},{"$f":"Databackup!M426","v":""},{"$f":"IF(Databackup!N426>0,Databackup!N426,\"--.--\")","v":""},"  Designation  "]
[{"$f":"IF(Databackup!B427=\"\",\"\",Databackup!B427)","v":""},{"$f":"Databackup!C427","v":""},{"$f":"Databackup!D427","v":""},{"$f":"Databackup!E427","v":""},{"$f":"Databackup!F427","v":""},{"$f":"Databackup!G427","v":""},{"$f":"Databackup!I427","v":""},{"$f":"Databackup!J427","v":""},{"$f":"Databackup!K427","v":""},{"$f":"Databackup!L427","v":""},{"$f":"Databackup!M427","v":""},{"$f":"IF(Databackup!N427>0,Databackup!N427,\"--.--\")","v":""},"  Designation  "]
[{"$f":"IF(Databackup!B428=\"\",\"\",Databackup!B428)","v":""},{"$f":"Databackup!C428","v":""},{"$f":"Databackup!D428","v":""},{"$f":"Databackup!E428","v":""},{"$f":"Databackup!F428","v":""},{"$f":"Databackup!G428","v":""},{"$f":"Databackup!I428","v":""},{"$f":"Databackup!J428","v":""},{"$f":"Databackup!K428","v":""},{"$f":"Databackup!L428","v":""},{"$f":"Databackup!M428","v":""},{"$f":"IF(Databackup!N428>0,Databackup!N428,\"--.--\")","v":""},"  Designation  "]
[{"$f":"IF(Databackup!B429=\"\",\"\",Databackup!B429)","v":""},{"$f":"Databackup!C429","v":""},{"$f":"Databackup!D429","v":""},{"$f":"Databackup!E429","v":""},{"$f":"Databackup!F429","v":""},{"$f":"Databackup!G429","v":""},{"$f":"Databackup!I429","v":""},{"$f":"Databackup!J429","v":""},{"$f":"Databackup!K429","v":""},{"$f":"Databackup!L429","v":""},{"$f":"Databackup!M429","v":""},{"$f":"IF(Databackup!N429>0,Databackup!N429,\"--.--\")","v":""},"  Designation  "]
[{"$f":"IF(Databackup!B430=\"\",\"\",Databackup!B430)","v":""},{"$f":"Databackup!C430","v":""},{"$f":"Databackup!D430","v":""},{"$f":"Databackup!E430","v":""},{"$f":"Databackup!F430","v":""},{"$f":"Databackup!G430","v":""},{"$f":"Databackup!I430","v":""},{"$f":"Databackup!J430","v":""},{"$f":"Databackup!K430","v":""},{"$f":"Databackup!L430","v":""},{"$f":"Databackup!M430","v":""},{"$f":"IF(Databackup!N430>0,Databackup!N430,\"--.--\")","v":""},"  Designation  "]
[{"$f":"IF(Databackup!B431=\"\",\"\",Databackup!B431)","v":""},{"$f":"Databackup!C431","v":""},{"$f":"Databackup!D431","v":""},{"$f":"Databackup!E431","v":""},{"$f":"Databackup!F431","v":""},{"$f":"Databackup!G431","v":""},{"$f":"Databackup!I431","v":""},{"$f":"Databackup!J431","v":""},{"$f":"Databackup!K431","v":""},{"$f":"Databackup!L431","v":""},{"$f":"Databackup!M431","v":""},{"$f":"IF(Databackup!N431>0,Databackup!N431,\"--.--\")","v":""},"  Designation  "]
[{"$f":"IF(Databackup!B432=\"\",\"\",Databackup!B432)","v":""},{"$f":"Databackup!C432","v":""},{"$f":"Databackup!D432","v":""},{"$f":"Databackup!E432","v":""},{"$f":"Databackup!F432","v":""},{"$f":"Databackup!G432","v":""},{"$f":"Databackup!I432","v":""},{"$f":"Databackup!J432","v":""},{"$f":"Databackup!K432","v":""},{"$f":"Databackup!L432","v":""},{"$f":"Databackup!M432","v":""},{"$f":"IF(Databackup!N432>0,Databackup!N432,\"--.--\")","v":""},"  Designation  "]
[{"$f":"IF(Databackup!B433=\"\",\"\",Databackup!B433)","v":""},{"$f":"Databackup!C433","v":""},{"$f":"Databackup!D433","v":""},{"$f":"Databackup!E433","v":""},{"$f":"Databackup!F433","v":""},{"$f":"Databackup!G433","v":""},{"$f":"Databackup!I433","v":""},{"$f":"Databackup!J433","v":""},{"$f":"Databackup!K433","v":""},{"$f":"Databackup!L433","v":""},{"$f":"Databackup!M433","v":""},{"$f":"IF(Databackup!N433>0,Databackup!N433,\"--.--\")","v":""},"  Designation  "]
[{"$f":"IF(Databackup!B434=\"\",\"\",Databackup!B434)","v":""},{"$f":"Databackup!C434","v":""},{"$f":"Databackup!D434","v":""},{"$f":"Databackup!E434","v":""},{"$f":"Databackup!F434","v":""},{"$f":"Databackup!G434","v":""},{"$f":"Databackup!I434","v":""},{"$f":"Databackup!J434","v":""},{"$f":"Databackup!K434","v":""},{"$f":"Databackup!L434","v":""},{"$f":"Databackup!M434","v":""},{"$f":"IF(Databackup!N434>0,Databackup!N434,\"--.--\")","v":""},"  Designation  "]
[{"$f":"IF(Databackup!B435=\"\",\"\",Databackup!B435)","v":""},{"$f":"Databackup!C435","v":""},{"$f":"Databackup!D435","v":""},{"$f":"Databackup!E435","v":""},{"$f":"Databackup!F435","v":""},{"$f":"Databackup!G435","v":""},{"$f":"Databackup!I435","v":""},{"$f":"Databackup!J435","v":""},{"$f":"Databackup!K435","v":""},{"$f":"Databackup!L435","v":""},{"$f":"Databackup!M435","v":""},{"$f":"IF(Databackup!N435>0,Databackup!N435,\"--.--\")","v":""},"  Designation  "]
[{"$f":"IF(Databackup!B436=\"\",\"\",Databackup!B436)","v":""},{"$f":"Databackup!C436","v":""},{"$f":"Databackup!D436","v":""},{"$f":"Databackup!E436","v":""},{"$f":"Databackup!F436","v":""},{"$f":"Databackup!G436","v":""},{"$f":"Databackup!I436","v":""},{"$f":"Databackup!J436","v":""},{"$f":"Databackup!K436","v":""},{"$f":"Databackup!L436","v":""},{"$f":"Databackup!M436","v":""},{"$f":"IF(Databackup!N436>0,Databackup!N436,\"--.--\")","v":""},"  Designation  "]
[{"$f":"IF(Databackup!B437=\"\",\"\",Databackup!B437)","v":""},{"$f":"Databackup!C437","v":""},{"$f":"Databackup!D437","v":""},{"$f":"Databackup!E437","v":""},{"$f":"Databackup!F437","v":""},{"$f":"Databackup!G437","v":""},{"$f":"Databackup!I437","v":""},{"$f":"Databackup!J437","v":""},{"$f":"Databackup!K437","v":""},{"$f":"Databackup!L437","v":""},{"$f":"Databackup!M437","v":""},{"$f":"IF(Databackup!N437>0,Databackup!N437,\"--.--\")","v":""},"  Designation  "]
[{"$f":"IF(Databackup!B438=\"\",\"\",Databackup!B438)","v":""},{"$f":"Databackup!C438","v":""},{"$f":"Databackup!D438","v":""},{"$f":"Databackup!E438","v":""},{"$f":"Databackup!F438","v":""},{"$f":"Databackup!G438","v":""},{"$f":"Databackup!I438","v":""},{"$f":"Databackup!J438","v":""},{"$f":"Databackup!K438","v":""},{"$f":"Databackup!L438","v":""},{"$f":"Databackup!M438","v":""},{"$f":"IF(Databackup!N438>0,Databackup!N438,\"--.--\")","v":""},"  Designation  "]
[{"$f":"IF(Databackup!B439=\"\",\"\",Databackup!B439)","v":""},{"$f":"Databackup!C439","v":""},{"$f":"Databackup!D439","v":""},{"$f":"Databackup!E439","v":""},{"$f":"Databackup!F439","v":""},{"$f":"Databackup!G439","v":""},{"$f":"Databackup!I439","v":""},{"$f":"Databackup!J439","v":""},{"$f":"Databackup!K439","v":""},{"$f":"Databackup!L439","v":""},{"$f":"Databackup!M439","v":""},{"$f":"IF(Databackup!N439>0,Databackup!N439,\"--.--\")","v":""},"  Designation  "]
[{"$f":"IF(Databackup!B440=\"\",\"\",Databackup!B440)","v":""},{"$f":"Databackup!C440","v":""},{"$f":"Databackup!D440","v":""},{"$f":"Databackup!E440","v":""},{"$f":"Databackup!F440","v":""},{"$f":"Databackup!G440","v":""},{"$f":"Databackup!I440","v":""},{"$f":"Databackup!J440","v":""},{"$f":"Databackup!K440","v":""},{"$f":"Databackup!L440","v":""},{"$f":"Databackup!M440","v":""},{"$f":"IF(Databackup!N440>0,Databackup!N440,\"--.--\")","v":""},"  Designation  "]
[{"$f":"IF(Databackup!B441=\"\",\"\",Databackup!B441)","v":""},{"$f":"Databackup!C441","v":""},{"$f":"Databackup!D441","v":""},{"$f":"Databackup!E441","v":""},{"$f":"Databackup!F441","v":""},{"$f":"Databackup!G441","v":""},{"$f":"Databackup!I441","v":""},{"$f":"Databackup!J441","v":""},{"$f":"Databackup!K441","v":""},{"$f":"Databackup!L441","v":""},{"$f":"Databackup!M441","v":""},{"$f":"IF(Databackup!N441>0,Databackup!N441,\"--.--\")","v":""},"  Designation  "]
[{"$f":"IF(Databackup!B442=\"\",\"\",Databackup!B442)","v":""},{"$f":"Databackup!C442","v":""},{"$f":"Databackup!D442","v":""},{"$f":"Databackup!E442","v":""},{"$f":"Databackup!F442","v":""},{"$f":"Databackup!G442","v":""},{"$f":"Databackup!I442","v":""},{"$f":"Databackup!J442","v":""},{"$f":"Databackup!K442","v":""},{"$f":"Databackup!L442","v":""},{"$f":"Databackup!M442","v":""},{"$f":"IF(Databackup!N442>0,Databackup!N442,\"--.--\")","v":""},"  Designation  "]
[{"$f":"IF(Databackup!B443=\"\",\"\",Databackup!B443)","v":""},{"$f":"Databackup!C443","v":""},{"$f":"Databackup!D443","v":""},{"$f":"Databackup!E443","v":""},{"$f":"Databackup!F443","v":""},{"$f":"Databackup!G443","v":""},{"$f":"Databackup!I443","v":""},{"$f":"Databackup!J443","v":""},{"$f":"Databackup!K443","v":""},{"$f":"Databackup!L443","v":""},{"$f":"Databackup!M443","v":""},{"$f":"IF(Databackup!N443>0,Databackup!N443,\"--.--\")","v":""},"  Designation  "]
[{"$f":"IF(Databackup!B444=\"\",\"\",Databackup!B444)","v":""},{"$f":"Databackup!C444","v":""},{"$f":"Databackup!D444","v":""},{"$f":"Databackup!E444","v":""},{"$f":"Databackup!F444","v":""},{"$f":"Databackup!G444","v":""},{"$f":"Databackup!I444","v":""},{"$f":"Databackup!J444","v":""},{"$f":"Databackup!K444","v":""},{"$f":"Databackup!L444","v":""},{"$f":"Databackup!M444","v":""},{"$f":"IF(Databackup!N444>0,Databackup!N444,\"--.--\")","v":""},"  Designation  "]
[{"$f":"IF(Databackup!B445=\"\",\"\",Databackup!B445)","v":""},{"$f":"Databackup!C445","v":""},{"$f":"Databackup!D445","v":""},{"$f":"Databackup!E445","v":""},{"$f":"Databackup!F445","v":""},{"$f":"Databackup!G445","v":""},{"$f":"Databackup!I445","v":""},{"$f":"Databackup!J445","v":""},{"$f":"Databackup!K445","v":""},{"$f":"Databackup!L445","v":""},{"$f":"Databackup!M445","v":""},{"$f":"IF(Databackup!N445>0,Databackup!N445,\"--.--\")","v":""},"  Designation  "]
[{"$f":"IF(Databackup!B446=\"\",\"\",Databackup!B446)","v":""},{"$f":"Databackup!C446","v":""},{"$f":"Databackup!D446","v":""},{"$f":"Databackup!E446","v":""},{"$f":"Databackup!F446","v":""},{"$f":"Databackup!G446","v":""},{"$f":"Databackup!I446","v":""},{"$f":"Databackup!J446","v":""},{"$f":"Databackup!K446","v":""},{"$f":"Databackup!L446","v":""},{"$f":"Databackup!M446","v":""},{"$f":"IF(Databackup!N446>0,Databackup!N446,\"--.--\")","v":""},"  Designation  "]
[{"$f":"IF(Databackup!B447=\"\",\"\",Databackup!B447)","v":""},{"$f":"Databackup!C447","v":""},{"$f":"Databackup!D447","v":""},{"$f":"Databackup!E447","v":""},{"$f":"Databackup!F447","v":""},{"$f":"Databackup!G447","v":""},{"$f":"Databackup!I447","v":""},{"$f":"Databackup!J447","v":""},{"$f":"Databackup!K447","v":""},{"$f":"Databackup!L447","v":""},{"$f":"Databackup!M447","v":""},{"$f":"IF(Databackup!N447>0,Databackup!N447,\"--.--\")","v":""},"  Designation  "]
[{"$f":"IF(Databackup!B448=\"\",\"\",Databackup!B448)","v":""},{"$f":"Databackup!C448","v":""},{"$f":"Databackup!D448","v":""},{"$f":"Databackup!E448","v":""},{"$f":"Databackup!F448","v":""},{"$f":"Databackup!G448","v":""},{"$f":"Databackup!I448","v":""},{"$f":"Databackup!J448","v":""},{"$f":"Databackup!K448","v":""},{"$f":"Databackup!L448","v":""},{"$f":"Databackup!M448","v":""},{"$f":"IF(Databackup!N448>0,Databackup!N448,\"--.--\")","v":""},"  Designation  "]
[{"$f":"IF(Databackup!B449=\"\",\"\",Databackup!B449)","v":""},{"$f":"Databackup!C449","v":""},{"$f":"Databackup!D449","v":""},{"$f":"Databackup!E449","v":""},{"$f":"Databackup!F449","v":""},{"$f":"Databackup!G449","v":""},{"$f":"Databackup!I449","v":""},{"$f":"Databackup!J449","v":""},{"$f":"Databackup!K449","v":""},{"$f":"Databackup!L449","v":""},{"$f":"Databackup!M449","v":""},{"$f":"IF(Databackup!N449>0,Databackup!N449,\"--.--\")","v":""},"  Designation  "]
[{"$f":"IF(Databackup!B450=\"\",\"\",Databackup!B450)","v":""},{"$f":"Databackup!C450","v":""},{"$f":"Databackup!D450","v":""},{"$f":"Databackup!E450","v":""},{"$f":"Databackup!F450","v":""},{"$f":"Databackup!G450","v":""},{"$f":"Databackup!I450","v":""},{"$f":"Databackup!J450","v":""},{"$f":"Databackup!K450","v":""},{"$f":"Databackup!L450","v":""},{"$f":"Databackup!M450","v":""},{"$f":"IF(Databackup!N450>0,Databackup!N450,\"--.--\")","v":""},"  Designation  "]
[{"$f":"IF(Databackup!B451=\"\",\"\",Databackup!B451)","v":""},{"$f":"Databackup!C451","v":""},{"$f":"Databackup!D451","v":""},{"$f":"Databackup!E451","v":""},{"$f":"Databackup!F451","v":""},{"$f":"Databackup!G451","v":""},{"$f":"Databackup!I451","v":""},{"$f":"Databackup!J451","v":""},{"$f":"Databackup!K451","v":""},{"$f":"Databackup!L451","v":""},{"$f":"Databackup!M451","v":""},{"$f":"IF(Databackup!N451>0,Databackup!N451,\"--.--\")","v":""},"  Designation  "]
[{"$f":"IF(Databackup!B452=\"\",\"\",Databackup!B452)","v":""},{"$f":"Databackup!C452","v":""},{"$f":"Databackup!D452","v":""},{"$f":"Databackup!E452","v":""},{"$f":"Databackup!F452","v":""},{"$f":"Databackup!G452","v":""},{"$f":"Databackup!I452","v":""},{"$f":"Databackup!J452","v":""},{"$f":"Databackup!K452","v":""},{"$f":"Databackup!L452","v":""},{"$f":"Databackup!M452","v":""},{"$f":"IF(Databackup!N452>0,Databackup!N452,\"--.--\")","v":""},"  Designation  "]
[{"$f":"IF(Databackup!B453=\"\",\"\",Databackup!B453)","v":""},{"$f":"Databackup!C453","v":""},{"$f":"Databackup!D453","v":""},{"$f":"Databackup!E453","v":""},{"$f":"Databackup!F453","v":""},{"$f":"Databackup!G453","v":""},{"$f":"Databackup!I453","v":""},{"$f":"Databackup!J453","v":""},{"$f":"Databackup!K453","v":""},{"$f":"Databackup!L453","v":""},{"$f":"Databackup!M453","v":""},{"$f":"IF(Databackup!N453>0,Databackup!N453,\"--.--\")","v":""},"  Designation  "]
[{"$f":"IF(Databackup!B454=\"\",\"\",Databackup!B454)","v":""},{"$f":"Databackup!C454","v":""},{"$f":"Databackup!D454","v":""},{"$f":"Databackup!E454","v":""},{"$f":"Databackup!F454","v":""},{"$f":"Databackup!G454","v":""},{"$f":"Databackup!I454","v":""},{"$f":"Databackup!J454","v":""},{"$f":"Databackup!K454","v":""},{"$f":"Databackup!L454","v":""},{"$f":"Databackup!M454","v":""},{"$f":"IF(Databackup!N454>0,Databackup!N454,\"--.--\")","v":""},"  Designation  "]
[{"$f":"IF(Databackup!B455=\"\",\"\",Databackup!B455)","v":""},{"$f":"Databackup!C455","v":""},{"$f":"Databackup!D455","v":""},{"$f":"Databackup!E455","v":""},{"$f":"Databackup!F455","v":""},{"$f":"Databackup!G455","v":""},{"$f":"Databackup!I455","v":""},{"$f":"Databackup!J455","v":""},{"$f":"Databackup!K455","v":""},{"$f":"Databackup!L455","v":""},{"$f":"Databackup!M455","v":""},{"$f":"IF(Databackup!N455>0,Databackup!N455,\"--.--\")","v":""},{"$f":"CONCATENATE(B467,\"  \",\"Designation\",\"  \",C467)","v":"  Designation  "}]
[{"$f":"IF(Databackup!B456=\"\",\"\",Databackup!B456)","v":""},{"$f":"Databackup!C456","v":""},{"$f":"Databackup!D456","v":""},{"$f":"Databackup!E456","v":""},{"$f":"Databackup!F456","v":""},{"$f":"Databackup!G456","v":""},{"$f":"Databackup!I456","v":""},{"$f":"Databackup!J456","v":""},{"$f":"Databackup!K456","v":""},{"$f":"Databackup!L456","v":""},{"$f":"Databackup!M456","v":""},{"$f":"IF(Databackup!N456>0,Databackup!N456,\"--.--\")","v":""},"  Designation  "]
[{"$f":"IF(Databackup!B457=\"\",\"\",Databackup!B457)","v":""},{"$f":"Databackup!C457","v":""},{"$f":"Databackup!D457","v":""},{"$f":"Databackup!E457","v":""},{"$f":"Databackup!F457","v":""},{"$f":"Databackup!G457","v":""},{"$f":"Databackup!I457","v":""},{"$f":"Databackup!J457","v":""},{"$f":"Databackup!K457","v":""},{"$f":"Databackup!L457","v":""},{"$f":"Databackup!M457","v":""},{"$f":"IF(Databackup!N457>0,Databackup!N457,\"--.--\")","v":""},"  Designation  "]
[{"$f":"IF(Databackup!B458=\"\",\"\",Databackup!B458)","v":""},{"$f":"Databackup!C458","v":""},{"$f":"Databackup!D458","v":""},{"$f":"Databackup!E458","v":""},{"$f":"Databackup!F458","v":""},{"$f":"Databackup!G458","v":""},{"$f":"Databackup!I458","v":""},{"$f":"Databackup!J458","v":""},{"$f":"Databackup!K458","v":""},{"$f":"Databackup!L458","v":""},{"$f":"Databackup!M458","v":""},{"$f":"IF(Databackup!N458>0,Databackup!N458,\"--.--\")","v":""},"  Designation  "]
[{"$f":"IF(Databackup!B459=\"\",\"\",Databackup!B459)","v":""},{"$f":"Databackup!C459","v":""},{"$f":"Databackup!D459","v":""},{"$f":"Databackup!E459","v":""},{"$f":"Databackup!F459","v":""},{"$f":"Databackup!G459","v":""},{"$f":"Databackup!I459","v":""},{"$f":"Databackup!J459","v":""},{"$f":"Databackup!K459","v":""},{"$f":"Databackup!L459","v":""},{"$f":"Databackup!M459","v":""},{"$f":"IF(Databackup!N459>0,Databackup!N459,\"--.--\")","v":""},"  Designation  "]
[{"$f":"IF(Databackup!B460=\"\",\"\",Databackup!B460)","v":""},{"$f":"Databackup!C460","v":""},{"$f":"Databackup!D460","v":""},{"$f":"Databackup!E460","v":""},{"$f":"Databackup!F460","v":""},{"$f":"Databackup!G460","v":""},{"$f":"Databackup!I460","v":""},{"$f":"Databackup!J460","v":""},{"$f":"Databackup!K460","v":""},{"$f":"Databackup!L460","v":""},{"$f":"Databackup!M460","v":""},{"$f":"IF(Databackup!N460>0,Databackup!N460,\"--.--\")","v":""},"  Designation  "]
[{"$f":"IF(Databackup!B461=\"\",\"\",Databackup!B461)","v":""},{"$f":"Databackup!C461","v":""},{"$f":"Databackup!D461","v":""},{"$f":"Databackup!E461","v":""},{"$f":"Databackup!F461","v":""},{"$f":"Databackup!G461","v":""},{"$f":"Databackup!I461","v":""},{"$f":"Databackup!J461","v":""},{"$f":"Databackup!K461","v":""},{"$f":"Databackup!L461","v":""},{"$f":"Databackup!M461","v":""},{"$f":"IF(Databackup!N461>0,Databackup!N461,\"--.--\")","v":""},"  Designation  "]
[{"$f":"IF(Databackup!B462=\"\",\"\",Databackup!B462)","v":""},{"$f":"Databackup!C462","v":""},{"$f":"Databackup!D462","v":""},{"$f":"Databackup!E462","v":""},{"$f":"Databackup!F462","v":""},{"$f":"Databackup!G462","v":""},{"$f":"Databackup!I462","v":""},{"$f":"Databackup!J462","v":""},{"$f":"Databackup!K462","v":""},{"$f":"Databackup!L462","v":""},{"$f":"Databackup!M462","v":""},{"$f":"IF(Databackup!N462>0,Databackup!N462,\"--.--\")","v":""},"  Designation  "]
[{"$f":"IF(Databackup!B463=\"\",\"\",Databackup!B463)","v":""},{"$f":"Databackup!C463","v":""},{"$f":"Databackup!D463","v":""},{"$f":"Databackup!E463","v":""},{"$f":"Databackup!F463","v":""},{"$f":"Databackup!G463","v":""},{"$f":"Databackup!I463","v":""},{"$f":"Databackup!J463","v":""},{"$f":"Databackup!K463","v":""},{"$f":"Databackup!L463","v":""},{"$f":"Databackup!M463","v":""},{"$f":"IF(Databackup!N463>0,Databackup!N463,\"--.--\")","v":""},"  Designation  "]
[{"$f":"IF(Databackup!B464=\"\",\"\",Databackup!B464)","v":""},{"$f":"Databackup!C464","v":""},{"$f":"Databackup!D464","v":""},{"$f":"Databackup!E464","v":""},{"$f":"Databackup!F464","v":""},{"$f":"Databackup!G464","v":""},{"$f":"Databackup!I464","v":""},{"$f":"Databackup!J464","v":""},{"$f":"Databackup!K464","v":""},{"$f":"Databackup!L464","v":""},{"$f":"Databackup!M464","v":""},{"$f":"IF(Databackup!N464>0,Databackup!N464,\"--.--\")","v":""},"  Designation  "]
[{"$f":"IF(Databackup!B465=\"\",\"\",Databackup!B465)","v":""},{"$f":"Databackup!C465","v":""},{"$f":"Databackup!D465","v":""},{"$f":"Databackup!E465","v":""},{"$f":"Databackup!F465","v":""},{"$f":"Databackup!G465","v":""},{"$f":"Databackup!I465","v":""},{"$f":"Databackup!J465","v":""},{"$f":"Databackup!K465","v":""},{"$f":"Databackup!L465","v":""},{"$f":"Databackup!M465","v":""},{"$f":"IF(Databackup!N465>0,Databackup!N465,\"--.--\")","v":""},"  Designation  "]
[{"$f":"IF(Databackup!B466=\"\",\"\",Databackup!B466)","v":""},{"$f":"Databackup!C466","v":""},{"$f":"Databackup!D466","v":""},{"$f":"Databackup!E466","v":""},{"$f":"Databackup!F466","v":""},{"$f":"Databackup!G466","v":""},{"$f":"Databackup!I466","v":""},{"$f":"Databackup!J466","v":""},{"$f":"Databackup!K466","v":""},{"$f":"Databackup!L466","v":""},{"$f":"Databackup!M466","v":""},{"$f":"IF(Databackup!N466>0,Databackup!N466,\"--.--\")","v":""},"  Designation  "]
[{"$f":"IF(Databackup!B467=\"\",\"\",Databackup!B467)","v":""},{"$f":"Databackup!C467","v":""},{"$f":"Databackup!D467","v":""},{"$f":"Databackup!E467","v":""},{"$f":"Databackup!F467","v":""},{"$f":"Databackup!G467","v":""},{"$f":"Databackup!I467","v":""},{"$f":"Databackup!J467","v":""},{"$f":"Databackup!K467","v":""},{"$f":"Databackup!L467","v":""},{"$f":"Databackup!M467","v":""},{"$f":"IF(Databackup!N467>0,Databackup!N467,\"--.--\")","v":""},"  Designation  "]
[{"$f":"IF(Databackup!B468=\"\",\"\",Databackup!B468)","v":""},{"$f":"Databackup!C468","v":""},{"$f":"Databackup!D468","v":""},{"$f":"Databackup!E468","v":""},{"$f":"Databackup!F468","v":""},{"$f":"Databackup!G468","v":""},{"$f":"Databackup!I468","v":""},{"$f":"Databackup!J468","v":""},{"$f":"Databackup!K468","v":""},{"$f":"Databackup!L468","v":""},{"$f":"Databackup!M468","v":""},{"$f":"IF(Databackup!N468>0,Databackup!N468,\"--.--\")","v":""},"  Designation  "]
[{"$f":"IF(Databackup!B469=\"\",\"\",Databackup!B469)","v":""},{"$f":"Databackup!C469","v":""},{"$f":"Databackup!D469","v":""},{"$f":"Databackup!E469","v":""},{"$f":"Databackup!F469","v":""},{"$f":"Databackup!G469","v":""},{"$f":"Databackup!I469","v":""},{"$f":"Databackup!J469","v":""},{"$f":"Databackup!K469","v":""},{"$f":"Databackup!L469","v":""},{"$f":"Databackup!M469","v":""},{"$f":"IF(Databackup!N469>0,Databackup!N469,\"--.--\")","v":""},"  Designation  "]
[{"$f":"IF(Databackup!B470=\"\",\"\",Databackup!B470)","v":""},{"$f":"Databackup!C470","v":""},{"$f":"Databackup!D470","v":""},{"$f":"Databackup!E470","v":""},{"$f":"Databackup!F470","v":""},{"$f":"Databackup!G470","v":""},{"$f":"Databackup!I470","v":""},{"$f":"Databackup!J470","v":""},{"$f":"Databackup!K470","v":""},{"$f":"Databackup!L470","v":""},{"$f":"Databackup!M470","v":""},{"$f":"IF(Databackup!N470>0,Databackup!N470,\"--.--\")","v":""},"  Designation  "]
[{"$f":"IF(Databackup!B471=\"\",\"\",Databackup!B471)","v":""},{"$f":"Databackup!C471","v":""},{"$f":"Databackup!D471","v":""},{"$f":"Databackup!E471","v":""},{"$f":"Databackup!F471","v":""},{"$f":"Databackup!G471","v":""},{"$f":"Databackup!I471","v":""},{"$f":"Databackup!J471","v":""},{"$f":"Databackup!K471","v":""},{"$f":"Databackup!L471","v":""},{"$f":"Databackup!M471","v":""},{"$f":"IF(Databackup!N471>0,Databackup!N471,\"--.--\")","v":""},"  Designation  "]
[{"$f":"IF(Databackup!B472=\"\",\"\",Databackup!B472)","v":""},{"$f":"Databackup!C472","v":""},{"$f":"Databackup!D472","v":""},{"$f":"Databackup!E472","v":""},{"$f":"Databackup!F472","v":""},{"$f":"Databackup!G472","v":""},{"$f":"Databackup!I472","v":""},{"$f":"Databackup!J472","v":""},{"$f":"Databackup!K472","v":""},{"$f":"Databackup!L472","v":""},{"$f":"Databackup!M472","v":""},{"$f":"IF(Databackup!N472>0,Databackup!N472,\"--.--\")","v":""},"  Designation  "]
[{"$f":"IF(Databackup!B473=\"\",\"\",Databackup!B473)","v":""},{"$f":"Databackup!C473","v":""},{"$f":"Databackup!D473","v":""},{"$f":"Databackup!E473","v":""},{"$f":"Databackup!F473","v":""},{"$f":"Databackup!G473","v":""},{"$f":"Databackup!I473","v":""},{"$f":"Databackup!J473","v":""},{"$f":"Databackup!K473","v":""},{"$f":"Databackup!L473","v":""},{"$f":"Databackup!M473","v":""},{"$f":"IF(Databackup!N473>0,Databackup!N473,\"--.--\")","v":""},"  Designation  "]
[{"$f":"IF(Databackup!B474=\"\",\"\",Databackup!B474)","v":""},{"$f":"Databackup!C474","v":""},{"$f":"Databackup!D474","v":""},{"$f":"Databackup!E474","v":""},{"$f":"Databackup!F474","v":""},{"$f":"Databackup!G474","v":""},{"$f":"Databackup!I474","v":""},{"$f":"Databackup!J474","v":""},{"$f":"Databackup!K474","v":""},{"$f":"Databackup!L474","v":""},{"$f":"Databackup!M474","v":""},{"$f":"IF(Databackup!N474>0,Databackup!N474,\"--.--\")","v":""},"  Designation  "]
[{"$f":"IF(Databackup!B475=\"\",\"\",Databackup!B475)","v":""},{"$f":"Databackup!C475","v":""},{"$f":"Databackup!D475","v":""},{"$f":"Databackup!E475","v":""},{"$f":"Databackup!F475","v":""},{"$f":"Databackup!G475","v":""},{"$f":"Databackup!I475","v":""},{"$f":"Databackup!J475","v":""},{"$f":"Databackup!K475","v":""},{"$f":"Databackup!L475","v":""},{"$f":"Databackup!M475","v":""},{"$f":"IF(Databackup!N475>0,Databackup!N475,\"--.--\")","v":""},"  Designation  "]
[{"$f":"IF(Databackup!B476=\"\",\"\",Databackup!B476)","v":""},{"$f":"Databackup!C476","v":""},{"$f":"Databackup!D476","v":""},{"$f":"Databackup!E476","v":""},{"$f":"Databackup!F476","v":""},{"$f":"Databackup!G476","v":""},{"$f":"Databackup!I476","v":""},{"$f":"Databackup!J476","v":""},{"$f":"Databackup!K476","v":""},{"$f":"Databackup!L476","v":""},{"$f":"Databackup!M476","v":""},{"$f":"IF(Databackup!N476>0,Databackup!N476,\"--.--\")","v":""},"  Designation  "]
[{"$f":"IF(Databackup!B477=\"\",\"\",Databackup!B477)","v":""},{"$f":"Databackup!C477","v":""},{"$f":"Databackup!D477","v":""},{"$f":"Databackup!E477","v":""},{"$f":"Databackup!F477","v":""},{"$f":"Databackup!G477","v":""},{"$f":"Databackup!I477","v":""},{"$f":"Databackup!J477","v":""},{"$f":"Databackup!K477","v":""},{"$f":"Databackup!L477","v":""},{"$f":"Databackup!M477","v":""},{"$f":"IF(Databackup!N477>0,Databackup!N477,\"--.--\")","v":""},"  Designation  "]
[{"$f":"IF(Databackup!B478=\"\",\"\",Databackup!B478)","v":""},{"$f":"Databackup!C478","v":""},{"$f":"Databackup!D478","v":""},{"$f":"Databackup!E478","v":""},{"$f":"Databackup!F478","v":""},{"$f":"Databackup!G478","v":""},{"$f":"Databackup!I478","v":""},{"$f":"Databackup!J478","v":""},{"$f":"Databackup!K478","v":""},{"$f":"Databackup!L478","v":""},{"$f":"Databackup!M478","v":""},{"$f":"IF(Databackup!N478>0,Databackup!N478,\"--.--\")","v":""},"  Designation  "]
[{"$f":"IF(Databackup!B479=\"\",\"\",Databackup!B479)","v":""},{"$f":"Databackup!C479","v":""},{"$f":"Databackup!D479","v":""},{"$f":"Databackup!E479","v":""},{"$f":"Databackup!F479","v":""},{"$f":"Databackup!G479","v":""},{"$f":"Databackup!I479","v":""},{"$f":"Databackup!J479","v":""},{"$f":"Databackup!K479","v":""},{"$f":"Databackup!L479","v":""},{"$f":"Databackup!M479","v":""},{"$f":"IF(Databackup!N479>0,Databackup!N479,\"--.--\")","v":""},"  Designation  "]
[{"$f":"IF(Databackup!B480=\"\",\"\",Databackup!B480)","v":""},{"$f":"Databackup!C480","v":""},{"$f":"Databackup!D480","v":""},{"$f":"Databackup!E480","v":""},{"$f":"Databackup!F480","v":""},{"$f":"Databackup!G480","v":""},{"$f":"Databackup!I480","v":""},{"$f":"Databackup!J480","v":""},{"$f":"Databackup!K480","v":""},{"$f":"Databackup!L480","v":""},{"$f":"Databackup!M480","v":""},{"$f":"IF(Databackup!N480>0,Databackup!N480,\"--.--\")","v":""},"  Designation  "]
[{"$f":"IF(Databackup!B481=\"\",\"\",Databackup!B481)","v":""},{"$f":"Databackup!C481","v":""},{"$f":"Databackup!D481","v":""},{"$f":"Databackup!E481","v":""},{"$f":"Databackup!F481","v":""},{"$f":"Databackup!G481","v":""},{"$f":"Databackup!I481","v":""},{"$f":"Databackup!J481","v":""},{"$f":"Databackup!K481","v":""},{"$f":"Databackup!L481","v":""},{"$f":"Databackup!M481","v":""},{"$f":"IF(Databackup!N481>0,Databackup!N481,\"--.--\")","v":""},"  Designation  "]
[{"$f":"IF(Databackup!B482=\"\",\"\",Databackup!B482)","v":""},{"$f":"Databackup!C482","v":""},{"$f":"Databackup!D482","v":""},{"$f":"Databackup!E482","v":""},{"$f":"Databackup!F482","v":""},{"$f":"Databackup!G482","v":""},{"$f":"Databackup!I482","v":""},{"$f":"Databackup!J482","v":""},{"$f":"Databackup!K482","v":""},{"$f":"Databackup!L482","v":""},{"$f":"Databackup!M482","v":""},{"$f":"IF(Databackup!N482>0,Databackup!N482,\"--.--\")","v":""},"  Designation  "]
[{"$f":"IF(Databackup!B483=\"\",\"\",Databackup!B483)","v":""},{"$f":"Databackup!C483","v":""},{"$f":"Databackup!D483","v":""},{"$f":"Databackup!E483","v":""},{"$f":"Databackup!F483","v":""},{"$f":"Databackup!G483","v":""},{"$f":"Databackup!I483","v":""},{"$f":"Databackup!J483","v":""},{"$f":"Databackup!K483","v":""},{"$f":"Databackup!L483","v":""},{"$f":"Databackup!M483","v":""},{"$f":"IF(Databackup!N483>0,Databackup!N483,\"--.--\")","v":""},"  Designation  "]
[{"$f":"IF(Databackup!B484=\"\",\"\",Databackup!B484)","v":""},{"$f":"Databackup!C484","v":""},{"$f":"Databackup!D484","v":""},{"$f":"Databackup!E484","v":""},{"$f":"Databackup!F484","v":""},{"$f":"Databackup!G484","v":""},{"$f":"Databackup!I484","v":""},{"$f":"Databackup!J484","v":""},{"$f":"Databackup!K484","v":""},{"$f":"Databackup!L484","v":""},{"$f":"Databackup!M484","v":""},{"$f":"IF(Databackup!N484>0,Databackup!N484,\"--.--\")","v":""},"  Designation  "]
[{"$f":"IF(Databackup!B485=\"\",\"\",Databackup!B485)","v":""},{"$f":"Databackup!C485","v":""},{"$f":"Databackup!D485","v":""},{"$f":"Databackup!E485","v":""},{"$f":"Databackup!F485","v":""},{"$f":"Databackup!G485","v":""},{"$f":"Databackup!I485","v":""},{"$f":"Databackup!J485","v":""},{"$f":"Databackup!K485","v":""},{"$f":"Databackup!L485","v":""},{"$f":"Databackup!M485","v":""},{"$f":"IF(Databackup!N485>0,Databackup!N485,\"--.--\")","v":""},"  Designation  "]
[{"$f":"IF(Databackup!B486=\"\",\"\",Databackup!B486)","v":""},{"$f":"Databackup!C486","v":""},{"$f":"Databackup!D486","v":""},{"$f":"Databackup!E486","v":""},{"$f":"Databackup!F486","v":""},{"$f":"Databackup!G486","v":""},{"$f":"Databackup!I486","v":""},{"$f":"Databackup!J486","v":""},{"$f":"Databackup!K486","v":""},{"$f":"Databackup!L486","v":""},{"$f":"Databackup!M486","v":""},{"$f":"IF(Databackup!N486>0,Databackup!N486,\"--.--\")","v":""},"  Designation  "]
[{"$f":"IF(Databackup!B487=\"\",\"\",Databackup!B487)","v":""},{"$f":"Databackup!C487","v":""},{"$f":"Databackup!D487","v":""},{"$f":"Databackup!E487","v":""},{"$f":"Databackup!F487","v":""},{"$f":"Databackup!G487","v":""},{"$f":"Databackup!I487","v":""},{"$f":"Databackup!J487","v":""},{"$f":"Databackup!K487","v":""},{"$f":"Databackup!L487","v":""},{"$f":"Databackup!M487","v":""},{"$f":"IF(Databackup!N487>0,Databackup!N487,\"--.--\")","v":""},"  Designation  "]
[{"$f":"IF(Databackup!B488=\"\",\"\",Databackup!B488)","v":""},{"$f":"Databackup!C488","v":""},{"$f":"Databackup!D488","v":""},{"$f":"Databackup!E488","v":""},{"$f":"Databackup!F488","v":""},{"$f":"Databackup!G488","v":""},{"$f":"Databackup!I488","v":""},{"$f":"Databackup!J488","v":""},{"$f":"Databackup!K488","v":""},{"$f":"Databackup!L488","v":""},{"$f":"Databackup!M488","v":""},{"$f":"IF(Databackup!N488>0,Databackup!N488,\"--.--\")","v":""},"  Designation  "]
[{"$f":"IF(Databackup!B489=\"\",\"\",Databackup!B489)","v":""},{"$f":"Databackup!C489","v":""},{"$f":"Databackup!D489","v":""},{"$f":"Databackup!E489","v":""},{"$f":"Databackup!F489","v":""},{"$f":"Databackup!G489","v":""},{"$f":"Databackup!I489","v":""},{"$f":"Databackup!J489","v":""},{"$f":"Databackup!K489","v":""},{"$f":"Databackup!L489","v":""},{"$f":"Databackup!M489","v":""},{"$f":"IF(Databackup!N489>0,Databackup!N489,\"--.--\")","v":""},"  Designation  "]
[{"$f":"IF(Databackup!B490=\"\",\"\",Databackup!B490)","v":""},{"$f":"Databackup!C490","v":""},{"$f":"Databackup!D490","v":""},{"$f":"Databackup!E490","v":""},{"$f":"Databackup!F490","v":""},{"$f":"Databackup!G490","v":""},{"$f":"Databackup!I490","v":""},{"$f":"Databackup!J490","v":""},{"$f":"Databackup!K490","v":""},{"$f":"Databackup!L490","v":""},{"$f":"Databackup!M490","v":""},{"$f":"IF(Databackup!N490>0,Databackup!N490,\"--.--\")","v":""},"  Designation  "]
[{"$f":"IF(Databackup!B491=\"\",\"\",Databackup!B491)","v":""},{"$f":"Databackup!C491","v":""},{"$f":"Databackup!D491","v":""},{"$f":"Databackup!E491","v":""},{"$f":"Databackup!F491","v":""},{"$f":"Databackup!G491","v":""},{"$f":"Databackup!I491","v":""},{"$f":"Databackup!J491","v":""},{"$f":"Databackup!K491","v":""},{"$f":"Databackup!L491","v":""},{"$f":"Databackup!M491","v":""},{"$f":"IF(Databackup!N491>0,Databackup!N491,\"--.--\")","v":""},"  Designation  "]
[{"$f":"IF(Databackup!B492=\"\",\"\",Databackup!B492)","v":""},{"$f":"Databackup!C492","v":""},{"$f":"Databackup!D492","v":""},{"$f":"Databackup!E492","v":""},{"$f":"Databackup!F492","v":""},{"$f":"Databackup!G492","v":""},{"$f":"Databackup!I492","v":""},{"$f":"Databackup!J492","v":""},{"$f":"Databackup!K492","v":""},{"$f":"Databackup!L492","v":""},{"$f":"Databackup!M492","v":""},{"$f":"IF(Databackup!N492>0,Databackup!N492,\"--.--\")","v":""},"  Designation  "]
[{"$f":"IF(Databackup!B493=\"\",\"\",Databackup!B493)","v":""},{"$f":"Databackup!C493","v":""},{"$f":"Databackup!D493","v":""},{"$f":"Databackup!E493","v":""},{"$f":"Databackup!F493","v":""},{"$f":"Databackup!G493","v":""},{"$f":"Databackup!I493","v":""},{"$f":"Databackup!J493","v":""},{"$f":"Databackup!K493","v":""},{"$f":"Databackup!L493","v":""},{"$f":"Databackup!M493","v":""},{"$f":"IF(Databackup!N493>0,Databackup!N493,\"--.--\")","v":""},"  Designation  "]
[{"$f":"IF(Databackup!B494=\"\",\"\",Databackup!B494)","v":""},{"$f":"Databackup!C494","v":""},{"$f":"Databackup!D494","v":""},{"$f":"Databackup!E494","v":""},{"$f":"Databackup!F494","v":""},{"$f":"Databackup!G494","v":""},{"$f":"Databackup!I494","v":""},{"$f":"Databackup!J494","v":""},{"$f":"Databackup!K494","v":""},{"$f":"Databackup!L494","v":""},{"$f":"Databackup!M494","v":""},{"$f":"IF(Databackup!N494>0,Databackup!N494,\"--.--\")","v":""},"  Designation  "]
[{"$f":"IF(Databackup!B495=\"\",\"\",Databackup!B495)","v":""},{"$f":"Databackup!C495","v":""},{"$f":"Databackup!D495","v":""},{"$f":"Databackup!E495","v":""},{"$f":"Databackup!F495","v":""},{"$f":"Databackup!G495","v":""},{"$f":"Databackup!I495","v":""},{"$f":"Databackup!J495","v":""},{"$f":"Databackup!K495","v":""},{"$f":"Databackup!L495","v":""},{"$f":"Databackup!M495","v":""},{"$f":"IF(Databackup!N495>0,Databackup!N495,\"--.--\")","v":""},"  Designation  "]
[{"$f":"IF(Databackup!B496=\"\",\"\",Databackup!B496)","v":""},{"$f":"Databackup!C496","v":""},{"$f":"Databackup!D496","v":""},{"$f":"Databackup!E496","v":""},{"$f":"Databackup!F496","v":""},{"$f":"Databackup!G496","v":""},{"$f":"Databackup!I496","v":""},{"$f":"Databackup!J496","v":""},{"$f":"Databackup!K496","v":""},{"$f":"Databackup!L496","v":""},{"$f":"Databackup!M496","v":""},{"$f":"IF(Databackup!N496>0,Databackup!N496,\"--.--\")","v":""},"  Designation  "]
[{"$f":"IF(Databackup!B497=\"\",\"\",Databackup!B497)","v":""},{"$f":"Databackup!C497","v":""},{"$f":"Databackup!D497","v":""},{"$f":"Databackup!E497","v":""},{"$f":"Databackup!F497","v":""},{"$f":"Databackup!G497","v":""},{"$f":"Databackup!I497","v":""},{"$f":"Databackup!J497","v":""},{"$f":"Databackup!K497","v":""},{"$f":"Databackup!L497","v":""},{"$f":"Databackup!M497","v":""},{"$f":"IF(Databackup!N497>0,Databackup!N497,\"--.--\")","v":""},"  Designation  "]
[{"$f":"IF(Databackup!B498=\"\",\"\",Databackup!B498)","v":""},{"$f":"Databackup!C498","v":""},{"$f":"Databackup!D498","v":""},{"$f":"Databackup!E498","v":""},{"$f":"Databackup!F498","v":""},{"$f":"Databackup!G498","v":""},{"$f":"Databackup!I498","v":""},{"$f":"Databackup!J498","v":""},{"$f":"Databackup!K498","v":""},{"$f":"Databackup!L498","v":""},{"$f":"Databackup!M498","v":""},{"$f":"IF(Databackup!N498>0,Databackup!N498,\"--.--\")","v":""},"  Designation  "]
[{"$f":"IF(Databackup!B499=\"\",\"\",Databackup!B499)","v":""},{"$f":"Databackup!C499","v":""},{"$f":"Databackup!D499","v":""},{"$f":"Databackup!E499","v":""},{"$f":"Databackup!F499","v":""},{"$f":"Databackup!G499","v":""},{"$f":"Databackup!I499","v":""},{"$f":"Databackup!J499","v":""},{"$f":"Databackup!K499","v":""},{"$f":"Databackup!L499","v":""},{"$f":"Databackup!M499","v":""},{"$f":"IF(Databackup!N499>0,Databackup!N499,\"--.--\")","v":""},"  Designation  "]
[{"$f":"IF(Databackup!B500=\"\",\"\",Databackup!B500)","v":""},{"$f":"Databackup!C500","v":""},{"$f":"Databackup!D500","v":""},{"$f":"Databackup!E500","v":""},{"$f":"Databackup!F500","v":""},{"$f":"Databackup!G500","v":""},{"$f":"Databackup!I500","v":""},{"$f":"Databackup!J500","v":""},{"$f":"Databackup!K500","v":""},{"$f":"Databackup!L500","v":""},{"$f":"Databackup!M500","v":""},{"$f":"IF(Databackup!N500>0,Databackup!N500,\"--.--\")","v":""},"  Designation  "]
[{"$f":"IF(Databackup!B501=\"\",\"\",Databackup!B501)","v":""},{"$f":"Databackup!C501","v":""},{"$f":"Databackup!D501","v":""},{"$f":"Databackup!E501","v":""},{"$f":"Databackup!F501","v":""},{"$f":"Databackup!G501","v":""},{"$f":"Databackup!I501","v":""},{"$f":"Databackup!J501","v":""},{"$f":"Databackup!K501","v":""},{"$f":"Databackup!L501","v":""},{"$f":"Databackup!M501","v":""},{"$f":"IF(Databackup!N501>0,Databackup!N501,\"--.--\")","v":""},"  Designation  "]
[{"$f":"IF(Databackup!B502=\"\",\"\",Databackup!B502)","v":""},{"$f":"Databackup!C502","v":""},{"$f":"Databackup!D502","v":""},{"$f":"Databackup!E502","v":""},{"$f":"Databackup!F502","v":""},{"$f":"Databackup!G502","v":""},{"$f":"Databackup!I502","v":""},{"$f":"Databackup!J502","v":""},{"$f":"Databackup!K502","v":""},{"$f":"Databackup!L502","v":""},{"$f":"Databackup!M502","v":""},{"$f":"IF(Databackup!N502>0,Databackup!N502,\"--.--\")","v":""},"  Designation  "]
[{"$f":"IF(Databackup!B503=\"\",\"\",Databackup!B503)","v":""},{"$f":"Databackup!C503","v":""},{"$f":"Databackup!D503","v":""},{"$f":"Databackup!E503","v":""},{"$f":"Databackup!F503","v":""},{"$f":"Databackup!G503","v":""},{"$f":"Databackup!I503","v":""},{"$f":"Databackup!J503","v":""},{"$f":"Databackup!K503","v":""},{"$f":"Databackup!L503","v":""},{"$f":"Databackup!M503","v":""},{"$f":"IF(Databackup!N503>0,Databackup!N503,\"--.--\")","v":""},"  Designation  "]
[{"$f":"IF(Databackup!B504=\"\",\"\",Databackup!B504)","v":""},{"$f":"Databackup!C504","v":""},{"$f":"Databackup!D504","v":""},{"$f":"Databackup!E504","v":""},{"$f":"Databackup!F504","v":""},{"$f":"Databackup!G504","v":""},{"$f":"Databackup!I504","v":""},{"$f":"Databackup!J504","v":""},{"$f":"Databackup!K504","v":""},{"$f":"Databackup!L504","v":""},{"$f":"Databackup!M504","v":""},{"$f":"IF(Databackup!N504>0,Databackup!N504,\"--.--\")","v":""},"  Designation  "]
[{"$f":"IF(Databackup!B505=\"\",\"\",Databackup!B505)","v":""},{"$f":"Databackup!C505","v":""},{"$f":"Databackup!D505","v":""},{"$f":"Databackup!E505","v":""},{"$f":"Databackup!F505","v":""},{"$f":"Databackup!G505","v":""},{"$f":"Databackup!I505","v":""},{"$f":"Databackup!J505","v":""},{"$f":"Databackup!K505","v":""},{"$f":"Databackup!L505","v":""},{"$f":"Databackup!M505","v":""},{"$f":"IF(Databackup!N505>0,Databackup!N505,\"--.--\")","v":""},"  Designation  "]
[{"$f":"IF(Databackup!B506=\"\",\"\",Databackup!B506)","v":""},{"$f":"Databackup!C506","v":""},{"$f":"Databackup!D506","v":""},{"$f":"Databackup!E506","v":""},{"$f":"Databackup!F506","v":""},{"$f":"Databackup!G506","v":""},{"$f":"Databackup!I506","v":""},{"$f":"Databackup!J506","v":""},{"$f":"Databackup!K506","v":""},{"$f":"Databackup!L506","v":""},{"$f":"Databackup!M506","v":""},{"$f":"IF(Databackup!N506>0,Databackup!N506,\"--.--\")","v":""},"  Designation  "]
[{"$f":"IF(Databackup!B507=\"\",\"\",Databackup!B507)","v":""},{"$f":"Databackup!C507","v":""},{"$f":"Databackup!D507","v":""},{"$f":"Databackup!E507","v":""},{"$f":"Databackup!F507","v":""},{"$f":"Databackup!G507","v":""},{"$f":"Databackup!I507","v":""},{"$f":"Databackup!J507","v":""},{"$f":"Databackup!K507","v":""},{"$f":"Databackup!L507","v":""},{"$f":"Databackup!M507","v":""},{"$f":"IF(Databackup!N507>0,Databackup!N507,\"--.--\")","v":""},"  Designation  "]
[{"$f":"IF(Databackup!B508=\"\",\"\",Databackup!B508)","v":""},{"$f":"Databackup!C508","v":""},{"$f":"Databackup!D508","v":""},{"$f":"Databackup!E508","v":""},{"$f":"Databackup!F508","v":""},{"$f":"Databackup!G508","v":""},{"$f":"Databackup!I508","v":""},{"$f":"Databackup!J508","v":""},{"$f":"Databackup!K508","v":""},{"$f":"Databackup!L508","v":""},{"$f":"Databackup!M508","v":""},{"$f":"IF(Databackup!N508>0,Databackup!N508,\"--.--\")","v":""},"  Designation  "]
[{"$f":"IF(Databackup!B509=\"\",\"\",Databackup!B509)","v":""},{"$f":"Databackup!C509","v":""},{"$f":"Databackup!D509","v":""},{"$f":"Databackup!E509","v":""},{"$f":"Databackup!F509","v":""},{"$f":"Databackup!G509","v":""},{"$f":"Databackup!I509","v":""},{"$f":"Databackup!J509","v":""},{"$f":"Databackup!K509","v":""},{"$f":"Databackup!L509","v":""},{"$f":"Databackup!M509","v":""},{"$f":"IF(Databackup!N509>0,Databackup!N509,\"--.--\")","v":""},"  Designation  "]
[{"$f":"IF(Databackup!B510=\"\",\"\",Databackup!B510)","v":""},{"$f":"Databackup!C510","v":""},{"$f":"Databackup!D510","v":""},{"$f":"Databackup!E510","v":""},{"$f":"Databackup!F510","v":""},{"$f":"Databackup!G510","v":""},{"$f":"Databackup!I510","v":""},{"$f":"Databackup!J510","v":""},{"$f":"Databackup!K510","v":""},{"$f":"Databackup!L510","v":""},{"$f":"Databackup!M510","v":""},{"$f":"IF(Databackup!N510>0,Databackup!N510,\"--.--\")","v":""},"  Designation  "]
[{"$f":"IF(Databackup!B511=\"\",\"\",Databackup!B511)","v":""},{"$f":"Databackup!C511","v":""},{"$f":"Databackup!D511","v":""},{"$f":"Databackup!E511","v":""},{"$f":"Databackup!F511","v":""},{"$f":"Databackup!G511","v":""},{"$f":"Databackup!I511","v":""},{"$f":"Databackup!J511","v":""},{"$f":"Databackup!K511","v":""},{"$f":"Databackup!L511","v":""},{"$f":"Databackup!M511","v":""},{"$f":"IF(Databackup!N511>0,Databackup!N511,\"--.--\")","v":""},"  Designation  "]
[{"$f":"IF(Databackup!B512=\"\",\"\",Databackup!B512)","v":""},{"$f":"Databackup!C512","v":""},{"$f":"Databackup!D512","v":""},{"$f":"Databackup!E512","v":""},{"$f":"Databackup!F512","v":""},{"$f":"Databackup!G512","v":""},{"$f":"Databackup!I512","v":""},{"$f":"Databackup!J512","v":""},{"$f":"Databackup!K512","v":""},{"$f":"Databackup!L512","v":""},{"$f":"Databackup!M512","v":""},{"$f":"IF(Databackup!N512>0,Databackup!N512,\"--.--\")","v":""},"  Designation  "]
[{"$f":"IF(Databackup!B513=\"\",\"\",Databackup!B513)","v":""},{"$f":"Databackup!C513","v":""},{"$f":"Databackup!D513","v":""},{"$f":"Databackup!E513","v":""},{"$f":"Databackup!F513","v":""},{"$f":"Databackup!G513","v":""},{"$f":"Databackup!I513","v":""},{"$f":"Databackup!J513","v":""},{"$f":"Databackup!K513","v":""},{"$f":"Databackup!L513","v":""},{"$f":"Databackup!M513","v":""},{"$f":"IF(Databackup!N513>0,Databackup!N513,\"--.--\")","v":""},"  Designation  "]
[{"$f":"IF(Databackup!B514=\"\",\"\",Databackup!B514)","v":""},{"$f":"Databackup!C514","v":""},{"$f":"Databackup!D514","v":""},{"$f":"Databackup!E514","v":""},{"$f":"Databackup!F514","v":""},{"$f":"Databackup!G514","v":""},{"$f":"Databackup!I514","v":""},{"$f":"Databackup!J514","v":""},{"$f":"Databackup!K514","v":""},{"$f":"Databackup!L514","v":""},{"$f":"Databackup!M514","v":""},{"$f":"IF(Databackup!N514>0,Databackup!N514,\"--.--\")","v":""},"  Designation  "]
[{"$f":"IF(Databackup!B515=\"\",\"\",Databackup!B515)","v":""},{"$f":"Databackup!C515","v":""},{"$f":"Databackup!D515","v":""},{"$f":"Databackup!E515","v":""},{"$f":"Databackup!F515","v":""},{"$f":"Databackup!G515","v":""},{"$f":"Databackup!I515","v":""},{"$f":"Databackup!J515","v":""},{"$f":"Databackup!K515","v":""},{"$f":"Databackup!L515","v":""},{"$f":"Databackup!M515","v":""},{"$f":"IF(Databackup!N515>0,Databackup!N515,\"--.--\")","v":""},"  Designation  "]
[{"$f":"IF(Databackup!B516=\"\",\"\",Databackup!B516)","v":""},{"$f":"Databackup!C516","v":""},{"$f":"Databackup!D516","v":""},{"$f":"Databackup!E516","v":""},{"$f":"Databackup!F516","v":""},{"$f":"Databackup!G516","v":""},{"$f":"Databackup!I516","v":""},{"$f":"Databackup!J516","v":""},{"$f":"Databackup!K516","v":""},{"$f":"Databackup!L516","v":""},{"$f":"Databackup!M516","v":""},{"$f":"IF(Databackup!N516>0,Databackup!N516,\"--.--\")","v":""},"  Designation  "]
[{"$f":"IF(Databackup!B517=\"\",\"\",Databackup!B517)","v":""},{"$f":"Databackup!C517","v":""},{"$f":"Databackup!D517","v":""},{"$f":"Databackup!E517","v":""},{"$f":"Databackup!F517","v":""},{"$f":"Databackup!G517","v":""},{"$f":"Databackup!I517","v":""},{"$f":"Databackup!J517","v":""},{"$f":"Databackup!K517","v":""},{"$f":"Databackup!L517","v":""},{"$f":"Databackup!M517","v":""},{"$f":"IF(Databackup!N517>0,Databackup!N517,\"--.--\")","v":""},"  Designation  "]
[{"$f":"IF(Databackup!B518=\"\",\"\",Databackup!B518)","v":""},{"$f":"Databackup!C518","v":""},{"$f":"Databackup!D518","v":""},{"$f":"Databackup!E518","v":""},{"$f":"Databackup!F518","v":""},{"$f":"Databackup!G518","v":""},{"$f":"Databackup!I518","v":""},{"$f":"Databackup!J518","v":""},{"$f":"Databackup!K518","v":""},{"$f":"Databackup!L518","v":""},{"$f":"Databackup!M518","v":""},{"$f":"IF(Databackup!N518>0,Databackup!N518,\"--.--\")","v":""},"  Designation  "]
[{"$f":"IF(Databackup!B519=\"\",\"\",Databackup!B519)","v":""},{"$f":"Databackup!C519","v":""},{"$f":"Databackup!D519","v":""},{"$f":"Databackup!E519","v":""},{"$f":"Databackup!F519","v":""},{"$f":"Databackup!G519","v":""},{"$f":"Databackup!I519","v":""},{"$f":"Databackup!J519","v":""},{"$f":"Databackup!K519","v":""},{"$f":"Databackup!L519","v":""},{"$f":"Databackup!M519","v":""},{"$f":"IF(Databackup!N519>0,Databackup!N519,\"--.--\")","v":""},{"$f":"CONCATENATE(B531,\"  \",\"Designation\",\"  \",C531)","v":"  Designation  "}]
[{"$f":"IF(Databackup!B520=\"\",\"\",Databackup!B520)","v":""},{"$f":"Databackup!C520","v":""},{"$f":"Databackup!D520","v":""},{"$f":"Databackup!E520","v":""},{"$f":"Databackup!F520","v":""},{"$f":"Databackup!G520","v":""},{"$f":"Databackup!I520","v":""},{"$f":"Databackup!J520","v":""},{"$f":"Databackup!K520","v":""},{"$f":"Databackup!L520","v":""},{"$f":"Databackup!M520","v":""},{"$f":"IF(Databackup!N520>0,Databackup!N520,\"--.--\")","v":""},"  Designation  "]
[{"$f":"IF(Databackup!B521=\"\",\"\",Databackup!B521)","v":""},{"$f":"Databackup!C521","v":""},{"$f":"Databackup!D521","v":""},{"$f":"Databackup!E521","v":""},{"$f":"Databackup!F521","v":""},{"$f":"Databackup!G521","v":""},{"$f":"Databackup!I521","v":""},{"$f":"Databackup!J521","v":""},{"$f":"Databackup!K521","v":""},{"$f":"Databackup!L521","v":""},{"$f":"Databackup!M521","v":""},{"$f":"IF(Databackup!N521>0,Databackup!N521,\"--.--\")","v":""},"  Designation  "]
[{"$f":"IF(Databackup!B522=\"\",\"\",Databackup!B522)","v":""},{"$f":"Databackup!C522","v":""},{"$f":"Databackup!D522","v":""},{"$f":"Databackup!E522","v":""},{"$f":"Databackup!F522","v":""},{"$f":"Databackup!G522","v":""},{"$f":"Databackup!I522","v":""},{"$f":"Databackup!J522","v":""},{"$f":"Databackup!K522","v":""},{"$f":"Databackup!L522","v":""},{"$f":"Databackup!M522","v":""},{"$f":"IF(Databackup!N522>0,Databackup!N522,\"--.--\")","v":""},"  Designation  "]
[{"$f":"IF(Databackup!B523=\"\",\"\",Databackup!B523)","v":""},{"$f":"Databackup!C523","v":""},{"$f":"Databackup!D523","v":""},{"$f":"Databackup!E523","v":""},{"$f":"Databackup!F523","v":""},{"$f":"Databackup!G523","v":""},{"$f":"Databackup!I523","v":""},{"$f":"Databackup!J523","v":""},{"$f":"Databackup!K523","v":""},{"$f":"Databackup!L523","v":""},{"$f":"Databackup!M523","v":""},{"$f":"IF(Databackup!N523>0,Databackup!N523,\"--.--\")","v":""},"  Designation  "]
[{"$f":"IF(Databackup!B524=\"\",\"\",Databackup!B524)","v":""},{"$f":"Databackup!C524","v":""},{"$f":"Databackup!D524","v":""},{"$f":"Databackup!E524","v":""},{"$f":"Databackup!F524","v":""},{"$f":"Databackup!G524","v":""},{"$f":"Databackup!I524","v":""},{"$f":"Databackup!J524","v":""},{"$f":"Databackup!K524","v":""},{"$f":"Databackup!L524","v":""},{"$f":"Databackup!M524","v":""},{"$f":"IF(Databackup!N524>0,Databackup!N524,\"--.--\")","v":""},"  Designation  "]
[{"$f":"IF(Databackup!B525=\"\",\"\",Databackup!B525)","v":""},{"$f":"Databackup!C525","v":""},{"$f":"Databackup!D525","v":""},{"$f":"Databackup!E525","v":""},{"$f":"Databackup!F525","v":""},{"$f":"Databackup!G525","v":""},{"$f":"Databackup!I525","v":""},{"$f":"Databackup!J525","v":""},{"$f":"Databackup!K525","v":""},{"$f":"Databackup!L525","v":""},{"$f":"Databackup!M525","v":""},{"$f":"IF(Databackup!N525>0,Databackup!N525,\"--.--\")","v":""},"  Designation  "]
[{"$f":"IF(Databackup!B526=\"\",\"\",Databackup!B526)","v":""},{"$f":"Databackup!C526","v":""},{"$f":"Databackup!D526","v":""},{"$f":"Databackup!E526","v":""},{"$f":"Databackup!F526","v":""},{"$f":"Databackup!G526","v":""},{"$f":"Databackup!I526","v":""},{"$f":"Databackup!J526","v":""},{"$f":"Databackup!K526","v":""},{"$f":"Databackup!L526","v":""},{"$f":"Databackup!M526","v":""},{"$f":"IF(Databackup!N526>0,Databackup!N526,\"--.--\")","v":""},"  Designation  "]
[{"$f":"IF(Databackup!B527=\"\",\"\",Databackup!B527)","v":""},{"$f":"Databackup!C527","v":""},{"$f":"Databackup!D527","v":""},{"$f":"Databackup!E527","v":""},{"$f":"Databackup!F527","v":""},{"$f":"Databackup!G527","v":""},{"$f":"Databackup!I527","v":""},{"$f":"Databackup!J527","v":""},{"$f":"Databackup!K527","v":""},{"$f":"Databackup!L527","v":""},{"$f":"Databackup!M527","v":""},{"$f":"IF(Databackup!N527>0,Databackup!N527,\"--.--\")","v":""},"  Designation  "]
[{"$f":"IF(Databackup!B528=\"\",\"\",Databackup!B528)","v":""},{"$f":"Databackup!C528","v":""},{"$f":"Databackup!D528","v":""},{"$f":"Databackup!E528","v":""},{"$f":"Databackup!F528","v":""},{"$f":"Databackup!G528","v":""},{"$f":"Databackup!I528","v":""},{"$f":"Databackup!J528","v":""},{"$f":"Databackup!K528","v":""},{"$f":"Databackup!L528","v":""},{"$f":"Databackup!M528","v":""},{"$f":"IF(Databackup!N528>0,Databackup!N528,\"--.--\")","v":""},"  Designation  "]
[{"$f":"IF(Databackup!B529=\"\",\"\",Databackup!B529)","v":""},{"$f":"Databackup!C529","v":""},{"$f":"Databackup!D529","v":""},{"$f":"Databackup!E529","v":""},{"$f":"Databackup!F529","v":""},{"$f":"Databackup!G529","v":""},{"$f":"Databackup!I529","v":""},{"$f":"Databackup!J529","v":""},{"$f":"Databackup!K529","v":""},{"$f":"Databackup!L529","v":""},{"$f":"Databackup!M529","v":""},{"$f":"IF(Databackup!N529>0,Databackup!N529,\"--.--\")","v":""},"  Designation  "]
[{"$f":"IF(Databackup!B530=\"\",\"\",Databackup!B530)","v":""},{"$f":"Databackup!C530","v":""},{"$f":"Databackup!D530","v":""},{"$f":"Databackup!E530","v":""},{"$f":"Databackup!F530","v":""},{"$f":"Databackup!G530","v":""},{"$f":"Databackup!I530","v":""},{"$f":"Databackup!J530","v":""},{"$f":"Databackup!K530","v":""},{"$f":"Databackup!L530","v":""},{"$f":"Databackup!M530","v":""},{"$f":"IF(Databackup!N530>0,Databackup!N530,\"--.--\")","v":""},"  Designation  "]
[{"$f":"IF(Databackup!B531=\"\",\"\",Databackup!B531)","v":""},{"$f":"Databackup!C531","v":""},{"$f":"Databackup!D531","v":""},{"$f":"Databackup!E531","v":""},{"$f":"Databackup!F531","v":""},{"$f":"Databackup!G531","v":""},{"$f":"Databackup!I531","v":""},{"$f":"Databackup!J531","v":""},{"$f":"Databackup!K531","v":""},{"$f":"Databackup!L531","v":""},{"$f":"Databackup!M531","v":""},{"$f":"IF(Databackup!N531>0,Databackup!N531,\"--.--\")","v":""},"  Designation  "]
[{"$f":"IF(Databackup!B532=\"\",\"\",Databackup!B532)","v":""},{"$f":"Databackup!C532","v":""},{"$f":"Databackup!D532","v":""},{"$f":"Databackup!E532","v":""},{"$f":"Databackup!F532","v":""},{"$f":"Databackup!G532","v":""},{"$f":"Databackup!I532","v":""},{"$f":"Databackup!J532","v":""},{"$f":"Databackup!K532","v":""},{"$f":"Databackup!L532","v":""},{"$f":"Databackup!M532","v":""},{"$f":"IF(Databackup!N532>0,Databackup!N532,\"--.--\")","v":""},"  Designation  "]
[{"$f":"IF(Databackup!B533=\"\",\"\",Databackup!B533)","v":""},{"$f":"Databackup!C533","v":""},{"$f":"Databackup!D533","v":""},{"$f":"Databackup!E533","v":""},{"$f":"Databackup!F533","v":""},{"$f":"Databackup!G533","v":""},{"$f":"Databackup!I533","v":""},{"$f":"Databackup!J533","v":""},{"$f":"Databackup!K533","v":""},{"$f":"Databackup!L533","v":""},{"$f":"Databackup!M533","v":""},{"$f":"IF(Databackup!N533>0,Databackup!N533,\"--.--\")","v":""},"  Designation  "]
[{"$f":"IF(Databackup!B534=\"\",\"\",Databackup!B534)","v":""},{"$f":"Databackup!C534","v":""},{"$f":"Databackup!D534","v":""},{"$f":"Databackup!E534","v":""},{"$f":"Databackup!F534","v":""},{"$f":"Databackup!G534","v":""},{"$f":"Databackup!I534","v":""},{"$f":"Databackup!J534","v":""},{"$f":"Databackup!K534","v":""},{"$f":"Databackup!L534","v":""},{"$f":"Databackup!M534","v":""},{"$f":"IF(Databackup!N534>0,Databackup!N534,\"--.--\")","v":""},"  Designation  "]
[{"$f":"IF(Databackup!B535=\"\",\"\",Databackup!B535)","v":""},{"$f":"Databackup!C535","v":""},{"$f":"Databackup!D535","v":""},{"$f":"Databackup!E535","v":""},{"$f":"Databackup!F535","v":""},{"$f":"Databackup!G535","v":""},{"$f":"Databackup!I535","v":""},{"$f":"Databackup!J535","v":""},{"$f":"Databackup!K535","v":""},{"$f":"Databackup!L535","v":""},{"$f":"Databackup!M535","v":""},{"$f":"IF(Databackup!N535>0,Databackup!N535,\"--.--\")","v":""},"  Designation  "]
[{"$f":"IF(Databackup!B536=\"\",\"\",Databackup!B536)","v":""},{"$f":"Databackup!C536","v":""},{"$f":"Databackup!D536","v":""},{"$f":"Databackup!E536","v":""},{"$f":"Databackup!F536","v":""},{"$f":"Databackup!G536","v":""},{"$f":"Databackup!I536","v":""},{"$f":"Databackup!J536","v":""},{"$f":"Databackup!K536","v":""},{"$f":"Databackup!L536","v":""},{"$f":"Databackup!M536","v":""},{"$f":"IF(Databackup!N536>0,Databackup!N536,\"--.--\")","v":""},"  Designation  "]
[{"$f":"IF(Databackup!B537=\"\",\"\",Databackup!B537)","v":""},{"$f":"Databackup!C537","v":""},{"$f":"Databackup!D537","v":""},{"$f":"Databackup!E537","v":""},{"$f":"Databackup!F537","v":""},{"$f":"Databackup!G537","v":""},{"$f":"Databackup!I537","v":""},{"$f":"Databackup!J537","v":""},{"$f":"Databackup!K537","v":""},{"$f":"Databackup!L537","v":""},{"$f":"Databackup!M537","v":""},{"$f":"IF(Databackup!N537>0,Databackup!N537,\"--.--\")","v":""},"  Designation  "]
[{"$f":"IF(Databackup!B538=\"\",\"\",Databackup!B538)","v":""},{"$f":"Databackup!C538","v":""},{"$f":"Databackup!D538","v":""},{"$f":"Databackup!E538","v":""},{"$f":"Databackup!F538","v":""},{"$f":"Databackup!G538","v":""},{"$f":"Databackup!I538","v":""},{"$f":"Databackup!J538","v":""},{"$f":"Databackup!K538","v":""},{"$f":"Databackup!L538","v":""},{"$f":"Databackup!M538","v":""},{"$f":"IF(Databackup!N538>0,Databackup!N538,\"--.--\")","v":""},"  Designation  "]
[{"$f":"IF(Databackup!B539=\"\",\"\",Databackup!B539)","v":""},{"$f":"Databackup!C539","v":""},{"$f":"Databackup!D539","v":""},{"$f":"Databackup!E539","v":""},{"$f":"Databackup!F539","v":""},{"$f":"Databackup!G539","v":""},{"$f":"Databackup!I539","v":""},{"$f":"Databackup!J539","v":""},{"$f":"Databackup!K539","v":""},{"$f":"Databackup!L539","v":""},{"$f":"Databackup!M539","v":""},{"$f":"IF(Databackup!N539>0,Databackup!N539,\"--.--\")","v":""},"  Designation  "]
[{"$f":"IF(Databackup!B540=\"\",\"\",Databackup!B540)","v":""},{"$f":"Databackup!C540","v":""},{"$f":"Databackup!D540","v":""},{"$f":"Databackup!E540","v":""},{"$f":"Databackup!F540","v":""},{"$f":"Databackup!G540","v":""},{"$f":"Databackup!I540","v":""},{"$f":"Databackup!J540","v":""},{"$f":"Databackup!K540","v":""},{"$f":"Databackup!L540","v":""},{"$f":"Databackup!M540","v":""},{"$f":"IF(Databackup!N540>0,Databackup!N540,\"--.--\")","v":""},"  Designation  "]
[{"$f":"IF(Databackup!B541=\"\",\"\",Databackup!B541)","v":""},{"$f":"Databackup!C541","v":""},{"$f":"Databackup!D541","v":""},{"$f":"Databackup!E541","v":""},{"$f":"Databackup!F541","v":""},{"$f":"Databackup!G541","v":""},{"$f":"Databackup!I541","v":""},{"$f":"Databackup!J541","v":""},{"$f":"Databackup!K541","v":""},{"$f":"Databackup!L541","v":""},{"$f":"Databackup!M541","v":""},{"$f":"IF(Databackup!N541>0,Databackup!N541,\"--.--\")","v":""},"  Designation  "]
[{"$f":"IF(Databackup!B542=\"\",\"\",Databackup!B542)","v":""},{"$f":"Databackup!C542","v":""},{"$f":"Databackup!D542","v":""},{"$f":"Databackup!E542","v":""},{"$f":"Databackup!F542","v":""},{"$f":"Databackup!G542","v":""},{"$f":"Databackup!I542","v":""},{"$f":"Databackup!J542","v":""},{"$f":"Databackup!K542","v":""},{"$f":"Databackup!L542","v":""},{"$f":"Databackup!M542","v":""},{"$f":"IF(Databackup!N542>0,Databackup!N542,\"--.--\")","v":""},"  Designation  "]
[{"$f":"IF(Databackup!B543=\"\",\"\",Databackup!B543)","v":""},{"$f":"Databackup!C543","v":""},{"$f":"Databackup!D543","v":""},{"$f":"Databackup!E543","v":""},{"$f":"Databackup!F543","v":""},{"$f":"Databackup!G543","v":""},{"$f":"Databackup!I543","v":""},{"$f":"Databackup!J543","v":""},{"$f":"Databackup!K543","v":""},{"$f":"Databackup!L543","v":""},{"$f":"Databackup!M543","v":""},{"$f":"IF(Databackup!N543>0,Databackup!N543,\"--.--\")","v":""},"  Designation  "]
[{"$f":"IF(Databackup!B544=\"\",\"\",Databackup!B544)","v":""},{"$f":"Databackup!C544","v":""},{"$f":"Databackup!D544","v":""},{"$f":"Databackup!E544","v":""},{"$f":"Databackup!F544","v":""},{"$f":"Databackup!G544","v":""},{"$f":"Databackup!I544","v":""},{"$f":"Databackup!J544","v":""},{"$f":"Databackup!K544","v":""},{"$f":"Databackup!L544","v":""},{"$f":"Databackup!M544","v":""},{"$f":"IF(Databackup!N544>0,Databackup!N544,\"--.--\")","v":""},"  Designation  "]
[{"$f":"IF(Databackup!B545=\"\",\"\",Databackup!B545)","v":""},{"$f":"Databackup!C545","v":""},{"$f":"Databackup!D545","v":""},{"$f":"Databackup!E545","v":""},{"$f":"Databackup!F545","v":""},{"$f":"Databackup!G545","v":""},{"$f":"Databackup!I545","v":""},{"$f":"Databackup!J545","v":""},{"$f":"Databackup!K545","v":""},{"$f":"Databackup!L545","v":""},{"$f":"Databackup!M545","v":""},{"$f":"IF(Databackup!N545>0,Databackup!N545,\"--.--\")","v":""},"  Designation  "]
[{"$f":"IF(Databackup!B546=\"\",\"\",Databackup!B546)","v":""},{"$f":"Databackup!C546","v":""},{"$f":"Databackup!D546","v":""},{"$f":"Databackup!E546","v":""},{"$f":"Databackup!F546","v":""},{"$f":"Databackup!G546","v":""},{"$f":"Databackup!I546","v":""},{"$f":"Databackup!J546","v":""},{"$f":"Databackup!K546","v":""},{"$f":"Databackup!L546","v":""},{"$f":"Databackup!M546","v":""},{"$f":"IF(Databackup!N546>0,Databackup!N546,\"--.--\")","v":""},"  Designation  "]
[{"$f":"IF(Databackup!B547=\"\",\"\",Databackup!B547)","v":""},{"$f":"Databackup!C547","v":""},{"$f":"Databackup!D547","v":""},{"$f":"Databackup!E547","v":""},{"$f":"Databackup!F547","v":""},{"$f":"Databackup!G547","v":""},{"$f":"Databackup!I547","v":""},{"$f":"Databackup!J547","v":""},{"$f":"Databackup!K547","v":""},{"$f":"Databackup!L547","v":""},{"$f":"Databackup!M547","v":""},{"$f":"IF(Databackup!N547>0,Databackup!N547,\"--.--\")","v":""},"  Designation  "]
[{"$f":"IF(Databackup!B548=\"\",\"\",Databackup!B548)","v":""},{"$f":"Databackup!C548","v":""},{"$f":"Databackup!D548","v":""},{"$f":"Databackup!E548","v":""},{"$f":"Databackup!F548","v":""},{"$f":"Databackup!G548","v":""},{"$f":"Databackup!I548","v":""},{"$f":"Databackup!J548","v":""},{"$f":"Databackup!K548","v":""},{"$f":"Databackup!L548","v":""},{"$f":"Databackup!M548","v":""},{"$f":"IF(Databackup!N548>0,Databackup!N548,\"--.--\")","v":""},"  Designation  "]
[{"$f":"IF(Databackup!B549=\"\",\"\",Databackup!B549)","v":""},{"$f":"Databackup!C549","v":""},{"$f":"Databackup!D549","v":""},{"$f":"Databackup!E549","v":""},{"$f":"Databackup!F549","v":""},{"$f":"Databackup!G549","v":""},{"$f":"Databackup!I549","v":""},{"$f":"Databackup!J549","v":""},{"$f":"Databackup!K549","v":""},{"$f":"Databackup!L549","v":""},{"$f":"Databackup!M549","v":""},{"$f":"IF(Databackup!N549>0,Databackup!N549,\"--.--\")","v":""},"  Designation  "]
[{"$f":"IF(Databackup!B550=\"\",\"\",Databackup!B550)","v":""},{"$f":"Databackup!C550","v":""},{"$f":"Databackup!D550","v":""},{"$f":"Databackup!E550","v":""},{"$f":"Databackup!F550","v":""},{"$f":"Databackup!G550","v":""},{"$f":"Databackup!I550","v":""},{"$f":"Databackup!J550","v":""},{"$f":"Databackup!K550","v":""},{"$f":"Databackup!L550","v":""},{"$f":"Databackup!M550","v":""},{"$f":"IF(Databackup!N550>0,Databackup!N550,\"--.--\")","v":""},"  Designation  "]
[{"$f":"IF(Databackup!B551=\"\",\"\",Databackup!B551)","v":""},{"$f":"Databackup!C551","v":""},{"$f":"Databackup!D551","v":""},{"$f":"Databackup!E551","v":""},{"$f":"Databackup!F551","v":""},{"$f":"Databackup!G551","v":""},{"$f":"Databackup!I551","v":""},{"$f":"Databackup!J551","v":""},{"$f":"Databackup!K551","v":""},{"$f":"Databackup!L551","v":""},{"$f":"Databackup!M551","v":""},{"$f":"IF(Databackup!N551>0,Databackup!N551,\"--.--\")","v":""},"  Designation  "]
[{"$f":"IF(Databackup!B552=\"\",\"\",Databackup!B552)","v":""},{"$f":"Databackup!C552","v":""},{"$f":"Databackup!D552","v":""},{"$f":"Databackup!E552","v":""},{"$f":"Databackup!F552","v":""},{"$f":"Databackup!G552","v":""},{"$f":"Databackup!I552","v":""},{"$f":"Databackup!J552","v":""},{"$f":"Databackup!K552","v":""},{"$f":"Databackup!L552","v":""},{"$f":"Databackup!M552","v":""},{"$f":"IF(Databackup!N552>0,Databackup!N552,\"--.--\")","v":""},"  Designation  "]
[{"$f":"IF(Databackup!B553=\"\",\"\",Databackup!B553)","v":""},{"$f":"Databackup!C553","v":""},{"$f":"Databackup!D553","v":""},{"$f":"Databackup!E553","v":""},{"$f":"Databackup!F553","v":""},{"$f":"Databackup!G553","v":""},{"$f":"Databackup!I553","v":""},{"$f":"Databackup!J553","v":""},{"$f":"Databackup!K553","v":""},{"$f":"Databackup!L553","v":""},{"$f":"Databackup!M553","v":""},{"$f":"IF(Databackup!N553>0,Databackup!N553,\"--.--\")","v":""},"  Designation  "]
[{"$f":"IF(Databackup!B554=\"\",\"\",Databackup!B554)","v":""},{"$f":"Databackup!C554","v":""},{"$f":"Databackup!D554","v":""},{"$f":"Databackup!E554","v":""},{"$f":"Databackup!F554","v":""},{"$f":"Databackup!G554","v":""},{"$f":"Databackup!I554","v":""},{"$f":"Databackup!J554","v":""},{"$f":"Databackup!K554","v":""},{"$f":"Databackup!L554","v":""},{"$f":"Databackup!M554","v":""},{"$f":"IF(Databackup!N554>0,Databackup!N554,\"--.--\")","v":""},"  Designation  "]
[]
[null,null,null,null,null,null,{"$f":"'DDO Data'!$C$5","v":"PQRS"}]
[{"$f":"IF(B569=\"\",\"\",\"Note\")","v":""}]
["File No",null,{"$f":"IF('DDO Data'!$C$6=\"\",\"\",'DDO Data'!$C$6)","v":123},null,null,null,null,"Date:",{"$f":"IF('DDO Data'!$C$7=\"\",\"\",'DDO Data'!$C$7)","v":"2023-06-16"}]
["Copy forwarded for  information and necessary action :-"]
[1,{"$f":"PROPER(CONCATENATE('DDO Data'!B9,\"  \",'DDO Data'!C9,\"  \"))","v":"Treasury  Bikaner  "}]
[2,"PKS   Designation  AAO-I"]
[{"$f":"IF(B574=\"\",\"\",3)","v":3},"Accounts Branch-in two copies for prepration of bill"]
[{"$f":"IF(B575=\"\",\"\",3)","v":3},"Personal File/Guard File"]
[{"$f":"IF(B576=\"\",\"\",3)","v":""},null,null,null,null,null,{"$f":"'DDO Data'!$C$5","v":"PQRS"}]

{"sheet":"Employee Data","index":3,"n_rows":554,"n_cols":17,"rows_kept":554,"cut":false,"hidden":false,"merged":[[0,8,0,11]]}
[null,null,"Process-Increment",null,null,null,"HOME",null,"Emp. Code \"647805\" is sample, when you process for incr. order, pleaseselect  incr. condition  \"NO\", for this code only",null,null,null,null,"HOME",null,"Country:"]
[null,"Emp. Code","Name of Incumbent ","Post","code for pay level","Pay Level\nas on","Date From \nPresent Pay \nis being taken","Date of Increment","Incre.\nCondition"," Pay in the Level in the Pay Matrix","Increment amt.","Total basic pay","Opening Balance of Adjusted P.P. under Rule 11(6)","Adjusted P.P. under Rule 11(6)","Closing Balace P.P. amt "]
[null,1,{"$f":"B3+1","v":2},{"$f":"C3+1","v":3},null,{"$f":"D3+1","v":4},{"$f":"F3+1","v":5},{"$f":"G3+1","v":6},{"$f":"H3+1","v":7},{"$f":"I3+1","v":8},{"$f":"J3+1","v":9},{"$f":"K3+1","v":10},{"$f":"L3+1","v":11},{"$f":"M3+1","v":12},{"$f":"N3+1","v":13},"Sort order:"]
[null,1,"PKS ","AAO-I",{"$f":"IF(F4=\"\",\"\",INDEX(Table_Incr!$CB$7:$CB$30,MATCH('Employee Data'!F4,Table_Incr!$CC$7:$CC$30,0)))","v":"Level_13"},"L-13","2022-07-01","2023-07-01","YES",82600,{"$f":"IF(B4=\"\",\"\",IF(I4=\"YES\",ROUND((J4*0.03),-2),0))","v":2500},{"$f":"IF(B4=\"\",\"\",J4+K4)","v":85100},0,{"$f":"IF(B5=\"\",\"\",IF(M4>0,MIN(K4,M4),0))","v":""},{"$f":"IF(M4=0,\"--N.A.--\",IF(N4>=0,M4-N4,\"--N.A.--\"))","v":"--N.A.--"},{"$f":"SMALL(IF(Databackup!$A$1=$I$4:$I$7,$C$4:$C$7,\"\"),ROW(#REF!))","v":{"$error":"#REF!"}}]
[null,null,null,null,null,null,null,null,null,null,{"$f":"IF(B5=\"\",\"\",IF(I5=\"YES\",ROUND((J5*0.03),-2),0))","v":""},"",null,{"$f":"IF(B5=\"\",\"\",IF(M5>0,MIN(K5,M5),0))","v":""},{"$f":"IF(M5=0,\"--.--\",IF(N5>=0,M5-N5,\"--.--\"))","v":"--.--"},{"$f":"SMALL(IF(Databackup!$A$1=$I$4:$I$7,$C$4:$C$7,\"\"),ROW(#REF!))","v":{"$error":"#REF!"}}]
[null,null,null,null,null,null,null,null,null,null,"","",null,{"$f":"IF(B6=\"\",\"\",IF(M6>0,MIN(K6,M6),0))","v":""},{"$f":"IF(M6=0,\"--.--\",IF(N6>=0,M6-N6,\"--.--\"))","v":"--.--"},{"$f":"SMALL(IF(Databackup!$A$1=$I$4:$I$7,$C$4:$C$7,\"\"),ROW(#REF!))","v":{"$error":"#REF!"}},{"$f":"INDEX(Employee_Name,MATCH(SMALL(IF(Databackup!$A$1=$I$4:$I$553,$B$4:$B$553,\"\"),ROW(A3)),IF(Databackup!$A$1=$I$4:$I$553,$B$4:$B$553,\"\"),0))","v":{"$error":"#NUM!"}}]
[null,null,null,null,null,null,null,null,null,null,"","",null,"","--.--",{"$f":"SMALL(IF(Databackup!$A$1=$I$4:$I$7,$C$4:$C$7,\"\"),ROW(#REF!))","v":{"$error":"#REF!"}},{"$f":"INDEX(Employee_Name,MATCH(SMALL(IF(Databackup!$A$1=$I$4:$I$553,$B$4:$B$553,\"\"),ROW(A4)),IF(Databackup!$A$1=$I$4:$I$553,$B$4:$B$553,\"\"),0))","v":{"$error":"#NUM!"}}]
[null,null,null,null,{"$f":"IF(F8=\"\",\"\",INDEX(Table_Incr!$CB$7:$CB$30,MATCH('Employee Data'!F8,Table_Incr!$CC$7:$CC$30,0)))","v":""},null,null,null,null,null,"","",null,"","--.--",{"$f":"SMALL(IF(Databackup!$A$1=$I$4:$I$7,$C$4:$C$7,\"\"),ROW(#REF!))","v":{"$error":"#REF!"}},{"$f":"INDEX(Employee_Name,MATCH(SMALL(IF(Databackup!$A$1=$I$4:$I$553,$B$4:$B$553,\"\"),ROW(A5)),IF(Databackup!$A$1=$I$4:$I$553,$B$4:$B$553,\"\"),0))","v":{"$error":"#NUM!"}}]
[null,null,null,null,{"$f":"IF(F9=\"\",\"\",INDEX(Table_Incr!$CB$7:$CB$30,MATCH('Employee Data'!F9,Table_Incr!$CC$7:$CC$30,0)))","v":""},null,null,null,null,null,"","",null,{"$f":"IF(B9=\"\",\"\",IF(M9>0,MIN(K9,M9),0))","v":""},{"$f":"IF(M9=0,\"--.--\",IF(N9>=0,M9-N9,\"--.--\"))","v":"--.--"},{"$f":"SMALL(IF(Databackup!$A$1=$I$4:$I$500,$C$4:$C$500,\"\"),ROW(A6))","v":{"$error":"#NUM!"}},{"$f":"INDEX(Employee_Name,MATCH(SMALL(IF(Databackup!$A$1=$I$4:$I$553,$B$4:$B$553,\"\"),ROW(A6)),IF(Databackup!$A$1=$I$4:$I$553,$B$4:$B$553,\"\"),0))","v":{"$error":"#NUM!"}}]
[null,null,null,null,{"$f":"IF(F10=\"\",\"\",INDEX(Table_Incr!$CB$7:$CB$30,MATCH('Employee Data'!F10,Table_Incr!$CC$7:$CC$30,0)))","v":""},null,null,null,null,null,"","",null,"","--.--",{"$f":"SMALL(IF(Databackup!$A$1=$I$4:$I$500,$C$4:$C$500,\"\"),ROW(A7))","v":{"$error":"#NUM!"}},{"$f":"INDEX(Employee_Name,MATCH(SMALL(IF(Databackup!$A$1=$I$4:$I$553,$B$4:$B$553,\"\"),ROW(A7)),IF(Databackup!$A$1=$I$4:$I$553,$B$4:$B$553,\"\"),0))","v":{"$error":"#NUM!"}}]
[null,null,null,null,{"$f":"IF(F11=\"\",\"\",INDEX(Table_Incr!$CB$7:$CB$30,MATCH('Employee Data'!F11,Table_Incr!$CC$7:$CC$30,0)))","v":""},null,null,null,null,null,"","",null,"","--.--",null,{"$f":"INDEX(Employee_Name,MATCH(SMALL(IF(Databackup!$A$1=$I$4:$I$553,$B$4:$B$553,\"\"),ROW(A8)),IF(Databackup!$A$1=$I$4:$I$553,$B$4:$B$553,\"\"),0))","v":{"$error":"#NUM!"}}]
[null,null,null,null,{"$f":"IF(F12=\"\",\"\",INDEX(Table_Incr!$CB$7:$CB$30,MATCH('Employee Data'!F12,Table_Incr!$CC$7:$CC$30,0)))","v":""},null,null,null,null,null,"","",null,"","--.--",null,{"$f":"INDEX(Employee_Name,MATCH(SMALL(IF(Databackup!$A$1=$I$4:$I$553,$B$4:$B$553,\"\"),ROW(A9)),IF(Databackup!$A$1=$I$4:$I$553,$B$4:$B$553,\"\"),0))","v":{"$error":"#NUM!"}}]
[null,null,null,null,{"$f":"IF(F13=\"\",\"\",INDEX(Table_Incr!$CB$7:$CB$30,MATCH('Employee Data'!F13,Table_Incr!$CC$7:$CC$30,0)))","v":""},null,null,null,null,null,"","",null,"","--.--",null,{"$f":"INDEX(Employee_Name,MATCH(SMALL(IF(Databackup!$A$1=$I$4:$I$553,$B$4:$B$553,\"\"),ROW(A10)),IF(Databackup!$A$1=$I$4:$I$553,$B$4:$B$553,\"\"),0))","v":{"$error":"#NUM!"}}]
[null,null,null,null,{"$f":"IF(F14=\"\",\"\",INDEX(Table_Incr!$CB$7:$CB$30,MATCH('Employee Data'!F14,Table_Incr!$CC$7:$CC$30,0)))","v":""},null,null,null,null,null,"","",null,"","--.--",null,{"$f":"INDEX(Employee_Name,MATCH(SMALL(IF(Databackup!$A$1=$I$4:$I$553,$B$4:$B$553,\"\"),ROW(A11)),IF(Databackup!$A$1=$I$4:$I$553,$B$4:$B$553,\"\"),0))","v":{"$error":"#NUM!"}}]
[null,null,null,null,{"$f":"IF(F15=\"\",\"\",INDEX(Table_Incr!$CB$7:$CB$30,MATCH('Employee Data'!F15,Table_Incr!$CC$7:$CC$30,0)))","v":""},null,null,null,null,null,"","",null,"","--.--",null,{"$f":"INDEX(Employee_Name,MATCH(SMALL(IF(Databackup!$A$1=$I$4:$I$553,$B$4:$B$553,\"\"),ROW(A12)),IF(Databackup!$A$1=$I$4:$I$553,$B$4:$B$553,\"\"),0))","v":{"$error":"#NUM!"}}]
[null,null,null,null,{"$f":"IF(F16=\"\",\"\",INDEX(Table_Incr!$CB$7:$CB$30,MATCH('Employee Data'!F16,Table_Incr!$CC$7:$CC$30,0)))","v":""},null,null,null,null,null,"","",null,"","--.--"]
[null,null,null,null,{"$f":"IF(F17=\"\",\"\",INDEX(Table_Incr!$CB$7:$CB$30,MATCH('Employee Data'!F17,Table_Incr!$CC$7:$CC$30,0)))","v":""},null,null,null,null,null,"","",null,"","--.--"]
[null,null,null,null,{"$f":"IF(F18=\"\",\"\",INDEX(Table_Incr!$CB$7:$CB$30,MATCH('Employee Data'!F18,Table_Incr!$CC$7:$CC$30,0)))","v":""},null,null,null,null,null,"","",null,"","--.--"]
[null,null,null,null,{"$f":"IF(F19=\"\",\"\",INDEX(Table_Incr!$CB$7:$CB$30,MATCH('Employee Data'!F19,Table_Incr!$CC$7:$CC$30,0)))","v":""},null,null,null,null,null,"","",null,"","--.--"]
[null,null,null,null,{"$f":"IF(F20=\"\",\"\",INDEX(Table_Incr!$CB$7:$CB$30,MATCH('Employee Data'!F20,Table_Incr!$CC$7:$CC$30,0)))","v":""},null,null,null,null,null,"","",null,"","--.--"]
[null,null,null,null,{"$f":"IF(F21=\"\",\"\",INDEX(Table_Incr!$CB$7:$CB$30,MATCH('Employee Data'!F21,Table_Incr!$CC$7:$CC$30,0)))","v":""},null,null,null,null,null,"","",null,"","--.--"]
[null,null,null,null,{"$f":"IF(F22=\"\",\"\",INDEX(Table_Incr!$CB$7:$CB$30,MATCH('Employee Data'!F22,Table_Incr!$CC$7:$CC$30,0)))","v":""},null,null,null,null,null,"","",null,"","--.--"]
[null,null,null,null,{"$f":"IF(F23=\"\",\"\",INDEX(Table_Incr!$CB$7:$CB$30,MATCH('Employee Data'!F23,Table_Incr!$CC$7:$CC$30,0)))","v":""},null,null,null,null,null,"","",null,"","--.--"]
[null,null,null,null,{"$f":"IF(F24=\"\",\"\",INDEX(Table_Incr!$CB$7:$CB$30,MATCH('Employee Data'!F24,Table_Incr!$CC$7:$CC$30,0)))","v":""},null,null,null,null,null,"","",null,"","--.--"]
[null,null,null,null,{"$f":"IF(F25=\"\",\"\",INDEX(Table_Incr!$CB$7:$CB$30,MATCH('Employee Data'!F25,Table_Incr!$CC$7:$CC$30,0)))","v":""},null,null,null,null,null,"","",null,"","--.--"]
[null,null,null,null,{"$f":"IF(F26=\"\",\"\",INDEX(Table_Incr!$CB$7:$CB$30,MATCH('Employee Data'!F26,Table_Incr!$CC$7:$CC$30,0)))","v":""},null,null,null,null,null,"","",null,"","--.--"]
[null,null,null,null,{"$f":"IF(F27=\"\",\"\",INDEX(Table_Incr!$CB$7:$CB$30,MATCH('Employee Data'!F27,Table_Incr!$CC$7:$CC$30,0)))","v":""},null,null,null,null,null,"","",null,"","--.--"]
[null,null,null,null,{"$f":"IF(F28=\"\",\"\",INDEX(Table_Incr!$CB$7:$CB$30,MATCH('Employee Data'!F28,Table_Incr!$CC$7:$CC$30,0)))","v":""},null,null,null,null,null,"","",null,"","--.--"]
[null,null,null,null,{"$f":"IF(F29=\"\",\"\",INDEX(Table_Incr!$CB$7:$CB$30,MATCH('Employee Data'!F29,Table_Incr!$CC$7:$CC$30,0)))","v":""},null,null,null,null,null,"","",null,"","--.--"]
[null,null,null,null,{"$f":"IF(F30=\"\",\"\",INDEX(Table_Incr!$CB$7:$CB$30,MATCH('Employee Data'!F30,Table_Incr!$CC$7:$CC$30,0)))","v":""},null,null,null,null,null,"","",null,"","--.--"]
[null,null,null,null,{"$f":"IF(F31=\"\",\"\",INDEX(Table_Incr!$CB$7:$CB$30,MATCH('Employee Data'!F31,Table_Incr!$CC$7:$CC$30,0)))","v":""},null,null,null,null,null,"","",null,"","--.--"]
[null,null,null,null,{"$f":"IF(F32=\"\",\"\",INDEX(Table_Incr!$CB$7:$CB$30,MATCH('Employee Data'!F32,Table_Incr!$CC$7:$CC$30,0)))","v":""},null,null,null,null,null,"","",null,"","--.--"]
[null,null,null,null,{"$f":"IF(F33=\"\",\"\",INDEX(Table_Incr!$CB$7:$CB$30,MATCH('Employee Data'!F33,Table_Incr!$CC$7:$CC$30,0)))","v":""},null,null,null,null,null,"","",null,"","--.--"]
[null,null,null,null,{"$f":"IF(F34=\"\",\"\",INDEX(Table_Incr!$CB$7:$CB$30,MATCH('Employee Data'!F34,Table_Incr!$CC$7:$CC$30,0)))","v":""},null,null,null,null,null,"","",null,"","--.--"]
[null,null,null,null,{"$f":"IF(F35=\"\",\"\",INDEX(Table_Incr!$CB$7:$CB$30,MATCH('Employee Data'!F35,Table_Incr!$CC$7:$CC$30,0)))","v":""},null,null,null,null,null,"","",null,"","--.--"]
[null,null,null,null,{"$f":"IF(F36=\"\",\"\",INDEX(Table_Incr!$CB$7:$CB$30,MATCH('Employee Data'!F36,Table_Incr!$CC$7:$CC$30,0)))","v":""},null,null,null,null,null,"","",null,"","--.--"]
[null,null,null,null,{"$f":"IF(F37=\"\",\"\",INDEX(Table_Incr!$CB$7:$CB$30,MATCH('Employee Data'!F37,Table_Incr!$CC$7:$CC$30,0)))","v":""},null,null,null,null,null,"","",null,"","--.--"]
[null,null,null,null,{"$f":"IF(F38=\"\",\"\",INDEX(Table_Incr!$CB$7:$CB$30,MATCH('Employee Data'!F38,Table_Incr!$CC$7:$CC$30,0)))","v":""},null,null,null,null,null,"","",null,"","--.--"]
[null,null,null,null,{"$f":"IF(F39=\"\",\"\",INDEX(Table_Incr!$CB$7:$CB$30,MATCH('Employee Data'!F39,Table_Incr!$CC$7:$CC$30,0)))","v":""},null,null,null,null,null,"","",null,"","--.--"]
[null,null,null,null,{"$f":"IF(F40=\"\",\"\",INDEX(Table_Incr!$CB$7:$CB$30,MATCH('Employee Data'!F40,Table_Incr!$CC$7:$CC$30,0)))","v":""},null,null,null,null,null,"","",null,"","--.--"]
[null,null,null,null,{"$f":"IF(F41=\"\",\"\",INDEX(Table_Incr!$CB$7:$CB$30,MATCH('Employee Data'!F41,Table_Incr!$CC$7:$CC$30,0)))","v":""},null,null,null,null,null,"","",null,"","--.--"]
[null,null,null,null,{"$f":"IF(F42=\"\",\"\",INDEX(Table_Incr!$CB$7:$CB$30,MATCH('Employee Data'!F42,Table_Incr!$CC$7:$CC$30,0)))","v":""},null,null,null,null,null,"","",null,"","--.--"]
[null,null,null,null,{"$f":"IF(F43=\"\",\"\",INDEX(Table_Incr!$CB$7:$CB$30,MATCH('Employee Data'!F43,Table_Incr!$CC$7:$CC$30,0)))","v":""},null,null,null,null,null,"","",null,"","--.--"]
[null,null,null,null,{"$f":"IF(F44=\"\",\"\",INDEX(Table_Incr!$CB$7:$CB$30,MATCH('Employee Data'!F44,Table_Incr!$CC$7:$CC$30,0)))","v":""},null,null,null,null,null,"","",null,"","--.--"]
[null,null,null,null,{"$f":"IF(F45=\"\",\"\",INDEX(Table_Incr!$CB$7:$CB$30,MATCH('Employee Data'!F45,Table_Incr!$CC$7:$CC$30,0)))","v":""},null,null,null,null,null,"","",null,"","--.--"]
[null,null,null,null,{"$f":"IF(F46=\"\",\"\",INDEX(Table_Incr!$CB$7:$CB$30,MATCH('Employee Data'!F46,Table_Incr!$CC$7:$CC$30,0)))","v":""},null,null,null,null,null,"","",null,"","--.--"]
[null,null,null,null,{"$f":"IF(F47=\"\",\"\",INDEX(Table_Incr!$CB$7:$CB$30,MATCH('Employee Data'!F47,Table_Incr!$CC$7:$CC$30,0)))","v":""},null,null,null,null,null,"","",null,"","--.--"]
[null,null,null,null,{"$f":"IF(F48=\"\",\"\",INDEX(Table_Incr!$CB$7:$CB$30,MATCH('Employee Data'!F48,Table_Incr!$CC$7:$CC$30,0)))","v":""},null,null,null,null,null,"","",null,"","--.--"]
[null,null,null,null,{"$f":"IF(F49=\"\",\"\",INDEX(Table_Incr!$CB$7:$CB$30,MATCH('Employee Data'!F49,Table_Incr!$CC$7:$CC$30,0)))","v":""},null,null,null,null,null,"","",null,"","--.--"]
[null,null,null,null,{"$f":"IF(F50=\"\",\"\",INDEX(Table_Incr!$CB$7:$CB$30,MATCH('Employee Data'!F50,Table_Incr!$CC$7:$CC$30,0)))","v":""},null,null,null,null,null,"","",null,"","--.--"]
[null,null,null,null,{"$f":"IF(F51=\"\",\"\",INDEX(Table_Incr!$CB$7:$CB$30,MATCH('Employee Data'!F51,Table_Incr!$CC$7:$CC$30,0)))","v":""},null,null,null,null,null,"","",null,"","--.--"]
[null,null,null,null,{"$f":"IF(F52=\"\",\"\",INDEX(Table_Incr!$CB$7:$CB$30,MATCH('Employee Data'!F52,Table_Incr!$CC$7:$CC$30,0)))","v":""},null,null,null,null,null,"","",null,"","--.--"]
[null,null,null,null,{"$f":"IF(F53=\"\",\"\",INDEX(Table_Incr!$CB$7:$CB$30,MATCH('Employee Data'!F53,Table_Incr!$CC$7:$CC$30,0)))","v":""},null,null,null,null,null,"","",null,"","--.--"]
[null,null,null,null,{"$f":"IF(F54=\"\",\"\",INDEX(Table_Incr!$CB$7:$CB$30,MATCH('Employee Data'!F54,Table_Incr!$CC$7:$CC$30,0)))","v":""},null,null,null,null,null,"","",null,"","--.--"]
[null,null,null,null,{"$f":"IF(F55=\"\",\"\",INDEX(Table_Incr!$CB$7:$CB$30,MATCH('Employee Data'!F55,Table_Incr!$CC$7:$CC$30,0)))","v":""},null,null,null,null,null,"","",null,"","--.--"]
[null,null,null,null,{"$f":"IF(F56=\"\",\"\",INDEX(Table_Incr!$CB$7:$CB$30,MATCH('Employee Data'!F56,Table_Incr!$CC$7:$CC$30,0)))","v":""},null,null,null,null,null,"","",null,"","--.--"]
[null,null,null,null,{"$f":"IF(F57=\"\",\"\",INDEX(Table_Incr!$CB$7:$CB$30,MATCH('Employee Data'!F57,Table_Incr!$CC$7:$CC$30,0)))","v":""},null,null,null,null,null,"","",null,"","--.--"]
[null,null,null,null,{"$f":"IF(F58=\"\",\"\",INDEX(Table_Incr!$CB$7:$CB$30,MATCH('Employee Data'!F58,Table_Incr!$CC$7:$CC$30,0)))","v":""},null,null,null,null,null,"","",null,"","--.--"]
[null,null,null,null,{"$f":"IF(F59=\"\",\"\",INDEX(Table_Incr!$CB$7:$CB$30,MATCH('Employee Data'!F59,Table_Incr!$CC$7:$CC$30,0)))","v":""},null,null,null,null,null,"","",null,"","--.--"]
[null,null,null,null,{"$f":"IF(F60=\"\",\"\",INDEX(Table_Incr!$CB$7:$CB$30,MATCH('Employee Data'!F60,Table_Incr!$CC$7:$CC$30,0)))","v":""},null,null,null,null,null,"","",null,"","--.--"]
[null,null,null,null,{"$f":"IF(F61=\"\",\"\",INDEX(Table_Incr!$CB$7:$CB$30,MATCH('Employee Data'!F61,Table_Incr!$CC$7:$CC$30,0)))","v":""},null,null,null,null,null,"","",null,"","--.--"]
[null,null,null,null,{"$f":"IF(F62=\"\",\"\",INDEX(Table_Incr!$CB$7:$CB$30,MATCH('Employee Data'!F62,Table_Incr!$CC$7:$CC$30,0)))","v":""},null,null,null,null,null,"","",null,"","--.--"]
[null,null,null,null,{"$f":"IF(F63=\"\",\"\",INDEX(Table_Incr!$CB$7:$CB$30,MATCH('Employee Data'!F63,Table_Incr!$CC$7:$CC$30,0)))","v":""},null,null,null,null,null,"","",null,"","--.--"]
[null,null,null,null,{"$f":"IF(F64=\"\",\"\",INDEX(Table_Incr!$CB$7:$CB$30,MATCH('Employee Data'!F64,Table_Incr!$CC$7:$CC$30,0)))","v":""},null,null,null,null,null,"","",null,"","--.--"]
[null,null,null,null,{"$f":"IF(F65=\"\",\"\",INDEX(Table_Incr!$CB$7:$CB$30,MATCH('Employee Data'!F65,Table_Incr!$CC$7:$CC$30,0)))","v":""},null,null,null,null,null,"","",null,"","--.--"]
[null,null,null,null,{"$f":"IF(F66=\"\",\"\",INDEX(Table_Incr!$CB$7:$CB$30,MATCH('Employee Data'!F66,Table_Incr!$CC$7:$CC$30,0)))","v":""},null,null,null,null,null,"","",null,"","--.--"]
[null,null,null,null,{"$f":"IF(F67=\"\",\"\",INDEX(Table_Incr!$CB$7:$CB$30,MATCH('Employee Data'!F67,Table_Incr!$CC$7:$CC$30,0)))","v":""},null,null,null,null,null,"","",null,"","--.--"]
[null,null,null,null,{"$f":"IF(F68=\"\",\"\",INDEX(Table_Incr!$CB$7:$CB$30,MATCH('Employee Data'!F68,Table_Incr!$CC$7:$CC$30,0)))","v":""},null,null,null,null,null,"",{"$f":"IF(B68=\"\",\"\",J68+K68)","v":""},null,"","--.--"]
[null,null,null,null,{"$f":"IF(F69=\"\",\"\",INDEX(Table_Incr!$CB$7:$CB$30,MATCH('Employee Data'!F69,Table_Incr!$CC$7:$CC$30,0)))","v":""},null,null,null,null,null,{"$f":"IF(B69=\"\",\"\",IF(I69=\"YES\",ROUND((J69*0.03),-2),0))","v":""},"",null,"","--.--"]
[null,null,null,null,{"$f":"IF(F70=\"\",\"\",INDEX(Table_Incr!$CB$7:$CB$30,MATCH('Employee Data'!F70,Table_Incr!$CC$7:$CC$30,0)))","v":""},null,null,null,null,null,"","",null,"","--.--"]
[null,null,null,null,{"$f":"IF(F71=\"\",\"\",INDEX(Table_Incr!$CB$7:$CB$30,MATCH('Employee Data'!F71,Table_Incr!$CC$7:$CC$30,0)))","v":""},null,null,null,null,null,"","",null,"","--.--"]
[null,null,null,null,{"$f":"IF(F72=\"\",\"\",INDEX(Table_Incr!$CB$7:$CB$30,MATCH('Employee Data'!F72,Table_Incr!$CC$7:$CC$30,0)))","v":""},null,null,null,null,null,"","",null,"","--.--"]
[null,null,null,null,{"$f":"IF(F73=\"\",\"\",INDEX(Table_Incr!$CB$7:$CB$30,MATCH('Employee Data'!F73,Table_Incr!$CC$7:$CC$30,0)))","v":""},null,null,null,null,null,"","",null,{"$f":"IF(B73=\"\",\"\",IF(M73>0,MIN(K73,M73),0))","v":""},{"$f":"IF(M73=0,\"--.--\",IF(N73>=0,M73-N73,\"--.--\"))","v":"--.--"}]
[null,null,null,null,{"$f":"IF(F74=\"\",\"\",INDEX(Table_Incr!$CB$7:$CB$30,MATCH('Employee Data'!F74,Table_Incr!$CC$7:$CC$30,0)))","v":""},null,null,null,null,null,"","",null,"","--.--"]
[null,null,null,null,{"$f":"IF(F75=\"\",\"\",INDEX(Table_Incr!$CB$7:$CB$30,MATCH('Employee Data'!F75,Table_Incr!$CC$7:$CC$30,0)))","v":""},null,null,null,null,null,"","",null,"","--.--"]
[null,null,null,null,{"$f":"IF(F76=\"\",\"\",INDEX(Table_Incr!$CB$7:$CB$30,MATCH('Employee Data'!F76,Table_Incr!$CC$7:$CC$30,0)))","v":""},null,null,null,null,null,"","",null,"","--.--"]
[null,null,null,null,{"$f":"IF(F77=\"\",\"\",INDEX(Table_Incr!$CB$7:$CB$30,MATCH('Employee Data'!F77,Table_Incr!$CC$7:$CC$30,0)))","v":""},null,null,null,null,null,"","",null,"","--.--"]
[null,null,null,null,{"$f":"IF(F78=\"\",\"\",INDEX(Table_Incr!$CB$7:$CB$30,MATCH('Employee Data'!F78,Table_Incr!$CC$7:$CC$30,0)))","v":""},null,null,null,null,null,"","",null,"","--.--"]
[null,null,null,null,{"$f":"IF(F79=\"\",\"\",INDEX(Table_Incr!$CB$7:$CB$30,MATCH('Employee Data'!F79,Table_Incr!$CC$7:$CC$30,0)))","v":""},null,null,null,null,null,"","",null,"","--.--"]
[null,null,null,null,{"$f":"IF(F80=\"\",\"\",INDEX(Table_Incr!$CB$7:$CB$30,MATCH('Employee Data'!F80,Table_Incr!$CC$7:$CC$30,0)))","v":""},null,null,null,null,null,"","",null,"","--.--"]
[null,null,null,null,{"$f":"IF(F81=\"\",\"\",INDEX(Table_Incr!$CB$7:$CB$30,MATCH('Employee Data'!F81,Table_Incr!$CC$7:$CC$30,0)))","v":""},null,null,null,null,null,"","",null,"","--.--"]
[null,null,null,null,{"$f":"IF(F82=\"\",\"\",INDEX(Table_Incr!$CB$7:$CB$30,MATCH('Employee Data'!F82,Table_Incr!$CC$7:$CC$30,0)))","v":""},null,null,null,null,null,"","",null,"","--.--"]
[null,null,null,null,{"$f":"IF(F83=\"\",\"\",INDEX(Table_Incr!$CB$7:$CB$30,MATCH('Employee Data'!F83,Table_Incr!$CC$7:$CC$30,0)))","v":""},null,null,null,null,null,"","",null,"","--.--"]
[null,null,null,null,{"$f":"IF(F84=\"\",\"\",INDEX(Table_Incr!$CB$7:$CB$30,MATCH('Employee Data'!F84,Table_Incr!$CC$7:$CC$30,0)))","v":""},null,null,null,null,null,"","",null,"","--.--"]
[null,null,null,null,{"$f":"IF(F85=\"\",\"\",INDEX(Table_Incr!$CB$7:$CB$30,MATCH('Employee Data'!F85,Table_Incr!$CC$7:$CC$30,0)))","v":""},null,null,null,null,null,"","",null,"","--.--"]
[null,null,null,null,{"$f":"IF(F86=\"\",\"\",INDEX(Table_Incr!$CB$7:$CB$30,MATCH('Employee Data'!F86,Table_Incr!$CC$7:$CC$30,0)))","v":""},null,null,null,null,null,"","",null,"","--.--"]
[null,null,null,null,{"$f":"IF(F87=\"\",\"\",INDEX(Table_Incr!$CB$7:$CB$30,MATCH('Employee Data'!F87,Table_Incr!$CC$7:$CC$30,0)))","v":""},null,null,null,null,null,"","",null,"","--.--"]
[null,null,null,null,{"$f":"IF(F88=\"\",\"\",INDEX(Table_Incr!$CB$7:$CB$30,MATCH('Employee Data'!F88,Table_Incr!$CC$7:$CC$30,0)))","v":""},null,null,null,null,null,"","",null,"","--.--"]
[null,null,null,null,{"$f":"IF(F89=\"\",\"\",INDEX(Table_Incr!$CB$7:$CB$30,MATCH('Employee Data'!F89,Table_Incr!$CC$7:$CC$30,0)))","v":""},null,null,null,null,null,"","",null,"","--.--"]
[null,null,null,null,{"$f":"IF(F90=\"\",\"\",INDEX(Table_Incr!$CB$7:$CB$30,MATCH('Employee Data'!F90,Table_Incr!$CC$7:$CC$30,0)))","v":""},null,null,null,null,null,"","",null,"","--.--"]
[null,null,null,null,{"$f":"IF(F91=\"\",\"\",INDEX(Table_Incr!$CB$7:$CB$30,MATCH('Employee Data'!F91,Table_Incr!$CC$7:$CC$30,0)))","v":""},null,null,null,null,null,"","",null,"","--.--"]
[null,null,null,null,{"$f":"IF(F92=\"\",\"\",INDEX(Table_Incr!$CB$7:$CB$30,MATCH('Employee Data'!F92,Table_Incr!$CC$7:$CC$30,0)))","v":""},null,null,null,null,null,"","",null,"","--.--"]
[null,null,null,null,{"$f":"IF(F93=\"\",\"\",INDEX(Table_Incr!$CB$7:$CB$30,MATCH('Employee Data'!F93,Table_Incr!$CC$7:$CC$30,0)))","v":""},null,null,null,null,null,"","",null,"","--.--"]
[null,null,null,null,{"$f":"IF(F94=\"\",\"\",INDEX(Table_Incr!$CB$7:$CB$30,MATCH('Employee Data'!F94,Table_Incr!$CC$7:$CC$30,0)))","v":""},null,null,null,null,null,"","",null,"","--.--"]
[null,null,null,null,{"$f":"IF(F95=\"\",\"\",INDEX(Table_Incr!$CB$7:$CB$30,MATCH('Employee Data'!F95,Table_Incr!$CC$7:$CC$30,0)))","v":""},null,null,null,null,null,"","",null,"","--.--"]
[null,null,null,null,{"$f":"IF(F96=\"\",\"\",INDEX(Table_Incr!$CB$7:$CB$30,MATCH('Employee Data'!F96,Table_Incr!$CC$7:$CC$30,0)))","v":""},null,null,null,null,null,"","",null,"","--.--"]
[null,null,null,null,{"$f":"IF(F97=\"\",\"\",INDEX(Table_Incr!$CB$7:$CB$30,MATCH('Employee Data'!F97,Table_Incr!$CC$7:$CC$30,0)))","v":""},null,null,null,null,null,"","",null,"","--.--"]
[null,null,null,null,{"$f":"IF(F98=\"\",\"\",INDEX(Table_Incr!$CB$7:$CB$30,MATCH('Employee Data'!F98,Table_Incr!$CC$7:$CC$30,0)))","v":""},null,null,null,null,null,"","",null,"","--.--"]
[null,null,null,null,{"$f":"IF(F99=\"\",\"\",INDEX(Table_Incr!$CB$7:$CB$30,MATCH('Employee Data'!F99,Table_Incr!$CC$7:$CC$30,0)))","v":""},null,null,null,null,null,"","",null,"","--.--"]
[null,null,null,null,{"$f":"IF(F100=\"\",\"\",INDEX(Table_Incr!$CB$7:$CB$30,MATCH('Employee Data'!F100,Table_Incr!$CC$7:$CC$30,0)))","v":""},null,null,null,null,null,"","",null,"","--.--"]
[null,null,null,null,{"$f":"IF(F101=\"\",\"\",INDEX(Table_Incr!$CB$7:$CB$30,MATCH('Employee Data'!F101,Table_Incr!$CC$7:$CC$30,0)))","v":""},null,null,null,null,null,"","",null,"","--.--"]
[null,null,null,null,{"$f":"IF(F102=\"\",\"\",INDEX(Table_Incr!$CB$7:$CB$30,MATCH('Employee Data'!F102,Table_Incr!$CC$7:$CC$30,0)))","v":""},null,null,null,null,null,"","",null,"","--.--"]
[null,null,null,null,{"$f":"IF(F103=\"\",\"\",INDEX(Table_Incr!$CB$7:$CB$30,MATCH('Employee Data'!F103,Table_Incr!$CC$7:$CC$30,0)))","v":""},null,null,null,null,null,"","",null,"","--.--"]
[null,null,null,null,{"$f":"IF(F104=\"\",\"\",INDEX(Table_Incr!$CB$7:$CB$30,MATCH('Employee Data'!F104,Table_Incr!$CC$7:$CC$30,0)))","v":""},null,null,null,null,null,"","",null,"","--.--"]
[null,null,null,null,{"$f":"IF(F105=\"\",\"\",INDEX(Table_Incr!$CB$7:$CB$30,MATCH('Employee Data'!F105,Table_Incr!$CC$7:$CC$30,0)))","v":""},null,null,null,null,null,"","",null,"","--.--"]
[null,null,null,null,{"$f":"IF(F106=\"\",\"\",INDEX(Table_Incr!$CB$7:$CB$30,MATCH('Employee Data'!F106,Table_Incr!$CC$7:$CC$30,0)))","v":""},null,null,null,null,null,"","",null,"","--.--"]
[null,null,null,null,{"$f":"IF(F107=\"\",\"\",INDEX(Table_Incr!$CB$7:$CB$30,MATCH('Employee Data'!F107,Table_Incr!$CC$7:$CC$30,0)))","v":""},null,null,null,null,null,"","",null,"","--.--"]
[null,null,null,null,{"$f":"IF(F108=\"\",\"\",INDEX(Table_Incr!$CB$7:$CB$30,MATCH('Employee Data'!F108,Table_Incr!$CC$7:$CC$30,0)))","v":""},null,null,null,null,null,"","",null,"","--.--"]
[null,null,null,null,{"$f":"IF(F109=\"\",\"\",INDEX(Table_Incr!$CB$7:$CB$30,MATCH('Employee Data'!F109,Table_Incr!$CC$7:$CC$30,0)))","v":""},null,null,null,null,null,"","",null,"","--.--"]
[null,null,null,null,{"$f":"IF(F110=\"\",\"\",INDEX(Table_Incr!$CB$7:$CB$30,MATCH('Employee Data'!F110,Table_Incr!$CC$7:$CC$30,0)))","v":""},null,null,null,null,null,"","",null,"","--.--"]
[null,null,null,null,{"$f":"IF(F111=\"\",\"\",INDEX(Table_Incr!$CB$7:$CB$30,MATCH('Employee Data'!F111,Table_Incr!$CC$7:$CC$30,0)))","v":""},null,null,null,null,null,"","",null,"","--.--"]
[null,null,null,null,{"$f":"IF(F112=\"\",\"\",INDEX(Table_Incr!$CB$7:$CB$30,MATCH('Employee Data'!F112,Table_Incr!$CC$7:$CC$30,0)))","v":""},null,null,null,null,null,"","",null,"","--.--"]
[null,null,null,null,{"$f":"IF(F113=\"\",\"\",INDEX(Table_Incr!$CB$7:$CB$30,MATCH('Employee Data'!F113,Table_Incr!$CC$7:$CC$30,0)))","v":""},null,null,null,null,null,"","",null,"","--.--"]
[null,null,null,null,{"$f":"IF(F114=\"\",\"\",INDEX(Table_Incr!$CB$7:$CB$30,MATCH('Employee Data'!F114,Table_Incr!$CC$7:$CC$30,0)))","v":""},null,null,null,null,null,"","",null,"","--.--"]
[null,null,null,null,{"$f":"IF(F115=\"\",\"\",INDEX(Table_Incr!$CB$7:$CB$30,MATCH('Employee Data'!F115,Table_Incr!$CC$7:$CC$30,0)))","v":""},null,null,null,null,null,"","",null,"","--.--"]
[null,null,null,null,{"$f":"IF(F116=\"\",\"\",INDEX(Table_Incr!$CB$7:$CB$30,MATCH('Employee Data'!F116,Table_Incr!$CC$7:$CC$30,0)))","v":""},null,null,null,null,null,"","",null,"","--.--"]
[null,null,null,null,{"$f":"IF(F117=\"\",\"\",INDEX(Table_Incr!$CB$7:$CB$30,MATCH('Employee Data'!F117,Table_Incr!$CC$7:$CC$30,0)))","v":""},null,null,null,null,null,"","",null,"","--.--"]
[null,null,null,null,{"$f":"IF(F118=\"\",\"\",INDEX(Table_Incr!$CB$7:$CB$30,MATCH('Employee Data'!F118,Table_Incr!$CC$7:$CC$30,0)))","v":""},null,null,null,null,null,"","",null,"","--.--"]
[null,null,null,null,{"$f":"IF(F119=\"\",\"\",INDEX(Table_Incr!$CB$7:$CB$30,MATCH('Employee Data'!F119,Table_Incr!$CC$7:$CC$30,0)))","v":""},null,null,null,null,null,"","",null,"","--.--"]
[null,null,null,null,{"$f":"IF(F120=\"\",\"\",INDEX(Table_Incr!$CB$7:$CB$30,MATCH('Employee Data'!F120,Table_Incr!$CC$7:$CC$30,0)))","v":""},null,null,null,null,null,"","",null,"","--.--"]
[null,null,null,null,{"$f":"IF(F121=\"\",\"\",INDEX(Table_Incr!$CB$7:$CB$30,MATCH('Employee Data'!F121,Table_Incr!$CC$7:$CC$30,0)))","v":""},null,null,null,null,null,"","",null,"","--.--"]
[null,null,null,null,{"$f":"IF(F122=\"\",\"\",INDEX(Table_Incr!$CB$7:$CB$30,MATCH('Employee Data'!F122,Table_Incr!$CC$7:$CC$30,0)))","v":""},null,null,null,null,null,"","",null,"","--.--"]
[null,null,null,null,{"$f":"IF(F123=\"\",\"\",INDEX(Table_Incr!$CB$7:$CB$30,MATCH('Employee Data'!F123,Table_Incr!$CC$7:$CC$30,0)))","v":""},null,null,null,null,null,"","",null,"","--.--"]
[null,null,null,null,{"$f":"IF(F124=\"\",\"\",INDEX(Table_Incr!$CB$7:$CB$30,MATCH('Employee Data'!F124,Table_Incr!$CC$7:$CC$30,0)))","v":""},null,null,null,null,null,"","",null,"","--.--"]
[null,null,null,null,{"$f":"IF(F125=\"\",\"\",INDEX(Table_Incr!$CB$7:$CB$30,MATCH('Employee Data'!F125,Table_Incr!$CC$7:$CC$30,0)))","v":""},null,null,null,null,null,"","",null,"","--.--"]
[null,null,null,null,{"$f":"IF(F126=\"\",\"\",INDEX(Table_Incr!$CB$7:$CB$30,MATCH('Employee Data'!F126,Table_Incr!$CC$7:$CC$30,0)))","v":""},null,null,null,null,null,"","",null,"","--.--"]
[null,null,null,null,{"$f":"IF(F127=\"\",\"\",INDEX(Table_Incr!$CB$7:$CB$30,MATCH('Employee Data'!F127,Table_Incr!$CC$7:$CC$30,0)))","v":""},null,null,null,null,null,"","",null,"","--.--"]
[null,null,null,null,{"$f":"IF(F128=\"\",\"\",INDEX(Table_Incr!$CB$7:$CB$30,MATCH('Employee Data'!F128,Table_Incr!$CC$7:$CC$30,0)))","v":""},null,null,null,null,null,"","",null,"","--.--"]
[null,null,null,null,{"$f":"IF(F129=\"\",\"\",INDEX(Table_Incr!$CB$7:$CB$30,MATCH('Employee Data'!F129,Table_Incr!$CC$7:$CC$30,0)))","v":""},null,null,null,null,null,"","",null,"","--.--"]
[null,null,null,null,{"$f":"IF(F130=\"\",\"\",INDEX(Table_Incr!$CB$7:$CB$30,MATCH('Employee Data'!F130,Table_Incr!$CC$7:$CC$30,0)))","v":""},null,null,null,null,null,"","",null,"","--.--"]
[null,null,null,null,{"$f":"IF(F131=\"\",\"\",INDEX(Table_Incr!$CB$7:$CB$30,MATCH('Employee Data'!F131,Table_Incr!$CC$7:$CC$30,0)))","v":""},null,null,null,null,null,"","",null,"","--.--"]
[null,null,null,null,{"$f":"IF(F132=\"\",\"\",INDEX(Table_Incr!$CB$7:$CB$30,MATCH('Employee Data'!F132,Table_Incr!$CC$7:$CC$30,0)))","v":""},null,null,null,null,null,"",{"$f":"IF(B132=\"\",\"\",J132+K132)","v":""},null,"","--.--"]
[null,null,null,null,{"$f":"IF(F133=\"\",\"\",INDEX(Table_Incr!$CB$7:$CB$30,MATCH('Employee Data'!F133,Table_Incr!$CC$7:$CC$30,0)))","v":""},null,null,null,null,null,{"$f":"IF(B133=\"\",\"\",IF(I133=\"YES\",ROUND((J133*0.03),-2),0))","v":""},"",null,"","--.--"]
[null,null,null,null,{"$f":"IF(F134=\"\",\"\",INDEX(Table_Incr!$CB$7:$CB$30,MATCH('Employee Data'!F134,Table_Incr!$CC$7:$CC$30,0)))","v":""},null,null,null,null,null,"","",null,"","--.--"]
[null,null,null,null,{"$f":"IF(F135=\"\",\"\",INDEX(Table_Incr!$CB$7:$CB$30,MATCH('Employee Data'!F135,Table_Incr!$CC$7:$CC$30,0)))","v":""},null,null,null,null,null,"","",null,"","--.--"]
[null,null,null,null,{"$f":"IF(F136=\"\",\"\",INDEX(Table_Incr!$CB$7:$CB$30,MATCH('Employee Data'!F136,Table_Incr!$CC$7:$CC$30,0)))","v":""},null,null,null,null,null,"","",null,"","--.--"]
[null,null,null,null,{"$f":"IF(F137=\"\",\"\",INDEX(Table_Incr!$CB$7:$CB$30,MATCH('Employee Data'!F137,Table_Incr!$CC$7:$CC$30,0)))","v":""},null,null,null,null,null,"","",null,{"$f":"IF(B137=\"\",\"\",IF(M137>0,MIN(K137,M137),0))","v":""},{"$f":"IF(M137=0,\"--.--\",IF(N137>=0,M137-N137,\"--.--\"))","v":"--.--"}]
[null,null,null,null,{"$f":"IF(F138=\"\",\"\",INDEX(Table_Incr!$CB$7:$CB$30,MATCH('Employee Data'!F138,Table_Incr!$CC$7:$CC$30,0)))","v":""},null,null,null,null,null,"","",null,"","--.--"]
[null,null,null,null,{"$f":"IF(F139=\"\",\"\",INDEX(Table_Incr!$CB$7:$CB$30,MATCH('Employee Data'!F139,Table_Incr!$CC$7:$CC$30,0)))","v":""},null,null,null,null,null,"","",null,"","--.--"]
[null,null,null,null,{"$f":"IF(F140=\"\",\"\",INDEX(Table_Incr!$CB$7:$CB$30,MATCH('Employee Data'!F140,Table_Incr!$CC$7:$CC$30,0)))","v":""},null,null,null,null,null,"","",null,"","--.--"]
[null,null,null,null,{"$f":"IF(F141=\"\",\"\",INDEX(Table_Incr!$CB$7:$CB$30,MATCH('Employee Data'!F141,Table_Incr!$CC$7:$CC$30,0)))","v":""},null,null,null,null,null,"","",null,"","--.--"]
[null,null,null,null,{"$f":"IF(F142=\"\",\"\",INDEX(Table_Incr!$CB$7:$CB$30,MATCH('Employee Data'!F142,Table_Incr!$CC$7:$CC$30,0)))","v":""},null,null,null,null,null,"","",null,"","--.--"]
[null,null,null,null,{"$f":"IF(F143=\"\",\"\",INDEX(Table_Incr!$CB$7:$CB$30,MATCH('Employee Data'!F143,Table_Incr!$CC$7:$CC$30,0)))","v":""},null,null,null,null,null,"","",null,"","--.--"]
[null,null,null,null,{"$f":"IF(F144=\"\",\"\",INDEX(Table_Incr!$CB$7:$CB$30,MATCH('Employee Data'!F144,Table_Incr!$CC$7:$CC$30,0)))","v":""},null,null,null,null,null,"","",null,"","--.--"]
[null,null,null,null,{"$f":"IF(F145=\"\",\"\",INDEX(Table_Incr!$CB$7:$CB$30,MATCH('Employee Data'!F145,Table_Incr!$CC$7:$CC$30,0)))","v":""},null,null,null,null,null,"","",null,"","--.--"]
[null,null,null,null,{"$f":"IF(F146=\"\",\"\",INDEX(Table_Incr!$CB$7:$CB$30,MATCH('Employee Data'!F146,Table_Incr!$CC$7:$CC$30,0)))","v":""},null,null,null,null,null,"","",null,"","--.--"]
[null,null,null,null,{"$f":"IF(F147=\"\",\"\",INDEX(Table_Incr!$CB$7:$CB$30,MATCH('Employee Data'!F147,Table_Incr!$CC$7:$CC$30,0)))","v":""},null,null,null,null,null,"","",null,"","--.--"]
[null,null,null,null,{"$f":"IF(F148=\"\",\"\",INDEX(Table_Incr!$CB$7:$CB$30,MATCH('Employee Data'!F148,Table_Incr!$CC$7:$CC$30,0)))","v":""},null,null,null,null,null,"","",null,"","--.--"]
[null,null,null,null,{"$f":"IF(F149=\"\",\"\",INDEX(Table_Incr!$CB$7:$CB$30,MATCH('Employee Data'!F149,Table_Incr!$CC$7:$CC$30,0)))","v":""},null,null,null,null,null,"","",null,"","--.--"]
[null,null,null,null,{"$f":"IF(F150=\"\",\"\",INDEX(Table_Incr!$CB$7:$CB$30,MATCH('Employee Data'!F150,Table_Incr!$CC$7:$CC$30,0)))","v":""},null,null,null,null,null,"","",null,"","--.--"]
[null,null,null,null,{"$f":"IF(F151=\"\",\"\",INDEX(Table_Incr!$CB$7:$CB$30,MATCH('Employee Data'!F151,Table_Incr!$CC$7:$CC$30,0)))","v":""},null,null,null,null,null,"","",null,"","--.--"]
[null,null,null,null,{"$f":"IF(F152=\"\",\"\",INDEX(Table_Incr!$CB$7:$CB$30,MATCH('Employee Data'!F152,Table_Incr!$CC$7:$CC$30,0)))","v":""},null,null,null,null,null,"","",null,"","--.--"]
[null,null,null,null,{"$f":"IF(F153=\"\",\"\",INDEX(Table_Incr!$CB$7:$CB$30,MATCH('Employee Data'!F153,Table_Incr!$CC$7:$CC$30,0)))","v":""},null,null,null,null,null,"","",null,"","--.--"]
[null,null,null,null,{"$f":"IF(F154=\"\",\"\",INDEX(Table_Incr!$CB$7:$CB$30,MATCH('Employee Data'!F154,Table_Incr!$CC$7:$CC$30,0)))","v":""},null,null,null,null,null,"","",null,"","--.--"]
[null,null,null,null,{"$f":"IF(F155=\"\",\"\",INDEX(Table_Incr!$CB$7:$CB$30,MATCH('Employee Data'!F155,Table_Incr!$CC$7:$CC$30,0)))","v":""},null,null,null,null,null,"","",null,"","--.--"]
[null,null,null,null,{"$f":"IF(F156=\"\",\"\",INDEX(Table_Incr!$CB$7:$CB$30,MATCH('Employee Data'!F156,Table_Incr!$CC$7:$CC$30,0)))","v":""},null,null,null,null,null,"","",null,"","--.--"]
[null,null,null,null,{"$f":"IF(F157=\"\",\"\",INDEX(Table_Incr!$CB$7:$CB$30,MATCH('Employee Data'!F157,Table_Incr!$CC$7:$CC$30,0)))","v":""},null,null,null,null,null,"","",null,"","--.--"]
[null,null,null,null,{"$f":"IF(F158=\"\",\"\",INDEX(Table_Incr!$CB$7:$CB$30,MATCH('Employee Data'!F158,Table_Incr!$CC$7:$CC$30,0)))","v":""},null,null,null,null,null,"","",null,"","--.--"]
[null,null,null,null,{"$f":"IF(F159=\"\",\"\",INDEX(Table_Incr!$CB$7:$CB$30,MATCH('Employee Data'!F159,Table_Incr!$CC$7:$CC$30,0)))","v":""},null,null,null,null,null,"","",null,"","--.--"]
[null,null,null,null,{"$f":"IF(F160=\"\",\"\",INDEX(Table_Incr!$CB$7:$CB$30,MATCH('Employee Data'!F160,Table_Incr!$CC$7:$CC$30,0)))","v":""},null,null,null,null,null,"","",null,"","--.--"]
[null,null,null,null,{"$f":"IF(F161=\"\",\"\",INDEX(Table_Incr!$CB$7:$CB$30,MATCH('Employee Data'!F161,Table_Incr!$CC$7:$CC$30,0)))","v":""},null,null,null,null,null,"","",null,"","--.--"]
[null,null,null,null,{"$f":"IF(F162=\"\",\"\",INDEX(Table_Incr!$CB$7:$CB$30,MATCH('Employee Data'!F162,Table_Incr!$CC$7:$CC$30,0)))","v":""},null,null,null,null,null,"","",null,"","--.--"]
[null,null,null,null,{"$f":"IF(F163=\"\",\"\",INDEX(Table_Incr!$CB$7:$CB$30,MATCH('Employee Data'!F163,Table_Incr!$CC$7:$CC$30,0)))","v":""},null,null,null,null,null,"","",null,"","--.--"]
[null,null,null,null,{"$f":"IF(F164=\"\",\"\",INDEX(Table_Incr!$CB$7:$CB$30,MATCH('Employee Data'!F164,Table_Incr!$CC$7:$CC$30,0)))","v":""},null,null,null,null,null,"","",null,"","--.--"]
[null,null,null,null,{"$f":"IF(F165=\"\",\"\",INDEX(Table_Incr!$CB$7:$CB$30,MATCH('Employee Data'!F165,Table_Incr!$CC$7:$CC$30,0)))","v":""},null,null,null,null,null,"","",null,"","--.--"]
[null,null,null,null,{"$f":"IF(F166=\"\",\"\",INDEX(Table_Incr!$CB$7:$CB$30,MATCH('Employee Data'!F166,Table_Incr!$CC$7:$CC$30,0)))","v":""},null,null,null,null,null,"","",null,"","--.--"]
[null,null,null,null,{"$f":"IF(F167=\"\",\"\",INDEX(Table_Incr!$CB$7:$CB$30,MATCH('Employee Data'!F167,Table_Incr!$CC$7:$CC$30,0)))","v":""},null,null,null,null,null,"","",null,"","--.--"]
[null,null,null,null,{"$f":"IF(F168=\"\",\"\",INDEX(Table_Incr!$CB$7:$CB$30,MATCH('Employee Data'!F168,Table_Incr!$CC$7:$CC$30,0)))","v":""},null,null,null,null,null,"","",null,"","--.--"]
[null,null,null,null,{"$f":"IF(F169=\"\",\"\",INDEX(Table_Incr!$CB$7:$CB$30,MATCH('Employee Data'!F169,Table_Incr!$CC$7:$CC$30,0)))","v":""},null,null,null,null,null,"","",null,"","--.--"]
[null,null,null,null,{"$f":"IF(F170=\"\",\"\",INDEX(Table_Incr!$CB$7:$CB$30,MATCH('Employee Data'!F170,Table_Incr!$CC$7:$CC$30,0)))","v":""},null,null,null,null,null,"","",null,"","--.--"]
[null,null,null,null,{"$f":"IF(F171=\"\",\"\",INDEX(Table_Incr!$CB$7:$CB$30,MATCH('Employee Data'!F171,Table_Incr!$CC$7:$CC$30,0)))","v":""},null,null,null,null,null,"","",null,"","--.--"]
[null,null,null,null,{"$f":"IF(F172=\"\",\"\",INDEX(Table_Incr!$CB$7:$CB$30,MATCH('Employee Data'!F172,Table_Incr!$CC$7:$CC$30,0)))","v":""},null,null,null,null,null,"","",null,"","--.--"]
[null,null,null,null,{"$f":"IF(F173=\"\",\"\",INDEX(Table_Incr!$CB$7:$CB$30,MATCH('Employee Data'!F173,Table_Incr!$CC$7:$CC$30,0)))","v":""},null,null,null,null,null,"","",null,"","--.--"]
[null,null,null,null,{"$f":"IF(F174=\"\",\"\",INDEX(Table_Incr!$CB$7:$CB$30,MATCH('Employee Data'!F174,Table_Incr!$CC$7:$CC$30,0)))","v":""},null,null,null,null,null,"","",null,"","--.--"]
[null,null,null,null,{"$f":"IF(F175=\"\",\"\",INDEX(Table_Incr!$CB$7:$CB$30,MATCH('Employee Data'!F175,Table_Incr!$CC$7:$CC$30,0)))","v":""},null,null,null,null,null,"","",null,"","--.--"]
[null,null,null,null,{"$f":"IF(F176=\"\",\"\",INDEX(Table_Incr!$CB$7:$CB$30,MATCH('Employee Data'!F176,Table_Incr!$CC$7:$CC$30,0)))","v":""},null,null,null,null,null,"","",null,"","--.--"]
[null,null,null,null,{"$f":"IF(F177=\"\",\"\",INDEX(Table_Incr!$CB$7:$CB$30,MATCH('Employee Data'!F177,Table_Incr!$CC$7:$CC$30,0)))","v":""},null,null,null,null,null,"","",null,"","--.--"]
[null,null,null,null,{"$f":"IF(F178=\"\",\"\",INDEX(Table_Incr!$CB$7:$CB$30,MATCH('Employee Data'!F178,Table_Incr!$CC$7:$CC$30,0)))","v":""},null,null,null,null,null,"","",null,"","--.--"]
[null,null,null,null,{"$f":"IF(F179=\"\",\"\",INDEX(Table_Incr!$CB$7:$CB$30,MATCH('Employee Data'!F179,Table_Incr!$CC$7:$CC$30,0)))","v":""},null,null,null,null,null,"","",null,"","--.--"]
[null,null,null,null,{"$f":"IF(F180=\"\",\"\",INDEX(Table_Incr!$CB$7:$CB$30,MATCH('Employee Data'!F180,Table_Incr!$CC$7:$CC$30,0)))","v":""},null,null,null,null,null,"","",null,"","--.--"]
[null,null,null,null,{"$f":"IF(F181=\"\",\"\",INDEX(Table_Incr!$CB$7:$CB$30,MATCH('Employee Data'!F181,Table_Incr!$CC$7:$CC$30,0)))","v":""},null,null,null,null,null,"","",null,"","--.--"]
[null,null,null,null,{"$f":"IF(F182=\"\",\"\",INDEX(Table_Incr!$CB$7:$CB$30,MATCH('Employee Data'!F182,Table_Incr!$CC$7:$CC$30,0)))","v":""},null,null,null,null,null,"","",null,"","--.--"]
[null,null,null,null,{"$f":"IF(F183=\"\",\"\",INDEX(Table_Incr!$CB$7:$CB$30,MATCH('Employee Data'!F183,Table_Incr!$CC$7:$CC$30,0)))","v":""},null,null,null,null,null,"","",null,"","--.--"]
[null,null,null,null,{"$f":"IF(F184=\"\",\"\",INDEX(Table_Incr!$CB$7:$CB$30,MATCH('Employee Data'!F184,Table_Incr!$CC$7:$CC$30,0)))","v":""},null,null,null,null,null,"","",null,"","--.--"]
[null,null,null,null,{"$f":"IF(F185=\"\",\"\",INDEX(Table_Incr!$CB$7:$CB$30,MATCH('Employee Data'!F185,Table_Incr!$CC$7:$CC$30,0)))","v":""},null,null,null,null,null,"","",null,"","--.--"]
[null,null,null,null,{"$f":"IF(F186=\"\",\"\",INDEX(Table_Incr!$CB$7:$CB$30,MATCH('Employee Data'!F186,Table_Incr!$CC$7:$CC$30,0)))","v":""},null,null,null,null,null,"","",null,"","--.--"]
[null,null,null,null,{"$f":"IF(F187=\"\",\"\",INDEX(Table_Incr!$CB$7:$CB$30,MATCH('Employee Data'!F187,Table_Incr!$CC$7:$CC$30,0)))","v":""},null,null,null,null,null,"","",null,"","--.--"]
[null,null,null,null,{"$f":"IF(F188=\"\",\"\",INDEX(Table_Incr!$CB$7:$CB$30,MATCH('Employee Data'!F188,Table_Incr!$CC$7:$CC$30,0)))","v":""},null,null,null,null,null,"","",null,"","--.--"]
[null,null,null,null,{"$f":"IF(F189=\"\",\"\",INDEX(Table_Incr!$CB$7:$CB$30,MATCH('Employee Data'!F189,Table_Incr!$CC$7:$CC$30,0)))","v":""},null,null,null,null,null,"","",null,"","--.--"]
[null,null,null,null,{"$f":"IF(F190=\"\",\"\",INDEX(Table_Incr!$CB$7:$CB$30,MATCH('Employee Data'!F190,Table_Incr!$CC$7:$CC$30,0)))","v":""},null,null,null,null,null,"","",null,"","--.--"]
[null,null,null,null,{"$f":"IF(F191=\"\",\"\",INDEX(Table_Incr!$CB$7:$CB$30,MATCH('Employee Data'!F191,Table_Incr!$CC$7:$CC$30,0)))","v":""},null,null,null,null,null,"","",null,"","--.--"]
[null,null,null,null,{"$f":"IF(F192=\"\",\"\",INDEX(Table_Incr!$CB$7:$CB$30,MATCH('Employee Data'!F192,Table_Incr!$CC$7:$CC$30,0)))","v":""},null,null,null,null,null,"","",null,"","--.--"]
[null,null,null,null,{"$f":"IF(F193=\"\",\"\",INDEX(Table_Incr!$CB$7:$CB$30,MATCH('Employee Data'!F193,Table_Incr!$CC$7:$CC$30,0)))","v":""},null,null,null,null,null,"","",null,"","--.--"]
[null,null,null,null,{"$f":"IF(F194=\"\",\"\",INDEX(Table_Incr!$CB$7:$CB$30,MATCH('Employee Data'!F194,Table_Incr!$CC$7:$CC$30,0)))","v":""},null,null,null,null,null,"","",null,"","--.--"]
[null,null,null,null,{"$f":"IF(F195=\"\",\"\",INDEX(Table_Incr!$CB$7:$CB$30,MATCH('Employee Data'!F195,Table_Incr!$CC$7:$CC$30,0)))","v":""},null,null,null,null,null,"","",null,"","--.--"]
[null,null,null,null,{"$f":"IF(F196=\"\",\"\",INDEX(Table_Incr!$CB$7:$CB$30,MATCH('Employee Data'!F196,Table_Incr!$CC$7:$CC$30,0)))","v":""},null,null,null,null,null,"",{"$f":"IF(B196=\"\",\"\",J196+K196)","v":""},null,"","--.--"]
[null,null,null,null,{"$f":"IF(F197=\"\",\"\",INDEX(Table_Incr!$CB$7:$CB$30,MATCH('Employee Data'!F197,Table_Incr!$CC$7:$CC$30,0)))","v":""},null,null,null,null,null,{"$f":"IF(B197=\"\",\"\",IF(I197=\"YES\",ROUND((J197*0.03),-2),0))","v":""},"",null,"","--.--"]
[null,null,null,null,{"$f":"IF(F198=\"\",\"\",INDEX(Table_Incr!$CB$7:$CB$30,MATCH('Employee Data'!F198,Table_Incr!$CC$7:$CC$30,0)))","v":""},null,null,null,null,null,"","",null,"","--.--"]
[null,null,null,null,{"$f":"IF(F199=\"\",\"\",INDEX(Table_Incr!$CB$7:$CB$30,MATCH('Employee Data'!F199,Table_Incr!$CC$7:$CC$30,0)))","v":""},null,null,null,null,null,"","",null,"","--.--"]
[null,null,null,null,{"$f":"IF(F200=\"\",\"\",INDEX(Table_Incr!$CB$7:$CB$30,MATCH('Employee Data'!F200,Table_Incr!$CC$7:$CC$30,0)))","v":""},null,null,null,null,null,"","",null,"","--.--"]
[null,null,null,null,{"$f":"IF(F201=\"\",\"\",INDEX(Table_Incr!$CB$7:$CB$30,MATCH('Employee Data'!F201,Table_Incr!$CC$7:$CC$30,0)))","v":""},null,null,null,null,null,"","",null,{"$f":"IF(B201=\"\",\"\",IF(M201>0,MIN(K201,M201),0))","v":""},{"$f":"IF(M201=0,\"--.--\",IF(N201>=0,M201-N201,\"--.--\"))","v":"--.--"}]
[null,null,null,null,{"$f":"IF(F202=\"\",\"\",INDEX(Table_Incr!$CB$7:$CB$30,MATCH('Employee Data'!F202,Table_Incr!$CC$7:$CC$30,0)))","v":""},null,null,null,null,null,"","",null,"","--.--"]
[null,null,null,null,{"$f":"IF(F203=\"\",\"\",INDEX(Table_Incr!$CB$7:$CB$30,MATCH('Employee Data'!F203,Table_Incr!$CC$7:$CC$30,0)))","v":""},null,null,null,null,null,"","",null,"","--.--"]
[null,null,null,null,{"$f":"IF(F204=\"\",\"\",INDEX(Table_Incr!$CB$7:$CB$30,MATCH('Employee Data'!F204,Table_Incr!$CC$7:$CC$30,0)))","v":""},null,null,null,null,null,"","",null,"","--.--"]
[null,null,null,null,{"$f":"IF(F205=\"\",\"\",INDEX(Table_Incr!$CB$7:$CB$30,MATCH('Employee Data'!F205,Table_Incr!$CC$7:$CC$30,0)))","v":""},null,null,null,null,null,"","",null,"","--.--"]
[null,null,null,null,{"$f":"IF(F206=\"\",\"\",INDEX(Table_Incr!$CB$7:$CB$30,MATCH('Employee Data'!F206,Table_Incr!$CC$7:$CC$30,0)))","v":""},null,null,null,null,null,"","",null,"","--.--"]
[null,null,null,null,{"$f":"IF(F207=\"\",\"\",INDEX(Table_Incr!$CB$7:$CB$30,MATCH('Employee Data'!F207,Table_Incr!$CC$7:$CC$30,0)))","v":""},null,null,null,null,null,"","",null,"","--.--"]
[null,null,null,null,{"$f":"IF(F208=\"\",\"\",INDEX(Table_Incr!$CB$7:$CB$30,MATCH('Employee Data'!F208,Table_Incr!$CC$7:$CC$30,0)))","v":""},null,null,null,null,null,"","",null,"","--.--"]
[null,null,null,null,{"$f":"IF(F209=\"\",\"\",INDEX(Table_Incr!$CB$7:$CB$30,MATCH('Employee Data'!F209,Table_Incr!$CC$7:$CC$30,0)))","v":""},null,null,null,null,null,"","",null,"","--.--"]
[null,null,null,null,{"$f":"IF(F210=\"\",\"\",INDEX(Table_Incr!$CB$7:$CB$30,MATCH('Employee Data'!F210,Table_Incr!$CC$7:$CC$30,0)))","v":""},null,null,null,null,null,"","",null,"","--.--"]
[null,null,null,null,{"$f":"IF(F211=\"\",\"\",INDEX(Table_Incr!$CB$7:$CB$30,MATCH('Employee Data'!F211,Table_Incr!$CC$7:$CC$30,0)))","v":""},null,null,null,null,null,"","",null,"","--.--"]
[null,null,null,null,{"$f":"IF(F212=\"\",\"\",INDEX(Table_Incr!$CB$7:$CB$30,MATCH('Employee Data'!F212,Table_Incr!$CC$7:$CC$30,0)))","v":""},null,null,null,null,null,"","",null,"","--.--"]
[null,null,null,null,{"$f":"IF(F213=\"\",\"\",INDEX(Table_Incr!$CB$7:$CB$30,MATCH('Employee Data'!F213,Table_Incr!$CC$7:$CC$30,0)))","v":""},null,null,null,null,null,"","",null,"","--.--"]
[null,null,null,null,{"$f":"IF(F214=\"\",\"\",INDEX(Table_Incr!$CB$7:$CB$30,MATCH('Employee Data'!F214,Table_Incr!$CC$7:$CC$30,0)))","v":""},null,null,null,null,null,"","",null,"","--.--"]
[null,null,null,null,{"$f":"IF(F215=\"\",\"\",INDEX(Table_Incr!$CB$7:$CB$30,MATCH('Employee Data'!F215,Table_Incr!$CC$7:$CC$30,0)))","v":""},null,null,null,null,null,"","",null,"","--.--"]
[null,null,null,null,{"$f":"IF(F216=\"\",\"\",INDEX(Table_Incr!$CB$7:$CB$30,MATCH('Employee Data'!F216,Table_Incr!$CC$7:$CC$30,0)))","v":""},null,null,null,null,null,"","",null,"","--.--"]
[null,null,null,null,{"$f":"IF(F217=\"\",\"\",INDEX(Table_Incr!$CB$7:$CB$30,MATCH('Employee Data'!F217,Table_Incr!$CC$7:$CC$30,0)))","v":""},null,null,null,null,null,"","",null,"","--.--"]
[null,null,null,null,{"$f":"IF(F218=\"\",\"\",INDEX(Table_Incr!$CB$7:$CB$30,MATCH('Employee Data'!F218,Table_Incr!$CC$7:$CC$30,0)))","v":""},null,null,null,null,null,"","",null,"","--.--"]
[null,null,null,null,{"$f":"IF(F219=\"\",\"\",INDEX(Table_Incr!$CB$7:$CB$30,MATCH('Employee Data'!F219,Table_Incr!$CC$7:$CC$30,0)))","v":""},null,null,null,null,null,"","",null,"","--.--"]
[null,null,null,null,{"$f":"IF(F220=\"\",\"\",INDEX(Table_Incr!$CB$7:$CB$30,MATCH('Employee Data'!F220,Table_Incr!$CC$7:$CC$30,0)))","v":""},null,null,null,null,null,"","",null,"","--.--"]
[null,null,null,null,{"$f":"IF(F221=\"\",\"\",INDEX(Table_Incr!$CB$7:$CB$30,MATCH('Employee Data'!F221,Table_Incr!$CC$7:$CC$30,0)))","v":""},null,null,null,null,null,"","",null,"","--.--"]
[null,null,null,null,{"$f":"IF(F222=\"\",\"\",INDEX(Table_Incr!$CB$7:$CB$30,MATCH('Employee Data'!F222,Table_Incr!$CC$7:$CC$30,0)))","v":""},null,null,null,null,null,"","",null,"","--.--"]
[null,null,null,null,{"$f":"IF(F223=\"\",\"\",INDEX(Table_Incr!$CB$7:$CB$30,MATCH('Employee Data'!F223,Table_Incr!$CC$7:$CC$30,0)))","v":""},null,null,null,null,null,"","",null,"","--.--"]
[null,null,null,null,{"$f":"IF(F224=\"\",\"\",INDEX(Table_Incr!$CB$7:$CB$30,MATCH('Employee Data'!F224,Table_Incr!$CC$7:$CC$30,0)))","v":""},null,null,null,null,null,"","",null,"","--.--"]
[null,null,null,null,{"$f":"IF(F225=\"\",\"\",INDEX(Table_Incr!$CB$7:$CB$30,MATCH('Employee Data'!F225,Table_Incr!$CC$7:$CC$30,0)))","v":""},null,null,null,null,null,"","",null,"","--.--"]
[null,null,null,null,{"$f":"IF(F226=\"\",\"\",INDEX(Table_Incr!$CB$7:$CB$30,MATCH('Employee Data'!F226,Table_Incr!$CC$7:$CC$30,0)))","v":""},null,null,null,null,null,"","",null,"","--.--"]
[null,null,null,null,{"$f":"IF(F227=\"\",\"\",INDEX(Table_Incr!$CB$7:$CB$30,MATCH('Employee Data'!F227,Table_Incr!$CC$7:$CC$30,0)))","v":""},null,null,null,null,null,"","",null,"","--.--"]
[null,null,null,null,{"$f":"IF(F228=\"\",\"\",INDEX(Table_Incr!$CB$7:$CB$30,MATCH('Employee Data'!F228,Table_Incr!$CC$7:$CC$30,0)))","v":""},null,null,null,null,null,"","",null,"","--.--"]
[null,null,null,null,{"$f":"IF(F229=\"\",\"\",INDEX(Table_Incr!$CB$7:$CB$30,MATCH('Employee Data'!F229,Table_Incr!$CC$7:$CC$30,0)))","v":""},null,null,null,null,null,"","",null,"","--.--"]
[null,null,null,null,{"$f":"IF(F230=\"\",\"\",INDEX(Table_Incr!$CB$7:$CB$30,MATCH('Employee Data'!F230,Table_Incr!$CC$7:$CC$30,0)))","v":""},null,null,null,null,null,"","",null,"","--.--"]
[null,null,null,null,{"$f":"IF(F231=\"\",\"\",INDEX(Table_Incr!$CB$7:$CB$30,MATCH('Employee Data'!F231,Table_Incr!$CC$7:$CC$30,0)))","v":""},null,null,null,null,null,"","",null,"","--.--"]
[null,null,null,null,{"$f":"IF(F232=\"\",\"\",INDEX(Table_Incr!$CB$7:$CB$30,MATCH('Employee Data'!F232,Table_Incr!$CC$7:$CC$30,0)))","v":""},null,null,null,null,null,"","",null,"","--.--"]
[null,null,null,null,{"$f":"IF(F233=\"\",\"\",INDEX(Table_Incr!$CB$7:$CB$30,MATCH('Employee Data'!F233,Table_Incr!$CC$7:$CC$30,0)))","v":""},null,null,null,null,null,"","",null,"","--.--"]
[null,null,null,null,{"$f":"IF(F234=\"\",\"\",INDEX(Table_Incr!$CB$7:$CB$30,MATCH('Employee Data'!F234,Table_Incr!$CC$7:$CC$30,0)))","v":""},null,null,null,null,null,"","",null,"","--.--"]
[null,null,null,null,{"$f":"IF(F235=\"\",\"\",INDEX(Table_Incr!$CB$7:$CB$30,MATCH('Employee Data'!F235,Table_Incr!$CC$7:$CC$30,0)))","v":""},null,null,null,null,null,"","",null,"","--.--"]
[null,null,null,null,{"$f":"IF(F236=\"\",\"\",INDEX(Table_Incr!$CB$7:$CB$30,MATCH('Employee Data'!F236,Table_Incr!$CC$7:$CC$30,0)))","v":""},null,null,null,null,null,"","",null,"","--.--"]
[null,null,null,null,{"$f":"IF(F237=\"\",\"\",INDEX(Table_Incr!$CB$7:$CB$30,MATCH('Employee Data'!F237,Table_Incr!$CC$7:$CC$30,0)))","v":""},null,null,null,null,null,"","",null,"","--.--"]
[null,null,null,null,{"$f":"IF(F238=\"\",\"\",INDEX(Table_Incr!$CB$7:$CB$30,MATCH('Employee Data'!F238,Table_Incr!$CC$7:$CC$30,0)))","v":""},null,null,null,null,null,"","",null,"","--.--"]
[null,null,null,null,{"$f":"IF(F239=\"\",\"\",INDEX(Table_Incr!$CB$7:$CB$30,MATCH('Employee Data'!F239,Table_Incr!$CC$7:$CC$30,0)))","v":""},null,null,null,null,null,"","",null,"","--.--"]
[null,null,null,null,{"$f":"IF(F240=\"\",\"\",INDEX(Table_Incr!$CB$7:$CB$30,MATCH('Employee Data'!F240,Table_Incr!$CC$7:$CC$30,0)))","v":""},null,null,null,null,null,"","",null,"","--.--"]
[null,null,null,null,{"$f":"IF(F241=\"\",\"\",INDEX(Table_Incr!$CB$7:$CB$30,MATCH('Employee Data'!F241,Table_Incr!$CC$7:$CC$30,0)))","v":""},null,null,null,null,null,"","",null,"","--.--"]
[null,null,null,null,{"$f":"IF(F242=\"\",\"\",INDEX(Table_Incr!$CB$7:$CB$30,MATCH('Employee Data'!F242,Table_Incr!$CC$7:$CC$30,0)))","v":""},null,null,null,null,null,"","",null,"","--.--"]
[null,null,null,null,{"$f":"IF(F243=\"\",\"\",INDEX(Table_Incr!$CB$7:$CB$30,MATCH('Employee Data'!F243,Table_Incr!$CC$7:$CC$30,0)))","v":""},null,null,null,null,null,"","",null,"","--.--"]
[null,null,null,null,{"$f":"IF(F244=\"\",\"\",INDEX(Table_Incr!$CB$7:$CB$30,MATCH('Employee Data'!F244,Table_Incr!$CC$7:$CC$30,0)))","v":""},null,null,null,null,null,"","",null,"","--.--"]
[null,null,null,null,{"$f":"IF(F245=\"\",\"\",INDEX(Table_Incr!$CB$7:$CB$30,MATCH('Employee Data'!F245,Table_Incr!$CC$7:$CC$30,0)))","v":""},null,null,null,null,null,"","",null,"","--.--"]
[null,null,null,null,{"$f":"IF(F246=\"\",\"\",INDEX(Table_Incr!$CB$7:$CB$30,MATCH('Employee Data'!F246,Table_Incr!$CC$7:$CC$30,0)))","v":""},null,null,null,null,null,"","",null,"","--.--"]
[null,null,null,null,{"$f":"IF(F247=\"\",\"\",INDEX(Table_Incr!$CB$7:$CB$30,MATCH('Employee Data'!F247,Table_Incr!$CC$7:$CC$30,0)))","v":""},null,null,null,null,null,"","",null,"","--.--"]
[null,null,null,null,{"$f":"IF(F248=\"\",\"\",INDEX(Table_Incr!$CB$7:$CB$30,MATCH('Employee Data'!F248,Table_Incr!$CC$7:$CC$30,0)))","v":""},null,null,null,null,null,"","",null,"","--.--"]
[null,null,null,null,{"$f":"IF(F249=\"\",\"\",INDEX(Table_Incr!$CB$7:$CB$30,MATCH('Employee Data'!F249,Table_Incr!$CC$7:$CC$30,0)))","v":""},null,null,null,null,null,"","",null,"","--.--"]
[null,null,null,null,{"$f":"IF(F250=\"\",\"\",INDEX(Table_Incr!$CB$7:$CB$30,MATCH('Employee Data'!F250,Table_Incr!$CC$7:$CC$30,0)))","v":""},null,null,null,null,null,"","",null,"","--.--"]
[null,null,null,null,{"$f":"IF(F251=\"\",\"\",INDEX(Table_Incr!$CB$7:$CB$30,MATCH('Employee Data'!F251,Table_Incr!$CC$7:$CC$30,0)))","v":""},null,null,null,null,null,"","",null,"","--.--"]
[null,null,null,null,{"$f":"IF(F252=\"\",\"\",INDEX(Table_Incr!$CB$7:$CB$30,MATCH('Employee Data'!F252,Table_Incr!$CC$7:$CC$30,0)))","v":""},null,null,null,null,null,"","",null,"","--.--"]
[null,null,null,null,{"$f":"IF(F253=\"\",\"\",INDEX(Table_Incr!$CB$7:$CB$30,MATCH('Employee Data'!F253,Table_Incr!$CC$7:$CC$30,0)))","v":""},null,null,null,null,null,"","",null,"","--.--"]
[null,null,null,null,{"$f":"IF(F254=\"\",\"\",INDEX(Table_Incr!$CB$7:$CB$30,MATCH('Employee Data'!F254,Table_Incr!$CC$7:$CC$30,0)))","v":""},null,null,null,null,null,"","",null,"","--.--"]
[null,null,null,null,{"$f":"IF(F255=\"\",\"\",INDEX(Table_Incr!$CB$7:$CB$30,MATCH('Employee Data'!F255,Table_Incr!$CC$7:$CC$30,0)))","v":""},null,null,null,null,null,"","",null,"","--.--"]
[null,null,null,null,{"$f":"IF(F256=\"\",\"\",INDEX(Table_Incr!$CB$7:$CB$30,MATCH('Employee Data'!F256,Table_Incr!$CC$7:$CC$30,0)))","v":""},null,null,null,null,null,"","",null,"","--.--"]
[null,null,null,null,{"$f":"IF(F257=\"\",\"\",INDEX(Table_Incr!$CB$7:$CB$30,MATCH('Employee Data'!F257,Table_Incr!$CC$7:$CC$30,0)))","v":""},null,null,null,null,null,"","",null,"","--.--"]
[null,null,null,null,{"$f":"IF(F258=\"\",\"\",INDEX(Table_Incr!$CB$7:$CB$30,MATCH('Employee Data'!F258,Table_Incr!$CC$7:$CC$30,0)))","v":""},null,null,null,null,null,"","",null,"","--.--"]
[null,null,null,null,{"$f":"IF(F259=\"\",\"\",INDEX(Table_Incr!$CB$7:$CB$30,MATCH('Employee Data'!F259,Table_Incr!$CC$7:$CC$30,0)))","v":""},null,null,null,null,null,"","",null,"","--.--"]
[null,null,null,null,{"$f":"IF(F260=\"\",\"\",INDEX(Table_Incr!$CB$7:$CB$30,MATCH('Employee Data'!F260,Table_Incr!$CC$7:$CC$30,0)))","v":""},null,null,null,null,null,"",{"$f":"IF(B260=\"\",\"\",J260+K260)","v":""},null,"","--.--"]
[null,null,null,null,{"$f":"IF(F261=\"\",\"\",INDEX(Table_Incr!$CB$7:$CB$30,MATCH('Employee Data'!F261,Table_Incr!$CC$7:$CC$30,0)))","v":""},null,null,null,null,null,{"$f":"IF(B261=\"\",\"\",IF(I261=\"YES\",ROUND((J261*0.03),-2),0))","v":""},"",null,"","--.--"]
[null,null,null,null,{"$f":"IF(F262=\"\",\"\",INDEX(Table_Incr!$CB$7:$CB$30,MATCH('Employee Data'!F262,Table_Incr!$CC$7:$CC$30,0)))","v":""},null,null,null,null,null,"","",null,"","--.--"]
[null,null,null,null,{"$f":"IF(F263=\"\",\"\",INDEX(Table_Incr!$CB$7:$CB$30,MATCH('Employee Data'!F263,Table_Incr!$CC$7:$CC$30,0)))","v":""},null,null,null,null,null,"","",null,"","--.--"]
[null,null,null,null,{"$f":"IF(F264=\"\",\"\",INDEX(Table_Incr!$CB$7:$CB$30,MATCH('Employee Data'!F264,Table_Incr!$CC$7:$CC$30,0)))","v":""},null,null,null,null,null,"","",null,"","--.--"]
[null,null,null,null,{"$f":"IF(F265=\"\",\"\",INDEX(Table_Incr!$CB$7:$CB$30,MATCH('Employee Data'!F265,Table_Incr!$CC$7:$CC$30,0)))","v":""},null,null,null,null,null,"","",null,{"$f":"IF(B265=\"\",\"\",IF(M265>0,MIN(K265,M265),0))","v":""},{"$f":"IF(M265=0,\"--.--\",IF(N265>=0,M265-N265,\"--.--\"))","v":"--.--"}]
[null,null,null,null,{"$f":"IF(F266=\"\",\"\",INDEX(Table_Incr!$CB$7:$CB$30,MATCH('Employee Data'!F266,Table_Incr!$CC$7:$CC$30,0)))","v":""},null,null,null,null,null,"","",null,"","--.--"]
[null,null,null,null,{"$f":"IF(F267=\"\",\"\",INDEX(Table_Incr!$CB$7:$CB$30,MATCH('Employee Data'!F267,Table_Incr!$CC$7:$CC$30,0)))","v":""},null,null,null,null,null,"","",null,"","--.--"]
[null,null,null,null,{"$f":"IF(F268=\"\",\"\",INDEX(Table_Incr!$CB$7:$CB$30,MATCH('Employee Data'!F268,Table_Incr!$CC$7:$CC$30,0)))","v":""},null,null,null,null,null,"","",null,"","--.--"]
[null,null,null,null,{"$f":"IF(F269=\"\",\"\",INDEX(Table_Incr!$CB$7:$CB$30,MATCH('Employee Data'!F269,Table_Incr!$CC$7:$CC$30,0)))","v":""},null,null,null,null,null,"","",null,"","--.--"]
[null,null,null,null,{"$f":"IF(F270=\"\",\"\",INDEX(Table_Incr!$CB$7:$CB$30,MATCH('Employee Data'!F270,Table_Incr!$CC$7:$CC$30,0)))","v":""},null,null,null,null,null,"","",null,"","--.--"]
[null,null,null,null,{"$f":"IF(F271=\"\",\"\",INDEX(Table_Incr!$CB$7:$CB$30,MATCH('Employee Data'!F271,Table_Incr!$CC$7:$CC$30,0)))","v":""},null,null,null,null,null,"","",null,"","--.--"]
[null,null,null,null,{"$f":"IF(F272=\"\",\"\",INDEX(Table_Incr!$CB$7:$CB$30,MATCH('Employee Data'!F272,Table_Incr!$CC$7:$CC$30,0)))","v":""},null,null,null,null,null,"","",null,"","--.--"]
[null,null,null,null,{"$f":"IF(F273=\"\",\"\",INDEX(Table_Incr!$CB$7:$CB$30,MATCH('Employee Data'!F273,Table_Incr!$CC$7:$CC$30,0)))","v":""},null,null,null,null,null,"","",null,"","--.--"]
[null,null,null,null,{"$f":"IF(F274=\"\",\"\",INDEX(Table_Incr!$CB$7:$CB$30,MATCH('Employee Data'!F274,Table_Incr!$CC$7:$CC$30,0)))","v":""},null,null,null,null,null,"","",null,"","--.--"]
[null,null,null,null,{"$f":"IF(F275=\"\",\"\",INDEX(Table_Incr!$CB$7:$CB$30,MATCH('Employee Data'!F275,Table_Incr!$CC$7:$CC$30,0)))","v":""},null,null,null,null,null,"","",null,"","--.--"]
[null,null,null,null,{"$f":"IF(F276=\"\",\"\",INDEX(Table_Incr!$CB$7:$CB$30,MATCH('Employee Data'!F276,Table_Incr!$CC$7:$CC$30,0)))","v":""},null,null,null,null,null,"","",null,"","--.--"]
[null,null,null,null,{"$f":"IF(F277=\"\",\"\",INDEX(Table_Incr!$CB$7:$CB$30,MATCH('Employee Data'!F277,Table_Incr!$CC$7:$CC$30,0)))","v":""},null,null,null,null,null,"","",null,"","--.--"]
[null,null,null,null,{"$f":"IF(F278=\"\",\"\",INDEX(Table_Incr!$CB$7:$CB$30,MATCH('Employee Data'!F278,Table_Incr!$CC$7:$CC$30,0)))","v":""},null,null,null,null,null,"","",null,"","--.--"]
[null,null,null,null,{"$f":"IF(F279=\"\",\"\",INDEX(Table_Incr!$CB$7:$CB$30,MATCH('Employee Data'!F279,Table_Incr!$CC$7:$CC$30,0)))","v":""},null,null,null,null,null,"","",null,"","--.--"]
[null,null,null,null,{"$f":"IF(F280=\"\",\"\",INDEX(Table_Incr!$CB$7:$CB$30,MATCH('Employee Data'!F280,Table_Incr!$CC$7:$CC$30,0)))","v":""},null,null,null,null,null,"","",null,"","--.--"]
[null,null,null,null,{"$f":"IF(F281=\"\",\"\",INDEX(Table_Incr!$CB$7:$CB$30,MATCH('Employee Data'!F281,Table_Incr!$CC$7:$CC$30,0)))","v":""},null,null,null,null,null,"","",null,"","--.--"]
[null,null,null,null,{"$f":"IF(F282=\"\",\"\",INDEX(Table_Incr!$CB$7:$CB$30,MATCH('Employee Data'!F282,Table_Incr!$CC$7:$CC$30,0)))","v":""},null,null,null,null,null,"","",null,"","--.--"]
[null,null,null,null,{"$f":"IF(F283=\"\",\"\",INDEX(Table_Incr!$CB$7:$CB$30,MATCH('Employee Data'!F283,Table_Incr!$CC$7:$CC$30,0)))","v":""},null,null,null,null,null,"","",null,"","--.--"]
[null,null,null,null,{"$f":"IF(F284=\"\",\"\",INDEX(Table_Incr!$CB$7:$CB$30,MATCH('Employee Data'!F284,Table_Incr!$CC$7:$CC$30,0)))","v":""},null,null,null,null,null,"","",null,"","--.--"]
[null,null,null,null,{"$f":"IF(F285=\"\",\"\",INDEX(Table_Incr!$CB$7:$CB$30,MATCH('Employee Data'!F285,Table_Incr!$CC$7:$CC$30,0)))","v":""},null,null,null,null,null,"","",null,"","--.--"]
[null,null,null,null,{"$f":"IF(F286=\"\",\"\",INDEX(Table_Incr!$CB$7:$CB$30,MATCH('Employee Data'!F286,Table_Incr!$CC$7:$CC$30,0)))","v":""},null,null,null,null,null,"","",null,"","--.--"]
[null,null,null,null,{"$f":"IF(F287=\"\",\"\",INDEX(Table_Incr!$CB$7:$CB$30,MATCH('Employee Data'!F287,Table_Incr!$CC$7:$CC$30,0)))","v":""},null,null,null,null,null,"","",null,"","--.--"]
[null,null,null,null,{"$f":"IF(F288=\"\",\"\",INDEX(Table_Incr!$CB$7:$CB$30,MATCH('Employee Data'!F288,Table_Incr!$CC$7:$CC$30,0)))","v":""},null,null,null,null,null,"","",null,"","--.--"]
[null,null,null,null,{"$f":"IF(F289=\"\",\"\",INDEX(Table_Incr!$CB$7:$CB$30,MATCH('Employee Data'!F289,Table_Incr!$CC$7:$CC$30,0)))","v":""},null,null,null,null,null,"","",null,"","--.--"]
[null,null,null,null,{"$f":"IF(F290=\"\",\"\",INDEX(Table_Incr!$CB$7:$CB$30,MATCH('Employee Data'!F290,Table_Incr!$CC$7:$CC$30,0)))","v":""},null,null,null,null,null,"","",null,"","--.--"]
[null,null,null,null,{"$f":"IF(F291=\"\",\"\",INDEX(Table_Incr!$CB$7:$CB$30,MATCH('Employee Data'!F291,Table_Incr!$CC$7:$CC$30,0)))","v":""},null,null,null,null,null,"","",null,"","--.--"]
[null,null,null,null,{"$f":"IF(F292=\"\",\"\",INDEX(Table_Incr!$CB$7:$CB$30,MATCH('Employee Data'!F292,Table_Incr!$CC$7:$CC$30,0)))","v":""},null,null,null,null,null,"","",null,"","--.--"]
[null,null,null,null,{"$f":"IF(F293=\"\",\"\",INDEX(Table_Incr!$CB$7:$CB$30,MATCH('Employee Data'!F293,Table_Incr!$CC$7:$CC$30,0)))","v":""},null,null,null,null,null,"","",null,"","--.--"]
[null,null,null,null,{"$f":"IF(F294=\"\",\"\",INDEX(Table_Incr!$CB$7:$CB$30,MATCH('Employee Data'!F294,Table_Incr!$CC$7:$CC$30,0)))","v":""},null,null,null,null,null,"","",null,"","--.--"]
[null,null,null,null,{"$f":"IF(F295=\"\",\"\",INDEX(Table_Incr!$CB$7:$CB$30,MATCH('Employee Data'!F295,Table_Incr!$CC$7:$CC$30,0)))","v":""},null,null,null,null,null,"","",null,"","--.--"]
[null,null,null,null,{"$f":"IF(F296=\"\",\"\",INDEX(Table_Incr!$CB$7:$CB$30,MATCH('Employee Data'!F296,Table_Incr!$CC$7:$CC$30,0)))","v":""},null,null,null,null,null,"","",null,"","--.--"]
[null,null,null,null,{"$f":"IF(F297=\"\",\"\",INDEX(Table_Incr!$CB$7:$CB$30,MATCH('Employee Data'!F297,Table_Incr!$CC$7:$CC$30,0)))","v":""},null,null,null,null,null,"","",null,"","--.--"]
[null,null,null,null,{"$f":"IF(F298=\"\",\"\",INDEX(Table_Incr!$CB$7:$CB$30,MATCH('Employee Data'!F298,Table_Incr!$CC$7:$CC$30,0)))","v":""},null,null,null,null,null,"","",null,"","--.--"]
[null,null,null,null,{"$f":"IF(F299=\"\",\"\",INDEX(Table_Incr!$CB$7:$CB$30,MATCH('Employee Data'!F299,Table_Incr!$CC$7:$CC$30,0)))","v":""},null,null,null,null,null,"","",null,"","--.--"]
[null,null,null,null,{"$f":"IF(F300=\"\",\"\",INDEX(Table_Incr!$CB$7:$CB$30,MATCH('Employee Data'!F300,Table_Incr!$CC$7:$CC$30,0)))","v":""},null,null,null,null,null,"","",null,"","--.--"]
[null,null,null,null,{"$f":"IF(F301=\"\",\"\",INDEX(Table_Incr!$CB$7:$CB$30,MATCH('Employee Data'!F301,Table_Incr!$CC$7:$CC$30,0)))","v":""},null,null,null,null,null,"","",null,"","--.--"]
[null,null,null,null,{"$f":"IF(F302=\"\",\"\",INDEX(Table_Incr!$CB$7:$CB$30,MATCH('Employee Data'!F302,Table_Incr!$CC$7:$CC$30,0)))","v":""},null,null,null,null,null,"","",null,"","--.--"]
[null,null,null,null,{"$f":"IF(F303=\"\",\"\",INDEX(Table_Incr!$CB$7:$CB$30,MATCH('Employee Data'!F303,Table_Incr!$CC$7:$CC$30,0)))","v":""},null,null,null,null,null,"","",null,"","--.--"]
[null,null,null,null,{"$f":"IF(F304=\"\",\"\",INDEX(Table_Incr!$CB$7:$CB$30,MATCH('Employee Data'!F304,Table_Incr!$CC$7:$CC$30,0)))","v":""},null,null,null,null,null,"","",null,"","--.--"]
[null,null,null,null,{"$f":"IF(F305=\"\",\"\",INDEX(Table_Incr!$CB$7:$CB$30,MATCH('Employee Data'!F305,Table_Incr!$CC$7:$CC$30,0)))","v":""},null,null,null,null,null,"","",null,"","--.--"]
[null,null,null,null,{"$f":"IF(F306=\"\",\"\",INDEX(Table_Incr!$CB$7:$CB$30,MATCH('Employee Data'!F306,Table_Incr!$CC$7:$CC$30,0)))","v":""},null,null,null,null,null,"","",null,"","--.--"]
[null,null,null,null,{"$f":"IF(F307=\"\",\"\",INDEX(Table_Incr!$CB$7:$CB$30,MATCH('Employee Data'!F307,Table_Incr!$CC$7:$CC$30,0)))","v":""},null,null,null,null,null,"","",null,"","--.--"]
[null,null,null,null,{"$f":"IF(F308=\"\",\"\",INDEX(Table_Incr!$CB$7:$CB$30,MATCH('Employee Data'!F308,Table_Incr!$CC$7:$CC$30,0)))","v":""},null,null,null,null,null,"","",null,"","--.--"]
[null,null,null,null,{"$f":"IF(F309=\"\",\"\",INDEX(Table_Incr!$CB$7:$CB$30,MATCH('Employee Data'!F309,Table_Incr!$CC$7:$CC$30,0)))","v":""},null,null,null,null,null,"","",null,"","--.--"]
[null,null,null,null,{"$f":"IF(F310=\"\",\"\",INDEX(Table_Incr!$CB$7:$CB$30,MATCH('Employee Data'!F310,Table_Incr!$CC$7:$CC$30,0)))","v":""},null,null,null,null,null,"","",null,"","--.--"]
[null,null,null,null,{"$f":"IF(F311=\"\",\"\",INDEX(Table_Incr!$CB$7:$CB$30,MATCH('Employee Data'!F311,Table_Incr!$CC$7:$CC$30,0)))","v":""},null,null,null,null,null,"","",null,"","--.--"]
[null,null,null,null,{"$f":"IF(F312=\"\",\"\",INDEX(Table_Incr!$CB$7:$CB$30,MATCH('Employee Data'!F312,Table_Incr!$CC$7:$CC$30,0)))","v":""},null,null,null,null,null,"","",null,"","--.--"]
[null,null,null,null,{"$f":"IF(F313=\"\",\"\",INDEX(Table_Incr!$CB$7:$CB$30,MATCH('Employee Data'!F313,Table_Incr!$CC$7:$CC$30,0)))","v":""},null,null,null,null,null,"","",null,"","--.--"]
[null,null,null,null,{"$f":"IF(F314=\"\",\"\",INDEX(Table_Incr!$CB$7:$CB$30,MATCH('Employee Data'!F314,Table_Incr!$CC$7:$CC$30,0)))","v":""},null,null,null,null,null,"","",null,"","--.--"]
[null,null,null,null,{"$f":"IF(F315=\"\",\"\",INDEX(Table_Incr!$CB$7:$CB$30,MATCH('Employee Data'!F315,Table_Incr!$CC$7:$CC$30,0)))","v":""},null,null,null,null,null,"","",null,"","--.--"]
[null,null,null,null,{"$f":"IF(F316=\"\",\"\",INDEX(Table_Incr!$CB$7:$CB$30,MATCH('Employee Data'!F316,Table_Incr!$CC$7:$CC$30,0)))","v":""},null,null,null,null,null,"","",null,"","--.--"]
[null,null,null,null,{"$f":"IF(F317=\"\",\"\",INDEX(Table_Incr!$CB$7:$CB$30,MATCH('Employee Data'!F317,Table_Incr!$CC$7:$CC$30,0)))","v":""},null,null,null,null,null,"","",null,"","--.--"]
[null,null,null,null,{"$f":"IF(F318=\"\",\"\",INDEX(Table_Incr!$CB$7:$CB$30,MATCH('Employee Data'!F318,Table_Incr!$CC$7:$CC$30,0)))","v":""},null,null,null,null,null,"","",null,"","--.--"]
[null,null,null,null,{"$f":"IF(F319=\"\",\"\",INDEX(Table_Incr!$CB$7:$CB$30,MATCH('Employee Data'!F319,Table_Incr!$CC$7:$CC$30,0)))","v":""},null,null,null,null,null,"","",null,"","--.--"]
[null,null,null,null,{"$f":"IF(F320=\"\",\"\",INDEX(Table_Incr!$CB$7:$CB$30,MATCH('Employee Data'!F320,Table_Incr!$CC$7:$CC$30,0)))","v":""},null,null,null,null,null,"","",null,"","--.--"]
[null,null,null,null,{"$f":"IF(F321=\"\",\"\",INDEX(Table_Incr!$CB$7:$CB$30,MATCH('Employee Data'!F321,Table_Incr!$CC$7:$CC$30,0)))","v":""},null,null,null,null,null,"","",null,"","--.--"]
[null,null,null,null,{"$f":"IF(F322=\"\",\"\",INDEX(Table_Incr!$CB$7:$CB$30,MATCH('Employee Data'!F322,Table_Incr!$CC$7:$CC$30,0)))","v":""},null,null,null,null,null,"","",null,"","--.--"]
[null,null,null,null,{"$f":"IF(F323=\"\",\"\",INDEX(Table_Incr!$CB$7:$CB$30,MATCH('Employee Data'!F323,Table_Incr!$CC$7:$CC$30,0)))","v":""},null,null,null,null,null,"","",null,"","--.--"]
[null,null,null,null,{"$f":"IF(F324=\"\",\"\",INDEX(Table_Incr!$CB$7:$CB$30,MATCH('Employee Data'!F324,Table_Incr!$CC$7:$CC$30,0)))","v":""},null,null,null,null,null,"",{"$f":"IF(B324=\"\",\"\",J324+K324)","v":""},null,"","--.--"]
[null,null,null,null,{"$f":"IF(F325=\"\",\"\",INDEX(Table_Incr!$CB$7:$CB$30,MATCH('Employee Data'!F325,Table_Incr!$CC$7:$CC$30,0)))","v":""},null,null,null,null,null,{"$f":"IF(B325=\"\",\"\",IF(I325=\"YES\",ROUND((J325*0.03),-2),0))","v":""},"",null,"","--.--"]
[null,null,null,null,{"$f":"IF(F326=\"\",\"\",INDEX(Table_Incr!$CB$7:$CB$30,MATCH('Employee Data'!F326,Table_Incr!$CC$7:$CC$30,0)))","v":""},null,null,null,null,null,"","",null,"","--.--"]
[null,null,null,null,{"$f":"IF(F327=\"\",\"\",INDEX(Table_Incr!$CB$7:$CB$30,MATCH('Employee Data'!F327,Table_Incr!$CC$7:$CC$30,0)))","v":""},null,null,null,null,null,"","",null,"","--.--"]
[null,null,null,null,{"$f":"IF(F328=\"\",\"\",INDEX(Table_Incr!$CB$7:$CB$30,MATCH('Employee Data'!F328,Table_Incr!$CC$7:$CC$30,0)))","v":""},null,null,null,null,null,"","",null,"","--.--"]
[null,null,null,null,{"$f":"IF(F329=\"\",\"\",INDEX(Table_Incr!$CB$7:$CB$30,MATCH('Employee Data'!F329,Table_Incr!$CC$7:$CC$30,0)))","v":""},null,null,null,null,null,"","",null,{"$f":"IF(B329=\"\",\"\",IF(M329>0,MIN(K329,M329),0))","v":""},{"$f":"IF(M329=0,\"--.--\",IF(N329>=0,M329-N329,\"--.--\"))","v":"--.--"}]
[null,null,null,null,{"$f":"IF(F330=\"\",\"\",INDEX(Table_Incr!$CB$7:$CB$30,MATCH('Employee Data'!F330,Table_Incr!$CC$7:$CC$30,0)))","v":""},null,null,null,null,null,"","",null,"","--.--"]
[null,null,null,null,{"$f":"IF(F331=\"\",\"\",INDEX(Table_Incr!$CB$7:$CB$30,MATCH('Employee Data'!F331,Table_Incr!$CC$7:$CC$30,0)))","v":""},null,null,null,null,null,"","",null,"","--.--"]
[null,null,null,null,{"$f":"IF(F332=\"\",\"\",INDEX(Table_Incr!$CB$7:$CB$30,MATCH('Employee Data'!F332,Table_Incr!$CC$7:$CC$30,0)))","v":""},null,null,null,null,null,"","",null,"","--.--"]
[null,null,null,null,{"$f":"IF(F333=\"\",\"\",INDEX(Table_Incr!$CB$7:$CB$30,MATCH('Employee Data'!F333,Table_Incr!$CC$7:$CC$30,0)))","v":""},null,null,null,null,null,"","",null,"","--.--"]
[null,null,null,null,{"$f":"IF(F334=\"\",\"\",INDEX(Table_Incr!$CB$7:$CB$30,MATCH('Employee Data'!F334,Table_Incr!$CC$7:$CC$30,0)))","v":""},null,null,null,null,null,"","",null,"","--.--"]
[null,null,null,null,{"$f":"IF(F335=\"\",\"\",INDEX(Table_Incr!$CB$7:$CB$30,MATCH('Employee Data'!F335,Table_Incr!$CC$7:$CC$30,0)))","v":""},null,null,null,null,null,"","",null,"","--.--"]
[null,null,null,null,{"$f":"IF(F336=\"\",\"\",INDEX(Table_Incr!$CB$7:$CB$30,MATCH('Employee Data'!F336,Table_Incr!$CC$7:$CC$30,0)))","v":""},null,null,null,null,null,"","",null,"","--.--"]
[null,null,null,null,{"$f":"IF(F337=\"\",\"\",INDEX(Table_Incr!$CB$7:$CB$30,MATCH('Employee Data'!F337,Table_Incr!$CC$7:$CC$30,0)))","v":""},null,null,null,null,null,"","",null,"","--.--"]
[null,null,null,null,{"$f":"IF(F338=\"\",\"\",INDEX(Table_Incr!$CB$7:$CB$30,MATCH('Employee Data'!F338,Table_Incr!$CC$7:$CC$30,0)))","v":""},null,null,null,null,null,"","",null,"","--.--"]
[null,null,null,null,{"$f":"IF(F339=\"\",\"\",INDEX(Table_Incr!$CB$7:$CB$30,MATCH('Employee Data'!F339,Table_Incr!$CC$7:$CC$30,0)))","v":""},null,null,null,null,null,"","",null,"","--.--"]
[null,null,null,null,{"$f":"IF(F340=\"\",\"\",INDEX(Table_Incr!$CB$7:$CB$30,MATCH('Employee Data'!F340,Table_Incr!$CC$7:$CC$30,0)))","v":""},null,null,null,null,null,"","",null,"","--.--"]
[null,null,null,null,{"$f":"IF(F341=\"\",\"\",INDEX(Table_Incr!$CB$7:$CB$30,MATCH('Employee Data'!F341,Table_Incr!$CC$7:$CC$30,0)))","v":""},null,null,null,null,null,"","",null,"","--.--"]
[null,null,null,null,{"$f":"IF(F342=\"\",\"\",INDEX(Table_Incr!$CB$7:$CB$30,MATCH('Employee Data'!F342,Table_Incr!$CC$7:$CC$30,0)))","v":""},null,null,null,null,null,"","",null,"","--.--"]
[null,null,null,null,{"$f":"IF(F343=\"\",\"\",INDEX(Table_Incr!$CB$7:$CB$30,MATCH('Employee Data'!F343,Table_Incr!$CC$7:$CC$30,0)))","v":""},null,null,null,null,null,"","",null,"","--.--"]
[null,null,null,null,{"$f":"IF(F344=\"\",\"\",INDEX(Table_Incr!$CB$7:$CB$30,MATCH('Employee Data'!F344,Table_Incr!$CC$7:$CC$30,0)))","v":""},null,null,null,null,null,"","",null,"","--.--"]
[null,null,null,null,{"$f":"IF(F345=\"\",\"\",INDEX(Table_Incr!$CB$7:$CB$30,MATCH('Employee Data'!F345,Table_Incr!$CC$7:$CC$30,0)))","v":""},null,null,null,null,null,"","",null,"","--.--"]
[null,null,null,null,{"$f":"IF(F346=\"\",\"\",INDEX(Table_Incr!$CB$7:$CB$30,MATCH('Employee Data'!F346,Table_Incr!$CC$7:$CC$30,0)))","v":""},null,null,null,null,null,"","",null,"","--.--"]
[null,null,null,null,{"$f":"IF(F347=\"\",\"\",INDEX(Table_Incr!$CB$7:$CB$30,MATCH('Employee Data'!F347,Table_Incr!$CC$7:$CC$30,0)))","v":""},null,null,null,null,null,"","",null,"","--.--"]
[null,null,null,null,{"$f":"IF(F348=\"\",\"\",INDEX(Table_Incr!$CB$7:$CB$30,MATCH('Employee Data'!F348,Table_Incr!$CC$7:$CC$30,0)))","v":""},null,null,null,null,null,"","",null,"","--.--"]
[null,null,null,null,{"$f":"IF(F349=\"\",\"\",INDEX(Table_Incr!$CB$7:$CB$30,MATCH('Employee Data'!F349,Table_Incr!$CC$7:$CC$30,0)))","v":""},null,null,null,null,null,"","",null,"","--.--"]
[null,null,null,null,{"$f":"IF(F350=\"\",\"\",INDEX(Table_Incr!$CB$7:$CB$30,MATCH('Employee Data'!F350,Table_Incr!$CC$7:$CC$30,0)))","v":""},null,null,null,null,null,"","",null,"","--.--"]
[null,null,null,null,{"$f":"IF(F351=\"\",\"\",INDEX(Table_Incr!$CB$7:$CB$30,MATCH('Employee Data'!F351,Table_Incr!$CC$7:$CC$30,0)))","v":""},null,null,null,null,null,"","",null,"","--.--"]
[null,null,null,null,{"$f":"IF(F352=\"\",\"\",INDEX(Table_Incr!$CB$7:$CB$30,MATCH('Employee Data'!F352,Table_Incr!$CC$7:$CC$30,0)))","v":""},null,null,null,null,null,"","",null,"","--.--"]
[null,null,null,null,{"$f":"IF(F353=\"\",\"\",INDEX(Table_Incr!$CB$7:$CB$30,MATCH('Employee Data'!F353,Table_Incr!$CC$7:$CC$30,0)))","v":""},null,null,null,null,null,"","",null,"","--.--"]
[null,null,null,null,{"$f":"IF(F354=\"\",\"\",INDEX(Table_Incr!$CB$7:$CB$30,MATCH('Employee Data'!F354,Table_Incr!$CC$7:$CC$30,0)))","v":""},null,null,null,null,null,"","",null,"","--.--"]
[null,null,null,null,{"$f":"IF(F355=\"\",\"\",INDEX(Table_Incr!$CB$7:$CB$30,MATCH('Employee Data'!F355,Table_Incr!$CC$7:$CC$30,0)))","v":""},null,null,null,null,null,"","",null,"","--.--"]
[null,null,null,null,{"$f":"IF(F356=\"\",\"\",INDEX(Table_Incr!$CB$7:$CB$30,MATCH('Employee Data'!F356,Table_Incr!$CC$7:$CC$30,0)))","v":""},null,null,null,null,null,"","",null,"","--.--"]
[null,null,null,null,{"$f":"IF(F357=\"\",\"\",INDEX(Table_Incr!$CB$7:$CB$30,MATCH('Employee Data'!F357,Table_Incr!$CC$7:$CC$30,0)))","v":""},null,null,null,null,null,"","",null,"","--.--"]
[null,null,null,null,{"$f":"IF(F358=\"\",\"\",INDEX(Table_Incr!$CB$7:$CB$30,MATCH('Employee Data'!F358,Table_Incr!$CC$7:$CC$30,0)))","v":""},null,null,null,null,null,"","",null,"","--.--"]
[null,null,null,null,{"$f":"IF(F359=\"\",\"\",INDEX(Table_Incr!$CB$7:$CB$30,MATCH('Employee Data'!F359,Table_Incr!$CC$7:$CC$30,0)))","v":""},null,null,null,null,null,"","",null,"","--.--"]
[null,null,null,null,{"$f":"IF(F360=\"\",\"\",INDEX(Table_Incr!$CB$7:$CB$30,MATCH('Employee Data'!F360,Table_Incr!$CC$7:$CC$30,0)))","v":""},null,null,null,null,null,"","",null,"","--.--"]
[null,null,null,null,{"$f":"IF(F361=\"\",\"\",INDEX(Table_Incr!$CB$7:$CB$30,MATCH('Employee Data'!F361,Table_Incr!$CC$7:$CC$30,0)))","v":""},null,null,null,null,null,"","",null,"","--.--"]
[null,null,null,null,{"$f":"IF(F362=\"\",\"\",INDEX(Table_Incr!$CB$7:$CB$30,MATCH('Employee Data'!F362,Table_Incr!$CC$7:$CC$30,0)))","v":""},null,null,null,null,null,"","",null,"","--.--"]
[null,null,null,null,{"$f":"IF(F363=\"\",\"\",INDEX(Table_Incr!$CB$7:$CB$30,MATCH('Employee Data'!F363,Table_Incr!$CC$7:$CC$30,0)))","v":""},null,null,null,null,null,"","",null,"","--.--"]
[null,null,null,null,{"$f":"IF(F364=\"\",\"\",INDEX(Table_Incr!$CB$7:$CB$30,MATCH('Employee Data'!F364,Table_Incr!$CC$7:$CC$30,0)))","v":""},null,null,null,null,null,"","",null,"","--.--"]
[null,null,null,null,{"$f":"IF(F365=\"\",\"\",INDEX(Table_Incr!$CB$7:$CB$30,MATCH('Employee Data'!F365,Table_Incr!$CC$7:$CC$30,0)))","v":""},null,null,null,null,null,"","",null,"","--.--"]
[null,null,null,null,{"$f":"IF(F366=\"\",\"\",INDEX(Table_Incr!$CB$7:$CB$30,MATCH('Employee Data'!F366,Table_Incr!$CC$7:$CC$30,0)))","v":""},null,null,null,null,null,"","",null,"","--.--"]
[null,null,null,null,{"$f":"IF(F367=\"\",\"\",INDEX(Table_Incr!$CB$7:$CB$30,MATCH('Employee Data'!F367,Table_Incr!$CC$7:$CC$30,0)))","v":""},null,null,null,null,null,"","",null,"","--.--"]
[null,null,null,null,{"$f":"IF(F368=\"\",\"\",INDEX(Table_Incr!$CB$7:$CB$30,MATCH('Employee Data'!F368,Table_Incr!$CC$7:$CC$30,0)))","v":""},null,null,null,null,null,"","",null,"","--.--"]
[null,null,null,null,{"$f":"IF(F369=\"\",\"\",INDEX(Table_Incr!$CB$7:$CB$30,MATCH('Employee Data'!F369,Table_Incr!$CC$7:$CC$30,0)))","v":""},null,null,null,null,null,"","",null,"","--.--"]
[null,null,null,null,{"$f":"IF(F370=\"\",\"\",INDEX(Table_Incr!$CB$7:$CB$30,MATCH('Employee Data'!F370,Table_Incr!$CC$7:$CC$30,0)))","v":""},null,null,null,null,null,"","",null,"","--.--"]
[null,null,null,null,{"$f":"IF(F371=\"\",\"\",INDEX(Table_Incr!$CB$7:$CB$30,MATCH('Employee Data'!F371,Table_Incr!$CC$7:$CC$30,0)))","v":""},null,null,null,null,null,"","",null,"","--.--"]
[null,null,null,null,{"$f":"IF(F372=\"\",\"\",INDEX(Table_Incr!$CB$7:$CB$30,MATCH('Employee Data'!F372,Table_Incr!$CC$7:$CC$30,0)))","v":""},null,null,null,null,null,"","",null,"","--.--"]
[null,null,null,null,{"$f":"IF(F373=\"\",\"\",INDEX(Table_Incr!$CB$7:$CB$30,MATCH('Employee Data'!F373,Table_Incr!$CC$7:$CC$30,0)))","v":""},null,null,null,null,null,"","",null,"","--.--"]
[null,null,null,null,{"$f":"IF(F374=\"\",\"\",INDEX(Table_Incr!$CB$7:$CB$30,MATCH('Employee Data'!F374,Table_Incr!$CC$7:$CC$30,0)))","v":""},null,null,null,null,null,"","",null,"","--.--"]
[null,null,null,null,{"$f":"IF(F375=\"\",\"\",INDEX(Table_Incr!$CB$7:$CB$30,MATCH('Employee Data'!F375,Table_Incr!$CC$7:$CC$30,0)))","v":""},null,null,null,null,null,"","",null,"","--.--"]
[null,null,null,null,{"$f":"IF(F376=\"\",\"\",INDEX(Table_Incr!$CB$7:$CB$30,MATCH('Employee Data'!F376,Table_Incr!$CC$7:$CC$30,0)))","v":""},null,null,null,null,null,"","",null,"","--.--"]
[null,null,null,null,{"$f":"IF(F377=\"\",\"\",INDEX(Table_Incr!$CB$7:$CB$30,MATCH('Employee Data'!F377,Table_Incr!$CC$7:$CC$30,0)))","v":""},null,null,null,null,null,"","",null,"","--.--"]
[null,null,null,null,{"$f":"IF(F378=\"\",\"\",INDEX(Table_Incr!$CB$7:$CB$30,MATCH('Employee Data'!F378,Table_Incr!$CC$7:$CC$30,0)))","v":""},null,null,null,null,null,"","",null,"","--.--"]
[null,null,null,null,{"$f":"IF(F379=\"\",\"\",INDEX(Table_Incr!$CB$7:$CB$30,MATCH('Employee Data'!F379,Table_Incr!$CC$7:$CC$30,0)))","v":""},null,null,null,null,null,"","",null,"","--.--"]
[null,null,null,null,{"$f":"IF(F380=\"\",\"\",INDEX(Table_Incr!$CB$7:$CB$30,MATCH('Employee Data'!F380,Table_Incr!$CC$7:$CC$30,0)))","v":""},null,null,null,null,null,"","",null,"","--.--"]
[null,null,null,null,{"$f":"IF(F381=\"\",\"\",INDEX(Table_Incr!$CB$7:$CB$30,MATCH('Employee Data'!F381,Table_Incr!$CC$7:$CC$30,0)))","v":""},null,null,null,null,null,"","",null,"","--.--"]
[null,null,null,null,{"$f":"IF(F382=\"\",\"\",INDEX(Table_Incr!$CB$7:$CB$30,MATCH('Employee Data'!F382,Table_Incr!$CC$7:$CC$30,0)))","v":""},null,null,null,null,null,"","",null,"","--.--"]
[null,null,null,null,{"$f":"IF(F383=\"\",\"\",INDEX(Table_Incr!$CB$7:$CB$30,MATCH('Employee Data'!F383,Table_Incr!$CC$7:$CC$30,0)))","v":""},null,null,null,null,null,"","",null,"","--.--"]
[null,null,null,null,{"$f":"IF(F384=\"\",\"\",INDEX(Table_Incr!$CB$7:$CB$30,MATCH('Employee Data'!F384,Table_Incr!$CC$7:$CC$30,0)))","v":""},null,null,null,null,null,"","",null,"","--.--"]
[null,null,null,null,{"$f":"IF(F385=\"\",\"\",INDEX(Table_Incr!$CB$7:$CB$30,MATCH('Employee Data'!F385,Table_Incr!$CC$7:$CC$30,0)))","v":""},null,null,null,null,null,"","",null,"","--.--"]
[null,null,null,null,{"$f":"IF(F386=\"\",\"\",INDEX(Table_Incr!$CB$7:$CB$30,MATCH('Employee Data'!F386,Table_Incr!$CC$7:$CC$30,0)))","v":""},null,null,null,null,null,"","",null,"","--.--"]
[null,null,null,null,{"$f":"IF(F387=\"\",\"\",INDEX(Table_Incr!$CB$7:$CB$30,MATCH('Employee Data'!F387,Table_Incr!$CC$7:$CC$30,0)))","v":""},null,null,null,null,null,"","",null,"","--.--"]
[null,null,null,null,{"$f":"IF(F388=\"\",\"\",INDEX(Table_Incr!$CB$7:$CB$30,MATCH('Employee Data'!F388,Table_Incr!$CC$7:$CC$30,0)))","v":""},null,null,null,null,null,"",{"$f":"IF(B388=\"\",\"\",J388+K388)","v":""},null,"","--.--"]
[null,null,null,null,{"$f":"IF(F389=\"\",\"\",INDEX(Table_Incr!$CB$7:$CB$30,MATCH('Employee Data'!F389,Table_Incr!$CC$7:$CC$30,0)))","v":""},null,null,null,null,null,{"$f":"IF(B389=\"\",\"\",IF(I389=\"YES\",ROUND((J389*0.03),-2),0))","v":""},"",null,"","--.--"]
[null,null,null,null,{"$f":"IF(F390=\"\",\"\",INDEX(Table_Incr!$CB$7:$CB$30,MATCH('Employee Data'!F390,Table_Incr!$CC$7:$CC$30,0)))","v":""},null,null,null,null,null,"","",null,"","--.--"]
[null,null,null,null,{"$f":"IF(F391=\"\",\"\",INDEX(Table_Incr!$CB$7:$CB$30,MATCH('Employee Data'!F391,Table_Incr!$CC$7:$CC$30,0)))","v":""},null,null,null,null,null,"","",null,"","--.--"]
[null,null,null,null,{"$f":"IF(F392=\"\",\"\",INDEX(Table_Incr!$CB$7:$CB$30,MATCH('Employee Data'!F392,Table_Incr!$CC$7:$CC$30,0)))","v":""},null,null,null,null,null,"","",null,"","--.--"]
[null,null,null,null,{"$f":"IF(F393=\"\",\"\",INDEX(Table_Incr!$CB$7:$CB$30,MATCH('Employee Data'!F393,Table_Incr!$CC$7:$CC$30,0)))","v":""},null,null,null,null,null,"","",null,{"$f":"IF(B393=\"\",\"\",IF(M393>0,MIN(K393,M393),0))","v":""},{"$f":"IF(M393=0,\"--.--\",IF(N393>=0,M393-N393,\"--.--\"))","v":"--.--"}]
[null,null,null,null,{"$f":"IF(F394=\"\",\"\",INDEX(Table_Incr!$CB$7:$CB$30,MATCH('Employee Data'!F394,Table_Incr!$CC$7:$CC$30,0)))","v":""},null,null,null,null,null,"","",null,"","--.--"]
[null,null,null,null,{"$f":"IF(F395=\"\",\"\",INDEX(Table_Incr!$CB$7:$CB$30,MATCH('Employee Data'!F395,Table_Incr!$CC$7:$CC$30,0)))","v":""},null,null,null,null,null,"","",null,"","--.--"]
[null,null,null,null,{"$f":"IF(F396=\"\",\"\",INDEX(Table_Incr!$CB$7:$CB$30,MATCH('Employee Data'!F396,Table_Incr!$CC$7:$CC$30,0)))","v":""},null,null,null,null,null,"","",null,"","--.--"]
[null,null,null,null,{"$f":"IF(F397=\"\",\"\",INDEX(Table_Incr!$CB$7:$CB$30,MATCH('Employee Data'!F397,Table_Incr!$CC$7:$CC$30,0)))","v":""},null,null,null,null,null,"","",null,"","--.--"]
[null,null,null,null,{"$f":"IF(F398=\"\",\"\",INDEX(Table_Incr!$CB$7:$CB$30,MATCH('Employee Data'!F398,Table_Incr!$CC$7:$CC$30,0)))","v":""},null,null,null,null,null,"","",null,"","--.--"]
[null,null,null,null,{"$f":"IF(F399=\"\",\"\",INDEX(Table_Incr!$CB$7:$CB$30,MATCH('Employee Data'!F399,Table_Incr!$CC$7:$CC$30,0)))","v":""},null,null,null,null,null,"","",null,"","--.--"]
[null,null,null,null,{"$f":"IF(F400=\"\",\"\",INDEX(Table_Incr!$CB$7:$CB$30,MATCH('Employee Data'!F400,Table_Incr!$CC$7:$CC$30,0)))","v":""},null,null,null,null,null,"","",null,"","--.--"]
[null,null,null,null,{"$f":"IF(F401=\"\",\"\",INDEX(Table_Incr!$CB$7:$CB$30,MATCH('Employee Data'!F401,Table_Incr!$CC$7:$CC$30,0)))","v":""},null,null,null,null,null,"","",null,"","--.--"]
[null,null,null,null,{"$f":"IF(F402=\"\",\"\",INDEX(Table_Incr!$CB$7:$CB$30,MATCH('Employee Data'!F402,Table_Incr!$CC$7:$CC$30,0)))","v":""},null,null,null,null,null,"","",null,"","--.--"]
[null,null,null,null,{"$f":"IF(F403=\"\",\"\",INDEX(Table_Incr!$CB$7:$CB$30,MATCH('Employee Data'!F403,Table_Incr!$CC$7:$CC$30,0)))","v":""},null,null,null,null,null,"","",null,"","--.--"]
[null,null,null,null,{"$f":"IF(F404=\"\",\"\",INDEX(Table_Incr!$CB$7:$CB$30,MATCH('Employee Data'!F404,Table_Incr!$CC$7:$CC$30,0)))","v":""},null,null,null,null,null,"","",null,"","--.--"]
[null,null,null,null,{"$f":"IF(F405=\"\",\"\",INDEX(Table_Incr!$CB$7:$CB$30,MATCH('Employee Data'!F405,Table_Incr!$CC$7:$CC$30,0)))","v":""},null,null,null,null,null,"","",null,"","--.--"]
[null,null,null,null,{"$f":"IF(F406=\"\",\"\",INDEX(Table_Incr!$CB$7:$CB$30,MATCH('Employee Data'!F406,Table_Incr!$CC$7:$CC$30,0)))","v":""},null,null,null,null,null,"","",null,"","--.--"]
[null,null,null,null,{"$f":"IF(F407=\"\",\"\",INDEX(Table_Incr!$CB$7:$CB$30,MATCH('Employee Data'!F407,Table_Incr!$CC$7:$CC$30,0)))","v":""},null,null,null,null,null,"","",null,"","--.--"]
[null,null,null,null,{"$f":"IF(F408=\"\",\"\",INDEX(Table_Incr!$CB$7:$CB$30,MATCH('Employee Data'!F408,Table_Incr!$CC$7:$CC$30,0)))","v":""},null,null,null,null,null,"","",null,"","--.--"]
[null,null,null,null,{"$f":"IF(F409=\"\",\"\",INDEX(Table_Incr!$CB$7:$CB$30,MATCH('Employee Data'!F409,Table_Incr!$CC$7:$CC$30,0)))","v":""},null,null,null,null,null,"","",null,"","--.--"]
[null,null,null,null,{"$f":"IF(F410=\"\",\"\",INDEX(Table_Incr!$CB$7:$CB$30,MATCH('Employee Data'!F410,Table_Incr!$CC$7:$CC$30,0)))","v":""},null,null,null,null,null,"","",null,"","--.--"]
[null,null,null,null,{"$f":"IF(F411=\"\",\"\",INDEX(Table_Incr!$CB$7:$CB$30,MATCH('Employee Data'!F411,Table_Incr!$CC$7:$CC$30,0)))","v":""},null,null,null,null,null,"","",null,"","--.--"]
[null,null,null,null,{"$f":"IF(F412=\"\",\"\",INDEX(Table_Incr!$CB$7:$CB$30,MATCH('Employee Data'!F412,Table_Incr!$CC$7:$CC$30,0)))","v":""},null,null,null,null,null,"","",null,"","--.--"]
[null,null,null,null,{"$f":"IF(F413=\"\",\"\",INDEX(Table_Incr!$CB$7:$CB$30,MATCH('Employee Data'!F413,Table_Incr!$CC$7:$CC$30,0)))","v":""},null,null,null,null,null,"","",null,"","--.--"]
[null,null,null,null,{"$f":"IF(F414=\"\",\"\",INDEX(Table_Incr!$CB$7:$CB$30,MATCH('Employee Data'!F414,Table_Incr!$CC$7:$CC$30,0)))","v":""},null,null,null,null,null,"","",null,"","--.--"]
[null,null,null,null,{"$f":"IF(F415=\"\",\"\",INDEX(Table_Incr!$CB$7:$CB$30,MATCH('Employee Data'!F415,Table_Incr!$CC$7:$CC$30,0)))","v":""},null,null,null,null,null,"","",null,"","--.--"]
[null,null,null,null,{"$f":"IF(F416=\"\",\"\",INDEX(Table_Incr!$CB$7:$CB$30,MATCH('Employee Data'!F416,Table_Incr!$CC$7:$CC$30,0)))","v":""},null,null,null,null,null,"","",null,"","--.--"]
[null,null,null,null,{"$f":"IF(F417=\"\",\"\",INDEX(Table_Incr!$CB$7:$CB$30,MATCH('Employee Data'!F417,Table_Incr!$CC$7:$CC$30,0)))","v":""},null,null,null,null,null,"","",null,"","--.--"]
[null,null,null,null,{"$f":"IF(F418=\"\",\"\",INDEX(Table_Incr!$CB$7:$CB$30,MATCH('Employee Data'!F418,Table_Incr!$CC$7:$CC$30,0)))","v":""},null,null,null,null,null,"","",null,"","--.--"]
[null,null,null,null,{"$f":"IF(F419=\"\",\"\",INDEX(Table_Incr!$CB$7:$CB$30,MATCH('Employee Data'!F419,Table_Incr!$CC$7:$CC$30,0)))","v":""},null,null,null,null,null,"","",null,"","--.--"]
[null,null,null,null,{"$f":"IF(F420=\"\",\"\",INDEX(Table_Incr!$CB$7:$CB$30,MATCH('Employee Data'!F420,Table_Incr!$CC$7:$CC$30,0)))","v":""},null,null,null,null,null,"","",null,"","--.--"]
[null,null,null,null,{"$f":"IF(F421=\"\",\"\",INDEX(Table_Incr!$CB$7:$CB$30,MATCH('Employee Data'!F421,Table_Incr!$CC$7:$CC$30,0)))","v":""},null,null,null,null,null,"","",null,"","--.--"]
[null,null,null,null,{"$f":"IF(F422=\"\",\"\",INDEX(Table_Incr!$CB$7:$CB$30,MATCH('Employee Data'!F422,Table_Incr!$CC$7:$CC$30,0)))","v":""},null,null,null,null,null,"","",null,"","--.--"]
[null,null,null,null,{"$f":"IF(F423=\"\",\"\",INDEX(Table_Incr!$CB$7:$CB$30,MATCH('Employee Data'!F423,Table_Incr!$CC$7:$CC$30,0)))","v":""},null,null,null,null,null,"","",null,"","--.--"]
[null,null,null,null,{"$f":"IF(F424=\"\",\"\",INDEX(Table_Incr!$CB$7:$CB$30,MATCH('Employee Data'!F424,Table_Incr!$CC$7:$CC$30,0)))","v":""},null,null,null,null,null,"","",null,"","--.--"]
[null,null,null,null,{"$f":"IF(F425=\"\",\"\",INDEX(Table_Incr!$CB$7:$CB$30,MATCH('Employee Data'!F425,Table_Incr!$CC$7:$CC$30,0)))","v":""},null,null,null,null,null,"","",null,"","--.--"]
[null,null,null,null,{"$f":"IF(F426=\"\",\"\",INDEX(Table_Incr!$CB$7:$CB$30,MATCH('Employee Data'!F426,Table_Incr!$CC$7:$CC$30,0)))","v":""},null,null,null,null,null,"","",null,"","--.--"]
[null,null,null,null,{"$f":"IF(F427=\"\",\"\",INDEX(Table_Incr!$CB$7:$CB$30,MATCH('Employee Data'!F427,Table_Incr!$CC$7:$CC$30,0)))","v":""},null,null,null,null,null,"","",null,"","--.--"]
[null,null,null,null,{"$f":"IF(F428=\"\",\"\",INDEX(Table_Incr!$CB$7:$CB$30,MATCH('Employee Data'!F428,Table_Incr!$CC$7:$CC$30,0)))","v":""},null,null,null,null,null,"","",null,"","--.--"]
[null,null,null,null,{"$f":"IF(F429=\"\",\"\",INDEX(Table_Incr!$CB$7:$CB$30,MATCH('Employee Data'!F429,Table_Incr!$CC$7:$CC$30,0)))","v":""},null,null,null,null,null,"","",null,"","--.--"]
[null,null,null,null,{"$f":"IF(F430=\"\",\"\",INDEX(Table_Incr!$CB$7:$CB$30,MATCH('Employee Data'!F430,Table_Incr!$CC$7:$CC$30,0)))","v":""},null,null,null,null,null,"","",null,"","--.--"]
[null,null,null,null,{"$f":"IF(F431=\"\",\"\",INDEX(Table_Incr!$CB$7:$CB$30,MATCH('Employee Data'!F431,Table_Incr!$CC$7:$CC$30,0)))","v":""},null,null,null,null,null,"","",null,"","--.--"]
[null,null,null,null,{"$f":"IF(F432=\"\",\"\",INDEX(Table_Incr!$CB$7:$CB$30,MATCH('Employee Data'!F432,Table_Incr!$CC$7:$CC$30,0)))","v":""},null,null,null,null,null,"","",null,"","--.--"]
[null,null,null,null,{"$f":"IF(F433=\"\",\"\",INDEX(Table_Incr!$CB$7:$CB$30,MATCH('Employee Data'!F433,Table_Incr!$CC$7:$CC$30,0)))","v":""},null,null,null,null,null,"","",null,"","--.--"]
[null,null,null,null,{"$f":"IF(F434=\"\",\"\",INDEX(Table_Incr!$CB$7:$CB$30,MATCH('Employee Data'!F434,Table_Incr!$CC$7:$CC$30,0)))","v":""},null,null,null,null,null,"","",null,"","--.--"]
[null,null,null,null,{"$f":"IF(F435=\"\",\"\",INDEX(Table_Incr!$CB$7:$CB$30,MATCH('Employee Data'!F435,Table_Incr!$CC$7:$CC$30,0)))","v":""},null,null,null,null,null,"","",null,"","--.--"]
[null,null,null,null,{"$f":"IF(F436=\"\",\"\",INDEX(Table_Incr!$CB$7:$CB$30,MATCH('Employee Data'!F436,Table_Incr!$CC$7:$CC$30,0)))","v":""},null,null,null,null,null,"","",null,"","--.--"]
[null,null,null,null,{"$f":"IF(F437=\"\",\"\",INDEX(Table_Incr!$CB$7:$CB$30,MATCH('Employee Data'!F437,Table_Incr!$CC$7:$CC$30,0)))","v":""},null,null,null,null,null,"","",null,"","--.--"]
[null,null,null,null,{"$f":"IF(F438=\"\",\"\",INDEX(Table_Incr!$CB$7:$CB$30,MATCH('Employee Data'!F438,Table_Incr!$CC$7:$CC$30,0)))","v":""},null,null,null,null,null,"","",null,"","--.--"]
[null,null,null,null,{"$f":"IF(F439=\"\",\"\",INDEX(Table_Incr!$CB$7:$CB$30,MATCH('Employee Data'!F439,Table_Incr!$CC$7:$CC$30,0)))","v":""},null,null,null,null,null,"","",null,"","--.--"]
[null,null,null,null,{"$f":"IF(F440=\"\",\"\",INDEX(Table_Incr!$CB$7:$CB$30,MATCH('Employee Data'!F440,Table_Incr!$CC$7:$CC$30,0)))","v":""},null,null,null,null,null,"","",null,"","--.--"]
[null,null,null,null,{"$f":"IF(F441=\"\",\"\",INDEX(Table_Incr!$CB$7:$CB$30,MATCH('Employee Data'!F441,Table_Incr!$CC$7:$CC$30,0)))","v":""},null,null,null,null,null,"","",null,"","--.--"]
[null,null,null,null,{"$f":"IF(F442=\"\",\"\",INDEX(Table_Incr!$CB$7:$CB$30,MATCH('Employee Data'!F442,Table_Incr!$CC$7:$CC$30,0)))","v":""},null,null,null,null,null,"","",null,"","--.--"]
[null,null,null,null,{"$f":"IF(F443=\"\",\"\",INDEX(Table_Incr!$CB$7:$CB$30,MATCH('Employee Data'!F443,Table_Incr!$CC$7:$CC$30,0)))","v":""},null,null,null,null,null,"","",null,"","--.--"]
[null,null,null,null,{"$f":"IF(F444=\"\",\"\",INDEX(Table_Incr!$CB$7:$CB$30,MATCH('Employee Data'!F444,Table_Incr!$CC$7:$CC$30,0)))","v":""},null,null,null,null,null,"","",null,"","--.--"]
[null,null,null,null,{"$f":"IF(F445=\"\",\"\",INDEX(Table_Incr!$CB$7:$CB$30,MATCH('Employee Data'!F445,Table_Incr!$CC$7:$CC$30,0)))","v":""},null,null,null,null,null,"","",null,"","--.--"]
[null,null,null,null,{"$f":"IF(F446=\"\",\"\",INDEX(Table_Incr!$CB$7:$CB$30,MATCH('Employee Data'!F446,Table_Incr!$CC$7:$CC$30,0)))","v":""},null,null,null,null,null,"","",null,"","--.--"]
[null,null,null,null,{"$f":"IF(F447=\"\",\"\",INDEX(Table_Incr!$CB$7:$CB$30,MATCH('Employee Data'!F447,Table_Incr!$CC$7:$CC$30,0)))","v":""},null,null,null,null,null,"","",null,"","--.--"]
[null,null,null,null,{"$f":"IF(F448=\"\",\"\",INDEX(Table_Incr!$CB$7:$CB$30,MATCH('Employee Data'!F448,Table_Incr!$CC$7:$CC$30,0)))","v":""},null,null,null,null,null,"","",null,"","--.--"]
[null,null,null,null,{"$f":"IF(F449=\"\",\"\",INDEX(Table_Incr!$CB$7:$CB$30,MATCH('Employee Data'!F449,Table_Incr!$CC$7:$CC$30,0)))","v":""},null,null,null,null,null,"","",null,"","--.--"]
[null,null,null,null,{"$f":"IF(F450=\"\",\"\",INDEX(Table_Incr!$CB$7:$CB$30,MATCH('Employee Data'!F450,Table_Incr!$CC$7:$CC$30,0)))","v":""},null,null,null,null,null,"","",null,"","--.--"]
[null,null,null,null,{"$f":"IF(F451=\"\",\"\",INDEX(Table_Incr!$CB$7:$CB$30,MATCH('Employee Data'!F451,Table_Incr!$CC$7:$CC$30,0)))","v":""},null,null,null,null,null,"","",null,"","--.--"]
[null,null,null,null,{"$f":"IF(F452=\"\",\"\",INDEX(Table_Incr!$CB$7:$CB$30,MATCH('Employee Data'!F452,Table_Incr!$CC$7:$CC$30,0)))","v":""},null,null,null,null,null,"",{"$f":"IF(B452=\"\",\"\",J452+K452)","v":""},null,"","--.--"]
[null,null,null,null,{"$f":"IF(F453=\"\",\"\",INDEX(Table_Incr!$CB$7:$CB$30,MATCH('Employee Data'!F453,Table_Incr!$CC$7:$CC$30,0)))","v":""},null,null,null,null,null,{"$f":"IF(B453=\"\",\"\",IF(I453=\"YES\",ROUND((J453*0.03),-2),0))","v":""},"",null,"","--.--"]
[null,null,null,null,{"$f":"IF(F454=\"\",\"\",INDEX(Table_Incr!$CB$7:$CB$30,MATCH('Employee Data'!F454,Table_Incr!$CC$7:$CC$30,0)))","v":""},null,null,null,null,null,"","",null,"","--.--"]
[null,null,null,null,{"$f":"IF(F455=\"\",\"\",INDEX(Table_Incr!$CB$7:$CB$30,MATCH('Employee Data'!F455,Table_Incr!$CC$7:$CC$30,0)))","v":""},null,null,null,null,null,"","",null,"","--.--"]
[null,null,null,null,{"$f":"IF(F456=\"\",\"\",INDEX(Table_Incr!$CB$7:$CB$30,MATCH('Employee Data'!F456,Table_Incr!$CC$7:$CC$30,0)))","v":""},null,null,null,null,null,"","",null,"","--.--"]
[null,null,null,null,{"$f":"IF(F457=\"\",\"\",INDEX(Table_Incr!$CB$7:$CB$30,MATCH('Employee Data'!F457,Table_Incr!$CC$7:$CC$30,0)))","v":""},null,null,null,null,null,"","",null,{"$f":"IF(B457=\"\",\"\",IF(M457>0,MIN(K457,M457),0))","v":""},{"$f":"IF(M457=0,\"--.--\",IF(N457>=0,M457-N457,\"--.--\"))","v":"--.--"}]
[null,null,null,null,{"$f":"IF(F458=\"\",\"\",INDEX(Table_Incr!$CB$7:$CB$30,MATCH('Employee Data'!F458,Table_Incr!$CC$7:$CC$30,0)))","v":""},null,null,null,null,null,"","",null,"","--.--"]
[null,null,null,null,{"$f":"IF(F459=\"\",\"\",INDEX(Table_Incr!$CB$7:$CB$30,MATCH('Employee Data'!F459,Table_Incr!$CC$7:$CC$30,0)))","v":""},null,null,null,null,null,"","",null,"","--.--"]
[null,null,null,null,{"$f":"IF(F460=\"\",\"\",INDEX(Table_Incr!$CB$7:$CB$30,MATCH('Employee Data'!F460,Table_Incr!$CC$7:$CC$30,0)))","v":""},null,null,null,null,null,"","",null,"","--.--"]
[null,null,null,null,{"$f":"IF(F461=\"\",\"\",INDEX(Table_Incr!$CB$7:$CB$30,MATCH('Employee Data'!F461,Table_Incr!$CC$7:$CC$30,0)))","v":""},null,null,null,null,null,"","",null,"","--.--"]
[null,null,null,null,{"$f":"IF(F462=\"\",\"\",INDEX(Table_Incr!$CB$7:$CB$30,MATCH('Employee Data'!F462,Table_Incr!$CC$7:$CC$30,0)))","v":""},null,null,null,null,null,"","",null,"","--.--"]
[null,null,null,null,{"$f":"IF(F463=\"\",\"\",INDEX(Table_Incr!$CB$7:$CB$30,MATCH('Employee Data'!F463,Table_Incr!$CC$7:$CC$30,0)))","v":""},null,null,null,null,null,"","",null,"","--.--"]
[null,null,null,null,{"$f":"IF(F464=\"\",\"\",INDEX(Table_Incr!$CB$7:$CB$30,MATCH('Employee Data'!F464,Table_Incr!$CC$7:$CC$30,0)))","v":""},null,null,null,null,null,"","",null,"","--.--"]
[null,null,null,null,{"$f":"IF(F465=\"\",\"\",INDEX(Table_Incr!$CB$7:$CB$30,MATCH('Employee Data'!F465,Table_Incr!$CC$7:$CC$30,0)))","v":""},null,null,null,null,null,"","",null,"","--.--"]
[null,null,null,null,{"$f":"IF(F466=\"\",\"\",INDEX(Table_Incr!$CB$7:$CB$30,MATCH('Employee Data'!F466,Table_Incr!$CC$7:$CC$30,0)))","v":""},null,null,null,null,null,"","",null,"","--.--"]
[null,null,null,null,{"$f":"IF(F467=\"\",\"\",INDEX(Table_Incr!$CB$7:$CB$30,MATCH('Employee Data'!F467,Table_Incr!$CC$7:$CC$30,0)))","v":""},null,null,null,null,null,"","",null,"","--.--"]
[null,null,null,null,{"$f":"IF(F468=\"\",\"\",INDEX(Table_Incr!$CB$7:$CB$30,MATCH('Employee Data'!F468,Table_Incr!$CC$7:$CC$30,0)))","v":""},null,null,null,null,null,"","",null,"","--.--"]
[null,null,null,null,{"$f":"IF(F469=\"\",\"\",INDEX(Table_Incr!$CB$7:$CB$30,MATCH('Employee Data'!F469,Table_Incr!$CC$7:$CC$30,0)))","v":""},null,null,null,null,null,"","",null,"","--.--"]
[null,null,null,null,{"$f":"IF(F470=\"\",\"\",INDEX(Table_Incr!$CB$7:$CB$30,MATCH('Employee Data'!F470,Table_Incr!$CC$7:$CC$30,0)))","v":""},null,null,null,null,null,"","",null,"","--.--"]
[null,null,null,null,{"$f":"IF(F471=\"\",\"\",INDEX(Table_Incr!$CB$7:$CB$30,MATCH('Employee Data'!F471,Table_Incr!$CC$7:$CC$30,0)))","v":""},null,null,null,null,null,"","",null,"","--.--"]
[null,null,null,null,{"$f":"IF(F472=\"\",\"\",INDEX(Table_Incr!$CB$7:$CB$30,MATCH('Employee Data'!F472,Table_Incr!$CC$7:$CC$30,0)))","v":""},null,null,null,null,null,"","",null,"","--.--"]
[null,null,null,null,{"$f":"IF(F473=\"\",\"\",INDEX(Table_Incr!$CB$7:$CB$30,MATCH('Employee Data'!F473,Table_Incr!$CC$7:$CC$30,0)))","v":""},null,null,null,null,null,"","",null,"","--.--"]
[null,null,null,null,{"$f":"IF(F474=\"\",\"\",INDEX(Table_Incr!$CB$7:$CB$30,MATCH('Employee Data'!F474,Table_Incr!$CC$7:$CC$30,0)))","v":""},null,null,null,null,null,"","",null,"","--.--"]
[null,null,null,null,{"$f":"IF(F475=\"\",\"\",INDEX(Table_Incr!$CB$7:$CB$30,MATCH('Employee Data'!F475,Table_Incr!$CC$7:$CC$30,0)))","v":""},null,null,null,null,null,"","",null,"","--.--"]
[null,null,null,null,{"$f":"IF(F476=\"\",\"\",INDEX(Table_Incr!$CB$7:$CB$30,MATCH('Employee Data'!F476,Table_Incr!$CC$7:$CC$30,0)))","v":""},null,null,null,null,null,"","",null,"","--.--"]
[null,null,null,null,{"$f":"IF(F477=\"\",\"\",INDEX(Table_Incr!$CB$7:$CB$30,MATCH('Employee Data'!F477,Table_Incr!$CC$7:$CC$30,0)))","v":""},null,null,null,null,null,"","",null,"","--.--"]
[null,null,null,null,{"$f":"IF(F478=\"\",\"\",INDEX(Table_Incr!$CB$7:$CB$30,MATCH('Employee Data'!F478,Table_Incr!$CC$7:$CC$30,0)))","v":""},null,null,null,null,null,"","",null,"","--.--"]
[null,null,null,null,{"$f":"IF(F479=\"\",\"\",INDEX(Table_Incr!$CB$7:$CB$30,MATCH('Employee Data'!F479,Table_Incr!$CC$7:$CC$30,0)))","v":""},null,null,null,null,null,"","",null,"","--.--"]
[null,null,null,null,{"$f":"IF(F480=\"\",\"\",INDEX(Table_Incr!$CB$7:$CB$30,MATCH('Employee Data'!F480,Table_Incr!$CC$7:$CC$30,0)))","v":""},null,null,null,null,null,"","",null,"","--.--"]
[null,null,null,null,{"$f":"IF(F481=\"\",\"\",INDEX(Table_Incr!$CB$7:$CB$30,MATCH('Employee Data'!F481,Table_Incr!$CC$7:$CC$30,0)))","v":""},null,null,null,null,null,"","",null,"","--.--"]
[null,null,null,null,{"$f":"IF(F482=\"\",\"\",INDEX(Table_Incr!$CB$7:$CB$30,MATCH('Employee Data'!F482,Table_Incr!$CC$7:$CC$30,0)))","v":""},null,null,null,null,null,"","",null,"","--.--"]
[null,null,null,null,{"$f":"IF(F483=\"\",\"\",INDEX(Table_Incr!$CB$7:$CB$30,MATCH('Employee Data'!F483,Table_Incr!$CC$7:$CC$30,0)))","v":""},null,null,null,null,null,"","",null,"","--.--"]
[null,null,null,null,{"$f":"IF(F484=\"\",\"\",INDEX(Table_Incr!$CB$7:$CB$30,MATCH('Employee Data'!F484,Table_Incr!$CC$7:$CC$30,0)))","v":""},null,null,null,null,null,"","",null,"","--.--"]
[null,null,null,null,{"$f":"IF(F485=\"\",\"\",INDEX(Table_Incr!$CB$7:$CB$30,MATCH('Employee Data'!F485,Table_Incr!$CC$7:$CC$30,0)))","v":""},null,null,null,null,null,"","",null,"","--.--"]
[null,null,null,null,{"$f":"IF(F486=\"\",\"\",INDEX(Table_Incr!$CB$7:$CB$30,MATCH('Employee Data'!F486,Table_Incr!$CC$7:$CC$30,0)))","v":""},null,null,null,null,null,"","",null,"","--.--"]
[null,null,null,null,{"$f":"IF(F487=\"\",\"\",INDEX(Table_Incr!$CB$7:$CB$30,MATCH('Employee Data'!F487,Table_Incr!$CC$7:$CC$30,0)))","v":""},null,null,null,null,null,"","",null,"","--.--"]
[null,null,null,null,{"$f":"IF(F488=\"\",\"\",INDEX(Table_Incr!$CB$7:$CB$30,MATCH('Employee Data'!F488,Table_Incr!$CC$7:$CC$30,0)))","v":""},null,null,null,null,null,"","",null,"","--.--"]
[null,null,null,null,{"$f":"IF(F489=\"\",\"\",INDEX(Table_Incr!$CB$7:$CB$30,MATCH('Employee Data'!F489,Table_Incr!$CC$7:$CC$30,0)))","v":""},null,null,null,null,null,"","",null,"","--.--"]
[null,null,null,null,{"$f":"IF(F490=\"\",\"\",INDEX(Table_Incr!$CB$7:$CB$30,MATCH('Employee Data'!F490,Table_Incr!$CC$7:$CC$30,0)))","v":""},null,null,null,null,null,"","",null,"","--.--"]
[null,null,null,null,{"$f":"IF(F491=\"\",\"\",INDEX(Table_Incr!$CB$7:$CB$30,MATCH('Employee Data'!F491,Table_Incr!$CC$7:$CC$30,0)))","v":""},null,null,null,null,null,"","",null,"","--.--"]
[null,null,null,null,{"$f":"IF(F492=\"\",\"\",INDEX(Table_Incr!$CB$7:$CB$30,MATCH('Employee Data'!F492,Table_Incr!$CC$7:$CC$30,0)))","v":""},null,null,null,null,null,"","",null,"","--.--"]
[null,null,null,null,{"$f":"IF(F493=\"\",\"\",INDEX(Table_Incr!$CB$7:$CB$30,MATCH('Employee Data'!F493,Table_Incr!$CC$7:$CC$30,0)))","v":""},null,null,null,null,null,"","",null,"","--.--"]
[null,null,null,null,{"$f":"IF(F494=\"\",\"\",INDEX(Table_Incr!$CB$7:$CB$30,MATCH('Employee Data'!F494,Table_Incr!$CC$7:$CC$30,0)))","v":""},null,null,null,null,null,"","",null,"","--.--"]
[null,null,null,null,{"$f":"IF(F495=\"\",\"\",INDEX(Table_Incr!$CB$7:$CB$30,MATCH('Employee Data'!F495,Table_Incr!$CC$7:$CC$30,0)))","v":""},null,null,null,null,null,"","",null,"","--.--"]
[null,null,null,null,{"$f":"IF(F496=\"\",\"\",INDEX(Table_Incr!$CB$7:$CB$30,MATCH('Employee Data'!F496,Table_Incr!$CC$7:$CC$30,0)))","v":""},null,null,null,null,null,"","",null,"","--.--"]
[null,null,null,null,{"$f":"IF(F497=\"\",\"\",INDEX(Table_Incr!$CB$7:$CB$30,MATCH('Employee Data'!F497,Table_Incr!$CC$7:$CC$30,0)))","v":""},null,null,null,null,null,"","",null,"","--.--"]
[null,null,null,null,{"$f":"IF(F498=\"\",\"\",INDEX(Table_Incr!$CB$7:$CB$30,MATCH('Employee Data'!F498,Table_Incr!$CC$7:$CC$30,0)))","v":""},null,null,null,null,null,"","",null,"","--.--"]
[null,null,null,null,{"$f":"IF(F499=\"\",\"\",INDEX(Table_Incr!$CB$7:$CB$30,MATCH('Employee Data'!F499,Table_Incr!$CC$7:$CC$30,0)))","v":""},null,null,null,null,null,"","",null,"","--.--"]
[null,null,null,null,{"$f":"IF(F500=\"\",\"\",INDEX(Table_Incr!$CB$7:$CB$30,MATCH('Employee Data'!F500,Table_Incr!$CC$7:$CC$30,0)))","v":""},null,null,null,null,null,"","",null,"","--.--"]
[null,null,null,null,{"$f":"IF(F501=\"\",\"\",INDEX(Table_Incr!$CB$7:$CB$30,MATCH('Employee Data'!F501,Table_Incr!$CC$7:$CC$30,0)))","v":""},null,null,null,null,null,"","",null,"","--.--"]
[null,null,null,null,{"$f":"IF(F502=\"\",\"\",INDEX(Table_Incr!$CB$7:$CB$30,MATCH('Employee Data'!F502,Table_Incr!$CC$7:$CC$30,0)))","v":""},null,null,null,null,null,"","",null,"","--.--"]
[null,null,null,null,{"$f":"IF(F503=\"\",\"\",INDEX(Table_Incr!$CB$7:$CB$30,MATCH('Employee Data'!F503,Table_Incr!$CC$7:$CC$30,0)))","v":""},null,null,null,null,null,"","",null,"","--.--"]
[null,null,null,null,{"$f":"IF(F504=\"\",\"\",INDEX(Table_Incr!$CB$7:$CB$30,MATCH('Employee Data'!F504,Table_Incr!$CC$7:$CC$30,0)))","v":""},null,null,null,null,null,"","",null,"","--.--"]
[null,null,null,null,{"$f":"IF(F505=\"\",\"\",INDEX(Table_Incr!$CB$7:$CB$30,MATCH('Employee Data'!F505,Table_Incr!$CC$7:$CC$30,0)))","v":""},null,null,null,null,null,"","",null,"","--.--"]
[null,null,null,null,{"$f":"IF(F506=\"\",\"\",INDEX(Table_Incr!$CB$7:$CB$30,MATCH('Employee Data'!F506,Table_Incr!$CC$7:$CC$30,0)))","v":""},null,null,null,null,null,"","",null,"","--.--"]
[null,null,null,null,{"$f":"IF(F507=\"\",\"\",INDEX(Table_Incr!$CB$7:$CB$30,MATCH('Employee Data'!F507,Table_Incr!$CC$7:$CC$30,0)))","v":""},null,null,null,null,null,"","",null,"","--.--"]
[null,null,null,null,{"$f":"IF(F508=\"\",\"\",INDEX(Table_Incr!$CB$7:$CB$30,MATCH('Employee Data'!F508,Table_Incr!$CC$7:$CC$30,0)))","v":""},null,null,null,null,null,"","",null,"","--.--"]
[null,null,null,null,{"$f":"IF(F509=\"\",\"\",INDEX(Table_Incr!$CB$7:$CB$30,MATCH('Employee Data'!F509,Table_Incr!$CC$7:$CC$30,0)))","v":""},null,null,null,null,null,"","",null,"","--.--"]
[null,null,null,null,{"$f":"IF(F510=\"\",\"\",INDEX(Table_Incr!$CB$7:$CB$30,MATCH('Employee Data'!F510,Table_Incr!$CC$7:$CC$30,0)))","v":""},null,null,null,null,null,"","",null,"","--.--"]
[null,null,null,null,{"$f":"IF(F511=\"\",\"\",INDEX(Table_Incr!$CB$7:$CB$30,MATCH('Employee Data'!F511,Table_Incr!$CC$7:$CC$30,0)))","v":""},null,null,null,null,null,"","",null,"","--.--"]
[null,null,null,null,{"$f":"IF(F512=\"\",\"\",INDEX(Table_Incr!$CB$7:$CB$30,MATCH('Employee Data'!F512,Table_Incr!$CC$7:$CC$30,0)))","v":""},null,null,null,null,null,"","",null,"","--.--"]
[null,null,null,null,{"$f":"IF(F513=\"\",\"\",INDEX(Table_Incr!$CB$7:$CB$30,MATCH('Employee Data'!F513,Table_Incr!$CC$7:$CC$30,0)))","v":""},null,null,null,null,null,"","",null,"","--.--"]
[null,null,null,null,{"$f":"IF(F514=\"\",\"\",INDEX(Table_Incr!$CB$7:$CB$30,MATCH('Employee Data'!F514,Table_Incr!$CC$7:$CC$30,0)))","v":""},null,null,null,null,null,"","",null,"","--.--"]
[null,null,null,null,{"$f":"IF(F515=\"\",\"\",INDEX(Table_Incr!$CB$7:$CB$30,MATCH('Employee Data'!F515,Table_Incr!$CC$7:$CC$30,0)))","v":""},null,null,null,null,null,"","",null,"","--.--"]
[null,null,null,null,{"$f":"IF(F516=\"\",\"\",INDEX(Table_Incr!$CB$7:$CB$30,MATCH('Employee Data'!F516,Table_Incr!$CC$7:$CC$30,0)))","v":""},null,null,null,null,null,"",{"$f":"IF(B516=\"\",\"\",J516+K516)","v":""},null,"","--.--"]
[null,null,null,null,{"$f":"IF(F517=\"\",\"\",INDEX(Table_Incr!$CB$7:$CB$30,MATCH('Employee Data'!F517,Table_Incr!$CC$7:$CC$30,0)))","v":""},null,null,null,null,null,{"$f":"IF(B517=\"\",\"\",IF(I517=\"YES\",ROUND((J517*0.03),-2),0))","v":""},"",null,"","--.--"]
[null,null,null,null,{"$f":"IF(F518=\"\",\"\",INDEX(Table_Incr!$CB$7:$CB$30,MATCH('Employee Data'!F518,Table_Incr!$CC$7:$CC$30,0)))","v":""},null,null,null,null,null,"","",null,"","--.--"]
[null,null,null,null,{"$f":"IF(F519=\"\",\"\",INDEX(Table_Incr!$CB$7:$CB$30,MATCH('Employee Data'!F519,Table_Incr!$CC$7:$CC$30,0)))","v":""},null,null,null,null,null,"","",null,"","--.--"]
[null,null,null,null,{"$f":"IF(F520=\"\",\"\",INDEX(Table_Incr!$CB$7:$CB$30,MATCH('Employee Data'!F520,Table_Incr!$CC$7:$CC$30,0)))","v":""},null,null,null,null,null,"","",null,"","--.--"]
[null,null,null,null,{"$f":"IF(F521=\"\",\"\",INDEX(Table_Incr!$CB$7:$CB$30,MATCH('Employee Data'!F521,Table_Incr!$CC$7:$CC$30,0)))","v":""},null,null,null,null,null,"","",null,{"$f":"IF(B521=\"\",\"\",IF(M521>0,MIN(K521,M521),0))","v":""},{"$f":"IF(M521=0,\"--.--\",IF(N521>=0,M521-N521,\"--.--\"))","v":"--.--"}]
[null,null,null,null,{"$f":"IF(F522=\"\",\"\",INDEX(Table_Incr!$CB$7:$CB$30,MATCH('Employee Data'!F522,Table_Incr!$CC$7:$CC$30,0)))","v":""},null,null,null,null,null,"","",null,"","--.--"]
[null,null,null,null,{"$f":"IF(F523=\"\",\"\",INDEX(Table_Incr!$CB$7:$CB$30,MATCH('Employee Data'!F523,Table_Incr!$CC$7:$CC$30,0)))","v":""},null,null,null,null,null,"","",null,"","--.--"]
[null,null,null,null,{"$f":"IF(F524=\"\",\"\",INDEX(Table_Incr!$CB$7:$CB$30,MATCH('Employee Data'!F524,Table_Incr!$CC$7:$CC$30,0)))","v":""},null,null,null,null,null,"","",null,"","--.--"]
[null,null,null,null,{"$f":"IF(F525=\"\",\"\",INDEX(Table_Incr!$CB$7:$CB$30,MATCH('Employee Data'!F525,Table_Incr!$CC$7:$CC$30,0)))","v":""},null,null,null,null,null,"","",null,"","--.--"]
[null,null,null,null,{"$f":"IF(F526=\"\",\"\",INDEX(Table_Incr!$CB$7:$CB$30,MATCH('Employee Data'!F526,Table_Incr!$CC$7:$CC$30,0)))","v":""},null,null,null,null,null,"","",null,"","--.--"]
[null,null,null,null,{"$f":"IF(F527=\"\",\"\",INDEX(Table_Incr!$CB$7:$CB$30,MATCH('Employee Data'!F527,Table_Incr!$CC$7:$CC$30,0)))","v":""},null,null,null,null,null,"","",null,"","--.--"]
[null,null,null,null,{"$f":"IF(F528=\"\",\"\",INDEX(Table_Incr!$CB$7:$CB$30,MATCH('Employee Data'!F528,Table_Incr!$CC$7:$CC$30,0)))","v":""},null,null,null,null,null,"","",null,"","--.--"]
[null,null,null,null,{"$f":"IF(F529=\"\",\"\",INDEX(Table_Incr!$CB$7:$CB$30,MATCH('Employee Data'!F529,Table_Incr!$CC$7:$CC$30,0)))","v":""},null,null,null,null,null,"","",null,"","--.--"]
[null,null,null,null,{"$f":"IF(F530=\"\",\"\",INDEX(Table_Incr!$CB$7:$CB$30,MATCH('Employee Data'!F530,Table_Incr!$CC$7:$CC$30,0)))","v":""},null,null,null,null,null,"","",null,"","--.--"]
[null,null,null,null,{"$f":"IF(F531=\"\",\"\",INDEX(Table_Incr!$CB$7:$CB$30,MATCH('Employee Data'!F531,Table_Incr!$CC$7:$CC$30,0)))","v":""},null,null,null,null,null,"","",null,"","--.--"]
[null,null,null,null,{"$f":"IF(F532=\"\",\"\",INDEX(Table_Incr!$CB$7:$CB$30,MATCH('Employee Data'!F532,Table_Incr!$CC$7:$CC$30,0)))","v":""},null,null,null,null,null,"","",null,"","--.--"]
[null,null,null,null,{"$f":"IF(F533=\"\",\"\",INDEX(Table_Incr!$CB$7:$CB$30,MATCH('Employee Data'!F533,Table_Incr!$CC$7:$CC$30,0)))","v":""},null,null,null,null,null,"","",null,"","--.--"]
[null,null,null,null,{"$f":"IF(F534=\"\",\"\",INDEX(Table_Incr!$CB$7:$CB$30,MATCH('Employee Data'!F534,Table_Incr!$CC$7:$CC$30,0)))","v":""},null,null,null,null,null,"","",null,"","--.--"]
[null,null,null,null,{"$f":"IF(F535=\"\",\"\",INDEX(Table_Incr!$CB$7:$CB$30,MATCH('Employee Data'!F535,Table_Incr!$CC$7:$CC$30,0)))","v":""},null,null,null,null,null,"","",null,"","--.--"]
[null,null,null,null,{"$f":"IF(F536=\"\",\"\",INDEX(Table_Incr!$CB$7:$CB$30,MATCH('Employee Data'!F536,Table_Incr!$CC$7:$CC$30,0)))","v":""},null,null,null,null,null,"","",null,"","--.--"]
[null,null,null,null,{"$f":"IF(F537=\"\",\"\",INDEX(Table_Incr!$CB$7:$CB$30,MATCH('Employee Data'!F537,Table_Incr!$CC$7:$CC$30,0)))","v":""},null,null,null,null,null,"","",null,"","--.--"]
[null,null,null,null,{"$f":"IF(F538=\"\",\"\",INDEX(Table_Incr!$CB$7:$CB$30,MATCH('Employee Data'!F538,Table_Incr!$CC$7:$CC$30,0)))","v":""},null,null,null,null,null,"","",null,"","--.--"]
[null,null,null,null,{"$f":"IF(F539=\"\",\"\",INDEX(Table_Incr!$CB$7:$CB$30,MATCH('Employee Data'!F539,Table_Incr!$CC$7:$CC$30,0)))","v":""},null,null,null,null,null,"","",null,"","--.--"]
[null,null,null,null,{"$f":"IF(F540=\"\",\"\",INDEX(Table_Incr!$CB$7:$CB$30,MATCH('Employee Data'!F540,Table_Incr!$CC$7:$CC$30,0)))","v":""},null,null,null,null,null,"","",null,"","--.--"]
[null,null,null,null,{"$f":"IF(F541=\"\",\"\",INDEX(Table_Incr!$CB$7:$CB$30,MATCH('Employee Data'!F541,Table_Incr!$CC$7:$CC$30,0)))","v":""},null,null,null,null,null,"","",null,"","--.--"]
[null,null,null,null,{"$f":"IF(F542=\"\",\"\",INDEX(Table_Incr!$CB$7:$CB$30,MATCH('Employee Data'!F542,Table_Incr!$CC$7:$CC$30,0)))","v":""},null,null,null,null,null,"","",null,"","--.--"]
[null,null,null,null,{"$f":"IF(F543=\"\",\"\",INDEX(Table_Incr!$CB$7:$CB$30,MATCH('Employee Data'!F543,Table_Incr!$CC$7:$CC$30,0)))","v":""},null,null,null,null,null,"","",null,"","--.--"]
[null,null,null,null,{"$f":"IF(F544=\"\",\"\",INDEX(Table_Incr!$CB$7:$CB$30,MATCH('Employee Data'!F544,Table_Incr!$CC$7:$CC$30,0)))","v":""},null,null,null,null,null,"","",null,"","--.--"]
[null,null,null,null,{"$f":"IF(F545=\"\",\"\",INDEX(Table_Incr!$CB$7:$CB$30,MATCH('Employee Data'!F545,Table_Incr!$CC$7:$CC$30,0)))","v":""},null,null,null,null,null,"","",null,"","--.--"]
[null,null,null,null,{"$f":"IF(F546=\"\",\"\",INDEX(Table_Incr!$CB$7:$CB$30,MATCH('Employee Data'!F546,Table_Incr!$CC$7:$CC$30,0)))","v":""},null,null,null,null,null,"","",null,"","--.--"]
[null,null,null,null,{"$f":"IF(F547=\"\",\"\",INDEX(Table_Incr!$CB$7:$CB$30,MATCH('Employee Data'!F547,Table_Incr!$CC$7:$CC$30,0)))","v":""},null,null,null,null,null,"","",null,"","--.--"]
[null,null,null,null,{"$f":"IF(F548=\"\",\"\",INDEX(Table_Incr!$CB$7:$CB$30,MATCH('Employee Data'!F548,Table_Incr!$CC$7:$CC$30,0)))","v":""},null,null,null,null,null,"","",null,"","--.--"]
[null,null,null,null,{"$f":"IF(F549=\"\",\"\",INDEX(Table_Incr!$CB$7:$CB$30,MATCH('Employee Data'!F549,Table_Incr!$CC$7:$CC$30,0)))","v":""},null,null,null,null,null,"","",null,"","--.--"]
[null,null,null,null,{"$f":"IF(F550=\"\",\"\",INDEX(Table_Incr!$CB$7:$CB$30,MATCH('Employee Data'!F550,Table_Incr!$CC$7:$CC$30,0)))","v":""},null,null,null,null,null,"","",null,"","--.--"]
[null,null,null,null,{"$f":"IF(F551=\"\",\"\",INDEX(Table_Incr!$CB$7:$CB$30,MATCH('Employee Data'!F551,Table_Incr!$CC$7:$CC$30,0)))","v":""},null,null,null,null,null,"","",null,"","--.--"]
[null,null,null,null,{"$f":"IF(F552=\"\",\"\",INDEX(Table_Incr!$CB$7:$CB$30,MATCH('Employee Data'!F552,Table_Incr!$CC$7:$CC$30,0)))","v":""},null,null,null,null,null,"","",null,"","--.--"]
[null,null,null,null,{"$f":"IF(F553=\"\",\"\",INDEX(Table_Incr!$CB$7:$CB$30,MATCH('Employee Data'!F553,Table_Incr!$CC$7:$CC$30,0)))","v":""},null,null,null,null,null,"","",null,"","--.--"]
[null,"End_line","End_line","End_line","End_line","End_line","End_line","End_line","End_line","End_line","End_line","End_line","End_line","End_line","End_line"]

{"sheet":"Table_vi","index":4,"n_rows":41,"n_cols":8,"rows_kept":41,"cut":false,"hidden":true,"merged":[]}
[null,"Option Explicit",null,null,null,null,null,"Sub HideEmptyRows()"]
[null," ",null,null,null,null,null,"Dim hRws As Range, Rw As Range, R As Range"]
[null,"Private Sub Worksheet_Activate()",null,null,null,null,null,"Set R = Range(\"A2:I26\")"]
[null,"     ",null,null,null,null,null,"For Each Rw In R.Rows"]
[null,"    Dim HiddenRow&, RowRange As Range, RowRangeValue&",null,null,null,null,null,"    If WorksheetFunction.CountA(Rw) > WorksheetFunction.Count(Rw) Then"]
[null,"     ",null,null,null,null,null,"        If hRws Is Nothing Then"]
[null,"     '*****************************",null,null,null,null,null,"            Set hRws = Rw"]
[null,"     '< Set the 1st & last rows to be hidden >",null,null,null,null,null,"        Else"]
[null,"    Const FirstRow As Long = 15",null,null,null,null,null,"            Set hRws = Union(Rw, hRws)"]
[null,"    Const LastRow As Long = 566",null,null,null,null,null,"        End If"]
[null,"     ",null,null,null,null,null,"    End If"]
[null,"     '< Set the columns that may contain data >",null,null,null,null,null,"Next Rw"]
[null,"    Const FirstCol As String = \"B\"",null,null,null,null,null,"If Not hRws Is Nothing Then"]
[null,"    Const LastCol As String = \"BG\"",null,null,null,null,null,"    hRws.EntireRow.Hidden = True"]
[null,"     '*****************************",null,null,null,null,null,"End If"]
[null,"     ",null,null,null,null,null,"End Sub"]
[null,"    ActiveWindow.DisplayZeros = False"]
[null,"    Application.ScreenUpdating = False",null,null,null,null,null,"Option Explicit"]
[null,"     ",null,null,null,null,null,"Private Sub Worksheet_Activate()"]
[null,"    For HiddenRow = FirstRow To LastRow",null,null,null,null,null,"    Dim r As Range, c As Range"]
[null,"         ",null,null,null,null,null,"Set r = Range(\"a1:a299\")"]
[null,"         '(we're using columns B to G here)",null,null,null,null,null,"Application.ScreenUpdating = False"]
[null,"        Set RowRange = Range(FirstCol & HiddenRow & _",null,null,null,null,null,"For Each c In r"]
[null,"        \":\" & LastCol & HiddenRow)",null,null,null,null,null,"    If Len(c.text) = 0 Then"]
[null,"         ",null,null,null,null,null,"        c.EntireRow.Hidden = True"]
[null,"         'sums the entries in cells in the RowRange",null,null,null,null,null,"    Else"]
[null,"        RowRangeValue = Application.Sum(RowRange.Value)",null,null,null,null,null,"        c.EntireRow.Hidden = False"]
[null,"         ",null,null,null,null,null,"    End If"]
[null,"        If RowRangeValue <> 0 Then",null,null,null,null,null,"Next c"]
[null,"             'there's something in this row - don't hide",null,null,null,null,null,"Application.ScreenUpdating = True"]
[null,"            Rows(HiddenRow).EntireRow.Hidden = False",null,null,null,null,null,"End Sub"]
[null,"        Else"]
[null,"             'there's nothing in this row yet - hide it"]
[null,"            Rows(HiddenRow).EntireRow.Hidden = True"]
[null,"        End If"]
[null,"         "]
[null,"    Next HiddenRow"]
[null,"     "]
[null,"    Application.ScreenUpdating = True"]
[null,"     "]
[null,"End Sub"]

{"sheet":"DDO Data","index":5,"n_rows":9,"n_cols":3,"rows_kept":9,"cut":false,"hidden":false,"merged":[]}
[]
[null,null,"HOME"]
[]
[null,"Name of Office","Director XXXXX...XXX, Rajasthan, Bikaner"]
[null,"Designation of Signature Authority","PQRS"]
[null,"Increment File No",123]
[null,"Increment Order Date",{"$f":"TODAY()","v":"2023-06-16"}]
[null,"Name of concerning Treasury/Sub Treasury","All Treasury name's are in dropdown list, if user select Sub Treasury, then write name of sub try in C9 (here dropdown list is not applicable)"]
[null,"Treasury","BIKANER"]

{"sheet":"Databackup","index":6,"n_rows":555,"n_cols":14,"rows_kept":555,"cut":false,"hidden":true,"merged":[]}
["YES","Emp. Code","Name of Incumbent ","Post","Pay Level\nas on","Date From \nPresent Pay \nis being taken","Date of Increment","Incre.\nCondition"," Pay in the Level in the Pay Matrix","Increment amt.","Total basic pay","Opening Balance of Adjusted P.P. under Rule 11(6)","Adjusted P.P. under Rule 11(6)","Closing Balace P.P. amt "]
["Items:",1,{"$f":"B2+1","v":2},{"$f":"C2+1","v":3},4,{"$f":"E2+1","v":5},{"$f":"F2+1","v":6},{"$f":"G2+1","v":7},{"$f":"H2+1","v":8},{"$f":"I2+1","v":9},{"$f":"J2+1","v":10},{"$f":"K2+1","v":11},{"$f":"L2+1","v":12},{"$f":"M2+1","v":13}]
[{"$f":"INDEX(Employee_Name,MATCH(SMALL(IF($A$1='Employee Data'!$I$4:$I$553,'Employee Data'!$B$4:$B$553,\"\"),ROW('Employee Data'!A1)),IF($A$1='Employee Data'!$I$4:$I$553,'Employee Data'!$B$4:$B$553,\"\"),0))","v":"PKS "},{"$f":"IF(ISERROR(INDEX('Employee Data'!$B$4:$B$553,MATCH(Databackup!A3,Employee_Name,0),0)),\"\",(INDEX('Employee Data'!$B$4:$B$553,MATCH(Databackup!A3,Employee_Name,0))))","v":1},{"$f":"IF(ISERROR(INDEX('Employee Data'!$C$4:$C$553,MATCH(Databackup!A3,Employee_Name,0),0)),\"\",(INDEX('Employee Data'!$C$4:$C$553,MATCH(Databackup!A3,Employee_Name,0))))","v":"PKS "},{"$f":"IF(ISERROR(INDEX('Employee Data'!$D$4:$D$553,MATCH(Databackup!A3,Employee_Name,0),0)),\"\",(INDEX('Employee Data'!$D$4:$D$553,MATCH(Databackup!A3,Employee_Name,0))))","v":"AAO-I"},{"$f":"IF(ISERROR(INDEX('Employee Data'!$F$4:$F$553,MATCH(Databackup!A3,Employee_Name,0),0)),\"\",(INDEX('Employee Data'!$F$4:$F$553,MATCH(Databackup!A3,Employee_Name,0))))","v":"L-13"},{"$f":"IF(ISERROR(INDEX('Employee Data'!$G$4:$G$553,MATCH(Databackup!A3,Employee_Name,0),0)),\"\",(INDEX('Employee Data'!$G$4:$G$553,MATCH(Databackup!A3,Employee_Name,0))))","v":"2022-07-01"},{"$f":"IF(ISERROR(INDEX('Employee Data'!$H$4:$H$553,MATCH(Databackup!A3,Employee_Name,0),0)),\"\",(INDEX('Employee Data'!$H$4:$H$553,MATCH(Databackup!A3,Employee_Name,0))))","v":"2023-07-01"},{"$f":"IF(ISERROR(INDEX('Employee Data'!$I$4:$I$553,MATCH(Databackup!A3,Employee_Name,0),0)),\"\",(INDEX('Employee Data'!$I$4:$I$553,MATCH(Databackup!A3,Employee_Name,0))))","v":"YES"},{"$f":"IF(ISERROR(INDEX('Employee Data'!$J$4:$J$553,MATCH(Databackup!A3,Employee_Name,0),0)),\"\",(INDEX('Employee Data'!J$4:$J$553,MATCH(Databackup!A3,Employee_Name,0))))","v":82600},{"$f":"IF(ISERROR(INDEX('Employee Data'!$K$4:$K$553,MATCH(Databackup!A3,Employee_Name,0),0)),\"\",(INDEX('Employee Data'!$K$4:$K$553,MATCH(Databackup!A3,Employee_Name,0))))","v":2500},{"$f":"IF(ISERROR(INDEX('Employee Data'!$L$4:$L$553,MATCH(Databackup!A3,Employee_Name,0),0)),\"\",(INDEX('Employee Data'!$L$4:$L$553,MATCH(Databackup!A3,Employee_Name,0))))","v":85100},{"$f":"IF(ISERROR(INDEX('Employee Data'!$M$4:$M$553,MATCH(Databackup!A3,Employee_Name,0),0)),\"\",(INDEX('Employee Data'!$M$4:$M$553,MATCH(Databackup!A3,Employee_Name,0))))","v":0},{"$f":"IF(ISERROR(INDEX('Employee Data'!$N$4:$N$553,MATCH(Databackup!A3,Employee_Name,0),0)),\"\",(INDEX('Employee Data'!$N$4:$N$553,MATCH(Databackup!A3,Employee_Name,0))))","v":""},{"$f":"IF(ISERROR(INDEX('Employee Data'!$O$4:$O$553,MATCH(Databackup!A3,Employee_Name,0),0)),\"\",(INDEX('Employee Data'!$O$4:$O$553,MATCH(Databackup!A3,Employee_Name,0))))","v":"--N.A.--"}]
[{"$f":"INDEX(Employee_Name,MATCH(SMALL(IF($A$1='Employee Data'!$I$4:$I$553,'Employee Data'!$B$4:$B$553,\"\"),ROW('Employee Data'!A2)),IF($A$1='Employee Data'!$I$4:$I$553,'Employee Data'!$B$4:$B$553,\"\"),0))","v":{"$error":"#NUM!"}},{"$f":"IF(ISERROR(INDEX('Employee Data'!$B$4:$B$553,MATCH(Databackup!A4,Employee_Name,0),0)),\"\",(INDEX('Employee Data'!$B$4:$B$553,MATCH(Databackup!A4,Employee_Name,0))))","v":""},{"$f":"IF(ISERROR(INDEX('Employee Data'!$C$4:$C$553,MATCH(Databackup!A4,Employee_Name,0),0)),\"\",(INDEX('Employee Data'!$C$4:$C$553,MATCH(Databackup!A4,Employee_Name,0))))","v":""},{"$f":"IF(ISERROR(INDEX('Employee Data'!$D$4:$D$553,MATCH(Databackup!A4,Employee_Name,0),0)),\"\",(INDEX('Employee Data'!$D$4:$D$553,MATCH(Databackup!A4,Employee_Name,0))))","v":""},{"$f":"IF(ISERROR(INDEX('Employee Data'!$F$4:$F$553,MATCH(Databackup!A4,Employee_Name,0),0)),\"\",(INDEX('Employee Data'!$F$4:$F$553,MATCH(Databackup!A4,Employee_Name,0))))","v":""},{"$f":"IF(ISERROR(INDEX('Employee Data'!$G$4:$G$553,MATCH(Databackup!A4,Employee_Name,0),0)),\"\",(INDEX('Employee Data'!$G$4:$G$553,MATCH(Databackup!A4,Employee_Name,0))))","v":""},{"$f":"IF(ISERROR(INDEX('Employee Data'!$H$4:$H$553,MATCH(Databackup!A4,Employee_Name,0),0)),\"\",(INDEX('Employee Data'!$H$4:$H$553,MATCH(Databackup!A4,Employee_Name,0))))","v":""},{"$f":"IF(ISERROR(INDEX('Employee Data'!$I$4:$I$553,MATCH(Databackup!A4,Employee_Name,0),0)),\"\",(INDEX('Employee Data'!$I$4:$I$553,MATCH(Databackup!A4,Employee_Name,0))))","v":""},{"$f":"IF(ISERROR(INDEX('Employee Data'!$J$4:$J$553,MATCH(Databackup!A4,Employee_Name,0),0)),\"\",(INDEX('Employee Data'!J$4:$J$553,MATCH(Databackup!A4,Employee_Name,0))))","v":""},{"$f":"IF(ISERROR(INDEX('Employee Data'!$K$4:$K$553,MATCH(Databackup!A4,Employee_Name,0),0)),\"\",(INDEX('Employee Data'!$K$4:$K$553,MATCH(Databackup!A4,Employee_Name,0))))","v":""},{"$f":"IF(ISERROR(INDEX('Employee Data'!$L$4:$L$553,MATCH(Databackup!A4,Employee_Name,0),0)),\"\",(INDEX('Employee Data'!$L$4:$L$553,MATCH(Databackup!A4,Employee_Name,0))))","v":""},{"$f":"IF(ISERROR(INDEX('Employee Data'!$M$4:$M$553,MATCH(Databackup!A4,Employee_Name,0),0)),\"\",(INDEX('Employee Data'!$M$4:$M$553,MATCH(Databackup!A4,Employee_Name,0))))","v":""},{"$f":"IF(ISERROR(INDEX('Employee Data'!$N$4:$N$553,MATCH(Databackup!A4,Employee_Name,0),0)),\"\",(INDEX('Employee Data'!$N$4:$N$553,MATCH(Databackup!A4,Employee_Name,0))))","v":""},{"$f":"IF(ISERROR(INDEX('Employee Data'!$O$4:$O$553,MATCH(Databackup!A4,Employee_Name,0),0)),\"\",(INDEX('Employee Data'!$O$4:$O$553,MATCH(Databackup!A4,Employee_Name,0))))","v":""}]
[{"$f":"INDEX(Employee_Name,MATCH(SMALL(IF($A$1='Employee Data'!$I$4:$I$553,'Employee Data'!$B$4:$B$553,\"\"),ROW('Employee Data'!A3)),IF($A$1='Employee Data'!$I$4:$I$553,'Employee Data'!$B$4:$B$553,\"\"),0))","v":{"$error":"#NUM!"}},{"$f":"IF(ISERROR(INDEX('Employee Data'!$B$4:$B$553,MATCH(Databackup!A5,Employee_Name,0),0)),\"\",(INDEX('Employee Data'!$B$4:$B$553,MATCH(Databackup!A5,Employee_Name,0))))","v":""},{"$f":"IF(ISERROR(INDEX('Employee Data'!$C$4:$C$553,MATCH(Databackup!A5,Employee_Name,0),0)),\"\",(INDEX('Employee Data'!$C$4:$C$553,MATCH(Databackup!A5,Employee_Name,0))))","v":""},{"$f":"IF(ISERROR(INDEX('Employee Data'!$D$4:$D$553,MATCH(Databackup!A5,Employee_Name,0),0)),\"\",(INDEX('Employee Data'!$D$4:$D$553,MATCH(Databackup!A5,Employee_Name,0))))","v":""},{"$f":"IF(ISERROR(INDEX('Employee Data'!$F$4:$F$553,MATCH(Databackup!A5,Employee_Name,0),0)),\"\",(INDEX('Employee Data'!$F$4:$F$553,MATCH(Databackup!A5,Employee_Name,0))))","v":""},{"$f":"IF(ISERROR(INDEX('Employee Data'!$G$4:$G$553,MATCH(Databackup!A5,Employee_Name,0),0)),\"\",(INDEX('Employee Data'!$G$4:$G$553,MATCH(Databackup!A5,Employee_Name,0))))","v":""},{"$f":"IF(ISERROR(INDEX('Employee Data'!$H$4:$H$553,MATCH(Databackup!A5,Employee_Name,0),0)),\"\",(INDEX('Employee Data'!$H$4:$H$553,MATCH(Databackup!A5,Employee_Name,0))))","v":""},{"$f":"IF(ISERROR(INDEX('Employee Data'!$I$4:$I$553,MATCH(Databackup!A5,Employee_Name,0),0)),\"\",(INDEX('Employee Data'!$I$4:$I$553,MATCH(Databackup!A5,Employee_Name,0))))","v":""},{"$f":"IF(ISERROR(INDEX('Employee Data'!$J$4:$J$553,MATCH(Databackup!A5,Employee_Name,0),0)),\"\",(INDEX('Employee Data'!J$4:$J$553,MATCH(Databackup!A5,Employee_Name,0))))","v":""},{"$f":"IF(ISERROR(INDEX('Employee Data'!$K$4:$K$553,MATCH(Databackup!A5,Employee_Name,0),0)),\"\",(INDEX('Employee Data'!$K$4:$K$553,MATCH(Databackup!A5,Employee_Name,0))))","v":""},{"$f":"IF(ISERROR(INDEX('Employee Data'!$L$4:$L$553,MATCH(Databackup!A5,Employee_Name,0),0)),\"\",(INDEX('Employee Data'!$L$4:$L$553,MATCH(Databackup!A5,Employee_Name,0))))","v":""},{"$f":"IF(ISERROR(INDEX('Employee Data'!$M$4:$M$553,MATCH(Databackup!A5,Employee_Name,0),0)),\"\",(INDEX('Employee Data'!$M$4:$M$553,MATCH(Databackup!A5,Employee_Name,0))))","v":""},{"$f":"IF(ISERROR(INDEX('Employee Data'!$N$4:$N$553,MATCH(Databackup!A5,Employee_Name,0),0)),\"\",(INDEX('Employee Data'!$N$4:$N$553,MATCH(Databackup!A5,Employee_Name,0))))","v":""},{"$f":"IF(ISERROR(INDEX('Employee Data'!$O$4:$O$553,MATCH(Databackup!A5,Employee_Name,0),0)),\"\",(INDEX('Employee Data'!$O$4:$O$553,MATCH(Databackup!A5,Employee_Name,0))))","v":""}]
[{"$f":"INDEX(Employee_Name,MATCH(SMALL(IF($A$1='Employee Data'!$I$4:$I$553,'Employee Data'!$B$4:$B$553,\"\"),ROW('Employee Data'!A4)),IF($A$1='Employee Data'!$I$4:$I$553,'Employee Data'!$B$4:$B$553,\"\"),0))","v":{"$error":"#NUM!"}},{"$f":"IF(ISERROR(INDEX('Employee Data'!$B$4:$B$553,MATCH(Databackup!A6,Employee_Name,0),0)),\"\",(INDEX('Employee Data'!$B$4:$B$553,MATCH(Databackup!A6,Employee_Name,0))))","v":""},{"$f":"IF(ISERROR(INDEX('Employee Data'!$C$4:$C$553,MATCH(Databackup!A6,Employee_Name,0),0)),\"\",(INDEX('Employee Data'!$C$4:$C$553,MATCH(Databackup!A6,Employee_Name,0))))","v":""},{"$f":"IF(ISERROR(INDEX('Employee Data'!$D$4:$D$553,MATCH(Databackup!A6,Employee_Name,0),0)),\"\",(INDEX('Employee Data'!$D$4:$D$553,MATCH(Databackup!A6,Employee_Name,0))))","v":""},{"$f":"IF(ISERROR(INDEX('Employee Data'!$F$4:$F$553,MATCH(Databackup!A6,Employee_Name,0),0)),\"\",(INDEX('Employee Data'!$F$4:$F$553,MATCH(Databackup!A6,Employee_Name,0))))","v":""},{"$f":"IF(ISERROR(INDEX('Employee Data'!$G$4:$G$553,MATCH(Databackup!A6,Employee_Name,0),0)),\"\",(INDEX('Employee Data'!$G$4:$G$553,MATCH(Databackup!A6,Employee_Name,0))))","v":""},{"$f":"IF(ISERROR(INDEX('Employee Data'!$H$4:$H$553,MATCH(Databackup!A6,Employee_Name,0),0)),\"\",(INDEX('Employee Data'!$H$4:$H$553,MATCH(Databackup!A6,Employee_Name,0))))","v":""},{"$f":"IF(ISERROR(INDEX('Employee Data'!$I$4:$I$553,MATCH(Databackup!A6,Employee_Name,0),0)),\"\",(INDEX('Employee Data'!$I$4:$I$553,MATCH(Databackup!A6,Employee_Name,0))))","v":""},{"$f":"IF(ISERROR(INDEX('Employee Data'!$J$4:$J$553,MATCH(Databackup!A6,Employee_Name,0),0)),\"\",(INDEX('Employee Data'!J$4:$J$553,MATCH(Databackup!A6,Employee_Name,0))))","v":""},{"$f":"IF(ISERROR(INDEX('Employee Data'!$K$4:$K$553,MATCH(Databackup!A6,Employee_Name,0),0)),\"\",(INDEX('Employee Data'!$K$4:$K$553,MATCH(Databackup!A6,Employee_Name,0))))","v":""},{"$f":"IF(ISERROR(INDEX('Employee Data'!$L$4:$L$553,MATCH(Databackup!A6,Employee_Name,0),0)),\"\",(INDEX('Employee Data'!$L$4:$L$553,MATCH(Databackup!A6,Employee_Name,0))))","v":""},{"$f":"IF(ISERROR(INDEX('Employee Data'!$M$4:$M$553,MATCH(Databackup!A6,Employee_Name,0),0)),\"\",(INDEX('Employee Data'!$M$4:$M$553,MATCH(Databackup!A6,Employee_Name,0))))","v":""},{"$f":"IF(ISERROR(INDEX('Employee Data'!$N$4:$N$553,MATCH(Databackup!A6,Employee_Name,0),0)),\"\",(INDEX('Employee Data'!$N$4:$N$553,MATCH(Databackup!A6,Employee_Name,0))))","v":""},{"$f":"IF(ISERROR(INDEX('Employee Data'!$O$4:$O$553,MATCH(Databackup!A6,Employee_Name,0),0)),\"\",(INDEX('Employee Data'!$O$4:$O$553,MATCH(Databackup!A6,Employee_Name,0))))","v":""}]
[{"$f":"INDEX(Employee_Name,MATCH(SMALL(IF($A$1='Employee Data'!$I$4:$I$553,'Employee Data'!$B$4:$B$553,\"\"),ROW('Employee Data'!A5)),IF($A$1='Employee Data'!$I$4:$I$553,'Employee Data'!$B$4:$B$553,\"\"),0))","v":{"$error":"#NUM!"}},{"$f":"IF(ISERROR(INDEX('Employee Data'!$B$4:$B$553,MATCH(Databackup!A7,Employee_Name,0),0)),\"\",(INDEX('Employee Data'!$B$4:$B$553,MATCH(Databackup!A7,Employee_Name,0))))","v":""},{"$f":"IF(ISERROR(INDEX('Employee Data'!$C$4:$C$553,MATCH(Databackup!A7,Employee_Name,0),0)),\"\",(INDEX('Employee Data'!$C$4:$C$553,MATCH(Databackup!A7,Employee_Name,0))))","v":""},{"$f":"IF(ISERROR(INDEX('Employee Data'!$D$4:$D$553,MATCH(Databackup!A7,Employee_Name,0),0)),\"\",(INDEX('Employee Data'!$D$4:$D$553,MATCH(Databackup!A7,Employee_Name,0))))","v":""},{"$f":"IF(ISERROR(INDEX('Employee Data'!$F$4:$F$553,MATCH(Databackup!A7,Employee_Name,0),0)),\"\",(INDEX('Employee Data'!$F$4:$F$553,MATCH(Databackup!A7,Employee_Name,0))))","v":""},{"$f":"IF(ISERROR(INDEX('Employee Data'!$G$4:$G$553,MATCH(Databackup!A7,Employee_Name,0),0)),\"\",(INDEX('Employee Data'!$G$4:$G$553,MATCH(Databackup!A7,Employee_Name,0))))","v":""},{"$f":"IF(ISERROR(INDEX('Employee Data'!$H$4:$H$553,MATCH(Databackup!A7,Employee_Name,0),0)),\"\",(INDEX('Employee Data'!$H$4:$H$553,MATCH(Databackup!A7,Employee_Name,0))))","v":""},{"$f":"IF(ISERROR(INDEX('Employee Data'!$I$4:$I$553,MATCH(Databackup!A7,Employee_Name,0),0)),\"\",(INDEX('Employee Data'!$I$4:$I$553,MATCH(Databackup!A7,Employee_Name,0))))","v":""},{"$f":"IF(ISERROR(INDEX('Employee Data'!$J$4:$J$553,MATCH(Databackup!A7,Employee_Name,0),0)),\"\",(INDEX('Employee Data'!J$4:$J$553,MATCH(Databackup!A7,Employee_Name,0))))","v":""},{"$f":"IF(ISERROR(INDEX('Employee Data'!$K$4:$K$553,MATCH(Databackup!A7,Employee_Name,0),0)),\"\",(INDEX('Employee Data'!$K$4:$K$553,MATCH(Databackup!A7,Employee_Name,0))))","v":""},{"$f":"IF(ISERROR(INDEX('Employee Data'!$L$4:$L$553,MATCH(Databackup!A7,Employee_Name,0),0)),\"\",(INDEX('Employee Data'!$L$4:$L$553,MATCH(Databackup!A7,Employee_Name,0))))","v":""},{"$f":"IF(ISERROR(INDEX('Employee Data'!$M$4:$M$553,MATCH(Databackup!A7,Employee_Name,0),0)),\"\",(INDEX('Employee Data'!$M$4:$M$553,MATCH(Databackup!A7,Employee_Name,0))))","v":""},{"$f":"IF(ISERROR(INDEX('Employee Data'!$N$4:$N$553,MATCH(Databackup!A7,Employee_Name,0),0)),\"\",(INDEX('Employee Data'!$N$4:$N$553,MATCH(Databackup!A7,Employee_Name,0))))","v":""},{"$f":"IF(ISERROR(INDEX('Employee Data'!$O$4:$O$553,MATCH(Databackup!A7,Employee_Name,0),0)),\"\",(INDEX('Employee Data'!$O$4:$O$553,MATCH(Databackup!A7,Employee_Name,0))))","v":""}]
[{"$f":"INDEX(Employee_Name,MATCH(SMALL(IF($A$1='Employee Data'!$I$4:$I$553,'Employee Data'!$B$4:$B$553,\"\"),ROW('Employee Data'!A6)),IF($A$1='Employee Data'!$I$4:$I$553,'Employee Data'!$B$4:$B$553,\"\"),0))","v":{"$error":"#NUM!"}},{"$f":"IF(ISERROR(INDEX('Employee Data'!$B$4:$B$553,MATCH(Databackup!A8,Employee_Name,0),0)),\"\",(INDEX('Employee Data'!$B$4:$B$553,MATCH(Databackup!A8,Employee_Name,0))))","v":""},{"$f":"IF(ISERROR(INDEX('Employee Data'!$C$4:$C$553,MATCH(Databackup!A8,Employee_Name,0),0)),\"\",(INDEX('Employee Data'!$C$4:$C$553,MATCH(Databackup!A8,Employee_Name,0))))","v":""},{"$f":"IF(ISERROR(INDEX('Employee Data'!$D$4:$D$553,MATCH(Databackup!A8,Employee_Name,0),0)),\"\",(INDEX('Employee Data'!$D$4:$D$553,MATCH(Databackup!A8,Employee_Name,0))))","v":""},{"$f":"IF(ISERROR(INDEX('Employee Data'!$F$4:$F$553,MATCH(Databackup!A8,Employee_Name,0),0)),\"\",(INDEX('Employee Data'!$F$4:$F$553,MATCH(Databackup!A8,Employee_Name,0))))","v":""},{"$f":"IF(ISERROR(INDEX('Employee Data'!$G$4:$G$553,MATCH(Databackup!A8,Employee_Name,0),0)),\"\",(INDEX('Employee Data'!$G$4:$G$553,MATCH(Databackup!A8,Employee_Name,0))))","v":""},{"$f":"IF(ISERROR(INDEX('Employee Data'!$H$4:$H$553,MATCH(Databackup!A8,Employee_Name,0),0)),\"\",(INDEX('Employee Data'!$H$4:$H$553,MATCH(Databackup!A8,Employee_Name,0))))","v":""},{"$f":"IF(ISERROR(INDEX('Employee Data'!$I$4:$I$553,MATCH(Databackup!A8,Employee_Name,0),0)),\"\",(INDEX('Employee Data'!$I$4:$I$553,MATCH(Databackup!A8,Employee_Name,0))))","v":""},{"$f":"IF(ISERROR(INDEX('Employee Data'!$J$4:$J$553,MATCH(Databackup!A8,Employee_Name,0),0)),\"\",(INDEX('Employee Data'!J$4:$J$553,MATCH(Databackup!A8,Employee_Name,0))))","v":""},{"$f":"IF(ISERROR(INDEX('Employee Data'!$K$4:$K$553,MATCH(Databackup!A8,Employee_Name,0),0)),\"\",(INDEX('Employee Data'!$K$4:$K$553,MATCH(Databackup!A8,Employee_Name,0))))","v":""},{"$f":"IF(ISERROR(INDEX('Employee Data'!$L$4:$L$553,MATCH(Databackup!A8,Employee_Name,0),0)),\"\",(INDEX('Employee Data'!$L$4:$L$553,MATCH(Databackup!A8,Employee_Name,0))))","v":""},{"$f":"IF(ISERROR(INDEX('Employee Data'!$M$4:$M$553,MATCH(Databackup!A8,Employee_Name,0),0)),\"\",(INDEX('Employee Data'!$M$4:$M$553,MATCH(Databackup!A8,Employee_Name,0))))","v":""},{"$f":"IF(ISERROR(INDEX('Employee Data'!$N$4:$N$553,MATCH(Databackup!A8,Employee_Name,0),0)),\"\",(INDEX('Employee Data'!$N$4:$N$553,MATCH(Databackup!A8,Employee_Name,0))))","v":""},{"$f":"IF(ISERROR(INDEX('Employee Data'!$O$4:$O$553,MATCH(Databackup!A8,Employee_Name,0),0)),\"\",(INDEX('Employee Data'!$O$4:$O$553,MATCH(Databackup!A8,Employee_Name,0))))","v":""}]
[{"$f":"INDEX(Employee_Name,MATCH(SMALL(IF($A$1='Employee Data'!$I$4:$I$553,'Employee Data'!$B$4:$B$553,\"\"),ROW('Employee Data'!A7)),IF($A$1='Employee Data'!$I$4:$I$553,'Employee Data'!$B$4:$B$553,\"\"),0))","v":{"$error":"#NUM!"}},{"$f":"IF(ISERROR(INDEX('Employee Data'!$B$4:$B$553,MATCH(Databackup!A9,Employee_Name,0),0)),\"\",(INDEX('Employee Data'!$B$4:$B$553,MATCH(Databackup!A9,Employee_Name,0))))","v":""},{"$f":"IF(ISERROR(INDEX('Employee Data'!$C$4:$C$553,MATCH(Databackup!A9,Employee_Name,0),0)),\"\",(INDEX('Employee Data'!$C$4:$C$553,MATCH(Databackup!A9,Employee_Name,0))))","v":""},{"$f":"IF(ISERROR(INDEX('Employee Data'!$D$4:$D$553,MATCH(Databackup!A9,Employee_Name,0),0)),\"\",(INDEX('Employee Data'!$D$4:$D$553,MATCH(Databackup!A9,Employee_Name,0))))","v":""},{"$f":"IF(ISERROR(INDEX('Employee Data'!$F$4:$F$553,MATCH(Databackup!A9,Employee_Name,0),0)),\"\",(INDEX('Employee Data'!$F$4:$F$553,MATCH(Databackup!A9,Employee_Name,0))))","v":""},{"$f":"IF(ISERROR(INDEX('Employee Data'!$G$4:$G$553,MATCH(Databackup!A9,Employee_Name,0),0)),\"\",(INDEX('Employee Data'!$G$4:$G$553,MATCH(Databackup!A9,Employee_Name,0))))","v":""},{"$f":"IF(ISERROR(INDEX('Employee Data'!$H$4:$H$553,MATCH(Databackup!A9,Employee_Name,0),0)),\"\",(INDEX('Employee Data'!$H$4:$H$553,MATCH(Databackup!A9,Employee_Name,0))))","v":""},{"$f":"IF(ISERROR(INDEX('Employee Data'!$I$4:$I$553,MATCH(Databackup!A9,Employee_Name,0),0)),\"\",(INDEX('Employee Data'!$I$4:$I$553,MATCH(Databackup!A9,Employee_Name,0))))","v":""},{"$f":"IF(ISERROR(INDEX('Employee Data'!$J$4:$J$553,MATCH(Databackup!A9,Employee_Name,0),0)),\"\",(INDEX('Employee Data'!J$4:$J$553,MATCH(Databackup!A9,Employee_Name,0))))","v":""},{"$f":"IF(ISERROR(INDEX('Employee Data'!$K$4:$K$553,MATCH(Databackup!A9,Employee_Name,0),0)),\"\",(INDEX('Employee Data'!$K$4:$K$553,MATCH(Databackup!A9,Employee_Name,0))))","v":""},{"$f":"IF(ISERROR(INDEX('Employee Data'!$L$4:$L$553,MATCH(Databackup!A9,Employee_Name,0),0)),\"\",(INDEX('Employee Data'!$L$4:$L$553,MATCH(Databackup!A9,Employee_Name,0))))","v":""},{"$f":"IF(ISERROR(INDEX('Employee Data'!$M$4:$M$553,MATCH(Databackup!A9,Employee_Name,0),0)),\"\",(INDEX('Employee Data'!$M$4:$M$553,MATCH(Databackup!A9,Employee_Name,0))))","v":""},{"$f":"IF(ISERROR(INDEX('Employee Data'!$N$4:$N$553,MATCH(Databackup!A9,Employee_Name,0),0)),\"\",(INDEX('Employee Data'!$N$4:$N$553,MATCH(Databackup!A9,Employee_Name,0))))","v":""},{"$f":"IF(ISERROR(INDEX('Employee Data'!$O$4:$O$553,MATCH(Databackup!A9,Employee_Name,0),0)),\"\",(INDEX('Employee Data'!$O$4:$O$553,MATCH(Databackup!A9,Employee_Name,0))))","v":""}]
[{"$f":"INDEX(Employee_Name,MATCH(SMALL(IF($A$1='Employee Data'!$I$4:$I$553,'Employee Data'!$B$4:$B$553,\"\"),ROW('Employee Data'!A8)),IF($A$1='Employee Data'!$I$4:$I$553,'Employee Data'!$B$4:$B$553,\"\"),0))","v":{"$error":"#NUM!"}},{"$f":"IF(ISERROR(INDEX('Employee Data'!$B$4:$B$553,MATCH(Databackup!A10,Employee_Name,0),0)),\"\",(INDEX('Employee Data'!$B$4:$B$553,MATCH(Databackup!A10,Employee_Name,0))))","v":""},{"$f":"IF(ISERROR(INDEX('Employee Data'!$C$4:$C$553,MATCH(Databackup!A10,Employee_Name,0),0)),\"\",(INDEX('Employee Data'!$C$4:$C$553,MATCH(Databackup!A10,Employee_Name,0))))","v":""},{"$f":"IF(ISERROR(INDEX('Employee Data'!$D$4:$D$553,MATCH(Databackup!A10,Employee_Name,0),0)),\"\",(INDEX('Employee Data'!$D$4:$D$553,MATCH(Databackup!A10,Employee_Name,0))))","v":""},{"$f":"IF(ISERROR(INDEX('Employee Data'!$F$4:$F$553,MATCH(Databackup!A10,Employee_Name,0),0)),\"\",(INDEX('Employee Data'!$F$4:$F$553,MATCH(Databackup!A10,Employee_Name,0))))","v":""},{"$f":"IF(ISERROR(INDEX('Employee Data'!$G$4:$G$553,MATCH(Databackup!A10,Employee_Name,0),0)),\"\",(INDEX('Employee Data'!$G$4:$G$553,MATCH(Databackup!A10,Employee_Name,0))))","v":""},{"$f":"IF(ISERROR(INDEX('Employee Data'!$H$4:$H$553,MATCH(Databackup!A10,Employee_Name,0),0)),\"\",(INDEX('Employee Data'!$H$4:$H$553,MATCH(Databackup!A10,Employee_Name,0))))","v":""},{"$f":"IF(ISERROR(INDEX('Employee Data'!$I$4:$I$553,MATCH(Databackup!A10,Employee_Name,0),0)),\"\",(INDEX('Employee Data'!$I$4:$I$553,MATCH(Databackup!A10,Employee_Name,0))))","v":""},{"$f":"IF(ISERROR(INDEX('Employee Data'!$J$4:$J$553,MATCH(Databackup!A10,Employee_Name,0),0)),\"\",(INDEX('Employee Data'!J$4:$J$553,MATCH(Databackup!A10,Employee_Name,0))))","v":""},{"$f":"IF(ISERROR(INDEX('Employee Data'!$K$4:$K$553,MATCH(Databackup!A10,Employee_Name,0),0)),\"\",(INDEX('Employee Data'!$K$4:$K$553,MATCH(Databackup!A10,Employee_Name,0))))","v":""},{"$f":"IF(ISERROR(INDEX('Employee Data'!$L$4:$L$553,MATCH(Databackup!A10,Employee_Name,0),0)),\"\",(INDEX('Employee Data'!$L$4:$L$553,MATCH(Databackup!A10,Employee_Name,0))))","v":""},{"$f":"IF(ISERROR(INDEX('Employee Data'!$M$4:$M$553,MATCH(Databackup!A10,Employee_Name,0),0)),\"\",(INDEX('Employee Data'!$M$4:$M$553,MATCH(Databackup!A10,Employee_Name,0))))","v":""},{"$f":"IF(ISERROR(INDEX('Employee Data'!$N$4:$N$553,MATCH(Databackup!A10,Employee_Name,0),0)),\"\",(INDEX('Employee Data'!$N$4:$N$553,MATCH(Databackup!A10,Employee_Name,0))))","v":""},{"$f":"IF(ISERROR(INDEX('Employee Data'!$O$4:$O$553,MATCH(Databackup!A10,Employee_Name,0),0)),\"\",(INDEX('Employee Data'!$O$4:$O$553,MATCH(Databackup!A10,Employee_Name,0))))","v":""}]
[{"$f":"INDEX(Employee_Name,MATCH(SMALL(IF($A$1='Employee Data'!$I$4:$I$553,'Employee Data'!$B$4:$B$553,\"\"),ROW('Employee Data'!A9)),IF($A$1='Employee Data'!$I$4:$I$553,'Employee Data'!$B$4:$B$553,\"\"),0))","v":{"$error":"#NUM!"}},{"$f":"IF(ISERROR(INDEX('Employee Data'!$B$4:$B$553,MATCH(Databackup!A11,Employee_Name,0),0)),\"\",(INDEX('Employee Data'!$B$4:$B$553,MATCH(Databackup!A11,Employee_Name,0))))","v":""},{"$f":"IF(ISERROR(INDEX('Employee Data'!$C$4:$C$553,MATCH(Databackup!A11,Employee_Name,0),0)),\"\",(INDEX('Employee Data'!$C$4:$C$553,MATCH(Databackup!A11,Employee_Name,0))))","v":""},{"$f":"IF(ISERROR(INDEX('Employee Data'!$D$4:$D$553,MATCH(Databackup!A11,Employee_Name,0),0)),\"\",(INDEX('Employee Data'!$D$4:$D$553,MATCH(Databackup!A11,Employee_Name,0))))","v":""},{"$f":"IF(ISERROR(INDEX('Employee Data'!$F$4:$F$553,MATCH(Databackup!A11,Employee_Name,0),0)),\"\",(INDEX('Employee Data'!$F$4:$F$553,MATCH(Databackup!A11,Employee_Name,0))))","v":""},{"$f":"IF(ISERROR(INDEX('Employee Data'!$G$4:$G$553,MATCH(Databackup!A11,Employee_Name,0),0)),\"\",(INDEX('Employee Data'!$G$4:$G$553,MATCH(Databackup!A11,Employee_Name,0))))","v":""},{"$f":"IF(ISERROR(INDEX('Employee Data'!$H$4:$H$553,MATCH(Databackup!A11,Employee_Name,0),0)),\"\",(INDEX('Employee Data'!$H$4:$H$553,MATCH(Databackup!A11,Employee_Name,0))))","v":""},{"$f":"IF(ISERROR(INDEX('Employee Data'!$I$4:$I$553,MATCH(Databackup!A11,Employee_Name,0),0)),\"\",(INDEX('Employee Data'!$I$4:$I$553,MATCH(Databackup!A11,Employee_Name,0))))","v":""},{"$f":"IF(ISERROR(INDEX('Employee Data'!$J$4:$J$553,MATCH(Databackup!A11,Employee_Name,0),0)),\"\",(INDEX('Employee Data'!J$4:$J$553,MATCH(Databackup!A11,Employee_Name,0))))","v":""},{"$f":"IF(ISERROR(INDEX('Employee Data'!$K$4:$K$553,MATCH(Databackup!A11,Employee_Name,0),0)),\"\",(INDEX('Employee Data'!$K$4:$K$553,MATCH(Databackup!A11,Employee_Name,0))))","v":""},{"$f":"IF(ISERROR(INDEX('Employee Data'!$L$4:$L$553,MATCH(Databackup!A11,Employee_Name,0),0)),\"\",(INDEX('Employee Data'!$L$4:$L$553,MATCH(Databackup!A11,Employee_Name,0))))","v":""},{"$f":"IF(ISERROR(INDEX('Employee Data'!$M$4:$M$553,MATCH(Databackup!A11,Employee_Name,0),0)),\"\",(INDEX('Employee Data'!$M$4:$M$553,MATCH(Databackup!A11,Employee_Name,0))))","v":""},{"$f":"IF(ISERROR(INDEX('Employee Data'!$N$4:$N$553,MATCH(Databackup!A11,Employee_Name,0),0)),\"\",(INDEX('Employee Data'!$N$4:$N$553,MATCH(Databackup!A11,Employee_Name,0))))","v":""},{"$f":"IF(ISERROR(INDEX('Employee Data'!$O$4:$O$553,MATCH(Databackup!A11,Employee_Name,0),0)),\"\",(INDEX('Employee Data'!$O$4:$O$553,MATCH(Databackup!A11,Employee_Name,0))))","v":""}]
[{"$f":"INDEX(Employee_Name,MATCH(SMALL(IF($A$1='Employee Data'!$I$4:$I$553,'Employee Data'!$B$4:$B$553,\"\"),ROW('Employee Data'!A10)),IF($A$1='Employee Data'!$I$4:$I$553,'Employee Data'!$B$4:$B$553,\"\"),0))","v":{"$error":"#NUM!"}},{"$f":"IF(ISERROR(INDEX('Employee Data'!$B$4:$B$553,MATCH(Databackup!A12,Employee_Name,0),0)),\"\",(INDEX('Employee Data'!$B$4:$B$553,MATCH(Databackup!A12,Employee_Name,0))))","v":""},{"$f":"IF(ISERROR(INDEX('Employee Data'!$C$4:$C$553,MATCH(Databackup!A12,Employee_Name,0),0)),\"\",(INDEX('Employee Data'!$C$4:$C$553,MATCH(Databackup!A12,Employee_Name,0))))","v":""},{"$f":"IF(ISERROR(INDEX('Employee Data'!$D$4:$D$553,MATCH(Databackup!A12,Employee_Name,0),0)),\"\",(INDEX('Employee Data'!$D$4:$D$553,MATCH(Databackup!A12,Employee_Name,0))))","v":""},{"$f":"IF(ISERROR(INDEX('Employee Data'!$F$4:$F$553,MATCH(Databackup!A12,Employee_Name,0),0)),\"\",(INDEX('Employee Data'!$F$4:$F$553,MATCH(Databackup!A12,Employee_Name,0))))","v":""},{"$f":"IF(ISERROR(INDEX('Employee Data'!$G$4:$G$553,MATCH(Databackup!A12,Employee_Name,0),0)),\"\",(INDEX('Employee Data'!$G$4:$G$553,MATCH(Databackup!A12,Employee_Name,0))))","v":""},{"$f":"IF(ISERROR(INDEX('Employee Data'!$H$4:$H$553,MATCH(Databackup!A12,Employee_Name,0),0)),\"\",(INDEX('Employee Data'!$H$4:$H$553,MATCH(Databackup!A12,Employee_Name,0))))","v":""},{"$f":"IF(ISERROR(INDEX('Employee Data'!$I$4:$I$553,MATCH(Databackup!A12,Employee_Name,0),0)),\"\",(INDEX('Employee Data'!$I$4:$I$553,MATCH(Databackup!A12,Employee_Name,0))))","v":""},{"$f":"IF(ISERROR(INDEX('Employee Data'!$J$4:$J$553,MATCH(Databackup!A12,Employee_Name,0),0)),\"\",(INDEX('Employee Data'!J$4:$J$553,MATCH(Databackup!A12,Employee_Name,0))))","v":""},{"$f":"IF(ISERROR(INDEX('Employee Data'!$K$4:$K$553,MATCH(Databackup!A12,Employee_Name,0),0)),\"\",(INDEX('Employee Data'!$K$4:$K$553,MATCH(Databackup!A12,Employee_Name,0))))","v":""},{"$f":"IF(ISERROR(INDEX('Employee Data'!$L$4:$L$553,MATCH(Databackup!A12,Employee_Name,0),0)),\"\",(INDEX('Employee Data'!$L$4:$L$553,MATCH(Databackup!A12,Employee_Name,0))))","v":""},{"$f":"IF(ISERROR(INDEX('Employee Data'!$M$4:$M$553,MATCH(Databackup!A12,Employee_Name,0),0)),\"\",(INDEX('Employee Data'!$M$4:$M$553,MATCH(Databackup!A12,Employee_Name,0))))","v":""},{"$f":"IF(ISERROR(INDEX('Employee Data'!$N$4:$N$553,MATCH(Databackup!A12,Employee_Name,0),0)),\"\",(INDEX('Employee Data'!$N$4:$N$553,MATCH(Databackup!A12,Employee_Name,0))))","v":""},{"$f":"IF(ISERROR(INDEX('Employee Data'!$O$4:$O$553,MATCH(Databackup!A12,Employee_Name,0),0)),\"\",(INDEX('Employee Data'!$O$4:$O$553,MATCH(Databackup!A12,Employee_Name,0))))","v":""}]
[{"$f":"INDEX(Employee_Name,MATCH(SMALL(IF($A$1='Employee Data'!$I$4:$I$553,'Employee Data'!$B$4:$B$553,\"\"),ROW('Employee Data'!A11)),IF($A$1='Employee Data'!$I$4:$I$553,'Employee Data'!$B$4:$B$553,\"\"),0))","v":{"$error":"#NUM!"}},{"$f":"IF(ISERROR(INDEX('Employee Data'!$B$4:$B$553,MATCH(Databackup!A13,Employee_Name,0),0)),\"\",(INDEX('Employee Data'!$B$4:$B$553,MATCH(Databackup!A13,Employee_Name,0))))","v":""},{"$f":"IF(ISERROR(INDEX('Employee Data'!$C$4:$C$553,MATCH(Databackup!A13,Employee_Name,0),0)),\"\",(INDEX('Employee Data'!$C$4:$C$553,MATCH(Databackup!A13,Employee_Name,0))))","v":""},{"$f":"IF(ISERROR(INDEX('Employee Data'!$D$4:$D$553,MATCH(Databackup!A13,Employee_Name,0),0)),\"\",(INDEX('Employee Data'!$D$4:$D$553,MATCH(Databackup!A13,Employee_Name,0))))","v":""},{"$f":"IF(ISERROR(INDEX('Employee Data'!$F$4:$F$553,MATCH(Databackup!A13,Employee_Name,0),0)),\"\",(INDEX('Employee Data'!$F$4:$F$553,MATCH(Databackup!A13,Employee_Name,0))))","v":""},{"$f":"IF(ISERROR(INDEX('Employee Data'!$G$4:$G$553,MATCH(Databackup!A13,Employee_Name,0),0)),\"\",(INDEX('Employee Data'!$G$4:$G$553,MATCH(Databackup!A13,Employee_Name,0))))","v":""},{"$f":"IF(ISERROR(INDEX('Employee Data'!$H$4:$H$553,MATCH(Databackup!A13,Employee_Name,0),0)),\"\",(INDEX('Employee Data'!$H$4:$H$553,MATCH(Databackup!A13,Employee_Name,0))))","v":""},{"$f":"IF(ISERROR(INDEX('Employee Data'!$I$4:$I$553,MATCH(Databackup!A13,Employee_Name,0),0)),\"\",(INDEX('Employee Data'!$I$4:$I$553,MATCH(Databackup!A13,Employee_Name,0))))","v":""},{"$f":"IF(ISERROR(INDEX('Employee Data'!$J$4:$J$553,MATCH(Databackup!A13,Employee_Name,0),0)),\"\",(INDEX('Employee Data'!J$4:$J$553,MATCH(Databackup!A13,Employee_Name,0))))","v":""},{"$f":"IF(ISERROR(INDEX('Employee Data'!$K$4:$K$553,MATCH(Databackup!A13,Employee_Name,0),0)),\"\",(INDEX('Employee Data'!$K$4:$K$553,MATCH(Databackup!A13,Employee_Name,0))))","v":""},{"$f":"IF(ISERROR(INDEX('Employee Data'!$L$4:$L$553,MATCH(Databackup!A13,Employee_Name,0),0)),\"\",(INDEX('Employee Data'!$L$4:$L$553,MATCH(Databackup!A13,Employee_Name,0))))","v":""},{"$f":"IF(ISERROR(INDEX('Employee Data'!$M$4:$M$553,MATCH(Databackup!A13,Employee_Name,0),0)),\"\",(INDEX('Employee Data'!$M$4:$M$553,MATCH(Databackup!A13,Employee_Name,0))))","v":""},{"$f":"IF(ISERROR(INDEX('Employee Data'!$N$4:$N$553,MATCH(Databackup!A13,Employee_Name,0),0)),\"\",(INDEX('Employee Data'!$N$4:$N$553,MATCH(Databackup!A13,Employee_Name,0))))","v":""},{"$f":"IF(ISERROR(INDEX('Employee Data'!$O$4:$O$553,MATCH(Databackup!A13,Employee_Name,0),0)),\"\",(INDEX('Employee Data'!$O$4:$O$553,MATCH(Databackup!A13,Employee_Name,0))))","v":""}]
[{"$f":"INDEX(Employee_Name,MATCH(SMALL(IF($A$1='Employee Data'!$I$4:$I$553,'Employee Data'!$B$4:$B$553,\"\"),ROW('Employee Data'!A12)),IF($A$1='Employee Data'!$I$4:$I$553,'Employee Data'!$B$4:$B$553,\"\"),0))","v":{"$error":"#NUM!"}},{"$f":"IF(ISERROR(INDEX('Employee Data'!$B$4:$B$553,MATCH(Databackup!A14,Employee_Name,0),0)),\"\",(INDEX('Employee Data'!$B$4:$B$553,MATCH(Databackup!A14,Employee_Name,0))))","v":""},{"$f":"IF(ISERROR(INDEX('Employee Data'!$C$4:$C$553,MATCH(Databackup!A14,Employee_Name,0),0)),\"\",(INDEX('Employee Data'!$C$4:$C$553,MATCH(Databackup!A14,Employee_Name,0))))","v":""},{"$f":"IF(ISERROR(INDEX('Employee Data'!$D$4:$D$553,MATCH(Databackup!A14,Employee_Name,0),0)),\"\",(INDEX('Employee Data'!$D$4:$D$553,MATCH(Databackup!A14,Employee_Name,0))))","v":""},{"$f":"IF(ISERROR(INDEX('Employee Data'!$F$4:$F$553,MATCH(Databackup!A14,Employee_Name,0),0)),\"\",(INDEX('Employee Data'!$F$4:$F$553,MATCH(Databackup!A14,Employee_Name,0))))","v":""},{"$f":"IF(ISERROR(INDEX('Employee Data'!$G$4:$G$553,MATCH(Databackup!A14,Employee_Name,0),0)),\"\",(INDEX('Employee Data'!$G$4:$G$553,MATCH(Databackup!A14,Employee_Name,0))))","v":""},{"$f":"IF(ISERROR(INDEX('Employee Data'!$H$4:$H$553,MATCH(Databackup!A14,Employee_Name,0),0)),\"\",(INDEX('Employee Data'!$H$4:$H$553,MATCH(Databackup!A14,Employee_Name,0))))","v":""},{"$f":"IF(ISERROR(INDEX('Employee Data'!$I$4:$I$553,MATCH(Databackup!A14,Employee_Name,0),0)),\"\",(INDEX('Employee Data'!$I$4:$I$553,MATCH(Databackup!A14,Employee_Name,0))))","v":""},{"$f":"IF(ISERROR(INDEX('Employee Data'!$J$4:$J$553,MATCH(Databackup!A14,Employee_Name,0),0)),\"\",(INDEX('Employee Data'!J$4:$J$553,MATCH(Databackup!A14,Employee_Name,0))))","v":""},{"$f":"IF(ISERROR(INDEX('Employee Data'!$K$4:$K$553,MATCH(Databackup!A14,Employee_Name,0),0)),\"\",(INDEX('Employee Data'!$K$4:$K$553,MATCH(Databackup!A14,Employee_Name,0))))","v":""},{"$f":"IF(ISERROR(INDEX('Employee Data'!$L$4:$L$553,MATCH(Databackup!A14,Employee_Name,0),0)),\"\",(INDEX('Employee Data'!$L$4:$L$553,MATCH(Databackup!A14,Employee_Name,0))))","v":""},{"$f":"IF(ISERROR(INDEX('Employee Data'!$M$4:$M$553,MATCH(Databackup!A14,Employee_Name,0),0)),\"\",(INDEX('Employee Data'!$M$4:$M$553,MATCH(Databackup!A14,Employee_Name,0))))","v":""},{"$f":"IF(ISERROR(INDEX('Employee Data'!$N$4:$N$553,MATCH(Databackup!A14,Employee_Name,0),0)),\"\",(INDEX('Employee Data'!$N$4:$N$553,MATCH(Databackup!A14,Employee_Name,0))))","v":""},{"$f":"IF(ISERROR(INDEX('Employee Data'!$O$4:$O$553,MATCH(Databackup!A14,Employee_Name,0),0)),\"\",(INDEX('Employee Data'!$O$4:$O$553,MATCH(Databackup!A14,Employee_Name,0))))","v":""}]
[{"$f":"INDEX(Employee_Name,MATCH(SMALL(IF($A$1='Employee Data'!$I$4:$I$553,'Employee Data'!$B$4:$B$553,\"\"),ROW('Employee Data'!A13)),IF($A$1='Employee Data'!$I$4:$I$553,'Employee Data'!$B$4:$B$553,\"\"),0))","v":{"$error":"#NUM!"}},{"$f":"IF(ISERROR(INDEX('Employee Data'!$B$4:$B$553,MATCH(Databackup!A15,Employee_Name,0),0)),\"\",(INDEX('Employee Data'!$B$4:$B$553,MATCH(Databackup!A15,Employee_Name,0))))","v":""},{"$f":"IF(ISERROR(INDEX('Employee Data'!$C$4:$C$553,MATCH(Databackup!A15,Employee_Name,0),0)),\"\",(INDEX('Employee Data'!$C$4:$C$553,MATCH(Databackup!A15,Employee_Name,0))))","v":""},{"$f":"IF(ISERROR(INDEX('Employee Data'!$D$4:$D$553,MATCH(Databackup!A15,Employee_Name,0),0)),\"\",(INDEX('Employee Data'!$D$4:$D$553,MATCH(Databackup!A15,Employee_Name,0))))","v":""},{"$f":"IF(ISERROR(INDEX('Employee Data'!$F$4:$F$553,MATCH(Databackup!A15,Employee_Name,0),0)),\"\",(INDEX('Employee Data'!$F$4:$F$553,MATCH(Databackup!A15,Employee_Name,0))))","v":""},{"$f":"IF(ISERROR(INDEX('Employee Data'!$G$4:$G$553,MATCH(Databackup!A15,Employee_Name,0),0)),\"\",(INDEX('Employee Data'!$G$4:$G$553,MATCH(Databackup!A15,Employee_Name,0))))","v":""},{"$f":"IF(ISERROR(INDEX('Employee Data'!$H$4:$H$553,MATCH(Databackup!A15,Employee_Name,0),0)),\"\",(INDEX('Employee Data'!$H$4:$H$553,MATCH(Databackup!A15,Employee_Name,0))))","v":""},{"$f":"IF(ISERROR(INDEX('Employee Data'!$I$4:$I$553,MATCH(Databackup!A15,Employee_Name,0),0)),\"\",(INDEX('Employee Data'!$I$4:$I$553,MATCH(Databackup!A15,Employee_Name,0))))","v":""},{"$f":"IF(ISERROR(INDEX('Employee Data'!$J$4:$J$553,MATCH(Databackup!A15,Employee_Name,0),0)),\"\",(INDEX('Employee Data'!J$4:$J$553,MATCH(Databackup!A15,Employee_Name,0))))","v":""},{"$f":"IF(ISERROR(INDEX('Employee Data'!$K$4:$K$553,MATCH(Databackup!A15,Employee_Name,0),0)),\"\",(INDEX('Employee Data'!$K$4:$K$553,MATCH(Databackup!A15,Employee_Name,0))))","v":""},{"$f":"IF(ISERROR(INDEX('Employee Data'!$L$4:$L$553,MATCH(Databackup!A15,Employee_Name,0),0)),\"\",(INDEX('Employee Data'!$L$4:$L$553,MATCH(Databackup!A15,Employee_Name,0))))","v":""},{"$f":"IF(ISERROR(INDEX('Employee Data'!$M$4:$M$553,MATCH(Databackup!A15,Employee_Name,0),0)),\"\",(INDEX('Employee Data'!$M$4:$M$553,MATCH(Databackup!A15,Employee_Name,0))))","v":""},{"$f":"IF(ISERROR(INDEX('Employee Data'!$N$4:$N$553,MATCH(Databackup!A15,Employee_Name,0),0)),\"\",(INDEX('Employee Data'!$N$4:$N$553,MATCH(Databackup!A15,Employee_Name,0))))","v":""},{"$f":"IF(ISERROR(INDEX('Employee Data'!$O$4:$O$553,MATCH(Databackup!A15,Employee_Name,0),0)),\"\",(INDEX('Employee Data'!$O$4:$O$553,MATCH(Databackup!A15,Employee_Name,0))))","v":""}]
[{"$f":"INDEX(Employee_Name,MATCH(SMALL(IF($A$1='Employee Data'!$I$4:$I$553,'Employee Data'!$B$4:$B$553,\"\"),ROW('Employee Data'!A14)),IF($A$1='Employee Data'!$I$4:$I$553,'Employee Data'!$B$4:$B$553,\"\"),0))","v":{"$error":"#NUM!"}},{"$f":"IF(ISERROR(INDEX('Employee Data'!$B$4:$B$553,MATCH(Databackup!A16,Employee_Name,0),0)),\"\",(INDEX('Employee Data'!$B$4:$B$553,MATCH(Databackup!A16,Employee_Name,0))))","v":""},{"$f":"IF(ISERROR(INDEX('Employee Data'!$C$4:$C$553,MATCH(Databackup!A16,Employee_Name,0),0)),\"\",(INDEX('Employee Data'!$C$4:$C$553,MATCH(Databackup!A16,Employee_Name,0))))","v":""},{"$f":"IF(ISERROR(INDEX('Employee Data'!$D$4:$D$553,MATCH(Databackup!A16,Employee_Name,0),0)),\"\",(INDEX('Employee Data'!$D$4:$D$553,MATCH(Databackup!A16,Employee_Name,0))))","v":""},{"$f":"IF(ISERROR(INDEX('Employee Data'!$F$4:$F$553,MATCH(Databackup!A16,Employee_Name,0),0)),\"\",(INDEX('Employee Data'!$F$4:$F$553,MATCH(Databackup!A16,Employee_Name,0))))","v":""},{"$f":"IF(ISERROR(INDEX('Employee Data'!$G$4:$G$553,MATCH(Databackup!A16,Employee_Name,0),0)),\"\",(INDEX('Employee Data'!$G$4:$G$553,MATCH(Databackup!A16,Employee_Name,0))))","v":""},{"$f":"IF(ISERROR(INDEX('Employee Data'!$H$4:$H$553,MATCH(Databackup!A16,Employee_Name,0),0)),\"\",(INDEX('Employee Data'!$H$4:$H$553,MATCH(Databackup!A16,Employee_Name,0))))","v":""},{"$f":"IF(ISERROR(INDEX('Employee Data'!$I$4:$I$553,MATCH(Databackup!A16,Employee_Name,0),0)),\"\",(INDEX('Employee Data'!$I$4:$I$553,MATCH(Databackup!A16,Employee_Name,0))))","v":""},{"$f":"IF(ISERROR(INDEX('Employee Data'!$J$4:$J$553,MATCH(Databackup!A16,Employee_Name,0),0)),\"\",(INDEX('Employee Data'!J$4:$J$553,MATCH(Databackup!A16,Employee_Name,0))))","v":""},{"$f":"IF(ISERROR(INDEX('Employee Data'!$K$4:$K$553,MATCH(Databackup!A16,Employee_Name,0),0)),\"\",(INDEX('Employee Data'!$K$4:$K$553,MATCH(Databackup!A16,Employee_Name,0))))","v":""},{"$f":"IF(ISERROR(INDEX('Employee Data'!$L$4:$L$553,MATCH(Databackup!A16,Employee_Name,0),0)),\"\",(INDEX('Employee Data'!$L$4:$L$553,MATCH(Databackup!A16,Employee_Name,0))))","v":""},{"$f":"IF(ISERROR(INDEX('Employee Data'!$M$4:$M$553,MATCH(Databackup!A16,Employee_Name,0),0)),\"\",(INDEX('Employee Data'!$M$4:$M$553,MATCH(Databackup!A16,Employee_Name,0))))","v":""},{"$f":"IF(ISERROR(INDEX('Employee Data'!$N$4:$N$553,MATCH(Databackup!A16,Employee_Name,0),0)),\"\",(INDEX('Employee Data'!$N$4:$N$553,MATCH(Databackup!A16,Employee_Name,0))))","v":""},{"$f":"IF(ISERROR(INDEX('Employee Data'!$O$4:$O$553,MATCH(Databackup!A16,Employee_Name,0),0)),\"\",(INDEX('Employee Data'!$O$4:$O$553,MATCH(Databackup!A16,Employee_Name,0))))","v":""}]
[{"$f":"INDEX(Employee_Name,MATCH(SMALL(IF($A$1='Employee Data'!$I$4:$I$553,'Employee Data'!$B$4:$B$553,\"\"),ROW('Employee Data'!A15)),IF($A$1='Employee Data'!$I$4:$I$553,'Employee Data'!$B$4:$B$553,\"\"),0))","v":{"$error":"#NUM!"}},{"$f":"IF(ISERROR(INDEX('Employee Data'!$B$4:$B$553,MATCH(Databackup!A17,Employee_Name,0),0)),\"\",(INDEX('Employee Data'!$B$4:$B$553,MATCH(Databackup!A17,Employee_Name,0))))","v":""},{"$f":"IF(ISERROR(INDEX('Employee Data'!$C$4:$C$553,MATCH(Databackup!A17,Employee_Name,0),0)),\"\",(INDEX('Employee Data'!$C$4:$C$553,MATCH(Databackup!A17,Employee_Name,0))))","v":""},{"$f":"IF(ISERROR(INDEX('Employee Data'!$D$4:$D$553,MATCH(Databackup!A17,Employee_Name,0),0)),\"\",(INDEX('Employee Data'!$D$4:$D$553,MATCH(Databackup!A17,Employee_Name,0))))","v":""},{"$f":"IF(ISERROR(INDEX('Employee Data'!$F$4:$F$553,MATCH(Databackup!A17,Employee_Name,0),0)),\"\",(INDEX('Employee Data'!$F$4:$F$553,MATCH(Databackup!A17,Employee_Name,0))))","v":""},{"$f":"IF(ISERROR(INDEX('Employee Data'!$G$4:$G$553,MATCH(Databackup!A17,Employee_Name,0),0)),\"\",(INDEX('Employee Data'!$G$4:$G$553,MATCH(Databackup!A17,Employee_Name,0))))","v":""},{"$f":"IF(ISERROR(INDEX('Employee Data'!$H$4:$H$553,MATCH(Databackup!A17,Employee_Name,0),0)),\"\",(INDEX('Employee Data'!$H$4:$H$553,MATCH(Databackup!A17,Employee_Name,0))))","v":""},{"$f":"IF(ISERROR(INDEX('Employee Data'!$I$4:$I$553,MATCH(Databackup!A17,Employee_Name,0),0)),\"\",(INDEX('Employee Data'!$I$4:$I$553,MATCH(Databackup!A17,Employee_Name,0))))","v":""},{"$f":"IF(ISERROR(INDEX('Employee Data'!$J$4:$J$553,MATCH(Databackup!A17,Employee_Name,0),0)),\"\",(INDEX('Employee Data'!J$4:$J$553,MATCH(Databackup!A17,Employee_Name,0))))","v":""},{"$f":"IF(ISERROR(INDEX('Employee Data'!$K$4:$K$553,MATCH(Databackup!A17,Employee_Name,0),0)),\"\",(INDEX('Employee Data'!$K$4:$K$553,MATCH(Databackup!A17,Employee_Name,0))))","v":""},{"$f":"IF(ISERROR(INDEX('Employee Data'!$L$4:$L$553,MATCH(Databackup!A17,Employee_Name,0),0)),\"\",(INDEX('Employee Data'!$L$4:$L$553,MATCH(Databackup!A17,Employee_Name,0))))","v":""},{"$f":"IF(ISERROR(INDEX('Employee Data'!$M$4:$M$553,MATCH(Databackup!A17,Employee_Name,0),0)),\"\",(INDEX('Employee Data'!$M$4:$M$553,MATCH(Databackup!A17,Employee_Name,0))))","v":""},{"$f":"IF(ISERROR(INDEX('Employee Data'!$N$4:$N$553,MATCH(Databackup!A17,Employee_Name,0),0)),\"\",(INDEX('Employee Data'!$N$4:$N$553,MATCH(Databackup!A17,Employee_Name,0))))","v":""},{"$f":"IF(ISERROR(INDEX('Employee Data'!$O$4:$O$553,MATCH(Databackup!A17,Employee_Name,0),0)),\"\",(INDEX('Employee Data'!$O$4:$O$553,MATCH(Databackup!A17,Employee_Name,0))))","v":""}]
[{"$f":"INDEX(Employee_Name,MATCH(SMALL(IF($A$1='Employee Data'!$I$4:$I$553,'Employee Data'!$B$4:$B$553,\"\"),ROW('Employee Data'!A16)),IF($A$1='Employee Data'!$I$4:$I$553,'Employee Data'!$B$4:$B$553,\"\"),0))","v":{"$error":"#NUM!"}},{"$f":"IF(ISERROR(INDEX('Employee Data'!$B$4:$B$553,MATCH(Databackup!A18,Employee_Name,0),0)),\"\",(INDEX('Employee Data'!$B$4:$B$553,MATCH(Databackup!A18,Employee_Name,0))))","v":""},{"$f":"IF(ISERROR(INDEX('Employee Data'!$C$4:$C$553,MATCH(Databackup!A18,Employee_Name,0),0)),\"\",(INDEX('Employee Data'!$C$4:$C$553,MATCH(Databackup!A18,Employee_Name,0))))","v":""},{"$f":"IF(ISERROR(INDEX('Employee Data'!$D$4:$D$553,MATCH(Databackup!A18,Employee_Name,0),0)),\"\",(INDEX('Employee Data'!$D$4:$D$553,MATCH(Databackup!A18,Employee_Name,0))))","v":""},{"$f":"IF(ISERROR(INDEX('Employee Data'!$F$4:$F$553,MATCH(Databackup!A18,Employee_Name,0),0)),\"\",(INDEX('Employee Data'!$F$4:$F$553,MATCH(Databackup!A18,Employee_Name,0))))","v":""},{"$f":"IF(ISERROR(INDEX('Employee Data'!$G$4:$G$553,MATCH(Databackup!A18,Employee_Name,0),0)),\"\",(INDEX('Employee Data'!$G$4:$G$553,MATCH(Databackup!A18,Employee_Name,0))))","v":""},{"$f":"IF(ISERROR(INDEX('Employee Data'!$H$4:$H$553,MATCH(Databackup!A18,Employee_Name,0),0)),\"\",(INDEX('Employee Data'!$H$4:$H$553,MATCH(Databackup!A18,Employee_Name,0))))","v":""},{"$f":"IF(ISERROR(INDEX('Employee Data'!$I$4:$I$553,MATCH(Databackup!A18,Employee_Name,0),0)),\"\",(INDEX('Employee Data'!$I$4:$I$553,MATCH(Databackup!A18,Employee_Name,0))))","v":""},{"$f":"IF(ISERROR(INDEX('Employee Data'!$J$4:$J$553,MATCH(Databackup!A18,Employee_Name,0),0)),\"\",(INDEX('Employee Data'!J$4:$J$553,MATCH(Databackup!A18,Employee_Name,0))))","v":""},{"$f":"IF(ISERROR(INDEX('Employee Data'!$K$4:$K$553,MATCH(Databackup!A18,Employee_Name,0),0)),\"\",(INDEX('Employee Data'!$K$4:$K$553,MATCH(Databackup!A18,Employee_Name,0))))","v":""},{"$f":"IF(ISERROR(INDEX('Employee Data'!$L$4:$L$553,MATCH(Databackup!A18,Employee_Name,0),0)),\"\",(INDEX('Employee Data'!$L$4:$L$553,MATCH(Databackup!A18,Employee_Name,0))))","v":""},{"$f":"IF(ISERROR(INDEX('Employee Data'!$M$4:$M$553,MATCH(Databackup!A18,Employee_Name,0),0)),\"\",(INDEX('Employee Data'!$M$4:$M$553,MATCH(Databackup!A18,Employee_Name,0))))","v":""},{"$f":"IF(ISERROR(INDEX('Employee Data'!$N$4:$N$553,MATCH(Databackup!A18,Employee_Name,0),0)),\"\",(INDEX('Employee Data'!$N$4:$N$553,MATCH(Databackup!A18,Employee_Name,0))))","v":""},{"$f":"IF(ISERROR(INDEX('Employee Data'!$O$4:$O$553,MATCH(Databackup!A18,Employee_Name,0),0)),\"\",(INDEX('Employee Data'!$O$4:$O$553,MATCH(Databackup!A18,Employee_Name,0))))","v":""}]
[{"$f":"INDEX(Employee_Name,MATCH(SMALL(IF($A$1='Employee Data'!$I$4:$I$553,'Employee Data'!$B$4:$B$553,\"\"),ROW('Employee Data'!A17)),IF($A$1='Employee Data'!$I$4:$I$553,'Employee Data'!$B$4:$B$553,\"\"),0))","v":{"$error":"#NUM!"}},{"$f":"IF(ISERROR(INDEX('Employee Data'!$B$4:$B$553,MATCH(Databackup!A19,Employee_Name,0),0)),\"\",(INDEX('Employee Data'!$B$4:$B$553,MATCH(Databackup!A19,Employee_Name,0))))","v":""},{"$f":"IF(ISERROR(INDEX('Employee Data'!$C$4:$C$553,MATCH(Databackup!A19,Employee_Name,0),0)),\"\",(INDEX('Employee Data'!$C$4:$C$553,MATCH(Databackup!A19,Employee_Name,0))))","v":""},{"$f":"IF(ISERROR(INDEX('Employee Data'!$D$4:$D$553,MATCH(Databackup!A19,Employee_Name,0),0)),\"\",(INDEX('Employee Data'!$D$4:$D$553,MATCH(Databackup!A19,Employee_Name,0))))","v":""},{"$f":"IF(ISERROR(INDEX('Employee Data'!$F$4:$F$553,MATCH(Databackup!A19,Employee_Name,0),0)),\"\",(INDEX('Employee Data'!$F$4:$F$553,MATCH(Databackup!A19,Employee_Name,0))))","v":""},{"$f":"IF(ISERROR(INDEX('Employee Data'!$G$4:$G$553,MATCH(Databackup!A19,Employee_Name,0),0)),\"\",(INDEX('Employee Data'!$G$4:$G$553,MATCH(Databackup!A19,Employee_Name,0))))","v":""},{"$f":"IF(ISERROR(INDEX('Employee Data'!$H$4:$H$553,MATCH(Databackup!A19,Employee_Name,0),0)),\"\",(INDEX('Employee Data'!$H$4:$H$553,MATCH(Databackup!A19,Employee_Name,0))))","v":""},{"$f":"IF(ISERROR(INDEX('Employee Data'!$I$4:$I$553,MATCH(Databackup!A19,Employee_Name,0),0)),\"\",(INDEX('Employee Data'!$I$4:$I$553,MATCH(Databackup!A19,Employee_Name,0))))","v":""},{"$f":"IF(ISERROR(INDEX('Employee Data'!$J$4:$J$553,MATCH(Databackup!A19,Employee_Name,0),0)),\"\",(INDEX('Employee Data'!J$4:$J$553,MATCH(Databackup!A19,Employee_Name,0))))","v":""},{"$f":"IF(ISERROR(INDEX('Employee Data'!$K$4:$K$553,MATCH(Databackup!A19,Employee_Name,0),0)),\"\",(INDEX('Employee Data'!$K$4:$K$553,MATCH(Databackup!A19,Employee_Name,0))))","v":""},{"$f":"IF(ISERROR(INDEX('Employee Data'!$L$4:$L$553,MATCH(Databackup!A19,Employee_Name,0),0)),\"\",(INDEX('Employee Data'!$L$4:$L$553,MATCH(Databackup!A19,Employee_Name,0))))","v":""},{"$f":"IF(ISERROR(INDEX('Employee Data'!$M$4:$M$553,MATCH(Databackup!A19,Employee_Name,0),0)),\"\",(INDEX('Employee Data'!$M$4:$M$553,MATCH(Databackup!A19,Employee_Name,0))))","v":""},{"$f":"IF(ISERROR(INDEX('Employee Data'!$N$4:$N$553,MATCH(Databackup!A19,Employee_Name,0),0)),\"\",(INDEX('Employee Data'!$N$4:$N$553,MATCH(Databackup!A19,Employee_Name,0))))","v":""},{"$f":"IF(ISERROR(INDEX('Employee Data'!$O$4:$O$553,MATCH(Databackup!A19,Employee_Name,0),0)),\"\",(INDEX('Employee Data'!$O$4:$O$553,MATCH(Databackup!A19,Employee_Name,0))))","v":""}]
[{"$f":"INDEX(Employee_Name,MATCH(SMALL(IF($A$1='Employee Data'!$I$4:$I$553,'Employee Data'!$B$4:$B$553,\"\"),ROW('Employee Data'!A18)),IF($A$1='Employee Data'!$I$4:$I$553,'Employee Data'!$B$4:$B$553,\"\"),0))","v":{"$error":"#NUM!"}},{"$f":"IF(ISERROR(INDEX('Employee Data'!$B$4:$B$553,MATCH(Databackup!A20,Employee_Name,0),0)),\"\",(INDEX('Employee Data'!$B$4:$B$553,MATCH(Databackup!A20,Employee_Name,0))))","v":""},{"$f":"IF(ISERROR(INDEX('Employee Data'!$C$4:$C$553,MATCH(Databackup!A20,Employee_Name,0),0)),\"\",(INDEX('Employee Data'!$C$4:$C$553,MATCH(Databackup!A20,Employee_Name,0))))","v":""},{"$f":"IF(ISERROR(INDEX('Employee Data'!$D$4:$D$553,MATCH(Databackup!A20,Employee_Name,0),0)),\"\",(INDEX('Employee Data'!$D$4:$D$553,MATCH(Databackup!A20,Employee_Name,0))))","v":""},{"$f":"IF(ISERROR(INDEX('Employee Data'!$F$4:$F$553,MATCH(Databackup!A20,Employee_Name,0),0)),\"\",(INDEX('Employee Data'!$F$4:$F$553,MATCH(Databackup!A20,Employee_Name,0))))","v":""},{"$f":"IF(ISERROR(INDEX('Employee Data'!$G$4:$G$553,MATCH(Databackup!A20,Employee_Name,0),0)),\"\",(INDEX('Employee Data'!$G$4:$G$553,MATCH(Databackup!A20,Employee_Name,0))))","v":""},{"$f":"IF(ISERROR(INDEX('Employee Data'!$H$4:$H$553,MATCH(Databackup!A20,Employee_Name,0),0)),\"\",(INDEX('Employee Data'!$H$4:$H$553,MATCH(Databackup!A20,Employee_Name,0))))","v":""},{"$f":"IF(ISERROR(INDEX('Employee Data'!$I$4:$I$553,MATCH(Databackup!A20,Employee_Name,0),0)),\"\",(INDEX('Employee Data'!$I$4:$I$553,MATCH(Databackup!A20,Employee_Name,0))))","v":""},{"$f":"IF(ISERROR(INDEX('Employee Data'!$J$4:$J$553,MATCH(Databackup!A20,Employee_Name,0),0)),\"\",(INDEX('Employee Data'!J$4:$J$553,MATCH(Databackup!A20,Employee_Name,0))))","v":""},{"$f":"IF(ISERROR(INDEX('Employee Data'!$K$4:$K$553,MATCH(Databackup!A20,Employee_Name,0),0)),\"\",(INDEX('Employee Data'!$K$4:$K$553,MATCH(Databackup!A20,Employee_Name,0))))","v":""},{"$f":"IF(ISERROR(INDEX('Employee Data'!$L$4:$L$553,MATCH(Databackup!A20,Employee_Name,0),0)),\"\",(INDEX('Employee Data'!$L$4:$L$553,MATCH(Databackup!A20,Employee_Name,0))))","v":""},{"$f":"IF(ISERROR(INDEX('Employee Data'!$M$4:$M$553,MATCH(Databackup!A20,Employee_Name,0),0)),\"\",(INDEX('Employee Data'!$M$4:$M$553,MATCH(Databackup!A20,Employee_Name,0))))","v":""},{"$f":"IF(ISERROR(INDEX('Employee Data'!$N$4:$N$553,MATCH(Databackup!A20,Employee_Name,0),0)),\"\",(INDEX('Employee Data'!$N$4:$N$553,MATCH(Databackup!A20,Employee_Name,0))))","v":""},{"$f":"IF(ISERROR(INDEX('Employee Data'!$O$4:$O$553,MATCH(Databackup!A20,Employee_Name,0),0)),\"\",(INDEX('Employee Data'!$O$4:$O$553,MATCH(Databackup!A20,Employee_Name,0))))","v":""}]
[{"$f":"INDEX(Employee_Name,MATCH(SMALL(IF($A$1='Employee Data'!$I$4:$I$553,'Employee Data'!$B$4:$B$553,\"\"),ROW('Employee Data'!A19)),IF($A$1='Employee Data'!$I$4:$I$553,'Employee Data'!$B$4:$B$553,\"\"),0))","v":{"$error":"#NUM!"}},{"$f":"IF(ISERROR(INDEX('Employee Data'!$B$4:$B$553,MATCH(Databackup!A21,Employee_Name,0),0)),\"\",(INDEX('Employee Data'!$B$4:$B$553,MATCH(Databackup!A21,Employee_Name,0))))","v":""},{"$f":"IF(ISERROR(INDEX('Employee Data'!$C$4:$C$553,MATCH(Databackup!A21,Employee_Name,0),0)),\"\",(INDEX('Employee Data'!$C$4:$C$553,MATCH(Databackup!A21,Employee_Name,0))))","v":""},{"$f":"IF(ISERROR(INDEX('Employee Data'!$D$4:$D$553,MATCH(Databackup!A21,Employee_Name,0),0)),\"\",(INDEX('Employee Data'!$D$4:$D$553,MATCH(Databackup!A21,Employee_Name,0))))","v":""},{"$f":"IF(ISERROR(INDEX('Employee Data'!$F$4:$F$553,MATCH(Databackup!A21,Employee_Name,0),0)),\"\",(INDEX('Employee Data'!$F$4:$F$553,MATCH(Databackup!A21,Employee_Name,0))))","v":""},{"$f":"IF(ISERROR(INDEX('Employee Data'!$G$4:$G$553,MATCH(Databackup!A21,Employee_Name,0),0)),\"\",(INDEX('Employee Data'!$G$4:$G$553,MATCH(Databackup!A21,Employee_Name,0))))","v":""},{"$f":"IF(ISERROR(INDEX('Employee Data'!$H$4:$H$553,MATCH(Databackup!A21,Employee_Name,0),0)),\"\",(INDEX('Employee Data'!$H$4:$H$553,MATCH(Databackup!A21,Employee_Name,0))))","v":""},{"$f":"IF(ISERROR(INDEX('Employee Data'!$I$4:$I$553,MATCH(Databackup!A21,Employee_Name,0),0)),\"\",(INDEX('Employee Data'!$I$4:$I$553,MATCH(Databackup!A21,Employee_Name,0))))","v":""},{"$f":"IF(ISERROR(INDEX('Employee Data'!$J$4:$J$553,MATCH(Databackup!A21,Employee_Name,0),0)),\"\",(INDEX('Employee Data'!J$4:$J$553,MATCH(Databackup!A21,Employee_Name,0))))","v":""},{"$f":"IF(ISERROR(INDEX('Employee Data'!$K$4:$K$553,MATCH(Databackup!A21,Employee_Name,0),0)),\"\",(INDEX('Employee Data'!$K$4:$K$553,MATCH(Databackup!A21,Employee_Name,0))))","v":""},{"$f":"IF(ISERROR(INDEX('Employee Data'!$L$4:$L$553,MATCH(Databackup!A21,Employee_Name,0),0)),\"\",(INDEX('Employee Data'!$L$4:$L$553,MATCH(Databackup!A21,Employee_Name,0))))","v":""},{"$f":"IF(ISERROR(INDEX('Employee Data'!$M$4:$M$553,MATCH(Databackup!A21,Employee_Name,0),0)),\"\",(INDEX('Employee Data'!$M$4:$M$553,MATCH(Databackup!A21,Employee_Name,0))))","v":""},{"$f":"IF(ISERROR(INDEX('Employee Data'!$N$4:$N$553,MATCH(Databackup!A21,Employee_Name,0),0)),\"\",(INDEX('Employee Data'!$N$4:$N$553,MATCH(Databackup!A21,Employee_Name,0))))","v":""},{"$f":"IF(ISERROR(INDEX('Employee Data'!$O$4:$O$553,MATCH(Databackup!A21,Employee_Name,0),0)),\"\",(INDEX('Employee Data'!$O$4:$O$553,MATCH(Databackup!A21,Employee_Name,0))))","v":""}]
[{"$f":"INDEX(Employee_Name,MATCH(SMALL(IF($A$1='Employee Data'!$I$4:$I$553,'Employee Data'!$B$4:$B$553,\"\"),ROW('Employee Data'!A20)),IF($A$1='Employee Data'!$I$4:$I$553,'Employee Data'!$B$4:$B$553,\"\"),0))","v":{"$error":"#NUM!"}},{"$f":"IF(ISERROR(INDEX('Employee Data'!$B$4:$B$553,MATCH(Databackup!A22,Employee_Name,0),0)),\"\",(INDEX('Employee Data'!$B$4:$B$553,MATCH(Databackup!A22,Employee_Name,0))))","v":""},{"$f":"IF(ISERROR(INDEX('Employee Data'!$C$4:$C$553,MATCH(Databackup!A22,Employee_Name,0),0)),\"\",(INDEX('Employee Data'!$C$4:$C$553,MATCH(Databackup!A22,Employee_Name,0))))","v":""},{"$f":"IF(ISERROR(INDEX('Employee Data'!$D$4:$D$553,MATCH(Databackup!A22,Employee_Name,0),0)),\"\",(INDEX('Employee Data'!$D$4:$D$553,MATCH(Databackup!A22,Employee_Name,0))))","v":""},{"$f":"IF(ISERROR(INDEX('Employee Data'!$F$4:$F$553,MATCH(Databackup!A22,Employee_Name,0),0)),\"\",(INDEX('Employee Data'!$F$4:$F$553,MATCH(Databackup!A22,Employee_Name,0))))","v":""},{"$f":"IF(ISERROR(INDEX('Employee Data'!$G$4:$G$553,MATCH(Databackup!A22,Employee_Name,0),0)),\"\",(INDEX('Employee Data'!$G$4:$G$553,MATCH(Databackup!A22,Employee_Name,0))))","v":""},{"$f":"IF(ISERROR(INDEX('Employee Data'!$H$4:$H$553,MATCH(Databackup!A22,Employee_Name,0),0)),\"\",(INDEX('Employee Data'!$H$4:$H$553,MATCH(Databackup!A22,Employee_Name,0))))","v":""},{"$f":"IF(ISERROR(INDEX('Employee Data'!$I$4:$I$553,MATCH(Databackup!A22,Employee_Name,0),0)),\"\",(INDEX('Employee Data'!$I$4:$I$553,MATCH(Databackup!A22,Employee_Name,0))))","v":""},{"$f":"IF(ISERROR(INDEX('Employee Data'!$J$4:$J$553,MATCH(Databackup!A22,Employee_Name,0),0)),\"\",(INDEX('Employee Data'!J$4:$J$553,MATCH(Databackup!A22,Employee_Name,0))))","v":""},{"$f":"IF(ISERROR(INDEX('Employee Data'!$K$4:$K$553,MATCH(Databackup!A22,Employee_Name,0),0)),\"\",(INDEX('Employee Data'!$K$4:$K$553,MATCH(Databackup!A22,Employee_Name,0))))","v":""},{"$f":"IF(ISERROR(INDEX('Employee Data'!$L$4:$L$553,MATCH(Databackup!A22,Employee_Name,0),0)),\"\",(INDEX('Employee Data'!$L$4:$L$553,MATCH(Databackup!A22,Employee_Name,0))))","v":""},{"$f":"IF(ISERROR(INDEX('Employee Data'!$M$4:$M$553,MATCH(Databackup!A22,Employee_Name,0),0)),\"\",(INDEX('Employee Data'!$M$4:$M$553,MATCH(Databackup!A22,Employee_Name,0))))","v":""},{"$f":"IF(ISERROR(INDEX('Employee Data'!$N$4:$N$553,MATCH(Databackup!A22,Employee_Name,0),0)),\"\",(INDEX('Employee Data'!$N$4:$N$553,MATCH(Databackup!A22,Employee_Name,0))))","v":""},{"$f":"IF(ISERROR(INDEX('Employee Data'!$O$4:$O$553,MATCH(Databackup!A22,Employee_Name,0),0)),\"\",(INDEX('Employee Data'!$O$4:$O$553,MATCH(Databackup!A22,Employee_Name,0))))","v":""}]
[{"$f":"INDEX(Employee_Name,MATCH(SMALL(IF($A$1='Employee Data'!$I$4:$I$553,'Employee Data'!$B$4:$B$553,\"\"),ROW('Employee Data'!A21)),IF($A$1='Employee Data'!$I$4:$I$553,'Employee Data'!$B$4:$B$553,\"\"),0))","v":{"$error":"#NUM!"}},{"$f":"IF(ISERROR(INDEX('Employee Data'!$B$4:$B$553,MATCH(Databackup!A23,Employee_Name,0),0)),\"\",(INDEX('Employee Data'!$B$4:$B$553,MATCH(Databackup!A23,Employee_Name,0))))","v":""},{"$f":"IF(ISERROR(INDEX('Employee Data'!$C$4:$C$553,MATCH(Databackup!A23,Employee_Name,0),0)),\"\",(INDEX('Employee Data'!$C$4:$C$553,MATCH(Databackup!A23,Employee_Name,0))))","v":""},{"$f":"IF(ISERROR(INDEX('Employee Data'!$D$4:$D$553,MATCH(Databackup!A23,Employee_Name,0),0)),\"\",(INDEX('Employee Data'!$D$4:$D$553,MATCH(Databackup!A23,Employee_Name,0))))","v":""},{"$f":"IF(ISERROR(INDEX('Employee Data'!$F$4:$F$553,MATCH(Databackup!A23,Employee_Name,0),0)),\"\",(INDEX('Employee Data'!$F$4:$F$553,MATCH(Databackup!A23,Employee_Name,0))))","v":""},{"$f":"IF(ISERROR(INDEX('Employee Data'!$G$4:$G$553,MATCH(Databackup!A23,Employee_Name,0),0)),\"\",(INDEX('Employee Data'!$G$4:$G$553,MATCH(Databackup!A23,Employee_Name,0))))","v":""},{"$f":"IF(ISERROR(INDEX('Employee Data'!$H$4:$H$553,MATCH(Databackup!A23,Employee_Name,0),0)),\"\",(INDEX('Employee Data'!$H$4:$H$553,MATCH(Databackup!A23,Employee_Name,0))))","v":""},{"$f":"IF(ISERROR(INDEX('Employee Data'!$I$4:$I$553,MATCH(Databackup!A23,Employee_Name,0),0)),\"\",(INDEX('Employee Data'!$I$4:$I$553,MATCH(Databackup!A23,Employee_Name,0))))","v":""},{"$f":"IF(ISERROR(INDEX('Employee Data'!$J$4:$J$553,MATCH(Databackup!A23,Employee_Name,0),0)),\"\",(INDEX('Employee Data'!J$4:$J$553,MATCH(Databackup!A23,Employee_Name,0))))","v":""},{"$f":"IF(ISERROR(INDEX('Employee Data'!$K$4:$K$553,MATCH(Databackup!A23,Employee_Name,0),0)),\"\",(INDEX('Employee Data'!$K$4:$K$553,MATCH(Databackup!A23,Employee_Name,0))))","v":""},{"$f":"IF(ISERROR(INDEX('Employee Data'!$L$4:$L$553,MATCH(Databackup!A23,Employee_Name,0),0)),\"\",(INDEX('Employee Data'!$L$4:$L$553,MATCH(Databackup!A23,Employee_Name,0))))","v":""},{"$f":"IF(ISERROR(INDEX('Employee Data'!$M$4:$M$553,MATCH(Databackup!A23,Employee_Name,0),0)),\"\",(INDEX('Employee Data'!$M$4:$M$553,MATCH(Databackup!A23,Employee_Name,0))))","v":""},{"$f":"IF(ISERROR(INDEX('Employee Data'!$N$4:$N$553,MATCH(Databackup!A23,Employee_Name,0),0)),\"\",(INDEX('Employee Data'!$N$4:$N$553,MATCH(Databackup!A23,Employee_Name,0))))","v":""},{"$f":"IF(ISERROR(INDEX('Employee Data'!$O$4:$O$553,MATCH(Databackup!A23,Employee_Name,0),0)),\"\",(INDEX('Employee Data'!$O$4:$O$553,MATCH(Databackup!A23,Employee_Name,0))))","v":""}]
[{"$f":"INDEX(Employee_Name,MATCH(SMALL(IF($A$1='Employee Data'!$I$4:$I$553,'Employee Data'!$B$4:$B$553,\"\"),ROW('Employee Data'!A22)),IF($A$1='Employee Data'!$I$4:$I$553,'Employee Data'!$B$4:$B$553,\"\"),0))","v":{"$error":"#NUM!"}},{"$f":"IF(ISERROR(INDEX('Employee Data'!$B$4:$B$553,MATCH(Databackup!A24,Employee_Name,0),0)),\"\",(INDEX('Employee Data'!$B$4:$B$553,MATCH(Databackup!A24,Employee_Name,0))))","v":""},{"$f":"IF(ISERROR(INDEX('Employee Data'!$C$4:$C$553,MATCH(Databackup!A24,Employee_Name,0),0)),\"\",(INDEX('Employee Data'!$C$4:$C$553,MATCH(Databackup!A24,Employee_Name,0))))","v":""},{"$f":"IF(ISERROR(INDEX('Employee Data'!$D$4:$D$553,MATCH(Databackup!A24,Employee_Name,0),0)),\"\",(INDEX('Employee Data'!$D$4:$D$553,MATCH(Databackup!A24,Employee_Name,0))))","v":""},{"$f":"IF(ISERROR(INDEX('Employee Data'!$F$4:$F$553,MATCH(Databackup!A24,Employee_Name,0),0)),\"\",(INDEX('Employee Data'!$F$4:$F$553,MATCH(Databackup!A24,Employee_Name,0))))","v":""},{"$f":"IF(ISERROR(INDEX('Employee Data'!$G$4:$G$553,MATCH(Databackup!A24,Employee_Name,0),0)),\"\",(INDEX('Employee Data'!$G$4:$G$553,MATCH(Databackup!A24,Employee_Name,0))))","v":""},{"$f":"IF(ISERROR(INDEX('Employee Data'!$H$4:$H$553,MATCH(Databackup!A24,Employee_Name,0),0)),\"\",(INDEX('Employee Data'!$H$4:$H$553,MATCH(Databackup!A24,Employee_Name,0))))","v":""},{"$f":"IF(ISERROR(INDEX('Employee Data'!$I$4:$I$553,MATCH(Databackup!A24,Employee_Name,0),0)),\"\",(INDEX('Employee Data'!$I$4:$I$553,MATCH(Databackup!A24,Employee_Name,0))))","v":""},{"$f":"IF(ISERROR(INDEX('Employee Data'!$J$4:$J$553,MATCH(Databackup!A24,Employee_Name,0),0)),\"\",(INDEX('Employee Data'!J$4:$J$553,MATCH(Databackup!A24,Employee_Name,0))))","v":""},{"$f":"IF(ISERROR(INDEX('Employee Data'!$K$4:$K$553,MATCH(Databackup!A24,Employee_Name,0),0)),\"\",(INDEX('Employee Data'!$K$4:$K$553,MATCH(Databackup!A24,Employee_Name,0))))","v":""},{"$f":"IF(ISERROR(INDEX('Employee Data'!$L$4:$L$553,MATCH(Databackup!A24,Employee_Name,0),0)),\"\",(INDEX('Employee Data'!$L$4:$L$553,MATCH(Databackup!A24,Employee_Name,0))))","v":""},{"$f":"IF(ISERROR(INDEX('Employee Data'!$M$4:$M$553,MATCH(Databackup!A24,Employee_Name,0),0)),\"\",(INDEX('Employee Data'!$M$4:$M$553,MATCH(Databackup!A24,Employee_Name,0))))","v":""},{"$f":"IF(ISERROR(INDEX('Employee Data'!$N$4:$N$553,MATCH(Databackup!A24,Employee_Name,0),0)),\"\",(INDEX('Employee Data'!$N$4:$N$553,MATCH(Databackup!A24,Employee_Name,0))))","v":""},{"$f":"IF(ISERROR(INDEX('Employee Data'!$O$4:$O$553,MATCH(Databackup!A24,Employee_Name,0),0)),\"\",(INDEX('Employee Data'!$O$4:$O$553,MATCH(Databackup!A24,Employee_Name,0))))","v":""}]
[{"$f":"INDEX(Employee_Name,MATCH(SMALL(IF($A$1='Employee Data'!$I$4:$I$553,'Employee Data'!$B$4:$B$553,\"\"),ROW('Employee Data'!A23)),IF($A$1='Employee Data'!$I$4:$I$553,'Employee Data'!$B$4:$B$553,\"\"),0))","v":{"$error":"#NUM!"}},{"$f":"IF(ISERROR(INDEX('Employee Data'!$B$4:$B$553,MATCH(Databackup!A25,Employee_Name,0),0)),\"\",(INDEX('Employee Data'!$B$4:$B$553,MATCH(Databackup!A25,Employee_Name,0))))","v":""},{"$f":"IF(ISERROR(INDEX('Employee Data'!$C$4:$C$553,MATCH(Databackup!A25,Employee_Name,0),0)),\"\",(INDEX('Employee Data'!$C$4:$C$553,MATCH(Databackup!A25,Employee_Name,0))))","v":""},{"$f":"IF(ISERROR(INDEX('Employee Data'!$D$4:$D$553,MATCH(Databackup!A25,Employee_Name,0),0)),\"\",(INDEX('Employee Data'!$D$4:$D$553,MATCH(Databackup!A25,Employee_Name,0))))","v":""},{"$f":"IF(ISERROR(INDEX('Employee Data'!$F$4:$F$553,MATCH(Databackup!A25,Employee_Name,0),0)),\"\",(INDEX('Employee Data'!$F$4:$F$553,MATCH(Databackup!A25,Employee_Name,0))))","v":""},{"$f":"IF(ISERROR(INDEX('Employee Data'!$G$4:$G$553,MATCH(Databackup!A25,Employee_Name,0),0)),\"\",(INDEX('Employee Data'!$G$4:$G$553,MATCH(Databackup!A25,Employee_Name,0))))","v":""},{"$f":"IF(ISERROR(INDEX('Employee Data'!$H$4:$H$553,MATCH(Databackup!A25,Employee_Name,0),0)),\"\",(INDEX('Employee Data'!$H$4:$H$553,MATCH(Databackup!A25,Employee_Name,0))))","v":""},{"$f":"IF(ISERROR(INDEX('Employee Data'!$I$4:$I$553,MATCH(Databackup!A25,Employee_Name,0),0)),\"\",(INDEX('Employee Data'!$I$4:$I$553,MATCH(Databackup!A25,Employee_Name,0))))","v":""},{"$f":"IF(ISERROR(INDEX('Employee Data'!$J$4:$J$553,MATCH(Databackup!A25,Employee_Name,0),0)),\"\",(INDEX('Employee Data'!J$4:$J$553,MATCH(Databackup!A25,Employee_Name,0))))","v":""},{"$f":"IF(ISERROR(INDEX('Employee Data'!$K$4:$K$553,MATCH(Databackup!A25,Employee_Name,0),0)),\"\",(INDEX('Employee Data'!$K$4:$K$553,MATCH(Databackup!A25,Employee_Name,0))))","v":""},{"$f":"IF(ISERROR(INDEX('Employee Data'!$L$4:$L$553,MATCH(Databackup!A25,Employee_Name,0),0)),\"\",(INDEX('Employee Data'!$L$4:$L$553,MATCH(Databackup!A25,Employee_Name,0))))","v":""},{"$f":"IF(ISERROR(INDEX('Employee Data'!$M$4:$M$553,MATCH(Databackup!A25,Employee_Name,0),0)),\"\",(INDEX('Employee Data'!$M$4:$M$553,MATCH(Databackup!A25,Employee_Name,0))))","v":""},{"$f":"IF(ISERROR(INDEX('Employee Data'!$N$4:$N$553,MATCH(Databackup!A25,Employee_Name,0),0)),\"\",(INDEX('Employee Data'!$N$4:$N$553,MATCH(Databackup!A25,Employee_Name,0))))","v":""},{"$f":"IF(ISERROR(INDEX('Employee Data'!$O$4:$O$553,MATCH(Databackup!A25,Employee_Name,0),0)),\"\",(INDEX('Employee Data'!$O$4:$O$553,MATCH(Databackup!A25,Employee_Name,0))))","v":""}]
[{"$f":"INDEX(Employee_Name,MATCH(SMALL(IF($A$1='Employee Data'!$I$4:$I$553,'Employee Data'!$B$4:$B$553,\"\"),ROW('Employee Data'!A24)),IF($A$1='Employee Data'!$I$4:$I$553,'Employee Data'!$B$4:$B$553,\"\"),0))","v":{"$error":"#NUM!"}},{"$f":"IF(ISERROR(INDEX('Employee Data'!$B$4:$B$553,MATCH(Databackup!A26,Employee_Name,0),0)),\"\",(INDEX('Employee Data'!$B$4:$B$553,MATCH(Databackup!A26,Employee_Name,0))))","v":""},{"$f":"IF(ISERROR(INDEX('Employee Data'!$C$4:$C$553,MATCH(Databackup!A26,Employee_Name,0),0)),\"\",(INDEX('Employee Data'!$C$4:$C$553,MATCH(Databackup!A26,Employee_Name,0))))","v":""},{"$f":"IF(ISERROR(INDEX('Employee Data'!$D$4:$D$553,MATCH(Databackup!A26,Employee_Name,0),0)),\"\",(INDEX('Employee Data'!$D$4:$D$553,MATCH(Databackup!A26,Employee_Name,0))))","v":""},{"$f":"IF(ISERROR(INDEX('Employee Data'!$F$4:$F$553,MATCH(Databackup!A26,Employee_Name,0),0)),\"\",(INDEX('Employee Data'!$F$4:$F$553,MATCH(Databackup!A26,Employee_Name,0))))","v":""},{"$f":"IF(ISERROR(INDEX('Employee Data'!$G$4:$G$553,MATCH(Databackup!A26,Employee_Name,0),0)),\"\",(INDEX('Employee Data'!$G$4:$G$553,MATCH(Databackup!A26,Employee_Name,0))))","v":""},{"$f":"IF(ISERROR(INDEX('Employee Data'!$H$4:$H$553,MATCH(Databackup!A26,Employee_Name,0),0)),\"\",(INDEX('Employee Data'!$H$4:$H$553,MATCH(Databackup!A26,Employee_Name,0))))","v":""},{"$f":"IF(ISERROR(INDEX('Employee Data'!$I$4:$I$553,MATCH(Databackup!A26,Employee_Name,0),0)),\"\",(INDEX('Employee Data'!$I$4:$I$553,MATCH(Databackup!A26,Employee_Name,0))))","v":""},{"$f":"IF(ISERROR(INDEX('Employee Data'!$J$4:$J$553,MATCH(Databackup!A26,Employee_Name,0),0)),\"\",(INDEX('Employee Data'!J$4:$J$553,MATCH(Databackup!A26,Employee_Name,0))))","v":""},{"$f":"IF(ISERROR(INDEX('Employee Data'!$K$4:$K$553,MATCH(Databackup!A26,Employee_Name,0),0)),\"\",(INDEX('Employee Data'!$K$4:$K$553,MATCH(Databackup!A26,Employee_Name,0))))","v":""},{"$f":"IF(ISERROR(INDEX('Employee Data'!$L$4:$L$553,MATCH(Databackup!A26,Employee_Name,0),0)),\"\",(INDEX('Employee Data'!$L$4:$L$553,MATCH(Databackup!A26,Employee_Name,0))))","v":""},{"$f":"IF(ISERROR(INDEX('Employee Data'!$M$4:$M$553,MATCH(Databackup!A26,Employee_Name,0),0)),\"\",(INDEX('Employee Data'!$M$4:$M$553,MATCH(Databackup!A26,Employee_Name,0))))","v":""},{"$f":"IF(ISERROR(INDEX('Employee Data'!$N$4:$N$553,MATCH(Databackup!A26,Employee_Name,0),0)),\"\",(INDEX('Employee Data'!$N$4:$N$553,MATCH(Databackup!A26,Employee_Name,0))))","v":""},{"$f":"IF(ISERROR(INDEX('Employee Data'!$O$4:$O$553,MATCH(Databackup!A26,Employee_Name,0),0)),\"\",(INDEX('Employee Data'!$O$4:$O$553,MATCH(Databackup!A26,Employee_Name,0))))","v":""}]
[{"$f":"INDEX(Employee_Name,MATCH(SMALL(IF($A$1='Employee Data'!$I$4:$I$553,'Employee Data'!$B$4:$B$553,\"\"),ROW('Employee Data'!A25)),IF($A$1='Employee Data'!$I$4:$I$553,'Employee Data'!$B$4:$B$553,\"\"),0))","v":{"$error":"#NUM!"}},{"$f":"IF(ISERROR(INDEX('Employee Data'!$B$4:$B$553,MATCH(Databackup!A27,Employee_Name,0),0)),\"\",(INDEX('Employee Data'!$B$4:$B$553,MATCH(Databackup!A27,Employee_Name,0))))","v":""},{"$f":"IF(ISERROR(INDEX('Employee Data'!$C$4:$C$553,MATCH(Databackup!A27,Employee_Name,0),0)),\"\",(INDEX('Employee Data'!$C$4:$C$553,MATCH(Databackup!A27,Employee_Name,0))))","v":""},{"$f":"IF(ISERROR(INDEX('Employee Data'!$D$4:$D$553,MATCH(Databackup!A27,Employee_Name,0),0)),\"\",(INDEX('Employee Data'!$D$4:$D$553,MATCH(Databackup!A27,Employee_Name,0))))","v":""},{"$f":"IF(ISERROR(INDEX('Employee Data'!$F$4:$F$553,MATCH(Databackup!A27,Employee_Name,0),0)),\"\",(INDEX('Employee Data'!$F$4:$F$553,MATCH(Databackup!A27,Employee_Name,0))))","v":""},{"$f":"IF(ISERROR(INDEX('Employee Data'!$G$4:$G$553,MATCH(Databackup!A27,Employee_Name,0),0)),\"\",(INDEX('Employee Data'!$G$4:$G$553,MATCH(Databackup!A27,Employee_Name,0))))","v":""},{"$f":"IF(ISERROR(INDEX('Employee Data'!$H$4:$H$553,MATCH(Databackup!A27,Employee_Name,0),0)),\"\",(INDEX('Employee Data'!$H$4:$H$553,MATCH(Databackup!A27,Employee_Name,0))))","v":""},{"$f":"IF(ISERROR(INDEX('Employee Data'!$I$4:$I$553,MATCH(Databackup!A27,Employee_Name,0),0)),\"\",(INDEX('Employee Data'!$I$4:$I$553,MATCH(Databackup!A27,Employee_Name,0))))","v":""},{"$f":"IF(ISERROR(INDEX('Employee Data'!$J$4:$J$553,MATCH(Databackup!A27,Employee_Name,0),0)),\"\",(INDEX('Employee Data'!J$4:$J$553,MATCH(Databackup!A27,Employee_Name,0))))","v":""},{"$f":"IF(ISERROR(INDEX('Employee Data'!$K$4:$K$553,MATCH(Databackup!A27,Employee_Name,0),0)),\"\",(INDEX('Employee Data'!$K$4:$K$553,MATCH(Databackup!A27,Employee_Name,0))))","v":""},{"$f":"IF(ISERROR(INDEX('Employee Data'!$L$4:$L$553,MATCH(Databackup!A27,Employee_Name,0),0)),\"\",(INDEX('Employee Data'!$L$4:$L$553,MATCH(Databackup!A27,Employee_Name,0))))","v":""},{"$f":"IF(ISERROR(INDEX('Employee Data'!$M$4:$M$553,MATCH(Databackup!A27,Employee_Name,0),0)),\"\",(INDEX('Employee Data'!$M$4:$M$553,MATCH(Databackup!A27,Employee_Name,0))))","v":""},{"$f":"IF(ISERROR(INDEX('Employee Data'!$N$4:$N$553,MATCH(Databackup!A27,Employee_Name,0),0)),\"\",(INDEX('Employee Data'!$N$4:$N$553,MATCH(Databackup!A27,Employee_Name,0))))","v":""},{"$f":"IF(ISERROR(INDEX('Employee Data'!$O$4:$O$553,MATCH(Databackup!A27,Employee_Name,0),0)),\"\",(INDEX('Employee Data'!$O$4:$O$553,MATCH(Databackup!A27,Employee_Name,0))))","v":""}]
[{"$f":"INDEX(Employee_Name,MATCH(SMALL(IF($A$1='Employee Data'!$I$4:$I$553,'Employee Data'!$B$4:$B$553,\"\"),ROW('Employee Data'!A26)),IF($A$1='Employee Data'!$I$4:$I$553,'Employee Data'!$B$4:$B$553,\"\"),0))","v":{"$error":"#NUM!"}},{"$f":"IF(ISERROR(INDEX('Employee Data'!$B$4:$B$553,MATCH(Databackup!A28,Employee_Name,0),0)),\"\",(INDEX('Employee Data'!$B$4:$B$553,MATCH(Databackup!A28,Employee_Name,0))))","v":""},{"$f":"IF(ISERROR(INDEX('Employee Data'!$C$4:$C$553,MATCH(Databackup!A28,Employee_Name,0),0)),\"\",(INDEX('Employee Data'!$C$4:$C$553,MATCH(Databackup!A28,Employee_Name,0))))","v":""},{"$f":"IF(ISERROR(INDEX('Employee Data'!$D$4:$D$553,MATCH(Databackup!A28,Employee_Name,0),0)),\"\",(INDEX('Employee Data'!$D$4:$D$553,MATCH(Databackup!A28,Employee_Name,0))))","v":""},{"$f":"IF(ISERROR(INDEX('Employee Data'!$F$4:$F$553,MATCH(Databackup!A28,Employee_Name,0),0)),\"\",(INDEX('Employee Data'!$F$4:$F$553,MATCH(Databackup!A28,Employee_Name,0))))","v":""},{"$f":"IF(ISERROR(INDEX('Employee Data'!$G$4:$G$553,MATCH(Databackup!A28,Employee_Name,0),0)),\"\",(INDEX('Employee Data'!$G$4:$G$553,MATCH(Databackup!A28,Employee_Name,0))))","v":""},{"$f":"IF(ISERROR(INDEX('Employee Data'!$H$4:$H$553,MATCH(Databackup!A28,Employee_Name,0),0)),\"\",(INDEX('Employee Data'!$H$4:$H$553,MATCH(Databackup!A28,Employee_Name,0))))","v":""},{"$f":"IF(ISERROR(INDEX('Employee Data'!$I$4:$I$553,MATCH(Databackup!A28,Employee_Name,0),0)),\"\",(INDEX('Employee Data'!$I$4:$I$553,MATCH(Databackup!A28,Employee_Name,0))))","v":""},{"$f":"IF(ISERROR(INDEX('Employee Data'!$J$4:$J$553,MATCH(Databackup!A28,Employee_Name,0),0)),\"\",(INDEX('Employee Data'!J$4:$J$553,MATCH(Databackup!A28,Employee_Name,0))))","v":""},{"$f":"IF(ISERROR(INDEX('Employee Data'!$K$4:$K$553,MATCH(Databackup!A28,Employee_Name,0),0)),\"\",(INDEX('Employee Data'!$K$4:$K$553,MATCH(Databackup!A28,Employee_Name,0))))","v":""},{"$f":"IF(ISERROR(INDEX('Employee Data'!$L$4:$L$553,MATCH(Databackup!A28,Employee_Name,0),0)),\"\",(INDEX('Employee Data'!$L$4:$L$553,MATCH(Databackup!A28,Employee_Name,0))))","v":""},{"$f":"IF(ISERROR(INDEX('Employee Data'!$M$4:$M$553,MATCH(Databackup!A28,Employee_Name,0),0)),\"\",(INDEX('Employee Data'!$M$4:$M$553,MATCH(Databackup!A28,Employee_Name,0))))","v":""},{"$f":"IF(ISERROR(INDEX('Employee Data'!$N$4:$N$553,MATCH(Databackup!A28,Employee_Name,0),0)),\"\",(INDEX('Employee Data'!$N$4:$N$553,MATCH(Databackup!A28,Employee_Name,0))))","v":""},{"$f":"IF(ISERROR(INDEX('Employee Data'!$O$4:$O$553,MATCH(Databackup!A28,Employee_Name,0),0)),\"\",(INDEX('Employee Data'!$O$4:$O$553,MATCH(Databackup!A28,Employee_Name,0))))","v":""}]
[{"$f":"INDEX(Employee_Name,MATCH(SMALL(IF($A$1='Employee Data'!$I$4:$I$553,'Employee Data'!$B$4:$B$553,\"\"),ROW('Employee Data'!A27)),IF($A$1='Employee Data'!$I$4:$I$553,'Employee Data'!$B$4:$B$553,\"\"),0))","v":{"$error":"#NUM!"}},{"$f":"IF(ISERROR(INDEX('Employee Data'!$B$4:$B$553,MATCH(Databackup!A29,Employee_Name,0),0)),\"\",(INDEX('Employee Data'!$B$4:$B$553,MATCH(Databackup!A29,Employee_Name,0))))","v":""},{"$f":"IF(ISERROR(INDEX('Employee Data'!$C$4:$C$553,MATCH(Databackup!A29,Employee_Name,0),0)),\"\",(INDEX('Employee Data'!$C$4:$C$553,MATCH(Databackup!A29,Employee_Name,0))))","v":""},{"$f":"IF(ISERROR(INDEX('Employee Data'!$D$4:$D$553,MATCH(Databackup!A29,Employee_Name,0),0)),\"\",(INDEX('Employee Data'!$D$4:$D$553,MATCH(Databackup!A29,Employee_Name,0))))","v":""},{"$f":"IF(ISERROR(INDEX('Employee Data'!$F$4:$F$553,MATCH(Databackup!A29,Employee_Name,0),0)),\"\",(INDEX('Employee Data'!$F$4:$F$553,MATCH(Databackup!A29,Employee_Name,0))))","v":""},{"$f":"IF(ISERROR(INDEX('Employee Data'!$G$4:$G$553,MATCH(Databackup!A29,Employee_Name,0),0)),\"\",(INDEX('Employee Data'!$G$4:$G$553,MATCH(Databackup!A29,Employee_Name,0))))","v":""},{"$f":"IF(ISERROR(INDEX('Employee Data'!$H$4:$H$553,MATCH(Databackup!A29,Employee_Name,0),0)),\"\",(INDEX('Employee Data'!$H$4:$H$553,MATCH(Databackup!A29,Employee_Name,0))))","v":""},{"$f":"IF(ISERROR(INDEX('Employee Data'!$I$4:$I$553,MATCH(Databackup!A29,Employee_Name,0),0)),\"\",(INDEX('Employee Data'!$I$4:$I$553,MATCH(Databackup!A29,Employee_Name,0))))","v":""},{"$f":"IF(ISERROR(INDEX('Employee Data'!$J$4:$J$553,MATCH(Databackup!A29,Employee_Name,0),0)),\"\",(INDEX('Employee Data'!J$4:$J$553,MATCH(Databackup!A29,Employee_Name,0))))","v":""},{"$f":"IF(ISERROR(INDEX('Employee Data'!$K$4:$K$553,MATCH(Databackup!A29,Employee_Name,0),0)),\"\",(INDEX('Employee Data'!$K$4:$K$553,MATCH(Databackup!A29,Employee_Name,0))))","v":""},{"$f":"IF(ISERROR(INDEX('Employee Data'!$L$4:$L$553,MATCH(Databackup!A29,Employee_Name,0),0)),\"\",(INDEX('Employee Data'!$L$4:$L$553,MATCH(Databackup!A29,Employee_Name,0))))","v":""},{"$f":"IF(ISERROR(INDEX('Employee Data'!$M$4:$M$553,MATCH(Databackup!A29,Employee_Name,0),0)),\"\",(INDEX('Employee Data'!$M$4:$M$553,MATCH(Databackup!A29,Employee_Name,0))))","v":""},{"$f":"IF(ISERROR(INDEX('Employee Data'!$N$4:$N$553,MATCH(Databackup!A29,Employee_Name,0),0)),\"\",(INDEX('Employee Data'!$N$4:$N$553,MATCH(Databackup!A29,Employee_Name,0))))","v":""},{"$f":"IF(ISERROR(INDEX('Employee Data'!$O$4:$O$553,MATCH(Databackup!A29,Employee_Name,0),0)),\"\",(INDEX('Employee Data'!$O$4:$O$553,MATCH(Databackup!A29,Employee_Name,0))))","v":""}]
[{"$f":"INDEX(Employee_Name,MATCH(SMALL(IF($A$1='Employee Data'!$I$4:$I$553,'Employee Data'!$B$4:$B$553,\"\"),ROW('Employee Data'!A28)),IF($A$1='Employee Data'!$I$4:$I$553,'Employee Data'!$B$4:$B$553,\"\"),0))","v":{"$error":"#NUM!"}},{"$f":"IF(ISERROR(INDEX('Employee Data'!$B$4:$B$553,MATCH(Databackup!A30,Employee_Name,0),0)),\"\",(INDEX('Employee Data'!$B$4:$B$553,MATCH(Databackup!A30,Employee_Name,0))))","v":""},{"$f":"IF(ISERROR(INDEX('Employee Data'!$C$4:$C$553,MATCH(Databackup!A30,Employee_Name,0),0)),\"\",(INDEX('Employee Data'!$C$4:$C$553,MATCH(Databackup!A30,Employee_Name,0))))","v":""},{"$f":"IF(ISERROR(INDEX('Employee Data'!$D$4:$D$553,MATCH(Databackup!A30,Employee_Name,0),0)),\"\",(INDEX('Employee Data'!$D$4:$D$553,MATCH(Databackup!A30,Employee_Name,0))))","v":""},{"$f":"IF(ISERROR(INDEX('Employee Data'!$F$4:$F$553,MATCH(Databackup!A30,Employee_Name,0),0)),\"\",(INDEX('Employee Data'!$F$4:$F$553,MATCH(Databackup!A30,Employee_Name,0))))","v":""},{"$f":"IF(ISERROR(INDEX('Employee Data'!$G$4:$G$553,MATCH(Databackup!A30,Employee_Name,0),0)),\"\",(INDEX('Employee Data'!$G$4:$G$553,MATCH(Databackup!A30,Employee_Name,0))))","v":""},{"$f":"IF(ISERROR(INDEX('Employee Data'!$H$4:$H$553,MATCH(Databackup!A30,Employee_Name,0),0)),\"\",(INDEX('Employee Data'!$H$4:$H$553,MATCH(Databackup!A30,Employee_Name,0))))","v":""},{"$f":"IF(ISERROR(INDEX('Employee Data'!$I$4:$I$553,MATCH(Databackup!A30,Employee_Name,0),0)),\"\",(INDEX('Employee Data'!$I$4:$I$553,MATCH(Databackup!A30,Employee_Name,0))))","v":""},{"$f":"IF(ISERROR(INDEX('Employee Data'!$J$4:$J$553,MATCH(Databackup!A30,Employee_Name,0),0)),\"\",(INDEX('Employee Data'!J$4:$J$553,MATCH(Databackup!A30,Employee_Name,0))))","v":""},{"$f":"IF(ISERROR(INDEX('Employee Data'!$K$4:$K$553,MATCH(Databackup!A30,Employee_Name,0),0)),\"\",(INDEX('Employee Data'!$K$4:$K$553,MATCH(Databackup!A30,Employee_Name,0))))","v":""},{"$f":"IF(ISERROR(INDEX('Employee Data'!$L$4:$L$553,MATCH(Databackup!A30,Employee_Name,0),0)),\"\",(INDEX('Employee Data'!$L$4:$L$553,MATCH(Databackup!A30,Employee_Name,0))))","v":""},{"$f":"IF(ISERROR(INDEX('Employee Data'!$M$4:$M$553,MATCH(Databackup!A30,Employee_Name,0),0)),\"\",(INDEX('Employee Data'!$M$4:$M$553,MATCH(Databackup!A30,Employee_Name,0))))","v":""},{"$f":"IF(ISERROR(INDEX('Employee Data'!$N$4:$N$553,MATCH(Databackup!A30,Employee_Name,0),0)),\"\",(INDEX('Employee Data'!$N$4:$N$553,MATCH(Databackup!A30,Employee_Name,0))))","v":""},{"$f":"IF(ISERROR(INDEX('Employee Data'!$O$4:$O$553,MATCH(Databackup!A30,Employee_Name,0),0)),\"\",(INDEX('Employee Data'!$O$4:$O$553,MATCH(Databackup!A30,Employee_Name,0))))","v":""}]
[{"$f":"INDEX(Employee_Name,MATCH(SMALL(IF($A$1='Employee Data'!$I$4:$I$553,'Employee Data'!$B$4:$B$553,\"\"),ROW('Employee Data'!A29)),IF($A$1='Employee Data'!$I$4:$I$553,'Employee Data'!$B$4:$B$553,\"\"),0))","v":{"$error":"#NUM!"}},{"$f":"IF(ISERROR(INDEX('Employee Data'!$B$4:$B$553,MATCH(Databackup!A31,Employee_Name,0),0)),\"\",(INDEX('Employee Data'!$B$4:$B$553,MATCH(Databackup!A31,Employee_Name,0))))","v":""},{"$f":"IF(ISERROR(INDEX('Employee Data'!$C$4:$C$553,MATCH(Databackup!A31,Employee_Name,0),0)),\"\",(INDEX('Employee Data'!$C$4:$C$553,MATCH(Databackup!A31,Employee_Name,0))))","v":""},{"$f":"IF(ISERROR(INDEX('Employee Data'!$D$4:$D$553,MATCH(Databackup!A31,Employee_Name,0),0)),\"\",(INDEX('Employee Data'!$D$4:$D$553,MATCH(Databackup!A31,Employee_Name,0))))","v":""},{"$f":"IF(ISERROR(INDEX('Employee Data'!$F$4:$F$553,MATCH(Databackup!A31,Employee_Name,0),0)),\"\",(INDEX('Employee Data'!$F$4:$F$553,MATCH(Databackup!A31,Employee_Name,0))))","v":""},{"$f":"IF(ISERROR(INDEX('Employee Data'!$G$4:$G$553,MATCH(Databackup!A31,Employee_Name,0),0)),\"\",(INDEX('Employee Data'!$G$4:$G$553,MATCH(Databackup!A31,Employee_Name,0))))","v":""},{"$f":"IF(ISERROR(INDEX('Employee Data'!$H$4:$H$553,MATCH(Databackup!A31,Employee_Name,0),0)),\"\",(INDEX('Employee Data'!$H$4:$H$553,MATCH(Databackup!A31,Employee_Name,0))))","v":""},{"$f":"IF(ISERROR(INDEX('Employee Data'!$I$4:$I$553,MATCH(Databackup!A31,Employee_Name,0),0)),\"\",(INDEX('Employee Data'!$I$4:$I$553,MATCH(Databackup!A31,Employee_Name,0))))","v":""},{"$f":"IF(ISERROR(INDEX('Employee Data'!$J$4:$J$553,MATCH(Databackup!A31,Employee_Name,0),0)),\"\",(INDEX('Employee Data'!J$4:$J$553,MATCH(Databackup!A31,Employee_Name,0))))","v":""},{"$f":"IF(ISERROR(INDEX('Employee Data'!$K$4:$K$553,MATCH(Databackup!A31,Employee_Name,0),0)),\"\",(INDEX('Employee Data'!$K$4:$K$553,MATCH(Databackup!A31,Employee_Name,0))))","v":""},{"$f":"IF(ISERROR(INDEX('Employee Data'!$L$4:$L$553,MATCH(Databackup!A31,Employee_Name,0),0)),\"\",(INDEX('Employee Data'!$L$4:$L$553,MATCH(Databackup!A31,Employee_Name,0))))","v":""},{"$f":"IF(ISERROR(INDEX('Employee Data'!$M$4:$M$553,MATCH(Databackup!A31,Employee_Name,0),0)),\"\",(INDEX('Employee Data'!$M$4:$M$553,MATCH(Databackup!A31,Employee_Name,0))))","v":""},{"$f":"IF(ISERROR(INDEX('Employee Data'!$N$4:$N$553,MATCH(Databackup!A31,Employee_Name,0),0)),\"\",(INDEX('Employee Data'!$N$4:$N$553,MATCH(Databackup!A31,Employee_Name,0))))","v":""},{"$f":"IF(ISERROR(INDEX('Employee Data'!$O$4:$O$553,MATCH(Databackup!A31,Employee_Name,0),0)),\"\",(INDEX('Employee Data'!$O$4:$O$553,MATCH(Databackup!A31,Employee_Name,0))))","v":""}]
[{"$f":"INDEX(Employee_Name,MATCH(SMALL(IF($A$1='Employee Data'!$I$4:$I$553,'Employee Data'!$B$4:$B$553,\"\"),ROW('Employee Data'!A30)),IF($A$1='Employee Data'!$I$4:$I$553,'Employee Data'!$B$4:$B$553,\"\"),0))","v":{"$error":"#NUM!"}},{"$f":"IF(ISERROR(INDEX('Employee Data'!$B$4:$B$553,MATCH(Databackup!A32,Employee_Name,0),0)),\"\",(INDEX('Employee Data'!$B$4:$B$553,MATCH(Databackup!A32,Employee_Name,0))))","v":""},{"$f":"IF(ISERROR(INDEX('Employee Data'!$C$4:$C$553,MATCH(Databackup!A32,Employee_Name,0),0)),\"\",(INDEX('Employee Data'!$C$4:$C$553,MATCH(Databackup!A32,Employee_Name,0))))","v":""},{"$f":"IF(ISERROR(INDEX('Employee Data'!$D$4:$D$553,MATCH(Databackup!A32,Employee_Name,0),0)),\"\",(INDEX('Employee Data'!$D$4:$D$553,MATCH(Databackup!A32,Employee_Name,0))))","v":""},{"$f":"IF(ISERROR(INDEX('Employee Data'!$F$4:$F$553,MATCH(Databackup!A32,Employee_Name,0),0)),\"\",(INDEX('Employee Data'!$F$4:$F$553,MATCH(Databackup!A32,Employee_Name,0))))","v":""},{"$f":"IF(ISERROR(INDEX('Employee Data'!$G$4:$G$553,MATCH(Databackup!A32,Employee_Name,0),0)),\"\",(INDEX('Employee Data'!$G$4:$G$553,MATCH(Databackup!A32,Employee_Name,0))))","v":""},{"$f":"IF(ISERROR(INDEX('Employee Data'!$H$4:$H$553,MATCH(Databackup!A32,Employee_Name,0),0)),\"\",(INDEX('Employee Data'!$H$4:$H$553,MATCH(Databackup!A32,Employee_Name,0))))","v":""},{"$f":"IF(ISERROR(INDEX('Employee Data'!$I$4:$I$553,MATCH(Databackup!A32,Employee_Name,0),0)),\"\",(INDEX('Employee Data'!$I$4:$I$553,MATCH(Databackup!A32,Employee_Name,0))))","v":""},{"$f":"IF(ISERROR(INDEX('Employee Data'!$J$4:$J$553,MATCH(Databackup!A32,Employee_Name,0),0)),\"\",(INDEX('Employee Data'!J$4:$J$553,MATCH(Databackup!A32,Employee_Name,0))))","v":""},{"$f":"IF(ISERROR(INDEX('Employee Data'!$K$4:$K$553,MATCH(Databackup!A32,Employee_Name,0),0)),\"\",(INDEX('Employee Data'!$K$4:$K$553,MATCH(Databackup!A32,Employee_Name,0))))","v":""},{"$f":"IF(ISERROR(INDEX('Employee Data'!$L$4:$L$553,MATCH(Databackup!A32,Employee_Name,0),0)),\"\",(INDEX('Employee Data'!$L$4:$L$553,MATCH(Databackup!A32,Employee_Name,0))))","v":""},{"$f":"IF(ISERROR(INDEX('Employee Data'!$M$4:$M$553,MATCH(Databackup!A32,Employee_Name,0),0)),\"\",(INDEX('Employee Data'!$M$4:$M$553,MATCH(Databackup!A32,Employee_Name,0))))","v":""},{"$f":"IF(ISERROR(INDEX('Employee Data'!$N$4:$N$553,MATCH(Databackup!A32,Employee_Name,0),0)),\"\",(INDEX('Employee Data'!$N$4:$N$553,MATCH(Databackup!A32,Employee_Name,0))))","v":""},{"$f":"IF(ISERROR(INDEX('Employee Data'!$O$4:$O$553,MATCH(Databackup!A32,Employee_Name,0),0)),\"\",(INDEX('Employee Data'!$O$4:$O$553,MATCH(Databackup!A32,Employee_Name,0))))","v":""}]
[{"$f":"INDEX(Employee_Name,MATCH(SMALL(IF($A$1='Employee Data'!$I$4:$I$553,'Employee Data'!$B$4:$B$553,\"\"),ROW('Employee Data'!A31)),IF($A$1='Employee Data'!$I$4:$I$553,'Employee Data'!$B$4:$B$553,\"\"),0))","v":{"$error":"#NUM!"}},{"$f":"IF(ISERROR(INDEX('Employee Data'!$B$4:$B$553,MATCH(Databackup!A33,Employee_Name,0),0)),\"\",(INDEX('Employee Data'!$B$4:$B$553,MATCH(Databackup!A33,Employee_Name,0))))","v":""},{"$f":"IF(ISERROR(INDEX('Employee Data'!$C$4:$C$553,MATCH(Databackup!A33,Employee_Name,0),0)),\"\",(INDEX('Employee Data'!$C$4:$C$553,MATCH(Databackup!A33,Employee_Name,0))))","v":""},{"$f":"IF(ISERROR(INDEX('Employee Data'!$D$4:$D$553,MATCH(Databackup!A33,Employee_Name,0),0)),\"\",(INDEX('Employee Data'!$D$4:$D$553,MATCH(Databackup!A33,Employee_Name,0))))","v":""},{"$f":"IF(ISERROR(INDEX('Employee Data'!$F$4:$F$553,MATCH(Databackup!A33,Employee_Name,0),0)),\"\",(INDEX('Employee Data'!$F$4:$F$553,MATCH(Databackup!A33,Employee_Name,0))))","v":""},{"$f":"IF(ISERROR(INDEX('Employee Data'!$G$4:$G$553,MATCH(Databackup!A33,Employee_Name,0),0)),\"\",(INDEX('Employee Data'!$G$4:$G$553,MATCH(Databackup!A33,Employee_Name,0))))","v":""},{"$f":"IF(ISERROR(INDEX('Employee Data'!$H$4:$H$553,MATCH(Databackup!A33,Employee_Name,0),0)),\"\",(INDEX('Employee Data'!$H$4:$H$553,MATCH(Databackup!A33,Employee_Name,0))))","v":""},{"$f":"IF(ISERROR(INDEX('Employee Data'!$I$4:$I$553,MATCH(Databackup!A33,Employee_Name,0),0)),\"\",(INDEX('Employee Data'!$I$4:$I$553,MATCH(Databackup!A33,Employee_Name,0))))","v":""},{"$f":"IF(ISERROR(INDEX('Employee Data'!$J$4:$J$553,MATCH(Databackup!A33,Employee_Name,0),0)),\"\",(INDEX('Employee Data'!J$4:$J$553,MATCH(Databackup!A33,Employee_Name,0))))","v":""},{"$f":"IF(ISERROR(INDEX('Employee Data'!$K$4:$K$553,MATCH(Databackup!A33,Employee_Name,0),0)),\"\",(INDEX('Employee Data'!$K$4:$K$553,MATCH(Databackup!A33,Employee_Name,0))))","v":""},{"$f":"IF(ISERROR(INDEX('Employee Data'!$L$4:$L$553,MATCH(Databackup!A33,Employee_Name,0),0)),\"\",(INDEX('Employee Data'!$L$4:$L$553,MATCH(Databackup!A33,Employee_Name,0))))","v":""},{"$f":"IF(ISERROR(INDEX('Employee Data'!$M$4:$M$553,MATCH(Databackup!A33,Employee_Name,0),0)),\"\",(INDEX('Employee Data'!$M$4:$M$553,MATCH(Databackup!A33,Employee_Name,0))))","v":""},{"$f":"IF(ISERROR(INDEX('Employee Data'!$N$4:$N$553,MATCH(Databackup!A33,Employee_Name,0),0)),\"\",(INDEX('Employee Data'!$N$4:$N$553,MATCH(Databackup!A33,Employee_Name,0))))","v":""},{"$f":"IF(ISERROR(INDEX('Employee Data'!$O$4:$O$553,MATCH(Databackup!A33,Employee_Name,0),0)),\"\",(INDEX('Employee Data'!$O$4:$O$553,MATCH(Databackup!A33,Employee_Name,0))))","v":""}]
[{"$f":"INDEX(Employee_Name,MATCH(SMALL(IF($A$1='Employee Data'!$I$4:$I$553,'Employee Data'!$B$4:$B$553,\"\"),ROW('Employee Data'!A32)),IF($A$1='Employee Data'!$I$4:$I$553,'Employee Data'!$B$4:$B$553,\"\"),0))","v":{"$error":"#NUM!"}},{"$f":"IF(ISERROR(INDEX('Employee Data'!$B$4:$B$553,MATCH(Databackup!A34,Employee_Name,0),0)),\"\",(INDEX('Employee Data'!$B$4:$B$553,MATCH(Databackup!A34,Employee_Name,0))))","v":""},{"$f":"IF(ISERROR(INDEX('Employee Data'!$C$4:$C$553,MATCH(Databackup!A34,Employee_Name,0),0)),\"\",(INDEX('Employee Data'!$C$4:$C$553,MATCH(Databackup!A34,Employee_Name,0))))","v":""},{"$f":"IF(ISERROR(INDEX('Employee Data'!$D$4:$D$553,MATCH(Databackup!A34,Employee_Name,0),0)),\"\",(INDEX('Employee Data'!$D$4:$D$553,MATCH(Databackup!A34,Employee_Name,0))))","v":""},{"$f":"IF(ISERROR(INDEX('Employee Data'!$F$4:$F$553,MATCH(Databackup!A34,Employee_Name,0),0)),\"\",(INDEX('Employee Data'!$F$4:$F$553,MATCH(Databackup!A34,Employee_Name,0))))","v":""},{"$f":"IF(ISERROR(INDEX('Employee Data'!$G$4:$G$553,MATCH(Databackup!A34,Employee_Name,0),0)),\"\",(INDEX('Employee Data'!$G$4:$G$553,MATCH(Databackup!A34,Employee_Name,0))))","v":""},{"$f":"IF(ISERROR(INDEX('Employee Data'!$H$4:$H$553,MATCH(Databackup!A34,Employee_Name,0),0)),\"\",(INDEX('Employee Data'!$H$4:$H$553,MATCH(Databackup!A34,Employee_Name,0))))","v":""},{"$f":"IF(ISERROR(INDEX('Employee Data'!$I$4:$I$553,MATCH(Databackup!A34,Employee_Name,0),0)),\"\",(INDEX('Employee Data'!$I$4:$I$553,MATCH(Databackup!A34,Employee_Name,0))))","v":""},{"$f":"IF(ISERROR(INDEX('Employee Data'!$J$4:$J$553,MATCH(Databackup!A34,Employee_Name,0),0)),\"\",(INDEX('Employee Data'!J$4:$J$553,MATCH(Databackup!A34,Employee_Name,0))))","v":""},{"$f":"IF(ISERROR(INDEX('Employee Data'!$K$4:$K$553,MATCH(Databackup!A34,Employee_Name,0),0)),\"\",(INDEX('Employee Data'!$K$4:$K$553,MATCH(Databackup!A34,Employee_Name,0))))","v":""},{"$f":"IF(ISERROR(INDEX('Employee Data'!$L$4:$L$553,MATCH(Databackup!A34,Employee_Name,0),0)),\"\",(INDEX('Employee Data'!$L$4:$L$553,MATCH(Databackup!A34,Employee_Name,0))))","v":""},{"$f":"IF(ISERROR(INDEX('Employee Data'!$M$4:$M$553,MATCH(Databackup!A34,Employee_Name,0),0)),\"\",(INDEX('Employee Data'!$M$4:$M$553,MATCH(Databackup!A34,Employee_Name,0))))","v":""},{"$f":"IF(ISERROR(INDEX('Employee Data'!$N$4:$N$553,MATCH(Databackup!A34,Employee_Name,0),0)),\"\",(INDEX('Employee Data'!$N$4:$N$553,MATCH(Databackup!A34,Employee_Name,0))))","v":""},{"$f":"IF(ISERROR(INDEX('Employee Data'!$O$4:$O$553,MATCH(Databackup!A34,Employee_Name,0),0)),\"\",(INDEX('Employee Data'!$O$4:$O$553,MATCH(Databackup!A34,Employee_Name,0))))","v":""}]
[{"$f":"INDEX(Employee_Name,MATCH(SMALL(IF($A$1='Employee Data'!$I$4:$I$553,'Employee Data'!$B$4:$B$553,\"\"),ROW('Employee Data'!A33)),IF($A$1='Employee Data'!$I$4:$I$553,'Employee Data'!$B$4:$B$553,\"\"),0))","v":{"$error":"#NUM!"}},{"$f":"IF(ISERROR(INDEX('Employee Data'!$B$4:$B$553,MATCH(Databackup!A35,Employee_Name,0),0)),\"\",(INDEX('Employee Data'!$B$4:$B$553,MATCH(Databackup!A35,Employee_Name,0))))","v":""},{"$f":"IF(ISERROR(INDEX('Employee Data'!$C$4:$C$553,MATCH(Databackup!A35,Employee_Name,0),0)),\"\",(INDEX('Employee Data'!$C$4:$C$553,MATCH(Databackup!A35,Employee_Name,0))))","v":""},{"$f":"IF(ISERROR(INDEX('Employee Data'!$D$4:$D$553,MATCH(Databackup!A35,Employee_Name,0),0)),\"\",(INDEX('Employee Data'!$D$4:$D$553,MATCH(Databackup!A35,Employee_Name,0))))","v":""},{"$f":"IF(ISERROR(INDEX('Employee Data'!$F$4:$F$553,MATCH(Databackup!A35,Employee_Name,0),0)),\"\",(INDEX('Employee Data'!$F$4:$F$553,MATCH(Databackup!A35,Employee_Name,0))))","v":""},{"$f":"IF(ISERROR(INDEX('Employee Data'!$G$4:$G$553,MATCH(Databackup!A35,Employee_Name,0),0)),\"\",(INDEX('Employee Data'!$G$4:$G$553,MATCH(Databackup!A35,Employee_Name,0))))","v":""},{"$f":"IF(ISERROR(INDEX('Employee Data'!$H$4:$H$553,MATCH(Databackup!A35,Employee_Name,0),0)),\"\",(INDEX('Employee Data'!$H$4:$H$553,MATCH(Databackup!A35,Employee_Name,0))))","v":""},{"$f":"IF(ISERROR(INDEX('Employee Data'!$I$4:$I$553,MATCH(Databackup!A35,Employee_Name,0),0)),\"\",(INDEX('Employee Data'!$I$4:$I$553,MATCH(Databackup!A35,Employee_Name,0))))","v":""},{"$f":"IF(ISERROR(INDEX('Employee Data'!$J$4:$J$553,MATCH(Databackup!A35,Employee_Name,0),0)),\"\",(INDEX('Employee Data'!J$4:$J$553,MATCH(Databackup!A35,Employee_Name,0))))","v":""},{"$f":"IF(ISERROR(INDEX('Employee Data'!$K$4:$K$553,MATCH(Databackup!A35,Employee_Name,0),0)),\"\",(INDEX('Employee Data'!$K$4:$K$553,MATCH(Databackup!A35,Employee_Name,0))))","v":""},{"$f":"IF(ISERROR(INDEX('Employee Data'!$L$4:$L$553,MATCH(Databackup!A35,Employee_Name,0),0)),\"\",(INDEX('Employee Data'!$L$4:$L$553,MATCH(Databackup!A35,Employee_Name,0))))","v":""},{"$f":"IF(ISERROR(INDEX('Employee Data'!$M$4:$M$553,MATCH(Databackup!A35,Employee_Name,0),0)),\"\",(INDEX('Employee Data'!$M$4:$M$553,MATCH(Databackup!A35,Employee_Name,0))))","v":""},{"$f":"IF(ISERROR(INDEX('Employee Data'!$N$4:$N$553,MATCH(Databackup!A35,Employee_Name,0),0)),\"\",(INDEX('Employee Data'!$N$4:$N$553,MATCH(Databackup!A35,Employee_Name,0))))","v":""},{"$f":"IF(ISERROR(INDEX('Employee Data'!$O$4:$O$553,MATCH(Databackup!A35,Employee_Name,0),0)),\"\",(INDEX('Employee Data'!$O$4:$O$553,MATCH(Databackup!A35,Employee_Name,0))))","v":""}]
[{"$f":"INDEX(Employee_Name,MATCH(SMALL(IF($A$1='Employee Data'!$I$4:$I$553,'Employee Data'!$B$4:$B$553,\"\"),ROW('Employee Data'!A34)),IF($A$1='Employee Data'!$I$4:$I$553,'Employee Data'!$B$4:$B$553,\"\"),0))","v":{"$error":"#NUM!"}},{"$f":"IF(ISERROR(INDEX('Employee Data'!$B$4:$B$553,MATCH(Databackup!A36,Employee_Name,0),0)),\"\",(INDEX('Employee Data'!$B$4:$B$553,MATCH(Databackup!A36,Employee_Name,0))))","v":""},{"$f":"IF(ISERROR(INDEX('Employee Data'!$C$4:$C$553,MATCH(Databackup!A36,Employee_Name,0),0)),\"\",(INDEX('Employee Data'!$C$4:$C$553,MATCH(Databackup!A36,Employee_Name,0))))","v":""},{"$f":"IF(ISERROR(INDEX('Employee Data'!$D$4:$D$553,MATCH(Databackup!A36,Employee_Name,0),0)),\"\",(INDEX('Employee Data'!$D$4:$D$553,MATCH(Databackup!A36,Employee_Name,0))))","v":""},{"$f":"IF(ISERROR(INDEX('Employee Data'!$F$4:$F$553,MATCH(Databackup!A36,Employee_Name,0),0)),\"\",(INDEX('Employee Data'!$F$4:$F$553,MATCH(Databackup!A36,Employee_Name,0))))","v":""},{"$f":"IF(ISERROR(INDEX('Employee Data'!$G$4:$G$553,MATCH(Databackup!A36,Employee_Name,0),0)),\"\",(INDEX('Employee Data'!$G$4:$G$553,MATCH(Databackup!A36,Employee_Name,0))))","v":""},{"$f":"IF(ISERROR(INDEX('Employee Data'!$H$4:$H$553,MATCH(Databackup!A36,Employee_Name,0),0)),\"\",(INDEX('Employee Data'!$H$4:$H$553,MATCH(Databackup!A36,Employee_Name,0))))","v":""},{"$f":"IF(ISERROR(INDEX('Employee Data'!$I$4:$I$553,MATCH(Databackup!A36,Employee_Name,0),0)),\"\",(INDEX('Employee Data'!$I$4:$I$553,MATCH(Databackup!A36,Employee_Name,0))))","v":""},{"$f":"IF(ISERROR(INDEX('Employee Data'!$J$4:$J$553,MATCH(Databackup!A36,Employee_Name,0),0)),\"\",(INDEX('Employee Data'!J$4:$J$553,MATCH(Databackup!A36,Employee_Name,0))))","v":""},{"$f":"IF(ISERROR(INDEX('Employee Data'!$K$4:$K$553,MATCH(Databackup!A36,Employee_Name,0),0)),\"\",(INDEX('Employee Data'!$K$4:$K$553,MATCH(Databackup!A36,Employee_Name,0))))","v":""},{"$f":"IF(ISERROR(INDEX('Employee Data'!$L$4:$L$553,MATCH(Databackup!A36,Employee_Name,0),0)),\"\",(INDEX('Employee Data'!$L$4:$L$553,MATCH(Databackup!A36,Employee_Name,0))))","v":""},{"$f":"IF(ISERROR(INDEX('Employee Data'!$M$4:$M$553,MATCH(Databackup!A36,Employee_Name,0),0)),\"\",(INDEX('Employee Data'!$M$4:$M$553,MATCH(Databackup!A36,Employee_Name,0))))","v":""},{"$f":"IF(ISERROR(INDEX('Employee Data'!$N$4:$N$553,MATCH(Databackup!A36,Employee_Name,0),0)),\"\",(INDEX('Employee Data'!$N$4:$N$553,MATCH(Databackup!A36,Employee_Name,0))))","v":""},{"$f":"IF(ISERROR(INDEX('Employee Data'!$O$4:$O$553,MATCH(Databackup!A36,Employee_Name,0),0)),\"\",(INDEX('Employee Data'!$O$4:$O$553,MATCH(Databackup!A36,Employee_Name,0))))","v":""}]
[{"$f":"INDEX(Employee_Name,MATCH(SMALL(IF($A$1='Employee Data'!$I$4:$I$553,'Employee Data'!$B$4:$B$553,\"\"),ROW('Employee Data'!A35)),IF($A$1='Employee Data'!$I$4:$I$553,'Employee Data'!$B$4:$B$553,\"\"),0))","v":{"$error":"#NUM!"}},{"$f":"IF(ISERROR(INDEX('Employee Data'!$B$4:$B$553,MATCH(Databackup!A37,Employee_Name,0),0)),\"\",(INDEX('Employee Data'!$B$4:$B$553,MATCH(Databackup!A37,Employee_Name,0))))","v":""},{"$f":"IF(ISERROR(INDEX('Employee Data'!$C$4:$C$553,MATCH(Databackup!A37,Employee_Name,0),0)),\"\",(INDEX('Employee Data'!$C$4:$C$553,MATCH(Databackup!A37,Employee_Name,0))))","v":""},{"$f":"IF(ISERROR(INDEX('Employee Data'!$D$4:$D$553,MATCH(Databackup!A37,Employee_Name,0),0)),\"\",(INDEX('Employee Data'!$D$4:$D$553,MATCH(Databackup!A37,Employee_Name,0))))","v":""},{"$f":"IF(ISERROR(INDEX('Employee Data'!$F$4:$F$553,MATCH(Databackup!A37,Employee_Name,0),0)),\"\",(INDEX('Employee Data'!$F$4:$F$553,MATCH(Databackup!A37,Employee_Name,0))))","v":""},{"$f":"IF(ISERROR(INDEX('Employee Data'!$G$4:$G$553,MATCH(Databackup!A37,Employee_Name,0),0)),\"\",(INDEX('Employee Data'!$G$4:$G$553,MATCH(Databackup!A37,Employee_Name,0))))","v":""},{"$f":"IF(ISERROR(INDEX('Employee Data'!$H$4:$H$553,MATCH(Databackup!A37,Employee_Name,0),0)),\"\",(INDEX('Employee Data'!$H$4:$H$553,MATCH(Databackup!A37,Employee_Name,0))))","v":""},{"$f":"IF(ISERROR(INDEX('Employee Data'!$I$4:$I$553,MATCH(Databackup!A37,Employee_Name,0),0)),\"\",(INDEX('Employee Data'!$I$4:$I$553,MATCH(Databackup!A37,Employee_Name,0))))","v":""},{"$f":"IF(ISERROR(INDEX('Employee Data'!$J$4:$J$553,MATCH(Databackup!A37,Employee_Name,0),0)),\"\",(INDEX('Employee Data'!J$4:$J$553,MATCH(Databackup!A37,Employee_Name,0))))","v":""},{"$f":"IF(ISERROR(INDEX('Employee Data'!$K$4:$K$553,MATCH(Databackup!A37,Employee_Name,0),0)),\"\",(INDEX('Employee Data'!$K$4:$K$553,MATCH(Databackup!A37,Employee_Name,0))))","v":""},{"$f":"IF(ISERROR(INDEX('Employee Data'!$L$4:$L$553,MATCH(Databackup!A37,Employee_Name,0),0)),\"\",(INDEX('Employee Data'!$L$4:$L$553,MATCH(Databackup!A37,Employee_Name,0))))","v":""},{"$f":"IF(ISERROR(INDEX('Employee Data'!$M$4:$M$553,MATCH(Databackup!A37,Employee_Name,0),0)),\"\",(INDEX('Employee Data'!$M$4:$M$553,MATCH(Databackup!A37,Employee_Name,0))))","v":""},{"$f":"IF(ISERROR(INDEX('Employee Data'!$N$4:$N$553,MATCH(Databackup!A37,Employee_Name,0),0)),\"\",(INDEX('Employee Data'!$N$4:$N$553,MATCH(Databackup!A37,Employee_Name,0))))","v":""},{"$f":"IF(ISERROR(INDEX('Employee Data'!$O$4:$O$553,MATCH(Databackup!A37,Employee_Name,0),0)),\"\",(INDEX('Employee Data'!$O$4:$O$553,MATCH(Databackup!A37,Employee_Name,0))))","v":""}]
[{"$f":"INDEX(Employee_Name,MATCH(SMALL(IF($A$1='Employee Data'!$I$4:$I$553,'Employee Data'!$B$4:$B$553,\"\"),ROW('Employee Data'!A36)),IF($A$1='Employee Data'!$I$4:$I$553,'Employee Data'!$B$4:$B$553,\"\"),0))","v":{"$error":"#NUM!"}},{"$f":"IF(ISERROR(INDEX('Employee Data'!$B$4:$B$553,MATCH(Databackup!A38,Employee_Name,0),0)),\"\",(INDEX('Employee Data'!$B$4:$B$553,MATCH(Databackup!A38,Employee_Name,0))))","v":""},{"$f":"IF(ISERROR(INDEX('Employee Data'!$C$4:$C$553,MATCH(Databackup!A38,Employee_Name,0),0)),\"\",(INDEX('Employee Data'!$C$4:$C$553,MATCH(Databackup!A38,Employee_Name,0))))","v":""},{"$f":"IF(ISERROR(INDEX('Employee Data'!$D$4:$D$553,MATCH(Databackup!A38,Employee_Name,0),0)),\"\",(INDEX('Employee Data'!$D$4:$D$553,MATCH(Databackup!A38,Employee_Name,0))))","v":""},{"$f":"IF(ISERROR(INDEX('Employee Data'!$F$4:$F$553,MATCH(Databackup!A38,Employee_Name,0),0)),\"\",(INDEX('Employee Data'!$F$4:$F$553,MATCH(Databackup!A38,Employee_Name,0))))","v":""},{"$f":"IF(ISERROR(INDEX('Employee Data'!$G$4:$G$553,MATCH(Databackup!A38,Employee_Name,0),0)),\"\",(INDEX('Employee Data'!$G$4:$G$553,MATCH(Databackup!A38,Employee_Name,0))))","v":""},{"$f":"IF(ISERROR(INDEX('Employee Data'!$H$4:$H$553,MATCH(Databackup!A38,Employee_Name,0),0)),\"\",(INDEX('Employee Data'!$H$4:$H$553,MATCH(Databackup!A38,Employee_Name,0))))","v":""},{"$f":"IF(ISERROR(INDEX('Employee Data'!$I$4:$I$553,MATCH(Databackup!A38,Employee_Name,0),0)),\"\",(INDEX('Employee Data'!$I$4:$I$553,MATCH(Databackup!A38,Employee_Name,0))))","v":""},{"$f":"IF(ISERROR(INDEX('Employee Data'!$J$4:$J$553,MATCH(Databackup!A38,Employee_Name,0),0)),\"\",(INDEX('Employee Data'!J$4:$J$553,MATCH(Databackup!A38,Employee_Name,0))))","v":""},{"$f":"IF(ISERROR(INDEX('Employee Data'!$K$4:$K$553,MATCH(Databackup!A38,Employee_Name,0),0)),\"\",(INDEX('Employee Data'!$K$4:$K$553,MATCH(Databackup!A38,Employee_Name,0))))","v":""},{"$f":"IF(ISERROR(INDEX('Employee Data'!$L$4:$L$553,MATCH(Databackup!A38,Employee_Name,0),0)),\"\",(INDEX('Employee Data'!$L$4:$L$553,MATCH(Databackup!A38,Employee_Name,0))))","v":""},{"$f":"IF(ISERROR(INDEX('Employee Data'!$M$4:$M$553,MATCH(Databackup!A38,Employee_Name,0),0)),\"\",(INDEX('Employee Data'!$M$4:$M$553,MATCH(Databackup!A38,Employee_Name,0))))","v":""},{"$f":"IF(ISERROR(INDEX('Employee Data'!$N$4:$N$553,MATCH(Databackup!A38,Employee_Name,0),0)),\"\",(INDEX('Employee Data'!$N$4:$N$553,MATCH(Databackup!A38,Employee_Name,0))))","v":""},{"$f":"IF(ISERROR(INDEX('Employee Data'!$O$4:$O$553,MATCH(Databackup!A38,Employee_Name,0),0)),\"\",(INDEX('Employee Data'!$O$4:$O$553,MATCH(Databackup!A38,Employee_Name,0))))","v":""}]
[{"$f":"INDEX(Employee_Name,MATCH(SMALL(IF($A$1='Employee Data'!$I$4:$I$553,'Employee Data'!$B$4:$B$553,\"\"),ROW('Employee Data'!A37)),IF($A$1='Employee Data'!$I$4:$I$553,'Employee Data'!$B$4:$B$553,\"\"),0))","v":{"$error":"#NUM!"}},{"$f":"IF(ISERROR(INDEX('Employee Data'!$B$4:$B$553,MATCH(Databackup!A39,Employee_Name,0),0)),\"\",(INDEX('Employee Data'!$B$4:$B$553,MATCH(Databackup!A39,Employee_Name,0))))","v":""},{"$f":"IF(ISERROR(INDEX('Employee Data'!$C$4:$C$553,MATCH(Databackup!A39,Employee_Name,0),0)),\"\",(INDEX('Employee Data'!$C$4:$C$553,MATCH(Databackup!A39,Employee_Name,0))))","v":""},{"$f":"IF(ISERROR(INDEX('Employee Data'!$D$4:$D$553,MATCH(Databackup!A39,Employee_Name,0),0)),\"\",(INDEX('Employee Data'!$D$4:$D$553,MATCH(Databackup!A39,Employee_Name,0))))","v":""},{"$f":"IF(ISERROR(INDEX('Employee Data'!$F$4:$F$553,MATCH(Databackup!A39,Employee_Name,0),0)),\"\",(INDEX('Employee Data'!$F$4:$F$553,MATCH(Databackup!A39,Employee_Name,0))))","v":""},{"$f":"IF(ISERROR(INDEX('Employee Data'!$G$4:$G$553,MATCH(Databackup!A39,Employee_Name,0),0)),\"\",(INDEX('Employee Data'!$G$4:$G$553,MATCH(Databackup!A39,Employee_Name,0))))","v":""},{"$f":"IF(ISERROR(INDEX('Employee Data'!$H$4:$H$553,MATCH(Databackup!A39,Employee_Name,0),0)),\"\",(INDEX('Employee Data'!$H$4:$H$553,MATCH(Databackup!A39,Employee_Name,0))))","v":""},{"$f":"IF(ISERROR(INDEX('Employee Data'!$I$4:$I$553,MATCH(Databackup!A39,Employee_Name,0),0)),\"\",(INDEX('Employee Data'!$I$4:$I$553,MATCH(Databackup!A39,Employee_Name,0))))","v":""},{"$f":"IF(ISERROR(INDEX('Employee Data'!$J$4:$J$553,MATCH(Databackup!A39,Employee_Name,0),0)),\"\",(INDEX('Employee Data'!J$4:$J$553,MATCH(Databackup!A39,Employee_Name,0))))","v":""},{"$f":"IF(ISERROR(INDEX('Employee Data'!$K$4:$K$553,MATCH(Databackup!A39,Employee_Name,0),0)),\"\",(INDEX('Employee Data'!$K$4:$K$553,MATCH(Databackup!A39,Employee_Name,0))))","v":""},{"$f":"IF(ISERROR(INDEX('Employee Data'!$L$4:$L$553,MATCH(Databackup!A39,Employee_Name,0),0)),\"\",(INDEX('Employee Data'!$L$4:$L$553,MATCH(Databackup!A39,Employee_Name,0))))","v":""},{"$f":"IF(ISERROR(INDEX('Employee Data'!$M$4:$M$553,MATCH(Databackup!A39,Employee_Name,0),0)),\"\",(INDEX('Employee Data'!$M$4:$M$553,MATCH(Databackup!A39,Employee_Name,0))))","v":""},{"$f":"IF(ISERROR(INDEX('Employee Data'!$N$4:$N$553,MATCH(Databackup!A39,Employee_Name,0),0)),\"\",(INDEX('Employee Data'!$N$4:$N$553,MATCH(Databackup!A39,Employee_Name,0))))","v":""},{"$f":"IF(ISERROR(INDEX('Employee Data'!$O$4:$O$553,MATCH(Databackup!A39,Employee_Name,0),0)),\"\",(INDEX('Employee Data'!$O$4:$O$553,MATCH(Databackup!A39,Employee_Name,0))))","v":""}]
[{"$f":"INDEX(Employee_Name,MATCH(SMALL(IF($A$1='Employee Data'!$I$4:$I$553,'Employee Data'!$B$4:$B$553,\"\"),ROW('Employee Data'!A38)),IF($A$1='Employee Data'!$I$4:$I$553,'Employee Data'!$B$4:$B$553,\"\"),0))","v":{"$error":"#NUM!"}},{"$f":"IF(ISERROR(INDEX('Employee Data'!$B$4:$B$553,MATCH(Databackup!A40,Employee_Name,0),0)),\"\",(INDEX('Employee Data'!$B$4:$B$553,MATCH(Databackup!A40,Employee_Name,0))))","v":""},{"$f":"IF(ISERROR(INDEX('Employee Data'!$C$4:$C$553,MATCH(Databackup!A40,Employee_Name,0),0)),\"\",(INDEX('Employee Data'!$C$4:$C$553,MATCH(Databackup!A40,Employee_Name,0))))","v":""},{"$f":"IF(ISERROR(INDEX('Employee Data'!$D$4:$D$553,MATCH(Databackup!A40,Employee_Name,0),0)),\"\",(INDEX('Employee Data'!$D$4:$D$553,MATCH(Databackup!A40,Employee_Name,0))))","v":""},{"$f":"IF(ISERROR(INDEX('Employee Data'!$F$4:$F$553,MATCH(Databackup!A40,Employee_Name,0),0)),\"\",(INDEX('Employee Data'!$F$4:$F$553,MATCH(Databackup!A40,Employee_Name,0))))","v":""},{"$f":"IF(ISERROR(INDEX('Employee Data'!$G$4:$G$553,MATCH(Databackup!A40,Employee_Name,0),0)),\"\",(INDEX('Employee Data'!$G$4:$G$553,MATCH(Databackup!A40,Employee_Name,0))))","v":""},{"$f":"IF(ISERROR(INDEX('Employee Data'!$H$4:$H$553,MATCH(Databackup!A40,Employee_Name,0),0)),\"\",(INDEX('Employee Data'!$H$4:$H$553,MATCH(Databackup!A40,Employee_Name,0))))","v":""},{"$f":"IF(ISERROR(INDEX('Employee Data'!$I$4:$I$553,MATCH(Databackup!A40,Employee_Name,0),0)),\"\",(INDEX('Employee Data'!$I$4:$I$553,MATCH(Databackup!A40,Employee_Name,0))))","v":""},{"$f":"IF(ISERROR(INDEX('Employee Data'!$J$4:$J$553,MATCH(Databackup!A40,Employee_Name,0),0)),\"\",(INDEX('Employee Data'!J$4:$J$553,MATCH(Databackup!A40,Employee_Name,0))))","v":""},{"$f":"IF(ISERROR(INDEX('Employee Data'!$K$4:$K$553,MATCH(Databackup!A40,Employee_Name,0),0)),\"\",(INDEX('Employee Data'!$K$4:$K$553,MATCH(Databackup!A40,Employee_Name,0))))","v":""},{"$f":"IF(ISERROR(INDEX('Employee Data'!$L$4:$L$553,MATCH(Databackup!A40,Employee_Name,0),0)),\"\",(INDEX('Employee Data'!$L$4:$L$553,MATCH(Databackup!A40,Employee_Name,0))))","v":""},{"$f":"IF(ISERROR(INDEX('Employee Data'!$M$4:$M$553,MATCH(Databackup!A40,Employee_Name,0),0)),\"\",(INDEX('Employee Data'!$M$4:$M$553,MATCH(Databackup!A40,Employee_Name,0))))","v":""},{"$f":"IF(ISERROR(INDEX('Employee Data'!$N$4:$N$553,MATCH(Databackup!A40,Employee_Name,0),0)),\"\",(INDEX('Employee Data'!$N$4:$N$553,MATCH(Databackup!A40,Employee_Name,0))))","v":""},{"$f":"IF(ISERROR(INDEX('Employee Data'!$O$4:$O$553,MATCH(Databackup!A40,Employee_Name,0),0)),\"\",(INDEX('Employee Data'!$O$4:$O$553,MATCH(Databackup!A40,Employee_Name,0))))","v":""}]
[{"$f":"INDEX(Employee_Name,MATCH(SMALL(IF($A$1='Employee Data'!$I$4:$I$553,'Employee Data'!$B$4:$B$553,\"\"),ROW('Employee Data'!A39)),IF($A$1='Employee Data'!$I$4:$I$553,'Employee Data'!$B$4:$B$553,\"\"),0))","v":{"$error":"#NUM!"}},{"$f":"IF(ISERROR(INDEX('Employee Data'!$B$4:$B$553,MATCH(Databackup!A41,Employee_Name,0),0)),\"\",(INDEX('Employee Data'!$B$4:$B$553,MATCH(Databackup!A41,Employee_Name,0))))","v":""},{"$f":"IF(ISERROR(INDEX('Employee Data'!$C$4:$C$553,MATCH(Databackup!A41,Employee_Name,0),0)),\"\",(INDEX('Employee Data'!$C$4:$C$553,MATCH(Databackup!A41,Employee_Name,0))))","v":""},{"$f":"IF(ISERROR(INDEX('Employee Data'!$D$4:$D$553,MATCH(Databackup!A41,Employee_Name,0),0)),\"\",(INDEX('Employee Data'!$D$4:$D$553,MATCH(Databackup!A41,Employee_Name,0))))","v":""},{"$f":"IF(ISERROR(INDEX('Employee Data'!$F$4:$F$553,MATCH(Databackup!A41,Employee_Name,0),0)),\"\",(INDEX('Employee Data'!$F$4:$F$553,MATCH(Databackup!A41,Employee_Name,0))))","v":""},{"$f":"IF(ISERROR(INDEX('Employee Data'!$G$4:$G$553,MATCH(Databackup!A41,Employee_Name,0),0)),\"\",(INDEX('Employee Data'!$G$4:$G$553,MATCH(Databackup!A41,Employee_Name,0))))","v":""},{"$f":"IF(ISERROR(INDEX('Employee Data'!$H$4:$H$553,MATCH(Databackup!A41,Employee_Name,0),0)),\"\",(INDEX('Employee Data'!$H$4:$H$553,MATCH(Databackup!A41,Employee_Name,0))))","v":""},{"$f":"IF(ISERROR(INDEX('Employee Data'!$I$4:$I$553,MATCH(Databackup!A41,Employee_Name,0),0)),\"\",(INDEX('Employee Data'!$I$4:$I$553,MATCH(Databackup!A41,Employee_Name,0))))","v":""},{"$f":"IF(ISERROR(INDEX('Employee Data'!$J$4:$J$553,MATCH(Databackup!A41,Employee_Name,0),0)),\"\",(INDEX('Employee Data'!J$4:$J$553,MATCH(Databackup!A41,Employee_Name,0))))","v":""},{"$f":"IF(ISERROR(INDEX('Employee Data'!$K$4:$K$553,MATCH(Databackup!A41,Employee_Name,0),0)),\"\",(INDEX('Employee Data'!$K$4:$K$553,MATCH(Databackup!A41,Employee_Name,0))))","v":""},{"$f":"IF(ISERROR(INDEX('Employee Data'!$L$4:$L$553,MATCH(Databackup!A41,Employee_Name,0),0)),\"\",(INDEX('Employee Data'!$L$4:$L$553,MATCH(Databackup!A41,Employee_Name,0))))","v":""},{"$f":"IF(ISERROR(INDEX('Employee Data'!$M$4:$M$553,MATCH(Databackup!A41,Employee_Name,0),0)),\"\",(INDEX('Employee Data'!$M$4:$M$553,MATCH(Databackup!A41,Employee_Name,0))))","v":""},{"$f":"IF(ISERROR(INDEX('Employee Data'!$N$4:$N$553,MATCH(Databackup!A41,Employee_Name,0),0)),\"\",(INDEX('Employee Data'!$N$4:$N$553,MATCH(Databackup!A41,Employee_Name,0))))","v":""},{"$f":"IF(ISERROR(INDEX('Employee Data'!$O$4:$O$553,MATCH(Databackup!A41,Employee_Name,0),0)),\"\",(INDEX('Employee Data'!$O$4:$O$553,MATCH(Databackup!A41,Employee_Name,0))))","v":""}]
[{"$f":"INDEX(Employee_Name,MATCH(SMALL(IF($A$1='Employee Data'!$I$4:$I$553,'Employee Data'!$B$4:$B$553,\"\"),ROW('Employee Data'!A40)),IF($A$1='Employee Data'!$I$4:$I$553,'Employee Data'!$B$4:$B$553,\"\"),0))","v":{"$error":"#NUM!"}},{"$f":"IF(ISERROR(INDEX('Employee Data'!$B$4:$B$553,MATCH(Databackup!A42,Employee_Name,0),0)),\"\",(INDEX('Employee Data'!$B$4:$B$553,MATCH(Databackup!A42,Employee_Name,0))))","v":""},{"$f":"IF(ISERROR(INDEX('Employee Data'!$C$4:$C$553,MATCH(Databackup!A42,Employee_Name,0),0)),\"\",(INDEX('Employee Data'!$C$4:$C$553,MATCH(Databackup!A42,Employee_Name,0))))","v":""},{"$f":"IF(ISERROR(INDEX('Employee Data'!$D$4:$D$553,MATCH(Databackup!A42,Employee_Name,0),0)),\"\",(INDEX('Employee Data'!$D$4:$D$553,MATCH(Databackup!A42,Employee_Name,0))))","v":""},{"$f":"IF(ISERROR(INDEX('Employee Data'!$F$4:$F$553,MATCH(Databackup!A42,Employee_Name,0),0)),\"\",(INDEX('Employee Data'!$F$4:$F$553,MATCH(Databackup!A42,Employee_Name,0))))","v":""},{"$f":"IF(ISERROR(INDEX('Employee Data'!$G$4:$G$553,MATCH(Databackup!A42,Employee_Name,0),0)),\"\",(INDEX('Employee Data'!$G$4:$G$553,MATCH(Databackup!A42,Employee_Name,0))))","v":""},{"$f":"IF(ISERROR(INDEX('Employee Data'!$H$4:$H$553,MATCH(Databackup!A42,Employee_Name,0),0)),\"\",(INDEX('Employee Data'!$H$4:$H$553,MATCH(Databackup!A42,Employee_Name,0))))","v":""},{"$f":"IF(ISERROR(INDEX('Employee Data'!$I$4:$I$553,MATCH(Databackup!A42,Employee_Name,0),0)),\"\",(INDEX('Employee Data'!$I$4:$I$553,MATCH(Databackup!A42,Employee_Name,0))))","v":""},{"$f":"IF(ISERROR(INDEX('Employee Data'!$J$4:$J$553,MATCH(Databackup!A42,Employee_Name,0),0)),\"\",(INDEX('Employee Data'!J$4:$J$553,MATCH(Databackup!A42,Employee_Name,0))))","v":""},{"$f":"IF(ISERROR(INDEX('Employee Data'!$K$4:$K$553,MATCH(Databackup!A42,Employee_Name,0),0)),\"\",(INDEX('Employee Data'!$K$4:$K$553,MATCH(Databackup!A42,Employee_Name,0))))","v":""},{"$f":"IF(ISERROR(INDEX('Employee Data'!$L$4:$L$553,MATCH(Databackup!A42,Employee_Name,0),0)),\"\",(INDEX('Employee Data'!$L$4:$L$553,MATCH(Databackup!A42,Employee_Name,0))))","v":""},{"$f":"IF(ISERROR(INDEX('Employee Data'!$M$4:$M$553,MATCH(Databackup!A42,Employee_Name,0),0)),\"\",(INDEX('Employee Data'!$M$4:$M$553,MATCH(Databackup!A42,Employee_Name,0))))","v":""},{"$f":"IF(ISERROR(INDEX('Employee Data'!$N$4:$N$553,MATCH(Databackup!A42,Employee_Name,0),0)),\"\",(INDEX('Employee Data'!$N$4:$N$553,MATCH(Databackup!A42,Employee_Name,0))))","v":""},{"$f":"IF(ISERROR(INDEX('Employee Data'!$O$4:$O$553,MATCH(Databackup!A42,Employee_Name,0),0)),\"\",(INDEX('Employee Data'!$O$4:$O$553,MATCH(Databackup!A42,Employee_Name,0))))","v":""}]
[{"$f":"INDEX(Employee_Name,MATCH(SMALL(IF($A$1='Employee Data'!$I$4:$I$553,'Employee Data'!$B$4:$B$553,\"\"),ROW('Employee Data'!A41)),IF($A$1='Employee Data'!$I$4:$I$553,'Employee Data'!$B$4:$B$553,\"\"),0))","v":{"$error":"#NUM!"}},{"$f":"IF(ISERROR(INDEX('Employee Data'!$B$4:$B$553,MATCH(Databackup!A43,Employee_Name,0),0)),\"\",(INDEX('Employee Data'!$B$4:$B$553,MATCH(Databackup!A43,Employee_Name,0))))","v":""},{"$f":"IF(ISERROR(INDEX('Employee Data'!$C$4:$C$553,MATCH(Databackup!A43,Employee_Name,0),0)),\"\",(INDEX('Employee Data'!$C$4:$C$553,MATCH(Databackup!A43,Employee_Name,0))))","v":""},{"$f":"IF(ISERROR(INDEX('Employee Data'!$D$4:$D$553,MATCH(Databackup!A43,Employee_Name,0),0)),\"\",(INDEX('Employee Data'!$D$4:$D$553,MATCH(Databackup!A43,Employee_Name,0))))","v":""},{"$f":"IF(ISERROR(INDEX('Employee Data'!$F$4:$F$553,MATCH(Databackup!A43,Employee_Name,0),0)),\"\",(INDEX('Employee Data'!$F$4:$F$553,MATCH(Databackup!A43,Employee_Name,0))))","v":""},{"$f":"IF(ISERROR(INDEX('Employee Data'!$G$4:$G$553,MATCH(Databackup!A43,Employee_Name,0),0)),\"\",(INDEX('Employee Data'!$G$4:$G$553,MATCH(Databackup!A43,Employee_Name,0))))","v":""},{"$f":"IF(ISERROR(INDEX('Employee Data'!$H$4:$H$553,MATCH(Databackup!A43,Employee_Name,0),0)),\"\",(INDEX('Employee Data'!$H$4:$H$553,MATCH(Databackup!A43,Employee_Name,0))))","v":""},{"$f":"IF(ISERROR(INDEX('Employee Data'!$I$4:$I$553,MATCH(Databackup!A43,Employee_Name,0),0)),\"\",(INDEX('Employee Data'!$I$4:$I$553,MATCH(Databackup!A43,Employee_Name,0))))","v":""},{"$f":"IF(ISERROR(INDEX('Employee Data'!$J$4:$J$553,MATCH(Databackup!A43,Employee_Name,0),0)),\"\",(INDEX('Employee Data'!J$4:$J$553,MATCH(Databackup!A43,Employee_Name,0))))","v":""},{"$f":"IF(ISERROR(INDEX('Employee Data'!$K$4:$K$553,MATCH(Databackup!A43,Employee_Name,0),0)),\"\",(INDEX('Employee Data'!$K$4:$K$553,MATCH(Databackup!A43,Employee_Name,0))))","v":""},{"$f":"IF(ISERROR(INDEX('Employee Data'!$L$4:$L$553,MATCH(Databackup!A43,Employee_Name,0),0)),\"\",(INDEX('Employee Data'!$L$4:$L$553,MATCH(Databackup!A43,Employee_Name,0))))","v":""},{"$f":"IF(ISERROR(INDEX('Employee Data'!$M$4:$M$553,MATCH(Databackup!A43,Employee_Name,0),0)),\"\",(INDEX('Employee Data'!$M$4:$M$553,MATCH(Databackup!A43,Employee_Name,0))))","v":""},{"$f":"IF(ISERROR(INDEX('Employee Data'!$N$4:$N$553,MATCH(Databackup!A43,Employee_Name,0),0)),\"\",(INDEX('Employee Data'!$N$4:$N$553,MATCH(Databackup!A43,Employee_Name,0))))","v":""},{"$f":"IF(ISERROR(INDEX('Employee Data'!$O$4:$O$553,MATCH(Databackup!A43,Employee_Name,0),0)),\"\",(INDEX('Employee Data'!$O$4:$O$553,MATCH(Databackup!A43,Employee_Name,0))))","v":""}]
[{"$f":"INDEX(Employee_Name,MATCH(SMALL(IF($A$1='Employee Data'!$I$4:$I$553,'Employee Data'!$B$4:$B$553,\"\"),ROW('Employee Data'!A42)),IF($A$1='Employee Data'!$I$4:$I$553,'Employee Data'!$B$4:$B$553,\"\"),0))","v":{"$error":"#NUM!"}},{"$f":"IF(ISERROR(INDEX('Employee Data'!$B$4:$B$553,MATCH(Databackup!A44,Employee_Name,0),0)),\"\",(INDEX('Employee Data'!$B$4:$B$553,MATCH(Databackup!A44,Employee_Name,0))))","v":""},{"$f":"IF(ISERROR(INDEX('Employee Data'!$C$4:$C$553,MATCH(Databackup!A44,Employee_Name,0),0)),\"\",(INDEX('Employee Data'!$C$4:$C$553,MATCH(Databackup!A44,Employee_Name,0))))","v":""},{"$f":"IF(ISERROR(INDEX('Employee Data'!$D$4:$D$553,MATCH(Databackup!A44,Employee_Name,0),0)),\"\",(INDEX('Employee Data'!$D$4:$D$553,MATCH(Databackup!A44,Employee_Name,0))))","v":""},{"$f":"IF(ISERROR(INDEX('Employee Data'!$F$4:$F$553,MATCH(Databackup!A44,Employee_Name,0),0)),\"\",(INDEX('Employee Data'!$F$4:$F$553,MATCH(Databackup!A44,Employee_Name,0))))","v":""},{"$f":"IF(ISERROR(INDEX('Employee Data'!$G$4:$G$553,MATCH(Databackup!A44,Employee_Name,0),0)),\"\",(INDEX('Employee Data'!$G$4:$G$553,MATCH(Databackup!A44,Employee_Name,0))))","v":""},{"$f":"IF(ISERROR(INDEX('Employee Data'!$H$4:$H$553,MATCH(Databackup!A44,Employee_Name,0),0)),\"\",(INDEX('Employee Data'!$H$4:$H$553,MATCH(Databackup!A44,Employee_Name,0))))","v":""},{"$f":"IF(ISERROR(INDEX('Employee Data'!$I$4:$I$553,MATCH(Databackup!A44,Employee_Name,0),0)),\"\",(INDEX('Employee Data'!$I$4:$I$553,MATCH(Databackup!A44,Employee_Name,0))))","v":""},{"$f":"IF(ISERROR(INDEX('Employee Data'!$J$4:$J$553,MATCH(Databackup!A44,Employee_Name,0),0)),\"\",(INDEX('Employee Data'!J$4:$J$553,MATCH(Databackup!A44,Employee_Name,0))))","v":""},{"$f":"IF(ISERROR(INDEX('Employee Data'!$K$4:$K$553,MATCH(Databackup!A44,Employee_Name,0),0)),\"\",(INDEX('Employee Data'!$K$4:$K$553,MATCH(Databackup!A44,Employee_Name,0))))","v":""},{"$f":"IF(ISERROR(INDEX('Employee Data'!$L$4:$L$553,MATCH(Databackup!A44,Employee_Name,0),0)),\"\",(INDEX('Employee Data'!$L$4:$L$553,MATCH(Databackup!A44,Employee_Name,0))))","v":""},{"$f":"IF(ISERROR(INDEX('Employee Data'!$M$4:$M$553,MATCH(Databackup!A44,Employee_Name,0),0)),\"\",(INDEX('Employee Data'!$M$4:$M$553,MATCH(Databackup!A44,Employee_Name,0))))","v":""},{"$f":"IF(ISERROR(INDEX('Employee Data'!$N$4:$N$553,MATCH(Databackup!A44,Employee_Name,0),0)),\"\",(INDEX('Employee Data'!$N$4:$N$553,MATCH(Databackup!A44,Employee_Name,0))))","v":""},{"$f":"IF(ISERROR(INDEX('Employee Data'!$O$4:$O$553,MATCH(Databackup!A44,Employee_Name,0),0)),\"\",(INDEX('Employee Data'!$O$4:$O$553,MATCH(Databackup!A44,Employee_Name,0))))","v":""}]
[{"$f":"INDEX(Employee_Name,MATCH(SMALL(IF($A$1='Employee Data'!$I$4:$I$553,'Employee Data'!$B$4:$B$553,\"\"),ROW('Employee Data'!A43)),IF($A$1='Employee Data'!$I$4:$I$553,'Employee Data'!$B$4:$B$553,\"\"),0))","v":{"$error":"#NUM!"}},{"$f":"IF(ISERROR(INDEX('Employee Data'!$B$4:$B$553,MATCH(Databackup!A45,Employee_Name,0),0)),\"\",(INDEX('Employee Data'!$B$4:$B$553,MATCH(Databackup!A45,Employee_Name,0))))","v":""},{"$f":"IF(ISERROR(INDEX('Employee Data'!$C$4:$C$553,MATCH(Databackup!A45,Employee_Name,0),0)),\"\",(INDEX('Employee Data'!$C$4:$C$553,MATCH(Databackup!A45,Employee_Name,0))))","v":""},{"$f":"IF(ISERROR(INDEX('Employee Data'!$D$4:$D$553,MATCH(Databackup!A45,Employee_Name,0),0)),\"\",(INDEX('Employee Data'!$D$4:$D$553,MATCH(Databackup!A45,Employee_Name,0))))","v":""},{"$f":"IF(ISERROR(INDEX('Employee Data'!$F$4:$F$553,MATCH(Databackup!A45,Employee_Name,0),0)),\"\",(INDEX('Employee Data'!$F$4:$F$553,MATCH(Databackup!A45,Employee_Name,0))))","v":""},{"$f":"IF(ISERROR(INDEX('Employee Data'!$G$4:$G$553,MATCH(Databackup!A45,Employee_Name,0),0)),\"\",(INDEX('Employee Data'!$G$4:$G$553,MATCH(Databackup!A45,Employee_Name,0))))","v":""},{"$f":"IF(ISERROR(INDEX('Employee Data'!$H$4:$H$553,MATCH(Databackup!A45,Employee_Name,0),0)),\"\",(INDEX('Employee Data'!$H$4:$H$553,MATCH(Databackup!A45,Employee_Name,0))))","v":""},{"$f":"IF(ISERROR(INDEX('Employee Data'!$I$4:$I$553,MATCH(Databackup!A45,Employee_Name,0),0)),\"\",(INDEX('Employee Data'!$I$4:$I$553,MATCH(Databackup!A45,Employee_Name,0))))","v":""},{"$f":"IF(ISERROR(INDEX('Employee Data'!$J$4:$J$553,MATCH(Databackup!A45,Employee_Name,0),0)),\"\",(INDEX('Employee Data'!J$4:$J$553,MATCH(Databackup!A45,Employee_Name,0))))","v":""},{"$f":"IF(ISERROR(INDEX('Employee Data'!$K$4:$K$553,MATCH(Databackup!A45,Employee_Name,0),0)),\"\",(INDEX('Employee Data'!$K$4:$K$553,MATCH(Databackup!A45,Employee_Name,0))))","v":""},{"$f":"IF(ISERROR(INDEX('Employee Data'!$L$4:$L$553,MATCH(Databackup!A45,Employee_Name,0),0)),\"\",(INDEX('Employee Data'!$L$4:$L$553,MATCH(Databackup!A45,Employee_Name,0))))","v":""},{"$f":"IF(ISERROR(INDEX('Employee Data'!$M$4:$M$553,MATCH(Databackup!A45,Employee_Name,0),0)),\"\",(INDEX('Employee Data'!$M$4:$M$553,MATCH(Databackup!A45,Employee_Name,0))))","v":""},{"$f":"IF(ISERROR(INDEX('Employee Data'!$N$4:$N$553,MATCH(Databackup!A45,Employee_Name,0),0)),\"\",(INDEX('Employee Data'!$N$4:$N$553,MATCH(Databackup!A45,Employee_Name,0))))","v":""},{"$f":"IF(ISERROR(INDEX('Employee Data'!$O$4:$O$553,MATCH(Databackup!A45,Employee_Name,0),0)),\"\",(INDEX('Employee Data'!$O$4:$O$553,MATCH(Databackup!A45,Employee_Name,0))))","v":""}]
[{"$f":"INDEX(Employee_Name,MATCH(SMALL(IF($A$1='Employee Data'!$I$4:$I$553,'Employee Data'!$B$4:$B$553,\"\"),ROW('Employee Data'!A44)),IF($A$1='Employee Data'!$I$4:$I$553,'Employee Data'!$B$4:$B$553,\"\"),0))","v":{"$error":"#NUM!"}},{"$f":"IF(ISERROR(INDEX('Employee Data'!$B$4:$B$553,MATCH(Databackup!A46,Employee_Name,0),0)),\"\",(INDEX('Employee Data'!$B$4:$B$553,MATCH(Databackup!A46,Employee_Name,0))))","v":""},{"$f":"IF(ISERROR(INDEX('Employee Data'!$C$4:$C$553,MATCH(Databackup!A46,Employee_Name,0),0)),\"\",(INDEX('Employee Data'!$C$4:$C$553,MATCH(Databackup!A46,Employee_Name,0))))","v":""},{"$f":"IF(ISERROR(INDEX('Employee Data'!$D$4:$D$553,MATCH(Databackup!A46,Employee_Name,0),0)),\"\",(INDEX('Employee Data'!$D$4:$D$553,MATCH(Databackup!A46,Employee_Name,0))))","v":""},{"$f":"IF(ISERROR(INDEX('Employee Data'!$F$4:$F$553,MATCH(Databackup!A46,Employee_Name,0),0)),\"\",(INDEX('Employee Data'!$F$4:$F$553,MATCH(Databackup!A46,Employee_Name,0))))","v":""},{"$f":"IF(ISERROR(INDEX('Employee Data'!$G$4:$G$553,MATCH(Databackup!A46,Employee_Name,0),0)),\"\",(INDEX('Employee Data'!$G$4:$G$553,MATCH(Databackup!A46,Employee_Name,0))))","v":""},{"$f":"IF(ISERROR(INDEX('Employee Data'!$H$4:$H$553,MATCH(Databackup!A46,Employee_Name,0),0)),\"\",(INDEX('Employee Data'!$H$4:$H$553,MATCH(Databackup!A46,Employee_Name,0))))","v":""},{"$f":"IF(ISERROR(INDEX('Employee Data'!$I$4:$I$553,MATCH(Databackup!A46,Employee_Name,0),0)),\"\",(INDEX('Employee Data'!$I$4:$I$553,MATCH(Databackup!A46,Employee_Name,0))))","v":""},{"$f":"IF(ISERROR(INDEX('Employee Data'!$J$4:$J$553,MATCH(Databackup!A46,Employee_Name,0),0)),\"\",(INDEX('Employee Data'!J$4:$J$553,MATCH(Databackup!A46,Employee_Name,0))))","v":""},{"$f":"IF(ISERROR(INDEX('Employee Data'!$K$4:$K$553,MATCH(Databackup!A46,Employee_Name,0),0)),\"\",(INDEX('Employee Data'!$K$4:$K$553,MATCH(Databackup!A46,Employee_Name,0))))","v":""},{"$f":"IF(ISERROR(INDEX('Employee Data'!$L$4:$L$553,MATCH(Databackup!A46,Employee_Name,0),0)),\"\",(INDEX('Employee Data'!$L$4:$L$553,MATCH(Databackup!A46,Employee_Name,0))))","v":""},{"$f":"IF(ISERROR(INDEX('Employee Data'!$M$4:$M$553,MATCH(Databackup!A46,Employee_Name,0),0)),\"\",(INDEX('Employee Data'!$M$4:$M$553,MATCH(Databackup!A46,Employee_Name,0))))","v":""},{"$f":"IF(ISERROR(INDEX('Employee Data'!$N$4:$N$553,MATCH(Databackup!A46,Employee_Name,0),0)),\"\",(INDEX('Employee Data'!$N$4:$N$553,MATCH(Databackup!A46,Employee_Name,0))))","v":""},{"$f":"IF(ISERROR(INDEX('Employee Data'!$O$4:$O$553,MATCH(Databackup!A46,Employee_Name,0),0)),\"\",(INDEX('Employee Data'!$O$4:$O$553,MATCH(Databackup!A46,Employee_Name,0))))","v":""}]
[{"$f":"INDEX(Employee_Name,MATCH(SMALL(IF($A$1='Employee Data'!$I$4:$I$553,'Employee Data'!$B$4:$B$553,\"\"),ROW('Employee Data'!A45)),IF($A$1='Employee Data'!$I$4:$I$553,'Employee Data'!$B$4:$B$553,\"\"),0))","v":{"$error":"#NUM!"}},{"$f":"IF(ISERROR(INDEX('Employee Data'!$B$4:$B$553,MATCH(Databackup!A47,Employee_Name,0),0)),\"\",(INDEX('Employee Data'!$B$4:$B$553,MATCH(Databackup!A47,Employee_Name,0))))","v":""},{"$f":"IF(ISERROR(INDEX('Employee Data'!$C$4:$C$553,MATCH(Databackup!A47,Employee_Name,0),0)),\"\",(INDEX('Employee Data'!$C$4:$C$553,MATCH(Databackup!A47,Employee_Name,0))))","v":""},{"$f":"IF(ISERROR(INDEX('Employee Data'!$D$4:$D$553,MATCH(Databackup!A47,Employee_Name,0),0)),\"\",(INDEX('Employee Data'!$D$4:$D$553,MATCH(Databackup!A47,Employee_Name,0))))","v":""},{"$f":"IF(ISERROR(INDEX('Employee Data'!$F$4:$F$553,MATCH(Databackup!A47,Employee_Name,0),0)),\"\",(INDEX('Employee Data'!$F$4:$F$553,MATCH(Databackup!A47,Employee_Name,0))))","v":""},{"$f":"IF(ISERROR(INDEX('Employee Data'!$G$4:$G$553,MATCH(Databackup!A47,Employee_Name,0),0)),\"\",(INDEX('Employee Data'!$G$4:$G$553,MATCH(Databackup!A47,Employee_Name,0))))","v":""},{"$f":"IF(ISERROR(INDEX('Employee Data'!$H$4:$H$553,MATCH(Databackup!A47,Employee_Name,0),0)),\"\",(INDEX('Employee Data'!$H$4:$H$553,MATCH(Databackup!A47,Employee_Name,0))))","v":""},{"$f":"IF(ISERROR(INDEX('Employee Data'!$I$4:$I$553,MATCH(Databackup!A47,Employee_Name,0),0)),\"\",(INDEX('Employee Data'!$I$4:$I$553,MATCH(Databackup!A47,Employee_Name,0))))","v":""},{"$f":"IF(ISERROR(INDEX('Employee Data'!$J$4:$J$553,MATCH(Databackup!A47,Employee_Name,0),0)),\"\",(INDEX('Employee Data'!J$4:$J$553,MATCH(Databackup!A47,Employee_Name,0))))","v":""},{"$f":"IF(ISERROR(INDEX('Employee Data'!$K$4:$K$553,MATCH(Databackup!A47,Employee_Name,0),0)),\"\",(INDEX('Employee Data'!$K$4:$K$553,MATCH(Databackup!A47,Employee_Name,0))))","v":""},{"$f":"IF(ISERROR(INDEX('Employee Data'!$L$4:$L$553,MATCH(Databackup!A47,Employee_Name,0),0)),\"\",(INDEX('Employee Data'!$L$4:$L$553,MATCH(Databackup!A47,Employee_Name,0))))","v":""},{"$f":"IF(ISERROR(INDEX('Employee Data'!$M$4:$M$553,MATCH(Databackup!A47,Employee_Name,0),0)),\"\",(INDEX('Employee Data'!$M$4:$M$553,MATCH(Databackup!A47,Employee_Name,0))))","v":""},{"$f":"IF(ISERROR(INDEX('Employee Data'!$N$4:$N$553,MATCH(Databackup!A47,Employee_Name,0),0)),\"\",(INDEX('Employee Data'!$N$4:$N$553,MATCH(Databackup!A47,Employee_Name,0))))","v":""},{"$f":"IF(ISERROR(INDEX('Employee Data'!$O$4:$O$553,MATCH(Databackup!A47,Employee_Name,0),0)),\"\",(INDEX('Employee Data'!$O$4:$O$553,MATCH(Databackup!A47,Employee_Name,0))))","v":""}]
[{"$f":"INDEX(Employee_Name,MATCH(SMALL(IF($A$1='Employee Data'!$I$4:$I$553,'Employee Data'!$B$4:$B$553,\"\"),ROW('Employee Data'!A46)),IF($A$1='Employee Data'!$I$4:$I$553,'Employee Data'!$B$4:$B$553,\"\"),0))","v":{"$error":"#NUM!"}},{"$f":"IF(ISERROR(INDEX('Employee Data'!$B$4:$B$553,MATCH(Databackup!A48,Employee_Name,0),0)),\"\",(INDEX('Employee Data'!$B$4:$B$553,MATCH(Databackup!A48,Employee_Name,0))))","v":""},{"$f":"IF(ISERROR(INDEX('Employee Data'!$C$4:$C$553,MATCH(Databackup!A48,Employee_Name,0),0)),\"\",(INDEX('Employee Data'!$C$4:$C$553,MATCH(Databackup!A48,Employee_Name,0))))","v":""},{"$f":"IF(ISERROR(INDEX('Employee Data'!$D$4:$D$553,MATCH(Databackup!A48,Employee_Name,0),0)),\"\",(INDEX('Employee Data'!$D$4:$D$553,MATCH(Databackup!A48,Employee_Name,0))))","v":""},{"$f":"IF(ISERROR(INDEX('Employee Data'!$F$4:$F$553,MATCH(Databackup!A48,Employee_Name,0),0)),\"\",(INDEX('Employee Data'!$F$4:$F$553,MATCH(Databackup!A48,Employee_Name,0))))","v":""},{"$f":"IF(ISERROR(INDEX('Employee Data'!$G$4:$G$553,MATCH(Databackup!A48,Employee_Name,0),0)),\"\",(INDEX('Employee Data'!$G$4:$G$553,MATCH(Databackup!A48,Employee_Name,0))))","v":""},{"$f":"IF(ISERROR(INDEX('Employee Data'!$H$4:$H$553,MATCH(Databackup!A48,Employee_Name,0),0)),\"\",(INDEX('Employee Data'!$H$4:$H$553,MATCH(Databackup!A48,Employee_Name,0))))","v":""},{"$f":"IF(ISERROR(INDEX('Employee Data'!$I$4:$I$553,MATCH(Databackup!A48,Employee_Name,0),0)),\"\",(INDEX('Employee Data'!$I$4:$I$553,MATCH(Databackup!A48,Employee_Name,0))))","v":""},{"$f":"IF(ISERROR(INDEX('Employee Data'!$J$4:$J$553,MATCH(Databackup!A48,Employee_Name,0),0)),\"\",(INDEX('Employee Data'!J$4:$J$553,MATCH(Databackup!A48,Employee_Name,0))))","v":""},{"$f":"IF(ISERROR(INDEX('Employee Data'!$K$4:$K$553,MATCH(Databackup!A48,Employee_Name,0),0)),\"\",(INDEX('Employee Data'!$K$4:$K$553,MATCH(Databackup!A48,Employee_Name,0))))","v":""},{"$f":"IF(ISERROR(INDEX('Employee Data'!$L$4:$L$553,MATCH(Databackup!A48,Employee_Name,0),0)),\"\",(INDEX('Employee Data'!$L$4:$L$553,MATCH(Databackup!A48,Employee_Name,0))))","v":""},{"$f":"IF(ISERROR(INDEX('Employee Data'!$M$4:$M$553,MATCH(Databackup!A48,Employee_Name,0),0)),\"\",(INDEX('Employee Data'!$M$4:$M$553,MATCH(Databackup!A48,Employee_Name,0))))","v":""},{"$f":"IF(ISERROR(INDEX('Employee Data'!$N$4:$N$553,MATCH(Databackup!A48,Employee_Name,0),0)),\"\",(INDEX('Employee Data'!$N$4:$N$553,MATCH(Databackup!A48,Employee_Name,0))))","v":""},{"$f":"IF(ISERROR(INDEX('Employee Data'!$O$4:$O$553,MATCH(Databackup!A48,Employee_Name,0),0)),\"\",(INDEX('Employee Data'!$O$4:$O$553,MATCH(Databackup!A48,Employee_Name,0))))","v":""}]
[{"$f":"INDEX(Employee_Name,MATCH(SMALL(IF($A$1='Employee Data'!$I$4:$I$553,'Employee Data'!$B$4:$B$553,\"\"),ROW('Employee Data'!A47)),IF($A$1='Employee Data'!$I$4:$I$553,'Employee Data'!$B$4:$B$553,\"\"),0))","v":{"$error":"#NUM!"}},{"$f":"IF(ISERROR(INDEX('Employee Data'!$B$4:$B$553,MATCH(Databackup!A49,Employee_Name,0),0)),\"\",(INDEX('Employee Data'!$B$4:$B$553,MATCH(Databackup!A49,Employee_Name,0))))","v":""},{"$f":"IF(ISERROR(INDEX('Employee Data'!$C$4:$C$553,MATCH(Databackup!A49,Employee_Name,0),0)),\"\",(INDEX('Employee Data'!$C$4:$C$553,MATCH(Databackup!A49,Employee_Name,0))))","v":""},{"$f":"IF(ISERROR(INDEX('Employee Data'!$D$4:$D$553,MATCH(Databackup!A49,Employee_Name,0),0)),\"\",(INDEX('Employee Data'!$D$4:$D$553,MATCH(Databackup!A49,Employee_Name,0))))","v":""},{"$f":"IF(ISERROR(INDEX('Employee Data'!$F$4:$F$553,MATCH(Databackup!A49,Employee_Name,0),0)),\"\",(INDEX('Employee Data'!$F$4:$F$553,MATCH(Databackup!A49,Employee_Name,0))))","v":""},{"$f":"IF(ISERROR(INDEX('Employee Data'!$G$4:$G$553,MATCH(Databackup!A49,Employee_Name,0),0)),\"\",(INDEX('Employee Data'!$G$4:$G$553,MATCH(Databackup!A49,Employee_Name,0))))","v":""},{"$f":"IF(ISERROR(INDEX('Employee Data'!$H$4:$H$553,MATCH(Databackup!A49,Employee_Name,0),0)),\"\",(INDEX('Employee Data'!$H$4:$H$553,MATCH(Databackup!A49,Employee_Name,0))))","v":""},{"$f":"IF(ISERROR(INDEX('Employee Data'!$I$4:$I$553,MATCH(Databackup!A49,Employee_Name,0),0)),\"\",(INDEX('Employee Data'!$I$4:$I$553,MATCH(Databackup!A49,Employee_Name,0))))","v":""},{"$f":"IF(ISERROR(INDEX('Employee Data'!$J$4:$J$553,MATCH(Databackup!A49,Employee_Name,0),0)),\"\",(INDEX('Employee Data'!J$4:$J$553,MATCH(Databackup!A49,Employee_Name,0))))","v":""},{"$f":"IF(ISERROR(INDEX('Employee Data'!$K$4:$K$553,MATCH(Databackup!A49,Employee_Name,0),0)),\"\",(INDEX('Employee Data'!$K$4:$K$553,MATCH(Databackup!A49,Employee_Name,0))))","v":""},{"$f":"IF(ISERROR(INDEX('Employee Data'!$L$4:$L$553,MATCH(Databackup!A49,Employee_Name,0),0)),\"\",(INDEX('Employee Data'!$L$4:$L$553,MATCH(Databackup!A49,Employee_Name,0))))","v":""},{"$f":"IF(ISERROR(INDEX('Employee Data'!$M$4:$M$553,MATCH(Databackup!A49,Employee_Name,0),0)),\"\",(INDEX('Employee Data'!$M$4:$M$553,MATCH(Databackup!A49,Employee_Name,0))))","v":""},{"$f":"IF(ISERROR(INDEX('Employee Data'!$N$4:$N$553,MATCH(Databackup!A49,Employee_Name,0),0)),\"\",(INDEX('Employee Data'!$N$4:$N$553,MATCH(Databackup!A49,Employee_Name,0))))","v":""},{"$f":"IF(ISERROR(INDEX('Employee Data'!$O$4:$O$553,MATCH(Databackup!A49,Employee_Name,0),0)),\"\",(INDEX('Employee Data'!$O$4:$O$553,MATCH(Databackup!A49,Employee_Name,0))))","v":""}]
[{"$f":"INDEX(Employee_Name,MATCH(SMALL(IF($A$1='Employee Data'!$I$4:$I$553,'Employee Data'!$B$4:$B$553,\"\"),ROW('Employee Data'!A48)),IF($A$1='Employee Data'!$I$4:$I$553,'Employee Data'!$B$4:$B$553,\"\"),0))","v":{"$error":"#NUM!"}},{"$f":"IF(ISERROR(INDEX('Employee Data'!$B$4:$B$553,MATCH(Databackup!A50,Employee_Name,0),0)),\"\",(INDEX('Employee Data'!$B$4:$B$553,MATCH(Databackup!A50,Employee_Name,0))))","v":""},{"$f":"IF(ISERROR(INDEX('Employee Data'!$C$4:$C$553,MATCH(Databackup!A50,Employee_Name,0),0)),\"\",(INDEX('Employee Data'!$C$4:$C$553,MATCH(Databackup!A50,Employee_Name,0))))","v":""},{"$f":"IF(ISERROR(INDEX('Employee Data'!$D$4:$D$553,MATCH(Databackup!A50,Employee_Name,0),0)),\"\",(INDEX('Employee Data'!$D$4:$D$553,MATCH(Databackup!A50,Employee_Name,0))))","v":""},{"$f":"IF(ISERROR(INDEX('Employee Data'!$F$4:$F$553,MATCH(Databackup!A50,Employee_Name,0),0)),\"\",(INDEX('Employee Data'!$F$4:$F$553,MATCH(Databackup!A50,Employee_Name,0))))","v":""},{"$f":"IF(ISERROR(INDEX('Employee Data'!$G$4:$G$553,MATCH(Databackup!A50,Employee_Name,0),0)),\"\",(INDEX('Employee Data'!$G$4:$G$553,MATCH(Databackup!A50,Employee_Name,0))))","v":""},{"$f":"IF(ISERROR(INDEX('Employee Data'!$H$4:$H$553,MATCH(Databackup!A50,Employee_Name,0),0)),\"\",(INDEX('Employee Data'!$H$4:$H$553,MATCH(Databackup!A50,Employee_Name,0))))","v":""},{"$f":"IF(ISERROR(INDEX('Employee Data'!$I$4:$I$553,MATCH(Databackup!A50,Employee_Name,0),0)),\"\",(INDEX('Employee Data'!$I$4:$I$553,MATCH(Databackup!A50,Employee_Name,0))))","v":""},{"$f":"IF(ISERROR(INDEX('Employee Data'!$J$4:$J$553,MATCH(Databackup!A50,Employee_Name,0),0)),\"\",(INDEX('Employee Data'!J$4:$J$553,MATCH(Databackup!A50,Employee_Name,0))))","v":""},{"$f":"IF(ISERROR(INDEX('Employee Data'!$K$4:$K$553,MATCH(Databackup!A50,Employee_Name,0),0)),\"\",(INDEX('Employee Data'!$K$4:$K$553,MATCH(Databackup!A50,Employee_Name,0))))","v":""},{"$f":"IF(ISERROR(INDEX('Employee Data'!$L$4:$L$553,MATCH(Databackup!A50,Employee_Name,0),0)),\"\",(INDEX('Employee Data'!$L$4:$L$553,MATCH(Databackup!A50,Employee_Name,0))))","v":""},{"$f":"IF(ISERROR(INDEX('Employee Data'!$M$4:$M$553,MATCH(Databackup!A50,Employee_Name,0),0)),\"\",(INDEX('Employee Data'!$M$4:$M$553,MATCH(Databackup!A50,Employee_Name,0))))","v":""},{"$f":"IF(ISERROR(INDEX('Employee Data'!$N$4:$N$553,MATCH(Databackup!A50,Employee_Name,0),0)),\"\",(INDEX('Employee Data'!$N$4:$N$553,MATCH(Databackup!A50,Employee_Name,0))))","v":""},{"$f":"IF(ISERROR(INDEX('Employee Data'!$O$4:$O$553,MATCH(Databackup!A50,Employee_Name,0),0)),\"\",(INDEX('Employee Data'!$O$4:$O$553,MATCH(Databackup!A50,Employee_Name,0))))","v":""}]
[{"$f":"INDEX(Employee_Name,MATCH(SMALL(IF($A$1='Employee Data'!$I$4:$I$553,'Employee Data'!$B$4:$B$553,\"\"),ROW('Employee Data'!A49)),IF($A$1='Employee Data'!$I$4:$I$553,'Employee Data'!$B$4:$B$553,\"\"),0))","v":{"$error":"#NUM!"}},{"$f":"IF(ISERROR(INDEX('Employee Data'!$B$4:$B$553,MATCH(Databackup!A51,Employee_Name,0),0)),\"\",(INDEX('Employee Data'!$B$4:$B$553,MATCH(Databackup!A51,Employee_Name,0))))","v":""},{"$f":"IF(ISERROR(INDEX('Employee Data'!$C$4:$C$553,MATCH(Databackup!A51,Employee_Name,0),0)),\"\",(INDEX('Employee Data'!$C$4:$C$553,MATCH(Databackup!A51,Employee_Name,0))))","v":""},{"$f":"IF(ISERROR(INDEX('Employee Data'!$D$4:$D$553,MATCH(Databackup!A51,Employee_Name,0),0)),\"\",(INDEX('Employee Data'!$D$4:$D$553,MATCH(Databackup!A51,Employee_Name,0))))","v":""},{"$f":"IF(ISERROR(INDEX('Employee Data'!$F$4:$F$553,MATCH(Databackup!A51,Employee_Name,0),0)),\"\",(INDEX('Employee Data'!$F$4:$F$553,MATCH(Databackup!A51,Employee_Name,0))))","v":""},{"$f":"IF(ISERROR(INDEX('Employee Data'!$G$4:$G$553,MATCH(Databackup!A51,Employee_Name,0),0)),\"\",(INDEX('Employee Data'!$G$4:$G$553,MATCH(Databackup!A51,Employee_Name,0))))","v":""},{"$f":"IF(ISERROR(INDEX('Employee Data'!$H$4:$H$553,MATCH(Databackup!A51,Employee_Name,0),0)),\"\",(INDEX('Employee Data'!$H$4:$H$553,MATCH(Databackup!A51,Employee_Name,0))))","v":""},{"$f":"IF(ISERROR(INDEX('Employee Data'!$I$4:$I$553,MATCH(Databackup!A51,Employee_Name,0),0)),\"\",(INDEX('Employee Data'!$I$4:$I$553,MATCH(Databackup!A51,Employee_Name,0))))","v":""},{"$f":"IF(ISERROR(INDEX('Employee Data'!$J$4:$J$553,MATCH(Databackup!A51,Employee_Name,0),0)),\"\",(INDEX('Employee Data'!J$4:$J$553,MATCH(Databackup!A51,Employee_Name,0))))","v":""},{"$f":"IF(ISERROR(INDEX('Employee Data'!$K$4:$K$553,MATCH(Databackup!A51,Employee_Name,0),0)),\"\",(INDEX('Employee Data'!$K$4:$K$553,MATCH(Databackup!A51,Employee_Name,0))))","v":""},{"$f":"IF(ISERROR(INDEX('Employee Data'!$L$4:$L$553,MATCH(Databackup!A51,Employee_Name,0),0)),\"\",(INDEX('Employee Data'!$L$4:$L$553,MATCH(Databackup!A51,Employee_Name,0))))","v":""},{"$f":"IF(ISERROR(INDEX('Employee Data'!$M$4:$M$553,MATCH(Databackup!A51,Employee_Name,0),0)),\"\",(INDEX('Employee Data'!$M$4:$M$553,MATCH(Databackup!A51,Employee_Name,0))))","v":""},{"$f":"IF(ISERROR(INDEX('Employee Data'!$N$4:$N$553,MATCH(Databackup!A51,Employee_Name,0),0)),\"\",(INDEX('Employee Data'!$N$4:$N$553,MATCH(Databackup!A51,Employee_Name,0))))","v":""},{"$f":"IF(ISERROR(INDEX('Employee Data'!$O$4:$O$553,MATCH(Databackup!A51,Employee_Name,0),0)),\"\",(INDEX('Employee Data'!$O$4:$O$553,MATCH(Databackup!A51,Employee_Name,0))))","v":""}]
[{"$f":"INDEX(Employee_Name,MATCH(SMALL(IF($A$1='Employee Data'!$I$4:$I$553,'Employee Data'!$B$4:$B$553,\"\"),ROW('Employee Data'!A50)),IF($A$1='Employee Data'!$I$4:$I$553,'Employee Data'!$B$4:$B$553,\"\"),0))","v":{"$error":"#NUM!"}},{"$f":"IF(ISERROR(INDEX('Employee Data'!$B$4:$B$553,MATCH(Databackup!A52,Employee_Name,0),0)),\"\",(INDEX('Employee Data'!$B$4:$B$553,MATCH(Databackup!A52,Employee_Name,0))))","v":""},{"$f":"IF(ISERROR(INDEX('Employee Data'!$C$4:$C$553,MATCH(Databackup!A52,Employee_Name,0),0)),\"\",(INDEX('Employee Data'!$C$4:$C$553,MATCH(Databackup!A52,Employee_Name,0))))","v":""},{"$f":"IF(ISERROR(INDEX('Employee Data'!$D$4:$D$553,MATCH(Databackup!A52,Employee_Name,0),0)),\"\",(INDEX('Employee Data'!$D$4:$D$553,MATCH(Databackup!A52,Employee_Name,0))))","v":""},{"$f":"IF(ISERROR(INDEX('Employee Data'!$F$4:$F$553,MATCH(Databackup!A52,Employee_Name,0),0)),\"\",(INDEX('Employee Data'!$F$4:$F$553,MATCH(Databackup!A52,Employee_Name,0))))","v":""},{"$f":"IF(ISERROR(INDEX('Employee Data'!$G$4:$G$553,MATCH(Databackup!A52,Employee_Name,0),0)),\"\",(INDEX('Employee Data'!$G$4:$G$553,MATCH(Databackup!A52,Employee_Name,0))))","v":""},{"$f":"IF(ISERROR(INDEX('Employee Data'!$H$4:$H$553,MATCH(Databackup!A52,Employee_Name,0),0)),\"\",(INDEX('Employee Data'!$H$4:$H$553,MATCH(Databackup!A52,Employee_Name,0))))","v":""},{"$f":"IF(ISERROR(INDEX('Employee Data'!$I$4:$I$553,MATCH(Databackup!A52,Employee_Name,0),0)),\"\",(INDEX('Employee Data'!$I$4:$I$553,MATCH(Databackup!A52,Employee_Name,0))))","v":""},{"$f":"IF(ISERROR(INDEX('Employee Data'!$J$4:$J$553,MATCH(Databackup!A52,Employee_Name,0),0)),\"\",(INDEX('Employee Data'!J$4:$J$553,MATCH(Databackup!A52,Employee_Name,0))))","v":""},{"$f":"IF(ISERROR(INDEX('Employee Data'!$K$4:$K$553,MATCH(Databackup!A52,Employee_Name,0),0)),\"\",(INDEX('Employee Data'!$K$4:$K$553,MATCH(Databackup!A52,Employee_Name,0))))","v":""},{"$f":"IF(ISERROR(INDEX('Employee Data'!$L$4:$L$553,MATCH(Databackup!A52,Employee_Name,0),0)),\"\",(INDEX('Employee Data'!$L$4:$L$553,MATCH(Databackup!A52,Employee_Name,0))))","v":""},{"$f":"IF(ISERROR(INDEX('Employee Data'!$M$4:$M$553,MATCH(Databackup!A52,Employee_Name,0),0)),\"\",(INDEX('Employee Data'!$M$4:$M$553,MATCH(Databackup!A52,Employee_Name,0))))","v":""},{"$f":"IF(ISERROR(INDEX('Employee Data'!$N$4:$N$553,MATCH(Databackup!A52,Employee_Name,0),0)),\"\",(INDEX('Employee Data'!$N$4:$N$553,MATCH(Databackup!A52,Employee_Name,0))))","v":""},{"$f":"IF(ISERROR(INDEX('Employee Data'!$O$4:$O$553,MATCH(Databackup!A52,Employee_Name,0),0)),\"\",(INDEX('Employee Data'!$O$4:$O$553,MATCH(Databackup!A52,Employee_Name,0))))","v":""}]
[{"$f":"INDEX(Employee_Name,MATCH(SMALL(IF($A$1='Employee Data'!$I$4:$I$553,'Employee Data'!$B$4:$B$553,\"\"),ROW('Employee Data'!A51)),IF($A$1='Employee Data'!$I$4:$I$553,'Employee Data'!$B$4:$B$553,\"\"),0))","v":{"$error":"#NUM!"}},{"$f":"IF(ISERROR(INDEX('Employee Data'!$B$4:$B$553,MATCH(Databackup!A53,Employee_Name,0),0)),\"\",(INDEX('Employee Data'!$B$4:$B$553,MATCH(Databackup!A53,Employee_Name,0))))","v":""},{"$f":"IF(ISERROR(INDEX('Employee Data'!$C$4:$C$553,MATCH(Databackup!A53,Employee_Name,0),0)),\"\",(INDEX('Employee Data'!$C$4:$C$553,MATCH(Databackup!A53,Employee_Name,0))))","v":""},{"$f":"IF(ISERROR(INDEX('Employee Data'!$D$4:$D$553,MATCH(Databackup!A53,Employee_Name,0),0)),\"\",(INDEX('Employee Data'!$D$4:$D$553,MATCH(Databackup!A53,Employee_Name,0))))","v":""},{"$f":"IF(ISERROR(INDEX('Employee Data'!$F$4:$F$553,MATCH(Databackup!A53,Employee_Name,0),0)),\"\",(INDEX('Employee Data'!$F$4:$F$553,MATCH(Databackup!A53,Employee_Name,0))))","v":""},{"$f":"IF(ISERROR(INDEX('Employee Data'!$G$4:$G$553,MATCH(Databackup!A53,Employee_Name,0),0)),\"\",(INDEX('Employee Data'!$G$4:$G$553,MATCH(Databackup!A53,Employee_Name,0))))","v":""},{"$f":"IF(ISERROR(INDEX('Employee Data'!$H$4:$H$553,MATCH(Databackup!A53,Employee_Name,0),0)),\"\",(INDEX('Employee Data'!$H$4:$H$553,MATCH(Databackup!A53,Employee_Name,0))))","v":""},{"$f":"IF(ISERROR(INDEX('Employee Data'!$I$4:$I$553,MATCH(Databackup!A53,Employee_Name,0),0)),\"\",(INDEX('Employee Data'!$I$4:$I$553,MATCH(Databackup!A53,Employee_Name,0))))","v":""},{"$f":"IF(ISERROR(INDEX('Employee Data'!$J$4:$J$553,MATCH(Databackup!A53,Employee_Name,0),0)),\"\",(INDEX('Employee Data'!J$4:$J$553,MATCH(Databackup!A53,Employee_Name,0))))","v":""},{"$f":"IF(ISERROR(INDEX('Employee Data'!$K$4:$K$553,MATCH(Databackup!A53,Employee_Name,0),0)),\"\",(INDEX('Employee Data'!$K$4:$K$553,MATCH(Databackup!A53,Employee_Name,0))))","v":""},{"$f":"IF(ISERROR(INDEX('Employee Data'!$L$4:$L$553,MATCH(Databackup!A53,Employee_Name,0),0)),\"\",(INDEX('Employee Data'!$L$4:$L$553,MATCH(Databackup!A53,Employee_Name,0))))","v":""},{"$f":"IF(ISERROR(INDEX('Employee Data'!$M$4:$M$553,MATCH(Databackup!A53,Employee_Name,0),0)),\"\",(INDEX('Employee Data'!$M$4:$M$553,MATCH(Databackup!A53,Employee_Name,0))))","v":""},{"$f":"IF(ISERROR(INDEX('Employee Data'!$N$4:$N$553,MATCH(Databackup!A53,Employee_Name,0),0)),\"\",(INDEX('Employee Data'!$N$4:$N$553,MATCH(Databackup!A53,Employee_Name,0))))","v":""},{"$f":"IF(ISERROR(INDEX('Employee Data'!$O$4:$O$553,MATCH(Databackup!A53,Employee_Name,0),0)),\"\",(INDEX('Employee Data'!$O$4:$O$553,MATCH(Databackup!A53,Employee_Name,0))))","v":""}]
[{"$f":"INDEX(Employee_Name,MATCH(SMALL(IF($A$1='Employee Data'!$I$4:$I$553,'Employee Data'!$B$4:$B$553,\"\"),ROW('Employee Data'!A52)),IF($A$1='Employee Data'!$I$4:$I$553,'Employee Data'!$B$4:$B$553,\"\"),0))","v":{"$error":"#NUM!"}},{"$f":"IF(ISERROR(INDEX('Employee Data'!$B$4:$B$553,MATCH(Databackup!A54,Employee_Name,0),0)),\"\",(INDEX('Employee Data'!$B$4:$B$553,MATCH(Databackup!A54,Employee_Name,0))))","v":""},{"$f":"IF(ISERROR(INDEX('Employee Data'!$C$4:$C$553,MATCH(Databackup!A54,Employee_Name,0),0)),\"\",(INDEX('Employee Data'!$C$4:$C$553,MATCH(Databackup!A54,Employee_Name,0))))","v":""},{"$f":"IF(ISERROR(INDEX('Employee Data'!$D$4:$D$553,MATCH(Databackup!A54,Employee_Name,0),0)),\"\",(INDEX('Employee Data'!$D$4:$D$553,MATCH(Databackup!A54,Employee_Name,0))))","v":""},{"$f":"IF(ISERROR(INDEX('Employee Data'!$F$4:$F$553,MATCH(Databackup!A54,Employee_Name,0),0)),\"\",(INDEX('Employee Data'!$F$4:$F$553,MATCH(Databackup!A54,Employee_Name,0))))","v":""},{"$f":"IF(ISERROR(INDEX('Employee Data'!$G$4:$G$553,MATCH(Databackup!A54,Employee_Name,0),0)),\"\",(INDEX('Employee Data'!$G$4:$G$553,MATCH(Databackup!A54,Employee_Name,0))))","v":""},{"$f":"IF(ISERROR(INDEX('Employee Data'!$H$4:$H$553,MATCH(Databackup!A54,Employee_Name,0),0)),\"\",(INDEX('Employee Data'!$H$4:$H$553,MATCH(Databackup!A54,Employee_Name,0))))","v":""},{"$f":"IF(ISERROR(INDEX('Employee Data'!$I$4:$I$553,MATCH(Databackup!A54,Employee_Name,0),0)),\"\",(INDEX('Employee Data'!$I$4:$I$553,MATCH(Databackup!A54,Employee_Name,0))))","v":""},{"$f":"IF(ISERROR(INDEX('Employee Data'!$J$4:$J$553,MATCH(Databackup!A54,Employee_Name,0),0)),\"\",(INDEX('Employee Data'!J$4:$J$553,MATCH(Databackup!A54,Employee_Name,0))))","v":""},{"$f":"IF(ISERROR(INDEX('Employee Data'!$K$4:$K$553,MATCH(Databackup!A54,Employee_Name,0),0)),\"\",(INDEX('Employee Data'!$K$4:$K$553,MATCH(Databackup!A54,Employee_Name,0))))","v":""},{"$f":"IF(ISERROR(INDEX('Employee Data'!$L$4:$L$553,MATCH(Databackup!A54,Employee_Name,0),0)),\"\",(INDEX('Employee Data'!$L$4:$L$553,MATCH(Databackup!A54,Employee_Name,0))))","v":""},{"$f":"IF(ISERROR(INDEX('Employee Data'!$M$4:$M$553,MATCH(Databackup!A54,Employee_Name,0),0)),\"\",(INDEX('Employee Data'!$M$4:$M$553,MATCH(Databackup!A54,Employee_Name,0))))","v":""},{"$f":"IF(ISERROR(INDEX('Employee Data'!$N$4:$N$553,MATCH(Databackup!A54,Employee_Name,0),0)),\"\",(INDEX('Employee Data'!$N$4:$N$553,MATCH(Databackup!A54,Employee_Name,0))))","v":""},{"$f":"IF(ISERROR(INDEX('Employee Data'!$O$4:$O$553,MATCH(Databackup!A54,Employee_Name,0),0)),\"\",(INDEX('Employee Data'!$O$4:$O$553,MATCH(Databackup!A54,Employee_Name,0))))","v":""}]
[{"$f":"INDEX(Employee_Name,MATCH(SMALL(IF($A$1='Employee Data'!$I$4:$I$553,'Employee Data'!$B$4:$B$553,\"\"),ROW('Employee Data'!A53)),IF($A$1='Employee Data'!$I$4:$I$553,'Employee Data'!$B$4:$B$553,\"\"),0))","v":{"$error":"#NUM!"}},{"$f":"IF(ISERROR(INDEX('Employee Data'!$B$4:$B$553,MATCH(Databackup!A55,Employee_Name,0),0)),\"\",(INDEX('Employee Data'!$B$4:$B$553,MATCH(Databackup!A55,Employee_Name,0))))","v":""},{"$f":"IF(ISERROR(INDEX('Employee Data'!$C$4:$C$553,MATCH(Databackup!A55,Employee_Name,0),0)),\"\",(INDEX('Employee Data'!$C$4:$C$553,MATCH(Databackup!A55,Employee_Name,0))))","v":""},{"$f":"IF(ISERROR(INDEX('Employee Data'!$D$4:$D$553,MATCH(Databackup!A55,Employee_Name,0),0)),\"\",(INDEX('Employee Data'!$D$4:$D$553,MATCH(Databackup!A55,Employee_Name,0))))","v":""},{"$f":"IF(ISERROR(INDEX('Employee Data'!$F$4:$F$553,MATCH(Databackup!A55,Employee_Name,0),0)),\"\",(INDEX('Employee Data'!$F$4:$F$553,MATCH(Databackup!A55,Employee_Name,0))))","v":""},{"$f":"IF(ISERROR(INDEX('Employee Data'!$G$4:$G$553,MATCH(Databackup!A55,Employee_Name,0),0)),\"\",(INDEX('Employee Data'!$G$4:$G$553,MATCH(Databackup!A55,Employee_Name,0))))","v":""},{"$f":"IF(ISERROR(INDEX('Employee Data'!$H$4:$H$553,MATCH(Databackup!A55,Employee_Name,0),0)),\"\",(INDEX('Employee Data'!$H$4:$H$553,MATCH(Databackup!A55,Employee_Name,0))))","v":""},{"$f":"IF(ISERROR(INDEX('Employee Data'!$I$4:$I$553,MATCH(Databackup!A55,Employee_Name,0),0)),\"\",(INDEX('Employee Data'!$I$4:$I$553,MATCH(Databackup!A55,Employee_Name,0))))","v":""},{"$f":"IF(ISERROR(INDEX('Employee Data'!$J$4:$J$553,MATCH(Databackup!A55,Employee_Name,0),0)),\"\",(INDEX('Employee Data'!J$4:$J$553,MATCH(Databackup!A55,Employee_Name,0))))","v":""},{"$f":"IF(ISERROR(INDEX('Employee Data'!$K$4:$K$553,MATCH(Databackup!A55,Employee_Name,0),0)),\"\",(INDEX('Employee Data'!$K$4:$K$553,MATCH(Databackup!A55,Employee_Name,0))))","v":""},{"$f":"IF(ISERROR(INDEX('Employee Data'!$L$4:$L$553,MATCH(Databackup!A55,Employee_Name,0),0)),\"\",(INDEX('Employee Data'!$L$4:$L$553,MATCH(Databackup!A55,Employee_Name,0))))","v":""},{"$f":"IF(ISERROR(INDEX('Employee Data'!$M$4:$M$553,MATCH(Databackup!A55,Employee_Name,0),0)),\"\",(INDEX('Employee Data'!$M$4:$M$553,MATCH(Databackup!A55,Employee_Name,0))))","v":""},{"$f":"IF(ISERROR(INDEX('Employee Data'!$N$4:$N$553,MATCH(Databackup!A55,Employee_Name,0),0)),\"\",(INDEX('Employee Data'!$N$4:$N$553,MATCH(Databackup!A55,Employee_Name,0))))","v":""},{"$f":"IF(ISERROR(INDEX('Employee Data'!$O$4:$O$553,MATCH(Databackup!A55,Employee_Name,0),0)),\"\",(INDEX('Employee Data'!$O$4:$O$553,MATCH(Databackup!A55,Employee_Name,0))))","v":""}]
[{"$f":"INDEX(Employee_Name,MATCH(SMALL(IF($A$1='Employee Data'!$I$4:$I$553,'Employee Data'!$B$4:$B$553,\"\"),ROW('Employee Data'!A54)),IF($A$1='Employee Data'!$I$4:$I$553,'Employee Data'!$B$4:$B$553,\"\"),0))","v":{"$error":"#NUM!"}},{"$f":"IF(ISERROR(INDEX('Employee Data'!$B$4:$B$553,MATCH(Databackup!A56,Employee_Name,0),0)),\"\",(INDEX('Employee Data'!$B$4:$B$553,MATCH(Databackup!A56,Employee_Name,0))))","v":""},{"$f":"IF(ISERROR(INDEX('Employee Data'!$C$4:$C$553,MATCH(Databackup!A56,Employee_Name,0),0)),\"\",(INDEX('Employee Data'!$C$4:$C$553,MATCH(Databackup!A56,Employee_Name,0))))","v":""},{"$f":"IF(ISERROR(INDEX('Employee Data'!$D$4:$D$553,MATCH(Databackup!A56,Employee_Name,0),0)),\"\",(INDEX('Employee Data'!$D$4:$D$553,MATCH(Databackup!A56,Employee_Name,0))))","v":""},{"$f":"IF(ISERROR(INDEX('Employee Data'!$F$4:$F$553,MATCH(Databackup!A56,Employee_Name,0),0)),\"\",(INDEX('Employee Data'!$F$4:$F$553,MATCH(Databackup!A56,Employee_Name,0))))","v":""},{"$f":"IF(ISERROR(INDEX('Employee Data'!$G$4:$G$553,MATCH(Databackup!A56,Employee_Name,0),0)),\"\",(INDEX('Employee Data'!$G$4:$G$553,MATCH(Databackup!A56,Employee_Name,0))))","v":""},{"$f":"IF(ISERROR(INDEX('Employee Data'!$H$4:$H$553,MATCH(Databackup!A56,Employee_Name,0),0)),\"\",(INDEX('Employee Data'!$H$4:$H$553,MATCH(Databackup!A56,Employee_Name,0))))","v":""},{"$f":"IF(ISERROR(INDEX('Employee Data'!$I$4:$I$553,MATCH(Databackup!A56,Employee_Name,0),0)),\"\",(INDEX('Employee Data'!$I$4:$I$553,MATCH(Databackup!A56,Employee_Name,0))))","v":""},{"$f":"IF(ISERROR(INDEX('Employee Data'!$J$4:$J$553,MATCH(Databackup!A56,Employee_Name,0),0)),\"\",(INDEX('Employee Data'!J$4:$J$553,MATCH(Databackup!A56,Employee_Name,0))))","v":""},{"$f":"IF(ISERROR(INDEX('Employee Data'!$K$4:$K$553,MATCH(Databackup!A56,Employee_Name,0),0)),\"\",(INDEX('Employee Data'!$K$4:$K$553,MATCH(Databackup!A56,Employee_Name,0))))","v":""},{"$f":"IF(ISERROR(INDEX('Employee Data'!$L$4:$L$553,MATCH(Databackup!A56,Employee_Name,0),0)),\"\",(INDEX('Employee Data'!$L$4:$L$553,MATCH(Databackup!A56,Employee_Name,0))))","v":""},{"$f":"IF(ISERROR(INDEX('Employee Data'!$M$4:$M$553,MATCH(Databackup!A56,Employee_Name,0),0)),\"\",(INDEX('Employee Data'!$M$4:$M$553,MATCH(Databackup!A56,Employee_Name,0))))","v":""},{"$f":"IF(ISERROR(INDEX('Employee Data'!$N$4:$N$553,MATCH(Databackup!A56,Employee_Name,0),0)),\"\",(INDEX('Employee Data'!$N$4:$N$553,MATCH(Databackup!A56,Employee_Name,0))))","v":""},{"$f":"IF(ISERROR(INDEX('Employee Data'!$O$4:$O$553,MATCH(Databackup!A56,Employee_Name,0),0)),\"\",(INDEX('Employee Data'!$O$4:$O$553,MATCH(Databackup!A56,Employee_Name,0))))","v":""}]
[{"$f":"INDEX(Employee_Name,MATCH(SMALL(IF($A$1='Employee Data'!$I$4:$I$553,'Employee Data'!$B$4:$B$553,\"\"),ROW('Employee Data'!A55)),IF($A$1='Employee Data'!$I$4:$I$553,'Employee Data'!$B$4:$B$553,\"\"),0))","v":{"$error":"#NUM!"}},{"$f":"IF(ISERROR(INDEX('Employee Data'!$B$4:$B$553,MATCH(Databackup!A57,Employee_Name,0),0)),\"\",(INDEX('Employee Data'!$B$4:$B$553,MATCH(Databackup!A57,Employee_Name,0))))","v":""},{"$f":"IF(ISERROR(INDEX('Employee Data'!$C$4:$C$553,MATCH(Databackup!A57,Employee_Name,0),0)),\"\",(INDEX('Employee Data'!$C$4:$C$553,MATCH(Databackup!A57,Employee_Name,0))))","v":""},{"$f":"IF(ISERROR(INDEX('Employee Data'!$D$4:$D$553,MATCH(Databackup!A57,Employee_Name,0),0)),\"\",(INDEX('Employee Data'!$D$4:$D$553,MATCH(Databackup!A57,Employee_Name,0))))","v":""},{"$f":"IF(ISERROR(INDEX('Employee Data'!$F$4:$F$553,MATCH(Databackup!A57,Employee_Name,0),0)),\"\",(INDEX('Employee Data'!$F$4:$F$553,MATCH(Databackup!A57,Employee_Name,0))))","v":""},{"$f":"IF(ISERROR(INDEX('Employee Data'!$G$4:$G$553,MATCH(Databackup!A57,Employee_Name,0),0)),\"\",(INDEX('Employee Data'!$G$4:$G$553,MATCH(Databackup!A57,Employee_Name,0))))","v":""},{"$f":"IF(ISERROR(INDEX('Employee Data'!$H$4:$H$553,MATCH(Databackup!A57,Employee_Name,0),0)),\"\",(INDEX('Employee Data'!$H$4:$H$553,MATCH(Databackup!A57,Employee_Name,0))))","v":""},{"$f":"IF(ISERROR(INDEX('Employee Data'!$I$4:$I$553,MATCH(Databackup!A57,Employee_Name,0),0)),\"\",(INDEX('Employee Data'!$I$4:$I$553,MATCH(Databackup!A57,Employee_Name,0))))","v":""},{"$f":"IF(ISERROR(INDEX('Employee Data'!$J$4:$J$553,MATCH(Databackup!A57,Employee_Name,0),0)),\"\",(INDEX('Employee Data'!J$4:$J$553,MATCH(Databackup!A57,Employee_Name,0))))","v":""},{"$f":"IF(ISERROR(INDEX('Employee Data'!$K$4:$K$553,MATCH(Databackup!A57,Employee_Name,0),0)),\"\",(INDEX('Employee Data'!$K$4:$K$553,MATCH(Databackup!A57,Employee_Name,0))))","v":""},{"$f":"IF(ISERROR(INDEX('Employee Data'!$L$4:$L$553,MATCH(Databackup!A57,Employee_Name,0),0)),\"\",(INDEX('Employee Data'!$L$4:$L$553,MATCH(Databackup!A57,Employee_Name,0))))","v":""},{"$f":"IF(ISERROR(INDEX('Employee Data'!$M$4:$M$553,MATCH(Databackup!A57,Employee_Name,0),0)),\"\",(INDEX('Employee Data'!$M$4:$M$553,MATCH(Databackup!A57,Employee_Name,0))))","v":""},{"$f":"IF(ISERROR(INDEX('Employee Data'!$N$4:$N$553,MATCH(Databackup!A57,Employee_Name,0),0)),\"\",(INDEX('Employee Data'!$N$4:$N$553,MATCH(Databackup!A57,Employee_Name,0))))","v":""},{"$f":"IF(ISERROR(INDEX('Employee Data'!$O$4:$O$553,MATCH(Databackup!A57,Employee_Name,0),0)),\"\",(INDEX('Employee Data'!$O$4:$O$553,MATCH(Databackup!A57,Employee_Name,0))))","v":""}]
[{"$f":"INDEX(Employee_Name,MATCH(SMALL(IF($A$1='Employee Data'!$I$4:$I$553,'Employee Data'!$B$4:$B$553,\"\"),ROW('Employee Data'!A56)),IF($A$1='Employee Data'!$I$4:$I$553,'Employee Data'!$B$4:$B$553,\"\"),0))","v":{"$error":"#NUM!"}},{"$f":"IF(ISERROR(INDEX('Employee Data'!$B$4:$B$553,MATCH(Databackup!A58,Employee_Name,0),0)),\"\",(INDEX('Employee Data'!$B$4:$B$553,MATCH(Databackup!A58,Employee_Name,0))))","v":""},{"$f":"IF(ISERROR(INDEX('Employee Data'!$C$4:$C$553,MATCH(Databackup!A58,Employee_Name,0),0)),\"\",(INDEX('Employee Data'!$C$4:$C$553,MATCH(Databackup!A58,Employee_Name,0))))","v":""},{"$f":"IF(ISERROR(INDEX('Employee Data'!$D$4:$D$553,MATCH(Databackup!A58,Employee_Name,0),0)),\"\",(INDEX('Employee Data'!$D$4:$D$553,MATCH(Databackup!A58,Employee_Name,0))))","v":""},{"$f":"IF(ISERROR(INDEX('Employee Data'!$F$4:$F$553,MATCH(Databackup!A58,Employee_Name,0),0)),\"\",(INDEX('Employee Data'!$F$4:$F$553,MATCH(Databackup!A58,Employee_Name,0))))","v":""},{"$f":"IF(ISERROR(INDEX('Employee Data'!$G$4:$G$553,MATCH(Databackup!A58,Employee_Name,0),0)),\"\",(INDEX('Employee Data'!$G$4:$G$553,MATCH(Databackup!A58,Employee_Name,0))))","v":""},{"$f":"IF(ISERROR(INDEX('Employee Data'!$H$4:$H$553,MATCH(Databackup!A58,Employee_Name,0),0)),\"\",(INDEX('Employee Data'!$H$4:$H$553,MATCH(Databackup!A58,Employee_Name,0))))","v":""},{"$f":"IF(ISERROR(INDEX('Employee Data'!$I$4:$I$553,MATCH(Databackup!A58,Employee_Name,0),0)),\"\",(INDEX('Employee Data'!$I$4:$I$553,MATCH(Databackup!A58,Employee_Name,0))))","v":""},{"$f":"IF(ISERROR(INDEX('Employee Data'!$J$4:$J$553,MATCH(Databackup!A58,Employee_Name,0),0)),\"\",(INDEX('Employee Data'!J$4:$J$553,MATCH(Databackup!A58,Employee_Name,0))))","v":""},{"$f":"IF(ISERROR(INDEX('Employee Data'!$K$4:$K$553,MATCH(Databackup!A58,Employee_Name,0),0)),\"\",(INDEX('Employee Data'!$K$4:$K$553,MATCH(Databackup!A58,Employee_Name,0))))","v":""},{"$f":"IF(ISERROR(INDEX('Employee Data'!$L$4:$L$553,MATCH(Databackup!A58,Employee_Name,0),0)),\"\",(INDEX('Employee Data'!$L$4:$L$553,MATCH(Databackup!A58,Employee_Name,0))))","v":""},{"$f":"IF(ISERROR(INDEX('Employee Data'!$M$4:$M$553,MATCH(Databackup!A58,Employee_Name,0),0)),\"\",(INDEX('Employee Data'!$M$4:$M$553,MATCH(Databackup!A58,Employee_Name,0))))","v":""},{"$f":"IF(ISERROR(INDEX('Employee Data'!$N$4:$N$553,MATCH(Databackup!A58,Employee_Name,0),0)),\"\",(INDEX('Employee Data'!$N$4:$N$553,MATCH(Databackup!A58,Employee_Name,0))))","v":""},{"$f":"IF(ISERROR(INDEX('Employee Data'!$O$4:$O$553,MATCH(Databackup!A58,Employee_Name,0),0)),\"\",(INDEX('Employee Data'!$O$4:$O$553,MATCH(Databackup!A58,Employee_Name,0))))","v":""}]
[{"$f":"INDEX(Employee_Name,MATCH(SMALL(IF($A$1='Employee Data'!$I$4:$I$553,'Employee Data'!$B$4:$B$553,\"\"),ROW('Employee Data'!A57)),IF($A$1='Employee Data'!$I$4:$I$553,'Employee Data'!$B$4:$B$553,\"\"),0))","v":{"$error":"#NUM!"}},{"$f":"IF(ISERROR(INDEX('Employee Data'!$B$4:$B$553,MATCH(Databackup!A59,Employee_Name,0),0)),\"\",(INDEX('Employee Data'!$B$4:$B$553,MATCH(Databackup!A59,Employee_Name,0))))","v":""},{"$f":"IF(ISERROR(INDEX('Employee Data'!$C$4:$C$553,MATCH(Databackup!A59,Employee_Name,0),0)),\"\",(INDEX('Employee Data'!$C$4:$C$553,MATCH(Databackup!A59,Employee_Name,0))))","v":""},{"$f":"IF(ISERROR(INDEX('Employee Data'!$D$4:$D$553,MATCH(Databackup!A59,Employee_Name,0),0)),\"\",(INDEX('Employee Data'!$D$4:$D$553,MATCH(Databackup!A59,Employee_Name,0))))","v":""},{"$f":"IF(ISERROR(INDEX('Employee Data'!$F$4:$F$553,MATCH(Databackup!A59,Employee_Name,0),0)),\"\",(INDEX('Employee Data'!$F$4:$F$553,MATCH(Databackup!A59,Employee_Name,0))))","v":""},{"$f":"IF(ISERROR(INDEX('Employee Data'!$G$4:$G$553,MATCH(Databackup!A59,Employee_Name,0),0)),\"\",(INDEX('Employee Data'!$G$4:$G$553,MATCH(Databackup!A59,Employee_Name,0))))","v":""},{"$f":"IF(ISERROR(INDEX('Employee Data'!$H$4:$H$553,MATCH(Databackup!A59,Employee_Name,0),0)),\"\",(INDEX('Employee Data'!$H$4:$H$553,MATCH(Databackup!A59,Employee_Name,0))))","v":""},{"$f":"IF(ISERROR(INDEX('Employee Data'!$I$4:$I$553,MATCH(Databackup!A59,Employee_Name,0),0)),\"\",(INDEX('Employee Data'!$I$4:$I$553,MATCH(Databackup!A59,Employee_Name,0))))","v":""},{"$f":"IF(ISERROR(INDEX('Employee Data'!$J$4:$J$553,MATCH(Databackup!A59,Employee_Name,0),0)),\"\",(INDEX('Employee Data'!J$4:$J$553,MATCH(Databackup!A59,Employee_Name,0))))","v":""},{"$f":"IF(ISERROR(INDEX('Employee Data'!$K$4:$K$553,MATCH(Databackup!A59,Employee_Name,0),0)),\"\",(INDEX('Employee Data'!$K$4:$K$553,MATCH(Databackup!A59,Employee_Name,0))))","v":""},{"$f":"IF(ISERROR(INDEX('Employee Data'!$L$4:$L$553,MATCH(Databackup!A59,Employee_Name,0),0)),\"\",(INDEX('Employee Data'!$L$4:$L$553,MATCH(Databackup!A59,Employee_Name,0))))","v":""},{"$f":"IF(ISERROR(INDEX('Employee Data'!$M$4:$M$553,MATCH(Databackup!A59,Employee_Name,0),0)),\"\",(INDEX('Employee Data'!$M$4:$M$553,MATCH(Databackup!A59,Employee_Name,0))))","v":""},{"$f":"IF(ISERROR(INDEX('Employee Data'!$N$4:$N$553,MATCH(Databackup!A59,Employee_Name,0),0)),\"\",(INDEX('Employee Data'!$N$4:$N$553,MATCH(Databackup!A59,Employee_Name,0))))","v":""},{"$f":"IF(ISERROR(INDEX('Employee Data'!$O$4:$O$553,MATCH(Databackup!A59,Employee_Name,0),0)),\"\",(INDEX('Employee Data'!$O$4:$O$553,MATCH(Databackup!A59,Employee_Name,0))))","v":""}]
[{"$f":"INDEX(Employee_Name,MATCH(SMALL(IF($A$1='Employee Data'!$I$4:$I$553,'Employee Data'!$B$4:$B$553,\"\"),ROW('Employee Data'!A58)),IF($A$1='Employee Data'!$I$4:$I$553,'Employee Data'!$B$4:$B$553,\"\"),0))","v":{"$error":"#NUM!"}},{"$f":"IF(ISERROR(INDEX('Employee Data'!$B$4:$B$553,MATCH(Databackup!A60,Employee_Name,0),0)),\"\",(INDEX('Employee Data'!$B$4:$B$553,MATCH(Databackup!A60,Employee_Name,0))))","v":""},{"$f":"IF(ISERROR(INDEX('Employee Data'!$C$4:$C$553,MATCH(Databackup!A60,Employee_Name,0),0)),\"\",(INDEX('Employee Data'!$C$4:$C$553,MATCH(Databackup!A60,Employee_Name,0))))","v":""},{"$f":"IF(ISERROR(INDEX('Employee Data'!$D$4:$D$553,MATCH(Databackup!A60,Employee_Name,0),0)),\"\",(INDEX('Employee Data'!$D$4:$D$553,MATCH(Databackup!A60,Employee_Name,0))))","v":""},{"$f":"IF(ISERROR(INDEX('Employee Data'!$F$4:$F$553,MATCH(Databackup!A60,Employee_Name,0),0)),\"\",(INDEX('Employee Data'!$F$4:$F$553,MATCH(Databackup!A60,Employee_Name,0))))","v":""},{"$f":"IF(ISERROR(INDEX('Employee Data'!$G$4:$G$553,MATCH(Databackup!A60,Employee_Name,0),0)),\"\",(INDEX('Employee Data'!$G$4:$G$553,MATCH(Databackup!A60,Employee_Name,0))))","v":""},{"$f":"IF(ISERROR(INDEX('Employee Data'!$H$4:$H$553,MATCH(Databackup!A60,Employee_Name,0),0)),\"\",(INDEX('Employee Data'!$H$4:$H$553,MATCH(Databackup!A60,Employee_Name,0))))","v":""},{"$f":"IF(ISERROR(INDEX('Employee Data'!$I$4:$I$553,MATCH(Databackup!A60,Employee_Name,0),0)),\"\",(INDEX('Employee Data'!$I$4:$I$553,MATCH(Databackup!A60,Employee_Name,0))))","v":""},{"$f":"IF(ISERROR(INDEX('Employee Data'!$J$4:$J$553,MATCH(Databackup!A60,Employee_Name,0),0)),\"\",(INDEX('Employee Data'!J$4:$J$553,MATCH(Databackup!A60,Employee_Name,0))))","v":""},{"$f":"IF(ISERROR(INDEX('Employee Data'!$K$4:$K$553,MATCH(Databackup!A60,Employee_Name,0),0)),\"\",(INDEX('Employee Data'!$K$4:$K$553,MATCH(Databackup!A60,Employee_Name,0))))","v":""},{"$f":"IF(ISERROR(INDEX('Employee Data'!$L$4:$L$553,MATCH(Databackup!A60,Employee_Name,0),0)),\"\",(INDEX('Employee Data'!$L$4:$L$553,MATCH(Databackup!A60,Employee_Name,0))))","v":""},{"$f":"IF(ISERROR(INDEX('Employee Data'!$M$4:$M$553,MATCH(Databackup!A60,Employee_Name,0),0)),\"\",(INDEX('Employee Data'!$M$4:$M$553,MATCH(Databackup!A60,Employee_Name,0))))","v":""},{"$f":"IF(ISERROR(INDEX('Employee Data'!$N$4:$N$553,MATCH(Databackup!A60,Employee_Name,0),0)),\"\",(INDEX('Employee Data'!$N$4:$N$553,MATCH(Databackup!A60,Employee_Name,0))))","v":""},{"$f":"IF(ISERROR(INDEX('Employee Data'!$O$4:$O$553,MATCH(Databackup!A60,Employee_Name,0),0)),\"\",(INDEX('Employee Data'!$O$4:$O$553,MATCH(Databackup!A60,Employee_Name,0))))","v":""}]
[{"$f":"INDEX(Employee_Name,MATCH(SMALL(IF($A$1='Employee Data'!$I$4:$I$553,'Employee Data'!$B$4:$B$553,\"\"),ROW('Employee Data'!A59)),IF($A$1='Employee Data'!$I$4:$I$553,'Employee Data'!$B$4:$B$553,\"\"),0))","v":{"$error":"#NUM!"}},{"$f":"IF(ISERROR(INDEX('Employee Data'!$B$4:$B$553,MATCH(Databackup!A61,Employee_Name,0),0)),\"\",(INDEX('Employee Data'!$B$4:$B$553,MATCH(Databackup!A61,Employee_Name,0))))","v":""},{"$f":"IF(ISERROR(INDEX('Employee Data'!$C$4:$C$553,MATCH(Databackup!A61,Employee_Name,0),0)),\"\",(INDEX('Employee Data'!$C$4:$C$553,MATCH(Databackup!A61,Employee_Name,0))))","v":""},{"$f":"IF(ISERROR(INDEX('Employee Data'!$D$4:$D$553,MATCH(Databackup!A61,Employee_Name,0),0)),\"\",(INDEX('Employee Data'!$D$4:$D$553,MATCH(Databackup!A61,Employee_Name,0))))","v":""},{"$f":"IF(ISERROR(INDEX('Employee Data'!$F$4:$F$553,MATCH(Databackup!A61,Employee_Name,0),0)),\"\",(INDEX('Employee Data'!$F$4:$F$553,MATCH(Databackup!A61,Employee_Name,0))))","v":""},{"$f":"IF(ISERROR(INDEX('Employee Data'!$G$4:$G$553,MATCH(Databackup!A61,Employee_Name,0),0)),\"\",(INDEX('Employee Data'!$G$4:$G$553,MATCH(Databackup!A61,Employee_Name,0))))","v":""},{"$f":"IF(ISERROR(INDEX('Employee Data'!$H$4:$H$553,MATCH(Databackup!A61,Employee_Name,0),0)),\"\",(INDEX('Employee Data'!$H$4:$H$553,MATCH(Databackup!A61,Employee_Name,0))))","v":""},{"$f":"IF(ISERROR(INDEX('Employee Data'!$I$4:$I$553,MATCH(Databackup!A61,Employee_Name,0),0)),\"\",(INDEX('Employee Data'!$I$4:$I$553,MATCH(Databackup!A61,Employee_Name,0))))","v":""},{"$f":"IF(ISERROR(INDEX('Employee Data'!$J$4:$J$553,MATCH(Databackup!A61,Employee_Name,0),0)),\"\",(INDEX('Employee Data'!J$4:$J$553,MATCH(Databackup!A61,Employee_Name,0))))","v":""},{"$f":"IF(ISERROR(INDEX('Employee Data'!$K$4:$K$553,MATCH(Databackup!A61,Employee_Name,0),0)),\"\",(INDEX('Employee Data'!$K$4:$K$553,MATCH(Databackup!A61,Employee_Name,0))))","v":""},{"$f":"IF(ISERROR(INDEX('Employee Data'!$L$4:$L$553,MATCH(Databackup!A61,Employee_Name,0),0)),\"\",(INDEX('Employee Data'!$L$4:$L$553,MATCH(Databackup!A61,Employee_Name,0))))","v":""},{"$f":"IF(ISERROR(INDEX('Employee Data'!$M$4:$M$553,MATCH(Databackup!A61,Employee_Name,0),0)),\"\",(INDEX('Employee Data'!$M$4:$M$553,MATCH(Databackup!A61,Employee_Name,0))))","v":""},{"$f":"IF(ISERROR(INDEX('Employee Data'!$N$4:$N$553,MATCH(Databackup!A61,Employee_Name,0),0)),\"\",(INDEX('Employee Data'!$N$4:$N$553,MATCH(Databackup!A61,Employee_Name,0))))","v":""},{"$f":"IF(ISERROR(INDEX('Employee Data'!$O$4:$O$553,MATCH(Databackup!A61,Employee_Name,0),0)),\"\",(INDEX('Employee Data'!$O$4:$O$553,MATCH(Databackup!A61,Employee_Name,0))))","v":""}]
[{"$f":"INDEX(Employee_Name,MATCH(SMALL(IF($A$1='Employee Data'!$I$4:$I$553,'Employee Data'!$B$4:$B$553,\"\"),ROW('Employee Data'!A60)),IF($A$1='Employee Data'!$I$4:$I$553,'Employee Data'!$B$4:$B$553,\"\"),0))","v":{"$error":"#NUM!"}},{"$f":"IF(ISERROR(INDEX('Employee Data'!$B$4:$B$553,MATCH(Databackup!A62,Employee_Name,0),0)),\"\",(INDEX('Employee Data'!$B$4:$B$553,MATCH(Databackup!A62,Employee_Name,0))))","v":""},{"$f":"IF(ISERROR(INDEX('Employee Data'!$C$4:$C$553,MATCH(Databackup!A62,Employee_Name,0),0)),\"\",(INDEX('Employee Data'!$C$4:$C$553,MATCH(Databackup!A62,Employee_Name,0))))","v":""},{"$f":"IF(ISERROR(INDEX('Employee Data'!$D$4:$D$553,MATCH(Databackup!A62,Employee_Name,0),0)),\"\",(INDEX('Employee Data'!$D$4:$D$553,MATCH(Databackup!A62,Employee_Name,0))))","v":""},{"$f":"IF(ISERROR(INDEX('Employee Data'!$F$4:$F$553,MATCH(Databackup!A62,Employee_Name,0),0)),\"\",(INDEX('Employee Data'!$F$4:$F$553,MATCH(Databackup!A62,Employee_Name,0))))","v":""},{"$f":"IF(ISERROR(INDEX('Employee Data'!$G$4:$G$553,MATCH(Databackup!A62,Employee_Name,0),0)),\"\",(INDEX('Employee Data'!$G$4:$G$553,MATCH(Databackup!A62,Employee_Name,0))))","v":""},{"$f":"IF(ISERROR(INDEX('Employee Data'!$H$4:$H$553,MATCH(Databackup!A62,Employee_Name,0),0)),\"\",(INDEX('Employee Data'!$H$4:$H$553,MATCH(Databackup!A62,Employee_Name,0))))","v":""},{"$f":"IF(ISERROR(INDEX('Employee Data'!$I$4:$I$553,MATCH(Databackup!A62,Employee_Name,0),0)),\"\",(INDEX('Employee Data'!$I$4:$I$553,MATCH(Databackup!A62,Employee_Name,0))))","v":""},{"$f":"IF(ISERROR(INDEX('Employee Data'!$J$4:$J$553,MATCH(Databackup!A62,Employee_Name,0),0)),\"\",(INDEX('Employee Data'!J$4:$J$553,MATCH(Databackup!A62,Employee_Name,0))))","v":""},{"$f":"IF(ISERROR(INDEX('Employee Data'!$K$4:$K$553,MATCH(Databackup!A62,Employee_Name,0),0)),\"\",(INDEX('Employee Data'!$K$4:$K$553,MATCH(Databackup!A62,Employee_Name,0))))","v":""},{"$f":"IF(ISERROR(INDEX('Employee Data'!$L$4:$L$553,MATCH(Databackup!A62,Employee_Name,0),0)),\"\",(INDEX('Employee Data'!$L$4:$L$553,MATCH(Databackup!A62,Employee_Name,0))))","v":""},{"$f":"IF(ISERROR(INDEX('Employee Data'!$M$4:$M$553,MATCH(Databackup!A62,Employee_Name,0),0)),\"\",(INDEX('Employee Data'!$M$4:$M$553,MATCH(Databackup!A62,Employee_Name,0))))","v":""},{"$f":"IF(ISERROR(INDEX('Employee Data'!$N$4:$N$553,MATCH(Databackup!A62,Employee_Name,0),0)),\"\",(INDEX('Employee Data'!$N$4:$N$553,MATCH(Databackup!A62,Employee_Name,0))))","v":""},{"$f":"IF(ISERROR(INDEX('Employee Data'!$O$4:$O$553,MATCH(Databackup!A62,Employee_Name,0),0)),\"\",(INDEX('Employee Data'!$O$4:$O$553,MATCH(Databackup!A62,Employee_Name,0))))","v":""}]
[{"$f":"INDEX(Employee_Name,MATCH(SMALL(IF($A$1='Employee Data'!$I$4:$I$553,'Employee Data'!$B$4:$B$553,\"\"),ROW('Employee Data'!A61)),IF($A$1='Employee Data'!$I$4:$I$553,'Employee Data'!$B$4:$B$553,\"\"),0))","v":{"$error":"#NUM!"}},{"$f":"IF(ISERROR(INDEX('Employee Data'!$B$4:$B$553,MATCH(Databackup!A63,Employee_Name,0),0)),\"\",(INDEX('Employee Data'!$B$4:$B$553,MATCH(Databackup!A63,Employee_Name,0))))","v":""},{"$f":"IF(ISERROR(INDEX('Employee Data'!$C$4:$C$553,MATCH(Databackup!A63,Employee_Name,0),0)),\"\",(INDEX('Employee Data'!$C$4:$C$553,MATCH(Databackup!A63,Employee_Name,0))))","v":""},{"$f":"IF(ISERROR(INDEX('Employee Data'!$D$4:$D$553,MATCH(Databackup!A63,Employee_Name,0),0)),\"\",(INDEX('Employee Data'!$D$4:$D$553,MATCH(Databackup!A63,Employee_Name,0))))","v":""},{"$f":"IF(ISERROR(INDEX('Employee Data'!$F$4:$F$553,MATCH(Databackup!A63,Employee_Name,0),0)),\"\",(INDEX('Employee Data'!$F$4:$F$553,MATCH(Databackup!A63,Employee_Name,0))))","v":""},{"$f":"IF(ISERROR(INDEX('Employee Data'!$G$4:$G$553,MATCH(Databackup!A63,Employee_Name,0),0)),\"\",(INDEX('Employee Data'!$G$4:$G$553,MATCH(Databackup!A63,Employee_Name,0))))","v":""},{"$f":"IF(ISERROR(INDEX('Employee Data'!$H$4:$H$553,MATCH(Databackup!A63,Employee_Name,0),0)),\"\",(INDEX('Employee Data'!$H$4:$H$553,MATCH(Databackup!A63,Employee_Name,0))))","v":""},{"$f":"IF(ISERROR(INDEX('Employee Data'!$I$4:$I$553,MATCH(Databackup!A63,Employee_Name,0),0)),\"\",(INDEX('Employee Data'!$I$4:$I$553,MATCH(Databackup!A63,Employee_Name,0))))","v":""},{"$f":"IF(ISERROR(INDEX('Employee Data'!$J$4:$J$553,MATCH(Databackup!A63,Employee_Name,0),0)),\"\",(INDEX('Employee Data'!J$4:$J$553,MATCH(Databackup!A63,Employee_Name,0))))","v":""},{"$f":"IF(ISERROR(INDEX('Employee Data'!$K$4:$K$553,MATCH(Databackup!A63,Employee_Name,0),0)),\"\",(INDEX('Employee Data'!$K$4:$K$553,MATCH(Databackup!A63,Employee_Name,0))))","v":""},{"$f":"IF(ISERROR(INDEX('Employee Data'!$L$4:$L$553,MATCH(Databackup!A63,Employee_Name,0),0)),\"\",(INDEX('Employee Data'!$L$4:$L$553,MATCH(Databackup!A63,Employee_Name,0))))","v":""},{"$f":"IF(ISERROR(INDEX('Employee Data'!$M$4:$M$553,MATCH(Databackup!A63,Employee_Name,0),0)),\"\",(INDEX('Employee Data'!$M$4:$M$553,MATCH(Databackup!A63,Employee_Name,0))))","v":""},{"$f":"IF(ISERROR(INDEX('Employee Data'!$N$4:$N$553,MATCH(Databackup!A63,Employee_Name,0),0)),\"\",(INDEX('Employee Data'!$N$4:$N$553,MATCH(Databackup!A63,Employee_Name,0))))","v":""},{"$f":"IF(ISERROR(INDEX('Employee Data'!$O$4:$O$553,MATCH(Databackup!A63,Employee_Name,0),0)),\"\",(INDEX('Employee Data'!$O$4:$O$553,MATCH(Databackup!A63,Employee_Name,0))))","v":""}]
[{"$f":"INDEX(Employee_Name,MATCH(SMALL(IF($A$1='Employee Data'!$I$4:$I$553,'Employee Data'!$B$4:$B$553,\"\"),ROW('Employee Data'!A62)),IF($A$1='Employee Data'!$I$4:$I$553,'Employee Data'!$B$4:$B$553,\"\"),0))","v":{"$error":"#NUM!"}},{"$f":"IF(ISERROR(INDEX('Employee Data'!$B$4:$B$553,MATCH(Databackup!A64,Employee_Name,0),0)),\"\",(INDEX('Employee Data'!$B$4:$B$553,MATCH(Databackup!A64,Employee_Name,0))))","v":""},{"$f":"IF(ISERROR(INDEX('Employee Data'!$C$4:$C$553,MATCH(Databackup!A64,Employee_Name,0),0)),\"\",(INDEX('Employee Data'!$C$4:$C$553,MATCH(Databackup!A64,Employee_Name,0))))","v":""},{"$f":"IF(ISERROR(INDEX('Employee Data'!$D$4:$D$553,MATCH(Databackup!A64,Employee_Name,0),0)),\"\",(INDEX('Employee Data'!$D$4:$D$553,MATCH(Databackup!A64,Employee_Name,0))))","v":""},{"$f":"IF(ISERROR(INDEX('Employee Data'!$F$4:$F$553,MATCH(Databackup!A64,Employee_Name,0),0)),\"\",(INDEX('Employee Data'!$F$4:$F$553,MATCH(Databackup!A64,Employee_Name,0))))","v":""},{"$f":"IF(ISERROR(INDEX('Employee Data'!$G$4:$G$553,MATCH(Databackup!A64,Employee_Name,0),0)),\"\",(INDEX('Employee Data'!$G$4:$G$553,MATCH(Databackup!A64,Employee_Name,0))))","v":""},{"$f":"IF(ISERROR(INDEX('Employee Data'!$H$4:$H$553,MATCH(Databackup!A64,Employee_Name,0),0)),\"\",(INDEX('Employee Data'!$H$4:$H$553,MATCH(Databackup!A64,Employee_Name,0))))","v":""},{"$f":"IF(ISERROR(INDEX('Employee Data'!$I$4:$I$553,MATCH(Databackup!A64,Employee_Name,0),0)),\"\",(INDEX('Employee Data'!$I$4:$I$553,MATCH(Databackup!A64,Employee_Name,0))))","v":""},{"$f":"IF(ISERROR(INDEX('Employee Data'!$J$4:$J$553,MATCH(Databackup!A64,Employee_Name,0),0)),\"\",(INDEX('Employee Data'!J$4:$J$553,MATCH(Databackup!A64,Employee_Name,0))))","v":""},{"$f":"IF(ISERROR(INDEX('Employee Data'!$K$4:$K$553,MATCH(Databackup!A64,Employee_Name,0),0)),\"\",(INDEX('Employee Data'!$K$4:$K$553,MATCH(Databackup!A64,Employee_Name,0))))","v":""},{"$f":"IF(ISERROR(INDEX('Employee Data'!$L$4:$L$553,MATCH(Databackup!A64,Employee_Name,0),0)),\"\",(INDEX('Employee Data'!$L$4:$L$553,MATCH(Databackup!A64,Employee_Name,0))))","v":""},{"$f":"IF(ISERROR(INDEX('Employee Data'!$M$4:$M$553,MATCH(Databackup!A64,Employee_Name,0),0)),\"\",(INDEX('Employee Data'!$M$4:$M$553,MATCH(Databackup!A64,Employee_Name,0))))","v":""},{"$f":"IF(ISERROR(INDEX('Employee Data'!$N$4:$N$553,MATCH(Databackup!A64,Employee_Name,0),0)),\"\",(INDEX('Employee Data'!$N$4:$N$553,MATCH(Databackup!A64,Employee_Name,0))))","v":""},{"$f":"IF(ISERROR(INDEX('Employee Data'!$O$4:$O$553,MATCH(Databackup!A64,Employee_Name,0),0)),\"\",(INDEX('Employee Data'!$O$4:$O$553,MATCH(Databackup!A64,Employee_Name,0))))","v":""}]
[{"$f":"INDEX(Employee_Name,MATCH(SMALL(IF($A$1='Employee Data'!$I$4:$I$553,'Employee Data'!$B$4:$B$553,\"\"),ROW('Employee Data'!A63)),IF($A$1='Employee Data'!$I$4:$I$553,'Employee Data'!$B$4:$B$553,\"\"),0))","v":{"$error":"#NUM!"}},{"$f":"IF(ISERROR(INDEX('Employee Data'!$B$4:$B$553,MATCH(Databackup!A65,Employee_Name,0),0)),\"\",(INDEX('Employee Data'!$B$4:$B$553,MATCH(Databackup!A65,Employee_Name,0))))","v":""},{"$f":"IF(ISERROR(INDEX('Employee Data'!$C$4:$C$553,MATCH(Databackup!A65,Employee_Name,0),0)),\"\",(INDEX('Employee Data'!$C$4:$C$553,MATCH(Databackup!A65,Employee_Name,0))))","v":""},{"$f":"IF(ISERROR(INDEX('Employee Data'!$D$4:$D$553,MATCH(Databackup!A65,Employee_Name,0),0)),\"\",(INDEX('Employee Data'!$D$4:$D$553,MATCH(Databackup!A65,Employee_Name,0))))","v":""},{"$f":"IF(ISERROR(INDEX('Employee Data'!$F$4:$F$553,MATCH(Databackup!A65,Employee_Name,0),0)),\"\",(INDEX('Employee Data'!$F$4:$F$553,MATCH(Databackup!A65,Employee_Name,0))))","v":""},{"$f":"IF(ISERROR(INDEX('Employee Data'!$G$4:$G$553,MATCH(Databackup!A65,Employee_Name,0),0)),\"\",(INDEX('Employee Data'!$G$4:$G$553,MATCH(Databackup!A65,Employee_Name,0))))","v":""},{"$f":"IF(ISERROR(INDEX('Employee Data'!$H$4:$H$553,MATCH(Databackup!A65,Employee_Name,0),0)),\"\",(INDEX('Employee Data'!$H$4:$H$553,MATCH(Databackup!A65,Employee_Name,0))))","v":""},{"$f":"IF(ISERROR(INDEX('Employee Data'!$I$4:$I$553,MATCH(Databackup!A65,Employee_Name,0),0)),\"\",(INDEX('Employee Data'!$I$4:$I$553,MATCH(Databackup!A65,Employee_Name,0))))","v":""},{"$f":"IF(ISERROR(INDEX('Employee Data'!$J$4:$J$553,MATCH(Databackup!A65,Employee_Name,0),0)),\"\",(INDEX('Employee Data'!J$4:$J$553,MATCH(Databackup!A65,Employee_Name,0))))","v":""},{"$f":"IF(ISERROR(INDEX('Employee Data'!$K$4:$K$553,MATCH(Databackup!A65,Employee_Name,0),0)),\"\",(INDEX('Employee Data'!$K$4:$K$553,MATCH(Databackup!A65,Employee_Name,0))))","v":""},{"$f":"IF(ISERROR(INDEX('Employee Data'!$L$4:$L$553,MATCH(Databackup!A65,Employee_Name,0),0)),\"\",(INDEX('Employee Data'!$L$4:$L$553,MATCH(Databackup!A65,Employee_Name,0))))","v":""},{"$f":"IF(ISERROR(INDEX('Employee Data'!$M$4:$M$553,MATCH(Databackup!A65,Employee_Name,0),0)),\"\",(INDEX('Employee Data'!$M$4:$M$553,MATCH(Databackup!A65,Employee_Name,0))))","v":""},{"$f":"IF(ISERROR(INDEX('Employee Data'!$N$4:$N$553,MATCH(Databackup!A65,Employee_Name,0),0)),\"\",(INDEX('Employee Data'!$N$4:$N$553,MATCH(Databackup!A65,Employee_Name,0))))","v":""},{"$f":"IF(ISERROR(INDEX('Employee Data'!$O$4:$O$553,MATCH(Databackup!A65,Employee_Name,0),0)),\"\",(INDEX('Employee Data'!$O$4:$O$553,MATCH(Databackup!A65,Employee_Name,0))))","v":""}]
[{"$f":"INDEX(Employee_Name,MATCH(SMALL(IF($A$1='Employee Data'!$I$4:$I$553,'Employee Data'!$B$4:$B$553,\"\"),ROW('Employee Data'!A64)),IF($A$1='Employee Data'!$I$4:$I$553,'Employee Data'!$B$4:$B$553,\"\"),0))","v":{"$error":"#NUM!"}},{"$f":"IF(ISERROR(INDEX('Employee Data'!$B$4:$B$553,MATCH(Databackup!A66,Employee_Name,0),0)),\"\",(INDEX('Employee Data'!$B$4:$B$553,MATCH(Databackup!A66,Employee_Name,0))))","v":""},{"$f":"IF(ISERROR(INDEX('Employee Data'!$C$4:$C$553,MATCH(Databackup!A66,Employee_Name,0),0)),\"\",(INDEX('Employee Data'!$C$4:$C$553,MATCH(Databackup!A66,Employee_Name,0))))","v":""},{"$f":"IF(ISERROR(INDEX('Employee Data'!$D$4:$D$553,MATCH(Databackup!A66,Employee_Name,0),0)),\"\",(INDEX('Employee Data'!$D$4:$D$553,MATCH(Databackup!A66,Employee_Name,0))))","v":""},{"$f":"IF(ISERROR(INDEX('Employee Data'!$F$4:$F$553,MATCH(Databackup!A66,Employee_Name,0),0)),\"\",(INDEX('Employee Data'!$F$4:$F$553,MATCH(Databackup!A66,Employee_Name,0))))","v":""},{"$f":"IF(ISERROR(INDEX('Employee Data'!$G$4:$G$553,MATCH(Databackup!A66,Employee_Name,0),0)),\"\",(INDEX('Employee Data'!$G$4:$G$553,MATCH(Databackup!A66,Employee_Name,0))))","v":""},{"$f":"IF(ISERROR(INDEX('Employee Data'!$H$4:$H$553,MATCH(Databackup!A66,Employee_Name,0),0)),\"\",(INDEX('Employee Data'!$H$4:$H$553,MATCH(Databackup!A66,Employee_Name,0))))","v":""},{"$f":"IF(ISERROR(INDEX('Employee Data'!$I$4:$I$553,MATCH(Databackup!A66,Employee_Name,0),0)),\"\",(INDEX('Employee Data'!$I$4:$I$553,MATCH(Databackup!A66,Employee_Name,0))))","v":""},{"$f":"IF(ISERROR(INDEX('Employee Data'!$J$4:$J$553,MATCH(Databackup!A66,Employee_Name,0),0)),\"\",(INDEX('Employee Data'!J$4:$J$553,MATCH(Databackup!A66,Employee_Name,0))))","v":""},{"$f":"IF(ISERROR(INDEX('Employee Data'!$K$4:$K$553,MATCH(Databackup!A66,Employee_Name,0),0)),\"\",(INDEX('Employee Data'!$K$4:$K$553,MATCH(Databackup!A66,Employee_Name,0))))","v":""},{"$f":"IF(ISERROR(INDEX('Employee Data'!$L$4:$L$553,MATCH(Databackup!A66,Employee_Name,0),0)),\"\",(INDEX('Employee Data'!$L$4:$L$553,MATCH(Databackup!A66,Employee_Name,0))))","v":""},{"$f":"IF(ISERROR(INDEX('Employee Data'!$M$4:$M$553,MATCH(Databackup!A66,Employee_Name,0),0)),\"\",(INDEX('Employee Data'!$M$4:$M$553,MATCH(Databackup!A66,Employee_Name,0))))","v":""},{"$f":"IF(ISERROR(INDEX('Employee Data'!$N$4:$N$553,MATCH(Databackup!A66,Employee_Name,0),0)),\"\",(INDEX('Employee Data'!$N$4:$N$553,MATCH(Databackup!A66,Employee_Name,0))))","v":""},{"$f":"IF(ISERROR(INDEX('Employee Data'!$O$4:$O$553,MATCH(Databackup!A66,Employee_Name,0),0)),\"\",(INDEX('Employee Data'!$O$4:$O$553,MATCH(Databackup!A66,Employee_Name,0))))","v":""}]
[{"$f":"INDEX(Employee_Name,MATCH(SMALL(IF($A$1='Employee Data'!$I$4:$I$553,'Employee Data'!$B$4:$B$553,\"\"),ROW('Employee Data'!A65)),IF($A$1='Employee Data'!$I$4:$I$553,'Employee Data'!$B$4:$B$553,\"\"),0))","v":{"$error":"#NUM!"}},{"$f":"IF(ISERROR(INDEX('Employee Data'!$B$4:$B$553,MATCH(Databackup!A67,Employee_Name,0),0)),\"\",(INDEX('Employee Data'!$B$4:$B$553,MATCH(Databackup!A67,Employee_Name,0))))","v":""},{"$f":"IF(ISERROR(INDEX('Employee Data'!$C$4:$C$553,MATCH(Databackup!A67,Employee_Name,0),0)),\"\",(INDEX('Employee Data'!$C$4:$C$553,MATCH(Databackup!A67,Employee_Name,0))))","v":""},{"$f":"IF(ISERROR(INDEX('Employee Data'!$D$4:$D$553,MATCH(Databackup!A67,Employee_Name,0),0)),\"\",(INDEX('Employee Data'!$D$4:$D$553,MATCH(Databackup!A67,Employee_Name,0))))","v":""},{"$f":"IF(ISERROR(INDEX('Employee Data'!$F$4:$F$553,MATCH(Databackup!A67,Employee_Name,0),0)),\"\",(INDEX('Employee Data'!$F$4:$F$553,MATCH(Databackup!A67,Employee_Name,0))))","v":""},{"$f":"IF(ISERROR(INDEX('Employee Data'!$G$4:$G$553,MATCH(Databackup!A67,Employee_Name,0),0)),\"\",(INDEX('Employee Data'!$G$4:$G$553,MATCH(Databackup!A67,Employee_Name,0))))","v":""},{"$f":"IF(ISERROR(INDEX('Employee Data'!$H$4:$H$553,MATCH(Databackup!A67,Employee_Name,0),0)),\"\",(INDEX('Employee Data'!$H$4:$H$553,MATCH(Databackup!A67,Employee_Name,0))))","v":""},{"$f":"IF(ISERROR(INDEX('Employee Data'!$I$4:$I$553,MATCH(Databackup!A67,Employee_Name,0),0)),\"\",(INDEX('Employee Data'!$I$4:$I$553,MATCH(Databackup!A67,Employee_Name,0))))","v":""},{"$f":"IF(ISERROR(INDEX('Employee Data'!$J$4:$J$553,MATCH(Databackup!A67,Employee_Name,0),0)),\"\",(INDEX('Employee Data'!J$4:$J$553,MATCH(Databackup!A67,Employee_Name,0))))","v":""},{"$f":"IF(ISERROR(INDEX('Employee Data'!$K$4:$K$553,MATCH(Databackup!A67,Employee_Name,0),0)),\"\",(INDEX('Employee Data'!$K$4:$K$553,MATCH(Databackup!A67,Employee_Name,0))))","v":""},{"$f":"IF(ISERROR(INDEX('Employee Data'!$L$4:$L$553,MATCH(Databackup!A67,Employee_Name,0),0)),\"\",(INDEX('Employee Data'!$L$4:$L$553,MATCH(Databackup!A67,Employee_Name,0))))","v":""},{"$f":"IF(ISERROR(INDEX('Employee Data'!$M$4:$M$553,MATCH(Databackup!A67,Employee_Name,0),0)),\"\",(INDEX('Employee Data'!$M$4:$M$553,MATCH(Databackup!A67,Employee_Name,0))))","v":""},{"$f":"IF(ISERROR(INDEX('Employee Data'!$N$4:$N$553,MATCH(Databackup!A67,Employee_Name,0),0)),\"\",(INDEX('Employee Data'!$N$4:$N$553,MATCH(Databackup!A67,Employee_Name,0))))","v":""},{"$f":"IF(ISERROR(INDEX('Employee Data'!$O$4:$O$553,MATCH(Databackup!A67,Employee_Name,0),0)),\"\",(INDEX('Employee Data'!$O$4:$O$553,MATCH(Databackup!A67,Employee_Name,0))))","v":""}]
[{"$f":"INDEX(Employee_Name,MATCH(SMALL(IF($A$1='Employee Data'!$I$4:$I$553,'Employee Data'!$B$4:$B$553,\"\"),ROW('Employee Data'!A66)),IF($A$1='Employee Data'!$I$4:$I$553,'Employee Data'!$B$4:$B$553,\"\"),0))","v":{"$error":"#NUM!"}},{"$f":"IF(ISERROR(INDEX('Employee Data'!$B$4:$B$553,MATCH(Databackup!A68,Employee_Name,0),0)),\"\",(INDEX('Employee Data'!$B$4:$B$553,MATCH(Databackup!A68,Employee_Name,0))))","v":""},{"$f":"IF(ISERROR(INDEX('Employee Data'!$C$4:$C$553,MATCH(Databackup!A68,Employee_Name,0),0)),\"\",(INDEX('Employee Data'!$C$4:$C$553,MATCH(Databackup!A68,Employee_Name,0))))","v":""},{"$f":"IF(ISERROR(INDEX('Employee Data'!$D$4:$D$553,MATCH(Databackup!A68,Employee_Name,0),0)),\"\",(INDEX('Employee Data'!$D$4:$D$553,MATCH(Databackup!A68,Employee_Name,0))))","v":""},{"$f":"IF(ISERROR(INDEX('Employee Data'!$F$4:$F$553,MATCH(Databackup!A68,Employee_Name,0),0)),\"\",(INDEX('Employee Data'!$F$4:$F$553,MATCH(Databackup!A68,Employee_Name,0))))","v":""},{"$f":"IF(ISERROR(INDEX('Employee Data'!$G$4:$G$553,MATCH(Databackup!A68,Employee_Name,0),0)),\"\",(INDEX('Employee Data'!$G$4:$G$553,MATCH(Databackup!A68,Employee_Name,0))))","v":""},{"$f":"IF(ISERROR(INDEX('Employee Data'!$H$4:$H$553,MATCH(Databackup!A68,Employee_Name,0),0)),\"\",(INDEX('Employee Data'!$H$4:$H$553,MATCH(Databackup!A68,Employee_Name,0))))","v":""},{"$f":"IF(ISERROR(INDEX('Employee Data'!$I$4:$I$553,MATCH(Databackup!A68,Employee_Name,0),0)),\"\",(INDEX('Employee Data'!$I$4:$I$553,MATCH(Databackup!A68,Employee_Name,0))))","v":""},{"$f":"IF(ISERROR(INDEX('Employee Data'!$J$4:$J$553,MATCH(Databackup!A68,Employee_Name,0),0)),\"\",(INDEX('Employee Data'!J$4:$J$553,MATCH(Databackup!A68,Employee_Name,0))))","v":""},{"$f":"IF(ISERROR(INDEX('Employee Data'!$K$4:$K$553,MATCH(Databackup!A68,Employee_Name,0),0)),\"\",(INDEX('Employee Data'!$K$4:$K$553,MATCH(Databackup!A68,Employee_Name,0))))","v":""},{"$f":"IF(ISERROR(INDEX('Employee Data'!$L$4:$L$553,MATCH(Databackup!A68,Employee_Name,0),0)),\"\",(INDEX('Employee Data'!$L$4:$L$553,MATCH(Databackup!A68,Employee_Name,0))))","v":""},{"$f":"IF(ISERROR(INDEX('Employee Data'!$M$4:$M$553,MATCH(Databackup!A68,Employee_Name,0),0)),\"\",(INDEX('Employee Data'!$M$4:$M$553,MATCH(Databackup!A68,Employee_Name,0))))","v":""},{"$f":"IF(ISERROR(INDEX('Employee Data'!$N$4:$N$553,MATCH(Databackup!A68,Employee_Name,0),0)),\"\",(INDEX('Employee Data'!$N$4:$N$553,MATCH(Databackup!A68,Employee_Name,0))))","v":""},{"$f":"IF(ISERROR(INDEX('Employee Data'!$O$4:$O$553,MATCH(Databackup!A68,Employee_Name,0),0)),\"\",(INDEX('Employee Data'!$O$4:$O$553,MATCH(Databackup!A68,Employee_Name,0))))","v":""}]
[{"$f":"INDEX(Employee_Name,MATCH(SMALL(IF($A$1='Employee Data'!$I$4:$I$553,'Employee Data'!$B$4:$B$553,\"\"),ROW('Employee Data'!A67)),IF($A$1='Employee Data'!$I$4:$I$553,'Employee Data'!$B$4:$B$553,\"\"),0))","v":{"$error":"#NUM!"}},{"$f":"IF(ISERROR(INDEX('Employee Data'!$B$4:$B$553,MATCH(Databackup!A69,Employee_Name,0),0)),\"\",(INDEX('Employee Data'!$B$4:$B$553,MATCH(Databackup!A69,Employee_Name,0))))","v":""},{"$f":"IF(ISERROR(INDEX('Employee Data'!$C$4:$C$553,MATCH(Databackup!A69,Employee_Name,0),0)),\"\",(INDEX('Employee Data'!$C$4:$C$553,MATCH(Databackup!A69,Employee_Name,0))))","v":""},{"$f":"IF(ISERROR(INDEX('Employee Data'!$D$4:$D$553,MATCH(Databackup!A69,Employee_Name,0),0)),\"\",(INDEX('Employee Data'!$D$4:$D$553,MATCH(Databackup!A69,Employee_Name,0))))","v":""},{"$f":"IF(ISERROR(INDEX('Employee Data'!$F$4:$F$553,MATCH(Databackup!A69,Employee_Name,0),0)),\"\",(INDEX('Employee Data'!$F$4:$F$553,MATCH(Databackup!A69,Employee_Name,0))))","v":""},{"$f":"IF(ISERROR(INDEX('Employee Data'!$G$4:$G$553,MATCH(Databackup!A69,Employee_Name,0),0)),\"\",(INDEX('Employee Data'!$G$4:$G$553,MATCH(Databackup!A69,Employee_Name,0))))","v":""},{"$f":"IF(ISERROR(INDEX('Employee Data'!$H$4:$H$553,MATCH(Databackup!A69,Employee_Name,0),0)),\"\",(INDEX('Employee Data'!$H$4:$H$553,MATCH(Databackup!A69,Employee_Name,0))))","v":""},{"$f":"IF(ISERROR(INDEX('Employee Data'!$I$4:$I$553,MATCH(Databackup!A69,Employee_Name,0),0)),\"\",(INDEX('Employee Data'!$I$4:$I$553,MATCH(Databackup!A69,Employee_Name,0))))","v":""},{"$f":"IF(ISERROR(INDEX('Employee Data'!$J$4:$J$553,MATCH(Databackup!A69,Employee_Name,0),0)),\"\",(INDEX('Employee Data'!J$4:$J$553,MATCH(Databackup!A69,Employee_Name,0))))","v":""},{"$f":"IF(ISERROR(INDEX('Employee Data'!$K$4:$K$553,MATCH(Databackup!A69,Employee_Name,0),0)),\"\",(INDEX('Employee Data'!$K$4:$K$553,MATCH(Databackup!A69,Employee_Name,0))))","v":""},{"$f":"IF(ISERROR(INDEX('Employee Data'!$L$4:$L$553,MATCH(Databackup!A69,Employee_Name,0),0)),\"\",(INDEX('Employee Data'!$L$4:$L$553,MATCH(Databackup!A69,Employee_Name,0))))","v":""},{"$f":"IF(ISERROR(INDEX('Employee Data'!$M$4:$M$553,MATCH(Databackup!A69,Employee_Name,0),0)),\"\",(INDEX('Employee Data'!$M$4:$M$553,MATCH(Databackup!A69,Employee_Name,0))))","v":""},{"$f":"IF(ISERROR(INDEX('Employee Data'!$N$4:$N$553,MATCH(Databackup!A69,Employee_Name,0),0)),\"\",(INDEX('Employee Data'!$N$4:$N$553,MATCH(Databackup!A69,Employee_Name,0))))","v":""},{"$f":"IF(ISERROR(INDEX('Employee Data'!$O$4:$O$553,MATCH(Databackup!A69,Employee_Name,0),0)),\"\",(INDEX('Employee Data'!$O$4:$O$553,MATCH(Databackup!A69,Employee_Name,0))))","v":""}]
[{"$f":"INDEX(Employee_Name,MATCH(SMALL(IF($A$1='Employee Data'!$I$4:$I$553,'Employee Data'!$B$4:$B$553,\"\"),ROW('Employee Data'!A68)),IF($A$1='Employee Data'!$I$4:$I$553,'Employee Data'!$B$4:$B$553,\"\"),0))","v":{"$error":"#NUM!"}},{"$f":"IF(ISERROR(INDEX('Employee Data'!$B$4:$B$553,MATCH(Databackup!A70,Employee_Name,0),0)),\"\",(INDEX('Employee Data'!$B$4:$B$553,MATCH(Databackup!A70,Employee_Name,0))))","v":""},{"$f":"IF(ISERROR(INDEX('Employee Data'!$C$4:$C$553,MATCH(Databackup!A70,Employee_Name,0),0)),\"\",(INDEX('Employee Data'!$C$4:$C$553,MATCH(Databackup!A70,Employee_Name,0))))","v":""},{"$f":"IF(ISERROR(INDEX('Employee Data'!$D$4:$D$553,MATCH(Databackup!A70,Employee_Name,0),0)),\"\",(INDEX('Employee Data'!$D$4:$D$553,MATCH(Databackup!A70,Employee_Name,0))))","v":""},{"$f":"IF(ISERROR(INDEX('Employee Data'!$F$4:$F$553,MATCH(Databackup!A70,Employee_Name,0),0)),\"\",(INDEX('Employee Data'!$F$4:$F$553,MATCH(Databackup!A70,Employee_Name,0))))","v":""},{"$f":"IF(ISERROR(INDEX('Employee Data'!$G$4:$G$553,MATCH(Databackup!A70,Employee_Name,0),0)),\"\",(INDEX('Employee Data'!$G$4:$G$553,MATCH(Databackup!A70,Employee_Name,0))))","v":""},{"$f":"IF(ISERROR(INDEX('Employee Data'!$H$4:$H$553,MATCH(Databackup!A70,Employee_Name,0),0)),\"\",(INDEX('Employee Data'!$H$4:$H$553,MATCH(Databackup!A70,Employee_Name,0))))","v":""},{"$f":"IF(ISERROR(INDEX('Employee Data'!$I$4:$I$553,MATCH(Databackup!A70,Employee_Name,0),0)),\"\",(INDEX('Employee Data'!$I$4:$I$553,MATCH(Databackup!A70,Employee_Name,0))))","v":""},{"$f":"IF(ISERROR(INDEX('Employee Data'!$J$4:$J$553,MATCH(Databackup!A70,Employee_Name,0),0)),\"\",(INDEX('Employee Data'!J$4:$J$553,MATCH(Databackup!A70,Employee_Name,0))))","v":""},{"$f":"IF(ISERROR(INDEX('Employee Data'!$K$4:$K$553,MATCH(Databackup!A70,Employee_Name,0),0)),\"\",(INDEX('Employee Data'!$K$4:$K$553,MATCH(Databackup!A70,Employee_Name,0))))","v":""},{"$f":"IF(ISERROR(INDEX('Employee Data'!$L$4:$L$553,MATCH(Databackup!A70,Employee_Name,0),0)),\"\",(INDEX('Employee Data'!$L$4:$L$553,MATCH(Databackup!A70,Employee_Name,0))))","v":""},{"$f":"IF(ISERROR(INDEX('Employee Data'!$M$4:$M$553,MATCH(Databackup!A70,Employee_Name,0),0)),\"\",(INDEX('Employee Data'!$M$4:$M$553,MATCH(Databackup!A70,Employee_Name,0))))","v":""},{"$f":"IF(ISERROR(INDEX('Employee Data'!$N$4:$N$553,MATCH(Databackup!A70,Employee_Name,0),0)),\"\",(INDEX('Employee Data'!$N$4:$N$553,MATCH(Databackup!A70,Employee_Name,0))))","v":""},{"$f":"IF(ISERROR(INDEX('Employee Data'!$O$4:$O$553,MATCH(Databackup!A70,Employee_Name,0),0)),\"\",(INDEX('Employee Data'!$O$4:$O$553,MATCH(Databackup!A70,Employee_Name,0))))","v":""}]
[{"$f":"INDEX(Employee_Name,MATCH(SMALL(IF($A$1='Employee Data'!$I$4:$I$553,'Employee Data'!$B$4:$B$553,\"\"),ROW('Employee Data'!A69)),IF($A$1='Employee Data'!$I$4:$I$553,'Employee Data'!$B$4:$B$553,\"\"),0))","v":{"$error":"#NUM!"}},{"$f":"IF(ISERROR(INDEX('Employee Data'!$B$4:$B$553,MATCH(Databackup!A71,Employee_Name,0),0)),\"\",(INDEX('Employee Data'!$B$4:$B$553,MATCH(Databackup!A71,Employee_Name,0))))","v":""},{"$f":"IF(ISERROR(INDEX('Employee Data'!$C$4:$C$553,MATCH(Databackup!A71,Employee_Name,0),0)),\"\",(INDEX('Employee Data'!$C$4:$C$553,MATCH(Databackup!A71,Employee_Name,0))))","v":""},{"$f":"IF(ISERROR(INDEX('Employee Data'!$D$4:$D$553,MATCH(Databackup!A71,Employee_Name,0),0)),\"\",(INDEX('Employee Data'!$D$4:$D$553,MATCH(Databackup!A71,Employee_Name,0))))","v":""},{"$f":"IF(ISERROR(INDEX('Employee Data'!$F$4:$F$553,MATCH(Databackup!A71,Employee_Name,0),0)),\"\",(INDEX('Employee Data'!$F$4:$F$553,MATCH(Databackup!A71,Employee_Name,0))))","v":""},{"$f":"IF(ISERROR(INDEX('Employee Data'!$G$4:$G$553,MATCH(Databackup!A71,Employee_Name,0),0)),\"\",(INDEX('Employee Data'!$G$4:$G$553,MATCH(Databackup!A71,Employee_Name,0))))","v":""},{"$f":"IF(ISERROR(INDEX('Employee Data'!$H$4:$H$553,MATCH(Databackup!A71,Employee_Name,0),0)),\"\",(INDEX('Employee Data'!$H$4:$H$553,MATCH(Databackup!A71,Employee_Name,0))))","v":""},{"$f":"IF(ISERROR(INDEX('Employee Data'!$I$4:$I$553,MATCH(Databackup!A71,Employee_Name,0),0)),\"\",(INDEX('Employee Data'!$I$4:$I$553,MATCH(Databackup!A71,Employee_Name,0))))","v":""},{"$f":"IF(ISERROR(INDEX('Employee Data'!$J$4:$J$553,MATCH(Databackup!A71,Employee_Name,0),0)),\"\",(INDEX('Employee Data'!J$4:$J$553,MATCH(Databackup!A71,Employee_Name,0))))","v":""},{"$f":"IF(ISERROR(INDEX('Employee Data'!$K$4:$K$553,MATCH(Databackup!A71,Employee_Name,0),0)),\"\",(INDEX('Employee Data'!$K$4:$K$553,MATCH(Databackup!A71,Employee_Name,0))))","v":""},{"$f":"IF(ISERROR(INDEX('Employee Data'!$L$4:$L$553,MATCH(Databackup!A71,Employee_Name,0),0)),\"\",(INDEX('Employee Data'!$L$4:$L$553,MATCH(Databackup!A71,Employee_Name,0))))","v":""},{"$f":"IF(ISERROR(INDEX('Employee Data'!$M$4:$M$553,MATCH(Databackup!A71,Employee_Name,0),0)),\"\",(INDEX('Employee Data'!$M$4:$M$553,MATCH(Databackup!A71,Employee_Name,0))))","v":""},{"$f":"IF(ISERROR(INDEX('Employee Data'!$N$4:$N$553,MATCH(Databackup!A71,Employee_Name,0),0)),\"\",(INDEX('Employee Data'!$N$4:$N$553,MATCH(Databackup!A71,Employee_Name,0))))","v":""},{"$f":"IF(ISERROR(INDEX('Employee Data'!$O$4:$O$553,MATCH(Databackup!A71,Employee_Name,0),0)),\"\",(INDEX('Employee Data'!$O$4:$O$553,MATCH(Databackup!A71,Employee_Name,0))))","v":""}]
[{"$f":"INDEX(Employee_Name,MATCH(SMALL(IF($A$1='Employee Data'!$I$4:$I$553,'Employee Data'!$B$4:$B$553,\"\"),ROW('Employee Data'!A70)),IF($A$1='Employee Data'!$I$4:$I$553,'Employee Data'!$B$4:$B$553,\"\"),0))","v":{"$error":"#NUM!"}},{"$f":"IF(ISERROR(INDEX('Employee Data'!$B$4:$B$553,MATCH(Databackup!A72,Employee_Name,0),0)),\"\",(INDEX('Employee Data'!$B$4:$B$553,MATCH(Databackup!A72,Employee_Name,0))))","v":""},{"$f":"IF(ISERROR(INDEX('Employee Data'!$C$4:$C$553,MATCH(Databackup!A72,Employee_Name,0),0)),\"\",(INDEX('Employee Data'!$C$4:$C$553,MATCH(Databackup!A72,Employee_Name,0))))","v":""},{"$f":"IF(ISERROR(INDEX('Employee Data'!$D$4:$D$553,MATCH(Databackup!A72,Employee_Name,0),0)),\"\",(INDEX('Employee Data'!$D$4:$D$553,MATCH(Databackup!A72,Employee_Name,0))))","v":""},{"$f":"IF(ISERROR(INDEX('Employee Data'!$F$4:$F$553,MATCH(Databackup!A72,Employee_Name,0),0)),\"\",(INDEX('Employee Data'!$F$4:$F$553,MATCH(Databackup!A72,Employee_Name,0))))","v":""},{"$f":"IF(ISERROR(INDEX('Employee Data'!$G$4:$G$553,MATCH(Databackup!A72,Employee_Name,0),0)),\"\",(INDEX('Employee Data'!$G$4:$G$553,MATCH(Databackup!A72,Employee_Name,0))))","v":""},{"$f":"IF(ISERROR(INDEX('Employee Data'!$H$4:$H$553,MATCH(Databackup!A72,Employee_Name,0),0)),\"\",(INDEX('Employee Data'!$H$4:$H$553,MATCH(Databackup!A72,Employee_Name,0))))","v":""},{"$f":"IF(ISERROR(INDEX('Employee Data'!$I$4:$I$553,MATCH(Databackup!A72,Employee_Name,0),0)),\"\",(INDEX('Employee Data'!$I$4:$I$553,MATCH(Databackup!A72,Employee_Name,0))))","v":""},{"$f":"IF(ISERROR(INDEX('Employee Data'!$J$4:$J$553,MATCH(Databackup!A72,Employee_Name,0),0)),\"\",(INDEX('Employee Data'!J$4:$J$553,MATCH(Databackup!A72,Employee_Name,0))))","v":""},{"$f":"IF(ISERROR(INDEX('Employee Data'!$K$4:$K$553,MATCH(Databackup!A72,Employee_Name,0),0)),\"\",(INDEX('Employee Data'!$K$4:$K$553,MATCH(Databackup!A72,Employee_Name,0))))","v":""},{"$f":"IF(ISERROR(INDEX('Employee Data'!$L$4:$L$553,MATCH(Databackup!A72,Employee_Name,0),0)),\"\",(INDEX('Employee Data'!$L$4:$L$553,MATCH(Databackup!A72,Employee_Name,0))))","v":""},{"$f":"IF(ISERROR(INDEX('Employee Data'!$M$4:$M$553,MATCH(Databackup!A72,Employee_Name,0),0)),\"\",(INDEX('Employee Data'!$M$4:$M$553,MATCH(Databackup!A72,Employee_Name,0))))","v":""},{"$f":"IF(ISERROR(INDEX('Employee Data'!$N$4:$N$553,MATCH(Databackup!A72,Employee_Name,0),0)),\"\",(INDEX('Employee Data'!$N$4:$N$553,MATCH(Databackup!A72,Employee_Name,0))))","v":""},{"$f":"IF(ISERROR(INDEX('Employee Data'!$O$4:$O$553,MATCH(Databackup!A72,Employee_Name,0),0)),\"\",(INDEX('Employee Data'!$O$4:$O$553,MATCH(Databackup!A72,Employee_Name,0))))","v":""}]
[{"$f":"INDEX(Employee_Name,MATCH(SMALL(IF($A$1='Employee Data'!$I$4:$I$553,'Employee Data'!$B$4:$B$553,\"\"),ROW('Employee Data'!A71)),IF($A$1='Employee Data'!$I$4:$I$553,'Employee Data'!$B$4:$B$553,\"\"),0))","v":{"$error":"#NUM!"}},{"$f":"IF(ISERROR(INDEX('Employee Data'!$B$4:$B$553,MATCH(Databackup!A73,Employee_Name,0),0)),\"\",(INDEX('Employee Data'!$B$4:$B$553,MATCH(Databackup!A73,Employee_Name,0))))","v":""},{"$f":"IF(ISERROR(INDEX('Employee Data'!$C$4:$C$553,MATCH(Databackup!A73,Employee_Name,0),0)),\"\",(INDEX('Employee Data'!$C$4:$C$553,MATCH(Databackup!A73,Employee_Name,0))))","v":""},{"$f":"IF(ISERROR(INDEX('Employee Data'!$D$4:$D$553,MATCH(Databackup!A73,Employee_Name,0),0)),\"\",(INDEX('Employee Data'!$D$4:$D$553,MATCH(Databackup!A73,Employee_Name,0))))","v":""},{"$f":"IF(ISERROR(INDEX('Employee Data'!$F$4:$F$553,MATCH(Databackup!A73,Employee_Name,0),0)),\"\",(INDEX('Employee Data'!$F$4:$F$553,MATCH(Databackup!A73,Employee_Name,0))))","v":""},{"$f":"IF(ISERROR(INDEX('Employee Data'!$G$4:$G$553,MATCH(Databackup!A73,Employee_Name,0),0)),\"\",(INDEX('Employee Data'!$G$4:$G$553,MATCH(Databackup!A73,Employee_Name,0))))","v":""},{"$f":"IF(ISERROR(INDEX('Employee Data'!$H$4:$H$553,MATCH(Databackup!A73,Employee_Name,0),0)),\"\",(INDEX('Employee Data'!$H$4:$H$553,MATCH(Databackup!A73,Employee_Name,0))))","v":""},{"$f":"IF(ISERROR(INDEX('Employee Data'!$I$4:$I$553,MATCH(Databackup!A73,Employee_Name,0),0)),\"\",(INDEX('Employee Data'!$I$4:$I$553,MATCH(Databackup!A73,Employee_Name,0))))","v":""},{"$f":"IF(ISERROR(INDEX('Employee Data'!$J$4:$J$553,MATCH(Databackup!A73,Employee_Name,0),0)),\"\",(INDEX('Employee Data'!J$4:$J$553,MATCH(Databackup!A73,Employee_Name,0))))","v":""},{"$f":"IF(ISERROR(INDEX('Employee Data'!$K$4:$K$553,MATCH(Databackup!A73,Employee_Name,0),0)),\"\",(INDEX('Employee Data'!$K$4:$K$553,MATCH(Databackup!A73,Employee_Name,0))))","v":""},{"$f":"IF(ISERROR(INDEX('Employee Data'!$L$4:$L$553,MATCH(Databackup!A73,Employee_Name,0),0)),\"\",(INDEX('Employee Data'!$L$4:$L$553,MATCH(Databackup!A73,Employee_Name,0))))","v":""},{"$f":"IF(ISERROR(INDEX('Employee Data'!$M$4:$M$553,MATCH(Databackup!A73,Employee_Name,0),0)),\"\",(INDEX('Employee Data'!$M$4:$M$553,MATCH(Databackup!A73,Employee_Name,0))))","v":""},{"$f":"IF(ISERROR(INDEX('Employee Data'!$N$4:$N$553,MATCH(Databackup!A73,Employee_Name,0),0)),\"\",(INDEX('Employee Data'!$N$4:$N$553,MATCH(Databackup!A73,Employee_Name,0))))","v":""},{"$f":"IF(ISERROR(INDEX('Employee Data'!$O$4:$O$553,MATCH(Databackup!A73,Employee_Name,0),0)),\"\",(INDEX('Employee Data'!$O$4:$O$553,MATCH(Databackup!A73,Employee_Name,0))))","v":""}]
[{"$f":"INDEX(Employee_Name,MATCH(SMALL(IF($A$1='Employee Data'!$I$4:$I$553,'Employee Data'!$B$4:$B$553,\"\"),ROW('Employee Data'!A72)),IF($A$1='Employee Data'!$I$4:$I$553,'Employee Data'!$B$4:$B$553,\"\"),0))","v":{"$error":"#NUM!"}},{"$f":"IF(ISERROR(INDEX('Employee Data'!$B$4:$B$553,MATCH(Databackup!A74,Employee_Name,0),0)),\"\",(INDEX('Employee Data'!$B$4:$B$553,MATCH(Databackup!A74,Employee_Name,0))))","v":""},{"$f":"IF(ISERROR(INDEX('Employee Data'!$C$4:$C$553,MATCH(Databackup!A74,Employee_Name,0),0)),\"\",(INDEX('Employee Data'!$C$4:$C$553,MATCH(Databackup!A74,Employee_Name,0))))","v":""},{"$f":"IF(ISERROR(INDEX('Employee Data'!$D$4:$D$553,MATCH(Databackup!A74,Employee_Name,0),0)),\"\",(INDEX('Employee Data'!$D$4:$D$553,MATCH(Databackup!A74,Employee_Name,0))))","v":""},{"$f":"IF(ISERROR(INDEX('Employee Data'!$F$4:$F$553,MATCH(Databackup!A74,Employee_Name,0),0)),\"\",(INDEX('Employee Data'!$F$4:$F$553,MATCH(Databackup!A74,Employee_Name,0))))","v":""},{"$f":"IF(ISERROR(INDEX('Employee Data'!$G$4:$G$553,MATCH(Databackup!A74,Employee_Name,0),0)),\"\",(INDEX('Employee Data'!$G$4:$G$553,MATCH(Databackup!A74,Employee_Name,0))))","v":""},{"$f":"IF(ISERROR(INDEX('Employee Data'!$H$4:$H$553,MATCH(Databackup!A74,Employee_Name,0),0)),\"\",(INDEX('Employee Data'!$H$4:$H$553,MATCH(Databackup!A74,Employee_Name,0))))","v":""},{"$f":"IF(ISERROR(INDEX('Employee Data'!$I$4:$I$553,MATCH(Databackup!A74,Employee_Name,0),0)),\"\",(INDEX('Employee Data'!$I$4:$I$553,MATCH(Databackup!A74,Employee_Name,0))))","v":""},{"$f":"IF(ISERROR(INDEX('Employee Data'!$J$4:$J$553,MATCH(Databackup!A74,Employee_Name,0),0)),\"\",(INDEX('Employee Data'!J$4:$J$553,MATCH(Databackup!A74,Employee_Name,0))))","v":""},{"$f":"IF(ISERROR(INDEX('Employee Data'!$K$4:$K$553,MATCH(Databackup!A74,Employee_Name,0),0)),\"\",(INDEX('Employee Data'!$K$4:$K$553,MATCH(Databackup!A74,Employee_Name,0))))","v":""},{"$f":"IF(ISERROR(INDEX('Employee Data'!$L$4:$L$553,MATCH(Databackup!A74,Employee_Name,0),0)),\"\",(INDEX('Employee Data'!$L$4:$L$553,MATCH(Databackup!A74,Employee_Name,0))))","v":""},{"$f":"IF(ISERROR(INDEX('Employee Data'!$M$4:$M$553,MATCH(Databackup!A74,Employee_Name,0),0)),\"\",(INDEX('Employee Data'!$M$4:$M$553,MATCH(Databackup!A74,Employee_Name,0))))","v":""},{"$f":"IF(ISERROR(INDEX('Employee Data'!$N$4:$N$553,MATCH(Databackup!A74,Employee_Name,0),0)),\"\",(INDEX('Employee Data'!$N$4:$N$553,MATCH(Databackup!A74,Employee_Name,0))))","v":""},{"$f":"IF(ISERROR(INDEX('Employee Data'!$O$4:$O$553,MATCH(Databackup!A74,Employee_Name,0),0)),\"\",(INDEX('Employee Data'!$O$4:$O$553,MATCH(Databackup!A74,Employee_Name,0))))","v":""}]
[{"$f":"INDEX(Employee_Name,MATCH(SMALL(IF($A$1='Employee Data'!$I$4:$I$553,'Employee Data'!$B$4:$B$553,\"\"),ROW('Employee Data'!A73)),IF($A$1='Employee Data'!$I$4:$I$553,'Employee Data'!$B$4:$B$553,\"\"),0))","v":{"$error":"#NUM!"}},{"$f":"IF(ISERROR(INDEX('Employee Data'!$B$4:$B$553,MATCH(Databackup!A75,Employee_Name,0),0)),\"\",(INDEX('Employee Data'!$B$4:$B$553,MATCH(Databackup!A75,Employee_Name,0))))","v":""},{"$f":"IF(ISERROR(INDEX('Employee Data'!$C$4:$C$553,MATCH(Databackup!A75,Employee_Name,0),0)),\"\",(INDEX('Employee Data'!$C$4:$C$553,MATCH(Databackup!A75,Employee_Name,0))))","v":""},{"$f":"IF(ISERROR(INDEX('Employee Data'!$D$4:$D$553,MATCH(Databackup!A75,Employee_Name,0),0)),\"\",(INDEX('Employee Data'!$D$4:$D$553,MATCH(Databackup!A75,Employee_Name,0))))","v":""},{"$f":"IF(ISERROR(INDEX('Employee Data'!$F$4:$F$553,MATCH(Databackup!A75,Employee_Name,0),0)),\"\",(INDEX('Employee Data'!$F$4:$F$553,MATCH(Databackup!A75,Employee_Name,0))))","v":""},{"$f":"IF(ISERROR(INDEX('Employee Data'!$G$4:$G$553,MATCH(Databackup!A75,Employee_Name,0),0)),\"\",(INDEX('Employee Data'!$G$4:$G$553,MATCH(Databackup!A75,Employee_Name,0))))","v":""},{"$f":"IF(ISERROR(INDEX('Employee Data'!$H$4:$H$553,MATCH(Databackup!A75,Employee_Name,0),0)),\"\",(INDEX('Employee Data'!$H$4:$H$553,MATCH(Databackup!A75,Employee_Name,0))))","v":""},{"$f":"IF(ISERROR(INDEX('Employee Data'!$I$4:$I$553,MATCH(Databackup!A75,Employee_Name,0),0)),\"\",(INDEX('Employee Data'!$I$4:$I$553,MATCH(Databackup!A75,Employee_Name,0))))","v":""},{"$f":"IF(ISERROR(INDEX('Employee Data'!$J$4:$J$553,MATCH(Databackup!A75,Employee_Name,0),0)),\"\",(INDEX('Employee Data'!J$4:$J$553,MATCH(Databackup!A75,Employee_Name,0))))","v":""},{"$f":"IF(ISERROR(INDEX('Employee Data'!$K$4:$K$553,MATCH(Databackup!A75,Employee_Name,0),0)),\"\",(INDEX('Employee Data'!$K$4:$K$553,MATCH(Databackup!A75,Employee_Name,0))))","v":""},{"$f":"IF(ISERROR(INDEX('Employee Data'!$L$4:$L$553,MATCH(Databackup!A75,Employee_Name,0),0)),\"\",(INDEX('Employee Data'!$L$4:$L$553,MATCH(Databackup!A75,Employee_Name,0))))","v":""},{"$f":"IF(ISERROR(INDEX('Employee Data'!$M$4:$M$553,MATCH(Databackup!A75,Employee_Name,0),0)),\"\",(INDEX('Employee Data'!$M$4:$M$553,MATCH(Databackup!A75,Employee_Name,0))))","v":""},{"$f":"IF(ISERROR(INDEX('Employee Data'!$N$4:$N$553,MATCH(Databackup!A75,Employee_Name,0),0)),\"\",(INDEX('Employee Data'!$N$4:$N$553,MATCH(Databackup!A75,Employee_Name,0))))","v":""},{"$f":"IF(ISERROR(INDEX('Employee Data'!$O$4:$O$553,MATCH(Databackup!A75,Employee_Name,0),0)),\"\",(INDEX('Employee Data'!$O$4:$O$553,MATCH(Databackup!A75,Employee_Name,0))))","v":""}]
[{"$f":"INDEX(Employee_Name,MATCH(SMALL(IF($A$1='Employee Data'!$I$4:$I$553,'Employee Data'!$B$4:$B$553,\"\"),ROW('Employee Data'!A74)),IF($A$1='Employee Data'!$I$4:$I$553,'Employee Data'!$B$4:$B$553,\"\"),0))","v":{"$error":"#NUM!"}},{"$f":"IF(ISERROR(INDEX('Employee Data'!$B$4:$B$553,MATCH(Databackup!A76,Employee_Name,0),0)),\"\",(INDEX('Employee Data'!$B$4:$B$553,MATCH(Databackup!A76,Employee_Name,0))))","v":""},{"$f":"IF(ISERROR(INDEX('Employee Data'!$C$4:$C$553,MATCH(Databackup!A76,Employee_Name,0),0)),\"\",(INDEX('Employee Data'!$C$4:$C$553,MATCH(Databackup!A76,Employee_Name,0))))","v":""},{"$f":"IF(ISERROR(INDEX('Employee Data'!$D$4:$D$553,MATCH(Databackup!A76,Employee_Name,0),0)),\"\",(INDEX('Employee Data'!$D$4:$D$553,MATCH(Databackup!A76,Employee_Name,0))))","v":""},{"$f":"IF(ISERROR(INDEX('Employee Data'!$F$4:$F$553,MATCH(Databackup!A76,Employee_Name,0),0)),\"\",(INDEX('Employee Data'!$F$4:$F$553,MATCH(Databackup!A76,Employee_Name,0))))","v":""},{"$f":"IF(ISERROR(INDEX('Employee Data'!$G$4:$G$553,MATCH(Databackup!A76,Employee_Name,0),0)),\"\",(INDEX('Employee Data'!$G$4:$G$553,MATCH(Databackup!A76,Employee_Name,0))))","v":""},{"$f":"IF(ISERROR(INDEX('Employee Data'!$H$4:$H$553,MATCH(Databackup!A76,Employee_Name,0),0)),\"\",(INDEX('Employee Data'!$H$4:$H$553,MATCH(Databackup!A76,Employee_Name,0))))","v":""},{"$f":"IF(ISERROR(INDEX('Employee Data'!$I$4:$I$553,MATCH(Databackup!A76,Employee_Name,0),0)),\"\",(INDEX('Employee Data'!$I$4:$I$553,MATCH(Databackup!A76,Employee_Name,0))))","v":""},{"$f":"IF(ISERROR(INDEX('Employee Data'!$J$4:$J$553,MATCH(Databackup!A76,Employee_Name,0),0)),\"\",(INDEX('Employee Data'!J$4:$J$553,MATCH(Databackup!A76,Employee_Name,0))))","v":""},{"$f":"IF(ISERROR(INDEX('Employee Data'!$K$4:$K$553,MATCH(Databackup!A76,Employee_Name,0),0)),\"\",(INDEX('Employee Data'!$K$4:$K$553,MATCH(Databackup!A76,Employee_Name,0))))","v":""},{"$f":"IF(ISERROR(INDEX('Employee Data'!$L$4:$L$553,MATCH(Databackup!A76,Employee_Name,0),0)),\"\",(INDEX('Employee Data'!$L$4:$L$553,MATCH(Databackup!A76,Employee_Name,0))))","v":""},{"$f":"IF(ISERROR(INDEX('Employee Data'!$M$4:$M$553,MATCH(Databackup!A76,Employee_Name,0),0)),\"\",(INDEX('Employee Data'!$M$4:$M$553,MATCH(Databackup!A76,Employee_Name,0))))","v":""},{"$f":"IF(ISERROR(INDEX('Employee Data'!$N$4:$N$553,MATCH(Databackup!A76,Employee_Name,0),0)),\"\",(INDEX('Employee Data'!$N$4:$N$553,MATCH(Databackup!A76,Employee_Name,0))))","v":""},{"$f":"IF(ISERROR(INDEX('Employee Data'!$O$4:$O$553,MATCH(Databackup!A76,Employee_Name,0),0)),\"\",(INDEX('Employee Data'!$O$4:$O$553,MATCH(Databackup!A76,Employee_Name,0))))","v":""}]
[{"$f":"INDEX(Employee_Name,MATCH(SMALL(IF($A$1='Employee Data'!$I$4:$I$553,'Employee Data'!$B$4:$B$553,\"\"),ROW('Employee Data'!A75)),IF($A$1='Employee Data'!$I$4:$I$553,'Employee Data'!$B$4:$B$553,\"\"),0))","v":{"$error":"#NUM!"}},{"$f":"IF(ISERROR(INDEX('Employee Data'!$B$4:$B$553,MATCH(Databackup!A77,Employee_Name,0),0)),\"\",(INDEX('Employee Data'!$B$4:$B$553,MATCH(Databackup!A77,Employee_Name,0))))","v":""},{"$f":"IF(ISERROR(INDEX('Employee Data'!$C$4:$C$553,MATCH(Databackup!A77,Employee_Name,0),0)),\"\",(INDEX('Employee Data'!$C$4:$C$553,MATCH(Databackup!A77,Employee_Name,0))))","v":""},{"$f":"IF(ISERROR(INDEX('Employee Data'!$D$4:$D$553,MATCH(Databackup!A77,Employee_Name,0),0)),\"\",(INDEX('Employee Data'!$D$4:$D$553,MATCH(Databackup!A77,Employee_Name,0))))","v":""},{"$f":"IF(ISERROR(INDEX('Employee Data'!$F$4:$F$553,MATCH(Databackup!A77,Employee_Name,0),0)),\"\",(INDEX('Employee Data'!$F$4:$F$553,MATCH(Databackup!A77,Employee_Name,0))))","v":""},{"$f":"IF(ISERROR(INDEX('Employee Data'!$G$4:$G$553,MATCH(Databackup!A77,Employee_Name,0),0)),\"\",(INDEX('Employee Data'!$G$4:$G$553,MATCH(Databackup!A77,Employee_Name,0))))","v":""},{"$f":"IF(ISERROR(INDEX('Employee Data'!$H$4:$H$553,MATCH(Databackup!A77,Employee_Name,0),0)),\"\",(INDEX('Employee Data'!$H$4:$H$553,MATCH(Databackup!A77,Employee_Name,0))))","v":""},{"$f":"IF(ISERROR(INDEX('Employee Data'!$I$4:$I$553,MATCH(Databackup!A77,Employee_Name,0),0)),\"\",(INDEX('Employee Data'!$I$4:$I$553,MATCH(Databackup!A77,Employee_Name,0))))","v":""},{"$f":"IF(ISERROR(INDEX('Employee Data'!$J$4:$J$553,MATCH(Databackup!A77,Employee_Name,0),0)),\"\",(INDEX('Employee Data'!J$4:$J$553,MATCH(Databackup!A77,Employee_Name,0))))","v":""},{"$f":"IF(ISERROR(INDEX('Employee Data'!$K$4:$K$553,MATCH(Databackup!A77,Employee_Name,0),0)),\"\",(INDEX('Employee Data'!$K$4:$K$553,MATCH(Databackup!A77,Employee_Name,0))))","v":""},{"$f":"IF(ISERROR(INDEX('Employee Data'!$L$4:$L$553,MATCH(Databackup!A77,Employee_Name,0),0)),\"\",(INDEX('Employee Data'!$L$4:$L$553,MATCH(Databackup!A77,Employee_Name,0))))","v":""},{"$f":"IF(ISERROR(INDEX('Employee Data'!$M$4:$M$553,MATCH(Databackup!A77,Employee_Name,0),0)),\"\",(INDEX('Employee Data'!$M$4:$M$553,MATCH(Databackup!A77,Employee_Name,0))))","v":""},{"$f":"IF(ISERROR(INDEX('Employee Data'!$N$4:$N$553,MATCH(Databackup!A77,Employee_Name,0),0)),\"\",(INDEX('Employee Data'!$N$4:$N$553,MATCH(Databackup!A77,Employee_Name,0))))","v":""},{"$f":"IF(ISERROR(INDEX('Employee Data'!$O$4:$O$553,MATCH(Databackup!A77,Employee_Name,0),0)),\"\",(INDEX('Employee Data'!$O$4:$O$553,MATCH(Databackup!A77,Employee_Name,0))))","v":""}]
[{"$f":"INDEX(Employee_Name,MATCH(SMALL(IF($A$1='Employee Data'!$I$4:$I$553,'Employee Data'!$B$4:$B$553,\"\"),ROW('Employee Data'!A76)),IF($A$1='Employee Data'!$I$4:$I$553,'Employee Data'!$B$4:$B$553,\"\"),0))","v":{"$error":"#NUM!"}},{"$f":"IF(ISERROR(INDEX('Employee Data'!$B$4:$B$553,MATCH(Databackup!A78,Employee_Name,0),0)),\"\",(INDEX('Employee Data'!$B$4:$B$553,MATCH(Databackup!A78,Employee_Name,0))))","v":""},{"$f":"IF(ISERROR(INDEX('Employee Data'!$C$4:$C$553,MATCH(Databackup!A78,Employee_Name,0),0)),\"\",(INDEX('Employee Data'!$C$4:$C$553,MATCH(Databackup!A78,Employee_Name,0))))","v":""},{"$f":"IF(ISERROR(INDEX('Employee Data'!$D$4:$D$553,MATCH(Databackup!A78,Employee_Name,0),0)),\"\",(INDEX('Employee Data'!$D$4:$D$553,MATCH(Databackup!A78,Employee_Name,0))))","v":""},{"$f":"IF(ISERROR(INDEX('Employee Data'!$F$4:$F$553,MATCH(Databackup!A78,Employee_Name,0),0)),\"\",(INDEX('Employee Data'!$F$4:$F$553,MATCH(Databackup!A78,Employee_Name,0))))","v":""},{"$f":"IF(ISERROR(INDEX('Employee Data'!$G$4:$G$553,MATCH(Databackup!A78,Employee_Name,0),0)),\"\",(INDEX('Employee Data'!$G$4:$G$553,MATCH(Databackup!A78,Employee_Name,0))))","v":""},{"$f":"IF(ISERROR(INDEX('Employee Data'!$H$4:$H$553,MATCH(Databackup!A78,Employee_Name,0),0)),\"\",(INDEX('Employee Data'!$H$4:$H$553,MATCH(Databackup!A78,Employee_Name,0))))","v":""},{"$f":"IF(ISERROR(INDEX('Employee Data'!$I$4:$I$553,MATCH(Databackup!A78,Employee_Name,0),0)),\"\",(INDEX('Employee Data'!$I$4:$I$553,MATCH(Databackup!A78,Employee_Name,0))))","v":""},{"$f":"IF(ISERROR(INDEX('Employee Data'!$J$4:$J$553,MATCH(Databackup!A78,Employee_Name,0),0)),\"\",(INDEX('Employee Data'!J$4:$J$553,MATCH(Databackup!A78,Employee_Name,0))))","v":""},{"$f":"IF(ISERROR(INDEX('Employee Data'!$K$4:$K$553,MATCH(Databackup!A78,Employee_Name,0),0)),\"\",(INDEX('Employee Data'!$K$4:$K$553,MATCH(Databackup!A78,Employee_Name,0))))","v":""},{"$f":"IF(ISERROR(INDEX('Employee Data'!$L$4:$L$553,MATCH(Databackup!A78,Employee_Name,0),0)),\"\",(INDEX('Employee Data'!$L$4:$L$553,MATCH(Databackup!A78,Employee_Name,0))))","v":""},{"$f":"IF(ISERROR(INDEX('Employee Data'!$M$4:$M$553,MATCH(Databackup!A78,Employee_Name,0),0)),\"\",(INDEX('Employee Data'!$M$4:$M$553,MATCH(Databackup!A78,Employee_Name,0))))","v":""},{"$f":"IF(ISERROR(INDEX('Employee Data'!$N$4:$N$553,MATCH(Databackup!A78,Employee_Name,0),0)),\"\",(INDEX('Employee Data'!$N$4:$N$553,MATCH(Databackup!A78,Employee_Name,0))))","v":""},{"$f":"IF(ISERROR(INDEX('Employee Data'!$O$4:$O$553,MATCH(Databackup!A78,Employee_Name,0),0)),\"\",(INDEX('Employee Data'!$O$4:$O$553,MATCH(Databackup!A78,Employee_Name,0))))","v":""}]
[{"$f":"INDEX(Employee_Name,MATCH(SMALL(IF($A$1='Employee Data'!$I$4:$I$553,'Employee Data'!$B$4:$B$553,\"\"),ROW('Employee Data'!A77)),IF($A$1='Employee Data'!$I$4:$I$553,'Employee Data'!$B$4:$B$553,\"\"),0))","v":{"$error":"#NUM!"}},{"$f":"IF(ISERROR(INDEX('Employee Data'!$B$4:$B$553,MATCH(Databackup!A79,Employee_Name,0),0)),\"\",(INDEX('Employee Data'!$B$4:$B$553,MATCH(Databackup!A79,Employee_Name,0))))","v":""},{"$f":"IF(ISERROR(INDEX('Employee Data'!$C$4:$C$553,MATCH(Databackup!A79,Employee_Name,0),0)),\"\",(INDEX('Employee Data'!$C$4:$C$553,MATCH(Databackup!A79,Employee_Name,0))))","v":""},{"$f":"IF(ISERROR(INDEX('Employee Data'!$D$4:$D$553,MATCH(Databackup!A79,Employee_Name,0),0)),\"\",(INDEX('Employee Data'!$D$4:$D$553,MATCH(Databackup!A79,Employee_Name,0))))","v":""},{"$f":"IF(ISERROR(INDEX('Employee Data'!$F$4:$F$553,MATCH(Databackup!A79,Employee_Name,0),0)),\"\",(INDEX('Employee Data'!$F$4:$F$553,MATCH(Databackup!A79,Employee_Name,0))))","v":""},{"$f":"IF(ISERROR(INDEX('Employee Data'!$G$4:$G$553,MATCH(Databackup!A79,Employee_Name,0),0)),\"\",(INDEX('Employee Data'!$G$4:$G$553,MATCH(Databackup!A79,Employee_Name,0))))","v":""},{"$f":"IF(ISERROR(INDEX('Employee Data'!$H$4:$H$553,MATCH(Databackup!A79,Employee_Name,0),0)),\"\",(INDEX('Employee Data'!$H$4:$H$553,MATCH(Databackup!A79,Employee_Name,0))))","v":""},{"$f":"IF(ISERROR(INDEX('Employee Data'!$I$4:$I$553,MATCH(Databackup!A79,Employee_Name,0),0)),\"\",(INDEX('Employee Data'!$I$4:$I$553,MATCH(Databackup!A79,Employee_Name,0))))","v":""},{"$f":"IF(ISERROR(INDEX('Employee Data'!$J$4:$J$553,MATCH(Databackup!A79,Employee_Name,0),0)),\"\",(INDEX('Employee Data'!J$4:$J$553,MATCH(Databackup!A79,Employee_Name,0))))","v":""},{"$f":"IF(ISERROR(INDEX('Employee Data'!$K$4:$K$553,MATCH(Databackup!A79,Employee_Name,0),0)),\"\",(INDEX('Employee Data'!$K$4:$K$553,MATCH(Databackup!A79,Employee_Name,0))))","v":""},{"$f":"IF(ISERROR(INDEX('Employee Data'!$L$4:$L$553,MATCH(Databackup!A79,Employee_Name,0),0)),\"\",(INDEX('Employee Data'!$L$4:$L$553,MATCH(Databackup!A79,Employee_Name,0))))","v":""},{"$f":"IF(ISERROR(INDEX('Employee Data'!$M$4:$M$553,MATCH(Databackup!A79,Employee_Name,0),0)),\"\",(INDEX('Employee Data'!$M$4:$M$553,MATCH(Databackup!A79,Employee_Name,0))))","v":""},{"$f":"IF(ISERROR(INDEX('Employee Data'!$N$4:$N$553,MATCH(Databackup!A79,Employee_Name,0),0)),\"\",(INDEX('Employee Data'!$N$4:$N$553,MATCH(Databackup!A79,Employee_Name,0))))","v":""},{"$f":"IF(ISERROR(INDEX('Employee Data'!$O$4:$O$553,MATCH(Databackup!A79,Employee_Name,0),0)),\"\",(INDEX('Employee Data'!$O$4:$O$553,MATCH(Databackup!A79,Employee_Name,0))))","v":""}]
[{"$f":"INDEX(Employee_Name,MATCH(SMALL(IF($A$1='Employee Data'!$I$4:$I$553,'Employee Data'!$B$4:$B$553,\"\"),ROW('Employee Data'!A78)),IF($A$1='Employee Data'!$I$4:$I$553,'Employee Data'!$B$4:$B$553,\"\"),0))","v":{"$error":"#NUM!"}},{"$f":"IF(ISERROR(INDEX('Employee Data'!$B$4:$B$553,MATCH(Databackup!A80,Employee_Name,0),0)),\"\",(INDEX('Employee Data'!$B$4:$B$553,MATCH(Databackup!A80,Employee_Name,0))))","v":""},{"$f":"IF(ISERROR(INDEX('Employee Data'!$C$4:$C$553,MATCH(Databackup!A80,Employee_Name,0),0)),\"\",(INDEX('Employee Data'!$C$4:$C$553,MATCH(Databackup!A80,Employee_Name,0))))","v":""},{"$f":"IF(ISERROR(INDEX('Employee Data'!$D$4:$D$553,MATCH(Databackup!A80,Employee_Name,0),0)),\"\",(INDEX('Employee Data'!$D$4:$D$553,MATCH(Databackup!A80,Employee_Name,0))))","v":""},{"$f":"IF(ISERROR(INDEX('Employee Data'!$F$4:$F$553,MATCH(Databackup!A80,Employee_Name,0),0)),\"\",(INDEX('Employee Data'!$F$4:$F$553,MATCH(Databackup!A80,Employee_Name,0))))","v":""},{"$f":"IF(ISERROR(INDEX('Employee Data'!$G$4:$G$553,MATCH(Databackup!A80,Employee_Name,0),0)),\"\",(INDEX('Employee Data'!$G$4:$G$553,MATCH(Databackup!A80,Employee_Name,0))))","v":""},{"$f":"IF(ISERROR(INDEX('Employee Data'!$H$4:$H$553,MATCH(Databackup!A80,Employee_Name,0),0)),\"\",(INDEX('Employee Data'!$H$4:$H$553,MATCH(Databackup!A80,Employee_Name,0))))","v":""},{"$f":"IF(ISERROR(INDEX('Employee Data'!$I$4:$I$553,MATCH(Databackup!A80,Employee_Name,0),0)),\"\",(INDEX('Employee Data'!$I$4:$I$553,MATCH(Databackup!A80,Employee_Name,0))))","v":""},{"$f":"IF(ISERROR(INDEX('Employee Data'!$J$4:$J$553,MATCH(Databackup!A80,Employee_Name,0),0)),\"\",(INDEX('Employee Data'!J$4:$J$553,MATCH(Databackup!A80,Employee_Name,0))))","v":""},{"$f":"IF(ISERROR(INDEX('Employee Data'!$K$4:$K$553,MATCH(Databackup!A80,Employee_Name,0),0)),\"\",(INDEX('Employee Data'!$K$4:$K$553,MATCH(Databackup!A80,Employee_Name,0))))","v":""},{"$f":"IF(ISERROR(INDEX('Employee Data'!$L$4:$L$553,MATCH(Databackup!A80,Employee_Name,0),0)),\"\",(INDEX('Employee Data'!$L$4:$L$553,MATCH(Databackup!A80,Employee_Name,0))))","v":""},{"$f":"IF(ISERROR(INDEX('Employee Data'!$M$4:$M$553,MATCH(Databackup!A80,Employee_Name,0),0)),\"\",(INDEX('Employee Data'!$M$4:$M$553,MATCH(Databackup!A80,Employee_Name,0))))","v":""},{"$f":"IF(ISERROR(INDEX('Employee Data'!$N$4:$N$553,MATCH(Databackup!A80,Employee_Name,0),0)),\"\",(INDEX('Employee Data'!$N$4:$N$553,MATCH(Databackup!A80,Employee_Name,0))))","v":""},{"$f":"IF(ISERROR(INDEX('Employee Data'!$O$4:$O$553,MATCH(Databackup!A80,Employee_Name,0),0)),\"\",(INDEX('Employee Data'!$O$4:$O$553,MATCH(Databackup!A80,Employee_Name,0))))","v":""}]
[{"$f":"INDEX(Employee_Name,MATCH(SMALL(IF($A$1='Employee Data'!$I$4:$I$553,'Employee Data'!$B$4:$B$553,\"\"),ROW('Employee Data'!A79)),IF($A$1='Employee Data'!$I$4:$I$553,'Employee Data'!$B$4:$B$553,\"\"),0))","v":{"$error":"#NUM!"}},{"$f":"IF(ISERROR(INDEX('Employee Data'!$B$4:$B$553,MATCH(Databackup!A81,Employee_Name,0),0)),\"\",(INDEX('Employee Data'!$B$4:$B$553,MATCH(Databackup!A81,Employee_Name,0))))","v":""},{"$f":"IF(ISERROR(INDEX('Employee Data'!$C$4:$C$553,MATCH(Databackup!A81,Employee_Name,0),0)),\"\",(INDEX('Employee Data'!$C$4:$C$553,MATCH(Databackup!A81,Employee_Name,0))))","v":""},{"$f":"IF(ISERROR(INDEX('Employee Data'!$D$4:$D$553,MATCH(Databackup!A81,Employee_Name,0),0)),\"\",(INDEX('Employee Data'!$D$4:$D$553,MATCH(Databackup!A81,Employee_Name,0))))","v":""},{"$f":"IF(ISERROR(INDEX('Employee Data'!$F$4:$F$553,MATCH(Databackup!A81,Employee_Name,0),0)),\"\",(INDEX('Employee Data'!$F$4:$F$553,MATCH(Databackup!A81,Employee_Name,0))))","v":""},{"$f":"IF(ISERROR(INDEX('Employee Data'!$G$4:$G$553,MATCH(Databackup!A81,Employee_Name,0),0)),\"\",(INDEX('Employee Data'!$G$4:$G$553,MATCH(Databackup!A81,Employee_Name,0))))","v":""},{"$f":"IF(ISERROR(INDEX('Employee Data'!$H$4:$H$553,MATCH(Databackup!A81,Employee_Name,0),0)),\"\",(INDEX('Employee Data'!$H$4:$H$553,MATCH(Databackup!A81,Employee_Name,0))))","v":""},{"$f":"IF(ISERROR(INDEX('Employee Data'!$I$4:$I$553,MATCH(Databackup!A81,Employee_Name,0),0)),\"\",(INDEX('Employee Data'!$I$4:$I$553,MATCH(Databackup!A81,Employee_Name,0))))","v":""},{"$f":"IF(ISERROR(INDEX('Employee Data'!$J$4:$J$553,MATCH(Databackup!A81,Employee_Name,0),0)),\"\",(INDEX('Employee Data'!J$4:$J$553,MATCH(Databackup!A81,Employee_Name,0))))","v":""},{"$f":"IF(ISERROR(INDEX('Employee Data'!$K$4:$K$553,MATCH(Databackup!A81,Employee_Name,0),0)),\"\",(INDEX('Employee Data'!$K$4:$K$553,MATCH(Databackup!A81,Employee_Name,0))))","v":""},{"$f":"IF(ISERROR(INDEX('Employee Data'!$L$4:$L$553,MATCH(Databackup!A81,Employee_Name,0),0)),\"\",(INDEX('Employee Data'!$L$4:$L$553,MATCH(Databackup!A81,Employee_Name,0))))","v":""},{"$f":"IF(ISERROR(INDEX('Employee Data'!$M$4:$M$553,MATCH(Databackup!A81,Employee_Name,0),0)),\"\",(INDEX('Employee Data'!$M$4:$M$553,MATCH(Databackup!A81,Employee_Name,0))))","v":""},{"$f":"IF(ISERROR(INDEX('Employee Data'!$N$4:$N$553,MATCH(Databackup!A81,Employee_Name,0),0)),\"\",(INDEX('Employee Data'!$N$4:$N$553,MATCH(Databackup!A81,Employee_Name,0))))","v":""},{"$f":"IF(ISERROR(INDEX('Employee Data'!$O$4:$O$553,MATCH(Databackup!A81,Employee_Name,0),0)),\"\",(INDEX('Employee Data'!$O$4:$O$553,MATCH(Databackup!A81,Employee_Name,0))))","v":""}]
[{"$f":"INDEX(Employee_Name,MATCH(SMALL(IF($A$1='Employee Data'!$I$4:$I$553,'Employee Data'!$B$4:$B$553,\"\"),ROW('Employee Data'!A80)),IF($A$1='Employee Data'!$I$4:$I$553,'Employee Data'!$B$4:$B$553,\"\"),0))","v":{"$error":"#NUM!"}},{"$f":"IF(ISERROR(INDEX('Employee Data'!$B$4:$B$553,MATCH(Databackup!A82,Employee_Name,0),0)),\"\",(INDEX('Employee Data'!$B$4:$B$553,MATCH(Databackup!A82,Employee_Name,0))))","v":""},{"$f":"IF(ISERROR(INDEX('Employee Data'!$C$4:$C$553,MATCH(Databackup!A82,Employee_Name,0),0)),\"\",(INDEX('Employee Data'!$C$4:$C$553,MATCH(Databackup!A82,Employee_Name,0))))","v":""},{"$f":"IF(ISERROR(INDEX('Employee Data'!$D$4:$D$553,MATCH(Databackup!A82,Employee_Name,0),0)),\"\",(INDEX('Employee Data'!$D$4:$D$553,MATCH(Databackup!A82,Employee_Name,0))))","v":""},{"$f":"IF(ISERROR(INDEX('Employee Data'!$F$4:$F$553,MATCH(Databackup!A82,Employee_Name,0),0)),\"\",(INDEX('Employee Data'!$F$4:$F$553,MATCH(Databackup!A82,Employee_Name,0))))","v":""},{"$f":"IF(ISERROR(INDEX('Employee Data'!$G$4:$G$553,MATCH(Databackup!A82,Employee_Name,0),0)),\"\",(INDEX('Employee Data'!$G$4:$G$553,MATCH(Databackup!A82,Employee_Name,0))))","v":""},{"$f":"IF(ISERROR(INDEX('Employee Data'!$H$4:$H$553,MATCH(Databackup!A82,Employee_Name,0),0)),\"\",(INDEX('Employee Data'!$H$4:$H$553,MATCH(Databackup!A82,Employee_Name,0))))","v":""},{"$f":"IF(ISERROR(INDEX('Employee Data'!$I$4:$I$553,MATCH(Databackup!A82,Employee_Name,0),0)),\"\",(INDEX('Employee Data'!$I$4:$I$553,MATCH(Databackup!A82,Employee_Name,0))))","v":""},{"$f":"IF(ISERROR(INDEX('Employee Data'!$J$4:$J$553,MATCH(Databackup!A82,Employee_Name,0),0)),\"\",(INDEX('Employee Data'!J$4:$J$553,MATCH(Databackup!A82,Employee_Name,0))))","v":""},{"$f":"IF(ISERROR(INDEX('Employee Data'!$K$4:$K$553,MATCH(Databackup!A82,Employee_Name,0),0)),\"\",(INDEX('Employee Data'!$K$4:$K$553,MATCH(Databackup!A82,Employee_Name,0))))","v":""},{"$f":"IF(ISERROR(INDEX('Employee Data'!$L$4:$L$553,MATCH(Databackup!A82,Employee_Name,0),0)),\"\",(INDEX('Employee Data'!$L$4:$L$553,MATCH(Databackup!A82,Employee_Name,0))))","v":""},{"$f":"IF(ISERROR(INDEX('Employee Data'!$M$4:$M$553,MATCH(Databackup!A82,Employee_Name,0),0)),\"\",(INDEX('Employee Data'!$M$4:$M$553,MATCH(Databackup!A82,Employee_Name,0))))","v":""},{"$f":"IF(ISERROR(INDEX('Employee Data'!$N$4:$N$553,MATCH(Databackup!A82,Employee_Name,0),0)),\"\",(INDEX('Employee Data'!$N$4:$N$553,MATCH(Databackup!A82,Employee_Name,0))))","v":""},{"$f":"IF(ISERROR(INDEX('Employee Data'!$O$4:$O$553,MATCH(Databackup!A82,Employee_Name,0),0)),\"\",(INDEX('Employee Data'!$O$4:$O$553,MATCH(Databackup!A82,Employee_Name,0))))","v":""}]
[{"$f":"INDEX(Employee_Name,MATCH(SMALL(IF($A$1='Employee Data'!$I$4:$I$553,'Employee Data'!$B$4:$B$553,\"\"),ROW('Employee Data'!A81)),IF($A$1='Employee Data'!$I$4:$I$553,'Employee Data'!$B$4:$B$553,\"\"),0))","v":{"$error":"#NUM!"}},{"$f":"IF(ISERROR(INDEX('Employee Data'!$B$4:$B$553,MATCH(Databackup!A83,Employee_Name,0),0)),\"\",(INDEX('Employee Data'!$B$4:$B$553,MATCH(Databackup!A83,Employee_Name,0))))","v":""},{"$f":"IF(ISERROR(INDEX('Employee Data'!$C$4:$C$553,MATCH(Databackup!A83,Employee_Name,0),0)),\"\",(INDEX('Employee Data'!$C$4:$C$553,MATCH(Databackup!A83,Employee_Name,0))))","v":""},{"$f":"IF(ISERROR(INDEX('Employee Data'!$D$4:$D$553,MATCH(Databackup!A83,Employee_Name,0),0)),\"\",(INDEX('Employee Data'!$D$4:$D$553,MATCH(Databackup!A83,Employee_Name,0))))","v":""},{"$f":"IF(ISERROR(INDEX('Employee Data'!$F$4:$F$553,MATCH(Databackup!A83,Employee_Name,0),0)),\"\",(INDEX('Employee Data'!$F$4:$F$553,MATCH(Databackup!A83,Employee_Name,0))))","v":""},{"$f":"IF(ISERROR(INDEX('Employee Data'!$G$4:$G$553,MATCH(Databackup!A83,Employee_Name,0),0)),\"\",(INDEX('Employee Data'!$G$4:$G$553,MATCH(Databackup!A83,Employee_Name,0))))","v":""},{"$f":"IF(ISERROR(INDEX('Employee Data'!$H$4:$H$553,MATCH(Databackup!A83,Employee_Name,0),0)),\"\",(INDEX('Employee Data'!$H$4:$H$553,MATCH(Databackup!A83,Employee_Name,0))))","v":""},{"$f":"IF(ISERROR(INDEX('Employee Data'!$I$4:$I$553,MATCH(Databackup!A83,Employee_Name,0),0)),\"\",(INDEX('Employee Data'!$I$4:$I$553,MATCH(Databackup!A83,Employee_Name,0))))","v":""},{"$f":"IF(ISERROR(INDEX('Employee Data'!$J$4:$J$553,MATCH(Databackup!A83,Employee_Name,0),0)),\"\",(INDEX('Employee Data'!J$4:$J$553,MATCH(Databackup!A83,Employee_Name,0))))","v":""},{"$f":"IF(ISERROR(INDEX('Employee Data'!$K$4:$K$553,MATCH(Databackup!A83,Employee_Name,0),0)),\"\",(INDEX('Employee Data'!$K$4:$K$553,MATCH(Databackup!A83,Employee_Name,0))))","v":""},{"$f":"IF(ISERROR(INDEX('Employee Data'!$L$4:$L$553,MATCH(Databackup!A83,Employee_Name,0),0)),\"\",(INDEX('Employee Data'!$L$4:$L$553,MATCH(Databackup!A83,Employee_Name,0))))","v":""},{"$f":"IF(ISERROR(INDEX('Employee Data'!$M$4:$M$553,MATCH(Databackup!A83,Employee_Name,0),0)),\"\",(INDEX('Employee Data'!$M$4:$M$553,MATCH(Databackup!A83,Employee_Name,0))))","v":""},{"$f":"IF(ISERROR(INDEX('Employee Data'!$N$4:$N$553,MATCH(Databackup!A83,Employee_Name,0),0)),\"\",(INDEX('Employee Data'!$N$4:$N$553,MATCH(Databackup!A83,Employee_Name,0))))","v":""},{"$f":"IF(ISERROR(INDEX('Employee Data'!$O$4:$O$553,MATCH(Databackup!A83,Employee_Name,0),0)),\"\",(INDEX('Employee Data'!$O$4:$O$553,MATCH(Databackup!A83,Employee_Name,0))))","v":""}]
[{"$f":"INDEX(Employee_Name,MATCH(SMALL(IF($A$1='Employee Data'!$I$4:$I$553,'Employee Data'!$B$4:$B$553,\"\"),ROW('Employee Data'!A82)),IF($A$1='Employee Data'!$I$4:$I$553,'Employee Data'!$B$4:$B$553,\"\"),0))","v":{"$error":"#NUM!"}},{"$f":"IF(ISERROR(INDEX('Employee Data'!$B$4:$B$553,MATCH(Databackup!A84,Employee_Name,0),0)),\"\",(INDEX('Employee Data'!$B$4:$B$553,MATCH(Databackup!A84,Employee_Name,0))))","v":""},{"$f":"IF(ISERROR(INDEX('Employee Data'!$C$4:$C$553,MATCH(Databackup!A84,Employee_Name,0),0)),\"\",(INDEX('Employee Data'!$C$4:$C$553,MATCH(Databackup!A84,Employee_Name,0))))","v":""},{"$f":"IF(ISERROR(INDEX('Employee Data'!$D$4:$D$553,MATCH(Databackup!A84,Employee_Name,0),0)),\"\",(INDEX('Employee Data'!$D$4:$D$553,MATCH(Databackup!A84,Employee_Name,0))))","v":""},{"$f":"IF(ISERROR(INDEX('Employee Data'!$F$4:$F$553,MATCH(Databackup!A84,Employee_Name,0),0)),\"\",(INDEX('Employee Data'!$F$4:$F$553,MATCH(Databackup!A84,Employee_Name,0))))","v":""},{"$f":"IF(ISERROR(INDEX('Employee Data'!$G$4:$G$553,MATCH(Databackup!A84,Employee_Name,0),0)),\"\",(INDEX('Employee Data'!$G$4:$G$553,MATCH(Databackup!A84,Employee_Name,0))))","v":""},{"$f":"IF(ISERROR(INDEX('Employee Data'!$H$4:$H$553,MATCH(Databackup!A84,Employee_Name,0),0)),\"\",(INDEX('Employee Data'!$H$4:$H$553,MATCH(Databackup!A84,Employee_Name,0))))","v":""},{"$f":"IF(ISERROR(INDEX('Employee Data'!$I$4:$I$553,MATCH(Databackup!A84,Employee_Name,0),0)),\"\",(INDEX('Employee Data'!$I$4:$I$553,MATCH(Databackup!A84,Employee_Name,0))))","v":""},{"$f":"IF(ISERROR(INDEX('Employee Data'!$J$4:$J$553,MATCH(Databackup!A84,Employee_Name,0),0)),\"\",(INDEX('Employee Data'!J$4:$J$553,MATCH(Databackup!A84,Employee_Name,0))))","v":""},{"$f":"IF(ISERROR(INDEX('Employee Data'!$K$4:$K$553,MATCH(Databackup!A84,Employee_Name,0),0)),\"\",(INDEX('Employee Data'!$K$4:$K$553,MATCH(Databackup!A84,Employee_Name,0))))","v":""},{"$f":"IF(ISERROR(INDEX('Employee Data'!$L$4:$L$553,MATCH(Databackup!A84,Employee_Name,0),0)),\"\",(INDEX('Employee Data'!$L$4:$L$553,MATCH(Databackup!A84,Employee_Name,0))))","v":""},{"$f":"IF(ISERROR(INDEX('Employee Data'!$M$4:$M$553,MATCH(Databackup!A84,Employee_Name,0),0)),\"\",(INDEX('Employee Data'!$M$4:$M$553,MATCH(Databackup!A84,Employee_Name,0))))","v":""},{"$f":"IF(ISERROR(INDEX('Employee Data'!$N$4:$N$553,MATCH(Databackup!A84,Employee_Name,0),0)),\"\",(INDEX('Employee Data'!$N$4:$N$553,MATCH(Databackup!A84,Employee_Name,0))))","v":""},{"$f":"IF(ISERROR(INDEX('Employee Data'!$O$4:$O$553,MATCH(Databackup!A84,Employee_Name,0),0)),\"\",(INDEX('Employee Data'!$O$4:$O$553,MATCH(Databackup!A84,Employee_Name,0))))","v":""}]
[{"$f":"INDEX(Employee_Name,MATCH(SMALL(IF($A$1='Employee Data'!$I$4:$I$553,'Employee Data'!$B$4:$B$553,\"\"),ROW('Employee Data'!A83)),IF($A$1='Employee Data'!$I$4:$I$553,'Employee Data'!$B$4:$B$553,\"\"),0))","v":{"$error":"#NUM!"}},{"$f":"IF(ISERROR(INDEX('Employee Data'!$B$4:$B$553,MATCH(Databackup!A85,Employee_Name,0),0)),\"\",(INDEX('Employee Data'!$B$4:$B$553,MATCH(Databackup!A85,Employee_Name,0))))","v":""},{"$f":"IF(ISERROR(INDEX('Employee Data'!$C$4:$C$553,MATCH(Databackup!A85,Employee_Name,0),0)),\"\",(INDEX('Employee Data'!$C$4:$C$553,MATCH(Databackup!A85,Employee_Name,0))))","v":""},{"$f":"IF(ISERROR(INDEX('Employee Data'!$D$4:$D$553,MATCH(Databackup!A85,Employee_Name,0),0)),\"\",(INDEX('Employee Data'!$D$4:$D$553,MATCH(Databackup!A85,Employee_Name,0))))","v":""},{"$f":"IF(ISERROR(INDEX('Employee Data'!$F$4:$F$553,MATCH(Databackup!A85,Employee_Name,0),0)),\"\",(INDEX('Employee Data'!$F$4:$F$553,MATCH(Databackup!A85,Employee_Name,0))))","v":""},{"$f":"IF(ISERROR(INDEX('Employee Data'!$G$4:$G$553,MATCH(Databackup!A85,Employee_Name,0),0)),\"\",(INDEX('Employee Data'!$G$4:$G$553,MATCH(Databackup!A85,Employee_Name,0))))","v":""},{"$f":"IF(ISERROR(INDEX('Employee Data'!$H$4:$H$553,MATCH(Databackup!A85,Employee_Name,0),0)),\"\",(INDEX('Employee Data'!$H$4:$H$553,MATCH(Databackup!A85,Employee_Name,0))))","v":""},{"$f":"IF(ISERROR(INDEX('Employee Data'!$I$4:$I$553,MATCH(Databackup!A85,Employee_Name,0),0)),\"\",(INDEX('Employee Data'!$I$4:$I$553,MATCH(Databackup!A85,Employee_Name,0))))","v":""},{"$f":"IF(ISERROR(INDEX('Employee Data'!$J$4:$J$553,MATCH(Databackup!A85,Employee_Name,0),0)),\"\",(INDEX('Employee Data'!J$4:$J$553,MATCH(Databackup!A85,Employee_Name,0))))","v":""},{"$f":"IF(ISERROR(INDEX('Employee Data'!$K$4:$K$553,MATCH(Databackup!A85,Employee_Name,0),0)),\"\",(INDEX('Employee Data'!$K$4:$K$553,MATCH(Databackup!A85,Employee_Name,0))))","v":""},{"$f":"IF(ISERROR(INDEX('Employee Data'!$L$4:$L$553,MATCH(Databackup!A85,Employee_Name,0),0)),\"\",(INDEX('Employee Data'!$L$4:$L$553,MATCH(Databackup!A85,Employee_Name,0))))","v":""},{"$f":"IF(ISERROR(INDEX('Employee Data'!$M$4:$M$553,MATCH(Databackup!A85,Employee_Name,0),0)),\"\",(INDEX('Employee Data'!$M$4:$M$553,MATCH(Databackup!A85,Employee_Name,0))))","v":""},{"$f":"IF(ISERROR(INDEX('Employee Data'!$N$4:$N$553,MATCH(Databackup!A85,Employee_Name,0),0)),\"\",(INDEX('Employee Data'!$N$4:$N$553,MATCH(Databackup!A85,Employee_Name,0))))","v":""},{"$f":"IF(ISERROR(INDEX('Employee Data'!$O$4:$O$553,MATCH(Databackup!A85,Employee_Name,0),0)),\"\",(INDEX('Employee Data'!$O$4:$O$553,MATCH(Databackup!A85,Employee_Name,0))))","v":""}]
[{"$f":"INDEX(Employee_Name,MATCH(SMALL(IF($A$1='Employee Data'!$I$4:$I$553,'Employee Data'!$B$4:$B$553,\"\"),ROW('Employee Data'!A84)),IF($A$1='Employee Data'!$I$4:$I$553,'Employee Data'!$B$4:$B$553,\"\"),0))","v":{"$error":"#NUM!"}},{"$f":"IF(ISERROR(INDEX('Employee Data'!$B$4:$B$553,MATCH(Databackup!A86,Employee_Name,0),0)),\"\",(INDEX('Employee Data'!$B$4:$B$553,MATCH(Databackup!A86,Employee_Name,0))))","v":""},{"$f":"IF(ISERROR(INDEX('Employee Data'!$C$4:$C$553,MATCH(Databackup!A86,Employee_Name,0),0)),\"\",(INDEX('Employee Data'!$C$4:$C$553,MATCH(Databackup!A86,Employee_Name,0))))","v":""},{"$f":"IF(ISERROR(INDEX('Employee Data'!$D$4:$D$553,MATCH(Databackup!A86,Employee_Name,0),0)),\"\",(INDEX('Employee Data'!$D$4:$D$553,MATCH(Databackup!A86,Employee_Name,0))))","v":""},{"$f":"IF(ISERROR(INDEX('Employee Data'!$F$4:$F$553,MATCH(Databackup!A86,Employee_Name,0),0)),\"\",(INDEX('Employee Data'!$F$4:$F$553,MATCH(Databackup!A86,Employee_Name,0))))","v":""},{"$f":"IF(ISERROR(INDEX('Employee Data'!$G$4:$G$553,MATCH(Databackup!A86,Employee_Name,0),0)),\"\",(INDEX('Employee Data'!$G$4:$G$553,MATCH(Databackup!A86,Employee_Name,0))))","v":""},{"$f":"IF(ISERROR(INDEX('Employee Data'!$H$4:$H$553,MATCH(Databackup!A86,Employee_Name,0),0)),\"\",(INDEX('Employee Data'!$H$4:$H$553,MATCH(Databackup!A86,Employee_Name,0))))","v":""},{"$f":"IF(ISERROR(INDEX('Employee Data'!$I$4:$I$553,MATCH(Databackup!A86,Employee_Name,0),0)),\"\",(INDEX('Employee Data'!$I$4:$I$553,MATCH(Databackup!A86,Employee_Name,0))))","v":""},{"$f":"IF(ISERROR(INDEX('Employee Data'!$J$4:$J$553,MATCH(Databackup!A86,Employee_Name,0),0)),\"\",(INDEX('Employee Data'!J$4:$J$553,MATCH(Databackup!A86,Employee_Name,0))))","v":""},{"$f":"IF(ISERROR(INDEX('Employee Data'!$K$4:$K$553,MATCH(Databackup!A86,Employee_Name,0),0)),\"\",(INDEX('Employee Data'!$K$4:$K$553,MATCH(Databackup!A86,Employee_Name,0))))","v":""},{"$f":"IF(ISERROR(INDEX('Employee Data'!$L$4:$L$553,MATCH(Databackup!A86,Employee_Name,0),0)),\"\",(INDEX('Employee Data'!$L$4:$L$553,MATCH(Databackup!A86,Employee_Name,0))))","v":""},{"$f":"IF(ISERROR(INDEX('Employee Data'!$M$4:$M$553,MATCH(Databackup!A86,Employee_Name,0),0)),\"\",(INDEX('Employee Data'!$M$4:$M$553,MATCH(Databackup!A86,Employee_Name,0))))","v":""},{"$f":"IF(ISERROR(INDEX('Employee Data'!$N$4:$N$553,MATCH(Databackup!A86,Employee_Name,0),0)),\"\",(INDEX('Employee Data'!$N$4:$N$553,MATCH(Databackup!A86,Employee_Name,0))))","v":""},{"$f":"IF(ISERROR(INDEX('Employee Data'!$O$4:$O$553,MATCH(Databackup!A86,Employee_Name,0),0)),\"\",(INDEX('Employee Data'!$O$4:$O$553,MATCH(Databackup!A86,Employee_Name,0))))","v":""}]
[{"$f":"INDEX(Employee_Name,MATCH(SMALL(IF($A$1='Employee Data'!$I$4:$I$553,'Employee Data'!$B$4:$B$553,\"\"),ROW('Employee Data'!A85)),IF($A$1='Employee Data'!$I$4:$I$553,'Employee Data'!$B$4:$B$553,\"\"),0))","v":{"$error":"#NUM!"}},{"$f":"IF(ISERROR(INDEX('Employee Data'!$B$4:$B$553,MATCH(Databackup!A87,Employee_Name,0),0)),\"\",(INDEX('Employee Data'!$B$4:$B$553,MATCH(Databackup!A87,Employee_Name,0))))","v":""},{"$f":"IF(ISERROR(INDEX('Employee Data'!$C$4:$C$553,MATCH(Databackup!A87,Employee_Name,0),0)),\"\",(INDEX('Employee Data'!$C$4:$C$553,MATCH(Databackup!A87,Employee_Name,0))))","v":""},{"$f":"IF(ISERROR(INDEX('Employee Data'!$D$4:$D$553,MATCH(Databackup!A87,Employee_Name,0),0)),\"\",(INDEX('Employee Data'!$D$4:$D$553,MATCH(Databackup!A87,Employee_Name,0))))","v":""},{"$f":"IF(ISERROR(INDEX('Employee Data'!$F$4:$F$553,MATCH(Databackup!A87,Employee_Name,0),0)),\"\",(INDEX('Employee Data'!$F$4:$F$553,MATCH(Databackup!A87,Employee_Name,0))))","v":""},{"$f":"IF(ISERROR(INDEX('Employee Data'!$G$4:$G$553,MATCH(Databackup!A87,Employee_Name,0),0)),\"\",(INDEX('Employee Data'!$G$4:$G$553,MATCH(Databackup!A87,Employee_Name,0))))","v":""},{"$f":"IF(ISERROR(INDEX('Employee Data'!$H$4:$H$553,MATCH(Databackup!A87,Employee_Name,0),0)),\"\",(INDEX('Employee Data'!$H$4:$H$553,MATCH(Databackup!A87,Employee_Name,0))))","v":""},{"$f":"IF(ISERROR(INDEX('Employee Data'!$I$4:$I$553,MATCH(Databackup!A87,Employee_Name,0),0)),\"\",(INDEX('Employee Data'!$I$4:$I$553,MATCH(Databackup!A87,Employee_Name,0))))","v":""},{"$f":"IF(ISERROR(INDEX('Employee Data'!$J$4:$J$553,MATCH(Databackup!A87,Employee_Name,0),0)),\"\",(INDEX('Employee Data'!J$4:$J$553,MATCH(Databackup!A87,Employee_Name,0))))","v":""},{"$f":"IF(ISERROR(INDEX('Employee Data'!$K$4:$K$553,MATCH(Databackup!A87,Employee_Name,0),0)),\"\",(INDEX('Employee Data'!$K$4:$K$553,MATCH(Databackup!A87,Employee_Name,0))))","v":""},{"$f":"IF(ISERROR(INDEX('Employee Data'!$L$4:$L$553,MATCH(Databackup!A87,Employee_Name,0),0)),\"\",(INDEX('Employee Data'!$L$4:$L$553,MATCH(Databackup!A87,Employee_Name,0))))","v":""},{"$f":"IF(ISERROR(INDEX('Employee Data'!$M$4:$M$553,MATCH(Databackup!A87,Employee_Name,0),0)),\"\",(INDEX('Employee Data'!$M$4:$M$553,MATCH(Databackup!A87,Employee_Name,0))))","v":""},{"$f":"IF(ISERROR(INDEX('Employee Data'!$N$4:$N$553,MATCH(Databackup!A87,Employee_Name,0),0)),\"\",(INDEX('Employee Data'!$N$4:$N$553,MATCH(Databackup!A87,Employee_Name,0))))","v":""},{"$f":"IF(ISERROR(INDEX('Employee Data'!$O$4:$O$553,MATCH(Databackup!A87,Employee_Name,0),0)),\"\",(INDEX('Employee Data'!$O$4:$O$553,MATCH(Databackup!A87,Employee_Name,0))))","v":""}]
[{"$f":"INDEX(Employee_Name,MATCH(SMALL(IF($A$1='Employee Data'!$I$4:$I$553,'Employee Data'!$B$4:$B$553,\"\"),ROW('Employee Data'!A86)),IF($A$1='Employee Data'!$I$4:$I$553,'Employee Data'!$B$4:$B$553,\"\"),0))","v":{"$error":"#NUM!"}},{"$f":"IF(ISERROR(INDEX('Employee Data'!$B$4:$B$553,MATCH(Databackup!A88,Employee_Name,0),0)),\"\",(INDEX('Employee Data'!$B$4:$B$553,MATCH(Databackup!A88,Employee_Name,0))))","v":""},{"$f":"IF(ISERROR(INDEX('Employee Data'!$C$4:$C$553,MATCH(Databackup!A88,Employee_Name,0),0)),\"\",(INDEX('Employee Data'!$C$4:$C$553,MATCH(Databackup!A88,Employee_Name,0))))","v":""},{"$f":"IF(ISERROR(INDEX('Employee Data'!$D$4:$D$553,MATCH(Databackup!A88,Employee_Name,0),0)),\"\",(INDEX('Employee Data'!$D$4:$D$553,MATCH(Databackup!A88,Employee_Name,0))))","v":""},{"$f":"IF(ISERROR(INDEX('Employee Data'!$F$4:$F$553,MATCH(Databackup!A88,Employee_Name,0),0)),\"\",(INDEX('Employee Data'!$F$4:$F$553,MATCH(Databackup!A88,Employee_Name,0))))","v":""},{"$f":"IF(ISERROR(INDEX('Employee Data'!$G$4:$G$553,MATCH(Databackup!A88,Employee_Name,0),0)),\"\",(INDEX('Employee Data'!$G$4:$G$553,MATCH(Databackup!A88,Employee_Name,0))))","v":""},{"$f":"IF(ISERROR(INDEX('Employee Data'!$H$4:$H$553,MATCH(Databackup!A88,Employee_Name,0),0)),\"\",(INDEX('Employee Data'!$H$4:$H$553,MATCH(Databackup!A88,Employee_Name,0))))","v":""},{"$f":"IF(ISERROR(INDEX('Employee Data'!$I$4:$I$553,MATCH(Databackup!A88,Employee_Name,0),0)),\"\",(INDEX('Employee Data'!$I$4:$I$553,MATCH(Databackup!A88,Employee_Name,0))))","v":""},{"$f":"IF(ISERROR(INDEX('Employee Data'!$J$4:$J$553,MATCH(Databackup!A88,Employee_Name,0),0)),\"\",(INDEX('Employee Data'!J$4:$J$553,MATCH(Databackup!A88,Employee_Name,0))))","v":""},{"$f":"IF(ISERROR(INDEX('Employee Data'!$K$4:$K$553,MATCH(Databackup!A88,Employee_Name,0),0)),\"\",(INDEX('Employee Data'!$K$4:$K$553,MATCH(Databackup!A88,Employee_Name,0))))","v":""},{"$f":"IF(ISERROR(INDEX('Employee Data'!$L$4:$L$553,MATCH(Databackup!A88,Employee_Name,0),0)),\"\",(INDEX('Employee Data'!$L$4:$L$553,MATCH(Databackup!A88,Employee_Name,0))))","v":""},{"$f":"IF(ISERROR(INDEX('Employee Data'!$M$4:$M$553,MATCH(Databackup!A88,Employee_Name,0),0)),\"\",(INDEX('Employee Data'!$M$4:$M$553,MATCH(Databackup!A88,Employee_Name,0))))","v":""},{"$f":"IF(ISERROR(INDEX('Employee Data'!$N$4:$N$553,MATCH(Databackup!A88,Employee_Name,0),0)),\"\",(INDEX('Employee Data'!$N$4:$N$553,MATCH(Databackup!A88,Employee_Name,0))))","v":""},{"$f":"IF(ISERROR(INDEX('Employee Data'!$O$4:$O$553,MATCH(Databackup!A88,Employee_Name,0),0)),\"\",(INDEX('Employee Data'!$O$4:$O$553,MATCH(Databackup!A88,Employee_Name,0))))","v":""}]
[{"$f":"INDEX(Employee_Name,MATCH(SMALL(IF($A$1='Employee Data'!$I$4:$I$553,'Employee Data'!$B$4:$B$553,\"\"),ROW('Employee Data'!A87)),IF($A$1='Employee Data'!$I$4:$I$553,'Employee Data'!$B$4:$B$553,\"\"),0))","v":{"$error":"#NUM!"}},{"$f":"IF(ISERROR(INDEX('Employee Data'!$B$4:$B$553,MATCH(Databackup!A89,Employee_Name,0),0)),\"\",(INDEX('Employee Data'!$B$4:$B$553,MATCH(Databackup!A89,Employee_Name,0))))","v":""},{"$f":"IF(ISERROR(INDEX('Employee Data'!$C$4:$C$553,MATCH(Databackup!A89,Employee_Name,0),0)),\"\",(INDEX('Employee Data'!$C$4:$C$553,MATCH(Databackup!A89,Employee_Name,0))))","v":""},{"$f":"IF(ISERROR(INDEX('Employee Data'!$D$4:$D$553,MATCH(Databackup!A89,Employee_Name,0),0)),\"\",(INDEX('Employee Data'!$D$4:$D$553,MATCH(Databackup!A89,Employee_Name,0))))","v":""},{"$f":"IF(ISERROR(INDEX('Employee Data'!$F$4:$F$553,MATCH(Databackup!A89,Employee_Name,0),0)),\"\",(INDEX('Employee Data'!$F$4:$F$553,MATCH(Databackup!A89,Employee_Name,0))))","v":""},{"$f":"IF(ISERROR(INDEX('Employee Data'!$G$4:$G$553,MATCH(Databackup!A89,Employee_Name,0),0)),\"\",(INDEX('Employee Data'!$G$4:$G$553,MATCH(Databackup!A89,Employee_Name,0))))","v":""},{"$f":"IF(ISERROR(INDEX('Employee Data'!$H$4:$H$553,MATCH(Databackup!A89,Employee_Name,0),0)),\"\",(INDEX('Employee Data'!$H$4:$H$553,MATCH(Databackup!A89,Employee_Name,0))))","v":""},{"$f":"IF(ISERROR(INDEX('Employee Data'!$I$4:$I$553,MATCH(Databackup!A89,Employee_Name,0),0)),\"\",(INDEX('Employee Data'!$I$4:$I$553,MATCH(Databackup!A89,Employee_Name,0))))","v":""},{"$f":"IF(ISERROR(INDEX('Employee Data'!$J$4:$J$553,MATCH(Databackup!A89,Employee_Name,0),0)),\"\",(INDEX('Employee Data'!J$4:$J$553,MATCH(Databackup!A89,Employee_Name,0))))","v":""},{"$f":"IF(ISERROR(INDEX('Employee Data'!$K$4:$K$553,MATCH(Databackup!A89,Employee_Name,0),0)),\"\",(INDEX('Employee Data'!$K$4:$K$553,MATCH(Databackup!A89,Employee_Name,0))))","v":""},{"$f":"IF(ISERROR(INDEX('Employee Data'!$L$4:$L$553,MATCH(Databackup!A89,Employee_Name,0),0)),\"\",(INDEX('Employee Data'!$L$4:$L$553,MATCH(Databackup!A89,Employee_Name,0))))","v":""},{"$f":"IF(ISERROR(INDEX('Employee Data'!$M$4:$M$553,MATCH(Databackup!A89,Employee_Name,0),0)),\"\",(INDEX('Employee Data'!$M$4:$M$553,MATCH(Databackup!A89,Employee_Name,0))))","v":""},{"$f":"IF(ISERROR(INDEX('Employee Data'!$N$4:$N$553,MATCH(Databackup!A89,Employee_Name,0),0)),\"\",(INDEX('Employee Data'!$N$4:$N$553,MATCH(Databackup!A89,Employee_Name,0))))","v":""},{"$f":"IF(ISERROR(INDEX('Employee Data'!$O$4:$O$553,MATCH(Databackup!A89,Employee_Name,0),0)),\"\",(INDEX('Employee Data'!$O$4:$O$553,MATCH(Databackup!A89,Employee_Name,0))))","v":""}]
[{"$f":"INDEX(Employee_Name,MATCH(SMALL(IF($A$1='Employee Data'!$I$4:$I$553,'Employee Data'!$B$4:$B$553,\"\"),ROW('Employee Data'!A88)),IF($A$1='Employee Data'!$I$4:$I$553,'Employee Data'!$B$4:$B$553,\"\"),0))","v":{"$error":"#NUM!"}},{"$f":"IF(ISERROR(INDEX('Employee Data'!$B$4:$B$553,MATCH(Databackup!A90,Employee_Name,0),0)),\"\",(INDEX('Employee Data'!$B$4:$B$553,MATCH(Databackup!A90,Employee_Name,0))))","v":""},{"$f":"IF(ISERROR(INDEX('Employee Data'!$C$4:$C$553,MATCH(Databackup!A90,Employee_Name,0),0)),\"\",(INDEX('Employee Data'!$C$4:$C$553,MATCH(Databackup!A90,Employee_Name,0))))","v":""},{"$f":"IF(ISERROR(INDEX('Employee Data'!$D$4:$D$553,MATCH(Databackup!A90,Employee_Name,0),0)),\"\",(INDEX('Employee Data'!$D$4:$D$553,MATCH(Databackup!A90,Employee_Name,0))))","v":""},{"$f":"IF(ISERROR(INDEX('Employee Data'!$F$4:$F$553,MATCH(Databackup!A90,Employee_Name,0),0)),\"\",(INDEX('Employee Data'!$F$4:$F$553,MATCH(Databackup!A90,Employee_Name,0))))","v":""},{"$f":"IF(ISERROR(INDEX('Employee Data'!$G$4:$G$553,MATCH(Databackup!A90,Employee_Name,0),0)),\"\",(INDEX('Employee Data'!$G$4:$G$553,MATCH(Databackup!A90,Employee_Name,0))))","v":""},{"$f":"IF(ISERROR(INDEX('Employee Data'!$H$4:$H$553,MATCH(Databackup!A90,Employee_Name,0),0)),\"\",(INDEX('Employee Data'!$H$4:$H$553,MATCH(Databackup!A90,Employee_Name,0))))","v":""},{"$f":"IF(ISERROR(INDEX('Employee Data'!$I$4:$I$553,MATCH(Databackup!A90,Employee_Name,0),0)),\"\",(INDEX('Employee Data'!$I$4:$I$553,MATCH(Databackup!A90,Employee_Name,0))))","v":""},{"$f":"IF(ISERROR(INDEX('Employee Data'!$J$4:$J$553,MATCH(Databackup!A90,Employee_Name,0),0)),\"\",(INDEX('Employee Data'!J$4:$J$553,MATCH(Databackup!A90,Employee_Name,0))))","v":""},{"$f":"IF(ISERROR(INDEX('Employee Data'!$K$4:$K$553,MATCH(Databackup!A90,Employee_Name,0),0)),\"\",(INDEX('Employee Data'!$K$4:$K$553,MATCH(Databackup!A90,Employee_Name,0))))","v":""},{"$f":"IF(ISERROR(INDEX('Employee Data'!$L$4:$L$553,MATCH(Databackup!A90,Employee_Name,0),0)),\"\",(INDEX('Employee Data'!$L$4:$L$553,MATCH(Databackup!A90,Employee_Name,0))))","v":""},{"$f":"IF(ISERROR(INDEX('Employee Data'!$M$4:$M$553,MATCH(Databackup!A90,Employee_Name,0),0)),\"\",(INDEX('Employee Data'!$M$4:$M$553,MATCH(Databackup!A90,Employee_Name,0))))","v":""},{"$f":"IF(ISERROR(INDEX('Employee Data'!$N$4:$N$553,MATCH(Databackup!A90,Employee_Name,0),0)),\"\",(INDEX('Employee Data'!$N$4:$N$553,MATCH(Databackup!A90,Employee_Name,0))))","v":""},{"$f":"IF(ISERROR(INDEX('Employee Data'!$O$4:$O$553,MATCH(Databackup!A90,Employee_Name,0),0)),\"\",(INDEX('Employee Data'!$O$4:$O$553,MATCH(Databackup!A90,Employee_Name,0))))","v":""}]
[{"$f":"INDEX(Employee_Name,MATCH(SMALL(IF($A$1='Employee Data'!$I$4:$I$553,'Employee Data'!$B$4:$B$553,\"\"),ROW('Employee Data'!A89)),IF($A$1='Employee Data'!$I$4:$I$553,'Employee Data'!$B$4:$B$553,\"\"),0))","v":{"$error":"#NUM!"}},{"$f":"IF(ISERROR(INDEX('Employee Data'!$B$4:$B$553,MATCH(Databackup!A91,Employee_Name,0),0)),\"\",(INDEX('Employee Data'!$B$4:$B$553,MATCH(Databackup!A91,Employee_Name,0))))","v":""},{"$f":"IF(ISERROR(INDEX('Employee Data'!$C$4:$C$553,MATCH(Databackup!A91,Employee_Name,0),0)),\"\",(INDEX('Employee Data'!$C$4:$C$553,MATCH(Databackup!A91,Employee_Name,0))))","v":""},{"$f":"IF(ISERROR(INDEX('Employee Data'!$D$4:$D$553,MATCH(Databackup!A91,Employee_Name,0),0)),\"\",(INDEX('Employee Data'!$D$4:$D$553,MATCH(Databackup!A91,Employee_Name,0))))","v":""},{"$f":"IF(ISERROR(INDEX('Employee Data'!$F$4:$F$553,MATCH(Databackup!A91,Employee_Name,0),0)),\"\",(INDEX('Employee Data'!$F$4:$F$553,MATCH(Databackup!A91,Employee_Name,0))))","v":""},{"$f":"IF(ISERROR(INDEX('Employee Data'!$G$4:$G$553,MATCH(Databackup!A91,Employee_Name,0),0)),\"\",(INDEX('Employee Data'!$G$4:$G$553,MATCH(Databackup!A91,Employee_Name,0))))","v":""},{"$f":"IF(ISERROR(INDEX('Employee Data'!$H$4:$H$553,MATCH(Databackup!A91,Employee_Name,0),0)),\"\",(INDEX('Employee Data'!$H$4:$H$553,MATCH(Databackup!A91,Employee_Name,0))))","v":""},{"$f":"IF(ISERROR(INDEX('Employee Data'!$I$4:$I$553,MATCH(Databackup!A91,Employee_Name,0),0)),\"\",(INDEX('Employee Data'!$I$4:$I$553,MATCH(Databackup!A91,Employee_Name,0))))","v":""},{"$f":"IF(ISERROR(INDEX('Employee Data'!$J$4:$J$553,MATCH(Databackup!A91,Employee_Name,0),0)),\"\",(INDEX('Employee Data'!J$4:$J$553,MATCH(Databackup!A91,Employee_Name,0))))","v":""},{"$f":"IF(ISERROR(INDEX('Employee Data'!$K$4:$K$553,MATCH(Databackup!A91,Employee_Name,0),0)),\"\",(INDEX('Employee Data'!$K$4:$K$553,MATCH(Databackup!A91,Employee_Name,0))))","v":""},{"$f":"IF(ISERROR(INDEX('Employee Data'!$L$4:$L$553,MATCH(Databackup!A91,Employee_Name,0),0)),\"\",(INDEX('Employee Data'!$L$4:$L$553,MATCH(Databackup!A91,Employee_Name,0))))","v":""},{"$f":"IF(ISERROR(INDEX('Employee Data'!$M$4:$M$553,MATCH(Databackup!A91,Employee_Name,0),0)),\"\",(INDEX('Employee Data'!$M$4:$M$553,MATCH(Databackup!A91,Employee_Name,0))))","v":""},{"$f":"IF(ISERROR(INDEX('Employee Data'!$N$4:$N$553,MATCH(Databackup!A91,Employee_Name,0),0)),\"\",(INDEX('Employee Data'!$N$4:$N$553,MATCH(Databackup!A91,Employee_Name,0))))","v":""},{"$f":"IF(ISERROR(INDEX('Employee Data'!$O$4:$O$553,MATCH(Databackup!A91,Employee_Name,0),0)),\"\",(INDEX('Employee Data'!$O$4:$O$553,MATCH(Databackup!A91,Employee_Name,0))))","v":""}]
[{"$f":"INDEX(Employee_Name,MATCH(SMALL(IF($A$1='Employee Data'!$I$4:$I$553,'Employee Data'!$B$4:$B$553,\"\"),ROW('Employee Data'!A90)),IF($A$1='Employee Data'!$I$4:$I$553,'Employee Data'!$B$4:$B$553,\"\"),0))","v":{"$error":"#NUM!"}},{"$f":"IF(ISERROR(INDEX('Employee Data'!$B$4:$B$553,MATCH(Databackup!A92,Employee_Name,0),0)),\"\",(INDEX('Employee Data'!$B$4:$B$553,MATCH(Databackup!A92,Employee_Name,0))))","v":""},{"$f":"IF(ISERROR(INDEX('Employee Data'!$C$4:$C$553,MATCH(Databackup!A92,Employee_Name,0),0)),\"\",(INDEX('Employee Data'!$C$4:$C$553,MATCH(Databackup!A92,Employee_Name,0))))","v":""},{"$f":"IF(ISERROR(INDEX('Employee Data'!$D$4:$D$553,MATCH(Databackup!A92,Employee_Name,0),0)),\"\",(INDEX('Employee Data'!$D$4:$D$553,MATCH(Databackup!A92,Employee_Name,0))))","v":""},{"$f":"IF(ISERROR(INDEX('Employee Data'!$F$4:$F$553,MATCH(Databackup!A92,Employee_Name,0),0)),\"\",(INDEX('Employee Data'!$F$4:$F$553,MATCH(Databackup!A92,Employee_Name,0))))","v":""},{"$f":"IF(ISERROR(INDEX('Employee Data'!$G$4:$G$553,MATCH(Databackup!A92,Employee_Name,0),0)),\"\",(INDEX('Employee Data'!$G$4:$G$553,MATCH(Databackup!A92,Employee_Name,0))))","v":""},{"$f":"IF(ISERROR(INDEX('Employee Data'!$H$4:$H$553,MATCH(Databackup!A92,Employee_Name,0),0)),\"\",(INDEX('Employee Data'!$H$4:$H$553,MATCH(Databackup!A92,Employee_Name,0))))","v":""},{"$f":"IF(ISERROR(INDEX('Employee Data'!$I$4:$I$553,MATCH(Databackup!A92,Employee_Name,0),0)),\"\",(INDEX('Employee Data'!$I$4:$I$553,MATCH(Databackup!A92,Employee_Name,0))))","v":""},{"$f":"IF(ISERROR(INDEX('Employee Data'!$J$4:$J$553,MATCH(Databackup!A92,Employee_Name,0),0)),\"\",(INDEX('Employee Data'!J$4:$J$553,MATCH(Databackup!A92,Employee_Name,0))))","v":""},{"$f":"IF(ISERROR(INDEX('Employee Data'!$K$4:$K$553,MATCH(Databackup!A92,Employee_Name,0),0)),\"\",(INDEX('Employee Data'!$K$4:$K$553,MATCH(Databackup!A92,Employee_Name,0))))","v":""},{"$f":"IF(ISERROR(INDEX('Employee Data'!$L$4:$L$553,MATCH(Databackup!A92,Employee_Name,0),0)),\"\",(INDEX('Employee Data'!$L$4:$L$553,MATCH(Databackup!A92,Employee_Name,0))))","v":""},{"$f":"IF(ISERROR(INDEX('Employee Data'!$M$4:$M$553,MATCH(Databackup!A92,Employee_Name,0),0)),\"\",(INDEX('Employee Data'!$M$4:$M$553,MATCH(Databackup!A92,Employee_Name,0))))","v":""},{"$f":"IF(ISERROR(INDEX('Employee Data'!$N$4:$N$553,MATCH(Databackup!A92,Employee_Name,0),0)),\"\",(INDEX('Employee Data'!$N$4:$N$553,MATCH(Databackup!A92,Employee_Name,0))))","v":""},{"$f":"IF(ISERROR(INDEX('Employee Data'!$O$4:$O$553,MATCH(Databackup!A92,Employee_Name,0),0)),\"\",(INDEX('Employee Data'!$O$4:$O$553,MATCH(Databackup!A92,Employee_Name,0))))","v":""}]
[{"$f":"INDEX(Employee_Name,MATCH(SMALL(IF($A$1='Employee Data'!$I$4:$I$553,'Employee Data'!$B$4:$B$553,\"\"),ROW('Employee Data'!A91)),IF($A$1='Employee Data'!$I$4:$I$553,'Employee Data'!$B$4:$B$553,\"\"),0))","v":{"$error":"#NUM!"}},{"$f":"IF(ISERROR(INDEX('Employee Data'!$B$4:$B$553,MATCH(Databackup!A93,Employee_Name,0),0)),\"\",(INDEX('Employee Data'!$B$4:$B$553,MATCH(Databackup!A93,Employee_Name,0))))","v":""},{"$f":"IF(ISERROR(INDEX('Employee Data'!$C$4:$C$553,MATCH(Databackup!A93,Employee_Name,0),0)),\"\",(INDEX('Employee Data'!$C$4:$C$553,MATCH(Databackup!A93,Employee_Name,0))))","v":""},{"$f":"IF(ISERROR(INDEX('Employee Data'!$D$4:$D$553,MATCH(Databackup!A93,Employee_Name,0),0)),\"\",(INDEX('Employee Data'!$D$4:$D$553,MATCH(Databackup!A93,Employee_Name,0))))","v":""},{"$f":"IF(ISERROR(INDEX('Employee Data'!$F$4:$F$553,MATCH(Databackup!A93,Employee_Name,0),0)),\"\",(INDEX('Employee Data'!$F$4:$F$553,MATCH(Databackup!A93,Employee_Name,0))))","v":""},{"$f":"IF(ISERROR(INDEX('Employee Data'!$G$4:$G$553,MATCH(Databackup!A93,Employee_Name,0),0)),\"\",(INDEX('Employee Data'!$G$4:$G$553,MATCH(Databackup!A93,Employee_Name,0))))","v":""},{"$f":"IF(ISERROR(INDEX('Employee Data'!$H$4:$H$553,MATCH(Databackup!A93,Employee_Name,0),0)),\"\",(INDEX('Employee Data'!$H$4:$H$553,MATCH(Databackup!A93,Employee_Name,0))))","v":""},{"$f":"IF(ISERROR(INDEX('Employee Data'!$I$4:$I$553,MATCH(Databackup!A93,Employee_Name,0),0)),\"\",(INDEX('Employee Data'!$I$4:$I$553,MATCH(Databackup!A93,Employee_Name,0))))","v":""},{"$f":"IF(ISERROR(INDEX('Employee Data'!$J$4:$J$553,MATCH(Databackup!A93,Employee_Name,0),0)),\"\",(INDEX('Employee Data'!J$4:$J$553,MATCH(Databackup!A93,Employee_Name,0))))","v":""},{"$f":"IF(ISERROR(INDEX('Employee Data'!$K$4:$K$553,MATCH(Databackup!A93,Employee_Name,0),0)),\"\",(INDEX('Employee Data'!$K$4:$K$553,MATCH(Databackup!A93,Employee_Name,0))))","v":""},{"$f":"IF(ISERROR(INDEX('Employee Data'!$L$4:$L$553,MATCH(Databackup!A93,Employee_Name,0),0)),\"\",(INDEX('Employee Data'!$L$4:$L$553,MATCH(Databackup!A93,Employee_Name,0))))","v":""},{"$f":"IF(ISERROR(INDEX('Employee Data'!$M$4:$M$553,MATCH(Databackup!A93,Employee_Name,0),0)),\"\",(INDEX('Employee Data'!$M$4:$M$553,MATCH(Databackup!A93,Employee_Name,0))))","v":""},{"$f":"IF(ISERROR(INDEX('Employee Data'!$N$4:$N$553,MATCH(Databackup!A93,Employee_Name,0),0)),\"\",(INDEX('Employee Data'!$N$4:$N$553,MATCH(Databackup!A93,Employee_Name,0))))","v":""},{"$f":"IF(ISERROR(INDEX('Employee Data'!$O$4:$O$553,MATCH(Databackup!A93,Employee_Name,0),0)),\"\",(INDEX('Employee Data'!$O$4:$O$553,MATCH(Databackup!A93,Employee_Name,0))))","v":""}]
[{"$f":"INDEX(Employee_Name,MATCH(SMALL(IF($A$1='Employee Data'!$I$4:$I$553,'Employee Data'!$B$4:$B$553,\"\"),ROW('Employee Data'!A92)),IF($A$1='Employee Data'!$I$4:$I$553,'Employee Data'!$B$4:$B$553,\"\"),0))","v":{"$error":"#NUM!"}},{"$f":"IF(ISERROR(INDEX('Employee Data'!$B$4:$B$553,MATCH(Databackup!A94,Employee_Name,0),0)),\"\",(INDEX('Employee Data'!$B$4:$B$553,MATCH(Databackup!A94,Employee_Name,0))))","v":""},{"$f":"IF(ISERROR(INDEX('Employee Data'!$C$4:$C$553,MATCH(Databackup!A94,Employee_Name,0),0)),\"\",(INDEX('Employee Data'!$C$4:$C$553,MATCH(Databackup!A94,Employee_Name,0))))","v":""},{"$f":"IF(ISERROR(INDEX('Employee Data'!$D$4:$D$553,MATCH(Databackup!A94,Employee_Name,0),0)),\"\",(INDEX('Employee Data'!$D$4:$D$553,MATCH(Databackup!A94,Employee_Name,0))))","v":""},{"$f":"IF(ISERROR(INDEX('Employee Data'!$F$4:$F$553,MATCH(Databackup!A94,Employee_Name,0),0)),\"\",(INDEX('Employee Data'!$F$4:$F$553,MATCH(Databackup!A94,Employee_Name,0))))","v":""},{"$f":"IF(ISERROR(INDEX('Employee Data'!$G$4:$G$553,MATCH(Databackup!A94,Employee_Name,0),0)),\"\",(INDEX('Employee Data'!$G$4:$G$553,MATCH(Databackup!A94,Employee_Name,0))))","v":""},{"$f":"IF(ISERROR(INDEX('Employee Data'!$H$4:$H$553,MATCH(Databackup!A94,Employee_Name,0),0)),\"\",(INDEX('Employee Data'!$H$4:$H$553,MATCH(Databackup!A94,Employee_Name,0))))","v":""},{"$f":"IF(ISERROR(INDEX('Employee Data'!$I$4:$I$553,MATCH(Databackup!A94,Employee_Name,0),0)),\"\",(INDEX('Employee Data'!$I$4:$I$553,MATCH(Databackup!A94,Employee_Name,0))))","v":""},{"$f":"IF(ISERROR(INDEX('Employee Data'!$J$4:$J$553,MATCH(Databackup!A94,Employee_Name,0),0)),\"\",(INDEX('Employee Data'!J$4:$J$553,MATCH(Databackup!A94,Employee_Name,0))))","v":""},{"$f":"IF(ISERROR(INDEX('Employee Data'!$K$4:$K$553,MATCH(Databackup!A94,Employee_Name,0),0)),\"\",(INDEX('Employee Data'!$K$4:$K$553,MATCH(Databackup!A94,Employee_Name,0))))","v":""},{"$f":"IF(ISERROR(INDEX('Employee Data'!$L$4:$L$553,MATCH(Databackup!A94,Employee_Name,0),0)),\"\",(INDEX('Employee Data'!$L$4:$L$553,MATCH(Databackup!A94,Employee_Name,0))))","v":""},{"$f":"IF(ISERROR(INDEX('Employee Data'!$M$4:$M$553,MATCH(Databackup!A94,Employee_Name,0),0)),\"\",(INDEX('Employee Data'!$M$4:$M$553,MATCH(Databackup!A94,Employee_Name,0))))","v":""},{"$f":"IF(ISERROR(INDEX('Employee Data'!$N$4:$N$553,MATCH(Databackup!A94,Employee_Name,0),0)),\"\",(INDEX('Employee Data'!$N$4:$N$553,MATCH(Databackup!A94,Employee_Name,0))))","v":""},{"$f":"IF(ISERROR(INDEX('Employee Data'!$O$4:$O$553,MATCH(Databackup!A94,Employee_Name,0),0)),\"\",(INDEX('Employee Data'!$O$4:$O$553,MATCH(Databackup!A94,Employee_Name,0))))","v":""}]
[{"$f":"INDEX(Employee_Name,MATCH(SMALL(IF($A$1='Employee Data'!$I$4:$I$553,'Employee Data'!$B$4:$B$553,\"\"),ROW('Employee Data'!A93)),IF($A$1='Employee Data'!$I$4:$I$553,'Employee Data'!$B$4:$B$553,\"\"),0))","v":{"$error":"#NUM!"}},{"$f":"IF(ISERROR(INDEX('Employee Data'!$B$4:$B$553,MATCH(Databackup!A95,Employee_Name,0),0)),\"\",(INDEX('Employee Data'!$B$4:$B$553,MATCH(Databackup!A95,Employee_Name,0))))","v":""},{"$f":"IF(ISERROR(INDEX('Employee Data'!$C$4:$C$553,MATCH(Databackup!A95,Employee_Name,0),0)),\"\",(INDEX('Employee Data'!$C$4:$C$553,MATCH(Databackup!A95,Employee_Name,0))))","v":""},{"$f":"IF(ISERROR(INDEX('Employee Data'!$D$4:$D$553,MATCH(Databackup!A95,Employee_Name,0),0)),\"\",(INDEX('Employee Data'!$D$4:$D$553,MATCH(Databackup!A95,Employee_Name,0))))","v":""},{"$f":"IF(ISERROR(INDEX('Employee Data'!$F$4:$F$553,MATCH(Databackup!A95,Employee_Name,0),0)),\"\",(INDEX('Employee Data'!$F$4:$F$553,MATCH(Databackup!A95,Employee_Name,0))))","v":""},{"$f":"IF(ISERROR(INDEX('Employee Data'!$G$4:$G$553,MATCH(Databackup!A95,Employee_Name,0),0)),\"\",(INDEX('Employee Data'!$G$4:$G$553,MATCH(Databackup!A95,Employee_Name,0))))","v":""},{"$f":"IF(ISERROR(INDEX('Employee Data'!$H$4:$H$553,MATCH(Databackup!A95,Employee_Name,0),0)),\"\",(INDEX('Employee Data'!$H$4:$H$553,MATCH(Databackup!A95,Employee_Name,0))))","v":""},{"$f":"IF(ISERROR(INDEX('Employee Data'!$I$4:$I$553,MATCH(Databackup!A95,Employee_Name,0),0)),\"\",(INDEX('Employee Data'!$I$4:$I$553,MATCH(Databackup!A95,Employee_Name,0))))","v":""},{"$f":"IF(ISERROR(INDEX('Employee Data'!$J$4:$J$553,MATCH(Databackup!A95,Employee_Name,0),0)),\"\",(INDEX('Employee Data'!J$4:$J$553,MATCH(Databackup!A95,Employee_Name,0))))","v":""},{"$f":"IF(ISERROR(INDEX('Employee Data'!$K$4:$K$553,MATCH(Databackup!A95,Employee_Name,0),0)),\"\",(INDEX('Employee Data'!$K$4:$K$553,MATCH(Databackup!A95,Employee_Name,0))))","v":""},{"$f":"IF(ISERROR(INDEX('Employee Data'!$L$4:$L$553,MATCH(Databackup!A95,Employee_Name,0),0)),\"\",(INDEX('Employee Data'!$L$4:$L$553,MATCH(Databackup!A95,Employee_Name,0))))","v":""},{"$f":"IF(ISERROR(INDEX('Employee Data'!$M$4:$M$553,MATCH(Databackup!A95,Employee_Name,0),0)),\"\",(INDEX('Employee Data'!$M$4:$M$553,MATCH(Databackup!A95,Employee_Name,0))))","v":""},{"$f":"IF(ISERROR(INDEX('Employee Data'!$N$4:$N$553,MATCH(Databackup!A95,Employee_Name,0),0)),\"\",(INDEX('Employee Data'!$N$4:$N$553,MATCH(Databackup!A95,Employee_Name,0))))","v":""},{"$f":"IF(ISERROR(INDEX('Employee Data'!$O$4:$O$553,MATCH(Databackup!A95,Employee_Name,0),0)),\"\",(INDEX('Employee Data'!$O$4:$O$553,MATCH(Databackup!A95,Employee_Name,0))))","v":""}]
[{"$f":"INDEX(Employee_Name,MATCH(SMALL(IF($A$1='Employee Data'!$I$4:$I$553,'Employee Data'!$B$4:$B$553,\"\"),ROW('Employee Data'!A94)),IF($A$1='Employee Data'!$I$4:$I$553,'Employee Data'!$B$4:$B$553,\"\"),0))","v":{"$error":"#NUM!"}},{"$f":"IF(ISERROR(INDEX('Employee Data'!$B$4:$B$553,MATCH(Databackup!A96,Employee_Name,0),0)),\"\",(INDEX('Employee Data'!$B$4:$B$553,MATCH(Databackup!A96,Employee_Name,0))))","v":""},{"$f":"IF(ISERROR(INDEX('Employee Data'!$C$4:$C$553,MATCH(Databackup!A96,Employee_Name,0),0)),\"\",(INDEX('Employee Data'!$C$4:$C$553,MATCH(Databackup!A96,Employee_Name,0))))","v":""},{"$f":"IF(ISERROR(INDEX('Employee Data'!$D$4:$D$553,MATCH(Databackup!A96,Employee_Name,0),0)),\"\",(INDEX('Employee Data'!$D$4:$D$553,MATCH(Databackup!A96,Employee_Name,0))))","v":""},{"$f":"IF(ISERROR(INDEX('Employee Data'!$F$4:$F$553,MATCH(Databackup!A96,Employee_Name,0),0)),\"\",(INDEX('Employee Data'!$F$4:$F$553,MATCH(Databackup!A96,Employee_Name,0))))","v":""},{"$f":"IF(ISERROR(INDEX('Employee Data'!$G$4:$G$553,MATCH(Databackup!A96,Employee_Name,0),0)),\"\",(INDEX('Employee Data'!$G$4:$G$553,MATCH(Databackup!A96,Employee_Name,0))))","v":""},{"$f":"IF(ISERROR(INDEX('Employee Data'!$H$4:$H$553,MATCH(Databackup!A96,Employee_Name,0),0)),\"\",(INDEX('Employee Data'!$H$4:$H$553,MATCH(Databackup!A96,Employee_Name,0))))","v":""},{"$f":"IF(ISERROR(INDEX('Employee Data'!$I$4:$I$553,MATCH(Databackup!A96,Employee_Name,0),0)),\"\",(INDEX('Employee Data'!$I$4:$I$553,MATCH(Databackup!A96,Employee_Name,0))))","v":""},{"$f":"IF(ISERROR(INDEX('Employee Data'!$J$4:$J$553,MATCH(Databackup!A96,Employee_Name,0),0)),\"\",(INDEX('Employee Data'!J$4:$J$553,MATCH(Databackup!A96,Employee_Name,0))))","v":""},{"$f":"IF(ISERROR(INDEX('Employee Data'!$K$4:$K$553,MATCH(Databackup!A96,Employee_Name,0),0)),\"\",(INDEX('Employee Data'!$K$4:$K$553,MATCH(Databackup!A96,Employee_Name,0))))","v":""},{"$f":"IF(ISERROR(INDEX('Employee Data'!$L$4:$L$553,MATCH(Databackup!A96,Employee_Name,0),0)),\"\",(INDEX('Employee Data'!$L$4:$L$553,MATCH(Databackup!A96,Employee_Name,0))))","v":""},{"$f":"IF(ISERROR(INDEX('Employee Data'!$M$4:$M$553,MATCH(Databackup!A96,Employee_Name,0),0)),\"\",(INDEX('Employee Data'!$M$4:$M$553,MATCH(Databackup!A96,Employee_Name,0))))","v":""},{"$f":"IF(ISERROR(INDEX('Employee Data'!$N$4:$N$553,MATCH(Databackup!A96,Employee_Name,0),0)),\"\",(INDEX('Employee Data'!$N$4:$N$553,MATCH(Databackup!A96,Employee_Name,0))))","v":""},{"$f":"IF(ISERROR(INDEX('Employee Data'!$O$4:$O$553,MATCH(Databackup!A96,Employee_Name,0),0)),\"\",(INDEX('Employee Data'!$O$4:$O$553,MATCH(Databackup!A96,Employee_Name,0))))","v":""}]
[{"$f":"INDEX(Employee_Name,MATCH(SMALL(IF($A$1='Employee Data'!$I$4:$I$553,'Employee Data'!$B$4:$B$553,\"\"),ROW('Employee Data'!A95)),IF($A$1='Employee Data'!$I$4:$I$553,'Employee Data'!$B$4:$B$553,\"\"),0))","v":{"$error":"#NUM!"}},{"$f":"IF(ISERROR(INDEX('Employee Data'!$B$4:$B$553,MATCH(Databackup!A97,Employee_Name,0),0)),\"\",(INDEX('Employee Data'!$B$4:$B$553,MATCH(Databackup!A97,Employee_Name,0))))","v":""},{"$f":"IF(ISERROR(INDEX('Employee Data'!$C$4:$C$553,MATCH(Databackup!A97,Employee_Name,0),0)),\"\",(INDEX('Employee Data'!$C$4:$C$553,MATCH(Databackup!A97,Employee_Name,0))))","v":""},{"$f":"IF(ISERROR(INDEX('Employee Data'!$D$4:$D$553,MATCH(Databackup!A97,Employee_Name,0),0)),\"\",(INDEX('Employee Data'!$D$4:$D$553,MATCH(Databackup!A97,Employee_Name,0))))","v":""},{"$f":"IF(ISERROR(INDEX('Employee Data'!$F$4:$F$553,MATCH(Databackup!A97,Employee_Name,0),0)),\"\",(INDEX('Employee Data'!$F$4:$F$553,MATCH(Databackup!A97,Employee_Name,0))))","v":""},{"$f":"IF(ISERROR(INDEX('Employee Data'!$G$4:$G$553,MATCH(Databackup!A97,Employee_Name,0),0)),\"\",(INDEX('Employee Data'!$G$4:$G$553,MATCH(Databackup!A97,Employee_Name,0))))","v":""},{"$f":"IF(ISERROR(INDEX('Employee Data'!$H$4:$H$553,MATCH(Databackup!A97,Employee_Name,0),0)),\"\",(INDEX('Employee Data'!$H$4:$H$553,MATCH(Databackup!A97,Employee_Name,0))))","v":""},{"$f":"IF(ISERROR(INDEX('Employee Data'!$I$4:$I$553,MATCH(Databackup!A97,Employee_Name,0),0)),\"\",(INDEX('Employee Data'!$I$4:$I$553,MATCH(Databackup!A97,Employee_Name,0))))","v":""},{"$f":"IF(ISERROR(INDEX('Employee Data'!$J$4:$J$553,MATCH(Databackup!A97,Employee_Name,0),0)),\"\",(INDEX('Employee Data'!J$4:$J$553,MATCH(Databackup!A97,Employee_Name,0))))","v":""},{"$f":"IF(ISERROR(INDEX('Employee Data'!$K$4:$K$553,MATCH(Databackup!A97,Employee_Name,0),0)),\"\",(INDEX('Employee Data'!$K$4:$K$553,MATCH(Databackup!A97,Employee_Name,0))))","v":""},{"$f":"IF(ISERROR(INDEX('Employee Data'!$L$4:$L$553,MATCH(Databackup!A97,Employee_Name,0),0)),\"\",(INDEX('Employee Data'!$L$4:$L$553,MATCH(Databackup!A97,Employee_Name,0))))","v":""},{"$f":"IF(ISERROR(INDEX('Employee Data'!$M$4:$M$553,MATCH(Databackup!A97,Employee_Name,0),0)),\"\",(INDEX('Employee Data'!$M$4:$M$553,MATCH(Databackup!A97,Employee_Name,0))))","v":""},{"$f":"IF(ISERROR(INDEX('Employee Data'!$N$4:$N$553,MATCH(Databackup!A97,Employee_Name,0),0)),\"\",(INDEX('Employee Data'!$N$4:$N$553,MATCH(Databackup!A97,Employee_Name,0))))","v":""},{"$f":"IF(ISERROR(INDEX('Employee Data'!$O$4:$O$553,MATCH(Databackup!A97,Employee_Name,0),0)),\"\",(INDEX('Employee Data'!$O$4:$O$553,MATCH(Databackup!A97,Employee_Name,0))))","v":""}]
[{"$f":"INDEX(Employee_Name,MATCH(SMALL(IF($A$1='Employee Data'!$I$4:$I$553,'Employee Data'!$B$4:$B$553,\"\"),ROW('Employee Data'!A96)),IF($A$1='Employee Data'!$I$4:$I$553,'Employee Data'!$B$4:$B$553,\"\"),0))","v":{"$error":"#NUM!"}},{"$f":"IF(ISERROR(INDEX('Employee Data'!$B$4:$B$553,MATCH(Databackup!A98,Employee_Name,0),0)),\"\",(INDEX('Employee Data'!$B$4:$B$553,MATCH(Databackup!A98,Employee_Name,0))))","v":""},{"$f":"IF(ISERROR(INDEX('Employee Data'!$C$4:$C$553,MATCH(Databackup!A98,Employee_Name,0),0)),\"\",(INDEX('Employee Data'!$C$4:$C$553,MATCH(Databackup!A98,Employee_Name,0))))","v":""},{"$f":"IF(ISERROR(INDEX('Employee Data'!$D$4:$D$553,MATCH(Databackup!A98,Employee_Name,0),0)),\"\",(INDEX('Employee Data'!$D$4:$D$553,MATCH(Databackup!A98,Employee_Name,0))))","v":""},{"$f":"IF(ISERROR(INDEX('Employee Data'!$F$4:$F$553,MATCH(Databackup!A98,Employee_Name,0),0)),\"\",(INDEX('Employee Data'!$F$4:$F$553,MATCH(Databackup!A98,Employee_Name,0))))","v":""},{"$f":"IF(ISERROR(INDEX('Employee Data'!$G$4:$G$553,MATCH(Databackup!A98,Employee_Name,0),0)),\"\",(INDEX('Employee Data'!$G$4:$G$553,MATCH(Databackup!A98,Employee_Name,0))))","v":""},{"$f":"IF(ISERROR(INDEX('Employee Data'!$H$4:$H$553,MATCH(Databackup!A98,Employee_Name,0),0)),\"\",(INDEX('Employee Data'!$H$4:$H$553,MATCH(Databackup!A98,Employee_Name,0))))","v":""},{"$f":"IF(ISERROR(INDEX('Employee Data'!$I$4:$I$553,MATCH(Databackup!A98,Employee_Name,0),0)),\"\",(INDEX('Employee Data'!$I$4:$I$553,MATCH(Databackup!A98,Employee_Name,0))))","v":""},{"$f":"IF(ISERROR(INDEX('Employee Data'!$J$4:$J$553,MATCH(Databackup!A98,Employee_Name,0),0)),\"\",(INDEX('Employee Data'!J$4:$J$553,MATCH(Databackup!A98,Employee_Name,0))))","v":""},{"$f":"IF(ISERROR(INDEX('Employee Data'!$K$4:$K$553,MATCH(Databackup!A98,Employee_Name,0),0)),\"\",(INDEX('Employee Data'!$K$4:$K$553,MATCH(Databackup!A98,Employee_Name,0))))","v":""},{"$f":"IF(ISERROR(INDEX('Employee Data'!$L$4:$L$553,MATCH(Databackup!A98,Employee_Name,0),0)),\"\",(INDEX('Employee Data'!$L$4:$L$553,MATCH(Databackup!A98,Employee_Name,0))))","v":""},{"$f":"IF(ISERROR(INDEX('Employee Data'!$M$4:$M$553,MATCH(Databackup!A98,Employee_Name,0),0)),\"\",(INDEX('Employee Data'!$M$4:$M$553,MATCH(Databackup!A98,Employee_Name,0))))","v":""},{"$f":"IF(ISERROR(INDEX('Employee Data'!$N$4:$N$553,MATCH(Databackup!A98,Employee_Name,0),0)),\"\",(INDEX('Employee Data'!$N$4:$N$553,MATCH(Databackup!A98,Employee_Name,0))))","v":""},{"$f":"IF(ISERROR(INDEX('Employee Data'!$O$4:$O$553,MATCH(Databackup!A98,Employee_Name,0),0)),\"\",(INDEX('Employee Data'!$O$4:$O$553,MATCH(Databackup!A98,Employee_Name,0))))","v":""}]
[{"$f":"INDEX(Employee_Name,MATCH(SMALL(IF($A$1='Employee Data'!$I$4:$I$553,'Employee Data'!$B$4:$B$553,\"\"),ROW('Employee Data'!A97)),IF($A$1='Employee Data'!$I$4:$I$553,'Employee Data'!$B$4:$B$553,\"\"),0))","v":{"$error":"#NUM!"}},{"$f":"IF(ISERROR(INDEX('Employee Data'!$B$4:$B$553,MATCH(Databackup!A99,Employee_Name,0),0)),\"\",(INDEX('Employee Data'!$B$4:$B$553,MATCH(Databackup!A99,Employee_Name,0))))","v":""},{"$f":"IF(ISERROR(INDEX('Employee Data'!$C$4:$C$553,MATCH(Databackup!A99,Employee_Name,0),0)),\"\",(INDEX('Employee Data'!$C$4:$C$553,MATCH(Databackup!A99,Employee_Name,0))))","v":""},{"$f":"IF(ISERROR(INDEX('Employee Data'!$D$4:$D$553,MATCH(Databackup!A99,Employee_Name,0),0)),\"\",(INDEX('Employee Data'!$D$4:$D$553,MATCH(Databackup!A99,Employee_Name,0))))","v":""},{"$f":"IF(ISERROR(INDEX('Employee Data'!$F$4:$F$553,MATCH(Databackup!A99,Employee_Name,0),0)),\"\",(INDEX('Employee Data'!$F$4:$F$553,MATCH(Databackup!A99,Employee_Name,0))))","v":""},{"$f":"IF(ISERROR(INDEX('Employee Data'!$G$4:$G$553,MATCH(Databackup!A99,Employee_Name,0),0)),\"\",(INDEX('Employee Data'!$G$4:$G$553,MATCH(Databackup!A99,Employee_Name,0))))","v":""},{"$f":"IF(ISERROR(INDEX('Employee Data'!$H$4:$H$553,MATCH(Databackup!A99,Employee_Name,0),0)),\"\",(INDEX('Employee Data'!$H$4:$H$553,MATCH(Databackup!A99,Employee_Name,0))))","v":""},{"$f":"IF(ISERROR(INDEX('Employee Data'!$I$4:$I$553,MATCH(Databackup!A99,Employee_Name,0),0)),\"\",(INDEX('Employee Data'!$I$4:$I$553,MATCH(Databackup!A99,Employee_Name,0))))","v":""},{"$f":"IF(ISERROR(INDEX('Employee Data'!$J$4:$J$553,MATCH(Databackup!A99,Employee_Name,0),0)),\"\",(INDEX('Employee Data'!J$4:$J$553,MATCH(Databackup!A99,Employee_Name,0))))","v":""},{"$f":"IF(ISERROR(INDEX('Employee Data'!$K$4:$K$553,MATCH(Databackup!A99,Employee_Name,0),0)),\"\",(INDEX('Employee Data'!$K$4:$K$553,MATCH(Databackup!A99,Employee_Name,0))))","v":""},{"$f":"IF(ISERROR(INDEX('Employee Data'!$L$4:$L$553,MATCH(Databackup!A99,Employee_Name,0),0)),\"\",(INDEX('Employee Data'!$L$4:$L$553,MATCH(Databackup!A99,Employee_Name,0))))","v":""},{"$f":"IF(ISERROR(INDEX('Employee Data'!$M$4:$M$553,MATCH(Databackup!A99,Employee_Name,0),0)),\"\",(INDEX('Employee Data'!$M$4:$M$553,MATCH(Databackup!A99,Employee_Name,0))))","v":""},{"$f":"IF(ISERROR(INDEX('Employee Data'!$N$4:$N$553,MATCH(Databackup!A99,Employee_Name,0),0)),\"\",(INDEX('Employee Data'!$N$4:$N$553,MATCH(Databackup!A99,Employee_Name,0))))","v":""},{"$f":"IF(ISERROR(INDEX('Employee Data'!$O$4:$O$553,MATCH(Databackup!A99,Employee_Name,0),0)),\"\",(INDEX('Employee Data'!$O$4:$O$553,MATCH(Databackup!A99,Employee_Name,0))))","v":""}]
[{"$f":"INDEX(Employee_Name,MATCH(SMALL(IF($A$1='Employee Data'!$I$4:$I$553,'Employee Data'!$B$4:$B$553,\"\"),ROW('Employee Data'!A98)),IF($A$1='Employee Data'!$I$4:$I$553,'Employee Data'!$B$4:$B$553,\"\"),0))","v":{"$error":"#NUM!"}},{"$f":"IF(ISERROR(INDEX('Employee Data'!$B$4:$B$553,MATCH(Databackup!A100,Employee_Name,0),0)),\"\",(INDEX('Employee Data'!$B$4:$B$553,MATCH(Databackup!A100,Employee_Name,0))))","v":""},{"$f":"IF(ISERROR(INDEX('Employee Data'!$C$4:$C$553,MATCH(Databackup!A100,Employee_Name,0),0)),\"\",(INDEX('Employee Data'!$C$4:$C$553,MATCH(Databackup!A100,Employee_Name,0))))","v":""},{"$f":"IF(ISERROR(INDEX('Employee Data'!$D$4:$D$553,MATCH(Databackup!A100,Employee_Name,0),0)),\"\",(INDEX('Employee Data'!$D$4:$D$553,MATCH(Databackup!A100,Employee_Name,0))))","v":""},{"$f":"IF(ISERROR(INDEX('Employee Data'!$F$4:$F$553,MATCH(Databackup!A100,Employee_Name,0),0)),\"\",(INDEX('Employee Data'!$F$4:$F$553,MATCH(Databackup!A100,Employee_Name,0))))","v":""},{"$f":"IF(ISERROR(INDEX('Employee Data'!$G$4:$G$553,MATCH(Databackup!A100,Employee_Name,0),0)),\"\",(INDEX('Employee Data'!$G$4:$G$553,MATCH(Databackup!A100,Employee_Name,0))))","v":""},{"$f":"IF(ISERROR(INDEX('Employee Data'!$H$4:$H$553,MATCH(Databackup!A100,Employee_Name,0),0)),\"\",(INDEX('Employee Data'!$H$4:$H$553,MATCH(Databackup!A100,Employee_Name,0))))","v":""},{"$f":"IF(ISERROR(INDEX('Employee Data'!$I$4:$I$553,MATCH(Databackup!A100,Employee_Name,0),0)),\"\",(INDEX('Employee Data'!$I$4:$I$553,MATCH(Databackup!A100,Employee_Name,0))))","v":""},{"$f":"IF(ISERROR(INDEX('Employee Data'!$J$4:$J$553,MATCH(Databackup!A100,Employee_Name,0),0)),\"\",(INDEX('Employee Data'!J$4:$J$553,MATCH(Databackup!A100,Employee_Name,0))))","v":""},{"$f":"IF(ISERROR(INDEX('Employee Data'!$K$4:$K$553,MATCH(Databackup!A100,Employee_Name,0),0)),\"\",(INDEX('Employee Data'!$K$4:$K$553,MATCH(Databackup!A100,Employee_Name,0))))","v":""},{"$f":"IF(ISERROR(INDEX('Employee Data'!$L$4:$L$553,MATCH(Databackup!A100,Employee_Name,0),0)),\"\",(INDEX('Employee Data'!$L$4:$L$553,MATCH(Databackup!A100,Employee_Name,0))))","v":""},{"$f":"IF(ISERROR(INDEX('Employee Data'!$M$4:$M$553,MATCH(Databackup!A100,Employee_Name,0),0)),\"\",(INDEX('Employee Data'!$M$4:$M$553,MATCH(Databackup!A100,Employee_Name,0))))","v":""},{"$f":"IF(ISERROR(INDEX('Employee Data'!$N$4:$N$553,MATCH(Databackup!A100,Employee_Name,0),0)),\"\",(INDEX('Employee Data'!$N$4:$N$553,MATCH(Databackup!A100,Employee_Name,0))))","v":""},{"$f":"IF(ISERROR(INDEX('Employee Data'!$O$4:$O$553,MATCH(Databackup!A100,Employee_Name,0),0)),\"\",(INDEX('Employee Data'!$O$4:$O$553,MATCH(Databackup!A100,Employee_Name,0))))","v":""}]
[{"$f":"INDEX(Employee_Name,MATCH(SMALL(IF($A$1='Employee Data'!$I$4:$I$553,'Employee Data'!$B$4:$B$553,\"\"),ROW('Employee Data'!A99)),IF($A$1='Employee Data'!$I$4:$I$553,'Employee Data'!$B$4:$B$553,\"\"),0))","v":{"$error":"#NUM!"}},{"$f":"IF(ISERROR(INDEX('Employee Data'!$B$4:$B$553,MATCH(Databackup!A101,Employee_Name,0),0)),\"\",(INDEX('Employee Data'!$B$4:$B$553,MATCH(Databackup!A101,Employee_Name,0))))","v":""},{"$f":"IF(ISERROR(INDEX('Employee Data'!$C$4:$C$553,MATCH(Databackup!A101,Employee_Name,0),0)),\"\",(INDEX('Employee Data'!$C$4:$C$553,MATCH(Databackup!A101,Employee_Name,0))))","v":""},{"$f":"IF(ISERROR(INDEX('Employee Data'!$D$4:$D$553,MATCH(Databackup!A101,Employee_Name,0),0)),\"\",(INDEX('Employee Data'!$D$4:$D$553,MATCH(Databackup!A101,Employee_Name,0))))","v":""},{"$f":"IF(ISERROR(INDEX('Employee Data'!$F$4:$F$553,MATCH(Databackup!A101,Employee_Name,0),0)),\"\",(INDEX('Employee Data'!$F$4:$F$553,MATCH(Databackup!A101,Employee_Name,0))))","v":""},{"$f":"IF(ISERROR(INDEX('Employee Data'!$G$4:$G$553,MATCH(Databackup!A101,Employee_Name,0),0)),\"\",(INDEX('Employee Data'!$G$4:$G$553,MATCH(Databackup!A101,Employee_Name,0))))","v":""},{"$f":"IF(ISERROR(INDEX('Employee Data'!$H$4:$H$553,MATCH(Databackup!A101,Employee_Name,0),0)),\"\",(INDEX('Employee Data'!$H$4:$H$553,MATCH(Databackup!A101,Employee_Name,0))))","v":""},{"$f":"IF(ISERROR(INDEX('Employee Data'!$I$4:$I$553,MATCH(Databackup!A101,Employee_Name,0),0)),\"\",(INDEX('Employee Data'!$I$4:$I$553,MATCH(Databackup!A101,Employee_Name,0))))","v":""},{"$f":"IF(ISERROR(INDEX('Employee Data'!$J$4:$J$553,MATCH(Databackup!A101,Employee_Name,0),0)),\"\",(INDEX('Employee Data'!J$4:$J$553,MATCH(Databackup!A101,Employee_Name,0))))","v":""},{"$f":"IF(ISERROR(INDEX('Employee Data'!$K$4:$K$553,MATCH(Databackup!A101,Employee_Name,0),0)),\"\",(INDEX('Employee Data'!$K$4:$K$553,MATCH(Databackup!A101,Employee_Name,0))))","v":""},{"$f":"IF(ISERROR(INDEX('Employee Data'!$L$4:$L$553,MATCH(Databackup!A101,Employee_Name,0),0)),\"\",(INDEX('Employee Data'!$L$4:$L$553,MATCH(Databackup!A101,Employee_Name,0))))","v":""},{"$f":"IF(ISERROR(INDEX('Employee Data'!$M$4:$M$553,MATCH(Databackup!A101,Employee_Name,0),0)),\"\",(INDEX('Employee Data'!$M$4:$M$553,MATCH(Databackup!A101,Employee_Name,0))))","v":""},{"$f":"IF(ISERROR(INDEX('Employee Data'!$N$4:$N$553,MATCH(Databackup!A101,Employee_Name,0),0)),\"\",(INDEX('Employee Data'!$N$4:$N$553,MATCH(Databackup!A101,Employee_Name,0))))","v":""},{"$f":"IF(ISERROR(INDEX('Employee Data'!$O$4:$O$553,MATCH(Databackup!A101,Employee_Name,0),0)),\"\",(INDEX('Employee Data'!$O$4:$O$553,MATCH(Databackup!A101,Employee_Name,0))))","v":""}]
[{"$f":"INDEX(Employee_Name,MATCH(SMALL(IF($A$1='Employee Data'!$I$4:$I$553,'Employee Data'!$B$4:$B$553,\"\"),ROW('Employee Data'!A100)),IF($A$1='Employee Data'!$I$4:$I$553,'Employee Data'!$B$4:$B$553,\"\"),0))","v":{"$error":"#NUM!"}},{"$f":"IF(ISERROR(INDEX('Employee Data'!$B$4:$B$553,MATCH(Databackup!A102,Employee_Name,0),0)),\"\",(INDEX('Employee Data'!$B$4:$B$553,MATCH(Databackup!A102,Employee_Name,0))))","v":""},{"$f":"IF(ISERROR(INDEX('Employee Data'!$C$4:$C$553,MATCH(Databackup!A102,Employee_Name,0),0)),\"\",(INDEX('Employee Data'!$C$4:$C$553,MATCH(Databackup!A102,Employee_Name,0))))","v":""},{"$f":"IF(ISERROR(INDEX('Employee Data'!$D$4:$D$553,MATCH(Databackup!A102,Employee_Name,0),0)),\"\",(INDEX('Employee Data'!$D$4:$D$553,MATCH(Databackup!A102,Employee_Name,0))))","v":""},{"$f":"IF(ISERROR(INDEX('Employee Data'!$F$4:$F$553,MATCH(Databackup!A102,Employee_Name,0),0)),\"\",(INDEX('Employee Data'!$F$4:$F$553,MATCH(Databackup!A102,Employee_Name,0))))","v":""},{"$f":"IF(ISERROR(INDEX('Employee Data'!$G$4:$G$553,MATCH(Databackup!A102,Employee_Name,0),0)),\"\",(INDEX('Employee Data'!$G$4:$G$553,MATCH(Databackup!A102,Employee_Name,0))))","v":""},{"$f":"IF(ISERROR(INDEX('Employee Data'!$H$4:$H$553,MATCH(Databackup!A102,Employee_Name,0),0)),\"\",(INDEX('Employee Data'!$H$4:$H$553,MATCH(Databackup!A102,Employee_Name,0))))","v":""},{"$f":"IF(ISERROR(INDEX('Employee Data'!$I$4:$I$553,MATCH(Databackup!A102,Employee_Name,0),0)),\"\",(INDEX('Employee Data'!$I$4:$I$553,MATCH(Databackup!A102,Employee_Name,0))))","v":""},{"$f":"IF(ISERROR(INDEX('Employee Data'!$J$4:$J$553,MATCH(Databackup!A102,Employee_Name,0),0)),\"\",(INDEX('Employee Data'!J$4:$J$553,MATCH(Databackup!A102,Employee_Name,0))))","v":""},{"$f":"IF(ISERROR(INDEX('Employee Data'!$K$4:$K$553,MATCH(Databackup!A102,Employee_Name,0),0)),\"\",(INDEX('Employee Data'!$K$4:$K$553,MATCH(Databackup!A102,Employee_Name,0))))","v":""},{"$f":"IF(ISERROR(INDEX('Employee Data'!$L$4:$L$553,MATCH(Databackup!A102,Employee_Name,0),0)),\"\",(INDEX('Employee Data'!$L$4:$L$553,MATCH(Databackup!A102,Employee_Name,0))))","v":""},{"$f":"IF(ISERROR(INDEX('Employee Data'!$M$4:$M$553,MATCH(Databackup!A102,Employee_Name,0),0)),\"\",(INDEX('Employee Data'!$M$4:$M$553,MATCH(Databackup!A102,Employee_Name,0))))","v":""},{"$f":"IF(ISERROR(INDEX('Employee Data'!$N$4:$N$553,MATCH(Databackup!A102,Employee_Name,0),0)),\"\",(INDEX('Employee Data'!$N$4:$N$553,MATCH(Databackup!A102,Employee_Name,0))))","v":""},{"$f":"IF(ISERROR(INDEX('Employee Data'!$O$4:$O$553,MATCH(Databackup!A102,Employee_Name,0),0)),\"\",(INDEX('Employee Data'!$O$4:$O$553,MATCH(Databackup!A102,Employee_Name,0))))","v":""}]
[{"$f":"INDEX(Employee_Name,MATCH(SMALL(IF($A$1='Employee Data'!$I$4:$I$553,'Employee Data'!$B$4:$B$553,\"\"),ROW('Employee Data'!A101)),IF($A$1='Employee Data'!$I$4:$I$553,'Employee Data'!$B$4:$B$553,\"\"),0))","v":{"$error":"#NUM!"}},{"$f":"IF(ISERROR(INDEX('Employee Data'!$B$4:$B$553,MATCH(Databackup!A103,Employee_Name,0),0)),\"\",(INDEX('Employee Data'!$B$4:$B$553,MATCH(Databackup!A103,Employee_Name,0))))","v":""},{"$f":"IF(ISERROR(INDEX('Employee Data'!$C$4:$C$553,MATCH(Databackup!A103,Employee_Name,0),0)),\"\",(INDEX('Employee Data'!$C$4:$C$553,MATCH(Databackup!A103,Employee_Name,0))))","v":""},{"$f":"IF(ISERROR(INDEX('Employee Data'!$D$4:$D$553,MATCH(Databackup!A103,Employee_Name,0),0)),\"\",(INDEX('Employee Data'!$D$4:$D$553,MATCH(Databackup!A103,Employee_Name,0))))","v":""},{"$f":"IF(ISERROR(INDEX('Employee Data'!$F$4:$F$553,MATCH(Databackup!A103,Employee_Name,0),0)),\"\",(INDEX('Employee Data'!$F$4:$F$553,MATCH(Databackup!A103,Employee_Name,0))))","v":""},{"$f":"IF(ISERROR(INDEX('Employee Data'!$G$4:$G$553,MATCH(Databackup!A103,Employee_Name,0),0)),\"\",(INDEX('Employee Data'!$G$4:$G$553,MATCH(Databackup!A103,Employee_Name,0))))","v":""},{"$f":"IF(ISERROR(INDEX('Employee Data'!$H$4:$H$553,MATCH(Databackup!A103,Employee_Name,0),0)),\"\",(INDEX('Employee Data'!$H$4:$H$553,MATCH(Databackup!A103,Employee_Name,0))))","v":""},{"$f":"IF(ISERROR(INDEX('Employee Data'!$I$4:$I$553,MATCH(Databackup!A103,Employee_Name,0),0)),\"\",(INDEX('Employee Data'!$I$4:$I$553,MATCH(Databackup!A103,Employee_Name,0))))","v":""},{"$f":"IF(ISERROR(INDEX('Employee Data'!$J$4:$J$553,MATCH(Databackup!A103,Employee_Name,0),0)),\"\",(INDEX('Employee Data'!J$4:$J$553,MATCH(Databackup!A103,Employee_Name,0))))","v":""},{"$f":"IF(ISERROR(INDEX('Employee Data'!$K$4:$K$553,MATCH(Databackup!A103,Employee_Name,0),0)),\"\",(INDEX('Employee Data'!$K$4:$K$553,MATCH(Databackup!A103,Employee_Name,0))))","v":""},{"$f":"IF(ISERROR(INDEX('Employee Data'!$L$4:$L$553,MATCH(Databackup!A103,Employee_Name,0),0)),\"\",(INDEX('Employee Data'!$L$4:$L$553,MATCH(Databackup!A103,Employee_Name,0))))","v":""},{"$f":"IF(ISERROR(INDEX('Employee Data'!$M$4:$M$553,MATCH(Databackup!A103,Employee_Name,0),0)),\"\",(INDEX('Employee Data'!$M$4:$M$553,MATCH(Databackup!A103,Employee_Name,0))))","v":""},{"$f":"IF(ISERROR(INDEX('Employee Data'!$N$4:$N$553,MATCH(Databackup!A103,Employee_Name,0),0)),\"\",(INDEX('Employee Data'!$N$4:$N$553,MATCH(Databackup!A103,Employee_Name,0))))","v":""},{"$f":"IF(ISERROR(INDEX('Employee Data'!$O$4:$O$553,MATCH(Databackup!A103,Employee_Name,0),0)),\"\",(INDEX('Employee Data'!$O$4:$O$553,MATCH(Databackup!A103,Employee_Name,0))))","v":""}]
[{"$f":"INDEX(Employee_Name,MATCH(SMALL(IF($A$1='Employee Data'!$I$4:$I$553,'Employee Data'!$B$4:$B$553,\"\"),ROW('Employee Data'!A102)),IF($A$1='Employee Data'!$I$4:$I$553,'Employee Data'!$B$4:$B$553,\"\"),0))","v":{"$error":"#NUM!"}},{"$f":"IF(ISERROR(INDEX('Employee Data'!$B$4:$B$553,MATCH(Databackup!A104,Employee_Name,0),0)),\"\",(INDEX('Employee Data'!$B$4:$B$553,MATCH(Databackup!A104,Employee_Name,0))))","v":""},{"$f":"IF(ISERROR(INDEX('Employee Data'!$C$4:$C$553,MATCH(Databackup!A104,Employee_Name,0),0)),\"\",(INDEX('Employee Data'!$C$4:$C$553,MATCH(Databackup!A104,Employee_Name,0))))","v":""},{"$f":"IF(ISERROR(INDEX('Employee Data'!$D$4:$D$553,MATCH(Databackup!A104,Employee_Name,0),0)),\"\",(INDEX('Employee Data'!$D$4:$D$553,MATCH(Databackup!A104,Employee_Name,0))))","v":""},{"$f":"IF(ISERROR(INDEX('Employee Data'!$F$4:$F$553,MATCH(Databackup!A104,Employee_Name,0),0)),\"\",(INDEX('Employee Data'!$F$4:$F$553,MATCH(Databackup!A104,Employee_Name,0))))","v":""},{"$f":"IF(ISERROR(INDEX('Employee Data'!$G$4:$G$553,MATCH(Databackup!A104,Employee_Name,0),0)),\"\",(INDEX('Employee Data'!$G$4:$G$553,MATCH(Databackup!A104,Employee_Name,0))))","v":""},{"$f":"IF(ISERROR(INDEX('Employee Data'!$H$4:$H$553,MATCH(Databackup!A104,Employee_Name,0),0)),\"\",(INDEX('Employee Data'!$H$4:$H$553,MATCH(Databackup!A104,Employee_Name,0))))","v":""},{"$f":"IF(ISERROR(INDEX('Employee Data'!$I$4:$I$553,MATCH(Databackup!A104,Employee_Name,0),0)),\"\",(INDEX('Employee Data'!$I$4:$I$553,MATCH(Databackup!A104,Employee_Name,0))))","v":""},{"$f":"IF(ISERROR(INDEX('Employee Data'!$J$4:$J$553,MATCH(Databackup!A104,Employee_Name,0),0)),\"\",(INDEX('Employee Data'!J$4:$J$553,MATCH(Databackup!A104,Employee_Name,0))))","v":""},{"$f":"IF(ISERROR(INDEX('Employee Data'!$K$4:$K$553,MATCH(Databackup!A104,Employee_Name,0),0)),\"\",(INDEX('Employee Data'!$K$4:$K$553,MATCH(Databackup!A104,Employee_Name,0))))","v":""},{"$f":"IF(ISERROR(INDEX('Employee Data'!$L$4:$L$553,MATCH(Databackup!A104,Employee_Name,0),0)),\"\",(INDEX('Employee Data'!$L$4:$L$553,MATCH(Databackup!A104,Employee_Name,0))))","v":""},{"$f":"IF(ISERROR(INDEX('Employee Data'!$M$4:$M$553,MATCH(Databackup!A104,Employee_Name,0),0)),\"\",(INDEX('Employee Data'!$M$4:$M$553,MATCH(Databackup!A104,Employee_Name,0))))","v":""},{"$f":"IF(ISERROR(INDEX('Employee Data'!$N$4:$N$553,MATCH(Databackup!A104,Employee_Name,0),0)),\"\",(INDEX('Employee Data'!$N$4:$N$553,MATCH(Databackup!A104,Employee_Name,0))))","v":""},{"$f":"IF(ISERROR(INDEX('Employee Data'!$O$4:$O$553,MATCH(Databackup!A104,Employee_Name,0),0)),\"\",(INDEX('Employee Data'!$O$4:$O$553,MATCH(Databackup!A104,Employee_Name,0))))","v":""}]
[{"$f":"INDEX(Employee_Name,MATCH(SMALL(IF($A$1='Employee Data'!$I$4:$I$553,'Employee Data'!$B$4:$B$553,\"\"),ROW('Employee Data'!A103)),IF($A$1='Employee Data'!$I$4:$I$553,'Employee Data'!$B$4:$B$553,\"\"),0))","v":{"$error":"#NUM!"}},{"$f":"IF(ISERROR(INDEX('Employee Data'!$B$4:$B$553,MATCH(Databackup!A105,Employee_Name,0),0)),\"\",(INDEX('Employee Data'!$B$4:$B$553,MATCH(Databackup!A105,Employee_Name,0))))","v":""},{"$f":"IF(ISERROR(INDEX('Employee Data'!$C$4:$C$553,MATCH(Databackup!A105,Employee_Name,0),0)),\"\",(INDEX('Employee Data'!$C$4:$C$553,MATCH(Databackup!A105,Employee_Name,0))))","v":""},{"$f":"IF(ISERROR(INDEX('Employee Data'!$D$4:$D$553,MATCH(Databackup!A105,Employee_Name,0),0)),\"\",(INDEX('Employee Data'!$D$4:$D$553,MATCH(Databackup!A105,Employee_Name,0))))","v":""},{"$f":"IF(ISERROR(INDEX('Employee Data'!$F$4:$F$553,MATCH(Databackup!A105,Employee_Name,0),0)),\"\",(INDEX('Employee Data'!$F$4:$F$553,MATCH(Databackup!A105,Employee_Name,0))))","v":""},{"$f":"IF(ISERROR(INDEX('Employee Data'!$G$4:$G$553,MATCH(Databackup!A105,Employee_Name,0),0)),\"\",(INDEX('Employee Data'!$G$4:$G$553,MATCH(Databackup!A105,Employee_Name,0))))","v":""},{"$f":"IF(ISERROR(INDEX('Employee Data'!$H$4:$H$553,MATCH(Databackup!A105,Employee_Name,0),0)),\"\",(INDEX('Employee Data'!$H$4:$H$553,MATCH(Databackup!A105,Employee_Name,0))))","v":""},{"$f":"IF(ISERROR(INDEX('Employee Data'!$I$4:$I$553,MATCH(Databackup!A105,Employee_Name,0),0)),\"\",(INDEX('Employee Data'!$I$4:$I$553,MATCH(Databackup!A105,Employee_Name,0))))","v":""},{"$f":"IF(ISERROR(INDEX('Employee Data'!$J$4:$J$553,MATCH(Databackup!A105,Employee_Name,0),0)),\"\",(INDEX('Employee Data'!J$4:$J$553,MATCH(Databackup!A105,Employee_Name,0))))","v":""},{"$f":"IF(ISERROR(INDEX('Employee Data'!$K$4:$K$553,MATCH(Databackup!A105,Employee_Name,0),0)),\"\",(INDEX('Employee Data'!$K$4:$K$553,MATCH(Databackup!A105,Employee_Name,0))))","v":""},{"$f":"IF(ISERROR(INDEX('Employee Data'!$L$4:$L$553,MATCH(Databackup!A105,Employee_Name,0),0)),\"\",(INDEX('Employee Data'!$L$4:$L$553,MATCH(Databackup!A105,Employee_Name,0))))","v":""},{"$f":"IF(ISERROR(INDEX('Employee Data'!$M$4:$M$553,MATCH(Databackup!A105,Employee_Name,0),0)),\"\",(INDEX('Employee Data'!$M$4:$M$553,MATCH(Databackup!A105,Employee_Name,0))))","v":""},{"$f":"IF(ISERROR(INDEX('Employee Data'!$N$4:$N$553,MATCH(Databackup!A105,Employee_Name,0),0)),\"\",(INDEX('Employee Data'!$N$4:$N$553,MATCH(Databackup!A105,Employee_Name,0))))","v":""},{"$f":"IF(ISERROR(INDEX('Employee Data'!$O$4:$O$553,MATCH(Databackup!A105,Employee_Name,0),0)),\"\",(INDEX('Employee Data'!$O$4:$O$553,MATCH(Databackup!A105,Employee_Name,0))))","v":""}]
[{"$f":"INDEX(Employee_Name,MATCH(SMALL(IF($A$1='Employee Data'!$I$4:$I$553,'Employee Data'!$B$4:$B$553,\"\"),ROW('Employee Data'!A104)),IF($A$1='Employee Data'!$I$4:$I$553,'Employee Data'!$B$4:$B$553,\"\"),0))","v":{"$error":"#NUM!"}},{"$f":"IF(ISERROR(INDEX('Employee Data'!$B$4:$B$553,MATCH(Databackup!A106,Employee_Name,0),0)),\"\",(INDEX('Employee Data'!$B$4:$B$553,MATCH(Databackup!A106,Employee_Name,0))))","v":""},{"$f":"IF(ISERROR(INDEX('Employee Data'!$C$4:$C$553,MATCH(Databackup!A106,Employee_Name,0),0)),\"\",(INDEX('Employee Data'!$C$4:$C$553,MATCH(Databackup!A106,Employee_Name,0))))","v":""},{"$f":"IF(ISERROR(INDEX('Employee Data'!$D$4:$D$553,MATCH(Databackup!A106,Employee_Name,0),0)),\"\",(INDEX('Employee Data'!$D$4:$D$553,MATCH(Databackup!A106,Employee_Name,0))))","v":""},{"$f":"IF(ISERROR(INDEX('Employee Data'!$F$4:$F$553,MATCH(Databackup!A106,Employee_Name,0),0)),\"\",(INDEX('Employee Data'!$F$4:$F$553,MATCH(Databackup!A106,Employee_Name,0))))","v":""},{"$f":"IF(ISERROR(INDEX('Employee Data'!$G$4:$G$553,MATCH(Databackup!A106,Employee_Name,0),0)),\"\",(INDEX('Employee Data'!$G$4:$G$553,MATCH(Databackup!A106,Employee_Name,0))))","v":""},{"$f":"IF(ISERROR(INDEX('Employee Data'!$H$4:$H$553,MATCH(Databackup!A106,Employee_Name,0),0)),\"\",(INDEX('Employee Data'!$H$4:$H$553,MATCH(Databackup!A106,Employee_Name,0))))","v":""},{"$f":"IF(ISERROR(INDEX('Employee Data'!$I$4:$I$553,MATCH(Databackup!A106,Employee_Name,0),0)),\"\",(INDEX('Employee Data'!$I$4:$I$553,MATCH(Databackup!A106,Employee_Name,0))))","v":""},{"$f":"IF(ISERROR(INDEX('Employee Data'!$J$4:$J$553,MATCH(Databackup!A106,Employee_Name,0),0)),\"\",(INDEX('Employee Data'!J$4:$J$553,MATCH(Databackup!A106,Employee_Name,0))))","v":""},{"$f":"IF(ISERROR(INDEX('Employee Data'!$K$4:$K$553,MATCH(Databackup!A106,Employee_Name,0),0)),\"\",(INDEX('Employee Data'!$K$4:$K$553,MATCH(Databackup!A106,Employee_Name,0))))","v":""},{"$f":"IF(ISERROR(INDEX('Employee Data'!$L$4:$L$553,MATCH(Databackup!A106,Employee_Name,0),0)),\"\",(INDEX('Employee Data'!$L$4:$L$553,MATCH(Databackup!A106,Employee_Name,0))))","v":""},{"$f":"IF(ISERROR(INDEX('Employee Data'!$M$4:$M$553,MATCH(Databackup!A106,Employee_Name,0),0)),\"\",(INDEX('Employee Data'!$M$4:$M$553,MATCH(Databackup!A106,Employee_Name,0))))","v":""},{"$f":"IF(ISERROR(INDEX('Employee Data'!$N$4:$N$553,MATCH(Databackup!A106,Employee_Name,0),0)),\"\",(INDEX('Employee Data'!$N$4:$N$553,MATCH(Databackup!A106,Employee_Name,0))))","v":""},{"$f":"IF(ISERROR(INDEX('Employee Data'!$O$4:$O$553,MATCH(Databackup!A106,Employee_Name,0),0)),\"\",(INDEX('Employee Data'!$O$4:$O$553,MATCH(Databackup!A106,Employee_Name,0))))","v":""}]
[{"$f":"INDEX(Employee_Name,MATCH(SMALL(IF($A$1='Employee Data'!$I$4:$I$553,'Employee Data'!$B$4:$B$553,\"\"),ROW('Employee Data'!A105)),IF($A$1='Employee Data'!$I$4:$I$553,'Employee Data'!$B$4:$B$553,\"\"),0))","v":{"$error":"#NUM!"}},{"$f":"IF(ISERROR(INDEX('Employee Data'!$B$4:$B$553,MATCH(Databackup!A107,Employee_Name,0),0)),\"\",(INDEX('Employee Data'!$B$4:$B$553,MATCH(Databackup!A107,Employee_Name,0))))","v":""},{"$f":"IF(ISERROR(INDEX('Employee Data'!$C$4:$C$553,MATCH(Databackup!A107,Employee_Name,0),0)),\"\",(INDEX('Employee Data'!$C$4:$C$553,MATCH(Databackup!A107,Employee_Name,0))))","v":""},{"$f":"IF(ISERROR(INDEX('Employee Data'!$D$4:$D$553,MATCH(Databackup!A107,Employee_Name,0),0)),\"\",(INDEX('Employee Data'!$D$4:$D$553,MATCH(Databackup!A107,Employee_Name,0))))","v":""},{"$f":"IF(ISERROR(INDEX('Employee Data'!$F$4:$F$553,MATCH(Databackup!A107,Employee_Name,0),0)),\"\",(INDEX('Employee Data'!$F$4:$F$553,MATCH(Databackup!A107,Employee_Name,0))))","v":""},{"$f":"IF(ISERROR(INDEX('Employee Data'!$G$4:$G$553,MATCH(Databackup!A107,Employee_Name,0),0)),\"\",(INDEX('Employee Data'!$G$4:$G$553,MATCH(Databackup!A107,Employee_Name,0))))","v":""},{"$f":"IF(ISERROR(INDEX('Employee Data'!$H$4:$H$553,MATCH(Databackup!A107,Employee_Name,0),0)),\"\",(INDEX('Employee Data'!$H$4:$H$553,MATCH(Databackup!A107,Employee_Name,0))))","v":""},{"$f":"IF(ISERROR(INDEX('Employee Data'!$I$4:$I$553,MATCH(Databackup!A107,Employee_Name,0),0)),\"\",(INDEX('Employee Data'!$I$4:$I$553,MATCH(Databackup!A107,Employee_Name,0))))","v":""},{"$f":"IF(ISERROR(INDEX('Employee Data'!$J$4:$J$553,MATCH(Databackup!A107,Employee_Name,0),0)),\"\",(INDEX('Employee Data'!J$4:$J$553,MATCH(Databackup!A107,Employee_Name,0))))","v":""},{"$f":"IF(ISERROR(INDEX('Employee Data'!$K$4:$K$553,MATCH(Databackup!A107,Employee_Name,0),0)),\"\",(INDEX('Employee Data'!$K$4:$K$553,MATCH(Databackup!A107,Employee_Name,0))))","v":""},{"$f":"IF(ISERROR(INDEX('Employee Data'!$L$4:$L$553,MATCH(Databackup!A107,Employee_Name,0),0)),\"\",(INDEX('Employee Data'!$L$4:$L$553,MATCH(Databackup!A107,Employee_Name,0))))","v":""},{"$f":"IF(ISERROR(INDEX('Employee Data'!$M$4:$M$553,MATCH(Databackup!A107,Employee_Name,0),0)),\"\",(INDEX('Employee Data'!$M$4:$M$553,MATCH(Databackup!A107,Employee_Name,0))))","v":""},{"$f":"IF(ISERROR(INDEX('Employee Data'!$N$4:$N$553,MATCH(Databackup!A107,Employee_Name,0),0)),\"\",(INDEX('Employee Data'!$N$4:$N$553,MATCH(Databackup!A107,Employee_Name,0))))","v":""},{"$f":"IF(ISERROR(INDEX('Employee Data'!$O$4:$O$553,MATCH(Databackup!A107,Employee_Name,0),0)),\"\",(INDEX('Employee Data'!$O$4:$O$553,MATCH(Databackup!A107,Employee_Name,0))))","v":""}]
[{"$f":"INDEX(Employee_Name,MATCH(SMALL(IF($A$1='Employee Data'!$I$4:$I$553,'Employee Data'!$B$4:$B$553,\"\"),ROW('Employee Data'!A106)),IF($A$1='Employee Data'!$I$4:$I$553,'Employee Data'!$B$4:$B$553,\"\"),0))","v":{"$error":"#NUM!"}},{"$f":"IF(ISERROR(INDEX('Employee Data'!$B$4:$B$553,MATCH(Databackup!A108,Employee_Name,0),0)),\"\",(INDEX('Employee Data'!$B$4:$B$553,MATCH(Databackup!A108,Employee_Name,0))))","v":""},{"$f":"IF(ISERROR(INDEX('Employee Data'!$C$4:$C$553,MATCH(Databackup!A108,Employee_Name,0),0)),\"\",(INDEX('Employee Data'!$C$4:$C$553,MATCH(Databackup!A108,Employee_Name,0))))","v":""},{"$f":"IF(ISERROR(INDEX('Employee Data'!$D$4:$D$553,MATCH(Databackup!A108,Employee_Name,0),0)),\"\",(INDEX('Employee Data'!$D$4:$D$553,MATCH(Databackup!A108,Employee_Name,0))))","v":""},{"$f":"IF(ISERROR(INDEX('Employee Data'!$F$4:$F$553,MATCH(Databackup!A108,Employee_Name,0),0)),\"\",(INDEX('Employee Data'!$F$4:$F$553,MATCH(Databackup!A108,Employee_Name,0))))","v":""},{"$f":"IF(ISERROR(INDEX('Employee Data'!$G$4:$G$553,MATCH(Databackup!A108,Employee_Name,0),0)),\"\",(INDEX('Employee Data'!$G$4:$G$553,MATCH(Databackup!A108,Employee_Name,0))))","v":""},{"$f":"IF(ISERROR(INDEX('Employee Data'!$H$4:$H$553,MATCH(Databackup!A108,Employee_Name,0),0)),\"\",(INDEX('Employee Data'!$H$4:$H$553,MATCH(Databackup!A108,Employee_Name,0))))","v":""},{"$f":"IF(ISERROR(INDEX('Employee Data'!$I$4:$I$553,MATCH(Databackup!A108,Employee_Name,0),0)),\"\",(INDEX('Employee Data'!$I$4:$I$553,MATCH(Databackup!A108,Employee_Name,0))))","v":""},{"$f":"IF(ISERROR(INDEX('Employee Data'!$J$4:$J$553,MATCH(Databackup!A108,Employee_Name,0),0)),\"\",(INDEX('Employee Data'!J$4:$J$553,MATCH(Databackup!A108,Employee_Name,0))))","v":""},{"$f":"IF(ISERROR(INDEX('Employee Data'!$K$4:$K$553,MATCH(Databackup!A108,Employee_Name,0),0)),\"\",(INDEX('Employee Data'!$K$4:$K$553,MATCH(Databackup!A108,Employee_Name,0))))","v":""},{"$f":"IF(ISERROR(INDEX('Employee Data'!$L$4:$L$553,MATCH(Databackup!A108,Employee_Name,0),0)),\"\",(INDEX('Employee Data'!$L$4:$L$553,MATCH(Databackup!A108,Employee_Name,0))))","v":""},{"$f":"IF(ISERROR(INDEX('Employee Data'!$M$4:$M$553,MATCH(Databackup!A108,Employee_Name,0),0)),\"\",(INDEX('Employee Data'!$M$4:$M$553,MATCH(Databackup!A108,Employee_Name,0))))","v":""},{"$f":"IF(ISERROR(INDEX('Employee Data'!$N$4:$N$553,MATCH(Databackup!A108,Employee_Name,0),0)),\"\",(INDEX('Employee Data'!$N$4:$N$553,MATCH(Databackup!A108,Employee_Name,0))))","v":""},{"$f":"IF(ISERROR(INDEX('Employee Data'!$O$4:$O$553,MATCH(Databackup!A108,Employee_Name,0),0)),\"\",(INDEX('Employee Data'!$O$4:$O$553,MATCH(Databackup!A108,Employee_Name,0))))","v":""}]
[{"$f":"INDEX(Employee_Name,MATCH(SMALL(IF($A$1='Employee Data'!$I$4:$I$553,'Employee Data'!$B$4:$B$553,\"\"),ROW('Employee Data'!A107)),IF($A$1='Employee Data'!$I$4:$I$553,'Employee Data'!$B$4:$B$553,\"\"),0))","v":{"$error":"#NUM!"}},{"$f":"IF(ISERROR(INDEX('Employee Data'!$B$4:$B$553,MATCH(Databackup!A109,Employee_Name,0),0)),\"\",(INDEX('Employee Data'!$B$4:$B$553,MATCH(Databackup!A109,Employee_Name,0))))","v":""},{"$f":"IF(ISERROR(INDEX('Employee Data'!$C$4:$C$553,MATCH(Databackup!A109,Employee_Name,0),0)),\"\",(INDEX('Employee Data'!$C$4:$C$553,MATCH(Databackup!A109,Employee_Name,0))))","v":""},{"$f":"IF(ISERROR(INDEX('Employee Data'!$D$4:$D$553,MATCH(Databackup!A109,Employee_Name,0),0)),\"\",(INDEX('Employee Data'!$D$4:$D$553,MATCH(Databackup!A109,Employee_Name,0))))","v":""},{"$f":"IF(ISERROR(INDEX('Employee Data'!$F$4:$F$553,MATCH(Databackup!A109,Employee_Name,0),0)),\"\",(INDEX('Employee Data'!$F$4:$F$553,MATCH(Databackup!A109,Employee_Name,0))))","v":""},{"$f":"IF(ISERROR(INDEX('Employee Data'!$G$4:$G$553,MATCH(Databackup!A109,Employee_Name,0),0)),\"\",(INDEX('Employee Data'!$G$4:$G$553,MATCH(Databackup!A109,Employee_Name,0))))","v":""},{"$f":"IF(ISERROR(INDEX('Employee Data'!$H$4:$H$553,MATCH(Databackup!A109,Employee_Name,0),0)),\"\",(INDEX('Employee Data'!$H$4:$H$553,MATCH(Databackup!A109,Employee_Name,0))))","v":""},{"$f":"IF(ISERROR(INDEX('Employee Data'!$I$4:$I$553,MATCH(Databackup!A109,Employee_Name,0),0)),\"\",(INDEX('Employee Data'!$I$4:$I$553,MATCH(Databackup!A109,Employee_Name,0))))","v":""},{"$f":"IF(ISERROR(INDEX('Employee Data'!$J$4:$J$553,MATCH(Databackup!A109,Employee_Name,0),0)),\"\",(INDEX('Employee Data'!J$4:$J$553,MATCH(Databackup!A109,Employee_Name,0))))","v":""},{"$f":"IF(ISERROR(INDEX('Employee Data'!$K$4:$K$553,MATCH(Databackup!A109,Employee_Name,0),0)),\"\",(INDEX('Employee Data'!$K$4:$K$553,MATCH(Databackup!A109,Employee_Name,0))))","v":""},{"$f":"IF(ISERROR(INDEX('Employee Data'!$L$4:$L$553,MATCH(Databackup!A109,Employee_Name,0),0)),\"\",(INDEX('Employee Data'!$L$4:$L$553,MATCH(Databackup!A109,Employee_Name,0))))","v":""},{"$f":"IF(ISERROR(INDEX('Employee Data'!$M$4:$M$553,MATCH(Databackup!A109,Employee_Name,0),0)),\"\",(INDEX('Employee Data'!$M$4:$M$553,MATCH(Databackup!A109,Employee_Name,0))))","v":""},{"$f":"IF(ISERROR(INDEX('Employee Data'!$N$4:$N$553,MATCH(Databackup!A109,Employee_Name,0),0)),\"\",(INDEX('Employee Data'!$N$4:$N$553,MATCH(Databackup!A109,Employee_Name,0))))","v":""},{"$f":"IF(ISERROR(INDEX('Employee Data'!$O$4:$O$553,MATCH(Databackup!A109,Employee_Name,0),0)),\"\",(INDEX('Employee Data'!$O$4:$O$553,MATCH(Databackup!A109,Employee_Name,0))))","v":""}]
[{"$f":"INDEX(Employee_Name,MATCH(SMALL(IF($A$1='Employee Data'!$I$4:$I$553,'Employee Data'!$B$4:$B$553,\"\"),ROW('Employee Data'!A108)),IF($A$1='Employee Data'!$I$4:$I$553,'Employee Data'!$B$4:$B$553,\"\"),0))","v":{"$error":"#NUM!"}},{"$f":"IF(ISERROR(INDEX('Employee Data'!$B$4:$B$553,MATCH(Databackup!A110,Employee_Name,0),0)),\"\",(INDEX('Employee Data'!$B$4:$B$553,MATCH(Databackup!A110,Employee_Name,0))))","v":""},{"$f":"IF(ISERROR(INDEX('Employee Data'!$C$4:$C$553,MATCH(Databackup!A110,Employee_Name,0),0)),\"\",(INDEX('Employee Data'!$C$4:$C$553,MATCH(Databackup!A110,Employee_Name,0))))","v":""},{"$f":"IF(ISERROR(INDEX('Employee Data'!$D$4:$D$553,MATCH(Databackup!A110,Employee_Name,0),0)),\"\",(INDEX('Employee Data'!$D$4:$D$553,MATCH(Databackup!A110,Employee_Name,0))))","v":""},{"$f":"IF(ISERROR(INDEX('Employee Data'!$F$4:$F$553,MATCH(Databackup!A110,Employee_Name,0),0)),\"\",(INDEX('Employee Data'!$F$4:$F$553,MATCH(Databackup!A110,Employee_Name,0))))","v":""},{"$f":"IF(ISERROR(INDEX('Employee Data'!$G$4:$G$553,MATCH(Databackup!A110,Employee_Name,0),0)),\"\",(INDEX('Employee Data'!$G$4:$G$553,MATCH(Databackup!A110,Employee_Name,0))))","v":""},{"$f":"IF(ISERROR(INDEX('Employee Data'!$H$4:$H$553,MATCH(Databackup!A110,Employee_Name,0),0)),\"\",(INDEX('Employee Data'!$H$4:$H$553,MATCH(Databackup!A110,Employee_Name,0))))","v":""},{"$f":"IF(ISERROR(INDEX('Employee Data'!$I$4:$I$553,MATCH(Databackup!A110,Employee_Name,0),0)),\"\",(INDEX('Employee Data'!$I$4:$I$553,MATCH(Databackup!A110,Employee_Name,0))))","v":""},{"$f":"IF(ISERROR(INDEX('Employee Data'!$J$4:$J$553,MATCH(Databackup!A110,Employee_Name,0),0)),\"\",(INDEX('Employee Data'!J$4:$J$553,MATCH(Databackup!A110,Employee_Name,0))))","v":""},{"$f":"IF(ISERROR(INDEX('Employee Data'!$K$4:$K$553,MATCH(Databackup!A110,Employee_Name,0),0)),\"\",(INDEX('Employee Data'!$K$4:$K$553,MATCH(Databackup!A110,Employee_Name,0))))","v":""},{"$f":"IF(ISERROR(INDEX('Employee Data'!$L$4:$L$553,MATCH(Databackup!A110,Employee_Name,0),0)),\"\",(INDEX('Employee Data'!$L$4:$L$553,MATCH(Databackup!A110,Employee_Name,0))))","v":""},{"$f":"IF(ISERROR(INDEX('Employee Data'!$M$4:$M$553,MATCH(Databackup!A110,Employee_Name,0),0)),\"\",(INDEX('Employee Data'!$M$4:$M$553,MATCH(Databackup!A110,Employee_Name,0))))","v":""},{"$f":"IF(ISERROR(INDEX('Employee Data'!$N$4:$N$553,MATCH(Databackup!A110,Employee_Name,0),0)),\"\",(INDEX('Employee Data'!$N$4:$N$553,MATCH(Databackup!A110,Employee_Name,0))))","v":""},{"$f":"IF(ISERROR(INDEX('Employee Data'!$O$4:$O$553,MATCH(Databackup!A110,Employee_Name,0),0)),\"\",(INDEX('Employee Data'!$O$4:$O$553,MATCH(Databackup!A110,Employee_Name,0))))","v":""}]
[{"$f":"INDEX(Employee_Name,MATCH(SMALL(IF($A$1='Employee Data'!$I$4:$I$553,'Employee Data'!$B$4:$B$553,\"\"),ROW('Employee Data'!A109)),IF($A$1='Employee Data'!$I$4:$I$553,'Employee Data'!$B$4:$B$553,\"\"),0))","v":{"$error":"#NUM!"}},{"$f":"IF(ISERROR(INDEX('Employee Data'!$B$4:$B$553,MATCH(Databackup!A111,Employee_Name,0),0)),\"\",(INDEX('Employee Data'!$B$4:$B$553,MATCH(Databackup!A111,Employee_Name,0))))","v":""},{"$f":"IF(ISERROR(INDEX('Employee Data'!$C$4:$C$553,MATCH(Databackup!A111,Employee_Name,0),0)),\"\",(INDEX('Employee Data'!$C$4:$C$553,MATCH(Databackup!A111,Employee_Name,0))))","v":""},{"$f":"IF(ISERROR(INDEX('Employee Data'!$D$4:$D$553,MATCH(Databackup!A111,Employee_Name,0),0)),\"\",(INDEX('Employee Data'!$D$4:$D$553,MATCH(Databackup!A111,Employee_Name,0))))","v":""},{"$f":"IF(ISERROR(INDEX('Employee Data'!$F$4:$F$553,MATCH(Databackup!A111,Employee_Name,0),0)),\"\",(INDEX('Employee Data'!$F$4:$F$553,MATCH(Databackup!A111,Employee_Name,0))))","v":""},{"$f":"IF(ISERROR(INDEX('Employee Data'!$G$4:$G$553,MATCH(Databackup!A111,Employee_Name,0),0)),\"\",(INDEX('Employee Data'!$G$4:$G$553,MATCH(Databackup!A111,Employee_Name,0))))","v":""},{"$f":"IF(ISERROR(INDEX('Employee Data'!$H$4:$H$553,MATCH(Databackup!A111,Employee_Name,0),0)),\"\",(INDEX('Employee Data'!$H$4:$H$553,MATCH(Databackup!A111,Employee_Name,0))))","v":""},{"$f":"IF(ISERROR(INDEX('Employee Data'!$I$4:$I$553,MATCH(Databackup!A111,Employee_Name,0),0)),\"\",(INDEX('Employee Data'!$I$4:$I$553,MATCH(Databackup!A111,Employee_Name,0))))","v":""},{"$f":"IF(ISERROR(INDEX('Employee Data'!$J$4:$J$553,MATCH(Databackup!A111,Employee_Name,0),0)),\"\",(INDEX('Employee Data'!J$4:$J$553,MATCH(Databackup!A111,Employee_Name,0))))","v":""},{"$f":"IF(ISERROR(INDEX('Employee Data'!$K$4:$K$553,MATCH(Databackup!A111,Employee_Name,0),0)),\"\",(INDEX('Employee Data'!$K$4:$K$553,MATCH(Databackup!A111,Employee_Name,0))))","v":""},{"$f":"IF(ISERROR(INDEX('Employee Data'!$L$4:$L$553,MATCH(Databackup!A111,Employee_Name,0),0)),\"\",(INDEX('Employee Data'!$L$4:$L$553,MATCH(Databackup!A111,Employee_Name,0))))","v":""},{"$f":"IF(ISERROR(INDEX('Employee Data'!$M$4:$M$553,MATCH(Databackup!A111,Employee_Name,0),0)),\"\",(INDEX('Employee Data'!$M$4:$M$553,MATCH(Databackup!A111,Employee_Name,0))))","v":""},{"$f":"IF(ISERROR(INDEX('Employee Data'!$N$4:$N$553,MATCH(Databackup!A111,Employee_Name,0),0)),\"\",(INDEX('Employee Data'!$N$4:$N$553,MATCH(Databackup!A111,Employee_Name,0))))","v":""},{"$f":"IF(ISERROR(INDEX('Employee Data'!$O$4:$O$553,MATCH(Databackup!A111,Employee_Name,0),0)),\"\",(INDEX('Employee Data'!$O$4:$O$553,MATCH(Databackup!A111,Employee_Name,0))))","v":""}]
[{"$f":"INDEX(Employee_Name,MATCH(SMALL(IF($A$1='Employee Data'!$I$4:$I$553,'Employee Data'!$B$4:$B$553,\"\"),ROW('Employee Data'!A110)),IF($A$1='Employee Data'!$I$4:$I$553,'Employee Data'!$B$4:$B$553,\"\"),0))","v":{"$error":"#NUM!"}},{"$f":"IF(ISERROR(INDEX('Employee Data'!$B$4:$B$553,MATCH(Databackup!A112,Employee_Name,0),0)),\"\",(INDEX('Employee Data'!$B$4:$B$553,MATCH(Databackup!A112,Employee_Name,0))))","v":""},{"$f":"IF(ISERROR(INDEX('Employee Data'!$C$4:$C$553,MATCH(Databackup!A112,Employee_Name,0),0)),\"\",(INDEX('Employee Data'!$C$4:$C$553,MATCH(Databackup!A112,Employee_Name,0))))","v":""},{"$f":"IF(ISERROR(INDEX('Employee Data'!$D$4:$D$553,MATCH(Databackup!A112,Employee_Name,0),0)),\"\",(INDEX('Employee Data'!$D$4:$D$553,MATCH(Databackup!A112,Employee_Name,0))))","v":""},{"$f":"IF(ISERROR(INDEX('Employee Data'!$F$4:$F$553,MATCH(Databackup!A112,Employee_Name,0),0)),\"\",(INDEX('Employee Data'!$F$4:$F$553,MATCH(Databackup!A112,Employee_Name,0))))","v":""},{"$f":"IF(ISERROR(INDEX('Employee Data'!$G$4:$G$553,MATCH(Databackup!A112,Employee_Name,0),0)),\"\",(INDEX('Employee Data'!$G$4:$G$553,MATCH(Databackup!A112,Employee_Name,0))))","v":""},{"$f":"IF(ISERROR(INDEX('Employee Data'!$H$4:$H$553,MATCH(Databackup!A112,Employee_Name,0),0)),\"\",(INDEX('Employee Data'!$H$4:$H$553,MATCH(Databackup!A112,Employee_Name,0))))","v":""},{"$f":"IF(ISERROR(INDEX('Employee Data'!$I$4:$I$553,MATCH(Databackup!A112,Employee_Name,0),0)),\"\",(INDEX('Employee Data'!$I$4:$I$553,MATCH(Databackup!A112,Employee_Name,0))))","v":""},{"$f":"IF(ISERROR(INDEX('Employee Data'!$J$4:$J$553,MATCH(Databackup!A112,Employee_Name,0),0)),\"\",(INDEX('Employee Data'!J$4:$J$553,MATCH(Databackup!A112,Employee_Name,0))))","v":""},{"$f":"IF(ISERROR(INDEX('Employee Data'!$K$4:$K$553,MATCH(Databackup!A112,Employee_Name,0),0)),\"\",(INDEX('Employee Data'!$K$4:$K$553,MATCH(Databackup!A112,Employee_Name,0))))","v":""},{"$f":"IF(ISERROR(INDEX('Employee Data'!$L$4:$L$553,MATCH(Databackup!A112,Employee_Name,0),0)),\"\",(INDEX('Employee Data'!$L$4:$L$553,MATCH(Databackup!A112,Employee_Name,0))))","v":""},{"$f":"IF(ISERROR(INDEX('Employee Data'!$M$4:$M$553,MATCH(Databackup!A112,Employee_Name,0),0)),\"\",(INDEX('Employee Data'!$M$4:$M$553,MATCH(Databackup!A112,Employee_Name,0))))","v":""},{"$f":"IF(ISERROR(INDEX('Employee Data'!$N$4:$N$553,MATCH(Databackup!A112,Employee_Name,0),0)),\"\",(INDEX('Employee Data'!$N$4:$N$553,MATCH(Databackup!A112,Employee_Name,0))))","v":""},{"$f":"IF(ISERROR(INDEX('Employee Data'!$O$4:$O$553,MATCH(Databackup!A112,Employee_Name,0),0)),\"\",(INDEX('Employee Data'!$O$4:$O$553,MATCH(Databackup!A112,Employee_Name,0))))","v":""}]
[{"$f":"INDEX(Employee_Name,MATCH(SMALL(IF($A$1='Employee Data'!$I$4:$I$553,'Employee Data'!$B$4:$B$553,\"\"),ROW('Employee Data'!A111)),IF($A$1='Employee Data'!$I$4:$I$553,'Employee Data'!$B$4:$B$553,\"\"),0))","v":{"$error":"#NUM!"}},{"$f":"IF(ISERROR(INDEX('Employee Data'!$B$4:$B$553,MATCH(Databackup!A113,Employee_Name,0),0)),\"\",(INDEX('Employee Data'!$B$4:$B$553,MATCH(Databackup!A113,Employee_Name,0))))","v":""},{"$f":"IF(ISERROR(INDEX('Employee Data'!$C$4:$C$553,MATCH(Databackup!A113,Employee_Name,0),0)),\"\",(INDEX('Employee Data'!$C$4:$C$553,MATCH(Databackup!A113,Employee_Name,0))))","v":""},{"$f":"IF(ISERROR(INDEX('Employee Data'!$D$4:$D$553,MATCH(Databackup!A113,Employee_Name,0),0)),\"\",(INDEX('Employee Data'!$D$4:$D$553,MATCH(Databackup!A113,Employee_Name,0))))","v":""},{"$f":"IF(ISERROR(INDEX('Employee Data'!$F$4:$F$553,MATCH(Databackup!A113,Employee_Name,0),0)),\"\",(INDEX('Employee Data'!$F$4:$F$553,MATCH(Databackup!A113,Employee_Name,0))))","v":""},{"$f":"IF(ISERROR(INDEX('Employee Data'!$G$4:$G$553,MATCH(Databackup!A113,Employee_Name,0),0)),\"\",(INDEX('Employee Data'!$G$4:$G$553,MATCH(Databackup!A113,Employee_Name,0))))","v":""},{"$f":"IF(ISERROR(INDEX('Employee Data'!$H$4:$H$553,MATCH(Databackup!A113,Employee_Name,0),0)),\"\",(INDEX('Employee Data'!$H$4:$H$553,MATCH(Databackup!A113,Employee_Name,0))))","v":""},{"$f":"IF(ISERROR(INDEX('Employee Data'!$I$4:$I$553,MATCH(Databackup!A113,Employee_Name,0),0)),\"\",(INDEX('Employee Data'!$I$4:$I$553,MATCH(Databackup!A113,Employee_Name,0))))","v":""},{"$f":"IF(ISERROR(INDEX('Employee Data'!$J$4:$J$553,MATCH(Databackup!A113,Employee_Name,0),0)),\"\",(INDEX('Employee Data'!J$4:$J$553,MATCH(Databackup!A113,Employee_Name,0))))","v":""},{"$f":"IF(ISERROR(INDEX('Employee Data'!$K$4:$K$553,MATCH(Databackup!A113,Employee_Name,0),0)),\"\",(INDEX('Employee Data'!$K$4:$K$553,MATCH(Databackup!A113,Employee_Name,0))))","v":""},{"$f":"IF(ISERROR(INDEX('Employee Data'!$L$4:$L$553,MATCH(Databackup!A113,Employee_Name,0),0)),\"\",(INDEX('Employee Data'!$L$4:$L$553,MATCH(Databackup!A113,Employee_Name,0))))","v":""},{"$f":"IF(ISERROR(INDEX('Employee Data'!$M$4:$M$553,MATCH(Databackup!A113,Employee_Name,0),0)),\"\",(INDEX('Employee Data'!$M$4:$M$553,MATCH(Databackup!A113,Employee_Name,0))))","v":""},{"$f":"IF(ISERROR(INDEX('Employee Data'!$N$4:$N$553,MATCH(Databackup!A113,Employee_Name,0),0)),\"\",(INDEX('Employee Data'!$N$4:$N$553,MATCH(Databackup!A113,Employee_Name,0))))","v":""},{"$f":"IF(ISERROR(INDEX('Employee Data'!$O$4:$O$553,MATCH(Databackup!A113,Employee_Name,0),0)),\"\",(INDEX('Employee Data'!$O$4:$O$553,MATCH(Databackup!A113,Employee_Name,0))))","v":""}]
[{"$f":"INDEX(Employee_Name,MATCH(SMALL(IF($A$1='Employee Data'!$I$4:$I$553,'Employee Data'!$B$4:$B$553,\"\"),ROW('Employee Data'!A112)),IF($A$1='Employee Data'!$I$4:$I$553,'Employee Data'!$B$4:$B$553,\"\"),0))","v":{"$error":"#NUM!"}},{"$f":"IF(ISERROR(INDEX('Employee Data'!$B$4:$B$553,MATCH(Databackup!A114,Employee_Name,0),0)),\"\",(INDEX('Employee Data'!$B$4:$B$553,MATCH(Databackup!A114,Employee_Name,0))))","v":""},{"$f":"IF(ISERROR(INDEX('Employee Data'!$C$4:$C$553,MATCH(Databackup!A114,Employee_Name,0),0)),\"\",(INDEX('Employee Data'!$C$4:$C$553,MATCH(Databackup!A114,Employee_Name,0))))","v":""},{"$f":"IF(ISERROR(INDEX('Employee Data'!$D$4:$D$553,MATCH(Databackup!A114,Employee_Name,0),0)),\"\",(INDEX('Employee Data'!$D$4:$D$553,MATCH(Databackup!A114,Employee_Name,0))))","v":""},{"$f":"IF(ISERROR(INDEX('Employee Data'!$F$4:$F$553,MATCH(Databackup!A114,Employee_Name,0),0)),\"\",(INDEX('Employee Data'!$F$4:$F$553,MATCH(Databackup!A114,Employee_Name,0))))","v":""},{"$f":"IF(ISERROR(INDEX('Employee Data'!$G$4:$G$553,MATCH(Databackup!A114,Employee_Name,0),0)),\"\",(INDEX('Employee Data'!$G$4:$G$553,MATCH(Databackup!A114,Employee_Name,0))))","v":""},{"$f":"IF(ISERROR(INDEX('Employee Data'!$H$4:$H$553,MATCH(Databackup!A114,Employee_Name,0),0)),\"\",(INDEX('Employee Data'!$H$4:$H$553,MATCH(Databackup!A114,Employee_Name,0))))","v":""},{"$f":"IF(ISERROR(INDEX('Employee Data'!$I$4:$I$553,MATCH(Databackup!A114,Employee_Name,0),0)),\"\",(INDEX('Employee Data'!$I$4:$I$553,MATCH(Databackup!A114,Employee_Name,0))))","v":""},{"$f":"IF(ISERROR(INDEX('Employee Data'!$J$4:$J$553,MATCH(Databackup!A114,Employee_Name,0),0)),\"\",(INDEX('Employee Data'!J$4:$J$553,MATCH(Databackup!A114,Employee_Name,0))))","v":""},{"$f":"IF(ISERROR(INDEX('Employee Data'!$K$4:$K$553,MATCH(Databackup!A114,Employee_Name,0),0)),\"\",(INDEX('Employee Data'!$K$4:$K$553,MATCH(Databackup!A114,Employee_Name,0))))","v":""},{"$f":"IF(ISERROR(INDEX('Employee Data'!$L$4:$L$553,MATCH(Databackup!A114,Employee_Name,0),0)),\"\",(INDEX('Employee Data'!$L$4:$L$553,MATCH(Databackup!A114,Employee_Name,0))))","v":""},{"$f":"IF(ISERROR(INDEX('Employee Data'!$M$4:$M$553,MATCH(Databackup!A114,Employee_Name,0),0)),\"\",(INDEX('Employee Data'!$M$4:$M$553,MATCH(Databackup!A114,Employee_Name,0))))","v":""},{"$f":"IF(ISERROR(INDEX('Employee Data'!$N$4:$N$553,MATCH(Databackup!A114,Employee_Name,0),0)),\"\",(INDEX('Employee Data'!$N$4:$N$553,MATCH(Databackup!A114,Employee_Name,0))))","v":""},{"$f":"IF(ISERROR(INDEX('Employee Data'!$O$4:$O$553,MATCH(Databackup!A114,Employee_Name,0),0)),\"\",(INDEX('Employee Data'!$O$4:$O$553,MATCH(Databackup!A114,Employee_Name,0))))","v":""}]
[{"$f":"INDEX(Employee_Name,MATCH(SMALL(IF($A$1='Employee Data'!$I$4:$I$553,'Employee Data'!$B$4:$B$553,\"\"),ROW('Employee Data'!A113)),IF($A$1='Employee Data'!$I$4:$I$553,'Employee Data'!$B$4:$B$553,\"\"),0))","v":{"$error":"#NUM!"}},{"$f":"IF(ISERROR(INDEX('Employee Data'!$B$4:$B$553,MATCH(Databackup!A115,Employee_Name,0),0)),\"\",(INDEX('Employee Data'!$B$4:$B$553,MATCH(Databackup!A115,Employee_Name,0))))","v":""},{"$f":"IF(ISERROR(INDEX('Employee Data'!$C$4:$C$553,MATCH(Databackup!A115,Employee_Name,0),0)),\"\",(INDEX('Employee Data'!$C$4:$C$553,MATCH(Databackup!A115,Employee_Name,0))))","v":""},{"$f":"IF(ISERROR(INDEX('Employee Data'!$D$4:$D$553,MATCH(Databackup!A115,Employee_Name,0),0)),\"\",(INDEX('Employee Data'!$D$4:$D$553,MATCH(Databackup!A115,Employee_Name,0))))","v":""},{"$f":"IF(ISERROR(INDEX('Employee Data'!$F$4:$F$553,MATCH(Databackup!A115,Employee_Name,0),0)),\"\",(INDEX('Employee Data'!$F$4:$F$553,MATCH(Databackup!A115,Employee_Name,0))))","v":""},{"$f":"IF(ISERROR(INDEX('Employee Data'!$G$4:$G$553,MATCH(Databackup!A115,Employee_Name,0),0)),\"\",(INDEX('Employee Data'!$G$4:$G$553,MATCH(Databackup!A115,Employee_Name,0))))","v":""},{"$f":"IF(ISERROR(INDEX('Employee Data'!$H$4:$H$553,MATCH(Databackup!A115,Employee_Name,0),0)),\"\",(INDEX('Employee Data'!$H$4:$H$553,MATCH(Databackup!A115,Employee_Name,0))))","v":""},{"$f":"IF(ISERROR(INDEX('Employee Data'!$I$4:$I$553,MATCH(Databackup!A115,Employee_Name,0),0)),\"\",(INDEX('Employee Data'!$I$4:$I$553,MATCH(Databackup!A115,Employee_Name,0))))","v":""},{"$f":"IF(ISERROR(INDEX('Employee Data'!$J$4:$J$553,MATCH(Databackup!A115,Employee_Name,0),0)),\"\",(INDEX('Employee Data'!J$4:$J$553,MATCH(Databackup!A115,Employee_Name,0))))","v":""},{"$f":"IF(ISERROR(INDEX('Employee Data'!$K$4:$K$553,MATCH(Databackup!A115,Employee_Name,0),0)),\"\",(INDEX('Employee Data'!$K$4:$K$553,MATCH(Databackup!A115,Employee_Name,0))))","v":""},{"$f":"IF(ISERROR(INDEX('Employee Data'!$L$4:$L$553,MATCH(Databackup!A115,Employee_Name,0),0)),\"\",(INDEX('Employee Data'!$L$4:$L$553,MATCH(Databackup!A115,Employee_Name,0))))","v":""},{"$f":"IF(ISERROR(INDEX('Employee Data'!$M$4:$M$553,MATCH(Databackup!A115,Employee_Name,0),0)),\"\",(INDEX('Employee Data'!$M$4:$M$553,MATCH(Databackup!A115,Employee_Name,0))))","v":""},{"$f":"IF(ISERROR(INDEX('Employee Data'!$N$4:$N$553,MATCH(Databackup!A115,Employee_Name,0),0)),\"\",(INDEX('Employee Data'!$N$4:$N$553,MATCH(Databackup!A115,Employee_Name,0))))","v":""},{"$f":"IF(ISERROR(INDEX('Employee Data'!$O$4:$O$553,MATCH(Databackup!A115,Employee_Name,0),0)),\"\",(INDEX('Employee Data'!$O$4:$O$553,MATCH(Databackup!A115,Employee_Name,0))))","v":""}]
[{"$f":"INDEX(Employee_Name,MATCH(SMALL(IF($A$1='Employee Data'!$I$4:$I$553,'Employee Data'!$B$4:$B$553,\"\"),ROW('Employee Data'!A114)),IF($A$1='Employee Data'!$I$4:$I$553,'Employee Data'!$B$4:$B$553,\"\"),0))","v":{"$error":"#NUM!"}},{"$f":"IF(ISERROR(INDEX('Employee Data'!$B$4:$B$553,MATCH(Databackup!A116,Employee_Name,0),0)),\"\",(INDEX('Employee Data'!$B$4:$B$553,MATCH(Databackup!A116,Employee_Name,0))))","v":""},{"$f":"IF(ISERROR(INDEX('Employee Data'!$C$4:$C$553,MATCH(Databackup!A116,Employee_Name,0),0)),\"\",(INDEX('Employee Data'!$C$4:$C$553,MATCH(Databackup!A116,Employee_Name,0))))","v":""},{"$f":"IF(ISERROR(INDEX('Employee Data'!$D$4:$D$553,MATCH(Databackup!A116,Employee_Name,0),0)),\"\",(INDEX('Employee Data'!$D$4:$D$553,MATCH(Databackup!A116,Employee_Name,0))))","v":""},{"$f":"IF(ISERROR(INDEX('Employee Data'!$F$4:$F$553,MATCH(Databackup!A116,Employee_Name,0),0)),\"\",(INDEX('Employee Data'!$F$4:$F$553,MATCH(Databackup!A116,Employee_Name,0))))","v":""},{"$f":"IF(ISERROR(INDEX('Employee Data'!$G$4:$G$553,MATCH(Databackup!A116,Employee_Name,0),0)),\"\",(INDEX('Employee Data'!$G$4:$G$553,MATCH(Databackup!A116,Employee_Name,0))))","v":""},{"$f":"IF(ISERROR(INDEX('Employee Data'!$H$4:$H$553,MATCH(Databackup!A116,Employee_Name,0),0)),\"\",(INDEX('Employee Data'!$H$4:$H$553,MATCH(Databackup!A116,Employee_Name,0))))","v":""},{"$f":"IF(ISERROR(INDEX('Employee Data'!$I$4:$I$553,MATCH(Databackup!A116,Employee_Name,0),0)),\"\",(INDEX('Employee Data'!$I$4:$I$553,MATCH(Databackup!A116,Employee_Name,0))))","v":""},{"$f":"IF(ISERROR(INDEX('Employee Data'!$J$4:$J$553,MATCH(Databackup!A116,Employee_Name,0),0)),\"\",(INDEX('Employee Data'!J$4:$J$553,MATCH(Databackup!A116,Employee_Name,0))))","v":""},{"$f":"IF(ISERROR(INDEX('Employee Data'!$K$4:$K$553,MATCH(Databackup!A116,Employee_Name,0),0)),\"\",(INDEX('Employee Data'!$K$4:$K$553,MATCH(Databackup!A116,Employee_Name,0))))","v":""},{"$f":"IF(ISERROR(INDEX('Employee Data'!$L$4:$L$553,MATCH(Databackup!A116,Employee_Name,0),0)),\"\",(INDEX('Employee Data'!$L$4:$L$553,MATCH(Databackup!A116,Employee_Name,0))))","v":""},{"$f":"IF(ISERROR(INDEX('Employee Data'!$M$4:$M$553,MATCH(Databackup!A116,Employee_Name,0),0)),\"\",(INDEX('Employee Data'!$M$4:$M$553,MATCH(Databackup!A116,Employee_Name,0))))","v":""},{"$f":"IF(ISERROR(INDEX('Employee Data'!$N$4:$N$553,MATCH(Databackup!A116,Employee_Name,0),0)),\"\",(INDEX('Employee Data'!$N$4:$N$553,MATCH(Databackup!A116,Employee_Name,0))))","v":""},{"$f":"IF(ISERROR(INDEX('Employee Data'!$O$4:$O$553,MATCH(Databackup!A116,Employee_Name,0),0)),\"\",(INDEX('Employee Data'!$O$4:$O$553,MATCH(Databackup!A116,Employee_Name,0))))","v":""}]
[{"$f":"INDEX(Employee_Name,MATCH(SMALL(IF($A$1='Employee Data'!$I$4:$I$553,'Employee Data'!$B$4:$B$553,\"\"),ROW('Employee Data'!A115)),IF($A$1='Employee Data'!$I$4:$I$553,'Employee Data'!$B$4:$B$553,\"\"),0))","v":{"$error":"#NUM!"}},{"$f":"IF(ISERROR(INDEX('Employee Data'!$B$4:$B$553,MATCH(Databackup!A117,Employee_Name,0),0)),\"\",(INDEX('Employee Data'!$B$4:$B$553,MATCH(Databackup!A117,Employee_Name,0))))","v":""},{"$f":"IF(ISERROR(INDEX('Employee Data'!$C$4:$C$553,MATCH(Databackup!A117,Employee_Name,0),0)),\"\",(INDEX('Employee Data'!$C$4:$C$553,MATCH(Databackup!A117,Employee_Name,0))))","v":""},{"$f":"IF(ISERROR(INDEX('Employee Data'!$D$4:$D$553,MATCH(Databackup!A117,Employee_Name,0),0)),\"\",(INDEX('Employee Data'!$D$4:$D$553,MATCH(Databackup!A117,Employee_Name,0))))","v":""},{"$f":"IF(ISERROR(INDEX('Employee Data'!$F$4:$F$553,MATCH(Databackup!A117,Employee_Name,0),0)),\"\",(INDEX('Employee Data'!$F$4:$F$553,MATCH(Databackup!A117,Employee_Name,0))))","v":""},{"$f":"IF(ISERROR(INDEX('Employee Data'!$G$4:$G$553,MATCH(Databackup!A117,Employee_Name,0),0)),\"\",(INDEX('Employee Data'!$G$4:$G$553,MATCH(Databackup!A117,Employee_Name,0))))","v":""},{"$f":"IF(ISERROR(INDEX('Employee Data'!$H$4:$H$553,MATCH(Databackup!A117,Employee_Name,0),0)),\"\",(INDEX('Employee Data'!$H$4:$H$553,MATCH(Databackup!A117,Employee_Name,0))))","v":""},{"$f":"IF(ISERROR(INDEX('Employee Data'!$I$4:$I$553,MATCH(Databackup!A117,Employee_Name,0),0)),\"\",(INDEX('Employee Data'!$I$4:$I$553,MATCH(Databackup!A117,Employee_Name,0))))","v":""},{"$f":"IF(ISERROR(INDEX('Employee Data'!$J$4:$J$553,MATCH(Databackup!A117,Employee_Name,0),0)),\"\",(INDEX('Employee Data'!J$4:$J$553,MATCH(Databackup!A117,Employee_Name,0))))","v":""},{"$f":"IF(ISERROR(INDEX('Employee Data'!$K$4:$K$553,MATCH(Databackup!A117,Employee_Name,0),0)),\"\",(INDEX('Employee Data'!$K$4:$K$553,MATCH(Databackup!A117,Employee_Name,0))))","v":""},{"$f":"IF(ISERROR(INDEX('Employee Data'!$L$4:$L$553,MATCH(Databackup!A117,Employee_Name,0),0)),\"\",(INDEX('Employee Data'!$L$4:$L$553,MATCH(Databackup!A117,Employee_Name,0))))","v":""},{"$f":"IF(ISERROR(INDEX('Employee Data'!$M$4:$M$553,MATCH(Databackup!A117,Employee_Name,0),0)),\"\",(INDEX('Employee Data'!$M$4:$M$553,MATCH(Databackup!A117,Employee_Name,0))))","v":""},{"$f":"IF(ISERROR(INDEX('Employee Data'!$N$4:$N$553,MATCH(Databackup!A117,Employee_Name,0),0)),\"\",(INDEX('Employee Data'!$N$4:$N$553,MATCH(Databackup!A117,Employee_Name,0))))","v":""},{"$f":"IF(ISERROR(INDEX('Employee Data'!$O$4:$O$553,MATCH(Databackup!A117,Employee_Name,0),0)),\"\",(INDEX('Employee Data'!$O$4:$O$553,MATCH(Databackup!A117,Employee_Name,0))))","v":""}]
[{"$f":"INDEX(Employee_Name,MATCH(SMALL(IF($A$1='Employee Data'!$I$4:$I$553,'Employee Data'!$B$4:$B$553,\"\"),ROW('Employee Data'!A116)),IF($A$1='Employee Data'!$I$4:$I$553,'Employee Data'!$B$4:$B$553,\"\"),0))","v":{"$error":"#NUM!"}},{"$f":"IF(ISERROR(INDEX('Employee Data'!$B$4:$B$553,MATCH(Databackup!A118,Employee_Name,0),0)),\"\",(INDEX('Employee Data'!$B$4:$B$553,MATCH(Databackup!A118,Employee_Name,0))))","v":""},{"$f":"IF(ISERROR(INDEX('Employee Data'!$C$4:$C$553,MATCH(Databackup!A118,Employee_Name,0),0)),\"\",(INDEX('Employee Data'!$C$4:$C$553,MATCH(Databackup!A118,Employee_Name,0))))","v":""},{"$f":"IF(ISERROR(INDEX('Employee Data'!$D$4:$D$553,MATCH(Databackup!A118,Employee_Name,0),0)),\"\",(INDEX('Employee Data'!$D$4:$D$553,MATCH(Databackup!A118,Employee_Name,0))))","v":""},{"$f":"IF(ISERROR(INDEX('Employee Data'!$F$4:$F$553,MATCH(Databackup!A118,Employee_Name,0),0)),\"\",(INDEX('Employee Data'!$F$4:$F$553,MATCH(Databackup!A118,Employee_Name,0))))","v":""},{"$f":"IF(ISERROR(INDEX('Employee Data'!$G$4:$G$553,MATCH(Databackup!A118,Employee_Name,0),0)),\"\",(INDEX('Employee Data'!$G$4:$G$553,MATCH(Databackup!A118,Employee_Name,0))))","v":""},{"$f":"IF(ISERROR(INDEX('Employee Data'!$H$4:$H$553,MATCH(Databackup!A118,Employee_Name,0),0)),\"\",(INDEX('Employee Data'!$H$4:$H$553,MATCH(Databackup!A118,Employee_Name,0))))","v":""},{"$f":"IF(ISERROR(INDEX('Employee Data'!$I$4:$I$553,MATCH(Databackup!A118,Employee_Name,0),0)),\"\",(INDEX('Employee Data'!$I$4:$I$553,MATCH(Databackup!A118,Employee_Name,0))))","v":""},{"$f":"IF(ISERROR(INDEX('Employee Data'!$J$4:$J$553,MATCH(Databackup!A118,Employee_Name,0),0)),\"\",(INDEX('Employee Data'!J$4:$J$553,MATCH(Databackup!A118,Employee_Name,0))))","v":""},{"$f":"IF(ISERROR(INDEX('Employee Data'!$K$4:$K$553,MATCH(Databackup!A118,Employee_Name,0),0)),\"\",(INDEX('Employee Data'!$K$4:$K$553,MATCH(Databackup!A118,Employee_Name,0))))","v":""},{"$f":"IF(ISERROR(INDEX('Employee Data'!$L$4:$L$553,MATCH(Databackup!A118,Employee_Name,0),0)),\"\",(INDEX('Employee Data'!$L$4:$L$553,MATCH(Databackup!A118,Employee_Name,0))))","v":""},{"$f":"IF(ISERROR(INDEX('Employee Data'!$M$4:$M$553,MATCH(Databackup!A118,Employee_Name,0),0)),\"\",(INDEX('Employee Data'!$M$4:$M$553,MATCH(Databackup!A118,Employee_Name,0))))","v":""},{"$f":"IF(ISERROR(INDEX('Employee Data'!$N$4:$N$553,MATCH(Databackup!A118,Employee_Name,0),0)),\"\",(INDEX('Employee Data'!$N$4:$N$553,MATCH(Databackup!A118,Employee_Name,0))))","v":""},{"$f":"IF(ISERROR(INDEX('Employee Data'!$O$4:$O$553,MATCH(Databackup!A118,Employee_Name,0),0)),\"\",(INDEX('Employee Data'!$O$4:$O$553,MATCH(Databackup!A118,Employee_Name,0))))","v":""}]
[{"$f":"INDEX(Employee_Name,MATCH(SMALL(IF($A$1='Employee Data'!$I$4:$I$553,'Employee Data'!$B$4:$B$553,\"\"),ROW('Employee Data'!A117)),IF($A$1='Employee Data'!$I$4:$I$553,'Employee Data'!$B$4:$B$553,\"\"),0))","v":{"$error":"#NUM!"}},{"$f":"IF(ISERROR(INDEX('Employee Data'!$B$4:$B$553,MATCH(Databackup!A119,Employee_Name,0),0)),\"\",(INDEX('Employee Data'!$B$4:$B$553,MATCH(Databackup!A119,Employee_Name,0))))","v":""},{"$f":"IF(ISERROR(INDEX('Employee Data'!$C$4:$C$553,MATCH(Databackup!A119,Employee_Name,0),0)),\"\",(INDEX('Employee Data'!$C$4:$C$553,MATCH(Databackup!A119,Employee_Name,0))))","v":""},{"$f":"IF(ISERROR(INDEX('Employee Data'!$D$4:$D$553,MATCH(Databackup!A119,Employee_Name,0),0)),\"\",(INDEX('Employee Data'!$D$4:$D$553,MATCH(Databackup!A119,Employee_Name,0))))","v":""},{"$f":"IF(ISERROR(INDEX('Employee Data'!$F$4:$F$553,MATCH(Databackup!A119,Employee_Name,0),0)),\"\",(INDEX('Employee Data'!$F$4:$F$553,MATCH(Databackup!A119,Employee_Name,0))))","v":""},{"$f":"IF(ISERROR(INDEX('Employee Data'!$G$4:$G$553,MATCH(Databackup!A119,Employee_Name,0),0)),\"\",(INDEX('Employee Data'!$G$4:$G$553,MATCH(Databackup!A119,Employee_Name,0))))","v":""},{"$f":"IF(ISERROR(INDEX('Employee Data'!$H$4:$H$553,MATCH(Databackup!A119,Employee_Name,0),0)),\"\",(INDEX('Employee Data'!$H$4:$H$553,MATCH(Databackup!A119,Employee_Name,0))))","v":""},{"$f":"IF(ISERROR(INDEX('Employee Data'!$I$4:$I$553,MATCH(Databackup!A119,Employee_Name,0),0)),\"\",(INDEX('Employee Data'!$I$4:$I$553,MATCH(Databackup!A119,Employee_Name,0))))","v":""},{"$f":"IF(ISERROR(INDEX('Employee Data'!$J$4:$J$553,MATCH(Databackup!A119,Employee_Name,0),0)),\"\",(INDEX('Employee Data'!J$4:$J$553,MATCH(Databackup!A119,Employee_Name,0))))","v":""},{"$f":"IF(ISERROR(INDEX('Employee Data'!$K$4:$K$553,MATCH(Databackup!A119,Employee_Name,0),0)),\"\",(INDEX('Employee Data'!$K$4:$K$553,MATCH(Databackup!A119,Employee_Name,0))))","v":""},{"$f":"IF(ISERROR(INDEX('Employee Data'!$L$4:$L$553,MATCH(Databackup!A119,Employee_Name,0),0)),\"\",(INDEX('Employee Data'!$L$4:$L$553,MATCH(Databackup!A119,Employee_Name,0))))","v":""},{"$f":"IF(ISERROR(INDEX('Employee Data'!$M$4:$M$553,MATCH(Databackup!A119,Employee_Name,0),0)),\"\",(INDEX('Employee Data'!$M$4:$M$553,MATCH(Databackup!A119,Employee_Name,0))))","v":""},{"$f":"IF(ISERROR(INDEX('Employee Data'!$N$4:$N$553,MATCH(Databackup!A119,Employee_Name,0),0)),\"\",(INDEX('Employee Data'!$N$4:$N$553,MATCH(Databackup!A119,Employee_Name,0))))","v":""},{"$f":"IF(ISERROR(INDEX('Employee Data'!$O$4:$O$553,MATCH(Databackup!A119,Employee_Name,0),0)),\"\",(INDEX('Employee Data'!$O$4:$O$553,MATCH(Databackup!A119,Employee_Name,0))))","v":""}]
[{"$f":"INDEX(Employee_Name,MATCH(SMALL(IF($A$1='Employee Data'!$I$4:$I$553,'Employee Data'!$B$4:$B$553,\"\"),ROW('Employee Data'!A118)),IF($A$1='Employee Data'!$I$4:$I$553,'Employee Data'!$B$4:$B$553,\"\"),0))","v":{"$error":"#NUM!"}},{"$f":"IF(ISERROR(INDEX('Employee Data'!$B$4:$B$553,MATCH(Databackup!A120,Employee_Name,0),0)),\"\",(INDEX('Employee Data'!$B$4:$B$553,MATCH(Databackup!A120,Employee_Name,0))))","v":""},{"$f":"IF(ISERROR(INDEX('Employee Data'!$C$4:$C$553,MATCH(Databackup!A120,Employee_Name,0),0)),\"\",(INDEX('Employee Data'!$C$4:$C$553,MATCH(Databackup!A120,Employee_Name,0))))","v":""},{"$f":"IF(ISERROR(INDEX('Employee Data'!$D$4:$D$553,MATCH(Databackup!A120,Employee_Name,0),0)),\"\",(INDEX('Employee Data'!$D$4:$D$553,MATCH(Databackup!A120,Employee_Name,0))))","v":""},{"$f":"IF(ISERROR(INDEX('Employee Data'!$F$4:$F$553,MATCH(Databackup!A120,Employee_Name,0),0)),\"\",(INDEX('Employee Data'!$F$4:$F$553,MATCH(Databackup!A120,Employee_Name,0))))","v":""},{"$f":"IF(ISERROR(INDEX('Employee Data'!$G$4:$G$553,MATCH(Databackup!A120,Employee_Name,0),0)),\"\",(INDEX('Employee Data'!$G$4:$G$553,MATCH(Databackup!A120,Employee_Name,0))))","v":""},{"$f":"IF(ISERROR(INDEX('Employee Data'!$H$4:$H$553,MATCH(Databackup!A120,Employee_Name,0),0)),\"\",(INDEX('Employee Data'!$H$4:$H$553,MATCH(Databackup!A120,Employee_Name,0))))","v":""},{"$f":"IF(ISERROR(INDEX('Employee Data'!$I$4:$I$553,MATCH(Databackup!A120,Employee_Name,0),0)),\"\",(INDEX('Employee Data'!$I$4:$I$553,MATCH(Databackup!A120,Employee_Name,0))))","v":""},{"$f":"IF(ISERROR(INDEX('Employee Data'!$J$4:$J$553,MATCH(Databackup!A120,Employee_Name,0),0)),\"\",(INDEX('Employee Data'!J$4:$J$553,MATCH(Databackup!A120,Employee_Name,0))))","v":""},{"$f":"IF(ISERROR(INDEX('Employee Data'!$K$4:$K$553,MATCH(Databackup!A120,Employee_Name,0),0)),\"\",(INDEX('Employee Data'!$K$4:$K$553,MATCH(Databackup!A120,Employee_Name,0))))","v":""},{"$f":"IF(ISERROR(INDEX('Employee Data'!$L$4:$L$553,MATCH(Databackup!A120,Employee_Name,0),0)),\"\",(INDEX('Employee Data'!$L$4:$L$553,MATCH(Databackup!A120,Employee_Name,0))))","v":""},{"$f":"IF(ISERROR(INDEX('Employee Data'!$M$4:$M$553,MATCH(Databackup!A120,Employee_Name,0),0)),\"\",(INDEX('Employee Data'!$M$4:$M$553,MATCH(Databackup!A120,Employee_Name,0))))","v":""},{"$f":"IF(ISERROR(INDEX('Employee Data'!$N$4:$N$553,MATCH(Databackup!A120,Employee_Name,0),0)),\"\",(INDEX('Employee Data'!$N$4:$N$553,MATCH(Databackup!A120,Employee_Name,0))))","v":""},{"$f":"IF(ISERROR(INDEX('Employee Data'!$O$4:$O$553,MATCH(Databackup!A120,Employee_Name,0),0)),\"\",(INDEX('Employee Data'!$O$4:$O$553,MATCH(Databackup!A120,Employee_Name,0))))","v":""}]
[{"$f":"INDEX(Employee_Name,MATCH(SMALL(IF($A$1='Employee Data'!$I$4:$I$553,'Employee Data'!$B$4:$B$553,\"\"),ROW('Employee Data'!A119)),IF($A$1='Employee Data'!$I$4:$I$553,'Employee Data'!$B$4:$B$553,\"\"),0))","v":{"$error":"#NUM!"}},{"$f":"IF(ISERROR(INDEX('Employee Data'!$B$4:$B$553,MATCH(Databackup!A121,Employee_Name,0),0)),\"\",(INDEX('Employee Data'!$B$4:$B$553,MATCH(Databackup!A121,Employee_Name,0))))","v":""},{"$f":"IF(ISERROR(INDEX('Employee Data'!$C$4:$C$553,MATCH(Databackup!A121,Employee_Name,0),0)),\"\",(INDEX('Employee Data'!$C$4:$C$553,MATCH(Databackup!A121,Employee_Name,0))))","v":""},{"$f":"IF(ISERROR(INDEX('Employee Data'!$D$4:$D$553,MATCH(Databackup!A121,Employee_Name,0),0)),\"\",(INDEX('Employee Data'!$D$4:$D$553,MATCH(Databackup!A121,Employee_Name,0))))","v":""},{"$f":"IF(ISERROR(INDEX('Employee Data'!$F$4:$F$553,MATCH(Databackup!A121,Employee_Name,0),0)),\"\",(INDEX('Employee Data'!$F$4:$F$553,MATCH(Databackup!A121,Employee_Name,0))))","v":""},{"$f":"IF(ISERROR(INDEX('Employee Data'!$G$4:$G$553,MATCH(Databackup!A121,Employee_Name,0),0)),\"\",(INDEX('Employee Data'!$G$4:$G$553,MATCH(Databackup!A121,Employee_Name,0))))","v":""},{"$f":"IF(ISERROR(INDEX('Employee Data'!$H$4:$H$553,MATCH(Databackup!A121,Employee_Name,0),0)),\"\",(INDEX('Employee Data'!$H$4:$H$553,MATCH(Databackup!A121,Employee_Name,0))))","v":""},{"$f":"IF(ISERROR(INDEX('Employee Data'!$I$4:$I$553,MATCH(Databackup!A121,Employee_Name,0),0)),\"\",(INDEX('Employee Data'!$I$4:$I$553,MATCH(Databackup!A121,Employee_Name,0))))","v":""},{"$f":"IF(ISERROR(INDEX('Employee Data'!$J$4:$J$553,MATCH(Databackup!A121,Employee_Name,0),0)),\"\",(INDEX('Employee Data'!J$4:$J$553,MATCH(Databackup!A121,Employee_Name,0))))","v":""},{"$f":"IF(ISERROR(INDEX('Employee Data'!$K$4:$K$553,MATCH(Databackup!A121,Employee_Name,0),0)),\"\",(INDEX('Employee Data'!$K$4:$K$553,MATCH(Databackup!A121,Employee_Name,0))))","v":""},{"$f":"IF(ISERROR(INDEX('Employee Data'!$L$4:$L$553,MATCH(Databackup!A121,Employee_Name,0),0)),\"\",(INDEX('Employee Data'!$L$4:$L$553,MATCH(Databackup!A121,Employee_Name,0))))","v":""},{"$f":"IF(ISERROR(INDEX('Employee Data'!$M$4:$M$553,MATCH(Databackup!A121,Employee_Name,0),0)),\"\",(INDEX('Employee Data'!$M$4:$M$553,MATCH(Databackup!A121,Employee_Name,0))))","v":""},{"$f":"IF(ISERROR(INDEX('Employee Data'!$N$4:$N$553,MATCH(Databackup!A121,Employee_Name,0),0)),\"\",(INDEX('Employee Data'!$N$4:$N$553,MATCH(Databackup!A121,Employee_Name,0))))","v":""},{"$f":"IF(ISERROR(INDEX('Employee Data'!$O$4:$O$553,MATCH(Databackup!A121,Employee_Name,0),0)),\"\",(INDEX('Employee Data'!$O$4:$O$553,MATCH(Databackup!A121,Employee_Name,0))))","v":""}]
[{"$f":"INDEX(Employee_Name,MATCH(SMALL(IF($A$1='Employee Data'!$I$4:$I$553,'Employee Data'!$B$4:$B$553,\"\"),ROW('Employee Data'!A120)),IF($A$1='Employee Data'!$I$4:$I$553,'Employee Data'!$B$4:$B$553,\"\"),0))","v":{"$error":"#NUM!"}},{"$f":"IF(ISERROR(INDEX('Employee Data'!$B$4:$B$553,MATCH(Databackup!A122,Employee_Name,0),0)),\"\",(INDEX('Employee Data'!$B$4:$B$553,MATCH(Databackup!A122,Employee_Name,0))))","v":""},{"$f":"IF(ISERROR(INDEX('Employee Data'!$C$4:$C$553,MATCH(Databackup!A122,Employee_Name,0),0)),\"\",(INDEX('Employee Data'!$C$4:$C$553,MATCH(Databackup!A122,Employee_Name,0))))","v":""},{"$f":"IF(ISERROR(INDEX('Employee Data'!$D$4:$D$553,MATCH(Databackup!A122,Employee_Name,0),0)),\"\",(INDEX('Employee Data'!$D$4:$D$553,MATCH(Databackup!A122,Employee_Name,0))))","v":""},{"$f":"IF(ISERROR(INDEX('Employee Data'!$F$4:$F$553,MATCH(Databackup!A122,Employee_Name,0),0)),\"\",(INDEX('Employee Data'!$F$4:$F$553,MATCH(Databackup!A122,Employee_Name,0))))","v":""},{"$f":"IF(ISERROR(INDEX('Employee Data'!$G$4:$G$553,MATCH(Databackup!A122,Employee_Name,0),0)),\"\",(INDEX('Employee Data'!$G$4:$G$553,MATCH(Databackup!A122,Employee_Name,0))))","v":""},{"$f":"IF(ISERROR(INDEX('Employee Data'!$H$4:$H$553,MATCH(Databackup!A122,Employee_Name,0),0)),\"\",(INDEX('Employee Data'!$H$4:$H$553,MATCH(Databackup!A122,Employee_Name,0))))","v":""},{"$f":"IF(ISERROR(INDEX('Employee Data'!$I$4:$I$553,MATCH(Databackup!A122,Employee_Name,0),0)),\"\",(INDEX('Employee Data'!$I$4:$I$553,MATCH(Databackup!A122,Employee_Name,0))))","v":""},{"$f":"IF(ISERROR(INDEX('Employee Data'!$J$4:$J$553,MATCH(Databackup!A122,Employee_Name,0),0)),\"\",(INDEX('Employee Data'!J$4:$J$553,MATCH(Databackup!A122,Employee_Name,0))))","v":""},{"$f":"IF(ISERROR(INDEX('Employee Data'!$K$4:$K$553,MATCH(Databackup!A122,Employee_Name,0),0)),\"\",(INDEX('Employee Data'!$K$4:$K$553,MATCH(Databackup!A122,Employee_Name,0))))","v":""},{"$f":"IF(ISERROR(INDEX('Employee Data'!$L$4:$L$553,MATCH(Databackup!A122,Employee_Name,0),0)),\"\",(INDEX('Employee Data'!$L$4:$L$553,MATCH(Databackup!A122,Employee_Name,0))))","v":""},{"$f":"IF(ISERROR(INDEX('Employee Data'!$M$4:$M$553,MATCH(Databackup!A122,Employee_Name,0),0)),\"\",(INDEX('Employee Data'!$M$4:$M$553,MATCH(Databackup!A122,Employee_Name,0))))","v":""},{"$f":"IF(ISERROR(INDEX('Employee Data'!$N$4:$N$553,MATCH(Databackup!A122,Employee_Name,0),0)),\"\",(INDEX('Employee Data'!$N$4:$N$553,MATCH(Databackup!A122,Employee_Name,0))))","v":""},{"$f":"IF(ISERROR(INDEX('Employee Data'!$O$4:$O$553,MATCH(Databackup!A122,Employee_Name,0),0)),\"\",(INDEX('Employee Data'!$O$4:$O$553,MATCH(Databackup!A122,Employee_Name,0))))","v":""}]
[{"$f":"INDEX(Employee_Name,MATCH(SMALL(IF($A$1='Employee Data'!$I$4:$I$553,'Employee Data'!$B$4:$B$553,\"\"),ROW('Employee Data'!A121)),IF($A$1='Employee Data'!$I$4:$I$553,'Employee Data'!$B$4:$B$553,\"\"),0))","v":{"$error":"#NUM!"}},{"$f":"IF(ISERROR(INDEX('Employee Data'!$B$4:$B$553,MATCH(Databackup!A123,Employee_Name,0),0)),\"\",(INDEX('Employee Data'!$B$4:$B$553,MATCH(Databackup!A123,Employee_Name,0))))","v":""},{"$f":"IF(ISERROR(INDEX('Employee Data'!$C$4:$C$553,MATCH(Databackup!A123,Employee_Name,0),0)),\"\",(INDEX('Employee Data'!$C$4:$C$553,MATCH(Databackup!A123,Employee_Name,0))))","v":""},{"$f":"IF(ISERROR(INDEX('Employee Data'!$D$4:$D$553,MATCH(Databackup!A123,Employee_Name,0),0)),\"\",(INDEX('Employee Data'!$D$4:$D$553,MATCH(Databackup!A123,Employee_Name,0))))","v":""},{"$f":"IF(ISERROR(INDEX('Employee Data'!$F$4:$F$553,MATCH(Databackup!A123,Employee_Name,0),0)),\"\",(INDEX('Employee Data'!$F$4:$F$553,MATCH(Databackup!A123,Employee_Name,0))))","v":""},{"$f":"IF(ISERROR(INDEX('Employee Data'!$G$4:$G$553,MATCH(Databackup!A123,Employee_Name,0),0)),\"\",(INDEX('Employee Data'!$G$4:$G$553,MATCH(Databackup!A123,Employee_Name,0))))","v":""},{"$f":"IF(ISERROR(INDEX('Employee Data'!$H$4:$H$553,MATCH(Databackup!A123,Employee_Name,0),0)),\"\",(INDEX('Employee Data'!$H$4:$H$553,MATCH(Databackup!A123,Employee_Name,0))))","v":""},{"$f":"IF(ISERROR(INDEX('Employee Data'!$I$4:$I$553,MATCH(Databackup!A123,Employee_Name,0),0)),\"\",(INDEX('Employee Data'!$I$4:$I$553,MATCH(Databackup!A123,Employee_Name,0))))","v":""},{"$f":"IF(ISERROR(INDEX('Employee Data'!$J$4:$J$553,MATCH(Databackup!A123,Employee_Name,0),0)),\"\",(INDEX('Employee Data'!J$4:$J$553,MATCH(Databackup!A123,Employee_Name,0))))","v":""},{"$f":"IF(ISERROR(INDEX('Employee Data'!$K$4:$K$553,MATCH(Databackup!A123,Employee_Name,0),0)),\"\",(INDEX('Employee Data'!$K$4:$K$553,MATCH(Databackup!A123,Employee_Name,0))))","v":""},{"$f":"IF(ISERROR(INDEX('Employee Data'!$L$4:$L$553,MATCH(Databackup!A123,Employee_Name,0),0)),\"\",(INDEX('Employee Data'!$L$4:$L$553,MATCH(Databackup!A123,Employee_Name,0))))","v":""},{"$f":"IF(ISERROR(INDEX('Employee Data'!$M$4:$M$553,MATCH(Databackup!A123,Employee_Name,0),0)),\"\",(INDEX('Employee Data'!$M$4:$M$553,MATCH(Databackup!A123,Employee_Name,0))))","v":""},{"$f":"IF(ISERROR(INDEX('Employee Data'!$N$4:$N$553,MATCH(Databackup!A123,Employee_Name,0),0)),\"\",(INDEX('Employee Data'!$N$4:$N$553,MATCH(Databackup!A123,Employee_Name,0))))","v":""},{"$f":"IF(ISERROR(INDEX('Employee Data'!$O$4:$O$553,MATCH(Databackup!A123,Employee_Name,0),0)),\"\",(INDEX('Employee Data'!$O$4:$O$553,MATCH(Databackup!A123,Employee_Name,0))))","v":""}]
[{"$f":"INDEX(Employee_Name,MATCH(SMALL(IF($A$1='Employee Data'!$I$4:$I$553,'Employee Data'!$B$4:$B$553,\"\"),ROW('Employee Data'!A122)),IF($A$1='Employee Data'!$I$4:$I$553,'Employee Data'!$B$4:$B$553,\"\"),0))","v":{"$error":"#NUM!"}},{"$f":"IF(ISERROR(INDEX('Employee Data'!$B$4:$B$553,MATCH(Databackup!A124,Employee_Name,0),0)),\"\",(INDEX('Employee Data'!$B$4:$B$553,MATCH(Databackup!A124,Employee_Name,0))))","v":""},{"$f":"IF(ISERROR(INDEX('Employee Data'!$C$4:$C$553,MATCH(Databackup!A124,Employee_Name,0),0)),\"\",(INDEX('Employee Data'!$C$4:$C$553,MATCH(Databackup!A124,Employee_Name,0))))","v":""},{"$f":"IF(ISERROR(INDEX('Employee Data'!$D$4:$D$553,MATCH(Databackup!A124,Employee_Name,0),0)),\"\",(INDEX('Employee Data'!$D$4:$D$553,MATCH(Databackup!A124,Employee_Name,0))))","v":""},{"$f":"IF(ISERROR(INDEX('Employee Data'!$F$4:$F$553,MATCH(Databackup!A124,Employee_Name,0),0)),\"\",(INDEX('Employee Data'!$F$4:$F$553,MATCH(Databackup!A124,Employee_Name,0))))","v":""},{"$f":"IF(ISERROR(INDEX('Employee Data'!$G$4:$G$553,MATCH(Databackup!A124,Employee_Name,0),0)),\"\",(INDEX('Employee Data'!$G$4:$G$553,MATCH(Databackup!A124,Employee_Name,0))))","v":""},{"$f":"IF(ISERROR(INDEX('Employee Data'!$H$4:$H$553,MATCH(Databackup!A124,Employee_Name,0),0)),\"\",(INDEX('Employee Data'!$H$4:$H$553,MATCH(Databackup!A124,Employee_Name,0))))","v":""},{"$f":"IF(ISERROR(INDEX('Employee Data'!$I$4:$I$553,MATCH(Databackup!A124,Employee_Name,0),0)),\"\",(INDEX('Employee Data'!$I$4:$I$553,MATCH(Databackup!A124,Employee_Name,0))))","v":""},{"$f":"IF(ISERROR(INDEX('Employee Data'!$J$4:$J$553,MATCH(Databackup!A124,Employee_Name,0),0)),\"\",(INDEX('Employee Data'!J$4:$J$553,MATCH(Databackup!A124,Employee_Name,0))))","v":""},{"$f":"IF(ISERROR(INDEX('Employee Data'!$K$4:$K$553,MATCH(Databackup!A124,Employee_Name,0),0)),\"\",(INDEX('Employee Data'!$K$4:$K$553,MATCH(Databackup!A124,Employee_Name,0))))","v":""},{"$f":"IF(ISERROR(INDEX('Employee Data'!$L$4:$L$553,MATCH(Databackup!A124,Employee_Name,0),0)),\"\",(INDEX('Employee Data'!$L$4:$L$553,MATCH(Databackup!A124,Employee_Name,0))))","v":""},{"$f":"IF(ISERROR(INDEX('Employee Data'!$M$4:$M$553,MATCH(Databackup!A124,Employee_Name,0),0)),\"\",(INDEX('Employee Data'!$M$4:$M$553,MATCH(Databackup!A124,Employee_Name,0))))","v":""},{"$f":"IF(ISERROR(INDEX('Employee Data'!$N$4:$N$553,MATCH(Databackup!A124,Employee_Name,0),0)),\"\",(INDEX('Employee Data'!$N$4:$N$553,MATCH(Databackup!A124,Employee_Name,0))))","v":""},{"$f":"IF(ISERROR(INDEX('Employee Data'!$O$4:$O$553,MATCH(Databackup!A124,Employee_Name,0),0)),\"\",(INDEX('Employee Data'!$O$4:$O$553,MATCH(Databackup!A124,Employee_Name,0))))","v":""}]
[{"$f":"INDEX(Employee_Name,MATCH(SMALL(IF($A$1='Employee Data'!$I$4:$I$553,'Employee Data'!$B$4:$B$553,\"\"),ROW('Employee Data'!A123)),IF($A$1='Employee Data'!$I$4:$I$553,'Employee Data'!$B$4:$B$553,\"\"),0))","v":{"$error":"#NUM!"}},{"$f":"IF(ISERROR(INDEX('Employee Data'!$B$4:$B$553,MATCH(Databackup!A125,Employee_Name,0),0)),\"\",(INDEX('Employee Data'!$B$4:$B$553,MATCH(Databackup!A125,Employee_Name,0))))","v":""},{"$f":"IF(ISERROR(INDEX('Employee Data'!$C$4:$C$553,MATCH(Databackup!A125,Employee_Name,0),0)),\"\",(INDEX('Employee Data'!$C$4:$C$553,MATCH(Databackup!A125,Employee_Name,0))))","v":""},{"$f":"IF(ISERROR(INDEX('Employee Data'!$D$4:$D$553,MATCH(Databackup!A125,Employee_Name,0),0)),\"\",(INDEX('Employee Data'!$D$4:$D$553,MATCH(Databackup!A125,Employee_Name,0))))","v":""},{"$f":"IF(ISERROR(INDEX('Employee Data'!$F$4:$F$553,MATCH(Databackup!A125,Employee_Name,0),0)),\"\",(INDEX('Employee Data'!$F$4:$F$553,MATCH(Databackup!A125,Employee_Name,0))))","v":""},{"$f":"IF(ISERROR(INDEX('Employee Data'!$G$4:$G$553,MATCH(Databackup!A125,Employee_Name,0),0)),\"\",(INDEX('Employee Data'!$G$4:$G$553,MATCH(Databackup!A125,Employee_Name,0))))","v":""},{"$f":"IF(ISERROR(INDEX('Employee Data'!$H$4:$H$553,MATCH(Databackup!A125,Employee_Name,0),0)),\"\",(INDEX('Employee Data'!$H$4:$H$553,MATCH(Databackup!A125,Employee_Name,0))))","v":""},{"$f":"IF(ISERROR(INDEX('Employee Data'!$I$4:$I$553,MATCH(Databackup!A125,Employee_Name,0),0)),\"\",(INDEX('Employee Data'!$I$4:$I$553,MATCH(Databackup!A125,Employee_Name,0))))","v":""},{"$f":"IF(ISERROR(INDEX('Employee Data'!$J$4:$J$553,MATCH(Databackup!A125,Employee_Name,0),0)),\"\",(INDEX('Employee Data'!J$4:$J$553,MATCH(Databackup!A125,Employee_Name,0))))","v":""},{"$f":"IF(ISERROR(INDEX('Employee Data'!$K$4:$K$553,MATCH(Databackup!A125,Employee_Name,0),0)),\"\",(INDEX('Employee Data'!$K$4:$K$553,MATCH(Databackup!A125,Employee_Name,0))))","v":""},{"$f":"IF(ISERROR(INDEX('Employee Data'!$L$4:$L$553,MATCH(Databackup!A125,Employee_Name,0),0)),\"\",(INDEX('Employee Data'!$L$4:$L$553,MATCH(Databackup!A125,Employee_Name,0))))","v":""},{"$f":"IF(ISERROR(INDEX('Employee Data'!$M$4:$M$553,MATCH(Databackup!A125,Employee_Name,0),0)),\"\",(INDEX('Employee Data'!$M$4:$M$553,MATCH(Databackup!A125,Employee_Name,0))))","v":""},{"$f":"IF(ISERROR(INDEX('Employee Data'!$N$4:$N$553,MATCH(Databackup!A125,Employee_Name,0),0)),\"\",(INDEX('Employee Data'!$N$4:$N$553,MATCH(Databackup!A125,Employee_Name,0))))","v":""},{"$f":"IF(ISERROR(INDEX('Employee Data'!$O$4:$O$553,MATCH(Databackup!A125,Employee_Name,0),0)),\"\",(INDEX('Employee Data'!$O$4:$O$553,MATCH(Databackup!A125,Employee_Name,0))))","v":""}]
[{"$f":"INDEX(Employee_Name,MATCH(SMALL(IF($A$1='Employee Data'!$I$4:$I$553,'Employee Data'!$B$4:$B$553,\"\"),ROW('Employee Data'!A124)),IF($A$1='Employee Data'!$I$4:$I$553,'Employee Data'!$B$4:$B$553,\"\"),0))","v":{"$error":"#NUM!"}},{"$f":"IF(ISERROR(INDEX('Employee Data'!$B$4:$B$553,MATCH(Databackup!A126,Employee_Name,0),0)),\"\",(INDEX('Employee Data'!$B$4:$B$553,MATCH(Databackup!A126,Employee_Name,0))))","v":""},{"$f":"IF(ISERROR(INDEX('Employee Data'!$C$4:$C$553,MATCH(Databackup!A126,Employee_Name,0),0)),\"\",(INDEX('Employee Data'!$C$4:$C$553,MATCH(Databackup!A126,Employee_Name,0))))","v":""},{"$f":"IF(ISERROR(INDEX('Employee Data'!$D$4:$D$553,MATCH(Databackup!A126,Employee_Name,0),0)),\"\",(INDEX('Employee Data'!$D$4:$D$553,MATCH(Databackup!A126,Employee_Name,0))))","v":""},{"$f":"IF(ISERROR(INDEX('Employee Data'!$F$4:$F$553,MATCH(Databackup!A126,Employee_Name,0),0)),\"\",(INDEX('Employee Data'!$F$4:$F$553,MATCH(Databackup!A126,Employee_Name,0))))","v":""},{"$f":"IF(ISERROR(INDEX('Employee Data'!$G$4:$G$553,MATCH(Databackup!A126,Employee_Name,0),0)),\"\",(INDEX('Employee Data'!$G$4:$G$553,MATCH(Databackup!A126,Employee_Name,0))))","v":""},{"$f":"IF(ISERROR(INDEX('Employee Data'!$H$4:$H$553,MATCH(Databackup!A126,Employee_Name,0),0)),\"\",(INDEX('Employee Data'!$H$4:$H$553,MATCH(Databackup!A126,Employee_Name,0))))","v":""},{"$f":"IF(ISERROR(INDEX('Employee Data'!$I$4:$I$553,MATCH(Databackup!A126,Employee_Name,0),0)),\"\",(INDEX('Employee Data'!$I$4:$I$553,MATCH(Databackup!A126,Employee_Name,0))))","v":""},{"$f":"IF(ISERROR(INDEX('Employee Data'!$J$4:$J$553,MATCH(Databackup!A126,Employee_Name,0),0)),\"\",(INDEX('Employee Data'!J$4:$J$553,MATCH(Databackup!A126,Employee_Name,0))))","v":""},{"$f":"IF(ISERROR(INDEX('Employee Data'!$K$4:$K$553,MATCH(Databackup!A126,Employee_Name,0),0)),\"\",(INDEX('Employee Data'!$K$4:$K$553,MATCH(Databackup!A126,Employee_Name,0))))","v":""},{"$f":"IF(ISERROR(INDEX('Employee Data'!$L$4:$L$553,MATCH(Databackup!A126,Employee_Name,0),0)),\"\",(INDEX('Employee Data'!$L$4:$L$553,MATCH(Databackup!A126,Employee_Name,0))))","v":""},{"$f":"IF(ISERROR(INDEX('Employee Data'!$M$4:$M$553,MATCH(Databackup!A126,Employee_Name,0),0)),\"\",(INDEX('Employee Data'!$M$4:$M$553,MATCH(Databackup!A126,Employee_Name,0))))","v":""},{"$f":"IF(ISERROR(INDEX('Employee Data'!$N$4:$N$553,MATCH(Databackup!A126,Employee_Name,0),0)),\"\",(INDEX('Employee Data'!$N$4:$N$553,MATCH(Databackup!A126,Employee_Name,0))))","v":""},{"$f":"IF(ISERROR(INDEX('Employee Data'!$O$4:$O$553,MATCH(Databackup!A126,Employee_Name,0),0)),\"\",(INDEX('Employee Data'!$O$4:$O$553,MATCH(Databackup!A126,Employee_Name,0))))","v":""}]
[{"$f":"INDEX(Employee_Name,MATCH(SMALL(IF($A$1='Employee Data'!$I$4:$I$553,'Employee Data'!$B$4:$B$553,\"\"),ROW('Employee Data'!A125)),IF($A$1='Employee Data'!$I$4:$I$553,'Employee Data'!$B$4:$B$553,\"\"),0))","v":{"$error":"#NUM!"}},{"$f":"IF(ISERROR(INDEX('Employee Data'!$B$4:$B$553,MATCH(Databackup!A127,Employee_Name,0),0)),\"\",(INDEX('Employee Data'!$B$4:$B$553,MATCH(Databackup!A127,Employee_Name,0))))","v":""},{"$f":"IF(ISERROR(INDEX('Employee Data'!$C$4:$C$553,MATCH(Databackup!A127,Employee_Name,0),0)),\"\",(INDEX('Employee Data'!$C$4:$C$553,MATCH(Databackup!A127,Employee_Name,0))))","v":""},{"$f":"IF(ISERROR(INDEX('Employee Data'!$D$4:$D$553,MATCH(Databackup!A127,Employee_Name,0),0)),\"\",(INDEX('Employee Data'!$D$4:$D$553,MATCH(Databackup!A127,Employee_Name,0))))","v":""},{"$f":"IF(ISERROR(INDEX('Employee Data'!$F$4:$F$553,MATCH(Databackup!A127,Employee_Name,0),0)),\"\",(INDEX('Employee Data'!$F$4:$F$553,MATCH(Databackup!A127,Employee_Name,0))))","v":""},{"$f":"IF(ISERROR(INDEX('Employee Data'!$G$4:$G$553,MATCH(Databackup!A127,Employee_Name,0),0)),\"\",(INDEX('Employee Data'!$G$4:$G$553,MATCH(Databackup!A127,Employee_Name,0))))","v":""},{"$f":"IF(ISERROR(INDEX('Employee Data'!$H$4:$H$553,MATCH(Databackup!A127,Employee_Name,0),0)),\"\",(INDEX('Employee Data'!$H$4:$H$553,MATCH(Databackup!A127,Employee_Name,0))))","v":""},{"$f":"IF(ISERROR(INDEX('Employee Data'!$I$4:$I$553,MATCH(Databackup!A127,Employee_Name,0),0)),\"\",(INDEX('Employee Data'!$I$4:$I$553,MATCH(Databackup!A127,Employee_Name,0))))","v":""},{"$f":"IF(ISERROR(INDEX('Employee Data'!$J$4:$J$553,MATCH(Databackup!A127,Employee_Name,0),0)),\"\",(INDEX('Employee Data'!J$4:$J$553,MATCH(Databackup!A127,Employee_Name,0))))","v":""},{"$f":"IF(ISERROR(INDEX('Employee Data'!$K$4:$K$553,MATCH(Databackup!A127,Employee_Name,0),0)),\"\",(INDEX('Employee Data'!$K$4:$K$553,MATCH(Databackup!A127,Employee_Name,0))))","v":""},{"$f":"IF(ISERROR(INDEX('Employee Data'!$L$4:$L$553,MATCH(Databackup!A127,Employee_Name,0),0)),\"\",(INDEX('Employee Data'!$L$4:$L$553,MATCH(Databackup!A127,Employee_Name,0))))","v":""},{"$f":"IF(ISERROR(INDEX('Employee Data'!$M$4:$M$553,MATCH(Databackup!A127,Employee_Name,0),0)),\"\",(INDEX('Employee Data'!$M$4:$M$553,MATCH(Databackup!A127,Employee_Name,0))))","v":""},{"$f":"IF(ISERROR(INDEX('Employee Data'!$N$4:$N$553,MATCH(Databackup!A127,Employee_Name,0),0)),\"\",(INDEX('Employee Data'!$N$4:$N$553,MATCH(Databackup!A127,Employee_Name,0))))","v":""},{"$f":"IF(ISERROR(INDEX('Employee Data'!$O$4:$O$553,MATCH(Databackup!A127,Employee_Name,0),0)),\"\",(INDEX('Employee Data'!$O$4:$O$553,MATCH(Databackup!A127,Employee_Name,0))))","v":""}]
[{"$f":"INDEX(Employee_Name,MATCH(SMALL(IF($A$1='Employee Data'!$I$4:$I$553,'Employee Data'!$B$4:$B$553,\"\"),ROW('Employee Data'!A126)),IF($A$1='Employee Data'!$I$4:$I$553,'Employee Data'!$B$4:$B$553,\"\"),0))","v":{"$error":"#NUM!"}},{"$f":"IF(ISERROR(INDEX('Employee Data'!$B$4:$B$553,MATCH(Databackup!A128,Employee_Name,0),0)),\"\",(INDEX('Employee Data'!$B$4:$B$553,MATCH(Databackup!A128,Employee_Name,0))))","v":""},{"$f":"IF(ISERROR(INDEX('Employee Data'!$C$4:$C$553,MATCH(Databackup!A128,Employee_Name,0),0)),\"\",(INDEX('Employee Data'!$C$4:$C$553,MATCH(Databackup!A128,Employee_Name,0))))","v":""},{"$f":"IF(ISERROR(INDEX('Employee Data'!$D$4:$D$553,MATCH(Databackup!A128,Employee_Name,0),0)),\"\",(INDEX('Employee Data'!$D$4:$D$553,MATCH(Databackup!A128,Employee_Name,0))))","v":""},{"$f":"IF(ISERROR(INDEX('Employee Data'!$F$4:$F$553,MATCH(Databackup!A128,Employee_Name,0),0)),\"\",(INDEX('Employee Data'!$F$4:$F$553,MATCH(Databackup!A128,Employee_Name,0))))","v":""},{"$f":"IF(ISERROR(INDEX('Employee Data'!$G$4:$G$553,MATCH(Databackup!A128,Employee_Name,0),0)),\"\",(INDEX('Employee Data'!$G$4:$G$553,MATCH(Databackup!A128,Employee_Name,0))))","v":""},{"$f":"IF(ISERROR(INDEX('Employee Data'!$H$4:$H$553,MATCH(Databackup!A128,Employee_Name,0),0)),\"\",(INDEX('Employee Data'!$H$4:$H$553,MATCH(Databackup!A128,Employee_Name,0))))","v":""},{"$f":"IF(ISERROR(INDEX('Employee Data'!$I$4:$I$553,MATCH(Databackup!A128,Employee_Name,0),0)),\"\",(INDEX('Employee Data'!$I$4:$I$553,MATCH(Databackup!A128,Employee_Name,0))))","v":""},{"$f":"IF(ISERROR(INDEX('Employee Data'!$J$4:$J$553,MATCH(Databackup!A128,Employee_Name,0),0)),\"\",(INDEX('Employee Data'!J$4:$J$553,MATCH(Databackup!A128,Employee_Name,0))))","v":""},{"$f":"IF(ISERROR(INDEX('Employee Data'!$K$4:$K$553,MATCH(Databackup!A128,Employee_Name,0),0)),\"\",(INDEX('Employee Data'!$K$4:$K$553,MATCH(Databackup!A128,Employee_Name,0))))","v":""},{"$f":"IF(ISERROR(INDEX('Employee Data'!$L$4:$L$553,MATCH(Databackup!A128,Employee_Name,0),0)),\"\",(INDEX('Employee Data'!$L$4:$L$553,MATCH(Databackup!A128,Employee_Name,0))))","v":""},{"$f":"IF(ISERROR(INDEX('Employee Data'!$M$4:$M$553,MATCH(Databackup!A128,Employee_Name,0),0)),\"\",(INDEX('Employee Data'!$M$4:$M$553,MATCH(Databackup!A128,Employee_Name,0))))","v":""},{"$f":"IF(ISERROR(INDEX('Employee Data'!$N$4:$N$553,MATCH(Databackup!A128,Employee_Name,0),0)),\"\",(INDEX('Employee Data'!$N$4:$N$553,MATCH(Databackup!A128,Employee_Name,0))))","v":""},{"$f":"IF(ISERROR(INDEX('Employee Data'!$O$4:$O$553,MATCH(Databackup!A128,Employee_Name,0),0)),\"\",(INDEX('Employee Data'!$O$4:$O$553,MATCH(Databackup!A128,Employee_Name,0))))","v":""}]
[{"$f":"INDEX(Employee_Name,MATCH(SMALL(IF($A$1='Employee Data'!$I$4:$I$553,'Employee Data'!$B$4:$B$553,\"\"),ROW('Employee Data'!A127)),IF($A$1='Employee Data'!$I$4:$I$553,'Employee Data'!$B$4:$B$553,\"\"),0))","v":{"$error":"#NUM!"}},{"$f":"IF(ISERROR(INDEX('Employee Data'!$B$4:$B$553,MATCH(Databackup!A129,Employee_Name,0),0)),\"\",(INDEX('Employee Data'!$B$4:$B$553,MATCH(Databackup!A129,Employee_Name,0))))","v":""},{"$f":"IF(ISERROR(INDEX('Employee Data'!$C$4:$C$553,MATCH(Databackup!A129,Employee_Name,0),0)),\"\",(INDEX('Employee Data'!$C$4:$C$553,MATCH(Databackup!A129,Employee_Name,0))))","v":""},{"$f":"IF(ISERROR(INDEX('Employee Data'!$D$4:$D$553,MATCH(Databackup!A129,Employee_Name,0),0)),\"\",(INDEX('Employee Data'!$D$4:$D$553,MATCH(Databackup!A129,Employee_Name,0))))","v":""},{"$f":"IF(ISERROR(INDEX('Employee Data'!$F$4:$F$553,MATCH(Databackup!A129,Employee_Name,0),0)),\"\",(INDEX('Employee Data'!$F$4:$F$553,MATCH(Databackup!A129,Employee_Name,0))))","v":""},{"$f":"IF(ISERROR(INDEX('Employee Data'!$G$4:$G$553,MATCH(Databackup!A129,Employee_Name,0),0)),\"\",(INDEX('Employee Data'!$G$4:$G$553,MATCH(Databackup!A129,Employee_Name,0))))","v":""},{"$f":"IF(ISERROR(INDEX('Employee Data'!$H$4:$H$553,MATCH(Databackup!A129,Employee_Name,0),0)),\"\",(INDEX('Employee Data'!$H$4:$H$553,MATCH(Databackup!A129,Employee_Name,0))))","v":""},{"$f":"IF(ISERROR(INDEX('Employee Data'!$I$4:$I$553,MATCH(Databackup!A129,Employee_Name,0),0)),\"\",(INDEX('Employee Data'!$I$4:$I$553,MATCH(Databackup!A129,Employee_Name,0))))","v":""},{"$f":"IF(ISERROR(INDEX('Employee Data'!$J$4:$J$553,MATCH(Databackup!A129,Employee_Name,0),0)),\"\",(INDEX('Employee Data'!J$4:$J$553,MATCH(Databackup!A129,Employee_Name,0))))","v":""},{"$f":"IF(ISERROR(INDEX('Employee Data'!$K$4:$K$553,MATCH(Databackup!A129,Employee_Name,0),0)),\"\",(INDEX('Employee Data'!$K$4:$K$553,MATCH(Databackup!A129,Employee_Name,0))))","v":""},{"$f":"IF(ISERROR(INDEX('Employee Data'!$L$4:$L$553,MATCH(Databackup!A129,Employee_Name,0),0)),\"\",(INDEX('Employee Data'!$L$4:$L$553,MATCH(Databackup!A129,Employee_Name,0))))","v":""},{"$f":"IF(ISERROR(INDEX('Employee Data'!$M$4:$M$553,MATCH(Databackup!A129,Employee_Name,0),0)),\"\",(INDEX('Employee Data'!$M$4:$M$553,MATCH(Databackup!A129,Employee_Name,0))))","v":""},{"$f":"IF(ISERROR(INDEX('Employee Data'!$N$4:$N$553,MATCH(Databackup!A129,Employee_Name,0),0)),\"\",(INDEX('Employee Data'!$N$4:$N$553,MATCH(Databackup!A129,Employee_Name,0))))","v":""},{"$f":"IF(ISERROR(INDEX('Employee Data'!$O$4:$O$553,MATCH(Databackup!A129,Employee_Name,0),0)),\"\",(INDEX('Employee Data'!$O$4:$O$553,MATCH(Databackup!A129,Employee_Name,0))))","v":""}]
[{"$f":"INDEX(Employee_Name,MATCH(SMALL(IF($A$1='Employee Data'!$I$4:$I$553,'Employee Data'!$B$4:$B$553,\"\"),ROW('Employee Data'!A128)),IF($A$1='Employee Data'!$I$4:$I$553,'Employee Data'!$B$4:$B$553,\"\"),0))","v":{"$error":"#NUM!"}},{"$f":"IF(ISERROR(INDEX('Employee Data'!$B$4:$B$553,MATCH(Databackup!A130,Employee_Name,0),0)),\"\",(INDEX('Employee Data'!$B$4:$B$553,MATCH(Databackup!A130,Employee_Name,0))))","v":""},{"$f":"IF(ISERROR(INDEX('Employee Data'!$C$4:$C$553,MATCH(Databackup!A130,Employee_Name,0),0)),\"\",(INDEX('Employee Data'!$C$4:$C$553,MATCH(Databackup!A130,Employee_Name,0))))","v":""},{"$f":"IF(ISERROR(INDEX('Employee Data'!$D$4:$D$553,MATCH(Databackup!A130,Employee_Name,0),0)),\"\",(INDEX('Employee Data'!$D$4:$D$553,MATCH(Databackup!A130,Employee_Name,0))))","v":""},{"$f":"IF(ISERROR(INDEX('Employee Data'!$F$4:$F$553,MATCH(Databackup!A130,Employee_Name,0),0)),\"\",(INDEX('Employee Data'!$F$4:$F$553,MATCH(Databackup!A130,Employee_Name,0))))","v":""},{"$f":"IF(ISERROR(INDEX('Employee Data'!$G$4:$G$553,MATCH(Databackup!A130,Employee_Name,0),0)),\"\",(INDEX('Employee Data'!$G$4:$G$553,MATCH(Databackup!A130,Employee_Name,0))))","v":""},{"$f":"IF(ISERROR(INDEX('Employee Data'!$H$4:$H$553,MATCH(Databackup!A130,Employee_Name,0),0)),\"\",(INDEX('Employee Data'!$H$4:$H$553,MATCH(Databackup!A130,Employee_Name,0))))","v":""},{"$f":"IF(ISERROR(INDEX('Employee Data'!$I$4:$I$553,MATCH(Databackup!A130,Employee_Name,0),0)),\"\",(INDEX('Employee Data'!$I$4:$I$553,MATCH(Databackup!A130,Employee_Name,0))))","v":""},{"$f":"IF(ISERROR(INDEX('Employee Data'!$J$4:$J$553,MATCH(Databackup!A130,Employee_Name,0),0)),\"\",(INDEX('Employee Data'!J$4:$J$553,MATCH(Databackup!A130,Employee_Name,0))))","v":""},{"$f":"IF(ISERROR(INDEX('Employee Data'!$K$4:$K$553,MATCH(Databackup!A130,Employee_Name,0),0)),\"\",(INDEX('Employee Data'!$K$4:$K$553,MATCH(Databackup!A130,Employee_Name,0))))","v":""},{"$f":"IF(ISERROR(INDEX('Employee Data'!$L$4:$L$553,MATCH(Databackup!A130,Employee_Name,0),0)),\"\",(INDEX('Employee Data'!$L$4:$L$553,MATCH(Databackup!A130,Employee_Name,0))))","v":""},{"$f":"IF(ISERROR(INDEX('Employee Data'!$M$4:$M$553,MATCH(Databackup!A130,Employee_Name,0),0)),\"\",(INDEX('Employee Data'!$M$4:$M$553,MATCH(Databackup!A130,Employee_Name,0))))","v":""},{"$f":"IF(ISERROR(INDEX('Employee Data'!$N$4:$N$553,MATCH(Databackup!A130,Employee_Name,0),0)),\"\",(INDEX('Employee Data'!$N$4:$N$553,MATCH(Databackup!A130,Employee_Name,0))))","v":""},{"$f":"IF(ISERROR(INDEX('Employee Data'!$O$4:$O$553,MATCH(Databackup!A130,Employee_Name,0),0)),\"\",(INDEX('Employee Data'!$O$4:$O$553,MATCH(Databackup!A130,Employee_Name,0))))","v":""}]
[{"$f":"INDEX(Employee_Name,MATCH(SMALL(IF($A$1='Employee Data'!$I$4:$I$553,'Employee Data'!$B$4:$B$553,\"\"),ROW('Employee Data'!A129)),IF($A$1='Employee Data'!$I$4:$I$553,'Employee Data'!$B$4:$B$553,\"\"),0))","v":{"$error":"#NUM!"}},{"$f":"IF(ISERROR(INDEX('Employee Data'!$B$4:$B$553,MATCH(Databackup!A131,Employee_Name,0),0)),\"\",(INDEX('Employee Data'!$B$4:$B$553,MATCH(Databackup!A131,Employee_Name,0))))","v":""},{"$f":"IF(ISERROR(INDEX('Employee Data'!$C$4:$C$553,MATCH(Databackup!A131,Employee_Name,0),0)),\"\",(INDEX('Employee Data'!$C$4:$C$553,MATCH(Databackup!A131,Employee_Name,0))))","v":""},{"$f":"IF(ISERROR(INDEX('Employee Data'!$D$4:$D$553,MATCH(Databackup!A131,Employee_Name,0),0)),\"\",(INDEX('Employee Data'!$D$4:$D$553,MATCH(Databackup!A131,Employee_Name,0))))","v":""},{"$f":"IF(ISERROR(INDEX('Employee Data'!$F$4:$F$553,MATCH(Databackup!A131,Employee_Name,0),0)),\"\",(INDEX('Employee Data'!$F$4:$F$553,MATCH(Databackup!A131,Employee_Name,0))))","v":""},{"$f":"IF(ISERROR(INDEX('Employee Data'!$G$4:$G$553,MATCH(Databackup!A131,Employee_Name,0),0)),\"\",(INDEX('Employee Data'!$G$4:$G$553,MATCH(Databackup!A131,Employee_Name,0))))","v":""},{"$f":"IF(ISERROR(INDEX('Employee Data'!$H$4:$H$553,MATCH(Databackup!A131,Employee_Name,0),0)),\"\",(INDEX('Employee Data'!$H$4:$H$553,MATCH(Databackup!A131,Employee_Name,0))))","v":""},{"$f":"IF(ISERROR(INDEX('Employee Data'!$I$4:$I$553,MATCH(Databackup!A131,Employee_Name,0),0)),\"\",(INDEX('Employee Data'!$I$4:$I$553,MATCH(Databackup!A131,Employee_Name,0))))","v":""},{"$f":"IF(ISERROR(INDEX('Employee Data'!$J$4:$J$553,MATCH(Databackup!A131,Employee_Name,0),0)),\"\",(INDEX('Employee Data'!J$4:$J$553,MATCH(Databackup!A131,Employee_Name,0))))","v":""},{"$f":"IF(ISERROR(INDEX('Employee Data'!$K$4:$K$553,MATCH(Databackup!A131,Employee_Name,0),0)),\"\",(INDEX('Employee Data'!$K$4:$K$553,MATCH(Databackup!A131,Employee_Name,0))))","v":""},{"$f":"IF(ISERROR(INDEX('Employee Data'!$L$4:$L$553,MATCH(Databackup!A131,Employee_Name,0),0)),\"\",(INDEX('Employee Data'!$L$4:$L$553,MATCH(Databackup!A131,Employee_Name,0))))","v":""},{"$f":"IF(ISERROR(INDEX('Employee Data'!$M$4:$M$553,MATCH(Databackup!A131,Employee_Name,0),0)),\"\",(INDEX('Employee Data'!$M$4:$M$553,MATCH(Databackup!A131,Employee_Name,0))))","v":""},{"$f":"IF(ISERROR(INDEX('Employee Data'!$N$4:$N$553,MATCH(Databackup!A131,Employee_Name,0),0)),\"\",(INDEX('Employee Data'!$N$4:$N$553,MATCH(Databackup!A131,Employee_Name,0))))","v":""},{"$f":"IF(ISERROR(INDEX('Employee Data'!$O$4:$O$553,MATCH(Databackup!A131,Employee_Name,0),0)),\"\",(INDEX('Employee Data'!$O$4:$O$553,MATCH(Databackup!A131,Employee_Name,0))))","v":""}]
[{"$f":"INDEX(Employee_Name,MATCH(SMALL(IF($A$1='Employee Data'!$I$4:$I$553,'Employee Data'!$B$4:$B$553,\"\"),ROW('Employee Data'!A130)),IF($A$1='Employee Data'!$I$4:$I$553,'Employee Data'!$B$4:$B$553,\"\"),0))","v":{"$error":"#NUM!"}},{"$f":"IF(ISERROR(INDEX('Employee Data'!$B$4:$B$553,MATCH(Databackup!A132,Employee_Name,0),0)),\"\",(INDEX('Employee Data'!$B$4:$B$553,MATCH(Databackup!A132,Employee_Name,0))))","v":""},{"$f":"IF(ISERROR(INDEX('Employee Data'!$C$4:$C$553,MATCH(Databackup!A132,Employee_Name,0),0)),\"\",(INDEX('Employee Data'!$C$4:$C$553,MATCH(Databackup!A132,Employee_Name,0))))","v":""},{"$f":"IF(ISERROR(INDEX('Employee Data'!$D$4:$D$553,MATCH(Databackup!A132,Employee_Name,0),0)),\"\",(INDEX('Employee Data'!$D$4:$D$553,MATCH(Databackup!A132,Employee_Name,0))))","v":""},{"$f":"IF(ISERROR(INDEX('Employee Data'!$F$4:$F$553,MATCH(Databackup!A132,Employee_Name,0),0)),\"\",(INDEX('Employee Data'!$F$4:$F$553,MATCH(Databackup!A132,Employee_Name,0))))","v":""},{"$f":"IF(ISERROR(INDEX('Employee Data'!$G$4:$G$553,MATCH(Databackup!A132,Employee_Name,0),0)),\"\",(INDEX('Employee Data'!$G$4:$G$553,MATCH(Databackup!A132,Employee_Name,0))))","v":""},{"$f":"IF(ISERROR(INDEX('Employee Data'!$H$4:$H$553,MATCH(Databackup!A132,Employee_Name,0),0)),\"\",(INDEX('Employee Data'!$H$4:$H$553,MATCH(Databackup!A132,Employee_Name,0))))","v":""},{"$f":"IF(ISERROR(INDEX('Employee Data'!$I$4:$I$553,MATCH(Databackup!A132,Employee_Name,0),0)),\"\",(INDEX('Employee Data'!$I$4:$I$553,MATCH(Databackup!A132,Employee_Name,0))))","v":""},{"$f":"IF(ISERROR(INDEX('Employee Data'!$J$4:$J$553,MATCH(Databackup!A132,Employee_Name,0),0)),\"\",(INDEX('Employee Data'!J$4:$J$553,MATCH(Databackup!A132,Employee_Name,0))))","v":""},{"$f":"IF(ISERROR(INDEX('Employee Data'!$K$4:$K$553,MATCH(Databackup!A132,Employee_Name,0),0)),\"\",(INDEX('Employee Data'!$K$4:$K$553,MATCH(Databackup!A132,Employee_Name,0))))","v":""},{"$f":"IF(ISERROR(INDEX('Employee Data'!$L$4:$L$553,MATCH(Databackup!A132,Employee_Name,0),0)),\"\",(INDEX('Employee Data'!$L$4:$L$553,MATCH(Databackup!A132,Employee_Name,0))))","v":""},{"$f":"IF(ISERROR(INDEX('Employee Data'!$M$4:$M$553,MATCH(Databackup!A132,Employee_Name,0),0)),\"\",(INDEX('Employee Data'!$M$4:$M$553,MATCH(Databackup!A132,Employee_Name,0))))","v":""},{"$f":"IF(ISERROR(INDEX('Employee Data'!$N$4:$N$553,MATCH(Databackup!A132,Employee_Name,0),0)),\"\",(INDEX('Employee Data'!$N$4:$N$553,MATCH(Databackup!A132,Employee_Name,0))))","v":""},{"$f":"IF(ISERROR(INDEX('Employee Data'!$O$4:$O$553,MATCH(Databackup!A132,Employee_Name,0),0)),\"\",(INDEX('Employee Data'!$O$4:$O$553,MATCH(Databackup!A132,Employee_Name,0))))","v":""}]
[{"$f":"INDEX(Employee_Name,MATCH(SMALL(IF($A$1='Employee Data'!$I$4:$I$553,'Employee Data'!$B$4:$B$553,\"\"),ROW('Employee Data'!A131)),IF($A$1='Employee Data'!$I$4:$I$553,'Employee Data'!$B$4:$B$553,\"\"),0))","v":{"$error":"#NUM!"}},{"$f":"IF(ISERROR(INDEX('Employee Data'!$B$4:$B$553,MATCH(Databackup!A133,Employee_Name,0),0)),\"\",(INDEX('Employee Data'!$B$4:$B$553,MATCH(Databackup!A133,Employee_Name,0))))","v":""},{"$f":"IF(ISERROR(INDEX('Employee Data'!$C$4:$C$553,MATCH(Databackup!A133,Employee_Name,0),0)),\"\",(INDEX('Employee Data'!$C$4:$C$553,MATCH(Databackup!A133,Employee_Name,0))))","v":""},{"$f":"IF(ISERROR(INDEX('Employee Data'!$D$4:$D$553,MATCH(Databackup!A133,Employee_Name,0),0)),\"\",(INDEX('Employee Data'!$D$4:$D$553,MATCH(Databackup!A133,Employee_Name,0))))","v":""},{"$f":"IF(ISERROR(INDEX('Employee Data'!$F$4:$F$553,MATCH(Databackup!A133,Employee_Name,0),0)),\"\",(INDEX('Employee Data'!$F$4:$F$553,MATCH(Databackup!A133,Employee_Name,0))))","v":""},{"$f":"IF(ISERROR(INDEX('Employee Data'!$G$4:$G$553,MATCH(Databackup!A133,Employee_Name,0),0)),\"\",(INDEX('Employee Data'!$G$4:$G$553,MATCH(Databackup!A133,Employee_Name,0))))","v":""},{"$f":"IF(ISERROR(INDEX('Employee Data'!$H$4:$H$553,MATCH(Databackup!A133,Employee_Name,0),0)),\"\",(INDEX('Employee Data'!$H$4:$H$553,MATCH(Databackup!A133,Employee_Name,0))))","v":""},{"$f":"IF(ISERROR(INDEX('Employee Data'!$I$4:$I$553,MATCH(Databackup!A133,Employee_Name,0),0)),\"\",(INDEX('Employee Data'!$I$4:$I$553,MATCH(Databackup!A133,Employee_Name,0))))","v":""},{"$f":"IF(ISERROR(INDEX('Employee Data'!$J$4:$J$553,MATCH(Databackup!A133,Employee_Name,0),0)),\"\",(INDEX('Employee Data'!J$4:$J$553,MATCH(Databackup!A133,Employee_Name,0))))","v":""},{"$f":"IF(ISERROR(INDEX('Employee Data'!$K$4:$K$553,MATCH(Databackup!A133,Employee_Name,0),0)),\"\",(INDEX('Employee Data'!$K$4:$K$553,MATCH(Databackup!A133,Employee_Name,0))))","v":""},{"$f":"IF(ISERROR(INDEX('Employee Data'!$L$4:$L$553,MATCH(Databackup!A133,Employee_Name,0),0)),\"\",(INDEX('Employee Data'!$L$4:$L$553,MATCH(Databackup!A133,Employee_Name,0))))","v":""},{"$f":"IF(ISERROR(INDEX('Employee Data'!$M$4:$M$553,MATCH(Databackup!A133,Employee_Name,0),0)),\"\",(INDEX('Employee Data'!$M$4:$M$553,MATCH(Databackup!A133,Employee_Name,0))))","v":""},{"$f":"IF(ISERROR(INDEX('Employee Data'!$N$4:$N$553,MATCH(Databackup!A133,Employee_Name,0),0)),\"\",(INDEX('Employee Data'!$N$4:$N$553,MATCH(Databackup!A133,Employee_Name,0))))","v":""},{"$f":"IF(ISERROR(INDEX('Employee Data'!$O$4:$O$553,MATCH(Databackup!A133,Employee_Name,0),0)),\"\",(INDEX('Employee Data'!$O$4:$O$553,MATCH(Databackup!A133,Employee_Name,0))))","v":""}]
[{"$f":"INDEX(Employee_Name,MATCH(SMALL(IF($A$1='Employee Data'!$I$4:$I$553,'Employee Data'!$B$4:$B$553,\"\"),ROW('Employee Data'!A132)),IF($A$1='Employee Data'!$I$4:$I$553,'Employee Data'!$B$4:$B$553,\"\"),0))","v":{"$error":"#NUM!"}},{"$f":"IF(ISERROR(INDEX('Employee Data'!$B$4:$B$553,MATCH(Databackup!A134,Employee_Name,0),0)),\"\",(INDEX('Employee Data'!$B$4:$B$553,MATCH(Databackup!A134,Employee_Name,0))))","v":""},{"$f":"IF(ISERROR(INDEX('Employee Data'!$C$4:$C$553,MATCH(Databackup!A134,Employee_Name,0),0)),\"\",(INDEX('Employee Data'!$C$4:$C$553,MATCH(Databackup!A134,Employee_Name,0))))","v":""},{"$f":"IF(ISERROR(INDEX('Employee Data'!$D$4:$D$553,MATCH(Databackup!A134,Employee_Name,0),0)),\"\",(INDEX('Employee Data'!$D$4:$D$553,MATCH(Databackup!A134,Employee_Name,0))))","v":""},{"$f":"IF(ISERROR(INDEX('Employee Data'!$F$4:$F$553,MATCH(Databackup!A134,Employee_Name,0),0)),\"\",(INDEX('Employee Data'!$F$4:$F$553,MATCH(Databackup!A134,Employee_Name,0))))","v":""},{"$f":"IF(ISERROR(INDEX('Employee Data'!$G$4:$G$553,MATCH(Databackup!A134,Employee_Name,0),0)),\"\",(INDEX('Employee Data'!$G$4:$G$553,MATCH(Databackup!A134,Employee_Name,0))))","v":""},{"$f":"IF(ISERROR(INDEX('Employee Data'!$H$4:$H$553,MATCH(Databackup!A134,Employee_Name,0),0)),\"\",(INDEX('Employee Data'!$H$4:$H$553,MATCH(Databackup!A134,Employee_Name,0))))","v":""},{"$f":"IF(ISERROR(INDEX('Employee Data'!$I$4:$I$553,MATCH(Databackup!A134,Employee_Name,0),0)),\"\",(INDEX('Employee Data'!$I$4:$I$553,MATCH(Databackup!A134,Employee_Name,0))))","v":""},{"$f":"IF(ISERROR(INDEX('Employee Data'!$J$4:$J$553,MATCH(Databackup!A134,Employee_Name,0),0)),\"\",(INDEX('Employee Data'!J$4:$J$553,MATCH(Databackup!A134,Employee_Name,0))))","v":""},{"$f":"IF(ISERROR(INDEX('Employee Data'!$K$4:$K$553,MATCH(Databackup!A134,Employee_Name,0),0)),\"\",(INDEX('Employee Data'!$K$4:$K$553,MATCH(Databackup!A134,Employee_Name,0))))","v":""},{"$f":"IF(ISERROR(INDEX('Employee Data'!$L$4:$L$553,MATCH(Databackup!A134,Employee_Name,0),0)),\"\",(INDEX('Employee Data'!$L$4:$L$553,MATCH(Databackup!A134,Employee_Name,0))))","v":""},{"$f":"IF(ISERROR(INDEX('Employee Data'!$M$4:$M$553,MATCH(Databackup!A134,Employee_Name,0),0)),\"\",(INDEX('Employee Data'!$M$4:$M$553,MATCH(Databackup!A134,Employee_Name,0))))","v":""},{"$f":"IF(ISERROR(INDEX('Employee Data'!$N$4:$N$553,MATCH(Databackup!A134,Employee_Name,0),0)),\"\",(INDEX('Employee Data'!$N$4:$N$553,MATCH(Databackup!A134,Employee_Name,0))))","v":""},{"$f":"IF(ISERROR(INDEX('Employee Data'!$O$4:$O$553,MATCH(Databackup!A134,Employee_Name,0),0)),\"\",(INDEX('Employee Data'!$O$4:$O$553,MATCH(Databackup!A134,Employee_Name,0))))","v":""}]
[{"$f":"INDEX(Employee_Name,MATCH(SMALL(IF($A$1='Employee Data'!$I$4:$I$553,'Employee Data'!$B$4:$B$553,\"\"),ROW('Employee Data'!A133)),IF($A$1='Employee Data'!$I$4:$I$553,'Employee Data'!$B$4:$B$553,\"\"),0))","v":{"$error":"#NUM!"}},{"$f":"IF(ISERROR(INDEX('Employee Data'!$B$4:$B$553,MATCH(Databackup!A135,Employee_Name,0),0)),\"\",(INDEX('Employee Data'!$B$4:$B$553,MATCH(Databackup!A135,Employee_Name,0))))","v":""},{"$f":"IF(ISERROR(INDEX('Employee Data'!$C$4:$C$553,MATCH(Databackup!A135,Employee_Name,0),0)),\"\",(INDEX('Employee Data'!$C$4:$C$553,MATCH(Databackup!A135,Employee_Name,0))))","v":""},{"$f":"IF(ISERROR(INDEX('Employee Data'!$D$4:$D$553,MATCH(Databackup!A135,Employee_Name,0),0)),\"\",(INDEX('Employee Data'!$D$4:$D$553,MATCH(Databackup!A135,Employee_Name,0))))","v":""},{"$f":"IF(ISERROR(INDEX('Employee Data'!$F$4:$F$553,MATCH(Databackup!A135,Employee_Name,0),0)),\"\",(INDEX('Employee Data'!$F$4:$F$553,MATCH(Databackup!A135,Employee_Name,0))))","v":""},{"$f":"IF(ISERROR(INDEX('Employee Data'!$G$4:$G$553,MATCH(Databackup!A135,Employee_Name,0),0)),\"\",(INDEX('Employee Data'!$G$4:$G$553,MATCH(Databackup!A135,Employee_Name,0))))","v":""},{"$f":"IF(ISERROR(INDEX('Employee Data'!$H$4:$H$553,MATCH(Databackup!A135,Employee_Name,0),0)),\"\",(INDEX('Employee Data'!$H$4:$H$553,MATCH(Databackup!A135,Employee_Name,0))))","v":""},{"$f":"IF(ISERROR(INDEX('Employee Data'!$I$4:$I$553,MATCH(Databackup!A135,Employee_Name,0),0)),\"\",(INDEX('Employee Data'!$I$4:$I$553,MATCH(Databackup!A135,Employee_Name,0))))","v":""},{"$f":"IF(ISERROR(INDEX('Employee Data'!$J$4:$J$553,MATCH(Databackup!A135,Employee_Name,0),0)),\"\",(INDEX('Employee Data'!J$4:$J$553,MATCH(Databackup!A135,Employee_Name,0))))","v":""},{"$f":"IF(ISERROR(INDEX('Employee Data'!$K$4:$K$553,MATCH(Databackup!A135,Employee_Name,0),0)),\"\",(INDEX('Employee Data'!$K$4:$K$553,MATCH(Databackup!A135,Employee_Name,0))))","v":""},{"$f":"IF(ISERROR(INDEX('Employee Data'!$L$4:$L$553,MATCH(Databackup!A135,Employee_Name,0),0)),\"\",(INDEX('Employee Data'!$L$4:$L$553,MATCH(Databackup!A135,Employee_Name,0))))","v":""},{"$f":"IF(ISERROR(INDEX('Employee Data'!$M$4:$M$553,MATCH(Databackup!A135,Employee_Name,0),0)),\"\",(INDEX('Employee Data'!$M$4:$M$553,MATCH(Databackup!A135,Employee_Name,0))))","v":""},{"$f":"IF(ISERROR(INDEX('Employee Data'!$N$4:$N$553,MATCH(Databackup!A135,Employee_Name,0),0)),\"\",(INDEX('Employee Data'!$N$4:$N$553,MATCH(Databackup!A135,Employee_Name,0))))","v":""},{"$f":"IF(ISERROR(INDEX('Employee Data'!$O$4:$O$553,MATCH(Databackup!A135,Employee_Name,0),0)),\"\",(INDEX('Employee Data'!$O$4:$O$553,MATCH(Databackup!A135,Employee_Name,0))))","v":""}]
[{"$f":"INDEX(Employee_Name,MATCH(SMALL(IF($A$1='Employee Data'!$I$4:$I$553,'Employee Data'!$B$4:$B$553,\"\"),ROW('Employee Data'!A134)),IF($A$1='Employee Data'!$I$4:$I$553,'Employee Data'!$B$4:$B$553,\"\"),0))","v":{"$error":"#NUM!"}},{"$f":"IF(ISERROR(INDEX('Employee Data'!$B$4:$B$553,MATCH(Databackup!A136,Employee_Name,0),0)),\"\",(INDEX('Employee Data'!$B$4:$B$553,MATCH(Databackup!A136,Employee_Name,0))))","v":""},{"$f":"IF(ISERROR(INDEX('Employee Data'!$C$4:$C$553,MATCH(Databackup!A136,Employee_Name,0),0)),\"\",(INDEX('Employee Data'!$C$4:$C$553,MATCH(Databackup!A136,Employee_Name,0))))","v":""},{"$f":"IF(ISERROR(INDEX('Employee Data'!$D$4:$D$553,MATCH(Databackup!A136,Employee_Name,0),0)),\"\",(INDEX('Employee Data'!$D$4:$D$553,MATCH(Databackup!A136,Employee_Name,0))))","v":""},{"$f":"IF(ISERROR(INDEX('Employee Data'!$F$4:$F$553,MATCH(Databackup!A136,Employee_Name,0),0)),\"\",(INDEX('Employee Data'!$F$4:$F$553,MATCH(Databackup!A136,Employee_Name,0))))","v":""},{"$f":"IF(ISERROR(INDEX('Employee Data'!$G$4:$G$553,MATCH(Databackup!A136,Employee_Name,0),0)),\"\",(INDEX('Employee Data'!$G$4:$G$553,MATCH(Databackup!A136,Employee_Name,0))))","v":""},{"$f":"IF(ISERROR(INDEX('Employee Data'!$H$4:$H$553,MATCH(Databackup!A136,Employee_Name,0),0)),\"\",(INDEX('Employee Data'!$H$4:$H$553,MATCH(Databackup!A136,Employee_Name,0))))","v":""},{"$f":"IF(ISERROR(INDEX('Employee Data'!$I$4:$I$553,MATCH(Databackup!A136,Employee_Name,0),0)),\"\",(INDEX('Employee Data'!$I$4:$I$553,MATCH(Databackup!A136,Employee_Name,0))))","v":""},{"$f":"IF(ISERROR(INDEX('Employee Data'!$J$4:$J$553,MATCH(Databackup!A136,Employee_Name,0),0)),\"\",(INDEX('Employee Data'!J$4:$J$553,MATCH(Databackup!A136,Employee_Name,0))))","v":""},{"$f":"IF(ISERROR(INDEX('Employee Data'!$K$4:$K$553,MATCH(Databackup!A136,Employee_Name,0),0)),\"\",(INDEX('Employee Data'!$K$4:$K$553,MATCH(Databackup!A136,Employee_Name,0))))","v":""},{"$f":"IF(ISERROR(INDEX('Employee Data'!$L$4:$L$553,MATCH(Databackup!A136,Employee_Name,0),0)),\"\",(INDEX('Employee Data'!$L$4:$L$553,MATCH(Databackup!A136,Employee_Name,0))))","v":""},{"$f":"IF(ISERROR(INDEX('Employee Data'!$M$4:$M$553,MATCH(Databackup!A136,Employee_Name,0),0)),\"\",(INDEX('Employee Data'!$M$4:$M$553,MATCH(Databackup!A136,Employee_Name,0))))","v":""},{"$f":"IF(ISERROR(INDEX('Employee Data'!$N$4:$N$553,MATCH(Databackup!A136,Employee_Name,0),0)),\"\",(INDEX('Employee Data'!$N$4:$N$553,MATCH(Databackup!A136,Employee_Name,0))))","v":""},{"$f":"IF(ISERROR(INDEX('Employee Data'!$O$4:$O$553,MATCH(Databackup!A136,Employee_Name,0),0)),\"\",(INDEX('Employee Data'!$O$4:$O$553,MATCH(Databackup!A136,Employee_Name,0))))","v":""}]
[{"$f":"INDEX(Employee_Name,MATCH(SMALL(IF($A$1='Employee Data'!$I$4:$I$553,'Employee Data'!$B$4:$B$553,\"\"),ROW('Employee Data'!A135)),IF($A$1='Employee Data'!$I$4:$I$553,'Employee Data'!$B$4:$B$553,\"\"),0))","v":{"$error":"#NUM!"}},{"$f":"IF(ISERROR(INDEX('Employee Data'!$B$4:$B$553,MATCH(Databackup!A137,Employee_Name,0),0)),\"\",(INDEX('Employee Data'!$B$4:$B$553,MATCH(Databackup!A137,Employee_Name,0))))","v":""},{"$f":"IF(ISERROR(INDEX('Employee Data'!$C$4:$C$553,MATCH(Databackup!A137,Employee_Name,0),0)),\"\",(INDEX('Employee Data'!$C$4:$C$553,MATCH(Databackup!A137,Employee_Name,0))))","v":""},{"$f":"IF(ISERROR(INDEX('Employee Data'!$D$4:$D$553,MATCH(Databackup!A137,Employee_Name,0),0)),\"\",(INDEX('Employee Data'!$D$4:$D$553,MATCH(Databackup!A137,Employee_Name,0))))","v":""},{"$f":"IF(ISERROR(INDEX('Employee Data'!$F$4:$F$553,MATCH(Databackup!A137,Employee_Name,0),0)),\"\",(INDEX('Employee Data'!$F$4:$F$553,MATCH(Databackup!A137,Employee_Name,0))))","v":""},{"$f":"IF(ISERROR(INDEX('Employee Data'!$G$4:$G$553,MATCH(Databackup!A137,Employee_Name,0),0)),\"\",(INDEX('Employee Data'!$G$4:$G$553,MATCH(Databackup!A137,Employee_Name,0))))","v":""},{"$f":"IF(ISERROR(INDEX('Employee Data'!$H$4:$H$553,MATCH(Databackup!A137,Employee_Name,0),0)),\"\",(INDEX('Employee Data'!$H$4:$H$553,MATCH(Databackup!A137,Employee_Name,0))))","v":""},{"$f":"IF(ISERROR(INDEX('Employee Data'!$I$4:$I$553,MATCH(Databackup!A137,Employee_Name,0),0)),\"\",(INDEX('Employee Data'!$I$4:$I$553,MATCH(Databackup!A137,Employee_Name,0))))","v":""},{"$f":"IF(ISERROR(INDEX('Employee Data'!$J$4:$J$553,MATCH(Databackup!A137,Employee_Name,0),0)),\"\",(INDEX('Employee Data'!J$4:$J$553,MATCH(Databackup!A137,Employee_Name,0))))","v":""},{"$f":"IF(ISERROR(INDEX('Employee Data'!$K$4:$K$553,MATCH(Databackup!A137,Employee_Name,0),0)),\"\",(INDEX('Employee Data'!$K$4:$K$553,MATCH(Databackup!A137,Employee_Name,0))))","v":""},{"$f":"IF(ISERROR(INDEX('Employee Data'!$L$4:$L$553,MATCH(Databackup!A137,Employee_Name,0),0)),\"\",(INDEX('Employee Data'!$L$4:$L$553,MATCH(Databackup!A137,Employee_Name,0))))","v":""},{"$f":"IF(ISERROR(INDEX('Employee Data'!$M$4:$M$553,MATCH(Databackup!A137,Employee_Name,0),0)),\"\",(INDEX('Employee Data'!$M$4:$M$553,MATCH(Databackup!A137,Employee_Name,0))))","v":""},{"$f":"IF(ISERROR(INDEX('Employee Data'!$N$4:$N$553,MATCH(Databackup!A137,Employee_Name,0),0)),\"\",(INDEX('Employee Data'!$N$4:$N$553,MATCH(Databackup!A137,Employee_Name,0))))","v":""},{"$f":"IF(ISERROR(INDEX('Employee Data'!$O$4:$O$553,MATCH(Databackup!A137,Employee_Name,0),0)),\"\",(INDEX('Employee Data'!$O$4:$O$553,MATCH(Databackup!A137,Employee_Name,0))))","v":""}]
[{"$f":"INDEX(Employee_Name,MATCH(SMALL(IF($A$1='Employee Data'!$I$4:$I$553,'Employee Data'!$B$4:$B$553,\"\"),ROW('Employee Data'!A136)),IF($A$1='Employee Data'!$I$4:$I$553,'Employee Data'!$B$4:$B$553,\"\"),0))","v":{"$error":"#NUM!"}},{"$f":"IF(ISERROR(INDEX('Employee Data'!$B$4:$B$553,MATCH(Databackup!A138,Employee_Name,0),0)),\"\",(INDEX('Employee Data'!$B$4:$B$553,MATCH(Databackup!A138,Employee_Name,0))))","v":""},{"$f":"IF(ISERROR(INDEX('Employee Data'!$C$4:$C$553,MATCH(Databackup!A138,Employee_Name,0),0)),\"\",(INDEX('Employee Data'!$C$4:$C$553,MATCH(Databackup!A138,Employee_Name,0))))","v":""},{"$f":"IF(ISERROR(INDEX('Employee Data'!$D$4:$D$553,MATCH(Databackup!A138,Employee_Name,0),0)),\"\",(INDEX('Employee Data'!$D$4:$D$553,MATCH(Databackup!A138,Employee_Name,0))))","v":""},{"$f":"IF(ISERROR(INDEX('Employee Data'!$F$4:$F$553,MATCH(Databackup!A138,Employee_Name,0),0)),\"\",(INDEX('Employee Data'!$F$4:$F$553,MATCH(Databackup!A138,Employee_Name,0))))","v":""},{"$f":"IF(ISERROR(INDEX('Employee Data'!$G$4:$G$553,MATCH(Databackup!A138,Employee_Name,0),0)),\"\",(INDEX('Employee Data'!$G$4:$G$553,MATCH(Databackup!A138,Employee_Name,0))))","v":""},{"$f":"IF(ISERROR(INDEX('Employee Data'!$H$4:$H$553,MATCH(Databackup!A138,Employee_Name,0),0)),\"\",(INDEX('Employee Data'!$H$4:$H$553,MATCH(Databackup!A138,Employee_Name,0))))","v":""},{"$f":"IF(ISERROR(INDEX('Employee Data'!$I$4:$I$553,MATCH(Databackup!A138,Employee_Name,0),0)),\"\",(INDEX('Employee Data'!$I$4:$I$553,MATCH(Databackup!A138,Employee_Name,0))))","v":""},{"$f":"IF(ISERROR(INDEX('Employee Data'!$J$4:$J$553,MATCH(Databackup!A138,Employee_Name,0),0)),\"\",(INDEX('Employee Data'!J$4:$J$553,MATCH(Databackup!A138,Employee_Name,0))))","v":""},{"$f":"IF(ISERROR(INDEX('Employee Data'!$K$4:$K$553,MATCH(Databackup!A138,Employee_Name,0),0)),\"\",(INDEX('Employee Data'!$K$4:$K$553,MATCH(Databackup!A138,Employee_Name,0))))","v":""},{"$f":"IF(ISERROR(INDEX('Employee Data'!$L$4:$L$553,MATCH(Databackup!A138,Employee_Name,0),0)),\"\",(INDEX('Employee Data'!$L$4:$L$553,MATCH(Databackup!A138,Employee_Name,0))))","v":""},{"$f":"IF(ISERROR(INDEX('Employee Data'!$M$4:$M$553,MATCH(Databackup!A138,Employee_Name,0),0)),\"\",(INDEX('Employee Data'!$M$4:$M$553,MATCH(Databackup!A138,Employee_Name,0))))","v":""},{"$f":"IF(ISERROR(INDEX('Employee Data'!$N$4:$N$553,MATCH(Databackup!A138,Employee_Name,0),0)),\"\",(INDEX('Employee Data'!$N$4:$N$553,MATCH(Databackup!A138,Employee_Name,0))))","v":""},{"$f":"IF(ISERROR(INDEX('Employee Data'!$O$4:$O$553,MATCH(Databackup!A138,Employee_Name,0),0)),\"\",(INDEX('Employee Data'!$O$4:$O$553,MATCH(Databackup!A138,Employee_Name,0))))","v":""}]
[{"$f":"INDEX(Employee_Name,MATCH(SMALL(IF($A$1='Employee Data'!$I$4:$I$553,'Employee Data'!$B$4:$B$553,\"\"),ROW('Employee Data'!A137)),IF($A$1='Employee Data'!$I$4:$I$553,'Employee Data'!$B$4:$B$553,\"\"),0))","v":{"$error":"#NUM!"}},{"$f":"IF(ISERROR(INDEX('Employee Data'!$B$4:$B$553,MATCH(Databackup!A139,Employee_Name,0),0)),\"\",(INDEX('Employee Data'!$B$4:$B$553,MATCH(Databackup!A139,Employee_Name,0))))","v":""},{"$f":"IF(ISERROR(INDEX('Employee Data'!$C$4:$C$553,MATCH(Databackup!A139,Employee_Name,0),0)),\"\",(INDEX('Employee Data'!$C$4:$C$553,MATCH(Databackup!A139,Employee_Name,0))))","v":""},{"$f":"IF(ISERROR(INDEX('Employee Data'!$D$4:$D$553,MATCH(Databackup!A139,Employee_Name,0),0)),\"\",(INDEX('Employee Data'!$D$4:$D$553,MATCH(Databackup!A139,Employee_Name,0))))","v":""},{"$f":"IF(ISERROR(INDEX('Employee Data'!$F$4:$F$553,MATCH(Databackup!A139,Employee_Name,0),0)),\"\",(INDEX('Employee Data'!$F$4:$F$553,MATCH(Databackup!A139,Employee_Name,0))))","v":""},{"$f":"IF(ISERROR(INDEX('Employee Data'!$G$4:$G$553,MATCH(Databackup!A139,Employee_Name,0),0)),\"\",(INDEX('Employee Data'!$G$4:$G$553,MATCH(Databackup!A139,Employee_Name,0))))","v":""},{"$f":"IF(ISERROR(INDEX('Employee Data'!$H$4:$H$553,MATCH(Databackup!A139,Employee_Name,0),0)),\"\",(INDEX('Employee Data'!$H$4:$H$553,MATCH(Databackup!A139,Employee_Name,0))))","v":""},{"$f":"IF(ISERROR(INDEX('Employee Data'!$I$4:$I$553,MATCH(Databackup!A139,Employee_Name,0),0)),\"\",(INDEX('Employee Data'!$I$4:$I$553,MATCH(Databackup!A139,Employee_Name,0))))","v":""},{"$f":"IF(ISERROR(INDEX('Employee Data'!$J$4:$J$553,MATCH(Databackup!A139,Employee_Name,0),0)),\"\",(INDEX('Employee Data'!J$4:$J$553,MATCH(Databackup!A139,Employee_Name,0))))","v":""},{"$f":"IF(ISERROR(INDEX('Employee Data'!$K$4:$K$553,MATCH(Databackup!A139,Employee_Name,0),0)),\"\",(INDEX('Employee Data'!$K$4:$K$553,MATCH(Databackup!A139,Employee_Name,0))))","v":""},{"$f":"IF(ISERROR(INDEX('Employee Data'!$L$4:$L$553,MATCH(Databackup!A139,Employee_Name,0),0)),\"\",(INDEX('Employee Data'!$L$4:$L$553,MATCH(Databackup!A139,Employee_Name,0))))","v":""},{"$f":"IF(ISERROR(INDEX('Employee Data'!$M$4:$M$553,MATCH(Databackup!A139,Employee_Name,0),0)),\"\",(INDEX('Employee Data'!$M$4:$M$553,MATCH(Databackup!A139,Employee_Name,0))))","v":""},{"$f":"IF(ISERROR(INDEX('Employee Data'!$N$4:$N$553,MATCH(Databackup!A139,Employee_Name,0),0)),\"\",(INDEX('Employee Data'!$N$4:$N$553,MATCH(Databackup!A139,Employee_Name,0))))","v":""},{"$f":"IF(ISERROR(INDEX('Employee Data'!$O$4:$O$553,MATCH(Databackup!A139,Employee_Name,0),0)),\"\",(INDEX('Employee Data'!$O$4:$O$553,MATCH(Databackup!A139,Employee_Name,0))))","v":""}]
[{"$f":"INDEX(Employee_Name,MATCH(SMALL(IF($A$1='Employee Data'!$I$4:$I$553,'Employee Data'!$B$4:$B$553,\"\"),ROW('Employee Data'!A138)),IF($A$1='Employee Data'!$I$4:$I$553,'Employee Data'!$B$4:$B$553,\"\"),0))","v":{"$error":"#NUM!"}},{"$f":"IF(ISERROR(INDEX('Employee Data'!$B$4:$B$553,MATCH(Databackup!A140,Employee_Name,0),0)),\"\",(INDEX('Employee Data'!$B$4:$B$553,MATCH(Databackup!A140,Employee_Name,0))))","v":""},{"$f":"IF(ISERROR(INDEX('Employee Data'!$C$4:$C$553,MATCH(Databackup!A140,Employee_Name,0),0)),\"\",(INDEX('Employee Data'!$C$4:$C$553,MATCH(Databackup!A140,Employee_Name,0))))","v":""},{"$f":"IF(ISERROR(INDEX('Employee Data'!$D$4:$D$553,MATCH(Databackup!A140,Employee_Name,0),0)),\"\",(INDEX('Employee Data'!$D$4:$D$553,MATCH(Databackup!A140,Employee_Name,0))))","v":""},{"$f":"IF(ISERROR(INDEX('Employee Data'!$F$4:$F$553,MATCH(Databackup!A140,Employee_Name,0),0)),\"\",(INDEX('Employee Data'!$F$4:$F$553,MATCH(Databackup!A140,Employee_Name,0))))","v":""},{"$f":"IF(ISERROR(INDEX('Employee Data'!$G$4:$G$553,MATCH(Databackup!A140,Employee_Name,0),0)),\"\",(INDEX('Employee Data'!$G$4:$G$553,MATCH(Databackup!A140,Employee_Name,0))))","v":""},{"$f":"IF(ISERROR(INDEX('Employee Data'!$H$4:$H$553,MATCH(Databackup!A140,Employee_Name,0),0)),\"\",(INDEX('Employee Data'!$H$4:$H$553,MATCH(Databackup!A140,Employee_Name,0))))","v":""},{"$f":"IF(ISERROR(INDEX('Employee Data'!$I$4:$I$553,MATCH(Databackup!A140,Employee_Name,0),0)),\"\",(INDEX('Employee Data'!$I$4:$I$553,MATCH(Databackup!A140,Employee_Name,0))))","v":""},{"$f":"IF(ISERROR(INDEX('Employee Data'!$J$4:$J$553,MATCH(Databackup!A140,Employee_Name,0),0)),\"\",(INDEX('Employee Data'!J$4:$J$553,MATCH(Databackup!A140,Employee_Name,0))))","v":""},{"$f":"IF(ISERROR(INDEX('Employee Data'!$K$4:$K$553,MATCH(Databackup!A140,Employee_Name,0),0)),\"\",(INDEX('Employee Data'!$K$4:$K$553,MATCH(Databackup!A140,Employee_Name,0))))","v":""},{"$f":"IF(ISERROR(INDEX('Employee Data'!$L$4:$L$553,MATCH(Databackup!A140,Employee_Name,0),0)),\"\",(INDEX('Employee Data'!$L$4:$L$553,MATCH(Databackup!A140,Employee_Name,0))))","v":""},{"$f":"IF(ISERROR(INDEX('Employee Data'!$M$4:$M$553,MATCH(Databackup!A140,Employee_Name,0),0)),\"\",(INDEX('Employee Data'!$M$4:$M$553,MATCH(Databackup!A140,Employee_Name,0))))","v":""},{"$f":"IF(ISERROR(INDEX('Employee Data'!$N$4:$N$553,MATCH(Databackup!A140,Employee_Name,0),0)),\"\",(INDEX('Employee Data'!$N$4:$N$553,MATCH(Databackup!A140,Employee_Name,0))))","v":""},{"$f":"IF(ISERROR(INDEX('Employee Data'!$O$4:$O$553,MATCH(Databackup!A140,Employee_Name,0),0)),\"\",(INDEX('Employee Data'!$O$4:$O$553,MATCH(Databackup!A140,Employee_Name,0))))","v":""}]
[{"$f":"INDEX(Employee_Name,MATCH(SMALL(IF($A$1='Employee Data'!$I$4:$I$553,'Employee Data'!$B$4:$B$553,\"\"),ROW('Employee Data'!A139)),IF($A$1='Employee Data'!$I$4:$I$553,'Employee Data'!$B$4:$B$553,\"\"),0))","v":{"$error":"#NUM!"}},{"$f":"IF(ISERROR(INDEX('Employee Data'!$B$4:$B$553,MATCH(Databackup!A141,Employee_Name,0),0)),\"\",(INDEX('Employee Data'!$B$4:$B$553,MATCH(Databackup!A141,Employee_Name,0))))","v":""},{"$f":"IF(ISERROR(INDEX('Employee Data'!$C$4:$C$553,MATCH(Databackup!A141,Employee_Name,0),0)),\"\",(INDEX('Employee Data'!$C$4:$C$553,MATCH(Databackup!A141,Employee_Name,0))))","v":""},{"$f":"IF(ISERROR(INDEX('Employee Data'!$D$4:$D$553,MATCH(Databackup!A141,Employee_Name,0),0)),\"\",(INDEX('Employee Data'!$D$4:$D$553,MATCH(Databackup!A141,Employee_Name,0))))","v":""},{"$f":"IF(ISERROR(INDEX('Employee Data'!$F$4:$F$553,MATCH(Databackup!A141,Employee_Name,0),0)),\"\",(INDEX('Employee Data'!$F$4:$F$553,MATCH(Databackup!A141,Employee_Name,0))))","v":""},{"$f":"IF(ISERROR(INDEX('Employee Data'!$G$4:$G$553,MATCH(Databackup!A141,Employee_Name,0),0)),\"\",(INDEX('Employee Data'!$G$4:$G$553,MATCH(Databackup!A141,Employee_Name,0))))","v":""},{"$f":"IF(ISERROR(INDEX('Employee Data'!$H$4:$H$553,MATCH(Databackup!A141,Employee_Name,0),0)),\"\",(INDEX('Employee Data'!$H$4:$H$553,MATCH(Databackup!A141,Employee_Name,0))))","v":""},{"$f":"IF(ISERROR(INDEX('Employee Data'!$I$4:$I$553,MATCH(Databackup!A141,Employee_Name,0),0)),\"\",(INDEX('Employee Data'!$I$4:$I$553,MATCH(Databackup!A141,Employee_Name,0))))","v":""},{"$f":"IF(ISERROR(INDEX('Employee Data'!$J$4:$J$553,MATCH(Databackup!A141,Employee_Name,0),0)),\"\",(INDEX('Employee Data'!J$4:$J$553,MATCH(Databackup!A141,Employee_Name,0))))","v":""},{"$f":"IF(ISERROR(INDEX('Employee Data'!$K$4:$K$553,MATCH(Databackup!A141,Employee_Name,0),0)),\"\",(INDEX('Employee Data'!$K$4:$K$553,MATCH(Databackup!A141,Employee_Name,0))))","v":""},{"$f":"IF(ISERROR(INDEX('Employee Data'!$L$4:$L$553,MATCH(Databackup!A141,Employee_Name,0),0)),\"\",(INDEX('Employee Data'!$L$4:$L$553,MATCH(Databackup!A141,Employee_Name,0))))","v":""},{"$f":"IF(ISERROR(INDEX('Employee Data'!$M$4:$M$553,MATCH(Databackup!A141,Employee_Name,0),0)),\"\",(INDEX('Employee Data'!$M$4:$M$553,MATCH(Databackup!A141,Employee_Name,0))))","v":""},{"$f":"IF(ISERROR(INDEX('Employee Data'!$N$4:$N$553,MATCH(Databackup!A141,Employee_Name,0),0)),\"\",(INDEX('Employee Data'!$N$4:$N$553,MATCH(Databackup!A141,Employee_Name,0))))","v":""},{"$f":"IF(ISERROR(INDEX('Employee Data'!$O$4:$O$553,MATCH(Databackup!A141,Employee_Name,0),0)),\"\",(INDEX('Employee Data'!$O$4:$O$553,MATCH(Databackup!A141,Employee_Name,0))))","v":""}]
[{"$f":"INDEX(Employee_Name,MATCH(SMALL(IF($A$1='Employee Data'!$I$4:$I$553,'Employee Data'!$B$4:$B$553,\"\"),ROW('Employee Data'!A140)),IF($A$1='Employee Data'!$I$4:$I$553,'Employee Data'!$B$4:$B$553,\"\"),0))","v":{"$error":"#NUM!"}},{"$f":"IF(ISERROR(INDEX('Employee Data'!$B$4:$B$553,MATCH(Databackup!A142,Employee_Name,0),0)),\"\",(INDEX('Employee Data'!$B$4:$B$553,MATCH(Databackup!A142,Employee_Name,0))))","v":""},{"$f":"IF(ISERROR(INDEX('Employee Data'!$C$4:$C$553,MATCH(Databackup!A142,Employee_Name,0),0)),\"\",(INDEX('Employee Data'!$C$4:$C$553,MATCH(Databackup!A142,Employee_Name,0))))","v":""},{"$f":"IF(ISERROR(INDEX('Employee Data'!$D$4:$D$553,MATCH(Databackup!A142,Employee_Name,0),0)),\"\",(INDEX('Employee Data'!$D$4:$D$553,MATCH(Databackup!A142,Employee_Name,0))))","v":""},{"$f":"IF(ISERROR(INDEX('Employee Data'!$F$4:$F$553,MATCH(Databackup!A142,Employee_Name,0),0)),\"\",(INDEX('Employee Data'!$F$4:$F$553,MATCH(Databackup!A142,Employee_Name,0))))","v":""},{"$f":"IF(ISERROR(INDEX('Employee Data'!$G$4:$G$553,MATCH(Databackup!A142,Employee_Name,0),0)),\"\",(INDEX('Employee Data'!$G$4:$G$553,MATCH(Databackup!A142,Employee_Name,0))))","v":""},{"$f":"IF(ISERROR(INDEX('Employee Data'!$H$4:$H$553,MATCH(Databackup!A142,Employee_Name,0),0)),\"\",(INDEX('Employee Data'!$H$4:$H$553,MATCH(Databackup!A142,Employee_Name,0))))","v":""},{"$f":"IF(ISERROR(INDEX('Employee Data'!$I$4:$I$553,MATCH(Databackup!A142,Employee_Name,0),0)),\"\",(INDEX('Employee Data'!$I$4:$I$553,MATCH(Databackup!A142,Employee_Name,0))))","v":""},{"$f":"IF(ISERROR(INDEX('Employee Data'!$J$4:$J$553,MATCH(Databackup!A142,Employee_Name,0),0)),\"\",(INDEX('Employee Data'!J$4:$J$553,MATCH(Databackup!A142,Employee_Name,0))))","v":""},{"$f":"IF(ISERROR(INDEX('Employee Data'!$K$4:$K$553,MATCH(Databackup!A142,Employee_Name,0),0)),\"\",(INDEX('Employee Data'!$K$4:$K$553,MATCH(Databackup!A142,Employee_Name,0))))","v":""},{"$f":"IF(ISERROR(INDEX('Employee Data'!$L$4:$L$553,MATCH(Databackup!A142,Employee_Name,0),0)),\"\",(INDEX('Employee Data'!$L$4:$L$553,MATCH(Databackup!A142,Employee_Name,0))))","v":""},{"$f":"IF(ISERROR(INDEX('Employee Data'!$M$4:$M$553,MATCH(Databackup!A142,Employee_Name,0),0)),\"\",(INDEX('Employee Data'!$M$4:$M$553,MATCH(Databackup!A142,Employee_Name,0))))","v":""},{"$f":"IF(ISERROR(INDEX('Employee Data'!$N$4:$N$553,MATCH(Databackup!A142,Employee_Name,0),0)),\"\",(INDEX('Employee Data'!$N$4:$N$553,MATCH(Databackup!A142,Employee_Name,0))))","v":""},{"$f":"IF(ISERROR(INDEX('Employee Data'!$O$4:$O$553,MATCH(Databackup!A142,Employee_Name,0),0)),\"\",(INDEX('Employee Data'!$O$4:$O$553,MATCH(Databackup!A142,Employee_Name,0))))","v":""}]
[{"$f":"INDEX(Employee_Name,MATCH(SMALL(IF($A$1='Employee Data'!$I$4:$I$553,'Employee Data'!$B$4:$B$553,\"\"),ROW('Employee Data'!A141)),IF($A$1='Employee Data'!$I$4:$I$553,'Employee Data'!$B$4:$B$553,\"\"),0))","v":{"$error":"#NUM!"}},{"$f":"IF(ISERROR(INDEX('Employee Data'!$B$4:$B$553,MATCH(Databackup!A143,Employee_Name,0),0)),\"\",(INDEX('Employee Data'!$B$4:$B$553,MATCH(Databackup!A143,Employee_Name,0))))","v":""},{"$f":"IF(ISERROR(INDEX('Employee Data'!$C$4:$C$553,MATCH(Databackup!A143,Employee_Name,0),0)),\"\",(INDEX('Employee Data'!$C$4:$C$553,MATCH(Databackup!A143,Employee_Name,0))))","v":""},{"$f":"IF(ISERROR(INDEX('Employee Data'!$D$4:$D$553,MATCH(Databackup!A143,Employee_Name,0),0)),\"\",(INDEX('Employee Data'!$D$4:$D$553,MATCH(Databackup!A143,Employee_Name,0))))","v":""},{"$f":"IF(ISERROR(INDEX('Employee Data'!$F$4:$F$553,MATCH(Databackup!A143,Employee_Name,0),0)),\"\",(INDEX('Employee Data'!$F$4:$F$553,MATCH(Databackup!A143,Employee_Name,0))))","v":""},{"$f":"IF(ISERROR(INDEX('Employee Data'!$G$4:$G$553,MATCH(Databackup!A143,Employee_Name,0),0)),\"\",(INDEX('Employee Data'!$G$4:$G$553,MATCH(Databackup!A143,Employee_Name,0))))","v":""},{"$f":"IF(ISERROR(INDEX('Employee Data'!$H$4:$H$553,MATCH(Databackup!A143,Employee_Name,0),0)),\"\",(INDEX('Employee Data'!$H$4:$H$553,MATCH(Databackup!A143,Employee_Name,0))))","v":""},{"$f":"IF(ISERROR(INDEX('Employee Data'!$I$4:$I$553,MATCH(Databackup!A143,Employee_Name,0),0)),\"\",(INDEX('Employee Data'!$I$4:$I$553,MATCH(Databackup!A143,Employee_Name,0))))","v":""},{"$f":"IF(ISERROR(INDEX('Employee Data'!$J$4:$J$553,MATCH(Databackup!A143,Employee_Name,0),0)),\"\",(INDEX('Employee Data'!J$4:$J$553,MATCH(Databackup!A143,Employee_Name,0))))","v":""},{"$f":"IF(ISERROR(INDEX('Employee Data'!$K$4:$K$553,MATCH(Databackup!A143,Employee_Name,0),0)),\"\",(INDEX('Employee Data'!$K$4:$K$553,MATCH(Databackup!A143,Employee_Name,0))))","v":""},{"$f":"IF(ISERROR(INDEX('Employee Data'!$L$4:$L$553,MATCH(Databackup!A143,Employee_Name,0),0)),\"\",(INDEX('Employee Data'!$L$4:$L$553,MATCH(Databackup!A143,Employee_Name,0))))","v":""},{"$f":"IF(ISERROR(INDEX('Employee Data'!$M$4:$M$553,MATCH(Databackup!A143,Employee_Name,0),0)),\"\",(INDEX('Employee Data'!$M$4:$M$553,MATCH(Databackup!A143,Employee_Name,0))))","v":""},{"$f":"IF(ISERROR(INDEX('Employee Data'!$N$4:$N$553,MATCH(Databackup!A143,Employee_Name,0),0)),\"\",(INDEX('Employee Data'!$N$4:$N$553,MATCH(Databackup!A143,Employee_Name,0))))","v":""},{"$f":"IF(ISERROR(INDEX('Employee Data'!$O$4:$O$553,MATCH(Databackup!A143,Employee_Name,0),0)),\"\",(INDEX('Employee Data'!$O$4:$O$553,MATCH(Databackup!A143,Employee_Name,0))))","v":""}]
[{"$f":"INDEX(Employee_Name,MATCH(SMALL(IF($A$1='Employee Data'!$I$4:$I$553,'Employee Data'!$B$4:$B$553,\"\"),ROW('Employee Data'!A142)),IF($A$1='Employee Data'!$I$4:$I$553,'Employee Data'!$B$4:$B$553,\"\"),0))","v":{"$error":"#NUM!"}},{"$f":"IF(ISERROR(INDEX('Employee Data'!$B$4:$B$553,MATCH(Databackup!A144,Employee_Name,0),0)),\"\",(INDEX('Employee Data'!$B$4:$B$553,MATCH(Databackup!A144,Employee_Name,0))))","v":""},{"$f":"IF(ISERROR(INDEX('Employee Data'!$C$4:$C$553,MATCH(Databackup!A144,Employee_Name,0),0)),\"\",(INDEX('Employee Data'!$C$4:$C$553,MATCH(Databackup!A144,Employee_Name,0))))","v":""},{"$f":"IF(ISERROR(INDEX('Employee Data'!$D$4:$D$553,MATCH(Databackup!A144,Employee_Name,0),0)),\"\",(INDEX('Employee Data'!$D$4:$D$553,MATCH(Databackup!A144,Employee_Name,0))))","v":""},{"$f":"IF(ISERROR(INDEX('Employee Data'!$F$4:$F$553,MATCH(Databackup!A144,Employee_Name,0),0)),\"\",(INDEX('Employee Data'!$F$4:$F$553,MATCH(Databackup!A144,Employee_Name,0))))","v":""},{"$f":"IF(ISERROR(INDEX('Employee Data'!$G$4:$G$553,MATCH(Databackup!A144,Employee_Name,0),0)),\"\",(INDEX('Employee Data'!$G$4:$G$553,MATCH(Databackup!A144,Employee_Name,0))))","v":""},{"$f":"IF(ISERROR(INDEX('Employee Data'!$H$4:$H$553,MATCH(Databackup!A144,Employee_Name,0),0)),\"\",(INDEX('Employee Data'!$H$4:$H$553,MATCH(Databackup!A144,Employee_Name,0))))","v":""},{"$f":"IF(ISERROR(INDEX('Employee Data'!$I$4:$I$553,MATCH(Databackup!A144,Employee_Name,0),0)),\"\",(INDEX('Employee Data'!$I$4:$I$553,MATCH(Databackup!A144,Employee_Name,0))))","v":""},{"$f":"IF(ISERROR(INDEX('Employee Data'!$J$4:$J$553,MATCH(Databackup!A144,Employee_Name,0),0)),\"\",(INDEX('Employee Data'!J$4:$J$553,MATCH(Databackup!A144,Employee_Name,0))))","v":""},{"$f":"IF(ISERROR(INDEX('Employee Data'!$K$4:$K$553,MATCH(Databackup!A144,Employee_Name,0),0)),\"\",(INDEX('Employee Data'!$K$4:$K$553,MATCH(Databackup!A144,Employee_Name,0))))","v":""},{"$f":"IF(ISERROR(INDEX('Employee Data'!$L$4:$L$553,MATCH(Databackup!A144,Employee_Name,0),0)),\"\",(INDEX('Employee Data'!$L$4:$L$553,MATCH(Databackup!A144,Employee_Name,0))))","v":""},{"$f":"IF(ISERROR(INDEX('Employee Data'!$M$4:$M$553,MATCH(Databackup!A144,Employee_Name,0),0)),\"\",(INDEX('Employee Data'!$M$4:$M$553,MATCH(Databackup!A144,Employee_Name,0))))","v":""},{"$f":"IF(ISERROR(INDEX('Employee Data'!$N$4:$N$553,MATCH(Databackup!A144,Employee_Name,0),0)),\"\",(INDEX('Employee Data'!$N$4:$N$553,MATCH(Databackup!A144,Employee_Name,0))))","v":""},{"$f":"IF(ISERROR(INDEX('Employee Data'!$O$4:$O$553,MATCH(Databackup!A144,Employee_Name,0),0)),\"\",(INDEX('Employee Data'!$O$4:$O$553,MATCH(Databackup!A144,Employee_Name,0))))","v":""}]
[{"$f":"INDEX(Employee_Name,MATCH(SMALL(IF($A$1='Employee Data'!$I$4:$I$553,'Employee Data'!$B$4:$B$553,\"\"),ROW('Employee Data'!A143)),IF($A$1='Employee Data'!$I$4:$I$553,'Employee Data'!$B$4:$B$553,\"\"),0))","v":{"$error":"#NUM!"}},{"$f":"IF(ISERROR(INDEX('Employee Data'!$B$4:$B$553,MATCH(Databackup!A145,Employee_Name,0),0)),\"\",(INDEX('Employee Data'!$B$4:$B$553,MATCH(Databackup!A145,Employee_Name,0))))","v":""},{"$f":"IF(ISERROR(INDEX('Employee Data'!$C$4:$C$553,MATCH(Databackup!A145,Employee_Name,0),0)),\"\",(INDEX('Employee Data'!$C$4:$C$553,MATCH(Databackup!A145,Employee_Name,0))))","v":""},{"$f":"IF(ISERROR(INDEX('Employee Data'!$D$4:$D$553,MATCH(Databackup!A145,Employee_Name,0),0)),\"\",(INDEX('Employee Data'!$D$4:$D$553,MATCH(Databackup!A145,Employee_Name,0))))","v":""},{"$f":"IF(ISERROR(INDEX('Employee Data'!$F$4:$F$553,MATCH(Databackup!A145,Employee_Name,0),0)),\"\",(INDEX('Employee Data'!$F$4:$F$553,MATCH(Databackup!A145,Employee_Name,0))))","v":""},{"$f":"IF(ISERROR(INDEX('Employee Data'!$G$4:$G$553,MATCH(Databackup!A145,Employee_Name,0),0)),\"\",(INDEX('Employee Data'!$G$4:$G$553,MATCH(Databackup!A145,Employee_Name,0))))","v":""},{"$f":"IF(ISERROR(INDEX('Employee Data'!$H$4:$H$553,MATCH(Databackup!A145,Employee_Name,0),0)),\"\",(INDEX('Employee Data'!$H$4:$H$553,MATCH(Databackup!A145,Employee_Name,0))))","v":""},{"$f":"IF(ISERROR(INDEX('Employee Data'!$I$4:$I$553,MATCH(Databackup!A145,Employee_Name,0),0)),\"\",(INDEX('Employee Data'!$I$4:$I$553,MATCH(Databackup!A145,Employee_Name,0))))","v":""},{"$f":"IF(ISERROR(INDEX('Employee Data'!$J$4:$J$553,MATCH(Databackup!A145,Employee_Name,0),0)),\"\",(INDEX('Employee Data'!J$4:$J$553,MATCH(Databackup!A145,Employee_Name,0))))","v":""},{"$f":"IF(ISERROR(INDEX('Employee Data'!$K$4:$K$553,MATCH(Databackup!A145,Employee_Name,0),0)),\"\",(INDEX('Employee Data'!$K$4:$K$553,MATCH(Databackup!A145,Employee_Name,0))))","v":""},{"$f":"IF(ISERROR(INDEX('Employee Data'!$L$4:$L$553,MATCH(Databackup!A145,Employee_Name,0),0)),\"\",(INDEX('Employee Data'!$L$4:$L$553,MATCH(Databackup!A145,Employee_Name,0))))","v":""},{"$f":"IF(ISERROR(INDEX('Employee Data'!$M$4:$M$553,MATCH(Databackup!A145,Employee_Name,0),0)),\"\",(INDEX('Employee Data'!$M$4:$M$553,MATCH(Databackup!A145,Employee_Name,0))))","v":""},{"$f":"IF(ISERROR(INDEX('Employee Data'!$N$4:$N$553,MATCH(Databackup!A145,Employee_Name,0),0)),\"\",(INDEX('Employee Data'!$N$4:$N$553,MATCH(Databackup!A145,Employee_Name,0))))","v":""},{"$f":"IF(ISERROR(INDEX('Employee Data'!$O$4:$O$553,MATCH(Databackup!A145,Employee_Name,0),0)),\"\",(INDEX('Employee Data'!$O$4:$O$553,MATCH(Databackup!A145,Employee_Name,0))))","v":""}]
[{"$f":"INDEX(Employee_Name,MATCH(SMALL(IF($A$1='Employee Data'!$I$4:$I$553,'Employee Data'!$B$4:$B$553,\"\"),ROW('Employee Data'!A144)),IF($A$1='Employee Data'!$I$4:$I$553,'Employee Data'!$B$4:$B$553,\"\"),0))","v":{"$error":"#NUM!"}},{"$f":"IF(ISERROR(INDEX('Employee Data'!$B$4:$B$553,MATCH(Databackup!A146,Employee_Name,0),0)),\"\",(INDEX('Employee Data'!$B$4:$B$553,MATCH(Databackup!A146,Employee_Name,0))))","v":""},{"$f":"IF(ISERROR(INDEX('Employee Data'!$C$4:$C$553,MATCH(Databackup!A146,Employee_Name,0),0)),\"\",(INDEX('Employee Data'!$C$4:$C$553,MATCH(Databackup!A146,Employee_Name,0))))","v":""},{"$f":"IF(ISERROR(INDEX('Employee Data'!$D$4:$D$553,MATCH(Databackup!A146,Employee_Name,0),0)),\"\",(INDEX('Employee Data'!$D$4:$D$553,MATCH(Databackup!A146,Employee_Name,0))))","v":""},{"$f":"IF(ISERROR(INDEX('Employee Data'!$F$4:$F$553,MATCH(Databackup!A146,Employee_Name,0),0)),\"\",(INDEX('Employee Data'!$F$4:$F$553,MATCH(Databackup!A146,Employee_Name,0))))","v":""},{"$f":"IF(ISERROR(INDEX('Employee Data'!$G$4:$G$553,MATCH(Databackup!A146,Employee_Name,0),0)),\"\",(INDEX('Employee Data'!$G$4:$G$553,MATCH(Databackup!A146,Employee_Name,0))))","v":""},{"$f":"IF(ISERROR(INDEX('Employee Data'!$H$4:$H$553,MATCH(Databackup!A146,Employee_Name,0),0)),\"\",(INDEX('Employee Data'!$H$4:$H$553,MATCH(Databackup!A146,Employee_Name,0))))","v":""},{"$f":"IF(ISERROR(INDEX('Employee Data'!$I$4:$I$553,MATCH(Databackup!A146,Employee_Name,0),0)),\"\",(INDEX('Employee Data'!$I$4:$I$553,MATCH(Databackup!A146,Employee_Name,0))))","v":""},{"$f":"IF(ISERROR(INDEX('Employee Data'!$J$4:$J$553,MATCH(Databackup!A146,Employee_Name,0),0)),\"\",(INDEX('Employee Data'!J$4:$J$553,MATCH(Databackup!A146,Employee_Name,0))))","v":""},{"$f":"IF(ISERROR(INDEX('Employee Data'!$K$4:$K$553,MATCH(Databackup!A146,Employee_Name,0),0)),\"\",(INDEX('Employee Data'!$K$4:$K$553,MATCH(Databackup!A146,Employee_Name,0))))","v":""},{"$f":"IF(ISERROR(INDEX('Employee Data'!$L$4:$L$553,MATCH(Databackup!A146,Employee_Name,0),0)),\"\",(INDEX('Employee Data'!$L$4:$L$553,MATCH(Databackup!A146,Employee_Name,0))))","v":""},{"$f":"IF(ISERROR(INDEX('Employee Data'!$M$4:$M$553,MATCH(Databackup!A146,Employee_Name,0),0)),\"\",(INDEX('Employee Data'!$M$4:$M$553,MATCH(Databackup!A146,Employee_Name,0))))","v":""},{"$f":"IF(ISERROR(INDEX('Employee Data'!$N$4:$N$553,MATCH(Databackup!A146,Employee_Name,0),0)),\"\",(INDEX('Employee Data'!$N$4:$N$553,MATCH(Databackup!A146,Employee_Name,0))))","v":""},{"$f":"IF(ISERROR(INDEX('Employee Data'!$O$4:$O$553,MATCH(Databackup!A146,Employee_Name,0),0)),\"\",(INDEX('Employee Data'!$O$4:$O$553,MATCH(Databackup!A146,Employee_Name,0))))","v":""}]
[{"$f":"INDEX(Employee_Name,MATCH(SMALL(IF($A$1='Employee Data'!$I$4:$I$553,'Employee Data'!$B$4:$B$553,\"\"),ROW('Employee Data'!A145)),IF($A$1='Employee Data'!$I$4:$I$553,'Employee Data'!$B$4:$B$553,\"\"),0))","v":{"$error":"#NUM!"}},{"$f":"IF(ISERROR(INDEX('Employee Data'!$B$4:$B$553,MATCH(Databackup!A147,Employee_Name,0),0)),\"\",(INDEX('Employee Data'!$B$4:$B$553,MATCH(Databackup!A147,Employee_Name,0))))","v":""},{"$f":"IF(ISERROR(INDEX('Employee Data'!$C$4:$C$553,MATCH(Databackup!A147,Employee_Name,0),0)),\"\",(INDEX('Employee Data'!$C$4:$C$553,MATCH(Databackup!A147,Employee_Name,0))))","v":""},{"$f":"IF(ISERROR(INDEX('Employee Data'!$D$4:$D$553,MATCH(Databackup!A147,Employee_Name,0),0)),\"\",(INDEX('Employee Data'!$D$4:$D$553,MATCH(Databackup!A147,Employee_Name,0))))","v":""},{"$f":"IF(ISERROR(INDEX('Employee Data'!$F$4:$F$553,MATCH(Databackup!A147,Employee_Name,0),0)),\"\",(INDEX('Employee Data'!$F$4:$F$553,MATCH(Databackup!A147,Employee_Name,0))))","v":""},{"$f":"IF(ISERROR(INDEX('Employee Data'!$G$4:$G$553,MATCH(Databackup!A147,Employee_Name,0),0)),\"\",(INDEX('Employee Data'!$G$4:$G$553,MATCH(Databackup!A147,Employee_Name,0))))","v":""},{"$f":"IF(ISERROR(INDEX('Employee Data'!$H$4:$H$553,MATCH(Databackup!A147,Employee_Name,0),0)),\"\",(INDEX('Employee Data'!$H$4:$H$553,MATCH(Databackup!A147,Employee_Name,0))))","v":""},{"$f":"IF(ISERROR(INDEX('Employee Data'!$I$4:$I$553,MATCH(Databackup!A147,Employee_Name,0),0)),\"\",(INDEX('Employee Data'!$I$4:$I$553,MATCH(Databackup!A147,Employee_Name,0))))","v":""},{"$f":"IF(ISERROR(INDEX('Employee Data'!$J$4:$J$553,MATCH(Databackup!A147,Employee_Name,0),0)),\"\",(INDEX('Employee Data'!J$4:$J$553,MATCH(Databackup!A147,Employee_Name,0))))","v":""},{"$f":"IF(ISERROR(INDEX('Employee Data'!$K$4:$K$553,MATCH(Databackup!A147,Employee_Name,0),0)),\"\",(INDEX('Employee Data'!$K$4:$K$553,MATCH(Databackup!A147,Employee_Name,0))))","v":""},{"$f":"IF(ISERROR(INDEX('Employee Data'!$L$4:$L$553,MATCH(Databackup!A147,Employee_Name,0),0)),\"\",(INDEX('Employee Data'!$L$4:$L$553,MATCH(Databackup!A147,Employee_Name,0))))","v":""},{"$f":"IF(ISERROR(INDEX('Employee Data'!$M$4:$M$553,MATCH(Databackup!A147,Employee_Name,0),0)),\"\",(INDEX('Employee Data'!$M$4:$M$553,MATCH(Databackup!A147,Employee_Name,0))))","v":""},{"$f":"IF(ISERROR(INDEX('Employee Data'!$N$4:$N$553,MATCH(Databackup!A147,Employee_Name,0),0)),\"\",(INDEX('Employee Data'!$N$4:$N$553,MATCH(Databackup!A147,Employee_Name,0))))","v":""},{"$f":"IF(ISERROR(INDEX('Employee Data'!$O$4:$O$553,MATCH(Databackup!A147,Employee_Name,0),0)),\"\",(INDEX('Employee Data'!$O$4:$O$553,MATCH(Databackup!A147,Employee_Name,0))))","v":""}]
[{"$f":"INDEX(Employee_Name,MATCH(SMALL(IF($A$1='Employee Data'!$I$4:$I$553,'Employee Data'!$B$4:$B$553,\"\"),ROW('Employee Data'!A146)),IF($A$1='Employee Data'!$I$4:$I$553,'Employee Data'!$B$4:$B$553,\"\"),0))","v":{"$error":"#NUM!"}},{"$f":"IF(ISERROR(INDEX('Employee Data'!$B$4:$B$553,MATCH(Databackup!A148,Employee_Name,0),0)),\"\",(INDEX('Employee Data'!$B$4:$B$553,MATCH(Databackup!A148,Employee_Name,0))))","v":""},{"$f":"IF(ISERROR(INDEX('Employee Data'!$C$4:$C$553,MATCH(Databackup!A148,Employee_Name,0),0)),\"\",(INDEX('Employee Data'!$C$4:$C$553,MATCH(Databackup!A148,Employee_Name,0))))","v":""},{"$f":"IF(ISERROR(INDEX('Employee Data'!$D$4:$D$553,MATCH(Databackup!A148,Employee_Name,0),0)),\"\",(INDEX('Employee Data'!$D$4:$D$553,MATCH(Databackup!A148,Employee_Name,0))))","v":""},{"$f":"IF(ISERROR(INDEX('Employee Data'!$F$4:$F$553,MATCH(Databackup!A148,Employee_Name,0),0)),\"\",(INDEX('Employee Data'!$F$4:$F$553,MATCH(Databackup!A148,Employee_Name,0))))","v":""},{"$f":"IF(ISERROR(INDEX('Employee Data'!$G$4:$G$553,MATCH(Databackup!A148,Employee_Name,0),0)),\"\",(INDEX('Employee Data'!$G$4:$G$553,MATCH(Databackup!A148,Employee_Name,0))))","v":""},{"$f":"IF(ISERROR(INDEX('Employee Data'!$H$4:$H$553,MATCH(Databackup!A148,Employee_Name,0),0)),\"\",(INDEX('Employee Data'!$H$4:$H$553,MATCH(Databackup!A148,Employee_Name,0))))","v":""},{"$f":"IF(ISERROR(INDEX('Employee Data'!$I$4:$I$553,MATCH(Databackup!A148,Employee_Name,0),0)),\"\",(INDEX('Employee Data'!$I$4:$I$553,MATCH(Databackup!A148,Employee_Name,0))))","v":""},{"$f":"IF(ISERROR(INDEX('Employee Data'!$J$4:$J$553,MATCH(Databackup!A148,Employee_Name,0),0)),\"\",(INDEX('Employee Data'!J$4:$J$553,MATCH(Databackup!A148,Employee_Name,0))))","v":""},{"$f":"IF(ISERROR(INDEX('Employee Data'!$K$4:$K$553,MATCH(Databackup!A148,Employee_Name,0),0)),\"\",(INDEX('Employee Data'!$K$4:$K$553,MATCH(Databackup!A148,Employee_Name,0))))","v":""},{"$f":"IF(ISERROR(INDEX('Employee Data'!$L$4:$L$553,MATCH(Databackup!A148,Employee_Name,0),0)),\"\",(INDEX('Employee Data'!$L$4:$L$553,MATCH(Databackup!A148,Employee_Name,0))))","v":""},{"$f":"IF(ISERROR(INDEX('Employee Data'!$M$4:$M$553,MATCH(Databackup!A148,Employee_Name,0),0)),\"\",(INDEX('Employee Data'!$M$4:$M$553,MATCH(Databackup!A148,Employee_Name,0))))","v":""},{"$f":"IF(ISERROR(INDEX('Employee Data'!$N$4:$N$553,MATCH(Databackup!A148,Employee_Name,0),0)),\"\",(INDEX('Employee Data'!$N$4:$N$553,MATCH(Databackup!A148,Employee_Name,0))))","v":""},{"$f":"IF(ISERROR(INDEX('Employee Data'!$O$4:$O$553,MATCH(Databackup!A148,Employee_Name,0),0)),\"\",(INDEX('Employee Data'!$O$4:$O$553,MATCH(Databackup!A148,Employee_Name,0))))","v":""}]
[{"$f":"INDEX(Employee_Name,MATCH(SMALL(IF($A$1='Employee Data'!$I$4:$I$553,'Employee Data'!$B$4:$B$553,\"\"),ROW('Employee Data'!A147)),IF($A$1='Employee Data'!$I$4:$I$553,'Employee Data'!$B$4:$B$553,\"\"),0))","v":{"$error":"#NUM!"}},{"$f":"IF(ISERROR(INDEX('Employee Data'!$B$4:$B$553,MATCH(Databackup!A149,Employee_Name,0),0)),\"\",(INDEX('Employee Data'!$B$4:$B$553,MATCH(Databackup!A149,Employee_Name,0))))","v":""},{"$f":"IF(ISERROR(INDEX('Employee Data'!$C$4:$C$553,MATCH(Databackup!A149,Employee_Name,0),0)),\"\",(INDEX('Employee Data'!$C$4:$C$553,MATCH(Databackup!A149,Employee_Name,0))))","v":""},{"$f":"IF(ISERROR(INDEX('Employee Data'!$D$4:$D$553,MATCH(Databackup!A149,Employee_Name,0),0)),\"\",(INDEX('Employee Data'!$D$4:$D$553,MATCH(Databackup!A149,Employee_Name,0))))","v":""},{"$f":"IF(ISERROR(INDEX('Employee Data'!$F$4:$F$553,MATCH(Databackup!A149,Employee_Name,0),0)),\"\",(INDEX('Employee Data'!$F$4:$F$553,MATCH(Databackup!A149,Employee_Name,0))))","v":""},{"$f":"IF(ISERROR(INDEX('Employee Data'!$G$4:$G$553,MATCH(Databackup!A149,Employee_Name,0),0)),\"\",(INDEX('Employee Data'!$G$4:$G$553,MATCH(Databackup!A149,Employee_Name,0))))","v":""},{"$f":"IF(ISERROR(INDEX('Employee Data'!$H$4:$H$553,MATCH(Databackup!A149,Employee_Name,0),0)),\"\",(INDEX('Employee Data'!$H$4:$H$553,MATCH(Databackup!A149,Employee_Name,0))))","v":""},{"$f":"IF(ISERROR(INDEX('Employee Data'!$I$4:$I$553,MATCH(Databackup!A149,Employee_Name,0),0)),\"\",(INDEX('Employee Data'!$I$4:$I$553,MATCH(Databackup!A149,Employee_Name,0))))","v":""},{"$f":"IF(ISERROR(INDEX('Employee Data'!$J$4:$J$553,MATCH(Databackup!A149,Employee_Name,0),0)),\"\",(INDEX('Employee Data'!J$4:$J$553,MATCH(Databackup!A149,Employee_Name,0))))","v":""},{"$f":"IF(ISERROR(INDEX('Employee Data'!$K$4:$K$553,MATCH(Databackup!A149,Employee_Name,0),0)),\"\",(INDEX('Employee Data'!$K$4:$K$553,MATCH(Databackup!A149,Employee_Name,0))))","v":""},{"$f":"IF(ISERROR(INDEX('Employee Data'!$L$4:$L$553,MATCH(Databackup!A149,Employee_Name,0),0)),\"\",(INDEX('Employee Data'!$L$4:$L$553,MATCH(Databackup!A149,Employee_Name,0))))","v":""},{"$f":"IF(ISERROR(INDEX('Employee Data'!$M$4:$M$553,MATCH(Databackup!A149,Employee_Name,0),0)),\"\",(INDEX('Employee Data'!$M$4:$M$553,MATCH(Databackup!A149,Employee_Name,0))))","v":""},{"$f":"IF(ISERROR(INDEX('Employee Data'!$N$4:$N$553,MATCH(Databackup!A149,Employee_Name,0),0)),\"\",(INDEX('Employee Data'!$N$4:$N$553,MATCH(Databackup!A149,Employee_Name,0))))","v":""},{"$f":"IF(ISERROR(INDEX('Employee Data'!$O$4:$O$553,MATCH(Databackup!A149,Employee_Name,0),0)),\"\",(INDEX('Employee Data'!$O$4:$O$553,MATCH(Databackup!A149,Employee_Name,0))))","v":""}]
[{"$f":"INDEX(Employee_Name,MATCH(SMALL(IF($A$1='Employee Data'!$I$4:$I$553,'Employee Data'!$B$4:$B$553,\"\"),ROW('Employee Data'!A148)),IF($A$1='Employee Data'!$I$4:$I$553,'Employee Data'!$B$4:$B$553,\"\"),0))","v":{"$error":"#NUM!"}},{"$f":"IF(ISERROR(INDEX('Employee Data'!$B$4:$B$553,MATCH(Databackup!A150,Employee_Name,0),0)),\"\",(INDEX('Employee Data'!$B$4:$B$553,MATCH(Databackup!A150,Employee_Name,0))))","v":""},{"$f":"IF(ISERROR(INDEX('Employee Data'!$C$4:$C$553,MATCH(Databackup!A150,Employee_Name,0),0)),\"\",(INDEX('Employee Data'!$C$4:$C$553,MATCH(Databackup!A150,Employee_Name,0))))","v":""},{"$f":"IF(ISERROR(INDEX('Employee Data'!$D$4:$D$553,MATCH(Databackup!A150,Employee_Name,0),0)),\"\",(INDEX('Employee Data'!$D$4:$D$553,MATCH(Databackup!A150,Employee_Name,0))))","v":""},{"$f":"IF(ISERROR(INDEX('Employee Data'!$F$4:$F$553,MATCH(Databackup!A150,Employee_Name,0),0)),\"\",(INDEX('Employee Data'!$F$4:$F$553,MATCH(Databackup!A150,Employee_Name,0))))","v":""},{"$f":"IF(ISERROR(INDEX('Employee Data'!$G$4:$G$553,MATCH(Databackup!A150,Employee_Name,0),0)),\"\",(INDEX('Employee Data'!$G$4:$G$553,MATCH(Databackup!A150,Employee_Name,0))))","v":""},{"$f":"IF(ISERROR(INDEX('Employee Data'!$H$4:$H$553,MATCH(Databackup!A150,Employee_Name,0),0)),\"\",(INDEX('Employee Data'!$H$4:$H$553,MATCH(Databackup!A150,Employee_Name,0))))","v":""},{"$f":"IF(ISERROR(INDEX('Employee Data'!$I$4:$I$553,MATCH(Databackup!A150,Employee_Name,0),0)),\"\",(INDEX('Employee Data'!$I$4:$I$553,MATCH(Databackup!A150,Employee_Name,0))))","v":""},{"$f":"IF(ISERROR(INDEX('Employee Data'!$J$4:$J$553,MATCH(Databackup!A150,Employee_Name,0),0)),\"\",(INDEX('Employee Data'!J$4:$J$553,MATCH(Databackup!A150,Employee_Name,0))))","v":""},{"$f":"IF(ISERROR(INDEX('Employee Data'!$K$4:$K$553,MATCH(Databackup!A150,Employee_Name,0),0)),\"\",(INDEX('Employee Data'!$K$4:$K$553,MATCH(Databackup!A150,Employee_Name,0))))","v":""},{"$f":"IF(ISERROR(INDEX('Employee Data'!$L$4:$L$553,MATCH(Databackup!A150,Employee_Name,0),0)),\"\",(INDEX('Employee Data'!$L$4:$L$553,MATCH(Databackup!A150,Employee_Name,0))))","v":""},{"$f":"IF(ISERROR(INDEX('Employee Data'!$M$4:$M$553,MATCH(Databackup!A150,Employee_Name,0),0)),\"\",(INDEX('Employee Data'!$M$4:$M$553,MATCH(Databackup!A150,Employee_Name,0))))","v":""},{"$f":"IF(ISERROR(INDEX('Employee Data'!$N$4:$N$553,MATCH(Databackup!A150,Employee_Name,0),0)),\"\",(INDEX('Employee Data'!$N$4:$N$553,MATCH(Databackup!A150,Employee_Name,0))))","v":""},{"$f":"IF(ISERROR(INDEX('Employee Data'!$O$4:$O$553,MATCH(Databackup!A150,Employee_Name,0),0)),\"\",(INDEX('Employee Data'!$O$4:$O$553,MATCH(Databackup!A150,Employee_Name,0))))","v":""}]
[{"$f":"INDEX(Employee_Name,MATCH(SMALL(IF($A$1='Employee Data'!$I$4:$I$553,'Employee Data'!$B$4:$B$553,\"\"),ROW('Employee Data'!A149)),IF($A$1='Employee Data'!$I$4:$I$553,'Employee Data'!$B$4:$B$553,\"\"),0))","v":{"$error":"#NUM!"}},{"$f":"IF(ISERROR(INDEX('Employee Data'!$B$4:$B$553,MATCH(Databackup!A151,Employee_Name,0),0)),\"\",(INDEX('Employee Data'!$B$4:$B$553,MATCH(Databackup!A151,Employee_Name,0))))","v":""},{"$f":"IF(ISERROR(INDEX('Employee Data'!$C$4:$C$553,MATCH(Databackup!A151,Employee_Name,0),0)),\"\",(INDEX('Employee Data'!$C$4:$C$553,MATCH(Databackup!A151,Employee_Name,0))))","v":""},{"$f":"IF(ISERROR(INDEX('Employee Data'!$D$4:$D$553,MATCH(Databackup!A151,Employee_Name,0),0)),\"\",(INDEX('Employee Data'!$D$4:$D$553,MATCH(Databackup!A151,Employee_Name,0))))","v":""},{"$f":"IF(ISERROR(INDEX('Employee Data'!$F$4:$F$553,MATCH(Databackup!A151,Employee_Name,0),0)),\"\",(INDEX('Employee Data'!$F$4:$F$553,MATCH(Databackup!A151,Employee_Name,0))))","v":""},{"$f":"IF(ISERROR(INDEX('Employee Data'!$G$4:$G$553,MATCH(Databackup!A151,Employee_Name,0),0)),\"\",(INDEX('Employee Data'!$G$4:$G$553,MATCH(Databackup!A151,Employee_Name,0))))","v":""},{"$f":"IF(ISERROR(INDEX('Employee Data'!$H$4:$H$553,MATCH(Databackup!A151,Employee_Name,0),0)),\"\",(INDEX('Employee Data'!$H$4:$H$553,MATCH(Databackup!A151,Employee_Name,0))))","v":""},{"$f":"IF(ISERROR(INDEX('Employee Data'!$I$4:$I$553,MATCH(Databackup!A151,Employee_Name,0),0)),\"\",(INDEX('Employee Data'!$I$4:$I$553,MATCH(Databackup!A151,Employee_Name,0))))","v":""},{"$f":"IF(ISERROR(INDEX('Employee Data'!$J$4:$J$553,MATCH(Databackup!A151,Employee_Name,0),0)),\"\",(INDEX('Employee Data'!J$4:$J$553,MATCH(Databackup!A151,Employee_Name,0))))","v":""},{"$f":"IF(ISERROR(INDEX('Employee Data'!$K$4:$K$553,MATCH(Databackup!A151,Employee_Name,0),0)),\"\",(INDEX('Employee Data'!$K$4:$K$553,MATCH(Databackup!A151,Employee_Name,0))))","v":""},{"$f":"IF(ISERROR(INDEX('Employee Data'!$L$4:$L$553,MATCH(Databackup!A151,Employee_Name,0),0)),\"\",(INDEX('Employee Data'!$L$4:$L$553,MATCH(Databackup!A151,Employee_Name,0))))","v":""},{"$f":"IF(ISERROR(INDEX('Employee Data'!$M$4:$M$553,MATCH(Databackup!A151,Employee_Name,0),0)),\"\",(INDEX('Employee Data'!$M$4:$M$553,MATCH(Databackup!A151,Employee_Name,0))))","v":""},{"$f":"IF(ISERROR(INDEX('Employee Data'!$N$4:$N$553,MATCH(Databackup!A151,Employee_Name,0),0)),\"\",(INDEX('Employee Data'!$N$4:$N$553,MATCH(Databackup!A151,Employee_Name,0))))","v":""},{"$f":"IF(ISERROR(INDEX('Employee Data'!$O$4:$O$553,MATCH(Databackup!A151,Employee_Name,0),0)),\"\",(INDEX('Employee Data'!$O$4:$O$553,MATCH(Databackup!A151,Employee_Name,0))))","v":""}]
[{"$f":"INDEX(Employee_Name,MATCH(SMALL(IF($A$1='Employee Data'!$I$4:$I$553,'Employee Data'!$B$4:$B$553,\"\"),ROW('Employee Data'!A150)),IF($A$1='Employee Data'!$I$4:$I$553,'Employee Data'!$B$4:$B$553,\"\"),0))","v":{"$error":"#NUM!"}},{"$f":"IF(ISERROR(INDEX('Employee Data'!$B$4:$B$553,MATCH(Databackup!A152,Employee_Name,0),0)),\"\",(INDEX('Employee Data'!$B$4:$B$553,MATCH(Databackup!A152,Employee_Name,0))))","v":""},{"$f":"IF(ISERROR(INDEX('Employee Data'!$C$4:$C$553,MATCH(Databackup!A152,Employee_Name,0),0)),\"\",(INDEX('Employee Data'!$C$4:$C$553,MATCH(Databackup!A152,Employee_Name,0))))","v":""},{"$f":"IF(ISERROR(INDEX('Employee Data'!$D$4:$D$553,MATCH(Databackup!A152,Employee_Name,0),0)),\"\",(INDEX('Employee Data'!$D$4:$D$553,MATCH(Databackup!A152,Employee_Name,0))))","v":""},{"$f":"IF(ISERROR(INDEX('Employee Data'!$F$4:$F$553,MATCH(Databackup!A152,Employee_Name,0),0)),\"\",(INDEX('Employee Data'!$F$4:$F$553,MATCH(Databackup!A152,Employee_Name,0))))","v":""},{"$f":"IF(ISERROR(INDEX('Employee Data'!$G$4:$G$553,MATCH(Databackup!A152,Employee_Name,0),0)),\"\",(INDEX('Employee Data'!$G$4:$G$553,MATCH(Databackup!A152,Employee_Name,0))))","v":""},{"$f":"IF(ISERROR(INDEX('Employee Data'!$H$4:$H$553,MATCH(Databackup!A152,Employee_Name,0),0)),\"\",(INDEX('Employee Data'!$H$4:$H$553,MATCH(Databackup!A152,Employee_Name,0))))","v":""},{"$f":"IF(ISERROR(INDEX('Employee Data'!$I$4:$I$553,MATCH(Databackup!A152,Employee_Name,0),0)),\"\",(INDEX('Employee Data'!$I$4:$I$553,MATCH(Databackup!A152,Employee_Name,0))))","v":""},{"$f":"IF(ISERROR(INDEX('Employee Data'!$J$4:$J$553,MATCH(Databackup!A152,Employee_Name,0),0)),\"\",(INDEX('Employee Data'!J$4:$J$553,MATCH(Databackup!A152,Employee_Name,0))))","v":""},{"$f":"IF(ISERROR(INDEX('Employee Data'!$K$4:$K$553,MATCH(Databackup!A152,Employee_Name,0),0)),\"\",(INDEX('Employee Data'!$K$4:$K$553,MATCH(Databackup!A152,Employee_Name,0))))","v":""},{"$f":"IF(ISERROR(INDEX('Employee Data'!$L$4:$L$553,MATCH(Databackup!A152,Employee_Name,0),0)),\"\",(INDEX('Employee Data'!$L$4:$L$553,MATCH(Databackup!A152,Employee_Name,0))))","v":""},{"$f":"IF(ISERROR(INDEX('Employee Data'!$M$4:$M$553,MATCH(Databackup!A152,Employee_Name,0),0)),\"\",(INDEX('Employee Data'!$M$4:$M$553,MATCH(Databackup!A152,Employee_Name,0))))","v":""},{"$f":"IF(ISERROR(INDEX('Employee Data'!$N$4:$N$553,MATCH(Databackup!A152,Employee_Name,0),0)),\"\",(INDEX('Employee Data'!$N$4:$N$553,MATCH(Databackup!A152,Employee_Name,0))))","v":""},{"$f":"IF(ISERROR(INDEX('Employee Data'!$O$4:$O$553,MATCH(Databackup!A152,Employee_Name,0),0)),\"\",(INDEX('Employee Data'!$O$4:$O$553,MATCH(Databackup!A152,Employee_Name,0))))","v":""}]
[{"$f":"INDEX(Employee_Name,MATCH(SMALL(IF($A$1='Employee Data'!$I$4:$I$553,'Employee Data'!$B$4:$B$553,\"\"),ROW('Employee Data'!A151)),IF($A$1='Employee Data'!$I$4:$I$553,'Employee Data'!$B$4:$B$553,\"\"),0))","v":{"$error":"#NUM!"}},{"$f":"IF(ISERROR(INDEX('Employee Data'!$B$4:$B$553,MATCH(Databackup!A153,Employee_Name,0),0)),\"\",(INDEX('Employee Data'!$B$4:$B$553,MATCH(Databackup!A153,Employee_Name,0))))","v":""},{"$f":"IF(ISERROR(INDEX('Employee Data'!$C$4:$C$553,MATCH(Databackup!A153,Employee_Name,0),0)),\"\",(INDEX('Employee Data'!$C$4:$C$553,MATCH(Databackup!A153,Employee_Name,0))))","v":""},{"$f":"IF(ISERROR(INDEX('Employee Data'!$D$4:$D$553,MATCH(Databackup!A153,Employee_Name,0),0)),\"\",(INDEX('Employee Data'!$D$4:$D$553,MATCH(Databackup!A153,Employee_Name,0))))","v":""},{"$f":"IF(ISERROR(INDEX('Employee Data'!$F$4:$F$553,MATCH(Databackup!A153,Employee_Name,0),0)),\"\",(INDEX('Employee Data'!$F$4:$F$553,MATCH(Databackup!A153,Employee_Name,0))))","v":""},{"$f":"IF(ISERROR(INDEX('Employee Data'!$G$4:$G$553,MATCH(Databackup!A153,Employee_Name,0),0)),\"\",(INDEX('Employee Data'!$G$4:$G$553,MATCH(Databackup!A153,Employee_Name,0))))","v":""},{"$f":"IF(ISERROR(INDEX('Employee Data'!$H$4:$H$553,MATCH(Databackup!A153,Employee_Name,0),0)),\"\",(INDEX('Employee Data'!$H$4:$H$553,MATCH(Databackup!A153,Employee_Name,0))))","v":""},{"$f":"IF(ISERROR(INDEX('Employee Data'!$I$4:$I$553,MATCH(Databackup!A153,Employee_Name,0),0)),\"\",(INDEX('Employee Data'!$I$4:$I$553,MATCH(Databackup!A153,Employee_Name,0))))","v":""},{"$f":"IF(ISERROR(INDEX('Employee Data'!$J$4:$J$553,MATCH(Databackup!A153,Employee_Name,0),0)),\"\",(INDEX('Employee Data'!J$4:$J$553,MATCH(Databackup!A153,Employee_Name,0))))","v":""},{"$f":"IF(ISERROR(INDEX('Employee Data'!$K$4:$K$553,MATCH(Databackup!A153,Employee_Name,0),0)),\"\",(INDEX('Employee Data'!$K$4:$K$553,MATCH(Databackup!A153,Employee_Name,0))))","v":""},{"$f":"IF(ISERROR(INDEX('Employee Data'!$L$4:$L$553,MATCH(Databackup!A153,Employee_Name,0),0)),\"\",(INDEX('Employee Data'!$L$4:$L$553,MATCH(Databackup!A153,Employee_Name,0))))","v":""},{"$f":"IF(ISERROR(INDEX('Employee Data'!$M$4:$M$553,MATCH(Databackup!A153,Employee_Name,0),0)),\"\",(INDEX('Employee Data'!$M$4:$M$553,MATCH(Databackup!A153,Employee_Name,0))))","v":""},{"$f":"IF(ISERROR(INDEX('Employee Data'!$N$4:$N$553,MATCH(Databackup!A153,Employee_Name,0),0)),\"\",(INDEX('Employee Data'!$N$4:$N$553,MATCH(Databackup!A153,Employee_Name,0))))","v":""},{"$f":"IF(ISERROR(INDEX('Employee Data'!$O$4:$O$553,MATCH(Databackup!A153,Employee_Name,0),0)),\"\",(INDEX('Employee Data'!$O$4:$O$553,MATCH(Databackup!A153,Employee_Name,0))))","v":""}]
[{"$f":"INDEX(Employee_Name,MATCH(SMALL(IF($A$1='Employee Data'!$I$4:$I$553,'Employee Data'!$B$4:$B$553,\"\"),ROW('Employee Data'!A152)),IF($A$1='Employee Data'!$I$4:$I$553,'Employee Data'!$B$4:$B$553,\"\"),0))","v":{"$error":"#NUM!"}},{"$f":"IF(ISERROR(INDEX('Employee Data'!$B$4:$B$553,MATCH(Databackup!A154,Employee_Name,0),0)),\"\",(INDEX('Employee Data'!$B$4:$B$553,MATCH(Databackup!A154,Employee_Name,0))))","v":""},{"$f":"IF(ISERROR(INDEX('Employee Data'!$C$4:$C$553,MATCH(Databackup!A154,Employee_Name,0),0)),\"\",(INDEX('Employee Data'!$C$4:$C$553,MATCH(Databackup!A154,Employee_Name,0))))","v":""},{"$f":"IF(ISERROR(INDEX('Employee Data'!$D$4:$D$553,MATCH(Databackup!A154,Employee_Name,0),0)),\"\",(INDEX('Employee Data'!$D$4:$D$553,MATCH(Databackup!A154,Employee_Name,0))))","v":""},{"$f":"IF(ISERROR(INDEX('Employee Data'!$F$4:$F$553,MATCH(Databackup!A154,Employee_Name,0),0)),\"\",(INDEX('Employee Data'!$F$4:$F$553,MATCH(Databackup!A154,Employee_Name,0))))","v":""},{"$f":"IF(ISERROR(INDEX('Employee Data'!$G$4:$G$553,MATCH(Databackup!A154,Employee_Name,0),0)),\"\",(INDEX('Employee Data'!$G$4:$G$553,MATCH(Databackup!A154,Employee_Name,0))))","v":""},{"$f":"IF(ISERROR(INDEX('Employee Data'!$H$4:$H$553,MATCH(Databackup!A154,Employee_Name,0),0)),\"\",(INDEX('Employee Data'!$H$4:$H$553,MATCH(Databackup!A154,Employee_Name,0))))","v":""},{"$f":"IF(ISERROR(INDEX('Employee Data'!$I$4:$I$553,MATCH(Databackup!A154,Employee_Name,0),0)),\"\",(INDEX('Employee Data'!$I$4:$I$553,MATCH(Databackup!A154,Employee_Name,0))))","v":""},{"$f":"IF(ISERROR(INDEX('Employee Data'!$J$4:$J$553,MATCH(Databackup!A154,Employee_Name,0),0)),\"\",(INDEX('Employee Data'!J$4:$J$553,MATCH(Databackup!A154,Employee_Name,0))))","v":""},{"$f":"IF(ISERROR(INDEX('Employee Data'!$K$4:$K$553,MATCH(Databackup!A154,Employee_Name,0),0)),\"\",(INDEX('Employee Data'!$K$4:$K$553,MATCH(Databackup!A154,Employee_Name,0))))","v":""},{"$f":"IF(ISERROR(INDEX('Employee Data'!$L$4:$L$553,MATCH(Databackup!A154,Employee_Name,0),0)),\"\",(INDEX('Employee Data'!$L$4:$L$553,MATCH(Databackup!A154,Employee_Name,0))))","v":""},{"$f":"IF(ISERROR(INDEX('Employee Data'!$M$4:$M$553,MATCH(Databackup!A154,Employee_Name,0),0)),\"\",(INDEX('Employee Data'!$M$4:$M$553,MATCH(Databackup!A154,Employee_Name,0))))","v":""},{"$f":"IF(ISERROR(INDEX('Employee Data'!$N$4:$N$553,MATCH(Databackup!A154,Employee_Name,0),0)),\"\",(INDEX('Employee Data'!$N$4:$N$553,MATCH(Databackup!A154,Employee_Name,0))))","v":""},{"$f":"IF(ISERROR(INDEX('Employee Data'!$O$4:$O$553,MATCH(Databackup!A154,Employee_Name,0),0)),\"\",(INDEX('Employee Data'!$O$4:$O$553,MATCH(Databackup!A154,Employee_Name,0))))","v":""}]
[{"$f":"INDEX(Employee_Name,MATCH(SMALL(IF($A$1='Employee Data'!$I$4:$I$553,'Employee Data'!$B$4:$B$553,\"\"),ROW('Employee Data'!A153)),IF($A$1='Employee Data'!$I$4:$I$553,'Employee Data'!$B$4:$B$553,\"\"),0))","v":{"$error":"#NUM!"}},{"$f":"IF(ISERROR(INDEX('Employee Data'!$B$4:$B$553,MATCH(Databackup!A155,Employee_Name,0),0)),\"\",(INDEX('Employee Data'!$B$4:$B$553,MATCH(Databackup!A155,Employee_Name,0))))","v":""},{"$f":"IF(ISERROR(INDEX('Employee Data'!$C$4:$C$553,MATCH(Databackup!A155,Employee_Name,0),0)),\"\",(INDEX('Employee Data'!$C$4:$C$553,MATCH(Databackup!A155,Employee_Name,0))))","v":""},{"$f":"IF(ISERROR(INDEX('Employee Data'!$D$4:$D$553,MATCH(Databackup!A155,Employee_Name,0),0)),\"\",(INDEX('Employee Data'!$D$4:$D$553,MATCH(Databackup!A155,Employee_Name,0))))","v":""},{"$f":"IF(ISERROR(INDEX('Employee Data'!$F$4:$F$553,MATCH(Databackup!A155,Employee_Name,0),0)),\"\",(INDEX('Employee Data'!$F$4:$F$553,MATCH(Databackup!A155,Employee_Name,0))))","v":""},{"$f":"IF(ISERROR(INDEX('Employee Data'!$G$4:$G$553,MATCH(Databackup!A155,Employee_Name,0),0)),\"\",(INDEX('Employee Data'!$G$4:$G$553,MATCH(Databackup!A155,Employee_Name,0))))","v":""},{"$f":"IF(ISERROR(INDEX('Employee Data'!$H$4:$H$553,MATCH(Databackup!A155,Employee_Name,0),0)),\"\",(INDEX('Employee Data'!$H$4:$H$553,MATCH(Databackup!A155,Employee_Name,0))))","v":""},{"$f":"IF(ISERROR(INDEX('Employee Data'!$I$4:$I$553,MATCH(Databackup!A155,Employee_Name,0),0)),\"\",(INDEX('Employee Data'!$I$4:$I$553,MATCH(Databackup!A155,Employee_Name,0))))","v":""},{"$f":"IF(ISERROR(INDEX('Employee Data'!$J$4:$J$553,MATCH(Databackup!A155,Employee_Name,0),0)),\"\",(INDEX('Employee Data'!J$4:$J$553,MATCH(Databackup!A155,Employee_Name,0))))","v":""},{"$f":"IF(ISERROR(INDEX('Employee Data'!$K$4:$K$553,MATCH(Databackup!A155,Employee_Name,0),0)),\"\",(INDEX('Employee Data'!$K$4:$K$553,MATCH(Databackup!A155,Employee_Name,0))))","v":""},{"$f":"IF(ISERROR(INDEX('Employee Data'!$L$4:$L$553,MATCH(Databackup!A155,Employee_Name,0),0)),\"\",(INDEX('Employee Data'!$L$4:$L$553,MATCH(Databackup!A155,Employee_Name,0))))","v":""},{"$f":"IF(ISERROR(INDEX('Employee Data'!$M$4:$M$553,MATCH(Databackup!A155,Employee_Name,0),0)),\"\",(INDEX('Employee Data'!$M$4:$M$553,MATCH(Databackup!A155,Employee_Name,0))))","v":""},{"$f":"IF(ISERROR(INDEX('Employee Data'!$N$4:$N$553,MATCH(Databackup!A155,Employee_Name,0),0)),\"\",(INDEX('Employee Data'!$N$4:$N$553,MATCH(Databackup!A155,Employee_Name,0))))","v":""},{"$f":"IF(ISERROR(INDEX('Employee Data'!$O$4:$O$553,MATCH(Databackup!A155,Employee_Name,0),0)),\"\",(INDEX('Employee Data'!$O$4:$O$553,MATCH(Databackup!A155,Employee_Name,0))))","v":""}]
[{"$f":"INDEX(Employee_Name,MATCH(SMALL(IF($A$1='Employee Data'!$I$4:$I$553,'Employee Data'!$B$4:$B$553,\"\"),ROW('Employee Data'!A154)),IF($A$1='Employee Data'!$I$4:$I$553,'Employee Data'!$B$4:$B$553,\"\"),0))","v":{"$error":"#NUM!"}},{"$f":"IF(ISERROR(INDEX('Employee Data'!$B$4:$B$553,MATCH(Databackup!A156,Employee_Name,0),0)),\"\",(INDEX('Employee Data'!$B$4:$B$553,MATCH(Databackup!A156,Employee_Name,0))))","v":""},{"$f":"IF(ISERROR(INDEX('Employee Data'!$C$4:$C$553,MATCH(Databackup!A156,Employee_Name,0),0)),\"\",(INDEX('Employee Data'!$C$4:$C$553,MATCH(Databackup!A156,Employee_Name,0))))","v":""},{"$f":"IF(ISERROR(INDEX('Employee Data'!$D$4:$D$553,MATCH(Databackup!A156,Employee_Name,0),0)),\"\",(INDEX('Employee Data'!$D$4:$D$553,MATCH(Databackup!A156,Employee_Name,0))))","v":""},{"$f":"IF(ISERROR(INDEX('Employee Data'!$F$4:$F$553,MATCH(Databackup!A156,Employee_Name,0),0)),\"\",(INDEX('Employee Data'!$F$4:$F$553,MATCH(Databackup!A156,Employee_Name,0))))","v":""},{"$f":"IF(ISERROR(INDEX('Employee Data'!$G$4:$G$553,MATCH(Databackup!A156,Employee_Name,0),0)),\"\",(INDEX('Employee Data'!$G$4:$G$553,MATCH(Databackup!A156,Employee_Name,0))))","v":""},{"$f":"IF(ISERROR(INDEX('Employee Data'!$H$4:$H$553,MATCH(Databackup!A156,Employee_Name,0),0)),\"\",(INDEX('Employee Data'!$H$4:$H$553,MATCH(Databackup!A156,Employee_Name,0))))","v":""},{"$f":"IF(ISERROR(INDEX('Employee Data'!$I$4:$I$553,MATCH(Databackup!A156,Employee_Name,0),0)),\"\",(INDEX('Employee Data'!$I$4:$I$553,MATCH(Databackup!A156,Employee_Name,0))))","v":""},{"$f":"IF(ISERROR(INDEX('Employee Data'!$J$4:$J$553,MATCH(Databackup!A156,Employee_Name,0),0)),\"\",(INDEX('Employee Data'!J$4:$J$553,MATCH(Databackup!A156,Employee_Name,0))))","v":""},{"$f":"IF(ISERROR(INDEX('Employee Data'!$K$4:$K$553,MATCH(Databackup!A156,Employee_Name,0),0)),\"\",(INDEX('Employee Data'!$K$4:$K$553,MATCH(Databackup!A156,Employee_Name,0))))","v":""},{"$f":"IF(ISERROR(INDEX('Employee Data'!$L$4:$L$553,MATCH(Databackup!A156,Employee_Name,0),0)),\"\",(INDEX('Employee Data'!$L$4:$L$553,MATCH(Databackup!A156,Employee_Name,0))))","v":""},{"$f":"IF(ISERROR(INDEX('Employee Data'!$M$4:$M$553,MATCH(Databackup!A156,Employee_Name,0),0)),\"\",(INDEX('Employee Data'!$M$4:$M$553,MATCH(Databackup!A156,Employee_Name,0))))","v":""},{"$f":"IF(ISERROR(INDEX('Employee Data'!$N$4:$N$553,MATCH(Databackup!A156,Employee_Name,0),0)),\"\",(INDEX('Employee Data'!$N$4:$N$553,MATCH(Databackup!A156,Employee_Name,0))))","v":""},{"$f":"IF(ISERROR(INDEX('Employee Data'!$O$4:$O$553,MATCH(Databackup!A156,Employee_Name,0),0)),\"\",(INDEX('Employee Data'!$O$4:$O$553,MATCH(Databackup!A156,Employee_Name,0))))","v":""}]
[{"$f":"INDEX(Employee_Name,MATCH(SMALL(IF($A$1='Employee Data'!$I$4:$I$553,'Employee Data'!$B$4:$B$553,\"\"),ROW('Employee Data'!A155)),IF($A$1='Employee Data'!$I$4:$I$553,'Employee Data'!$B$4:$B$553,\"\"),0))","v":{"$error":"#NUM!"}},{"$f":"IF(ISERROR(INDEX('Employee Data'!$B$4:$B$553,MATCH(Databackup!A157,Employee_Name,0),0)),\"\",(INDEX('Employee Data'!$B$4:$B$553,MATCH(Databackup!A157,Employee_Name,0))))","v":""},{"$f":"IF(ISERROR(INDEX('Employee Data'!$C$4:$C$553,MATCH(Databackup!A157,Employee_Name,0),0)),\"\",(INDEX('Employee Data'!$C$4:$C$553,MATCH(Databackup!A157,Employee_Name,0))))","v":""},{"$f":"IF(ISERROR(INDEX('Employee Data'!$D$4:$D$553,MATCH(Databackup!A157,Employee_Name,0),0)),\"\",(INDEX('Employee Data'!$D$4:$D$553,MATCH(Databackup!A157,Employee_Name,0))))","v":""},{"$f":"IF(ISERROR(INDEX('Employee Data'!$F$4:$F$553,MATCH(Databackup!A157,Employee_Name,0),0)),\"\",(INDEX('Employee Data'!$F$4:$F$553,MATCH(Databackup!A157,Employee_Name,0))))","v":""},{"$f":"IF(ISERROR(INDEX('Employee Data'!$G$4:$G$553,MATCH(Databackup!A157,Employee_Name,0),0)),\"\",(INDEX('Employee Data'!$G$4:$G$553,MATCH(Databackup!A157,Employee_Name,0))))","v":""},{"$f":"IF(ISERROR(INDEX('Employee Data'!$H$4:$H$553,MATCH(Databackup!A157,Employee_Name,0),0)),\"\",(INDEX('Employee Data'!$H$4:$H$553,MATCH(Databackup!A157,Employee_Name,0))))","v":""},{"$f":"IF(ISERROR(INDEX('Employee Data'!$I$4:$I$553,MATCH(Databackup!A157,Employee_Name,0),0)),\"\",(INDEX('Employee Data'!$I$4:$I$553,MATCH(Databackup!A157,Employee_Name,0))))","v":""},{"$f":"IF(ISERROR(INDEX('Employee Data'!$J$4:$J$553,MATCH(Databackup!A157,Employee_Name,0),0)),\"\",(INDEX('Employee Data'!J$4:$J$553,MATCH(Databackup!A157,Employee_Name,0))))","v":""},{"$f":"IF(ISERROR(INDEX('Employee Data'!$K$4:$K$553,MATCH(Databackup!A157,Employee_Name,0),0)),\"\",(INDEX('Employee Data'!$K$4:$K$553,MATCH(Databackup!A157,Employee_Name,0))))","v":""},{"$f":"IF(ISERROR(INDEX('Employee Data'!$L$4:$L$553,MATCH(Databackup!A157,Employee_Name,0),0)),\"\",(INDEX('Employee Data'!$L$4:$L$553,MATCH(Databackup!A157,Employee_Name,0))))","v":""},{"$f":"IF(ISERROR(INDEX('Employee Data'!$M$4:$M$553,MATCH(Databackup!A157,Employee_Name,0),0)),\"\",(INDEX('Employee Data'!$M$4:$M$553,MATCH(Databackup!A157,Employee_Name,0))))","v":""},{"$f":"IF(ISERROR(INDEX('Employee Data'!$N$4:$N$553,MATCH(Databackup!A157,Employee_Name,0),0)),\"\",(INDEX('Employee Data'!$N$4:$N$553,MATCH(Databackup!A157,Employee_Name,0))))","v":""},{"$f":"IF(ISERROR(INDEX('Employee Data'!$O$4:$O$553,MATCH(Databackup!A157,Employee_Name,0),0)),\"\",(INDEX('Employee Data'!$O$4:$O$553,MATCH(Databackup!A157,Employee_Name,0))))","v":""}]
[{"$f":"INDEX(Employee_Name,MATCH(SMALL(IF($A$1='Employee Data'!$I$4:$I$553,'Employee Data'!$B$4:$B$553,\"\"),ROW('Employee Data'!A156)),IF($A$1='Employee Data'!$I$4:$I$553,'Employee Data'!$B$4:$B$553,\"\"),0))","v":{"$error":"#NUM!"}},{"$f":"IF(ISERROR(INDEX('Employee Data'!$B$4:$B$553,MATCH(Databackup!A158,Employee_Name,0),0)),\"\",(INDEX('Employee Data'!$B$4:$B$553,MATCH(Databackup!A158,Employee_Name,0))))","v":""},{"$f":"IF(ISERROR(INDEX('Employee Data'!$C$4:$C$553,MATCH(Databackup!A158,Employee_Name,0),0)),\"\",(INDEX('Employee Data'!$C$4:$C$553,MATCH(Databackup!A158,Employee_Name,0))))","v":""},{"$f":"IF(ISERROR(INDEX('Employee Data'!$D$4:$D$553,MATCH(Databackup!A158,Employee_Name,0),0)),\"\",(INDEX('Employee Data'!$D$4:$D$553,MATCH(Databackup!A158,Employee_Name,0))))","v":""},{"$f":"IF(ISERROR(INDEX('Employee Data'!$F$4:$F$553,MATCH(Databackup!A158,Employee_Name,0),0)),\"\",(INDEX('Employee Data'!$F$4:$F$553,MATCH(Databackup!A158,Employee_Name,0))))","v":""},{"$f":"IF(ISERROR(INDEX('Employee Data'!$G$4:$G$553,MATCH(Databackup!A158,Employee_Name,0),0)),\"\",(INDEX('Employee Data'!$G$4:$G$553,MATCH(Databackup!A158,Employee_Name,0))))","v":""},{"$f":"IF(ISERROR(INDEX('Employee Data'!$H$4:$H$553,MATCH(Databackup!A158,Employee_Name,0),0)),\"\",(INDEX('Employee Data'!$H$4:$H$553,MATCH(Databackup!A158,Employee_Name,0))))","v":""},{"$f":"IF(ISERROR(INDEX('Employee Data'!$I$4:$I$553,MATCH(Databackup!A158,Employee_Name,0),0)),\"\",(INDEX('Employee Data'!$I$4:$I$553,MATCH(Databackup!A158,Employee_Name,0))))","v":""},{"$f":"IF(ISERROR(INDEX('Employee Data'!$J$4:$J$553,MATCH(Databackup!A158,Employee_Name,0),0)),\"\",(INDEX('Employee Data'!J$4:$J$553,MATCH(Databackup!A158,Employee_Name,0))))","v":""},{"$f":"IF(ISERROR(INDEX('Employee Data'!$K$4:$K$553,MATCH(Databackup!A158,Employee_Name,0),0)),\"\",(INDEX('Employee Data'!$K$4:$K$553,MATCH(Databackup!A158,Employee_Name,0))))","v":""},{"$f":"IF(ISERROR(INDEX('Employee Data'!$L$4:$L$553,MATCH(Databackup!A158,Employee_Name,0),0)),\"\",(INDEX('Employee Data'!$L$4:$L$553,MATCH(Databackup!A158,Employee_Name,0))))","v":""},{"$f":"IF(ISERROR(INDEX('Employee Data'!$M$4:$M$553,MATCH(Databackup!A158,Employee_Name,0),0)),\"\",(INDEX('Employee Data'!$M$4:$M$553,MATCH(Databackup!A158,Employee_Name,0))))","v":""},{"$f":"IF(ISERROR(INDEX('Employee Data'!$N$4:$N$553,MATCH(Databackup!A158,Employee_Name,0),0)),\"\",(INDEX('Employee Data'!$N$4:$N$553,MATCH(Databackup!A158,Employee_Name,0))))","v":""},{"$f":"IF(ISERROR(INDEX('Employee Data'!$O$4:$O$553,MATCH(Databackup!A158,Employee_Name,0),0)),\"\",(INDEX('Employee Data'!$O$4:$O$553,MATCH(Databackup!A158,Employee_Name,0))))","v":""}]
[{"$f":"INDEX(Employee_Name,MATCH(SMALL(IF($A$1='Employee Data'!$I$4:$I$553,'Employee Data'!$B$4:$B$553,\"\"),ROW('Employee Data'!A157)),IF($A$1='Employee Data'!$I$4:$I$553,'Employee Data'!$B$4:$B$553,\"\"),0))","v":{"$error":"#NUM!"}},{"$f":"IF(ISERROR(INDEX('Employee Data'!$B$4:$B$553,MATCH(Databackup!A159,Employee_Name,0),0)),\"\",(INDEX('Employee Data'!$B$4:$B$553,MATCH(Databackup!A159,Employee_Name,0))))","v":""},{"$f":"IF(ISERROR(INDEX('Employee Data'!$C$4:$C$553,MATCH(Databackup!A159,Employee_Name,0),0)),\"\",(INDEX('Employee Data'!$C$4:$C$553,MATCH(Databackup!A159,Employee_Name,0))))","v":""},{"$f":"IF(ISERROR(INDEX('Employee Data'!$D$4:$D$553,MATCH(Databackup!A159,Employee_Name,0),0)),\"\",(INDEX('Employee Data'!$D$4:$D$553,MATCH(Databackup!A159,Employee_Name,0))))","v":""},{"$f":"IF(ISERROR(INDEX('Employee Data'!$F$4:$F$553,MATCH(Databackup!A159,Employee_Name,0),0)),\"\",(INDEX('Employee Data'!$F$4:$F$553,MATCH(Databackup!A159,Employee_Name,0))))","v":""},{"$f":"IF(ISERROR(INDEX('Employee Data'!$G$4:$G$553,MATCH(Databackup!A159,Employee_Name,0),0)),\"\",(INDEX('Employee Data'!$G$4:$G$553,MATCH(Databackup!A159,Employee_Name,0))))","v":""},{"$f":"IF(ISERROR(INDEX('Employee Data'!$H$4:$H$553,MATCH(Databackup!A159,Employee_Name,0),0)),\"\",(INDEX('Employee Data'!$H$4:$H$553,MATCH(Databackup!A159,Employee_Name,0))))","v":""},{"$f":"IF(ISERROR(INDEX('Employee Data'!$I$4:$I$553,MATCH(Databackup!A159,Employee_Name,0),0)),\"\",(INDEX('Employee Data'!$I$4:$I$553,MATCH(Databackup!A159,Employee_Name,0))))","v":""},{"$f":"IF(ISERROR(INDEX('Employee Data'!$J$4:$J$553,MATCH(Databackup!A159,Employee_Name,0),0)),\"\",(INDEX('Employee Data'!J$4:$J$553,MATCH(Databackup!A159,Employee_Name,0))))","v":""},{"$f":"IF(ISERROR(INDEX('Employee Data'!$K$4:$K$553,MATCH(Databackup!A159,Employee_Name,0),0)),\"\",(INDEX('Employee Data'!$K$4:$K$553,MATCH(Databackup!A159,Employee_Name,0))))","v":""},{"$f":"IF(ISERROR(INDEX('Employee Data'!$L$4:$L$553,MATCH(Databackup!A159,Employee_Name,0),0)),\"\",(INDEX('Employee Data'!$L$4:$L$553,MATCH(Databackup!A159,Employee_Name,0))))","v":""},{"$f":"IF(ISERROR(INDEX('Employee Data'!$M$4:$M$553,MATCH(Databackup!A159,Employee_Name,0),0)),\"\",(INDEX('Employee Data'!$M$4:$M$553,MATCH(Databackup!A159,Employee_Name,0))))","v":""},{"$f":"IF(ISERROR(INDEX('Employee Data'!$N$4:$N$553,MATCH(Databackup!A159,Employee_Name,0),0)),\"\",(INDEX('Employee Data'!$N$4:$N$553,MATCH(Databackup!A159,Employee_Name,0))))","v":""},{"$f":"IF(ISERROR(INDEX('Employee Data'!$O$4:$O$553,MATCH(Databackup!A159,Employee_Name,0),0)),\"\",(INDEX('Employee Data'!$O$4:$O$553,MATCH(Databackup!A159,Employee_Name,0))))","v":""}]
[{"$f":"INDEX(Employee_Name,MATCH(SMALL(IF($A$1='Employee Data'!$I$4:$I$553,'Employee Data'!$B$4:$B$553,\"\"),ROW('Employee Data'!A158)),IF($A$1='Employee Data'!$I$4:$I$553,'Employee Data'!$B$4:$B$553,\"\"),0))","v":{"$error":"#NUM!"}},{"$f":"IF(ISERROR(INDEX('Employee Data'!$B$4:$B$553,MATCH(Databackup!A160,Employee_Name,0),0)),\"\",(INDEX('Employee Data'!$B$4:$B$553,MATCH(Databackup!A160,Employee_Name,0))))","v":""},{"$f":"IF(ISERROR(INDEX('Employee Data'!$C$4:$C$553,MATCH(Databackup!A160,Employee_Name,0),0)),\"\",(INDEX('Employee Data'!$C$4:$C$553,MATCH(Databackup!A160,Employee_Name,0))))","v":""},{"$f":"IF(ISERROR(INDEX('Employee Data'!$D$4:$D$553,MATCH(Databackup!A160,Employee_Name,0),0)),\"\",(INDEX('Employee Data'!$D$4:$D$553,MATCH(Databackup!A160,Employee_Name,0))))","v":""},{"$f":"IF(ISERROR(INDEX('Employee Data'!$F$4:$F$553,MATCH(Databackup!A160,Employee_Name,0),0)),\"\",(INDEX('Employee Data'!$F$4:$F$553,MATCH(Databackup!A160,Employee_Name,0))))","v":""},{"$f":"IF(ISERROR(INDEX('Employee Data'!$G$4:$G$553,MATCH(Databackup!A160,Employee_Name,0),0)),\"\",(INDEX('Employee Data'!$G$4:$G$553,MATCH(Databackup!A160,Employee_Name,0))))","v":""},{"$f":"IF(ISERROR(INDEX('Employee Data'!$H$4:$H$553,MATCH(Databackup!A160,Employee_Name,0),0)),\"\",(INDEX('Employee Data'!$H$4:$H$553,MATCH(Databackup!A160,Employee_Name,0))))","v":""},{"$f":"IF(ISERROR(INDEX('Employee Data'!$I$4:$I$553,MATCH(Databackup!A160,Employee_Name,0),0)),\"\",(INDEX('Employee Data'!$I$4:$I$553,MATCH(Databackup!A160,Employee_Name,0))))","v":""},{"$f":"IF(ISERROR(INDEX('Employee Data'!$J$4:$J$553,MATCH(Databackup!A160,Employee_Name,0),0)),\"\",(INDEX('Employee Data'!J$4:$J$553,MATCH(Databackup!A160,Employee_Name,0))))","v":""},{"$f":"IF(ISERROR(INDEX('Employee Data'!$K$4:$K$553,MATCH(Databackup!A160,Employee_Name,0),0)),\"\",(INDEX('Employee Data'!$K$4:$K$553,MATCH(Databackup!A160,Employee_Name,0))))","v":""},{"$f":"IF(ISERROR(INDEX('Employee Data'!$L$4:$L$553,MATCH(Databackup!A160,Employee_Name,0),0)),\"\",(INDEX('Employee Data'!$L$4:$L$553,MATCH(Databackup!A160,Employee_Name,0))))","v":""},{"$f":"IF(ISERROR(INDEX('Employee Data'!$M$4:$M$553,MATCH(Databackup!A160,Employee_Name,0),0)),\"\",(INDEX('Employee Data'!$M$4:$M$553,MATCH(Databackup!A160,Employee_Name,0))))","v":""},{"$f":"IF(ISERROR(INDEX('Employee Data'!$N$4:$N$553,MATCH(Databackup!A160,Employee_Name,0),0)),\"\",(INDEX('Employee Data'!$N$4:$N$553,MATCH(Databackup!A160,Employee_Name,0))))","v":""},{"$f":"IF(ISERROR(INDEX('Employee Data'!$O$4:$O$553,MATCH(Databackup!A160,Employee_Name,0),0)),\"\",(INDEX('Employee Data'!$O$4:$O$553,MATCH(Databackup!A160,Employee_Name,0))))","v":""}]
[{"$f":"INDEX(Employee_Name,MATCH(SMALL(IF($A$1='Employee Data'!$I$4:$I$553,'Employee Data'!$B$4:$B$553,\"\"),ROW('Employee Data'!A159)),IF($A$1='Employee Data'!$I$4:$I$553,'Employee Data'!$B$4:$B$553,\"\"),0))","v":{"$error":"#NUM!"}},{"$f":"IF(ISERROR(INDEX('Employee Data'!$B$4:$B$553,MATCH(Databackup!A161,Employee_Name,0),0)),\"\",(INDEX('Employee Data'!$B$4:$B$553,MATCH(Databackup!A161,Employee_Name,0))))","v":""},{"$f":"IF(ISERROR(INDEX('Employee Data'!$C$4:$C$553,MATCH(Databackup!A161,Employee_Name,0),0)),\"\",(INDEX('Employee Data'!$C$4:$C$553,MATCH(Databackup!A161,Employee_Name,0))))","v":""},{"$f":"IF(ISERROR(INDEX('Employee Data'!$D$4:$D$553,MATCH(Databackup!A161,Employee_Name,0),0)),\"\",(INDEX('Employee Data'!$D$4:$D$553,MATCH(Databackup!A161,Employee_Name,0))))","v":""},{"$f":"IF(ISERROR(INDEX('Employee Data'!$F$4:$F$553,MATCH(Databackup!A161,Employee_Name,0),0)),\"\",(INDEX('Employee Data'!$F$4:$F$553,MATCH(Databackup!A161,Employee_Name,0))))","v":""},{"$f":"IF(ISERROR(INDEX('Employee Data'!$G$4:$G$553,MATCH(Databackup!A161,Employee_Name,0),0)),\"\",(INDEX('Employee Data'!$G$4:$G$553,MATCH(Databackup!A161,Employee_Name,0))))","v":""},{"$f":"IF(ISERROR(INDEX('Employee Data'!$H$4:$H$553,MATCH(Databackup!A161,Employee_Name,0),0)),\"\",(INDEX('Employee Data'!$H$4:$H$553,MATCH(Databackup!A161,Employee_Name,0))))","v":""},{"$f":"IF(ISERROR(INDEX('Employee Data'!$I$4:$I$553,MATCH(Databackup!A161,Employee_Name,0),0)),\"\",(INDEX('Employee Data'!$I$4:$I$553,MATCH(Databackup!A161,Employee_Name,0))))","v":""},{"$f":"IF(ISERROR(INDEX('Employee Data'!$J$4:$J$553,MATCH(Databackup!A161,Employee_Name,0),0)),\"\",(INDEX('Employee Data'!J$4:$J$553,MATCH(Databackup!A161,Employee_Name,0))))","v":""},{"$f":"IF(ISERROR(INDEX('Employee Data'!$K$4:$K$553,MATCH(Databackup!A161,Employee_Name,0),0)),\"\",(INDEX('Employee Data'!$K$4:$K$553,MATCH(Databackup!A161,Employee_Name,0))))","v":""},{"$f":"IF(ISERROR(INDEX('Employee Data'!$L$4:$L$553,MATCH(Databackup!A161,Employee_Name,0),0)),\"\",(INDEX('Employee Data'!$L$4:$L$553,MATCH(Databackup!A161,Employee_Name,0))))","v":""},{"$f":"IF(ISERROR(INDEX('Employee Data'!$M$4:$M$553,MATCH(Databackup!A161,Employee_Name,0),0)),\"\",(INDEX('Employee Data'!$M$4:$M$553,MATCH(Databackup!A161,Employee_Name,0))))","v":""},{"$f":"IF(ISERROR(INDEX('Employee Data'!$N$4:$N$553,MATCH(Databackup!A161,Employee_Name,0),0)),\"\",(INDEX('Employee Data'!$N$4:$N$553,MATCH(Databackup!A161,Employee_Name,0))))","v":""},{"$f":"IF(ISERROR(INDEX('Employee Data'!$O$4:$O$553,MATCH(Databackup!A161,Employee_Name,0),0)),\"\",(INDEX('Employee Data'!$O$4:$O$553,MATCH(Databackup!A161,Employee_Name,0))))","v":""}]
[{"$f":"INDEX(Employee_Name,MATCH(SMALL(IF($A$1='Employee Data'!$I$4:$I$553,'Employee Data'!$B$4:$B$553,\"\"),ROW('Employee Data'!A160)),IF($A$1='Employee Data'!$I$4:$I$553,'Employee Data'!$B$4:$B$553,\"\"),0))","v":{"$error":"#NUM!"}},{"$f":"IF(ISERROR(INDEX('Employee Data'!$B$4:$B$553,MATCH(Databackup!A162,Employee_Name,0),0)),\"\",(INDEX('Employee Data'!$B$4:$B$553,MATCH(Databackup!A162,Employee_Name,0))))","v":""},{"$f":"IF(ISERROR(INDEX('Employee Data'!$C$4:$C$553,MATCH(Databackup!A162,Employee_Name,0),0)),\"\",(INDEX('Employee Data'!$C$4:$C$553,MATCH(Databackup!A162,Employee_Name,0))))","v":""},{"$f":"IF(ISERROR(INDEX('Employee Data'!$D$4:$D$553,MATCH(Databackup!A162,Employee_Name,0),0)),\"\",(INDEX('Employee Data'!$D$4:$D$553,MATCH(Databackup!A162,Employee_Name,0))))","v":""},{"$f":"IF(ISERROR(INDEX('Employee Data'!$F$4:$F$553,MATCH(Databackup!A162,Employee_Name,0),0)),\"\",(INDEX('Employee Data'!$F$4:$F$553,MATCH(Databackup!A162,Employee_Name,0))))","v":""},{"$f":"IF(ISERROR(INDEX('Employee Data'!$G$4:$G$553,MATCH(Databackup!A162,Employee_Name,0),0)),\"\",(INDEX('Employee Data'!$G$4:$G$553,MATCH(Databackup!A162,Employee_Name,0))))","v":""},{"$f":"IF(ISERROR(INDEX('Employee Data'!$H$4:$H$553,MATCH(Databackup!A162,Employee_Name,0),0)),\"\",(INDEX('Employee Data'!$H$4:$H$553,MATCH(Databackup!A162,Employee_Name,0))))","v":""},{"$f":"IF(ISERROR(INDEX('Employee Data'!$I$4:$I$553,MATCH(Databackup!A162,Employee_Name,0),0)),\"\",(INDEX('Employee Data'!$I$4:$I$553,MATCH(Databackup!A162,Employee_Name,0))))","v":""},{"$f":"IF(ISERROR(INDEX('Employee Data'!$J$4:$J$553,MATCH(Databackup!A162,Employee_Name,0),0)),\"\",(INDEX('Employee Data'!J$4:$J$553,MATCH(Databackup!A162,Employee_Name,0))))","v":""},{"$f":"IF(ISERROR(INDEX('Employee Data'!$K$4:$K$553,MATCH(Databackup!A162,Employee_Name,0),0)),\"\",(INDEX('Employee Data'!$K$4:$K$553,MATCH(Databackup!A162,Employee_Name,0))))","v":""},{"$f":"IF(ISERROR(INDEX('Employee Data'!$L$4:$L$553,MATCH(Databackup!A162,Employee_Name,0),0)),\"\",(INDEX('Employee Data'!$L$4:$L$553,MATCH(Databackup!A162,Employee_Name,0))))","v":""},{"$f":"IF(ISERROR(INDEX('Employee Data'!$M$4:$M$553,MATCH(Databackup!A162,Employee_Name,0),0)),\"\",(INDEX('Employee Data'!$M$4:$M$553,MATCH(Databackup!A162,Employee_Name,0))))","v":""},{"$f":"IF(ISERROR(INDEX('Employee Data'!$N$4:$N$553,MATCH(Databackup!A162,Employee_Name,0),0)),\"\",(INDEX('Employee Data'!$N$4:$N$553,MATCH(Databackup!A162,Employee_Name,0))))","v":""},{"$f":"IF(ISERROR(INDEX('Employee Data'!$O$4:$O$553,MATCH(Databackup!A162,Employee_Name,0),0)),\"\",(INDEX('Employee Data'!$O$4:$O$553,MATCH(Databackup!A162,Employee_Name,0))))","v":""}]
[{"$f":"INDEX(Employee_Name,MATCH(SMALL(IF($A$1='Employee Data'!$I$4:$I$553,'Employee Data'!$B$4:$B$553,\"\"),ROW('Employee Data'!A161)),IF($A$1='Employee Data'!$I$4:$I$553,'Employee Data'!$B$4:$B$553,\"\"),0))","v":{"$error":"#NUM!"}},{"$f":"IF(ISERROR(INDEX('Employee Data'!$B$4:$B$553,MATCH(Databackup!A163,Employee_Name,0),0)),\"\",(INDEX('Employee Data'!$B$4:$B$553,MATCH(Databackup!A163,Employee_Name,0))))","v":""},{"$f":"IF(ISERROR(INDEX('Employee Data'!$C$4:$C$553,MATCH(Databackup!A163,Employee_Name,0),0)),\"\",(INDEX('Employee Data'!$C$4:$C$553,MATCH(Databackup!A163,Employee_Name,0))))","v":""},{"$f":"IF(ISERROR(INDEX('Employee Data'!$D$4:$D$553,MATCH(Databackup!A163,Employee_Name,0),0)),\"\",(INDEX('Employee Data'!$D$4:$D$553,MATCH(Databackup!A163,Employee_Name,0))))","v":""},{"$f":"IF(ISERROR(INDEX('Employee Data'!$F$4:$F$553,MATCH(Databackup!A163,Employee_Name,0),0)),\"\",(INDEX('Employee Data'!$F$4:$F$553,MATCH(Databackup!A163,Employee_Name,0))))","v":""},{"$f":"IF(ISERROR(INDEX('Employee Data'!$G$4:$G$553,MATCH(Databackup!A163,Employee_Name,0),0)),\"\",(INDEX('Employee Data'!$G$4:$G$553,MATCH(Databackup!A163,Employee_Name,0))))","v":""},{"$f":"IF(ISERROR(INDEX('Employee Data'!$H$4:$H$553,MATCH(Databackup!A163,Employee_Name,0),0)),\"\",(INDEX('Employee Data'!$H$4:$H$553,MATCH(Databackup!A163,Employee_Name,0))))","v":""},{"$f":"IF(ISERROR(INDEX('Employee Data'!$I$4:$I$553,MATCH(Databackup!A163,Employee_Name,0),0)),\"\",(INDEX('Employee Data'!$I$4:$I$553,MATCH(Databackup!A163,Employee_Name,0))))","v":""},{"$f":"IF(ISERROR(INDEX('Employee Data'!$J$4:$J$553,MATCH(Databackup!A163,Employee_Name,0),0)),\"\",(INDEX('Employee Data'!J$4:$J$553,MATCH(Databackup!A163,Employee_Name,0))))","v":""},{"$f":"IF(ISERROR(INDEX('Employee Data'!$K$4:$K$553,MATCH(Databackup!A163,Employee_Name,0),0)),\"\",(INDEX('Employee Data'!$K$4:$K$553,MATCH(Databackup!A163,Employee_Name,0))))","v":""},{"$f":"IF(ISERROR(INDEX('Employee Data'!$L$4:$L$553,MATCH(Databackup!A163,Employee_Name,0),0)),\"\",(INDEX('Employee Data'!$L$4:$L$553,MATCH(Databackup!A163,Employee_Name,0))))","v":""},{"$f":"IF(ISERROR(INDEX('Employee Data'!$M$4:$M$553,MATCH(Databackup!A163,Employee_Name,0),0)),\"\",(INDEX('Employee Data'!$M$4:$M$553,MATCH(Databackup!A163,Employee_Name,0))))","v":""},{"$f":"IF(ISERROR(INDEX('Employee Data'!$N$4:$N$553,MATCH(Databackup!A163,Employee_Name,0),0)),\"\",(INDEX('Employee Data'!$N$4:$N$553,MATCH(Databackup!A163,Employee_Name,0))))","v":""},{"$f":"IF(ISERROR(INDEX('Employee Data'!$O$4:$O$553,MATCH(Databackup!A163,Employee_Name,0),0)),\"\",(INDEX('Employee Data'!$O$4:$O$553,MATCH(Databackup!A163,Employee_Name,0))))","v":""}]
[{"$f":"INDEX(Employee_Name,MATCH(SMALL(IF($A$1='Employee Data'!$I$4:$I$553,'Employee Data'!$B$4:$B$553,\"\"),ROW('Employee Data'!A162)),IF($A$1='Employee Data'!$I$4:$I$553,'Employee Data'!$B$4:$B$553,\"\"),0))","v":{"$error":"#NUM!"}},{"$f":"IF(ISERROR(INDEX('Employee Data'!$B$4:$B$553,MATCH(Databackup!A164,Employee_Name,0),0)),\"\",(INDEX('Employee Data'!$B$4:$B$553,MATCH(Databackup!A164,Employee_Name,0))))","v":""},{"$f":"IF(ISERROR(INDEX('Employee Data'!$C$4:$C$553,MATCH(Databackup!A164,Employee_Name,0),0)),\"\",(INDEX('Employee Data'!$C$4:$C$553,MATCH(Databackup!A164,Employee_Name,0))))","v":""},{"$f":"IF(ISERROR(INDEX('Employee Data'!$D$4:$D$553,MATCH(Databackup!A164,Employee_Name,0),0)),\"\",(INDEX('Employee Data'!$D$4:$D$553,MATCH(Databackup!A164,Employee_Name,0))))","v":""},{"$f":"IF(ISERROR(INDEX('Employee Data'!$F$4:$F$553,MATCH(Databackup!A164,Employee_Name,0),0)),\"\",(INDEX('Employee Data'!$F$4:$F$553,MATCH(Databackup!A164,Employee_Name,0))))","v":""},{"$f":"IF(ISERROR(INDEX('Employee Data'!$G$4:$G$553,MATCH(Databackup!A164,Employee_Name,0),0)),\"\",(INDEX('Employee Data'!$G$4:$G$553,MATCH(Databackup!A164,Employee_Name,0))))","v":""},{"$f":"IF(ISERROR(INDEX('Employee Data'!$H$4:$H$553,MATCH(Databackup!A164,Employee_Name,0),0)),\"\",(INDEX('Employee Data'!$H$4:$H$553,MATCH(Databackup!A164,Employee_Name,0))))","v":""},{"$f":"IF(ISERROR(INDEX('Employee Data'!$I$4:$I$553,MATCH(Databackup!A164,Employee_Name,0),0)),\"\",(INDEX('Employee Data'!$I$4:$I$553,MATCH(Databackup!A164,Employee_Name,0))))","v":""},{"$f":"IF(ISERROR(INDEX('Employee Data'!$J$4:$J$553,MATCH(Databackup!A164,Employee_Name,0),0)),\"\",(INDEX('Employee Data'!J$4:$J$553,MATCH(Databackup!A164,Employee_Name,0))))","v":""},{"$f":"IF(ISERROR(INDEX('Employee Data'!$K$4:$K$553,MATCH(Databackup!A164,Employee_Name,0),0)),\"\",(INDEX('Employee Data'!$K$4:$K$553,MATCH(Databackup!A164,Employee_Name,0))))","v":""},{"$f":"IF(ISERROR(INDEX('Employee Data'!$L$4:$L$553,MATCH(Databackup!A164,Employee_Name,0),0)),\"\",(INDEX('Employee Data'!$L$4:$L$553,MATCH(Databackup!A164,Employee_Name,0))))","v":""},{"$f":"IF(ISERROR(INDEX('Employee Data'!$M$4:$M$553,MATCH(Databackup!A164,Employee_Name,0),0)),\"\",(INDEX('Employee Data'!$M$4:$M$553,MATCH(Databackup!A164,Employee_Name,0))))","v":""},{"$f":"IF(ISERROR(INDEX('Employee Data'!$N$4:$N$553,MATCH(Databackup!A164,Employee_Name,0),0)),\"\",(INDEX('Employee Data'!$N$4:$N$553,MATCH(Databackup!A164,Employee_Name,0))))","v":""},{"$f":"IF(ISERROR(INDEX('Employee Data'!$O$4:$O$553,MATCH(Databackup!A164,Employee_Name,0),0)),\"\",(INDEX('Employee Data'!$O$4:$O$553,MATCH(Databackup!A164,Employee_Name,0))))","v":""}]
[{"$f":"INDEX(Employee_Name,MATCH(SMALL(IF($A$1='Employee Data'!$I$4:$I$553,'Employee Data'!$B$4:$B$553,\"\"),ROW('Employee Data'!A163)),IF($A$1='Employee Data'!$I$4:$I$553,'Employee Data'!$B$4:$B$553,\"\"),0))","v":{"$error":"#NUM!"}},{"$f":"IF(ISERROR(INDEX('Employee Data'!$B$4:$B$553,MATCH(Databackup!A165,Employee_Name,0),0)),\"\",(INDEX('Employee Data'!$B$4:$B$553,MATCH(Databackup!A165,Employee_Name,0))))","v":""},{"$f":"IF(ISERROR(INDEX('Employee Data'!$C$4:$C$553,MATCH(Databackup!A165,Employee_Name,0),0)),\"\",(INDEX('Employee Data'!$C$4:$C$553,MATCH(Databackup!A165,Employee_Name,0))))","v":""},{"$f":"IF(ISERROR(INDEX('Employee Data'!$D$4:$D$553,MATCH(Databackup!A165,Employee_Name,0),0)),\"\",(INDEX('Employee Data'!$D$4:$D$553,MATCH(Databackup!A165,Employee_Name,0))))","v":""},{"$f":"IF(ISERROR(INDEX('Employee Data'!$F$4:$F$553,MATCH(Databackup!A165,Employee_Name,0),0)),\"\",(INDEX('Employee Data'!$F$4:$F$553,MATCH(Databackup!A165,Employee_Name,0))))","v":""},{"$f":"IF(ISERROR(INDEX('Employee Data'!$G$4:$G$553,MATCH(Databackup!A165,Employee_Name,0),0)),\"\",(INDEX('Employee Data'!$G$4:$G$553,MATCH(Databackup!A165,Employee_Name,0))))","v":""},{"$f":"IF(ISERROR(INDEX('Employee Data'!$H$4:$H$553,MATCH(Databackup!A165,Employee_Name,0),0)),\"\",(INDEX('Employee Data'!$H$4:$H$553,MATCH(Databackup!A165,Employee_Name,0))))","v":""},{"$f":"IF(ISERROR(INDEX('Employee Data'!$I$4:$I$553,MATCH(Databackup!A165,Employee_Name,0),0)),\"\",(INDEX('Employee Data'!$I$4:$I$553,MATCH(Databackup!A165,Employee_Name,0))))","v":""},{"$f":"IF(ISERROR(INDEX('Employee Data'!$J$4:$J$553,MATCH(Databackup!A165,Employee_Name,0),0)),\"\",(INDEX('Employee Data'!J$4:$J$553,MATCH(Databackup!A165,Employee_Name,0))))","v":""},{"$f":"IF(ISERROR(INDEX('Employee Data'!$K$4:$K$553,MATCH(Databackup!A165,Employee_Name,0),0)),\"\",(INDEX('Employee Data'!$K$4:$K$553,MATCH(Databackup!A165,Employee_Name,0))))","v":""},{"$f":"IF(ISERROR(INDEX('Employee Data'!$L$4:$L$553,MATCH(Databackup!A165,Employee_Name,0),0)),\"\",(INDEX('Employee Data'!$L$4:$L$553,MATCH(Databackup!A165,Employee_Name,0))))","v":""},{"$f":"IF(ISERROR(INDEX('Employee Data'!$M$4:$M$553,MATCH(Databackup!A165,Employee_Name,0),0)),\"\",(INDEX('Employee Data'!$M$4:$M$553,MATCH(Databackup!A165,Employee_Name,0))))","v":""},{"$f":"IF(ISERROR(INDEX('Employee Data'!$N$4:$N$553,MATCH(Databackup!A165,Employee_Name,0),0)),\"\",(INDEX('Employee Data'!$N$4:$N$553,MATCH(Databackup!A165,Employee_Name,0))))","v":""},{"$f":"IF(ISERROR(INDEX('Employee Data'!$O$4:$O$553,MATCH(Databackup!A165,Employee_Name,0),0)),\"\",(INDEX('Employee Data'!$O$4:$O$553,MATCH(Databackup!A165,Employee_Name,0))))","v":""}]
[{"$f":"INDEX(Employee_Name,MATCH(SMALL(IF($A$1='Employee Data'!$I$4:$I$553,'Employee Data'!$B$4:$B$553,\"\"),ROW('Employee Data'!A164)),IF($A$1='Employee Data'!$I$4:$I$553,'Employee Data'!$B$4:$B$553,\"\"),0))","v":{"$error":"#NUM!"}},{"$f":"IF(ISERROR(INDEX('Employee Data'!$B$4:$B$553,MATCH(Databackup!A166,Employee_Name,0),0)),\"\",(INDEX('Employee Data'!$B$4:$B$553,MATCH(Databackup!A166,Employee_Name,0))))","v":""},{"$f":"IF(ISERROR(INDEX('Employee Data'!$C$4:$C$553,MATCH(Databackup!A166,Employee_Name,0),0)),\"\",(INDEX('Employee Data'!$C$4:$C$553,MATCH(Databackup!A166,Employee_Name,0))))","v":""},{"$f":"IF(ISERROR(INDEX('Employee Data'!$D$4:$D$553,MATCH(Databackup!A166,Employee_Name,0),0)),\"\",(INDEX('Employee Data'!$D$4:$D$553,MATCH(Databackup!A166,Employee_Name,0))))","v":""},{"$f":"IF(ISERROR(INDEX('Employee Data'!$F$4:$F$553,MATCH(Databackup!A166,Employee_Name,0),0)),\"\",(INDEX('Employee Data'!$F$4:$F$553,MATCH(Databackup!A166,Employee_Name,0))))","v":""},{"$f":"IF(ISERROR(INDEX('Employee Data'!$G$4:$G$553,MATCH(Databackup!A166,Employee_Name,0),0)),\"\",(INDEX('Employee Data'!$G$4:$G$553,MATCH(Databackup!A166,Employee_Name,0))))","v":""},{"$f":"IF(ISERROR(INDEX('Employee Data'!$H$4:$H$553,MATCH(Databackup!A166,Employee_Name,0),0)),\"\",(INDEX('Employee Data'!$H$4:$H$553,MATCH(Databackup!A166,Employee_Name,0))))","v":""},{"$f":"IF(ISERROR(INDEX('Employee Data'!$I$4:$I$553,MATCH(Databackup!A166,Employee_Name,0),0)),\"\",(INDEX('Employee Data'!$I$4:$I$553,MATCH(Databackup!A166,Employee_Name,0))))","v":""},{"$f":"IF(ISERROR(INDEX('Employee Data'!$J$4:$J$553,MATCH(Databackup!A166,Employee_Name,0),0)),\"\",(INDEX('Employee Data'!J$4:$J$553,MATCH(Databackup!A166,Employee_Name,0))))","v":""},{"$f":"IF(ISERROR(INDEX('Employee Data'!$K$4:$K$553,MATCH(Databackup!A166,Employee_Name,0),0)),\"\",(INDEX('Employee Data'!$K$4:$K$553,MATCH(Databackup!A166,Employee_Name,0))))","v":""},{"$f":"IF(ISERROR(INDEX('Employee Data'!$L$4:$L$553,MATCH(Databackup!A166,Employee_Name,0),0)),\"\",(INDEX('Employee Data'!$L$4:$L$553,MATCH(Databackup!A166,Employee_Name,0))))","v":""},{"$f":"IF(ISERROR(INDEX('Employee Data'!$M$4:$M$553,MATCH(Databackup!A166,Employee_Name,0),0)),\"\",(INDEX('Employee Data'!$M$4:$M$553,MATCH(Databackup!A166,Employee_Name,0))))","v":""},{"$f":"IF(ISERROR(INDEX('Employee Data'!$N$4:$N$553,MATCH(Databackup!A166,Employee_Name,0),0)),\"\",(INDEX('Employee Data'!$N$4:$N$553,MATCH(Databackup!A166,Employee_Name,0))))","v":""},{"$f":"IF(ISERROR(INDEX('Employee Data'!$O$4:$O$553,MATCH(Databackup!A166,Employee_Name,0),0)),\"\",(INDEX('Employee Data'!$O$4:$O$553,MATCH(Databackup!A166,Employee_Name,0))))","v":""}]
[{"$f":"INDEX(Employee_Name,MATCH(SMALL(IF($A$1='Employee Data'!$I$4:$I$553,'Employee Data'!$B$4:$B$553,\"\"),ROW('Employee Data'!A165)),IF($A$1='Employee Data'!$I$4:$I$553,'Employee Data'!$B$4:$B$553,\"\"),0))","v":{"$error":"#NUM!"}},{"$f":"IF(ISERROR(INDEX('Employee Data'!$B$4:$B$553,MATCH(Databackup!A167,Employee_Name,0),0)),\"\",(INDEX('Employee Data'!$B$4:$B$553,MATCH(Databackup!A167,Employee_Name,0))))","v":""},{"$f":"IF(ISERROR(INDEX('Employee Data'!$C$4:$C$553,MATCH(Databackup!A167,Employee_Name,0),0)),\"\",(INDEX('Employee Data'!$C$4:$C$553,MATCH(Databackup!A167,Employee_Name,0))))","v":""},{"$f":"IF(ISERROR(INDEX('Employee Data'!$D$4:$D$553,MATCH(Databackup!A167,Employee_Name,0),0)),\"\",(INDEX('Employee Data'!$D$4:$D$553,MATCH(Databackup!A167,Employee_Name,0))))","v":""},{"$f":"IF(ISERROR(INDEX('Employee Data'!$F$4:$F$553,MATCH(Databackup!A167,Employee_Name,0),0)),\"\",(INDEX('Employee Data'!$F$4:$F$553,MATCH(Databackup!A167,Employee_Name,0))))","v":""},{"$f":"IF(ISERROR(INDEX('Employee Data'!$G$4:$G$553,MATCH(Databackup!A167,Employee_Name,0),0)),\"\",(INDEX('Employee Data'!$G$4:$G$553,MATCH(Databackup!A167,Employee_Name,0))))","v":""},{"$f":"IF(ISERROR(INDEX('Employee Data'!$H$4:$H$553,MATCH(Databackup!A167,Employee_Name,0),0)),\"\",(INDEX('Employee Data'!$H$4:$H$553,MATCH(Databackup!A167,Employee_Name,0))))","v":""},{"$f":"IF(ISERROR(INDEX('Employee Data'!$I$4:$I$553,MATCH(Databackup!A167,Employee_Name,0),0)),\"\",(INDEX('Employee Data'!$I$4:$I$553,MATCH(Databackup!A167,Employee_Name,0))))","v":""},{"$f":"IF(ISERROR(INDEX('Employee Data'!$J$4:$J$553,MATCH(Databackup!A167,Employee_Name,0),0)),\"\",(INDEX('Employee Data'!J$4:$J$553,MATCH(Databackup!A167,Employee_Name,0))))","v":""},{"$f":"IF(ISERROR(INDEX('Employee Data'!$K$4:$K$553,MATCH(Databackup!A167,Employee_Name,0),0)),\"\",(INDEX('Employee Data'!$K$4:$K$553,MATCH(Databackup!A167,Employee_Name,0))))","v":""},{"$f":"IF(ISERROR(INDEX('Employee Data'!$L$4:$L$553,MATCH(Databackup!A167,Employee_Name,0),0)),\"\",(INDEX('Employee Data'!$L$4:$L$553,MATCH(Databackup!A167,Employee_Name,0))))","v":""},{"$f":"IF(ISERROR(INDEX('Employee Data'!$M$4:$M$553,MATCH(Databackup!A167,Employee_Name,0),0)),\"\",(INDEX('Employee Data'!$M$4:$M$553,MATCH(Databackup!A167,Employee_Name,0))))","v":""},{"$f":"IF(ISERROR(INDEX('Employee Data'!$N$4:$N$553,MATCH(Databackup!A167,Employee_Name,0),0)),\"\",(INDEX('Employee Data'!$N$4:$N$553,MATCH(Databackup!A167,Employee_Name,0))))","v":""},{"$f":"IF(ISERROR(INDEX('Employee Data'!$O$4:$O$553,MATCH(Databackup!A167,Employee_Name,0),0)),\"\",(INDEX('Employee Data'!$O$4:$O$553,MATCH(Databackup!A167,Employee_Name,0))))","v":""}]
[{"$f":"INDEX(Employee_Name,MATCH(SMALL(IF($A$1='Employee Data'!$I$4:$I$553,'Employee Data'!$B$4:$B$553,\"\"),ROW('Employee Data'!A166)),IF($A$1='Employee Data'!$I$4:$I$553,'Employee Data'!$B$4:$B$553,\"\"),0))","v":{"$error":"#NUM!"}},{"$f":"IF(ISERROR(INDEX('Employee Data'!$B$4:$B$553,MATCH(Databackup!A168,Employee_Name,0),0)),\"\",(INDEX('Employee Data'!$B$4:$B$553,MATCH(Databackup!A168,Employee_Name,0))))","v":""},{"$f":"IF(ISERROR(INDEX('Employee Data'!$C$4:$C$553,MATCH(Databackup!A168,Employee_Name,0),0)),\"\",(INDEX('Employee Data'!$C$4:$C$553,MATCH(Databackup!A168,Employee_Name,0))))","v":""},{"$f":"IF(ISERROR(INDEX('Employee Data'!$D$4:$D$553,MATCH(Databackup!A168,Employee_Name,0),0)),\"\",(INDEX('Employee Data'!$D$4:$D$553,MATCH(Databackup!A168,Employee_Name,0))))","v":""},{"$f":"IF(ISERROR(INDEX('Employee Data'!$F$4:$F$553,MATCH(Databackup!A168,Employee_Name,0),0)),\"\",(INDEX('Employee Data'!$F$4:$F$553,MATCH(Databackup!A168,Employee_Name,0))))","v":""},{"$f":"IF(ISERROR(INDEX('Employee Data'!$G$4:$G$553,MATCH(Databackup!A168,Employee_Name,0),0)),\"\",(INDEX('Employee Data'!$G$4:$G$553,MATCH(Databackup!A168,Employee_Name,0))))","v":""},{"$f":"IF(ISERROR(INDEX('Employee Data'!$H$4:$H$553,MATCH(Databackup!A168,Employee_Name,0),0)),\"\",(INDEX('Employee Data'!$H$4:$H$553,MATCH(Databackup!A168,Employee_Name,0))))","v":""},{"$f":"IF(ISERROR(INDEX('Employee Data'!$I$4:$I$553,MATCH(Databackup!A168,Employee_Name,0),0)),\"\",(INDEX('Employee Data'!$I$4:$I$553,MATCH(Databackup!A168,Employee_Name,0))))","v":""},{"$f":"IF(ISERROR(INDEX('Employee Data'!$J$4:$J$553,MATCH(Databackup!A168,Employee_Name,0),0)),\"\",(INDEX('Employee Data'!J$4:$J$553,MATCH(Databackup!A168,Employee_Name,0))))","v":""},{"$f":"IF(ISERROR(INDEX('Employee Data'!$K$4:$K$553,MATCH(Databackup!A168,Employee_Name,0),0)),\"\",(INDEX('Employee Data'!$K$4:$K$553,MATCH(Databackup!A168,Employee_Name,0))))","v":""},{"$f":"IF(ISERROR(INDEX('Employee Data'!$L$4:$L$553,MATCH(Databackup!A168,Employee_Name,0),0)),\"\",(INDEX('Employee Data'!$L$4:$L$553,MATCH(Databackup!A168,Employee_Name,0))))","v":""},{"$f":"IF(ISERROR(INDEX('Employee Data'!$M$4:$M$553,MATCH(Databackup!A168,Employee_Name,0),0)),\"\",(INDEX('Employee Data'!$M$4:$M$553,MATCH(Databackup!A168,Employee_Name,0))))","v":""},{"$f":"IF(ISERROR(INDEX('Employee Data'!$N$4:$N$553,MATCH(Databackup!A168,Employee_Name,0),0)),\"\",(INDEX('Employee Data'!$N$4:$N$553,MATCH(Databackup!A168,Employee_Name,0))))","v":""},{"$f":"IF(ISERROR(INDEX('Employee Data'!$O$4:$O$553,MATCH(Databackup!A168,Employee_Name,0),0)),\"\",(INDEX('Employee Data'!$O$4:$O$553,MATCH(Databackup!A168,Employee_Name,0))))","v":""}]
[{"$f":"INDEX(Employee_Name,MATCH(SMALL(IF($A$1='Employee Data'!$I$4:$I$553,'Employee Data'!$B$4:$B$553,\"\"),ROW('Employee Data'!A167)),IF($A$1='Employee Data'!$I$4:$I$553,'Employee Data'!$B$4:$B$553,\"\"),0))","v":{"$error":"#NUM!"}},{"$f":"IF(ISERROR(INDEX('Employee Data'!$B$4:$B$553,MATCH(Databackup!A169,Employee_Name,0),0)),\"\",(INDEX('Employee Data'!$B$4:$B$553,MATCH(Databackup!A169,Employee_Name,0))))","v":""},{"$f":"IF(ISERROR(INDEX('Employee Data'!$C$4:$C$553,MATCH(Databackup!A169,Employee_Name,0),0)),\"\",(INDEX('Employee Data'!$C$4:$C$553,MATCH(Databackup!A169,Employee_Name,0))))","v":""},{"$f":"IF(ISERROR(INDEX('Employee Data'!$D$4:$D$553,MATCH(Databackup!A169,Employee_Name,0),0)),\"\",(INDEX('Employee Data'!$D$4:$D$553,MATCH(Databackup!A169,Employee_Name,0))))","v":""},{"$f":"IF(ISERROR(INDEX('Employee Data'!$F$4:$F$553,MATCH(Databackup!A169,Employee_Name,0),0)),\"\",(INDEX('Employee Data'!$F$4:$F$553,MATCH(Databackup!A169,Employee_Name,0))))","v":""},{"$f":"IF(ISERROR(INDEX('Employee Data'!$G$4:$G$553,MATCH(Databackup!A169,Employee_Name,0),0)),\"\",(INDEX('Employee Data'!$G$4:$G$553,MATCH(Databackup!A169,Employee_Name,0))))","v":""},{"$f":"IF(ISERROR(INDEX('Employee Data'!$H$4:$H$553,MATCH(Databackup!A169,Employee_Name,0),0)),\"\",(INDEX('Employee Data'!$H$4:$H$553,MATCH(Databackup!A169,Employee_Name,0))))","v":""},{"$f":"IF(ISERROR(INDEX('Employee Data'!$I$4:$I$553,MATCH(Databackup!A169,Employee_Name,0),0)),\"\",(INDEX('Employee Data'!$I$4:$I$553,MATCH(Databackup!A169,Employee_Name,0))))","v":""},{"$f":"IF(ISERROR(INDEX('Employee Data'!$J$4:$J$553,MATCH(Databackup!A169,Employee_Name,0),0)),\"\",(INDEX('Employee Data'!J$4:$J$553,MATCH(Databackup!A169,Employee_Name,0))))","v":""},{"$f":"IF(ISERROR(INDEX('Employee Data'!$K$4:$K$553,MATCH(Databackup!A169,Employee_Name,0),0)),\"\",(INDEX('Employee Data'!$K$4:$K$553,MATCH(Databackup!A169,Employee_Name,0))))","v":""},{"$f":"IF(ISERROR(INDEX('Employee Data'!$L$4:$L$553,MATCH(Databackup!A169,Employee_Name,0),0)),\"\",(INDEX('Employee Data'!$L$4:$L$553,MATCH(Databackup!A169,Employee_Name,0))))","v":""},{"$f":"IF(ISERROR(INDEX('Employee Data'!$M$4:$M$553,MATCH(Databackup!A169,Employee_Name,0),0)),\"\",(INDEX('Employee Data'!$M$4:$M$553,MATCH(Databackup!A169,Employee_Name,0))))","v":""},{"$f":"IF(ISERROR(INDEX('Employee Data'!$N$4:$N$553,MATCH(Databackup!A169,Employee_Name,0),0)),\"\",(INDEX('Employee Data'!$N$4:$N$553,MATCH(Databackup!A169,Employee_Name,0))))","v":""},{"$f":"IF(ISERROR(INDEX('Employee Data'!$O$4:$O$553,MATCH(Databackup!A169,Employee_Name,0),0)),\"\",(INDEX('Employee Data'!$O$4:$O$553,MATCH(Databackup!A169,Employee_Name,0))))","v":""}]
[{"$f":"INDEX(Employee_Name,MATCH(SMALL(IF($A$1='Employee Data'!$I$4:$I$553,'Employee Data'!$B$4:$B$553,\"\"),ROW('Employee Data'!A168)),IF($A$1='Employee Data'!$I$4:$I$553,'Employee Data'!$B$4:$B$553,\"\"),0))","v":{"$error":"#NUM!"}},{"$f":"IF(ISERROR(INDEX('Employee Data'!$B$4:$B$553,MATCH(Databackup!A170,Employee_Name,0),0)),\"\",(INDEX('Employee Data'!$B$4:$B$553,MATCH(Databackup!A170,Employee_Name,0))))","v":""},{"$f":"IF(ISERROR(INDEX('Employee Data'!$C$4:$C$553,MATCH(Databackup!A170,Employee_Name,0),0)),\"\",(INDEX('Employee Data'!$C$4:$C$553,MATCH(Databackup!A170,Employee_Name,0))))","v":""},{"$f":"IF(ISERROR(INDEX('Employee Data'!$D$4:$D$553,MATCH(Databackup!A170,Employee_Name,0),0)),\"\",(INDEX('Employee Data'!$D$4:$D$553,MATCH(Databackup!A170,Employee_Name,0))))","v":""},{"$f":"IF(ISERROR(INDEX('Employee Data'!$F$4:$F$553,MATCH(Databackup!A170,Employee_Name,0),0)),\"\",(INDEX('Employee Data'!$F$4:$F$553,MATCH(Databackup!A170,Employee_Name,0))))","v":""},{"$f":"IF(ISERROR(INDEX('Employee Data'!$G$4:$G$553,MATCH(Databackup!A170,Employee_Name,0),0)),\"\",(INDEX('Employee Data'!$G$4:$G$553,MATCH(Databackup!A170,Employee_Name,0))))","v":""},{"$f":"IF(ISERROR(INDEX('Employee Data'!$H$4:$H$553,MATCH(Databackup!A170,Employee_Name,0),0)),\"\",(INDEX('Employee Data'!$H$4:$H$553,MATCH(Databackup!A170,Employee_Name,0))))","v":""},{"$f":"IF(ISERROR(INDEX('Employee Data'!$I$4:$I$553,MATCH(Databackup!A170,Employee_Name,0),0)),\"\",(INDEX('Employee Data'!$I$4:$I$553,MATCH(Databackup!A170,Employee_Name,0))))","v":""},{"$f":"IF(ISERROR(INDEX('Employee Data'!$J$4:$J$553,MATCH(Databackup!A170,Employee_Name,0),0)),\"\",(INDEX('Employee Data'!J$4:$J$553,MATCH(Databackup!A170,Employee_Name,0))))","v":""},{"$f":"IF(ISERROR(INDEX('Employee Data'!$K$4:$K$553,MATCH(Databackup!A170,Employee_Name,0),0)),\"\",(INDEX('Employee Data'!$K$4:$K$553,MATCH(Databackup!A170,Employee_Name,0))))","v":""},{"$f":"IF(ISERROR(INDEX('Employee Data'!$L$4:$L$553,MATCH(Databackup!A170,Employee_Name,0),0)),\"\",(INDEX('Employee Data'!$L$4:$L$553,MATCH(Databackup!A170,Employee_Name,0))))","v":""},{"$f":"IF(ISERROR(INDEX('Employee Data'!$M$4:$M$553,MATCH(Databackup!A170,Employee_Name,0),0)),\"\",(INDEX('Employee Data'!$M$4:$M$553,MATCH(Databackup!A170,Employee_Name,0))))","v":""},{"$f":"IF(ISERROR(INDEX('Employee Data'!$N$4:$N$553,MATCH(Databackup!A170,Employee_Name,0),0)),\"\",(INDEX('Employee Data'!$N$4:$N$553,MATCH(Databackup!A170,Employee_Name,0))))","v":""},{"$f":"IF(ISERROR(INDEX('Employee Data'!$O$4:$O$553,MATCH(Databackup!A170,Employee_Name,0),0)),\"\",(INDEX('Employee Data'!$O$4:$O$553,MATCH(Databackup!A170,Employee_Name,0))))","v":""}]
[{"$f":"INDEX(Employee_Name,MATCH(SMALL(IF($A$1='Employee Data'!$I$4:$I$553,'Employee Data'!$B$4:$B$553,\"\"),ROW('Employee Data'!A169)),IF($A$1='Employee Data'!$I$4:$I$553,'Employee Data'!$B$4:$B$553,\"\"),0))","v":{"$error":"#NUM!"}},{"$f":"IF(ISERROR(INDEX('Employee Data'!$B$4:$B$553,MATCH(Databackup!A171,Employee_Name,0),0)),\"\",(INDEX('Employee Data'!$B$4:$B$553,MATCH(Databackup!A171,Employee_Name,0))))","v":""},{"$f":"IF(ISERROR(INDEX('Employee Data'!$C$4:$C$553,MATCH(Databackup!A171,Employee_Name,0),0)),\"\",(INDEX('Employee Data'!$C$4:$C$553,MATCH(Databackup!A171,Employee_Name,0))))","v":""},{"$f":"IF(ISERROR(INDEX('Employee Data'!$D$4:$D$553,MATCH(Databackup!A171,Employee_Name,0),0)),\"\",(INDEX('Employee Data'!$D$4:$D$553,MATCH(Databackup!A171,Employee_Name,0))))","v":""},{"$f":"IF(ISERROR(INDEX('Employee Data'!$F$4:$F$553,MATCH(Databackup!A171,Employee_Name,0),0)),\"\",(INDEX('Employee Data'!$F$4:$F$553,MATCH(Databackup!A171,Employee_Name,0))))","v":""},{"$f":"IF(ISERROR(INDEX('Employee Data'!$G$4:$G$553,MATCH(Databackup!A171,Employee_Name,0),0)),\"\",(INDEX('Employee Data'!$G$4:$G$553,MATCH(Databackup!A171,Employee_Name,0))))","v":""},{"$f":"IF(ISERROR(INDEX('Employee Data'!$H$4:$H$553,MATCH(Databackup!A171,Employee_Name,0),0)),\"\",(INDEX('Employee Data'!$H$4:$H$553,MATCH(Databackup!A171,Employee_Name,0))))","v":""},{"$f":"IF(ISERROR(INDEX('Employee Data'!$I$4:$I$553,MATCH(Databackup!A171,Employee_Name,0),0)),\"\",(INDEX('Employee Data'!$I$4:$I$553,MATCH(Databackup!A171,Employee_Name,0))))","v":""},{"$f":"IF(ISERROR(INDEX('Employee Data'!$J$4:$J$553,MATCH(Databackup!A171,Employee_Name,0),0)),\"\",(INDEX('Employee Data'!J$4:$J$553,MATCH(Databackup!A171,Employee_Name,0))))","v":""},{"$f":"IF(ISERROR(INDEX('Employee Data'!$K$4:$K$553,MATCH(Databackup!A171,Employee_Name,0),0)),\"\",(INDEX('Employee Data'!$K$4:$K$553,MATCH(Databackup!A171,Employee_Name,0))))","v":""},{"$f":"IF(ISERROR(INDEX('Employee Data'!$L$4:$L$553,MATCH(Databackup!A171,Employee_Name,0),0)),\"\",(INDEX('Employee Data'!$L$4:$L$553,MATCH(Databackup!A171,Employee_Name,0))))","v":""},{"$f":"IF(ISERROR(INDEX('Employee Data'!$M$4:$M$553,MATCH(Databackup!A171,Employee_Name,0),0)),\"\",(INDEX('Employee Data'!$M$4:$M$553,MATCH(Databackup!A171,Employee_Name,0))))","v":""},{"$f":"IF(ISERROR(INDEX('Employee Data'!$N$4:$N$553,MATCH(Databackup!A171,Employee_Name,0),0)),\"\",(INDEX('Employee Data'!$N$4:$N$553,MATCH(Databackup!A171,Employee_Name,0))))","v":""},{"$f":"IF(ISERROR(INDEX('Employee Data'!$O$4:$O$553,MATCH(Databackup!A171,Employee_Name,0),0)),\"\",(INDEX('Employee Data'!$O$4:$O$553,MATCH(Databackup!A171,Employee_Name,0))))","v":""}]
[{"$f":"INDEX(Employee_Name,MATCH(SMALL(IF($A$1='Employee Data'!$I$4:$I$553,'Employee Data'!$B$4:$B$553,\"\"),ROW('Employee Data'!A170)),IF($A$1='Employee Data'!$I$4:$I$553,'Employee Data'!$B$4:$B$553,\"\"),0))","v":{"$error":"#NUM!"}},{"$f":"IF(ISERROR(INDEX('Employee Data'!$B$4:$B$553,MATCH(Databackup!A172,Employee_Name,0),0)),\"\",(INDEX('Employee Data'!$B$4:$B$553,MATCH(Databackup!A172,Employee_Name,0))))","v":""},{"$f":"IF(ISERROR(INDEX('Employee Data'!$C$4:$C$553,MATCH(Databackup!A172,Employee_Name,0),0)),\"\",(INDEX('Employee Data'!$C$4:$C$553,MATCH(Databackup!A172,Employee_Name,0))))","v":""},{"$f":"IF(ISERROR(INDEX('Employee Data'!$D$4:$D$553,MATCH(Databackup!A172,Employee_Name,0),0)),\"\",(INDEX('Employee Data'!$D$4:$D$553,MATCH(Databackup!A172,Employee_Name,0))))","v":""},{"$f":"IF(ISERROR(INDEX('Employee Data'!$F$4:$F$553,MATCH(Databackup!A172,Employee_Name,0),0)),\"\",(INDEX('Employee Data'!$F$4:$F$553,MATCH(Databackup!A172,Employee_Name,0))))","v":""},{"$f":"IF(ISERROR(INDEX('Employee Data'!$G$4:$G$553,MATCH(Databackup!A172,Employee_Name,0),0)),\"\",(INDEX('Employee Data'!$G$4:$G$553,MATCH(Databackup!A172,Employee_Name,0))))","v":""},{"$f":"IF(ISERROR(INDEX('Employee Data'!$H$4:$H$553,MATCH(Databackup!A172,Employee_Name,0),0)),\"\",(INDEX('Employee Data'!$H$4:$H$553,MATCH(Databackup!A172,Employee_Name,0))))","v":""},{"$f":"IF(ISERROR(INDEX('Employee Data'!$I$4:$I$553,MATCH(Databackup!A172,Employee_Name,0),0)),\"\",(INDEX('Employee Data'!$I$4:$I$553,MATCH(Databackup!A172,Employee_Name,0))))","v":""},{"$f":"IF(ISERROR(INDEX('Employee Data'!$J$4:$J$553,MATCH(Databackup!A172,Employee_Name,0),0)),\"\",(INDEX('Employee Data'!J$4:$J$553,MATCH(Databackup!A172,Employee_Name,0))))","v":""},{"$f":"IF(ISERROR(INDEX('Employee Data'!$K$4:$K$553,MATCH(Databackup!A172,Employee_Name,0),0)),\"\",(INDEX('Employee Data'!$K$4:$K$553,MATCH(Databackup!A172,Employee_Name,0))))","v":""},{"$f":"IF(ISERROR(INDEX('Employee Data'!$L$4:$L$553,MATCH(Databackup!A172,Employee_Name,0),0)),\"\",(INDEX('Employee Data'!$L$4:$L$553,MATCH(Databackup!A172,Employee_Name,0))))","v":""},{"$f":"IF(ISERROR(INDEX('Employee Data'!$M$4:$M$553,MATCH(Databackup!A172,Employee_Name,0),0)),\"\",(INDEX('Employee Data'!$M$4:$M$553,MATCH(Databackup!A172,Employee_Name,0))))","v":""},{"$f":"IF(ISERROR(INDEX('Employee Data'!$N$4:$N$553,MATCH(Databackup!A172,Employee_Name,0),0)),\"\",(INDEX('Employee Data'!$N$4:$N$553,MATCH(Databackup!A172,Employee_Name,0))))","v":""},{"$f":"IF(ISERROR(INDEX('Employee Data'!$O$4:$O$553,MATCH(Databackup!A172,Employee_Name,0),0)),\"\",(INDEX('Employee Data'!$O$4:$O$553,MATCH(Databackup!A172,Employee_Name,0))))","v":""}]
[{"$f":"INDEX(Employee_Name,MATCH(SMALL(IF($A$1='Employee Data'!$I$4:$I$553,'Employee Data'!$B$4:$B$553,\"\"),ROW('Employee Data'!A171)),IF($A$1='Employee Data'!$I$4:$I$553,'Employee Data'!$B$4:$B$553,\"\"),0))","v":{"$error":"#NUM!"}},{"$f":"IF(ISERROR(INDEX('Employee Data'!$B$4:$B$553,MATCH(Databackup!A173,Employee_Name,0),0)),\"\",(INDEX('Employee Data'!$B$4:$B$553,MATCH(Databackup!A173,Employee_Name,0))))","v":""},{"$f":"IF(ISERROR(INDEX('Employee Data'!$C$4:$C$553,MATCH(Databackup!A173,Employee_Name,0),0)),\"\",(INDEX('Employee Data'!$C$4:$C$553,MATCH(Databackup!A173,Employee_Name,0))))","v":""},{"$f":"IF(ISERROR(INDEX('Employee Data'!$D$4:$D$553,MATCH(Databackup!A173,Employee_Name,0),0)),\"\",(INDEX('Employee Data'!$D$4:$D$553,MATCH(Databackup!A173,Employee_Name,0))))","v":""},{"$f":"IF(ISERROR(INDEX('Employee Data'!$F$4:$F$553,MATCH(Databackup!A173,Employee_Name,0),0)),\"\",(INDEX('Employee Data'!$F$4:$F$553,MATCH(Databackup!A173,Employee_Name,0))))","v":""},{"$f":"IF(ISERROR(INDEX('Employee Data'!$G$4:$G$553,MATCH(Databackup!A173,Employee_Name,0),0)),\"\",(INDEX('Employee Data'!$G$4:$G$553,MATCH(Databackup!A173,Employee_Name,0))))","v":""},{"$f":"IF(ISERROR(INDEX('Employee Data'!$H$4:$H$553,MATCH(Databackup!A173,Employee_Name,0),0)),\"\",(INDEX('Employee Data'!$H$4:$H$553,MATCH(Databackup!A173,Employee_Name,0))))","v":""},{"$f":"IF(ISERROR(INDEX('Employee Data'!$I$4:$I$553,MATCH(Databackup!A173,Employee_Name,0),0)),\"\",(INDEX('Employee Data'!$I$4:$I$553,MATCH(Databackup!A173,Employee_Name,0))))","v":""},{"$f":"IF(ISERROR(INDEX('Employee Data'!$J$4:$J$553,MATCH(Databackup!A173,Employee_Name,0),0)),\"\",(INDEX('Employee Data'!J$4:$J$553,MATCH(Databackup!A173,Employee_Name,0))))","v":""},{"$f":"IF(ISERROR(INDEX('Employee Data'!$K$4:$K$553,MATCH(Databackup!A173,Employee_Name,0),0)),\"\",(INDEX('Employee Data'!$K$4:$K$553,MATCH(Databackup!A173,Employee_Name,0))))","v":""},{"$f":"IF(ISERROR(INDEX('Employee Data'!$L$4:$L$553,MATCH(Databackup!A173,Employee_Name,0),0)),\"\",(INDEX('Employee Data'!$L$4:$L$553,MATCH(Databackup!A173,Employee_Name,0))))","v":""},{"$f":"IF(ISERROR(INDEX('Employee Data'!$M$4:$M$553,MATCH(Databackup!A173,Employee_Name,0),0)),\"\",(INDEX('Employee Data'!$M$4:$M$553,MATCH(Databackup!A173,Employee_Name,0))))","v":""},{"$f":"IF(ISERROR(INDEX('Employee Data'!$N$4:$N$553,MATCH(Databackup!A173,Employee_Name,0),0)),\"\",(INDEX('Employee Data'!$N$4:$N$553,MATCH(Databackup!A173,Employee_Name,0))))","v":""},{"$f":"IF(ISERROR(INDEX('Employee Data'!$O$4:$O$553,MATCH(Databackup!A173,Employee_Name,0),0)),\"\",(INDEX('Employee Data'!$O$4:$O$553,MATCH(Databackup!A173,Employee_Name,0))))","v":""}]
[{"$f":"INDEX(Employee_Name,MATCH(SMALL(IF($A$1='Employee Data'!$I$4:$I$553,'Employee Data'!$B$4:$B$553,\"\"),ROW('Employee Data'!A172)),IF($A$1='Employee Data'!$I$4:$I$553,'Employee Data'!$B$4:$B$553,\"\"),0))","v":{"$error":"#NUM!"}},{"$f":"IF(ISERROR(INDEX('Employee Data'!$B$4:$B$553,MATCH(Databackup!A174,Employee_Name,0),0)),\"\",(INDEX('Employee Data'!$B$4:$B$553,MATCH(Databackup!A174,Employee_Name,0))))","v":""},{"$f":"IF(ISERROR(INDEX('Employee Data'!$C$4:$C$553,MATCH(Databackup!A174,Employee_Name,0),0)),\"\",(INDEX('Employee Data'!$C$4:$C$553,MATCH(Databackup!A174,Employee_Name,0))))","v":""},{"$f":"IF(ISERROR(INDEX('Employee Data'!$D$4:$D$553,MATCH(Databackup!A174,Employee_Name,0),0)),\"\",(INDEX('Employee Data'!$D$4:$D$553,MATCH(Databackup!A174,Employee_Name,0))))","v":""},{"$f":"IF(ISERROR(INDEX('Employee Data'!$F$4:$F$553,MATCH(Databackup!A174,Employee_Name,0),0)),\"\",(INDEX('Employee Data'!$F$4:$F$553,MATCH(Databackup!A174,Employee_Name,0))))","v":""},{"$f":"IF(ISERROR(INDEX('Employee Data'!$G$4:$G$553,MATCH(Databackup!A174,Employee_Name,0),0)),\"\",(INDEX('Employee Data'!$G$4:$G$553,MATCH(Databackup!A174,Employee_Name,0))))","v":""},{"$f":"IF(ISERROR(INDEX('Employee Data'!$H$4:$H$553,MATCH(Databackup!A174,Employee_Name,0),0)),\"\",(INDEX('Employee Data'!$H$4:$H$553,MATCH(Databackup!A174,Employee_Name,0))))","v":""},{"$f":"IF(ISERROR(INDEX('Employee Data'!$I$4:$I$553,MATCH(Databackup!A174,Employee_Name,0),0)),\"\",(INDEX('Employee Data'!$I$4:$I$553,MATCH(Databackup!A174,Employee_Name,0))))","v":""},{"$f":"IF(ISERROR(INDEX('Employee Data'!$J$4:$J$553,MATCH(Databackup!A174,Employee_Name,0),0)),\"\",(INDEX('Employee Data'!J$4:$J$553,MATCH(Databackup!A174,Employee_Name,0))))","v":""},{"$f":"IF(ISERROR(INDEX('Employee Data'!$K$4:$K$553,MATCH(Databackup!A174,Employee_Name,0),0)),\"\",(INDEX('Employee Data'!$K$4:$K$553,MATCH(Databackup!A174,Employee_Name,0))))","v":""},{"$f":"IF(ISERROR(INDEX('Employee Data'!$L$4:$L$553,MATCH(Databackup!A174,Employee_Name,0),0)),\"\",(INDEX('Employee Data'!$L$4:$L$553,MATCH(Databackup!A174,Employee_Name,0))))","v":""},{"$f":"IF(ISERROR(INDEX('Employee Data'!$M$4:$M$553,MATCH(Databackup!A174,Employee_Name,0),0)),\"\",(INDEX('Employee Data'!$M$4:$M$553,MATCH(Databackup!A174,Employee_Name,0))))","v":""},{"$f":"IF(ISERROR(INDEX('Employee Data'!$N$4:$N$553,MATCH(Databackup!A174,Employee_Name,0),0)),\"\",(INDEX('Employee Data'!$N$4:$N$553,MATCH(Databackup!A174,Employee_Name,0))))","v":""},{"$f":"IF(ISERROR(INDEX('Employee Data'!$O$4:$O$553,MATCH(Databackup!A174,Employee_Name,0),0)),\"\",(INDEX('Employee Data'!$O$4:$O$553,MATCH(Databackup!A174,Employee_Name,0))))","v":""}]
[{"$f":"INDEX(Employee_Name,MATCH(SMALL(IF($A$1='Employee Data'!$I$4:$I$553,'Employee Data'!$B$4:$B$553,\"\"),ROW('Employee Data'!A173)),IF($A$1='Employee Data'!$I$4:$I$553,'Employee Data'!$B$4:$B$553,\"\"),0))","v":{"$error":"#NUM!"}},{"$f":"IF(ISERROR(INDEX('Employee Data'!$B$4:$B$553,MATCH(Databackup!A175,Employee_Name,0),0)),\"\",(INDEX('Employee Data'!$B$4:$B$553,MATCH(Databackup!A175,Employee_Name,0))))","v":""},{"$f":"IF(ISERROR(INDEX('Employee Data'!$C$4:$C$553,MATCH(Databackup!A175,Employee_Name,0),0)),\"\",(INDEX('Employee Data'!$C$4:$C$553,MATCH(Databackup!A175,Employee_Name,0))))","v":""},{"$f":"IF(ISERROR(INDEX('Employee Data'!$D$4:$D$553,MATCH(Databackup!A175,Employee_Name,0),0)),\"\",(INDEX('Employee Data'!$D$4:$D$553,MATCH(Databackup!A175,Employee_Name,0))))","v":""},{"$f":"IF(ISERROR(INDEX('Employee Data'!$F$4:$F$553,MATCH(Databackup!A175,Employee_Name,0),0)),\"\",(INDEX('Employee Data'!$F$4:$F$553,MATCH(Databackup!A175,Employee_Name,0))))","v":""},{"$f":"IF(ISERROR(INDEX('Employee Data'!$G$4:$G$553,MATCH(Databackup!A175,Employee_Name,0),0)),\"\",(INDEX('Employee Data'!$G$4:$G$553,MATCH(Databackup!A175,Employee_Name,0))))","v":""},{"$f":"IF(ISERROR(INDEX('Employee Data'!$H$4:$H$553,MATCH(Databackup!A175,Employee_Name,0),0)),\"\",(INDEX('Employee Data'!$H$4:$H$553,MATCH(Databackup!A175,Employee_Name,0))))","v":""},{"$f":"IF(ISERROR(INDEX('Employee Data'!$I$4:$I$553,MATCH(Databackup!A175,Employee_Name,0),0)),\"\",(INDEX('Employee Data'!$I$4:$I$553,MATCH(Databackup!A175,Employee_Name,0))))","v":""},{"$f":"IF(ISERROR(INDEX('Employee Data'!$J$4:$J$553,MATCH(Databackup!A175,Employee_Name,0),0)),\"\",(INDEX('Employee Data'!J$4:$J$553,MATCH(Databackup!A175,Employee_Name,0))))","v":""},{"$f":"IF(ISERROR(INDEX('Employee Data'!$K$4:$K$553,MATCH(Databackup!A175,Employee_Name,0),0)),\"\",(INDEX('Employee Data'!$K$4:$K$553,MATCH(Databackup!A175,Employee_Name,0))))","v":""},{"$f":"IF(ISERROR(INDEX('Employee Data'!$L$4:$L$553,MATCH(Databackup!A175,Employee_Name,0),0)),\"\",(INDEX('Employee Data'!$L$4:$L$553,MATCH(Databackup!A175,Employee_Name,0))))","v":""},{"$f":"IF(ISERROR(INDEX('Employee Data'!$M$4:$M$553,MATCH(Databackup!A175,Employee_Name,0),0)),\"\",(INDEX('Employee Data'!$M$4:$M$553,MATCH(Databackup!A175,Employee_Name,0))))","v":""},{"$f":"IF(ISERROR(INDEX('Employee Data'!$N$4:$N$553,MATCH(Databackup!A175,Employee_Name,0),0)),\"\",(INDEX('Employee Data'!$N$4:$N$553,MATCH(Databackup!A175,Employee_Name,0))))","v":""},{"$f":"IF(ISERROR(INDEX('Employee Data'!$O$4:$O$553,MATCH(Databackup!A175,Employee_Name,0),0)),\"\",(INDEX('Employee Data'!$O$4:$O$553,MATCH(Databackup!A175,Employee_Name,0))))","v":""}]
[{"$f":"INDEX(Employee_Name,MATCH(SMALL(IF($A$1='Employee Data'!$I$4:$I$553,'Employee Data'!$B$4:$B$553,\"\"),ROW('Employee Data'!A174)),IF($A$1='Employee Data'!$I$4:$I$553,'Employee Data'!$B$4:$B$553,\"\"),0))","v":{"$error":"#NUM!"}},{"$f":"IF(ISERROR(INDEX('Employee Data'!$B$4:$B$553,MATCH(Databackup!A176,Employee_Name,0),0)),\"\",(INDEX('Employee Data'!$B$4:$B$553,MATCH(Databackup!A176,Employee_Name,0))))","v":""},{"$f":"IF(ISERROR(INDEX('Employee Data'!$C$4:$C$553,MATCH(Databackup!A176,Employee_Name,0),0)),\"\",(INDEX('Employee Data'!$C$4:$C$553,MATCH(Databackup!A176,Employee_Name,0))))","v":""},{"$f":"IF(ISERROR(INDEX('Employee Data'!$D$4:$D$553,MATCH(Databackup!A176,Employee_Name,0),0)),\"\",(INDEX('Employee Data'!$D$4:$D$553,MATCH(Databackup!A176,Employee_Name,0))))","v":""},{"$f":"IF(ISERROR(INDEX('Employee Data'!$F$4:$F$553,MATCH(Databackup!A176,Employee_Name,0),0)),\"\",(INDEX('Employee Data'!$F$4:$F$553,MATCH(Databackup!A176,Employee_Name,0))))","v":""},{"$f":"IF(ISERROR(INDEX('Employee Data'!$G$4:$G$553,MATCH(Databackup!A176,Employee_Name,0),0)),\"\",(INDEX('Employee Data'!$G$4:$G$553,MATCH(Databackup!A176,Employee_Name,0))))","v":""},{"$f":"IF(ISERROR(INDEX('Employee Data'!$H$4:$H$553,MATCH(Databackup!A176,Employee_Name,0),0)),\"\",(INDEX('Employee Data'!$H$4:$H$553,MATCH(Databackup!A176,Employee_Name,0))))","v":""},{"$f":"IF(ISERROR(INDEX('Employee Data'!$I$4:$I$553,MATCH(Databackup!A176,Employee_Name,0),0)),\"\",(INDEX('Employee Data'!$I$4:$I$553,MATCH(Databackup!A176,Employee_Name,0))))","v":""},{"$f":"IF(ISERROR(INDEX('Employee Data'!$J$4:$J$553,MATCH(Databackup!A176,Employee_Name,0),0)),\"\",(INDEX('Employee Data'!J$4:$J$553,MATCH(Databackup!A176,Employee_Name,0))))","v":""},{"$f":"IF(ISERROR(INDEX('Employee Data'!$K$4:$K$553,MATCH(Databackup!A176,Employee_Name,0),0)),\"\",(INDEX('Employee Data'!$K$4:$K$553,MATCH(Databackup!A176,Employee_Name,0))))","v":""},{"$f":"IF(ISERROR(INDEX('Employee Data'!$L$4:$L$553,MATCH(Databackup!A176,Employee_Name,0),0)),\"\",(INDEX('Employee Data'!$L$4:$L$553,MATCH(Databackup!A176,Employee_Name,0))))","v":""},{"$f":"IF(ISERROR(INDEX('Employee Data'!$M$4:$M$553,MATCH(Databackup!A176,Employee_Name,0),0)),\"\",(INDEX('Employee Data'!$M$4:$M$553,MATCH(Databackup!A176,Employee_Name,0))))","v":""},{"$f":"IF(ISERROR(INDEX('Employee Data'!$N$4:$N$553,MATCH(Databackup!A176,Employee_Name,0),0)),\"\",(INDEX('Employee Data'!$N$4:$N$553,MATCH(Databackup!A176,Employee_Name,0))))","v":""},{"$f":"IF(ISERROR(INDEX('Employee Data'!$O$4:$O$553,MATCH(Databackup!A176,Employee_Name,0),0)),\"\",(INDEX('Employee Data'!$O$4:$O$553,MATCH(Databackup!A176,Employee_Name,0))))","v":""}]
[{"$f":"INDEX(Employee_Name,MATCH(SMALL(IF($A$1='Employee Data'!$I$4:$I$553,'Employee Data'!$B$4:$B$553,\"\"),ROW('Employee Data'!A175)),IF($A$1='Employee Data'!$I$4:$I$553,'Employee Data'!$B$4:$B$553,\"\"),0))","v":{"$error":"#NUM!"}},{"$f":"IF(ISERROR(INDEX('Employee Data'!$B$4:$B$553,MATCH(Databackup!A177,Employee_Name,0),0)),\"\",(INDEX('Employee Data'!$B$4:$B$553,MATCH(Databackup!A177,Employee_Name,0))))","v":""},{"$f":"IF(ISERROR(INDEX('Employee Data'!$C$4:$C$553,MATCH(Databackup!A177,Employee_Name,0),0)),\"\",(INDEX('Employee Data'!$C$4:$C$553,MATCH(Databackup!A177,Employee_Name,0))))","v":""},{"$f":"IF(ISERROR(INDEX('Employee Data'!$D$4:$D$553,MATCH(Databackup!A177,Employee_Name,0),0)),\"\",(INDEX('Employee Data'!$D$4:$D$553,MATCH(Databackup!A177,Employee_Name,0))))","v":""},{"$f":"IF(ISERROR(INDEX('Employee Data'!$F$4:$F$553,MATCH(Databackup!A177,Employee_Name,0),0)),\"\",(INDEX('Employee Data'!$F$4:$F$553,MATCH(Databackup!A177,Employee_Name,0))))","v":""},{"$f":"IF(ISERROR(INDEX('Employee Data'!$G$4:$G$553,MATCH(Databackup!A177,Employee_Name,0),0)),\"\",(INDEX('Employee Data'!$G$4:$G$553,MATCH(Databackup!A177,Employee_Name,0))))","v":""},{"$f":"IF(ISERROR(INDEX('Employee Data'!$H$4:$H$553,MATCH(Databackup!A177,Employee_Name,0),0)),\"\",(INDEX('Employee Data'!$H$4:$H$553,MATCH(Databackup!A177,Employee_Name,0))))","v":""},{"$f":"IF(ISERROR(INDEX('Employee Data'!$I$4:$I$553,MATCH(Databackup!A177,Employee_Name,0),0)),\"\",(INDEX('Employee Data'!$I$4:$I$553,MATCH(Databackup!A177,Employee_Name,0))))","v":""},{"$f":"IF(ISERROR(INDEX('Employee Data'!$J$4:$J$553,MATCH(Databackup!A177,Employee_Name,0),0)),\"\",(INDEX('Employee Data'!J$4:$J$553,MATCH(Databackup!A177,Employee_Name,0))))","v":""},{"$f":"IF(ISERROR(INDEX('Employee Data'!$K$4:$K$553,MATCH(Databackup!A177,Employee_Name,0),0)),\"\",(INDEX('Employee Data'!$K$4:$K$553,MATCH(Databackup!A177,Employee_Name,0))))","v":""},{"$f":"IF(ISERROR(INDEX('Employee Data'!$L$4:$L$553,MATCH(Databackup!A177,Employee_Name,0),0)),\"\",(INDEX('Employee Data'!$L$4:$L$553,MATCH(Databackup!A177,Employee_Name,0))))","v":""},{"$f":"IF(ISERROR(INDEX('Employee Data'!$M$4:$M$553,MATCH(Databackup!A177,Employee_Name,0),0)),\"\",(INDEX('Employee Data'!$M$4:$M$553,MATCH(Databackup!A177,Employee_Name,0))))","v":""},{"$f":"IF(ISERROR(INDEX('Employee Data'!$N$4:$N$553,MATCH(Databackup!A177,Employee_Name,0),0)),\"\",(INDEX('Employee Data'!$N$4:$N$553,MATCH(Databackup!A177,Employee_Name,0))))","v":""},{"$f":"IF(ISERROR(INDEX('Employee Data'!$O$4:$O$553,MATCH(Databackup!A177,Employee_Name,0),0)),\"\",(INDEX('Employee Data'!$O$4:$O$553,MATCH(Databackup!A177,Employee_Name,0))))","v":""}]
[{"$f":"INDEX(Employee_Name,MATCH(SMALL(IF($A$1='Employee Data'!$I$4:$I$553,'Employee Data'!$B$4:$B$553,\"\"),ROW('Employee Data'!A176)),IF($A$1='Employee Data'!$I$4:$I$553,'Employee Data'!$B$4:$B$553,\"\"),0))","v":{"$error":"#NUM!"}},{"$f":"IF(ISERROR(INDEX('Employee Data'!$B$4:$B$553,MATCH(Databackup!A178,Employee_Name,0),0)),\"\",(INDEX('Employee Data'!$B$4:$B$553,MATCH(Databackup!A178,Employee_Name,0))))","v":""},{"$f":"IF(ISERROR(INDEX('Employee Data'!$C$4:$C$553,MATCH(Databackup!A178,Employee_Name,0),0)),\"\",(INDEX('Employee Data'!$C$4:$C$553,MATCH(Databackup!A178,Employee_Name,0))))","v":""},{"$f":"IF(ISERROR(INDEX('Employee Data'!$D$4:$D$553,MATCH(Databackup!A178,Employee_Name,0),0)),\"\",(INDEX('Employee Data'!$D$4:$D$553,MATCH(Databackup!A178,Employee_Name,0))))","v":""},{"$f":"IF(ISERROR(INDEX('Employee Data'!$F$4:$F$553,MATCH(Databackup!A178,Employee_Name,0),0)),\"\",(INDEX('Employee Data'!$F$4:$F$553,MATCH(Databackup!A178,Employee_Name,0))))","v":""},{"$f":"IF(ISERROR(INDEX('Employee Data'!$G$4:$G$553,MATCH(Databackup!A178,Employee_Name,0),0)),\"\",(INDEX('Employee Data'!$G$4:$G$553,MATCH(Databackup!A178,Employee_Name,0))))","v":""},{"$f":"IF(ISERROR(INDEX('Employee Data'!$H$4:$H$553,MATCH(Databackup!A178,Employee_Name,0),0)),\"\",(INDEX('Employee Data'!$H$4:$H$553,MATCH(Databackup!A178,Employee_Name,0))))","v":""},{"$f":"IF(ISERROR(INDEX('Employee Data'!$I$4:$I$553,MATCH(Databackup!A178,Employee_Name,0),0)),\"\",(INDEX('Employee Data'!$I$4:$I$553,MATCH(Databackup!A178,Employee_Name,0))))","v":""},{"$f":"IF(ISERROR(INDEX('Employee Data'!$J$4:$J$553,MATCH(Databackup!A178,Employee_Name,0),0)),\"\",(INDEX('Employee Data'!J$4:$J$553,MATCH(Databackup!A178,Employee_Name,0))))","v":""},{"$f":"IF(ISERROR(INDEX('Employee Data'!$K$4:$K$553,MATCH(Databackup!A178,Employee_Name,0),0)),\"\",(INDEX('Employee Data'!$K$4:$K$553,MATCH(Databackup!A178,Employee_Name,0))))","v":""},{"$f":"IF(ISERROR(INDEX('Employee Data'!$L$4:$L$553,MATCH(Databackup!A178,Employee_Name,0),0)),\"\",(INDEX('Employee Data'!$L$4:$L$553,MATCH(Databackup!A178,Employee_Name,0))))","v":""},{"$f":"IF(ISERROR(INDEX('Employee Data'!$M$4:$M$553,MATCH(Databackup!A178,Employee_Name,0),0)),\"\",(INDEX('Employee Data'!$M$4:$M$553,MATCH(Databackup!A178,Employee_Name,0))))","v":""},{"$f":"IF(ISERROR(INDEX('Employee Data'!$N$4:$N$553,MATCH(Databackup!A178,Employee_Name,0),0)),\"\",(INDEX('Employee Data'!$N$4:$N$553,MATCH(Databackup!A178,Employee_Name,0))))","v":""},{"$f":"IF(ISERROR(INDEX('Employee Data'!$O$4:$O$553,MATCH(Databackup!A178,Employee_Name,0),0)),\"\",(INDEX('Employee Data'!$O$4:$O$553,MATCH(Databackup!A178,Employee_Name,0))))","v":""}]
[{"$f":"INDEX(Employee_Name,MATCH(SMALL(IF($A$1='Employee Data'!$I$4:$I$553,'Employee Data'!$B$4:$B$553,\"\"),ROW('Employee Data'!A177)),IF($A$1='Employee Data'!$I$4:$I$553,'Employee Data'!$B$4:$B$553,\"\"),0))","v":{"$error":"#NUM!"}},{"$f":"IF(ISERROR(INDEX('Employee Data'!$B$4:$B$553,MATCH(Databackup!A179,Employee_Name,0),0)),\"\",(INDEX('Employee Data'!$B$4:$B$553,MATCH(Databackup!A179,Employee_Name,0))))","v":""},{"$f":"IF(ISERROR(INDEX('Employee Data'!$C$4:$C$553,MATCH(Databackup!A179,Employee_Name,0),0)),\"\",(INDEX('Employee Data'!$C$4:$C$553,MATCH(Databackup!A179,Employee_Name,0))))","v":""},{"$f":"IF(ISERROR(INDEX('Employee Data'!$D$4:$D$553,MATCH(Databackup!A179,Employee_Name,0),0)),\"\",(INDEX('Employee Data'!$D$4:$D$553,MATCH(Databackup!A179,Employee_Name,0))))","v":""},{"$f":"IF(ISERROR(INDEX('Employee Data'!$F$4:$F$553,MATCH(Databackup!A179,Employee_Name,0),0)),\"\",(INDEX('Employee Data'!$F$4:$F$553,MATCH(Databackup!A179,Employee_Name,0))))","v":""},{"$f":"IF(ISERROR(INDEX('Employee Data'!$G$4:$G$553,MATCH(Databackup!A179,Employee_Name,0),0)),\"\",(INDEX('Employee Data'!$G$4:$G$553,MATCH(Databackup!A179,Employee_Name,0))))","v":""},{"$f":"IF(ISERROR(INDEX('Employee Data'!$H$4:$H$553,MATCH(Databackup!A179,Employee_Name,0),0)),\"\",(INDEX('Employee Data'!$H$4:$H$553,MATCH(Databackup!A179,Employee_Name,0))))","v":""},{"$f":"IF(ISERROR(INDEX('Employee Data'!$I$4:$I$553,MATCH(Databackup!A179,Employee_Name,0),0)),\"\",(INDEX('Employee Data'!$I$4:$I$553,MATCH(Databackup!A179,Employee_Name,0))))","v":""},{"$f":"IF(ISERROR(INDEX('Employee Data'!$J$4:$J$553,MATCH(Databackup!A179,Employee_Name,0),0)),\"\",(INDEX('Employee Data'!J$4:$J$553,MATCH(Databackup!A179,Employee_Name,0))))","v":""},{"$f":"IF(ISERROR(INDEX('Employee Data'!$K$4:$K$553,MATCH(Databackup!A179,Employee_Name,0),0)),\"\",(INDEX('Employee Data'!$K$4:$K$553,MATCH(Databackup!A179,Employee_Name,0))))","v":""},{"$f":"IF(ISERROR(INDEX('Employee Data'!$L$4:$L$553,MATCH(Databackup!A179,Employee_Name,0),0)),\"\",(INDEX('Employee Data'!$L$4:$L$553,MATCH(Databackup!A179,Employee_Name,0))))","v":""},{"$f":"IF(ISERROR(INDEX('Employee Data'!$M$4:$M$553,MATCH(Databackup!A179,Employee_Name,0),0)),\"\",(INDEX('Employee Data'!$M$4:$M$553,MATCH(Databackup!A179,Employee_Name,0))))","v":""},{"$f":"IF(ISERROR(INDEX('Employee Data'!$N$4:$N$553,MATCH(Databackup!A179,Employee_Name,0),0)),\"\",(INDEX('Employee Data'!$N$4:$N$553,MATCH(Databackup!A179,Employee_Name,0))))","v":""},{"$f":"IF(ISERROR(INDEX('Employee Data'!$O$4:$O$553,MATCH(Databackup!A179,Employee_Name,0),0)),\"\",(INDEX('Employee Data'!$O$4:$O$553,MATCH(Databackup!A179,Employee_Name,0))))","v":""}]
[{"$f":"INDEX(Employee_Name,MATCH(SMALL(IF($A$1='Employee Data'!$I$4:$I$553,'Employee Data'!$B$4:$B$553,\"\"),ROW('Employee Data'!A178)),IF($A$1='Employee Data'!$I$4:$I$553,'Employee Data'!$B$4:$B$553,\"\"),0))","v":{"$error":"#NUM!"}},{"$f":"IF(ISERROR(INDEX('Employee Data'!$B$4:$B$553,MATCH(Databackup!A180,Employee_Name,0),0)),\"\",(INDEX('Employee Data'!$B$4:$B$553,MATCH(Databackup!A180,Employee_Name,0))))","v":""},{"$f":"IF(ISERROR(INDEX('Employee Data'!$C$4:$C$553,MATCH(Databackup!A180,Employee_Name,0),0)),\"\",(INDEX('Employee Data'!$C$4:$C$553,MATCH(Databackup!A180,Employee_Name,0))))","v":""},{"$f":"IF(ISERROR(INDEX('Employee Data'!$D$4:$D$553,MATCH(Databackup!A180,Employee_Name,0),0)),\"\",(INDEX('Employee Data'!$D$4:$D$553,MATCH(Databackup!A180,Employee_Name,0))))","v":""},{"$f":"IF(ISERROR(INDEX('Employee Data'!$F$4:$F$553,MATCH(Databackup!A180,Employee_Name,0),0)),\"\",(INDEX('Employee Data'!$F$4:$F$553,MATCH(Databackup!A180,Employee_Name,0))))","v":""},{"$f":"IF(ISERROR(INDEX('Employee Data'!$G$4:$G$553,MATCH(Databackup!A180,Employee_Name,0),0)),\"\",(INDEX('Employee Data'!$G$4:$G$553,MATCH(Databackup!A180,Employee_Name,0))))","v":""},{"$f":"IF(ISERROR(INDEX('Employee Data'!$H$4:$H$553,MATCH(Databackup!A180,Employee_Name,0),0)),\"\",(INDEX('Employee Data'!$H$4:$H$553,MATCH(Databackup!A180,Employee_Name,0))))","v":""},{"$f":"IF(ISERROR(INDEX('Employee Data'!$I$4:$I$553,MATCH(Databackup!A180,Employee_Name,0),0)),\"\",(INDEX('Employee Data'!$I$4:$I$553,MATCH(Databackup!A180,Employee_Name,0))))","v":""},{"$f":"IF(ISERROR(INDEX('Employee Data'!$J$4:$J$553,MATCH(Databackup!A180,Employee_Name,0),0)),\"\",(INDEX('Employee Data'!J$4:$J$553,MATCH(Databackup!A180,Employee_Name,0))))","v":""},{"$f":"IF(ISERROR(INDEX('Employee Data'!$K$4:$K$553,MATCH(Databackup!A180,Employee_Name,0),0)),\"\",(INDEX('Employee Data'!$K$4:$K$553,MATCH(Databackup!A180,Employee_Name,0))))","v":""},{"$f":"IF(ISERROR(INDEX('Employee Data'!$L$4:$L$553,MATCH(Databackup!A180,Employee_Name,0),0)),\"\",(INDEX('Employee Data'!$L$4:$L$553,MATCH(Databackup!A180,Employee_Name,0))))","v":""},{"$f":"IF(ISERROR(INDEX('Employee Data'!$M$4:$M$553,MATCH(Databackup!A180,Employee_Name,0),0)),\"\",(INDEX('Employee Data'!$M$4:$M$553,MATCH(Databackup!A180,Employee_Name,0))))","v":""},{"$f":"IF(ISERROR(INDEX('Employee Data'!$N$4:$N$553,MATCH(Databackup!A180,Employee_Name,0),0)),\"\",(INDEX('Employee Data'!$N$4:$N$553,MATCH(Databackup!A180,Employee_Name,0))))","v":""},{"$f":"IF(ISERROR(INDEX('Employee Data'!$O$4:$O$553,MATCH(Databackup!A180,Employee_Name,0),0)),\"\",(INDEX('Employee Data'!$O$4:$O$553,MATCH(Databackup!A180,Employee_Name,0))))","v":""}]
[{"$f":"INDEX(Employee_Name,MATCH(SMALL(IF($A$1='Employee Data'!$I$4:$I$553,'Employee Data'!$B$4:$B$553,\"\"),ROW('Employee Data'!A179)),IF($A$1='Employee Data'!$I$4:$I$553,'Employee Data'!$B$4:$B$553,\"\"),0))","v":{"$error":"#NUM!"}},{"$f":"IF(ISERROR(INDEX('Employee Data'!$B$4:$B$553,MATCH(Databackup!A181,Employee_Name,0),0)),\"\",(INDEX('Employee Data'!$B$4:$B$553,MATCH(Databackup!A181,Employee_Name,0))))","v":""},{"$f":"IF(ISERROR(INDEX('Employee Data'!$C$4:$C$553,MATCH(Databackup!A181,Employee_Name,0),0)),\"\",(INDEX('Employee Data'!$C$4:$C$553,MATCH(Databackup!A181,Employee_Name,0))))","v":""},{"$f":"IF(ISERROR(INDEX('Employee Data'!$D$4:$D$553,MATCH(Databackup!A181,Employee_Name,0),0)),\"\",(INDEX('Employee Data'!$D$4:$D$553,MATCH(Databackup!A181,Employee_Name,0))))","v":""},{"$f":"IF(ISERROR(INDEX('Employee Data'!$F$4:$F$553,MATCH(Databackup!A181,Employee_Name,0),0)),\"\",(INDEX('Employee Data'!$F$4:$F$553,MATCH(Databackup!A181,Employee_Name,0))))","v":""},{"$f":"IF(ISERROR(INDEX('Employee Data'!$G$4:$G$553,MATCH(Databackup!A181,Employee_Name,0),0)),\"\",(INDEX('Employee Data'!$G$4:$G$553,MATCH(Databackup!A181,Employee_Name,0))))","v":""},{"$f":"IF(ISERROR(INDEX('Employee Data'!$H$4:$H$553,MATCH(Databackup!A181,Employee_Name,0),0)),\"\",(INDEX('Employee Data'!$H$4:$H$553,MATCH(Databackup!A181,Employee_Name,0))))","v":""},{"$f":"IF(ISERROR(INDEX('Employee Data'!$I$4:$I$553,MATCH(Databackup!A181,Employee_Name,0),0)),\"\",(INDEX('Employee Data'!$I$4:$I$553,MATCH(Databackup!A181,Employee_Name,0))))","v":""},{"$f":"IF(ISERROR(INDEX('Employee Data'!$J$4:$J$553,MATCH(Databackup!A181,Employee_Name,0),0)),\"\",(INDEX('Employee Data'!J$4:$J$553,MATCH(Databackup!A181,Employee_Name,0))))","v":""},{"$f":"IF(ISERROR(INDEX('Employee Data'!$K$4:$K$553,MATCH(Databackup!A181,Employee_Name,0),0)),\"\",(INDEX('Employee Data'!$K$4:$K$553,MATCH(Databackup!A181,Employee_Name,0))))","v":""},{"$f":"IF(ISERROR(INDEX('Employee Data'!$L$4:$L$553,MATCH(Databackup!A181,Employee_Name,0),0)),\"\",(INDEX('Employee Data'!$L$4:$L$553,MATCH(Databackup!A181,Employee_Name,0))))","v":""},{"$f":"IF(ISERROR(INDEX('Employee Data'!$M$4:$M$553,MATCH(Databackup!A181,Employee_Name,0),0)),\"\",(INDEX('Employee Data'!$M$4:$M$553,MATCH(Databackup!A181,Employee_Name,0))))","v":""},{"$f":"IF(ISERROR(INDEX('Employee Data'!$N$4:$N$553,MATCH(Databackup!A181,Employee_Name,0),0)),\"\",(INDEX('Employee Data'!$N$4:$N$553,MATCH(Databackup!A181,Employee_Name,0))))","v":""},{"$f":"IF(ISERROR(INDEX('Employee Data'!$O$4:$O$553,MATCH(Databackup!A181,Employee_Name,0),0)),\"\",(INDEX('Employee Data'!$O$4:$O$553,MATCH(Databackup!A181,Employee_Name,0))))","v":""}]
[{"$f":"INDEX(Employee_Name,MATCH(SMALL(IF($A$1='Employee Data'!$I$4:$I$553,'Employee Data'!$B$4:$B$553,\"\"),ROW('Employee Data'!A180)),IF($A$1='Employee Data'!$I$4:$I$553,'Employee Data'!$B$4:$B$553,\"\"),0))","v":{"$error":"#NUM!"}},{"$f":"IF(ISERROR(INDEX('Employee Data'!$B$4:$B$553,MATCH(Databackup!A182,Employee_Name,0),0)),\"\",(INDEX('Employee Data'!$B$4:$B$553,MATCH(Databackup!A182,Employee_Name,0))))","v":""},{"$f":"IF(ISERROR(INDEX('Employee Data'!$C$4:$C$553,MATCH(Databackup!A182,Employee_Name,0),0)),\"\",(INDEX('Employee Data'!$C$4:$C$553,MATCH(Databackup!A182,Employee_Name,0))))","v":""},{"$f":"IF(ISERROR(INDEX('Employee Data'!$D$4:$D$553,MATCH(Databackup!A182,Employee_Name,0),0)),\"\",(INDEX('Employee Data'!$D$4:$D$553,MATCH(Databackup!A182,Employee_Name,0))))","v":""},{"$f":"IF(ISERROR(INDEX('Employee Data'!$F$4:$F$553,MATCH(Databackup!A182,Employee_Name,0),0)),\"\",(INDEX('Employee Data'!$F$4:$F$553,MATCH(Databackup!A182,Employee_Name,0))))","v":""},{"$f":"IF(ISERROR(INDEX('Employee Data'!$G$4:$G$553,MATCH(Databackup!A182,Employee_Name,0),0)),\"\",(INDEX('Employee Data'!$G$4:$G$553,MATCH(Databackup!A182,Employee_Name,0))))","v":""},{"$f":"IF(ISERROR(INDEX('Employee Data'!$H$4:$H$553,MATCH(Databackup!A182,Employee_Name,0),0)),\"\",(INDEX('Employee Data'!$H$4:$H$553,MATCH(Databackup!A182,Employee_Name,0))))","v":""},{"$f":"IF(ISERROR(INDEX('Employee Data'!$I$4:$I$553,MATCH(Databackup!A182,Employee_Name,0),0)),\"\",(INDEX('Employee Data'!$I$4:$I$553,MATCH(Databackup!A182,Employee_Name,0))))","v":""},{"$f":"IF(ISERROR(INDEX('Employee Data'!$J$4:$J$553,MATCH(Databackup!A182,Employee_Name,0),0)),\"\",(INDEX('Employee Data'!J$4:$J$553,MATCH(Databackup!A182,Employee_Name,0))))","v":""},{"$f":"IF(ISERROR(INDEX('Employee Data'!$K$4:$K$553,MATCH(Databackup!A182,Employee_Name,0),0)),\"\",(INDEX('Employee Data'!$K$4:$K$553,MATCH(Databackup!A182,Employee_Name,0))))","v":""},{"$f":"IF(ISERROR(INDEX('Employee Data'!$L$4:$L$553,MATCH(Databackup!A182,Employee_Name,0),0)),\"\",(INDEX('Employee Data'!$L$4:$L$553,MATCH(Databackup!A182,Employee_Name,0))))","v":""},{"$f":"IF(ISERROR(INDEX('Employee Data'!$M$4:$M$553,MATCH(Databackup!A182,Employee_Name,0),0)),\"\",(INDEX('Employee Data'!$M$4:$M$553,MATCH(Databackup!A182,Employee_Name,0))))","v":""},{"$f":"IF(ISERROR(INDEX('Employee Data'!$N$4:$N$553,MATCH(Databackup!A182,Employee_Name,0),0)),\"\",(INDEX('Employee Data'!$N$4:$N$553,MATCH(Databackup!A182,Employee_Name,0))))","v":""},{"$f":"IF(ISERROR(INDEX('Employee Data'!$O$4:$O$553,MATCH(Databackup!A182,Employee_Name,0),0)),\"\",(INDEX('Employee Data'!$O$4:$O$553,MATCH(Databackup!A182,Employee_Name,0))))","v":""}]
[{"$f":"INDEX(Employee_Name,MATCH(SMALL(IF($A$1='Employee Data'!$I$4:$I$553,'Employee Data'!$B$4:$B$553,\"\"),ROW('Employee Data'!A181)),IF($A$1='Employee Data'!$I$4:$I$553,'Employee Data'!$B$4:$B$553,\"\"),0))","v":{"$error":"#NUM!"}},{"$f":"IF(ISERROR(INDEX('Employee Data'!$B$4:$B$553,MATCH(Databackup!A183,Employee_Name,0),0)),\"\",(INDEX('Employee Data'!$B$4:$B$553,MATCH(Databackup!A183,Employee_Name,0))))","v":""},{"$f":"IF(ISERROR(INDEX('Employee Data'!$C$4:$C$553,MATCH(Databackup!A183,Employee_Name,0),0)),\"\",(INDEX('Employee Data'!$C$4:$C$553,MATCH(Databackup!A183,Employee_Name,0))))","v":""},{"$f":"IF(ISERROR(INDEX('Employee Data'!$D$4:$D$553,MATCH(Databackup!A183,Employee_Name,0),0)),\"\",(INDEX('Employee Data'!$D$4:$D$553,MATCH(Databackup!A183,Employee_Name,0))))","v":""},{"$f":"IF(ISERROR(INDEX('Employee Data'!$F$4:$F$553,MATCH(Databackup!A183,Employee_Name,0),0)),\"\",(INDEX('Employee Data'!$F$4:$F$553,MATCH(Databackup!A183,Employee_Name,0))))","v":""},{"$f":"IF(ISERROR(INDEX('Employee Data'!$G$4:$G$553,MATCH(Databackup!A183,Employee_Name,0),0)),\"\",(INDEX('Employee Data'!$G$4:$G$553,MATCH(Databackup!A183,Employee_Name,0))))","v":""},{"$f":"IF(ISERROR(INDEX('Employee Data'!$H$4:$H$553,MATCH(Databackup!A183,Employee_Name,0),0)),\"\",(INDEX('Employee Data'!$H$4:$H$553,MATCH(Databackup!A183,Employee_Name,0))))","v":""},{"$f":"IF(ISERROR(INDEX('Employee Data'!$I$4:$I$553,MATCH(Databackup!A183,Employee_Name,0),0)),\"\",(INDEX('Employee Data'!$I$4:$I$553,MATCH(Databackup!A183,Employee_Name,0))))","v":""},{"$f":"IF(ISERROR(INDEX('Employee Data'!$J$4:$J$553,MATCH(Databackup!A183,Employee_Name,0),0)),\"\",(INDEX('Employee Data'!J$4:$J$553,MATCH(Databackup!A183,Employee_Name,0))))","v":""},{"$f":"IF(ISERROR(INDEX('Employee Data'!$K$4:$K$553,MATCH(Databackup!A183,Employee_Name,0),0)),\"\",(INDEX('Employee Data'!$K$4:$K$553,MATCH(Databackup!A183,Employee_Name,0))))","v":""},{"$f":"IF(ISERROR(INDEX('Employee Data'!$L$4:$L$553,MATCH(Databackup!A183,Employee_Name,0),0)),\"\",(INDEX('Employee Data'!$L$4:$L$553,MATCH(Databackup!A183,Employee_Name,0))))","v":""},{"$f":"IF(ISERROR(INDEX('Employee Data'!$M$4:$M$553,MATCH(Databackup!A183,Employee_Name,0),0)),\"\",(INDEX('Employee Data'!$M$4:$M$553,MATCH(Databackup!A183,Employee_Name,0))))","v":""},{"$f":"IF(ISERROR(INDEX('Employee Data'!$N$4:$N$553,MATCH(Databackup!A183,Employee_Name,0),0)),\"\",(INDEX('Employee Data'!$N$4:$N$553,MATCH(Databackup!A183,Employee_Name,0))))","v":""},{"$f":"IF(ISERROR(INDEX('Employee Data'!$O$4:$O$553,MATCH(Databackup!A183,Employee_Name,0),0)),\"\",(INDEX('Employee Data'!$O$4:$O$553,MATCH(Databackup!A183,Employee_Name,0))))","v":""}]
[{"$f":"INDEX(Employee_Name,MATCH(SMALL(IF($A$1='Employee Data'!$I$4:$I$553,'Employee Data'!$B$4:$B$553,\"\"),ROW('Employee Data'!A182)),IF($A$1='Employee Data'!$I$4:$I$553,'Employee Data'!$B$4:$B$553,\"\"),0))","v":{"$error":"#NUM!"}},{"$f":"IF(ISERROR(INDEX('Employee Data'!$B$4:$B$553,MATCH(Databackup!A184,Employee_Name,0),0)),\"\",(INDEX('Employee Data'!$B$4:$B$553,MATCH(Databackup!A184,Employee_Name,0))))","v":""},{"$f":"IF(ISERROR(INDEX('Employee Data'!$C$4:$C$553,MATCH(Databackup!A184,Employee_Name,0),0)),\"\",(INDEX('Employee Data'!$C$4:$C$553,MATCH(Databackup!A184,Employee_Name,0))))","v":""},{"$f":"IF(ISERROR(INDEX('Employee Data'!$D$4:$D$553,MATCH(Databackup!A184,Employee_Name,0),0)),\"\",(INDEX('Employee Data'!$D$4:$D$553,MATCH(Databackup!A184,Employee_Name,0))))","v":""},{"$f":"IF(ISERROR(INDEX('Employee Data'!$F$4:$F$553,MATCH(Databackup!A184,Employee_Name,0),0)),\"\",(INDEX('Employee Data'!$F$4:$F$553,MATCH(Databackup!A184,Employee_Name,0))))","v":""},{"$f":"IF(ISERROR(INDEX('Employee Data'!$G$4:$G$553,MATCH(Databackup!A184,Employee_Name,0),0)),\"\",(INDEX('Employee Data'!$G$4:$G$553,MATCH(Databackup!A184,Employee_Name,0))))","v":""},{"$f":"IF(ISERROR(INDEX('Employee Data'!$H$4:$H$553,MATCH(Databackup!A184,Employee_Name,0),0)),\"\",(INDEX('Employee Data'!$H$4:$H$553,MATCH(Databackup!A184,Employee_Name,0))))","v":""},{"$f":"IF(ISERROR(INDEX('Employee Data'!$I$4:$I$553,MATCH(Databackup!A184,Employee_Name,0),0)),\"\",(INDEX('Employee Data'!$I$4:$I$553,MATCH(Databackup!A184,Employee_Name,0))))","v":""},{"$f":"IF(ISERROR(INDEX('Employee Data'!$J$4:$J$553,MATCH(Databackup!A184,Employee_Name,0),0)),\"\",(INDEX('Employee Data'!J$4:$J$553,MATCH(Databackup!A184,Employee_Name,0))))","v":""},{"$f":"IF(ISERROR(INDEX('Employee Data'!$K$4:$K$553,MATCH(Databackup!A184,Employee_Name,0),0)),\"\",(INDEX('Employee Data'!$K$4:$K$553,MATCH(Databackup!A184,Employee_Name,0))))","v":""},{"$f":"IF(ISERROR(INDEX('Employee Data'!$L$4:$L$553,MATCH(Databackup!A184,Employee_Name,0),0)),\"\",(INDEX('Employee Data'!$L$4:$L$553,MATCH(Databackup!A184,Employee_Name,0))))","v":""},{"$f":"IF(ISERROR(INDEX('Employee Data'!$M$4:$M$553,MATCH(Databackup!A184,Employee_Name,0),0)),\"\",(INDEX('Employee Data'!$M$4:$M$553,MATCH(Databackup!A184,Employee_Name,0))))","v":""},{"$f":"IF(ISERROR(INDEX('Employee Data'!$N$4:$N$553,MATCH(Databackup!A184,Employee_Name,0),0)),\"\",(INDEX('Employee Data'!$N$4:$N$553,MATCH(Databackup!A184,Employee_Name,0))))","v":""},{"$f":"IF(ISERROR(INDEX('Employee Data'!$O$4:$O$553,MATCH(Databackup!A184,Employee_Name,0),0)),\"\",(INDEX('Employee Data'!$O$4:$O$553,MATCH(Databackup!A184,Employee_Name,0))))","v":""}]
[{"$f":"INDEX(Employee_Name,MATCH(SMALL(IF($A$1='Employee Data'!$I$4:$I$553,'Employee Data'!$B$4:$B$553,\"\"),ROW('Employee Data'!A183)),IF($A$1='Employee Data'!$I$4:$I$553,'Employee Data'!$B$4:$B$553,\"\"),0))","v":{"$error":"#NUM!"}},{"$f":"IF(ISERROR(INDEX('Employee Data'!$B$4:$B$553,MATCH(Databackup!A185,Employee_Name,0),0)),\"\",(INDEX('Employee Data'!$B$4:$B$553,MATCH(Databackup!A185,Employee_Name,0))))","v":""},{"$f":"IF(ISERROR(INDEX('Employee Data'!$C$4:$C$553,MATCH(Databackup!A185,Employee_Name,0),0)),\"\",(INDEX('Employee Data'!$C$4:$C$553,MATCH(Databackup!A185,Employee_Name,0))))","v":""},{"$f":"IF(ISERROR(INDEX('Employee Data'!$D$4:$D$553,MATCH(Databackup!A185,Employee_Name,0),0)),\"\",(INDEX('Employee Data'!$D$4:$D$553,MATCH(Databackup!A185,Employee_Name,0))))","v":""},{"$f":"IF(ISERROR(INDEX('Employee Data'!$F$4:$F$553,MATCH(Databackup!A185,Employee_Name,0),0)),\"\",(INDEX('Employee Data'!$F$4:$F$553,MATCH(Databackup!A185,Employee_Name,0))))","v":""},{"$f":"IF(ISERROR(INDEX('Employee Data'!$G$4:$G$553,MATCH(Databackup!A185,Employee_Name,0),0)),\"\",(INDEX('Employee Data'!$G$4:$G$553,MATCH(Databackup!A185,Employee_Name,0))))","v":""},{"$f":"IF(ISERROR(INDEX('Employee Data'!$H$4:$H$553,MATCH(Databackup!A185,Employee_Name,0),0)),\"\",(INDEX('Employee Data'!$H$4:$H$553,MATCH(Databackup!A185,Employee_Name,0))))","v":""},{"$f":"IF(ISERROR(INDEX('Employee Data'!$I$4:$I$553,MATCH(Databackup!A185,Employee_Name,0),0)),\"\",(INDEX('Employee Data'!$I$4:$I$553,MATCH(Databackup!A185,Employee_Name,0))))","v":""},{"$f":"IF(ISERROR(INDEX('Employee Data'!$J$4:$J$553,MATCH(Databackup!A185,Employee_Name,0),0)),\"\",(INDEX('Employee Data'!J$4:$J$553,MATCH(Databackup!A185,Employee_Name,0))))","v":""},{"$f":"IF(ISERROR(INDEX('Employee Data'!$K$4:$K$553,MATCH(Databackup!A185,Employee_Name,0),0)),\"\",(INDEX('Employee Data'!$K$4:$K$553,MATCH(Databackup!A185,Employee_Name,0))))","v":""},{"$f":"IF(ISERROR(INDEX('Employee Data'!$L$4:$L$553,MATCH(Databackup!A185,Employee_Name,0),0)),\"\",(INDEX('Employee Data'!$L$4:$L$553,MATCH(Databackup!A185,Employee_Name,0))))","v":""},{"$f":"IF(ISERROR(INDEX('Employee Data'!$M$4:$M$553,MATCH(Databackup!A185,Employee_Name,0),0)),\"\",(INDEX('Employee Data'!$M$4:$M$553,MATCH(Databackup!A185,Employee_Name,0))))","v":""},{"$f":"IF(ISERROR(INDEX('Employee Data'!$N$4:$N$553,MATCH(Databackup!A185,Employee_Name,0),0)),\"\",(INDEX('Employee Data'!$N$4:$N$553,MATCH(Databackup!A185,Employee_Name,0))))","v":""},{"$f":"IF(ISERROR(INDEX('Employee Data'!$O$4:$O$553,MATCH(Databackup!A185,Employee_Name,0),0)),\"\",(INDEX('Employee Data'!$O$4:$O$553,MATCH(Databackup!A185,Employee_Name,0))))","v":""}]
[{"$f":"INDEX(Employee_Name,MATCH(SMALL(IF($A$1='Employee Data'!$I$4:$I$553,'Employee Data'!$B$4:$B$553,\"\"),ROW('Employee Data'!A184)),IF($A$1='Employee Data'!$I$4:$I$553,'Employee Data'!$B$4:$B$553,\"\"),0))","v":{"$error":"#NUM!"}},{"$f":"IF(ISERROR(INDEX('Employee Data'!$B$4:$B$553,MATCH(Databackup!A186,Employee_Name,0),0)),\"\",(INDEX('Employee Data'!$B$4:$B$553,MATCH(Databackup!A186,Employee_Name,0))))","v":""},{"$f":"IF(ISERROR(INDEX('Employee Data'!$C$4:$C$553,MATCH(Databackup!A186,Employee_Name,0),0)),\"\",(INDEX('Employee Data'!$C$4:$C$553,MATCH(Databackup!A186,Employee_Name,0))))","v":""},{"$f":"IF(ISERROR(INDEX('Employee Data'!$D$4:$D$553,MATCH(Databackup!A186,Employee_Name,0),0)),\"\",(INDEX('Employee Data'!$D$4:$D$553,MATCH(Databackup!A186,Employee_Name,0))))","v":""},{"$f":"IF(ISERROR(INDEX('Employee Data'!$F$4:$F$553,MATCH(Databackup!A186,Employee_Name,0),0)),\"\",(INDEX('Employee Data'!$F$4:$F$553,MATCH(Databackup!A186,Employee_Name,0))))","v":""},{"$f":"IF(ISERROR(INDEX('Employee Data'!$G$4:$G$553,MATCH(Databackup!A186,Employee_Name,0),0)),\"\",(INDEX('Employee Data'!$G$4:$G$553,MATCH(Databackup!A186,Employee_Name,0))))","v":""},{"$f":"IF(ISERROR(INDEX('Employee Data'!$H$4:$H$553,MATCH(Databackup!A186,Employee_Name,0),0)),\"\",(INDEX('Employee Data'!$H$4:$H$553,MATCH(Databackup!A186,Employee_Name,0))))","v":""},{"$f":"IF(ISERROR(INDEX('Employee Data'!$I$4:$I$553,MATCH(Databackup!A186,Employee_Name,0),0)),\"\",(INDEX('Employee Data'!$I$4:$I$553,MATCH(Databackup!A186,Employee_Name,0))))","v":""},{"$f":"IF(ISERROR(INDEX('Employee Data'!$J$4:$J$553,MATCH(Databackup!A186,Employee_Name,0),0)),\"\",(INDEX('Employee Data'!J$4:$J$553,MATCH(Databackup!A186,Employee_Name,0))))","v":""},{"$f":"IF(ISERROR(INDEX('Employee Data'!$K$4:$K$553,MATCH(Databackup!A186,Employee_Name,0),0)),\"\",(INDEX('Employee Data'!$K$4:$K$553,MATCH(Databackup!A186,Employee_Name,0))))","v":""},{"$f":"IF(ISERROR(INDEX('Employee Data'!$L$4:$L$553,MATCH(Databackup!A186,Employee_Name,0),0)),\"\",(INDEX('Employee Data'!$L$4:$L$553,MATCH(Databackup!A186,Employee_Name,0))))","v":""},{"$f":"IF(ISERROR(INDEX('Employee Data'!$M$4:$M$553,MATCH(Databackup!A186,Employee_Name,0),0)),\"\",(INDEX('Employee Data'!$M$4:$M$553,MATCH(Databackup!A186,Employee_Name,0))))","v":""},{"$f":"IF(ISERROR(INDEX('Employee Data'!$N$4:$N$553,MATCH(Databackup!A186,Employee_Name,0),0)),\"\",(INDEX('Employee Data'!$N$4:$N$553,MATCH(Databackup!A186,Employee_Name,0))))","v":""},{"$f":"IF(ISERROR(INDEX('Employee Data'!$O$4:$O$553,MATCH(Databackup!A186,Employee_Name,0),0)),\"\",(INDEX('Employee Data'!$O$4:$O$553,MATCH(Databackup!A186,Employee_Name,0))))","v":""}]
[{"$f":"INDEX(Employee_Name,MATCH(SMALL(IF($A$1='Employee Data'!$I$4:$I$553,'Employee Data'!$B$4:$B$553,\"\"),ROW('Employee Data'!A185)),IF($A$1='Employee Data'!$I$4:$I$553,'Employee Data'!$B$4:$B$553,\"\"),0))","v":{"$error":"#NUM!"}},{"$f":"IF(ISERROR(INDEX('Employee Data'!$B$4:$B$553,MATCH(Databackup!A187,Employee_Name,0),0)),\"\",(INDEX('Employee Data'!$B$4:$B$553,MATCH(Databackup!A187,Employee_Name,0))))","v":""},{"$f":"IF(ISERROR(INDEX('Employee Data'!$C$4:$C$553,MATCH(Databackup!A187,Employee_Name,0),0)),\"\",(INDEX('Employee Data'!$C$4:$C$553,MATCH(Databackup!A187,Employee_Name,0))))","v":""},{"$f":"IF(ISERROR(INDEX('Employee Data'!$D$4:$D$553,MATCH(Databackup!A187,Employee_Name,0),0)),\"\",(INDEX('Employee Data'!$D$4:$D$553,MATCH(Databackup!A187,Employee_Name,0))))","v":""},{"$f":"IF(ISERROR(INDEX('Employee Data'!$F$4:$F$553,MATCH(Databackup!A187,Employee_Name,0),0)),\"\",(INDEX('Employee Data'!$F$4:$F$553,MATCH(Databackup!A187,Employee_Name,0))))","v":""},{"$f":"IF(ISERROR(INDEX('Employee Data'!$G$4:$G$553,MATCH(Databackup!A187,Employee_Name,0),0)),\"\",(INDEX('Employee Data'!$G$4:$G$553,MATCH(Databackup!A187,Employee_Name,0))))","v":""},{"$f":"IF(ISERROR(INDEX('Employee Data'!$H$4:$H$553,MATCH(Databackup!A187,Employee_Name,0),0)),\"\",(INDEX('Employee Data'!$H$4:$H$553,MATCH(Databackup!A187,Employee_Name,0))))","v":""},{"$f":"IF(ISERROR(INDEX('Employee Data'!$I$4:$I$553,MATCH(Databackup!A187,Employee_Name,0),0)),\"\",(INDEX('Employee Data'!$I$4:$I$553,MATCH(Databackup!A187,Employee_Name,0))))","v":""},{"$f":"IF(ISERROR(INDEX('Employee Data'!$J$4:$J$553,MATCH(Databackup!A187,Employee_Name,0),0)),\"\",(INDEX('Employee Data'!J$4:$J$553,MATCH(Databackup!A187,Employee_Name,0))))","v":""},{"$f":"IF(ISERROR(INDEX('Employee Data'!$K$4:$K$553,MATCH(Databackup!A187,Employee_Name,0),0)),\"\",(INDEX('Employee Data'!$K$4:$K$553,MATCH(Databackup!A187,Employee_Name,0))))","v":""},{"$f":"IF(ISERROR(INDEX('Employee Data'!$L$4:$L$553,MATCH(Databackup!A187,Employee_Name,0),0)),\"\",(INDEX('Employee Data'!$L$4:$L$553,MATCH(Databackup!A187,Employee_Name,0))))","v":""},{"$f":"IF(ISERROR(INDEX('Employee Data'!$M$4:$M$553,MATCH(Databackup!A187,Employee_Name,0),0)),\"\",(INDEX('Employee Data'!$M$4:$M$553,MATCH(Databackup!A187,Employee_Name,0))))","v":""},{"$f":"IF(ISERROR(INDEX('Employee Data'!$N$4:$N$553,MATCH(Databackup!A187,Employee_Name,0),0)),\"\",(INDEX('Employee Data'!$N$4:$N$553,MATCH(Databackup!A187,Employee_Name,0))))","v":""},{"$f":"IF(ISERROR(INDEX('Employee Data'!$O$4:$O$553,MATCH(Databackup!A187,Employee_Name,0),0)),\"\",(INDEX('Employee Data'!$O$4:$O$553,MATCH(Databackup!A187,Employee_Name,0))))","v":""}]
[{"$f":"INDEX(Employee_Name,MATCH(SMALL(IF($A$1='Employee Data'!$I$4:$I$553,'Employee Data'!$B$4:$B$553,\"\"),ROW('Employee Data'!A186)),IF($A$1='Employee Data'!$I$4:$I$553,'Employee Data'!$B$4:$B$553,\"\"),0))","v":{"$error":"#NUM!"}},{"$f":"IF(ISERROR(INDEX('Employee Data'!$B$4:$B$553,MATCH(Databackup!A188,Employee_Name,0),0)),\"\",(INDEX('Employee Data'!$B$4:$B$553,MATCH(Databackup!A188,Employee_Name,0))))","v":""},{"$f":"IF(ISERROR(INDEX('Employee Data'!$C$4:$C$553,MATCH(Databackup!A188,Employee_Name,0),0)),\"\",(INDEX('Employee Data'!$C$4:$C$553,MATCH(Databackup!A188,Employee_Name,0))))","v":""},{"$f":"IF(ISERROR(INDEX('Employee Data'!$D$4:$D$553,MATCH(Databackup!A188,Employee_Name,0),0)),\"\",(INDEX('Employee Data'!$D$4:$D$553,MATCH(Databackup!A188,Employee_Name,0))))","v":""},{"$f":"IF(ISERROR(INDEX('Employee Data'!$F$4:$F$553,MATCH(Databackup!A188,Employee_Name,0),0)),\"\",(INDEX('Employee Data'!$F$4:$F$553,MATCH(Databackup!A188,Employee_Name,0))))","v":""},{"$f":"IF(ISERROR(INDEX('Employee Data'!$G$4:$G$553,MATCH(Databackup!A188,Employee_Name,0),0)),\"\",(INDEX('Employee Data'!$G$4:$G$553,MATCH(Databackup!A188,Employee_Name,0))))","v":""},{"$f":"IF(ISERROR(INDEX('Employee Data'!$H$4:$H$553,MATCH(Databackup!A188,Employee_Name,0),0)),\"\",(INDEX('Employee Data'!$H$4:$H$553,MATCH(Databackup!A188,Employee_Name,0))))","v":""},{"$f":"IF(ISERROR(INDEX('Employee Data'!$I$4:$I$553,MATCH(Databackup!A188,Employee_Name,0),0)),\"\",(INDEX('Employee Data'!$I$4:$I$553,MATCH(Databackup!A188,Employee_Name,0))))","v":""},{"$f":"IF(ISERROR(INDEX('Employee Data'!$J$4:$J$553,MATCH(Databackup!A188,Employee_Name,0),0)),\"\",(INDEX('Employee Data'!J$4:$J$553,MATCH(Databackup!A188,Employee_Name,0))))","v":""},{"$f":"IF(ISERROR(INDEX('Employee Data'!$K$4:$K$553,MATCH(Databackup!A188,Employee_Name,0),0)),\"\",(INDEX('Employee Data'!$K$4:$K$553,MATCH(Databackup!A188,Employee_Name,0))))","v":""},{"$f":"IF(ISERROR(INDEX('Employee Data'!$L$4:$L$553,MATCH(Databackup!A188,Employee_Name,0),0)),\"\",(INDEX('Employee Data'!$L$4:$L$553,MATCH(Databackup!A188,Employee_Name,0))))","v":""},{"$f":"IF(ISERROR(INDEX('Employee Data'!$M$4:$M$553,MATCH(Databackup!A188,Employee_Name,0),0)),\"\",(INDEX('Employee Data'!$M$4:$M$553,MATCH(Databackup!A188,Employee_Name,0))))","v":""},{"$f":"IF(ISERROR(INDEX('Employee Data'!$N$4:$N$553,MATCH(Databackup!A188,Employee_Name,0),0)),\"\",(INDEX('Employee Data'!$N$4:$N$553,MATCH(Databackup!A188,Employee_Name,0))))","v":""},{"$f":"IF(ISERROR(INDEX('Employee Data'!$O$4:$O$553,MATCH(Databackup!A188,Employee_Name,0),0)),\"\",(INDEX('Employee Data'!$O$4:$O$553,MATCH(Databackup!A188,Employee_Name,0))))","v":""}]
[{"$f":"INDEX(Employee_Name,MATCH(SMALL(IF($A$1='Employee Data'!$I$4:$I$553,'Employee Data'!$B$4:$B$553,\"\"),ROW('Employee Data'!A187)),IF($A$1='Employee Data'!$I$4:$I$553,'Employee Data'!$B$4:$B$553,\"\"),0))","v":{"$error":"#NUM!"}},{"$f":"IF(ISERROR(INDEX('Employee Data'!$B$4:$B$553,MATCH(Databackup!A189,Employee_Name,0),0)),\"\",(INDEX('Employee Data'!$B$4:$B$553,MATCH(Databackup!A189,Employee_Name,0))))","v":""},{"$f":"IF(ISERROR(INDEX('Employee Data'!$C$4:$C$553,MATCH(Databackup!A189,Employee_Name,0),0)),\"\",(INDEX('Employee Data'!$C$4:$C$553,MATCH(Databackup!A189,Employee_Name,0))))","v":""},{"$f":"IF(ISERROR(INDEX('Employee Data'!$D$4:$D$553,MATCH(Databackup!A189,Employee_Name,0),0)),\"\",(INDEX('Employee Data'!$D$4:$D$553,MATCH(Databackup!A189,Employee_Name,0))))","v":""},{"$f":"IF(ISERROR(INDEX('Employee Data'!$F$4:$F$553,MATCH(Databackup!A189,Employee_Name,0),0)),\"\",(INDEX('Employee Data'!$F$4:$F$553,MATCH(Databackup!A189,Employee_Name,0))))","v":""},{"$f":"IF(ISERROR(INDEX('Employee Data'!$G$4:$G$553,MATCH(Databackup!A189,Employee_Name,0),0)),\"\",(INDEX('Employee Data'!$G$4:$G$553,MATCH(Databackup!A189,Employee_Name,0))))","v":""},{"$f":"IF(ISERROR(INDEX('Employee Data'!$H$4:$H$553,MATCH(Databackup!A189,Employee_Name,0),0)),\"\",(INDEX('Employee Data'!$H$4:$H$553,MATCH(Databackup!A189,Employee_Name,0))))","v":""},{"$f":"IF(ISERROR(INDEX('Employee Data'!$I$4:$I$553,MATCH(Databackup!A189,Employee_Name,0),0)),\"\",(INDEX('Employee Data'!$I$4:$I$553,MATCH(Databackup!A189,Employee_Name,0))))","v":""},{"$f":"IF(ISERROR(INDEX('Employee Data'!$J$4:$J$553,MATCH(Databackup!A189,Employee_Name,0),0)),\"\",(INDEX('Employee Data'!J$4:$J$553,MATCH(Databackup!A189,Employee_Name,0))))","v":""},{"$f":"IF(ISERROR(INDEX('Employee Data'!$K$4:$K$553,MATCH(Databackup!A189,Employee_Name,0),0)),\"\",(INDEX('Employee Data'!$K$4:$K$553,MATCH(Databackup!A189,Employee_Name,0))))","v":""},{"$f":"IF(ISERROR(INDEX('Employee Data'!$L$4:$L$553,MATCH(Databackup!A189,Employee_Name,0),0)),\"\",(INDEX('Employee Data'!$L$4:$L$553,MATCH(Databackup!A189,Employee_Name,0))))","v":""},{"$f":"IF(ISERROR(INDEX('Employee Data'!$M$4:$M$553,MATCH(Databackup!A189,Employee_Name,0),0)),\"\",(INDEX('Employee Data'!$M$4:$M$553,MATCH(Databackup!A189,Employee_Name,0))))","v":""},{"$f":"IF(ISERROR(INDEX('Employee Data'!$N$4:$N$553,MATCH(Databackup!A189,Employee_Name,0),0)),\"\",(INDEX('Employee Data'!$N$4:$N$553,MATCH(Databackup!A189,Employee_Name,0))))","v":""},{"$f":"IF(ISERROR(INDEX('Employee Data'!$O$4:$O$553,MATCH(Databackup!A189,Employee_Name,0),0)),\"\",(INDEX('Employee Data'!$O$4:$O$553,MATCH(Databackup!A189,Employee_Name,0))))","v":""}]
[{"$f":"INDEX(Employee_Name,MATCH(SMALL(IF($A$1='Employee Data'!$I$4:$I$553,'Employee Data'!$B$4:$B$553,\"\"),ROW('Employee Data'!A188)),IF($A$1='Employee Data'!$I$4:$I$553,'Employee Data'!$B$4:$B$553,\"\"),0))","v":{"$error":"#NUM!"}},{"$f":"IF(ISERROR(INDEX('Employee Data'!$B$4:$B$553,MATCH(Databackup!A190,Employee_Name,0),0)),\"\",(INDEX('Employee Data'!$B$4:$B$553,MATCH(Databackup!A190,Employee_Name,0))))","v":""},{"$f":"IF(ISERROR(INDEX('Employee Data'!$C$4:$C$553,MATCH(Databackup!A190,Employee_Name,0),0)),\"\",(INDEX('Employee Data'!$C$4:$C$553,MATCH(Databackup!A190,Employee_Name,0))))","v":""},{"$f":"IF(ISERROR(INDEX('Employee Data'!$D$4:$D$553,MATCH(Databackup!A190,Employee_Name,0),0)),\"\",(INDEX('Employee Data'!$D$4:$D$553,MATCH(Databackup!A190,Employee_Name,0))))","v":""},{"$f":"IF(ISERROR(INDEX('Employee Data'!$F$4:$F$553,MATCH(Databackup!A190,Employee_Name,0),0)),\"\",(INDEX('Employee Data'!$F$4:$F$553,MATCH(Databackup!A190,Employee_Name,0))))","v":""},{"$f":"IF(ISERROR(INDEX('Employee Data'!$G$4:$G$553,MATCH(Databackup!A190,Employee_Name,0),0)),\"\",(INDEX('Employee Data'!$G$4:$G$553,MATCH(Databackup!A190,Employee_Name,0))))","v":""},{"$f":"IF(ISERROR(INDEX('Employee Data'!$H$4:$H$553,MATCH(Databackup!A190,Employee_Name,0),0)),\"\",(INDEX('Employee Data'!$H$4:$H$553,MATCH(Databackup!A190,Employee_Name,0))))","v":""},{"$f":"IF(ISERROR(INDEX('Employee Data'!$I$4:$I$553,MATCH(Databackup!A190,Employee_Name,0),0)),\"\",(INDEX('Employee Data'!$I$4:$I$553,MATCH(Databackup!A190,Employee_Name,0))))","v":""},{"$f":"IF(ISERROR(INDEX('Employee Data'!$J$4:$J$553,MATCH(Databackup!A190,Employee_Name,0),0)),\"\",(INDEX('Employee Data'!J$4:$J$553,MATCH(Databackup!A190,Employee_Name,0))))","v":""},{"$f":"IF(ISERROR(INDEX('Employee Data'!$K$4:$K$553,MATCH(Databackup!A190,Employee_Name,0),0)),\"\",(INDEX('Employee Data'!$K$4:$K$553,MATCH(Databackup!A190,Employee_Name,0))))","v":""},{"$f":"IF(ISERROR(INDEX('Employee Data'!$L$4:$L$553,MATCH(Databackup!A190,Employee_Name,0),0)),\"\",(INDEX('Employee Data'!$L$4:$L$553,MATCH(Databackup!A190,Employee_Name,0))))","v":""},{"$f":"IF(ISERROR(INDEX('Employee Data'!$M$4:$M$553,MATCH(Databackup!A190,Employee_Name,0),0)),\"\",(INDEX('Employee Data'!$M$4:$M$553,MATCH(Databackup!A190,Employee_Name,0))))","v":""},{"$f":"IF(ISERROR(INDEX('Employee Data'!$N$4:$N$553,MATCH(Databackup!A190,Employee_Name,0),0)),\"\",(INDEX('Employee Data'!$N$4:$N$553,MATCH(Databackup!A190,Employee_Name,0))))","v":""},{"$f":"IF(ISERROR(INDEX('Employee Data'!$O$4:$O$553,MATCH(Databackup!A190,Employee_Name,0),0)),\"\",(INDEX('Employee Data'!$O$4:$O$553,MATCH(Databackup!A190,Employee_Name,0))))","v":""}]
[{"$f":"INDEX(Employee_Name,MATCH(SMALL(IF($A$1='Employee Data'!$I$4:$I$553,'Employee Data'!$B$4:$B$553,\"\"),ROW('Employee Data'!A189)),IF($A$1='Employee Data'!$I$4:$I$553,'Employee Data'!$B$4:$B$553,\"\"),0))","v":{"$error":"#NUM!"}},{"$f":"IF(ISERROR(INDEX('Employee Data'!$B$4:$B$553,MATCH(Databackup!A191,Employee_Name,0),0)),\"\",(INDEX('Employee Data'!$B$4:$B$553,MATCH(Databackup!A191,Employee_Name,0))))","v":""},{"$f":"IF(ISERROR(INDEX('Employee Data'!$C$4:$C$553,MATCH(Databackup!A191,Employee_Name,0),0)),\"\",(INDEX('Employee Data'!$C$4:$C$553,MATCH(Databackup!A191,Employee_Name,0))))","v":""},{"$f":"IF(ISERROR(INDEX('Employee Data'!$D$4:$D$553,MATCH(Databackup!A191,Employee_Name,0),0)),\"\",(INDEX('Employee Data'!$D$4:$D$553,MATCH(Databackup!A191,Employee_Name,0))))","v":""},{"$f":"IF(ISERROR(INDEX('Employee Data'!$F$4:$F$553,MATCH(Databackup!A191,Employee_Name,0),0)),\"\",(INDEX('Employee Data'!$F$4:$F$553,MATCH(Databackup!A191,Employee_Name,0))))","v":""},{"$f":"IF(ISERROR(INDEX('Employee Data'!$G$4:$G$553,MATCH(Databackup!A191,Employee_Name,0),0)),\"\",(INDEX('Employee Data'!$G$4:$G$553,MATCH(Databackup!A191,Employee_Name,0))))","v":""},{"$f":"IF(ISERROR(INDEX('Employee Data'!$H$4:$H$553,MATCH(Databackup!A191,Employee_Name,0),0)),\"\",(INDEX('Employee Data'!$H$4:$H$553,MATCH(Databackup!A191,Employee_Name,0))))","v":""},{"$f":"IF(ISERROR(INDEX('Employee Data'!$I$4:$I$553,MATCH(Databackup!A191,Employee_Name,0),0)),\"\",(INDEX('Employee Data'!$I$4:$I$553,MATCH(Databackup!A191,Employee_Name,0))))","v":""},{"$f":"IF(ISERROR(INDEX('Employee Data'!$J$4:$J$553,MATCH(Databackup!A191,Employee_Name,0),0)),\"\",(INDEX('Employee Data'!J$4:$J$553,MATCH(Databackup!A191,Employee_Name,0))))","v":""},{"$f":"IF(ISERROR(INDEX('Employee Data'!$K$4:$K$553,MATCH(Databackup!A191,Employee_Name,0),0)),\"\",(INDEX('Employee Data'!$K$4:$K$553,MATCH(Databackup!A191,Employee_Name,0))))","v":""},{"$f":"IF(ISERROR(INDEX('Employee Data'!$L$4:$L$553,MATCH(Databackup!A191,Employee_Name,0),0)),\"\",(INDEX('Employee Data'!$L$4:$L$553,MATCH(Databackup!A191,Employee_Name,0))))","v":""},{"$f":"IF(ISERROR(INDEX('Employee Data'!$M$4:$M$553,MATCH(Databackup!A191,Employee_Name,0),0)),\"\",(INDEX('Employee Data'!$M$4:$M$553,MATCH(Databackup!A191,Employee_Name,0))))","v":""},{"$f":"IF(ISERROR(INDEX('Employee Data'!$N$4:$N$553,MATCH(Databackup!A191,Employee_Name,0),0)),\"\",(INDEX('Employee Data'!$N$4:$N$553,MATCH(Databackup!A191,Employee_Name,0))))","v":""},{"$f":"IF(ISERROR(INDEX('Employee Data'!$O$4:$O$553,MATCH(Databackup!A191,Employee_Name,0),0)),\"\",(INDEX('Employee Data'!$O$4:$O$553,MATCH(Databackup!A191,Employee_Name,0))))","v":""}]
[{"$f":"INDEX(Employee_Name,MATCH(SMALL(IF($A$1='Employee Data'!$I$4:$I$553,'Employee Data'!$B$4:$B$553,\"\"),ROW('Employee Data'!A190)),IF($A$1='Employee Data'!$I$4:$I$553,'Employee Data'!$B$4:$B$553,\"\"),0))","v":{"$error":"#NUM!"}},{"$f":"IF(ISERROR(INDEX('Employee Data'!$B$4:$B$553,MATCH(Databackup!A192,Employee_Name,0),0)),\"\",(INDEX('Employee Data'!$B$4:$B$553,MATCH(Databackup!A192,Employee_Name,0))))","v":""},{"$f":"IF(ISERROR(INDEX('Employee Data'!$C$4:$C$553,MATCH(Databackup!A192,Employee_Name,0),0)),\"\",(INDEX('Employee Data'!$C$4:$C$553,MATCH(Databackup!A192,Employee_Name,0))))","v":""},{"$f":"IF(ISERROR(INDEX('Employee Data'!$D$4:$D$553,MATCH(Databackup!A192,Employee_Name,0),0)),\"\",(INDEX('Employee Data'!$D$4:$D$553,MATCH(Databackup!A192,Employee_Name,0))))","v":""},{"$f":"IF(ISERROR(INDEX('Employee Data'!$F$4:$F$553,MATCH(Databackup!A192,Employee_Name,0),0)),\"\",(INDEX('Employee Data'!$F$4:$F$553,MATCH(Databackup!A192,Employee_Name,0))))","v":""},{"$f":"IF(ISERROR(INDEX('Employee Data'!$G$4:$G$553,MATCH(Databackup!A192,Employee_Name,0),0)),\"\",(INDEX('Employee Data'!$G$4:$G$553,MATCH(Databackup!A192,Employee_Name,0))))","v":""},{"$f":"IF(ISERROR(INDEX('Employee Data'!$H$4:$H$553,MATCH(Databackup!A192,Employee_Name,0),0)),\"\",(INDEX('Employee Data'!$H$4:$H$553,MATCH(Databackup!A192,Employee_Name,0))))","v":""},{"$f":"IF(ISERROR(INDEX('Employee Data'!$I$4:$I$553,MATCH(Databackup!A192,Employee_Name,0),0)),\"\",(INDEX('Employee Data'!$I$4:$I$553,MATCH(Databackup!A192,Employee_Name,0))))","v":""},{"$f":"IF(ISERROR(INDEX('Employee Data'!$J$4:$J$553,MATCH(Databackup!A192,Employee_Name,0),0)),\"\",(INDEX('Employee Data'!J$4:$J$553,MATCH(Databackup!A192,Employee_Name,0))))","v":""},{"$f":"IF(ISERROR(INDEX('Employee Data'!$K$4:$K$553,MATCH(Databackup!A192,Employee_Name,0),0)),\"\",(INDEX('Employee Data'!$K$4:$K$553,MATCH(Databackup!A192,Employee_Name,0))))","v":""},{"$f":"IF(ISERROR(INDEX('Employee Data'!$L$4:$L$553,MATCH(Databackup!A192,Employee_Name,0),0)),\"\",(INDEX('Employee Data'!$L$4:$L$553,MATCH(Databackup!A192,Employee_Name,0))))","v":""},{"$f":"IF(ISERROR(INDEX('Employee Data'!$M$4:$M$553,MATCH(Databackup!A192,Employee_Name,0),0)),\"\",(INDEX('Employee Data'!$M$4:$M$553,MATCH(Databackup!A192,Employee_Name,0))))","v":""},{"$f":"IF(ISERROR(INDEX('Employee Data'!$N$4:$N$553,MATCH(Databackup!A192,Employee_Name,0),0)),\"\",(INDEX('Employee Data'!$N$4:$N$553,MATCH(Databackup!A192,Employee_Name,0))))","v":""},{"$f":"IF(ISERROR(INDEX('Employee Data'!$O$4:$O$553,MATCH(Databackup!A192,Employee_Name,0),0)),\"\",(INDEX('Employee Data'!$O$4:$O$553,MATCH(Databackup!A192,Employee_Name,0))))","v":""}]
[{"$f":"INDEX(Employee_Name,MATCH(SMALL(IF($A$1='Employee Data'!$I$4:$I$553,'Employee Data'!$B$4:$B$553,\"\"),ROW('Employee Data'!A191)),IF($A$1='Employee Data'!$I$4:$I$553,'Employee Data'!$B$4:$B$553,\"\"),0))","v":{"$error":"#NUM!"}},{"$f":"IF(ISERROR(INDEX('Employee Data'!$B$4:$B$553,MATCH(Databackup!A193,Employee_Name,0),0)),\"\",(INDEX('Employee Data'!$B$4:$B$553,MATCH(Databackup!A193,Employee_Name,0))))","v":""},{"$f":"IF(ISERROR(INDEX('Employee Data'!$C$4:$C$553,MATCH(Databackup!A193,Employee_Name,0),0)),\"\",(INDEX('Employee Data'!$C$4:$C$553,MATCH(Databackup!A193,Employee_Name,0))))","v":""},{"$f":"IF(ISERROR(INDEX('Employee Data'!$D$4:$D$553,MATCH(Databackup!A193,Employee_Name,0),0)),\"\",(INDEX('Employee Data'!$D$4:$D$553,MATCH(Databackup!A193,Employee_Name,0))))","v":""},{"$f":"IF(ISERROR(INDEX('Employee Data'!$F$4:$F$553,MATCH(Databackup!A193,Employee_Name,0),0)),\"\",(INDEX('Employee Data'!$F$4:$F$553,MATCH(Databackup!A193,Employee_Name,0))))","v":""},{"$f":"IF(ISERROR(INDEX('Employee Data'!$G$4:$G$553,MATCH(Databackup!A193,Employee_Name,0),0)),\"\",(INDEX('Employee Data'!$G$4:$G$553,MATCH(Databackup!A193,Employee_Name,0))))","v":""},{"$f":"IF(ISERROR(INDEX('Employee Data'!$H$4:$H$553,MATCH(Databackup!A193,Employee_Name,0),0)),\"\",(INDEX('Employee Data'!$H$4:$H$553,MATCH(Databackup!A193,Employee_Name,0))))","v":""},{"$f":"IF(ISERROR(INDEX('Employee Data'!$I$4:$I$553,MATCH(Databackup!A193,Employee_Name,0),0)),\"\",(INDEX('Employee Data'!$I$4:$I$553,MATCH(Databackup!A193,Employee_Name,0))))","v":""},{"$f":"IF(ISERROR(INDEX('Employee Data'!$J$4:$J$553,MATCH(Databackup!A193,Employee_Name,0),0)),\"\",(INDEX('Employee Data'!J$4:$J$553,MATCH(Databackup!A193,Employee_Name,0))))","v":""},{"$f":"IF(ISERROR(INDEX('Employee Data'!$K$4:$K$553,MATCH(Databackup!A193,Employee_Name,0),0)),\"\",(INDEX('Employee Data'!$K$4:$K$553,MATCH(Databackup!A193,Employee_Name,0))))","v":""},{"$f":"IF(ISERROR(INDEX('Employee Data'!$L$4:$L$553,MATCH(Databackup!A193,Employee_Name,0),0)),\"\",(INDEX('Employee Data'!$L$4:$L$553,MATCH(Databackup!A193,Employee_Name,0))))","v":""},{"$f":"IF(ISERROR(INDEX('Employee Data'!$M$4:$M$553,MATCH(Databackup!A193,Employee_Name,0),0)),\"\",(INDEX('Employee Data'!$M$4:$M$553,MATCH(Databackup!A193,Employee_Name,0))))","v":""},{"$f":"IF(ISERROR(INDEX('Employee Data'!$N$4:$N$553,MATCH(Databackup!A193,Employee_Name,0),0)),\"\",(INDEX('Employee Data'!$N$4:$N$553,MATCH(Databackup!A193,Employee_Name,0))))","v":""},{"$f":"IF(ISERROR(INDEX('Employee Data'!$O$4:$O$553,MATCH(Databackup!A193,Employee_Name,0),0)),\"\",(INDEX('Employee Data'!$O$4:$O$553,MATCH(Databackup!A193,Employee_Name,0))))","v":""}]
[{"$f":"INDEX(Employee_Name,MATCH(SMALL(IF($A$1='Employee Data'!$I$4:$I$553,'Employee Data'!$B$4:$B$553,\"\"),ROW('Employee Data'!A192)),IF($A$1='Employee Data'!$I$4:$I$553,'Employee Data'!$B$4:$B$553,\"\"),0))","v":{"$error":"#NUM!"}},{"$f":"IF(ISERROR(INDEX('Employee Data'!$B$4:$B$553,MATCH(Databackup!A194,Employee_Name,0),0)),\"\",(INDEX('Employee Data'!$B$4:$B$553,MATCH(Databackup!A194,Employee_Name,0))))","v":""},{"$f":"IF(ISERROR(INDEX('Employee Data'!$C$4:$C$553,MATCH(Databackup!A194,Employee_Name,0),0)),\"\",(INDEX('Employee Data'!$C$4:$C$553,MATCH(Databackup!A194,Employee_Name,0))))","v":""},{"$f":"IF(ISERROR(INDEX('Employee Data'!$D$4:$D$553,MATCH(Databackup!A194,Employee_Name,0),0)),\"\",(INDEX('Employee Data'!$D$4:$D$553,MATCH(Databackup!A194,Employee_Name,0))))","v":""},{"$f":"IF(ISERROR(INDEX('Employee Data'!$F$4:$F$553,MATCH(Databackup!A194,Employee_Name,0),0)),\"\",(INDEX('Employee Data'!$F$4:$F$553,MATCH(Databackup!A194,Employee_Name,0))))","v":""},{"$f":"IF(ISERROR(INDEX('Employee Data'!$G$4:$G$553,MATCH(Databackup!A194,Employee_Name,0),0)),\"\",(INDEX('Employee Data'!$G$4:$G$553,MATCH(Databackup!A194,Employee_Name,0))))","v":""},{"$f":"IF(ISERROR(INDEX('Employee Data'!$H$4:$H$553,MATCH(Databackup!A194,Employee_Name,0),0)),\"\",(INDEX('Employee Data'!$H$4:$H$553,MATCH(Databackup!A194,Employee_Name,0))))","v":""},{"$f":"IF(ISERROR(INDEX('Employee Data'!$I$4:$I$553,MATCH(Databackup!A194,Employee_Name,0),0)),\"\",(INDEX('Employee Data'!$I$4:$I$553,MATCH(Databackup!A194,Employee_Name,0))))","v":""},{"$f":"IF(ISERROR(INDEX('Employee Data'!$J$4:$J$553,MATCH(Databackup!A194,Employee_Name,0),0)),\"\",(INDEX('Employee Data'!J$4:$J$553,MATCH(Databackup!A194,Employee_Name,0))))","v":""},{"$f":"IF(ISERROR(INDEX('Employee Data'!$K$4:$K$553,MATCH(Databackup!A194,Employee_Name,0),0)),\"\",(INDEX('Employee Data'!$K$4:$K$553,MATCH(Databackup!A194,Employee_Name,0))))","v":""},{"$f":"IF(ISERROR(INDEX('Employee Data'!$L$4:$L$553,MATCH(Databackup!A194,Employee_Name,0),0)),\"\",(INDEX('Employee Data'!$L$4:$L$553,MATCH(Databackup!A194,Employee_Name,0))))","v":""},{"$f":"IF(ISERROR(INDEX('Employee Data'!$M$4:$M$553,MATCH(Databackup!A194,Employee_Name,0),0)),\"\",(INDEX('Employee Data'!$M$4:$M$553,MATCH(Databackup!A194,Employee_Name,0))))","v":""},{"$f":"IF(ISERROR(INDEX('Employee Data'!$N$4:$N$553,MATCH(Databackup!A194,Employee_Name,0),0)),\"\",(INDEX('Employee Data'!$N$4:$N$553,MATCH(Databackup!A194,Employee_Name,0))))","v":""},{"$f":"IF(ISERROR(INDEX('Employee Data'!$O$4:$O$553,MATCH(Databackup!A194,Employee_Name,0),0)),\"\",(INDEX('Employee Data'!$O$4:$O$553,MATCH(Databackup!A194,Employee_Name,0))))","v":""}]
[{"$f":"INDEX(Employee_Name,MATCH(SMALL(IF($A$1='Employee Data'!$I$4:$I$553,'Employee Data'!$B$4:$B$553,\"\"),ROW('Employee Data'!A193)),IF($A$1='Employee Data'!$I$4:$I$553,'Employee Data'!$B$4:$B$553,\"\"),0))","v":{"$error":"#NUM!"}},{"$f":"IF(ISERROR(INDEX('Employee Data'!$B$4:$B$553,MATCH(Databackup!A195,Employee_Name,0),0)),\"\",(INDEX('Employee Data'!$B$4:$B$553,MATCH(Databackup!A195,Employee_Name,0))))","v":""},{"$f":"IF(ISERROR(INDEX('Employee Data'!$C$4:$C$553,MATCH(Databackup!A195,Employee_Name,0),0)),\"\",(INDEX('Employee Data'!$C$4:$C$553,MATCH(Databackup!A195,Employee_Name,0))))","v":""},{"$f":"IF(ISERROR(INDEX('Employee Data'!$D$4:$D$553,MATCH(Databackup!A195,Employee_Name,0),0)),\"\",(INDEX('Employee Data'!$D$4:$D$553,MATCH(Databackup!A195,Employee_Name,0))))","v":""},{"$f":"IF(ISERROR(INDEX('Employee Data'!$F$4:$F$553,MATCH(Databackup!A195,Employee_Name,0),0)),\"\",(INDEX('Employee Data'!$F$4:$F$553,MATCH(Databackup!A195,Employee_Name,0))))","v":""},{"$f":"IF(ISERROR(INDEX('Employee Data'!$G$4:$G$553,MATCH(Databackup!A195,Employee_Name,0),0)),\"\",(INDEX('Employee Data'!$G$4:$G$553,MATCH(Databackup!A195,Employee_Name,0))))","v":""},{"$f":"IF(ISERROR(INDEX('Employee Data'!$H$4:$H$553,MATCH(Databackup!A195,Employee_Name,0),0)),\"\",(INDEX('Employee Data'!$H$4:$H$553,MATCH(Databackup!A195,Employee_Name,0))))","v":""},{"$f":"IF(ISERROR(INDEX('Employee Data'!$I$4:$I$553,MATCH(Databackup!A195,Employee_Name,0),0)),\"\",(INDEX('Employee Data'!$I$4:$I$553,MATCH(Databackup!A195,Employee_Name,0))))","v":""},{"$f":"IF(ISERROR(INDEX('Employee Data'!$J$4:$J$553,MATCH(Databackup!A195,Employee_Name,0),0)),\"\",(INDEX('Employee Data'!J$4:$J$553,MATCH(Databackup!A195,Employee_Name,0))))","v":""},{"$f":"IF(ISERROR(INDEX('Employee Data'!$K$4:$K$553,MATCH(Databackup!A195,Employee_Name,0),0)),\"\",(INDEX('Employee Data'!$K$4:$K$553,MATCH(Databackup!A195,Employee_Name,0))))","v":""},{"$f":"IF(ISERROR(INDEX('Employee Data'!$L$4:$L$553,MATCH(Databackup!A195,Employee_Name,0),0)),\"\",(INDEX('Employee Data'!$L$4:$L$553,MATCH(Databackup!A195,Employee_Name,0))))","v":""},{"$f":"IF(ISERROR(INDEX('Employee Data'!$M$4:$M$553,MATCH(Databackup!A195,Employee_Name,0),0)),\"\",(INDEX('Employee Data'!$M$4:$M$553,MATCH(Databackup!A195,Employee_Name,0))))","v":""},{"$f":"IF(ISERROR(INDEX('Employee Data'!$N$4:$N$553,MATCH(Databackup!A195,Employee_Name,0),0)),\"\",(INDEX('Employee Data'!$N$4:$N$553,MATCH(Databackup!A195,Employee_Name,0))))","v":""},{"$f":"IF(ISERROR(INDEX('Employee Data'!$O$4:$O$553,MATCH(Databackup!A195,Employee_Name,0),0)),\"\",(INDEX('Employee Data'!$O$4:$O$553,MATCH(Databackup!A195,Employee_Name,0))))","v":""}]
[{"$f":"INDEX(Employee_Name,MATCH(SMALL(IF($A$1='Employee Data'!$I$4:$I$553,'Employee Data'!$B$4:$B$553,\"\"),ROW('Employee Data'!A194)),IF($A$1='Employee Data'!$I$4:$I$553,'Employee Data'!$B$4:$B$553,\"\"),0))","v":{"$error":"#NUM!"}},{"$f":"IF(ISERROR(INDEX('Employee Data'!$B$4:$B$553,MATCH(Databackup!A196,Employee_Name,0),0)),\"\",(INDEX('Employee Data'!$B$4:$B$553,MATCH(Databackup!A196,Employee_Name,0))))","v":""},{"$f":"IF(ISERROR(INDEX('Employee Data'!$C$4:$C$553,MATCH(Databackup!A196,Employee_Name,0),0)),\"\",(INDEX('Employee Data'!$C$4:$C$553,MATCH(Databackup!A196,Employee_Name,0))))","v":""},{"$f":"IF(ISERROR(INDEX('Employee Data'!$D$4:$D$553,MATCH(Databackup!A196,Employee_Name,0),0)),\"\",(INDEX('Employee Data'!$D$4:$D$553,MATCH(Databackup!A196,Employee_Name,0))))","v":""},{"$f":"IF(ISERROR(INDEX('Employee Data'!$F$4:$F$553,MATCH(Databackup!A196,Employee_Name,0),0)),\"\",(INDEX('Employee Data'!$F$4:$F$553,MATCH(Databackup!A196,Employee_Name,0))))","v":""},{"$f":"IF(ISERROR(INDEX('Employee Data'!$G$4:$G$553,MATCH(Databackup!A196,Employee_Name,0),0)),\"\",(INDEX('Employee Data'!$G$4:$G$553,MATCH(Databackup!A196,Employee_Name,0))))","v":""},{"$f":"IF(ISERROR(INDEX('Employee Data'!$H$4:$H$553,MATCH(Databackup!A196,Employee_Name,0),0)),\"\",(INDEX('Employee Data'!$H$4:$H$553,MATCH(Databackup!A196,Employee_Name,0))))","v":""},{"$f":"IF(ISERROR(INDEX('Employee Data'!$I$4:$I$553,MATCH(Databackup!A196,Employee_Name,0),0)),\"\",(INDEX('Employee Data'!$I$4:$I$553,MATCH(Databackup!A196,Employee_Name,0))))","v":""},{"$f":"IF(ISERROR(INDEX('Employee Data'!$J$4:$J$553,MATCH(Databackup!A196,Employee_Name,0),0)),\"\",(INDEX('Employee Data'!J$4:$J$553,MATCH(Databackup!A196,Employee_Name,0))))","v":""},{"$f":"IF(ISERROR(INDEX('Employee Data'!$K$4:$K$553,MATCH(Databackup!A196,Employee_Name,0),0)),\"\",(INDEX('Employee Data'!$K$4:$K$553,MATCH(Databackup!A196,Employee_Name,0))))","v":""},{"$f":"IF(ISERROR(INDEX('Employee Data'!$L$4:$L$553,MATCH(Databackup!A196,Employee_Name,0),0)),\"\",(INDEX('Employee Data'!$L$4:$L$553,MATCH(Databackup!A196,Employee_Name,0))))","v":""},{"$f":"IF(ISERROR(INDEX('Employee Data'!$M$4:$M$553,MATCH(Databackup!A196,Employee_Name,0),0)),\"\",(INDEX('Employee Data'!$M$4:$M$553,MATCH(Databackup!A196,Employee_Name,0))))","v":""},{"$f":"IF(ISERROR(INDEX('Employee Data'!$N$4:$N$553,MATCH(Databackup!A196,Employee_Name,0),0)),\"\",(INDEX('Employee Data'!$N$4:$N$553,MATCH(Databackup!A196,Employee_Name,0))))","v":""},{"$f":"IF(ISERROR(INDEX('Employee Data'!$O$4:$O$553,MATCH(Databackup!A196,Employee_Name,0),0)),\"\",(INDEX('Employee Data'!$O$4:$O$553,MATCH(Databackup!A196,Employee_Name,0))))","v":""}]
[{"$f":"INDEX(Employee_Name,MATCH(SMALL(IF($A$1='Employee Data'!$I$4:$I$553,'Employee Data'!$B$4:$B$553,\"\"),ROW('Employee Data'!A195)),IF($A$1='Employee Data'!$I$4:$I$553,'Employee Data'!$B$4:$B$553,\"\"),0))","v":{"$error":"#NUM!"}},{"$f":"IF(ISERROR(INDEX('Employee Data'!$B$4:$B$553,MATCH(Databackup!A197,Employee_Name,0),0)),\"\",(INDEX('Employee Data'!$B$4:$B$553,MATCH(Databackup!A197,Employee_Name,0))))","v":""},{"$f":"IF(ISERROR(INDEX('Employee Data'!$C$4:$C$553,MATCH(Databackup!A197,Employee_Name,0),0)),\"\",(INDEX('Employee Data'!$C$4:$C$553,MATCH(Databackup!A197,Employee_Name,0))))","v":""},{"$f":"IF(ISERROR(INDEX('Employee Data'!$D$4:$D$553,MATCH(Databackup!A197,Employee_Name,0),0)),\"\",(INDEX('Employee Data'!$D$4:$D$553,MATCH(Databackup!A197,Employee_Name,0))))","v":""},{"$f":"IF(ISERROR(INDEX('Employee Data'!$F$4:$F$553,MATCH(Databackup!A197,Employee_Name,0),0)),\"\",(INDEX('Employee Data'!$F$4:$F$553,MATCH(Databackup!A197,Employee_Name,0))))","v":""},{"$f":"IF(ISERROR(INDEX('Employee Data'!$G$4:$G$553,MATCH(Databackup!A197,Employee_Name,0),0)),\"\",(INDEX('Employee Data'!$G$4:$G$553,MATCH(Databackup!A197,Employee_Name,0))))","v":""},{"$f":"IF(ISERROR(INDEX('Employee Data'!$H$4:$H$553,MATCH(Databackup!A197,Employee_Name,0),0)),\"\",(INDEX('Employee Data'!$H$4:$H$553,MATCH(Databackup!A197,Employee_Name,0))))","v":""},{"$f":"IF(ISERROR(INDEX('Employee Data'!$I$4:$I$553,MATCH(Databackup!A197,Employee_Name,0),0)),\"\",(INDEX('Employee Data'!$I$4:$I$553,MATCH(Databackup!A197,Employee_Name,0))))","v":""},{"$f":"IF(ISERROR(INDEX('Employee Data'!$J$4:$J$553,MATCH(Databackup!A197,Employee_Name,0),0)),\"\",(INDEX('Employee Data'!J$4:$J$553,MATCH(Databackup!A197,Employee_Name,0))))","v":""},{"$f":"IF(ISERROR(INDEX('Employee Data'!$K$4:$K$553,MATCH(Databackup!A197,Employee_Name,0),0)),\"\",(INDEX('Employee Data'!$K$4:$K$553,MATCH(Databackup!A197,Employee_Name,0))))","v":""},{"$f":"IF(ISERROR(INDEX('Employee Data'!$L$4:$L$553,MATCH(Databackup!A197,Employee_Name,0),0)),\"\",(INDEX('Employee Data'!$L$4:$L$553,MATCH(Databackup!A197,Employee_Name,0))))","v":""},{"$f":"IF(ISERROR(INDEX('Employee Data'!$M$4:$M$553,MATCH(Databackup!A197,Employee_Name,0),0)),\"\",(INDEX('Employee Data'!$M$4:$M$553,MATCH(Databackup!A197,Employee_Name,0))))","v":""},{"$f":"IF(ISERROR(INDEX('Employee Data'!$N$4:$N$553,MATCH(Databackup!A197,Employee_Name,0),0)),\"\",(INDEX('Employee Data'!$N$4:$N$553,MATCH(Databackup!A197,Employee_Name,0))))","v":""},{"$f":"IF(ISERROR(INDEX('Employee Data'!$O$4:$O$553,MATCH(Databackup!A197,Employee_Name,0),0)),\"\",(INDEX('Employee Data'!$O$4:$O$553,MATCH(Databackup!A197,Employee_Name,0))))","v":""}]
[{"$f":"INDEX(Employee_Name,MATCH(SMALL(IF($A$1='Employee Data'!$I$4:$I$553,'Employee Data'!$B$4:$B$553,\"\"),ROW('Employee Data'!A196)),IF($A$1='Employee Data'!$I$4:$I$553,'Employee Data'!$B$4:$B$553,\"\"),0))","v":{"$error":"#NUM!"}},{"$f":"IF(ISERROR(INDEX('Employee Data'!$B$4:$B$553,MATCH(Databackup!A198,Employee_Name,0),0)),\"\",(INDEX('Employee Data'!$B$4:$B$553,MATCH(Databackup!A198,Employee_Name,0))))","v":""},{"$f":"IF(ISERROR(INDEX('Employee Data'!$C$4:$C$553,MATCH(Databackup!A198,Employee_Name,0),0)),\"\",(INDEX('Employee Data'!$C$4:$C$553,MATCH(Databackup!A198,Employee_Name,0))))","v":""},{"$f":"IF(ISERROR(INDEX('Employee Data'!$D$4:$D$553,MATCH(Databackup!A198,Employee_Name,0),0)),\"\",(INDEX('Employee Data'!$D$4:$D$553,MATCH(Databackup!A198,Employee_Name,0))))","v":""},{"$f":"IF(ISERROR(INDEX('Employee Data'!$F$4:$F$553,MATCH(Databackup!A198,Employee_Name,0),0)),\"\",(INDEX('Employee Data'!$F$4:$F$553,MATCH(Databackup!A198,Employee_Name,0))))","v":""},{"$f":"IF(ISERROR(INDEX('Employee Data'!$G$4:$G$553,MATCH(Databackup!A198,Employee_Name,0),0)),\"\",(INDEX('Employee Data'!$G$4:$G$553,MATCH(Databackup!A198,Employee_Name,0))))","v":""},{"$f":"IF(ISERROR(INDEX('Employee Data'!$H$4:$H$553,MATCH(Databackup!A198,Employee_Name,0),0)),\"\",(INDEX('Employee Data'!$H$4:$H$553,MATCH(Databackup!A198,Employee_Name,0))))","v":""},{"$f":"IF(ISERROR(INDEX('Employee Data'!$I$4:$I$553,MATCH(Databackup!A198,Employee_Name,0),0)),\"\",(INDEX('Employee Data'!$I$4:$I$553,MATCH(Databackup!A198,Employee_Name,0))))","v":""},{"$f":"IF(ISERROR(INDEX('Employee Data'!$J$4:$J$553,MATCH(Databackup!A198,Employee_Name,0),0)),\"\",(INDEX('Employee Data'!J$4:$J$553,MATCH(Databackup!A198,Employee_Name,0))))","v":""},{"$f":"IF(ISERROR(INDEX('Employee Data'!$K$4:$K$553,MATCH(Databackup!A198,Employee_Name,0),0)),\"\",(INDEX('Employee Data'!$K$4:$K$553,MATCH(Databackup!A198,Employee_Name,0))))","v":""},{"$f":"IF(ISERROR(INDEX('Employee Data'!$L$4:$L$553,MATCH(Databackup!A198,Employee_Name,0),0)),\"\",(INDEX('Employee Data'!$L$4:$L$553,MATCH(Databackup!A198,Employee_Name,0))))","v":""},{"$f":"IF(ISERROR(INDEX('Employee Data'!$M$4:$M$553,MATCH(Databackup!A198,Employee_Name,0),0)),\"\",(INDEX('Employee Data'!$M$4:$M$553,MATCH(Databackup!A198,Employee_Name,0))))","v":""},{"$f":"IF(ISERROR(INDEX('Employee Data'!$N$4:$N$553,MATCH(Databackup!A198,Employee_Name,0),0)),\"\",(INDEX('Employee Data'!$N$4:$N$553,MATCH(Databackup!A198,Employee_Name,0))))","v":""},{"$f":"IF(ISERROR(INDEX('Employee Data'!$O$4:$O$553,MATCH(Databackup!A198,Employee_Name,0),0)),\"\",(INDEX('Employee Data'!$O$4:$O$553,MATCH(Databackup!A198,Employee_Name,0))))","v":""}]
[{"$f":"INDEX(Employee_Name,MATCH(SMALL(IF($A$1='Employee Data'!$I$4:$I$553,'Employee Data'!$B$4:$B$553,\"\"),ROW('Employee Data'!A197)),IF($A$1='Employee Data'!$I$4:$I$553,'Employee Data'!$B$4:$B$553,\"\"),0))","v":{"$error":"#NUM!"}},{"$f":"IF(ISERROR(INDEX('Employee Data'!$B$4:$B$553,MATCH(Databackup!A199,Employee_Name,0),0)),\"\",(INDEX('Employee Data'!$B$4:$B$553,MATCH(Databackup!A199,Employee_Name,0))))","v":""},{"$f":"IF(ISERROR(INDEX('Employee Data'!$C$4:$C$553,MATCH(Databackup!A199,Employee_Name,0),0)),\"\",(INDEX('Employee Data'!$C$4:$C$553,MATCH(Databackup!A199,Employee_Name,0))))","v":""},{"$f":"IF(ISERROR(INDEX('Employee Data'!$D$4:$D$553,MATCH(Databackup!A199,Employee_Name,0),0)),\"\",(INDEX('Employee Data'!$D$4:$D$553,MATCH(Databackup!A199,Employee_Name,0))))","v":""},{"$f":"IF(ISERROR(INDEX('Employee Data'!$F$4:$F$553,MATCH(Databackup!A199,Employee_Name,0),0)),\"\",(INDEX('Employee Data'!$F$4:$F$553,MATCH(Databackup!A199,Employee_Name,0))))","v":""},{"$f":"IF(ISERROR(INDEX('Employee Data'!$G$4:$G$553,MATCH(Databackup!A199,Employee_Name,0),0)),\"\",(INDEX('Employee Data'!$G$4:$G$553,MATCH(Databackup!A199,Employee_Name,0))))","v":""},{"$f":"IF(ISERROR(INDEX('Employee Data'!$H$4:$H$553,MATCH(Databackup!A199,Employee_Name,0),0)),\"\",(INDEX('Employee Data'!$H$4:$H$553,MATCH(Databackup!A199,Employee_Name,0))))","v":""},{"$f":"IF(ISERROR(INDEX('Employee Data'!$I$4:$I$553,MATCH(Databackup!A199,Employee_Name,0),0)),\"\",(INDEX('Employee Data'!$I$4:$I$553,MATCH(Databackup!A199,Employee_Name,0))))","v":""},{"$f":"IF(ISERROR(INDEX('Employee Data'!$J$4:$J$553,MATCH(Databackup!A199,Employee_Name,0),0)),\"\",(INDEX('Employee Data'!J$4:$J$553,MATCH(Databackup!A199,Employee_Name,0))))","v":""},{"$f":"IF(ISERROR(INDEX('Employee Data'!$K$4:$K$553,MATCH(Databackup!A199,Employee_Name,0),0)),\"\",(INDEX('Employee Data'!$K$4:$K$553,MATCH(Databackup!A199,Employee_Name,0))))","v":""},{"$f":"IF(ISERROR(INDEX('Employee Data'!$L$4:$L$553,MATCH(Databackup!A199,Employee_Name,0),0)),\"\",(INDEX('Employee Data'!$L$4:$L$553,MATCH(Databackup!A199,Employee_Name,0))))","v":""},{"$f":"IF(ISERROR(INDEX('Employee Data'!$M$4:$M$553,MATCH(Databackup!A199,Employee_Name,0),0)),\"\",(INDEX('Employee Data'!$M$4:$M$553,MATCH(Databackup!A199,Employee_Name,0))))","v":""},{"$f":"IF(ISERROR(INDEX('Employee Data'!$N$4:$N$553,MATCH(Databackup!A199,Employee_Name,0),0)),\"\",(INDEX('Employee Data'!$N$4:$N$553,MATCH(Databackup!A199,Employee_Name,0))))","v":""},{"$f":"IF(ISERROR(INDEX('Employee Data'!$O$4:$O$553,MATCH(Databackup!A199,Employee_Name,0),0)),\"\",(INDEX('Employee Data'!$O$4:$O$553,MATCH(Databackup!A199,Employee_Name,0))))","v":""}]
[{"$f":"INDEX(Employee_Name,MATCH(SMALL(IF($A$1='Employee Data'!$I$4:$I$553,'Employee Data'!$B$4:$B$553,\"\"),ROW('Employee Data'!A198)),IF($A$1='Employee Data'!$I$4:$I$553,'Employee Data'!$B$4:$B$553,\"\"),0))","v":{"$error":"#NUM!"}},{"$f":"IF(ISERROR(INDEX('Employee Data'!$B$4:$B$553,MATCH(Databackup!A200,Employee_Name,0),0)),\"\",(INDEX('Employee Data'!$B$4:$B$553,MATCH(Databackup!A200,Employee_Name,0))))","v":""},{"$f":"IF(ISERROR(INDEX('Employee Data'!$C$4:$C$553,MATCH(Databackup!A200,Employee_Name,0),0)),\"\",(INDEX('Employee Data'!$C$4:$C$553,MATCH(Databackup!A200,Employee_Name,0))))","v":""},{"$f":"IF(ISERROR(INDEX('Employee Data'!$D$4:$D$553,MATCH(Databackup!A200,Employee_Name,0),0)),\"\",(INDEX('Employee Data'!$D$4:$D$553,MATCH(Databackup!A200,Employee_Name,0))))","v":""},{"$f":"IF(ISERROR(INDEX('Employee Data'!$F$4:$F$553,MATCH(Databackup!A200,Employee_Name,0),0)),\"\",(INDEX('Employee Data'!$F$4:$F$553,MATCH(Databackup!A200,Employee_Name,0))))","v":""},{"$f":"IF(ISERROR(INDEX('Employee Data'!$G$4:$G$553,MATCH(Databackup!A200,Employee_Name,0),0)),\"\",(INDEX('Employee Data'!$G$4:$G$553,MATCH(Databackup!A200,Employee_Name,0))))","v":""},{"$f":"IF(ISERROR(INDEX('Employee Data'!$H$4:$H$553,MATCH(Databackup!A200,Employee_Name,0),0)),\"\",(INDEX('Employee Data'!$H$4:$H$553,MATCH(Databackup!A200,Employee_Name,0))))","v":""},{"$f":"IF(ISERROR(INDEX('Employee Data'!$I$4:$I$553,MATCH(Databackup!A200,Employee_Name,0),0)),\"\",(INDEX('Employee Data'!$I$4:$I$553,MATCH(Databackup!A200,Employee_Name,0))))","v":""},{"$f":"IF(ISERROR(INDEX('Employee Data'!$J$4:$J$553,MATCH(Databackup!A200,Employee_Name,0),0)),\"\",(INDEX('Employee Data'!J$4:$J$553,MATCH(Databackup!A200,Employee_Name,0))))","v":""},{"$f":"IF(ISERROR(INDEX('Employee Data'!$K$4:$K$553,MATCH(Databackup!A200,Employee_Name,0),0)),\"\",(INDEX('Employee Data'!$K$4:$K$553,MATCH(Databackup!A200,Employee_Name,0))))","v":""},{"$f":"IF(ISERROR(INDEX('Employee Data'!$L$4:$L$553,MATCH(Databackup!A200,Employee_Name,0),0)),\"\",(INDEX('Employee Data'!$L$4:$L$553,MATCH(Databackup!A200,Employee_Name,0))))","v":""},{"$f":"IF(ISERROR(INDEX('Employee Data'!$M$4:$M$553,MATCH(Databackup!A200,Employee_Name,0),0)),\"\",(INDEX('Employee Data'!$M$4:$M$553,MATCH(Databackup!A200,Employee_Name,0))))","v":""},{"$f":"IF(ISERROR(INDEX('Employee Data'!$N$4:$N$553,MATCH(Databackup!A200,Employee_Name,0),0)),\"\",(INDEX('Employee Data'!$N$4:$N$553,MATCH(Databackup!A200,Employee_Name,0))))","v":""},{"$f":"IF(ISERROR(INDEX('Employee Data'!$O$4:$O$553,MATCH(Databackup!A200,Employee_Name,0),0)),\"\",(INDEX('Employee Data'!$O$4:$O$553,MATCH(Databackup!A200,Employee_Name,0))))","v":""}]
[{"$f":"INDEX(Employee_Name,MATCH(SMALL(IF($A$1='Employee Data'!$I$4:$I$553,'Employee Data'!$B$4:$B$553,\"\"),ROW('Employee Data'!A199)),IF($A$1='Employee Data'!$I$4:$I$553,'Employee Data'!$B$4:$B$553,\"\"),0))","v":{"$error":"#NUM!"}},{"$f":"IF(ISERROR(INDEX('Employee Data'!$B$4:$B$553,MATCH(Databackup!A201,Employee_Name,0),0)),\"\",(INDEX('Employee Data'!$B$4:$B$553,MATCH(Databackup!A201,Employee_Name,0))))","v":""},{"$f":"IF(ISERROR(INDEX('Employee Data'!$C$4:$C$553,MATCH(Databackup!A201,Employee_Name,0),0)),\"\",(INDEX('Employee Data'!$C$4:$C$553,MATCH(Databackup!A201,Employee_Name,0))))","v":""},{"$f":"IF(ISERROR(INDEX('Employee Data'!$D$4:$D$553,MATCH(Databackup!A201,Employee_Name,0),0)),\"\",(INDEX('Employee Data'!$D$4:$D$553,MATCH(Databackup!A201,Employee_Name,0))))","v":""},{"$f":"IF(ISERROR(INDEX('Employee Data'!$F$4:$F$553,MATCH(Databackup!A201,Employee_Name,0),0)),\"\",(INDEX('Employee Data'!$F$4:$F$553,MATCH(Databackup!A201,Employee_Name,0))))","v":""},{"$f":"IF(ISERROR(INDEX('Employee Data'!$G$4:$G$553,MATCH(Databackup!A201,Employee_Name,0),0)),\"\",(INDEX('Employee Data'!$G$4:$G$553,MATCH(Databackup!A201,Employee_Name,0))))","v":""},{"$f":"IF(ISERROR(INDEX('Employee Data'!$H$4:$H$553,MATCH(Databackup!A201,Employee_Name,0),0)),\"\",(INDEX('Employee Data'!$H$4:$H$553,MATCH(Databackup!A201,Employee_Name,0))))","v":""},{"$f":"IF(ISERROR(INDEX('Employee Data'!$I$4:$I$553,MATCH(Databackup!A201,Employee_Name,0),0)),\"\",(INDEX('Employee Data'!$I$4:$I$553,MATCH(Databackup!A201,Employee_Name,0))))","v":""},{"$f":"IF(ISERROR(INDEX('Employee Data'!$J$4:$J$553,MATCH(Databackup!A201,Employee_Name,0),0)),\"\",(INDEX('Employee Data'!J$4:$J$553,MATCH(Databackup!A201,Employee_Name,0))))","v":""},{"$f":"IF(ISERROR(INDEX('Employee Data'!$K$4:$K$553,MATCH(Databackup!A201,Employee_Name,0),0)),\"\",(INDEX('Employee Data'!$K$4:$K$553,MATCH(Databackup!A201,Employee_Name,0))))","v":""},{"$f":"IF(ISERROR(INDEX('Employee Data'!$L$4:$L$553,MATCH(Databackup!A201,Employee_Name,0),0)),\"\",(INDEX('Employee Data'!$L$4:$L$553,MATCH(Databackup!A201,Employee_Name,0))))","v":""},{"$f":"IF(ISERROR(INDEX('Employee Data'!$M$4:$M$553,MATCH(Databackup!A201,Employee_Name,0),0)),\"\",(INDEX('Employee Data'!$M$4:$M$553,MATCH(Databackup!A201,Employee_Name,0))))","v":""},{"$f":"IF(ISERROR(INDEX('Employee Data'!$N$4:$N$553,MATCH(Databackup!A201,Employee_Name,0),0)),\"\",(INDEX('Employee Data'!$N$4:$N$553,MATCH(Databackup!A201,Employee_Name,0))))","v":""},{"$f":"IF(ISERROR(INDEX('Employee Data'!$O$4:$O$553,MATCH(Databackup!A201,Employee_Name,0),0)),\"\",(INDEX('Employee Data'!$O$4:$O$553,MATCH(Databackup!A201,Employee_Name,0))))","v":""}]
[{"$f":"INDEX(Employee_Name,MATCH(SMALL(IF($A$1='Employee Data'!$I$4:$I$553,'Employee Data'!$B$4:$B$553,\"\"),ROW('Employee Data'!A200)),IF($A$1='Employee Data'!$I$4:$I$553,'Employee Data'!$B$4:$B$553,\"\"),0))","v":{"$error":"#NUM!"}},{"$f":"IF(ISERROR(INDEX('Employee Data'!$B$4:$B$553,MATCH(Databackup!A202,Employee_Name,0),0)),\"\",(INDEX('Employee Data'!$B$4:$B$553,MATCH(Databackup!A202,Employee_Name,0))))","v":""},{"$f":"IF(ISERROR(INDEX('Employee Data'!$C$4:$C$553,MATCH(Databackup!A202,Employee_Name,0),0)),\"\",(INDEX('Employee Data'!$C$4:$C$553,MATCH(Databackup!A202,Employee_Name,0))))","v":""},{"$f":"IF(ISERROR(INDEX('Employee Data'!$D$4:$D$553,MATCH(Databackup!A202,Employee_Name,0),0)),\"\",(INDEX('Employee Data'!$D$4:$D$553,MATCH(Databackup!A202,Employee_Name,0))))","v":""},{"$f":"IF(ISERROR(INDEX('Employee Data'!$F$4:$F$553,MATCH(Databackup!A202,Employee_Name,0),0)),\"\",(INDEX('Employee Data'!$F$4:$F$553,MATCH(Databackup!A202,Employee_Name,0))))","v":""},{"$f":"IF(ISERROR(INDEX('Employee Data'!$G$4:$G$553,MATCH(Databackup!A202,Employee_Name,0),0)),\"\",(INDEX('Employee Data'!$G$4:$G$553,MATCH(Databackup!A202,Employee_Name,0))))","v":""},{"$f":"IF(ISERROR(INDEX('Employee Data'!$H$4:$H$553,MATCH(Databackup!A202,Employee_Name,0),0)),\"\",(INDEX('Employee Data'!$H$4:$H$553,MATCH(Databackup!A202,Employee_Name,0))))","v":""},{"$f":"IF(ISERROR(INDEX('Employee Data'!$I$4:$I$553,MATCH(Databackup!A202,Employee_Name,0),0)),\"\",(INDEX('Employee Data'!$I$4:$I$553,MATCH(Databackup!A202,Employee_Name,0))))","v":""},{"$f":"IF(ISERROR(INDEX('Employee Data'!$J$4:$J$553,MATCH(Databackup!A202,Employee_Name,0),0)),\"\",(INDEX('Employee Data'!J$4:$J$553,MATCH(Databackup!A202,Employee_Name,0))))","v":""},{"$f":"IF(ISERROR(INDEX('Employee Data'!$K$4:$K$553,MATCH(Databackup!A202,Employee_Name,0),0)),\"\",(INDEX('Employee Data'!$K$4:$K$553,MATCH(Databackup!A202,Employee_Name,0))))","v":""},{"$f":"IF(ISERROR(INDEX('Employee Data'!$L$4:$L$553,MATCH(Databackup!A202,Employee_Name,0),0)),\"\",(INDEX('Employee Data'!$L$4:$L$553,MATCH(Databackup!A202,Employee_Name,0))))","v":""},{"$f":"IF(ISERROR(INDEX('Employee Data'!$M$4:$M$553,MATCH(Databackup!A202,Employee_Name,0),0)),\"\",(INDEX('Employee Data'!$M$4:$M$553,MATCH(Databackup!A202,Employee_Name,0))))","v":""},{"$f":"IF(ISERROR(INDEX('Employee Data'!$N$4:$N$553,MATCH(Databackup!A202,Employee_Name,0),0)),\"\",(INDEX('Employee Data'!$N$4:$N$553,MATCH(Databackup!A202,Employee_Name,0))))","v":""},{"$f":"IF(ISERROR(INDEX('Employee Data'!$O$4:$O$553,MATCH(Databackup!A202,Employee_Name,0),0)),\"\",(INDEX('Employee Data'!$O$4:$O$553,MATCH(Databackup!A202,Employee_Name,0))))","v":""}]
[{"$f":"INDEX(Employee_Name,MATCH(SMALL(IF($A$1='Employee Data'!$I$4:$I$553,'Employee Data'!$B$4:$B$553,\"\"),ROW('Employee Data'!A201)),IF($A$1='Employee Data'!$I$4:$I$553,'Employee Data'!$B$4:$B$553,\"\"),0))","v":{"$error":"#NUM!"}},{"$f":"IF(ISERROR(INDEX('Employee Data'!$B$4:$B$553,MATCH(Databackup!A203,Employee_Name,0),0)),\"\",(INDEX('Employee Data'!$B$4:$B$553,MATCH(Databackup!A203,Employee_Name,0))))","v":""},{"$f":"IF(ISERROR(INDEX('Employee Data'!$C$4:$C$553,MATCH(Databackup!A203,Employee_Name,0),0)),\"\",(INDEX('Employee Data'!$C$4:$C$553,MATCH(Databackup!A203,Employee_Name,0))))","v":""},{"$f":"IF(ISERROR(INDEX('Employee Data'!$D$4:$D$553,MATCH(Databackup!A203,Employee_Name,0),0)),\"\",(INDEX('Employee Data'!$D$4:$D$553,MATCH(Databackup!A203,Employee_Name,0))))","v":""},{"$f":"IF(ISERROR(INDEX('Employee Data'!$F$4:$F$553,MATCH(Databackup!A203,Employee_Name,0),0)),\"\",(INDEX('Employee Data'!$F$4:$F$553,MATCH(Databackup!A203,Employee_Name,0))))","v":""},{"$f":"IF(ISERROR(INDEX('Employee Data'!$G$4:$G$553,MATCH(Databackup!A203,Employee_Name,0),0)),\"\",(INDEX('Employee Data'!$G$4:$G$553,MATCH(Databackup!A203,Employee_Name,0))))","v":""},{"$f":"IF(ISERROR(INDEX('Employee Data'!$H$4:$H$553,MATCH(Databackup!A203,Employee_Name,0),0)),\"\",(INDEX('Employee Data'!$H$4:$H$553,MATCH(Databackup!A203,Employee_Name,0))))","v":""},{"$f":"IF(ISERROR(INDEX('Employee Data'!$I$4:$I$553,MATCH(Databackup!A203,Employee_Name,0),0)),\"\",(INDEX('Employee Data'!$I$4:$I$553,MATCH(Databackup!A203,Employee_Name,0))))","v":""},{"$f":"IF(ISERROR(INDEX('Employee Data'!$J$4:$J$553,MATCH(Databackup!A203,Employee_Name,0),0)),\"\",(INDEX('Employee Data'!J$4:$J$553,MATCH(Databackup!A203,Employee_Name,0))))","v":""},{"$f":"IF(ISERROR(INDEX('Employee Data'!$K$4:$K$553,MATCH(Databackup!A203,Employee_Name,0),0)),\"\",(INDEX('Employee Data'!$K$4:$K$553,MATCH(Databackup!A203,Employee_Name,0))))","v":""},{"$f":"IF(ISERROR(INDEX('Employee Data'!$L$4:$L$553,MATCH(Databackup!A203,Employee_Name,0),0)),\"\",(INDEX('Employee Data'!$L$4:$L$553,MATCH(Databackup!A203,Employee_Name,0))))","v":""},{"$f":"IF(ISERROR(INDEX('Employee Data'!$M$4:$M$553,MATCH(Databackup!A203,Employee_Name,0),0)),\"\",(INDEX('Employee Data'!$M$4:$M$553,MATCH(Databackup!A203,Employee_Name,0))))","v":""},{"$f":"IF(ISERROR(INDEX('Employee Data'!$N$4:$N$553,MATCH(Databackup!A203,Employee_Name,0),0)),\"\",(INDEX('Employee Data'!$N$4:$N$553,MATCH(Databackup!A203,Employee_Name,0))))","v":""},{"$f":"IF(ISERROR(INDEX('Employee Data'!$O$4:$O$553,MATCH(Databackup!A203,Employee_Name,0),0)),\"\",(INDEX('Employee Data'!$O$4:$O$553,MATCH(Databackup!A203,Employee_Name,0))))","v":""}]
[{"$f":"INDEX(Employee_Name,MATCH(SMALL(IF($A$1='Employee Data'!$I$4:$I$553,'Employee Data'!$B$4:$B$553,\"\"),ROW('Employee Data'!A202)),IF($A$1='Employee Data'!$I$4:$I$553,'Employee Data'!$B$4:$B$553,\"\"),0))","v":{"$error":"#NUM!"}},{"$f":"IF(ISERROR(INDEX('Employee Data'!$B$4:$B$553,MATCH(Databackup!A204,Employee_Name,0),0)),\"\",(INDEX('Employee Data'!$B$4:$B$553,MATCH(Databackup!A204,Employee_Name,0))))","v":""},{"$f":"IF(ISERROR(INDEX('Employee Data'!$C$4:$C$553,MATCH(Databackup!A204,Employee_Name,0),0)),\"\",(INDEX('Employee Data'!$C$4:$C$553,MATCH(Databackup!A204,Employee_Name,0))))","v":""},{"$f":"IF(ISERROR(INDEX('Employee Data'!$D$4:$D$553,MATCH(Databackup!A204,Employee_Name,0),0)),\"\",(INDEX('Employee Data'!$D$4:$D$553,MATCH(Databackup!A204,Employee_Name,0))))","v":""},{"$f":"IF(ISERROR(INDEX('Employee Data'!$F$4:$F$553,MATCH(Databackup!A204,Employee_Name,0),0)),\"\",(INDEX('Employee Data'!$F$4:$F$553,MATCH(Databackup!A204,Employee_Name,0))))","v":""},{"$f":"IF(ISERROR(INDEX('Employee Data'!$G$4:$G$553,MATCH(Databackup!A204,Employee_Name,0),0)),\"\",(INDEX('Employee Data'!$G$4:$G$553,MATCH(Databackup!A204,Employee_Name,0))))","v":""},{"$f":"IF(ISERROR(INDEX('Employee Data'!$H$4:$H$553,MATCH(Databackup!A204,Employee_Name,0),0)),\"\",(INDEX('Employee Data'!$H$4:$H$553,MATCH(Databackup!A204,Employee_Name,0))))","v":""},{"$f":"IF(ISERROR(INDEX('Employee Data'!$I$4:$I$553,MATCH(Databackup!A204,Employee_Name,0),0)),\"\",(INDEX('Employee Data'!$I$4:$I$553,MATCH(Databackup!A204,Employee_Name,0))))","v":""},{"$f":"IF(ISERROR(INDEX('Employee Data'!$J$4:$J$553,MATCH(Databackup!A204,Employee_Name,0),0)),\"\",(INDEX('Employee Data'!J$4:$J$553,MATCH(Databackup!A204,Employee_Name,0))))","v":""},{"$f":"IF(ISERROR(INDEX('Employee Data'!$K$4:$K$553,MATCH(Databackup!A204,Employee_Name,0),0)),\"\",(INDEX('Employee Data'!$K$4:$K$553,MATCH(Databackup!A204,Employee_Name,0))))","v":""},{"$f":"IF(ISERROR(INDEX('Employee Data'!$L$4:$L$553,MATCH(Databackup!A204,Employee_Name,0),0)),\"\",(INDEX('Employee Data'!$L$4:$L$553,MATCH(Databackup!A204,Employee_Name,0))))","v":""},{"$f":"IF(ISERROR(INDEX('Employee Data'!$M$4:$M$553,MATCH(Databackup!A204,Employee_Name,0),0)),\"\",(INDEX('Employee Data'!$M$4:$M$553,MATCH(Databackup!A204,Employee_Name,0))))","v":""},{"$f":"IF(ISERROR(INDEX('Employee Data'!$N$4:$N$553,MATCH(Databackup!A204,Employee_Name,0),0)),\"\",(INDEX('Employee Data'!$N$4:$N$553,MATCH(Databackup!A204,Employee_Name,0))))","v":""},{"$f":"IF(ISERROR(INDEX('Employee Data'!$O$4:$O$553,MATCH(Databackup!A204,Employee_Name,0),0)),\"\",(INDEX('Employee Data'!$O$4:$O$553,MATCH(Databackup!A204,Employee_Name,0))))","v":""}]
[{"$f":"INDEX(Employee_Name,MATCH(SMALL(IF($A$1='Employee Data'!$I$4:$I$553,'Employee Data'!$B$4:$B$553,\"\"),ROW('Employee Data'!A203)),IF($A$1='Employee Data'!$I$4:$I$553,'Employee Data'!$B$4:$B$553,\"\"),0))","v":{"$error":"#NUM!"}},{"$f":"IF(ISERROR(INDEX('Employee Data'!$B$4:$B$553,MATCH(Databackup!A205,Employee_Name,0),0)),\"\",(INDEX('Employee Data'!$B$4:$B$553,MATCH(Databackup!A205,Employee_Name,0))))","v":""},{"$f":"IF(ISERROR(INDEX('Employee Data'!$C$4:$C$553,MATCH(Databackup!A205,Employee_Name,0),0)),\"\",(INDEX('Employee Data'!$C$4:$C$553,MATCH(Databackup!A205,Employee_Name,0))))","v":""},{"$f":"IF(ISERROR(INDEX('Employee Data'!$D$4:$D$553,MATCH(Databackup!A205,Employee_Name,0),0)),\"\",(INDEX('Employee Data'!$D$4:$D$553,MATCH(Databackup!A205,Employee_Name,0))))","v":""},{"$f":"IF(ISERROR(INDEX('Employee Data'!$F$4:$F$553,MATCH(Databackup!A205,Employee_Name,0),0)),\"\",(INDEX('Employee Data'!$F$4:$F$553,MATCH(Databackup!A205,Employee_Name,0))))","v":""},{"$f":"IF(ISERROR(INDEX('Employee Data'!$G$4:$G$553,MATCH(Databackup!A205,Employee_Name,0),0)),\"\",(INDEX('Employee Data'!$G$4:$G$553,MATCH(Databackup!A205,Employee_Name,0))))","v":""},{"$f":"IF(ISERROR(INDEX('Employee Data'!$H$4:$H$553,MATCH(Databackup!A205,Employee_Name,0),0)),\"\",(INDEX('Employee Data'!$H$4:$H$553,MATCH(Databackup!A205,Employee_Name,0))))","v":""},{"$f":"IF(ISERROR(INDEX('Employee Data'!$I$4:$I$553,MATCH(Databackup!A205,Employee_Name,0),0)),\"\",(INDEX('Employee Data'!$I$4:$I$553,MATCH(Databackup!A205,Employee_Name,0))))","v":""},{"$f":"IF(ISERROR(INDEX('Employee Data'!$J$4:$J$553,MATCH(Databackup!A205,Employee_Name,0),0)),\"\",(INDEX('Employee Data'!J$4:$J$553,MATCH(Databackup!A205,Employee_Name,0))))","v":""},{"$f":"IF(ISERROR(INDEX('Employee Data'!$K$4:$K$553,MATCH(Databackup!A205,Employee_Name,0),0)),\"\",(INDEX('Employee Data'!$K$4:$K$553,MATCH(Databackup!A205,Employee_Name,0))))","v":""},{"$f":"IF(ISERROR(INDEX('Employee Data'!$L$4:$L$553,MATCH(Databackup!A205,Employee_Name,0),0)),\"\",(INDEX('Employee Data'!$L$4:$L$553,MATCH(Databackup!A205,Employee_Name,0))))","v":""},{"$f":"IF(ISERROR(INDEX('Employee Data'!$M$4:$M$553,MATCH(Databackup!A205,Employee_Name,0),0)),\"\",(INDEX('Employee Data'!$M$4:$M$553,MATCH(Databackup!A205,Employee_Name,0))))","v":""},{"$f":"IF(ISERROR(INDEX('Employee Data'!$N$4:$N$553,MATCH(Databackup!A205,Employee_Name,0),0)),\"\",(INDEX('Employee Data'!$N$4:$N$553,MATCH(Databackup!A205,Employee_Name,0))))","v":""},{"$f":"IF(ISERROR(INDEX('Employee Data'!$O$4:$O$553,MATCH(Databackup!A205,Employee_Name,0),0)),\"\",(INDEX('Employee Data'!$O$4:$O$553,MATCH(Databackup!A205,Employee_Name,0))))","v":""}]
[{"$f":"INDEX(Employee_Name,MATCH(SMALL(IF($A$1='Employee Data'!$I$4:$I$553,'Employee Data'!$B$4:$B$553,\"\"),ROW('Employee Data'!A204)),IF($A$1='Employee Data'!$I$4:$I$553,'Employee Data'!$B$4:$B$553,\"\"),0))","v":{"$error":"#NUM!"}},{"$f":"IF(ISERROR(INDEX('Employee Data'!$B$4:$B$553,MATCH(Databackup!A206,Employee_Name,0),0)),\"\",(INDEX('Employee Data'!$B$4:$B$553,MATCH(Databackup!A206,Employee_Name,0))))","v":""},{"$f":"IF(ISERROR(INDEX('Employee Data'!$C$4:$C$553,MATCH(Databackup!A206,Employee_Name,0),0)),\"\",(INDEX('Employee Data'!$C$4:$C$553,MATCH(Databackup!A206,Employee_Name,0))))","v":""},{"$f":"IF(ISERROR(INDEX('Employee Data'!$D$4:$D$553,MATCH(Databackup!A206,Employee_Name,0),0)),\"\",(INDEX('Employee Data'!$D$4:$D$553,MATCH(Databackup!A206,Employee_Name,0))))","v":""},{"$f":"IF(ISERROR(INDEX('Employee Data'!$F$4:$F$553,MATCH(Databackup!A206,Employee_Name,0),0)),\"\",(INDEX('Employee Data'!$F$4:$F$553,MATCH(Databackup!A206,Employee_Name,0))))","v":""},{"$f":"IF(ISERROR(INDEX('Employee Data'!$G$4:$G$553,MATCH(Databackup!A206,Employee_Name,0),0)),\"\",(INDEX('Employee Data'!$G$4:$G$553,MATCH(Databackup!A206,Employee_Name,0))))","v":""},{"$f":"IF(ISERROR(INDEX('Employee Data'!$H$4:$H$553,MATCH(Databackup!A206,Employee_Name,0),0)),\"\",(INDEX('Employee Data'!$H$4:$H$553,MATCH(Databackup!A206,Employee_Name,0))))","v":""},{"$f":"IF(ISERROR(INDEX('Employee Data'!$I$4:$I$553,MATCH(Databackup!A206,Employee_Name,0),0)),\"\",(INDEX('Employee Data'!$I$4:$I$553,MATCH(Databackup!A206,Employee_Name,0))))","v":""},{"$f":"IF(ISERROR(INDEX('Employee Data'!$J$4:$J$553,MATCH(Databackup!A206,Employee_Name,0),0)),\"\",(INDEX('Employee Data'!J$4:$J$553,MATCH(Databackup!A206,Employee_Name,0))))","v":""},{"$f":"IF(ISERROR(INDEX('Employee Data'!$K$4:$K$553,MATCH(Databackup!A206,Employee_Name,0),0)),\"\",(INDEX('Employee Data'!$K$4:$K$553,MATCH(Databackup!A206,Employee_Name,0))))","v":""},{"$f":"IF(ISERROR(INDEX('Employee Data'!$L$4:$L$553,MATCH(Databackup!A206,Employee_Name,0),0)),\"\",(INDEX('Employee Data'!$L$4:$L$553,MATCH(Databackup!A206,Employee_Name,0))))","v":""},{"$f":"IF(ISERROR(INDEX('Employee Data'!$M$4:$M$553,MATCH(Databackup!A206,Employee_Name,0),0)),\"\",(INDEX('Employee Data'!$M$4:$M$553,MATCH(Databackup!A206,Employee_Name,0))))","v":""},{"$f":"IF(ISERROR(INDEX('Employee Data'!$N$4:$N$553,MATCH(Databackup!A206,Employee_Name,0),0)),\"\",(INDEX('Employee Data'!$N$4:$N$553,MATCH(Databackup!A206,Employee_Name,0))))","v":""},{"$f":"IF(ISERROR(INDEX('Employee Data'!$O$4:$O$553,MATCH(Databackup!A206,Employee_Name,0),0)),\"\",(INDEX('Employee Data'!$O$4:$O$553,MATCH(Databackup!A206,Employee_Name,0))))","v":""}]
[{"$f":"INDEX(Employee_Name,MATCH(SMALL(IF($A$1='Employee Data'!$I$4:$I$553,'Employee Data'!$B$4:$B$553,\"\"),ROW('Employee Data'!A205)),IF($A$1='Employee Data'!$I$4:$I$553,'Employee Data'!$B$4:$B$553,\"\"),0))","v":{"$error":"#NUM!"}},{"$f":"IF(ISERROR(INDEX('Employee Data'!$B$4:$B$553,MATCH(Databackup!A207,Employee_Name,0),0)),\"\",(INDEX('Employee Data'!$B$4:$B$553,MATCH(Databackup!A207,Employee_Name,0))))","v":""},{"$f":"IF(ISERROR(INDEX('Employee Data'!$C$4:$C$553,MATCH(Databackup!A207,Employee_Name,0),0)),\"\",(INDEX('Employee Data'!$C$4:$C$553,MATCH(Databackup!A207,Employee_Name,0))))","v":""},{"$f":"IF(ISERROR(INDEX('Employee Data'!$D$4:$D$553,MATCH(Databackup!A207,Employee_Name,0),0)),\"\",(INDEX('Employee Data'!$D$4:$D$553,MATCH(Databackup!A207,Employee_Name,0))))","v":""},{"$f":"IF(ISERROR(INDEX('Employee Data'!$F$4:$F$553,MATCH(Databackup!A207,Employee_Name,0),0)),\"\",(INDEX('Employee Data'!$F$4:$F$553,MATCH(Databackup!A207,Employee_Name,0))))","v":""},{"$f":"IF(ISERROR(INDEX('Employee Data'!$G$4:$G$553,MATCH(Databackup!A207,Employee_Name,0),0)),\"\",(INDEX('Employee Data'!$G$4:$G$553,MATCH(Databackup!A207,Employee_Name,0))))","v":""},{"$f":"IF(ISERROR(INDEX('Employee Data'!$H$4:$H$553,MATCH(Databackup!A207,Employee_Name,0),0)),\"\",(INDEX('Employee Data'!$H$4:$H$553,MATCH(Databackup!A207,Employee_Name,0))))","v":""},{"$f":"IF(ISERROR(INDEX('Employee Data'!$I$4:$I$553,MATCH(Databackup!A207,Employee_Name,0),0)),\"\",(INDEX('Employee Data'!$I$4:$I$553,MATCH(Databackup!A207,Employee_Name,0))))","v":""},{"$f":"IF(ISERROR(INDEX('Employee Data'!$J$4:$J$553,MATCH(Databackup!A207,Employee_Name,0),0)),\"\",(INDEX('Employee Data'!J$4:$J$553,MATCH(Databackup!A207,Employee_Name,0))))","v":""},{"$f":"IF(ISERROR(INDEX('Employee Data'!$K$4:$K$553,MATCH(Databackup!A207,Employee_Name,0),0)),\"\",(INDEX('Employee Data'!$K$4:$K$553,MATCH(Databackup!A207,Employee_Name,0))))","v":""},{"$f":"IF(ISERROR(INDEX('Employee Data'!$L$4:$L$553,MATCH(Databackup!A207,Employee_Name,0),0)),\"\",(INDEX('Employee Data'!$L$4:$L$553,MATCH(Databackup!A207,Employee_Name,0))))","v":""},{"$f":"IF(ISERROR(INDEX('Employee Data'!$M$4:$M$553,MATCH(Databackup!A207,Employee_Name,0),0)),\"\",(INDEX('Employee Data'!$M$4:$M$553,MATCH(Databackup!A207,Employee_Name,0))))","v":""},{"$f":"IF(ISERROR(INDEX('Employee Data'!$N$4:$N$553,MATCH(Databackup!A207,Employee_Name,0),0)),\"\",(INDEX('Employee Data'!$N$4:$N$553,MATCH(Databackup!A207,Employee_Name,0))))","v":""},{"$f":"IF(ISERROR(INDEX('Employee Data'!$O$4:$O$553,MATCH(Databackup!A207,Employee_Name,0),0)),\"\",(INDEX('Employee Data'!$O$4:$O$553,MATCH(Databackup!A207,Employee_Name,0))))","v":""}]
[{"$f":"INDEX(Employee_Name,MATCH(SMALL(IF($A$1='Employee Data'!$I$4:$I$553,'Employee Data'!$B$4:$B$553,\"\"),ROW('Employee Data'!A206)),IF($A$1='Employee Data'!$I$4:$I$553,'Employee Data'!$B$4:$B$553,\"\"),0))","v":{"$error":"#NUM!"}},{"$f":"IF(ISERROR(INDEX('Employee Data'!$B$4:$B$553,MATCH(Databackup!A208,Employee_Name,0),0)),\"\",(INDEX('Employee Data'!$B$4:$B$553,MATCH(Databackup!A208,Employee_Name,0))))","v":""},{"$f":"IF(ISERROR(INDEX('Employee Data'!$C$4:$C$553,MATCH(Databackup!A208,Employee_Name,0),0)),\"\",(INDEX('Employee Data'!$C$4:$C$553,MATCH(Databackup!A208,Employee_Name,0))))","v":""},{"$f":"IF(ISERROR(INDEX('Employee Data'!$D$4:$D$553,MATCH(Databackup!A208,Employee_Name,0),0)),\"\",(INDEX('Employee Data'!$D$4:$D$553,MATCH(Databackup!A208,Employee_Name,0))))","v":""},{"$f":"IF(ISERROR(INDEX('Employee Data'!$F$4:$F$553,MATCH(Databackup!A208,Employee_Name,0),0)),\"\",(INDEX('Employee Data'!$F$4:$F$553,MATCH(Databackup!A208,Employee_Name,0))))","v":""},{"$f":"IF(ISERROR(INDEX('Employee Data'!$G$4:$G$553,MATCH(Databackup!A208,Employee_Name,0),0)),\"\",(INDEX('Employee Data'!$G$4:$G$553,MATCH(Databackup!A208,Employee_Name,0))))","v":""},{"$f":"IF(ISERROR(INDEX('Employee Data'!$H$4:$H$553,MATCH(Databackup!A208,Employee_Name,0),0)),\"\",(INDEX('Employee Data'!$H$4:$H$553,MATCH(Databackup!A208,Employee_Name,0))))","v":""},{"$f":"IF(ISERROR(INDEX('Employee Data'!$I$4:$I$553,MATCH(Databackup!A208,Employee_Name,0),0)),\"\",(INDEX('Employee Data'!$I$4:$I$553,MATCH(Databackup!A208,Employee_Name,0))))","v":""},{"$f":"IF(ISERROR(INDEX('Employee Data'!$J$4:$J$553,MATCH(Databackup!A208,Employee_Name,0),0)),\"\",(INDEX('Employee Data'!J$4:$J$553,MATCH(Databackup!A208,Employee_Name,0))))","v":""},{"$f":"IF(ISERROR(INDEX('Employee Data'!$K$4:$K$553,MATCH(Databackup!A208,Employee_Name,0),0)),\"\",(INDEX('Employee Data'!$K$4:$K$553,MATCH(Databackup!A208,Employee_Name,0))))","v":""},{"$f":"IF(ISERROR(INDEX('Employee Data'!$L$4:$L$553,MATCH(Databackup!A208,Employee_Name,0),0)),\"\",(INDEX('Employee Data'!$L$4:$L$553,MATCH(Databackup!A208,Employee_Name,0))))","v":""},{"$f":"IF(ISERROR(INDEX('Employee Data'!$M$4:$M$553,MATCH(Databackup!A208,Employee_Name,0),0)),\"\",(INDEX('Employee Data'!$M$4:$M$553,MATCH(Databackup!A208,Employee_Name,0))))","v":""},{"$f":"IF(ISERROR(INDEX('Employee Data'!$N$4:$N$553,MATCH(Databackup!A208,Employee_Name,0),0)),\"\",(INDEX('Employee Data'!$N$4:$N$553,MATCH(Databackup!A208,Employee_Name,0))))","v":""},{"$f":"IF(ISERROR(INDEX('Employee Data'!$O$4:$O$553,MATCH(Databackup!A208,Employee_Name,0),0)),\"\",(INDEX('Employee Data'!$O$4:$O$553,MATCH(Databackup!A208,Employee_Name,0))))","v":""}]
[{"$f":"INDEX(Employee_Name,MATCH(SMALL(IF($A$1='Employee Data'!$I$4:$I$553,'Employee Data'!$B$4:$B$553,\"\"),ROW('Employee Data'!A207)),IF($A$1='Employee Data'!$I$4:$I$553,'Employee Data'!$B$4:$B$553,\"\"),0))","v":{"$error":"#NUM!"}},{"$f":"IF(ISERROR(INDEX('Employee Data'!$B$4:$B$553,MATCH(Databackup!A209,Employee_Name,0),0)),\"\",(INDEX('Employee Data'!$B$4:$B$553,MATCH(Databackup!A209,Employee_Name,0))))","v":""},{"$f":"IF(ISERROR(INDEX('Employee Data'!$C$4:$C$553,MATCH(Databackup!A209,Employee_Name,0),0)),\"\",(INDEX('Employee Data'!$C$4:$C$553,MATCH(Databackup!A209,Employee_Name,0))))","v":""},{"$f":"IF(ISERROR(INDEX('Employee Data'!$D$4:$D$553,MATCH(Databackup!A209,Employee_Name,0),0)),\"\",(INDEX('Employee Data'!$D$4:$D$553,MATCH(Databackup!A209,Employee_Name,0))))","v":""},{"$f":"IF(ISERROR(INDEX('Employee Data'!$F$4:$F$553,MATCH(Databackup!A209,Employee_Name,0),0)),\"\",(INDEX('Employee Data'!$F$4:$F$553,MATCH(Databackup!A209,Employee_Name,0))))","v":""},{"$f":"IF(ISERROR(INDEX('Employee Data'!$G$4:$G$553,MATCH(Databackup!A209,Employee_Name,0),0)),\"\",(INDEX('Employee Data'!$G$4:$G$553,MATCH(Databackup!A209,Employee_Name,0))))","v":""},{"$f":"IF(ISERROR(INDEX('Employee Data'!$H$4:$H$553,MATCH(Databackup!A209,Employee_Name,0),0)),\"\",(INDEX('Employee Data'!$H$4:$H$553,MATCH(Databackup!A209,Employee_Name,0))))","v":""},{"$f":"IF(ISERROR(INDEX('Employee Data'!$I$4:$I$553,MATCH(Databackup!A209,Employee_Name,0),0)),\"\",(INDEX('Employee Data'!$I$4:$I$553,MATCH(Databackup!A209,Employee_Name,0))))","v":""},{"$f":"IF(ISERROR(INDEX('Employee Data'!$J$4:$J$553,MATCH(Databackup!A209,Employee_Name,0),0)),\"\",(INDEX('Employee Data'!J$4:$J$553,MATCH(Databackup!A209,Employee_Name,0))))","v":""},{"$f":"IF(ISERROR(INDEX('Employee Data'!$K$4:$K$553,MATCH(Databackup!A209,Employee_Name,0),0)),\"\",(INDEX('Employee Data'!$K$4:$K$553,MATCH(Databackup!A209,Employee_Name,0))))","v":""},{"$f":"IF(ISERROR(INDEX('Employee Data'!$L$4:$L$553,MATCH(Databackup!A209,Employee_Name,0),0)),\"\",(INDEX('Employee Data'!$L$4:$L$553,MATCH(Databackup!A209,Employee_Name,0))))","v":""},{"$f":"IF(ISERROR(INDEX('Employee Data'!$M$4:$M$553,MATCH(Databackup!A209,Employee_Name,0),0)),\"\",(INDEX('Employee Data'!$M$4:$M$553,MATCH(Databackup!A209,Employee_Name,0))))","v":""},{"$f":"IF(ISERROR(INDEX('Employee Data'!$N$4:$N$553,MATCH(Databackup!A209,Employee_Name,0),0)),\"\",(INDEX('Employee Data'!$N$4:$N$553,MATCH(Databackup!A209,Employee_Name,0))))","v":""},{"$f":"IF(ISERROR(INDEX('Employee Data'!$O$4:$O$553,MATCH(Databackup!A209,Employee_Name,0),0)),\"\",(INDEX('Employee Data'!$O$4:$O$553,MATCH(Databackup!A209,Employee_Name,0))))","v":""}]
[{"$f":"INDEX(Employee_Name,MATCH(SMALL(IF($A$1='Employee Data'!$I$4:$I$553,'Employee Data'!$B$4:$B$553,\"\"),ROW('Employee Data'!A208)),IF($A$1='Employee Data'!$I$4:$I$553,'Employee Data'!$B$4:$B$553,\"\"),0))","v":{"$error":"#NUM!"}},{"$f":"IF(ISERROR(INDEX('Employee Data'!$B$4:$B$553,MATCH(Databackup!A210,Employee_Name,0),0)),\"\",(INDEX('Employee Data'!$B$4:$B$553,MATCH(Databackup!A210,Employee_Name,0))))","v":""},{"$f":"IF(ISERROR(INDEX('Employee Data'!$C$4:$C$553,MATCH(Databackup!A210,Employee_Name,0),0)),\"\",(INDEX('Employee Data'!$C$4:$C$553,MATCH(Databackup!A210,Employee_Name,0))))","v":""},{"$f":"IF(ISERROR(INDEX('Employee Data'!$D$4:$D$553,MATCH(Databackup!A210,Employee_Name,0),0)),\"\",(INDEX('Employee Data'!$D$4:$D$553,MATCH(Databackup!A210,Employee_Name,0))))","v":""},{"$f":"IF(ISERROR(INDEX('Employee Data'!$F$4:$F$553,MATCH(Databackup!A210,Employee_Name,0),0)),\"\",(INDEX('Employee Data'!$F$4:$F$553,MATCH(Databackup!A210,Employee_Name,0))))","v":""},{"$f":"IF(ISERROR(INDEX('Employee Data'!$G$4:$G$553,MATCH(Databackup!A210,Employee_Name,0),0)),\"\",(INDEX('Employee Data'!$G$4:$G$553,MATCH(Databackup!A210,Employee_Name,0))))","v":""},{"$f":"IF(ISERROR(INDEX('Employee Data'!$H$4:$H$553,MATCH(Databackup!A210,Employee_Name,0),0)),\"\",(INDEX('Employee Data'!$H$4:$H$553,MATCH(Databackup!A210,Employee_Name,0))))","v":""},{"$f":"IF(ISERROR(INDEX('Employee Data'!$I$4:$I$553,MATCH(Databackup!A210,Employee_Name,0),0)),\"\",(INDEX('Employee Data'!$I$4:$I$553,MATCH(Databackup!A210,Employee_Name,0))))","v":""},{"$f":"IF(ISERROR(INDEX('Employee Data'!$J$4:$J$553,MATCH(Databackup!A210,Employee_Name,0),0)),\"\",(INDEX('Employee Data'!J$4:$J$553,MATCH(Databackup!A210,Employee_Name,0))))","v":""},{"$f":"IF(ISERROR(INDEX('Employee Data'!$K$4:$K$553,MATCH(Databackup!A210,Employee_Name,0),0)),\"\",(INDEX('Employee Data'!$K$4:$K$553,MATCH(Databackup!A210,Employee_Name,0))))","v":""},{"$f":"IF(ISERROR(INDEX('Employee Data'!$L$4:$L$553,MATCH(Databackup!A210,Employee_Name,0),0)),\"\",(INDEX('Employee Data'!$L$4:$L$553,MATCH(Databackup!A210,Employee_Name,0))))","v":""},{"$f":"IF(ISERROR(INDEX('Employee Data'!$M$4:$M$553,MATCH(Databackup!A210,Employee_Name,0),0)),\"\",(INDEX('Employee Data'!$M$4:$M$553,MATCH(Databackup!A210,Employee_Name,0))))","v":""},{"$f":"IF(ISERROR(INDEX('Employee Data'!$N$4:$N$553,MATCH(Databackup!A210,Employee_Name,0),0)),\"\",(INDEX('Employee Data'!$N$4:$N$553,MATCH(Databackup!A210,Employee_Name,0))))","v":""},{"$f":"IF(ISERROR(INDEX('Employee Data'!$O$4:$O$553,MATCH(Databackup!A210,Employee_Name,0),0)),\"\",(INDEX('Employee Data'!$O$4:$O$553,MATCH(Databackup!A210,Employee_Name,0))))","v":""}]
[{"$f":"INDEX(Employee_Name,MATCH(SMALL(IF($A$1='Employee Data'!$I$4:$I$553,'Employee Data'!$B$4:$B$553,\"\"),ROW('Employee Data'!A209)),IF($A$1='Employee Data'!$I$4:$I$553,'Employee Data'!$B$4:$B$553,\"\"),0))","v":{"$error":"#NUM!"}},{"$f":"IF(ISERROR(INDEX('Employee Data'!$B$4:$B$553,MATCH(Databackup!A211,Employee_Name,0),0)),\"\",(INDEX('Employee Data'!$B$4:$B$553,MATCH(Databackup!A211,Employee_Name,0))))","v":""},{"$f":"IF(ISERROR(INDEX('Employee Data'!$C$4:$C$553,MATCH(Databackup!A211,Employee_Name,0),0)),\"\",(INDEX('Employee Data'!$C$4:$C$553,MATCH(Databackup!A211,Employee_Name,0))))","v":""},{"$f":"IF(ISERROR(INDEX('Employee Data'!$D$4:$D$553,MATCH(Databackup!A211,Employee_Name,0),0)),\"\",(INDEX('Employee Data'!$D$4:$D$553,MATCH(Databackup!A211,Employee_Name,0))))","v":""},{"$f":"IF(ISERROR(INDEX('Employee Data'!$F$4:$F$553,MATCH(Databackup!A211,Employee_Name,0),0)),\"\",(INDEX('Employee Data'!$F$4:$F$553,MATCH(Databackup!A211,Employee_Name,0))))","v":""},{"$f":"IF(ISERROR(INDEX('Employee Data'!$G$4:$G$553,MATCH(Databackup!A211,Employee_Name,0),0)),\"\",(INDEX('Employee Data'!$G$4:$G$553,MATCH(Databackup!A211,Employee_Name,0))))","v":""},{"$f":"IF(ISERROR(INDEX('Employee Data'!$H$4:$H$553,MATCH(Databackup!A211,Employee_Name,0),0)),\"\",(INDEX('Employee Data'!$H$4:$H$553,MATCH(Databackup!A211,Employee_Name,0))))","v":""},{"$f":"IF(ISERROR(INDEX('Employee Data'!$I$4:$I$553,MATCH(Databackup!A211,Employee_Name,0),0)),\"\",(INDEX('Employee Data'!$I$4:$I$553,MATCH(Databackup!A211,Employee_Name,0))))","v":""},{"$f":"IF(ISERROR(INDEX('Employee Data'!$J$4:$J$553,MATCH(Databackup!A211,Employee_Name,0),0)),\"\",(INDEX('Employee Data'!J$4:$J$553,MATCH(Databackup!A211,Employee_Name,0))))","v":""},{"$f":"IF(ISERROR(INDEX('Employee Data'!$K$4:$K$553,MATCH(Databackup!A211,Employee_Name,0),0)),\"\",(INDEX('Employee Data'!$K$4:$K$553,MATCH(Databackup!A211,Employee_Name,0))))","v":""},{"$f":"IF(ISERROR(INDEX('Employee Data'!$L$4:$L$553,MATCH(Databackup!A211,Employee_Name,0),0)),\"\",(INDEX('Employee Data'!$L$4:$L$553,MATCH(Databackup!A211,Employee_Name,0))))","v":""},{"$f":"IF(ISERROR(INDEX('Employee Data'!$M$4:$M$553,MATCH(Databackup!A211,Employee_Name,0),0)),\"\",(INDEX('Employee Data'!$M$4:$M$553,MATCH(Databackup!A211,Employee_Name,0))))","v":""},{"$f":"IF(ISERROR(INDEX('Employee Data'!$N$4:$N$553,MATCH(Databackup!A211,Employee_Name,0),0)),\"\",(INDEX('Employee Data'!$N$4:$N$553,MATCH(Databackup!A211,Employee_Name,0))))","v":""},{"$f":"IF(ISERROR(INDEX('Employee Data'!$O$4:$O$553,MATCH(Databackup!A211,Employee_Name,0),0)),\"\",(INDEX('Employee Data'!$O$4:$O$553,MATCH(Databackup!A211,Employee_Name,0))))","v":""}]
[{"$f":"INDEX(Employee_Name,MATCH(SMALL(IF($A$1='Employee Data'!$I$4:$I$553,'Employee Data'!$B$4:$B$553,\"\"),ROW('Employee Data'!A210)),IF($A$1='Employee Data'!$I$4:$I$553,'Employee Data'!$B$4:$B$553,\"\"),0))","v":{"$error":"#NUM!"}},{"$f":"IF(ISERROR(INDEX('Employee Data'!$B$4:$B$553,MATCH(Databackup!A212,Employee_Name,0),0)),\"\",(INDEX('Employee Data'!$B$4:$B$553,MATCH(Databackup!A212,Employee_Name,0))))","v":""},{"$f":"IF(ISERROR(INDEX('Employee Data'!$C$4:$C$553,MATCH(Databackup!A212,Employee_Name,0),0)),\"\",(INDEX('Employee Data'!$C$4:$C$553,MATCH(Databackup!A212,Employee_Name,0))))","v":""},{"$f":"IF(ISERROR(INDEX('Employee Data'!$D$4:$D$553,MATCH(Databackup!A212,Employee_Name,0),0)),\"\",(INDEX('Employee Data'!$D$4:$D$553,MATCH(Databackup!A212,Employee_Name,0))))","v":""},{"$f":"IF(ISERROR(INDEX('Employee Data'!$F$4:$F$553,MATCH(Databackup!A212,Employee_Name,0),0)),\"\",(INDEX('Employee Data'!$F$4:$F$553,MATCH(Databackup!A212,Employee_Name,0))))","v":""},{"$f":"IF(ISERROR(INDEX('Employee Data'!$G$4:$G$553,MATCH(Databackup!A212,Employee_Name,0),0)),\"\",(INDEX('Employee Data'!$G$4:$G$553,MATCH(Databackup!A212,Employee_Name,0))))","v":""},{"$f":"IF(ISERROR(INDEX('Employee Data'!$H$4:$H$553,MATCH(Databackup!A212,Employee_Name,0),0)),\"\",(INDEX('Employee Data'!$H$4:$H$553,MATCH(Databackup!A212,Employee_Name,0))))","v":""},{"$f":"IF(ISERROR(INDEX('Employee Data'!$I$4:$I$553,MATCH(Databackup!A212,Employee_Name,0),0)),\"\",(INDEX('Employee Data'!$I$4:$I$553,MATCH(Databackup!A212,Employee_Name,0))))","v":""},{"$f":"IF(ISERROR(INDEX('Employee Data'!$J$4:$J$553,MATCH(Databackup!A212,Employee_Name,0),0)),\"\",(INDEX('Employee Data'!J$4:$J$553,MATCH(Databackup!A212,Employee_Name,0))))","v":""},{"$f":"IF(ISERROR(INDEX('Employee Data'!$K$4:$K$553,MATCH(Databackup!A212,Employee_Name,0),0)),\"\",(INDEX('Employee Data'!$K$4:$K$553,MATCH(Databackup!A212,Employee_Name,0))))","v":""},{"$f":"IF(ISERROR(INDEX('Employee Data'!$L$4:$L$553,MATCH(Databackup!A212,Employee_Name,0),0)),\"\",(INDEX('Employee Data'!$L$4:$L$553,MATCH(Databackup!A212,Employee_Name,0))))","v":""},{"$f":"IF(ISERROR(INDEX('Employee Data'!$M$4:$M$553,MATCH(Databackup!A212,Employee_Name,0),0)),\"\",(INDEX('Employee Data'!$M$4:$M$553,MATCH(Databackup!A212,Employee_Name,0))))","v":""},{"$f":"IF(ISERROR(INDEX('Employee Data'!$N$4:$N$553,MATCH(Databackup!A212,Employee_Name,0),0)),\"\",(INDEX('Employee Data'!$N$4:$N$553,MATCH(Databackup!A212,Employee_Name,0))))","v":""},{"$f":"IF(ISERROR(INDEX('Employee Data'!$O$4:$O$553,MATCH(Databackup!A212,Employee_Name,0),0)),\"\",(INDEX('Employee Data'!$O$4:$O$553,MATCH(Databackup!A212,Employee_Name,0))))","v":""}]
[{"$f":"INDEX(Employee_Name,MATCH(SMALL(IF($A$1='Employee Data'!$I$4:$I$553,'Employee Data'!$B$4:$B$553,\"\"),ROW('Employee Data'!A211)),IF($A$1='Employee Data'!$I$4:$I$553,'Employee Data'!$B$4:$B$553,\"\"),0))","v":{"$error":"#NUM!"}},{"$f":"IF(ISERROR(INDEX('Employee Data'!$B$4:$B$553,MATCH(Databackup!A213,Employee_Name,0),0)),\"\",(INDEX('Employee Data'!$B$4:$B$553,MATCH(Databackup!A213,Employee_Name,0))))","v":""},{"$f":"IF(ISERROR(INDEX('Employee Data'!$C$4:$C$553,MATCH(Databackup!A213,Employee_Name,0),0)),\"\",(INDEX('Employee Data'!$C$4:$C$553,MATCH(Databackup!A213,Employee_Name,0))))","v":""},{"$f":"IF(ISERROR(INDEX('Employee Data'!$D$4:$D$553,MATCH(Databackup!A213,Employee_Name,0),0)),\"\",(INDEX('Employee Data'!$D$4:$D$553,MATCH(Databackup!A213,Employee_Name,0))))","v":""},{"$f":"IF(ISERROR(INDEX('Employee Data'!$F$4:$F$553,MATCH(Databackup!A213,Employee_Name,0),0)),\"\",(INDEX('Employee Data'!$F$4:$F$553,MATCH(Databackup!A213,Employee_Name,0))))","v":""},{"$f":"IF(ISERROR(INDEX('Employee Data'!$G$4:$G$553,MATCH(Databackup!A213,Employee_Name,0),0)),\"\",(INDEX('Employee Data'!$G$4:$G$553,MATCH(Databackup!A213,Employee_Name,0))))","v":""},{"$f":"IF(ISERROR(INDEX('Employee Data'!$H$4:$H$553,MATCH(Databackup!A213,Employee_Name,0),0)),\"\",(INDEX('Employee Data'!$H$4:$H$553,MATCH(Databackup!A213,Employee_Name,0))))","v":""},{"$f":"IF(ISERROR(INDEX('Employee Data'!$I$4:$I$553,MATCH(Databackup!A213,Employee_Name,0),0)),\"\",(INDEX('Employee Data'!$I$4:$I$553,MATCH(Databackup!A213,Employee_Name,0))))","v":""},{"$f":"IF(ISERROR(INDEX('Employee Data'!$J$4:$J$553,MATCH(Databackup!A213,Employee_Name,0),0)),\"\",(INDEX('Employee Data'!J$4:$J$553,MATCH(Databackup!A213,Employee_Name,0))))","v":""},{"$f":"IF(ISERROR(INDEX('Employee Data'!$K$4:$K$553,MATCH(Databackup!A213,Employee_Name,0),0)),\"\",(INDEX('Employee Data'!$K$4:$K$553,MATCH(Databackup!A213,Employee_Name,0))))","v":""},{"$f":"IF(ISERROR(INDEX('Employee Data'!$L$4:$L$553,MATCH(Databackup!A213,Employee_Name,0),0)),\"\",(INDEX('Employee Data'!$L$4:$L$553,MATCH(Databackup!A213,Employee_Name,0))))","v":""},{"$f":"IF(ISERROR(INDEX('Employee Data'!$M$4:$M$553,MATCH(Databackup!A213,Employee_Name,0),0)),\"\",(INDEX('Employee Data'!$M$4:$M$553,MATCH(Databackup!A213,Employee_Name,0))))","v":""},{"$f":"IF(ISERROR(INDEX('Employee Data'!$N$4:$N$553,MATCH(Databackup!A213,Employee_Name,0),0)),\"\",(INDEX('Employee Data'!$N$4:$N$553,MATCH(Databackup!A213,Employee_Name,0))))","v":""},{"$f":"IF(ISERROR(INDEX('Employee Data'!$O$4:$O$553,MATCH(Databackup!A213,Employee_Name,0),0)),\"\",(INDEX('Employee Data'!$O$4:$O$553,MATCH(Databackup!A213,Employee_Name,0))))","v":""}]
[{"$f":"INDEX(Employee_Name,MATCH(SMALL(IF($A$1='Employee Data'!$I$4:$I$553,'Employee Data'!$B$4:$B$553,\"\"),ROW('Employee Data'!A212)),IF($A$1='Employee Data'!$I$4:$I$553,'Employee Data'!$B$4:$B$553,\"\"),0))","v":{"$error":"#NUM!"}},{"$f":"IF(ISERROR(INDEX('Employee Data'!$B$4:$B$553,MATCH(Databackup!A214,Employee_Name,0),0)),\"\",(INDEX('Employee Data'!$B$4:$B$553,MATCH(Databackup!A214,Employee_Name,0))))","v":""},{"$f":"IF(ISERROR(INDEX('Employee Data'!$C$4:$C$553,MATCH(Databackup!A214,Employee_Name,0),0)),\"\",(INDEX('Employee Data'!$C$4:$C$553,MATCH(Databackup!A214,Employee_Name,0))))","v":""},{"$f":"IF(ISERROR(INDEX('Employee Data'!$D$4:$D$553,MATCH(Databackup!A214,Employee_Name,0),0)),\"\",(INDEX('Employee Data'!$D$4:$D$553,MATCH(Databackup!A214,Employee_Name,0))))","v":""},{"$f":"IF(ISERROR(INDEX('Employee Data'!$F$4:$F$553,MATCH(Databackup!A214,Employee_Name,0),0)),\"\",(INDEX('Employee Data'!$F$4:$F$553,MATCH(Databackup!A214,Employee_Name,0))))","v":""},{"$f":"IF(ISERROR(INDEX('Employee Data'!$G$4:$G$553,MATCH(Databackup!A214,Employee_Name,0),0)),\"\",(INDEX('Employee Data'!$G$4:$G$553,MATCH(Databackup!A214,Employee_Name,0))))","v":""},{"$f":"IF(ISERROR(INDEX('Employee Data'!$H$4:$H$553,MATCH(Databackup!A214,Employee_Name,0),0)),\"\",(INDEX('Employee Data'!$H$4:$H$553,MATCH(Databackup!A214,Employee_Name,0))))","v":""},{"$f":"IF(ISERROR(INDEX('Employee Data'!$I$4:$I$553,MATCH(Databackup!A214,Employee_Name,0),0)),\"\",(INDEX('Employee Data'!$I$4:$I$553,MATCH(Databackup!A214,Employee_Name,0))))","v":""},{"$f":"IF(ISERROR(INDEX('Employee Data'!$J$4:$J$553,MATCH(Databackup!A214,Employee_Name,0),0)),\"\",(INDEX('Employee Data'!J$4:$J$553,MATCH(Databackup!A214,Employee_Name,0))))","v":""},{"$f":"IF(ISERROR(INDEX('Employee Data'!$K$4:$K$553,MATCH(Databackup!A214,Employee_Name,0),0)),\"\",(INDEX('Employee Data'!$K$4:$K$553,MATCH(Databackup!A214,Employee_Name,0))))","v":""},{"$f":"IF(ISERROR(INDEX('Employee Data'!$L$4:$L$553,MATCH(Databackup!A214,Employee_Name,0),0)),\"\",(INDEX('Employee Data'!$L$4:$L$553,MATCH(Databackup!A214,Employee_Name,0))))","v":""},{"$f":"IF(ISERROR(INDEX('Employee Data'!$M$4:$M$553,MATCH(Databackup!A214,Employee_Name,0),0)),\"\",(INDEX('Employee Data'!$M$4:$M$553,MATCH(Databackup!A214,Employee_Name,0))))","v":""},{"$f":"IF(ISERROR(INDEX('Employee Data'!$N$4:$N$553,MATCH(Databackup!A214,Employee_Name,0),0)),\"\",(INDEX('Employee Data'!$N$4:$N$553,MATCH(Databackup!A214,Employee_Name,0))))","v":""},{"$f":"IF(ISERROR(INDEX('Employee Data'!$O$4:$O$553,MATCH(Databackup!A214,Employee_Name,0),0)),\"\",(INDEX('Employee Data'!$O$4:$O$553,MATCH(Databackup!A214,Employee_Name,0))))","v":""}]
[{"$f":"INDEX(Employee_Name,MATCH(SMALL(IF($A$1='Employee Data'!$I$4:$I$553,'Employee Data'!$B$4:$B$553,\"\"),ROW('Employee Data'!A213)),IF($A$1='Employee Data'!$I$4:$I$553,'Employee Data'!$B$4:$B$553,\"\"),0))","v":{"$error":"#NUM!"}},{"$f":"IF(ISERROR(INDEX('Employee Data'!$B$4:$B$553,MATCH(Databackup!A215,Employee_Name,0),0)),\"\",(INDEX('Employee Data'!$B$4:$B$553,MATCH(Databackup!A215,Employee_Name,0))))","v":""},{"$f":"IF(ISERROR(INDEX('Employee Data'!$C$4:$C$553,MATCH(Databackup!A215,Employee_Name,0),0)),\"\",(INDEX('Employee Data'!$C$4:$C$553,MATCH(Databackup!A215,Employee_Name,0))))","v":""},{"$f":"IF(ISERROR(INDEX('Employee Data'!$D$4:$D$553,MATCH(Databackup!A215,Employee_Name,0),0)),\"\",(INDEX('Employee Data'!$D$4:$D$553,MATCH(Databackup!A215,Employee_Name,0))))","v":""},{"$f":"IF(ISERROR(INDEX('Employee Data'!$F$4:$F$553,MATCH(Databackup!A215,Employee_Name,0),0)),\"\",(INDEX('Employee Data'!$F$4:$F$553,MATCH(Databackup!A215,Employee_Name,0))))","v":""},{"$f":"IF(ISERROR(INDEX('Employee Data'!$G$4:$G$553,MATCH(Databackup!A215,Employee_Name,0),0)),\"\",(INDEX('Employee Data'!$G$4:$G$553,MATCH(Databackup!A215,Employee_Name,0))))","v":""},{"$f":"IF(ISERROR(INDEX('Employee Data'!$H$4:$H$553,MATCH(Databackup!A215,Employee_Name,0),0)),\"\",(INDEX('Employee Data'!$H$4:$H$553,MATCH(Databackup!A215,Employee_Name,0))))","v":""},{"$f":"IF(ISERROR(INDEX('Employee Data'!$I$4:$I$553,MATCH(Databackup!A215,Employee_Name,0),0)),\"\",(INDEX('Employee Data'!$I$4:$I$553,MATCH(Databackup!A215,Employee_Name,0))))","v":""},{"$f":"IF(ISERROR(INDEX('Employee Data'!$J$4:$J$553,MATCH(Databackup!A215,Employee_Name,0),0)),\"\",(INDEX('Employee Data'!J$4:$J$553,MATCH(Databackup!A215,Employee_Name,0))))","v":""},{"$f":"IF(ISERROR(INDEX('Employee Data'!$K$4:$K$553,MATCH(Databackup!A215,Employee_Name,0),0)),\"\",(INDEX('Employee Data'!$K$4:$K$553,MATCH(Databackup!A215,Employee_Name,0))))","v":""},{"$f":"IF(ISERROR(INDEX('Employee Data'!$L$4:$L$553,MATCH(Databackup!A215,Employee_Name,0),0)),\"\",(INDEX('Employee Data'!$L$4:$L$553,MATCH(Databackup!A215,Employee_Name,0))))","v":""},{"$f":"IF(ISERROR(INDEX('Employee Data'!$M$4:$M$553,MATCH(Databackup!A215,Employee_Name,0),0)),\"\",(INDEX('Employee Data'!$M$4:$M$553,MATCH(Databackup!A215,Employee_Name,0))))","v":""},{"$f":"IF(ISERROR(INDEX('Employee Data'!$N$4:$N$553,MATCH(Databackup!A215,Employee_Name,0),0)),\"\",(INDEX('Employee Data'!$N$4:$N$553,MATCH(Databackup!A215,Employee_Name,0))))","v":""},{"$f":"IF(ISERROR(INDEX('Employee Data'!$O$4:$O$553,MATCH(Databackup!A215,Employee_Name,0),0)),\"\",(INDEX('Employee Data'!$O$4:$O$553,MATCH(Databackup!A215,Employee_Name,0))))","v":""}]
[{"$f":"INDEX(Employee_Name,MATCH(SMALL(IF($A$1='Employee Data'!$I$4:$I$553,'Employee Data'!$B$4:$B$553,\"\"),ROW('Employee Data'!A214)),IF($A$1='Employee Data'!$I$4:$I$553,'Employee Data'!$B$4:$B$553,\"\"),0))","v":{"$error":"#NUM!"}},{"$f":"IF(ISERROR(INDEX('Employee Data'!$B$4:$B$553,MATCH(Databackup!A216,Employee_Name,0),0)),\"\",(INDEX('Employee Data'!$B$4:$B$553,MATCH(Databackup!A216,Employee_Name,0))))","v":""},{"$f":"IF(ISERROR(INDEX('Employee Data'!$C$4:$C$553,MATCH(Databackup!A216,Employee_Name,0),0)),\"\",(INDEX('Employee Data'!$C$4:$C$553,MATCH(Databackup!A216,Employee_Name,0))))","v":""},{"$f":"IF(ISERROR(INDEX('Employee Data'!$D$4:$D$553,MATCH(Databackup!A216,Employee_Name,0),0)),\"\",(INDEX('Employee Data'!$D$4:$D$553,MATCH(Databackup!A216,Employee_Name,0))))","v":""},{"$f":"IF(ISERROR(INDEX('Employee Data'!$F$4:$F$553,MATCH(Databackup!A216,Employee_Name,0),0)),\"\",(INDEX('Employee Data'!$F$4:$F$553,MATCH(Databackup!A216,Employee_Name,0))))","v":""},{"$f":"IF(ISERROR(INDEX('Employee Data'!$G$4:$G$553,MATCH(Databackup!A216,Employee_Name,0),0)),\"\",(INDEX('Employee Data'!$G$4:$G$553,MATCH(Databackup!A216,Employee_Name,0))))","v":""},{"$f":"IF(ISERROR(INDEX('Employee Data'!$H$4:$H$553,MATCH(Databackup!A216,Employee_Name,0),0)),\"\",(INDEX('Employee Data'!$H$4:$H$553,MATCH(Databackup!A216,Employee_Name,0))))","v":""},{"$f":"IF(ISERROR(INDEX('Employee Data'!$I$4:$I$553,MATCH(Databackup!A216,Employee_Name,0),0)),\"\",(INDEX('Employee Data'!$I$4:$I$553,MATCH(Databackup!A216,Employee_Name,0))))","v":""},{"$f":"IF(ISERROR(INDEX('Employee Data'!$J$4:$J$553,MATCH(Databackup!A216,Employee_Name,0),0)),\"\",(INDEX('Employee Data'!J$4:$J$553,MATCH(Databackup!A216,Employee_Name,0))))","v":""},{"$f":"IF(ISERROR(INDEX('Employee Data'!$K$4:$K$553,MATCH(Databackup!A216,Employee_Name,0),0)),\"\",(INDEX('Employee Data'!$K$4:$K$553,MATCH(Databackup!A216,Employee_Name,0))))","v":""},{"$f":"IF(ISERROR(INDEX('Employee Data'!$L$4:$L$553,MATCH(Databackup!A216,Employee_Name,0),0)),\"\",(INDEX('Employee Data'!$L$4:$L$553,MATCH(Databackup!A216,Employee_Name,0))))","v":""},{"$f":"IF(ISERROR(INDEX('Employee Data'!$M$4:$M$553,MATCH(Databackup!A216,Employee_Name,0),0)),\"\",(INDEX('Employee Data'!$M$4:$M$553,MATCH(Databackup!A216,Employee_Name,0))))","v":""},{"$f":"IF(ISERROR(INDEX('Employee Data'!$N$4:$N$553,MATCH(Databackup!A216,Employee_Name,0),0)),\"\",(INDEX('Employee Data'!$N$4:$N$553,MATCH(Databackup!A216,Employee_Name,0))))","v":""},{"$f":"IF(ISERROR(INDEX('Employee Data'!$O$4:$O$553,MATCH(Databackup!A216,Employee_Name,0),0)),\"\",(INDEX('Employee Data'!$O$4:$O$553,MATCH(Databackup!A216,Employee_Name,0))))","v":""}]
[{"$f":"INDEX(Employee_Name,MATCH(SMALL(IF($A$1='Employee Data'!$I$4:$I$553,'Employee Data'!$B$4:$B$553,\"\"),ROW('Employee Data'!A215)),IF($A$1='Employee Data'!$I$4:$I$553,'Employee Data'!$B$4:$B$553,\"\"),0))","v":{"$error":"#NUM!"}},{"$f":"IF(ISERROR(INDEX('Employee Data'!$B$4:$B$553,MATCH(Databackup!A217,Employee_Name,0),0)),\"\",(INDEX('Employee Data'!$B$4:$B$553,MATCH(Databackup!A217,Employee_Name,0))))","v":""},{"$f":"IF(ISERROR(INDEX('Employee Data'!$C$4:$C$553,MATCH(Databackup!A217,Employee_Name,0),0)),\"\",(INDEX('Employee Data'!$C$4:$C$553,MATCH(Databackup!A217,Employee_Name,0))))","v":""},{"$f":"IF(ISERROR(INDEX('Employee Data'!$D$4:$D$553,MATCH(Databackup!A217,Employee_Name,0),0)),\"\",(INDEX('Employee Data'!$D$4:$D$553,MATCH(Databackup!A217,Employee_Name,0))))","v":""},{"$f":"IF(ISERROR(INDEX('Employee Data'!$F$4:$F$553,MATCH(Databackup!A217,Employee_Name,0),0)),\"\",(INDEX('Employee Data'!$F$4:$F$553,MATCH(Databackup!A217,Employee_Name,0))))","v":""},{"$f":"IF(ISERROR(INDEX('Employee Data'!$G$4:$G$553,MATCH(Databackup!A217,Employee_Name,0),0)),\"\",(INDEX('Employee Data'!$G$4:$G$553,MATCH(Databackup!A217,Employee_Name,0))))","v":""},{"$f":"IF(ISERROR(INDEX('Employee Data'!$H$4:$H$553,MATCH(Databackup!A217,Employee_Name,0),0)),\"\",(INDEX('Employee Data'!$H$4:$H$553,MATCH(Databackup!A217,Employee_Name,0))))","v":""},{"$f":"IF(ISERROR(INDEX('Employee Data'!$I$4:$I$553,MATCH(Databackup!A217,Employee_Name,0),0)),\"\",(INDEX('Employee Data'!$I$4:$I$553,MATCH(Databackup!A217,Employee_Name,0))))","v":""},{"$f":"IF(ISERROR(INDEX('Employee Data'!$J$4:$J$553,MATCH(Databackup!A217,Employee_Name,0),0)),\"\",(INDEX('Employee Data'!J$4:$J$553,MATCH(Databackup!A217,Employee_Name,0))))","v":""},{"$f":"IF(ISERROR(INDEX('Employee Data'!$K$4:$K$553,MATCH(Databackup!A217,Employee_Name,0),0)),\"\",(INDEX('Employee Data'!$K$4:$K$553,MATCH(Databackup!A217,Employee_Name,0))))","v":""},{"$f":"IF(ISERROR(INDEX('Employee Data'!$L$4:$L$553,MATCH(Databackup!A217,Employee_Name,0),0)),\"\",(INDEX('Employee Data'!$L$4:$L$553,MATCH(Databackup!A217,Employee_Name,0))))","v":""},{"$f":"IF(ISERROR(INDEX('Employee Data'!$M$4:$M$553,MATCH(Databackup!A217,Employee_Name,0),0)),\"\",(INDEX('Employee Data'!$M$4:$M$553,MATCH(Databackup!A217,Employee_Name,0))))","v":""},{"$f":"IF(ISERROR(INDEX('Employee Data'!$N$4:$N$553,MATCH(Databackup!A217,Employee_Name,0),0)),\"\",(INDEX('Employee Data'!$N$4:$N$553,MATCH(Databackup!A217,Employee_Name,0))))","v":""},{"$f":"IF(ISERROR(INDEX('Employee Data'!$O$4:$O$553,MATCH(Databackup!A217,Employee_Name,0),0)),\"\",(INDEX('Employee Data'!$O$4:$O$553,MATCH(Databackup!A217,Employee_Name,0))))","v":""}]
[{"$f":"INDEX(Employee_Name,MATCH(SMALL(IF($A$1='Employee Data'!$I$4:$I$553,'Employee Data'!$B$4:$B$553,\"\"),ROW('Employee Data'!A216)),IF($A$1='Employee Data'!$I$4:$I$553,'Employee Data'!$B$4:$B$553,\"\"),0))","v":{"$error":"#NUM!"}},{"$f":"IF(ISERROR(INDEX('Employee Data'!$B$4:$B$553,MATCH(Databackup!A218,Employee_Name,0),0)),\"\",(INDEX('Employee Data'!$B$4:$B$553,MATCH(Databackup!A218,Employee_Name,0))))","v":""},{"$f":"IF(ISERROR(INDEX('Employee Data'!$C$4:$C$553,MATCH(Databackup!A218,Employee_Name,0),0)),\"\",(INDEX('Employee Data'!$C$4:$C$553,MATCH(Databackup!A218,Employee_Name,0))))","v":""},{"$f":"IF(ISERROR(INDEX('Employee Data'!$D$4:$D$553,MATCH(Databackup!A218,Employee_Name,0),0)),\"\",(INDEX('Employee Data'!$D$4:$D$553,MATCH(Databackup!A218,Employee_Name,0))))","v":""},{"$f":"IF(ISERROR(INDEX('Employee Data'!$F$4:$F$553,MATCH(Databackup!A218,Employee_Name,0),0)),\"\",(INDEX('Employee Data'!$F$4:$F$553,MATCH(Databackup!A218,Employee_Name,0))))","v":""},{"$f":"IF(ISERROR(INDEX('Employee Data'!$G$4:$G$553,MATCH(Databackup!A218,Employee_Name,0),0)),\"\",(INDEX('Employee Data'!$G$4:$G$553,MATCH(Databackup!A218,Employee_Name,0))))","v":""},{"$f":"IF(ISERROR(INDEX('Employee Data'!$H$4:$H$553,MATCH(Databackup!A218,Employee_Name,0),0)),\"\",(INDEX('Employee Data'!$H$4:$H$553,MATCH(Databackup!A218,Employee_Name,0))))","v":""},{"$f":"IF(ISERROR(INDEX('Employee Data'!$I$4:$I$553,MATCH(Databackup!A218,Employee_Name,0),0)),\"\",(INDEX('Employee Data'!$I$4:$I$553,MATCH(Databackup!A218,Employee_Name,0))))","v":""},{"$f":"IF(ISERROR(INDEX('Employee Data'!$J$4:$J$553,MATCH(Databackup!A218,Employee_Name,0),0)),\"\",(INDEX('Employee Data'!J$4:$J$553,MATCH(Databackup!A218,Employee_Name,0))))","v":""},{"$f":"IF(ISERROR(INDEX('Employee Data'!$K$4:$K$553,MATCH(Databackup!A218,Employee_Name,0),0)),\"\",(INDEX('Employee Data'!$K$4:$K$553,MATCH(Databackup!A218,Employee_Name,0))))","v":""},{"$f":"IF(ISERROR(INDEX('Employee Data'!$L$4:$L$553,MATCH(Databackup!A218,Employee_Name,0),0)),\"\",(INDEX('Employee Data'!$L$4:$L$553,MATCH(Databackup!A218,Employee_Name,0))))","v":""},{"$f":"IF(ISERROR(INDEX('Employee Data'!$M$4:$M$553,MATCH(Databackup!A218,Employee_Name,0),0)),\"\",(INDEX('Employee Data'!$M$4:$M$553,MATCH(Databackup!A218,Employee_Name,0))))","v":""},{"$f":"IF(ISERROR(INDEX('Employee Data'!$N$4:$N$553,MATCH(Databackup!A218,Employee_Name,0),0)),\"\",(INDEX('Employee Data'!$N$4:$N$553,MATCH(Databackup!A218,Employee_Name,0))))","v":""},{"$f":"IF(ISERROR(INDEX('Employee Data'!$O$4:$O$553,MATCH(Databackup!A218,Employee_Name,0),0)),\"\",(INDEX('Employee Data'!$O$4:$O$553,MATCH(Databackup!A218,Employee_Name,0))))","v":""}]
[{"$f":"INDEX(Employee_Name,MATCH(SMALL(IF($A$1='Employee Data'!$I$4:$I$553,'Employee Data'!$B$4:$B$553,\"\"),ROW('Employee Data'!A217)),IF($A$1='Employee Data'!$I$4:$I$553,'Employee Data'!$B$4:$B$553,\"\"),0))","v":{"$error":"#NUM!"}},{"$f":"IF(ISERROR(INDEX('Employee Data'!$B$4:$B$553,MATCH(Databackup!A219,Employee_Name,0),0)),\"\",(INDEX('Employee Data'!$B$4:$B$553,MATCH(Databackup!A219,Employee_Name,0))))","v":""},{"$f":"IF(ISERROR(INDEX('Employee Data'!$C$4:$C$553,MATCH(Databackup!A219,Employee_Name,0),0)),\"\",(INDEX('Employee Data'!$C$4:$C$553,MATCH(Databackup!A219,Employee_Name,0))))","v":""},{"$f":"IF(ISERROR(INDEX('Employee Data'!$D$4:$D$553,MATCH(Databackup!A219,Employee_Name,0),0)),\"\",(INDEX('Employee Data'!$D$4:$D$553,MATCH(Databackup!A219,Employee_Name,0))))","v":""},{"$f":"IF(ISERROR(INDEX('Employee Data'!$F$4:$F$553,MATCH(Databackup!A219,Employee_Name,0),0)),\"\",(INDEX('Employee Data'!$F$4:$F$553,MATCH(Databackup!A219,Employee_Name,0))))","v":""},{"$f":"IF(ISERROR(INDEX('Employee Data'!$G$4:$G$553,MATCH(Databackup!A219,Employee_Name,0),0)),\"\",(INDEX('Employee Data'!$G$4:$G$553,MATCH(Databackup!A219,Employee_Name,0))))","v":""},{"$f":"IF(ISERROR(INDEX('Employee Data'!$H$4:$H$553,MATCH(Databackup!A219,Employee_Name,0),0)),\"\",(INDEX('Employee Data'!$H$4:$H$553,MATCH(Databackup!A219,Employee_Name,0))))","v":""},{"$f":"IF(ISERROR(INDEX('Employee Data'!$I$4:$I$553,MATCH(Databackup!A219,Employee_Name,0),0)),\"\",(INDEX('Employee Data'!$I$4:$I$553,MATCH(Databackup!A219,Employee_Name,0))))","v":""},{"$f":"IF(ISERROR(INDEX('Employee Data'!$J$4:$J$553,MATCH(Databackup!A219,Employee_Name,0),0)),\"\",(INDEX('Employee Data'!J$4:$J$553,MATCH(Databackup!A219,Employee_Name,0))))","v":""},{"$f":"IF(ISERROR(INDEX('Employee Data'!$K$4:$K$553,MATCH(Databackup!A219,Employee_Name,0),0)),\"\",(INDEX('Employee Data'!$K$4:$K$553,MATCH(Databackup!A219,Employee_Name,0))))","v":""},{"$f":"IF(ISERROR(INDEX('Employee Data'!$L$4:$L$553,MATCH(Databackup!A219,Employee_Name,0),0)),\"\",(INDEX('Employee Data'!$L$4:$L$553,MATCH(Databackup!A219,Employee_Name,0))))","v":""},{"$f":"IF(ISERROR(INDEX('Employee Data'!$M$4:$M$553,MATCH(Databackup!A219,Employee_Name,0),0)),\"\",(INDEX('Employee Data'!$M$4:$M$553,MATCH(Databackup!A219,Employee_Name,0))))","v":""},{"$f":"IF(ISERROR(INDEX('Employee Data'!$N$4:$N$553,MATCH(Databackup!A219,Employee_Name,0),0)),\"\",(INDEX('Employee Data'!$N$4:$N$553,MATCH(Databackup!A219,Employee_Name,0))))","v":""},{"$f":"IF(ISERROR(INDEX('Employee Data'!$O$4:$O$553,MATCH(Databackup!A219,Employee_Name,0),0)),\"\",(INDEX('Employee Data'!$O$4:$O$553,MATCH(Databackup!A219,Employee_Name,0))))","v":""}]
[{"$f":"INDEX(Employee_Name,MATCH(SMALL(IF($A$1='Employee Data'!$I$4:$I$553,'Employee Data'!$B$4:$B$553,\"\"),ROW('Employee Data'!A218)),IF($A$1='Employee Data'!$I$4:$I$553,'Employee Data'!$B$4:$B$553,\"\"),0))","v":{"$error":"#NUM!"}},{"$f":"IF(ISERROR(INDEX('Employee Data'!$B$4:$B$553,MATCH(Databackup!A220,Employee_Name,0),0)),\"\",(INDEX('Employee Data'!$B$4:$B$553,MATCH(Databackup!A220,Employee_Name,0))))","v":""},{"$f":"IF(ISERROR(INDEX('Employee Data'!$C$4:$C$553,MATCH(Databackup!A220,Employee_Name,0),0)),\"\",(INDEX('Employee Data'!$C$4:$C$553,MATCH(Databackup!A220,Employee_Name,0))))","v":""},{"$f":"IF(ISERROR(INDEX('Employee Data'!$D$4:$D$553,MATCH(Databackup!A220,Employee_Name,0),0)),\"\",(INDEX('Employee Data'!$D$4:$D$553,MATCH(Databackup!A220,Employee_Name,0))))","v":""},{"$f":"IF(ISERROR(INDEX('Employee Data'!$F$4:$F$553,MATCH(Databackup!A220,Employee_Name,0),0)),\"\",(INDEX('Employee Data'!$F$4:$F$553,MATCH(Databackup!A220,Employee_Name,0))))","v":""},{"$f":"IF(ISERROR(INDEX('Employee Data'!$G$4:$G$553,MATCH(Databackup!A220,Employee_Name,0),0)),\"\",(INDEX('Employee Data'!$G$4:$G$553,MATCH(Databackup!A220,Employee_Name,0))))","v":""},{"$f":"IF(ISERROR(INDEX('Employee Data'!$H$4:$H$553,MATCH(Databackup!A220,Employee_Name,0),0)),\"\",(INDEX('Employee Data'!$H$4:$H$553,MATCH(Databackup!A220,Employee_Name,0))))","v":""},{"$f":"IF(ISERROR(INDEX('Employee Data'!$I$4:$I$553,MATCH(Databackup!A220,Employee_Name,0),0)),\"\",(INDEX('Employee Data'!$I$4:$I$553,MATCH(Databackup!A220,Employee_Name,0))))","v":""},{"$f":"IF(ISERROR(INDEX('Employee Data'!$J$4:$J$553,MATCH(Databackup!A220,Employee_Name,0),0)),\"\",(INDEX('Employee Data'!J$4:$J$553,MATCH(Databackup!A220,Employee_Name,0))))","v":""},{"$f":"IF(ISERROR(INDEX('Employee Data'!$K$4:$K$553,MATCH(Databackup!A220,Employee_Name,0),0)),\"\",(INDEX('Employee Data'!$K$4:$K$553,MATCH(Databackup!A220,Employee_Name,0))))","v":""},{"$f":"IF(ISERROR(INDEX('Employee Data'!$L$4:$L$553,MATCH(Databackup!A220,Employee_Name,0),0)),\"\",(INDEX('Employee Data'!$L$4:$L$553,MATCH(Databackup!A220,Employee_Name,0))))","v":""},{"$f":"IF(ISERROR(INDEX('Employee Data'!$M$4:$M$553,MATCH(Databackup!A220,Employee_Name,0),0)),\"\",(INDEX('Employee Data'!$M$4:$M$553,MATCH(Databackup!A220,Employee_Name,0))))","v":""},{"$f":"IF(ISERROR(INDEX('Employee Data'!$N$4:$N$553,MATCH(Databackup!A220,Employee_Name,0),0)),\"\",(INDEX('Employee Data'!$N$4:$N$553,MATCH(Databackup!A220,Employee_Name,0))))","v":""},{"$f":"IF(ISERROR(INDEX('Employee Data'!$O$4:$O$553,MATCH(Databackup!A220,Employee_Name,0),0)),\"\",(INDEX('Employee Data'!$O$4:$O$553,MATCH(Databackup!A220,Employee_Name,0))))","v":""}]
[{"$f":"INDEX(Employee_Name,MATCH(SMALL(IF($A$1='Employee Data'!$I$4:$I$553,'Employee Data'!$B$4:$B$553,\"\"),ROW('Employee Data'!A219)),IF($A$1='Employee Data'!$I$4:$I$553,'Employee Data'!$B$4:$B$553,\"\"),0))","v":{"$error":"#NUM!"}},{"$f":"IF(ISERROR(INDEX('Employee Data'!$B$4:$B$553,MATCH(Databackup!A221,Employee_Name,0),0)),\"\",(INDEX('Employee Data'!$B$4:$B$553,MATCH(Databackup!A221,Employee_Name,0))))","v":""},{"$f":"IF(ISERROR(INDEX('Employee Data'!$C$4:$C$553,MATCH(Databackup!A221,Employee_Name,0),0)),\"\",(INDEX('Employee Data'!$C$4:$C$553,MATCH(Databackup!A221,Employee_Name,0))))","v":""},{"$f":"IF(ISERROR(INDEX('Employee Data'!$D$4:$D$553,MATCH(Databackup!A221,Employee_Name,0),0)),\"\",(INDEX('Employee Data'!$D$4:$D$553,MATCH(Databackup!A221,Employee_Name,0))))","v":""},{"$f":"IF(ISERROR(INDEX('Employee Data'!$F$4:$F$553,MATCH(Databackup!A221,Employee_Name,0),0)),\"\",(INDEX('Employee Data'!$F$4:$F$553,MATCH(Databackup!A221,Employee_Name,0))))","v":""},{"$f":"IF(ISERROR(INDEX('Employee Data'!$G$4:$G$553,MATCH(Databackup!A221,Employee_Name,0),0)),\"\",(INDEX('Employee Data'!$G$4:$G$553,MATCH(Databackup!A221,Employee_Name,0))))","v":""},{"$f":"IF(ISERROR(INDEX('Employee Data'!$H$4:$H$553,MATCH(Databackup!A221,Employee_Name,0),0)),\"\",(INDEX('Employee Data'!$H$4:$H$553,MATCH(Databackup!A221,Employee_Name,0))))","v":""},{"$f":"IF(ISERROR(INDEX('Employee Data'!$I$4:$I$553,MATCH(Databackup!A221,Employee_Name,0),0)),\"\",(INDEX('Employee Data'!$I$4:$I$553,MATCH(Databackup!A221,Employee_Name,0))))","v":""},{"$f":"IF(ISERROR(INDEX('Employee Data'!$J$4:$J$553,MATCH(Databackup!A221,Employee_Name,0),0)),\"\",(INDEX('Employee Data'!J$4:$J$553,MATCH(Databackup!A221,Employee_Name,0))))","v":""},{"$f":"IF(ISERROR(INDEX('Employee Data'!$K$4:$K$553,MATCH(Databackup!A221,Employee_Name,0),0)),\"\",(INDEX('Employee Data'!$K$4:$K$553,MATCH(Databackup!A221,Employee_Name,0))))","v":""},{"$f":"IF(ISERROR(INDEX('Employee Data'!$L$4:$L$553,MATCH(Databackup!A221,Employee_Name,0),0)),\"\",(INDEX('Employee Data'!$L$4:$L$553,MATCH(Databackup!A221,Employee_Name,0))))","v":""},{"$f":"IF(ISERROR(INDEX('Employee Data'!$M$4:$M$553,MATCH(Databackup!A221,Employee_Name,0),0)),\"\",(INDEX('Employee Data'!$M$4:$M$553,MATCH(Databackup!A221,Employee_Name,0))))","v":""},{"$f":"IF(ISERROR(INDEX('Employee Data'!$N$4:$N$553,MATCH(Databackup!A221,Employee_Name,0),0)),\"\",(INDEX('Employee Data'!$N$4:$N$553,MATCH(Databackup!A221,Employee_Name,0))))","v":""},{"$f":"IF(ISERROR(INDEX('Employee Data'!$O$4:$O$553,MATCH(Databackup!A221,Employee_Name,0),0)),\"\",(INDEX('Employee Data'!$O$4:$O$553,MATCH(Databackup!A221,Employee_Name,0))))","v":""}]
[{"$f":"INDEX(Employee_Name,MATCH(SMALL(IF($A$1='Employee Data'!$I$4:$I$553,'Employee Data'!$B$4:$B$553,\"\"),ROW('Employee Data'!A220)),IF($A$1='Employee Data'!$I$4:$I$553,'Employee Data'!$B$4:$B$553,\"\"),0))","v":{"$error":"#NUM!"}},{"$f":"IF(ISERROR(INDEX('Employee Data'!$B$4:$B$553,MATCH(Databackup!A222,Employee_Name,0),0)),\"\",(INDEX('Employee Data'!$B$4:$B$553,MATCH(Databackup!A222,Employee_Name,0))))","v":""},{"$f":"IF(ISERROR(INDEX('Employee Data'!$C$4:$C$553,MATCH(Databackup!A222,Employee_Name,0),0)),\"\",(INDEX('Employee Data'!$C$4:$C$553,MATCH(Databackup!A222,Employee_Name,0))))","v":""},{"$f":"IF(ISERROR(INDEX('Employee Data'!$D$4:$D$553,MATCH(Databackup!A222,Employee_Name,0),0)),\"\",(INDEX('Employee Data'!$D$4:$D$553,MATCH(Databackup!A222,Employee_Name,0))))","v":""},{"$f":"IF(ISERROR(INDEX('Employee Data'!$F$4:$F$553,MATCH(Databackup!A222,Employee_Name,0),0)),\"\",(INDEX('Employee Data'!$F$4:$F$553,MATCH(Databackup!A222,Employee_Name,0))))","v":""},{"$f":"IF(ISERROR(INDEX('Employee Data'!$G$4:$G$553,MATCH(Databackup!A222,Employee_Name,0),0)),\"\",(INDEX('Employee Data'!$G$4:$G$553,MATCH(Databackup!A222,Employee_Name,0))))","v":""},{"$f":"IF(ISERROR(INDEX('Employee Data'!$H$4:$H$553,MATCH(Databackup!A222,Employee_Name,0),0)),\"\",(INDEX('Employee Data'!$H$4:$H$553,MATCH(Databackup!A222,Employee_Name,0))))","v":""},{"$f":"IF(ISERROR(INDEX('Employee Data'!$I$4:$I$553,MATCH(Databackup!A222,Employee_Name,0),0)),\"\",(INDEX('Employee Data'!$I$4:$I$553,MATCH(Databackup!A222,Employee_Name,0))))","v":""},{"$f":"IF(ISERROR(INDEX('Employee Data'!$J$4:$J$553,MATCH(Databackup!A222,Employee_Name,0),0)),\"\",(INDEX('Employee Data'!J$4:$J$553,MATCH(Databackup!A222,Employee_Name,0))))","v":""},{"$f":"IF(ISERROR(INDEX('Employee Data'!$K$4:$K$553,MATCH(Databackup!A222,Employee_Name,0),0)),\"\",(INDEX('Employee Data'!$K$4:$K$553,MATCH(Databackup!A222,Employee_Name,0))))","v":""},{"$f":"IF(ISERROR(INDEX('Employee Data'!$L$4:$L$553,MATCH(Databackup!A222,Employee_Name,0),0)),\"\",(INDEX('Employee Data'!$L$4:$L$553,MATCH(Databackup!A222,Employee_Name,0))))","v":""},{"$f":"IF(ISERROR(INDEX('Employee Data'!$M$4:$M$553,MATCH(Databackup!A222,Employee_Name,0),0)),\"\",(INDEX('Employee Data'!$M$4:$M$553,MATCH(Databackup!A222,Employee_Name,0))))","v":""},{"$f":"IF(ISERROR(INDEX('Employee Data'!$N$4:$N$553,MATCH(Databackup!A222,Employee_Name,0),0)),\"\",(INDEX('Employee Data'!$N$4:$N$553,MATCH(Databackup!A222,Employee_Name,0))))","v":""},{"$f":"IF(ISERROR(INDEX('Employee Data'!$O$4:$O$553,MATCH(Databackup!A222,Employee_Name,0),0)),\"\",(INDEX('Employee Data'!$O$4:$O$553,MATCH(Databackup!A222,Employee_Name,0))))","v":""}]
[{"$f":"INDEX(Employee_Name,MATCH(SMALL(IF($A$1='Employee Data'!$I$4:$I$553,'Employee Data'!$B$4:$B$553,\"\"),ROW('Employee Data'!A221)),IF($A$1='Employee Data'!$I$4:$I$553,'Employee Data'!$B$4:$B$553,\"\"),0))","v":{"$error":"#NUM!"}},{"$f":"IF(ISERROR(INDEX('Employee Data'!$B$4:$B$553,MATCH(Databackup!A223,Employee_Name,0),0)),\"\",(INDEX('Employee Data'!$B$4:$B$553,MATCH(Databackup!A223,Employee_Name,0))))","v":""},{"$f":"IF(ISERROR(INDEX('Employee Data'!$C$4:$C$553,MATCH(Databackup!A223,Employee_Name,0),0)),\"\",(INDEX('Employee Data'!$C$4:$C$553,MATCH(Databackup!A223,Employee_Name,0))))","v":""},{"$f":"IF(ISERROR(INDEX('Employee Data'!$D$4:$D$553,MATCH(Databackup!A223,Employee_Name,0),0)),\"\",(INDEX('Employee Data'!$D$4:$D$553,MATCH(Databackup!A223,Employee_Name,0))))","v":""},{"$f":"IF(ISERROR(INDEX('Employee Data'!$F$4:$F$553,MATCH(Databackup!A223,Employee_Name,0),0)),\"\",(INDEX('Employee Data'!$F$4:$F$553,MATCH(Databackup!A223,Employee_Name,0))))","v":""},{"$f":"IF(ISERROR(INDEX('Employee Data'!$G$4:$G$553,MATCH(Databackup!A223,Employee_Name,0),0)),\"\",(INDEX('Employee Data'!$G$4:$G$553,MATCH(Databackup!A223,Employee_Name,0))))","v":""},{"$f":"IF(ISERROR(INDEX('Employee Data'!$H$4:$H$553,MATCH(Databackup!A223,Employee_Name,0),0)),\"\",(INDEX('Employee Data'!$H$4:$H$553,MATCH(Databackup!A223,Employee_Name,0))))","v":""},{"$f":"IF(ISERROR(INDEX('Employee Data'!$I$4:$I$553,MATCH(Databackup!A223,Employee_Name,0),0)),\"\",(INDEX('Employee Data'!$I$4:$I$553,MATCH(Databackup!A223,Employee_Name,0))))","v":""},{"$f":"IF(ISERROR(INDEX('Employee Data'!$J$4:$J$553,MATCH(Databackup!A223,Employee_Name,0),0)),\"\",(INDEX('Employee Data'!J$4:$J$553,MATCH(Databackup!A223,Employee_Name,0))))","v":""},{"$f":"IF(ISERROR(INDEX('Employee Data'!$K$4:$K$553,MATCH(Databackup!A223,Employee_Name,0),0)),\"\",(INDEX('Employee Data'!$K$4:$K$553,MATCH(Databackup!A223,Employee_Name,0))))","v":""},{"$f":"IF(ISERROR(INDEX('Employee Data'!$L$4:$L$553,MATCH(Databackup!A223,Employee_Name,0),0)),\"\",(INDEX('Employee Data'!$L$4:$L$553,MATCH(Databackup!A223,Employee_Name,0))))","v":""},{"$f":"IF(ISERROR(INDEX('Employee Data'!$M$4:$M$553,MATCH(Databackup!A223,Employee_Name,0),0)),\"\",(INDEX('Employee Data'!$M$4:$M$553,MATCH(Databackup!A223,Employee_Name,0))))","v":""},{"$f":"IF(ISERROR(INDEX('Employee Data'!$N$4:$N$553,MATCH(Databackup!A223,Employee_Name,0),0)),\"\",(INDEX('Employee Data'!$N$4:$N$553,MATCH(Databackup!A223,Employee_Name,0))))","v":""},{"$f":"IF(ISERROR(INDEX('Employee Data'!$O$4:$O$553,MATCH(Databackup!A223,Employee_Name,0),0)),\"\",(INDEX('Employee Data'!$O$4:$O$553,MATCH(Databackup!A223,Employee_Name,0))))","v":""}]
[{"$f":"INDEX(Employee_Name,MATCH(SMALL(IF($A$1='Employee Data'!$I$4:$I$553,'Employee Data'!$B$4:$B$553,\"\"),ROW('Employee Data'!A222)),IF($A$1='Employee Data'!$I$4:$I$553,'Employee Data'!$B$4:$B$553,\"\"),0))","v":{"$error":"#NUM!"}},{"$f":"IF(ISERROR(INDEX('Employee Data'!$B$4:$B$553,MATCH(Databackup!A224,Employee_Name,0),0)),\"\",(INDEX('Employee Data'!$B$4:$B$553,MATCH(Databackup!A224,Employee_Name,0))))","v":""},{"$f":"IF(ISERROR(INDEX('Employee Data'!$C$4:$C$553,MATCH(Databackup!A224,Employee_Name,0),0)),\"\",(INDEX('Employee Data'!$C$4:$C$553,MATCH(Databackup!A224,Employee_Name,0))))","v":""},{"$f":"IF(ISERROR(INDEX('Employee Data'!$D$4:$D$553,MATCH(Databackup!A224,Employee_Name,0),0)),\"\",(INDEX('Employee Data'!$D$4:$D$553,MATCH(Databackup!A224,Employee_Name,0))))","v":""},{"$f":"IF(ISERROR(INDEX('Employee Data'!$F$4:$F$553,MATCH(Databackup!A224,Employee_Name,0),0)),\"\",(INDEX('Employee Data'!$F$4:$F$553,MATCH(Databackup!A224,Employee_Name,0))))","v":""},{"$f":"IF(ISERROR(INDEX('Employee Data'!$G$4:$G$553,MATCH(Databackup!A224,Employee_Name,0),0)),\"\",(INDEX('Employee Data'!$G$4:$G$553,MATCH(Databackup!A224,Employee_Name,0))))","v":""},{"$f":"IF(ISERROR(INDEX('Employee Data'!$H$4:$H$553,MATCH(Databackup!A224,Employee_Name,0),0)),\"\",(INDEX('Employee Data'!$H$4:$H$553,MATCH(Databackup!A224,Employee_Name,0))))","v":""},{"$f":"IF(ISERROR(INDEX('Employee Data'!$I$4:$I$553,MATCH(Databackup!A224,Employee_Name,0),0)),\"\",(INDEX('Employee Data'!$I$4:$I$553,MATCH(Databackup!A224,Employee_Name,0))))","v":""},{"$f":"IF(ISERROR(INDEX('Employee Data'!$J$4:$J$553,MATCH(Databackup!A224,Employee_Name,0),0)),\"\",(INDEX('Employee Data'!J$4:$J$553,MATCH(Databackup!A224,Employee_Name,0))))","v":""},{"$f":"IF(ISERROR(INDEX('Employee Data'!$K$4:$K$553,MATCH(Databackup!A224,Employee_Name,0),0)),\"\",(INDEX('Employee Data'!$K$4:$K$553,MATCH(Databackup!A224,Employee_Name,0))))","v":""},{"$f":"IF(ISERROR(INDEX('Employee Data'!$L$4:$L$553,MATCH(Databackup!A224,Employee_Name,0),0)),\"\",(INDEX('Employee Data'!$L$4:$L$553,MATCH(Databackup!A224,Employee_Name,0))))","v":""},{"$f":"IF(ISERROR(INDEX('Employee Data'!$M$4:$M$553,MATCH(Databackup!A224,Employee_Name,0),0)),\"\",(INDEX('Employee Data'!$M$4:$M$553,MATCH(Databackup!A224,Employee_Name,0))))","v":""},{"$f":"IF(ISERROR(INDEX('Employee Data'!$N$4:$N$553,MATCH(Databackup!A224,Employee_Name,0),0)),\"\",(INDEX('Employee Data'!$N$4:$N$553,MATCH(Databackup!A224,Employee_Name,0))))","v":""},{"$f":"IF(ISERROR(INDEX('Employee Data'!$O$4:$O$553,MATCH(Databackup!A224,Employee_Name,0),0)),\"\",(INDEX('Employee Data'!$O$4:$O$553,MATCH(Databackup!A224,Employee_Name,0))))","v":""}]
[{"$f":"INDEX(Employee_Name,MATCH(SMALL(IF($A$1='Employee Data'!$I$4:$I$553,'Employee Data'!$B$4:$B$553,\"\"),ROW('Employee Data'!A223)),IF($A$1='Employee Data'!$I$4:$I$553,'Employee Data'!$B$4:$B$553,\"\"),0))","v":{"$error":"#NUM!"}},{"$f":"IF(ISERROR(INDEX('Employee Data'!$B$4:$B$553,MATCH(Databackup!A225,Employee_Name,0),0)),\"\",(INDEX('Employee Data'!$B$4:$B$553,MATCH(Databackup!A225,Employee_Name,0))))","v":""},{"$f":"IF(ISERROR(INDEX('Employee Data'!$C$4:$C$553,MATCH(Databackup!A225,Employee_Name,0),0)),\"\",(INDEX('Employee Data'!$C$4:$C$553,MATCH(Databackup!A225,Employee_Name,0))))","v":""},{"$f":"IF(ISERROR(INDEX('Employee Data'!$D$4:$D$553,MATCH(Databackup!A225,Employee_Name,0),0)),\"\",(INDEX('Employee Data'!$D$4:$D$553,MATCH(Databackup!A225,Employee_Name,0))))","v":""},{"$f":"IF(ISERROR(INDEX('Employee Data'!$F$4:$F$553,MATCH(Databackup!A225,Employee_Name,0),0)),\"\",(INDEX('Employee Data'!$F$4:$F$553,MATCH(Databackup!A225,Employee_Name,0))))","v":""},{"$f":"IF(ISERROR(INDEX('Employee Data'!$G$4:$G$553,MATCH(Databackup!A225,Employee_Name,0),0)),\"\",(INDEX('Employee Data'!$G$4:$G$553,MATCH(Databackup!A225,Employee_Name,0))))","v":""},{"$f":"IF(ISERROR(INDEX('Employee Data'!$H$4:$H$553,MATCH(Databackup!A225,Employee_Name,0),0)),\"\",(INDEX('Employee Data'!$H$4:$H$553,MATCH(Databackup!A225,Employee_Name,0))))","v":""},{"$f":"IF(ISERROR(INDEX('Employee Data'!$I$4:$I$553,MATCH(Databackup!A225,Employee_Name,0),0)),\"\",(INDEX('Employee Data'!$I$4:$I$553,MATCH(Databackup!A225,Employee_Name,0))))","v":""},{"$f":"IF(ISERROR(INDEX('Employee Data'!$J$4:$J$553,MATCH(Databackup!A225,Employee_Name,0),0)),\"\",(INDEX('Employee Data'!J$4:$J$553,MATCH(Databackup!A225,Employee_Name,0))))","v":""},{"$f":"IF(ISERROR(INDEX('Employee Data'!$K$4:$K$553,MATCH(Databackup!A225,Employee_Name,0),0)),\"\",(INDEX('Employee Data'!$K$4:$K$553,MATCH(Databackup!A225,Employee_Name,0))))","v":""},{"$f":"IF(ISERROR(INDEX('Employee Data'!$L$4:$L$553,MATCH(Databackup!A225,Employee_Name,0),0)),\"\",(INDEX('Employee Data'!$L$4:$L$553,MATCH(Databackup!A225,Employee_Name,0))))","v":""},{"$f":"IF(ISERROR(INDEX('Employee Data'!$M$4:$M$553,MATCH(Databackup!A225,Employee_Name,0),0)),\"\",(INDEX('Employee Data'!$M$4:$M$553,MATCH(Databackup!A225,Employee_Name,0))))","v":""},{"$f":"IF(ISERROR(INDEX('Employee Data'!$N$4:$N$553,MATCH(Databackup!A225,Employee_Name,0),0)),\"\",(INDEX('Employee Data'!$N$4:$N$553,MATCH(Databackup!A225,Employee_Name,0))))","v":""},{"$f":"IF(ISERROR(INDEX('Employee Data'!$O$4:$O$553,MATCH(Databackup!A225,Employee_Name,0),0)),\"\",(INDEX('Employee Data'!$O$4:$O$553,MATCH(Databackup!A225,Employee_Name,0))))","v":""}]
[{"$f":"INDEX(Employee_Name,MATCH(SMALL(IF($A$1='Employee Data'!$I$4:$I$553,'Employee Data'!$B$4:$B$553,\"\"),ROW('Employee Data'!A224)),IF($A$1='Employee Data'!$I$4:$I$553,'Employee Data'!$B$4:$B$553,\"\"),0))","v":{"$error":"#NUM!"}},{"$f":"IF(ISERROR(INDEX('Employee Data'!$B$4:$B$553,MATCH(Databackup!A226,Employee_Name,0),0)),\"\",(INDEX('Employee Data'!$B$4:$B$553,MATCH(Databackup!A226,Employee_Name,0))))","v":""},{"$f":"IF(ISERROR(INDEX('Employee Data'!$C$4:$C$553,MATCH(Databackup!A226,Employee_Name,0),0)),\"\",(INDEX('Employee Data'!$C$4:$C$553,MATCH(Databackup!A226,Employee_Name,0))))","v":""},{"$f":"IF(ISERROR(INDEX('Employee Data'!$D$4:$D$553,MATCH(Databackup!A226,Employee_Name,0),0)),\"\",(INDEX('Employee Data'!$D$4:$D$553,MATCH(Databackup!A226,Employee_Name,0))))","v":""},{"$f":"IF(ISERROR(INDEX('Employee Data'!$F$4:$F$553,MATCH(Databackup!A226,Employee_Name,0),0)),\"\",(INDEX('Employee Data'!$F$4:$F$553,MATCH(Databackup!A226,Employee_Name,0))))","v":""},{"$f":"IF(ISERROR(INDEX('Employee Data'!$G$4:$G$553,MATCH(Databackup!A226,Employee_Name,0),0)),\"\",(INDEX('Employee Data'!$G$4:$G$553,MATCH(Databackup!A226,Employee_Name,0))))","v":""},{"$f":"IF(ISERROR(INDEX('Employee Data'!$H$4:$H$553,MATCH(Databackup!A226,Employee_Name,0),0)),\"\",(INDEX('Employee Data'!$H$4:$H$553,MATCH(Databackup!A226,Employee_Name,0))))","v":""},{"$f":"IF(ISERROR(INDEX('Employee Data'!$I$4:$I$553,MATCH(Databackup!A226,Employee_Name,0),0)),\"\",(INDEX('Employee Data'!$I$4:$I$553,MATCH(Databackup!A226,Employee_Name,0))))","v":""},{"$f":"IF(ISERROR(INDEX('Employee Data'!$J$4:$J$553,MATCH(Databackup!A226,Employee_Name,0),0)),\"\",(INDEX('Employee Data'!J$4:$J$553,MATCH(Databackup!A226,Employee_Name,0))))","v":""},{"$f":"IF(ISERROR(INDEX('Employee Data'!$K$4:$K$553,MATCH(Databackup!A226,Employee_Name,0),0)),\"\",(INDEX('Employee Data'!$K$4:$K$553,MATCH(Databackup!A226,Employee_Name,0))))","v":""},{"$f":"IF(ISERROR(INDEX('Employee Data'!$L$4:$L$553,MATCH(Databackup!A226,Employee_Name,0),0)),\"\",(INDEX('Employee Data'!$L$4:$L$553,MATCH(Databackup!A226,Employee_Name,0))))","v":""},{"$f":"IF(ISERROR(INDEX('Employee Data'!$M$4:$M$553,MATCH(Databackup!A226,Employee_Name,0),0)),\"\",(INDEX('Employee Data'!$M$4:$M$553,MATCH(Databackup!A226,Employee_Name,0))))","v":""},{"$f":"IF(ISERROR(INDEX('Employee Data'!$N$4:$N$553,MATCH(Databackup!A226,Employee_Name,0),0)),\"\",(INDEX('Employee Data'!$N$4:$N$553,MATCH(Databackup!A226,Employee_Name,0))))","v":""},{"$f":"IF(ISERROR(INDEX('Employee Data'!$O$4:$O$553,MATCH(Databackup!A226,Employee_Name,0),0)),\"\",(INDEX('Employee Data'!$O$4:$O$553,MATCH(Databackup!A226,Employee_Name,0))))","v":""}]
[{"$f":"INDEX(Employee_Name,MATCH(SMALL(IF($A$1='Employee Data'!$I$4:$I$553,'Employee Data'!$B$4:$B$553,\"\"),ROW('Employee Data'!A225)),IF($A$1='Employee Data'!$I$4:$I$553,'Employee Data'!$B$4:$B$553,\"\"),0))","v":{"$error":"#NUM!"}},{"$f":"IF(ISERROR(INDEX('Employee Data'!$B$4:$B$553,MATCH(Databackup!A227,Employee_Name,0),0)),\"\",(INDEX('Employee Data'!$B$4:$B$553,MATCH(Databackup!A227,Employee_Name,0))))","v":""},{"$f":"IF(ISERROR(INDEX('Employee Data'!$C$4:$C$553,MATCH(Databackup!A227,Employee_Name,0),0)),\"\",(INDEX('Employee Data'!$C$4:$C$553,MATCH(Databackup!A227,Employee_Name,0))))","v":""},{"$f":"IF(ISERROR(INDEX('Employee Data'!$D$4:$D$553,MATCH(Databackup!A227,Employee_Name,0),0)),\"\",(INDEX('Employee Data'!$D$4:$D$553,MATCH(Databackup!A227,Employee_Name,0))))","v":""},{"$f":"IF(ISERROR(INDEX('Employee Data'!$F$4:$F$553,MATCH(Databackup!A227,Employee_Name,0),0)),\"\",(INDEX('Employee Data'!$F$4:$F$553,MATCH(Databackup!A227,Employee_Name,0))))","v":""},{"$f":"IF(ISERROR(INDEX('Employee Data'!$G$4:$G$553,MATCH(Databackup!A227,Employee_Name,0),0)),\"\",(INDEX('Employee Data'!$G$4:$G$553,MATCH(Databackup!A227,Employee_Name,0))))","v":""},{"$f":"IF(ISERROR(INDEX('Employee Data'!$H$4:$H$553,MATCH(Databackup!A227,Employee_Name,0),0)),\"\",(INDEX('Employee Data'!$H$4:$H$553,MATCH(Databackup!A227,Employee_Name,0))))","v":""},{"$f":"IF(ISERROR(INDEX('Employee Data'!$I$4:$I$553,MATCH(Databackup!A227,Employee_Name,0),0)),\"\",(INDEX('Employee Data'!$I$4:$I$553,MATCH(Databackup!A227,Employee_Name,0))))","v":""},{"$f":"IF(ISERROR(INDEX('Employee Data'!$J$4:$J$553,MATCH(Databackup!A227,Employee_Name,0),0)),\"\",(INDEX('Employee Data'!J$4:$J$553,MATCH(Databackup!A227,Employee_Name,0))))","v":""},{"$f":"IF(ISERROR(INDEX('Employee Data'!$K$4:$K$553,MATCH(Databackup!A227,Employee_Name,0),0)),\"\",(INDEX('Employee Data'!$K$4:$K$553,MATCH(Databackup!A227,Employee_Name,0))))","v":""},{"$f":"IF(ISERROR(INDEX('Employee Data'!$L$4:$L$553,MATCH(Databackup!A227,Employee_Name,0),0)),\"\",(INDEX('Employee Data'!$L$4:$L$553,MATCH(Databackup!A227,Employee_Name,0))))","v":""},{"$f":"IF(ISERROR(INDEX('Employee Data'!$M$4:$M$553,MATCH(Databackup!A227,Employee_Name,0),0)),\"\",(INDEX('Employee Data'!$M$4:$M$553,MATCH(Databackup!A227,Employee_Name,0))))","v":""},{"$f":"IF(ISERROR(INDEX('Employee Data'!$N$4:$N$553,MATCH(Databackup!A227,Employee_Name,0),0)),\"\",(INDEX('Employee Data'!$N$4:$N$553,MATCH(Databackup!A227,Employee_Name,0))))","v":""},{"$f":"IF(ISERROR(INDEX('Employee Data'!$O$4:$O$553,MATCH(Databackup!A227,Employee_Name,0),0)),\"\",(INDEX('Employee Data'!$O$4:$O$553,MATCH(Databackup!A227,Employee_Name,0))))","v":""}]
[{"$f":"INDEX(Employee_Name,MATCH(SMALL(IF($A$1='Employee Data'!$I$4:$I$553,'Employee Data'!$B$4:$B$553,\"\"),ROW('Employee Data'!A226)),IF($A$1='Employee Data'!$I$4:$I$553,'Employee Data'!$B$4:$B$553,\"\"),0))","v":{"$error":"#NUM!"}},{"$f":"IF(ISERROR(INDEX('Employee Data'!$B$4:$B$553,MATCH(Databackup!A228,Employee_Name,0),0)),\"\",(INDEX('Employee Data'!$B$4:$B$553,MATCH(Databackup!A228,Employee_Name,0))))","v":""},{"$f":"IF(ISERROR(INDEX('Employee Data'!$C$4:$C$553,MATCH(Databackup!A228,Employee_Name,0),0)),\"\",(INDEX('Employee Data'!$C$4:$C$553,MATCH(Databackup!A228,Employee_Name,0))))","v":""},{"$f":"IF(ISERROR(INDEX('Employee Data'!$D$4:$D$553,MATCH(Databackup!A228,Employee_Name,0),0)),\"\",(INDEX('Employee Data'!$D$4:$D$553,MATCH(Databackup!A228,Employee_Name,0))))","v":""},{"$f":"IF(ISERROR(INDEX('Employee Data'!$F$4:$F$553,MATCH(Databackup!A228,Employee_Name,0),0)),\"\",(INDEX('Employee Data'!$F$4:$F$553,MATCH(Databackup!A228,Employee_Name,0))))","v":""},{"$f":"IF(ISERROR(INDEX('Employee Data'!$G$4:$G$553,MATCH(Databackup!A228,Employee_Name,0),0)),\"\",(INDEX('Employee Data'!$G$4:$G$553,MATCH(Databackup!A228,Employee_Name,0))))","v":""},{"$f":"IF(ISERROR(INDEX('Employee Data'!$H$4:$H$553,MATCH(Databackup!A228,Employee_Name,0),0)),\"\",(INDEX('Employee Data'!$H$4:$H$553,MATCH(Databackup!A228,Employee_Name,0))))","v":""},{"$f":"IF(ISERROR(INDEX('Employee Data'!$I$4:$I$553,MATCH(Databackup!A228,Employee_Name,0),0)),\"\",(INDEX('Employee Data'!$I$4:$I$553,MATCH(Databackup!A228,Employee_Name,0))))","v":""},{"$f":"IF(ISERROR(INDEX('Employee Data'!$J$4:$J$553,MATCH(Databackup!A228,Employee_Name,0),0)),\"\",(INDEX('Employee Data'!J$4:$J$553,MATCH(Databackup!A228,Employee_Name,0))))","v":""},{"$f":"IF(ISERROR(INDEX('Employee Data'!$K$4:$K$553,MATCH(Databackup!A228,Employee_Name,0),0)),\"\",(INDEX('Employee Data'!$K$4:$K$553,MATCH(Databackup!A228,Employee_Name,0))))","v":""},{"$f":"IF(ISERROR(INDEX('Employee Data'!$L$4:$L$553,MATCH(Databackup!A228,Employee_Name,0),0)),\"\",(INDEX('Employee Data'!$L$4:$L$553,MATCH(Databackup!A228,Employee_Name,0))))","v":""},{"$f":"IF(ISERROR(INDEX('Employee Data'!$M$4:$M$553,MATCH(Databackup!A228,Employee_Name,0),0)),\"\",(INDEX('Employee Data'!$M$4:$M$553,MATCH(Databackup!A228,Employee_Name,0))))","v":""},{"$f":"IF(ISERROR(INDEX('Employee Data'!$N$4:$N$553,MATCH(Databackup!A228,Employee_Name,0),0)),\"\",(INDEX('Employee Data'!$N$4:$N$553,MATCH(Databackup!A228,Employee_Name,0))))","v":""},{"$f":"IF(ISERROR(INDEX('Employee Data'!$O$4:$O$553,MATCH(Databackup!A228,Employee_Name,0),0)),\"\",(INDEX('Employee Data'!$O$4:$O$553,MATCH(Databackup!A228,Employee_Name,0))))","v":""}]
[{"$f":"INDEX(Employee_Name,MATCH(SMALL(IF($A$1='Employee Data'!$I$4:$I$553,'Employee Data'!$B$4:$B$553,\"\"),ROW('Employee Data'!A227)),IF($A$1='Employee Data'!$I$4:$I$553,'Employee Data'!$B$4:$B$553,\"\"),0))","v":{"$error":"#NUM!"}},{"$f":"IF(ISERROR(INDEX('Employee Data'!$B$4:$B$553,MATCH(Databackup!A229,Employee_Name,0),0)),\"\",(INDEX('Employee Data'!$B$4:$B$553,MATCH(Databackup!A229,Employee_Name,0))))","v":""},{"$f":"IF(ISERROR(INDEX('Employee Data'!$C$4:$C$553,MATCH(Databackup!A229,Employee_Name,0),0)),\"\",(INDEX('Employee Data'!$C$4:$C$553,MATCH(Databackup!A229,Employee_Name,0))))","v":""},{"$f":"IF(ISERROR(INDEX('Employee Data'!$D$4:$D$553,MATCH(Databackup!A229,Employee_Name,0),0)),\"\",(INDEX('Employee Data'!$D$4:$D$553,MATCH(Databackup!A229,Employee_Name,0))))","v":""},{"$f":"IF(ISERROR(INDEX('Employee Data'!$F$4:$F$553,MATCH(Databackup!A229,Employee_Name,0),0)),\"\",(INDEX('Employee Data'!$F$4:$F$553,MATCH(Databackup!A229,Employee_Name,0))))","v":""},{"$f":"IF(ISERROR(INDEX('Employee Data'!$G$4:$G$553,MATCH(Databackup!A229,Employee_Name,0),0)),\"\",(INDEX('Employee Data'!$G$4:$G$553,MATCH(Databackup!A229,Employee_Name,0))))","v":""},{"$f":"IF(ISERROR(INDEX('Employee Data'!$H$4:$H$553,MATCH(Databackup!A229,Employee_Name,0),0)),\"\",(INDEX('Employee Data'!$H$4:$H$553,MATCH(Databackup!A229,Employee_Name,0))))","v":""},{"$f":"IF(ISERROR(INDEX('Employee Data'!$I$4:$I$553,MATCH(Databackup!A229,Employee_Name,0),0)),\"\",(INDEX('Employee Data'!$I$4:$I$553,MATCH(Databackup!A229,Employee_Name,0))))","v":""},{"$f":"IF(ISERROR(INDEX('Employee Data'!$J$4:$J$553,MATCH(Databackup!A229,Employee_Name,0),0)),\"\",(INDEX('Employee Data'!J$4:$J$553,MATCH(Databackup!A229,Employee_Name,0))))","v":""},{"$f":"IF(ISERROR(INDEX('Employee Data'!$K$4:$K$553,MATCH(Databackup!A229,Employee_Name,0),0)),\"\",(INDEX('Employee Data'!$K$4:$K$553,MATCH(Databackup!A229,Employee_Name,0))))","v":""},{"$f":"IF(ISERROR(INDEX('Employee Data'!$L$4:$L$553,MATCH(Databackup!A229,Employee_Name,0),0)),\"\",(INDEX('Employee Data'!$L$4:$L$553,MATCH(Databackup!A229,Employee_Name,0))))","v":""},{"$f":"IF(ISERROR(INDEX('Employee Data'!$M$4:$M$553,MATCH(Databackup!A229,Employee_Name,0),0)),\"\",(INDEX('Employee Data'!$M$4:$M$553,MATCH(Databackup!A229,Employee_Name,0))))","v":""},{"$f":"IF(ISERROR(INDEX('Employee Data'!$N$4:$N$553,MATCH(Databackup!A229,Employee_Name,0),0)),\"\",(INDEX('Employee Data'!$N$4:$N$553,MATCH(Databackup!A229,Employee_Name,0))))","v":""},{"$f":"IF(ISERROR(INDEX('Employee Data'!$O$4:$O$553,MATCH(Databackup!A229,Employee_Name,0),0)),\"\",(INDEX('Employee Data'!$O$4:$O$553,MATCH(Databackup!A229,Employee_Name,0))))","v":""}]
[{"$f":"INDEX(Employee_Name,MATCH(SMALL(IF($A$1='Employee Data'!$I$4:$I$553,'Employee Data'!$B$4:$B$553,\"\"),ROW('Employee Data'!A228)),IF($A$1='Employee Data'!$I$4:$I$553,'Employee Data'!$B$4:$B$553,\"\"),0))","v":{"$error":"#NUM!"}},{"$f":"IF(ISERROR(INDEX('Employee Data'!$B$4:$B$553,MATCH(Databackup!A230,Employee_Name,0),0)),\"\",(INDEX('Employee Data'!$B$4:$B$553,MATCH(Databackup!A230,Employee_Name,0))))","v":""},{"$f":"IF(ISERROR(INDEX('Employee Data'!$C$4:$C$553,MATCH(Databackup!A230,Employee_Name,0),0)),\"\",(INDEX('Employee Data'!$C$4:$C$553,MATCH(Databackup!A230,Employee_Name,0))))","v":""},{"$f":"IF(ISERROR(INDEX('Employee Data'!$D$4:$D$553,MATCH(Databackup!A230,Employee_Name,0),0)),\"\",(INDEX('Employee Data'!$D$4:$D$553,MATCH(Databackup!A230,Employee_Name,0))))","v":""},{"$f":"IF(ISERROR(INDEX('Employee Data'!$F$4:$F$553,MATCH(Databackup!A230,Employee_Name,0),0)),\"\",(INDEX('Employee Data'!$F$4:$F$553,MATCH(Databackup!A230,Employee_Name,0))))","v":""},{"$f":"IF(ISERROR(INDEX('Employee Data'!$G$4:$G$553,MATCH(Databackup!A230,Employee_Name,0),0)),\"\",(INDEX('Employee Data'!$G$4:$G$553,MATCH(Databackup!A230,Employee_Name,0))))","v":""},{"$f":"IF(ISERROR(INDEX('Employee Data'!$H$4:$H$553,MATCH(Databackup!A230,Employee_Name,0),0)),\"\",(INDEX('Employee Data'!$H$4:$H$553,MATCH(Databackup!A230,Employee_Name,0))))","v":""},{"$f":"IF(ISERROR(INDEX('Employee Data'!$I$4:$I$553,MATCH(Databackup!A230,Employee_Name,0),0)),\"\",(INDEX('Employee Data'!$I$4:$I$553,MATCH(Databackup!A230,Employee_Name,0))))","v":""},{"$f":"IF(ISERROR(INDEX('Employee Data'!$J$4:$J$553,MATCH(Databackup!A230,Employee_Name,0),0)),\"\",(INDEX('Employee Data'!J$4:$J$553,MATCH(Databackup!A230,Employee_Name,0))))","v":""},{"$f":"IF(ISERROR(INDEX('Employee Data'!$K$4:$K$553,MATCH(Databackup!A230,Employee_Name,0),0)),\"\",(INDEX('Employee Data'!$K$4:$K$553,MATCH(Databackup!A230,Employee_Name,0))))","v":""},{"$f":"IF(ISERROR(INDEX('Employee Data'!$L$4:$L$553,MATCH(Databackup!A230,Employee_Name,0),0)),\"\",(INDEX('Employee Data'!$L$4:$L$553,MATCH(Databackup!A230,Employee_Name,0))))","v":""},{"$f":"IF(ISERROR(INDEX('Employee Data'!$M$4:$M$553,MATCH(Databackup!A230,Employee_Name,0),0)),\"\",(INDEX('Employee Data'!$M$4:$M$553,MATCH(Databackup!A230,Employee_Name,0))))","v":""},{"$f":"IF(ISERROR(INDEX('Employee Data'!$N$4:$N$553,MATCH(Databackup!A230,Employee_Name,0),0)),\"\",(INDEX('Employee Data'!$N$4:$N$553,MATCH(Databackup!A230,Employee_Name,0))))","v":""},{"$f":"IF(ISERROR(INDEX('Employee Data'!$O$4:$O$553,MATCH(Databackup!A230,Employee_Name,0),0)),\"\",(INDEX('Employee Data'!$O$4:$O$553,MATCH(Databackup!A230,Employee_Name,0))))","v":""}]
[{"$f":"INDEX(Employee_Name,MATCH(SMALL(IF($A$1='Employee Data'!$I$4:$I$553,'Employee Data'!$B$4:$B$553,\"\"),ROW('Employee Data'!A229)),IF($A$1='Employee Data'!$I$4:$I$553,'Employee Data'!$B$4:$B$553,\"\"),0))","v":{"$error":"#NUM!"}},{"$f":"IF(ISERROR(INDEX('Employee Data'!$B$4:$B$553,MATCH(Databackup!A231,Employee_Name,0),0)),\"\",(INDEX('Employee Data'!$B$4:$B$553,MATCH(Databackup!A231,Employee_Name,0))))","v":""},{"$f":"IF(ISERROR(INDEX('Employee Data'!$C$4:$C$553,MATCH(Databackup!A231,Employee_Name,0),0)),\"\",(INDEX('Employee Data'!$C$4:$C$553,MATCH(Databackup!A231,Employee_Name,0))))","v":""},{"$f":"IF(ISERROR(INDEX('Employee Data'!$D$4:$D$553,MATCH(Databackup!A231,Employee_Name,0),0)),\"\",(INDEX('Employee Data'!$D$4:$D$553,MATCH(Databackup!A231,Employee_Name,0))))","v":""},{"$f":"IF(ISERROR(INDEX('Employee Data'!$F$4:$F$553,MATCH(Databackup!A231,Employee_Name,0),0)),\"\",(INDEX('Employee Data'!$F$4:$F$553,MATCH(Databackup!A231,Employee_Name,0))))","v":""},{"$f":"IF(ISERROR(INDEX('Employee Data'!$G$4:$G$553,MATCH(Databackup!A231,Employee_Name,0),0)),\"\",(INDEX('Employee Data'!$G$4:$G$553,MATCH(Databackup!A231,Employee_Name,0))))","v":""},{"$f":"IF(ISERROR(INDEX('Employee Data'!$H$4:$H$553,MATCH(Databackup!A231,Employee_Name,0),0)),\"\",(INDEX('Employee Data'!$H$4:$H$553,MATCH(Databackup!A231,Employee_Name,0))))","v":""},{"$f":"IF(ISERROR(INDEX('Employee Data'!$I$4:$I$553,MATCH(Databackup!A231,Employee_Name,0),0)),\"\",(INDEX('Employee Data'!$I$4:$I$553,MATCH(Databackup!A231,Employee_Name,0))))","v":""},{"$f":"IF(ISERROR(INDEX('Employee Data'!$J$4:$J$553,MATCH(Databackup!A231,Employee_Name,0),0)),\"\",(INDEX('Employee Data'!J$4:$J$553,MATCH(Databackup!A231,Employee_Name,0))))","v":""},{"$f":"IF(ISERROR(INDEX('Employee Data'!$K$4:$K$553,MATCH(Databackup!A231,Employee_Name,0),0)),\"\",(INDEX('Employee Data'!$K$4:$K$553,MATCH(Databackup!A231,Employee_Name,0))))","v":""},{"$f":"IF(ISERROR(INDEX('Employee Data'!$L$4:$L$553,MATCH(Databackup!A231,Employee_Name,0),0)),\"\",(INDEX('Employee Data'!$L$4:$L$553,MATCH(Databackup!A231,Employee_Name,0))))","v":""},{"$f":"IF(ISERROR(INDEX('Employee Data'!$M$4:$M$553,MATCH(Databackup!A231,Employee_Name,0),0)),\"\",(INDEX('Employee Data'!$M$4:$M$553,MATCH(Databackup!A231,Employee_Name,0))))","v":""},{"$f":"IF(ISERROR(INDEX('Employee Data'!$N$4:$N$553,MATCH(Databackup!A231,Employee_Name,0),0)),\"\",(INDEX('Employee Data'!$N$4:$N$553,MATCH(Databackup!A231,Employee_Name,0))))","v":""},{"$f":"IF(ISERROR(INDEX('Employee Data'!$O$4:$O$553,MATCH(Databackup!A231,Employee_Name,0),0)),\"\",(INDEX('Employee Data'!$O$4:$O$553,MATCH(Databackup!A231,Employee_Name,0))))","v":""}]
[{"$f":"INDEX(Employee_Name,MATCH(SMALL(IF($A$1='Employee Data'!$I$4:$I$553,'Employee Data'!$B$4:$B$553,\"\"),ROW('Employee Data'!A230)),IF($A$1='Employee Data'!$I$4:$I$553,'Employee Data'!$B$4:$B$553,\"\"),0))","v":{"$error":"#NUM!"}},{"$f":"IF(ISERROR(INDEX('Employee Data'!$B$4:$B$553,MATCH(Databackup!A232,Employee_Name,0),0)),\"\",(INDEX('Employee Data'!$B$4:$B$553,MATCH(Databackup!A232,Employee_Name,0))))","v":""},{"$f":"IF(ISERROR(INDEX('Employee Data'!$C$4:$C$553,MATCH(Databackup!A232,Employee_Name,0),0)),\"\",(INDEX('Employee Data'!$C$4:$C$553,MATCH(Databackup!A232,Employee_Name,0))))","v":""},{"$f":"IF(ISERROR(INDEX('Employee Data'!$D$4:$D$553,MATCH(Databackup!A232,Employee_Name,0),0)),\"\",(INDEX('Employee Data'!$D$4:$D$553,MATCH(Databackup!A232,Employee_Name,0))))","v":""},{"$f":"IF(ISERROR(INDEX('Employee Data'!$F$4:$F$553,MATCH(Databackup!A232,Employee_Name,0),0)),\"\",(INDEX('Employee Data'!$F$4:$F$553,MATCH(Databackup!A232,Employee_Name,0))))","v":""},{"$f":"IF(ISERROR(INDEX('Employee Data'!$G$4:$G$553,MATCH(Databackup!A232,Employee_Name,0),0)),\"\",(INDEX('Employee Data'!$G$4:$G$553,MATCH(Databackup!A232,Employee_Name,0))))","v":""},{"$f":"IF(ISERROR(INDEX('Employee Data'!$H$4:$H$553,MATCH(Databackup!A232,Employee_Name,0),0)),\"\",(INDEX('Employee Data'!$H$4:$H$553,MATCH(Databackup!A232,Employee_Name,0))))","v":""},{"$f":"IF(ISERROR(INDEX('Employee Data'!$I$4:$I$553,MATCH(Databackup!A232,Employee_Name,0),0)),\"\",(INDEX('Employee Data'!$I$4:$I$553,MATCH(Databackup!A232,Employee_Name,0))))","v":""},{"$f":"IF(ISERROR(INDEX('Employee Data'!$J$4:$J$553,MATCH(Databackup!A232,Employee_Name,0),0)),\"\",(INDEX('Employee Data'!J$4:$J$553,MATCH(Databackup!A232,Employee_Name,0))))","v":""},{"$f":"IF(ISERROR(INDEX('Employee Data'!$K$4:$K$553,MATCH(Databackup!A232,Employee_Name,0),0)),\"\",(INDEX('Employee Data'!$K$4:$K$553,MATCH(Databackup!A232,Employee_Name,0))))","v":""},{"$f":"IF(ISERROR(INDEX('Employee Data'!$L$4:$L$553,MATCH(Databackup!A232,Employee_Name,0),0)),\"\",(INDEX('Employee Data'!$L$4:$L$553,MATCH(Databackup!A232,Employee_Name,0))))","v":""},{"$f":"IF(ISERROR(INDEX('Employee Data'!$M$4:$M$553,MATCH(Databackup!A232,Employee_Name,0),0)),\"\",(INDEX('Employee Data'!$M$4:$M$553,MATCH(Databackup!A232,Employee_Name,0))))","v":""},{"$f":"IF(ISERROR(INDEX('Employee Data'!$N$4:$N$553,MATCH(Databackup!A232,Employee_Name,0),0)),\"\",(INDEX('Employee Data'!$N$4:$N$553,MATCH(Databackup!A232,Employee_Name,0))))","v":""},{"$f":"IF(ISERROR(INDEX('Employee Data'!$O$4:$O$553,MATCH(Databackup!A232,Employee_Name,0),0)),\"\",(INDEX('Employee Data'!$O$4:$O$553,MATCH(Databackup!A232,Employee_Name,0))))","v":""}]
[{"$f":"INDEX(Employee_Name,MATCH(SMALL(IF($A$1='Employee Data'!$I$4:$I$553,'Employee Data'!$B$4:$B$553,\"\"),ROW('Employee Data'!A231)),IF($A$1='Employee Data'!$I$4:$I$553,'Employee Data'!$B$4:$B$553,\"\"),0))","v":{"$error":"#NUM!"}},{"$f":"IF(ISERROR(INDEX('Employee Data'!$B$4:$B$553,MATCH(Databackup!A233,Employee_Name,0),0)),\"\",(INDEX('Employee Data'!$B$4:$B$553,MATCH(Databackup!A233,Employee_Name,0))))","v":""},{"$f":"IF(ISERROR(INDEX('Employee Data'!$C$4:$C$553,MATCH(Databackup!A233,Employee_Name,0),0)),\"\",(INDEX('Employee Data'!$C$4:$C$553,MATCH(Databackup!A233,Employee_Name,0))))","v":""},{"$f":"IF(ISERROR(INDEX('Employee Data'!$D$4:$D$553,MATCH(Databackup!A233,Employee_Name,0),0)),\"\",(INDEX('Employee Data'!$D$4:$D$553,MATCH(Databackup!A233,Employee_Name,0))))","v":""},{"$f":"IF(ISERROR(INDEX('Employee Data'!$F$4:$F$553,MATCH(Databackup!A233,Employee_Name,0),0)),\"\",(INDEX('Employee Data'!$F$4:$F$553,MATCH(Databackup!A233,Employee_Name,0))))","v":""},{"$f":"IF(ISERROR(INDEX('Employee Data'!$G$4:$G$553,MATCH(Databackup!A233,Employee_Name,0),0)),\"\",(INDEX('Employee Data'!$G$4:$G$553,MATCH(Databackup!A233,Employee_Name,0))))","v":""},{"$f":"IF(ISERROR(INDEX('Employee Data'!$H$4:$H$553,MATCH(Databackup!A233,Employee_Name,0),0)),\"\",(INDEX('Employee Data'!$H$4:$H$553,MATCH(Databackup!A233,Employee_Name,0))))","v":""},{"$f":"IF(ISERROR(INDEX('Employee Data'!$I$4:$I$553,MATCH(Databackup!A233,Employee_Name,0),0)),\"\",(INDEX('Employee Data'!$I$4:$I$553,MATCH(Databackup!A233,Employee_Name,0))))","v":""},{"$f":"IF(ISERROR(INDEX('Employee Data'!$J$4:$J$553,MATCH(Databackup!A233,Employee_Name,0),0)),\"\",(INDEX('Employee Data'!J$4:$J$553,MATCH(Databackup!A233,Employee_Name,0))))","v":""},{"$f":"IF(ISERROR(INDEX('Employee Data'!$K$4:$K$553,MATCH(Databackup!A233,Employee_Name,0),0)),\"\",(INDEX('Employee Data'!$K$4:$K$553,MATCH(Databackup!A233,Employee_Name,0))))","v":""},{"$f":"IF(ISERROR(INDEX('Employee Data'!$L$4:$L$553,MATCH(Databackup!A233,Employee_Name,0),0)),\"\",(INDEX('Employee Data'!$L$4:$L$553,MATCH(Databackup!A233,Employee_Name,0))))","v":""},{"$f":"IF(ISERROR(INDEX('Employee Data'!$M$4:$M$553,MATCH(Databackup!A233,Employee_Name,0),0)),\"\",(INDEX('Employee Data'!$M$4:$M$553,MATCH(Databackup!A233,Employee_Name,0))))","v":""},{"$f":"IF(ISERROR(INDEX('Employee Data'!$N$4:$N$553,MATCH(Databackup!A233,Employee_Name,0),0)),\"\",(INDEX('Employee Data'!$N$4:$N$553,MATCH(Databackup!A233,Employee_Name,0))))","v":""},{"$f":"IF(ISERROR(INDEX('Employee Data'!$O$4:$O$553,MATCH(Databackup!A233,Employee_Name,0),0)),\"\",(INDEX('Employee Data'!$O$4:$O$553,MATCH(Databackup!A233,Employee_Name,0))))","v":""}]
[{"$f":"INDEX(Employee_Name,MATCH(SMALL(IF($A$1='Employee Data'!$I$4:$I$553,'Employee Data'!$B$4:$B$553,\"\"),ROW('Employee Data'!A232)),IF($A$1='Employee Data'!$I$4:$I$553,'Employee Data'!$B$4:$B$553,\"\"),0))","v":{"$error":"#NUM!"}},{"$f":"IF(ISERROR(INDEX('Employee Data'!$B$4:$B$553,MATCH(Databackup!A234,Employee_Name,0),0)),\"\",(INDEX('Employee Data'!$B$4:$B$553,MATCH(Databackup!A234,Employee_Name,0))))","v":""},{"$f":"IF(ISERROR(INDEX('Employee Data'!$C$4:$C$553,MATCH(Databackup!A234,Employee_Name,0),0)),\"\",(INDEX('Employee Data'!$C$4:$C$553,MATCH(Databackup!A234,Employee_Name,0))))","v":""},{"$f":"IF(ISERROR(INDEX('Employee Data'!$D$4:$D$553,MATCH(Databackup!A234,Employee_Name,0),0)),\"\",(INDEX('Employee Data'!$D$4:$D$553,MATCH(Databackup!A234,Employee_Name,0))))","v":""},{"$f":"IF(ISERROR(INDEX('Employee Data'!$F$4:$F$553,MATCH(Databackup!A234,Employee_Name,0),0)),\"\",(INDEX('Employee Data'!$F$4:$F$553,MATCH(Databackup!A234,Employee_Name,0))))","v":""},{"$f":"IF(ISERROR(INDEX('Employee Data'!$G$4:$G$553,MATCH(Databackup!A234,Employee_Name,0),0)),\"\",(INDEX('Employee Data'!$G$4:$G$553,MATCH(Databackup!A234,Employee_Name,0))))","v":""},{"$f":"IF(ISERROR(INDEX('Employee Data'!$H$4:$H$553,MATCH(Databackup!A234,Employee_Name,0),0)),\"\",(INDEX('Employee Data'!$H$4:$H$553,MATCH(Databackup!A234,Employee_Name,0))))","v":""},{"$f":"IF(ISERROR(INDEX('Employee Data'!$I$4:$I$553,MATCH(Databackup!A234,Employee_Name,0),0)),\"\",(INDEX('Employee Data'!$I$4:$I$553,MATCH(Databackup!A234,Employee_Name,0))))","v":""},{"$f":"IF(ISERROR(INDEX('Employee Data'!$J$4:$J$553,MATCH(Databackup!A234,Employee_Name,0),0)),\"\",(INDEX('Employee Data'!J$4:$J$553,MATCH(Databackup!A234,Employee_Name,0))))","v":""},{"$f":"IF(ISERROR(INDEX('Employee Data'!$K$4:$K$553,MATCH(Databackup!A234,Employee_Name,0),0)),\"\",(INDEX('Employee Data'!$K$4:$K$553,MATCH(Databackup!A234,Employee_Name,0))))","v":""},{"$f":"IF(ISERROR(INDEX('Employee Data'!$L$4:$L$553,MATCH(Databackup!A234,Employee_Name,0),0)),\"\",(INDEX('Employee Data'!$L$4:$L$553,MATCH(Databackup!A234,Employee_Name,0))))","v":""},{"$f":"IF(ISERROR(INDEX('Employee Data'!$M$4:$M$553,MATCH(Databackup!A234,Employee_Name,0),0)),\"\",(INDEX('Employee Data'!$M$4:$M$553,MATCH(Databackup!A234,Employee_Name,0))))","v":""},{"$f":"IF(ISERROR(INDEX('Employee Data'!$N$4:$N$553,MATCH(Databackup!A234,Employee_Name,0),0)),\"\",(INDEX('Employee Data'!$N$4:$N$553,MATCH(Databackup!A234,Employee_Name,0))))","v":""},{"$f":"IF(ISERROR(INDEX('Employee Data'!$O$4:$O$553,MATCH(Databackup!A234,Employee_Name,0),0)),\"\",(INDEX('Employee Data'!$O$4:$O$553,MATCH(Databackup!A234,Employee_Name,0))))","v":""}]
[{"$f":"INDEX(Employee_Name,MATCH(SMALL(IF($A$1='Employee Data'!$I$4:$I$553,'Employee Data'!$B$4:$B$553,\"\"),ROW('Employee Data'!A233)),IF($A$1='Employee Data'!$I$4:$I$553,'Employee Data'!$B$4:$B$553,\"\"),0))","v":{"$error":"#NUM!"}},{"$f":"IF(ISERROR(INDEX('Employee Data'!$B$4:$B$553,MATCH(Databackup!A235,Employee_Name,0),0)),\"\",(INDEX('Employee Data'!$B$4:$B$553,MATCH(Databackup!A235,Employee_Name,0))))","v":""},{"$f":"IF(ISERROR(INDEX('Employee Data'!$C$4:$C$553,MATCH(Databackup!A235,Employee_Name,0),0)),\"\",(INDEX('Employee Data'!$C$4:$C$553,MATCH(Databackup!A235,Employee_Name,0))))","v":""},{"$f":"IF(ISERROR(INDEX('Employee Data'!$D$4:$D$553,MATCH(Databackup!A235,Employee_Name,0),0)),\"\",(INDEX('Employee Data'!$D$4:$D$553,MATCH(Databackup!A235,Employee_Name,0))))","v":""},{"$f":"IF(ISERROR(INDEX('Employee Data'!$F$4:$F$553,MATCH(Databackup!A235,Employee_Name,0),0)),\"\",(INDEX('Employee Data'!$F$4:$F$553,MATCH(Databackup!A235,Employee_Name,0))))","v":""},{"$f":"IF(ISERROR(INDEX('Employee Data'!$G$4:$G$553,MATCH(Databackup!A235,Employee_Name,0),0)),\"\",(INDEX('Employee Data'!$G$4:$G$553,MATCH(Databackup!A235,Employee_Name,0))))","v":""},{"$f":"IF(ISERROR(INDEX('Employee Data'!$H$4:$H$553,MATCH(Databackup!A235,Employee_Name,0),0)),\"\",(INDEX('Employee Data'!$H$4:$H$553,MATCH(Databackup!A235,Employee_Name,0))))","v":""},{"$f":"IF(ISERROR(INDEX('Employee Data'!$I$4:$I$553,MATCH(Databackup!A235,Employee_Name,0),0)),\"\",(INDEX('Employee Data'!$I$4:$I$553,MATCH(Databackup!A235,Employee_Name,0))))","v":""},{"$f":"IF(ISERROR(INDEX('Employee Data'!$J$4:$J$553,MATCH(Databackup!A235,Employee_Name,0),0)),\"\",(INDEX('Employee Data'!J$4:$J$553,MATCH(Databackup!A235,Employee_Name,0))))","v":""},{"$f":"IF(ISERROR(INDEX('Employee Data'!$K$4:$K$553,MATCH(Databackup!A235,Employee_Name,0),0)),\"\",(INDEX('Employee Data'!$K$4:$K$553,MATCH(Databackup!A235,Employee_Name,0))))","v":""},{"$f":"IF(ISERROR(INDEX('Employee Data'!$L$4:$L$553,MATCH(Databackup!A235,Employee_Name,0),0)),\"\",(INDEX('Employee Data'!$L$4:$L$553,MATCH(Databackup!A235,Employee_Name,0))))","v":""},{"$f":"IF(ISERROR(INDEX('Employee Data'!$M$4:$M$553,MATCH(Databackup!A235,Employee_Name,0),0)),\"\",(INDEX('Employee Data'!$M$4:$M$553,MATCH(Databackup!A235,Employee_Name,0))))","v":""},{"$f":"IF(ISERROR(INDEX('Employee Data'!$N$4:$N$553,MATCH(Databackup!A235,Employee_Name,0),0)),\"\",(INDEX('Employee Data'!$N$4:$N$553,MATCH(Databackup!A235,Employee_Name,0))))","v":""},{"$f":"IF(ISERROR(INDEX('Employee Data'!$O$4:$O$553,MATCH(Databackup!A235,Employee_Name,0),0)),\"\",(INDEX('Employee Data'!$O$4:$O$553,MATCH(Databackup!A235,Employee_Name,0))))","v":""}]
[{"$f":"INDEX(Employee_Name,MATCH(SMALL(IF($A$1='Employee Data'!$I$4:$I$553,'Employee Data'!$B$4:$B$553,\"\"),ROW('Employee Data'!A234)),IF($A$1='Employee Data'!$I$4:$I$553,'Employee Data'!$B$4:$B$553,\"\"),0))","v":{"$error":"#NUM!"}},{"$f":"IF(ISERROR(INDEX('Employee Data'!$B$4:$B$553,MATCH(Databackup!A236,Employee_Name,0),0)),\"\",(INDEX('Employee Data'!$B$4:$B$553,MATCH(Databackup!A236,Employee_Name,0))))","v":""},{"$f":"IF(ISERROR(INDEX('Employee Data'!$C$4:$C$553,MATCH(Databackup!A236,Employee_Name,0),0)),\"\",(INDEX('Employee Data'!$C$4:$C$553,MATCH(Databackup!A236,Employee_Name,0))))","v":""},{"$f":"IF(ISERROR(INDEX('Employee Data'!$D$4:$D$553,MATCH(Databackup!A236,Employee_Name,0),0)),\"\",(INDEX('Employee Data'!$D$4:$D$553,MATCH(Databackup!A236,Employee_Name,0))))","v":""},{"$f":"IF(ISERROR(INDEX('Employee Data'!$F$4:$F$553,MATCH(Databackup!A236,Employee_Name,0),0)),\"\",(INDEX('Employee Data'!$F$4:$F$553,MATCH(Databackup!A236,Employee_Name,0))))","v":""},{"$f":"IF(ISERROR(INDEX('Employee Data'!$G$4:$G$553,MATCH(Databackup!A236,Employee_Name,0),0)),\"\",(INDEX('Employee Data'!$G$4:$G$553,MATCH(Databackup!A236,Employee_Name,0))))","v":""},{"$f":"IF(ISERROR(INDEX('Employee Data'!$H$4:$H$553,MATCH(Databackup!A236,Employee_Name,0),0)),\"\",(INDEX('Employee Data'!$H$4:$H$553,MATCH(Databackup!A236,Employee_Name,0))))","v":""},{"$f":"IF(ISERROR(INDEX('Employee Data'!$I$4:$I$553,MATCH(Databackup!A236,Employee_Name,0),0)),\"\",(INDEX('Employee Data'!$I$4:$I$553,MATCH(Databackup!A236,Employee_Name,0))))","v":""},{"$f":"IF(ISERROR(INDEX('Employee Data'!$J$4:$J$553,MATCH(Databackup!A236,Employee_Name,0),0)),\"\",(INDEX('Employee Data'!J$4:$J$553,MATCH(Databackup!A236,Employee_Name,0))))","v":""},{"$f":"IF(ISERROR(INDEX('Employee Data'!$K$4:$K$553,MATCH(Databackup!A236,Employee_Name,0),0)),\"\",(INDEX('Employee Data'!$K$4:$K$553,MATCH(Databackup!A236,Employee_Name,0))))","v":""},{"$f":"IF(ISERROR(INDEX('Employee Data'!$L$4:$L$553,MATCH(Databackup!A236,Employee_Name,0),0)),\"\",(INDEX('Employee Data'!$L$4:$L$553,MATCH(Databackup!A236,Employee_Name,0))))","v":""},{"$f":"IF(ISERROR(INDEX('Employee Data'!$M$4:$M$553,MATCH(Databackup!A236,Employee_Name,0),0)),\"\",(INDEX('Employee Data'!$M$4:$M$553,MATCH(Databackup!A236,Employee_Name,0))))","v":""},{"$f":"IF(ISERROR(INDEX('Employee Data'!$N$4:$N$553,MATCH(Databackup!A236,Employee_Name,0),0)),\"\",(INDEX('Employee Data'!$N$4:$N$553,MATCH(Databackup!A236,Employee_Name,0))))","v":""},{"$f":"IF(ISERROR(INDEX('Employee Data'!$O$4:$O$553,MATCH(Databackup!A236,Employee_Name,0),0)),\"\",(INDEX('Employee Data'!$O$4:$O$553,MATCH(Databackup!A236,Employee_Name,0))))","v":""}]
[{"$f":"INDEX(Employee_Name,MATCH(SMALL(IF($A$1='Employee Data'!$I$4:$I$553,'Employee Data'!$B$4:$B$553,\"\"),ROW('Employee Data'!A235)),IF($A$1='Employee Data'!$I$4:$I$553,'Employee Data'!$B$4:$B$553,\"\"),0))","v":{"$error":"#NUM!"}},{"$f":"IF(ISERROR(INDEX('Employee Data'!$B$4:$B$553,MATCH(Databackup!A237,Employee_Name,0),0)),\"\",(INDEX('Employee Data'!$B$4:$B$553,MATCH(Databackup!A237,Employee_Name,0))))","v":""},{"$f":"IF(ISERROR(INDEX('Employee Data'!$C$4:$C$553,MATCH(Databackup!A237,Employee_Name,0),0)),\"\",(INDEX('Employee Data'!$C$4:$C$553,MATCH(Databackup!A237,Employee_Name,0))))","v":""},{"$f":"IF(ISERROR(INDEX('Employee Data'!$D$4:$D$553,MATCH(Databackup!A237,Employee_Name,0),0)),\"\",(INDEX('Employee Data'!$D$4:$D$553,MATCH(Databackup!A237,Employee_Name,0))))","v":""},{"$f":"IF(ISERROR(INDEX('Employee Data'!$F$4:$F$553,MATCH(Databackup!A237,Employee_Name,0),0)),\"\",(INDEX('Employee Data'!$F$4:$F$553,MATCH(Databackup!A237,Employee_Name,0))))","v":""},{"$f":"IF(ISERROR(INDEX('Employee Data'!$G$4:$G$553,MATCH(Databackup!A237,Employee_Name,0),0)),\"\",(INDEX('Employee Data'!$G$4:$G$553,MATCH(Databackup!A237,Employee_Name,0))))","v":""},{"$f":"IF(ISERROR(INDEX('Employee Data'!$H$4:$H$553,MATCH(Databackup!A237,Employee_Name,0),0)),\"\",(INDEX('Employee Data'!$H$4:$H$553,MATCH(Databackup!A237,Employee_Name,0))))","v":""},{"$f":"IF(ISERROR(INDEX('Employee Data'!$I$4:$I$553,MATCH(Databackup!A237,Employee_Name,0),0)),\"\",(INDEX('Employee Data'!$I$4:$I$553,MATCH(Databackup!A237,Employee_Name,0))))","v":""},{"$f":"IF(ISERROR(INDEX('Employee Data'!$J$4:$J$553,MATCH(Databackup!A237,Employee_Name,0),0)),\"\",(INDEX('Employee Data'!J$4:$J$553,MATCH(Databackup!A237,Employee_Name,0))))","v":""},{"$f":"IF(ISERROR(INDEX('Employee Data'!$K$4:$K$553,MATCH(Databackup!A237,Employee_Name,0),0)),\"\",(INDEX('Employee Data'!$K$4:$K$553,MATCH(Databackup!A237,Employee_Name,0))))","v":""},{"$f":"IF(ISERROR(INDEX('Employee Data'!$L$4:$L$553,MATCH(Databackup!A237,Employee_Name,0),0)),\"\",(INDEX('Employee Data'!$L$4:$L$553,MATCH(Databackup!A237,Employee_Name,0))))","v":""},{"$f":"IF(ISERROR(INDEX('Employee Data'!$M$4:$M$553,MATCH(Databackup!A237,Employee_Name,0),0)),\"\",(INDEX('Employee Data'!$M$4:$M$553,MATCH(Databackup!A237,Employee_Name,0))))","v":""},{"$f":"IF(ISERROR(INDEX('Employee Data'!$N$4:$N$553,MATCH(Databackup!A237,Employee_Name,0),0)),\"\",(INDEX('Employee Data'!$N$4:$N$553,MATCH(Databackup!A237,Employee_Name,0))))","v":""},{"$f":"IF(ISERROR(INDEX('Employee Data'!$O$4:$O$553,MATCH(Databackup!A237,Employee_Name,0),0)),\"\",(INDEX('Employee Data'!$O$4:$O$553,MATCH(Databackup!A237,Employee_Name,0))))","v":""}]
[{"$f":"INDEX(Employee_Name,MATCH(SMALL(IF($A$1='Employee Data'!$I$4:$I$553,'Employee Data'!$B$4:$B$553,\"\"),ROW('Employee Data'!A236)),IF($A$1='Employee Data'!$I$4:$I$553,'Employee Data'!$B$4:$B$553,\"\"),0))","v":{"$error":"#NUM!"}},{"$f":"IF(ISERROR(INDEX('Employee Data'!$B$4:$B$553,MATCH(Databackup!A238,Employee_Name,0),0)),\"\",(INDEX('Employee Data'!$B$4:$B$553,MATCH(Databackup!A238,Employee_Name,0))))","v":""},{"$f":"IF(ISERROR(INDEX('Employee Data'!$C$4:$C$553,MATCH(Databackup!A238,Employee_Name,0),0)),\"\",(INDEX('Employee Data'!$C$4:$C$553,MATCH(Databackup!A238,Employee_Name,0))))","v":""},{"$f":"IF(ISERROR(INDEX('Employee Data'!$D$4:$D$553,MATCH(Databackup!A238,Employee_Name,0),0)),\"\",(INDEX('Employee Data'!$D$4:$D$553,MATCH(Databackup!A238,Employee_Name,0))))","v":""},{"$f":"IF(ISERROR(INDEX('Employee Data'!$F$4:$F$553,MATCH(Databackup!A238,Employee_Name,0),0)),\"\",(INDEX('Employee Data'!$F$4:$F$553,MATCH(Databackup!A238,Employee_Name,0))))","v":""},{"$f":"IF(ISERROR(INDEX('Employee Data'!$G$4:$G$553,MATCH(Databackup!A238,Employee_Name,0),0)),\"\",(INDEX('Employee Data'!$G$4:$G$553,MATCH(Databackup!A238,Employee_Name,0))))","v":""},{"$f":"IF(ISERROR(INDEX('Employee Data'!$H$4:$H$553,MATCH(Databackup!A238,Employee_Name,0),0)),\"\",(INDEX('Employee Data'!$H$4:$H$553,MATCH(Databackup!A238,Employee_Name,0))))","v":""},{"$f":"IF(ISERROR(INDEX('Employee Data'!$I$4:$I$553,MATCH(Databackup!A238,Employee_Name,0),0)),\"\",(INDEX('Employee Data'!$I$4:$I$553,MATCH(Databackup!A238,Employee_Name,0))))","v":""},{"$f":"IF(ISERROR(INDEX('Employee Data'!$J$4:$J$553,MATCH(Databackup!A238,Employee_Name,0),0)),\"\",(INDEX('Employee Data'!J$4:$J$553,MATCH(Databackup!A238,Employee_Name,0))))","v":""},{"$f":"IF(ISERROR(INDEX('Employee Data'!$K$4:$K$553,MATCH(Databackup!A238,Employee_Name,0),0)),\"\",(INDEX('Employee Data'!$K$4:$K$553,MATCH(Databackup!A238,Employee_Name,0))))","v":""},{"$f":"IF(ISERROR(INDEX('Employee Data'!$L$4:$L$553,MATCH(Databackup!A238,Employee_Name,0),0)),\"\",(INDEX('Employee Data'!$L$4:$L$553,MATCH(Databackup!A238,Employee_Name,0))))","v":""},{"$f":"IF(ISERROR(INDEX('Employee Data'!$M$4:$M$553,MATCH(Databackup!A238,Employee_Name,0),0)),\"\",(INDEX('Employee Data'!$M$4:$M$553,MATCH(Databackup!A238,Employee_Name,0))))","v":""},{"$f":"IF(ISERROR(INDEX('Employee Data'!$N$4:$N$553,MATCH(Databackup!A238,Employee_Name,0),0)),\"\",(INDEX('Employee Data'!$N$4:$N$553,MATCH(Databackup!A238,Employee_Name,0))))","v":""},{"$f":"IF(ISERROR(INDEX('Employee Data'!$O$4:$O$553,MATCH(Databackup!A238,Employee_Name,0),0)),\"\",(INDEX('Employee Data'!$O$4:$O$553,MATCH(Databackup!A238,Employee_Name,0))))","v":""}]
[{"$f":"INDEX(Employee_Name,MATCH(SMALL(IF($A$1='Employee Data'!$I$4:$I$553,'Employee Data'!$B$4:$B$553,\"\"),ROW('Employee Data'!A237)),IF($A$1='Employee Data'!$I$4:$I$553,'Employee Data'!$B$4:$B$553,\"\"),0))","v":{"$error":"#NUM!"}},{"$f":"IF(ISERROR(INDEX('Employee Data'!$B$4:$B$553,MATCH(Databackup!A239,Employee_Name,0),0)),\"\",(INDEX('Employee Data'!$B$4:$B$553,MATCH(Databackup!A239,Employee_Name,0))))","v":""},{"$f":"IF(ISERROR(INDEX('Employee Data'!$C$4:$C$553,MATCH(Databackup!A239,Employee_Name,0),0)),\"\",(INDEX('Employee Data'!$C$4:$C$553,MATCH(Databackup!A239,Employee_Name,0))))","v":""},{"$f":"IF(ISERROR(INDEX('Employee Data'!$D$4:$D$553,MATCH(Databackup!A239,Employee_Name,0),0)),\"\",(INDEX('Employee Data'!$D$4:$D$553,MATCH(Databackup!A239,Employee_Name,0))))","v":""},{"$f":"IF(ISERROR(INDEX('Employee Data'!$F$4:$F$553,MATCH(Databackup!A239,Employee_Name,0),0)),\"\",(INDEX('Employee Data'!$F$4:$F$553,MATCH(Databackup!A239,Employee_Name,0))))","v":""},{"$f":"IF(ISERROR(INDEX('Employee Data'!$G$4:$G$553,MATCH(Databackup!A239,Employee_Name,0),0)),\"\",(INDEX('Employee Data'!$G$4:$G$553,MATCH(Databackup!A239,Employee_Name,0))))","v":""},{"$f":"IF(ISERROR(INDEX('Employee Data'!$H$4:$H$553,MATCH(Databackup!A239,Employee_Name,0),0)),\"\",(INDEX('Employee Data'!$H$4:$H$553,MATCH(Databackup!A239,Employee_Name,0))))","v":""},{"$f":"IF(ISERROR(INDEX('Employee Data'!$I$4:$I$553,MATCH(Databackup!A239,Employee_Name,0),0)),\"\",(INDEX('Employee Data'!$I$4:$I$553,MATCH(Databackup!A239,Employee_Name,0))))","v":""},{"$f":"IF(ISERROR(INDEX('Employee Data'!$J$4:$J$553,MATCH(Databackup!A239,Employee_Name,0),0)),\"\",(INDEX('Employee Data'!J$4:$J$553,MATCH(Databackup!A239,Employee_Name,0))))","v":""},{"$f":"IF(ISERROR(INDEX('Employee Data'!$K$4:$K$553,MATCH(Databackup!A239,Employee_Name,0),0)),\"\",(INDEX('Employee Data'!$K$4:$K$553,MATCH(Databackup!A239,Employee_Name,0))))","v":""},{"$f":"IF(ISERROR(INDEX('Employee Data'!$L$4:$L$553,MATCH(Databackup!A239,Employee_Name,0),0)),\"\",(INDEX('Employee Data'!$L$4:$L$553,MATCH(Databackup!A239,Employee_Name,0))))","v":""},{"$f":"IF(ISERROR(INDEX('Employee Data'!$M$4:$M$553,MATCH(Databackup!A239,Employee_Name,0),0)),\"\",(INDEX('Employee Data'!$M$4:$M$553,MATCH(Databackup!A239,Employee_Name,0))))","v":""},{"$f":"IF(ISERROR(INDEX('Employee Data'!$N$4:$N$553,MATCH(Databackup!A239,Employee_Name,0),0)),\"\",(INDEX('Employee Data'!$N$4:$N$553,MATCH(Databackup!A239,Employee_Name,0))))","v":""},{"$f":"IF(ISERROR(INDEX('Employee Data'!$O$4:$O$553,MATCH(Databackup!A239,Employee_Name,0),0)),\"\",(INDEX('Employee Data'!$O$4:$O$553,MATCH(Databackup!A239,Employee_Name,0))))","v":""}]
[{"$f":"INDEX(Employee_Name,MATCH(SMALL(IF($A$1='Employee Data'!$I$4:$I$553,'Employee Data'!$B$4:$B$553,\"\"),ROW('Employee Data'!A238)),IF($A$1='Employee Data'!$I$4:$I$553,'Employee Data'!$B$4:$B$553,\"\"),0))","v":{"$error":"#NUM!"}},{"$f":"IF(ISERROR(INDEX('Employee Data'!$B$4:$B$553,MATCH(Databackup!A240,Employee_Name,0),0)),\"\",(INDEX('Employee Data'!$B$4:$B$553,MATCH(Databackup!A240,Employee_Name,0))))","v":""},{"$f":"IF(ISERROR(INDEX('Employee Data'!$C$4:$C$553,MATCH(Databackup!A240,Employee_Name,0),0)),\"\",(INDEX('Employee Data'!$C$4:$C$553,MATCH(Databackup!A240,Employee_Name,0))))","v":""},{"$f":"IF(ISERROR(INDEX('Employee Data'!$D$4:$D$553,MATCH(Databackup!A240,Employee_Name,0),0)),\"\",(INDEX('Employee Data'!$D$4:$D$553,MATCH(Databackup!A240,Employee_Name,0))))","v":""},{"$f":"IF(ISERROR(INDEX('Employee Data'!$F$4:$F$553,MATCH(Databackup!A240,Employee_Name,0),0)),\"\",(INDEX('Employee Data'!$F$4:$F$553,MATCH(Databackup!A240,Employee_Name,0))))","v":""},{"$f":"IF(ISERROR(INDEX('Employee Data'!$G$4:$G$553,MATCH(Databackup!A240,Employee_Name,0),0)),\"\",(INDEX('Employee Data'!$G$4:$G$553,MATCH(Databackup!A240,Employee_Name,0))))","v":""},{"$f":"IF(ISERROR(INDEX('Employee Data'!$H$4:$H$553,MATCH(Databackup!A240,Employee_Name,0),0)),\"\",(INDEX('Employee Data'!$H$4:$H$553,MATCH(Databackup!A240,Employee_Name,0))))","v":""},{"$f":"IF(ISERROR(INDEX('Employee Data'!$I$4:$I$553,MATCH(Databackup!A240,Employee_Name,0),0)),\"\",(INDEX('Employee Data'!$I$4:$I$553,MATCH(Databackup!A240,Employee_Name,0))))","v":""},{"$f":"IF(ISERROR(INDEX('Employee Data'!$J$4:$J$553,MATCH(Databackup!A240,Employee_Name,0),0)),\"\",(INDEX('Employee Data'!J$4:$J$553,MATCH(Databackup!A240,Employee_Name,0))))","v":""},{"$f":"IF(ISERROR(INDEX('Employee Data'!$K$4:$K$553,MATCH(Databackup!A240,Employee_Name,0),0)),\"\",(INDEX('Employee Data'!$K$4:$K$553,MATCH(Databackup!A240,Employee_Name,0))))","v":""},{"$f":"IF(ISERROR(INDEX('Employee Data'!$L$4:$L$553,MATCH(Databackup!A240,Employee_Name,0),0)),\"\",(INDEX('Employee Data'!$L$4:$L$553,MATCH(Databackup!A240,Employee_Name,0))))","v":""},{"$f":"IF(ISERROR(INDEX('Employee Data'!$M$4:$M$553,MATCH(Databackup!A240,Employee_Name,0),0)),\"\",(INDEX('Employee Data'!$M$4:$M$553,MATCH(Databackup!A240,Employee_Name,0))))","v":""},{"$f":"IF(ISERROR(INDEX('Employee Data'!$N$4:$N$553,MATCH(Databackup!A240,Employee_Name,0),0)),\"\",(INDEX('Employee Data'!$N$4:$N$553,MATCH(Databackup!A240,Employee_Name,0))))","v":""},{"$f":"IF(ISERROR(INDEX('Employee Data'!$O$4:$O$553,MATCH(Databackup!A240,Employee_Name,0),0)),\"\",(INDEX('Employee Data'!$O$4:$O$553,MATCH(Databackup!A240,Employee_Name,0))))","v":""}]
[{"$f":"INDEX(Employee_Name,MATCH(SMALL(IF($A$1='Employee Data'!$I$4:$I$553,'Employee Data'!$B$4:$B$553,\"\"),ROW('Employee Data'!A239)),IF($A$1='Employee Data'!$I$4:$I$553,'Employee Data'!$B$4:$B$553,\"\"),0))","v":{"$error":"#NUM!"}},{"$f":"IF(ISERROR(INDEX('Employee Data'!$B$4:$B$553,MATCH(Databackup!A241,Employee_Name,0),0)),\"\",(INDEX('Employee Data'!$B$4:$B$553,MATCH(Databackup!A241,Employee_Name,0))))","v":""},{"$f":"IF(ISERROR(INDEX('Employee Data'!$C$4:$C$553,MATCH(Databackup!A241,Employee_Name,0),0)),\"\",(INDEX('Employee Data'!$C$4:$C$553,MATCH(Databackup!A241,Employee_Name,0))))","v":""},{"$f":"IF(ISERROR(INDEX('Employee Data'!$D$4:$D$553,MATCH(Databackup!A241,Employee_Name,0),0)),\"\",(INDEX('Employee Data'!$D$4:$D$553,MATCH(Databackup!A241,Employee_Name,0))))","v":""},{"$f":"IF(ISERROR(INDEX('Employee Data'!$F$4:$F$553,MATCH(Databackup!A241,Employee_Name,0),0)),\"\",(INDEX('Employee Data'!$F$4:$F$553,MATCH(Databackup!A241,Employee_Name,0))))","v":""},{"$f":"IF(ISERROR(INDEX('Employee Data'!$G$4:$G$553,MATCH(Databackup!A241,Employee_Name,0),0)),\"\",(INDEX('Employee Data'!$G$4:$G$553,MATCH(Databackup!A241,Employee_Name,0))))","v":""},{"$f":"IF(ISERROR(INDEX('Employee Data'!$H$4:$H$553,MATCH(Databackup!A241,Employee_Name,0),0)),\"\",(INDEX('Employee Data'!$H$4:$H$553,MATCH(Databackup!A241,Employee_Name,0))))","v":""},{"$f":"IF(ISERROR(INDEX('Employee Data'!$I$4:$I$553,MATCH(Databackup!A241,Employee_Name,0),0)),\"\",(INDEX('Employee Data'!$I$4:$I$553,MATCH(Databackup!A241,Employee_Name,0))))","v":""},{"$f":"IF(ISERROR(INDEX('Employee Data'!$J$4:$J$553,MATCH(Databackup!A241,Employee_Name,0),0)),\"\",(INDEX('Employee Data'!J$4:$J$553,MATCH(Databackup!A241,Employee_Name,0))))","v":""},{"$f":"IF(ISERROR(INDEX('Employee Data'!$K$4:$K$553,MATCH(Databackup!A241,Employee_Name,0),0)),\"\",(INDEX('Employee Data'!$K$4:$K$553,MATCH(Databackup!A241,Employee_Name,0))))","v":""},{"$f":"IF(ISERROR(INDEX('Employee Data'!$L$4:$L$553,MATCH(Databackup!A241,Employee_Name,0),0)),\"\",(INDEX('Employee Data'!$L$4:$L$553,MATCH(Databackup!A241,Employee_Name,0))))","v":""},{"$f":"IF(ISERROR(INDEX('Employee Data'!$M$4:$M$553,MATCH(Databackup!A241,Employee_Name,0),0)),\"\",(INDEX('Employee Data'!$M$4:$M$553,MATCH(Databackup!A241,Employee_Name,0))))","v":""},{"$f":"IF(ISERROR(INDEX('Employee Data'!$N$4:$N$553,MATCH(Databackup!A241,Employee_Name,0),0)),\"\",(INDEX('Employee Data'!$N$4:$N$553,MATCH(Databackup!A241,Employee_Name,0))))","v":""},{"$f":"IF(ISERROR(INDEX('Employee Data'!$O$4:$O$553,MATCH(Databackup!A241,Employee_Name,0),0)),\"\",(INDEX('Employee Data'!$O$4:$O$553,MATCH(Databackup!A241,Employee_Name,0))))","v":""}]
[{"$f":"INDEX(Employee_Name,MATCH(SMALL(IF($A$1='Employee Data'!$I$4:$I$553,'Employee Data'!$B$4:$B$553,\"\"),ROW('Employee Data'!A240)),IF($A$1='Employee Data'!$I$4:$I$553,'Employee Data'!$B$4:$B$553,\"\"),0))","v":{"$error":"#NUM!"}},{"$f":"IF(ISERROR(INDEX('Employee Data'!$B$4:$B$553,MATCH(Databackup!A242,Employee_Name,0),0)),\"\",(INDEX('Employee Data'!$B$4:$B$553,MATCH(Databackup!A242,Employee_Name,0))))","v":""},{"$f":"IF(ISERROR(INDEX('Employee Data'!$C$4:$C$553,MATCH(Databackup!A242,Employee_Name,0),0)),\"\",(INDEX('Employee Data'!$C$4:$C$553,MATCH(Databackup!A242,Employee_Name,0))))","v":""},{"$f":"IF(ISERROR(INDEX('Employee Data'!$D$4:$D$553,MATCH(Databackup!A242,Employee_Name,0),0)),\"\",(INDEX('Employee Data'!$D$4:$D$553,MATCH(Databackup!A242,Employee_Name,0))))","v":""},{"$f":"IF(ISERROR(INDEX('Employee Data'!$F$4:$F$553,MATCH(Databackup!A242,Employee_Name,0),0)),\"\",(INDEX('Employee Data'!$F$4:$F$553,MATCH(Databackup!A242,Employee_Name,0))))","v":""},{"$f":"IF(ISERROR(INDEX('Employee Data'!$G$4:$G$553,MATCH(Databackup!A242,Employee_Name,0),0)),\"\",(INDEX('Employee Data'!$G$4:$G$553,MATCH(Databackup!A242,Employee_Name,0))))","v":""},{"$f":"IF(ISERROR(INDEX('Employee Data'!$H$4:$H$553,MATCH(Databackup!A242,Employee_Name,0),0)),\"\",(INDEX('Employee Data'!$H$4:$H$553,MATCH(Databackup!A242,Employee_Name,0))))","v":""},{"$f":"IF(ISERROR(INDEX('Employee Data'!$I$4:$I$553,MATCH(Databackup!A242,Employee_Name,0),0)),\"\",(INDEX('Employee Data'!$I$4:$I$553,MATCH(Databackup!A242,Employee_Name,0))))","v":""},{"$f":"IF(ISERROR(INDEX('Employee Data'!$J$4:$J$553,MATCH(Databackup!A242,Employee_Name,0),0)),\"\",(INDEX('Employee Data'!J$4:$J$553,MATCH(Databackup!A242,Employee_Name,0))))","v":""},{"$f":"IF(ISERROR(INDEX('Employee Data'!$K$4:$K$553,MATCH(Databackup!A242,Employee_Name,0),0)),\"\",(INDEX('Employee Data'!$K$4:$K$553,MATCH(Databackup!A242,Employee_Name,0))))","v":""},{"$f":"IF(ISERROR(INDEX('Employee Data'!$L$4:$L$553,MATCH(Databackup!A242,Employee_Name,0),0)),\"\",(INDEX('Employee Data'!$L$4:$L$553,MATCH(Databackup!A242,Employee_Name,0))))","v":""},{"$f":"IF(ISERROR(INDEX('Employee Data'!$M$4:$M$553,MATCH(Databackup!A242,Employee_Name,0),0)),\"\",(INDEX('Employee Data'!$M$4:$M$553,MATCH(Databackup!A242,Employee_Name,0))))","v":""},{"$f":"IF(ISERROR(INDEX('Employee Data'!$N$4:$N$553,MATCH(Databackup!A242,Employee_Name,0),0)),\"\",(INDEX('Employee Data'!$N$4:$N$553,MATCH(Databackup!A242,Employee_Name,0))))","v":""},{"$f":"IF(ISERROR(INDEX('Employee Data'!$O$4:$O$553,MATCH(Databackup!A242,Employee_Name,0),0)),\"\",(INDEX('Employee Data'!$O$4:$O$553,MATCH(Databackup!A242,Employee_Name,0))))","v":""}]
[{"$f":"INDEX(Employee_Name,MATCH(SMALL(IF($A$1='Employee Data'!$I$4:$I$553,'Employee Data'!$B$4:$B$553,\"\"),ROW('Employee Data'!A241)),IF($A$1='Employee Data'!$I$4:$I$553,'Employee Data'!$B$4:$B$553,\"\"),0))","v":{"$error":"#NUM!"}},{"$f":"IF(ISERROR(INDEX('Employee Data'!$B$4:$B$553,MATCH(Databackup!A243,Employee_Name,0),0)),\"\",(INDEX('Employee Data'!$B$4:$B$553,MATCH(Databackup!A243,Employee_Name,0))))","v":""},{"$f":"IF(ISERROR(INDEX('Employee Data'!$C$4:$C$553,MATCH(Databackup!A243,Employee_Name,0),0)),\"\",(INDEX('Employee Data'!$C$4:$C$553,MATCH(Databackup!A243,Employee_Name,0))))","v":""},{"$f":"IF(ISERROR(INDEX('Employee Data'!$D$4:$D$553,MATCH(Databackup!A243,Employee_Name,0),0)),\"\",(INDEX('Employee Data'!$D$4:$D$553,MATCH(Databackup!A243,Employee_Name,0))))","v":""},{"$f":"IF(ISERROR(INDEX('Employee Data'!$F$4:$F$553,MATCH(Databackup!A243,Employee_Name,0),0)),\"\",(INDEX('Employee Data'!$F$4:$F$553,MATCH(Databackup!A243,Employee_Name,0))))","v":""},{"$f":"IF(ISERROR(INDEX('Employee Data'!$G$4:$G$553,MATCH(Databackup!A243,Employee_Name,0),0)),\"\",(INDEX('Employee Data'!$G$4:$G$553,MATCH(Databackup!A243,Employee_Name,0))))","v":""},{"$f":"IF(ISERROR(INDEX('Employee Data'!$H$4:$H$553,MATCH(Databackup!A243,Employee_Name,0),0)),\"\",(INDEX('Employee Data'!$H$4:$H$553,MATCH(Databackup!A243,Employee_Name,0))))","v":""},{"$f":"IF(ISERROR(INDEX('Employee Data'!$I$4:$I$553,MATCH(Databackup!A243,Employee_Name,0),0)),\"\",(INDEX('Employee Data'!$I$4:$I$553,MATCH(Databackup!A243,Employee_Name,0))))","v":""},{"$f":"IF(ISERROR(INDEX('Employee Data'!$J$4:$J$553,MATCH(Databackup!A243,Employee_Name,0),0)),\"\",(INDEX('Employee Data'!J$4:$J$553,MATCH(Databackup!A243,Employee_Name,0))))","v":""},{"$f":"IF(ISERROR(INDEX('Employee Data'!$K$4:$K$553,MATCH(Databackup!A243,Employee_Name,0),0)),\"\",(INDEX('Employee Data'!$K$4:$K$553,MATCH(Databackup!A243,Employee_Name,0))))","v":""},{"$f":"IF(ISERROR(INDEX('Employee Data'!$L$4:$L$553,MATCH(Databackup!A243,Employee_Name,0),0)),\"\",(INDEX('Employee Data'!$L$4:$L$553,MATCH(Databackup!A243,Employee_Name,0))))","v":""},{"$f":"IF(ISERROR(INDEX('Employee Data'!$M$4:$M$553,MATCH(Databackup!A243,Employee_Name,0),0)),\"\",(INDEX('Employee Data'!$M$4:$M$553,MATCH(Databackup!A243,Employee_Name,0))))","v":""},{"$f":"IF(ISERROR(INDEX('Employee Data'!$N$4:$N$553,MATCH(Databackup!A243,Employee_Name,0),0)),\"\",(INDEX('Employee Data'!$N$4:$N$553,MATCH(Databackup!A243,Employee_Name,0))))","v":""},{"$f":"IF(ISERROR(INDEX('Employee Data'!$O$4:$O$553,MATCH(Databackup!A243,Employee_Name,0),0)),\"\",(INDEX('Employee Data'!$O$4:$O$553,MATCH(Databackup!A243,Employee_Name,0))))","v":""}]
[{"$f":"INDEX(Employee_Name,MATCH(SMALL(IF($A$1='Employee Data'!$I$4:$I$553,'Employee Data'!$B$4:$B$553,\"\"),ROW('Employee Data'!A242)),IF($A$1='Employee Data'!$I$4:$I$553,'Employee Data'!$B$4:$B$553,\"\"),0))","v":{"$error":"#NUM!"}},{"$f":"IF(ISERROR(INDEX('Employee Data'!$B$4:$B$553,MATCH(Databackup!A244,Employee_Name,0),0)),\"\",(INDEX('Employee Data'!$B$4:$B$553,MATCH(Databackup!A244,Employee_Name,0))))","v":""},{"$f":"IF(ISERROR(INDEX('Employee Data'!$C$4:$C$553,MATCH(Databackup!A244,Employee_Name,0),0)),\"\",(INDEX('Employee Data'!$C$4:$C$553,MATCH(Databackup!A244,Employee_Name,0))))","v":""},{"$f":"IF(ISERROR(INDEX('Employee Data'!$D$4:$D$553,MATCH(Databackup!A244,Employee_Name,0),0)),\"\",(INDEX('Employee Data'!$D$4:$D$553,MATCH(Databackup!A244,Employee_Name,0))))","v":""},{"$f":"IF(ISERROR(INDEX('Employee Data'!$F$4:$F$553,MATCH(Databackup!A244,Employee_Name,0),0)),\"\",(INDEX('Employee Data'!$F$4:$F$553,MATCH(Databackup!A244,Employee_Name,0))))","v":""},{"$f":"IF(ISERROR(INDEX('Employee Data'!$G$4:$G$553,MATCH(Databackup!A244,Employee_Name,0),0)),\"\",(INDEX('Employee Data'!$G$4:$G$553,MATCH(Databackup!A244,Employee_Name,0))))","v":""},{"$f":"IF(ISERROR(INDEX('Employee Data'!$H$4:$H$553,MATCH(Databackup!A244,Employee_Name,0),0)),\"\",(INDEX('Employee Data'!$H$4:$H$553,MATCH(Databackup!A244,Employee_Name,0))))","v":""},{"$f":"IF(ISERROR(INDEX('Employee Data'!$I$4:$I$553,MATCH(Databackup!A244,Employee_Name,0),0)),\"\",(INDEX('Employee Data'!$I$4:$I$553,MATCH(Databackup!A244,Employee_Name,0))))","v":""},{"$f":"IF(ISERROR(INDEX('Employee Data'!$J$4:$J$553,MATCH(Databackup!A244,Employee_Name,0),0)),\"\",(INDEX('Employee Data'!J$4:$J$553,MATCH(Databackup!A244,Employee_Name,0))))","v":""},{"$f":"IF(ISERROR(INDEX('Employee Data'!$K$4:$K$553,MATCH(Databackup!A244,Employee_Name,0),0)),\"\",(INDEX('Employee Data'!$K$4:$K$553,MATCH(Databackup!A244,Employee_Name,0))))","v":""},{"$f":"IF(ISERROR(INDEX('Employee Data'!$L$4:$L$553,MATCH(Databackup!A244,Employee_Name,0),0)),\"\",(INDEX('Employee Data'!$L$4:$L$553,MATCH(Databackup!A244,Employee_Name,0))))","v":""},{"$f":"IF(ISERROR(INDEX('Employee Data'!$M$4:$M$553,MATCH(Databackup!A244,Employee_Name,0),0)),\"\",(INDEX('Employee Data'!$M$4:$M$553,MATCH(Databackup!A244,Employee_Name,0))))","v":""},{"$f":"IF(ISERROR(INDEX('Employee Data'!$N$4:$N$553,MATCH(Databackup!A244,Employee_Name,0),0)),\"\",(INDEX('Employee Data'!$N$4:$N$553,MATCH(Databackup!A244,Employee_Name,0))))","v":""},{"$f":"IF(ISERROR(INDEX('Employee Data'!$O$4:$O$553,MATCH(Databackup!A244,Employee_Name,0),0)),\"\",(INDEX('Employee Data'!$O$4:$O$553,MATCH(Databackup!A244,Employee_Name,0))))","v":""}]
[{"$f":"INDEX(Employee_Name,MATCH(SMALL(IF($A$1='Employee Data'!$I$4:$I$553,'Employee Data'!$B$4:$B$553,\"\"),ROW('Employee Data'!A243)),IF($A$1='Employee Data'!$I$4:$I$553,'Employee Data'!$B$4:$B$553,\"\"),0))","v":{"$error":"#NUM!"}},{"$f":"IF(ISERROR(INDEX('Employee Data'!$B$4:$B$553,MATCH(Databackup!A245,Employee_Name,0),0)),\"\",(INDEX('Employee Data'!$B$4:$B$553,MATCH(Databackup!A245,Employee_Name,0))))","v":""},{"$f":"IF(ISERROR(INDEX('Employee Data'!$C$4:$C$553,MATCH(Databackup!A245,Employee_Name,0),0)),\"\",(INDEX('Employee Data'!$C$4:$C$553,MATCH(Databackup!A245,Employee_Name,0))))","v":""},{"$f":"IF(ISERROR(INDEX('Employee Data'!$D$4:$D$553,MATCH(Databackup!A245,Employee_Name,0),0)),\"\",(INDEX('Employee Data'!$D$4:$D$553,MATCH(Databackup!A245,Employee_Name,0))))","v":""},{"$f":"IF(ISERROR(INDEX('Employee Data'!$F$4:$F$553,MATCH(Databackup!A245,Employee_Name,0),0)),\"\",(INDEX('Employee Data'!$F$4:$F$553,MATCH(Databackup!A245,Employee_Name,0))))","v":""},{"$f":"IF(ISERROR(INDEX('Employee Data'!$G$4:$G$553,MATCH(Databackup!A245,Employee_Name,0),0)),\"\",(INDEX('Employee Data'!$G$4:$G$553,MATCH(Databackup!A245,Employee_Name,0))))","v":""},{"$f":"IF(ISERROR(INDEX('Employee Data'!$H$4:$H$553,MATCH(Databackup!A245,Employee_Name,0),0)),\"\",(INDEX('Employee Data'!$H$4:$H$553,MATCH(Databackup!A245,Employee_Name,0))))","v":""},{"$f":"IF(ISERROR(INDEX('Employee Data'!$I$4:$I$553,MATCH(Databackup!A245,Employee_Name,0),0)),\"\",(INDEX('Employee Data'!$I$4:$I$553,MATCH(Databackup!A245,Employee_Name,0))))","v":""},{"$f":"IF(ISERROR(INDEX('Employee Data'!$J$4:$J$553,MATCH(Databackup!A245,Employee_Name,0),0)),\"\",(INDEX('Employee Data'!J$4:$J$553,MATCH(Databackup!A245,Employee_Name,0))))","v":""},{"$f":"IF(ISERROR(INDEX('Employee Data'!$K$4:$K$553,MATCH(Databackup!A245,Employee_Name,0),0)),\"\",(INDEX('Employee Data'!$K$4:$K$553,MATCH(Databackup!A245,Employee_Name,0))))","v":""},{"$f":"IF(ISERROR(INDEX('Employee Data'!$L$4:$L$553,MATCH(Databackup!A245,Employee_Name,0),0)),\"\",(INDEX('Employee Data'!$L$4:$L$553,MATCH(Databackup!A245,Employee_Name,0))))","v":""},{"$f":"IF(ISERROR(INDEX('Employee Data'!$M$4:$M$553,MATCH(Databackup!A245,Employee_Name,0),0)),\"\",(INDEX('Employee Data'!$M$4:$M$553,MATCH(Databackup!A245,Employee_Name,0))))","v":""},{"$f":"IF(ISERROR(INDEX('Employee Data'!$N$4:$N$553,MATCH(Databackup!A245,Employee_Name,0),0)),\"\",(INDEX('Employee Data'!$N$4:$N$553,MATCH(Databackup!A245,Employee_Name,0))))","v":""},{"$f":"IF(ISERROR(INDEX('Employee Data'!$O$4:$O$553,MATCH(Databackup!A245,Employee_Name,0),0)),\"\",(INDEX('Employee Data'!$O$4:$O$553,MATCH(Databackup!A245,Employee_Name,0))))","v":""}]
[{"$f":"INDEX(Employee_Name,MATCH(SMALL(IF($A$1='Employee Data'!$I$4:$I$553,'Employee Data'!$B$4:$B$553,\"\"),ROW('Employee Data'!A244)),IF($A$1='Employee Data'!$I$4:$I$553,'Employee Data'!$B$4:$B$553,\"\"),0))","v":{"$error":"#NUM!"}},{"$f":"IF(ISERROR(INDEX('Employee Data'!$B$4:$B$553,MATCH(Databackup!A246,Employee_Name,0),0)),\"\",(INDEX('Employee Data'!$B$4:$B$553,MATCH(Databackup!A246,Employee_Name,0))))","v":""},{"$f":"IF(ISERROR(INDEX('Employee Data'!$C$4:$C$553,MATCH(Databackup!A246,Employee_Name,0),0)),\"\",(INDEX('Employee Data'!$C$4:$C$553,MATCH(Databackup!A246,Employee_Name,0))))","v":""},{"$f":"IF(ISERROR(INDEX('Employee Data'!$D$4:$D$553,MATCH(Databackup!A246,Employee_Name,0),0)),\"\",(INDEX('Employee Data'!$D$4:$D$553,MATCH(Databackup!A246,Employee_Name,0))))","v":""},{"$f":"IF(ISERROR(INDEX('Employee Data'!$F$4:$F$553,MATCH(Databackup!A246,Employee_Name,0),0)),\"\",(INDEX('Employee Data'!$F$4:$F$553,MATCH(Databackup!A246,Employee_Name,0))))","v":""},{"$f":"IF(ISERROR(INDEX('Employee Data'!$G$4:$G$553,MATCH(Databackup!A246,Employee_Name,0),0)),\"\",(INDEX('Employee Data'!$G$4:$G$553,MATCH(Databackup!A246,Employee_Name,0))))","v":""},{"$f":"IF(ISERROR(INDEX('Employee Data'!$H$4:$H$553,MATCH(Databackup!A246,Employee_Name,0),0)),\"\",(INDEX('Employee Data'!$H$4:$H$553,MATCH(Databackup!A246,Employee_Name,0))))","v":""},{"$f":"IF(ISERROR(INDEX('Employee Data'!$I$4:$I$553,MATCH(Databackup!A246,Employee_Name,0),0)),\"\",(INDEX('Employee Data'!$I$4:$I$553,MATCH(Databackup!A246,Employee_Name,0))))","v":""},{"$f":"IF(ISERROR(INDEX('Employee Data'!$J$4:$J$553,MATCH(Databackup!A246,Employee_Name,0),0)),\"\",(INDEX('Employee Data'!J$4:$J$553,MATCH(Databackup!A246,Employee_Name,0))))","v":""},{"$f":"IF(ISERROR(INDEX('Employee Data'!$K$4:$K$553,MATCH(Databackup!A246,Employee_Name,0),0)),\"\",(INDEX('Employee Data'!$K$4:$K$553,MATCH(Databackup!A246,Employee_Name,0))))","v":""},{"$f":"IF(ISERROR(INDEX('Employee Data'!$L$4:$L$553,MATCH(Databackup!A246,Employee_Name,0),0)),\"\",(INDEX('Employee Data'!$L$4:$L$553,MATCH(Databackup!A246,Employee_Name,0))))","v":""},{"$f":"IF(ISERROR(INDEX('Employee Data'!$M$4:$M$553,MATCH(Databackup!A246,Employee_Name,0),0)),\"\",(INDEX('Employee Data'!$M$4:$M$553,MATCH(Databackup!A246,Employee_Name,0))))","v":""},{"$f":"IF(ISERROR(INDEX('Employee Data'!$N$4:$N$553,MATCH(Databackup!A246,Employee_Name,0),0)),\"\",(INDEX('Employee Data'!$N$4:$N$553,MATCH(Databackup!A246,Employee_Name,0))))","v":""},{"$f":"IF(ISERROR(INDEX('Employee Data'!$O$4:$O$553,MATCH(Databackup!A246,Employee_Name,0),0)),\"\",(INDEX('Employee Data'!$O$4:$O$553,MATCH(Databackup!A246,Employee_Name,0))))","v":""}]
[{"$f":"INDEX(Employee_Name,MATCH(SMALL(IF($A$1='Employee Data'!$I$4:$I$553,'Employee Data'!$B$4:$B$553,\"\"),ROW('Employee Data'!A245)),IF($A$1='Employee Data'!$I$4:$I$553,'Employee Data'!$B$4:$B$553,\"\"),0))","v":{"$error":"#NUM!"}},{"$f":"IF(ISERROR(INDEX('Employee Data'!$B$4:$B$553,MATCH(Databackup!A247,Employee_Name,0),0)),\"\",(INDEX('Employee Data'!$B$4:$B$553,MATCH(Databackup!A247,Employee_Name,0))))","v":""},{"$f":"IF(ISERROR(INDEX('Employee Data'!$C$4:$C$553,MATCH(Databackup!A247,Employee_Name,0),0)),\"\",(INDEX('Employee Data'!$C$4:$C$553,MATCH(Databackup!A247,Employee_Name,0))))","v":""},{"$f":"IF(ISERROR(INDEX('Employee Data'!$D$4:$D$553,MATCH(Databackup!A247,Employee_Name,0),0)),\"\",(INDEX('Employee Data'!$D$4:$D$553,MATCH(Databackup!A247,Employee_Name,0))))","v":""},{"$f":"IF(ISERROR(INDEX('Employee Data'!$F$4:$F$553,MATCH(Databackup!A247,Employee_Name,0),0)),\"\",(INDEX('Employee Data'!$F$4:$F$553,MATCH(Databackup!A247,Employee_Name,0))))","v":""},{"$f":"IF(ISERROR(INDEX('Employee Data'!$G$4:$G$553,MATCH(Databackup!A247,Employee_Name,0),0)),\"\",(INDEX('Employee Data'!$G$4:$G$553,MATCH(Databackup!A247,Employee_Name,0))))","v":""},{"$f":"IF(ISERROR(INDEX('Employee Data'!$H$4:$H$553,MATCH(Databackup!A247,Employee_Name,0),0)),\"\",(INDEX('Employee Data'!$H$4:$H$553,MATCH(Databackup!A247,Employee_Name,0))))","v":""},{"$f":"IF(ISERROR(INDEX('Employee Data'!$I$4:$I$553,MATCH(Databackup!A247,Employee_Name,0),0)),\"\",(INDEX('Employee Data'!$I$4:$I$553,MATCH(Databackup!A247,Employee_Name,0))))","v":""},{"$f":"IF(ISERROR(INDEX('Employee Data'!$J$4:$J$553,MATCH(Databackup!A247,Employee_Name,0),0)),\"\",(INDEX('Employee Data'!J$4:$J$553,MATCH(Databackup!A247,Employee_Name,0))))","v":""},{"$f":"IF(ISERROR(INDEX('Employee Data'!$K$4:$K$553,MATCH(Databackup!A247,Employee_Name,0),0)),\"\",(INDEX('Employee Data'!$K$4:$K$553,MATCH(Databackup!A247,Employee_Name,0))))","v":""},{"$f":"IF(ISERROR(INDEX('Employee Data'!$L$4:$L$553,MATCH(Databackup!A247,Employee_Name,0),0)),\"\",(INDEX('Employee Data'!$L$4:$L$553,MATCH(Databackup!A247,Employee_Name,0))))","v":""},{"$f":"IF(ISERROR(INDEX('Employee Data'!$M$4:$M$553,MATCH(Databackup!A247,Employee_Name,0),0)),\"\",(INDEX('Employee Data'!$M$4:$M$553,MATCH(Databackup!A247,Employee_Name,0))))","v":""},{"$f":"IF(ISERROR(INDEX('Employee Data'!$N$4:$N$553,MATCH(Databackup!A247,Employee_Name,0),0)),\"\",(INDEX('Employee Data'!$N$4:$N$553,MATCH(Databackup!A247,Employee_Name,0))))","v":""},{"$f":"IF(ISERROR(INDEX('Employee Data'!$O$4:$O$553,MATCH(Databackup!A247,Employee_Name,0),0)),\"\",(INDEX('Employee Data'!$O$4:$O$553,MATCH(Databackup!A247,Employee_Name,0))))","v":""}]
[{"$f":"INDEX(Employee_Name,MATCH(SMALL(IF($A$1='Employee Data'!$I$4:$I$553,'Employee Data'!$B$4:$B$553,\"\"),ROW('Employee Data'!A246)),IF($A$1='Employee Data'!$I$4:$I$553,'Employee Data'!$B$4:$B$553,\"\"),0))","v":{"$error":"#NUM!"}},{"$f":"IF(ISERROR(INDEX('Employee Data'!$B$4:$B$553,MATCH(Databackup!A248,Employee_Name,0),0)),\"\",(INDEX('Employee Data'!$B$4:$B$553,MATCH(Databackup!A248,Employee_Name,0))))","v":""},{"$f":"IF(ISERROR(INDEX('Employee Data'!$C$4:$C$553,MATCH(Databackup!A248,Employee_Name,0),0)),\"\",(INDEX('Employee Data'!$C$4:$C$553,MATCH(Databackup!A248,Employee_Name,0))))","v":""},{"$f":"IF(ISERROR(INDEX('Employee Data'!$D$4:$D$553,MATCH(Databackup!A248,Employee_Name,0),0)),\"\",(INDEX('Employee Data'!$D$4:$D$553,MATCH(Databackup!A248,Employee_Name,0))))","v":""},{"$f":"IF(ISERROR(INDEX('Employee Data'!$F$4:$F$553,MATCH(Databackup!A248,Employee_Name,0),0)),\"\",(INDEX('Employee Data'!$F$4:$F$553,MATCH(Databackup!A248,Employee_Name,0))))","v":""},{"$f":"IF(ISERROR(INDEX('Employee Data'!$G$4:$G$553,MATCH(Databackup!A248,Employee_Name,0),0)),\"\",(INDEX('Employee Data'!$G$4:$G$553,MATCH(Databackup!A248,Employee_Name,0))))","v":""},{"$f":"IF(ISERROR(INDEX('Employee Data'!$H$4:$H$553,MATCH(Databackup!A248,Employee_Name,0),0)),\"\",(INDEX('Employee Data'!$H$4:$H$553,MATCH(Databackup!A248,Employee_Name,0))))","v":""},{"$f":"IF(ISERROR(INDEX('Employee Data'!$I$4:$I$553,MATCH(Databackup!A248,Employee_Name,0),0)),\"\",(INDEX('Employee Data'!$I$4:$I$553,MATCH(Databackup!A248,Employee_Name,0))))","v":""},{"$f":"IF(ISERROR(INDEX('Employee Data'!$J$4:$J$553,MATCH(Databackup!A248,Employee_Name,0),0)),\"\",(INDEX('Employee Data'!J$4:$J$553,MATCH(Databackup!A248,Employee_Name,0))))","v":""},{"$f":"IF(ISERROR(INDEX('Employee Data'!$K$4:$K$553,MATCH(Databackup!A248,Employee_Name,0),0)),\"\",(INDEX('Employee Data'!$K$4:$K$553,MATCH(Databackup!A248,Employee_Name,0))))","v":""},{"$f":"IF(ISERROR(INDEX('Employee Data'!$L$4:$L$553,MATCH(Databackup!A248,Employee_Name,0),0)),\"\",(INDEX('Employee Data'!$L$4:$L$553,MATCH(Databackup!A248,Employee_Name,0))))","v":""},{"$f":"IF(ISERROR(INDEX('Employee Data'!$M$4:$M$553,MATCH(Databackup!A248,Employee_Name,0),0)),\"\",(INDEX('Employee Data'!$M$4:$M$553,MATCH(Databackup!A248,Employee_Name,0))))","v":""},{"$f":"IF(ISERROR(INDEX('Employee Data'!$N$4:$N$553,MATCH(Databackup!A248,Employee_Name,0),0)),\"\",(INDEX('Employee Data'!$N$4:$N$553,MATCH(Databackup!A248,Employee_Name,0))))","v":""},{"$f":"IF(ISERROR(INDEX('Employee Data'!$O$4:$O$553,MATCH(Databackup!A248,Employee_Name,0),0)),\"\",(INDEX('Employee Data'!$O$4:$O$553,MATCH(Databackup!A248,Employee_Name,0))))","v":""}]
[{"$f":"INDEX(Employee_Name,MATCH(SMALL(IF($A$1='Employee Data'!$I$4:$I$553,'Employee Data'!$B$4:$B$553,\"\"),ROW('Employee Data'!A247)),IF($A$1='Employee Data'!$I$4:$I$553,'Employee Data'!$B$4:$B$553,\"\"),0))","v":{"$error":"#NUM!"}},{"$f":"IF(ISERROR(INDEX('Employee Data'!$B$4:$B$553,MATCH(Databackup!A249,Employee_Name,0),0)),\"\",(INDEX('Employee Data'!$B$4:$B$553,MATCH(Databackup!A249,Employee_Name,0))))","v":""},{"$f":"IF(ISERROR(INDEX('Employee Data'!$C$4:$C$553,MATCH(Databackup!A249,Employee_Name,0),0)),\"\",(INDEX('Employee Data'!$C$4:$C$553,MATCH(Databackup!A249,Employee_Name,0))))","v":""},{"$f":"IF(ISERROR(INDEX('Employee Data'!$D$4:$D$553,MATCH(Databackup!A249,Employee_Name,0),0)),\"\",(INDEX('Employee Data'!$D$4:$D$553,MATCH(Databackup!A249,Employee_Name,0))))","v":""},{"$f":"IF(ISERROR(INDEX('Employee Data'!$F$4:$F$553,MATCH(Databackup!A249,Employee_Name,0),0)),\"\",(INDEX('Employee Data'!$F$4:$F$553,MATCH(Databackup!A249,Employee_Name,0))))","v":""},{"$f":"IF(ISERROR(INDEX('Employee Data'!$G$4:$G$553,MATCH(Databackup!A249,Employee_Name,0),0)),\"\",(INDEX('Employee Data'!$G$4:$G$553,MATCH(Databackup!A249,Employee_Name,0))))","v":""},{"$f":"IF(ISERROR(INDEX('Employee Data'!$H$4:$H$553,MATCH(Databackup!A249,Employee_Name,0),0)),\"\",(INDEX('Employee Data'!$H$4:$H$553,MATCH(Databackup!A249,Employee_Name,0))))","v":""},{"$f":"IF(ISERROR(INDEX('Employee Data'!$I$4:$I$553,MATCH(Databackup!A249,Employee_Name,0),0)),\"\",(INDEX('Employee Data'!$I$4:$I$553,MATCH(Databackup!A249,Employee_Name,0))))","v":""},{"$f":"IF(ISERROR(INDEX('Employee Data'!$J$4:$J$553,MATCH(Databackup!A249,Employee_Name,0),0)),\"\",(INDEX('Employee Data'!J$4:$J$553,MATCH(Databackup!A249,Employee_Name,0))))","v":""},{"$f":"IF(ISERROR(INDEX('Employee Data'!$K$4:$K$553,MATCH(Databackup!A249,Employee_Name,0),0)),\"\",(INDEX('Employee Data'!$K$4:$K$553,MATCH(Databackup!A249,Employee_Name,0))))","v":""},{"$f":"IF(ISERROR(INDEX('Employee Data'!$L$4:$L$553,MATCH(Databackup!A249,Employee_Name,0),0)),\"\",(INDEX('Employee Data'!$L$4:$L$553,MATCH(Databackup!A249,Employee_Name,0))))","v":""},{"$f":"IF(ISERROR(INDEX('Employee Data'!$M$4:$M$553,MATCH(Databackup!A249,Employee_Name,0),0)),\"\",(INDEX('Employee Data'!$M$4:$M$553,MATCH(Databackup!A249,Employee_Name,0))))","v":""},{"$f":"IF(ISERROR(INDEX('Employee Data'!$N$4:$N$553,MATCH(Databackup!A249,Employee_Name,0),0)),\"\",(INDEX('Employee Data'!$N$4:$N$553,MATCH(Databackup!A249,Employee_Name,0))))","v":""},{"$f":"IF(ISERROR(INDEX('Employee Data'!$O$4:$O$553,MATCH(Databackup!A249,Employee_Name,0),0)),\"\",(INDEX('Employee Data'!$O$4:$O$553,MATCH(Databackup!A249,Employee_Name,0))))","v":""}]
[{"$f":"INDEX(Employee_Name,MATCH(SMALL(IF($A$1='Employee Data'!$I$4:$I$553,'Employee Data'!$B$4:$B$553,\"\"),ROW('Employee Data'!A248)),IF($A$1='Employee Data'!$I$4:$I$553,'Employee Data'!$B$4:$B$553,\"\"),0))","v":{"$error":"#NUM!"}},{"$f":"IF(ISERROR(INDEX('Employee Data'!$B$4:$B$553,MATCH(Databackup!A250,Employee_Name,0),0)),\"\",(INDEX('Employee Data'!$B$4:$B$553,MATCH(Databackup!A250,Employee_Name,0))))","v":""},{"$f":"IF(ISERROR(INDEX('Employee Data'!$C$4:$C$553,MATCH(Databackup!A250,Employee_Name,0),0)),\"\",(INDEX('Employee Data'!$C$4:$C$553,MATCH(Databackup!A250,Employee_Name,0))))","v":""},{"$f":"IF(ISERROR(INDEX('Employee Data'!$D$4:$D$553,MATCH(Databackup!A250,Employee_Name,0),0)),\"\",(INDEX('Employee Data'!$D$4:$D$553,MATCH(Databackup!A250,Employee_Name,0))))","v":""},{"$f":"IF(ISERROR(INDEX('Employee Data'!$F$4:$F$553,MATCH(Databackup!A250,Employee_Name,0),0)),\"\",(INDEX('Employee Data'!$F$4:$F$553,MATCH(Databackup!A250,Employee_Name,0))))","v":""},{"$f":"IF(ISERROR(INDEX('Employee Data'!$G$4:$G$553,MATCH(Databackup!A250,Employee_Name,0),0)),\"\",(INDEX('Employee Data'!$G$4:$G$553,MATCH(Databackup!A250,Employee_Name,0))))","v":""},{"$f":"IF(ISERROR(INDEX('Employee Data'!$H$4:$H$553,MATCH(Databackup!A250,Employee_Name,0),0)),\"\",(INDEX('Employee Data'!$H$4:$H$553,MATCH(Databackup!A250,Employee_Name,0))))","v":""},{"$f":"IF(ISERROR(INDEX('Employee Data'!$I$4:$I$553,MATCH(Databackup!A250,Employee_Name,0),0)),\"\",(INDEX('Employee Data'!$I$4:$I$553,MATCH(Databackup!A250,Employee_Name,0))))","v":""},{"$f":"IF(ISERROR(INDEX('Employee Data'!$J$4:$J$553,MATCH(Databackup!A250,Employee_Name,0),0)),\"\",(INDEX('Employee Data'!J$4:$J$553,MATCH(Databackup!A250,Employee_Name,0))))","v":""},{"$f":"IF(ISERROR(INDEX('Employee Data'!$K$4:$K$553,MATCH(Databackup!A250,Employee_Name,0),0)),\"\",(INDEX('Employee Data'!$K$4:$K$553,MATCH(Databackup!A250,Employee_Name,0))))","v":""},{"$f":"IF(ISERROR(INDEX('Employee Data'!$L$4:$L$553,MATCH(Databackup!A250,Employee_Name,0),0)),\"\",(INDEX('Employee Data'!$L$4:$L$553,MATCH(Databackup!A250,Employee_Name,0))))","v":""},{"$f":"IF(ISERROR(INDEX('Employee Data'!$M$4:$M$553,MATCH(Databackup!A250,Employee_Name,0),0)),\"\",(INDEX('Employee Data'!$M$4:$M$553,MATCH(Databackup!A250,Employee_Name,0))))","v":""},{"$f":"IF(ISERROR(INDEX('Employee Data'!$N$4:$N$553,MATCH(Databackup!A250,Employee_Name,0),0)),\"\",(INDEX('Employee Data'!$N$4:$N$553,MATCH(Databackup!A250,Employee_Name,0))))","v":""},{"$f":"IF(ISERROR(INDEX('Employee Data'!$O$4:$O$553,MATCH(Databackup!A250,Employee_Name,0),0)),\"\",(INDEX('Employee Data'!$O$4:$O$553,MATCH(Databackup!A250,Employee_Name,0))))","v":""}]
[{"$f":"INDEX(Employee_Name,MATCH(SMALL(IF($A$1='Employee Data'!$I$4:$I$553,'Employee Data'!$B$4:$B$553,\"\"),ROW('Employee Data'!A249)),IF($A$1='Employee Data'!$I$4:$I$553,'Employee Data'!$B$4:$B$553,\"\"),0))","v":{"$error":"#NUM!"}},{"$f":"IF(ISERROR(INDEX('Employee Data'!$B$4:$B$553,MATCH(Databackup!A251,Employee_Name,0),0)),\"\",(INDEX('Employee Data'!$B$4:$B$553,MATCH(Databackup!A251,Employee_Name,0))))","v":""},{"$f":"IF(ISERROR(INDEX('Employee Data'!$C$4:$C$553,MATCH(Databackup!A251,Employee_Name,0),0)),\"\",(INDEX('Employee Data'!$C$4:$C$553,MATCH(Databackup!A251,Employee_Name,0))))","v":""},{"$f":"IF(ISERROR(INDEX('Employee Data'!$D$4:$D$553,MATCH(Databackup!A251,Employee_Name,0),0)),\"\",(INDEX('Employee Data'!$D$4:$D$553,MATCH(Databackup!A251,Employee_Name,0))))","v":""},{"$f":"IF(ISERROR(INDEX('Employee Data'!$F$4:$F$553,MATCH(Databackup!A251,Employee_Name,0),0)),\"\",(INDEX('Employee Data'!$F$4:$F$553,MATCH(Databackup!A251,Employee_Name,0))))","v":""},{"$f":"IF(ISERROR(INDEX('Employee Data'!$G$4:$G$553,MATCH(Databackup!A251,Employee_Name,0),0)),\"\",(INDEX('Employee Data'!$G$4:$G$553,MATCH(Databackup!A251,Employee_Name,0))))","v":""},{"$f":"IF(ISERROR(INDEX('Employee Data'!$H$4:$H$553,MATCH(Databackup!A251,Employee_Name,0),0)),\"\",(INDEX('Employee Data'!$H$4:$H$553,MATCH(Databackup!A251,Employee_Name,0))))","v":""},{"$f":"IF(ISERROR(INDEX('Employee Data'!$I$4:$I$553,MATCH(Databackup!A251,Employee_Name,0),0)),\"\",(INDEX('Employee Data'!$I$4:$I$553,MATCH(Databackup!A251,Employee_Name,0))))","v":""},{"$f":"IF(ISERROR(INDEX('Employee Data'!$J$4:$J$553,MATCH(Databackup!A251,Employee_Name,0),0)),\"\",(INDEX('Employee Data'!J$4:$J$553,MATCH(Databackup!A251,Employee_Name,0))))","v":""},{"$f":"IF(ISERROR(INDEX('Employee Data'!$K$4:$K$553,MATCH(Databackup!A251,Employee_Name,0),0)),\"\",(INDEX('Employee Data'!$K$4:$K$553,MATCH(Databackup!A251,Employee_Name,0))))","v":""},{"$f":"IF(ISERROR(INDEX('Employee Data'!$L$4:$L$553,MATCH(Databackup!A251,Employee_Name,0),0)),\"\",(INDEX('Employee Data'!$L$4:$L$553,MATCH(Databackup!A251,Employee_Name,0))))","v":""},{"$f":"IF(ISERROR(INDEX('Employee Data'!$M$4:$M$553,MATCH(Databackup!A251,Employee_Name,0),0)),\"\",(INDEX('Employee Data'!$M$4:$M$553,MATCH(Databackup!A251,Employee_Name,0))))","v":""},{"$f":"IF(ISERROR(INDEX('Employee Data'!$N$4:$N$553,MATCH(Databackup!A251,Employee_Name,0),0)),\"\",(INDEX('Employee Data'!$N$4:$N$553,MATCH(Databackup!A251,Employee_Name,0))))","v":""},{"$f":"IF(ISERROR(INDEX('Employee Data'!$O$4:$O$553,MATCH(Databackup!A251,Employee_Name,0),0)),\"\",(INDEX('Employee Data'!$O$4:$O$553,MATCH(Databackup!A251,Employee_Name,0))))","v":""}]
[{"$f":"INDEX(Employee_Name,MATCH(SMALL(IF($A$1='Employee Data'!$I$4:$I$553,'Employee Data'!$B$4:$B$553,\"\"),ROW('Employee Data'!A250)),IF($A$1='Employee Data'!$I$4:$I$553,'Employee Data'!$B$4:$B$553,\"\"),0))","v":{"$error":"#NUM!"}},{"$f":"IF(ISERROR(INDEX('Employee Data'!$B$4:$B$553,MATCH(Databackup!A252,Employee_Name,0),0)),\"\",(INDEX('Employee Data'!$B$4:$B$553,MATCH(Databackup!A252,Employee_Name,0))))","v":""},{"$f":"IF(ISERROR(INDEX('Employee Data'!$C$4:$C$553,MATCH(Databackup!A252,Employee_Name,0),0)),\"\",(INDEX('Employee Data'!$C$4:$C$553,MATCH(Databackup!A252,Employee_Name,0))))","v":""},{"$f":"IF(ISERROR(INDEX('Employee Data'!$D$4:$D$553,MATCH(Databackup!A252,Employee_Name,0),0)),\"\",(INDEX('Employee Data'!$D$4:$D$553,MATCH(Databackup!A252,Employee_Name,0))))","v":""},{"$f":"IF(ISERROR(INDEX('Employee Data'!$F$4:$F$553,MATCH(Databackup!A252,Employee_Name,0),0)),\"\",(INDEX('Employee Data'!$F$4:$F$553,MATCH(Databackup!A252,Employee_Name,0))))","v":""},{"$f":"IF(ISERROR(INDEX('Employee Data'!$G$4:$G$553,MATCH(Databackup!A252,Employee_Name,0),0)),\"\",(INDEX('Employee Data'!$G$4:$G$553,MATCH(Databackup!A252,Employee_Name,0))))","v":""},{"$f":"IF(ISERROR(INDEX('Employee Data'!$H$4:$H$553,MATCH(Databackup!A252,Employee_Name,0),0)),\"\",(INDEX('Employee Data'!$H$4:$H$553,MATCH(Databackup!A252,Employee_Name,0))))","v":""},{"$f":"IF(ISERROR(INDEX('Employee Data'!$I$4:$I$553,MATCH(Databackup!A252,Employee_Name,0),0)),\"\",(INDEX('Employee Data'!$I$4:$I$553,MATCH(Databackup!A252,Employee_Name,0))))","v":""},{"$f":"IF(ISERROR(INDEX('Employee Data'!$J$4:$J$553,MATCH(Databackup!A252,Employee_Name,0),0)),\"\",(INDEX('Employee Data'!J$4:$J$553,MATCH(Databackup!A252,Employee_Name,0))))","v":""},{"$f":"IF(ISERROR(INDEX('Employee Data'!$K$4:$K$553,MATCH(Databackup!A252,Employee_Name,0),0)),\"\",(INDEX('Employee Data'!$K$4:$K$553,MATCH(Databackup!A252,Employee_Name,0))))","v":""},{"$f":"IF(ISERROR(INDEX('Employee Data'!$L$4:$L$553,MATCH(Databackup!A252,Employee_Name,0),0)),\"\",(INDEX('Employee Data'!$L$4:$L$553,MATCH(Databackup!A252,Employee_Name,0))))","v":""},{"$f":"IF(ISERROR(INDEX('Employee Data'!$M$4:$M$553,MATCH(Databackup!A252,Employee_Name,0),0)),\"\",(INDEX('Employee Data'!$M$4:$M$553,MATCH(Databackup!A252,Employee_Name,0))))","v":""},{"$f":"IF(ISERROR(INDEX('Employee Data'!$N$4:$N$553,MATCH(Databackup!A252,Employee_Name,0),0)),\"\",(INDEX('Employee Data'!$N$4:$N$553,MATCH(Databackup!A252,Employee_Name,0))))","v":""},{"$f":"IF(ISERROR(INDEX('Employee Data'!$O$4:$O$553,MATCH(Databackup!A252,Employee_Name,0),0)),\"\",(INDEX('Employee Data'!$O$4:$O$553,MATCH(Databackup!A252,Employee_Name,0))))","v":""}]
[{"$f":"INDEX(Employee_Name,MATCH(SMALL(IF($A$1='Employee Data'!$I$4:$I$553,'Employee Data'!$B$4:$B$553,\"\"),ROW('Employee Data'!A251)),IF($A$1='Employee Data'!$I$4:$I$553,'Employee Data'!$B$4:$B$553,\"\"),0))","v":{"$error":"#NUM!"}},{"$f":"IF(ISERROR(INDEX('Employee Data'!$B$4:$B$553,MATCH(Databackup!A253,Employee_Name,0),0)),\"\",(INDEX('Employee Data'!$B$4:$B$553,MATCH(Databackup!A253,Employee_Name,0))))","v":""},{"$f":"IF(ISERROR(INDEX('Employee Data'!$C$4:$C$553,MATCH(Databackup!A253,Employee_Name,0),0)),\"\",(INDEX('Employee Data'!$C$4:$C$553,MATCH(Databackup!A253,Employee_Name,0))))","v":""},{"$f":"IF(ISERROR(INDEX('Employee Data'!$D$4:$D$553,MATCH(Databackup!A253,Employee_Name,0),0)),\"\",(INDEX('Employee Data'!$D$4:$D$553,MATCH(Databackup!A253,Employee_Name,0))))","v":""},{"$f":"IF(ISERROR(INDEX('Employee Data'!$F$4:$F$553,MATCH(Databackup!A253,Employee_Name,0),0)),\"\",(INDEX('Employee Data'!$F$4:$F$553,MATCH(Databackup!A253,Employee_Name,0))))","v":""},{"$f":"IF(ISERROR(INDEX('Employee Data'!$G$4:$G$553,MATCH(Databackup!A253,Employee_Name,0),0)),\"\",(INDEX('Employee Data'!$G$4:$G$553,MATCH(Databackup!A253,Employee_Name,0))))","v":""},{"$f":"IF(ISERROR(INDEX('Employee Data'!$H$4:$H$553,MATCH(Databackup!A253,Employee_Name,0),0)),\"\",(INDEX('Employee Data'!$H$4:$H$553,MATCH(Databackup!A253,Employee_Name,0))))","v":""},{"$f":"IF(ISERROR(INDEX('Employee Data'!$I$4:$I$553,MATCH(Databackup!A253,Employee_Name,0),0)),\"\",(INDEX('Employee Data'!$I$4:$I$553,MATCH(Databackup!A253,Employee_Name,0))))","v":""},{"$f":"IF(ISERROR(INDEX('Employee Data'!$J$4:$J$553,MATCH(Databackup!A253,Employee_Name,0),0)),\"\",(INDEX('Employee Data'!J$4:$J$553,MATCH(Databackup!A253,Employee_Name,0))))","v":""},{"$f":"IF(ISERROR(INDEX('Employee Data'!$K$4:$K$553,MATCH(Databackup!A253,Employee_Name,0),0)),\"\",(INDEX('Employee Data'!$K$4:$K$553,MATCH(Databackup!A253,Employee_Name,0))))","v":""},{"$f":"IF(ISERROR(INDEX('Employee Data'!$L$4:$L$553,MATCH(Databackup!A253,Employee_Name,0),0)),\"\",(INDEX('Employee Data'!$L$4:$L$553,MATCH(Databackup!A253,Employee_Name,0))))","v":""},{"$f":"IF(ISERROR(INDEX('Employee Data'!$M$4:$M$553,MATCH(Databackup!A253,Employee_Name,0),0)),\"\",(INDEX('Employee Data'!$M$4:$M$553,MATCH(Databackup!A253,Employee_Name,0))))","v":""},{"$f":"IF(ISERROR(INDEX('Employee Data'!$N$4:$N$553,MATCH(Databackup!A253,Employee_Name,0),0)),\"\",(INDEX('Employee Data'!$N$4:$N$553,MATCH(Databackup!A253,Employee_Name,0))))","v":""},{"$f":"IF(ISERROR(INDEX('Employee Data'!$O$4:$O$553,MATCH(Databackup!A253,Employee_Name,0),0)),\"\",(INDEX('Employee Data'!$O$4:$O$553,MATCH(Databackup!A253,Employee_Name,0))))","v":""}]
[{"$f":"INDEX(Employee_Name,MATCH(SMALL(IF($A$1='Employee Data'!$I$4:$I$553,'Employee Data'!$B$4:$B$553,\"\"),ROW('Employee Data'!A252)),IF($A$1='Employee Data'!$I$4:$I$553,'Employee Data'!$B$4:$B$553,\"\"),0))","v":{"$error":"#NUM!"}},{"$f":"IF(ISERROR(INDEX('Employee Data'!$B$4:$B$553,MATCH(Databackup!A254,Employee_Name,0),0)),\"\",(INDEX('Employee Data'!$B$4:$B$553,MATCH(Databackup!A254,Employee_Name,0))))","v":""},{"$f":"IF(ISERROR(INDEX('Employee Data'!$C$4:$C$553,MATCH(Databackup!A254,Employee_Name,0),0)),\"\",(INDEX('Employee Data'!$C$4:$C$553,MATCH(Databackup!A254,Employee_Name,0))))","v":""},{"$f":"IF(ISERROR(INDEX('Employee Data'!$D$4:$D$553,MATCH(Databackup!A254,Employee_Name,0),0)),\"\",(INDEX('Employee Data'!$D$4:$D$553,MATCH(Databackup!A254,Employee_Name,0))))","v":""},{"$f":"IF(ISERROR(INDEX('Employee Data'!$F$4:$F$553,MATCH(Databackup!A254,Employee_Name,0),0)),\"\",(INDEX('Employee Data'!$F$4:$F$553,MATCH(Databackup!A254,Employee_Name,0))))","v":""},{"$f":"IF(ISERROR(INDEX('Employee Data'!$G$4:$G$553,MATCH(Databackup!A254,Employee_Name,0),0)),\"\",(INDEX('Employee Data'!$G$4:$G$553,MATCH(Databackup!A254,Employee_Name,0))))","v":""},{"$f":"IF(ISERROR(INDEX('Employee Data'!$H$4:$H$553,MATCH(Databackup!A254,Employee_Name,0),0)),\"\",(INDEX('Employee Data'!$H$4:$H$553,MATCH(Databackup!A254,Employee_Name,0))))","v":""},{"$f":"IF(ISERROR(INDEX('Employee Data'!$I$4:$I$553,MATCH(Databackup!A254,Employee_Name,0),0)),\"\",(INDEX('Employee Data'!$I$4:$I$553,MATCH(Databackup!A254,Employee_Name,0))))","v":""},{"$f":"IF(ISERROR(INDEX('Employee Data'!$J$4:$J$553,MATCH(Databackup!A254,Employee_Name,0),0)),\"\",(INDEX('Employee Data'!J$4:$J$553,MATCH(Databackup!A254,Employee_Name,0))))","v":""},{"$f":"IF(ISERROR(INDEX('Employee Data'!$K$4:$K$553,MATCH(Databackup!A254,Employee_Name,0),0)),\"\",(INDEX('Employee Data'!$K$4:$K$553,MATCH(Databackup!A254,Employee_Name,0))))","v":""},{"$f":"IF(ISERROR(INDEX('Employee Data'!$L$4:$L$553,MATCH(Databackup!A254,Employee_Name,0),0)),\"\",(INDEX('Employee Data'!$L$4:$L$553,MATCH(Databackup!A254,Employee_Name,0))))","v":""},{"$f":"IF(ISERROR(INDEX('Employee Data'!$M$4:$M$553,MATCH(Databackup!A254,Employee_Name,0),0)),\"\",(INDEX('Employee Data'!$M$4:$M$553,MATCH(Databackup!A254,Employee_Name,0))))","v":""},{"$f":"IF(ISERROR(INDEX('Employee Data'!$N$4:$N$553,MATCH(Databackup!A254,Employee_Name,0),0)),\"\",(INDEX('Employee Data'!$N$4:$N$553,MATCH(Databackup!A254,Employee_Name,0))))","v":""},{"$f":"IF(ISERROR(INDEX('Employee Data'!$O$4:$O$553,MATCH(Databackup!A254,Employee_Name,0),0)),\"\",(INDEX('Employee Data'!$O$4:$O$553,MATCH(Databackup!A254,Employee_Name,0))))","v":""}]
[{"$f":"INDEX(Employee_Name,MATCH(SMALL(IF($A$1='Employee Data'!$I$4:$I$553,'Employee Data'!$B$4:$B$553,\"\"),ROW('Employee Data'!A253)),IF($A$1='Employee Data'!$I$4:$I$553,'Employee Data'!$B$4:$B$553,\"\"),0))","v":{"$error":"#NUM!"}},{"$f":"IF(ISERROR(INDEX('Employee Data'!$B$4:$B$553,MATCH(Databackup!A255,Employee_Name,0),0)),\"\",(INDEX('Employee Data'!$B$4:$B$553,MATCH(Databackup!A255,Employee_Name,0))))","v":""},{"$f":"IF(ISERROR(INDEX('Employee Data'!$C$4:$C$553,MATCH(Databackup!A255,Employee_Name,0),0)),\"\",(INDEX('Employee Data'!$C$4:$C$553,MATCH(Databackup!A255,Employee_Name,0))))","v":""},{"$f":"IF(ISERROR(INDEX('Employee Data'!$D$4:$D$553,MATCH(Databackup!A255,Employee_Name,0),0)),\"\",(INDEX('Employee Data'!$D$4:$D$553,MATCH(Databackup!A255,Employee_Name,0))))","v":""},{"$f":"IF(ISERROR(INDEX('Employee Data'!$F$4:$F$553,MATCH(Databackup!A255,Employee_Name,0),0)),\"\",(INDEX('Employee Data'!$F$4:$F$553,MATCH(Databackup!A255,Employee_Name,0))))","v":""},{"$f":"IF(ISERROR(INDEX('Employee Data'!$G$4:$G$553,MATCH(Databackup!A255,Employee_Name,0),0)),\"\",(INDEX('Employee Data'!$G$4:$G$553,MATCH(Databackup!A255,Employee_Name,0))))","v":""},{"$f":"IF(ISERROR(INDEX('Employee Data'!$H$4:$H$553,MATCH(Databackup!A255,Employee_Name,0),0)),\"\",(INDEX('Employee Data'!$H$4:$H$553,MATCH(Databackup!A255,Employee_Name,0))))","v":""},{"$f":"IF(ISERROR(INDEX('Employee Data'!$I$4:$I$553,MATCH(Databackup!A255,Employee_Name,0),0)),\"\",(INDEX('Employee Data'!$I$4:$I$553,MATCH(Databackup!A255,Employee_Name,0))))","v":""},{"$f":"IF(ISERROR(INDEX('Employee Data'!$J$4:$J$553,MATCH(Databackup!A255,Employee_Name,0),0)),\"\",(INDEX('Employee Data'!J$4:$J$553,MATCH(Databackup!A255,Employee_Name,0))))","v":""},{"$f":"IF(ISERROR(INDEX('Employee Data'!$K$4:$K$553,MATCH(Databackup!A255,Employee_Name,0),0)),\"\",(INDEX('Employee Data'!$K$4:$K$553,MATCH(Databackup!A255,Employee_Name,0))))","v":""},{"$f":"IF(ISERROR(INDEX('Employee Data'!$L$4:$L$553,MATCH(Databackup!A255,Employee_Name,0),0)),\"\",(INDEX('Employee Data'!$L$4:$L$553,MATCH(Databackup!A255,Employee_Name,0))))","v":""},{"$f":"IF(ISERROR(INDEX('Employee Data'!$M$4:$M$553,MATCH(Databackup!A255,Employee_Name,0),0)),\"\",(INDEX('Employee Data'!$M$4:$M$553,MATCH(Databackup!A255,Employee_Name,0))))","v":""},{"$f":"IF(ISERROR(INDEX('Employee Data'!$N$4:$N$553,MATCH(Databackup!A255,Employee_Name,0),0)),\"\",(INDEX('Employee Data'!$N$4:$N$553,MATCH(Databackup!A255,Employee_Name,0))))","v":""},{"$f":"IF(ISERROR(INDEX('Employee Data'!$O$4:$O$553,MATCH(Databackup!A255,Employee_Name,0),0)),\"\",(INDEX('Employee Data'!$O$4:$O$553,MATCH(Databackup!A255,Employee_Name,0))))","v":""}]
[{"$f":"INDEX(Employee_Name,MATCH(SMALL(IF($A$1='Employee Data'!$I$4:$I$553,'Employee Data'!$B$4:$B$553,\"\"),ROW('Employee Data'!A254)),IF($A$1='Employee Data'!$I$4:$I$553,'Employee Data'!$B$4:$B$553,\"\"),0))","v":{"$error":"#NUM!"}},{"$f":"IF(ISERROR(INDEX('Employee Data'!$B$4:$B$553,MATCH(Databackup!A256,Employee_Name,0),0)),\"\",(INDEX('Employee Data'!$B$4:$B$553,MATCH(Databackup!A256,Employee_Name,0))))","v":""},{"$f":"IF(ISERROR(INDEX('Employee Data'!$C$4:$C$553,MATCH(Databackup!A256,Employee_Name,0),0)),\"\",(INDEX('Employee Data'!$C$4:$C$553,MATCH(Databackup!A256,Employee_Name,0))))","v":""},{"$f":"IF(ISERROR(INDEX('Employee Data'!$D$4:$D$553,MATCH(Databackup!A256,Employee_Name,0),0)),\"\",(INDEX('Employee Data'!$D$4:$D$553,MATCH(Databackup!A256,Employee_Name,0))))","v":""},{"$f":"IF(ISERROR(INDEX('Employee Data'!$F$4:$F$553,MATCH(Databackup!A256,Employee_Name,0),0)),\"\",(INDEX('Employee Data'!$F$4:$F$553,MATCH(Databackup!A256,Employee_Name,0))))","v":""},{"$f":"IF(ISERROR(INDEX('Employee Data'!$G$4:$G$553,MATCH(Databackup!A256,Employee_Name,0),0)),\"\",(INDEX('Employee Data'!$G$4:$G$553,MATCH(Databackup!A256,Employee_Name,0))))","v":""},{"$f":"IF(ISERROR(INDEX('Employee Data'!$H$4:$H$553,MATCH(Databackup!A256,Employee_Name,0),0)),\"\",(INDEX('Employee Data'!$H$4:$H$553,MATCH(Databackup!A256,Employee_Name,0))))","v":""},{"$f":"IF(ISERROR(INDEX('Employee Data'!$I$4:$I$553,MATCH(Databackup!A256,Employee_Name,0),0)),\"\",(INDEX('Employee Data'!$I$4:$I$553,MATCH(Databackup!A256,Employee_Name,0))))","v":""},{"$f":"IF(ISERROR(INDEX('Employee Data'!$J$4:$J$553,MATCH(Databackup!A256,Employee_Name,0),0)),\"\",(INDEX('Employee Data'!J$4:$J$553,MATCH(Databackup!A256,Employee_Name,0))))","v":""},{"$f":"IF(ISERROR(INDEX('Employee Data'!$K$4:$K$553,MATCH(Databackup!A256,Employee_Name,0),0)),\"\",(INDEX('Employee Data'!$K$4:$K$553,MATCH(Databackup!A256,Employee_Name,0))))","v":""},{"$f":"IF(ISERROR(INDEX('Employee Data'!$L$4:$L$553,MATCH(Databackup!A256,Employee_Name,0),0)),\"\",(INDEX('Employee Data'!$L$4:$L$553,MATCH(Databackup!A256,Employee_Name,0))))","v":""},{"$f":"IF(ISERROR(INDEX('Employee Data'!$M$4:$M$553,MATCH(Databackup!A256,Employee_Name,0),0)),\"\",(INDEX('Employee Data'!$M$4:$M$553,MATCH(Databackup!A256,Employee_Name,0))))","v":""},{"$f":"IF(ISERROR(INDEX('Employee Data'!$N$4:$N$553,MATCH(Databackup!A256,Employee_Name,0),0)),\"\",(INDEX('Employee Data'!$N$4:$N$553,MATCH(Databackup!A256,Employee_Name,0))))","v":""},{"$f":"IF(ISERROR(INDEX('Employee Data'!$O$4:$O$553,MATCH(Databackup!A256,Employee_Name,0),0)),\"\",(INDEX('Employee Data'!$O$4:$O$553,MATCH(Databackup!A256,Employee_Name,0))))","v":""}]
[{"$f":"INDEX(Employee_Name,MATCH(SMALL(IF($A$1='Employee Data'!$I$4:$I$553,'Employee Data'!$B$4:$B$553,\"\"),ROW('Employee Data'!A255)),IF($A$1='Employee Data'!$I$4:$I$553,'Employee Data'!$B$4:$B$553,\"\"),0))","v":{"$error":"#NUM!"}},{"$f":"IF(ISERROR(INDEX('Employee Data'!$B$4:$B$553,MATCH(Databackup!A257,Employee_Name,0),0)),\"\",(INDEX('Employee Data'!$B$4:$B$553,MATCH(Databackup!A257,Employee_Name,0))))","v":""},{"$f":"IF(ISERROR(INDEX('Employee Data'!$C$4:$C$553,MATCH(Databackup!A257,Employee_Name,0),0)),\"\",(INDEX('Employee Data'!$C$4:$C$553,MATCH(Databackup!A257,Employee_Name,0))))","v":""},{"$f":"IF(ISERROR(INDEX('Employee Data'!$D$4:$D$553,MATCH(Databackup!A257,Employee_Name,0),0)),\"\",(INDEX('Employee Data'!$D$4:$D$553,MATCH(Databackup!A257,Employee_Name,0))))","v":""},{"$f":"IF(ISERROR(INDEX('Employee Data'!$F$4:$F$553,MATCH(Databackup!A257,Employee_Name,0),0)),\"\",(INDEX('Employee Data'!$F$4:$F$553,MATCH(Databackup!A257,Employee_Name,0))))","v":""},{"$f":"IF(ISERROR(INDEX('Employee Data'!$G$4:$G$553,MATCH(Databackup!A257,Employee_Name,0),0)),\"\",(INDEX('Employee Data'!$G$4:$G$553,MATCH(Databackup!A257,Employee_Name,0))))","v":""},{"$f":"IF(ISERROR(INDEX('Employee Data'!$H$4:$H$553,MATCH(Databackup!A257,Employee_Name,0),0)),\"\",(INDEX('Employee Data'!$H$4:$H$553,MATCH(Databackup!A257,Employee_Name,0))))","v":""},{"$f":"IF(ISERROR(INDEX('Employee Data'!$I$4:$I$553,MATCH(Databackup!A257,Employee_Name,0),0)),\"\",(INDEX('Employee Data'!$I$4:$I$553,MATCH(Databackup!A257,Employee_Name,0))))","v":""},{"$f":"IF(ISERROR(INDEX('Employee Data'!$J$4:$J$553,MATCH(Databackup!A257,Employee_Name,0),0)),\"\",(INDEX('Employee Data'!J$4:$J$553,MATCH(Databackup!A257,Employee_Name,0))))","v":""},{"$f":"IF(ISERROR(INDEX('Employee Data'!$K$4:$K$553,MATCH(Databackup!A257,Employee_Name,0),0)),\"\",(INDEX('Employee Data'!$K$4:$K$553,MATCH(Databackup!A257,Employee_Name,0))))","v":""},{"$f":"IF(ISERROR(INDEX('Employee Data'!$L$4:$L$553,MATCH(Databackup!A257,Employee_Name,0),0)),\"\",(INDEX('Employee Data'!$L$4:$L$553,MATCH(Databackup!A257,Employee_Name,0))))","v":""},{"$f":"IF(ISERROR(INDEX('Employee Data'!$M$4:$M$553,MATCH(Databackup!A257,Employee_Name,0),0)),\"\",(INDEX('Employee Data'!$M$4:$M$553,MATCH(Databackup!A257,Employee_Name,0))))","v":""},{"$f":"IF(ISERROR(INDEX('Employee Data'!$N$4:$N$553,MATCH(Databackup!A257,Employee_Name,0),0)),\"\",(INDEX('Employee Data'!$N$4:$N$553,MATCH(Databackup!A257,Employee_Name,0))))","v":""},{"$f":"IF(ISERROR(INDEX('Employee Data'!$O$4:$O$553,MATCH(Databackup!A257,Employee_Name,0),0)),\"\",(INDEX('Employee Data'!$O$4:$O$553,MATCH(Databackup!A257,Employee_Name,0))))","v":""}]
[{"$f":"INDEX(Employee_Name,MATCH(SMALL(IF($A$1='Employee Data'!$I$4:$I$553,'Employee Data'!$B$4:$B$553,\"\"),ROW('Employee Data'!A256)),IF($A$1='Employee Data'!$I$4:$I$553,'Employee Data'!$B$4:$B$553,\"\"),0))","v":{"$error":"#NUM!"}},{"$f":"IF(ISERROR(INDEX('Employee Data'!$B$4:$B$553,MATCH(Databackup!A258,Employee_Name,0),0)),\"\",(INDEX('Employee Data'!$B$4:$B$553,MATCH(Databackup!A258,Employee_Name,0))))","v":""},{"$f":"IF(ISERROR(INDEX('Employee Data'!$C$4:$C$553,MATCH(Databackup!A258,Employee_Name,0),0)),\"\",(INDEX('Employee Data'!$C$4:$C$553,MATCH(Databackup!A258,Employee_Name,0))))","v":""},{"$f":"IF(ISERROR(INDEX('Employee Data'!$D$4:$D$553,MATCH(Databackup!A258,Employee_Name,0),0)),\"\",(INDEX('Employee Data'!$D$4:$D$553,MATCH(Databackup!A258,Employee_Name,0))))","v":""},{"$f":"IF(ISERROR(INDEX('Employee Data'!$F$4:$F$553,MATCH(Databackup!A258,Employee_Name,0),0)),\"\",(INDEX('Employee Data'!$F$4:$F$553,MATCH(Databackup!A258,Employee_Name,0))))","v":""},{"$f":"IF(ISERROR(INDEX('Employee Data'!$G$4:$G$553,MATCH(Databackup!A258,Employee_Name,0),0)),\"\",(INDEX('Employee Data'!$G$4:$G$553,MATCH(Databackup!A258,Employee_Name,0))))","v":""},{"$f":"IF(ISERROR(INDEX('Employee Data'!$H$4:$H$553,MATCH(Databackup!A258,Employee_Name,0),0)),\"\",(INDEX('Employee Data'!$H$4:$H$553,MATCH(Databackup!A258,Employee_Name,0))))","v":""},{"$f":"IF(ISERROR(INDEX('Employee Data'!$I$4:$I$553,MATCH(Databackup!A258,Employee_Name,0),0)),\"\",(INDEX('Employee Data'!$I$4:$I$553,MATCH(Databackup!A258,Employee_Name,0))))","v":""},{"$f":"IF(ISERROR(INDEX('Employee Data'!$J$4:$J$553,MATCH(Databackup!A258,Employee_Name,0),0)),\"\",(INDEX('Employee Data'!J$4:$J$553,MATCH(Databackup!A258,Employee_Name,0))))","v":""},{"$f":"IF(ISERROR(INDEX('Employee Data'!$K$4:$K$553,MATCH(Databackup!A258,Employee_Name,0),0)),\"\",(INDEX('Employee Data'!$K$4:$K$553,MATCH(Databackup!A258,Employee_Name,0))))","v":""},{"$f":"IF(ISERROR(INDEX('Employee Data'!$L$4:$L$553,MATCH(Databackup!A258,Employee_Name,0),0)),\"\",(INDEX('Employee Data'!$L$4:$L$553,MATCH(Databackup!A258,Employee_Name,0))))","v":""},{"$f":"IF(ISERROR(INDEX('Employee Data'!$M$4:$M$553,MATCH(Databackup!A258,Employee_Name,0),0)),\"\",(INDEX('Employee Data'!$M$4:$M$553,MATCH(Databackup!A258,Employee_Name,0))))","v":""},{"$f":"IF(ISERROR(INDEX('Employee Data'!$N$4:$N$553,MATCH(Databackup!A258,Employee_Name,0),0)),\"\",(INDEX('Employee Data'!$N$4:$N$553,MATCH(Databackup!A258,Employee_Name,0))))","v":""},{"$f":"IF(ISERROR(INDEX('Employee Data'!$O$4:$O$553,MATCH(Databackup!A258,Employee_Name,0),0)),\"\",(INDEX('Employee Data'!$O$4:$O$553,MATCH(Databackup!A258,Employee_Name,0))))","v":""}]
[{"$f":"INDEX(Employee_Name,MATCH(SMALL(IF($A$1='Employee Data'!$I$4:$I$553,'Employee Data'!$B$4:$B$553,\"\"),ROW('Employee Data'!A257)),IF($A$1='Employee Data'!$I$4:$I$553,'Employee Data'!$B$4:$B$553,\"\"),0))","v":{"$error":"#NUM!"}},{"$f":"IF(ISERROR(INDEX('Employee Data'!$B$4:$B$553,MATCH(Databackup!A259,Employee_Name,0),0)),\"\",(INDEX('Employee Data'!$B$4:$B$553,MATCH(Databackup!A259,Employee_Name,0))))","v":""},{"$f":"IF(ISERROR(INDEX('Employee Data'!$C$4:$C$553,MATCH(Databackup!A259,Employee_Name,0),0)),\"\",(INDEX('Employee Data'!$C$4:$C$553,MATCH(Databackup!A259,Employee_Name,0))))","v":""},{"$f":"IF(ISERROR(INDEX('Employee Data'!$D$4:$D$553,MATCH(Databackup!A259,Employee_Name,0),0)),\"\",(INDEX('Employee Data'!$D$4:$D$553,MATCH(Databackup!A259,Employee_Name,0))))","v":""},{"$f":"IF(ISERROR(INDEX('Employee Data'!$F$4:$F$553,MATCH(Databackup!A259,Employee_Name,0),0)),\"\",(INDEX('Employee Data'!$F$4:$F$553,MATCH(Databackup!A259,Employee_Name,0))))","v":""},{"$f":"IF(ISERROR(INDEX('Employee Data'!$G$4:$G$553,MATCH(Databackup!A259,Employee_Name,0),0)),\"\",(INDEX('Employee Data'!$G$4:$G$553,MATCH(Databackup!A259,Employee_Name,0))))","v":""},{"$f":"IF(ISERROR(INDEX('Employee Data'!$H$4:$H$553,MATCH(Databackup!A259,Employee_Name,0),0)),\"\",(INDEX('Employee Data'!$H$4:$H$553,MATCH(Databackup!A259,Employee_Name,0))))","v":""},{"$f":"IF(ISERROR(INDEX('Employee Data'!$I$4:$I$553,MATCH(Databackup!A259,Employee_Name,0),0)),\"\",(INDEX('Employee Data'!$I$4:$I$553,MATCH(Databackup!A259,Employee_Name,0))))","v":""},{"$f":"IF(ISERROR(INDEX('Employee Data'!$J$4:$J$553,MATCH(Databackup!A259,Employee_Name,0),0)),\"\",(INDEX('Employee Data'!J$4:$J$553,MATCH(Databackup!A259,Employee_Name,0))))","v":""},{"$f":"IF(ISERROR(INDEX('Employee Data'!$K$4:$K$553,MATCH(Databackup!A259,Employee_Name,0),0)),\"\",(INDEX('Employee Data'!$K$4:$K$553,MATCH(Databackup!A259,Employee_Name,0))))","v":""},{"$f":"IF(ISERROR(INDEX('Employee Data'!$L$4:$L$553,MATCH(Databackup!A259,Employee_Name,0),0)),\"\",(INDEX('Employee Data'!$L$4:$L$553,MATCH(Databackup!A259,Employee_Name,0))))","v":""},{"$f":"IF(ISERROR(INDEX('Employee Data'!$M$4:$M$553,MATCH(Databackup!A259,Employee_Name,0),0)),\"\",(INDEX('Employee Data'!$M$4:$M$553,MATCH(Databackup!A259,Employee_Name,0))))","v":""},{"$f":"IF(ISERROR(INDEX('Employee Data'!$N$4:$N$553,MATCH(Databackup!A259,Employee_Name,0),0)),\"\",(INDEX('Employee Data'!$N$4:$N$553,MATCH(Databackup!A259,Employee_Name,0))))","v":""},{"$f":"IF(ISERROR(INDEX('Employee Data'!$O$4:$O$553,MATCH(Databackup!A259,Employee_Name,0),0)),\"\",(INDEX('Employee Data'!$O$4:$O$553,MATCH(Databackup!A259,Employee_Name,0))))","v":""}]
[{"$f":"INDEX(Employee_Name,MATCH(SMALL(IF($A$1='Employee Data'!$I$4:$I$553,'Employee Data'!$B$4:$B$553,\"\"),ROW('Employee Data'!A258)),IF($A$1='Employee Data'!$I$4:$I$553,'Employee Data'!$B$4:$B$553,\"\"),0))","v":{"$error":"#NUM!"}},{"$f":"IF(ISERROR(INDEX('Employee Data'!$B$4:$B$553,MATCH(Databackup!A260,Employee_Name,0),0)),\"\",(INDEX('Employee Data'!$B$4:$B$553,MATCH(Databackup!A260,Employee_Name,0))))","v":""},{"$f":"IF(ISERROR(INDEX('Employee Data'!$C$4:$C$553,MATCH(Databackup!A260,Employee_Name,0),0)),\"\",(INDEX('Employee Data'!$C$4:$C$553,MATCH(Databackup!A260,Employee_Name,0))))","v":""},{"$f":"IF(ISERROR(INDEX('Employee Data'!$D$4:$D$553,MATCH(Databackup!A260,Employee_Name,0),0)),\"\",(INDEX('Employee Data'!$D$4:$D$553,MATCH(Databackup!A260,Employee_Name,0))))","v":""},{"$f":"IF(ISERROR(INDEX('Employee Data'!$F$4:$F$553,MATCH(Databackup!A260,Employee_Name,0),0)),\"\",(INDEX('Employee Data'!$F$4:$F$553,MATCH(Databackup!A260,Employee_Name,0))))","v":""},{"$f":"IF(ISERROR(INDEX('Employee Data'!$G$4:$G$553,MATCH(Databackup!A260,Employee_Name,0),0)),\"\",(INDEX('Employee Data'!$G$4:$G$553,MATCH(Databackup!A260,Employee_Name,0))))","v":""},{"$f":"IF(ISERROR(INDEX('Employee Data'!$H$4:$H$553,MATCH(Databackup!A260,Employee_Name,0),0)),\"\",(INDEX('Employee Data'!$H$4:$H$553,MATCH(Databackup!A260,Employee_Name,0))))","v":""},{"$f":"IF(ISERROR(INDEX('Employee Data'!$I$4:$I$553,MATCH(Databackup!A260,Employee_Name,0),0)),\"\",(INDEX('Employee Data'!$I$4:$I$553,MATCH(Databackup!A260,Employee_Name,0))))","v":""},{"$f":"IF(ISERROR(INDEX('Employee Data'!$J$4:$J$553,MATCH(Databackup!A260,Employee_Name,0),0)),\"\",(INDEX('Employee Data'!J$4:$J$553,MATCH(Databackup!A260,Employee_Name,0))))","v":""},{"$f":"IF(ISERROR(INDEX('Employee Data'!$K$4:$K$553,MATCH(Databackup!A260,Employee_Name,0),0)),\"\",(INDEX('Employee Data'!$K$4:$K$553,MATCH(Databackup!A260,Employee_Name,0))))","v":""},{"$f":"IF(ISERROR(INDEX('Employee Data'!$L$4:$L$553,MATCH(Databackup!A260,Employee_Name,0),0)),\"\",(INDEX('Employee Data'!$L$4:$L$553,MATCH(Databackup!A260,Employee_Name,0))))","v":""},{"$f":"IF(ISERROR(INDEX('Employee Data'!$M$4:$M$553,MATCH(Databackup!A260,Employee_Name,0),0)),\"\",(INDEX('Employee Data'!$M$4:$M$553,MATCH(Databackup!A260,Employee_Name,0))))","v":""},{"$f":"IF(ISERROR(INDEX('Employee Data'!$N$4:$N$553,MATCH(Databackup!A260,Employee_Name,0),0)),\"\",(INDEX('Employee Data'!$N$4:$N$553,MATCH(Databackup!A260,Employee_Name,0))))","v":""},{"$f":"IF(ISERROR(INDEX('Employee Data'!$O$4:$O$553,MATCH(Databackup!A260,Employee_Name,0),0)),\"\",(INDEX('Employee Data'!$O$4:$O$553,MATCH(Databackup!A260,Employee_Name,0))))","v":""}]
[{"$f":"INDEX(Employee_Name,MATCH(SMALL(IF($A$1='Employee Data'!$I$4:$I$553,'Employee Data'!$B$4:$B$553,\"\"),ROW('Employee Data'!A259)),IF($A$1='Employee Data'!$I$4:$I$553,'Employee Data'!$B$4:$B$553,\"\"),0))","v":{"$error":"#NUM!"}},{"$f":"IF(ISERROR(INDEX('Employee Data'!$B$4:$B$553,MATCH(Databackup!A261,Employee_Name,0),0)),\"\",(INDEX('Employee Data'!$B$4:$B$553,MATCH(Databackup!A261,Employee_Name,0))))","v":""},{"$f":"IF(ISERROR(INDEX('Employee Data'!$C$4:$C$553,MATCH(Databackup!A261,Employee_Name,0),0)),\"\",(INDEX('Employee Data'!$C$4:$C$553,MATCH(Databackup!A261,Employee_Name,0))))","v":""},{"$f":"IF(ISERROR(INDEX('Employee Data'!$D$4:$D$553,MATCH(Databackup!A261,Employee_Name,0),0)),\"\",(INDEX('Employee Data'!$D$4:$D$553,MATCH(Databackup!A261,Employee_Name,0))))","v":""},{"$f":"IF(ISERROR(INDEX('Employee Data'!$F$4:$F$553,MATCH(Databackup!A261,Employee_Name,0),0)),\"\",(INDEX('Employee Data'!$F$4:$F$553,MATCH(Databackup!A261,Employee_Name,0))))","v":""},{"$f":"IF(ISERROR(INDEX('Employee Data'!$G$4:$G$553,MATCH(Databackup!A261,Employee_Name,0),0)),\"\",(INDEX('Employee Data'!$G$4:$G$553,MATCH(Databackup!A261,Employee_Name,0))))","v":""},{"$f":"IF(ISERROR(INDEX('Employee Data'!$H$4:$H$553,MATCH(Databackup!A261,Employee_Name,0),0)),\"\",(INDEX('Employee Data'!$H$4:$H$553,MATCH(Databackup!A261,Employee_Name,0))))","v":""},{"$f":"IF(ISERROR(INDEX('Employee Data'!$I$4:$I$553,MATCH(Databackup!A261,Employee_Name,0),0)),\"\",(INDEX('Employee Data'!$I$4:$I$553,MATCH(Databackup!A261,Employee_Name,0))))","v":""},{"$f":"IF(ISERROR(INDEX('Employee Data'!$J$4:$J$553,MATCH(Databackup!A261,Employee_Name,0),0)),\"\",(INDEX('Employee Data'!J$4:$J$553,MATCH(Databackup!A261,Employee_Name,0))))","v":""},{"$f":"IF(ISERROR(INDEX('Employee Data'!$K$4:$K$553,MATCH(Databackup!A261,Employee_Name,0),0)),\"\",(INDEX('Employee Data'!$K$4:$K$553,MATCH(Databackup!A261,Employee_Name,0))))","v":""},{"$f":"IF(ISERROR(INDEX('Employee Data'!$L$4:$L$553,MATCH(Databackup!A261,Employee_Name,0),0)),\"\",(INDEX('Employee Data'!$L$4:$L$553,MATCH(Databackup!A261,Employee_Name,0))))","v":""},{"$f":"IF(ISERROR(INDEX('Employee Data'!$M$4:$M$553,MATCH(Databackup!A261,Employee_Name,0),0)),\"\",(INDEX('Employee Data'!$M$4:$M$553,MATCH(Databackup!A261,Employee_Name,0))))","v":""},{"$f":"IF(ISERROR(INDEX('Employee Data'!$N$4:$N$553,MATCH(Databackup!A261,Employee_Name,0),0)),\"\",(INDEX('Employee Data'!$N$4:$N$553,MATCH(Databackup!A261,Employee_Name,0))))","v":""},{"$f":"IF(ISERROR(INDEX('Employee Data'!$O$4:$O$553,MATCH(Databackup!A261,Employee_Name,0),0)),\"\",(INDEX('Employee Data'!$O$4:$O$553,MATCH(Databackup!A261,Employee_Name,0))))","v":""}]
[{"$f":"INDEX(Employee_Name,MATCH(SMALL(IF($A$1='Employee Data'!$I$4:$I$553,'Employee Data'!$B$4:$B$553,\"\"),ROW('Employee Data'!A260)),IF($A$1='Employee Data'!$I$4:$I$553,'Employee Data'!$B$4:$B$553,\"\"),0))","v":{"$error":"#NUM!"}},{"$f":"IF(ISERROR(INDEX('Employee Data'!$B$4:$B$553,MATCH(Databackup!A262,Employee_Name,0),0)),\"\",(INDEX('Employee Data'!$B$4:$B$553,MATCH(Databackup!A262,Employee_Name,0))))","v":""},{"$f":"IF(ISERROR(INDEX('Employee Data'!$C$4:$C$553,MATCH(Databackup!A262,Employee_Name,0),0)),\"\",(INDEX('Employee Data'!$C$4:$C$553,MATCH(Databackup!A262,Employee_Name,0))))","v":""},{"$f":"IF(ISERROR(INDEX('Employee Data'!$D$4:$D$553,MATCH(Databackup!A262,Employee_Name,0),0)),\"\",(INDEX('Employee Data'!$D$4:$D$553,MATCH(Databackup!A262,Employee_Name,0))))","v":""},{"$f":"IF(ISERROR(INDEX('Employee Data'!$F$4:$F$553,MATCH(Databackup!A262,Employee_Name,0),0)),\"\",(INDEX('Employee Data'!$F$4:$F$553,MATCH(Databackup!A262,Employee_Name,0))))","v":""},{"$f":"IF(ISERROR(INDEX('Employee Data'!$G$4:$G$553,MATCH(Databackup!A262,Employee_Name,0),0)),\"\",(INDEX('Employee Data'!$G$4:$G$553,MATCH(Databackup!A262,Employee_Name,0))))","v":""},{"$f":"IF(ISERROR(INDEX('Employee Data'!$H$4:$H$553,MATCH(Databackup!A262,Employee_Name,0),0)),\"\",(INDEX('Employee Data'!$H$4:$H$553,MATCH(Databackup!A262,Employee_Name,0))))","v":""},{"$f":"IF(ISERROR(INDEX('Employee Data'!$I$4:$I$553,MATCH(Databackup!A262,Employee_Name,0),0)),\"\",(INDEX('Employee Data'!$I$4:$I$553,MATCH(Databackup!A262,Employee_Name,0))))","v":""},{"$f":"IF(ISERROR(INDEX('Employee Data'!$J$4:$J$553,MATCH(Databackup!A262,Employee_Name,0),0)),\"\",(INDEX('Employee Data'!J$4:$J$553,MATCH(Databackup!A262,Employee_Name,0))))","v":""},{"$f":"IF(ISERROR(INDEX('Employee Data'!$K$4:$K$553,MATCH(Databackup!A262,Employee_Name,0),0)),\"\",(INDEX('Employee Data'!$K$4:$K$553,MATCH(Databackup!A262,Employee_Name,0))))","v":""},{"$f":"IF(ISERROR(INDEX('Employee Data'!$L$4:$L$553,MATCH(Databackup!A262,Employee_Name,0),0)),\"\",(INDEX('Employee Data'!$L$4:$L$553,MATCH(Databackup!A262,Employee_Name,0))))","v":""},{"$f":"IF(ISERROR(INDEX('Employee Data'!$M$4:$M$553,MATCH(Databackup!A262,Employee_Name,0),0)),\"\",(INDEX('Employee Data'!$M$4:$M$553,MATCH(Databackup!A262,Employee_Name,0))))","v":""},{"$f":"IF(ISERROR(INDEX('Employee Data'!$N$4:$N$553,MATCH(Databackup!A262,Employee_Name,0),0)),\"\",(INDEX('Employee Data'!$N$4:$N$553,MATCH(Databackup!A262,Employee_Name,0))))","v":""},{"$f":"IF(ISERROR(INDEX('Employee Data'!$O$4:$O$553,MATCH(Databackup!A262,Employee_Name,0),0)),\"\",(INDEX('Employee Data'!$O$4:$O$553,MATCH(Databackup!A262,Employee_Name,0))))","v":""}]
[{"$f":"INDEX(Employee_Name,MATCH(SMALL(IF($A$1='Employee Data'!$I$4:$I$553,'Employee Data'!$B$4:$B$553,\"\"),ROW('Employee Data'!A261)),IF($A$1='Employee Data'!$I$4:$I$553,'Employee Data'!$B$4:$B$553,\"\"),0))","v":{"$error":"#NUM!"}},{"$f":"IF(ISERROR(INDEX('Employee Data'!$B$4:$B$553,MATCH(Databackup!A263,Employee_Name,0),0)),\"\",(INDEX('Employee Data'!$B$4:$B$553,MATCH(Databackup!A263,Employee_Name,0))))","v":""},{"$f":"IF(ISERROR(INDEX('Employee Data'!$C$4:$C$553,MATCH(Databackup!A263,Employee_Name,0),0)),\"\",(INDEX('Employee Data'!$C$4:$C$553,MATCH(Databackup!A263,Employee_Name,0))))","v":""},{"$f":"IF(ISERROR(INDEX('Employee Data'!$D$4:$D$553,MATCH(Databackup!A263,Employee_Name,0),0)),\"\",(INDEX('Employee Data'!$D$4:$D$553,MATCH(Databackup!A263,Employee_Name,0))))","v":""},{"$f":"IF(ISERROR(INDEX('Employee Data'!$F$4:$F$553,MATCH(Databackup!A263,Employee_Name,0),0)),\"\",(INDEX('Employee Data'!$F$4:$F$553,MATCH(Databackup!A263,Employee_Name,0))))","v":""},{"$f":"IF(ISERROR(INDEX('Employee Data'!$G$4:$G$553,MATCH(Databackup!A263,Employee_Name,0),0)),\"\",(INDEX('Employee Data'!$G$4:$G$553,MATCH(Databackup!A263,Employee_Name,0))))","v":""},{"$f":"IF(ISERROR(INDEX('Employee Data'!$H$4:$H$553,MATCH(Databackup!A263,Employee_Name,0),0)),\"\",(INDEX('Employee Data'!$H$4:$H$553,MATCH(Databackup!A263,Employee_Name,0))))","v":""},{"$f":"IF(ISERROR(INDEX('Employee Data'!$I$4:$I$553,MATCH(Databackup!A263,Employee_Name,0),0)),\"\",(INDEX('Employee Data'!$I$4:$I$553,MATCH(Databackup!A263,Employee_Name,0))))","v":""},{"$f":"IF(ISERROR(INDEX('Employee Data'!$J$4:$J$553,MATCH(Databackup!A263,Employee_Name,0),0)),\"\",(INDEX('Employee Data'!J$4:$J$553,MATCH(Databackup!A263,Employee_Name,0))))","v":""},{"$f":"IF(ISERROR(INDEX('Employee Data'!$K$4:$K$553,MATCH(Databackup!A263,Employee_Name,0),0)),\"\",(INDEX('Employee Data'!$K$4:$K$553,MATCH(Databackup!A263,Employee_Name,0))))","v":""},{"$f":"IF(ISERROR(INDEX('Employee Data'!$L$4:$L$553,MATCH(Databackup!A263,Employee_Name,0),0)),\"\",(INDEX('Employee Data'!$L$4:$L$553,MATCH(Databackup!A263,Employee_Name,0))))","v":""},{"$f":"IF(ISERROR(INDEX('Employee Data'!$M$4:$M$553,MATCH(Databackup!A263,Employee_Name,0),0)),\"\",(INDEX('Employee Data'!$M$4:$M$553,MATCH(Databackup!A263,Employee_Name,0))))","v":""},{"$f":"IF(ISERROR(INDEX('Employee Data'!$N$4:$N$553,MATCH(Databackup!A263,Employee_Name,0),0)),\"\",(INDEX('Employee Data'!$N$4:$N$553,MATCH(Databackup!A263,Employee_Name,0))))","v":""},{"$f":"IF(ISERROR(INDEX('Employee Data'!$O$4:$O$553,MATCH(Databackup!A263,Employee_Name,0),0)),\"\",(INDEX('Employee Data'!$O$4:$O$553,MATCH(Databackup!A263,Employee_Name,0))))","v":""}]
[{"$f":"INDEX(Employee_Name,MATCH(SMALL(IF($A$1='Employee Data'!$I$4:$I$553,'Employee Data'!$B$4:$B$553,\"\"),ROW('Employee Data'!A262)),IF($A$1='Employee Data'!$I$4:$I$553,'Employee Data'!$B$4:$B$553,\"\"),0))","v":{"$error":"#NUM!"}},{"$f":"IF(ISERROR(INDEX('Employee Data'!$B$4:$B$553,MATCH(Databackup!A264,Employee_Name,0),0)),\"\",(INDEX('Employee Data'!$B$4:$B$553,MATCH(Databackup!A264,Employee_Name,0))))","v":""},{"$f":"IF(ISERROR(INDEX('Employee Data'!$C$4:$C$553,MATCH(Databackup!A264,Employee_Name,0),0)),\"\",(INDEX('Employee Data'!$C$4:$C$553,MATCH(Databackup!A264,Employee_Name,0))))","v":""},{"$f":"IF(ISERROR(INDEX('Employee Data'!$D$4:$D$553,MATCH(Databackup!A264,Employee_Name,0),0)),\"\",(INDEX('Employee Data'!$D$4:$D$553,MATCH(Databackup!A264,Employee_Name,0))))","v":""},{"$f":"IF(ISERROR(INDEX('Employee Data'!$F$4:$F$553,MATCH(Databackup!A264,Employee_Name,0),0)),\"\",(INDEX('Employee Data'!$F$4:$F$553,MATCH(Databackup!A264,Employee_Name,0))))","v":""},{"$f":"IF(ISERROR(INDEX('Employee Data'!$G$4:$G$553,MATCH(Databackup!A264,Employee_Name,0),0)),\"\",(INDEX('Employee Data'!$G$4:$G$553,MATCH(Databackup!A264,Employee_Name,0))))","v":""},{"$f":"IF(ISERROR(INDEX('Employee Data'!$H$4:$H$553,MATCH(Databackup!A264,Employee_Name,0),0)),\"\",(INDEX('Employee Data'!$H$4:$H$553,MATCH(Databackup!A264,Employee_Name,0))))","v":""},{"$f":"IF(ISERROR(INDEX('Employee Data'!$I$4:$I$553,MATCH(Databackup!A264,Employee_Name,0),0)),\"\",(INDEX('Employee Data'!$I$4:$I$553,MATCH(Databackup!A264,Employee_Name,0))))","v":""},{"$f":"IF(ISERROR(INDEX('Employee Data'!$J$4:$J$553,MATCH(Databackup!A264,Employee_Name,0),0)),\"\",(INDEX('Employee Data'!J$4:$J$553,MATCH(Databackup!A264,Employee_Name,0))))","v":""},{"$f":"IF(ISERROR(INDEX('Employee Data'!$K$4:$K$553,MATCH(Databackup!A264,Employee_Name,0),0)),\"\",(INDEX('Employee Data'!$K$4:$K$553,MATCH(Databackup!A264,Employee_Name,0))))","v":""},{"$f":"IF(ISERROR(INDEX('Employee Data'!$L$4:$L$553,MATCH(Databackup!A264,Employee_Name,0),0)),\"\",(INDEX('Employee Data'!$L$4:$L$553,MATCH(Databackup!A264,Employee_Name,0))))","v":""},{"$f":"IF(ISERROR(INDEX('Employee Data'!$M$4:$M$553,MATCH(Databackup!A264,Employee_Name,0),0)),\"\",(INDEX('Employee Data'!$M$4:$M$553,MATCH(Databackup!A264,Employee_Name,0))))","v":""},{"$f":"IF(ISERROR(INDEX('Employee Data'!$N$4:$N$553,MATCH(Databackup!A264,Employee_Name,0),0)),\"\",(INDEX('Employee Data'!$N$4:$N$553,MATCH(Databackup!A264,Employee_Name,0))))","v":""},{"$f":"IF(ISERROR(INDEX('Employee Data'!$O$4:$O$553,MATCH(Databackup!A264,Employee_Name,0),0)),\"\",(INDEX('Employee Data'!$O$4:$O$553,MATCH(Databackup!A264,Employee_Name,0))))","v":""}]
[{"$f":"INDEX(Employee_Name,MATCH(SMALL(IF($A$1='Employee Data'!$I$4:$I$553,'Employee Data'!$B$4:$B$553,\"\"),ROW('Employee Data'!A263)),IF($A$1='Employee Data'!$I$4:$I$553,'Employee Data'!$B$4:$B$553,\"\"),0))","v":{"$error":"#NUM!"}},{"$f":"IF(ISERROR(INDEX('Employee Data'!$B$4:$B$553,MATCH(Databackup!A265,Employee_Name,0),0)),\"\",(INDEX('Employee Data'!$B$4:$B$553,MATCH(Databackup!A265,Employee_Name,0))))","v":""},{"$f":"IF(ISERROR(INDEX('Employee Data'!$C$4:$C$553,MATCH(Databackup!A265,Employee_Name,0),0)),\"\",(INDEX('Employee Data'!$C$4:$C$553,MATCH(Databackup!A265,Employee_Name,0))))","v":""},{"$f":"IF(ISERROR(INDEX('Employee Data'!$D$4:$D$553,MATCH(Databackup!A265,Employee_Name,0),0)),\"\",(INDEX('Employee Data'!$D$4:$D$553,MATCH(Databackup!A265,Employee_Name,0))))","v":""},{"$f":"IF(ISERROR(INDEX('Employee Data'!$F$4:$F$553,MATCH(Databackup!A265,Employee_Name,0),0)),\"\",(INDEX('Employee Data'!$F$4:$F$553,MATCH(Databackup!A265,Employee_Name,0))))","v":""},{"$f":"IF(ISERROR(INDEX('Employee Data'!$G$4:$G$553,MATCH(Databackup!A265,Employee_Name,0),0)),\"\",(INDEX('Employee Data'!$G$4:$G$553,MATCH(Databackup!A265,Employee_Name,0))))","v":""},{"$f":"IF(ISERROR(INDEX('Employee Data'!$H$4:$H$553,MATCH(Databackup!A265,Employee_Name,0),0)),\"\",(INDEX('Employee Data'!$H$4:$H$553,MATCH(Databackup!A265,Employee_Name,0))))","v":""},{"$f":"IF(ISERROR(INDEX('Employee Data'!$I$4:$I$553,MATCH(Databackup!A265,Employee_Name,0),0)),\"\",(INDEX('Employee Data'!$I$4:$I$553,MATCH(Databackup!A265,Employee_Name,0))))","v":""},{"$f":"IF(ISERROR(INDEX('Employee Data'!$J$4:$J$553,MATCH(Databackup!A265,Employee_Name,0),0)),\"\",(INDEX('Employee Data'!J$4:$J$553,MATCH(Databackup!A265,Employee_Name,0))))","v":""},{"$f":"IF(ISERROR(INDEX('Employee Data'!$K$4:$K$553,MATCH(Databackup!A265,Employee_Name,0),0)),\"\",(INDEX('Employee Data'!$K$4:$K$553,MATCH(Databackup!A265,Employee_Name,0))))","v":""},{"$f":"IF(ISERROR(INDEX('Employee Data'!$L$4:$L$553,MATCH(Databackup!A265,Employee_Name,0),0)),\"\",(INDEX('Employee Data'!$L$4:$L$553,MATCH(Databackup!A265,Employee_Name,0))))","v":""},{"$f":"IF(ISERROR(INDEX('Employee Data'!$M$4:$M$553,MATCH(Databackup!A265,Employee_Name,0),0)),\"\",(INDEX('Employee Data'!$M$4:$M$553,MATCH(Databackup!A265,Employee_Name,0))))","v":""},{"$f":"IF(ISERROR(INDEX('Employee Data'!$N$4:$N$553,MATCH(Databackup!A265,Employee_Name,0),0)),\"\",(INDEX('Employee Data'!$N$4:$N$553,MATCH(Databackup!A265,Employee_Name,0))))","v":""},{"$f":"IF(ISERROR(INDEX('Employee Data'!$O$4:$O$553,MATCH(Databackup!A265,Employee_Name,0),0)),\"\",(INDEX('Employee Data'!$O$4:$O$553,MATCH(Databackup!A265,Employee_Name,0))))","v":""}]
[{"$f":"INDEX(Employee_Name,MATCH(SMALL(IF($A$1='Employee Data'!$I$4:$I$553,'Employee Data'!$B$4:$B$553,\"\"),ROW('Employee Data'!A264)),IF($A$1='Employee Data'!$I$4:$I$553,'Employee Data'!$B$4:$B$553,\"\"),0))","v":{"$error":"#NUM!"}},{"$f":"IF(ISERROR(INDEX('Employee Data'!$B$4:$B$553,MATCH(Databackup!A266,Employee_Name,0),0)),\"\",(INDEX('Employee Data'!$B$4:$B$553,MATCH(Databackup!A266,Employee_Name,0))))","v":""},{"$f":"IF(ISERROR(INDEX('Employee Data'!$C$4:$C$553,MATCH(Databackup!A266,Employee_Name,0),0)),\"\",(INDEX('Employee Data'!$C$4:$C$553,MATCH(Databackup!A266,Employee_Name,0))))","v":""},{"$f":"IF(ISERROR(INDEX('Employee Data'!$D$4:$D$553,MATCH(Databackup!A266,Employee_Name,0),0)),\"\",(INDEX('Employee Data'!$D$4:$D$553,MATCH(Databackup!A266,Employee_Name,0))))","v":""},{"$f":"IF(ISERROR(INDEX('Employee Data'!$F$4:$F$553,MATCH(Databackup!A266,Employee_Name,0),0)),\"\",(INDEX('Employee Data'!$F$4:$F$553,MATCH(Databackup!A266,Employee_Name,0))))","v":""},{"$f":"IF(ISERROR(INDEX('Employee Data'!$G$4:$G$553,MATCH(Databackup!A266,Employee_Name,0),0)),\"\",(INDEX('Employee Data'!$G$4:$G$553,MATCH(Databackup!A266,Employee_Name,0))))","v":""},{"$f":"IF(ISERROR(INDEX('Employee Data'!$H$4:$H$553,MATCH(Databackup!A266,Employee_Name,0),0)),\"\",(INDEX('Employee Data'!$H$4:$H$553,MATCH(Databackup!A266,Employee_Name,0))))","v":""},{"$f":"IF(ISERROR(INDEX('Employee Data'!$I$4:$I$553,MATCH(Databackup!A266,Employee_Name,0),0)),\"\",(INDEX('Employee Data'!$I$4:$I$553,MATCH(Databackup!A266,Employee_Name,0))))","v":""},{"$f":"IF(ISERROR(INDEX('Employee Data'!$J$4:$J$553,MATCH(Databackup!A266,Employee_Name,0),0)),\"\",(INDEX('Employee Data'!J$4:$J$553,MATCH(Databackup!A266,Employee_Name,0))))","v":""},{"$f":"IF(ISERROR(INDEX('Employee Data'!$K$4:$K$553,MATCH(Databackup!A266,Employee_Name,0),0)),\"\",(INDEX('Employee Data'!$K$4:$K$553,MATCH(Databackup!A266,Employee_Name,0))))","v":""},{"$f":"IF(ISERROR(INDEX('Employee Data'!$L$4:$L$553,MATCH(Databackup!A266,Employee_Name,0),0)),\"\",(INDEX('Employee Data'!$L$4:$L$553,MATCH(Databackup!A266,Employee_Name,0))))","v":""},{"$f":"IF(ISERROR(INDEX('Employee Data'!$M$4:$M$553,MATCH(Databackup!A266,Employee_Name,0),0)),\"\",(INDEX('Employee Data'!$M$4:$M$553,MATCH(Databackup!A266,Employee_Name,0))))","v":""},{"$f":"IF(ISERROR(INDEX('Employee Data'!$N$4:$N$553,MATCH(Databackup!A266,Employee_Name,0),0)),\"\",(INDEX('Employee Data'!$N$4:$N$553,MATCH(Databackup!A266,Employee_Name,0))))","v":""},{"$f":"IF(ISERROR(INDEX('Employee Data'!$O$4:$O$553,MATCH(Databackup!A266,Employee_Name,0),0)),\"\",(INDEX('Employee Data'!$O$4:$O$553,MATCH(Databackup!A266,Employee_Name,0))))","v":""}]
[{"$f":"INDEX(Employee_Name,MATCH(SMALL(IF($A$1='Employee Data'!$I$4:$I$553,'Employee Data'!$B$4:$B$553,\"\"),ROW('Employee Data'!A265)),IF($A$1='Employee Data'!$I$4:$I$553,'Employee Data'!$B$4:$B$553,\"\"),0))","v":{"$error":"#NUM!"}},{"$f":"IF(ISERROR(INDEX('Employee Data'!$B$4:$B$553,MATCH(Databackup!A267,Employee_Name,0),0)),\"\",(INDEX('Employee Data'!$B$4:$B$553,MATCH(Databackup!A267,Employee_Name,0))))","v":""},{"$f":"IF(ISERROR(INDEX('Employee Data'!$C$4:$C$553,MATCH(Databackup!A267,Employee_Name,0),0)),\"\",(INDEX('Employee Data'!$C$4:$C$553,MATCH(Databackup!A267,Employee_Name,0))))","v":""},{"$f":"IF(ISERROR(INDEX('Employee Data'!$D$4:$D$553,MATCH(Databackup!A267,Employee_Name,0),0)),\"\",(INDEX('Employee Data'!$D$4:$D$553,MATCH(Databackup!A267,Employee_Name,0))))","v":""},{"$f":"IF(ISERROR(INDEX('Employee Data'!$F$4:$F$553,MATCH(Databackup!A267,Employee_Name,0),0)),\"\",(INDEX('Employee Data'!$F$4:$F$553,MATCH(Databackup!A267,Employee_Name,0))))","v":""},{"$f":"IF(ISERROR(INDEX('Employee Data'!$G$4:$G$553,MATCH(Databackup!A267,Employee_Name,0),0)),\"\",(INDEX('Employee Data'!$G$4:$G$553,MATCH(Databackup!A267,Employee_Name,0))))","v":""},{"$f":"IF(ISERROR(INDEX('Employee Data'!$H$4:$H$553,MATCH(Databackup!A267,Employee_Name,0),0)),\"\",(INDEX('Employee Data'!$H$4:$H$553,MATCH(Databackup!A267,Employee_Name,0))))","v":""},{"$f":"IF(ISERROR(INDEX('Employee Data'!$I$4:$I$553,MATCH(Databackup!A267,Employee_Name,0),0)),\"\",(INDEX('Employee Data'!$I$4:$I$553,MATCH(Databackup!A267,Employee_Name,0))))","v":""},{"$f":"IF(ISERROR(INDEX('Employee Data'!$J$4:$J$553,MATCH(Databackup!A267,Employee_Name,0),0)),\"\",(INDEX('Employee Data'!J$4:$J$553,MATCH(Databackup!A267,Employee_Name,0))))","v":""},{"$f":"IF(ISERROR(INDEX('Employee Data'!$K$4:$K$553,MATCH(Databackup!A267,Employee_Name,0),0)),\"\",(INDEX('Employee Data'!$K$4:$K$553,MATCH(Databackup!A267,Employee_Name,0))))","v":""},{"$f":"IF(ISERROR(INDEX('Employee Data'!$L$4:$L$553,MATCH(Databackup!A267,Employee_Name,0),0)),\"\",(INDEX('Employee Data'!$L$4:$L$553,MATCH(Databackup!A267,Employee_Name,0))))","v":""},{"$f":"IF(ISERROR(INDEX('Employee Data'!$M$4:$M$553,MATCH(Databackup!A267,Employee_Name,0),0)),\"\",(INDEX('Employee Data'!$M$4:$M$553,MATCH(Databackup!A267,Employee_Name,0))))","v":""},{"$f":"IF(ISERROR(INDEX('Employee Data'!$N$4:$N$553,MATCH(Databackup!A267,Employee_Name,0),0)),\"\",(INDEX('Employee Data'!$N$4:$N$553,MATCH(Databackup!A267,Employee_Name,0))))","v":""},{"$f":"IF(ISERROR(INDEX('Employee Data'!$O$4:$O$553,MATCH(Databackup!A267,Employee_Name,0),0)),\"\",(INDEX('Employee Data'!$O$4:$O$553,MATCH(Databackup!A267,Employee_Name,0))))","v":""}]
[{"$f":"INDEX(Employee_Name,MATCH(SMALL(IF($A$1='Employee Data'!$I$4:$I$553,'Employee Data'!$B$4:$B$553,\"\"),ROW('Employee Data'!A266)),IF($A$1='Employee Data'!$I$4:$I$553,'Employee Data'!$B$4:$B$553,\"\"),0))","v":{"$error":"#NUM!"}},{"$f":"IF(ISERROR(INDEX('Employee Data'!$B$4:$B$553,MATCH(Databackup!A268,Employee_Name,0),0)),\"\",(INDEX('Employee Data'!$B$4:$B$553,MATCH(Databackup!A268,Employee_Name,0))))","v":""},{"$f":"IF(ISERROR(INDEX('Employee Data'!$C$4:$C$553,MATCH(Databackup!A268,Employee_Name,0),0)),\"\",(INDEX('Employee Data'!$C$4:$C$553,MATCH(Databackup!A268,Employee_Name,0))))","v":""},{"$f":"IF(ISERROR(INDEX('Employee Data'!$D$4:$D$553,MATCH(Databackup!A268,Employee_Name,0),0)),\"\",(INDEX('Employee Data'!$D$4:$D$553,MATCH(Databackup!A268,Employee_Name,0))))","v":""},{"$f":"IF(ISERROR(INDEX('Employee Data'!$F$4:$F$553,MATCH(Databackup!A268,Employee_Name,0),0)),\"\",(INDEX('Employee Data'!$F$4:$F$553,MATCH(Databackup!A268,Employee_Name,0))))","v":""},{"$f":"IF(ISERROR(INDEX('Employee Data'!$G$4:$G$553,MATCH(Databackup!A268,Employee_Name,0),0)),\"\",(INDEX('Employee Data'!$G$4:$G$553,MATCH(Databackup!A268,Employee_Name,0))))","v":""},{"$f":"IF(ISERROR(INDEX('Employee Data'!$H$4:$H$553,MATCH(Databackup!A268,Employee_Name,0),0)),\"\",(INDEX('Employee Data'!$H$4:$H$553,MATCH(Databackup!A268,Employee_Name,0))))","v":""},{"$f":"IF(ISERROR(INDEX('Employee Data'!$I$4:$I$553,MATCH(Databackup!A268,Employee_Name,0),0)),\"\",(INDEX('Employee Data'!$I$4:$I$553,MATCH(Databackup!A268,Employee_Name,0))))","v":""},{"$f":"IF(ISERROR(INDEX('Employee Data'!$J$4:$J$553,MATCH(Databackup!A268,Employee_Name,0),0)),\"\",(INDEX('Employee Data'!J$4:$J$553,MATCH(Databackup!A268,Employee_Name,0))))","v":""},{"$f":"IF(ISERROR(INDEX('Employee Data'!$K$4:$K$553,MATCH(Databackup!A268,Employee_Name,0),0)),\"\",(INDEX('Employee Data'!$K$4:$K$553,MATCH(Databackup!A268,Employee_Name,0))))","v":""},{"$f":"IF(ISERROR(INDEX('Employee Data'!$L$4:$L$553,MATCH(Databackup!A268,Employee_Name,0),0)),\"\",(INDEX('Employee Data'!$L$4:$L$553,MATCH(Databackup!A268,Employee_Name,0))))","v":""},{"$f":"IF(ISERROR(INDEX('Employee Data'!$M$4:$M$553,MATCH(Databackup!A268,Employee_Name,0),0)),\"\",(INDEX('Employee Data'!$M$4:$M$553,MATCH(Databackup!A268,Employee_Name,0))))","v":""},{"$f":"IF(ISERROR(INDEX('Employee Data'!$N$4:$N$553,MATCH(Databackup!A268,Employee_Name,0),0)),\"\",(INDEX('Employee Data'!$N$4:$N$553,MATCH(Databackup!A268,Employee_Name,0))))","v":""},{"$f":"IF(ISERROR(INDEX('Employee Data'!$O$4:$O$553,MATCH(Databackup!A268,Employee_Name,0),0)),\"\",(INDEX('Employee Data'!$O$4:$O$553,MATCH(Databackup!A268,Employee_Name,0))))","v":""}]
[{"$f":"INDEX(Employee_Name,MATCH(SMALL(IF($A$1='Employee Data'!$I$4:$I$553,'Employee Data'!$B$4:$B$553,\"\"),ROW('Employee Data'!A267)),IF($A$1='Employee Data'!$I$4:$I$553,'Employee Data'!$B$4:$B$553,\"\"),0))","v":{"$error":"#NUM!"}},{"$f":"IF(ISERROR(INDEX('Employee Data'!$B$4:$B$553,MATCH(Databackup!A269,Employee_Name,0),0)),\"\",(INDEX('Employee Data'!$B$4:$B$553,MATCH(Databackup!A269,Employee_Name,0))))","v":""},{"$f":"IF(ISERROR(INDEX('Employee Data'!$C$4:$C$553,MATCH(Databackup!A269,Employee_Name,0),0)),\"\",(INDEX('Employee Data'!$C$4:$C$553,MATCH(Databackup!A269,Employee_Name,0))))","v":""},{"$f":"IF(ISERROR(INDEX('Employee Data'!$D$4:$D$553,MATCH(Databackup!A269,Employee_Name,0),0)),\"\",(INDEX('Employee Data'!$D$4:$D$553,MATCH(Databackup!A269,Employee_Name,0))))","v":""},{"$f":"IF(ISERROR(INDEX('Employee Data'!$F$4:$F$553,MATCH(Databackup!A269,Employee_Name,0),0)),\"\",(INDEX('Employee Data'!$F$4:$F$553,MATCH(Databackup!A269,Employee_Name,0))))","v":""},{"$f":"IF(ISERROR(INDEX('Employee Data'!$G$4:$G$553,MATCH(Databackup!A269,Employee_Name,0),0)),\"\",(INDEX('Employee Data'!$G$4:$G$553,MATCH(Databackup!A269,Employee_Name,0))))","v":""},{"$f":"IF(ISERROR(INDEX('Employee Data'!$H$4:$H$553,MATCH(Databackup!A269,Employee_Name,0),0)),\"\",(INDEX('Employee Data'!$H$4:$H$553,MATCH(Databackup!A269,Employee_Name,0))))","v":""},{"$f":"IF(ISERROR(INDEX('Employee Data'!$I$4:$I$553,MATCH(Databackup!A269,Employee_Name,0),0)),\"\",(INDEX('Employee Data'!$I$4:$I$553,MATCH(Databackup!A269,Employee_Name,0))))","v":""},{"$f":"IF(ISERROR(INDEX('Employee Data'!$J$4:$J$553,MATCH(Databackup!A269,Employee_Name,0),0)),\"\",(INDEX('Employee Data'!J$4:$J$553,MATCH(Databackup!A269,Employee_Name,0))))","v":""},{"$f":"IF(ISERROR(INDEX('Employee Data'!$K$4:$K$553,MATCH(Databackup!A269,Employee_Name,0),0)),\"\",(INDEX('Employee Data'!$K$4:$K$553,MATCH(Databackup!A269,Employee_Name,0))))","v":""},{"$f":"IF(ISERROR(INDEX('Employee Data'!$L$4:$L$553,MATCH(Databackup!A269,Employee_Name,0),0)),\"\",(INDEX('Employee Data'!$L$4:$L$553,MATCH(Databackup!A269,Employee_Name,0))))","v":""},{"$f":"IF(ISERROR(INDEX('Employee Data'!$M$4:$M$553,MATCH(Databackup!A269,Employee_Name,0),0)),\"\",(INDEX('Employee Data'!$M$4:$M$553,MATCH(Databackup!A269,Employee_Name,0))))","v":""},{"$f":"IF(ISERROR(INDEX('Employee Data'!$N$4:$N$553,MATCH(Databackup!A269,Employee_Name,0),0)),\"\",(INDEX('Employee Data'!$N$4:$N$553,MATCH(Databackup!A269,Employee_Name,0))))","v":""},{"$f":"IF(ISERROR(INDEX('Employee Data'!$O$4:$O$553,MATCH(Databackup!A269,Employee_Name,0),0)),\"\",(INDEX('Employee Data'!$O$4:$O$553,MATCH(Databackup!A269,Employee_Name,0))))","v":""}]
[{"$f":"INDEX(Employee_Name,MATCH(SMALL(IF($A$1='Employee Data'!$I$4:$I$553,'Employee Data'!$B$4:$B$553,\"\"),ROW('Employee Data'!A268)),IF($A$1='Employee Data'!$I$4:$I$553,'Employee Data'!$B$4:$B$553,\"\"),0))","v":{"$error":"#NUM!"}},{"$f":"IF(ISERROR(INDEX('Employee Data'!$B$4:$B$553,MATCH(Databackup!A270,Employee_Name,0),0)),\"\",(INDEX('Employee Data'!$B$4:$B$553,MATCH(Databackup!A270,Employee_Name,0))))","v":""},{"$f":"IF(ISERROR(INDEX('Employee Data'!$C$4:$C$553,MATCH(Databackup!A270,Employee_Name,0),0)),\"\",(INDEX('Employee Data'!$C$4:$C$553,MATCH(Databackup!A270,Employee_Name,0))))","v":""},{"$f":"IF(ISERROR(INDEX('Employee Data'!$D$4:$D$553,MATCH(Databackup!A270,Employee_Name,0),0)),\"\",(INDEX('Employee Data'!$D$4:$D$553,MATCH(Databackup!A270,Employee_Name,0))))","v":""},{"$f":"IF(ISERROR(INDEX('Employee Data'!$F$4:$F$553,MATCH(Databackup!A270,Employee_Name,0),0)),\"\",(INDEX('Employee Data'!$F$4:$F$553,MATCH(Databackup!A270,Employee_Name,0))))","v":""},{"$f":"IF(ISERROR(INDEX('Employee Data'!$G$4:$G$553,MATCH(Databackup!A270,Employee_Name,0),0)),\"\",(INDEX('Employee Data'!$G$4:$G$553,MATCH(Databackup!A270,Employee_Name,0))))","v":""},{"$f":"IF(ISERROR(INDEX('Employee Data'!$H$4:$H$553,MATCH(Databackup!A270,Employee_Name,0),0)),\"\",(INDEX('Employee Data'!$H$4:$H$553,MATCH(Databackup!A270,Employee_Name,0))))","v":""},{"$f":"IF(ISERROR(INDEX('Employee Data'!$I$4:$I$553,MATCH(Databackup!A270,Employee_Name,0),0)),\"\",(INDEX('Employee Data'!$I$4:$I$553,MATCH(Databackup!A270,Employee_Name,0))))","v":""},{"$f":"IF(ISERROR(INDEX('Employee Data'!$J$4:$J$553,MATCH(Databackup!A270,Employee_Name,0),0)),\"\",(INDEX('Employee Data'!J$4:$J$553,MATCH(Databackup!A270,Employee_Name,0))))","v":""},{"$f":"IF(ISERROR(INDEX('Employee Data'!$K$4:$K$553,MATCH(Databackup!A270,Employee_Name,0),0)),\"\",(INDEX('Employee Data'!$K$4:$K$553,MATCH(Databackup!A270,Employee_Name,0))))","v":""},{"$f":"IF(ISERROR(INDEX('Employee Data'!$L$4:$L$553,MATCH(Databackup!A270,Employee_Name,0),0)),\"\",(INDEX('Employee Data'!$L$4:$L$553,MATCH(Databackup!A270,Employee_Name,0))))","v":""},{"$f":"IF(ISERROR(INDEX('Employee Data'!$M$4:$M$553,MATCH(Databackup!A270,Employee_Name,0),0)),\"\",(INDEX('Employee Data'!$M$4:$M$553,MATCH(Databackup!A270,Employee_Name,0))))","v":""},{"$f":"IF(ISERROR(INDEX('Employee Data'!$N$4:$N$553,MATCH(Databackup!A270,Employee_Name,0),0)),\"\",(INDEX('Employee Data'!$N$4:$N$553,MATCH(Databackup!A270,Employee_Name,0))))","v":""},{"$f":"IF(ISERROR(INDEX('Employee Data'!$O$4:$O$553,MATCH(Databackup!A270,Employee_Name,0),0)),\"\",(INDEX('Employee Data'!$O$4:$O$553,MATCH(Databackup!A270,Employee_Name,0))))","v":""}]
[{"$f":"INDEX(Employee_Name,MATCH(SMALL(IF($A$1='Employee Data'!$I$4:$I$553,'Employee Data'!$B$4:$B$553,\"\"),ROW('Employee Data'!A269)),IF($A$1='Employee Data'!$I$4:$I$553,'Employee Data'!$B$4:$B$553,\"\"),0))","v":{"$error":"#NUM!"}},{"$f":"IF(ISERROR(INDEX('Employee Data'!$B$4:$B$553,MATCH(Databackup!A271,Employee_Name,0),0)),\"\",(INDEX('Employee Data'!$B$4:$B$553,MATCH(Databackup!A271,Employee_Name,0))))","v":""},{"$f":"IF(ISERROR(INDEX('Employee Data'!$C$4:$C$553,MATCH(Databackup!A271,Employee_Name,0),0)),\"\",(INDEX('Employee Data'!$C$4:$C$553,MATCH(Databackup!A271,Employee_Name,0))))","v":""},{"$f":"IF(ISERROR(INDEX('Employee Data'!$D$4:$D$553,MATCH(Databackup!A271,Employee_Name,0),0)),\"\",(INDEX('Employee Data'!$D$4:$D$553,MATCH(Databackup!A271,Employee_Name,0))))","v":""},{"$f":"IF(ISERROR(INDEX('Employee Data'!$F$4:$F$553,MATCH(Databackup!A271,Employee_Name,0),0)),\"\",(INDEX('Employee Data'!$F$4:$F$553,MATCH(Databackup!A271,Employee_Name,0))))","v":""},{"$f":"IF(ISERROR(INDEX('Employee Data'!$G$4:$G$553,MATCH(Databackup!A271,Employee_Name,0),0)),\"\",(INDEX('Employee Data'!$G$4:$G$553,MATCH(Databackup!A271,Employee_Name,0))))","v":""},{"$f":"IF(ISERROR(INDEX('Employee Data'!$H$4:$H$553,MATCH(Databackup!A271,Employee_Name,0),0)),\"\",(INDEX('Employee Data'!$H$4:$H$553,MATCH(Databackup!A271,Employee_Name,0))))","v":""},{"$f":"IF(ISERROR(INDEX('Employee Data'!$I$4:$I$553,MATCH(Databackup!A271,Employee_Name,0),0)),\"\",(INDEX('Employee Data'!$I$4:$I$553,MATCH(Databackup!A271,Employee_Name,0))))","v":""},{"$f":"IF(ISERROR(INDEX('Employee Data'!$J$4:$J$553,MATCH(Databackup!A271,Employee_Name,0),0)),\"\",(INDEX('Employee Data'!J$4:$J$553,MATCH(Databackup!A271,Employee_Name,0))))","v":""},{"$f":"IF(ISERROR(INDEX('Employee Data'!$K$4:$K$553,MATCH(Databackup!A271,Employee_Name,0),0)),\"\",(INDEX('Employee Data'!$K$4:$K$553,MATCH(Databackup!A271,Employee_Name,0))))","v":""},{"$f":"IF(ISERROR(INDEX('Employee Data'!$L$4:$L$553,MATCH(Databackup!A271,Employee_Name,0),0)),\"\",(INDEX('Employee Data'!$L$4:$L$553,MATCH(Databackup!A271,Employee_Name,0))))","v":""},{"$f":"IF(ISERROR(INDEX('Employee Data'!$M$4:$M$553,MATCH(Databackup!A271,Employee_Name,0),0)),\"\",(INDEX('Employee Data'!$M$4:$M$553,MATCH(Databackup!A271,Employee_Name,0))))","v":""},{"$f":"IF(ISERROR(INDEX('Employee Data'!$N$4:$N$553,MATCH(Databackup!A271,Employee_Name,0),0)),\"\",(INDEX('Employee Data'!$N$4:$N$553,MATCH(Databackup!A271,Employee_Name,0))))","v":""},{"$f":"IF(ISERROR(INDEX('Employee Data'!$O$4:$O$553,MATCH(Databackup!A271,Employee_Name,0),0)),\"\",(INDEX('Employee Data'!$O$4:$O$553,MATCH(Databackup!A271,Employee_Name,0))))","v":""}]
[{"$f":"INDEX(Employee_Name,MATCH(SMALL(IF($A$1='Employee Data'!$I$4:$I$553,'Employee Data'!$B$4:$B$553,\"\"),ROW('Employee Data'!A270)),IF($A$1='Employee Data'!$I$4:$I$553,'Employee Data'!$B$4:$B$553,\"\"),0))","v":{"$error":"#NUM!"}},{"$f":"IF(ISERROR(INDEX('Employee Data'!$B$4:$B$553,MATCH(Databackup!A272,Employee_Name,0),0)),\"\",(INDEX('Employee Data'!$B$4:$B$553,MATCH(Databackup!A272,Employee_Name,0))))","v":""},{"$f":"IF(ISERROR(INDEX('Employee Data'!$C$4:$C$553,MATCH(Databackup!A272,Employee_Name,0),0)),\"\",(INDEX('Employee Data'!$C$4:$C$553,MATCH(Databackup!A272,Employee_Name,0))))","v":""},{"$f":"IF(ISERROR(INDEX('Employee Data'!$D$4:$D$553,MATCH(Databackup!A272,Employee_Name,0),0)),\"\",(INDEX('Employee Data'!$D$4:$D$553,MATCH(Databackup!A272,Employee_Name,0))))","v":""},{"$f":"IF(ISERROR(INDEX('Employee Data'!$F$4:$F$553,MATCH(Databackup!A272,Employee_Name,0),0)),\"\",(INDEX('Employee Data'!$F$4:$F$553,MATCH(Databackup!A272,Employee_Name,0))))","v":""},{"$f":"IF(ISERROR(INDEX('Employee Data'!$G$4:$G$553,MATCH(Databackup!A272,Employee_Name,0),0)),\"\",(INDEX('Employee Data'!$G$4:$G$553,MATCH(Databackup!A272,Employee_Name,0))))","v":""},{"$f":"IF(ISERROR(INDEX('Employee Data'!$H$4:$H$553,MATCH(Databackup!A272,Employee_Name,0),0)),\"\",(INDEX('Employee Data'!$H$4:$H$553,MATCH(Databackup!A272,Employee_Name,0))))","v":""},{"$f":"IF(ISERROR(INDEX('Employee Data'!$I$4:$I$553,MATCH(Databackup!A272,Employee_Name,0),0)),\"\",(INDEX('Employee Data'!$I$4:$I$553,MATCH(Databackup!A272,Employee_Name,0))))","v":""},{"$f":"IF(ISERROR(INDEX('Employee Data'!$J$4:$J$553,MATCH(Databackup!A272,Employee_Name,0),0)),\"\",(INDEX('Employee Data'!J$4:$J$553,MATCH(Databackup!A272,Employee_Name,0))))","v":""},{"$f":"IF(ISERROR(INDEX('Employee Data'!$K$4:$K$553,MATCH(Databackup!A272,Employee_Name,0),0)),\"\",(INDEX('Employee Data'!$K$4:$K$553,MATCH(Databackup!A272,Employee_Name,0))))","v":""},{"$f":"IF(ISERROR(INDEX('Employee Data'!$L$4:$L$553,MATCH(Databackup!A272,Employee_Name,0),0)),\"\",(INDEX('Employee Data'!$L$4:$L$553,MATCH(Databackup!A272,Employee_Name,0))))","v":""},{"$f":"IF(ISERROR(INDEX('Employee Data'!$M$4:$M$553,MATCH(Databackup!A272,Employee_Name,0),0)),\"\",(INDEX('Employee Data'!$M$4:$M$553,MATCH(Databackup!A272,Employee_Name,0))))","v":""},{"$f":"IF(ISERROR(INDEX('Employee Data'!$N$4:$N$553,MATCH(Databackup!A272,Employee_Name,0),0)),\"\",(INDEX('Employee Data'!$N$4:$N$553,MATCH(Databackup!A272,Employee_Name,0))))","v":""},{"$f":"IF(ISERROR(INDEX('Employee Data'!$O$4:$O$553,MATCH(Databackup!A272,Employee_Name,0),0)),\"\",(INDEX('Employee Data'!$O$4:$O$553,MATCH(Databackup!A272,Employee_Name,0))))","v":""}]
[{"$f":"INDEX(Employee_Name,MATCH(SMALL(IF($A$1='Employee Data'!$I$4:$I$553,'Employee Data'!$B$4:$B$553,\"\"),ROW('Employee Data'!A271)),IF($A$1='Employee Data'!$I$4:$I$553,'Employee Data'!$B$4:$B$553,\"\"),0))","v":{"$error":"#NUM!"}},{"$f":"IF(ISERROR(INDEX('Employee Data'!$B$4:$B$553,MATCH(Databackup!A273,Employee_Name,0),0)),\"\",(INDEX('Employee Data'!$B$4:$B$553,MATCH(Databackup!A273,Employee_Name,0))))","v":""},{"$f":"IF(ISERROR(INDEX('Employee Data'!$C$4:$C$553,MATCH(Databackup!A273,Employee_Name,0),0)),\"\",(INDEX('Employee Data'!$C$4:$C$553,MATCH(Databackup!A273,Employee_Name,0))))","v":""},{"$f":"IF(ISERROR(INDEX('Employee Data'!$D$4:$D$553,MATCH(Databackup!A273,Employee_Name,0),0)),\"\",(INDEX('Employee Data'!$D$4:$D$553,MATCH(Databackup!A273,Employee_Name,0))))","v":""},{"$f":"IF(ISERROR(INDEX('Employee Data'!$F$4:$F$553,MATCH(Databackup!A273,Employee_Name,0),0)),\"\",(INDEX('Employee Data'!$F$4:$F$553,MATCH(Databackup!A273,Employee_Name,0))))","v":""},{"$f":"IF(ISERROR(INDEX('Employee Data'!$G$4:$G$553,MATCH(Databackup!A273,Employee_Name,0),0)),\"\",(INDEX('Employee Data'!$G$4:$G$553,MATCH(Databackup!A273,Employee_Name,0))))","v":""},{"$f":"IF(ISERROR(INDEX('Employee Data'!$H$4:$H$553,MATCH(Databackup!A273,Employee_Name,0),0)),\"\",(INDEX('Employee Data'!$H$4:$H$553,MATCH(Databackup!A273,Employee_Name,0))))","v":""},{"$f":"IF(ISERROR(INDEX('Employee Data'!$I$4:$I$553,MATCH(Databackup!A273,Employee_Name,0),0)),\"\",(INDEX('Employee Data'!$I$4:$I$553,MATCH(Databackup!A273,Employee_Name,0))))","v":""},{"$f":"IF(ISERROR(INDEX('Employee Data'!$J$4:$J$553,MATCH(Databackup!A273,Employee_Name,0),0)),\"\",(INDEX('Employee Data'!J$4:$J$553,MATCH(Databackup!A273,Employee_Name,0))))","v":""},{"$f":"IF(ISERROR(INDEX('Employee Data'!$K$4:$K$553,MATCH(Databackup!A273,Employee_Name,0),0)),\"\",(INDEX('Employee Data'!$K$4:$K$553,MATCH(Databackup!A273,Employee_Name,0))))","v":""},{"$f":"IF(ISERROR(INDEX('Employee Data'!$L$4:$L$553,MATCH(Databackup!A273,Employee_Name,0),0)),\"\",(INDEX('Employee Data'!$L$4:$L$553,MATCH(Databackup!A273,Employee_Name,0))))","v":""},{"$f":"IF(ISERROR(INDEX('Employee Data'!$M$4:$M$553,MATCH(Databackup!A273,Employee_Name,0),0)),\"\",(INDEX('Employee Data'!$M$4:$M$553,MATCH(Databackup!A273,Employee_Name,0))))","v":""},{"$f":"IF(ISERROR(INDEX('Employee Data'!$N$4:$N$553,MATCH(Databackup!A273,Employee_Name,0),0)),\"\",(INDEX('Employee Data'!$N$4:$N$553,MATCH(Databackup!A273,Employee_Name,0))))","v":""},{"$f":"IF(ISERROR(INDEX('Employee Data'!$O$4:$O$553,MATCH(Databackup!A273,Employee_Name,0),0)),\"\",(INDEX('Employee Data'!$O$4:$O$553,MATCH(Databackup!A273,Employee_Name,0))))","v":""}]
[{"$f":"INDEX(Employee_Name,MATCH(SMALL(IF($A$1='Employee Data'!$I$4:$I$553,'Employee Data'!$B$4:$B$553,\"\"),ROW('Employee Data'!A272)),IF($A$1='Employee Data'!$I$4:$I$553,'Employee Data'!$B$4:$B$553,\"\"),0))","v":{"$error":"#NUM!"}},{"$f":"IF(ISERROR(INDEX('Employee Data'!$B$4:$B$553,MATCH(Databackup!A274,Employee_Name,0),0)),\"\",(INDEX('Employee Data'!$B$4:$B$553,MATCH(Databackup!A274,Employee_Name,0))))","v":""},{"$f":"IF(ISERROR(INDEX('Employee Data'!$C$4:$C$553,MATCH(Databackup!A274,Employee_Name,0),0)),\"\",(INDEX('Employee Data'!$C$4:$C$553,MATCH(Databackup!A274,Employee_Name,0))))","v":""},{"$f":"IF(ISERROR(INDEX('Employee Data'!$D$4:$D$553,MATCH(Databackup!A274,Employee_Name,0),0)),\"\",(INDEX('Employee Data'!$D$4:$D$553,MATCH(Databackup!A274,Employee_Name,0))))","v":""},{"$f":"IF(ISERROR(INDEX('Employee Data'!$F$4:$F$553,MATCH(Databackup!A274,Employee_Name,0),0)),\"\",(INDEX('Employee Data'!$F$4:$F$553,MATCH(Databackup!A274,Employee_Name,0))))","v":""},{"$f":"IF(ISERROR(INDEX('Employee Data'!$G$4:$G$553,MATCH(Databackup!A274,Employee_Name,0),0)),\"\",(INDEX('Employee Data'!$G$4:$G$553,MATCH(Databackup!A274,Employee_Name,0))))","v":""},{"$f":"IF(ISERROR(INDEX('Employee Data'!$H$4:$H$553,MATCH(Databackup!A274,Employee_Name,0),0)),\"\",(INDEX('Employee Data'!$H$4:$H$553,MATCH(Databackup!A274,Employee_Name,0))))","v":""},{"$f":"IF(ISERROR(INDEX('Employee Data'!$I$4:$I$553,MATCH(Databackup!A274,Employee_Name,0),0)),\"\",(INDEX('Employee Data'!$I$4:$I$553,MATCH(Databackup!A274,Employee_Name,0))))","v":""},{"$f":"IF(ISERROR(INDEX('Employee Data'!$J$4:$J$553,MATCH(Databackup!A274,Employee_Name,0),0)),\"\",(INDEX('Employee Data'!J$4:$J$553,MATCH(Databackup!A274,Employee_Name,0))))","v":""},{"$f":"IF(ISERROR(INDEX('Employee Data'!$K$4:$K$553,MATCH(Databackup!A274,Employee_Name,0),0)),\"\",(INDEX('Employee Data'!$K$4:$K$553,MATCH(Databackup!A274,Employee_Name,0))))","v":""},{"$f":"IF(ISERROR(INDEX('Employee Data'!$L$4:$L$553,MATCH(Databackup!A274,Employee_Name,0),0)),\"\",(INDEX('Employee Data'!$L$4:$L$553,MATCH(Databackup!A274,Employee_Name,0))))","v":""},{"$f":"IF(ISERROR(INDEX('Employee Data'!$M$4:$M$553,MATCH(Databackup!A274,Employee_Name,0),0)),\"\",(INDEX('Employee Data'!$M$4:$M$553,MATCH(Databackup!A274,Employee_Name,0))))","v":""},{"$f":"IF(ISERROR(INDEX('Employee Data'!$N$4:$N$553,MATCH(Databackup!A274,Employee_Name,0),0)),\"\",(INDEX('Employee Data'!$N$4:$N$553,MATCH(Databackup!A274,Employee_Name,0))))","v":""},{"$f":"IF(ISERROR(INDEX('Employee Data'!$O$4:$O$553,MATCH(Databackup!A274,Employee_Name,0),0)),\"\",(INDEX('Employee Data'!$O$4:$O$553,MATCH(Databackup!A274,Employee_Name,0))))","v":""}]
[{"$f":"INDEX(Employee_Name,MATCH(SMALL(IF($A$1='Employee Data'!$I$4:$I$553,'Employee Data'!$B$4:$B$553,\"\"),ROW('Employee Data'!A273)),IF($A$1='Employee Data'!$I$4:$I$553,'Employee Data'!$B$4:$B$553,\"\"),0))","v":{"$error":"#NUM!"}},{"$f":"IF(ISERROR(INDEX('Employee Data'!$B$4:$B$553,MATCH(Databackup!A275,Employee_Name,0),0)),\"\",(INDEX('Employee Data'!$B$4:$B$553,MATCH(Databackup!A275,Employee_Name,0))))","v":""},{"$f":"IF(ISERROR(INDEX('Employee Data'!$C$4:$C$553,MATCH(Databackup!A275,Employee_Name,0),0)),\"\",(INDEX('Employee Data'!$C$4:$C$553,MATCH(Databackup!A275,Employee_Name,0))))","v":""},{"$f":"IF(ISERROR(INDEX('Employee Data'!$D$4:$D$553,MATCH(Databackup!A275,Employee_Name,0),0)),\"\",(INDEX('Employee Data'!$D$4:$D$553,MATCH(Databackup!A275,Employee_Name,0))))","v":""},{"$f":"IF(ISERROR(INDEX('Employee Data'!$F$4:$F$553,MATCH(Databackup!A275,Employee_Name,0),0)),\"\",(INDEX('Employee Data'!$F$4:$F$553,MATCH(Databackup!A275,Employee_Name,0))))","v":""},{"$f":"IF(ISERROR(INDEX('Employee Data'!$G$4:$G$553,MATCH(Databackup!A275,Employee_Name,0),0)),\"\",(INDEX('Employee Data'!$G$4:$G$553,MATCH(Databackup!A275,Employee_Name,0))))","v":""},{"$f":"IF(ISERROR(INDEX('Employee Data'!$H$4:$H$553,MATCH(Databackup!A275,Employee_Name,0),0)),\"\",(INDEX('Employee Data'!$H$4:$H$553,MATCH(Databackup!A275,Employee_Name,0))))","v":""},{"$f":"IF(ISERROR(INDEX('Employee Data'!$I$4:$I$553,MATCH(Databackup!A275,Employee_Name,0),0)),\"\",(INDEX('Employee Data'!$I$4:$I$553,MATCH(Databackup!A275,Employee_Name,0))))","v":""},{"$f":"IF(ISERROR(INDEX('Employee Data'!$J$4:$J$553,MATCH(Databackup!A275,Employee_Name,0),0)),\"\",(INDEX('Employee Data'!J$4:$J$553,MATCH(Databackup!A275,Employee_Name,0))))","v":""},{"$f":"IF(ISERROR(INDEX('Employee Data'!$K$4:$K$553,MATCH(Databackup!A275,Employee_Name,0),0)),\"\",(INDEX('Employee Data'!$K$4:$K$553,MATCH(Databackup!A275,Employee_Name,0))))","v":""},{"$f":"IF(ISERROR(INDEX('Employee Data'!$L$4:$L$553,MATCH(Databackup!A275,Employee_Name,0),0)),\"\",(INDEX('Employee Data'!$L$4:$L$553,MATCH(Databackup!A275,Employee_Name,0))))","v":""},{"$f":"IF(ISERROR(INDEX('Employee Data'!$M$4:$M$553,MATCH(Databackup!A275,Employee_Name,0),0)),\"\",(INDEX('Employee Data'!$M$4:$M$553,MATCH(Databackup!A275,Employee_Name,0))))","v":""},{"$f":"IF(ISERROR(INDEX('Employee Data'!$N$4:$N$553,MATCH(Databackup!A275,Employee_Name,0),0)),\"\",(INDEX('Employee Data'!$N$4:$N$553,MATCH(Databackup!A275,Employee_Name,0))))","v":""},{"$f":"IF(ISERROR(INDEX('Employee Data'!$O$4:$O$553,MATCH(Databackup!A275,Employee_Name,0),0)),\"\",(INDEX('Employee Data'!$O$4:$O$553,MATCH(Databackup!A275,Employee_Name,0))))","v":""}]
[{"$f":"INDEX(Employee_Name,MATCH(SMALL(IF($A$1='Employee Data'!$I$4:$I$553,'Employee Data'!$B$4:$B$553,\"\"),ROW('Employee Data'!A274)),IF($A$1='Employee Data'!$I$4:$I$553,'Employee Data'!$B$4:$B$553,\"\"),0))","v":{"$error":"#NUM!"}},{"$f":"IF(ISERROR(INDEX('Employee Data'!$B$4:$B$553,MATCH(Databackup!A276,Employee_Name,0),0)),\"\",(INDEX('Employee Data'!$B$4:$B$553,MATCH(Databackup!A276,Employee_Name,0))))","v":""},{"$f":"IF(ISERROR(INDEX('Employee Data'!$C$4:$C$553,MATCH(Databackup!A276,Employee_Name,0),0)),\"\",(INDEX('Employee Data'!$C$4:$C$553,MATCH(Databackup!A276,Employee_Name,0))))","v":""},{"$f":"IF(ISERROR(INDEX('Employee Data'!$D$4:$D$553,MATCH(Databackup!A276,Employee_Name,0),0)),\"\",(INDEX('Employee Data'!$D$4:$D$553,MATCH(Databackup!A276,Employee_Name,0))))","v":""},{"$f":"IF(ISERROR(INDEX('Employee Data'!$F$4:$F$553,MATCH(Databackup!A276,Employee_Name,0),0)),\"\",(INDEX('Employee Data'!$F$4:$F$553,MATCH(Databackup!A276,Employee_Name,0))))","v":""},{"$f":"IF(ISERROR(INDEX('Employee Data'!$G$4:$G$553,MATCH(Databackup!A276,Employee_Name,0),0)),\"\",(INDEX('Employee Data'!$G$4:$G$553,MATCH(Databackup!A276,Employee_Name,0))))","v":""},{"$f":"IF(ISERROR(INDEX('Employee Data'!$H$4:$H$553,MATCH(Databackup!A276,Employee_Name,0),0)),\"\",(INDEX('Employee Data'!$H$4:$H$553,MATCH(Databackup!A276,Employee_Name,0))))","v":""},{"$f":"IF(ISERROR(INDEX('Employee Data'!$I$4:$I$553,MATCH(Databackup!A276,Employee_Name,0),0)),\"\",(INDEX('Employee Data'!$I$4:$I$553,MATCH(Databackup!A276,Employee_Name,0))))","v":""},{"$f":"IF(ISERROR(INDEX('Employee Data'!$J$4:$J$553,MATCH(Databackup!A276,Employee_Name,0),0)),\"\",(INDEX('Employee Data'!J$4:$J$553,MATCH(Databackup!A276,Employee_Name,0))))","v":""},{"$f":"IF(ISERROR(INDEX('Employee Data'!$K$4:$K$553,MATCH(Databackup!A276,Employee_Name,0),0)),\"\",(INDEX('Employee Data'!$K$4:$K$553,MATCH(Databackup!A276,Employee_Name,0))))","v":""},{"$f":"IF(ISERROR(INDEX('Employee Data'!$L$4:$L$553,MATCH(Databackup!A276,Employee_Name,0),0)),\"\",(INDEX('Employee Data'!$L$4:$L$553,MATCH(Databackup!A276,Employee_Name,0))))","v":""},{"$f":"IF(ISERROR(INDEX('Employee Data'!$M$4:$M$553,MATCH(Databackup!A276,Employee_Name,0),0)),\"\",(INDEX('Employee Data'!$M$4:$M$553,MATCH(Databackup!A276,Employee_Name,0))))","v":""},{"$f":"IF(ISERROR(INDEX('Employee Data'!$N$4:$N$553,MATCH(Databackup!A276,Employee_Name,0),0)),\"\",(INDEX('Employee Data'!$N$4:$N$553,MATCH(Databackup!A276,Employee_Name,0))))","v":""},{"$f":"IF(ISERROR(INDEX('Employee Data'!$O$4:$O$553,MATCH(Databackup!A276,Employee_Name,0),0)),\"\",(INDEX('Employee Data'!$O$4:$O$553,MATCH(Databackup!A276,Employee_Name,0))))","v":""}]
[{"$f":"INDEX(Employee_Name,MATCH(SMALL(IF($A$1='Employee Data'!$I$4:$I$553,'Employee Data'!$B$4:$B$553,\"\"),ROW('Employee Data'!A275)),IF($A$1='Employee Data'!$I$4:$I$553,'Employee Data'!$B$4:$B$553,\"\"),0))","v":{"$error":"#NUM!"}},{"$f":"IF(ISERROR(INDEX('Employee Data'!$B$4:$B$553,MATCH(Databackup!A277,Employee_Name,0),0)),\"\",(INDEX('Employee Data'!$B$4:$B$553,MATCH(Databackup!A277,Employee_Name,0))))","v":""},{"$f":"IF(ISERROR(INDEX('Employee Data'!$C$4:$C$553,MATCH(Databackup!A277,Employee_Name,0),0)),\"\",(INDEX('Employee Data'!$C$4:$C$553,MATCH(Databackup!A277,Employee_Name,0))))","v":""},{"$f":"IF(ISERROR(INDEX('Employee Data'!$D$4:$D$553,MATCH(Databackup!A277,Employee_Name,0),0)),\"\",(INDEX('Employee Data'!$D$4:$D$553,MATCH(Databackup!A277,Employee_Name,0))))","v":""},{"$f":"IF(ISERROR(INDEX('Employee Data'!$F$4:$F$553,MATCH(Databackup!A277,Employee_Name,0),0)),\"\",(INDEX('Employee Data'!$F$4:$F$553,MATCH(Databackup!A277,Employee_Name,0))))","v":""},{"$f":"IF(ISERROR(INDEX('Employee Data'!$G$4:$G$553,MATCH(Databackup!A277,Employee_Name,0),0)),\"\",(INDEX('Employee Data'!$G$4:$G$553,MATCH(Databackup!A277,Employee_Name,0))))","v":""},{"$f":"IF(ISERROR(INDEX('Employee Data'!$H$4:$H$553,MATCH(Databackup!A277,Employee_Name,0),0)),\"\",(INDEX('Employee Data'!$H$4:$H$553,MATCH(Databackup!A277,Employee_Name,0))))","v":""},{"$f":"IF(ISERROR(INDEX('Employee Data'!$I$4:$I$553,MATCH(Databackup!A277,Employee_Name,0),0)),\"\",(INDEX('Employee Data'!$I$4:$I$553,MATCH(Databackup!A277,Employee_Name,0))))","v":""},{"$f":"IF(ISERROR(INDEX('Employee Data'!$J$4:$J$553,MATCH(Databackup!A277,Employee_Name,0),0)),\"\",(INDEX('Employee Data'!J$4:$J$553,MATCH(Databackup!A277,Employee_Name,0))))","v":""},{"$f":"IF(ISERROR(INDEX('Employee Data'!$K$4:$K$553,MATCH(Databackup!A277,Employee_Name,0),0)),\"\",(INDEX('Employee Data'!$K$4:$K$553,MATCH(Databackup!A277,Employee_Name,0))))","v":""},{"$f":"IF(ISERROR(INDEX('Employee Data'!$L$4:$L$553,MATCH(Databackup!A277,Employee_Name,0),0)),\"\",(INDEX('Employee Data'!$L$4:$L$553,MATCH(Databackup!A277,Employee_Name,0))))","v":""},{"$f":"IF(ISERROR(INDEX('Employee Data'!$M$4:$M$553,MATCH(Databackup!A277,Employee_Name,0),0)),\"\",(INDEX('Employee Data'!$M$4:$M$553,MATCH(Databackup!A277,Employee_Name,0))))","v":""},{"$f":"IF(ISERROR(INDEX('Employee Data'!$N$4:$N$553,MATCH(Databackup!A277,Employee_Name,0),0)),\"\",(INDEX('Employee Data'!$N$4:$N$553,MATCH(Databackup!A277,Employee_Name,0))))","v":""},{"$f":"IF(ISERROR(INDEX('Employee Data'!$O$4:$O$553,MATCH(Databackup!A277,Employee_Name,0),0)),\"\",(INDEX('Employee Data'!$O$4:$O$553,MATCH(Databackup!A277,Employee_Name,0))))","v":""}]
[{"$f":"INDEX(Employee_Name,MATCH(SMALL(IF($A$1='Employee Data'!$I$4:$I$553,'Employee Data'!$B$4:$B$553,\"\"),ROW('Employee Data'!A276)),IF($A$1='Employee Data'!$I$4:$I$553,'Employee Data'!$B$4:$B$553,\"\"),0))","v":{"$error":"#NUM!"}},{"$f":"IF(ISERROR(INDEX('Employee Data'!$B$4:$B$553,MATCH(Databackup!A278,Employee_Name,0),0)),\"\",(INDEX('Employee Data'!$B$4:$B$553,MATCH(Databackup!A278,Employee_Name,0))))","v":""},{"$f":"IF(ISERROR(INDEX('Employee Data'!$C$4:$C$553,MATCH(Databackup!A278,Employee_Name,0),0)),\"\",(INDEX('Employee Data'!$C$4:$C$553,MATCH(Databackup!A278,Employee_Name,0))))","v":""},{"$f":"IF(ISERROR(INDEX('Employee Data'!$D$4:$D$553,MATCH(Databackup!A278,Employee_Name,0),0)),\"\",(INDEX('Employee Data'!$D$4:$D$553,MATCH(Databackup!A278,Employee_Name,0))))","v":""},{"$f":"IF(ISERROR(INDEX('Employee Data'!$F$4:$F$553,MATCH(Databackup!A278,Employee_Name,0),0)),\"\",(INDEX('Employee Data'!$F$4:$F$553,MATCH(Databackup!A278,Employee_Name,0))))","v":""},{"$f":"IF(ISERROR(INDEX('Employee Data'!$G$4:$G$553,MATCH(Databackup!A278,Employee_Name,0),0)),\"\",(INDEX('Employee Data'!$G$4:$G$553,MATCH(Databackup!A278,Employee_Name,0))))","v":""},{"$f":"IF(ISERROR(INDEX('Employee Data'!$H$4:$H$553,MATCH(Databackup!A278,Employee_Name,0),0)),\"\",(INDEX('Employee Data'!$H$4:$H$553,MATCH(Databackup!A278,Employee_Name,0))))","v":""},{"$f":"IF(ISERROR(INDEX('Employee Data'!$I$4:$I$553,MATCH(Databackup!A278,Employee_Name,0),0)),\"\",(INDEX('Employee Data'!$I$4:$I$553,MATCH(Databackup!A278,Employee_Name,0))))","v":""},{"$f":"IF(ISERROR(INDEX('Employee Data'!$J$4:$J$553,MATCH(Databackup!A278,Employee_Name,0),0)),\"\",(INDEX('Employee Data'!J$4:$J$553,MATCH(Databackup!A278,Employee_Name,0))))","v":""},{"$f":"IF(ISERROR(INDEX('Employee Data'!$K$4:$K$553,MATCH(Databackup!A278,Employee_Name,0),0)),\"\",(INDEX('Employee Data'!$K$4:$K$553,MATCH(Databackup!A278,Employee_Name,0))))","v":""},{"$f":"IF(ISERROR(INDEX('Employee Data'!$L$4:$L$553,MATCH(Databackup!A278,Employee_Name,0),0)),\"\",(INDEX('Employee Data'!$L$4:$L$553,MATCH(Databackup!A278,Employee_Name,0))))","v":""},{"$f":"IF(ISERROR(INDEX('Employee Data'!$M$4:$M$553,MATCH(Databackup!A278,Employee_Name,0),0)),\"\",(INDEX('Employee Data'!$M$4:$M$553,MATCH(Databackup!A278,Employee_Name,0))))","v":""},{"$f":"IF(ISERROR(INDEX('Employee Data'!$N$4:$N$553,MATCH(Databackup!A278,Employee_Name,0),0)),\"\",(INDEX('Employee Data'!$N$4:$N$553,MATCH(Databackup!A278,Employee_Name,0))))","v":""},{"$f":"IF(ISERROR(INDEX('Employee Data'!$O$4:$O$553,MATCH(Databackup!A278,Employee_Name,0),0)),\"\",(INDEX('Employee Data'!$O$4:$O$553,MATCH(Databackup!A278,Employee_Name,0))))","v":""}]
[{"$f":"INDEX(Employee_Name,MATCH(SMALL(IF($A$1='Employee Data'!$I$4:$I$553,'Employee Data'!$B$4:$B$553,\"\"),ROW('Employee Data'!A277)),IF($A$1='Employee Data'!$I$4:$I$553,'Employee Data'!$B$4:$B$553,\"\"),0))","v":{"$error":"#NUM!"}},{"$f":"IF(ISERROR(INDEX('Employee Data'!$B$4:$B$553,MATCH(Databackup!A279,Employee_Name,0),0)),\"\",(INDEX('Employee Data'!$B$4:$B$553,MATCH(Databackup!A279,Employee_Name,0))))","v":""},{"$f":"IF(ISERROR(INDEX('Employee Data'!$C$4:$C$553,MATCH(Databackup!A279,Employee_Name,0),0)),\"\",(INDEX('Employee Data'!$C$4:$C$553,MATCH(Databackup!A279,Employee_Name,0))))","v":""},{"$f":"IF(ISERROR(INDEX('Employee Data'!$D$4:$D$553,MATCH(Databackup!A279,Employee_Name,0),0)),\"\",(INDEX('Employee Data'!$D$4:$D$553,MATCH(Databackup!A279,Employee_Name,0))))","v":""},{"$f":"IF(ISERROR(INDEX('Employee Data'!$F$4:$F$553,MATCH(Databackup!A279,Employee_Name,0),0)),\"\",(INDEX('Employee Data'!$F$4:$F$553,MATCH(Databackup!A279,Employee_Name,0))))","v":""},{"$f":"IF(ISERROR(INDEX('Employee Data'!$G$4:$G$553,MATCH(Databackup!A279,Employee_Name,0),0)),\"\",(INDEX('Employee Data'!$G$4:$G$553,MATCH(Databackup!A279,Employee_Name,0))))","v":""},{"$f":"IF(ISERROR(INDEX('Employee Data'!$H$4:$H$553,MATCH(Databackup!A279,Employee_Name,0),0)),\"\",(INDEX('Employee Data'!$H$4:$H$553,MATCH(Databackup!A279,Employee_Name,0))))","v":""},{"$f":"IF(ISERROR(INDEX('Employee Data'!$I$4:$I$553,MATCH(Databackup!A279,Employee_Name,0),0)),\"\",(INDEX('Employee Data'!$I$4:$I$553,MATCH(Databackup!A279,Employee_Name,0))))","v":""},{"$f":"IF(ISERROR(INDEX('Employee Data'!$J$4:$J$553,MATCH(Databackup!A279,Employee_Name,0),0)),\"\",(INDEX('Employee Data'!J$4:$J$553,MATCH(Databackup!A279,Employee_Name,0))))","v":""},{"$f":"IF(ISERROR(INDEX('Employee Data'!$K$4:$K$553,MATCH(Databackup!A279,Employee_Name,0),0)),\"\",(INDEX('Employee Data'!$K$4:$K$553,MATCH(Databackup!A279,Employee_Name,0))))","v":""},{"$f":"IF(ISERROR(INDEX('Employee Data'!$L$4:$L$553,MATCH(Databackup!A279,Employee_Name,0),0)),\"\",(INDEX('Employee Data'!$L$4:$L$553,MATCH(Databackup!A279,Employee_Name,0))))","v":""},{"$f":"IF(ISERROR(INDEX('Employee Data'!$M$4:$M$553,MATCH(Databackup!A279,Employee_Name,0),0)),\"\",(INDEX('Employee Data'!$M$4:$M$553,MATCH(Databackup!A279,Employee_Name,0))))","v":""},{"$f":"IF(ISERROR(INDEX('Employee Data'!$N$4:$N$553,MATCH(Databackup!A279,Employee_Name,0),0)),\"\",(INDEX('Employee Data'!$N$4:$N$553,MATCH(Databackup!A279,Employee_Name,0))))","v":""},{"$f":"IF(ISERROR(INDEX('Employee Data'!$O$4:$O$553,MATCH(Databackup!A279,Employee_Name,0),0)),\"\",(INDEX('Employee Data'!$O$4:$O$553,MATCH(Databackup!A279,Employee_Name,0))))","v":""}]
[{"$f":"INDEX(Employee_Name,MATCH(SMALL(IF($A$1='Employee Data'!$I$4:$I$553,'Employee Data'!$B$4:$B$553,\"\"),ROW('Employee Data'!A278)),IF($A$1='Employee Data'!$I$4:$I$553,'Employee Data'!$B$4:$B$553,\"\"),0))","v":{"$error":"#NUM!"}},{"$f":"IF(ISERROR(INDEX('Employee Data'!$B$4:$B$553,MATCH(Databackup!A280,Employee_Name,0),0)),\"\",(INDEX('Employee Data'!$B$4:$B$553,MATCH(Databackup!A280,Employee_Name,0))))","v":""},{"$f":"IF(ISERROR(INDEX('Employee Data'!$C$4:$C$553,MATCH(Databackup!A280,Employee_Name,0),0)),\"\",(INDEX('Employee Data'!$C$4:$C$553,MATCH(Databackup!A280,Employee_Name,0))))","v":""},{"$f":"IF(ISERROR(INDEX('Employee Data'!$D$4:$D$553,MATCH(Databackup!A280,Employee_Name,0),0)),\"\",(INDEX('Employee Data'!$D$4:$D$553,MATCH(Databackup!A280,Employee_Name,0))))","v":""},{"$f":"IF(ISERROR(INDEX('Employee Data'!$F$4:$F$553,MATCH(Databackup!A280,Employee_Name,0),0)),\"\",(INDEX('Employee Data'!$F$4:$F$553,MATCH(Databackup!A280,Employee_Name,0))))","v":""},{"$f":"IF(ISERROR(INDEX('Employee Data'!$G$4:$G$553,MATCH(Databackup!A280,Employee_Name,0),0)),\"\",(INDEX('Employee Data'!$G$4:$G$553,MATCH(Databackup!A280,Employee_Name,0))))","v":""},{"$f":"IF(ISERROR(INDEX('Employee Data'!$H$4:$H$553,MATCH(Databackup!A280,Employee_Name,0),0)),\"\",(INDEX('Employee Data'!$H$4:$H$553,MATCH(Databackup!A280,Employee_Name,0))))","v":""},{"$f":"IF(ISERROR(INDEX('Employee Data'!$I$4:$I$553,MATCH(Databackup!A280,Employee_Name,0),0)),\"\",(INDEX('Employee Data'!$I$4:$I$553,MATCH(Databackup!A280,Employee_Name,0))))","v":""},{"$f":"IF(ISERROR(INDEX('Employee Data'!$J$4:$J$553,MATCH(Databackup!A280,Employee_Name,0),0)),\"\",(INDEX('Employee Data'!J$4:$J$553,MATCH(Databackup!A280,Employee_Name,0))))","v":""},{"$f":"IF(ISERROR(INDEX('Employee Data'!$K$4:$K$553,MATCH(Databackup!A280,Employee_Name,0),0)),\"\",(INDEX('Employee Data'!$K$4:$K$553,MATCH(Databackup!A280,Employee_Name,0))))","v":""},{"$f":"IF(ISERROR(INDEX('Employee Data'!$L$4:$L$553,MATCH(Databackup!A280,Employee_Name,0),0)),\"\",(INDEX('Employee Data'!$L$4:$L$553,MATCH(Databackup!A280,Employee_Name,0))))","v":""},{"$f":"IF(ISERROR(INDEX('Employee Data'!$M$4:$M$553,MATCH(Databackup!A280,Employee_Name,0),0)),\"\",(INDEX('Employee Data'!$M$4:$M$553,MATCH(Databackup!A280,Employee_Name,0))))","v":""},{"$f":"IF(ISERROR(INDEX('Employee Data'!$N$4:$N$553,MATCH(Databackup!A280,Employee_Name,0),0)),\"\",(INDEX('Employee Data'!$N$4:$N$553,MATCH(Databackup!A280,Employee_Name,0))))","v":""},{"$f":"IF(ISERROR(INDEX('Employee Data'!$O$4:$O$553,MATCH(Databackup!A280,Employee_Name,0),0)),\"\",(INDEX('Employee Data'!$O$4:$O$553,MATCH(Databackup!A280,Employee_Name,0))))","v":""}]
[{"$f":"INDEX(Employee_Name,MATCH(SMALL(IF($A$1='Employee Data'!$I$4:$I$553,'Employee Data'!$B$4:$B$553,\"\"),ROW('Employee Data'!A279)),IF($A$1='Employee Data'!$I$4:$I$553,'Employee Data'!$B$4:$B$553,\"\"),0))","v":{"$error":"#NUM!"}},{"$f":"IF(ISERROR(INDEX('Employee Data'!$B$4:$B$553,MATCH(Databackup!A281,Employee_Name,0),0)),\"\",(INDEX('Employee Data'!$B$4:$B$553,MATCH(Databackup!A281,Employee_Name,0))))","v":""},{"$f":"IF(ISERROR(INDEX('Employee Data'!$C$4:$C$553,MATCH(Databackup!A281,Employee_Name,0),0)),\"\",(INDEX('Employee Data'!$C$4:$C$553,MATCH(Databackup!A281,Employee_Name,0))))","v":""},{"$f":"IF(ISERROR(INDEX('Employee Data'!$D$4:$D$553,MATCH(Databackup!A281,Employee_Name,0),0)),\"\",(INDEX('Employee Data'!$D$4:$D$553,MATCH(Databackup!A281,Employee_Name,0))))","v":""},{"$f":"IF(ISERROR(INDEX('Employee Data'!$F$4:$F$553,MATCH(Databackup!A281,Employee_Name,0),0)),\"\",(INDEX('Employee Data'!$F$4:$F$553,MATCH(Databackup!A281,Employee_Name,0))))","v":""},{"$f":"IF(ISERROR(INDEX('Employee Data'!$G$4:$G$553,MATCH(Databackup!A281,Employee_Name,0),0)),\"\",(INDEX('Employee Data'!$G$4:$G$553,MATCH(Databackup!A281,Employee_Name,0))))","v":""},{"$f":"IF(ISERROR(INDEX('Employee Data'!$H$4:$H$553,MATCH(Databackup!A281,Employee_Name,0),0)),\"\",(INDEX('Employee Data'!$H$4:$H$553,MATCH(Databackup!A281,Employee_Name,0))))","v":""},{"$f":"IF(ISERROR(INDEX('Employee Data'!$I$4:$I$553,MATCH(Databackup!A281,Employee_Name,0),0)),\"\",(INDEX('Employee Data'!$I$4:$I$553,MATCH(Databackup!A281,Employee_Name,0))))","v":""},{"$f":"IF(ISERROR(INDEX('Employee Data'!$J$4:$J$553,MATCH(Databackup!A281,Employee_Name,0),0)),\"\",(INDEX('Employee Data'!J$4:$J$553,MATCH(Databackup!A281,Employee_Name,0))))","v":""},{"$f":"IF(ISERROR(INDEX('Employee Data'!$K$4:$K$553,MATCH(Databackup!A281,Employee_Name,0),0)),\"\",(INDEX('Employee Data'!$K$4:$K$553,MATCH(Databackup!A281,Employee_Name,0))))","v":""},{"$f":"IF(ISERROR(INDEX('Employee Data'!$L$4:$L$553,MATCH(Databackup!A281,Employee_Name,0),0)),\"\",(INDEX('Employee Data'!$L$4:$L$553,MATCH(Databackup!A281,Employee_Name,0))))","v":""},{"$f":"IF(ISERROR(INDEX('Employee Data'!$M$4:$M$553,MATCH(Databackup!A281,Employee_Name,0),0)),\"\",(INDEX('Employee Data'!$M$4:$M$553,MATCH(Databackup!A281,Employee_Name,0))))","v":""},{"$f":"IF(ISERROR(INDEX('Employee Data'!$N$4:$N$553,MATCH(Databackup!A281,Employee_Name,0),0)),\"\",(INDEX('Employee Data'!$N$4:$N$553,MATCH(Databackup!A281,Employee_Name,0))))","v":""},{"$f":"IF(ISERROR(INDEX('Employee Data'!$O$4:$O$553,MATCH(Databackup!A281,Employee_Name,0),0)),\"\",(INDEX('Employee Data'!$O$4:$O$553,MATCH(Databackup!A281,Employee_Name,0))))","v":""}]
[{"$f":"INDEX(Employee_Name,MATCH(SMALL(IF($A$1='Employee Data'!$I$4:$I$553,'Employee Data'!$B$4:$B$553,\"\"),ROW('Employee Data'!A280)),IF($A$1='Employee Data'!$I$4:$I$553,'Employee Data'!$B$4:$B$553,\"\"),0))","v":{"$error":"#NUM!"}},{"$f":"IF(ISERROR(INDEX('Employee Data'!$B$4:$B$553,MATCH(Databackup!A282,Employee_Name,0),0)),\"\",(INDEX('Employee Data'!$B$4:$B$553,MATCH(Databackup!A282,Employee_Name,0))))","v":""},{"$f":"IF(ISERROR(INDEX('Employee Data'!$C$4:$C$553,MATCH(Databackup!A282,Employee_Name,0),0)),\"\",(INDEX('Employee Data'!$C$4:$C$553,MATCH(Databackup!A282,Employee_Name,0))))","v":""},{"$f":"IF(ISERROR(INDEX('Employee Data'!$D$4:$D$553,MATCH(Databackup!A282,Employee_Name,0),0)),\"\",(INDEX('Employee Data'!$D$4:$D$553,MATCH(Databackup!A282,Employee_Name,0))))","v":""},{"$f":"IF(ISERROR(INDEX('Employee Data'!$F$4:$F$553,MATCH(Databackup!A282,Employee_Name,0),0)),\"\",(INDEX('Employee Data'!$F$4:$F$553,MATCH(Databackup!A282,Employee_Name,0))))","v":""},{"$f":"IF(ISERROR(INDEX('Employee Data'!$G$4:$G$553,MATCH(Databackup!A282,Employee_Name,0),0)),\"\",(INDEX('Employee Data'!$G$4:$G$553,MATCH(Databackup!A282,Employee_Name,0))))","v":""},{"$f":"IF(ISERROR(INDEX('Employee Data'!$H$4:$H$553,MATCH(Databackup!A282,Employee_Name,0),0)),\"\",(INDEX('Employee Data'!$H$4:$H$553,MATCH(Databackup!A282,Employee_Name,0))))","v":""},{"$f":"IF(ISERROR(INDEX('Employee Data'!$I$4:$I$553,MATCH(Databackup!A282,Employee_Name,0),0)),\"\",(INDEX('Employee Data'!$I$4:$I$553,MATCH(Databackup!A282,Employee_Name,0))))","v":""},{"$f":"IF(ISERROR(INDEX('Employee Data'!$J$4:$J$553,MATCH(Databackup!A282,Employee_Name,0),0)),\"\",(INDEX('Employee Data'!J$4:$J$553,MATCH(Databackup!A282,Employee_Name,0))))","v":""},{"$f":"IF(ISERROR(INDEX('Employee Data'!$K$4:$K$553,MATCH(Databackup!A282,Employee_Name,0),0)),\"\",(INDEX('Employee Data'!$K$4:$K$553,MATCH(Databackup!A282,Employee_Name,0))))","v":""},{"$f":"IF(ISERROR(INDEX('Employee Data'!$L$4:$L$553,MATCH(Databackup!A282,Employee_Name,0),0)),\"\",(INDEX('Employee Data'!$L$4:$L$553,MATCH(Databackup!A282,Employee_Name,0))))","v":""},{"$f":"IF(ISERROR(INDEX('Employee Data'!$M$4:$M$553,MATCH(Databackup!A282,Employee_Name,0),0)),\"\",(INDEX('Employee Data'!$M$4:$M$553,MATCH(Databackup!A282,Employee_Name,0))))","v":""},{"$f":"IF(ISERROR(INDEX('Employee Data'!$N$4:$N$553,MATCH(Databackup!A282,Employee_Name,0),0)),\"\",(INDEX('Employee Data'!$N$4:$N$553,MATCH(Databackup!A282,Employee_Name,0))))","v":""},{"$f":"IF(ISERROR(INDEX('Employee Data'!$O$4:$O$553,MATCH(Databackup!A282,Employee_Name,0),0)),\"\",(INDEX('Employee Data'!$O$4:$O$553,MATCH(Databackup!A282,Employee_Name,0))))","v":""}]
[{"$f":"INDEX(Employee_Name,MATCH(SMALL(IF($A$1='Employee Data'!$I$4:$I$553,'Employee Data'!$B$4:$B$553,\"\"),ROW('Employee Data'!A281)),IF($A$1='Employee Data'!$I$4:$I$553,'Employee Data'!$B$4:$B$553,\"\"),0))","v":{"$error":"#NUM!"}},{"$f":"IF(ISERROR(INDEX('Employee Data'!$B$4:$B$553,MATCH(Databackup!A283,Employee_Name,0),0)),\"\",(INDEX('Employee Data'!$B$4:$B$553,MATCH(Databackup!A283,Employee_Name,0))))","v":""},{"$f":"IF(ISERROR(INDEX('Employee Data'!$C$4:$C$553,MATCH(Databackup!A283,Employee_Name,0),0)),\"\",(INDEX('Employee Data'!$C$4:$C$553,MATCH(Databackup!A283,Employee_Name,0))))","v":""},{"$f":"IF(ISERROR(INDEX('Employee Data'!$D$4:$D$553,MATCH(Databackup!A283,Employee_Name,0),0)),\"\",(INDEX('Employee Data'!$D$4:$D$553,MATCH(Databackup!A283,Employee_Name,0))))","v":""},{"$f":"IF(ISERROR(INDEX('Employee Data'!$F$4:$F$553,MATCH(Databackup!A283,Employee_Name,0),0)),\"\",(INDEX('Employee Data'!$F$4:$F$553,MATCH(Databackup!A283,Employee_Name,0))))","v":""},{"$f":"IF(ISERROR(INDEX('Employee Data'!$G$4:$G$553,MATCH(Databackup!A283,Employee_Name,0),0)),\"\",(INDEX('Employee Data'!$G$4:$G$553,MATCH(Databackup!A283,Employee_Name,0))))","v":""},{"$f":"IF(ISERROR(INDEX('Employee Data'!$H$4:$H$553,MATCH(Databackup!A283,Employee_Name,0),0)),\"\",(INDEX('Employee Data'!$H$4:$H$553,MATCH(Databackup!A283,Employee_Name,0))))","v":""},{"$f":"IF(ISERROR(INDEX('Employee Data'!$I$4:$I$553,MATCH(Databackup!A283,Employee_Name,0),0)),\"\",(INDEX('Employee Data'!$I$4:$I$553,MATCH(Databackup!A283,Employee_Name,0))))","v":""},{"$f":"IF(ISERROR(INDEX('Employee Data'!$J$4:$J$553,MATCH(Databackup!A283,Employee_Name,0),0)),\"\",(INDEX('Employee Data'!J$4:$J$553,MATCH(Databackup!A283,Employee_Name,0))))","v":""},{"$f":"IF(ISERROR(INDEX('Employee Data'!$K$4:$K$553,MATCH(Databackup!A283,Employee_Name,0),0)),\"\",(INDEX('Employee Data'!$K$4:$K$553,MATCH(Databackup!A283,Employee_Name,0))))","v":""},{"$f":"IF(ISERROR(INDEX('Employee Data'!$L$4:$L$553,MATCH(Databackup!A283,Employee_Name,0),0)),\"\",(INDEX('Employee Data'!$L$4:$L$553,MATCH(Databackup!A283,Employee_Name,0))))","v":""},{"$f":"IF(ISERROR(INDEX('Employee Data'!$M$4:$M$553,MATCH(Databackup!A283,Employee_Name,0),0)),\"\",(INDEX('Employee Data'!$M$4:$M$553,MATCH(Databackup!A283,Employee_Name,0))))","v":""},{"$f":"IF(ISERROR(INDEX('Employee Data'!$N$4:$N$553,MATCH(Databackup!A283,Employee_Name,0),0)),\"\",(INDEX('Employee Data'!$N$4:$N$553,MATCH(Databackup!A283,Employee_Name,0))))","v":""},{"$f":"IF(ISERROR(INDEX('Employee Data'!$O$4:$O$553,MATCH(Databackup!A283,Employee_Name,0),0)),\"\",(INDEX('Employee Data'!$O$4:$O$553,MATCH(Databackup!A283,Employee_Name,0))))","v":""}]
[{"$f":"INDEX(Employee_Name,MATCH(SMALL(IF($A$1='Employee Data'!$I$4:$I$553,'Employee Data'!$B$4:$B$553,\"\"),ROW('Employee Data'!A282)),IF($A$1='Employee Data'!$I$4:$I$553,'Employee Data'!$B$4:$B$553,\"\"),0))","v":{"$error":"#NUM!"}},{"$f":"IF(ISERROR(INDEX('Employee Data'!$B$4:$B$553,MATCH(Databackup!A284,Employee_Name,0),0)),\"\",(INDEX('Employee Data'!$B$4:$B$553,MATCH(Databackup!A284,Employee_Name,0))))","v":""},{"$f":"IF(ISERROR(INDEX('Employee Data'!$C$4:$C$553,MATCH(Databackup!A284,Employee_Name,0),0)),\"\",(INDEX('Employee Data'!$C$4:$C$553,MATCH(Databackup!A284,Employee_Name,0))))","v":""},{"$f":"IF(ISERROR(INDEX('Employee Data'!$D$4:$D$553,MATCH(Databackup!A284,Employee_Name,0),0)),\"\",(INDEX('Employee Data'!$D$4:$D$553,MATCH(Databackup!A284,Employee_Name,0))))","v":""},{"$f":"IF(ISERROR(INDEX('Employee Data'!$F$4:$F$553,MATCH(Databackup!A284,Employee_Name,0),0)),\"\",(INDEX('Employee Data'!$F$4:$F$553,MATCH(Databackup!A284,Employee_Name,0))))","v":""},{"$f":"IF(ISERROR(INDEX('Employee Data'!$G$4:$G$553,MATCH(Databackup!A284,Employee_Name,0),0)),\"\",(INDEX('Employee Data'!$G$4:$G$553,MATCH(Databackup!A284,Employee_Name,0))))","v":""},{"$f":"IF(ISERROR(INDEX('Employee Data'!$H$4:$H$553,MATCH(Databackup!A284,Employee_Name,0),0)),\"\",(INDEX('Employee Data'!$H$4:$H$553,MATCH(Databackup!A284,Employee_Name,0))))","v":""},{"$f":"IF(ISERROR(INDEX('Employee Data'!$I$4:$I$553,MATCH(Databackup!A284,Employee_Name,0),0)),\"\",(INDEX('Employee Data'!$I$4:$I$553,MATCH(Databackup!A284,Employee_Name,0))))","v":""},{"$f":"IF(ISERROR(INDEX('Employee Data'!$J$4:$J$553,MATCH(Databackup!A284,Employee_Name,0),0)),\"\",(INDEX('Employee Data'!J$4:$J$553,MATCH(Databackup!A284,Employee_Name,0))))","v":""},{"$f":"IF(ISERROR(INDEX('Employee Data'!$K$4:$K$553,MATCH(Databackup!A284,Employee_Name,0),0)),\"\",(INDEX('Employee Data'!$K$4:$K$553,MATCH(Databackup!A284,Employee_Name,0))))","v":""},{"$f":"IF(ISERROR(INDEX('Employee Data'!$L$4:$L$553,MATCH(Databackup!A284,Employee_Name,0),0)),\"\",(INDEX('Employee Data'!$L$4:$L$553,MATCH(Databackup!A284,Employee_Name,0))))","v":""},{"$f":"IF(ISERROR(INDEX('Employee Data'!$M$4:$M$553,MATCH(Databackup!A284,Employee_Name,0),0)),\"\",(INDEX('Employee Data'!$M$4:$M$553,MATCH(Databackup!A284,Employee_Name,0))))","v":""},{"$f":"IF(ISERROR(INDEX('Employee Data'!$N$4:$N$553,MATCH(Databackup!A284,Employee_Name,0),0)),\"\",(INDEX('Employee Data'!$N$4:$N$553,MATCH(Databackup!A284,Employee_Name,0))))","v":""},{"$f":"IF(ISERROR(INDEX('Employee Data'!$O$4:$O$553,MATCH(Databackup!A284,Employee_Name,0),0)),\"\",(INDEX('Employee Data'!$O$4:$O$553,MATCH(Databackup!A284,Employee_Name,0))))","v":""}]
[{"$f":"INDEX(Employee_Name,MATCH(SMALL(IF($A$1='Employee Data'!$I$4:$I$553,'Employee Data'!$B$4:$B$553,\"\"),ROW('Employee Data'!A283)),IF($A$1='Employee Data'!$I$4:$I$553,'Employee Data'!$B$4:$B$553,\"\"),0))","v":{"$error":"#NUM!"}},{"$f":"IF(ISERROR(INDEX('Employee Data'!$B$4:$B$553,MATCH(Databackup!A285,Employee_Name,0),0)),\"\",(INDEX('Employee Data'!$B$4:$B$553,MATCH(Databackup!A285,Employee_Name,0))))","v":""},{"$f":"IF(ISERROR(INDEX('Employee Data'!$C$4:$C$553,MATCH(Databackup!A285,Employee_Name,0),0)),\"\",(INDEX('Employee Data'!$C$4:$C$553,MATCH(Databackup!A285,Employee_Name,0))))","v":""},{"$f":"IF(ISERROR(INDEX('Employee Data'!$D$4:$D$553,MATCH(Databackup!A285,Employee_Name,0),0)),\"\",(INDEX('Employee Data'!$D$4:$D$553,MATCH(Databackup!A285,Employee_Name,0))))","v":""},{"$f":"IF(ISERROR(INDEX('Employee Data'!$F$4:$F$553,MATCH(Databackup!A285,Employee_Name,0),0)),\"\",(INDEX('Employee Data'!$F$4:$F$553,MATCH(Databackup!A285,Employee_Name,0))))","v":""},{"$f":"IF(ISERROR(INDEX('Employee Data'!$G$4:$G$553,MATCH(Databackup!A285,Employee_Name,0),0)),\"\",(INDEX('Employee Data'!$G$4:$G$553,MATCH(Databackup!A285,Employee_Name,0))))","v":""},{"$f":"IF(ISERROR(INDEX('Employee Data'!$H$4:$H$553,MATCH(Databackup!A285,Employee_Name,0),0)),\"\",(INDEX('Employee Data'!$H$4:$H$553,MATCH(Databackup!A285,Employee_Name,0))))","v":""},{"$f":"IF(ISERROR(INDEX('Employee Data'!$I$4:$I$553,MATCH(Databackup!A285,Employee_Name,0),0)),\"\",(INDEX('Employee Data'!$I$4:$I$553,MATCH(Databackup!A285,Employee_Name,0))))","v":""},{"$f":"IF(ISERROR(INDEX('Employee Data'!$J$4:$J$553,MATCH(Databackup!A285,Employee_Name,0),0)),\"\",(INDEX('Employee Data'!J$4:$J$553,MATCH(Databackup!A285,Employee_Name,0))))","v":""},{"$f":"IF(ISERROR(INDEX('Employee Data'!$K$4:$K$553,MATCH(Databackup!A285,Employee_Name,0),0)),\"\",(INDEX('Employee Data'!$K$4:$K$553,MATCH(Databackup!A285,Employee_Name,0))))","v":""},{"$f":"IF(ISERROR(INDEX('Employee Data'!$L$4:$L$553,MATCH(Databackup!A285,Employee_Name,0),0)),\"\",(INDEX('Employee Data'!$L$4:$L$553,MATCH(Databackup!A285,Employee_Name,0))))","v":""},{"$f":"IF(ISERROR(INDEX('Employee Data'!$M$4:$M$553,MATCH(Databackup!A285,Employee_Name,0),0)),\"\",(INDEX('Employee Data'!$M$4:$M$553,MATCH(Databackup!A285,Employee_Name,0))))","v":""},{"$f":"IF(ISERROR(INDEX('Employee Data'!$N$4:$N$553,MATCH(Databackup!A285,Employee_Name,0),0)),\"\",(INDEX('Employee Data'!$N$4:$N$553,MATCH(Databackup!A285,Employee_Name,0))))","v":""},{"$f":"IF(ISERROR(INDEX('Employee Data'!$O$4:$O$553,MATCH(Databackup!A285,Employee_Name,0),0)),\"\",(INDEX('Employee Data'!$O$4:$O$553,MATCH(Databackup!A285,Employee_Name,0))))","v":""}]
[{"$f":"INDEX(Employee_Name,MATCH(SMALL(IF($A$1='Employee Data'!$I$4:$I$553,'Employee Data'!$B$4:$B$553,\"\"),ROW('Employee Data'!A284)),IF($A$1='Employee Data'!$I$4:$I$553,'Employee Data'!$B$4:$B$553,\"\"),0))","v":{"$error":"#NUM!"}},{"$f":"IF(ISERROR(INDEX('Employee Data'!$B$4:$B$553,MATCH(Databackup!A286,Employee_Name,0),0)),\"\",(INDEX('Employee Data'!$B$4:$B$553,MATCH(Databackup!A286,Employee_Name,0))))","v":""},{"$f":"IF(ISERROR(INDEX('Employee Data'!$C$4:$C$553,MATCH(Databackup!A286,Employee_Name,0),0)),\"\",(INDEX('Employee Data'!$C$4:$C$553,MATCH(Databackup!A286,Employee_Name,0))))","v":""},{"$f":"IF(ISERROR(INDEX('Employee Data'!$D$4:$D$553,MATCH(Databackup!A286,Employee_Name,0),0)),\"\",(INDEX('Employee Data'!$D$4:$D$553,MATCH(Databackup!A286,Employee_Name,0))))","v":""},{"$f":"IF(ISERROR(INDEX('Employee Data'!$F$4:$F$553,MATCH(Databackup!A286,Employee_Name,0),0)),\"\",(INDEX('Employee Data'!$F$4:$F$553,MATCH(Databackup!A286,Employee_Name,0))))","v":""},{"$f":"IF(ISERROR(INDEX('Employee Data'!$G$4:$G$553,MATCH(Databackup!A286,Employee_Name,0),0)),\"\",(INDEX('Employee Data'!$G$4:$G$553,MATCH(Databackup!A286,Employee_Name,0))))","v":""},{"$f":"IF(ISERROR(INDEX('Employee Data'!$H$4:$H$553,MATCH(Databackup!A286,Employee_Name,0),0)),\"\",(INDEX('Employee Data'!$H$4:$H$553,MATCH(Databackup!A286,Employee_Name,0))))","v":""},{"$f":"IF(ISERROR(INDEX('Employee Data'!$I$4:$I$553,MATCH(Databackup!A286,Employee_Name,0),0)),\"\",(INDEX('Employee Data'!$I$4:$I$553,MATCH(Databackup!A286,Employee_Name,0))))","v":""},{"$f":"IF(ISERROR(INDEX('Employee Data'!$J$4:$J$553,MATCH(Databackup!A286,Employee_Name,0),0)),\"\",(INDEX('Employee Data'!J$4:$J$553,MATCH(Databackup!A286,Employee_Name,0))))","v":""},{"$f":"IF(ISERROR(INDEX('Employee Data'!$K$4:$K$553,MATCH(Databackup!A286,Employee_Name,0),0)),\"\",(INDEX('Employee Data'!$K$4:$K$553,MATCH(Databackup!A286,Employee_Name,0))))","v":""},{"$f":"IF(ISERROR(INDEX('Employee Data'!$L$4:$L$553,MATCH(Databackup!A286,Employee_Name,0),0)),\"\",(INDEX('Employee Data'!$L$4:$L$553,MATCH(Databackup!A286,Employee_Name,0))))","v":""},{"$f":"IF(ISERROR(INDEX('Employee Data'!$M$4:$M$553,MATCH(Databackup!A286,Employee_Name,0),0)),\"\",(INDEX('Employee Data'!$M$4:$M$553,MATCH(Databackup!A286,Employee_Name,0))))","v":""},{"$f":"IF(ISERROR(INDEX('Employee Data'!$N$4:$N$553,MATCH(Databackup!A286,Employee_Name,0),0)),\"\",(INDEX('Employee Data'!$N$4:$N$553,MATCH(Databackup!A286,Employee_Name,0))))","v":""},{"$f":"IF(ISERROR(INDEX('Employee Data'!$O$4:$O$553,MATCH(Databackup!A286,Employee_Name,0),0)),\"\",(INDEX('Employee Data'!$O$4:$O$553,MATCH(Databackup!A286,Employee_Name,0))))","v":""}]
[{"$f":"INDEX(Employee_Name,MATCH(SMALL(IF($A$1='Employee Data'!$I$4:$I$553,'Employee Data'!$B$4:$B$553,\"\"),ROW('Employee Data'!A285)),IF($A$1='Employee Data'!$I$4:$I$553,'Employee Data'!$B$4:$B$553,\"\"),0))","v":{"$error":"#NUM!"}},{"$f":"IF(ISERROR(INDEX('Employee Data'!$B$4:$B$553,MATCH(Databackup!A287,Employee_Name,0),0)),\"\",(INDEX('Employee Data'!$B$4:$B$553,MATCH(Databackup!A287,Employee_Name,0))))","v":""},{"$f":"IF(ISERROR(INDEX('Employee Data'!$C$4:$C$553,MATCH(Databackup!A287,Employee_Name,0),0)),\"\",(INDEX('Employee Data'!$C$4:$C$553,MATCH(Databackup!A287,Employee_Name,0))))","v":""},{"$f":"IF(ISERROR(INDEX('Employee Data'!$D$4:$D$553,MATCH(Databackup!A287,Employee_Name,0),0)),\"\",(INDEX('Employee Data'!$D$4:$D$553,MATCH(Databackup!A287,Employee_Name,0))))","v":""},{"$f":"IF(ISERROR(INDEX('Employee Data'!$F$4:$F$553,MATCH(Databackup!A287,Employee_Name,0),0)),\"\",(INDEX('Employee Data'!$F$4:$F$553,MATCH(Databackup!A287,Employee_Name,0))))","v":""},{"$f":"IF(ISERROR(INDEX('Employee Data'!$G$4:$G$553,MATCH(Databackup!A287,Employee_Name,0),0)),\"\",(INDEX('Employee Data'!$G$4:$G$553,MATCH(Databackup!A287,Employee_Name,0))))","v":""},{"$f":"IF(ISERROR(INDEX('Employee Data'!$H$4:$H$553,MATCH(Databackup!A287,Employee_Name,0),0)),\"\",(INDEX('Employee Data'!$H$4:$H$553,MATCH(Databackup!A287,Employee_Name,0))))","v":""},{"$f":"IF(ISERROR(INDEX('Employee Data'!$I$4:$I$553,MATCH(Databackup!A287,Employee_Name,0),0)),\"\",(INDEX('Employee Data'!$I$4:$I$553,MATCH(Databackup!A287,Employee_Name,0))))","v":""},{"$f":"IF(ISERROR(INDEX('Employee Data'!$J$4:$J$553,MATCH(Databackup!A287,Employee_Name,0),0)),\"\",(INDEX('Employee Data'!J$4:$J$553,MATCH(Databackup!A287,Employee_Name,0))))","v":""},{"$f":"IF(ISERROR(INDEX('Employee Data'!$K$4:$K$553,MATCH(Databackup!A287,Employee_Name,0),0)),\"\",(INDEX('Employee Data'!$K$4:$K$553,MATCH(Databackup!A287,Employee_Name,0))))","v":""},{"$f":"IF(ISERROR(INDEX('Employee Data'!$L$4:$L$553,MATCH(Databackup!A287,Employee_Name,0),0)),\"\",(INDEX('Employee Data'!$L$4:$L$553,MATCH(Databackup!A287,Employee_Name,0))))","v":""},{"$f":"IF(ISERROR(INDEX('Employee Data'!$M$4:$M$553,MATCH(Databackup!A287,Employee_Name,0),0)),\"\",(INDEX('Employee Data'!$M$4:$M$553,MATCH(Databackup!A287,Employee_Name,0))))","v":""},{"$f":"IF(ISERROR(INDEX('Employee Data'!$N$4:$N$553,MATCH(Databackup!A287,Employee_Name,0),0)),\"\",(INDEX('Employee Data'!$N$4:$N$553,MATCH(Databackup!A287,Employee_Name,0))))","v":""},{"$f":"IF(ISERROR(INDEX('Employee Data'!$O$4:$O$553,MATCH(Databackup!A287,Employee_Name,0),0)),\"\",(INDEX('Employee Data'!$O$4:$O$553,MATCH(Databackup!A287,Employee_Name,0))))","v":""}]
[{"$f":"INDEX(Employee_Name,MATCH(SMALL(IF($A$1='Employee Data'!$I$4:$I$553,'Employee Data'!$B$4:$B$553,\"\"),ROW('Employee Data'!A286)),IF($A$1='Employee Data'!$I$4:$I$553,'Employee Data'!$B$4:$B$553,\"\"),0))","v":{"$error":"#NUM!"}},{"$f":"IF(ISERROR(INDEX('Employee Data'!$B$4:$B$553,MATCH(Databackup!A288,Employee_Name,0),0)),\"\",(INDEX('Employee Data'!$B$4:$B$553,MATCH(Databackup!A288,Employee_Name,0))))","v":""},{"$f":"IF(ISERROR(INDEX('Employee Data'!$C$4:$C$553,MATCH(Databackup!A288,Employee_Name,0),0)),\"\",(INDEX('Employee Data'!$C$4:$C$553,MATCH(Databackup!A288,Employee_Name,0))))","v":""},{"$f":"IF(ISERROR(INDEX('Employee Data'!$D$4:$D$553,MATCH(Databackup!A288,Employee_Name,0),0)),\"\",(INDEX('Employee Data'!$D$4:$D$553,MATCH(Databackup!A288,Employee_Name,0))))","v":""},{"$f":"IF(ISERROR(INDEX('Employee Data'!$F$4:$F$553,MATCH(Databackup!A288,Employee_Name,0),0)),\"\",(INDEX('Employee Data'!$F$4:$F$553,MATCH(Databackup!A288,Employee_Name,0))))","v":""},{"$f":"IF(ISERROR(INDEX('Employee Data'!$G$4:$G$553,MATCH(Databackup!A288,Employee_Name,0),0)),\"\",(INDEX('Employee Data'!$G$4:$G$553,MATCH(Databackup!A288,Employee_Name,0))))","v":""},{"$f":"IF(ISERROR(INDEX('Employee Data'!$H$4:$H$553,MATCH(Databackup!A288,Employee_Name,0),0)),\"\",(INDEX('Employee Data'!$H$4:$H$553,MATCH(Databackup!A288,Employee_Name,0))))","v":""},{"$f":"IF(ISERROR(INDEX('Employee Data'!$I$4:$I$553,MATCH(Databackup!A288,Employee_Name,0),0)),\"\",(INDEX('Employee Data'!$I$4:$I$553,MATCH(Databackup!A288,Employee_Name,0))))","v":""},{"$f":"IF(ISERROR(INDEX('Employee Data'!$J$4:$J$553,MATCH(Databackup!A288,Employee_Name,0),0)),\"\",(INDEX('Employee Data'!J$4:$J$553,MATCH(Databackup!A288,Employee_Name,0))))","v":""},{"$f":"IF(ISERROR(INDEX('Employee Data'!$K$4:$K$553,MATCH(Databackup!A288,Employee_Name,0),0)),\"\",(INDEX('Employee Data'!$K$4:$K$553,MATCH(Databackup!A288,Employee_Name,0))))","v":""},{"$f":"IF(ISERROR(INDEX('Employee Data'!$L$4:$L$553,MATCH(Databackup!A288,Employee_Name,0),0)),\"\",(INDEX('Employee Data'!$L$4:$L$553,MATCH(Databackup!A288,Employee_Name,0))))","v":""},{"$f":"IF(ISERROR(INDEX('Employee Data'!$M$4:$M$553,MATCH(Databackup!A288,Employee_Name,0),0)),\"\",(INDEX('Employee Data'!$M$4:$M$553,MATCH(Databackup!A288,Employee_Name,0))))","v":""},{"$f":"IF(ISERROR(INDEX('Employee Data'!$N$4:$N$553,MATCH(Databackup!A288,Employee_Name,0),0)),\"\",(INDEX('Employee Data'!$N$4:$N$553,MATCH(Databackup!A288,Employee_Name,0))))","v":""},{"$f":"IF(ISERROR(INDEX('Employee Data'!$O$4:$O$553,MATCH(Databackup!A288,Employee_Name,0),0)),\"\",(INDEX('Employee Data'!$O$4:$O$553,MATCH(Databackup!A288,Employee_Name,0))))","v":""}]
[{"$f":"INDEX(Employee_Name,MATCH(SMALL(IF($A$1='Employee Data'!$I$4:$I$553,'Employee Data'!$B$4:$B$553,\"\"),ROW('Employee Data'!A287)),IF($A$1='Employee Data'!$I$4:$I$553,'Employee Data'!$B$4:$B$553,\"\"),0))","v":{"$error":"#NUM!"}},{"$f":"IF(ISERROR(INDEX('Employee Data'!$B$4:$B$553,MATCH(Databackup!A289,Employee_Name,0),0)),\"\",(INDEX('Employee Data'!$B$4:$B$553,MATCH(Databackup!A289,Employee_Name,0))))","v":""},{"$f":"IF(ISERROR(INDEX('Employee Data'!$C$4:$C$553,MATCH(Databackup!A289,Employee_Name,0),0)),\"\",(INDEX('Employee Data'!$C$4:$C$553,MATCH(Databackup!A289,Employee_Name,0))))","v":""},{"$f":"IF(ISERROR(INDEX('Employee Data'!$D$4:$D$553,MATCH(Databackup!A289,Employee_Name,0),0)),\"\",(INDEX('Employee Data'!$D$4:$D$553,MATCH(Databackup!A289,Employee_Name,0))))","v":""},{"$f":"IF(ISERROR(INDEX('Employee Data'!$F$4:$F$553,MATCH(Databackup!A289,Employee_Name,0),0)),\"\",(INDEX('Employee Data'!$F$4:$F$553,MATCH(Databackup!A289,Employee_Name,0))))","v":""},{"$f":"IF(ISERROR(INDEX('Employee Data'!$G$4:$G$553,MATCH(Databackup!A289,Employee_Name,0),0)),\"\",(INDEX('Employee Data'!$G$4:$G$553,MATCH(Databackup!A289,Employee_Name,0))))","v":""},{"$f":"IF(ISERROR(INDEX('Employee Data'!$H$4:$H$553,MATCH(Databackup!A289,Employee_Name,0),0)),\"\",(INDEX('Employee Data'!$H$4:$H$553,MATCH(Databackup!A289,Employee_Name,0))))","v":""},{"$f":"IF(ISERROR(INDEX('Employee Data'!$I$4:$I$553,MATCH(Databackup!A289,Employee_Name,0),0)),\"\",(INDEX('Employee Data'!$I$4:$I$553,MATCH(Databackup!A289,Employee_Name,0))))","v":""},{"$f":"IF(ISERROR(INDEX('Employee Data'!$J$4:$J$553,MATCH(Databackup!A289,Employee_Name,0),0)),\"\",(INDEX('Employee Data'!J$4:$J$553,MATCH(Databackup!A289,Employee_Name,0))))","v":""},{"$f":"IF(ISERROR(INDEX('Employee Data'!$K$4:$K$553,MATCH(Databackup!A289,Employee_Name,0),0)),\"\",(INDEX('Employee Data'!$K$4:$K$553,MATCH(Databackup!A289,Employee_Name,0))))","v":""},{"$f":"IF(ISERROR(INDEX('Employee Data'!$L$4:$L$553,MATCH(Databackup!A289,Employee_Name,0),0)),\"\",(INDEX('Employee Data'!$L$4:$L$553,MATCH(Databackup!A289,Employee_Name,0))))","v":""},{"$f":"IF(ISERROR(INDEX('Employee Data'!$M$4:$M$553,MATCH(Databackup!A289,Employee_Name,0),0)),\"\",(INDEX('Employee Data'!$M$4:$M$553,MATCH(Databackup!A289,Employee_Name,0))))","v":""},{"$f":"IF(ISERROR(INDEX('Employee Data'!$N$4:$N$553,MATCH(Databackup!A289,Employee_Name,0),0)),\"\",(INDEX('Employee Data'!$N$4:$N$553,MATCH(Databackup!A289,Employee_Name,0))))","v":""},{"$f":"IF(ISERROR(INDEX('Employee Data'!$O$4:$O$553,MATCH(Databackup!A289,Employee_Name,0),0)),\"\",(INDEX('Employee Data'!$O$4:$O$553,MATCH(Databackup!A289,Employee_Name,0))))","v":""}]
[{"$f":"INDEX(Employee_Name,MATCH(SMALL(IF($A$1='Employee Data'!$I$4:$I$553,'Employee Data'!$B$4:$B$553,\"\"),ROW('Employee Data'!A288)),IF($A$1='Employee Data'!$I$4:$I$553,'Employee Data'!$B$4:$B$553,\"\"),0))","v":{"$error":"#NUM!"}},{"$f":"IF(ISERROR(INDEX('Employee Data'!$B$4:$B$553,MATCH(Databackup!A290,Employee_Name,0),0)),\"\",(INDEX('Employee Data'!$B$4:$B$553,MATCH(Databackup!A290,Employee_Name,0))))","v":""},{"$f":"IF(ISERROR(INDEX('Employee Data'!$C$4:$C$553,MATCH(Databackup!A290,Employee_Name,0),0)),\"\",(INDEX('Employee Data'!$C$4:$C$553,MATCH(Databackup!A290,Employee_Name,0))))","v":""},{"$f":"IF(ISERROR(INDEX('Employee Data'!$D$4:$D$553,MATCH(Databackup!A290,Employee_Name,0),0)),\"\",(INDEX('Employee Data'!$D$4:$D$553,MATCH(Databackup!A290,Employee_Name,0))))","v":""},{"$f":"IF(ISERROR(INDEX('Employee Data'!$F$4:$F$553,MATCH(Databackup!A290,Employee_Name,0),0)),\"\",(INDEX('Employee Data'!$F$4:$F$553,MATCH(Databackup!A290,Employee_Name,0))))","v":""},{"$f":"IF(ISERROR(INDEX('Employee Data'!$G$4:$G$553,MATCH(Databackup!A290,Employee_Name,0),0)),\"\",(INDEX('Employee Data'!$G$4:$G$553,MATCH(Databackup!A290,Employee_Name,0))))","v":""},{"$f":"IF(ISERROR(INDEX('Employee Data'!$H$4:$H$553,MATCH(Databackup!A290,Employee_Name,0),0)),\"\",(INDEX('Employee Data'!$H$4:$H$553,MATCH(Databackup!A290,Employee_Name,0))))","v":""},{"$f":"IF(ISERROR(INDEX('Employee Data'!$I$4:$I$553,MATCH(Databackup!A290,Employee_Name,0),0)),\"\",(INDEX('Employee Data'!$I$4:$I$553,MATCH(Databackup!A290,Employee_Name,0))))","v":""},{"$f":"IF(ISERROR(INDEX('Employee Data'!$J$4:$J$553,MATCH(Databackup!A290,Employee_Name,0),0)),\"\",(INDEX('Employee Data'!J$4:$J$553,MATCH(Databackup!A290,Employee_Name,0))))","v":""},{"$f":"IF(ISERROR(INDEX('Employee Data'!$K$4:$K$553,MATCH(Databackup!A290,Employee_Name,0),0)),\"\",(INDEX('Employee Data'!$K$4:$K$553,MATCH(Databackup!A290,Employee_Name,0))))","v":""},{"$f":"IF(ISERROR(INDEX('Employee Data'!$L$4:$L$553,MATCH(Databackup!A290,Employee_Name,0),0)),\"\",(INDEX('Employee Data'!$L$4:$L$553,MATCH(Databackup!A290,Employee_Name,0))))","v":""},{"$f":"IF(ISERROR(INDEX('Employee Data'!$M$4:$M$553,MATCH(Databackup!A290,Employee_Name,0),0)),\"\",(INDEX('Employee Data'!$M$4:$M$553,MATCH(Databackup!A290,Employee_Name,0))))","v":""},{"$f":"IF(ISERROR(INDEX('Employee Data'!$N$4:$N$553,MATCH(Databackup!A290,Employee_Name,0),0)),\"\",(INDEX('Employee Data'!$N$4:$N$553,MATCH(Databackup!A290,Employee_Name,0))))","v":""},{"$f":"IF(ISERROR(INDEX('Employee Data'!$O$4:$O$553,MATCH(Databackup!A290,Employee_Name,0),0)),\"\",(INDEX('Employee Data'!$O$4:$O$553,MATCH(Databackup!A290,Employee_Name,0))))","v":""}]
[{"$f":"INDEX(Employee_Name,MATCH(SMALL(IF($A$1='Employee Data'!$I$4:$I$553,'Employee Data'!$B$4:$B$553,\"\"),ROW('Employee Data'!A289)),IF($A$1='Employee Data'!$I$4:$I$553,'Employee Data'!$B$4:$B$553,\"\"),0))","v":{"$error":"#NUM!"}},{"$f":"IF(ISERROR(INDEX('Employee Data'!$B$4:$B$553,MATCH(Databackup!A291,Employee_Name,0),0)),\"\",(INDEX('Employee Data'!$B$4:$B$553,MATCH(Databackup!A291,Employee_Name,0))))","v":""},{"$f":"IF(ISERROR(INDEX('Employee Data'!$C$4:$C$553,MATCH(Databackup!A291,Employee_Name,0),0)),\"\",(INDEX('Employee Data'!$C$4:$C$553,MATCH(Databackup!A291,Employee_Name,0))))","v":""},{"$f":"IF(ISERROR(INDEX('Employee Data'!$D$4:$D$553,MATCH(Databackup!A291,Employee_Name,0),0)),\"\",(INDEX('Employee Data'!$D$4:$D$553,MATCH(Databackup!A291,Employee_Name,0))))","v":""},{"$f":"IF(ISERROR(INDEX('Employee Data'!$F$4:$F$553,MATCH(Databackup!A291,Employee_Name,0),0)),\"\",(INDEX('Employee Data'!$F$4:$F$553,MATCH(Databackup!A291,Employee_Name,0))))","v":""},{"$f":"IF(ISERROR(INDEX('Employee Data'!$G$4:$G$553,MATCH(Databackup!A291,Employee_Name,0),0)),\"\",(INDEX('Employee Data'!$G$4:$G$553,MATCH(Databackup!A291,Employee_Name,0))))","v":""},{"$f":"IF(ISERROR(INDEX('Employee Data'!$H$4:$H$553,MATCH(Databackup!A291,Employee_Name,0),0)),\"\",(INDEX('Employee Data'!$H$4:$H$553,MATCH(Databackup!A291,Employee_Name,0))))","v":""},{"$f":"IF(ISERROR(INDEX('Employee Data'!$I$4:$I$553,MATCH(Databackup!A291,Employee_Name,0),0)),\"\",(INDEX('Employee Data'!$I$4:$I$553,MATCH(Databackup!A291,Employee_Name,0))))","v":""},{"$f":"IF(ISERROR(INDEX('Employee Data'!$J$4:$J$553,MATCH(Databackup!A291,Employee_Name,0),0)),\"\",(INDEX('Employee Data'!J$4:$J$553,MATCH(Databackup!A291,Employee_Name,0))))","v":""},{"$f":"IF(ISERROR(INDEX('Employee Data'!$K$4:$K$553,MATCH(Databackup!A291,Employee_Name,0),0)),\"\",(INDEX('Employee Data'!$K$4:$K$553,MATCH(Databackup!A291,Employee_Name,0))))","v":""},{"$f":"IF(ISERROR(INDEX('Employee Data'!$L$4:$L$553,MATCH(Databackup!A291,Employee_Name,0),0)),\"\",(INDEX('Employee Data'!$L$4:$L$553,MATCH(Databackup!A291,Employee_Name,0))))","v":""},{"$f":"IF(ISERROR(INDEX('Employee Data'!$M$4:$M$553,MATCH(Databackup!A291,Employee_Name,0),0)),\"\",(INDEX('Employee Data'!$M$4:$M$553,MATCH(Databackup!A291,Employee_Name,0))))","v":""},{"$f":"IF(ISERROR(INDEX('Employee Data'!$N$4:$N$553,MATCH(Databackup!A291,Employee_Name,0),0)),\"\",(INDEX('Employee Data'!$N$4:$N$553,MATCH(Databackup!A291,Employee_Name,0))))","v":""},{"$f":"IF(ISERROR(INDEX('Employee Data'!$O$4:$O$553,MATCH(Databackup!A291,Employee_Name,0),0)),\"\",(INDEX('Employee Data'!$O$4:$O$553,MATCH(Databackup!A291,Employee_Name,0))))","v":""}]
[{"$f":"INDEX(Employee_Name,MATCH(SMALL(IF($A$1='Employee Data'!$I$4:$I$553,'Employee Data'!$B$4:$B$553,\"\"),ROW('Employee Data'!A290)),IF($A$1='Employee Data'!$I$4:$I$553,'Employee Data'!$B$4:$B$553,\"\"),0))","v":{"$error":"#NUM!"}},{"$f":"IF(ISERROR(INDEX('Employee Data'!$B$4:$B$553,MATCH(Databackup!A292,Employee_Name,0),0)),\"\",(INDEX('Employee Data'!$B$4:$B$553,MATCH(Databackup!A292,Employee_Name,0))))","v":""},{"$f":"IF(ISERROR(INDEX('Employee Data'!$C$4:$C$553,MATCH(Databackup!A292,Employee_Name,0),0)),\"\",(INDEX('Employee Data'!$C$4:$C$553,MATCH(Databackup!A292,Employee_Name,0))))","v":""},{"$f":"IF(ISERROR(INDEX('Employee Data'!$D$4:$D$553,MATCH(Databackup!A292,Employee_Name,0),0)),\"\",(INDEX('Employee Data'!$D$4:$D$553,MATCH(Databackup!A292,Employee_Name,0))))","v":""},{"$f":"IF(ISERROR(INDEX('Employee Data'!$F$4:$F$553,MATCH(Databackup!A292,Employee_Name,0),0)),\"\",(INDEX('Employee Data'!$F$4:$F$553,MATCH(Databackup!A292,Employee_Name,0))))","v":""},{"$f":"IF(ISERROR(INDEX('Employee Data'!$G$4:$G$553,MATCH(Databackup!A292,Employee_Name,0),0)),\"\",(INDEX('Employee Data'!$G$4:$G$553,MATCH(Databackup!A292,Employee_Name,0))))","v":""},{"$f":"IF(ISERROR(INDEX('Employee Data'!$H$4:$H$553,MATCH(Databackup!A292,Employee_Name,0),0)),\"\",(INDEX('Employee Data'!$H$4:$H$553,MATCH(Databackup!A292,Employee_Name,0))))","v":""},{"$f":"IF(ISERROR(INDEX('Employee Data'!$I$4:$I$553,MATCH(Databackup!A292,Employee_Name,0),0)),\"\",(INDEX('Employee Data'!$I$4:$I$553,MATCH(Databackup!A292,Employee_Name,0))))","v":""},{"$f":"IF(ISERROR(INDEX('Employee Data'!$J$4:$J$553,MATCH(Databackup!A292,Employee_Name,0),0)),\"\",(INDEX('Employee Data'!J$4:$J$553,MATCH(Databackup!A292,Employee_Name,0))))","v":""},{"$f":"IF(ISERROR(INDEX('Employee Data'!$K$4:$K$553,MATCH(Databackup!A292,Employee_Name,0),0)),\"\",(INDEX('Employee Data'!$K$4:$K$553,MATCH(Databackup!A292,Employee_Name,0))))","v":""},{"$f":"IF(ISERROR(INDEX('Employee Data'!$L$4:$L$553,MATCH(Databackup!A292,Employee_Name,0),0)),\"\",(INDEX('Employee Data'!$L$4:$L$553,MATCH(Databackup!A292,Employee_Name,0))))","v":""},{"$f":"IF(ISERROR(INDEX('Employee Data'!$M$4:$M$553,MATCH(Databackup!A292,Employee_Name,0),0)),\"\",(INDEX('Employee Data'!$M$4:$M$553,MATCH(Databackup!A292,Employee_Name,0))))","v":""},{"$f":"IF(ISERROR(INDEX('Employee Data'!$N$4:$N$553,MATCH(Databackup!A292,Employee_Name,0),0)),\"\",(INDEX('Employee Data'!$N$4:$N$553,MATCH(Databackup!A292,Employee_Name,0))))","v":""},{"$f":"IF(ISERROR(INDEX('Employee Data'!$O$4:$O$553,MATCH(Databackup!A292,Employee_Name,0),0)),\"\",(INDEX('Employee Data'!$O$4:$O$553,MATCH(Databackup!A292,Employee_Name,0))))","v":""}]
[{"$f":"INDEX(Employee_Name,MATCH(SMALL(IF($A$1='Employee Data'!$I$4:$I$553,'Employee Data'!$B$4:$B$553,\"\"),ROW('Employee Data'!A291)),IF($A$1='Employee Data'!$I$4:$I$553,'Employee Data'!$B$4:$B$553,\"\"),0))","v":{"$error":"#NUM!"}},{"$f":"IF(ISERROR(INDEX('Employee Data'!$B$4:$B$553,MATCH(Databackup!A293,Employee_Name,0),0)),\"\",(INDEX('Employee Data'!$B$4:$B$553,MATCH(Databackup!A293,Employee_Name,0))))","v":""},{"$f":"IF(ISERROR(INDEX('Employee Data'!$C$4:$C$553,MATCH(Databackup!A293,Employee_Name,0),0)),\"\",(INDEX('Employee Data'!$C$4:$C$553,MATCH(Databackup!A293,Employee_Name,0))))","v":""},{"$f":"IF(ISERROR(INDEX('Employee Data'!$D$4:$D$553,MATCH(Databackup!A293,Employee_Name,0),0)),\"\",(INDEX('Employee Data'!$D$4:$D$553,MATCH(Databackup!A293,Employee_Name,0))))","v":""},{"$f":"IF(ISERROR(INDEX('Employee Data'!$F$4:$F$553,MATCH(Databackup!A293,Employee_Name,0),0)),\"\",(INDEX('Employee Data'!$F$4:$F$553,MATCH(Databackup!A293,Employee_Name,0))))","v":""},{"$f":"IF(ISERROR(INDEX('Employee Data'!$G$4:$G$553,MATCH(Databackup!A293,Employee_Name,0),0)),\"\",(INDEX('Employee Data'!$G$4:$G$553,MATCH(Databackup!A293,Employee_Name,0))))","v":""},{"$f":"IF(ISERROR(INDEX('Employee Data'!$H$4:$H$553,MATCH(Databackup!A293,Employee_Name,0),0)),\"\",(INDEX('Employee Data'!$H$4:$H$553,MATCH(Databackup!A293,Employee_Name,0))))","v":""},{"$f":"IF(ISERROR(INDEX('Employee Data'!$I$4:$I$553,MATCH(Databackup!A293,Employee_Name,0),0)),\"\",(INDEX('Employee Data'!$I$4:$I$553,MATCH(Databackup!A293,Employee_Name,0))))","v":""},{"$f":"IF(ISERROR(INDEX('Employee Data'!$J$4:$J$553,MATCH(Databackup!A293,Employee_Name,0),0)),\"\",(INDEX('Employee Data'!J$4:$J$553,MATCH(Databackup!A293,Employee_Name,0))))","v":""},{"$f":"IF(ISERROR(INDEX('Employee Data'!$K$4:$K$553,MATCH(Databackup!A293,Employee_Name,0),0)),\"\",(INDEX('Employee Data'!$K$4:$K$553,MATCH(Databackup!A293,Employee_Name,0))))","v":""},{"$f":"IF(ISERROR(INDEX('Employee Data'!$L$4:$L$553,MATCH(Databackup!A293,Employee_Name,0),0)),\"\",(INDEX('Employee Data'!$L$4:$L$553,MATCH(Databackup!A293,Employee_Name,0))))","v":""},{"$f":"IF(ISERROR(INDEX('Employee Data'!$M$4:$M$553,MATCH(Databackup!A293,Employee_Name,0),0)),\"\",(INDEX('Employee Data'!$M$4:$M$553,MATCH(Databackup!A293,Employee_Name,0))))","v":""},{"$f":"IF(ISERROR(INDEX('Employee Data'!$N$4:$N$553,MATCH(Databackup!A293,Employee_Name,0),0)),\"\",(INDEX('Employee Data'!$N$4:$N$553,MATCH(Databackup!A293,Employee_Name,0))))","v":""},{"$f":"IF(ISERROR(INDEX('Employee Data'!$O$4:$O$553,MATCH(Databackup!A293,Employee_Name,0),0)),\"\",(INDEX('Employee Data'!$O$4:$O$553,MATCH(Databackup!A293,Employee_Name,0))))","v":""}]
[{"$f":"INDEX(Employee_Name,MATCH(SMALL(IF($A$1='Employee Data'!$I$4:$I$553,'Employee Data'!$B$4:$B$553,\"\"),ROW('Employee Data'!A292)),IF($A$1='Employee Data'!$I$4:$I$553,'Employee Data'!$B$4:$B$553,\"\"),0))","v":{"$error":"#NUM!"}},{"$f":"IF(ISERROR(INDEX('Employee Data'!$B$4:$B$553,MATCH(Databackup!A294,Employee_Name,0),0)),\"\",(INDEX('Employee Data'!$B$4:$B$553,MATCH(Databackup!A294,Employee_Name,0))))","v":""},{"$f":"IF(ISERROR(INDEX('Employee Data'!$C$4:$C$553,MATCH(Databackup!A294,Employee_Name,0),0)),\"\",(INDEX('Employee Data'!$C$4:$C$553,MATCH(Databackup!A294,Employee_Name,0))))","v":""},{"$f":"IF(ISERROR(INDEX('Employee Data'!$D$4:$D$553,MATCH(Databackup!A294,Employee_Name,0),0)),\"\",(INDEX('Employee Data'!$D$4:$D$553,MATCH(Databackup!A294,Employee_Name,0))))","v":""},{"$f":"IF(ISERROR(INDEX('Employee Data'!$F$4:$F$553,MATCH(Databackup!A294,Employee_Name,0),0)),\"\",(INDEX('Employee Data'!$F$4:$F$553,MATCH(Databackup!A294,Employee_Name,0))))","v":""},{"$f":"IF(ISERROR(INDEX('Employee Data'!$G$4:$G$553,MATCH(Databackup!A294,Employee_Name,0),0)),\"\",(INDEX('Employee Data'!$G$4:$G$553,MATCH(Databackup!A294,Employee_Name,0))))","v":""},{"$f":"IF(ISERROR(INDEX('Employee Data'!$H$4:$H$553,MATCH(Databackup!A294,Employee_Name,0),0)),\"\",(INDEX('Employee Data'!$H$4:$H$553,MATCH(Databackup!A294,Employee_Name,0))))","v":""},{"$f":"IF(ISERROR(INDEX('Employee Data'!$I$4:$I$553,MATCH(Databackup!A294,Employee_Name,0),0)),\"\",(INDEX('Employee Data'!$I$4:$I$553,MATCH(Databackup!A294,Employee_Name,0))))","v":""},{"$f":"IF(ISERROR(INDEX('Employee Data'!$J$4:$J$553,MATCH(Databackup!A294,Employee_Name,0),0)),\"\",(INDEX('Employee Data'!J$4:$J$553,MATCH(Databackup!A294,Employee_Name,0))))","v":""},{"$f":"IF(ISERROR(INDEX('Employee Data'!$K$4:$K$553,MATCH(Databackup!A294,Employee_Name,0),0)),\"\",(INDEX('Employee Data'!$K$4:$K$553,MATCH(Databackup!A294,Employee_Name,0))))","v":""},{"$f":"IF(ISERROR(INDEX('Employee Data'!$L$4:$L$553,MATCH(Databackup!A294,Employee_Name,0),0)),\"\",(INDEX('Employee Data'!$L$4:$L$553,MATCH(Databackup!A294,Employee_Name,0))))","v":""},{"$f":"IF(ISERROR(INDEX('Employee Data'!$M$4:$M$553,MATCH(Databackup!A294,Employee_Name,0),0)),\"\",(INDEX('Employee Data'!$M$4:$M$553,MATCH(Databackup!A294,Employee_Name,0))))","v":""},{"$f":"IF(ISERROR(INDEX('Employee Data'!$N$4:$N$553,MATCH(Databackup!A294,Employee_Name,0),0)),\"\",(INDEX('Employee Data'!$N$4:$N$553,MATCH(Databackup!A294,Employee_Name,0))))","v":""},{"$f":"IF(ISERROR(INDEX('Employee Data'!$O$4:$O$553,MATCH(Databackup!A294,Employee_Name,0),0)),\"\",(INDEX('Employee Data'!$O$4:$O$553,MATCH(Databackup!A294,Employee_Name,0))))","v":""}]
[{"$f":"INDEX(Employee_Name,MATCH(SMALL(IF($A$1='Employee Data'!$I$4:$I$553,'Employee Data'!$B$4:$B$553,\"\"),ROW('Employee Data'!A293)),IF($A$1='Employee Data'!$I$4:$I$553,'Employee Data'!$B$4:$B$553,\"\"),0))","v":{"$error":"#NUM!"}},{"$f":"IF(ISERROR(INDEX('Employee Data'!$B$4:$B$553,MATCH(Databackup!A295,Employee_Name,0),0)),\"\",(INDEX('Employee Data'!$B$4:$B$553,MATCH(Databackup!A295,Employee_Name,0))))","v":""},{"$f":"IF(ISERROR(INDEX('Employee Data'!$C$4:$C$553,MATCH(Databackup!A295,Employee_Name,0),0)),\"\",(INDEX('Employee Data'!$C$4:$C$553,MATCH(Databackup!A295,Employee_Name,0))))","v":""},{"$f":"IF(ISERROR(INDEX('Employee Data'!$D$4:$D$553,MATCH(Databackup!A295,Employee_Name,0),0)),\"\",(INDEX('Employee Data'!$D$4:$D$553,MATCH(Databackup!A295,Employee_Name,0))))","v":""},{"$f":"IF(ISERROR(INDEX('Employee Data'!$F$4:$F$553,MATCH(Databackup!A295,Employee_Name,0),0)),\"\",(INDEX('Employee Data'!$F$4:$F$553,MATCH(Databackup!A295,Employee_Name,0))))","v":""},{"$f":"IF(ISERROR(INDEX('Employee Data'!$G$4:$G$553,MATCH(Databackup!A295,Employee_Name,0),0)),\"\",(INDEX('Employee Data'!$G$4:$G$553,MATCH(Databackup!A295,Employee_Name,0))))","v":""},{"$f":"IF(ISERROR(INDEX('Employee Data'!$H$4:$H$553,MATCH(Databackup!A295,Employee_Name,0),0)),\"\",(INDEX('Employee Data'!$H$4:$H$553,MATCH(Databackup!A295,Employee_Name,0))))","v":""},{"$f":"IF(ISERROR(INDEX('Employee Data'!$I$4:$I$553,MATCH(Databackup!A295,Employee_Name,0),0)),\"\",(INDEX('Employee Data'!$I$4:$I$553,MATCH(Databackup!A295,Employee_Name,0))))","v":""},{"$f":"IF(ISERROR(INDEX('Employee Data'!$J$4:$J$553,MATCH(Databackup!A295,Employee_Name,0),0)),\"\",(INDEX('Employee Data'!J$4:$J$553,MATCH(Databackup!A295,Employee_Name,0))))","v":""},{"$f":"IF(ISERROR(INDEX('Employee Data'!$K$4:$K$553,MATCH(Databackup!A295,Employee_Name,0),0)),\"\",(INDEX('Employee Data'!$K$4:$K$553,MATCH(Databackup!A295,Employee_Name,0))))","v":""},{"$f":"IF(ISERROR(INDEX('Employee Data'!$L$4:$L$553,MATCH(Databackup!A295,Employee_Name,0),0)),\"\",(INDEX('Employee Data'!$L$4:$L$553,MATCH(Databackup!A295,Employee_Name,0))))","v":""},{"$f":"IF(ISERROR(INDEX('Employee Data'!$M$4:$M$553,MATCH(Databackup!A295,Employee_Name,0),0)),\"\",(INDEX('Employee Data'!$M$4:$M$553,MATCH(Databackup!A295,Employee_Name,0))))","v":""},{"$f":"IF(ISERROR(INDEX('Employee Data'!$N$4:$N$553,MATCH(Databackup!A295,Employee_Name,0),0)),\"\",(INDEX('Employee Data'!$N$4:$N$553,MATCH(Databackup!A295,Employee_Name,0))))","v":""},{"$f":"IF(ISERROR(INDEX('Employee Data'!$O$4:$O$553,MATCH(Databackup!A295,Employee_Name,0),0)),\"\",(INDEX('Employee Data'!$O$4:$O$553,MATCH(Databackup!A295,Employee_Name,0))))","v":""}]
[{"$f":"INDEX(Employee_Name,MATCH(SMALL(IF($A$1='Employee Data'!$I$4:$I$553,'Employee Data'!$B$4:$B$553,\"\"),ROW('Employee Data'!A294)),IF($A$1='Employee Data'!$I$4:$I$553,'Employee Data'!$B$4:$B$553,\"\"),0))","v":{"$error":"#NUM!"}},{"$f":"IF(ISERROR(INDEX('Employee Data'!$B$4:$B$553,MATCH(Databackup!A296,Employee_Name,0),0)),\"\",(INDEX('Employee Data'!$B$4:$B$553,MATCH(Databackup!A296,Employee_Name,0))))","v":""},{"$f":"IF(ISERROR(INDEX('Employee Data'!$C$4:$C$553,MATCH(Databackup!A296,Employee_Name,0),0)),\"\",(INDEX('Employee Data'!$C$4:$C$553,MATCH(Databackup!A296,Employee_Name,0))))","v":""},{"$f":"IF(ISERROR(INDEX('Employee Data'!$D$4:$D$553,MATCH(Databackup!A296,Employee_Name,0),0)),\"\",(INDEX('Employee Data'!$D$4:$D$553,MATCH(Databackup!A296,Employee_Name,0))))","v":""},{"$f":"IF(ISERROR(INDEX('Employee Data'!$F$4:$F$553,MATCH(Databackup!A296,Employee_Name,0),0)),\"\",(INDEX('Employee Data'!$F$4:$F$553,MATCH(Databackup!A296,Employee_Name,0))))","v":""},{"$f":"IF(ISERROR(INDEX('Employee Data'!$G$4:$G$553,MATCH(Databackup!A296,Employee_Name,0),0)),\"\",(INDEX('Employee Data'!$G$4:$G$553,MATCH(Databackup!A296,Employee_Name,0))))","v":""},{"$f":"IF(ISERROR(INDEX('Employee Data'!$H$4:$H$553,MATCH(Databackup!A296,Employee_Name,0),0)),\"\",(INDEX('Employee Data'!$H$4:$H$553,MATCH(Databackup!A296,Employee_Name,0))))","v":""},{"$f":"IF(ISERROR(INDEX('Employee Data'!$I$4:$I$553,MATCH(Databackup!A296,Employee_Name,0),0)),\"\",(INDEX('Employee Data'!$I$4:$I$553,MATCH(Databackup!A296,Employee_Name,0))))","v":""},{"$f":"IF(ISERROR(INDEX('Employee Data'!$J$4:$J$553,MATCH(Databackup!A296,Employee_Name,0),0)),\"\",(INDEX('Employee Data'!J$4:$J$553,MATCH(Databackup!A296,Employee_Name,0))))","v":""},{"$f":"IF(ISERROR(INDEX('Employee Data'!$K$4:$K$553,MATCH(Databackup!A296,Employee_Name,0),0)),\"\",(INDEX('Employee Data'!$K$4:$K$553,MATCH(Databackup!A296,Employee_Name,0))))","v":""},{"$f":"IF(ISERROR(INDEX('Employee Data'!$L$4:$L$553,MATCH(Databackup!A296,Employee_Name,0),0)),\"\",(INDEX('Employee Data'!$L$4:$L$553,MATCH(Databackup!A296,Employee_Name,0))))","v":""},{"$f":"IF(ISERROR(INDEX('Employee Data'!$M$4:$M$553,MATCH(Databackup!A296,Employee_Name,0),0)),\"\",(INDEX('Employee Data'!$M$4:$M$553,MATCH(Databackup!A296,Employee_Name,0))))","v":""},{"$f":"IF(ISERROR(INDEX('Employee Data'!$N$4:$N$553,MATCH(Databackup!A296,Employee_Name,0),0)),\"\",(INDEX('Employee Data'!$N$4:$N$553,MATCH(Databackup!A296,Employee_Name,0))))","v":""},{"$f":"IF(ISERROR(INDEX('Employee Data'!$O$4:$O$553,MATCH(Databackup!A296,Employee_Name,0),0)),\"\",(INDEX('Employee Data'!$O$4:$O$553,MATCH(Databackup!A296,Employee_Name,0))))","v":""}]
[{"$f":"INDEX(Employee_Name,MATCH(SMALL(IF($A$1='Employee Data'!$I$4:$I$553,'Employee Data'!$B$4:$B$553,\"\"),ROW('Employee Data'!A295)),IF($A$1='Employee Data'!$I$4:$I$553,'Employee Data'!$B$4:$B$553,\"\"),0))","v":{"$error":"#NUM!"}},{"$f":"IF(ISERROR(INDEX('Employee Data'!$B$4:$B$553,MATCH(Databackup!A297,Employee_Name,0),0)),\"\",(INDEX('Employee Data'!$B$4:$B$553,MATCH(Databackup!A297,Employee_Name,0))))","v":""},{"$f":"IF(ISERROR(INDEX('Employee Data'!$C$4:$C$553,MATCH(Databackup!A297,Employee_Name,0),0)),\"\",(INDEX('Employee Data'!$C$4:$C$553,MATCH(Databackup!A297,Employee_Name,0))))","v":""},{"$f":"IF(ISERROR(INDEX('Employee Data'!$D$4:$D$553,MATCH(Databackup!A297,Employee_Name,0),0)),\"\",(INDEX('Employee Data'!$D$4:$D$553,MATCH(Databackup!A297,Employee_Name,0))))","v":""},{"$f":"IF(ISERROR(INDEX('Employee Data'!$F$4:$F$553,MATCH(Databackup!A297,Employee_Name,0),0)),\"\",(INDEX('Employee Data'!$F$4:$F$553,MATCH(Databackup!A297,Employee_Name,0))))","v":""},{"$f":"IF(ISERROR(INDEX('Employee Data'!$G$4:$G$553,MATCH(Databackup!A297,Employee_Name,0),0)),\"\",(INDEX('Employee Data'!$G$4:$G$553,MATCH(Databackup!A297,Employee_Name,0))))","v":""},{"$f":"IF(ISERROR(INDEX('Employee Data'!$H$4:$H$553,MATCH(Databackup!A297,Employee_Name,0),0)),\"\",(INDEX('Employee Data'!$H$4:$H$553,MATCH(Databackup!A297,Employee_Name,0))))","v":""},{"$f":"IF(ISERROR(INDEX('Employee Data'!$I$4:$I$553,MATCH(Databackup!A297,Employee_Name,0),0)),\"\",(INDEX('Employee Data'!$I$4:$I$553,MATCH(Databackup!A297,Employee_Name,0))))","v":""},{"$f":"IF(ISERROR(INDEX('Employee Data'!$J$4:$J$553,MATCH(Databackup!A297,Employee_Name,0),0)),\"\",(INDEX('Employee Data'!J$4:$J$553,MATCH(Databackup!A297,Employee_Name,0))))","v":""},{"$f":"IF(ISERROR(INDEX('Employee Data'!$K$4:$K$553,MATCH(Databackup!A297,Employee_Name,0),0)),\"\",(INDEX('Employee Data'!$K$4:$K$553,MATCH(Databackup!A297,Employee_Name,0))))","v":""},{"$f":"IF(ISERROR(INDEX('Employee Data'!$L$4:$L$553,MATCH(Databackup!A297,Employee_Name,0),0)),\"\",(INDEX('Employee Data'!$L$4:$L$553,MATCH(Databackup!A297,Employee_Name,0))))","v":""},{"$f":"IF(ISERROR(INDEX('Employee Data'!$M$4:$M$553,MATCH(Databackup!A297,Employee_Name,0),0)),\"\",(INDEX('Employee Data'!$M$4:$M$553,MATCH(Databackup!A297,Employee_Name,0))))","v":""},{"$f":"IF(ISERROR(INDEX('Employee Data'!$N$4:$N$553,MATCH(Databackup!A297,Employee_Name,0),0)),\"\",(INDEX('Employee Data'!$N$4:$N$553,MATCH(Databackup!A297,Employee_Name,0))))","v":""},{"$f":"IF(ISERROR(INDEX('Employee Data'!$O$4:$O$553,MATCH(Databackup!A297,Employee_Name,0),0)),\"\",(INDEX('Employee Data'!$O$4:$O$553,MATCH(Databackup!A297,Employee_Name,0))))","v":""}]
[{"$f":"INDEX(Employee_Name,MATCH(SMALL(IF($A$1='Employee Data'!$I$4:$I$553,'Employee Data'!$B$4:$B$553,\"\"),ROW('Employee Data'!A296)),IF($A$1='Employee Data'!$I$4:$I$553,'Employee Data'!$B$4:$B$553,\"\"),0))","v":{"$error":"#NUM!"}},{"$f":"IF(ISERROR(INDEX('Employee Data'!$B$4:$B$553,MATCH(Databackup!A298,Employee_Name,0),0)),\"\",(INDEX('Employee Data'!$B$4:$B$553,MATCH(Databackup!A298,Employee_Name,0))))","v":""},{"$f":"IF(ISERROR(INDEX('Employee Data'!$C$4:$C$553,MATCH(Databackup!A298,Employee_Name,0),0)),\"\",(INDEX('Employee Data'!$C$4:$C$553,MATCH(Databackup!A298,Employee_Name,0))))","v":""},{"$f":"IF(ISERROR(INDEX('Employee Data'!$D$4:$D$553,MATCH(Databackup!A298,Employee_Name,0),0)),\"\",(INDEX('Employee Data'!$D$4:$D$553,MATCH(Databackup!A298,Employee_Name,0))))","v":""},{"$f":"IF(ISERROR(INDEX('Employee Data'!$F$4:$F$553,MATCH(Databackup!A298,Employee_Name,0),0)),\"\",(INDEX('Employee Data'!$F$4:$F$553,MATCH(Databackup!A298,Employee_Name,0))))","v":""},{"$f":"IF(ISERROR(INDEX('Employee Data'!$G$4:$G$553,MATCH(Databackup!A298,Employee_Name,0),0)),\"\",(INDEX('Employee Data'!$G$4:$G$553,MATCH(Databackup!A298,Employee_Name,0))))","v":""},{"$f":"IF(ISERROR(INDEX('Employee Data'!$H$4:$H$553,MATCH(Databackup!A298,Employee_Name,0),0)),\"\",(INDEX('Employee Data'!$H$4:$H$553,MATCH(Databackup!A298,Employee_Name,0))))","v":""},{"$f":"IF(ISERROR(INDEX('Employee Data'!$I$4:$I$553,MATCH(Databackup!A298,Employee_Name,0),0)),\"\",(INDEX('Employee Data'!$I$4:$I$553,MATCH(Databackup!A298,Employee_Name,0))))","v":""},{"$f":"IF(ISERROR(INDEX('Employee Data'!$J$4:$J$553,MATCH(Databackup!A298,Employee_Name,0),0)),\"\",(INDEX('Employee Data'!J$4:$J$553,MATCH(Databackup!A298,Employee_Name,0))))","v":""},{"$f":"IF(ISERROR(INDEX('Employee Data'!$K$4:$K$553,MATCH(Databackup!A298,Employee_Name,0),0)),\"\",(INDEX('Employee Data'!$K$4:$K$553,MATCH(Databackup!A298,Employee_Name,0))))","v":""},{"$f":"IF(ISERROR(INDEX('Employee Data'!$L$4:$L$553,MATCH(Databackup!A298,Employee_Name,0),0)),\"\",(INDEX('Employee Data'!$L$4:$L$553,MATCH(Databackup!A298,Employee_Name,0))))","v":""},{"$f":"IF(ISERROR(INDEX('Employee Data'!$M$4:$M$553,MATCH(Databackup!A298,Employee_Name,0),0)),\"\",(INDEX('Employee Data'!$M$4:$M$553,MATCH(Databackup!A298,Employee_Name,0))))","v":""},{"$f":"IF(ISERROR(INDEX('Employee Data'!$N$4:$N$553,MATCH(Databackup!A298,Employee_Name,0),0)),\"\",(INDEX('Employee Data'!$N$4:$N$553,MATCH(Databackup!A298,Employee_Name,0))))","v":""},{"$f":"IF(ISERROR(INDEX('Employee Data'!$O$4:$O$553,MATCH(Databackup!A298,Employee_Name,0),0)),\"\",(INDEX('Employee Data'!$O$4:$O$553,MATCH(Databackup!A298,Employee_Name,0))))","v":""}]
[{"$f":"INDEX(Employee_Name,MATCH(SMALL(IF($A$1='Employee Data'!$I$4:$I$553,'Employee Data'!$B$4:$B$553,\"\"),ROW('Employee Data'!A297)),IF($A$1='Employee Data'!$I$4:$I$553,'Employee Data'!$B$4:$B$553,\"\"),0))","v":{"$error":"#NUM!"}},{"$f":"IF(ISERROR(INDEX('Employee Data'!$B$4:$B$553,MATCH(Databackup!A299,Employee_Name,0),0)),\"\",(INDEX('Employee Data'!$B$4:$B$553,MATCH(Databackup!A299,Employee_Name,0))))","v":""},{"$f":"IF(ISERROR(INDEX('Employee Data'!$C$4:$C$553,MATCH(Databackup!A299,Employee_Name,0),0)),\"\",(INDEX('Employee Data'!$C$4:$C$553,MATCH(Databackup!A299,Employee_Name,0))))","v":""},{"$f":"IF(ISERROR(INDEX('Employee Data'!$D$4:$D$553,MATCH(Databackup!A299,Employee_Name,0),0)),\"\",(INDEX('Employee Data'!$D$4:$D$553,MATCH(Databackup!A299,Employee_Name,0))))","v":""},{"$f":"IF(ISERROR(INDEX('Employee Data'!$F$4:$F$553,MATCH(Databackup!A299,Employee_Name,0),0)),\"\",(INDEX('Employee Data'!$F$4:$F$553,MATCH(Databackup!A299,Employee_Name,0))))","v":""},{"$f":"IF(ISERROR(INDEX('Employee Data'!$G$4:$G$553,MATCH(Databackup!A299,Employee_Name,0),0)),\"\",(INDEX('Employee Data'!$G$4:$G$553,MATCH(Databackup!A299,Employee_Name,0))))","v":""},{"$f":"IF(ISERROR(INDEX('Employee Data'!$H$4:$H$553,MATCH(Databackup!A299,Employee_Name,0),0)),\"\",(INDEX('Employee Data'!$H$4:$H$553,MATCH(Databackup!A299,Employee_Name,0))))","v":""},{"$f":"IF(ISERROR(INDEX('Employee Data'!$I$4:$I$553,MATCH(Databackup!A299,Employee_Name,0),0)),\"\",(INDEX('Employee Data'!$I$4:$I$553,MATCH(Databackup!A299,Employee_Name,0))))","v":""},{"$f":"IF(ISERROR(INDEX('Employee Data'!$J$4:$J$553,MATCH(Databackup!A299,Employee_Name,0),0)),\"\",(INDEX('Employee Data'!J$4:$J$553,MATCH(Databackup!A299,Employee_Name,0))))","v":""},{"$f":"IF(ISERROR(INDEX('Employee Data'!$K$4:$K$553,MATCH(Databackup!A299,Employee_Name,0),0)),\"\",(INDEX('Employee Data'!$K$4:$K$553,MATCH(Databackup!A299,Employee_Name,0))))","v":""},{"$f":"IF(ISERROR(INDEX('Employee Data'!$L$4:$L$553,MATCH(Databackup!A299,Employee_Name,0),0)),\"\",(INDEX('Employee Data'!$L$4:$L$553,MATCH(Databackup!A299,Employee_Name,0))))","v":""},{"$f":"IF(ISERROR(INDEX('Employee Data'!$M$4:$M$553,MATCH(Databackup!A299,Employee_Name,0),0)),\"\",(INDEX('Employee Data'!$M$4:$M$553,MATCH(Databackup!A299,Employee_Name,0))))","v":""},{"$f":"IF(ISERROR(INDEX('Employee Data'!$N$4:$N$553,MATCH(Databackup!A299,Employee_Name,0),0)),\"\",(INDEX('Employee Data'!$N$4:$N$553,MATCH(Databackup!A299,Employee_Name,0))))","v":""},{"$f":"IF(ISERROR(INDEX('Employee Data'!$O$4:$O$553,MATCH(Databackup!A299,Employee_Name,0),0)),\"\",(INDEX('Employee Data'!$O$4:$O$553,MATCH(Databackup!A299,Employee_Name,0))))","v":""}]
[{"$f":"INDEX(Employee_Name,MATCH(SMALL(IF($A$1='Employee Data'!$I$4:$I$553,'Employee Data'!$B$4:$B$553,\"\"),ROW('Employee Data'!A298)),IF($A$1='Employee Data'!$I$4:$I$553,'Employee Data'!$B$4:$B$553,\"\"),0))","v":{"$error":"#NUM!"}},{"$f":"IF(ISERROR(INDEX('Employee Data'!$B$4:$B$553,MATCH(Databackup!A300,Employee_Name,0),0)),\"\",(INDEX('Employee Data'!$B$4:$B$553,MATCH(Databackup!A300,Employee_Name,0))))","v":""},{"$f":"IF(ISERROR(INDEX('Employee Data'!$C$4:$C$553,MATCH(Databackup!A300,Employee_Name,0),0)),\"\",(INDEX('Employee Data'!$C$4:$C$553,MATCH(Databackup!A300,Employee_Name,0))))","v":""},{"$f":"IF(ISERROR(INDEX('Employee Data'!$D$4:$D$553,MATCH(Databackup!A300,Employee_Name,0),0)),\"\",(INDEX('Employee Data'!$D$4:$D$553,MATCH(Databackup!A300,Employee_Name,0))))","v":""},{"$f":"IF(ISERROR(INDEX('Employee Data'!$F$4:$F$553,MATCH(Databackup!A300,Employee_Name,0),0)),\"\",(INDEX('Employee Data'!$F$4:$F$553,MATCH(Databackup!A300,Employee_Name,0))))","v":""},{"$f":"IF(ISERROR(INDEX('Employee Data'!$G$4:$G$553,MATCH(Databackup!A300,Employee_Name,0),0)),\"\",(INDEX('Employee Data'!$G$4:$G$553,MATCH(Databackup!A300,Employee_Name,0))))","v":""},{"$f":"IF(ISERROR(INDEX('Employee Data'!$H$4:$H$553,MATCH(Databackup!A300,Employee_Name,0),0)),\"\",(INDEX('Employee Data'!$H$4:$H$553,MATCH(Databackup!A300,Employee_Name,0))))","v":""},{"$f":"IF(ISERROR(INDEX('Employee Data'!$I$4:$I$553,MATCH(Databackup!A300,Employee_Name,0),0)),\"\",(INDEX('Employee Data'!$I$4:$I$553,MATCH(Databackup!A300,Employee_Name,0))))","v":""},{"$f":"IF(ISERROR(INDEX('Employee Data'!$J$4:$J$553,MATCH(Databackup!A300,Employee_Name,0),0)),\"\",(INDEX('Employee Data'!J$4:$J$553,MATCH(Databackup!A300,Employee_Name,0))))","v":""},{"$f":"IF(ISERROR(INDEX('Employee Data'!$K$4:$K$553,MATCH(Databackup!A300,Employee_Name,0),0)),\"\",(INDEX('Employee Data'!$K$4:$K$553,MATCH(Databackup!A300,Employee_Name,0))))","v":""},{"$f":"IF(ISERROR(INDEX('Employee Data'!$L$4:$L$553,MATCH(Databackup!A300,Employee_Name,0),0)),\"\",(INDEX('Employee Data'!$L$4:$L$553,MATCH(Databackup!A300,Employee_Name,0))))","v":""},{"$f":"IF(ISERROR(INDEX('Employee Data'!$M$4:$M$553,MATCH(Databackup!A300,Employee_Name,0),0)),\"\",(INDEX('Employee Data'!$M$4:$M$553,MATCH(Databackup!A300,Employee_Name,0))))","v":""},{"$f":"IF(ISERROR(INDEX('Employee Data'!$N$4:$N$553,MATCH(Databackup!A300,Employee_Name,0),0)),\"\",(INDEX('Employee Data'!$N$4:$N$553,MATCH(Databackup!A300,Employee_Name,0))))","v":""},{"$f":"IF(ISERROR(INDEX('Employee Data'!$O$4:$O$553,MATCH(Databackup!A300,Employee_Name,0),0)),\"\",(INDEX('Employee Data'!$O$4:$O$553,MATCH(Databackup!A300,Employee_Name,0))))","v":""}]
[{"$f":"INDEX(Employee_Name,MATCH(SMALL(IF($A$1='Employee Data'!$I$4:$I$553,'Employee Data'!$B$4:$B$553,\"\"),ROW('Employee Data'!A299)),IF($A$1='Employee Data'!$I$4:$I$553,'Employee Data'!$B$4:$B$553,\"\"),0))","v":{"$error":"#NUM!"}},{"$f":"IF(ISERROR(INDEX('Employee Data'!$B$4:$B$553,MATCH(Databackup!A301,Employee_Name,0),0)),\"\",(INDEX('Employee Data'!$B$4:$B$553,MATCH(Databackup!A301,Employee_Name,0))))","v":""},{"$f":"IF(ISERROR(INDEX('Employee Data'!$C$4:$C$553,MATCH(Databackup!A301,Employee_Name,0),0)),\"\",(INDEX('Employee Data'!$C$4:$C$553,MATCH(Databackup!A301,Employee_Name,0))))","v":""},{"$f":"IF(ISERROR(INDEX('Employee Data'!$D$4:$D$553,MATCH(Databackup!A301,Employee_Name,0),0)),\"\",(INDEX('Employee Data'!$D$4:$D$553,MATCH(Databackup!A301,Employee_Name,0))))","v":""},{"$f":"IF(ISERROR(INDEX('Employee Data'!$F$4:$F$553,MATCH(Databackup!A301,Employee_Name,0),0)),\"\",(INDEX('Employee Data'!$F$4:$F$553,MATCH(Databackup!A301,Employee_Name,0))))","v":""},{"$f":"IF(ISERROR(INDEX('Employee Data'!$G$4:$G$553,MATCH(Databackup!A301,Employee_Name,0),0)),\"\",(INDEX('Employee Data'!$G$4:$G$553,MATCH(Databackup!A301,Employee_Name,0))))","v":""},{"$f":"IF(ISERROR(INDEX('Employee Data'!$H$4:$H$553,MATCH(Databackup!A301,Employee_Name,0),0)),\"\",(INDEX('Employee Data'!$H$4:$H$553,MATCH(Databackup!A301,Employee_Name,0))))","v":""},{"$f":"IF(ISERROR(INDEX('Employee Data'!$I$4:$I$553,MATCH(Databackup!A301,Employee_Name,0),0)),\"\",(INDEX('Employee Data'!$I$4:$I$553,MATCH(Databackup!A301,Employee_Name,0))))","v":""},{"$f":"IF(ISERROR(INDEX('Employee Data'!$J$4:$J$553,MATCH(Databackup!A301,Employee_Name,0),0)),\"\",(INDEX('Employee Data'!J$4:$J$553,MATCH(Databackup!A301,Employee_Name,0))))","v":""},{"$f":"IF(ISERROR(INDEX('Employee Data'!$K$4:$K$553,MATCH(Databackup!A301,Employee_Name,0),0)),\"\",(INDEX('Employee Data'!$K$4:$K$553,MATCH(Databackup!A301,Employee_Name,0))))","v":""},{"$f":"IF(ISERROR(INDEX('Employee Data'!$L$4:$L$553,MATCH(Databackup!A301,Employee_Name,0),0)),\"\",(INDEX('Employee Data'!$L$4:$L$553,MATCH(Databackup!A301,Employee_Name,0))))","v":""},{"$f":"IF(ISERROR(INDEX('Employee Data'!$M$4:$M$553,MATCH(Databackup!A301,Employee_Name,0),0)),\"\",(INDEX('Employee Data'!$M$4:$M$553,MATCH(Databackup!A301,Employee_Name,0))))","v":""},{"$f":"IF(ISERROR(INDEX('Employee Data'!$N$4:$N$553,MATCH(Databackup!A301,Employee_Name,0),0)),\"\",(INDEX('Employee Data'!$N$4:$N$553,MATCH(Databackup!A301,Employee_Name,0))))","v":""},{"$f":"IF(ISERROR(INDEX('Employee Data'!$O$4:$O$553,MATCH(Databackup!A301,Employee_Name,0),0)),\"\",(INDEX('Employee Data'!$O$4:$O$553,MATCH(Databackup!A301,Employee_Name,0))))","v":""}]
[{"$f":"INDEX(Employee_Name,MATCH(SMALL(IF($A$1='Employee Data'!$I$4:$I$553,'Employee Data'!$B$4:$B$553,\"\"),ROW('Employee Data'!A300)),IF($A$1='Employee Data'!$I$4:$I$553,'Employee Data'!$B$4:$B$553,\"\"),0))","v":{"$error":"#NUM!"}},{"$f":"IF(ISERROR(INDEX('Employee Data'!$B$4:$B$553,MATCH(Databackup!A302,Employee_Name,0),0)),\"\",(INDEX('Employee Data'!$B$4:$B$553,MATCH(Databackup!A302,Employee_Name,0))))","v":""},{"$f":"IF(ISERROR(INDEX('Employee Data'!$C$4:$C$553,MATCH(Databackup!A302,Employee_Name,0),0)),\"\",(INDEX('Employee Data'!$C$4:$C$553,MATCH(Databackup!A302,Employee_Name,0))))","v":""},{"$f":"IF(ISERROR(INDEX('Employee Data'!$D$4:$D$553,MATCH(Databackup!A302,Employee_Name,0),0)),\"\",(INDEX('Employee Data'!$D$4:$D$553,MATCH(Databackup!A302,Employee_Name,0))))","v":""},{"$f":"IF(ISERROR(INDEX('Employee Data'!$F$4:$F$553,MATCH(Databackup!A302,Employee_Name,0),0)),\"\",(INDEX('Employee Data'!$F$4:$F$553,MATCH(Databackup!A302,Employee_Name,0))))","v":""},{"$f":"IF(ISERROR(INDEX('Employee Data'!$G$4:$G$553,MATCH(Databackup!A302,Employee_Name,0),0)),\"\",(INDEX('Employee Data'!$G$4:$G$553,MATCH(Databackup!A302,Employee_Name,0))))","v":""},{"$f":"IF(ISERROR(INDEX('Employee Data'!$H$4:$H$553,MATCH(Databackup!A302,Employee_Name,0),0)),\"\",(INDEX('Employee Data'!$H$4:$H$553,MATCH(Databackup!A302,Employee_Name,0))))","v":""},{"$f":"IF(ISERROR(INDEX('Employee Data'!$I$4:$I$553,MATCH(Databackup!A302,Employee_Name,0),0)),\"\",(INDEX('Employee Data'!$I$4:$I$553,MATCH(Databackup!A302,Employee_Name,0))))","v":""},{"$f":"IF(ISERROR(INDEX('Employee Data'!$J$4:$J$553,MATCH(Databackup!A302,Employee_Name,0),0)),\"\",(INDEX('Employee Data'!J$4:$J$553,MATCH(Databackup!A302,Employee_Name,0))))","v":""},{"$f":"IF(ISERROR(INDEX('Employee Data'!$K$4:$K$553,MATCH(Databackup!A302,Employee_Name,0),0)),\"\",(INDEX('Employee Data'!$K$4:$K$553,MATCH(Databackup!A302,Employee_Name,0))))","v":""},{"$f":"IF(ISERROR(INDEX('Employee Data'!$L$4:$L$553,MATCH(Databackup!A302,Employee_Name,0),0)),\"\",(INDEX('Employee Data'!$L$4:$L$553,MATCH(Databackup!A302,Employee_Name,0))))","v":""},{"$f":"IF(ISERROR(INDEX('Employee Data'!$M$4:$M$553,MATCH(Databackup!A302,Employee_Name,0),0)),\"\",(INDEX('Employee Data'!$M$4:$M$553,MATCH(Databackup!A302,Employee_Name,0))))","v":""},{"$f":"IF(ISERROR(INDEX('Employee Data'!$N$4:$N$553,MATCH(Databackup!A302,Employee_Name,0),0)),\"\",(INDEX('Employee Data'!$N$4:$N$553,MATCH(Databackup!A302,Employee_Name,0))))","v":""},{"$f":"IF(ISERROR(INDEX('Employee Data'!$O$4:$O$553,MATCH(Databackup!A302,Employee_Name,0),0)),\"\",(INDEX('Employee Data'!$O$4:$O$553,MATCH(Databackup!A302,Employee_Name,0))))","v":""}]
[{"$f":"INDEX(Employee_Name,MATCH(SMALL(IF($A$1='Employee Data'!$I$4:$I$553,'Employee Data'!$B$4:$B$553,\"\"),ROW('Employee Data'!A301)),IF($A$1='Employee Data'!$I$4:$I$553,'Employee Data'!$B$4:$B$553,\"\"),0))","v":{"$error":"#NUM!"}},{"$f":"IF(ISERROR(INDEX('Employee Data'!$B$4:$B$553,MATCH(Databackup!A303,Employee_Name,0),0)),\"\",(INDEX('Employee Data'!$B$4:$B$553,MATCH(Databackup!A303,Employee_Name,0))))","v":""},{"$f":"IF(ISERROR(INDEX('Employee Data'!$C$4:$C$553,MATCH(Databackup!A303,Employee_Name,0),0)),\"\",(INDEX('Employee Data'!$C$4:$C$553,MATCH(Databackup!A303,Employee_Name,0))))","v":""},{"$f":"IF(ISERROR(INDEX('Employee Data'!$D$4:$D$553,MATCH(Databackup!A303,Employee_Name,0),0)),\"\",(INDEX('Employee Data'!$D$4:$D$553,MATCH(Databackup!A303,Employee_Name,0))))","v":""},{"$f":"IF(ISERROR(INDEX('Employee Data'!$F$4:$F$553,MATCH(Databackup!A303,Employee_Name,0),0)),\"\",(INDEX('Employee Data'!$F$4:$F$553,MATCH(Databackup!A303,Employee_Name,0))))","v":""},{"$f":"IF(ISERROR(INDEX('Employee Data'!$G$4:$G$553,MATCH(Databackup!A303,Employee_Name,0),0)),\"\",(INDEX('Employee Data'!$G$4:$G$553,MATCH(Databackup!A303,Employee_Name,0))))","v":""},{"$f":"IF(ISERROR(INDEX('Employee Data'!$H$4:$H$553,MATCH(Databackup!A303,Employee_Name,0),0)),\"\",(INDEX('Employee Data'!$H$4:$H$553,MATCH(Databackup!A303,Employee_Name,0))))","v":""},{"$f":"IF(ISERROR(INDEX('Employee Data'!$I$4:$I$553,MATCH(Databackup!A303,Employee_Name,0),0)),\"\",(INDEX('Employee Data'!$I$4:$I$553,MATCH(Databackup!A303,Employee_Name,0))))","v":""},{"$f":"IF(ISERROR(INDEX('Employee Data'!$J$4:$J$553,MATCH(Databackup!A303,Employee_Name,0),0)),\"\",(INDEX('Employee Data'!J$4:$J$553,MATCH(Databackup!A303,Employee_Name,0))))","v":""},{"$f":"IF(ISERROR(INDEX('Employee Data'!$K$4:$K$553,MATCH(Databackup!A303,Employee_Name,0),0)),\"\",(INDEX('Employee Data'!$K$4:$K$553,MATCH(Databackup!A303,Employee_Name,0))))","v":""},{"$f":"IF(ISERROR(INDEX('Employee Data'!$L$4:$L$553,MATCH(Databackup!A303,Employee_Name,0),0)),\"\",(INDEX('Employee Data'!$L$4:$L$553,MATCH(Databackup!A303,Employee_Name,0))))","v":""},{"$f":"IF(ISERROR(INDEX('Employee Data'!$M$4:$M$553,MATCH(Databackup!A303,Employee_Name,0),0)),\"\",(INDEX('Employee Data'!$M$4:$M$553,MATCH(Databackup!A303,Employee_Name,0))))","v":""},{"$f":"IF(ISERROR(INDEX('Employee Data'!$N$4:$N$553,MATCH(Databackup!A303,Employee_Name,0),0)),\"\",(INDEX('Employee Data'!$N$4:$N$553,MATCH(Databackup!A303,Employee_Name,0))))","v":""},{"$f":"IF(ISERROR(INDEX('Employee Data'!$O$4:$O$553,MATCH(Databackup!A303,Employee_Name,0),0)),\"\",(INDEX('Employee Data'!$O$4:$O$553,MATCH(Databackup!A303,Employee_Name,0))))","v":""}]
[{"$f":"INDEX(Employee_Name,MATCH(SMALL(IF($A$1='Employee Data'!$I$4:$I$553,'Employee Data'!$B$4:$B$553,\"\"),ROW('Employee Data'!A302)),IF($A$1='Employee Data'!$I$4:$I$553,'Employee Data'!$B$4:$B$553,\"\"),0))","v":{"$error":"#NUM!"}},{"$f":"IF(ISERROR(INDEX('Employee Data'!$B$4:$B$553,MATCH(Databackup!A304,Employee_Name,0),0)),\"\",(INDEX('Employee Data'!$B$4:$B$553,MATCH(Databackup!A304,Employee_Name,0))))","v":""},{"$f":"IF(ISERROR(INDEX('Employee Data'!$C$4:$C$553,MATCH(Databackup!A304,Employee_Name,0),0)),\"\",(INDEX('Employee Data'!$C$4:$C$553,MATCH(Databackup!A304,Employee_Name,0))))","v":""},{"$f":"IF(ISERROR(INDEX('Employee Data'!$D$4:$D$553,MATCH(Databackup!A304,Employee_Name,0),0)),\"\",(INDEX('Employee Data'!$D$4:$D$553,MATCH(Databackup!A304,Employee_Name,0))))","v":""},{"$f":"IF(ISERROR(INDEX('Employee Data'!$F$4:$F$553,MATCH(Databackup!A304,Employee_Name,0),0)),\"\",(INDEX('Employee Data'!$F$4:$F$553,MATCH(Databackup!A304,Employee_Name,0))))","v":""},{"$f":"IF(ISERROR(INDEX('Employee Data'!$G$4:$G$553,MATCH(Databackup!A304,Employee_Name,0),0)),\"\",(INDEX('Employee Data'!$G$4:$G$553,MATCH(Databackup!A304,Employee_Name,0))))","v":""},{"$f":"IF(ISERROR(INDEX('Employee Data'!$H$4:$H$553,MATCH(Databackup!A304,Employee_Name,0),0)),\"\",(INDEX('Employee Data'!$H$4:$H$553,MATCH(Databackup!A304,Employee_Name,0))))","v":""},{"$f":"IF(ISERROR(INDEX('Employee Data'!$I$4:$I$553,MATCH(Databackup!A304,Employee_Name,0),0)),\"\",(INDEX('Employee Data'!$I$4:$I$553,MATCH(Databackup!A304,Employee_Name,0))))","v":""},{"$f":"IF(ISERROR(INDEX('Employee Data'!$J$4:$J$553,MATCH(Databackup!A304,Employee_Name,0),0)),\"\",(INDEX('Employee Data'!J$4:$J$553,MATCH(Databackup!A304,Employee_Name,0))))","v":""},{"$f":"IF(ISERROR(INDEX('Employee Data'!$K$4:$K$553,MATCH(Databackup!A304,Employee_Name,0),0)),\"\",(INDEX('Employee Data'!$K$4:$K$553,MATCH(Databackup!A304,Employee_Name,0))))","v":""},{"$f":"IF(ISERROR(INDEX('Employee Data'!$L$4:$L$553,MATCH(Databackup!A304,Employee_Name,0),0)),\"\",(INDEX('Employee Data'!$L$4:$L$553,MATCH(Databackup!A304,Employee_Name,0))))","v":""},{"$f":"IF(ISERROR(INDEX('Employee Data'!$M$4:$M$553,MATCH(Databackup!A304,Employee_Name,0),0)),\"\",(INDEX('Employee Data'!$M$4:$M$553,MATCH(Databackup!A304,Employee_Name,0))))","v":""},{"$f":"IF(ISERROR(INDEX('Employee Data'!$N$4:$N$553,MATCH(Databackup!A304,Employee_Name,0),0)),\"\",(INDEX('Employee Data'!$N$4:$N$553,MATCH(Databackup!A304,Employee_Name,0))))","v":""},{"$f":"IF(ISERROR(INDEX('Employee Data'!$O$4:$O$553,MATCH(Databackup!A304,Employee_Name,0),0)),\"\",(INDEX('Employee Data'!$O$4:$O$553,MATCH(Databackup!A304,Employee_Name,0))))","v":""}]
[{"$f":"INDEX(Employee_Name,MATCH(SMALL(IF($A$1='Employee Data'!$I$4:$I$553,'Employee Data'!$B$4:$B$553,\"\"),ROW('Employee Data'!A303)),IF($A$1='Employee Data'!$I$4:$I$553,'Employee Data'!$B$4:$B$553,\"\"),0))","v":{"$error":"#NUM!"}},{"$f":"IF(ISERROR(INDEX('Employee Data'!$B$4:$B$553,MATCH(Databackup!A305,Employee_Name,0),0)),\"\",(INDEX('Employee Data'!$B$4:$B$553,MATCH(Databackup!A305,Employee_Name,0))))","v":""},{"$f":"IF(ISERROR(INDEX('Employee Data'!$C$4:$C$553,MATCH(Databackup!A305,Employee_Name,0),0)),\"\",(INDEX('Employee Data'!$C$4:$C$553,MATCH(Databackup!A305,Employee_Name,0))))","v":""},{"$f":"IF(ISERROR(INDEX('Employee Data'!$D$4:$D$553,MATCH(Databackup!A305,Employee_Name,0),0)),\"\",(INDEX('Employee Data'!$D$4:$D$553,MATCH(Databackup!A305,Employee_Name,0))))","v":""},{"$f":"IF(ISERROR(INDEX('Employee Data'!$F$4:$F$553,MATCH(Databackup!A305,Employee_Name,0),0)),\"\",(INDEX('Employee Data'!$F$4:$F$553,MATCH(Databackup!A305,Employee_Name,0))))","v":""},{"$f":"IF(ISERROR(INDEX('Employee Data'!$G$4:$G$553,MATCH(Databackup!A305,Employee_Name,0),0)),\"\",(INDEX('Employee Data'!$G$4:$G$553,MATCH(Databackup!A305,Employee_Name,0))))","v":""},{"$f":"IF(ISERROR(INDEX('Employee Data'!$H$4:$H$553,MATCH(Databackup!A305,Employee_Name,0),0)),\"\",(INDEX('Employee Data'!$H$4:$H$553,MATCH(Databackup!A305,Employee_Name,0))))","v":""},{"$f":"IF(ISERROR(INDEX('Employee Data'!$I$4:$I$553,MATCH(Databackup!A305,Employee_Name,0),0)),\"\",(INDEX('Employee Data'!$I$4:$I$553,MATCH(Databackup!A305,Employee_Name,0))))","v":""},{"$f":"IF(ISERROR(INDEX('Employee Data'!$J$4:$J$553,MATCH(Databackup!A305,Employee_Name,0),0)),\"\",(INDEX('Employee Data'!J$4:$J$553,MATCH(Databackup!A305,Employee_Name,0))))","v":""},{"$f":"IF(ISERROR(INDEX('Employee Data'!$K$4:$K$553,MATCH(Databackup!A305,Employee_Name,0),0)),\"\",(INDEX('Employee Data'!$K$4:$K$553,MATCH(Databackup!A305,Employee_Name,0))))","v":""},{"$f":"IF(ISERROR(INDEX('Employee Data'!$L$4:$L$553,MATCH(Databackup!A305,Employee_Name,0),0)),\"\",(INDEX('Employee Data'!$L$4:$L$553,MATCH(Databackup!A305,Employee_Name,0))))","v":""},{"$f":"IF(ISERROR(INDEX('Employee Data'!$M$4:$M$553,MATCH(Databackup!A305,Employee_Name,0),0)),\"\",(INDEX('Employee Data'!$M$4:$M$553,MATCH(Databackup!A305,Employee_Name,0))))","v":""},{"$f":"IF(ISERROR(INDEX('Employee Data'!$N$4:$N$553,MATCH(Databackup!A305,Employee_Name,0),0)),\"\",(INDEX('Employee Data'!$N$4:$N$553,MATCH(Databackup!A305,Employee_Name,0))))","v":""},{"$f":"IF(ISERROR(INDEX('Employee Data'!$O$4:$O$553,MATCH(Databackup!A305,Employee_Name,0),0)),\"\",(INDEX('Employee Data'!$O$4:$O$553,MATCH(Databackup!A305,Employee_Name,0))))","v":""}]
[{"$f":"INDEX(Employee_Name,MATCH(SMALL(IF($A$1='Employee Data'!$I$4:$I$553,'Employee Data'!$B$4:$B$553,\"\"),ROW('Employee Data'!A304)),IF($A$1='Employee Data'!$I$4:$I$553,'Employee Data'!$B$4:$B$553,\"\"),0))","v":{"$error":"#NUM!"}},{"$f":"IF(ISERROR(INDEX('Employee Data'!$B$4:$B$553,MATCH(Databackup!A306,Employee_Name,0),0)),\"\",(INDEX('Employee Data'!$B$4:$B$553,MATCH(Databackup!A306,Employee_Name,0))))","v":""},{"$f":"IF(ISERROR(INDEX('Employee Data'!$C$4:$C$553,MATCH(Databackup!A306,Employee_Name,0),0)),\"\",(INDEX('Employee Data'!$C$4:$C$553,MATCH(Databackup!A306,Employee_Name,0))))","v":""},{"$f":"IF(ISERROR(INDEX('Employee Data'!$D$4:$D$553,MATCH(Databackup!A306,Employee_Name,0),0)),\"\",(INDEX('Employee Data'!$D$4:$D$553,MATCH(Databackup!A306,Employee_Name,0))))","v":""},{"$f":"IF(ISERROR(INDEX('Employee Data'!$F$4:$F$553,MATCH(Databackup!A306,Employee_Name,0),0)),\"\",(INDEX('Employee Data'!$F$4:$F$553,MATCH(Databackup!A306,Employee_Name,0))))","v":""},{"$f":"IF(ISERROR(INDEX('Employee Data'!$G$4:$G$553,MATCH(Databackup!A306,Employee_Name,0),0)),\"\",(INDEX('Employee Data'!$G$4:$G$553,MATCH(Databackup!A306,Employee_Name,0))))","v":""},{"$f":"IF(ISERROR(INDEX('Employee Data'!$H$4:$H$553,MATCH(Databackup!A306,Employee_Name,0),0)),\"\",(INDEX('Employee Data'!$H$4:$H$553,MATCH(Databackup!A306,Employee_Name,0))))","v":""},{"$f":"IF(ISERROR(INDEX('Employee Data'!$I$4:$I$553,MATCH(Databackup!A306,Employee_Name,0),0)),\"\",(INDEX('Employee Data'!$I$4:$I$553,MATCH(Databackup!A306,Employee_Name,0))))","v":""},{"$f":"IF(ISERROR(INDEX('Employee Data'!$J$4:$J$553,MATCH(Databackup!A306,Employee_Name,0),0)),\"\",(INDEX('Employee Data'!J$4:$J$553,MATCH(Databackup!A306,Employee_Name,0))))","v":""},{"$f":"IF(ISERROR(INDEX('Employee Data'!$K$4:$K$553,MATCH(Databackup!A306,Employee_Name,0),0)),\"\",(INDEX('Employee Data'!$K$4:$K$553,MATCH(Databackup!A306,Employee_Name,0))))","v":""},{"$f":"IF(ISERROR(INDEX('Employee Data'!$L$4:$L$553,MATCH(Databackup!A306,Employee_Name,0),0)),\"\",(INDEX('Employee Data'!$L$4:$L$553,MATCH(Databackup!A306,Employee_Name,0))))","v":""},{"$f":"IF(ISERROR(INDEX('Employee Data'!$M$4:$M$553,MATCH(Databackup!A306,Employee_Name,0),0)),\"\",(INDEX('Employee Data'!$M$4:$M$553,MATCH(Databackup!A306,Employee_Name,0))))","v":""},{"$f":"IF(ISERROR(INDEX('Employee Data'!$N$4:$N$553,MATCH(Databackup!A306,Employee_Name,0),0)),\"\",(INDEX('Employee Data'!$N$4:$N$553,MATCH(Databackup!A306,Employee_Name,0))))","v":""},{"$f":"IF(ISERROR(INDEX('Employee Data'!$O$4:$O$553,MATCH(Databackup!A306,Employee_Name,0),0)),\"\",(INDEX('Employee Data'!$O$4:$O$553,MATCH(Databackup!A306,Employee_Name,0))))","v":""}]
[{"$f":"INDEX(Employee_Name,MATCH(SMALL(IF($A$1='Employee Data'!$I$4:$I$553,'Employee Data'!$B$4:$B$553,\"\"),ROW('Employee Data'!A305)),IF($A$1='Employee Data'!$I$4:$I$553,'Employee Data'!$B$4:$B$553,\"\"),0))","v":{"$error":"#NUM!"}},{"$f":"IF(ISERROR(INDEX('Employee Data'!$B$4:$B$553,MATCH(Databackup!A307,Employee_Name,0),0)),\"\",(INDEX('Employee Data'!$B$4:$B$553,MATCH(Databackup!A307,Employee_Name,0))))","v":""},{"$f":"IF(ISERROR(INDEX('Employee Data'!$C$4:$C$553,MATCH(Databackup!A307,Employee_Name,0),0)),\"\",(INDEX('Employee Data'!$C$4:$C$553,MATCH(Databackup!A307,Employee_Name,0))))","v":""},{"$f":"IF(ISERROR(INDEX('Employee Data'!$D$4:$D$553,MATCH(Databackup!A307,Employee_Name,0),0)),\"\",(INDEX('Employee Data'!$D$4:$D$553,MATCH(Databackup!A307,Employee_Name,0))))","v":""},{"$f":"IF(ISERROR(INDEX('Employee Data'!$F$4:$F$553,MATCH(Databackup!A307,Employee_Name,0),0)),\"\",(INDEX('Employee Data'!$F$4:$F$553,MATCH(Databackup!A307,Employee_Name,0))))","v":""},{"$f":"IF(ISERROR(INDEX('Employee Data'!$G$4:$G$553,MATCH(Databackup!A307,Employee_Name,0),0)),\"\",(INDEX('Employee Data'!$G$4:$G$553,MATCH(Databackup!A307,Employee_Name,0))))","v":""},{"$f":"IF(ISERROR(INDEX('Employee Data'!$H$4:$H$553,MATCH(Databackup!A307,Employee_Name,0),0)),\"\",(INDEX('Employee Data'!$H$4:$H$553,MATCH(Databackup!A307,Employee_Name,0))))","v":""},{"$f":"IF(ISERROR(INDEX('Employee Data'!$I$4:$I$553,MATCH(Databackup!A307,Employee_Name,0),0)),\"\",(INDEX('Employee Data'!$I$4:$I$553,MATCH(Databackup!A307,Employee_Name,0))))","v":""},{"$f":"IF(ISERROR(INDEX('Employee Data'!$J$4:$J$553,MATCH(Databackup!A307,Employee_Name,0),0)),\"\",(INDEX('Employee Data'!J$4:$J$553,MATCH(Databackup!A307,Employee_Name,0))))","v":""},{"$f":"IF(ISERROR(INDEX('Employee Data'!$K$4:$K$553,MATCH(Databackup!A307,Employee_Name,0),0)),\"\",(INDEX('Employee Data'!$K$4:$K$553,MATCH(Databackup!A307,Employee_Name,0))))","v":""},{"$f":"IF(ISERROR(INDEX('Employee Data'!$L$4:$L$553,MATCH(Databackup!A307,Employee_Name,0),0)),\"\",(INDEX('Employee Data'!$L$4:$L$553,MATCH(Databackup!A307,Employee_Name,0))))","v":""},{"$f":"IF(ISERROR(INDEX('Employee Data'!$M$4:$M$553,MATCH(Databackup!A307,Employee_Name,0),0)),\"\",(INDEX('Employee Data'!$M$4:$M$553,MATCH(Databackup!A307,Employee_Name,0))))","v":""},{"$f":"IF(ISERROR(INDEX('Employee Data'!$N$4:$N$553,MATCH(Databackup!A307,Employee_Name,0),0)),\"\",(INDEX('Employee Data'!$N$4:$N$553,MATCH(Databackup!A307,Employee_Name,0))))","v":""},{"$f":"IF(ISERROR(INDEX('Employee Data'!$O$4:$O$553,MATCH(Databackup!A307,Employee_Name,0),0)),\"\",(INDEX('Employee Data'!$O$4:$O$553,MATCH(Databackup!A307,Employee_Name,0))))","v":""}]
[{"$f":"INDEX(Employee_Name,MATCH(SMALL(IF($A$1='Employee Data'!$I$4:$I$553,'Employee Data'!$B$4:$B$553,\"\"),ROW('Employee Data'!A306)),IF($A$1='Employee Data'!$I$4:$I$553,'Employee Data'!$B$4:$B$553,\"\"),0))","v":{"$error":"#NUM!"}},{"$f":"IF(ISERROR(INDEX('Employee Data'!$B$4:$B$553,MATCH(Databackup!A308,Employee_Name,0),0)),\"\",(INDEX('Employee Data'!$B$4:$B$553,MATCH(Databackup!A308,Employee_Name,0))))","v":""},{"$f":"IF(ISERROR(INDEX('Employee Data'!$C$4:$C$553,MATCH(Databackup!A308,Employee_Name,0),0)),\"\",(INDEX('Employee Data'!$C$4:$C$553,MATCH(Databackup!A308,Employee_Name,0))))","v":""},{"$f":"IF(ISERROR(INDEX('Employee Data'!$D$4:$D$553,MATCH(Databackup!A308,Employee_Name,0),0)),\"\",(INDEX('Employee Data'!$D$4:$D$553,MATCH(Databackup!A308,Employee_Name,0))))","v":""},{"$f":"IF(ISERROR(INDEX('Employee Data'!$F$4:$F$553,MATCH(Databackup!A308,Employee_Name,0),0)),\"\",(INDEX('Employee Data'!$F$4:$F$553,MATCH(Databackup!A308,Employee_Name,0))))","v":""},{"$f":"IF(ISERROR(INDEX('Employee Data'!$G$4:$G$553,MATCH(Databackup!A308,Employee_Name,0),0)),\"\",(INDEX('Employee Data'!$G$4:$G$553,MATCH(Databackup!A308,Employee_Name,0))))","v":""},{"$f":"IF(ISERROR(INDEX('Employee Data'!$H$4:$H$553,MATCH(Databackup!A308,Employee_Name,0),0)),\"\",(INDEX('Employee Data'!$H$4:$H$553,MATCH(Databackup!A308,Employee_Name,0))))","v":""},{"$f":"IF(ISERROR(INDEX('Employee Data'!$I$4:$I$553,MATCH(Databackup!A308,Employee_Name,0),0)),\"\",(INDEX('Employee Data'!$I$4:$I$553,MATCH(Databackup!A308,Employee_Name,0))))","v":""},{"$f":"IF(ISERROR(INDEX('Employee Data'!$J$4:$J$553,MATCH(Databackup!A308,Employee_Name,0),0)),\"\",(INDEX('Employee Data'!J$4:$J$553,MATCH(Databackup!A308,Employee_Name,0))))","v":""},{"$f":"IF(ISERROR(INDEX('Employee Data'!$K$4:$K$553,MATCH(Databackup!A308,Employee_Name,0),0)),\"\",(INDEX('Employee Data'!$K$4:$K$553,MATCH(Databackup!A308,Employee_Name,0))))","v":""},{"$f":"IF(ISERROR(INDEX('Employee Data'!$L$4:$L$553,MATCH(Databackup!A308,Employee_Name,0),0)),\"\",(INDEX('Employee Data'!$L$4:$L$553,MATCH(Databackup!A308,Employee_Name,0))))","v":""},{"$f":"IF(ISERROR(INDEX('Employee Data'!$M$4:$M$553,MATCH(Databackup!A308,Employee_Name,0),0)),\"\",(INDEX('Employee Data'!$M$4:$M$553,MATCH(Databackup!A308,Employee_Name,0))))","v":""},{"$f":"IF(ISERROR(INDEX('Employee Data'!$N$4:$N$553,MATCH(Databackup!A308,Employee_Name,0),0)),\"\",(INDEX('Employee Data'!$N$4:$N$553,MATCH(Databackup!A308,Employee_Name,0))))","v":""},{"$f":"IF(ISERROR(INDEX('Employee Data'!$O$4:$O$553,MATCH(Databackup!A308,Employee_Name,0),0)),\"\",(INDEX('Employee Data'!$O$4:$O$553,MATCH(Databackup!A308,Employee_Name,0))))","v":""}]
[{"$f":"INDEX(Employee_Name,MATCH(SMALL(IF($A$1='Employee Data'!$I$4:$I$553,'Employee Data'!$B$4:$B$553,\"\"),ROW('Employee Data'!A307)),IF($A$1='Employee Data'!$I$4:$I$553,'Employee Data'!$B$4:$B$553,\"\"),0))","v":{"$error":"#NUM!"}},{"$f":"IF(ISERROR(INDEX('Employee Data'!$B$4:$B$553,MATCH(Databackup!A309,Employee_Name,0),0)),\"\",(INDEX('Employee Data'!$B$4:$B$553,MATCH(Databackup!A309,Employee_Name,0))))","v":""},{"$f":"IF(ISERROR(INDEX('Employee Data'!$C$4:$C$553,MATCH(Databackup!A309,Employee_Name,0),0)),\"\",(INDEX('Employee Data'!$C$4:$C$553,MATCH(Databackup!A309,Employee_Name,0))))","v":""},{"$f":"IF(ISERROR(INDEX('Employee Data'!$D$4:$D$553,MATCH(Databackup!A309,Employee_Name,0),0)),\"\",(INDEX('Employee Data'!$D$4:$D$553,MATCH(Databackup!A309,Employee_Name,0))))","v":""},{"$f":"IF(ISERROR(INDEX('Employee Data'!$F$4:$F$553,MATCH(Databackup!A309,Employee_Name,0),0)),\"\",(INDEX('Employee Data'!$F$4:$F$553,MATCH(Databackup!A309,Employee_Name,0))))","v":""},{"$f":"IF(ISERROR(INDEX('Employee Data'!$G$4:$G$553,MATCH(Databackup!A309,Employee_Name,0),0)),\"\",(INDEX('Employee Data'!$G$4:$G$553,MATCH(Databackup!A309,Employee_Name,0))))","v":""},{"$f":"IF(ISERROR(INDEX('Employee Data'!$H$4:$H$553,MATCH(Databackup!A309,Employee_Name,0),0)),\"\",(INDEX('Employee Data'!$H$4:$H$553,MATCH(Databackup!A309,Employee_Name,0))))","v":""},{"$f":"IF(ISERROR(INDEX('Employee Data'!$I$4:$I$553,MATCH(Databackup!A309,Employee_Name,0),0)),\"\",(INDEX('Employee Data'!$I$4:$I$553,MATCH(Databackup!A309,Employee_Name,0))))","v":""},{"$f":"IF(ISERROR(INDEX('Employee Data'!$J$4:$J$553,MATCH(Databackup!A309,Employee_Name,0),0)),\"\",(INDEX('Employee Data'!J$4:$J$553,MATCH(Databackup!A309,Employee_Name,0))))","v":""},{"$f":"IF(ISERROR(INDEX('Employee Data'!$K$4:$K$553,MATCH(Databackup!A309,Employee_Name,0),0)),\"\",(INDEX('Employee Data'!$K$4:$K$553,MATCH(Databackup!A309,Employee_Name,0))))","v":""},{"$f":"IF(ISERROR(INDEX('Employee Data'!$L$4:$L$553,MATCH(Databackup!A309,Employee_Name,0),0)),\"\",(INDEX('Employee Data'!$L$4:$L$553,MATCH(Databackup!A309,Employee_Name,0))))","v":""},{"$f":"IF(ISERROR(INDEX('Employee Data'!$M$4:$M$553,MATCH(Databackup!A309,Employee_Name,0),0)),\"\",(INDEX('Employee Data'!$M$4:$M$553,MATCH(Databackup!A309,Employee_Name,0))))","v":""},{"$f":"IF(ISERROR(INDEX('Employee Data'!$N$4:$N$553,MATCH(Databackup!A309,Employee_Name,0),0)),\"\",(INDEX('Employee Data'!$N$4:$N$553,MATCH(Databackup!A309,Employee_Name,0))))","v":""},{"$f":"IF(ISERROR(INDEX('Employee Data'!$O$4:$O$553,MATCH(Databackup!A309,Employee_Name,0),0)),\"\",(INDEX('Employee Data'!$O$4:$O$553,MATCH(Databackup!A309,Employee_Name,0))))","v":""}]
[{"$f":"INDEX(Employee_Name,MATCH(SMALL(IF($A$1='Employee Data'!$I$4:$I$553,'Employee Data'!$B$4:$B$553,\"\"),ROW('Employee Data'!A308)),IF($A$1='Employee Data'!$I$4:$I$553,'Employee Data'!$B$4:$B$553,\"\"),0))","v":{"$error":"#NUM!"}},{"$f":"IF(ISERROR(INDEX('Employee Data'!$B$4:$B$553,MATCH(Databackup!A310,Employee_Name,0),0)),\"\",(INDEX('Employee Data'!$B$4:$B$553,MATCH(Databackup!A310,Employee_Name,0))))","v":""},{"$f":"IF(ISERROR(INDEX('Employee Data'!$C$4:$C$553,MATCH(Databackup!A310,Employee_Name,0),0)),\"\",(INDEX('Employee Data'!$C$4:$C$553,MATCH(Databackup!A310,Employee_Name,0))))","v":""},{"$f":"IF(ISERROR(INDEX('Employee Data'!$D$4:$D$553,MATCH(Databackup!A310,Employee_Name,0),0)),\"\",(INDEX('Employee Data'!$D$4:$D$553,MATCH(Databackup!A310,Employee_Name,0))))","v":""},{"$f":"IF(ISERROR(INDEX('Employee Data'!$F$4:$F$553,MATCH(Databackup!A310,Employee_Name,0),0)),\"\",(INDEX('Employee Data'!$F$4:$F$553,MATCH(Databackup!A310,Employee_Name,0))))","v":""},{"$f":"IF(ISERROR(INDEX('Employee Data'!$G$4:$G$553,MATCH(Databackup!A310,Employee_Name,0),0)),\"\",(INDEX('Employee Data'!$G$4:$G$553,MATCH(Databackup!A310,Employee_Name,0))))","v":""},{"$f":"IF(ISERROR(INDEX('Employee Data'!$H$4:$H$553,MATCH(Databackup!A310,Employee_Name,0),0)),\"\",(INDEX('Employee Data'!$H$4:$H$553,MATCH(Databackup!A310,Employee_Name,0))))","v":""},{"$f":"IF(ISERROR(INDEX('Employee Data'!$I$4:$I$553,MATCH(Databackup!A310,Employee_Name,0),0)),\"\",(INDEX('Employee Data'!$I$4:$I$553,MATCH(Databackup!A310,Employee_Name,0))))","v":""},{"$f":"IF(ISERROR(INDEX('Employee Data'!$J$4:$J$553,MATCH(Databackup!A310,Employee_Name,0),0)),\"\",(INDEX('Employee Data'!J$4:$J$553,MATCH(Databackup!A310,Employee_Name,0))))","v":""},{"$f":"IF(ISERROR(INDEX('Employee Data'!$K$4:$K$553,MATCH(Databackup!A310,Employee_Name,0),0)),\"\",(INDEX('Employee Data'!$K$4:$K$553,MATCH(Databackup!A310,Employee_Name,0))))","v":""},{"$f":"IF(ISERROR(INDEX('Employee Data'!$L$4:$L$553,MATCH(Databackup!A310,Employee_Name,0),0)),\"\",(INDEX('Employee Data'!$L$4:$L$553,MATCH(Databackup!A310,Employee_Name,0))))","v":""},{"$f":"IF(ISERROR(INDEX('Employee Data'!$M$4:$M$553,MATCH(Databackup!A310,Employee_Name,0),0)),\"\",(INDEX('Employee Data'!$M$4:$M$553,MATCH(Databackup!A310,Employee_Name,0))))","v":""},{"$f":"IF(ISERROR(INDEX('Employee Data'!$N$4:$N$553,MATCH(Databackup!A310,Employee_Name,0),0)),\"\",(INDEX('Employee Data'!$N$4:$N$553,MATCH(Databackup!A310,Employee_Name,0))))","v":""},{"$f":"IF(ISERROR(INDEX('Employee Data'!$O$4:$O$553,MATCH(Databackup!A310,Employee_Name,0),0)),\"\",(INDEX('Employee Data'!$O$4:$O$553,MATCH(Databackup!A310,Employee_Name,0))))","v":""}]
[{"$f":"INDEX(Employee_Name,MATCH(SMALL(IF($A$1='Employee Data'!$I$4:$I$553,'Employee Data'!$B$4:$B$553,\"\"),ROW('Employee Data'!A309)),IF($A$1='Employee Data'!$I$4:$I$553,'Employee Data'!$B$4:$B$553,\"\"),0))","v":{"$error":"#NUM!"}},{"$f":"IF(ISERROR(INDEX('Employee Data'!$B$4:$B$553,MATCH(Databackup!A311,Employee_Name,0),0)),\"\",(INDEX('Employee Data'!$B$4:$B$553,MATCH(Databackup!A311,Employee_Name,0))))","v":""},{"$f":"IF(ISERROR(INDEX('Employee Data'!$C$4:$C$553,MATCH(Databackup!A311,Employee_Name,0),0)),\"\",(INDEX('Employee Data'!$C$4:$C$553,MATCH(Databackup!A311,Employee_Name,0))))","v":""},{"$f":"IF(ISERROR(INDEX('Employee Data'!$D$4:$D$553,MATCH(Databackup!A311,Employee_Name,0),0)),\"\",(INDEX('Employee Data'!$D$4:$D$553,MATCH(Databackup!A311,Employee_Name,0))))","v":""},{"$f":"IF(ISERROR(INDEX('Employee Data'!$F$4:$F$553,MATCH(Databackup!A311,Employee_Name,0),0)),\"\",(INDEX('Employee Data'!$F$4:$F$553,MATCH(Databackup!A311,Employee_Name,0))))","v":""},{"$f":"IF(ISERROR(INDEX('Employee Data'!$G$4:$G$553,MATCH(Databackup!A311,Employee_Name,0),0)),\"\",(INDEX('Employee Data'!$G$4:$G$553,MATCH(Databackup!A311,Employee_Name,0))))","v":""},{"$f":"IF(ISERROR(INDEX('Employee Data'!$H$4:$H$553,MATCH(Databackup!A311,Employee_Name,0),0)),\"\",(INDEX('Employee Data'!$H$4:$H$553,MATCH(Databackup!A311,Employee_Name,0))))","v":""},{"$f":"IF(ISERROR(INDEX('Employee Data'!$I$4:$I$553,MATCH(Databackup!A311,Employee_Name,0),0)),\"\",(INDEX('Employee Data'!$I$4:$I$553,MATCH(Databackup!A311,Employee_Name,0))))","v":""},{"$f":"IF(ISERROR(INDEX('Employee Data'!$J$4:$J$553,MATCH(Databackup!A311,Employee_Name,0),0)),\"\",(INDEX('Employee Data'!J$4:$J$553,MATCH(Databackup!A311,Employee_Name,0))))","v":""},{"$f":"IF(ISERROR(INDEX('Employee Data'!$K$4:$K$553,MATCH(Databackup!A311,Employee_Name,0),0)),\"\",(INDEX('Employee Data'!$K$4:$K$553,MATCH(Databackup!A311,Employee_Name,0))))","v":""},{"$f":"IF(ISERROR(INDEX('Employee Data'!$L$4:$L$553,MATCH(Databackup!A311,Employee_Name,0),0)),\"\",(INDEX('Employee Data'!$L$4:$L$553,MATCH(Databackup!A311,Employee_Name,0))))","v":""},{"$f":"IF(ISERROR(INDEX('Employee Data'!$M$4:$M$553,MATCH(Databackup!A311,Employee_Name,0),0)),\"\",(INDEX('Employee Data'!$M$4:$M$553,MATCH(Databackup!A311,Employee_Name,0))))","v":""},{"$f":"IF(ISERROR(INDEX('Employee Data'!$N$4:$N$553,MATCH(Databackup!A311,Employee_Name,0),0)),\"\",(INDEX('Employee Data'!$N$4:$N$553,MATCH(Databackup!A311,Employee_Name,0))))","v":""},{"$f":"IF(ISERROR(INDEX('Employee Data'!$O$4:$O$553,MATCH(Databackup!A311,Employee_Name,0),0)),\"\",(INDEX('Employee Data'!$O$4:$O$553,MATCH(Databackup!A311,Employee_Name,0))))","v":""}]
[{"$f":"INDEX(Employee_Name,MATCH(SMALL(IF($A$1='Employee Data'!$I$4:$I$553,'Employee Data'!$B$4:$B$553,\"\"),ROW('Employee Data'!A310)),IF($A$1='Employee Data'!$I$4:$I$553,'Employee Data'!$B$4:$B$553,\"\"),0))","v":{"$error":"#NUM!"}},{"$f":"IF(ISERROR(INDEX('Employee Data'!$B$4:$B$553,MATCH(Databackup!A312,Employee_Name,0),0)),\"\",(INDEX('Employee Data'!$B$4:$B$553,MATCH(Databackup!A312,Employee_Name,0))))","v":""},{"$f":"IF(ISERROR(INDEX('Employee Data'!$C$4:$C$553,MATCH(Databackup!A312,Employee_Name,0),0)),\"\",(INDEX('Employee Data'!$C$4:$C$553,MATCH(Databackup!A312,Employee_Name,0))))","v":""},{"$f":"IF(ISERROR(INDEX('Employee Data'!$D$4:$D$553,MATCH(Databackup!A312,Employee_Name,0),0)),\"\",(INDEX('Employee Data'!$D$4:$D$553,MATCH(Databackup!A312,Employee_Name,0))))","v":""},{"$f":"IF(ISERROR(INDEX('Employee Data'!$F$4:$F$553,MATCH(Databackup!A312,Employee_Name,0),0)),\"\",(INDEX('Employee Data'!$F$4:$F$553,MATCH(Databackup!A312,Employee_Name,0))))","v":""},{"$f":"IF(ISERROR(INDEX('Employee Data'!$G$4:$G$553,MATCH(Databackup!A312,Employee_Name,0),0)),\"\",(INDEX('Employee Data'!$G$4:$G$553,MATCH(Databackup!A312,Employee_Name,0))))","v":""},{"$f":"IF(ISERROR(INDEX('Employee Data'!$H$4:$H$553,MATCH(Databackup!A312,Employee_Name,0),0)),\"\",(INDEX('Employee Data'!$H$4:$H$553,MATCH(Databackup!A312,Employee_Name,0))))","v":""},{"$f":"IF(ISERROR(INDEX('Employee Data'!$I$4:$I$553,MATCH(Databackup!A312,Employee_Name,0),0)),\"\",(INDEX('Employee Data'!$I$4:$I$553,MATCH(Databackup!A312,Employee_Name,0))))","v":""},{"$f":"IF(ISERROR(INDEX('Employee Data'!$J$4:$J$553,MATCH(Databackup!A312,Employee_Name,0),0)),\"\",(INDEX('Employee Data'!J$4:$J$553,MATCH(Databackup!A312,Employee_Name,0))))","v":""},{"$f":"IF(ISERROR(INDEX('Employee Data'!$K$4:$K$553,MATCH(Databackup!A312,Employee_Name,0),0)),\"\",(INDEX('Employee Data'!$K$4:$K$553,MATCH(Databackup!A312,Employee_Name,0))))","v":""},{"$f":"IF(ISERROR(INDEX('Employee Data'!$L$4:$L$553,MATCH(Databackup!A312,Employee_Name,0),0)),\"\",(INDEX('Employee Data'!$L$4:$L$553,MATCH(Databackup!A312,Employee_Name,0))))","v":""},{"$f":"IF(ISERROR(INDEX('Employee Data'!$M$4:$M$553,MATCH(Databackup!A312,Employee_Name,0),0)),\"\",(INDEX('Employee Data'!$M$4:$M$553,MATCH(Databackup!A312,Employee_Name,0))))","v":""},{"$f":"IF(ISERROR(INDEX('Employee Data'!$N$4:$N$553,MATCH(Databackup!A312,Employee_Name,0),0)),\"\",(INDEX('Employee Data'!$N$4:$N$553,MATCH(Databackup!A312,Employee_Name,0))))","v":""},{"$f":"IF(ISERROR(INDEX('Employee Data'!$O$4:$O$553,MATCH(Databackup!A312,Employee_Name,0),0)),\"\",(INDEX('Employee Data'!$O$4:$O$553,MATCH(Databackup!A312,Employee_Name,0))))","v":""}]
[{"$f":"INDEX(Employee_Name,MATCH(SMALL(IF($A$1='Employee Data'!$I$4:$I$553,'Employee Data'!$B$4:$B$553,\"\"),ROW('Employee Data'!A311)),IF($A$1='Employee Data'!$I$4:$I$553,'Employee Data'!$B$4:$B$553,\"\"),0))","v":{"$error":"#NUM!"}},{"$f":"IF(ISERROR(INDEX('Employee Data'!$B$4:$B$553,MATCH(Databackup!A313,Employee_Name,0),0)),\"\",(INDEX('Employee Data'!$B$4:$B$553,MATCH(Databackup!A313,Employee_Name,0))))","v":""},{"$f":"IF(ISERROR(INDEX('Employee Data'!$C$4:$C$553,MATCH(Databackup!A313,Employee_Name,0),0)),\"\",(INDEX('Employee Data'!$C$4:$C$553,MATCH(Databackup!A313,Employee_Name,0))))","v":""},{"$f":"IF(ISERROR(INDEX('Employee Data'!$D$4:$D$553,MATCH(Databackup!A313,Employee_Name,0),0)),\"\",(INDEX('Employee Data'!$D$4:$D$553,MATCH(Databackup!A313,Employee_Name,0))))","v":""},{"$f":"IF(ISERROR(INDEX('Employee Data'!$F$4:$F$553,MATCH(Databackup!A313,Employee_Name,0),0)),\"\",(INDEX('Employee Data'!$F$4:$F$553,MATCH(Databackup!A313,Employee_Name,0))))","v":""},{"$f":"IF(ISERROR(INDEX('Employee Data'!$G$4:$G$553,MATCH(Databackup!A313,Employee_Name,0),0)),\"\",(INDEX('Employee Data'!$G$4:$G$553,MATCH(Databackup!A313,Employee_Name,0))))","v":""},{"$f":"IF(ISERROR(INDEX('Employee Data'!$H$4:$H$553,MATCH(Databackup!A313,Employee_Name,0),0)),\"\",(INDEX('Employee Data'!$H$4:$H$553,MATCH(Databackup!A313,Employee_Name,0))))","v":""},{"$f":"IF(ISERROR(INDEX('Employee Data'!$I$4:$I$553,MATCH(Databackup!A313,Employee_Name,0),0)),\"\",(INDEX('Employee Data'!$I$4:$I$553,MATCH(Databackup!A313,Employee_Name,0))))","v":""},{"$f":"IF(ISERROR(INDEX('Employee Data'!$J$4:$J$553,MATCH(Databackup!A313,Employee_Name,0),0)),\"\",(INDEX('Employee Data'!J$4:$J$553,MATCH(Databackup!A313,Employee_Name,0))))","v":""},{"$f":"IF(ISERROR(INDEX('Employee Data'!$K$4:$K$553,MATCH(Databackup!A313,Employee_Name,0),0)),\"\",(INDEX('Employee Data'!$K$4:$K$553,MATCH(Databackup!A313,Employee_Name,0))))","v":""},{"$f":"IF(ISERROR(INDEX('Employee Data'!$L$4:$L$553,MATCH(Databackup!A313,Employee_Name,0),0)),\"\",(INDEX('Employee Data'!$L$4:$L$553,MATCH(Databackup!A313,Employee_Name,0))))","v":""},{"$f":"IF(ISERROR(INDEX('Employee Data'!$M$4:$M$553,MATCH(Databackup!A313,Employee_Name,0),0)),\"\",(INDEX('Employee Data'!$M$4:$M$553,MATCH(Databackup!A313,Employee_Name,0))))","v":""},{"$f":"IF(ISERROR(INDEX('Employee Data'!$N$4:$N$553,MATCH(Databackup!A313,Employee_Name,0),0)),\"\",(INDEX('Employee Data'!$N$4:$N$553,MATCH(Databackup!A313,Employee_Name,0))))","v":""},{"$f":"IF(ISERROR(INDEX('Employee Data'!$O$4:$O$553,MATCH(Databackup!A313,Employee_Name,0),0)),\"\",(INDEX('Employee Data'!$O$4:$O$553,MATCH(Databackup!A313,Employee_Name,0))))","v":""}]
[{"$f":"INDEX(Employee_Name,MATCH(SMALL(IF($A$1='Employee Data'!$I$4:$I$553,'Employee Data'!$B$4:$B$553,\"\"),ROW('Employee Data'!A312)),IF($A$1='Employee Data'!$I$4:$I$553,'Employee Data'!$B$4:$B$553,\"\"),0))","v":{"$error":"#NUM!"}},{"$f":"IF(ISERROR(INDEX('Employee Data'!$B$4:$B$553,MATCH(Databackup!A314,Employee_Name,0),0)),\"\",(INDEX('Employee Data'!$B$4:$B$553,MATCH(Databackup!A314,Employee_Name,0))))","v":""},{"$f":"IF(ISERROR(INDEX('Employee Data'!$C$4:$C$553,MATCH(Databackup!A314,Employee_Name,0),0)),\"\",(INDEX('Employee Data'!$C$4:$C$553,MATCH(Databackup!A314,Employee_Name,0))))","v":""},{"$f":"IF(ISERROR(INDEX('Employee Data'!$D$4:$D$553,MATCH(Databackup!A314,Employee_Name,0),0)),\"\",(INDEX('Employee Data'!$D$4:$D$553,MATCH(Databackup!A314,Employee_Name,0))))","v":""},{"$f":"IF(ISERROR(INDEX('Employee Data'!$F$4:$F$553,MATCH(Databackup!A314,Employee_Name,0),0)),\"\",(INDEX('Employee Data'!$F$4:$F$553,MATCH(Databackup!A314,Employee_Name,0))))","v":""},{"$f":"IF(ISERROR(INDEX('Employee Data'!$G$4:$G$553,MATCH(Databackup!A314,Employee_Name,0),0)),\"\",(INDEX('Employee Data'!$G$4:$G$553,MATCH(Databackup!A314,Employee_Name,0))))","v":""},{"$f":"IF(ISERROR(INDEX('Employee Data'!$H$4:$H$553,MATCH(Databackup!A314,Employee_Name,0),0)),\"\",(INDEX('Employee Data'!$H$4:$H$553,MATCH(Databackup!A314,Employee_Name,0))))","v":""},{"$f":"IF(ISERROR(INDEX('Employee Data'!$I$4:$I$553,MATCH(Databackup!A314,Employee_Name,0),0)),\"\",(INDEX('Employee Data'!$I$4:$I$553,MATCH(Databackup!A314,Employee_Name,0))))","v":""},{"$f":"IF(ISERROR(INDEX('Employee Data'!$J$4:$J$553,MATCH(Databackup!A314,Employee_Name,0),0)),\"\",(INDEX('Employee Data'!J$4:$J$553,MATCH(Databackup!A314,Employee_Name,0))))","v":""},{"$f":"IF(ISERROR(INDEX('Employee Data'!$K$4:$K$553,MATCH(Databackup!A314,Employee_Name,0),0)),\"\",(INDEX('Employee Data'!$K$4:$K$553,MATCH(Databackup!A314,Employee_Name,0))))","v":""},{"$f":"IF(ISERROR(INDEX('Employee Data'!$L$4:$L$553,MATCH(Databackup!A314,Employee_Name,0),0)),\"\",(INDEX('Employee Data'!$L$4:$L$553,MATCH(Databackup!A314,Employee_Name,0))))","v":""},{"$f":"IF(ISERROR(INDEX('Employee Data'!$M$4:$M$553,MATCH(Databackup!A314,Employee_Name,0),0)),\"\",(INDEX('Employee Data'!$M$4:$M$553,MATCH(Databackup!A314,Employee_Name,0))))","v":""},{"$f":"IF(ISERROR(INDEX('Employee Data'!$N$4:$N$553,MATCH(Databackup!A314,Employee_Name,0),0)),\"\",(INDEX('Employee Data'!$N$4:$N$553,MATCH(Databackup!A314,Employee_Name,0))))","v":""},{"$f":"IF(ISERROR(INDEX('Employee Data'!$O$4:$O$553,MATCH(Databackup!A314,Employee_Name,0),0)),\"\",(INDEX('Employee Data'!$O$4:$O$553,MATCH(Databackup!A314,Employee_Name,0))))","v":""}]
[{"$f":"INDEX(Employee_Name,MATCH(SMALL(IF($A$1='Employee Data'!$I$4:$I$553,'Employee Data'!$B$4:$B$553,\"\"),ROW('Employee Data'!A313)),IF($A$1='Employee Data'!$I$4:$I$553,'Employee Data'!$B$4:$B$553,\"\"),0))","v":{"$error":"#NUM!"}},{"$f":"IF(ISERROR(INDEX('Employee Data'!$B$4:$B$553,MATCH(Databackup!A315,Employee_Name,0),0)),\"\",(INDEX('Employee Data'!$B$4:$B$553,MATCH(Databackup!A315,Employee_Name,0))))","v":""},{"$f":"IF(ISERROR(INDEX('Employee Data'!$C$4:$C$553,MATCH(Databackup!A315,Employee_Name,0),0)),\"\",(INDEX('Employee Data'!$C$4:$C$553,MATCH(Databackup!A315,Employee_Name,0))))","v":""},{"$f":"IF(ISERROR(INDEX('Employee Data'!$D$4:$D$553,MATCH(Databackup!A315,Employee_Name,0),0)),\"\",(INDEX('Employee Data'!$D$4:$D$553,MATCH(Databackup!A315,Employee_Name,0))))","v":""},{"$f":"IF(ISERROR(INDEX('Employee Data'!$F$4:$F$553,MATCH(Databackup!A315,Employee_Name,0),0)),\"\",(INDEX('Employee Data'!$F$4:$F$553,MATCH(Databackup!A315,Employee_Name,0))))","v":""},{"$f":"IF(ISERROR(INDEX('Employee Data'!$G$4:$G$553,MATCH(Databackup!A315,Employee_Name,0),0)),\"\",(INDEX('Employee Data'!$G$4:$G$553,MATCH(Databackup!A315,Employee_Name,0))))","v":""},{"$f":"IF(ISERROR(INDEX('Employee Data'!$H$4:$H$553,MATCH(Databackup!A315,Employee_Name,0),0)),\"\",(INDEX('Employee Data'!$H$4:$H$553,MATCH(Databackup!A315,Employee_Name,0))))","v":""},{"$f":"IF(ISERROR(INDEX('Employee Data'!$I$4:$I$553,MATCH(Databackup!A315,Employee_Name,0),0)),\"\",(INDEX('Employee Data'!$I$4:$I$553,MATCH(Databackup!A315,Employee_Name,0))))","v":""},{"$f":"IF(ISERROR(INDEX('Employee Data'!$J$4:$J$553,MATCH(Databackup!A315,Employee_Name,0),0)),\"\",(INDEX('Employee Data'!J$4:$J$553,MATCH(Databackup!A315,Employee_Name,0))))","v":""},{"$f":"IF(ISERROR(INDEX('Employee Data'!$K$4:$K$553,MATCH(Databackup!A315,Employee_Name,0),0)),\"\",(INDEX('Employee Data'!$K$4:$K$553,MATCH(Databackup!A315,Employee_Name,0))))","v":""},{"$f":"IF(ISERROR(INDEX('Employee Data'!$L$4:$L$553,MATCH(Databackup!A315,Employee_Name,0),0)),\"\",(INDEX('Employee Data'!$L$4:$L$553,MATCH(Databackup!A315,Employee_Name,0))))","v":""},{"$f":"IF(ISERROR(INDEX('Employee Data'!$M$4:$M$553,MATCH(Databackup!A315,Employee_Name,0),0)),\"\",(INDEX('Employee Data'!$M$4:$M$553,MATCH(Databackup!A315,Employee_Name,0))))","v":""},{"$f":"IF(ISERROR(INDEX('Employee Data'!$N$4:$N$553,MATCH(Databackup!A315,Employee_Name,0),0)),\"\",(INDEX('Employee Data'!$N$4:$N$553,MATCH(Databackup!A315,Employee_Name,0))))","v":""},{"$f":"IF(ISERROR(INDEX('Employee Data'!$O$4:$O$553,MATCH(Databackup!A315,Employee_Name,0),0)),\"\",(INDEX('Employee Data'!$O$4:$O$553,MATCH(Databackup!A315,Employee_Name,0))))","v":""}]
[{"$f":"INDEX(Employee_Name,MATCH(SMALL(IF($A$1='Employee Data'!$I$4:$I$553,'Employee Data'!$B$4:$B$553,\"\"),ROW('Employee Data'!A314)),IF($A$1='Employee Data'!$I$4:$I$553,'Employee Data'!$B$4:$B$553,\"\"),0))","v":{"$error":"#NUM!"}},{"$f":"IF(ISERROR(INDEX('Employee Data'!$B$4:$B$553,MATCH(Databackup!A316,Employee_Name,0),0)),\"\",(INDEX('Employee Data'!$B$4:$B$553,MATCH(Databackup!A316,Employee_Name,0))))","v":""},{"$f":"IF(ISERROR(INDEX('Employee Data'!$C$4:$C$553,MATCH(Databackup!A316,Employee_Name,0),0)),\"\",(INDEX('Employee Data'!$C$4:$C$553,MATCH(Databackup!A316,Employee_Name,0))))","v":""},{"$f":"IF(ISERROR(INDEX('Employee Data'!$D$4:$D$553,MATCH(Databackup!A316,Employee_Name,0),0)),\"\",(INDEX('Employee Data'!$D$4:$D$553,MATCH(Databackup!A316,Employee_Name,0))))","v":""},{"$f":"IF(ISERROR(INDEX('Employee Data'!$F$4:$F$553,MATCH(Databackup!A316,Employee_Name,0),0)),\"\",(INDEX('Employee Data'!$F$4:$F$553,MATCH(Databackup!A316,Employee_Name,0))))","v":""},{"$f":"IF(ISERROR(INDEX('Employee Data'!$G$4:$G$553,MATCH(Databackup!A316,Employee_Name,0),0)),\"\",(INDEX('Employee Data'!$G$4:$G$553,MATCH(Databackup!A316,Employee_Name,0))))","v":""},{"$f":"IF(ISERROR(INDEX('Employee Data'!$H$4:$H$553,MATCH(Databackup!A316,Employee_Name,0),0)),\"\",(INDEX('Employee Data'!$H$4:$H$553,MATCH(Databackup!A316,Employee_Name,0))))","v":""},{"$f":"IF(ISERROR(INDEX('Employee Data'!$I$4:$I$553,MATCH(Databackup!A316,Employee_Name,0),0)),\"\",(INDEX('Employee Data'!$I$4:$I$553,MATCH(Databackup!A316,Employee_Name,0))))","v":""},{"$f":"IF(ISERROR(INDEX('Employee Data'!$J$4:$J$553,MATCH(Databackup!A316,Employee_Name,0),0)),\"\",(INDEX('Employee Data'!J$4:$J$553,MATCH(Databackup!A316,Employee_Name,0))))","v":""},{"$f":"IF(ISERROR(INDEX('Employee Data'!$K$4:$K$553,MATCH(Databackup!A316,Employee_Name,0),0)),\"\",(INDEX('Employee Data'!$K$4:$K$553,MATCH(Databackup!A316,Employee_Name,0))))","v":""},{"$f":"IF(ISERROR(INDEX('Employee Data'!$L$4:$L$553,MATCH(Databackup!A316,Employee_Name,0),0)),\"\",(INDEX('Employee Data'!$L$4:$L$553,MATCH(Databackup!A316,Employee_Name,0))))","v":""},{"$f":"IF(ISERROR(INDEX('Employee Data'!$M$4:$M$553,MATCH(Databackup!A316,Employee_Name,0),0)),\"\",(INDEX('Employee Data'!$M$4:$M$553,MATCH(Databackup!A316,Employee_Name,0))))","v":""},{"$f":"IF(ISERROR(INDEX('Employee Data'!$N$4:$N$553,MATCH(Databackup!A316,Employee_Name,0),0)),\"\",(INDEX('Employee Data'!$N$4:$N$553,MATCH(Databackup!A316,Employee_Name,0))))","v":""},{"$f":"IF(ISERROR(INDEX('Employee Data'!$O$4:$O$553,MATCH(Databackup!A316,Employee_Name,0),0)),\"\",(INDEX('Employee Data'!$O$4:$O$553,MATCH(Databackup!A316,Employee_Name,0))))","v":""}]
[{"$f":"INDEX(Employee_Name,MATCH(SMALL(IF($A$1='Employee Data'!$I$4:$I$553,'Employee Data'!$B$4:$B$553,\"\"),ROW('Employee Data'!A315)),IF($A$1='Employee Data'!$I$4:$I$553,'Employee Data'!$B$4:$B$553,\"\"),0))","v":{"$error":"#NUM!"}},{"$f":"IF(ISERROR(INDEX('Employee Data'!$B$4:$B$553,MATCH(Databackup!A317,Employee_Name,0),0)),\"\",(INDEX('Employee Data'!$B$4:$B$553,MATCH(Databackup!A317,Employee_Name,0))))","v":""},{"$f":"IF(ISERROR(INDEX('Employee Data'!$C$4:$C$553,MATCH(Databackup!A317,Employee_Name,0),0)),\"\",(INDEX('Employee Data'!$C$4:$C$553,MATCH(Databackup!A317,Employee_Name,0))))","v":""},{"$f":"IF(ISERROR(INDEX('Employee Data'!$D$4:$D$553,MATCH(Databackup!A317,Employee_Name,0),0)),\"\",(INDEX('Employee Data'!$D$4:$D$553,MATCH(Databackup!A317,Employee_Name,0))))","v":""},{"$f":"IF(ISERROR(INDEX('Employee Data'!$F$4:$F$553,MATCH(Databackup!A317,Employee_Name,0),0)),\"\",(INDEX('Employee Data'!$F$4:$F$553,MATCH(Databackup!A317,Employee_Name,0))))","v":""},{"$f":"IF(ISERROR(INDEX('Employee Data'!$G$4:$G$553,MATCH(Databackup!A317,Employee_Name,0),0)),\"\",(INDEX('Employee Data'!$G$4:$G$553,MATCH(Databackup!A317,Employee_Name,0))))","v":""},{"$f":"IF(ISERROR(INDEX('Employee Data'!$H$4:$H$553,MATCH(Databackup!A317,Employee_Name,0),0)),\"\",(INDEX('Employee Data'!$H$4:$H$553,MATCH(Databackup!A317,Employee_Name,0))))","v":""},{"$f":"IF(ISERROR(INDEX('Employee Data'!$I$4:$I$553,MATCH(Databackup!A317,Employee_Name,0),0)),\"\",(INDEX('Employee Data'!$I$4:$I$553,MATCH(Databackup!A317,Employee_Name,0))))","v":""},{"$f":"IF(ISERROR(INDEX('Employee Data'!$J$4:$J$553,MATCH(Databackup!A317,Employee_Name,0),0)),\"\",(INDEX('Employee Data'!J$4:$J$553,MATCH(Databackup!A317,Employee_Name,0))))","v":""},{"$f":"IF(ISERROR(INDEX('Employee Data'!$K$4:$K$553,MATCH(Databackup!A317,Employee_Name,0),0)),\"\",(INDEX('Employee Data'!$K$4:$K$553,MATCH(Databackup!A317,Employee_Name,0))))","v":""},{"$f":"IF(ISERROR(INDEX('Employee Data'!$L$4:$L$553,MATCH(Databackup!A317,Employee_Name,0),0)),\"\",(INDEX('Employee Data'!$L$4:$L$553,MATCH(Databackup!A317,Employee_Name,0))))","v":""},{"$f":"IF(ISERROR(INDEX('Employee Data'!$M$4:$M$553,MATCH(Databackup!A317,Employee_Name,0),0)),\"\",(INDEX('Employee Data'!$M$4:$M$553,MATCH(Databackup!A317,Employee_Name,0))))","v":""},{"$f":"IF(ISERROR(INDEX('Employee Data'!$N$4:$N$553,MATCH(Databackup!A317,Employee_Name,0),0)),\"\",(INDEX('Employee Data'!$N$4:$N$553,MATCH(Databackup!A317,Employee_Name,0))))","v":""},{"$f":"IF(ISERROR(INDEX('Employee Data'!$O$4:$O$553,MATCH(Databackup!A317,Employee_Name,0),0)),\"\",(INDEX('Employee Data'!$O$4:$O$553,MATCH(Databackup!A317,Employee_Name,0))))","v":""}]
[{"$f":"INDEX(Employee_Name,MATCH(SMALL(IF($A$1='Employee Data'!$I$4:$I$553,'Employee Data'!$B$4:$B$553,\"\"),ROW('Employee Data'!A316)),IF($A$1='Employee Data'!$I$4:$I$553,'Employee Data'!$B$4:$B$553,\"\"),0))","v":{"$error":"#NUM!"}},{"$f":"IF(ISERROR(INDEX('Employee Data'!$B$4:$B$553,MATCH(Databackup!A318,Employee_Name,0),0)),\"\",(INDEX('Employee Data'!$B$4:$B$553,MATCH(Databackup!A318,Employee_Name,0))))","v":""},{"$f":"IF(ISERROR(INDEX('Employee Data'!$C$4:$C$553,MATCH(Databackup!A318,Employee_Name,0),0)),\"\",(INDEX('Employee Data'!$C$4:$C$553,MATCH(Databackup!A318,Employee_Name,0))))","v":""},{"$f":"IF(ISERROR(INDEX('Employee Data'!$D$4:$D$553,MATCH(Databackup!A318,Employee_Name,0),0)),\"\",(INDEX('Employee Data'!$D$4:$D$553,MATCH(Databackup!A318,Employee_Name,0))))","v":""},{"$f":"IF(ISERROR(INDEX('Employee Data'!$F$4:$F$553,MATCH(Databackup!A318,Employee_Name,0),0)),\"\",(INDEX('Employee Data'!$F$4:$F$553,MATCH(Databackup!A318,Employee_Name,0))))","v":""},{"$f":"IF(ISERROR(INDEX('Employee Data'!$G$4:$G$553,MATCH(Databackup!A318,Employee_Name,0),0)),\"\",(INDEX('Employee Data'!$G$4:$G$553,MATCH(Databackup!A318,Employee_Name,0))))","v":""},{"$f":"IF(ISERROR(INDEX('Employee Data'!$H$4:$H$553,MATCH(Databackup!A318,Employee_Name,0),0)),\"\",(INDEX('Employee Data'!$H$4:$H$553,MATCH(Databackup!A318,Employee_Name,0))))","v":""},{"$f":"IF(ISERROR(INDEX('Employee Data'!$I$4:$I$553,MATCH(Databackup!A318,Employee_Name,0),0)),\"\",(INDEX('Employee Data'!$I$4:$I$553,MATCH(Databackup!A318,Employee_Name,0))))","v":""},{"$f":"IF(ISERROR(INDEX('Employee Data'!$J$4:$J$553,MATCH(Databackup!A318,Employee_Name,0),0)),\"\",(INDEX('Employee Data'!J$4:$J$553,MATCH(Databackup!A318,Employee_Name,0))))","v":""},{"$f":"IF(ISERROR(INDEX('Employee Data'!$K$4:$K$553,MATCH(Databackup!A318,Employee_Name,0),0)),\"\",(INDEX('Employee Data'!$K$4:$K$553,MATCH(Databackup!A318,Employee_Name,0))))","v":""},{"$f":"IF(ISERROR(INDEX('Employee Data'!$L$4:$L$553,MATCH(Databackup!A318,Employee_Name,0),0)),\"\",(INDEX('Employee Data'!$L$4:$L$553,MATCH(Databackup!A318,Employee_Name,0))))","v":""},{"$f":"IF(ISERROR(INDEX('Employee Data'!$M$4:$M$553,MATCH(Databackup!A318,Employee_Name,0),0)),\"\",(INDEX('Employee Data'!$M$4:$M$553,MATCH(Databackup!A318,Employee_Name,0))))","v":""},{"$f":"IF(ISERROR(INDEX('Employee Data'!$N$4:$N$553,MATCH(Databackup!A318,Employee_Name,0),0)),\"\",(INDEX('Employee Data'!$N$4:$N$553,MATCH(Databackup!A318,Employee_Name,0))))","v":""},{"$f":"IF(ISERROR(INDEX('Employee Data'!$O$4:$O$553,MATCH(Databackup!A318,Employee_Name,0),0)),\"\",(INDEX('Employee Data'!$O$4:$O$553,MATCH(Databackup!A318,Employee_Name,0))))","v":""}]
[{"$f":"INDEX(Employee_Name,MATCH(SMALL(IF($A$1='Employee Data'!$I$4:$I$553,'Employee Data'!$B$4:$B$553,\"\"),ROW('Employee Data'!A317)),IF($A$1='Employee Data'!$I$4:$I$553,'Employee Data'!$B$4:$B$553,\"\"),0))","v":{"$error":"#NUM!"}},{"$f":"IF(ISERROR(INDEX('Employee Data'!$B$4:$B$553,MATCH(Databackup!A319,Employee_Name,0),0)),\"\",(INDEX('Employee Data'!$B$4:$B$553,MATCH(Databackup!A319,Employee_Name,0))))","v":""},{"$f":"IF(ISERROR(INDEX('Employee Data'!$C$4:$C$553,MATCH(Databackup!A319,Employee_Name,0),0)),\"\",(INDEX('Employee Data'!$C$4:$C$553,MATCH(Databackup!A319,Employee_Name,0))))","v":""},{"$f":"IF(ISERROR(INDEX('Employee Data'!$D$4:$D$553,MATCH(Databackup!A319,Employee_Name,0),0)),\"\",(INDEX('Employee Data'!$D$4:$D$553,MATCH(Databackup!A319,Employee_Name,0))))","v":""},{"$f":"IF(ISERROR(INDEX('Employee Data'!$F$4:$F$553,MATCH(Databackup!A319,Employee_Name,0),0)),\"\",(INDEX('Employee Data'!$F$4:$F$553,MATCH(Databackup!A319,Employee_Name,0))))","v":""},{"$f":"IF(ISERROR(INDEX('Employee Data'!$G$4:$G$553,MATCH(Databackup!A319,Employee_Name,0),0)),\"\",(INDEX('Employee Data'!$G$4:$G$553,MATCH(Databackup!A319,Employee_Name,0))))","v":""},{"$f":"IF(ISERROR(INDEX('Employee Data'!$H$4:$H$553,MATCH(Databackup!A319,Employee_Name,0),0)),\"\",(INDEX('Employee Data'!$H$4:$H$553,MATCH(Databackup!A319,Employee_Name,0))))","v":""},{"$f":"IF(ISERROR(INDEX('Employee Data'!$I$4:$I$553,MATCH(Databackup!A319,Employee_Name,0),0)),\"\",(INDEX('Employee Data'!$I$4:$I$553,MATCH(Databackup!A319,Employee_Name,0))))","v":""},{"$f":"IF(ISERROR(INDEX('Employee Data'!$J$4:$J$553,MATCH(Databackup!A319,Employee_Name,0),0)),\"\",(INDEX('Employee Data'!J$4:$J$553,MATCH(Databackup!A319,Employee_Name,0))))","v":""},{"$f":"IF(ISERROR(INDEX('Employee Data'!$K$4:$K$553,MATCH(Databackup!A319,Employee_Name,0),0)),\"\",(INDEX('Employee Data'!$K$4:$K$553,MATCH(Databackup!A319,Employee_Name,0))))","v":""},{"$f":"IF(ISERROR(INDEX('Employee Data'!$L$4:$L$553,MATCH(Databackup!A319,Employee_Name,0),0)),\"\",(INDEX('Employee Data'!$L$4:$L$553,MATCH(Databackup!A319,Employee_Name,0))))","v":""},{"$f":"IF(ISERROR(INDEX('Employee Data'!$M$4:$M$553,MATCH(Databackup!A319,Employee_Name,0),0)),\"\",(INDEX('Employee Data'!$M$4:$M$553,MATCH(Databackup!A319,Employee_Name,0))))","v":""},{"$f":"IF(ISERROR(INDEX('Employee Data'!$N$4:$N$553,MATCH(Databackup!A319,Employee_Name,0),0)),\"\",(INDEX('Employee Data'!$N$4:$N$553,MATCH(Databackup!A319,Employee_Name,0))))","v":""},{"$f":"IF(ISERROR(INDEX('Employee Data'!$O$4:$O$553,MATCH(Databackup!A319,Employee_Name,0),0)),\"\",(INDEX('Employee Data'!$O$4:$O$553,MATCH(Databackup!A319,Employee_Name,0))))","v":""}]
[{"$f":"INDEX(Employee_Name,MATCH(SMALL(IF($A$1='Employee Data'!$I$4:$I$553,'Employee Data'!$B$4:$B$553,\"\"),ROW('Employee Data'!A318)),IF($A$1='Employee Data'!$I$4:$I$553,'Employee Data'!$B$4:$B$553,\"\"),0))","v":{"$error":"#NUM!"}},{"$f":"IF(ISERROR(INDEX('Employee Data'!$B$4:$B$553,MATCH(Databackup!A320,Employee_Name,0),0)),\"\",(INDEX('Employee Data'!$B$4:$B$553,MATCH(Databackup!A320,Employee_Name,0))))","v":""},{"$f":"IF(ISERROR(INDEX('Employee Data'!$C$4:$C$553,MATCH(Databackup!A320,Employee_Name,0),0)),\"\",(INDEX('Employee Data'!$C$4:$C$553,MATCH(Databackup!A320,Employee_Name,0))))","v":""},{"$f":"IF(ISERROR(INDEX('Employee Data'!$D$4:$D$553,MATCH(Databackup!A320,Employee_Name,0),0)),\"\",(INDEX('Employee Data'!$D$4:$D$553,MATCH(Databackup!A320,Employee_Name,0))))","v":""},{"$f":"IF(ISERROR(INDEX('Employee Data'!$F$4:$F$553,MATCH(Databackup!A320,Employee_Name,0),0)),\"\",(INDEX('Employee Data'!$F$4:$F$553,MATCH(Databackup!A320,Employee_Name,0))))","v":""},{"$f":"IF(ISERROR(INDEX('Employee Data'!$G$4:$G$553,MATCH(Databackup!A320,Employee_Name,0),0)),\"\",(INDEX('Employee Data'!$G$4:$G$553,MATCH(Databackup!A320,Employee_Name,0))))","v":""},{"$f":"IF(ISERROR(INDEX('Employee Data'!$H$4:$H$553,MATCH(Databackup!A320,Employee_Name,0),0)),\"\",(INDEX('Employee Data'!$H$4:$H$553,MATCH(Databackup!A320,Employee_Name,0))))","v":""},{"$f":"IF(ISERROR(INDEX('Employee Data'!$I$4:$I$553,MATCH(Databackup!A320,Employee_Name,0),0)),\"\",(INDEX('Employee Data'!$I$4:$I$553,MATCH(Databackup!A320,Employee_Name,0))))","v":""},{"$f":"IF(ISERROR(INDEX('Employee Data'!$J$4:$J$553,MATCH(Databackup!A320,Employee_Name,0),0)),\"\",(INDEX('Employee Data'!J$4:$J$553,MATCH(Databackup!A320,Employee_Name,0))))","v":""},{"$f":"IF(ISERROR(INDEX('Employee Data'!$K$4:$K$553,MATCH(Databackup!A320,Employee_Name,0),0)),\"\",(INDEX('Employee Data'!$K$4:$K$553,MATCH(Databackup!A320,Employee_Name,0))))","v":""},{"$f":"IF(ISERROR(INDEX('Employee Data'!$L$4:$L$553,MATCH(Databackup!A320,Employee_Name,0),0)),\"\",(INDEX('Employee Data'!$L$4:$L$553,MATCH(Databackup!A320,Employee_Name,0))))","v":""},{"$f":"IF(ISERROR(INDEX('Employee Data'!$M$4:$M$553,MATCH(Databackup!A320,Employee_Name,0),0)),\"\",(INDEX('Employee Data'!$M$4:$M$553,MATCH(Databackup!A320,Employee_Name,0))))","v":""},{"$f":"IF(ISERROR(INDEX('Employee Data'!$N$4:$N$553,MATCH(Databackup!A320,Employee_Name,0),0)),\"\",(INDEX('Employee Data'!$N$4:$N$553,MATCH(Databackup!A320,Employee_Name,0))))","v":""},{"$f":"IF(ISERROR(INDEX('Employee Data'!$O$4:$O$553,MATCH(Databackup!A320,Employee_Name,0),0)),\"\",(INDEX('Employee Data'!$O$4:$O$553,MATCH(Databackup!A320,Employee_Name,0))))","v":""}]
[{"$f":"INDEX(Employee_Name,MATCH(SMALL(IF($A$1='Employee Data'!$I$4:$I$553,'Employee Data'!$B$4:$B$553,\"\"),ROW('Employee Data'!A319)),IF($A$1='Employee Data'!$I$4:$I$553,'Employee Data'!$B$4:$B$553,\"\"),0))","v":{"$error":"#NUM!"}},{"$f":"IF(ISERROR(INDEX('Employee Data'!$B$4:$B$553,MATCH(Databackup!A321,Employee_Name,0),0)),\"\",(INDEX('Employee Data'!$B$4:$B$553,MATCH(Databackup!A321,Employee_Name,0))))","v":""},{"$f":"IF(ISERROR(INDEX('Employee Data'!$C$4:$C$553,MATCH(Databackup!A321,Employee_Name,0),0)),\"\",(INDEX('Employee Data'!$C$4:$C$553,MATCH(Databackup!A321,Employee_Name,0))))","v":""},{"$f":"IF(ISERROR(INDEX('Employee Data'!$D$4:$D$553,MATCH(Databackup!A321,Employee_Name,0),0)),\"\",(INDEX('Employee Data'!$D$4:$D$553,MATCH(Databackup!A321,Employee_Name,0))))","v":""},{"$f":"IF(ISERROR(INDEX('Employee Data'!$F$4:$F$553,MATCH(Databackup!A321,Employee_Name,0),0)),\"\",(INDEX('Employee Data'!$F$4:$F$553,MATCH(Databackup!A321,Employee_Name,0))))","v":""},{"$f":"IF(ISERROR(INDEX('Employee Data'!$G$4:$G$553,MATCH(Databackup!A321,Employee_Name,0),0)),\"\",(INDEX('Employee Data'!$G$4:$G$553,MATCH(Databackup!A321,Employee_Name,0))))","v":""},{"$f":"IF(ISERROR(INDEX('Employee Data'!$H$4:$H$553,MATCH(Databackup!A321,Employee_Name,0),0)),\"\",(INDEX('Employee Data'!$H$4:$H$553,MATCH(Databackup!A321,Employee_Name,0))))","v":""},{"$f":"IF(ISERROR(INDEX('Employee Data'!$I$4:$I$553,MATCH(Databackup!A321,Employee_Name,0),0)),\"\",(INDEX('Employee Data'!$I$4:$I$553,MATCH(Databackup!A321,Employee_Name,0))))","v":""},{"$f":"IF(ISERROR(INDEX('Employee Data'!$J$4:$J$553,MATCH(Databackup!A321,Employee_Name,0),0)),\"\",(INDEX('Employee Data'!J$4:$J$553,MATCH(Databackup!A321,Employee_Name,0))))","v":""},{"$f":"IF(ISERROR(INDEX('Employee Data'!$K$4:$K$553,MATCH(Databackup!A321,Employee_Name,0),0)),\"\",(INDEX('Employee Data'!$K$4:$K$553,MATCH(Databackup!A321,Employee_Name,0))))","v":""},{"$f":"IF(ISERROR(INDEX('Employee Data'!$L$4:$L$553,MATCH(Databackup!A321,Employee_Name,0),0)),\"\",(INDEX('Employee Data'!$L$4:$L$553,MATCH(Databackup!A321,Employee_Name,0))))","v":""},{"$f":"IF(ISERROR(INDEX('Employee Data'!$M$4:$M$553,MATCH(Databackup!A321,Employee_Name,0),0)),\"\",(INDEX('Employee Data'!$M$4:$M$553,MATCH(Databackup!A321,Employee_Name,0))))","v":""},{"$f":"IF(ISERROR(INDEX('Employee Data'!$N$4:$N$553,MATCH(Databackup!A321,Employee_Name,0),0)),\"\",(INDEX('Employee Data'!$N$4:$N$553,MATCH(Databackup!A321,Employee_Name,0))))","v":""},{"$f":"IF(ISERROR(INDEX('Employee Data'!$O$4:$O$553,MATCH(Databackup!A321,Employee_Name,0),0)),\"\",(INDEX('Employee Data'!$O$4:$O$553,MATCH(Databackup!A321,Employee_Name,0))))","v":""}]
[{"$f":"INDEX(Employee_Name,MATCH(SMALL(IF($A$1='Employee Data'!$I$4:$I$553,'Employee Data'!$B$4:$B$553,\"\"),ROW('Employee Data'!A320)),IF($A$1='Employee Data'!$I$4:$I$553,'Employee Data'!$B$4:$B$553,\"\"),0))","v":{"$error":"#NUM!"}},{"$f":"IF(ISERROR(INDEX('Employee Data'!$B$4:$B$553,MATCH(Databackup!A322,Employee_Name,0),0)),\"\",(INDEX('Employee Data'!$B$4:$B$553,MATCH(Databackup!A322,Employee_Name,0))))","v":""},{"$f":"IF(ISERROR(INDEX('Employee Data'!$C$4:$C$553,MATCH(Databackup!A322,Employee_Name,0),0)),\"\",(INDEX('Employee Data'!$C$4:$C$553,MATCH(Databackup!A322,Employee_Name,0))))","v":""},{"$f":"IF(ISERROR(INDEX('Employee Data'!$D$4:$D$553,MATCH(Databackup!A322,Employee_Name,0),0)),\"\",(INDEX('Employee Data'!$D$4:$D$553,MATCH(Databackup!A322,Employee_Name,0))))","v":""},{"$f":"IF(ISERROR(INDEX('Employee Data'!$F$4:$F$553,MATCH(Databackup!A322,Employee_Name,0),0)),\"\",(INDEX('Employee Data'!$F$4:$F$553,MATCH(Databackup!A322,Employee_Name,0))))","v":""},{"$f":"IF(ISERROR(INDEX('Employee Data'!$G$4:$G$553,MATCH(Databackup!A322,Employee_Name,0),0)),\"\",(INDEX('Employee Data'!$G$4:$G$553,MATCH(Databackup!A322,Employee_Name,0))))","v":""},{"$f":"IF(ISERROR(INDEX('Employee Data'!$H$4:$H$553,MATCH(Databackup!A322,Employee_Name,0),0)),\"\",(INDEX('Employee Data'!$H$4:$H$553,MATCH(Databackup!A322,Employee_Name,0))))","v":""},{"$f":"IF(ISERROR(INDEX('Employee Data'!$I$4:$I$553,MATCH(Databackup!A322,Employee_Name,0),0)),\"\",(INDEX('Employee Data'!$I$4:$I$553,MATCH(Databackup!A322,Employee_Name,0))))","v":""},{"$f":"IF(ISERROR(INDEX('Employee Data'!$J$4:$J$553,MATCH(Databackup!A322,Employee_Name,0),0)),\"\",(INDEX('Employee Data'!J$4:$J$553,MATCH(Databackup!A322,Employee_Name,0))))","v":""},{"$f":"IF(ISERROR(INDEX('Employee Data'!$K$4:$K$553,MATCH(Databackup!A322,Employee_Name,0),0)),\"\",(INDEX('Employee Data'!$K$4:$K$553,MATCH(Databackup!A322,Employee_Name,0))))","v":""},{"$f":"IF(ISERROR(INDEX('Employee Data'!$L$4:$L$553,MATCH(Databackup!A322,Employee_Name,0),0)),\"\",(INDEX('Employee Data'!$L$4:$L$553,MATCH(Databackup!A322,Employee_Name,0))))","v":""},{"$f":"IF(ISERROR(INDEX('Employee Data'!$M$4:$M$553,MATCH(Databackup!A322,Employee_Name,0),0)),\"\",(INDEX('Employee Data'!$M$4:$M$553,MATCH(Databackup!A322,Employee_Name,0))))","v":""},{"$f":"IF(ISERROR(INDEX('Employee Data'!$N$4:$N$553,MATCH(Databackup!A322,Employee_Name,0),0)),\"\",(INDEX('Employee Data'!$N$4:$N$553,MATCH(Databackup!A322,Employee_Name,0))))","v":""},{"$f":"IF(ISERROR(INDEX('Employee Data'!$O$4:$O$553,MATCH(Databackup!A322,Employee_Name,0),0)),\"\",(INDEX('Employee Data'!$O$4:$O$553,MATCH(Databackup!A322,Employee_Name,0))))","v":""}]
[{"$f":"INDEX(Employee_Name,MATCH(SMALL(IF($A$1='Employee Data'!$I$4:$I$553,'Employee Data'!$B$4:$B$553,\"\"),ROW('Employee Data'!A321)),IF($A$1='Employee Data'!$I$4:$I$553,'Employee Data'!$B$4:$B$553,\"\"),0))","v":{"$error":"#NUM!"}},{"$f":"IF(ISERROR(INDEX('Employee Data'!$B$4:$B$553,MATCH(Databackup!A323,Employee_Name,0),0)),\"\",(INDEX('Employee Data'!$B$4:$B$553,MATCH(Databackup!A323,Employee_Name,0))))","v":""},{"$f":"IF(ISERROR(INDEX('Employee Data'!$C$4:$C$553,MATCH(Databackup!A323,Employee_Name,0),0)),\"\",(INDEX('Employee Data'!$C$4:$C$553,MATCH(Databackup!A323,Employee_Name,0))))","v":""},{"$f":"IF(ISERROR(INDEX('Employee Data'!$D$4:$D$553,MATCH(Databackup!A323,Employee_Name,0),0)),\"\",(INDEX('Employee Data'!$D$4:$D$553,MATCH(Databackup!A323,Employee_Name,0))))","v":""},{"$f":"IF(ISERROR(INDEX('Employee Data'!$F$4:$F$553,MATCH(Databackup!A323,Employee_Name,0),0)),\"\",(INDEX('Employee Data'!$F$4:$F$553,MATCH(Databackup!A323,Employee_Name,0))))","v":""},{"$f":"IF(ISERROR(INDEX('Employee Data'!$G$4:$G$553,MATCH(Databackup!A323,Employee_Name,0),0)),\"\",(INDEX('Employee Data'!$G$4:$G$553,MATCH(Databackup!A323,Employee_Name,0))))","v":""},{"$f":"IF(ISERROR(INDEX('Employee Data'!$H$4:$H$553,MATCH(Databackup!A323,Employee_Name,0),0)),\"\",(INDEX('Employee Data'!$H$4:$H$553,MATCH(Databackup!A323,Employee_Name,0))))","v":""},{"$f":"IF(ISERROR(INDEX('Employee Data'!$I$4:$I$553,MATCH(Databackup!A323,Employee_Name,0),0)),\"\",(INDEX('Employee Data'!$I$4:$I$553,MATCH(Databackup!A323,Employee_Name,0))))","v":""},{"$f":"IF(ISERROR(INDEX('Employee Data'!$J$4:$J$553,MATCH(Databackup!A323,Employee_Name,0),0)),\"\",(INDEX('Employee Data'!J$4:$J$553,MATCH(Databackup!A323,Employee_Name,0))))","v":""},{"$f":"IF(ISERROR(INDEX('Employee Data'!$K$4:$K$553,MATCH(Databackup!A323,Employee_Name,0),0)),\"\",(INDEX('Employee Data'!$K$4:$K$553,MATCH(Databackup!A323,Employee_Name,0))))","v":""},{"$f":"IF(ISERROR(INDEX('Employee Data'!$L$4:$L$553,MATCH(Databackup!A323,Employee_Name,0),0)),\"\",(INDEX('Employee Data'!$L$4:$L$553,MATCH(Databackup!A323,Employee_Name,0))))","v":""},{"$f":"IF(ISERROR(INDEX('Employee Data'!$M$4:$M$553,MATCH(Databackup!A323,Employee_Name,0),0)),\"\",(INDEX('Employee Data'!$M$4:$M$553,MATCH(Databackup!A323,Employee_Name,0))))","v":""},{"$f":"IF(ISERROR(INDEX('Employee Data'!$N$4:$N$553,MATCH(Databackup!A323,Employee_Name,0),0)),\"\",(INDEX('Employee Data'!$N$4:$N$553,MATCH(Databackup!A323,Employee_Name,0))))","v":""},{"$f":"IF(ISERROR(INDEX('Employee Data'!$O$4:$O$553,MATCH(Databackup!A323,Employee_Name,0),0)),\"\",(INDEX('Employee Data'!$O$4:$O$553,MATCH(Databackup!A323,Employee_Name,0))))","v":""}]
[{"$f":"INDEX(Employee_Name,MATCH(SMALL(IF($A$1='Employee Data'!$I$4:$I$553,'Employee Data'!$B$4:$B$553,\"\"),ROW('Employee Data'!A322)),IF($A$1='Employee Data'!$I$4:$I$553,'Employee Data'!$B$4:$B$553,\"\"),0))","v":{"$error":"#NUM!"}},{"$f":"IF(ISERROR(INDEX('Employee Data'!$B$4:$B$553,MATCH(Databackup!A324,Employee_Name,0),0)),\"\",(INDEX('Employee Data'!$B$4:$B$553,MATCH(Databackup!A324,Employee_Name,0))))","v":""},{"$f":"IF(ISERROR(INDEX('Employee Data'!$C$4:$C$553,MATCH(Databackup!A324,Employee_Name,0),0)),\"\",(INDEX('Employee Data'!$C$4:$C$553,MATCH(Databackup!A324,Employee_Name,0))))","v":""},{"$f":"IF(ISERROR(INDEX('Employee Data'!$D$4:$D$553,MATCH(Databackup!A324,Employee_Name,0),0)),\"\",(INDEX('Employee Data'!$D$4:$D$553,MATCH(Databackup!A324,Employee_Name,0))))","v":""},{"$f":"IF(ISERROR(INDEX('Employee Data'!$F$4:$F$553,MATCH(Databackup!A324,Employee_Name,0),0)),\"\",(INDEX('Employee Data'!$F$4:$F$553,MATCH(Databackup!A324,Employee_Name,0))))","v":""},{"$f":"IF(ISERROR(INDEX('Employee Data'!$G$4:$G$553,MATCH(Databackup!A324,Employee_Name,0),0)),\"\",(INDEX('Employee Data'!$G$4:$G$553,MATCH(Databackup!A324,Employee_Name,0))))","v":""},{"$f":"IF(ISERROR(INDEX('Employee Data'!$H$4:$H$553,MATCH(Databackup!A324,Employee_Name,0),0)),\"\",(INDEX('Employee Data'!$H$4:$H$553,MATCH(Databackup!A324,Employee_Name,0))))","v":""},{"$f":"IF(ISERROR(INDEX('Employee Data'!$I$4:$I$553,MATCH(Databackup!A324,Employee_Name,0),0)),\"\",(INDEX('Employee Data'!$I$4:$I$553,MATCH(Databackup!A324,Employee_Name,0))))","v":""},{"$f":"IF(ISERROR(INDEX('Employee Data'!$J$4:$J$553,MATCH(Databackup!A324,Employee_Name,0),0)),\"\",(INDEX('Employee Data'!J$4:$J$553,MATCH(Databackup!A324,Employee_Name,0))))","v":""},{"$f":"IF(ISERROR(INDEX('Employee Data'!$K$4:$K$553,MATCH(Databackup!A324,Employee_Name,0),0)),\"\",(INDEX('Employee Data'!$K$4:$K$553,MATCH(Databackup!A324,Employee_Name,0))))","v":""},{"$f":"IF(ISERROR(INDEX('Employee Data'!$L$4:$L$553,MATCH(Databackup!A324,Employee_Name,0),0)),\"\",(INDEX('Employee Data'!$L$4:$L$553,MATCH(Databackup!A324,Employee_Name,0))))","v":""},{"$f":"IF(ISERROR(INDEX('Employee Data'!$M$4:$M$553,MATCH(Databackup!A324,Employee_Name,0),0)),\"\",(INDEX('Employee Data'!$M$4:$M$553,MATCH(Databackup!A324,Employee_Name,0))))","v":""},{"$f":"IF(ISERROR(INDEX('Employee Data'!$N$4:$N$553,MATCH(Databackup!A324,Employee_Name,0),0)),\"\",(INDEX('Employee Data'!$N$4:$N$553,MATCH(Databackup!A324,Employee_Name,0))))","v":""},{"$f":"IF(ISERROR(INDEX('Employee Data'!$O$4:$O$553,MATCH(Databackup!A324,Employee_Name,0),0)),\"\",(INDEX('Employee Data'!$O$4:$O$553,MATCH(Databackup!A324,Employee_Name,0))))","v":""}]
[{"$f":"INDEX(Employee_Name,MATCH(SMALL(IF($A$1='Employee Data'!$I$4:$I$553,'Employee Data'!$B$4:$B$553,\"\"),ROW('Employee Data'!A323)),IF($A$1='Employee Data'!$I$4:$I$553,'Employee Data'!$B$4:$B$553,\"\"),0))","v":{"$error":"#NUM!"}},{"$f":"IF(ISERROR(INDEX('Employee Data'!$B$4:$B$553,MATCH(Databackup!A325,Employee_Name,0),0)),\"\",(INDEX('Employee Data'!$B$4:$B$553,MATCH(Databackup!A325,Employee_Name,0))))","v":""},{"$f":"IF(ISERROR(INDEX('Employee Data'!$C$4:$C$553,MATCH(Databackup!A325,Employee_Name,0),0)),\"\",(INDEX('Employee Data'!$C$4:$C$553,MATCH(Databackup!A325,Employee_Name,0))))","v":""},{"$f":"IF(ISERROR(INDEX('Employee Data'!$D$4:$D$553,MATCH(Databackup!A325,Employee_Name,0),0)),\"\",(INDEX('Employee Data'!$D$4:$D$553,MATCH(Databackup!A325,Employee_Name,0))))","v":""},{"$f":"IF(ISERROR(INDEX('Employee Data'!$F$4:$F$553,MATCH(Databackup!A325,Employee_Name,0),0)),\"\",(INDEX('Employee Data'!$F$4:$F$553,MATCH(Databackup!A325,Employee_Name,0))))","v":""},{"$f":"IF(ISERROR(INDEX('Employee Data'!$G$4:$G$553,MATCH(Databackup!A325,Employee_Name,0),0)),\"\",(INDEX('Employee Data'!$G$4:$G$553,MATCH(Databackup!A325,Employee_Name,0))))","v":""},{"$f":"IF(ISERROR(INDEX('Employee Data'!$H$4:$H$553,MATCH(Databackup!A325,Employee_Name,0),0)),\"\",(INDEX('Employee Data'!$H$4:$H$553,MATCH(Databackup!A325,Employee_Name,0))))","v":""},{"$f":"IF(ISERROR(INDEX('Employee Data'!$I$4:$I$553,MATCH(Databackup!A325,Employee_Name,0),0)),\"\",(INDEX('Employee Data'!$I$4:$I$553,MATCH(Databackup!A325,Employee_Name,0))))","v":""},{"$f":"IF(ISERROR(INDEX('Employee Data'!$J$4:$J$553,MATCH(Databackup!A325,Employee_Name,0),0)),\"\",(INDEX('Employee Data'!J$4:$J$553,MATCH(Databackup!A325,Employee_Name,0))))","v":""},{"$f":"IF(ISERROR(INDEX('Employee Data'!$K$4:$K$553,MATCH(Databackup!A325,Employee_Name,0),0)),\"\",(INDEX('Employee Data'!$K$4:$K$553,MATCH(Databackup!A325,Employee_Name,0))))","v":""},{"$f":"IF(ISERROR(INDEX('Employee Data'!$L$4:$L$553,MATCH(Databackup!A325,Employee_Name,0),0)),\"\",(INDEX('Employee Data'!$L$4:$L$553,MATCH(Databackup!A325,Employee_Name,0))))","v":""},{"$f":"IF(ISERROR(INDEX('Employee Data'!$M$4:$M$553,MATCH(Databackup!A325,Employee_Name,0),0)),\"\",(INDEX('Employee Data'!$M$4:$M$553,MATCH(Databackup!A325,Employee_Name,0))))","v":""},{"$f":"IF(ISERROR(INDEX('Employee Data'!$N$4:$N$553,MATCH(Databackup!A325,Employee_Name,0),0)),\"\",(INDEX('Employee Data'!$N$4:$N$553,MATCH(Databackup!A325,Employee_Name,0))))","v":""},{"$f":"IF(ISERROR(INDEX('Employee Data'!$O$4:$O$553,MATCH(Databackup!A325,Employee_Name,0),0)),\"\",(INDEX('Employee Data'!$O$4:$O$553,MATCH(Databackup!A325,Employee_Name,0))))","v":""}]
[{"$f":"INDEX(Employee_Name,MATCH(SMALL(IF($A$1='Employee Data'!$I$4:$I$553,'Employee Data'!$B$4:$B$553,\"\"),ROW('Employee Data'!A324)),IF($A$1='Employee Data'!$I$4:$I$553,'Employee Data'!$B$4:$B$553,\"\"),0))","v":{"$error":"#NUM!"}},{"$f":"IF(ISERROR(INDEX('Employee Data'!$B$4:$B$553,MATCH(Databackup!A326,Employee_Name,0),0)),\"\",(INDEX('Employee Data'!$B$4:$B$553,MATCH(Databackup!A326,Employee_Name,0))))","v":""},{"$f":"IF(ISERROR(INDEX('Employee Data'!$C$4:$C$553,MATCH(Databackup!A326,Employee_Name,0),0)),\"\",(INDEX('Employee Data'!$C$4:$C$553,MATCH(Databackup!A326,Employee_Name,0))))","v":""},{"$f":"IF(ISERROR(INDEX('Employee Data'!$D$4:$D$553,MATCH(Databackup!A326,Employee_Name,0),0)),\"\",(INDEX('Employee Data'!$D$4:$D$553,MATCH(Databackup!A326,Employee_Name,0))))","v":""},{"$f":"IF(ISERROR(INDEX('Employee Data'!$F$4:$F$553,MATCH(Databackup!A326,Employee_Name,0),0)),\"\",(INDEX('Employee Data'!$F$4:$F$553,MATCH(Databackup!A326,Employee_Name,0))))","v":""},{"$f":"IF(ISERROR(INDEX('Employee Data'!$G$4:$G$553,MATCH(Databackup!A326,Employee_Name,0),0)),\"\",(INDEX('Employee Data'!$G$4:$G$553,MATCH(Databackup!A326,Employee_Name,0))))","v":""},{"$f":"IF(ISERROR(INDEX('Employee Data'!$H$4:$H$553,MATCH(Databackup!A326,Employee_Name,0),0)),\"\",(INDEX('Employee Data'!$H$4:$H$553,MATCH(Databackup!A326,Employee_Name,0))))","v":""},{"$f":"IF(ISERROR(INDEX('Employee Data'!$I$4:$I$553,MATCH(Databackup!A326,Employee_Name,0),0)),\"\",(INDEX('Employee Data'!$I$4:$I$553,MATCH(Databackup!A326,Employee_Name,0))))","v":""},{"$f":"IF(ISERROR(INDEX('Employee Data'!$J$4:$J$553,MATCH(Databackup!A326,Employee_Name,0),0)),\"\",(INDEX('Employee Data'!J$4:$J$553,MATCH(Databackup!A326,Employee_Name,0))))","v":""},{"$f":"IF(ISERROR(INDEX('Employee Data'!$K$4:$K$553,MATCH(Databackup!A326,Employee_Name,0),0)),\"\",(INDEX('Employee Data'!$K$4:$K$553,MATCH(Databackup!A326,Employee_Name,0))))","v":""},{"$f":"IF(ISERROR(INDEX('Employee Data'!$L$4:$L$553,MATCH(Databackup!A326,Employee_Name,0),0)),\"\",(INDEX('Employee Data'!$L$4:$L$553,MATCH(Databackup!A326,Employee_Name,0))))","v":""},{"$f":"IF(ISERROR(INDEX('Employee Data'!$M$4:$M$553,MATCH(Databackup!A326,Employee_Name,0),0)),\"\",(INDEX('Employee Data'!$M$4:$M$553,MATCH(Databackup!A326,Employee_Name,0))))","v":""},{"$f":"IF(ISERROR(INDEX('Employee Data'!$N$4:$N$553,MATCH(Databackup!A326,Employee_Name,0),0)),\"\",(INDEX('Employee Data'!$N$4:$N$553,MATCH(Databackup!A326,Employee_Name,0))))","v":""},{"$f":"IF(ISERROR(INDEX('Employee Data'!$O$4:$O$553,MATCH(Databackup!A326,Employee_Name,0),0)),\"\",(INDEX('Employee Data'!$O$4:$O$553,MATCH(Databackup!A326,Employee_Name,0))))","v":""}]
[{"$f":"INDEX(Employee_Name,MATCH(SMALL(IF($A$1='Employee Data'!$I$4:$I$553,'Employee Data'!$B$4:$B$553,\"\"),ROW('Employee Data'!A325)),IF($A$1='Employee Data'!$I$4:$I$553,'Employee Data'!$B$4:$B$553,\"\"),0))","v":{"$error":"#NUM!"}},{"$f":"IF(ISERROR(INDEX('Employee Data'!$B$4:$B$553,MATCH(Databackup!A327,Employee_Name,0),0)),\"\",(INDEX('Employee Data'!$B$4:$B$553,MATCH(Databackup!A327,Employee_Name,0))))","v":""},{"$f":"IF(ISERROR(INDEX('Employee Data'!$C$4:$C$553,MATCH(Databackup!A327,Employee_Name,0),0)),\"\",(INDEX('Employee Data'!$C$4:$C$553,MATCH(Databackup!A327,Employee_Name,0))))","v":""},{"$f":"IF(ISERROR(INDEX('Employee Data'!$D$4:$D$553,MATCH(Databackup!A327,Employee_Name,0),0)),\"\",(INDEX('Employee Data'!$D$4:$D$553,MATCH(Databackup!A327,Employee_Name,0))))","v":""},{"$f":"IF(ISERROR(INDEX('Employee Data'!$F$4:$F$553,MATCH(Databackup!A327,Employee_Name,0),0)),\"\",(INDEX('Employee Data'!$F$4:$F$553,MATCH(Databackup!A327,Employee_Name,0))))","v":""},{"$f":"IF(ISERROR(INDEX('Employee Data'!$G$4:$G$553,MATCH(Databackup!A327,Employee_Name,0),0)),\"\",(INDEX('Employee Data'!$G$4:$G$553,MATCH(Databackup!A327,Employee_Name,0))))","v":""},{"$f":"IF(ISERROR(INDEX('Employee Data'!$H$4:$H$553,MATCH(Databackup!A327,Employee_Name,0),0)),\"\",(INDEX('Employee Data'!$H$4:$H$553,MATCH(Databackup!A327,Employee_Name,0))))","v":""},{"$f":"IF(ISERROR(INDEX('Employee Data'!$I$4:$I$553,MATCH(Databackup!A327,Employee_Name,0),0)),\"\",(INDEX('Employee Data'!$I$4:$I$553,MATCH(Databackup!A327,Employee_Name,0))))","v":""},{"$f":"IF(ISERROR(INDEX('Employee Data'!$J$4:$J$553,MATCH(Databackup!A327,Employee_Name,0),0)),\"\",(INDEX('Employee Data'!J$4:$J$553,MATCH(Databackup!A327,Employee_Name,0))))","v":""},{"$f":"IF(ISERROR(INDEX('Employee Data'!$K$4:$K$553,MATCH(Databackup!A327,Employee_Name,0),0)),\"\",(INDEX('Employee Data'!$K$4:$K$553,MATCH(Databackup!A327,Employee_Name,0))))","v":""},{"$f":"IF(ISERROR(INDEX('Employee Data'!$L$4:$L$553,MATCH(Databackup!A327,Employee_Name,0),0)),\"\",(INDEX('Employee Data'!$L$4:$L$553,MATCH(Databackup!A327,Employee_Name,0))))","v":""},{"$f":"IF(ISERROR(INDEX('Employee Data'!$M$4:$M$553,MATCH(Databackup!A327,Employee_Name,0),0)),\"\",(INDEX('Employee Data'!$M$4:$M$553,MATCH(Databackup!A327,Employee_Name,0))))","v":""},{"$f":"IF(ISERROR(INDEX('Employee Data'!$N$4:$N$553,MATCH(Databackup!A327,Employee_Name,0),0)),\"\",(INDEX('Employee Data'!$N$4:$N$553,MATCH(Databackup!A327,Employee_Name,0))))","v":""},{"$f":"IF(ISERROR(INDEX('Employee Data'!$O$4:$O$553,MATCH(Databackup!A327,Employee_Name,0),0)),\"\",(INDEX('Employee Data'!$O$4:$O$553,MATCH(Databackup!A327,Employee_Name,0))))","v":""}]
[{"$f":"INDEX(Employee_Name,MATCH(SMALL(IF($A$1='Employee Data'!$I$4:$I$553,'Employee Data'!$B$4:$B$553,\"\"),ROW('Employee Data'!A326)),IF($A$1='Employee Data'!$I$4:$I$553,'Employee Data'!$B$4:$B$553,\"\"),0))","v":{"$error":"#NUM!"}},{"$f":"IF(ISERROR(INDEX('Employee Data'!$B$4:$B$553,MATCH(Databackup!A328,Employee_Name,0),0)),\"\",(INDEX('Employee Data'!$B$4:$B$553,MATCH(Databackup!A328,Employee_Name,0))))","v":""},{"$f":"IF(ISERROR(INDEX('Employee Data'!$C$4:$C$553,MATCH(Databackup!A328,Employee_Name,0),0)),\"\",(INDEX('Employee Data'!$C$4:$C$553,MATCH(Databackup!A328,Employee_Name,0))))","v":""},{"$f":"IF(ISERROR(INDEX('Employee Data'!$D$4:$D$553,MATCH(Databackup!A328,Employee_Name,0),0)),\"\",(INDEX('Employee Data'!$D$4:$D$553,MATCH(Databackup!A328,Employee_Name,0))))","v":""},{"$f":"IF(ISERROR(INDEX('Employee Data'!$F$4:$F$553,MATCH(Databackup!A328,Employee_Name,0),0)),\"\",(INDEX('Employee Data'!$F$4:$F$553,MATCH(Databackup!A328,Employee_Name,0))))","v":""},{"$f":"IF(ISERROR(INDEX('Employee Data'!$G$4:$G$553,MATCH(Databackup!A328,Employee_Name,0),0)),\"\",(INDEX('Employee Data'!$G$4:$G$553,MATCH(Databackup!A328,Employee_Name,0))))","v":""},{"$f":"IF(ISERROR(INDEX('Employee Data'!$H$4:$H$553,MATCH(Databackup!A328,Employee_Name,0),0)),\"\",(INDEX('Employee Data'!$H$4:$H$553,MATCH(Databackup!A328,Employee_Name,0))))","v":""},{"$f":"IF(ISERROR(INDEX('Employee Data'!$I$4:$I$553,MATCH(Databackup!A328,Employee_Name,0),0)),\"\",(INDEX('Employee Data'!$I$4:$I$553,MATCH(Databackup!A328,Employee_Name,0))))","v":""},{"$f":"IF(ISERROR(INDEX('Employee Data'!$J$4:$J$553,MATCH(Databackup!A328,Employee_Name,0),0)),\"\",(INDEX('Employee Data'!J$4:$J$553,MATCH(Databackup!A328,Employee_Name,0))))","v":""},{"$f":"IF(ISERROR(INDEX('Employee Data'!$K$4:$K$553,MATCH(Databackup!A328,Employee_Name,0),0)),\"\",(INDEX('Employee Data'!$K$4:$K$553,MATCH(Databackup!A328,Employee_Name,0))))","v":""},{"$f":"IF(ISERROR(INDEX('Employee Data'!$L$4:$L$553,MATCH(Databackup!A328,Employee_Name,0),0)),\"\",(INDEX('Employee Data'!$L$4:$L$553,MATCH(Databackup!A328,Employee_Name,0))))","v":""},{"$f":"IF(ISERROR(INDEX('Employee Data'!$M$4:$M$553,MATCH(Databackup!A328,Employee_Name,0),0)),\"\",(INDEX('Employee Data'!$M$4:$M$553,MATCH(Databackup!A328,Employee_Name,0))))","v":""},{"$f":"IF(ISERROR(INDEX('Employee Data'!$N$4:$N$553,MATCH(Databackup!A328,Employee_Name,0),0)),\"\",(INDEX('Employee Data'!$N$4:$N$553,MATCH(Databackup!A328,Employee_Name,0))))","v":""},{"$f":"IF(ISERROR(INDEX('Employee Data'!$O$4:$O$553,MATCH(Databackup!A328,Employee_Name,0),0)),\"\",(INDEX('Employee Data'!$O$4:$O$553,MATCH(Databackup!A328,Employee_Name,0))))","v":""}]
[{"$f":"INDEX(Employee_Name,MATCH(SMALL(IF($A$1='Employee Data'!$I$4:$I$553,'Employee Data'!$B$4:$B$553,\"\"),ROW('Employee Data'!A327)),IF($A$1='Employee Data'!$I$4:$I$553,'Employee Data'!$B$4:$B$553,\"\"),0))","v":{"$error":"#NUM!"}},{"$f":"IF(ISERROR(INDEX('Employee Data'!$B$4:$B$553,MATCH(Databackup!A329,Employee_Name,0),0)),\"\",(INDEX('Employee Data'!$B$4:$B$553,MATCH(Databackup!A329,Employee_Name,0))))","v":""},{"$f":"IF(ISERROR(INDEX('Employee Data'!$C$4:$C$553,MATCH(Databackup!A329,Employee_Name,0),0)),\"\",(INDEX('Employee Data'!$C$4:$C$553,MATCH(Databackup!A329,Employee_Name,0))))","v":""},{"$f":"IF(ISERROR(INDEX('Employee Data'!$D$4:$D$553,MATCH(Databackup!A329,Employee_Name,0),0)),\"\",(INDEX('Employee Data'!$D$4:$D$553,MATCH(Databackup!A329,Employee_Name,0))))","v":""},{"$f":"IF(ISERROR(INDEX('Employee Data'!$F$4:$F$553,MATCH(Databackup!A329,Employee_Name,0),0)),\"\",(INDEX('Employee Data'!$F$4:$F$553,MATCH(Databackup!A329,Employee_Name,0))))","v":""},{"$f":"IF(ISERROR(INDEX('Employee Data'!$G$4:$G$553,MATCH(Databackup!A329,Employee_Name,0),0)),\"\",(INDEX('Employee Data'!$G$4:$G$553,MATCH(Databackup!A329,Employee_Name,0))))","v":""},{"$f":"IF(ISERROR(INDEX('Employee Data'!$H$4:$H$553,MATCH(Databackup!A329,Employee_Name,0),0)),\"\",(INDEX('Employee Data'!$H$4:$H$553,MATCH(Databackup!A329,Employee_Name,0))))","v":""},{"$f":"IF(ISERROR(INDEX('Employee Data'!$I$4:$I$553,MATCH(Databackup!A329,Employee_Name,0),0)),\"\",(INDEX('Employee Data'!$I$4:$I$553,MATCH(Databackup!A329,Employee_Name,0))))","v":""},{"$f":"IF(ISERROR(INDEX('Employee Data'!$J$4:$J$553,MATCH(Databackup!A329,Employee_Name,0),0)),\"\",(INDEX('Employee Data'!J$4:$J$553,MATCH(Databackup!A329,Employee_Name,0))))","v":""},{"$f":"IF(ISERROR(INDEX('Employee Data'!$K$4:$K$553,MATCH(Databackup!A329,Employee_Name,0),0)),\"\",(INDEX('Employee Data'!$K$4:$K$553,MATCH(Databackup!A329,Employee_Name,0))))","v":""},{"$f":"IF(ISERROR(INDEX('Employee Data'!$L$4:$L$553,MATCH(Databackup!A329,Employee_Name,0),0)),\"\",(INDEX('Employee Data'!$L$4:$L$553,MATCH(Databackup!A329,Employee_Name,0))))","v":""},{"$f":"IF(ISERROR(INDEX('Employee Data'!$M$4:$M$553,MATCH(Databackup!A329,Employee_Name,0),0)),\"\",(INDEX('Employee Data'!$M$4:$M$553,MATCH(Databackup!A329,Employee_Name,0))))","v":""},{"$f":"IF(ISERROR(INDEX('Employee Data'!$N$4:$N$553,MATCH(Databackup!A329,Employee_Name,0),0)),\"\",(INDEX('Employee Data'!$N$4:$N$553,MATCH(Databackup!A329,Employee_Name,0))))","v":""},{"$f":"IF(ISERROR(INDEX('Employee Data'!$O$4:$O$553,MATCH(Databackup!A329,Employee_Name,0),0)),\"\",(INDEX('Employee Data'!$O$4:$O$553,MATCH(Databackup!A329,Employee_Name,0))))","v":""}]
[{"$f":"INDEX(Employee_Name,MATCH(SMALL(IF($A$1='Employee Data'!$I$4:$I$553,'Employee Data'!$B$4:$B$553,\"\"),ROW('Employee Data'!A328)),IF($A$1='Employee Data'!$I$4:$I$553,'Employee Data'!$B$4:$B$553,\"\"),0))","v":{"$error":"#NUM!"}},{"$f":"IF(ISERROR(INDEX('Employee Data'!$B$4:$B$553,MATCH(Databackup!A330,Employee_Name,0),0)),\"\",(INDEX('Employee Data'!$B$4:$B$553,MATCH(Databackup!A330,Employee_Name,0))))","v":""},{"$f":"IF(ISERROR(INDEX('Employee Data'!$C$4:$C$553,MATCH(Databackup!A330,Employee_Name,0),0)),\"\",(INDEX('Employee Data'!$C$4:$C$553,MATCH(Databackup!A330,Employee_Name,0))))","v":""},{"$f":"IF(ISERROR(INDEX('Employee Data'!$D$4:$D$553,MATCH(Databackup!A330,Employee_Name,0),0)),\"\",(INDEX('Employee Data'!$D$4:$D$553,MATCH(Databackup!A330,Employee_Name,0))))","v":""},{"$f":"IF(ISERROR(INDEX('Employee Data'!$F$4:$F$553,MATCH(Databackup!A330,Employee_Name,0),0)),\"\",(INDEX('Employee Data'!$F$4:$F$553,MATCH(Databackup!A330,Employee_Name,0))))","v":""},{"$f":"IF(ISERROR(INDEX('Employee Data'!$G$4:$G$553,MATCH(Databackup!A330,Employee_Name,0),0)),\"\",(INDEX('Employee Data'!$G$4:$G$553,MATCH(Databackup!A330,Employee_Name,0))))","v":""},{"$f":"IF(ISERROR(INDEX('Employee Data'!$H$4:$H$553,MATCH(Databackup!A330,Employee_Name,0),0)),\"\",(INDEX('Employee Data'!$H$4:$H$553,MATCH(Databackup!A330,Employee_Name,0))))","v":""},{"$f":"IF(ISERROR(INDEX('Employee Data'!$I$4:$I$553,MATCH(Databackup!A330,Employee_Name,0),0)),\"\",(INDEX('Employee Data'!$I$4:$I$553,MATCH(Databackup!A330,Employee_Name,0))))","v":""},{"$f":"IF(ISERROR(INDEX('Employee Data'!$J$4:$J$553,MATCH(Databackup!A330,Employee_Name,0),0)),\"\",(INDEX('Employee Data'!J$4:$J$553,MATCH(Databackup!A330,Employee_Name,0))))","v":""},{"$f":"IF(ISERROR(INDEX('Employee Data'!$K$4:$K$553,MATCH(Databackup!A330,Employee_Name,0),0)),\"\",(INDEX('Employee Data'!$K$4:$K$553,MATCH(Databackup!A330,Employee_Name,0))))","v":""},{"$f":"IF(ISERROR(INDEX('Employee Data'!$L$4:$L$553,MATCH(Databackup!A330,Employee_Name,0),0)),\"\",(INDEX('Employee Data'!$L$4:$L$553,MATCH(Databackup!A330,Employee_Name,0))))","v":""},{"$f":"IF(ISERROR(INDEX('Employee Data'!$M$4:$M$553,MATCH(Databackup!A330,Employee_Name,0),0)),\"\",(INDEX('Employee Data'!$M$4:$M$553,MATCH(Databackup!A330,Employee_Name,0))))","v":""},{"$f":"IF(ISERROR(INDEX('Employee Data'!$N$4:$N$553,MATCH(Databackup!A330,Employee_Name,0),0)),\"\",(INDEX('Employee Data'!$N$4:$N$553,MATCH(Databackup!A330,Employee_Name,0))))","v":""},{"$f":"IF(ISERROR(INDEX('Employee Data'!$O$4:$O$553,MATCH(Databackup!A330,Employee_Name,0),0)),\"\",(INDEX('Employee Data'!$O$4:$O$553,MATCH(Databackup!A330,Employee_Name,0))))","v":""}]
[{"$f":"INDEX(Employee_Name,MATCH(SMALL(IF($A$1='Employee Data'!$I$4:$I$553,'Employee Data'!$B$4:$B$553,\"\"),ROW('Employee Data'!A329)),IF($A$1='Employee Data'!$I$4:$I$553,'Employee Data'!$B$4:$B$553,\"\"),0))","v":{"$error":"#NUM!"}},{"$f":"IF(ISERROR(INDEX('Employee Data'!$B$4:$B$553,MATCH(Databackup!A331,Employee_Name,0),0)),\"\",(INDEX('Employee Data'!$B$4:$B$553,MATCH(Databackup!A331,Employee_Name,0))))","v":""},{"$f":"IF(ISERROR(INDEX('Employee Data'!$C$4:$C$553,MATCH(Databackup!A331,Employee_Name,0),0)),\"\",(INDEX('Employee Data'!$C$4:$C$553,MATCH(Databackup!A331,Employee_Name,0))))","v":""},{"$f":"IF(ISERROR(INDEX('Employee Data'!$D$4:$D$553,MATCH(Databackup!A331,Employee_Name,0),0)),\"\",(INDEX('Employee Data'!$D$4:$D$553,MATCH(Databackup!A331,Employee_Name,0))))","v":""},{"$f":"IF(ISERROR(INDEX('Employee Data'!$F$4:$F$553,MATCH(Databackup!A331,Employee_Name,0),0)),\"\",(INDEX('Employee Data'!$F$4:$F$553,MATCH(Databackup!A331,Employee_Name,0))))","v":""},{"$f":"IF(ISERROR(INDEX('Employee Data'!$G$4:$G$553,MATCH(Databackup!A331,Employee_Name,0),0)),\"\",(INDEX('Employee Data'!$G$4:$G$553,MATCH(Databackup!A331,Employee_Name,0))))","v":""},{"$f":"IF(ISERROR(INDEX('Employee Data'!$H$4:$H$553,MATCH(Databackup!A331,Employee_Name,0),0)),\"\",(INDEX('Employee Data'!$H$4:$H$553,MATCH(Databackup!A331,Employee_Name,0))))","v":""},{"$f":"IF(ISERROR(INDEX('Employee Data'!$I$4:$I$553,MATCH(Databackup!A331,Employee_Name,0),0)),\"\",(INDEX('Employee Data'!$I$4:$I$553,MATCH(Databackup!A331,Employee_Name,0))))","v":""},{"$f":"IF(ISERROR(INDEX('Employee Data'!$J$4:$J$553,MATCH(Databackup!A331,Employee_Name,0),0)),\"\",(INDEX('Employee Data'!J$4:$J$553,MATCH(Databackup!A331,Employee_Name,0))))","v":""},{"$f":"IF(ISERROR(INDEX('Employee Data'!$K$4:$K$553,MATCH(Databackup!A331,Employee_Name,0),0)),\"\",(INDEX('Employee Data'!$K$4:$K$553,MATCH(Databackup!A331,Employee_Name,0))))","v":""},{"$f":"IF(ISERROR(INDEX('Employee Data'!$L$4:$L$553,MATCH(Databackup!A331,Employee_Name,0),0)),\"\",(INDEX('Employee Data'!$L$4:$L$553,MATCH(Databackup!A331,Employee_Name,0))))","v":""},{"$f":"IF(ISERROR(INDEX('Employee Data'!$M$4:$M$553,MATCH(Databackup!A331,Employee_Name,0),0)),\"\",(INDEX('Employee Data'!$M$4:$M$553,MATCH(Databackup!A331,Employee_Name,0))))","v":""},{"$f":"IF(ISERROR(INDEX('Employee Data'!$N$4:$N$553,MATCH(Databackup!A331,Employee_Name,0),0)),\"\",(INDEX('Employee Data'!$N$4:$N$553,MATCH(Databackup!A331,Employee_Name,0))))","v":""},{"$f":"IF(ISERROR(INDEX('Employee Data'!$O$4:$O$553,MATCH(Databackup!A331,Employee_Name,0),0)),\"\",(INDEX('Employee Data'!$O$4:$O$553,MATCH(Databackup!A331,Employee_Name,0))))","v":""}]
[{"$f":"INDEX(Employee_Name,MATCH(SMALL(IF($A$1='Employee Data'!$I$4:$I$553,'Employee Data'!$B$4:$B$553,\"\"),ROW('Employee Data'!A330)),IF($A$1='Employee Data'!$I$4:$I$553,'Employee Data'!$B$4:$B$553,\"\"),0))","v":{"$error":"#NUM!"}},{"$f":"IF(ISERROR(INDEX('Employee Data'!$B$4:$B$553,MATCH(Databackup!A332,Employee_Name,0),0)),\"\",(INDEX('Employee Data'!$B$4:$B$553,MATCH(Databackup!A332,Employee_Name,0))))","v":""},{"$f":"IF(ISERROR(INDEX('Employee Data'!$C$4:$C$553,MATCH(Databackup!A332,Employee_Name,0),0)),\"\",(INDEX('Employee Data'!$C$4:$C$553,MATCH(Databackup!A332,Employee_Name,0))))","v":""},{"$f":"IF(ISERROR(INDEX('Employee Data'!$D$4:$D$553,MATCH(Databackup!A332,Employee_Name,0),0)),\"\",(INDEX('Employee Data'!$D$4:$D$553,MATCH(Databackup!A332,Employee_Name,0))))","v":""},{"$f":"IF(ISERROR(INDEX('Employee Data'!$F$4:$F$553,MATCH(Databackup!A332,Employee_Name,0),0)),\"\",(INDEX('Employee Data'!$F$4:$F$553,MATCH(Databackup!A332,Employee_Name,0))))","v":""},{"$f":"IF(ISERROR(INDEX('Employee Data'!$G$4:$G$553,MATCH(Databackup!A332,Employee_Name,0),0)),\"\",(INDEX('Employee Data'!$G$4:$G$553,MATCH(Databackup!A332,Employee_Name,0))))","v":""},{"$f":"IF(ISERROR(INDEX('Employee Data'!$H$4:$H$553,MATCH(Databackup!A332,Employee_Name,0),0)),\"\",(INDEX('Employee Data'!$H$4:$H$553,MATCH(Databackup!A332,Employee_Name,0))))","v":""},{"$f":"IF(ISERROR(INDEX('Employee Data'!$I$4:$I$553,MATCH(Databackup!A332,Employee_Name,0),0)),\"\",(INDEX('Employee Data'!$I$4:$I$553,MATCH(Databackup!A332,Employee_Name,0))))","v":""},{"$f":"IF(ISERROR(INDEX('Employee Data'!$J$4:$J$553,MATCH(Databackup!A332,Employee_Name,0),0)),\"\",(INDEX('Employee Data'!J$4:$J$553,MATCH(Databackup!A332,Employee_Name,0))))","v":""},{"$f":"IF(ISERROR(INDEX('Employee Data'!$K$4:$K$553,MATCH(Databackup!A332,Employee_Name,0),0)),\"\",(INDEX('Employee Data'!$K$4:$K$553,MATCH(Databackup!A332,Employee_Name,0))))","v":""},{"$f":"IF(ISERROR(INDEX('Employee Data'!$L$4:$L$553,MATCH(Databackup!A332,Employee_Name,0),0)),\"\",(INDEX('Employee Data'!$L$4:$L$553,MATCH(Databackup!A332,Employee_Name,0))))","v":""},{"$f":"IF(ISERROR(INDEX('Employee Data'!$M$4:$M$553,MATCH(Databackup!A332,Employee_Name,0),0)),\"\",(INDEX('Employee Data'!$M$4:$M$553,MATCH(Databackup!A332,Employee_Name,0))))","v":""},{"$f":"IF(ISERROR(INDEX('Employee Data'!$N$4:$N$553,MATCH(Databackup!A332,Employee_Name,0),0)),\"\",(INDEX('Employee Data'!$N$4:$N$553,MATCH(Databackup!A332,Employee_Name,0))))","v":""},{"$f":"IF(ISERROR(INDEX('Employee Data'!$O$4:$O$553,MATCH(Databackup!A332,Employee_Name,0),0)),\"\",(INDEX('Employee Data'!$O$4:$O$553,MATCH(Databackup!A332,Employee_Name,0))))","v":""}]
[{"$f":"INDEX(Employee_Name,MATCH(SMALL(IF($A$1='Employee Data'!$I$4:$I$553,'Employee Data'!$B$4:$B$553,\"\"),ROW('Employee Data'!A331)),IF($A$1='Employee Data'!$I$4:$I$553,'Employee Data'!$B$4:$B$553,\"\"),0))","v":{"$error":"#NUM!"}},{"$f":"IF(ISERROR(INDEX('Employee Data'!$B$4:$B$553,MATCH(Databackup!A333,Employee_Name,0),0)),\"\",(INDEX('Employee Data'!$B$4:$B$553,MATCH(Databackup!A333,Employee_Name,0))))","v":""},{"$f":"IF(ISERROR(INDEX('Employee Data'!$C$4:$C$553,MATCH(Databackup!A333,Employee_Name,0),0)),\"\",(INDEX('Employee Data'!$C$4:$C$553,MATCH(Databackup!A333,Employee_Name,0))))","v":""},{"$f":"IF(ISERROR(INDEX('Employee Data'!$D$4:$D$553,MATCH(Databackup!A333,Employee_Name,0),0)),\"\",(INDEX('Employee Data'!$D$4:$D$553,MATCH(Databackup!A333,Employee_Name,0))))","v":""},{"$f":"IF(ISERROR(INDEX('Employee Data'!$F$4:$F$553,MATCH(Databackup!A333,Employee_Name,0),0)),\"\",(INDEX('Employee Data'!$F$4:$F$553,MATCH(Databackup!A333,Employee_Name,0))))","v":""},{"$f":"IF(ISERROR(INDEX('Employee Data'!$G$4:$G$553,MATCH(Databackup!A333,Employee_Name,0),0)),\"\",(INDEX('Employee Data'!$G$4:$G$553,MATCH(Databackup!A333,Employee_Name,0))))","v":""},{"$f":"IF(ISERROR(INDEX('Employee Data'!$H$4:$H$553,MATCH(Databackup!A333,Employee_Name,0),0)),\"\",(INDEX('Employee Data'!$H$4:$H$553,MATCH(Databackup!A333,Employee_Name,0))))","v":""},{"$f":"IF(ISERROR(INDEX('Employee Data'!$I$4:$I$553,MATCH(Databackup!A333,Employee_Name,0),0)),\"\",(INDEX('Employee Data'!$I$4:$I$553,MATCH(Databackup!A333,Employee_Name,0))))","v":""},{"$f":"IF(ISERROR(INDEX('Employee Data'!$J$4:$J$553,MATCH(Databackup!A333,Employee_Name,0),0)),\"\",(INDEX('Employee Data'!J$4:$J$553,MATCH(Databackup!A333,Employee_Name,0))))","v":""},{"$f":"IF(ISERROR(INDEX('Employee Data'!$K$4:$K$553,MATCH(Databackup!A333,Employee_Name,0),0)),\"\",(INDEX('Employee Data'!$K$4:$K$553,MATCH(Databackup!A333,Employee_Name,0))))","v":""},{"$f":"IF(ISERROR(INDEX('Employee Data'!$L$4:$L$553,MATCH(Databackup!A333,Employee_Name,0),0)),\"\",(INDEX('Employee Data'!$L$4:$L$553,MATCH(Databackup!A333,Employee_Name,0))))","v":""},{"$f":"IF(ISERROR(INDEX('Employee Data'!$M$4:$M$553,MATCH(Databackup!A333,Employee_Name,0),0)),\"\",(INDEX('Employee Data'!$M$4:$M$553,MATCH(Databackup!A333,Employee_Name,0))))","v":""},{"$f":"IF(ISERROR(INDEX('Employee Data'!$N$4:$N$553,MATCH(Databackup!A333,Employee_Name,0),0)),\"\",(INDEX('Employee Data'!$N$4:$N$553,MATCH(Databackup!A333,Employee_Name,0))))","v":""},{"$f":"IF(ISERROR(INDEX('Employee Data'!$O$4:$O$553,MATCH(Databackup!A333,Employee_Name,0),0)),\"\",(INDEX('Employee Data'!$O$4:$O$553,MATCH(Databackup!A333,Employee_Name,0))))","v":""}]
[{"$f":"INDEX(Employee_Name,MATCH(SMALL(IF($A$1='Employee Data'!$I$4:$I$553,'Employee Data'!$B$4:$B$553,\"\"),ROW('Employee Data'!A332)),IF($A$1='Employee Data'!$I$4:$I$553,'Employee Data'!$B$4:$B$553,\"\"),0))","v":{"$error":"#NUM!"}},{"$f":"IF(ISERROR(INDEX('Employee Data'!$B$4:$B$553,MATCH(Databackup!A334,Employee_Name,0),0)),\"\",(INDEX('Employee Data'!$B$4:$B$553,MATCH(Databackup!A334,Employee_Name,0))))","v":""},{"$f":"IF(ISERROR(INDEX('Employee Data'!$C$4:$C$553,MATCH(Databackup!A334,Employee_Name,0),0)),\"\",(INDEX('Employee Data'!$C$4:$C$553,MATCH(Databackup!A334,Employee_Name,0))))","v":""},{"$f":"IF(ISERROR(INDEX('Employee Data'!$D$4:$D$553,MATCH(Databackup!A334,Employee_Name,0),0)),\"\",(INDEX('Employee Data'!$D$4:$D$553,MATCH(Databackup!A334,Employee_Name,0))))","v":""},{"$f":"IF(ISERROR(INDEX('Employee Data'!$F$4:$F$553,MATCH(Databackup!A334,Employee_Name,0),0)),\"\",(INDEX('Employee Data'!$F$4:$F$553,MATCH(Databackup!A334,Employee_Name,0))))","v":""},{"$f":"IF(ISERROR(INDEX('Employee Data'!$G$4:$G$553,MATCH(Databackup!A334,Employee_Name,0),0)),\"\",(INDEX('Employee Data'!$G$4:$G$553,MATCH(Databackup!A334,Employee_Name,0))))","v":""},{"$f":"IF(ISERROR(INDEX('Employee Data'!$H$4:$H$553,MATCH(Databackup!A334,Employee_Name,0),0)),\"\",(INDEX('Employee Data'!$H$4:$H$553,MATCH(Databackup!A334,Employee_Name,0))))","v":""},{"$f":"IF(ISERROR(INDEX('Employee Data'!$I$4:$I$553,MATCH(Databackup!A334,Employee_Name,0),0)),\"\",(INDEX('Employee Data'!$I$4:$I$553,MATCH(Databackup!A334,Employee_Name,0))))","v":""},{"$f":"IF(ISERROR(INDEX('Employee Data'!$J$4:$J$553,MATCH(Databackup!A334,Employee_Name,0),0)),\"\",(INDEX('Employee Data'!J$4:$J$553,MATCH(Databackup!A334,Employee_Name,0))))","v":""},{"$f":"IF(ISERROR(INDEX('Employee Data'!$K$4:$K$553,MATCH(Databackup!A334,Employee_Name,0),0)),\"\",(INDEX('Employee Data'!$K$4:$K$553,MATCH(Databackup!A334,Employee_Name,0))))","v":""},{"$f":"IF(ISERROR(INDEX('Employee Data'!$L$4:$L$553,MATCH(Databackup!A334,Employee_Name,0),0)),\"\",(INDEX('Employee Data'!$L$4:$L$553,MATCH(Databackup!A334,Employee_Name,0))))","v":""},{"$f":"IF(ISERROR(INDEX('Employee Data'!$M$4:$M$553,MATCH(Databackup!A334,Employee_Name,0),0)),\"\",(INDEX('Employee Data'!$M$4:$M$553,MATCH(Databackup!A334,Employee_Name,0))))","v":""},{"$f":"IF(ISERROR(INDEX('Employee Data'!$N$4:$N$553,MATCH(Databackup!A334,Employee_Name,0),0)),\"\",(INDEX('Employee Data'!$N$4:$N$553,MATCH(Databackup!A334,Employee_Name,0))))","v":""},{"$f":"IF(ISERROR(INDEX('Employee Data'!$O$4:$O$553,MATCH(Databackup!A334,Employee_Name,0),0)),\"\",(INDEX('Employee Data'!$O$4:$O$553,MATCH(Databackup!A334,Employee_Name,0))))","v":""}]
[{"$f":"INDEX(Employee_Name,MATCH(SMALL(IF($A$1='Employee Data'!$I$4:$I$553,'Employee Data'!$B$4:$B$553,\"\"),ROW('Employee Data'!A333)),IF($A$1='Employee Data'!$I$4:$I$553,'Employee Data'!$B$4:$B$553,\"\"),0))","v":{"$error":"#NUM!"}},{"$f":"IF(ISERROR(INDEX('Employee Data'!$B$4:$B$553,MATCH(Databackup!A335,Employee_Name,0),0)),\"\",(INDEX('Employee Data'!$B$4:$B$553,MATCH(Databackup!A335,Employee_Name,0))))","v":""},{"$f":"IF(ISERROR(INDEX('Employee Data'!$C$4:$C$553,MATCH(Databackup!A335,Employee_Name,0),0)),\"\",(INDEX('Employee Data'!$C$4:$C$553,MATCH(Databackup!A335,Employee_Name,0))))","v":""},{"$f":"IF(ISERROR(INDEX('Employee Data'!$D$4:$D$553,MATCH(Databackup!A335,Employee_Name,0),0)),\"\",(INDEX('Employee Data'!$D$4:$D$553,MATCH(Databackup!A335,Employee_Name,0))))","v":""},{"$f":"IF(ISERROR(INDEX('Employee Data'!$F$4:$F$553,MATCH(Databackup!A335,Employee_Name,0),0)),\"\",(INDEX('Employee Data'!$F$4:$F$553,MATCH(Databackup!A335,Employee_Name,0))))","v":""},{"$f":"IF(ISERROR(INDEX('Employee Data'!$G$4:$G$553,MATCH(Databackup!A335,Employee_Name,0),0)),\"\",(INDEX('Employee Data'!$G$4:$G$553,MATCH(Databackup!A335,Employee_Name,0))))","v":""},{"$f":"IF(ISERROR(INDEX('Employee Data'!$H$4:$H$553,MATCH(Databackup!A335,Employee_Name,0),0)),\"\",(INDEX('Employee Data'!$H$4:$H$553,MATCH(Databackup!A335,Employee_Name,0))))","v":""},{"$f":"IF(ISERROR(INDEX('Employee Data'!$I$4:$I$553,MATCH(Databackup!A335,Employee_Name,0),0)),\"\",(INDEX('Employee Data'!$I$4:$I$553,MATCH(Databackup!A335,Employee_Name,0))))","v":""},{"$f":"IF(ISERROR(INDEX('Employee Data'!$J$4:$J$553,MATCH(Databackup!A335,Employee_Name,0),0)),\"\",(INDEX('Employee Data'!J$4:$J$553,MATCH(Databackup!A335,Employee_Name,0))))","v":""},{"$f":"IF(ISERROR(INDEX('Employee Data'!$K$4:$K$553,MATCH(Databackup!A335,Employee_Name,0),0)),\"\",(INDEX('Employee Data'!$K$4:$K$553,MATCH(Databackup!A335,Employee_Name,0))))","v":""},{"$f":"IF(ISERROR(INDEX('Employee Data'!$L$4:$L$553,MATCH(Databackup!A335,Employee_Name,0),0)),\"\",(INDEX('Employee Data'!$L$4:$L$553,MATCH(Databackup!A335,Employee_Name,0))))","v":""},{"$f":"IF(ISERROR(INDEX('Employee Data'!$M$4:$M$553,MATCH(Databackup!A335,Employee_Name,0),0)),\"\",(INDEX('Employee Data'!$M$4:$M$553,MATCH(Databackup!A335,Employee_Name,0))))","v":""},{"$f":"IF(ISERROR(INDEX('Employee Data'!$N$4:$N$553,MATCH(Databackup!A335,Employee_Name,0),0)),\"\",(INDEX('Employee Data'!$N$4:$N$553,MATCH(Databackup!A335,Employee_Name,0))))","v":""},{"$f":"IF(ISERROR(INDEX('Employee Data'!$O$4:$O$553,MATCH(Databackup!A335,Employee_Name,0),0)),\"\",(INDEX('Employee Data'!$O$4:$O$553,MATCH(Databackup!A335,Employee_Name,0))))","v":""}]
[{"$f":"INDEX(Employee_Name,MATCH(SMALL(IF($A$1='Employee Data'!$I$4:$I$553,'Employee Data'!$B$4:$B$553,\"\"),ROW('Employee Data'!A334)),IF($A$1='Employee Data'!$I$4:$I$553,'Employee Data'!$B$4:$B$553,\"\"),0))","v":{"$error":"#NUM!"}},{"$f":"IF(ISERROR(INDEX('Employee Data'!$B$4:$B$553,MATCH(Databackup!A336,Employee_Name,0),0)),\"\",(INDEX('Employee Data'!$B$4:$B$553,MATCH(Databackup!A336,Employee_Name,0))))","v":""},{"$f":"IF(ISERROR(INDEX('Employee Data'!$C$4:$C$553,MATCH(Databackup!A336,Employee_Name,0),0)),\"\",(INDEX('Employee Data'!$C$4:$C$553,MATCH(Databackup!A336,Employee_Name,0))))","v":""},{"$f":"IF(ISERROR(INDEX('Employee Data'!$D$4:$D$553,MATCH(Databackup!A336,Employee_Name,0),0)),\"\",(INDEX('Employee Data'!$D$4:$D$553,MATCH(Databackup!A336,Employee_Name,0))))","v":""},{"$f":"IF(ISERROR(INDEX('Employee Data'!$F$4:$F$553,MATCH(Databackup!A336,Employee_Name,0),0)),\"\",(INDEX('Employee Data'!$F$4:$F$553,MATCH(Databackup!A336,Employee_Name,0))))","v":""},{"$f":"IF(ISERROR(INDEX('Employee Data'!$G$4:$G$553,MATCH(Databackup!A336,Employee_Name,0),0)),\"\",(INDEX('Employee Data'!$G$4:$G$553,MATCH(Databackup!A336,Employee_Name,0))))","v":""},{"$f":"IF(ISERROR(INDEX('Employee Data'!$H$4:$H$553,MATCH(Databackup!A336,Employee_Name,0),0)),\"\",(INDEX('Employee Data'!$H$4:$H$553,MATCH(Databackup!A336,Employee_Name,0))))","v":""},{"$f":"IF(ISERROR(INDEX('Employee Data'!$I$4:$I$553,MATCH(Databackup!A336,Employee_Name,0),0)),\"\",(INDEX('Employee Data'!$I$4:$I$553,MATCH(Databackup!A336,Employee_Name,0))))","v":""},{"$f":"IF(ISERROR(INDEX('Employee Data'!$J$4:$J$553,MATCH(Databackup!A336,Employee_Name,0),0)),\"\",(INDEX('Employee Data'!J$4:$J$553,MATCH(Databackup!A336,Employee_Name,0))))","v":""},{"$f":"IF(ISERROR(INDEX('Employee Data'!$K$4:$K$553,MATCH(Databackup!A336,Employee_Name,0),0)),\"\",(INDEX('Employee Data'!$K$4:$K$553,MATCH(Databackup!A336,Employee_Name,0))))","v":""},{"$f":"IF(ISERROR(INDEX('Employee Data'!$L$4:$L$553,MATCH(Databackup!A336,Employee_Name,0),0)),\"\",(INDEX('Employee Data'!$L$4:$L$553,MATCH(Databackup!A336,Employee_Name,0))))","v":""},{"$f":"IF(ISERROR(INDEX('Employee Data'!$M$4:$M$553,MATCH(Databackup!A336,Employee_Name,0),0)),\"\",(INDEX('Employee Data'!$M$4:$M$553,MATCH(Databackup!A336,Employee_Name,0))))","v":""},{"$f":"IF(ISERROR(INDEX('Employee Data'!$N$4:$N$553,MATCH(Databackup!A336,Employee_Name,0),0)),\"\",(INDEX('Employee Data'!$N$4:$N$553,MATCH(Databackup!A336,Employee_Name,0))))","v":""},{"$f":"IF(ISERROR(INDEX('Employee Data'!$O$4:$O$553,MATCH(Databackup!A336,Employee_Name,0),0)),\"\",(INDEX('Employee Data'!$O$4:$O$553,MATCH(Databackup!A336,Employee_Name,0))))","v":""}]
[{"$f":"INDEX(Employee_Name,MATCH(SMALL(IF($A$1='Employee Data'!$I$4:$I$553,'Employee Data'!$B$4:$B$553,\"\"),ROW('Employee Data'!A335)),IF($A$1='Employee Data'!$I$4:$I$553,'Employee Data'!$B$4:$B$553,\"\"),0))","v":{"$error":"#NUM!"}},{"$f":"IF(ISERROR(INDEX('Employee Data'!$B$4:$B$553,MATCH(Databackup!A337,Employee_Name,0),0)),\"\",(INDEX('Employee Data'!$B$4:$B$553,MATCH(Databackup!A337,Employee_Name,0))))","v":""},{"$f":"IF(ISERROR(INDEX('Employee Data'!$C$4:$C$553,MATCH(Databackup!A337,Employee_Name,0),0)),\"\",(INDEX('Employee Data'!$C$4:$C$553,MATCH(Databackup!A337,Employee_Name,0))))","v":""},{"$f":"IF(ISERROR(INDEX('Employee Data'!$D$4:$D$553,MATCH(Databackup!A337,Employee_Name,0),0)),\"\",(INDEX('Employee Data'!$D$4:$D$553,MATCH(Databackup!A337,Employee_Name,0))))","v":""},{"$f":"IF(ISERROR(INDEX('Employee Data'!$F$4:$F$553,MATCH(Databackup!A337,Employee_Name,0),0)),\"\",(INDEX('Employee Data'!$F$4:$F$553,MATCH(Databackup!A337,Employee_Name,0))))","v":""},{"$f":"IF(ISERROR(INDEX('Employee Data'!$G$4:$G$553,MATCH(Databackup!A337,Employee_Name,0),0)),\"\",(INDEX('Employee Data'!$G$4:$G$553,MATCH(Databackup!A337,Employee_Name,0))))","v":""},{"$f":"IF(ISERROR(INDEX('Employee Data'!$H$4:$H$553,MATCH(Databackup!A337,Employee_Name,0),0)),\"\",(INDEX('Employee Data'!$H$4:$H$553,MATCH(Databackup!A337,Employee_Name,0))))","v":""},{"$f":"IF(ISERROR(INDEX('Employee Data'!$I$4:$I$553,MATCH(Databackup!A337,Employee_Name,0),0)),\"\",(INDEX('Employee Data'!$I$4:$I$553,MATCH(Databackup!A337,Employee_Name,0))))","v":""},{"$f":"IF(ISERROR(INDEX('Employee Data'!$J$4:$J$553,MATCH(Databackup!A337,Employee_Name,0),0)),\"\",(INDEX('Employee Data'!J$4:$J$553,MATCH(Databackup!A337,Employee_Name,0))))","v":""},{"$f":"IF(ISERROR(INDEX('Employee Data'!$K$4:$K$553,MATCH(Databackup!A337,Employee_Name,0),0)),\"\",(INDEX('Employee Data'!$K$4:$K$553,MATCH(Databackup!A337,Employee_Name,0))))","v":""},{"$f":"IF(ISERROR(INDEX('Employee Data'!$L$4:$L$553,MATCH(Databackup!A337,Employee_Name,0),0)),\"\",(INDEX('Employee Data'!$L$4:$L$553,MATCH(Databackup!A337,Employee_Name,0))))","v":""},{"$f":"IF(ISERROR(INDEX('Employee Data'!$M$4:$M$553,MATCH(Databackup!A337,Employee_Name,0),0)),\"\",(INDEX('Employee Data'!$M$4:$M$553,MATCH(Databackup!A337,Employee_Name,0))))","v":""},{"$f":"IF(ISERROR(INDEX('Employee Data'!$N$4:$N$553,MATCH(Databackup!A337,Employee_Name,0),0)),\"\",(INDEX('Employee Data'!$N$4:$N$553,MATCH(Databackup!A337,Employee_Name,0))))","v":""},{"$f":"IF(ISERROR(INDEX('Employee Data'!$O$4:$O$553,MATCH(Databackup!A337,Employee_Name,0),0)),\"\",(INDEX('Employee Data'!$O$4:$O$553,MATCH(Databackup!A337,Employee_Name,0))))","v":""}]
[{"$f":"INDEX(Employee_Name,MATCH(SMALL(IF($A$1='Employee Data'!$I$4:$I$553,'Employee Data'!$B$4:$B$553,\"\"),ROW('Employee Data'!A336)),IF($A$1='Employee Data'!$I$4:$I$553,'Employee Data'!$B$4:$B$553,\"\"),0))","v":{"$error":"#NUM!"}},{"$f":"IF(ISERROR(INDEX('Employee Data'!$B$4:$B$553,MATCH(Databackup!A338,Employee_Name,0),0)),\"\",(INDEX('Employee Data'!$B$4:$B$553,MATCH(Databackup!A338,Employee_Name,0))))","v":""},{"$f":"IF(ISERROR(INDEX('Employee Data'!$C$4:$C$553,MATCH(Databackup!A338,Employee_Name,0),0)),\"\",(INDEX('Employee Data'!$C$4:$C$553,MATCH(Databackup!A338,Employee_Name,0))))","v":""},{"$f":"IF(ISERROR(INDEX('Employee Data'!$D$4:$D$553,MATCH(Databackup!A338,Employee_Name,0),0)),\"\",(INDEX('Employee Data'!$D$4:$D$553,MATCH(Databackup!A338,Employee_Name,0))))","v":""},{"$f":"IF(ISERROR(INDEX('Employee Data'!$F$4:$F$553,MATCH(Databackup!A338,Employee_Name,0),0)),\"\",(INDEX('Employee Data'!$F$4:$F$553,MATCH(Databackup!A338,Employee_Name,0))))","v":""},{"$f":"IF(ISERROR(INDEX('Employee Data'!$G$4:$G$553,MATCH(Databackup!A338,Employee_Name,0),0)),\"\",(INDEX('Employee Data'!$G$4:$G$553,MATCH(Databackup!A338,Employee_Name,0))))","v":""},{"$f":"IF(ISERROR(INDEX('Employee Data'!$H$4:$H$553,MATCH(Databackup!A338,Employee_Name,0),0)),\"\",(INDEX('Employee Data'!$H$4:$H$553,MATCH(Databackup!A338,Employee_Name,0))))","v":""},{"$f":"IF(ISERROR(INDEX('Employee Data'!$I$4:$I$553,MATCH(Databackup!A338,Employee_Name,0),0)),\"\",(INDEX('Employee Data'!$I$4:$I$553,MATCH(Databackup!A338,Employee_Name,0))))","v":""},{"$f":"IF(ISERROR(INDEX('Employee Data'!$J$4:$J$553,MATCH(Databackup!A338,Employee_Name,0),0)),\"\",(INDEX('Employee Data'!J$4:$J$553,MATCH(Databackup!A338,Employee_Name,0))))","v":""},{"$f":"IF(ISERROR(INDEX('Employee Data'!$K$4:$K$553,MATCH(Databackup!A338,Employee_Name,0),0)),\"\",(INDEX('Employee Data'!$K$4:$K$553,MATCH(Databackup!A338,Employee_Name,0))))","v":""},{"$f":"IF(ISERROR(INDEX('Employee Data'!$L$4:$L$553,MATCH(Databackup!A338,Employee_Name,0),0)),\"\",(INDEX('Employee Data'!$L$4:$L$553,MATCH(Databackup!A338,Employee_Name,0))))","v":""},{"$f":"IF(ISERROR(INDEX('Employee Data'!$M$4:$M$553,MATCH(Databackup!A338,Employee_Name,0),0)),\"\",(INDEX('Employee Data'!$M$4:$M$553,MATCH(Databackup!A338,Employee_Name,0))))","v":""},{"$f":"IF(ISERROR(INDEX('Employee Data'!$N$4:$N$553,MATCH(Databackup!A338,Employee_Name,0),0)),\"\",(INDEX('Employee Data'!$N$4:$N$553,MATCH(Databackup!A338,Employee_Name,0))))","v":""},{"$f":"IF(ISERROR(INDEX('Employee Data'!$O$4:$O$553,MATCH(Databackup!A338,Employee_Name,0),0)),\"\",(INDEX('Employee Data'!$O$4:$O$553,MATCH(Databackup!A338,Employee_Name,0))))","v":""}]
[{"$f":"INDEX(Employee_Name,MATCH(SMALL(IF($A$1='Employee Data'!$I$4:$I$553,'Employee Data'!$B$4:$B$553,\"\"),ROW('Employee Data'!A337)),IF($A$1='Employee Data'!$I$4:$I$553,'Employee Data'!$B$4:$B$553,\"\"),0))","v":{"$error":"#NUM!"}},{"$f":"IF(ISERROR(INDEX('Employee Data'!$B$4:$B$553,MATCH(Databackup!A339,Employee_Name,0),0)),\"\",(INDEX('Employee Data'!$B$4:$B$553,MATCH(Databackup!A339,Employee_Name,0))))","v":""},{"$f":"IF(ISERROR(INDEX('Employee Data'!$C$4:$C$553,MATCH(Databackup!A339,Employee_Name,0),0)),\"\",(INDEX('Employee Data'!$C$4:$C$553,MATCH(Databackup!A339,Employee_Name,0))))","v":""},{"$f":"IF(ISERROR(INDEX('Employee Data'!$D$4:$D$553,MATCH(Databackup!A339,Employee_Name,0),0)),\"\",(INDEX('Employee Data'!$D$4:$D$553,MATCH(Databackup!A339,Employee_Name,0))))","v":""},{"$f":"IF(ISERROR(INDEX('Employee Data'!$F$4:$F$553,MATCH(Databackup!A339,Employee_Name,0),0)),\"\",(INDEX('Employee Data'!$F$4:$F$553,MATCH(Databackup!A339,Employee_Name,0))))","v":""},{"$f":"IF(ISERROR(INDEX('Employee Data'!$G$4:$G$553,MATCH(Databackup!A339,Employee_Name,0),0)),\"\",(INDEX('Employee Data'!$G$4:$G$553,MATCH(Databackup!A339,Employee_Name,0))))","v":""},{"$f":"IF(ISERROR(INDEX('Employee Data'!$H$4:$H$553,MATCH(Databackup!A339,Employee_Name,0),0)),\"\",(INDEX('Employee Data'!$H$4:$H$553,MATCH(Databackup!A339,Employee_Name,0))))","v":""},{"$f":"IF(ISERROR(INDEX('Employee Data'!$I$4:$I$553,MATCH(Databackup!A339,Employee_Name,0),0)),\"\",(INDEX('Employee Data'!$I$4:$I$553,MATCH(Databackup!A339,Employee_Name,0))))","v":""},{"$f":"IF(ISERROR(INDEX('Employee Data'!$J$4:$J$553,MATCH(Databackup!A339,Employee_Name,0),0)),\"\",(INDEX('Employee Data'!J$4:$J$553,MATCH(Databackup!A339,Employee_Name,0))))","v":""},{"$f":"IF(ISERROR(INDEX('Employee Data'!$K$4:$K$553,MATCH(Databackup!A339,Employee_Name,0),0)),\"\",(INDEX('Employee Data'!$K$4:$K$553,MATCH(Databackup!A339,Employee_Name,0))))","v":""},{"$f":"IF(ISERROR(INDEX('Employee Data'!$L$4:$L$553,MATCH(Databackup!A339,Employee_Name,0),0)),\"\",(INDEX('Employee Data'!$L$4:$L$553,MATCH(Databackup!A339,Employee_Name,0))))","v":""},{"$f":"IF(ISERROR(INDEX('Employee Data'!$M$4:$M$553,MATCH(Databackup!A339,Employee_Name,0),0)),\"\",(INDEX('Employee Data'!$M$4:$M$553,MATCH(Databackup!A339,Employee_Name,0))))","v":""},{"$f":"IF(ISERROR(INDEX('Employee Data'!$N$4:$N$553,MATCH(Databackup!A339,Employee_Name,0),0)),\"\",(INDEX('Employee Data'!$N$4:$N$553,MATCH(Databackup!A339,Employee_Name,0))))","v":""},{"$f":"IF(ISERROR(INDEX('Employee Data'!$O$4:$O$553,MATCH(Databackup!A339,Employee_Name,0),0)),\"\",(INDEX('Employee Data'!$O$4:$O$553,MATCH(Databackup!A339,Employee_Name,0))))","v":""}]
[{"$f":"INDEX(Employee_Name,MATCH(SMALL(IF($A$1='Employee Data'!$I$4:$I$553,'Employee Data'!$B$4:$B$553,\"\"),ROW('Employee Data'!A338)),IF($A$1='Employee Data'!$I$4:$I$553,'Employee Data'!$B$4:$B$553,\"\"),0))","v":{"$error":"#NUM!"}},{"$f":"IF(ISERROR(INDEX('Employee Data'!$B$4:$B$553,MATCH(Databackup!A340,Employee_Name,0),0)),\"\",(INDEX('Employee Data'!$B$4:$B$553,MATCH(Databackup!A340,Employee_Name,0))))","v":""},{"$f":"IF(ISERROR(INDEX('Employee Data'!$C$4:$C$553,MATCH(Databackup!A340,Employee_Name,0),0)),\"\",(INDEX('Employee Data'!$C$4:$C$553,MATCH(Databackup!A340,Employee_Name,0))))","v":""},{"$f":"IF(ISERROR(INDEX('Employee Data'!$D$4:$D$553,MATCH(Databackup!A340,Employee_Name,0),0)),\"\",(INDEX('Employee Data'!$D$4:$D$553,MATCH(Databackup!A340,Employee_Name,0))))","v":""},{"$f":"IF(ISERROR(INDEX('Employee Data'!$F$4:$F$553,MATCH(Databackup!A340,Employee_Name,0),0)),\"\",(INDEX('Employee Data'!$F$4:$F$553,MATCH(Databackup!A340,Employee_Name,0))))","v":""},{"$f":"IF(ISERROR(INDEX('Employee Data'!$G$4:$G$553,MATCH(Databackup!A340,Employee_Name,0),0)),\"\",(INDEX('Employee Data'!$G$4:$G$553,MATCH(Databackup!A340,Employee_Name,0))))","v":""},{"$f":"IF(ISERROR(INDEX('Employee Data'!$H$4:$H$553,MATCH(Databackup!A340,Employee_Name,0),0)),\"\",(INDEX('Employee Data'!$H$4:$H$553,MATCH(Databackup!A340,Employee_Name,0))))","v":""},{"$f":"IF(ISERROR(INDEX('Employee Data'!$I$4:$I$553,MATCH(Databackup!A340,Employee_Name,0),0)),\"\",(INDEX('Employee Data'!$I$4:$I$553,MATCH(Databackup!A340,Employee_Name,0))))","v":""},{"$f":"IF(ISERROR(INDEX('Employee Data'!$J$4:$J$553,MATCH(Databackup!A340,Employee_Name,0),0)),\"\",(INDEX('Employee Data'!J$4:$J$553,MATCH(Databackup!A340,Employee_Name,0))))","v":""},{"$f":"IF(ISERROR(INDEX('Employee Data'!$K$4:$K$553,MATCH(Databackup!A340,Employee_Name,0),0)),\"\",(INDEX('Employee Data'!$K$4:$K$553,MATCH(Databackup!A340,Employee_Name,0))))","v":""},{"$f":"IF(ISERROR(INDEX('Employee Data'!$L$4:$L$553,MATCH(Databackup!A340,Employee_Name,0),0)),\"\",(INDEX('Employee Data'!$L$4:$L$553,MATCH(Databackup!A340,Employee_Name,0))))","v":""},{"$f":"IF(ISERROR(INDEX('Employee Data'!$M$4:$M$553,MATCH(Databackup!A340,Employee_Name,0),0)),\"\",(INDEX('Employee Data'!$M$4:$M$553,MATCH(Databackup!A340,Employee_Name,0))))","v":""},{"$f":"IF(ISERROR(INDEX('Employee Data'!$N$4:$N$553,MATCH(Databackup!A340,Employee_Name,0),0)),\"\",(INDEX('Employee Data'!$N$4:$N$553,MATCH(Databackup!A340,Employee_Name,0))))","v":""},{"$f":"IF(ISERROR(INDEX('Employee Data'!$O$4:$O$553,MATCH(Databackup!A340,Employee_Name,0),0)),\"\",(INDEX('Employee Data'!$O$4:$O$553,MATCH(Databackup!A340,Employee_Name,0))))","v":""}]
[{"$f":"INDEX(Employee_Name,MATCH(SMALL(IF($A$1='Employee Data'!$I$4:$I$553,'Employee Data'!$B$4:$B$553,\"\"),ROW('Employee Data'!A339)),IF($A$1='Employee Data'!$I$4:$I$553,'Employee Data'!$B$4:$B$553,\"\"),0))","v":{"$error":"#NUM!"}},{"$f":"IF(ISERROR(INDEX('Employee Data'!$B$4:$B$553,MATCH(Databackup!A341,Employee_Name,0),0)),\"\",(INDEX('Employee Data'!$B$4:$B$553,MATCH(Databackup!A341,Employee_Name,0))))","v":""},{"$f":"IF(ISERROR(INDEX('Employee Data'!$C$4:$C$553,MATCH(Databackup!A341,Employee_Name,0),0)),\"\",(INDEX('Employee Data'!$C$4:$C$553,MATCH(Databackup!A341,Employee_Name,0))))","v":""},{"$f":"IF(ISERROR(INDEX('Employee Data'!$D$4:$D$553,MATCH(Databackup!A341,Employee_Name,0),0)),\"\",(INDEX('Employee Data'!$D$4:$D$553,MATCH(Databackup!A341,Employee_Name,0))))","v":""},{"$f":"IF(ISERROR(INDEX('Employee Data'!$F$4:$F$553,MATCH(Databackup!A341,Employee_Name,0),0)),\"\",(INDEX('Employee Data'!$F$4:$F$553,MATCH(Databackup!A341,Employee_Name,0))))","v":""},{"$f":"IF(ISERROR(INDEX('Employee Data'!$G$4:$G$553,MATCH(Databackup!A341,Employee_Name,0),0)),\"\",(INDEX('Employee Data'!$G$4:$G$553,MATCH(Databackup!A341,Employee_Name,0))))","v":""},{"$f":"IF(ISERROR(INDEX('Employee Data'!$H$4:$H$553,MATCH(Databackup!A341,Employee_Name,0),0)),\"\",(INDEX('Employee Data'!$H$4:$H$553,MATCH(Databackup!A341,Employee_Name,0))))","v":""},{"$f":"IF(ISERROR(INDEX('Employee Data'!$I$4:$I$553,MATCH(Databackup!A341,Employee_Name,0),0)),\"\",(INDEX('Employee Data'!$I$4:$I$553,MATCH(Databackup!A341,Employee_Name,0))))","v":""},{"$f":"IF(ISERROR(INDEX('Employee Data'!$J$4:$J$553,MATCH(Databackup!A341,Employee_Name,0),0)),\"\",(INDEX('Employee Data'!J$4:$J$553,MATCH(Databackup!A341,Employee_Name,0))))","v":""},{"$f":"IF(ISERROR(INDEX('Employee Data'!$K$4:$K$553,MATCH(Databackup!A341,Employee_Name,0),0)),\"\",(INDEX('Employee Data'!$K$4:$K$553,MATCH(Databackup!A341,Employee_Name,0))))","v":""},{"$f":"IF(ISERROR(INDEX('Employee Data'!$L$4:$L$553,MATCH(Databackup!A341,Employee_Name,0),0)),\"\",(INDEX('Employee Data'!$L$4:$L$553,MATCH(Databackup!A341,Employee_Name,0))))","v":""},{"$f":"IF(ISERROR(INDEX('Employee Data'!$M$4:$M$553,MATCH(Databackup!A341,Employee_Name,0),0)),\"\",(INDEX('Employee Data'!$M$4:$M$553,MATCH(Databackup!A341,Employee_Name,0))))","v":""},{"$f":"IF(ISERROR(INDEX('Employee Data'!$N$4:$N$553,MATCH(Databackup!A341,Employee_Name,0),0)),\"\",(INDEX('Employee Data'!$N$4:$N$553,MATCH(Databackup!A341,Employee_Name,0))))","v":""},{"$f":"IF(ISERROR(INDEX('Employee Data'!$O$4:$O$553,MATCH(Databackup!A341,Employee_Name,0),0)),\"\",(INDEX('Employee Data'!$O$4:$O$553,MATCH(Databackup!A341,Employee_Name,0))))","v":""}]
[{"$f":"INDEX(Employee_Name,MATCH(SMALL(IF($A$1='Employee Data'!$I$4:$I$553,'Employee Data'!$B$4:$B$553,\"\"),ROW('Employee Data'!A340)),IF($A$1='Employee Data'!$I$4:$I$553,'Employee Data'!$B$4:$B$553,\"\"),0))","v":{"$error":"#NUM!"}},{"$f":"IF(ISERROR(INDEX('Employee Data'!$B$4:$B$553,MATCH(Databackup!A342,Employee_Name,0),0)),\"\",(INDEX('Employee Data'!$B$4:$B$553,MATCH(Databackup!A342,Employee_Name,0))))","v":""},{"$f":"IF(ISERROR(INDEX('Employee Data'!$C$4:$C$553,MATCH(Databackup!A342,Employee_Name,0),0)),\"\",(INDEX('Employee Data'!$C$4:$C$553,MATCH(Databackup!A342,Employee_Name,0))))","v":""},{"$f":"IF(ISERROR(INDEX('Employee Data'!$D$4:$D$553,MATCH(Databackup!A342,Employee_Name,0),0)),\"\",(INDEX('Employee Data'!$D$4:$D$553,MATCH(Databackup!A342,Employee_Name,0))))","v":""},{"$f":"IF(ISERROR(INDEX('Employee Data'!$F$4:$F$553,MATCH(Databackup!A342,Employee_Name,0),0)),\"\",(INDEX('Employee Data'!$F$4:$F$553,MATCH(Databackup!A342,Employee_Name,0))))","v":""},{"$f":"IF(ISERROR(INDEX('Employee Data'!$G$4:$G$553,MATCH(Databackup!A342,Employee_Name,0),0)),\"\",(INDEX('Employee Data'!$G$4:$G$553,MATCH(Databackup!A342,Employee_Name,0))))","v":""},{"$f":"IF(ISERROR(INDEX('Employee Data'!$H$4:$H$553,MATCH(Databackup!A342,Employee_Name,0),0)),\"\",(INDEX('Employee Data'!$H$4:$H$553,MATCH(Databackup!A342,Employee_Name,0))))","v":""},{"$f":"IF(ISERROR(INDEX('Employee Data'!$I$4:$I$553,MATCH(Databackup!A342,Employee_Name,0),0)),\"\",(INDEX('Employee Data'!$I$4:$I$553,MATCH(Databackup!A342,Employee_Name,0))))","v":""},{"$f":"IF(ISERROR(INDEX('Employee Data'!$J$4:$J$553,MATCH(Databackup!A342,Employee_Name,0),0)),\"\",(INDEX('Employee Data'!J$4:$J$553,MATCH(Databackup!A342,Employee_Name,0))))","v":""},{"$f":"IF(ISERROR(INDEX('Employee Data'!$K$4:$K$553,MATCH(Databackup!A342,Employee_Name,0),0)),\"\",(INDEX('Employee Data'!$K$4:$K$553,MATCH(Databackup!A342,Employee_Name,0))))","v":""},{"$f":"IF(ISERROR(INDEX('Employee Data'!$L$4:$L$553,MATCH(Databackup!A342,Employee_Name,0),0)),\"\",(INDEX('Employee Data'!$L$4:$L$553,MATCH(Databackup!A342,Employee_Name,0))))","v":""},{"$f":"IF(ISERROR(INDEX('Employee Data'!$M$4:$M$553,MATCH(Databackup!A342,Employee_Name,0),0)),\"\",(INDEX('Employee Data'!$M$4:$M$553,MATCH(Databackup!A342,Employee_Name,0))))","v":""},{"$f":"IF(ISERROR(INDEX('Employee Data'!$N$4:$N$553,MATCH(Databackup!A342,Employee_Name,0),0)),\"\",(INDEX('Employee Data'!$N$4:$N$553,MATCH(Databackup!A342,Employee_Name,0))))","v":""},{"$f":"IF(ISERROR(INDEX('Employee Data'!$O$4:$O$553,MATCH(Databackup!A342,Employee_Name,0),0)),\"\",(INDEX('Employee Data'!$O$4:$O$553,MATCH(Databackup!A342,Employee_Name,0))))","v":""}]
[{"$f":"INDEX(Employee_Name,MATCH(SMALL(IF($A$1='Employee Data'!$I$4:$I$553,'Employee Data'!$B$4:$B$553,\"\"),ROW('Employee Data'!A341)),IF($A$1='Employee Data'!$I$4:$I$553,'Employee Data'!$B$4:$B$553,\"\"),0))","v":{"$error":"#NUM!"}},{"$f":"IF(ISERROR(INDEX('Employee Data'!$B$4:$B$553,MATCH(Databackup!A343,Employee_Name,0),0)),\"\",(INDEX('Employee Data'!$B$4:$B$553,MATCH(Databackup!A343,Employee_Name,0))))","v":""},{"$f":"IF(ISERROR(INDEX('Employee Data'!$C$4:$C$553,MATCH(Databackup!A343,Employee_Name,0),0)),\"\",(INDEX('Employee Data'!$C$4:$C$553,MATCH(Databackup!A343,Employee_Name,0))))","v":""},{"$f":"IF(ISERROR(INDEX('Employee Data'!$D$4:$D$553,MATCH(Databackup!A343,Employee_Name,0),0)),\"\",(INDEX('Employee Data'!$D$4:$D$553,MATCH(Databackup!A343,Employee_Name,0))))","v":""},{"$f":"IF(ISERROR(INDEX('Employee Data'!$F$4:$F$553,MATCH(Databackup!A343,Employee_Name,0),0)),\"\",(INDEX('Employee Data'!$F$4:$F$553,MATCH(Databackup!A343,Employee_Name,0))))","v":""},{"$f":"IF(ISERROR(INDEX('Employee Data'!$G$4:$G$553,MATCH(Databackup!A343,Employee_Name,0),0)),\"\",(INDEX('Employee Data'!$G$4:$G$553,MATCH(Databackup!A343,Employee_Name,0))))","v":""},{"$f":"IF(ISERROR(INDEX('Employee Data'!$H$4:$H$553,MATCH(Databackup!A343,Employee_Name,0),0)),\"\",(INDEX('Employee Data'!$H$4:$H$553,MATCH(Databackup!A343,Employee_Name,0))))","v":""},{"$f":"IF(ISERROR(INDEX('Employee Data'!$I$4:$I$553,MATCH(Databackup!A343,Employee_Name,0),0)),\"\",(INDEX('Employee Data'!$I$4:$I$553,MATCH(Databackup!A343,Employee_Name,0))))","v":""},{"$f":"IF(ISERROR(INDEX('Employee Data'!$J$4:$J$553,MATCH(Databackup!A343,Employee_Name,0),0)),\"\",(INDEX('Employee Data'!J$4:$J$553,MATCH(Databackup!A343,Employee_Name,0))))","v":""},{"$f":"IF(ISERROR(INDEX('Employee Data'!$K$4:$K$553,MATCH(Databackup!A343,Employee_Name,0),0)),\"\",(INDEX('Employee Data'!$K$4:$K$553,MATCH(Databackup!A343,Employee_Name,0))))","v":""},{"$f":"IF(ISERROR(INDEX('Employee Data'!$L$4:$L$553,MATCH(Databackup!A343,Employee_Name,0),0)),\"\",(INDEX('Employee Data'!$L$4:$L$553,MATCH(Databackup!A343,Employee_Name,0))))","v":""},{"$f":"IF(ISERROR(INDEX('Employee Data'!$M$4:$M$553,MATCH(Databackup!A343,Employee_Name,0),0)),\"\",(INDEX('Employee Data'!$M$4:$M$553,MATCH(Databackup!A343,Employee_Name,0))))","v":""},{"$f":"IF(ISERROR(INDEX('Employee Data'!$N$4:$N$553,MATCH(Databackup!A343,Employee_Name,0),0)),\"\",(INDEX('Employee Data'!$N$4:$N$553,MATCH(Databackup!A343,Employee_Name,0))))","v":""},{"$f":"IF(ISERROR(INDEX('Employee Data'!$O$4:$O$553,MATCH(Databackup!A343,Employee_Name,0),0)),\"\",(INDEX('Employee Data'!$O$4:$O$553,MATCH(Databackup!A343,Employee_Name,0))))","v":""}]
[{"$f":"INDEX(Employee_Name,MATCH(SMALL(IF($A$1='Employee Data'!$I$4:$I$553,'Employee Data'!$B$4:$B$553,\"\"),ROW('Employee Data'!A342)),IF($A$1='Employee Data'!$I$4:$I$553,'Employee Data'!$B$4:$B$553,\"\"),0))","v":{"$error":"#NUM!"}},{"$f":"IF(ISERROR(INDEX('Employee Data'!$B$4:$B$553,MATCH(Databackup!A344,Employee_Name,0),0)),\"\",(INDEX('Employee Data'!$B$4:$B$553,MATCH(Databackup!A344,Employee_Name,0))))","v":""},{"$f":"IF(ISERROR(INDEX('Employee Data'!$C$4:$C$553,MATCH(Databackup!A344,Employee_Name,0),0)),\"\",(INDEX('Employee Data'!$C$4:$C$553,MATCH(Databackup!A344,Employee_Name,0))))","v":""},{"$f":"IF(ISERROR(INDEX('Employee Data'!$D$4:$D$553,MATCH(Databackup!A344,Employee_Name,0),0)),\"\",(INDEX('Employee Data'!$D$4:$D$553,MATCH(Databackup!A344,Employee_Name,0))))","v":""},{"$f":"IF(ISERROR(INDEX('Employee Data'!$F$4:$F$553,MATCH(Databackup!A344,Employee_Name,0),0)),\"\",(INDEX('Employee Data'!$F$4:$F$553,MATCH(Databackup!A344,Employee_Name,0))))","v":""},{"$f":"IF(ISERROR(INDEX('Employee Data'!$G$4:$G$553,MATCH(Databackup!A344,Employee_Name,0),0)),\"\",(INDEX('Employee Data'!$G$4:$G$553,MATCH(Databackup!A344,Employee_Name,0))))","v":""},{"$f":"IF(ISERROR(INDEX('Employee Data'!$H$4:$H$553,MATCH(Databackup!A344,Employee_Name,0),0)),\"\",(INDEX('Employee Data'!$H$4:$H$553,MATCH(Databackup!A344,Employee_Name,0))))","v":""},{"$f":"IF(ISERROR(INDEX('Employee Data'!$I$4:$I$553,MATCH(Databackup!A344,Employee_Name,0),0)),\"\",(INDEX('Employee Data'!$I$4:$I$553,MATCH(Databackup!A344,Employee_Name,0))))","v":""},{"$f":"IF(ISERROR(INDEX('Employee Data'!$J$4:$J$553,MATCH(Databackup!A344,Employee_Name,0),0)),\"\",(INDEX('Employee Data'!J$4:$J$553,MATCH(Databackup!A344,Employee_Name,0))))","v":""},{"$f":"IF(ISERROR(INDEX('Employee Data'!$K$4:$K$553,MATCH(Databackup!A344,Employee_Name,0),0)),\"\",(INDEX('Employee Data'!$K$4:$K$553,MATCH(Databackup!A344,Employee_Name,0))))","v":""},{"$f":"IF(ISERROR(INDEX('Employee Data'!$L$4:$L$553,MATCH(Databackup!A344,Employee_Name,0),0)),\"\",(INDEX('Employee Data'!$L$4:$L$553,MATCH(Databackup!A344,Employee_Name,0))))","v":""},{"$f":"IF(ISERROR(INDEX('Employee Data'!$M$4:$M$553,MATCH(Databackup!A344,Employee_Name,0),0)),\"\",(INDEX('Employee Data'!$M$4:$M$553,MATCH(Databackup!A344,Employee_Name,0))))","v":""},{"$f":"IF(ISERROR(INDEX('Employee Data'!$N$4:$N$553,MATCH(Databackup!A344,Employee_Name,0),0)),\"\",(INDEX('Employee Data'!$N$4:$N$553,MATCH(Databackup!A344,Employee_Name,0))))","v":""},{"$f":"IF(ISERROR(INDEX('Employee Data'!$O$4:$O$553,MATCH(Databackup!A344,Employee_Name,0),0)),\"\",(INDEX('Employee Data'!$O$4:$O$553,MATCH(Databackup!A344,Employee_Name,0))))","v":""}]
[{"$f":"INDEX(Employee_Name,MATCH(SMALL(IF($A$1='Employee Data'!$I$4:$I$553,'Employee Data'!$B$4:$B$553,\"\"),ROW('Employee Data'!A343)),IF($A$1='Employee Data'!$I$4:$I$553,'Employee Data'!$B$4:$B$553,\"\"),0))","v":{"$error":"#NUM!"}},{"$f":"IF(ISERROR(INDEX('Employee Data'!$B$4:$B$553,MATCH(Databackup!A345,Employee_Name,0),0)),\"\",(INDEX('Employee Data'!$B$4:$B$553,MATCH(Databackup!A345,Employee_Name,0))))","v":""},{"$f":"IF(ISERROR(INDEX('Employee Data'!$C$4:$C$553,MATCH(Databackup!A345,Employee_Name,0),0)),\"\",(INDEX('Employee Data'!$C$4:$C$553,MATCH(Databackup!A345,Employee_Name,0))))","v":""},{"$f":"IF(ISERROR(INDEX('Employee Data'!$D$4:$D$553,MATCH(Databackup!A345,Employee_Name,0),0)),\"\",(INDEX('Employee Data'!$D$4:$D$553,MATCH(Databackup!A345,Employee_Name,0))))","v":""},{"$f":"IF(ISERROR(INDEX('Employee Data'!$F$4:$F$553,MATCH(Databackup!A345,Employee_Name,0),0)),\"\",(INDEX('Employee Data'!$F$4:$F$553,MATCH(Databackup!A345,Employee_Name,0))))","v":""},{"$f":"IF(ISERROR(INDEX('Employee Data'!$G$4:$G$553,MATCH(Databackup!A345,Employee_Name,0),0)),\"\",(INDEX('Employee Data'!$G$4:$G$553,MATCH(Databackup!A345,Employee_Name,0))))","v":""},{"$f":"IF(ISERROR(INDEX('Employee Data'!$H$4:$H$553,MATCH(Databackup!A345,Employee_Name,0),0)),\"\",(INDEX('Employee Data'!$H$4:$H$553,MATCH(Databackup!A345,Employee_Name,0))))","v":""},{"$f":"IF(ISERROR(INDEX('Employee Data'!$I$4:$I$553,MATCH(Databackup!A345,Employee_Name,0),0)),\"\",(INDEX('Employee Data'!$I$4:$I$553,MATCH(Databackup!A345,Employee_Name,0))))","v":""},{"$f":"IF(ISERROR(INDEX('Employee Data'!$J$4:$J$553,MATCH(Databackup!A345,Employee_Name,0),0)),\"\",(INDEX('Employee Data'!J$4:$J$553,MATCH(Databackup!A345,Employee_Name,0))))","v":""},{"$f":"IF(ISERROR(INDEX('Employee Data'!$K$4:$K$553,MATCH(Databackup!A345,Employee_Name,0),0)),\"\",(INDEX('Employee Data'!$K$4:$K$553,MATCH(Databackup!A345,Employee_Name,0))))","v":""},{"$f":"IF(ISERROR(INDEX('Employee Data'!$L$4:$L$553,MATCH(Databackup!A345,Employee_Name,0),0)),\"\",(INDEX('Employee Data'!$L$4:$L$553,MATCH(Databackup!A345,Employee_Name,0))))","v":""},{"$f":"IF(ISERROR(INDEX('Employee Data'!$M$4:$M$553,MATCH(Databackup!A345,Employee_Name,0),0)),\"\",(INDEX('Employee Data'!$M$4:$M$553,MATCH(Databackup!A345,Employee_Name,0))))","v":""},{"$f":"IF(ISERROR(INDEX('Employee Data'!$N$4:$N$553,MATCH(Databackup!A345,Employee_Name,0),0)),\"\",(INDEX('Employee Data'!$N$4:$N$553,MATCH(Databackup!A345,Employee_Name,0))))","v":""},{"$f":"IF(ISERROR(INDEX('Employee Data'!$O$4:$O$553,MATCH(Databackup!A345,Employee_Name,0),0)),\"\",(INDEX('Employee Data'!$O$4:$O$553,MATCH(Databackup!A345,Employee_Name,0))))","v":""}]
[{"$f":"INDEX(Employee_Name,MATCH(SMALL(IF($A$1='Employee Data'!$I$4:$I$553,'Employee Data'!$B$4:$B$553,\"\"),ROW('Employee Data'!A344)),IF($A$1='Employee Data'!$I$4:$I$553,'Employee Data'!$B$4:$B$553,\"\"),0))","v":{"$error":"#NUM!"}},{"$f":"IF(ISERROR(INDEX('Employee Data'!$B$4:$B$553,MATCH(Databackup!A346,Employee_Name,0),0)),\"\",(INDEX('Employee Data'!$B$4:$B$553,MATCH(Databackup!A346,Employee_Name,0))))","v":""},{"$f":"IF(ISERROR(INDEX('Employee Data'!$C$4:$C$553,MATCH(Databackup!A346,Employee_Name,0),0)),\"\",(INDEX('Employee Data'!$C$4:$C$553,MATCH(Databackup!A346,Employee_Name,0))))","v":""},{"$f":"IF(ISERROR(INDEX('Employee Data'!$D$4:$D$553,MATCH(Databackup!A346,Employee_Name,0),0)),\"\",(INDEX('Employee Data'!$D$4:$D$553,MATCH(Databackup!A346,Employee_Name,0))))","v":""},{"$f":"IF(ISERROR(INDEX('Employee Data'!$F$4:$F$553,MATCH(Databackup!A346,Employee_Name,0),0)),\"\",(INDEX('Employee Data'!$F$4:$F$553,MATCH(Databackup!A346,Employee_Name,0))))","v":""},{"$f":"IF(ISERROR(INDEX('Employee Data'!$G$4:$G$553,MATCH(Databackup!A346,Employee_Name,0),0)),\"\",(INDEX('Employee Data'!$G$4:$G$553,MATCH(Databackup!A346,Employee_Name,0))))","v":""},{"$f":"IF(ISERROR(INDEX('Employee Data'!$H$4:$H$553,MATCH(Databackup!A346,Employee_Name,0),0)),\"\",(INDEX('Employee Data'!$H$4:$H$553,MATCH(Databackup!A346,Employee_Name,0))))","v":""},{"$f":"IF(ISERROR(INDEX('Employee Data'!$I$4:$I$553,MATCH(Databackup!A346,Employee_Name,0),0)),\"\",(INDEX('Employee Data'!$I$4:$I$553,MATCH(Databackup!A346,Employee_Name,0))))","v":""},{"$f":"IF(ISERROR(INDEX('Employee Data'!$J$4:$J$553,MATCH(Databackup!A346,Employee_Name,0),0)),\"\",(INDEX('Employee Data'!J$4:$J$553,MATCH(Databackup!A346,Employee_Name,0))))","v":""},{"$f":"IF(ISERROR(INDEX('Employee Data'!$K$4:$K$553,MATCH(Databackup!A346,Employee_Name,0),0)),\"\",(INDEX('Employee Data'!$K$4:$K$553,MATCH(Databackup!A346,Employee_Name,0))))","v":""},{"$f":"IF(ISERROR(INDEX('Employee Data'!$L$4:$L$553,MATCH(Databackup!A346,Employee_Name,0),0)),\"\",(INDEX('Employee Data'!$L$4:$L$553,MATCH(Databackup!A346,Employee_Name,0))))","v":""},{"$f":"IF(ISERROR(INDEX('Employee Data'!$M$4:$M$553,MATCH(Databackup!A346,Employee_Name,0),0)),\"\",(INDEX('Employee Data'!$M$4:$M$553,MATCH(Databackup!A346,Employee_Name,0))))","v":""},{"$f":"IF(ISERROR(INDEX('Employee Data'!$N$4:$N$553,MATCH(Databackup!A346,Employee_Name,0),0)),\"\",(INDEX('Employee Data'!$N$4:$N$553,MATCH(Databackup!A346,Employee_Name,0))))","v":""},{"$f":"IF(ISERROR(INDEX('Employee Data'!$O$4:$O$553,MATCH(Databackup!A346,Employee_Name,0),0)),\"\",(INDEX('Employee Data'!$O$4:$O$553,MATCH(Databackup!A346,Employee_Name,0))))","v":""}]
[{"$f":"INDEX(Employee_Name,MATCH(SMALL(IF($A$1='Employee Data'!$I$4:$I$553,'Employee Data'!$B$4:$B$553,\"\"),ROW('Employee Data'!A345)),IF($A$1='Employee Data'!$I$4:$I$553,'Employee Data'!$B$4:$B$553,\"\"),0))","v":{"$error":"#NUM!"}},{"$f":"IF(ISERROR(INDEX('Employee Data'!$B$4:$B$553,MATCH(Databackup!A347,Employee_Name,0),0)),\"\",(INDEX('Employee Data'!$B$4:$B$553,MATCH(Databackup!A347,Employee_Name,0))))","v":""},{"$f":"IF(ISERROR(INDEX('Employee Data'!$C$4:$C$553,MATCH(Databackup!A347,Employee_Name,0),0)),\"\",(INDEX('Employee Data'!$C$4:$C$553,MATCH(Databackup!A347,Employee_Name,0))))","v":""},{"$f":"IF(ISERROR(INDEX('Employee Data'!$D$4:$D$553,MATCH(Databackup!A347,Employee_Name,0),0)),\"\",(INDEX('Employee Data'!$D$4:$D$553,MATCH(Databackup!A347,Employee_Name,0))))","v":""},{"$f":"IF(ISERROR(INDEX('Employee Data'!$F$4:$F$553,MATCH(Databackup!A347,Employee_Name,0),0)),\"\",(INDEX('Employee Data'!$F$4:$F$553,MATCH(Databackup!A347,Employee_Name,0))))","v":""},{"$f":"IF(ISERROR(INDEX('Employee Data'!$G$4:$G$553,MATCH(Databackup!A347,Employee_Name,0),0)),\"\",(INDEX('Employee Data'!$G$4:$G$553,MATCH(Databackup!A347,Employee_Name,0))))","v":""},{"$f":"IF(ISERROR(INDEX('Employee Data'!$H$4:$H$553,MATCH(Databackup!A347,Employee_Name,0),0)),\"\",(INDEX('Employee Data'!$H$4:$H$553,MATCH(Databackup!A347,Employee_Name,0))))","v":""},{"$f":"IF(ISERROR(INDEX('Employee Data'!$I$4:$I$553,MATCH(Databackup!A347,Employee_Name,0),0)),\"\",(INDEX('Employee Data'!$I$4:$I$553,MATCH(Databackup!A347,Employee_Name,0))))","v":""},{"$f":"IF(ISERROR(INDEX('Employee Data'!$J$4:$J$553,MATCH(Databackup!A347,Employee_Name,0),0)),\"\",(INDEX('Employee Data'!J$4:$J$553,MATCH(Databackup!A347,Employee_Name,0))))","v":""},{"$f":"IF(ISERROR(INDEX('Employee Data'!$K$4:$K$553,MATCH(Databackup!A347,Employee_Name,0),0)),\"\",(INDEX('Employee Data'!$K$4:$K$553,MATCH(Databackup!A347,Employee_Name,0))))","v":""},{"$f":"IF(ISERROR(INDEX('Employee Data'!$L$4:$L$553,MATCH(Databackup!A347,Employee_Name,0),0)),\"\",(INDEX('Employee Data'!$L$4:$L$553,MATCH(Databackup!A347,Employee_Name,0))))","v":""},{"$f":"IF(ISERROR(INDEX('Employee Data'!$M$4:$M$553,MATCH(Databackup!A347,Employee_Name,0),0)),\"\",(INDEX('Employee Data'!$M$4:$M$553,MATCH(Databackup!A347,Employee_Name,0))))","v":""},{"$f":"IF(ISERROR(INDEX('Employee Data'!$N$4:$N$553,MATCH(Databackup!A347,Employee_Name,0),0)),\"\",(INDEX('Employee Data'!$N$4:$N$553,MATCH(Databackup!A347,Employee_Name,0))))","v":""},{"$f":"IF(ISERROR(INDEX('Employee Data'!$O$4:$O$553,MATCH(Databackup!A347,Employee_Name,0),0)),\"\",(INDEX('Employee Data'!$O$4:$O$553,MATCH(Databackup!A347,Employee_Name,0))))","v":""}]
[{"$f":"INDEX(Employee_Name,MATCH(SMALL(IF($A$1='Employee Data'!$I$4:$I$553,'Employee Data'!$B$4:$B$553,\"\"),ROW('Employee Data'!A346)),IF($A$1='Employee Data'!$I$4:$I$553,'Employee Data'!$B$4:$B$553,\"\"),0))","v":{"$error":"#NUM!"}},{"$f":"IF(ISERROR(INDEX('Employee Data'!$B$4:$B$553,MATCH(Databackup!A348,Employee_Name,0),0)),\"\",(INDEX('Employee Data'!$B$4:$B$553,MATCH(Databackup!A348,Employee_Name,0))))","v":""},{"$f":"IF(ISERROR(INDEX('Employee Data'!$C$4:$C$553,MATCH(Databackup!A348,Employee_Name,0),0)),\"\",(INDEX('Employee Data'!$C$4:$C$553,MATCH(Databackup!A348,Employee_Name,0))))","v":""},{"$f":"IF(ISERROR(INDEX('Employee Data'!$D$4:$D$553,MATCH(Databackup!A348,Employee_Name,0),0)),\"\",(INDEX('Employee Data'!$D$4:$D$553,MATCH(Databackup!A348,Employee_Name,0))))","v":""},{"$f":"IF(ISERROR(INDEX('Employee Data'!$F$4:$F$553,MATCH(Databackup!A348,Employee_Name,0),0)),\"\",(INDEX('Employee Data'!$F$4:$F$553,MATCH(Databackup!A348,Employee_Name,0))))","v":""},{"$f":"IF(ISERROR(INDEX('Employee Data'!$G$4:$G$553,MATCH(Databackup!A348,Employee_Name,0),0)),\"\",(INDEX('Employee Data'!$G$4:$G$553,MATCH(Databackup!A348,Employee_Name,0))))","v":""},{"$f":"IF(ISERROR(INDEX('Employee Data'!$H$4:$H$553,MATCH(Databackup!A348,Employee_Name,0),0)),\"\",(INDEX('Employee Data'!$H$4:$H$553,MATCH(Databackup!A348,Employee_Name,0))))","v":""},{"$f":"IF(ISERROR(INDEX('Employee Data'!$I$4:$I$553,MATCH(Databackup!A348,Employee_Name,0),0)),\"\",(INDEX('Employee Data'!$I$4:$I$553,MATCH(Databackup!A348,Employee_Name,0))))","v":""},{"$f":"IF(ISERROR(INDEX('Employee Data'!$J$4:$J$553,MATCH(Databackup!A348,Employee_Name,0),0)),\"\",(INDEX('Employee Data'!J$4:$J$553,MATCH(Databackup!A348,Employee_Name,0))))","v":""},{"$f":"IF(ISERROR(INDEX('Employee Data'!$K$4:$K$553,MATCH(Databackup!A348,Employee_Name,0),0)),\"\",(INDEX('Employee Data'!$K$4:$K$553,MATCH(Databackup!A348,Employee_Name,0))))","v":""},{"$f":"IF(ISERROR(INDEX('Employee Data'!$L$4:$L$553,MATCH(Databackup!A348,Employee_Name,0),0)),\"\",(INDEX('Employee Data'!$L$4:$L$553,MATCH(Databackup!A348,Employee_Name,0))))","v":""},{"$f":"IF(ISERROR(INDEX('Employee Data'!$M$4:$M$553,MATCH(Databackup!A348,Employee_Name,0),0)),\"\",(INDEX('Employee Data'!$M$4:$M$553,MATCH(Databackup!A348,Employee_Name,0))))","v":""},{"$f":"IF(ISERROR(INDEX('Employee Data'!$N$4:$N$553,MATCH(Databackup!A348,Employee_Name,0),0)),\"\",(INDEX('Employee Data'!$N$4:$N$553,MATCH(Databackup!A348,Employee_Name,0))))","v":""},{"$f":"IF(ISERROR(INDEX('Employee Data'!$O$4:$O$553,MATCH(Databackup!A348,Employee_Name,0),0)),\"\",(INDEX('Employee Data'!$O$4:$O$553,MATCH(Databackup!A348,Employee_Name,0))))","v":""}]
[{"$f":"INDEX(Employee_Name,MATCH(SMALL(IF($A$1='Employee Data'!$I$4:$I$553,'Employee Data'!$B$4:$B$553,\"\"),ROW('Employee Data'!A347)),IF($A$1='Employee Data'!$I$4:$I$553,'Employee Data'!$B$4:$B$553,\"\"),0))","v":{"$error":"#NUM!"}},{"$f":"IF(ISERROR(INDEX('Employee Data'!$B$4:$B$553,MATCH(Databackup!A349,Employee_Name,0),0)),\"\",(INDEX('Employee Data'!$B$4:$B$553,MATCH(Databackup!A349,Employee_Name,0))))","v":""},{"$f":"IF(ISERROR(INDEX('Employee Data'!$C$4:$C$553,MATCH(Databackup!A349,Employee_Name,0),0)),\"\",(INDEX('Employee Data'!$C$4:$C$553,MATCH(Databackup!A349,Employee_Name,0))))","v":""},{"$f":"IF(ISERROR(INDEX('Employee Data'!$D$4:$D$553,MATCH(Databackup!A349,Employee_Name,0),0)),\"\",(INDEX('Employee Data'!$D$4:$D$553,MATCH(Databackup!A349,Employee_Name,0))))","v":""},{"$f":"IF(ISERROR(INDEX('Employee Data'!$F$4:$F$553,MATCH(Databackup!A349,Employee_Name,0),0)),\"\",(INDEX('Employee Data'!$F$4:$F$553,MATCH(Databackup!A349,Employee_Name,0))))","v":""},{"$f":"IF(ISERROR(INDEX('Employee Data'!$G$4:$G$553,MATCH(Databackup!A349,Employee_Name,0),0)),\"\",(INDEX('Employee Data'!$G$4:$G$553,MATCH(Databackup!A349,Employee_Name,0))))","v":""},{"$f":"IF(ISERROR(INDEX('Employee Data'!$H$4:$H$553,MATCH(Databackup!A349,Employee_Name,0),0)),\"\",(INDEX('Employee Data'!$H$4:$H$553,MATCH(Databackup!A349,Employee_Name,0))))","v":""},{"$f":"IF(ISERROR(INDEX('Employee Data'!$I$4:$I$553,MATCH(Databackup!A349,Employee_Name,0),0)),\"\",(INDEX('Employee Data'!$I$4:$I$553,MATCH(Databackup!A349,Employee_Name,0))))","v":""},{"$f":"IF(ISERROR(INDEX('Employee Data'!$J$4:$J$553,MATCH(Databackup!A349,Employee_Name,0),0)),\"\",(INDEX('Employee Data'!J$4:$J$553,MATCH(Databackup!A349,Employee_Name,0))))","v":""},{"$f":"IF(ISERROR(INDEX('Employee Data'!$K$4:$K$553,MATCH(Databackup!A349,Employee_Name,0),0)),\"\",(INDEX('Employee Data'!$K$4:$K$553,MATCH(Databackup!A349,Employee_Name,0))))","v":""},{"$f":"IF(ISERROR(INDEX('Employee Data'!$L$4:$L$553,MATCH(Databackup!A349,Employee_Name,0),0)),\"\",(INDEX('Employee Data'!$L$4:$L$553,MATCH(Databackup!A349,Employee_Name,0))))","v":""},{"$f":"IF(ISERROR(INDEX('Employee Data'!$M$4:$M$553,MATCH(Databackup!A349,Employee_Name,0),0)),\"\",(INDEX('Employee Data'!$M$4:$M$553,MATCH(Databackup!A349,Employee_Name,0))))","v":""},{"$f":"IF(ISERROR(INDEX('Employee Data'!$N$4:$N$553,MATCH(Databackup!A349,Employee_Name,0),0)),\"\",(INDEX('Employee Data'!$N$4:$N$553,MATCH(Databackup!A349,Employee_Name,0))))","v":""},{"$f":"IF(ISERROR(INDEX('Employee Data'!$O$4:$O$553,MATCH(Databackup!A349,Employee_Name,0),0)),\"\",(INDEX('Employee Data'!$O$4:$O$553,MATCH(Databackup!A349,Employee_Name,0))))","v":""}]
[{"$f":"INDEX(Employee_Name,MATCH(SMALL(IF($A$1='Employee Data'!$I$4:$I$553,'Employee Data'!$B$4:$B$553,\"\"),ROW('Employee Data'!A348)),IF($A$1='Employee Data'!$I$4:$I$553,'Employee Data'!$B$4:$B$553,\"\"),0))","v":{"$error":"#NUM!"}},{"$f":"IF(ISERROR(INDEX('Employee Data'!$B$4:$B$553,MATCH(Databackup!A350,Employee_Name,0),0)),\"\",(INDEX('Employee Data'!$B$4:$B$553,MATCH(Databackup!A350,Employee_Name,0))))","v":""},{"$f":"IF(ISERROR(INDEX('Employee Data'!$C$4:$C$553,MATCH(Databackup!A350,Employee_Name,0),0)),\"\",(INDEX('Employee Data'!$C$4:$C$553,MATCH(Databackup!A350,Employee_Name,0))))","v":""},{"$f":"IF(ISERROR(INDEX('Employee Data'!$D$4:$D$553,MATCH(Databackup!A350,Employee_Name,0),0)),\"\",(INDEX('Employee Data'!$D$4:$D$553,MATCH(Databackup!A350,Employee_Name,0))))","v":""},{"$f":"IF(ISERROR(INDEX('Employee Data'!$F$4:$F$553,MATCH(Databackup!A350,Employee_Name,0),0)),\"\",(INDEX('Employee Data'!$F$4:$F$553,MATCH(Databackup!A350,Employee_Name,0))))","v":""},{"$f":"IF(ISERROR(INDEX('Employee Data'!$G$4:$G$553,MATCH(Databackup!A350,Employee_Name,0),0)),\"\",(INDEX('Employee Data'!$G$4:$G$553,MATCH(Databackup!A350,Employee_Name,0))))","v":""},{"$f":"IF(ISERROR(INDEX('Employee Data'!$H$4:$H$553,MATCH(Databackup!A350,Employee_Name,0),0)),\"\",(INDEX('Employee Data'!$H$4:$H$553,MATCH(Databackup!A350,Employee_Name,0))))","v":""},{"$f":"IF(ISERROR(INDEX('Employee Data'!$I$4:$I$553,MATCH(Databackup!A350,Employee_Name,0),0)),\"\",(INDEX('Employee Data'!$I$4:$I$553,MATCH(Databackup!A350,Employee_Name,0))))","v":""},{"$f":"IF(ISERROR(INDEX('Employee Data'!$J$4:$J$553,MATCH(Databackup!A350,Employee_Name,0),0)),\"\",(INDEX('Employee Data'!J$4:$J$553,MATCH(Databackup!A350,Employee_Name,0))))","v":""},{"$f":"IF(ISERROR(INDEX('Employee Data'!$K$4:$K$553,MATCH(Databackup!A350,Employee_Name,0),0)),\"\",(INDEX('Employee Data'!$K$4:$K$553,MATCH(Databackup!A350,Employee_Name,0))))","v":""},{"$f":"IF(ISERROR(INDEX('Employee Data'!$L$4:$L$553,MATCH(Databackup!A350,Employee_Name,0),0)),\"\",(INDEX('Employee Data'!$L$4:$L$553,MATCH(Databackup!A350,Employee_Name,0))))","v":""},{"$f":"IF(ISERROR(INDEX('Employee Data'!$M$4:$M$553,MATCH(Databackup!A350,Employee_Name,0),0)),\"\",(INDEX('Employee Data'!$M$4:$M$553,MATCH(Databackup!A350,Employee_Name,0))))","v":""},{"$f":"IF(ISERROR(INDEX('Employee Data'!$N$4:$N$553,MATCH(Databackup!A350,Employee_Name,0),0)),\"\",(INDEX('Employee Data'!$N$4:$N$553,MATCH(Databackup!A350,Employee_Name,0))))","v":""},{"$f":"IF(ISERROR(INDEX('Employee Data'!$O$4:$O$553,MATCH(Databackup!A350,Employee_Name,0),0)),\"\",(INDEX('Employee Data'!$O$4:$O$553,MATCH(Databackup!A350,Employee_Name,0))))","v":""}]
[{"$f":"INDEX(Employee_Name,MATCH(SMALL(IF($A$1='Employee Data'!$I$4:$I$553,'Employee Data'!$B$4:$B$553,\"\"),ROW('Employee Data'!A349)),IF($A$1='Employee Data'!$I$4:$I$553,'Employee Data'!$B$4:$B$553,\"\"),0))","v":{"$error":"#NUM!"}},{"$f":"IF(ISERROR(INDEX('Employee Data'!$B$4:$B$553,MATCH(Databackup!A351,Employee_Name,0),0)),\"\",(INDEX('Employee Data'!$B$4:$B$553,MATCH(Databackup!A351,Employee_Name,0))))","v":""},{"$f":"IF(ISERROR(INDEX('Employee Data'!$C$4:$C$553,MATCH(Databackup!A351,Employee_Name,0),0)),\"\",(INDEX('Employee Data'!$C$4:$C$553,MATCH(Databackup!A351,Employee_Name,0))))","v":""},{"$f":"IF(ISERROR(INDEX('Employee Data'!$D$4:$D$553,MATCH(Databackup!A351,Employee_Name,0),0)),\"\",(INDEX('Employee Data'!$D$4:$D$553,MATCH(Databackup!A351,Employee_Name,0))))","v":""},{"$f":"IF(ISERROR(INDEX('Employee Data'!$F$4:$F$553,MATCH(Databackup!A351,Employee_Name,0),0)),\"\",(INDEX('Employee Data'!$F$4:$F$553,MATCH(Databackup!A351,Employee_Name,0))))","v":""},{"$f":"IF(ISERROR(INDEX('Employee Data'!$G$4:$G$553,MATCH(Databackup!A351,Employee_Name,0),0)),\"\",(INDEX('Employee Data'!$G$4:$G$553,MATCH(Databackup!A351,Employee_Name,0))))","v":""},{"$f":"IF(ISERROR(INDEX('Employee Data'!$H$4:$H$553,MATCH(Databackup!A351,Employee_Name,0),0)),\"\",(INDEX('Employee Data'!$H$4:$H$553,MATCH(Databackup!A351,Employee_Name,0))))","v":""},{"$f":"IF(ISERROR(INDEX('Employee Data'!$I$4:$I$553,MATCH(Databackup!A351,Employee_Name,0),0)),\"\",(INDEX('Employee Data'!$I$4:$I$553,MATCH(Databackup!A351,Employee_Name,0))))","v":""},{"$f":"IF(ISERROR(INDEX('Employee Data'!$J$4:$J$553,MATCH(Databackup!A351,Employee_Name,0),0)),\"\",(INDEX('Employee Data'!J$4:$J$553,MATCH(Databackup!A351,Employee_Name,0))))","v":""},{"$f":"IF(ISERROR(INDEX('Employee Data'!$K$4:$K$553,MATCH(Databackup!A351,Employee_Name,0),0)),\"\",(INDEX('Employee Data'!$K$4:$K$553,MATCH(Databackup!A351,Employee_Name,0))))","v":""},{"$f":"IF(ISERROR(INDEX('Employee Data'!$L$4:$L$553,MATCH(Databackup!A351,Employee_Name,0),0)),\"\",(INDEX('Employee Data'!$L$4:$L$553,MATCH(Databackup!A351,Employee_Name,0))))","v":""},{"$f":"IF(ISERROR(INDEX('Employee Data'!$M$4:$M$553,MATCH(Databackup!A351,Employee_Name,0),0)),\"\",(INDEX('Employee Data'!$M$4:$M$553,MATCH(Databackup!A351,Employee_Name,0))))","v":""},{"$f":"IF(ISERROR(INDEX('Employee Data'!$N$4:$N$553,MATCH(Databackup!A351,Employee_Name,0),0)),\"\",(INDEX('Employee Data'!$N$4:$N$553,MATCH(Databackup!A351,Employee_Name,0))))","v":""},{"$f":"IF(ISERROR(INDEX('Employee Data'!$O$4:$O$553,MATCH(Databackup!A351,Employee_Name,0),0)),\"\",(INDEX('Employee Data'!$O$4:$O$553,MATCH(Databackup!A351,Employee_Name,0))))","v":""}]
[{"$f":"INDEX(Employee_Name,MATCH(SMALL(IF($A$1='Employee Data'!$I$4:$I$553,'Employee Data'!$B$4:$B$553,\"\"),ROW('Employee Data'!A350)),IF($A$1='Employee Data'!$I$4:$I$553,'Employee Data'!$B$4:$B$553,\"\"),0))","v":{"$error":"#NUM!"}},{"$f":"IF(ISERROR(INDEX('Employee Data'!$B$4:$B$553,MATCH(Databackup!A352,Employee_Name,0),0)),\"\",(INDEX('Employee Data'!$B$4:$B$553,MATCH(Databackup!A352,Employee_Name,0))))","v":""},{"$f":"IF(ISERROR(INDEX('Employee Data'!$C$4:$C$553,MATCH(Databackup!A352,Employee_Name,0),0)),\"\",(INDEX('Employee Data'!$C$4:$C$553,MATCH(Databackup!A352,Employee_Name,0))))","v":""},{"$f":"IF(ISERROR(INDEX('Employee Data'!$D$4:$D$553,MATCH(Databackup!A352,Employee_Name,0),0)),\"\",(INDEX('Employee Data'!$D$4:$D$553,MATCH(Databackup!A352,Employee_Name,0))))","v":""},{"$f":"IF(ISERROR(INDEX('Employee Data'!$F$4:$F$553,MATCH(Databackup!A352,Employee_Name,0),0)),\"\",(INDEX('Employee Data'!$F$4:$F$553,MATCH(Databackup!A352,Employee_Name,0))))","v":""},{"$f":"IF(ISERROR(INDEX('Employee Data'!$G$4:$G$553,MATCH(Databackup!A352,Employee_Name,0),0)),\"\",(INDEX('Employee Data'!$G$4:$G$553,MATCH(Databackup!A352,Employee_Name,0))))","v":""},{"$f":"IF(ISERROR(INDEX('Employee Data'!$H$4:$H$553,MATCH(Databackup!A352,Employee_Name,0),0)),\"\",(INDEX('Employee Data'!$H$4:$H$553,MATCH(Databackup!A352,Employee_Name,0))))","v":""},{"$f":"IF(ISERROR(INDEX('Employee Data'!$I$4:$I$553,MATCH(Databackup!A352,Employee_Name,0),0)),\"\",(INDEX('Employee Data'!$I$4:$I$553,MATCH(Databackup!A352,Employee_Name,0))))","v":""},{"$f":"IF(ISERROR(INDEX('Employee Data'!$J$4:$J$553,MATCH(Databackup!A352,Employee_Name,0),0)),\"\",(INDEX('Employee Data'!J$4:$J$553,MATCH(Databackup!A352,Employee_Name,0))))","v":""},{"$f":"IF(ISERROR(INDEX('Employee Data'!$K$4:$K$553,MATCH(Databackup!A352,Employee_Name,0),0)),\"\",(INDEX('Employee Data'!$K$4:$K$553,MATCH(Databackup!A352,Employee_Name,0))))","v":""},{"$f":"IF(ISERROR(INDEX('Employee Data'!$L$4:$L$553,MATCH(Databackup!A352,Employee_Name,0),0)),\"\",(INDEX('Employee Data'!$L$4:$L$553,MATCH(Databackup!A352,Employee_Name,0))))","v":""},{"$f":"IF(ISERROR(INDEX('Employee Data'!$M$4:$M$553,MATCH(Databackup!A352,Employee_Name,0),0)),\"\",(INDEX('Employee Data'!$M$4:$M$553,MATCH(Databackup!A352,Employee_Name,0))))","v":""},{"$f":"IF(ISERROR(INDEX('Employee Data'!$N$4:$N$553,MATCH(Databackup!A352,Employee_Name,0),0)),\"\",(INDEX('Employee Data'!$N$4:$N$553,MATCH(Databackup!A352,Employee_Name,0))))","v":""},{"$f":"IF(ISERROR(INDEX('Employee Data'!$O$4:$O$553,MATCH(Databackup!A352,Employee_Name,0),0)),\"\",(INDEX('Employee Data'!$O$4:$O$553,MATCH(Databackup!A352,Employee_Name,0))))","v":""}]
[{"$f":"INDEX(Employee_Name,MATCH(SMALL(IF($A$1='Employee Data'!$I$4:$I$553,'Employee Data'!$B$4:$B$553,\"\"),ROW('Employee Data'!A351)),IF($A$1='Employee Data'!$I$4:$I$553,'Employee Data'!$B$4:$B$553,\"\"),0))","v":{"$error":"#NUM!"}},{"$f":"IF(ISERROR(INDEX('Employee Data'!$B$4:$B$553,MATCH(Databackup!A353,Employee_Name,0),0)),\"\",(INDEX('Employee Data'!$B$4:$B$553,MATCH(Databackup!A353,Employee_Name,0))))","v":""},{"$f":"IF(ISERROR(INDEX('Employee Data'!$C$4:$C$553,MATCH(Databackup!A353,Employee_Name,0),0)),\"\",(INDEX('Employee Data'!$C$4:$C$553,MATCH(Databackup!A353,Employee_Name,0))))","v":""},{"$f":"IF(ISERROR(INDEX('Employee Data'!$D$4:$D$553,MATCH(Databackup!A353,Employee_Name,0),0)),\"\",(INDEX('Employee Data'!$D$4:$D$553,MATCH(Databackup!A353,Employee_Name,0))))","v":""},{"$f":"IF(ISERROR(INDEX('Employee Data'!$F$4:$F$553,MATCH(Databackup!A353,Employee_Name,0),0)),\"\",(INDEX('Employee Data'!$F$4:$F$553,MATCH(Databackup!A353,Employee_Name,0))))","v":""},{"$f":"IF(ISERROR(INDEX('Employee Data'!$G$4:$G$553,MATCH(Databackup!A353,Employee_Name,0),0)),\"\",(INDEX('Employee Data'!$G$4:$G$553,MATCH(Databackup!A353,Employee_Name,0))))","v":""},{"$f":"IF(ISERROR(INDEX('Employee Data'!$H$4:$H$553,MATCH(Databackup!A353,Employee_Name,0),0)),\"\",(INDEX('Employee Data'!$H$4:$H$553,MATCH(Databackup!A353,Employee_Name,0))))","v":""},{"$f":"IF(ISERROR(INDEX('Employee Data'!$I$4:$I$553,MATCH(Databackup!A353,Employee_Name,0),0)),\"\",(INDEX('Employee Data'!$I$4:$I$553,MATCH(Databackup!A353,Employee_Name,0))))","v":""},{"$f":"IF(ISERROR(INDEX('Employee Data'!$J$4:$J$553,MATCH(Databackup!A353,Employee_Name,0),0)),\"\",(INDEX('Employee Data'!J$4:$J$553,MATCH(Databackup!A353,Employee_Name,0))))","v":""},{"$f":"IF(ISERROR(INDEX('Employee Data'!$K$4:$K$553,MATCH(Databackup!A353,Employee_Name,0),0)),\"\",(INDEX('Employee Data'!$K$4:$K$553,MATCH(Databackup!A353,Employee_Name,0))))","v":""},{"$f":"IF(ISERROR(INDEX('Employee Data'!$L$4:$L$553,MATCH(Databackup!A353,Employee_Name,0),0)),\"\",(INDEX('Employee Data'!$L$4:$L$553,MATCH(Databackup!A353,Employee_Name,0))))","v":""},{"$f":"IF(ISERROR(INDEX('Employee Data'!$M$4:$M$553,MATCH(Databackup!A353,Employee_Name,0),0)),\"\",(INDEX('Employee Data'!$M$4:$M$553,MATCH(Databackup!A353,Employee_Name,0))))","v":""},{"$f":"IF(ISERROR(INDEX('Employee Data'!$N$4:$N$553,MATCH(Databackup!A353,Employee_Name,0),0)),\"\",(INDEX('Employee Data'!$N$4:$N$553,MATCH(Databackup!A353,Employee_Name,0))))","v":""},{"$f":"IF(ISERROR(INDEX('Employee Data'!$O$4:$O$553,MATCH(Databackup!A353,Employee_Name,0),0)),\"\",(INDEX('Employee Data'!$O$4:$O$553,MATCH(Databackup!A353,Employee_Name,0))))","v":""}]
[{"$f":"INDEX(Employee_Name,MATCH(SMALL(IF($A$1='Employee Data'!$I$4:$I$553,'Employee Data'!$B$4:$B$553,\"\"),ROW('Employee Data'!A352)),IF($A$1='Employee Data'!$I$4:$I$553,'Employee Data'!$B$4:$B$553,\"\"),0))","v":{"$error":"#NUM!"}},{"$f":"IF(ISERROR(INDEX('Employee Data'!$B$4:$B$553,MATCH(Databackup!A354,Employee_Name,0),0)),\"\",(INDEX('Employee Data'!$B$4:$B$553,MATCH(Databackup!A354,Employee_Name,0))))","v":""},{"$f":"IF(ISERROR(INDEX('Employee Data'!$C$4:$C$553,MATCH(Databackup!A354,Employee_Name,0),0)),\"\",(INDEX('Employee Data'!$C$4:$C$553,MATCH(Databackup!A354,Employee_Name,0))))","v":""},{"$f":"IF(ISERROR(INDEX('Employee Data'!$D$4:$D$553,MATCH(Databackup!A354,Employee_Name,0),0)),\"\",(INDEX('Employee Data'!$D$4:$D$553,MATCH(Databackup!A354,Employee_Name,0))))","v":""},{"$f":"IF(ISERROR(INDEX('Employee Data'!$F$4:$F$553,MATCH(Databackup!A354,Employee_Name,0),0)),\"\",(INDEX('Employee Data'!$F$4:$F$553,MATCH(Databackup!A354,Employee_Name,0))))","v":""},{"$f":"IF(ISERROR(INDEX('Employee Data'!$G$4:$G$553,MATCH(Databackup!A354,Employee_Name,0),0)),\"\",(INDEX('Employee Data'!$G$4:$G$553,MATCH(Databackup!A354,Employee_Name,0))))","v":""},{"$f":"IF(ISERROR(INDEX('Employee Data'!$H$4:$H$553,MATCH(Databackup!A354,Employee_Name,0),0)),\"\",(INDEX('Employee Data'!$H$4:$H$553,MATCH(Databackup!A354,Employee_Name,0))))","v":""},{"$f":"IF(ISERROR(INDEX('Employee Data'!$I$4:$I$553,MATCH(Databackup!A354,Employee_Name,0),0)),\"\",(INDEX('Employee Data'!$I$4:$I$553,MATCH(Databackup!A354,Employee_Name,0))))","v":""},{"$f":"IF(ISERROR(INDEX('Employee Data'!$J$4:$J$553,MATCH(Databackup!A354,Employee_Name,0),0)),\"\",(INDEX('Employee Data'!J$4:$J$553,MATCH(Databackup!A354,Employee_Name,0))))","v":""},{"$f":"IF(ISERROR(INDEX('Employee Data'!$K$4:$K$553,MATCH(Databackup!A354,Employee_Name,0),0)),\"\",(INDEX('Employee Data'!$K$4:$K$553,MATCH(Databackup!A354,Employee_Name,0))))","v":""},{"$f":"IF(ISERROR(INDEX('Employee Data'!$L$4:$L$553,MATCH(Databackup!A354,Employee_Name,0),0)),\"\",(INDEX('Employee Data'!$L$4:$L$553,MATCH(Databackup!A354,Employee_Name,0))))","v":""},{"$f":"IF(ISERROR(INDEX('Employee Data'!$M$4:$M$553,MATCH(Databackup!A354,Employee_Name,0),0)),\"\",(INDEX('Employee Data'!$M$4:$M$553,MATCH(Databackup!A354,Employee_Name,0))))","v":""},{"$f":"IF(ISERROR(INDEX('Employee Data'!$N$4:$N$553,MATCH(Databackup!A354,Employee_Name,0),0)),\"\",(INDEX('Employee Data'!$N$4:$N$553,MATCH(Databackup!A354,Employee_Name,0))))","v":""},{"$f":"IF(ISERROR(INDEX('Employee Data'!$O$4:$O$553,MATCH(Databackup!A354,Employee_Name,0),0)),\"\",(INDEX('Employee Data'!$O$4:$O$553,MATCH(Databackup!A354,Employee_Name,0))))","v":""}]
[{"$f":"INDEX(Employee_Name,MATCH(SMALL(IF($A$1='Employee Data'!$I$4:$I$553,'Employee Data'!$B$4:$B$553,\"\"),ROW('Employee Data'!A353)),IF($A$1='Employee Data'!$I$4:$I$553,'Employee Data'!$B$4:$B$553,\"\"),0))","v":{"$error":"#NUM!"}},{"$f":"IF(ISERROR(INDEX('Employee Data'!$B$4:$B$553,MATCH(Databackup!A355,Employee_Name,0),0)),\"\",(INDEX('Employee Data'!$B$4:$B$553,MATCH(Databackup!A355,Employee_Name,0))))","v":""},{"$f":"IF(ISERROR(INDEX('Employee Data'!$C$4:$C$553,MATCH(Databackup!A355,Employee_Name,0),0)),\"\",(INDEX('Employee Data'!$C$4:$C$553,MATCH(Databackup!A355,Employee_Name,0))))","v":""},{"$f":"IF(ISERROR(INDEX('Employee Data'!$D$4:$D$553,MATCH(Databackup!A355,Employee_Name,0),0)),\"\",(INDEX('Employee Data'!$D$4:$D$553,MATCH(Databackup!A355,Employee_Name,0))))","v":""},{"$f":"IF(ISERROR(INDEX('Employee Data'!$F$4:$F$553,MATCH(Databackup!A355,Employee_Name,0),0)),\"\",(INDEX('Employee Data'!$F$4:$F$553,MATCH(Databackup!A355,Employee_Name,0))))","v":""},{"$f":"IF(ISERROR(INDEX('Employee Data'!$G$4:$G$553,MATCH(Databackup!A355,Employee_Name,0),0)),\"\",(INDEX('Employee Data'!$G$4:$G$553,MATCH(Databackup!A355,Employee_Name,0))))","v":""},{"$f":"IF(ISERROR(INDEX('Employee Data'!$H$4:$H$553,MATCH(Databackup!A355,Employee_Name,0),0)),\"\",(INDEX('Employee Data'!$H$4:$H$553,MATCH(Databackup!A355,Employee_Name,0))))","v":""},{"$f":"IF(ISERROR(INDEX('Employee Data'!$I$4:$I$553,MATCH(Databackup!A355,Employee_Name,0),0)),\"\",(INDEX('Employee Data'!$I$4:$I$553,MATCH(Databackup!A355,Employee_Name,0))))","v":""},{"$f":"IF(ISERROR(INDEX('Employee Data'!$J$4:$J$553,MATCH(Databackup!A355,Employee_Name,0),0)),\"\",(INDEX('Employee Data'!J$4:$J$553,MATCH(Databackup!A355,Employee_Name,0))))","v":""},{"$f":"IF(ISERROR(INDEX('Employee Data'!$K$4:$K$553,MATCH(Databackup!A355,Employee_Name,0),0)),\"\",(INDEX('Employee Data'!$K$4:$K$553,MATCH(Databackup!A355,Employee_Name,0))))","v":""},{"$f":"IF(ISERROR(INDEX('Employee Data'!$L$4:$L$553,MATCH(Databackup!A355,Employee_Name,0),0)),\"\",(INDEX('Employee Data'!$L$4:$L$553,MATCH(Databackup!A355,Employee_Name,0))))","v":""},{"$f":"IF(ISERROR(INDEX('Employee Data'!$M$4:$M$553,MATCH(Databackup!A355,Employee_Name,0),0)),\"\",(INDEX('Employee Data'!$M$4:$M$553,MATCH(Databackup!A355,Employee_Name,0))))","v":""},{"$f":"IF(ISERROR(INDEX('Employee Data'!$N$4:$N$553,MATCH(Databackup!A355,Employee_Name,0),0)),\"\",(INDEX('Employee Data'!$N$4:$N$553,MATCH(Databackup!A355,Employee_Name,0))))","v":""},{"$f":"IF(ISERROR(INDEX('Employee Data'!$O$4:$O$553,MATCH(Databackup!A355,Employee_Name,0),0)),\"\",(INDEX('Employee Data'!$O$4:$O$553,MATCH(Databackup!A355,Employee_Name,0))))","v":""}]
[{"$f":"INDEX(Employee_Name,MATCH(SMALL(IF($A$1='Employee Data'!$I$4:$I$553,'Employee Data'!$B$4:$B$553,\"\"),ROW('Employee Data'!A354)),IF($A$1='Employee Data'!$I$4:$I$553,'Employee Data'!$B$4:$B$553,\"\"),0))","v":{"$error":"#NUM!"}},{"$f":"IF(ISERROR(INDEX('Employee Data'!$B$4:$B$553,MATCH(Databackup!A356,Employee_Name,0),0)),\"\",(INDEX('Employee Data'!$B$4:$B$553,MATCH(Databackup!A356,Employee_Name,0))))","v":""},{"$f":"IF(ISERROR(INDEX('Employee Data'!$C$4:$C$553,MATCH(Databackup!A356,Employee_Name,0),0)),\"\",(INDEX('Employee Data'!$C$4:$C$553,MATCH(Databackup!A356,Employee_Name,0))))","v":""},{"$f":"IF(ISERROR(INDEX('Employee Data'!$D$4:$D$553,MATCH(Databackup!A356,Employee_Name,0),0)),\"\",(INDEX('Employee Data'!$D$4:$D$553,MATCH(Databackup!A356,Employee_Name,0))))","v":""},{"$f":"IF(ISERROR(INDEX('Employee Data'!$F$4:$F$553,MATCH(Databackup!A356,Employee_Name,0),0)),\"\",(INDEX('Employee Data'!$F$4:$F$553,MATCH(Databackup!A356,Employee_Name,0))))","v":""},{"$f":"IF(ISERROR(INDEX('Employee Data'!$G$4:$G$553,MATCH(Databackup!A356,Employee_Name,0),0)),\"\",(INDEX('Employee Data'!$G$4:$G$553,MATCH(Databackup!A356,Employee_Name,0))))","v":""},{"$f":"IF(ISERROR(INDEX('Employee Data'!$H$4:$H$553,MATCH(Databackup!A356,Employee_Name,0),0)),\"\",(INDEX('Employee Data'!$H$4:$H$553,MATCH(Databackup!A356,Employee_Name,0))))","v":""},{"$f":"IF(ISERROR(INDEX('Employee Data'!$I$4:$I$553,MATCH(Databackup!A356,Employee_Name,0),0)),\"\",(INDEX('Employee Data'!$I$4:$I$553,MATCH(Databackup!A356,Employee_Name,0))))","v":""},{"$f":"IF(ISERROR(INDEX('Employee Data'!$J$4:$J$553,MATCH(Databackup!A356,Employee_Name,0),0)),\"\",(INDEX('Employee Data'!J$4:$J$553,MATCH(Databackup!A356,Employee_Name,0))))","v":""},{"$f":"IF(ISERROR(INDEX('Employee Data'!$K$4:$K$553,MATCH(Databackup!A356,Employee_Name,0),0)),\"\",(INDEX('Employee Data'!$K$4:$K$553,MATCH(Databackup!A356,Employee_Name,0))))","v":""},{"$f":"IF(ISERROR(INDEX('Employee Data'!$L$4:$L$553,MATCH(Databackup!A356,Employee_Name,0),0)),\"\",(INDEX('Employee Data'!$L$4:$L$553,MATCH(Databackup!A356,Employee_Name,0))))","v":""},{"$f":"IF(ISERROR(INDEX('Employee Data'!$M$4:$M$553,MATCH(Databackup!A356,Employee_Name,0),0)),\"\",(INDEX('Employee Data'!$M$4:$M$553,MATCH(Databackup!A356,Employee_Name,0))))","v":""},{"$f":"IF(ISERROR(INDEX('Employee Data'!$N$4:$N$553,MATCH(Databackup!A356,Employee_Name,0),0)),\"\",(INDEX('Employee Data'!$N$4:$N$553,MATCH(Databackup!A356,Employee_Name,0))))","v":""},{"$f":"IF(ISERROR(INDEX('Employee Data'!$O$4:$O$553,MATCH(Databackup!A356,Employee_Name,0),0)),\"\",(INDEX('Employee Data'!$O$4:$O$553,MATCH(Databackup!A356,Employee_Name,0))))","v":""}]
[{"$f":"INDEX(Employee_Name,MATCH(SMALL(IF($A$1='Employee Data'!$I$4:$I$553,'Employee Data'!$B$4:$B$553,\"\"),ROW('Employee Data'!A355)),IF($A$1='Employee Data'!$I$4:$I$553,'Employee Data'!$B$4:$B$553,\"\"),0))","v":{"$error":"#NUM!"}},{"$f":"IF(ISERROR(INDEX('Employee Data'!$B$4:$B$553,MATCH(Databackup!A357,Employee_Name,0),0)),\"\",(INDEX('Employee Data'!$B$4:$B$553,MATCH(Databackup!A357,Employee_Name,0))))","v":""},{"$f":"IF(ISERROR(INDEX('Employee Data'!$C$4:$C$553,MATCH(Databackup!A357,Employee_Name,0),0)),\"\",(INDEX('Employee Data'!$C$4:$C$553,MATCH(Databackup!A357,Employee_Name,0))))","v":""},{"$f":"IF(ISERROR(INDEX('Employee Data'!$D$4:$D$553,MATCH(Databackup!A357,Employee_Name,0),0)),\"\",(INDEX('Employee Data'!$D$4:$D$553,MATCH(Databackup!A357,Employee_Name,0))))","v":""},{"$f":"IF(ISERROR(INDEX('Employee Data'!$F$4:$F$553,MATCH(Databackup!A357,Employee_Name,0),0)),\"\",(INDEX('Employee Data'!$F$4:$F$553,MATCH(Databackup!A357,Employee_Name,0))))","v":""},{"$f":"IF(ISERROR(INDEX('Employee Data'!$G$4:$G$553,MATCH(Databackup!A357,Employee_Name,0),0)),\"\",(INDEX('Employee Data'!$G$4:$G$553,MATCH(Databackup!A357,Employee_Name,0))))","v":""},{"$f":"IF(ISERROR(INDEX('Employee Data'!$H$4:$H$553,MATCH(Databackup!A357,Employee_Name,0),0)),\"\",(INDEX('Employee Data'!$H$4:$H$553,MATCH(Databackup!A357,Employee_Name,0))))","v":""},{"$f":"IF(ISERROR(INDEX('Employee Data'!$I$4:$I$553,MATCH(Databackup!A357,Employee_Name,0),0)),\"\",(INDEX('Employee Data'!$I$4:$I$553,MATCH(Databackup!A357,Employee_Name,0))))","v":""},{"$f":"IF(ISERROR(INDEX('Employee Data'!$J$4:$J$553,MATCH(Databackup!A357,Employee_Name,0),0)),\"\",(INDEX('Employee Data'!J$4:$J$553,MATCH(Databackup!A357,Employee_Name,0))))","v":""},{"$f":"IF(ISERROR(INDEX('Employee Data'!$K$4:$K$553,MATCH(Databackup!A357,Employee_Name,0),0)),\"\",(INDEX('Employee Data'!$K$4:$K$553,MATCH(Databackup!A357,Employee_Name,0))))","v":""},{"$f":"IF(ISERROR(INDEX('Employee Data'!$L$4:$L$553,MATCH(Databackup!A357,Employee_Name,0),0)),\"\",(INDEX('Employee Data'!$L$4:$L$553,MATCH(Databackup!A357,Employee_Name,0))))","v":""},{"$f":"IF(ISERROR(INDEX('Employee Data'!$M$4:$M$553,MATCH(Databackup!A357,Employee_Name,0),0)),\"\",(INDEX('Employee Data'!$M$4:$M$553,MATCH(Databackup!A357,Employee_Name,0))))","v":""},{"$f":"IF(ISERROR(INDEX('Employee Data'!$N$4:$N$553,MATCH(Databackup!A357,Employee_Name,0),0)),\"\",(INDEX('Employee Data'!$N$4:$N$553,MATCH(Databackup!A357,Employee_Name,0))))","v":""},{"$f":"IF(ISERROR(INDEX('Employee Data'!$O$4:$O$553,MATCH(Databackup!A357,Employee_Name,0),0)),\"\",(INDEX('Employee Data'!$O$4:$O$553,MATCH(Databackup!A357,Employee_Name,0))))","v":""}]
[{"$f":"INDEX(Employee_Name,MATCH(SMALL(IF($A$1='Employee Data'!$I$4:$I$553,'Employee Data'!$B$4:$B$553,\"\"),ROW('Employee Data'!A356)),IF($A$1='Employee Data'!$I$4:$I$553,'Employee Data'!$B$4:$B$553,\"\"),0))","v":{"$error":"#NUM!"}},{"$f":"IF(ISERROR(INDEX('Employee Data'!$B$4:$B$553,MATCH(Databackup!A358,Employee_Name,0),0)),\"\",(INDEX('Employee Data'!$B$4:$B$553,MATCH(Databackup!A358,Employee_Name,0))))","v":""},{"$f":"IF(ISERROR(INDEX('Employee Data'!$C$4:$C$553,MATCH(Databackup!A358,Employee_Name,0),0)),\"\",(INDEX('Employee Data'!$C$4:$C$553,MATCH(Databackup!A358,Employee_Name,0))))","v":""},{"$f":"IF(ISERROR(INDEX('Employee Data'!$D$4:$D$553,MATCH(Databackup!A358,Employee_Name,0),0)),\"\",(INDEX('Employee Data'!$D$4:$D$553,MATCH(Databackup!A358,Employee_Name,0))))","v":""},{"$f":"IF(ISERROR(INDEX('Employee Data'!$F$4:$F$553,MATCH(Databackup!A358,Employee_Name,0),0)),\"\",(INDEX('Employee Data'!$F$4:$F$553,MATCH(Databackup!A358,Employee_Name,0))))","v":""},{"$f":"IF(ISERROR(INDEX('Employee Data'!$G$4:$G$553,MATCH(Databackup!A358,Employee_Name,0),0)),\"\",(INDEX('Employee Data'!$G$4:$G$553,MATCH(Databackup!A358,Employee_Name,0))))","v":""},{"$f":"IF(ISERROR(INDEX('Employee Data'!$H$4:$H$553,MATCH(Databackup!A358,Employee_Name,0),0)),\"\",(INDEX('Employee Data'!$H$4:$H$553,MATCH(Databackup!A358,Employee_Name,0))))","v":""},{"$f":"IF(ISERROR(INDEX('Employee Data'!$I$4:$I$553,MATCH(Databackup!A358,Employee_Name,0),0)),\"\",(INDEX('Employee Data'!$I$4:$I$553,MATCH(Databackup!A358,Employee_Name,0))))","v":""},{"$f":"IF(ISERROR(INDEX('Employee Data'!$J$4:$J$553,MATCH(Databackup!A358,Employee_Name,0),0)),\"\",(INDEX('Employee Data'!J$4:$J$553,MATCH(Databackup!A358,Employee_Name,0))))","v":""},{"$f":"IF(ISERROR(INDEX('Employee Data'!$K$4:$K$553,MATCH(Databackup!A358,Employee_Name,0),0)),\"\",(INDEX('Employee Data'!$K$4:$K$553,MATCH(Databackup!A358,Employee_Name,0))))","v":""},{"$f":"IF(ISERROR(INDEX('Employee Data'!$L$4:$L$553,MATCH(Databackup!A358,Employee_Name,0),0)),\"\",(INDEX('Employee Data'!$L$4:$L$553,MATCH(Databackup!A358,Employee_Name,0))))","v":""},{"$f":"IF(ISERROR(INDEX('Employee Data'!$M$4:$M$553,MATCH(Databackup!A358,Employee_Name,0),0)),\"\",(INDEX('Employee Data'!$M$4:$M$553,MATCH(Databackup!A358,Employee_Name,0))))","v":""},{"$f":"IF(ISERROR(INDEX('Employee Data'!$N$4:$N$553,MATCH(Databackup!A358,Employee_Name,0),0)),\"\",(INDEX('Employee Data'!$N$4:$N$553,MATCH(Databackup!A358,Employee_Name,0))))","v":""},{"$f":"IF(ISERROR(INDEX('Employee Data'!$O$4:$O$553,MATCH(Databackup!A358,Employee_Name,0),0)),\"\",(INDEX('Employee Data'!$O$4:$O$553,MATCH(Databackup!A358,Employee_Name,0))))","v":""}]
[{"$f":"INDEX(Employee_Name,MATCH(SMALL(IF($A$1='Employee Data'!$I$4:$I$553,'Employee Data'!$B$4:$B$553,\"\"),ROW('Employee Data'!A357)),IF($A$1='Employee Data'!$I$4:$I$553,'Employee Data'!$B$4:$B$553,\"\"),0))","v":{"$error":"#NUM!"}},{"$f":"IF(ISERROR(INDEX('Employee Data'!$B$4:$B$553,MATCH(Databackup!A359,Employee_Name,0),0)),\"\",(INDEX('Employee Data'!$B$4:$B$553,MATCH(Databackup!A359,Employee_Name,0))))","v":""},{"$f":"IF(ISERROR(INDEX('Employee Data'!$C$4:$C$553,MATCH(Databackup!A359,Employee_Name,0),0)),\"\",(INDEX('Employee Data'!$C$4:$C$553,MATCH(Databackup!A359,Employee_Name,0))))","v":""},{"$f":"IF(ISERROR(INDEX('Employee Data'!$D$4:$D$553,MATCH(Databackup!A359,Employee_Name,0),0)),\"\",(INDEX('Employee Data'!$D$4:$D$553,MATCH(Databackup!A359,Employee_Name,0))))","v":""},{"$f":"IF(ISERROR(INDEX('Employee Data'!$F$4:$F$553,MATCH(Databackup!A359,Employee_Name,0),0)),\"\",(INDEX('Employee Data'!$F$4:$F$553,MATCH(Databackup!A359,Employee_Name,0))))","v":""},{"$f":"IF(ISERROR(INDEX('Employee Data'!$G$4:$G$553,MATCH(Databackup!A359,Employee_Name,0),0)),\"\",(INDEX('Employee Data'!$G$4:$G$553,MATCH(Databackup!A359,Employee_Name,0))))","v":""},{"$f":"IF(ISERROR(INDEX('Employee Data'!$H$4:$H$553,MATCH(Databackup!A359,Employee_Name,0),0)),\"\",(INDEX('Employee Data'!$H$4:$H$553,MATCH(Databackup!A359,Employee_Name,0))))","v":""},{"$f":"IF(ISERROR(INDEX('Employee Data'!$I$4:$I$553,MATCH(Databackup!A359,Employee_Name,0),0)),\"\",(INDEX('Employee Data'!$I$4:$I$553,MATCH(Databackup!A359,Employee_Name,0))))","v":""},{"$f":"IF(ISERROR(INDEX('Employee Data'!$J$4:$J$553,MATCH(Databackup!A359,Employee_Name,0),0)),\"\",(INDEX('Employee Data'!J$4:$J$553,MATCH(Databackup!A359,Employee_Name,0))))","v":""},{"$f":"IF(ISERROR(INDEX('Employee Data'!$K$4:$K$553,MATCH(Databackup!A359,Employee_Name,0),0)),\"\",(INDEX('Employee Data'!$K$4:$K$553,MATCH(Databackup!A359,Employee_Name,0))))","v":""},{"$f":"IF(ISERROR(INDEX('Employee Data'!$L$4:$L$553,MATCH(Databackup!A359,Employee_Name,0),0)),\"\",(INDEX('Employee Data'!$L$4:$L$553,MATCH(Databackup!A359,Employee_Name,0))))","v":""},{"$f":"IF(ISERROR(INDEX('Employee Data'!$M$4:$M$553,MATCH(Databackup!A359,Employee_Name,0),0)),\"\",(INDEX('Employee Data'!$M$4:$M$553,MATCH(Databackup!A359,Employee_Name,0))))","v":""},{"$f":"IF(ISERROR(INDEX('Employee Data'!$N$4:$N$553,MATCH(Databackup!A359,Employee_Name,0),0)),\"\",(INDEX('Employee Data'!$N$4:$N$553,MATCH(Databackup!A359,Employee_Name,0))))","v":""},{"$f":"IF(ISERROR(INDEX('Employee Data'!$O$4:$O$553,MATCH(Databackup!A359,Employee_Name,0),0)),\"\",(INDEX('Employee Data'!$O$4:$O$553,MATCH(Databackup!A359,Employee_Name,0))))","v":""}]
[{"$f":"INDEX(Employee_Name,MATCH(SMALL(IF($A$1='Employee Data'!$I$4:$I$553,'Employee Data'!$B$4:$B$553,\"\"),ROW('Employee Data'!A358)),IF($A$1='Employee Data'!$I$4:$I$553,'Employee Data'!$B$4:$B$553,\"\"),0))","v":{"$error":"#NUM!"}},{"$f":"IF(ISERROR(INDEX('Employee Data'!$B$4:$B$553,MATCH(Databackup!A360,Employee_Name,0),0)),\"\",(INDEX('Employee Data'!$B$4:$B$553,MATCH(Databackup!A360,Employee_Name,0))))","v":""},{"$f":"IF(ISERROR(INDEX('Employee Data'!$C$4:$C$553,MATCH(Databackup!A360,Employee_Name,0),0)),\"\",(INDEX('Employee Data'!$C$4:$C$553,MATCH(Databackup!A360,Employee_Name,0))))","v":""},{"$f":"IF(ISERROR(INDEX('Employee Data'!$D$4:$D$553,MATCH(Databackup!A360,Employee_Name,0),0)),\"\",(INDEX('Employee Data'!$D$4:$D$553,MATCH(Databackup!A360,Employee_Name,0))))","v":""},{"$f":"IF(ISERROR(INDEX('Employee Data'!$F$4:$F$553,MATCH(Databackup!A360,Employee_Name,0),0)),\"\",(INDEX('Employee Data'!$F$4:$F$553,MATCH(Databackup!A360,Employee_Name,0))))","v":""},{"$f":"IF(ISERROR(INDEX('Employee Data'!$G$4:$G$553,MATCH(Databackup!A360,Employee_Name,0),0)),\"\",(INDEX('Employee Data'!$G$4:$G$553,MATCH(Databackup!A360,Employee_Name,0))))","v":""},{"$f":"IF(ISERROR(INDEX('Employee Data'!$H$4:$H$553,MATCH(Databackup!A360,Employee_Name,0),0)),\"\",(INDEX('Employee Data'!$H$4:$H$553,MATCH(Databackup!A360,Employee_Name,0))))","v":""},{"$f":"IF(ISERROR(INDEX('Employee Data'!$I$4:$I$553,MATCH(Databackup!A360,Employee_Name,0),0)),\"\",(INDEX('Employee Data'!$I$4:$I$553,MATCH(Databackup!A360,Employee_Name,0))))","v":""},{"$f":"IF(ISERROR(INDEX('Employee Data'!$J$4:$J$553,MATCH(Databackup!A360,Employee_Name,0),0)),\"\",(INDEX('Employee Data'!J$4:$J$553,MATCH(Databackup!A360,Employee_Name,0))))","v":""},{"$f":"IF(ISERROR(INDEX('Employee Data'!$K$4:$K$553,MATCH(Databackup!A360,Employee_Name,0),0)),\"\",(INDEX('Employee Data'!$K$4:$K$553,MATCH(Databackup!A360,Employee_Name,0))))","v":""},{"$f":"IF(ISERROR(INDEX('Employee Data'!$L$4:$L$553,MATCH(Databackup!A360,Employee_Name,0),0)),\"\",(INDEX('Employee Data'!$L$4:$L$553,MATCH(Databackup!A360,Employee_Name,0))))","v":""},{"$f":"IF(ISERROR(INDEX('Employee Data'!$M$4:$M$553,MATCH(Databackup!A360,Employee_Name,0),0)),\"\",(INDEX('Employee Data'!$M$4:$M$553,MATCH(Databackup!A360,Employee_Name,0))))","v":""},{"$f":"IF(ISERROR(INDEX('Employee Data'!$N$4:$N$553,MATCH(Databackup!A360,Employee_Name,0),0)),\"\",(INDEX('Employee Data'!$N$4:$N$553,MATCH(Databackup!A360,Employee_Name,0))))","v":""},{"$f":"IF(ISERROR(INDEX('Employee Data'!$O$4:$O$553,MATCH(Databackup!A360,Employee_Name,0),0)),\"\",(INDEX('Employee Data'!$O$4:$O$553,MATCH(Databackup!A360,Employee_Name,0))))","v":""}]
[{"$f":"INDEX(Employee_Name,MATCH(SMALL(IF($A$1='Employee Data'!$I$4:$I$553,'Employee Data'!$B$4:$B$553,\"\"),ROW('Employee Data'!A359)),IF($A$1='Employee Data'!$I$4:$I$553,'Employee Data'!$B$4:$B$553,\"\"),0))","v":{"$error":"#NUM!"}},{"$f":"IF(ISERROR(INDEX('Employee Data'!$B$4:$B$553,MATCH(Databackup!A361,Employee_Name,0),0)),\"\",(INDEX('Employee Data'!$B$4:$B$553,MATCH(Databackup!A361,Employee_Name,0))))","v":""},{"$f":"IF(ISERROR(INDEX('Employee Data'!$C$4:$C$553,MATCH(Databackup!A361,Employee_Name,0),0)),\"\",(INDEX('Employee Data'!$C$4:$C$553,MATCH(Databackup!A361,Employee_Name,0))))","v":""},{"$f":"IF(ISERROR(INDEX('Employee Data'!$D$4:$D$553,MATCH(Databackup!A361,Employee_Name,0),0)),\"\",(INDEX('Employee Data'!$D$4:$D$553,MATCH(Databackup!A361,Employee_Name,0))))","v":""},{"$f":"IF(ISERROR(INDEX('Employee Data'!$F$4:$F$553,MATCH(Databackup!A361,Employee_Name,0),0)),\"\",(INDEX('Employee Data'!$F$4:$F$553,MATCH(Databackup!A361,Employee_Name,0))))","v":""},{"$f":"IF(ISERROR(INDEX('Employee Data'!$G$4:$G$553,MATCH(Databackup!A361,Employee_Name,0),0)),\"\",(INDEX('Employee Data'!$G$4:$G$553,MATCH(Databackup!A361,Employee_Name,0))))","v":""},{"$f":"IF(ISERROR(INDEX('Employee Data'!$H$4:$H$553,MATCH(Databackup!A361,Employee_Name,0),0)),\"\",(INDEX('Employee Data'!$H$4:$H$553,MATCH(Databackup!A361,Employee_Name,0))))","v":""},{"$f":"IF(ISERROR(INDEX('Employee Data'!$I$4:$I$553,MATCH(Databackup!A361,Employee_Name,0),0)),\"\",(INDEX('Employee Data'!$I$4:$I$553,MATCH(Databackup!A361,Employee_Name,0))))","v":""},{"$f":"IF(ISERROR(INDEX('Employee Data'!$J$4:$J$553,MATCH(Databackup!A361,Employee_Name,0),0)),\"\",(INDEX('Employee Data'!J$4:$J$553,MATCH(Databackup!A361,Employee_Name,0))))","v":""},{"$f":"IF(ISERROR(INDEX('Employee Data'!$K$4:$K$553,MATCH(Databackup!A361,Employee_Name,0),0)),\"\",(INDEX('Employee Data'!$K$4:$K$553,MATCH(Databackup!A361,Employee_Name,0))))","v":""},{"$f":"IF(ISERROR(INDEX('Employee Data'!$L$4:$L$553,MATCH(Databackup!A361,Employee_Name,0),0)),\"\",(INDEX('Employee Data'!$L$4:$L$553,MATCH(Databackup!A361,Employee_Name,0))))","v":""},{"$f":"IF(ISERROR(INDEX('Employee Data'!$M$4:$M$553,MATCH(Databackup!A361,Employee_Name,0),0)),\"\",(INDEX('Employee Data'!$M$4:$M$553,MATCH(Databackup!A361,Employee_Name,0))))","v":""},{"$f":"IF(ISERROR(INDEX('Employee Data'!$N$4:$N$553,MATCH(Databackup!A361,Employee_Name,0),0)),\"\",(INDEX('Employee Data'!$N$4:$N$553,MATCH(Databackup!A361,Employee_Name,0))))","v":""},{"$f":"IF(ISERROR(INDEX('Employee Data'!$O$4:$O$553,MATCH(Databackup!A361,Employee_Name,0),0)),\"\",(INDEX('Employee Data'!$O$4:$O$553,MATCH(Databackup!A361,Employee_Name,0))))","v":""}]
[{"$f":"INDEX(Employee_Name,MATCH(SMALL(IF($A$1='Employee Data'!$I$4:$I$553,'Employee Data'!$B$4:$B$553,\"\"),ROW('Employee Data'!A360)),IF($A$1='Employee Data'!$I$4:$I$553,'Employee Data'!$B$4:$B$553,\"\"),0))","v":{"$error":"#NUM!"}},{"$f":"IF(ISERROR(INDEX('Employee Data'!$B$4:$B$553,MATCH(Databackup!A362,Employee_Name,0),0)),\"\",(INDEX('Employee Data'!$B$4:$B$553,MATCH(Databackup!A362,Employee_Name,0))))","v":""},{"$f":"IF(ISERROR(INDEX('Employee Data'!$C$4:$C$553,MATCH(Databackup!A362,Employee_Name,0),0)),\"\",(INDEX('Employee Data'!$C$4:$C$553,MATCH(Databackup!A362,Employee_Name,0))))","v":""},{"$f":"IF(ISERROR(INDEX('Employee Data'!$D$4:$D$553,MATCH(Databackup!A362,Employee_Name,0),0)),\"\",(INDEX('Employee Data'!$D$4:$D$553,MATCH(Databackup!A362,Employee_Name,0))))","v":""},{"$f":"IF(ISERROR(INDEX('Employee Data'!$F$4:$F$553,MATCH(Databackup!A362,Employee_Name,0),0)),\"\",(INDEX('Employee Data'!$F$4:$F$553,MATCH(Databackup!A362,Employee_Name,0))))","v":""},{"$f":"IF(ISERROR(INDEX('Employee Data'!$G$4:$G$553,MATCH(Databackup!A362,Employee_Name,0),0)),\"\",(INDEX('Employee Data'!$G$4:$G$553,MATCH(Databackup!A362,Employee_Name,0))))","v":""},{"$f":"IF(ISERROR(INDEX('Employee Data'!$H$4:$H$553,MATCH(Databackup!A362,Employee_Name,0),0)),\"\",(INDEX('Employee Data'!$H$4:$H$553,MATCH(Databackup!A362,Employee_Name,0))))","v":""},{"$f":"IF(ISERROR(INDEX('Employee Data'!$I$4:$I$553,MATCH(Databackup!A362,Employee_Name,0),0)),\"\",(INDEX('Employee Data'!$I$4:$I$553,MATCH(Databackup!A362,Employee_Name,0))))","v":""},{"$f":"IF(ISERROR(INDEX('Employee Data'!$J$4:$J$553,MATCH(Databackup!A362,Employee_Name,0),0)),\"\",(INDEX('Employee Data'!J$4:$J$553,MATCH(Databackup!A362,Employee_Name,0))))","v":""},{"$f":"IF(ISERROR(INDEX('Employee Data'!$K$4:$K$553,MATCH(Databackup!A362,Employee_Name,0),0)),\"\",(INDEX('Employee Data'!$K$4:$K$553,MATCH(Databackup!A362,Employee_Name,0))))","v":""},{"$f":"IF(ISERROR(INDEX('Employee Data'!$L$4:$L$553,MATCH(Databackup!A362,Employee_Name,0),0)),\"\",(INDEX('Employee Data'!$L$4:$L$553,MATCH(Databackup!A362,Employee_Name,0))))","v":""},{"$f":"IF(ISERROR(INDEX('Employee Data'!$M$4:$M$553,MATCH(Databackup!A362,Employee_Name,0),0)),\"\",(INDEX('Employee Data'!$M$4:$M$553,MATCH(Databackup!A362,Employee_Name,0))))","v":""},{"$f":"IF(ISERROR(INDEX('Employee Data'!$N$4:$N$553,MATCH(Databackup!A362,Employee_Name,0),0)),\"\",(INDEX('Employee Data'!$N$4:$N$553,MATCH(Databackup!A362,Employee_Name,0))))","v":""},{"$f":"IF(ISERROR(INDEX('Employee Data'!$O$4:$O$553,MATCH(Databackup!A362,Employee_Name,0),0)),\"\",(INDEX('Employee Data'!$O$4:$O$553,MATCH(Databackup!A362,Employee_Name,0))))","v":""}]
[{"$f":"INDEX(Employee_Name,MATCH(SMALL(IF($A$1='Employee Data'!$I$4:$I$553,'Employee Data'!$B$4:$B$553,\"\"),ROW('Employee Data'!A361)),IF($A$1='Employee Data'!$I$4:$I$553,'Employee Data'!$B$4:$B$553,\"\"),0))","v":{"$error":"#NUM!"}},{"$f":"IF(ISERROR(INDEX('Employee Data'!$B$4:$B$553,MATCH(Databackup!A363,Employee_Name,0),0)),\"\",(INDEX('Employee Data'!$B$4:$B$553,MATCH(Databackup!A363,Employee_Name,0))))","v":""},{"$f":"IF(ISERROR(INDEX('Employee Data'!$C$4:$C$553,MATCH(Databackup!A363,Employee_Name,0),0)),\"\",(INDEX('Employee Data'!$C$4:$C$553,MATCH(Databackup!A363,Employee_Name,0))))","v":""},{"$f":"IF(ISERROR(INDEX('Employee Data'!$D$4:$D$553,MATCH(Databackup!A363,Employee_Name,0),0)),\"\",(INDEX('Employee Data'!$D$4:$D$553,MATCH(Databackup!A363,Employee_Name,0))))","v":""},{"$f":"IF(ISERROR(INDEX('Employee Data'!$F$4:$F$553,MATCH(Databackup!A363,Employee_Name,0),0)),\"\",(INDEX('Employee Data'!$F$4:$F$553,MATCH(Databackup!A363,Employee_Name,0))))","v":""},{"$f":"IF(ISERROR(INDEX('Employee Data'!$G$4:$G$553,MATCH(Databackup!A363,Employee_Name,0),0)),\"\",(INDEX('Employee Data'!$G$4:$G$553,MATCH(Databackup!A363,Employee_Name,0))))","v":""},{"$f":"IF(ISERROR(INDEX('Employee Data'!$H$4:$H$553,MATCH(Databackup!A363,Employee_Name,0),0)),\"\",(INDEX('Employee Data'!$H$4:$H$553,MATCH(Databackup!A363,Employee_Name,0))))","v":""},{"$f":"IF(ISERROR(INDEX('Employee Data'!$I$4:$I$553,MATCH(Databackup!A363,Employee_Name,0),0)),\"\",(INDEX('Employee Data'!$I$4:$I$553,MATCH(Databackup!A363,Employee_Name,0))))","v":""},{"$f":"IF(ISERROR(INDEX('Employee Data'!$J$4:$J$553,MATCH(Databackup!A363,Employee_Name,0),0)),\"\",(INDEX('Employee Data'!J$4:$J$553,MATCH(Databackup!A363,Employee_Name,0))))","v":""},{"$f":"IF(ISERROR(INDEX('Employee Data'!$K$4:$K$553,MATCH(Databackup!A363,Employee_Name,0),0)),\"\",(INDEX('Employee Data'!$K$4:$K$553,MATCH(Databackup!A363,Employee_Name,0))))","v":""},{"$f":"IF(ISERROR(INDEX('Employee Data'!$L$4:$L$553,MATCH(Databackup!A363,Employee_Name,0),0)),\"\",(INDEX('Employee Data'!$L$4:$L$553,MATCH(Databackup!A363,Employee_Name,0))))","v":""},{"$f":"IF(ISERROR(INDEX('Employee Data'!$M$4:$M$553,MATCH(Databackup!A363,Employee_Name,0),0)),\"\",(INDEX('Employee Data'!$M$4:$M$553,MATCH(Databackup!A363,Employee_Name,0))))","v":""},{"$f":"IF(ISERROR(INDEX('Employee Data'!$N$4:$N$553,MATCH(Databackup!A363,Employee_Name,0),0)),\"\",(INDEX('Employee Data'!$N$4:$N$553,MATCH(Databackup!A363,Employee_Name,0))))","v":""},{"$f":"IF(ISERROR(INDEX('Employee Data'!$O$4:$O$553,MATCH(Databackup!A363,Employee_Name,0),0)),\"\",(INDEX('Employee Data'!$O$4:$O$553,MATCH(Databackup!A363,Employee_Name,0))))","v":""}]
[{"$f":"INDEX(Employee_Name,MATCH(SMALL(IF($A$1='Employee Data'!$I$4:$I$553,'Employee Data'!$B$4:$B$553,\"\"),ROW('Employee Data'!A362)),IF($A$1='Employee Data'!$I$4:$I$553,'Employee Data'!$B$4:$B$553,\"\"),0))","v":{"$error":"#NUM!"}},{"$f":"IF(ISERROR(INDEX('Employee Data'!$B$4:$B$553,MATCH(Databackup!A364,Employee_Name,0),0)),\"\",(INDEX('Employee Data'!$B$4:$B$553,MATCH(Databackup!A364,Employee_Name,0))))","v":""},{"$f":"IF(ISERROR(INDEX('Employee Data'!$C$4:$C$553,MATCH(Databackup!A364,Employee_Name,0),0)),\"\",(INDEX('Employee Data'!$C$4:$C$553,MATCH(Databackup!A364,Employee_Name,0))))","v":""},{"$f":"IF(ISERROR(INDEX('Employee Data'!$D$4:$D$553,MATCH(Databackup!A364,Employee_Name,0),0)),\"\",(INDEX('Employee Data'!$D$4:$D$553,MATCH(Databackup!A364,Employee_Name,0))))","v":""},{"$f":"IF(ISERROR(INDEX('Employee Data'!$F$4:$F$553,MATCH(Databackup!A364,Employee_Name,0),0)),\"\",(INDEX('Employee Data'!$F$4:$F$553,MATCH(Databackup!A364,Employee_Name,0))))","v":""},{"$f":"IF(ISERROR(INDEX('Employee Data'!$G$4:$G$553,MATCH(Databackup!A364,Employee_Name,0),0)),\"\",(INDEX('Employee Data'!$G$4:$G$553,MATCH(Databackup!A364,Employee_Name,0))))","v":""},{"$f":"IF(ISERROR(INDEX('Employee Data'!$H$4:$H$553,MATCH(Databackup!A364,Employee_Name,0),0)),\"\",(INDEX('Employee Data'!$H$4:$H$553,MATCH(Databackup!A364,Employee_Name,0))))","v":""},{"$f":"IF(ISERROR(INDEX('Employee Data'!$I$4:$I$553,MATCH(Databackup!A364,Employee_Name,0),0)),\"\",(INDEX('Employee Data'!$I$4:$I$553,MATCH(Databackup!A364,Employee_Name,0))))","v":""},{"$f":"IF(ISERROR(INDEX('Employee Data'!$J$4:$J$553,MATCH(Databackup!A364,Employee_Name,0),0)),\"\",(INDEX('Employee Data'!J$4:$J$553,MATCH(Databackup!A364,Employee_Name,0))))","v":""},{"$f":"IF(ISERROR(INDEX('Employee Data'!$K$4:$K$553,MATCH(Databackup!A364,Employee_Name,0),0)),\"\",(INDEX('Employee Data'!$K$4:$K$553,MATCH(Databackup!A364,Employee_Name,0))))","v":""},{"$f":"IF(ISERROR(INDEX('Employee Data'!$L$4:$L$553,MATCH(Databackup!A364,Employee_Name,0),0)),\"\",(INDEX('Employee Data'!$L$4:$L$553,MATCH(Databackup!A364,Employee_Name,0))))","v":""},{"$f":"IF(ISERROR(INDEX('Employee Data'!$M$4:$M$553,MATCH(Databackup!A364,Employee_Name,0),0)),\"\",(INDEX('Employee Data'!$M$4:$M$553,MATCH(Databackup!A364,Employee_Name,0))))","v":""},{"$f":"IF(ISERROR(INDEX('Employee Data'!$N$4:$N$553,MATCH(Databackup!A364,Employee_Name,0),0)),\"\",(INDEX('Employee Data'!$N$4:$N$553,MATCH(Databackup!A364,Employee_Name,0))))","v":""},{"$f":"IF(ISERROR(INDEX('Employee Data'!$O$4:$O$553,MATCH(Databackup!A364,Employee_Name,0),0)),\"\",(INDEX('Employee Data'!$O$4:$O$553,MATCH(Databackup!A364,Employee_Name,0))))","v":""}]
[{"$f":"INDEX(Employee_Name,MATCH(SMALL(IF($A$1='Employee Data'!$I$4:$I$553,'Employee Data'!$B$4:$B$553,\"\"),ROW('Employee Data'!A363)),IF($A$1='Employee Data'!$I$4:$I$553,'Employee Data'!$B$4:$B$553,\"\"),0))","v":{"$error":"#NUM!"}},{"$f":"IF(ISERROR(INDEX('Employee Data'!$B$4:$B$553,MATCH(Databackup!A365,Employee_Name,0),0)),\"\",(INDEX('Employee Data'!$B$4:$B$553,MATCH(Databackup!A365,Employee_Name,0))))","v":""},{"$f":"IF(ISERROR(INDEX('Employee Data'!$C$4:$C$553,MATCH(Databackup!A365,Employee_Name,0),0)),\"\",(INDEX('Employee Data'!$C$4:$C$553,MATCH(Databackup!A365,Employee_Name,0))))","v":""},{"$f":"IF(ISERROR(INDEX('Employee Data'!$D$4:$D$553,MATCH(Databackup!A365,Employee_Name,0),0)),\"\",(INDEX('Employee Data'!$D$4:$D$553,MATCH(Databackup!A365,Employee_Name,0))))","v":""},{"$f":"IF(ISERROR(INDEX('Employee Data'!$F$4:$F$553,MATCH(Databackup!A365,Employee_Name,0),0)),\"\",(INDEX('Employee Data'!$F$4:$F$553,MATCH(Databackup!A365,Employee_Name,0))))","v":""},{"$f":"IF(ISERROR(INDEX('Employee Data'!$G$4:$G$553,MATCH(Databackup!A365,Employee_Name,0),0)),\"\",(INDEX('Employee Data'!$G$4:$G$553,MATCH(Databackup!A365,Employee_Name,0))))","v":""},{"$f":"IF(ISERROR(INDEX('Employee Data'!$H$4:$H$553,MATCH(Databackup!A365,Employee_Name,0),0)),\"\",(INDEX('Employee Data'!$H$4:$H$553,MATCH(Databackup!A365,Employee_Name,0))))","v":""},{"$f":"IF(ISERROR(INDEX('Employee Data'!$I$4:$I$553,MATCH(Databackup!A365,Employee_Name,0),0)),\"\",(INDEX('Employee Data'!$I$4:$I$553,MATCH(Databackup!A365,Employee_Name,0))))","v":""},{"$f":"IF(ISERROR(INDEX('Employee Data'!$J$4:$J$553,MATCH(Databackup!A365,Employee_Name,0),0)),\"\",(INDEX('Employee Data'!J$4:$J$553,MATCH(Databackup!A365,Employee_Name,0))))","v":""},{"$f":"IF(ISERROR(INDEX('Employee Data'!$K$4:$K$553,MATCH(Databackup!A365,Employee_Name,0),0)),\"\",(INDEX('Employee Data'!$K$4:$K$553,MATCH(Databackup!A365,Employee_Name,0))))","v":""},{"$f":"IF(ISERROR(INDEX('Employee Data'!$L$4:$L$553,MATCH(Databackup!A365,Employee_Name,0),0)),\"\",(INDEX('Employee Data'!$L$4:$L$553,MATCH(Databackup!A365,Employee_Name,0))))","v":""},{"$f":"IF(ISERROR(INDEX('Employee Data'!$M$4:$M$553,MATCH(Databackup!A365,Employee_Name,0),0)),\"\",(INDEX('Employee Data'!$M$4:$M$553,MATCH(Databackup!A365,Employee_Name,0))))","v":""},{"$f":"IF(ISERROR(INDEX('Employee Data'!$N$4:$N$553,MATCH(Databackup!A365,Employee_Name,0),0)),\"\",(INDEX('Employee Data'!$N$4:$N$553,MATCH(Databackup!A365,Employee_Name,0))))","v":""},{"$f":"IF(ISERROR(INDEX('Employee Data'!$O$4:$O$553,MATCH(Databackup!A365,Employee_Name,0),0)),\"\",(INDEX('Employee Data'!$O$4:$O$553,MATCH(Databackup!A365,Employee_Name,0))))","v":""}]
[{"$f":"INDEX(Employee_Name,MATCH(SMALL(IF($A$1='Employee Data'!$I$4:$I$553,'Employee Data'!$B$4:$B$553,\"\"),ROW('Employee Data'!A364)),IF($A$1='Employee Data'!$I$4:$I$553,'Employee Data'!$B$4:$B$553,\"\"),0))","v":{"$error":"#NUM!"}},{"$f":"IF(ISERROR(INDEX('Employee Data'!$B$4:$B$553,MATCH(Databackup!A366,Employee_Name,0),0)),\"\",(INDEX('Employee Data'!$B$4:$B$553,MATCH(Databackup!A366,Employee_Name,0))))","v":""},{"$f":"IF(ISERROR(INDEX('Employee Data'!$C$4:$C$553,MATCH(Databackup!A366,Employee_Name,0),0)),\"\",(INDEX('Employee Data'!$C$4:$C$553,MATCH(Databackup!A366,Employee_Name,0))))","v":""},{"$f":"IF(ISERROR(INDEX('Employee Data'!$D$4:$D$553,MATCH(Databackup!A366,Employee_Name,0),0)),\"\",(INDEX('Employee Data'!$D$4:$D$553,MATCH(Databackup!A366,Employee_Name,0))))","v":""},{"$f":"IF(ISERROR(INDEX('Employee Data'!$F$4:$F$553,MATCH(Databackup!A366,Employee_Name,0),0)),\"\",(INDEX('Employee Data'!$F$4:$F$553,MATCH(Databackup!A366,Employee_Name,0))))","v":""},{"$f":"IF(ISERROR(INDEX('Employee Data'!$G$4:$G$553,MATCH(Databackup!A366,Employee_Name,0),0)),\"\",(INDEX('Employee Data'!$G$4:$G$553,MATCH(Databackup!A366,Employee_Name,0))))","v":""},{"$f":"IF(ISERROR(INDEX('Employee Data'!$H$4:$H$553,MATCH(Databackup!A366,Employee_Name,0),0)),\"\",(INDEX('Employee Data'!$H$4:$H$553,MATCH(Databackup!A366,Employee_Name,0))))","v":""},{"$f":"IF(ISERROR(INDEX('Employee Data'!$I$4:$I$553,MATCH(Databackup!A366,Employee_Name,0),0)),\"\",(INDEX('Employee Data'!$I$4:$I$553,MATCH(Databackup!A366,Employee_Name,0))))","v":""},{"$f":"IF(ISERROR(INDEX('Employee Data'!$J$4:$J$553,MATCH(Databackup!A366,Employee_Name,0),0)),\"\",(INDEX('Employee Data'!J$4:$J$553,MATCH(Databackup!A366,Employee_Name,0))))","v":""},{"$f":"IF(ISERROR(INDEX('Employee Data'!$K$4:$K$553,MATCH(Databackup!A366,Employee_Name,0),0)),\"\",(INDEX('Employee Data'!$K$4:$K$553,MATCH(Databackup!A366,Employee_Name,0))))","v":""},{"$f":"IF(ISERROR(INDEX('Employee Data'!$L$4:$L$553,MATCH(Databackup!A366,Employee_Name,0),0)),\"\",(INDEX('Employee Data'!$L$4:$L$553,MATCH(Databackup!A366,Employee_Name,0))))","v":""},{"$f":"IF(ISERROR(INDEX('Employee Data'!$M$4:$M$553,MATCH(Databackup!A366,Employee_Name,0),0)),\"\",(INDEX('Employee Data'!$M$4:$M$553,MATCH(Databackup!A366,Employee_Name,0))))","v":""},{"$f":"IF(ISERROR(INDEX('Employee Data'!$N$4:$N$553,MATCH(Databackup!A366,Employee_Name,0),0)),\"\",(INDEX('Employee Data'!$N$4:$N$553,MATCH(Databackup!A366,Employee_Name,0))))","v":""},{"$f":"IF(ISERROR(INDEX('Employee Data'!$O$4:$O$553,MATCH(Databackup!A366,Employee_Name,0),0)),\"\",(INDEX('Employee Data'!$O$4:$O$553,MATCH(Databackup!A366,Employee_Name,0))))","v":""}]
[{"$f":"INDEX(Employee_Name,MATCH(SMALL(IF($A$1='Employee Data'!$I$4:$I$553,'Employee Data'!$B$4:$B$553,\"\"),ROW('Employee Data'!A365)),IF($A$1='Employee Data'!$I$4:$I$553,'Employee Data'!$B$4:$B$553,\"\"),0))","v":{"$error":"#NUM!"}},{"$f":"IF(ISERROR(INDEX('Employee Data'!$B$4:$B$553,MATCH(Databackup!A367,Employee_Name,0),0)),\"\",(INDEX('Employee Data'!$B$4:$B$553,MATCH(Databackup!A367,Employee_Name,0))))","v":""},{"$f":"IF(ISERROR(INDEX('Employee Data'!$C$4:$C$553,MATCH(Databackup!A367,Employee_Name,0),0)),\"\",(INDEX('Employee Data'!$C$4:$C$553,MATCH(Databackup!A367,Employee_Name,0))))","v":""},{"$f":"IF(ISERROR(INDEX('Employee Data'!$D$4:$D$553,MATCH(Databackup!A367,Employee_Name,0),0)),\"\",(INDEX('Employee Data'!$D$4:$D$553,MATCH(Databackup!A367,Employee_Name,0))))","v":""},{"$f":"IF(ISERROR(INDEX('Employee Data'!$F$4:$F$553,MATCH(Databackup!A367,Employee_Name,0),0)),\"\",(INDEX('Employee Data'!$F$4:$F$553,MATCH(Databackup!A367,Employee_Name,0))))","v":""},{"$f":"IF(ISERROR(INDEX('Employee Data'!$G$4:$G$553,MATCH(Databackup!A367,Employee_Name,0),0)),\"\",(INDEX('Employee Data'!$G$4:$G$553,MATCH(Databackup!A367,Employee_Name,0))))","v":""},{"$f":"IF(ISERROR(INDEX('Employee Data'!$H$4:$H$553,MATCH(Databackup!A367,Employee_Name,0),0)),\"\",(INDEX('Employee Data'!$H$4:$H$553,MATCH(Databackup!A367,Employee_Name,0))))","v":""},{"$f":"IF(ISERROR(INDEX('Employee Data'!$I$4:$I$553,MATCH(Databackup!A367,Employee_Name,0),0)),\"\",(INDEX('Employee Data'!$I$4:$I$553,MATCH(Databackup!A367,Employee_Name,0))))","v":""},{"$f":"IF(ISERROR(INDEX('Employee Data'!$J$4:$J$553,MATCH(Databackup!A367,Employee_Name,0),0)),\"\",(INDEX('Employee Data'!J$4:$J$553,MATCH(Databackup!A367,Employee_Name,0))))","v":""},{"$f":"IF(ISERROR(INDEX('Employee Data'!$K$4:$K$553,MATCH(Databackup!A367,Employee_Name,0),0)),\"\",(INDEX('Employee Data'!$K$4:$K$553,MATCH(Databackup!A367,Employee_Name,0))))","v":""},{"$f":"IF(ISERROR(INDEX('Employee Data'!$L$4:$L$553,MATCH(Databackup!A367,Employee_Name,0),0)),\"\",(INDEX('Employee Data'!$L$4:$L$553,MATCH(Databackup!A367,Employee_Name,0))))","v":""},{"$f":"IF(ISERROR(INDEX('Employee Data'!$M$4:$M$553,MATCH(Databackup!A367,Employee_Name,0),0)),\"\",(INDEX('Employee Data'!$M$4:$M$553,MATCH(Databackup!A367,Employee_Name,0))))","v":""},{"$f":"IF(ISERROR(INDEX('Employee Data'!$N$4:$N$553,MATCH(Databackup!A367,Employee_Name,0),0)),\"\",(INDEX('Employee Data'!$N$4:$N$553,MATCH(Databackup!A367,Employee_Name,0))))","v":""},{"$f":"IF(ISERROR(INDEX('Employee Data'!$O$4:$O$553,MATCH(Databackup!A367,Employee_Name,0),0)),\"\",(INDEX('Employee Data'!$O$4:$O$553,MATCH(Databackup!A367,Employee_Name,0))))","v":""}]
[{"$f":"INDEX(Employee_Name,MATCH(SMALL(IF($A$1='Employee Data'!$I$4:$I$553,'Employee Data'!$B$4:$B$553,\"\"),ROW('Employee Data'!A366)),IF($A$1='Employee Data'!$I$4:$I$553,'Employee Data'!$B$4:$B$553,\"\"),0))","v":{"$error":"#NUM!"}},{"$f":"IF(ISERROR(INDEX('Employee Data'!$B$4:$B$553,MATCH(Databackup!A368,Employee_Name,0),0)),\"\",(INDEX('Employee Data'!$B$4:$B$553,MATCH(Databackup!A368,Employee_Name,0))))","v":""},{"$f":"IF(ISERROR(INDEX('Employee Data'!$C$4:$C$553,MATCH(Databackup!A368,Employee_Name,0),0)),\"\",(INDEX('Employee Data'!$C$4:$C$553,MATCH(Databackup!A368,Employee_Name,0))))","v":""},{"$f":"IF(ISERROR(INDEX('Employee Data'!$D$4:$D$553,MATCH(Databackup!A368,Employee_Name,0),0)),\"\",(INDEX('Employee Data'!$D$4:$D$553,MATCH(Databackup!A368,Employee_Name,0))))","v":""},{"$f":"IF(ISERROR(INDEX('Employee Data'!$F$4:$F$553,MATCH(Databackup!A368,Employee_Name,0),0)),\"\",(INDEX('Employee Data'!$F$4:$F$553,MATCH(Databackup!A368,Employee_Name,0))))","v":""},{"$f":"IF(ISERROR(INDEX('Employee Data'!$G$4:$G$553,MATCH(Databackup!A368,Employee_Name,0),0)),\"\",(INDEX('Employee Data'!$G$4:$G$553,MATCH(Databackup!A368,Employee_Name,0))))","v":""},{"$f":"IF(ISERROR(INDEX('Employee Data'!$H$4:$H$553,MATCH(Databackup!A368,Employee_Name,0),0)),\"\",(INDEX('Employee Data'!$H$4:$H$553,MATCH(Databackup!A368,Employee_Name,0))))","v":""},{"$f":"IF(ISERROR(INDEX('Employee Data'!$I$4:$I$553,MATCH(Databackup!A368,Employee_Name,0),0)),\"\",(INDEX('Employee Data'!$I$4:$I$553,MATCH(Databackup!A368,Employee_Name,0))))","v":""},{"$f":"IF(ISERROR(INDEX('Employee Data'!$J$4:$J$553,MATCH(Databackup!A368,Employee_Name,0),0)),\"\",(INDEX('Employee Data'!J$4:$J$553,MATCH(Databackup!A368,Employee_Name,0))))","v":""},{"$f":"IF(ISERROR(INDEX('Employee Data'!$K$4:$K$553,MATCH(Databackup!A368,Employee_Name,0),0)),\"\",(INDEX('Employee Data'!$K$4:$K$553,MATCH(Databackup!A368,Employee_Name,0))))","v":""},{"$f":"IF(ISERROR(INDEX('Employee Data'!$L$4:$L$553,MATCH(Databackup!A368,Employee_Name,0),0)),\"\",(INDEX('Employee Data'!$L$4:$L$553,MATCH(Databackup!A368,Employee_Name,0))))","v":""},{"$f":"IF(ISERROR(INDEX('Employee Data'!$M$4:$M$553,MATCH(Databackup!A368,Employee_Name,0),0)),\"\",(INDEX('Employee Data'!$M$4:$M$553,MATCH(Databackup!A368,Employee_Name,0))))","v":""},{"$f":"IF(ISERROR(INDEX('Employee Data'!$N$4:$N$553,MATCH(Databackup!A368,Employee_Name,0),0)),\"\",(INDEX('Employee Data'!$N$4:$N$553,MATCH(Databackup!A368,Employee_Name,0))))","v":""},{"$f":"IF(ISERROR(INDEX('Employee Data'!$O$4:$O$553,MATCH(Databackup!A368,Employee_Name,0),0)),\"\",(INDEX('Employee Data'!$O$4:$O$553,MATCH(Databackup!A368,Employee_Name,0))))","v":""}]
[{"$f":"INDEX(Employee_Name,MATCH(SMALL(IF($A$1='Employee Data'!$I$4:$I$553,'Employee Data'!$B$4:$B$553,\"\"),ROW('Employee Data'!A367)),IF($A$1='Employee Data'!$I$4:$I$553,'Employee Data'!$B$4:$B$553,\"\"),0))","v":{"$error":"#NUM!"}},{"$f":"IF(ISERROR(INDEX('Employee Data'!$B$4:$B$553,MATCH(Databackup!A369,Employee_Name,0),0)),\"\",(INDEX('Employee Data'!$B$4:$B$553,MATCH(Databackup!A369,Employee_Name,0))))","v":""},{"$f":"IF(ISERROR(INDEX('Employee Data'!$C$4:$C$553,MATCH(Databackup!A369,Employee_Name,0),0)),\"\",(INDEX('Employee Data'!$C$4:$C$553,MATCH(Databackup!A369,Employee_Name,0))))","v":""},{"$f":"IF(ISERROR(INDEX('Employee Data'!$D$4:$D$553,MATCH(Databackup!A369,Employee_Name,0),0)),\"\",(INDEX('Employee Data'!$D$4:$D$553,MATCH(Databackup!A369,Employee_Name,0))))","v":""},{"$f":"IF(ISERROR(INDEX('Employee Data'!$F$4:$F$553,MATCH(Databackup!A369,Employee_Name,0),0)),\"\",(INDEX('Employee Data'!$F$4:$F$553,MATCH(Databackup!A369,Employee_Name,0))))","v":""},{"$f":"IF(ISERROR(INDEX('Employee Data'!$G$4:$G$553,MATCH(Databackup!A369,Employee_Name,0),0)),\"\",(INDEX('Employee Data'!$G$4:$G$553,MATCH(Databackup!A369,Employee_Name,0))))","v":""},{"$f":"IF(ISERROR(INDEX('Employee Data'!$H$4:$H$553,MATCH(Databackup!A369,Employee_Name,0),0)),\"\",(INDEX('Employee Data'!$H$4:$H$553,MATCH(Databackup!A369,Employee_Name,0))))","v":""},{"$f":"IF(ISERROR(INDEX('Employee Data'!$I$4:$I$553,MATCH(Databackup!A369,Employee_Name,0),0)),\"\",(INDEX('Employee Data'!$I$4:$I$553,MATCH(Databackup!A369,Employee_Name,0))))","v":""},{"$f":"IF(ISERROR(INDEX('Employee Data'!$J$4:$J$553,MATCH(Databackup!A369,Employee_Name,0),0)),\"\",(INDEX('Employee Data'!J$4:$J$553,MATCH(Databackup!A369,Employee_Name,0))))","v":""},{"$f":"IF(ISERROR(INDEX('Employee Data'!$K$4:$K$553,MATCH(Databackup!A369,Employee_Name,0),0)),\"\",(INDEX('Employee Data'!$K$4:$K$553,MATCH(Databackup!A369,Employee_Name,0))))","v":""},{"$f":"IF(ISERROR(INDEX('Employee Data'!$L$4:$L$553,MATCH(Databackup!A369,Employee_Name,0),0)),\"\",(INDEX('Employee Data'!$L$4:$L$553,MATCH(Databackup!A369,Employee_Name,0))))","v":""},{"$f":"IF(ISERROR(INDEX('Employee Data'!$M$4:$M$553,MATCH(Databackup!A369,Employee_Name,0),0)),\"\",(INDEX('Employee Data'!$M$4:$M$553,MATCH(Databackup!A369,Employee_Name,0))))","v":""},{"$f":"IF(ISERROR(INDEX('Employee Data'!$N$4:$N$553,MATCH(Databackup!A369,Employee_Name,0),0)),\"\",(INDEX('Employee Data'!$N$4:$N$553,MATCH(Databackup!A369,Employee_Name,0))))","v":""},{"$f":"IF(ISERROR(INDEX('Employee Data'!$O$4:$O$553,MATCH(Databackup!A369,Employee_Name,0),0)),\"\",(INDEX('Employee Data'!$O$4:$O$553,MATCH(Databackup!A369,Employee_Name,0))))","v":""}]
[{"$f":"INDEX(Employee_Name,MATCH(SMALL(IF($A$1='Employee Data'!$I$4:$I$553,'Employee Data'!$B$4:$B$553,\"\"),ROW('Employee Data'!A368)),IF($A$1='Employee Data'!$I$4:$I$553,'Employee Data'!$B$4:$B$553,\"\"),0))","v":{"$error":"#NUM!"}},{"$f":"IF(ISERROR(INDEX('Employee Data'!$B$4:$B$553,MATCH(Databackup!A370,Employee_Name,0),0)),\"\",(INDEX('Employee Data'!$B$4:$B$553,MATCH(Databackup!A370,Employee_Name,0))))","v":""},{"$f":"IF(ISERROR(INDEX('Employee Data'!$C$4:$C$553,MATCH(Databackup!A370,Employee_Name,0),0)),\"\",(INDEX('Employee Data'!$C$4:$C$553,MATCH(Databackup!A370,Employee_Name,0))))","v":""},{"$f":"IF(ISERROR(INDEX('Employee Data'!$D$4:$D$553,MATCH(Databackup!A370,Employee_Name,0),0)),\"\",(INDEX('Employee Data'!$D$4:$D$553,MATCH(Databackup!A370,Employee_Name,0))))","v":""},{"$f":"IF(ISERROR(INDEX('Employee Data'!$F$4:$F$553,MATCH(Databackup!A370,Employee_Name,0),0)),\"\",(INDEX('Employee Data'!$F$4:$F$553,MATCH(Databackup!A370,Employee_Name,0))))","v":""},{"$f":"IF(ISERROR(INDEX('Employee Data'!$G$4:$G$553,MATCH(Databackup!A370,Employee_Name,0),0)),\"\",(INDEX('Employee Data'!$G$4:$G$553,MATCH(Databackup!A370,Employee_Name,0))))","v":""},{"$f":"IF(ISERROR(INDEX('Employee Data'!$H$4:$H$553,MATCH(Databackup!A370,Employee_Name,0),0)),\"\",(INDEX('Employee Data'!$H$4:$H$553,MATCH(Databackup!A370,Employee_Name,0))))","v":""},{"$f":"IF(ISERROR(INDEX('Employee Data'!$I$4:$I$553,MATCH(Databackup!A370,Employee_Name,0),0)),\"\",(INDEX('Employee Data'!$I$4:$I$553,MATCH(Databackup!A370,Employee_Name,0))))","v":""},{"$f":"IF(ISERROR(INDEX('Employee Data'!$J$4:$J$553,MATCH(Databackup!A370,Employee_Name,0),0)),\"\",(INDEX('Employee Data'!J$4:$J$553,MATCH(Databackup!A370,Employee_Name,0))))","v":""},{"$f":"IF(ISERROR(INDEX('Employee Data'!$K$4:$K$553,MATCH(Databackup!A370,Employee_Name,0),0)),\"\",(INDEX('Employee Data'!$K$4:$K$553,MATCH(Databackup!A370,Employee_Name,0))))","v":""},{"$f":"IF(ISERROR(INDEX('Employee Data'!$L$4:$L$553,MATCH(Databackup!A370,Employee_Name,0),0)),\"\",(INDEX('Employee Data'!$L$4:$L$553,MATCH(Databackup!A370,Employee_Name,0))))","v":""},{"$f":"IF(ISERROR(INDEX('Employee Data'!$M$4:$M$553,MATCH(Databackup!A370,Employee_Name,0),0)),\"\",(INDEX('Employee Data'!$M$4:$M$553,MATCH(Databackup!A370,Employee_Name,0))))","v":""},{"$f":"IF(ISERROR(INDEX('Employee Data'!$N$4:$N$553,MATCH(Databackup!A370,Employee_Name,0),0)),\"\",(INDEX('Employee Data'!$N$4:$N$553,MATCH(Databackup!A370,Employee_Name,0))))","v":""},{"$f":"IF(ISERROR(INDEX('Employee Data'!$O$4:$O$553,MATCH(Databackup!A370,Employee_Name,0),0)),\"\",(INDEX('Employee Data'!$O$4:$O$553,MATCH(Databackup!A370,Employee_Name,0))))","v":""}]
[{"$f":"INDEX(Employee_Name,MATCH(SMALL(IF($A$1='Employee Data'!$I$4:$I$553,'Employee Data'!$B$4:$B$553,\"\"),ROW('Employee Data'!A369)),IF($A$1='Employee Data'!$I$4:$I$553,'Employee Data'!$B$4:$B$553,\"\"),0))","v":{"$error":"#NUM!"}},{"$f":"IF(ISERROR(INDEX('Employee Data'!$B$4:$B$553,MATCH(Databackup!A371,Employee_Name,0),0)),\"\",(INDEX('Employee Data'!$B$4:$B$553,MATCH(Databackup!A371,Employee_Name,0))))","v":""},{"$f":"IF(ISERROR(INDEX('Employee Data'!$C$4:$C$553,MATCH(Databackup!A371,Employee_Name,0),0)),\"\",(INDEX('Employee Data'!$C$4:$C$553,MATCH(Databackup!A371,Employee_Name,0))))","v":""},{"$f":"IF(ISERROR(INDEX('Employee Data'!$D$4:$D$553,MATCH(Databackup!A371,Employee_Name,0),0)),\"\",(INDEX('Employee Data'!$D$4:$D$553,MATCH(Databackup!A371,Employee_Name,0))))","v":""},{"$f":"IF(ISERROR(INDEX('Employee Data'!$F$4:$F$553,MATCH(Databackup!A371,Employee_Name,0),0)),\"\",(INDEX('Employee Data'!$F$4:$F$553,MATCH(Databackup!A371,Employee_Name,0))))","v":""},{"$f":"IF(ISERROR(INDEX('Employee Data'!$G$4:$G$553,MATCH(Databackup!A371,Employee_Name,0),0)),\"\",(INDEX('Employee Data'!$G$4:$G$553,MATCH(Databackup!A371,Employee_Name,0))))","v":""},{"$f":"IF(ISERROR(INDEX('Employee Data'!$H$4:$H$553,MATCH(Databackup!A371,Employee_Name,0),0)),\"\",(INDEX('Employee Data'!$H$4:$H$553,MATCH(Databackup!A371,Employee_Name,0))))","v":""},{"$f":"IF(ISERROR(INDEX('Employee Data'!$I$4:$I$553,MATCH(Databackup!A371,Employee_Name,0),0)),\"\",(INDEX('Employee Data'!$I$4:$I$553,MATCH(Databackup!A371,Employee_Name,0))))","v":""},{"$f":"IF(ISERROR(INDEX('Employee Data'!$J$4:$J$553,MATCH(Databackup!A371,Employee_Name,0),0)),\"\",(INDEX('Employee Data'!J$4:$J$553,MATCH(Databackup!A371,Employee_Name,0))))","v":""},{"$f":"IF(ISERROR(INDEX('Employee Data'!$K$4:$K$553,MATCH(Databackup!A371,Employee_Name,0),0)),\"\",(INDEX('Employee Data'!$K$4:$K$553,MATCH(Databackup!A371,Employee_Name,0))))","v":""},{"$f":"IF(ISERROR(INDEX('Employee Data'!$L$4:$L$553,MATCH(Databackup!A371,Employee_Name,0),0)),\"\",(INDEX('Employee Data'!$L$4:$L$553,MATCH(Databackup!A371,Employee_Name,0))))","v":""},{"$f":"IF(ISERROR(INDEX('Employee Data'!$M$4:$M$553,MATCH(Databackup!A371,Employee_Name,0),0)),\"\",(INDEX('Employee Data'!$M$4:$M$553,MATCH(Databackup!A371,Employee_Name,0))))","v":""},{"$f":"IF(ISERROR(INDEX('Employee Data'!$N$4:$N$553,MATCH(Databackup!A371,Employee_Name,0),0)),\"\",(INDEX('Employee Data'!$N$4:$N$553,MATCH(Databackup!A371,Employee_Name,0))))","v":""},{"$f":"IF(ISERROR(INDEX('Employee Data'!$O$4:$O$553,MATCH(Databackup!A371,Employee_Name,0),0)),\"\",(INDEX('Employee Data'!$O$4:$O$553,MATCH(Databackup!A371,Employee_Name,0))))","v":""}]
[{"$f":"INDEX(Employee_Name,MATCH(SMALL(IF($A$1='Employee Data'!$I$4:$I$553,'Employee Data'!$B$4:$B$553,\"\"),ROW('Employee Data'!A370)),IF($A$1='Employee Data'!$I$4:$I$553,'Employee Data'!$B$4:$B$553,\"\"),0))","v":{"$error":"#NUM!"}},{"$f":"IF(ISERROR(INDEX('Employee Data'!$B$4:$B$553,MATCH(Databackup!A372,Employee_Name,0),0)),\"\",(INDEX('Employee Data'!$B$4:$B$553,MATCH(Databackup!A372,Employee_Name,0))))","v":""},{"$f":"IF(ISERROR(INDEX('Employee Data'!$C$4:$C$553,MATCH(Databackup!A372,Employee_Name,0),0)),\"\",(INDEX('Employee Data'!$C$4:$C$553,MATCH(Databackup!A372,Employee_Name,0))))","v":""},{"$f":"IF(ISERROR(INDEX('Employee Data'!$D$4:$D$553,MATCH(Databackup!A372,Employee_Name,0),0)),\"\",(INDEX('Employee Data'!$D$4:$D$553,MATCH(Databackup!A372,Employee_Name,0))))","v":""},{"$f":"IF(ISERROR(INDEX('Employee Data'!$F$4:$F$553,MATCH(Databackup!A372,Employee_Name,0),0)),\"\",(INDEX('Employee Data'!$F$4:$F$553,MATCH(Databackup!A372,Employee_Name,0))))","v":""},{"$f":"IF(ISERROR(INDEX('Employee Data'!$G$4:$G$553,MATCH(Databackup!A372,Employee_Name,0),0)),\"\",(INDEX('Employee Data'!$G$4:$G$553,MATCH(Databackup!A372,Employee_Name,0))))","v":""},{"$f":"IF(ISERROR(INDEX('Employee Data'!$H$4:$H$553,MATCH(Databackup!A372,Employee_Name,0),0)),\"\",(INDEX('Employee Data'!$H$4:$H$553,MATCH(Databackup!A372,Employee_Name,0))))","v":""},{"$f":"IF(ISERROR(INDEX('Employee Data'!$I$4:$I$553,MATCH(Databackup!A372,Employee_Name,0),0)),\"\",(INDEX('Employee Data'!$I$4:$I$553,MATCH(Databackup!A372,Employee_Name,0))))","v":""},{"$f":"IF(ISERROR(INDEX('Employee Data'!$J$4:$J$553,MATCH(Databackup!A372,Employee_Name,0),0)),\"\",(INDEX('Employee Data'!J$4:$J$553,MATCH(Databackup!A372,Employee_Name,0))))","v":""},{"$f":"IF(ISERROR(INDEX('Employee Data'!$K$4:$K$553,MATCH(Databackup!A372,Employee_Name,0),0)),\"\",(INDEX('Employee Data'!$K$4:$K$553,MATCH(Databackup!A372,Employee_Name,0))))","v":""},{"$f":"IF(ISERROR(INDEX('Employee Data'!$L$4:$L$553,MATCH(Databackup!A372,Employee_Name,0),0)),\"\",(INDEX('Employee Data'!$L$4:$L$553,MATCH(Databackup!A372,Employee_Name,0))))","v":""},{"$f":"IF(ISERROR(INDEX('Employee Data'!$M$4:$M$553,MATCH(Databackup!A372,Employee_Name,0),0)),\"\",(INDEX('Employee Data'!$M$4:$M$553,MATCH(Databackup!A372,Employee_Name,0))))","v":""},{"$f":"IF(ISERROR(INDEX('Employee Data'!$N$4:$N$553,MATCH(Databackup!A372,Employee_Name,0),0)),\"\",(INDEX('Employee Data'!$N$4:$N$553,MATCH(Databackup!A372,Employee_Name,0))))","v":""},{"$f":"IF(ISERROR(INDEX('Employee Data'!$O$4:$O$553,MATCH(Databackup!A372,Employee_Name,0),0)),\"\",(INDEX('Employee Data'!$O$4:$O$553,MATCH(Databackup!A372,Employee_Name,0))))","v":""}]
[{"$f":"INDEX(Employee_Name,MATCH(SMALL(IF($A$1='Employee Data'!$I$4:$I$553,'Employee Data'!$B$4:$B$553,\"\"),ROW('Employee Data'!A371)),IF($A$1='Employee Data'!$I$4:$I$553,'Employee Data'!$B$4:$B$553,\"\"),0))","v":{"$error":"#NUM!"}},{"$f":"IF(ISERROR(INDEX('Employee Data'!$B$4:$B$553,MATCH(Databackup!A373,Employee_Name,0),0)),\"\",(INDEX('Employee Data'!$B$4:$B$553,MATCH(Databackup!A373,Employee_Name,0))))","v":""},{"$f":"IF(ISERROR(INDEX('Employee Data'!$C$4:$C$553,MATCH(Databackup!A373,Employee_Name,0),0)),\"\",(INDEX('Employee Data'!$C$4:$C$553,MATCH(Databackup!A373,Employee_Name,0))))","v":""},{"$f":"IF(ISERROR(INDEX('Employee Data'!$D$4:$D$553,MATCH(Databackup!A373,Employee_Name,0),0)),\"\",(INDEX('Employee Data'!$D$4:$D$553,MATCH(Databackup!A373,Employee_Name,0))))","v":""},{"$f":"IF(ISERROR(INDEX('Employee Data'!$F$4:$F$553,MATCH(Databackup!A373,Employee_Name,0),0)),\"\",(INDEX('Employee Data'!$F$4:$F$553,MATCH(Databackup!A373,Employee_Name,0))))","v":""},{"$f":"IF(ISERROR(INDEX('Employee Data'!$G$4:$G$553,MATCH(Databackup!A373,Employee_Name,0),0)),\"\",(INDEX('Employee Data'!$G$4:$G$553,MATCH(Databackup!A373,Employee_Name,0))))","v":""},{"$f":"IF(ISERROR(INDEX('Employee Data'!$H$4:$H$553,MATCH(Databackup!A373,Employee_Name,0),0)),\"\",(INDEX('Employee Data'!$H$4:$H$553,MATCH(Databackup!A373,Employee_Name,0))))","v":""},{"$f":"IF(ISERROR(INDEX('Employee Data'!$I$4:$I$553,MATCH(Databackup!A373,Employee_Name,0),0)),\"\",(INDEX('Employee Data'!$I$4:$I$553,MATCH(Databackup!A373,Employee_Name,0))))","v":""},{"$f":"IF(ISERROR(INDEX('Employee Data'!$J$4:$J$553,MATCH(Databackup!A373,Employee_Name,0),0)),\"\",(INDEX('Employee Data'!J$4:$J$553,MATCH(Databackup!A373,Employee_Name,0))))","v":""},{"$f":"IF(ISERROR(INDEX('Employee Data'!$K$4:$K$553,MATCH(Databackup!A373,Employee_Name,0),0)),\"\",(INDEX('Employee Data'!$K$4:$K$553,MATCH(Databackup!A373,Employee_Name,0))))","v":""},{"$f":"IF(ISERROR(INDEX('Employee Data'!$L$4:$L$553,MATCH(Databackup!A373,Employee_Name,0),0)),\"\",(INDEX('Employee Data'!$L$4:$L$553,MATCH(Databackup!A373,Employee_Name,0))))","v":""},{"$f":"IF(ISERROR(INDEX('Employee Data'!$M$4:$M$553,MATCH(Databackup!A373,Employee_Name,0),0)),\"\",(INDEX('Employee Data'!$M$4:$M$553,MATCH(Databackup!A373,Employee_Name,0))))","v":""},{"$f":"IF(ISERROR(INDEX('Employee Data'!$N$4:$N$553,MATCH(Databackup!A373,Employee_Name,0),0)),\"\",(INDEX('Employee Data'!$N$4:$N$553,MATCH(Databackup!A373,Employee_Name,0))))","v":""},{"$f":"IF(ISERROR(INDEX('Employee Data'!$O$4:$O$553,MATCH(Databackup!A373,Employee_Name,0),0)),\"\",(INDEX('Employee Data'!$O$4:$O$553,MATCH(Databackup!A373,Employee_Name,0))))","v":""}]
[{"$f":"INDEX(Employee_Name,MATCH(SMALL(IF($A$1='Employee Data'!$I$4:$I$553,'Employee Data'!$B$4:$B$553,\"\"),ROW('Employee Data'!A372)),IF($A$1='Employee Data'!$I$4:$I$553,'Employee Data'!$B$4:$B$553,\"\"),0))","v":{"$error":"#NUM!"}},{"$f":"IF(ISERROR(INDEX('Employee Data'!$B$4:$B$553,MATCH(Databackup!A374,Employee_Name,0),0)),\"\",(INDEX('Employee Data'!$B$4:$B$553,MATCH(Databackup!A374,Employee_Name,0))))","v":""},{"$f":"IF(ISERROR(INDEX('Employee Data'!$C$4:$C$553,MATCH(Databackup!A374,Employee_Name,0),0)),\"\",(INDEX('Employee Data'!$C$4:$C$553,MATCH(Databackup!A374,Employee_Name,0))))","v":""},{"$f":"IF(ISERROR(INDEX('Employee Data'!$D$4:$D$553,MATCH(Databackup!A374,Employee_Name,0),0)),\"\",(INDEX('Employee Data'!$D$4:$D$553,MATCH(Databackup!A374,Employee_Name,0))))","v":""},{"$f":"IF(ISERROR(INDEX('Employee Data'!$F$4:$F$553,MATCH(Databackup!A374,Employee_Name,0),0)),\"\",(INDEX('Employee Data'!$F$4:$F$553,MATCH(Databackup!A374,Employee_Name,0))))","v":""},{"$f":"IF(ISERROR(INDEX('Employee Data'!$G$4:$G$553,MATCH(Databackup!A374,Employee_Name,0),0)),\"\",(INDEX('Employee Data'!$G$4:$G$553,MATCH(Databackup!A374,Employee_Name,0))))","v":""},{"$f":"IF(ISERROR(INDEX('Employee Data'!$H$4:$H$553,MATCH(Databackup!A374,Employee_Name,0),0)),\"\",(INDEX('Employee Data'!$H$4:$H$553,MATCH(Databackup!A374,Employee_Name,0))))","v":""},{"$f":"IF(ISERROR(INDEX('Employee Data'!$I$4:$I$553,MATCH(Databackup!A374,Employee_Name,0),0)),\"\",(INDEX('Employee Data'!$I$4:$I$553,MATCH(Databackup!A374,Employee_Name,0))))","v":""},{"$f":"IF(ISERROR(INDEX('Employee Data'!$J$4:$J$553,MATCH(Databackup!A374,Employee_Name,0),0)),\"\",(INDEX('Employee Data'!J$4:$J$553,MATCH(Databackup!A374,Employee_Name,0))))","v":""},{"$f":"IF(ISERROR(INDEX('Employee Data'!$K$4:$K$553,MATCH(Databackup!A374,Employee_Name,0),0)),\"\",(INDEX('Employee Data'!$K$4:$K$553,MATCH(Databackup!A374,Employee_Name,0))))","v":""},{"$f":"IF(ISERROR(INDEX('Employee Data'!$L$4:$L$553,MATCH(Databackup!A374,Employee_Name,0),0)),\"\",(INDEX('Employee Data'!$L$4:$L$553,MATCH(Databackup!A374,Employee_Name,0))))","v":""},{"$f":"IF(ISERROR(INDEX('Employee Data'!$M$4:$M$553,MATCH(Databackup!A374,Employee_Name,0),0)),\"\",(INDEX('Employee Data'!$M$4:$M$553,MATCH(Databackup!A374,Employee_Name,0))))","v":""},{"$f":"IF(ISERROR(INDEX('Employee Data'!$N$4:$N$553,MATCH(Databackup!A374,Employee_Name,0),0)),\"\",(INDEX('Employee Data'!$N$4:$N$553,MATCH(Databackup!A374,Employee_Name,0))))","v":""},{"$f":"IF(ISERROR(INDEX('Employee Data'!$O$4:$O$553,MATCH(Databackup!A374,Employee_Name,0),0)),\"\",(INDEX('Employee Data'!$O$4:$O$553,MATCH(Databackup!A374,Employee_Name,0))))","v":""}]
[{"$f":"INDEX(Employee_Name,MATCH(SMALL(IF($A$1='Employee Data'!$I$4:$I$553,'Employee Data'!$B$4:$B$553,\"\"),ROW('Employee Data'!A373)),IF($A$1='Employee Data'!$I$4:$I$553,'Employee Data'!$B$4:$B$553,\"\"),0))","v":{"$error":"#NUM!"}},{"$f":"IF(ISERROR(INDEX('Employee Data'!$B$4:$B$553,MATCH(Databackup!A375,Employee_Name,0),0)),\"\",(INDEX('Employee Data'!$B$4:$B$553,MATCH(Databackup!A375,Employee_Name,0))))","v":""},{"$f":"IF(ISERROR(INDEX('Employee Data'!$C$4:$C$553,MATCH(Databackup!A375,Employee_Name,0),0)),\"\",(INDEX('Employee Data'!$C$4:$C$553,MATCH(Databackup!A375,Employee_Name,0))))","v":""},{"$f":"IF(ISERROR(INDEX('Employee Data'!$D$4:$D$553,MATCH(Databackup!A375,Employee_Name,0),0)),\"\",(INDEX('Employee Data'!$D$4:$D$553,MATCH(Databackup!A375,Employee_Name,0))))","v":""},{"$f":"IF(ISERROR(INDEX('Employee Data'!$F$4:$F$553,MATCH(Databackup!A375,Employee_Name,0),0)),\"\",(INDEX('Employee Data'!$F$4:$F$553,MATCH(Databackup!A375,Employee_Name,0))))","v":""},{"$f":"IF(ISERROR(INDEX('Employee Data'!$G$4:$G$553,MATCH(Databackup!A375,Employee_Name,0),0)),\"\",(INDEX('Employee Data'!$G$4:$G$553,MATCH(Databackup!A375,Employee_Name,0))))","v":""},{"$f":"IF(ISERROR(INDEX('Employee Data'!$H$4:$H$553,MATCH(Databackup!A375,Employee_Name,0),0)),\"\",(INDEX('Employee Data'!$H$4:$H$553,MATCH(Databackup!A375,Employee_Name,0))))","v":""},{"$f":"IF(ISERROR(INDEX('Employee Data'!$I$4:$I$553,MATCH(Databackup!A375,Employee_Name,0),0)),\"\",(INDEX('Employee Data'!$I$4:$I$553,MATCH(Databackup!A375,Employee_Name,0))))","v":""},{"$f":"IF(ISERROR(INDEX('Employee Data'!$J$4:$J$553,MATCH(Databackup!A375,Employee_Name,0),0)),\"\",(INDEX('Employee Data'!J$4:$J$553,MATCH(Databackup!A375,Employee_Name,0))))","v":""},{"$f":"IF(ISERROR(INDEX('Employee Data'!$K$4:$K$553,MATCH(Databackup!A375,Employee_Name,0),0)),\"\",(INDEX('Employee Data'!$K$4:$K$553,MATCH(Databackup!A375,Employee_Name,0))))","v":""},{"$f":"IF(ISERROR(INDEX('Employee Data'!$L$4:$L$553,MATCH(Databackup!A375,Employee_Name,0),0)),\"\",(INDEX('Employee Data'!$L$4:$L$553,MATCH(Databackup!A375,Employee_Name,0))))","v":""},{"$f":"IF(ISERROR(INDEX('Employee Data'!$M$4:$M$553,MATCH(Databackup!A375,Employee_Name,0),0)),\"\",(INDEX('Employee Data'!$M$4:$M$553,MATCH(Databackup!A375,Employee_Name,0))))","v":""},{"$f":"IF(ISERROR(INDEX('Employee Data'!$N$4:$N$553,MATCH(Databackup!A375,Employee_Name,0),0)),\"\",(INDEX('Employee Data'!$N$4:$N$553,MATCH(Databackup!A375,Employee_Name,0))))","v":""},{"$f":"IF(ISERROR(INDEX('Employee Data'!$O$4:$O$553,MATCH(Databackup!A375,Employee_Name,0),0)),\"\",(INDEX('Employee Data'!$O$4:$O$553,MATCH(Databackup!A375,Employee_Name,0))))","v":""}]
[{"$f":"INDEX(Employee_Name,MATCH(SMALL(IF($A$1='Employee Data'!$I$4:$I$553,'Employee Data'!$B$4:$B$553,\"\"),ROW('Employee Data'!A374)),IF($A$1='Employee Data'!$I$4:$I$553,'Employee Data'!$B$4:$B$553,\"\"),0))","v":{"$error":"#NUM!"}},{"$f":"IF(ISERROR(INDEX('Employee Data'!$B$4:$B$553,MATCH(Databackup!A376,Employee_Name,0),0)),\"\",(INDEX('Employee Data'!$B$4:$B$553,MATCH(Databackup!A376,Employee_Name,0))))","v":""},{"$f":"IF(ISERROR(INDEX('Employee Data'!$C$4:$C$553,MATCH(Databackup!A376,Employee_Name,0),0)),\"\",(INDEX('Employee Data'!$C$4:$C$553,MATCH(Databackup!A376,Employee_Name,0))))","v":""},{"$f":"IF(ISERROR(INDEX('Employee Data'!$D$4:$D$553,MATCH(Databackup!A376,Employee_Name,0),0)),\"\",(INDEX('Employee Data'!$D$4:$D$553,MATCH(Databackup!A376,Employee_Name,0))))","v":""},{"$f":"IF(ISERROR(INDEX('Employee Data'!$F$4:$F$553,MATCH(Databackup!A376,Employee_Name,0),0)),\"\",(INDEX('Employee Data'!$F$4:$F$553,MATCH(Databackup!A376,Employee_Name,0))))","v":""},{"$f":"IF(ISERROR(INDEX('Employee Data'!$G$4:$G$553,MATCH(Databackup!A376,Employee_Name,0),0)),\"\",(INDEX('Employee Data'!$G$4:$G$553,MATCH(Databackup!A376,Employee_Name,0))))","v":""},{"$f":"IF(ISERROR(INDEX('Employee Data'!$H$4:$H$553,MATCH(Databackup!A376,Employee_Name,0),0)),\"\",(INDEX('Employee Data'!$H$4:$H$553,MATCH(Databackup!A376,Employee_Name,0))))","v":""},{"$f":"IF(ISERROR(INDEX('Employee Data'!$I$4:$I$553,MATCH(Databackup!A376,Employee_Name,0),0)),\"\",(INDEX('Employee Data'!$I$4:$I$553,MATCH(Databackup!A376,Employee_Name,0))))","v":""},{"$f":"IF(ISERROR(INDEX('Employee Data'!$J$4:$J$553,MATCH(Databackup!A376,Employee_Name,0),0)),\"\",(INDEX('Employee Data'!J$4:$J$553,MATCH(Databackup!A376,Employee_Name,0))))","v":""},{"$f":"IF(ISERROR(INDEX('Employee Data'!$K$4:$K$553,MATCH(Databackup!A376,Employee_Name,0),0)),\"\",(INDEX('Employee Data'!$K$4:$K$553,MATCH(Databackup!A376,Employee_Name,0))))","v":""},{"$f":"IF(ISERROR(INDEX('Employee Data'!$L$4:$L$553,MATCH(Databackup!A376,Employee_Name,0),0)),\"\",(INDEX('Employee Data'!$L$4:$L$553,MATCH(Databackup!A376,Employee_Name,0))))","v":""},{"$f":"IF(ISERROR(INDEX('Employee Data'!$M$4:$M$553,MATCH(Databackup!A376,Employee_Name,0),0)),\"\",(INDEX('Employee Data'!$M$4:$M$553,MATCH(Databackup!A376,Employee_Name,0))))","v":""},{"$f":"IF(ISERROR(INDEX('Employee Data'!$N$4:$N$553,MATCH(Databackup!A376,Employee_Name,0),0)),\"\",(INDEX('Employee Data'!$N$4:$N$553,MATCH(Databackup!A376,Employee_Name,0))))","v":""},{"$f":"IF(ISERROR(INDEX('Employee Data'!$O$4:$O$553,MATCH(Databackup!A376,Employee_Name,0),0)),\"\",(INDEX('Employee Data'!$O$4:$O$553,MATCH(Databackup!A376,Employee_Name,0))))","v":""}]
[{"$f":"INDEX(Employee_Name,MATCH(SMALL(IF($A$1='Employee Data'!$I$4:$I$553,'Employee Data'!$B$4:$B$553,\"\"),ROW('Employee Data'!A375)),IF($A$1='Employee Data'!$I$4:$I$553,'Employee Data'!$B$4:$B$553,\"\"),0))","v":{"$error":"#NUM!"}},{"$f":"IF(ISERROR(INDEX('Employee Data'!$B$4:$B$553,MATCH(Databackup!A377,Employee_Name,0),0)),\"\",(INDEX('Employee Data'!$B$4:$B$553,MATCH(Databackup!A377,Employee_Name,0))))","v":""},{"$f":"IF(ISERROR(INDEX('Employee Data'!$C$4:$C$553,MATCH(Databackup!A377,Employee_Name,0),0)),\"\",(INDEX('Employee Data'!$C$4:$C$553,MATCH(Databackup!A377,Employee_Name,0))))","v":""},{"$f":"IF(ISERROR(INDEX('Employee Data'!$D$4:$D$553,MATCH(Databackup!A377,Employee_Name,0),0)),\"\",(INDEX('Employee Data'!$D$4:$D$553,MATCH(Databackup!A377,Employee_Name,0))))","v":""},{"$f":"IF(ISERROR(INDEX('Employee Data'!$F$4:$F$553,MATCH(Databackup!A377,Employee_Name,0),0)),\"\",(INDEX('Employee Data'!$F$4:$F$553,MATCH(Databackup!A377,Employee_Name,0))))","v":""},{"$f":"IF(ISERROR(INDEX('Employee Data'!$G$4:$G$553,MATCH(Databackup!A377,Employee_Name,0),0)),\"\",(INDEX('Employee Data'!$G$4:$G$553,MATCH(Databackup!A377,Employee_Name,0))))","v":""},{"$f":"IF(ISERROR(INDEX('Employee Data'!$H$4:$H$553,MATCH(Databackup!A377,Employee_Name,0),0)),\"\",(INDEX('Employee Data'!$H$4:$H$553,MATCH(Databackup!A377,Employee_Name,0))))","v":""},{"$f":"IF(ISERROR(INDEX('Employee Data'!$I$4:$I$553,MATCH(Databackup!A377,Employee_Name,0),0)),\"\",(INDEX('Employee Data'!$I$4:$I$553,MATCH(Databackup!A377,Employee_Name,0))))","v":""},{"$f":"IF(ISERROR(INDEX('Employee Data'!$J$4:$J$553,MATCH(Databackup!A377,Employee_Name,0),0)),\"\",(INDEX('Employee Data'!J$4:$J$553,MATCH(Databackup!A377,Employee_Name,0))))","v":""},{"$f":"IF(ISERROR(INDEX('Employee Data'!$K$4:$K$553,MATCH(Databackup!A377,Employee_Name,0),0)),\"\",(INDEX('Employee Data'!$K$4:$K$553,MATCH(Databackup!A377,Employee_Name,0))))","v":""},{"$f":"IF(ISERROR(INDEX('Employee Data'!$L$4:$L$553,MATCH(Databackup!A377,Employee_Name,0),0)),\"\",(INDEX('Employee Data'!$L$4:$L$553,MATCH(Databackup!A377,Employee_Name,0))))","v":""},{"$f":"IF(ISERROR(INDEX('Employee Data'!$M$4:$M$553,MATCH(Databackup!A377,Employee_Name,0),0)),\"\",(INDEX('Employee Data'!$M$4:$M$553,MATCH(Databackup!A377,Employee_Name,0))))","v":""},{"$f":"IF(ISERROR(INDEX('Employee Data'!$N$4:$N$553,MATCH(Databackup!A377,Employee_Name,0),0)),\"\",(INDEX('Employee Data'!$N$4:$N$553,MATCH(Databackup!A377,Employee_Name,0))))","v":""},{"$f":"IF(ISERROR(INDEX('Employee Data'!$O$4:$O$553,MATCH(Databackup!A377,Employee_Name,0),0)),\"\",(INDEX('Employee Data'!$O$4:$O$553,MATCH(Databackup!A377,Employee_Name,0))))","v":""}]
[{"$f":"INDEX(Employee_Name,MATCH(SMALL(IF($A$1='Employee Data'!$I$4:$I$553,'Employee Data'!$B$4:$B$553,\"\"),ROW('Employee Data'!A376)),IF($A$1='Employee Data'!$I$4:$I$553,'Employee Data'!$B$4:$B$553,\"\"),0))","v":{"$error":"#NUM!"}},{"$f":"IF(ISERROR(INDEX('Employee Data'!$B$4:$B$553,MATCH(Databackup!A378,Employee_Name,0),0)),\"\",(INDEX('Employee Data'!$B$4:$B$553,MATCH(Databackup!A378,Employee_Name,0))))","v":""},{"$f":"IF(ISERROR(INDEX('Employee Data'!$C$4:$C$553,MATCH(Databackup!A378,Employee_Name,0),0)),\"\",(INDEX('Employee Data'!$C$4:$C$553,MATCH(Databackup!A378,Employee_Name,0))))","v":""},{"$f":"IF(ISERROR(INDEX('Employee Data'!$D$4:$D$553,MATCH(Databackup!A378,Employee_Name,0),0)),\"\",(INDEX('Employee Data'!$D$4:$D$553,MATCH(Databackup!A378,Employee_Name,0))))","v":""},{"$f":"IF(ISERROR(INDEX('Employee Data'!$F$4:$F$553,MATCH(Databackup!A378,Employee_Name,0),0)),\"\",(INDEX('Employee Data'!$F$4:$F$553,MATCH(Databackup!A378,Employee_Name,0))))","v":""},{"$f":"IF(ISERROR(INDEX('Employee Data'!$G$4:$G$553,MATCH(Databackup!A378,Employee_Name,0),0)),\"\",(INDEX('Employee Data'!$G$4:$G$553,MATCH(Databackup!A378,Employee_Name,0))))","v":""},{"$f":"IF(ISERROR(INDEX('Employee Data'!$H$4:$H$553,MATCH(Databackup!A378,Employee_Name,0),0)),\"\",(INDEX('Employee Data'!$H$4:$H$553,MATCH(Databackup!A378,Employee_Name,0))))","v":""},{"$f":"IF(ISERROR(INDEX('Employee Data'!$I$4:$I$553,MATCH(Databackup!A378,Employee_Name,0),0)),\"\",(INDEX('Employee Data'!$I$4:$I$553,MATCH(Databackup!A378,Employee_Name,0))))","v":""},{"$f":"IF(ISERROR(INDEX('Employee Data'!$J$4:$J$553,MATCH(Databackup!A378,Employee_Name,0),0)),\"\",(INDEX('Employee Data'!J$4:$J$553,MATCH(Databackup!A378,Employee_Name,0))))","v":""},{"$f":"IF(ISERROR(INDEX('Employee Data'!$K$4:$K$553,MATCH(Databackup!A378,Employee_Name,0),0)),\"\",(INDEX('Employee Data'!$K$4:$K$553,MATCH(Databackup!A378,Employee_Name,0))))","v":""},{"$f":"IF(ISERROR(INDEX('Employee Data'!$L$4:$L$553,MATCH(Databackup!A378,Employee_Name,0),0)),\"\",(INDEX('Employee Data'!$L$4:$L$553,MATCH(Databackup!A378,Employee_Name,0))))","v":""},{"$f":"IF(ISERROR(INDEX('Employee Data'!$M$4:$M$553,MATCH(Databackup!A378,Employee_Name,0),0)),\"\",(INDEX('Employee Data'!$M$4:$M$553,MATCH(Databackup!A378,Employee_Name,0))))","v":""},{"$f":"IF(ISERROR(INDEX('Employee Data'!$N$4:$N$553,MATCH(Databackup!A378,Employee_Name,0),0)),\"\",(INDEX('Employee Data'!$N$4:$N$553,MATCH(Databackup!A378,Employee_Name,0))))","v":""},{"$f":"IF(ISERROR(INDEX('Employee Data'!$O$4:$O$553,MATCH(Databackup!A378,Employee_Name,0),0)),\"\",(INDEX('Employee Data'!$O$4:$O$553,MATCH(Databackup!A378,Employee_Name,0))))","v":""}]
[{"$f":"INDEX(Employee_Name,MATCH(SMALL(IF($A$1='Employee Data'!$I$4:$I$553,'Employee Data'!$B$4:$B$553,\"\"),ROW('Employee Data'!A377)),IF($A$1='Employee Data'!$I$4:$I$553,'Employee Data'!$B$4:$B$553,\"\"),0))","v":{"$error":"#NUM!"}},{"$f":"IF(ISERROR(INDEX('Employee Data'!$B$4:$B$553,MATCH(Databackup!A379,Employee_Name,0),0)),\"\",(INDEX('Employee Data'!$B$4:$B$553,MATCH(Databackup!A379,Employee_Name,0))))","v":""},{"$f":"IF(ISERROR(INDEX('Employee Data'!$C$4:$C$553,MATCH(Databackup!A379,Employee_Name,0),0)),\"\",(INDEX('Employee Data'!$C$4:$C$553,MATCH(Databackup!A379,Employee_Name,0))))","v":""},{"$f":"IF(ISERROR(INDEX('Employee Data'!$D$4:$D$553,MATCH(Databackup!A379,Employee_Name,0),0)),\"\",(INDEX('Employee Data'!$D$4:$D$553,MATCH(Databackup!A379,Employee_Name,0))))","v":""},{"$f":"IF(ISERROR(INDEX('Employee Data'!$F$4:$F$553,MATCH(Databackup!A379,Employee_Name,0),0)),\"\",(INDEX('Employee Data'!$F$4:$F$553,MATCH(Databackup!A379,Employee_Name,0))))","v":""},{"$f":"IF(ISERROR(INDEX('Employee Data'!$G$4:$G$553,MATCH(Databackup!A379,Employee_Name,0),0)),\"\",(INDEX('Employee Data'!$G$4:$G$553,MATCH(Databackup!A379,Employee_Name,0))))","v":""},{"$f":"IF(ISERROR(INDEX('Employee Data'!$H$4:$H$553,MATCH(Databackup!A379,Employee_Name,0),0)),\"\",(INDEX('Employee Data'!$H$4:$H$553,MATCH(Databackup!A379,Employee_Name,0))))","v":""},{"$f":"IF(ISERROR(INDEX('Employee Data'!$I$4:$I$553,MATCH(Databackup!A379,Employee_Name,0),0)),\"\",(INDEX('Employee Data'!$I$4:$I$553,MATCH(Databackup!A379,Employee_Name,0))))","v":""},{"$f":"IF(ISERROR(INDEX('Employee Data'!$J$4:$J$553,MATCH(Databackup!A379,Employee_Name,0),0)),\"\",(INDEX('Employee Data'!J$4:$J$553,MATCH(Databackup!A379,Employee_Name,0))))","v":""},{"$f":"IF(ISERROR(INDEX('Employee Data'!$K$4:$K$553,MATCH(Databackup!A379,Employee_Name,0),0)),\"\",(INDEX('Employee Data'!$K$4:$K$553,MATCH(Databackup!A379,Employee_Name,0))))","v":""},{"$f":"IF(ISERROR(INDEX('Employee Data'!$L$4:$L$553,MATCH(Databackup!A379,Employee_Name,0),0)),\"\",(INDEX('Employee Data'!$L$4:$L$553,MATCH(Databackup!A379,Employee_Name,0))))","v":""},{"$f":"IF(ISERROR(INDEX('Employee Data'!$M$4:$M$553,MATCH(Databackup!A379,Employee_Name,0),0)),\"\",(INDEX('Employee Data'!$M$4:$M$553,MATCH(Databackup!A379,Employee_Name,0))))","v":""},{"$f":"IF(ISERROR(INDEX('Employee Data'!$N$4:$N$553,MATCH(Databackup!A379,Employee_Name,0),0)),\"\",(INDEX('Employee Data'!$N$4:$N$553,MATCH(Databackup!A379,Employee_Name,0))))","v":""},{"$f":"IF(ISERROR(INDEX('Employee Data'!$O$4:$O$553,MATCH(Databackup!A379,Employee_Name,0),0)),\"\",(INDEX('Employee Data'!$O$4:$O$553,MATCH(Databackup!A379,Employee_Name,0))))","v":""}]
[{"$f":"INDEX(Employee_Name,MATCH(SMALL(IF($A$1='Employee Data'!$I$4:$I$553,'Employee Data'!$B$4:$B$553,\"\"),ROW('Employee Data'!A378)),IF($A$1='Employee Data'!$I$4:$I$553,'Employee Data'!$B$4:$B$553,\"\"),0))","v":{"$error":"#NUM!"}},{"$f":"IF(ISERROR(INDEX('Employee Data'!$B$4:$B$553,MATCH(Databackup!A380,Employee_Name,0),0)),\"\",(INDEX('Employee Data'!$B$4:$B$553,MATCH(Databackup!A380,Employee_Name,0))))","v":""},{"$f":"IF(ISERROR(INDEX('Employee Data'!$C$4:$C$553,MATCH(Databackup!A380,Employee_Name,0),0)),\"\",(INDEX('Employee Data'!$C$4:$C$553,MATCH(Databackup!A380,Employee_Name,0))))","v":""},{"$f":"IF(ISERROR(INDEX('Employee Data'!$D$4:$D$553,MATCH(Databackup!A380,Employee_Name,0),0)),\"\",(INDEX('Employee Data'!$D$4:$D$553,MATCH(Databackup!A380,Employee_Name,0))))","v":""},{"$f":"IF(ISERROR(INDEX('Employee Data'!$F$4:$F$553,MATCH(Databackup!A380,Employee_Name,0),0)),\"\",(INDEX('Employee Data'!$F$4:$F$553,MATCH(Databackup!A380,Employee_Name,0))))","v":""},{"$f":"IF(ISERROR(INDEX('Employee Data'!$G$4:$G$553,MATCH(Databackup!A380,Employee_Name,0),0)),\"\",(INDEX('Employee Data'!$G$4:$G$553,MATCH(Databackup!A380,Employee_Name,0))))","v":""},{"$f":"IF(ISERROR(INDEX('Employee Data'!$H$4:$H$553,MATCH(Databackup!A380,Employee_Name,0),0)),\"\",(INDEX('Employee Data'!$H$4:$H$553,MATCH(Databackup!A380,Employee_Name,0))))","v":""},{"$f":"IF(ISERROR(INDEX('Employee Data'!$I$4:$I$553,MATCH(Databackup!A380,Employee_Name,0),0)),\"\",(INDEX('Employee Data'!$I$4:$I$553,MATCH(Databackup!A380,Employee_Name,0))))","v":""},{"$f":"IF(ISERROR(INDEX('Employee Data'!$J$4:$J$553,MATCH(Databackup!A380,Employee_Name,0),0)),\"\",(INDEX('Employee Data'!J$4:$J$553,MATCH(Databackup!A380,Employee_Name,0))))","v":""},{"$f":"IF(ISERROR(INDEX('Employee Data'!$K$4:$K$553,MATCH(Databackup!A380,Employee_Name,0),0)),\"\",(INDEX('Employee Data'!$K$4:$K$553,MATCH(Databackup!A380,Employee_Name,0))))","v":""},{"$f":"IF(ISERROR(INDEX('Employee Data'!$L$4:$L$553,MATCH(Databackup!A380,Employee_Name,0),0)),\"\",(INDEX('Employee Data'!$L$4:$L$553,MATCH(Databackup!A380,Employee_Name,0))))","v":""},{"$f":"IF(ISERROR(INDEX('Employee Data'!$M$4:$M$553,MATCH(Databackup!A380,Employee_Name,0),0)),\"\",(INDEX('Employee Data'!$M$4:$M$553,MATCH(Databackup!A380,Employee_Name,0))))","v":""},{"$f":"IF(ISERROR(INDEX('Employee Data'!$N$4:$N$553,MATCH(Databackup!A380,Employee_Name,0),0)),\"\",(INDEX('Employee Data'!$N$4:$N$553,MATCH(Databackup!A380,Employee_Name,0))))","v":""},{"$f":"IF(ISERROR(INDEX('Employee Data'!$O$4:$O$553,MATCH(Databackup!A380,Employee_Name,0),0)),\"\",(INDEX('Employee Data'!$O$4:$O$553,MATCH(Databackup!A380,Employee_Name,0))))","v":""}]
[{"$f":"INDEX(Employee_Name,MATCH(SMALL(IF($A$1='Employee Data'!$I$4:$I$553,'Employee Data'!$B$4:$B$553,\"\"),ROW('Employee Data'!A379)),IF($A$1='Employee Data'!$I$4:$I$553,'Employee Data'!$B$4:$B$553,\"\"),0))","v":{"$error":"#NUM!"}},{"$f":"IF(ISERROR(INDEX('Employee Data'!$B$4:$B$553,MATCH(Databackup!A381,Employee_Name,0),0)),\"\",(INDEX('Employee Data'!$B$4:$B$553,MATCH(Databackup!A381,Employee_Name,0))))","v":""},{"$f":"IF(ISERROR(INDEX('Employee Data'!$C$4:$C$553,MATCH(Databackup!A381,Employee_Name,0),0)),\"\",(INDEX('Employee Data'!$C$4:$C$553,MATCH(Databackup!A381,Employee_Name,0))))","v":""},{"$f":"IF(ISERROR(INDEX('Employee Data'!$D$4:$D$553,MATCH(Databackup!A381,Employee_Name,0),0)),\"\",(INDEX('Employee Data'!$D$4:$D$553,MATCH(Databackup!A381,Employee_Name,0))))","v":""},{"$f":"IF(ISERROR(INDEX('Employee Data'!$F$4:$F$553,MATCH(Databackup!A381,Employee_Name,0),0)),\"\",(INDEX('Employee Data'!$F$4:$F$553,MATCH(Databackup!A381,Employee_Name,0))))","v":""},{"$f":"IF(ISERROR(INDEX('Employee Data'!$G$4:$G$553,MATCH(Databackup!A381,Employee_Name,0),0)),\"\",(INDEX('Employee Data'!$G$4:$G$553,MATCH(Databackup!A381,Employee_Name,0))))","v":""},{"$f":"IF(ISERROR(INDEX('Employee Data'!$H$4:$H$553,MATCH(Databackup!A381,Employee_Name,0),0)),\"\",(INDEX('Employee Data'!$H$4:$H$553,MATCH(Databackup!A381,Employee_Name,0))))","v":""},{"$f":"IF(ISERROR(INDEX('Employee Data'!$I$4:$I$553,MATCH(Databackup!A381,Employee_Name,0),0)),\"\",(INDEX('Employee Data'!$I$4:$I$553,MATCH(Databackup!A381,Employee_Name,0))))","v":""},{"$f":"IF(ISERROR(INDEX('Employee Data'!$J$4:$J$553,MATCH(Databackup!A381,Employee_Name,0),0)),\"\",(INDEX('Employee Data'!J$4:$J$553,MATCH(Databackup!A381,Employee_Name,0))))","v":""},{"$f":"IF(ISERROR(INDEX('Employee Data'!$K$4:$K$553,MATCH(Databackup!A381,Employee_Name,0),0)),\"\",(INDEX('Employee Data'!$K$4:$K$553,MATCH(Databackup!A381,Employee_Name,0))))","v":""},{"$f":"IF(ISERROR(INDEX('Employee Data'!$L$4:$L$553,MATCH(Databackup!A381,Employee_Name,0),0)),\"\",(INDEX('Employee Data'!$L$4:$L$553,MATCH(Databackup!A381,Employee_Name,0))))","v":""},{"$f":"IF(ISERROR(INDEX('Employee Data'!$M$4:$M$553,MATCH(Databackup!A381,Employee_Name,0),0)),\"\",(INDEX('Employee Data'!$M$4:$M$553,MATCH(Databackup!A381,Employee_Name,0))))","v":""},{"$f":"IF(ISERROR(INDEX('Employee Data'!$N$4:$N$553,MATCH(Databackup!A381,Employee_Name,0),0)),\"\",(INDEX('Employee Data'!$N$4:$N$553,MATCH(Databackup!A381,Employee_Name,0))))","v":""},{"$f":"IF(ISERROR(INDEX('Employee Data'!$O$4:$O$553,MATCH(Databackup!A381,Employee_Name,0),0)),\"\",(INDEX('Employee Data'!$O$4:$O$553,MATCH(Databackup!A381,Employee_Name,0))))","v":""}]
[{"$f":"INDEX(Employee_Name,MATCH(SMALL(IF($A$1='Employee Data'!$I$4:$I$553,'Employee Data'!$B$4:$B$553,\"\"),ROW('Employee Data'!A380)),IF($A$1='Employee Data'!$I$4:$I$553,'Employee Data'!$B$4:$B$553,\"\"),0))","v":{"$error":"#NUM!"}},{"$f":"IF(ISERROR(INDEX('Employee Data'!$B$4:$B$553,MATCH(Databackup!A382,Employee_Name,0),0)),\"\",(INDEX('Employee Data'!$B$4:$B$553,MATCH(Databackup!A382,Employee_Name,0))))","v":""},{"$f":"IF(ISERROR(INDEX('Employee Data'!$C$4:$C$553,MATCH(Databackup!A382,Employee_Name,0),0)),\"\",(INDEX('Employee Data'!$C$4:$C$553,MATCH(Databackup!A382,Employee_Name,0))))","v":""},{"$f":"IF(ISERROR(INDEX('Employee Data'!$D$4:$D$553,MATCH(Databackup!A382,Employee_Name,0),0)),\"\",(INDEX('Employee Data'!$D$4:$D$553,MATCH(Databackup!A382,Employee_Name,0))))","v":""},{"$f":"IF(ISERROR(INDEX('Employee Data'!$F$4:$F$553,MATCH(Databackup!A382,Employee_Name,0),0)),\"\",(INDEX('Employee Data'!$F$4:$F$553,MATCH(Databackup!A382,Employee_Name,0))))","v":""},{"$f":"IF(ISERROR(INDEX('Employee Data'!$G$4:$G$553,MATCH(Databackup!A382,Employee_Name,0),0)),\"\",(INDEX('Employee Data'!$G$4:$G$553,MATCH(Databackup!A382,Employee_Name,0))))","v":""},{"$f":"IF(ISERROR(INDEX('Employee Data'!$H$4:$H$553,MATCH(Databackup!A382,Employee_Name,0),0)),\"\",(INDEX('Employee Data'!$H$4:$H$553,MATCH(Databackup!A382,Employee_Name,0))))","v":""},{"$f":"IF(ISERROR(INDEX('Employee Data'!$I$4:$I$553,MATCH(Databackup!A382,Employee_Name,0),0)),\"\",(INDEX('Employee Data'!$I$4:$I$553,MATCH(Databackup!A382,Employee_Name,0))))","v":""},{"$f":"IF(ISERROR(INDEX('Employee Data'!$J$4:$J$553,MATCH(Databackup!A382,Employee_Name,0),0)),\"\",(INDEX('Employee Data'!J$4:$J$553,MATCH(Databackup!A382,Employee_Name,0))))","v":""},{"$f":"IF(ISERROR(INDEX('Employee Data'!$K$4:$K$553,MATCH(Databackup!A382,Employee_Name,0),0)),\"\",(INDEX('Employee Data'!$K$4:$K$553,MATCH(Databackup!A382,Employee_Name,0))))","v":""},{"$f":"IF(ISERROR(INDEX('Employee Data'!$L$4:$L$553,MATCH(Databackup!A382,Employee_Name,0),0)),\"\",(INDEX('Employee Data'!$L$4:$L$553,MATCH(Databackup!A382,Employee_Name,0))))","v":""},{"$f":"IF(ISERROR(INDEX('Employee Data'!$M$4:$M$553,MATCH(Databackup!A382,Employee_Name,0),0)),\"\",(INDEX('Employee Data'!$M$4:$M$553,MATCH(Databackup!A382,Employee_Name,0))))","v":""},{"$f":"IF(ISERROR(INDEX('Employee Data'!$N$4:$N$553,MATCH(Databackup!A382,Employee_Name,0),0)),\"\",(INDEX('Employee Data'!$N$4:$N$553,MATCH(Databackup!A382,Employee_Name,0))))","v":""},{"$f":"IF(ISERROR(INDEX('Employee Data'!$O$4:$O$553,MATCH(Databackup!A382,Employee_Name,0),0)),\"\",(INDEX('Employee Data'!$O$4:$O$553,MATCH(Databackup!A382,Employee_Name,0))))","v":""}]
[{"$f":"INDEX(Employee_Name,MATCH(SMALL(IF($A$1='Employee Data'!$I$4:$I$553,'Employee Data'!$B$4:$B$553,\"\"),ROW('Employee Data'!A381)),IF($A$1='Employee Data'!$I$4:$I$553,'Employee Data'!$B$4:$B$553,\"\"),0))","v":{"$error":"#NUM!"}},{"$f":"IF(ISERROR(INDEX('Employee Data'!$B$4:$B$553,MATCH(Databackup!A383,Employee_Name,0),0)),\"\",(INDEX('Employee Data'!$B$4:$B$553,MATCH(Databackup!A383,Employee_Name,0))))","v":""},{"$f":"IF(ISERROR(INDEX('Employee Data'!$C$4:$C$553,MATCH(Databackup!A383,Employee_Name,0),0)),\"\",(INDEX('Employee Data'!$C$4:$C$553,MATCH(Databackup!A383,Employee_Name,0))))","v":""},{"$f":"IF(ISERROR(INDEX('Employee Data'!$D$4:$D$553,MATCH(Databackup!A383,Employee_Name,0),0)),\"\",(INDEX('Employee Data'!$D$4:$D$553,MATCH(Databackup!A383,Employee_Name,0))))","v":""},{"$f":"IF(ISERROR(INDEX('Employee Data'!$F$4:$F$553,MATCH(Databackup!A383,Employee_Name,0),0)),\"\",(INDEX('Employee Data'!$F$4:$F$553,MATCH(Databackup!A383,Employee_Name,0))))","v":""},{"$f":"IF(ISERROR(INDEX('Employee Data'!$G$4:$G$553,MATCH(Databackup!A383,Employee_Name,0),0)),\"\",(INDEX('Employee Data'!$G$4:$G$553,MATCH(Databackup!A383,Employee_Name,0))))","v":""},{"$f":"IF(ISERROR(INDEX('Employee Data'!$H$4:$H$553,MATCH(Databackup!A383,Employee_Name,0),0)),\"\",(INDEX('Employee Data'!$H$4:$H$553,MATCH(Databackup!A383,Employee_Name,0))))","v":""},{"$f":"IF(ISERROR(INDEX('Employee Data'!$I$4:$I$553,MATCH(Databackup!A383,Employee_Name,0),0)),\"\",(INDEX('Employee Data'!$I$4:$I$553,MATCH(Databackup!A383,Employee_Name,0))))","v":""},{"$f":"IF(ISERROR(INDEX('Employee Data'!$J$4:$J$553,MATCH(Databackup!A383,Employee_Name,0),0)),\"\",(INDEX('Employee Data'!J$4:$J$553,MATCH(Databackup!A383,Employee_Name,0))))","v":""},{"$f":"IF(ISERROR(INDEX('Employee Data'!$K$4:$K$553,MATCH(Databackup!A383,Employee_Name,0),0)),\"\",(INDEX('Employee Data'!$K$4:$K$553,MATCH(Databackup!A383,Employee_Name,0))))","v":""},{"$f":"IF(ISERROR(INDEX('Employee Data'!$L$4:$L$553,MATCH(Databackup!A383,Employee_Name,0),0)),\"\",(INDEX('Employee Data'!$L$4:$L$553,MATCH(Databackup!A383,Employee_Name,0))))","v":""},{"$f":"IF(ISERROR(INDEX('Employee Data'!$M$4:$M$553,MATCH(Databackup!A383,Employee_Name,0),0)),\"\",(INDEX('Employee Data'!$M$4:$M$553,MATCH(Databackup!A383,Employee_Name,0))))","v":""},{"$f":"IF(ISERROR(INDEX('Employee Data'!$N$4:$N$553,MATCH(Databackup!A383,Employee_Name,0),0)),\"\",(INDEX('Employee Data'!$N$4:$N$553,MATCH(Databackup!A383,Employee_Name,0))))","v":""},{"$f":"IF(ISERROR(INDEX('Employee Data'!$O$4:$O$553,MATCH(Databackup!A383,Employee_Name,0),0)),\"\",(INDEX('Employee Data'!$O$4:$O$553,MATCH(Databackup!A383,Employee_Name,0))))","v":""}]
[{"$f":"INDEX(Employee_Name,MATCH(SMALL(IF($A$1='Employee Data'!$I$4:$I$553,'Employee Data'!$B$4:$B$553,\"\"),ROW('Employee Data'!A382)),IF($A$1='Employee Data'!$I$4:$I$553,'Employee Data'!$B$4:$B$553,\"\"),0))","v":{"$error":"#NUM!"}},{"$f":"IF(ISERROR(INDEX('Employee Data'!$B$4:$B$553,MATCH(Databackup!A384,Employee_Name,0),0)),\"\",(INDEX('Employee Data'!$B$4:$B$553,MATCH(Databackup!A384,Employee_Name,0))))","v":""},{"$f":"IF(ISERROR(INDEX('Employee Data'!$C$4:$C$553,MATCH(Databackup!A384,Employee_Name,0),0)),\"\",(INDEX('Employee Data'!$C$4:$C$553,MATCH(Databackup!A384,Employee_Name,0))))","v":""},{"$f":"IF(ISERROR(INDEX('Employee Data'!$D$4:$D$553,MATCH(Databackup!A384,Employee_Name,0),0)),\"\",(INDEX('Employee Data'!$D$4:$D$553,MATCH(Databackup!A384,Employee_Name,0))))","v":""},{"$f":"IF(ISERROR(INDEX('Employee Data'!$F$4:$F$553,MATCH(Databackup!A384,Employee_Name,0),0)),\"\",(INDEX('Employee Data'!$F$4:$F$553,MATCH(Databackup!A384,Employee_Name,0))))","v":""},{"$f":"IF(ISERROR(INDEX('Employee Data'!$G$4:$G$553,MATCH(Databackup!A384,Employee_Name,0),0)),\"\",(INDEX('Employee Data'!$G$4:$G$553,MATCH(Databackup!A384,Employee_Name,0))))","v":""},{"$f":"IF(ISERROR(INDEX('Employee Data'!$H$4:$H$553,MATCH(Databackup!A384,Employee_Name,0),0)),\"\",(INDEX('Employee Data'!$H$4:$H$553,MATCH(Databackup!A384,Employee_Name,0))))","v":""},{"$f":"IF(ISERROR(INDEX('Employee Data'!$I$4:$I$553,MATCH(Databackup!A384,Employee_Name,0),0)),\"\",(INDEX('Employee Data'!$I$4:$I$553,MATCH(Databackup!A384,Employee_Name,0))))","v":""},{"$f":"IF(ISERROR(INDEX('Employee Data'!$J$4:$J$553,MATCH(Databackup!A384,Employee_Name,0),0)),\"\",(INDEX('Employee Data'!J$4:$J$553,MATCH(Databackup!A384,Employee_Name,0))))","v":""},{"$f":"IF(ISERROR(INDEX('Employee Data'!$K$4:$K$553,MATCH(Databackup!A384,Employee_Name,0),0)),\"\",(INDEX('Employee Data'!$K$4:$K$553,MATCH(Databackup!A384,Employee_Name,0))))","v":""},{"$f":"IF(ISERROR(INDEX('Employee Data'!$L$4:$L$553,MATCH(Databackup!A384,Employee_Name,0),0)),\"\",(INDEX('Employee Data'!$L$4:$L$553,MATCH(Databackup!A384,Employee_Name,0))))","v":""},{"$f":"IF(ISERROR(INDEX('Employee Data'!$M$4:$M$553,MATCH(Databackup!A384,Employee_Name,0),0)),\"\",(INDEX('Employee Data'!$M$4:$M$553,MATCH(Databackup!A384,Employee_Name,0))))","v":""},{"$f":"IF(ISERROR(INDEX('Employee Data'!$N$4:$N$553,MATCH(Databackup!A384,Employee_Name,0),0)),\"\",(INDEX('Employee Data'!$N$4:$N$553,MATCH(Databackup!A384,Employee_Name,0))))","v":""},{"$f":"IF(ISERROR(INDEX('Employee Data'!$O$4:$O$553,MATCH(Databackup!A384,Employee_Name,0),0)),\"\",(INDEX('Employee Data'!$O$4:$O$553,MATCH(Databackup!A384,Employee_Name,0))))","v":""}]
[{"$f":"INDEX(Employee_Name,MATCH(SMALL(IF($A$1='Employee Data'!$I$4:$I$553,'Employee Data'!$B$4:$B$553,\"\"),ROW('Employee Data'!A383)),IF($A$1='Employee Data'!$I$4:$I$553,'Employee Data'!$B$4:$B$553,\"\"),0))","v":{"$error":"#NUM!"}},{"$f":"IF(ISERROR(INDEX('Employee Data'!$B$4:$B$553,MATCH(Databackup!A385,Employee_Name,0),0)),\"\",(INDEX('Employee Data'!$B$4:$B$553,MATCH(Databackup!A385,Employee_Name,0))))","v":""},{"$f":"IF(ISERROR(INDEX('Employee Data'!$C$4:$C$553,MATCH(Databackup!A385,Employee_Name,0),0)),\"\",(INDEX('Employee Data'!$C$4:$C$553,MATCH(Databackup!A385,Employee_Name,0))))","v":""},{"$f":"IF(ISERROR(INDEX('Employee Data'!$D$4:$D$553,MATCH(Databackup!A385,Employee_Name,0),0)),\"\",(INDEX('Employee Data'!$D$4:$D$553,MATCH(Databackup!A385,Employee_Name,0))))","v":""},{"$f":"IF(ISERROR(INDEX('Employee Data'!$F$4:$F$553,MATCH(Databackup!A385,Employee_Name,0),0)),\"\",(INDEX('Employee Data'!$F$4:$F$553,MATCH(Databackup!A385,Employee_Name,0))))","v":""},{"$f":"IF(ISERROR(INDEX('Employee Data'!$G$4:$G$553,MATCH(Databackup!A385,Employee_Name,0),0)),\"\",(INDEX('Employee Data'!$G$4:$G$553,MATCH(Databackup!A385,Employee_Name,0))))","v":""},{"$f":"IF(ISERROR(INDEX('Employee Data'!$H$4:$H$553,MATCH(Databackup!A385,Employee_Name,0),0)),\"\",(INDEX('Employee Data'!$H$4:$H$553,MATCH(Databackup!A385,Employee_Name,0))))","v":""},{"$f":"IF(ISERROR(INDEX('Employee Data'!$I$4:$I$553,MATCH(Databackup!A385,Employee_Name,0),0)),\"\",(INDEX('Employee Data'!$I$4:$I$553,MATCH(Databackup!A385,Employee_Name,0))))","v":""},{"$f":"IF(ISERROR(INDEX('Employee Data'!$J$4:$J$553,MATCH(Databackup!A385,Employee_Name,0),0)),\"\",(INDEX('Employee Data'!J$4:$J$553,MATCH(Databackup!A385,Employee_Name,0))))","v":""},{"$f":"IF(ISERROR(INDEX('Employee Data'!$K$4:$K$553,MATCH(Databackup!A385,Employee_Name,0),0)),\"\",(INDEX('Employee Data'!$K$4:$K$553,MATCH(Databackup!A385,Employee_Name,0))))","v":""},{"$f":"IF(ISERROR(INDEX('Employee Data'!$L$4:$L$553,MATCH(Databackup!A385,Employee_Name,0),0)),\"\",(INDEX('Employee Data'!$L$4:$L$553,MATCH(Databackup!A385,Employee_Name,0))))","v":""},{"$f":"IF(ISERROR(INDEX('Employee Data'!$M$4:$M$553,MATCH(Databackup!A385,Employee_Name,0),0)),\"\",(INDEX('Employee Data'!$M$4:$M$553,MATCH(Databackup!A385,Employee_Name,0))))","v":""},{"$f":"IF(ISERROR(INDEX('Employee Data'!$N$4:$N$553,MATCH(Databackup!A385,Employee_Name,0),0)),\"\",(INDEX('Employee Data'!$N$4:$N$553,MATCH(Databackup!A385,Employee_Name,0))))","v":""},{"$f":"IF(ISERROR(INDEX('Employee Data'!$O$4:$O$553,MATCH(Databackup!A385,Employee_Name,0),0)),\"\",(INDEX('Employee Data'!$O$4:$O$553,MATCH(Databackup!A385,Employee_Name,0))))","v":""}]
[{"$f":"INDEX(Employee_Name,MATCH(SMALL(IF($A$1='Employee Data'!$I$4:$I$553,'Employee Data'!$B$4:$B$553,\"\"),ROW('Employee Data'!A384)),IF($A$1='Employee Data'!$I$4:$I$553,'Employee Data'!$B$4:$B$553,\"\"),0))","v":{"$error":"#NUM!"}},{"$f":"IF(ISERROR(INDEX('Employee Data'!$B$4:$B$553,MATCH(Databackup!A386,Employee_Name,0),0)),\"\",(INDEX('Employee Data'!$B$4:$B$553,MATCH(Databackup!A386,Employee_Name,0))))","v":""},{"$f":"IF(ISERROR(INDEX('Employee Data'!$C$4:$C$553,MATCH(Databackup!A386,Employee_Name,0),0)),\"\",(INDEX('Employee Data'!$C$4:$C$553,MATCH(Databackup!A386,Employee_Name,0))))","v":""},{"$f":"IF(ISERROR(INDEX('Employee Data'!$D$4:$D$553,MATCH(Databackup!A386,Employee_Name,0),0)),\"\",(INDEX('Employee Data'!$D$4:$D$553,MATCH(Databackup!A386,Employee_Name,0))))","v":""},{"$f":"IF(ISERROR(INDEX('Employee Data'!$F$4:$F$553,MATCH(Databackup!A386,Employee_Name,0),0)),\"\",(INDEX('Employee Data'!$F$4:$F$553,MATCH(Databackup!A386,Employee_Name,0))))","v":""},{"$f":"IF(ISERROR(INDEX('Employee Data'!$G$4:$G$553,MATCH(Databackup!A386,Employee_Name,0),0)),\"\",(INDEX('Employee Data'!$G$4:$G$553,MATCH(Databackup!A386,Employee_Name,0))))","v":""},{"$f":"IF(ISERROR(INDEX('Employee Data'!$H$4:$H$553,MATCH(Databackup!A386,Employee_Name,0),0)),\"\",(INDEX('Employee Data'!$H$4:$H$553,MATCH(Databackup!A386,Employee_Name,0))))","v":""},{"$f":"IF(ISERROR(INDEX('Employee Data'!$I$4:$I$553,MATCH(Databackup!A386,Employee_Name,0),0)),\"\",(INDEX('Employee Data'!$I$4:$I$553,MATCH(Databackup!A386,Employee_Name,0))))","v":""},{"$f":"IF(ISERROR(INDEX('Employee Data'!$J$4:$J$553,MATCH(Databackup!A386,Employee_Name,0),0)),\"\",(INDEX('Employee Data'!J$4:$J$553,MATCH(Databackup!A386,Employee_Name,0))))","v":""},{"$f":"IF(ISERROR(INDEX('Employee Data'!$K$4:$K$553,MATCH(Databackup!A386,Employee_Name,0),0)),\"\",(INDEX('Employee Data'!$K$4:$K$553,MATCH(Databackup!A386,Employee_Name,0))))","v":""},{"$f":"IF(ISERROR(INDEX('Employee Data'!$L$4:$L$553,MATCH(Databackup!A386,Employee_Name,0),0)),\"\",(INDEX('Employee Data'!$L$4:$L$553,MATCH(Databackup!A386,Employee_Name,0))))","v":""},{"$f":"IF(ISERROR(INDEX('Employee Data'!$M$4:$M$553,MATCH(Databackup!A386,Employee_Name,0),0)),\"\",(INDEX('Employee Data'!$M$4:$M$553,MATCH(Databackup!A386,Employee_Name,0))))","v":""},{"$f":"IF(ISERROR(INDEX('Employee Data'!$N$4:$N$553,MATCH(Databackup!A386,Employee_Name,0),0)),\"\",(INDEX('Employee Data'!$N$4:$N$553,MATCH(Databackup!A386,Employee_Name,0))))","v":""},{"$f":"IF(ISERROR(INDEX('Employee Data'!$O$4:$O$553,MATCH(Databackup!A386,Employee_Name,0),0)),\"\",(INDEX('Employee Data'!$O$4:$O$553,MATCH(Databackup!A386,Employee_Name,0))))","v":""}]
[{"$f":"INDEX(Employee_Name,MATCH(SMALL(IF($A$1='Employee Data'!$I$4:$I$553,'Employee Data'!$B$4:$B$553,\"\"),ROW('Employee Data'!A385)),IF($A$1='Employee Data'!$I$4:$I$553,'Employee Data'!$B$4:$B$553,\"\"),0))","v":{"$error":"#NUM!"}},{"$f":"IF(ISERROR(INDEX('Employee Data'!$B$4:$B$553,MATCH(Databackup!A387,Employee_Name,0),0)),\"\",(INDEX('Employee Data'!$B$4:$B$553,MATCH(Databackup!A387,Employee_Name,0))))","v":""},{"$f":"IF(ISERROR(INDEX('Employee Data'!$C$4:$C$553,MATCH(Databackup!A387,Employee_Name,0),0)),\"\",(INDEX('Employee Data'!$C$4:$C$553,MATCH(Databackup!A387,Employee_Name,0))))","v":""},{"$f":"IF(ISERROR(INDEX('Employee Data'!$D$4:$D$553,MATCH(Databackup!A387,Employee_Name,0),0)),\"\",(INDEX('Employee Data'!$D$4:$D$553,MATCH(Databackup!A387,Employee_Name,0))))","v":""},{"$f":"IF(ISERROR(INDEX('Employee Data'!$F$4:$F$553,MATCH(Databackup!A387,Employee_Name,0),0)),\"\",(INDEX('Employee Data'!$F$4:$F$553,MATCH(Databackup!A387,Employee_Name,0))))","v":""},{"$f":"IF(ISERROR(INDEX('Employee Data'!$G$4:$G$553,MATCH(Databackup!A387,Employee_Name,0),0)),\"\",(INDEX('Employee Data'!$G$4:$G$553,MATCH(Databackup!A387,Employee_Name,0))))","v":""},{"$f":"IF(ISERROR(INDEX('Employee Data'!$H$4:$H$553,MATCH(Databackup!A387,Employee_Name,0),0)),\"\",(INDEX('Employee Data'!$H$4:$H$553,MATCH(Databackup!A387,Employee_Name,0))))","v":""},{"$f":"IF(ISERROR(INDEX('Employee Data'!$I$4:$I$553,MATCH(Databackup!A387,Employee_Name,0),0)),\"\",(INDEX('Employee Data'!$I$4:$I$553,MATCH(Databackup!A387,Employee_Name,0))))","v":""},{"$f":"IF(ISERROR(INDEX('Employee Data'!$J$4:$J$553,MATCH(Databackup!A387,Employee_Name,0),0)),\"\",(INDEX('Employee Data'!J$4:$J$553,MATCH(Databackup!A387,Employee_Name,0))))","v":""},{"$f":"IF(ISERROR(INDEX('Employee Data'!$K$4:$K$553,MATCH(Databackup!A387,Employee_Name,0),0)),\"\",(INDEX('Employee Data'!$K$4:$K$553,MATCH(Databackup!A387,Employee_Name,0))))","v":""},{"$f":"IF(ISERROR(INDEX('Employee Data'!$L$4:$L$553,MATCH(Databackup!A387,Employee_Name,0),0)),\"\",(INDEX('Employee Data'!$L$4:$L$553,MATCH(Databackup!A387,Employee_Name,0))))","v":""},{"$f":"IF(ISERROR(INDEX('Employee Data'!$M$4:$M$553,MATCH(Databackup!A387,Employee_Name,0),0)),\"\",(INDEX('Employee Data'!$M$4:$M$553,MATCH(Databackup!A387,Employee_Name,0))))","v":""},{"$f":"IF(ISERROR(INDEX('Employee Data'!$N$4:$N$553,MATCH(Databackup!A387,Employee_Name,0),0)),\"\",(INDEX('Employee Data'!$N$4:$N$553,MATCH(Databackup!A387,Employee_Name,0))))","v":""},{"$f":"IF(ISERROR(INDEX('Employee Data'!$O$4:$O$553,MATCH(Databackup!A387,Employee_Name,0),0)),\"\",(INDEX('Employee Data'!$O$4:$O$553,MATCH(Databackup!A387,Employee_Name,0))))","v":""}]
[{"$f":"INDEX(Employee_Name,MATCH(SMALL(IF($A$1='Employee Data'!$I$4:$I$553,'Employee Data'!$B$4:$B$553,\"\"),ROW('Employee Data'!A386)),IF($A$1='Employee Data'!$I$4:$I$553,'Employee Data'!$B$4:$B$553,\"\"),0))","v":{"$error":"#NUM!"}},{"$f":"IF(ISERROR(INDEX('Employee Data'!$B$4:$B$553,MATCH(Databackup!A388,Employee_Name,0),0)),\"\",(INDEX('Employee Data'!$B$4:$B$553,MATCH(Databackup!A388,Employee_Name,0))))","v":""},{"$f":"IF(ISERROR(INDEX('Employee Data'!$C$4:$C$553,MATCH(Databackup!A388,Employee_Name,0),0)),\"\",(INDEX('Employee Data'!$C$4:$C$553,MATCH(Databackup!A388,Employee_Name,0))))","v":""},{"$f":"IF(ISERROR(INDEX('Employee Data'!$D$4:$D$553,MATCH(Databackup!A388,Employee_Name,0),0)),\"\",(INDEX('Employee Data'!$D$4:$D$553,MATCH(Databackup!A388,Employee_Name,0))))","v":""},{"$f":"IF(ISERROR(INDEX('Employee Data'!$F$4:$F$553,MATCH(Databackup!A388,Employee_Name,0),0)),\"\",(INDEX('Employee Data'!$F$4:$F$553,MATCH(Databackup!A388,Employee_Name,0))))","v":""},{"$f":"IF(ISERROR(INDEX('Employee Data'!$G$4:$G$553,MATCH(Databackup!A388,Employee_Name,0),0)),\"\",(INDEX('Employee Data'!$G$4:$G$553,MATCH(Databackup!A388,Employee_Name,0))))","v":""},{"$f":"IF(ISERROR(INDEX('Employee Data'!$H$4:$H$553,MATCH(Databackup!A388,Employee_Name,0),0)),\"\",(INDEX('Employee Data'!$H$4:$H$553,MATCH(Databackup!A388,Employee_Name,0))))","v":""},{"$f":"IF(ISERROR(INDEX('Employee Data'!$I$4:$I$553,MATCH(Databackup!A388,Employee_Name,0),0)),\"\",(INDEX('Employee Data'!$I$4:$I$553,MATCH(Databackup!A388,Employee_Name,0))))","v":""},{"$f":"IF(ISERROR(INDEX('Employee Data'!$J$4:$J$553,MATCH(Databackup!A388,Employee_Name,0),0)),\"\",(INDEX('Employee Data'!J$4:$J$553,MATCH(Databackup!A388,Employee_Name,0))))","v":""},{"$f":"IF(ISERROR(INDEX('Employee Data'!$K$4:$K$553,MATCH(Databackup!A388,Employee_Name,0),0)),\"\",(INDEX('Employee Data'!$K$4:$K$553,MATCH(Databackup!A388,Employee_Name,0))))","v":""},{"$f":"IF(ISERROR(INDEX('Employee Data'!$L$4:$L$553,MATCH(Databackup!A388,Employee_Name,0),0)),\"\",(INDEX('Employee Data'!$L$4:$L$553,MATCH(Databackup!A388,Employee_Name,0))))","v":""},{"$f":"IF(ISERROR(INDEX('Employee Data'!$M$4:$M$553,MATCH(Databackup!A388,Employee_Name,0),0)),\"\",(INDEX('Employee Data'!$M$4:$M$553,MATCH(Databackup!A388,Employee_Name,0))))","v":""},{"$f":"IF(ISERROR(INDEX('Employee Data'!$N$4:$N$553,MATCH(Databackup!A388,Employee_Name,0),0)),\"\",(INDEX('Employee Data'!$N$4:$N$553,MATCH(Databackup!A388,Employee_Name,0))))","v":""},{"$f":"IF(ISERROR(INDEX('Employee Data'!$O$4:$O$553,MATCH(Databackup!A388,Employee_Name,0),0)),\"\",(INDEX('Employee Data'!$O$4:$O$553,MATCH(Databackup!A388,Employee_Name,0))))","v":""}]
[{"$f":"INDEX(Employee_Name,MATCH(SMALL(IF($A$1='Employee Data'!$I$4:$I$553,'Employee Data'!$B$4:$B$553,\"\"),ROW('Employee Data'!A387)),IF($A$1='Employee Data'!$I$4:$I$553,'Employee Data'!$B$4:$B$553,\"\"),0))","v":{"$error":"#NUM!"}},{"$f":"IF(ISERROR(INDEX('Employee Data'!$B$4:$B$553,MATCH(Databackup!A389,Employee_Name,0),0)),\"\",(INDEX('Employee Data'!$B$4:$B$553,MATCH(Databackup!A389,Employee_Name,0))))","v":""},{"$f":"IF(ISERROR(INDEX('Employee Data'!$C$4:$C$553,MATCH(Databackup!A389,Employee_Name,0),0)),\"\",(INDEX('Employee Data'!$C$4:$C$553,MATCH(Databackup!A389,Employee_Name,0))))","v":""},{"$f":"IF(ISERROR(INDEX('Employee Data'!$D$4:$D$553,MATCH(Databackup!A389,Employee_Name,0),0)),\"\",(INDEX('Employee Data'!$D$4:$D$553,MATCH(Databackup!A389,Employee_Name,0))))","v":""},{"$f":"IF(ISERROR(INDEX('Employee Data'!$F$4:$F$553,MATCH(Databackup!A389,Employee_Name,0),0)),\"\",(INDEX('Employee Data'!$F$4:$F$553,MATCH(Databackup!A389,Employee_Name,0))))","v":""},{"$f":"IF(ISERROR(INDEX('Employee Data'!$G$4:$G$553,MATCH(Databackup!A389,Employee_Name,0),0)),\"\",(INDEX('Employee Data'!$G$4:$G$553,MATCH(Databackup!A389,Employee_Name,0))))","v":""},{"$f":"IF(ISERROR(INDEX('Employee Data'!$H$4:$H$553,MATCH(Databackup!A389,Employee_Name,0),0)),\"\",(INDEX('Employee Data'!$H$4:$H$553,MATCH(Databackup!A389,Employee_Name,0))))","v":""},{"$f":"IF(ISERROR(INDEX('Employee Data'!$I$4:$I$553,MATCH(Databackup!A389,Employee_Name,0),0)),\"\",(INDEX('Employee Data'!$I$4:$I$553,MATCH(Databackup!A389,Employee_Name,0))))","v":""},{"$f":"IF(ISERROR(INDEX('Employee Data'!$J$4:$J$553,MATCH(Databackup!A389,Employee_Name,0),0)),\"\",(INDEX('Employee Data'!J$4:$J$553,MATCH(Databackup!A389,Employee_Name,0))))","v":""},{"$f":"IF(ISERROR(INDEX('Employee Data'!$K$4:$K$553,MATCH(Databackup!A389,Employee_Name,0),0)),\"\",(INDEX('Employee Data'!$K$4:$K$553,MATCH(Databackup!A389,Employee_Name,0))))","v":""},{"$f":"IF(ISERROR(INDEX('Employee Data'!$L$4:$L$553,MATCH(Databackup!A389,Employee_Name,0),0)),\"\",(INDEX('Employee Data'!$L$4:$L$553,MATCH(Databackup!A389,Employee_Name,0))))","v":""},{"$f":"IF(ISERROR(INDEX('Employee Data'!$M$4:$M$553,MATCH(Databackup!A389,Employee_Name,0),0)),\"\",(INDEX('Employee Data'!$M$4:$M$553,MATCH(Databackup!A389,Employee_Name,0))))","v":""},{"$f":"IF(ISERROR(INDEX('Employee Data'!$N$4:$N$553,MATCH(Databackup!A389,Employee_Name,0),0)),\"\",(INDEX('Employee Data'!$N$4:$N$553,MATCH(Databackup!A389,Employee_Name,0))))","v":""},{"$f":"IF(ISERROR(INDEX('Employee Data'!$O$4:$O$553,MATCH(Databackup!A389,Employee_Name,0),0)),\"\",(INDEX('Employee Data'!$O$4:$O$553,MATCH(Databackup!A389,Employee_Name,0))))","v":""}]
[{"$f":"INDEX(Employee_Name,MATCH(SMALL(IF($A$1='Employee Data'!$I$4:$I$553,'Employee Data'!$B$4:$B$553,\"\"),ROW('Employee Data'!A388)),IF($A$1='Employee Data'!$I$4:$I$553,'Employee Data'!$B$4:$B$553,\"\"),0))","v":{"$error":"#NUM!"}},{"$f":"IF(ISERROR(INDEX('Employee Data'!$B$4:$B$553,MATCH(Databackup!A390,Employee_Name,0),0)),\"\",(INDEX('Employee Data'!$B$4:$B$553,MATCH(Databackup!A390,Employee_Name,0))))","v":""},{"$f":"IF(ISERROR(INDEX('Employee Data'!$C$4:$C$553,MATCH(Databackup!A390,Employee_Name,0),0)),\"\",(INDEX('Employee Data'!$C$4:$C$553,MATCH(Databackup!A390,Employee_Name,0))))","v":""},{"$f":"IF(ISERROR(INDEX('Employee Data'!$D$4:$D$553,MATCH(Databackup!A390,Employee_Name,0),0)),\"\",(INDEX('Employee Data'!$D$4:$D$553,MATCH(Databackup!A390,Employee_Name,0))))","v":""},{"$f":"IF(ISERROR(INDEX('Employee Data'!$F$4:$F$553,MATCH(Databackup!A390,Employee_Name,0),0)),\"\",(INDEX('Employee Data'!$F$4:$F$553,MATCH(Databackup!A390,Employee_Name,0))))","v":""},{"$f":"IF(ISERROR(INDEX('Employee Data'!$G$4:$G$553,MATCH(Databackup!A390,Employee_Name,0),0)),\"\",(INDEX('Employee Data'!$G$4:$G$553,MATCH(Databackup!A390,Employee_Name,0))))","v":""},{"$f":"IF(ISERROR(INDEX('Employee Data'!$H$4:$H$553,MATCH(Databackup!A390,Employee_Name,0),0)),\"\",(INDEX('Employee Data'!$H$4:$H$553,MATCH(Databackup!A390,Employee_Name,0))))","v":""},{"$f":"IF(ISERROR(INDEX('Employee Data'!$I$4:$I$553,MATCH(Databackup!A390,Employee_Name,0),0)),\"\",(INDEX('Employee Data'!$I$4:$I$553,MATCH(Databackup!A390,Employee_Name,0))))","v":""},{"$f":"IF(ISERROR(INDEX('Employee Data'!$J$4:$J$553,MATCH(Databackup!A390,Employee_Name,0),0)),\"\",(INDEX('Employee Data'!J$4:$J$553,MATCH(Databackup!A390,Employee_Name,0))))","v":""},{"$f":"IF(ISERROR(INDEX('Employee Data'!$K$4:$K$553,MATCH(Databackup!A390,Employee_Name,0),0)),\"\",(INDEX('Employee Data'!$K$4:$K$553,MATCH(Databackup!A390,Employee_Name,0))))","v":""},{"$f":"IF(ISERROR(INDEX('Employee Data'!$L$4:$L$553,MATCH(Databackup!A390,Employee_Name,0),0)),\"\",(INDEX('Employee Data'!$L$4:$L$553,MATCH(Databackup!A390,Employee_Name,0))))","v":""},{"$f":"IF(ISERROR(INDEX('Employee Data'!$M$4:$M$553,MATCH(Databackup!A390,Employee_Name,0),0)),\"\",(INDEX('Employee Data'!$M$4:$M$553,MATCH(Databackup!A390,Employee_Name,0))))","v":""},{"$f":"IF(ISERROR(INDEX('Employee Data'!$N$4:$N$553,MATCH(Databackup!A390,Employee_Name,0),0)),\"\",(INDEX('Employee Data'!$N$4:$N$553,MATCH(Databackup!A390,Employee_Name,0))))","v":""},{"$f":"IF(ISERROR(INDEX('Employee Data'!$O$4:$O$553,MATCH(Databackup!A390,Employee_Name,0),0)),\"\",(INDEX('Employee Data'!$O$4:$O$553,MATCH(Databackup!A390,Employee_Name,0))))","v":""}]
[{"$f":"INDEX(Employee_Name,MATCH(SMALL(IF($A$1='Employee Data'!$I$4:$I$553,'Employee Data'!$B$4:$B$553,\"\"),ROW('Employee Data'!A389)),IF($A$1='Employee Data'!$I$4:$I$553,'Employee Data'!$B$4:$B$553,\"\"),0))","v":{"$error":"#NUM!"}},{"$f":"IF(ISERROR(INDEX('Employee Data'!$B$4:$B$553,MATCH(Databackup!A391,Employee_Name,0),0)),\"\",(INDEX('Employee Data'!$B$4:$B$553,MATCH(Databackup!A391,Employee_Name,0))))","v":""},{"$f":"IF(ISERROR(INDEX('Employee Data'!$C$4:$C$553,MATCH(Databackup!A391,Employee_Name,0),0)),\"\",(INDEX('Employee Data'!$C$4:$C$553,MATCH(Databackup!A391,Employee_Name,0))))","v":""},{"$f":"IF(ISERROR(INDEX('Employee Data'!$D$4:$D$553,MATCH(Databackup!A391,Employee_Name,0),0)),\"\",(INDEX('Employee Data'!$D$4:$D$553,MATCH(Databackup!A391,Employee_Name,0))))","v":""},{"$f":"IF(ISERROR(INDEX('Employee Data'!$F$4:$F$553,MATCH(Databackup!A391,Employee_Name,0),0)),\"\",(INDEX('Employee Data'!$F$4:$F$553,MATCH(Databackup!A391,Employee_Name,0))))","v":""},{"$f":"IF(ISERROR(INDEX('Employee Data'!$G$4:$G$553,MATCH(Databackup!A391,Employee_Name,0),0)),\"\",(INDEX('Employee Data'!$G$4:$G$553,MATCH(Databackup!A391,Employee_Name,0))))","v":""},{"$f":"IF(ISERROR(INDEX('Employee Data'!$H$4:$H$553,MATCH(Databackup!A391,Employee_Name,0),0)),\"\",(INDEX('Employee Data'!$H$4:$H$553,MATCH(Databackup!A391,Employee_Name,0))))","v":""},{"$f":"IF(ISERROR(INDEX('Employee Data'!$I$4:$I$553,MATCH(Databackup!A391,Employee_Name,0),0)),\"\",(INDEX('Employee Data'!$I$4:$I$553,MATCH(Databackup!A391,Employee_Name,0))))","v":""},{"$f":"IF(ISERROR(INDEX('Employee Data'!$J$4:$J$553,MATCH(Databackup!A391,Employee_Name,0),0)),\"\",(INDEX('Employee Data'!J$4:$J$553,MATCH(Databackup!A391,Employee_Name,0))))","v":""},{"$f":"IF(ISERROR(INDEX('Employee Data'!$K$4:$K$553,MATCH(Databackup!A391,Employee_Name,0),0)),\"\",(INDEX('Employee Data'!$K$4:$K$553,MATCH(Databackup!A391,Employee_Name,0))))","v":""},{"$f":"IF(ISERROR(INDEX('Employee Data'!$L$4:$L$553,MATCH(Databackup!A391,Employee_Name,0),0)),\"\",(INDEX('Employee Data'!$L$4:$L$553,MATCH(Databackup!A391,Employee_Name,0))))","v":""},{"$f":"IF(ISERROR(INDEX('Employee Data'!$M$4:$M$553,MATCH(Databackup!A391,Employee_Name,0),0)),\"\",(INDEX('Employee Data'!$M$4:$M$553,MATCH(Databackup!A391,Employee_Name,0))))","v":""},{"$f":"IF(ISERROR(INDEX('Employee Data'!$N$4:$N$553,MATCH(Databackup!A391,Employee_Name,0),0)),\"\",(INDEX('Employee Data'!$N$4:$N$553,MATCH(Databackup!A391,Employee_Name,0))))","v":""},{"$f":"IF(ISERROR(INDEX('Employee Data'!$O$4:$O$553,MATCH(Databackup!A391,Employee_Name,0),0)),\"\",(INDEX('Employee Data'!$O$4:$O$553,MATCH(Databackup!A391,Employee_Name,0))))","v":""}]
[{"$f":"INDEX(Employee_Name,MATCH(SMALL(IF($A$1='Employee Data'!$I$4:$I$553,'Employee Data'!$B$4:$B$553,\"\"),ROW('Employee Data'!A390)),IF($A$1='Employee Data'!$I$4:$I$553,'Employee Data'!$B$4:$B$553,\"\"),0))","v":{"$error":"#NUM!"}},{"$f":"IF(ISERROR(INDEX('Employee Data'!$B$4:$B$553,MATCH(Databackup!A392,Employee_Name,0),0)),\"\",(INDEX('Employee Data'!$B$4:$B$553,MATCH(Databackup!A392,Employee_Name,0))))","v":""},{"$f":"IF(ISERROR(INDEX('Employee Data'!$C$4:$C$553,MATCH(Databackup!A392,Employee_Name,0),0)),\"\",(INDEX('Employee Data'!$C$4:$C$553,MATCH(Databackup!A392,Employee_Name,0))))","v":""},{"$f":"IF(ISERROR(INDEX('Employee Data'!$D$4:$D$553,MATCH(Databackup!A392,Employee_Name,0),0)),\"\",(INDEX('Employee Data'!$D$4:$D$553,MATCH(Databackup!A392,Employee_Name,0))))","v":""},{"$f":"IF(ISERROR(INDEX('Employee Data'!$F$4:$F$553,MATCH(Databackup!A392,Employee_Name,0),0)),\"\",(INDEX('Employee Data'!$F$4:$F$553,MATCH(Databackup!A392,Employee_Name,0))))","v":""},{"$f":"IF(ISERROR(INDEX('Employee Data'!$G$4:$G$553,MATCH(Databackup!A392,Employee_Name,0),0)),\"\",(INDEX('Employee Data'!$G$4:$G$553,MATCH(Databackup!A392,Employee_Name,0))))","v":""},{"$f":"IF(ISERROR(INDEX('Employee Data'!$H$4:$H$553,MATCH(Databackup!A392,Employee_Name,0),0)),\"\",(INDEX('Employee Data'!$H$4:$H$553,MATCH(Databackup!A392,Employee_Name,0))))","v":""},{"$f":"IF(ISERROR(INDEX('Employee Data'!$I$4:$I$553,MATCH(Databackup!A392,Employee_Name,0),0)),\"\",(INDEX('Employee Data'!$I$4:$I$553,MATCH(Databackup!A392,Employee_Name,0))))","v":""},{"$f":"IF(ISERROR(INDEX('Employee Data'!$J$4:$J$553,MATCH(Databackup!A392,Employee_Name,0),0)),\"\",(INDEX('Employee Data'!J$4:$J$553,MATCH(Databackup!A392,Employee_Name,0))))","v":""},{"$f":"IF(ISERROR(INDEX('Employee Data'!$K$4:$K$553,MATCH(Databackup!A392,Employee_Name,0),0)),\"\",(INDEX('Employee Data'!$K$4:$K$553,MATCH(Databackup!A392,Employee_Name,0))))","v":""},{"$f":"IF(ISERROR(INDEX('Employee Data'!$L$4:$L$553,MATCH(Databackup!A392,Employee_Name,0),0)),\"\",(INDEX('Employee Data'!$L$4:$L$553,MATCH(Databackup!A392,Employee_Name,0))))","v":""},{"$f":"IF(ISERROR(INDEX('Employee Data'!$M$4:$M$553,MATCH(Databackup!A392,Employee_Name,0),0)),\"\",(INDEX('Employee Data'!$M$4:$M$553,MATCH(Databackup!A392,Employee_Name,0))))","v":""},{"$f":"IF(ISERROR(INDEX('Employee Data'!$N$4:$N$553,MATCH(Databackup!A392,Employee_Name,0),0)),\"\",(INDEX('Employee Data'!$N$4:$N$553,MATCH(Databackup!A392,Employee_Name,0))))","v":""},{"$f":"IF(ISERROR(INDEX('Employee Data'!$O$4:$O$553,MATCH(Databackup!A392,Employee_Name,0),0)),\"\",(INDEX('Employee Data'!$O$4:$O$553,MATCH(Databackup!A392,Employee_Name,0))))","v":""}]
[{"$f":"INDEX(Employee_Name,MATCH(SMALL(IF($A$1='Employee Data'!$I$4:$I$553,'Employee Data'!$B$4:$B$553,\"\"),ROW('Employee Data'!A391)),IF($A$1='Employee Data'!$I$4:$I$553,'Employee Data'!$B$4:$B$553,\"\"),0))","v":{"$error":"#NUM!"}},{"$f":"IF(ISERROR(INDEX('Employee Data'!$B$4:$B$553,MATCH(Databackup!A393,Employee_Name,0),0)),\"\",(INDEX('Employee Data'!$B$4:$B$553,MATCH(Databackup!A393,Employee_Name,0))))","v":""},{"$f":"IF(ISERROR(INDEX('Employee Data'!$C$4:$C$553,MATCH(Databackup!A393,Employee_Name,0),0)),\"\",(INDEX('Employee Data'!$C$4:$C$553,MATCH(Databackup!A393,Employee_Name,0))))","v":""},{"$f":"IF(ISERROR(INDEX('Employee Data'!$D$4:$D$553,MATCH(Databackup!A393,Employee_Name,0),0)),\"\",(INDEX('Employee Data'!$D$4:$D$553,MATCH(Databackup!A393,Employee_Name,0))))","v":""},{"$f":"IF(ISERROR(INDEX('Employee Data'!$F$4:$F$553,MATCH(Databackup!A393,Employee_Name,0),0)),\"\",(INDEX('Employee Data'!$F$4:$F$553,MATCH(Databackup!A393,Employee_Name,0))))","v":""},{"$f":"IF(ISERROR(INDEX('Employee Data'!$G$4:$G$553,MATCH(Databackup!A393,Employee_Name,0),0)),\"\",(INDEX('Employee Data'!$G$4:$G$553,MATCH(Databackup!A393,Employee_Name,0))))","v":""},{"$f":"IF(ISERROR(INDEX('Employee Data'!$H$4:$H$553,MATCH(Databackup!A393,Employee_Name,0),0)),\"\",(INDEX('Employee Data'!$H$4:$H$553,MATCH(Databackup!A393,Employee_Name,0))))","v":""},{"$f":"IF(ISERROR(INDEX('Employee Data'!$I$4:$I$553,MATCH(Databackup!A393,Employee_Name,0),0)),\"\",(INDEX('Employee Data'!$I$4:$I$553,MATCH(Databackup!A393,Employee_Name,0))))","v":""},{"$f":"IF(ISERROR(INDEX('Employee Data'!$J$4:$J$553,MATCH(Databackup!A393,Employee_Name,0),0)),\"\",(INDEX('Employee Data'!J$4:$J$553,MATCH(Databackup!A393,Employee_Name,0))))","v":""},{"$f":"IF(ISERROR(INDEX('Employee Data'!$K$4:$K$553,MATCH(Databackup!A393,Employee_Name,0),0)),\"\",(INDEX('Employee Data'!$K$4:$K$553,MATCH(Databackup!A393,Employee_Name,0))))","v":""},{"$f":"IF(ISERROR(INDEX('Employee Data'!$L$4:$L$553,MATCH(Databackup!A393,Employee_Name,0),0)),\"\",(INDEX('Employee Data'!$L$4:$L$553,MATCH(Databackup!A393,Employee_Name,0))))","v":""},{"$f":"IF(ISERROR(INDEX('Employee Data'!$M$4:$M$553,MATCH(Databackup!A393,Employee_Name,0),0)),\"\",(INDEX('Employee Data'!$M$4:$M$553,MATCH(Databackup!A393,Employee_Name,0))))","v":""},{"$f":"IF(ISERROR(INDEX('Employee Data'!$N$4:$N$553,MATCH(Databackup!A393,Employee_Name,0),0)),\"\",(INDEX('Employee Data'!$N$4:$N$553,MATCH(Databackup!A393,Employee_Name,0))))","v":""},{"$f":"IF(ISERROR(INDEX('Employee Data'!$O$4:$O$553,MATCH(Databackup!A393,Employee_Name,0),0)),\"\",(INDEX('Employee Data'!$O$4:$O$553,MATCH(Databackup!A393,Employee_Name,0))))","v":""}]
[{"$f":"INDEX(Employee_Name,MATCH(SMALL(IF($A$1='Employee Data'!$I$4:$I$553,'Employee Data'!$B$4:$B$553,\"\"),ROW('Employee Data'!A392)),IF($A$1='Employee Data'!$I$4:$I$553,'Employee Data'!$B$4:$B$553,\"\"),0))","v":{"$error":"#NUM!"}},{"$f":"IF(ISERROR(INDEX('Employee Data'!$B$4:$B$553,MATCH(Databackup!A394,Employee_Name,0),0)),\"\",(INDEX('Employee Data'!$B$4:$B$553,MATCH(Databackup!A394,Employee_Name,0))))","v":""},{"$f":"IF(ISERROR(INDEX('Employee Data'!$C$4:$C$553,MATCH(Databackup!A394,Employee_Name,0),0)),\"\",(INDEX('Employee Data'!$C$4:$C$553,MATCH(Databackup!A394,Employee_Name,0))))","v":""},{"$f":"IF(ISERROR(INDEX('Employee Data'!$D$4:$D$553,MATCH(Databackup!A394,Employee_Name,0),0)),\"\",(INDEX('Employee Data'!$D$4:$D$553,MATCH(Databackup!A394,Employee_Name,0))))","v":""},{"$f":"IF(ISERROR(INDEX('Employee Data'!$F$4:$F$553,MATCH(Databackup!A394,Employee_Name,0),0)),\"\",(INDEX('Employee Data'!$F$4:$F$553,MATCH(Databackup!A394,Employee_Name,0))))","v":""},{"$f":"IF(ISERROR(INDEX('Employee Data'!$G$4:$G$553,MATCH(Databackup!A394,Employee_Name,0),0)),\"\",(INDEX('Employee Data'!$G$4:$G$553,MATCH(Databackup!A394,Employee_Name,0))))","v":""},{"$f":"IF(ISERROR(INDEX('Employee Data'!$H$4:$H$553,MATCH(Databackup!A394,Employee_Name,0),0)),\"\",(INDEX('Employee Data'!$H$4:$H$553,MATCH(Databackup!A394,Employee_Name,0))))","v":""},{"$f":"IF(ISERROR(INDEX('Employee Data'!$I$4:$I$553,MATCH(Databackup!A394,Employee_Name,0),0)),\"\",(INDEX('Employee Data'!$I$4:$I$553,MATCH(Databackup!A394,Employee_Name,0))))","v":""},{"$f":"IF(ISERROR(INDEX('Employee Data'!$J$4:$J$553,MATCH(Databackup!A394,Employee_Name,0),0)),\"\",(INDEX('Employee Data'!J$4:$J$553,MATCH(Databackup!A394,Employee_Name,0))))","v":""},{"$f":"IF(ISERROR(INDEX('Employee Data'!$K$4:$K$553,MATCH(Databackup!A394,Employee_Name,0),0)),\"\",(INDEX('Employee Data'!$K$4:$K$553,MATCH(Databackup!A394,Employee_Name,0))))","v":""},{"$f":"IF(ISERROR(INDEX('Employee Data'!$L$4:$L$553,MATCH(Databackup!A394,Employee_Name,0),0)),\"\",(INDEX('Employee Data'!$L$4:$L$553,MATCH(Databackup!A394,Employee_Name,0))))","v":""},{"$f":"IF(ISERROR(INDEX('Employee Data'!$M$4:$M$553,MATCH(Databackup!A394,Employee_Name,0),0)),\"\",(INDEX('Employee Data'!$M$4:$M$553,MATCH(Databackup!A394,Employee_Name,0))))","v":""},{"$f":"IF(ISERROR(INDEX('Employee Data'!$N$4:$N$553,MATCH(Databackup!A394,Employee_Name,0),0)),\"\",(INDEX('Employee Data'!$N$4:$N$553,MATCH(Databackup!A394,Employee_Name,0))))","v":""},{"$f":"IF(ISERROR(INDEX('Employee Data'!$O$4:$O$553,MATCH(Databackup!A394,Employee_Name,0),0)),\"\",(INDEX('Employee Data'!$O$4:$O$553,MATCH(Databackup!A394,Employee_Name,0))))","v":""}]
[{"$f":"INDEX(Employee_Name,MATCH(SMALL(IF($A$1='Employee Data'!$I$4:$I$553,'Employee Data'!$B$4:$B$553,\"\"),ROW('Employee Data'!A393)),IF($A$1='Employee Data'!$I$4:$I$553,'Employee Data'!$B$4:$B$553,\"\"),0))","v":{"$error":"#NUM!"}},{"$f":"IF(ISERROR(INDEX('Employee Data'!$B$4:$B$553,MATCH(Databackup!A395,Employee_Name,0),0)),\"\",(INDEX('Employee Data'!$B$4:$B$553,MATCH(Databackup!A395,Employee_Name,0))))","v":""},{"$f":"IF(ISERROR(INDEX('Employee Data'!$C$4:$C$553,MATCH(Databackup!A395,Employee_Name,0),0)),\"\",(INDEX('Employee Data'!$C$4:$C$553,MATCH(Databackup!A395,Employee_Name,0))))","v":""},{"$f":"IF(ISERROR(INDEX('Employee Data'!$D$4:$D$553,MATCH(Databackup!A395,Employee_Name,0),0)),\"\",(INDEX('Employee Data'!$D$4:$D$553,MATCH(Databackup!A395,Employee_Name,0))))","v":""},{"$f":"IF(ISERROR(INDEX('Employee Data'!$F$4:$F$553,MATCH(Databackup!A395,Employee_Name,0),0)),\"\",(INDEX('Employee Data'!$F$4:$F$553,MATCH(Databackup!A395,Employee_Name,0))))","v":""},{"$f":"IF(ISERROR(INDEX('Employee Data'!$G$4:$G$553,MATCH(Databackup!A395,Employee_Name,0),0)),\"\",(INDEX('Employee Data'!$G$4:$G$553,MATCH(Databackup!A395,Employee_Name,0))))","v":""},{"$f":"IF(ISERROR(INDEX('Employee Data'!$H$4:$H$553,MATCH(Databackup!A395,Employee_Name,0),0)),\"\",(INDEX('Employee Data'!$H$4:$H$553,MATCH(Databackup!A395,Employee_Name,0))))","v":""},{"$f":"IF(ISERROR(INDEX('Employee Data'!$I$4:$I$553,MATCH(Databackup!A395,Employee_Name,0),0)),\"\",(INDEX('Employee Data'!$I$4:$I$553,MATCH(Databackup!A395,Employee_Name,0))))","v":""},{"$f":"IF(ISERROR(INDEX('Employee Data'!$J$4:$J$553,MATCH(Databackup!A395,Employee_Name,0),0)),\"\",(INDEX('Employee Data'!J$4:$J$553,MATCH(Databackup!A395,Employee_Name,0))))","v":""},{"$f":"IF(ISERROR(INDEX('Employee Data'!$K$4:$K$553,MATCH(Databackup!A395,Employee_Name,0),0)),\"\",(INDEX('Employee Data'!$K$4:$K$553,MATCH(Databackup!A395,Employee_Name,0))))","v":""},{"$f":"IF(ISERROR(INDEX('Employee Data'!$L$4:$L$553,MATCH(Databackup!A395,Employee_Name,0),0)),\"\",(INDEX('Employee Data'!$L$4:$L$553,MATCH(Databackup!A395,Employee_Name,0))))","v":""},{"$f":"IF(ISERROR(INDEX('Employee Data'!$M$4:$M$553,MATCH(Databackup!A395,Employee_Name,0),0)),\"\",(INDEX('Employee Data'!$M$4:$M$553,MATCH(Databackup!A395,Employee_Name,0))))","v":""},{"$f":"IF(ISERROR(INDEX('Employee Data'!$N$4:$N$553,MATCH(Databackup!A395,Employee_Name,0),0)),\"\",(INDEX('Employee Data'!$N$4:$N$553,MATCH(Databackup!A395,Employee_Name,0))))","v":""},{"$f":"IF(ISERROR(INDEX('Employee Data'!$O$4:$O$553,MATCH(Databackup!A395,Employee_Name,0),0)),\"\",(INDEX('Employee Data'!$O$4:$O$553,MATCH(Databackup!A395,Employee_Name,0))))","v":""}]
[{"$f":"INDEX(Employee_Name,MATCH(SMALL(IF($A$1='Employee Data'!$I$4:$I$553,'Employee Data'!$B$4:$B$553,\"\"),ROW('Employee Data'!A394)),IF($A$1='Employee Data'!$I$4:$I$553,'Employee Data'!$B$4:$B$553,\"\"),0))","v":{"$error":"#NUM!"}},{"$f":"IF(ISERROR(INDEX('Employee Data'!$B$4:$B$553,MATCH(Databackup!A396,Employee_Name,0),0)),\"\",(INDEX('Employee Data'!$B$4:$B$553,MATCH(Databackup!A396,Employee_Name,0))))","v":""},{"$f":"IF(ISERROR(INDEX('Employee Data'!$C$4:$C$553,MATCH(Databackup!A396,Employee_Name,0),0)),\"\",(INDEX('Employee Data'!$C$4:$C$553,MATCH(Databackup!A396,Employee_Name,0))))","v":""},{"$f":"IF(ISERROR(INDEX('Employee Data'!$D$4:$D$553,MATCH(Databackup!A396,Employee_Name,0),0)),\"\",(INDEX('Employee Data'!$D$4:$D$553,MATCH(Databackup!A396,Employee_Name,0))))","v":""},{"$f":"IF(ISERROR(INDEX('Employee Data'!$F$4:$F$553,MATCH(Databackup!A396,Employee_Name,0),0)),\"\",(INDEX('Employee Data'!$F$4:$F$553,MATCH(Databackup!A396,Employee_Name,0))))","v":""},{"$f":"IF(ISERROR(INDEX('Employee Data'!$G$4:$G$553,MATCH(Databackup!A396,Employee_Name,0),0)),\"\",(INDEX('Employee Data'!$G$4:$G$553,MATCH(Databackup!A396,Employee_Name,0))))","v":""},{"$f":"IF(ISERROR(INDEX('Employee Data'!$H$4:$H$553,MATCH(Databackup!A396,Employee_Name,0),0)),\"\",(INDEX('Employee Data'!$H$4:$H$553,MATCH(Databackup!A396,Employee_Name,0))))","v":""},{"$f":"IF(ISERROR(INDEX('Employee Data'!$I$4:$I$553,MATCH(Databackup!A396,Employee_Name,0),0)),\"\",(INDEX('Employee Data'!$I$4:$I$553,MATCH(Databackup!A396,Employee_Name,0))))","v":""},{"$f":"IF(ISERROR(INDEX('Employee Data'!$J$4:$J$553,MATCH(Databackup!A396,Employee_Name,0),0)),\"\",(INDEX('Employee Data'!J$4:$J$553,MATCH(Databackup!A396,Employee_Name,0))))","v":""},{"$f":"IF(ISERROR(INDEX('Employee Data'!$K$4:$K$553,MATCH(Databackup!A396,Employee_Name,0),0)),\"\",(INDEX('Employee Data'!$K$4:$K$553,MATCH(Databackup!A396,Employee_Name,0))))","v":""},{"$f":"IF(ISERROR(INDEX('Employee Data'!$L$4:$L$553,MATCH(Databackup!A396,Employee_Name,0),0)),\"\",(INDEX('Employee Data'!$L$4:$L$553,MATCH(Databackup!A396,Employee_Name,0))))","v":""},{"$f":"IF(ISERROR(INDEX('Employee Data'!$M$4:$M$553,MATCH(Databackup!A396,Employee_Name,0),0)),\"\",(INDEX('Employee Data'!$M$4:$M$553,MATCH(Databackup!A396,Employee_Name,0))))","v":""},{"$f":"IF(ISERROR(INDEX('Employee Data'!$N$4:$N$553,MATCH(Databackup!A396,Employee_Name,0),0)),\"\",(INDEX('Employee Data'!$N$4:$N$553,MATCH(Databackup!A396,Employee_Name,0))))","v":""},{"$f":"IF(ISERROR(INDEX('Employee Data'!$O$4:$O$553,MATCH(Databackup!A396,Employee_Name,0),0)),\"\",(INDEX('Employee Data'!$O$4:$O$553,MATCH(Databackup!A396,Employee_Name,0))))","v":""}]
[{"$f":"INDEX(Employee_Name,MATCH(SMALL(IF($A$1='Employee Data'!$I$4:$I$553,'Employee Data'!$B$4:$B$553,\"\"),ROW('Employee Data'!A395)),IF($A$1='Employee Data'!$I$4:$I$553,'Employee Data'!$B$4:$B$553,\"\"),0))","v":{"$error":"#NUM!"}},{"$f":"IF(ISERROR(INDEX('Employee Data'!$B$4:$B$553,MATCH(Databackup!A397,Employee_Name,0),0)),\"\",(INDEX('Employee Data'!$B$4:$B$553,MATCH(Databackup!A397,Employee_Name,0))))","v":""},{"$f":"IF(ISERROR(INDEX('Employee Data'!$C$4:$C$553,MATCH(Databackup!A397,Employee_Name,0),0)),\"\",(INDEX('Employee Data'!$C$4:$C$553,MATCH(Databackup!A397,Employee_Name,0))))","v":""},{"$f":"IF(ISERROR(INDEX('Employee Data'!$D$4:$D$553,MATCH(Databackup!A397,Employee_Name,0),0)),\"\",(INDEX('Employee Data'!$D$4:$D$553,MATCH(Databackup!A397,Employee_Name,0))))","v":""},{"$f":"IF(ISERROR(INDEX('Employee Data'!$F$4:$F$553,MATCH(Databackup!A397,Employee_Name,0),0)),\"\",(INDEX('Employee Data'!$F$4:$F$553,MATCH(Databackup!A397,Employee_Name,0))))","v":""},{"$f":"IF(ISERROR(INDEX('Employee Data'!$G$4:$G$553,MATCH(Databackup!A397,Employee_Name,0),0)),\"\",(INDEX('Employee Data'!$G$4:$G$553,MATCH(Databackup!A397,Employee_Name,0))))","v":""},{"$f":"IF(ISERROR(INDEX('Employee Data'!$H$4:$H$553,MATCH(Databackup!A397,Employee_Name,0),0)),\"\",(INDEX('Employee Data'!$H$4:$H$553,MATCH(Databackup!A397,Employee_Name,0))))","v":""},{"$f":"IF(ISERROR(INDEX('Employee Data'!$I$4:$I$553,MATCH(Databackup!A397,Employee_Name,0),0)),\"\",(INDEX('Employee Data'!$I$4:$I$553,MATCH(Databackup!A397,Employee_Name,0))))","v":""},{"$f":"IF(ISERROR(INDEX('Employee Data'!$J$4:$J$553,MATCH(Databackup!A397,Employee_Name,0),0)),\"\",(INDEX('Employee Data'!J$4:$J$553,MATCH(Databackup!A397,Employee_Name,0))))","v":""},{"$f":"IF(ISERROR(INDEX('Employee Data'!$K$4:$K$553,MATCH(Databackup!A397,Employee_Name,0),0)),\"\",(INDEX('Employee Data'!$K$4:$K$553,MATCH(Databackup!A397,Employee_Name,0))))","v":""},{"$f":"IF(ISERROR(INDEX('Employee Data'!$L$4:$L$553,MATCH(Databackup!A397,Employee_Name,0),0)),\"\",(INDEX('Employee Data'!$L$4:$L$553,MATCH(Databackup!A397,Employee_Name,0))))","v":""},{"$f":"IF(ISERROR(INDEX('Employee Data'!$M$4:$M$553,MATCH(Databackup!A397,Employee_Name,0),0)),\"\",(INDEX('Employee Data'!$M$4:$M$553,MATCH(Databackup!A397,Employee_Name,0))))","v":""},{"$f":"IF(ISERROR(INDEX('Employee Data'!$N$4:$N$553,MATCH(Databackup!A397,Employee_Name,0),0)),\"\",(INDEX('Employee Data'!$N$4:$N$553,MATCH(Databackup!A397,Employee_Name,0))))","v":""},{"$f":"IF(ISERROR(INDEX('Employee Data'!$O$4:$O$553,MATCH(Databackup!A397,Employee_Name,0),0)),\"\",(INDEX('Employee Data'!$O$4:$O$553,MATCH(Databackup!A397,Employee_Name,0))))","v":""}]
[{"$f":"INDEX(Employee_Name,MATCH(SMALL(IF($A$1='Employee Data'!$I$4:$I$553,'Employee Data'!$B$4:$B$553,\"\"),ROW('Employee Data'!A396)),IF($A$1='Employee Data'!$I$4:$I$553,'Employee Data'!$B$4:$B$553,\"\"),0))","v":{"$error":"#NUM!"}},{"$f":"IF(ISERROR(INDEX('Employee Data'!$B$4:$B$553,MATCH(Databackup!A398,Employee_Name,0),0)),\"\",(INDEX('Employee Data'!$B$4:$B$553,MATCH(Databackup!A398,Employee_Name,0))))","v":""},{"$f":"IF(ISERROR(INDEX('Employee Data'!$C$4:$C$553,MATCH(Databackup!A398,Employee_Name,0),0)),\"\",(INDEX('Employee Data'!$C$4:$C$553,MATCH(Databackup!A398,Employee_Name,0))))","v":""},{"$f":"IF(ISERROR(INDEX('Employee Data'!$D$4:$D$553,MATCH(Databackup!A398,Employee_Name,0),0)),\"\",(INDEX('Employee Data'!$D$4:$D$553,MATCH(Databackup!A398,Employee_Name,0))))","v":""},{"$f":"IF(ISERROR(INDEX('Employee Data'!$F$4:$F$553,MATCH(Databackup!A398,Employee_Name,0),0)),\"\",(INDEX('Employee Data'!$F$4:$F$553,MATCH(Databackup!A398,Employee_Name,0))))","v":""},{"$f":"IF(ISERROR(INDEX('Employee Data'!$G$4:$G$553,MATCH(Databackup!A398,Employee_Name,0),0)),\"\",(INDEX('Employee Data'!$G$4:$G$553,MATCH(Databackup!A398,Employee_Name,0))))","v":""},{"$f":"IF(ISERROR(INDEX('Employee Data'!$H$4:$H$553,MATCH(Databackup!A398,Employee_Name,0),0)),\"\",(INDEX('Employee Data'!$H$4:$H$553,MATCH(Databackup!A398,Employee_Name,0))))","v":""},{"$f":"IF(ISERROR(INDEX('Employee Data'!$I$4:$I$553,MATCH(Databackup!A398,Employee_Name,0),0)),\"\",(INDEX('Employee Data'!$I$4:$I$553,MATCH(Databackup!A398,Employee_Name,0))))","v":""},{"$f":"IF(ISERROR(INDEX('Employee Data'!$J$4:$J$553,MATCH(Databackup!A398,Employee_Name,0),0)),\"\",(INDEX('Employee Data'!J$4:$J$553,MATCH(Databackup!A398,Employee_Name,0))))","v":""},{"$f":"IF(ISERROR(INDEX('Employee Data'!$K$4:$K$553,MATCH(Databackup!A398,Employee_Name,0),0)),\"\",(INDEX('Employee Data'!$K$4:$K$553,MATCH(Databackup!A398,Employee_Name,0))))","v":""},{"$f":"IF(ISERROR(INDEX('Employee Data'!$L$4:$L$553,MATCH(Databackup!A398,Employee_Name,0),0)),\"\",(INDEX('Employee Data'!$L$4:$L$553,MATCH(Databackup!A398,Employee_Name,0))))","v":""},{"$f":"IF(ISERROR(INDEX('Employee Data'!$M$4:$M$553,MATCH(Databackup!A398,Employee_Name,0),0)),\"\",(INDEX('Employee Data'!$M$4:$M$553,MATCH(Databackup!A398,Employee_Name,0))))","v":""},{"$f":"IF(ISERROR(INDEX('Employee Data'!$N$4:$N$553,MATCH(Databackup!A398,Employee_Name,0),0)),\"\",(INDEX('Employee Data'!$N$4:$N$553,MATCH(Databackup!A398,Employee_Name,0))))","v":""},{"$f":"IF(ISERROR(INDEX('Employee Data'!$O$4:$O$553,MATCH(Databackup!A398,Employee_Name,0),0)),\"\",(INDEX('Employee Data'!$O$4:$O$553,MATCH(Databackup!A398,Employee_Name,0))))","v":""}]
[{"$f":"INDEX(Employee_Name,MATCH(SMALL(IF($A$1='Employee Data'!$I$4:$I$553,'Employee Data'!$B$4:$B$553,\"\"),ROW('Employee Data'!A397)),IF($A$1='Employee Data'!$I$4:$I$553,'Employee Data'!$B$4:$B$553,\"\"),0))","v":{"$error":"#NUM!"}},{"$f":"IF(ISERROR(INDEX('Employee Data'!$B$4:$B$553,MATCH(Databackup!A399,Employee_Name,0),0)),\"\",(INDEX('Employee Data'!$B$4:$B$553,MATCH(Databackup!A399,Employee_Name,0))))","v":""},{"$f":"IF(ISERROR(INDEX('Employee Data'!$C$4:$C$553,MATCH(Databackup!A399,Employee_Name,0),0)),\"\",(INDEX('Employee Data'!$C$4:$C$553,MATCH(Databackup!A399,Employee_Name,0))))","v":""},{"$f":"IF(ISERROR(INDEX('Employee Data'!$D$4:$D$553,MATCH(Databackup!A399,Employee_Name,0),0)),\"\",(INDEX('Employee Data'!$D$4:$D$553,MATCH(Databackup!A399,Employee_Name,0))))","v":""},{"$f":"IF(ISERROR(INDEX('Employee Data'!$F$4:$F$553,MATCH(Databackup!A399,Employee_Name,0),0)),\"\",(INDEX('Employee Data'!$F$4:$F$553,MATCH(Databackup!A399,Employee_Name,0))))","v":""},{"$f":"IF(ISERROR(INDEX('Employee Data'!$G$4:$G$553,MATCH(Databackup!A399,Employee_Name,0),0)),\"\",(INDEX('Employee Data'!$G$4:$G$553,MATCH(Databackup!A399,Employee_Name,0))))","v":""},{"$f":"IF(ISERROR(INDEX('Employee Data'!$H$4:$H$553,MATCH(Databackup!A399,Employee_Name,0),0)),\"\",(INDEX('Employee Data'!$H$4:$H$553,MATCH(Databackup!A399,Employee_Name,0))))","v":""},{"$f":"IF(ISERROR(INDEX('Employee Data'!$I$4:$I$553,MATCH(Databackup!A399,Employee_Name,0),0)),\"\",(INDEX('Employee Data'!$I$4:$I$553,MATCH(Databackup!A399,Employee_Name,0))))","v":""},{"$f":"IF(ISERROR(INDEX('Employee Data'!$J$4:$J$553,MATCH(Databackup!A399,Employee_Name,0),0)),\"\",(INDEX('Employee Data'!J$4:$J$553,MATCH(Databackup!A399,Employee_Name,0))))","v":""},{"$f":"IF(ISERROR(INDEX('Employee Data'!$K$4:$K$553,MATCH(Databackup!A399,Employee_Name,0),0)),\"\",(INDEX('Employee Data'!$K$4:$K$553,MATCH(Databackup!A399,Employee_Name,0))))","v":""},{"$f":"IF(ISERROR(INDEX('Employee Data'!$L$4:$L$553,MATCH(Databackup!A399,Employee_Name,0),0)),\"\",(INDEX('Employee Data'!$L$4:$L$553,MATCH(Databackup!A399,Employee_Name,0))))","v":""},{"$f":"IF(ISERROR(INDEX('Employee Data'!$M$4:$M$553,MATCH(Databackup!A399,Employee_Name,0),0)),\"\",(INDEX('Employee Data'!$M$4:$M$553,MATCH(Databackup!A399,Employee_Name,0))))","v":""},{"$f":"IF(ISERROR(INDEX('Employee Data'!$N$4:$N$553,MATCH(Databackup!A399,Employee_Name,0),0)),\"\",(INDEX('Employee Data'!$N$4:$N$553,MATCH(Databackup!A399,Employee_Name,0))))","v":""},{"$f":"IF(ISERROR(INDEX('Employee Data'!$O$4:$O$553,MATCH(Databackup!A399,Employee_Name,0),0)),\"\",(INDEX('Employee Data'!$O$4:$O$553,MATCH(Databackup!A399,Employee_Name,0))))","v":""}]
[{"$f":"INDEX(Employee_Name,MATCH(SMALL(IF($A$1='Employee Data'!$I$4:$I$553,'Employee Data'!$B$4:$B$553,\"\"),ROW('Employee Data'!A398)),IF($A$1='Employee Data'!$I$4:$I$553,'Employee Data'!$B$4:$B$553,\"\"),0))","v":{"$error":"#NUM!"}},{"$f":"IF(ISERROR(INDEX('Employee Data'!$B$4:$B$553,MATCH(Databackup!A400,Employee_Name,0),0)),\"\",(INDEX('Employee Data'!$B$4:$B$553,MATCH(Databackup!A400,Employee_Name,0))))","v":""},{"$f":"IF(ISERROR(INDEX('Employee Data'!$C$4:$C$553,MATCH(Databackup!A400,Employee_Name,0),0)),\"\",(INDEX('Employee Data'!$C$4:$C$553,MATCH(Databackup!A400,Employee_Name,0))))","v":""},{"$f":"IF(ISERROR(INDEX('Employee Data'!$D$4:$D$553,MATCH(Databackup!A400,Employee_Name,0),0)),\"\",(INDEX('Employee Data'!$D$4:$D$553,MATCH(Databackup!A400,Employee_Name,0))))","v":""},{"$f":"IF(ISERROR(INDEX('Employee Data'!$F$4:$F$553,MATCH(Databackup!A400,Employee_Name,0),0)),\"\",(INDEX('Employee Data'!$F$4:$F$553,MATCH(Databackup!A400,Employee_Name,0))))","v":""},{"$f":"IF(ISERROR(INDEX('Employee Data'!$G$4:$G$553,MATCH(Databackup!A400,Employee_Name,0),0)),\"\",(INDEX('Employee Data'!$G$4:$G$553,MATCH(Databackup!A400,Employee_Name,0))))","v":""},{"$f":"IF(ISERROR(INDEX('Employee Data'!$H$4:$H$553,MATCH(Databackup!A400,Employee_Name,0),0)),\"\",(INDEX('Employee Data'!$H$4:$H$553,MATCH(Databackup!A400,Employee_Name,0))))","v":""},{"$f":"IF(ISERROR(INDEX('Employee Data'!$I$4:$I$553,MATCH(Databackup!A400,Employee_Name,0),0)),\"\",(INDEX('Employee Data'!$I$4:$I$553,MATCH(Databackup!A400,Employee_Name,0))))","v":""},{"$f":"IF(ISERROR(INDEX('Employee Data'!$J$4:$J$553,MATCH(Databackup!A400,Employee_Name,0),0)),\"\",(INDEX('Employee Data'!J$4:$J$553,MATCH(Databackup!A400,Employee_Name,0))))","v":""},{"$f":"IF(ISERROR(INDEX('Employee Data'!$K$4:$K$553,MATCH(Databackup!A400,Employee_Name,0),0)),\"\",(INDEX('Employee Data'!$K$4:$K$553,MATCH(Databackup!A400,Employee_Name,0))))","v":""},{"$f":"IF(ISERROR(INDEX('Employee Data'!$L$4:$L$553,MATCH(Databackup!A400,Employee_Name,0),0)),\"\",(INDEX('Employee Data'!$L$4:$L$553,MATCH(Databackup!A400,Employee_Name,0))))","v":""},{"$f":"IF(ISERROR(INDEX('Employee Data'!$M$4:$M$553,MATCH(Databackup!A400,Employee_Name,0),0)),\"\",(INDEX('Employee Data'!$M$4:$M$553,MATCH(Databackup!A400,Employee_Name,0))))","v":""},{"$f":"IF(ISERROR(INDEX('Employee Data'!$N$4:$N$553,MATCH(Databackup!A400,Employee_Name,0),0)),\"\",(INDEX('Employee Data'!$N$4:$N$553,MATCH(Databackup!A400,Employee_Name,0))))","v":""},{"$f":"IF(ISERROR(INDEX('Employee Data'!$O$4:$O$553,MATCH(Databackup!A400,Employee_Name,0),0)),\"\",(INDEX('Employee Data'!$O$4:$O$553,MATCH(Databackup!A400,Employee_Name,0))))","v":""}]
[{"$f":"INDEX(Employee_Name,MATCH(SMALL(IF($A$1='Employee Data'!$I$4:$I$553,'Employee Data'!$B$4:$B$553,\"\"),ROW('Employee Data'!A399)),IF($A$1='Employee Data'!$I$4:$I$553,'Employee Data'!$B$4:$B$553,\"\"),0))","v":{"$error":"#NUM!"}},{"$f":"IF(ISERROR(INDEX('Employee Data'!$B$4:$B$553,MATCH(Databackup!A401,Employee_Name,0),0)),\"\",(INDEX('Employee Data'!$B$4:$B$553,MATCH(Databackup!A401,Employee_Name,0))))","v":""},{"$f":"IF(ISERROR(INDEX('Employee Data'!$C$4:$C$553,MATCH(Databackup!A401,Employee_Name,0),0)),\"\",(INDEX('Employee Data'!$C$4:$C$553,MATCH(Databackup!A401,Employee_Name,0))))","v":""},{"$f":"IF(ISERROR(INDEX('Employee Data'!$D$4:$D$553,MATCH(Databackup!A401,Employee_Name,0),0)),\"\",(INDEX('Employee Data'!$D$4:$D$553,MATCH(Databackup!A401,Employee_Name,0))))","v":""},{"$f":"IF(ISERROR(INDEX('Employee Data'!$F$4:$F$553,MATCH(Databackup!A401,Employee_Name,0),0)),\"\",(INDEX('Employee Data'!$F$4:$F$553,MATCH(Databackup!A401,Employee_Name,0))))","v":""},{"$f":"IF(ISERROR(INDEX('Employee Data'!$G$4:$G$553,MATCH(Databackup!A401,Employee_Name,0),0)),\"\",(INDEX('Employee Data'!$G$4:$G$553,MATCH(Databackup!A401,Employee_Name,0))))","v":""},{"$f":"IF(ISERROR(INDEX('Employee Data'!$H$4:$H$553,MATCH(Databackup!A401,Employee_Name,0),0)),\"\",(INDEX('Employee Data'!$H$4:$H$553,MATCH(Databackup!A401,Employee_Name,0))))","v":""},{"$f":"IF(ISERROR(INDEX('Employee Data'!$I$4:$I$553,MATCH(Databackup!A401,Employee_Name,0),0)),\"\",(INDEX('Employee Data'!$I$4:$I$553,MATCH(Databackup!A401,Employee_Name,0))))","v":""},{"$f":"IF(ISERROR(INDEX('Employee Data'!$J$4:$J$553,MATCH(Databackup!A401,Employee_Name,0),0)),\"\",(INDEX('Employee Data'!J$4:$J$553,MATCH(Databackup!A401,Employee_Name,0))))","v":""},{"$f":"IF(ISERROR(INDEX('Employee Data'!$K$4:$K$553,MATCH(Databackup!A401,Employee_Name,0),0)),\"\",(INDEX('Employee Data'!$K$4:$K$553,MATCH(Databackup!A401,Employee_Name,0))))","v":""},{"$f":"IF(ISERROR(INDEX('Employee Data'!$L$4:$L$553,MATCH(Databackup!A401,Employee_Name,0),0)),\"\",(INDEX('Employee Data'!$L$4:$L$553,MATCH(Databackup!A401,Employee_Name,0))))","v":""},{"$f":"IF(ISERROR(INDEX('Employee Data'!$M$4:$M$553,MATCH(Databackup!A401,Employee_Name,0),0)),\"\",(INDEX('Employee Data'!$M$4:$M$553,MATCH(Databackup!A401,Employee_Name,0))))","v":""},{"$f":"IF(ISERROR(INDEX('Employee Data'!$N$4:$N$553,MATCH(Databackup!A401,Employee_Name,0),0)),\"\",(INDEX('Employee Data'!$N$4:$N$553,MATCH(Databackup!A401,Employee_Name,0))))","v":""},{"$f":"IF(ISERROR(INDEX('Employee Data'!$O$4:$O$553,MATCH(Databackup!A401,Employee_Name,0),0)),\"\",(INDEX('Employee Data'!$O$4:$O$553,MATCH(Databackup!A401,Employee_Name,0))))","v":""}]
[{"$f":"INDEX(Employee_Name,MATCH(SMALL(IF($A$1='Employee Data'!$I$4:$I$553,'Employee Data'!$B$4:$B$553,\"\"),ROW('Employee Data'!A400)),IF($A$1='Employee Data'!$I$4:$I$553,'Employee Data'!$B$4:$B$553,\"\"),0))","v":{"$error":"#NUM!"}},{"$f":"IF(ISERROR(INDEX('Employee Data'!$B$4:$B$553,MATCH(Databackup!A402,Employee_Name,0),0)),\"\",(INDEX('Employee Data'!$B$4:$B$553,MATCH(Databackup!A402,Employee_Name,0))))","v":""},{"$f":"IF(ISERROR(INDEX('Employee Data'!$C$4:$C$553,MATCH(Databackup!A402,Employee_Name,0),0)),\"\",(INDEX('Employee Data'!$C$4:$C$553,MATCH(Databackup!A402,Employee_Name,0))))","v":""},{"$f":"IF(ISERROR(INDEX('Employee Data'!$D$4:$D$553,MATCH(Databackup!A402,Employee_Name,0),0)),\"\",(INDEX('Employee Data'!$D$4:$D$553,MATCH(Databackup!A402,Employee_Name,0))))","v":""},{"$f":"IF(ISERROR(INDEX('Employee Data'!$F$4:$F$553,MATCH(Databackup!A402,Employee_Name,0),0)),\"\",(INDEX('Employee Data'!$F$4:$F$553,MATCH(Databackup!A402,Employee_Name,0))))","v":""},{"$f":"IF(ISERROR(INDEX('Employee Data'!$G$4:$G$553,MATCH(Databackup!A402,Employee_Name,0),0)),\"\",(INDEX('Employee Data'!$G$4:$G$553,MATCH(Databackup!A402,Employee_Name,0))))","v":""},{"$f":"IF(ISERROR(INDEX('Employee Data'!$H$4:$H$553,MATCH(Databackup!A402,Employee_Name,0),0)),\"\",(INDEX('Employee Data'!$H$4:$H$553,MATCH(Databackup!A402,Employee_Name,0))))","v":""},{"$f":"IF(ISERROR(INDEX('Employee Data'!$I$4:$I$553,MATCH(Databackup!A402,Employee_Name,0),0)),\"\",(INDEX('Employee Data'!$I$4:$I$553,MATCH(Databackup!A402,Employee_Name,0))))","v":""},{"$f":"IF(ISERROR(INDEX('Employee Data'!$J$4:$J$553,MATCH(Databackup!A402,Employee_Name,0),0)),\"\",(INDEX('Employee Data'!J$4:$J$553,MATCH(Databackup!A402,Employee_Name,0))))","v":""},{"$f":"IF(ISERROR(INDEX('Employee Data'!$K$4:$K$553,MATCH(Databackup!A402,Employee_Name,0),0)),\"\",(INDEX('Employee Data'!$K$4:$K$553,MATCH(Databackup!A402,Employee_Name,0))))","v":""},{"$f":"IF(ISERROR(INDEX('Employee Data'!$L$4:$L$553,MATCH(Databackup!A402,Employee_Name,0),0)),\"\",(INDEX('Employee Data'!$L$4:$L$553,MATCH(Databackup!A402,Employee_Name,0))))","v":""},{"$f":"IF(ISERROR(INDEX('Employee Data'!$M$4:$M$553,MATCH(Databackup!A402,Employee_Name,0),0)),\"\",(INDEX('Employee Data'!$M$4:$M$553,MATCH(Databackup!A402,Employee_Name,0))))","v":""},{"$f":"IF(ISERROR(INDEX('Employee Data'!$N$4:$N$553,MATCH(Databackup!A402,Employee_Name,0),0)),\"\",(INDEX('Employee Data'!$N$4:$N$553,MATCH(Databackup!A402,Employee_Name,0))))","v":""},{"$f":"IF(ISERROR(INDEX('Employee Data'!$O$4:$O$553,MATCH(Databackup!A402,Employee_Name,0),0)),\"\",(INDEX('Employee Data'!$O$4:$O$553,MATCH(Databackup!A402,Employee_Name,0))))","v":""}]
[{"$f":"INDEX(Employee_Name,MATCH(SMALL(IF($A$1='Employee Data'!$I$4:$I$553,'Employee Data'!$B$4:$B$553,\"\"),ROW('Employee Data'!A401)),IF($A$1='Employee Data'!$I$4:$I$553,'Employee Data'!$B$4:$B$553,\"\"),0))","v":{"$error":"#NUM!"}},{"$f":"IF(ISERROR(INDEX('Employee Data'!$B$4:$B$553,MATCH(Databackup!A403,Employee_Name,0),0)),\"\",(INDEX('Employee Data'!$B$4:$B$553,MATCH(Databackup!A403,Employee_Name,0))))","v":""},{"$f":"IF(ISERROR(INDEX('Employee Data'!$C$4:$C$553,MATCH(Databackup!A403,Employee_Name,0),0)),\"\",(INDEX('Employee Data'!$C$4:$C$553,MATCH(Databackup!A403,Employee_Name,0))))","v":""},{"$f":"IF(ISERROR(INDEX('Employee Data'!$D$4:$D$553,MATCH(Databackup!A403,Employee_Name,0),0)),\"\",(INDEX('Employee Data'!$D$4:$D$553,MATCH(Databackup!A403,Employee_Name,0))))","v":""},{"$f":"IF(ISERROR(INDEX('Employee Data'!$F$4:$F$553,MATCH(Databackup!A403,Employee_Name,0),0)),\"\",(INDEX('Employee Data'!$F$4:$F$553,MATCH(Databackup!A403,Employee_Name,0))))","v":""},{"$f":"IF(ISERROR(INDEX('Employee Data'!$G$4:$G$553,MATCH(Databackup!A403,Employee_Name,0),0)),\"\",(INDEX('Employee Data'!$G$4:$G$553,MATCH(Databackup!A403,Employee_Name,0))))","v":""},{"$f":"IF(ISERROR(INDEX('Employee Data'!$H$4:$H$553,MATCH(Databackup!A403,Employee_Name,0),0)),\"\",(INDEX('Employee Data'!$H$4:$H$553,MATCH(Databackup!A403,Employee_Name,0))))","v":""},{"$f":"IF(ISERROR(INDEX('Employee Data'!$I$4:$I$553,MATCH(Databackup!A403,Employee_Name,0),0)),\"\",(INDEX('Employee Data'!$I$4:$I$553,MATCH(Databackup!A403,Employee_Name,0))))","v":""},{"$f":"IF(ISERROR(INDEX('Employee Data'!$J$4:$J$553,MATCH(Databackup!A403,Employee_Name,0),0)),\"\",(INDEX('Employee Data'!J$4:$J$553,MATCH(Databackup!A403,Employee_Name,0))))","v":""},{"$f":"IF(ISERROR(INDEX('Employee Data'!$K$4:$K$553,MATCH(Databackup!A403,Employee_Name,0),0)),\"\",(INDEX('Employee Data'!$K$4:$K$553,MATCH(Databackup!A403,Employee_Name,0))))","v":""},{"$f":"IF(ISERROR(INDEX('Employee Data'!$L$4:$L$553,MATCH(Databackup!A403,Employee_Name,0),0)),\"\",(INDEX('Employee Data'!$L$4:$L$553,MATCH(Databackup!A403,Employee_Name,0))))","v":""},{"$f":"IF(ISERROR(INDEX('Employee Data'!$M$4:$M$553,MATCH(Databackup!A403,Employee_Name,0),0)),\"\",(INDEX('Employee Data'!$M$4:$M$553,MATCH(Databackup!A403,Employee_Name,0))))","v":""},{"$f":"IF(ISERROR(INDEX('Employee Data'!$N$4:$N$553,MATCH(Databackup!A403,Employee_Name,0),0)),\"\",(INDEX('Employee Data'!$N$4:$N$553,MATCH(Databackup!A403,Employee_Name,0))))","v":""},{"$f":"IF(ISERROR(INDEX('Employee Data'!$O$4:$O$553,MATCH(Databackup!A403,Employee_Name,0),0)),\"\",(INDEX('Employee Data'!$O$4:$O$553,MATCH(Databackup!A403,Employee_Name,0))))","v":""}]
[{"$f":"INDEX(Employee_Name,MATCH(SMALL(IF($A$1='Employee Data'!$I$4:$I$553,'Employee Data'!$B$4:$B$553,\"\"),ROW('Employee Data'!A402)),IF($A$1='Employee Data'!$I$4:$I$553,'Employee Data'!$B$4:$B$553,\"\"),0))","v":{"$error":"#NUM!"}},{"$f":"IF(ISERROR(INDEX('Employee Data'!$B$4:$B$553,MATCH(Databackup!A404,Employee_Name,0),0)),\"\",(INDEX('Employee Data'!$B$4:$B$553,MATCH(Databackup!A404,Employee_Name,0))))","v":""},{"$f":"IF(ISERROR(INDEX('Employee Data'!$C$4:$C$553,MATCH(Databackup!A404,Employee_Name,0),0)),\"\",(INDEX('Employee Data'!$C$4:$C$553,MATCH(Databackup!A404,Employee_Name,0))))","v":""},{"$f":"IF(ISERROR(INDEX('Employee Data'!$D$4:$D$553,MATCH(Databackup!A404,Employee_Name,0),0)),\"\",(INDEX('Employee Data'!$D$4:$D$553,MATCH(Databackup!A404,Employee_Name,0))))","v":""},{"$f":"IF(ISERROR(INDEX('Employee Data'!$F$4:$F$553,MATCH(Databackup!A404,Employee_Name,0),0)),\"\",(INDEX('Employee Data'!$F$4:$F$553,MATCH(Databackup!A404,Employee_Name,0))))","v":""},{"$f":"IF(ISERROR(INDEX('Employee Data'!$G$4:$G$553,MATCH(Databackup!A404,Employee_Name,0),0)),\"\",(INDEX('Employee Data'!$G$4:$G$553,MATCH(Databackup!A404,Employee_Name,0))))","v":""},{"$f":"IF(ISERROR(INDEX('Employee Data'!$H$4:$H$553,MATCH(Databackup!A404,Employee_Name,0),0)),\"\",(INDEX('Employee Data'!$H$4:$H$553,MATCH(Databackup!A404,Employee_Name,0))))","v":""},{"$f":"IF(ISERROR(INDEX('Employee Data'!$I$4:$I$553,MATCH(Databackup!A404,Employee_Name,0),0)),\"\",(INDEX('Employee Data'!$I$4:$I$553,MATCH(Databackup!A404,Employee_Name,0))))","v":""},{"$f":"IF(ISERROR(INDEX('Employee Data'!$J$4:$J$553,MATCH(Databackup!A404,Employee_Name,0),0)),\"\",(INDEX('Employee Data'!J$4:$J$553,MATCH(Databackup!A404,Employee_Name,0))))","v":""},{"$f":"IF(ISERROR(INDEX('Employee Data'!$K$4:$K$553,MATCH(Databackup!A404,Employee_Name,0),0)),\"\",(INDEX('Employee Data'!$K$4:$K$553,MATCH(Databackup!A404,Employee_Name,0))))","v":""},{"$f":"IF(ISERROR(INDEX('Employee Data'!$L$4:$L$553,MATCH(Databackup!A404,Employee_Name,0),0)),\"\",(INDEX('Employee Data'!$L$4:$L$553,MATCH(Databackup!A404,Employee_Name,0))))","v":""},{"$f":"IF(ISERROR(INDEX('Employee Data'!$M$4:$M$553,MATCH(Databackup!A404,Employee_Name,0),0)),\"\",(INDEX('Employee Data'!$M$4:$M$553,MATCH(Databackup!A404,Employee_Name,0))))","v":""},{"$f":"IF(ISERROR(INDEX('Employee Data'!$N$4:$N$553,MATCH(Databackup!A404,Employee_Name,0),0)),\"\",(INDEX('Employee Data'!$N$4:$N$553,MATCH(Databackup!A404,Employee_Name,0))))","v":""},{"$f":"IF(ISERROR(INDEX('Employee Data'!$O$4:$O$553,MATCH(Databackup!A404,Employee_Name,0),0)),\"\",(INDEX('Employee Data'!$O$4:$O$553,MATCH(Databackup!A404,Employee_Name,0))))","v":""}]
[{"$f":"INDEX(Employee_Name,MATCH(SMALL(IF($A$1='Employee Data'!$I$4:$I$553,'Employee Data'!$B$4:$B$553,\"\"),ROW('Employee Data'!A403)),IF($A$1='Employee Data'!$I$4:$I$553,'Employee Data'!$B$4:$B$553,\"\"),0))","v":{"$error":"#NUM!"}},{"$f":"IF(ISERROR(INDEX('Employee Data'!$B$4:$B$553,MATCH(Databackup!A405,Employee_Name,0),0)),\"\",(INDEX('Employee Data'!$B$4:$B$553,MATCH(Databackup!A405,Employee_Name,0))))","v":""},{"$f":"IF(ISERROR(INDEX('Employee Data'!$C$4:$C$553,MATCH(Databackup!A405,Employee_Name,0),0)),\"\",(INDEX('Employee Data'!$C$4:$C$553,MATCH(Databackup!A405,Employee_Name,0))))","v":""},{"$f":"IF(ISERROR(INDEX('Employee Data'!$D$4:$D$553,MATCH(Databackup!A405,Employee_Name,0),0)),\"\",(INDEX('Employee Data'!$D$4:$D$553,MATCH(Databackup!A405,Employee_Name,0))))","v":""},{"$f":"IF(ISERROR(INDEX('Employee Data'!$F$4:$F$553,MATCH(Databackup!A405,Employee_Name,0),0)),\"\",(INDEX('Employee Data'!$F$4:$F$553,MATCH(Databackup!A405,Employee_Name,0))))","v":""},{"$f":"IF(ISERROR(INDEX('Employee Data'!$G$4:$G$553,MATCH(Databackup!A405,Employee_Name,0),0)),\"\",(INDEX('Employee Data'!$G$4:$G$553,MATCH(Databackup!A405,Employee_Name,0))))","v":""},{"$f":"IF(ISERROR(INDEX('Employee Data'!$H$4:$H$553,MATCH(Databackup!A405,Employee_Name,0),0)),\"\",(INDEX('Employee Data'!$H$4:$H$553,MATCH(Databackup!A405,Employee_Name,0))))","v":""},{"$f":"IF(ISERROR(INDEX('Employee Data'!$I$4:$I$553,MATCH(Databackup!A405,Employee_Name,0),0)),\"\",(INDEX('Employee Data'!$I$4:$I$553,MATCH(Databackup!A405,Employee_Name,0))))","v":""},{"$f":"IF(ISERROR(INDEX('Employee Data'!$J$4:$J$553,MATCH(Databackup!A405,Employee_Name,0),0)),\"\",(INDEX('Employee Data'!J$4:$J$553,MATCH(Databackup!A405,Employee_Name,0))))","v":""},{"$f":"IF(ISERROR(INDEX('Employee Data'!$K$4:$K$553,MATCH(Databackup!A405,Employee_Name,0),0)),\"\",(INDEX('Employee Data'!$K$4:$K$553,MATCH(Databackup!A405,Employee_Name,0))))","v":""},{"$f":"IF(ISERROR(INDEX('Employee Data'!$L$4:$L$553,MATCH(Databackup!A405,Employee_Name,0),0)),\"\",(INDEX('Employee Data'!$L$4:$L$553,MATCH(Databackup!A405,Employee_Name,0))))","v":""},{"$f":"IF(ISERROR(INDEX('Employee Data'!$M$4:$M$553,MATCH(Databackup!A405,Employee_Name,0),0)),\"\",(INDEX('Employee Data'!$M$4:$M$553,MATCH(Databackup!A405,Employee_Name,0))))","v":""},{"$f":"IF(ISERROR(INDEX('Employee Data'!$N$4:$N$553,MATCH(Databackup!A405,Employee_Name,0),0)),\"\",(INDEX('Employee Data'!$N$4:$N$553,MATCH(Databackup!A405,Employee_Name,0))))","v":""},{"$f":"IF(ISERROR(INDEX('Employee Data'!$O$4:$O$553,MATCH(Databackup!A405,Employee_Name,0),0)),\"\",(INDEX('Employee Data'!$O$4:$O$553,MATCH(Databackup!A405,Employee_Name,0))))","v":""}]
[{"$f":"INDEX(Employee_Name,MATCH(SMALL(IF($A$1='Employee Data'!$I$4:$I$553,'Employee Data'!$B$4:$B$553,\"\"),ROW('Employee Data'!A404)),IF($A$1='Employee Data'!$I$4:$I$553,'Employee Data'!$B$4:$B$553,\"\"),0))","v":{"$error":"#NUM!"}},{"$f":"IF(ISERROR(INDEX('Employee Data'!$B$4:$B$553,MATCH(Databackup!A406,Employee_Name,0),0)),\"\",(INDEX('Employee Data'!$B$4:$B$553,MATCH(Databackup!A406,Employee_Name,0))))","v":""},{"$f":"IF(ISERROR(INDEX('Employee Data'!$C$4:$C$553,MATCH(Databackup!A406,Employee_Name,0),0)),\"\",(INDEX('Employee Data'!$C$4:$C$553,MATCH(Databackup!A406,Employee_Name,0))))","v":""},{"$f":"IF(ISERROR(INDEX('Employee Data'!$D$4:$D$553,MATCH(Databackup!A406,Employee_Name,0),0)),\"\",(INDEX('Employee Data'!$D$4:$D$553,MATCH(Databackup!A406,Employee_Name,0))))","v":""},{"$f":"IF(ISERROR(INDEX('Employee Data'!$F$4:$F$553,MATCH(Databackup!A406,Employee_Name,0),0)),\"\",(INDEX('Employee Data'!$F$4:$F$553,MATCH(Databackup!A406,Employee_Name,0))))","v":""},{"$f":"IF(ISERROR(INDEX('Employee Data'!$G$4:$G$553,MATCH(Databackup!A406,Employee_Name,0),0)),\"\",(INDEX('Employee Data'!$G$4:$G$553,MATCH(Databackup!A406,Employee_Name,0))))","v":""},{"$f":"IF(ISERROR(INDEX('Employee Data'!$H$4:$H$553,MATCH(Databackup!A406,Employee_Name,0),0)),\"\",(INDEX('Employee Data'!$H$4:$H$553,MATCH(Databackup!A406,Employee_Name,0))))","v":""},{"$f":"IF(ISERROR(INDEX('Employee Data'!$I$4:$I$553,MATCH(Databackup!A406,Employee_Name,0),0)),\"\",(INDEX('Employee Data'!$I$4:$I$553,MATCH(Databackup!A406,Employee_Name,0))))","v":""},{"$f":"IF(ISERROR(INDEX('Employee Data'!$J$4:$J$553,MATCH(Databackup!A406,Employee_Name,0),0)),\"\",(INDEX('Employee Data'!J$4:$J$553,MATCH(Databackup!A406,Employee_Name,0))))","v":""},{"$f":"IF(ISERROR(INDEX('Employee Data'!$K$4:$K$553,MATCH(Databackup!A406,Employee_Name,0),0)),\"\",(INDEX('Employee Data'!$K$4:$K$553,MATCH(Databackup!A406,Employee_Name,0))))","v":""},{"$f":"IF(ISERROR(INDEX('Employee Data'!$L$4:$L$553,MATCH(Databackup!A406,Employee_Name,0),0)),\"\",(INDEX('Employee Data'!$L$4:$L$553,MATCH(Databackup!A406,Employee_Name,0))))","v":""},{"$f":"IF(ISERROR(INDEX('Employee Data'!$M$4:$M$553,MATCH(Databackup!A406,Employee_Name,0),0)),\"\",(INDEX('Employee Data'!$M$4:$M$553,MATCH(Databackup!A406,Employee_Name,0))))","v":""},{"$f":"IF(ISERROR(INDEX('Employee Data'!$N$4:$N$553,MATCH(Databackup!A406,Employee_Name,0),0)),\"\",(INDEX('Employee Data'!$N$4:$N$553,MATCH(Databackup!A406,Employee_Name,0))))","v":""},{"$f":"IF(ISERROR(INDEX('Employee Data'!$O$4:$O$553,MATCH(Databackup!A406,Employee_Name,0),0)),\"\",(INDEX('Employee Data'!$O$4:$O$553,MATCH(Databackup!A406,Employee_Name,0))))","v":""}]
[{"$f":"INDEX(Employee_Name,MATCH(SMALL(IF($A$1='Employee Data'!$I$4:$I$553,'Employee Data'!$B$4:$B$553,\"\"),ROW('Employee Data'!A405)),IF($A$1='Employee Data'!$I$4:$I$553,'Employee Data'!$B$4:$B$553,\"\"),0))","v":{"$error":"#NUM!"}},{"$f":"IF(ISERROR(INDEX('Employee Data'!$B$4:$B$553,MATCH(Databackup!A407,Employee_Name,0),0)),\"\",(INDEX('Employee Data'!$B$4:$B$553,MATCH(Databackup!A407,Employee_Name,0))))","v":""},{"$f":"IF(ISERROR(INDEX('Employee Data'!$C$4:$C$553,MATCH(Databackup!A407,Employee_Name,0),0)),\"\",(INDEX('Employee Data'!$C$4:$C$553,MATCH(Databackup!A407,Employee_Name,0))))","v":""},{"$f":"IF(ISERROR(INDEX('Employee Data'!$D$4:$D$553,MATCH(Databackup!A407,Employee_Name,0),0)),\"\",(INDEX('Employee Data'!$D$4:$D$553,MATCH(Databackup!A407,Employee_Name,0))))","v":""},{"$f":"IF(ISERROR(INDEX('Employee Data'!$F$4:$F$553,MATCH(Databackup!A407,Employee_Name,0),0)),\"\",(INDEX('Employee Data'!$F$4:$F$553,MATCH(Databackup!A407,Employee_Name,0))))","v":""},{"$f":"IF(ISERROR(INDEX('Employee Data'!$G$4:$G$553,MATCH(Databackup!A407,Employee_Name,0),0)),\"\",(INDEX('Employee Data'!$G$4:$G$553,MATCH(Databackup!A407,Employee_Name,0))))","v":""},{"$f":"IF(ISERROR(INDEX('Employee Data'!$H$4:$H$553,MATCH(Databackup!A407,Employee_Name,0),0)),\"\",(INDEX('Employee Data'!$H$4:$H$553,MATCH(Databackup!A407,Employee_Name,0))))","v":""},{"$f":"IF(ISERROR(INDEX('Employee Data'!$I$4:$I$553,MATCH(Databackup!A407,Employee_Name,0),0)),\"\",(INDEX('Employee Data'!$I$4:$I$553,MATCH(Databackup!A407,Employee_Name,0))))","v":""},{"$f":"IF(ISERROR(INDEX('Employee Data'!$J$4:$J$553,MATCH(Databackup!A407,Employee_Name,0),0)),\"\",(INDEX('Employee Data'!J$4:$J$553,MATCH(Databackup!A407,Employee_Name,0))))","v":""},{"$f":"IF(ISERROR(INDEX('Employee Data'!$K$4:$K$553,MATCH(Databackup!A407,Employee_Name,0),0)),\"\",(INDEX('Employee Data'!$K$4:$K$553,MATCH(Databackup!A407,Employee_Name,0))))","v":""},{"$f":"IF(ISERROR(INDEX('Employee Data'!$L$4:$L$553,MATCH(Databackup!A407,Employee_Name,0),0)),\"\",(INDEX('Employee Data'!$L$4:$L$553,MATCH(Databackup!A407,Employee_Name,0))))","v":""},{"$f":"IF(ISERROR(INDEX('Employee Data'!$M$4:$M$553,MATCH(Databackup!A407,Employee_Name,0),0)),\"\",(INDEX('Employee Data'!$M$4:$M$553,MATCH(Databackup!A407,Employee_Name,0))))","v":""},{"$f":"IF(ISERROR(INDEX('Employee Data'!$N$4:$N$553,MATCH(Databackup!A407,Employee_Name,0),0)),\"\",(INDEX('Employee Data'!$N$4:$N$553,MATCH(Databackup!A407,Employee_Name,0))))","v":""},{"$f":"IF(ISERROR(INDEX('Employee Data'!$O$4:$O$553,MATCH(Databackup!A407,Employee_Name,0),0)),\"\",(INDEX('Employee Data'!$O$4:$O$553,MATCH(Databackup!A407,Employee_Name,0))))","v":""}]
[{"$f":"INDEX(Employee_Name,MATCH(SMALL(IF($A$1='Employee Data'!$I$4:$I$553,'Employee Data'!$B$4:$B$553,\"\"),ROW('Employee Data'!A406)),IF($A$1='Employee Data'!$I$4:$I$553,'Employee Data'!$B$4:$B$553,\"\"),0))","v":{"$error":"#NUM!"}},{"$f":"IF(ISERROR(INDEX('Employee Data'!$B$4:$B$553,MATCH(Databackup!A408,Employee_Name,0),0)),\"\",(INDEX('Employee Data'!$B$4:$B$553,MATCH(Databackup!A408,Employee_Name,0))))","v":""},{"$f":"IF(ISERROR(INDEX('Employee Data'!$C$4:$C$553,MATCH(Databackup!A408,Employee_Name,0),0)),\"\",(INDEX('Employee Data'!$C$4:$C$553,MATCH(Databackup!A408,Employee_Name,0))))","v":""},{"$f":"IF(ISERROR(INDEX('Employee Data'!$D$4:$D$553,MATCH(Databackup!A408,Employee_Name,0),0)),\"\",(INDEX('Employee Data'!$D$4:$D$553,MATCH(Databackup!A408,Employee_Name,0))))","v":""},{"$f":"IF(ISERROR(INDEX('Employee Data'!$F$4:$F$553,MATCH(Databackup!A408,Employee_Name,0),0)),\"\",(INDEX('Employee Data'!$F$4:$F$553,MATCH(Databackup!A408,Employee_Name,0))))","v":""},{"$f":"IF(ISERROR(INDEX('Employee Data'!$G$4:$G$553,MATCH(Databackup!A408,Employee_Name,0),0)),\"\",(INDEX('Employee Data'!$G$4:$G$553,MATCH(Databackup!A408,Employee_Name,0))))","v":""},{"$f":"IF(ISERROR(INDEX('Employee Data'!$H$4:$H$553,MATCH(Databackup!A408,Employee_Name,0),0)),\"\",(INDEX('Employee Data'!$H$4:$H$553,MATCH(Databackup!A408,Employee_Name,0))))","v":""},{"$f":"IF(ISERROR(INDEX('Employee Data'!$I$4:$I$553,MATCH(Databackup!A408,Employee_Name,0),0)),\"\",(INDEX('Employee Data'!$I$4:$I$553,MATCH(Databackup!A408,Employee_Name,0))))","v":""},{"$f":"IF(ISERROR(INDEX('Employee Data'!$J$4:$J$553,MATCH(Databackup!A408,Employee_Name,0),0)),\"\",(INDEX('Employee Data'!J$4:$J$553,MATCH(Databackup!A408,Employee_Name,0))))","v":""},{"$f":"IF(ISERROR(INDEX('Employee Data'!$K$4:$K$553,MATCH(Databackup!A408,Employee_Name,0),0)),\"\",(INDEX('Employee Data'!$K$4:$K$553,MATCH(Databackup!A408,Employee_Name,0))))","v":""},{"$f":"IF(ISERROR(INDEX('Employee Data'!$L$4:$L$553,MATCH(Databackup!A408,Employee_Name,0),0)),\"\",(INDEX('Employee Data'!$L$4:$L$553,MATCH(Databackup!A408,Employee_Name,0))))","v":""},{"$f":"IF(ISERROR(INDEX('Employee Data'!$M$4:$M$553,MATCH(Databackup!A408,Employee_Name,0),0)),\"\",(INDEX('Employee Data'!$M$4:$M$553,MATCH(Databackup!A408,Employee_Name,0))))","v":""},{"$f":"IF(ISERROR(INDEX('Employee Data'!$N$4:$N$553,MATCH(Databackup!A408,Employee_Name,0),0)),\"\",(INDEX('Employee Data'!$N$4:$N$553,MATCH(Databackup!A408,Employee_Name,0))))","v":""},{"$f":"IF(ISERROR(INDEX('Employee Data'!$O$4:$O$553,MATCH(Databackup!A408,Employee_Name,0),0)),\"\",(INDEX('Employee Data'!$O$4:$O$553,MATCH(Databackup!A408,Employee_Name,0))))","v":""}]
[{"$f":"INDEX(Employee_Name,MATCH(SMALL(IF($A$1='Employee Data'!$I$4:$I$553,'Employee Data'!$B$4:$B$553,\"\"),ROW('Employee Data'!A407)),IF($A$1='Employee Data'!$I$4:$I$553,'Employee Data'!$B$4:$B$553,\"\"),0))","v":{"$error":"#NUM!"}},{"$f":"IF(ISERROR(INDEX('Employee Data'!$B$4:$B$553,MATCH(Databackup!A409,Employee_Name,0),0)),\"\",(INDEX('Employee Data'!$B$4:$B$553,MATCH(Databackup!A409,Employee_Name,0))))","v":""},{"$f":"IF(ISERROR(INDEX('Employee Data'!$C$4:$C$553,MATCH(Databackup!A409,Employee_Name,0),0)),\"\",(INDEX('Employee Data'!$C$4:$C$553,MATCH(Databackup!A409,Employee_Name,0))))","v":""},{"$f":"IF(ISERROR(INDEX('Employee Data'!$D$4:$D$553,MATCH(Databackup!A409,Employee_Name,0),0)),\"\",(INDEX('Employee Data'!$D$4:$D$553,MATCH(Databackup!A409,Employee_Name,0))))","v":""},{"$f":"IF(ISERROR(INDEX('Employee Data'!$F$4:$F$553,MATCH(Databackup!A409,Employee_Name,0),0)),\"\",(INDEX('Employee Data'!$F$4:$F$553,MATCH(Databackup!A409,Employee_Name,0))))","v":""},{"$f":"IF(ISERROR(INDEX('Employee Data'!$G$4:$G$553,MATCH(Databackup!A409,Employee_Name,0),0)),\"\",(INDEX('Employee Data'!$G$4:$G$553,MATCH(Databackup!A409,Employee_Name,0))))","v":""},{"$f":"IF(ISERROR(INDEX('Employee Data'!$H$4:$H$553,MATCH(Databackup!A409,Employee_Name,0),0)),\"\",(INDEX('Employee Data'!$H$4:$H$553,MATCH(Databackup!A409,Employee_Name,0))))","v":""},{"$f":"IF(ISERROR(INDEX('Employee Data'!$I$4:$I$553,MATCH(Databackup!A409,Employee_Name,0),0)),\"\",(INDEX('Employee Data'!$I$4:$I$553,MATCH(Databackup!A409,Employee_Name,0))))","v":""},{"$f":"IF(ISERROR(INDEX('Employee Data'!$J$4:$J$553,MATCH(Databackup!A409,Employee_Name,0),0)),\"\",(INDEX('Employee Data'!J$4:$J$553,MATCH(Databackup!A409,Employee_Name,0))))","v":""},{"$f":"IF(ISERROR(INDEX('Employee Data'!$K$4:$K$553,MATCH(Databackup!A409,Employee_Name,0),0)),\"\",(INDEX('Employee Data'!$K$4:$K$553,MATCH(Databackup!A409,Employee_Name,0))))","v":""},{"$f":"IF(ISERROR(INDEX('Employee Data'!$L$4:$L$553,MATCH(Databackup!A409,Employee_Name,0),0)),\"\",(INDEX('Employee Data'!$L$4:$L$553,MATCH(Databackup!A409,Employee_Name,0))))","v":""},{"$f":"IF(ISERROR(INDEX('Employee Data'!$M$4:$M$553,MATCH(Databackup!A409,Employee_Name,0),0)),\"\",(INDEX('Employee Data'!$M$4:$M$553,MATCH(Databackup!A409,Employee_Name,0))))","v":""},{"$f":"IF(ISERROR(INDEX('Employee Data'!$N$4:$N$553,MATCH(Databackup!A409,Employee_Name,0),0)),\"\",(INDEX('Employee Data'!$N$4:$N$553,MATCH(Databackup!A409,Employee_Name,0))))","v":""},{"$f":"IF(ISERROR(INDEX('Employee Data'!$O$4:$O$553,MATCH(Databackup!A409,Employee_Name,0),0)),\"\",(INDEX('Employee Data'!$O$4:$O$553,MATCH(Databackup!A409,Employee_Name,0))))","v":""}]
[{"$f":"INDEX(Employee_Name,MATCH(SMALL(IF($A$1='Employee Data'!$I$4:$I$553,'Employee Data'!$B$4:$B$553,\"\"),ROW('Employee Data'!A408)),IF($A$1='Employee Data'!$I$4:$I$553,'Employee Data'!$B$4:$B$553,\"\"),0))","v":{"$error":"#NUM!"}},{"$f":"IF(ISERROR(INDEX('Employee Data'!$B$4:$B$553,MATCH(Databackup!A410,Employee_Name,0),0)),\"\",(INDEX('Employee Data'!$B$4:$B$553,MATCH(Databackup!A410,Employee_Name,0))))","v":""},{"$f":"IF(ISERROR(INDEX('Employee Data'!$C$4:$C$553,MATCH(Databackup!A410,Employee_Name,0),0)),\"\",(INDEX('Employee Data'!$C$4:$C$553,MATCH(Databackup!A410,Employee_Name,0))))","v":""},{"$f":"IF(ISERROR(INDEX('Employee Data'!$D$4:$D$553,MATCH(Databackup!A410,Employee_Name,0),0)),\"\",(INDEX('Employee Data'!$D$4:$D$553,MATCH(Databackup!A410,Employee_Name,0))))","v":""},{"$f":"IF(ISERROR(INDEX('Employee Data'!$F$4:$F$553,MATCH(Databackup!A410,Employee_Name,0),0)),\"\",(INDEX('Employee Data'!$F$4:$F$553,MATCH(Databackup!A410,Employee_Name,0))))","v":""},{"$f":"IF(ISERROR(INDEX('Employee Data'!$G$4:$G$553,MATCH(Databackup!A410,Employee_Name,0),0)),\"\",(INDEX('Employee Data'!$G$4:$G$553,MATCH(Databackup!A410,Employee_Name,0))))","v":""},{"$f":"IF(ISERROR(INDEX('Employee Data'!$H$4:$H$553,MATCH(Databackup!A410,Employee_Name,0),0)),\"\",(INDEX('Employee Data'!$H$4:$H$553,MATCH(Databackup!A410,Employee_Name,0))))","v":""},{"$f":"IF(ISERROR(INDEX('Employee Data'!$I$4:$I$553,MATCH(Databackup!A410,Employee_Name,0),0)),\"\",(INDEX('Employee Data'!$I$4:$I$553,MATCH(Databackup!A410,Employee_Name,0))))","v":""},{"$f":"IF(ISERROR(INDEX('Employee Data'!$J$4:$J$553,MATCH(Databackup!A410,Employee_Name,0),0)),\"\",(INDEX('Employee Data'!J$4:$J$553,MATCH(Databackup!A410,Employee_Name,0))))","v":""},{"$f":"IF(ISERROR(INDEX('Employee Data'!$K$4:$K$553,MATCH(Databackup!A410,Employee_Name,0),0)),\"\",(INDEX('Employee Data'!$K$4:$K$553,MATCH(Databackup!A410,Employee_Name,0))))","v":""},{"$f":"IF(ISERROR(INDEX('Employee Data'!$L$4:$L$553,MATCH(Databackup!A410,Employee_Name,0),0)),\"\",(INDEX('Employee Data'!$L$4:$L$553,MATCH(Databackup!A410,Employee_Name,0))))","v":""},{"$f":"IF(ISERROR(INDEX('Employee Data'!$M$4:$M$553,MATCH(Databackup!A410,Employee_Name,0),0)),\"\",(INDEX('Employee Data'!$M$4:$M$553,MATCH(Databackup!A410,Employee_Name,0))))","v":""},{"$f":"IF(ISERROR(INDEX('Employee Data'!$N$4:$N$553,MATCH(Databackup!A410,Employee_Name,0),0)),\"\",(INDEX('Employee Data'!$N$4:$N$553,MATCH(Databackup!A410,Employee_Name,0))))","v":""},{"$f":"IF(ISERROR(INDEX('Employee Data'!$O$4:$O$553,MATCH(Databackup!A410,Employee_Name,0),0)),\"\",(INDEX('Employee Data'!$O$4:$O$553,MATCH(Databackup!A410,Employee_Name,0))))","v":""}]
[{"$f":"INDEX(Employee_Name,MATCH(SMALL(IF($A$1='Employee Data'!$I$4:$I$553,'Employee Data'!$B$4:$B$553,\"\"),ROW('Employee Data'!A409)),IF($A$1='Employee Data'!$I$4:$I$553,'Employee Data'!$B$4:$B$553,\"\"),0))","v":{"$error":"#NUM!"}},{"$f":"IF(ISERROR(INDEX('Employee Data'!$B$4:$B$553,MATCH(Databackup!A411,Employee_Name,0),0)),\"\",(INDEX('Employee Data'!$B$4:$B$553,MATCH(Databackup!A411,Employee_Name,0))))","v":""},{"$f":"IF(ISERROR(INDEX('Employee Data'!$C$4:$C$553,MATCH(Databackup!A411,Employee_Name,0),0)),\"\",(INDEX('Employee Data'!$C$4:$C$553,MATCH(Databackup!A411,Employee_Name,0))))","v":""},{"$f":"IF(ISERROR(INDEX('Employee Data'!$D$4:$D$553,MATCH(Databackup!A411,Employee_Name,0),0)),\"\",(INDEX('Employee Data'!$D$4:$D$553,MATCH(Databackup!A411,Employee_Name,0))))","v":""},{"$f":"IF(ISERROR(INDEX('Employee Data'!$F$4:$F$553,MATCH(Databackup!A411,Employee_Name,0),0)),\"\",(INDEX('Employee Data'!$F$4:$F$553,MATCH(Databackup!A411,Employee_Name,0))))","v":""},{"$f":"IF(ISERROR(INDEX('Employee Data'!$G$4:$G$553,MATCH(Databackup!A411,Employee_Name,0),0)),\"\",(INDEX('Employee Data'!$G$4:$G$553,MATCH(Databackup!A411,Employee_Name,0))))","v":""},{"$f":"IF(ISERROR(INDEX('Employee Data'!$H$4:$H$553,MATCH(Databackup!A411,Employee_Name,0),0)),\"\",(INDEX('Employee Data'!$H$4:$H$553,MATCH(Databackup!A411,Employee_Name,0))))","v":""},{"$f":"IF(ISERROR(INDEX('Employee Data'!$I$4:$I$553,MATCH(Databackup!A411,Employee_Name,0),0)),\"\",(INDEX('Employee Data'!$I$4:$I$553,MATCH(Databackup!A411,Employee_Name,0))))","v":""},{"$f":"IF(ISERROR(INDEX('Employee Data'!$J$4:$J$553,MATCH(Databackup!A411,Employee_Name,0),0)),\"\",(INDEX('Employee Data'!J$4:$J$553,MATCH(Databackup!A411,Employee_Name,0))))","v":""},{"$f":"IF(ISERROR(INDEX('Employee Data'!$K$4:$K$553,MATCH(Databackup!A411,Employee_Name,0),0)),\"\",(INDEX('Employee Data'!$K$4:$K$553,MATCH(Databackup!A411,Employee_Name,0))))","v":""},{"$f":"IF(ISERROR(INDEX('Employee Data'!$L$4:$L$553,MATCH(Databackup!A411,Employee_Name,0),0)),\"\",(INDEX('Employee Data'!$L$4:$L$553,MATCH(Databackup!A411,Employee_Name,0))))","v":""},{"$f":"IF(ISERROR(INDEX('Employee Data'!$M$4:$M$553,MATCH(Databackup!A411,Employee_Name,0),0)),\"\",(INDEX('Employee Data'!$M$4:$M$553,MATCH(Databackup!A411,Employee_Name,0))))","v":""},{"$f":"IF(ISERROR(INDEX('Employee Data'!$N$4:$N$553,MATCH(Databackup!A411,Employee_Name,0),0)),\"\",(INDEX('Employee Data'!$N$4:$N$553,MATCH(Databackup!A411,Employee_Name,0))))","v":""},{"$f":"IF(ISERROR(INDEX('Employee Data'!$O$4:$O$553,MATCH(Databackup!A411,Employee_Name,0),0)),\"\",(INDEX('Employee Data'!$O$4:$O$553,MATCH(Databackup!A411,Employee_Name,0))))","v":""}]
[{"$f":"INDEX(Employee_Name,MATCH(SMALL(IF($A$1='Employee Data'!$I$4:$I$553,'Employee Data'!$B$4:$B$553,\"\"),ROW('Employee Data'!A410)),IF($A$1='Employee Data'!$I$4:$I$553,'Employee Data'!$B$4:$B$553,\"\"),0))","v":{"$error":"#NUM!"}},{"$f":"IF(ISERROR(INDEX('Employee Data'!$B$4:$B$553,MATCH(Databackup!A412,Employee_Name,0),0)),\"\",(INDEX('Employee Data'!$B$4:$B$553,MATCH(Databackup!A412,Employee_Name,0))))","v":""},{"$f":"IF(ISERROR(INDEX('Employee Data'!$C$4:$C$553,MATCH(Databackup!A412,Employee_Name,0),0)),\"\",(INDEX('Employee Data'!$C$4:$C$553,MATCH(Databackup!A412,Employee_Name,0))))","v":""},{"$f":"IF(ISERROR(INDEX('Employee Data'!$D$4:$D$553,MATCH(Databackup!A412,Employee_Name,0),0)),\"\",(INDEX('Employee Data'!$D$4:$D$553,MATCH(Databackup!A412,Employee_Name,0))))","v":""},{"$f":"IF(ISERROR(INDEX('Employee Data'!$F$4:$F$553,MATCH(Databackup!A412,Employee_Name,0),0)),\"\",(INDEX('Employee Data'!$F$4:$F$553,MATCH(Databackup!A412,Employee_Name,0))))","v":""},{"$f":"IF(ISERROR(INDEX('Employee Data'!$G$4:$G$553,MATCH(Databackup!A412,Employee_Name,0),0)),\"\",(INDEX('Employee Data'!$G$4:$G$553,MATCH(Databackup!A412,Employee_Name,0))))","v":""},{"$f":"IF(ISERROR(INDEX('Employee Data'!$H$4:$H$553,MATCH(Databackup!A412,Employee_Name,0),0)),\"\",(INDEX('Employee Data'!$H$4:$H$553,MATCH(Databackup!A412,Employee_Name,0))))","v":""},{"$f":"IF(ISERROR(INDEX('Employee Data'!$I$4:$I$553,MATCH(Databackup!A412,Employee_Name,0),0)),\"\",(INDEX('Employee Data'!$I$4:$I$553,MATCH(Databackup!A412,Employee_Name,0))))","v":""},{"$f":"IF(ISERROR(INDEX('Employee Data'!$J$4:$J$553,MATCH(Databackup!A412,Employee_Name,0),0)),\"\",(INDEX('Employee Data'!J$4:$J$553,MATCH(Databackup!A412,Employee_Name,0))))","v":""},{"$f":"IF(ISERROR(INDEX('Employee Data'!$K$4:$K$553,MATCH(Databackup!A412,Employee_Name,0),0)),\"\",(INDEX('Employee Data'!$K$4:$K$553,MATCH(Databackup!A412,Employee_Name,0))))","v":""},{"$f":"IF(ISERROR(INDEX('Employee Data'!$L$4:$L$553,MATCH(Databackup!A412,Employee_Name,0),0)),\"\",(INDEX('Employee Data'!$L$4:$L$553,MATCH(Databackup!A412,Employee_Name,0))))","v":""},{"$f":"IF(ISERROR(INDEX('Employee Data'!$M$4:$M$553,MATCH(Databackup!A412,Employee_Name,0),0)),\"\",(INDEX('Employee Data'!$M$4:$M$553,MATCH(Databackup!A412,Employee_Name,0))))","v":""},{"$f":"IF(ISERROR(INDEX('Employee Data'!$N$4:$N$553,MATCH(Databackup!A412,Employee_Name,0),0)),\"\",(INDEX('Employee Data'!$N$4:$N$553,MATCH(Databackup!A412,Employee_Name,0))))","v":""},{"$f":"IF(ISERROR(INDEX('Employee Data'!$O$4:$O$553,MATCH(Databackup!A412,Employee_Name,0),0)),\"\",(INDEX('Employee Data'!$O$4:$O$553,MATCH(Databackup!A412,Employee_Name,0))))","v":""}]
[{"$f":"INDEX(Employee_Name,MATCH(SMALL(IF($A$1='Employee Data'!$I$4:$I$553,'Employee Data'!$B$4:$B$553,\"\"),ROW('Employee Data'!A411)),IF($A$1='Employee Data'!$I$4:$I$553,'Employee Data'!$B$4:$B$553,\"\"),0))","v":{"$error":"#NUM!"}},{"$f":"IF(ISERROR(INDEX('Employee Data'!$B$4:$B$553,MATCH(Databackup!A413,Employee_Name,0),0)),\"\",(INDEX('Employee Data'!$B$4:$B$553,MATCH(Databackup!A413,Employee_Name,0))))","v":""},{"$f":"IF(ISERROR(INDEX('Employee Data'!$C$4:$C$553,MATCH(Databackup!A413,Employee_Name,0),0)),\"\",(INDEX('Employee Data'!$C$4:$C$553,MATCH(Databackup!A413,Employee_Name,0))))","v":""},{"$f":"IF(ISERROR(INDEX('Employee Data'!$D$4:$D$553,MATCH(Databackup!A413,Employee_Name,0),0)),\"\",(INDEX('Employee Data'!$D$4:$D$553,MATCH(Databackup!A413,Employee_Name,0))))","v":""},{"$f":"IF(ISERROR(INDEX('Employee Data'!$F$4:$F$553,MATCH(Databackup!A413,Employee_Name,0),0)),\"\",(INDEX('Employee Data'!$F$4:$F$553,MATCH(Databackup!A413,Employee_Name,0))))","v":""},{"$f":"IF(ISERROR(INDEX('Employee Data'!$G$4:$G$553,MATCH(Databackup!A413,Employee_Name,0),0)),\"\",(INDEX('Employee Data'!$G$4:$G$553,MATCH(Databackup!A413,Employee_Name,0))))","v":""},{"$f":"IF(ISERROR(INDEX('Employee Data'!$H$4:$H$553,MATCH(Databackup!A413,Employee_Name,0),0)),\"\",(INDEX('Employee Data'!$H$4:$H$553,MATCH(Databackup!A413,Employee_Name,0))))","v":""},{"$f":"IF(ISERROR(INDEX('Employee Data'!$I$4:$I$553,MATCH(Databackup!A413,Employee_Name,0),0)),\"\",(INDEX('Employee Data'!$I$4:$I$553,MATCH(Databackup!A413,Employee_Name,0))))","v":""},{"$f":"IF(ISERROR(INDEX('Employee Data'!$J$4:$J$553,MATCH(Databackup!A413,Employee_Name,0),0)),\"\",(INDEX('Employee Data'!J$4:$J$553,MATCH(Databackup!A413,Employee_Name,0))))","v":""},{"$f":"IF(ISERROR(INDEX('Employee Data'!$K$4:$K$553,MATCH(Databackup!A413,Employee_Name,0),0)),\"\",(INDEX('Employee Data'!$K$4:$K$553,MATCH(Databackup!A413,Employee_Name,0))))","v":""},{"$f":"IF(ISERROR(INDEX('Employee Data'!$L$4:$L$553,MATCH(Databackup!A413,Employee_Name,0),0)),\"\",(INDEX('Employee Data'!$L$4:$L$553,MATCH(Databackup!A413,Employee_Name,0))))","v":""},{"$f":"IF(ISERROR(INDEX('Employee Data'!$M$4:$M$553,MATCH(Databackup!A413,Employee_Name,0),0)),\"\",(INDEX('Employee Data'!$M$4:$M$553,MATCH(Databackup!A413,Employee_Name,0))))","v":""},{"$f":"IF(ISERROR(INDEX('Employee Data'!$N$4:$N$553,MATCH(Databackup!A413,Employee_Name,0),0)),\"\",(INDEX('Employee Data'!$N$4:$N$553,MATCH(Databackup!A413,Employee_Name,0))))","v":""},{"$f":"IF(ISERROR(INDEX('Employee Data'!$O$4:$O$553,MATCH(Databackup!A413,Employee_Name,0),0)),\"\",(INDEX('Employee Data'!$O$4:$O$553,MATCH(Databackup!A413,Employee_Name,0))))","v":""}]
[{"$f":"INDEX(Employee_Name,MATCH(SMALL(IF($A$1='Employee Data'!$I$4:$I$553,'Employee Data'!$B$4:$B$553,\"\"),ROW('Employee Data'!A412)),IF($A$1='Employee Data'!$I$4:$I$553,'Employee Data'!$B$4:$B$553,\"\"),0))","v":{"$error":"#NUM!"}},{"$f":"IF(ISERROR(INDEX('Employee Data'!$B$4:$B$553,MATCH(Databackup!A414,Employee_Name,0),0)),\"\",(INDEX('Employee Data'!$B$4:$B$553,MATCH(Databackup!A414,Employee_Name,0))))","v":""},{"$f":"IF(ISERROR(INDEX('Employee Data'!$C$4:$C$553,MATCH(Databackup!A414,Employee_Name,0),0)),\"\",(INDEX('Employee Data'!$C$4:$C$553,MATCH(Databackup!A414,Employee_Name,0))))","v":""},{"$f":"IF(ISERROR(INDEX('Employee Data'!$D$4:$D$553,MATCH(Databackup!A414,Employee_Name,0),0)),\"\",(INDEX('Employee Data'!$D$4:$D$553,MATCH(Databackup!A414,Employee_Name,0))))","v":""},{"$f":"IF(ISERROR(INDEX('Employee Data'!$F$4:$F$553,MATCH(Databackup!A414,Employee_Name,0),0)),\"\",(INDEX('Employee Data'!$F$4:$F$553,MATCH(Databackup!A414,Employee_Name,0))))","v":""},{"$f":"IF(ISERROR(INDEX('Employee Data'!$G$4:$G$553,MATCH(Databackup!A414,Employee_Name,0),0)),\"\",(INDEX('Employee Data'!$G$4:$G$553,MATCH(Databackup!A414,Employee_Name,0))))","v":""},{"$f":"IF(ISERROR(INDEX('Employee Data'!$H$4:$H$553,MATCH(Databackup!A414,Employee_Name,0),0)),\"\",(INDEX('Employee Data'!$H$4:$H$553,MATCH(Databackup!A414,Employee_Name,0))))","v":""},{"$f":"IF(ISERROR(INDEX('Employee Data'!$I$4:$I$553,MATCH(Databackup!A414,Employee_Name,0),0)),\"\",(INDEX('Employee Data'!$I$4:$I$553,MATCH(Databackup!A414,Employee_Name,0))))","v":""},{"$f":"IF(ISERROR(INDEX('Employee Data'!$J$4:$J$553,MATCH(Databackup!A414,Employee_Name,0),0)),\"\",(INDEX('Employee Data'!J$4:$J$553,MATCH(Databackup!A414,Employee_Name,0))))","v":""},{"$f":"IF(ISERROR(INDEX('Employee Data'!$K$4:$K$553,MATCH(Databackup!A414,Employee_Name,0),0)),\"\",(INDEX('Employee Data'!$K$4:$K$553,MATCH(Databackup!A414,Employee_Name,0))))","v":""},{"$f":"IF(ISERROR(INDEX('Employee Data'!$L$4:$L$553,MATCH(Databackup!A414,Employee_Name,0),0)),\"\",(INDEX('Employee Data'!$L$4:$L$553,MATCH(Databackup!A414,Employee_Name,0))))","v":""},{"$f":"IF(ISERROR(INDEX('Employee Data'!$M$4:$M$553,MATCH(Databackup!A414,Employee_Name,0),0)),\"\",(INDEX('Employee Data'!$M$4:$M$553,MATCH(Databackup!A414,Employee_Name,0))))","v":""},{"$f":"IF(ISERROR(INDEX('Employee Data'!$N$4:$N$553,MATCH(Databackup!A414,Employee_Name,0),0)),\"\",(INDEX('Employee Data'!$N$4:$N$553,MATCH(Databackup!A414,Employee_Name,0))))","v":""},{"$f":"IF(ISERROR(INDEX('Employee Data'!$O$4:$O$553,MATCH(Databackup!A414,Employee_Name,0),0)),\"\",(INDEX('Employee Data'!$O$4:$O$553,MATCH(Databackup!A414,Employee_Name,0))))","v":""}]
[{"$f":"INDEX(Employee_Name,MATCH(SMALL(IF($A$1='Employee Data'!$I$4:$I$553,'Employee Data'!$B$4:$B$553,\"\"),ROW('Employee Data'!A413)),IF($A$1='Employee Data'!$I$4:$I$553,'Employee Data'!$B$4:$B$553,\"\"),0))","v":{"$error":"#NUM!"}},{"$f":"IF(ISERROR(INDEX('Employee Data'!$B$4:$B$553,MATCH(Databackup!A415,Employee_Name,0),0)),\"\",(INDEX('Employee Data'!$B$4:$B$553,MATCH(Databackup!A415,Employee_Name,0))))","v":""},{"$f":"IF(ISERROR(INDEX('Employee Data'!$C$4:$C$553,MATCH(Databackup!A415,Employee_Name,0),0)),\"\",(INDEX('Employee Data'!$C$4:$C$553,MATCH(Databackup!A415,Employee_Name,0))))","v":""},{"$f":"IF(ISERROR(INDEX('Employee Data'!$D$4:$D$553,MATCH(Databackup!A415,Employee_Name,0),0)),\"\",(INDEX('Employee Data'!$D$4:$D$553,MATCH(Databackup!A415,Employee_Name,0))))","v":""},{"$f":"IF(ISERROR(INDEX('Employee Data'!$F$4:$F$553,MATCH(Databackup!A415,Employee_Name,0),0)),\"\",(INDEX('Employee Data'!$F$4:$F$553,MATCH(Databackup!A415,Employee_Name,0))))","v":""},{"$f":"IF(ISERROR(INDEX('Employee Data'!$G$4:$G$553,MATCH(Databackup!A415,Employee_Name,0),0)),\"\",(INDEX('Employee Data'!$G$4:$G$553,MATCH(Databackup!A415,Employee_Name,0))))","v":""},{"$f":"IF(ISERROR(INDEX('Employee Data'!$H$4:$H$553,MATCH(Databackup!A415,Employee_Name,0),0)),\"\",(INDEX('Employee Data'!$H$4:$H$553,MATCH(Databackup!A415,Employee_Name,0))))","v":""},{"$f":"IF(ISERROR(INDEX('Employee Data'!$I$4:$I$553,MATCH(Databackup!A415,Employee_Name,0),0)),\"\",(INDEX('Employee Data'!$I$4:$I$553,MATCH(Databackup!A415,Employee_Name,0))))","v":""},{"$f":"IF(ISERROR(INDEX('Employee Data'!$J$4:$J$553,MATCH(Databackup!A415,Employee_Name,0),0)),\"\",(INDEX('Employee Data'!J$4:$J$553,MATCH(Databackup!A415,Employee_Name,0))))","v":""},{"$f":"IF(ISERROR(INDEX('Employee Data'!$K$4:$K$553,MATCH(Databackup!A415,Employee_Name,0),0)),\"\",(INDEX('Employee Data'!$K$4:$K$553,MATCH(Databackup!A415,Employee_Name,0))))","v":""},{"$f":"IF(ISERROR(INDEX('Employee Data'!$L$4:$L$553,MATCH(Databackup!A415,Employee_Name,0),0)),\"\",(INDEX('Employee Data'!$L$4:$L$553,MATCH(Databackup!A415,Employee_Name,0))))","v":""},{"$f":"IF(ISERROR(INDEX('Employee Data'!$M$4:$M$553,MATCH(Databackup!A415,Employee_Name,0),0)),\"\",(INDEX('Employee Data'!$M$4:$M$553,MATCH(Databackup!A415,Employee_Name,0))))","v":""},{"$f":"IF(ISERROR(INDEX('Employee Data'!$N$4:$N$553,MATCH(Databackup!A415,Employee_Name,0),0)),\"\",(INDEX('Employee Data'!$N$4:$N$553,MATCH(Databackup!A415,Employee_Name,0))))","v":""},{"$f":"IF(ISERROR(INDEX('Employee Data'!$O$4:$O$553,MATCH(Databackup!A415,Employee_Name,0),0)),\"\",(INDEX('Employee Data'!$O$4:$O$553,MATCH(Databackup!A415,Employee_Name,0))))","v":""}]
[{"$f":"INDEX(Employee_Name,MATCH(SMALL(IF($A$1='Employee Data'!$I$4:$I$553,'Employee Data'!$B$4:$B$553,\"\"),ROW('Employee Data'!A414)),IF($A$1='Employee Data'!$I$4:$I$553,'Employee Data'!$B$4:$B$553,\"\"),0))","v":{"$error":"#NUM!"}},{"$f":"IF(ISERROR(INDEX('Employee Data'!$B$4:$B$553,MATCH(Databackup!A416,Employee_Name,0),0)),\"\",(INDEX('Employee Data'!$B$4:$B$553,MATCH(Databackup!A416,Employee_Name,0))))","v":""},{"$f":"IF(ISERROR(INDEX('Employee Data'!$C$4:$C$553,MATCH(Databackup!A416,Employee_Name,0),0)),\"\",(INDEX('Employee Data'!$C$4:$C$553,MATCH(Databackup!A416,Employee_Name,0))))","v":""},{"$f":"IF(ISERROR(INDEX('Employee Data'!$D$4:$D$553,MATCH(Databackup!A416,Employee_Name,0),0)),\"\",(INDEX('Employee Data'!$D$4:$D$553,MATCH(Databackup!A416,Employee_Name,0))))","v":""},{"$f":"IF(ISERROR(INDEX('Employee Data'!$F$4:$F$553,MATCH(Databackup!A416,Employee_Name,0),0)),\"\",(INDEX('Employee Data'!$F$4:$F$553,MATCH(Databackup!A416,Employee_Name,0))))","v":""},{"$f":"IF(ISERROR(INDEX('Employee Data'!$G$4:$G$553,MATCH(Databackup!A416,Employee_Name,0),0)),\"\",(INDEX('Employee Data'!$G$4:$G$553,MATCH(Databackup!A416,Employee_Name,0))))","v":""},{"$f":"IF(ISERROR(INDEX('Employee Data'!$H$4:$H$553,MATCH(Databackup!A416,Employee_Name,0),0)),\"\",(INDEX('Employee Data'!$H$4:$H$553,MATCH(Databackup!A416,Employee_Name,0))))","v":""},{"$f":"IF(ISERROR(INDEX('Employee Data'!$I$4:$I$553,MATCH(Databackup!A416,Employee_Name,0),0)),\"\",(INDEX('Employee Data'!$I$4:$I$553,MATCH(Databackup!A416,Employee_Name,0))))","v":""},{"$f":"IF(ISERROR(INDEX('Employee Data'!$J$4:$J$553,MATCH(Databackup!A416,Employee_Name,0),0)),\"\",(INDEX('Employee Data'!J$4:$J$553,MATCH(Databackup!A416,Employee_Name,0))))","v":""},{"$f":"IF(ISERROR(INDEX('Employee Data'!$K$4:$K$553,MATCH(Databackup!A416,Employee_Name,0),0)),\"\",(INDEX('Employee Data'!$K$4:$K$553,MATCH(Databackup!A416,Employee_Name,0))))","v":""},{"$f":"IF(ISERROR(INDEX('Employee Data'!$L$4:$L$553,MATCH(Databackup!A416,Employee_Name,0),0)),\"\",(INDEX('Employee Data'!$L$4:$L$553,MATCH(Databackup!A416,Employee_Name,0))))","v":""},{"$f":"IF(ISERROR(INDEX('Employee Data'!$M$4:$M$553,MATCH(Databackup!A416,Employee_Name,0),0)),\"\",(INDEX('Employee Data'!$M$4:$M$553,MATCH(Databackup!A416,Employee_Name,0))))","v":""},{"$f":"IF(ISERROR(INDEX('Employee Data'!$N$4:$N$553,MATCH(Databackup!A416,Employee_Name,0),0)),\"\",(INDEX('Employee Data'!$N$4:$N$553,MATCH(Databackup!A416,Employee_Name,0))))","v":""},{"$f":"IF(ISERROR(INDEX('Employee Data'!$O$4:$O$553,MATCH(Databackup!A416,Employee_Name,0),0)),\"\",(INDEX('Employee Data'!$O$4:$O$553,MATCH(Databackup!A416,Employee_Name,0))))","v":""}]
[{"$f":"INDEX(Employee_Name,MATCH(SMALL(IF($A$1='Employee Data'!$I$4:$I$553,'Employee Data'!$B$4:$B$553,\"\"),ROW('Employee Data'!A415)),IF($A$1='Employee Data'!$I$4:$I$553,'Employee Data'!$B$4:$B$553,\"\"),0))","v":{"$error":"#NUM!"}},{"$f":"IF(ISERROR(INDEX('Employee Data'!$B$4:$B$553,MATCH(Databackup!A417,Employee_Name,0),0)),\"\",(INDEX('Employee Data'!$B$4:$B$553,MATCH(Databackup!A417,Employee_Name,0))))","v":""},{"$f":"IF(ISERROR(INDEX('Employee Data'!$C$4:$C$553,MATCH(Databackup!A417,Employee_Name,0),0)),\"\",(INDEX('Employee Data'!$C$4:$C$553,MATCH(Databackup!A417,Employee_Name,0))))","v":""},{"$f":"IF(ISERROR(INDEX('Employee Data'!$D$4:$D$553,MATCH(Databackup!A417,Employee_Name,0),0)),\"\",(INDEX('Employee Data'!$D$4:$D$553,MATCH(Databackup!A417,Employee_Name,0))))","v":""},{"$f":"IF(ISERROR(INDEX('Employee Data'!$F$4:$F$553,MATCH(Databackup!A417,Employee_Name,0),0)),\"\",(INDEX('Employee Data'!$F$4:$F$553,MATCH(Databackup!A417,Employee_Name,0))))","v":""},{"$f":"IF(ISERROR(INDEX('Employee Data'!$G$4:$G$553,MATCH(Databackup!A417,Employee_Name,0),0)),\"\",(INDEX('Employee Data'!$G$4:$G$553,MATCH(Databackup!A417,Employee_Name,0))))","v":""},{"$f":"IF(ISERROR(INDEX('Employee Data'!$H$4:$H$553,MATCH(Databackup!A417,Employee_Name,0),0)),\"\",(INDEX('Employee Data'!$H$4:$H$553,MATCH(Databackup!A417,Employee_Name,0))))","v":""},{"$f":"IF(ISERROR(INDEX('Employee Data'!$I$4:$I$553,MATCH(Databackup!A417,Employee_Name,0),0)),\"\",(INDEX('Employee Data'!$I$4:$I$553,MATCH(Databackup!A417,Employee_Name,0))))","v":""},{"$f":"IF(ISERROR(INDEX('Employee Data'!$J$4:$J$553,MATCH(Databackup!A417,Employee_Name,0),0)),\"\",(INDEX('Employee Data'!J$4:$J$553,MATCH(Databackup!A417,Employee_Name,0))))","v":""},{"$f":"IF(ISERROR(INDEX('Employee Data'!$K$4:$K$553,MATCH(Databackup!A417,Employee_Name,0),0)),\"\",(INDEX('Employee Data'!$K$4:$K$553,MATCH(Databackup!A417,Employee_Name,0))))","v":""},{"$f":"IF(ISERROR(INDEX('Employee Data'!$L$4:$L$553,MATCH(Databackup!A417,Employee_Name,0),0)),\"\",(INDEX('Employee Data'!$L$4:$L$553,MATCH(Databackup!A417,Employee_Name,0))))","v":""},{"$f":"IF(ISERROR(INDEX('Employee Data'!$M$4:$M$553,MATCH(Databackup!A417,Employee_Name,0),0)),\"\",(INDEX('Employee Data'!$M$4:$M$553,MATCH(Databackup!A417,Employee_Name,0))))","v":""},{"$f":"IF(ISERROR(INDEX('Employee Data'!$N$4:$N$553,MATCH(Databackup!A417,Employee_Name,0),0)),\"\",(INDEX('Employee Data'!$N$4:$N$553,MATCH(Databackup!A417,Employee_Name,0))))","v":""},{"$f":"IF(ISERROR(INDEX('Employee Data'!$O$4:$O$553,MATCH(Databackup!A417,Employee_Name,0),0)),\"\",(INDEX('Employee Data'!$O$4:$O$553,MATCH(Databackup!A417,Employee_Name,0))))","v":""}]
[{"$f":"INDEX(Employee_Name,MATCH(SMALL(IF($A$1='Employee Data'!$I$4:$I$553,'Employee Data'!$B$4:$B$553,\"\"),ROW('Employee Data'!A416)),IF($A$1='Employee Data'!$I$4:$I$553,'Employee Data'!$B$4:$B$553,\"\"),0))","v":{"$error":"#NUM!"}},{"$f":"IF(ISERROR(INDEX('Employee Data'!$B$4:$B$553,MATCH(Databackup!A418,Employee_Name,0),0)),\"\",(INDEX('Employee Data'!$B$4:$B$553,MATCH(Databackup!A418,Employee_Name,0))))","v":""},{"$f":"IF(ISERROR(INDEX('Employee Data'!$C$4:$C$553,MATCH(Databackup!A418,Employee_Name,0),0)),\"\",(INDEX('Employee Data'!$C$4:$C$553,MATCH(Databackup!A418,Employee_Name,0))))","v":""},{"$f":"IF(ISERROR(INDEX('Employee Data'!$D$4:$D$553,MATCH(Databackup!A418,Employee_Name,0),0)),\"\",(INDEX('Employee Data'!$D$4:$D$553,MATCH(Databackup!A418,Employee_Name,0))))","v":""},{"$f":"IF(ISERROR(INDEX('Employee Data'!$F$4:$F$553,MATCH(Databackup!A418,Employee_Name,0),0)),\"\",(INDEX('Employee Data'!$F$4:$F$553,MATCH(Databackup!A418,Employee_Name,0))))","v":""},{"$f":"IF(ISERROR(INDEX('Employee Data'!$G$4:$G$553,MATCH(Databackup!A418,Employee_Name,0),0)),\"\",(INDEX('Employee Data'!$G$4:$G$553,MATCH(Databackup!A418,Employee_Name,0))))","v":""},{"$f":"IF(ISERROR(INDEX('Employee Data'!$H$4:$H$553,MATCH(Databackup!A418,Employee_Name,0),0)),\"\",(INDEX('Employee Data'!$H$4:$H$553,MATCH(Databackup!A418,Employee_Name,0))))","v":""},{"$f":"IF(ISERROR(INDEX('Employee Data'!$I$4:$I$553,MATCH(Databackup!A418,Employee_Name,0),0)),\"\",(INDEX('Employee Data'!$I$4:$I$553,MATCH(Databackup!A418,Employee_Name,0))))","v":""},{"$f":"IF(ISERROR(INDEX('Employee Data'!$J$4:$J$553,MATCH(Databackup!A418,Employee_Name,0),0)),\"\",(INDEX('Employee Data'!J$4:$J$553,MATCH(Databackup!A418,Employee_Name,0))))","v":""},{"$f":"IF(ISERROR(INDEX('Employee Data'!$K$4:$K$553,MATCH(Databackup!A418,Employee_Name,0),0)),\"\",(INDEX('Employee Data'!$K$4:$K$553,MATCH(Databackup!A418,Employee_Name,0))))","v":""},{"$f":"IF(ISERROR(INDEX('Employee Data'!$L$4:$L$553,MATCH(Databackup!A418,Employee_Name,0),0)),\"\",(INDEX('Employee Data'!$L$4:$L$553,MATCH(Databackup!A418,Employee_Name,0))))","v":""},{"$f":"IF(ISERROR(INDEX('Employee Data'!$M$4:$M$553,MATCH(Databackup!A418,Employee_Name,0),0)),\"\",(INDEX('Employee Data'!$M$4:$M$553,MATCH(Databackup!A418,Employee_Name,0))))","v":""},{"$f":"IF(ISERROR(INDEX('Employee Data'!$N$4:$N$553,MATCH(Databackup!A418,Employee_Name,0),0)),\"\",(INDEX('Employee Data'!$N$4:$N$553,MATCH(Databackup!A418,Employee_Name,0))))","v":""},{"$f":"IF(ISERROR(INDEX('Employee Data'!$O$4:$O$553,MATCH(Databackup!A418,Employee_Name,0),0)),\"\",(INDEX('Employee Data'!$O$4:$O$553,MATCH(Databackup!A418,Employee_Name,0))))","v":""}]
[{"$f":"INDEX(Employee_Name,MATCH(SMALL(IF($A$1='Employee Data'!$I$4:$I$553,'Employee Data'!$B$4:$B$553,\"\"),ROW('Employee Data'!A417)),IF($A$1='Employee Data'!$I$4:$I$553,'Employee Data'!$B$4:$B$553,\"\"),0))","v":{"$error":"#NUM!"}},{"$f":"IF(ISERROR(INDEX('Employee Data'!$B$4:$B$553,MATCH(Databackup!A419,Employee_Name,0),0)),\"\",(INDEX('Employee Data'!$B$4:$B$553,MATCH(Databackup!A419,Employee_Name,0))))","v":""},{"$f":"IF(ISERROR(INDEX('Employee Data'!$C$4:$C$553,MATCH(Databackup!A419,Employee_Name,0),0)),\"\",(INDEX('Employee Data'!$C$4:$C$553,MATCH(Databackup!A419,Employee_Name,0))))","v":""},{"$f":"IF(ISERROR(INDEX('Employee Data'!$D$4:$D$553,MATCH(Databackup!A419,Employee_Name,0),0)),\"\",(INDEX('Employee Data'!$D$4:$D$553,MATCH(Databackup!A419,Employee_Name,0))))","v":""},{"$f":"IF(ISERROR(INDEX('Employee Data'!$F$4:$F$553,MATCH(Databackup!A419,Employee_Name,0),0)),\"\",(INDEX('Employee Data'!$F$4:$F$553,MATCH(Databackup!A419,Employee_Name,0))))","v":""},{"$f":"IF(ISERROR(INDEX('Employee Data'!$G$4:$G$553,MATCH(Databackup!A419,Employee_Name,0),0)),\"\",(INDEX('Employee Data'!$G$4:$G$553,MATCH(Databackup!A419,Employee_Name,0))))","v":""},{"$f":"IF(ISERROR(INDEX('Employee Data'!$H$4:$H$553,MATCH(Databackup!A419,Employee_Name,0),0)),\"\",(INDEX('Employee Data'!$H$4:$H$553,MATCH(Databackup!A419,Employee_Name,0))))","v":""},{"$f":"IF(ISERROR(INDEX('Employee Data'!$I$4:$I$553,MATCH(Databackup!A419,Employee_Name,0),0)),\"\",(INDEX('Employee Data'!$I$4:$I$553,MATCH(Databackup!A419,Employee_Name,0))))","v":""},{"$f":"IF(ISERROR(INDEX('Employee Data'!$J$4:$J$553,MATCH(Databackup!A419,Employee_Name,0),0)),\"\",(INDEX('Employee Data'!J$4:$J$553,MATCH(Databackup!A419,Employee_Name,0))))","v":""},{"$f":"IF(ISERROR(INDEX('Employee Data'!$K$4:$K$553,MATCH(Databackup!A419,Employee_Name,0),0)),\"\",(INDEX('Employee Data'!$K$4:$K$553,MATCH(Databackup!A419,Employee_Name,0))))","v":""},{"$f":"IF(ISERROR(INDEX('Employee Data'!$L$4:$L$553,MATCH(Databackup!A419,Employee_Name,0),0)),\"\",(INDEX('Employee Data'!$L$4:$L$553,MATCH(Databackup!A419,Employee_Name,0))))","v":""},{"$f":"IF(ISERROR(INDEX('Employee Data'!$M$4:$M$553,MATCH(Databackup!A419,Employee_Name,0),0)),\"\",(INDEX('Employee Data'!$M$4:$M$553,MATCH(Databackup!A419,Employee_Name,0))))","v":""},{"$f":"IF(ISERROR(INDEX('Employee Data'!$N$4:$N$553,MATCH(Databackup!A419,Employee_Name,0),0)),\"\",(INDEX('Employee Data'!$N$4:$N$553,MATCH(Databackup!A419,Employee_Name,0))))","v":""},{"$f":"IF(ISERROR(INDEX('Employee Data'!$O$4:$O$553,MATCH(Databackup!A419,Employee_Name,0),0)),\"\",(INDEX('Employee Data'!$O$4:$O$553,MATCH(Databackup!A419,Employee_Name,0))))","v":""}]
[{"$f":"INDEX(Employee_Name,MATCH(SMALL(IF($A$1='Employee Data'!$I$4:$I$553,'Employee Data'!$B$4:$B$553,\"\"),ROW('Employee Data'!A418)),IF($A$1='Employee Data'!$I$4:$I$553,'Employee Data'!$B$4:$B$553,\"\"),0))","v":{"$error":"#NUM!"}},{"$f":"IF(ISERROR(INDEX('Employee Data'!$B$4:$B$553,MATCH(Databackup!A420,Employee_Name,0),0)),\"\",(INDEX('Employee Data'!$B$4:$B$553,MATCH(Databackup!A420,Employee_Name,0))))","v":""},{"$f":"IF(ISERROR(INDEX('Employee Data'!$C$4:$C$553,MATCH(Databackup!A420,Employee_Name,0),0)),\"\",(INDEX('Employee Data'!$C$4:$C$553,MATCH(Databackup!A420,Employee_Name,0))))","v":""},{"$f":"IF(ISERROR(INDEX('Employee Data'!$D$4:$D$553,MATCH(Databackup!A420,Employee_Name,0),0)),\"\",(INDEX('Employee Data'!$D$4:$D$553,MATCH(Databackup!A420,Employee_Name,0))))","v":""},{"$f":"IF(ISERROR(INDEX('Employee Data'!$F$4:$F$553,MATCH(Databackup!A420,Employee_Name,0),0)),\"\",(INDEX('Employee Data'!$F$4:$F$553,MATCH(Databackup!A420,Employee_Name,0))))","v":""},{"$f":"IF(ISERROR(INDEX('Employee Data'!$G$4:$G$553,MATCH(Databackup!A420,Employee_Name,0),0)),\"\",(INDEX('Employee Data'!$G$4:$G$553,MATCH(Databackup!A420,Employee_Name,0))))","v":""},{"$f":"IF(ISERROR(INDEX('Employee Data'!$H$4:$H$553,MATCH(Databackup!A420,Employee_Name,0),0)),\"\",(INDEX('Employee Data'!$H$4:$H$553,MATCH(Databackup!A420,Employee_Name,0))))","v":""},{"$f":"IF(ISERROR(INDEX('Employee Data'!$I$4:$I$553,MATCH(Databackup!A420,Employee_Name,0),0)),\"\",(INDEX('Employee Data'!$I$4:$I$553,MATCH(Databackup!A420,Employee_Name,0))))","v":""},{"$f":"IF(ISERROR(INDEX('Employee Data'!$J$4:$J$553,MATCH(Databackup!A420,Employee_Name,0),0)),\"\",(INDEX('Employee Data'!J$4:$J$553,MATCH(Databackup!A420,Employee_Name,0))))","v":""},{"$f":"IF(ISERROR(INDEX('Employee Data'!$K$4:$K$553,MATCH(Databackup!A420,Employee_Name,0),0)),\"\",(INDEX('Employee Data'!$K$4:$K$553,MATCH(Databackup!A420,Employee_Name,0))))","v":""},{"$f":"IF(ISERROR(INDEX('Employee Data'!$L$4:$L$553,MATCH(Databackup!A420,Employee_Name,0),0)),\"\",(INDEX('Employee Data'!$L$4:$L$553,MATCH(Databackup!A420,Employee_Name,0))))","v":""},{"$f":"IF(ISERROR(INDEX('Employee Data'!$M$4:$M$553,MATCH(Databackup!A420,Employee_Name,0),0)),\"\",(INDEX('Employee Data'!$M$4:$M$553,MATCH(Databackup!A420,Employee_Name,0))))","v":""},{"$f":"IF(ISERROR(INDEX('Employee Data'!$N$4:$N$553,MATCH(Databackup!A420,Employee_Name,0),0)),\"\",(INDEX('Employee Data'!$N$4:$N$553,MATCH(Databackup!A420,Employee_Name,0))))","v":""},{"$f":"IF(ISERROR(INDEX('Employee Data'!$O$4:$O$553,MATCH(Databackup!A420,Employee_Name,0),0)),\"\",(INDEX('Employee Data'!$O$4:$O$553,MATCH(Databackup!A420,Employee_Name,0))))","v":""}]
[{"$f":"INDEX(Employee_Name,MATCH(SMALL(IF($A$1='Employee Data'!$I$4:$I$553,'Employee Data'!$B$4:$B$553,\"\"),ROW('Employee Data'!A419)),IF($A$1='Employee Data'!$I$4:$I$553,'Employee Data'!$B$4:$B$553,\"\"),0))","v":{"$error":"#NUM!"}},{"$f":"IF(ISERROR(INDEX('Employee Data'!$B$4:$B$553,MATCH(Databackup!A421,Employee_Name,0),0)),\"\",(INDEX('Employee Data'!$B$4:$B$553,MATCH(Databackup!A421,Employee_Name,0))))","v":""},{"$f":"IF(ISERROR(INDEX('Employee Data'!$C$4:$C$553,MATCH(Databackup!A421,Employee_Name,0),0)),\"\",(INDEX('Employee Data'!$C$4:$C$553,MATCH(Databackup!A421,Employee_Name,0))))","v":""},{"$f":"IF(ISERROR(INDEX('Employee Data'!$D$4:$D$553,MATCH(Databackup!A421,Employee_Name,0),0)),\"\",(INDEX('Employee Data'!$D$4:$D$553,MATCH(Databackup!A421,Employee_Name,0))))","v":""},{"$f":"IF(ISERROR(INDEX('Employee Data'!$F$4:$F$553,MATCH(Databackup!A421,Employee_Name,0),0)),\"\",(INDEX('Employee Data'!$F$4:$F$553,MATCH(Databackup!A421,Employee_Name,0))))","v":""},{"$f":"IF(ISERROR(INDEX('Employee Data'!$G$4:$G$553,MATCH(Databackup!A421,Employee_Name,0),0)),\"\",(INDEX('Employee Data'!$G$4:$G$553,MATCH(Databackup!A421,Employee_Name,0))))","v":""},{"$f":"IF(ISERROR(INDEX('Employee Data'!$H$4:$H$553,MATCH(Databackup!A421,Employee_Name,0),0)),\"\",(INDEX('Employee Data'!$H$4:$H$553,MATCH(Databackup!A421,Employee_Name,0))))","v":""},{"$f":"IF(ISERROR(INDEX('Employee Data'!$I$4:$I$553,MATCH(Databackup!A421,Employee_Name,0),0)),\"\",(INDEX('Employee Data'!$I$4:$I$553,MATCH(Databackup!A421,Employee_Name,0))))","v":""},{"$f":"IF(ISERROR(INDEX('Employee Data'!$J$4:$J$553,MATCH(Databackup!A421,Employee_Name,0),0)),\"\",(INDEX('Employee Data'!J$4:$J$553,MATCH(Databackup!A421,Employee_Name,0))))","v":""},{"$f":"IF(ISERROR(INDEX('Employee Data'!$K$4:$K$553,MATCH(Databackup!A421,Employee_Name,0),0)),\"\",(INDEX('Employee Data'!$K$4:$K$553,MATCH(Databackup!A421,Employee_Name,0))))","v":""},{"$f":"IF(ISERROR(INDEX('Employee Data'!$L$4:$L$553,MATCH(Databackup!A421,Employee_Name,0),0)),\"\",(INDEX('Employee Data'!$L$4:$L$553,MATCH(Databackup!A421,Employee_Name,0))))","v":""},{"$f":"IF(ISERROR(INDEX('Employee Data'!$M$4:$M$553,MATCH(Databackup!A421,Employee_Name,0),0)),\"\",(INDEX('Employee Data'!$M$4:$M$553,MATCH(Databackup!A421,Employee_Name,0))))","v":""},{"$f":"IF(ISERROR(INDEX('Employee Data'!$N$4:$N$553,MATCH(Databackup!A421,Employee_Name,0),0)),\"\",(INDEX('Employee Data'!$N$4:$N$553,MATCH(Databackup!A421,Employee_Name,0))))","v":""},{"$f":"IF(ISERROR(INDEX('Employee Data'!$O$4:$O$553,MATCH(Databackup!A421,Employee_Name,0),0)),\"\",(INDEX('Employee Data'!$O$4:$O$553,MATCH(Databackup!A421,Employee_Name,0))))","v":""}]
[{"$f":"INDEX(Employee_Name,MATCH(SMALL(IF($A$1='Employee Data'!$I$4:$I$553,'Employee Data'!$B$4:$B$553,\"\"),ROW('Employee Data'!A420)),IF($A$1='Employee Data'!$I$4:$I$553,'Employee Data'!$B$4:$B$553,\"\"),0))","v":{"$error":"#NUM!"}},{"$f":"IF(ISERROR(INDEX('Employee Data'!$B$4:$B$553,MATCH(Databackup!A422,Employee_Name,0),0)),\"\",(INDEX('Employee Data'!$B$4:$B$553,MATCH(Databackup!A422,Employee_Name,0))))","v":""},{"$f":"IF(ISERROR(INDEX('Employee Data'!$C$4:$C$553,MATCH(Databackup!A422,Employee_Name,0),0)),\"\",(INDEX('Employee Data'!$C$4:$C$553,MATCH(Databackup!A422,Employee_Name,0))))","v":""},{"$f":"IF(ISERROR(INDEX('Employee Data'!$D$4:$D$553,MATCH(Databackup!A422,Employee_Name,0),0)),\"\",(INDEX('Employee Data'!$D$4:$D$553,MATCH(Databackup!A422,Employee_Name,0))))","v":""},{"$f":"IF(ISERROR(INDEX('Employee Data'!$F$4:$F$553,MATCH(Databackup!A422,Employee_Name,0),0)),\"\",(INDEX('Employee Data'!$F$4:$F$553,MATCH(Databackup!A422,Employee_Name,0))))","v":""},{"$f":"IF(ISERROR(INDEX('Employee Data'!$G$4:$G$553,MATCH(Databackup!A422,Employee_Name,0),0)),\"\",(INDEX('Employee Data'!$G$4:$G$553,MATCH(Databackup!A422,Employee_Name,0))))","v":""},{"$f":"IF(ISERROR(INDEX('Employee Data'!$H$4:$H$553,MATCH(Databackup!A422,Employee_Name,0),0)),\"\",(INDEX('Employee Data'!$H$4:$H$553,MATCH(Databackup!A422,Employee_Name,0))))","v":""},{"$f":"IF(ISERROR(INDEX('Employee Data'!$I$4:$I$553,MATCH(Databackup!A422,Employee_Name,0),0)),\"\",(INDEX('Employee Data'!$I$4:$I$553,MATCH(Databackup!A422,Employee_Name,0))))","v":""},{"$f":"IF(ISERROR(INDEX('Employee Data'!$J$4:$J$553,MATCH(Databackup!A422,Employee_Name,0),0)),\"\",(INDEX('Employee Data'!J$4:$J$553,MATCH(Databackup!A422,Employee_Name,0))))","v":""},{"$f":"IF(ISERROR(INDEX('Employee Data'!$K$4:$K$553,MATCH(Databackup!A422,Employee_Name,0),0)),\"\",(INDEX('Employee Data'!$K$4:$K$553,MATCH(Databackup!A422,Employee_Name,0))))","v":""},{"$f":"IF(ISERROR(INDEX('Employee Data'!$L$4:$L$553,MATCH(Databackup!A422,Employee_Name,0),0)),\"\",(INDEX('Employee Data'!$L$4:$L$553,MATCH(Databackup!A422,Employee_Name,0))))","v":""},{"$f":"IF(ISERROR(INDEX('Employee Data'!$M$4:$M$553,MATCH(Databackup!A422,Employee_Name,0),0)),\"\",(INDEX('Employee Data'!$M$4:$M$553,MATCH(Databackup!A422,Employee_Name,0))))","v":""},{"$f":"IF(ISERROR(INDEX('Employee Data'!$N$4:$N$553,MATCH(Databackup!A422,Employee_Name,0),0)),\"\",(INDEX('Employee Data'!$N$4:$N$553,MATCH(Databackup!A422,Employee_Name,0))))","v":""},{"$f":"IF(ISERROR(INDEX('Employee Data'!$O$4:$O$553,MATCH(Databackup!A422,Employee_Name,0),0)),\"\",(INDEX('Employee Data'!$O$4:$O$553,MATCH(Databackup!A422,Employee_Name,0))))","v":""}]
[{"$f":"INDEX(Employee_Name,MATCH(SMALL(IF($A$1='Employee Data'!$I$4:$I$553,'Employee Data'!$B$4:$B$553,\"\"),ROW('Employee Data'!A421)),IF($A$1='Employee Data'!$I$4:$I$553,'Employee Data'!$B$4:$B$553,\"\"),0))","v":{"$error":"#NUM!"}},{"$f":"IF(ISERROR(INDEX('Employee Data'!$B$4:$B$553,MATCH(Databackup!A423,Employee_Name,0),0)),\"\",(INDEX('Employee Data'!$B$4:$B$553,MATCH(Databackup!A423,Employee_Name,0))))","v":""},{"$f":"IF(ISERROR(INDEX('Employee Data'!$C$4:$C$553,MATCH(Databackup!A423,Employee_Name,0),0)),\"\",(INDEX('Employee Data'!$C$4:$C$553,MATCH(Databackup!A423,Employee_Name,0))))","v":""},{"$f":"IF(ISERROR(INDEX('Employee Data'!$D$4:$D$553,MATCH(Databackup!A423,Employee_Name,0),0)),\"\",(INDEX('Employee Data'!$D$4:$D$553,MATCH(Databackup!A423,Employee_Name,0))))","v":""},{"$f":"IF(ISERROR(INDEX('Employee Data'!$F$4:$F$553,MATCH(Databackup!A423,Employee_Name,0),0)),\"\",(INDEX('Employee Data'!$F$4:$F$553,MATCH(Databackup!A423,Employee_Name,0))))","v":""},{"$f":"IF(ISERROR(INDEX('Employee Data'!$G$4:$G$553,MATCH(Databackup!A423,Employee_Name,0),0)),\"\",(INDEX('Employee Data'!$G$4:$G$553,MATCH(Databackup!A423,Employee_Name,0))))","v":""},{"$f":"IF(ISERROR(INDEX('Employee Data'!$H$4:$H$553,MATCH(Databackup!A423,Employee_Name,0),0)),\"\",(INDEX('Employee Data'!$H$4:$H$553,MATCH(Databackup!A423,Employee_Name,0))))","v":""},{"$f":"IF(ISERROR(INDEX('Employee Data'!$I$4:$I$553,MATCH(Databackup!A423,Employee_Name,0),0)),\"\",(INDEX('Employee Data'!$I$4:$I$553,MATCH(Databackup!A423,Employee_Name,0))))","v":""},{"$f":"IF(ISERROR(INDEX('Employee Data'!$J$4:$J$553,MATCH(Databackup!A423,Employee_Name,0),0)),\"\",(INDEX('Employee Data'!J$4:$J$553,MATCH(Databackup!A423,Employee_Name,0))))","v":""},{"$f":"IF(ISERROR(INDEX('Employee Data'!$K$4:$K$553,MATCH(Databackup!A423,Employee_Name,0),0)),\"\",(INDEX('Employee Data'!$K$4:$K$553,MATCH(Databackup!A423,Employee_Name,0))))","v":""},{"$f":"IF(ISERROR(INDEX('Employee Data'!$L$4:$L$553,MATCH(Databackup!A423,Employee_Name,0),0)),\"\",(INDEX('Employee Data'!$L$4:$L$553,MATCH(Databackup!A423,Employee_Name,0))))","v":""},{"$f":"IF(ISERROR(INDEX('Employee Data'!$M$4:$M$553,MATCH(Databackup!A423,Employee_Name,0),0)),\"\",(INDEX('Employee Data'!$M$4:$M$553,MATCH(Databackup!A423,Employee_Name,0))))","v":""},{"$f":"IF(ISERROR(INDEX('Employee Data'!$N$4:$N$553,MATCH(Databackup!A423,Employee_Name,0),0)),\"\",(INDEX('Employee Data'!$N$4:$N$553,MATCH(Databackup!A423,Employee_Name,0))))","v":""},{"$f":"IF(ISERROR(INDEX('Employee Data'!$O$4:$O$553,MATCH(Databackup!A423,Employee_Name,0),0)),\"\",(INDEX('Employee Data'!$O$4:$O$553,MATCH(Databackup!A423,Employee_Name,0))))","v":""}]
[{"$f":"INDEX(Employee_Name,MATCH(SMALL(IF($A$1='Employee Data'!$I$4:$I$553,'Employee Data'!$B$4:$B$553,\"\"),ROW('Employee Data'!A422)),IF($A$1='Employee Data'!$I$4:$I$553,'Employee Data'!$B$4:$B$553,\"\"),0))","v":{"$error":"#NUM!"}},{"$f":"IF(ISERROR(INDEX('Employee Data'!$B$4:$B$553,MATCH(Databackup!A424,Employee_Name,0),0)),\"\",(INDEX('Employee Data'!$B$4:$B$553,MATCH(Databackup!A424,Employee_Name,0))))","v":""},{"$f":"IF(ISERROR(INDEX('Employee Data'!$C$4:$C$553,MATCH(Databackup!A424,Employee_Name,0),0)),\"\",(INDEX('Employee Data'!$C$4:$C$553,MATCH(Databackup!A424,Employee_Name,0))))","v":""},{"$f":"IF(ISERROR(INDEX('Employee Data'!$D$4:$D$553,MATCH(Databackup!A424,Employee_Name,0),0)),\"\",(INDEX('Employee Data'!$D$4:$D$553,MATCH(Databackup!A424,Employee_Name,0))))","v":""},{"$f":"IF(ISERROR(INDEX('Employee Data'!$F$4:$F$553,MATCH(Databackup!A424,Employee_Name,0),0)),\"\",(INDEX('Employee Data'!$F$4:$F$553,MATCH(Databackup!A424,Employee_Name,0))))","v":""},{"$f":"IF(ISERROR(INDEX('Employee Data'!$G$4:$G$553,MATCH(Databackup!A424,Employee_Name,0),0)),\"\",(INDEX('Employee Data'!$G$4:$G$553,MATCH(Databackup!A424,Employee_Name,0))))","v":""},{"$f":"IF(ISERROR(INDEX('Employee Data'!$H$4:$H$553,MATCH(Databackup!A424,Employee_Name,0),0)),\"\",(INDEX('Employee Data'!$H$4:$H$553,MATCH(Databackup!A424,Employee_Name,0))))","v":""},{"$f":"IF(ISERROR(INDEX('Employee Data'!$I$4:$I$553,MATCH(Databackup!A424,Employee_Name,0),0)),\"\",(INDEX('Employee Data'!$I$4:$I$553,MATCH(Databackup!A424,Employee_Name,0))))","v":""},{"$f":"IF(ISERROR(INDEX('Employee Data'!$J$4:$J$553,MATCH(Databackup!A424,Employee_Name,0),0)),\"\",(INDEX('Employee Data'!J$4:$J$553,MATCH(Databackup!A424,Employee_Name,0))))","v":""},{"$f":"IF(ISERROR(INDEX('Employee Data'!$K$4:$K$553,MATCH(Databackup!A424,Employee_Name,0),0)),\"\",(INDEX('Employee Data'!$K$4:$K$553,MATCH(Databackup!A424,Employee_Name,0))))","v":""},{"$f":"IF(ISERROR(INDEX('Employee Data'!$L$4:$L$553,MATCH(Databackup!A424,Employee_Name,0),0)),\"\",(INDEX('Employee Data'!$L$4:$L$553,MATCH(Databackup!A424,Employee_Name,0))))","v":""},{"$f":"IF(ISERROR(INDEX('Employee Data'!$M$4:$M$553,MATCH(Databackup!A424,Employee_Name,0),0)),\"\",(INDEX('Employee Data'!$M$4:$M$553,MATCH(Databackup!A424,Employee_Name,0))))","v":""},{"$f":"IF(ISERROR(INDEX('Employee Data'!$N$4:$N$553,MATCH(Databackup!A424,Employee_Name,0),0)),\"\",(INDEX('Employee Data'!$N$4:$N$553,MATCH(Databackup!A424,Employee_Name,0))))","v":""},{"$f":"IF(ISERROR(INDEX('Employee Data'!$O$4:$O$553,MATCH(Databackup!A424,Employee_Name,0),0)),\"\",(INDEX('Employee Data'!$O$4:$O$553,MATCH(Databackup!A424,Employee_Name,0))))","v":""}]
[{"$f":"INDEX(Employee_Name,MATCH(SMALL(IF($A$1='Employee Data'!$I$4:$I$553,'Employee Data'!$B$4:$B$553,\"\"),ROW('Employee Data'!A423)),IF($A$1='Employee Data'!$I$4:$I$553,'Employee Data'!$B$4:$B$553,\"\"),0))","v":{"$error":"#NUM!"}},{"$f":"IF(ISERROR(INDEX('Employee Data'!$B$4:$B$553,MATCH(Databackup!A425,Employee_Name,0),0)),\"\",(INDEX('Employee Data'!$B$4:$B$553,MATCH(Databackup!A425,Employee_Name,0))))","v":""},{"$f":"IF(ISERROR(INDEX('Employee Data'!$C$4:$C$553,MATCH(Databackup!A425,Employee_Name,0),0)),\"\",(INDEX('Employee Data'!$C$4:$C$553,MATCH(Databackup!A425,Employee_Name,0))))","v":""},{"$f":"IF(ISERROR(INDEX('Employee Data'!$D$4:$D$553,MATCH(Databackup!A425,Employee_Name,0),0)),\"\",(INDEX('Employee Data'!$D$4:$D$553,MATCH(Databackup!A425,Employee_Name,0))))","v":""},{"$f":"IF(ISERROR(INDEX('Employee Data'!$F$4:$F$553,MATCH(Databackup!A425,Employee_Name,0),0)),\"\",(INDEX('Employee Data'!$F$4:$F$553,MATCH(Databackup!A425,Employee_Name,0))))","v":""},{"$f":"IF(ISERROR(INDEX('Employee Data'!$G$4:$G$553,MATCH(Databackup!A425,Employee_Name,0),0)),\"\",(INDEX('Employee Data'!$G$4:$G$553,MATCH(Databackup!A425,Employee_Name,0))))","v":""},{"$f":"IF(ISERROR(INDEX('Employee Data'!$H$4:$H$553,MATCH(Databackup!A425,Employee_Name,0),0)),\"\",(INDEX('Employee Data'!$H$4:$H$553,MATCH(Databackup!A425,Employee_Name,0))))","v":""},{"$f":"IF(ISERROR(INDEX('Employee Data'!$I$4:$I$553,MATCH(Databackup!A425,Employee_Name,0),0)),\"\",(INDEX('Employee Data'!$I$4:$I$553,MATCH(Databackup!A425,Employee_Name,0))))","v":""},{"$f":"IF(ISERROR(INDEX('Employee Data'!$J$4:$J$553,MATCH(Databackup!A425,Employee_Name,0),0)),\"\",(INDEX('Employee Data'!J$4:$J$553,MATCH(Databackup!A425,Employee_Name,0))))","v":""},{"$f":"IF(ISERROR(INDEX('Employee Data'!$K$4:$K$553,MATCH(Databackup!A425,Employee_Name,0),0)),\"\",(INDEX('Employee Data'!$K$4:$K$553,MATCH(Databackup!A425,Employee_Name,0))))","v":""},{"$f":"IF(ISERROR(INDEX('Employee Data'!$L$4:$L$553,MATCH(Databackup!A425,Employee_Name,0),0)),\"\",(INDEX('Employee Data'!$L$4:$L$553,MATCH(Databackup!A425,Employee_Name,0))))","v":""},{"$f":"IF(ISERROR(INDEX('Employee Data'!$M$4:$M$553,MATCH(Databackup!A425,Employee_Name,0),0)),\"\",(INDEX('Employee Data'!$M$4:$M$553,MATCH(Databackup!A425,Employee_Name,0))))","v":""},{"$f":"IF(ISERROR(INDEX('Employee Data'!$N$4:$N$553,MATCH(Databackup!A425,Employee_Name,0),0)),\"\",(INDEX('Employee Data'!$N$4:$N$553,MATCH(Databackup!A425,Employee_Name,0))))","v":""},{"$f":"IF(ISERROR(INDEX('Employee Data'!$O$4:$O$553,MATCH(Databackup!A425,Employee_Name,0),0)),\"\",(INDEX('Employee Data'!$O$4:$O$553,MATCH(Databackup!A425,Employee_Name,0))))","v":""}]
[{"$f":"INDEX(Employee_Name,MATCH(SMALL(IF($A$1='Employee Data'!$I$4:$I$553,'Employee Data'!$B$4:$B$553,\"\"),ROW('Employee Data'!A424)),IF($A$1='Employee Data'!$I$4:$I$553,'Employee Data'!$B$4:$B$553,\"\"),0))","v":{"$error":"#NUM!"}},{"$f":"IF(ISERROR(INDEX('Employee Data'!$B$4:$B$553,MATCH(Databackup!A426,Employee_Name,0),0)),\"\",(INDEX('Employee Data'!$B$4:$B$553,MATCH(Databackup!A426,Employee_Name,0))))","v":""},{"$f":"IF(ISERROR(INDEX('Employee Data'!$C$4:$C$553,MATCH(Databackup!A426,Employee_Name,0),0)),\"\",(INDEX('Employee Data'!$C$4:$C$553,MATCH(Databackup!A426,Employee_Name,0))))","v":""},{"$f":"IF(ISERROR(INDEX('Employee Data'!$D$4:$D$553,MATCH(Databackup!A426,Employee_Name,0),0)),\"\",(INDEX('Employee Data'!$D$4:$D$553,MATCH(Databackup!A426,Employee_Name,0))))","v":""},{"$f":"IF(ISERROR(INDEX('Employee Data'!$F$4:$F$553,MATCH(Databackup!A426,Employee_Name,0),0)),\"\",(INDEX('Employee Data'!$F$4:$F$553,MATCH(Databackup!A426,Employee_Name,0))))","v":""},{"$f":"IF(ISERROR(INDEX('Employee Data'!$G$4:$G$553,MATCH(Databackup!A426,Employee_Name,0),0)),\"\",(INDEX('Employee Data'!$G$4:$G$553,MATCH(Databackup!A426,Employee_Name,0))))","v":""},{"$f":"IF(ISERROR(INDEX('Employee Data'!$H$4:$H$553,MATCH(Databackup!A426,Employee_Name,0),0)),\"\",(INDEX('Employee Data'!$H$4:$H$553,MATCH(Databackup!A426,Employee_Name,0))))","v":""},{"$f":"IF(ISERROR(INDEX('Employee Data'!$I$4:$I$553,MATCH(Databackup!A426,Employee_Name,0),0)),\"\",(INDEX('Employee Data'!$I$4:$I$553,MATCH(Databackup!A426,Employee_Name,0))))","v":""},{"$f":"IF(ISERROR(INDEX('Employee Data'!$J$4:$J$553,MATCH(Databackup!A426,Employee_Name,0),0)),\"\",(INDEX('Employee Data'!J$4:$J$553,MATCH(Databackup!A426,Employee_Name,0))))","v":""},{"$f":"IF(ISERROR(INDEX('Employee Data'!$K$4:$K$553,MATCH(Databackup!A426,Employee_Name,0),0)),\"\",(INDEX('Employee Data'!$K$4:$K$553,MATCH(Databackup!A426,Employee_Name,0))))","v":""},{"$f":"IF(ISERROR(INDEX('Employee Data'!$L$4:$L$553,MATCH(Databackup!A426,Employee_Name,0),0)),\"\",(INDEX('Employee Data'!$L$4:$L$553,MATCH(Databackup!A426,Employee_Name,0))))","v":""},{"$f":"IF(ISERROR(INDEX('Employee Data'!$M$4:$M$553,MATCH(Databackup!A426,Employee_Name,0),0)),\"\",(INDEX('Employee Data'!$M$4:$M$553,MATCH(Databackup!A426,Employee_Name,0))))","v":""},{"$f":"IF(ISERROR(INDEX('Employee Data'!$N$4:$N$553,MATCH(Databackup!A426,Employee_Name,0),0)),\"\",(INDEX('Employee Data'!$N$4:$N$553,MATCH(Databackup!A426,Employee_Name,0))))","v":""},{"$f":"IF(ISERROR(INDEX('Employee Data'!$O$4:$O$553,MATCH(Databackup!A426,Employee_Name,0),0)),\"\",(INDEX('Employee Data'!$O$4:$O$553,MATCH(Databackup!A426,Employee_Name,0))))","v":""}]
[{"$f":"INDEX(Employee_Name,MATCH(SMALL(IF($A$1='Employee Data'!$I$4:$I$553,'Employee Data'!$B$4:$B$553,\"\"),ROW('Employee Data'!A425)),IF($A$1='Employee Data'!$I$4:$I$553,'Employee Data'!$B$4:$B$553,\"\"),0))","v":{"$error":"#NUM!"}},{"$f":"IF(ISERROR(INDEX('Employee Data'!$B$4:$B$553,MATCH(Databackup!A427,Employee_Name,0),0)),\"\",(INDEX('Employee Data'!$B$4:$B$553,MATCH(Databackup!A427,Employee_Name,0))))","v":""},{"$f":"IF(ISERROR(INDEX('Employee Data'!$C$4:$C$553,MATCH(Databackup!A427,Employee_Name,0),0)),\"\",(INDEX('Employee Data'!$C$4:$C$553,MATCH(Databackup!A427,Employee_Name,0))))","v":""},{"$f":"IF(ISERROR(INDEX('Employee Data'!$D$4:$D$553,MATCH(Databackup!A427,Employee_Name,0),0)),\"\",(INDEX('Employee Data'!$D$4:$D$553,MATCH(Databackup!A427,Employee_Name,0))))","v":""},{"$f":"IF(ISERROR(INDEX('Employee Data'!$F$4:$F$553,MATCH(Databackup!A427,Employee_Name,0),0)),\"\",(INDEX('Employee Data'!$F$4:$F$553,MATCH(Databackup!A427,Employee_Name,0))))","v":""},{"$f":"IF(ISERROR(INDEX('Employee Data'!$G$4:$G$553,MATCH(Databackup!A427,Employee_Name,0),0)),\"\",(INDEX('Employee Data'!$G$4:$G$553,MATCH(Databackup!A427,Employee_Name,0))))","v":""},{"$f":"IF(ISERROR(INDEX('Employee Data'!$H$4:$H$553,MATCH(Databackup!A427,Employee_Name,0),0)),\"\",(INDEX('Employee Data'!$H$4:$H$553,MATCH(Databackup!A427,Employee_Name,0))))","v":""},{"$f":"IF(ISERROR(INDEX('Employee Data'!$I$4:$I$553,MATCH(Databackup!A427,Employee_Name,0),0)),\"\",(INDEX('Employee Data'!$I$4:$I$553,MATCH(Databackup!A427,Employee_Name,0))))","v":""},{"$f":"IF(ISERROR(INDEX('Employee Data'!$J$4:$J$553,MATCH(Databackup!A427,Employee_Name,0),0)),\"\",(INDEX('Employee Data'!J$4:$J$553,MATCH(Databackup!A427,Employee_Name,0))))","v":""},{"$f":"IF(ISERROR(INDEX('Employee Data'!$K$4:$K$553,MATCH(Databackup!A427,Employee_Name,0),0)),\"\",(INDEX('Employee Data'!$K$4:$K$553,MATCH(Databackup!A427,Employee_Name,0))))","v":""},{"$f":"IF(ISERROR(INDEX('Employee Data'!$L$4:$L$553,MATCH(Databackup!A427,Employee_Name,0),0)),\"\",(INDEX('Employee Data'!$L$4:$L$553,MATCH(Databackup!A427,Employee_Name,0))))","v":""},{"$f":"IF(ISERROR(INDEX('Employee Data'!$M$4:$M$553,MATCH(Databackup!A427,Employee_Name,0),0)),\"\",(INDEX('Employee Data'!$M$4:$M$553,MATCH(Databackup!A427,Employee_Name,0))))","v":""},{"$f":"IF(ISERROR(INDEX('Employee Data'!$N$4:$N$553,MATCH(Databackup!A427,Employee_Name,0),0)),\"\",(INDEX('Employee Data'!$N$4:$N$553,MATCH(Databackup!A427,Employee_Name,0))))","v":""},{"$f":"IF(ISERROR(INDEX('Employee Data'!$O$4:$O$553,MATCH(Databackup!A427,Employee_Name,0),0)),\"\",(INDEX('Employee Data'!$O$4:$O$553,MATCH(Databackup!A427,Employee_Name,0))))","v":""}]
[{"$f":"INDEX(Employee_Name,MATCH(SMALL(IF($A$1='Employee Data'!$I$4:$I$553,'Employee Data'!$B$4:$B$553,\"\"),ROW('Employee Data'!A426)),IF($A$1='Employee Data'!$I$4:$I$553,'Employee Data'!$B$4:$B$553,\"\"),0))","v":{"$error":"#NUM!"}},{"$f":"IF(ISERROR(INDEX('Employee Data'!$B$4:$B$553,MATCH(Databackup!A428,Employee_Name,0),0)),\"\",(INDEX('Employee Data'!$B$4:$B$553,MATCH(Databackup!A428,Employee_Name,0))))","v":""},{"$f":"IF(ISERROR(INDEX('Employee Data'!$C$4:$C$553,MATCH(Databackup!A428,Employee_Name,0),0)),\"\",(INDEX('Employee Data'!$C$4:$C$553,MATCH(Databackup!A428,Employee_Name,0))))","v":""},{"$f":"IF(ISERROR(INDEX('Employee Data'!$D$4:$D$553,MATCH(Databackup!A428,Employee_Name,0),0)),\"\",(INDEX('Employee Data'!$D$4:$D$553,MATCH(Databackup!A428,Employee_Name,0))))","v":""},{"$f":"IF(ISERROR(INDEX('Employee Data'!$F$4:$F$553,MATCH(Databackup!A428,Employee_Name,0),0)),\"\",(INDEX('Employee Data'!$F$4:$F$553,MATCH(Databackup!A428,Employee_Name,0))))","v":""},{"$f":"IF(ISERROR(INDEX('Employee Data'!$G$4:$G$553,MATCH(Databackup!A428,Employee_Name,0),0)),\"\",(INDEX('Employee Data'!$G$4:$G$553,MATCH(Databackup!A428,Employee_Name,0))))","v":""},{"$f":"IF(ISERROR(INDEX('Employee Data'!$H$4:$H$553,MATCH(Databackup!A428,Employee_Name,0),0)),\"\",(INDEX('Employee Data'!$H$4:$H$553,MATCH(Databackup!A428,Employee_Name,0))))","v":""},{"$f":"IF(ISERROR(INDEX('Employee Data'!$I$4:$I$553,MATCH(Databackup!A428,Employee_Name,0),0)),\"\",(INDEX('Employee Data'!$I$4:$I$553,MATCH(Databackup!A428,Employee_Name,0))))","v":""},{"$f":"IF(ISERROR(INDEX('Employee Data'!$J$4:$J$553,MATCH(Databackup!A428,Employee_Name,0),0)),\"\",(INDEX('Employee Data'!J$4:$J$553,MATCH(Databackup!A428,Employee_Name,0))))","v":""},{"$f":"IF(ISERROR(INDEX('Employee Data'!$K$4:$K$553,MATCH(Databackup!A428,Employee_Name,0),0)),\"\",(INDEX('Employee Data'!$K$4:$K$553,MATCH(Databackup!A428,Employee_Name,0))))","v":""},{"$f":"IF(ISERROR(INDEX('Employee Data'!$L$4:$L$553,MATCH(Databackup!A428,Employee_Name,0),0)),\"\",(INDEX('Employee Data'!$L$4:$L$553,MATCH(Databackup!A428,Employee_Name,0))))","v":""},{"$f":"IF(ISERROR(INDEX('Employee Data'!$M$4:$M$553,MATCH(Databackup!A428,Employee_Name,0),0)),\"\",(INDEX('Employee Data'!$M$4:$M$553,MATCH(Databackup!A428,Employee_Name,0))))","v":""},{"$f":"IF(ISERROR(INDEX('Employee Data'!$N$4:$N$553,MATCH(Databackup!A428,Employee_Name,0),0)),\"\",(INDEX('Employee Data'!$N$4:$N$553,MATCH(Databackup!A428,Employee_Name,0))))","v":""},{"$f":"IF(ISERROR(INDEX('Employee Data'!$O$4:$O$553,MATCH(Databackup!A428,Employee_Name,0),0)),\"\",(INDEX('Employee Data'!$O$4:$O$553,MATCH(Databackup!A428,Employee_Name,0))))","v":""}]
[{"$f":"INDEX(Employee_Name,MATCH(SMALL(IF($A$1='Employee Data'!$I$4:$I$553,'Employee Data'!$B$4:$B$553,\"\"),ROW('Employee Data'!A427)),IF($A$1='Employee Data'!$I$4:$I$553,'Employee Data'!$B$4:$B$553,\"\"),0))","v":{"$error":"#NUM!"}},{"$f":"IF(ISERROR(INDEX('Employee Data'!$B$4:$B$553,MATCH(Databackup!A429,Employee_Name,0),0)),\"\",(INDEX('Employee Data'!$B$4:$B$553,MATCH(Databackup!A429,Employee_Name,0))))","v":""},{"$f":"IF(ISERROR(INDEX('Employee Data'!$C$4:$C$553,MATCH(Databackup!A429,Employee_Name,0),0)),\"\",(INDEX('Employee Data'!$C$4:$C$553,MATCH(Databackup!A429,Employee_Name,0))))","v":""},{"$f":"IF(ISERROR(INDEX('Employee Data'!$D$4:$D$553,MATCH(Databackup!A429,Employee_Name,0),0)),\"\",(INDEX('Employee Data'!$D$4:$D$553,MATCH(Databackup!A429,Employee_Name,0))))","v":""},{"$f":"IF(ISERROR(INDEX('Employee Data'!$F$4:$F$553,MATCH(Databackup!A429,Employee_Name,0),0)),\"\",(INDEX('Employee Data'!$F$4:$F$553,MATCH(Databackup!A429,Employee_Name,0))))","v":""},{"$f":"IF(ISERROR(INDEX('Employee Data'!$G$4:$G$553,MATCH(Databackup!A429,Employee_Name,0),0)),\"\",(INDEX('Employee Data'!$G$4:$G$553,MATCH(Databackup!A429,Employee_Name,0))))","v":""},{"$f":"IF(ISERROR(INDEX('Employee Data'!$H$4:$H$553,MATCH(Databackup!A429,Employee_Name,0),0)),\"\",(INDEX('Employee Data'!$H$4:$H$553,MATCH(Databackup!A429,Employee_Name,0))))","v":""},{"$f":"IF(ISERROR(INDEX('Employee Data'!$I$4:$I$553,MATCH(Databackup!A429,Employee_Name,0),0)),\"\",(INDEX('Employee Data'!$I$4:$I$553,MATCH(Databackup!A429,Employee_Name,0))))","v":""},{"$f":"IF(ISERROR(INDEX('Employee Data'!$J$4:$J$553,MATCH(Databackup!A429,Employee_Name,0),0)),\"\",(INDEX('Employee Data'!J$4:$J$553,MATCH(Databackup!A429,Employee_Name,0))))","v":""},{"$f":"IF(ISERROR(INDEX('Employee Data'!$K$4:$K$553,MATCH(Databackup!A429,Employee_Name,0),0)),\"\",(INDEX('Employee Data'!$K$4:$K$553,MATCH(Databackup!A429,Employee_Name,0))))","v":""},{"$f":"IF(ISERROR(INDEX('Employee Data'!$L$4:$L$553,MATCH(Databackup!A429,Employee_Name,0),0)),\"\",(INDEX('Employee Data'!$L$4:$L$553,MATCH(Databackup!A429,Employee_Name,0))))","v":""},{"$f":"IF(ISERROR(INDEX('Employee Data'!$M$4:$M$553,MATCH(Databackup!A429,Employee_Name,0),0)),\"\",(INDEX('Employee Data'!$M$4:$M$553,MATCH(Databackup!A429,Employee_Name,0))))","v":""},{"$f":"IF(ISERROR(INDEX('Employee Data'!$N$4:$N$553,MATCH(Databackup!A429,Employee_Name,0),0)),\"\",(INDEX('Employee Data'!$N$4:$N$553,MATCH(Databackup!A429,Employee_Name,0))))","v":""},{"$f":"IF(ISERROR(INDEX('Employee Data'!$O$4:$O$553,MATCH(Databackup!A429,Employee_Name,0),0)),\"\",(INDEX('Employee Data'!$O$4:$O$553,MATCH(Databackup!A429,Employee_Name,0))))","v":""}]
[{"$f":"INDEX(Employee_Name,MATCH(SMALL(IF($A$1='Employee Data'!$I$4:$I$553,'Employee Data'!$B$4:$B$553,\"\"),ROW('Employee Data'!A428)),IF($A$1='Employee Data'!$I$4:$I$553,'Employee Data'!$B$4:$B$553,\"\"),0))","v":{"$error":"#NUM!"}},{"$f":"IF(ISERROR(INDEX('Employee Data'!$B$4:$B$553,MATCH(Databackup!A430,Employee_Name,0),0)),\"\",(INDEX('Employee Data'!$B$4:$B$553,MATCH(Databackup!A430,Employee_Name,0))))","v":""},{"$f":"IF(ISERROR(INDEX('Employee Data'!$C$4:$C$553,MATCH(Databackup!A430,Employee_Name,0),0)),\"\",(INDEX('Employee Data'!$C$4:$C$553,MATCH(Databackup!A430,Employee_Name,0))))","v":""},{"$f":"IF(ISERROR(INDEX('Employee Data'!$D$4:$D$553,MATCH(Databackup!A430,Employee_Name,0),0)),\"\",(INDEX('Employee Data'!$D$4:$D$553,MATCH(Databackup!A430,Employee_Name,0))))","v":""},{"$f":"IF(ISERROR(INDEX('Employee Data'!$F$4:$F$553,MATCH(Databackup!A430,Employee_Name,0),0)),\"\",(INDEX('Employee Data'!$F$4:$F$553,MATCH(Databackup!A430,Employee_Name,0))))","v":""},{"$f":"IF(ISERROR(INDEX('Employee Data'!$G$4:$G$553,MATCH(Databackup!A430,Employee_Name,0),0)),\"\",(INDEX('Employee Data'!$G$4:$G$553,MATCH(Databackup!A430,Employee_Name,0))))","v":""},{"$f":"IF(ISERROR(INDEX('Employee Data'!$H$4:$H$553,MATCH(Databackup!A430,Employee_Name,0),0)),\"\",(INDEX('Employee Data'!$H$4:$H$553,MATCH(Databackup!A430,Employee_Name,0))))","v":""},{"$f":"IF(ISERROR(INDEX('Employee Data'!$I$4:$I$553,MATCH(Databackup!A430,Employee_Name,0),0)),\"\",(INDEX('Employee Data'!$I$4:$I$553,MATCH(Databackup!A430,Employee_Name,0))))","v":""},{"$f":"IF(ISERROR(INDEX('Employee Data'!$J$4:$J$553,MATCH(Databackup!A430,Employee_Name,0),0)),\"\",(INDEX('Employee Data'!J$4:$J$553,MATCH(Databackup!A430,Employee_Name,0))))","v":""},{"$f":"IF(ISERROR(INDEX('Employee Data'!$K$4:$K$553,MATCH(Databackup!A430,Employee_Name,0),0)),\"\",(INDEX('Employee Data'!$K$4:$K$553,MATCH(Databackup!A430,Employee_Name,0))))","v":""},{"$f":"IF(ISERROR(INDEX('Employee Data'!$L$4:$L$553,MATCH(Databackup!A430,Employee_Name,0),0)),\"\",(INDEX('Employee Data'!$L$4:$L$553,MATCH(Databackup!A430,Employee_Name,0))))","v":""},{"$f":"IF(ISERROR(INDEX('Employee Data'!$M$4:$M$553,MATCH(Databackup!A430,Employee_Name,0),0)),\"\",(INDEX('Employee Data'!$M$4:$M$553,MATCH(Databackup!A430,Employee_Name,0))))","v":""},{"$f":"IF(ISERROR(INDEX('Employee Data'!$N$4:$N$553,MATCH(Databackup!A430,Employee_Name,0),0)),\"\",(INDEX('Employee Data'!$N$4:$N$553,MATCH(Databackup!A430,Employee_Name,0))))","v":""},{"$f":"IF(ISERROR(INDEX('Employee Data'!$O$4:$O$553,MATCH(Databackup!A430,Employee_Name,0),0)),\"\",(INDEX('Employee Data'!$O$4:$O$553,MATCH(Databackup!A430,Employee_Name,0))))","v":""}]
[{"$f":"INDEX(Employee_Name,MATCH(SMALL(IF($A$1='Employee Data'!$I$4:$I$553,'Employee Data'!$B$4:$B$553,\"\"),ROW('Employee Data'!A429)),IF($A$1='Employee Data'!$I$4:$I$553,'Employee Data'!$B$4:$B$553,\"\"),0))","v":{"$error":"#NUM!"}},{"$f":"IF(ISERROR(INDEX('Employee Data'!$B$4:$B$553,MATCH(Databackup!A431,Employee_Name,0),0)),\"\",(INDEX('Employee Data'!$B$4:$B$553,MATCH(Databackup!A431,Employee_Name,0))))","v":""},{"$f":"IF(ISERROR(INDEX('Employee Data'!$C$4:$C$553,MATCH(Databackup!A431,Employee_Name,0),0)),\"\",(INDEX('Employee Data'!$C$4:$C$553,MATCH(Databackup!A431,Employee_Name,0))))","v":""},{"$f":"IF(ISERROR(INDEX('Employee Data'!$D$4:$D$553,MATCH(Databackup!A431,Employee_Name,0),0)),\"\",(INDEX('Employee Data'!$D$4:$D$553,MATCH(Databackup!A431,Employee_Name,0))))","v":""},{"$f":"IF(ISERROR(INDEX('Employee Data'!$F$4:$F$553,MATCH(Databackup!A431,Employee_Name,0),0)),\"\",(INDEX('Employee Data'!$F$4:$F$553,MATCH(Databackup!A431,Employee_Name,0))))","v":""},{"$f":"IF(ISERROR(INDEX('Employee Data'!$G$4:$G$553,MATCH(Databackup!A431,Employee_Name,0),0)),\"\",(INDEX('Employee Data'!$G$4:$G$553,MATCH(Databackup!A431,Employee_Name,0))))","v":""},{"$f":"IF(ISERROR(INDEX('Employee Data'!$H$4:$H$553,MATCH(Databackup!A431,Employee_Name,0),0)),\"\",(INDEX('Employee Data'!$H$4:$H$553,MATCH(Databackup!A431,Employee_Name,0))))","v":""},{"$f":"IF(ISERROR(INDEX('Employee Data'!$I$4:$I$553,MATCH(Databackup!A431,Employee_Name,0),0)),\"\",(INDEX('Employee Data'!$I$4:$I$553,MATCH(Databackup!A431,Employee_Name,0))))","v":""},{"$f":"IF(ISERROR(INDEX('Employee Data'!$J$4:$J$553,MATCH(Databackup!A431,Employee_Name,0),0)),\"\",(INDEX('Employee Data'!J$4:$J$553,MATCH(Databackup!A431,Employee_Name,0))))","v":""},{"$f":"IF(ISERROR(INDEX('Employee Data'!$K$4:$K$553,MATCH(Databackup!A431,Employee_Name,0),0)),\"\",(INDEX('Employee Data'!$K$4:$K$553,MATCH(Databackup!A431,Employee_Name,0))))","v":""},{"$f":"IF(ISERROR(INDEX('Employee Data'!$L$4:$L$553,MATCH(Databackup!A431,Employee_Name,0),0)),\"\",(INDEX('Employee Data'!$L$4:$L$553,MATCH(Databackup!A431,Employee_Name,0))))","v":""},{"$f":"IF(ISERROR(INDEX('Employee Data'!$M$4:$M$553,MATCH(Databackup!A431,Employee_Name,0),0)),\"\",(INDEX('Employee Data'!$M$4:$M$553,MATCH(Databackup!A431,Employee_Name,0))))","v":""},{"$f":"IF(ISERROR(INDEX('Employee Data'!$N$4:$N$553,MATCH(Databackup!A431,Employee_Name,0),0)),\"\",(INDEX('Employee Data'!$N$4:$N$553,MATCH(Databackup!A431,Employee_Name,0))))","v":""},{"$f":"IF(ISERROR(INDEX('Employee Data'!$O$4:$O$553,MATCH(Databackup!A431,Employee_Name,0),0)),\"\",(INDEX('Employee Data'!$O$4:$O$553,MATCH(Databackup!A431,Employee_Name,0))))","v":""}]
[{"$f":"INDEX(Employee_Name,MATCH(SMALL(IF($A$1='Employee Data'!$I$4:$I$553,'Employee Data'!$B$4:$B$553,\"\"),ROW('Employee Data'!A430)),IF($A$1='Employee Data'!$I$4:$I$553,'Employee Data'!$B$4:$B$553,\"\"),0))","v":{"$error":"#NUM!"}},{"$f":"IF(ISERROR(INDEX('Employee Data'!$B$4:$B$553,MATCH(Databackup!A432,Employee_Name,0),0)),\"\",(INDEX('Employee Data'!$B$4:$B$553,MATCH(Databackup!A432,Employee_Name,0))))","v":""},{"$f":"IF(ISERROR(INDEX('Employee Data'!$C$4:$C$553,MATCH(Databackup!A432,Employee_Name,0),0)),\"\",(INDEX('Employee Data'!$C$4:$C$553,MATCH(Databackup!A432,Employee_Name,0))))","v":""},{"$f":"IF(ISERROR(INDEX('Employee Data'!$D$4:$D$553,MATCH(Databackup!A432,Employee_Name,0),0)),\"\",(INDEX('Employee Data'!$D$4:$D$553,MATCH(Databackup!A432,Employee_Name,0))))","v":""},{"$f":"IF(ISERROR(INDEX('Employee Data'!$F$4:$F$553,MATCH(Databackup!A432,Employee_Name,0),0)),\"\",(INDEX('Employee Data'!$F$4:$F$553,MATCH(Databackup!A432,Employee_Name,0))))","v":""},{"$f":"IF(ISERROR(INDEX('Employee Data'!$G$4:$G$553,MATCH(Databackup!A432,Employee_Name,0),0)),\"\",(INDEX('Employee Data'!$G$4:$G$553,MATCH(Databackup!A432,Employee_Name,0))))","v":""},{"$f":"IF(ISERROR(INDEX('Employee Data'!$H$4:$H$553,MATCH(Databackup!A432,Employee_Name,0),0)),\"\",(INDEX('Employee Data'!$H$4:$H$553,MATCH(Databackup!A432,Employee_Name,0))))","v":""},{"$f":"IF(ISERROR(INDEX('Employee Data'!$I$4:$I$553,MATCH(Databackup!A432,Employee_Name,0),0)),\"\",(INDEX('Employee Data'!$I$4:$I$553,MATCH(Databackup!A432,Employee_Name,0))))","v":""},{"$f":"IF(ISERROR(INDEX('Employee Data'!$J$4:$J$553,MATCH(Databackup!A432,Employee_Name,0),0)),\"\",(INDEX('Employee Data'!J$4:$J$553,MATCH(Databackup!A432,Employee_Name,0))))","v":""},{"$f":"IF(ISERROR(INDEX('Employee Data'!$K$4:$K$553,MATCH(Databackup!A432,Employee_Name,0),0)),\"\",(INDEX('Employee Data'!$K$4:$K$553,MATCH(Databackup!A432,Employee_Name,0))))","v":""},{"$f":"IF(ISERROR(INDEX('Employee Data'!$L$4:$L$553,MATCH(Databackup!A432,Employee_Name,0),0)),\"\",(INDEX('Employee Data'!$L$4:$L$553,MATCH(Databackup!A432,Employee_Name,0))))","v":""},{"$f":"IF(ISERROR(INDEX('Employee Data'!$M$4:$M$553,MATCH(Databackup!A432,Employee_Name,0),0)),\"\",(INDEX('Employee Data'!$M$4:$M$553,MATCH(Databackup!A432,Employee_Name,0))))","v":""},{"$f":"IF(ISERROR(INDEX('Employee Data'!$N$4:$N$553,MATCH(Databackup!A432,Employee_Name,0),0)),\"\",(INDEX('Employee Data'!$N$4:$N$553,MATCH(Databackup!A432,Employee_Name,0))))","v":""},{"$f":"IF(ISERROR(INDEX('Employee Data'!$O$4:$O$553,MATCH(Databackup!A432,Employee_Name,0),0)),\"\",(INDEX('Employee Data'!$O$4:$O$553,MATCH(Databackup!A432,Employee_Name,0))))","v":""}]
[{"$f":"INDEX(Employee_Name,MATCH(SMALL(IF($A$1='Employee Data'!$I$4:$I$553,'Employee Data'!$B$4:$B$553,\"\"),ROW('Employee Data'!A431)),IF($A$1='Employee Data'!$I$4:$I$553,'Employee Data'!$B$4:$B$553,\"\"),0))","v":{"$error":"#NUM!"}},{"$f":"IF(ISERROR(INDEX('Employee Data'!$B$4:$B$553,MATCH(Databackup!A433,Employee_Name,0),0)),\"\",(INDEX('Employee Data'!$B$4:$B$553,MATCH(Databackup!A433,Employee_Name,0))))","v":""},{"$f":"IF(ISERROR(INDEX('Employee Data'!$C$4:$C$553,MATCH(Databackup!A433,Employee_Name,0),0)),\"\",(INDEX('Employee Data'!$C$4:$C$553,MATCH(Databackup!A433,Employee_Name,0))))","v":""},{"$f":"IF(ISERROR(INDEX('Employee Data'!$D$4:$D$553,MATCH(Databackup!A433,Employee_Name,0),0)),\"\",(INDEX('Employee Data'!$D$4:$D$553,MATCH(Databackup!A433,Employee_Name,0))))","v":""},{"$f":"IF(ISERROR(INDEX('Employee Data'!$F$4:$F$553,MATCH(Databackup!A433,Employee_Name,0),0)),\"\",(INDEX('Employee Data'!$F$4:$F$553,MATCH(Databackup!A433,Employee_Name,0))))","v":""},{"$f":"IF(ISERROR(INDEX('Employee Data'!$G$4:$G$553,MATCH(Databackup!A433,Employee_Name,0),0)),\"\",(INDEX('Employee Data'!$G$4:$G$553,MATCH(Databackup!A433,Employee_Name,0))))","v":""},{"$f":"IF(ISERROR(INDEX('Employee Data'!$H$4:$H$553,MATCH(Databackup!A433,Employee_Name,0),0)),\"\",(INDEX('Employee Data'!$H$4:$H$553,MATCH(Databackup!A433,Employee_Name,0))))","v":""},{"$f":"IF(ISERROR(INDEX('Employee Data'!$I$4:$I$553,MATCH(Databackup!A433,Employee_Name,0),0)),\"\",(INDEX('Employee Data'!$I$4:$I$553,MATCH(Databackup!A433,Employee_Name,0))))","v":""},{"$f":"IF(ISERROR(INDEX('Employee Data'!$J$4:$J$553,MATCH(Databackup!A433,Employee_Name,0),0)),\"\",(INDEX('Employee Data'!J$4:$J$553,MATCH(Databackup!A433,Employee_Name,0))))","v":""},{"$f":"IF(ISERROR(INDEX('Employee Data'!$K$4:$K$553,MATCH(Databackup!A433,Employee_Name,0),0)),\"\",(INDEX('Employee Data'!$K$4:$K$553,MATCH(Databackup!A433,Employee_Name,0))))","v":""},{"$f":"IF(ISERROR(INDEX('Employee Data'!$L$4:$L$553,MATCH(Databackup!A433,Employee_Name,0),0)),\"\",(INDEX('Employee Data'!$L$4:$L$553,MATCH(Databackup!A433,Employee_Name,0))))","v":""},{"$f":"IF(ISERROR(INDEX('Employee Data'!$M$4:$M$553,MATCH(Databackup!A433,Employee_Name,0),0)),\"\",(INDEX('Employee Data'!$M$4:$M$553,MATCH(Databackup!A433,Employee_Name,0))))","v":""},{"$f":"IF(ISERROR(INDEX('Employee Data'!$N$4:$N$553,MATCH(Databackup!A433,Employee_Name,0),0)),\"\",(INDEX('Employee Data'!$N$4:$N$553,MATCH(Databackup!A433,Employee_Name,0))))","v":""},{"$f":"IF(ISERROR(INDEX('Employee Data'!$O$4:$O$553,MATCH(Databackup!A433,Employee_Name,0),0)),\"\",(INDEX('Employee Data'!$O$4:$O$553,MATCH(Databackup!A433,Employee_Name,0))))","v":""}]
[{"$f":"INDEX(Employee_Name,MATCH(SMALL(IF($A$1='Employee Data'!$I$4:$I$553,'Employee Data'!$B$4:$B$553,\"\"),ROW('Employee Data'!A432)),IF($A$1='Employee Data'!$I$4:$I$553,'Employee Data'!$B$4:$B$553,\"\"),0))","v":{"$error":"#NUM!"}},{"$f":"IF(ISERROR(INDEX('Employee Data'!$B$4:$B$553,MATCH(Databackup!A434,Employee_Name,0),0)),\"\",(INDEX('Employee Data'!$B$4:$B$553,MATCH(Databackup!A434,Employee_Name,0))))","v":""},{"$f":"IF(ISERROR(INDEX('Employee Data'!$C$4:$C$553,MATCH(Databackup!A434,Employee_Name,0),0)),\"\",(INDEX('Employee Data'!$C$4:$C$553,MATCH(Databackup!A434,Employee_Name,0))))","v":""},{"$f":"IF(ISERROR(INDEX('Employee Data'!$D$4:$D$553,MATCH(Databackup!A434,Employee_Name,0),0)),\"\",(INDEX('Employee Data'!$D$4:$D$553,MATCH(Databackup!A434,Employee_Name,0))))","v":""},{"$f":"IF(ISERROR(INDEX('Employee Data'!$F$4:$F$553,MATCH(Databackup!A434,Employee_Name,0),0)),\"\",(INDEX('Employee Data'!$F$4:$F$553,MATCH(Databackup!A434,Employee_Name,0))))","v":""},{"$f":"IF(ISERROR(INDEX('Employee Data'!$G$4:$G$553,MATCH(Databackup!A434,Employee_Name,0),0)),\"\",(INDEX('Employee Data'!$G$4:$G$553,MATCH(Databackup!A434,Employee_Name,0))))","v":""},{"$f":"IF(ISERROR(INDEX('Employee Data'!$H$4:$H$553,MATCH(Databackup!A434,Employee_Name,0),0)),\"\",(INDEX('Employee Data'!$H$4:$H$553,MATCH(Databackup!A434,Employee_Name,0))))","v":""},{"$f":"IF(ISERROR(INDEX('Employee Data'!$I$4:$I$553,MATCH(Databackup!A434,Employee_Name,0),0)),\"\",(INDEX('Employee Data'!$I$4:$I$553,MATCH(Databackup!A434,Employee_Name,0))))","v":""},{"$f":"IF(ISERROR(INDEX('Employee Data'!$J$4:$J$553,MATCH(Databackup!A434,Employee_Name,0),0)),\"\",(INDEX('Employee Data'!J$4:$J$553,MATCH(Databackup!A434,Employee_Name,0))))","v":""},{"$f":"IF(ISERROR(INDEX('Employee Data'!$K$4:$K$553,MATCH(Databackup!A434,Employee_Name,0),0)),\"\",(INDEX('Employee Data'!$K$4:$K$553,MATCH(Databackup!A434,Employee_Name,0))))","v":""},{"$f":"IF(ISERROR(INDEX('Employee Data'!$L$4:$L$553,MATCH(Databackup!A434,Employee_Name,0),0)),\"\",(INDEX('Employee Data'!$L$4:$L$553,MATCH(Databackup!A434,Employee_Name,0))))","v":""},{"$f":"IF(ISERROR(INDEX('Employee Data'!$M$4:$M$553,MATCH(Databackup!A434,Employee_Name,0),0)),\"\",(INDEX('Employee Data'!$M$4:$M$553,MATCH(Databackup!A434,Employee_Name,0))))","v":""},{"$f":"IF(ISERROR(INDEX('Employee Data'!$N$4:$N$553,MATCH(Databackup!A434,Employee_Name,0),0)),\"\",(INDEX('Employee Data'!$N$4:$N$553,MATCH(Databackup!A434,Employee_Name,0))))","v":""},{"$f":"IF(ISERROR(INDEX('Employee Data'!$O$4:$O$553,MATCH(Databackup!A434,Employee_Name,0),0)),\"\",(INDEX('Employee Data'!$O$4:$O$553,MATCH(Databackup!A434,Employee_Name,0))))","v":""}]
[{"$f":"INDEX(Employee_Name,MATCH(SMALL(IF($A$1='Employee Data'!$I$4:$I$553,'Employee Data'!$B$4:$B$553,\"\"),ROW('Employee Data'!A433)),IF($A$1='Employee Data'!$I$4:$I$553,'Employee Data'!$B$4:$B$553,\"\"),0))","v":{"$error":"#NUM!"}},{"$f":"IF(ISERROR(INDEX('Employee Data'!$B$4:$B$553,MATCH(Databackup!A435,Employee_Name,0),0)),\"\",(INDEX('Employee Data'!$B$4:$B$553,MATCH(Databackup!A435,Employee_Name,0))))","v":""},{"$f":"IF(ISERROR(INDEX('Employee Data'!$C$4:$C$553,MATCH(Databackup!A435,Employee_Name,0),0)),\"\",(INDEX('Employee Data'!$C$4:$C$553,MATCH(Databackup!A435,Employee_Name,0))))","v":""},{"$f":"IF(ISERROR(INDEX('Employee Data'!$D$4:$D$553,MATCH(Databackup!A435,Employee_Name,0),0)),\"\",(INDEX('Employee Data'!$D$4:$D$553,MATCH(Databackup!A435,Employee_Name,0))))","v":""},{"$f":"IF(ISERROR(INDEX('Employee Data'!$F$4:$F$553,MATCH(Databackup!A435,Employee_Name,0),0)),\"\",(INDEX('Employee Data'!$F$4:$F$553,MATCH(Databackup!A435,Employee_Name,0))))","v":""},{"$f":"IF(ISERROR(INDEX('Employee Data'!$G$4:$G$553,MATCH(Databackup!A435,Employee_Name,0),0)),\"\",(INDEX('Employee Data'!$G$4:$G$553,MATCH(Databackup!A435,Employee_Name,0))))","v":""},{"$f":"IF(ISERROR(INDEX('Employee Data'!$H$4:$H$553,MATCH(Databackup!A435,Employee_Name,0),0)),\"\",(INDEX('Employee Data'!$H$4:$H$553,MATCH(Databackup!A435,Employee_Name,0))))","v":""},{"$f":"IF(ISERROR(INDEX('Employee Data'!$I$4:$I$553,MATCH(Databackup!A435,Employee_Name,0),0)),\"\",(INDEX('Employee Data'!$I$4:$I$553,MATCH(Databackup!A435,Employee_Name,0))))","v":""},{"$f":"IF(ISERROR(INDEX('Employee Data'!$J$4:$J$553,MATCH(Databackup!A435,Employee_Name,0),0)),\"\",(INDEX('Employee Data'!J$4:$J$553,MATCH(Databackup!A435,Employee_Name,0))))","v":""},{"$f":"IF(ISERROR(INDEX('Employee Data'!$K$4:$K$553,MATCH(Databackup!A435,Employee_Name,0),0)),\"\",(INDEX('Employee Data'!$K$4:$K$553,MATCH(Databackup!A435,Employee_Name,0))))","v":""},{"$f":"IF(ISERROR(INDEX('Employee Data'!$L$4:$L$553,MATCH(Databackup!A435,Employee_Name,0),0)),\"\",(INDEX('Employee Data'!$L$4:$L$553,MATCH(Databackup!A435,Employee_Name,0))))","v":""},{"$f":"IF(ISERROR(INDEX('Employee Data'!$M$4:$M$553,MATCH(Databackup!A435,Employee_Name,0),0)),\"\",(INDEX('Employee Data'!$M$4:$M$553,MATCH(Databackup!A435,Employee_Name,0))))","v":""},{"$f":"IF(ISERROR(INDEX('Employee Data'!$N$4:$N$553,MATCH(Databackup!A435,Employee_Name,0),0)),\"\",(INDEX('Employee Data'!$N$4:$N$553,MATCH(Databackup!A435,Employee_Name,0))))","v":""},{"$f":"IF(ISERROR(INDEX('Employee Data'!$O$4:$O$553,MATCH(Databackup!A435,Employee_Name,0),0)),\"\",(INDEX('Employee Data'!$O$4:$O$553,MATCH(Databackup!A435,Employee_Name,0))))","v":""}]
[{"$f":"INDEX(Employee_Name,MATCH(SMALL(IF($A$1='Employee Data'!$I$4:$I$553,'Employee Data'!$B$4:$B$553,\"\"),ROW('Employee Data'!A434)),IF($A$1='Employee Data'!$I$4:$I$553,'Employee Data'!$B$4:$B$553,\"\"),0))","v":{"$error":"#NUM!"}},{"$f":"IF(ISERROR(INDEX('Employee Data'!$B$4:$B$553,MATCH(Databackup!A436,Employee_Name,0),0)),\"\",(INDEX('Employee Data'!$B$4:$B$553,MATCH(Databackup!A436,Employee_Name,0))))","v":""},{"$f":"IF(ISERROR(INDEX('Employee Data'!$C$4:$C$553,MATCH(Databackup!A436,Employee_Name,0),0)),\"\",(INDEX('Employee Data'!$C$4:$C$553,MATCH(Databackup!A436,Employee_Name,0))))","v":""},{"$f":"IF(ISERROR(INDEX('Employee Data'!$D$4:$D$553,MATCH(Databackup!A436,Employee_Name,0),0)),\"\",(INDEX('Employee Data'!$D$4:$D$553,MATCH(Databackup!A436,Employee_Name,0))))","v":""},{"$f":"IF(ISERROR(INDEX('Employee Data'!$F$4:$F$553,MATCH(Databackup!A436,Employee_Name,0),0)),\"\",(INDEX('Employee Data'!$F$4:$F$553,MATCH(Databackup!A436,Employee_Name,0))))","v":""},{"$f":"IF(ISERROR(INDEX('Employee Data'!$G$4:$G$553,MATCH(Databackup!A436,Employee_Name,0),0)),\"\",(INDEX('Employee Data'!$G$4:$G$553,MATCH(Databackup!A436,Employee_Name,0))))","v":""},{"$f":"IF(ISERROR(INDEX('Employee Data'!$H$4:$H$553,MATCH(Databackup!A436,Employee_Name,0),0)),\"\",(INDEX('Employee Data'!$H$4:$H$553,MATCH(Databackup!A436,Employee_Name,0))))","v":""},{"$f":"IF(ISERROR(INDEX('Employee Data'!$I$4:$I$553,MATCH(Databackup!A436,Employee_Name,0),0)),\"\",(INDEX('Employee Data'!$I$4:$I$553,MATCH(Databackup!A436,Employee_Name,0))))","v":""},{"$f":"IF(ISERROR(INDEX('Employee Data'!$J$4:$J$553,MATCH(Databackup!A436,Employee_Name,0),0)),\"\",(INDEX('Employee Data'!J$4:$J$553,MATCH(Databackup!A436,Employee_Name,0))))","v":""},{"$f":"IF(ISERROR(INDEX('Employee Data'!$K$4:$K$553,MATCH(Databackup!A436,Employee_Name,0),0)),\"\",(INDEX('Employee Data'!$K$4:$K$553,MATCH(Databackup!A436,Employee_Name,0))))","v":""},{"$f":"IF(ISERROR(INDEX('Employee Data'!$L$4:$L$553,MATCH(Databackup!A436,Employee_Name,0),0)),\"\",(INDEX('Employee Data'!$L$4:$L$553,MATCH(Databackup!A436,Employee_Name,0))))","v":""},{"$f":"IF(ISERROR(INDEX('Employee Data'!$M$4:$M$553,MATCH(Databackup!A436,Employee_Name,0),0)),\"\",(INDEX('Employee Data'!$M$4:$M$553,MATCH(Databackup!A436,Employee_Name,0))))","v":""},{"$f":"IF(ISERROR(INDEX('Employee Data'!$N$4:$N$553,MATCH(Databackup!A436,Employee_Name,0),0)),\"\",(INDEX('Employee Data'!$N$4:$N$553,MATCH(Databackup!A436,Employee_Name,0))))","v":""},{"$f":"IF(ISERROR(INDEX('Employee Data'!$O$4:$O$553,MATCH(Databackup!A436,Employee_Name,0),0)),\"\",(INDEX('Employee Data'!$O$4:$O$553,MATCH(Databackup!A436,Employee_Name,0))))","v":""}]
[{"$f":"INDEX(Employee_Name,MATCH(SMALL(IF($A$1='Employee Data'!$I$4:$I$553,'Employee Data'!$B$4:$B$553,\"\"),ROW('Employee Data'!A435)),IF($A$1='Employee Data'!$I$4:$I$553,'Employee Data'!$B$4:$B$553,\"\"),0))","v":{"$error":"#NUM!"}},{"$f":"IF(ISERROR(INDEX('Employee Data'!$B$4:$B$553,MATCH(Databackup!A437,Employee_Name,0),0)),\"\",(INDEX('Employee Data'!$B$4:$B$553,MATCH(Databackup!A437,Employee_Name,0))))","v":""},{"$f":"IF(ISERROR(INDEX('Employee Data'!$C$4:$C$553,MATCH(Databackup!A437,Employee_Name,0),0)),\"\",(INDEX('Employee Data'!$C$4:$C$553,MATCH(Databackup!A437,Employee_Name,0))))","v":""},{"$f":"IF(ISERROR(INDEX('Employee Data'!$D$4:$D$553,MATCH(Databackup!A437,Employee_Name,0),0)),\"\",(INDEX('Employee Data'!$D$4:$D$553,MATCH(Databackup!A437,Employee_Name,0))))","v":""},{"$f":"IF(ISERROR(INDEX('Employee Data'!$F$4:$F$553,MATCH(Databackup!A437,Employee_Name,0),0)),\"\",(INDEX('Employee Data'!$F$4:$F$553,MATCH(Databackup!A437,Employee_Name,0))))","v":""},{"$f":"IF(ISERROR(INDEX('Employee Data'!$G$4:$G$553,MATCH(Databackup!A437,Employee_Name,0),0)),\"\",(INDEX('Employee Data'!$G$4:$G$553,MATCH(Databackup!A437,Employee_Name,0))))","v":""},{"$f":"IF(ISERROR(INDEX('Employee Data'!$H$4:$H$553,MATCH(Databackup!A437,Employee_Name,0),0)),\"\",(INDEX('Employee Data'!$H$4:$H$553,MATCH(Databackup!A437,Employee_Name,0))))","v":""},{"$f":"IF(ISERROR(INDEX('Employee Data'!$I$4:$I$553,MATCH(Databackup!A437,Employee_Name,0),0)),\"\",(INDEX('Employee Data'!$I$4:$I$553,MATCH(Databackup!A437,Employee_Name,0))))","v":""},{"$f":"IF(ISERROR(INDEX('Employee Data'!$J$4:$J$553,MATCH(Databackup!A437,Employee_Name,0),0)),\"\",(INDEX('Employee Data'!J$4:$J$553,MATCH(Databackup!A437,Employee_Name,0))))","v":""},{"$f":"IF(ISERROR(INDEX('Employee Data'!$K$4:$K$553,MATCH(Databackup!A437,Employee_Name,0),0)),\"\",(INDEX('Employee Data'!$K$4:$K$553,MATCH(Databackup!A437,Employee_Name,0))))","v":""},{"$f":"IF(ISERROR(INDEX('Employee Data'!$L$4:$L$553,MATCH(Databackup!A437,Employee_Name,0),0)),\"\",(INDEX('Employee Data'!$L$4:$L$553,MATCH(Databackup!A437,Employee_Name,0))))","v":""},{"$f":"IF(ISERROR(INDEX('Employee Data'!$M$4:$M$553,MATCH(Databackup!A437,Employee_Name,0),0)),\"\",(INDEX('Employee Data'!$M$4:$M$553,MATCH(Databackup!A437,Employee_Name,0))))","v":""},{"$f":"IF(ISERROR(INDEX('Employee Data'!$N$4:$N$553,MATCH(Databackup!A437,Employee_Name,0),0)),\"\",(INDEX('Employee Data'!$N$4:$N$553,MATCH(Databackup!A437,Employee_Name,0))))","v":""},{"$f":"IF(ISERROR(INDEX('Employee Data'!$O$4:$O$553,MATCH(Databackup!A437,Employee_Name,0),0)),\"\",(INDEX('Employee Data'!$O$4:$O$553,MATCH(Databackup!A437,Employee_Name,0))))","v":""}]
[{"$f":"INDEX(Employee_Name,MATCH(SMALL(IF($A$1='Employee Data'!$I$4:$I$553,'Employee Data'!$B$4:$B$553,\"\"),ROW('Employee Data'!A436)),IF($A$1='Employee Data'!$I$4:$I$553,'Employee Data'!$B$4:$B$553,\"\"),0))","v":{"$error":"#NUM!"}},{"$f":"IF(ISERROR(INDEX('Employee Data'!$B$4:$B$553,MATCH(Databackup!A438,Employee_Name,0),0)),\"\",(INDEX('Employee Data'!$B$4:$B$553,MATCH(Databackup!A438,Employee_Name,0))))","v":""},{"$f":"IF(ISERROR(INDEX('Employee Data'!$C$4:$C$553,MATCH(Databackup!A438,Employee_Name,0),0)),\"\",(INDEX('Employee Data'!$C$4:$C$553,MATCH(Databackup!A438,Employee_Name,0))))","v":""},{"$f":"IF(ISERROR(INDEX('Employee Data'!$D$4:$D$553,MATCH(Databackup!A438,Employee_Name,0),0)),\"\",(INDEX('Employee Data'!$D$4:$D$553,MATCH(Databackup!A438,Employee_Name,0))))","v":""},{"$f":"IF(ISERROR(INDEX('Employee Data'!$F$4:$F$553,MATCH(Databackup!A438,Employee_Name,0),0)),\"\",(INDEX('Employee Data'!$F$4:$F$553,MATCH(Databackup!A438,Employee_Name,0))))","v":""},{"$f":"IF(ISERROR(INDEX('Employee Data'!$G$4:$G$553,MATCH(Databackup!A438,Employee_Name,0),0)),\"\",(INDEX('Employee Data'!$G$4:$G$553,MATCH(Databackup!A438,Employee_Name,0))))","v":""},{"$f":"IF(ISERROR(INDEX('Employee Data'!$H$4:$H$553,MATCH(Databackup!A438,Employee_Name,0),0)),\"\",(INDEX('Employee Data'!$H$4:$H$553,MATCH(Databackup!A438,Employee_Name,0))))","v":""},{"$f":"IF(ISERROR(INDEX('Employee Data'!$I$4:$I$553,MATCH(Databackup!A438,Employee_Name,0),0)),\"\",(INDEX('Employee Data'!$I$4:$I$553,MATCH(Databackup!A438,Employee_Name,0))))","v":""},{"$f":"IF(ISERROR(INDEX('Employee Data'!$J$4:$J$553,MATCH(Databackup!A438,Employee_Name,0),0)),\"\",(INDEX('Employee Data'!J$4:$J$553,MATCH(Databackup!A438,Employee_Name,0))))","v":""},{"$f":"IF(ISERROR(INDEX('Employee Data'!$K$4:$K$553,MATCH(Databackup!A438,Employee_Name,0),0)),\"\",(INDEX('Employee Data'!$K$4:$K$553,MATCH(Databackup!A438,Employee_Name,0))))","v":""},{"$f":"IF(ISERROR(INDEX('Employee Data'!$L$4:$L$553,MATCH(Databackup!A438,Employee_Name,0),0)),\"\",(INDEX('Employee Data'!$L$4:$L$553,MATCH(Databackup!A438,Employee_Name,0))))","v":""},{"$f":"IF(ISERROR(INDEX('Employee Data'!$M$4:$M$553,MATCH(Databackup!A438,Employee_Name,0),0)),\"\",(INDEX('Employee Data'!$M$4:$M$553,MATCH(Databackup!A438,Employee_Name,0))))","v":""},{"$f":"IF(ISERROR(INDEX('Employee Data'!$N$4:$N$553,MATCH(Databackup!A438,Employee_Name,0),0)),\"\",(INDEX('Employee Data'!$N$4:$N$553,MATCH(Databackup!A438,Employee_Name,0))))","v":""},{"$f":"IF(ISERROR(INDEX('Employee Data'!$O$4:$O$553,MATCH(Databackup!A438,Employee_Name,0),0)),\"\",(INDEX('Employee Data'!$O$4:$O$553,MATCH(Databackup!A438,Employee_Name,0))))","v":""}]
[{"$f":"INDEX(Employee_Name,MATCH(SMALL(IF($A$1='Employee Data'!$I$4:$I$553,'Employee Data'!$B$4:$B$553,\"\"),ROW('Employee Data'!A437)),IF($A$1='Employee Data'!$I$4:$I$553,'Employee Data'!$B$4:$B$553,\"\"),0))","v":{"$error":"#NUM!"}},{"$f":"IF(ISERROR(INDEX('Employee Data'!$B$4:$B$553,MATCH(Databackup!A439,Employee_Name,0),0)),\"\",(INDEX('Employee Data'!$B$4:$B$553,MATCH(Databackup!A439,Employee_Name,0))))","v":""},{"$f":"IF(ISERROR(INDEX('Employee Data'!$C$4:$C$553,MATCH(Databackup!A439,Employee_Name,0),0)),\"\",(INDEX('Employee Data'!$C$4:$C$553,MATCH(Databackup!A439,Employee_Name,0))))","v":""},{"$f":"IF(ISERROR(INDEX('Employee Data'!$D$4:$D$553,MATCH(Databackup!A439,Employee_Name,0),0)),\"\",(INDEX('Employee Data'!$D$4:$D$553,MATCH(Databackup!A439,Employee_Name,0))))","v":""},{"$f":"IF(ISERROR(INDEX('Employee Data'!$F$4:$F$553,MATCH(Databackup!A439,Employee_Name,0),0)),\"\",(INDEX('Employee Data'!$F$4:$F$553,MATCH(Databackup!A439,Employee_Name,0))))","v":""},{"$f":"IF(ISERROR(INDEX('Employee Data'!$G$4:$G$553,MATCH(Databackup!A439,Employee_Name,0),0)),\"\",(INDEX('Employee Data'!$G$4:$G$553,MATCH(Databackup!A439,Employee_Name,0))))","v":""},{"$f":"IF(ISERROR(INDEX('Employee Data'!$H$4:$H$553,MATCH(Databackup!A439,Employee_Name,0),0)),\"\",(INDEX('Employee Data'!$H$4:$H$553,MATCH(Databackup!A439,Employee_Name,0))))","v":""},{"$f":"IF(ISERROR(INDEX('Employee Data'!$I$4:$I$553,MATCH(Databackup!A439,Employee_Name,0),0)),\"\",(INDEX('Employee Data'!$I$4:$I$553,MATCH(Databackup!A439,Employee_Name,0))))","v":""},{"$f":"IF(ISERROR(INDEX('Employee Data'!$J$4:$J$553,MATCH(Databackup!A439,Employee_Name,0),0)),\"\",(INDEX('Employee Data'!J$4:$J$553,MATCH(Databackup!A439,Employee_Name,0))))","v":""},{"$f":"IF(ISERROR(INDEX('Employee Data'!$K$4:$K$553,MATCH(Databackup!A439,Employee_Name,0),0)),\"\",(INDEX('Employee Data'!$K$4:$K$553,MATCH(Databackup!A439,Employee_Name,0))))","v":""},{"$f":"IF(ISERROR(INDEX('Employee Data'!$L$4:$L$553,MATCH(Databackup!A439,Employee_Name,0),0)),\"\",(INDEX('Employee Data'!$L$4:$L$553,MATCH(Databackup!A439,Employee_Name,0))))","v":""},{"$f":"IF(ISERROR(INDEX('Employee Data'!$M$4:$M$553,MATCH(Databackup!A439,Employee_Name,0),0)),\"\",(INDEX('Employee Data'!$M$4:$M$553,MATCH(Databackup!A439,Employee_Name,0))))","v":""},{"$f":"IF(ISERROR(INDEX('Employee Data'!$N$4:$N$553,MATCH(Databackup!A439,Employee_Name,0),0)),\"\",(INDEX('Employee Data'!$N$4:$N$553,MATCH(Databackup!A439,Employee_Name,0))))","v":""},{"$f":"IF(ISERROR(INDEX('Employee Data'!$O$4:$O$553,MATCH(Databackup!A439,Employee_Name,0),0)),\"\",(INDEX('Employee Data'!$O$4:$O$553,MATCH(Databackup!A439,Employee_Name,0))))","v":""}]
[{"$f":"INDEX(Employee_Name,MATCH(SMALL(IF($A$1='Employee Data'!$I$4:$I$553,'Employee Data'!$B$4:$B$553,\"\"),ROW('Employee Data'!A438)),IF($A$1='Employee Data'!$I$4:$I$553,'Employee Data'!$B$4:$B$553,\"\"),0))","v":{"$error":"#NUM!"}},{"$f":"IF(ISERROR(INDEX('Employee Data'!$B$4:$B$553,MATCH(Databackup!A440,Employee_Name,0),0)),\"\",(INDEX('Employee Data'!$B$4:$B$553,MATCH(Databackup!A440,Employee_Name,0))))","v":""},{"$f":"IF(ISERROR(INDEX('Employee Data'!$C$4:$C$553,MATCH(Databackup!A440,Employee_Name,0),0)),\"\",(INDEX('Employee Data'!$C$4:$C$553,MATCH(Databackup!A440,Employee_Name,0))))","v":""},{"$f":"IF(ISERROR(INDEX('Employee Data'!$D$4:$D$553,MATCH(Databackup!A440,Employee_Name,0),0)),\"\",(INDEX('Employee Data'!$D$4:$D$553,MATCH(Databackup!A440,Employee_Name,0))))","v":""},{"$f":"IF(ISERROR(INDEX('Employee Data'!$F$4:$F$553,MATCH(Databackup!A440,Employee_Name,0),0)),\"\",(INDEX('Employee Data'!$F$4:$F$553,MATCH(Databackup!A440,Employee_Name,0))))","v":""},{"$f":"IF(ISERROR(INDEX('Employee Data'!$G$4:$G$553,MATCH(Databackup!A440,Employee_Name,0),0)),\"\",(INDEX('Employee Data'!$G$4:$G$553,MATCH(Databackup!A440,Employee_Name,0))))","v":""},{"$f":"IF(ISERROR(INDEX('Employee Data'!$H$4:$H$553,MATCH(Databackup!A440,Employee_Name,0),0)),\"\",(INDEX('Employee Data'!$H$4:$H$553,MATCH(Databackup!A440,Employee_Name,0))))","v":""},{"$f":"IF(ISERROR(INDEX('Employee Data'!$I$4:$I$553,MATCH(Databackup!A440,Employee_Name,0),0)),\"\",(INDEX('Employee Data'!$I$4:$I$553,MATCH(Databackup!A440,Employee_Name,0))))","v":""},{"$f":"IF(ISERROR(INDEX('Employee Data'!$J$4:$J$553,MATCH(Databackup!A440,Employee_Name,0),0)),\"\",(INDEX('Employee Data'!J$4:$J$553,MATCH(Databackup!A440,Employee_Name,0))))","v":""},{"$f":"IF(ISERROR(INDEX('Employee Data'!$K$4:$K$553,MATCH(Databackup!A440,Employee_Name,0),0)),\"\",(INDEX('Employee Data'!$K$4:$K$553,MATCH(Databackup!A440,Employee_Name,0))))","v":""},{"$f":"IF(ISERROR(INDEX('Employee Data'!$L$4:$L$553,MATCH(Databackup!A440,Employee_Name,0),0)),\"\",(INDEX('Employee Data'!$L$4:$L$553,MATCH(Databackup!A440,Employee_Name,0))))","v":""},{"$f":"IF(ISERROR(INDEX('Employee Data'!$M$4:$M$553,MATCH(Databackup!A440,Employee_Name,0),0)),\"\",(INDEX('Employee Data'!$M$4:$M$553,MATCH(Databackup!A440,Employee_Name,0))))","v":""},{"$f":"IF(ISERROR(INDEX('Employee Data'!$N$4:$N$553,MATCH(Databackup!A440,Employee_Name,0),0)),\"\",(INDEX('Employee Data'!$N$4:$N$553,MATCH(Databackup!A440,Employee_Name,0))))","v":""},{"$f":"IF(ISERROR(INDEX('Employee Data'!$O$4:$O$553,MATCH(Databackup!A440,Employee_Name,0),0)),\"\",(INDEX('Employee Data'!$O$4:$O$553,MATCH(Databackup!A440,Employee_Name,0))))","v":""}]
[{"$f":"INDEX(Employee_Name,MATCH(SMALL(IF($A$1='Employee Data'!$I$4:$I$553,'Employee Data'!$B$4:$B$553,\"\"),ROW('Employee Data'!A439)),IF($A$1='Employee Data'!$I$4:$I$553,'Employee Data'!$B$4:$B$553,\"\"),0))","v":{"$error":"#NUM!"}},{"$f":"IF(ISERROR(INDEX('Employee Data'!$B$4:$B$553,MATCH(Databackup!A441,Employee_Name,0),0)),\"\",(INDEX('Employee Data'!$B$4:$B$553,MATCH(Databackup!A441,Employee_Name,0))))","v":""},{"$f":"IF(ISERROR(INDEX('Employee Data'!$C$4:$C$553,MATCH(Databackup!A441,Employee_Name,0),0)),\"\",(INDEX('Employee Data'!$C$4:$C$553,MATCH(Databackup!A441,Employee_Name,0))))","v":""},{"$f":"IF(ISERROR(INDEX('Employee Data'!$D$4:$D$553,MATCH(Databackup!A441,Employee_Name,0),0)),\"\",(INDEX('Employee Data'!$D$4:$D$553,MATCH(Databackup!A441,Employee_Name,0))))","v":""},{"$f":"IF(ISERROR(INDEX('Employee Data'!$F$4:$F$553,MATCH(Databackup!A441,Employee_Name,0),0)),\"\",(INDEX('Employee Data'!$F$4:$F$553,MATCH(Databackup!A441,Employee_Name,0))))","v":""},{"$f":"IF(ISERROR(INDEX('Employee Data'!$G$4:$G$553,MATCH(Databackup!A441,Employee_Name,0),0)),\"\",(INDEX('Employee Data'!$G$4:$G$553,MATCH(Databackup!A441,Employee_Name,0))))","v":""},{"$f":"IF(ISERROR(INDEX('Employee Data'!$H$4:$H$553,MATCH(Databackup!A441,Employee_Name,0),0)),\"\",(INDEX('Employee Data'!$H$4:$H$553,MATCH(Databackup!A441,Employee_Name,0))))","v":""},{"$f":"IF(ISERROR(INDEX('Employee Data'!$I$4:$I$553,MATCH(Databackup!A441,Employee_Name,0),0)),\"\",(INDEX('Employee Data'!$I$4:$I$553,MATCH(Databackup!A441,Employee_Name,0))))","v":""},{"$f":"IF(ISERROR(INDEX('Employee Data'!$J$4:$J$553,MATCH(Databackup!A441,Employee_Name,0),0)),\"\",(INDEX('Employee Data'!J$4:$J$553,MATCH(Databackup!A441,Employee_Name,0))))","v":""},{"$f":"IF(ISERROR(INDEX('Employee Data'!$K$4:$K$553,MATCH(Databackup!A441,Employee_Name,0),0)),\"\",(INDEX('Employee Data'!$K$4:$K$553,MATCH(Databackup!A441,Employee_Name,0))))","v":""},{"$f":"IF(ISERROR(INDEX('Employee Data'!$L$4:$L$553,MATCH(Databackup!A441,Employee_Name,0),0)),\"\",(INDEX('Employee Data'!$L$4:$L$553,MATCH(Databackup!A441,Employee_Name,0))))","v":""},{"$f":"IF(ISERROR(INDEX('Employee Data'!$M$4:$M$553,MATCH(Databackup!A441,Employee_Name,0),0)),\"\",(INDEX('Employee Data'!$M$4:$M$553,MATCH(Databackup!A441,Employee_Name,0))))","v":""},{"$f":"IF(ISERROR(INDEX('Employee Data'!$N$4:$N$553,MATCH(Databackup!A441,Employee_Name,0),0)),\"\",(INDEX('Employee Data'!$N$4:$N$553,MATCH(Databackup!A441,Employee_Name,0))))","v":""},{"$f":"IF(ISERROR(INDEX('Employee Data'!$O$4:$O$553,MATCH(Databackup!A441,Employee_Name,0),0)),\"\",(INDEX('Employee Data'!$O$4:$O$553,MATCH(Databackup!A441,Employee_Name,0))))","v":""}]
[{"$f":"INDEX(Employee_Name,MATCH(SMALL(IF($A$1='Employee Data'!$I$4:$I$553,'Employee Data'!$B$4:$B$553,\"\"),ROW('Employee Data'!A440)),IF($A$1='Employee Data'!$I$4:$I$553,'Employee Data'!$B$4:$B$553,\"\"),0))","v":{"$error":"#NUM!"}},{"$f":"IF(ISERROR(INDEX('Employee Data'!$B$4:$B$553,MATCH(Databackup!A442,Employee_Name,0),0)),\"\",(INDEX('Employee Data'!$B$4:$B$553,MATCH(Databackup!A442,Employee_Name,0))))","v":""},{"$f":"IF(ISERROR(INDEX('Employee Data'!$C$4:$C$553,MATCH(Databackup!A442,Employee_Name,0),0)),\"\",(INDEX('Employee Data'!$C$4:$C$553,MATCH(Databackup!A442,Employee_Name,0))))","v":""},{"$f":"IF(ISERROR(INDEX('Employee Data'!$D$4:$D$553,MATCH(Databackup!A442,Employee_Name,0),0)),\"\",(INDEX('Employee Data'!$D$4:$D$553,MATCH(Databackup!A442,Employee_Name,0))))","v":""},{"$f":"IF(ISERROR(INDEX('Employee Data'!$F$4:$F$553,MATCH(Databackup!A442,Employee_Name,0),0)),\"\",(INDEX('Employee Data'!$F$4:$F$553,MATCH(Databackup!A442,Employee_Name,0))))","v":""},{"$f":"IF(ISERROR(INDEX('Employee Data'!$G$4:$G$553,MATCH(Databackup!A442,Employee_Name,0),0)),\"\",(INDEX('Employee Data'!$G$4:$G$553,MATCH(Databackup!A442,Employee_Name,0))))","v":""},{"$f":"IF(ISERROR(INDEX('Employee Data'!$H$4:$H$553,MATCH(Databackup!A442,Employee_Name,0),0)),\"\",(INDEX('Employee Data'!$H$4:$H$553,MATCH(Databackup!A442,Employee_Name,0))))","v":""},{"$f":"IF(ISERROR(INDEX('Employee Data'!$I$4:$I$553,MATCH(Databackup!A442,Employee_Name,0),0)),\"\",(INDEX('Employee Data'!$I$4:$I$553,MATCH(Databackup!A442,Employee_Name,0))))","v":""},{"$f":"IF(ISERROR(INDEX('Employee Data'!$J$4:$J$553,MATCH(Databackup!A442,Employee_Name,0),0)),\"\",(INDEX('Employee Data'!J$4:$J$553,MATCH(Databackup!A442,Employee_Name,0))))","v":""},{"$f":"IF(ISERROR(INDEX('Employee Data'!$K$4:$K$553,MATCH(Databackup!A442,Employee_Name,0),0)),\"\",(INDEX('Employee Data'!$K$4:$K$553,MATCH(Databackup!A442,Employee_Name,0))))","v":""},{"$f":"IF(ISERROR(INDEX('Employee Data'!$L$4:$L$553,MATCH(Databackup!A442,Employee_Name,0),0)),\"\",(INDEX('Employee Data'!$L$4:$L$553,MATCH(Databackup!A442,Employee_Name,0))))","v":""},{"$f":"IF(ISERROR(INDEX('Employee Data'!$M$4:$M$553,MATCH(Databackup!A442,Employee_Name,0),0)),\"\",(INDEX('Employee Data'!$M$4:$M$553,MATCH(Databackup!A442,Employee_Name,0))))","v":""},{"$f":"IF(ISERROR(INDEX('Employee Data'!$N$4:$N$553,MATCH(Databackup!A442,Employee_Name,0),0)),\"\",(INDEX('Employee Data'!$N$4:$N$553,MATCH(Databackup!A442,Employee_Name,0))))","v":""},{"$f":"IF(ISERROR(INDEX('Employee Data'!$O$4:$O$553,MATCH(Databackup!A442,Employee_Name,0),0)),\"\",(INDEX('Employee Data'!$O$4:$O$553,MATCH(Databackup!A442,Employee_Name,0))))","v":""}]
[{"$f":"INDEX(Employee_Name,MATCH(SMALL(IF($A$1='Employee Data'!$I$4:$I$553,'Employee Data'!$B$4:$B$553,\"\"),ROW('Employee Data'!A441)),IF($A$1='Employee Data'!$I$4:$I$553,'Employee Data'!$B$4:$B$553,\"\"),0))","v":{"$error":"#NUM!"}},{"$f":"IF(ISERROR(INDEX('Employee Data'!$B$4:$B$553,MATCH(Databackup!A443,Employee_Name,0),0)),\"\",(INDEX('Employee Data'!$B$4:$B$553,MATCH(Databackup!A443,Employee_Name,0))))","v":""},{"$f":"IF(ISERROR(INDEX('Employee Data'!$C$4:$C$553,MATCH(Databackup!A443,Employee_Name,0),0)),\"\",(INDEX('Employee Data'!$C$4:$C$553,MATCH(Databackup!A443,Employee_Name,0))))","v":""},{"$f":"IF(ISERROR(INDEX('Employee Data'!$D$4:$D$553,MATCH(Databackup!A443,Employee_Name,0),0)),\"\",(INDEX('Employee Data'!$D$4:$D$553,MATCH(Databackup!A443,Employee_Name,0))))","v":""},{"$f":"IF(ISERROR(INDEX('Employee Data'!$F$4:$F$553,MATCH(Databackup!A443,Employee_Name,0),0)),\"\",(INDEX('Employee Data'!$F$4:$F$553,MATCH(Databackup!A443,Employee_Name,0))))","v":""},{"$f":"IF(ISERROR(INDEX('Employee Data'!$G$4:$G$553,MATCH(Databackup!A443,Employee_Name,0),0)),\"\",(INDEX('Employee Data'!$G$4:$G$553,MATCH(Databackup!A443,Employee_Name,0))))","v":""},{"$f":"IF(ISERROR(INDEX('Employee Data'!$H$4:$H$553,MATCH(Databackup!A443,Employee_Name,0),0)),\"\",(INDEX('Employee Data'!$H$4:$H$553,MATCH(Databackup!A443,Employee_Name,0))))","v":""},{"$f":"IF(ISERROR(INDEX('Employee Data'!$I$4:$I$553,MATCH(Databackup!A443,Employee_Name,0),0)),\"\",(INDEX('Employee Data'!$I$4:$I$553,MATCH(Databackup!A443,Employee_Name,0))))","v":""},{"$f":"IF(ISERROR(INDEX('Employee Data'!$J$4:$J$553,MATCH(Databackup!A443,Employee_Name,0),0)),\"\",(INDEX('Employee Data'!J$4:$J$553,MATCH(Databackup!A443,Employee_Name,0))))","v":""},{"$f":"IF(ISERROR(INDEX('Employee Data'!$K$4:$K$553,MATCH(Databackup!A443,Employee_Name,0),0)),\"\",(INDEX('Employee Data'!$K$4:$K$553,MATCH(Databackup!A443,Employee_Name,0))))","v":""},{"$f":"IF(ISERROR(INDEX('Employee Data'!$L$4:$L$553,MATCH(Databackup!A443,Employee_Name,0),0)),\"\",(INDEX('Employee Data'!$L$4:$L$553,MATCH(Databackup!A443,Employee_Name,0))))","v":""},{"$f":"IF(ISERROR(INDEX('Employee Data'!$M$4:$M$553,MATCH(Databackup!A443,Employee_Name,0),0)),\"\",(INDEX('Employee Data'!$M$4:$M$553,MATCH(Databackup!A443,Employee_Name,0))))","v":""},{"$f":"IF(ISERROR(INDEX('Employee Data'!$N$4:$N$553,MATCH(Databackup!A443,Employee_Name,0),0)),\"\",(INDEX('Employee Data'!$N$4:$N$553,MATCH(Databackup!A443,Employee_Name,0))))","v":""},{"$f":"IF(ISERROR(INDEX('Employee Data'!$O$4:$O$553,MATCH(Databackup!A443,Employee_Name,0),0)),\"\",(INDEX('Employee Data'!$O$4:$O$553,MATCH(Databackup!A443,Employee_Name,0))))","v":""}]
[{"$f":"INDEX(Employee_Name,MATCH(SMALL(IF($A$1='Employee Data'!$I$4:$I$553,'Employee Data'!$B$4:$B$553,\"\"),ROW('Employee Data'!A442)),IF($A$1='Employee Data'!$I$4:$I$553,'Employee Data'!$B$4:$B$553,\"\"),0))","v":{"$error":"#NUM!"}},{"$f":"IF(ISERROR(INDEX('Employee Data'!$B$4:$B$553,MATCH(Databackup!A444,Employee_Name,0),0)),\"\",(INDEX('Employee Data'!$B$4:$B$553,MATCH(Databackup!A444,Employee_Name,0))))","v":""},{"$f":"IF(ISERROR(INDEX('Employee Data'!$C$4:$C$553,MATCH(Databackup!A444,Employee_Name,0),0)),\"\",(INDEX('Employee Data'!$C$4:$C$553,MATCH(Databackup!A444,Employee_Name,0))))","v":""},{"$f":"IF(ISERROR(INDEX('Employee Data'!$D$4:$D$553,MATCH(Databackup!A444,Employee_Name,0),0)),\"\",(INDEX('Employee Data'!$D$4:$D$553,MATCH(Databackup!A444,Employee_Name,0))))","v":""},{"$f":"IF(ISERROR(INDEX('Employee Data'!$F$4:$F$553,MATCH(Databackup!A444,Employee_Name,0),0)),\"\",(INDEX('Employee Data'!$F$4:$F$553,MATCH(Databackup!A444,Employee_Name,0))))","v":""},{"$f":"IF(ISERROR(INDEX('Employee Data'!$G$4:$G$553,MATCH(Databackup!A444,Employee_Name,0),0)),\"\",(INDEX('Employee Data'!$G$4:$G$553,MATCH(Databackup!A444,Employee_Name,0))))","v":""},{"$f":"IF(ISERROR(INDEX('Employee Data'!$H$4:$H$553,MATCH(Databackup!A444,Employee_Name,0),0)),\"\",(INDEX('Employee Data'!$H$4:$H$553,MATCH(Databackup!A444,Employee_Name,0))))","v":""},{"$f":"IF(ISERROR(INDEX('Employee Data'!$I$4:$I$553,MATCH(Databackup!A444,Employee_Name,0),0)),\"\",(INDEX('Employee Data'!$I$4:$I$553,MATCH(Databackup!A444,Employee_Name,0))))","v":""},{"$f":"IF(ISERROR(INDEX('Employee Data'!$J$4:$J$553,MATCH(Databackup!A444,Employee_Name,0),0)),\"\",(INDEX('Employee Data'!J$4:$J$553,MATCH(Databackup!A444,Employee_Name,0))))","v":""},{"$f":"IF(ISERROR(INDEX('Employee Data'!$K$4:$K$553,MATCH(Databackup!A444,Employee_Name,0),0)),\"\",(INDEX('Employee Data'!$K$4:$K$553,MATCH(Databackup!A444,Employee_Name,0))))","v":""},{"$f":"IF(ISERROR(INDEX('Employee Data'!$L$4:$L$553,MATCH(Databackup!A444,Employee_Name,0),0)),\"\",(INDEX('Employee Data'!$L$4:$L$553,MATCH(Databackup!A444,Employee_Name,0))))","v":""},{"$f":"IF(ISERROR(INDEX('Employee Data'!$M$4:$M$553,MATCH(Databackup!A444,Employee_Name,0),0)),\"\",(INDEX('Employee Data'!$M$4:$M$553,MATCH(Databackup!A444,Employee_Name,0))))","v":""},{"$f":"IF(ISERROR(INDEX('Employee Data'!$N$4:$N$553,MATCH(Databackup!A444,Employee_Name,0),0)),\"\",(INDEX('Employee Data'!$N$4:$N$553,MATCH(Databackup!A444,Employee_Name,0))))","v":""},{"$f":"IF(ISERROR(INDEX('Employee Data'!$O$4:$O$553,MATCH(Databackup!A444,Employee_Name,0),0)),\"\",(INDEX('Employee Data'!$O$4:$O$553,MATCH(Databackup!A444,Employee_Name,0))))","v":""}]
[{"$f":"INDEX(Employee_Name,MATCH(SMALL(IF($A$1='Employee Data'!$I$4:$I$553,'Employee Data'!$B$4:$B$553,\"\"),ROW('Employee Data'!A443)),IF($A$1='Employee Data'!$I$4:$I$553,'Employee Data'!$B$4:$B$553,\"\"),0))","v":{"$error":"#NUM!"}},{"$f":"IF(ISERROR(INDEX('Employee Data'!$B$4:$B$553,MATCH(Databackup!A445,Employee_Name,0),0)),\"\",(INDEX('Employee Data'!$B$4:$B$553,MATCH(Databackup!A445,Employee_Name,0))))","v":""},{"$f":"IF(ISERROR(INDEX('Employee Data'!$C$4:$C$553,MATCH(Databackup!A445,Employee_Name,0),0)),\"\",(INDEX('Employee Data'!$C$4:$C$553,MATCH(Databackup!A445,Employee_Name,0))))","v":""},{"$f":"IF(ISERROR(INDEX('Employee Data'!$D$4:$D$553,MATCH(Databackup!A445,Employee_Name,0),0)),\"\",(INDEX('Employee Data'!$D$4:$D$553,MATCH(Databackup!A445,Employee_Name,0))))","v":""},{"$f":"IF(ISERROR(INDEX('Employee Data'!$F$4:$F$553,MATCH(Databackup!A445,Employee_Name,0),0)),\"\",(INDEX('Employee Data'!$F$4:$F$553,MATCH(Databackup!A445,Employee_Name,0))))","v":""},{"$f":"IF(ISERROR(INDEX('Employee Data'!$G$4:$G$553,MATCH(Databackup!A445,Employee_Name,0),0)),\"\",(INDEX('Employee Data'!$G$4:$G$553,MATCH(Databackup!A445,Employee_Name,0))))","v":""},{"$f":"IF(ISERROR(INDEX('Employee Data'!$H$4:$H$553,MATCH(Databackup!A445,Employee_Name,0),0)),\"\",(INDEX('Employee Data'!$H$4:$H$553,MATCH(Databackup!A445,Employee_Name,0))))","v":""},{"$f":"IF(ISERROR(INDEX('Employee Data'!$I$4:$I$553,MATCH(Databackup!A445,Employee_Name,0),0)),\"\",(INDEX('Employee Data'!$I$4:$I$553,MATCH(Databackup!A445,Employee_Name,0))))","v":""},{"$f":"IF(ISERROR(INDEX('Employee Data'!$J$4:$J$553,MATCH(Databackup!A445,Employee_Name,0),0)),\"\",(INDEX('Employee Data'!J$4:$J$553,MATCH(Databackup!A445,Employee_Name,0))))","v":""},{"$f":"IF(ISERROR(INDEX('Employee Data'!$K$4:$K$553,MATCH(Databackup!A445,Employee_Name,0),0)),\"\",(INDEX('Employee Data'!$K$4:$K$553,MATCH(Databackup!A445,Employee_Name,0))))","v":""},{"$f":"IF(ISERROR(INDEX('Employee Data'!$L$4:$L$553,MATCH(Databackup!A445,Employee_Name,0),0)),\"\",(INDEX('Employee Data'!$L$4:$L$553,MATCH(Databackup!A445,Employee_Name,0))))","v":""},{"$f":"IF(ISERROR(INDEX('Employee Data'!$M$4:$M$553,MATCH(Databackup!A445,Employee_Name,0),0)),\"\",(INDEX('Employee Data'!$M$4:$M$553,MATCH(Databackup!A445,Employee_Name,0))))","v":""},{"$f":"IF(ISERROR(INDEX('Employee Data'!$N$4:$N$553,MATCH(Databackup!A445,Employee_Name,0),0)),\"\",(INDEX('Employee Data'!$N$4:$N$553,MATCH(Databackup!A445,Employee_Name,0))))","v":""},{"$f":"IF(ISERROR(INDEX('Employee Data'!$O$4:$O$553,MATCH(Databackup!A445,Employee_Name,0),0)),\"\",(INDEX('Employee Data'!$O$4:$O$553,MATCH(Databackup!A445,Employee_Name,0))))","v":""}]
[{"$f":"INDEX(Employee_Name,MATCH(SMALL(IF($A$1='Employee Data'!$I$4:$I$553,'Employee Data'!$B$4:$B$553,\"\"),ROW('Employee Data'!A444)),IF($A$1='Employee Data'!$I$4:$I$553,'Employee Data'!$B$4:$B$553,\"\"),0))","v":{"$error":"#NUM!"}},{"$f":"IF(ISERROR(INDEX('Employee Data'!$B$4:$B$553,MATCH(Databackup!A446,Employee_Name,0),0)),\"\",(INDEX('Employee Data'!$B$4:$B$553,MATCH(Databackup!A446,Employee_Name,0))))","v":""},{"$f":"IF(ISERROR(INDEX('Employee Data'!$C$4:$C$553,MATCH(Databackup!A446,Employee_Name,0),0)),\"\",(INDEX('Employee Data'!$C$4:$C$553,MATCH(Databackup!A446,Employee_Name,0))))","v":""},{"$f":"IF(ISERROR(INDEX('Employee Data'!$D$4:$D$553,MATCH(Databackup!A446,Employee_Name,0),0)),\"\",(INDEX('Employee Data'!$D$4:$D$553,MATCH(Databackup!A446,Employee_Name,0))))","v":""},{"$f":"IF(ISERROR(INDEX('Employee Data'!$F$4:$F$553,MATCH(Databackup!A446,Employee_Name,0),0)),\"\",(INDEX('Employee Data'!$F$4:$F$553,MATCH(Databackup!A446,Employee_Name,0))))","v":""},{"$f":"IF(ISERROR(INDEX('Employee Data'!$G$4:$G$553,MATCH(Databackup!A446,Employee_Name,0),0)),\"\",(INDEX('Employee Data'!$G$4:$G$553,MATCH(Databackup!A446,Employee_Name,0))))","v":""},{"$f":"IF(ISERROR(INDEX('Employee Data'!$H$4:$H$553,MATCH(Databackup!A446,Employee_Name,0),0)),\"\",(INDEX('Employee Data'!$H$4:$H$553,MATCH(Databackup!A446,Employee_Name,0))))","v":""},{"$f":"IF(ISERROR(INDEX('Employee Data'!$I$4:$I$553,MATCH(Databackup!A446,Employee_Name,0),0)),\"\",(INDEX('Employee Data'!$I$4:$I$553,MATCH(Databackup!A446,Employee_Name,0))))","v":""},{"$f":"IF(ISERROR(INDEX('Employee Data'!$J$4:$J$553,MATCH(Databackup!A446,Employee_Name,0),0)),\"\",(INDEX('Employee Data'!J$4:$J$553,MATCH(Databackup!A446,Employee_Name,0))))","v":""},{"$f":"IF(ISERROR(INDEX('Employee Data'!$K$4:$K$553,MATCH(Databackup!A446,Employee_Name,0),0)),\"\",(INDEX('Employee Data'!$K$4:$K$553,MATCH(Databackup!A446,Employee_Name,0))))","v":""},{"$f":"IF(ISERROR(INDEX('Employee Data'!$L$4:$L$553,MATCH(Databackup!A446,Employee_Name,0),0)),\"\",(INDEX('Employee Data'!$L$4:$L$553,MATCH(Databackup!A446,Employee_Name,0))))","v":""},{"$f":"IF(ISERROR(INDEX('Employee Data'!$M$4:$M$553,MATCH(Databackup!A446,Employee_Name,0),0)),\"\",(INDEX('Employee Data'!$M$4:$M$553,MATCH(Databackup!A446,Employee_Name,0))))","v":""},{"$f":"IF(ISERROR(INDEX('Employee Data'!$N$4:$N$553,MATCH(Databackup!A446,Employee_Name,0),0)),\"\",(INDEX('Employee Data'!$N$4:$N$553,MATCH(Databackup!A446,Employee_Name,0))))","v":""},{"$f":"IF(ISERROR(INDEX('Employee Data'!$O$4:$O$553,MATCH(Databackup!A446,Employee_Name,0),0)),\"\",(INDEX('Employee Data'!$O$4:$O$553,MATCH(Databackup!A446,Employee_Name,0))))","v":""}]
[{"$f":"INDEX(Employee_Name,MATCH(SMALL(IF($A$1='Employee Data'!$I$4:$I$553,'Employee Data'!$B$4:$B$553,\"\"),ROW('Employee Data'!A445)),IF($A$1='Employee Data'!$I$4:$I$553,'Employee Data'!$B$4:$B$553,\"\"),0))","v":{"$error":"#NUM!"}},{"$f":"IF(ISERROR(INDEX('Employee Data'!$B$4:$B$553,MATCH(Databackup!A447,Employee_Name,0),0)),\"\",(INDEX('Employee Data'!$B$4:$B$553,MATCH(Databackup!A447,Employee_Name,0))))","v":""},{"$f":"IF(ISERROR(INDEX('Employee Data'!$C$4:$C$553,MATCH(Databackup!A447,Employee_Name,0),0)),\"\",(INDEX('Employee Data'!$C$4:$C$553,MATCH(Databackup!A447,Employee_Name,0))))","v":""},{"$f":"IF(ISERROR(INDEX('Employee Data'!$D$4:$D$553,MATCH(Databackup!A447,Employee_Name,0),0)),\"\",(INDEX('Employee Data'!$D$4:$D$553,MATCH(Databackup!A447,Employee_Name,0))))","v":""},{"$f":"IF(ISERROR(INDEX('Employee Data'!$F$4:$F$553,MATCH(Databackup!A447,Employee_Name,0),0)),\"\",(INDEX('Employee Data'!$F$4:$F$553,MATCH(Databackup!A447,Employee_Name,0))))","v":""},{"$f":"IF(ISERROR(INDEX('Employee Data'!$G$4:$G$553,MATCH(Databackup!A447,Employee_Name,0),0)),\"\",(INDEX('Employee Data'!$G$4:$G$553,MATCH(Databackup!A447,Employee_Name,0))))","v":""},{"$f":"IF(ISERROR(INDEX('Employee Data'!$H$4:$H$553,MATCH(Databackup!A447,Employee_Name,0),0)),\"\",(INDEX('Employee Data'!$H$4:$H$553,MATCH(Databackup!A447,Employee_Name,0))))","v":""},{"$f":"IF(ISERROR(INDEX('Employee Data'!$I$4:$I$553,MATCH(Databackup!A447,Employee_Name,0),0)),\"\",(INDEX('Employee Data'!$I$4:$I$553,MATCH(Databackup!A447,Employee_Name,0))))","v":""},{"$f":"IF(ISERROR(INDEX('Employee Data'!$J$4:$J$553,MATCH(Databackup!A447,Employee_Name,0),0)),\"\",(INDEX('Employee Data'!J$4:$J$553,MATCH(Databackup!A447,Employee_Name,0))))","v":""},{"$f":"IF(ISERROR(INDEX('Employee Data'!$K$4:$K$553,MATCH(Databackup!A447,Employee_Name,0),0)),\"\",(INDEX('Employee Data'!$K$4:$K$553,MATCH(Databackup!A447,Employee_Name,0))))","v":""},{"$f":"IF(ISERROR(INDEX('Employee Data'!$L$4:$L$553,MATCH(Databackup!A447,Employee_Name,0),0)),\"\",(INDEX('Employee Data'!$L$4:$L$553,MATCH(Databackup!A447,Employee_Name,0))))","v":""},{"$f":"IF(ISERROR(INDEX('Employee Data'!$M$4:$M$553,MATCH(Databackup!A447,Employee_Name,0),0)),\"\",(INDEX('Employee Data'!$M$4:$M$553,MATCH(Databackup!A447,Employee_Name,0))))","v":""},{"$f":"IF(ISERROR(INDEX('Employee Data'!$N$4:$N$553,MATCH(Databackup!A447,Employee_Name,0),0)),\"\",(INDEX('Employee Data'!$N$4:$N$553,MATCH(Databackup!A447,Employee_Name,0))))","v":""},{"$f":"IF(ISERROR(INDEX('Employee Data'!$O$4:$O$553,MATCH(Databackup!A447,Employee_Name,0),0)),\"\",(INDEX('Employee Data'!$O$4:$O$553,MATCH(Databackup!A447,Employee_Name,0))))","v":""}]
[{"$f":"INDEX(Employee_Name,MATCH(SMALL(IF($A$1='Employee Data'!$I$4:$I$553,'Employee Data'!$B$4:$B$553,\"\"),ROW('Employee Data'!A446)),IF($A$1='Employee Data'!$I$4:$I$553,'Employee Data'!$B$4:$B$553,\"\"),0))","v":{"$error":"#NUM!"}},{"$f":"IF(ISERROR(INDEX('Employee Data'!$B$4:$B$553,MATCH(Databackup!A448,Employee_Name,0),0)),\"\",(INDEX('Employee Data'!$B$4:$B$553,MATCH(Databackup!A448,Employee_Name,0))))","v":""},{"$f":"IF(ISERROR(INDEX('Employee Data'!$C$4:$C$553,MATCH(Databackup!A448,Employee_Name,0),0)),\"\",(INDEX('Employee Data'!$C$4:$C$553,MATCH(Databackup!A448,Employee_Name,0))))","v":""},{"$f":"IF(ISERROR(INDEX('Employee Data'!$D$4:$D$553,MATCH(Databackup!A448,Employee_Name,0),0)),\"\",(INDEX('Employee Data'!$D$4:$D$553,MATCH(Databackup!A448,Employee_Name,0))))","v":""},{"$f":"IF(ISERROR(INDEX('Employee Data'!$F$4:$F$553,MATCH(Databackup!A448,Employee_Name,0),0)),\"\",(INDEX('Employee Data'!$F$4:$F$553,MATCH(Databackup!A448,Employee_Name,0))))","v":""},{"$f":"IF(ISERROR(INDEX('Employee Data'!$G$4:$G$553,MATCH(Databackup!A448,Employee_Name,0),0)),\"\",(INDEX('Employee Data'!$G$4:$G$553,MATCH(Databackup!A448,Employee_Name,0))))","v":""},{"$f":"IF(ISERROR(INDEX('Employee Data'!$H$4:$H$553,MATCH(Databackup!A448,Employee_Name,0),0)),\"\",(INDEX('Employee Data'!$H$4:$H$553,MATCH(Databackup!A448,Employee_Name,0))))","v":""},{"$f":"IF(ISERROR(INDEX('Employee Data'!$I$4:$I$553,MATCH(Databackup!A448,Employee_Name,0),0)),\"\",(INDEX('Employee Data'!$I$4:$I$553,MATCH(Databackup!A448,Employee_Name,0))))","v":""},{"$f":"IF(ISERROR(INDEX('Employee Data'!$J$4:$J$553,MATCH(Databackup!A448,Employee_Name,0),0)),\"\",(INDEX('Employee Data'!J$4:$J$553,MATCH(Databackup!A448,Employee_Name,0))))","v":""},{"$f":"IF(ISERROR(INDEX('Employee Data'!$K$4:$K$553,MATCH(Databackup!A448,Employee_Name,0),0)),\"\",(INDEX('Employee Data'!$K$4:$K$553,MATCH(Databackup!A448,Employee_Name,0))))","v":""},{"$f":"IF(ISERROR(INDEX('Employee Data'!$L$4:$L$553,MATCH(Databackup!A448,Employee_Name,0),0)),\"\",(INDEX('Employee Data'!$L$4:$L$553,MATCH(Databackup!A448,Employee_Name,0))))","v":""},{"$f":"IF(ISERROR(INDEX('Employee Data'!$M$4:$M$553,MATCH(Databackup!A448,Employee_Name,0),0)),\"\",(INDEX('Employee Data'!$M$4:$M$553,MATCH(Databackup!A448,Employee_Name,0))))","v":""},{"$f":"IF(ISERROR(INDEX('Employee Data'!$N$4:$N$553,MATCH(Databackup!A448,Employee_Name,0),0)),\"\",(INDEX('Employee Data'!$N$4:$N$553,MATCH(Databackup!A448,Employee_Name,0))))","v":""},{"$f":"IF(ISERROR(INDEX('Employee Data'!$O$4:$O$553,MATCH(Databackup!A448,Employee_Name,0),0)),\"\",(INDEX('Employee Data'!$O$4:$O$553,MATCH(Databackup!A448,Employee_Name,0))))","v":""}]
[{"$f":"INDEX(Employee_Name,MATCH(SMALL(IF($A$1='Employee Data'!$I$4:$I$553,'Employee Data'!$B$4:$B$553,\"\"),ROW('Employee Data'!A447)),IF($A$1='Employee Data'!$I$4:$I$553,'Employee Data'!$B$4:$B$553,\"\"),0))","v":{"$error":"#NUM!"}},{"$f":"IF(ISERROR(INDEX('Employee Data'!$B$4:$B$553,MATCH(Databackup!A449,Employee_Name,0),0)),\"\",(INDEX('Employee Data'!$B$4:$B$553,MATCH(Databackup!A449,Employee_Name,0))))","v":""},{"$f":"IF(ISERROR(INDEX('Employee Data'!$C$4:$C$553,MATCH(Databackup!A449,Employee_Name,0),0)),\"\",(INDEX('Employee Data'!$C$4:$C$553,MATCH(Databackup!A449,Employee_Name,0))))","v":""},{"$f":"IF(ISERROR(INDEX('Employee Data'!$D$4:$D$553,MATCH(Databackup!A449,Employee_Name,0),0)),\"\",(INDEX('Employee Data'!$D$4:$D$553,MATCH(Databackup!A449,Employee_Name,0))))","v":""},{"$f":"IF(ISERROR(INDEX('Employee Data'!$F$4:$F$553,MATCH(Databackup!A449,Employee_Name,0),0)),\"\",(INDEX('Employee Data'!$F$4:$F$553,MATCH(Databackup!A449,Employee_Name,0))))","v":""},{"$f":"IF(ISERROR(INDEX('Employee Data'!$G$4:$G$553,MATCH(Databackup!A449,Employee_Name,0),0)),\"\",(INDEX('Employee Data'!$G$4:$G$553,MATCH(Databackup!A449,Employee_Name,0))))","v":""},{"$f":"IF(ISERROR(INDEX('Employee Data'!$H$4:$H$553,MATCH(Databackup!A449,Employee_Name,0),0)),\"\",(INDEX('Employee Data'!$H$4:$H$553,MATCH(Databackup!A449,Employee_Name,0))))","v":""},{"$f":"IF(ISERROR(INDEX('Employee Data'!$I$4:$I$553,MATCH(Databackup!A449,Employee_Name,0),0)),\"\",(INDEX('Employee Data'!$I$4:$I$553,MATCH(Databackup!A449,Employee_Name,0))))","v":""},{"$f":"IF(ISERROR(INDEX('Employee Data'!$J$4:$J$553,MATCH(Databackup!A449,Employee_Name,0),0)),\"\",(INDEX('Employee Data'!J$4:$J$553,MATCH(Databackup!A449,Employee_Name,0))))","v":""},{"$f":"IF(ISERROR(INDEX('Employee Data'!$K$4:$K$553,MATCH(Databackup!A449,Employee_Name,0),0)),\"\",(INDEX('Employee Data'!$K$4:$K$553,MATCH(Databackup!A449,Employee_Name,0))))","v":""},{"$f":"IF(ISERROR(INDEX('Employee Data'!$L$4:$L$553,MATCH(Databackup!A449,Employee_Name,0),0)),\"\",(INDEX('Employee Data'!$L$4:$L$553,MATCH(Databackup!A449,Employee_Name,0))))","v":""},{"$f":"IF(ISERROR(INDEX('Employee Data'!$M$4:$M$553,MATCH(Databackup!A449,Employee_Name,0),0)),\"\",(INDEX('Employee Data'!$M$4:$M$553,MATCH(Databackup!A449,Employee_Name,0))))","v":""},{"$f":"IF(ISERROR(INDEX('Employee Data'!$N$4:$N$553,MATCH(Databackup!A449,Employee_Name,0),0)),\"\",(INDEX('Employee Data'!$N$4:$N$553,MATCH(Databackup!A449,Employee_Name,0))))","v":""},{"$f":"IF(ISERROR(INDEX('Employee Data'!$O$4:$O$553,MATCH(Databackup!A449,Employee_Name,0),0)),\"\",(INDEX('Employee Data'!$O$4:$O$553,MATCH(Databackup!A449,Employee_Name,0))))","v":""}]
[{"$f":"INDEX(Employee_Name,MATCH(SMALL(IF($A$1='Employee Data'!$I$4:$I$553,'Employee Data'!$B$4:$B$553,\"\"),ROW('Employee Data'!A448)),IF($A$1='Employee Data'!$I$4:$I$553,'Employee Data'!$B$4:$B$553,\"\"),0))","v":{"$error":"#NUM!"}},{"$f":"IF(ISERROR(INDEX('Employee Data'!$B$4:$B$553,MATCH(Databackup!A450,Employee_Name,0),0)),\"\",(INDEX('Employee Data'!$B$4:$B$553,MATCH(Databackup!A450,Employee_Name,0))))","v":""},{"$f":"IF(ISERROR(INDEX('Employee Data'!$C$4:$C$553,MATCH(Databackup!A450,Employee_Name,0),0)),\"\",(INDEX('Employee Data'!$C$4:$C$553,MATCH(Databackup!A450,Employee_Name,0))))","v":""},{"$f":"IF(ISERROR(INDEX('Employee Data'!$D$4:$D$553,MATCH(Databackup!A450,Employee_Name,0),0)),\"\",(INDEX('Employee Data'!$D$4:$D$553,MATCH(Databackup!A450,Employee_Name,0))))","v":""},{"$f":"IF(ISERROR(INDEX('Employee Data'!$F$4:$F$553,MATCH(Databackup!A450,Employee_Name,0),0)),\"\",(INDEX('Employee Data'!$F$4:$F$553,MATCH(Databackup!A450,Employee_Name,0))))","v":""},{"$f":"IF(ISERROR(INDEX('Employee Data'!$G$4:$G$553,MATCH(Databackup!A450,Employee_Name,0),0)),\"\",(INDEX('Employee Data'!$G$4:$G$553,MATCH(Databackup!A450,Employee_Name,0))))","v":""},{"$f":"IF(ISERROR(INDEX('Employee Data'!$H$4:$H$553,MATCH(Databackup!A450,Employee_Name,0),0)),\"\",(INDEX('Employee Data'!$H$4:$H$553,MATCH(Databackup!A450,Employee_Name,0))))","v":""},{"$f":"IF(ISERROR(INDEX('Employee Data'!$I$4:$I$553,MATCH(Databackup!A450,Employee_Name,0),0)),\"\",(INDEX('Employee Data'!$I$4:$I$553,MATCH(Databackup!A450,Employee_Name,0))))","v":""},{"$f":"IF(ISERROR(INDEX('Employee Data'!$J$4:$J$553,MATCH(Databackup!A450,Employee_Name,0),0)),\"\",(INDEX('Employee Data'!J$4:$J$553,MATCH(Databackup!A450,Employee_Name,0))))","v":""},{"$f":"IF(ISERROR(INDEX('Employee Data'!$K$4:$K$553,MATCH(Databackup!A450,Employee_Name,0),0)),\"\",(INDEX('Employee Data'!$K$4:$K$553,MATCH(Databackup!A450,Employee_Name,0))))","v":""},{"$f":"IF(ISERROR(INDEX('Employee Data'!$L$4:$L$553,MATCH(Databackup!A450,Employee_Name,0),0)),\"\",(INDEX('Employee Data'!$L$4:$L$553,MATCH(Databackup!A450,Employee_Name,0))))","v":""},{"$f":"IF(ISERROR(INDEX('Employee Data'!$M$4:$M$553,MATCH(Databackup!A450,Employee_Name,0),0)),\"\",(INDEX('Employee Data'!$M$4:$M$553,MATCH(Databackup!A450,Employee_Name,0))))","v":""},{"$f":"IF(ISERROR(INDEX('Employee Data'!$N$4:$N$553,MATCH(Databackup!A450,Employee_Name,0),0)),\"\",(INDEX('Employee Data'!$N$4:$N$553,MATCH(Databackup!A450,Employee_Name,0))))","v":""},{"$f":"IF(ISERROR(INDEX('Employee Data'!$O$4:$O$553,MATCH(Databackup!A450,Employee_Name,0),0)),\"\",(INDEX('Employee Data'!$O$4:$O$553,MATCH(Databackup!A450,Employee_Name,0))))","v":""}]
[{"$f":"INDEX(Employee_Name,MATCH(SMALL(IF($A$1='Employee Data'!$I$4:$I$553,'Employee Data'!$B$4:$B$553,\"\"),ROW('Employee Data'!A449)),IF($A$1='Employee Data'!$I$4:$I$553,'Employee Data'!$B$4:$B$553,\"\"),0))","v":{"$error":"#NUM!"}},{"$f":"IF(ISERROR(INDEX('Employee Data'!$B$4:$B$553,MATCH(Databackup!A451,Employee_Name,0),0)),\"\",(INDEX('Employee Data'!$B$4:$B$553,MATCH(Databackup!A451,Employee_Name,0))))","v":""},{"$f":"IF(ISERROR(INDEX('Employee Data'!$C$4:$C$553,MATCH(Databackup!A451,Employee_Name,0),0)),\"\",(INDEX('Employee Data'!$C$4:$C$553,MATCH(Databackup!A451,Employee_Name,0))))","v":""},{"$f":"IF(ISERROR(INDEX('Employee Data'!$D$4:$D$553,MATCH(Databackup!A451,Employee_Name,0),0)),\"\",(INDEX('Employee Data'!$D$4:$D$553,MATCH(Databackup!A451,Employee_Name,0))))","v":""},{"$f":"IF(ISERROR(INDEX('Employee Data'!$F$4:$F$553,MATCH(Databackup!A451,Employee_Name,0),0)),\"\",(INDEX('Employee Data'!$F$4:$F$553,MATCH(Databackup!A451,Employee_Name,0))))","v":""},{"$f":"IF(ISERROR(INDEX('Employee Data'!$G$4:$G$553,MATCH(Databackup!A451,Employee_Name,0),0)),\"\",(INDEX('Employee Data'!$G$4:$G$553,MATCH(Databackup!A451,Employee_Name,0))))","v":""},{"$f":"IF(ISERROR(INDEX('Employee Data'!$H$4:$H$553,MATCH(Databackup!A451,Employee_Name,0),0)),\"\",(INDEX('Employee Data'!$H$4:$H$553,MATCH(Databackup!A451,Employee_Name,0))))","v":""},{"$f":"IF(ISERROR(INDEX('Employee Data'!$I$4:$I$553,MATCH(Databackup!A451,Employee_Name,0),0)),\"\",(INDEX('Employee Data'!$I$4:$I$553,MATCH(Databackup!A451,Employee_Name,0))))","v":""},{"$f":"IF(ISERROR(INDEX('Employee Data'!$J$4:$J$553,MATCH(Databackup!A451,Employee_Name,0),0)),\"\",(INDEX('Employee Data'!J$4:$J$553,MATCH(Databackup!A451,Employee_Name,0))))","v":""},{"$f":"IF(ISERROR(INDEX('Employee Data'!$K$4:$K$553,MATCH(Databackup!A451,Employee_Name,0),0)),\"\",(INDEX('Employee Data'!$K$4:$K$553,MATCH(Databackup!A451,Employee_Name,0))))","v":""},{"$f":"IF(ISERROR(INDEX('Employee Data'!$L$4:$L$553,MATCH(Databackup!A451,Employee_Name,0),0)),\"\",(INDEX('Employee Data'!$L$4:$L$553,MATCH(Databackup!A451,Employee_Name,0))))","v":""},{"$f":"IF(ISERROR(INDEX('Employee Data'!$M$4:$M$553,MATCH(Databackup!A451,Employee_Name,0),0)),\"\",(INDEX('Employee Data'!$M$4:$M$553,MATCH(Databackup!A451,Employee_Name,0))))","v":""},{"$f":"IF(ISERROR(INDEX('Employee Data'!$N$4:$N$553,MATCH(Databackup!A451,Employee_Name,0),0)),\"\",(INDEX('Employee Data'!$N$4:$N$553,MATCH(Databackup!A451,Employee_Name,0))))","v":""},{"$f":"IF(ISERROR(INDEX('Employee Data'!$O$4:$O$553,MATCH(Databackup!A451,Employee_Name,0),0)),\"\",(INDEX('Employee Data'!$O$4:$O$553,MATCH(Databackup!A451,Employee_Name,0))))","v":""}]
[{"$f":"INDEX(Employee_Name,MATCH(SMALL(IF($A$1='Employee Data'!$I$4:$I$553,'Employee Data'!$B$4:$B$553,\"\"),ROW('Employee Data'!A450)),IF($A$1='Employee Data'!$I$4:$I$553,'Employee Data'!$B$4:$B$553,\"\"),0))","v":{"$error":"#NUM!"}},{"$f":"IF(ISERROR(INDEX('Employee Data'!$B$4:$B$553,MATCH(Databackup!A452,Employee_Name,0),0)),\"\",(INDEX('Employee Data'!$B$4:$B$553,MATCH(Databackup!A452,Employee_Name,0))))","v":""},{"$f":"IF(ISERROR(INDEX('Employee Data'!$C$4:$C$553,MATCH(Databackup!A452,Employee_Name,0),0)),\"\",(INDEX('Employee Data'!$C$4:$C$553,MATCH(Databackup!A452,Employee_Name,0))))","v":""},{"$f":"IF(ISERROR(INDEX('Employee Data'!$D$4:$D$553,MATCH(Databackup!A452,Employee_Name,0),0)),\"\",(INDEX('Employee Data'!$D$4:$D$553,MATCH(Databackup!A452,Employee_Name,0))))","v":""},{"$f":"IF(ISERROR(INDEX('Employee Data'!$F$4:$F$553,MATCH(Databackup!A452,Employee_Name,0),0)),\"\",(INDEX('Employee Data'!$F$4:$F$553,MATCH(Databackup!A452,Employee_Name,0))))","v":""},{"$f":"IF(ISERROR(INDEX('Employee Data'!$G$4:$G$553,MATCH(Databackup!A452,Employee_Name,0),0)),\"\",(INDEX('Employee Data'!$G$4:$G$553,MATCH(Databackup!A452,Employee_Name,0))))","v":""},{"$f":"IF(ISERROR(INDEX('Employee Data'!$H$4:$H$553,MATCH(Databackup!A452,Employee_Name,0),0)),\"\",(INDEX('Employee Data'!$H$4:$H$553,MATCH(Databackup!A452,Employee_Name,0))))","v":""},{"$f":"IF(ISERROR(INDEX('Employee Data'!$I$4:$I$553,MATCH(Databackup!A452,Employee_Name,0),0)),\"\",(INDEX('Employee Data'!$I$4:$I$553,MATCH(Databackup!A452,Employee_Name,0))))","v":""},{"$f":"IF(ISERROR(INDEX('Employee Data'!$J$4:$J$553,MATCH(Databackup!A452,Employee_Name,0),0)),\"\",(INDEX('Employee Data'!J$4:$J$553,MATCH(Databackup!A452,Employee_Name,0))))","v":""},{"$f":"IF(ISERROR(INDEX('Employee Data'!$K$4:$K$553,MATCH(Databackup!A452,Employee_Name,0),0)),\"\",(INDEX('Employee Data'!$K$4:$K$553,MATCH(Databackup!A452,Employee_Name,0))))","v":""},{"$f":"IF(ISERROR(INDEX('Employee Data'!$L$4:$L$553,MATCH(Databackup!A452,Employee_Name,0),0)),\"\",(INDEX('Employee Data'!$L$4:$L$553,MATCH(Databackup!A452,Employee_Name,0))))","v":""},{"$f":"IF(ISERROR(INDEX('Employee Data'!$M$4:$M$553,MATCH(Databackup!A452,Employee_Name,0),0)),\"\",(INDEX('Employee Data'!$M$4:$M$553,MATCH(Databackup!A452,Employee_Name,0))))","v":""},{"$f":"IF(ISERROR(INDEX('Employee Data'!$N$4:$N$553,MATCH(Databackup!A452,Employee_Name,0),0)),\"\",(INDEX('Employee Data'!$N$4:$N$553,MATCH(Databackup!A452,Employee_Name,0))))","v":""},{"$f":"IF(ISERROR(INDEX('Employee Data'!$O$4:$O$553,MATCH(Databackup!A452,Employee_Name,0),0)),\"\",(INDEX('Employee Data'!$O$4:$O$553,MATCH(Databackup!A452,Employee_Name,0))))","v":""}]
[{"$f":"INDEX(Employee_Name,MATCH(SMALL(IF($A$1='Employee Data'!$I$4:$I$553,'Employee Data'!$B$4:$B$553,\"\"),ROW('Employee Data'!A451)),IF($A$1='Employee Data'!$I$4:$I$553,'Employee Data'!$B$4:$B$553,\"\"),0))","v":{"$error":"#NUM!"}},{"$f":"IF(ISERROR(INDEX('Employee Data'!$B$4:$B$553,MATCH(Databackup!A453,Employee_Name,0),0)),\"\",(INDEX('Employee Data'!$B$4:$B$553,MATCH(Databackup!A453,Employee_Name,0))))","v":""},{"$f":"IF(ISERROR(INDEX('Employee Data'!$C$4:$C$553,MATCH(Databackup!A453,Employee_Name,0),0)),\"\",(INDEX('Employee Data'!$C$4:$C$553,MATCH(Databackup!A453,Employee_Name,0))))","v":""},{"$f":"IF(ISERROR(INDEX('Employee Data'!$D$4:$D$553,MATCH(Databackup!A453,Employee_Name,0),0)),\"\",(INDEX('Employee Data'!$D$4:$D$553,MATCH(Databackup!A453,Employee_Name,0))))","v":""},{"$f":"IF(ISERROR(INDEX('Employee Data'!$F$4:$F$553,MATCH(Databackup!A453,Employee_Name,0),0)),\"\",(INDEX('Employee Data'!$F$4:$F$553,MATCH(Databackup!A453,Employee_Name,0))))","v":""},{"$f":"IF(ISERROR(INDEX('Employee Data'!$G$4:$G$553,MATCH(Databackup!A453,Employee_Name,0),0)),\"\",(INDEX('Employee Data'!$G$4:$G$553,MATCH(Databackup!A453,Employee_Name,0))))","v":""},{"$f":"IF(ISERROR(INDEX('Employee Data'!$H$4:$H$553,MATCH(Databackup!A453,Employee_Name,0),0)),\"\",(INDEX('Employee Data'!$H$4:$H$553,MATCH(Databackup!A453,Employee_Name,0))))","v":""},{"$f":"IF(ISERROR(INDEX('Employee Data'!$I$4:$I$553,MATCH(Databackup!A453,Employee_Name,0),0)),\"\",(INDEX('Employee Data'!$I$4:$I$553,MATCH(Databackup!A453,Employee_Name,0))))","v":""},{"$f":"IF(ISERROR(INDEX('Employee Data'!$J$4:$J$553,MATCH(Databackup!A453,Employee_Name,0),0)),\"\",(INDEX('Employee Data'!J$4:$J$553,MATCH(Databackup!A453,Employee_Name,0))))","v":""},{"$f":"IF(ISERROR(INDEX('Employee Data'!$K$4:$K$553,MATCH(Databackup!A453,Employee_Name,0),0)),\"\",(INDEX('Employee Data'!$K$4:$K$553,MATCH(Databackup!A453,Employee_Name,0))))","v":""},{"$f":"IF(ISERROR(INDEX('Employee Data'!$L$4:$L$553,MATCH(Databackup!A453,Employee_Name,0),0)),\"\",(INDEX('Employee Data'!$L$4:$L$553,MATCH(Databackup!A453,Employee_Name,0))))","v":""},{"$f":"IF(ISERROR(INDEX('Employee Data'!$M$4:$M$553,MATCH(Databackup!A453,Employee_Name,0),0)),\"\",(INDEX('Employee Data'!$M$4:$M$553,MATCH(Databackup!A453,Employee_Name,0))))","v":""},{"$f":"IF(ISERROR(INDEX('Employee Data'!$N$4:$N$553,MATCH(Databackup!A453,Employee_Name,0),0)),\"\",(INDEX('Employee Data'!$N$4:$N$553,MATCH(Databackup!A453,Employee_Name,0))))","v":""},{"$f":"IF(ISERROR(INDEX('Employee Data'!$O$4:$O$553,MATCH(Databackup!A453,Employee_Name,0),0)),\"\",(INDEX('Employee Data'!$O$4:$O$553,MATCH(Databackup!A453,Employee_Name,0))))","v":""}]
[{"$f":"INDEX(Employee_Name,MATCH(SMALL(IF($A$1='Employee Data'!$I$4:$I$553,'Employee Data'!$B$4:$B$553,\"\"),ROW('Employee Data'!A452)),IF($A$1='Employee Data'!$I$4:$I$553,'Employee Data'!$B$4:$B$553,\"\"),0))","v":{"$error":"#NUM!"}},{"$f":"IF(ISERROR(INDEX('Employee Data'!$B$4:$B$553,MATCH(Databackup!A454,Employee_Name,0),0)),\"\",(INDEX('Employee Data'!$B$4:$B$553,MATCH(Databackup!A454,Employee_Name,0))))","v":""},{"$f":"IF(ISERROR(INDEX('Employee Data'!$C$4:$C$553,MATCH(Databackup!A454,Employee_Name,0),0)),\"\",(INDEX('Employee Data'!$C$4:$C$553,MATCH(Databackup!A454,Employee_Name,0))))","v":""},{"$f":"IF(ISERROR(INDEX('Employee Data'!$D$4:$D$553,MATCH(Databackup!A454,Employee_Name,0),0)),\"\",(INDEX('Employee Data'!$D$4:$D$553,MATCH(Databackup!A454,Employee_Name,0))))","v":""},{"$f":"IF(ISERROR(INDEX('Employee Data'!$F$4:$F$553,MATCH(Databackup!A454,Employee_Name,0),0)),\"\",(INDEX('Employee Data'!$F$4:$F$553,MATCH(Databackup!A454,Employee_Name,0))))","v":""},{"$f":"IF(ISERROR(INDEX('Employee Data'!$G$4:$G$553,MATCH(Databackup!A454,Employee_Name,0),0)),\"\",(INDEX('Employee Data'!$G$4:$G$553,MATCH(Databackup!A454,Employee_Name,0))))","v":""},{"$f":"IF(ISERROR(INDEX('Employee Data'!$H$4:$H$553,MATCH(Databackup!A454,Employee_Name,0),0)),\"\",(INDEX('Employee Data'!$H$4:$H$553,MATCH(Databackup!A454,Employee_Name,0))))","v":""},{"$f":"IF(ISERROR(INDEX('Employee Data'!$I$4:$I$553,MATCH(Databackup!A454,Employee_Name,0),0)),\"\",(INDEX('Employee Data'!$I$4:$I$553,MATCH(Databackup!A454,Employee_Name,0))))","v":""},{"$f":"IF(ISERROR(INDEX('Employee Data'!$J$4:$J$553,MATCH(Databackup!A454,Employee_Name,0),0)),\"\",(INDEX('Employee Data'!J$4:$J$553,MATCH(Databackup!A454,Employee_Name,0))))","v":""},{"$f":"IF(ISERROR(INDEX('Employee Data'!$K$4:$K$553,MATCH(Databackup!A454,Employee_Name,0),0)),\"\",(INDEX('Employee Data'!$K$4:$K$553,MATCH(Databackup!A454,Employee_Name,0))))","v":""},{"$f":"IF(ISERROR(INDEX('Employee Data'!$L$4:$L$553,MATCH(Databackup!A454,Employee_Name,0),0)),\"\",(INDEX('Employee Data'!$L$4:$L$553,MATCH(Databackup!A454,Employee_Name,0))))","v":""},{"$f":"IF(ISERROR(INDEX('Employee Data'!$M$4:$M$553,MATCH(Databackup!A454,Employee_Name,0),0)),\"\",(INDEX('Employee Data'!$M$4:$M$553,MATCH(Databackup!A454,Employee_Name,0))))","v":""},{"$f":"IF(ISERROR(INDEX('Employee Data'!$N$4:$N$553,MATCH(Databackup!A454,Employee_Name,0),0)),\"\",(INDEX('Employee Data'!$N$4:$N$553,MATCH(Databackup!A454,Employee_Name,0))))","v":""},{"$f":"IF(ISERROR(INDEX('Employee Data'!$O$4:$O$553,MATCH(Databackup!A454,Employee_Name,0),0)),\"\",(INDEX('Employee Data'!$O$4:$O$553,MATCH(Databackup!A454,Employee_Name,0))))","v":""}]
[{"$f":"INDEX(Employee_Name,MATCH(SMALL(IF($A$1='Employee Data'!$I$4:$I$553,'Employee Data'!$B$4:$B$553,\"\"),ROW('Employee Data'!A453)),IF($A$1='Employee Data'!$I$4:$I$553,'Employee Data'!$B$4:$B$553,\"\"),0))","v":{"$error":"#NUM!"}},{"$f":"IF(ISERROR(INDEX('Employee Data'!$B$4:$B$553,MATCH(Databackup!A455,Employee_Name,0),0)),\"\",(INDEX('Employee Data'!$B$4:$B$553,MATCH(Databackup!A455,Employee_Name,0))))","v":""},{"$f":"IF(ISERROR(INDEX('Employee Data'!$C$4:$C$553,MATCH(Databackup!A455,Employee_Name,0),0)),\"\",(INDEX('Employee Data'!$C$4:$C$553,MATCH(Databackup!A455,Employee_Name,0))))","v":""},{"$f":"IF(ISERROR(INDEX('Employee Data'!$D$4:$D$553,MATCH(Databackup!A455,Employee_Name,0),0)),\"\",(INDEX('Employee Data'!$D$4:$D$553,MATCH(Databackup!A455,Employee_Name,0))))","v":""},{"$f":"IF(ISERROR(INDEX('Employee Data'!$F$4:$F$553,MATCH(Databackup!A455,Employee_Name,0),0)),\"\",(INDEX('Employee Data'!$F$4:$F$553,MATCH(Databackup!A455,Employee_Name,0))))","v":""},{"$f":"IF(ISERROR(INDEX('Employee Data'!$G$4:$G$553,MATCH(Databackup!A455,Employee_Name,0),0)),\"\",(INDEX('Employee Data'!$G$4:$G$553,MATCH(Databackup!A455,Employee_Name,0))))","v":""},{"$f":"IF(ISERROR(INDEX('Employee Data'!$H$4:$H$553,MATCH(Databackup!A455,Employee_Name,0),0)),\"\",(INDEX('Employee Data'!$H$4:$H$553,MATCH(Databackup!A455,Employee_Name,0))))","v":""},{"$f":"IF(ISERROR(INDEX('Employee Data'!$I$4:$I$553,MATCH(Databackup!A455,Employee_Name,0),0)),\"\",(INDEX('Employee Data'!$I$4:$I$553,MATCH(Databackup!A455,Employee_Name,0))))","v":""},{"$f":"IF(ISERROR(INDEX('Employee Data'!$J$4:$J$553,MATCH(Databackup!A455,Employee_Name,0),0)),\"\",(INDEX('Employee Data'!J$4:$J$553,MATCH(Databackup!A455,Employee_Name,0))))","v":""},{"$f":"IF(ISERROR(INDEX('Employee Data'!$K$4:$K$553,MATCH(Databackup!A455,Employee_Name,0),0)),\"\",(INDEX('Employee Data'!$K$4:$K$553,MATCH(Databackup!A455,Employee_Name,0))))","v":""},{"$f":"IF(ISERROR(INDEX('Employee Data'!$L$4:$L$553,MATCH(Databackup!A455,Employee_Name,0),0)),\"\",(INDEX('Employee Data'!$L$4:$L$553,MATCH(Databackup!A455,Employee_Name,0))))","v":""},{"$f":"IF(ISERROR(INDEX('Employee Data'!$M$4:$M$553,MATCH(Databackup!A455,Employee_Name,0),0)),\"\",(INDEX('Employee Data'!$M$4:$M$553,MATCH(Databackup!A455,Employee_Name,0))))","v":""},{"$f":"IF(ISERROR(INDEX('Employee Data'!$N$4:$N$553,MATCH(Databackup!A455,Employee_Name,0),0)),\"\",(INDEX('Employee Data'!$N$4:$N$553,MATCH(Databackup!A455,Employee_Name,0))))","v":""},{"$f":"IF(ISERROR(INDEX('Employee Data'!$O$4:$O$553,MATCH(Databackup!A455,Employee_Name,0),0)),\"\",(INDEX('Employee Data'!$O$4:$O$553,MATCH(Databackup!A455,Employee_Name,0))))","v":""}]
[{"$f":"INDEX(Employee_Name,MATCH(SMALL(IF($A$1='Employee Data'!$I$4:$I$553,'Employee Data'!$B$4:$B$553,\"\"),ROW('Employee Data'!A454)),IF($A$1='Employee Data'!$I$4:$I$553,'Employee Data'!$B$4:$B$553,\"\"),0))","v":{"$error":"#NUM!"}},{"$f":"IF(ISERROR(INDEX('Employee Data'!$B$4:$B$553,MATCH(Databackup!A456,Employee_Name,0),0)),\"\",(INDEX('Employee Data'!$B$4:$B$553,MATCH(Databackup!A456,Employee_Name,0))))","v":""},{"$f":"IF(ISERROR(INDEX('Employee Data'!$C$4:$C$553,MATCH(Databackup!A456,Employee_Name,0),0)),\"\",(INDEX('Employee Data'!$C$4:$C$553,MATCH(Databackup!A456,Employee_Name,0))))","v":""},{"$f":"IF(ISERROR(INDEX('Employee Data'!$D$4:$D$553,MATCH(Databackup!A456,Employee_Name,0),0)),\"\",(INDEX('Employee Data'!$D$4:$D$553,MATCH(Databackup!A456,Employee_Name,0))))","v":""},{"$f":"IF(ISERROR(INDEX('Employee Data'!$F$4:$F$553,MATCH(Databackup!A456,Employee_Name,0),0)),\"\",(INDEX('Employee Data'!$F$4:$F$553,MATCH(Databackup!A456,Employee_Name,0))))","v":""},{"$f":"IF(ISERROR(INDEX('Employee Data'!$G$4:$G$553,MATCH(Databackup!A456,Employee_Name,0),0)),\"\",(INDEX('Employee Data'!$G$4:$G$553,MATCH(Databackup!A456,Employee_Name,0))))","v":""},{"$f":"IF(ISERROR(INDEX('Employee Data'!$H$4:$H$553,MATCH(Databackup!A456,Employee_Name,0),0)),\"\",(INDEX('Employee Data'!$H$4:$H$553,MATCH(Databackup!A456,Employee_Name,0))))","v":""},{"$f":"IF(ISERROR(INDEX('Employee Data'!$I$4:$I$553,MATCH(Databackup!A456,Employee_Name,0),0)),\"\",(INDEX('Employee Data'!$I$4:$I$553,MATCH(Databackup!A456,Employee_Name,0))))","v":""},{"$f":"IF(ISERROR(INDEX('Employee Data'!$J$4:$J$553,MATCH(Databackup!A456,Employee_Name,0),0)),\"\",(INDEX('Employee Data'!J$4:$J$553,MATCH(Databackup!A456,Employee_Name,0))))","v":""},{"$f":"IF(ISERROR(INDEX('Employee Data'!$K$4:$K$553,MATCH(Databackup!A456,Employee_Name,0),0)),\"\",(INDEX('Employee Data'!$K$4:$K$553,MATCH(Databackup!A456,Employee_Name,0))))","v":""},{"$f":"IF(ISERROR(INDEX('Employee Data'!$L$4:$L$553,MATCH(Databackup!A456,Employee_Name,0),0)),\"\",(INDEX('Employee Data'!$L$4:$L$553,MATCH(Databackup!A456,Employee_Name,0))))","v":""},{"$f":"IF(ISERROR(INDEX('Employee Data'!$M$4:$M$553,MATCH(Databackup!A456,Employee_Name,0),0)),\"\",(INDEX('Employee Data'!$M$4:$M$553,MATCH(Databackup!A456,Employee_Name,0))))","v":""},{"$f":"IF(ISERROR(INDEX('Employee Data'!$N$4:$N$553,MATCH(Databackup!A456,Employee_Name,0),0)),\"\",(INDEX('Employee Data'!$N$4:$N$553,MATCH(Databackup!A456,Employee_Name,0))))","v":""},{"$f":"IF(ISERROR(INDEX('Employee Data'!$O$4:$O$553,MATCH(Databackup!A456,Employee_Name,0),0)),\"\",(INDEX('Employee Data'!$O$4:$O$553,MATCH(Databackup!A456,Employee_Name,0))))","v":""}]
[{"$f":"INDEX(Employee_Name,MATCH(SMALL(IF($A$1='Employee Data'!$I$4:$I$553,'Employee Data'!$B$4:$B$553,\"\"),ROW('Employee Data'!A455)),IF($A$1='Employee Data'!$I$4:$I$553,'Employee Data'!$B$4:$B$553,\"\"),0))","v":{"$error":"#NUM!"}},{"$f":"IF(ISERROR(INDEX('Employee Data'!$B$4:$B$553,MATCH(Databackup!A457,Employee_Name,0),0)),\"\",(INDEX('Employee Data'!$B$4:$B$553,MATCH(Databackup!A457,Employee_Name,0))))","v":""},{"$f":"IF(ISERROR(INDEX('Employee Data'!$C$4:$C$553,MATCH(Databackup!A457,Employee_Name,0),0)),\"\",(INDEX('Employee Data'!$C$4:$C$553,MATCH(Databackup!A457,Employee_Name,0))))","v":""},{"$f":"IF(ISERROR(INDEX('Employee Data'!$D$4:$D$553,MATCH(Databackup!A457,Employee_Name,0),0)),\"\",(INDEX('Employee Data'!$D$4:$D$553,MATCH(Databackup!A457,Employee_Name,0))))","v":""},{"$f":"IF(ISERROR(INDEX('Employee Data'!$F$4:$F$553,MATCH(Databackup!A457,Employee_Name,0),0)),\"\",(INDEX('Employee Data'!$F$4:$F$553,MATCH(Databackup!A457,Employee_Name,0))))","v":""},{"$f":"IF(ISERROR(INDEX('Employee Data'!$G$4:$G$553,MATCH(Databackup!A457,Employee_Name,0),0)),\"\",(INDEX('Employee Data'!$G$4:$G$553,MATCH(Databackup!A457,Employee_Name,0))))","v":""},{"$f":"IF(ISERROR(INDEX('Employee Data'!$H$4:$H$553,MATCH(Databackup!A457,Employee_Name,0),0)),\"\",(INDEX('Employee Data'!$H$4:$H$553,MATCH(Databackup!A457,Employee_Name,0))))","v":""},{"$f":"IF(ISERROR(INDEX('Employee Data'!$I$4:$I$553,MATCH(Databackup!A457,Employee_Name,0),0)),\"\",(INDEX('Employee Data'!$I$4:$I$553,MATCH(Databackup!A457,Employee_Name,0))))","v":""},{"$f":"IF(ISERROR(INDEX('Employee Data'!$J$4:$J$553,MATCH(Databackup!A457,Employee_Name,0),0)),\"\",(INDEX('Employee Data'!J$4:$J$553,MATCH(Databackup!A457,Employee_Name,0))))","v":""},{"$f":"IF(ISERROR(INDEX('Employee Data'!$K$4:$K$553,MATCH(Databackup!A457,Employee_Name,0),0)),\"\",(INDEX('Employee Data'!$K$4:$K$553,MATCH(Databackup!A457,Employee_Name,0))))","v":""},{"$f":"IF(ISERROR(INDEX('Employee Data'!$L$4:$L$553,MATCH(Databackup!A457,Employee_Name,0),0)),\"\",(INDEX('Employee Data'!$L$4:$L$553,MATCH(Databackup!A457,Employee_Name,0))))","v":""},{"$f":"IF(ISERROR(INDEX('Employee Data'!$M$4:$M$553,MATCH(Databackup!A457,Employee_Name,0),0)),\"\",(INDEX('Employee Data'!$M$4:$M$553,MATCH(Databackup!A457,Employee_Name,0))))","v":""},{"$f":"IF(ISERROR(INDEX('Employee Data'!$N$4:$N$553,MATCH(Databackup!A457,Employee_Name,0),0)),\"\",(INDEX('Employee Data'!$N$4:$N$553,MATCH(Databackup!A457,Employee_Name,0))))","v":""},{"$f":"IF(ISERROR(INDEX('Employee Data'!$O$4:$O$553,MATCH(Databackup!A457,Employee_Name,0),0)),\"\",(INDEX('Employee Data'!$O$4:$O$553,MATCH(Databackup!A457,Employee_Name,0))))","v":""}]
[{"$f":"INDEX(Employee_Name,MATCH(SMALL(IF($A$1='Employee Data'!$I$4:$I$553,'Employee Data'!$B$4:$B$553,\"\"),ROW('Employee Data'!A456)),IF($A$1='Employee Data'!$I$4:$I$553,'Employee Data'!$B$4:$B$553,\"\"),0))","v":{"$error":"#NUM!"}},{"$f":"IF(ISERROR(INDEX('Employee Data'!$B$4:$B$553,MATCH(Databackup!A458,Employee_Name,0),0)),\"\",(INDEX('Employee Data'!$B$4:$B$553,MATCH(Databackup!A458,Employee_Name,0))))","v":""},{"$f":"IF(ISERROR(INDEX('Employee Data'!$C$4:$C$553,MATCH(Databackup!A458,Employee_Name,0),0)),\"\",(INDEX('Employee Data'!$C$4:$C$553,MATCH(Databackup!A458,Employee_Name,0))))","v":""},{"$f":"IF(ISERROR(INDEX('Employee Data'!$D$4:$D$553,MATCH(Databackup!A458,Employee_Name,0),0)),\"\",(INDEX('Employee Data'!$D$4:$D$553,MATCH(Databackup!A458,Employee_Name,0))))","v":""},{"$f":"IF(ISERROR(INDEX('Employee Data'!$F$4:$F$553,MATCH(Databackup!A458,Employee_Name,0),0)),\"\",(INDEX('Employee Data'!$F$4:$F$553,MATCH(Databackup!A458,Employee_Name,0))))","v":""},{"$f":"IF(ISERROR(INDEX('Employee Data'!$G$4:$G$553,MATCH(Databackup!A458,Employee_Name,0),0)),\"\",(INDEX('Employee Data'!$G$4:$G$553,MATCH(Databackup!A458,Employee_Name,0))))","v":""},{"$f":"IF(ISERROR(INDEX('Employee Data'!$H$4:$H$553,MATCH(Databackup!A458,Employee_Name,0),0)),\"\",(INDEX('Employee Data'!$H$4:$H$553,MATCH(Databackup!A458,Employee_Name,0))))","v":""},{"$f":"IF(ISERROR(INDEX('Employee Data'!$I$4:$I$553,MATCH(Databackup!A458,Employee_Name,0),0)),\"\",(INDEX('Employee Data'!$I$4:$I$553,MATCH(Databackup!A458,Employee_Name,0))))","v":""},{"$f":"IF(ISERROR(INDEX('Employee Data'!$J$4:$J$553,MATCH(Databackup!A458,Employee_Name,0),0)),\"\",(INDEX('Employee Data'!J$4:$J$553,MATCH(Databackup!A458,Employee_Name,0))))","v":""},{"$f":"IF(ISERROR(INDEX('Employee Data'!$K$4:$K$553,MATCH(Databackup!A458,Employee_Name,0),0)),\"\",(INDEX('Employee Data'!$K$4:$K$553,MATCH(Databackup!A458,Employee_Name,0))))","v":""},{"$f":"IF(ISERROR(INDEX('Employee Data'!$L$4:$L$553,MATCH(Databackup!A458,Employee_Name,0),0)),\"\",(INDEX('Employee Data'!$L$4:$L$553,MATCH(Databackup!A458,Employee_Name,0))))","v":""},{"$f":"IF(ISERROR(INDEX('Employee Data'!$M$4:$M$553,MATCH(Databackup!A458,Employee_Name,0),0)),\"\",(INDEX('Employee Data'!$M$4:$M$553,MATCH(Databackup!A458,Employee_Name,0))))","v":""},{"$f":"IF(ISERROR(INDEX('Employee Data'!$N$4:$N$553,MATCH(Databackup!A458,Employee_Name,0),0)),\"\",(INDEX('Employee Data'!$N$4:$N$553,MATCH(Databackup!A458,Employee_Name,0))))","v":""},{"$f":"IF(ISERROR(INDEX('Employee Data'!$O$4:$O$553,MATCH(Databackup!A458,Employee_Name,0),0)),\"\",(INDEX('Employee Data'!$O$4:$O$553,MATCH(Databackup!A458,Employee_Name,0))))","v":""}]
[{"$f":"INDEX(Employee_Name,MATCH(SMALL(IF($A$1='Employee Data'!$I$4:$I$553,'Employee Data'!$B$4:$B$553,\"\"),ROW('Employee Data'!A457)),IF($A$1='Employee Data'!$I$4:$I$553,'Employee Data'!$B$4:$B$553,\"\"),0))","v":{"$error":"#NUM!"}},{"$f":"IF(ISERROR(INDEX('Employee Data'!$B$4:$B$553,MATCH(Databackup!A459,Employee_Name,0),0)),\"\",(INDEX('Employee Data'!$B$4:$B$553,MATCH(Databackup!A459,Employee_Name,0))))","v":""},{"$f":"IF(ISERROR(INDEX('Employee Data'!$C$4:$C$553,MATCH(Databackup!A459,Employee_Name,0),0)),\"\",(INDEX('Employee Data'!$C$4:$C$553,MATCH(Databackup!A459,Employee_Name,0))))","v":""},{"$f":"IF(ISERROR(INDEX('Employee Data'!$D$4:$D$553,MATCH(Databackup!A459,Employee_Name,0),0)),\"\",(INDEX('Employee Data'!$D$4:$D$553,MATCH(Databackup!A459,Employee_Name,0))))","v":""},{"$f":"IF(ISERROR(INDEX('Employee Data'!$F$4:$F$553,MATCH(Databackup!A459,Employee_Name,0),0)),\"\",(INDEX('Employee Data'!$F$4:$F$553,MATCH(Databackup!A459,Employee_Name,0))))","v":""},{"$f":"IF(ISERROR(INDEX('Employee Data'!$G$4:$G$553,MATCH(Databackup!A459,Employee_Name,0),0)),\"\",(INDEX('Employee Data'!$G$4:$G$553,MATCH(Databackup!A459,Employee_Name,0))))","v":""},{"$f":"IF(ISERROR(INDEX('Employee Data'!$H$4:$H$553,MATCH(Databackup!A459,Employee_Name,0),0)),\"\",(INDEX('Employee Data'!$H$4:$H$553,MATCH(Databackup!A459,Employee_Name,0))))","v":""},{"$f":"IF(ISERROR(INDEX('Employee Data'!$I$4:$I$553,MATCH(Databackup!A459,Employee_Name,0),0)),\"\",(INDEX('Employee Data'!$I$4:$I$553,MATCH(Databackup!A459,Employee_Name,0))))","v":""},{"$f":"IF(ISERROR(INDEX('Employee Data'!$J$4:$J$553,MATCH(Databackup!A459,Employee_Name,0),0)),\"\",(INDEX('Employee Data'!J$4:$J$553,MATCH(Databackup!A459,Employee_Name,0))))","v":""},{"$f":"IF(ISERROR(INDEX('Employee Data'!$K$4:$K$553,MATCH(Databackup!A459,Employee_Name,0),0)),\"\",(INDEX('Employee Data'!$K$4:$K$553,MATCH(Databackup!A459,Employee_Name,0))))","v":""},{"$f":"IF(ISERROR(INDEX('Employee Data'!$L$4:$L$553,MATCH(Databackup!A459,Employee_Name,0),0)),\"\",(INDEX('Employee Data'!$L$4:$L$553,MATCH(Databackup!A459,Employee_Name,0))))","v":""},{"$f":"IF(ISERROR(INDEX('Employee Data'!$M$4:$M$553,MATCH(Databackup!A459,Employee_Name,0),0)),\"\",(INDEX('Employee Data'!$M$4:$M$553,MATCH(Databackup!A459,Employee_Name,0))))","v":""},{"$f":"IF(ISERROR(INDEX('Employee Data'!$N$4:$N$553,MATCH(Databackup!A459,Employee_Name,0),0)),\"\",(INDEX('Employee Data'!$N$4:$N$553,MATCH(Databackup!A459,Employee_Name,0))))","v":""},{"$f":"IF(ISERROR(INDEX('Employee Data'!$O$4:$O$553,MATCH(Databackup!A459,Employee_Name,0),0)),\"\",(INDEX('Employee Data'!$O$4:$O$553,MATCH(Databackup!A459,Employee_Name,0))))","v":""}]
[{"$f":"INDEX(Employee_Name,MATCH(SMALL(IF($A$1='Employee Data'!$I$4:$I$553,'Employee Data'!$B$4:$B$553,\"\"),ROW('Employee Data'!A458)),IF($A$1='Employee Data'!$I$4:$I$553,'Employee Data'!$B$4:$B$553,\"\"),0))","v":{"$error":"#NUM!"}},{"$f":"IF(ISERROR(INDEX('Employee Data'!$B$4:$B$553,MATCH(Databackup!A460,Employee_Name,0),0)),\"\",(INDEX('Employee Data'!$B$4:$B$553,MATCH(Databackup!A460,Employee_Name,0))))","v":""},{"$f":"IF(ISERROR(INDEX('Employee Data'!$C$4:$C$553,MATCH(Databackup!A460,Employee_Name,0),0)),\"\",(INDEX('Employee Data'!$C$4:$C$553,MATCH(Databackup!A460,Employee_Name,0))))","v":""},{"$f":"IF(ISERROR(INDEX('Employee Data'!$D$4:$D$553,MATCH(Databackup!A460,Employee_Name,0),0)),\"\",(INDEX('Employee Data'!$D$4:$D$553,MATCH(Databackup!A460,Employee_Name,0))))","v":""},{"$f":"IF(ISERROR(INDEX('Employee Data'!$F$4:$F$553,MATCH(Databackup!A460,Employee_Name,0),0)),\"\",(INDEX('Employee Data'!$F$4:$F$553,MATCH(Databackup!A460,Employee_Name,0))))","v":""},{"$f":"IF(ISERROR(INDEX('Employee Data'!$G$4:$G$553,MATCH(Databackup!A460,Employee_Name,0),0)),\"\",(INDEX('Employee Data'!$G$4:$G$553,MATCH(Databackup!A460,Employee_Name,0))))","v":""},{"$f":"IF(ISERROR(INDEX('Employee Data'!$H$4:$H$553,MATCH(Databackup!A460,Employee_Name,0),0)),\"\",(INDEX('Employee Data'!$H$4:$H$553,MATCH(Databackup!A460,Employee_Name,0))))","v":""},{"$f":"IF(ISERROR(INDEX('Employee Data'!$I$4:$I$553,MATCH(Databackup!A460,Employee_Name,0),0)),\"\",(INDEX('Employee Data'!$I$4:$I$553,MATCH(Databackup!A460,Employee_Name,0))))","v":""},{"$f":"IF(ISERROR(INDEX('Employee Data'!$J$4:$J$553,MATCH(Databackup!A460,Employee_Name,0),0)),\"\",(INDEX('Employee Data'!J$4:$J$553,MATCH(Databackup!A460,Employee_Name,0))))","v":""},{"$f":"IF(ISERROR(INDEX('Employee Data'!$K$4:$K$553,MATCH(Databackup!A460,Employee_Name,0),0)),\"\",(INDEX('Employee Data'!$K$4:$K$553,MATCH(Databackup!A460,Employee_Name,0))))","v":""},{"$f":"IF(ISERROR(INDEX('Employee Data'!$L$4:$L$553,MATCH(Databackup!A460,Employee_Name,0),0)),\"\",(INDEX('Employee Data'!$L$4:$L$553,MATCH(Databackup!A460,Employee_Name,0))))","v":""},{"$f":"IF(ISERROR(INDEX('Employee Data'!$M$4:$M$553,MATCH(Databackup!A460,Employee_Name,0),0)),\"\",(INDEX('Employee Data'!$M$4:$M$553,MATCH(Databackup!A460,Employee_Name,0))))","v":""},{"$f":"IF(ISERROR(INDEX('Employee Data'!$N$4:$N$553,MATCH(Databackup!A460,Employee_Name,0),0)),\"\",(INDEX('Employee Data'!$N$4:$N$553,MATCH(Databackup!A460,Employee_Name,0))))","v":""},{"$f":"IF(ISERROR(INDEX('Employee Data'!$O$4:$O$553,MATCH(Databackup!A460,Employee_Name,0),0)),\"\",(INDEX('Employee Data'!$O$4:$O$553,MATCH(Databackup!A460,Employee_Name,0))))","v":""}]
[{"$f":"INDEX(Employee_Name,MATCH(SMALL(IF($A$1='Employee Data'!$I$4:$I$553,'Employee Data'!$B$4:$B$553,\"\"),ROW('Employee Data'!A459)),IF($A$1='Employee Data'!$I$4:$I$553,'Employee Data'!$B$4:$B$553,\"\"),0))","v":{"$error":"#NUM!"}},{"$f":"IF(ISERROR(INDEX('Employee Data'!$B$4:$B$553,MATCH(Databackup!A461,Employee_Name,0),0)),\"\",(INDEX('Employee Data'!$B$4:$B$553,MATCH(Databackup!A461,Employee_Name,0))))","v":""},{"$f":"IF(ISERROR(INDEX('Employee Data'!$C$4:$C$553,MATCH(Databackup!A461,Employee_Name,0),0)),\"\",(INDEX('Employee Data'!$C$4:$C$553,MATCH(Databackup!A461,Employee_Name,0))))","v":""},{"$f":"IF(ISERROR(INDEX('Employee Data'!$D$4:$D$553,MATCH(Databackup!A461,Employee_Name,0),0)),\"\",(INDEX('Employee Data'!$D$4:$D$553,MATCH(Databackup!A461,Employee_Name,0))))","v":""},{"$f":"IF(ISERROR(INDEX('Employee Data'!$F$4:$F$553,MATCH(Databackup!A461,Employee_Name,0),0)),\"\",(INDEX('Employee Data'!$F$4:$F$553,MATCH(Databackup!A461,Employee_Name,0))))","v":""},{"$f":"IF(ISERROR(INDEX('Employee Data'!$G$4:$G$553,MATCH(Databackup!A461,Employee_Name,0),0)),\"\",(INDEX('Employee Data'!$G$4:$G$553,MATCH(Databackup!A461,Employee_Name,0))))","v":""},{"$f":"IF(ISERROR(INDEX('Employee Data'!$H$4:$H$553,MATCH(Databackup!A461,Employee_Name,0),0)),\"\",(INDEX('Employee Data'!$H$4:$H$553,MATCH(Databackup!A461,Employee_Name,0))))","v":""},{"$f":"IF(ISERROR(INDEX('Employee Data'!$I$4:$I$553,MATCH(Databackup!A461,Employee_Name,0),0)),\"\",(INDEX('Employee Data'!$I$4:$I$553,MATCH(Databackup!A461,Employee_Name,0))))","v":""},{"$f":"IF(ISERROR(INDEX('Employee Data'!$J$4:$J$553,MATCH(Databackup!A461,Employee_Name,0),0)),\"\",(INDEX('Employee Data'!J$4:$J$553,MATCH(Databackup!A461,Employee_Name,0))))","v":""},{"$f":"IF(ISERROR(INDEX('Employee Data'!$K$4:$K$553,MATCH(Databackup!A461,Employee_Name,0),0)),\"\",(INDEX('Employee Data'!$K$4:$K$553,MATCH(Databackup!A461,Employee_Name,0))))","v":""},{"$f":"IF(ISERROR(INDEX('Employee Data'!$L$4:$L$553,MATCH(Databackup!A461,Employee_Name,0),0)),\"\",(INDEX('Employee Data'!$L$4:$L$553,MATCH(Databackup!A461,Employee_Name,0))))","v":""},{"$f":"IF(ISERROR(INDEX('Employee Data'!$M$4:$M$553,MATCH(Databackup!A461,Employee_Name,0),0)),\"\",(INDEX('Employee Data'!$M$4:$M$553,MATCH(Databackup!A461,Employee_Name,0))))","v":""},{"$f":"IF(ISERROR(INDEX('Employee Data'!$N$4:$N$553,MATCH(Databackup!A461,Employee_Name,0),0)),\"\",(INDEX('Employee Data'!$N$4:$N$553,MATCH(Databackup!A461,Employee_Name,0))))","v":""},{"$f":"IF(ISERROR(INDEX('Employee Data'!$O$4:$O$553,MATCH(Databackup!A461,Employee_Name,0),0)),\"\",(INDEX('Employee Data'!$O$4:$O$553,MATCH(Databackup!A461,Employee_Name,0))))","v":""}]
[{"$f":"INDEX(Employee_Name,MATCH(SMALL(IF($A$1='Employee Data'!$I$4:$I$553,'Employee Data'!$B$4:$B$553,\"\"),ROW('Employee Data'!A460)),IF($A$1='Employee Data'!$I$4:$I$553,'Employee Data'!$B$4:$B$553,\"\"),0))","v":{"$error":"#NUM!"}},{"$f":"IF(ISERROR(INDEX('Employee Data'!$B$4:$B$553,MATCH(Databackup!A462,Employee_Name,0),0)),\"\",(INDEX('Employee Data'!$B$4:$B$553,MATCH(Databackup!A462,Employee_Name,0))))","v":""},{"$f":"IF(ISERROR(INDEX('Employee Data'!$C$4:$C$553,MATCH(Databackup!A462,Employee_Name,0),0)),\"\",(INDEX('Employee Data'!$C$4:$C$553,MATCH(Databackup!A462,Employee_Name,0))))","v":""},{"$f":"IF(ISERROR(INDEX('Employee Data'!$D$4:$D$553,MATCH(Databackup!A462,Employee_Name,0),0)),\"\",(INDEX('Employee Data'!$D$4:$D$553,MATCH(Databackup!A462,Employee_Name,0))))","v":""},{"$f":"IF(ISERROR(INDEX('Employee Data'!$F$4:$F$553,MATCH(Databackup!A462,Employee_Name,0),0)),\"\",(INDEX('Employee Data'!$F$4:$F$553,MATCH(Databackup!A462,Employee_Name,0))))","v":""},{"$f":"IF(ISERROR(INDEX('Employee Data'!$G$4:$G$553,MATCH(Databackup!A462,Employee_Name,0),0)),\"\",(INDEX('Employee Data'!$G$4:$G$553,MATCH(Databackup!A462,Employee_Name,0))))","v":""},{"$f":"IF(ISERROR(INDEX('Employee Data'!$H$4:$H$553,MATCH(Databackup!A462,Employee_Name,0),0)),\"\",(INDEX('Employee Data'!$H$4:$H$553,MATCH(Databackup!A462,Employee_Name,0))))","v":""},{"$f":"IF(ISERROR(INDEX('Employee Data'!$I$4:$I$553,MATCH(Databackup!A462,Employee_Name,0),0)),\"\",(INDEX('Employee Data'!$I$4:$I$553,MATCH(Databackup!A462,Employee_Name,0))))","v":""},{"$f":"IF(ISERROR(INDEX('Employee Data'!$J$4:$J$553,MATCH(Databackup!A462,Employee_Name,0),0)),\"\",(INDEX('Employee Data'!J$4:$J$553,MATCH(Databackup!A462,Employee_Name,0))))","v":""},{"$f":"IF(ISERROR(INDEX('Employee Data'!$K$4:$K$553,MATCH(Databackup!A462,Employee_Name,0),0)),\"\",(INDEX('Employee Data'!$K$4:$K$553,MATCH(Databackup!A462,Employee_Name,0))))","v":""},{"$f":"IF(ISERROR(INDEX('Employee Data'!$L$4:$L$553,MATCH(Databackup!A462,Employee_Name,0),0)),\"\",(INDEX('Employee Data'!$L$4:$L$553,MATCH(Databackup!A462,Employee_Name,0))))","v":""},{"$f":"IF(ISERROR(INDEX('Employee Data'!$M$4:$M$553,MATCH(Databackup!A462,Employee_Name,0),0)),\"\",(INDEX('Employee Data'!$M$4:$M$553,MATCH(Databackup!A462,Employee_Name,0))))","v":""},{"$f":"IF(ISERROR(INDEX('Employee Data'!$N$4:$N$553,MATCH(Databackup!A462,Employee_Name,0),0)),\"\",(INDEX('Employee Data'!$N$4:$N$553,MATCH(Databackup!A462,Employee_Name,0))))","v":""},{"$f":"IF(ISERROR(INDEX('Employee Data'!$O$4:$O$553,MATCH(Databackup!A462,Employee_Name,0),0)),\"\",(INDEX('Employee Data'!$O$4:$O$553,MATCH(Databackup!A462,Employee_Name,0))))","v":""}]
[{"$f":"INDEX(Employee_Name,MATCH(SMALL(IF($A$1='Employee Data'!$I$4:$I$553,'Employee Data'!$B$4:$B$553,\"\"),ROW('Employee Data'!A461)),IF($A$1='Employee Data'!$I$4:$I$553,'Employee Data'!$B$4:$B$553,\"\"),0))","v":{"$error":"#NUM!"}},{"$f":"IF(ISERROR(INDEX('Employee Data'!$B$4:$B$553,MATCH(Databackup!A463,Employee_Name,0),0)),\"\",(INDEX('Employee Data'!$B$4:$B$553,MATCH(Databackup!A463,Employee_Name,0))))","v":""},{"$f":"IF(ISERROR(INDEX('Employee Data'!$C$4:$C$553,MATCH(Databackup!A463,Employee_Name,0),0)),\"\",(INDEX('Employee Data'!$C$4:$C$553,MATCH(Databackup!A463,Employee_Name,0))))","v":""},{"$f":"IF(ISERROR(INDEX('Employee Data'!$D$4:$D$553,MATCH(Databackup!A463,Employee_Name,0),0)),\"\",(INDEX('Employee Data'!$D$4:$D$553,MATCH(Databackup!A463,Employee_Name,0))))","v":""},{"$f":"IF(ISERROR(INDEX('Employee Data'!$F$4:$F$553,MATCH(Databackup!A463,Employee_Name,0),0)),\"\",(INDEX('Employee Data'!$F$4:$F$553,MATCH(Databackup!A463,Employee_Name,0))))","v":""},{"$f":"IF(ISERROR(INDEX('Employee Data'!$G$4:$G$553,MATCH(Databackup!A463,Employee_Name,0),0)),\"\",(INDEX('Employee Data'!$G$4:$G$553,MATCH(Databackup!A463,Employee_Name,0))))","v":""},{"$f":"IF(ISERROR(INDEX('Employee Data'!$H$4:$H$553,MATCH(Databackup!A463,Employee_Name,0),0)),\"\",(INDEX('Employee Data'!$H$4:$H$553,MATCH(Databackup!A463,Employee_Name,0))))","v":""},{"$f":"IF(ISERROR(INDEX('Employee Data'!$I$4:$I$553,MATCH(Databackup!A463,Employee_Name,0),0)),\"\",(INDEX('Employee Data'!$I$4:$I$553,MATCH(Databackup!A463,Employee_Name,0))))","v":""},{"$f":"IF(ISERROR(INDEX('Employee Data'!$J$4:$J$553,MATCH(Databackup!A463,Employee_Name,0),0)),\"\",(INDEX('Employee Data'!J$4:$J$553,MATCH(Databackup!A463,Employee_Name,0))))","v":""},{"$f":"IF(ISERROR(INDEX('Employee Data'!$K$4:$K$553,MATCH(Databackup!A463,Employee_Name,0),0)),\"\",(INDEX('Employee Data'!$K$4:$K$553,MATCH(Databackup!A463,Employee_Name,0))))","v":""},{"$f":"IF(ISERROR(INDEX('Employee Data'!$L$4:$L$553,MATCH(Databackup!A463,Employee_Name,0),0)),\"\",(INDEX('Employee Data'!$L$4:$L$553,MATCH(Databackup!A463,Employee_Name,0))))","v":""},{"$f":"IF(ISERROR(INDEX('Employee Data'!$M$4:$M$553,MATCH(Databackup!A463,Employee_Name,0),0)),\"\",(INDEX('Employee Data'!$M$4:$M$553,MATCH(Databackup!A463,Employee_Name,0))))","v":""},{"$f":"IF(ISERROR(INDEX('Employee Data'!$N$4:$N$553,MATCH(Databackup!A463,Employee_Name,0),0)),\"\",(INDEX('Employee Data'!$N$4:$N$553,MATCH(Databackup!A463,Employee_Name,0))))","v":""},{"$f":"IF(ISERROR(INDEX('Employee Data'!$O$4:$O$553,MATCH(Databackup!A463,Employee_Name,0),0)),\"\",(INDEX('Employee Data'!$O$4:$O$553,MATCH(Databackup!A463,Employee_Name,0))))","v":""}]
[{"$f":"INDEX(Employee_Name,MATCH(SMALL(IF($A$1='Employee Data'!$I$4:$I$553,'Employee Data'!$B$4:$B$553,\"\"),ROW('Employee Data'!A462)),IF($A$1='Employee Data'!$I$4:$I$553,'Employee Data'!$B$4:$B$553,\"\"),0))","v":{"$error":"#NUM!"}},{"$f":"IF(ISERROR(INDEX('Employee Data'!$B$4:$B$553,MATCH(Databackup!A464,Employee_Name,0),0)),\"\",(INDEX('Employee Data'!$B$4:$B$553,MATCH(Databackup!A464,Employee_Name,0))))","v":""},{"$f":"IF(ISERROR(INDEX('Employee Data'!$C$4:$C$553,MATCH(Databackup!A464,Employee_Name,0),0)),\"\",(INDEX('Employee Data'!$C$4:$C$553,MATCH(Databackup!A464,Employee_Name,0))))","v":""},{"$f":"IF(ISERROR(INDEX('Employee Data'!$D$4:$D$553,MATCH(Databackup!A464,Employee_Name,0),0)),\"\",(INDEX('Employee Data'!$D$4:$D$553,MATCH(Databackup!A464,Employee_Name,0))))","v":""},{"$f":"IF(ISERROR(INDEX('Employee Data'!$F$4:$F$553,MATCH(Databackup!A464,Employee_Name,0),0)),\"\",(INDEX('Employee Data'!$F$4:$F$553,MATCH(Databackup!A464,Employee_Name,0))))","v":""},{"$f":"IF(ISERROR(INDEX('Employee Data'!$G$4:$G$553,MATCH(Databackup!A464,Employee_Name,0),0)),\"\",(INDEX('Employee Data'!$G$4:$G$553,MATCH(Databackup!A464,Employee_Name,0))))","v":""},{"$f":"IF(ISERROR(INDEX('Employee Data'!$H$4:$H$553,MATCH(Databackup!A464,Employee_Name,0),0)),\"\",(INDEX('Employee Data'!$H$4:$H$553,MATCH(Databackup!A464,Employee_Name,0))))","v":""},{"$f":"IF(ISERROR(INDEX('Employee Data'!$I$4:$I$553,MATCH(Databackup!A464,Employee_Name,0),0)),\"\",(INDEX('Employee Data'!$I$4:$I$553,MATCH(Databackup!A464,Employee_Name,0))))","v":""},{"$f":"IF(ISERROR(INDEX('Employee Data'!$J$4:$J$553,MATCH(Databackup!A464,Employee_Name,0),0)),\"\",(INDEX('Employee Data'!J$4:$J$553,MATCH(Databackup!A464,Employee_Name,0))))","v":""},{"$f":"IF(ISERROR(INDEX('Employee Data'!$K$4:$K$553,MATCH(Databackup!A464,Employee_Name,0),0)),\"\",(INDEX('Employee Data'!$K$4:$K$553,MATCH(Databackup!A464,Employee_Name,0))))","v":""},{"$f":"IF(ISERROR(INDEX('Employee Data'!$L$4:$L$553,MATCH(Databackup!A464,Employee_Name,0),0)),\"\",(INDEX('Employee Data'!$L$4:$L$553,MATCH(Databackup!A464,Employee_Name,0))))","v":""},{"$f":"IF(ISERROR(INDEX('Employee Data'!$M$4:$M$553,MATCH(Databackup!A464,Employee_Name,0),0)),\"\",(INDEX('Employee Data'!$M$4:$M$553,MATCH(Databackup!A464,Employee_Name,0))))","v":""},{"$f":"IF(ISERROR(INDEX('Employee Data'!$N$4:$N$553,MATCH(Databackup!A464,Employee_Name,0),0)),\"\",(INDEX('Employee Data'!$N$4:$N$553,MATCH(Databackup!A464,Employee_Name,0))))","v":""},{"$f":"IF(ISERROR(INDEX('Employee Data'!$O$4:$O$553,MATCH(Databackup!A464,Employee_Name,0),0)),\"\",(INDEX('Employee Data'!$O$4:$O$553,MATCH(Databackup!A464,Employee_Name,0))))","v":""}]
[{"$f":"INDEX(Employee_Name,MATCH(SMALL(IF($A$1='Employee Data'!$I$4:$I$553,'Employee Data'!$B$4:$B$553,\"\"),ROW('Employee Data'!A463)),IF($A$1='Employee Data'!$I$4:$I$553,'Employee Data'!$B$4:$B$553,\"\"),0))","v":{"$error":"#NUM!"}},{"$f":"IF(ISERROR(INDEX('Employee Data'!$B$4:$B$553,MATCH(Databackup!A465,Employee_Name,0),0)),\"\",(INDEX('Employee Data'!$B$4:$B$553,MATCH(Databackup!A465,Employee_Name,0))))","v":""},{"$f":"IF(ISERROR(INDEX('Employee Data'!$C$4:$C$553,MATCH(Databackup!A465,Employee_Name,0),0)),\"\",(INDEX('Employee Data'!$C$4:$C$553,MATCH(Databackup!A465,Employee_Name,0))))","v":""},{"$f":"IF(ISERROR(INDEX('Employee Data'!$D$4:$D$553,MATCH(Databackup!A465,Employee_Name,0),0)),\"\",(INDEX('Employee Data'!$D$4:$D$553,MATCH(Databackup!A465,Employee_Name,0))))","v":""},{"$f":"IF(ISERROR(INDEX('Employee Data'!$F$4:$F$553,MATCH(Databackup!A465,Employee_Name,0),0)),\"\",(INDEX('Employee Data'!$F$4:$F$553,MATCH(Databackup!A465,Employee_Name,0))))","v":""},{"$f":"IF(ISERROR(INDEX('Employee Data'!$G$4:$G$553,MATCH(Databackup!A465,Employee_Name,0),0)),\"\",(INDEX('Employee Data'!$G$4:$G$553,MATCH(Databackup!A465,Employee_Name,0))))","v":""},{"$f":"IF(ISERROR(INDEX('Employee Data'!$H$4:$H$553,MATCH(Databackup!A465,Employee_Name,0),0)),\"\",(INDEX('Employee Data'!$H$4:$H$553,MATCH(Databackup!A465,Employee_Name,0))))","v":""},{"$f":"IF(ISERROR(INDEX('Employee Data'!$I$4:$I$553,MATCH(Databackup!A465,Employee_Name,0),0)),\"\",(INDEX('Employee Data'!$I$4:$I$553,MATCH(Databackup!A465,Employee_Name,0))))","v":""},{"$f":"IF(ISERROR(INDEX('Employee Data'!$J$4:$J$553,MATCH(Databackup!A465,Employee_Name,0),0)),\"\",(INDEX('Employee Data'!J$4:$J$553,MATCH(Databackup!A465,Employee_Name,0))))","v":""},{"$f":"IF(ISERROR(INDEX('Employee Data'!$K$4:$K$553,MATCH(Databackup!A465,Employee_Name,0),0)),\"\",(INDEX('Employee Data'!$K$4:$K$553,MATCH(Databackup!A465,Employee_Name,0))))","v":""},{"$f":"IF(ISERROR(INDEX('Employee Data'!$L$4:$L$553,MATCH(Databackup!A465,Employee_Name,0),0)),\"\",(INDEX('Employee Data'!$L$4:$L$553,MATCH(Databackup!A465,Employee_Name,0))))","v":""},{"$f":"IF(ISERROR(INDEX('Employee Data'!$M$4:$M$553,MATCH(Databackup!A465,Employee_Name,0),0)),\"\",(INDEX('Employee Data'!$M$4:$M$553,MATCH(Databackup!A465,Employee_Name,0))))","v":""},{"$f":"IF(ISERROR(INDEX('Employee Data'!$N$4:$N$553,MATCH(Databackup!A465,Employee_Name,0),0)),\"\",(INDEX('Employee Data'!$N$4:$N$553,MATCH(Databackup!A465,Employee_Name,0))))","v":""},{"$f":"IF(ISERROR(INDEX('Employee Data'!$O$4:$O$553,MATCH(Databackup!A465,Employee_Name,0),0)),\"\",(INDEX('Employee Data'!$O$4:$O$553,MATCH(Databackup!A465,Employee_Name,0))))","v":""}]
[{"$f":"INDEX(Employee_Name,MATCH(SMALL(IF($A$1='Employee Data'!$I$4:$I$553,'Employee Data'!$B$4:$B$553,\"\"),ROW('Employee Data'!A464)),IF($A$1='Employee Data'!$I$4:$I$553,'Employee Data'!$B$4:$B$553,\"\"),0))","v":{"$error":"#NUM!"}},{"$f":"IF(ISERROR(INDEX('Employee Data'!$B$4:$B$553,MATCH(Databackup!A466,Employee_Name,0),0)),\"\",(INDEX('Employee Data'!$B$4:$B$553,MATCH(Databackup!A466,Employee_Name,0))))","v":""},{"$f":"IF(ISERROR(INDEX('Employee Data'!$C$4:$C$553,MATCH(Databackup!A466,Employee_Name,0),0)),\"\",(INDEX('Employee Data'!$C$4:$C$553,MATCH(Databackup!A466,Employee_Name,0))))","v":""},{"$f":"IF(ISERROR(INDEX('Employee Data'!$D$4:$D$553,MATCH(Databackup!A466,Employee_Name,0),0)),\"\",(INDEX('Employee Data'!$D$4:$D$553,MATCH(Databackup!A466,Employee_Name,0))))","v":""},{"$f":"IF(ISERROR(INDEX('Employee Data'!$F$4:$F$553,MATCH(Databackup!A466,Employee_Name,0),0)),\"\",(INDEX('Employee Data'!$F$4:$F$553,MATCH(Databackup!A466,Employee_Name,0))))","v":""},{"$f":"IF(ISERROR(INDEX('Employee Data'!$G$4:$G$553,MATCH(Databackup!A466,Employee_Name,0),0)),\"\",(INDEX('Employee Data'!$G$4:$G$553,MATCH(Databackup!A466,Employee_Name,0))))","v":""},{"$f":"IF(ISERROR(INDEX('Employee Data'!$H$4:$H$553,MATCH(Databackup!A466,Employee_Name,0),0)),\"\",(INDEX('Employee Data'!$H$4:$H$553,MATCH(Databackup!A466,Employee_Name,0))))","v":""},{"$f":"IF(ISERROR(INDEX('Employee Data'!$I$4:$I$553,MATCH(Databackup!A466,Employee_Name,0),0)),\"\",(INDEX('Employee Data'!$I$4:$I$553,MATCH(Databackup!A466,Employee_Name,0))))","v":""},{"$f":"IF(ISERROR(INDEX('Employee Data'!$J$4:$J$553,MATCH(Databackup!A466,Employee_Name,0),0)),\"\",(INDEX('Employee Data'!J$4:$J$553,MATCH(Databackup!A466,Employee_Name,0))))","v":""},{"$f":"IF(ISERROR(INDEX('Employee Data'!$K$4:$K$553,MATCH(Databackup!A466,Employee_Name,0),0)),\"\",(INDEX('Employee Data'!$K$4:$K$553,MATCH(Databackup!A466,Employee_Name,0))))","v":""},{"$f":"IF(ISERROR(INDEX('Employee Data'!$L$4:$L$553,MATCH(Databackup!A466,Employee_Name,0),0)),\"\",(INDEX('Employee Data'!$L$4:$L$553,MATCH(Databackup!A466,Employee_Name,0))))","v":""},{"$f":"IF(ISERROR(INDEX('Employee Data'!$M$4:$M$553,MATCH(Databackup!A466,Employee_Name,0),0)),\"\",(INDEX('Employee Data'!$M$4:$M$553,MATCH(Databackup!A466,Employee_Name,0))))","v":""},{"$f":"IF(ISERROR(INDEX('Employee Data'!$N$4:$N$553,MATCH(Databackup!A466,Employee_Name,0),0)),\"\",(INDEX('Employee Data'!$N$4:$N$553,MATCH(Databackup!A466,Employee_Name,0))))","v":""},{"$f":"IF(ISERROR(INDEX('Employee Data'!$O$4:$O$553,MATCH(Databackup!A466,Employee_Name,0),0)),\"\",(INDEX('Employee Data'!$O$4:$O$553,MATCH(Databackup!A466,Employee_Name,0))))","v":""}]
[{"$f":"INDEX(Employee_Name,MATCH(SMALL(IF($A$1='Employee Data'!$I$4:$I$553,'Employee Data'!$B$4:$B$553,\"\"),ROW('Employee Data'!A465)),IF($A$1='Employee Data'!$I$4:$I$553,'Employee Data'!$B$4:$B$553,\"\"),0))","v":{"$error":"#NUM!"}},{"$f":"IF(ISERROR(INDEX('Employee Data'!$B$4:$B$553,MATCH(Databackup!A467,Employee_Name,0),0)),\"\",(INDEX('Employee Data'!$B$4:$B$553,MATCH(Databackup!A467,Employee_Name,0))))","v":""},{"$f":"IF(ISERROR(INDEX('Employee Data'!$C$4:$C$553,MATCH(Databackup!A467,Employee_Name,0),0)),\"\",(INDEX('Employee Data'!$C$4:$C$553,MATCH(Databackup!A467,Employee_Name,0))))","v":""},{"$f":"IF(ISERROR(INDEX('Employee Data'!$D$4:$D$553,MATCH(Databackup!A467,Employee_Name,0),0)),\"\",(INDEX('Employee Data'!$D$4:$D$553,MATCH(Databackup!A467,Employee_Name,0))))","v":""},{"$f":"IF(ISERROR(INDEX('Employee Data'!$F$4:$F$553,MATCH(Databackup!A467,Employee_Name,0),0)),\"\",(INDEX('Employee Data'!$F$4:$F$553,MATCH(Databackup!A467,Employee_Name,0))))","v":""},{"$f":"IF(ISERROR(INDEX('Employee Data'!$G$4:$G$553,MATCH(Databackup!A467,Employee_Name,0),0)),\"\",(INDEX('Employee Data'!$G$4:$G$553,MATCH(Databackup!A467,Employee_Name,0))))","v":""},{"$f":"IF(ISERROR(INDEX('Employee Data'!$H$4:$H$553,MATCH(Databackup!A467,Employee_Name,0),0)),\"\",(INDEX('Employee Data'!$H$4:$H$553,MATCH(Databackup!A467,Employee_Name,0))))","v":""},{"$f":"IF(ISERROR(INDEX('Employee Data'!$I$4:$I$553,MATCH(Databackup!A467,Employee_Name,0),0)),\"\",(INDEX('Employee Data'!$I$4:$I$553,MATCH(Databackup!A467,Employee_Name,0))))","v":""},{"$f":"IF(ISERROR(INDEX('Employee Data'!$J$4:$J$553,MATCH(Databackup!A467,Employee_Name,0),0)),\"\",(INDEX('Employee Data'!J$4:$J$553,MATCH(Databackup!A467,Employee_Name,0))))","v":""},{"$f":"IF(ISERROR(INDEX('Employee Data'!$K$4:$K$553,MATCH(Databackup!A467,Employee_Name,0),0)),\"\",(INDEX('Employee Data'!$K$4:$K$553,MATCH(Databackup!A467,Employee_Name,0))))","v":""},{"$f":"IF(ISERROR(INDEX('Employee Data'!$L$4:$L$553,MATCH(Databackup!A467,Employee_Name,0),0)),\"\",(INDEX('Employee Data'!$L$4:$L$553,MATCH(Databackup!A467,Employee_Name,0))))","v":""},{"$f":"IF(ISERROR(INDEX('Employee Data'!$M$4:$M$553,MATCH(Databackup!A467,Employee_Name,0),0)),\"\",(INDEX('Employee Data'!$M$4:$M$553,MATCH(Databackup!A467,Employee_Name,0))))","v":""},{"$f":"IF(ISERROR(INDEX('Employee Data'!$N$4:$N$553,MATCH(Databackup!A467,Employee_Name,0),0)),\"\",(INDEX('Employee Data'!$N$4:$N$553,MATCH(Databackup!A467,Employee_Name,0))))","v":""},{"$f":"IF(ISERROR(INDEX('Employee Data'!$O$4:$O$553,MATCH(Databackup!A467,Employee_Name,0),0)),\"\",(INDEX('Employee Data'!$O$4:$O$553,MATCH(Databackup!A467,Employee_Name,0))))","v":""}]
[{"$f":"INDEX(Employee_Name,MATCH(SMALL(IF($A$1='Employee Data'!$I$4:$I$553,'Employee Data'!$B$4:$B$553,\"\"),ROW('Employee Data'!A466)),IF($A$1='Employee Data'!$I$4:$I$553,'Employee Data'!$B$4:$B$553,\"\"),0))","v":{"$error":"#NUM!"}},{"$f":"IF(ISERROR(INDEX('Employee Data'!$B$4:$B$553,MATCH(Databackup!A468,Employee_Name,0),0)),\"\",(INDEX('Employee Data'!$B$4:$B$553,MATCH(Databackup!A468,Employee_Name,0))))","v":""},{"$f":"IF(ISERROR(INDEX('Employee Data'!$C$4:$C$553,MATCH(Databackup!A468,Employee_Name,0),0)),\"\",(INDEX('Employee Data'!$C$4:$C$553,MATCH(Databackup!A468,Employee_Name,0))))","v":""},{"$f":"IF(ISERROR(INDEX('Employee Data'!$D$4:$D$553,MATCH(Databackup!A468,Employee_Name,0),0)),\"\",(INDEX('Employee Data'!$D$4:$D$553,MATCH(Databackup!A468,Employee_Name,0))))","v":""},{"$f":"IF(ISERROR(INDEX('Employee Data'!$F$4:$F$553,MATCH(Databackup!A468,Employee_Name,0),0)),\"\",(INDEX('Employee Data'!$F$4:$F$553,MATCH(Databackup!A468,Employee_Name,0))))","v":""},{"$f":"IF(ISERROR(INDEX('Employee Data'!$G$4:$G$553,MATCH(Databackup!A468,Employee_Name,0),0)),\"\",(INDEX('Employee Data'!$G$4:$G$553,MATCH(Databackup!A468,Employee_Name,0))))","v":""},{"$f":"IF(ISERROR(INDEX('Employee Data'!$H$4:$H$553,MATCH(Databackup!A468,Employee_Name,0),0)),\"\",(INDEX('Employee Data'!$H$4:$H$553,MATCH(Databackup!A468,Employee_Name,0))))","v":""},{"$f":"IF(ISERROR(INDEX('Employee Data'!$I$4:$I$553,MATCH(Databackup!A468,Employee_Name,0),0)),\"\",(INDEX('Employee Data'!$I$4:$I$553,MATCH(Databackup!A468,Employee_Name,0))))","v":""},{"$f":"IF(ISERROR(INDEX('Employee Data'!$J$4:$J$553,MATCH(Databackup!A468,Employee_Name,0),0)),\"\",(INDEX('Employee Data'!J$4:$J$553,MATCH(Databackup!A468,Employee_Name,0))))","v":""},{"$f":"IF(ISERROR(INDEX('Employee Data'!$K$4:$K$553,MATCH(Databackup!A468,Employee_Name,0),0)),\"\",(INDEX('Employee Data'!$K$4:$K$553,MATCH(Databackup!A468,Employee_Name,0))))","v":""},{"$f":"IF(ISERROR(INDEX('Employee Data'!$L$4:$L$553,MATCH(Databackup!A468,Employee_Name,0),0)),\"\",(INDEX('Employee Data'!$L$4:$L$553,MATCH(Databackup!A468,Employee_Name,0))))","v":""},{"$f":"IF(ISERROR(INDEX('Employee Data'!$M$4:$M$553,MATCH(Databackup!A468,Employee_Name,0),0)),\"\",(INDEX('Employee Data'!$M$4:$M$553,MATCH(Databackup!A468,Employee_Name,0))))","v":""},{"$f":"IF(ISERROR(INDEX('Employee Data'!$N$4:$N$553,MATCH(Databackup!A468,Employee_Name,0),0)),\"\",(INDEX('Employee Data'!$N$4:$N$553,MATCH(Databackup!A468,Employee_Name,0))))","v":""},{"$f":"IF(ISERROR(INDEX('Employee Data'!$O$4:$O$553,MATCH(Databackup!A468,Employee_Name,0),0)),\"\",(INDEX('Employee Data'!$O$4:$O$553,MATCH(Databackup!A468,Employee_Name,0))))","v":""}]
[{"$f":"INDEX(Employee_Name,MATCH(SMALL(IF($A$1='Employee Data'!$I$4:$I$553,'Employee Data'!$B$4:$B$553,\"\"),ROW('Employee Data'!A467)),IF($A$1='Employee Data'!$I$4:$I$553,'Employee Data'!$B$4:$B$553,\"\"),0))","v":{"$error":"#NUM!"}},{"$f":"IF(ISERROR(INDEX('Employee Data'!$B$4:$B$553,MATCH(Databackup!A469,Employee_Name,0),0)),\"\",(INDEX('Employee Data'!$B$4:$B$553,MATCH(Databackup!A469,Employee_Name,0))))","v":""},{"$f":"IF(ISERROR(INDEX('Employee Data'!$C$4:$C$553,MATCH(Databackup!A469,Employee_Name,0),0)),\"\",(INDEX('Employee Data'!$C$4:$C$553,MATCH(Databackup!A469,Employee_Name,0))))","v":""},{"$f":"IF(ISERROR(INDEX('Employee Data'!$D$4:$D$553,MATCH(Databackup!A469,Employee_Name,0),0)),\"\",(INDEX('Employee Data'!$D$4:$D$553,MATCH(Databackup!A469,Employee_Name,0))))","v":""},{"$f":"IF(ISERROR(INDEX('Employee Data'!$F$4:$F$553,MATCH(Databackup!A469,Employee_Name,0),0)),\"\",(INDEX('Employee Data'!$F$4:$F$553,MATCH(Databackup!A469,Employee_Name,0))))","v":""},{"$f":"IF(ISERROR(INDEX('Employee Data'!$G$4:$G$553,MATCH(Databackup!A469,Employee_Name,0),0)),\"\",(INDEX('Employee Data'!$G$4:$G$553,MATCH(Databackup!A469,Employee_Name,0))))","v":""},{"$f":"IF(ISERROR(INDEX('Employee Data'!$H$4:$H$553,MATCH(Databackup!A469,Employee_Name,0),0)),\"\",(INDEX('Employee Data'!$H$4:$H$553,MATCH(Databackup!A469,Employee_Name,0))))","v":""},{"$f":"IF(ISERROR(INDEX('Employee Data'!$I$4:$I$553,MATCH(Databackup!A469,Employee_Name,0),0)),\"\",(INDEX('Employee Data'!$I$4:$I$553,MATCH(Databackup!A469,Employee_Name,0))))","v":""},{"$f":"IF(ISERROR(INDEX('Employee Data'!$J$4:$J$553,MATCH(Databackup!A469,Employee_Name,0),0)),\"\",(INDEX('Employee Data'!J$4:$J$553,MATCH(Databackup!A469,Employee_Name,0))))","v":""},{"$f":"IF(ISERROR(INDEX('Employee Data'!$K$4:$K$553,MATCH(Databackup!A469,Employee_Name,0),0)),\"\",(INDEX('Employee Data'!$K$4:$K$553,MATCH(Databackup!A469,Employee_Name,0))))","v":""},{"$f":"IF(ISERROR(INDEX('Employee Data'!$L$4:$L$553,MATCH(Databackup!A469,Employee_Name,0),0)),\"\",(INDEX('Employee Data'!$L$4:$L$553,MATCH(Databackup!A469,Employee_Name,0))))","v":""},{"$f":"IF(ISERROR(INDEX('Employee Data'!$M$4:$M$553,MATCH(Databackup!A469,Employee_Name,0),0)),\"\",(INDEX('Employee Data'!$M$4:$M$553,MATCH(Databackup!A469,Employee_Name,0))))","v":""},{"$f":"IF(ISERROR(INDEX('Employee Data'!$N$4:$N$553,MATCH(Databackup!A469,Employee_Name,0),0)),\"\",(INDEX('Employee Data'!$N$4:$N$553,MATCH(Databackup!A469,Employee_Name,0))))","v":""},{"$f":"IF(ISERROR(INDEX('Employee Data'!$O$4:$O$553,MATCH(Databackup!A469,Employee_Name,0),0)),\"\",(INDEX('Employee Data'!$O$4:$O$553,MATCH(Databackup!A469,Employee_Name,0))))","v":""}]
[{"$f":"INDEX(Employee_Name,MATCH(SMALL(IF($A$1='Employee Data'!$I$4:$I$553,'Employee Data'!$B$4:$B$553,\"\"),ROW('Employee Data'!A468)),IF($A$1='Employee Data'!$I$4:$I$553,'Employee Data'!$B$4:$B$553,\"\"),0))","v":{"$error":"#NUM!"}},{"$f":"IF(ISERROR(INDEX('Employee Data'!$B$4:$B$553,MATCH(Databackup!A470,Employee_Name,0),0)),\"\",(INDEX('Employee Data'!$B$4:$B$553,MATCH(Databackup!A470,Employee_Name,0))))","v":""},{"$f":"IF(ISERROR(INDEX('Employee Data'!$C$4:$C$553,MATCH(Databackup!A470,Employee_Name,0),0)),\"\",(INDEX('Employee Data'!$C$4:$C$553,MATCH(Databackup!A470,Employee_Name,0))))","v":""},{"$f":"IF(ISERROR(INDEX('Employee Data'!$D$4:$D$553,MATCH(Databackup!A470,Employee_Name,0),0)),\"\",(INDEX('Employee Data'!$D$4:$D$553,MATCH(Databackup!A470,Employee_Name,0))))","v":""},{"$f":"IF(ISERROR(INDEX('Employee Data'!$F$4:$F$553,MATCH(Databackup!A470,Employee_Name,0),0)),\"\",(INDEX('Employee Data'!$F$4:$F$553,MATCH(Databackup!A470,Employee_Name,0))))","v":""},{"$f":"IF(ISERROR(INDEX('Employee Data'!$G$4:$G$553,MATCH(Databackup!A470,Employee_Name,0),0)),\"\",(INDEX('Employee Data'!$G$4:$G$553,MATCH(Databackup!A470,Employee_Name,0))))","v":""},{"$f":"IF(ISERROR(INDEX('Employee Data'!$H$4:$H$553,MATCH(Databackup!A470,Employee_Name,0),0)),\"\",(INDEX('Employee Data'!$H$4:$H$553,MATCH(Databackup!A470,Employee_Name,0))))","v":""},{"$f":"IF(ISERROR(INDEX('Employee Data'!$I$4:$I$553,MATCH(Databackup!A470,Employee_Name,0),0)),\"\",(INDEX('Employee Data'!$I$4:$I$553,MATCH(Databackup!A470,Employee_Name,0))))","v":""},{"$f":"IF(ISERROR(INDEX('Employee Data'!$J$4:$J$553,MATCH(Databackup!A470,Employee_Name,0),0)),\"\",(INDEX('Employee Data'!J$4:$J$553,MATCH(Databackup!A470,Employee_Name,0))))","v":""},{"$f":"IF(ISERROR(INDEX('Employee Data'!$K$4:$K$553,MATCH(Databackup!A470,Employee_Name,0),0)),\"\",(INDEX('Employee Data'!$K$4:$K$553,MATCH(Databackup!A470,Employee_Name,0))))","v":""},{"$f":"IF(ISERROR(INDEX('Employee Data'!$L$4:$L$553,MATCH(Databackup!A470,Employee_Name,0),0)),\"\",(INDEX('Employee Data'!$L$4:$L$553,MATCH(Databackup!A470,Employee_Name,0))))","v":""},{"$f":"IF(ISERROR(INDEX('Employee Data'!$M$4:$M$553,MATCH(Databackup!A470,Employee_Name,0),0)),\"\",(INDEX('Employee Data'!$M$4:$M$553,MATCH(Databackup!A470,Employee_Name,0))))","v":""},{"$f":"IF(ISERROR(INDEX('Employee Data'!$N$4:$N$553,MATCH(Databackup!A470,Employee_Name,0),0)),\"\",(INDEX('Employee Data'!$N$4:$N$553,MATCH(Databackup!A470,Employee_Name,0))))","v":""},{"$f":"IF(ISERROR(INDEX('Employee Data'!$O$4:$O$553,MATCH(Databackup!A470,Employee_Name,0),0)),\"\",(INDEX('Employee Data'!$O$4:$O$553,MATCH(Databackup!A470,Employee_Name,0))))","v":""}]
[{"$f":"INDEX(Employee_Name,MATCH(SMALL(IF($A$1='Employee Data'!$I$4:$I$553,'Employee Data'!$B$4:$B$553,\"\"),ROW('Employee Data'!A469)),IF($A$1='Employee Data'!$I$4:$I$553,'Employee Data'!$B$4:$B$553,\"\"),0))","v":{"$error":"#NUM!"}},{"$f":"IF(ISERROR(INDEX('Employee Data'!$B$4:$B$553,MATCH(Databackup!A471,Employee_Name,0),0)),\"\",(INDEX('Employee Data'!$B$4:$B$553,MATCH(Databackup!A471,Employee_Name,0))))","v":""},{"$f":"IF(ISERROR(INDEX('Employee Data'!$C$4:$C$553,MATCH(Databackup!A471,Employee_Name,0),0)),\"\",(INDEX('Employee Data'!$C$4:$C$553,MATCH(Databackup!A471,Employee_Name,0))))","v":""},{"$f":"IF(ISERROR(INDEX('Employee Data'!$D$4:$D$553,MATCH(Databackup!A471,Employee_Name,0),0)),\"\",(INDEX('Employee Data'!$D$4:$D$553,MATCH(Databackup!A471,Employee_Name,0))))","v":""},{"$f":"IF(ISERROR(INDEX('Employee Data'!$F$4:$F$553,MATCH(Databackup!A471,Employee_Name,0),0)),\"\",(INDEX('Employee Data'!$F$4:$F$553,MATCH(Databackup!A471,Employee_Name,0))))","v":""},{"$f":"IF(ISERROR(INDEX('Employee Data'!$G$4:$G$553,MATCH(Databackup!A471,Employee_Name,0),0)),\"\",(INDEX('Employee Data'!$G$4:$G$553,MATCH(Databackup!A471,Employee_Name,0))))","v":""},{"$f":"IF(ISERROR(INDEX('Employee Data'!$H$4:$H$553,MATCH(Databackup!A471,Employee_Name,0),0)),\"\",(INDEX('Employee Data'!$H$4:$H$553,MATCH(Databackup!A471,Employee_Name,0))))","v":""},{"$f":"IF(ISERROR(INDEX('Employee Data'!$I$4:$I$553,MATCH(Databackup!A471,Employee_Name,0),0)),\"\",(INDEX('Employee Data'!$I$4:$I$553,MATCH(Databackup!A471,Employee_Name,0))))","v":""},{"$f":"IF(ISERROR(INDEX('Employee Data'!$J$4:$J$553,MATCH(Databackup!A471,Employee_Name,0),0)),\"\",(INDEX('Employee Data'!J$4:$J$553,MATCH(Databackup!A471,Employee_Name,0))))","v":""},{"$f":"IF(ISERROR(INDEX('Employee Data'!$K$4:$K$553,MATCH(Databackup!A471,Employee_Name,0),0)),\"\",(INDEX('Employee Data'!$K$4:$K$553,MATCH(Databackup!A471,Employee_Name,0))))","v":""},{"$f":"IF(ISERROR(INDEX('Employee Data'!$L$4:$L$553,MATCH(Databackup!A471,Employee_Name,0),0)),\"\",(INDEX('Employee Data'!$L$4:$L$553,MATCH(Databackup!A471,Employee_Name,0))))","v":""},{"$f":"IF(ISERROR(INDEX('Employee Data'!$M$4:$M$553,MATCH(Databackup!A471,Employee_Name,0),0)),\"\",(INDEX('Employee Data'!$M$4:$M$553,MATCH(Databackup!A471,Employee_Name,0))))","v":""},{"$f":"IF(ISERROR(INDEX('Employee Data'!$N$4:$N$553,MATCH(Databackup!A471,Employee_Name,0),0)),\"\",(INDEX('Employee Data'!$N$4:$N$553,MATCH(Databackup!A471,Employee_Name,0))))","v":""},{"$f":"IF(ISERROR(INDEX('Employee Data'!$O$4:$O$553,MATCH(Databackup!A471,Employee_Name,0),0)),\"\",(INDEX('Employee Data'!$O$4:$O$553,MATCH(Databackup!A471,Employee_Name,0))))","v":""}]
[{"$f":"INDEX(Employee_Name,MATCH(SMALL(IF($A$1='Employee Data'!$I$4:$I$553,'Employee Data'!$B$4:$B$553,\"\"),ROW('Employee Data'!A470)),IF($A$1='Employee Data'!$I$4:$I$553,'Employee Data'!$B$4:$B$553,\"\"),0))","v":{"$error":"#NUM!"}},{"$f":"IF(ISERROR(INDEX('Employee Data'!$B$4:$B$553,MATCH(Databackup!A472,Employee_Name,0),0)),\"\",(INDEX('Employee Data'!$B$4:$B$553,MATCH(Databackup!A472,Employee_Name,0))))","v":""},{"$f":"IF(ISERROR(INDEX('Employee Data'!$C$4:$C$553,MATCH(Databackup!A472,Employee_Name,0),0)),\"\",(INDEX('Employee Data'!$C$4:$C$553,MATCH(Databackup!A472,Employee_Name,0))))","v":""},{"$f":"IF(ISERROR(INDEX('Employee Data'!$D$4:$D$553,MATCH(Databackup!A472,Employee_Name,0),0)),\"\",(INDEX('Employee Data'!$D$4:$D$553,MATCH(Databackup!A472,Employee_Name,0))))","v":""},{"$f":"IF(ISERROR(INDEX('Employee Data'!$F$4:$F$553,MATCH(Databackup!A472,Employee_Name,0),0)),\"\",(INDEX('Employee Data'!$F$4:$F$553,MATCH(Databackup!A472,Employee_Name,0))))","v":""},{"$f":"IF(ISERROR(INDEX('Employee Data'!$G$4:$G$553,MATCH(Databackup!A472,Employee_Name,0),0)),\"\",(INDEX('Employee Data'!$G$4:$G$553,MATCH(Databackup!A472,Employee_Name,0))))","v":""},{"$f":"IF(ISERROR(INDEX('Employee Data'!$H$4:$H$553,MATCH(Databackup!A472,Employee_Name,0),0)),\"\",(INDEX('Employee Data'!$H$4:$H$553,MATCH(Databackup!A472,Employee_Name,0))))","v":""},{"$f":"IF(ISERROR(INDEX('Employee Data'!$I$4:$I$553,MATCH(Databackup!A472,Employee_Name,0),0)),\"\",(INDEX('Employee Data'!$I$4:$I$553,MATCH(Databackup!A472,Employee_Name,0))))","v":""},{"$f":"IF(ISERROR(INDEX('Employee Data'!$J$4:$J$553,MATCH(Databackup!A472,Employee_Name,0),0)),\"\",(INDEX('Employee Data'!J$4:$J$553,MATCH(Databackup!A472,Employee_Name,0))))","v":""},{"$f":"IF(ISERROR(INDEX('Employee Data'!$K$4:$K$553,MATCH(Databackup!A472,Employee_Name,0),0)),\"\",(INDEX('Employee Data'!$K$4:$K$553,MATCH(Databackup!A472,Employee_Name,0))))","v":""},{"$f":"IF(ISERROR(INDEX('Employee Data'!$L$4:$L$553,MATCH(Databackup!A472,Employee_Name,0),0)),\"\",(INDEX('Employee Data'!$L$4:$L$553,MATCH(Databackup!A472,Employee_Name,0))))","v":""},{"$f":"IF(ISERROR(INDEX('Employee Data'!$M$4:$M$553,MATCH(Databackup!A472,Employee_Name,0),0)),\"\",(INDEX('Employee Data'!$M$4:$M$553,MATCH(Databackup!A472,Employee_Name,0))))","v":""},{"$f":"IF(ISERROR(INDEX('Employee Data'!$N$4:$N$553,MATCH(Databackup!A472,Employee_Name,0),0)),\"\",(INDEX('Employee Data'!$N$4:$N$553,MATCH(Databackup!A472,Employee_Name,0))))","v":""},{"$f":"IF(ISERROR(INDEX('Employee Data'!$O$4:$O$553,MATCH(Databackup!A472,Employee_Name,0),0)),\"\",(INDEX('Employee Data'!$O$4:$O$553,MATCH(Databackup!A472,Employee_Name,0))))","v":""}]
[{"$f":"INDEX(Employee_Name,MATCH(SMALL(IF($A$1='Employee Data'!$I$4:$I$553,'Employee Data'!$B$4:$B$553,\"\"),ROW('Employee Data'!A471)),IF($A$1='Employee Data'!$I$4:$I$553,'Employee Data'!$B$4:$B$553,\"\"),0))","v":{"$error":"#NUM!"}},{"$f":"IF(ISERROR(INDEX('Employee Data'!$B$4:$B$553,MATCH(Databackup!A473,Employee_Name,0),0)),\"\",(INDEX('Employee Data'!$B$4:$B$553,MATCH(Databackup!A473,Employee_Name,0))))","v":""},{"$f":"IF(ISERROR(INDEX('Employee Data'!$C$4:$C$553,MATCH(Databackup!A473,Employee_Name,0),0)),\"\",(INDEX('Employee Data'!$C$4:$C$553,MATCH(Databackup!A473,Employee_Name,0))))","v":""},{"$f":"IF(ISERROR(INDEX('Employee Data'!$D$4:$D$553,MATCH(Databackup!A473,Employee_Name,0),0)),\"\",(INDEX('Employee Data'!$D$4:$D$553,MATCH(Databackup!A473,Employee_Name,0))))","v":""},{"$f":"IF(ISERROR(INDEX('Employee Data'!$F$4:$F$553,MATCH(Databackup!A473,Employee_Name,0),0)),\"\",(INDEX('Employee Data'!$F$4:$F$553,MATCH(Databackup!A473,Employee_Name,0))))","v":""},{"$f":"IF(ISERROR(INDEX('Employee Data'!$G$4:$G$553,MATCH(Databackup!A473,Employee_Name,0),0)),\"\",(INDEX('Employee Data'!$G$4:$G$553,MATCH(Databackup!A473,Employee_Name,0))))","v":""},{"$f":"IF(ISERROR(INDEX('Employee Data'!$H$4:$H$553,MATCH(Databackup!A473,Employee_Name,0),0)),\"\",(INDEX('Employee Data'!$H$4:$H$553,MATCH(Databackup!A473,Employee_Name,0))))","v":""},{"$f":"IF(ISERROR(INDEX('Employee Data'!$I$4:$I$553,MATCH(Databackup!A473,Employee_Name,0),0)),\"\",(INDEX('Employee Data'!$I$4:$I$553,MATCH(Databackup!A473,Employee_Name,0))))","v":""},{"$f":"IF(ISERROR(INDEX('Employee Data'!$J$4:$J$553,MATCH(Databackup!A473,Employee_Name,0),0)),\"\",(INDEX('Employee Data'!J$4:$J$553,MATCH(Databackup!A473,Employee_Name,0))))","v":""},{"$f":"IF(ISERROR(INDEX('Employee Data'!$K$4:$K$553,MATCH(Databackup!A473,Employee_Name,0),0)),\"\",(INDEX('Employee Data'!$K$4:$K$553,MATCH(Databackup!A473,Employee_Name,0))))","v":""},{"$f":"IF(ISERROR(INDEX('Employee Data'!$L$4:$L$553,MATCH(Databackup!A473,Employee_Name,0),0)),\"\",(INDEX('Employee Data'!$L$4:$L$553,MATCH(Databackup!A473,Employee_Name,0))))","v":""},{"$f":"IF(ISERROR(INDEX('Employee Data'!$M$4:$M$553,MATCH(Databackup!A473,Employee_Name,0),0)),\"\",(INDEX('Employee Data'!$M$4:$M$553,MATCH(Databackup!A473,Employee_Name,0))))","v":""},{"$f":"IF(ISERROR(INDEX('Employee Data'!$N$4:$N$553,MATCH(Databackup!A473,Employee_Name,0),0)),\"\",(INDEX('Employee Data'!$N$4:$N$553,MATCH(Databackup!A473,Employee_Name,0))))","v":""},{"$f":"IF(ISERROR(INDEX('Employee Data'!$O$4:$O$553,MATCH(Databackup!A473,Employee_Name,0),0)),\"\",(INDEX('Employee Data'!$O$4:$O$553,MATCH(Databackup!A473,Employee_Name,0))))","v":""}]
[{"$f":"INDEX(Employee_Name,MATCH(SMALL(IF($A$1='Employee Data'!$I$4:$I$553,'Employee Data'!$B$4:$B$553,\"\"),ROW('Employee Data'!A472)),IF($A$1='Employee Data'!$I$4:$I$553,'Employee Data'!$B$4:$B$553,\"\"),0))","v":{"$error":"#NUM!"}},{"$f":"IF(ISERROR(INDEX('Employee Data'!$B$4:$B$553,MATCH(Databackup!A474,Employee_Name,0),0)),\"\",(INDEX('Employee Data'!$B$4:$B$553,MATCH(Databackup!A474,Employee_Name,0))))","v":""},{"$f":"IF(ISERROR(INDEX('Employee Data'!$C$4:$C$553,MATCH(Databackup!A474,Employee_Name,0),0)),\"\",(INDEX('Employee Data'!$C$4:$C$553,MATCH(Databackup!A474,Employee_Name,0))))","v":""},{"$f":"IF(ISERROR(INDEX('Employee Data'!$D$4:$D$553,MATCH(Databackup!A474,Employee_Name,0),0)),\"\",(INDEX('Employee Data'!$D$4:$D$553,MATCH(Databackup!A474,Employee_Name,0))))","v":""},{"$f":"IF(ISERROR(INDEX('Employee Data'!$F$4:$F$553,MATCH(Databackup!A474,Employee_Name,0),0)),\"\",(INDEX('Employee Data'!$F$4:$F$553,MATCH(Databackup!A474,Employee_Name,0))))","v":""},{"$f":"IF(ISERROR(INDEX('Employee Data'!$G$4:$G$553,MATCH(Databackup!A474,Employee_Name,0),0)),\"\",(INDEX('Employee Data'!$G$4:$G$553,MATCH(Databackup!A474,Employee_Name,0))))","v":""},{"$f":"IF(ISERROR(INDEX('Employee Data'!$H$4:$H$553,MATCH(Databackup!A474,Employee_Name,0),0)),\"\",(INDEX('Employee Data'!$H$4:$H$553,MATCH(Databackup!A474,Employee_Name,0))))","v":""},{"$f":"IF(ISERROR(INDEX('Employee Data'!$I$4:$I$553,MATCH(Databackup!A474,Employee_Name,0),0)),\"\",(INDEX('Employee Data'!$I$4:$I$553,MATCH(Databackup!A474,Employee_Name,0))))","v":""},{"$f":"IF(ISERROR(INDEX('Employee Data'!$J$4:$J$553,MATCH(Databackup!A474,Employee_Name,0),0)),\"\",(INDEX('Employee Data'!J$4:$J$553,MATCH(Databackup!A474,Employee_Name,0))))","v":""},{"$f":"IF(ISERROR(INDEX('Employee Data'!$K$4:$K$553,MATCH(Databackup!A474,Employee_Name,0),0)),\"\",(INDEX('Employee Data'!$K$4:$K$553,MATCH(Databackup!A474,Employee_Name,0))))","v":""},{"$f":"IF(ISERROR(INDEX('Employee Data'!$L$4:$L$553,MATCH(Databackup!A474,Employee_Name,0),0)),\"\",(INDEX('Employee Data'!$L$4:$L$553,MATCH(Databackup!A474,Employee_Name,0))))","v":""},{"$f":"IF(ISERROR(INDEX('Employee Data'!$M$4:$M$553,MATCH(Databackup!A474,Employee_Name,0),0)),\"\",(INDEX('Employee Data'!$M$4:$M$553,MATCH(Databackup!A474,Employee_Name,0))))","v":""},{"$f":"IF(ISERROR(INDEX('Employee Data'!$N$4:$N$553,MATCH(Databackup!A474,Employee_Name,0),0)),\"\",(INDEX('Employee Data'!$N$4:$N$553,MATCH(Databackup!A474,Employee_Name,0))))","v":""},{"$f":"IF(ISERROR(INDEX('Employee Data'!$O$4:$O$553,MATCH(Databackup!A474,Employee_Name,0),0)),\"\",(INDEX('Employee Data'!$O$4:$O$553,MATCH(Databackup!A474,Employee_Name,0))))","v":""}]
[{"$f":"INDEX(Employee_Name,MATCH(SMALL(IF($A$1='Employee Data'!$I$4:$I$553,'Employee Data'!$B$4:$B$553,\"\"),ROW('Employee Data'!A473)),IF($A$1='Employee Data'!$I$4:$I$553,'Employee Data'!$B$4:$B$553,\"\"),0))","v":{"$error":"#NUM!"}},{"$f":"IF(ISERROR(INDEX('Employee Data'!$B$4:$B$553,MATCH(Databackup!A475,Employee_Name,0),0)),\"\",(INDEX('Employee Data'!$B$4:$B$553,MATCH(Databackup!A475,Employee_Name,0))))","v":""},{"$f":"IF(ISERROR(INDEX('Employee Data'!$C$4:$C$553,MATCH(Databackup!A475,Employee_Name,0),0)),\"\",(INDEX('Employee Data'!$C$4:$C$553,MATCH(Databackup!A475,Employee_Name,0))))","v":""},{"$f":"IF(ISERROR(INDEX('Employee Data'!$D$4:$D$553,MATCH(Databackup!A475,Employee_Name,0),0)),\"\",(INDEX('Employee Data'!$D$4:$D$553,MATCH(Databackup!A475,Employee_Name,0))))","v":""},{"$f":"IF(ISERROR(INDEX('Employee Data'!$F$4:$F$553,MATCH(Databackup!A475,Employee_Name,0),0)),\"\",(INDEX('Employee Data'!$F$4:$F$553,MATCH(Databackup!A475,Employee_Name,0))))","v":""},{"$f":"IF(ISERROR(INDEX('Employee Data'!$G$4:$G$553,MATCH(Databackup!A475,Employee_Name,0),0)),\"\",(INDEX('Employee Data'!$G$4:$G$553,MATCH(Databackup!A475,Employee_Name,0))))","v":""},{"$f":"IF(ISERROR(INDEX('Employee Data'!$H$4:$H$553,MATCH(Databackup!A475,Employee_Name,0),0)),\"\",(INDEX('Employee Data'!$H$4:$H$553,MATCH(Databackup!A475,Employee_Name,0))))","v":""},{"$f":"IF(ISERROR(INDEX('Employee Data'!$I$4:$I$553,MATCH(Databackup!A475,Employee_Name,0),0)),\"\",(INDEX('Employee Data'!$I$4:$I$553,MATCH(Databackup!A475,Employee_Name,0))))","v":""},{"$f":"IF(ISERROR(INDEX('Employee Data'!$J$4:$J$553,MATCH(Databackup!A475,Employee_Name,0),0)),\"\",(INDEX('Employee Data'!J$4:$J$553,MATCH(Databackup!A475,Employee_Name,0))))","v":""},{"$f":"IF(ISERROR(INDEX('Employee Data'!$K$4:$K$553,MATCH(Databackup!A475,Employee_Name,0),0)),\"\",(INDEX('Employee Data'!$K$4:$K$553,MATCH(Databackup!A475,Employee_Name,0))))","v":""},{"$f":"IF(ISERROR(INDEX('Employee Data'!$L$4:$L$553,MATCH(Databackup!A475,Employee_Name,0),0)),\"\",(INDEX('Employee Data'!$L$4:$L$553,MATCH(Databackup!A475,Employee_Name,0))))","v":""},{"$f":"IF(ISERROR(INDEX('Employee Data'!$M$4:$M$553,MATCH(Databackup!A475,Employee_Name,0),0)),\"\",(INDEX('Employee Data'!$M$4:$M$553,MATCH(Databackup!A475,Employee_Name,0))))","v":""},{"$f":"IF(ISERROR(INDEX('Employee Data'!$N$4:$N$553,MATCH(Databackup!A475,Employee_Name,0),0)),\"\",(INDEX('Employee Data'!$N$4:$N$553,MATCH(Databackup!A475,Employee_Name,0))))","v":""},{"$f":"IF(ISERROR(INDEX('Employee Data'!$O$4:$O$553,MATCH(Databackup!A475,Employee_Name,0),0)),\"\",(INDEX('Employee Data'!$O$4:$O$553,MATCH(Databackup!A475,Employee_Name,0))))","v":""}]
[{"$f":"INDEX(Employee_Name,MATCH(SMALL(IF($A$1='Employee Data'!$I$4:$I$553,'Employee Data'!$B$4:$B$553,\"\"),ROW('Employee Data'!A474)),IF($A$1='Employee Data'!$I$4:$I$553,'Employee Data'!$B$4:$B$553,\"\"),0))","v":{"$error":"#NUM!"}},{"$f":"IF(ISERROR(INDEX('Employee Data'!$B$4:$B$553,MATCH(Databackup!A476,Employee_Name,0),0)),\"\",(INDEX('Employee Data'!$B$4:$B$553,MATCH(Databackup!A476,Employee_Name,0))))","v":""},{"$f":"IF(ISERROR(INDEX('Employee Data'!$C$4:$C$553,MATCH(Databackup!A476,Employee_Name,0),0)),\"\",(INDEX('Employee Data'!$C$4:$C$553,MATCH(Databackup!A476,Employee_Name,0))))","v":""},{"$f":"IF(ISERROR(INDEX('Employee Data'!$D$4:$D$553,MATCH(Databackup!A476,Employee_Name,0),0)),\"\",(INDEX('Employee Data'!$D$4:$D$553,MATCH(Databackup!A476,Employee_Name,0))))","v":""},{"$f":"IF(ISERROR(INDEX('Employee Data'!$F$4:$F$553,MATCH(Databackup!A476,Employee_Name,0),0)),\"\",(INDEX('Employee Data'!$F$4:$F$553,MATCH(Databackup!A476,Employee_Name,0))))","v":""},{"$f":"IF(ISERROR(INDEX('Employee Data'!$G$4:$G$553,MATCH(Databackup!A476,Employee_Name,0),0)),\"\",(INDEX('Employee Data'!$G$4:$G$553,MATCH(Databackup!A476,Employee_Name,0))))","v":""},{"$f":"IF(ISERROR(INDEX('Employee Data'!$H$4:$H$553,MATCH(Databackup!A476,Employee_Name,0),0)),\"\",(INDEX('Employee Data'!$H$4:$H$553,MATCH(Databackup!A476,Employee_Name,0))))","v":""},{"$f":"IF(ISERROR(INDEX('Employee Data'!$I$4:$I$553,MATCH(Databackup!A476,Employee_Name,0),0)),\"\",(INDEX('Employee Data'!$I$4:$I$553,MATCH(Databackup!A476,Employee_Name,0))))","v":""},{"$f":"IF(ISERROR(INDEX('Employee Data'!$J$4:$J$553,MATCH(Databackup!A476,Employee_Name,0),0)),\"\",(INDEX('Employee Data'!J$4:$J$553,MATCH(Databackup!A476,Employee_Name,0))))","v":""},{"$f":"IF(ISERROR(INDEX('Employee Data'!$K$4:$K$553,MATCH(Databackup!A476,Employee_Name,0),0)),\"\",(INDEX('Employee Data'!$K$4:$K$553,MATCH(Databackup!A476,Employee_Name,0))))","v":""},{"$f":"IF(ISERROR(INDEX('Employee Data'!$L$4:$L$553,MATCH(Databackup!A476,Employee_Name,0),0)),\"\",(INDEX('Employee Data'!$L$4:$L$553,MATCH(Databackup!A476,Employee_Name,0))))","v":""},{"$f":"IF(ISERROR(INDEX('Employee Data'!$M$4:$M$553,MATCH(Databackup!A476,Employee_Name,0),0)),\"\",(INDEX('Employee Data'!$M$4:$M$553,MATCH(Databackup!A476,Employee_Name,0))))","v":""},{"$f":"IF(ISERROR(INDEX('Employee Data'!$N$4:$N$553,MATCH(Databackup!A476,Employee_Name,0),0)),\"\",(INDEX('Employee Data'!$N$4:$N$553,MATCH(Databackup!A476,Employee_Name,0))))","v":""},{"$f":"IF(ISERROR(INDEX('Employee Data'!$O$4:$O$553,MATCH(Databackup!A476,Employee_Name,0),0)),\"\",(INDEX('Employee Data'!$O$4:$O$553,MATCH(Databackup!A476,Employee_Name,0))))","v":""}]
[{"$f":"INDEX(Employee_Name,MATCH(SMALL(IF($A$1='Employee Data'!$I$4:$I$553,'Employee Data'!$B$4:$B$553,\"\"),ROW('Employee Data'!A475)),IF($A$1='Employee Data'!$I$4:$I$553,'Employee Data'!$B$4:$B$553,\"\"),0))","v":{"$error":"#NUM!"}},{"$f":"IF(ISERROR(INDEX('Employee Data'!$B$4:$B$553,MATCH(Databackup!A477,Employee_Name,0),0)),\"\",(INDEX('Employee Data'!$B$4:$B$553,MATCH(Databackup!A477,Employee_Name,0))))","v":""},{"$f":"IF(ISERROR(INDEX('Employee Data'!$C$4:$C$553,MATCH(Databackup!A477,Employee_Name,0),0)),\"\",(INDEX('Employee Data'!$C$4:$C$553,MATCH(Databackup!A477,Employee_Name,0))))","v":""},{"$f":"IF(ISERROR(INDEX('Employee Data'!$D$4:$D$553,MATCH(Databackup!A477,Employee_Name,0),0)),\"\",(INDEX('Employee Data'!$D$4:$D$553,MATCH(Databackup!A477,Employee_Name,0))))","v":""},{"$f":"IF(ISERROR(INDEX('Employee Data'!$F$4:$F$553,MATCH(Databackup!A477,Employee_Name,0),0)),\"\",(INDEX('Employee Data'!$F$4:$F$553,MATCH(Databackup!A477,Employee_Name,0))))","v":""},{"$f":"IF(ISERROR(INDEX('Employee Data'!$G$4:$G$553,MATCH(Databackup!A477,Employee_Name,0),0)),\"\",(INDEX('Employee Data'!$G$4:$G$553,MATCH(Databackup!A477,Employee_Name,0))))","v":""},{"$f":"IF(ISERROR(INDEX('Employee Data'!$H$4:$H$553,MATCH(Databackup!A477,Employee_Name,0),0)),\"\",(INDEX('Employee Data'!$H$4:$H$553,MATCH(Databackup!A477,Employee_Name,0))))","v":""},{"$f":"IF(ISERROR(INDEX('Employee Data'!$I$4:$I$553,MATCH(Databackup!A477,Employee_Name,0),0)),\"\",(INDEX('Employee Data'!$I$4:$I$553,MATCH(Databackup!A477,Employee_Name,0))))","v":""},{"$f":"IF(ISERROR(INDEX('Employee Data'!$J$4:$J$553,MATCH(Databackup!A477,Employee_Name,0),0)),\"\",(INDEX('Employee Data'!J$4:$J$553,MATCH(Databackup!A477,Employee_Name,0))))","v":""},{"$f":"IF(ISERROR(INDEX('Employee Data'!$K$4:$K$553,MATCH(Databackup!A477,Employee_Name,0),0)),\"\",(INDEX('Employee Data'!$K$4:$K$553,MATCH(Databackup!A477,Employee_Name,0))))","v":""},{"$f":"IF(ISERROR(INDEX('Employee Data'!$L$4:$L$553,MATCH(Databackup!A477,Employee_Name,0),0)),\"\",(INDEX('Employee Data'!$L$4:$L$553,MATCH(Databackup!A477,Employee_Name,0))))","v":""},{"$f":"IF(ISERROR(INDEX('Employee Data'!$M$4:$M$553,MATCH(Databackup!A477,Employee_Name,0),0)),\"\",(INDEX('Employee Data'!$M$4:$M$553,MATCH(Databackup!A477,Employee_Name,0))))","v":""},{"$f":"IF(ISERROR(INDEX('Employee Data'!$N$4:$N$553,MATCH(Databackup!A477,Employee_Name,0),0)),\"\",(INDEX('Employee Data'!$N$4:$N$553,MATCH(Databackup!A477,Employee_Name,0))))","v":""},{"$f":"IF(ISERROR(INDEX('Employee Data'!$O$4:$O$553,MATCH(Databackup!A477,Employee_Name,0),0)),\"\",(INDEX('Employee Data'!$O$4:$O$553,MATCH(Databackup!A477,Employee_Name,0))))","v":""}]
[{"$f":"INDEX(Employee_Name,MATCH(SMALL(IF($A$1='Employee Data'!$I$4:$I$553,'Employee Data'!$B$4:$B$553,\"\"),ROW('Employee Data'!A476)),IF($A$1='Employee Data'!$I$4:$I$553,'Employee Data'!$B$4:$B$553,\"\"),0))","v":{"$error":"#NUM!"}},{"$f":"IF(ISERROR(INDEX('Employee Data'!$B$4:$B$553,MATCH(Databackup!A478,Employee_Name,0),0)),\"\",(INDEX('Employee Data'!$B$4:$B$553,MATCH(Databackup!A478,Employee_Name,0))))","v":""},{"$f":"IF(ISERROR(INDEX('Employee Data'!$C$4:$C$553,MATCH(Databackup!A478,Employee_Name,0),0)),\"\",(INDEX('Employee Data'!$C$4:$C$553,MATCH(Databackup!A478,Employee_Name,0))))","v":""},{"$f":"IF(ISERROR(INDEX('Employee Data'!$D$4:$D$553,MATCH(Databackup!A478,Employee_Name,0),0)),\"\",(INDEX('Employee Data'!$D$4:$D$553,MATCH(Databackup!A478,Employee_Name,0))))","v":""},{"$f":"IF(ISERROR(INDEX('Employee Data'!$F$4:$F$553,MATCH(Databackup!A478,Employee_Name,0),0)),\"\",(INDEX('Employee Data'!$F$4:$F$553,MATCH(Databackup!A478,Employee_Name,0))))","v":""},{"$f":"IF(ISERROR(INDEX('Employee Data'!$G$4:$G$553,MATCH(Databackup!A478,Employee_Name,0),0)),\"\",(INDEX('Employee Data'!$G$4:$G$553,MATCH(Databackup!A478,Employee_Name,0))))","v":""},{"$f":"IF(ISERROR(INDEX('Employee Data'!$H$4:$H$553,MATCH(Databackup!A478,Employee_Name,0),0)),\"\",(INDEX('Employee Data'!$H$4:$H$553,MATCH(Databackup!A478,Employee_Name,0))))","v":""},{"$f":"IF(ISERROR(INDEX('Employee Data'!$I$4:$I$553,MATCH(Databackup!A478,Employee_Name,0),0)),\"\",(INDEX('Employee Data'!$I$4:$I$553,MATCH(Databackup!A478,Employee_Name,0))))","v":""},{"$f":"IF(ISERROR(INDEX('Employee Data'!$J$4:$J$553,MATCH(Databackup!A478,Employee_Name,0),0)),\"\",(INDEX('Employee Data'!J$4:$J$553,MATCH(Databackup!A478,Employee_Name,0))))","v":""},{"$f":"IF(ISERROR(INDEX('Employee Data'!$K$4:$K$553,MATCH(Databackup!A478,Employee_Name,0),0)),\"\",(INDEX('Employee Data'!$K$4:$K$553,MATCH(Databackup!A478,Employee_Name,0))))","v":""},{"$f":"IF(ISERROR(INDEX('Employee Data'!$L$4:$L$553,MATCH(Databackup!A478,Employee_Name,0),0)),\"\",(INDEX('Employee Data'!$L$4:$L$553,MATCH(Databackup!A478,Employee_Name,0))))","v":""},{"$f":"IF(ISERROR(INDEX('Employee Data'!$M$4:$M$553,MATCH(Databackup!A478,Employee_Name,0),0)),\"\",(INDEX('Employee Data'!$M$4:$M$553,MATCH(Databackup!A478,Employee_Name,0))))","v":""},{"$f":"IF(ISERROR(INDEX('Employee Data'!$N$4:$N$553,MATCH(Databackup!A478,Employee_Name,0),0)),\"\",(INDEX('Employee Data'!$N$4:$N$553,MATCH(Databackup!A478,Employee_Name,0))))","v":""},{"$f":"IF(ISERROR(INDEX('Employee Data'!$O$4:$O$553,MATCH(Databackup!A478,Employee_Name,0),0)),\"\",(INDEX('Employee Data'!$O$4:$O$553,MATCH(Databackup!A478,Employee_Name,0))))","v":""}]
[{"$f":"INDEX(Employee_Name,MATCH(SMALL(IF($A$1='Employee Data'!$I$4:$I$553,'Employee Data'!$B$4:$B$553,\"\"),ROW('Employee Data'!A477)),IF($A$1='Employee Data'!$I$4:$I$553,'Employee Data'!$B$4:$B$553,\"\"),0))","v":{"$error":"#NUM!"}},{"$f":"IF(ISERROR(INDEX('Employee Data'!$B$4:$B$553,MATCH(Databackup!A479,Employee_Name,0),0)),\"\",(INDEX('Employee Data'!$B$4:$B$553,MATCH(Databackup!A479,Employee_Name,0))))","v":""},{"$f":"IF(ISERROR(INDEX('Employee Data'!$C$4:$C$553,MATCH(Databackup!A479,Employee_Name,0),0)),\"\",(INDEX('Employee Data'!$C$4:$C$553,MATCH(Databackup!A479,Employee_Name,0))))","v":""},{"$f":"IF(ISERROR(INDEX('Employee Data'!$D$4:$D$553,MATCH(Databackup!A479,Employee_Name,0),0)),\"\",(INDEX('Employee Data'!$D$4:$D$553,MATCH(Databackup!A479,Employee_Name,0))))","v":""},{"$f":"IF(ISERROR(INDEX('Employee Data'!$F$4:$F$553,MATCH(Databackup!A479,Employee_Name,0),0)),\"\",(INDEX('Employee Data'!$F$4:$F$553,MATCH(Databackup!A479,Employee_Name,0))))","v":""},{"$f":"IF(ISERROR(INDEX('Employee Data'!$G$4:$G$553,MATCH(Databackup!A479,Employee_Name,0),0)),\"\",(INDEX('Employee Data'!$G$4:$G$553,MATCH(Databackup!A479,Employee_Name,0))))","v":""},{"$f":"IF(ISERROR(INDEX('Employee Data'!$H$4:$H$553,MATCH(Databackup!A479,Employee_Name,0),0)),\"\",(INDEX('Employee Data'!$H$4:$H$553,MATCH(Databackup!A479,Employee_Name,0))))","v":""},{"$f":"IF(ISERROR(INDEX('Employee Data'!$I$4:$I$553,MATCH(Databackup!A479,Employee_Name,0),0)),\"\",(INDEX('Employee Data'!$I$4:$I$553,MATCH(Databackup!A479,Employee_Name,0))))","v":""},{"$f":"IF(ISERROR(INDEX('Employee Data'!$J$4:$J$553,MATCH(Databackup!A479,Employee_Name,0),0)),\"\",(INDEX('Employee Data'!J$4:$J$553,MATCH(Databackup!A479,Employee_Name,0))))","v":""},{"$f":"IF(ISERROR(INDEX('Employee Data'!$K$4:$K$553,MATCH(Databackup!A479,Employee_Name,0),0)),\"\",(INDEX('Employee Data'!$K$4:$K$553,MATCH(Databackup!A479,Employee_Name,0))))","v":""},{"$f":"IF(ISERROR(INDEX('Employee Data'!$L$4:$L$553,MATCH(Databackup!A479,Employee_Name,0),0)),\"\",(INDEX('Employee Data'!$L$4:$L$553,MATCH(Databackup!A479,Employee_Name,0))))","v":""},{"$f":"IF(ISERROR(INDEX('Employee Data'!$M$4:$M$553,MATCH(Databackup!A479,Employee_Name,0),0)),\"\",(INDEX('Employee Data'!$M$4:$M$553,MATCH(Databackup!A479,Employee_Name,0))))","v":""},{"$f":"IF(ISERROR(INDEX('Employee Data'!$N$4:$N$553,MATCH(Databackup!A479,Employee_Name,0),0)),\"\",(INDEX('Employee Data'!$N$4:$N$553,MATCH(Databackup!A479,Employee_Name,0))))","v":""},{"$f":"IF(ISERROR(INDEX('Employee Data'!$O$4:$O$553,MATCH(Databackup!A479,Employee_Name,0),0)),\"\",(INDEX('Employee Data'!$O$4:$O$553,MATCH(Databackup!A479,Employee_Name,0))))","v":""}]
[{"$f":"INDEX(Employee_Name,MATCH(SMALL(IF($A$1='Employee Data'!$I$4:$I$553,'Employee Data'!$B$4:$B$553,\"\"),ROW('Employee Data'!A478)),IF($A$1='Employee Data'!$I$4:$I$553,'Employee Data'!$B$4:$B$553,\"\"),0))","v":{"$error":"#NUM!"}},{"$f":"IF(ISERROR(INDEX('Employee Data'!$B$4:$B$553,MATCH(Databackup!A480,Employee_Name,0),0)),\"\",(INDEX('Employee Data'!$B$4:$B$553,MATCH(Databackup!A480,Employee_Name,0))))","v":""},{"$f":"IF(ISERROR(INDEX('Employee Data'!$C$4:$C$553,MATCH(Databackup!A480,Employee_Name,0),0)),\"\",(INDEX('Employee Data'!$C$4:$C$553,MATCH(Databackup!A480,Employee_Name,0))))","v":""},{"$f":"IF(ISERROR(INDEX('Employee Data'!$D$4:$D$553,MATCH(Databackup!A480,Employee_Name,0),0)),\"\",(INDEX('Employee Data'!$D$4:$D$553,MATCH(Databackup!A480,Employee_Name,0))))","v":""},{"$f":"IF(ISERROR(INDEX('Employee Data'!$F$4:$F$553,MATCH(Databackup!A480,Employee_Name,0),0)),\"\",(INDEX('Employee Data'!$F$4:$F$553,MATCH(Databackup!A480,Employee_Name,0))))","v":""},{"$f":"IF(ISERROR(INDEX('Employee Data'!$G$4:$G$553,MATCH(Databackup!A480,Employee_Name,0),0)),\"\",(INDEX('Employee Data'!$G$4:$G$553,MATCH(Databackup!A480,Employee_Name,0))))","v":""},{"$f":"IF(ISERROR(INDEX('Employee Data'!$H$4:$H$553,MATCH(Databackup!A480,Employee_Name,0),0)),\"\",(INDEX('Employee Data'!$H$4:$H$553,MATCH(Databackup!A480,Employee_Name,0))))","v":""},{"$f":"IF(ISERROR(INDEX('Employee Data'!$I$4:$I$553,MATCH(Databackup!A480,Employee_Name,0),0)),\"\",(INDEX('Employee Data'!$I$4:$I$553,MATCH(Databackup!A480,Employee_Name,0))))","v":""},{"$f":"IF(ISERROR(INDEX('Employee Data'!$J$4:$J$553,MATCH(Databackup!A480,Employee_Name,0),0)),\"\",(INDEX('Employee Data'!J$4:$J$553,MATCH(Databackup!A480,Employee_Name,0))))","v":""},{"$f":"IF(ISERROR(INDEX('Employee Data'!$K$4:$K$553,MATCH(Databackup!A480,Employee_Name,0),0)),\"\",(INDEX('Employee Data'!$K$4:$K$553,MATCH(Databackup!A480,Employee_Name,0))))","v":""},{"$f":"IF(ISERROR(INDEX('Employee Data'!$L$4:$L$553,MATCH(Databackup!A480,Employee_Name,0),0)),\"\",(INDEX('Employee Data'!$L$4:$L$553,MATCH(Databackup!A480,Employee_Name,0))))","v":""},{"$f":"IF(ISERROR(INDEX('Employee Data'!$M$4:$M$553,MATCH(Databackup!A480,Employee_Name,0),0)),\"\",(INDEX('Employee Data'!$M$4:$M$553,MATCH(Databackup!A480,Employee_Name,0))))","v":""},{"$f":"IF(ISERROR(INDEX('Employee Data'!$N$4:$N$553,MATCH(Databackup!A480,Employee_Name,0),0)),\"\",(INDEX('Employee Data'!$N$4:$N$553,MATCH(Databackup!A480,Employee_Name,0))))","v":""},{"$f":"IF(ISERROR(INDEX('Employee Data'!$O$4:$O$553,MATCH(Databackup!A480,Employee_Name,0),0)),\"\",(INDEX('Employee Data'!$O$4:$O$553,MATCH(Databackup!A480,Employee_Name,0))))","v":""}]
[{"$f":"INDEX(Employee_Name,MATCH(SMALL(IF($A$1='Employee Data'!$I$4:$I$553,'Employee Data'!$B$4:$B$553,\"\"),ROW('Employee Data'!A479)),IF($A$1='Employee Data'!$I$4:$I$553,'Employee Data'!$B$4:$B$553,\"\"),0))","v":{"$error":"#NUM!"}},{"$f":"IF(ISERROR(INDEX('Employee Data'!$B$4:$B$553,MATCH(Databackup!A481,Employee_Name,0),0)),\"\",(INDEX('Employee Data'!$B$4:$B$553,MATCH(Databackup!A481,Employee_Name,0))))","v":""},{"$f":"IF(ISERROR(INDEX('Employee Data'!$C$4:$C$553,MATCH(Databackup!A481,Employee_Name,0),0)),\"\",(INDEX('Employee Data'!$C$4:$C$553,MATCH(Databackup!A481,Employee_Name,0))))","v":""},{"$f":"IF(ISERROR(INDEX('Employee Data'!$D$4:$D$553,MATCH(Databackup!A481,Employee_Name,0),0)),\"\",(INDEX('Employee Data'!$D$4:$D$553,MATCH(Databackup!A481,Employee_Name,0))))","v":""},{"$f":"IF(ISERROR(INDEX('Employee Data'!$F$4:$F$553,MATCH(Databackup!A481,Employee_Name,0),0)),\"\",(INDEX('Employee Data'!$F$4:$F$553,MATCH(Databackup!A481,Employee_Name,0))))","v":""},{"$f":"IF(ISERROR(INDEX('Employee Data'!$G$4:$G$553,MATCH(Databackup!A481,Employee_Name,0),0)),\"\",(INDEX('Employee Data'!$G$4:$G$553,MATCH(Databackup!A481,Employee_Name,0))))","v":""},{"$f":"IF(ISERROR(INDEX('Employee Data'!$H$4:$H$553,MATCH(Databackup!A481,Employee_Name,0),0)),\"\",(INDEX('Employee Data'!$H$4:$H$553,MATCH(Databackup!A481,Employee_Name,0))))","v":""},{"$f":"IF(ISERROR(INDEX('Employee Data'!$I$4:$I$553,MATCH(Databackup!A481,Employee_Name,0),0)),\"\",(INDEX('Employee Data'!$I$4:$I$553,MATCH(Databackup!A481,Employee_Name,0))))","v":""},{"$f":"IF(ISERROR(INDEX('Employee Data'!$J$4:$J$553,MATCH(Databackup!A481,Employee_Name,0),0)),\"\",(INDEX('Employee Data'!J$4:$J$553,MATCH(Databackup!A481,Employee_Name,0))))","v":""},{"$f":"IF(ISERROR(INDEX('Employee Data'!$K$4:$K$553,MATCH(Databackup!A481,Employee_Name,0),0)),\"\",(INDEX('Employee Data'!$K$4:$K$553,MATCH(Databackup!A481,Employee_Name,0))))","v":""},{"$f":"IF(ISERROR(INDEX('Employee Data'!$L$4:$L$553,MATCH(Databackup!A481,Employee_Name,0),0)),\"\",(INDEX('Employee Data'!$L$4:$L$553,MATCH(Databackup!A481,Employee_Name,0))))","v":""},{"$f":"IF(ISERROR(INDEX('Employee Data'!$M$4:$M$553,MATCH(Databackup!A481,Employee_Name,0),0)),\"\",(INDEX('Employee Data'!$M$4:$M$553,MATCH(Databackup!A481,Employee_Name,0))))","v":""},{"$f":"IF(ISERROR(INDEX('Employee Data'!$N$4:$N$553,MATCH(Databackup!A481,Employee_Name,0),0)),\"\",(INDEX('Employee Data'!$N$4:$N$553,MATCH(Databackup!A481,Employee_Name,0))))","v":""},{"$f":"IF(ISERROR(INDEX('Employee Data'!$O$4:$O$553,MATCH(Databackup!A481,Employee_Name,0),0)),\"\",(INDEX('Employee Data'!$O$4:$O$553,MATCH(Databackup!A481,Employee_Name,0))))","v":""}]
[{"$f":"INDEX(Employee_Name,MATCH(SMALL(IF($A$1='Employee Data'!$I$4:$I$553,'Employee Data'!$B$4:$B$553,\"\"),ROW('Employee Data'!A480)),IF($A$1='Employee Data'!$I$4:$I$553,'Employee Data'!$B$4:$B$553,\"\"),0))","v":{"$error":"#NUM!"}},{"$f":"IF(ISERROR(INDEX('Employee Data'!$B$4:$B$553,MATCH(Databackup!A482,Employee_Name,0),0)),\"\",(INDEX('Employee Data'!$B$4:$B$553,MATCH(Databackup!A482,Employee_Name,0))))","v":""},{"$f":"IF(ISERROR(INDEX('Employee Data'!$C$4:$C$553,MATCH(Databackup!A482,Employee_Name,0),0)),\"\",(INDEX('Employee Data'!$C$4:$C$553,MATCH(Databackup!A482,Employee_Name,0))))","v":""},{"$f":"IF(ISERROR(INDEX('Employee Data'!$D$4:$D$553,MATCH(Databackup!A482,Employee_Name,0),0)),\"\",(INDEX('Employee Data'!$D$4:$D$553,MATCH(Databackup!A482,Employee_Name,0))))","v":""},{"$f":"IF(ISERROR(INDEX('Employee Data'!$F$4:$F$553,MATCH(Databackup!A482,Employee_Name,0),0)),\"\",(INDEX('Employee Data'!$F$4:$F$553,MATCH(Databackup!A482,Employee_Name,0))))","v":""},{"$f":"IF(ISERROR(INDEX('Employee Data'!$G$4:$G$553,MATCH(Databackup!A482,Employee_Name,0),0)),\"\",(INDEX('Employee Data'!$G$4:$G$553,MATCH(Databackup!A482,Employee_Name,0))))","v":""},{"$f":"IF(ISERROR(INDEX('Employee Data'!$H$4:$H$553,MATCH(Databackup!A482,Employee_Name,0),0)),\"\",(INDEX('Employee Data'!$H$4:$H$553,MATCH(Databackup!A482,Employee_Name,0))))","v":""},{"$f":"IF(ISERROR(INDEX('Employee Data'!$I$4:$I$553,MATCH(Databackup!A482,Employee_Name,0),0)),\"\",(INDEX('Employee Data'!$I$4:$I$553,MATCH(Databackup!A482,Employee_Name,0))))","v":""},{"$f":"IF(ISERROR(INDEX('Employee Data'!$J$4:$J$553,MATCH(Databackup!A482,Employee_Name,0),0)),\"\",(INDEX('Employee Data'!J$4:$J$553,MATCH(Databackup!A482,Employee_Name,0))))","v":""},{"$f":"IF(ISERROR(INDEX('Employee Data'!$K$4:$K$553,MATCH(Databackup!A482,Employee_Name,0),0)),\"\",(INDEX('Employee Data'!$K$4:$K$553,MATCH(Databackup!A482,Employee_Name,0))))","v":""},{"$f":"IF(ISERROR(INDEX('Employee Data'!$L$4:$L$553,MATCH(Databackup!A482,Employee_Name,0),0)),\"\",(INDEX('Employee Data'!$L$4:$L$553,MATCH(Databackup!A482,Employee_Name,0))))","v":""},{"$f":"IF(ISERROR(INDEX('Employee Data'!$M$4:$M$553,MATCH(Databackup!A482,Employee_Name,0),0)),\"\",(INDEX('Employee Data'!$M$4:$M$553,MATCH(Databackup!A482,Employee_Name,0))))","v":""},{"$f":"IF(ISERROR(INDEX('Employee Data'!$N$4:$N$553,MATCH(Databackup!A482,Employee_Name,0),0)),\"\",(INDEX('Employee Data'!$N$4:$N$553,MATCH(Databackup!A482,Employee_Name,0))))","v":""},{"$f":"IF(ISERROR(INDEX('Employee Data'!$O$4:$O$553,MATCH(Databackup!A482,Employee_Name,0),0)),\"\",(INDEX('Employee Data'!$O$4:$O$553,MATCH(Databackup!A482,Employee_Name,0))))","v":""}]
[{"$f":"INDEX(Employee_Name,MATCH(SMALL(IF($A$1='Employee Data'!$I$4:$I$553,'Employee Data'!$B$4:$B$553,\"\"),ROW('Employee Data'!A481)),IF($A$1='Employee Data'!$I$4:$I$553,'Employee Data'!$B$4:$B$553,\"\"),0))","v":{"$error":"#NUM!"}},{"$f":"IF(ISERROR(INDEX('Employee Data'!$B$4:$B$553,MATCH(Databackup!A483,Employee_Name,0),0)),\"\",(INDEX('Employee Data'!$B$4:$B$553,MATCH(Databackup!A483,Employee_Name,0))))","v":""},{"$f":"IF(ISERROR(INDEX('Employee Data'!$C$4:$C$553,MATCH(Databackup!A483,Employee_Name,0),0)),\"\",(INDEX('Employee Data'!$C$4:$C$553,MATCH(Databackup!A483,Employee_Name,0))))","v":""},{"$f":"IF(ISERROR(INDEX('Employee Data'!$D$4:$D$553,MATCH(Databackup!A483,Employee_Name,0),0)),\"\",(INDEX('Employee Data'!$D$4:$D$553,MATCH(Databackup!A483,Employee_Name,0))))","v":""},{"$f":"IF(ISERROR(INDEX('Employee Data'!$F$4:$F$553,MATCH(Databackup!A483,Employee_Name,0),0)),\"\",(INDEX('Employee Data'!$F$4:$F$553,MATCH(Databackup!A483,Employee_Name,0))))","v":""},{"$f":"IF(ISERROR(INDEX('Employee Data'!$G$4:$G$553,MATCH(Databackup!A483,Employee_Name,0),0)),\"\",(INDEX('Employee Data'!$G$4:$G$553,MATCH(Databackup!A483,Employee_Name,0))))","v":""},{"$f":"IF(ISERROR(INDEX('Employee Data'!$H$4:$H$553,MATCH(Databackup!A483,Employee_Name,0),0)),\"\",(INDEX('Employee Data'!$H$4:$H$553,MATCH(Databackup!A483,Employee_Name,0))))","v":""},{"$f":"IF(ISERROR(INDEX('Employee Data'!$I$4:$I$553,MATCH(Databackup!A483,Employee_Name,0),0)),\"\",(INDEX('Employee Data'!$I$4:$I$553,MATCH(Databackup!A483,Employee_Name,0))))","v":""},{"$f":"IF(ISERROR(INDEX('Employee Data'!$J$4:$J$553,MATCH(Databackup!A483,Employee_Name,0),0)),\"\",(INDEX('Employee Data'!J$4:$J$553,MATCH(Databackup!A483,Employee_Name,0))))","v":""},{"$f":"IF(ISERROR(INDEX('Employee Data'!$K$4:$K$553,MATCH(Databackup!A483,Employee_Name,0),0)),\"\",(INDEX('Employee Data'!$K$4:$K$553,MATCH(Databackup!A483,Employee_Name,0))))","v":""},{"$f":"IF(ISERROR(INDEX('Employee Data'!$L$4:$L$553,MATCH(Databackup!A483,Employee_Name,0),0)),\"\",(INDEX('Employee Data'!$L$4:$L$553,MATCH(Databackup!A483,Employee_Name,0))))","v":""},{"$f":"IF(ISERROR(INDEX('Employee Data'!$M$4:$M$553,MATCH(Databackup!A483,Employee_Name,0),0)),\"\",(INDEX('Employee Data'!$M$4:$M$553,MATCH(Databackup!A483,Employee_Name,0))))","v":""},{"$f":"IF(ISERROR(INDEX('Employee Data'!$N$4:$N$553,MATCH(Databackup!A483,Employee_Name,0),0)),\"\",(INDEX('Employee Data'!$N$4:$N$553,MATCH(Databackup!A483,Employee_Name,0))))","v":""},{"$f":"IF(ISERROR(INDEX('Employee Data'!$O$4:$O$553,MATCH(Databackup!A483,Employee_Name,0),0)),\"\",(INDEX('Employee Data'!$O$4:$O$553,MATCH(Databackup!A483,Employee_Name,0))))","v":""}]
[{"$f":"INDEX(Employee_Name,MATCH(SMALL(IF($A$1='Employee Data'!$I$4:$I$553,'Employee Data'!$B$4:$B$553,\"\"),ROW('Employee Data'!A482)),IF($A$1='Employee Data'!$I$4:$I$553,'Employee Data'!$B$4:$B$553,\"\"),0))","v":{"$error":"#NUM!"}},{"$f":"IF(ISERROR(INDEX('Employee Data'!$B$4:$B$553,MATCH(Databackup!A484,Employee_Name,0),0)),\"\",(INDEX('Employee Data'!$B$4:$B$553,MATCH(Databackup!A484,Employee_Name,0))))","v":""},{"$f":"IF(ISERROR(INDEX('Employee Data'!$C$4:$C$553,MATCH(Databackup!A484,Employee_Name,0),0)),\"\",(INDEX('Employee Data'!$C$4:$C$553,MATCH(Databackup!A484,Employee_Name,0))))","v":""},{"$f":"IF(ISERROR(INDEX('Employee Data'!$D$4:$D$553,MATCH(Databackup!A484,Employee_Name,0),0)),\"\",(INDEX('Employee Data'!$D$4:$D$553,MATCH(Databackup!A484,Employee_Name,0))))","v":""},{"$f":"IF(ISERROR(INDEX('Employee Data'!$F$4:$F$553,MATCH(Databackup!A484,Employee_Name,0),0)),\"\",(INDEX('Employee Data'!$F$4:$F$553,MATCH(Databackup!A484,Employee_Name,0))))","v":""},{"$f":"IF(ISERROR(INDEX('Employee Data'!$G$4:$G$553,MATCH(Databackup!A484,Employee_Name,0),0)),\"\",(INDEX('Employee Data'!$G$4:$G$553,MATCH(Databackup!A484,Employee_Name,0))))","v":""},{"$f":"IF(ISERROR(INDEX('Employee Data'!$H$4:$H$553,MATCH(Databackup!A484,Employee_Name,0),0)),\"\",(INDEX('Employee Data'!$H$4:$H$553,MATCH(Databackup!A484,Employee_Name,0))))","v":""},{"$f":"IF(ISERROR(INDEX('Employee Data'!$I$4:$I$553,MATCH(Databackup!A484,Employee_Name,0),0)),\"\",(INDEX('Employee Data'!$I$4:$I$553,MATCH(Databackup!A484,Employee_Name,0))))","v":""},{"$f":"IF(ISERROR(INDEX('Employee Data'!$J$4:$J$553,MATCH(Databackup!A484,Employee_Name,0),0)),\"\",(INDEX('Employee Data'!J$4:$J$553,MATCH(Databackup!A484,Employee_Name,0))))","v":""},{"$f":"IF(ISERROR(INDEX('Employee Data'!$K$4:$K$553,MATCH(Databackup!A484,Employee_Name,0),0)),\"\",(INDEX('Employee Data'!$K$4:$K$553,MATCH(Databackup!A484,Employee_Name,0))))","v":""},{"$f":"IF(ISERROR(INDEX('Employee Data'!$L$4:$L$553,MATCH(Databackup!A484,Employee_Name,0),0)),\"\",(INDEX('Employee Data'!$L$4:$L$553,MATCH(Databackup!A484,Employee_Name,0))))","v":""},{"$f":"IF(ISERROR(INDEX('Employee Data'!$M$4:$M$553,MATCH(Databackup!A484,Employee_Name,0),0)),\"\",(INDEX('Employee Data'!$M$4:$M$553,MATCH(Databackup!A484,Employee_Name,0))))","v":""},{"$f":"IF(ISERROR(INDEX('Employee Data'!$N$4:$N$553,MATCH(Databackup!A484,Employee_Name,0),0)),\"\",(INDEX('Employee Data'!$N$4:$N$553,MATCH(Databackup!A484,Employee_Name,0))))","v":""},{"$f":"IF(ISERROR(INDEX('Employee Data'!$O$4:$O$553,MATCH(Databackup!A484,Employee_Name,0),0)),\"\",(INDEX('Employee Data'!$O$4:$O$553,MATCH(Databackup!A484,Employee_Name,0))))","v":""}]
[{"$f":"INDEX(Employee_Name,MATCH(SMALL(IF($A$1='Employee Data'!$I$4:$I$553,'Employee Data'!$B$4:$B$553,\"\"),ROW('Employee Data'!A483)),IF($A$1='Employee Data'!$I$4:$I$553,'Employee Data'!$B$4:$B$553,\"\"),0))","v":{"$error":"#NUM!"}},{"$f":"IF(ISERROR(INDEX('Employee Data'!$B$4:$B$553,MATCH(Databackup!A485,Employee_Name,0),0)),\"\",(INDEX('Employee Data'!$B$4:$B$553,MATCH(Databackup!A485,Employee_Name,0))))","v":""},{"$f":"IF(ISERROR(INDEX('Employee Data'!$C$4:$C$553,MATCH(Databackup!A485,Employee_Name,0),0)),\"\",(INDEX('Employee Data'!$C$4:$C$553,MATCH(Databackup!A485,Employee_Name,0))))","v":""},{"$f":"IF(ISERROR(INDEX('Employee Data'!$D$4:$D$553,MATCH(Databackup!A485,Employee_Name,0),0)),\"\",(INDEX('Employee Data'!$D$4:$D$553,MATCH(Databackup!A485,Employee_Name,0))))","v":""},{"$f":"IF(ISERROR(INDEX('Employee Data'!$F$4:$F$553,MATCH(Databackup!A485,Employee_Name,0),0)),\"\",(INDEX('Employee Data'!$F$4:$F$553,MATCH(Databackup!A485,Employee_Name,0))))","v":""},{"$f":"IF(ISERROR(INDEX('Employee Data'!$G$4:$G$553,MATCH(Databackup!A485,Employee_Name,0),0)),\"\",(INDEX('Employee Data'!$G$4:$G$553,MATCH(Databackup!A485,Employee_Name,0))))","v":""},{"$f":"IF(ISERROR(INDEX('Employee Data'!$H$4:$H$553,MATCH(Databackup!A485,Employee_Name,0),0)),\"\",(INDEX('Employee Data'!$H$4:$H$553,MATCH(Databackup!A485,Employee_Name,0))))","v":""},{"$f":"IF(ISERROR(INDEX('Employee Data'!$I$4:$I$553,MATCH(Databackup!A485,Employee_Name,0),0)),\"\",(INDEX('Employee Data'!$I$4:$I$553,MATCH(Databackup!A485,Employee_Name,0))))","v":""},{"$f":"IF(ISERROR(INDEX('Employee Data'!$J$4:$J$553,MATCH(Databackup!A485,Employee_Name,0),0)),\"\",(INDEX('Employee Data'!J$4:$J$553,MATCH(Databackup!A485,Employee_Name,0))))","v":""},{"$f":"IF(ISERROR(INDEX('Employee Data'!$K$4:$K$553,MATCH(Databackup!A485,Employee_Name,0),0)),\"\",(INDEX('Employee Data'!$K$4:$K$553,MATCH(Databackup!A485,Employee_Name,0))))","v":""},{"$f":"IF(ISERROR(INDEX('Employee Data'!$L$4:$L$553,MATCH(Databackup!A485,Employee_Name,0),0)),\"\",(INDEX('Employee Data'!$L$4:$L$553,MATCH(Databackup!A485,Employee_Name,0))))","v":""},{"$f":"IF(ISERROR(INDEX('Employee Data'!$M$4:$M$553,MATCH(Databackup!A485,Employee_Name,0),0)),\"\",(INDEX('Employee Data'!$M$4:$M$553,MATCH(Databackup!A485,Employee_Name,0))))","v":""},{"$f":"IF(ISERROR(INDEX('Employee Data'!$N$4:$N$553,MATCH(Databackup!A485,Employee_Name,0),0)),\"\",(INDEX('Employee Data'!$N$4:$N$553,MATCH(Databackup!A485,Employee_Name,0))))","v":""},{"$f":"IF(ISERROR(INDEX('Employee Data'!$O$4:$O$553,MATCH(Databackup!A485,Employee_Name,0),0)),\"\",(INDEX('Employee Data'!$O$4:$O$553,MATCH(Databackup!A485,Employee_Name,0))))","v":""}]
[{"$f":"INDEX(Employee_Name,MATCH(SMALL(IF($A$1='Employee Data'!$I$4:$I$553,'Employee Data'!$B$4:$B$553,\"\"),ROW('Employee Data'!A484)),IF($A$1='Employee Data'!$I$4:$I$553,'Employee Data'!$B$4:$B$553,\"\"),0))","v":{"$error":"#NUM!"}},{"$f":"IF(ISERROR(INDEX('Employee Data'!$B$4:$B$553,MATCH(Databackup!A486,Employee_Name,0),0)),\"\",(INDEX('Employee Data'!$B$4:$B$553,MATCH(Databackup!A486,Employee_Name,0))))","v":""},{"$f":"IF(ISERROR(INDEX('Employee Data'!$C$4:$C$553,MATCH(Databackup!A486,Employee_Name,0),0)),\"\",(INDEX('Employee Data'!$C$4:$C$553,MATCH(Databackup!A486,Employee_Name,0))))","v":""},{"$f":"IF(ISERROR(INDEX('Employee Data'!$D$4:$D$553,MATCH(Databackup!A486,Employee_Name,0),0)),\"\",(INDEX('Employee Data'!$D$4:$D$553,MATCH(Databackup!A486,Employee_Name,0))))","v":""},{"$f":"IF(ISERROR(INDEX('Employee Data'!$F$4:$F$553,MATCH(Databackup!A486,Employee_Name,0),0)),\"\",(INDEX('Employee Data'!$F$4:$F$553,MATCH(Databackup!A486,Employee_Name,0))))","v":""},{"$f":"IF(ISERROR(INDEX('Employee Data'!$G$4:$G$553,MATCH(Databackup!A486,Employee_Name,0),0)),\"\",(INDEX('Employee Data'!$G$4:$G$553,MATCH(Databackup!A486,Employee_Name,0))))","v":""},{"$f":"IF(ISERROR(INDEX('Employee Data'!$H$4:$H$553,MATCH(Databackup!A486,Employee_Name,0),0)),\"\",(INDEX('Employee Data'!$H$4:$H$553,MATCH(Databackup!A486,Employee_Name,0))))","v":""},{"$f":"IF(ISERROR(INDEX('Employee Data'!$I$4:$I$553,MATCH(Databackup!A486,Employee_Name,0),0)),\"\",(INDEX('Employee Data'!$I$4:$I$553,MATCH(Databackup!A486,Employee_Name,0))))","v":""},{"$f":"IF(ISERROR(INDEX('Employee Data'!$J$4:$J$553,MATCH(Databackup!A486,Employee_Name,0),0)),\"\",(INDEX('Employee Data'!J$4:$J$553,MATCH(Databackup!A486,Employee_Name,0))))","v":""},{"$f":"IF(ISERROR(INDEX('Employee Data'!$K$4:$K$553,MATCH(Databackup!A486,Employee_Name,0),0)),\"\",(INDEX('Employee Data'!$K$4:$K$553,MATCH(Databackup!A486,Employee_Name,0))))","v":""},{"$f":"IF(ISERROR(INDEX('Employee Data'!$L$4:$L$553,MATCH(Databackup!A486,Employee_Name,0),0)),\"\",(INDEX('Employee Data'!$L$4:$L$553,MATCH(Databackup!A486,Employee_Name,0))))","v":""},{"$f":"IF(ISERROR(INDEX('Employee Data'!$M$4:$M$553,MATCH(Databackup!A486,Employee_Name,0),0)),\"\",(INDEX('Employee Data'!$M$4:$M$553,MATCH(Databackup!A486,Employee_Name,0))))","v":""},{"$f":"IF(ISERROR(INDEX('Employee Data'!$N$4:$N$553,MATCH(Databackup!A486,Employee_Name,0),0)),\"\",(INDEX('Employee Data'!$N$4:$N$553,MATCH(Databackup!A486,Employee_Name,0))))","v":""},{"$f":"IF(ISERROR(INDEX('Employee Data'!$O$4:$O$553,MATCH(Databackup!A486,Employee_Name,0),0)),\"\",(INDEX('Employee Data'!$O$4:$O$553,MATCH(Databackup!A486,Employee_Name,0))))","v":""}]
[{"$f":"INDEX(Employee_Name,MATCH(SMALL(IF($A$1='Employee Data'!$I$4:$I$553,'Employee Data'!$B$4:$B$553,\"\"),ROW('Employee Data'!A485)),IF($A$1='Employee Data'!$I$4:$I$553,'Employee Data'!$B$4:$B$553,\"\"),0))","v":{"$error":"#NUM!"}},{"$f":"IF(ISERROR(INDEX('Employee Data'!$B$4:$B$553,MATCH(Databackup!A487,Employee_Name,0),0)),\"\",(INDEX('Employee Data'!$B$4:$B$553,MATCH(Databackup!A487,Employee_Name,0))))","v":""},{"$f":"IF(ISERROR(INDEX('Employee Data'!$C$4:$C$553,MATCH(Databackup!A487,Employee_Name,0),0)),\"\",(INDEX('Employee Data'!$C$4:$C$553,MATCH(Databackup!A487,Employee_Name,0))))","v":""},{"$f":"IF(ISERROR(INDEX('Employee Data'!$D$4:$D$553,MATCH(Databackup!A487,Employee_Name,0),0)),\"\",(INDEX('Employee Data'!$D$4:$D$553,MATCH(Databackup!A487,Employee_Name,0))))","v":""},{"$f":"IF(ISERROR(INDEX('Employee Data'!$F$4:$F$553,MATCH(Databackup!A487,Employee_Name,0),0)),\"\",(INDEX('Employee Data'!$F$4:$F$553,MATCH(Databackup!A487,Employee_Name,0))))","v":""},{"$f":"IF(ISERROR(INDEX('Employee Data'!$G$4:$G$553,MATCH(Databackup!A487,Employee_Name,0),0)),\"\",(INDEX('Employee Data'!$G$4:$G$553,MATCH(Databackup!A487,Employee_Name,0))))","v":""},{"$f":"IF(ISERROR(INDEX('Employee Data'!$H$4:$H$553,MATCH(Databackup!A487,Employee_Name,0),0)),\"\",(INDEX('Employee Data'!$H$4:$H$553,MATCH(Databackup!A487,Employee_Name,0))))","v":""},{"$f":"IF(ISERROR(INDEX('Employee Data'!$I$4:$I$553,MATCH(Databackup!A487,Employee_Name,0),0)),\"\",(INDEX('Employee Data'!$I$4:$I$553,MATCH(Databackup!A487,Employee_Name,0))))","v":""},{"$f":"IF(ISERROR(INDEX('Employee Data'!$J$4:$J$553,MATCH(Databackup!A487,Employee_Name,0),0)),\"\",(INDEX('Employee Data'!J$4:$J$553,MATCH(Databackup!A487,Employee_Name,0))))","v":""},{"$f":"IF(ISERROR(INDEX('Employee Data'!$K$4:$K$553,MATCH(Databackup!A487,Employee_Name,0),0)),\"\",(INDEX('Employee Data'!$K$4:$K$553,MATCH(Databackup!A487,Employee_Name,0))))","v":""},{"$f":"IF(ISERROR(INDEX('Employee Data'!$L$4:$L$553,MATCH(Databackup!A487,Employee_Name,0),0)),\"\",(INDEX('Employee Data'!$L$4:$L$553,MATCH(Databackup!A487,Employee_Name,0))))","v":""},{"$f":"IF(ISERROR(INDEX('Employee Data'!$M$4:$M$553,MATCH(Databackup!A487,Employee_Name,0),0)),\"\",(INDEX('Employee Data'!$M$4:$M$553,MATCH(Databackup!A487,Employee_Name,0))))","v":""},{"$f":"IF(ISERROR(INDEX('Employee Data'!$N$4:$N$553,MATCH(Databackup!A487,Employee_Name,0),0)),\"\",(INDEX('Employee Data'!$N$4:$N$553,MATCH(Databackup!A487,Employee_Name,0))))","v":""},{"$f":"IF(ISERROR(INDEX('Employee Data'!$O$4:$O$553,MATCH(Databackup!A487,Employee_Name,0),0)),\"\",(INDEX('Employee Data'!$O$4:$O$553,MATCH(Databackup!A487,Employee_Name,0))))","v":""}]
[{"$f":"INDEX(Employee_Name,MATCH(SMALL(IF($A$1='Employee Data'!$I$4:$I$553,'Employee Data'!$B$4:$B$553,\"\"),ROW('Employee Data'!A486)),IF($A$1='Employee Data'!$I$4:$I$553,'Employee Data'!$B$4:$B$553,\"\"),0))","v":{"$error":"#NUM!"}},{"$f":"IF(ISERROR(INDEX('Employee Data'!$B$4:$B$553,MATCH(Databackup!A488,Employee_Name,0),0)),\"\",(INDEX('Employee Data'!$B$4:$B$553,MATCH(Databackup!A488,Employee_Name,0))))","v":""},{"$f":"IF(ISERROR(INDEX('Employee Data'!$C$4:$C$553,MATCH(Databackup!A488,Employee_Name,0),0)),\"\",(INDEX('Employee Data'!$C$4:$C$553,MATCH(Databackup!A488,Employee_Name,0))))","v":""},{"$f":"IF(ISERROR(INDEX('Employee Data'!$D$4:$D$553,MATCH(Databackup!A488,Employee_Name,0),0)),\"\",(INDEX('Employee Data'!$D$4:$D$553,MATCH(Databackup!A488,Employee_Name,0))))","v":""},{"$f":"IF(ISERROR(INDEX('Employee Data'!$F$4:$F$553,MATCH(Databackup!A488,Employee_Name,0),0)),\"\",(INDEX('Employee Data'!$F$4:$F$553,MATCH(Databackup!A488,Employee_Name,0))))","v":""},{"$f":"IF(ISERROR(INDEX('Employee Data'!$G$4:$G$553,MATCH(Databackup!A488,Employee_Name,0),0)),\"\",(INDEX('Employee Data'!$G$4:$G$553,MATCH(Databackup!A488,Employee_Name,0))))","v":""},{"$f":"IF(ISERROR(INDEX('Employee Data'!$H$4:$H$553,MATCH(Databackup!A488,Employee_Name,0),0)),\"\",(INDEX('Employee Data'!$H$4:$H$553,MATCH(Databackup!A488,Employee_Name,0))))","v":""},{"$f":"IF(ISERROR(INDEX('Employee Data'!$I$4:$I$553,MATCH(Databackup!A488,Employee_Name,0),0)),\"\",(INDEX('Employee Data'!$I$4:$I$553,MATCH(Databackup!A488,Employee_Name,0))))","v":""},{"$f":"IF(ISERROR(INDEX('Employee Data'!$J$4:$J$553,MATCH(Databackup!A488,Employee_Name,0),0)),\"\",(INDEX('Employee Data'!J$4:$J$553,MATCH(Databackup!A488,Employee_Name,0))))","v":""},{"$f":"IF(ISERROR(INDEX('Employee Data'!$K$4:$K$553,MATCH(Databackup!A488,Employee_Name,0),0)),\"\",(INDEX('Employee Data'!$K$4:$K$553,MATCH(Databackup!A488,Employee_Name,0))))","v":""},{"$f":"IF(ISERROR(INDEX('Employee Data'!$L$4:$L$553,MATCH(Databackup!A488,Employee_Name,0),0)),\"\",(INDEX('Employee Data'!$L$4:$L$553,MATCH(Databackup!A488,Employee_Name,0))))","v":""},{"$f":"IF(ISERROR(INDEX('Employee Data'!$M$4:$M$553,MATCH(Databackup!A488,Employee_Name,0),0)),\"\",(INDEX('Employee Data'!$M$4:$M$553,MATCH(Databackup!A488,Employee_Name,0))))","v":""},{"$f":"IF(ISERROR(INDEX('Employee Data'!$N$4:$N$553,MATCH(Databackup!A488,Employee_Name,0),0)),\"\",(INDEX('Employee Data'!$N$4:$N$553,MATCH(Databackup!A488,Employee_Name,0))))","v":""},{"$f":"IF(ISERROR(INDEX('Employee Data'!$O$4:$O$553,MATCH(Databackup!A488,Employee_Name,0),0)),\"\",(INDEX('Employee Data'!$O$4:$O$553,MATCH(Databackup!A488,Employee_Name,0))))","v":""}]
[{"$f":"INDEX(Employee_Name,MATCH(SMALL(IF($A$1='Employee Data'!$I$4:$I$553,'Employee Data'!$B$4:$B$553,\"\"),ROW('Employee Data'!A487)),IF($A$1='Employee Data'!$I$4:$I$553,'Employee Data'!$B$4:$B$553,\"\"),0))","v":{"$error":"#NUM!"}},{"$f":"IF(ISERROR(INDEX('Employee Data'!$B$4:$B$553,MATCH(Databackup!A489,Employee_Name,0),0)),\"\",(INDEX('Employee Data'!$B$4:$B$553,MATCH(Databackup!A489,Employee_Name,0))))","v":""},{"$f":"IF(ISERROR(INDEX('Employee Data'!$C$4:$C$553,MATCH(Databackup!A489,Employee_Name,0),0)),\"\",(INDEX('Employee Data'!$C$4:$C$553,MATCH(Databackup!A489,Employee_Name,0))))","v":""},{"$f":"IF(ISERROR(INDEX('Employee Data'!$D$4:$D$553,MATCH(Databackup!A489,Employee_Name,0),0)),\"\",(INDEX('Employee Data'!$D$4:$D$553,MATCH(Databackup!A489,Employee_Name,0))))","v":""},{"$f":"IF(ISERROR(INDEX('Employee Data'!$F$4:$F$553,MATCH(Databackup!A489,Employee_Name,0),0)),\"\",(INDEX('Employee Data'!$F$4:$F$553,MATCH(Databackup!A489,Employee_Name,0))))","v":""},{"$f":"IF(ISERROR(INDEX('Employee Data'!$G$4:$G$553,MATCH(Databackup!A489,Employee_Name,0),0)),\"\",(INDEX('Employee Data'!$G$4:$G$553,MATCH(Databackup!A489,Employee_Name,0))))","v":""},{"$f":"IF(ISERROR(INDEX('Employee Data'!$H$4:$H$553,MATCH(Databackup!A489,Employee_Name,0),0)),\"\",(INDEX('Employee Data'!$H$4:$H$553,MATCH(Databackup!A489,Employee_Name,0))))","v":""},{"$f":"IF(ISERROR(INDEX('Employee Data'!$I$4:$I$553,MATCH(Databackup!A489,Employee_Name,0),0)),\"\",(INDEX('Employee Data'!$I$4:$I$553,MATCH(Databackup!A489,Employee_Name,0))))","v":""},{"$f":"IF(ISERROR(INDEX('Employee Data'!$J$4:$J$553,MATCH(Databackup!A489,Employee_Name,0),0)),\"\",(INDEX('Employee Data'!J$4:$J$553,MATCH(Databackup!A489,Employee_Name,0))))","v":""},{"$f":"IF(ISERROR(INDEX('Employee Data'!$K$4:$K$553,MATCH(Databackup!A489,Employee_Name,0),0)),\"\",(INDEX('Employee Data'!$K$4:$K$553,MATCH(Databackup!A489,Employee_Name,0))))","v":""},{"$f":"IF(ISERROR(INDEX('Employee Data'!$L$4:$L$553,MATCH(Databackup!A489,Employee_Name,0),0)),\"\",(INDEX('Employee Data'!$L$4:$L$553,MATCH(Databackup!A489,Employee_Name,0))))","v":""},{"$f":"IF(ISERROR(INDEX('Employee Data'!$M$4:$M$553,MATCH(Databackup!A489,Employee_Name,0),0)),\"\",(INDEX('Employee Data'!$M$4:$M$553,MATCH(Databackup!A489,Employee_Name,0))))","v":""},{"$f":"IF(ISERROR(INDEX('Employee Data'!$N$4:$N$553,MATCH(Databackup!A489,Employee_Name,0),0)),\"\",(INDEX('Employee Data'!$N$4:$N$553,MATCH(Databackup!A489,Employee_Name,0))))","v":""},{"$f":"IF(ISERROR(INDEX('Employee Data'!$O$4:$O$553,MATCH(Databackup!A489,Employee_Name,0),0)),\"\",(INDEX('Employee Data'!$O$4:$O$553,MATCH(Databackup!A489,Employee_Name,0))))","v":""}]
[{"$f":"INDEX(Employee_Name,MATCH(SMALL(IF($A$1='Employee Data'!$I$4:$I$553,'Employee Data'!$B$4:$B$553,\"\"),ROW('Employee Data'!A488)),IF($A$1='Employee Data'!$I$4:$I$553,'Employee Data'!$B$4:$B$553,\"\"),0))","v":{"$error":"#NUM!"}},{"$f":"IF(ISERROR(INDEX('Employee Data'!$B$4:$B$553,MATCH(Databackup!A490,Employee_Name,0),0)),\"\",(INDEX('Employee Data'!$B$4:$B$553,MATCH(Databackup!A490,Employee_Name,0))))","v":""},{"$f":"IF(ISERROR(INDEX('Employee Data'!$C$4:$C$553,MATCH(Databackup!A490,Employee_Name,0),0)),\"\",(INDEX('Employee Data'!$C$4:$C$553,MATCH(Databackup!A490,Employee_Name,0))))","v":""},{"$f":"IF(ISERROR(INDEX('Employee Data'!$D$4:$D$553,MATCH(Databackup!A490,Employee_Name,0),0)),\"\",(INDEX('Employee Data'!$D$4:$D$553,MATCH(Databackup!A490,Employee_Name,0))))","v":""},{"$f":"IF(ISERROR(INDEX('Employee Data'!$F$4:$F$553,MATCH(Databackup!A490,Employee_Name,0),0)),\"\",(INDEX('Employee Data'!$F$4:$F$553,MATCH(Databackup!A490,Employee_Name,0))))","v":""},{"$f":"IF(ISERROR(INDEX('Employee Data'!$G$4:$G$553,MATCH(Databackup!A490,Employee_Name,0),0)),\"\",(INDEX('Employee Data'!$G$4:$G$553,MATCH(Databackup!A490,Employee_Name,0))))","v":""},{"$f":"IF(ISERROR(INDEX('Employee Data'!$H$4:$H$553,MATCH(Databackup!A490,Employee_Name,0),0)),\"\",(INDEX('Employee Data'!$H$4:$H$553,MATCH(Databackup!A490,Employee_Name,0))))","v":""},{"$f":"IF(ISERROR(INDEX('Employee Data'!$I$4:$I$553,MATCH(Databackup!A490,Employee_Name,0),0)),\"\",(INDEX('Employee Data'!$I$4:$I$553,MATCH(Databackup!A490,Employee_Name,0))))","v":""},{"$f":"IF(ISERROR(INDEX('Employee Data'!$J$4:$J$553,MATCH(Databackup!A490,Employee_Name,0),0)),\"\",(INDEX('Employee Data'!J$4:$J$553,MATCH(Databackup!A490,Employee_Name,0))))","v":""},{"$f":"IF(ISERROR(INDEX('Employee Data'!$K$4:$K$553,MATCH(Databackup!A490,Employee_Name,0),0)),\"\",(INDEX('Employee Data'!$K$4:$K$553,MATCH(Databackup!A490,Employee_Name,0))))","v":""},{"$f":"IF(ISERROR(INDEX('Employee Data'!$L$4:$L$553,MATCH(Databackup!A490,Employee_Name,0),0)),\"\",(INDEX('Employee Data'!$L$4:$L$553,MATCH(Databackup!A490,Employee_Name,0))))","v":""},{"$f":"IF(ISERROR(INDEX('Employee Data'!$M$4:$M$553,MATCH(Databackup!A490,Employee_Name,0),0)),\"\",(INDEX('Employee Data'!$M$4:$M$553,MATCH(Databackup!A490,Employee_Name,0))))","v":""},{"$f":"IF(ISERROR(INDEX('Employee Data'!$N$4:$N$553,MATCH(Databackup!A490,Employee_Name,0),0)),\"\",(INDEX('Employee Data'!$N$4:$N$553,MATCH(Databackup!A490,Employee_Name,0))))","v":""},{"$f":"IF(ISERROR(INDEX('Employee Data'!$O$4:$O$553,MATCH(Databackup!A490,Employee_Name,0),0)),\"\",(INDEX('Employee Data'!$O$4:$O$553,MATCH(Databackup!A490,Employee_Name,0))))","v":""}]
[{"$f":"INDEX(Employee_Name,MATCH(SMALL(IF($A$1='Employee Data'!$I$4:$I$553,'Employee Data'!$B$4:$B$553,\"\"),ROW('Employee Data'!A489)),IF($A$1='Employee Data'!$I$4:$I$553,'Employee Data'!$B$4:$B$553,\"\"),0))","v":{"$error":"#NUM!"}},{"$f":"IF(ISERROR(INDEX('Employee Data'!$B$4:$B$553,MATCH(Databackup!A491,Employee_Name,0),0)),\"\",(INDEX('Employee Data'!$B$4:$B$553,MATCH(Databackup!A491,Employee_Name,0))))","v":""},{"$f":"IF(ISERROR(INDEX('Employee Data'!$C$4:$C$553,MATCH(Databackup!A491,Employee_Name,0),0)),\"\",(INDEX('Employee Data'!$C$4:$C$553,MATCH(Databackup!A491,Employee_Name,0))))","v":""},{"$f":"IF(ISERROR(INDEX('Employee Data'!$D$4:$D$553,MATCH(Databackup!A491,Employee_Name,0),0)),\"\",(INDEX('Employee Data'!$D$4:$D$553,MATCH(Databackup!A491,Employee_Name,0))))","v":""},{"$f":"IF(ISERROR(INDEX('Employee Data'!$F$4:$F$553,MATCH(Databackup!A491,Employee_Name,0),0)),\"\",(INDEX('Employee Data'!$F$4:$F$553,MATCH(Databackup!A491,Employee_Name,0))))","v":""},{"$f":"IF(ISERROR(INDEX('Employee Data'!$G$4:$G$553,MATCH(Databackup!A491,Employee_Name,0),0)),\"\",(INDEX('Employee Data'!$G$4:$G$553,MATCH(Databackup!A491,Employee_Name,0))))","v":""},{"$f":"IF(ISERROR(INDEX('Employee Data'!$H$4:$H$553,MATCH(Databackup!A491,Employee_Name,0),0)),\"\",(INDEX('Employee Data'!$H$4:$H$553,MATCH(Databackup!A491,Employee_Name,0))))","v":""},{"$f":"IF(ISERROR(INDEX('Employee Data'!$I$4:$I$553,MATCH(Databackup!A491,Employee_Name,0),0)),\"\",(INDEX('Employee Data'!$I$4:$I$553,MATCH(Databackup!A491,Employee_Name,0))))","v":""},{"$f":"IF(ISERROR(INDEX('Employee Data'!$J$4:$J$553,MATCH(Databackup!A491,Employee_Name,0),0)),\"\",(INDEX('Employee Data'!J$4:$J$553,MATCH(Databackup!A491,Employee_Name,0))))","v":""},{"$f":"IF(ISERROR(INDEX('Employee Data'!$K$4:$K$553,MATCH(Databackup!A491,Employee_Name,0),0)),\"\",(INDEX('Employee Data'!$K$4:$K$553,MATCH(Databackup!A491,Employee_Name,0))))","v":""},{"$f":"IF(ISERROR(INDEX('Employee Data'!$L$4:$L$553,MATCH(Databackup!A491,Employee_Name,0),0)),\"\",(INDEX('Employee Data'!$L$4:$L$553,MATCH(Databackup!A491,Employee_Name,0))))","v":""},{"$f":"IF(ISERROR(INDEX('Employee Data'!$M$4:$M$553,MATCH(Databackup!A491,Employee_Name,0),0)),\"\",(INDEX('Employee Data'!$M$4:$M$553,MATCH(Databackup!A491,Employee_Name,0))))","v":""},{"$f":"IF(ISERROR(INDEX('Employee Data'!$N$4:$N$553,MATCH(Databackup!A491,Employee_Name,0),0)),\"\",(INDEX('Employee Data'!$N$4:$N$553,MATCH(Databackup!A491,Employee_Name,0))))","v":""},{"$f":"IF(ISERROR(INDEX('Employee Data'!$O$4:$O$553,MATCH(Databackup!A491,Employee_Name,0),0)),\"\",(INDEX('Employee Data'!$O$4:$O$553,MATCH(Databackup!A491,Employee_Name,0))))","v":""}]
[{"$f":"INDEX(Employee_Name,MATCH(SMALL(IF($A$1='Employee Data'!$I$4:$I$553,'Employee Data'!$B$4:$B$553,\"\"),ROW('Employee Data'!A490)),IF($A$1='Employee Data'!$I$4:$I$553,'Employee Data'!$B$4:$B$553,\"\"),0))","v":{"$error":"#NUM!"}},{"$f":"IF(ISERROR(INDEX('Employee Data'!$B$4:$B$553,MATCH(Databackup!A492,Employee_Name,0),0)),\"\",(INDEX('Employee Data'!$B$4:$B$553,MATCH(Databackup!A492,Employee_Name,0))))","v":""},{"$f":"IF(ISERROR(INDEX('Employee Data'!$C$4:$C$553,MATCH(Databackup!A492,Employee_Name,0),0)),\"\",(INDEX('Employee Data'!$C$4:$C$553,MATCH(Databackup!A492,Employee_Name,0))))","v":""},{"$f":"IF(ISERROR(INDEX('Employee Data'!$D$4:$D$553,MATCH(Databackup!A492,Employee_Name,0),0)),\"\",(INDEX('Employee Data'!$D$4:$D$553,MATCH(Databackup!A492,Employee_Name,0))))","v":""},{"$f":"IF(ISERROR(INDEX('Employee Data'!$F$4:$F$553,MATCH(Databackup!A492,Employee_Name,0),0)),\"\",(INDEX('Employee Data'!$F$4:$F$553,MATCH(Databackup!A492,Employee_Name,0))))","v":""},{"$f":"IF(ISERROR(INDEX('Employee Data'!$G$4:$G$553,MATCH(Databackup!A492,Employee_Name,0),0)),\"\",(INDEX('Employee Data'!$G$4:$G$553,MATCH(Databackup!A492,Employee_Name,0))))","v":""},{"$f":"IF(ISERROR(INDEX('Employee Data'!$H$4:$H$553,MATCH(Databackup!A492,Employee_Name,0),0)),\"\",(INDEX('Employee Data'!$H$4:$H$553,MATCH(Databackup!A492,Employee_Name,0))))","v":""},{"$f":"IF(ISERROR(INDEX('Employee Data'!$I$4:$I$553,MATCH(Databackup!A492,Employee_Name,0),0)),\"\",(INDEX('Employee Data'!$I$4:$I$553,MATCH(Databackup!A492,Employee_Name,0))))","v":""},{"$f":"IF(ISERROR(INDEX('Employee Data'!$J$4:$J$553,MATCH(Databackup!A492,Employee_Name,0),0)),\"\",(INDEX('Employee Data'!J$4:$J$553,MATCH(Databackup!A492,Employee_Name,0))))","v":""},{"$f":"IF(ISERROR(INDEX('Employee Data'!$K$4:$K$553,MATCH(Databackup!A492,Employee_Name,0),0)),\"\",(INDEX('Employee Data'!$K$4:$K$553,MATCH(Databackup!A492,Employee_Name,0))))","v":""},{"$f":"IF(ISERROR(INDEX('Employee Data'!$L$4:$L$553,MATCH(Databackup!A492,Employee_Name,0),0)),\"\",(INDEX('Employee Data'!$L$4:$L$553,MATCH(Databackup!A492,Employee_Name,0))))","v":""},{"$f":"IF(ISERROR(INDEX('Employee Data'!$M$4:$M$553,MATCH(Databackup!A492,Employee_Name,0),0)),\"\",(INDEX('Employee Data'!$M$4:$M$553,MATCH(Databackup!A492,Employee_Name,0))))","v":""},{"$f":"IF(ISERROR(INDEX('Employee Data'!$N$4:$N$553,MATCH(Databackup!A492,Employee_Name,0),0)),\"\",(INDEX('Employee Data'!$N$4:$N$553,MATCH(Databackup!A492,Employee_Name,0))))","v":""},{"$f":"IF(ISERROR(INDEX('Employee Data'!$O$4:$O$553,MATCH(Databackup!A492,Employee_Name,0),0)),\"\",(INDEX('Employee Data'!$O$4:$O$553,MATCH(Databackup!A492,Employee_Name,0))))","v":""}]
[{"$f":"INDEX(Employee_Name,MATCH(SMALL(IF($A$1='Employee Data'!$I$4:$I$553,'Employee Data'!$B$4:$B$553,\"\"),ROW('Employee Data'!A491)),IF($A$1='Employee Data'!$I$4:$I$553,'Employee Data'!$B$4:$B$553,\"\"),0))","v":{"$error":"#NUM!"}},{"$f":"IF(ISERROR(INDEX('Employee Data'!$B$4:$B$553,MATCH(Databackup!A493,Employee_Name,0),0)),\"\",(INDEX('Employee Data'!$B$4:$B$553,MATCH(Databackup!A493,Employee_Name,0))))","v":""},{"$f":"IF(ISERROR(INDEX('Employee Data'!$C$4:$C$553,MATCH(Databackup!A493,Employee_Name,0),0)),\"\",(INDEX('Employee Data'!$C$4:$C$553,MATCH(Databackup!A493,Employee_Name,0))))","v":""},{"$f":"IF(ISERROR(INDEX('Employee Data'!$D$4:$D$553,MATCH(Databackup!A493,Employee_Name,0),0)),\"\",(INDEX('Employee Data'!$D$4:$D$553,MATCH(Databackup!A493,Employee_Name,0))))","v":""},{"$f":"IF(ISERROR(INDEX('Employee Data'!$F$4:$F$553,MATCH(Databackup!A493,Employee_Name,0),0)),\"\",(INDEX('Employee Data'!$F$4:$F$553,MATCH(Databackup!A493,Employee_Name,0))))","v":""},{"$f":"IF(ISERROR(INDEX('Employee Data'!$G$4:$G$553,MATCH(Databackup!A493,Employee_Name,0),0)),\"\",(INDEX('Employee Data'!$G$4:$G$553,MATCH(Databackup!A493,Employee_Name,0))))","v":""},{"$f":"IF(ISERROR(INDEX('Employee Data'!$H$4:$H$553,MATCH(Databackup!A493,Employee_Name,0),0)),\"\",(INDEX('Employee Data'!$H$4:$H$553,MATCH(Databackup!A493,Employee_Name,0))))","v":""},{"$f":"IF(ISERROR(INDEX('Employee Data'!$I$4:$I$553,MATCH(Databackup!A493,Employee_Name,0),0)),\"\",(INDEX('Employee Data'!$I$4:$I$553,MATCH(Databackup!A493,Employee_Name,0))))","v":""},{"$f":"IF(ISERROR(INDEX('Employee Data'!$J$4:$J$553,MATCH(Databackup!A493,Employee_Name,0),0)),\"\",(INDEX('Employee Data'!J$4:$J$553,MATCH(Databackup!A493,Employee_Name,0))))","v":""},{"$f":"IF(ISERROR(INDEX('Employee Data'!$K$4:$K$553,MATCH(Databackup!A493,Employee_Name,0),0)),\"\",(INDEX('Employee Data'!$K$4:$K$553,MATCH(Databackup!A493,Employee_Name,0))))","v":""},{"$f":"IF(ISERROR(INDEX('Employee Data'!$L$4:$L$553,MATCH(Databackup!A493,Employee_Name,0),0)),\"\",(INDEX('Employee Data'!$L$4:$L$553,MATCH(Databackup!A493,Employee_Name,0))))","v":""},{"$f":"IF(ISERROR(INDEX('Employee Data'!$M$4:$M$553,MATCH(Databackup!A493,Employee_Name,0),0)),\"\",(INDEX('Employee Data'!$M$4:$M$553,MATCH(Databackup!A493,Employee_Name,0))))","v":""},{"$f":"IF(ISERROR(INDEX('Employee Data'!$N$4:$N$553,MATCH(Databackup!A493,Employee_Name,0),0)),\"\",(INDEX('Employee Data'!$N$4:$N$553,MATCH(Databackup!A493,Employee_Name,0))))","v":""},{"$f":"IF(ISERROR(INDEX('Employee Data'!$O$4:$O$553,MATCH(Databackup!A493,Employee_Name,0),0)),\"\",(INDEX('Employee Data'!$O$4:$O$553,MATCH(Databackup!A493,Employee_Name,0))))","v":""}]
[{"$f":"INDEX(Employee_Name,MATCH(SMALL(IF($A$1='Employee Data'!$I$4:$I$553,'Employee Data'!$B$4:$B$553,\"\"),ROW('Employee Data'!A492)),IF($A$1='Employee Data'!$I$4:$I$553,'Employee Data'!$B$4:$B$553,\"\"),0))","v":{"$error":"#NUM!"}},{"$f":"IF(ISERROR(INDEX('Employee Data'!$B$4:$B$553,MATCH(Databackup!A494,Employee_Name,0),0)),\"\",(INDEX('Employee Data'!$B$4:$B$553,MATCH(Databackup!A494,Employee_Name,0))))","v":""},{"$f":"IF(ISERROR(INDEX('Employee Data'!$C$4:$C$553,MATCH(Databackup!A494,Employee_Name,0),0)),\"\",(INDEX('Employee Data'!$C$4:$C$553,MATCH(Databackup!A494,Employee_Name,0))))","v":""},{"$f":"IF(ISERROR(INDEX('Employee Data'!$D$4:$D$553,MATCH(Databackup!A494,Employee_Name,0),0)),\"\",(INDEX('Employee Data'!$D$4:$D$553,MATCH(Databackup!A494,Employee_Name,0))))","v":""},{"$f":"IF(ISERROR(INDEX('Employee Data'!$F$4:$F$553,MATCH(Databackup!A494,Employee_Name,0),0)),\"\",(INDEX('Employee Data'!$F$4:$F$553,MATCH(Databackup!A494,Employee_Name,0))))","v":""},{"$f":"IF(ISERROR(INDEX('Employee Data'!$G$4:$G$553,MATCH(Databackup!A494,Employee_Name,0),0)),\"\",(INDEX('Employee Data'!$G$4:$G$553,MATCH(Databackup!A494,Employee_Name,0))))","v":""},{"$f":"IF(ISERROR(INDEX('Employee Data'!$H$4:$H$553,MATCH(Databackup!A494,Employee_Name,0),0)),\"\",(INDEX('Employee Data'!$H$4:$H$553,MATCH(Databackup!A494,Employee_Name,0))))","v":""},{"$f":"IF(ISERROR(INDEX('Employee Data'!$I$4:$I$553,MATCH(Databackup!A494,Employee_Name,0),0)),\"\",(INDEX('Employee Data'!$I$4:$I$553,MATCH(Databackup!A494,Employee_Name,0))))","v":""},{"$f":"IF(ISERROR(INDEX('Employee Data'!$J$4:$J$553,MATCH(Databackup!A494,Employee_Name,0),0)),\"\",(INDEX('Employee Data'!J$4:$J$553,MATCH(Databackup!A494,Employee_Name,0))))","v":""},{"$f":"IF(ISERROR(INDEX('Employee Data'!$K$4:$K$553,MATCH(Databackup!A494,Employee_Name,0),0)),\"\",(INDEX('Employee Data'!$K$4:$K$553,MATCH(Databackup!A494,Employee_Name,0))))","v":""},{"$f":"IF(ISERROR(INDEX('Employee Data'!$L$4:$L$553,MATCH(Databackup!A494,Employee_Name,0),0)),\"\",(INDEX('Employee Data'!$L$4:$L$553,MATCH(Databackup!A494,Employee_Name,0))))","v":""},{"$f":"IF(ISERROR(INDEX('Employee Data'!$M$4:$M$553,MATCH(Databackup!A494,Employee_Name,0),0)),\"\",(INDEX('Employee Data'!$M$4:$M$553,MATCH(Databackup!A494,Employee_Name,0))))","v":""},{"$f":"IF(ISERROR(INDEX('Employee Data'!$N$4:$N$553,MATCH(Databackup!A494,Employee_Name,0),0)),\"\",(INDEX('Employee Data'!$N$4:$N$553,MATCH(Databackup!A494,Employee_Name,0))))","v":""},{"$f":"IF(ISERROR(INDEX('Employee Data'!$O$4:$O$553,MATCH(Databackup!A494,Employee_Name,0),0)),\"\",(INDEX('Employee Data'!$O$4:$O$553,MATCH(Databackup!A494,Employee_Name,0))))","v":""}]
[{"$f":"INDEX(Employee_Name,MATCH(SMALL(IF($A$1='Employee Data'!$I$4:$I$553,'Employee Data'!$B$4:$B$553,\"\"),ROW('Employee Data'!A493)),IF($A$1='Employee Data'!$I$4:$I$553,'Employee Data'!$B$4:$B$553,\"\"),0))","v":{"$error":"#NUM!"}},{"$f":"IF(ISERROR(INDEX('Employee Data'!$B$4:$B$553,MATCH(Databackup!A495,Employee_Name,0),0)),\"\",(INDEX('Employee Data'!$B$4:$B$553,MATCH(Databackup!A495,Employee_Name,0))))","v":""},{"$f":"IF(ISERROR(INDEX('Employee Data'!$C$4:$C$553,MATCH(Databackup!A495,Employee_Name,0),0)),\"\",(INDEX('Employee Data'!$C$4:$C$553,MATCH(Databackup!A495,Employee_Name,0))))","v":""},{"$f":"IF(ISERROR(INDEX('Employee Data'!$D$4:$D$553,MATCH(Databackup!A495,Employee_Name,0),0)),\"\",(INDEX('Employee Data'!$D$4:$D$553,MATCH(Databackup!A495,Employee_Name,0))))","v":""},{"$f":"IF(ISERROR(INDEX('Employee Data'!$F$4:$F$553,MATCH(Databackup!A495,Employee_Name,0),0)),\"\",(INDEX('Employee Data'!$F$4:$F$553,MATCH(Databackup!A495,Employee_Name,0))))","v":""},{"$f":"IF(ISERROR(INDEX('Employee Data'!$G$4:$G$553,MATCH(Databackup!A495,Employee_Name,0),0)),\"\",(INDEX('Employee Data'!$G$4:$G$553,MATCH(Databackup!A495,Employee_Name,0))))","v":""},{"$f":"IF(ISERROR(INDEX('Employee Data'!$H$4:$H$553,MATCH(Databackup!A495,Employee_Name,0),0)),\"\",(INDEX('Employee Data'!$H$4:$H$553,MATCH(Databackup!A495,Employee_Name,0))))","v":""},{"$f":"IF(ISERROR(INDEX('Employee Data'!$I$4:$I$553,MATCH(Databackup!A495,Employee_Name,0),0)),\"\",(INDEX('Employee Data'!$I$4:$I$553,MATCH(Databackup!A495,Employee_Name,0))))","v":""},{"$f":"IF(ISERROR(INDEX('Employee Data'!$J$4:$J$553,MATCH(Databackup!A495,Employee_Name,0),0)),\"\",(INDEX('Employee Data'!J$4:$J$553,MATCH(Databackup!A495,Employee_Name,0))))","v":""},{"$f":"IF(ISERROR(INDEX('Employee Data'!$K$4:$K$553,MATCH(Databackup!A495,Employee_Name,0),0)),\"\",(INDEX('Employee Data'!$K$4:$K$553,MATCH(Databackup!A495,Employee_Name,0))))","v":""},{"$f":"IF(ISERROR(INDEX('Employee Data'!$L$4:$L$553,MATCH(Databackup!A495,Employee_Name,0),0)),\"\",(INDEX('Employee Data'!$L$4:$L$553,MATCH(Databackup!A495,Employee_Name,0))))","v":""},{"$f":"IF(ISERROR(INDEX('Employee Data'!$M$4:$M$553,MATCH(Databackup!A495,Employee_Name,0),0)),\"\",(INDEX('Employee Data'!$M$4:$M$553,MATCH(Databackup!A495,Employee_Name,0))))","v":""},{"$f":"IF(ISERROR(INDEX('Employee Data'!$N$4:$N$553,MATCH(Databackup!A495,Employee_Name,0),0)),\"\",(INDEX('Employee Data'!$N$4:$N$553,MATCH(Databackup!A495,Employee_Name,0))))","v":""},{"$f":"IF(ISERROR(INDEX('Employee Data'!$O$4:$O$553,MATCH(Databackup!A495,Employee_Name,0),0)),\"\",(INDEX('Employee Data'!$O$4:$O$553,MATCH(Databackup!A495,Employee_Name,0))))","v":""}]
[{"$f":"INDEX(Employee_Name,MATCH(SMALL(IF($A$1='Employee Data'!$I$4:$I$553,'Employee Data'!$B$4:$B$553,\"\"),ROW('Employee Data'!A494)),IF($A$1='Employee Data'!$I$4:$I$553,'Employee Data'!$B$4:$B$553,\"\"),0))","v":{"$error":"#NUM!"}},{"$f":"IF(ISERROR(INDEX('Employee Data'!$B$4:$B$553,MATCH(Databackup!A496,Employee_Name,0),0)),\"\",(INDEX('Employee Data'!$B$4:$B$553,MATCH(Databackup!A496,Employee_Name,0))))","v":""},{"$f":"IF(ISERROR(INDEX('Employee Data'!$C$4:$C$553,MATCH(Databackup!A496,Employee_Name,0),0)),\"\",(INDEX('Employee Data'!$C$4:$C$553,MATCH(Databackup!A496,Employee_Name,0))))","v":""},{"$f":"IF(ISERROR(INDEX('Employee Data'!$D$4:$D$553,MATCH(Databackup!A496,Employee_Name,0),0)),\"\",(INDEX('Employee Data'!$D$4:$D$553,MATCH(Databackup!A496,Employee_Name,0))))","v":""},{"$f":"IF(ISERROR(INDEX('Employee Data'!$F$4:$F$553,MATCH(Databackup!A496,Employee_Name,0),0)),\"\",(INDEX('Employee Data'!$F$4:$F$553,MATCH(Databackup!A496,Employee_Name,0))))","v":""},{"$f":"IF(ISERROR(INDEX('Employee Data'!$G$4:$G$553,MATCH(Databackup!A496,Employee_Name,0),0)),\"\",(INDEX('Employee Data'!$G$4:$G$553,MATCH(Databackup!A496,Employee_Name,0))))","v":""},{"$f":"IF(ISERROR(INDEX('Employee Data'!$H$4:$H$553,MATCH(Databackup!A496,Employee_Name,0),0)),\"\",(INDEX('Employee Data'!$H$4:$H$553,MATCH(Databackup!A496,Employee_Name,0))))","v":""},{"$f":"IF(ISERROR(INDEX('Employee Data'!$I$4:$I$553,MATCH(Databackup!A496,Employee_Name,0),0)),\"\",(INDEX('Employee Data'!$I$4:$I$553,MATCH(Databackup!A496,Employee_Name,0))))","v":""},{"$f":"IF(ISERROR(INDEX('Employee Data'!$J$4:$J$553,MATCH(Databackup!A496,Employee_Name,0),0)),\"\",(INDEX('Employee Data'!J$4:$J$553,MATCH(Databackup!A496,Employee_Name,0))))","v":""},{"$f":"IF(ISERROR(INDEX('Employee Data'!$K$4:$K$553,MATCH(Databackup!A496,Employee_Name,0),0)),\"\",(INDEX('Employee Data'!$K$4:$K$553,MATCH(Databackup!A496,Employee_Name,0))))","v":""},{"$f":"IF(ISERROR(INDEX('Employee Data'!$L$4:$L$553,MATCH(Databackup!A496,Employee_Name,0),0)),\"\",(INDEX('Employee Data'!$L$4:$L$553,MATCH(Databackup!A496,Employee_Name,0))))","v":""},{"$f":"IF(ISERROR(INDEX('Employee Data'!$M$4:$M$553,MATCH(Databackup!A496,Employee_Name,0),0)),\"\",(INDEX('Employee Data'!$M$4:$M$553,MATCH(Databackup!A496,Employee_Name,0))))","v":""},{"$f":"IF(ISERROR(INDEX('Employee Data'!$N$4:$N$553,MATCH(Databackup!A496,Employee_Name,0),0)),\"\",(INDEX('Employee Data'!$N$4:$N$553,MATCH(Databackup!A496,Employee_Name,0))))","v":""},{"$f":"IF(ISERROR(INDEX('Employee Data'!$O$4:$O$553,MATCH(Databackup!A496,Employee_Name,0),0)),\"\",(INDEX('Employee Data'!$O$4:$O$553,MATCH(Databackup!A496,Employee_Name,0))))","v":""}]
[{"$f":"INDEX(Employee_Name,MATCH(SMALL(IF($A$1='Employee Data'!$I$4:$I$553,'Employee Data'!$B$4:$B$553,\"\"),ROW('Employee Data'!A495)),IF($A$1='Employee Data'!$I$4:$I$553,'Employee Data'!$B$4:$B$553,\"\"),0))","v":{"$error":"#NUM!"}},{"$f":"IF(ISERROR(INDEX('Employee Data'!$B$4:$B$553,MATCH(Databackup!A497,Employee_Name,0),0)),\"\",(INDEX('Employee Data'!$B$4:$B$553,MATCH(Databackup!A497,Employee_Name,0))))","v":""},{"$f":"IF(ISERROR(INDEX('Employee Data'!$C$4:$C$553,MATCH(Databackup!A497,Employee_Name,0),0)),\"\",(INDEX('Employee Data'!$C$4:$C$553,MATCH(Databackup!A497,Employee_Name,0))))","v":""},{"$f":"IF(ISERROR(INDEX('Employee Data'!$D$4:$D$553,MATCH(Databackup!A497,Employee_Name,0),0)),\"\",(INDEX('Employee Data'!$D$4:$D$553,MATCH(Databackup!A497,Employee_Name,0))))","v":""},{"$f":"IF(ISERROR(INDEX('Employee Data'!$F$4:$F$553,MATCH(Databackup!A497,Employee_Name,0),0)),\"\",(INDEX('Employee Data'!$F$4:$F$553,MATCH(Databackup!A497,Employee_Name,0))))","v":""},{"$f":"IF(ISERROR(INDEX('Employee Data'!$G$4:$G$553,MATCH(Databackup!A497,Employee_Name,0),0)),\"\",(INDEX('Employee Data'!$G$4:$G$553,MATCH(Databackup!A497,Employee_Name,0))))","v":""},{"$f":"IF(ISERROR(INDEX('Employee Data'!$H$4:$H$553,MATCH(Databackup!A497,Employee_Name,0),0)),\"\",(INDEX('Employee Data'!$H$4:$H$553,MATCH(Databackup!A497,Employee_Name,0))))","v":""},{"$f":"IF(ISERROR(INDEX('Employee Data'!$I$4:$I$553,MATCH(Databackup!A497,Employee_Name,0),0)),\"\",(INDEX('Employee Data'!$I$4:$I$553,MATCH(Databackup!A497,Employee_Name,0))))","v":""},{"$f":"IF(ISERROR(INDEX('Employee Data'!$J$4:$J$553,MATCH(Databackup!A497,Employee_Name,0),0)),\"\",(INDEX('Employee Data'!J$4:$J$553,MATCH(Databackup!A497,Employee_Name,0))))","v":""},{"$f":"IF(ISERROR(INDEX('Employee Data'!$K$4:$K$553,MATCH(Databackup!A497,Employee_Name,0),0)),\"\",(INDEX('Employee Data'!$K$4:$K$553,MATCH(Databackup!A497,Employee_Name,0))))","v":""},{"$f":"IF(ISERROR(INDEX('Employee Data'!$L$4:$L$553,MATCH(Databackup!A497,Employee_Name,0),0)),\"\",(INDEX('Employee Data'!$L$4:$L$553,MATCH(Databackup!A497,Employee_Name,0))))","v":""},{"$f":"IF(ISERROR(INDEX('Employee Data'!$M$4:$M$553,MATCH(Databackup!A497,Employee_Name,0),0)),\"\",(INDEX('Employee Data'!$M$4:$M$553,MATCH(Databackup!A497,Employee_Name,0))))","v":""},{"$f":"IF(ISERROR(INDEX('Employee Data'!$N$4:$N$553,MATCH(Databackup!A497,Employee_Name,0),0)),\"\",(INDEX('Employee Data'!$N$4:$N$553,MATCH(Databackup!A497,Employee_Name,0))))","v":""},{"$f":"IF(ISERROR(INDEX('Employee Data'!$O$4:$O$553,MATCH(Databackup!A497,Employee_Name,0),0)),\"\",(INDEX('Employee Data'!$O$4:$O$553,MATCH(Databackup!A497,Employee_Name,0))))","v":""}]
[{"$f":"INDEX(Employee_Name,MATCH(SMALL(IF($A$1='Employee Data'!$I$4:$I$553,'Employee Data'!$B$4:$B$553,\"\"),ROW('Employee Data'!A496)),IF($A$1='Employee Data'!$I$4:$I$553,'Employee Data'!$B$4:$B$553,\"\"),0))","v":{"$error":"#NUM!"}},{"$f":"IF(ISERROR(INDEX('Employee Data'!$B$4:$B$553,MATCH(Databackup!A498,Employee_Name,0),0)),\"\",(INDEX('Employee Data'!$B$4:$B$553,MATCH(Databackup!A498,Employee_Name,0))))","v":""},{"$f":"IF(ISERROR(INDEX('Employee Data'!$C$4:$C$553,MATCH(Databackup!A498,Employee_Name,0),0)),\"\",(INDEX('Employee Data'!$C$4:$C$553,MATCH(Databackup!A498,Employee_Name,0))))","v":""},{"$f":"IF(ISERROR(INDEX('Employee Data'!$D$4:$D$553,MATCH(Databackup!A498,Employee_Name,0),0)),\"\",(INDEX('Employee Data'!$D$4:$D$553,MATCH(Databackup!A498,Employee_Name,0))))","v":""},{"$f":"IF(ISERROR(INDEX('Employee Data'!$F$4:$F$553,MATCH(Databackup!A498,Employee_Name,0),0)),\"\",(INDEX('Employee Data'!$F$4:$F$553,MATCH(Databackup!A498,Employee_Name,0))))","v":""},{"$f":"IF(ISERROR(INDEX('Employee Data'!$G$4:$G$553,MATCH(Databackup!A498,Employee_Name,0),0)),\"\",(INDEX('Employee Data'!$G$4:$G$553,MATCH(Databackup!A498,Employee_Name,0))))","v":""},{"$f":"IF(ISERROR(INDEX('Employee Data'!$H$4:$H$553,MATCH(Databackup!A498,Employee_Name,0),0)),\"\",(INDEX('Employee Data'!$H$4:$H$553,MATCH(Databackup!A498,Employee_Name,0))))","v":""},{"$f":"IF(ISERROR(INDEX('Employee Data'!$I$4:$I$553,MATCH(Databackup!A498,Employee_Name,0),0)),\"\",(INDEX('Employee Data'!$I$4:$I$553,MATCH(Databackup!A498,Employee_Name,0))))","v":""},{"$f":"IF(ISERROR(INDEX('Employee Data'!$J$4:$J$553,MATCH(Databackup!A498,Employee_Name,0),0)),\"\",(INDEX('Employee Data'!J$4:$J$553,MATCH(Databackup!A498,Employee_Name,0))))","v":""},{"$f":"IF(ISERROR(INDEX('Employee Data'!$K$4:$K$553,MATCH(Databackup!A498,Employee_Name,0),0)),\"\",(INDEX('Employee Data'!$K$4:$K$553,MATCH(Databackup!A498,Employee_Name,0))))","v":""},{"$f":"IF(ISERROR(INDEX('Employee Data'!$L$4:$L$553,MATCH(Databackup!A498,Employee_Name,0),0)),\"\",(INDEX('Employee Data'!$L$4:$L$553,MATCH(Databackup!A498,Employee_Name,0))))","v":""},{"$f":"IF(ISERROR(INDEX('Employee Data'!$M$4:$M$553,MATCH(Databackup!A498,Employee_Name,0),0)),\"\",(INDEX('Employee Data'!$M$4:$M$553,MATCH(Databackup!A498,Employee_Name,0))))","v":""},{"$f":"IF(ISERROR(INDEX('Employee Data'!$N$4:$N$553,MATCH(Databackup!A498,Employee_Name,0),0)),\"\",(INDEX('Employee Data'!$N$4:$N$553,MATCH(Databackup!A498,Employee_Name,0))))","v":""},{"$f":"IF(ISERROR(INDEX('Employee Data'!$O$4:$O$553,MATCH(Databackup!A498,Employee_Name,0),0)),\"\",(INDEX('Employee Data'!$O$4:$O$553,MATCH(Databackup!A498,Employee_Name,0))))","v":""}]
[{"$f":"INDEX(Employee_Name,MATCH(SMALL(IF($A$1='Employee Data'!$I$4:$I$553,'Employee Data'!$B$4:$B$553,\"\"),ROW('Employee Data'!A497)),IF($A$1='Employee Data'!$I$4:$I$553,'Employee Data'!$B$4:$B$553,\"\"),0))","v":{"$error":"#NUM!"}},{"$f":"IF(ISERROR(INDEX('Employee Data'!$B$4:$B$553,MATCH(Databackup!A499,Employee_Name,0),0)),\"\",(INDEX('Employee Data'!$B$4:$B$553,MATCH(Databackup!A499,Employee_Name,0))))","v":""},{"$f":"IF(ISERROR(INDEX('Employee Data'!$C$4:$C$553,MATCH(Databackup!A499,Employee_Name,0),0)),\"\",(INDEX('Employee Data'!$C$4:$C$553,MATCH(Databackup!A499,Employee_Name,0))))","v":""},{"$f":"IF(ISERROR(INDEX('Employee Data'!$D$4:$D$553,MATCH(Databackup!A499,Employee_Name,0),0)),\"\",(INDEX('Employee Data'!$D$4:$D$553,MATCH(Databackup!A499,Employee_Name,0))))","v":""},{"$f":"IF(ISERROR(INDEX('Employee Data'!$F$4:$F$553,MATCH(Databackup!A499,Employee_Name,0),0)),\"\",(INDEX('Employee Data'!$F$4:$F$553,MATCH(Databackup!A499,Employee_Name,0))))","v":""},{"$f":"IF(ISERROR(INDEX('Employee Data'!$G$4:$G$553,MATCH(Databackup!A499,Employee_Name,0),0)),\"\",(INDEX('Employee Data'!$G$4:$G$553,MATCH(Databackup!A499,Employee_Name,0))))","v":""},{"$f":"IF(ISERROR(INDEX('Employee Data'!$H$4:$H$553,MATCH(Databackup!A499,Employee_Name,0),0)),\"\",(INDEX('Employee Data'!$H$4:$H$553,MATCH(Databackup!A499,Employee_Name,0))))","v":""},{"$f":"IF(ISERROR(INDEX('Employee Data'!$I$4:$I$553,MATCH(Databackup!A499,Employee_Name,0),0)),\"\",(INDEX('Employee Data'!$I$4:$I$553,MATCH(Databackup!A499,Employee_Name,0))))","v":""},{"$f":"IF(ISERROR(INDEX('Employee Data'!$J$4:$J$553,MATCH(Databackup!A499,Employee_Name,0),0)),\"\",(INDEX('Employee Data'!J$4:$J$553,MATCH(Databackup!A499,Employee_Name,0))))","v":""},{"$f":"IF(ISERROR(INDEX('Employee Data'!$K$4:$K$553,MATCH(Databackup!A499,Employee_Name,0),0)),\"\",(INDEX('Employee Data'!$K$4:$K$553,MATCH(Databackup!A499,Employee_Name,0))))","v":""},{"$f":"IF(ISERROR(INDEX('Employee Data'!$L$4:$L$553,MATCH(Databackup!A499,Employee_Name,0),0)),\"\",(INDEX('Employee Data'!$L$4:$L$553,MATCH(Databackup!A499,Employee_Name,0))))","v":""},{"$f":"IF(ISERROR(INDEX('Employee Data'!$M$4:$M$553,MATCH(Databackup!A499,Employee_Name,0),0)),\"\",(INDEX('Employee Data'!$M$4:$M$553,MATCH(Databackup!A499,Employee_Name,0))))","v":""},{"$f":"IF(ISERROR(INDEX('Employee Data'!$N$4:$N$553,MATCH(Databackup!A499,Employee_Name,0),0)),\"\",(INDEX('Employee Data'!$N$4:$N$553,MATCH(Databackup!A499,Employee_Name,0))))","v":""},{"$f":"IF(ISERROR(INDEX('Employee Data'!$O$4:$O$553,MATCH(Databackup!A499,Employee_Name,0),0)),\"\",(INDEX('Employee Data'!$O$4:$O$553,MATCH(Databackup!A499,Employee_Name,0))))","v":""}]
[{"$f":"INDEX(Employee_Name,MATCH(SMALL(IF($A$1='Employee Data'!$I$4:$I$553,'Employee Data'!$B$4:$B$553,\"\"),ROW('Employee Data'!A498)),IF($A$1='Employee Data'!$I$4:$I$553,'Employee Data'!$B$4:$B$553,\"\"),0))","v":{"$error":"#NUM!"}},{"$f":"IF(ISERROR(INDEX('Employee Data'!$B$4:$B$553,MATCH(Databackup!A500,Employee_Name,0),0)),\"\",(INDEX('Employee Data'!$B$4:$B$553,MATCH(Databackup!A500,Employee_Name,0))))","v":""},{"$f":"IF(ISERROR(INDEX('Employee Data'!$C$4:$C$553,MATCH(Databackup!A500,Employee_Name,0),0)),\"\",(INDEX('Employee Data'!$C$4:$C$553,MATCH(Databackup!A500,Employee_Name,0))))","v":""},{"$f":"IF(ISERROR(INDEX('Employee Data'!$D$4:$D$553,MATCH(Databackup!A500,Employee_Name,0),0)),\"\",(INDEX('Employee Data'!$D$4:$D$553,MATCH(Databackup!A500,Employee_Name,0))))","v":""},{"$f":"IF(ISERROR(INDEX('Employee Data'!$F$4:$F$553,MATCH(Databackup!A500,Employee_Name,0),0)),\"\",(INDEX('Employee Data'!$F$4:$F$553,MATCH(Databackup!A500,Employee_Name,0))))","v":""},{"$f":"IF(ISERROR(INDEX('Employee Data'!$G$4:$G$553,MATCH(Databackup!A500,Employee_Name,0),0)),\"\",(INDEX('Employee Data'!$G$4:$G$553,MATCH(Databackup!A500,Employee_Name,0))))","v":""},{"$f":"IF(ISERROR(INDEX('Employee Data'!$H$4:$H$553,MATCH(Databackup!A500,Employee_Name,0),0)),\"\",(INDEX('Employee Data'!$H$4:$H$553,MATCH(Databackup!A500,Employee_Name,0))))","v":""},{"$f":"IF(ISERROR(INDEX('Employee Data'!$I$4:$I$553,MATCH(Databackup!A500,Employee_Name,0),0)),\"\",(INDEX('Employee Data'!$I$4:$I$553,MATCH(Databackup!A500,Employee_Name,0))))","v":""},{"$f":"IF(ISERROR(INDEX('Employee Data'!$J$4:$J$553,MATCH(Databackup!A500,Employee_Name,0),0)),\"\",(INDEX('Employee Data'!J$4:$J$553,MATCH(Databackup!A500,Employee_Name,0))))","v":""},{"$f":"IF(ISERROR(INDEX('Employee Data'!$K$4:$K$553,MATCH(Databackup!A500,Employee_Name,0),0)),\"\",(INDEX('Employee Data'!$K$4:$K$553,MATCH(Databackup!A500,Employee_Name,0))))","v":""},{"$f":"IF(ISERROR(INDEX('Employee Data'!$L$4:$L$553,MATCH(Databackup!A500,Employee_Name,0),0)),\"\",(INDEX('Employee Data'!$L$4:$L$553,MATCH(Databackup!A500,Employee_Name,0))))","v":""},{"$f":"IF(ISERROR(INDEX('Employee Data'!$M$4:$M$553,MATCH(Databackup!A500,Employee_Name,0),0)),\"\",(INDEX('Employee Data'!$M$4:$M$553,MATCH(Databackup!A500,Employee_Name,0))))","v":""},{"$f":"IF(ISERROR(INDEX('Employee Data'!$N$4:$N$553,MATCH(Databackup!A500,Employee_Name,0),0)),\"\",(INDEX('Employee Data'!$N$4:$N$553,MATCH(Databackup!A500,Employee_Name,0))))","v":""},{"$f":"IF(ISERROR(INDEX('Employee Data'!$O$4:$O$553,MATCH(Databackup!A500,Employee_Name,0),0)),\"\",(INDEX('Employee Data'!$O$4:$O$553,MATCH(Databackup!A500,Employee_Name,0))))","v":""}]
[{"$f":"INDEX(Employee_Name,MATCH(SMALL(IF($A$1='Employee Data'!$I$4:$I$553,'Employee Data'!$B$4:$B$553,\"\"),ROW('Employee Data'!A499)),IF($A$1='Employee Data'!$I$4:$I$553,'Employee Data'!$B$4:$B$553,\"\"),0))","v":{"$error":"#NUM!"}},{"$f":"IF(ISERROR(INDEX('Employee Data'!$B$4:$B$553,MATCH(Databackup!A501,Employee_Name,0),0)),\"\",(INDEX('Employee Data'!$B$4:$B$553,MATCH(Databackup!A501,Employee_Name,0))))","v":""},{"$f":"IF(ISERROR(INDEX('Employee Data'!$C$4:$C$553,MATCH(Databackup!A501,Employee_Name,0),0)),\"\",(INDEX('Employee Data'!$C$4:$C$553,MATCH(Databackup!A501,Employee_Name,0))))","v":""},{"$f":"IF(ISERROR(INDEX('Employee Data'!$D$4:$D$553,MATCH(Databackup!A501,Employee_Name,0),0)),\"\",(INDEX('Employee Data'!$D$4:$D$553,MATCH(Databackup!A501,Employee_Name,0))))","v":""},{"$f":"IF(ISERROR(INDEX('Employee Data'!$F$4:$F$553,MATCH(Databackup!A501,Employee_Name,0),0)),\"\",(INDEX('Employee Data'!$F$4:$F$553,MATCH(Databackup!A501,Employee_Name,0))))","v":""},{"$f":"IF(ISERROR(INDEX('Employee Data'!$G$4:$G$553,MATCH(Databackup!A501,Employee_Name,0),0)),\"\",(INDEX('Employee Data'!$G$4:$G$553,MATCH(Databackup!A501,Employee_Name,0))))","v":""},{"$f":"IF(ISERROR(INDEX('Employee Data'!$H$4:$H$553,MATCH(Databackup!A501,Employee_Name,0),0)),\"\",(INDEX('Employee Data'!$H$4:$H$553,MATCH(Databackup!A501,Employee_Name,0))))","v":""},{"$f":"IF(ISERROR(INDEX('Employee Data'!$I$4:$I$553,MATCH(Databackup!A501,Employee_Name,0),0)),\"\",(INDEX('Employee Data'!$I$4:$I$553,MATCH(Databackup!A501,Employee_Name,0))))","v":""},{"$f":"IF(ISERROR(INDEX('Employee Data'!$J$4:$J$553,MATCH(Databackup!A501,Employee_Name,0),0)),\"\",(INDEX('Employee Data'!J$4:$J$553,MATCH(Databackup!A501,Employee_Name,0))))","v":""},{"$f":"IF(ISERROR(INDEX('Employee Data'!$K$4:$K$553,MATCH(Databackup!A501,Employee_Name,0),0)),\"\",(INDEX('Employee Data'!$K$4:$K$553,MATCH(Databackup!A501,Employee_Name,0))))","v":""},{"$f":"IF(ISERROR(INDEX('Employee Data'!$L$4:$L$553,MATCH(Databackup!A501,Employee_Name,0),0)),\"\",(INDEX('Employee Data'!$L$4:$L$553,MATCH(Databackup!A501,Employee_Name,0))))","v":""},{"$f":"IF(ISERROR(INDEX('Employee Data'!$M$4:$M$553,MATCH(Databackup!A501,Employee_Name,0),0)),\"\",(INDEX('Employee Data'!$M$4:$M$553,MATCH(Databackup!A501,Employee_Name,0))))","v":""},{"$f":"IF(ISERROR(INDEX('Employee Data'!$N$4:$N$553,MATCH(Databackup!A501,Employee_Name,0),0)),\"\",(INDEX('Employee Data'!$N$4:$N$553,MATCH(Databackup!A501,Employee_Name,0))))","v":""},{"$f":"IF(ISERROR(INDEX('Employee Data'!$O$4:$O$553,MATCH(Databackup!A501,Employee_Name,0),0)),\"\",(INDEX('Employee Data'!$O$4:$O$553,MATCH(Databackup!A501,Employee_Name,0))))","v":""}]
[{"$f":"INDEX(Employee_Name,MATCH(SMALL(IF($A$1='Employee Data'!$I$4:$I$553,'Employee Data'!$B$4:$B$553,\"\"),ROW('Employee Data'!A500)),IF($A$1='Employee Data'!$I$4:$I$553,'Employee Data'!$B$4:$B$553,\"\"),0))","v":{"$error":"#NUM!"}},{"$f":"IF(ISERROR(INDEX('Employee Data'!$B$4:$B$553,MATCH(Databackup!A502,Employee_Name,0),0)),\"\",(INDEX('Employee Data'!$B$4:$B$553,MATCH(Databackup!A502,Employee_Name,0))))","v":""},{"$f":"IF(ISERROR(INDEX('Employee Data'!$C$4:$C$553,MATCH(Databackup!A502,Employee_Name,0),0)),\"\",(INDEX('Employee Data'!$C$4:$C$553,MATCH(Databackup!A502,Employee_Name,0))))","v":""},{"$f":"IF(ISERROR(INDEX('Employee Data'!$D$4:$D$553,MATCH(Databackup!A502,Employee_Name,0),0)),\"\",(INDEX('Employee Data'!$D$4:$D$553,MATCH(Databackup!A502,Employee_Name,0))))","v":""},{"$f":"IF(ISERROR(INDEX('Employee Data'!$F$4:$F$553,MATCH(Databackup!A502,Employee_Name,0),0)),\"\",(INDEX('Employee Data'!$F$4:$F$553,MATCH(Databackup!A502,Employee_Name,0))))","v":""},{"$f":"IF(ISERROR(INDEX('Employee Data'!$G$4:$G$553,MATCH(Databackup!A502,Employee_Name,0),0)),\"\",(INDEX('Employee Data'!$G$4:$G$553,MATCH(Databackup!A502,Employee_Name,0))))","v":""},{"$f":"IF(ISERROR(INDEX('Employee Data'!$H$4:$H$553,MATCH(Databackup!A502,Employee_Name,0),0)),\"\",(INDEX('Employee Data'!$H$4:$H$553,MATCH(Databackup!A502,Employee_Name,0))))","v":""},{"$f":"IF(ISERROR(INDEX('Employee Data'!$I$4:$I$553,MATCH(Databackup!A502,Employee_Name,0),0)),\"\",(INDEX('Employee Data'!$I$4:$I$553,MATCH(Databackup!A502,Employee_Name,0))))","v":""},{"$f":"IF(ISERROR(INDEX('Employee Data'!$J$4:$J$553,MATCH(Databackup!A502,Employee_Name,0),0)),\"\",(INDEX('Employee Data'!J$4:$J$553,MATCH(Databackup!A502,Employee_Name,0))))","v":""},{"$f":"IF(ISERROR(INDEX('Employee Data'!$K$4:$K$553,MATCH(Databackup!A502,Employee_Name,0),0)),\"\",(INDEX('Employee Data'!$K$4:$K$553,MATCH(Databackup!A502,Employee_Name,0))))","v":""},{"$f":"IF(ISERROR(INDEX('Employee Data'!$L$4:$L$553,MATCH(Databackup!A502,Employee_Name,0),0)),\"\",(INDEX('Employee Data'!$L$4:$L$553,MATCH(Databackup!A502,Employee_Name,0))))","v":""},{"$f":"IF(ISERROR(INDEX('Employee Data'!$M$4:$M$553,MATCH(Databackup!A502,Employee_Name,0),0)),\"\",(INDEX('Employee Data'!$M$4:$M$553,MATCH(Databackup!A502,Employee_Name,0))))","v":""},{"$f":"IF(ISERROR(INDEX('Employee Data'!$N$4:$N$553,MATCH(Databackup!A502,Employee_Name,0),0)),\"\",(INDEX('Employee Data'!$N$4:$N$553,MATCH(Databackup!A502,Employee_Name,0))))","v":""},{"$f":"IF(ISERROR(INDEX('Employee Data'!$O$4:$O$553,MATCH(Databackup!A502,Employee_Name,0),0)),\"\",(INDEX('Employee Data'!$O$4:$O$553,MATCH(Databackup!A502,Employee_Name,0))))","v":""}]
[{"$f":"INDEX(Employee_Name,MATCH(SMALL(IF($A$1='Employee Data'!$I$4:$I$553,'Employee Data'!$B$4:$B$553,\"\"),ROW('Employee Data'!A501)),IF($A$1='Employee Data'!$I$4:$I$553,'Employee Data'!$B$4:$B$553,\"\"),0))","v":{"$error":"#NUM!"}},{"$f":"IF(ISERROR(INDEX('Employee Data'!$B$4:$B$553,MATCH(Databackup!A503,Employee_Name,0),0)),\"\",(INDEX('Employee Data'!$B$4:$B$553,MATCH(Databackup!A503,Employee_Name,0))))","v":""},{"$f":"IF(ISERROR(INDEX('Employee Data'!$C$4:$C$553,MATCH(Databackup!A503,Employee_Name,0),0)),\"\",(INDEX('Employee Data'!$C$4:$C$553,MATCH(Databackup!A503,Employee_Name,0))))","v":""},{"$f":"IF(ISERROR(INDEX('Employee Data'!$D$4:$D$553,MATCH(Databackup!A503,Employee_Name,0),0)),\"\",(INDEX('Employee Data'!$D$4:$D$553,MATCH(Databackup!A503,Employee_Name,0))))","v":""},{"$f":"IF(ISERROR(INDEX('Employee Data'!$F$4:$F$553,MATCH(Databackup!A503,Employee_Name,0),0)),\"\",(INDEX('Employee Data'!$F$4:$F$553,MATCH(Databackup!A503,Employee_Name,0))))","v":""},{"$f":"IF(ISERROR(INDEX('Employee Data'!$G$4:$G$553,MATCH(Databackup!A503,Employee_Name,0),0)),\"\",(INDEX('Employee Data'!$G$4:$G$553,MATCH(Databackup!A503,Employee_Name,0))))","v":""},{"$f":"IF(ISERROR(INDEX('Employee Data'!$H$4:$H$553,MATCH(Databackup!A503,Employee_Name,0),0)),\"\",(INDEX('Employee Data'!$H$4:$H$553,MATCH(Databackup!A503,Employee_Name,0))))","v":""},{"$f":"IF(ISERROR(INDEX('Employee Data'!$I$4:$I$553,MATCH(Databackup!A503,Employee_Name,0),0)),\"\",(INDEX('Employee Data'!$I$4:$I$553,MATCH(Databackup!A503,Employee_Name,0))))","v":""},{"$f":"IF(ISERROR(INDEX('Employee Data'!$J$4:$J$553,MATCH(Databackup!A503,Employee_Name,0),0)),\"\",(INDEX('Employee Data'!J$4:$J$553,MATCH(Databackup!A503,Employee_Name,0))))","v":""},{"$f":"IF(ISERROR(INDEX('Employee Data'!$K$4:$K$553,MATCH(Databackup!A503,Employee_Name,0),0)),\"\",(INDEX('Employee Data'!$K$4:$K$553,MATCH(Databackup!A503,Employee_Name,0))))","v":""},{"$f":"IF(ISERROR(INDEX('Employee Data'!$L$4:$L$553,MATCH(Databackup!A503,Employee_Name,0),0)),\"\",(INDEX('Employee Data'!$L$4:$L$553,MATCH(Databackup!A503,Employee_Name,0))))","v":""},{"$f":"IF(ISERROR(INDEX('Employee Data'!$M$4:$M$553,MATCH(Databackup!A503,Employee_Name,0),0)),\"\",(INDEX('Employee Data'!$M$4:$M$553,MATCH(Databackup!A503,Employee_Name,0))))","v":""},{"$f":"IF(ISERROR(INDEX('Employee Data'!$N$4:$N$553,MATCH(Databackup!A503,Employee_Name,0),0)),\"\",(INDEX('Employee Data'!$N$4:$N$553,MATCH(Databackup!A503,Employee_Name,0))))","v":""},{"$f":"IF(ISERROR(INDEX('Employee Data'!$O$4:$O$553,MATCH(Databackup!A503,Employee_Name,0),0)),\"\",(INDEX('Employee Data'!$O$4:$O$553,MATCH(Databackup!A503,Employee_Name,0))))","v":""}]
[{"$f":"INDEX(Employee_Name,MATCH(SMALL(IF($A$1='Employee Data'!$I$4:$I$553,'Employee Data'!$B$4:$B$553,\"\"),ROW('Employee Data'!A502)),IF($A$1='Employee Data'!$I$4:$I$553,'Employee Data'!$B$4:$B$553,\"\"),0))","v":{"$error":"#NUM!"}},{"$f":"IF(ISERROR(INDEX('Employee Data'!$B$4:$B$553,MATCH(Databackup!A504,Employee_Name,0),0)),\"\",(INDEX('Employee Data'!$B$4:$B$553,MATCH(Databackup!A504,Employee_Name,0))))","v":""},{"$f":"IF(ISERROR(INDEX('Employee Data'!$C$4:$C$553,MATCH(Databackup!A504,Employee_Name,0),0)),\"\",(INDEX('Employee Data'!$C$4:$C$553,MATCH(Databackup!A504,Employee_Name,0))))","v":""},{"$f":"IF(ISERROR(INDEX('Employee Data'!$D$4:$D$553,MATCH(Databackup!A504,Employee_Name,0),0)),\"\",(INDEX('Employee Data'!$D$4:$D$553,MATCH(Databackup!A504,Employee_Name,0))))","v":""},{"$f":"IF(ISERROR(INDEX('Employee Data'!$F$4:$F$553,MATCH(Databackup!A504,Employee_Name,0),0)),\"\",(INDEX('Employee Data'!$F$4:$F$553,MATCH(Databackup!A504,Employee_Name,0))))","v":""},{"$f":"IF(ISERROR(INDEX('Employee Data'!$G$4:$G$553,MATCH(Databackup!A504,Employee_Name,0),0)),\"\",(INDEX('Employee Data'!$G$4:$G$553,MATCH(Databackup!A504,Employee_Name,0))))","v":""},{"$f":"IF(ISERROR(INDEX('Employee Data'!$H$4:$H$553,MATCH(Databackup!A504,Employee_Name,0),0)),\"\",(INDEX('Employee Data'!$H$4:$H$553,MATCH(Databackup!A504,Employee_Name,0))))","v":""},{"$f":"IF(ISERROR(INDEX('Employee Data'!$I$4:$I$553,MATCH(Databackup!A504,Employee_Name,0),0)),\"\",(INDEX('Employee Data'!$I$4:$I$553,MATCH(Databackup!A504,Employee_Name,0))))","v":""},{"$f":"IF(ISERROR(INDEX('Employee Data'!$J$4:$J$553,MATCH(Databackup!A504,Employee_Name,0),0)),\"\",(INDEX('Employee Data'!J$4:$J$553,MATCH(Databackup!A504,Employee_Name,0))))","v":""},{"$f":"IF(ISERROR(INDEX('Employee Data'!$K$4:$K$553,MATCH(Databackup!A504,Employee_Name,0),0)),\"\",(INDEX('Employee Data'!$K$4:$K$553,MATCH(Databackup!A504,Employee_Name,0))))","v":""},{"$f":"IF(ISERROR(INDEX('Employee Data'!$L$4:$L$553,MATCH(Databackup!A504,Employee_Name,0),0)),\"\",(INDEX('Employee Data'!$L$4:$L$553,MATCH(Databackup!A504,Employee_Name,0))))","v":""},{"$f":"IF(ISERROR(INDEX('Employee Data'!$M$4:$M$553,MATCH(Databackup!A504,Employee_Name,0),0)),\"\",(INDEX('Employee Data'!$M$4:$M$553,MATCH(Databackup!A504,Employee_Name,0))))","v":""},{"$f":"IF(ISERROR(INDEX('Employee Data'!$N$4:$N$553,MATCH(Databackup!A504,Employee_Name,0),0)),\"\",(INDEX('Employee Data'!$N$4:$N$553,MATCH(Databackup!A504,Employee_Name,0))))","v":""},{"$f":"IF(ISERROR(INDEX('Employee Data'!$O$4:$O$553,MATCH(Databackup!A504,Employee_Name,0),0)),\"\",(INDEX('Employee Data'!$O$4:$O$553,MATCH(Databackup!A504,Employee_Name,0))))","v":""}]
[{"$f":"INDEX(Employee_Name,MATCH(SMALL(IF($A$1='Employee Data'!$I$4:$I$553,'Employee Data'!$B$4:$B$553,\"\"),ROW('Employee Data'!A503)),IF($A$1='Employee Data'!$I$4:$I$553,'Employee Data'!$B$4:$B$553,\"\"),0))","v":{"$error":"#NUM!"}},{"$f":"IF(ISERROR(INDEX('Employee Data'!$B$4:$B$553,MATCH(Databackup!A505,Employee_Name,0),0)),\"\",(INDEX('Employee Data'!$B$4:$B$553,MATCH(Databackup!A505,Employee_Name,0))))","v":""},{"$f":"IF(ISERROR(INDEX('Employee Data'!$C$4:$C$553,MATCH(Databackup!A505,Employee_Name,0),0)),\"\",(INDEX('Employee Data'!$C$4:$C$553,MATCH(Databackup!A505,Employee_Name,0))))","v":""},{"$f":"IF(ISERROR(INDEX('Employee Data'!$D$4:$D$553,MATCH(Databackup!A505,Employee_Name,0),0)),\"\",(INDEX('Employee Data'!$D$4:$D$553,MATCH(Databackup!A505,Employee_Name,0))))","v":""},{"$f":"IF(ISERROR(INDEX('Employee Data'!$F$4:$F$553,MATCH(Databackup!A505,Employee_Name,0),0)),\"\",(INDEX('Employee Data'!$F$4:$F$553,MATCH(Databackup!A505,Employee_Name,0))))","v":""},{"$f":"IF(ISERROR(INDEX('Employee Data'!$G$4:$G$553,MATCH(Databackup!A505,Employee_Name,0),0)),\"\",(INDEX('Employee Data'!$G$4:$G$553,MATCH(Databackup!A505,Employee_Name,0))))","v":""},{"$f":"IF(ISERROR(INDEX('Employee Data'!$H$4:$H$553,MATCH(Databackup!A505,Employee_Name,0),0)),\"\",(INDEX('Employee Data'!$H$4:$H$553,MATCH(Databackup!A505,Employee_Name,0))))","v":""},{"$f":"IF(ISERROR(INDEX('Employee Data'!$I$4:$I$553,MATCH(Databackup!A505,Employee_Name,0),0)),\"\",(INDEX('Employee Data'!$I$4:$I$553,MATCH(Databackup!A505,Employee_Name,0))))","v":""},{"$f":"IF(ISERROR(INDEX('Employee Data'!$J$4:$J$553,MATCH(Databackup!A505,Employee_Name,0),0)),\"\",(INDEX('Employee Data'!J$4:$J$553,MATCH(Databackup!A505,Employee_Name,0))))","v":""},{"$f":"IF(ISERROR(INDEX('Employee Data'!$K$4:$K$553,MATCH(Databackup!A505,Employee_Name,0),0)),\"\",(INDEX('Employee Data'!$K$4:$K$553,MATCH(Databackup!A505,Employee_Name,0))))","v":""},{"$f":"IF(ISERROR(INDEX('Employee Data'!$L$4:$L$553,MATCH(Databackup!A505,Employee_Name,0),0)),\"\",(INDEX('Employee Data'!$L$4:$L$553,MATCH(Databackup!A505,Employee_Name,0))))","v":""},{"$f":"IF(ISERROR(INDEX('Employee Data'!$M$4:$M$553,MATCH(Databackup!A505,Employee_Name,0),0)),\"\",(INDEX('Employee Data'!$M$4:$M$553,MATCH(Databackup!A505,Employee_Name,0))))","v":""},{"$f":"IF(ISERROR(INDEX('Employee Data'!$N$4:$N$553,MATCH(Databackup!A505,Employee_Name,0),0)),\"\",(INDEX('Employee Data'!$N$4:$N$553,MATCH(Databackup!A505,Employee_Name,0))))","v":""},{"$f":"IF(ISERROR(INDEX('Employee Data'!$O$4:$O$553,MATCH(Databackup!A505,Employee_Name,0),0)),\"\",(INDEX('Employee Data'!$O$4:$O$553,MATCH(Databackup!A505,Employee_Name,0))))","v":""}]
[{"$f":"INDEX(Employee_Name,MATCH(SMALL(IF($A$1='Employee Data'!$I$4:$I$553,'Employee Data'!$B$4:$B$553,\"\"),ROW('Employee Data'!A504)),IF($A$1='Employee Data'!$I$4:$I$553,'Employee Data'!$B$4:$B$553,\"\"),0))","v":{"$error":"#NUM!"}},{"$f":"IF(ISERROR(INDEX('Employee Data'!$B$4:$B$553,MATCH(Databackup!A506,Employee_Name,0),0)),\"\",(INDEX('Employee Data'!$B$4:$B$553,MATCH(Databackup!A506,Employee_Name,0))))","v":""},{"$f":"IF(ISERROR(INDEX('Employee Data'!$C$4:$C$553,MATCH(Databackup!A506,Employee_Name,0),0)),\"\",(INDEX('Employee Data'!$C$4:$C$553,MATCH(Databackup!A506,Employee_Name,0))))","v":""},{"$f":"IF(ISERROR(INDEX('Employee Data'!$D$4:$D$553,MATCH(Databackup!A506,Employee_Name,0),0)),\"\",(INDEX('Employee Data'!$D$4:$D$553,MATCH(Databackup!A506,Employee_Name,0))))","v":""},{"$f":"IF(ISERROR(INDEX('Employee Data'!$F$4:$F$553,MATCH(Databackup!A506,Employee_Name,0),0)),\"\",(INDEX('Employee Data'!$F$4:$F$553,MATCH(Databackup!A506,Employee_Name,0))))","v":""},{"$f":"IF(ISERROR(INDEX('Employee Data'!$G$4:$G$553,MATCH(Databackup!A506,Employee_Name,0),0)),\"\",(INDEX('Employee Data'!$G$4:$G$553,MATCH(Databackup!A506,Employee_Name,0))))","v":""},{"$f":"IF(ISERROR(INDEX('Employee Data'!$H$4:$H$553,MATCH(Databackup!A506,Employee_Name,0),0)),\"\",(INDEX('Employee Data'!$H$4:$H$553,MATCH(Databackup!A506,Employee_Name,0))))","v":""},{"$f":"IF(ISERROR(INDEX('Employee Data'!$I$4:$I$553,MATCH(Databackup!A506,Employee_Name,0),0)),\"\",(INDEX('Employee Data'!$I$4:$I$553,MATCH(Databackup!A506,Employee_Name,0))))","v":""},{"$f":"IF(ISERROR(INDEX('Employee Data'!$J$4:$J$553,MATCH(Databackup!A506,Employee_Name,0),0)),\"\",(INDEX('Employee Data'!J$4:$J$553,MATCH(Databackup!A506,Employee_Name,0))))","v":""},{"$f":"IF(ISERROR(INDEX('Employee Data'!$K$4:$K$553,MATCH(Databackup!A506,Employee_Name,0),0)),\"\",(INDEX('Employee Data'!$K$4:$K$553,MATCH(Databackup!A506,Employee_Name,0))))","v":""},{"$f":"IF(ISERROR(INDEX('Employee Data'!$L$4:$L$553,MATCH(Databackup!A506,Employee_Name,0),0)),\"\",(INDEX('Employee Data'!$L$4:$L$553,MATCH(Databackup!A506,Employee_Name,0))))","v":""},{"$f":"IF(ISERROR(INDEX('Employee Data'!$M$4:$M$553,MATCH(Databackup!A506,Employee_Name,0),0)),\"\",(INDEX('Employee Data'!$M$4:$M$553,MATCH(Databackup!A506,Employee_Name,0))))","v":""},{"$f":"IF(ISERROR(INDEX('Employee Data'!$N$4:$N$553,MATCH(Databackup!A506,Employee_Name,0),0)),\"\",(INDEX('Employee Data'!$N$4:$N$553,MATCH(Databackup!A506,Employee_Name,0))))","v":""},{"$f":"IF(ISERROR(INDEX('Employee Data'!$O$4:$O$553,MATCH(Databackup!A506,Employee_Name,0),0)),\"\",(INDEX('Employee Data'!$O$4:$O$553,MATCH(Databackup!A506,Employee_Name,0))))","v":""}]
[{"$f":"INDEX(Employee_Name,MATCH(SMALL(IF($A$1='Employee Data'!$I$4:$I$553,'Employee Data'!$B$4:$B$553,\"\"),ROW('Employee Data'!A505)),IF($A$1='Employee Data'!$I$4:$I$553,'Employee Data'!$B$4:$B$553,\"\"),0))","v":{"$error":"#NUM!"}},{"$f":"IF(ISERROR(INDEX('Employee Data'!$B$4:$B$553,MATCH(Databackup!A507,Employee_Name,0),0)),\"\",(INDEX('Employee Data'!$B$4:$B$553,MATCH(Databackup!A507,Employee_Name,0))))","v":""},{"$f":"IF(ISERROR(INDEX('Employee Data'!$C$4:$C$553,MATCH(Databackup!A507,Employee_Name,0),0)),\"\",(INDEX('Employee Data'!$C$4:$C$553,MATCH(Databackup!A507,Employee_Name,0))))","v":""},{"$f":"IF(ISERROR(INDEX('Employee Data'!$D$4:$D$553,MATCH(Databackup!A507,Employee_Name,0),0)),\"\",(INDEX('Employee Data'!$D$4:$D$553,MATCH(Databackup!A507,Employee_Name,0))))","v":""},{"$f":"IF(ISERROR(INDEX('Employee Data'!$F$4:$F$553,MATCH(Databackup!A507,Employee_Name,0),0)),\"\",(INDEX('Employee Data'!$F$4:$F$553,MATCH(Databackup!A507,Employee_Name,0))))","v":""},{"$f":"IF(ISERROR(INDEX('Employee Data'!$G$4:$G$553,MATCH(Databackup!A507,Employee_Name,0),0)),\"\",(INDEX('Employee Data'!$G$4:$G$553,MATCH(Databackup!A507,Employee_Name,0))))","v":""},{"$f":"IF(ISERROR(INDEX('Employee Data'!$H$4:$H$553,MATCH(Databackup!A507,Employee_Name,0),0)),\"\",(INDEX('Employee Data'!$H$4:$H$553,MATCH(Databackup!A507,Employee_Name,0))))","v":""},{"$f":"IF(ISERROR(INDEX('Employee Data'!$I$4:$I$553,MATCH(Databackup!A507,Employee_Name,0),0)),\"\",(INDEX('Employee Data'!$I$4:$I$553,MATCH(Databackup!A507,Employee_Name,0))))","v":""},{"$f":"IF(ISERROR(INDEX('Employee Data'!$J$4:$J$553,MATCH(Databackup!A507,Employee_Name,0),0)),\"\",(INDEX('Employee Data'!J$4:$J$553,MATCH(Databackup!A507,Employee_Name,0))))","v":""},{"$f":"IF(ISERROR(INDEX('Employee Data'!$K$4:$K$553,MATCH(Databackup!A507,Employee_Name,0),0)),\"\",(INDEX('Employee Data'!$K$4:$K$553,MATCH(Databackup!A507,Employee_Name,0))))","v":""},{"$f":"IF(ISERROR(INDEX('Employee Data'!$L$4:$L$553,MATCH(Databackup!A507,Employee_Name,0),0)),\"\",(INDEX('Employee Data'!$L$4:$L$553,MATCH(Databackup!A507,Employee_Name,0))))","v":""},{"$f":"IF(ISERROR(INDEX('Employee Data'!$M$4:$M$553,MATCH(Databackup!A507,Employee_Name,0),0)),\"\",(INDEX('Employee Data'!$M$4:$M$553,MATCH(Databackup!A507,Employee_Name,0))))","v":""},{"$f":"IF(ISERROR(INDEX('Employee Data'!$N$4:$N$553,MATCH(Databackup!A507,Employee_Name,0),0)),\"\",(INDEX('Employee Data'!$N$4:$N$553,MATCH(Databackup!A507,Employee_Name,0))))","v":""},{"$f":"IF(ISERROR(INDEX('Employee Data'!$O$4:$O$553,MATCH(Databackup!A507,Employee_Name,0),0)),\"\",(INDEX('Employee Data'!$O$4:$O$553,MATCH(Databackup!A507,Employee_Name,0))))","v":""}]
[{"$f":"INDEX(Employee_Name,MATCH(SMALL(IF($A$1='Employee Data'!$I$4:$I$553,'Employee Data'!$B$4:$B$553,\"\"),ROW('Employee Data'!A506)),IF($A$1='Employee Data'!$I$4:$I$553,'Employee Data'!$B$4:$B$553,\"\"),0))","v":{"$error":"#NUM!"}},{"$f":"IF(ISERROR(INDEX('Employee Data'!$B$4:$B$553,MATCH(Databackup!A508,Employee_Name,0),0)),\"\",(INDEX('Employee Data'!$B$4:$B$553,MATCH(Databackup!A508,Employee_Name,0))))","v":""},{"$f":"IF(ISERROR(INDEX('Employee Data'!$C$4:$C$553,MATCH(Databackup!A508,Employee_Name,0),0)),\"\",(INDEX('Employee Data'!$C$4:$C$553,MATCH(Databackup!A508,Employee_Name,0))))","v":""},{"$f":"IF(ISERROR(INDEX('Employee Data'!$D$4:$D$553,MATCH(Databackup!A508,Employee_Name,0),0)),\"\",(INDEX('Employee Data'!$D$4:$D$553,MATCH(Databackup!A508,Employee_Name,0))))","v":""},{"$f":"IF(ISERROR(INDEX('Employee Data'!$F$4:$F$553,MATCH(Databackup!A508,Employee_Name,0),0)),\"\",(INDEX('Employee Data'!$F$4:$F$553,MATCH(Databackup!A508,Employee_Name,0))))","v":""},{"$f":"IF(ISERROR(INDEX('Employee Data'!$G$4:$G$553,MATCH(Databackup!A508,Employee_Name,0),0)),\"\",(INDEX('Employee Data'!$G$4:$G$553,MATCH(Databackup!A508,Employee_Name,0))))","v":""},{"$f":"IF(ISERROR(INDEX('Employee Data'!$H$4:$H$553,MATCH(Databackup!A508,Employee_Name,0),0)),\"\",(INDEX('Employee Data'!$H$4:$H$553,MATCH(Databackup!A508,Employee_Name,0))))","v":""},{"$f":"IF(ISERROR(INDEX('Employee Data'!$I$4:$I$553,MATCH(Databackup!A508,Employee_Name,0),0)),\"\",(INDEX('Employee Data'!$I$4:$I$553,MATCH(Databackup!A508,Employee_Name,0))))","v":""},{"$f":"IF(ISERROR(INDEX('Employee Data'!$J$4:$J$553,MATCH(Databackup!A508,Employee_Name,0),0)),\"\",(INDEX('Employee Data'!J$4:$J$553,MATCH(Databackup!A508,Employee_Name,0))))","v":""},{"$f":"IF(ISERROR(INDEX('Employee Data'!$K$4:$K$553,MATCH(Databackup!A508,Employee_Name,0),0)),\"\",(INDEX('Employee Data'!$K$4:$K$553,MATCH(Databackup!A508,Employee_Name,0))))","v":""},{"$f":"IF(ISERROR(INDEX('Employee Data'!$L$4:$L$553,MATCH(Databackup!A508,Employee_Name,0),0)),\"\",(INDEX('Employee Data'!$L$4:$L$553,MATCH(Databackup!A508,Employee_Name,0))))","v":""},{"$f":"IF(ISERROR(INDEX('Employee Data'!$M$4:$M$553,MATCH(Databackup!A508,Employee_Name,0),0)),\"\",(INDEX('Employee Data'!$M$4:$M$553,MATCH(Databackup!A508,Employee_Name,0))))","v":""},{"$f":"IF(ISERROR(INDEX('Employee Data'!$N$4:$N$553,MATCH(Databackup!A508,Employee_Name,0),0)),\"\",(INDEX('Employee Data'!$N$4:$N$553,MATCH(Databackup!A508,Employee_Name,0))))","v":""},{"$f":"IF(ISERROR(INDEX('Employee Data'!$O$4:$O$553,MATCH(Databackup!A508,Employee_Name,0),0)),\"\",(INDEX('Employee Data'!$O$4:$O$553,MATCH(Databackup!A508,Employee_Name,0))))","v":""}]
[{"$f":"INDEX(Employee_Name,MATCH(SMALL(IF($A$1='Employee Data'!$I$4:$I$553,'Employee Data'!$B$4:$B$553,\"\"),ROW('Employee Data'!A507)),IF($A$1='Employee Data'!$I$4:$I$553,'Employee Data'!$B$4:$B$553,\"\"),0))","v":{"$error":"#NUM!"}},{"$f":"IF(ISERROR(INDEX('Employee Data'!$B$4:$B$553,MATCH(Databackup!A509,Employee_Name,0),0)),\"\",(INDEX('Employee Data'!$B$4:$B$553,MATCH(Databackup!A509,Employee_Name,0))))","v":""},{"$f":"IF(ISERROR(INDEX('Employee Data'!$C$4:$C$553,MATCH(Databackup!A509,Employee_Name,0),0)),\"\",(INDEX('Employee Data'!$C$4:$C$553,MATCH(Databackup!A509,Employee_Name,0))))","v":""},{"$f":"IF(ISERROR(INDEX('Employee Data'!$D$4:$D$553,MATCH(Databackup!A509,Employee_Name,0),0)),\"\",(INDEX('Employee Data'!$D$4:$D$553,MATCH(Databackup!A509,Employee_Name,0))))","v":""},{"$f":"IF(ISERROR(INDEX('Employee Data'!$F$4:$F$553,MATCH(Databackup!A509,Employee_Name,0),0)),\"\",(INDEX('Employee Data'!$F$4:$F$553,MATCH(Databackup!A509,Employee_Name,0))))","v":""},{"$f":"IF(ISERROR(INDEX('Employee Data'!$G$4:$G$553,MATCH(Databackup!A509,Employee_Name,0),0)),\"\",(INDEX('Employee Data'!$G$4:$G$553,MATCH(Databackup!A509,Employee_Name,0))))","v":""},{"$f":"IF(ISERROR(INDEX('Employee Data'!$H$4:$H$553,MATCH(Databackup!A509,Employee_Name,0),0)),\"\",(INDEX('Employee Data'!$H$4:$H$553,MATCH(Databackup!A509,Employee_Name,0))))","v":""},{"$f":"IF(ISERROR(INDEX('Employee Data'!$I$4:$I$553,MATCH(Databackup!A509,Employee_Name,0),0)),\"\",(INDEX('Employee Data'!$I$4:$I$553,MATCH(Databackup!A509,Employee_Name,0))))","v":""},{"$f":"IF(ISERROR(INDEX('Employee Data'!$J$4:$J$553,MATCH(Databackup!A509,Employee_Name,0),0)),\"\",(INDEX('Employee Data'!J$4:$J$553,MATCH(Databackup!A509,Employee_Name,0))))","v":""},{"$f":"IF(ISERROR(INDEX('Employee Data'!$K$4:$K$553,MATCH(Databackup!A509,Employee_Name,0),0)),\"\",(INDEX('Employee Data'!$K$4:$K$553,MATCH(Databackup!A509,Employee_Name,0))))","v":""},{"$f":"IF(ISERROR(INDEX('Employee Data'!$L$4:$L$553,MATCH(Databackup!A509,Employee_Name,0),0)),\"\",(INDEX('Employee Data'!$L$4:$L$553,MATCH(Databackup!A509,Employee_Name,0))))","v":""},{"$f":"IF(ISERROR(INDEX('Employee Data'!$M$4:$M$553,MATCH(Databackup!A509,Employee_Name,0),0)),\"\",(INDEX('Employee Data'!$M$4:$M$553,MATCH(Databackup!A509,Employee_Name,0))))","v":""},{"$f":"IF(ISERROR(INDEX('Employee Data'!$N$4:$N$553,MATCH(Databackup!A509,Employee_Name,0),0)),\"\",(INDEX('Employee Data'!$N$4:$N$553,MATCH(Databackup!A509,Employee_Name,0))))","v":""},{"$f":"IF(ISERROR(INDEX('Employee Data'!$O$4:$O$553,MATCH(Databackup!A509,Employee_Name,0),0)),\"\",(INDEX('Employee Data'!$O$4:$O$553,MATCH(Databackup!A509,Employee_Name,0))))","v":""}]
[{"$f":"INDEX(Employee_Name,MATCH(SMALL(IF($A$1='Employee Data'!$I$4:$I$553,'Employee Data'!$B$4:$B$553,\"\"),ROW('Employee Data'!A508)),IF($A$1='Employee Data'!$I$4:$I$553,'Employee Data'!$B$4:$B$553,\"\"),0))","v":{"$error":"#NUM!"}},{"$f":"IF(ISERROR(INDEX('Employee Data'!$B$4:$B$553,MATCH(Databackup!A510,Employee_Name,0),0)),\"\",(INDEX('Employee Data'!$B$4:$B$553,MATCH(Databackup!A510,Employee_Name,0))))","v":""},{"$f":"IF(ISERROR(INDEX('Employee Data'!$C$4:$C$553,MATCH(Databackup!A510,Employee_Name,0),0)),\"\",(INDEX('Employee Data'!$C$4:$C$553,MATCH(Databackup!A510,Employee_Name,0))))","v":""},{"$f":"IF(ISERROR(INDEX('Employee Data'!$D$4:$D$553,MATCH(Databackup!A510,Employee_Name,0),0)),\"\",(INDEX('Employee Data'!$D$4:$D$553,MATCH(Databackup!A510,Employee_Name,0))))","v":""},{"$f":"IF(ISERROR(INDEX('Employee Data'!$F$4:$F$553,MATCH(Databackup!A510,Employee_Name,0),0)),\"\",(INDEX('Employee Data'!$F$4:$F$553,MATCH(Databackup!A510,Employee_Name,0))))","v":""},{"$f":"IF(ISERROR(INDEX('Employee Data'!$G$4:$G$553,MATCH(Databackup!A510,Employee_Name,0),0)),\"\",(INDEX('Employee Data'!$G$4:$G$553,MATCH(Databackup!A510,Employee_Name,0))))","v":""},{"$f":"IF(ISERROR(INDEX('Employee Data'!$H$4:$H$553,MATCH(Databackup!A510,Employee_Name,0),0)),\"\",(INDEX('Employee Data'!$H$4:$H$553,MATCH(Databackup!A510,Employee_Name,0))))","v":""},{"$f":"IF(ISERROR(INDEX('Employee Data'!$I$4:$I$553,MATCH(Databackup!A510,Employee_Name,0),0)),\"\",(INDEX('Employee Data'!$I$4:$I$553,MATCH(Databackup!A510,Employee_Name,0))))","v":""},{"$f":"IF(ISERROR(INDEX('Employee Data'!$J$4:$J$553,MATCH(Databackup!A510,Employee_Name,0),0)),\"\",(INDEX('Employee Data'!J$4:$J$553,MATCH(Databackup!A510,Employee_Name,0))))","v":""},{"$f":"IF(ISERROR(INDEX('Employee Data'!$K$4:$K$553,MATCH(Databackup!A510,Employee_Name,0),0)),\"\",(INDEX('Employee Data'!$K$4:$K$553,MATCH(Databackup!A510,Employee_Name,0))))","v":""},{"$f":"IF(ISERROR(INDEX('Employee Data'!$L$4:$L$553,MATCH(Databackup!A510,Employee_Name,0),0)),\"\",(INDEX('Employee Data'!$L$4:$L$553,MATCH(Databackup!A510,Employee_Name,0))))","v":""},{"$f":"IF(ISERROR(INDEX('Employee Data'!$M$4:$M$553,MATCH(Databackup!A510,Employee_Name,0),0)),\"\",(INDEX('Employee Data'!$M$4:$M$553,MATCH(Databackup!A510,Employee_Name,0))))","v":""},{"$f":"IF(ISERROR(INDEX('Employee Data'!$N$4:$N$553,MATCH(Databackup!A510,Employee_Name,0),0)),\"\",(INDEX('Employee Data'!$N$4:$N$553,MATCH(Databackup!A510,Employee_Name,0))))","v":""},{"$f":"IF(ISERROR(INDEX('Employee Data'!$O$4:$O$553,MATCH(Databackup!A510,Employee_Name,0),0)),\"\",(INDEX('Employee Data'!$O$4:$O$553,MATCH(Databackup!A510,Employee_Name,0))))","v":""}]
[{"$f":"INDEX(Employee_Name,MATCH(SMALL(IF($A$1='Employee Data'!$I$4:$I$553,'Employee Data'!$B$4:$B$553,\"\"),ROW('Employee Data'!A509)),IF($A$1='Employee Data'!$I$4:$I$553,'Employee Data'!$B$4:$B$553,\"\"),0))","v":{"$error":"#NUM!"}},{"$f":"IF(ISERROR(INDEX('Employee Data'!$B$4:$B$553,MATCH(Databackup!A511,Employee_Name,0),0)),\"\",(INDEX('Employee Data'!$B$4:$B$553,MATCH(Databackup!A511,Employee_Name,0))))","v":""},{"$f":"IF(ISERROR(INDEX('Employee Data'!$C$4:$C$553,MATCH(Databackup!A511,Employee_Name,0),0)),\"\",(INDEX('Employee Data'!$C$4:$C$553,MATCH(Databackup!A511,Employee_Name,0))))","v":""},{"$f":"IF(ISERROR(INDEX('Employee Data'!$D$4:$D$553,MATCH(Databackup!A511,Employee_Name,0),0)),\"\",(INDEX('Employee Data'!$D$4:$D$553,MATCH(Databackup!A511,Employee_Name,0))))","v":""},{"$f":"IF(ISERROR(INDEX('Employee Data'!$F$4:$F$553,MATCH(Databackup!A511,Employee_Name,0),0)),\"\",(INDEX('Employee Data'!$F$4:$F$553,MATCH(Databackup!A511,Employee_Name,0))))","v":""},{"$f":"IF(ISERROR(INDEX('Employee Data'!$G$4:$G$553,MATCH(Databackup!A511,Employee_Name,0),0)),\"\",(INDEX('Employee Data'!$G$4:$G$553,MATCH(Databackup!A511,Employee_Name,0))))","v":""},{"$f":"IF(ISERROR(INDEX('Employee Data'!$H$4:$H$553,MATCH(Databackup!A511,Employee_Name,0),0)),\"\",(INDEX('Employee Data'!$H$4:$H$553,MATCH(Databackup!A511,Employee_Name,0))))","v":""},{"$f":"IF(ISERROR(INDEX('Employee Data'!$I$4:$I$553,MATCH(Databackup!A511,Employee_Name,0),0)),\"\",(INDEX('Employee Data'!$I$4:$I$553,MATCH(Databackup!A511,Employee_Name,0))))","v":""},{"$f":"IF(ISERROR(INDEX('Employee Data'!$J$4:$J$553,MATCH(Databackup!A511,Employee_Name,0),0)),\"\",(INDEX('Employee Data'!J$4:$J$553,MATCH(Databackup!A511,Employee_Name,0))))","v":""},{"$f":"IF(ISERROR(INDEX('Employee Data'!$K$4:$K$553,MATCH(Databackup!A511,Employee_Name,0),0)),\"\",(INDEX('Employee Data'!$K$4:$K$553,MATCH(Databackup!A511,Employee_Name,0))))","v":""},{"$f":"IF(ISERROR(INDEX('Employee Data'!$L$4:$L$553,MATCH(Databackup!A511,Employee_Name,0),0)),\"\",(INDEX('Employee Data'!$L$4:$L$553,MATCH(Databackup!A511,Employee_Name,0))))","v":""},{"$f":"IF(ISERROR(INDEX('Employee Data'!$M$4:$M$553,MATCH(Databackup!A511,Employee_Name,0),0)),\"\",(INDEX('Employee Data'!$M$4:$M$553,MATCH(Databackup!A511,Employee_Name,0))))","v":""},{"$f":"IF(ISERROR(INDEX('Employee Data'!$N$4:$N$553,MATCH(Databackup!A511,Employee_Name,0),0)),\"\",(INDEX('Employee Data'!$N$4:$N$553,MATCH(Databackup!A511,Employee_Name,0))))","v":""},{"$f":"IF(ISERROR(INDEX('Employee Data'!$O$4:$O$553,MATCH(Databackup!A511,Employee_Name,0),0)),\"\",(INDEX('Employee Data'!$O$4:$O$553,MATCH(Databackup!A511,Employee_Name,0))))","v":""}]
[{"$f":"INDEX(Employee_Name,MATCH(SMALL(IF($A$1='Employee Data'!$I$4:$I$553,'Employee Data'!$B$4:$B$553,\"\"),ROW('Employee Data'!A510)),IF($A$1='Employee Data'!$I$4:$I$553,'Employee Data'!$B$4:$B$553,\"\"),0))","v":{"$error":"#NUM!"}},{"$f":"IF(ISERROR(INDEX('Employee Data'!$B$4:$B$553,MATCH(Databackup!A512,Employee_Name,0),0)),\"\",(INDEX('Employee Data'!$B$4:$B$553,MATCH(Databackup!A512,Employee_Name,0))))","v":""},{"$f":"IF(ISERROR(INDEX('Employee Data'!$C$4:$C$553,MATCH(Databackup!A512,Employee_Name,0),0)),\"\",(INDEX('Employee Data'!$C$4:$C$553,MATCH(Databackup!A512,Employee_Name,0))))","v":""},{"$f":"IF(ISERROR(INDEX('Employee Data'!$D$4:$D$553,MATCH(Databackup!A512,Employee_Name,0),0)),\"\",(INDEX('Employee Data'!$D$4:$D$553,MATCH(Databackup!A512,Employee_Name,0))))","v":""},{"$f":"IF(ISERROR(INDEX('Employee Data'!$F$4:$F$553,MATCH(Databackup!A512,Employee_Name,0),0)),\"\",(INDEX('Employee Data'!$F$4:$F$553,MATCH(Databackup!A512,Employee_Name,0))))","v":""},{"$f":"IF(ISERROR(INDEX('Employee Data'!$G$4:$G$553,MATCH(Databackup!A512,Employee_Name,0),0)),\"\",(INDEX('Employee Data'!$G$4:$G$553,MATCH(Databackup!A512,Employee_Name,0))))","v":""},{"$f":"IF(ISERROR(INDEX('Employee Data'!$H$4:$H$553,MATCH(Databackup!A512,Employee_Name,0),0)),\"\",(INDEX('Employee Data'!$H$4:$H$553,MATCH(Databackup!A512,Employee_Name,0))))","v":""},{"$f":"IF(ISERROR(INDEX('Employee Data'!$I$4:$I$553,MATCH(Databackup!A512,Employee_Name,0),0)),\"\",(INDEX('Employee Data'!$I$4:$I$553,MATCH(Databackup!A512,Employee_Name,0))))","v":""},{"$f":"IF(ISERROR(INDEX('Employee Data'!$J$4:$J$553,MATCH(Databackup!A512,Employee_Name,0),0)),\"\",(INDEX('Employee Data'!J$4:$J$553,MATCH(Databackup!A512,Employee_Name,0))))","v":""},{"$f":"IF(ISERROR(INDEX('Employee Data'!$K$4:$K$553,MATCH(Databackup!A512,Employee_Name,0),0)),\"\",(INDEX('Employee Data'!$K$4:$K$553,MATCH(Databackup!A512,Employee_Name,0))))","v":""},{"$f":"IF(ISERROR(INDEX('Employee Data'!$L$4:$L$553,MATCH(Databackup!A512,Employee_Name,0),0)),\"\",(INDEX('Employee Data'!$L$4:$L$553,MATCH(Databackup!A512,Employee_Name,0))))","v":""},{"$f":"IF(ISERROR(INDEX('Employee Data'!$M$4:$M$553,MATCH(Databackup!A512,Employee_Name,0),0)),\"\",(INDEX('Employee Data'!$M$4:$M$553,MATCH(Databackup!A512,Employee_Name,0))))","v":""},{"$f":"IF(ISERROR(INDEX('Employee Data'!$N$4:$N$553,MATCH(Databackup!A512,Employee_Name,0),0)),\"\",(INDEX('Employee Data'!$N$4:$N$553,MATCH(Databackup!A512,Employee_Name,0))))","v":""},{"$f":"IF(ISERROR(INDEX('Employee Data'!$O$4:$O$553,MATCH(Databackup!A512,Employee_Name,0),0)),\"\",(INDEX('Employee Data'!$O$4:$O$553,MATCH(Databackup!A512,Employee_Name,0))))","v":""}]
[{"$f":"INDEX(Employee_Name,MATCH(SMALL(IF($A$1='Employee Data'!$I$4:$I$553,'Employee Data'!$B$4:$B$553,\"\"),ROW('Employee Data'!A511)),IF($A$1='Employee Data'!$I$4:$I$553,'Employee Data'!$B$4:$B$553,\"\"),0))","v":{"$error":"#NUM!"}},{"$f":"IF(ISERROR(INDEX('Employee Data'!$B$4:$B$553,MATCH(Databackup!A513,Employee_Name,0),0)),\"\",(INDEX('Employee Data'!$B$4:$B$553,MATCH(Databackup!A513,Employee_Name,0))))","v":""},{"$f":"IF(ISERROR(INDEX('Employee Data'!$C$4:$C$553,MATCH(Databackup!A513,Employee_Name,0),0)),\"\",(INDEX('Employee Data'!$C$4:$C$553,MATCH(Databackup!A513,Employee_Name,0))))","v":""},{"$f":"IF(ISERROR(INDEX('Employee Data'!$D$4:$D$553,MATCH(Databackup!A513,Employee_Name,0),0)),\"\",(INDEX('Employee Data'!$D$4:$D$553,MATCH(Databackup!A513,Employee_Name,0))))","v":""},{"$f":"IF(ISERROR(INDEX('Employee Data'!$F$4:$F$553,MATCH(Databackup!A513,Employee_Name,0),0)),\"\",(INDEX('Employee Data'!$F$4:$F$553,MATCH(Databackup!A513,Employee_Name,0))))","v":""},{"$f":"IF(ISERROR(INDEX('Employee Data'!$G$4:$G$553,MATCH(Databackup!A513,Employee_Name,0),0)),\"\",(INDEX('Employee Data'!$G$4:$G$553,MATCH(Databackup!A513,Employee_Name,0))))","v":""},{"$f":"IF(ISERROR(INDEX('Employee Data'!$H$4:$H$553,MATCH(Databackup!A513,Employee_Name,0),0)),\"\",(INDEX('Employee Data'!$H$4:$H$553,MATCH(Databackup!A513,Employee_Name,0))))","v":""},{"$f":"IF(ISERROR(INDEX('Employee Data'!$I$4:$I$553,MATCH(Databackup!A513,Employee_Name,0),0)),\"\",(INDEX('Employee Data'!$I$4:$I$553,MATCH(Databackup!A513,Employee_Name,0))))","v":""},{"$f":"IF(ISERROR(INDEX('Employee Data'!$J$4:$J$553,MATCH(Databackup!A513,Employee_Name,0),0)),\"\",(INDEX('Employee Data'!J$4:$J$553,MATCH(Databackup!A513,Employee_Name,0))))","v":""},{"$f":"IF(ISERROR(INDEX('Employee Data'!$K$4:$K$553,MATCH(Databackup!A513,Employee_Name,0),0)),\"\",(INDEX('Employee Data'!$K$4:$K$553,MATCH(Databackup!A513,Employee_Name,0))))","v":""},{"$f":"IF(ISERROR(INDEX('Employee Data'!$L$4:$L$553,MATCH(Databackup!A513,Employee_Name,0),0)),\"\",(INDEX('Employee Data'!$L$4:$L$553,MATCH(Databackup!A513,Employee_Name,0))))","v":""},{"$f":"IF(ISERROR(INDEX('Employee Data'!$M$4:$M$553,MATCH(Databackup!A513,Employee_Name,0),0)),\"\",(INDEX('Employee Data'!$M$4:$M$553,MATCH(Databackup!A513,Employee_Name,0))))","v":""},{"$f":"IF(ISERROR(INDEX('Employee Data'!$N$4:$N$553,MATCH(Databackup!A513,Employee_Name,0),0)),\"\",(INDEX('Employee Data'!$N$4:$N$553,MATCH(Databackup!A513,Employee_Name,0))))","v":""},{"$f":"IF(ISERROR(INDEX('Employee Data'!$O$4:$O$553,MATCH(Databackup!A513,Employee_Name,0),0)),\"\",(INDEX('Employee Data'!$O$4:$O$553,MATCH(Databackup!A513,Employee_Name,0))))","v":""}]
[{"$f":"INDEX(Employee_Name,MATCH(SMALL(IF($A$1='Employee Data'!$I$4:$I$553,'Employee Data'!$B$4:$B$553,\"\"),ROW('Employee Data'!A512)),IF($A$1='Employee Data'!$I$4:$I$553,'Employee Data'!$B$4:$B$553,\"\"),0))","v":{"$error":"#NUM!"}},{"$f":"IF(ISERROR(INDEX('Employee Data'!$B$4:$B$553,MATCH(Databackup!A514,Employee_Name,0),0)),\"\",(INDEX('Employee Data'!$B$4:$B$553,MATCH(Databackup!A514,Employee_Name,0))))","v":""},{"$f":"IF(ISERROR(INDEX('Employee Data'!$C$4:$C$553,MATCH(Databackup!A514,Employee_Name,0),0)),\"\",(INDEX('Employee Data'!$C$4:$C$553,MATCH(Databackup!A514,Employee_Name,0))))","v":""},{"$f":"IF(ISERROR(INDEX('Employee Data'!$D$4:$D$553,MATCH(Databackup!A514,Employee_Name,0),0)),\"\",(INDEX('Employee Data'!$D$4:$D$553,MATCH(Databackup!A514,Employee_Name,0))))","v":""},{"$f":"IF(ISERROR(INDEX('Employee Data'!$F$4:$F$553,MATCH(Databackup!A514,Employee_Name,0),0)),\"\",(INDEX('Employee Data'!$F$4:$F$553,MATCH(Databackup!A514,Employee_Name,0))))","v":""},{"$f":"IF(ISERROR(INDEX('Employee Data'!$G$4:$G$553,MATCH(Databackup!A514,Employee_Name,0),0)),\"\",(INDEX('Employee Data'!$G$4:$G$553,MATCH(Databackup!A514,Employee_Name,0))))","v":""},{"$f":"IF(ISERROR(INDEX('Employee Data'!$H$4:$H$553,MATCH(Databackup!A514,Employee_Name,0),0)),\"\",(INDEX('Employee Data'!$H$4:$H$553,MATCH(Databackup!A514,Employee_Name,0))))","v":""},{"$f":"IF(ISERROR(INDEX('Employee Data'!$I$4:$I$553,MATCH(Databackup!A514,Employee_Name,0),0)),\"\",(INDEX('Employee Data'!$I$4:$I$553,MATCH(Databackup!A514,Employee_Name,0))))","v":""},{"$f":"IF(ISERROR(INDEX('Employee Data'!$J$4:$J$553,MATCH(Databackup!A514,Employee_Name,0),0)),\"\",(INDEX('Employee Data'!J$4:$J$553,MATCH(Databackup!A514,Employee_Name,0))))","v":""},{"$f":"IF(ISERROR(INDEX('Employee Data'!$K$4:$K$553,MATCH(Databackup!A514,Employee_Name,0),0)),\"\",(INDEX('Employee Data'!$K$4:$K$553,MATCH(Databackup!A514,Employee_Name,0))))","v":""},{"$f":"IF(ISERROR(INDEX('Employee Data'!$L$4:$L$553,MATCH(Databackup!A514,Employee_Name,0),0)),\"\",(INDEX('Employee Data'!$L$4:$L$553,MATCH(Databackup!A514,Employee_Name,0))))","v":""},{"$f":"IF(ISERROR(INDEX('Employee Data'!$M$4:$M$553,MATCH(Databackup!A514,Employee_Name,0),0)),\"\",(INDEX('Employee Data'!$M$4:$M$553,MATCH(Databackup!A514,Employee_Name,0))))","v":""},{"$f":"IF(ISERROR(INDEX('Employee Data'!$N$4:$N$553,MATCH(Databackup!A514,Employee_Name,0),0)),\"\",(INDEX('Employee Data'!$N$4:$N$553,MATCH(Databackup!A514,Employee_Name,0))))","v":""},{"$f":"IF(ISERROR(INDEX('Employee Data'!$O$4:$O$553,MATCH(Databackup!A514,Employee_Name,0),0)),\"\",(INDEX('Employee Data'!$O$4:$O$553,MATCH(Databackup!A514,Employee_Name,0))))","v":""}]
[{"$f":"INDEX(Employee_Name,MATCH(SMALL(IF($A$1='Employee Data'!$I$4:$I$553,'Employee Data'!$B$4:$B$553,\"\"),ROW('Employee Data'!A513)),IF($A$1='Employee Data'!$I$4:$I$553,'Employee Data'!$B$4:$B$553,\"\"),0))","v":{"$error":"#NUM!"}},{"$f":"IF(ISERROR(INDEX('Employee Data'!$B$4:$B$553,MATCH(Databackup!A515,Employee_Name,0),0)),\"\",(INDEX('Employee Data'!$B$4:$B$553,MATCH(Databackup!A515,Employee_Name,0))))","v":""},{"$f":"IF(ISERROR(INDEX('Employee Data'!$C$4:$C$553,MATCH(Databackup!A515,Employee_Name,0),0)),\"\",(INDEX('Employee Data'!$C$4:$C$553,MATCH(Databackup!A515,Employee_Name,0))))","v":""},{"$f":"IF(ISERROR(INDEX('Employee Data'!$D$4:$D$553,MATCH(Databackup!A515,Employee_Name,0),0)),\"\",(INDEX('Employee Data'!$D$4:$D$553,MATCH(Databackup!A515,Employee_Name,0))))","v":""},{"$f":"IF(ISERROR(INDEX('Employee Data'!$F$4:$F$553,MATCH(Databackup!A515,Employee_Name,0),0)),\"\",(INDEX('Employee Data'!$F$4:$F$553,MATCH(Databackup!A515,Employee_Name,0))))","v":""},{"$f":"IF(ISERROR(INDEX('Employee Data'!$G$4:$G$553,MATCH(Databackup!A515,Employee_Name,0),0)),\"\",(INDEX('Employee Data'!$G$4:$G$553,MATCH(Databackup!A515,Employee_Name,0))))","v":""},{"$f":"IF(ISERROR(INDEX('Employee Data'!$H$4:$H$553,MATCH(Databackup!A515,Employee_Name,0),0)),\"\",(INDEX('Employee Data'!$H$4:$H$553,MATCH(Databackup!A515,Employee_Name,0))))","v":""},{"$f":"IF(ISERROR(INDEX('Employee Data'!$I$4:$I$553,MATCH(Databackup!A515,Employee_Name,0),0)),\"\",(INDEX('Employee Data'!$I$4:$I$553,MATCH(Databackup!A515,Employee_Name,0))))","v":""},{"$f":"IF(ISERROR(INDEX('Employee Data'!$J$4:$J$553,MATCH(Databackup!A515,Employee_Name,0),0)),\"\",(INDEX('Employee Data'!J$4:$J$553,MATCH(Databackup!A515,Employee_Name,0))))","v":""},{"$f":"IF(ISERROR(INDEX('Employee Data'!$K$4:$K$553,MATCH(Databackup!A515,Employee_Name,0),0)),\"\",(INDEX('Employee Data'!$K$4:$K$553,MATCH(Databackup!A515,Employee_Name,0))))","v":""},{"$f":"IF(ISERROR(INDEX('Employee Data'!$L$4:$L$553,MATCH(Databackup!A515,Employee_Name,0),0)),\"\",(INDEX('Employee Data'!$L$4:$L$553,MATCH(Databackup!A515,Employee_Name,0))))","v":""},{"$f":"IF(ISERROR(INDEX('Employee Data'!$M$4:$M$553,MATCH(Databackup!A515,Employee_Name,0),0)),\"\",(INDEX('Employee Data'!$M$4:$M$553,MATCH(Databackup!A515,Employee_Name,0))))","v":""},{"$f":"IF(ISERROR(INDEX('Employee Data'!$N$4:$N$553,MATCH(Databackup!A515,Employee_Name,0),0)),\"\",(INDEX('Employee Data'!$N$4:$N$553,MATCH(Databackup!A515,Employee_Name,0))))","v":""},{"$f":"IF(ISERROR(INDEX('Employee Data'!$O$4:$O$553,MATCH(Databackup!A515,Employee_Name,0),0)),\"\",(INDEX('Employee Data'!$O$4:$O$553,MATCH(Databackup!A515,Employee_Name,0))))","v":""}]
[{"$f":"INDEX(Employee_Name,MATCH(SMALL(IF($A$1='Employee Data'!$I$4:$I$553,'Employee Data'!$B$4:$B$553,\"\"),ROW('Employee Data'!A514)),IF($A$1='Employee Data'!$I$4:$I$553,'Employee Data'!$B$4:$B$553,\"\"),0))","v":{"$error":"#NUM!"}},{"$f":"IF(ISERROR(INDEX('Employee Data'!$B$4:$B$553,MATCH(Databackup!A516,Employee_Name,0),0)),\"\",(INDEX('Employee Data'!$B$4:$B$553,MATCH(Databackup!A516,Employee_Name,0))))","v":""},{"$f":"IF(ISERROR(INDEX('Employee Data'!$C$4:$C$553,MATCH(Databackup!A516,Employee_Name,0),0)),\"\",(INDEX('Employee Data'!$C$4:$C$553,MATCH(Databackup!A516,Employee_Name,0))))","v":""},{"$f":"IF(ISERROR(INDEX('Employee Data'!$D$4:$D$553,MATCH(Databackup!A516,Employee_Name,0),0)),\"\",(INDEX('Employee Data'!$D$4:$D$553,MATCH(Databackup!A516,Employee_Name,0))))","v":""},{"$f":"IF(ISERROR(INDEX('Employee Data'!$F$4:$F$553,MATCH(Databackup!A516,Employee_Name,0),0)),\"\",(INDEX('Employee Data'!$F$4:$F$553,MATCH(Databackup!A516,Employee_Name,0))))","v":""},{"$f":"IF(ISERROR(INDEX('Employee Data'!$G$4:$G$553,MATCH(Databackup!A516,Employee_Name,0),0)),\"\",(INDEX('Employee Data'!$G$4:$G$553,MATCH(Databackup!A516,Employee_Name,0))))","v":""},{"$f":"IF(ISERROR(INDEX('Employee Data'!$H$4:$H$553,MATCH(Databackup!A516,Employee_Name,0),0)),\"\",(INDEX('Employee Data'!$H$4:$H$553,MATCH(Databackup!A516,Employee_Name,0))))","v":""},{"$f":"IF(ISERROR(INDEX('Employee Data'!$I$4:$I$553,MATCH(Databackup!A516,Employee_Name,0),0)),\"\",(INDEX('Employee Data'!$I$4:$I$553,MATCH(Databackup!A516,Employee_Name,0))))","v":""},{"$f":"IF(ISERROR(INDEX('Employee Data'!$J$4:$J$553,MATCH(Databackup!A516,Employee_Name,0),0)),\"\",(INDEX('Employee Data'!J$4:$J$553,MATCH(Databackup!A516,Employee_Name,0))))","v":""},{"$f":"IF(ISERROR(INDEX('Employee Data'!$K$4:$K$553,MATCH(Databackup!A516,Employee_Name,0),0)),\"\",(INDEX('Employee Data'!$K$4:$K$553,MATCH(Databackup!A516,Employee_Name,0))))","v":""},{"$f":"IF(ISERROR(INDEX('Employee Data'!$L$4:$L$553,MATCH(Databackup!A516,Employee_Name,0),0)),\"\",(INDEX('Employee Data'!$L$4:$L$553,MATCH(Databackup!A516,Employee_Name,0))))","v":""},{"$f":"IF(ISERROR(INDEX('Employee Data'!$M$4:$M$553,MATCH(Databackup!A516,Employee_Name,0),0)),\"\",(INDEX('Employee Data'!$M$4:$M$553,MATCH(Databackup!A516,Employee_Name,0))))","v":""},{"$f":"IF(ISERROR(INDEX('Employee Data'!$N$4:$N$553,MATCH(Databackup!A516,Employee_Name,0),0)),\"\",(INDEX('Employee Data'!$N$4:$N$553,MATCH(Databackup!A516,Employee_Name,0))))","v":""},{"$f":"IF(ISERROR(INDEX('Employee Data'!$O$4:$O$553,MATCH(Databackup!A516,Employee_Name,0),0)),\"\",(INDEX('Employee Data'!$O$4:$O$553,MATCH(Databackup!A516,Employee_Name,0))))","v":""}]
[{"$f":"INDEX(Employee_Name,MATCH(SMALL(IF($A$1='Employee Data'!$I$4:$I$553,'Employee Data'!$B$4:$B$553,\"\"),ROW('Employee Data'!A515)),IF($A$1='Employee Data'!$I$4:$I$553,'Employee Data'!$B$4:$B$553,\"\"),0))","v":{"$error":"#NUM!"}},{"$f":"IF(ISERROR(INDEX('Employee Data'!$B$4:$B$553,MATCH(Databackup!A517,Employee_Name,0),0)),\"\",(INDEX('Employee Data'!$B$4:$B$553,MATCH(Databackup!A517,Employee_Name,0))))","v":""},{"$f":"IF(ISERROR(INDEX('Employee Data'!$C$4:$C$553,MATCH(Databackup!A517,Employee_Name,0),0)),\"\",(INDEX('Employee Data'!$C$4:$C$553,MATCH(Databackup!A517,Employee_Name,0))))","v":""},{"$f":"IF(ISERROR(INDEX('Employee Data'!$D$4:$D$553,MATCH(Databackup!A517,Employee_Name,0),0)),\"\",(INDEX('Employee Data'!$D$4:$D$553,MATCH(Databackup!A517,Employee_Name,0))))","v":""},{"$f":"IF(ISERROR(INDEX('Employee Data'!$F$4:$F$553,MATCH(Databackup!A517,Employee_Name,0),0)),\"\",(INDEX('Employee Data'!$F$4:$F$553,MATCH(Databackup!A517,Employee_Name,0))))","v":""},{"$f":"IF(ISERROR(INDEX('Employee Data'!$G$4:$G$553,MATCH(Databackup!A517,Employee_Name,0),0)),\"\",(INDEX('Employee Data'!$G$4:$G$553,MATCH(Databackup!A517,Employee_Name,0))))","v":""},{"$f":"IF(ISERROR(INDEX('Employee Data'!$H$4:$H$553,MATCH(Databackup!A517,Employee_Name,0),0)),\"\",(INDEX('Employee Data'!$H$4:$H$553,MATCH(Databackup!A517,Employee_Name,0))))","v":""},{"$f":"IF(ISERROR(INDEX('Employee Data'!$I$4:$I$553,MATCH(Databackup!A517,Employee_Name,0),0)),\"\",(INDEX('Employee Data'!$I$4:$I$553,MATCH(Databackup!A517,Employee_Name,0))))","v":""},{"$f":"IF(ISERROR(INDEX('Employee Data'!$J$4:$J$553,MATCH(Databackup!A517,Employee_Name,0),0)),\"\",(INDEX('Employee Data'!J$4:$J$553,MATCH(Databackup!A517,Employee_Name,0))))","v":""},{"$f":"IF(ISERROR(INDEX('Employee Data'!$K$4:$K$553,MATCH(Databackup!A517,Employee_Name,0),0)),\"\",(INDEX('Employee Data'!$K$4:$K$553,MATCH(Databackup!A517,Employee_Name,0))))","v":""},{"$f":"IF(ISERROR(INDEX('Employee Data'!$L$4:$L$553,MATCH(Databackup!A517,Employee_Name,0),0)),\"\",(INDEX('Employee Data'!$L$4:$L$553,MATCH(Databackup!A517,Employee_Name,0))))","v":""},{"$f":"IF(ISERROR(INDEX('Employee Data'!$M$4:$M$553,MATCH(Databackup!A517,Employee_Name,0),0)),\"\",(INDEX('Employee Data'!$M$4:$M$553,MATCH(Databackup!A517,Employee_Name,0))))","v":""},{"$f":"IF(ISERROR(INDEX('Employee Data'!$N$4:$N$553,MATCH(Databackup!A517,Employee_Name,0),0)),\"\",(INDEX('Employee Data'!$N$4:$N$553,MATCH(Databackup!A517,Employee_Name,0))))","v":""},{"$f":"IF(ISERROR(INDEX('Employee Data'!$O$4:$O$553,MATCH(Databackup!A517,Employee_Name,0),0)),\"\",(INDEX('Employee Data'!$O$4:$O$553,MATCH(Databackup!A517,Employee_Name,0))))","v":""}]
[{"$f":"INDEX(Employee_Name,MATCH(SMALL(IF($A$1='Employee Data'!$I$4:$I$553,'Employee Data'!$B$4:$B$553,\"\"),ROW('Employee Data'!A516)),IF($A$1='Employee Data'!$I$4:$I$553,'Employee Data'!$B$4:$B$553,\"\"),0))","v":{"$error":"#NUM!"}},{"$f":"IF(ISERROR(INDEX('Employee Data'!$B$4:$B$553,MATCH(Databackup!A518,Employee_Name,0),0)),\"\",(INDEX('Employee Data'!$B$4:$B$553,MATCH(Databackup!A518,Employee_Name,0))))","v":""},{"$f":"IF(ISERROR(INDEX('Employee Data'!$C$4:$C$553,MATCH(Databackup!A518,Employee_Name,0),0)),\"\",(INDEX('Employee Data'!$C$4:$C$553,MATCH(Databackup!A518,Employee_Name,0))))","v":""},{"$f":"IF(ISERROR(INDEX('Employee Data'!$D$4:$D$553,MATCH(Databackup!A518,Employee_Name,0),0)),\"\",(INDEX('Employee Data'!$D$4:$D$553,MATCH(Databackup!A518,Employee_Name,0))))","v":""},{"$f":"IF(ISERROR(INDEX('Employee Data'!$F$4:$F$553,MATCH(Databackup!A518,Employee_Name,0),0)),\"\",(INDEX('Employee Data'!$F$4:$F$553,MATCH(Databackup!A518,Employee_Name,0))))","v":""},{"$f":"IF(ISERROR(INDEX('Employee Data'!$G$4:$G$553,MATCH(Databackup!A518,Employee_Name,0),0)),\"\",(INDEX('Employee Data'!$G$4:$G$553,MATCH(Databackup!A518,Employee_Name,0))))","v":""},{"$f":"IF(ISERROR(INDEX('Employee Data'!$H$4:$H$553,MATCH(Databackup!A518,Employee_Name,0),0)),\"\",(INDEX('Employee Data'!$H$4:$H$553,MATCH(Databackup!A518,Employee_Name,0))))","v":""},{"$f":"IF(ISERROR(INDEX('Employee Data'!$I$4:$I$553,MATCH(Databackup!A518,Employee_Name,0),0)),\"\",(INDEX('Employee Data'!$I$4:$I$553,MATCH(Databackup!A518,Employee_Name,0))))","v":""},{"$f":"IF(ISERROR(INDEX('Employee Data'!$J$4:$J$553,MATCH(Databackup!A518,Employee_Name,0),0)),\"\",(INDEX('Employee Data'!J$4:$J$553,MATCH(Databackup!A518,Employee_Name,0))))","v":""},{"$f":"IF(ISERROR(INDEX('Employee Data'!$K$4:$K$553,MATCH(Databackup!A518,Employee_Name,0),0)),\"\",(INDEX('Employee Data'!$K$4:$K$553,MATCH(Databackup!A518,Employee_Name,0))))","v":""},{"$f":"IF(ISERROR(INDEX('Employee Data'!$L$4:$L$553,MATCH(Databackup!A518,Employee_Name,0),0)),\"\",(INDEX('Employee Data'!$L$4:$L$553,MATCH(Databackup!A518,Employee_Name,0))))","v":""},{"$f":"IF(ISERROR(INDEX('Employee Data'!$M$4:$M$553,MATCH(Databackup!A518,Employee_Name,0),0)),\"\",(INDEX('Employee Data'!$M$4:$M$553,MATCH(Databackup!A518,Employee_Name,0))))","v":""},{"$f":"IF(ISERROR(INDEX('Employee Data'!$N$4:$N$553,MATCH(Databackup!A518,Employee_Name,0),0)),\"\",(INDEX('Employee Data'!$N$4:$N$553,MATCH(Databackup!A518,Employee_Name,0))))","v":""},{"$f":"IF(ISERROR(INDEX('Employee Data'!$O$4:$O$553,MATCH(Databackup!A518,Employee_Name,0),0)),\"\",(INDEX('Employee Data'!$O$4:$O$553,MATCH(Databackup!A518,Employee_Name,0))))","v":""}]
[{"$f":"INDEX(Employee_Name,MATCH(SMALL(IF($A$1='Employee Data'!$I$4:$I$553,'Employee Data'!$B$4:$B$553,\"\"),ROW('Employee Data'!A517)),IF($A$1='Employee Data'!$I$4:$I$553,'Employee Data'!$B$4:$B$553,\"\"),0))","v":{"$error":"#NUM!"}},{"$f":"IF(ISERROR(INDEX('Employee Data'!$B$4:$B$553,MATCH(Databackup!A519,Employee_Name,0),0)),\"\",(INDEX('Employee Data'!$B$4:$B$553,MATCH(Databackup!A519,Employee_Name,0))))","v":""},{"$f":"IF(ISERROR(INDEX('Employee Data'!$C$4:$C$553,MATCH(Databackup!A519,Employee_Name,0),0)),\"\",(INDEX('Employee Data'!$C$4:$C$553,MATCH(Databackup!A519,Employee_Name,0))))","v":""},{"$f":"IF(ISERROR(INDEX('Employee Data'!$D$4:$D$553,MATCH(Databackup!A519,Employee_Name,0),0)),\"\",(INDEX('Employee Data'!$D$4:$D$553,MATCH(Databackup!A519,Employee_Name,0))))","v":""},{"$f":"IF(ISERROR(INDEX('Employee Data'!$F$4:$F$553,MATCH(Databackup!A519,Employee_Name,0),0)),\"\",(INDEX('Employee Data'!$F$4:$F$553,MATCH(Databackup!A519,Employee_Name,0))))","v":""},{"$f":"IF(ISERROR(INDEX('Employee Data'!$G$4:$G$553,MATCH(Databackup!A519,Employee_Name,0),0)),\"\",(INDEX('Employee Data'!$G$4:$G$553,MATCH(Databackup!A519,Employee_Name,0))))","v":""},{"$f":"IF(ISERROR(INDEX('Employee Data'!$H$4:$H$553,MATCH(Databackup!A519,Employee_Name,0),0)),\"\",(INDEX('Employee Data'!$H$4:$H$553,MATCH(Databackup!A519,Employee_Name,0))))","v":""},{"$f":"IF(ISERROR(INDEX('Employee Data'!$I$4:$I$553,MATCH(Databackup!A519,Employee_Name,0),0)),\"\",(INDEX('Employee Data'!$I$4:$I$553,MATCH(Databackup!A519,Employee_Name,0))))","v":""},{"$f":"IF(ISERROR(INDEX('Employee Data'!$J$4:$J$553,MATCH(Databackup!A519,Employee_Name,0),0)),\"\",(INDEX('Employee Data'!J$4:$J$553,MATCH(Databackup!A519,Employee_Name,0))))","v":""},{"$f":"IF(ISERROR(INDEX('Employee Data'!$K$4:$K$553,MATCH(Databackup!A519,Employee_Name,0),0)),\"\",(INDEX('Employee Data'!$K$4:$K$553,MATCH(Databackup!A519,Employee_Name,0))))","v":""},{"$f":"IF(ISERROR(INDEX('Employee Data'!$L$4:$L$553,MATCH(Databackup!A519,Employee_Name,0),0)),\"\",(INDEX('Employee Data'!$L$4:$L$553,MATCH(Databackup!A519,Employee_Name,0))))","v":""},{"$f":"IF(ISERROR(INDEX('Employee Data'!$M$4:$M$553,MATCH(Databackup!A519,Employee_Name,0),0)),\"\",(INDEX('Employee Data'!$M$4:$M$553,MATCH(Databackup!A519,Employee_Name,0))))","v":""},{"$f":"IF(ISERROR(INDEX('Employee Data'!$N$4:$N$553,MATCH(Databackup!A519,Employee_Name,0),0)),\"\",(INDEX('Employee Data'!$N$4:$N$553,MATCH(Databackup!A519,Employee_Name,0))))","v":""},{"$f":"IF(ISERROR(INDEX('Employee Data'!$O$4:$O$553,MATCH(Databackup!A519,Employee_Name,0),0)),\"\",(INDEX('Employee Data'!$O$4:$O$553,MATCH(Databackup!A519,Employee_Name,0))))","v":""}]
[{"$f":"INDEX(Employee_Name,MATCH(SMALL(IF($A$1='Employee Data'!$I$4:$I$553,'Employee Data'!$B$4:$B$553,\"\"),ROW('Employee Data'!A518)),IF($A$1='Employee Data'!$I$4:$I$553,'Employee Data'!$B$4:$B$553,\"\"),0))","v":{"$error":"#NUM!"}},{"$f":"IF(ISERROR(INDEX('Employee Data'!$B$4:$B$553,MATCH(Databackup!A520,Employee_Name,0),0)),\"\",(INDEX('Employee Data'!$B$4:$B$553,MATCH(Databackup!A520,Employee_Name,0))))","v":""},{"$f":"IF(ISERROR(INDEX('Employee Data'!$C$4:$C$553,MATCH(Databackup!A520,Employee_Name,0),0)),\"\",(INDEX('Employee Data'!$C$4:$C$553,MATCH(Databackup!A520,Employee_Name,0))))","v":""},{"$f":"IF(ISERROR(INDEX('Employee Data'!$D$4:$D$553,MATCH(Databackup!A520,Employee_Name,0),0)),\"\",(INDEX('Employee Data'!$D$4:$D$553,MATCH(Databackup!A520,Employee_Name,0))))","v":""},{"$f":"IF(ISERROR(INDEX('Employee Data'!$F$4:$F$553,MATCH(Databackup!A520,Employee_Name,0),0)),\"\",(INDEX('Employee Data'!$F$4:$F$553,MATCH(Databackup!A520,Employee_Name,0))))","v":""},{"$f":"IF(ISERROR(INDEX('Employee Data'!$G$4:$G$553,MATCH(Databackup!A520,Employee_Name,0),0)),\"\",(INDEX('Employee Data'!$G$4:$G$553,MATCH(Databackup!A520,Employee_Name,0))))","v":""},{"$f":"IF(ISERROR(INDEX('Employee Data'!$H$4:$H$553,MATCH(Databackup!A520,Employee_Name,0),0)),\"\",(INDEX('Employee Data'!$H$4:$H$553,MATCH(Databackup!A520,Employee_Name,0))))","v":""},{"$f":"IF(ISERROR(INDEX('Employee Data'!$I$4:$I$553,MATCH(Databackup!A520,Employee_Name,0),0)),\"\",(INDEX('Employee Data'!$I$4:$I$553,MATCH(Databackup!A520,Employee_Name,0))))","v":""},{"$f":"IF(ISERROR(INDEX('Employee Data'!$J$4:$J$553,MATCH(Databackup!A520,Employee_Name,0),0)),\"\",(INDEX('Employee Data'!J$4:$J$553,MATCH(Databackup!A520,Employee_Name,0))))","v":""},{"$f":"IF(ISERROR(INDEX('Employee Data'!$K$4:$K$553,MATCH(Databackup!A520,Employee_Name,0),0)),\"\",(INDEX('Employee Data'!$K$4:$K$553,MATCH(Databackup!A520,Employee_Name,0))))","v":""},{"$f":"IF(ISERROR(INDEX('Employee Data'!$L$4:$L$553,MATCH(Databackup!A520,Employee_Name,0),0)),\"\",(INDEX('Employee Data'!$L$4:$L$553,MATCH(Databackup!A520,Employee_Name,0))))","v":""},{"$f":"IF(ISERROR(INDEX('Employee Data'!$M$4:$M$553,MATCH(Databackup!A520,Employee_Name,0),0)),\"\",(INDEX('Employee Data'!$M$4:$M$553,MATCH(Databackup!A520,Employee_Name,0))))","v":""},{"$f":"IF(ISERROR(INDEX('Employee Data'!$N$4:$N$553,MATCH(Databackup!A520,Employee_Name,0),0)),\"\",(INDEX('Employee Data'!$N$4:$N$553,MATCH(Databackup!A520,Employee_Name,0))))","v":""},{"$f":"IF(ISERROR(INDEX('Employee Data'!$O$4:$O$553,MATCH(Databackup!A520,Employee_Name,0),0)),\"\",(INDEX('Employee Data'!$O$4:$O$553,MATCH(Databackup!A520,Employee_Name,0))))","v":""}]
[{"$f":"INDEX(Employee_Name,MATCH(SMALL(IF($A$1='Employee Data'!$I$4:$I$553,'Employee Data'!$B$4:$B$553,\"\"),ROW('Employee Data'!A519)),IF($A$1='Employee Data'!$I$4:$I$553,'Employee Data'!$B$4:$B$553,\"\"),0))","v":{"$error":"#NUM!"}},{"$f":"IF(ISERROR(INDEX('Employee Data'!$B$4:$B$553,MATCH(Databackup!A521,Employee_Name,0),0)),\"\",(INDEX('Employee Data'!$B$4:$B$553,MATCH(Databackup!A521,Employee_Name,0))))","v":""},{"$f":"IF(ISERROR(INDEX('Employee Data'!$C$4:$C$553,MATCH(Databackup!A521,Employee_Name,0),0)),\"\",(INDEX('Employee Data'!$C$4:$C$553,MATCH(Databackup!A521,Employee_Name,0))))","v":""},{"$f":"IF(ISERROR(INDEX('Employee Data'!$D$4:$D$553,MATCH(Databackup!A521,Employee_Name,0),0)),\"\",(INDEX('Employee Data'!$D$4:$D$553,MATCH(Databackup!A521,Employee_Name,0))))","v":""},{"$f":"IF(ISERROR(INDEX('Employee Data'!$F$4:$F$553,MATCH(Databackup!A521,Employee_Name,0),0)),\"\",(INDEX('Employee Data'!$F$4:$F$553,MATCH(Databackup!A521,Employee_Name,0))))","v":""},{"$f":"IF(ISERROR(INDEX('Employee Data'!$G$4:$G$553,MATCH(Databackup!A521,Employee_Name,0),0)),\"\",(INDEX('Employee Data'!$G$4:$G$553,MATCH(Databackup!A521,Employee_Name,0))))","v":""},{"$f":"IF(ISERROR(INDEX('Employee Data'!$H$4:$H$553,MATCH(Databackup!A521,Employee_Name,0),0)),\"\",(INDEX('Employee Data'!$H$4:$H$553,MATCH(Databackup!A521,Employee_Name,0))))","v":""},{"$f":"IF(ISERROR(INDEX('Employee Data'!$I$4:$I$553,MATCH(Databackup!A521,Employee_Name,0),0)),\"\",(INDEX('Employee Data'!$I$4:$I$553,MATCH(Databackup!A521,Employee_Name,0))))","v":""},{"$f":"IF(ISERROR(INDEX('Employee Data'!$J$4:$J$553,MATCH(Databackup!A521,Employee_Name,0),0)),\"\",(INDEX('Employee Data'!J$4:$J$553,MATCH(Databackup!A521,Employee_Name,0))))","v":""},{"$f":"IF(ISERROR(INDEX('Employee Data'!$K$4:$K$553,MATCH(Databackup!A521,Employee_Name,0),0)),\"\",(INDEX('Employee Data'!$K$4:$K$553,MATCH(Databackup!A521,Employee_Name,0))))","v":""},{"$f":"IF(ISERROR(INDEX('Employee Data'!$L$4:$L$553,MATCH(Databackup!A521,Employee_Name,0),0)),\"\",(INDEX('Employee Data'!$L$4:$L$553,MATCH(Databackup!A521,Employee_Name,0))))","v":""},{"$f":"IF(ISERROR(INDEX('Employee Data'!$M$4:$M$553,MATCH(Databackup!A521,Employee_Name,0),0)),\"\",(INDEX('Employee Data'!$M$4:$M$553,MATCH(Databackup!A521,Employee_Name,0))))","v":""},{"$f":"IF(ISERROR(INDEX('Employee Data'!$N$4:$N$553,MATCH(Databackup!A521,Employee_Name,0),0)),\"\",(INDEX('Employee Data'!$N$4:$N$553,MATCH(Databackup!A521,Employee_Name,0))))","v":""},{"$f":"IF(ISERROR(INDEX('Employee Data'!$O$4:$O$553,MATCH(Databackup!A521,Employee_Name,0),0)),\"\",(INDEX('Employee Data'!$O$4:$O$553,MATCH(Databackup!A521,Employee_Name,0))))","v":""}]
[{"$f":"INDEX(Employee_Name,MATCH(SMALL(IF($A$1='Employee Data'!$I$4:$I$553,'Employee Data'!$B$4:$B$553,\"\"),ROW('Employee Data'!A520)),IF($A$1='Employee Data'!$I$4:$I$553,'Employee Data'!$B$4:$B$553,\"\"),0))","v":{"$error":"#NUM!"}},{"$f":"IF(ISERROR(INDEX('Employee Data'!$B$4:$B$553,MATCH(Databackup!A522,Employee_Name,0),0)),\"\",(INDEX('Employee Data'!$B$4:$B$553,MATCH(Databackup!A522,Employee_Name,0))))","v":""},{"$f":"IF(ISERROR(INDEX('Employee Data'!$C$4:$C$553,MATCH(Databackup!A522,Employee_Name,0),0)),\"\",(INDEX('Employee Data'!$C$4:$C$553,MATCH(Databackup!A522,Employee_Name,0))))","v":""},{"$f":"IF(ISERROR(INDEX('Employee Data'!$D$4:$D$553,MATCH(Databackup!A522,Employee_Name,0),0)),\"\",(INDEX('Employee Data'!$D$4:$D$553,MATCH(Databackup!A522,Employee_Name,0))))","v":""},{"$f":"IF(ISERROR(INDEX('Employee Data'!$F$4:$F$553,MATCH(Databackup!A522,Employee_Name,0),0)),\"\",(INDEX('Employee Data'!$F$4:$F$553,MATCH(Databackup!A522,Employee_Name,0))))","v":""},{"$f":"IF(ISERROR(INDEX('Employee Data'!$G$4:$G$553,MATCH(Databackup!A522,Employee_Name,0),0)),\"\",(INDEX('Employee Data'!$G$4:$G$553,MATCH(Databackup!A522,Employee_Name,0))))","v":""},{"$f":"IF(ISERROR(INDEX('Employee Data'!$H$4:$H$553,MATCH(Databackup!A522,Employee_Name,0),0)),\"\",(INDEX('Employee Data'!$H$4:$H$553,MATCH(Databackup!A522,Employee_Name,0))))","v":""},{"$f":"IF(ISERROR(INDEX('Employee Data'!$I$4:$I$553,MATCH(Databackup!A522,Employee_Name,0),0)),\"\",(INDEX('Employee Data'!$I$4:$I$553,MATCH(Databackup!A522,Employee_Name,0))))","v":""},{"$f":"IF(ISERROR(INDEX('Employee Data'!$J$4:$J$553,MATCH(Databackup!A522,Employee_Name,0),0)),\"\",(INDEX('Employee Data'!J$4:$J$553,MATCH(Databackup!A522,Employee_Name,0))))","v":""},{"$f":"IF(ISERROR(INDEX('Employee Data'!$K$4:$K$553,MATCH(Databackup!A522,Employee_Name,0),0)),\"\",(INDEX('Employee Data'!$K$4:$K$553,MATCH(Databackup!A522,Employee_Name,0))))","v":""},{"$f":"IF(ISERROR(INDEX('Employee Data'!$L$4:$L$553,MATCH(Databackup!A522,Employee_Name,0),0)),\"\",(INDEX('Employee Data'!$L$4:$L$553,MATCH(Databackup!A522,Employee_Name,0))))","v":""},{"$f":"IF(ISERROR(INDEX('Employee Data'!$M$4:$M$553,MATCH(Databackup!A522,Employee_Name,0),0)),\"\",(INDEX('Employee Data'!$M$4:$M$553,MATCH(Databackup!A522,Employee_Name,0))))","v":""},{"$f":"IF(ISERROR(INDEX('Employee Data'!$N$4:$N$553,MATCH(Databackup!A522,Employee_Name,0),0)),\"\",(INDEX('Employee Data'!$N$4:$N$553,MATCH(Databackup!A522,Employee_Name,0))))","v":""},{"$f":"IF(ISERROR(INDEX('Employee Data'!$O$4:$O$553,MATCH(Databackup!A522,Employee_Name,0),0)),\"\",(INDEX('Employee Data'!$O$4:$O$553,MATCH(Databackup!A522,Employee_Name,0))))","v":""}]
[{"$f":"INDEX(Employee_Name,MATCH(SMALL(IF($A$1='Employee Data'!$I$4:$I$553,'Employee Data'!$B$4:$B$553,\"\"),ROW('Employee Data'!A521)),IF($A$1='Employee Data'!$I$4:$I$553,'Employee Data'!$B$4:$B$553,\"\"),0))","v":{"$error":"#NUM!"}},{"$f":"IF(ISERROR(INDEX('Employee Data'!$B$4:$B$553,MATCH(Databackup!A523,Employee_Name,0),0)),\"\",(INDEX('Employee Data'!$B$4:$B$553,MATCH(Databackup!A523,Employee_Name,0))))","v":""},{"$f":"IF(ISERROR(INDEX('Employee Data'!$C$4:$C$553,MATCH(Databackup!A523,Employee_Name,0),0)),\"\",(INDEX('Employee Data'!$C$4:$C$553,MATCH(Databackup!A523,Employee_Name,0))))","v":""},{"$f":"IF(ISERROR(INDEX('Employee Data'!$D$4:$D$553,MATCH(Databackup!A523,Employee_Name,0),0)),\"\",(INDEX('Employee Data'!$D$4:$D$553,MATCH(Databackup!A523,Employee_Name,0))))","v":""},{"$f":"IF(ISERROR(INDEX('Employee Data'!$F$4:$F$553,MATCH(Databackup!A523,Employee_Name,0),0)),\"\",(INDEX('Employee Data'!$F$4:$F$553,MATCH(Databackup!A523,Employee_Name,0))))","v":""},{"$f":"IF(ISERROR(INDEX('Employee Data'!$G$4:$G$553,MATCH(Databackup!A523,Employee_Name,0),0)),\"\",(INDEX('Employee Data'!$G$4:$G$553,MATCH(Databackup!A523,Employee_Name,0))))","v":""},{"$f":"IF(ISERROR(INDEX('Employee Data'!$H$4:$H$553,MATCH(Databackup!A523,Employee_Name,0),0)),\"\",(INDEX('Employee Data'!$H$4:$H$553,MATCH(Databackup!A523,Employee_Name,0))))","v":""},{"$f":"IF(ISERROR(INDEX('Employee Data'!$I$4:$I$553,MATCH(Databackup!A523,Employee_Name,0),0)),\"\",(INDEX('Employee Data'!$I$4:$I$553,MATCH(Databackup!A523,Employee_Name,0))))","v":""},{"$f":"IF(ISERROR(INDEX('Employee Data'!$J$4:$J$553,MATCH(Databackup!A523,Employee_Name,0),0)),\"\",(INDEX('Employee Data'!J$4:$J$553,MATCH(Databackup!A523,Employee_Name,0))))","v":""},{"$f":"IF(ISERROR(INDEX('Employee Data'!$K$4:$K$553,MATCH(Databackup!A523,Employee_Name,0),0)),\"\",(INDEX('Employee Data'!$K$4:$K$553,MATCH(Databackup!A523,Employee_Name,0))))","v":""},{"$f":"IF(ISERROR(INDEX('Employee Data'!$L$4:$L$553,MATCH(Databackup!A523,Employee_Name,0),0)),\"\",(INDEX('Employee Data'!$L$4:$L$553,MATCH(Databackup!A523,Employee_Name,0))))","v":""},{"$f":"IF(ISERROR(INDEX('Employee Data'!$M$4:$M$553,MATCH(Databackup!A523,Employee_Name,0),0)),\"\",(INDEX('Employee Data'!$M$4:$M$553,MATCH(Databackup!A523,Employee_Name,0))))","v":""},{"$f":"IF(ISERROR(INDEX('Employee Data'!$N$4:$N$553,MATCH(Databackup!A523,Employee_Name,0),0)),\"\",(INDEX('Employee Data'!$N$4:$N$553,MATCH(Databackup!A523,Employee_Name,0))))","v":""},{"$f":"IF(ISERROR(INDEX('Employee Data'!$O$4:$O$553,MATCH(Databackup!A523,Employee_Name,0),0)),\"\",(INDEX('Employee Data'!$O$4:$O$553,MATCH(Databackup!A523,Employee_Name,0))))","v":""}]
[{"$f":"INDEX(Employee_Name,MATCH(SMALL(IF($A$1='Employee Data'!$I$4:$I$553,'Employee Data'!$B$4:$B$553,\"\"),ROW('Employee Data'!A522)),IF($A$1='Employee Data'!$I$4:$I$553,'Employee Data'!$B$4:$B$553,\"\"),0))","v":{"$error":"#NUM!"}},{"$f":"IF(ISERROR(INDEX('Employee Data'!$B$4:$B$553,MATCH(Databackup!A524,Employee_Name,0),0)),\"\",(INDEX('Employee Data'!$B$4:$B$553,MATCH(Databackup!A524,Employee_Name,0))))","v":""},{"$f":"IF(ISERROR(INDEX('Employee Data'!$C$4:$C$553,MATCH(Databackup!A524,Employee_Name,0),0)),\"\",(INDEX('Employee Data'!$C$4:$C$553,MATCH(Databackup!A524,Employee_Name,0))))","v":""},{"$f":"IF(ISERROR(INDEX('Employee Data'!$D$4:$D$553,MATCH(Databackup!A524,Employee_Name,0),0)),\"\",(INDEX('Employee Data'!$D$4:$D$553,MATCH(Databackup!A524,Employee_Name,0))))","v":""},{"$f":"IF(ISERROR(INDEX('Employee Data'!$F$4:$F$553,MATCH(Databackup!A524,Employee_Name,0),0)),\"\",(INDEX('Employee Data'!$F$4:$F$553,MATCH(Databackup!A524,Employee_Name,0))))","v":""},{"$f":"IF(ISERROR(INDEX('Employee Data'!$G$4:$G$553,MATCH(Databackup!A524,Employee_Name,0),0)),\"\",(INDEX('Employee Data'!$G$4:$G$553,MATCH(Databackup!A524,Employee_Name,0))))","v":""},{"$f":"IF(ISERROR(INDEX('Employee Data'!$H$4:$H$553,MATCH(Databackup!A524,Employee_Name,0),0)),\"\",(INDEX('Employee Data'!$H$4:$H$553,MATCH(Databackup!A524,Employee_Name,0))))","v":""},{"$f":"IF(ISERROR(INDEX('Employee Data'!$I$4:$I$553,MATCH(Databackup!A524,Employee_Name,0),0)),\"\",(INDEX('Employee Data'!$I$4:$I$553,MATCH(Databackup!A524,Employee_Name,0))))","v":""},{"$f":"IF(ISERROR(INDEX('Employee Data'!$J$4:$J$553,MATCH(Databackup!A524,Employee_Name,0),0)),\"\",(INDEX('Employee Data'!J$4:$J$553,MATCH(Databackup!A524,Employee_Name,0))))","v":""},{"$f":"IF(ISERROR(INDEX('Employee Data'!$K$4:$K$553,MATCH(Databackup!A524,Employee_Name,0),0)),\"\",(INDEX('Employee Data'!$K$4:$K$553,MATCH(Databackup!A524,Employee_Name,0))))","v":""},{"$f":"IF(ISERROR(INDEX('Employee Data'!$L$4:$L$553,MATCH(Databackup!A524,Employee_Name,0),0)),\"\",(INDEX('Employee Data'!$L$4:$L$553,MATCH(Databackup!A524,Employee_Name,0))))","v":""},{"$f":"IF(ISERROR(INDEX('Employee Data'!$M$4:$M$553,MATCH(Databackup!A524,Employee_Name,0),0)),\"\",(INDEX('Employee Data'!$M$4:$M$553,MATCH(Databackup!A524,Employee_Name,0))))","v":""},{"$f":"IF(ISERROR(INDEX('Employee Data'!$N$4:$N$553,MATCH(Databackup!A524,Employee_Name,0),0)),\"\",(INDEX('Employee Data'!$N$4:$N$553,MATCH(Databackup!A524,Employee_Name,0))))","v":""},{"$f":"IF(ISERROR(INDEX('Employee Data'!$O$4:$O$553,MATCH(Databackup!A524,Employee_Name,0),0)),\"\",(INDEX('Employee Data'!$O$4:$O$553,MATCH(Databackup!A524,Employee_Name,0))))","v":""}]
[{"$f":"INDEX(Employee_Name,MATCH(SMALL(IF($A$1='Employee Data'!$I$4:$I$553,'Employee Data'!$B$4:$B$553,\"\"),ROW('Employee Data'!A523)),IF($A$1='Employee Data'!$I$4:$I$553,'Employee Data'!$B$4:$B$553,\"\"),0))","v":{"$error":"#NUM!"}},{"$f":"IF(ISERROR(INDEX('Employee Data'!$B$4:$B$553,MATCH(Databackup!A525,Employee_Name,0),0)),\"\",(INDEX('Employee Data'!$B$4:$B$553,MATCH(Databackup!A525,Employee_Name,0))))","v":""},{"$f":"IF(ISERROR(INDEX('Employee Data'!$C$4:$C$553,MATCH(Databackup!A525,Employee_Name,0),0)),\"\",(INDEX('Employee Data'!$C$4:$C$553,MATCH(Databackup!A525,Employee_Name,0))))","v":""},{"$f":"IF(ISERROR(INDEX('Employee Data'!$D$4:$D$553,MATCH(Databackup!A525,Employee_Name,0),0)),\"\",(INDEX('Employee Data'!$D$4:$D$553,MATCH(Databackup!A525,Employee_Name,0))))","v":""},{"$f":"IF(ISERROR(INDEX('Employee Data'!$F$4:$F$553,MATCH(Databackup!A525,Employee_Name,0),0)),\"\",(INDEX('Employee Data'!$F$4:$F$553,MATCH(Databackup!A525,Employee_Name,0))))","v":""},{"$f":"IF(ISERROR(INDEX('Employee Data'!$G$4:$G$553,MATCH(Databackup!A525,Employee_Name,0),0)),\"\",(INDEX('Employee Data'!$G$4:$G$553,MATCH(Databackup!A525,Employee_Name,0))))","v":""},{"$f":"IF(ISERROR(INDEX('Employee Data'!$H$4:$H$553,MATCH(Databackup!A525,Employee_Name,0),0)),\"\",(INDEX('Employee Data'!$H$4:$H$553,MATCH(Databackup!A525,Employee_Name,0))))","v":""},{"$f":"IF(ISERROR(INDEX('Employee Data'!$I$4:$I$553,MATCH(Databackup!A525,Employee_Name,0),0)),\"\",(INDEX('Employee Data'!$I$4:$I$553,MATCH(Databackup!A525,Employee_Name,0))))","v":""},{"$f":"IF(ISERROR(INDEX('Employee Data'!$J$4:$J$553,MATCH(Databackup!A525,Employee_Name,0),0)),\"\",(INDEX('Employee Data'!J$4:$J$553,MATCH(Databackup!A525,Employee_Name,0))))","v":""},{"$f":"IF(ISERROR(INDEX('Employee Data'!$K$4:$K$553,MATCH(Databackup!A525,Employee_Name,0),0)),\"\",(INDEX('Employee Data'!$K$4:$K$553,MATCH(Databackup!A525,Employee_Name,0))))","v":""},{"$f":"IF(ISERROR(INDEX('Employee Data'!$L$4:$L$553,MATCH(Databackup!A525,Employee_Name,0),0)),\"\",(INDEX('Employee Data'!$L$4:$L$553,MATCH(Databackup!A525,Employee_Name,0))))","v":""},{"$f":"IF(ISERROR(INDEX('Employee Data'!$M$4:$M$553,MATCH(Databackup!A525,Employee_Name,0),0)),\"\",(INDEX('Employee Data'!$M$4:$M$553,MATCH(Databackup!A525,Employee_Name,0))))","v":""},{"$f":"IF(ISERROR(INDEX('Employee Data'!$N$4:$N$553,MATCH(Databackup!A525,Employee_Name,0),0)),\"\",(INDEX('Employee Data'!$N$4:$N$553,MATCH(Databackup!A525,Employee_Name,0))))","v":""},{"$f":"IF(ISERROR(INDEX('Employee Data'!$O$4:$O$553,MATCH(Databackup!A525,Employee_Name,0),0)),\"\",(INDEX('Employee Data'!$O$4:$O$553,MATCH(Databackup!A525,Employee_Name,0))))","v":""}]
[{"$f":"INDEX(Employee_Name,MATCH(SMALL(IF($A$1='Employee Data'!$I$4:$I$553,'Employee Data'!$B$4:$B$553,\"\"),ROW('Employee Data'!A524)),IF($A$1='Employee Data'!$I$4:$I$553,'Employee Data'!$B$4:$B$553,\"\"),0))","v":{"$error":"#NUM!"}},{"$f":"IF(ISERROR(INDEX('Employee Data'!$B$4:$B$553,MATCH(Databackup!A526,Employee_Name,0),0)),\"\",(INDEX('Employee Data'!$B$4:$B$553,MATCH(Databackup!A526,Employee_Name,0))))","v":""},{"$f":"IF(ISERROR(INDEX('Employee Data'!$C$4:$C$553,MATCH(Databackup!A526,Employee_Name,0),0)),\"\",(INDEX('Employee Data'!$C$4:$C$553,MATCH(Databackup!A526,Employee_Name,0))))","v":""},{"$f":"IF(ISERROR(INDEX('Employee Data'!$D$4:$D$553,MATCH(Databackup!A526,Employee_Name,0),0)),\"\",(INDEX('Employee Data'!$D$4:$D$553,MATCH(Databackup!A526,Employee_Name,0))))","v":""},{"$f":"IF(ISERROR(INDEX('Employee Data'!$F$4:$F$553,MATCH(Databackup!A526,Employee_Name,0),0)),\"\",(INDEX('Employee Data'!$F$4:$F$553,MATCH(Databackup!A526,Employee_Name,0))))","v":""},{"$f":"IF(ISERROR(INDEX('Employee Data'!$G$4:$G$553,MATCH(Databackup!A526,Employee_Name,0),0)),\"\",(INDEX('Employee Data'!$G$4:$G$553,MATCH(Databackup!A526,Employee_Name,0))))","v":""},{"$f":"IF(ISERROR(INDEX('Employee Data'!$H$4:$H$553,MATCH(Databackup!A526,Employee_Name,0),0)),\"\",(INDEX('Employee Data'!$H$4:$H$553,MATCH(Databackup!A526,Employee_Name,0))))","v":""},{"$f":"IF(ISERROR(INDEX('Employee Data'!$I$4:$I$553,MATCH(Databackup!A526,Employee_Name,0),0)),\"\",(INDEX('Employee Data'!$I$4:$I$553,MATCH(Databackup!A526,Employee_Name,0))))","v":""},{"$f":"IF(ISERROR(INDEX('Employee Data'!$J$4:$J$553,MATCH(Databackup!A526,Employee_Name,0),0)),\"\",(INDEX('Employee Data'!J$4:$J$553,MATCH(Databackup!A526,Employee_Name,0))))","v":""},{"$f":"IF(ISERROR(INDEX('Employee Data'!$K$4:$K$553,MATCH(Databackup!A526,Employee_Name,0),0)),\"\",(INDEX('Employee Data'!$K$4:$K$553,MATCH(Databackup!A526,Employee_Name,0))))","v":""},{"$f":"IF(ISERROR(INDEX('Employee Data'!$L$4:$L$553,MATCH(Databackup!A526,Employee_Name,0),0)),\"\",(INDEX('Employee Data'!$L$4:$L$553,MATCH(Databackup!A526,Employee_Name,0))))","v":""},{"$f":"IF(ISERROR(INDEX('Employee Data'!$M$4:$M$553,MATCH(Databackup!A526,Employee_Name,0),0)),\"\",(INDEX('Employee Data'!$M$4:$M$553,MATCH(Databackup!A526,Employee_Name,0))))","v":""},{"$f":"IF(ISERROR(INDEX('Employee Data'!$N$4:$N$553,MATCH(Databackup!A526,Employee_Name,0),0)),\"\",(INDEX('Employee Data'!$N$4:$N$553,MATCH(Databackup!A526,Employee_Name,0))))","v":""},{"$f":"IF(ISERROR(INDEX('Employee Data'!$O$4:$O$553,MATCH(Databackup!A526,Employee_Name,0),0)),\"\",(INDEX('Employee Data'!$O$4:$O$553,MATCH(Databackup!A526,Employee_Name,0))))","v":""}]
[{"$f":"INDEX(Employee_Name,MATCH(SMALL(IF($A$1='Employee Data'!$I$4:$I$553,'Employee Data'!$B$4:$B$553,\"\"),ROW('Employee Data'!A525)),IF($A$1='Employee Data'!$I$4:$I$553,'Employee Data'!$B$4:$B$553,\"\"),0))","v":{"$error":"#NUM!"}},{"$f":"IF(ISERROR(INDEX('Employee Data'!$B$4:$B$553,MATCH(Databackup!A527,Employee_Name,0),0)),\"\",(INDEX('Employee Data'!$B$4:$B$553,MATCH(Databackup!A527,Employee_Name,0))))","v":""},{"$f":"IF(ISERROR(INDEX('Employee Data'!$C$4:$C$553,MATCH(Databackup!A527,Employee_Name,0),0)),\"\",(INDEX('Employee Data'!$C$4:$C$553,MATCH(Databackup!A527,Employee_Name,0))))","v":""},{"$f":"IF(ISERROR(INDEX('Employee Data'!$D$4:$D$553,MATCH(Databackup!A527,Employee_Name,0),0)),\"\",(INDEX('Employee Data'!$D$4:$D$553,MATCH(Databackup!A527,Employee_Name,0))))","v":""},{"$f":"IF(ISERROR(INDEX('Employee Data'!$F$4:$F$553,MATCH(Databackup!A527,Employee_Name,0),0)),\"\",(INDEX('Employee Data'!$F$4:$F$553,MATCH(Databackup!A527,Employee_Name,0))))","v":""},{"$f":"IF(ISERROR(INDEX('Employee Data'!$G$4:$G$553,MATCH(Databackup!A527,Employee_Name,0),0)),\"\",(INDEX('Employee Data'!$G$4:$G$553,MATCH(Databackup!A527,Employee_Name,0))))","v":""},{"$f":"IF(ISERROR(INDEX('Employee Data'!$H$4:$H$553,MATCH(Databackup!A527,Employee_Name,0),0)),\"\",(INDEX('Employee Data'!$H$4:$H$553,MATCH(Databackup!A527,Employee_Name,0))))","v":""},{"$f":"IF(ISERROR(INDEX('Employee Data'!$I$4:$I$553,MATCH(Databackup!A527,Employee_Name,0),0)),\"\",(INDEX('Employee Data'!$I$4:$I$553,MATCH(Databackup!A527,Employee_Name,0))))","v":""},{"$f":"IF(ISERROR(INDEX('Employee Data'!$J$4:$J$553,MATCH(Databackup!A527,Employee_Name,0),0)),\"\",(INDEX('Employee Data'!J$4:$J$553,MATCH(Databackup!A527,Employee_Name,0))))","v":""},{"$f":"IF(ISERROR(INDEX('Employee Data'!$K$4:$K$553,MATCH(Databackup!A527,Employee_Name,0),0)),\"\",(INDEX('Employee Data'!$K$4:$K$553,MATCH(Databackup!A527,Employee_Name,0))))","v":""},{"$f":"IF(ISERROR(INDEX('Employee Data'!$L$4:$L$553,MATCH(Databackup!A527,Employee_Name,0),0)),\"\",(INDEX('Employee Data'!$L$4:$L$553,MATCH(Databackup!A527,Employee_Name,0))))","v":""},{"$f":"IF(ISERROR(INDEX('Employee Data'!$M$4:$M$553,MATCH(Databackup!A527,Employee_Name,0),0)),\"\",(INDEX('Employee Data'!$M$4:$M$553,MATCH(Databackup!A527,Employee_Name,0))))","v":""},{"$f":"IF(ISERROR(INDEX('Employee Data'!$N$4:$N$553,MATCH(Databackup!A527,Employee_Name,0),0)),\"\",(INDEX('Employee Data'!$N$4:$N$553,MATCH(Databackup!A527,Employee_Name,0))))","v":""},{"$f":"IF(ISERROR(INDEX('Employee Data'!$O$4:$O$553,MATCH(Databackup!A527,Employee_Name,0),0)),\"\",(INDEX('Employee Data'!$O$4:$O$553,MATCH(Databackup!A527,Employee_Name,0))))","v":""}]
[{"$f":"INDEX(Employee_Name,MATCH(SMALL(IF($A$1='Employee Data'!$I$4:$I$553,'Employee Data'!$B$4:$B$553,\"\"),ROW('Employee Data'!A526)),IF($A$1='Employee Data'!$I$4:$I$553,'Employee Data'!$B$4:$B$553,\"\"),0))","v":{"$error":"#NUM!"}},{"$f":"IF(ISERROR(INDEX('Employee Data'!$B$4:$B$553,MATCH(Databackup!A528,Employee_Name,0),0)),\"\",(INDEX('Employee Data'!$B$4:$B$553,MATCH(Databackup!A528,Employee_Name,0))))","v":""},{"$f":"IF(ISERROR(INDEX('Employee Data'!$C$4:$C$553,MATCH(Databackup!A528,Employee_Name,0),0)),\"\",(INDEX('Employee Data'!$C$4:$C$553,MATCH(Databackup!A528,Employee_Name,0))))","v":""},{"$f":"IF(ISERROR(INDEX('Employee Data'!$D$4:$D$553,MATCH(Databackup!A528,Employee_Name,0),0)),\"\",(INDEX('Employee Data'!$D$4:$D$553,MATCH(Databackup!A528,Employee_Name,0))))","v":""},{"$f":"IF(ISERROR(INDEX('Employee Data'!$F$4:$F$553,MATCH(Databackup!A528,Employee_Name,0),0)),\"\",(INDEX('Employee Data'!$F$4:$F$553,MATCH(Databackup!A528,Employee_Name,0))))","v":""},{"$f":"IF(ISERROR(INDEX('Employee Data'!$G$4:$G$553,MATCH(Databackup!A528,Employee_Name,0),0)),\"\",(INDEX('Employee Data'!$G$4:$G$553,MATCH(Databackup!A528,Employee_Name,0))))","v":""},{"$f":"IF(ISERROR(INDEX('Employee Data'!$H$4:$H$553,MATCH(Databackup!A528,Employee_Name,0),0)),\"\",(INDEX('Employee Data'!$H$4:$H$553,MATCH(Databackup!A528,Employee_Name,0))))","v":""},{"$f":"IF(ISERROR(INDEX('Employee Data'!$I$4:$I$553,MATCH(Databackup!A528,Employee_Name,0),0)),\"\",(INDEX('Employee Data'!$I$4:$I$553,MATCH(Databackup!A528,Employee_Name,0))))","v":""},{"$f":"IF(ISERROR(INDEX('Employee Data'!$J$4:$J$553,MATCH(Databackup!A528,Employee_Name,0),0)),\"\",(INDEX('Employee Data'!J$4:$J$553,MATCH(Databackup!A528,Employee_Name,0))))","v":""},{"$f":"IF(ISERROR(INDEX('Employee Data'!$K$4:$K$553,MATCH(Databackup!A528,Employee_Name,0),0)),\"\",(INDEX('Employee Data'!$K$4:$K$553,MATCH(Databackup!A528,Employee_Name,0))))","v":""},{"$f":"IF(ISERROR(INDEX('Employee Data'!$L$4:$L$553,MATCH(Databackup!A528,Employee_Name,0),0)),\"\",(INDEX('Employee Data'!$L$4:$L$553,MATCH(Databackup!A528,Employee_Name,0))))","v":""},{"$f":"IF(ISERROR(INDEX('Employee Data'!$M$4:$M$553,MATCH(Databackup!A528,Employee_Name,0),0)),\"\",(INDEX('Employee Data'!$M$4:$M$553,MATCH(Databackup!A528,Employee_Name,0))))","v":""},{"$f":"IF(ISERROR(INDEX('Employee Data'!$N$4:$N$553,MATCH(Databackup!A528,Employee_Name,0),0)),\"\",(INDEX('Employee Data'!$N$4:$N$553,MATCH(Databackup!A528,Employee_Name,0))))","v":""},{"$f":"IF(ISERROR(INDEX('Employee Data'!$O$4:$O$553,MATCH(Databackup!A528,Employee_Name,0),0)),\"\",(INDEX('Employee Data'!$O$4:$O$553,MATCH(Databackup!A528,Employee_Name,0))))","v":""}]
[{"$f":"INDEX(Employee_Name,MATCH(SMALL(IF($A$1='Employee Data'!$I$4:$I$553,'Employee Data'!$B$4:$B$553,\"\"),ROW('Employee Data'!A527)),IF($A$1='Employee Data'!$I$4:$I$553,'Employee Data'!$B$4:$B$553,\"\"),0))","v":{"$error":"#NUM!"}},{"$f":"IF(ISERROR(INDEX('Employee Data'!$B$4:$B$553,MATCH(Databackup!A529,Employee_Name,0),0)),\"\",(INDEX('Employee Data'!$B$4:$B$553,MATCH(Databackup!A529,Employee_Name,0))))","v":""},{"$f":"IF(ISERROR(INDEX('Employee Data'!$C$4:$C$553,MATCH(Databackup!A529,Employee_Name,0),0)),\"\",(INDEX('Employee Data'!$C$4:$C$553,MATCH(Databackup!A529,Employee_Name,0))))","v":""},{"$f":"IF(ISERROR(INDEX('Employee Data'!$D$4:$D$553,MATCH(Databackup!A529,Employee_Name,0),0)),\"\",(INDEX('Employee Data'!$D$4:$D$553,MATCH(Databackup!A529,Employee_Name,0))))","v":""},{"$f":"IF(ISERROR(INDEX('Employee Data'!$F$4:$F$553,MATCH(Databackup!A529,Employee_Name,0),0)),\"\",(INDEX('Employee Data'!$F$4:$F$553,MATCH(Databackup!A529,Employee_Name,0))))","v":""},{"$f":"IF(ISERROR(INDEX('Employee Data'!$G$4:$G$553,MATCH(Databackup!A529,Employee_Name,0),0)),\"\",(INDEX('Employee Data'!$G$4:$G$553,MATCH(Databackup!A529,Employee_Name,0))))","v":""},{"$f":"IF(ISERROR(INDEX('Employee Data'!$H$4:$H$553,MATCH(Databackup!A529,Employee_Name,0),0)),\"\",(INDEX('Employee Data'!$H$4:$H$553,MATCH(Databackup!A529,Employee_Name,0))))","v":""},{"$f":"IF(ISERROR(INDEX('Employee Data'!$I$4:$I$553,MATCH(Databackup!A529,Employee_Name,0),0)),\"\",(INDEX('Employee Data'!$I$4:$I$553,MATCH(Databackup!A529,Employee_Name,0))))","v":""},{"$f":"IF(ISERROR(INDEX('Employee Data'!$J$4:$J$553,MATCH(Databackup!A529,Employee_Name,0),0)),\"\",(INDEX('Employee Data'!J$4:$J$553,MATCH(Databackup!A529,Employee_Name,0))))","v":""},{"$f":"IF(ISERROR(INDEX('Employee Data'!$K$4:$K$553,MATCH(Databackup!A529,Employee_Name,0),0)),\"\",(INDEX('Employee Data'!$K$4:$K$553,MATCH(Databackup!A529,Employee_Name,0))))","v":""},{"$f":"IF(ISERROR(INDEX('Employee Data'!$L$4:$L$553,MATCH(Databackup!A529,Employee_Name,0),0)),\"\",(INDEX('Employee Data'!$L$4:$L$553,MATCH(Databackup!A529,Employee_Name,0))))","v":""},{"$f":"IF(ISERROR(INDEX('Employee Data'!$M$4:$M$553,MATCH(Databackup!A529,Employee_Name,0),0)),\"\",(INDEX('Employee Data'!$M$4:$M$553,MATCH(Databackup!A529,Employee_Name,0))))","v":""},{"$f":"IF(ISERROR(INDEX('Employee Data'!$N$4:$N$553,MATCH(Databackup!A529,Employee_Name,0),0)),\"\",(INDEX('Employee Data'!$N$4:$N$553,MATCH(Databackup!A529,Employee_Name,0))))","v":""},{"$f":"IF(ISERROR(INDEX('Employee Data'!$O$4:$O$553,MATCH(Databackup!A529,Employee_Name,0),0)),\"\",(INDEX('Employee Data'!$O$4:$O$553,MATCH(Databackup!A529,Employee_Name,0))))","v":""}]
[{"$f":"INDEX(Employee_Name,MATCH(SMALL(IF($A$1='Employee Data'!$I$4:$I$553,'Employee Data'!$B$4:$B$553,\"\"),ROW('Employee Data'!A528)),IF($A$1='Employee Data'!$I$4:$I$553,'Employee Data'!$B$4:$B$553,\"\"),0))","v":{"$error":"#NUM!"}},{"$f":"IF(ISERROR(INDEX('Employee Data'!$B$4:$B$553,MATCH(Databackup!A530,Employee_Name,0),0)),\"\",(INDEX('Employee Data'!$B$4:$B$553,MATCH(Databackup!A530,Employee_Name,0))))","v":""},{"$f":"IF(ISERROR(INDEX('Employee Data'!$C$4:$C$553,MATCH(Databackup!A530,Employee_Name,0),0)),\"\",(INDEX('Employee Data'!$C$4:$C$553,MATCH(Databackup!A530,Employee_Name,0))))","v":""},{"$f":"IF(ISERROR(INDEX('Employee Data'!$D$4:$D$553,MATCH(Databackup!A530,Employee_Name,0),0)),\"\",(INDEX('Employee Data'!$D$4:$D$553,MATCH(Databackup!A530,Employee_Name,0))))","v":""},{"$f":"IF(ISERROR(INDEX('Employee Data'!$F$4:$F$553,MATCH(Databackup!A530,Employee_Name,0),0)),\"\",(INDEX('Employee Data'!$F$4:$F$553,MATCH(Databackup!A530,Employee_Name,0))))","v":""},{"$f":"IF(ISERROR(INDEX('Employee Data'!$G$4:$G$553,MATCH(Databackup!A530,Employee_Name,0),0)),\"\",(INDEX('Employee Data'!$G$4:$G$553,MATCH(Databackup!A530,Employee_Name,0))))","v":""},{"$f":"IF(ISERROR(INDEX('Employee Data'!$H$4:$H$553,MATCH(Databackup!A530,Employee_Name,0),0)),\"\",(INDEX('Employee Data'!$H$4:$H$553,MATCH(Databackup!A530,Employee_Name,0))))","v":""},{"$f":"IF(ISERROR(INDEX('Employee Data'!$I$4:$I$553,MATCH(Databackup!A530,Employee_Name,0),0)),\"\",(INDEX('Employee Data'!$I$4:$I$553,MATCH(Databackup!A530,Employee_Name,0))))","v":""},{"$f":"IF(ISERROR(INDEX('Employee Data'!$J$4:$J$553,MATCH(Databackup!A530,Employee_Name,0),0)),\"\",(INDEX('Employee Data'!J$4:$J$553,MATCH(Databackup!A530,Employee_Name,0))))","v":""},{"$f":"IF(ISERROR(INDEX('Employee Data'!$K$4:$K$553,MATCH(Databackup!A530,Employee_Name,0),0)),\"\",(INDEX('Employee Data'!$K$4:$K$553,MATCH(Databackup!A530,Employee_Name,0))))","v":""},{"$f":"IF(ISERROR(INDEX('Employee Data'!$L$4:$L$553,MATCH(Databackup!A530,Employee_Name,0),0)),\"\",(INDEX('Employee Data'!$L$4:$L$553,MATCH(Databackup!A530,Employee_Name,0))))","v":""},{"$f":"IF(ISERROR(INDEX('Employee Data'!$M$4:$M$553,MATCH(Databackup!A530,Employee_Name,0),0)),\"\",(INDEX('Employee Data'!$M$4:$M$553,MATCH(Databackup!A530,Employee_Name,0))))","v":""},{"$f":"IF(ISERROR(INDEX('Employee Data'!$N$4:$N$553,MATCH(Databackup!A530,Employee_Name,0),0)),\"\",(INDEX('Employee Data'!$N$4:$N$553,MATCH(Databackup!A530,Employee_Name,0))))","v":""},{"$f":"IF(ISERROR(INDEX('Employee Data'!$O$4:$O$553,MATCH(Databackup!A530,Employee_Name,0),0)),\"\",(INDEX('Employee Data'!$O$4:$O$553,MATCH(Databackup!A530,Employee_Name,0))))","v":""}]
[{"$f":"INDEX(Employee_Name,MATCH(SMALL(IF($A$1='Employee Data'!$I$4:$I$553,'Employee Data'!$B$4:$B$553,\"\"),ROW('Employee Data'!A529)),IF($A$1='Employee Data'!$I$4:$I$553,'Employee Data'!$B$4:$B$553,\"\"),0))","v":{"$error":"#NUM!"}},{"$f":"IF(ISERROR(INDEX('Employee Data'!$B$4:$B$553,MATCH(Databackup!A531,Employee_Name,0),0)),\"\",(INDEX('Employee Data'!$B$4:$B$553,MATCH(Databackup!A531,Employee_Name,0))))","v":""},{"$f":"IF(ISERROR(INDEX('Employee Data'!$C$4:$C$553,MATCH(Databackup!A531,Employee_Name,0),0)),\"\",(INDEX('Employee Data'!$C$4:$C$553,MATCH(Databackup!A531,Employee_Name,0))))","v":""},{"$f":"IF(ISERROR(INDEX('Employee Data'!$D$4:$D$553,MATCH(Databackup!A531,Employee_Name,0),0)),\"\",(INDEX('Employee Data'!$D$4:$D$553,MATCH(Databackup!A531,Employee_Name,0))))","v":""},{"$f":"IF(ISERROR(INDEX('Employee Data'!$F$4:$F$553,MATCH(Databackup!A531,Employee_Name,0),0)),\"\",(INDEX('Employee Data'!$F$4:$F$553,MATCH(Databackup!A531,Employee_Name,0))))","v":""},{"$f":"IF(ISERROR(INDEX('Employee Data'!$G$4:$G$553,MATCH(Databackup!A531,Employee_Name,0),0)),\"\",(INDEX('Employee Data'!$G$4:$G$553,MATCH(Databackup!A531,Employee_Name,0))))","v":""},{"$f":"IF(ISERROR(INDEX('Employee Data'!$H$4:$H$553,MATCH(Databackup!A531,Employee_Name,0),0)),\"\",(INDEX('Employee Data'!$H$4:$H$553,MATCH(Databackup!A531,Employee_Name,0))))","v":""},{"$f":"IF(ISERROR(INDEX('Employee Data'!$I$4:$I$553,MATCH(Databackup!A531,Employee_Name,0),0)),\"\",(INDEX('Employee Data'!$I$4:$I$553,MATCH(Databackup!A531,Employee_Name,0))))","v":""},{"$f":"IF(ISERROR(INDEX('Employee Data'!$J$4:$J$553,MATCH(Databackup!A531,Employee_Name,0),0)),\"\",(INDEX('Employee Data'!J$4:$J$553,MATCH(Databackup!A531,Employee_Name,0))))","v":""},{"$f":"IF(ISERROR(INDEX('Employee Data'!$K$4:$K$553,MATCH(Databackup!A531,Employee_Name,0),0)),\"\",(INDEX('Employee Data'!$K$4:$K$553,MATCH(Databackup!A531,Employee_Name,0))))","v":""},{"$f":"IF(ISERROR(INDEX('Employee Data'!$L$4:$L$553,MATCH(Databackup!A531,Employee_Name,0),0)),\"\",(INDEX('Employee Data'!$L$4:$L$553,MATCH(Databackup!A531,Employee_Name,0))))","v":""},{"$f":"IF(ISERROR(INDEX('Employee Data'!$M$4:$M$553,MATCH(Databackup!A531,Employee_Name,0),0)),\"\",(INDEX('Employee Data'!$M$4:$M$553,MATCH(Databackup!A531,Employee_Name,0))))","v":""},{"$f":"IF(ISERROR(INDEX('Employee Data'!$N$4:$N$553,MATCH(Databackup!A531,Employee_Name,0),0)),\"\",(INDEX('Employee Data'!$N$4:$N$553,MATCH(Databackup!A531,Employee_Name,0))))","v":""},{"$f":"IF(ISERROR(INDEX('Employee Data'!$O$4:$O$553,MATCH(Databackup!A531,Employee_Name,0),0)),\"\",(INDEX('Employee Data'!$O$4:$O$553,MATCH(Databackup!A531,Employee_Name,0))))","v":""}]
[{"$f":"INDEX(Employee_Name,MATCH(SMALL(IF($A$1='Employee Data'!$I$4:$I$553,'Employee Data'!$B$4:$B$553,\"\"),ROW('Employee Data'!A530)),IF($A$1='Employee Data'!$I$4:$I$553,'Employee Data'!$B$4:$B$553,\"\"),0))","v":{"$error":"#NUM!"}},{"$f":"IF(ISERROR(INDEX('Employee Data'!$B$4:$B$553,MATCH(Databackup!A532,Employee_Name,0),0)),\"\",(INDEX('Employee Data'!$B$4:$B$553,MATCH(Databackup!A532,Employee_Name,0))))","v":""},{"$f":"IF(ISERROR(INDEX('Employee Data'!$C$4:$C$553,MATCH(Databackup!A532,Employee_Name,0),0)),\"\",(INDEX('Employee Data'!$C$4:$C$553,MATCH(Databackup!A532,Employee_Name,0))))","v":""},{"$f":"IF(ISERROR(INDEX('Employee Data'!$D$4:$D$553,MATCH(Databackup!A532,Employee_Name,0),0)),\"\",(INDEX('Employee Data'!$D$4:$D$553,MATCH(Databackup!A532,Employee_Name,0))))","v":""},{"$f":"IF(ISERROR(INDEX('Employee Data'!$F$4:$F$553,MATCH(Databackup!A532,Employee_Name,0),0)),\"\",(INDEX('Employee Data'!$F$4:$F$553,MATCH(Databackup!A532,Employee_Name,0))))","v":""},{"$f":"IF(ISERROR(INDEX('Employee Data'!$G$4:$G$553,MATCH(Databackup!A532,Employee_Name,0),0)),\"\",(INDEX('Employee Data'!$G$4:$G$553,MATCH(Databackup!A532,Employee_Name,0))))","v":""},{"$f":"IF(ISERROR(INDEX('Employee Data'!$H$4:$H$553,MATCH(Databackup!A532,Employee_Name,0),0)),\"\",(INDEX('Employee Data'!$H$4:$H$553,MATCH(Databackup!A532,Employee_Name,0))))","v":""},{"$f":"IF(ISERROR(INDEX('Employee Data'!$I$4:$I$553,MATCH(Databackup!A532,Employee_Name,0),0)),\"\",(INDEX('Employee Data'!$I$4:$I$553,MATCH(Databackup!A532,Employee_Name,0))))","v":""},{"$f":"IF(ISERROR(INDEX('Employee Data'!$J$4:$J$553,MATCH(Databackup!A532,Employee_Name,0),0)),\"\",(INDEX('Employee Data'!J$4:$J$553,MATCH(Databackup!A532,Employee_Name,0))))","v":""},{"$f":"IF(ISERROR(INDEX('Employee Data'!$K$4:$K$553,MATCH(Databackup!A532,Employee_Name,0),0)),\"\",(INDEX('Employee Data'!$K$4:$K$553,MATCH(Databackup!A532,Employee_Name,0))))","v":""},{"$f":"IF(ISERROR(INDEX('Employee Data'!$L$4:$L$553,MATCH(Databackup!A532,Employee_Name,0),0)),\"\",(INDEX('Employee Data'!$L$4:$L$553,MATCH(Databackup!A532,Employee_Name,0))))","v":""},{"$f":"IF(ISERROR(INDEX('Employee Data'!$M$4:$M$553,MATCH(Databackup!A532,Employee_Name,0),0)),\"\",(INDEX('Employee Data'!$M$4:$M$553,MATCH(Databackup!A532,Employee_Name,0))))","v":""},{"$f":"IF(ISERROR(INDEX('Employee Data'!$N$4:$N$553,MATCH(Databackup!A532,Employee_Name,0),0)),\"\",(INDEX('Employee Data'!$N$4:$N$553,MATCH(Databackup!A532,Employee_Name,0))))","v":""},{"$f":"IF(ISERROR(INDEX('Employee Data'!$O$4:$O$553,MATCH(Databackup!A532,Employee_Name,0),0)),\"\",(INDEX('Employee Data'!$O$4:$O$553,MATCH(Databackup!A532,Employee_Name,0))))","v":""}]
[{"$f":"INDEX(Employee_Name,MATCH(SMALL(IF($A$1='Employee Data'!$I$4:$I$553,'Employee Data'!$B$4:$B$553,\"\"),ROW('Employee Data'!A531)),IF($A$1='Employee Data'!$I$4:$I$553,'Employee Data'!$B$4:$B$553,\"\"),0))","v":{"$error":"#NUM!"}},{"$f":"IF(ISERROR(INDEX('Employee Data'!$B$4:$B$553,MATCH(Databackup!A533,Employee_Name,0),0)),\"\",(INDEX('Employee Data'!$B$4:$B$553,MATCH(Databackup!A533,Employee_Name,0))))","v":""},{"$f":"IF(ISERROR(INDEX('Employee Data'!$C$4:$C$553,MATCH(Databackup!A533,Employee_Name,0),0)),\"\",(INDEX('Employee Data'!$C$4:$C$553,MATCH(Databackup!A533,Employee_Name,0))))","v":""},{"$f":"IF(ISERROR(INDEX('Employee Data'!$D$4:$D$553,MATCH(Databackup!A533,Employee_Name,0),0)),\"\",(INDEX('Employee Data'!$D$4:$D$553,MATCH(Databackup!A533,Employee_Name,0))))","v":""},{"$f":"IF(ISERROR(INDEX('Employee Data'!$F$4:$F$553,MATCH(Databackup!A533,Employee_Name,0),0)),\"\",(INDEX('Employee Data'!$F$4:$F$553,MATCH(Databackup!A533,Employee_Name,0))))","v":""},{"$f":"IF(ISERROR(INDEX('Employee Data'!$G$4:$G$553,MATCH(Databackup!A533,Employee_Name,0),0)),\"\",(INDEX('Employee Data'!$G$4:$G$553,MATCH(Databackup!A533,Employee_Name,0))))","v":""},{"$f":"IF(ISERROR(INDEX('Employee Data'!$H$4:$H$553,MATCH(Databackup!A533,Employee_Name,0),0)),\"\",(INDEX('Employee Data'!$H$4:$H$553,MATCH(Databackup!A533,Employee_Name,0))))","v":""},{"$f":"IF(ISERROR(INDEX('Employee Data'!$I$4:$I$553,MATCH(Databackup!A533,Employee_Name,0),0)),\"\",(INDEX('Employee Data'!$I$4:$I$553,MATCH(Databackup!A533,Employee_Name,0))))","v":""},{"$f":"IF(ISERROR(INDEX('Employee Data'!$J$4:$J$553,MATCH(Databackup!A533,Employee_Name,0),0)),\"\",(INDEX('Employee Data'!J$4:$J$553,MATCH(Databackup!A533,Employee_Name,0))))","v":""},{"$f":"IF(ISERROR(INDEX('Employee Data'!$K$4:$K$553,MATCH(Databackup!A533,Employee_Name,0),0)),\"\",(INDEX('Employee Data'!$K$4:$K$553,MATCH(Databackup!A533,Employee_Name,0))))","v":""},{"$f":"IF(ISERROR(INDEX('Employee Data'!$L$4:$L$553,MATCH(Databackup!A533,Employee_Name,0),0)),\"\",(INDEX('Employee Data'!$L$4:$L$553,MATCH(Databackup!A533,Employee_Name,0))))","v":""},{"$f":"IF(ISERROR(INDEX('Employee Data'!$M$4:$M$553,MATCH(Databackup!A533,Employee_Name,0),0)),\"\",(INDEX('Employee Data'!$M$4:$M$553,MATCH(Databackup!A533,Employee_Name,0))))","v":""},{"$f":"IF(ISERROR(INDEX('Employee Data'!$N$4:$N$553,MATCH(Databackup!A533,Employee_Name,0),0)),\"\",(INDEX('Employee Data'!$N$4:$N$553,MATCH(Databackup!A533,Employee_Name,0))))","v":""},{"$f":"IF(ISERROR(INDEX('Employee Data'!$O$4:$O$553,MATCH(Databackup!A533,Employee_Name,0),0)),\"\",(INDEX('Employee Data'!$O$4:$O$553,MATCH(Databackup!A533,Employee_Name,0))))","v":""}]
[{"$f":"INDEX(Employee_Name,MATCH(SMALL(IF($A$1='Employee Data'!$I$4:$I$553,'Employee Data'!$B$4:$B$553,\"\"),ROW('Employee Data'!A532)),IF($A$1='Employee Data'!$I$4:$I$553,'Employee Data'!$B$4:$B$553,\"\"),0))","v":{"$error":"#NUM!"}},{"$f":"IF(ISERROR(INDEX('Employee Data'!$B$4:$B$553,MATCH(Databackup!A534,Employee_Name,0),0)),\"\",(INDEX('Employee Data'!$B$4:$B$553,MATCH(Databackup!A534,Employee_Name,0))))","v":""},{"$f":"IF(ISERROR(INDEX('Employee Data'!$C$4:$C$553,MATCH(Databackup!A534,Employee_Name,0),0)),\"\",(INDEX('Employee Data'!$C$4:$C$553,MATCH(Databackup!A534,Employee_Name,0))))","v":""},{"$f":"IF(ISERROR(INDEX('Employee Data'!$D$4:$D$553,MATCH(Databackup!A534,Employee_Name,0),0)),\"\",(INDEX('Employee Data'!$D$4:$D$553,MATCH(Databackup!A534,Employee_Name,0))))","v":""},{"$f":"IF(ISERROR(INDEX('Employee Data'!$F$4:$F$553,MATCH(Databackup!A534,Employee_Name,0),0)),\"\",(INDEX('Employee Data'!$F$4:$F$553,MATCH(Databackup!A534,Employee_Name,0))))","v":""},{"$f":"IF(ISERROR(INDEX('Employee Data'!$G$4:$G$553,MATCH(Databackup!A534,Employee_Name,0),0)),\"\",(INDEX('Employee Data'!$G$4:$G$553,MATCH(Databackup!A534,Employee_Name,0))))","v":""},{"$f":"IF(ISERROR(INDEX('Employee Data'!$H$4:$H$553,MATCH(Databackup!A534,Employee_Name,0),0)),\"\",(INDEX('Employee Data'!$H$4:$H$553,MATCH(Databackup!A534,Employee_Name,0))))","v":""},{"$f":"IF(ISERROR(INDEX('Employee Data'!$I$4:$I$553,MATCH(Databackup!A534,Employee_Name,0),0)),\"\",(INDEX('Employee Data'!$I$4:$I$553,MATCH(Databackup!A534,Employee_Name,0))))","v":""},{"$f":"IF(ISERROR(INDEX('Employee Data'!$J$4:$J$553,MATCH(Databackup!A534,Employee_Name,0),0)),\"\",(INDEX('Employee Data'!J$4:$J$553,MATCH(Databackup!A534,Employee_Name,0))))","v":""},{"$f":"IF(ISERROR(INDEX('Employee Data'!$K$4:$K$553,MATCH(Databackup!A534,Employee_Name,0),0)),\"\",(INDEX('Employee Data'!$K$4:$K$553,MATCH(Databackup!A534,Employee_Name,0))))","v":""},{"$f":"IF(ISERROR(INDEX('Employee Data'!$L$4:$L$553,MATCH(Databackup!A534,Employee_Name,0),0)),\"\",(INDEX('Employee Data'!$L$4:$L$553,MATCH(Databackup!A534,Employee_Name,0))))","v":""},{"$f":"IF(ISERROR(INDEX('Employee Data'!$M$4:$M$553,MATCH(Databackup!A534,Employee_Name,0),0)),\"\",(INDEX('Employee Data'!$M$4:$M$553,MATCH(Databackup!A534,Employee_Name,0))))","v":""},{"$f":"IF(ISERROR(INDEX('Employee Data'!$N$4:$N$553,MATCH(Databackup!A534,Employee_Name,0),0)),\"\",(INDEX('Employee Data'!$N$4:$N$553,MATCH(Databackup!A534,Employee_Name,0))))","v":""},{"$f":"IF(ISERROR(INDEX('Employee Data'!$O$4:$O$553,MATCH(Databackup!A534,Employee_Name,0),0)),\"\",(INDEX('Employee Data'!$O$4:$O$553,MATCH(Databackup!A534,Employee_Name,0))))","v":""}]
[{"$f":"INDEX(Employee_Name,MATCH(SMALL(IF($A$1='Employee Data'!$I$4:$I$553,'Employee Data'!$B$4:$B$553,\"\"),ROW('Employee Data'!A533)),IF($A$1='Employee Data'!$I$4:$I$553,'Employee Data'!$B$4:$B$553,\"\"),0))","v":{"$error":"#NUM!"}},{"$f":"IF(ISERROR(INDEX('Employee Data'!$B$4:$B$553,MATCH(Databackup!A535,Employee_Name,0),0)),\"\",(INDEX('Employee Data'!$B$4:$B$553,MATCH(Databackup!A535,Employee_Name,0))))","v":""},{"$f":"IF(ISERROR(INDEX('Employee Data'!$C$4:$C$553,MATCH(Databackup!A535,Employee_Name,0),0)),\"\",(INDEX('Employee Data'!$C$4:$C$553,MATCH(Databackup!A535,Employee_Name,0))))","v":""},{"$f":"IF(ISERROR(INDEX('Employee Data'!$D$4:$D$553,MATCH(Databackup!A535,Employee_Name,0),0)),\"\",(INDEX('Employee Data'!$D$4:$D$553,MATCH(Databackup!A535,Employee_Name,0))))","v":""},{"$f":"IF(ISERROR(INDEX('Employee Data'!$F$4:$F$553,MATCH(Databackup!A535,Employee_Name,0),0)),\"\",(INDEX('Employee Data'!$F$4:$F$553,MATCH(Databackup!A535,Employee_Name,0))))","v":""},{"$f":"IF(ISERROR(INDEX('Employee Data'!$G$4:$G$553,MATCH(Databackup!A535,Employee_Name,0),0)),\"\",(INDEX('Employee Data'!$G$4:$G$553,MATCH(Databackup!A535,Employee_Name,0))))","v":""},{"$f":"IF(ISERROR(INDEX('Employee Data'!$H$4:$H$553,MATCH(Databackup!A535,Employee_Name,0),0)),\"\",(INDEX('Employee Data'!$H$4:$H$553,MATCH(Databackup!A535,Employee_Name,0))))","v":""},{"$f":"IF(ISERROR(INDEX('Employee Data'!$I$4:$I$553,MATCH(Databackup!A535,Employee_Name,0),0)),\"\",(INDEX('Employee Data'!$I$4:$I$553,MATCH(Databackup!A535,Employee_Name,0))))","v":""},{"$f":"IF(ISERROR(INDEX('Employee Data'!$J$4:$J$553,MATCH(Databackup!A535,Employee_Name,0),0)),\"\",(INDEX('Employee Data'!J$4:$J$553,MATCH(Databackup!A535,Employee_Name,0))))","v":""},{"$f":"IF(ISERROR(INDEX('Employee Data'!$K$4:$K$553,MATCH(Databackup!A535,Employee_Name,0),0)),\"\",(INDEX('Employee Data'!$K$4:$K$553,MATCH(Databackup!A535,Employee_Name,0))))","v":""},{"$f":"IF(ISERROR(INDEX('Employee Data'!$L$4:$L$553,MATCH(Databackup!A535,Employee_Name,0),0)),\"\",(INDEX('Employee Data'!$L$4:$L$553,MATCH(Databackup!A535,Employee_Name,0))))","v":""},{"$f":"IF(ISERROR(INDEX('Employee Data'!$M$4:$M$553,MATCH(Databackup!A535,Employee_Name,0),0)),\"\",(INDEX('Employee Data'!$M$4:$M$553,MATCH(Databackup!A535,Employee_Name,0))))","v":""},{"$f":"IF(ISERROR(INDEX('Employee Data'!$N$4:$N$553,MATCH(Databackup!A535,Employee_Name,0),0)),\"\",(INDEX('Employee Data'!$N$4:$N$553,MATCH(Databackup!A535,Employee_Name,0))))","v":""},{"$f":"IF(ISERROR(INDEX('Employee Data'!$O$4:$O$553,MATCH(Databackup!A535,Employee_Name,0),0)),\"\",(INDEX('Employee Data'!$O$4:$O$553,MATCH(Databackup!A535,Employee_Name,0))))","v":""}]
[{"$f":"INDEX(Employee_Name,MATCH(SMALL(IF($A$1='Employee Data'!$I$4:$I$553,'Employee Data'!$B$4:$B$553,\"\"),ROW('Employee Data'!A534)),IF($A$1='Employee Data'!$I$4:$I$553,'Employee Data'!$B$4:$B$553,\"\"),0))","v":{"$error":"#NUM!"}},{"$f":"IF(ISERROR(INDEX('Employee Data'!$B$4:$B$553,MATCH(Databackup!A536,Employee_Name,0),0)),\"\",(INDEX('Employee Data'!$B$4:$B$553,MATCH(Databackup!A536,Employee_Name,0))))","v":""},{"$f":"IF(ISERROR(INDEX('Employee Data'!$C$4:$C$553,MATCH(Databackup!A536,Employee_Name,0),0)),\"\",(INDEX('Employee Data'!$C$4:$C$553,MATCH(Databackup!A536,Employee_Name,0))))","v":""},{"$f":"IF(ISERROR(INDEX('Employee Data'!$D$4:$D$553,MATCH(Databackup!A536,Employee_Name,0),0)),\"\",(INDEX('Employee Data'!$D$4:$D$553,MATCH(Databackup!A536,Employee_Name,0))))","v":""},{"$f":"IF(ISERROR(INDEX('Employee Data'!$F$4:$F$553,MATCH(Databackup!A536,Employee_Name,0),0)),\"\",(INDEX('Employee Data'!$F$4:$F$553,MATCH(Databackup!A536,Employee_Name,0))))","v":""},{"$f":"IF(ISERROR(INDEX('Employee Data'!$G$4:$G$553,MATCH(Databackup!A536,Employee_Name,0),0)),\"\",(INDEX('Employee Data'!$G$4:$G$553,MATCH(Databackup!A536,Employee_Name,0))))","v":""},{"$f":"IF(ISERROR(INDEX('Employee Data'!$H$4:$H$553,MATCH(Databackup!A536,Employee_Name,0),0)),\"\",(INDEX('Employee Data'!$H$4:$H$553,MATCH(Databackup!A536,Employee_Name,0))))","v":""},{"$f":"IF(ISERROR(INDEX('Employee Data'!$I$4:$I$553,MATCH(Databackup!A536,Employee_Name,0),0)),\"\",(INDEX('Employee Data'!$I$4:$I$553,MATCH(Databackup!A536,Employee_Name,0))))","v":""},{"$f":"IF(ISERROR(INDEX('Employee Data'!$J$4:$J$553,MATCH(Databackup!A536,Employee_Name,0),0)),\"\",(INDEX('Employee Data'!J$4:$J$553,MATCH(Databackup!A536,Employee_Name,0))))","v":""},{"$f":"IF(ISERROR(INDEX('Employee Data'!$K$4:$K$553,MATCH(Databackup!A536,Employee_Name,0),0)),\"\",(INDEX('Employee Data'!$K$4:$K$553,MATCH(Databackup!A536,Employee_Name,0))))","v":""},{"$f":"IF(ISERROR(INDEX('Employee Data'!$L$4:$L$553,MATCH(Databackup!A536,Employee_Name,0),0)),\"\",(INDEX('Employee Data'!$L$4:$L$553,MATCH(Databackup!A536,Employee_Name,0))))","v":""},{"$f":"IF(ISERROR(INDEX('Employee Data'!$M$4:$M$553,MATCH(Databackup!A536,Employee_Name,0),0)),\"\",(INDEX('Employee Data'!$M$4:$M$553,MATCH(Databackup!A536,Employee_Name,0))))","v":""},{"$f":"IF(ISERROR(INDEX('Employee Data'!$N$4:$N$553,MATCH(Databackup!A536,Employee_Name,0),0)),\"\",(INDEX('Employee Data'!$N$4:$N$553,MATCH(Databackup!A536,Employee_Name,0))))","v":""},{"$f":"IF(ISERROR(INDEX('Employee Data'!$O$4:$O$553,MATCH(Databackup!A536,Employee_Name,0),0)),\"\",(INDEX('Employee Data'!$O$4:$O$553,MATCH(Databackup!A536,Employee_Name,0))))","v":""}]
[{"$f":"INDEX(Employee_Name,MATCH(SMALL(IF($A$1='Employee Data'!$I$4:$I$553,'Employee Data'!$B$4:$B$553,\"\"),ROW('Employee Data'!A535)),IF($A$1='Employee Data'!$I$4:$I$553,'Employee Data'!$B$4:$B$553,\"\"),0))","v":{"$error":"#NUM!"}},{"$f":"IF(ISERROR(INDEX('Employee Data'!$B$4:$B$553,MATCH(Databackup!A537,Employee_Name,0),0)),\"\",(INDEX('Employee Data'!$B$4:$B$553,MATCH(Databackup!A537,Employee_Name,0))))","v":""},{"$f":"IF(ISERROR(INDEX('Employee Data'!$C$4:$C$553,MATCH(Databackup!A537,Employee_Name,0),0)),\"\",(INDEX('Employee Data'!$C$4:$C$553,MATCH(Databackup!A537,Employee_Name,0))))","v":""},{"$f":"IF(ISERROR(INDEX('Employee Data'!$D$4:$D$553,MATCH(Databackup!A537,Employee_Name,0),0)),\"\",(INDEX('Employee Data'!$D$4:$D$553,MATCH(Databackup!A537,Employee_Name,0))))","v":""},{"$f":"IF(ISERROR(INDEX('Employee Data'!$F$4:$F$553,MATCH(Databackup!A537,Employee_Name,0),0)),\"\",(INDEX('Employee Data'!$F$4:$F$553,MATCH(Databackup!A537,Employee_Name,0))))","v":""},{"$f":"IF(ISERROR(INDEX('Employee Data'!$G$4:$G$553,MATCH(Databackup!A537,Employee_Name,0),0)),\"\",(INDEX('Employee Data'!$G$4:$G$553,MATCH(Databackup!A537,Employee_Name,0))))","v":""},{"$f":"IF(ISERROR(INDEX('Employee Data'!$H$4:$H$553,MATCH(Databackup!A537,Employee_Name,0),0)),\"\",(INDEX('Employee Data'!$H$4:$H$553,MATCH(Databackup!A537,Employee_Name,0))))","v":""},{"$f":"IF(ISERROR(INDEX('Employee Data'!$I$4:$I$553,MATCH(Databackup!A537,Employee_Name,0),0)),\"\",(INDEX('Employee Data'!$I$4:$I$553,MATCH(Databackup!A537,Employee_Name,0))))","v":""},{"$f":"IF(ISERROR(INDEX('Employee Data'!$J$4:$J$553,MATCH(Databackup!A537,Employee_Name,0),0)),\"\",(INDEX('Employee Data'!J$4:$J$553,MATCH(Databackup!A537,Employee_Name,0))))","v":""},{"$f":"IF(ISERROR(INDEX('Employee Data'!$K$4:$K$553,MATCH(Databackup!A537,Employee_Name,0),0)),\"\",(INDEX('Employee Data'!$K$4:$K$553,MATCH(Databackup!A537,Employee_Name,0))))","v":""},{"$f":"IF(ISERROR(INDEX('Employee Data'!$L$4:$L$553,MATCH(Databackup!A537,Employee_Name,0),0)),\"\",(INDEX('Employee Data'!$L$4:$L$553,MATCH(Databackup!A537,Employee_Name,0))))","v":""},{"$f":"IF(ISERROR(INDEX('Employee Data'!$M$4:$M$553,MATCH(Databackup!A537,Employee_Name,0),0)),\"\",(INDEX('Employee Data'!$M$4:$M$553,MATCH(Databackup!A537,Employee_Name,0))))","v":""},{"$f":"IF(ISERROR(INDEX('Employee Data'!$N$4:$N$553,MATCH(Databackup!A537,Employee_Name,0),0)),\"\",(INDEX('Employee Data'!$N$4:$N$553,MATCH(Databackup!A537,Employee_Name,0))))","v":""},{"$f":"IF(ISERROR(INDEX('Employee Data'!$O$4:$O$553,MATCH(Databackup!A537,Employee_Name,0),0)),\"\",(INDEX('Employee Data'!$O$4:$O$553,MATCH(Databackup!A537,Employee_Name,0))))","v":""}]
[{"$f":"INDEX(Employee_Name,MATCH(SMALL(IF($A$1='Employee Data'!$I$4:$I$553,'Employee Data'!$B$4:$B$553,\"\"),ROW('Employee Data'!A536)),IF($A$1='Employee Data'!$I$4:$I$553,'Employee Data'!$B$4:$B$553,\"\"),0))","v":{"$error":"#NUM!"}},{"$f":"IF(ISERROR(INDEX('Employee Data'!$B$4:$B$553,MATCH(Databackup!A538,Employee_Name,0),0)),\"\",(INDEX('Employee Data'!$B$4:$B$553,MATCH(Databackup!A538,Employee_Name,0))))","v":""},{"$f":"IF(ISERROR(INDEX('Employee Data'!$C$4:$C$553,MATCH(Databackup!A538,Employee_Name,0),0)),\"\",(INDEX('Employee Data'!$C$4:$C$553,MATCH(Databackup!A538,Employee_Name,0))))","v":""},{"$f":"IF(ISERROR(INDEX('Employee Data'!$D$4:$D$553,MATCH(Databackup!A538,Employee_Name,0),0)),\"\",(INDEX('Employee Data'!$D$4:$D$553,MATCH(Databackup!A538,Employee_Name,0))))","v":""},{"$f":"IF(ISERROR(INDEX('Employee Data'!$F$4:$F$553,MATCH(Databackup!A538,Employee_Name,0),0)),\"\",(INDEX('Employee Data'!$F$4:$F$553,MATCH(Databackup!A538,Employee_Name,0))))","v":""},{"$f":"IF(ISERROR(INDEX('Employee Data'!$G$4:$G$553,MATCH(Databackup!A538,Employee_Name,0),0)),\"\",(INDEX('Employee Data'!$G$4:$G$553,MATCH(Databackup!A538,Employee_Name,0))))","v":""},{"$f":"IF(ISERROR(INDEX('Employee Data'!$H$4:$H$553,MATCH(Databackup!A538,Employee_Name,0),0)),\"\",(INDEX('Employee Data'!$H$4:$H$553,MATCH(Databackup!A538,Employee_Name,0))))","v":""},{"$f":"IF(ISERROR(INDEX('Employee Data'!$I$4:$I$553,MATCH(Databackup!A538,Employee_Name,0),0)),\"\",(INDEX('Employee Data'!$I$4:$I$553,MATCH(Databackup!A538,Employee_Name,0))))","v":""},{"$f":"IF(ISERROR(INDEX('Employee Data'!$J$4:$J$553,MATCH(Databackup!A538,Employee_Name,0),0)),\"\",(INDEX('Employee Data'!J$4:$J$553,MATCH(Databackup!A538,Employee_Name,0))))","v":""},{"$f":"IF(ISERROR(INDEX('Employee Data'!$K$4:$K$553,MATCH(Databackup!A538,Employee_Name,0),0)),\"\",(INDEX('Employee Data'!$K$4:$K$553,MATCH(Databackup!A538,Employee_Name,0))))","v":""},{"$f":"IF(ISERROR(INDEX('Employee Data'!$L$4:$L$553,MATCH(Databackup!A538,Employee_Name,0),0)),\"\",(INDEX('Employee Data'!$L$4:$L$553,MATCH(Databackup!A538,Employee_Name,0))))","v":""},{"$f":"IF(ISERROR(INDEX('Employee Data'!$M$4:$M$553,MATCH(Databackup!A538,Employee_Name,0),0)),\"\",(INDEX('Employee Data'!$M$4:$M$553,MATCH(Databackup!A538,Employee_Name,0))))","v":""},{"$f":"IF(ISERROR(INDEX('Employee Data'!$N$4:$N$553,MATCH(Databackup!A538,Employee_Name,0),0)),\"\",(INDEX('Employee Data'!$N$4:$N$553,MATCH(Databackup!A538,Employee_Name,0))))","v":""},{"$f":"IF(ISERROR(INDEX('Employee Data'!$O$4:$O$553,MATCH(Databackup!A538,Employee_Name,0),0)),\"\",(INDEX('Employee Data'!$O$4:$O$553,MATCH(Databackup!A538,Employee_Name,0))))","v":""}]
[{"$f":"INDEX(Employee_Name,MATCH(SMALL(IF($A$1='Employee Data'!$I$4:$I$553,'Employee Data'!$B$4:$B$553,\"\"),ROW('Employee Data'!A537)),IF($A$1='Employee Data'!$I$4:$I$553,'Employee Data'!$B$4:$B$553,\"\"),0))","v":{"$error":"#NUM!"}},{"$f":"IF(ISERROR(INDEX('Employee Data'!$B$4:$B$553,MATCH(Databackup!A539,Employee_Name,0),0)),\"\",(INDEX('Employee Data'!$B$4:$B$553,MATCH(Databackup!A539,Employee_Name,0))))","v":""},{"$f":"IF(ISERROR(INDEX('Employee Data'!$C$4:$C$553,MATCH(Databackup!A539,Employee_Name,0),0)),\"\",(INDEX('Employee Data'!$C$4:$C$553,MATCH(Databackup!A539,Employee_Name,0))))","v":""},{"$f":"IF(ISERROR(INDEX('Employee Data'!$D$4:$D$553,MATCH(Databackup!A539,Employee_Name,0),0)),\"\",(INDEX('Employee Data'!$D$4:$D$553,MATCH(Databackup!A539,Employee_Name,0))))","v":""},{"$f":"IF(ISERROR(INDEX('Employee Data'!$F$4:$F$553,MATCH(Databackup!A539,Employee_Name,0),0)),\"\",(INDEX('Employee Data'!$F$4:$F$553,MATCH(Databackup!A539,Employee_Name,0))))","v":""},{"$f":"IF(ISERROR(INDEX('Employee Data'!$G$4:$G$553,MATCH(Databackup!A539,Employee_Name,0),0)),\"\",(INDEX('Employee Data'!$G$4:$G$553,MATCH(Databackup!A539,Employee_Name,0))))","v":""},{"$f":"IF(ISERROR(INDEX('Employee Data'!$H$4:$H$553,MATCH(Databackup!A539,Employee_Name,0),0)),\"\",(INDEX('Employee Data'!$H$4:$H$553,MATCH(Databackup!A539,Employee_Name,0))))","v":""},{"$f":"IF(ISERROR(INDEX('Employee Data'!$I$4:$I$553,MATCH(Databackup!A539,Employee_Name,0),0)),\"\",(INDEX('Employee Data'!$I$4:$I$553,MATCH(Databackup!A539,Employee_Name,0))))","v":""},{"$f":"IF(ISERROR(INDEX('Employee Data'!$J$4:$J$553,MATCH(Databackup!A539,Employee_Name,0),0)),\"\",(INDEX('Employee Data'!J$4:$J$553,MATCH(Databackup!A539,Employee_Name,0))))","v":""},{"$f":"IF(ISERROR(INDEX('Employee Data'!$K$4:$K$553,MATCH(Databackup!A539,Employee_Name,0),0)),\"\",(INDEX('Employee Data'!$K$4:$K$553,MATCH(Databackup!A539,Employee_Name,0))))","v":""},{"$f":"IF(ISERROR(INDEX('Employee Data'!$L$4:$L$553,MATCH(Databackup!A539,Employee_Name,0),0)),\"\",(INDEX('Employee Data'!$L$4:$L$553,MATCH(Databackup!A539,Employee_Name,0))))","v":""},{"$f":"IF(ISERROR(INDEX('Employee Data'!$M$4:$M$553,MATCH(Databackup!A539,Employee_Name,0),0)),\"\",(INDEX('Employee Data'!$M$4:$M$553,MATCH(Databackup!A539,Employee_Name,0))))","v":""},{"$f":"IF(ISERROR(INDEX('Employee Data'!$N$4:$N$553,MATCH(Databackup!A539,Employee_Name,0),0)),\"\",(INDEX('Employee Data'!$N$4:$N$553,MATCH(Databackup!A539,Employee_Name,0))))","v":""},{"$f":"IF(ISERROR(INDEX('Employee Data'!$O$4:$O$553,MATCH(Databackup!A539,Employee_Name,0),0)),\"\",(INDEX('Employee Data'!$O$4:$O$553,MATCH(Databackup!A539,Employee_Name,0))))","v":""}]
[{"$f":"INDEX(Employee_Name,MATCH(SMALL(IF($A$1='Employee Data'!$I$4:$I$553,'Employee Data'!$B$4:$B$553,\"\"),ROW('Employee Data'!A538)),IF($A$1='Employee Data'!$I$4:$I$553,'Employee Data'!$B$4:$B$553,\"\"),0))","v":{"$error":"#NUM!"}},{"$f":"IF(ISERROR(INDEX('Employee Data'!$B$4:$B$553,MATCH(Databackup!A540,Employee_Name,0),0)),\"\",(INDEX('Employee Data'!$B$4:$B$553,MATCH(Databackup!A540,Employee_Name,0))))","v":""},{"$f":"IF(ISERROR(INDEX('Employee Data'!$C$4:$C$553,MATCH(Databackup!A540,Employee_Name,0),0)),\"\",(INDEX('Employee Data'!$C$4:$C$553,MATCH(Databackup!A540,Employee_Name,0))))","v":""},{"$f":"IF(ISERROR(INDEX('Employee Data'!$D$4:$D$553,MATCH(Databackup!A540,Employee_Name,0),0)),\"\",(INDEX('Employee Data'!$D$4:$D$553,MATCH(Databackup!A540,Employee_Name,0))))","v":""},{"$f":"IF(ISERROR(INDEX('Employee Data'!$F$4:$F$553,MATCH(Databackup!A540,Employee_Name,0),0)),\"\",(INDEX('Employee Data'!$F$4:$F$553,MATCH(Databackup!A540,Employee_Name,0))))","v":""},{"$f":"IF(ISERROR(INDEX('Employee Data'!$G$4:$G$553,MATCH(Databackup!A540,Employee_Name,0),0)),\"\",(INDEX('Employee Data'!$G$4:$G$553,MATCH(Databackup!A540,Employee_Name,0))))","v":""},{"$f":"IF(ISERROR(INDEX('Employee Data'!$H$4:$H$553,MATCH(Databackup!A540,Employee_Name,0),0)),\"\",(INDEX('Employee Data'!$H$4:$H$553,MATCH(Databackup!A540,Employee_Name,0))))","v":""},{"$f":"IF(ISERROR(INDEX('Employee Data'!$I$4:$I$553,MATCH(Databackup!A540,Employee_Name,0),0)),\"\",(INDEX('Employee Data'!$I$4:$I$553,MATCH(Databackup!A540,Employee_Name,0))))","v":""},{"$f":"IF(ISERROR(INDEX('Employee Data'!$J$4:$J$553,MATCH(Databackup!A540,Employee_Name,0),0)),\"\",(INDEX('Employee Data'!J$4:$J$553,MATCH(Databackup!A540,Employee_Name,0))))","v":""},{"$f":"IF(ISERROR(INDEX('Employee Data'!$K$4:$K$553,MATCH(Databackup!A540,Employee_Name,0),0)),\"\",(INDEX('Employee Data'!$K$4:$K$553,MATCH(Databackup!A540,Employee_Name,0))))","v":""},{"$f":"IF(ISERROR(INDEX('Employee Data'!$L$4:$L$553,MATCH(Databackup!A540,Employee_Name,0),0)),\"\",(INDEX('Employee Data'!$L$4:$L$553,MATCH(Databackup!A540,Employee_Name,0))))","v":""},{"$f":"IF(ISERROR(INDEX('Employee Data'!$M$4:$M$553,MATCH(Databackup!A540,Employee_Name,0),0)),\"\",(INDEX('Employee Data'!$M$4:$M$553,MATCH(Databackup!A540,Employee_Name,0))))","v":""},{"$f":"IF(ISERROR(INDEX('Employee Data'!$N$4:$N$553,MATCH(Databackup!A540,Employee_Name,0),0)),\"\",(INDEX('Employee Data'!$N$4:$N$553,MATCH(Databackup!A540,Employee_Name,0))))","v":""},{"$f":"IF(ISERROR(INDEX('Employee Data'!$O$4:$O$553,MATCH(Databackup!A540,Employee_Name,0),0)),\"\",(INDEX('Employee Data'!$O$4:$O$553,MATCH(Databackup!A540,Employee_Name,0))))","v":""}]
[{"$f":"INDEX(Employee_Name,MATCH(SMALL(IF($A$1='Employee Data'!$I$4:$I$553,'Employee Data'!$B$4:$B$553,\"\"),ROW('Employee Data'!A539)),IF($A$1='Employee Data'!$I$4:$I$553,'Employee Data'!$B$4:$B$553,\"\"),0))","v":{"$error":"#NUM!"}},{"$f":"IF(ISERROR(INDEX('Employee Data'!$B$4:$B$553,MATCH(Databackup!A541,Employee_Name,0),0)),\"\",(INDEX('Employee Data'!$B$4:$B$553,MATCH(Databackup!A541,Employee_Name,0))))","v":""},{"$f":"IF(ISERROR(INDEX('Employee Data'!$C$4:$C$553,MATCH(Databackup!A541,Employee_Name,0),0)),\"\",(INDEX('Employee Data'!$C$4:$C$553,MATCH(Databackup!A541,Employee_Name,0))))","v":""},{"$f":"IF(ISERROR(INDEX('Employee Data'!$D$4:$D$553,MATCH(Databackup!A541,Employee_Name,0),0)),\"\",(INDEX('Employee Data'!$D$4:$D$553,MATCH(Databackup!A541,Employee_Name,0))))","v":""},{"$f":"IF(ISERROR(INDEX('Employee Data'!$F$4:$F$553,MATCH(Databackup!A541,Employee_Name,0),0)),\"\",(INDEX('Employee Data'!$F$4:$F$553,MATCH(Databackup!A541,Employee_Name,0))))","v":""},{"$f":"IF(ISERROR(INDEX('Employee Data'!$G$4:$G$553,MATCH(Databackup!A541,Employee_Name,0),0)),\"\",(INDEX('Employee Data'!$G$4:$G$553,MATCH(Databackup!A541,Employee_Name,0))))","v":""},{"$f":"IF(ISERROR(INDEX('Employee Data'!$H$4:$H$553,MATCH(Databackup!A541,Employee_Name,0),0)),\"\",(INDEX('Employee Data'!$H$4:$H$553,MATCH(Databackup!A541,Employee_Name,0))))","v":""},{"$f":"IF(ISERROR(INDEX('Employee Data'!$I$4:$I$553,MATCH(Databackup!A541,Employee_Name,0),0)),\"\",(INDEX('Employee Data'!$I$4:$I$553,MATCH(Databackup!A541,Employee_Name,0))))","v":""},{"$f":"IF(ISERROR(INDEX('Employee Data'!$J$4:$J$553,MATCH(Databackup!A541,Employee_Name,0),0)),\"\",(INDEX('Employee Data'!J$4:$J$553,MATCH(Databackup!A541,Employee_Name,0))))","v":""},{"$f":"IF(ISERROR(INDEX('Employee Data'!$K$4:$K$553,MATCH(Databackup!A541,Employee_Name,0),0)),\"\",(INDEX('Employee Data'!$K$4:$K$553,MATCH(Databackup!A541,Employee_Name,0))))","v":""},{"$f":"IF(ISERROR(INDEX('Employee Data'!$L$4:$L$553,MATCH(Databackup!A541,Employee_Name,0),0)),\"\",(INDEX('Employee Data'!$L$4:$L$553,MATCH(Databackup!A541,Employee_Name,0))))","v":""},{"$f":"IF(ISERROR(INDEX('Employee Data'!$M$4:$M$553,MATCH(Databackup!A541,Employee_Name,0),0)),\"\",(INDEX('Employee Data'!$M$4:$M$553,MATCH(Databackup!A541,Employee_Name,0))))","v":""},{"$f":"IF(ISERROR(INDEX('Employee Data'!$N$4:$N$553,MATCH(Databackup!A541,Employee_Name,0),0)),\"\",(INDEX('Employee Data'!$N$4:$N$553,MATCH(Databackup!A541,Employee_Name,0))))","v":""},{"$f":"IF(ISERROR(INDEX('Employee Data'!$O$4:$O$553,MATCH(Databackup!A541,Employee_Name,0),0)),\"\",(INDEX('Employee Data'!$O$4:$O$553,MATCH(Databackup!A541,Employee_Name,0))))","v":""}]
[{"$f":"INDEX(Employee_Name,MATCH(SMALL(IF($A$1='Employee Data'!$I$4:$I$553,'Employee Data'!$B$4:$B$553,\"\"),ROW('Employee Data'!A540)),IF($A$1='Employee Data'!$I$4:$I$553,'Employee Data'!$B$4:$B$553,\"\"),0))","v":{"$error":"#NUM!"}},{"$f":"IF(ISERROR(INDEX('Employee Data'!$B$4:$B$553,MATCH(Databackup!A542,Employee_Name,0),0)),\"\",(INDEX('Employee Data'!$B$4:$B$553,MATCH(Databackup!A542,Employee_Name,0))))","v":""},{"$f":"IF(ISERROR(INDEX('Employee Data'!$C$4:$C$553,MATCH(Databackup!A542,Employee_Name,0),0)),\"\",(INDEX('Employee Data'!$C$4:$C$553,MATCH(Databackup!A542,Employee_Name,0))))","v":""},{"$f":"IF(ISERROR(INDEX('Employee Data'!$D$4:$D$553,MATCH(Databackup!A542,Employee_Name,0),0)),\"\",(INDEX('Employee Data'!$D$4:$D$553,MATCH(Databackup!A542,Employee_Name,0))))","v":""},{"$f":"IF(ISERROR(INDEX('Employee Data'!$F$4:$F$553,MATCH(Databackup!A542,Employee_Name,0),0)),\"\",(INDEX('Employee Data'!$F$4:$F$553,MATCH(Databackup!A542,Employee_Name,0))))","v":""},{"$f":"IF(ISERROR(INDEX('Employee Data'!$G$4:$G$553,MATCH(Databackup!A542,Employee_Name,0),0)),\"\",(INDEX('Employee Data'!$G$4:$G$553,MATCH(Databackup!A542,Employee_Name,0))))","v":""},{"$f":"IF(ISERROR(INDEX('Employee Data'!$H$4:$H$553,MATCH(Databackup!A542,Employee_Name,0),0)),\"\",(INDEX('Employee Data'!$H$4:$H$553,MATCH(Databackup!A542,Employee_Name,0))))","v":""},{"$f":"IF(ISERROR(INDEX('Employee Data'!$I$4:$I$553,MATCH(Databackup!A542,Employee_Name,0),0)),\"\",(INDEX('Employee Data'!$I$4:$I$553,MATCH(Databackup!A542,Employee_Name,0))))","v":""},{"$f":"IF(ISERROR(INDEX('Employee Data'!$J$4:$J$553,MATCH(Databackup!A542,Employee_Name,0),0)),\"\",(INDEX('Employee Data'!J$4:$J$553,MATCH(Databackup!A542,Employee_Name,0))))","v":""},{"$f":"IF(ISERROR(INDEX('Employee Data'!$K$4:$K$553,MATCH(Databackup!A542,Employee_Name,0),0)),\"\",(INDEX('Employee Data'!$K$4:$K$553,MATCH(Databackup!A542,Employee_Name,0))))","v":""},{"$f":"IF(ISERROR(INDEX('Employee Data'!$L$4:$L$553,MATCH(Databackup!A542,Employee_Name,0),0)),\"\",(INDEX('Employee Data'!$L$4:$L$553,MATCH(Databackup!A542,Employee_Name,0))))","v":""},{"$f":"IF(ISERROR(INDEX('Employee Data'!$M$4:$M$553,MATCH(Databackup!A542,Employee_Name,0),0)),\"\",(INDEX('Employee Data'!$M$4:$M$553,MATCH(Databackup!A542,Employee_Name,0))))","v":""},{"$f":"IF(ISERROR(INDEX('Employee Data'!$N$4:$N$553,MATCH(Databackup!A542,Employee_Name,0),0)),\"\",(INDEX('Employee Data'!$N$4:$N$553,MATCH(Databackup!A542,Employee_Name,0))))","v":""},{"$f":"IF(ISERROR(INDEX('Employee Data'!$O$4:$O$553,MATCH(Databackup!A542,Employee_Name,0),0)),\"\",(INDEX('Employee Data'!$O$4:$O$553,MATCH(Databackup!A542,Employee_Name,0))))","v":""}]
[{"$f":"INDEX(Employee_Name,MATCH(SMALL(IF($A$1='Employee Data'!$I$4:$I$553,'Employee Data'!$B$4:$B$553,\"\"),ROW('Employee Data'!A541)),IF($A$1='Employee Data'!$I$4:$I$553,'Employee Data'!$B$4:$B$553,\"\"),0))","v":{"$error":"#NUM!"}},{"$f":"IF(ISERROR(INDEX('Employee Data'!$B$4:$B$553,MATCH(Databackup!A543,Employee_Name,0),0)),\"\",(INDEX('Employee Data'!$B$4:$B$553,MATCH(Databackup!A543,Employee_Name,0))))","v":""},{"$f":"IF(ISERROR(INDEX('Employee Data'!$C$4:$C$553,MATCH(Databackup!A543,Employee_Name,0),0)),\"\",(INDEX('Employee Data'!$C$4:$C$553,MATCH(Databackup!A543,Employee_Name,0))))","v":""},{"$f":"IF(ISERROR(INDEX('Employee Data'!$D$4:$D$553,MATCH(Databackup!A543,Employee_Name,0),0)),\"\",(INDEX('Employee Data'!$D$4:$D$553,MATCH(Databackup!A543,Employee_Name,0))))","v":""},{"$f":"IF(ISERROR(INDEX('Employee Data'!$F$4:$F$553,MATCH(Databackup!A543,Employee_Name,0),0)),\"\",(INDEX('Employee Data'!$F$4:$F$553,MATCH(Databackup!A543,Employee_Name,0))))","v":""},{"$f":"IF(ISERROR(INDEX('Employee Data'!$G$4:$G$553,MATCH(Databackup!A543,Employee_Name,0),0)),\"\",(INDEX('Employee Data'!$G$4:$G$553,MATCH(Databackup!A543,Employee_Name,0))))","v":""},{"$f":"IF(ISERROR(INDEX('Employee Data'!$H$4:$H$553,MATCH(Databackup!A543,Employee_Name,0),0)),\"\",(INDEX('Employee Data'!$H$4:$H$553,MATCH(Databackup!A543,Employee_Name,0))))","v":""},{"$f":"IF(ISERROR(INDEX('Employee Data'!$I$4:$I$553,MATCH(Databackup!A543,Employee_Name,0),0)),\"\",(INDEX('Employee Data'!$I$4:$I$553,MATCH(Databackup!A543,Employee_Name,0))))","v":""},{"$f":"IF(ISERROR(INDEX('Employee Data'!$J$4:$J$553,MATCH(Databackup!A543,Employee_Name,0),0)),\"\",(INDEX('Employee Data'!J$4:$J$553,MATCH(Databackup!A543,Employee_Name,0))))","v":""},{"$f":"IF(ISERROR(INDEX('Employee Data'!$K$4:$K$553,MATCH(Databackup!A543,Employee_Name,0),0)),\"\",(INDEX('Employee Data'!$K$4:$K$553,MATCH(Databackup!A543,Employee_Name,0))))","v":""},{"$f":"IF(ISERROR(INDEX('Employee Data'!$L$4:$L$553,MATCH(Databackup!A543,Employee_Name,0),0)),\"\",(INDEX('Employee Data'!$L$4:$L$553,MATCH(Databackup!A543,Employee_Name,0))))","v":""},{"$f":"IF(ISERROR(INDEX('Employee Data'!$M$4:$M$553,MATCH(Databackup!A543,Employee_Name,0),0)),\"\",(INDEX('Employee Data'!$M$4:$M$553,MATCH(Databackup!A543,Employee_Name,0))))","v":""},{"$f":"IF(ISERROR(INDEX('Employee Data'!$N$4:$N$553,MATCH(Databackup!A543,Employee_Name,0),0)),\"\",(INDEX('Employee Data'!$N$4:$N$553,MATCH(Databackup!A543,Employee_Name,0))))","v":""},{"$f":"IF(ISERROR(INDEX('Employee Data'!$O$4:$O$553,MATCH(Databackup!A543,Employee_Name,0),0)),\"\",(INDEX('Employee Data'!$O$4:$O$553,MATCH(Databackup!A543,Employee_Name,0))))","v":""}]
[{"$f":"INDEX(Employee_Name,MATCH(SMALL(IF($A$1='Employee Data'!$I$4:$I$553,'Employee Data'!$B$4:$B$553,\"\"),ROW('Employee Data'!A542)),IF($A$1='Employee Data'!$I$4:$I$553,'Employee Data'!$B$4:$B$553,\"\"),0))","v":{"$error":"#NUM!"}},{"$f":"IF(ISERROR(INDEX('Employee Data'!$B$4:$B$553,MATCH(Databackup!A544,Employee_Name,0),0)),\"\",(INDEX('Employee Data'!$B$4:$B$553,MATCH(Databackup!A544,Employee_Name,0))))","v":""},{"$f":"IF(ISERROR(INDEX('Employee Data'!$C$4:$C$553,MATCH(Databackup!A544,Employee_Name,0),0)),\"\",(INDEX('Employee Data'!$C$4:$C$553,MATCH(Databackup!A544,Employee_Name,0))))","v":""},{"$f":"IF(ISERROR(INDEX('Employee Data'!$D$4:$D$553,MATCH(Databackup!A544,Employee_Name,0),0)),\"\",(INDEX('Employee Data'!$D$4:$D$553,MATCH(Databackup!A544,Employee_Name,0))))","v":""},{"$f":"IF(ISERROR(INDEX('Employee Data'!$F$4:$F$553,MATCH(Databackup!A544,Employee_Name,0),0)),\"\",(INDEX('Employee Data'!$F$4:$F$553,MATCH(Databackup!A544,Employee_Name,0))))","v":""},{"$f":"IF(ISERROR(INDEX('Employee Data'!$G$4:$G$553,MATCH(Databackup!A544,Employee_Name,0),0)),\"\",(INDEX('Employee Data'!$G$4:$G$553,MATCH(Databackup!A544,Employee_Name,0))))","v":""},{"$f":"IF(ISERROR(INDEX('Employee Data'!$H$4:$H$553,MATCH(Databackup!A544,Employee_Name,0),0)),\"\",(INDEX('Employee Data'!$H$4:$H$553,MATCH(Databackup!A544,Employee_Name,0))))","v":""},{"$f":"IF(ISERROR(INDEX('Employee Data'!$I$4:$I$553,MATCH(Databackup!A544,Employee_Name,0),0)),\"\",(INDEX('Employee Data'!$I$4:$I$553,MATCH(Databackup!A544,Employee_Name,0))))","v":""},{"$f":"IF(ISERROR(INDEX('Employee Data'!$J$4:$J$553,MATCH(Databackup!A544,Employee_Name,0),0)),\"\",(INDEX('Employee Data'!J$4:$J$553,MATCH(Databackup!A544,Employee_Name,0))))","v":""},{"$f":"IF(ISERROR(INDEX('Employee Data'!$K$4:$K$553,MATCH(Databackup!A544,Employee_Name,0),0)),\"\",(INDEX('Employee Data'!$K$4:$K$553,MATCH(Databackup!A544,Employee_Name,0))))","v":""},{"$f":"IF(ISERROR(INDEX('Employee Data'!$L$4:$L$553,MATCH(Databackup!A544,Employee_Name,0),0)),\"\",(INDEX('Employee Data'!$L$4:$L$553,MATCH(Databackup!A544,Employee_Name,0))))","v":""},{"$f":"IF(ISERROR(INDEX('Employee Data'!$M$4:$M$553,MATCH(Databackup!A544,Employee_Name,0),0)),\"\",(INDEX('Employee Data'!$M$4:$M$553,MATCH(Databackup!A544,Employee_Name,0))))","v":""},{"$f":"IF(ISERROR(INDEX('Employee Data'!$N$4:$N$553,MATCH(Databackup!A544,Employee_Name,0),0)),\"\",(INDEX('Employee Data'!$N$4:$N$553,MATCH(Databackup!A544,Employee_Name,0))))","v":""},{"$f":"IF(ISERROR(INDEX('Employee Data'!$O$4:$O$553,MATCH(Databackup!A544,Employee_Name,0),0)),\"\",(INDEX('Employee Data'!$O$4:$O$553,MATCH(Databackup!A544,Employee_Name,0))))","v":""}]
[{"$f":"INDEX(Employee_Name,MATCH(SMALL(IF($A$1='Employee Data'!$I$4:$I$553,'Employee Data'!$B$4:$B$553,\"\"),ROW('Employee Data'!A543)),IF($A$1='Employee Data'!$I$4:$I$553,'Employee Data'!$B$4:$B$553,\"\"),0))","v":{"$error":"#NUM!"}},{"$f":"IF(ISERROR(INDEX('Employee Data'!$B$4:$B$553,MATCH(Databackup!A545,Employee_Name,0),0)),\"\",(INDEX('Employee Data'!$B$4:$B$553,MATCH(Databackup!A545,Employee_Name,0))))","v":""},{"$f":"IF(ISERROR(INDEX('Employee Data'!$C$4:$C$553,MATCH(Databackup!A545,Employee_Name,0),0)),\"\",(INDEX('Employee Data'!$C$4:$C$553,MATCH(Databackup!A545,Employee_Name,0))))","v":""},{"$f":"IF(ISERROR(INDEX('Employee Data'!$D$4:$D$553,MATCH(Databackup!A545,Employee_Name,0),0)),\"\",(INDEX('Employee Data'!$D$4:$D$553,MATCH(Databackup!A545,Employee_Name,0))))","v":""},{"$f":"IF(ISERROR(INDEX('Employee Data'!$F$4:$F$553,MATCH(Databackup!A545,Employee_Name,0),0)),\"\",(INDEX('Employee Data'!$F$4:$F$553,MATCH(Databackup!A545,Employee_Name,0))))","v":""},{"$f":"IF(ISERROR(INDEX('Employee Data'!$G$4:$G$553,MATCH(Databackup!A545,Employee_Name,0),0)),\"\",(INDEX('Employee Data'!$G$4:$G$553,MATCH(Databackup!A545,Employee_Name,0))))","v":""},{"$f":"IF(ISERROR(INDEX('Employee Data'!$H$4:$H$553,MATCH(Databackup!A545,Employee_Name,0),0)),\"\",(INDEX('Employee Data'!$H$4:$H$553,MATCH(Databackup!A545,Employee_Name,0))))","v":""},{"$f":"IF(ISERROR(INDEX('Employee Data'!$I$4:$I$553,MATCH(Databackup!A545,Employee_Name,0),0)),\"\",(INDEX('Employee Data'!$I$4:$I$553,MATCH(Databackup!A545,Employee_Name,0))))","v":""},{"$f":"IF(ISERROR(INDEX('Employee Data'!$J$4:$J$553,MATCH(Databackup!A545,Employee_Name,0),0)),\"\",(INDEX('Employee Data'!J$4:$J$553,MATCH(Databackup!A545,Employee_Name,0))))","v":""},{"$f":"IF(ISERROR(INDEX('Employee Data'!$K$4:$K$553,MATCH(Databackup!A545,Employee_Name,0),0)),\"\",(INDEX('Employee Data'!$K$4:$K$553,MATCH(Databackup!A545,Employee_Name,0))))","v":""},{"$f":"IF(ISERROR(INDEX('Employee Data'!$L$4:$L$553,MATCH(Databackup!A545,Employee_Name,0),0)),\"\",(INDEX('Employee Data'!$L$4:$L$553,MATCH(Databackup!A545,Employee_Name,0))))","v":""},{"$f":"IF(ISERROR(INDEX('Employee Data'!$M$4:$M$553,MATCH(Databackup!A545,Employee_Name,0),0)),\"\",(INDEX('Employee Data'!$M$4:$M$553,MATCH(Databackup!A545,Employee_Name,0))))","v":""},{"$f":"IF(ISERROR(INDEX('Employee Data'!$N$4:$N$553,MATCH(Databackup!A545,Employee_Name,0),0)),\"\",(INDEX('Employee Data'!$N$4:$N$553,MATCH(Databackup!A545,Employee_Name,0))))","v":""},{"$f":"IF(ISERROR(INDEX('Employee Data'!$O$4:$O$553,MATCH(Databackup!A545,Employee_Name,0),0)),\"\",(INDEX('Employee Data'!$O$4:$O$553,MATCH(Databackup!A545,Employee_Name,0))))","v":""}]
[{"$f":"INDEX(Employee_Name,MATCH(SMALL(IF($A$1='Employee Data'!$I$4:$I$553,'Employee Data'!$B$4:$B$553,\"\"),ROW('Employee Data'!A544)),IF($A$1='Employee Data'!$I$4:$I$553,'Employee Data'!$B$4:$B$553,\"\"),0))","v":{"$error":"#NUM!"}},{"$f":"IF(ISERROR(INDEX('Employee Data'!$B$4:$B$553,MATCH(Databackup!A546,Employee_Name,0),0)),\"\",(INDEX('Employee Data'!$B$4:$B$553,MATCH(Databackup!A546,Employee_Name,0))))","v":""},{"$f":"IF(ISERROR(INDEX('Employee Data'!$C$4:$C$553,MATCH(Databackup!A546,Employee_Name,0),0)),\"\",(INDEX('Employee Data'!$C$4:$C$553,MATCH(Databackup!A546,Employee_Name,0))))","v":""},{"$f":"IF(ISERROR(INDEX('Employee Data'!$D$4:$D$553,MATCH(Databackup!A546,Employee_Name,0),0)),\"\",(INDEX('Employee Data'!$D$4:$D$553,MATCH(Databackup!A546,Employee_Name,0))))","v":""},{"$f":"IF(ISERROR(INDEX('Employee Data'!$F$4:$F$553,MATCH(Databackup!A546,Employee_Name,0),0)),\"\",(INDEX('Employee Data'!$F$4:$F$553,MATCH(Databackup!A546,Employee_Name,0))))","v":""},{"$f":"IF(ISERROR(INDEX('Employee Data'!$G$4:$G$553,MATCH(Databackup!A546,Employee_Name,0),0)),\"\",(INDEX('Employee Data'!$G$4:$G$553,MATCH(Databackup!A546,Employee_Name,0))))","v":""},{"$f":"IF(ISERROR(INDEX('Employee Data'!$H$4:$H$553,MATCH(Databackup!A546,Employee_Name,0),0)),\"\",(INDEX('Employee Data'!$H$4:$H$553,MATCH(Databackup!A546,Employee_Name,0))))","v":""},{"$f":"IF(ISERROR(INDEX('Employee Data'!$I$4:$I$553,MATCH(Databackup!A546,Employee_Name,0),0)),\"\",(INDEX('Employee Data'!$I$4:$I$553,MATCH(Databackup!A546,Employee_Name,0))))","v":""},{"$f":"IF(ISERROR(INDEX('Employee Data'!$J$4:$J$553,MATCH(Databackup!A546,Employee_Name,0),0)),\"\",(INDEX('Employee Data'!J$4:$J$553,MATCH(Databackup!A546,Employee_Name,0))))","v":""},{"$f":"IF(ISERROR(INDEX('Employee Data'!$K$4:$K$553,MATCH(Databackup!A546,Employee_Name,0),0)),\"\",(INDEX('Employee Data'!$K$4:$K$553,MATCH(Databackup!A546,Employee_Name,0))))","v":""},{"$f":"IF(ISERROR(INDEX('Employee Data'!$L$4:$L$553,MATCH(Databackup!A546,Employee_Name,0),0)),\"\",(INDEX('Employee Data'!$L$4:$L$553,MATCH(Databackup!A546,Employee_Name,0))))","v":""},{"$f":"IF(ISERROR(INDEX('Employee Data'!$M$4:$M$553,MATCH(Databackup!A546,Employee_Name,0),0)),\"\",(INDEX('Employee Data'!$M$4:$M$553,MATCH(Databackup!A546,Employee_Name,0))))","v":""},{"$f":"IF(ISERROR(INDEX('Employee Data'!$N$4:$N$553,MATCH(Databackup!A546,Employee_Name,0),0)),\"\",(INDEX('Employee Data'!$N$4:$N$553,MATCH(Databackup!A546,Employee_Name,0))))","v":""},{"$f":"IF(ISERROR(INDEX('Employee Data'!$O$4:$O$553,MATCH(Databackup!A546,Employee_Name,0),0)),\"\",(INDEX('Employee Data'!$O$4:$O$553,MATCH(Databackup!A546,Employee_Name,0))))","v":""}]
[{"$f":"INDEX(Employee_Name,MATCH(SMALL(IF($A$1='Employee Data'!$I$4:$I$553,'Employee Data'!$B$4:$B$553,\"\"),ROW('Employee Data'!A545)),IF($A$1='Employee Data'!$I$4:$I$553,'Employee Data'!$B$4:$B$553,\"\"),0))","v":{"$error":"#NUM!"}},{"$f":"IF(ISERROR(INDEX('Employee Data'!$B$4:$B$553,MATCH(Databackup!A547,Employee_Name,0),0)),\"\",(INDEX('Employee Data'!$B$4:$B$553,MATCH(Databackup!A547,Employee_Name,0))))","v":""},{"$f":"IF(ISERROR(INDEX('Employee Data'!$C$4:$C$553,MATCH(Databackup!A547,Employee_Name,0),0)),\"\",(INDEX('Employee Data'!$C$4:$C$553,MATCH(Databackup!A547,Employee_Name,0))))","v":""},{"$f":"IF(ISERROR(INDEX('Employee Data'!$D$4:$D$553,MATCH(Databackup!A547,Employee_Name,0),0)),\"\",(INDEX('Employee Data'!$D$4:$D$553,MATCH(Databackup!A547,Employee_Name,0))))","v":""},{"$f":"IF(ISERROR(INDEX('Employee Data'!$F$4:$F$553,MATCH(Databackup!A547,Employee_Name,0),0)),\"\",(INDEX('Employee Data'!$F$4:$F$553,MATCH(Databackup!A547,Employee_Name,0))))","v":""},{"$f":"IF(ISERROR(INDEX('Employee Data'!$G$4:$G$553,MATCH(Databackup!A547,Employee_Name,0),0)),\"\",(INDEX('Employee Data'!$G$4:$G$553,MATCH(Databackup!A547,Employee_Name,0))))","v":""},{"$f":"IF(ISERROR(INDEX('Employee Data'!$H$4:$H$553,MATCH(Databackup!A547,Employee_Name,0),0)),\"\",(INDEX('Employee Data'!$H$4:$H$553,MATCH(Databackup!A547,Employee_Name,0))))","v":""},{"$f":"IF(ISERROR(INDEX('Employee Data'!$I$4:$I$553,MATCH(Databackup!A547,Employee_Name,0),0)),\"\",(INDEX('Employee Data'!$I$4:$I$553,MATCH(Databackup!A547,Employee_Name,0))))","v":""},{"$f":"IF(ISERROR(INDEX('Employee Data'!$J$4:$J$553,MATCH(Databackup!A547,Employee_Name,0),0)),\"\",(INDEX('Employee Data'!J$4:$J$553,MATCH(Databackup!A547,Employee_Name,0))))","v":""},{"$f":"IF(ISERROR(INDEX('Employee Data'!$K$4:$K$553,MATCH(Databackup!A547,Employee_Name,0),0)),\"\",(INDEX('Employee Data'!$K$4:$K$553,MATCH(Databackup!A547,Employee_Name,0))))","v":""},{"$f":"IF(ISERROR(INDEX('Employee Data'!$L$4:$L$553,MATCH(Databackup!A547,Employee_Name,0),0)),\"\",(INDEX('Employee Data'!$L$4:$L$553,MATCH(Databackup!A547,Employee_Name,0))))","v":""},{"$f":"IF(ISERROR(INDEX('Employee Data'!$M$4:$M$553,MATCH(Databackup!A547,Employee_Name,0),0)),\"\",(INDEX('Employee Data'!$M$4:$M$553,MATCH(Databackup!A547,Employee_Name,0))))","v":""},{"$f":"IF(ISERROR(INDEX('Employee Data'!$N$4:$N$553,MATCH(Databackup!A547,Employee_Name,0),0)),\"\",(INDEX('Employee Data'!$N$4:$N$553,MATCH(Databackup!A547,Employee_Name,0))))","v":""},{"$f":"IF(ISERROR(INDEX('Employee Data'!$O$4:$O$553,MATCH(Databackup!A547,Employee_Name,0),0)),\"\",(INDEX('Employee Data'!$O$4:$O$553,MATCH(Databackup!A547,Employee_Name,0))))","v":""}]
[{"$f":"INDEX(Employee_Name,MATCH(SMALL(IF($A$1='Employee Data'!$I$4:$I$553,'Employee Data'!$B$4:$B$553,\"\"),ROW('Employee Data'!A546)),IF($A$1='Employee Data'!$I$4:$I$553,'Employee Data'!$B$4:$B$553,\"\"),0))","v":{"$error":"#NUM!"}},{"$f":"IF(ISERROR(INDEX('Employee Data'!$B$4:$B$553,MATCH(Databackup!A548,Employee_Name,0),0)),\"\",(INDEX('Employee Data'!$B$4:$B$553,MATCH(Databackup!A548,Employee_Name,0))))","v":""},{"$f":"IF(ISERROR(INDEX('Employee Data'!$C$4:$C$553,MATCH(Databackup!A548,Employee_Name,0),0)),\"\",(INDEX('Employee Data'!$C$4:$C$553,MATCH(Databackup!A548,Employee_Name,0))))","v":""},{"$f":"IF(ISERROR(INDEX('Employee Data'!$D$4:$D$553,MATCH(Databackup!A548,Employee_Name,0),0)),\"\",(INDEX('Employee Data'!$D$4:$D$553,MATCH(Databackup!A548,Employee_Name,0))))","v":""},{"$f":"IF(ISERROR(INDEX('Employee Data'!$F$4:$F$553,MATCH(Databackup!A548,Employee_Name,0),0)),\"\",(INDEX('Employee Data'!$F$4:$F$553,MATCH(Databackup!A548,Employee_Name,0))))","v":""},{"$f":"IF(ISERROR(INDEX('Employee Data'!$G$4:$G$553,MATCH(Databackup!A548,Employee_Name,0),0)),\"\",(INDEX('Employee Data'!$G$4:$G$553,MATCH(Databackup!A548,Employee_Name,0))))","v":""},{"$f":"IF(ISERROR(INDEX('Employee Data'!$H$4:$H$553,MATCH(Databackup!A548,Employee_Name,0),0)),\"\",(INDEX('Employee Data'!$H$4:$H$553,MATCH(Databackup!A548,Employee_Name,0))))","v":""},{"$f":"IF(ISERROR(INDEX('Employee Data'!$I$4:$I$553,MATCH(Databackup!A548,Employee_Name,0),0)),\"\",(INDEX('Employee Data'!$I$4:$I$553,MATCH(Databackup!A548,Employee_Name,0))))","v":""},{"$f":"IF(ISERROR(INDEX('Employee Data'!$J$4:$J$553,MATCH(Databackup!A548,Employee_Name,0),0)),\"\",(INDEX('Employee Data'!J$4:$J$553,MATCH(Databackup!A548,Employee_Name,0))))","v":""},{"$f":"IF(ISERROR(INDEX('Employee Data'!$K$4:$K$553,MATCH(Databackup!A548,Employee_Name,0),0)),\"\",(INDEX('Employee Data'!$K$4:$K$553,MATCH(Databackup!A548,Employee_Name,0))))","v":""},{"$f":"IF(ISERROR(INDEX('Employee Data'!$L$4:$L$553,MATCH(Databackup!A548,Employee_Name,0),0)),\"\",(INDEX('Employee Data'!$L$4:$L$553,MATCH(Databackup!A548,Employee_Name,0))))","v":""},{"$f":"IF(ISERROR(INDEX('Employee Data'!$M$4:$M$553,MATCH(Databackup!A548,Employee_Name,0),0)),\"\",(INDEX('Employee Data'!$M$4:$M$553,MATCH(Databackup!A548,Employee_Name,0))))","v":""},{"$f":"IF(ISERROR(INDEX('Employee Data'!$N$4:$N$553,MATCH(Databackup!A548,Employee_Name,0),0)),\"\",(INDEX('Employee Data'!$N$4:$N$553,MATCH(Databackup!A548,Employee_Name,0))))","v":""},{"$f":"IF(ISERROR(INDEX('Employee Data'!$O$4:$O$553,MATCH(Databackup!A548,Employee_Name,0),0)),\"\",(INDEX('Employee Data'!$O$4:$O$553,MATCH(Databackup!A548,Employee_Name,0))))","v":""}]
[{"$f":"INDEX(Employee_Name,MATCH(SMALL(IF($A$1='Employee Data'!$I$4:$I$553,'Employee Data'!$B$4:$B$553,\"\"),ROW('Employee Data'!A547)),IF($A$1='Employee Data'!$I$4:$I$553,'Employee Data'!$B$4:$B$553,\"\"),0))","v":{"$error":"#NUM!"}},{"$f":"IF(ISERROR(INDEX('Employee Data'!$B$4:$B$553,MATCH(Databackup!A549,Employee_Name,0),0)),\"\",(INDEX('Employee Data'!$B$4:$B$553,MATCH(Databackup!A549,Employee_Name,0))))","v":""},{"$f":"IF(ISERROR(INDEX('Employee Data'!$C$4:$C$553,MATCH(Databackup!A549,Employee_Name,0),0)),\"\",(INDEX('Employee Data'!$C$4:$C$553,MATCH(Databackup!A549,Employee_Name,0))))","v":""},{"$f":"IF(ISERROR(INDEX('Employee Data'!$D$4:$D$553,MATCH(Databackup!A549,Employee_Name,0),0)),\"\",(INDEX('Employee Data'!$D$4:$D$553,MATCH(Databackup!A549,Employee_Name,0))))","v":""},{"$f":"IF(ISERROR(INDEX('Employee Data'!$F$4:$F$553,MATCH(Databackup!A549,Employee_Name,0),0)),\"\",(INDEX('Employee Data'!$F$4:$F$553,MATCH(Databackup!A549,Employee_Name,0))))","v":""},{"$f":"IF(ISERROR(INDEX('Employee Data'!$G$4:$G$553,MATCH(Databackup!A549,Employee_Name,0),0)),\"\",(INDEX('Employee Data'!$G$4:$G$553,MATCH(Databackup!A549,Employee_Name,0))))","v":""},{"$f":"IF(ISERROR(INDEX('Employee Data'!$H$4:$H$553,MATCH(Databackup!A549,Employee_Name,0),0)),\"\",(INDEX('Employee Data'!$H$4:$H$553,MATCH(Databackup!A549,Employee_Name,0))))","v":""},{"$f":"IF(ISERROR(INDEX('Employee Data'!$I$4:$I$553,MATCH(Databackup!A549,Employee_Name,0),0)),\"\",(INDEX('Employee Data'!$I$4:$I$553,MATCH(Databackup!A549,Employee_Name,0))))","v":""},{"$f":"IF(ISERROR(INDEX('Employee Data'!$J$4:$J$553,MATCH(Databackup!A549,Employee_Name,0),0)),\"\",(INDEX('Employee Data'!J$4:$J$553,MATCH(Databackup!A549,Employee_Name,0))))","v":""},{"$f":"IF(ISERROR(INDEX('Employee Data'!$K$4:$K$553,MATCH(Databackup!A549,Employee_Name,0),0)),\"\",(INDEX('Employee Data'!$K$4:$K$553,MATCH(Databackup!A549,Employee_Name,0))))","v":""},{"$f":"IF(ISERROR(INDEX('Employee Data'!$L$4:$L$553,MATCH(Databackup!A549,Employee_Name,0),0)),\"\",(INDEX('Employee Data'!$L$4:$L$553,MATCH(Databackup!A549,Employee_Name,0))))","v":""},{"$f":"IF(ISERROR(INDEX('Employee Data'!$M$4:$M$553,MATCH(Databackup!A549,Employee_Name,0),0)),\"\",(INDEX('Employee Data'!$M$4:$M$553,MATCH(Databackup!A549,Employee_Name,0))))","v":""},{"$f":"IF(ISERROR(INDEX('Employee Data'!$N$4:$N$553,MATCH(Databackup!A549,Employee_Name,0),0)),\"\",(INDEX('Employee Data'!$N$4:$N$553,MATCH(Databackup!A549,Employee_Name,0))))","v":""},{"$f":"IF(ISERROR(INDEX('Employee Data'!$O$4:$O$553,MATCH(Databackup!A549,Employee_Name,0),0)),\"\",(INDEX('Employee Data'!$O$4:$O$553,MATCH(Databackup!A549,Employee_Name,0))))","v":""}]
[{"$f":"INDEX(Employee_Name,MATCH(SMALL(IF($A$1='Employee Data'!$I$4:$I$553,'Employee Data'!$B$4:$B$553,\"\"),ROW('Employee Data'!A548)),IF($A$1='Employee Data'!$I$4:$I$553,'Employee Data'!$B$4:$B$553,\"\"),0))","v":{"$error":"#NUM!"}},{"$f":"IF(ISERROR(INDEX('Employee Data'!$B$4:$B$553,MATCH(Databackup!A550,Employee_Name,0),0)),\"\",(INDEX('Employee Data'!$B$4:$B$553,MATCH(Databackup!A550,Employee_Name,0))))","v":""},{"$f":"IF(ISERROR(INDEX('Employee Data'!$C$4:$C$553,MATCH(Databackup!A550,Employee_Name,0),0)),\"\",(INDEX('Employee Data'!$C$4:$C$553,MATCH(Databackup!A550,Employee_Name,0))))","v":""},{"$f":"IF(ISERROR(INDEX('Employee Data'!$D$4:$D$553,MATCH(Databackup!A550,Employee_Name,0),0)),\"\",(INDEX('Employee Data'!$D$4:$D$553,MATCH(Databackup!A550,Employee_Name,0))))","v":""},{"$f":"IF(ISERROR(INDEX('Employee Data'!$F$4:$F$553,MATCH(Databackup!A550,Employee_Name,0),0)),\"\",(INDEX('Employee Data'!$F$4:$F$553,MATCH(Databackup!A550,Employee_Name,0))))","v":""},{"$f":"IF(ISERROR(INDEX('Employee Data'!$G$4:$G$553,MATCH(Databackup!A550,Employee_Name,0),0)),\"\",(INDEX('Employee Data'!$G$4:$G$553,MATCH(Databackup!A550,Employee_Name,0))))","v":""},{"$f":"IF(ISERROR(INDEX('Employee Data'!$H$4:$H$553,MATCH(Databackup!A550,Employee_Name,0),0)),\"\",(INDEX('Employee Data'!$H$4:$H$553,MATCH(Databackup!A550,Employee_Name,0))))","v":""},{"$f":"IF(ISERROR(INDEX('Employee Data'!$I$4:$I$553,MATCH(Databackup!A550,Employee_Name,0),0)),\"\",(INDEX('Employee Data'!$I$4:$I$553,MATCH(Databackup!A550,Employee_Name,0))))","v":""},{"$f":"IF(ISERROR(INDEX('Employee Data'!$J$4:$J$553,MATCH(Databackup!A550,Employee_Name,0),0)),\"\",(INDEX('Employee Data'!J$4:$J$553,MATCH(Databackup!A550,Employee_Name,0))))","v":""},{"$f":"IF(ISERROR(INDEX('Employee Data'!$K$4:$K$553,MATCH(Databackup!A550,Employee_Name,0),0)),\"\",(INDEX('Employee Data'!$K$4:$K$553,MATCH(Databackup!A550,Employee_Name,0))))","v":""},{"$f":"IF(ISERROR(INDEX('Employee Data'!$L$4:$L$553,MATCH(Databackup!A550,Employee_Name,0),0)),\"\",(INDEX('Employee Data'!$L$4:$L$553,MATCH(Databackup!A550,Employee_Name,0))))","v":""},{"$f":"IF(ISERROR(INDEX('Employee Data'!$M$4:$M$553,MATCH(Databackup!A550,Employee_Name,0),0)),\"\",(INDEX('Employee Data'!$M$4:$M$553,MATCH(Databackup!A550,Employee_Name,0))))","v":""},{"$f":"IF(ISERROR(INDEX('Employee Data'!$N$4:$N$553,MATCH(Databackup!A550,Employee_Name,0),0)),\"\",(INDEX('Employee Data'!$N$4:$N$553,MATCH(Databackup!A550,Employee_Name,0))))","v":""},{"$f":"IF(ISERROR(INDEX('Employee Data'!$O$4:$O$553,MATCH(Databackup!A550,Employee_Name,0),0)),\"\",(INDEX('Employee Data'!$O$4:$O$553,MATCH(Databackup!A550,Employee_Name,0))))","v":""}]
[{"$f":"INDEX(Employee_Name,MATCH(SMALL(IF($A$1='Employee Data'!$I$4:$I$553,'Employee Data'!$B$4:$B$553,\"\"),ROW('Employee Data'!A549)),IF($A$1='Employee Data'!$I$4:$I$553,'Employee Data'!$B$4:$B$553,\"\"),0))","v":{"$error":"#NUM!"}},{"$f":"IF(ISERROR(INDEX('Employee Data'!$B$4:$B$553,MATCH(Databackup!A551,Employee_Name,0),0)),\"\",(INDEX('Employee Data'!$B$4:$B$553,MATCH(Databackup!A551,Employee_Name,0))))","v":""},{"$f":"IF(ISERROR(INDEX('Employee Data'!$C$4:$C$553,MATCH(Databackup!A551,Employee_Name,0),0)),\"\",(INDEX('Employee Data'!$C$4:$C$553,MATCH(Databackup!A551,Employee_Name,0))))","v":""},{"$f":"IF(ISERROR(INDEX('Employee Data'!$D$4:$D$553,MATCH(Databackup!A551,Employee_Name,0),0)),\"\",(INDEX('Employee Data'!$D$4:$D$553,MATCH(Databackup!A551,Employee_Name,0))))","v":""},{"$f":"IF(ISERROR(INDEX('Employee Data'!$F$4:$F$553,MATCH(Databackup!A551,Employee_Name,0),0)),\"\",(INDEX('Employee Data'!$F$4:$F$553,MATCH(Databackup!A551,Employee_Name,0))))","v":""},{"$f":"IF(ISERROR(INDEX('Employee Data'!$G$4:$G$553,MATCH(Databackup!A551,Employee_Name,0),0)),\"\",(INDEX('Employee Data'!$G$4:$G$553,MATCH(Databackup!A551,Employee_Name,0))))","v":""},{"$f":"IF(ISERROR(INDEX('Employee Data'!$H$4:$H$553,MATCH(Databackup!A551,Employee_Name,0),0)),\"\",(INDEX('Employee Data'!$H$4:$H$553,MATCH(Databackup!A551,Employee_Name,0))))","v":""},{"$f":"IF(ISERROR(INDEX('Employee Data'!$I$4:$I$553,MATCH(Databackup!A551,Employee_Name,0),0)),\"\",(INDEX('Employee Data'!$I$4:$I$553,MATCH(Databackup!A551,Employee_Name,0))))","v":""},{"$f":"IF(ISERROR(INDEX('Employee Data'!$J$4:$J$553,MATCH(Databackup!A551,Employee_Name,0),0)),\"\",(INDEX('Employee Data'!J$4:$J$553,MATCH(Databackup!A551,Employee_Name,0))))","v":""},{"$f":"IF(ISERROR(INDEX('Employee Data'!$K$4:$K$553,MATCH(Databackup!A551,Employee_Name,0),0)),\"\",(INDEX('Employee Data'!$K$4:$K$553,MATCH(Databackup!A551,Employee_Name,0))))","v":""},{"$f":"IF(ISERROR(INDEX('Employee Data'!$L$4:$L$553,MATCH(Databackup!A551,Employee_Name,0),0)),\"\",(INDEX('Employee Data'!$L$4:$L$553,MATCH(Databackup!A551,Employee_Name,0))))","v":""},{"$f":"IF(ISERROR(INDEX('Employee Data'!$M$4:$M$553,MATCH(Databackup!A551,Employee_Name,0),0)),\"\",(INDEX('Employee Data'!$M$4:$M$553,MATCH(Databackup!A551,Employee_Name,0))))","v":""},{"$f":"IF(ISERROR(INDEX('Employee Data'!$N$4:$N$553,MATCH(Databackup!A551,Employee_Name,0),0)),\"\",(INDEX('Employee Data'!$N$4:$N$553,MATCH(Databackup!A551,Employee_Name,0))))","v":""},{"$f":"IF(ISERROR(INDEX('Employee Data'!$O$4:$O$553,MATCH(Databackup!A551,Employee_Name,0),0)),\"\",(INDEX('Employee Data'!$O$4:$O$553,MATCH(Databackup!A551,Employee_Name,0))))","v":""}]
[{"$f":"INDEX(Employee_Name,MATCH(SMALL(IF($A$1='Employee Data'!$I$4:$I$553,'Employee Data'!$B$4:$B$553,\"\"),ROW('Employee Data'!A550)),IF($A$1='Employee Data'!$I$4:$I$553,'Employee Data'!$B$4:$B$553,\"\"),0))","v":{"$error":"#NUM!"}},{"$f":"IF(ISERROR(INDEX('Employee Data'!$B$4:$B$553,MATCH(Databackup!A552,Employee_Name,0),0)),\"\",(INDEX('Employee Data'!$B$4:$B$553,MATCH(Databackup!A552,Employee_Name,0))))","v":""},{"$f":"IF(ISERROR(INDEX('Employee Data'!$C$4:$C$553,MATCH(Databackup!A552,Employee_Name,0),0)),\"\",(INDEX('Employee Data'!$C$4:$C$553,MATCH(Databackup!A552,Employee_Name,0))))","v":""},{"$f":"IF(ISERROR(INDEX('Employee Data'!$D$4:$D$553,MATCH(Databackup!A552,Employee_Name,0),0)),\"\",(INDEX('Employee Data'!$D$4:$D$553,MATCH(Databackup!A552,Employee_Name,0))))","v":""},{"$f":"IF(ISERROR(INDEX('Employee Data'!$F$4:$F$553,MATCH(Databackup!A552,Employee_Name,0),0)),\"\",(INDEX('Employee Data'!$F$4:$F$553,MATCH(Databackup!A552,Employee_Name,0))))","v":""},{"$f":"IF(ISERROR(INDEX('Employee Data'!$G$4:$G$553,MATCH(Databackup!A552,Employee_Name,0),0)),\"\",(INDEX('Employee Data'!$G$4:$G$553,MATCH(Databackup!A552,Employee_Name,0))))","v":""},{"$f":"IF(ISERROR(INDEX('Employee Data'!$H$4:$H$553,MATCH(Databackup!A552,Employee_Name,0),0)),\"\",(INDEX('Employee Data'!$H$4:$H$553,MATCH(Databackup!A552,Employee_Name,0))))","v":""},{"$f":"IF(ISERROR(INDEX('Employee Data'!$I$4:$I$553,MATCH(Databackup!A552,Employee_Name,0),0)),\"\",(INDEX('Employee Data'!$I$4:$I$553,MATCH(Databackup!A552,Employee_Name,0))))","v":""},{"$f":"IF(ISERROR(INDEX('Employee Data'!$J$4:$J$553,MATCH(Databackup!A552,Employee_Name,0),0)),\"\",(INDEX('Employee Data'!J$4:$J$553,MATCH(Databackup!A552,Employee_Name,0))))","v":""},{"$f":"IF(ISERROR(INDEX('Employee Data'!$K$4:$K$553,MATCH(Databackup!A552,Employee_Name,0),0)),\"\",(INDEX('Employee Data'!$K$4:$K$553,MATCH(Databackup!A552,Employee_Name,0))))","v":""},{"$f":"IF(ISERROR(INDEX('Employee Data'!$L$4:$L$553,MATCH(Databackup!A552,Employee_Name,0),0)),\"\",(INDEX('Employee Data'!$L$4:$L$553,MATCH(Databackup!A552,Employee_Name,0))))","v":""},{"$f":"IF(ISERROR(INDEX('Employee Data'!$M$4:$M$553,MATCH(Databackup!A552,Employee_Name,0),0)),\"\",(INDEX('Employee Data'!$M$4:$M$553,MATCH(Databackup!A552,Employee_Name,0))))","v":""},{"$f":"IF(ISERROR(INDEX('Employee Data'!$N$4:$N$553,MATCH(Databackup!A552,Employee_Name,0),0)),\"\",(INDEX('Employee Data'!$N$4:$N$553,MATCH(Databackup!A552,Employee_Name,0))))","v":""},{"$f":"IF(ISERROR(INDEX('Employee Data'!$O$4:$O$553,MATCH(Databackup!A552,Employee_Name,0),0)),\"\",(INDEX('Employee Data'!$O$4:$O$553,MATCH(Databackup!A552,Employee_Name,0))))","v":""}]
[{"$f":"INDEX(Employee_Name,MATCH(SMALL(IF($A$1='Employee Data'!$I$4:$I$553,'Employee Data'!$B$4:$B$553,\"\"),ROW('Employee Data'!A551)),IF($A$1='Employee Data'!$I$4:$I$553,'Employee Data'!$B$4:$B$553,\"\"),0))","v":{"$error":"#NUM!"}},{"$f":"IF(ISERROR(INDEX('Employee Data'!$B$4:$B$553,MATCH(Databackup!A553,Employee_Name,0),0)),\"\",(INDEX('Employee Data'!$B$4:$B$553,MATCH(Databackup!A553,Employee_Name,0))))","v":""},{"$f":"IF(ISERROR(INDEX('Employee Data'!$C$4:$C$553,MATCH(Databackup!A553,Employee_Name,0),0)),\"\",(INDEX('Employee Data'!$C$4:$C$553,MATCH(Databackup!A553,Employee_Name,0))))","v":""},{"$f":"IF(ISERROR(INDEX('Employee Data'!$D$4:$D$553,MATCH(Databackup!A553,Employee_Name,0),0)),\"\",(INDEX('Employee Data'!$D$4:$D$553,MATCH(Databackup!A553,Employee_Name,0))))","v":""},{"$f":"IF(ISERROR(INDEX('Employee Data'!$F$4:$F$553,MATCH(Databackup!A553,Employee_Name,0),0)),\"\",(INDEX('Employee Data'!$F$4:$F$553,MATCH(Databackup!A553,Employee_Name,0))))","v":""},{"$f":"IF(ISERROR(INDEX('Employee Data'!$G$4:$G$553,MATCH(Databackup!A553,Employee_Name,0),0)),\"\",(INDEX('Employee Data'!$G$4:$G$553,MATCH(Databackup!A553,Employee_Name,0))))","v":""},{"$f":"IF(ISERROR(INDEX('Employee Data'!$H$4:$H$553,MATCH(Databackup!A553,Employee_Name,0),0)),\"\",(INDEX('Employee Data'!$H$4:$H$553,MATCH(Databackup!A553,Employee_Name,0))))","v":""},{"$f":"IF(ISERROR(INDEX('Employee Data'!$I$4:$I$553,MATCH(Databackup!A553,Employee_Name,0),0)),\"\",(INDEX('Employee Data'!$I$4:$I$553,MATCH(Databackup!A553,Employee_Name,0))))","v":""},{"$f":"IF(ISERROR(INDEX('Employee Data'!$J$4:$J$553,MATCH(Databackup!A553,Employee_Name,0),0)),\"\",(INDEX('Employee Data'!J$4:$J$553,MATCH(Databackup!A553,Employee_Name,0))))","v":""},{"$f":"IF(ISERROR(INDEX('Employee Data'!$K$4:$K$553,MATCH(Databackup!A553,Employee_Name,0),0)),\"\",(INDEX('Employee Data'!$K$4:$K$553,MATCH(Databackup!A553,Employee_Name,0))))","v":""},{"$f":"IF(ISERROR(INDEX('Employee Data'!$L$4:$L$553,MATCH(Databackup!A553,Employee_Name,0),0)),\"\",(INDEX('Employee Data'!$L$4:$L$553,MATCH(Databackup!A553,Employee_Name,0))))","v":""},{"$f":"IF(ISERROR(INDEX('Employee Data'!$M$4:$M$553,MATCH(Databackup!A553,Employee_Name,0),0)),\"\",(INDEX('Employee Data'!$M$4:$M$553,MATCH(Databackup!A553,Employee_Name,0))))","v":""},{"$f":"IF(ISERROR(INDEX('Employee Data'!$N$4:$N$553,MATCH(Databackup!A553,Employee_Name,0),0)),\"\",(INDEX('Employee Data'!$N$4:$N$553,MATCH(Databackup!A553,Employee_Name,0))))","v":""},{"$f":"IF(ISERROR(INDEX('Employee Data'!$O$4:$O$553,MATCH(Databackup!A553,Employee_Name,0),0)),\"\",(INDEX('Employee Data'!$O$4:$O$553,MATCH(Databackup!A553,Employee_Name,0))))","v":""}]
[{"$f":"INDEX(Employee_Name,MATCH(SMALL(IF($A$1='Employee Data'!$I$4:$I$553,'Employee Data'!$B$4:$B$553,\"\"),ROW('Employee Data'!A552)),IF($A$1='Employee Data'!$I$4:$I$553,'Employee Data'!$B$4:$B$553,\"\"),0))","v":{"$error":"#NUM!"}},{"$f":"IF(ISERROR(INDEX('Employee Data'!$B$4:$B$553,MATCH(Databackup!A554,Employee_Name,0),0)),\"\",(INDEX('Employee Data'!$B$4:$B$553,MATCH(Databackup!A554,Employee_Name,0))))","v":""},{"$f":"IF(ISERROR(INDEX('Employee Data'!$C$4:$C$553,MATCH(Databackup!A554,Employee_Name,0),0)),\"\",(INDEX('Employee Data'!$C$4:$C$553,MATCH(Databackup!A554,Employee_Name,0))))","v":""},{"$f":"IF(ISERROR(INDEX('Employee Data'!$D$4:$D$553,MATCH(Databackup!A554,Employee_Name,0),0)),\"\",(INDEX('Employee Data'!$D$4:$D$553,MATCH(Databackup!A554,Employee_Name,0))))","v":""},{"$f":"IF(ISERROR(INDEX('Employee Data'!$F$4:$F$553,MATCH(Databackup!A554,Employee_Name,0),0)),\"\",(INDEX('Employee Data'!$F$4:$F$553,MATCH(Databackup!A554,Employee_Name,0))))","v":""},{"$f":"IF(ISERROR(INDEX('Employee Data'!$G$4:$G$553,MATCH(Databackup!A554,Employee_Name,0),0)),\"\",(INDEX('Employee Data'!$G$4:$G$553,MATCH(Databackup!A554,Employee_Name,0))))","v":""},{"$f":"IF(ISERROR(INDEX('Employee Data'!$H$4:$H$553,MATCH(Databackup!A554,Employee_Name,0),0)),\"\",(INDEX('Employee Data'!$H$4:$H$553,MATCH(Databackup!A554,Employee_Name,0))))","v":""},{"$f":"IF(ISERROR(INDEX('Employee Data'!$I$4:$I$553,MATCH(Databackup!A554,Employee_Name,0),0)),\"\",(INDEX('Employee Data'!$I$4:$I$553,MATCH(Databackup!A554,Employee_Name,0))))","v":""},{"$f":"IF(ISERROR(INDEX('Employee Data'!$J$4:$J$553,MATCH(Databackup!A554,Employee_Name,0),0)),\"\",(INDEX('Employee Data'!J$4:$J$553,MATCH(Databackup!A554,Employee_Name,0))))","v":""},{"$f":"IF(ISERROR(INDEX('Employee Data'!$K$4:$K$553,MATCH(Databackup!A554,Employee_Name,0),0)),\"\",(INDEX('Employee Data'!$K$4:$K$553,MATCH(Databackup!A554,Employee_Name,0))))","v":""},{"$f":"IF(ISERROR(INDEX('Employee Data'!$L$4:$L$553,MATCH(Databackup!A554,Employee_Name,0),0)),\"\",(INDEX('Employee Data'!$L$4:$L$553,MATCH(Databackup!A554,Employee_Name,0))))","v":""},{"$f":"IF(ISERROR(INDEX('Employee Data'!$M$4:$M$553,MATCH(Databackup!A554,Employee_Name,0),0)),\"\",(INDEX('Employee Data'!$M$4:$M$553,MATCH(Databackup!A554,Employee_Name,0))))","v":""},{"$f":"IF(ISERROR(INDEX('Employee Data'!$N$4:$N$553,MATCH(Databackup!A554,Employee_Name,0),0)),\"\",(INDEX('Employee Data'!$N$4:$N$553,MATCH(Databackup!A554,Employee_Name,0))))","v":""},{"$f":"IF(ISERROR(INDEX('Employee Data'!$O$4:$O$553,MATCH(Databackup!A554,Employee_Name,0),0)),\"\",(INDEX('Employee Data'!$O$4:$O$553,MATCH(Databackup!A554,Employee_Name,0))))","v":""}]
["End_line","End_line","End_line","End_line","End_line","End_line","End_line","End_line","End_line","End_line","End_line","End_line","End_line","End_line"]

{"sheet":"Table_Incr","index":7,"n_rows":85,"n_cols":100,"rows_kept":85,"cut":false,"hidden":true,"merged":[[84,1,84,9],[78,0,79,0],[78,1,79,1],[78,2,79,12],[80,0,81,0],[80,1,81,1],[80,2,81,12],[72,0,72,12],[73,0,74,0],[73,1,74,12],[75,0,76,0],[75,1,76,12],[70,2,70,4],[70,5,70,6],[70,7,70,12],[71,2,71,4],[71,5,71,6],[71,7,71,12],[68,2,68,4],[68,5,68,6],[68,7,68,12],[69,2,69,4],[69,5,69,6],[69,7,69,12],[66,2,66,4],[66,5,66,6],[66,7,66,12],[67,2,67,4],[67,5,67,6],[67,7,67,12],[33,2,33,3],[32,2,32,3],[31,5,31,6],[33,10,33,14],[34,10,34,14],[2,4,4,4],[5,83,5,92],[39,12,39,17],[35,10,35,14],[36,10,36,14],[32,10,32,14],[37,10,37,17],[38,10,38,11],[38,12,38,16]]}
[]
[]
[null,null,null,null,"Probation Period Complete in Fix Pay",null,null,null,null,null,null,null,null,null,null,null,null,null,null,null,null,null,null,null,null,null,null,null,null,null,null,null,null,null,null,null,null,null,null,null,null,null,null,null,null,null,null,null,null,null,null,null,null,null,null,null,null,null,null,null,null,null,null,null,null,null,null,null,null,null,null,null,null,null,null,null,null,null,null,null,null,null,null,null,"16.18.1.22.5.19.8√97263.0458756048"]
[]
[null,null,null,null,null,null,null,null,null,null,null,null,null,null,null,null,null,null,null,null,null,null,null,null,null,null,null,null,null,null,null,null,null,null,null,null,null,null,null,null,null,null,null,null,null,null,null,null,null,null,null,null,null,null,null,null,null,null,null,null,null,null,null,null,null,null,null,null,null,null,null,null,null,null,null,null,{"$f":"$F$35","v":44000},{"$f":"'Data Entry'!$I$13","v":42700}]
[null,"Cond.","Pay in existing level","Next level in existing level","Minimum value","Existing Grade Pay","Existing Grade Pay No.","Levels in No","Levels",1,2,3,4,5,6,7,8,9,10,11,12,13,14,15,16,17,18,19,20,21,22,23,24,25,26,27,28,29,30,31,32,33,34,35,36,37,38,39,40,"Levels in No",null,"Levels","Level_1","Level_2","Level_3","Level_4","Level_5","Level_6","Level_7","Level_8","Level_9","Level_10","Level_11","Level_12","Level_13","Level_14","Level_15","Level_16","Level_17","Level_18","Level_19","Level_20","Level_21","Level_22","Level_23","Level_24","Matrix value",null,null,"Value in text","Levels",null,null,"PRINTED MATTER ON FOOTER",null,null,null,null,null,null,null,null,null,null,"Name of Treasury",null,null,"Value in text","Mini Pay","Max. Pay"]
[null,{"$f":"IF($G$34=I7,\"YES\",\"NO\")","v":"NO"},{"$f":"SMALL(J7:AW7,COUNTIF(J7:AW7,\"<\"&$F$34)+1)","v":43100},{"$f":"SMALL(J7:AW7,COUNTIF(J7:AW7,\"<\"&$F$35)+1)","v":44400},{"$f":"MIN(J7:AW7)","v":17700},1700,2,1,"L-1",17700,18200,18700,19300,19900,20500,21100,21700,22400,23100,23800,24500,25200,26000,26800,27600,28400,29300,30200,31100,32000,33000,34000,35000,36100,37200,38300,39400,40600,41800,43100,44400,45700,47100,48500,50000,51500,53000,54600,56200,1,{"$f":"INDEX(J7:AW7,MATCH($F$35,J7:AW7,0))","v":{"$error":"#N/A"}},1,17700,17900,18200,19200,20800,21500,22400,26300,28700,33800,37800,44300,53100,56100,60700,67300,71000,75300,79900,88900,123100,129700,145800,148800,{"$f":"INDEX(BA7:BX7,MATCH($CB$32,Pay_level,0))","v":37800},{"$f":"INDEX(BA7:BX7,MATCH($CB$32,Pay_level,0))","v":37800},null,"Level_1","L-1",null,null,"CONDITION","YES",null,null,null,null,"a",1,"p",{"$f":"VLOOKUP(CN7,$CL$7:$CM$37,2)","v":16},null,"AJMER",null,null,"Level_1",17700,56200]
[null,"NO",43500,{"$f":"INDEX(J8:AW8,MATCH(TRUE,INDEX(J8:AW8>=$F$35,0),))","v":44800},17900,1750,3,2,"L-2",17900,18400,19000,19600,20200,20800,21400,22000,22700,23400,24100,24800,25500,26300,27100,27900,28700,29600,30500,31400,32300,33300,34300,35300,36400,37500,38600,39800,41000,42200,43500,44800,46100,47500,48900,50400,51900,53500,55100,56800,2,{"$error":"#N/A"},2,18200,18400,18700,19800,21400,22100,23100,27100,29600,34800,38900,45600,54700,57800,62500,69300,73100,77600,82300,91600,126800,133600,150200,153300,{"$f":"INDEX(BA8:BX8,MATCH($CB$32,Pay_level,0))","v":38900},38900,null,"Level_2","L-2",null,null,"MATTER",{"$f":"IF(CG7=\"YES\",\"9460100093\",\"\")","v":"9460100093"},null,null,null,null,"b",2,"r",{"$f":"VLOOKUP(CN8,$CL$7:$CM$37,2)","v":18},null,"ALWAR",null,null,"Level_2",17900,56800]
[null,"NO",43100,44400,18200,1900,4,3,"L-3",18200,18700,19300,19900,20500,21100,21700,22400,23100,23800,24500,25200,26000,26800,27600,28400,29300,30200,31100,32000,33000,34000,35000,36100,37200,38300,39400,40600,41800,43100,44400,45700,47100,48500,50000,51500,53000,54600,56200,57900,3,{"$error":"#N/A"},3,18700,19000,19300,20400,22000,22800,23800,27900,30500,35800,40100,47000,56300,59500,64400,71400,75300,79900,84800,94300,130600,137600,154700,157900,40100,40100,null,"Level_3","L-3",null,null,null,{"$f":"SQRT(CG8)","v":97263.045875604774},"√",{"$f":"CG9*CG9","v":9460100092.9999981},null,null,"c",3,"a",1,null,"BANSWARA ",null,null,"Level_3",18200,57900]
[null,"NO",43900,45200,19200,2000,5,4,"L-4",19200,19800,20400,21000,21600,22200,22900,23600,24300,25000,25800,26600,27400,28200,29000,29900,30800,31700,32700,33700,34700,35700,36800,37900,39000,40200,41400,42600,43900,45200,46600,48000,49400,50900,52400,54000,55600,57300,59000,60800,4,{"$error":"#N/A"},4,19300,19600,19900,21000,22700,23500,24500,28700,31400,36900,41300,48400,58000,61300,66300,73500,77600,82300,87300,97100,134500,141700,159300,162600,41300,41300,null,"Level_4","L-4",null,null,null,{"$f":"CONCATENATE(CO7,\".\",CO8,\".\",CO9,\".\",CO10,\".\",CO11,\".\",CO12,\".\",CO13)","v":"16.18.1.22.5.19.8"},null,null,null,null,"d",4,"v",22,null,"BARAN",null,null,"Level_4",19200,60800]
[null,"NO",43500,44800,20800,2400,9,5,"L-5",20800,21400,22000,22700,23400,24100,24800,25500,26300,27100,27900,28700,29600,30500,31400,32300,33300,34300,35300,36400,37500,38600,39800,41000,42200,43500,44800,46100,47500,48900,50400,51900,53500,55100,56800,58500,60300,62100,64000,65900,5,{"$error":"#N/A"},5,19900,20200,20500,21600,23400,24200,25200,29600,32300,38000,42500,49900,59700,63100,68300,75700,79900,84800,89900,100000,138500,146000,164100,167500,42500,42500,null,"Level_5","L-5",null,null,null,{"$f":"CONCATENATE(CG10,CH9,CG9)","v":"16.18.1.22.5.19.8√97263.0458756048"},null,null,null,null,"e",5,"e",5,null,"BARMER",null,null,"Level_5",20800,65900]
[null,"NO",43600,44900,21500,2400,"9A",6,"L-6",21500,22100,22800,23500,24200,24900,25600,26400,27200,28000,28800,29700,30600,31500,32400,33400,34400,35400,36500,37600,38700,39900,41100,42300,43600,44900,46200,47600,49000,50500,52000,53600,55200,56900,58600,60400,62200,64100,66000,68000,6,{"$error":"#N/A"},6,20500,20800,21100,22200,24100,24900,26000,30500,33300,39100,43800,51400,61500,65000,70300,78000,82300,87300,92600,103000,142700,150400,169000,172500,43800,43800,null,"Level_6","L-6",null,null,null,null,null,null,null,null,"f",6,"s",19,null,"BHARATPUR ",null,null,"Level_6",21500,68000]
[null,"NO",43100,44400,22400,2400,"9B",7,"L-7",22400,23100,23800,24500,25200,26000,26800,27600,28400,29300,30200,31100,32000,33000,34000,35000,36100,37200,38300,39400,40600,41800,43100,44400,45700,47100,48500,50000,51500,53000,54600,56200,57900,59600,61400,63200,65100,67100,69100,71200,7,{"$error":"#N/A"},7,21100,21400,21700,22900,24800,25600,26800,31400,34300,40300,45100,52900,63300,67000,72400,80300,84800,89900,95400,106100,147000,154900,174100,177700,45100,45100,null,"Level_7","L-7",null,null,"Today Date",null,{"$f":"TODAY()","v":"2023-06-16"},null,null,null,"g",7,"h",8,null,"BHILWARA",null,null,"Level_7",22400,71200]
[null,"NO",43500,44800,26300,2800,10,8,"L-8",26300,27100,27900,28700,29600,30500,31400,32300,33300,34300,35300,36400,37500,38600,39800,41000,42200,43500,44800,46100,47500,48900,50400,51900,53500,55100,56800,58500,60300,62100,64000,65900,67900,69900,72000,74200,76400,78700,81100,83500,8,{"$error":"#N/A"},8,21700,22000,22400,23600,25500,26400,27600,32300,35300,41500,46500,54500,65200,69000,74600,82700,87300,92600,98300,109300,151400,159500,179300,183000,46500,46500,null,"Level_8","L-8",null,null,null,"day",{"$f":"DAY(CH13)","v":16},{"$f":"CH14","v":16},null,null,"h",8,null,null,null,"BIKANER",null,null,"Level_8",26300,83500]
[null,"NO",43500,44800,28700,2800,"10A",9,"L-9",28700,29600,30500,31400,32300,33300,34300,35300,36400,37500,38600,39800,41000,42200,43500,44800,46100,47500,48900,50400,51900,53500,55100,56800,58500,60300,62100,64000,65900,67900,69900,72000,74200,76400,78700,81100,83500,86000,88600,91300,9,{"$f":"INDEX(J15:AW15,MATCH($F$35,J15:AW15,0))","v":{"$error":"#N/A"}},9,22400,22700,23100,24300,26300,27200,28400,33300,36400,42700,47900,56100,67200,71100,76800,85200,89900,95400,101200,112600,155900,164300,184700,188500,47900,47900,null,"Level_9","L-9",null,null,null,"month",{"$f":"MONTH(CH13)","v":6},{"$f":"INDEX($CL$7:$CL$32,MATCH(CH15,$CM$7:$CM$37,0))","v":"f"},null,null,"i",9,null,null,null,"BUNDI",null,null,"Level_9",28700,91300]
[null,"YES",42700,44000,33800,3600,11,10,"L-10",33800,34800,35800,36900,38000,39100,40300,41500,42700,44000,45300,46700,48100,49500,51000,52500,54100,55700,57400,59100,60900,62700,64600,66500,68500,70600,72700,74900,77100,79400,81800,84300,86800,89400,92100,94900,97700,100600,103600,106700,10,{"$f":"INDEX(J16:AW16,MATCH($F$35,J16:AW16,0))","v":44000},10,23100,23400,23800,25000,27100,28000,29300,34300,37500,44000,49300,57800,69200,73200,79100,87800,92600,98300,104200,116000,160600,169200,190200,194200,49300,49300,null,"Level_10","L-10",null,null,null,"year",{"$f":"YEAR(CH13)-2000","v":23},{"$f":"INDEX($CL$7:$CL$32,MATCH(CH16,$CM$7:$CM$37,0))","v":"w"},null,null,"j",10,null,null,null,"CHITTORGARH ",null,null,"Level_10",33800,106700]
[null,"NO",43800,45100,37800,4200,12,11,"L-11",37800,38900,40100,41300,42500,43800,45100,46500,47900,49300,50800,52300,53900,55500,57200,58900,60700,62500,64400,66300,68300,70300,72400,74600,76800,79100,81500,83900,86400,89000,91700,94500,97300,100200,103200,106300,109500,112800,116200,119700,11,{"$error":"#N/A"},11,23800,24100,24500,25800,27900,28800,30200,35300,38600,45300,50800,59500,71300,75400,81500,90400,95400,101200,107300,119500,165400,174300,195900,200000,50800,50800,null,"Level_11","L-11",null,null,null,{"$f":"CONCATENATE(CI16,\"-\",CI15,\"-\",CI14)","v":"w-f-16"},null,null,null,null,"k",11,null,null,null,"CHURU",null,null,"Level_11",37800,119700]
[null,"NO",44300,44300,44300,4800,14,12,"L-12",44300,45600,47000,48400,49900,51400,52900,54500,56100,57800,59500,61300,63100,65000,67000,69000,71100,73200,75400,77700,80000,82400,84900,87400,90000,92700,95500,98400,101400,104400,107500,110700,114000,117400,120900,124500,128200,132000,136000,140100,12,{"$error":"#N/A"},12,24500,24800,25200,26600,28700,29700,31100,36400,39800,46700,52300,61300,73400,77700,83900,93100,98300,104200,110500,123100,170400,179500,201800,206000,52300,52300,null,"Level_12","L-12",null,null,null,null,null,null,null,null,"l",12,null,null,null,"DAUSA",null,null,"Level_12",44300,140100]
[null,"NO",53100,53100,53100,5400,15,13,"L-13",53100,54700,56300,58000,59700,61500,63300,65200,67200,69200,71300,73400,75600,77900,80200,82600,85100,87700,90300,93000,95800,98700,101700,104800,107900,111100,114400,117800,121300,124900,128600,132500,136500,140600,144800,149100,153600,158200,162900,167800,13,{"$error":"#N/A"},13,25200,25500,26000,27400,29600,30600,32000,37500,41000,48100,53900,63100,75600,80000,86400,95900,101200,107300,113800,126800,175500,184900,207900,212200,53900,53900,null,"Level_13","L-13",null,null,null,null,null,null,null,null,"m",13,null,null,null,"DHOLPUR",null,null,"Level_13",53100,167800]
[null,"NO",56100,56100,56100,5400,15,14,"L-14",56100,57800,59500,61300,63100,65000,67000,69000,71100,73200,75400,77700,80000,82400,84900,87400,90000,92700,95500,98400,101400,104400,107500,110700,114000,117400,120900,124500,128200,132000,136000,140100,144300,148600,153100,157700,162400,167300,172300,177500,14,{"$error":"#N/A"},14,26000,26300,26800,28200,30500,31500,33000,38600,42200,49500,55500,65000,77900,82400,89000,98800,104200,110500,117200,130600,180800,190400,214100,218600,55500,55500,null,"Level_14","L-14",null,null,null,null,null,null,null,null,"n",14,null,null,null,"DUNGARPUR",null,null,"Level_14",56100,177500]
[null,"NO",60700,60700,60700,6000,16,15,"L-15",60700,62500,64400,66300,68300,70300,72400,74600,76800,79100,81500,83900,86400,89000,91700,94500,97300,100200,103200,106300,109500,112800,116200,119700,123300,127000,130800,134700,138700,142900,147200,151600,156100,160800,165600,170600,175700,181000,186400,192000,15,{"$error":"#N/A"},15,26800,27100,27600,29000,31400,32400,34000,39800,43500,51000,57200,67000,80200,84900,91700,101800,107300,113800,120700,134500,186200,196100,null,null,57200,57200,null,"Level_15","L-15",null,null,null,null,null,null,null,null,"o",15,null,null,null,"GANGANAGAR ",null,null,"Level_15",60700,192000]
[null,"NO",67300,67300,67300,6600,17,16,"L-16",67300,69300,71400,73500,75700,78000,80300,82700,85200,87800,90400,93100,95900,98800,101800,104900,108000,111200,114500,117900,121400,125000,128800,132700,136700,140800,145000,149400,153900,158500,163300,168200,173200,178400,183800,189300,195000,null,null,null,16,{"$error":"#N/A"},16,27600,27900,28400,29900,32300,33400,35000,41000,44800,52500,58900,69000,82600,87400,94500,104900,110500,117200,124300,138500,191800,202000,null,null,58900,58900,null,"Level_16","L-16",null,null,null,null,null,null,null,null,"p",16,null,null,null,"HANUMANGARH",null,null,"Level_16",67300,195000]
[null,"NO",71000,71000,71000,6800,18,17,"L-17",71000,73100,75300,77600,79900,82300,84800,87300,89900,92600,95400,98300,101200,104200,107300,110500,113800,117200,120700,124300,128000,131800,135800,139900,144100,148400,152900,157500,162200,167100,172100,177300,182600,188100,193700,199500,null,null,null,null,17,{"$error":"#N/A"},17,28400,28700,29300,30800,33300,34400,36100,42200,46100,54100,60700,71100,85100,90000,97300,108000,113800,120700,128000,142700,197600,208100,null,null,60700,60700,null,"Level_17","L-17",null,null,null,null,null,null,null,null,"q",17,null,null,null,"JAIPUR ",null,null,"Level_17",71000,199500]
[null,"NO",75300,75300,75300,7200,19,18,"L-18",75300,77600,79900,82300,84800,87300,89900,92600,95400,98300,101200,104200,107300,110500,113800,117200,120700,124300,128000,131800,135800,139900,144100,148400,152900,157500,162200,167100,172100,177300,182600,188100,193700,199500,null,null,null,null,null,null,18,{"$error":"#N/A"},18,29300,29600,30200,31700,34300,35400,37200,43500,47500,55700,62500,73200,87700,92700,100200,111200,117200,124300,131800,147000,203500,null,null,null,62500,62500,null,"Level_18","L-18",null,null,null,null,null,null,null,null,"r",18,null,null,null,"JAISALMER",null,null,"Level_18",75300,199500]
[null,"NO",79900,79900,79900,7600,20,19,"L-19",79900,82300,84800,87300,89900,92600,95400,98300,101200,104200,107300,110500,113800,117200,120700,124300,128000,131800,135800,139900,144100,148400,152900,157500,162200,167100,172100,177300,182600,188100,193700,199500,null,null,null,null,null,null,null,null,19,{"$error":"#N/A"},19,30200,30500,31100,32700,35300,36500,38300,44800,48900,57400,64400,75400,90300,95500,103200,114500,120700,128000,135800,151400,null,null,null,null,64400,64400,null,"Level_19","L-19",null,null,null,null,null,null,null,null,"s",19,null,null,null,"JALORE",null,null,"Level_19",79900,199500]
[null,"NO",88900,88900,88900,8200,21,20,"L-20",88900,91600,94300,97100,100000,103000,106100,109300,112600,116000,119500,123100,126800,130600,134500,138500,142700,147000,151400,155900,160600,165400,170400,175500,180800,186200,191800,197600,203500,null,null,null,null,null,null,null,null,null,null,null,20,{"$error":"#N/A"},20,31100,31400,32000,33700,36400,37600,39400,46100,50400,59100,66300,77700,93000,98400,106300,117900,124300,131800,139900,155900,null,null,null,null,66300,66300,null,"Level_20","L-20",null,null,null,null,null,null,null,null,"t",20,null,null,null,"JHALAWAR",null,null,"Level_20",88900,203500]
[null,"NO",123100,123100,123100,8700,22,21,"L-21",123100,126800,130600,134500,138500,142700,147000,151400,155900,160600,165400,170400,175500,180800,186200,191800,197600,203500,null,null,null,null,null,null,null,null,null,null,null,null,null,null,null,null,null,null,null,null,null,null,21,{"$error":"#N/A"},21,32000,32300,33000,34700,37500,38700,40600,47500,51900,60900,68300,80000,95800,101400,109500,121400,128000,135800,144100,160600,null,null,null,null,68300,68300,null,"Level_21","L-21",null,null,null,null,null,null,null,null,"u",21,null,null,null,"JHUNJHUNU",null,null,"Level_21",123100,203500]
[null,"NO",129700,{"$f":"INDEX(J28:AW28,MATCH(TRUE,INDEX(J28:AW28>=$F$35,0),))","v":129700},129700,8900,23,22,"L-22",129700,133600,137600,141700,146000,150400,154900,159500,164300,169200,174300,179500,184900,190400,196100,202000,208100,null,null,null,null,null,null,null,null,null,null,null,null,null,null,null,null,null,null,null,null,null,null,null,22,{"$error":"#N/A"},22,33000,33300,34000,35700,38600,39900,41800,48900,53500,62700,70300,82400,98700,104400,112800,125000,131800,139900,148400,165400,null,null,null,null,70300,70300,null,"Level_22","L-22",null,null,null,null,null,null,null,null,"v",22,null,null,null,"JODHPUR",null,null,"Level_22",129700,208100]
[null,"NO",145800,145800,145800,9500,"23A",23,"L-23",145800,150200,154700,159300,164100,169000,174100,179300,184700,190200,195900,201800,207900,214100,null,null,null,null,null,null,null,null,null,null,null,null,null,null,null,null,null,null,null,null,null,null,null,null,null,null,23,{"$error":"#N/A"},23,34000,34300,35000,36800,39800,41100,43100,50400,55100,64600,72400,84900,101700,107500,116200,128800,135800,144100,152900,170400,null,null,null,null,72400,72400,null,"Level_23","L-23",null,null,null,null,null,null,null,null,"w",23,null,null,null,"KARAULI  ",null,null,"Level_23",145800,214100]
[null,"NO",148800,148800,148800,10000,24,24,"L-24",148800,153300,157900,162600,167500,172500,177700,183000,188500,194200,200000,206000,212200,218600,null,null,null,null,null,null,null,null,null,null,null,null,null,null,null,null,null,null,null,null,null,null,null,null,null,null,24,{"$error":"#N/A"},24,35000,35300,36100,37900,41000,42300,44400,51900,56800,66500,74600,87400,104800,110700,119700,132700,139900,148400,157500,175500,null,null,null,null,74600,74600,null,"Level_24","L-24",null,null,null,null,null,null,null,null,"x",24,null,null,null,"KOTA",null,null,"Level_24",148800,218600]
[null,null,{"$f":"MIN(C7:C30)","v":42700},{"$f":"MIN(D7:D30)","v":44000},null,null,null,null,null,null,null,null,null,null,null,null,null,null,null,null,null,null,null,null,null,null,null,null,null,null,null,null,null,null,null,null,null,null,null,null,null,null,null,null,null,null,null,null,null,null,null,25,36100,36400,37200,39000,42200,43600,45700,53500,58500,68500,76800,90000,107900,114000,123300,136700,144100,152900,162200,180800,null,null,null,null,76800,76800,null,{"$f":"'Data Entry'!I11","v":"Level_10"},{"$f":"INDEX($CC$7:$CC$30,MATCH($CB$31,$CB$7:$CB$30,0))","v":"L-10"},null,null,null,null,null,null,null,null,"y",25,null,null,null,"NAGAUR"]
[null,null,null,null,null,null,null,null,null,null,null,null,null,null,null,null,null,null,null,null,null,null,null,null,null,null,null,null,null,null,null,null,null,null,null,null,null,null,null,null,null,null,null,null,null,null,null,null,null,null,null,26,37200,37500,38300,40200,43500,44900,47100,55100,60300,70600,79100,92700,111100,117400,127000,140800,148400,157500,167100,186200,null,null,null,null,79100,79100,null,{"$f":"INDEX($CB$7:$CB$30,MATCH($CC$32,$CC$7:$CC$30,0))","v":"Level_11"},{"$f":"I34","v":"L-11"},null,null,null,null,null,null,null,null,"z",26,null,null,null,"PALI"]
[null,null,{"$f":"'Data Entry'!I13","v":42700},null,"Text ","Pay","Level","Next Level",null,null,"Type of benefit",null,null,null,null,"Code","Next level in Existing Level","Pay in Level","Base pay","A","D",null,null,null,null,null,null,null,null,null,"Text language for ACP",null,null,null,null,null,null,null,null,null,null,null,null,null,null,null,null,null,null,null,null,27,38300,38600,39400,41400,44800,46200,48500,56800,62100,72700,81500,95500,114400,120900,130800,145000,152900,162200,172100,191800,null,null,null,null,81500,81500,null,null,null,null,null,null,null,null,null,null,null,null,27,null,null,null,"PRATAPGARH"]
[null,null,"Existing ",null,{"$f":"CONCATENATE(\"Rs.\",\" \",F34,\"       \",\"(\",G34,\")\")","v":"Rs. 42700       (L-10)"},{"$f":"IF(R39=\"A\",'Data Entry'!$I$13,IF(R39=\"B\",S39,S39))","v":42700},{"$f":"'Data Entry'!$I$12","v":"L-10"},{"$f":"INDEX($H$7:$H$30,MATCH($G$34,$I$7:$I$30,0)+1)","v":11},{"$f":"INDEX($I$7:$I$30,MATCH(H34,$H$7:$H$30,0))","v":"L-11"},null,"Regular ACP",null,null,null,null,"A","YES",{"$f":"IF($K$42=\"YES\",$F$36,$F$34)","v":45100},null,"Existing Pay & Pay Level",{"$f":"T34","v":"Existing Pay & Pay Level"},null,null,null,null,null,null,{"$f":"'Data Entry'!$D$7","v":"Regular ACP"},null,null,"Select ACP type",null,null,null,null,null,null,null,null,null,null,null,null,null,null,null,null,null,null,null,null,28,39400,39800,40600,42600,46100,47600,50000,58500,64000,74900,83900,98400,117800,124500,134700,149400,157500,167100,177300,197600,null,null,null,null,83900,83900,null,null,null,null,null,null,null,null,null,null,null,null,28,null,null,null,"RAJSAMAND"]
[null,null,"Pay after incr",null,{"$f":"CONCATENATE(\"Rs.\",\" \",F35,\"       \",\"(\",G34,\")\")","v":"Rs. 44000       (L-10)"},{"$f":"ROUND(F34*3%,-2)+F34","v":44000},null,null,null,null,"Probation Period Complete in Regular Pay",null,null,null,null,"B","NO",{"$f":"'Data Entry'!I13","v":42700},null,"Next Pay in Existing Level",{"$f":"T35","v":"Next Pay in Existing Level"},null,null,null,null,null,null,null,null,null,null,null,null,null,null,null,null,null,null,null,null,null,null,null,null,null,null,null,null,null,null,29,40600,41000,41800,43900,47500,49000,51500,60300,65900,77100,86400,101400,121300,128200,138700,153900,162200,172100,182600,203500,null,null,null,null,86400,86400,null,null,null,null,null,null,null,null,null,null,null,null,29,null,null,null,"SAWAI MADHOPUR "]
[null,null,"Pay in next level",null,{"$f":"CONCATENATE(\"Rs.\",\"  \",F36,\"      \",\"(\",I34,\")\")","v":"Rs.  45100      (L-11)"},{"$f":"$BY$47","v":45100},null,null,null,null,"Probation Period Complete in Fix Pay",null,null,null,null,"C ","NO",{"$f":"G37","v":33800},null,"Revised Pay & Pay Level","Notional Pay & Pay Level",null,null,null,null,null,null,null,null,null,null,null,null,null,null,null,null,null,null,null,null,null,null,null,null,null,null,null,null,null,null,30,41800,42200,43100,45200,48900,50500,53000,62100,67900,79400,89000,104400,124900,132000,142900,158500,167100,177300,188100,null,null,null,null,null,89000,89000,null,null,null,null,null,null,null,null,null,null,null,null,30,null,null,null,"SIKAR"]
[null,null,"Minimum value",null,null,null,{"$f":"INDEX($E$7:$E$30,MATCH(G34,$I$7:$I$30,0))","v":33800},null,null,null,"Promotion after ACP benefit",null,null,null,null,"D","NO",{"$f":"$BZ$47","v":43800},{"$f":"F34","v":42700},null,null,null,null,null,null,null,null,null,null,null,null,null,null,null,null,null,null,null,null,null,null,null,null,null,null,null,null,null,null,null,null,31,43100,43500,44400,46600,50400,52000,54600,64000,69900,81800,91700,107500,128600,136000,147200,163300,172100,182600,193700,null,null,null,null,null,91700,91700,null,null,null,null,null,null,null,null,null,null,null,null,31,null,null,null,"SIROHI"]
[null,null,null,null,null,null,null,null,null,null,"Seclect condition",null,null,null,null,null,null,null,null,null,null,null,null,null,null,null,null,null,null,null,null,null,null,null,null,null,null,null,null,null,null,null,null,null,null,null,null,null,null,null,null,32,44400,44800,45700,48000,51900,53600,56200,65900,72000,84300,94500,110700,132500,140100,151600,168200,177300,188100,199500,null,null,null,null,null,94500,94500,null,null,null,null,null,null,null,null,null,null,null,null,null,null,null,null,"TONK"]
[null,{"$f":"INDEX($D$7:$D$30,MATCH(F35,$D$7:$D$30,0))","v":44000},"EXISTING PAY SACLE",null,{"$f":"CONCATENATE(\"Rs.\",\"  \",C33,\"      \",\"(\",G34,\")\")","v":"Rs.  42700      (L-10)"},null,null,null,null,null,"Types of Benefits",null,{"$f":"'Data Entry'!$D$7","v":"Regular ACP"},null,null,null,null,{"$f":"INDEX($P$34:$P$37,MATCH($M$39,$K$34:$K$37,0))","v":"A"},{"$f":"INDEX($R$34:$R$37,MATCH($R$39,$P$34:$P$37,0))","v":45100},null,null,null,null,null,null,null,null,null,null,null,null,null,null,null,null,null,null,null,null,null,null,null,null,null,null,null,null,null,null,null,null,33,45700,46100,47100,49400,53500,55200,57900,67900,74200,86800,97300,114000,136500,144300,156100,173200,182600,193700,null,null,null,null,null,null,97300,97300,null,null,null,null,null,null,null,null,null,null,null,null,null,null,null,null,"UDAIPUR"]
[null,null,"NOTIONAL PAY SCALE",null,{"$f":"CONCATENATE(\"Rs.\",\"  \",S39,\"      \",\"(\",I34,\")\")","v":"Rs.  45100      (L-11)"},null,null,null,null,null,null,null,{"$f":"CONCATENATE(\"Detail of\",\"  \",M39,\"  \",\"between\", \" \",TEXT(H42,\"dd/mm/yy\"), \" \",\"to\",\" \",TEXT(End_Date_Incr,\"dd/mm/yy\"))","v":"Detail of  Regular ACP  between 01/07/21 to 01/07/23"},null,null,null,null,null,null,null,null,null,null,null,null,null,null,null,null,null,null,null,null,null,null,null,null,null,null,null,null,null,null,null,null,null,null,null,null,null,null,34,47100,47500,48500,50900,55100,56900,59600,69900,76400,89400,100200,117400,140600,148600,160800,178400,188100,199500,null,null,null,null,null,null,100200,100200]
[null,null,null,null,{"$f":"IFERROR(INDEX($B$2:$B$9,MATCH(SMALL(NOT($B$2:$B$9=\"\")*IF(ISNUMBER($B$2:$B$9),COUNTIF($B$2:$B$9,\"<=\"&$B$2:$B$9),COUNTIF($B$2:$B$9,\"<=\"&$B$2:$B$9)+SUM(--ISNUMBER($B$2:$B$9))),ROWS(#REF!)+SUM(--ISBLANK($B$2:$B$9))),NOT($B$2:$B$9=\"\")*IF(ISNUMBER($B$2:$B$9),COUNTIF($B$2:$B$9,\"<=\"&$B$2:$B$9),COUNTIF($B$2:$B$9,\"<=\"&$B$2:$B$9)+SUM(--ISNUMBER($B$2:$B$9))),0)),\"\")","v":""},null,null,"Start Date","End Date","ACP DATE","COND",{"$f":"'Data Entry'!$E$14","v":"YES"},null,null,null,null,null,null,null,null,null,null,null,null,null,null,null,null,null,null,null,null,null,null,null,null,null,null,null,null,null,null,null,null,null,null,null,null,null,null,null,35,48500,48900,50000,52400,56800,58600,61400,72000,78700,92100,103200,120900,144800,153100,165600,183800,193700,null,null,null,null,null,null,null,103200,103200]
[null,{"$f":"IFERROR(INDEX($C$44:$C$54,MATCH(SMALL(NOT($C$44:$C$54=\"\")*IF(ISNUMBER($C$44:$C$54),COUNTIF($C$44:$C$54,\"<=\"&$C$44:$C$54),COUNTIF($C$44:$C$54,\"<=\"&$C$44:$C$54)+SUM(--ISNUMBER($C$44:$C$54))),ROWS($C$44:C44)+SUM(--ISBLANK($C$44:$C$54))),NOT($C$44:$C$54=\"\")*IF(ISNUMBER($C$44:$C$54),COUNTIF($C$44:$C$54,\"<=\"&$C$44:$C$54),COUNTIF($C$44:$C$54,\"<=\"&$C$44:$C$54)+SUM(--ISNUMBER($C$44:$C$54))),0)),\"\")","v":"2016-07-01"},null,null,null,"Condition",null,{"$f":"'Data Entry'!E15","v":"2021-07-01"},{"$f":"'Data Entry'!E16","v":"2023-07-01"},{"$f":"'Data Entry'!$E$13","v":"2021-05-19"},{"$f":"IF(R39=\"A\",'Data Entry'!$E$14,\"NO\")","v":"YES"},{"$f":"IF(K42=\"YES\",J42,\"\")","v":"2021-05-19"},null,null,null,null,null,null,null,null,null,null,null,null,null,null,null,null,null,null,null,null,null,null,null,null,null,null,null,null,null,null,null,null,null,null,null,null,null,null,null,36,50000,50400,51500,54000,58500,60400,63200,74200,81100,94900,106300,124500,149100,157700,170600,189300,199500,null,null,null,null,null,null,null,106300,106300]
[null,"Base Date"," Date \nof Increement","Sort Date(A)","Sort Date(B)","Sort Date(C)","Change in Date","Condition","Change date after condt.","Close Date","Base Pay ","Incr. Condt.","Incr. amt","Pay after Incr.",null,null,"Condt","Sort -A","Sort-B","Final Value",null,null,null,null,null,null,null,null,null,null,null,null,null,null,null,null,null,null,null,null,null,null,null,null,null,null,null,null,null,null,null,37,51500,51900,53000,55600,60300,62200,65100,76400,83500,97700,109500,128200,153600,162400,175700,195000,null,null,null,null,null,null,null,null,109500,109500]
[null,"2016-07-01",null,{"$f":"IFERROR(INDEX($C$44:$C$54,MATCH(SMALL(NOT($C$44:$C$54=\"\")*IF(ISNUMBER($C$44:$C$54),COUNTIF($C$44:$C$54,\"<=\"&$C$44:$C$54),COUNTIF($C$44:$C$54,\"<=\"&$C$44:$C$54)+SUM(--ISNUMBER($C$44:$C$54))),ROWS($C$44:C44)+SUM(--ISBLANK($C$44:$C$54))),NOT($C$44:$C$54=\"\")*IF(ISNUMBER($C$44:$C$54),COUNTIF($C$44:$C$54,\"<=\"&$C$44:$C$54),COUNTIF($C$44:$C$54,\"<=\"&$C$44:$C$54)+SUM(--ISNUMBER($C$44:$C$54))),0)),\"\")","v":"2016-07-01"},{"$f":"SMALL(IF(($C$44:$C$54<=End_Date_Incr)*($C$44:$C$54>=$H$42),$C$44:$C$54,\"A\"),ROWS($A$43:A43))","v":"2021-07-01"},{"$f":"IFERROR(E44,\"\")","v":"2021-07-01"},{"$f":"'Data Entry'!A19","v":"2021-07-01"},{"$f":"'Data Entry'!C19","v":"NO"},{"$f":"IF(F44=\"\",\"\",IF(H44=\"YES\",G44,F44))","v":"2021-07-01"},{"$f":"H42","v":"2021-07-01"},{"$f":"IF($R$39=\"D\",S37,S39)","v":45100},{"$f":"'Data Entry'!E19","v":"NO"},{"$f":"IF(J44=\"\",\"\",IF(L44=\"YES\",ROUND((K44*0.03),-2),0))","v":0},{"$f":"IF(J44=\"\",\"\",K44+M44)","v":45100},null,null,{"$f":"'Data Entry'!E44","v":"YES"},{"$f":"IF(Q44=\"YES\",K44,\"\")","v":45100},{"$f":"INDEX($O$231:$O$236,MATCH(0,COUNTIF(#REF!,$O$231:$O$236&\"\"),0))","v":{"$error":"#N/A"}},{"$f":"IFERROR(S44,\"\")","v":""},null,null,null,null,null,null,null,null,null,null,null,null,null,null,null,null,null,null,null,null,null,null,null,null,null,null,null,null,null,null,null,38,53000,53500,54600,57300,62100,64100,67100,78700,86000,100600,112800,132000,158200,167300,181000,null,null,null,null,null,null,null,null,null,112800,112800]
[null,{"$f":"EDATE(B44,12)","v":"2017-07-01"},{"$f":"INDEX($B$44:$B$54,MATCH(MIN(ABS($B$44:$B$54-C44)),ABS($B$44:$B$54-C44),0))","v":"2016-07-01"},{"$f":"IFERROR(INDEX($C$44:$C$54,MATCH(SMALL(NOT($C$44:$C$54=\"\")*IF(ISNUMBER($C$44:$C$54),COUNTIF($C$44:$C$54,\"<=\"&$C$44:$C$54),COUNTIF($C$44:$C$54,\"<=\"&$C$44:$C$54)+SUM(--ISNUMBER($C$44:$C$54))),ROWS($C$44:C45)+SUM(--ISBLANK($C$44:$C$54))),NOT($C$44:$C$54=\"\")*IF(ISNUMBER($C$44:$C$54),COUNTIF($C$44:$C$54,\"<=\"&$C$44:$C$54),COUNTIF($C$44:$C$54,\"<=\"&$C$44:$C$54)+SUM(--ISNUMBER($C$44:$C$54))),0)),\"\")","v":"2017-07-01"},{"$f":"SMALL(IF(($C$44:$C$54<=End_Date_Incr)*($C$44:$C$54>=$H$42),$C$44:$C$54,\"A\"),ROWS($A$43:A44))","v":"2022-07-01"},"2022-07-01",{"$f":"'Data Entry'!A20","v":"2022-07-01"},{"$f":"'Data Entry'!C20","v":"NO"},{"$f":"IF(F45=\"\",\"\",IF(H45=\"YES\",G45,F45))","v":"2022-07-01"},{"$f":"IF($I$42>=I45,I45,\"\")","v":"2022-07-01"},{"$f":"N44","v":45100},{"$f":"'Data Entry'!E20","v":"YES"},{"$f":"IF(J45=\"\",\"\",IF(L45=\"YES\",ROUND((K45*0.03),-2),0))","v":1400},{"$f":"IF(J45=\"\",\"\",K45+M45)","v":46500},null,null,{"$f":"'Data Entry'!E45","v":"YES"},{"$f":"IF(Q45=\"YES\",K45,\"\")","v":45100},{"$f":"INDEX($O$231:$O$236,MATCH(0,COUNTIF(#REF!,$O$231:$O$236&\"\"),0))","v":{"$error":"#N/A"}},"",null,null,null,null,null,null,null,null,null,null,null,null,null,null,null,null,null,null,null,null,null,null,null,null,null,null,null,null,null,null,null,39,54600,55100,56200,59000,64000,66000,69100,81100,88600,103600,116200,136000,162900,172300,186400,null,null,null,null,null,null,null,null,null,116200,116200]
[null,{"$f":"EDATE(B45,12)","v":"2018-07-01"},"2017-07-01",{"$f":"IFERROR(INDEX($C$44:$C$54,MATCH(SMALL(NOT($C$44:$C$54=\"\")*IF(ISNUMBER($C$44:$C$54),COUNTIF($C$44:$C$54,\"<=\"&$C$44:$C$54),COUNTIF($C$44:$C$54,\"<=\"&$C$44:$C$54)+SUM(--ISNUMBER($C$44:$C$54))),ROWS($C$44:C46)+SUM(--ISBLANK($C$44:$C$54))),NOT($C$44:$C$54=\"\")*IF(ISNUMBER($C$44:$C$54),COUNTIF($C$44:$C$54,\"<=\"&$C$44:$C$54),COUNTIF($C$44:$C$54,\"<=\"&$C$44:$C$54)+SUM(--ISNUMBER($C$44:$C$54))),0)),\"\")","v":"2018-07-01"},{"$f":"SMALL(IF(($C$44:$C$54<=End_Date_Incr)*($C$44:$C$54>=$H$42),$C$44:$C$54,\"A\"),ROWS($A$43:A45))","v":"2023-07-01"},"2023-07-01",{"$f":"'Data Entry'!A21","v":"2023-07-01"},{"$f":"'Data Entry'!C21","v":"NO"},"2023-07-01",{"$f":"IF($I$42>=I46,I46,\"\")","v":"2023-07-01"},{"$f":"N45","v":46500},{"$f":"'Data Entry'!E21","v":"YES"},1400,47900,null,null,{"$f":"'Data Entry'!E46","v":"YES"},{"$f":"IF(Q46=\"YES\",K46,\"\")","v":46500},{"$f":"INDEX($O$231:$O$236,MATCH(0,COUNTIF(#REF!,$O$231:$O$236&\"\"),0))","v":{"$error":"#N/A"}},"",null,null,null,null,null,null,null,null,null,null,null,null,null,null,null,null,null,null,null,null,null,null,null,null,null,null,null,null,null,null,null,40,56200,56800,57900,60800,65900,68000,71200,83500,91300,106700,119700,140100,167800,177500,192000,null,null,null,null,null,null,null,null,null,119700,119700]
[null,"2019-07-01","2018-07-01",{"$f":"IFERROR(INDEX($C$44:$C$54,MATCH(SMALL(NOT($C$44:$C$54=\"\")*IF(ISNUMBER($C$44:$C$54),COUNTIF($C$44:$C$54,\"<=\"&$C$44:$C$54),COUNTIF($C$44:$C$54,\"<=\"&$C$44:$C$54)+SUM(--ISNUMBER($C$44:$C$54))),ROWS($C$44:C47)+SUM(--ISBLANK($C$44:$C$54))),NOT($C$44:$C$54=\"\")*IF(ISNUMBER($C$44:$C$54),COUNTIF($C$44:$C$54,\"<=\"&$C$44:$C$54),COUNTIF($C$44:$C$54,\"<=\"&$C$44:$C$54)+SUM(--ISNUMBER($C$44:$C$54))),0)),\"\")","v":"2019-07-01"},{"$f":"SMALL(IF(($C$44:$C$54<=End_Date_Incr)*($C$44:$C$54>=$H$42),$C$44:$C$54,\"A\"),ROWS($A$43:A46))","v":{"$error":"#NUM!"}},"",{"$f":"'Data Entry'!A22","v":""},{"$f":"'Data Entry'!C22","v":"NO"},"","",47900,{"$f":"'Data Entry'!E22","v":"YES"},"","",null,null,{"$f":"'Data Entry'!E47","v":"NO"},"",{"$f":"INDEX($O$231:$O$236,MATCH(0,COUNTIF(#REF!,$O$231:$O$236&\"\"),0))","v":{"$error":"#N/A"}},"",null,null,null,null,null,null,null,null,null,null,null,null,null,null,null,null,null,null,null,null,null,null,null,null,null,null,null,null,null,null,null,"Levels","Level_1","Level_2","Level_3","Level_4","Level_5","Level_6","Level_7","Level_8","Level_9","Level_10","Level_11","Level_12","Level_13","Level_14","Level_15","Level_16","Level_17","Level_18","Level_19","Level_20","Level_21","Level_22","Level_23","Level_24",{"$f":"INDEX($BY$7:$BY$46,MATCH(TRUE,INDEX($BY$7:$BY$46>=$BY$5,0),))","v":45100},{"$f":"INDEX($BY$7:$BY$46,MATCH(TRUE,INDEX($BY$7:$BY$46>=$BZ$5,0),))","v":43800}]
[null,"2020-07-01","2019-07-01",{"$f":"IFERROR(INDEX($C$44:$C$54,MATCH(SMALL(NOT($C$44:$C$54=\"\")*IF(ISNUMBER($C$44:$C$54),COUNTIF($C$44:$C$54,\"<=\"&$C$44:$C$54),COUNTIF($C$44:$C$54,\"<=\"&$C$44:$C$54)+SUM(--ISNUMBER($C$44:$C$54))),ROWS($C$44:C48)+SUM(--ISBLANK($C$44:$C$54))),NOT($C$44:$C$54=\"\")*IF(ISNUMBER($C$44:$C$54),COUNTIF($C$44:$C$54,\"<=\"&$C$44:$C$54),COUNTIF($C$44:$C$54,\"<=\"&$C$44:$C$54)+SUM(--ISNUMBER($C$44:$C$54))),0)),\"\")","v":"2020-07-01"},{"$f":"SMALL(IF(($C$44:$C$54<=End_Date_Incr)*($C$44:$C$54>=$H$42),$C$44:$C$54,\"A\"),ROWS($A$43:A47))","v":{"$error":"#NUM!"}},"",{"$f":"'Data Entry'!A23","v":""},{"$f":"'Data Entry'!C23","v":"NO"},"","","",{"$f":"'Data Entry'!E23","v":"YES"},"","",null,null,{"$f":"'Data Entry'!E48","v":"YES"},"",{"$f":"INDEX($O$231:$O$236,MATCH(0,COUNTIF(#REF!,$O$231:$O$236&\"\"),0))","v":{"$error":"#N/A"}},""]
[null,"2021-07-01","2020-07-01",{"$f":"IFERROR(INDEX($C$44:$C$54,MATCH(SMALL(NOT($C$44:$C$54=\"\")*IF(ISNUMBER($C$44:$C$54),COUNTIF($C$44:$C$54,\"<=\"&$C$44:$C$54),COUNTIF($C$44:$C$54,\"<=\"&$C$44:$C$54)+SUM(--ISNUMBER($C$44:$C$54))),ROWS($C$44:C49)+SUM(--ISBLANK($C$44:$C$54))),NOT($C$44:$C$54=\"\")*IF(ISNUMBER($C$44:$C$54),COUNTIF($C$44:$C$54,\"<=\"&$C$44:$C$54),COUNTIF($C$44:$C$54,\"<=\"&$C$44:$C$54)+SUM(--ISNUMBER($C$44:$C$54))),0)),\"\")","v":"2021-05-19"},{"$f":"SMALL(IF(($C$44:$C$54<=End_Date_Incr)*($C$44:$C$54>=$H$42),$C$44:$C$54,\"A\"),ROWS($A$43:A48))","v":{"$error":"#NUM!"}},"",{"$f":"'Data Entry'!A24","v":""},{"$f":"'Data Entry'!C24","v":"NO"},"","","",{"$f":"'Data Entry'!E24","v":"YES"},"","",null,null,{"$f":"'Data Entry'!E49","v":"YES"},"",{"$f":"INDEX($O$231:$O$236,MATCH(0,COUNTIF(#REF!,$O$231:$O$236&\"\"),0))","v":{"$error":"#N/A"}},""]
[null,"2022-07-01","2021-07-01",{"$f":"IFERROR(INDEX($C$44:$C$54,MATCH(SMALL(NOT($C$44:$C$54=\"\")*IF(ISNUMBER($C$44:$C$54),COUNTIF($C$44:$C$54,\"<=\"&$C$44:$C$54),COUNTIF($C$44:$C$54,\"<=\"&$C$44:$C$54)+SUM(--ISNUMBER($C$44:$C$54))),ROWS($C$44:C50)+SUM(--ISBLANK($C$44:$C$54))),NOT($C$44:$C$54=\"\")*IF(ISNUMBER($C$44:$C$54),COUNTIF($C$44:$C$54,\"<=\"&$C$44:$C$54),COUNTIF($C$44:$C$54,\"<=\"&$C$44:$C$54)+SUM(--ISNUMBER($C$44:$C$54))),0)),\"\")","v":"2021-07-01"},{"$f":"SMALL(IF(($C$44:$C$54<=End_Date_Incr)*($C$44:$C$54>=$H$42),$C$44:$C$54,\"A\"),ROWS($A$43:A49))","v":{"$error":"#NUM!"}},"",{"$f":"'Data Entry'!A25","v":""},{"$f":"'Data Entry'!C25","v":"NO"},"","","",{"$f":"'Data Entry'!E25","v":"YES"},"","",null,null,{"$f":"'Data Entry'!E50","v":0}]
[null,"2023-07-01","2022-07-01",{"$f":"IFERROR(INDEX($C$44:$C$54,MATCH(SMALL(NOT($C$44:$C$54=\"\")*IF(ISNUMBER($C$44:$C$54),COUNTIF($C$44:$C$54,\"<=\"&$C$44:$C$54),COUNTIF($C$44:$C$54,\"<=\"&$C$44:$C$54)+SUM(--ISNUMBER($C$44:$C$54))),ROWS($C$44:C51)+SUM(--ISBLANK($C$44:$C$54))),NOT($C$44:$C$54=\"\")*IF(ISNUMBER($C$44:$C$54),COUNTIF($C$44:$C$54,\"<=\"&$C$44:$C$54),COUNTIF($C$44:$C$54,\"<=\"&$C$44:$C$54)+SUM(--ISNUMBER($C$44:$C$54))),0)),\"\")","v":"2022-07-01"},{"$f":"SMALL(IF(($C$44:$C$54<=End_Date_Incr)*($C$44:$C$54>=$H$42),$C$44:$C$54,\"A\"),ROWS($A$43:A50))","v":{"$error":"#NUM!"}},"",{"$f":"'Data Entry'!A26","v":""},{"$f":"'Data Entry'!C26","v":"NO"},"","","",{"$f":"'Data Entry'!E26","v":"YES"},"",""]
[null,"2024-07-01","2023-07-01",{"$f":"IFERROR(INDEX($C$44:$C$54,MATCH(SMALL(NOT($C$44:$C$54=\"\")*IF(ISNUMBER($C$44:$C$54),COUNTIF($C$44:$C$54,\"<=\"&$C$44:$C$54),COUNTIF($C$44:$C$54,\"<=\"&$C$44:$C$54)+SUM(--ISNUMBER($C$44:$C$54))),ROWS($C$44:C52)+SUM(--ISBLANK($C$44:$C$54))),NOT($C$44:$C$54=\"\")*IF(ISNUMBER($C$44:$C$54),COUNTIF($C$44:$C$54,\"<=\"&$C$44:$C$54),COUNTIF($C$44:$C$54,\"<=\"&$C$44:$C$54)+SUM(--ISNUMBER($C$44:$C$54))),0)),\"\")","v":"2023-07-01"},{"$f":"SMALL(IF(($C$44:$C$54<=End_Date_Incr)*($C$44:$C$54>=$H$42),$C$44:$C$54,\"A\"),ROWS($A$43:A51))","v":{"$error":"#NUM!"}},{"$f":"IFERROR(E52,\"\")","v":""},{"$f":"'Data Entry'!A27","v":""},{"$f":"'Data Entry'!C27","v":"NO"},"","","",{"$f":"'Data Entry'!E27","v":"YES"},"",""]
[null,"2025-07-01","2024-07-01",{"$f":"IFERROR(INDEX($C$44:$C$54,MATCH(SMALL(NOT($C$44:$C$54=\"\")*IF(ISNUMBER($C$44:$C$54),COUNTIF($C$44:$C$54,\"<=\"&$C$44:$C$54),COUNTIF($C$44:$C$54,\"<=\"&$C$44:$C$54)+SUM(--ISNUMBER($C$44:$C$54))),ROWS($C$44:C53)+SUM(--ISBLANK($C$44:$C$54))),NOT($C$44:$C$54=\"\")*IF(ISNUMBER($C$44:$C$54),COUNTIF($C$44:$C$54,\"<=\"&$C$44:$C$54),COUNTIF($C$44:$C$54,\"<=\"&$C$44:$C$54)+SUM(--ISNUMBER($C$44:$C$54))),0)),\"\")","v":"2024-07-01"},{"$f":"SMALL(IF(($C$44:$C$54<=End_Date_Incr)*($C$44:$C$54>=$H$42),$C$44:$C$54,\"A\"),ROWS($A$43:A52))","v":{"$error":"#NUM!"}},"",{"$f":"'Data Entry'!A28","v":""},{"$f":"'Data Entry'!C28","v":"NO"},"","","",{"$f":"'Data Entry'!E28","v":"YES"},"",""]
[null,"2026-07-01",{"$f":"$L$42","v":"2021-05-19"},{"$f":"IFERROR(INDEX($C$44:$C$54,MATCH(SMALL(NOT($C$44:$C$54=\"\")*IF(ISNUMBER($C$44:$C$54),COUNTIF($C$44:$C$54,\"<=\"&$C$44:$C$54),COUNTIF($C$44:$C$54,\"<=\"&$C$44:$C$54)+SUM(--ISNUMBER($C$44:$C$54))),ROWS($C$44:C54)+SUM(--ISBLANK($C$44:$C$54))),NOT($C$44:$C$54=\"\")*IF(ISNUMBER($C$44:$C$54),COUNTIF($C$44:$C$54,\"<=\"&$C$44:$C$54),COUNTIF($C$44:$C$54,\"<=\"&$C$44:$C$54)+SUM(--ISNUMBER($C$44:$C$54))),0)),\"\")","v":""},{"$f":"SMALL(IF(($C$44:$C$54<=End_Date_Incr)*($C$44:$C$54>=$H$42),$C$44:$C$54,\"A\"),ROWS($A$43:A53))","v":{"$error":"#NUM!"}},"",{"$f":"'Data Entry'!A29","v":""},{"$f":"'Data Entry'!C29","v":"NO"},"","","",{"$f":"'Data Entry'!E29","v":"YES"},"",""]
["Code","Next date of increment",null,{"$f":"$R$39","v":"A"},{"$f":"MIN(IF($D$44:$D$54>$C$54,$D$44:$D$54))","v":"2021-07-01"}]
["A","Next date in ACP",null,{"$f":"INDEX(D44:D53,MATCH(TRUE,INDEX(D44:D53>D57,0),))","v":"2024-07-01"}]
["B","Next date in promotion",null,{"$f":"End_Date_Incr","v":"2023-07-01"},{"$f":"INDEX(D44:D54,MATCH(TRUE,INDEX(D44:D54>End_Date_Incr,0),))","v":"2024-07-01"}]
["C "]
["D"]
[]
[null,"Name of Treasury or sub treasury for dispatch letter"]
[null,"Sub Treasury",{"$f":"'Data Entry'!G41","v":"Treasury"},{"$f":"'Data Entry'!H41","v":"JAISALMER"}]
[null,"Treasury","Treasury",{"$f":"'Data Entry'!H42","v":"Nokha"}]
[null,null,{"$f":"IF(C62=B62,C62,B63)","v":"Treasury"},{"$f":"IF(C62=\"Sub Treasury\",D63,D62)","v":"JAISALMER"}]
[null,"Final name",{"$f":"CONCATENATE(C64,\"  \",D64)","v":"Treasury  JAISALMER"}]
[null,null,null,null,null,null,null,null,null,null,null,null,null,"Condt","Sort -A","Sort-B","Final Value"]
[null,1,{"$f":"IF(C64=\"Treasury\",\"Treassury Officer\",\"Sub Treasury Officer\")","v":"Treassury Officer"},null,null,{"$f":"D64","v":"JAISALMER"},null,{"$f":"CONCATENATE(C67,\"  \",\",\",\"  \",F67)","v":"Treassury Officer  ,  JAISALMER"},null,null,null,null,null,{"$f":"'Data Entry'!E44","v":"YES"},{"$f":"IF(N67=\"YES\",H67,\"\")","v":"Treassury Officer  ,  JAISALMER"},{"$f":"INDEX($O$67:$O$72,MATCH(0,COUNTIF($P50:P66,$O$67:$O$72&\"\"),0))","v":"Treassury Officer  ,  JAISALMER"},{"$f":"IFERROR(P67,\"\")","v":"Treassury Officer  ,  JAISALMER"}]
[null,2,{"$f":"'Data Entry'!D2","v":"ABCD"},null,null,{"$f":"'Data Entry'!D3","v":"I.L.R"},null,{"$f":"CONCATENATE(C68,\"  \",\",\",\"Designation\",\" -- \",F68,\" \")","v":"ABCD  ,Designation -- I.L.R "},null,null,null,null,null,{"$f":"'Data Entry'!E45","v":"YES"},{"$f":"IF(N68=\"YES\",H68,\"\")","v":"ABCD  ,Designation -- I.L.R "},{"$f":"INDEX($O$67:$O$72,MATCH(0,COUNTIF($P51:P67,$O$67:$O$72&\"\"),0))","v":"ABCD  ,Designation -- I.L.R "},"ABCD  ,Designation -- I.L.R "]
[null,3,"Accounts Branch-in two copies for prepration of bill",null,null,null,null,{"$f":"C69","v":"Accounts Branch-in two copies for prepration of bill"},null,null,null,null,null,{"$f":"'Data Entry'!E46","v":"YES"},{"$f":"IF(N69=\"YES\",H69,\"\")","v":"Accounts Branch-in two copies for prepration of bill"},{"$f":"INDEX($O$67:$O$72,MATCH(0,COUNTIF($P52:P68,$O$67:$O$72&\"\"),0))","v":"Accounts Branch-in two copies for prepration of bill"},"Accounts Branch-in two copies for prepration of bill"]
[null,4,{"$f":"'Data Entry'!B47","v":"Accounts Officer, Colonosiation, Bikaner"},null,null,null,null,{"$f":"C70","v":"Accounts Officer, Colonosiation, Bikaner"},null,null,null,null,null,{"$f":"'Data Entry'!E47","v":"NO"},"",{"$f":"INDEX($O$67:$O$72,MATCH(0,COUNTIF($P53:P69,$O$67:$O$72&\"\"),0))","v":"Personal File/Gurd File"},"Personal File/Gurd File"]
[null,5,{"$f":"'Data Entry'!B48","v":"Personal File/Gurd File"},null,null,null,null,{"$f":"C71","v":"Personal File/Gurd File"},null,null,null,null,null,{"$f":"'Data Entry'!E48","v":"YES"},"Personal File/Gurd File",{"$f":"INDEX($O$67:$O$72,MATCH(0,COUNTIF($P54:P70,$O$67:$O$72&\"\"),0))","v":"Estt. Branch"},"Estt. Branch"]
[null,6,{"$f":"'Data Entry'!B49","v":"Estt. Branch"},null,null,null,null,{"$f":"C72","v":"Estt. Branch"},null,null,null,null,null,{"$f":"'Data Entry'!E49","v":"YES"},"Estt. Branch",{"$f":"INDEX($O$67:$O$72,MATCH(0,COUNTIF($P55:P71,$O$67:$O$72&\"\"),0))","v":{"$error":"#N/A"}},""]
["Write office order lanague"]
["Type I",{"$f":"CONCATENATE(\"Write official langauge of \",\"  \",'Data Entry'!D7,\"  \",\"issued by\",\"  \",'Data Entry'!D4,\"  \",\"vide \",'Data Entry'!A11,\"  \",'Data Entry'!E11,\"  \",\"and \",\"  \",'Data Entry'!A12,\" \",TEXT('Data Entry'!E12,\"dd/mm/yy\"),\"  \",\"which is due on dated\",\" \",TEXT('Data Entry'!E13,\"dd/mm/yy\"))","v":"Write official langauge of   Regular ACP  issued by  TEHSILDAR COLONISATION, XYZ  vide Regular ACP  order no.    1607-1614  and   Regular ACP  order date.   24/05/23  which is due on dated 19/05/21"}]
[]
["Type II"]
[]
[]
["Type I",null,{"$f":"IF(B79=\"YES\",B74,\"\")","v":""}]
[]
["Type II",null,{"$f":"IF(B81=\"YES\",B76,\"\")","v":""}]
[]
[]
[]
[null,"Design & prepared by Pravesh Kumar Sharma-9460100093",null,null,null,null,null,null,null,null,"16.18.1.22.5.19.8√97263.0458756048"]

{"sheet":"ACP-1","index":8,"n_rows":34,"n_cols":21,"rows_kept":34,"cut":false,"hidden":false,"merged":[[3,0,3,11],[0,9,0,10],[1,2,1,3],[1,5,1,7],[2,0,2,11],[4,1,4,3],[4,9,4,10],[5,0,5,11],[6,0,9,11],[10,5,11,6],[10,7,11,8],[10,0,11,4],[10,9,11,9],[10,10,11,11],[16,20,16,23],[12,5,12,6],[12,7,12,8],[12,10,12,11],[12,0,12,4],[13,6,13,9],[13,1,13,5],[22,6,23,11],[27,6,27,8],[30,6,31,11],[15,1,15,2],[15,3,15,5],[15,6,15,7],[17,8,17,11],[18,8,18,11],[17,3,17,4],[17,5,17,7],[18,5,18,7],[18,3,18,4],[17,0,17,2],[18,0,18,2]]}
[]
[null,null,"Data Entry",null,null,null,null,null,null,"HOME"]
["Govtt of Rajasthan"]
[{"$f":"'Data Entry'!D4","v":"TEHSILDAR COLONISATION, XYZ"}]
["S.N.",{"$f":"Incr_2017!C28","v":"TDR/Col/Estt.//2021-22/"},null,null,null,null,null,null,"Dated",{"$f":"Incr_2017!K28","v":"2023-06-16"}]
[":Office Order:"]
[{"$f":"'Data Entry'!$E$31","v":"dk;kZy; vk;qDr mifuos'ku foHkkx] chdkusj ds vkns'k Øaekd i-6¼25½leq@izLFkk@2003@ 1604&1614 fnukad 24&05&2023 dh vuqikyuk esa f}rh; ,lhih ij osru fu/kkZj.k fuEukuqlkj fd;k tkrk gS&%"}]
[]
[]
[]
["Name of Authority",null,null,null,null,{"$f":"'Data Entry'!A11","v":"Regular ACP  order no.  "},null,{"$f":"'Data Entry'!A12","v":"Regular ACP  order date.  "},null,"Type of ACP",{"$f":"'Data Entry'!A13","v":"Regular ACP  due date.  "}]
[]
[{"$f":"'Data Entry'!E9","v":"COMMISSIONER COLONISATION BIKANER "},null,null,null,null,{"$f":"'Data Entry'!E11","v":"1607-1614"},null,{"$f":"'Data Entry'!E12","v":"2023-05-24"},null,{"$f":"IF(Table_Incr!R39=\"A\",'Data Entry'!I7,\"-N.A.-\")","v":"18 years"},{"$f":"'Data Entry'!E13","v":"2021-05-19"}]
[null,"Now, the pay and pay level is ascertained of shree",null,null,null,null,{"$f":"D16","v":"ABCD"},null,null,null,"is as under"]
[]
[null,"Name of employee",null,{"$f":"'Data Entry'!D2","v":"ABCD"},null,null,"Designation,",null,{"$f":"'Data Entry'!D3","v":"I.L.R"},null,null,null,{"$f":"LEN(I16)","v":5}]
[null,null,null,null,null,null,null,null,null,null,null,null,null,null,null,null,null,null,null,null,{"$f":"K11","v":"Regular ACP  due date.  "}]
["Existing Pay & Pay Level",null,null,"Next Pay in Existing Level",null,{"$f":"IF(Table_Incr!$R$39=\"D\",Table_Incr!U36,Table_Incr!T36)","v":"Revised Pay & Pay Level"},null,null,"Next Date of Increment"]
[{"$f":"IF(Table_Incr!$R$39=\"D\",Table_Incr!E39,IF(Table_Incr!$R$39=\"C\",Table_Incr!E34,Table_Incr!E34))","v":"Rs. 42700       (L-10)"},null,null,{"$f":"IF(Table_Incr!$R$39=\"D\",\"--N.A.--\",IF(Table_Incr!$R$39=\"B\",\"--N.A.--\",IF(Table_Incr!$R$39=\"C \",\"--N.A.--\",Table_Incr!E35)))","v":"Rs. 44000       (L-10)"},null,{"$f":"IF(Table_Incr!$R$39=\"D\",Table_Incr!E40,IF(Table_Incr!$R$39=\"B\",Table_Incr!E34,IF(Table_Incr!$R$39=\"C \",Table_Incr!E34,Table_Incr!E36)))","v":"Rs.  45100      (L-11)"},null,null,{"$f":"IF(Table_Incr!$D$55=\"A\",Table_Incr!E55,Table_Incr!D57)","v":"2021-07-01"}]
[]
["Note-","No arrear of difference amount of grade pay thereon, on any account, shall accure to employee , for the period upto 30-06-2013"]
[]
[null,null,null,null,null,null,{"$f":"'Data Entry'!D5","v":"TEHSILDAR COLONISATION, XYZ"}]
[]
["Copy forwarded for  information and necessary action :-"]
[{"$f":"Incr_2017!A30","v":1},{"$f":"Incr_2017!B30","v":"Treassury Officer  ,  JAISALMER"}]
[{"$f":"Incr_2017!A31","v":2},{"$f":"Incr_2017!B31","v":"ABCD  ,Designation -- I.L.R "}]
[{"$f":"Incr_2017!A32","v":3},{"$f":"Incr_2017!B32","v":"Accounts Branch-in two copies for prepration of bill"}]
[{"$f":"Incr_2017!A33","v":4},{"$f":"Incr_2017!B33","v":"Personal File/Gurd File"}]
[{"$f":"Incr_2017!A34","v":5},{"$f":"Incr_2017!B34","v":"Estt. Branch"}]
[{"$f":"Incr_2017!A35","v":""},{"$f":"Incr_2017!B35","v":""},null,null,null,null,{"$f":"G23","v":"TEHSILDAR COLONISATION, XYZ"}]
["16.18.1.22.5.19.8√97263.0458756048"]
[]
[null,null,null,null,null,null,null,null,null,null,"HOME"]

{"sheet":"Incr_2017","index":9,"n_rows":40,"n_cols":14,"rows_kept":40,"cut":false,"hidden":false,"merged":[[1,13,1,14],[39,6,39,7],[7,0,8,0],[7,1,8,11],[9,0,13,0],[27,0,27,1],[27,10,27,11],[9,5,13,5],[9,6,9,8],[10,6,13,6],[10,7,13,7],[10,8,13,8],[10,9,13,9],[10,10,13,10],[10,11,13,11],[20,0,22,3],[1,3,1,8],[2,0,2,11],[3,0,3,11],[4,0,6,0],[4,1,6,11],[33,7,35,11],[9,9,9,11],[18,0,18,1],[19,0,19,1],[9,2,13,2],[9,3,13,3],[9,4,13,4],[16,0,17,3],[23,7,26,11],[9,1,13,1]]}
[]
[null,"HOME",null,"\"\"Please don't edit in this sheet, if you want any kind of updation .. Please use sheet DDO Data & Employee Data\",the macros are enable for this sheet only adjusting print purpose\"",null,null,null,null,null,null,"HOME",null,null,"Data Entry"]
[{"$f":"UPPER('Data Entry'!D4)","v":"TEHSILDAR COLONISATION, XYZ"}]
["Periodic Salalry Increment Certificate"]
[1,"Certified that the Government servents named below have earned the prescribed periodical increments from the date cited in column 6 having been the incumbent of the posts specified    not less than year from the date in column 6 after deducting period of suspension for misconduct etc. and absence on leave without pay & the case of those holding the post in officiating capacity, all other kinds of leave.  "]
[]
[]
[2,"Certified that the Government servents named below have earned/will earn periodical increments from the date cited for reasons stated in the explanatory memo \n attached here to.      "]
[]
["Emp. Code/S.N.","Name of Incumbent ","Post","Pay Level\n","Date From \nPresent Pay \nis being taken","Date \nof Increment ","Annual Increment Amount",null,null,"Personal Pay"]
[null,null,null,null,null,null," Pay in the Level in the Pay Matrix","Increment amount","Total Basic Pay ","Opening Balance of  P.P. under Rule 11(6)","Adjusted P.P. under Rule 11(6)","Balace P.P. amt "]
[]
[]
[]
[1,{"$f":"A15+1","v":2},{"$f":"B15+1","v":3},4,5,6,7,8,9,10,11,12]
[{"$f":"IF(Databackup!B2=\"\",\"\",Databackup!B2)","v":1},{"$f":"PROPER('Data Entry'!$D$2)","v":"Abcd"},{"$f":"'Data Entry'!$D$3","v":"I.L.R"},{"$f":"'Data Entry'!$I$12","v":"L-10"},{"$f":"'Data Entry'!$E$15","v":"2021-07-01"},{"$f":"IF('Data Entry'!D20=\"\",\"\",'Data Entry'!D20)","v":"2022-07-01"},{"$f":"IF(F16=\"\",\"\",'Data Entry'!G19)","v":45100},{"$f":"IF(F16=\"\",\"\",'Data Entry'!F20)","v":1400},{"$f":"IF(F16=\"\",\"\",'Data Entry'!G20)","v":46500},{"$f":"'Data Entry'!$I$15","v":0},{"$f":"'Data Entry'!H20","v":0},{"$f":"'Data Entry'!I20","v":0}]
[{"$f":"IF(Table_Incr!$L$41=\"YES\",Table_Incr!$M$40,\"--\")","v":"Detail of  Regular ACP  between 01/07/21 to 01/07/23"},null,null,null,{"$f":"IF(F17=\"--\",\"--\",F16)","v":"2022-07-01"},{"$f":"IF('Data Entry'!D21=\"\",\"--\",'Data Entry'!D21)","v":"2023-07-01"},{"$f":"IF(F17=\"--\",\"--\",'Data Entry'!G20)","v":46500},{"$f":"IF(F17=\"--\",\"--\",'Data Entry'!F21)","v":1400},{"$f":"IF(F17=\"--\",\"--\",'Data Entry'!G21)","v":47900},{"$f":"IF(E17=\"--\",\"--\",L16)","v":0},{"$f":"IF(E17=\"--\",\"--\",'Data Entry'!H21)","v":0},{"$f":"'Data Entry'!I21","v":0}]
[null,null,null,null,"--",{"$f":"IF('Data Entry'!D22=\"\",\"--\",'Data Entry'!D22)","v":"--"},{"$f":"IF(F18=\"--\",\"--\",'Data Entry'!G21)","v":"--"},{"$f":"IF(F18=\"--\",\"--\",'Data Entry'!F22)","v":"--"},{"$f":"IF(F18=\"--\",\"--\",'Data Entry'!G22)","v":"--"},"--",{"$f":"IF(E18=\"--\",\"--\",'Data Entry'!H22)","v":"--"},{"$f":"'Data Entry'!I22","v":""}]
[{"$f":"IF(Table_Incr!$L$41=\"YES\",\"Due Date\",\"--\")","v":"Due Date"},null,{"$f":"IF(Table_Incr!$L$41=\"YES\",\"Existing Pay & Pay Level\",\"--\")","v":"Existing Pay & Pay Level"},{"$f":"IF(Table_Incr!$L$41=\"YES\",\"Revised Pay & Pay Level\",\"--\")","v":"Revised Pay & Pay Level"},{"$f":"IF(F19=\"--\",\"--\",F18)","v":"--"},{"$f":"IF('Data Entry'!D23=\"\",\"--\",'Data Entry'!D23)","v":"--"},{"$f":"IF(F19=\"--\",\"--\",'Data Entry'!G22)","v":"--"},{"$f":"IF(F19=\"--\",\"--\",'Data Entry'!F23)","v":"--"},{"$f":"IF(F19=\"--\",\"--\",'Data Entry'!G23)","v":"--"},{"$f":"IF(E19=\"--\",\"--\",L18)","v":"--"},{"$f":"IF(E19=\"--\",\"--\",'Data Entry'!H23)","v":"--"},{"$f":"'Data Entry'!I23","v":""}]
[{"$f":"IF(Table_Incr!$L$41=\"YES\",Table_Incr!L42,\"--\")","v":"2021-05-19"},null,{"$f":"IF(Table_Incr!$L$41=\"YES\",Table_Incr!E34,\"--\")","v":"Rs. 42700       (L-10)"},{"$f":"IF(Table_Incr!$L$41=\"YES\",Table_Incr!E36,\"--\")","v":"Rs.  45100      (L-11)"},{"$f":"IF(F20=\"--\",\"--\",F19)","v":"--"},{"$f":"IF('Data Entry'!D24=\"\",\"--\",'Data Entry'!D24)","v":"--"},{"$f":"IF(F20=\"--\",\"--\",'Data Entry'!G23)","v":"--"},{"$f":"IF(F20=\"--\",\"--\",'Data Entry'!F24)","v":"--"},{"$f":"IF(F20=\"--\",\"--\",'Data Entry'!G24)","v":"--"},{"$f":"IF(E20=\"--\",\"--\",L19)","v":"--"},{"$f":"IF(E20=\"--\",\"--\",'Data Entry'!H24)","v":"--"},{"$f":"'Data Entry'!I24","v":""}]
["--",null,null,null,"--",{"$f":"IF('Data Entry'!D25=\"\",\"--\",'Data Entry'!D25)","v":"--"},{"$f":"IF(F21=\"--\",\"--\",'Data Entry'!G24)","v":"--"},{"$f":"IF(F21=\"--\",\"--\",'Data Entry'!F25)","v":"--"},{"$f":"IF(F21=\"--\",\"--\",'Data Entry'!G25)","v":"--"},"--",{"$f":"IF(E21=\"--\",\"--\",'Data Entry'!H25)","v":"--"},{"$f":"'Data Entry'!I25","v":""}]
[null,null,null,null,"--",{"$f":"IF('Data Entry'!D26=\"\",\"--\",'Data Entry'!D26)","v":"--"},{"$f":"IF(F22=\"--\",\"--\",'Data Entry'!G25)","v":"--"},{"$f":"IF(F22=\"--\",\"--\",'Data Entry'!F26)","v":"--"},{"$f":"IF(F22=\"--\",\"--\",'Data Entry'!G26)","v":"--"},"--",{"$f":"IF(E22=\"--\",\"--\",'Data Entry'!H26)","v":"--"},{"$f":"'Data Entry'!I26","v":""}]
[null,null,null,null,"--",{"$f":"IF('Data Entry'!D27=\"\",\"--\",'Data Entry'!D27)","v":"--"},{"$f":"IF(F23=\"--\",\"--\",'Data Entry'!G26)","v":"--"},{"$f":"IF(F23=\"--\",\"--\",'Data Entry'!F27)","v":"--"},{"$f":"IF(F23=\"--\",\"--\",'Data Entry'!G27)","v":"--"},"--",{"$f":"IF(E23=\"--\",\"--\",'Data Entry'!H27)","v":"--"},{"$f":"'Data Entry'!I27","v":""}]
[null,null,null,null,null,null,null,{"$f":"'Data Entry'!$D$5","v":"TEHSILDAR COLONISATION, XYZ"}]
[]
[]
[{"$f":"IF(B27=\"\",\"\",\"Note\")","v":""}]
["Serial No",null,{"$f":"IF('Data Entry'!$C$41=\"\",\"\",'Data Entry'!C41)","v":"TDR/Col/Estt.//2021-22/"},null,null,null,null,null,null,"Dated ",{"$f":"IF('Data Entry'!$E$42=\"\",\"\",'Data Entry'!E42)","v":"2023-06-16"}]
["Copy forwarded for  information and necessary action :-"]
[{"$f":"IF(B30=\"\",\"\",1)","v":1},{"$f":"Table_Incr!Q67","v":"Treassury Officer  ,  JAISALMER"}]
[{"$f":"IF(B31=\"\",\"\",2)","v":2},{"$f":"Table_Incr!Q68","v":"ABCD  ,Designation -- I.L.R "}]
[{"$f":"IF(B32=\"\",\"\",3)","v":3},{"$f":"Table_Incr!Q69","v":"Accounts Branch-in two copies for prepration of bill"}]
[{"$f":"IF(B33=\"\",\"\",4)","v":4},{"$f":"Table_Incr!Q70","v":"Personal File/Gurd File"}]
[{"$f":"IF(B34=\"\",\"\",5)","v":5},{"$f":"Table_Incr!Q71","v":"Estt. Branch"},null,null,null,null,null,{"$f":"H24","v":"TEHSILDAR COLONISATION, XYZ"}]
[{"$f":"IF(B35=\"\",\"\",6)","v":""},{"$f":"Table_Incr!Q72","v":""}]
[{"$f":"IF(Table_Incr!CG7=\"YES\",\"#16.18.1.22.5.19.8√97263.0458756048#\",\"16.18.1.22.5.19.8√97263.0458756048\")","v":"#16.18.1.22.5.19.8√97263.0458756048#"},null,null,null,null,{"$f":"Table_Incr!CG17","v":"w-f-16"}]
[]
[]
[]
[null,null,null,"HOME",null,null,"Data Entry"]

{"sheet":"Data Entry","index":10,"n_rows":49,"n_cols":11,"rows_kept":49,"cut":false,"hidden":false,"merged":[[2,10,2,11],[0,0,0,7],[4,0,4,2],[4,3,4,8],[1,0,1,2],[2,0,2,2],[3,0,3,2],[1,3,1,8],[2,3,2,8],[3,3,3,8],[4,10,4,12],[5,0,5,8],[8,0,9,3],[8,4,9,8],[6,3,6,7],[10,4,10,5],[10,0,10,3],[6,0,6,1],[10,6,11,7],[11,4,11,5],[11,0,11,3],[7,0,7,8],[42,5,42,8],[38,0,39,4],[38,5,39,7],[38,8,39,8],[40,0,41,1],[40,2,41,3],[40,5,41,5],[40,6,41,6],[40,8,41,8],[6,10,6,12],[44,1,44,3],[44,5,44,8],[48,1,48,3],[48,5,48,8],[45,1,45,3],[45,5,45,8],[46,1,46,3],[46,5,46,8],[47,1,47,3],[47,5,47,8],[43,1,43,3],[43,5,43,8],[14,6,15,7],[14,8,15,8],[42,1,42,3],[12,0,12,3],[12,8,13,8],[13,0,13,3],[13,4,13,5],[12,6,13,7],[12,4,12,5],[37,0,37,8],[30,0,36,3],[30,4,36,8],[14,4,14,5],[15,4,15,5],[14,0,14,3],[15,0,15,3],[29,0,29,8],[16,0,16,8]]}
["Input only unhighligted cells (i.e. White colour cells) ",null,null,null,null,null,null,null,"HOME"]
["NAME OF EMPLOYEE",null,null,"ABCD"]
["DESIGNATION",null,null,"I.L.R"]
["NAME OF OFFICE",null,null,"TEHSILDAR COLONISATION, XYZ"]
["SIGNATURE AUTHORITY ",null,null,"TEHSILDAR COLONISATION, XYZ",null,null,null,null,null,null,"Increment Order"]
["Applicability of ACP/Promotion (This calculation sheet calculate only two ACP/Promotion)"]
["Select(Type)-I",null,{"$f":"Table_Incr!R39","v":"A"},"Regular ACP",null,null,null,null,"18 years",null,"ACP Order"]
[]
[{"$f":"CONCATENATE(\"Name of  authority who issue\",\"  \",D7,\"  \",\"order\",\"  \")","v":"Name of  authority who issue  Regular ACP  order  "},null,null,null,"COMMISSIONER COLONISATION BIKANER "]
[]
[{"$f":"CONCATENATE($D$7,\"  \",\"order no.\",\"  \")","v":"Regular ACP  order no.  "},null,null,null,"1607-1614",null,"Existing Pay Level",null,"Level_10"]
[{"$f":"CONCATENATE($D$7,\"  \",\"order date.\",\"  \")","v":"Regular ACP  order date.  "},null,null,null,"2023-05-24",null,null,null,{"$f":"Table_Incr!$CC$31","v":"L-10"}]
[{"$f":"CONCATENATE($D$7,\"  \",\"due date.\",\"  \")","v":"Regular ACP  due date.  "},null,null,null,"2021-05-19",null,{"$f":"CONCATENATE(\"Existing Pay in Pay Level\",\"  \",  \"  \",     \"   (\",   I12,\")\",\"  \")","v":"Existing Pay in Pay Level       (L-10)  "},null,42700]
["Condition (select \"YES\" ,if applicable ,otherwise \"NO\")",null,null,null,"YES"]
["Increment start date",null,null,null,"2021-07-01",null,"Opening Balance of  P.P. under Rule 11(6)",null,0]
["Increment end date",null,null,null,"2023-07-01"]
["Input incremental condition, if any (leave blank if condition not applicable)"]
["Regular Increment Date","Change Date \n(if have)","Condition for change incr. Date","Final Date","Increment\nCondition","Increment amount","Pay after Increment","Adjusted P.P. under Rule 11(6)","Balace P.P. amt "]
[{"$f":"Table_Incr!F44","v":"2021-07-01"},{"$f":"A19","v":"2021-07-01"},"NO",{"$f":"Table_Incr!I44","v":"2021-07-01"},"NO",{"$f":"Table_Incr!M44","v":0},{"$f":"Table_Incr!N44","v":45100},0,{"$f":"$I$15-H19","v":0}]
[{"$f":"Table_Incr!F45","v":"2022-07-01"},"2022-07-01","NO",{"$f":"Table_Incr!I45","v":"2022-07-01"},"YES",{"$f":"Table_Incr!M45","v":1400},{"$f":"Table_Incr!N45","v":46500},0,{"$f":"IF(D20=\"\",\"\",I19-H20)","v":0}]
[{"$f":"Table_Incr!F46","v":"2023-07-01"},"2023-07-01","NO",{"$f":"Table_Incr!I46","v":"2023-07-01"},"YES",{"$f":"Table_Incr!M46","v":1400},{"$f":"Table_Incr!N46","v":47900},0,{"$f":"IF(D21=\"\",\"\",I20-H21)","v":0}]
[{"$f":"Table_Incr!F47","v":""},"","NO",{"$f":"Table_Incr!I47","v":""},"YES",{"$f":"Table_Incr!M47","v":""},{"$f":"Table_Incr!N47","v":""},0,""]
[{"$f":"Table_Incr!F48","v":""},"","NO",{"$f":"Table_Incr!I48","v":""},"YES",{"$f":"Table_Incr!M48","v":""},{"$f":"Table_Incr!N48","v":""},null,""]
[{"$f":"Table_Incr!F49","v":""},"","NO",{"$f":"Table_Incr!I49","v":""},"YES",{"$f":"Table_Incr!M49","v":""},{"$f":"Table_Incr!N49","v":""},null,""]
[{"$f":"Table_Incr!F50","v":""},"","NO",{"$f":"Table_Incr!I50","v":""},"YES",{"$f":"Table_Incr!M50","v":""},{"$f":"Table_Incr!N50","v":""},null,""]
[{"$f":"Table_Incr!F51","v":""},"","NO",{"$f":"Table_Incr!I51","v":""},"YES",{"$f":"Table_Incr!M51","v":""},{"$f":"Table_Incr!N51","v":""},null,""]
[{"$f":"Table_Incr!F52","v":""},"","NO",{"$f":"Table_Incr!I52","v":""},"YES",{"$f":"Table_Incr!M52","v":""},{"$f":"Table_Incr!N52","v":""},null,""]
[{"$f":"Table_Incr!F53","v":""},"","NO",{"$f":"Table_Incr!I53","v":""},"YES",{"$f":"Table_Incr!M53","v":""},{"$f":"Table_Incr!N53","v":""},null,""]
[{"$f":"Table_Incr!F54","v":""},"","NO",{"$f":"Table_Incr!I54","v":""},"YES",{"$f":"Table_Incr!M54","v":""},{"$f":"Table_Incr!N54","v":""},null,""]
["Write official language of officer order of effect of selected option in cell \"D7\""]
[{"$f":"Table_Incr!B74","v":"Write official langauge of   Regular ACP  issued by  TEHSILDAR COLONISATION, XYZ  vide Regular ACP  order no.    1607-1614  and   Regular ACP  order date.   24/05/23  which is due on dated 19/05/21"},null,null,null,"dk;kZy; vk;qDr mifuos'ku foHkkx] chdkusj ds vkns'k Øaekd i-6¼25½leq@izLFkk@2003@ 1604&1614 fnukad 24&05&2023 dh vuqikyuk esa f}rh; ,lhih ij osru fu/kkZj.k fuEukuqlkj fd;k tkrk gS&%"]
[]
[]
[]
[]
[]
[]
["If any note required to display in increment order for  (leave blank,if no data to input) INCREMENT/ACP/PROMOTION"]
["Details of dispatch no/order date, and name of parties for copy of order is forwarded",null,null,null,null,"Concerning Try. Name for order dispatch purpose",null,null,"Final Name"]
[]
["Letter No/File Number for Office order,date for order dispatch purpose",null,"TDR/Col/Estt.//2021-22/",null,"Order date","Select Try/Sub Try","Treasury","JAISALMER",{"$f":"Table_Incr!C65","v":"Treasury  JAISALMER"}]
[null,null,null,null,{"$f":"TODAY()","v":"2023-06-16"},null,null,"Nokha"]
["S.N.","Name of Parties",null,null,"Process","The parties name will be shown in order as under"]
[1,"Concerning Sub/Treasury (Mandentary)",null,null,"YES",{"$f":"IF(E44=\"YES\",Table_Incr!H67,\"\")","v":"Treassury Officer  ,  JAISALMER"}]
[2,"Incumbent (i.e. Concerning employee.. Mandantary)",null,null,"YES",{"$f":"IF(E45=\"YES\",Table_Incr!H68,\"\")","v":"ABCD  ,Designation -- I.L.R "}]
[3,"Accounts Branch  (suggested to select \"yes\")",null,null,"YES",{"$f":"IF(E46=\"YES\",Table_Incr!H69,\"\")","v":"Accounts Branch-in two copies for prepration of bill"}]
[4,"Accounts Officer, Colonosiation, Bikaner",null,null,"NO",{"$f":"IF(E47=\"YES\",Table_Incr!H70,\"\")","v":""}]
[5,"Personal File/Gurd File",null,null,"YES",{"$f":"IF(E48=\"YES\",Table_Incr!H71,\"\")","v":"Personal File/Gurd File"}]
[5,"Estt. Branch",null,null,"YES",{"$f":"IF(E49=\"YES\",Table_Incr!H72,\"\")","v":"Estt. Branch"}]

{"sheet":"Sheet3","index":11,"n_rows":8,"n_cols":25,"rows_kept":8,"cut":false,"hidden":true,"merged":[]}
[]
["Levels","Level1","Level2","L-3","L-4","L-5","L-6","L-7","L-8","L-9","L-10","L-11","L-12","L-13","L-14","L-15","L-16","L-17","L-18","L-19","L-20","L-21","L-22","L-23","L-24"]
[1,17700,17900,18200,19200,20800,21500,22400,26300,28700,33800,37800,44300,53100,56100,60700,67300,71000,75300,79900,88900,123100,129700,145800,148800]
[2,18200,18400,18700,19800,21400,22100,23100,27100,29600,34800,38900,45600,54700,57800,62500,69300,73100,77600,82300,91600,126800,133600,150200,153300]
[]
[]
[null,null,"Level1"]
[null,null,17700,null,null,null,"L-1","L-2"]

{"sheet":"Blank copy","index":12,"n_rows":40,"n_cols":12,"rows_kept":40,"cut":false,"hidden":false,"merged":[[33,7,35,11],[39,6,39,7],[23,7,26,11],[27,0,27,1],[27,10,27,11],[10,11,13,11],[7,0,8,0],[7,1,8,11],[9,0,13,0],[9,1,13,1],[9,2,13,2],[9,3,13,3],[9,4,13,4],[9,5,13,5],[9,6,9,8],[9,9,9,11],[10,6,13,6],[10,7,13,7],[10,8,13,8],[10,9,13,9],[10,10,13,10],[1,3,1,8],[1,13,1,14],[2,0,2,11],[3,0,3,11],[4,0,6,0],[4,1,6,11]]}
[]
[null,"HOME",null,null,null,null,null,null,null,null,"HOME"]
["<WRITE NAME OF OFFICE>"]
["Periodic Salalry Increment Certificate"]
[1,"Certified that the Government servents named below have earned the prescribed periodical increments from the date cited in column 6 having been the incumbent of the posts specified    not less than year from the date in column 6 after deducting period of suspension for misconduct etc. and absence on leave without pay & the case of those holding the post in officiating capacity, all other kinds of leave.  "]
[]
[]
[2,"Certified that the Government servents named below have earned/will earn periodical increments from the date cited for reasons stated in the explanatory memo \n attached here to.      "]
[]
["Emp. Code/S.N.","Name of Incumbent ","Post","Pay Level\n","Date From \nPresent Pay \nis being taken","Date \nof Increment ","Annual Increment Amount",null,null,"Personal Pay"]
[null,null,null,null,null,null," Pay in the Level in the Pay Matrix","Increment amount","Total Basic Pay ","Opening Balance of  P.P. under Rule 11(6)","Adjusted P.P. under Rule 11(6)","Balace P.P. amt "]
[]
[]
[]
[1,{"$f":"A15+1","v":2},{"$f":"B15+1","v":3},4,5,6,7,8,9,10,11,12]
[]
[]
[]
[]
[]
[]
[]
[]
[null,null,null,null,null,null,null,"<< WRITE NAME OF POST WHO AUTHORISED FOR SIGNATURE ON ORDER>>"]
[]
[]
[{"$f":"IF(B27=\"\",\"\",\"Note\")","v":""}]
["Serial No",null,null,null,null,null,null,null,null,"Dated "]
["Copy forwarded for  information and necessary action :-"]
[{"$f":"IF(B30=\"\",\"\",1)","v":""}]
[{"$f":"IF(B31=\"\",\"\",2)","v":""}]
[{"$f":"IF(B32=\"\",\"\",3)","v":""}]
[{"$f":"IF(B33=\"\",\"\",4)","v":""}]
[{"$f":"IF(B34=\"\",\"\",5)","v":""},null,null,null,null,null,null,{"$f":"H24","v":"<< WRITE NAME OF POST WHO AUTHORISED FOR SIGNATURE ON ORDER>>"}]
[{"$f":"IF(B35=\"\",\"\",6)","v":""},{"$f":"Table_Incr!Q72","v":""}]
[]
[]
[]
[]
[null,null,null,"HOME",null,null,"Data Entry"]

{"sheet":"utility","index":13,"n_rows":22,"n_cols":9,"rows_kept":22,"cut":false,"hidden":false,"merged":[[3,0,3,6],[9,0,9,6],[20,0,20,2],[21,0,21,2],[19,0,19,3],[19,4,19,6],[18,0,18,6]]}
[]
[null,null,null,null,null,null,"HOME"]
[]
["Check increment amount - Input value in white colour cells-in VII Pay Scale"]
["Start_Period",2022,{"$f":"IF(B5=\"\",\"\",B5+1)","v":2023},{"$f":"IF(C5=\"\",\"\",C5+1)","v":2024},{"$f":"IF(D5=\"\",\"\",D5+1)","v":2025},{"$f":"IF(E5=\"\",\"\",E5+1)","v":2026},{"$f":"IF(F5=\"\",\"\",F5+1)","v":2027}]
["Data","Amount","Amount","Amount","Amount","Amount","Amount",null,"Formula"]
["Basic Pay-Start",38900,{"$f":"B9","v":40100},{"$f":"C9","v":41300},42500,43800,45100]
["3% Incre.",{"$f":"(ROUND(B7*3%,-2))","v":1200},{"$f":"(ROUND(C7*3%,-2))","v":1200},1200,1300,1300,1400,null,"(ROUND(B7*3%,-2))"]
["Basic Pay-End",{"$f":"B7+B8","v":40100},{"$f":"C7+C8","v":41300},42500,43800,45100,46500]
["Check increment amount and ACP effect- Input value in white colour cells-in VI Pay Scale"]
["Period",2013,{"$f":"IF(B11=\"\",\"\",B11+1)","v":2014},{"$f":"IF(C11=\"\",\"\",C11+1)","v":2015},{"$f":"IF(D11=\"\",\"\",D11+1)","v":2016},{"$f":"IF(E11=\"\",\"\",E11+1)","v":2017},{"$f":"IF(F11=\"\",\"\",F11+1)","v":2018}]
["Data","Amount","Amount","Amount","Amount","Amount","Amount"]
["Basic Pay-Start",34700,{"$f":"B18","v":36350},{"$f":"C18","v":37450},{"$f":"D18","v":38580},{"$f":"E18","v":39740},{"$f":"F18","v":40940}]
["3% Incre.",{"$f":"ROUNDUP(ROUND(B13*3%,0),-1)","v":1050},{"$f":"ROUNDUP(ROUND(C13*3%,0),-1)","v":1100},1130,1160,1200,1230,null,"ROUNDUP(ROUND(B13*3%,0),-1)"]
["Ist Grade Pay",0,0,0,0,0,0]
["IInd GradePay",600,0,0,0,0,0]
["Diff of Grade Pay",{"$f":"B16-B15","v":600},0,0,0,0,0]
["Basic Pay-End",{"$f":"B13+B14+B17","v":36350},37450,38580,39740,40940,42170]
["View existing Pay Range and Mini- & Maxi. Pay in selected Pay Level"]
["View existing pay range in selected Level",null,null,null,"Find out Mini. & Maxi. Pay in selected Pay Level"]
["Existing Pay Level",null,null,"Level_5","Select Pay_Level","Minimum Pay","Maximum Pay"]
[{"$f":"CONCATENATE(\"Existing Pay in Pay Level\",\"  \",  \"  \",     \"   (\",   D21,\")\",\"  \")","v":"Existing Pay in Pay Level       (Level_5)  "},null,null,20800,"Level_11",{"$f":"INDEX(Table_Incr!$CU$7:$CU$30,MATCH(E22,Table_Incr!$CT$7:$CT$30,0))","v":37800},{"$f":"INDEX(Table_Incr!$CV$7:$CV$30,MATCH(E22,Table_Incr!$CT$7:$CT$30,0))","v":119700}]

{"sheet":"Key Points","index":14,"n_rows":75,"n_cols":4,"rows_kept":75,"cut":false,"hidden":false,"merged":[[68,2,68,3],[69,2,69,3],[70,2,70,3],[71,2,71,3],[72,2,72,3],[73,2,73,3],[74,2,74,3],[2,0,2,3],[3,0,3,2],[17,3,32,3],[29,0,32,0],[17,0,25,0],[66,0,66,2],[36,1,41,2],[36,3,41,3],[42,1,45,2],[42,3,45,3],[42,0,45,0],[36,0,41,0],[46,1,55,2],[56,1,59,2],[33,0,33,3],[60,1,62,2],[63,1,65,2],[60,0,62,0],[63,0,65,0],[60,3,65,3],[34,1,34,2],[46,0,55,0],[56,0,59,0],[46,3,55,3],[56,3,59,3],[35,1,35,2],[29,1,32,2],[4,3,15,3],[17,1,25,2],[4,0,15,2],[26,1,28,2],[26,0,28,0]]}
[null,null,null,"HOME"]
[]
["Annual Increment in VI & VII Pay Scale-key points"]
["(A) Rajasthan Civil Services (Revised Pay) Rules. 2008 w.e.f. 01.01.2006"]
["There will be a uniform date of annual increment, viz. 1st July of every year. Employees completing 6 months and above in the running pay band as on 1st of July will be eligible to be granted the increment The first increment after fixation of pay on 01.01.2006 in the running pay band will be granted to the employees, who have completed 6 months on 01.07.2006. Provided that in the case of persons who had been drawing maximum of the existing pay scale for more than a year as on the 1st day of January, 2006, the next increment in the running pay band shall be allowed on the 1st day of January, 2006. Thereafter, the provision of Rule 14 would apply.”",null,null,"Rule 14 of Rajasthan Civil Services (Revised Pay) Rules, 2008 and Rajasthan Civil Services (Revised Pay) Rules, 2017"]
[]
[]
[]
[]
[]
[]
[]
[]
[]
[]
[]
[" (B) Rajasthan Civil Services (Revised Pay) Rules. 2017 w.e.f 01-01-2017"]
["(i)","There will be a uniform date of annual increment viz. 1st July of every year. Employees completing 6 months and above in any level of the Pay Matrix as on 1st July every year will be eligible for grant of annual increment The first increment after fixation of pay under these rules as per option of the employee will be granted on completing 6 months by counting the period of service rendered in the existing Running Pay Band and in a level of the Pay Matrix in these rules.",null,"Rule 13 of  Rajasthan Civil Services (Revised Pay) Rules. 2017 and clearfication by FD circular dated 11-02-2020"]
[]
[]
[]
[]
[]
[]
[]
[]
["(ii)"," Every new recruit on completion of probation period successfully shall be allowed first annual increment on 1st July, which immediately follows the date of completion of probation period.”"]
[]
[]
["(iii)","In accordance with the above provisions of both the Rules, Government employees retired on 30th June of the year are not entitled to annual increment admissible on 1st July of the year."]
[]
[]
[]
["Onther important key points"]
[1,"Probationer trainee shall earn no annual grade increment for the period of probation training ",null,"Rule 27-C of R.S.R."]
[2,"An existing employee already in regular service shall have an option to opt either for the 'fixed remuneration' or the pay in the running pay band and grade pay (not the scale of his/ her new appointment), whichever is beneficial to him / her while he / she is under probation. After successful completion of probation period, pay may be fixed as per the rules, where such a Government Servant will get due advantage of being in a regular pay scale earlier, and will get due protection of his / her pay.",null,"Notification No. F.14(1)FD (Rules)/2013-ll dated 28-06-2013"]
[3,"For fixing the date of increment after 1-4-1974, first due date of increment will be arrived at by adding the period of non-qualifying service with reference to the last date of increment in the previous year; then the individual will be granted the increment from the first of the month in which this due date of the increment falls",null,"Government of Rajasthan's Decision"]
[]
[]
[]
[]
[]
[4,"Extraordinary leave in individual cases is allowed to count for increment, if such leave is availed of for any of the reasons specified in clause (i) or (ii) of the said rule. \n(i.e. leave except extraordinary leave taken otherwise than on medical certificate)",null,"Rule No 31 of R.S.R. "]
[]
[]
[]
[5,"Maternity leave granted to female Government Servants may be allowed to count for increments in the post in which the Government Servant was officiating at the time of proceeding on such leave provided it is certified by the leave sanctioning authority in accordance with the Government of Rajasthan's Order No. 3 appearing below Rule 31 (bb) of the Rajasthan Service Rules that the Government servant concerned would have continued to officiate in that post or a post on the same time-scale but for proceeding on such leave.",null,"Rule No 31 of R.S.R. "]
[]
[]
[]
[]
[]
[]
[]
[]
[]
[6,"Premature Increments.—An authority which has the power to create a post in a cadre on a particular scale of pay may grant a premature increment to a Government servant on that time-scale of pay.",null,"Rule No 32 of R.S.R. "]
[]
[]
[]
[7,"The period of service on foreign assignment will count for increment on the permanent post on which the Government servant concerned holds a lien.",null,"Government of Rajasthan's Decision"]
[]
[]
[8,"The period of absence not covered by grant of leave shall have to be treated as 'dies non,' for all purposes, viz. increment, leave and pension."]
[]
[]
["Clarification by FD ( Order No. F. 1 (31) FD (Gr. 2)/74, dated 23-7-1974)"]
["S.N.","Question/Point","Clarification"]
[1,"How the increment will be regulated if the employee happens to be on leave on the first of the month. ","An employee during leave draws leave salary and not duty pay. An increment accuring during leave cannot, therefore, be drawn during leave. The increment in such cases will be drawn from the date of resumption of duty on return from leave."]
[2,"How the increment will be regulated in cases in which there is postponement due to employee's proceeding on leave without pay which is not counted for increment. ","The postponement of normal increment will be worked out as per existing rules and orders. If the postpond increment falls on any date of a month it will be granted from the first of that month."]
[3,"When the date of appointment of an employee is 19-5-1974, can he be given increment on 1.5.1975 before completing 12 month service ?","In the case of initial appointment according after 1-4-1974 it is inherent in the orders that the first increment will be drawn earlier before completing the normal incremental period of 12 months"]
[4,"Periods of service at the same stage count for increment. If by counting those broken periods the date of next increment falls on a date later than 1st of the month whether the increment is to be allowed on the specific date when the employee completes one year service at the same stage or on the first of the month if the broken periods together become less than one complete year.","Increment will be payable from the first of the month in which the next increment falls due after counting the broken periods equal to one year, provided the Government servant has also been holding the post from the first of that month to the date it falls due. In case he is not holding the post on the first of the month, the increment will be granted from the date it falls due."]
[5,"How to regulate the grant of increment when the normal increment is withheld for specified period and the period of such penalty expired after 1st of the month.","These orders will not apply to cases where increments are withheld as a measure of penalty. Increments in such cases, will be granted/restarted from the date the penalty ceases. "]
[6," Advance increment are allowed on the date of passing certain examination. Will these increments be allowed from the 1st of the month in which these become due.","These orders relate to only drawal of normal increments in the prescribed scale and are not applicable to advance increments, due to passing of certain examinations. Such increments, if permissible, will 98 be governed by the rules and orders."]
[7,"How the increment will be regulated in cases of promotion when increment accrues during the same month.","These orders will not apply to such cases i.e. in such cases the increment will be granted from the date it falls due ( it is hereby clarified that whereas in the month and year of promotion, the increment will be allowed from a date other than 1st of the month, but from next year onwards the increment will be brought over to the first of the month.)"]

{"sheet":"Order","index":15,"n_rows":42,"n_cols":5,"rows_kept":42,"cut":false,"hidden":false,"merged":[[29,0,29,2],[1,0,2,2],[1,4,3,8]]}
[null,null,"HOME"]
["Important Notification/Clearfication/Memoramdum-avaiable on \nFinance Department website",null,null,null,"(इस टेबल में उपलब्ध अधिसूचना/परिपत्र/आदेश का विषय एवं उसकी दिनांक का हाईपर लिंक दिया जा रहा है, यूजर आवश्कतानुसार इसका उपयोग कर सकता है।)"]
[]
["S. No.","Subject","Order Date"]
[1,"Clarification regarding next date of Annual Increment","2022-11-21"]
[2,"Regarding demand for Grant of notional increment/re-fixation of pensionary benefits as per Hon'ble Madras High Court Order in WP No. 15732/2017 in the case of Sh. P. Ayyamperumal","2022-01-05"]
[3,"Regarding demand for Grant of notional increment/re-fixation of pensionary benefits as per Hon'ble Madras High Court Order in WP No. 15732/2017 in the case of Sh. P. Ayyamperumal","2021-07-05"]
[4,"Demand for Grant of notional increment/re-fixation of pensionary benefits as per Honorable Madras High Court Order in WP No. 15732/2017 in the case of Sh.P.Ayyamperumal","2020-02-11"]
[5,"Fixation of pay in the Rajasthan Civil Services (Revised Pay) Rules, 2017 of person whose increments have been with-held or whose pay has been reduced as a measure of penalty.","2017-12-26"]
[6,"Amendment in RCS (RP) Rules, 2017 for Schedule-V (Advance Increment)","2017-12-21"]
[7,"Grant of withheld increment of 01.07.2017 of direct recruitees of various Grade Pay","2017-11-29"]
[8,"Postponement of increment of 01.07.2017 of Direct recruitees who are getting salary as per revised Schedule-V w.e.f. 01.07.2013 of RCS(RP) Rules,2008.","2017-07-28"]
[9,"Rajasthan Civil Services (Revised Pay) Rules, 2008 - Order based on PSF Committee","2013-06-28"]
[10,"Rajasthan Civil Services (Revised Pay) Rules, 2008 - Order based on PSF Committee","2013-06-28"]
[11,"Rajasthan Civil Services (Revised Pay) Rules, 2008 - (Advance Increment)","2013-06-28"]
[12,"Non-Clinical and Non-Practising Allowance to Medical Officers - Order based on PSF Committee (Non-Clinical and Non-Practising Allowance to Medical Officers)","2013-06-28"]
[13,"Rajasthan Civil Services (Revised Pay) Rules, 2008 - Order based on PSF Committee","2013-06-28"]
[14,"Rajasthan Civil Services (Revised Pay) Rules, 2008","2013-04-06"]
[15,"Rajasthan Civil Services (Revised Pay) Rules, 2008 - Clarification in regard to Rule 15 of these rules.","2012-02-22"]
[16,"Date of next increment in cases where Government Servants availed extraordinary leave in a running pay band during the year.","2009-06-09"]
[17,"Successful completion of period of probation of probationer-trainees and grant of pay in the pay scale / running payband in the post","2009-05-22"]
[18,"Rounding off the amount of annual increment to next multiple of 10 under Rajasthan Civil Services (Revised Pay) Rules, 2008","2009-04-22"]
[19,"Amendment in Fixation of pay in the Rajasthan Civil Services (Revised Pay) Rules, 2008 of person whose increments have been with-held or whose pay has been reduced as a measure of penalty","2009-01-27"]
[20,"Frequently asked questions / queries and clarification thereon","2008-09-25"]
[21,"Rajasthan Civil Services (Revised Pay Scales) Rules, 1998.","2002-05-06"]
[22,"Regularization of the strike period for increment and pension (15.12.1999 to 16.02.2000)","2000-05-05"]
[23,"Fixation of pay in the Rajasthan Civil Services (Revised Pay Scales) Rules, 1998 of persons whose increments have been with-held or whose pay has been reduced as a measure of penalty","1998-03-28"]
[24,"Fixation of pay of persons whose increments have been with-held of whose pay has been reduced as a measure of penalty","1991-09-23"]
[]
["Important Notification/Clearfication/Memoramdum-avaiable on DOP website"]
[1,"Instructions regarding Immovable Property Return","2016-01-13"]
[2,"IAS/IPS/IFS(Pay) Rules- re-fixation of pay in the higher scales on actual of increments in the lower scales on promotion of members of the All India Services in various grades-regarding","2006-03-21"]
[]
[]
[]
[]
[]
[]
[4,"Rajasthan Civil Services (Revised Pay) Rules, 2008 - Order based on PSF Committee","2013-06-28"]
[5,"Rajasthan Civil Services (Revised Pay) Rules, 2008 - (Advance Increment)","2013-06-28"]
[6,"Non-Clinical and Non-Practising Allowance to Medical Officers - Order based on PSF Committee (Non-Clinical and Non-Practising Allowance to Medical Officers)","2013-06-28"]
[8,"Rajasthan Civil Services (Revised Pay) Rules, 2008 - Order based on PSF Committee","2013-06-28"]

{"sheet":"View Pay Matrix","index":16,"n_rows":27,"n_cols":45,"rows_kept":27,"cut":false,"hidden":false,"merged":[[0,0,0,1],[0,41,0,42],[1,0,2,0],[1,1,2,1],[1,3,2,3],[1,4,2,4],[1,5,2,5],[1,6,2,6],[1,7,2,7],[1,8,2,8],[1,20,2,20],[1,9,2,9],[1,10,2,10],[1,11,2,11],[1,12,2,12],[1,13,2,13],[1,14,2,14],[1,15,2,15],[1,16,2,16],[1,17,2,17],[1,18,2,18],[1,19,2,19],[1,32,2,32],[1,21,2,21],[1,22,2,22],[1,23,2,23],[1,24,2,24],[1,25,2,25],[1,26,2,26],[1,27,2,27],[1,28,2,28],[1,29,2,29],[1,30,2,30],[1,31,2,31],[1,39,2,39],[1,40,2,40],[1,41,2,41],[1,42,2,42],[1,33,2,33],[1,34,2,34],[1,35,2,35],[1,36,2,36],[1,37,2,37],[1,38,2,38]]}
["HOME",null,null,null,null,null,null,null,null,null,null,null,null,null,null,null,null,null,null,null,null,null,null,null,null,null,null,null,null,null,null,null,null,null,null,null,null,null,null,null,null,"HOME"]
["Existing Grade Pay","Existing Grade Pay No.","Cell",1,2,3,4,5,6,7,8,9,10,11,12,13,14,15,16,17,18,19,20,21,22,23,24,25,26,27,28,29,30,31,32,33,34,35,36,37,38,39,40]
[null,null,"Level"]
[1700,2,"L-1",17700,18200,18700,19300,19900,20500,21100,21700,22400,23100,23800,24500,25200,26000,26800,27600,28400,29300,30200,31100,32000,33000,34000,35000,36100,37200,38300,39400,40600,41800,43100,44400,45700,47100,48500,50000,51500,53000,54600,56200,{"$f":"MAX(D4:AQ4)","v":56200},{"$f":"MIN(D4:AQ4)","v":17700}]
[1750,3,"L-2",17900,18400,19000,19600,20200,20800,21400,22000,22700,23400,24100,24800,25500,26300,27100,27900,28700,29600,30500,31400,32300,33300,34300,35300,36400,37500,38600,39800,41000,42200,43500,44800,46100,47500,48900,50400,51900,53500,55100,56800,{"$f":"MAX(D5:AQ5)","v":56800},{"$f":"MIN(D5:AQ5)","v":17900}]
[1900,4,"L-3",18200,18700,19300,19900,20500,21100,21700,22400,23100,23800,24500,25200,26000,26800,27600,28400,29300,30200,31100,32000,33000,34000,35000,36100,37200,38300,39400,40600,41800,43100,44400,45700,47100,48500,50000,51500,53000,54600,56200,57900,57900,18200]
[2000,5,"L-4",19200,19800,20400,21000,21600,22200,22900,23600,24300,25000,25800,26600,27400,28200,29000,29900,30800,31700,32700,33700,34700,35700,36800,37900,39000,40200,41400,42600,43900,45200,46600,48000,49400,50900,52400,54000,55600,57300,59000,60800,60800,19200]
[2400,9,"L-5",20800,21400,22000,22700,23400,24100,24800,25500,26300,27100,27900,28700,29600,30500,31400,32300,33300,34300,35300,36400,37500,38600,39800,41000,42200,43500,44800,46100,47500,48900,50400,51900,53500,55100,56800,58500,60300,62100,64000,65900,65900,20800]
[2400,"9A","L-6",21500,22100,22800,23500,24200,24900,25600,26400,27200,28000,28800,29700,30600,31500,32400,33400,34400,35400,36500,37600,38700,39900,41100,42300,43600,44900,46200,47600,49000,50500,52000,53600,55200,56900,58600,60400,62200,64100,66000,68000,68000,21500]
[2400,"9B","L-7",22400,23100,23800,24500,25200,26000,26800,27600,28400,29300,30200,31100,32000,33000,34000,35000,36100,37200,38300,39400,40600,41800,43100,44400,45700,47100,48500,50000,51500,53000,54600,56200,57900,59600,61400,63200,65100,67100,69100,71200,71200,22400]
[2800,10,"L-8",26300,27100,27900,28700,29600,30500,31400,32300,33300,34300,35300,36400,37500,38600,39800,41000,42200,43500,44800,46100,47500,48900,50400,51900,53500,55100,56800,58500,60300,62100,64000,65900,67900,69900,72000,74200,76400,78700,81100,83500,83500,26300]
[2800,"10A","L-9",28700,29600,30500,31400,32300,33300,34300,35300,36400,37500,38600,39800,41000,42200,43500,44800,46100,47500,48900,50400,51900,53500,55100,56800,58500,60300,62100,64000,65900,67900,69900,72000,74200,76400,78700,81100,83500,86000,88600,91300,91300,28700]
[3600,11,"L-10",33800,34800,35800,36900,38000,39100,40300,41500,42700,44000,45300,46700,48100,49500,51000,52500,54100,55700,57400,59100,60900,62700,64600,66500,68500,70600,72700,74900,77100,79400,81800,84300,86800,89400,92100,94900,97700,100600,103600,106700,106700,33800]
[4200,12,"L-11",37800,38900,40100,41300,42500,43800,45100,46500,47900,49300,50800,52300,53900,55500,57200,58900,60700,62500,64400,66300,68300,70300,72400,74600,76800,79100,81500,83900,86400,89000,91700,94500,97300,100200,103200,106300,109500,112800,116200,119700,119700,37800]
[4800,14,"L-12",44300,45600,47000,48400,49900,51400,52900,54500,56100,57800,59500,61300,63100,65000,67000,69000,71100,73200,75400,77700,80000,82400,84900,87400,90000,92700,95500,98400,101400,104400,107500,110700,114000,117400,120900,124500,128200,132000,136000,140100,140100,44300]
[5400,15,"L-13",53100,54700,56300,58000,59700,61500,63300,65200,67200,69200,71300,73400,75600,77900,80200,82600,85100,87700,90300,93000,95800,98700,101700,104800,107900,111100,114400,117800,121300,124900,128600,132500,136500,140600,144800,149100,153600,158200,162900,167800,167800,53100]
[5400,15,"L-14",56100,57800,59500,61300,63100,65000,67000,69000,71100,73200,75400,77700,80000,82400,84900,87400,90000,92700,95500,98400,101400,104400,107500,110700,114000,117400,120900,124500,128200,132000,136000,140100,144300,148600,153100,157700,162400,167300,172300,177500,177500,56100]
[6000,16,"L-15",60700,62500,64400,66300,68300,70300,72400,74600,76800,79100,81500,83900,86400,89000,91700,94500,97300,100200,103200,106300,109500,112800,116200,119700,123300,127000,130800,134700,138700,142900,147200,151600,156100,160800,165600,170600,175700,181000,186400,192000,192000,60700]
[6600,17,"L-16",67300,69300,71400,73500,75700,78000,80300,82700,85200,87800,90400,93100,95900,98800,101800,104900,108000,111200,114500,117900,121400,125000,128800,132700,136700,140800,145000,149400,153900,158500,163300,168200,173200,178400,183800,189300,195000,null,null,null,195000,67300]
[6800,18,"L-l 7",71000,73100,75300,77600,79900,82300,84800,87300,89900,92600,95400,98300,101200,104200,107300,110500,113800,117200,120700,124300,128000,131800,135800,139900,144100,148400,152900,157500,162200,167100,172100,177300,182600,188100,193700,199500,null,null,null,null,199500,71000]
[7200,19,"L-18",75300,77600,79900,82300,84800,87300,89900,92600,95400,98300,101200,104200,107300,110500,113800,117200,120700,124300,128000,131800,135800,139900,144100,148400,152900,157500,162200,167100,172100,177300,182600,188100,193700,199500,null,null,null,null,null,null,199500,75300]
[7600,20,"L-19",79900,82300,84800,87300,89900,92600,95400,98300,101200,104200,107300,110500,113800,117200,120700,124300,128000,131800,135800,139900,144100,148400,152900,157500,162200,167100,172100,177300,182600,188100,193700,199500,null,null,null,null,null,null,null,null,199500,79900]
[8200,21,"L-20",88900,91600,94300,97100,100000,103000,106100,109300,112600,116000,119500,123100,126800,130600,134500,138500,142700,147000,151400,155900,160600,165400,170400,175500,180800,186200,191800,197600,203500,null,null,null,null,null,null,null,null,null,null,null,203500,88900]
[8700,22,"L-21",123100,126800,130600,134500,138500,142700,147000,151400,155900,160600,165400,170400,175500,180800,186200,191800,197600,203500,null,null,null,null,null,null,null,null,null,null,null,null,null,null,null,null,null,null,null,null,null,null,203500,123100]
[8900,23,"L-22",129700,133600,137600,141700,146000,150400,154900,159500,164300,169200,174300,179500,184900,190400,196100,202000,208100,null,null,null,null,null,null,null,null,null,null,null,null,null,null,null,null,null,null,null,null,null,null,null,208100,129700]
[9500,"23A","L-23",145800,150200,154700,159300,164100,169000,174100,179300,184700,190200,195900,201800,207900,214100,null,null,null,null,null,null,null,null,null,null,null,null,null,null,null,null,null,null,null,null,null,null,null,null,null,null,214100,145800]
[10000,24,"L-24",148800,153300,157900,162600,167500,172500,177700,183000,188500,194200,200000,206000,212200,218600,null,null,null,null,null,null,null,null,null,null,null,null,null,null,null,null,null,null,null,null,null,null,null,null,null,null,218600,148800]

{"sheet":"Sheet1","index":17,"n_rows":22,"n_cols":1,"rows_kept":22,"cut":false,"hidden":true,"merged":[]}
[]
[]
[]
[]
[]
[]
[]
[]
[]
[]
[]
[]
["(A) Prepare Increment order  in VII PC      \n (upto 550 employee)"]
["(B) Prepare Increment order  in VII PC \nwith ACP effect"]
["(C) Genernal information on Increment"]
["      1. Key Points on Increment"]
["      2. Important circular/ memoramdum/clearfication on FD portal"]
["(D) Utility"]
["      1. Check Increment amount (In VI & VII Pay) "]
["      2. View Pay Matrix  (in different way)"]
["      3. Blank copy of Increment order"]
["      4. View existing Pay Range and Mini- & Maxi. Pay in selected Pay Level "]