{"text_format":"1","workbook":"xlsx","n_sheets":163,"sheets":["Instructions","Welcome","Master","EmpDetail","Leave Sanction","PL on Joining","PL on Duty","Surrendar","Bonus","AGI","ACP Pay","Pay Fixation","DPC Pay","PL on Retirement","Releave Letter","Duty Cert I","Duty Cert II","Annual Result","ChargeHandover","HRA","Charge List","Sansthapan","Time Table","Leveries Sanction","GA 141","NOC","LPC","SB PB Receipt","Physical Verify Report","GA 79","Handover List","Pension Link","Pension Case","Before Pension","After Pension","Office Forwrd","Deprt Enqr","CPF Cert","SB Cutting","EOL Comp","Govt Quart","Long Term","No Pension","GA 126","GA 46","Capital Letter","Formate 6","Checklist","SB Rules","Apendix K","Indemnity Bond","PL Demand","Loan Cert","GA 55A","SI Forwrd","GPF Forwrd","SI Maturity","GPF Maturity","Demand Mail","Treasury Affaid","Treasury Doc","Medical Diary","Voluntry Retire","Leave Rules","Formates","Applications","Stock","PL","Commuted","HPL","EOL","MPL","LND","CL","SCL","Probation","ChildAdL","Quaranteen","Disabl Leave","Companstr","Study Leave","Hospital Leave","Terminal","Death Case","Benefit","Procedure","DongleActiv","Deactiv","YogkalApl","CCLApl","HandiAll","HitkariECS","NonPaymentCert","FVCLevr","FVCOthr","ChildDeclr","VacantPost","VerifyListP1","SR5","SR6","SR7","ReleaveLetr","FrwrdServEnd","FrwrdDeathCase","Open","F6FrwrdLtr","LetrHead","CCLRule","CCLAcct","Power3","PowrFormate","PwrFrLt","PwrConsent","PwrRule","SignSampl","CompssantRul","AppFrm","CheckLstD","DDOCrt","EmpID","PRAN","PayHome","EmpIDFrm","MasterFrm","GrpAlo","GrpChang","NewEmp","PayAdd","BillAlo","SalProc","BillStat","BillDlt","BillRevrt","BillObj","DArer","HPSal","PartialPay","EmpTrf","AcceptTrf","AddLoan","NirwahBhatta","BonsBill","ChngPay","IfmsBudg","Rajkosh","ROP","BulkD","SalArer","LevEncs","PLSrr","Egrass","PulDDO","ChngDSC","TABill","FVC","Medical","AutoS","FixationRule","PrbFix","ACPFix","DPCFix","AGIFix","DeffrShet"],"not_rendered":{"charts":0,"images":14,"macros":1,"external_links":3,"defined_names":152,"comments":20,"pivot_tables":0},"unopened":[],"bounds":{"document_bytes":16777216,"sheet_cells":100000,"rows_first":2000,"rows_last":500,"rows_between":2000,"halvings":0,"cell_chars":16384,"cell_head_chars":4096},"cells_cut":0,"cells_raw":0,"read":"whole","date_system":"1900"}

{"sheet":"Instructions","index":0,"n_rows":32,"n_cols":9,"rows_kept":32,"cut":false,"hidden":false,"merged":[[0,1,0,18],[7,1,7,18],[12,1,12,4],[2,1,2,18],[3,1,3,18],[6,1,6,18],[4,10,4,12],[1,1,1,18],[5,1,5,18],[4,1,4,8],[8,1,8,18],[9,1,9,18],[10,1,10,18],[11,1,11,18],[12,5,12,18],[29,7,29,10],[30,7,30,10],[31,6,31,11],[17,1,17,6],[23,1,23,18],[24,1,24,18],[25,1,25,18],[17,7,17,18],[26,7,26,10],[27,7,27,10],[28,8,28,9],[22,1,22,18],[15,1,15,18],[13,1,13,18],[14,1,14,18],[16,1,16,18],[21,1,21,18],[19,1,19,6],[20,1,20,6],[19,7,19,18],[20,7,20,18]]}
[]
[null,"यह प्रोग्राम मैंने Paymanger Info Group पर समय समय पर डाली गई पोस्टो से सीख कर आपके लिए तेयार किया है तथा Rajsevak.com पर विभिन्न फोर्मेट्स का भी काफी सहयोग मिला है"]
[1,"यह प्रोग्राम मेंने सभी विभागो से सम्बंधित लगभग सभी प्रकार के आदेश जो अमुमन अलग अलग जगह पर हमारे कम्प्युटर मे सेव रह्ते है ओर बार  बार काम मे आते है,  को एक ही जगह पर उपलब्ध करवाने का प्रयास किया गया है एव सेवा नियमो व अवकाश नियमो कि जानकरी, कार्यालय आदेश, पेंशन केस, पेंशन पर मिलने वाले परिलाभ कि जानकरी तथा प्रपत्र, सेवारत कार्मिक कि मृत्यु होने पर अनुकम्पा नियुक्ति के नियम, आवेदन प्रपत्र, विभिन्न प्रकर के कवरिंग लेटर, प्रपत्र, भौतिक सत्यापन प्रपत्र, प्रभार वितरण सूची, IFMS, Rajkosh,NSDL,SSO ID,E-grass Challan आदि पर डीडीओ द्वारा की जाने वाली कार्यवाही की सम्पूर्ण जानकारी, 03 Power, Paymanager All Bills, Pay Fixation on ACP,DPC,Probation Rules, राज्य बीमा व जीपीएफ के अंतिम भुगतान की प्रक्रिया आदि की जानकरी उपलब्ध करवाने का प्रयास किया गया है लगभग 200 शीटस बनाई गई है "]
[2,"Software को खोलते ही आपके Computer Screen पर उपर की तरफ Enable Macro के लिए कहेगा उसको Enable करना है वरना software नही चलेगा ।  "]
["Imprt-","Click Here for read instructions for Enable Macro"]
["Note-","यदि एक बार Macro Enable करने के बाद काम करते समय Macro Problem आये तो Programme को Save करके बंद करे और दुबारा चलाये"]
[3,"उपर बाई तरफ होम का बटन है उसे क्लिक करने से वेलकम पेज खुलेगा उसपर विभिन्न प्रकार के लिंक है जिनको क्लिक करने से आप सम्बंधित पेज पर पन्हुच जायेंगे !"]
[4,"सर्वप्रथम आपके कम्प्युटर मे Krutidev 010 Font  एंव Google Hindi Tools का होंना अनिवार्य है एव सिस्ट्म का Date Formae DD/MM/YYYY  करना है"]
[5,"जो भी आदेश आप जनरेट करे उसकी SAVE AS से एक PDF File बनाकर अपने सिस्ट्म मे सेव कर ले ताकि जब भी आवश्यकता हो तब उसका प्रिंट निकाल सके"]
[6,"Welcome  नाम की एक शीट है जिसपर आपको सभी प्रकार के आदेशो का लिंक मिलेगा जिसपर क्लिक करने से आप उस शीट पर पहुंच जायेंगे "]
[null,"ओर प्रत्येक शीट पर HOME  बटन है जहाँ क्लिक करने से आप वापस होम पर आ जायेंगे "]
[7,"Master नाम कि शीट मे आपको सभी जानकरी Google Hindi Tools का उपयोग करके ही भरनी है सबसे पहले कार्यालय शील हेतू HOD की पोस्ट का चयन करे, उसके बाद कार्यालय का नाम चुने"]
[null,"केवल पीले रंग की सेल मे ही लिखना है ",null,null,null,"कार्यालय का स्थान, ब्लोक व जिला लिखे, सत्र का चयन करे बोनस वर्ष व राशि, ट्रेजरी का नाम लिखे,   डिस्पेच क्र्मांक के लिए चयन करे"]
[null,"मास्टर टेबल मे पोस्ट का नाम, ओफिस का नाम, कक्षा, नियुक्ति का प्रकार,विषय, सत्र, डिस्पेच क्रमांक व अधिनस्थ कार्यालय का नाम आदि !   यदि आपका विभाग शिक्षा विभाग से भिन्न हो तो आप पदो का नाम, अधिनस्थ "]
[null,"कार्यालयो का नाम जिनके आप डीडीओ है तो Google Hindi Tools का उपयोग करके बदल सकते है आवश्यक हो तो List मे लिखे नामो के नीचे ओर नाम जोड सकते है या कम कर सकते है"]
[8,"EmpDetail मे कार्मिक कि पूरी जानकारी मेंनुअली भरे । पूर्व मे भरी हुई सूचनाओ को मिटाकर आपके कार्यालय के कार्मिको की सूचनाए भरे ।"]
[9,"प्रत्येक शीट मे पीले रंग की शेल मे ही लिखना है एंव EmpDetail मे कार्मिक के क्रमांक को शीट के प्रथम कालम मे डालने पर उससे सम्बंधित विवरण अपने आप आ जायेगा"]
[null,"कार्मिक का क्रमांक एक से अधिक बार भी लिखा जा सकता है",null,null,null,null,null,"कुछ शीट्स मे comments box दिये गये है उनको पढकर आप बदलाव कर सकते है ।"]
[10,"कुछ शीटो मे शीट के दाहिनी ओर आदेश क्रमांक लिखे गये है यदि आवश्यकता हो तो उनमे परिवर्तन मास्टर शीट मे किया जा सकता है या ओर जोड सकते है। कार्मिक विवरण मे परिवर्तन EmpDetail Sheet मे हि होगा"]
[11,"Google Hindi Font Link- के लिए यहाँ क्लिक करे",null,null,null,null,null,"Google Hindi Input Tools"]
[12,"Krutidev 010 Font Link-  के लिए यहाँ क्लिक करे",null,null,null,null,null,"Krutidev 010 Fonts"]
[13,"प्रत्येक शीट मे Date के कालम मे फोरमुला लिखा है आप चाहे तो उसमे तारीख भी बदल सकते है या Formula \"=Today()\" को कापी कर Paste कर सकते है"]
[14,"किसी भी प्रकार की त्रुटी, समस्या या सुझाव हेतु आप मेरे Whatsapp पर मेसेज कर सकते है कृपया फ़ोन नही करे आपकी समस्या का समधान 100 प्रतिशत किया जायेगा ।"]
[15,"प्रोग्राम मे किसी भी प्रकार की त्रुटी या विभिन्नता होने पर विभाग के नियम ही सर्वोपरी होंगे ।"]
[16,"इस प्रोग्राम को बनाने का मेरा मूल उद्देश्य आपके व राज्य सरकार के श्रम, समय व धन बचाने का प्रयास है ।"]
[]
[null,null,null,null,null,null,null,"Designed & Developed By-"]
[null,null,null,null,null,null,null,"Chaturbhuj Jat"]
[null,null,null,null,null,null,null,null,"Teacher"]
[null,null,null,null,null,null,null,"Govt Sr Sec Sch Chogai,Tonk"]
[null,null,null,null,null,null,null,"Mob.No.- 9829303549"]
[null,null,null,null,null,null,"Email- chaturbhujjat76@gmail.com"]

{"sheet":"Welcome","index":1,"n_rows":23,"n_cols":14,"rows_kept":23,"cut":false,"hidden":true,"merged":[[13,12,13,13],[12,2,12,13],[11,10,11,11],[19,7,19,9],[11,7,11,8],[13,7,13,8],[13,10,13,11],[11,12,11,13],[21,1,21,2],[18,0,19,2],[22,1,22,2],[20,1,20,2],[13,4,13,5],[0,8,0,13],[0,0,0,7],[5,12,5,13],[3,12,4,13],[3,2,4,2],[5,10,5,11],[2,1,2,2],[2,3,2,5],[2,6,2,8],[2,9,2,11],[3,10,4,11],[3,7,4,8],[6,12,7,13],[9,12,10,13],[11,4,11,5],[5,4,5,5],[5,7,5,8],[8,10,8,11],[8,4,8,5],[8,12,8,13],[8,7,8,8]]}
["OFFICE UTILITY SOFT",null,null,null,null,null,null,null,"lacaf/kr cVu ij fDyd djsa"]
[]
[]
[]
[]
[]
[]
[]
[]
[]
[]
[]
[]
[]
[]
[]
[]
[]
["Designed & Developed By-"]
[null,null,null,null,null,null,null,"अपडेट वर्जन हेतू यहाँ क्लिक करे--",null,null,null,null,"Help-"]
[null,"Chaturbhuj Jat",null,null,null,null,null,null,null,null,null,null,"Mob. No-",9829303549]
[null,"Teacher, GSSS Chogai Tonk",null,null,null,null,null,null,null,null,null,null,"Email-","chaturbhujjat76@gmail.com"]
[null,"Mob- 9829303549"]

{"sheet":"Master","index":2,"n_rows":101,"n_cols":25,"rows_kept":101,"cut":false,"hidden":true,"merged":[[0,5,0,10],[0,3,0,4],[4,9,4,10],[1,7,1,17],[1,5,2,5],[3,12,3,13],[2,12,2,13]]}
[null,"Office Seal",null,"bl 'khV ij fy[kus ds fy, dsoy Google Hindi Tolls dk gh mi;ksx djsa",null,"Master Data Form"]
["Post","प्रधानाचार्य","Office Place","चौगाई","Select Session","Bonus Year","कार्यालय&",{"$f":"B3&\"]\"&D2&\"]\"&D3","v":"राजकीय उच्च माध्यमिक विद्यालय ]चौगाई]टोंक"}]
["office","राजकीय उच्च माध्यमिक विद्यालय ","Block","टोंक","2021-22",null,"Select for Despetch No","राउमावि/",{"$f":"D2","v":"चौगाई"},"/संस्था/",null,"Office ID-",27306]
["Place",{"$f":"D2&\"]\"&D4","v":"चौगाई]टोंक"},"District","टोंक",null,"2019-2020","Name of Treasury","पीपलू","Bonus Rate",6774,null,"DDO CODE-",27306]
["S.No.","              Post Name               (Press Alt+Shift Key then Write)","Pay Metric Level","                       Name Of Office                         (Press Alt+Shift Key then write )","Class","Saction","नियुक्ति का प्रकार","Name of Subjects In Your School","Session","For Dispetch NO",null,"Name of Subordinate or Self Office"]
[1,"प्रधानाचार्य","L-1","राजकीय उच्च माध्यमिक विद्यालय ","1,A","A","सीधी भर्ती","हिंदी","2014-15","राउमावि/","/संस्था/","राउमावि चौगाई"]
[2,"प्रधानाध्यापक","L-2","राजकीय बालिका उच्च माध्यमिक विद्यालय ","2,A","A","सीधी भर्ती आरपीएससी","अंग्रेजी","2015-16","राबाउमावि/","/लेखा/","राउप्रावि मोहिनी"]
[3,"व्याख्याता","L-3","राजकीय माध्यमिक विद्यालय ","3,A","A","सीधी भर्ती नोन आरपीएससी","गणित","2016-17","रामावि/","/परीक्षा/","राउप्रावि सोंदीफल"]
[4,"कृषि प्रमुख","L-4","राजकीय बालिका माध्यमिक विद्यालय ","4,A","B","सीधी भर्ती जिला परिषद","विज्ञान","2017-18","राबामावि/","/सामान्य/","राउप्रावि गोरधनपुरा"]
[5,"व्याख्याता कृषि","L-5","राजकीय उच्च प्राथमिक विद्यालय ","5,A","C","पदौन्नति","संस्कृत","2018-19","बीईईओ/","/भण्डार/","राप्रावि रसूलपुरा"]
[6,"व्याख्याता शारीरिक शिक्षा","L-6","राजकीय बालिका उच्च प्राथमिक विद्यालय ","6,A","D","पंचायतराज","सामाजिक विज्ञान","2019-20","पीईईओ/","/पुस्तकालय/","राप्रावि जहूरपुरा"]
[7,"पुस्तकालय अध्यक्ष ग्रेड I","L-7","राजकीय प्राथमिक विद्यालय ","7,A","A","अनुकम्पा नियुक्ति","पर्यावरण अध्ययन","2020-21","जिशिअ/मु/माध्य/",null,"राप्रावि जानकीवल्लभपुरा"]
[8,"वरिष्ठ अध्यापक","L-8","राजकीय बालिका प्राथमिक विद्यालय ","8,A","B","विधवा परित्यक्ता","हिंदी अनिवार्य","2021-22","मुब्लाकशिअ/",null,"राप्रावि बैरवा ढाणी सोन्दीफल"]
[9,"कृषि अध्यापक","L-9","पदेन पंचायत प्रारम्भिक शिक्षा अधिकारी राउमावि ","9,A","C","विक्लांग","हिंदी साहित्य","2022-23","मुजिशिअ/प्राशि/",null,"राप्रावि मोहिनी ढाणी बाढ"]
[10,"वरिष्ठ शारीरिक शिक्षक","L-10","पदेन पंचायत प्रारम्भिक शिक्षा अधिकारी रामावि","9,B","D","भूतपूर्व सैनिक","अंग्रेजी अनिवार्य","2023-24","मुजिशिअ/माशि/",null,"तहसीलदार भू अभिलेख निवाई"]
[11,"पुस्तकालय अध्यक्ष ग्रेड II","L-11","मुख्य ब्लॉक प्रारम्भिक शिक्षा अधिकारी\t\t\t","9,C","A",null,"अंग्रेजी साहित्य","2024-25","भू.अ./",null,"राउमावि बोरखंडी कला"]
[12,"अध्यापक ग्रेड III","L-12","मुख्य जिला शिक्षा अधिकारी","10,A","B",null,"संस्कृत साहित्य","2025-26",null,null,"रामावि नयाटीला"]
[13,"प्रबोधक","L-13","संयुक्त  निदेशक स्कूल शिक्षा","10,B","C",null,"इतिहास","2026-27",null,null,"राउमावि बगडवा"]
[14,"शारीरिक शिक्षक","L-14","निदेशक माध्यमिक शिक्षा राजस्थान. बीकानेर","10,C","D",null,"भूगोल","2027-28",null,null,"राउमावि बरोनी टोंक "]
[15,"प्रबोधक शारीरिक शिक्षक","L-15","उप निदेशक माध्यमिक शिक्षा अजमेर वृत अजमेर","11,A","A",null,"राजनिति विज्ञान","2028-29"]
[16,"प्रशिक्षु शिक्षक","L-16","मुख्य जिला शिक्षा अधिकारी माध्यमिक शिक्षा","11,B","B",null,"अर्थशास्त्र","2029-30"]
[17,"पुस्तकालय अध्यक्ष ग्रेड III","L-17","मुख्य जिला शिक्षा अधिकारी प्रारम्भिक शिक्षा","11,C","C",null,"चित्रकला"]
[18,"विशेष शिक्षक","L-18","तहसीलदार भू अभिलेख","12,A","D",null,"दर्शनशास्त्र"]
[19,"सहायक प्रशासनिक अधिकारी","L-19",null,"3A-4A",null,null,"जीव विज्ञान"]
[20,"वरिष्ठ सहायक","L-20",null,"1A-2A",null,null,"रसायन विज्ञान"]
[21,"कनिष्ठ सहायक","L-21",null,null,null,null,"भौतिकशास्त्र"]
[22,"प्रयोग शाला सहायक","L-22",null,null,null,null,"कृषि विज्ञान"]
[23,"प्रयोग शाला सेवक","L-23",null,null,null,null,"लेखाशास्त्र"]
[24,"जमादार","L-24",null,null,null,null,"समा उत्पा कार्य"]
[25,"सहायक कर्मचारी",null,null,null,null,null,"कला शिक्षा"]
[26,"संस्थापन अधिकारी",null,null,null,null,null,"स्वा शा शि"]
[27,"प्रशासनिक अधिकारी",null,null,null,null,null,"पुस्तकालय"]
[28,"अतिरिक्त प्रशासनिक अधिकारी",null,null,null,null,null,"सूचना प्रोद्योगिकी"]
[29,"मुख्य जिला शिक्षा अधिकारी",null,null,null,null,null,"आजादी के बाद का भारत"]
[30,"अतिरिक्त जिला शिक्षा अधिकारी"]
[31,"मुख्य ब्लॉक प्रारम्भिक शिक्षा अधिकारी\t\t\t"]
[32,"ए सी बी ई ओ प्रथम"]
[33,"ए सी बी ई ओ दवितीय"]
[34,"संयुक्त  निदेशक स्कूल शिक्षा"]
[35,"कनिष्ठ लेखाकार"]
[36,"सहायक लेखाधिकारी प्रथम"]
[37,"सहायक लेखाधिकारी द्वितीय"]
[38,"आशुलिपिक"]
[39,"जिला शिक्षा अधिकारी"]
[40,"उप जिला शिक्षा अधिकारी शा शि"]
[41,"पदेन पंचायत प्रारम्भिक शिक्षा अधिकारी"]
[null,"तहसीलदार"]
[null,"पटवारी"]
[null,"भू अभिलेख निरीक्षक"]
[]
[]
[]
[]
[]
[]
[]
[]
["Existing Running Pay Band",null,null,null,null,"PB-5200-20200",null,null,null,null,null,null," PB-2 (9300-34800)",null,null,null,null,null,"PB-3 (15600-39100)",null,null,null,null,"PB-4 (37400-67000)"]
["exsiting GP",1700,1750,1900,2000,2400,2400,2400,2800,2800,3600,4200,4800,5400,5400,6000,6600,6800,7200,7600,8200,8700,8900,9500,10000]
["existing GP no.",2,3,4,5,9,"9A","9B",10,"10A",11,12,14,15,15,16,17,18,19,20,21,22,23,"23A",24]
["levels","L-1","L-2","L-3","L-4","L-5","L-6","L-7","L-8","L-9","L-10","L-11","L-12","L-13","L-14","L-15","L-16","L-17","L-18","L-19","L-20","L-21","L-22","L-23","L-24"]
[1,17700,17900,18200,19200,20800,21500,22400,26300,28700,33800,37800,44300,53100,56100,60700,67300,71000,75300,79900,88900,123100,129700,145800,148800]
[2,18200,18400,18700,19800,21400,22100,23100,27100,29600,34800,38900,45600,54700,57800,62500,69300,73100,77600,82300,91600,126800,133600,150200,153300]
[3,18700,19000,19300,20400,22000,22800,23800,27900,30500,35800,40100,47000,56300,59500,64400,71400,75300,79900,84800,94300,130600,137600,154700,157900]
[4,19300,19600,19900,21000,22700,23500,24500,28700,31400,36900,41300,48400,58000,61300,66300,73500,77600,82300,87300,97100,134500,141700,159300,162600]
[5,19900,20200,20500,21600,23400,24200,25200,29600,32300,38000,42500,49900,59700,63100,68300,75700,79900,84800,89900,100000,138500,146000,164100,167500]
[6,20500,20800,21200,22200,24100,24900,26000,30500,33300,39100,43800,51400,61500,65000,70300,78000,82300,87300,92600,103000,142700,150400,169000,172500]
[7,21100,21400,21700,22900,24800,25600,26800,31400,34300,40300,45100,52900,63300,67000,72400,80300,84800,89900,95400,106100,147000,154900,174100,177700]
[8,21700,22000,22400,23600,25500,26400,27600,32300,35300,41500,46500,54500,65200,69000,74600,82700,87300,92600,98300,109300,151400,159500,179300,183000]
[9,22400,22700,23100,24300,26300,27200,28400,33300,36400,42700,47900,56100,67200,71100,76800,85200,89900,95400,101200,112600,155900,164300,184700,188500]
[10,23100,23400,23800,25000,27100,28000,29300,34300,37500,44000,49300,57800,69200,73200,79100,87800,92600,98300,104200,116000,160600,169200,190200,194200]
[11,23800,24100,24500,25800,27900,28800,30200,35300,38600,45300,50800,59500,71300,75400,81500,90400,95400,101200,107300,119500,165400,174300,195900,200000]
[12,24500,24800,25200,26600,28700,29700,31100,36400,39800,46700,52300,61300,73400,77700,83900,93100,98300,104200,110500,123100,170400,179500,201800,206000]
[13,25200,25500,26000,27400,29600,30600,32000,37500,41000,48100,53900,63100,75600,80000,86400,95900,101200,107300,113800,126800,175500,184900,207900,212200]
[14,26000,26300,26800,28200,30500,31500,33000,38600,42200,49500,55500,65000,77900,82400,89000,98800,104200,110500,117200,130600,180800,190400,214100,218600]
[15,26800,27100,27600,29000,31400,32400,34000,39800,43500,51000,57200,67000,80200,84900,91700,101800,107300,113800,120700,134500,186200,196100]
[16,27600,27900,28400,29900,32300,33400,35000,41000,44800,52500,58900,69000,82600,87400,94500,104900,110500,117200,124300,138500,191800,202000]
[17,28400,28700,29300,30800,33300,34400,36100,42200,46100,54100,60700,71100,85100,90000,97300,108000,113800,120700,128000,142700,197600,208100]
[18,29300,29600,30200,31700,34300,35400,37200,43500,47500,55700,62500,73200,87700,92700,100200,111200,117200,124300,131800,147000,203500]
[19,30200,30500,31100,32700,35300,36500,38300,44800,48900,57400,64400,75400,90300,95500,103200,114500,120700,128000,135800,151400]
[20,31100,31400,32000,33700,36400,37600,39400,46100,50400,59100,66300,77700,93000,98400,106300,117900,124300,131800,139900,155900]
[21,32000,32300,33000,34700,37500,38700,40600,47500,51900,60900,68300,80000,95800,101400,109500,121400,128000,135800,144100,160600]
[22,33000,33300,34000,35700,38600,39900,41800,48900,53500,62700,70300,82400,98700,104400,112800,125000,131800,139900,148400,165400]
[23,34000,34300,35000,36800,39800,41100,43100,50400,55100,64600,72400,84900,101700,107500,116200,128800,135800,144100,152900,170400]
[24,35000,35300,36100,37900,41000,42300,44400,51900,56800,66500,74600,87400,104800,110700,119700,132700,139900,148400,157500,175500]
[25,36100,36400,37200,39000,42200,43600,45700,53500,58500,68500,76800,90000,107900,114000,123300,136700,144100,152900,162200,180800]
[26,37200,37500,38300,40200,43500,44900,47100,55100,60300,70600,79100,92700,111100,117400,127000,140800,148400,157500,167100,186200]
[27,38300,38600,39400,41400,44800,46200,48500,56800,62100,72700,81500,95500,114400,120900,130800,145000,152900,162200,172100,191800]
[28,39400,39800,40600,42600,46100,47600,50000,58500,64000,74900,83900,98400,117800,124500,134700,149400,157500,167100,177300,197600]
[29,40600,41000,41800,43900,47500,49000,51500,60300,65900,77100,86400,101400,121300,128200,138700,153900,162200,172100,182600,203500]
[30,41800,42200,43100,45200,48900,50500,53000,62100,67900,79400,89000,104400,124900,132000,142900,158500,147100,177300,188100]
[31,43100,43500,44400,46600,50400,52000,54600,64000,69900,81800,91700,107500,128600,136000,147200,163300,172100,182600,193700]
[32,44400,44800,45700,48000,51900,53600,56200,65900,72000,84300,94500,110700,132500,140100,151600,168200,177300,188100,199500]
[33,45700,46100,47100,49400,53500,55200,57900,67900,74200,86800,97300,114000,136600,144300,156100,173200,182600,193700]
[34,47100,47500,48500,50900,55100,56900,59600,69900,76400,89400,100200,117400,140600,148600,160800,178400,188100,199500]
[35,48500,48900,50000,52400,56800,58600,61400,72000,78700,92100,103200,120900,144800,153100,165600,183800,193700]
[36,50000,50400,51500,54000,58500,60400,63200,74200,81100,94900,106300,124500,149100,157700,170600,189300,199500]
[37,51500,51900,53000,55600,60300,62200,65100,76400,83500,97700,109500,128200,153600,162400,175700,195000]
[38,53000,53500,54600,57300,62100,64100,67100,78800,86000,100600,112800,132000,158200,167300,181000]
[39,54600,55100,56200,59000,64000,66000,69100,81100,88600,103600,116200,136000,162900,172300,186400]
[40,56200,56800,57900,60800,65900,68000,71200,83500,91300,106700,119700,140100,167800,177500,192000]

{"sheet":"EmpDetail","index":3,"n_rows":103,"n_cols":32,"rows_kept":103,"cut":false,"hidden":true,"merged":[[0,7,0,20],[1,9,1,15],[1,4,1,5]]}
[null,null,null,null,null,null,null,{"$f":"Master!G2&Master!H2","v":"कार्यालय&राजकीय उच्च माध्यमिक विद्यालय ]चौगाई]टोंक"}]
[null,null,null,"Sesion-",{"$f":"Master!E3","v":"2021-22"},null,null,null,null,"dkfeZd fooj.k"]
["Ø-la-","uke dfeZd"," in uke","inLFkkiu LFkku","tUe fnukad","izFke fu;qfDr fnukad","fu;fer fu;qfä fnukad","orZeku in ij dk;Z xzg.k fnukad","orZeku dk;kZy; esa dk;Zxzg.k fnukad","is eSfVªDl esa ysoy","ewy osru","ih ih","fu;qfä dk izdkj","ek/;fed ;ksX;rk vtZu o\"kZ","mPp ek/;fed ;ksX;rk vtZu o\"kZ","Lukrd ;ksX;rk vtZu o\"kZ","vf/k Lukrd ;ksX;rk vtZu o\"kZ","iz'kSf{kd@rdfudh ;ksX;rk","o\"kZ","cSad uke o czkap uke","cSad [kkrk la[;k","dkfeZd vkbZ Mh","lsokfuo`fRr frfFk",",l vkbZ uacj","thih,Q uacj","izku uacj","nks o\"kZ ls de lsok okyk dkfeZd izkscs'kuj","isu uacj",null,"LFkkbZ irk ","bZesy vkbZMh","ekcbZy u0"]
[1,"fd'ku yky cSjok","प्रधानाचार्य","राउमावि चौगाई","1962-01-10",null,null,null,null,"L-16",95900,0,"पदौन्नति",null,null,null,null,"B.Ed",null,"SBI Pratap Nagar Jaipur",61096187775,"RJBR199704016633",{"$f":"IF(E4=\"\",\"\",DATE(YEAR(E4-1)+60,(MONTH(E4-1))+1,0))","v":"2022-01-31"},650878,683687,0,null,"ACGPB4554L",null,"ch 415 egs'k uxj Vksad QkVd t;iqj",null,9414912440]
[2,"iwj.k pUn y{kdkj","व्याख्याता","राउमावि चौगाई","1971-07-08",null,null,null,null,"L-12",56100,0,"पदौन्नति",null,null,null,null,"B.Ed",null,"SBI Malpura",5166051766,"RJTO200536022261",{"$f":"IF(E5=\"\",\"\",DATE(YEAR(E5-1)+60,(MONTH(E5-1))+1,0))","v":"2031-07-31"},1013612,0,110081614411,null,"ACSPL2673C",null,"eqiks ykok rglhy ekyiqjk Vksad",null,9928579257]
[3,"jktsUnz dqekj tSu","व्याख्याता","राउमावि चौगाई","1968-09-14",null,null,null,null,"L-12",63100,0,"पदौन्नति",null,null,null,null,"B.Ed",null,"BANK OF Baroda Niwai",1210100009311,"RJTO199236014090","2028-09-30",718827,635130,0,null,"AEPPJ8465H",null,"nhun;ky dkWyksuh fuokbZ Vksad",null,9252619438]
[4,"fd'ku yky cSjok","व्याख्याता","राउमावि चौगाई","1974-07-07",null,null,null,null,"L-12",54500,0,"पदौन्नति",null,null,null,null,"B.Ed",null,"SBI Malpura",51066051608,"RJTO200536020709","2034-07-31",1054537,0,110021866597,null,"ALCPB0824G",null,"xzk0 cEcksjh iks0 lksMk rglhy ekyiqjk Vksad",null,9829216208]
[5,"lR;ukjk;.k 'kekZ","वरिष्ठ अध्यापक","राउमावि चौगाई","1962-07-01",null,null,null,null,"L-13",71300,0,"पदौन्नति",null,null,null,null,"B.Ed",null,"SBI Malpura",61073161492,"RJTO198836010114","2022-06-30",747349,579955,0,null,"AFEPS7778C",null,"eqiks ykok rglhy ekyiqjk Vksad",null,9784023094]
[6,"iq\"ik tSu","वरिष्ठ अध्यापक","राउमावि चौगाई","1964-04-10",null,null,null,null,"L-13",73400,0,"पदौन्नति",null,null,null,null,"B.Ed",null,"SBI Malpura",51066027835,"RJTO198636012024","2024-04-30",718827,602011,0,null,"ABHPJ4882D",null,"55 izrki uxj ekyiqjk ft0 Vksad",null,9460133496]
[7,"vk'kkjke eh.kk","वरिष्ठ अध्यापक","राउमावि चौगाई","1978-06-11",null,null,null,null,"L-11",52300,0,"पदौन्नति",null,null,null,null,"B.Ed",null,"SBI Tonk",61006465900,"RJJW200522007351","2038-06-30",962396,0,110061749020,null,"ANQPM0064M",null,"oS'kkyh uxj Vksad",null,8290677300]
[8,"t;iky flag","वरिष्ठ अध्यापक","राउमावि चौगाई","1972-02-02",null,null,null,null,"L-12",63100,0,"पदौन्नति",null,null,null,null,"B.Ed",null,"BRGB",41640100005500,"RJTO199636014861","2032-02-29",941874,849803,0,null,"AKDPS1712Q",null,"t;iqj",null,9772579009]
[9,"jkeizlkn jsxj","वरिष्ठ अध्यापक","राउमावि चौगाई","1978-06-01",null,null,null,null,"L-11",46500,0,"पदौन्नति",null,null,null,null,"B.Ed",null,"SBI Diggi",61141039012,"RJTO200736007478","2038-05-31",1089365,0,110041614234,null,"BCBPP8558E",null,"eqiks fMXxh ekyiqjk Vksad",null,9252189004]
[10,"egsUnz dqekj tkV","शारीरिक शिक्षक","राउमावि चौगाई","1976-01-30",null,null,null,null,"L-12",61300,0,"सीधी भर्ती",null,null,null,null,"B.Ed",null,"SBI TB Tonk",61018235247,"RJTO199836017112","2036-01-31",941203,847557,0,null,"AFWPJ2407B",null,"xzke xksj/kuiqjk iks ykok rg ihiyw Vksad","mahendradahiya76@gmail.com",9929234523]
[11,"NksVw yky jsxj","अध्यापक ग्रेड III","राउमावि चौगाई","1967-07-10",null,null,null,null,"L-13",65200,0,"सीधी भर्ती जिला परिषद",null,null,null,null,"B.Ed",null,"SBI TB Tonk",61018235269,"RJTO199336017828","2027-07-31",770325,781753,0,null,"ADVPR9509B",null,"xzkiks cksj[k.Mh dyk ihiyw",null,9928053215]
[12,"dUgS;k yky egkoj","अध्यापक ग्रेड III","राउमावि चौगाई","1962-04-05",null,null,null,null,"L-13",65200,0,"सीधी भर्ती जिला परिषद",null,null,null,null,"B.Ed",null,"SBI TB Tonk",61017388885,"RJTO199336010989","2022-04-30",870219,847233,0,null,"AHBPM4917C",null,"eqiks ykok rglhy ekyiqjk Vksad",null,6377180556]
[13,"prqHkqZt tkV","अध्यापक ग्रेड III","राउमावि चौगाई","1976-04-04","2005-04-13","2005-04-13","2005-04-13","2008-07-02","L-11",52300,0,"सीधी भर्ती आरपीएससी",1992,1994,1997,2008,"B.Ed",1999,"SBI TB Tonk",51077382140,"RJTO200536028883","2036-04-30",868676,0,110011864700,null,"AHJPJ2211Q",null,"xzke ckykiqjk iks ykok ekyiqjk","chaturbhujjat76@gmail.com",9829303549]
[14,"vklsQk [kku","अध्यापक ग्रेड III","राउमावि चौगाई","1971-01-10",null,null,null,null,"L-11",52300,0,"सीधी भर्ती जिला परिषद",null,null,null,null,"B.Ed",null,"SBI Tonk",61075470544,"RJTO200436002236","2031-01-31",1016167,0,110061924124,null,"AOXPK9103K",null,"cjdkrh uxj ikap cRrh jksM Vksad",null,8233194038]
[15,"lq'khyk cSjok","कनिष्ठ सहायक","राउमावि चौगाई","1995-01-01",null,null,null,null,"L-5",14600,0,"सीधी भर्ती नोन आरपीएससी",null,null,null,null,"B.Ed",null,"SBI Pratap Nagar Jaipur",61126184286,"RJTO202036016697","2054-12-31",0,0,110184890667,"Probation","BZWPB4606D",null,"956 U;w lkaxkusj jksM nsoh uxj lksMkyk ft0 t;iqj",null,9166343031]
[16,"txnh'k izlkn rsyh","सहायक कर्मचारी","राउमावि चौगाई","1962-06-04",null,null,null,null,"L-5",34700,0,"सीधी भर्ती",null,null,null,null,"B.Ed",null,"Bank of Baroda Piploo",12880100005699,"RJTO199236015113","2022-06-30",654004,680993,0,null,"ADLPT4551B",null,"xzkiks lansMk rglhy ihiyw ft0 Vksad",null,9680761111]
[17,"jfoUnz dqekj tSu","अध्यापक ग्रेड III","राउप्रावि मोहिनी","1967-08-24",null,null,null,null,"L-12",65200,0,"सीधी भर्ती जिला परिषद",null,null,null,null,"B.Ed",null,"SBI TB Tonk",61018112167,"RJTO199336008373","2027-08-31",747869,846397,0,null,"ACXPJ6922F",null,"xzkiks ykok rglhy ekyiqjk Vksad ",null,9610704779]
[18," ';ke lqUnj ckxkSM","अध्यापक ग्रेड III","राउप्रावि मोहिनी","1983-08-10",null,null,null,null,"L-10",40300,0,"सीधी भर्ती आरपीएससी",null,null,null,null,"B.Ed",null,"SBI TB Tonk",61089447521,"RJTO201236016994","2043-08-31",1268061,0,110044207450,null,"CADPB5237K",null,"xzke eksfguh rglhy ihiyw Vksad",null,9887950370]
[19,"d`\".kk 'kekZ","प्रबोधक","राउप्रावि मोहिनी","1972-08-06",null,null,null,null,"L-11",45100,0,"सीधी भर्ती जिला परिषद",null,null,null,null,"B.Ed",null,"SBI TB Tonk",61121720121,"RJTO200836030644","2032-08-31",1140336,0,110061626026,null,"EAPPS9162G",null,"xzk0iks0 leysVh rglhy egqvk ft0 nkSlk",null,9414664595]
[20,"/keZsUnz pkS/kjh","अध्यापक ग्रेड III","राउप्रावि गोरधनपुरा","1990-03-05",null,null,null,null,"L-10",40300,0,"सीधी भर्ती आरपीएससी",null,null,null,null,"B.Ed",null,"SBI TB Tonk",61167150655,"RJTO201236011120","2050-03-31",1324303,0,110037612389,null,"CMIPD2058P",null,"xzk0 tkudhoYyHk iqjk rglhy ihiyw Vksad",null,9667545462]
[21,"izgykn ekyh","प्रबोधक","राउप्रावि गोरधनपुरा","1974-08-07",null,null,null,null,"L-11",46500,0,"सीधी भर्ती जिला परिषद",null,null,null,null,"B.Ed",null,"SBI TB Tonk",61017389141,"RJTO200836022671","2034-08-31",1140023,0,110091621432,null,"CIDPP7483D",null,"xzke eksfguh rglhy ihiyw Vksad",null,7568066321]
[22,"jken;ky xqtZj","प्रबोधक","राउप्रावि सोंदीफल","1977-08-18",null,null,null,null,"L-11",45100,0,"सीधी भर्ती जिला परिषद",null,null,null,null,"B.Ed",null,"SBI TB Tonk",61055845962,"RJTO200836007535","2037-08-31",1089892,0,110051615567,null,"AYOPG9964F",null,"xzke u;kVhyk iks0 cksj[k.Mh rglhy ihiyw Vksad",null,9950586769]
[23,"vkSeizdk'k tkV","अध्यापक ग्रेड III","राउप्रावि सोंदीफल","1982-10-31",null,null,null,null,"L-11",45100,0,"सीधी भर्ती आरपीएससी",null,null,null,null,"B.Ed",null,"SBI TB Tonk",61041958358,"RJTO200836025577","2042-10-31",1089403,0,110031626358,null,"APRPJ3922L",null,"xzke dY;k.kiqjk iks cksj[k.Mh ihiyw Vksad",null,9001835498]
[24,"vthr flag","अध्यापक ग्रेड III","राप्रावि जानकीवल्लभपुरा","1987-08-08",null,null,null,null,"L-10",40300,0,"सीधी भर्ती आरपीएससी",null,null,null,null,"B.Ed",null,"SBI TB Tonk",61205589420,"RJTO201336044586","2047-08-31",1324009,0,110077611157,null,"GHHPS0967Q",null,"xzkiks0 f>jkuk rglhy ihiyw Vksad",null,9887161511]
[25,"eq[rkj eha;k","प्रबोधक","राप्रावि जानकीवल्लभपुरा","1976-07-04",null,null,null,null,"L-11",45100,0,"सीधी भर्ती जिला परिषद",null,null,null,null,"B.Ed",null,"SBI TB Tonk",61058599669,"RJTO200836019528","2036-07-31",1140087,0,110041615271,null,"AYOPM7276L",null,"xzk0 lqusyk gkthiqjk iks0 nsoiqjk ft0 Vksad",null,8875445566]
[26,"eks0 tehy ","प्रबोधक","राप्रावि रसूलपुरा","1968-09-15",null,null,null,null,"L-11",45100,0,"सीधी भर्ती जिला परिषद",null,null,null,null,"B.Ed",null,"SBI TB Tonk",61056714971,"RJTO200836021360","2028-09-30",1089931,0,110031615277,null,"AXCPK1916C",null,"xzkiks MkjMk rqdhZ rglhy ihiyw Vksad",null,9414681713]
[27,"lkaojey tkV","अध्यापक ग्रेड III","राप्रावि रसूलपुरा","1992-03-03",null,null,null,null,"L-10",38000,0,"सीधी भर्ती नोन आरपीएससी",null,null,null,null,"B.Ed",null,"SBI TB Tonk",61271074682,"RJTO201536033743","2052-03-31",1325417,0,110181593092,null,"BCBPJ3389K",null,"xzkiks dk'khiqjk rglhy ihiyw Vksad",null,9667110145]
[28,"pkS/kjh eksuk jkekorkj","अध्यापक ग्रेड III","राप्रावि मोहिनी ढाणी बाढ","1990-01-05",null,null,null,null,"L-10",38000,0,"सीधी भर्ती नोन आरपीएससी",null,null,null,null,"B.Ed",null,"SBI TB Tonk",61272377620,"RJTO201536033520","2050-01-31",1325552,0,110191543848,null,"AOIPC3138F",null,"xzke eksfguh rglhy ihiyw Vksad",null,8094600886]
[29,"rkjkpUn tk;loky","प्रबोधक","राप्रावि मोहिनी ढाणी बाढ","1976-11-11",null,null,null,null,"L-11",41300,0,"सीधी भर्ती जिला परिषद",null,null,null,null,"B.Ed",null,"SBI TB Tonk",61055592066,"RJTO200836022672","2036-11-30",1140016,0,110051615519,null,"BDKPJ6559D",null,"xzkiks pkSxkbZ rglhy ihiyw ftyk Vksad",null,9166967817]
[30,"jketl ;kno","अध्यापक ग्रेड III","राप्रावि बैरवा ढाणी सोन्दीफल","1970-06-12",null,null,null,null,"L-12",63100,0,"सीधी भर्ती जिला परिषद",null,null,null,null,"B.Ed",null,"SBI TB Tonk",61019435472,"RJTO199436007983","2030-06-30",748575,845816,0,null,"AASPY7179G",null,"xzkiks cksj[k.Mh rglhy ihiyw Vksad",null,8824745056]
[31,"dtksMey eh.kk","अध्यापक ग्रेड III","राप्रावि बैरवा ढाणी सोन्दीफल","1990-07-01",null,null,null,null,"L-10",38000,0,"सीधी भर्ती जिला परिषद",null,null,null,null,"B.Ed",null,"SBI TB Tonk",61134498929,"RJTO201536032956","2050-06-30",1325329,0,110101542035,null,"BXMPM7839M",null,"xzk0 leniqjk iks0  cksj[k.Mh dykW rglhy ihiyw ft0 Vksad",null,9166474635]
[32,"/kaut; xkSRre","अध्यापक ग्रेड III","राउप्रावि गोरधनपुरा","1986-08-25","2018-04-03","2020-04-03","2018-04-03","2018-08-31","L-10",34800,0,"सीधी भर्ती जिला परिषद",null,null,null,null,"B.Ed",null,"SBI Diggi",61033657191,"RJBW201808014066","2046-08-31",1447211,0,110112693054,null,"AOWPG8480N",null,"xzkiks fMXxh rglhy ekyiqjk Vksad",null,9667531214]
[33,"d`\".kk xaxoky","अध्यापक ग्रेड III","राउप्रावि गोरधनपुरा","1995-06-20","2018-12-21","2020-12-21","2018-12-21","2018-12-21","L-10",33800,0,"सीधी भर्ती जिला परिषद",null,null,null,null,"B.Ed",null,"SBI Niwai",61148796699,"RJTO201836053346","2055-06-30",1447209,0,110153207446,null,"CSEPG6332F",null,",QlhvkbZ xksnke ds ikl fuokbZ Vksad",null,8005747070]
[34,"n'kjFk dqekj ;kno","अध्यापक ग्रेड III","राउप्रावि सोंदीफल","1991-01-01","2018-09-29","2020-09-29","2018-09-29","2018-09-29","L-10",23700,0,"सीधी भर्ती जिला परिषद",null,null,null,null,"B.Ed",null,"SBI Tonk",32480142484,"RJTO201836032921","2050-12-31",0,0,110082740763,"Probation","AIJPY4777B",null,"xzk0 taokyh iks0 ukusj rglhy ihiyw ft0 Vksad",null,9251862658]
[35,"d`\".k yky tkV","अध्यापक ग्रेड III","राउप्रावि सोंदीफल","1990-07-18","2018-10-02","2020-10-02","2018-10-02","2018-10-02","L-10",33800,0,"सीधी भर्ती जिला परिषद",null,null,null,null,"B.Ed",null,"SBI TB Tonk",51104741759,"RJTO201836032954","2050-07-31",1447215,0,110102966759,null,"BFMPJ9260B",null,"xzkiks pkSxkbZa rglhy ihiyw Vksad",null,8696014039]
[36,"nhisUnz dqekj iztkir","अध्यापक ग्रेड III","राउप्रावि सोंदीफल","1994-07-12","2018-12-28","2020-12-28","2018-12-28","2019-03-08","L-10",33800,0,"सीधी भर्ती जिला परिषद",null,null,null,null,"B.Ed",null,"SBI",38529450856,"RJSM201832057043","2054-07-31",1447214,0,111103230035,null,"ESNPP1895K",null,"xzk0iks0 cksjMh rglhy teokjkex< ft0 t;iqj",null,9887592568]
[37,"uohu dqekj","अध्यापक ग्रेड III","राउप्रावि मोहिनी","1995-04-13","2018-12-21","2020-12-21","2018-12-21","2019-03-09","L-10",33800,0,"सीधी भर्ती जिला परिषद",null,null,null,null,"B.Ed",null,"SBI",20163229184,"RJKO201827053311","2055-04-30",1447212,0,110133359860,null,"GMVPK0622K",null,"xzk0 Jh;klj dyk ok;k uqvk ft0 >qu>quq",null,8094336985]
[38,"ehrs'k dqekj 'kekZ","अध्यापक ग्रेड III","राउप्रावि मोहिनी","1989-08-13","2018-04-02","2020-04-02","2018-04-02","2018-09-13","L-10",34800,0,"सीधी भर्ती जिला परिषद",null,null,null,null,"B.Ed",null,"SBI",61030857272,"RJBW201808013741","2049-08-31",1447213,0,110142729623,null,"BRDPS2559F",null,"uUn fogkj dkWyksuh cLlh ft0 t;iqj",null,9928476888]
[39,"eUtw eh.kk","वरिष्ठ अध्यापक","राउप्रावि गोरधनपुरा","1991-01-06","2018-09-28","2020-09-29","2018-09-28","2020-09-29","L-10",33800,0,"सीधी भर्ती आरपीएससी",null,null,null,null,"B.Ed",null,"SBI",37975429233,"RJDA201813019900","2051-01-31",1447210,0,111102907638,"Probation","EKJPM1951B",null,"nkSlk",null,7737946347]
[40,"eatw pkS/kjh","वरिष्ठ अध्यापक","राउप्रावि सोंदीफल","1991-08-04","2020-09-29","2020-09-29","2020-09-29","2020-09-29","L-11",26500,0,"सीधी भर्ती आरपीएससी",null,null,null,null,"B.Ed",null,"SBI Jaipur",51106823696,"RJTO202036032569","2051-08-31",0,0,110135080896,"Probation","CBYPC2010D",null,"t;iqj",null,9694544544]
[41,null,null,null,null,null,null,null,null,null,null,null,null,null,null,null,null,null,null,null,null,null,""]
[42,null,null,null,null,null,null,null,null,null,null,null,null,null,null,null,null,null,null,null,null,null,""]
[43,null,null,null,null,null,null,null,null,null,null,null,null,null,null,null,null,null,null,null,null,null,""]
[44,null,null,null,null,null,null,null,null,null,null,null,null,null,null,null,null,null,null,null,null,null,""]
[45,null,null,null,null,null,null,null,null,null,null,null,null,null,null,null,null,null,null,null,null,null,""]
[46,null,null,null,null,null,null,null,null,null,null,null,null,null,null,null,null,null,null,null,null,null,""]
[47,null,null,null,null,null,null,null,null,null,null,null,null,null,null,null,null,null,null,null,null,null,""]
[48,null,null,null,null,null,null,null,null,null,null,null,null,null,null,null,null,null,null,null,null,null,""]
[49,null,null,null,null,null,null,null,null,null,null,null,null,null,null,null,null,null,null,null,null,null,""]
[50,null,null,null,null,null,null,null,null,null,null,null,null,null,null,null,null,null,null,null,null,null,""]
[51,null,null,null,null,null,null,null,null,null,null,null,null,null,null,null,null,null,null,null,null,null,""]
[52,null,null,null,null,null,null,null,null,null,null,null,null,null,null,null,null,null,null,null,null,null,""]
[53,null,null,null,null,null,null,null,null,null,null,null,null,null,null,null,null,null,null,null,null,null,""]
[54,null,null,null,null,null,null,null,null,null,null,null,null,null,null,null,null,null,null,null,null,null,""]
[55,null,null,null,null,null,null,null,null,null,null,null,null,null,null,null,null,null,null,null,null,null,""]
[56,null,null,null,null,null,null,null,null,null,null,null,null,null,null,null,null,null,null,null,null,null,""]
[57,null,null,null,null,null,null,null,null,null,null,null,null,null,null,null,null,null,null,null,null,null,""]
[58,null,null,null,null,null,null,null,null,null,null,null,null,null,null,null,null,null,null,null,null,null,""]
[59,null,null,null,null,null,null,null,null,null,null,null,null,null,null,null,null,null,null,null,null,null,""]
[60,null,null,null,null,null,null,null,null,null,null,null,null,null,null,null,null,null,null,null,null,null,""]
[61,null,null,null,null,null,null,null,null,null,null,null,null,null,null,null,null,null,null,null,null,null,""]
[62,null,null,null,null,null,null,null,null,null,null,null,null,null,null,null,null,null,null,null,null,null,""]
[63,null,null,null,null,null,null,null,null,null,null,null,null,null,null,null,null,null,null,null,null,null,""]
[64,null,null,null,null,null,null,null,null,null,null,null,null,null,null,null,null,null,null,null,null,null,""]
[65,null,null,null,null,null,null,null,null,null,null,null,null,null,null,null,null,null,null,null,null,null,""]
[66,null,null,null,null,null,null,null,null,null,null,null,null,null,null,null,null,null,null,null,null,null,{"$f":"IF(E69=\"\",\"\",DATE(YEAR(E69-1)+60,(MONTH(E69-1))+1,0))","v":""}]
[67,null,null,null,null,null,null,null,null,null,null,null,null,null,null,null,null,null,null,null,null,null,""]
[68,null,null,null,null,null,null,null,null,null,null,null,null,null,null,null,null,null,null,null,null,null,""]
[69,null,null,null,null,null,null,null,null,null,null,null,null,null,null,null,null,null,null,null,null,null,""]
[70,null,null,null,null,null,null,null,null,null,null,null,null,null,null,null,null,null,null,null,null,null,""]
[71,null,null,null,null,null,null,null,null,null,null,null,null,null,null,null,null,null,null,null,null,null,""]
[72,null,null,null,null,null,null,null,null,null,null,null,null,null,null,null,null,null,null,null,null,null,""]
[73,null,null,null,null,null,null,null,null,null,null,null,null,null,null,null,null,null,null,null,null,null,""]
[74,null,null,null,null,null,null,null,null,null,null,null,null,null,null,null,null,null,null,null,null,null,""]
[75,null,null,null,null,null,null,null,null,null,null,null,null,null,null,null,null,null,null,null,null,null,""]
[76,null,null,null,null,null,null,null,null,null,null,null,null,null,null,null,null,null,null,null,null,null,""]
[77,null,null,null,null,null,null,null,null,null,null,null,null,null,null,null,null,null,null,null,null,null,""]
[78,null,null,null,null,null,null,null,null,null,null,null,null,null,null,null,null,null,null,null,null,null,""]
[79,null,null,null,null,null,null,null,null,null,null,null,null,null,null,null,null,null,null,null,null,null,""]
[80,null,null,null,null,null,null,null,null,null,null,null,null,null,null,null,null,null,null,null,null,null,""]
[81,null,null,null,null,null,null,null,null,null,null,null,null,null,null,null,null,null,null,null,null,null,""]
[82,null,null,null,null,null,null,null,null,null,null,null,null,null,null,null,null,null,null,null,null,null,""]
[83,null,null,null,null,null,null,null,null,null,null,null,null,null,null,null,null,null,null,null,null,null,""]
[84,null,null,null,null,null,null,null,null,null,null,null,null,null,null,null,null,null,null,null,null,null,""]
[85,null,null,null,null,null,null,null,null,null,null,null,null,null,null,null,null,null,null,null,null,null,""]
[86,null,null,null,null,null,null,null,null,null,null,null,null,null,null,null,null,null,null,null,null,null,""]
[87,null,null,null,null,null,null,null,null,null,null,null,null,null,null,null,null,null,null,null,null,null,""]
[88,null,null,null,null,null,null,null,null,null,null,null,null,null,null,null,null,null,null,null,null,null,""]
[89,null,null,null,null,null,null,null,null,null,null,null,null,null,null,null,null,null,null,null,null,null,""]
[90,null,null,null,null,null,null,null,null,null,null,null,null,null,null,null,null,null,null,null,null,null,""]
[91,null,null,null,null,null,null,null,null,null,null,null,null,null,null,null,null,null,null,null,null,null,""]
[92,null,null,null,null,null,null,null,null,null,null,null,null,null,null,null,null,null,null,null,null,null,""]
[93,null,null,null,null,null,null,null,null,null,null,null,null,null,null,null,null,null,null,null,null,null,""]
[94,null,null,null,null,null,null,null,null,null,null,null,null,null,null,null,null,null,null,null,null,null,""]
[95,null,null,null,null,null,null,null,null,null,null,null,null,null,null,null,null,null,null,null,null,null,""]
[96,null,null,null,null,null,null,null,null,null,null,null,null,null,null,null,null,null,null,null,null,null,""]
[97,null,null,null,null,null,null,null,null,null,null,null,null,null,null,null,null,null,null,null,null,null,""]
[98,null,null,null,null,null,null,null,null,null,null,null,null,null,null,null,null,null,null,null,null,null,""]
[99,null,null,null,null,null,null,null,null,null,null,null,null,null,null,null,null,null,null,null,null,null,""]
[100,null,null,null,null,null,null,null,null,null,null,null,null,null,null,null,null,null,null,null,null,null,""]

{"sheet":"Leave Sanction","index":4,"n_rows":106,"n_cols":19,"rows_kept":106,"cut":false,"hidden":true,"merged":[[0,1,0,10],[1,1,1,10],[3,1,3,10]]}
[null,{"$f":"Master!G2&Master!H2","v":"कार्यालय&राजकीय उच्च माध्यमिक विद्यालय ]चौगाई]टोंक"},null,null,null,null,null,null,null,null,null,null,null,null,null,"EARNED LEAVE RSR-91,92",null,null,"निजी कार्य"]
[null,"dk;kZy; vkns'k",null,null,null,null,null,null,null,null,null,null,null,null,null,"HALF PAY LEAVE RSR-93(1),94",null,null,"स्वयं की बीमारी"]
[null,null,null,null,null,null,null,null,null,null,null,null,null,null,null,"COMMUTED LEAVE RSR-93(2),94",null,null,"प्रसूति"]
[null,"fuEukafdr dkfeZdksa dks Lo;a ds vkosnu ij muds uke ds lEeq[k vafdr fooj.kkuqlkj jktLFkku flfoy lsok fu;eksa ds vuq:i ",null,null,null,null,null,null,null,null,null,null,null,null,null,"EXTRA ORDINARY LEAVE RSR-96",null,null,"पितृत्व"]
[null,"vodk'k Lohd`r fd;k tkrk gS ,oa lacaf/kr dkfeZd ds vodk'k [kkrs ls de djus dh Lohd`fr iznku dh tkrh gS A",null,null,null,null,null,null,null,null,null,null,null,null,null,"MATERNATY LEAVE RSR-103",null,null,"अन्य कार्य"]
["dkfeZd Ø-la-","Ø-la-","uke dkfeZd","in ","inLFkkiu LFkku","vodk'k","vof/k","fnol",null,"vodk'k dk izdkj o fu;e","vodk'k dk dkj.k",null,null,null,null,"PATERNITY LEAVE RSR-103A",null,null,"अध्ययन अवकाश"]
[40,{"$f":"IF(C7=\"\",\"\",1)","v":1},{"$f":"IF(ISNA(VLOOKUP($A7,$L$7:$O$106,2,FALSE)),\"\",VLOOKUP($A7,$L$7:$O$106,2,FALSE))","v":"eatw pkS/kjh"},{"$f":"IF(ISNA(VLOOKUP($A7,$L$7:$O$106,3,FALSE)),\"\",VLOOKUP($A7,$L$7:$O$106,3,FALSE))","v":"वरिष्ठ अध्यापक"},{"$f":"IF(ISNA(VLOOKUP($A7,$L$7:$O$106,4,FALSE)),\"\",VLOOKUP($A7,$L$7:$O$106,4,FALSE))","v":"राउप्रावि सोंदीफल"},"2020-11-19","2021-05-17",{"$f":"IF(F7=\"\",\"\",(G7-F7)+1)","v":180},{"$f":"IF(H7=\"\",\"\",IF(J7=\"COMMUTED LEAVE RSR-93(2),94\",H7*2&\"HPL\",\"\"))","v":""},"MATERNATY LEAVE RSR-103","प्रसूति",{"$f":"EmpDetail!A4","v":1},{"$f":"EmpDetail!B4","v":"fd'ku yky cSjok"},{"$f":"EmpDetail!C4","v":"प्रधानाचार्य"},{"$f":"EmpDetail!D4","v":"राउमावि चौगाई"},"Leave not Due RSR-93(3),94",null,null,"सन्तान देखभाल या परीक्षा"]
[null,{"$f":"IF(C8=\"\",\"\",B7+1)","v":""},{"$f":"IF(ISNA(VLOOKUP($A8,$L$7:$O$106,2,FALSE)),\"\",VLOOKUP($A8,$L$7:$O$106,2,FALSE))","v":""},{"$f":"IF(ISNA(VLOOKUP($A8,$L$7:$O$106,3,FALSE)),\"\",VLOOKUP($A8,$L$7:$O$106,3,FALSE))","v":""},{"$f":"IF(ISNA(VLOOKUP($A8,$L$7:$O$106,4,FALSE)),\"\",VLOOKUP($A8,$L$7:$O$106,4,FALSE))","v":""},null,null,{"$f":"IF(F8=\"\",\"\",(G8-F8)+1)","v":""},{"$f":"IF(H8=\"\",\"\",IF(J8=\"COMMUTED LEAVE RSR-93(2),94\",H8*2&\"HPL\",\"\"))","v":""},null,null,{"$f":"EmpDetail!A5","v":2},{"$f":"EmpDetail!B5","v":"iwj.k pUn y{kdkj"},{"$f":"EmpDetail!C5","v":"व्याख्याता"},{"$f":"EmpDetail!D5","v":"राउमावि चौगाई"},"Child Adoption Leave RSR-103B",null,null,"संतान दत्तक ग्रहण"]
[null,{"$f":"IF(C9=\"\",\"\",B8+1)","v":""},"","","",null,null,"","",null,null,{"$f":"EmpDetail!A6","v":3},{"$f":"EmpDetail!B6","v":"jktsUnz dqekj tSu"},{"$f":"EmpDetail!C6","v":"व्याख्याता"},{"$f":"EmpDetail!D6","v":"राउमावि चौगाई"},"Chid Care Leave RSR-103C",null,null,"विशेष असर्मथता"]
[null,"","","","",null,null,"","",null,null,{"$f":"EmpDetail!A7","v":4},{"$f":"EmpDetail!B7","v":"fd'ku yky cSjok"},{"$f":"EmpDetail!C7","v":"व्याख्याता"},{"$f":"EmpDetail!D7","v":"राउमावि चौगाई"},"Special Disability Leave RSR-99-102",null,null,"बन्धयाकरण"]
[null,"","","","",null,null,"","",null,null,{"$f":"EmpDetail!A8","v":5},{"$f":"EmpDetail!B8","v":"lR;ukjk;.k 'kekZ"},{"$f":"EmpDetail!C8","v":"वरिष्ठ अध्यापक"},{"$f":"EmpDetail!D8","v":"राउमावि चौगाई"},"Study Leave RSR-109-121",null,null,"क्षतिपुर्ति अवकाश"]
[null,"","","","",null,null,"","",null,null,{"$f":"EmpDetail!A9","v":6},{"$f":"EmpDetail!B9","v":"iq\"ik tSu"},{"$f":"EmpDetail!C9","v":"वरिष्ठ अध्यापक"},{"$f":"EmpDetail!D9","v":"राउमावि चौगाई"},"Non Puerperal/Vasectomy Leave RSR-Vol-2 Apedx-1(III)",null,null,"सन्क्रामक रोग"]
[null,"","","","",null,null,"","",null,null,{"$f":"EmpDetail!A10","v":7},{"$f":"EmpDetail!B10","v":"vk'kkjke eh.kk"},{"$f":"EmpDetail!C10","v":"वरिष्ठ अध्यापक"},{"$f":"EmpDetail!D10","v":"राउमावि चौगाई"},"Special Casual Leave RSR-Vol-2 Apedx-1(III)",null,null,"विशेष कार्य"]
[null,"","","","",null,null,"","",null,null,{"$f":"EmpDetail!A11","v":8},{"$f":"EmpDetail!B11","v":"t;iky flag"},{"$f":"EmpDetail!C11","v":"वरिष्ठ अध्यापक"},{"$f":"EmpDetail!D11","v":"राउमावि चौगाई"},"Compensation Leave RSR-Vol-2 Apedx-1(IIIA)"]
[null,"","","","",null,null,"","",null,null,{"$f":"EmpDetail!A12","v":9},{"$f":"EmpDetail!B12","v":"jkeizlkn jsxj"},{"$f":"EmpDetail!C12","v":"वरिष्ठ अध्यापक"},{"$f":"EmpDetail!D12","v":"राउमावि चौगाई"},"Quarentine Leave RSR-Vol-2 Apedx-1(IV)"]
[null,"","","","",null,null,"","",null,null,{"$f":"EmpDetail!A13","v":10},{"$f":"EmpDetail!B13","v":"egsUnz dqekj tkV"},{"$f":"EmpDetail!C13","v":"शारीरिक शिक्षक"},{"$f":"EmpDetail!D13","v":"राउमावि चौगाई"}]
[null,"","","","",null,null,"","",null,null,{"$f":"EmpDetail!A14","v":11},{"$f":"EmpDetail!B14","v":"NksVw yky jsxj"},{"$f":"EmpDetail!C14","v":"अध्यापक ग्रेड III"},{"$f":"EmpDetail!D14","v":"राउमावि चौगाई"}]
[null,"","","","",null,null,"","",null,null,{"$f":"EmpDetail!A15","v":12},{"$f":"EmpDetail!B15","v":"dUgS;k yky egkoj"},{"$f":"EmpDetail!C15","v":"अध्यापक ग्रेड III"},{"$f":"EmpDetail!D15","v":"राउमावि चौगाई"}]
[null,"","","","",null,null,"","",null,null,{"$f":"EmpDetail!A16","v":13},{"$f":"EmpDetail!B16","v":"prqHkqZt tkV"},{"$f":"EmpDetail!C16","v":"अध्यापक ग्रेड III"},{"$f":"EmpDetail!D16","v":"राउमावि चौगाई"}]
[null,"","","","",null,null,"","",null,null,{"$f":"EmpDetail!A17","v":14},{"$f":"EmpDetail!B17","v":"vklsQk [kku"},{"$f":"EmpDetail!C17","v":"अध्यापक ग्रेड III"},{"$f":"EmpDetail!D17","v":"राउमावि चौगाई"}]
[null,"","","","",null,null,"","",null,null,{"$f":"EmpDetail!A18","v":15},{"$f":"EmpDetail!B18","v":"lq'khyk cSjok"},{"$f":"EmpDetail!C18","v":"कनिष्ठ सहायक"},{"$f":"EmpDetail!D18","v":"राउमावि चौगाई"}]
[null,null,null,null,null,null,null,null,null,null,null,{"$f":"EmpDetail!A19","v":16},{"$f":"EmpDetail!B19","v":"txnh'k izlkn rsyh"},{"$f":"EmpDetail!C19","v":"सहायक कर्मचारी"},{"$f":"EmpDetail!D19","v":"राउमावि चौगाई"}]
[null,null,null,null,null,null,null,null,null,{"$f":"Master!B2","v":"प्रधानाचार्य"},null,{"$f":"EmpDetail!A20","v":17},{"$f":"EmpDetail!B20","v":"jfoUnz dqekj tSu"},{"$f":"EmpDetail!C20","v":"अध्यापक ग्रेड III"},{"$f":"EmpDetail!D20","v":"राउप्रावि मोहिनी"}]
[null,null,null,null,null,null,null,null,null,{"$f":"Master!B3","v":"राजकीय उच्च माध्यमिक विद्यालय "},null,{"$f":"EmpDetail!A21","v":18},{"$f":"EmpDetail!B21","v":" ';ke lqUnj ckxkSM"},{"$f":"EmpDetail!C21","v":"अध्यापक ग्रेड III"},{"$f":"EmpDetail!D21","v":"राउप्रावि मोहिनी"}]
[null,null,null,null,null,null,null,null,null,{"$f":"Master!B4","v":"चौगाई]टोंक"},null,{"$f":"EmpDetail!A22","v":19},{"$f":"EmpDetail!B22","v":"d`\".kk 'kekZ"},{"$f":"EmpDetail!C22","v":"प्रबोधक"},{"$f":"EmpDetail!D22","v":"राउप्रावि मोहिनी"}]
[null,"Øekad&",{"$f":"Master!H3&Master!I3&Master!J3&Master!E3&\"/\"","v":"राउमावि/चौगाई/संस्था/2021-22/"},null,null,null,null,null,null,"fnukad&",{"$f":"TODAY()","v":"2021-06-19"},{"$f":"EmpDetail!A23","v":20},{"$f":"EmpDetail!B23","v":"/keZsUnz pkS/kjh"},{"$f":"EmpDetail!C23","v":"अध्यापक ग्रेड III"},{"$f":"EmpDetail!D23","v":"राउप्रावि गोरधनपुरा"}]
[null,null,"izfrfyfi lwpukFkZ ,oa ikyukFkZ",null,null,null,null,null,null,null,null,{"$f":"EmpDetail!A24","v":21},{"$f":"EmpDetail!B24","v":"izgykn ekyh"},{"$f":"EmpDetail!C24","v":"प्रबोधक"},{"$f":"EmpDetail!D24","v":"राउप्रावि गोरधनपुरा"}]
[null,1,"dks\"kkf/kdkjh@mi dks\"kkf/kdkjh",{"$f":"Master!H4","v":"पीपलू"},null,null,null,null,null,null,null,{"$f":"EmpDetail!A25","v":22},{"$f":"EmpDetail!B25","v":"jken;ky xqtZj"},{"$f":"EmpDetail!C25","v":"प्रबोधक"},{"$f":"EmpDetail!D25","v":"राउप्रावि सोंदीफल"}]
[null,2,"ys[kk 'kk[kk LFkkuh; dk;kZy;@fo|ky;",null,null,null,null,null,null,null,null,{"$f":"EmpDetail!A26","v":23},{"$f":"EmpDetail!B26","v":"vkSeizdk'k tkV"},{"$f":"EmpDetail!C26","v":"अध्यापक ग्रेड III"},{"$f":"EmpDetail!D26","v":"राउप्रावि सोंदीफल"}]
[null,3,"dkfeZd O;fDrxr iaftdk",null,null,null,null,null,null,null,null,{"$f":"EmpDetail!A27","v":24},{"$f":"EmpDetail!B27","v":"vthr flag"},{"$f":"EmpDetail!C27","v":"अध्यापक ग्रेड III"},{"$f":"EmpDetail!D27","v":"राप्रावि जानकीवल्लभपुरा"}]
[null,4,"lEcfU/kr dkfeZd",null,null,null,null,null,null,{"$f":"J23","v":"प्रधानाचार्य"},null,{"$f":"EmpDetail!A28","v":25},{"$f":"EmpDetail!B28","v":"eq[rkj eha;k"},{"$f":"EmpDetail!C28","v":"प्रबोधक"},{"$f":"EmpDetail!D28","v":"राप्रावि जानकीवल्लभपुरा"}]
[null,null,null,null,null,null,null,null,null,{"$f":"J24","v":"राजकीय उच्च माध्यमिक विद्यालय "},null,{"$f":"EmpDetail!A29","v":26},{"$f":"EmpDetail!B29","v":"eks0 tehy "},{"$f":"EmpDetail!C29","v":"प्रबोधक"},{"$f":"EmpDetail!D29","v":"राप्रावि रसूलपुरा"}]
[null,null,null,null,null,null,null,null,null,{"$f":"J25","v":"चौगाई]टोंक"},null,{"$f":"EmpDetail!A30","v":27},{"$f":"EmpDetail!B30","v":"lkaojey tkV"},{"$f":"EmpDetail!C30","v":"अध्यापक ग्रेड III"},{"$f":"EmpDetail!D30","v":"राप्रावि रसूलपुरा"}]
[null,null,null,null,null,null,null,null,null,null,null,{"$f":"EmpDetail!A31","v":28},{"$f":"EmpDetail!B31","v":"pkS/kjh eksuk jkekorkj"},{"$f":"EmpDetail!C31","v":"अध्यापक ग्रेड III"},{"$f":"EmpDetail!D31","v":"राप्रावि मोहिनी ढाणी बाढ"}]
[null,null,null,null,null,null,null,null,null,null,null,{"$f":"EmpDetail!A32","v":29},{"$f":"EmpDetail!B32","v":"rkjkpUn tk;loky"},{"$f":"EmpDetail!C32","v":"प्रबोधक"},{"$f":"EmpDetail!D32","v":"राप्रावि मोहिनी ढाणी बाढ"}]
[null,null,null,null,null,null,null,null,null,null,null,{"$f":"EmpDetail!A33","v":30},{"$f":"EmpDetail!B33","v":"jketl ;kno"},{"$f":"EmpDetail!C33","v":"अध्यापक ग्रेड III"},{"$f":"EmpDetail!D33","v":"राप्रावि बैरवा ढाणी सोन्दीफल"}]
[null,null,null,null,null,null,null,null,null,null,null,{"$f":"EmpDetail!A34","v":31},{"$f":"EmpDetail!B34","v":"dtksMey eh.kk"},{"$f":"EmpDetail!C34","v":"अध्यापक ग्रेड III"},{"$f":"EmpDetail!D34","v":"राप्रावि बैरवा ढाणी सोन्दीफल"}]
[null,null,null,null,null,null,null,null,null,null,null,{"$f":"EmpDetail!A35","v":32},{"$f":"EmpDetail!B35","v":"/kaut; xkSRre"},{"$f":"EmpDetail!C35","v":"अध्यापक ग्रेड III"},{"$f":"EmpDetail!D35","v":"राउप्रावि गोरधनपुरा"}]
[null,null,null,null,null,null,null,null,null,null,null,{"$f":"EmpDetail!A36","v":33},{"$f":"EmpDetail!B36","v":"d`\".kk xaxoky"},{"$f":"EmpDetail!C36","v":"अध्यापक ग्रेड III"},{"$f":"EmpDetail!D36","v":"राउप्रावि गोरधनपुरा"}]
[null,null,null,null,null,null,null,null,null,null,null,{"$f":"EmpDetail!A37","v":34},{"$f":"EmpDetail!B37","v":"n'kjFk dqekj ;kno"},{"$f":"EmpDetail!C37","v":"अध्यापक ग्रेड III"},{"$f":"EmpDetail!D37","v":"राउप्रावि सोंदीफल"}]
[null,null,null,null,null,null,null,null,null,null,null,{"$f":"EmpDetail!A38","v":35},{"$f":"EmpDetail!B38","v":"d`\".k yky tkV"},{"$f":"EmpDetail!C38","v":"अध्यापक ग्रेड III"},{"$f":"EmpDetail!D38","v":"राउप्रावि सोंदीफल"}]
[null,null,null,null,null,null,null,null,null,null,null,{"$f":"EmpDetail!A39","v":36},{"$f":"EmpDetail!B39","v":"nhisUnz dqekj iztkir"},{"$f":"EmpDetail!C39","v":"अध्यापक ग्रेड III"},{"$f":"EmpDetail!D39","v":"राउप्रावि सोंदीफल"}]
[null,null,null,null,null,null,null,null,null,null,null,{"$f":"EmpDetail!A40","v":37},{"$f":"EmpDetail!B40","v":"uohu dqekj"},{"$f":"EmpDetail!C40","v":"अध्यापक ग्रेड III"},{"$f":"EmpDetail!D40","v":"राउप्रावि मोहिनी"}]
[null,null,null,null,null,null,null,null,null,null,null,{"$f":"EmpDetail!A41","v":38},{"$f":"EmpDetail!B41","v":"ehrs'k dqekj 'kekZ"},{"$f":"EmpDetail!C41","v":"अध्यापक ग्रेड III"},{"$f":"EmpDetail!D41","v":"राउप्रावि मोहिनी"}]
[null,null,null,null,null,null,null,null,null,null,null,{"$f":"EmpDetail!A42","v":39},{"$f":"EmpDetail!B42","v":"eUtw eh.kk"},{"$f":"EmpDetail!C42","v":"वरिष्ठ अध्यापक"},{"$f":"EmpDetail!D42","v":"राउप्रावि गोरधनपुरा"}]
[null,null,null,null,null,null,null,null,null,null,null,{"$f":"EmpDetail!A43","v":40},{"$f":"EmpDetail!B43","v":"eatw pkS/kjh"},{"$f":"EmpDetail!C43","v":"वरिष्ठ अध्यापक"},{"$f":"EmpDetail!D43","v":"राउप्रावि सोंदीफल"}]
[null,null,null,null,null,null,null,null,null,null,null,{"$f":"EmpDetail!A44","v":41},{"$f":"EmpDetail!B44","v":0},{"$f":"EmpDetail!C44","v":0},{"$f":"EmpDetail!D44","v":0}]
[null,null,null,null,null,null,null,null,null,null,null,{"$f":"EmpDetail!A45","v":42},{"$f":"EmpDetail!B45","v":0},{"$f":"EmpDetail!C45","v":0},{"$f":"EmpDetail!D45","v":0}]
[null,null,null,null,null,null,null,null,null,null,null,{"$f":"EmpDetail!A46","v":43},{"$f":"EmpDetail!B46","v":0},{"$f":"EmpDetail!#REF!","v":{"$error":"#REF!"}},{"$f":"EmpDetail!#REF!","v":{"$error":"#REF!"}}]
[null,null,null,null,null,null,null,null,null,null,null,{"$f":"EmpDetail!A47","v":44},{"$f":"EmpDetail!B47","v":0},{"$f":"EmpDetail!C47","v":0},{"$f":"EmpDetail!D47","v":0}]
[null,null,null,null,null,null,null,null,null,null,null,{"$f":"EmpDetail!A48","v":45},{"$f":"EmpDetail!B48","v":0},{"$f":"EmpDetail!C48","v":0},{"$f":"EmpDetail!D48","v":0}]
[null,null,null,null,null,null,null,null,null,null,null,{"$f":"EmpDetail!A49","v":46},{"$f":"EmpDetail!B49","v":0},{"$f":"EmpDetail!C49","v":0},{"$f":"EmpDetail!D49","v":0}]
[null,null,null,null,null,null,null,null,null,null,null,{"$f":"EmpDetail!A50","v":47},{"$f":"EmpDetail!B50","v":0},{"$f":"EmpDetail!C50","v":0},{"$f":"EmpDetail!D50","v":0}]
[null,null,null,null,null,null,null,null,null,null,null,{"$f":"EmpDetail!A51","v":48},{"$f":"EmpDetail!B51","v":0},{"$f":"EmpDetail!C51","v":0},{"$f":"EmpDetail!D51","v":0}]
[null,null,null,null,null,null,null,null,null,null,null,{"$f":"EmpDetail!A52","v":49},{"$f":"EmpDetail!B52","v":0},{"$f":"EmpDetail!C52","v":0},{"$f":"EmpDetail!D52","v":0}]
[null,null,null,null,null,null,null,null,null,null,null,{"$f":"EmpDetail!A53","v":50},{"$f":"EmpDetail!B53","v":0},{"$f":"EmpDetail!C53","v":0},{"$f":"EmpDetail!D53","v":0}]
[null,null,null,null,null,null,null,null,null,null,null,{"$f":"EmpDetail!A54","v":51},{"$f":"EmpDetail!B54","v":0},{"$f":"EmpDetail!C54","v":0},{"$f":"EmpDetail!D54","v":0}]
[null,null,null,null,null,null,null,null,null,null,null,{"$f":"EmpDetail!A55","v":52},{"$f":"EmpDetail!B55","v":0},{"$f":"EmpDetail!C55","v":0},{"$f":"EmpDetail!D55","v":0}]
[null,null,null,null,null,null,null,null,null,null,null,{"$f":"EmpDetail!A56","v":53},{"$f":"EmpDetail!B56","v":0},{"$f":"EmpDetail!C56","v":0},{"$f":"EmpDetail!D56","v":0}]
[null,null,null,null,null,null,null,null,null,null,null,{"$f":"EmpDetail!A57","v":54},{"$f":"EmpDetail!B57","v":0},{"$f":"EmpDetail!C57","v":0},{"$f":"EmpDetail!D57","v":0}]
[null,null,null,null,null,null,null,null,null,null,null,{"$f":"EmpDetail!A58","v":55},{"$f":"EmpDetail!B58","v":0},{"$f":"EmpDetail!C58","v":0},{"$f":"EmpDetail!D58","v":0}]
[null,null,null,null,null,null,null,null,null,null,null,{"$f":"EmpDetail!A59","v":56},{"$f":"EmpDetail!B59","v":0},{"$f":"EmpDetail!C59","v":0},{"$f":"EmpDetail!D59","v":0}]
[null,null,null,null,null,null,null,null,null,null,null,{"$f":"EmpDetail!A60","v":57},{"$f":"EmpDetail!B60","v":0},{"$f":"EmpDetail!C60","v":0},{"$f":"EmpDetail!D60","v":0}]
[null,null,null,null,null,null,null,null,null,null,null,{"$f":"EmpDetail!A61","v":58},{"$f":"EmpDetail!B61","v":0},{"$f":"EmpDetail!C61","v":0},{"$f":"EmpDetail!D61","v":0}]
[null,null,null,null,null,null,null,null,null,null,null,{"$f":"EmpDetail!A62","v":59},{"$f":"EmpDetail!B62","v":0},{"$f":"EmpDetail!C62","v":0},{"$f":"EmpDetail!D62","v":0}]
[null,null,null,null,null,null,null,null,null,null,null,{"$f":"EmpDetail!A63","v":60},{"$f":"EmpDetail!B63","v":0},{"$f":"EmpDetail!C63","v":0},{"$f":"EmpDetail!D63","v":0}]
[null,null,null,null,null,null,null,null,null,null,null,{"$f":"EmpDetail!A64","v":61},{"$f":"EmpDetail!B64","v":0},{"$f":"EmpDetail!C64","v":0},{"$f":"EmpDetail!D64","v":0}]
[null,null,null,null,null,null,null,null,null,null,null,{"$f":"EmpDetail!A65","v":62},{"$f":"EmpDetail!B65","v":0},{"$f":"EmpDetail!C65","v":0},{"$f":"EmpDetail!D65","v":0}]
[null,null,null,null,null,null,null,null,null,null,null,{"$f":"EmpDetail!A66","v":63},{"$f":"EmpDetail!B66","v":0},{"$f":"EmpDetail!C66","v":0},{"$f":"EmpDetail!D66","v":0}]
[null,null,null,null,null,null,null,null,null,null,null,{"$f":"EmpDetail!A67","v":64},{"$f":"EmpDetail!B67","v":0},{"$f":"EmpDetail!C67","v":0},{"$f":"EmpDetail!D67","v":0}]
[null,null,null,null,null,null,null,null,null,null,null,{"$f":"EmpDetail!A68","v":65},{"$f":"EmpDetail!B68","v":0},{"$f":"EmpDetail!C68","v":0},{"$f":"EmpDetail!D68","v":0}]
[null,null,null,null,null,null,null,null,null,null,null,{"$f":"EmpDetail!A69","v":66},{"$f":"EmpDetail!B69","v":0},{"$f":"EmpDetail!C69","v":0},{"$f":"EmpDetail!D69","v":0}]
[null,null,null,null,null,null,null,null,null,null,null,{"$f":"EmpDetail!A70","v":67},{"$f":"EmpDetail!B70","v":0},{"$f":"EmpDetail!C70","v":0},{"$f":"EmpDetail!D70","v":0}]
[null,null,null,null,null,null,null,null,null,null,null,{"$f":"EmpDetail!A71","v":68},{"$f":"EmpDetail!B71","v":0},{"$f":"EmpDetail!C71","v":0},{"$f":"EmpDetail!D71","v":0}]
[null,null,null,null,null,null,null,null,null,null,null,{"$f":"EmpDetail!A72","v":69},{"$f":"EmpDetail!B72","v":0},{"$f":"EmpDetail!C72","v":0},{"$f":"EmpDetail!D72","v":0}]
[null,null,null,null,null,null,null,null,null,null,null,{"$f":"EmpDetail!A73","v":70},{"$f":"EmpDetail!B73","v":0},{"$f":"EmpDetail!C73","v":0},{"$f":"EmpDetail!D73","v":0}]
[null,null,null,null,null,null,null,null,null,null,null,{"$f":"EmpDetail!A74","v":71},{"$f":"EmpDetail!B74","v":0},{"$f":"EmpDetail!C74","v":0},{"$f":"EmpDetail!D74","v":0}]
[null,null,null,null,null,null,null,null,null,null,null,{"$f":"EmpDetail!A75","v":72},{"$f":"EmpDetail!B75","v":0},{"$f":"EmpDetail!C75","v":0},{"$f":"EmpDetail!D75","v":0}]
[null,null,null,null,null,null,null,null,null,null,null,{"$f":"EmpDetail!A76","v":73},{"$f":"EmpDetail!B76","v":0},{"$f":"EmpDetail!C76","v":0},{"$f":"EmpDetail!D76","v":0}]
[null,null,null,null,null,null,null,null,null,null,null,{"$f":"EmpDetail!A77","v":74},{"$f":"EmpDetail!B77","v":0},{"$f":"EmpDetail!C77","v":0},{"$f":"EmpDetail!D77","v":0}]
[null,null,null,null,null,null,null,null,null,null,null,{"$f":"EmpDetail!A78","v":75},{"$f":"EmpDetail!B78","v":0},{"$f":"EmpDetail!C78","v":0},{"$f":"EmpDetail!D78","v":0}]
[null,null,null,null,null,null,null,null,null,null,null,{"$f":"EmpDetail!A79","v":76},{"$f":"EmpDetail!B79","v":0},{"$f":"EmpDetail!C79","v":0},{"$f":"EmpDetail!D79","v":0}]
[null,null,null,null,null,null,null,null,null,null,null,{"$f":"EmpDetail!A80","v":77},{"$f":"EmpDetail!B80","v":0},{"$f":"EmpDetail!C80","v":0},{"$f":"EmpDetail!D80","v":0}]
[null,null,null,null,null,null,null,null,null,null,null,{"$f":"EmpDetail!A81","v":78},{"$f":"EmpDetail!B81","v":0},{"$f":"EmpDetail!C81","v":0},{"$f":"EmpDetail!D81","v":0}]
[null,null,null,null,null,null,null,null,null,null,null,{"$f":"EmpDetail!A82","v":79},{"$f":"EmpDetail!B82","v":0},{"$f":"EmpDetail!C82","v":0},{"$f":"EmpDetail!D82","v":0}]
[null,null,null,null,null,null,null,null,null,null,null,{"$f":"EmpDetail!A83","v":80},{"$f":"EmpDetail!B83","v":0},{"$f":"EmpDetail!C83","v":0},{"$f":"EmpDetail!D83","v":0}]
[null,null,null,null,null,null,null,null,null,null,null,{"$f":"EmpDetail!A84","v":81},{"$f":"EmpDetail!B84","v":0},{"$f":"EmpDetail!C84","v":0},{"$f":"EmpDetail!D84","v":0}]
[null,null,null,null,null,null,null,null,null,null,null,{"$f":"EmpDetail!A85","v":82},{"$f":"EmpDetail!B85","v":0},{"$f":"EmpDetail!C85","v":0},{"$f":"EmpDetail!D85","v":0}]
[null,null,null,null,null,null,null,null,null,null,null,{"$f":"EmpDetail!A86","v":83},{"$f":"EmpDetail!B86","v":0},{"$f":"EmpDetail!C86","v":0},{"$f":"EmpDetail!D86","v":0}]
[null,null,null,null,null,null,null,null,null,null,null,{"$f":"EmpDetail!A87","v":84},{"$f":"EmpDetail!B87","v":0},{"$f":"EmpDetail!C87","v":0},{"$f":"EmpDetail!D87","v":0}]
[null,null,null,null,null,null,null,null,null,null,null,{"$f":"EmpDetail!A88","v":85},{"$f":"EmpDetail!B88","v":0},{"$f":"EmpDetail!C88","v":0},{"$f":"EmpDetail!D88","v":0}]
[null,null,null,null,null,null,null,null,null,null,null,{"$f":"EmpDetail!A89","v":86},{"$f":"EmpDetail!B89","v":0},{"$f":"EmpDetail!C89","v":0},{"$f":"EmpDetail!D89","v":0}]
[null,null,null,null,null,null,null,null,null,null,null,{"$f":"EmpDetail!A90","v":87},{"$f":"EmpDetail!B90","v":0},{"$f":"EmpDetail!C90","v":0},{"$f":"EmpDetail!D90","v":0}]
[null,null,null,null,null,null,null,null,null,null,null,{"$f":"EmpDetail!A91","v":88},{"$f":"EmpDetail!B91","v":0},{"$f":"EmpDetail!C91","v":0},{"$f":"EmpDetail!D91","v":0}]
[null,null,null,null,null,null,null,null,null,null,null,{"$f":"EmpDetail!A92","v":89},{"$f":"EmpDetail!B92","v":0},{"$f":"EmpDetail!C92","v":0},{"$f":"EmpDetail!D92","v":0}]
[null,null,null,null,null,null,null,null,null,null,null,{"$f":"EmpDetail!A93","v":90},{"$f":"EmpDetail!B93","v":0},{"$f":"EmpDetail!C93","v":0},{"$f":"EmpDetail!D93","v":0}]
[null,null,null,null,null,null,null,null,null,null,null,{"$f":"EmpDetail!A94","v":91},{"$f":"EmpDetail!B94","v":0},{"$f":"EmpDetail!C94","v":0},{"$f":"EmpDetail!D94","v":0}]
[null,null,null,null,null,null,null,null,null,null,null,{"$f":"EmpDetail!A95","v":92},{"$f":"EmpDetail!B95","v":0},{"$f":"EmpDetail!C95","v":0},{"$f":"EmpDetail!D95","v":0}]
[null,null,null,null,null,null,null,null,null,null,null,{"$f":"EmpDetail!A96","v":93},{"$f":"EmpDetail!B96","v":0},{"$f":"EmpDetail!C96","v":0},{"$f":"EmpDetail!D96","v":0}]
[null,null,null,null,null,null,null,null,null,null,null,{"$f":"EmpDetail!A97","v":94},{"$f":"EmpDetail!B97","v":0},{"$f":"EmpDetail!C97","v":0},{"$f":"EmpDetail!D97","v":0}]
[null,null,null,null,null,null,null,null,null,null,null,{"$f":"EmpDetail!A98","v":95},{"$f":"EmpDetail!B98","v":0},{"$f":"EmpDetail!C98","v":0},{"$f":"EmpDetail!D98","v":0}]
[null,null,null,null,null,null,null,null,null,null,null,{"$f":"EmpDetail!A99","v":96},{"$f":"EmpDetail!B99","v":0},{"$f":"EmpDetail!C99","v":0},{"$f":"EmpDetail!D99","v":0}]
[null,null,null,null,null,null,null,null,null,null,null,{"$f":"EmpDetail!A100","v":97},{"$f":"EmpDetail!B100","v":0},{"$f":"EmpDetail!C100","v":0},{"$f":"EmpDetail!D100","v":0}]
[null,null,null,null,null,null,null,null,null,null,null,{"$f":"EmpDetail!A101","v":98},{"$f":"EmpDetail!B101","v":0},{"$f":"EmpDetail!C101","v":0},{"$f":"EmpDetail!D101","v":0}]
[null,null,null,null,null,null,null,null,null,null,null,{"$f":"EmpDetail!A102","v":99},{"$f":"EmpDetail!B102","v":0},{"$f":"EmpDetail!C102","v":0},{"$f":"EmpDetail!D102","v":0}]
[null,null,null,null,null,null,null,null,null,null,null,{"$f":"EmpDetail!A103","v":100},{"$f":"EmpDetail!B103","v":0},{"$f":"EmpDetail!C103","v":0},{"$f":"EmpDetail!D103","v":0}]

{"sheet":"PL on Joining","index":5,"n_rows":108,"n_cols":23,"rows_kept":108,"cut":false,"hidden":true,"merged":[[0,1,0,12],[2,4,2,7],[5,1,5,12],[4,1,4,12],[6,1,6,12]]}
[null,{"$f":"Master!G2&Master!H2","v":"कार्यालय&राजकीय उच्च माध्यमिक विद्यालय ]चौगाई]टोंक"}]
[]
[null,null,null,null,"dk;kZy; vkns'k"]
[]
[null,"jkT; ljdkj ds vkns'k dzekad&,Q&2¼6½,l-Mh@xzqi&2 fnukad&17-03-1981 ,oa jktLFkku flfoy lfoZlst ¼in xzg.k dky½ fu;e 1981 ds fu;e 4¼1½ o 6 ,oa "]
[null,"foRr foHkkx ds ifji= fnukad 02-08-2005 ds fcUnq la[;k ¼c½ ds vuqlkj fuEukafdr dkfeZdksa dk muds uke ds lEeq[k vafdr fooj.kkuqlkj in xzg.k dky dk miHkksx ugha "]
[null,"djus ds cnys esa mikftZr vodk'k dk LoRo muds vodk'k [kkrs esa tksM+us dh Lohd`fr iznku dh tkrh gSA"]
["dkfeZd Ø-la-","Ø-la-","uke dfeZd"," in uke","inLFkkiu LFkku","ysoy","in xzg.k dky fn;s tus dk dkj.k","iwoZ in R;kx dk fnukad","e/;kUg iwoZ@ i'pkr","orZeku in xzg.k dk fnukad","e/;kUg iwoZ@ i'pkr","iwoZ inLFkkiu ls orZeku inLFkkiu LFkku dh nwjh fdeh esa","ns; mikftZr vodk'k",null,null,null,null,null,"Used Days",null,"Date Releave Define","Date Joining Define","PL Earned"]
[9,{"$f":"IF(C9=\"\",\"\",1)","v":1},{"$f":"IF(ISNA(VLOOKUP($A9,$N$9:$R$108,2,FALSE)),\"\",VLOOKUP($A9,$N$7:$R$108,2,FALSE))","v":"jkeizlkn jsxj"},{"$f":"IF(ISNA(VLOOKUP($A9,$N$9:$R$108,3,FALSE)),\"\",VLOOKUP($A9,$N$7:$R$108,3,FALSE))","v":"वरिष्ठ अध्यापक"},{"$f":"IF(ISNA(VLOOKUP($A9,$N$9:$R$108,4,FALSE)),\"\",VLOOKUP($A9,$N$7:$R$108,4,FALSE))","v":"राउमावि चौगाई"},{"$f":"IF(ISNA(VLOOKUP($A9,$N$9:$R$108,5,FALSE)),\"\",VLOOKUP($A9,$N$7:$R$108,5,FALSE))","v":"L-11"},"स्थानांतरण","2020-10-01","After Noon","2020-10-02","Before Noon",500,{"$f":"IF(C9=\"\",\"\",W9-S9)","v":"1900-01-10"},{"$f":"EmpDetail!A4","v":1},{"$f":"EmpDetail!B4","v":"fd'ku yky cSjok"},{"$f":"EmpDetail!C4","v":"प्रधानाचार्य"},{"$f":"EmpDetail!D4","v":"राउमावि चौगाई"},{"$f":"EmpDetail!J4","v":"L-16"},{"$f":"IF(H9=J9,0,V9-U9)","v":0},null,{"$f":"IF(I9=\"After Noon\",H9+1,H9)","v":"2020-10-02"},{"$f":"IF(K9=\"After Noon\",J9+1,J9)","v":"2020-10-02"},{"$f":"IF(L9<=500,10,IF(L9<=999,12,IF(L9<=10000,15,0)))*IF(L9>2,1,0)","v":10}]
[null,{"$f":"IF(C10=\"\",\"\",B9+1)","v":""},{"$f":"IF(ISNA(VLOOKUP($A10,$N$9:$R$108,2,FALSE)),\"\",VLOOKUP($A10,$N$7:$R$108,2,FALSE))","v":""},{"$f":"IF(ISNA(VLOOKUP($A10,$N$9:$R$108,3,FALSE)),\"\",VLOOKUP($A10,$N$7:$R$108,3,FALSE))","v":""},{"$f":"IF(ISNA(VLOOKUP($A10,$N$9:$R$108,4,FALSE)),\"\",VLOOKUP($A10,$N$7:$R$108,4,FALSE))","v":""},{"$f":"IF(ISNA(VLOOKUP($A10,$N$9:$R$108,5,FALSE)),\"\",VLOOKUP($A10,$N$7:$R$108,5,FALSE))","v":""},"स्थानांतरण","2020-10-01","After Noon","2020-10-03","Before Noon",125,{"$f":"IF(C10=\"\",\"\",W10-S10)","v":""},{"$f":"EmpDetail!A5","v":2},{"$f":"EmpDetail!B5","v":"iwj.k pUn y{kdkj"},{"$f":"EmpDetail!C5","v":"व्याख्याता"},{"$f":"EmpDetail!D5","v":"राउमावि चौगाई"},{"$f":"EmpDetail!J5","v":"L-12"},{"$f":"IF(H10=J10,0,V10-U10)","v":1},null,{"$f":"IF(I10=\"After Noon\",H10+1,H10)","v":"2020-10-02"},{"$f":"IF(K10=\"After Noon\",J10+1,J10)","v":"2020-10-03"},{"$f":"IF(L10<=500,10,IF(L10<=999,12,IF(L10<=10000,15,0)))*IF(L10>2,1,0)","v":10}]
[null,"","","","","","स्थानांतरण","2020-10-01","After Noon","2020-10-02","Before Noon",23,"",{"$f":"EmpDetail!A6","v":3},{"$f":"EmpDetail!B6","v":"jktsUnz dqekj tSu"},{"$f":"EmpDetail!C6","v":"व्याख्याता"},{"$f":"EmpDetail!D6","v":"राउमावि चौगाई"},{"$f":"EmpDetail!J6","v":"L-12"},0,null,"2020-10-02","2020-10-02",10]
[null,"","","","","",null,null,null,null,null,null,"",{"$f":"EmpDetail!A7","v":4},{"$f":"EmpDetail!B7","v":"fd'ku yky cSjok"},{"$f":"EmpDetail!C7","v":"व्याख्याता"},{"$f":"EmpDetail!D7","v":"राउमावि चौगाई"},{"$f":"EmpDetail!J7","v":"L-12"},0,null,"00:00:00","00:00:00",0]
[null,"","","","","",null,null,null,null,null,null,"",{"$f":"EmpDetail!A8","v":5},{"$f":"EmpDetail!B8","v":"lR;ukjk;.k 'kekZ"},{"$f":"EmpDetail!C8","v":"वरिष्ठ अध्यापक"},{"$f":"EmpDetail!D8","v":"राउमावि चौगाई"},{"$f":"EmpDetail!J8","v":"L-13"},0,null,"00:00:00","00:00:00",0]
[null,"","","","","",null,null,null,null,null,null,"",{"$f":"EmpDetail!A9","v":6},{"$f":"EmpDetail!B9","v":"iq\"ik tSu"},{"$f":"EmpDetail!C9","v":"वरिष्ठ अध्यापक"},{"$f":"EmpDetail!D9","v":"राउमावि चौगाई"},{"$f":"EmpDetail!J9","v":"L-13"},0,null,"00:00:00","00:00:00",0]
[null,"","","","","",null,null,null,null,null,null,"",{"$f":"EmpDetail!A10","v":7},{"$f":"EmpDetail!B10","v":"vk'kkjke eh.kk"},{"$f":"EmpDetail!C10","v":"वरिष्ठ अध्यापक"},{"$f":"EmpDetail!D10","v":"राउमावि चौगाई"},{"$f":"EmpDetail!J10","v":"L-11"},0,null,"00:00:00","00:00:00",0]
[null,null,null,null,null,null,null,null,null,null,null,null,null,{"$f":"EmpDetail!A11","v":8},{"$f":"EmpDetail!B11","v":"t;iky flag"},{"$f":"EmpDetail!C11","v":"वरिष्ठ अध्यापक"},{"$f":"EmpDetail!D11","v":"राउमावि चौगाई"},{"$f":"EmpDetail!J11","v":"L-12"}]
[null,null,null,null,null,null,null,null,null,null,null,{"$f":"Master!B2","v":"प्रधानाचार्य"},null,{"$f":"EmpDetail!A12","v":9},{"$f":"EmpDetail!B12","v":"jkeizlkn jsxj"},{"$f":"EmpDetail!C12","v":"वरिष्ठ अध्यापक"},{"$f":"EmpDetail!D12","v":"राउमावि चौगाई"},{"$f":"EmpDetail!J12","v":"L-11"}]
[null,null,null,null,null,null,null,null,null,null,null,{"$f":"Master!B3","v":"राजकीय उच्च माध्यमिक विद्यालय "},null,{"$f":"EmpDetail!A13","v":10},{"$f":"EmpDetail!B13","v":"egsUnz dqekj tkV"},{"$f":"EmpDetail!C13","v":"शारीरिक शिक्षक"},{"$f":"EmpDetail!D13","v":"राउमावि चौगाई"},{"$f":"EmpDetail!J13","v":"L-12"}]
[null,null,null,null,null,null,null,null,null,null,null,{"$f":"Master!B4","v":"चौगाई]टोंक"},null,{"$f":"EmpDetail!A14","v":11},{"$f":"EmpDetail!B14","v":"NksVw yky jsxj"},{"$f":"EmpDetail!C14","v":"अध्यापक ग्रेड III"},{"$f":"EmpDetail!D14","v":"राउमावि चौगाई"},{"$f":"EmpDetail!J14","v":"L-13"}]
[null,"Øekad&",{"$f":"Master!H3&Master!I3&Master!J3&Master!E3&\"/\"","v":"राउमावि/चौगाई/संस्था/2021-22/"},null,null,null,null,null,null,null,null,"fnukad&",{"$f":"TODAY()","v":"2021-06-19"},{"$f":"EmpDetail!A15","v":12},{"$f":"EmpDetail!B15","v":"dUgS;k yky egkoj"},{"$f":"EmpDetail!C15","v":"अध्यापक ग्रेड III"},{"$f":"EmpDetail!D15","v":"राउमावि चौगाई"},{"$f":"EmpDetail!J15","v":"L-13"}]
[null,null,"izfrfyfi lwpukFkZ ,oa ikyukFkZ",null,null,null,null,null,null,null,null,null,null,{"$f":"EmpDetail!A16","v":13},{"$f":"EmpDetail!B16","v":"prqHkqZt tkV"},{"$f":"EmpDetail!C16","v":"अध्यापक ग्रेड III"},{"$f":"EmpDetail!D16","v":"राउमावि चौगाई"},{"$f":"EmpDetail!J16","v":"L-11"}]
[null,1,"dks\"kkf/kdkjh@mi dks\"kkf/kdkjh",{"$f":"Master!H4","v":"पीपलू"},null,null,null,null,null,null,null,null,null,{"$f":"EmpDetail!A17","v":14},{"$f":"EmpDetail!B17","v":"vklsQk [kku"},{"$f":"EmpDetail!C17","v":"अध्यापक ग्रेड III"},{"$f":"EmpDetail!D17","v":"राउमावि चौगाई"},{"$f":"EmpDetail!J17","v":"L-11"}]
[null,2,"ys[kk 'kk[kk LFkkuh; dk;kZy;",null,null,null,null,null,null,null,null,null,null,{"$f":"EmpDetail!A18","v":15},{"$f":"EmpDetail!B18","v":"lq'khyk cSjok"},{"$f":"EmpDetail!C18","v":"कनिष्ठ सहायक"},{"$f":"EmpDetail!D18","v":"राउमावि चौगाई"},{"$f":"EmpDetail!J18","v":"L-5"}]
[null,3,"dkfeZd O;fDrxr iaftdk",null,null,null,null,null,null,null,null,null,null,{"$f":"EmpDetail!A19","v":16},{"$f":"EmpDetail!B19","v":"txnh'k izlkn rsyh"},{"$f":"EmpDetail!C19","v":"सहायक कर्मचारी"},{"$f":"EmpDetail!D19","v":"राउमावि चौगाई"},{"$f":"EmpDetail!J19","v":"L-5"}]
[null,4,"lEcfU/kr dkfeZd",null,null,null,null,null,null,null,null,null,null,{"$f":"EmpDetail!A20","v":17},{"$f":"EmpDetail!B20","v":"jfoUnz dqekj tSu"},{"$f":"EmpDetail!C20","v":"अध्यापक ग्रेड III"},{"$f":"EmpDetail!D20","v":"राउप्रावि मोहिनी"},{"$f":"EmpDetail!J20","v":"L-12"}]
[null,null,null,null,null,null,null,null,null,null,null,{"$f":"L17","v":"प्रधानाचार्य"},null,{"$f":"EmpDetail!A21","v":18},{"$f":"EmpDetail!B21","v":" ';ke lqUnj ckxkSM"},{"$f":"EmpDetail!C21","v":"अध्यापक ग्रेड III"},{"$f":"EmpDetail!D21","v":"राउप्रावि मोहिनी"},{"$f":"EmpDetail!J21","v":"L-10"}]
[null,null,null,null,null,null,null,null,null,null,null,{"$f":"L18","v":"राजकीय उच्च माध्यमिक विद्यालय "},null,{"$f":"EmpDetail!A22","v":19},{"$f":"EmpDetail!B22","v":"d`\".kk 'kekZ"},{"$f":"EmpDetail!C22","v":"प्रबोधक"},{"$f":"EmpDetail!D22","v":"राउप्रावि मोहिनी"},{"$f":"EmpDetail!J22","v":"L-11"}]
[null,null,null,null,null,null,null,null,null,null,null,{"$f":"L19","v":"चौगाई]टोंक"},null,{"$f":"EmpDetail!A23","v":20},{"$f":"EmpDetail!B23","v":"/keZsUnz pkS/kjh"},{"$f":"EmpDetail!C23","v":"अध्यापक ग्रेड III"},{"$f":"EmpDetail!D23","v":"राउप्रावि गोरधनपुरा"},{"$f":"EmpDetail!J23","v":"L-10"}]
[null,null,null,null,null,null,null,null,null,null,null,null,null,{"$f":"EmpDetail!A24","v":21},{"$f":"EmpDetail!B24","v":"izgykn ekyh"},{"$f":"EmpDetail!C24","v":"प्रबोधक"},{"$f":"EmpDetail!D24","v":"राउप्रावि गोरधनपुरा"},{"$f":"EmpDetail!J24","v":"L-11"}]
[null,null,null,null,null,null,null,null,null,null,null,null,null,{"$f":"EmpDetail!A25","v":22},{"$f":"EmpDetail!B25","v":"jken;ky xqtZj"},{"$f":"EmpDetail!C25","v":"प्रबोधक"},{"$f":"EmpDetail!D25","v":"राउप्रावि सोंदीफल"},{"$f":"EmpDetail!J25","v":"L-11"}]
[null,null,null,null,null,null,null,null,null,null,null,null,null,{"$f":"EmpDetail!A26","v":23},{"$f":"EmpDetail!B26","v":"vkSeizdk'k tkV"},{"$f":"EmpDetail!C26","v":"अध्यापक ग्रेड III"},{"$f":"EmpDetail!D26","v":"राउप्रावि सोंदीफल"},{"$f":"EmpDetail!J26","v":"L-11"}]
[null,null,null,null,null,null,null,null,null,null,null,null,null,{"$f":"EmpDetail!A27","v":24},{"$f":"EmpDetail!B27","v":"vthr flag"},{"$f":"EmpDetail!C27","v":"अध्यापक ग्रेड III"},{"$f":"EmpDetail!D27","v":"राप्रावि जानकीवल्लभपुरा"},{"$f":"EmpDetail!J27","v":"L-10"}]
[null,null,null,null,null,null,null,null,null,null,null,null,null,{"$f":"EmpDetail!A28","v":25},{"$f":"EmpDetail!B28","v":"eq[rkj eha;k"},{"$f":"EmpDetail!C28","v":"प्रबोधक"},{"$f":"EmpDetail!D28","v":"राप्रावि जानकीवल्लभपुरा"},{"$f":"EmpDetail!J28","v":"L-11"}]
[null,null,null,null,null,null,null,null,null,null,null,null,null,{"$f":"EmpDetail!A29","v":26},{"$f":"EmpDetail!B29","v":"eks0 tehy "},{"$f":"EmpDetail!C29","v":"प्रबोधक"},{"$f":"EmpDetail!D29","v":"राप्रावि रसूलपुरा"},{"$f":"EmpDetail!J29","v":"L-11"}]
[null,null,null,null,null,null,null,null,null,null,null,null,null,{"$f":"EmpDetail!A30","v":27},{"$f":"EmpDetail!B30","v":"lkaojey tkV"},{"$f":"EmpDetail!C30","v":"अध्यापक ग्रेड III"},{"$f":"EmpDetail!D30","v":"राप्रावि रसूलपुरा"},{"$f":"EmpDetail!J30","v":"L-10"}]
[null,null,null,null,null,null,null,null,null,null,null,null,null,{"$f":"EmpDetail!A31","v":28},{"$f":"EmpDetail!B31","v":"pkS/kjh eksuk jkekorkj"},{"$f":"EmpDetail!C31","v":"अध्यापक ग्रेड III"},{"$f":"EmpDetail!D31","v":"राप्रावि मोहिनी ढाणी बाढ"},{"$f":"EmpDetail!J31","v":"L-10"}]
[null,null,null,null,null,null,null,null,null,null,null,null,null,{"$f":"EmpDetail!A32","v":29},{"$f":"EmpDetail!B32","v":"rkjkpUn tk;loky"},{"$f":"EmpDetail!C32","v":"प्रबोधक"},{"$f":"EmpDetail!D32","v":"राप्रावि मोहिनी ढाणी बाढ"},{"$f":"EmpDetail!J32","v":"L-11"}]
[null,null,null,null,null,null,null,null,null,null,null,null,null,{"$f":"EmpDetail!A33","v":30},{"$f":"EmpDetail!B33","v":"jketl ;kno"},{"$f":"EmpDetail!C33","v":"अध्यापक ग्रेड III"},{"$f":"EmpDetail!D33","v":"राप्रावि बैरवा ढाणी सोन्दीफल"},{"$f":"EmpDetail!J33","v":"L-12"}]
[null,null,null,null,null,null,null,null,null,null,null,null,null,{"$f":"EmpDetail!A34","v":31},{"$f":"EmpDetail!B34","v":"dtksMey eh.kk"},{"$f":"EmpDetail!C34","v":"अध्यापक ग्रेड III"},{"$f":"EmpDetail!D34","v":"राप्रावि बैरवा ढाणी सोन्दीफल"},{"$f":"EmpDetail!J34","v":"L-10"}]
[null,null,null,null,null,null,null,null,null,null,null,null,null,{"$f":"EmpDetail!A35","v":32},{"$f":"EmpDetail!B35","v":"/kaut; xkSRre"},{"$f":"EmpDetail!C35","v":"अध्यापक ग्रेड III"},{"$f":"EmpDetail!D35","v":"राउप्रावि गोरधनपुरा"},{"$f":"EmpDetail!J35","v":"L-10"}]
[null,null,null,null,null,null,null,null,null,null,null,null,null,{"$f":"EmpDetail!A36","v":33},{"$f":"EmpDetail!B36","v":"d`\".kk xaxoky"},{"$f":"EmpDetail!C36","v":"अध्यापक ग्रेड III"},{"$f":"EmpDetail!D36","v":"राउप्रावि गोरधनपुरा"},{"$f":"EmpDetail!J36","v":"L-10"}]
[null,null,null,null,null,null,null,null,null,null,null,null,null,{"$f":"EmpDetail!A37","v":34},{"$f":"EmpDetail!B37","v":"n'kjFk dqekj ;kno"},{"$f":"EmpDetail!C37","v":"अध्यापक ग्रेड III"},{"$f":"EmpDetail!D37","v":"राउप्रावि सोंदीफल"},{"$f":"EmpDetail!J37","v":"L-10"}]
[null,null,null,null,null,null,null,null,null,null,null,null,null,{"$f":"EmpDetail!A38","v":35},{"$f":"EmpDetail!B38","v":"d`\".k yky tkV"},{"$f":"EmpDetail!C38","v":"अध्यापक ग्रेड III"},{"$f":"EmpDetail!D38","v":"राउप्रावि सोंदीफल"},{"$f":"EmpDetail!J38","v":"L-10"}]
[null,null,null,null,null,null,null,null,null,null,null,null,null,{"$f":"EmpDetail!A39","v":36},{"$f":"EmpDetail!B39","v":"nhisUnz dqekj iztkir"},{"$f":"EmpDetail!C39","v":"अध्यापक ग्रेड III"},{"$f":"EmpDetail!D39","v":"राउप्रावि सोंदीफल"},{"$f":"EmpDetail!J39","v":"L-10"}]
[null,null,null,null,null,null,null,null,null,null,null,null,null,{"$f":"EmpDetail!A40","v":37},{"$f":"EmpDetail!B40","v":"uohu dqekj"},{"$f":"EmpDetail!C40","v":"अध्यापक ग्रेड III"},{"$f":"EmpDetail!D40","v":"राउप्रावि मोहिनी"},{"$f":"EmpDetail!J40","v":"L-10"}]
[null,null,null,null,null,null,null,null,null,null,null,null,null,{"$f":"EmpDetail!A41","v":38},{"$f":"EmpDetail!B41","v":"ehrs'k dqekj 'kekZ"},{"$f":"EmpDetail!C41","v":"अध्यापक ग्रेड III"},{"$f":"EmpDetail!D41","v":"राउप्रावि मोहिनी"},{"$f":"EmpDetail!J41","v":"L-10"}]
[null,null,null,null,null,null,null,null,null,null,null,null,null,{"$f":"EmpDetail!A42","v":39},{"$f":"EmpDetail!B42","v":"eUtw eh.kk"},{"$f":"EmpDetail!C42","v":"वरिष्ठ अध्यापक"},{"$f":"EmpDetail!D42","v":"राउप्रावि गोरधनपुरा"},{"$f":"EmpDetail!J42","v":"L-10"}]
[null,null,null,null,null,null,null,null,null,null,null,null,null,{"$f":"EmpDetail!A43","v":40},{"$f":"EmpDetail!B43","v":"eatw pkS/kjh"},{"$f":"EmpDetail!C43","v":"वरिष्ठ अध्यापक"},{"$f":"EmpDetail!D43","v":"राउप्रावि सोंदीफल"},{"$f":"EmpDetail!J43","v":"L-11"}]
[null,null,null,null,null,null,null,null,null,null,null,null,null,{"$f":"EmpDetail!A44","v":41},{"$f":"EmpDetail!B44","v":0},{"$f":"EmpDetail!C44","v":0},{"$f":"EmpDetail!D44","v":0},{"$f":"EmpDetail!J44","v":0}]
[null,null,null,null,null,null,null,null,null,null,null,null,null,{"$f":"EmpDetail!A45","v":42},{"$f":"EmpDetail!B45","v":0},{"$f":"EmpDetail!C45","v":0},{"$f":"EmpDetail!D45","v":0},{"$f":"EmpDetail!J45","v":0}]
[null,null,null,null,null,null,null,null,null,null,null,null,null,{"$f":"EmpDetail!A46","v":43},{"$f":"EmpDetail!B46","v":0},{"$f":"EmpDetail!#REF!","v":{"$error":"#REF!"}},{"$f":"EmpDetail!#REF!","v":{"$error":"#REF!"}},{"$f":"EmpDetail!J46","v":0}]
[null,null,null,null,null,null,null,null,null,null,null,null,null,{"$f":"EmpDetail!A47","v":44},{"$f":"EmpDetail!B47","v":0},{"$f":"EmpDetail!C47","v":0},{"$f":"EmpDetail!D47","v":0},{"$f":"EmpDetail!J47","v":0}]
[null,null,null,null,null,null,null,null,null,null,null,null,null,{"$f":"EmpDetail!A48","v":45},{"$f":"EmpDetail!B48","v":0},{"$f":"EmpDetail!C48","v":0},{"$f":"EmpDetail!D48","v":0},{"$f":"EmpDetail!J48","v":0}]
[null,null,null,null,null,null,null,null,null,null,null,null,null,{"$f":"EmpDetail!A49","v":46},{"$f":"EmpDetail!B49","v":0},{"$f":"EmpDetail!C49","v":0},{"$f":"EmpDetail!D49","v":0},{"$f":"EmpDetail!J49","v":0}]
[null,null,null,null,null,null,null,null,null,null,null,null,null,{"$f":"EmpDetail!A50","v":47},{"$f":"EmpDetail!B50","v":0},{"$f":"EmpDetail!C50","v":0},{"$f":"EmpDetail!D50","v":0},{"$f":"EmpDetail!J50","v":0}]
[null,null,null,null,null,null,null,null,null,null,null,null,null,{"$f":"EmpDetail!A51","v":48},{"$f":"EmpDetail!B51","v":0},{"$f":"EmpDetail!C51","v":0},{"$f":"EmpDetail!D51","v":0},{"$f":"EmpDetail!J51","v":0}]
[null,null,null,null,null,null,null,null,null,null,null,null,null,{"$f":"EmpDetail!A52","v":49},{"$f":"EmpDetail!B52","v":0},{"$f":"EmpDetail!C52","v":0},{"$f":"EmpDetail!D52","v":0},{"$f":"EmpDetail!J52","v":0}]
[null,null,null,null,null,null,null,null,null,null,null,null,null,{"$f":"EmpDetail!A53","v":50},{"$f":"EmpDetail!B53","v":0},{"$f":"EmpDetail!C53","v":0},{"$f":"EmpDetail!D53","v":0},{"$f":"EmpDetail!J53","v":0}]
[null,null,null,null,null,null,null,null,null,null,null,null,null,{"$f":"EmpDetail!A54","v":51},{"$f":"EmpDetail!B54","v":0},{"$f":"EmpDetail!C54","v":0},{"$f":"EmpDetail!D54","v":0},{"$f":"EmpDetail!J54","v":0}]
[null,null,null,null,null,null,null,null,null,null,null,null,null,{"$f":"EmpDetail!A55","v":52},{"$f":"EmpDetail!B55","v":0},{"$f":"EmpDetail!C55","v":0},{"$f":"EmpDetail!D55","v":0},{"$f":"EmpDetail!J55","v":0}]
[null,null,null,null,null,null,null,null,null,null,null,null,null,{"$f":"EmpDetail!A56","v":53},{"$f":"EmpDetail!B56","v":0},{"$f":"EmpDetail!C56","v":0},{"$f":"EmpDetail!D56","v":0},{"$f":"EmpDetail!J56","v":0}]
[null,null,null,null,null,null,null,null,null,null,null,null,null,{"$f":"EmpDetail!A57","v":54},{"$f":"EmpDetail!B57","v":0},{"$f":"EmpDetail!C57","v":0},{"$f":"EmpDetail!D57","v":0},{"$f":"EmpDetail!J57","v":0}]
[null,null,null,null,null,null,null,null,null,null,null,null,null,{"$f":"EmpDetail!A58","v":55},{"$f":"EmpDetail!B58","v":0},{"$f":"EmpDetail!C58","v":0},{"$f":"EmpDetail!D58","v":0},{"$f":"EmpDetail!J58","v":0}]
[null,null,null,null,null,null,null,null,null,null,null,null,null,{"$f":"EmpDetail!A59","v":56},{"$f":"EmpDetail!B59","v":0},{"$f":"EmpDetail!C59","v":0},{"$f":"EmpDetail!D59","v":0},{"$f":"EmpDetail!J59","v":0}]
[null,null,null,null,null,null,null,null,null,null,null,null,null,{"$f":"EmpDetail!A60","v":57},{"$f":"EmpDetail!B60","v":0},{"$f":"EmpDetail!C60","v":0},{"$f":"EmpDetail!D60","v":0},{"$f":"EmpDetail!J60","v":0}]
[null,null,null,null,null,null,null,null,null,null,null,null,null,{"$f":"EmpDetail!A61","v":58},{"$f":"EmpDetail!B61","v":0},{"$f":"EmpDetail!C61","v":0},{"$f":"EmpDetail!D61","v":0},{"$f":"EmpDetail!J61","v":0}]
[null,null,null,null,null,null,null,null,null,null,null,null,null,{"$f":"EmpDetail!A62","v":59},{"$f":"EmpDetail!B62","v":0},{"$f":"EmpDetail!C62","v":0},{"$f":"EmpDetail!D62","v":0},{"$f":"EmpDetail!J62","v":0}]
[null,null,null,null,null,null,null,null,null,null,null,null,null,{"$f":"EmpDetail!A63","v":60},{"$f":"EmpDetail!B63","v":0},{"$f":"EmpDetail!C63","v":0},{"$f":"EmpDetail!D63","v":0},{"$f":"EmpDetail!J63","v":0}]
[null,null,null,null,null,null,null,null,null,null,null,null,null,{"$f":"EmpDetail!A64","v":61},{"$f":"EmpDetail!B64","v":0},{"$f":"EmpDetail!C64","v":0},{"$f":"EmpDetail!D64","v":0},{"$f":"EmpDetail!J64","v":0}]
[null,null,null,null,null,null,null,null,null,null,null,null,null,{"$f":"EmpDetail!A65","v":62},{"$f":"EmpDetail!B65","v":0},{"$f":"EmpDetail!C65","v":0},{"$f":"EmpDetail!D65","v":0},{"$f":"EmpDetail!J65","v":0}]
[null,null,null,null,null,null,null,null,null,null,null,null,null,{"$f":"EmpDetail!A66","v":63},{"$f":"EmpDetail!B66","v":0},{"$f":"EmpDetail!C66","v":0},{"$f":"EmpDetail!D66","v":0},{"$f":"EmpDetail!J66","v":0}]
[null,null,null,null,null,null,null,null,null,null,null,null,null,{"$f":"EmpDetail!A67","v":64},{"$f":"EmpDetail!B67","v":0},{"$f":"EmpDetail!C67","v":0},{"$f":"EmpDetail!D67","v":0},{"$f":"EmpDetail!J67","v":0}]
[null,null,null,null,null,null,null,null,null,null,null,null,null,{"$f":"EmpDetail!A68","v":65},{"$f":"EmpDetail!B68","v":0},{"$f":"EmpDetail!C68","v":0},{"$f":"EmpDetail!D68","v":0},{"$f":"EmpDetail!J68","v":0}]
[null,null,null,null,null,null,null,null,null,null,null,null,null,{"$f":"EmpDetail!A69","v":66},{"$f":"EmpDetail!B69","v":0},{"$f":"EmpDetail!C69","v":0},{"$f":"EmpDetail!D69","v":0},{"$f":"EmpDetail!J69","v":0}]
[null,null,null,null,null,null,null,null,null,null,null,null,null,{"$f":"EmpDetail!A70","v":67},{"$f":"EmpDetail!B70","v":0},{"$f":"EmpDetail!C70","v":0},{"$f":"EmpDetail!D70","v":0},{"$f":"EmpDetail!J70","v":0}]
[null,null,null,null,null,null,null,null,null,null,null,null,null,{"$f":"EmpDetail!A71","v":68},{"$f":"EmpDetail!B71","v":0},{"$f":"EmpDetail!C71","v":0},{"$f":"EmpDetail!D71","v":0},{"$f":"EmpDetail!J71","v":0}]
[null,null,null,null,null,null,null,null,null,null,null,null,null,{"$f":"EmpDetail!A72","v":69},{"$f":"EmpDetail!B72","v":0},{"$f":"EmpDetail!C72","v":0},{"$f":"EmpDetail!D72","v":0},{"$f":"EmpDetail!J72","v":0}]
[null,null,null,null,null,null,null,null,null,null,null,null,null,{"$f":"EmpDetail!A73","v":70},{"$f":"EmpDetail!B73","v":0},{"$f":"EmpDetail!C73","v":0},{"$f":"EmpDetail!D73","v":0},{"$f":"EmpDetail!J73","v":0}]
[null,null,null,null,null,null,null,null,null,null,null,null,null,{"$f":"EmpDetail!A74","v":71},{"$f":"EmpDetail!B74","v":0},{"$f":"EmpDetail!C74","v":0},{"$f":"EmpDetail!D74","v":0},{"$f":"EmpDetail!J74","v":0}]
[null,null,null,null,null,null,null,null,null,null,null,null,null,{"$f":"EmpDetail!A75","v":72},{"$f":"EmpDetail!B75","v":0},{"$f":"EmpDetail!C75","v":0},{"$f":"EmpDetail!D75","v":0},{"$f":"EmpDetail!J75","v":0}]
[null,null,null,null,null,null,null,null,null,null,null,null,null,{"$f":"EmpDetail!A76","v":73},{"$f":"EmpDetail!B76","v":0},{"$f":"EmpDetail!C76","v":0},{"$f":"EmpDetail!D76","v":0},{"$f":"EmpDetail!J76","v":0}]
[null,null,null,null,null,null,null,null,null,null,null,null,null,{"$f":"EmpDetail!A77","v":74},{"$f":"EmpDetail!B77","v":0},{"$f":"EmpDetail!C77","v":0},{"$f":"EmpDetail!D77","v":0},{"$f":"EmpDetail!J77","v":0}]
[null,null,null,null,null,null,null,null,null,null,null,null,null,{"$f":"EmpDetail!A78","v":75},{"$f":"EmpDetail!B78","v":0},{"$f":"EmpDetail!C78","v":0},{"$f":"EmpDetail!D78","v":0},{"$f":"EmpDetail!J78","v":0}]
[null,null,null,null,null,null,null,null,null,null,null,null,null,{"$f":"EmpDetail!A79","v":76},{"$f":"EmpDetail!B79","v":0},{"$f":"EmpDetail!C79","v":0},{"$f":"EmpDetail!D79","v":0},{"$f":"EmpDetail!J79","v":0}]
[null,null,null,null,null,null,null,null,null,null,null,null,null,{"$f":"EmpDetail!A80","v":77},{"$f":"EmpDetail!B80","v":0},{"$f":"EmpDetail!C80","v":0},{"$f":"EmpDetail!D80","v":0},{"$f":"EmpDetail!J80","v":0}]
[null,null,null,null,null,null,null,null,null,null,null,null,null,{"$f":"EmpDetail!A81","v":78},{"$f":"EmpDetail!B81","v":0},{"$f":"EmpDetail!C81","v":0},{"$f":"EmpDetail!D81","v":0},{"$f":"EmpDetail!J81","v":0}]
[null,null,null,null,null,null,null,null,null,null,null,null,null,{"$f":"EmpDetail!A82","v":79},{"$f":"EmpDetail!B82","v":0},{"$f":"EmpDetail!C82","v":0},{"$f":"EmpDetail!D82","v":0},{"$f":"EmpDetail!J82","v":0}]
[null,null,null,null,null,null,null,null,null,null,null,null,null,{"$f":"EmpDetail!A83","v":80},{"$f":"EmpDetail!B83","v":0},{"$f":"EmpDetail!C83","v":0},{"$f":"EmpDetail!D83","v":0},{"$f":"EmpDetail!J83","v":0}]
[null,null,null,null,null,null,null,null,null,null,null,null,null,{"$f":"EmpDetail!A84","v":81},{"$f":"EmpDetail!B84","v":0},{"$f":"EmpDetail!C84","v":0},{"$f":"EmpDetail!D84","v":0},{"$f":"EmpDetail!J84","v":0}]
[null,null,null,null,null,null,null,null,null,null,null,null,null,{"$f":"EmpDetail!A85","v":82},{"$f":"EmpDetail!B85","v":0},{"$f":"EmpDetail!C85","v":0},{"$f":"EmpDetail!D85","v":0},{"$f":"EmpDetail!J85","v":0}]
[null,null,null,null,null,null,null,null,null,null,null,null,null,{"$f":"EmpDetail!A86","v":83},{"$f":"EmpDetail!B86","v":0},{"$f":"EmpDetail!C86","v":0},{"$f":"EmpDetail!D86","v":0},{"$f":"EmpDetail!J86","v":0}]
[null,null,null,null,null,null,null,null,null,null,null,null,null,{"$f":"EmpDetail!A87","v":84},{"$f":"EmpDetail!B87","v":0},{"$f":"EmpDetail!C87","v":0},{"$f":"EmpDetail!D87","v":0},{"$f":"EmpDetail!J87","v":0}]
[null,null,null,null,null,null,null,null,null,null,null,null,null,{"$f":"EmpDetail!A88","v":85},{"$f":"EmpDetail!B88","v":0},{"$f":"EmpDetail!C88","v":0},{"$f":"EmpDetail!D88","v":0},{"$f":"EmpDetail!J88","v":0}]
[null,null,null,null,null,null,null,null,null,null,null,null,null,{"$f":"EmpDetail!A89","v":86},{"$f":"EmpDetail!B89","v":0},{"$f":"EmpDetail!C89","v":0},{"$f":"EmpDetail!D89","v":0},{"$f":"EmpDetail!J89","v":0}]
[null,null,null,null,null,null,null,null,null,null,null,null,null,{"$f":"EmpDetail!A90","v":87},{"$f":"EmpDetail!B90","v":0},{"$f":"EmpDetail!C90","v":0},{"$f":"EmpDetail!D90","v":0},{"$f":"EmpDetail!J90","v":0}]
[null,null,null,null,null,null,null,null,null,null,null,null,null,{"$f":"EmpDetail!A91","v":88},{"$f":"EmpDetail!B91","v":0},{"$f":"EmpDetail!C91","v":0},{"$f":"EmpDetail!D91","v":0},{"$f":"EmpDetail!J91","v":0}]
[null,null,null,null,null,null,null,null,null,null,null,null,null,{"$f":"EmpDetail!A92","v":89},{"$f":"EmpDetail!B92","v":0},{"$f":"EmpDetail!C92","v":0},{"$f":"EmpDetail!D92","v":0},{"$f":"EmpDetail!J92","v":0}]
[null,null,null,null,null,null,null,null,null,null,null,null,null,{"$f":"EmpDetail!A93","v":90},{"$f":"EmpDetail!B93","v":0},{"$f":"EmpDetail!C93","v":0},{"$f":"EmpDetail!D93","v":0},{"$f":"EmpDetail!J93","v":0}]
[null,null,null,null,null,null,null,null,null,null,null,null,null,{"$f":"EmpDetail!A94","v":91},{"$f":"EmpDetail!B94","v":0},{"$f":"EmpDetail!C94","v":0},{"$f":"EmpDetail!D94","v":0},{"$f":"EmpDetail!J94","v":0}]
[null,null,null,null,null,null,null,null,null,null,null,null,null,{"$f":"EmpDetail!A95","v":92},{"$f":"EmpDetail!B95","v":0},{"$f":"EmpDetail!C95","v":0},{"$f":"EmpDetail!D95","v":0},{"$f":"EmpDetail!J95","v":0}]
[null,null,null,null,null,null,null,null,null,null,null,null,null,{"$f":"EmpDetail!A96","v":93},{"$f":"EmpDetail!B96","v":0},{"$f":"EmpDetail!C96","v":0},{"$f":"EmpDetail!D96","v":0},{"$f":"EmpDetail!J96","v":0}]
[null,null,null,null,null,null,null,null,null,null,null,null,null,{"$f":"EmpDetail!A97","v":94},{"$f":"EmpDetail!B97","v":0},{"$f":"EmpDetail!C97","v":0},{"$f":"EmpDetail!D97","v":0},{"$f":"EmpDetail!J97","v":0}]
[null,null,null,null,null,null,null,null,null,null,null,null,null,{"$f":"EmpDetail!A98","v":95},{"$f":"EmpDetail!B98","v":0},{"$f":"EmpDetail!C98","v":0},{"$f":"EmpDetail!D98","v":0},{"$f":"EmpDetail!J98","v":0}]
[null,null,null,null,null,null,null,null,null,null,null,null,null,{"$f":"EmpDetail!A99","v":96},{"$f":"EmpDetail!B99","v":0},{"$f":"EmpDetail!C99","v":0},{"$f":"EmpDetail!D99","v":0},{"$f":"EmpDetail!J99","v":0}]
[null,null,null,null,null,null,null,null,null,null,null,null,null,{"$f":"EmpDetail!A100","v":97},{"$f":"EmpDetail!B100","v":0},{"$f":"EmpDetail!C100","v":0},{"$f":"EmpDetail!D100","v":0},{"$f":"EmpDetail!J100","v":0}]
[null,null,null,null,null,null,null,null,null,null,null,null,null,{"$f":"EmpDetail!A101","v":98},{"$f":"EmpDetail!B101","v":0},{"$f":"EmpDetail!C101","v":0},{"$f":"EmpDetail!D101","v":0},{"$f":"EmpDetail!J101","v":0}]
[null,null,null,null,null,null,null,null,null,null,null,null,null,{"$f":"EmpDetail!A102","v":99},{"$f":"EmpDetail!B102","v":0},{"$f":"EmpDetail!C102","v":0},{"$f":"EmpDetail!D102","v":0},{"$f":"EmpDetail!J102","v":0}]
[null,null,null,null,null,null,null,null,null,null,null,null,null,{"$f":"EmpDetail!A103","v":100},{"$f":"EmpDetail!B103","v":0},{"$f":"EmpDetail!C103","v":0},{"$f":"EmpDetail!D103","v":0},{"$f":"EmpDetail!J103","v":0}]

{"sheet":"PL on Duty","index":6,"n_rows":108,"n_cols":17,"rows_kept":108,"cut":false,"hidden":true,"merged":[[4,1,4,11],[5,1,5,11],[0,1,0,11],[2,5,2,7]]}
[null,{"$f":"Master!G2&Master!H2","v":"कार्यालय&राजकीय उच्च माध्यमिक विद्यालय ]चौगाई]टोंक"}]
[]
[null,null,null,null,null,"dk;kZy; vkns'k"]
[]
[null,"jktLFkku lsok fu;eksa ds fu;e 92¼ch½ ds rgr vodk'k dky esa dk;Z djus ds ,sot esa fuEukafdr dkfeZdksa dks muds uke ds lEeq[k vafdr fooj.kkuqlkj mikftZr vodk'k dk "]
[null,"LoRo buds vodk'k ys[ks esa tksM+us dh Lohd`fr iznku dh tkrh gSA"]
[]
["dkfeZd Øe","Ø-la-","uke dfeZd"," in uke","is&ysoy","inLFkkiu LFkku","vodk'k dk fooj.k","fd;s x;s dk;Z dk fooj.k","dc ls","dc rd","dqy dk;Z fnol","ns; mikftZr vodk'k"]
[32,{"$f":"IF(C9=\"\",\"\",1)","v":1},{"$f":"IF(ISNA(VLOOKUP($A9,$M$9:$Q$108,2,FALSE)),\"\",VLOOKUP($A9,$M$9:$Q$108,2,FALSE))","v":"/kaut; xkSRre"},{"$f":"IF(ISNA(VLOOKUP($A9,$M$9:$Q$108,3,FALSE)),\"\",VLOOKUP($A9,$M$9:$Q$108,3,FALSE))","v":"अध्यापक ग्रेड III"},{"$f":"IF(ISNA(VLOOKUP($A9,$M$9:$Q$108,5,FALSE)),\"\",VLOOKUP($A9,$M$9:$Q$108,5,FALSE))","v":"L-10"},{"$f":"IF(ISNA(VLOOKUP($A9,$M$9:$Q$108,4,FALSE)),\"\",VLOOKUP($A9,$M$9:$Q$108,4,FALSE))","v":"राउप्रावि गोरधनपुरा"},"ग्रीष्मकालीन","dksfoM 19 osyusl dsUnz izHkkjh o losZ dk;Z","2020-05-17","2020-06-17",{"$f":"IF(I9=\"\",\"\",J9-I9+1)","v":32},{"$f":"IF(K9=\"\",\"\",ROUNDDOWN(K9/3,0))","v":"1900-01-10"},1,{"$f":"EmpDetail!B4","v":"fd'ku yky cSjok"},{"$f":"EmpDetail!C4","v":"प्रधानाचार्य"},{"$f":"EmpDetail!D4","v":"राउमावि चौगाई"},{"$f":"EmpDetail!J4","v":"L-16"}]
[null,{"$f":"IF(C10=\"\",\"\",B9+1)","v":""},{"$f":"IF(ISNA(VLOOKUP($A10,$M$9:$Q$108,2,FALSE)),\"\",VLOOKUP($A10,$M$9:$Q$108,2,FALSE))","v":""},{"$f":"IF(ISNA(VLOOKUP($A10,$M$9:$Q$108,3,FALSE)),\"\",VLOOKUP($A10,$M$9:$Q$108,3,FALSE))","v":""},{"$f":"IF(ISNA(VLOOKUP($A10,$M$9:$Q$108,5,FALSE)),\"\",VLOOKUP($A10,$M$9:$Q$108,5,FALSE))","v":""},{"$f":"IF(ISNA(VLOOKUP($A10,$M$9:$Q$108,4,FALSE)),\"\",VLOOKUP($A10,$M$9:$Q$108,4,FALSE))","v":""},null,null,null,null,{"$f":"IF(I10=\"\",\"\",J10-I10+1)","v":""},{"$f":"IF(K10=\"\",\"\",ROUNDDOWN(K10/3,0))","v":""},2,{"$f":"EmpDetail!B5","v":"iwj.k pUn y{kdkj"},{"$f":"EmpDetail!C5","v":"व्याख्याता"},{"$f":"EmpDetail!D5","v":"राउमावि चौगाई"},{"$f":"EmpDetail!J5","v":"L-12"}]
[null,{"$f":"IF(C11=\"\",\"\",B10+1)","v":""},"","","","",null,null,null,null,"","",3,{"$f":"EmpDetail!B6","v":"jktsUnz dqekj tSu"},{"$f":"EmpDetail!C6","v":"व्याख्याता"},{"$f":"EmpDetail!D6","v":"राउमावि चौगाई"},{"$f":"EmpDetail!J6","v":"L-12"}]
[null,"","","","","",null,null,null,null,"","",4,{"$f":"EmpDetail!B7","v":"fd'ku yky cSjok"},{"$f":"EmpDetail!C7","v":"व्याख्याता"},{"$f":"EmpDetail!D7","v":"राउमावि चौगाई"},{"$f":"EmpDetail!J7","v":"L-12"}]
[null,"","","","","",null,null,null,null,"","",5,{"$f":"EmpDetail!B8","v":"lR;ukjk;.k 'kekZ"},{"$f":"EmpDetail!C8","v":"वरिष्ठ अध्यापक"},{"$f":"EmpDetail!D8","v":"राउमावि चौगाई"},{"$f":"EmpDetail!J8","v":"L-13"}]
[null,"","","","","",null,null,null,null,"","",6,{"$f":"EmpDetail!B9","v":"iq\"ik tSu"},{"$f":"EmpDetail!C9","v":"वरिष्ठ अध्यापक"},{"$f":"EmpDetail!D9","v":"राउमावि चौगाई"},{"$f":"EmpDetail!J9","v":"L-13"}]
[null,"","","","","",null,null,null,null,"","",7,{"$f":"EmpDetail!B10","v":"vk'kkjke eh.kk"},{"$f":"EmpDetail!C10","v":"वरिष्ठ अध्यापक"},{"$f":"EmpDetail!D10","v":"राउमावि चौगाई"},{"$f":"EmpDetail!J10","v":"L-11"}]
[null,"","","","","",null,null,null,null,"","",8,{"$f":"EmpDetail!B11","v":"t;iky flag"},{"$f":"EmpDetail!C11","v":"वरिष्ठ अध्यापक"},{"$f":"EmpDetail!D11","v":"राउमावि चौगाई"},{"$f":"EmpDetail!J11","v":"L-12"}]
[null,"","","","","",null,null,null,null,"","",9,{"$f":"EmpDetail!B12","v":"jkeizlkn jsxj"},{"$f":"EmpDetail!C12","v":"वरिष्ठ अध्यापक"},{"$f":"EmpDetail!D12","v":"राउमावि चौगाई"},{"$f":"EmpDetail!J12","v":"L-11"}]
[null,"","","","","",null,null,null,null,"","",10,{"$f":"EmpDetail!B13","v":"egsUnz dqekj tkV"},{"$f":"EmpDetail!C13","v":"शारीरिक शिक्षक"},{"$f":"EmpDetail!D13","v":"राउमावि चौगाई"},{"$f":"EmpDetail!J13","v":"L-12"}]
[null,null,null,null,null,null,null,null,null,null,null,null,11,{"$f":"EmpDetail!B14","v":"NksVw yky jsxj"},{"$f":"EmpDetail!C14","v":"अध्यापक ग्रेड III"},{"$f":"EmpDetail!D14","v":"राउमावि चौगाई"},{"$f":"EmpDetail!J14","v":"L-13"}]
[null,null,null,null,null,null,null,null,null,{"$f":"Master!B2","v":"प्रधानाचार्य"},null,null,12,{"$f":"EmpDetail!B15","v":"dUgS;k yky egkoj"},{"$f":"EmpDetail!C15","v":"अध्यापक ग्रेड III"},{"$f":"EmpDetail!D15","v":"राउमावि चौगाई"},{"$f":"EmpDetail!J15","v":"L-13"}]
[null,null,null,null,null,null,null,null,null,{"$f":"Master!B3","v":"राजकीय उच्च माध्यमिक विद्यालय "},null,null,13,{"$f":"EmpDetail!B16","v":"prqHkqZt tkV"},{"$f":"EmpDetail!C16","v":"अध्यापक ग्रेड III"},{"$f":"EmpDetail!D16","v":"राउमावि चौगाई"},{"$f":"EmpDetail!J16","v":"L-11"}]
[null,null,null,null,null,null,null,null,null,{"$f":"Master!B4","v":"चौगाई]टोंक"},null,null,14,{"$f":"EmpDetail!B17","v":"vklsQk [kku"},{"$f":"EmpDetail!C17","v":"अध्यापक ग्रेड III"},{"$f":"EmpDetail!D17","v":"राउमावि चौगाई"},{"$f":"EmpDetail!J17","v":"L-11"}]
[null,"Øekad&",{"$f":"Master!H3&Master!I3&Master!J3&Master!E3&\"/\"","v":"राउमावि/चौगाई/संस्था/2021-22/"},null,null,null,null,null,null,null,"fnukad&",{"$f":"TODAY()","v":"2021-06-19"},15,{"$f":"EmpDetail!B18","v":"lq'khyk cSjok"},{"$f":"EmpDetail!C18","v":"कनिष्ठ सहायक"},{"$f":"EmpDetail!D18","v":"राउमावि चौगाई"},{"$f":"EmpDetail!J18","v":"L-5"}]
[null,null,"izfrfyfi lwpukFkZ ,oa ikyukFkZ",null,null,null,null,null,null,null,null,null,16,{"$f":"EmpDetail!B19","v":"txnh'k izlkn rsyh"},{"$f":"EmpDetail!C19","v":"सहायक कर्मचारी"},{"$f":"EmpDetail!D19","v":"राउमावि चौगाई"},{"$f":"EmpDetail!J19","v":"L-5"}]
[null,1,"dks\"kkf/kdkjh@mi dks\"kkf/kdkjh",{"$f":"Master!H4","v":"पीपलू"},null,null,null,null,null,null,null,null,17,{"$f":"EmpDetail!B20","v":"jfoUnz dqekj tSu"},{"$f":"EmpDetail!C20","v":"अध्यापक ग्रेड III"},{"$f":"EmpDetail!D20","v":"राउप्रावि मोहिनी"},{"$f":"EmpDetail!J20","v":"L-12"}]
[null,2,"ys[kk 'kk[kk LFkkuh; dk;kZy;",null,null,null,null,null,null,null,null,null,18,{"$f":"EmpDetail!B21","v":" ';ke lqUnj ckxkSM"},{"$f":"EmpDetail!C21","v":"अध्यापक ग्रेड III"},{"$f":"EmpDetail!D21","v":"राउप्रावि मोहिनी"},{"$f":"EmpDetail!J21","v":"L-10"}]
[null,3,"dkfeZd O;fDrxr iaftdk",null,null,null,null,null,null,null,null,null,19,{"$f":"EmpDetail!B22","v":"d`\".kk 'kekZ"},{"$f":"EmpDetail!C22","v":"प्रबोधक"},{"$f":"EmpDetail!D22","v":"राउप्रावि मोहिनी"},{"$f":"EmpDetail!J22","v":"L-11"}]
[null,4,"lEcfU/kr dkfeZd",null,null,null,null,null,null,null,null,null,20,{"$f":"EmpDetail!B23","v":"/keZsUnz pkS/kjh"},{"$f":"EmpDetail!C23","v":"अध्यापक ग्रेड III"},{"$f":"EmpDetail!D23","v":"राउप्रावि गोरधनपुरा"},{"$f":"EmpDetail!J23","v":"L-10"}]
[null,null,null,null,null,null,null,null,null,{"$f":"J20","v":"प्रधानाचार्य"},null,null,21,{"$f":"EmpDetail!B24","v":"izgykn ekyh"},{"$f":"EmpDetail!C24","v":"प्रबोधक"},{"$f":"EmpDetail!D24","v":"राउप्रावि गोरधनपुरा"},{"$f":"EmpDetail!J24","v":"L-11"}]
[null,null,null,null,null,null,null,null,null,{"$f":"J21","v":"राजकीय उच्च माध्यमिक विद्यालय "},null,null,22,{"$f":"EmpDetail!B25","v":"jken;ky xqtZj"},{"$f":"EmpDetail!C25","v":"प्रबोधक"},{"$f":"EmpDetail!D25","v":"राउप्रावि सोंदीफल"},{"$f":"EmpDetail!J25","v":"L-11"}]
[null,null,null,null,null,null,null,null,null,{"$f":"J22","v":"चौगाई]टोंक"},null,null,23,{"$f":"EmpDetail!B26","v":"vkSeizdk'k tkV"},{"$f":"EmpDetail!C26","v":"अध्यापक ग्रेड III"},{"$f":"EmpDetail!D26","v":"राउप्रावि सोंदीफल"},{"$f":"EmpDetail!J26","v":"L-11"}]
[null,null,null,null,null,null,null,null,null,null,null,null,24,{"$f":"EmpDetail!B27","v":"vthr flag"},{"$f":"EmpDetail!C27","v":"अध्यापक ग्रेड III"},{"$f":"EmpDetail!D27","v":"राप्रावि जानकीवल्लभपुरा"},{"$f":"EmpDetail!J27","v":"L-10"}]
[null,null,null,null,null,null,null,null,null,null,null,null,25,{"$f":"EmpDetail!B28","v":"eq[rkj eha;k"},{"$f":"EmpDetail!C28","v":"प्रबोधक"},{"$f":"EmpDetail!D28","v":"राप्रावि जानकीवल्लभपुरा"},{"$f":"EmpDetail!J28","v":"L-11"}]
[null,null,null,null,null,null,null,null,null,null,null,null,26,{"$f":"EmpDetail!B29","v":"eks0 tehy "},{"$f":"EmpDetail!C29","v":"प्रबोधक"},{"$f":"EmpDetail!D29","v":"राप्रावि रसूलपुरा"},{"$f":"EmpDetail!J29","v":"L-11"}]
[null,null,null,null,null,null,null,null,null,null,null,null,27,{"$f":"EmpDetail!B30","v":"lkaojey tkV"},{"$f":"EmpDetail!C30","v":"अध्यापक ग्रेड III"},{"$f":"EmpDetail!D30","v":"राप्रावि रसूलपुरा"},{"$f":"EmpDetail!J30","v":"L-10"}]
[null,null,null,null,null,null,null,null,null,null,null,null,28,{"$f":"EmpDetail!B31","v":"pkS/kjh eksuk jkekorkj"},{"$f":"EmpDetail!C31","v":"अध्यापक ग्रेड III"},{"$f":"EmpDetail!D31","v":"राप्रावि मोहिनी ढाणी बाढ"},{"$f":"EmpDetail!J31","v":"L-10"}]
[null,null,null,null,null,null,null,null,null,null,null,null,29,{"$f":"EmpDetail!B32","v":"rkjkpUn tk;loky"},{"$f":"EmpDetail!C32","v":"प्रबोधक"},{"$f":"EmpDetail!D32","v":"राप्रावि मोहिनी ढाणी बाढ"},{"$f":"EmpDetail!J32","v":"L-11"}]
[null,null,null,null,null,null,null,null,null,null,null,null,30,{"$f":"EmpDetail!B33","v":"jketl ;kno"},{"$f":"EmpDetail!C33","v":"अध्यापक ग्रेड III"},{"$f":"EmpDetail!D33","v":"राप्रावि बैरवा ढाणी सोन्दीफल"},{"$f":"EmpDetail!J33","v":"L-12"}]
[null,null,null,null,null,null,null,null,null,null,null,null,31,{"$f":"EmpDetail!B34","v":"dtksMey eh.kk"},{"$f":"EmpDetail!C34","v":"अध्यापक ग्रेड III"},{"$f":"EmpDetail!D34","v":"राप्रावि बैरवा ढाणी सोन्दीफल"},{"$f":"EmpDetail!J34","v":"L-10"}]
[null,null,null,null,null,null,null,null,null,null,null,null,32,{"$f":"EmpDetail!B35","v":"/kaut; xkSRre"},{"$f":"EmpDetail!C35","v":"अध्यापक ग्रेड III"},{"$f":"EmpDetail!D35","v":"राउप्रावि गोरधनपुरा"},{"$f":"EmpDetail!J35","v":"L-10"}]
[null,null,null,null,null,null,null,null,null,null,null,null,33,{"$f":"EmpDetail!B36","v":"d`\".kk xaxoky"},{"$f":"EmpDetail!C36","v":"अध्यापक ग्रेड III"},{"$f":"EmpDetail!D36","v":"राउप्रावि गोरधनपुरा"},{"$f":"EmpDetail!J36","v":"L-10"}]
[null,null,null,null,null,null,null,null,null,null,null,null,34,{"$f":"EmpDetail!B37","v":"n'kjFk dqekj ;kno"},{"$f":"EmpDetail!C37","v":"अध्यापक ग्रेड III"},{"$f":"EmpDetail!D37","v":"राउप्रावि सोंदीफल"},{"$f":"EmpDetail!J37","v":"L-10"}]
[null,null,null,null,null,null,null,null,null,null,null,null,35,{"$f":"EmpDetail!B38","v":"d`\".k yky tkV"},{"$f":"EmpDetail!C38","v":"अध्यापक ग्रेड III"},{"$f":"EmpDetail!D38","v":"राउप्रावि सोंदीफल"},{"$f":"EmpDetail!J38","v":"L-10"}]
[null,null,null,null,null,null,null,null,null,null,null,null,36,{"$f":"EmpDetail!B39","v":"nhisUnz dqekj iztkir"},{"$f":"EmpDetail!C39","v":"अध्यापक ग्रेड III"},{"$f":"EmpDetail!D39","v":"राउप्रावि सोंदीफल"},{"$f":"EmpDetail!J39","v":"L-10"}]
[null,null,null,null,null,null,null,null,null,null,null,null,37,{"$f":"EmpDetail!B40","v":"uohu dqekj"},{"$f":"EmpDetail!C40","v":"अध्यापक ग्रेड III"},{"$f":"EmpDetail!D40","v":"राउप्रावि मोहिनी"},{"$f":"EmpDetail!J40","v":"L-10"}]
[null,null,null,null,null,null,null,null,null,null,null,null,38,{"$f":"EmpDetail!B41","v":"ehrs'k dqekj 'kekZ"},{"$f":"EmpDetail!C41","v":"अध्यापक ग्रेड III"},{"$f":"EmpDetail!D41","v":"राउप्रावि मोहिनी"},{"$f":"EmpDetail!J41","v":"L-10"}]
[null,null,null,null,null,null,null,null,null,null,null,null,39,{"$f":"EmpDetail!B42","v":"eUtw eh.kk"},{"$f":"EmpDetail!C42","v":"वरिष्ठ अध्यापक"},{"$f":"EmpDetail!D42","v":"राउप्रावि गोरधनपुरा"},{"$f":"EmpDetail!J42","v":"L-10"}]
[null,null,null,null,null,null,null,null,null,null,null,null,40,{"$f":"EmpDetail!B43","v":"eatw pkS/kjh"},{"$f":"EmpDetail!C43","v":"वरिष्ठ अध्यापक"},{"$f":"EmpDetail!D43","v":"राउप्रावि सोंदीफल"},{"$f":"EmpDetail!J43","v":"L-11"}]
[null,null,null,null,null,null,null,null,null,null,null,null,41,{"$f":"EmpDetail!B44","v":0},{"$f":"EmpDetail!C44","v":0},{"$f":"EmpDetail!D44","v":0},{"$f":"EmpDetail!J44","v":0}]
[null,null,null,null,null,null,null,null,null,null,null,null,42,{"$f":"EmpDetail!B45","v":0},{"$f":"EmpDetail!C45","v":0},{"$f":"EmpDetail!D45","v":0},{"$f":"EmpDetail!J45","v":0}]
[null,null,null,null,null,null,null,null,null,null,null,null,43,{"$f":"EmpDetail!B46","v":0},{"$f":"EmpDetail!#REF!","v":{"$error":"#REF!"}},{"$f":"EmpDetail!#REF!","v":{"$error":"#REF!"}},{"$f":"EmpDetail!J46","v":0}]
[null,null,null,null,null,null,null,null,null,null,null,null,44,{"$f":"EmpDetail!B47","v":0},{"$f":"EmpDetail!C47","v":0},{"$f":"EmpDetail!D47","v":0},{"$f":"EmpDetail!J47","v":0}]
[null,null,null,null,null,null,null,null,null,null,null,null,45,{"$f":"EmpDetail!B48","v":0},{"$f":"EmpDetail!C48","v":0},{"$f":"EmpDetail!D48","v":0},{"$f":"EmpDetail!J48","v":0}]
[null,null,null,null,null,null,null,null,null,null,null,null,46,{"$f":"EmpDetail!B49","v":0},{"$f":"EmpDetail!C49","v":0},{"$f":"EmpDetail!D49","v":0},{"$f":"EmpDetail!J49","v":0}]
[null,null,null,null,null,null,null,null,null,null,null,null,47,{"$f":"EmpDetail!B50","v":0},{"$f":"EmpDetail!C50","v":0},{"$f":"EmpDetail!D50","v":0},{"$f":"EmpDetail!J50","v":0}]
[null,null,null,null,null,null,null,null,null,null,null,null,48,{"$f":"EmpDetail!B51","v":0},{"$f":"EmpDetail!C51","v":0},{"$f":"EmpDetail!D51","v":0},{"$f":"EmpDetail!J51","v":0}]
[null,null,null,null,null,null,null,null,null,null,null,null,49,{"$f":"EmpDetail!B52","v":0},{"$f":"EmpDetail!C52","v":0},{"$f":"EmpDetail!D52","v":0},{"$f":"EmpDetail!J52","v":0}]
[null,null,null,null,null,null,null,null,null,null,null,null,50,{"$f":"EmpDetail!B53","v":0},{"$f":"EmpDetail!C53","v":0},{"$f":"EmpDetail!D53","v":0},{"$f":"EmpDetail!J53","v":0}]
[null,null,null,null,null,null,null,null,null,null,null,null,51,{"$f":"EmpDetail!B54","v":0},{"$f":"EmpDetail!C54","v":0},{"$f":"EmpDetail!D54","v":0},{"$f":"EmpDetail!J54","v":0}]
[null,null,null,null,null,null,null,null,null,null,null,null,52,{"$f":"EmpDetail!B55","v":0},{"$f":"EmpDetail!C55","v":0},{"$f":"EmpDetail!D55","v":0},{"$f":"EmpDetail!J55","v":0}]
[null,null,null,null,null,null,null,null,null,null,null,null,53,{"$f":"EmpDetail!B56","v":0},{"$f":"EmpDetail!C56","v":0},{"$f":"EmpDetail!D56","v":0},{"$f":"EmpDetail!J56","v":0}]
[null,null,null,null,null,null,null,null,null,null,null,null,54,{"$f":"EmpDetail!B57","v":0},{"$f":"EmpDetail!C57","v":0},{"$f":"EmpDetail!D57","v":0},{"$f":"EmpDetail!J57","v":0}]
[null,null,null,null,null,null,null,null,null,null,null,null,55,{"$f":"EmpDetail!B58","v":0},{"$f":"EmpDetail!C58","v":0},{"$f":"EmpDetail!D58","v":0},{"$f":"EmpDetail!J58","v":0}]
[null,null,null,null,null,null,null,null,null,null,null,null,56,{"$f":"EmpDetail!B59","v":0},{"$f":"EmpDetail!C59","v":0},{"$f":"EmpDetail!D59","v":0},{"$f":"EmpDetail!J59","v":0}]
[null,null,null,null,null,null,null,null,null,null,null,null,57,{"$f":"EmpDetail!B60","v":0},{"$f":"EmpDetail!C60","v":0},{"$f":"EmpDetail!D60","v":0},{"$f":"EmpDetail!J60","v":0}]
[null,null,null,null,null,null,null,null,null,null,null,null,58,{"$f":"EmpDetail!B61","v":0},{"$f":"EmpDetail!C61","v":0},{"$f":"EmpDetail!D61","v":0},{"$f":"EmpDetail!J61","v":0}]
[null,null,null,null,null,null,null,null,null,null,null,null,59,{"$f":"EmpDetail!B62","v":0},{"$f":"EmpDetail!C62","v":0},{"$f":"EmpDetail!D62","v":0},{"$f":"EmpDetail!J62","v":0}]
[null,null,null,null,null,null,null,null,null,null,null,null,60,{"$f":"EmpDetail!B63","v":0},{"$f":"EmpDetail!C63","v":0},{"$f":"EmpDetail!D63","v":0},{"$f":"EmpDetail!J63","v":0}]
[null,null,null,null,null,null,null,null,null,null,null,null,61,{"$f":"EmpDetail!B64","v":0},{"$f":"EmpDetail!C64","v":0},{"$f":"EmpDetail!D64","v":0},{"$f":"EmpDetail!J64","v":0}]
[null,null,null,null,null,null,null,null,null,null,null,null,62,{"$f":"EmpDetail!B65","v":0},{"$f":"EmpDetail!C65","v":0},{"$f":"EmpDetail!D65","v":0},{"$f":"EmpDetail!J65","v":0}]
[null,null,null,null,null,null,null,null,null,null,null,null,63,{"$f":"EmpDetail!B66","v":0},{"$f":"EmpDetail!C66","v":0},{"$f":"EmpDetail!D66","v":0},{"$f":"EmpDetail!J66","v":0}]
[null,null,null,null,null,null,null,null,null,null,null,null,64,{"$f":"EmpDetail!B67","v":0},{"$f":"EmpDetail!C67","v":0},{"$f":"EmpDetail!D67","v":0},{"$f":"EmpDetail!J67","v":0}]
[null,null,null,null,null,null,null,null,null,null,null,null,65,{"$f":"EmpDetail!B68","v":0},{"$f":"EmpDetail!C68","v":0},{"$f":"EmpDetail!D68","v":0},{"$f":"EmpDetail!J68","v":0}]
[null,null,null,null,null,null,null,null,null,null,null,null,66,{"$f":"EmpDetail!B69","v":0},{"$f":"EmpDetail!C69","v":0},{"$f":"EmpDetail!D69","v":0},{"$f":"EmpDetail!J69","v":0}]
[null,null,null,null,null,null,null,null,null,null,null,null,67,{"$f":"EmpDetail!B70","v":0},{"$f":"EmpDetail!C70","v":0},{"$f":"EmpDetail!D70","v":0},{"$f":"EmpDetail!J70","v":0}]
[null,null,null,null,null,null,null,null,null,null,null,null,68,{"$f":"EmpDetail!B71","v":0},{"$f":"EmpDetail!C71","v":0},{"$f":"EmpDetail!D71","v":0},{"$f":"EmpDetail!J71","v":0}]
[null,null,null,null,null,null,null,null,null,null,null,null,69,{"$f":"EmpDetail!B72","v":0},{"$f":"EmpDetail!C72","v":0},{"$f":"EmpDetail!D72","v":0},{"$f":"EmpDetail!J72","v":0}]
[null,null,null,null,null,null,null,null,null,null,null,null,70,{"$f":"EmpDetail!B73","v":0},{"$f":"EmpDetail!C73","v":0},{"$f":"EmpDetail!D73","v":0},{"$f":"EmpDetail!J73","v":0}]
[null,null,null,null,null,null,null,null,null,null,null,null,71,{"$f":"EmpDetail!B74","v":0},{"$f":"EmpDetail!C74","v":0},{"$f":"EmpDetail!D74","v":0},{"$f":"EmpDetail!J74","v":0}]
[null,null,null,null,null,null,null,null,null,null,null,null,72,{"$f":"EmpDetail!B75","v":0},{"$f":"EmpDetail!C75","v":0},{"$f":"EmpDetail!D75","v":0},{"$f":"EmpDetail!J75","v":0}]
[null,null,null,null,null,null,null,null,null,null,null,null,73,{"$f":"EmpDetail!B76","v":0},{"$f":"EmpDetail!C76","v":0},{"$f":"EmpDetail!D76","v":0},{"$f":"EmpDetail!J76","v":0}]
[null,null,null,null,null,null,null,null,null,null,null,null,74,{"$f":"EmpDetail!B77","v":0},{"$f":"EmpDetail!C77","v":0},{"$f":"EmpDetail!D77","v":0},{"$f":"EmpDetail!J77","v":0}]
[null,null,null,null,null,null,null,null,null,null,null,null,75,{"$f":"EmpDetail!B78","v":0},{"$f":"EmpDetail!C78","v":0},{"$f":"EmpDetail!D78","v":0},{"$f":"EmpDetail!J78","v":0}]
[null,null,null,null,null,null,null,null,null,null,null,null,76,{"$f":"EmpDetail!B79","v":0},{"$f":"EmpDetail!C79","v":0},{"$f":"EmpDetail!D79","v":0},{"$f":"EmpDetail!J79","v":0}]
[null,null,null,null,null,null,null,null,null,null,null,null,77,{"$f":"EmpDetail!B80","v":0},{"$f":"EmpDetail!C80","v":0},{"$f":"EmpDetail!D80","v":0},{"$f":"EmpDetail!J80","v":0}]
[null,null,null,null,null,null,null,null,null,null,null,null,78,{"$f":"EmpDetail!B81","v":0},{"$f":"EmpDetail!C81","v":0},{"$f":"EmpDetail!D81","v":0},{"$f":"EmpDetail!J81","v":0}]
[null,null,null,null,null,null,null,null,null,null,null,null,79,{"$f":"EmpDetail!B82","v":0},{"$f":"EmpDetail!C82","v":0},{"$f":"EmpDetail!D82","v":0},{"$f":"EmpDetail!J82","v":0}]
[null,null,null,null,null,null,null,null,null,null,null,null,80,{"$f":"EmpDetail!B83","v":0},{"$f":"EmpDetail!C83","v":0},{"$f":"EmpDetail!D83","v":0},{"$f":"EmpDetail!J83","v":0}]
[null,null,null,null,null,null,null,null,null,null,null,null,81,{"$f":"EmpDetail!B84","v":0},{"$f":"EmpDetail!C84","v":0},{"$f":"EmpDetail!D84","v":0},{"$f":"EmpDetail!J84","v":0}]
[null,null,null,null,null,null,null,null,null,null,null,null,82,{"$f":"EmpDetail!B85","v":0},{"$f":"EmpDetail!C85","v":0},{"$f":"EmpDetail!D85","v":0},{"$f":"EmpDetail!J85","v":0}]
[null,null,null,null,null,null,null,null,null,null,null,null,83,{"$f":"EmpDetail!B86","v":0},{"$f":"EmpDetail!C86","v":0},{"$f":"EmpDetail!D86","v":0},{"$f":"EmpDetail!J86","v":0}]
[null,null,null,null,null,null,null,null,null,null,null,null,84,{"$f":"EmpDetail!B87","v":0},{"$f":"EmpDetail!C87","v":0},{"$f":"EmpDetail!D87","v":0},{"$f":"EmpDetail!J87","v":0}]
[null,null,null,null,null,null,null,null,null,null,null,null,85,{"$f":"EmpDetail!B88","v":0},{"$f":"EmpDetail!C88","v":0},{"$f":"EmpDetail!D88","v":0},{"$f":"EmpDetail!J88","v":0}]
[null,null,null,null,null,null,null,null,null,null,null,null,86,{"$f":"EmpDetail!B89","v":0},{"$f":"EmpDetail!C89","v":0},{"$f":"EmpDetail!D89","v":0},{"$f":"EmpDetail!J89","v":0}]
[null,null,null,null,null,null,null,null,null,null,null,null,87,{"$f":"EmpDetail!B90","v":0},{"$f":"EmpDetail!C90","v":0},{"$f":"EmpDetail!D90","v":0},{"$f":"EmpDetail!J90","v":0}]
[null,null,null,null,null,null,null,null,null,null,null,null,88,{"$f":"EmpDetail!B91","v":0},{"$f":"EmpDetail!C91","v":0},{"$f":"EmpDetail!D91","v":0},{"$f":"EmpDetail!J91","v":0}]
[null,null,null,null,null,null,null,null,null,null,null,null,89,{"$f":"EmpDetail!B92","v":0},{"$f":"EmpDetail!C92","v":0},{"$f":"EmpDetail!D92","v":0},{"$f":"EmpDetail!J92","v":0}]
[null,null,null,null,null,null,null,null,null,null,null,null,90,{"$f":"EmpDetail!B93","v":0},{"$f":"EmpDetail!C93","v":0},{"$f":"EmpDetail!D93","v":0},{"$f":"EmpDetail!J93","v":0}]
[null,null,null,null,null,null,null,null,null,null,null,null,91,{"$f":"EmpDetail!B94","v":0},{"$f":"EmpDetail!C94","v":0},{"$f":"EmpDetail!D94","v":0},{"$f":"EmpDetail!J94","v":0}]
[null,null,null,null,null,null,null,null,null,null,null,null,92,{"$f":"EmpDetail!B95","v":0},{"$f":"EmpDetail!C95","v":0},{"$f":"EmpDetail!D95","v":0},{"$f":"EmpDetail!J95","v":0}]
[null,null,null,null,null,null,null,null,null,null,null,null,93,{"$f":"EmpDetail!B96","v":0},{"$f":"EmpDetail!C96","v":0},{"$f":"EmpDetail!D96","v":0},{"$f":"EmpDetail!J96","v":0}]
[null,null,null,null,null,null,null,null,null,null,null,null,94,{"$f":"EmpDetail!B97","v":0},{"$f":"EmpDetail!C97","v":0},{"$f":"EmpDetail!D97","v":0},{"$f":"EmpDetail!J97","v":0}]
[null,null,null,null,null,null,null,null,null,null,null,null,95,{"$f":"EmpDetail!B98","v":0},{"$f":"EmpDetail!C98","v":0},{"$f":"EmpDetail!D98","v":0},{"$f":"EmpDetail!J98","v":0}]
[null,null,null,null,null,null,null,null,null,null,null,null,96,{"$f":"EmpDetail!B99","v":0},{"$f":"EmpDetail!C99","v":0},{"$f":"EmpDetail!D99","v":0},{"$f":"EmpDetail!J99","v":0}]
[null,null,null,null,null,null,null,null,null,null,null,null,97,{"$f":"EmpDetail!B100","v":0},{"$f":"EmpDetail!C100","v":0},{"$f":"EmpDetail!D100","v":0},{"$f":"EmpDetail!J100","v":0}]
[null,null,null,null,null,null,null,null,null,null,null,null,98,{"$f":"EmpDetail!B101","v":0},{"$f":"EmpDetail!C101","v":0},{"$f":"EmpDetail!D101","v":0},{"$f":"EmpDetail!J101","v":0}]
[null,null,null,null,null,null,null,null,null,null,null,null,99,{"$f":"EmpDetail!B102","v":0},{"$f":"EmpDetail!C102","v":0},{"$f":"EmpDetail!D102","v":0},{"$f":"EmpDetail!J102","v":0}]
[null,null,null,null,null,null,null,null,null,null,null,null,100,{"$f":"EmpDetail!B103","v":0},{"$f":"EmpDetail!C103","v":0},{"$f":"EmpDetail!D103","v":0},{"$f":"EmpDetail!J103","v":0}]

{"sheet":"Surrendar","index":7,"n_rows":109,"n_cols":17,"rows_kept":109,"cut":false,"hidden":true,"merged":[[0,1,0,10],[4,1,4,10],[5,1,5,10],[7,1,7,5],[6,1,6,10]]}
[null,{"$f":"Master!G2&Master!H2","v":"कार्यालय&राजकीय उच्च माध्यमिक विद्यालय ]चौगाई]टोंक"}]
[]
[null,null,null,null,null,"dk;kZy; vkns'k"]
[]
[null,"jkT; ljdkj ds foRr foHkkx ds Order No.F.15(1)FD/Rules/2017 Dated: 30.10.2017 & Revised Order No.F.15(1)FD/Rules/2017 Dated: 09.12.2017 "]
[null,{"$f":"\"ds vuqlj.k esa bl dk;kZy; ds v/khu dk;Zjr fuEukafdr dkfeZdksa  dks Lo;a ds vkosnu ij muds uke ds lEEq[k vafdrkuqlkj fnol dk mikftZr vodk'k foRrh; l=&  \"&Master!E3&\" ds fy, fu;e 91 , ds rgr\"","v":"ds vuqlj.k esa bl dk;kZy; ds v/khu dk;Zjr fuEukafdr dkfeZdksa  dks Lo;a ds vkosnu ij muds uke ds lEEq[k vafdrkuqlkj fnol dk mikftZr vodk'k foRrh; l=&  2021-22 ds fy, fu;e 91 , ds rgr"}]
[null,"jkT; ljdkj ds fgr esas lefiZr dj brus gh fnuksa ds mikftZr vodk'k ds cnys esa jktLFkku lsok fu;eksa ds fu;e 97 ds rgr vodk'k osru ds leku udn Hkxrku dh Lohd`fr iznku dh tkrh gSA"]
[null,"lefiZr mikftZr vodk'k dk vadu lsok iqfLrdk esa yky L;kgh ls dj fn;k x;k gSA"]
["dkfeZd Øe","Ø-la-","uke dfeZd"," in uke","is esfVªd ysoy","inLFkkiu LFkku","vkosnu dh fnukad","[kkrs esa miyC/k mikftZr vodk'k","lefiZr mikftZr vodk'k","leiZ.k ds i'pkr 'ks\"k mik0 vodk'k","vkosnu fnukad dks ewy osru"]
[4,{"$f":"IF(C10=\"\",\"\",1)","v":1},{"$f":"IF(ISNA(VLOOKUP($A10,$L$10:$Q$109,2,FALSE)),\"\",VLOOKUP($A10,$L$10:$Q$109,2,FALSE))","v":"fd'ku yky cSjok"},{"$f":"IF(ISNA(VLOOKUP($A10,$L$10:$Q$109,3,FALSE)),\"\",VLOOKUP($A10,$L$10:$Q$109,3,FALSE))","v":"व्याख्याता"},{"$f":"IF(ISNA(VLOOKUP($A10,$L$10:$Q$109,4,FALSE)),\"\",VLOOKUP($A10,$L$10:$Q$109,4,FALSE))","v":"L-12"},{"$f":"IF(ISNA(VLOOKUP($A10,$L$10:$Q$109,5,FALSE)),\"\",VLOOKUP($A10,$L$10:$Q$109,5,FALSE))","v":"राउमावि चौगाई"},"2021-03-22",315,15,{"$f":"IF(H10=\"\",\"\",H10-I10)","v":300},{"$f":"IF(ISNA(VLOOKUP($A10,$L$10:$Q$109,6,FALSE)),\"\",VLOOKUP($A10,$L$10:$Q$109,6,FALSE))","v":54500},1,{"$f":"EmpDetail!B4","v":"fd'ku yky cSjok"},{"$f":"EmpDetail!C4","v":"प्रधानाचार्य"},{"$f":"EmpDetail!J4","v":"L-16"},{"$f":"EmpDetail!D4","v":"राउमावि चौगाई"},{"$f":"EmpDetail!K4","v":95900}]
[null,{"$f":"IF(C11=\"\",\"\",B10+1)","v":""},{"$f":"IF(ISNA(VLOOKUP($A11,$L$10:$Q$109,2,FALSE)),\"\",VLOOKUP($A11,$L$10:$Q$109,2,FALSE))","v":""},{"$f":"IF(ISNA(VLOOKUP($A11,$L$10:$Q$109,3,FALSE)),\"\",VLOOKUP($A11,$L$10:$Q$109,3,FALSE))","v":""},{"$f":"IF(ISNA(VLOOKUP($A11,$L$10:$Q$109,4,FALSE)),\"\",VLOOKUP($A11,$L$10:$Q$109,4,FALSE))","v":""},{"$f":"IF(ISNA(VLOOKUP($A11,$L$10:$Q$109,5,FALSE)),\"\",VLOOKUP($A11,$L$10:$Q$109,5,FALSE))","v":""},null,null,null,{"$f":"IF(H11=\"\",\"\",H11-I11)","v":""},{"$f":"IF(ISNA(VLOOKUP($A11,$L$10:$Q$109,6,FALSE)),\"\",VLOOKUP($A11,$L$10:$Q$109,6,FALSE))","v":""},2,{"$f":"EmpDetail!B5","v":"iwj.k pUn y{kdkj"},{"$f":"EmpDetail!C5","v":"व्याख्याता"},{"$f":"EmpDetail!J5","v":"L-12"},{"$f":"EmpDetail!D5","v":"राउमावि चौगाई"},{"$f":"EmpDetail!K5","v":56100}]
[null,{"$f":"IF(C12=\"\",\"\",B11+1)","v":""},"","","","",null,null,null,"","",3,{"$f":"EmpDetail!B6","v":"jktsUnz dqekj tSu"},{"$f":"EmpDetail!C6","v":"व्याख्याता"},{"$f":"EmpDetail!J6","v":"L-12"},{"$f":"EmpDetail!D6","v":"राउमावि चौगाई"},{"$f":"EmpDetail!K6","v":63100}]
[null,"","","","","",null,null,null,"","",4,{"$f":"EmpDetail!B7","v":"fd'ku yky cSjok"},{"$f":"EmpDetail!C7","v":"व्याख्याता"},{"$f":"EmpDetail!J7","v":"L-12"},{"$f":"EmpDetail!D7","v":"राउमावि चौगाई"},{"$f":"EmpDetail!K7","v":54500}]
[null,"","","","","",null,null,null,"","",5,{"$f":"EmpDetail!B8","v":"lR;ukjk;.k 'kekZ"},{"$f":"EmpDetail!C8","v":"वरिष्ठ अध्यापक"},{"$f":"EmpDetail!J8","v":"L-13"},{"$f":"EmpDetail!D8","v":"राउमावि चौगाई"},{"$f":"EmpDetail!K8","v":71300}]
[null,"","","","","",null,null,null,"","",6,{"$f":"EmpDetail!B9","v":"iq\"ik tSu"},{"$f":"EmpDetail!C9","v":"वरिष्ठ अध्यापक"},{"$f":"EmpDetail!J9","v":"L-13"},{"$f":"EmpDetail!D9","v":"राउमावि चौगाई"},{"$f":"EmpDetail!K9","v":73400}]
[null,"","","","","",null,null,null,"","",7,{"$f":"EmpDetail!B10","v":"vk'kkjke eh.kk"},{"$f":"EmpDetail!C10","v":"वरिष्ठ अध्यापक"},{"$f":"EmpDetail!J10","v":"L-11"},{"$f":"EmpDetail!D10","v":"राउमावि चौगाई"},{"$f":"EmpDetail!K10","v":52300}]
[null,"","","","","",null,null,null,"","",8,{"$f":"EmpDetail!B11","v":"t;iky flag"},{"$f":"EmpDetail!C11","v":"वरिष्ठ अध्यापक"},{"$f":"EmpDetail!J11","v":"L-12"},{"$f":"EmpDetail!D11","v":"राउमावि चौगाई"},{"$f":"EmpDetail!K11","v":63100}]
[null,"","","","","",null,null,null,"","",9,{"$f":"EmpDetail!B12","v":"jkeizlkn jsxj"},{"$f":"EmpDetail!C12","v":"वरिष्ठ अध्यापक"},{"$f":"EmpDetail!J12","v":"L-11"},{"$f":"EmpDetail!D12","v":"राउमावि चौगाई"},{"$f":"EmpDetail!K12","v":46500}]
[null,"","","","","",null,null,null,"","",10,{"$f":"EmpDetail!B13","v":"egsUnz dqekj tkV"},{"$f":"EmpDetail!C13","v":"शारीरिक शिक्षक"},{"$f":"EmpDetail!J13","v":"L-12"},{"$f":"EmpDetail!D13","v":"राउमावि चौगाई"},{"$f":"EmpDetail!K13","v":61300}]
[null,"","","","","",null,null,null,"","",11,{"$f":"EmpDetail!B14","v":"NksVw yky jsxj"},{"$f":"EmpDetail!C14","v":"अध्यापक ग्रेड III"},{"$f":"EmpDetail!J14","v":"L-13"},{"$f":"EmpDetail!D14","v":"राउमावि चौगाई"},{"$f":"EmpDetail!K14","v":65200}]
[null,"","","","","",null,null,null,"","",12,{"$f":"EmpDetail!B15","v":"dUgS;k yky egkoj"},{"$f":"EmpDetail!C15","v":"अध्यापक ग्रेड III"},{"$f":"EmpDetail!J15","v":"L-13"},{"$f":"EmpDetail!D15","v":"राउमावि चौगाई"},{"$f":"EmpDetail!K15","v":65200}]
[null,"","","","","",null,null,null,"","",13,{"$f":"EmpDetail!B16","v":"prqHkqZt tkV"},{"$f":"EmpDetail!C16","v":"अध्यापक ग्रेड III"},{"$f":"EmpDetail!J16","v":"L-11"},{"$f":"EmpDetail!D16","v":"राउमावि चौगाई"},{"$f":"EmpDetail!K16","v":52300}]
[null,"","","","","",null,null,null,"","",14,{"$f":"EmpDetail!B17","v":"vklsQk [kku"},{"$f":"EmpDetail!C17","v":"अध्यापक ग्रेड III"},{"$f":"EmpDetail!J17","v":"L-11"},{"$f":"EmpDetail!D17","v":"राउमावि चौगाई"},{"$f":"EmpDetail!K17","v":52300}]
[null,"","","","","",null,null,null,"","",15,{"$f":"EmpDetail!B18","v":"lq'khyk cSjok"},{"$f":"EmpDetail!C18","v":"कनिष्ठ सहायक"},{"$f":"EmpDetail!J18","v":"L-5"},{"$f":"EmpDetail!D18","v":"राउमावि चौगाई"},{"$f":"EmpDetail!K18","v":14600}]
[null,null,null,null,null,null,null,null,null,null,null,16,{"$f":"EmpDetail!B19","v":"txnh'k izlkn rsyh"},{"$f":"EmpDetail!C19","v":"सहायक कर्मचारी"},{"$f":"EmpDetail!J19","v":"L-5"},{"$f":"EmpDetail!D19","v":"राउमावि चौगाई"},{"$f":"EmpDetail!K19","v":34700}]
[null,null,null,null,null,null,null,null,{"$f":"Master!B2","v":"प्रधानाचार्य"},null,null,17,{"$f":"EmpDetail!B20","v":"jfoUnz dqekj tSu"},{"$f":"EmpDetail!C20","v":"अध्यापक ग्रेड III"},{"$f":"EmpDetail!J20","v":"L-12"},{"$f":"EmpDetail!D20","v":"राउप्रावि मोहिनी"},{"$f":"EmpDetail!K20","v":65200}]
[null,null,null,null,null,null,null,null,{"$f":"Master!B3","v":"राजकीय उच्च माध्यमिक विद्यालय "},null,null,18,{"$f":"EmpDetail!B21","v":" ';ke lqUnj ckxkSM"},{"$f":"EmpDetail!C21","v":"अध्यापक ग्रेड III"},{"$f":"EmpDetail!J21","v":"L-10"},{"$f":"EmpDetail!D21","v":"राउप्रावि मोहिनी"},{"$f":"EmpDetail!K21","v":40300}]
[null,null,null,null,null,null,null,null,{"$f":"Master!B4","v":"चौगाई]टोंक"},null,null,19,{"$f":"EmpDetail!B22","v":"d`\".kk 'kekZ"},{"$f":"EmpDetail!C22","v":"प्रबोधक"},{"$f":"EmpDetail!J22","v":"L-11"},{"$f":"EmpDetail!D22","v":"राउप्रावि मोहिनी"},{"$f":"EmpDetail!K22","v":45100}]
[null,"Øekad&",{"$f":"Master!H3&Master!I3&Master!J3&Master!E3&\"/\"","v":"राउमावि/चौगाई/संस्था/2021-22/"},null,null,null,null,null,null,"fnukad&",{"$f":"TODAY()","v":"2021-06-19"},20,{"$f":"EmpDetail!B23","v":"/keZsUnz pkS/kjh"},{"$f":"EmpDetail!C23","v":"अध्यापक ग्रेड III"},{"$f":"EmpDetail!J23","v":"L-10"},{"$f":"EmpDetail!D23","v":"राउप्रावि गोरधनपुरा"},{"$f":"EmpDetail!K23","v":40300}]
[null,null,"izfrfyfi  lwpukFkZ ,oa ikyukFkZ",null,null,null,null,null,null,null,null,21,{"$f":"EmpDetail!B24","v":"izgykn ekyh"},{"$f":"EmpDetail!C24","v":"प्रबोधक"},{"$f":"EmpDetail!J24","v":"L-11"},{"$f":"EmpDetail!D24","v":"राउप्रावि गोरधनपुरा"},{"$f":"EmpDetail!K24","v":46500}]
[null,1,"dks\"kkf/kdkjh@mi dks\"kkf/kdkjh",{"$f":"Master!H4","v":"पीपलू"},null,null,null,null,null,null,null,22,{"$f":"EmpDetail!B25","v":"jken;ky xqtZj"},{"$f":"EmpDetail!C25","v":"प्रबोधक"},{"$f":"EmpDetail!J25","v":"L-11"},{"$f":"EmpDetail!D25","v":"राउप्रावि सोंदीफल"},{"$f":"EmpDetail!K25","v":45100}]
[null,2,"ys[kk 'kk[kk LFkkuh; dk;kZy;",null,null,null,null,null,null,null,null,23,{"$f":"EmpDetail!B26","v":"vkSeizdk'k tkV"},{"$f":"EmpDetail!C26","v":"अध्यापक ग्रेड III"},{"$f":"EmpDetail!J26","v":"L-11"},{"$f":"EmpDetail!D26","v":"राउप्रावि सोंदीफल"},{"$f":"EmpDetail!K26","v":45100}]
[null,3,"dkfeZd O;fDrxr iaftdk",null,null,null,null,null,null,null,null,24,{"$f":"EmpDetail!B27","v":"vthr flag"},{"$f":"EmpDetail!C27","v":"अध्यापक ग्रेड III"},{"$f":"EmpDetail!J27","v":"L-10"},{"$f":"EmpDetail!D27","v":"राप्रावि जानकीवल्लभपुरा"},{"$f":"EmpDetail!K27","v":40300}]
[null,4,"lEcfU/kr dkfeZd",null,null,null,null,null,null,null,null,25,{"$f":"EmpDetail!B28","v":"eq[rkj eha;k"},{"$f":"EmpDetail!C28","v":"प्रबोधक"},{"$f":"EmpDetail!J28","v":"L-11"},{"$f":"EmpDetail!D28","v":"राप्रावि जानकीवल्लभपुरा"},{"$f":"EmpDetail!K28","v":45100}]
[null,null,null,null,null,null,null,null,{"$f":"I26","v":"प्रधानाचार्य"},null,null,26,{"$f":"EmpDetail!B29","v":"eks0 tehy "},{"$f":"EmpDetail!C29","v":"प्रबोधक"},{"$f":"EmpDetail!J29","v":"L-11"},{"$f":"EmpDetail!D29","v":"राप्रावि रसूलपुरा"},{"$f":"EmpDetail!K29","v":45100}]
[null,null,null,null,null,null,null,null,{"$f":"I27","v":"राजकीय उच्च माध्यमिक विद्यालय "},null,null,27,{"$f":"EmpDetail!B30","v":"lkaojey tkV"},{"$f":"EmpDetail!C30","v":"अध्यापक ग्रेड III"},{"$f":"EmpDetail!J30","v":"L-10"},{"$f":"EmpDetail!D30","v":"राप्रावि रसूलपुरा"},{"$f":"EmpDetail!K30","v":38000}]
[null,null,null,null,null,null,null,null,{"$f":"I28","v":"चौगाई]टोंक"},null,null,28,{"$f":"EmpDetail!B31","v":"pkS/kjh eksuk jkekorkj"},{"$f":"EmpDetail!C31","v":"अध्यापक ग्रेड III"},{"$f":"EmpDetail!J31","v":"L-10"},{"$f":"EmpDetail!D31","v":"राप्रावि मोहिनी ढाणी बाढ"},{"$f":"EmpDetail!K31","v":38000}]
[null,null,null,null,null,null,null,null,null,null,null,29,{"$f":"EmpDetail!B32","v":"rkjkpUn tk;loky"},{"$f":"EmpDetail!C32","v":"प्रबोधक"},{"$f":"EmpDetail!J32","v":"L-11"},{"$f":"EmpDetail!D32","v":"राप्रावि मोहिनी ढाणी बाढ"},{"$f":"EmpDetail!K32","v":41300}]
[null,null,null,null,null,null,null,null,null,null,null,30,{"$f":"EmpDetail!B33","v":"jketl ;kno"},{"$f":"EmpDetail!C33","v":"अध्यापक ग्रेड III"},{"$f":"EmpDetail!J33","v":"L-12"},{"$f":"EmpDetail!D33","v":"राप्रावि बैरवा ढाणी सोन्दीफल"},{"$f":"EmpDetail!K33","v":63100}]
[null,null,null,null,null,null,null,null,null,null,null,31,{"$f":"EmpDetail!B34","v":"dtksMey eh.kk"},{"$f":"EmpDetail!C34","v":"अध्यापक ग्रेड III"},{"$f":"EmpDetail!J34","v":"L-10"},{"$f":"EmpDetail!D34","v":"राप्रावि बैरवा ढाणी सोन्दीफल"},{"$f":"EmpDetail!K34","v":38000}]
[null,null,null,null,null,null,null,null,null,null,null,32,{"$f":"EmpDetail!B35","v":"/kaut; xkSRre"},{"$f":"EmpDetail!C35","v":"अध्यापक ग्रेड III"},{"$f":"EmpDetail!J35","v":"L-10"},{"$f":"EmpDetail!D35","v":"राउप्रावि गोरधनपुरा"},{"$f":"EmpDetail!K35","v":34800}]
[null,null,null,null,null,null,null,null,null,null,null,33,{"$f":"EmpDetail!B36","v":"d`\".kk xaxoky"},{"$f":"EmpDetail!C36","v":"अध्यापक ग्रेड III"},{"$f":"EmpDetail!J36","v":"L-10"},{"$f":"EmpDetail!D36","v":"राउप्रावि गोरधनपुरा"},{"$f":"EmpDetail!K36","v":33800}]
[null,null,null,null,null,null,null,null,null,null,null,34,{"$f":"EmpDetail!B37","v":"n'kjFk dqekj ;kno"},{"$f":"EmpDetail!C37","v":"अध्यापक ग्रेड III"},{"$f":"EmpDetail!J37","v":"L-10"},{"$f":"EmpDetail!D37","v":"राउप्रावि सोंदीफल"},{"$f":"EmpDetail!K37","v":23700}]
[null,null,null,null,null,null,null,null,null,null,null,35,{"$f":"EmpDetail!B38","v":"d`\".k yky tkV"},{"$f":"EmpDetail!C38","v":"अध्यापक ग्रेड III"},{"$f":"EmpDetail!J38","v":"L-10"},{"$f":"EmpDetail!D38","v":"राउप्रावि सोंदीफल"},{"$f":"EmpDetail!K38","v":33800}]
[null,null,null,null,null,null,null,null,null,null,null,36,{"$f":"EmpDetail!B39","v":"nhisUnz dqekj iztkir"},{"$f":"EmpDetail!C39","v":"अध्यापक ग्रेड III"},{"$f":"EmpDetail!J39","v":"L-10"},{"$f":"EmpDetail!D39","v":"राउप्रावि सोंदीफल"},{"$f":"EmpDetail!K39","v":33800}]
[null,null,null,null,null,null,null,null,null,null,null,37,{"$f":"EmpDetail!B40","v":"uohu dqekj"},{"$f":"EmpDetail!C40","v":"अध्यापक ग्रेड III"},{"$f":"EmpDetail!J40","v":"L-10"},{"$f":"EmpDetail!D40","v":"राउप्रावि मोहिनी"},{"$f":"EmpDetail!K40","v":33800}]
[null,null,null,null,null,null,null,null,null,null,null,38,{"$f":"EmpDetail!B41","v":"ehrs'k dqekj 'kekZ"},{"$f":"EmpDetail!C41","v":"अध्यापक ग्रेड III"},{"$f":"EmpDetail!J41","v":"L-10"},{"$f":"EmpDetail!D41","v":"राउप्रावि मोहिनी"},{"$f":"EmpDetail!K41","v":34800}]
[null,null,null,null,null,null,null,null,null,null,null,39,{"$f":"EmpDetail!B42","v":"eUtw eh.kk"},{"$f":"EmpDetail!C42","v":"वरिष्ठ अध्यापक"},{"$f":"EmpDetail!J42","v":"L-10"},{"$f":"EmpDetail!D42","v":"राउप्रावि गोरधनपुरा"},{"$f":"EmpDetail!K42","v":33800}]
[null,null,null,null,null,null,null,null,null,null,null,40,{"$f":"EmpDetail!B43","v":"eatw pkS/kjh"},{"$f":"EmpDetail!C43","v":"वरिष्ठ अध्यापक"},{"$f":"EmpDetail!J43","v":"L-11"},{"$f":"EmpDetail!D43","v":"राउप्रावि सोंदीफल"},{"$f":"EmpDetail!K43","v":26500}]
[null,null,null,null,null,null,null,null,null,null,null,41,{"$f":"EmpDetail!B44","v":0},{"$f":"EmpDetail!C44","v":0},{"$f":"EmpDetail!J44","v":0},{"$f":"EmpDetail!D44","v":0},{"$f":"EmpDetail!K44","v":0}]
[null,null,null,null,null,null,null,null,null,null,null,42,{"$f":"EmpDetail!B45","v":0},{"$f":"EmpDetail!C45","v":0},{"$f":"EmpDetail!J45","v":0},{"$f":"EmpDetail!D45","v":0},{"$f":"EmpDetail!K45","v":0}]
[null,null,null,null,null,null,null,null,null,null,null,43,{"$f":"EmpDetail!B46","v":0},{"$f":"EmpDetail!#REF!","v":{"$error":"#REF!"}},{"$f":"EmpDetail!J46","v":0},{"$f":"EmpDetail!#REF!","v":{"$error":"#REF!"}},{"$f":"EmpDetail!K46","v":0}]
[null,null,null,null,null,null,null,null,null,null,null,44,{"$f":"EmpDetail!B47","v":0},{"$f":"EmpDetail!C47","v":0},{"$f":"EmpDetail!J47","v":0},{"$f":"EmpDetail!D47","v":0},{"$f":"EmpDetail!K47","v":0}]
[null,null,null,null,null,null,null,null,null,null,null,45,{"$f":"EmpDetail!B48","v":0},{"$f":"EmpDetail!C48","v":0},{"$f":"EmpDetail!J48","v":0},{"$f":"EmpDetail!D48","v":0},{"$f":"EmpDetail!K48","v":0}]
[null,null,null,null,null,null,null,null,null,null,null,46,{"$f":"EmpDetail!B49","v":0},{"$f":"EmpDetail!C49","v":0},{"$f":"EmpDetail!J49","v":0},{"$f":"EmpDetail!D49","v":0},{"$f":"EmpDetail!K49","v":0}]
[null,null,null,null,null,null,null,null,null,null,null,47,{"$f":"EmpDetail!B50","v":0},{"$f":"EmpDetail!C50","v":0},{"$f":"EmpDetail!J50","v":0},{"$f":"EmpDetail!D50","v":0},{"$f":"EmpDetail!K50","v":0}]
[null,null,null,null,null,null,null,null,null,null,null,48,{"$f":"EmpDetail!B51","v":0},{"$f":"EmpDetail!C51","v":0},{"$f":"EmpDetail!J51","v":0},{"$f":"EmpDetail!D51","v":0},{"$f":"EmpDetail!K51","v":0}]
[null,null,null,null,null,null,null,null,null,null,null,49,{"$f":"EmpDetail!B52","v":0},{"$f":"EmpDetail!C52","v":0},{"$f":"EmpDetail!J52","v":0},{"$f":"EmpDetail!D52","v":0},{"$f":"EmpDetail!K52","v":0}]
[null,null,null,null,null,null,null,null,null,null,null,50,{"$f":"EmpDetail!B53","v":0},{"$f":"EmpDetail!C53","v":0},{"$f":"EmpDetail!J53","v":0},{"$f":"EmpDetail!D53","v":0},{"$f":"EmpDetail!K53","v":0}]
[null,null,null,null,null,null,null,null,null,null,null,51,{"$f":"EmpDetail!B54","v":0},{"$f":"EmpDetail!C54","v":0},{"$f":"EmpDetail!J54","v":0},{"$f":"EmpDetail!D54","v":0},{"$f":"EmpDetail!K54","v":0}]
[null,null,null,null,null,null,null,null,null,null,null,52,{"$f":"EmpDetail!B55","v":0},{"$f":"EmpDetail!C55","v":0},{"$f":"EmpDetail!J55","v":0},{"$f":"EmpDetail!D55","v":0},{"$f":"EmpDetail!K55","v":0}]
[null,null,null,null,null,null,null,null,null,null,null,53,{"$f":"EmpDetail!B56","v":0},{"$f":"EmpDetail!C56","v":0},{"$f":"EmpDetail!J56","v":0},{"$f":"EmpDetail!D56","v":0},{"$f":"EmpDetail!K56","v":0}]
[null,null,null,null,null,null,null,null,null,null,null,54,{"$f":"EmpDetail!B57","v":0},{"$f":"EmpDetail!C57","v":0},{"$f":"EmpDetail!J57","v":0},{"$f":"EmpDetail!D57","v":0},{"$f":"EmpDetail!K57","v":0}]
[null,null,null,null,null,null,null,null,null,null,null,55,{"$f":"EmpDetail!B58","v":0},{"$f":"EmpDetail!C58","v":0},{"$f":"EmpDetail!J58","v":0},{"$f":"EmpDetail!D58","v":0},{"$f":"EmpDetail!K58","v":0}]
[null,null,null,null,null,null,null,null,null,null,null,56,{"$f":"EmpDetail!B59","v":0},{"$f":"EmpDetail!C59","v":0},{"$f":"EmpDetail!J59","v":0},{"$f":"EmpDetail!D59","v":0},{"$f":"EmpDetail!K59","v":0}]
[null,null,null,null,null,null,null,null,null,null,null,57,{"$f":"EmpDetail!B60","v":0},{"$f":"EmpDetail!C60","v":0},{"$f":"EmpDetail!J60","v":0},{"$f":"EmpDetail!D60","v":0},{"$f":"EmpDetail!K60","v":0}]
[null,null,null,null,null,null,null,null,null,null,null,58,{"$f":"EmpDetail!B61","v":0},{"$f":"EmpDetail!C61","v":0},{"$f":"EmpDetail!J61","v":0},{"$f":"EmpDetail!D61","v":0},{"$f":"EmpDetail!K61","v":0}]
[null,null,null,null,null,null,null,null,null,null,null,59,{"$f":"EmpDetail!B62","v":0},{"$f":"EmpDetail!C62","v":0},{"$f":"EmpDetail!J62","v":0},{"$f":"EmpDetail!D62","v":0},{"$f":"EmpDetail!K62","v":0}]
[null,null,null,null,null,null,null,null,null,null,null,60,{"$f":"EmpDetail!B63","v":0},{"$f":"EmpDetail!C63","v":0},{"$f":"EmpDetail!J63","v":0},{"$f":"EmpDetail!D63","v":0},{"$f":"EmpDetail!K63","v":0}]
[null,null,null,null,null,null,null,null,null,null,null,61,{"$f":"EmpDetail!B64","v":0},{"$f":"EmpDetail!C64","v":0},{"$f":"EmpDetail!J64","v":0},{"$f":"EmpDetail!D64","v":0},{"$f":"EmpDetail!K64","v":0}]
[null,null,null,null,null,null,null,null,null,null,null,62,{"$f":"EmpDetail!B65","v":0},{"$f":"EmpDetail!C65","v":0},{"$f":"EmpDetail!J65","v":0},{"$f":"EmpDetail!D65","v":0},{"$f":"EmpDetail!K65","v":0}]
[null,null,null,null,null,null,null,null,null,null,null,63,{"$f":"EmpDetail!B66","v":0},{"$f":"EmpDetail!C66","v":0},{"$f":"EmpDetail!J66","v":0},{"$f":"EmpDetail!D66","v":0},{"$f":"EmpDetail!K66","v":0}]
[null,null,null,null,null,null,null,null,null,null,null,64,{"$f":"EmpDetail!B67","v":0},{"$f":"EmpDetail!C67","v":0},{"$f":"EmpDetail!J67","v":0},{"$f":"EmpDetail!D67","v":0},{"$f":"EmpDetail!K67","v":0}]
[null,null,null,null,null,null,null,null,null,null,null,65,{"$f":"EmpDetail!B68","v":0},{"$f":"EmpDetail!C68","v":0},{"$f":"EmpDetail!J68","v":0},{"$f":"EmpDetail!D68","v":0},{"$f":"EmpDetail!K68","v":0}]
[null,null,null,null,null,null,null,null,null,null,null,66,{"$f":"EmpDetail!B69","v":0},{"$f":"EmpDetail!C69","v":0},{"$f":"EmpDetail!J69","v":0},{"$f":"EmpDetail!D69","v":0},{"$f":"EmpDetail!K69","v":0}]
[null,null,null,null,null,null,null,null,null,null,null,67,{"$f":"EmpDetail!B70","v":0},{"$f":"EmpDetail!C70","v":0},{"$f":"EmpDetail!J70","v":0},{"$f":"EmpDetail!D70","v":0},{"$f":"EmpDetail!K70","v":0}]
[null,null,null,null,null,null,null,null,null,null,null,68,{"$f":"EmpDetail!B71","v":0},{"$f":"EmpDetail!C71","v":0},{"$f":"EmpDetail!J71","v":0},{"$f":"EmpDetail!D71","v":0},{"$f":"EmpDetail!K71","v":0}]
[null,null,null,null,null,null,null,null,null,null,null,69,{"$f":"EmpDetail!B72","v":0},{"$f":"EmpDetail!C72","v":0},{"$f":"EmpDetail!J72","v":0},{"$f":"EmpDetail!D72","v":0},{"$f":"EmpDetail!K72","v":0}]
[null,null,null,null,null,null,null,null,null,null,null,70,{"$f":"EmpDetail!B73","v":0},{"$f":"EmpDetail!C73","v":0},{"$f":"EmpDetail!J73","v":0},{"$f":"EmpDetail!D73","v":0},{"$f":"EmpDetail!K73","v":0}]
[null,null,null,null,null,null,null,null,null,null,null,71,{"$f":"EmpDetail!B74","v":0},{"$f":"EmpDetail!C74","v":0},{"$f":"EmpDetail!J74","v":0},{"$f":"EmpDetail!D74","v":0},{"$f":"EmpDetail!K74","v":0}]
[null,null,null,null,null,null,null,null,null,null,null,72,{"$f":"EmpDetail!B75","v":0},{"$f":"EmpDetail!C75","v":0},{"$f":"EmpDetail!J75","v":0},{"$f":"EmpDetail!D75","v":0},{"$f":"EmpDetail!K75","v":0}]
[null,null,null,null,null,null,null,null,null,null,null,73,{"$f":"EmpDetail!B76","v":0},{"$f":"EmpDetail!C76","v":0},{"$f":"EmpDetail!J76","v":0},{"$f":"EmpDetail!D76","v":0},{"$f":"EmpDetail!K76","v":0}]
[null,null,null,null,null,null,null,null,null,null,null,74,{"$f":"EmpDetail!B77","v":0},{"$f":"EmpDetail!C77","v":0},{"$f":"EmpDetail!J77","v":0},{"$f":"EmpDetail!D77","v":0},{"$f":"EmpDetail!K77","v":0}]
[null,null,null,null,null,null,null,null,null,null,null,75,{"$f":"EmpDetail!B78","v":0},{"$f":"EmpDetail!C78","v":0},{"$f":"EmpDetail!J78","v":0},{"$f":"EmpDetail!D78","v":0},{"$f":"EmpDetail!K78","v":0}]
[null,null,null,null,null,null,null,null,null,null,null,76,{"$f":"EmpDetail!B79","v":0},{"$f":"EmpDetail!C79","v":0},{"$f":"EmpDetail!J79","v":0},{"$f":"EmpDetail!D79","v":0},{"$f":"EmpDetail!K79","v":0}]
[null,null,null,null,null,null,null,null,null,null,null,77,{"$f":"EmpDetail!B80","v":0},{"$f":"EmpDetail!C80","v":0},{"$f":"EmpDetail!J80","v":0},{"$f":"EmpDetail!D80","v":0},{"$f":"EmpDetail!K80","v":0}]
[null,null,null,null,null,null,null,null,null,null,null,78,{"$f":"EmpDetail!B81","v":0},{"$f":"EmpDetail!C81","v":0},{"$f":"EmpDetail!J81","v":0},{"$f":"EmpDetail!D81","v":0},{"$f":"EmpDetail!K81","v":0}]
[null,null,null,null,null,null,null,null,null,null,null,79,{"$f":"EmpDetail!B82","v":0},{"$f":"EmpDetail!C82","v":0},{"$f":"EmpDetail!J82","v":0},{"$f":"EmpDetail!D82","v":0},{"$f":"EmpDetail!K82","v":0}]
[null,null,null,null,null,null,null,null,null,null,null,80,{"$f":"EmpDetail!B83","v":0},{"$f":"EmpDetail!C83","v":0},{"$f":"EmpDetail!J83","v":0},{"$f":"EmpDetail!D83","v":0},{"$f":"EmpDetail!K83","v":0}]
[null,null,null,null,null,null,null,null,null,null,null,81,{"$f":"EmpDetail!B84","v":0},{"$f":"EmpDetail!C84","v":0},{"$f":"EmpDetail!J84","v":0},{"$f":"EmpDetail!D84","v":0},{"$f":"EmpDetail!K84","v":0}]
[null,null,null,null,null,null,null,null,null,null,null,82,{"$f":"EmpDetail!B85","v":0},{"$f":"EmpDetail!C85","v":0},{"$f":"EmpDetail!J85","v":0},{"$f":"EmpDetail!D85","v":0},{"$f":"EmpDetail!K85","v":0}]
[null,null,null,null,null,null,null,null,null,null,null,83,{"$f":"EmpDetail!B86","v":0},{"$f":"EmpDetail!C86","v":0},{"$f":"EmpDetail!J86","v":0},{"$f":"EmpDetail!D86","v":0},{"$f":"EmpDetail!K86","v":0}]
[null,null,null,null,null,null,null,null,null,null,null,84,{"$f":"EmpDetail!B87","v":0},{"$f":"EmpDetail!C87","v":0},{"$f":"EmpDetail!J87","v":0},{"$f":"EmpDetail!D87","v":0},{"$f":"EmpDetail!K87","v":0}]
[null,null,null,null,null,null,null,null,null,null,null,85,{"$f":"EmpDetail!B88","v":0},{"$f":"EmpDetail!C88","v":0},{"$f":"EmpDetail!J88","v":0},{"$f":"EmpDetail!D88","v":0},{"$f":"EmpDetail!K88","v":0}]
[null,null,null,null,null,null,null,null,null,null,null,86,{"$f":"EmpDetail!B89","v":0},{"$f":"EmpDetail!C89","v":0},{"$f":"EmpDetail!J89","v":0},{"$f":"EmpDetail!D89","v":0},{"$f":"EmpDetail!K89","v":0}]
[null,null,null,null,null,null,null,null,null,null,null,87,{"$f":"EmpDetail!B90","v":0},{"$f":"EmpDetail!C90","v":0},{"$f":"EmpDetail!J90","v":0},{"$f":"EmpDetail!D90","v":0},{"$f":"EmpDetail!K90","v":0}]
[null,null,null,null,null,null,null,null,null,null,null,88,{"$f":"EmpDetail!B91","v":0},{"$f":"EmpDetail!C91","v":0},{"$f":"EmpDetail!J91","v":0},{"$f":"EmpDetail!D91","v":0},{"$f":"EmpDetail!K91","v":0}]
[null,null,null,null,null,null,null,null,null,null,null,89,{"$f":"EmpDetail!B92","v":0},{"$f":"EmpDetail!C92","v":0},{"$f":"EmpDetail!J92","v":0},{"$f":"EmpDetail!D92","v":0},{"$f":"EmpDetail!K92","v":0}]
[null,null,null,null,null,null,null,null,null,null,null,90,{"$f":"EmpDetail!B93","v":0},{"$f":"EmpDetail!C93","v":0},{"$f":"EmpDetail!J93","v":0},{"$f":"EmpDetail!D93","v":0},{"$f":"EmpDetail!K93","v":0}]
[null,null,null,null,null,null,null,null,null,null,null,91,{"$f":"EmpDetail!B94","v":0},{"$f":"EmpDetail!C94","v":0},{"$f":"EmpDetail!J94","v":0},{"$f":"EmpDetail!D94","v":0},{"$f":"EmpDetail!K94","v":0}]
[null,null,null,null,null,null,null,null,null,null,null,92,{"$f":"EmpDetail!B95","v":0},{"$f":"EmpDetail!C95","v":0},{"$f":"EmpDetail!J95","v":0},{"$f":"EmpDetail!D95","v":0},{"$f":"EmpDetail!K95","v":0}]
[null,null,null,null,null,null,null,null,null,null,null,93,{"$f":"EmpDetail!B96","v":0},{"$f":"EmpDetail!C96","v":0},{"$f":"EmpDetail!J96","v":0},{"$f":"EmpDetail!D96","v":0},{"$f":"EmpDetail!K96","v":0}]
[null,null,null,null,null,null,null,null,null,null,null,94,{"$f":"EmpDetail!B97","v":0},{"$f":"EmpDetail!C97","v":0},{"$f":"EmpDetail!J97","v":0},{"$f":"EmpDetail!D97","v":0},{"$f":"EmpDetail!K97","v":0}]
[null,null,null,null,null,null,null,null,null,null,null,95,{"$f":"EmpDetail!B98","v":0},{"$f":"EmpDetail!C98","v":0},{"$f":"EmpDetail!J98","v":0},{"$f":"EmpDetail!D98","v":0},{"$f":"EmpDetail!K98","v":0}]
[null,null,null,null,null,null,null,null,null,null,null,96,{"$f":"EmpDetail!B99","v":0},{"$f":"EmpDetail!C99","v":0},{"$f":"EmpDetail!J99","v":0},{"$f":"EmpDetail!D99","v":0},{"$f":"EmpDetail!K99","v":0}]
[null,null,null,null,null,null,null,null,null,null,null,97,{"$f":"EmpDetail!B100","v":0},{"$f":"EmpDetail!C100","v":0},{"$f":"EmpDetail!J100","v":0},{"$f":"EmpDetail!D100","v":0},{"$f":"EmpDetail!K100","v":0}]
[null,null,null,null,null,null,null,null,null,null,null,98,{"$f":"EmpDetail!B101","v":0},{"$f":"EmpDetail!C101","v":0},{"$f":"EmpDetail!J101","v":0},{"$f":"EmpDetail!D101","v":0},{"$f":"EmpDetail!K101","v":0}]
[null,null,null,null,null,null,null,null,null,null,null,99,{"$f":"EmpDetail!B102","v":0},{"$f":"EmpDetail!C102","v":0},{"$f":"EmpDetail!J102","v":0},{"$f":"EmpDetail!D102","v":0},{"$f":"EmpDetail!K102","v":0}]
[null,null,null,null,null,null,null,null,null,null,null,100,{"$f":"EmpDetail!B103","v":0},{"$f":"EmpDetail!C103","v":0},{"$f":"EmpDetail!J103","v":0},{"$f":"EmpDetail!D103","v":0},{"$f":"EmpDetail!K103","v":0}]

{"sheet":"Bonus","index":8,"n_rows":107,"n_cols":19,"rows_kept":107,"cut":false,"hidden":true,"merged":[[0,1,0,9],[6,4,6,5],[2,1,2,4],[3,1,3,4],[2,6,2,9],[3,6,3,9],[4,3,4,9]]}
[null,{"$f":"Master!G2&Master!H2","v":"कार्यालय&राजकीय उच्च माध्यमिक विद्यालय ]चौगाई]टोंक"}]
[null,null,null,null,"dk;kZy; vkns'k"]
[null,"jktLFkku ljdkj foÙk foHkkx ds vkns'k Øekad& ,Q-6¼5½,QMh@¼:Yl½2009@t;iqj fnukad",null,null,null,"2020-11-10","dh vuqikyuk esa bl dk;kZy; ds v/khu "]
[null,"dk;Zjr fuEukafdr dkfeZdksa dks ¼jkT; lsok ds vf/kdkfj;ksa dks NksM+ dj½ ftUgksaus jktdh; lsok esa",null,null,null,"2020-03-31","dks 6 ekg ,oa vf/kd dh lsok iw.kZ dj yh gS dks"]
[null,"foÙkh; o\"kZ& ",{"$f":"Master!F4","v":"2019-2020"}," ds fy, muds uke ds lEeq[k vafdr fooj.kkuqlkj rnFkZ cksul jkf'k Lohd`r dh tkrh gSA ;g jkf'k lEcfU/kr dks Hkqxrku dh tkosA"]
[]
["dkfeZd Øe"," Øe la0","uke dfeZd"," in uke","inLFkkiu LFkku",null,"is&ysoy","osru","cksul dh vkuqifrd vof/k","ns; cksul","ns; cksul","ns; cksul","ns; cksul","ns; cksul","ns; cksul","ns; cksul","ns; cksul","ns; cksul","ns; cksul"]
[6,{"$f":"IF(C8=\"\",\"\",1)","v":1},{"$f":"IF(ISNA(VLOOKUP($A8,$K$8:$P$107,2,FALSE)),\"\",VLOOKUP($A8,$K$8:$P$107,2,FALSE))","v":"iq\"ik tSu"},{"$f":"IF(ISNA(VLOOKUP($A8,$K$8:$P$107,3,FALSE)),\"\",VLOOKUP($A8,$K$8:$P$107,3,FALSE))","v":"वरिष्ठ अध्यापक"},{"$f":"IF(ISNA(VLOOKUP($A8,$K$8:$P$107,4,FALSE)),\"\",VLOOKUP($A8,$K$8:$P$107,4,FALSE))","v":"राउमावि चौगाई"},null,{"$f":"IF(ISNA(VLOOKUP($A8,$K$8:$P$107,5,FALSE)),\"\",VLOOKUP($A8,$K$8:$P$107,5,FALSE))","v":"L-13"},{"$f":"IF(ISNA(VLOOKUP($A8,$K$8:$P$107,6,FALSE)),\"\",VLOOKUP($A8,$K$8:$P$107,6,FALSE))","v":73400},null,{"$f":"IF(C8=\"\",\"\",S8)","v":0},{"$f":"EmpDetail!A4","v":1},{"$f":"EmpDetail!B4","v":"fd'ku yky cSjok"},{"$f":"EmpDetail!C4","v":"प्रधानाचार्य"},{"$f":"EmpDetail!D4","v":"राउमावि चौगाई"},{"$f":"EmpDetail!J4","v":"L-16"},{"$f":"EmpDetail!K4","v":95900},{"$f":"Master!J$4","v":6774},{"$f":"IF(I8=\"\",Q8,ROUNDUP(Q8*I8/12,0))","v":6774},{"$f":"IF(G8=\"L-13\",0,R8)","v":0}]
[7,{"$f":"IF(C9=\"\",\"\",B8+1)","v":2},{"$f":"IF(ISNA(VLOOKUP($A9,$K$8:$P$107,2,FALSE)),\"\",VLOOKUP($A9,$K$8:$P$107,2,FALSE))","v":"vk'kkjke eh.kk"},{"$f":"IF(ISNA(VLOOKUP($A9,$K$8:$P$107,3,FALSE)),\"\",VLOOKUP($A9,$K$8:$P$107,3,FALSE))","v":"वरिष्ठ अध्यापक"},{"$f":"IF(ISNA(VLOOKUP($A9,$K$8:$P$107,4,FALSE)),\"\",VLOOKUP($A9,$K$8:$P$107,4,FALSE))","v":"राउमावि चौगाई"},null,{"$f":"IF(ISNA(VLOOKUP($A9,$K$8:$P$107,5,FALSE)),\"\",VLOOKUP($A9,$K$8:$P$107,5,FALSE))","v":"L-11"},{"$f":"IF(ISNA(VLOOKUP($A9,$K$8:$P$107,6,FALSE)),\"\",VLOOKUP($A9,$K$8:$P$107,6,FALSE))","v":52300},null,{"$f":"IF(C9=\"\",\"\",S9)","v":6774},{"$f":"EmpDetail!A5","v":2},{"$f":"EmpDetail!B5","v":"iwj.k pUn y{kdkj"},{"$f":"EmpDetail!C5","v":"व्याख्याता"},{"$f":"EmpDetail!D5","v":"राउमावि चौगाई"},{"$f":"EmpDetail!J5","v":"L-12"},{"$f":"EmpDetail!K5","v":56100},{"$f":"Master!J$4","v":6774},{"$f":"IF(I9=\"\",Q9,ROUNDUP(Q9*I9/12,0))","v":6774},{"$f":"IF(G9=\"L-13\",0,R9)","v":6774}]
[8,{"$f":"IF(C10=\"\",\"\",B9+1)","v":3},"t;iky flag","वरिष्ठ अध्यापक","राउमावि चौगाई",null,"L-12",63100,null,6774,{"$f":"EmpDetail!A6","v":3},{"$f":"EmpDetail!B6","v":"jktsUnz dqekj tSu"},{"$f":"EmpDetail!C6","v":"व्याख्याता"},{"$f":"EmpDetail!D6","v":"राउमावि चौगाई"},{"$f":"EmpDetail!J6","v":"L-12"},{"$f":"EmpDetail!K6","v":63100},{"$f":"Master!J$4","v":6774},6774,6774]
[9,4,"jkeizlkn jsxj","वरिष्ठ अध्यापक","राउमावि चौगाई",null,"L-11",46500,null,6774,{"$f":"EmpDetail!A7","v":4},{"$f":"EmpDetail!B7","v":"fd'ku yky cSjok"},{"$f":"EmpDetail!C7","v":"व्याख्याता"},{"$f":"EmpDetail!D7","v":"राउमावि चौगाई"},{"$f":"EmpDetail!J7","v":"L-12"},{"$f":"EmpDetail!K7","v":54500},{"$f":"Master!J$4","v":6774},6774,6774]
[11,5,"NksVw yky jsxj","अध्यापक ग्रेड III","राउमावि चौगाई",null,"L-13",65200,null,0,{"$f":"EmpDetail!A8","v":5},{"$f":"EmpDetail!B8","v":"lR;ukjk;.k 'kekZ"},{"$f":"EmpDetail!C8","v":"वरिष्ठ अध्यापक"},{"$f":"EmpDetail!D8","v":"राउमावि चौगाई"},{"$f":"EmpDetail!J8","v":"L-13"},{"$f":"EmpDetail!K8","v":71300},{"$f":"Master!J$4","v":6774},6774,0]
[12,6,"dUgS;k yky egkoj","अध्यापक ग्रेड III","राउमावि चौगाई",null,"L-13",65200,null,0,{"$f":"EmpDetail!A9","v":6},{"$f":"EmpDetail!B9","v":"iq\"ik tSu"},{"$f":"EmpDetail!C9","v":"वरिष्ठ अध्यापक"},{"$f":"EmpDetail!D9","v":"राउमावि चौगाई"},{"$f":"EmpDetail!J9","v":"L-13"},{"$f":"EmpDetail!K9","v":73400},{"$f":"Master!J$4","v":6774},6774,0]
[13,7,"prqHkqZt tkV","अध्यापक ग्रेड III","राउमावि चौगाई",null,"L-11",52300,null,6774,{"$f":"EmpDetail!A10","v":7},{"$f":"EmpDetail!B10","v":"vk'kkjke eh.kk"},{"$f":"EmpDetail!C10","v":"वरिष्ठ अध्यापक"},{"$f":"EmpDetail!D10","v":"राउमावि चौगाई"},{"$f":"EmpDetail!J10","v":"L-11"},{"$f":"EmpDetail!K10","v":52300},{"$f":"Master!J$4","v":6774},6774,6774]
[15,8,"lq'khyk cSjok","कनिष्ठ सहायक","राउमावि चौगाई",null,"L-5",14600,null,6774,{"$f":"EmpDetail!A11","v":8},{"$f":"EmpDetail!B11","v":"t;iky flag"},{"$f":"EmpDetail!C11","v":"वरिष्ठ अध्यापक"},{"$f":"EmpDetail!D11","v":"राउमावि चौगाई"},{"$f":"EmpDetail!J11","v":"L-12"},{"$f":"EmpDetail!K11","v":63100},{"$f":"Master!J$4","v":6774},6774,6774]
[null,"","","","",null,"","",null,"",{"$f":"EmpDetail!A12","v":9},{"$f":"EmpDetail!B12","v":"jkeizlkn jsxj"},{"$f":"EmpDetail!C12","v":"वरिष्ठ अध्यापक"},{"$f":"EmpDetail!D12","v":"राउमावि चौगाई"},{"$f":"EmpDetail!J12","v":"L-11"},{"$f":"EmpDetail!K12","v":46500},{"$f":"Master!J$4","v":6774},6774,6774]
[null,"","","","",null,"","",null,"",{"$f":"EmpDetail!A13","v":10},{"$f":"EmpDetail!B13","v":"egsUnz dqekj tkV"},{"$f":"EmpDetail!C13","v":"शारीरिक शिक्षक"},{"$f":"EmpDetail!D13","v":"राउमावि चौगाई"},{"$f":"EmpDetail!J13","v":"L-12"},{"$f":"EmpDetail!K13","v":61300},{"$f":"Master!J$4","v":6774},6774,6774]
[null,"","","","",null,"","",null,"",{"$f":"EmpDetail!A14","v":11},{"$f":"EmpDetail!B14","v":"NksVw yky jsxj"},{"$f":"EmpDetail!C14","v":"अध्यापक ग्रेड III"},{"$f":"EmpDetail!D14","v":"राउमावि चौगाई"},{"$f":"EmpDetail!J14","v":"L-13"},{"$f":"EmpDetail!K14","v":65200},{"$f":"Master!J$4","v":6774},6774,6774]
[null,"","","","",null,"","",null,"",{"$f":"EmpDetail!A15","v":12},{"$f":"EmpDetail!B15","v":"dUgS;k yky egkoj"},{"$f":"EmpDetail!C15","v":"अध्यापक ग्रेड III"},{"$f":"EmpDetail!D15","v":"राउमावि चौगाई"},{"$f":"EmpDetail!J15","v":"L-13"},{"$f":"EmpDetail!K15","v":65200},{"$f":"Master!J$4","v":6774},6774,6774]
[null,"","","","",null,"","",null,"",{"$f":"EmpDetail!A16","v":13},{"$f":"EmpDetail!B16","v":"prqHkqZt tkV"},{"$f":"EmpDetail!C16","v":"अध्यापक ग्रेड III"},{"$f":"EmpDetail!D16","v":"राउमावि चौगाई"},{"$f":"EmpDetail!J16","v":"L-11"},{"$f":"EmpDetail!K16","v":52300},{"$f":"Master!J$4","v":6774},6774,6774]
[null,"","","","",null,"","",null,"",{"$f":"EmpDetail!A17","v":14},{"$f":"EmpDetail!B17","v":"vklsQk [kku"},{"$f":"EmpDetail!C17","v":"अध्यापक ग्रेड III"},{"$f":"EmpDetail!D17","v":"राउमावि चौगाई"},{"$f":"EmpDetail!J17","v":"L-11"},{"$f":"EmpDetail!K17","v":52300},{"$f":"Master!J$4","v":6774},6774,6774]
[null,"","","","",null,"","",null,"",{"$f":"EmpDetail!A18","v":15},{"$f":"EmpDetail!B18","v":"lq'khyk cSjok"},{"$f":"EmpDetail!C18","v":"कनिष्ठ सहायक"},{"$f":"EmpDetail!D18","v":"राउमावि चौगाई"},{"$f":"EmpDetail!J18","v":"L-5"},{"$f":"EmpDetail!K18","v":14600},{"$f":"Master!J$4","v":6774},6774,6774]
[null,"","","","",null,"","",null,"",{"$f":"EmpDetail!A19","v":16},{"$f":"EmpDetail!B19","v":"txnh'k izlkn rsyh"},{"$f":"EmpDetail!C19","v":"सहायक कर्मचारी"},{"$f":"EmpDetail!D19","v":"राउमावि चौगाई"},{"$f":"EmpDetail!J19","v":"L-5"},{"$f":"EmpDetail!K19","v":34700},{"$f":"Master!J$4","v":6774},6774,6774]
[null,"","","","",null,"","",null,"",{"$f":"EmpDetail!A20","v":17},{"$f":"EmpDetail!B20","v":"jfoUnz dqekj tSu"},{"$f":"EmpDetail!C20","v":"अध्यापक ग्रेड III"},{"$f":"EmpDetail!D20","v":"राउप्रावि मोहिनी"},{"$f":"EmpDetail!J20","v":"L-12"},{"$f":"EmpDetail!K20","v":65200},{"$f":"Master!J$4","v":6774},6774,6774]
[null,"","","","",null,"","",null,"",{"$f":"EmpDetail!A21","v":18},{"$f":"EmpDetail!B21","v":" ';ke lqUnj ckxkSM"},{"$f":"EmpDetail!C21","v":"अध्यापक ग्रेड III"},{"$f":"EmpDetail!D21","v":"राउप्रावि मोहिनी"},{"$f":"EmpDetail!J21","v":"L-10"},{"$f":"EmpDetail!K21","v":40300},{"$f":"Master!J$4","v":6774},6774,6774]
[null,"","","","",null,"","",null,"",{"$f":"EmpDetail!A22","v":19},{"$f":"EmpDetail!B22","v":"d`\".kk 'kekZ"},{"$f":"EmpDetail!C22","v":"प्रबोधक"},{"$f":"EmpDetail!D22","v":"राउप्रावि मोहिनी"},{"$f":"EmpDetail!J22","v":"L-11"},{"$f":"EmpDetail!K22","v":45100},{"$f":"Master!J$4","v":6774},6774,6774]
[null,"","","","",null,"","",null,"",{"$f":"EmpDetail!A23","v":20},{"$f":"EmpDetail!B23","v":"/keZsUnz pkS/kjh"},{"$f":"EmpDetail!C23","v":"अध्यापक ग्रेड III"},{"$f":"EmpDetail!D23","v":"राउप्रावि गोरधनपुरा"},{"$f":"EmpDetail!J23","v":"L-10"},{"$f":"EmpDetail!K23","v":40300},{"$f":"Master!J$4","v":6774},6774,6774]
[null,"","","","",null,"","",null,"",{"$f":"EmpDetail!A24","v":21},{"$f":"EmpDetail!B24","v":"izgykn ekyh"},{"$f":"EmpDetail!C24","v":"प्रबोधक"},{"$f":"EmpDetail!D24","v":"राउप्रावि गोरधनपुरा"},{"$f":"EmpDetail!J24","v":"L-11"},{"$f":"EmpDetail!K24","v":46500},{"$f":"Master!J$4","v":6774},6774,6774]
[null,"","","","",null,"","",null,"",{"$f":"EmpDetail!A25","v":22},{"$f":"EmpDetail!B25","v":"jken;ky xqtZj"},{"$f":"EmpDetail!C25","v":"प्रबोधक"},{"$f":"EmpDetail!D25","v":"राउप्रावि सोंदीफल"},{"$f":"EmpDetail!J25","v":"L-11"},{"$f":"EmpDetail!K25","v":45100},{"$f":"Master!J$4","v":6774},6774,6774]
[null,"","","","",null,"","",null,"",{"$f":"EmpDetail!A26","v":23},{"$f":"EmpDetail!B26","v":"vkSeizdk'k tkV"},{"$f":"EmpDetail!C26","v":"अध्यापक ग्रेड III"},{"$f":"EmpDetail!D26","v":"राउप्रावि सोंदीफल"},{"$f":"EmpDetail!J26","v":"L-11"},{"$f":"EmpDetail!K26","v":45100},{"$f":"Master!J$4","v":6774},6774,6774]
[null,"","","","",null,"","",null,"",{"$f":"EmpDetail!A27","v":24},{"$f":"EmpDetail!B27","v":"vthr flag"},{"$f":"EmpDetail!C27","v":"अध्यापक ग्रेड III"},{"$f":"EmpDetail!D27","v":"राप्रावि जानकीवल्लभपुरा"},{"$f":"EmpDetail!J27","v":"L-10"},{"$f":"EmpDetail!K27","v":40300},{"$f":"Master!J$4","v":6774},6774,6774]
[null,"","","","",null,"","",null,"",{"$f":"EmpDetail!A28","v":25},{"$f":"EmpDetail!B28","v":"eq[rkj eha;k"},{"$f":"EmpDetail!C28","v":"प्रबोधक"},{"$f":"EmpDetail!D28","v":"राप्रावि जानकीवल्लभपुरा"},{"$f":"EmpDetail!J28","v":"L-11"},{"$f":"EmpDetail!K28","v":45100},{"$f":"Master!J$4","v":6774},6774,6774]
[null,"","","","",null,"","",null,"",{"$f":"EmpDetail!A29","v":26},{"$f":"EmpDetail!B29","v":"eks0 tehy "},{"$f":"EmpDetail!C29","v":"प्रबोधक"},{"$f":"EmpDetail!D29","v":"राप्रावि रसूलपुरा"},{"$f":"EmpDetail!J29","v":"L-11"},{"$f":"EmpDetail!K29","v":45100},{"$f":"Master!J$4","v":6774},6774,6774]
[null,"","","","",null,"","",null,"",{"$f":"EmpDetail!A30","v":27},{"$f":"EmpDetail!B30","v":"lkaojey tkV"},{"$f":"EmpDetail!C30","v":"अध्यापक ग्रेड III"},{"$f":"EmpDetail!D30","v":"राप्रावि रसूलपुरा"},{"$f":"EmpDetail!J30","v":"L-10"},{"$f":"EmpDetail!K30","v":38000},{"$f":"Master!J$4","v":6774},6774,6774]
[null,"","","","",null,"","",null,"",{"$f":"EmpDetail!A31","v":28},{"$f":"EmpDetail!B31","v":"pkS/kjh eksuk jkekorkj"},{"$f":"EmpDetail!C31","v":"अध्यापक ग्रेड III"},{"$f":"EmpDetail!D31","v":"राप्रावि मोहिनी ढाणी बाढ"},{"$f":"EmpDetail!J31","v":"L-10"},{"$f":"EmpDetail!K31","v":38000},{"$f":"Master!J$4","v":6774},6774,6774]
[null,"","","","",null,"","",null,"",{"$f":"EmpDetail!A32","v":29},{"$f":"EmpDetail!B32","v":"rkjkpUn tk;loky"},{"$f":"EmpDetail!C32","v":"प्रबोधक"},{"$f":"EmpDetail!D32","v":"राप्रावि मोहिनी ढाणी बाढ"},{"$f":"EmpDetail!J32","v":"L-11"},{"$f":"EmpDetail!K32","v":41300},{"$f":"Master!J$4","v":6774},6774,6774]
[null,"","","","",null,"","",null,"",{"$f":"EmpDetail!A33","v":30},{"$f":"EmpDetail!B33","v":"jketl ;kno"},{"$f":"EmpDetail!C33","v":"अध्यापक ग्रेड III"},{"$f":"EmpDetail!D33","v":"राप्रावि बैरवा ढाणी सोन्दीफल"},{"$f":"EmpDetail!J33","v":"L-12"},{"$f":"EmpDetail!K33","v":63100},{"$f":"Master!J$4","v":6774},6774,6774]
[null,"","","","",null,"","",null,"",{"$f":"EmpDetail!A34","v":31},{"$f":"EmpDetail!B34","v":"dtksMey eh.kk"},{"$f":"EmpDetail!C34","v":"अध्यापक ग्रेड III"},{"$f":"EmpDetail!D34","v":"राप्रावि बैरवा ढाणी सोन्दीफल"},{"$f":"EmpDetail!J34","v":"L-10"},{"$f":"EmpDetail!K34","v":38000},{"$f":"Master!J$4","v":6774},6774,6774]
[null,"","","","",null,"","",null,"",{"$f":"EmpDetail!A35","v":32},{"$f":"EmpDetail!B35","v":"/kaut; xkSRre"},{"$f":"EmpDetail!C35","v":"अध्यापक ग्रेड III"},{"$f":"EmpDetail!D35","v":"राउप्रावि गोरधनपुरा"},{"$f":"EmpDetail!J35","v":"L-10"},{"$f":"EmpDetail!K35","v":34800},{"$f":"Master!J$4","v":6774},6774,6774]
[null,"","","","",null,"","",null,"",{"$f":"EmpDetail!A36","v":33},{"$f":"EmpDetail!B36","v":"d`\".kk xaxoky"},{"$f":"EmpDetail!C36","v":"अध्यापक ग्रेड III"},{"$f":"EmpDetail!D36","v":"राउप्रावि गोरधनपुरा"},{"$f":"EmpDetail!J36","v":"L-10"},{"$f":"EmpDetail!K36","v":33800},{"$f":"Master!J$4","v":6774},6774,6774]
[null,"","","","",null,"","",null,"",{"$f":"EmpDetail!A37","v":34},{"$f":"EmpDetail!B37","v":"n'kjFk dqekj ;kno"},{"$f":"EmpDetail!C37","v":"अध्यापक ग्रेड III"},{"$f":"EmpDetail!D37","v":"राउप्रावि सोंदीफल"},{"$f":"EmpDetail!J37","v":"L-10"},{"$f":"EmpDetail!K37","v":23700},{"$f":"Master!J$4","v":6774},6774,6774]
[null,"","","","",null,"","",null,"",{"$f":"EmpDetail!A38","v":35},{"$f":"EmpDetail!B38","v":"d`\".k yky tkV"},{"$f":"EmpDetail!C38","v":"अध्यापक ग्रेड III"},{"$f":"EmpDetail!D38","v":"राउप्रावि सोंदीफल"},{"$f":"EmpDetail!J38","v":"L-10"},{"$f":"EmpDetail!K38","v":33800},{"$f":"Master!J$4","v":6774},6774,6774]
[null,"","","","",null,"","",null,"",{"$f":"EmpDetail!A39","v":36},{"$f":"EmpDetail!B39","v":"nhisUnz dqekj iztkir"},{"$f":"EmpDetail!C39","v":"अध्यापक ग्रेड III"},{"$f":"EmpDetail!D39","v":"राउप्रावि सोंदीफल"},{"$f":"EmpDetail!J39","v":"L-10"},{"$f":"EmpDetail!K39","v":33800},{"$f":"Master!J$4","v":6774},6774,6774]
[null,"","","","",null,"","",null,"",{"$f":"EmpDetail!A40","v":37},{"$f":"EmpDetail!B40","v":"uohu dqekj"},{"$f":"EmpDetail!C40","v":"अध्यापक ग्रेड III"},{"$f":"EmpDetail!D40","v":"राउप्रावि मोहिनी"},{"$f":"EmpDetail!J40","v":"L-10"},{"$f":"EmpDetail!K40","v":33800},{"$f":"Master!J$4","v":6774},6774,6774]
[null,"","","","",null,"","",null,"",{"$f":"EmpDetail!A41","v":38},{"$f":"EmpDetail!B41","v":"ehrs'k dqekj 'kekZ"},{"$f":"EmpDetail!C41","v":"अध्यापक ग्रेड III"},{"$f":"EmpDetail!D41","v":"राउप्रावि मोहिनी"},{"$f":"EmpDetail!J41","v":"L-10"},{"$f":"EmpDetail!K41","v":34800},{"$f":"Master!J$4","v":6774},6774,6774]
[null,"","","","",null,"","",null,"",{"$f":"EmpDetail!A42","v":39},{"$f":"EmpDetail!B42","v":"eUtw eh.kk"},{"$f":"EmpDetail!C42","v":"वरिष्ठ अध्यापक"},{"$f":"EmpDetail!D42","v":"राउप्रावि गोरधनपुरा"},{"$f":"EmpDetail!J42","v":"L-10"},{"$f":"EmpDetail!K42","v":33800},{"$f":"Master!J$4","v":6774},6774,6774]
[null,"","","","",null,"","",null,"",{"$f":"EmpDetail!A43","v":40},{"$f":"EmpDetail!B43","v":"eatw pkS/kjh"},{"$f":"EmpDetail!C43","v":"वरिष्ठ अध्यापक"},{"$f":"EmpDetail!D43","v":"राउप्रावि सोंदीफल"},{"$f":"EmpDetail!J43","v":"L-11"},{"$f":"EmpDetail!K43","v":26500},{"$f":"Master!J$4","v":6774},6774,6774]
[null,"","","","",null,"","",null,"",{"$f":"EmpDetail!A44","v":41},{"$f":"EmpDetail!B44","v":0},{"$f":"EmpDetail!C44","v":0},{"$f":"EmpDetail!D44","v":0},{"$f":"EmpDetail!J44","v":0},{"$f":"EmpDetail!K44","v":0},{"$f":"Master!J$4","v":6774},6774,6774]
[null,"","","","",null,"","",null,"",{"$f":"EmpDetail!A45","v":42},{"$f":"EmpDetail!B45","v":0},{"$f":"EmpDetail!C45","v":0},{"$f":"EmpDetail!D45","v":0},{"$f":"EmpDetail!J45","v":0},{"$f":"EmpDetail!K45","v":0},{"$f":"Master!J$4","v":6774},6774,6774]
[null,"","","","",null,"","",null,"",{"$f":"EmpDetail!A46","v":43},{"$f":"EmpDetail!B46","v":0},{"$f":"EmpDetail!#REF!","v":{"$error":"#REF!"}},{"$f":"EmpDetail!#REF!","v":{"$error":"#REF!"}},{"$f":"EmpDetail!J46","v":0},{"$f":"EmpDetail!K46","v":0},{"$f":"Master!J$4","v":6774},6774,6774]
[null,"","","","",null,"","",null,"",{"$f":"EmpDetail!A47","v":44},{"$f":"EmpDetail!B47","v":0},{"$f":"EmpDetail!C47","v":0},{"$f":"EmpDetail!D47","v":0},{"$f":"EmpDetail!J47","v":0},{"$f":"EmpDetail!K47","v":0},{"$f":"Master!J$4","v":6774},6774,6774]
[null,"","","","",null,"","",null,"",{"$f":"EmpDetail!A48","v":45},{"$f":"EmpDetail!B48","v":0},{"$f":"EmpDetail!C48","v":0},{"$f":"EmpDetail!D48","v":0},{"$f":"EmpDetail!J48","v":0},{"$f":"EmpDetail!K48","v":0},{"$f":"Master!J$4","v":6774},6774,6774]
[null,"","","","",null,"","",null,"",{"$f":"EmpDetail!A49","v":46},{"$f":"EmpDetail!B49","v":0},{"$f":"EmpDetail!C49","v":0},{"$f":"EmpDetail!D49","v":0},{"$f":"EmpDetail!J49","v":0},{"$f":"EmpDetail!K49","v":0},{"$f":"Master!J$4","v":6774},6774,6774]
[null,"","","","",null,"","",null,"",{"$f":"EmpDetail!A50","v":47},{"$f":"EmpDetail!B50","v":0},{"$f":"EmpDetail!C50","v":0},{"$f":"EmpDetail!D50","v":0},{"$f":"EmpDetail!J50","v":0},{"$f":"EmpDetail!K50","v":0},{"$f":"Master!J$4","v":6774},6774,6774]
[null,"","","","",null,"","",null,"",{"$f":"EmpDetail!A51","v":48},{"$f":"EmpDetail!B51","v":0},{"$f":"EmpDetail!C51","v":0},{"$f":"EmpDetail!D51","v":0},{"$f":"EmpDetail!J51","v":0},{"$f":"EmpDetail!K51","v":0},{"$f":"Master!J$4","v":6774},6774,6774]
[null,"","","","",null,"","",null,"",{"$f":"EmpDetail!A52","v":49},{"$f":"EmpDetail!B52","v":0},{"$f":"EmpDetail!C52","v":0},{"$f":"EmpDetail!D52","v":0},{"$f":"EmpDetail!J52","v":0},{"$f":"EmpDetail!K52","v":0},{"$f":"Master!J$4","v":6774},6774,6774]
[null,"",";ksx","","",null,"","",null,{"$f":"SUM(J8:J56)","v":33870},{"$f":"SUM(K8:K56)","v":1225},0,{"$error":"#REF!"},{"$error":"#REF!"},0,1887100,331926,331926,311604]
[null,null,null,null,null,null,null,null,null,null,{"$f":"EmpDetail!A54","v":51},{"$f":"EmpDetail!B54","v":0},{"$f":"EmpDetail!C54","v":0},{"$f":"EmpDetail!D54","v":0},{"$f":"EmpDetail!J54","v":0},{"$f":"EmpDetail!K54","v":0}]
[null,null,null,null,null,null,null,null,null,null,{"$f":"EmpDetail!A55","v":52},{"$f":"EmpDetail!B55","v":0},{"$f":"EmpDetail!C55","v":0},{"$f":"EmpDetail!D55","v":0},{"$f":"EmpDetail!J55","v":0},{"$f":"EmpDetail!K55","v":0}]
[null,null,null,null,null,null,null,null,{"$f":"Master!B2","v":"प्रधानाचार्य"},null,{"$f":"EmpDetail!A56","v":53},{"$f":"EmpDetail!B56","v":0},{"$f":"EmpDetail!C56","v":0},{"$f":"EmpDetail!D56","v":0},{"$f":"EmpDetail!J56","v":0},{"$f":"EmpDetail!K56","v":0}]
[null,null,null,null,null,null,null,null,{"$f":"Master!B3","v":"राजकीय उच्च माध्यमिक विद्यालय "},null,{"$f":"EmpDetail!A57","v":54},{"$f":"EmpDetail!B57","v":0},{"$f":"EmpDetail!C57","v":0},{"$f":"EmpDetail!D57","v":0},{"$f":"EmpDetail!J57","v":0},{"$f":"EmpDetail!K57","v":0}]
[null,null,null,null,null,null,null,null,{"$f":"Master!B4","v":"चौगाई]टोंक"},null,{"$f":"EmpDetail!A58","v":55},{"$f":"EmpDetail!B58","v":0},{"$f":"EmpDetail!C58","v":0},{"$f":"EmpDetail!D58","v":0},{"$f":"EmpDetail!J58","v":0},{"$f":"EmpDetail!K58","v":0}]
[null,"Øekad&",{"$f":"Master!H3&Master!I3&Master!J3&Master!E3&\"/\"","v":"राउमावि/चौगाई/संस्था/2021-22/"},null,null,null,null,"fnukad&","fnukad&",{"$f":"TODAY()","v":"2021-06-19"},{"$f":"EmpDetail!A59","v":56},{"$f":"EmpDetail!B59","v":0},{"$f":"EmpDetail!C59","v":0},{"$f":"EmpDetail!D59","v":0},{"$f":"EmpDetail!J59","v":0},{"$f":"EmpDetail!K59","v":0}]
[null,null,"izfrfyfi lwpukFkZ ,oa ikyukFkZ",null,null,null,null,null,null,null,{"$f":"EmpDetail!A60","v":57},{"$f":"EmpDetail!B60","v":0},{"$f":"EmpDetail!C60","v":0},{"$f":"EmpDetail!D60","v":0},{"$f":"EmpDetail!J60","v":0},{"$f":"EmpDetail!K60","v":0}]
[null,1,"dks\"kkf/kdkjh@mi dks\"kkf/kdkjh",{"$f":"Master!H4","v":"पीपलू"},null,null,null,null,null,null,{"$f":"EmpDetail!A61","v":58},{"$f":"EmpDetail!B61","v":0},{"$f":"EmpDetail!C61","v":0},{"$f":"EmpDetail!D61","v":0},{"$f":"EmpDetail!J61","v":0},{"$f":"EmpDetail!K61","v":0}]
[null,2,"ys[kk 'kk[kk LFkkuh; dk;kZy;",null,null,null,null,null,null,null,{"$f":"EmpDetail!A62","v":59},{"$f":"EmpDetail!B62","v":0},{"$f":"EmpDetail!C62","v":0},{"$f":"EmpDetail!D62","v":0},{"$f":"EmpDetail!J62","v":0},{"$f":"EmpDetail!K62","v":0}]
[null,3,"dkfeZd O;fDrxr iaftdk",null,null,null,null,null,null,null,{"$f":"EmpDetail!A63","v":60},{"$f":"EmpDetail!B63","v":0},{"$f":"EmpDetail!C63","v":0},{"$f":"EmpDetail!D63","v":0},{"$f":"EmpDetail!J63","v":0},{"$f":"EmpDetail!K63","v":0}]
[null,4,"lEcfU/kr dkfeZd",null,null,null,null,null,{"$f":"I60","v":"प्रधानाचार्य"},null,{"$f":"EmpDetail!A64","v":61},{"$f":"EmpDetail!B64","v":0},{"$f":"EmpDetail!C64","v":0},{"$f":"EmpDetail!D64","v":0},{"$f":"EmpDetail!J64","v":0},{"$f":"EmpDetail!K64","v":0}]
[null,null,null,null,null,null,null,null,{"$f":"I61","v":"राजकीय उच्च माध्यमिक विद्यालय "},null,{"$f":"EmpDetail!A65","v":62},{"$f":"EmpDetail!B65","v":0},{"$f":"EmpDetail!C65","v":0},{"$f":"EmpDetail!D65","v":0},{"$f":"EmpDetail!J65","v":0},{"$f":"EmpDetail!K65","v":0}]
[null,null,null,null,null,null,null,null,{"$f":"I62","v":"चौगाई]टोंक"},null,{"$f":"EmpDetail!A66","v":63},{"$f":"EmpDetail!B66","v":0},{"$f":"EmpDetail!C66","v":0},{"$f":"EmpDetail!D66","v":0},{"$f":"EmpDetail!J66","v":0},{"$f":"EmpDetail!K66","v":0}]
[null,null,null,null,null,null,null,null,null,null,{"$f":"EmpDetail!A67","v":64},{"$f":"EmpDetail!B67","v":0},{"$f":"EmpDetail!C67","v":0},{"$f":"EmpDetail!D67","v":0},{"$f":"EmpDetail!J67","v":0},{"$f":"EmpDetail!K67","v":0}]
[null,null,null,null,null,null,null,null,null,null,{"$f":"EmpDetail!A68","v":65},{"$f":"EmpDetail!B68","v":0},{"$f":"EmpDetail!C68","v":0},{"$f":"EmpDetail!D68","v":0},{"$f":"EmpDetail!J68","v":0},{"$f":"EmpDetail!K68","v":0}]
[null,null,null,null,null,null,null,null,null,null,{"$f":"EmpDetail!A69","v":66},{"$f":"EmpDetail!B69","v":0},{"$f":"EmpDetail!C69","v":0},{"$f":"EmpDetail!D69","v":0},{"$f":"EmpDetail!J69","v":0},{"$f":"EmpDetail!K69","v":0}]
[null,null,null,null,null,null,null,null,null,null,{"$f":"EmpDetail!A70","v":67},{"$f":"EmpDetail!B70","v":0},{"$f":"EmpDetail!C70","v":0},{"$f":"EmpDetail!D70","v":0},{"$f":"EmpDetail!J70","v":0},{"$f":"EmpDetail!K70","v":0}]
[null,null,null,null,null,null,null,null,null,null,{"$f":"EmpDetail!A71","v":68},{"$f":"EmpDetail!B71","v":0},{"$f":"EmpDetail!C71","v":0},{"$f":"EmpDetail!D71","v":0},{"$f":"EmpDetail!J71","v":0},{"$f":"EmpDetail!K71","v":0}]
[null,null,null,null,null,null,null,null,null,null,{"$f":"EmpDetail!A72","v":69},{"$f":"EmpDetail!B72","v":0},{"$f":"EmpDetail!C72","v":0},{"$f":"EmpDetail!D72","v":0},{"$f":"EmpDetail!J72","v":0},{"$f":"EmpDetail!K72","v":0}]
[null,null,null,null,null,null,null,null,null,null,{"$f":"EmpDetail!A73","v":70},{"$f":"EmpDetail!B73","v":0},{"$f":"EmpDetail!C73","v":0},{"$f":"EmpDetail!D73","v":0},{"$f":"EmpDetail!J73","v":0},{"$f":"EmpDetail!K73","v":0}]
[null,null,null,null,null,null,null,null,null,null,{"$f":"EmpDetail!A74","v":71},{"$f":"EmpDetail!B74","v":0},{"$f":"EmpDetail!C74","v":0},{"$f":"EmpDetail!D74","v":0},{"$f":"EmpDetail!J74","v":0},{"$f":"EmpDetail!K74","v":0}]
[null,null,null,null,null,null,null,null,null,null,{"$f":"EmpDetail!A75","v":72},{"$f":"EmpDetail!B75","v":0},{"$f":"EmpDetail!C75","v":0},{"$f":"EmpDetail!D75","v":0},{"$f":"EmpDetail!J75","v":0},{"$f":"EmpDetail!K75","v":0}]
[null,null,null,null,null,null,null,null,null,null,{"$f":"EmpDetail!A76","v":73},{"$f":"EmpDetail!B76","v":0},{"$f":"EmpDetail!C76","v":0},{"$f":"EmpDetail!D76","v":0},{"$f":"EmpDetail!J76","v":0},{"$f":"EmpDetail!K76","v":0}]
[null,null,null,null,null,null,null,null,null,null,{"$f":"EmpDetail!A77","v":74},{"$f":"EmpDetail!B77","v":0},{"$f":"EmpDetail!C77","v":0},{"$f":"EmpDetail!D77","v":0},{"$f":"EmpDetail!J77","v":0},{"$f":"EmpDetail!K77","v":0}]
[null,null,null,null,null,null,null,null,null,null,{"$f":"EmpDetail!A78","v":75},{"$f":"EmpDetail!B78","v":0},{"$f":"EmpDetail!C78","v":0},{"$f":"EmpDetail!D78","v":0},{"$f":"EmpDetail!J78","v":0},{"$f":"EmpDetail!K78","v":0}]
[null,null,null,null,null,null,null,null,null,null,{"$f":"EmpDetail!A79","v":76},{"$f":"EmpDetail!B79","v":0},{"$f":"EmpDetail!C79","v":0},{"$f":"EmpDetail!D79","v":0},{"$f":"EmpDetail!J79","v":0},{"$f":"EmpDetail!K79","v":0}]
[null,null,null,null,null,null,null,null,null,null,{"$f":"EmpDetail!A80","v":77},{"$f":"EmpDetail!B80","v":0},{"$f":"EmpDetail!C80","v":0},{"$f":"EmpDetail!D80","v":0},{"$f":"EmpDetail!J80","v":0},{"$f":"EmpDetail!K80","v":0}]
[null,null,null,null,null,null,null,null,null,null,{"$f":"EmpDetail!A81","v":78},{"$f":"EmpDetail!B81","v":0},{"$f":"EmpDetail!C81","v":0},{"$f":"EmpDetail!D81","v":0},{"$f":"EmpDetail!J81","v":0},{"$f":"EmpDetail!K81","v":0}]
[null,null,null,null,null,null,null,null,null,null,{"$f":"EmpDetail!A82","v":79},{"$f":"EmpDetail!B82","v":0},{"$f":"EmpDetail!C82","v":0},{"$f":"EmpDetail!D82","v":0},{"$f":"EmpDetail!J82","v":0},{"$f":"EmpDetail!K82","v":0}]
[null,null,null,null,null,null,null,null,null,null,{"$f":"EmpDetail!A83","v":80},{"$f":"EmpDetail!B83","v":0},{"$f":"EmpDetail!C83","v":0},{"$f":"EmpDetail!D83","v":0},{"$f":"EmpDetail!J83","v":0},{"$f":"EmpDetail!K83","v":0}]
[null,null,null,null,null,null,null,null,null,null,{"$f":"EmpDetail!A84","v":81},{"$f":"EmpDetail!B84","v":0},{"$f":"EmpDetail!C84","v":0},{"$f":"EmpDetail!D84","v":0},{"$f":"EmpDetail!J84","v":0},{"$f":"EmpDetail!K84","v":0}]
[null,null,null,null,null,null,null,null,null,null,{"$f":"EmpDetail!A85","v":82},{"$f":"EmpDetail!B85","v":0},{"$f":"EmpDetail!C85","v":0},{"$f":"EmpDetail!D85","v":0},{"$f":"EmpDetail!J85","v":0},{"$f":"EmpDetail!K85","v":0}]
[null,null,null,null,null,null,null,null,null,null,{"$f":"EmpDetail!A86","v":83},{"$f":"EmpDetail!B86","v":0},{"$f":"EmpDetail!C86","v":0},{"$f":"EmpDetail!D86","v":0},{"$f":"EmpDetail!J86","v":0},{"$f":"EmpDetail!K86","v":0}]
[null,null,null,null,null,null,null,null,null,null,{"$f":"EmpDetail!A87","v":84},{"$f":"EmpDetail!B87","v":0},{"$f":"EmpDetail!C87","v":0},{"$f":"EmpDetail!D87","v":0},{"$f":"EmpDetail!J87","v":0},{"$f":"EmpDetail!K87","v":0}]
[null,null,null,null,null,null,null,null,null,null,{"$f":"EmpDetail!A88","v":85},{"$f":"EmpDetail!B88","v":0},{"$f":"EmpDetail!C88","v":0},{"$f":"EmpDetail!D88","v":0},{"$f":"EmpDetail!J88","v":0},{"$f":"EmpDetail!K88","v":0}]
[null,null,null,null,null,null,null,null,null,null,{"$f":"EmpDetail!A89","v":86},{"$f":"EmpDetail!B89","v":0},{"$f":"EmpDetail!C89","v":0},{"$f":"EmpDetail!D89","v":0},{"$f":"EmpDetail!J89","v":0},{"$f":"EmpDetail!K89","v":0}]
[null,null,null,null,null,null,null,null,null,null,{"$f":"EmpDetail!A90","v":87},{"$f":"EmpDetail!B90","v":0},{"$f":"EmpDetail!C90","v":0},{"$f":"EmpDetail!D90","v":0},{"$f":"EmpDetail!J90","v":0},{"$f":"EmpDetail!K90","v":0}]
[null,null,null,null,null,null,null,null,null,null,{"$f":"EmpDetail!A91","v":88},{"$f":"EmpDetail!B91","v":0},{"$f":"EmpDetail!C91","v":0},{"$f":"EmpDetail!D91","v":0},{"$f":"EmpDetail!J91","v":0},{"$f":"EmpDetail!K91","v":0}]
[null,null,null,null,null,null,null,null,null,null,{"$f":"EmpDetail!A92","v":89},{"$f":"EmpDetail!B92","v":0},{"$f":"EmpDetail!C92","v":0},{"$f":"EmpDetail!D92","v":0},{"$f":"EmpDetail!J92","v":0},{"$f":"EmpDetail!K92","v":0}]
[null,null,null,null,null,null,null,null,null,null,{"$f":"EmpDetail!A93","v":90},{"$f":"EmpDetail!B93","v":0},{"$f":"EmpDetail!C93","v":0},{"$f":"EmpDetail!D93","v":0},{"$f":"EmpDetail!J93","v":0},{"$f":"EmpDetail!K93","v":0}]
[null,null,null,null,null,null,null,null,null,null,{"$f":"EmpDetail!A94","v":91},{"$f":"EmpDetail!B94","v":0},{"$f":"EmpDetail!C94","v":0},{"$f":"EmpDetail!D94","v":0},{"$f":"EmpDetail!J94","v":0},{"$f":"EmpDetail!K94","v":0}]
[null,null,null,null,null,null,null,null,null,null,{"$f":"EmpDetail!A95","v":92},{"$f":"EmpDetail!B95","v":0},{"$f":"EmpDetail!C95","v":0},{"$f":"EmpDetail!D95","v":0},{"$f":"EmpDetail!J95","v":0},{"$f":"EmpDetail!K95","v":0}]
[null,null,null,null,null,null,null,null,null,null,{"$f":"EmpDetail!A96","v":93},{"$f":"EmpDetail!B96","v":0},{"$f":"EmpDetail!C96","v":0},{"$f":"EmpDetail!D96","v":0},{"$f":"EmpDetail!J96","v":0},{"$f":"EmpDetail!K96","v":0}]
[null,null,null,null,null,null,null,null,null,null,{"$f":"EmpDetail!A97","v":94},{"$f":"EmpDetail!B97","v":0},{"$f":"EmpDetail!C97","v":0},{"$f":"EmpDetail!D97","v":0},{"$f":"EmpDetail!J97","v":0},{"$f":"EmpDetail!K97","v":0}]
[null,null,null,null,null,null,null,null,null,null,{"$f":"EmpDetail!A98","v":95},{"$f":"EmpDetail!B98","v":0},{"$f":"EmpDetail!C98","v":0},{"$f":"EmpDetail!D98","v":0},{"$f":"EmpDetail!J98","v":0},{"$f":"EmpDetail!K98","v":0}]
[null,null,null,null,null,null,null,null,null,null,{"$f":"EmpDetail!A99","v":96},{"$f":"EmpDetail!B99","v":0},{"$f":"EmpDetail!C99","v":0},{"$f":"EmpDetail!D99","v":0},{"$f":"EmpDetail!J99","v":0},{"$f":"EmpDetail!K99","v":0}]
[null,null,null,null,null,null,null,null,null,null,{"$f":"EmpDetail!A100","v":97},{"$f":"EmpDetail!B100","v":0},{"$f":"EmpDetail!C100","v":0},{"$f":"EmpDetail!D100","v":0},{"$f":"EmpDetail!J100","v":0},{"$f":"EmpDetail!K100","v":0}]
[null,null,null,null,null,null,null,null,null,null,{"$f":"EmpDetail!A101","v":98},{"$f":"EmpDetail!B101","v":0},{"$f":"EmpDetail!C101","v":0},{"$f":"EmpDetail!D101","v":0},{"$f":"EmpDetail!J101","v":0},{"$f":"EmpDetail!K101","v":0}]
[null,null,null,null,null,null,null,null,null,null,{"$f":"EmpDetail!A102","v":99},{"$f":"EmpDetail!B102","v":0},{"$f":"EmpDetail!C102","v":0},{"$f":"EmpDetail!D102","v":0},{"$f":"EmpDetail!J102","v":0},{"$f":"EmpDetail!K102","v":0}]
[null,null,null,null,null,null,null,null,null,null,{"$f":"EmpDetail!A103","v":100},{"$f":"EmpDetail!B103","v":0},{"$f":"EmpDetail!C103","v":0},{"$f":"EmpDetail!D103","v":0},{"$f":"EmpDetail!J103","v":0},{"$f":"EmpDetail!K103","v":0}]

{"sheet":"AGI","index":9,"n_rows":107,"n_cols":19,"rows_kept":107,"cut":false,"hidden":true,"merged":[[1,3,1,6],[0,1,0,11],[2,1,2,11],[3,1,3,11],[4,1,4,11]]}
[null,{"$f":"Master!G2&Master!H2","v":"कार्यालय&राजकीय उच्च माध्यमिक विद्यालय ]चौगाई]टोंक"}]
[null,null,null,"lkef;d osru o`f) izek.k&i="]
[null,"jkT; ljdkj ds foRr foHkkx ds Order No.F.15(1)FD/Rules/2017 Dated: 30.10.2017 & Revised Order No.F.15(1)FD/Rules/2017 Dated: 09.12.2017 ds vuqlj.k esa bl dk;kZy;"]
[null,"ds v/khu dk;Zjr fuEu dkfeZdksa dks muds uke ds lEeq[k vafdr frfFk ls okf\"kZd osru o`f} Lohd`r dh tkdj rnuqlkj osru ,oa fu;ekuqlkj vU; HkRrs vkgfjr djus dh ,rn~}kjk Lohd`fr iznku "]
[null,"dh tkrh gS A osru o`f} tqykbZ ekg dh izFke rkjh[k dks dkfeZd ds vkdfLed vodk'k ds vfrfjDr vU; vodk'k ij gksus dh fLFkfr esa osru o`f} dk ykHk dk;Zxzg.k djus dh frfFk ls ns; gksxk A"]
["dkfeZd Ø0 la0 ntZ djsa","Ø-la-","uke dfeZd"," in uke","inLFkkiu LFkku","is eSfVªDl esa ysoy","orZeku osru","orZeku osru izkIr djus dh rkjh[k","okf\"kZd osru o`f) frfFk","Hkkoh osru","ih ih","fo'ks\"k fooj.k"]
[null,1,2,3,4,5,6,7,8,9,10,11,null,null,null,null,null,null,"NEXT PAY"]
[1,{"$f":"IF(C8=\"\",\"\",1)","v":1},{"$f":"IF(ISNA(VLOOKUP($A8,$M$8:$R$107,2,FALSE)),\"\",VLOOKUP($A8,$M$8:$R$107,2,FALSE))","v":"fd'ku yky cSjok"},{"$f":"IF(ISNA(VLOOKUP($A8,$M$8:$R$107,3,FALSE)),\"\",VLOOKUP($A8,$M$8:$R$107,3,FALSE))","v":"प्रधानाचार्य"},{"$f":"IF(ISNA(VLOOKUP($A8,$M$8:$R$107,4,FALSE)),\"\",VLOOKUP($A8,$M$8:$R$107,4,FALSE))","v":"राउमावि चौगाई"},{"$f":"IF(ISNA(VLOOKUP($A8,$M$8:$R$107,5,FALSE)),\"\",VLOOKUP($A8,$M$8:$R$107,5,FALSE))","v":"L-16"},{"$f":"IF(ISNA(VLOOKUP($A8,$M$8:$R$107,6,FALSE)),\"\",VLOOKUP($A8,$M$8:$R$107,6,FALSE))","v":95900},{"$f":"IF(AND(G8=\"\"),\"\",IF(G8<=0,\"\",(CONCATENATE(\"01-07-\",(YEAR(TODAY())-1)))))","v":"01-07-2020"},{"$f":"IF(AND(G8=\"\"),\"\",IF(G8<=0,\"\",(CONCATENATE(\"01-07-\",(YEAR(TODAY()))))))","v":"01-07-2021"},{"$f":"IF(AND(G8=\"\"),\"\",ROUND(ROUND(G8*3%,0),-2)+G8)","v":98800},"",null,1,{"$f":"EmpDetail!B4","v":"fd'ku yky cSjok"},{"$f":"EmpDetail!C4","v":"प्रधानाचार्य"},{"$f":"EmpDetail!D4","v":"राउमावि चौगाई"},{"$f":"EmpDetail!J4","v":"L-16"},{"$f":"EmpDetail!K4","v":95900}]
[2,{"$f":"IF(C9=\"\",\"\",B8+1)","v":2},{"$f":"IF(ISNA(VLOOKUP($A9,$M$8:$R$107,2,FALSE)),\"\",VLOOKUP($A9,$M$8:$R$107,2,FALSE))","v":"iwj.k pUn y{kdkj"},{"$f":"IF(ISNA(VLOOKUP($A9,$M$8:$R$107,3,FALSE)),\"\",VLOOKUP($A9,$M$8:$R$107,3,FALSE))","v":"व्याख्याता"},{"$f":"IF(ISNA(VLOOKUP($A9,$M$8:$R$107,4,FALSE)),\"\",VLOOKUP($A9,$M$8:$R$107,4,FALSE))","v":"राउमावि चौगाई"},{"$f":"IF(ISNA(VLOOKUP($A9,$M$8:$R$107,5,FALSE)),\"\",VLOOKUP($A9,$M$8:$R$107,5,FALSE))","v":"L-12"},{"$f":"IF(ISNA(VLOOKUP($A9,$M$8:$R$107,6,FALSE)),\"\",VLOOKUP($A9,$M$8:$R$107,6,FALSE))","v":56100},{"$f":"IF(AND(G9=\"\"),\"\",IF(G9<=0,\"\",(CONCATENATE(\"01-07-\",(YEAR(TODAY())-1)))))","v":"01-07-2020"},{"$f":"IF(AND(G9=\"\"),\"\",IF(G9<=0,\"\",(CONCATENATE(\"01-07-\",(YEAR(TODAY()))))))","v":"01-07-2021"},{"$f":"IF(AND(G9=\"\"),\"\",ROUND(ROUND(G9*3%,0),-2)+G9)","v":57800},"",null,2,{"$f":"EmpDetail!B5","v":"iwj.k pUn y{kdkj"},{"$f":"EmpDetail!C5","v":"व्याख्याता"},{"$f":"EmpDetail!D5","v":"राउमावि चौगाई"},{"$f":"EmpDetail!J5","v":"L-12"},{"$f":"EmpDetail!K5","v":56100}]
[3,{"$f":"IF(C10=\"\",\"\",B9+1)","v":3},"jktsUnz dqekj tSu","व्याख्याता","राउमावि चौगाई","L-12",63100,"01-07-2020","01-07-2021",65000,"",null,3,{"$f":"EmpDetail!B6","v":"jktsUnz dqekj tSu"},{"$f":"EmpDetail!C6","v":"व्याख्याता"},{"$f":"EmpDetail!D6","v":"राउमावि चौगाई"},{"$f":"EmpDetail!J6","v":"L-12"},{"$f":"EmpDetail!K6","v":63100}]
[4,4,"fd'ku yky cSjok","व्याख्याता","राउमावि चौगाई","L-12",54500,"01-07-2020","01-07-2021",56100,"",null,4,{"$f":"EmpDetail!B7","v":"fd'ku yky cSjok"},{"$f":"EmpDetail!C7","v":"व्याख्याता"},{"$f":"EmpDetail!D7","v":"राउमावि चौगाई"},{"$f":"EmpDetail!J7","v":"L-12"},{"$f":"EmpDetail!K7","v":54500}]
[5,5,"lR;ukjk;.k 'kekZ","वरिष्ठ अध्यापक","राउमावि चौगाई","L-13",71300,"01-07-2020","01-07-2021",73400,"",null,5,{"$f":"EmpDetail!B8","v":"lR;ukjk;.k 'kekZ"},{"$f":"EmpDetail!C8","v":"वरिष्ठ अध्यापक"},{"$f":"EmpDetail!D8","v":"राउमावि चौगाई"},{"$f":"EmpDetail!J8","v":"L-13"},{"$f":"EmpDetail!K8","v":71300}]
[6,6,"iq\"ik tSu","वरिष्ठ अध्यापक","राउमावि चौगाई","L-13",73400,"01-07-2020","01-07-2021",75600,"",null,6,{"$f":"EmpDetail!B9","v":"iq\"ik tSu"},{"$f":"EmpDetail!C9","v":"वरिष्ठ अध्यापक"},{"$f":"EmpDetail!D9","v":"राउमावि चौगाई"},{"$f":"EmpDetail!J9","v":"L-13"},{"$f":"EmpDetail!K9","v":73400}]
[7,7,"vk'kkjke eh.kk","वरिष्ठ अध्यापक","राउमावि चौगाई","L-11",52300,"01-07-2020","01-07-2021",53900,"",null,7,{"$f":"EmpDetail!B10","v":"vk'kkjke eh.kk"},{"$f":"EmpDetail!C10","v":"वरिष्ठ अध्यापक"},{"$f":"EmpDetail!D10","v":"राउमावि चौगाई"},{"$f":"EmpDetail!J10","v":"L-11"},{"$f":"EmpDetail!K10","v":52300}]
[8,8,"t;iky flag","वरिष्ठ अध्यापक","राउमावि चौगाई","L-12",63100,"01-07-2020","01-07-2021",65000,"",null,8,{"$f":"EmpDetail!B11","v":"t;iky flag"},{"$f":"EmpDetail!C11","v":"वरिष्ठ अध्यापक"},{"$f":"EmpDetail!D11","v":"राउमावि चौगाई"},{"$f":"EmpDetail!J11","v":"L-12"},{"$f":"EmpDetail!K11","v":63100}]
[9,9,"jkeizlkn jsxj","वरिष्ठ अध्यापक","राउमावि चौगाई","L-11",46500,"01-07-2020","01-07-2021",47900,"",null,9,{"$f":"EmpDetail!B12","v":"jkeizlkn jsxj"},{"$f":"EmpDetail!C12","v":"वरिष्ठ अध्यापक"},{"$f":"EmpDetail!D12","v":"राउमावि चौगाई"},{"$f":"EmpDetail!J12","v":"L-11"},{"$f":"EmpDetail!K12","v":46500}]
[10,10,"egsUnz dqekj tkV","शारीरिक शिक्षक","राउमावि चौगाई","L-12",61300,"01-07-2020","01-07-2021",63100,"",null,10,{"$f":"EmpDetail!B13","v":"egsUnz dqekj tkV"},{"$f":"EmpDetail!C13","v":"शारीरिक शिक्षक"},{"$f":"EmpDetail!D13","v":"राउमावि चौगाई"},{"$f":"EmpDetail!J13","v":"L-12"},{"$f":"EmpDetail!K13","v":61300}]
[11,11,"NksVw yky jsxj","अध्यापक ग्रेड III","राउमावि चौगाई","L-13",65200,"01-07-2020","01-07-2021",67200,"",null,11,{"$f":"EmpDetail!B14","v":"NksVw yky jsxj"},{"$f":"EmpDetail!C14","v":"अध्यापक ग्रेड III"},{"$f":"EmpDetail!D14","v":"राउमावि चौगाई"},{"$f":"EmpDetail!J14","v":"L-13"},{"$f":"EmpDetail!K14","v":65200}]
[12,12,"dUgS;k yky egkoj","अध्यापक ग्रेड III","राउमावि चौगाई","L-13",65200,"01-07-2020","01-07-2021",67200,"",null,12,{"$f":"EmpDetail!B15","v":"dUgS;k yky egkoj"},{"$f":"EmpDetail!C15","v":"अध्यापक ग्रेड III"},{"$f":"EmpDetail!D15","v":"राउमावि चौगाई"},{"$f":"EmpDetail!J15","v":"L-13"},{"$f":"EmpDetail!K15","v":65200}]
[13,13,"prqHkqZt tkV","अध्यापक ग्रेड III","राउमावि चौगाई","L-11",52300,"01-07-2020","01-07-2021",53900,"",null,13,{"$f":"EmpDetail!B16","v":"prqHkqZt tkV"},{"$f":"EmpDetail!C16","v":"अध्यापक ग्रेड III"},{"$f":"EmpDetail!D16","v":"राउमावि चौगाई"},{"$f":"EmpDetail!J16","v":"L-11"},{"$f":"EmpDetail!K16","v":52300}]
[15,14,"lq'khyk cSjok","कनिष्ठ सहायक","राउमावि चौगाई","L-5",14600,{"$f":"IF(AND(G21=\"\"),\"\",IF(G21<=0,\"\",(CONCATENATE(\"01-07-\",(YEAR(TODAY())-1)))))","v":"01-07-2020"},{"$f":"IF(AND(G21=\"\"),\"\",IF(G21<=0,\"\",(CONCATENATE(\"01-07-\",(YEAR(TODAY()))))))","v":"01-07-2021"},15000,"",null,14,{"$f":"EmpDetail!B17","v":"vklsQk [kku"},{"$f":"EmpDetail!C17","v":"अध्यापक ग्रेड III"},{"$f":"EmpDetail!D17","v":"राउमावि चौगाई"},{"$f":"EmpDetail!J17","v":"L-11"},{"$f":"EmpDetail!K17","v":52300}]
[null,"","","","","","","","","",null,null,15,{"$f":"EmpDetail!B18","v":"lq'khyk cSjok"},{"$f":"EmpDetail!C18","v":"कनिष्ठ सहायक"},{"$f":"EmpDetail!D18","v":"राउमावि चौगाई"},{"$f":"EmpDetail!J18","v":"L-5"},{"$f":"EmpDetail!K18","v":14600}]
[null,"","","","","","","","","",null,null,16,{"$f":"EmpDetail!B19","v":"txnh'k izlkn rsyh"},{"$f":"EmpDetail!C19","v":"सहायक कर्मचारी"},{"$f":"EmpDetail!D19","v":"राउमावि चौगाई"},{"$f":"EmpDetail!J19","v":"L-5"},{"$f":"EmpDetail!K19","v":34700}]
[null,"","","","","","","","","",null,null,17,{"$f":"EmpDetail!B20","v":"jfoUnz dqekj tSu"},{"$f":"EmpDetail!C20","v":"अध्यापक ग्रेड III"},{"$f":"EmpDetail!D20","v":"राउप्रावि मोहिनी"},{"$f":"EmpDetail!J20","v":"L-12"},{"$f":"EmpDetail!K20","v":65200}]
[null,"","","","","","","","","",null,null,18,{"$f":"EmpDetail!B21","v":" ';ke lqUnj ckxkSM"},{"$f":"EmpDetail!C21","v":"अध्यापक ग्रेड III"},{"$f":"EmpDetail!D21","v":"राउप्रावि मोहिनी"},{"$f":"EmpDetail!J21","v":"L-10"},{"$f":"EmpDetail!K21","v":40300}]
[null,"","","","","","","","","",null,null,19,{"$f":"EmpDetail!B22","v":"d`\".kk 'kekZ"},{"$f":"EmpDetail!C22","v":"प्रबोधक"},{"$f":"EmpDetail!D22","v":"राउप्रावि मोहिनी"},{"$f":"EmpDetail!J22","v":"L-11"},{"$f":"EmpDetail!K22","v":45100}]
[null,"","","","","","","","","",null,null,20,{"$f":"EmpDetail!B23","v":"/keZsUnz pkS/kjh"},{"$f":"EmpDetail!C23","v":"अध्यापक ग्रेड III"},{"$f":"EmpDetail!D23","v":"राउप्रावि गोरधनपुरा"},{"$f":"EmpDetail!J23","v":"L-10"},{"$f":"EmpDetail!K23","v":40300}]
[null,"","","","","","","","","",null,null,21,{"$f":"EmpDetail!B24","v":"izgykn ekyh"},{"$f":"EmpDetail!C24","v":"प्रबोधक"},{"$f":"EmpDetail!D24","v":"राउप्रावि गोरधनपुरा"},{"$f":"EmpDetail!J24","v":"L-11"},{"$f":"EmpDetail!K24","v":46500}]
[null,"","","","","","","","","",null,null,22,{"$f":"EmpDetail!B25","v":"jken;ky xqtZj"},{"$f":"EmpDetail!C25","v":"प्रबोधक"},{"$f":"EmpDetail!D25","v":"राउप्रावि सोंदीफल"},{"$f":"EmpDetail!J25","v":"L-11"},{"$f":"EmpDetail!K25","v":45100}]
[null,"","","","","","","","","",null,null,23,{"$f":"EmpDetail!B26","v":"vkSeizdk'k tkV"},{"$f":"EmpDetail!C26","v":"अध्यापक ग्रेड III"},{"$f":"EmpDetail!D26","v":"राउप्रावि सोंदीफल"},{"$f":"EmpDetail!J26","v":"L-11"},{"$f":"EmpDetail!K26","v":45100}]
[null,"","","","","","","","","",null,null,24,{"$f":"EmpDetail!B27","v":"vthr flag"},{"$f":"EmpDetail!C27","v":"अध्यापक ग्रेड III"},{"$f":"EmpDetail!D27","v":"राप्रावि जानकीवल्लभपुरा"},{"$f":"EmpDetail!J27","v":"L-10"},{"$f":"EmpDetail!K27","v":40300}]
[null,"","","","","","","","","",null,null,25,{"$f":"EmpDetail!B28","v":"eq[rkj eha;k"},{"$f":"EmpDetail!C28","v":"प्रबोधक"},{"$f":"EmpDetail!D28","v":"राप्रावि जानकीवल्लभपुरा"},{"$f":"EmpDetail!J28","v":"L-11"},{"$f":"EmpDetail!K28","v":45100}]
[null,"","","","","","","","","",null,null,26,{"$f":"EmpDetail!B29","v":"eks0 tehy "},{"$f":"EmpDetail!C29","v":"प्रबोधक"},{"$f":"EmpDetail!D29","v":"राप्रावि रसूलपुरा"},{"$f":"EmpDetail!J29","v":"L-11"},{"$f":"EmpDetail!K29","v":45100}]
[null,"","","","","","","","","",null,null,27,{"$f":"EmpDetail!B30","v":"lkaojey tkV"},{"$f":"EmpDetail!C30","v":"अध्यापक ग्रेड III"},{"$f":"EmpDetail!D30","v":"राप्रावि रसूलपुरा"},{"$f":"EmpDetail!J30","v":"L-10"},{"$f":"EmpDetail!K30","v":38000}]
[null,"","","","","","","","","",null,null,28,{"$f":"EmpDetail!B31","v":"pkS/kjh eksuk jkekorkj"},{"$f":"EmpDetail!C31","v":"अध्यापक ग्रेड III"},{"$f":"EmpDetail!D31","v":"राप्रावि मोहिनी ढाणी बाढ"},{"$f":"EmpDetail!J31","v":"L-10"},{"$f":"EmpDetail!K31","v":38000}]
[null,"","","","","","","","","",null,null,29,{"$f":"EmpDetail!B32","v":"rkjkpUn tk;loky"},{"$f":"EmpDetail!C32","v":"प्रबोधक"},{"$f":"EmpDetail!D32","v":"राप्रावि मोहिनी ढाणी बाढ"},{"$f":"EmpDetail!J32","v":"L-11"},{"$f":"EmpDetail!K32","v":41300}]
[null,"","","","","","","","","",null,null,30,{"$f":"EmpDetail!B33","v":"jketl ;kno"},{"$f":"EmpDetail!C33","v":"अध्यापक ग्रेड III"},{"$f":"EmpDetail!D33","v":"राप्रावि बैरवा ढाणी सोन्दीफल"},{"$f":"EmpDetail!J33","v":"L-12"},{"$f":"EmpDetail!K33","v":63100}]
[null,"","","","","","","","","",null,null,31,{"$f":"EmpDetail!B34","v":"dtksMey eh.kk"},{"$f":"EmpDetail!C34","v":"अध्यापक ग्रेड III"},{"$f":"EmpDetail!D34","v":"राप्रावि बैरवा ढाणी सोन्दीफल"},{"$f":"EmpDetail!J34","v":"L-10"},{"$f":"EmpDetail!K34","v":38000}]
[null,"","","","","","","","","",null,null,32,{"$f":"EmpDetail!B35","v":"/kaut; xkSRre"},{"$f":"EmpDetail!C35","v":"अध्यापक ग्रेड III"},{"$f":"EmpDetail!D35","v":"राउप्रावि गोरधनपुरा"},{"$f":"EmpDetail!J35","v":"L-10"},{"$f":"EmpDetail!K35","v":34800}]
[null,"","","","","","","","","",null,null,33,{"$f":"EmpDetail!B36","v":"d`\".kk xaxoky"},{"$f":"EmpDetail!C36","v":"अध्यापक ग्रेड III"},{"$f":"EmpDetail!D36","v":"राउप्रावि गोरधनपुरा"},{"$f":"EmpDetail!J36","v":"L-10"},{"$f":"EmpDetail!K36","v":33800}]
[null,"","","","","","","","","",null,null,34,{"$f":"EmpDetail!B37","v":"n'kjFk dqekj ;kno"},{"$f":"EmpDetail!C37","v":"अध्यापक ग्रेड III"},{"$f":"EmpDetail!D37","v":"राउप्रावि सोंदीफल"},{"$f":"EmpDetail!J37","v":"L-10"},{"$f":"EmpDetail!K37","v":23700}]
[null,"","","","","","","","","",null,null,35,{"$f":"EmpDetail!B38","v":"d`\".k yky tkV"},{"$f":"EmpDetail!C38","v":"अध्यापक ग्रेड III"},{"$f":"EmpDetail!D38","v":"राउप्रावि सोंदीफल"},{"$f":"EmpDetail!J38","v":"L-10"},{"$f":"EmpDetail!K38","v":33800}]
[null,"","","","","","","","","",null,null,36,{"$f":"EmpDetail!B39","v":"nhisUnz dqekj iztkir"},{"$f":"EmpDetail!C39","v":"अध्यापक ग्रेड III"},{"$f":"EmpDetail!D39","v":"राउप्रावि सोंदीफल"},{"$f":"EmpDetail!J39","v":"L-10"},{"$f":"EmpDetail!K39","v":33800}]
[null,"","","","","","","","","",null,null,37,{"$f":"EmpDetail!B40","v":"uohu dqekj"},{"$f":"EmpDetail!C40","v":"अध्यापक ग्रेड III"},{"$f":"EmpDetail!D40","v":"राउप्रावि मोहिनी"},{"$f":"EmpDetail!J40","v":"L-10"},{"$f":"EmpDetail!K40","v":33800}]
[null,"","","","","","","","","",null,null,38,{"$f":"EmpDetail!B41","v":"ehrs'k dqekj 'kekZ"},{"$f":"EmpDetail!C41","v":"अध्यापक ग्रेड III"},{"$f":"EmpDetail!D41","v":"राउप्रावि मोहिनी"},{"$f":"EmpDetail!J41","v":"L-10"},{"$f":"EmpDetail!K41","v":34800}]
[null,"","","","","","","","","",null,null,39,{"$f":"EmpDetail!B42","v":"eUtw eh.kk"},{"$f":"EmpDetail!C42","v":"वरिष्ठ अध्यापक"},{"$f":"EmpDetail!D42","v":"राउप्रावि गोरधनपुरा"},{"$f":"EmpDetail!J42","v":"L-10"},{"$f":"EmpDetail!K42","v":33800}]
[null,"","","","","","","","","",null,null,40,{"$f":"EmpDetail!B43","v":"eatw pkS/kjh"},{"$f":"EmpDetail!C43","v":"वरिष्ठ अध्यापक"},{"$f":"EmpDetail!D43","v":"राउप्रावि सोंदीफल"},{"$f":"EmpDetail!J43","v":"L-11"},{"$f":"EmpDetail!K43","v":26500}]
[null,"","","","","","","","","",null,null,41,{"$f":"EmpDetail!B44","v":0},{"$f":"EmpDetail!C44","v":0},{"$f":"EmpDetail!D44","v":0},{"$f":"EmpDetail!J44","v":0},{"$f":"EmpDetail!K44","v":0}]
[null,"","","","","","","","","",null,null,42,{"$f":"EmpDetail!B45","v":0},{"$f":"EmpDetail!C45","v":0},{"$f":"EmpDetail!D45","v":0},{"$f":"EmpDetail!J45","v":0},{"$f":"EmpDetail!K45","v":0}]
[null,"","","","","","","","","",null,null,43,{"$f":"EmpDetail!B46","v":0},{"$f":"EmpDetail!#REF!","v":{"$error":"#REF!"}},{"$f":"EmpDetail!#REF!","v":{"$error":"#REF!"}},{"$f":"EmpDetail!J46","v":0},{"$f":"EmpDetail!K46","v":0}]
[null,"","","","","","","","","",null,null,44,{"$f":"EmpDetail!B47","v":0},{"$f":"EmpDetail!C47","v":0},{"$f":"EmpDetail!D47","v":0},{"$f":"EmpDetail!J47","v":0},{"$f":"EmpDetail!K47","v":0}]
[null,"","","","","","","","","",null,null,45,{"$f":"EmpDetail!B48","v":0},{"$f":"EmpDetail!C48","v":0},{"$f":"EmpDetail!D48","v":0},{"$f":"EmpDetail!J48","v":0},{"$f":"EmpDetail!K48","v":0}]
[null,"","","","","","","","","",null,null,46,{"$f":"EmpDetail!B49","v":0},{"$f":"EmpDetail!C49","v":0},{"$f":"EmpDetail!D49","v":0},{"$f":"EmpDetail!J49","v":0},{"$f":"EmpDetail!K49","v":0}]
[null,"","","","","","","","","",null,null,47,{"$f":"EmpDetail!B50","v":0},{"$f":"EmpDetail!C50","v":0},{"$f":"EmpDetail!D50","v":0},{"$f":"EmpDetail!J50","v":0},{"$f":"EmpDetail!K50","v":0}]
[null,"","","","","","","","","",null,null,48,{"$f":"EmpDetail!B51","v":0},{"$f":"EmpDetail!C51","v":0},{"$f":"EmpDetail!D51","v":0},{"$f":"EmpDetail!J51","v":0},{"$f":"EmpDetail!K51","v":0}]
[null,"","","","","","","","","",null,null,49,{"$f":"EmpDetail!B52","v":0},{"$f":"EmpDetail!C52","v":0},{"$f":"EmpDetail!D52","v":0},{"$f":"EmpDetail!J52","v":0},{"$f":"EmpDetail!K52","v":0}]
[null,"","","","","","","","","",null,null,50,{"$f":"EmpDetail!B53","v":0},{"$f":"EmpDetail!C53","v":0},{"$f":"EmpDetail!D53","v":0},{"$f":"EmpDetail!J53","v":0},{"$f":"EmpDetail!K53","v":0}]
[null,null,"izekf.kr fd;k tkrk gS fd mijksDr dkfeZdksa esa ls fdlh Hkh dkfeZd }kjk ,sls fdlh vodk'k dk miHkksx ugha fd;k x;k gS ftlls mldh okf\"kZd osru o`f) izHkkfor gksrh gksA",null,null,null,null,null,null,null,null,null,51,{"$f":"EmpDetail!B54","v":0},{"$f":"EmpDetail!C54","v":0},{"$f":"EmpDetail!D54","v":0},{"$f":"EmpDetail!J54","v":0},{"$f":"EmpDetail!K54","v":0}]
[null,null,null,null,null,null,null,null,null,null,null,null,52,{"$f":"EmpDetail!B55","v":0},{"$f":"EmpDetail!C55","v":0},{"$f":"EmpDetail!D55","v":0},{"$f":"EmpDetail!J55","v":0},{"$f":"EmpDetail!K55","v":0}]
[null,null,null,null,null,null,null,null,null,{"$f":"Master!B2","v":"प्रधानाचार्य"},null,null,53,{"$f":"EmpDetail!B56","v":0},{"$f":"EmpDetail!C56","v":0},{"$f":"EmpDetail!D56","v":0},{"$f":"EmpDetail!J56","v":0},{"$f":"EmpDetail!K56","v":0}]
[null,null,null,null,null,null,null,null,null,{"$f":"Master!B3","v":"राजकीय उच्च माध्यमिक विद्यालय "},null,null,54,{"$f":"EmpDetail!B57","v":0},{"$f":"EmpDetail!C57","v":0},{"$f":"EmpDetail!D57","v":0},{"$f":"EmpDetail!J57","v":0},{"$f":"EmpDetail!K57","v":0}]
[null,null,null,null,null,null,null,null,null,{"$f":"Master!B4","v":"चौगाई]टोंक"},null,null,55,{"$f":"EmpDetail!B58","v":0},{"$f":"EmpDetail!C58","v":0},{"$f":"EmpDetail!D58","v":0},{"$f":"EmpDetail!J58","v":0},{"$f":"EmpDetail!K58","v":0}]
[null,"Øekad&",{"$f":"Master!H3&Master!I3&Master!J3&Master!E3&\"/\"","v":"राउमावि/चौगाई/संस्था/2021-22/"},null,null,null,null,null,null,null,"fnukad&",{"$f":"TODAY()","v":"2021-06-19"},56,{"$f":"EmpDetail!B59","v":0},{"$f":"EmpDetail!C59","v":0},{"$f":"EmpDetail!D59","v":0},{"$f":"EmpDetail!J59","v":0},{"$f":"EmpDetail!K59","v":0}]
[null,null,"izfrfyfi  lwpukFkZ ,oa ikyukFkZ",null,null,null,null,null,null,null,null,null,57,{"$f":"EmpDetail!B60","v":0},{"$f":"EmpDetail!C60","v":0},{"$f":"EmpDetail!D60","v":0},{"$f":"EmpDetail!J60","v":0},{"$f":"EmpDetail!K60","v":0}]
[null,1,"dks\"kkf/kdkjh@mi dks\"kkf/kdkjh",{"$f":"Master!H4","v":"पीपलू"},null,null,null,null,null,null,null,null,58,{"$f":"EmpDetail!B61","v":0},{"$f":"EmpDetail!C61","v":0},{"$f":"EmpDetail!D61","v":0},{"$f":"EmpDetail!J61","v":0},{"$f":"EmpDetail!K61","v":0}]
[null,2,"ys[kk 'kk[kk LFkkuh; dk;kZy;",null,null,null,null,null,null,null,null,null,59,{"$f":"EmpDetail!B62","v":0},{"$f":"EmpDetail!C62","v":0},{"$f":"EmpDetail!D62","v":0},{"$f":"EmpDetail!J62","v":0},{"$f":"EmpDetail!K62","v":0}]
[null,3,"dkfeZd O;fDrxr iaftdk",null,null,null,null,null,null,null,null,null,60,{"$f":"EmpDetail!B63","v":0},{"$f":"EmpDetail!C63","v":0},{"$f":"EmpDetail!D63","v":0},{"$f":"EmpDetail!J63","v":0},{"$f":"EmpDetail!K63","v":0}]
[null,4,"lEcfU/kr dkfeZd",null,null,null,null,null,null,{"$f":"J60","v":"प्रधानाचार्य"},null,null,61,{"$f":"EmpDetail!B64","v":0},{"$f":"EmpDetail!C64","v":0},{"$f":"EmpDetail!D64","v":0},{"$f":"EmpDetail!J64","v":0},{"$f":"EmpDetail!K64","v":0}]
[null,null,null,null,null,null,null,null,null,{"$f":"J61","v":"राजकीय उच्च माध्यमिक विद्यालय "},null,null,62,{"$f":"EmpDetail!B65","v":0},{"$f":"EmpDetail!C65","v":0},{"$f":"EmpDetail!D65","v":0},{"$f":"EmpDetail!J65","v":0},{"$f":"EmpDetail!K65","v":0}]
[null,null,null,null,null,null,null,null,null,{"$f":"J62","v":"चौगाई]टोंक"},null,null,63,{"$f":"EmpDetail!B66","v":0},{"$f":"EmpDetail!C66","v":0},{"$f":"EmpDetail!D66","v":0},{"$f":"EmpDetail!J66","v":0},{"$f":"EmpDetail!K66","v":0}]
[null,null,null,null,null,null,null,null,null,null,null,null,64,{"$f":"EmpDetail!B67","v":0},{"$f":"EmpDetail!C67","v":0},{"$f":"EmpDetail!D67","v":0},{"$f":"EmpDetail!J67","v":0},{"$f":"EmpDetail!K67","v":0}]
[null,null,null,null,null,null,null,null,null,null,null,null,65,{"$f":"EmpDetail!B68","v":0},{"$f":"EmpDetail!C68","v":0},{"$f":"EmpDetail!D68","v":0},{"$f":"EmpDetail!J68","v":0},{"$f":"EmpDetail!K68","v":0}]
[null,null,null,null,null,null,null,null,null,null,null,null,66,{"$f":"EmpDetail!B69","v":0},{"$f":"EmpDetail!C69","v":0},{"$f":"EmpDetail!D69","v":0},{"$f":"EmpDetail!J69","v":0},{"$f":"EmpDetail!K69","v":0}]
[null,null,null,null,null,null,null,null,null,null,null,null,67,{"$f":"EmpDetail!B70","v":0},{"$f":"EmpDetail!C70","v":0},{"$f":"EmpDetail!D70","v":0},{"$f":"EmpDetail!J70","v":0},{"$f":"EmpDetail!K70","v":0}]
[null,null,null,null,null,null,null,null,null,null,null,null,68,{"$f":"EmpDetail!B71","v":0},{"$f":"EmpDetail!C71","v":0},{"$f":"EmpDetail!D71","v":0},{"$f":"EmpDetail!J71","v":0},{"$f":"EmpDetail!K71","v":0}]
[null,null,null,null,null,null,null,null,null,null,null,null,69,{"$f":"EmpDetail!B72","v":0},{"$f":"EmpDetail!C72","v":0},{"$f":"EmpDetail!D72","v":0},{"$f":"EmpDetail!J72","v":0},{"$f":"EmpDetail!K72","v":0}]
[null,null,null,null,null,null,null,null,null,null,null,null,70,{"$f":"EmpDetail!B73","v":0},{"$f":"EmpDetail!C73","v":0},{"$f":"EmpDetail!D73","v":0},{"$f":"EmpDetail!J73","v":0},{"$f":"EmpDetail!K73","v":0}]
[null,null,null,null,null,null,null,null,null,null,null,null,71,{"$f":"EmpDetail!B74","v":0},{"$f":"EmpDetail!C74","v":0},{"$f":"EmpDetail!D74","v":0},{"$f":"EmpDetail!J74","v":0},{"$f":"EmpDetail!K74","v":0}]
[null,null,null,null,null,null,null,null,null,null,null,null,72,{"$f":"EmpDetail!B75","v":0},{"$f":"EmpDetail!C75","v":0},{"$f":"EmpDetail!D75","v":0},{"$f":"EmpDetail!J75","v":0},{"$f":"EmpDetail!K75","v":0}]
[null,null,null,null,null,null,null,null,null,null,null,null,73,{"$f":"EmpDetail!B76","v":0},{"$f":"EmpDetail!C76","v":0},{"$f":"EmpDetail!D76","v":0},{"$f":"EmpDetail!J76","v":0},{"$f":"EmpDetail!K76","v":0}]
[null,null,null,null,null,null,null,null,null,null,null,null,74,{"$f":"EmpDetail!B77","v":0},{"$f":"EmpDetail!C77","v":0},{"$f":"EmpDetail!D77","v":0},{"$f":"EmpDetail!J77","v":0},{"$f":"EmpDetail!K77","v":0}]
[null,null,null,null,null,null,null,null,null,null,null,null,75,{"$f":"EmpDetail!B78","v":0},{"$f":"EmpDetail!C78","v":0},{"$f":"EmpDetail!D78","v":0},{"$f":"EmpDetail!J78","v":0},{"$f":"EmpDetail!K78","v":0}]
[null,null,null,null,null,null,null,null,null,null,null,null,76,{"$f":"EmpDetail!B79","v":0},{"$f":"EmpDetail!C79","v":0},{"$f":"EmpDetail!D79","v":0},{"$f":"EmpDetail!J79","v":0},{"$f":"EmpDetail!K79","v":0}]
[null,null,null,null,null,null,null,null,null,null,null,null,77,{"$f":"EmpDetail!B80","v":0},{"$f":"EmpDetail!C80","v":0},{"$f":"EmpDetail!D80","v":0},{"$f":"EmpDetail!J80","v":0},{"$f":"EmpDetail!K80","v":0}]
[null,null,null,null,null,null,null,null,null,null,null,null,78,{"$f":"EmpDetail!B81","v":0},{"$f":"EmpDetail!C81","v":0},{"$f":"EmpDetail!D81","v":0},{"$f":"EmpDetail!J81","v":0},{"$f":"EmpDetail!K81","v":0}]
[null,null,null,null,null,null,null,null,null,null,null,null,79,{"$f":"EmpDetail!B82","v":0},{"$f":"EmpDetail!C82","v":0},{"$f":"EmpDetail!D82","v":0},{"$f":"EmpDetail!J82","v":0},{"$f":"EmpDetail!K82","v":0}]
[null,null,null,null,null,null,null,null,null,null,null,null,80,{"$f":"EmpDetail!B83","v":0},{"$f":"EmpDetail!C83","v":0},{"$f":"EmpDetail!D83","v":0},{"$f":"EmpDetail!J83","v":0},{"$f":"EmpDetail!K83","v":0}]
[null,null,null,null,null,null,null,null,null,null,null,null,81,{"$f":"EmpDetail!B84","v":0},{"$f":"EmpDetail!C84","v":0},{"$f":"EmpDetail!D84","v":0},{"$f":"EmpDetail!J84","v":0},{"$f":"EmpDetail!K84","v":0}]
[null,null,null,null,null,null,null,null,null,null,null,null,82,{"$f":"EmpDetail!B85","v":0},{"$f":"EmpDetail!C85","v":0},{"$f":"EmpDetail!D85","v":0},{"$f":"EmpDetail!J85","v":0},{"$f":"EmpDetail!K85","v":0}]
[null,null,null,null,null,null,null,null,null,null,null,null,83,{"$f":"EmpDetail!B86","v":0},{"$f":"EmpDetail!C86","v":0},{"$f":"EmpDetail!D86","v":0},{"$f":"EmpDetail!J86","v":0},{"$f":"EmpDetail!K86","v":0}]
[null,null,null,null,null,null,null,null,null,null,null,null,84,{"$f":"EmpDetail!B87","v":0},{"$f":"EmpDetail!C87","v":0},{"$f":"EmpDetail!D87","v":0},{"$f":"EmpDetail!J87","v":0},{"$f":"EmpDetail!K87","v":0}]
[null,null,null,null,null,null,null,null,null,null,null,null,85,{"$f":"EmpDetail!B88","v":0},{"$f":"EmpDetail!C88","v":0},{"$f":"EmpDetail!D88","v":0},{"$f":"EmpDetail!J88","v":0},{"$f":"EmpDetail!K88","v":0}]
[null,null,null,null,null,null,null,null,null,null,null,null,86,{"$f":"EmpDetail!B89","v":0},{"$f":"EmpDetail!C89","v":0},{"$f":"EmpDetail!D89","v":0},{"$f":"EmpDetail!J89","v":0},{"$f":"EmpDetail!K89","v":0}]
[null,null,null,null,null,null,null,null,null,null,null,null,87,{"$f":"EmpDetail!B90","v":0},{"$f":"EmpDetail!C90","v":0},{"$f":"EmpDetail!D90","v":0},{"$f":"EmpDetail!J90","v":0},{"$f":"EmpDetail!K90","v":0}]
[null,null,null,null,null,null,null,null,null,null,null,null,88,{"$f":"EmpDetail!B91","v":0},{"$f":"EmpDetail!C91","v":0},{"$f":"EmpDetail!D91","v":0},{"$f":"EmpDetail!J91","v":0},{"$f":"EmpDetail!K91","v":0}]
[null,null,null,null,null,null,null,null,null,null,null,null,89,{"$f":"EmpDetail!B92","v":0},{"$f":"EmpDetail!C92","v":0},{"$f":"EmpDetail!D92","v":0},{"$f":"EmpDetail!J92","v":0},{"$f":"EmpDetail!K92","v":0}]
[null,null,null,null,null,null,null,null,null,null,null,null,90,{"$f":"EmpDetail!B93","v":0},{"$f":"EmpDetail!C93","v":0},{"$f":"EmpDetail!D93","v":0},{"$f":"EmpDetail!J93","v":0},{"$f":"EmpDetail!K93","v":0}]
[null,null,null,null,null,null,null,null,null,null,null,null,91,{"$f":"EmpDetail!B94","v":0},{"$f":"EmpDetail!C94","v":0},{"$f":"EmpDetail!D94","v":0},{"$f":"EmpDetail!J94","v":0},{"$f":"EmpDetail!K94","v":0}]
[null,null,null,null,null,null,null,null,null,null,null,null,92,{"$f":"EmpDetail!B95","v":0},{"$f":"EmpDetail!C95","v":0},{"$f":"EmpDetail!D95","v":0},{"$f":"EmpDetail!J95","v":0},{"$f":"EmpDetail!K95","v":0}]
[null,null,null,null,null,null,null,null,null,null,null,null,93,{"$f":"EmpDetail!B96","v":0},{"$f":"EmpDetail!C96","v":0},{"$f":"EmpDetail!D96","v":0},{"$f":"EmpDetail!J96","v":0},{"$f":"EmpDetail!K96","v":0}]
[null,null,null,null,null,null,null,null,null,null,null,null,94,{"$f":"EmpDetail!B97","v":0},{"$f":"EmpDetail!C97","v":0},{"$f":"EmpDetail!D97","v":0},{"$f":"EmpDetail!J97","v":0},{"$f":"EmpDetail!K97","v":0}]
[null,null,null,null,null,null,null,null,null,null,null,null,95,{"$f":"EmpDetail!B98","v":0},{"$f":"EmpDetail!C98","v":0},{"$f":"EmpDetail!D98","v":0},{"$f":"EmpDetail!J98","v":0},{"$f":"EmpDetail!K98","v":0}]
[null,null,null,null,null,null,null,null,null,null,null,null,96,{"$f":"EmpDetail!B99","v":0},{"$f":"EmpDetail!C99","v":0},{"$f":"EmpDetail!D99","v":0},{"$f":"EmpDetail!J99","v":0},{"$f":"EmpDetail!K99","v":0}]
[null,null,null,null,null,null,null,null,null,null,null,null,97,{"$f":"EmpDetail!B100","v":0},{"$f":"EmpDetail!C100","v":0},{"$f":"EmpDetail!D100","v":0},{"$f":"EmpDetail!J100","v":0},{"$f":"EmpDetail!K100","v":0}]
[null,null,null,null,null,null,null,null,null,null,null,null,98,{"$f":"EmpDetail!B101","v":0},{"$f":"EmpDetail!C101","v":0},{"$f":"EmpDetail!D101","v":0},{"$f":"EmpDetail!J101","v":0},{"$f":"EmpDetail!K101","v":0}]
[null,null,null,null,null,null,null,null,null,null,null,null,99,{"$f":"EmpDetail!B102","v":0},{"$f":"EmpDetail!C102","v":0},{"$f":"EmpDetail!D102","v":0},{"$f":"EmpDetail!J102","v":0},{"$f":"EmpDetail!K102","v":0}]
[null,null,null,null,null,null,null,null,null,null,null,null,100,{"$f":"EmpDetail!B103","v":0},{"$f":"EmpDetail!C103","v":0},{"$f":"EmpDetail!D103","v":0},{"$f":"EmpDetail!J103","v":0},{"$f":"EmpDetail!K103","v":0}]

{"sheet":"ACP Pay","index":10,"n_rows":108,"n_cols":24,"rows_kept":108,"cut":false,"hidden":true,"merged":[[0,1,0,14],[3,12,3,13],[4,1,4,14],[5,1,5,14]]}
[null,{"$f":"Master!G2&Master!H2","v":"कार्यालय&राजकीय उच्च माध्यमिक विद्यालय ]चौगाई]टोंक"},null,null,null,null,null,null,null,null,null,null,null,null,null,null,null,null,null,null,null,null,null,"निदेशक माध्यमिक शिक्षा राजस्थान] बीकानेर के आदेश क्रमांक&"]
[null,null,null,null,null,null,null,"dk;kZy; vkns'k",null,null,null,null,null,null,null,null,null,null,null,null,null,null,null,"उप निदेशक माध्यमिक शिक्षा अजमेर]  के आदेश क्रमांक&"]
[null,null,null,null,null,null,null,null,null,null,null,null,null,null,null,null,null,null,null,null,null,null,null,"जिला शिक्षा अधिकारी माध्यमिक शिक्षा टोंक के आदेश क्रमांक&"]
[null,null,null,"जिला शिक्षा अधिकारी मुख्यालय माध्य0 शिक्षा टोंक के आदेश क्रमांक&","ftf'kv@eq@izk-f'k-@laLFkk&3@Vksad@2021@854&857",null,null,null,null,null,"fnukad&","2021-02-22","dh vuqikyuk esa",null,null,null,null,null,null,null,null,null,null,"जिला शिक्षा अधिकारी प्रारम्भिक शिक्षा टोंक के आदेश क्रमांक&"]
[null," fuEukafdr dkfeZdksa dks muds uke ds lEeq[k vafdr fooj.kkuqlkj jkT; ljdkj ds vkns'k dzekad& ,Q-15 ,Q-Mh-@:Yl@2017 fnukad&30-010--2017 o 09-12-2017 ds vuqlkj flfoy lsok iqujhf{kr osru eku 2017 ",null,null,null,null,null,null,null,null,null,null,null,null,null,null,null,null,null,null,null,null,null,"जिला शिक्षा अधिकारी मुख्यालय माध्य0 शिक्षा टोंक के आदेश क्रमांक&"]
[null,"ds fu;e 14 o 15 ds vuqlj.k esa vk'okflr dSfj;j izksxzs'ku Lohd`r fd;s tkus ij jktLFkku lsok fu;eksa ds fu;e 26 ,A ds vuqlkj.k esa osru fu/kkZj.k fuEukuqlkj fd;k tkrk gSA budh vkxkeh osru o`f) fnukad dkWye la[;k 13 esa vafdrkuqlkj jgsxh A",null,null,null,null,null,null,null,null,null,null,null,null,null,null,null,null,null,null,null,null,null,"श्रीमान जिला कलेक्टर महोदय भू अ टोंक के आदेश क्रमांक&"]
["dkfeZd Øe","Ø-la-","uke dfeZd"," in uke","inLFkkiu LFkku","fu;fer fu;qfä fnukad",",lhih 9]18 ;k 27",",lhih Lohd`fr fnukad","orZeku osru dk ysoy","orZeku osru","orZeku osru ij ,d osru o`f)",",lhih ij Lohd`r ysoy",",lhih ij fu/kkZfjr osru","vkxkeh osru o`f) frfFk","fo0fo0"]
[null,1,2,3,4,5,6,7,8,9,10,11,12,13,14]
[3,{"$f":"IF(C9=\"\",\"\",1)","v":1},{"$f":"IF(ISNA(VLOOKUP($A9,$P$9:$V$108,2,FALSE)),\"\",VLOOKUP($A9,$P$9:$V$108,2,FALSE))","v":"jktsUnz dqekj tSu"},{"$f":"IF(ISNA(VLOOKUP($A9,$P$9:$V$108,3,FALSE)),\"\",VLOOKUP($A9,$P$9:$V$108,3,FALSE))","v":"व्याख्याता"},{"$f":"IF(ISNA(VLOOKUP($A9,$P$9:$V$108,4,FALSE)),\"\",VLOOKUP($A9,$P$9:$V$108,4,FALSE))","v":"राउमावि चौगाई"},{"$f":"IF(ISNA(VLOOKUP($A9,$P$9:$V$108,5,FALSE)),\"\",VLOOKUP($A9,$P$9:$V$108,5,FALSE))","v":"00:00:00"},27,"2020-12-19",{"$f":"IF(ISNA(VLOOKUP($A9,$P$9:$V$108,6,FALSE)),\"\",VLOOKUP($A9,$P$9:$V$108,6,FALSE))","v":"L-12"},{"$f":"IF(ISNA(VLOOKUP($A9,$P$9:$V$108,7,FALSE)),\"\",VLOOKUP($A9,$P$9:$V$108,7,FALSE))","v":63100},{"$f":"IF(W9=\"\",\"\",W9)","v":1900},"L-13",65200,"2021-07-01","izFke fu;qfDr e/;kUg i'pkr",1,{"$f":"EmpDetail!B4","v":"fd'ku yky cSjok"},{"$f":"EmpDetail!C4","v":"प्रधानाचार्य"},{"$f":"EmpDetail!D4","v":"राउमावि चौगाई"},{"$f":"EmpDetail!F4","v":"00:00:00"},{"$f":"EmpDetail!J4","v":"L-16"},{"$f":"EmpDetail!K4","v":95900},{"$f":"IF(AND(J9=\"\"),\"\",ROUND(ROUND(J9*3%,0),-2))","v":1900}]
[null,{"$f":"IF(C10=\"\",\"\",B9+1)","v":""},{"$f":"IF(ISNA(VLOOKUP($A10,$P$9:$V$108,2,FALSE)),\"\",VLOOKUP($A10,$P$9:$V$108,2,FALSE))","v":""},{"$f":"IF(ISNA(VLOOKUP($A10,$P$9:$V$108,3,FALSE)),\"\",VLOOKUP($A10,$P$9:$V$108,3,FALSE))","v":""},{"$f":"IF(ISNA(VLOOKUP($A10,$P$9:$V$108,4,FALSE)),\"\",VLOOKUP($A10,$P$9:$V$108,4,FALSE))","v":""},{"$f":"IF(ISNA(VLOOKUP($A10,$P$9:$V$108,5,FALSE)),\"\",VLOOKUP($A10,$P$9:$V$108,5,FALSE))","v":""},null,null,{"$f":"IF(ISNA(VLOOKUP($A10,$P$9:$V$108,6,FALSE)),\"\",VLOOKUP($A10,$P$9:$V$108,6,FALSE))","v":""},{"$f":"IF(ISNA(VLOOKUP($A10,$P$9:$V$108,7,FALSE)),\"\",VLOOKUP($A10,$P$9:$V$108,7,FALSE))","v":""},{"$f":"IF(W10=\"\",\"\",W10)","v":""},null,null,null,null,2,{"$f":"EmpDetail!B5","v":"iwj.k pUn y{kdkj"},{"$f":"EmpDetail!C5","v":"व्याख्याता"},{"$f":"EmpDetail!D5","v":"राउमावि चौगाई"},{"$f":"EmpDetail!F5","v":"00:00:00"},{"$f":"EmpDetail!J5","v":"L-12"},{"$f":"EmpDetail!K5","v":56100},{"$f":"IF(AND(J10=\"\"),\"\",ROUND(ROUND(J10*3%,0),-2))","v":""}]
[null,{"$f":"IF(C11=\"\",\"\",B10+1)","v":""},"","","","",null,"","","","",null,"",null,"",3,{"$f":"EmpDetail!B6","v":"jktsUnz dqekj tSu"},{"$f":"EmpDetail!C6","v":"व्याख्याता"},{"$f":"EmpDetail!D6","v":"राउमावि चौगाई"},{"$f":"EmpDetail!F6","v":"00:00:00"},{"$f":"EmpDetail!J6","v":"L-12"},{"$f":"EmpDetail!K6","v":63100},""]
[null,"","","","","",null,"","","","",null,"",null,"",4,{"$f":"EmpDetail!B7","v":"fd'ku yky cSjok"},{"$f":"EmpDetail!C7","v":"व्याख्याता"},{"$f":"EmpDetail!D7","v":"राउमावि चौगाई"},{"$f":"EmpDetail!F7","v":"00:00:00"},{"$f":"EmpDetail!J7","v":"L-12"},{"$f":"EmpDetail!K7","v":54500},""]
[null,"","","","","",null,"","","","",null,"",null,"",5,{"$f":"EmpDetail!B8","v":"lR;ukjk;.k 'kekZ"},{"$f":"EmpDetail!C8","v":"वरिष्ठ अध्यापक"},{"$f":"EmpDetail!D8","v":"राउमावि चौगाई"},{"$f":"EmpDetail!F8","v":"00:00:00"},{"$f":"EmpDetail!J8","v":"L-13"},{"$f":"EmpDetail!K8","v":71300},""]
[null,"","","","","",null,"","","","",null,"",null,"",6,{"$f":"EmpDetail!B9","v":"iq\"ik tSu"},{"$f":"EmpDetail!C9","v":"वरिष्ठ अध्यापक"},{"$f":"EmpDetail!D9","v":"राउमावि चौगाई"},{"$f":"EmpDetail!F9","v":"00:00:00"},{"$f":"EmpDetail!J9","v":"L-13"},{"$f":"EmpDetail!K9","v":73400},""]
[null,"","","","","",null,"","","","",null,"",null,"",7,{"$f":"EmpDetail!B10","v":"vk'kkjke eh.kk"},{"$f":"EmpDetail!C10","v":"वरिष्ठ अध्यापक"},{"$f":"EmpDetail!D10","v":"राउमावि चौगाई"},{"$f":"EmpDetail!F10","v":"00:00:00"},{"$f":"EmpDetail!J10","v":"L-11"},{"$f":"EmpDetail!K10","v":52300},""]
[null,"","","","","",null,"","","","",null,"",null,"",8,{"$f":"EmpDetail!B11","v":"t;iky flag"},{"$f":"EmpDetail!C11","v":"वरिष्ठ अध्यापक"},{"$f":"EmpDetail!D11","v":"राउमावि चौगाई"},{"$f":"EmpDetail!F11","v":"00:00:00"},{"$f":"EmpDetail!J11","v":"L-12"},{"$f":"EmpDetail!K11","v":63100},""]
[null,"","","","","",null,"","","","",null,"",null,"",9,{"$f":"EmpDetail!B12","v":"jkeizlkn jsxj"},{"$f":"EmpDetail!C12","v":"वरिष्ठ अध्यापक"},{"$f":"EmpDetail!D12","v":"राउमावि चौगाई"},{"$f":"EmpDetail!F12","v":"00:00:00"},{"$f":"EmpDetail!J12","v":"L-11"},{"$f":"EmpDetail!K12","v":46500},""]
[null,null,null,null,null,null,null,null,null,null,null,null,null,null,null,10,{"$f":"EmpDetail!B13","v":"egsUnz dqekj tkV"},{"$f":"EmpDetail!C13","v":"शारीरिक शिक्षक"},{"$f":"EmpDetail!D13","v":"राउमावि चौगाई"},{"$f":"EmpDetail!F13","v":"00:00:00"},{"$f":"EmpDetail!J13","v":"L-12"},{"$f":"EmpDetail!K13","v":61300}]
[null,null,null,null,null,null,null,null,null,null,null,null,{"$f":"Master!B2","v":"प्रधानाचार्य"},null,null,11,{"$f":"EmpDetail!B14","v":"NksVw yky jsxj"},{"$f":"EmpDetail!C14","v":"अध्यापक ग्रेड III"},{"$f":"EmpDetail!D14","v":"राउमावि चौगाई"},{"$f":"EmpDetail!F14","v":"00:00:00"},{"$f":"EmpDetail!J14","v":"L-13"},{"$f":"EmpDetail!K14","v":65200}]
[null,null,null,null,null,null,null,null,null,null,null,null,{"$f":"Master!B3","v":"राजकीय उच्च माध्यमिक विद्यालय "},null,null,12,{"$f":"EmpDetail!B15","v":"dUgS;k yky egkoj"},{"$f":"EmpDetail!C15","v":"अध्यापक ग्रेड III"},{"$f":"EmpDetail!D15","v":"राउमावि चौगाई"},{"$f":"EmpDetail!F15","v":"00:00:00"},{"$f":"EmpDetail!J15","v":"L-13"},{"$f":"EmpDetail!K15","v":65200}]
[null,null,null,null,null,null,null,null,null,null,null,null,{"$f":"Master!B4","v":"चौगाई]टोंक"},null,null,13,{"$f":"EmpDetail!B16","v":"prqHkqZt tkV"},{"$f":"EmpDetail!C16","v":"अध्यापक ग्रेड III"},{"$f":"EmpDetail!D16","v":"राउमावि चौगाई"},{"$f":"EmpDetail!F16","v":"2005-04-13"},{"$f":"EmpDetail!J16","v":"L-11"},{"$f":"EmpDetail!K16","v":52300}]
[null,"Øekad&",{"$f":"Master!H3&Master!I3&Master!J3&Master!E3&\"/\"","v":"राउमावि/चौगाई/संस्था/2021-22/"},null,null,null,null,null,null,null,null,null,null,"fnukad&",{"$f":"TODAY()","v":"2021-06-19"},14,{"$f":"EmpDetail!B17","v":"vklsQk [kku"},{"$f":"EmpDetail!C17","v":"अध्यापक ग्रेड III"},{"$f":"EmpDetail!D17","v":"राउमावि चौगाई"},{"$f":"EmpDetail!F17","v":"00:00:00"},{"$f":"EmpDetail!J17","v":"L-11"},{"$f":"EmpDetail!K17","v":52300}]
[null,null,"izfrfyfi lwpukFkZ ,oa ikyukFkZ",null,null,null,null,null,null,null,null,null,null,null,null,15,{"$f":"EmpDetail!B18","v":"lq'khyk cSjok"},{"$f":"EmpDetail!C18","v":"कनिष्ठ सहायक"},{"$f":"EmpDetail!D18","v":"राउमावि चौगाई"},{"$f":"EmpDetail!F18","v":"00:00:00"},{"$f":"EmpDetail!J18","v":"L-5"},{"$f":"EmpDetail!K18","v":14600}]
[null,1,"dks\"kkf/kdkjh@mi dks\"kkf/kdkjh",{"$f":"Master!H4","v":"पीपलू"},null,null,null,null,null,null,null,null,null,null,null,16,{"$f":"EmpDetail!B19","v":"txnh'k izlkn rsyh"},{"$f":"EmpDetail!C19","v":"सहायक कर्मचारी"},{"$f":"EmpDetail!D19","v":"राउमावि चौगाई"},{"$f":"EmpDetail!F19","v":"00:00:00"},{"$f":"EmpDetail!J19","v":"L-5"},{"$f":"EmpDetail!K19","v":34700}]
[null,2,"ys[kk 'kk[kk LFkkuh; dk;kZy;",null,null,null,null,null,null,null,null,null,null,null,null,17,{"$f":"EmpDetail!B20","v":"jfoUnz dqekj tSu"},{"$f":"EmpDetail!C20","v":"अध्यापक ग्रेड III"},{"$f":"EmpDetail!D20","v":"राउप्रावि मोहिनी"},{"$f":"EmpDetail!F20","v":"00:00:00"},{"$f":"EmpDetail!J20","v":"L-12"},{"$f":"EmpDetail!K20","v":65200}]
[null,3,"dkfeZd O;fDrxr iaftdk",null,null,null,null,null,null,null,null,null,null,null,null,18,{"$f":"EmpDetail!B21","v":" ';ke lqUnj ckxkSM"},{"$f":"EmpDetail!C21","v":"अध्यापक ग्रेड III"},{"$f":"EmpDetail!D21","v":"राउप्रावि मोहिनी"},{"$f":"EmpDetail!F21","v":"00:00:00"},{"$f":"EmpDetail!J21","v":"L-10"},{"$f":"EmpDetail!K21","v":40300}]
[null,4,"lEcfU/kr dkfeZd",null,null,null,null,null,null,null,null,null,{"$f":"M19","v":"प्रधानाचार्य"},null,null,19,{"$f":"EmpDetail!B22","v":"d`\".kk 'kekZ"},{"$f":"EmpDetail!C22","v":"प्रबोधक"},{"$f":"EmpDetail!D22","v":"राउप्रावि मोहिनी"},{"$f":"EmpDetail!F22","v":"00:00:00"},{"$f":"EmpDetail!J22","v":"L-11"},{"$f":"EmpDetail!K22","v":45100}]
[null,null,null,null,null,null,null,null,null,null,null,null,{"$f":"M20","v":"राजकीय उच्च माध्यमिक विद्यालय "},null,null,20,{"$f":"EmpDetail!B23","v":"/keZsUnz pkS/kjh"},{"$f":"EmpDetail!C23","v":"अध्यापक ग्रेड III"},{"$f":"EmpDetail!D23","v":"राउप्रावि गोरधनपुरा"},{"$f":"EmpDetail!F23","v":"00:00:00"},{"$f":"EmpDetail!J23","v":"L-10"},{"$f":"EmpDetail!K23","v":40300}]
[null,null,null,null,null,null,null,null,null,null,null,null,{"$f":"M21","v":"चौगाई]टोंक"},null,null,21,{"$f":"EmpDetail!B24","v":"izgykn ekyh"},{"$f":"EmpDetail!C24","v":"प्रबोधक"},{"$f":"EmpDetail!D24","v":"राउप्रावि गोरधनपुरा"},{"$f":"EmpDetail!F24","v":"00:00:00"},{"$f":"EmpDetail!J24","v":"L-11"},{"$f":"EmpDetail!K24","v":46500}]
[null,null,null,null,null,null,null,null,null,null,null,null,null,null,null,22,{"$f":"EmpDetail!B25","v":"jken;ky xqtZj"},{"$f":"EmpDetail!C25","v":"प्रबोधक"},{"$f":"EmpDetail!D25","v":"राउप्रावि सोंदीफल"},{"$f":"EmpDetail!F25","v":"00:00:00"},{"$f":"EmpDetail!J25","v":"L-11"},{"$f":"EmpDetail!K25","v":45100}]
[null,null,null,null,null,null,null,null,null,null,null,null,null,null,null,23,{"$f":"EmpDetail!B26","v":"vkSeizdk'k tkV"},{"$f":"EmpDetail!C26","v":"अध्यापक ग्रेड III"},{"$f":"EmpDetail!D26","v":"राउप्रावि सोंदीफल"},{"$f":"EmpDetail!F26","v":"00:00:00"},{"$f":"EmpDetail!J26","v":"L-11"},{"$f":"EmpDetail!K26","v":45100}]
[null,null,null,null,null,null,null,null,null,null,null,null,null,null,null,24,{"$f":"EmpDetail!B27","v":"vthr flag"},{"$f":"EmpDetail!C27","v":"अध्यापक ग्रेड III"},{"$f":"EmpDetail!D27","v":"राप्रावि जानकीवल्लभपुरा"},{"$f":"EmpDetail!F27","v":"00:00:00"},{"$f":"EmpDetail!J27","v":"L-10"},{"$f":"EmpDetail!K27","v":40300}]
[null,null,null,null,null,null,null,null,null,null,null,null,null,null,null,25,{"$f":"EmpDetail!B28","v":"eq[rkj eha;k"},{"$f":"EmpDetail!C28","v":"प्रबोधक"},{"$f":"EmpDetail!D28","v":"राप्रावि जानकीवल्लभपुरा"},{"$f":"EmpDetail!F28","v":"00:00:00"},{"$f":"EmpDetail!J28","v":"L-11"},{"$f":"EmpDetail!K28","v":45100}]
[null,null,null,null,null,null,null,null,null,null,null,null,null,null,null,26,{"$f":"EmpDetail!B29","v":"eks0 tehy "},{"$f":"EmpDetail!C29","v":"प्रबोधक"},{"$f":"EmpDetail!D29","v":"राप्रावि रसूलपुरा"},{"$f":"EmpDetail!F29","v":"00:00:00"},{"$f":"EmpDetail!J29","v":"L-11"},{"$f":"EmpDetail!K29","v":45100}]
[null,null,null,null,null,null,null,null,null,null,null,null,null,null,null,27,{"$f":"EmpDetail!B30","v":"lkaojey tkV"},{"$f":"EmpDetail!C30","v":"अध्यापक ग्रेड III"},{"$f":"EmpDetail!D30","v":"राप्रावि रसूलपुरा"},{"$f":"EmpDetail!F30","v":"00:00:00"},{"$f":"EmpDetail!J30","v":"L-10"},{"$f":"EmpDetail!K30","v":38000}]
[null,null,null,null,null,null,null,null,null,null,null,null,null,null,null,28,{"$f":"EmpDetail!B31","v":"pkS/kjh eksuk jkekorkj"},{"$f":"EmpDetail!C31","v":"अध्यापक ग्रेड III"},{"$f":"EmpDetail!D31","v":"राप्रावि मोहिनी ढाणी बाढ"},{"$f":"EmpDetail!F31","v":"00:00:00"},{"$f":"EmpDetail!J31","v":"L-10"},{"$f":"EmpDetail!K31","v":38000}]
[null,null,null,null,null,null,null,null,null,null,null,null,null,null,null,29,{"$f":"EmpDetail!B32","v":"rkjkpUn tk;loky"},{"$f":"EmpDetail!C32","v":"प्रबोधक"},{"$f":"EmpDetail!D32","v":"राप्रावि मोहिनी ढाणी बाढ"},{"$f":"EmpDetail!F32","v":"00:00:00"},{"$f":"EmpDetail!J32","v":"L-11"},{"$f":"EmpDetail!K32","v":41300}]
[null,null,null,null,null,null,null,null,null,null,null,null,null,null,null,30,{"$f":"EmpDetail!B33","v":"jketl ;kno"},{"$f":"EmpDetail!C33","v":"अध्यापक ग्रेड III"},{"$f":"EmpDetail!D33","v":"राप्रावि बैरवा ढाणी सोन्दीफल"},{"$f":"EmpDetail!F33","v":"00:00:00"},{"$f":"EmpDetail!J33","v":"L-12"},{"$f":"EmpDetail!K33","v":63100}]
[null,null,null,null,null,null,null,null,null,null,null,null,null,null,null,31,{"$f":"EmpDetail!B34","v":"dtksMey eh.kk"},{"$f":"EmpDetail!C34","v":"अध्यापक ग्रेड III"},{"$f":"EmpDetail!D34","v":"राप्रावि बैरवा ढाणी सोन्दीफल"},{"$f":"EmpDetail!F34","v":"00:00:00"},{"$f":"EmpDetail!J34","v":"L-10"},{"$f":"EmpDetail!K34","v":38000}]
[null,null,null,null,null,null,null,null,null,null,null,null,null,null,null,32,{"$f":"EmpDetail!B35","v":"/kaut; xkSRre"},{"$f":"EmpDetail!C35","v":"अध्यापक ग्रेड III"},{"$f":"EmpDetail!D35","v":"राउप्रावि गोरधनपुरा"},{"$f":"EmpDetail!F35","v":"2018-04-03"},{"$f":"EmpDetail!J35","v":"L-10"},{"$f":"EmpDetail!K35","v":34800}]
[null,null,null,null,null,null,null,null,null,null,null,null,null,null,null,33,{"$f":"EmpDetail!B36","v":"d`\".kk xaxoky"},{"$f":"EmpDetail!C36","v":"अध्यापक ग्रेड III"},{"$f":"EmpDetail!D36","v":"राउप्रावि गोरधनपुरा"},{"$f":"EmpDetail!F36","v":"2018-12-21"},{"$f":"EmpDetail!J36","v":"L-10"},{"$f":"EmpDetail!K36","v":33800}]
[null,null,null,null,null,null,null,null,null,null,null,null,null,null,null,34,{"$f":"EmpDetail!B37","v":"n'kjFk dqekj ;kno"},{"$f":"EmpDetail!C37","v":"अध्यापक ग्रेड III"},{"$f":"EmpDetail!D37","v":"राउप्रावि सोंदीफल"},{"$f":"EmpDetail!F37","v":"2018-09-29"},{"$f":"EmpDetail!J37","v":"L-10"},{"$f":"EmpDetail!K37","v":23700}]
[null,null,null,null,null,null,null,null,null,null,null,null,null,null,null,35,{"$f":"EmpDetail!B38","v":"d`\".k yky tkV"},{"$f":"EmpDetail!C38","v":"अध्यापक ग्रेड III"},{"$f":"EmpDetail!D38","v":"राउप्रावि सोंदीफल"},{"$f":"EmpDetail!F38","v":"2018-10-02"},{"$f":"EmpDetail!J38","v":"L-10"},{"$f":"EmpDetail!K38","v":33800}]
[null,null,null,null,null,null,null,null,null,null,null,null,null,null,null,36,{"$f":"EmpDetail!B39","v":"nhisUnz dqekj iztkir"},{"$f":"EmpDetail!C39","v":"अध्यापक ग्रेड III"},{"$f":"EmpDetail!D39","v":"राउप्रावि सोंदीफल"},{"$f":"EmpDetail!F43","v":"2020-09-29"},{"$f":"EmpDetail!J39","v":"L-10"},{"$f":"EmpDetail!K39","v":33800}]
[null,null,null,null,null,null,null,null,null,null,null,null,null,null,null,37,{"$f":"EmpDetail!B40","v":"uohu dqekj"},{"$f":"EmpDetail!C40","v":"अध्यापक ग्रेड III"},{"$f":"EmpDetail!D40","v":"राउप्रावि मोहिनी"},{"$f":"EmpDetail!F42","v":"2018-09-28"},{"$f":"EmpDetail!J40","v":"L-10"},{"$f":"EmpDetail!K40","v":33800}]
[null,null,null,null,null,null,null,null,null,null,null,null,null,null,null,38,{"$f":"EmpDetail!B41","v":"ehrs'k dqekj 'kekZ"},{"$f":"EmpDetail!C41","v":"अध्यापक ग्रेड III"},{"$f":"EmpDetail!D41","v":"राउप्रावि मोहिनी"},{"$f":"EmpDetail!G40","v":"2020-12-21"},{"$f":"EmpDetail!J41","v":"L-10"},{"$f":"EmpDetail!K41","v":34800}]
[null,null,null,null,null,null,null,null,null,null,null,null,null,null,null,39,{"$f":"EmpDetail!B42","v":"eUtw eh.kk"},{"$f":"EmpDetail!C42","v":"वरिष्ठ अध्यापक"},{"$f":"EmpDetail!D42","v":"राउप्रावि गोरधनपुरा"},{"$f":"EmpDetail!F39","v":"2018-12-28"},{"$f":"EmpDetail!J42","v":"L-10"},{"$f":"EmpDetail!K42","v":33800}]
[null,null,null,null,null,null,null,null,null,null,null,null,null,null,null,40,{"$f":"EmpDetail!B43","v":"eatw pkS/kjh"},{"$f":"EmpDetail!C43","v":"वरिष्ठ अध्यापक"},{"$f":"EmpDetail!D43","v":"राउप्रावि सोंदीफल"},{"$f":"EmpDetail!F41","v":"2018-04-02"},{"$f":"EmpDetail!J43","v":"L-11"},{"$f":"EmpDetail!K43","v":26500}]
[null,null,null,null,null,null,null,null,null,null,null,null,null,null,null,41,{"$f":"EmpDetail!B44","v":0},{"$f":"EmpDetail!C44","v":0},{"$f":"EmpDetail!D44","v":0},{"$f":"EmpDetail!F44","v":"00:00:00"},{"$f":"EmpDetail!J44","v":0},{"$f":"EmpDetail!K44","v":0}]
[null,null,null,null,null,null,null,null,null,null,null,null,null,null,null,42,{"$f":"EmpDetail!B45","v":0},{"$f":"EmpDetail!C45","v":0},{"$f":"EmpDetail!D45","v":0},{"$f":"EmpDetail!F45","v":"00:00:00"},{"$f":"EmpDetail!J45","v":0},{"$f":"EmpDetail!K45","v":0}]
[null,null,null,null,null,null,null,null,null,null,null,null,null,null,null,43,{"$f":"EmpDetail!B46","v":0},{"$f":"EmpDetail!#REF!","v":{"$error":"#REF!"}},{"$f":"EmpDetail!#REF!","v":{"$error":"#REF!"}},{"$f":"EmpDetail!F46","v":"00:00:00"},{"$f":"EmpDetail!J46","v":0},{"$f":"EmpDetail!K46","v":0}]
[null,null,null,null,null,null,null,null,null,null,null,null,null,null,null,44,{"$f":"EmpDetail!B47","v":0},{"$f":"EmpDetail!C47","v":0},{"$f":"EmpDetail!D47","v":0},{"$f":"EmpDetail!F47","v":"00:00:00"},{"$f":"EmpDetail!J47","v":0},{"$f":"EmpDetail!K47","v":0}]
[null,null,null,null,null,null,null,null,null,null,null,null,null,null,null,45,{"$f":"EmpDetail!B48","v":0},{"$f":"EmpDetail!C48","v":0},{"$f":"EmpDetail!D48","v":0},{"$f":"EmpDetail!F48","v":"00:00:00"},{"$f":"EmpDetail!J48","v":0},{"$f":"EmpDetail!K48","v":0}]
[null,null,null,null,null,null,null,null,null,null,null,null,null,null,null,46,{"$f":"EmpDetail!B49","v":0},{"$f":"EmpDetail!C49","v":0},{"$f":"EmpDetail!D49","v":0},{"$f":"EmpDetail!F49","v":"00:00:00"},{"$f":"EmpDetail!J49","v":0},{"$f":"EmpDetail!K49","v":0}]
[null,null,null,null,null,null,null,null,null,null,null,null,null,null,null,47,{"$f":"EmpDetail!B50","v":0},{"$f":"EmpDetail!C50","v":0},{"$f":"EmpDetail!D50","v":0},{"$f":"EmpDetail!F50","v":"00:00:00"},{"$f":"EmpDetail!J50","v":0},{"$f":"EmpDetail!K50","v":0}]
[null,null,null,null,null,null,null,null,null,null,null,null,null,null,null,48,{"$f":"EmpDetail!B51","v":0},{"$f":"EmpDetail!C51","v":0},{"$f":"EmpDetail!D51","v":0},{"$f":"EmpDetail!F51","v":"00:00:00"},{"$f":"EmpDetail!J51","v":0},{"$f":"EmpDetail!K51","v":0}]
[null,null,null,null,null,null,null,null,null,null,null,null,null,null,null,49,{"$f":"EmpDetail!B52","v":0},{"$f":"EmpDetail!C52","v":0},{"$f":"EmpDetail!D52","v":0},{"$f":"EmpDetail!F52","v":"00:00:00"},{"$f":"EmpDetail!J52","v":0},{"$f":"EmpDetail!K52","v":0}]
[null,null,null,null,null,null,null,null,null,null,null,null,null,null,null,50,{"$f":"EmpDetail!B53","v":0},{"$f":"EmpDetail!C53","v":0},{"$f":"EmpDetail!D53","v":0},{"$f":"EmpDetail!F53","v":"00:00:00"},{"$f":"EmpDetail!J53","v":0},{"$f":"EmpDetail!K53","v":0}]
[null,null,null,null,null,null,null,null,null,null,null,null,null,null,null,51,{"$f":"EmpDetail!B54","v":0},{"$f":"EmpDetail!C54","v":0},{"$f":"EmpDetail!D54","v":0},{"$f":"EmpDetail!F54","v":"00:00:00"},{"$f":"EmpDetail!J54","v":0},{"$f":"EmpDetail!K54","v":0}]
[null,null,null,null,null,null,null,null,null,null,null,null,null,null,null,52,{"$f":"EmpDetail!B55","v":0},{"$f":"EmpDetail!C55","v":0},{"$f":"EmpDetail!D55","v":0},{"$f":"EmpDetail!F55","v":"00:00:00"},{"$f":"EmpDetail!J55","v":0},{"$f":"EmpDetail!K55","v":0}]
[null,null,null,null,null,null,null,null,null,null,null,null,null,null,null,53,{"$f":"EmpDetail!B56","v":0},{"$f":"EmpDetail!C56","v":0},{"$f":"EmpDetail!D56","v":0},{"$f":"EmpDetail!F56","v":"00:00:00"},{"$f":"EmpDetail!J56","v":0},{"$f":"EmpDetail!K56","v":0}]
[null,null,null,null,null,null,null,null,null,null,null,null,null,null,null,54,{"$f":"EmpDetail!B57","v":0},{"$f":"EmpDetail!C57","v":0},{"$f":"EmpDetail!D57","v":0},{"$f":"EmpDetail!F57","v":"00:00:00"},{"$f":"EmpDetail!J57","v":0},{"$f":"EmpDetail!K57","v":0}]
[null,null,null,null,null,null,null,null,null,null,null,null,null,null,null,55,{"$f":"EmpDetail!B58","v":0},{"$f":"EmpDetail!C58","v":0},{"$f":"EmpDetail!D58","v":0},{"$f":"EmpDetail!F58","v":"00:00:00"},{"$f":"EmpDetail!J58","v":0},{"$f":"EmpDetail!K58","v":0}]
[null,null,null,null,null,null,null,null,null,null,null,null,null,null,null,56,{"$f":"EmpDetail!B59","v":0},{"$f":"EmpDetail!C59","v":0},{"$f":"EmpDetail!D59","v":0},{"$f":"EmpDetail!F59","v":"00:00:00"},{"$f":"EmpDetail!J59","v":0},{"$f":"EmpDetail!K59","v":0}]
[null,null,null,null,null,null,null,null,null,null,null,null,null,null,null,57,{"$f":"EmpDetail!B60","v":0},{"$f":"EmpDetail!C60","v":0},{"$f":"EmpDetail!D60","v":0},{"$f":"EmpDetail!F60","v":"00:00:00"},{"$f":"EmpDetail!J60","v":0},{"$f":"EmpDetail!K60","v":0}]
[null,null,null,null,null,null,null,null,null,null,null,null,null,null,null,58,{"$f":"EmpDetail!B61","v":0},{"$f":"EmpDetail!C61","v":0},{"$f":"EmpDetail!D61","v":0},{"$f":"EmpDetail!F61","v":"00:00:00"},{"$f":"EmpDetail!J61","v":0},{"$f":"EmpDetail!K61","v":0}]
[null,null,null,null,null,null,null,null,null,null,null,null,null,null,null,59,{"$f":"EmpDetail!B62","v":0},{"$f":"EmpDetail!C62","v":0},{"$f":"EmpDetail!D62","v":0},{"$f":"EmpDetail!F62","v":"00:00:00"},{"$f":"EmpDetail!J62","v":0},{"$f":"EmpDetail!K62","v":0}]
[null,null,null,null,null,null,null,null,null,null,null,null,null,null,null,60,{"$f":"EmpDetail!B63","v":0},{"$f":"EmpDetail!C63","v":0},{"$f":"EmpDetail!D63","v":0},{"$f":"EmpDetail!F63","v":"00:00:00"},{"$f":"EmpDetail!J63","v":0},{"$f":"EmpDetail!K63","v":0}]
[null,null,null,null,null,null,null,null,null,null,null,null,null,null,null,61,{"$f":"EmpDetail!B64","v":0},{"$f":"EmpDetail!C64","v":0},{"$f":"EmpDetail!D64","v":0},{"$f":"EmpDetail!F64","v":"00:00:00"},{"$f":"EmpDetail!J64","v":0},{"$f":"EmpDetail!K64","v":0}]
[null,null,null,null,null,null,null,null,null,null,null,null,null,null,null,62,{"$f":"EmpDetail!B65","v":0},{"$f":"EmpDetail!C65","v":0},{"$f":"EmpDetail!D65","v":0},{"$f":"EmpDetail!F65","v":"00:00:00"},{"$f":"EmpDetail!J65","v":0},{"$f":"EmpDetail!K65","v":0}]
[null,null,null,null,null,null,null,null,null,null,null,null,null,null,null,63,{"$f":"EmpDetail!B66","v":0},{"$f":"EmpDetail!C66","v":0},{"$f":"EmpDetail!D66","v":0},{"$f":"EmpDetail!F66","v":"00:00:00"},{"$f":"EmpDetail!J66","v":0},{"$f":"EmpDetail!K66","v":0}]
[null,null,null,null,null,null,null,null,null,null,null,null,null,null,null,64,{"$f":"EmpDetail!B67","v":0},{"$f":"EmpDetail!C67","v":0},{"$f":"EmpDetail!D67","v":0},{"$f":"EmpDetail!F67","v":"00:00:00"},{"$f":"EmpDetail!J67","v":0},{"$f":"EmpDetail!K67","v":0}]
[null,null,null,null,null,null,null,null,null,null,null,null,null,null,null,65,{"$f":"EmpDetail!B68","v":0},{"$f":"EmpDetail!C68","v":0},{"$f":"EmpDetail!D68","v":0},{"$f":"EmpDetail!F68","v":"00:00:00"},{"$f":"EmpDetail!J68","v":0},{"$f":"EmpDetail!K68","v":0}]
[null,null,null,null,null,null,null,null,null,null,null,null,null,null,null,66,{"$f":"EmpDetail!B69","v":0},{"$f":"EmpDetail!C69","v":0},{"$f":"EmpDetail!D69","v":0},{"$f":"EmpDetail!F69","v":"00:00:00"},{"$f":"EmpDetail!J69","v":0},{"$f":"EmpDetail!K69","v":0}]
[null,null,null,null,null,null,null,null,null,null,null,null,null,null,null,67,{"$f":"EmpDetail!B70","v":0},{"$f":"EmpDetail!C70","v":0},{"$f":"EmpDetail!D70","v":0},{"$f":"EmpDetail!F70","v":"00:00:00"},{"$f":"EmpDetail!J70","v":0},{"$f":"EmpDetail!K70","v":0}]
[null,null,null,null,null,null,null,null,null,null,null,null,null,null,null,68,{"$f":"EmpDetail!B71","v":0},{"$f":"EmpDetail!C71","v":0},{"$f":"EmpDetail!D71","v":0},{"$f":"EmpDetail!F71","v":"00:00:00"},{"$f":"EmpDetail!J71","v":0},{"$f":"EmpDetail!K71","v":0}]
[null,null,null,null,null,null,null,null,null,null,null,null,null,null,null,69,{"$f":"EmpDetail!B72","v":0},{"$f":"EmpDetail!C72","v":0},{"$f":"EmpDetail!D72","v":0},{"$f":"EmpDetail!F72","v":"00:00:00"},{"$f":"EmpDetail!J72","v":0},{"$f":"EmpDetail!K72","v":0}]
[null,null,null,null,null,null,null,null,null,null,null,null,null,null,null,70,{"$f":"EmpDetail!B73","v":0},{"$f":"EmpDetail!C73","v":0},{"$f":"EmpDetail!D73","v":0},{"$f":"EmpDetail!F73","v":"00:00:00"},{"$f":"EmpDetail!J73","v":0},{"$f":"EmpDetail!K73","v":0}]
[null,null,null,null,null,null,null,null,null,null,null,null,null,null,null,71,{"$f":"EmpDetail!B74","v":0},{"$f":"EmpDetail!C74","v":0},{"$f":"EmpDetail!D74","v":0},{"$f":"EmpDetail!F74","v":"00:00:00"},{"$f":"EmpDetail!J74","v":0},{"$f":"EmpDetail!K74","v":0}]
[null,null,null,null,null,null,null,null,null,null,null,null,null,null,null,72,{"$f":"EmpDetail!B75","v":0},{"$f":"EmpDetail!C75","v":0},{"$f":"EmpDetail!D75","v":0},{"$f":"EmpDetail!F75","v":"00:00:00"},{"$f":"EmpDetail!J75","v":0},{"$f":"EmpDetail!K75","v":0}]
[null,null,null,null,null,null,null,null,null,null,null,null,null,null,null,73,{"$f":"EmpDetail!B76","v":0},{"$f":"EmpDetail!C76","v":0},{"$f":"EmpDetail!D76","v":0},{"$f":"EmpDetail!F76","v":"00:00:00"},{"$f":"EmpDetail!J76","v":0},{"$f":"EmpDetail!K76","v":0}]
[null,null,null,null,null,null,null,null,null,null,null,null,null,null,null,74,{"$f":"EmpDetail!B77","v":0},{"$f":"EmpDetail!C77","v":0},{"$f":"EmpDetail!D77","v":0},{"$f":"EmpDetail!F77","v":"00:00:00"},{"$f":"EmpDetail!J77","v":0},{"$f":"EmpDetail!K77","v":0}]
[null,null,null,null,null,null,null,null,null,null,null,null,null,null,null,75,{"$f":"EmpDetail!B78","v":0},{"$f":"EmpDetail!C78","v":0},{"$f":"EmpDetail!D78","v":0},{"$f":"EmpDetail!F78","v":"00:00:00"},{"$f":"EmpDetail!J78","v":0},{"$f":"EmpDetail!K78","v":0}]
[null,null,null,null,null,null,null,null,null,null,null,null,null,null,null,76,{"$f":"EmpDetail!B79","v":0},{"$f":"EmpDetail!C79","v":0},{"$f":"EmpDetail!D79","v":0},{"$f":"EmpDetail!F79","v":"00:00:00"},{"$f":"EmpDetail!J79","v":0},{"$f":"EmpDetail!K79","v":0}]
[null,null,null,null,null,null,null,null,null,null,null,null,null,null,null,77,{"$f":"EmpDetail!B80","v":0},{"$f":"EmpDetail!C80","v":0},{"$f":"EmpDetail!D80","v":0},{"$f":"EmpDetail!F80","v":"00:00:00"},{"$f":"EmpDetail!J80","v":0},{"$f":"EmpDetail!K80","v":0}]
[null,null,null,null,null,null,null,null,null,null,null,null,null,null,null,78,{"$f":"EmpDetail!B81","v":0},{"$f":"EmpDetail!C81","v":0},{"$f":"EmpDetail!D81","v":0},{"$f":"EmpDetail!F81","v":"00:00:00"},{"$f":"EmpDetail!J81","v":0},{"$f":"EmpDetail!K81","v":0}]
[null,null,null,null,null,null,null,null,null,null,null,null,null,null,null,79,{"$f":"EmpDetail!B82","v":0},{"$f":"EmpDetail!C82","v":0},{"$f":"EmpDetail!D82","v":0},{"$f":"EmpDetail!F82","v":"00:00:00"},{"$f":"EmpDetail!J82","v":0},{"$f":"EmpDetail!K82","v":0}]
[null,null,null,null,null,null,null,null,null,null,null,null,null,null,null,80,{"$f":"EmpDetail!B83","v":0},{"$f":"EmpDetail!C83","v":0},{"$f":"EmpDetail!D83","v":0},{"$f":"EmpDetail!F83","v":"00:00:00"},{"$f":"EmpDetail!J83","v":0},{"$f":"EmpDetail!K83","v":0}]
[null,null,null,null,null,null,null,null,null,null,null,null,null,null,null,81,{"$f":"EmpDetail!B84","v":0},{"$f":"EmpDetail!C84","v":0},{"$f":"EmpDetail!D84","v":0},{"$f":"EmpDetail!F84","v":"00:00:00"},{"$f":"EmpDetail!J84","v":0},{"$f":"EmpDetail!K84","v":0}]
[null,null,null,null,null,null,null,null,null,null,null,null,null,null,null,82,{"$f":"EmpDetail!B85","v":0},{"$f":"EmpDetail!C85","v":0},{"$f":"EmpDetail!D85","v":0},{"$f":"EmpDetail!F85","v":"00:00:00"},{"$f":"EmpDetail!J85","v":0},{"$f":"EmpDetail!K85","v":0}]
[null,null,null,null,null,null,null,null,null,null,null,null,null,null,null,83,{"$f":"EmpDetail!B86","v":0},{"$f":"EmpDetail!C86","v":0},{"$f":"EmpDetail!D86","v":0},{"$f":"EmpDetail!F86","v":"00:00:00"},{"$f":"EmpDetail!J86","v":0},{"$f":"EmpDetail!K86","v":0}]
[null,null,null,null,null,null,null,null,null,null,null,null,null,null,null,84,{"$f":"EmpDetail!B87","v":0},{"$f":"EmpDetail!C87","v":0},{"$f":"EmpDetail!D87","v":0},{"$f":"EmpDetail!F87","v":"00:00:00"},{"$f":"EmpDetail!J87","v":0},{"$f":"EmpDetail!K87","v":0}]
[null,null,null,null,null,null,null,null,null,null,null,null,null,null,null,85,{"$f":"EmpDetail!B88","v":0},{"$f":"EmpDetail!C88","v":0},{"$f":"EmpDetail!D88","v":0},{"$f":"EmpDetail!F88","v":"00:00:00"},{"$f":"EmpDetail!J88","v":0},{"$f":"EmpDetail!K88","v":0}]
[null,null,null,null,null,null,null,null,null,null,null,null,null,null,null,86,{"$f":"EmpDetail!B89","v":0},{"$f":"EmpDetail!C89","v":0},{"$f":"EmpDetail!D89","v":0},{"$f":"EmpDetail!F89","v":"00:00:00"},{"$f":"EmpDetail!J89","v":0},{"$f":"EmpDetail!K89","v":0}]
[null,null,null,null,null,null,null,null,null,null,null,null,null,null,null,87,{"$f":"EmpDetail!B90","v":0},{"$f":"EmpDetail!C90","v":0},{"$f":"EmpDetail!D90","v":0},{"$f":"EmpDetail!F90","v":"00:00:00"},{"$f":"EmpDetail!J90","v":0},{"$f":"EmpDetail!K90","v":0}]
[null,null,null,null,null,null,null,null,null,null,null,null,null,null,null,88,{"$f":"EmpDetail!B91","v":0},{"$f":"EmpDetail!C91","v":0},{"$f":"EmpDetail!D91","v":0},{"$f":"EmpDetail!F91","v":"00:00:00"},{"$f":"EmpDetail!J91","v":0},{"$f":"EmpDetail!K91","v":0}]
[null,null,null,null,null,null,null,null,null,null,null,null,null,null,null,89,{"$f":"EmpDetail!B92","v":0},{"$f":"EmpDetail!C92","v":0},{"$f":"EmpDetail!D92","v":0},{"$f":"EmpDetail!F92","v":"00:00:00"},{"$f":"EmpDetail!J92","v":0},{"$f":"EmpDetail!K92","v":0}]
[null,null,null,null,null,null,null,null,null,null,null,null,null,null,null,90,{"$f":"EmpDetail!B93","v":0},{"$f":"EmpDetail!C93","v":0},{"$f":"EmpDetail!D93","v":0},{"$f":"EmpDetail!F93","v":"00:00:00"},{"$f":"EmpDetail!J93","v":0},{"$f":"EmpDetail!K93","v":0}]
[null,null,null,null,null,null,null,null,null,null,null,null,null,null,null,91,{"$f":"EmpDetail!B94","v":0},{"$f":"EmpDetail!C94","v":0},{"$f":"EmpDetail!D94","v":0},{"$f":"EmpDetail!F94","v":"00:00:00"},{"$f":"EmpDetail!J94","v":0},{"$f":"EmpDetail!K94","v":0}]
[null,null,null,null,null,null,null,null,null,null,null,null,null,null,null,92,{"$f":"EmpDetail!B95","v":0},{"$f":"EmpDetail!C95","v":0},{"$f":"EmpDetail!D95","v":0},{"$f":"EmpDetail!F95","v":"00:00:00"},{"$f":"EmpDetail!J95","v":0},{"$f":"EmpDetail!K95","v":0}]
[null,null,null,null,null,null,null,null,null,null,null,null,null,null,null,93,{"$f":"EmpDetail!B96","v":0},{"$f":"EmpDetail!C96","v":0},{"$f":"EmpDetail!D96","v":0},{"$f":"EmpDetail!F96","v":"00:00:00"},{"$f":"EmpDetail!J96","v":0},{"$f":"EmpDetail!K96","v":0}]
[null,null,null,null,null,null,null,null,null,null,null,null,null,null,null,94,{"$f":"EmpDetail!B97","v":0},{"$f":"EmpDetail!C97","v":0},{"$f":"EmpDetail!D97","v":0},{"$f":"EmpDetail!F97","v":"00:00:00"},{"$f":"EmpDetail!J97","v":0},{"$f":"EmpDetail!K97","v":0}]
[null,null,null,null,null,null,null,null,null,null,null,null,null,null,null,95,{"$f":"EmpDetail!B98","v":0},{"$f":"EmpDetail!C98","v":0},{"$f":"EmpDetail!D98","v":0},{"$f":"EmpDetail!F98","v":"00:00:00"},{"$f":"EmpDetail!J98","v":0},{"$f":"EmpDetail!K98","v":0}]
[null,null,null,null,null,null,null,null,null,null,null,null,null,null,null,96,{"$f":"EmpDetail!B99","v":0},{"$f":"EmpDetail!C99","v":0},{"$f":"EmpDetail!D99","v":0},{"$f":"EmpDetail!F99","v":"00:00:00"},{"$f":"EmpDetail!J99","v":0},{"$f":"EmpDetail!K99","v":0}]
[null,null,null,null,null,null,null,null,null,null,null,null,null,null,null,97,{"$f":"EmpDetail!B100","v":0},{"$f":"EmpDetail!C100","v":0},{"$f":"EmpDetail!D100","v":0},{"$f":"EmpDetail!F100","v":"00:00:00"},{"$f":"EmpDetail!J100","v":0},{"$f":"EmpDetail!K100","v":0}]
[null,null,null,null,null,null,null,null,null,null,null,null,null,null,null,98,{"$f":"EmpDetail!B101","v":0},{"$f":"EmpDetail!C101","v":0},{"$f":"EmpDetail!D101","v":0},{"$f":"EmpDetail!F101","v":"00:00:00"},{"$f":"EmpDetail!J101","v":0},{"$f":"EmpDetail!K101","v":0}]
[null,null,null,null,null,null,null,null,null,null,null,null,null,null,null,99,{"$f":"EmpDetail!B102","v":0},{"$f":"EmpDetail!C102","v":0},{"$f":"EmpDetail!D102","v":0},{"$f":"EmpDetail!F102","v":"00:00:00"},{"$f":"EmpDetail!J102","v":0},{"$f":"EmpDetail!K102","v":0}]
[null,null,null,null,null,null,null,null,null,null,null,null,null,null,null,100,{"$f":"EmpDetail!B103","v":0},{"$f":"EmpDetail!C103","v":0},{"$f":"EmpDetail!D103","v":0},{"$f":"EmpDetail!F103","v":"00:00:00"},{"$f":"EmpDetail!J103","v":0},{"$f":"EmpDetail!K103","v":0}]

{"sheet":"Pay Fixation","index":11,"n_rows":108,"n_cols":24,"rows_kept":108,"cut":false,"hidden":true,"merged":[[0,1,0,13],[4,1,4,13],[5,1,5,13],[3,2,3,4],[3,5,3,10]]}
[null,{"$f":"Master!G2&Master!H2","v":"कार्यालय&राजकीय उच्च माध्यमिक विद्यालय ]चौगाई]टोंक"},null,null,null,null,null,null,null,null,null,null,null,null,null,null,null,null,null,null,null,null,null,"निदेशक माध्यमिक शिक्षा राजस्थान] बीकानेर के आदेश क्रमांक"]
[null,null,null,null,null,"dk;kZy; vkns'k",null,null,null,null,null,null,null,null,null,null,null,null,null,null,null,null,null,"उप निदेशक माध्यमिक शिक्षा अजमेर] वृत अजमेर के आदेश क्रमांक"]
[null,null,null,null,null,null,null,null,null,null,null,null,null,null,null,null,null,null,null,null,null,null,null,"जिला शिक्षा अधिकारी माध्यमिक शिक्षा टोंक के आदेश क्रमांक"]
[null,null,"श्रीमान जिला शिक्षा अधिकारी मुख्यालय प्रा शि टोंक के आदेश क्रमांक",null,null,"ftf'kv@izkf'k@Vksad@laLFkk&2@2020&21@47",null,null,null,null,null,"fnukad&","2021-02-15",null,null,null,null,null,null,null,null,null,null,"जिला शिक्षा अधिकारी प्रारम्भिक शिक्षा टोंक के आदेश क्रमांक"]
[null,"ds vuqlj.k esa fuEufyf[kr dkfeZdksa ds }kjk 2 o\"kZ dh ifjfo{kkdky vof/k larks\"kizn :i ls iw.kZ fd;s tkus ij jktLFkku lsok fu;e 1951 ds fu;e 24 o 26 ,oa jktLFkku flfoy lsok,a ¼iqujhf{kr osrueku½ fu;e",null,null,null,null,null,null,null,null,null,null,null,null,null,null,null,null,null,null,null,null,null,"श्रीमान जिला शिक्षा अधिकारी मुख्यालय प्रा शि टोंक के आदेश क्रमांक"]
[null,"2017 ds fu;e 05 ¼VI &VII½ ,oa vuqlwfp 1 esa vafdr izko/kkukuqlkj dkWye 11 esa vafdr fnukad ls osru fu;fefrdj.k dj fu;ekuqlkj vU; HkRrs vkgj.k djus dh Lohd`fr iznku dh tkrh gSA budh vkxkeh osru o`f} fnukad dkWye la[;k 15 esa vafdrkuqlkj jgsxh A"]
["dkfeZd Øe","Ø-la-","uke dfeZd"," in uke","inLFkkiu LFkku","is&ysoy","ifjfo{kkdky esa fu;r ekuns;","izFke fu;qfä fnukad","ifjfo{kkdky iw.kZ djus dk fnukad","osru fu;fefr dj.k fnukad","osru fu;fefr dj.k ij is ysoy","osru fu;fefr dj.k ij osru","vkxkeh osru o`f) frfFk","fo0fo0"]
[null,1,2,3,4,5,6,7,9,11,13,14,15,14]
[34,{"$f":"IF(C9=\"\",\"\",V9)","v":1},{"$f":"IF(ISNA(VLOOKUP($A9,$O$9:$U$108,2,FALSE)),\"\",VLOOKUP($A9,$O$9:$U$108,2,FALSE))","v":"n'kjFk dqekj ;kno"},{"$f":"IF(ISNA(VLOOKUP($A9,$O$9:$U$108,3,FALSE)),\"\",VLOOKUP($A9,$O$9:$U$108,3,FALSE))","v":"अध्यापक ग्रेड III"},{"$f":"IF(ISNA(VLOOKUP($A9,$O$9:$U$108,4,FALSE)),\"\",VLOOKUP($A9,$O$9:$U$108,4,FALSE))","v":"राउप्रावि सोंदीफल"},{"$f":"IF(ISNA(VLOOKUP($A9,$O$9:$U$108,5,FALSE)),\"\",VLOOKUP($A9,$O$9:$U$108,5,FALSE))","v":"L-10"},{"$f":"IF(ISNA(VLOOKUP($A9,$O$9:$U$108,6,FALSE)),\"\",VLOOKUP($A9,$O$9:$U$108,6,FALSE))","v":23700},{"$f":"IF(ISNA(VLOOKUP($A9,$O$9:$U$108,7,FALSE)),\"\",VLOOKUP($A9,$O$9:$U$108,7,FALSE))","v":"2018-09-29"},"2020-04-03","2020-04-03","L-10",33800,"2020-07-01","",1,{"$f":"EmpDetail!B4","v":"fd'ku yky cSjok"},{"$f":"EmpDetail!C4","v":"प्रधानाचार्य"},{"$f":"EmpDetail!D4","v":"राउमावि चौगाई"},{"$f":"EmpDetail!J4","v":"L-16"},{"$f":"EmpDetail!K4","v":95900},{"$f":"EmpDetail!F4","v":"00:00:00"},{"$f":"W9","v":1},{"$f":"IF(C9=\"\",0,1)","v":1}]
[null,{"$f":"IF(C10=\"\",\"\",V10)","v":""},{"$f":"IF(ISNA(VLOOKUP($A10,$O$9:$U$108,2,FALSE)),\"\",VLOOKUP($A10,$O$9:$U$108,2,FALSE))","v":""},{"$f":"IF(ISNA(VLOOKUP($A10,$O$9:$U$108,3,FALSE)),\"\",VLOOKUP($A10,$O$9:$U$108,3,FALSE))","v":""},{"$f":"IF(ISNA(VLOOKUP($A10,$O$9:$U$108,4,FALSE)),\"\",VLOOKUP($A10,$O$9:$U$108,4,FALSE))","v":""},{"$f":"IF(ISNA(VLOOKUP($A10,$O$9:$U$108,5,FALSE)),\"\",VLOOKUP($A10,$O$9:$U$108,5,FALSE))","v":""},{"$f":"IF(ISNA(VLOOKUP($A10,$O$9:$U$108,6,FALSE)),\"\",VLOOKUP($A10,$O$9:$U$108,6,FALSE))","v":""},{"$f":"IF(ISNA(VLOOKUP($A10,$O$9:$U$108,7,FALSE)),\"\",VLOOKUP($A10,$O$9:$U$108,7,FALSE))","v":""},null,null,"L-10",34800,"2021-07-01","",2,{"$f":"EmpDetail!B5","v":"iwj.k pUn y{kdkj"},{"$f":"EmpDetail!C5","v":"व्याख्याता"},{"$f":"EmpDetail!D5","v":"राउमावि चौगाई"},{"$f":"EmpDetail!J5","v":"L-12"},{"$f":"EmpDetail!K5","v":56100},{"$f":"EmpDetail!F5","v":"00:00:00"},{"$f":"V9+W10","v":1},{"$f":"IF(C10=\"\",0,1)","v":0}]
[35,2,"d`\".k yky tkV","अध्यापक ग्रेड III","राउप्रावि सोंदीफल","L-10",33800,"2018-10-02","2020-12-21","2020-12-21","L-10",33800,"2021-07-01","",3,{"$f":"EmpDetail!B6","v":"jktsUnz dqekj tSu"},{"$f":"EmpDetail!C6","v":"व्याख्याता"},{"$f":"EmpDetail!D6","v":"राउमावि चौगाई"},{"$f":"EmpDetail!J6","v":"L-12"},{"$f":"EmpDetail!K6","v":63100},{"$f":"EmpDetail!F6","v":"00:00:00"},{"$f":"V10+W11","v":2},1]
[37,3,"uohu dqekj","अध्यापक ग्रेड III","राउप्रावि मोहिनी","L-10",33800,"2018-12-21","2020-10-02","2020-10-02","L-10",33800,"2021-07-01","",4,{"$f":"EmpDetail!B7","v":"fd'ku yky cSjok"},{"$f":"EmpDetail!C7","v":"व्याख्याता"},{"$f":"EmpDetail!D7","v":"राउमावि चौगाई"},{"$f":"EmpDetail!J7","v":"L-12"},{"$f":"EmpDetail!K7","v":54500},{"$f":"EmpDetail!F7","v":"00:00:00"},3,1]
[38,4,"ehrs'k dqekj 'kekZ","अध्यापक ग्रेड III","राउप्रावि मोहिनी","L-10",34800,"2020-04-02","2020-12-28","2020-12-28","L-10",33800,"2021-07-01","",5,{"$f":"EmpDetail!B8","v":"lR;ukjk;.k 'kekZ"},{"$f":"EmpDetail!C8","v":"वरिष्ठ अध्यापक"},{"$f":"EmpDetail!D8","v":"राउमावि चौगाई"},{"$f":"EmpDetail!J8","v":"L-13"},{"$f":"EmpDetail!K8","v":71300},{"$f":"EmpDetail!F8","v":"00:00:00"},4,1]
[39,5,"eUtw eh.kk","वरिष्ठ अध्यापक","राउप्रावि गोरधनपुरा","L-10",33800,"2018-09-28","2020-12-21","2020-12-21","L-10",33800,"2021-07-01","",6,{"$f":"EmpDetail!B9","v":"iq\"ik tSu"},{"$f":"EmpDetail!C9","v":"वरिष्ठ अध्यापक"},{"$f":"EmpDetail!D9","v":"राउमावि चौगाई"},{"$f":"EmpDetail!J9","v":"L-13"},{"$f":"EmpDetail!K9","v":73400},{"$f":"EmpDetail!F9","v":"00:00:00"},5,1]
[40,6,"eatw pkS/kjh","वरिष्ठ अध्यापक","राउप्रावि सोंदीफल","L-11",26500,"2020-09-29","2020-04-02","2020-04-02","L-10",33800,"2020-07-01","",7,{"$f":"EmpDetail!B10","v":"vk'kkjke eh.kk"},{"$f":"EmpDetail!C10","v":"वरिष्ठ अध्यापक"},{"$f":"EmpDetail!D10","v":"राउमावि चौगाई"},{"$f":"EmpDetail!J10","v":"L-11"},{"$f":"EmpDetail!K10","v":52300},{"$f":"EmpDetail!F10","v":"00:00:00"},6,1]
[null,"","","","","","","","","","L-10",34800,"2021-07-01","",8,{"$f":"EmpDetail!B11","v":"t;iky flag"},{"$f":"EmpDetail!C11","v":"वरिष्ठ अध्यापक"},{"$f":"EmpDetail!D11","v":"राउमावि चौगाई"},{"$f":"EmpDetail!J11","v":"L-12"},{"$f":"EmpDetail!K11","v":63100},{"$f":"EmpDetail!F11","v":"00:00:00"},6,0]
[null,"","","","","","","","","",null,"",null,"",9,{"$f":"EmpDetail!B12","v":"jkeizlkn jsxj"},{"$f":"EmpDetail!C12","v":"वरिष्ठ अध्यापक"},{"$f":"EmpDetail!D12","v":"राउमावि चौगाई"},{"$f":"EmpDetail!J12","v":"L-11"},{"$f":"EmpDetail!K12","v":46500},{"$f":"EmpDetail!F12","v":"00:00:00"},6,0]
[null,null,null,null,null,null,null,null,null,null,null,null,null,null,10,{"$f":"EmpDetail!B13","v":"egsUnz dqekj tkV"},{"$f":"EmpDetail!C13","v":"शारीरिक शिक्षक"},{"$f":"EmpDetail!D13","v":"राउमावि चौगाई"},{"$f":"EmpDetail!J13","v":"L-12"},{"$f":"EmpDetail!K13","v":61300},{"$f":"EmpDetail!F13","v":"00:00:00"}]
[null,null,null,null,null,null,null,null,null,null,null,{"$f":"Master!B2","v":"प्रधानाचार्य"},null,null,11,{"$f":"EmpDetail!B14","v":"NksVw yky jsxj"},{"$f":"EmpDetail!C14","v":"अध्यापक ग्रेड III"},{"$f":"EmpDetail!D14","v":"राउमावि चौगाई"},{"$f":"EmpDetail!J14","v":"L-13"},{"$f":"EmpDetail!K14","v":65200},{"$f":"EmpDetail!F14","v":"00:00:00"}]
[null,null,null,null,null,null,null,null,null,null,null,{"$f":"Master!B3","v":"राजकीय उच्च माध्यमिक विद्यालय "},null,null,12,{"$f":"EmpDetail!B15","v":"dUgS;k yky egkoj"},{"$f":"EmpDetail!C15","v":"अध्यापक ग्रेड III"},{"$f":"EmpDetail!D15","v":"राउमावि चौगाई"},{"$f":"EmpDetail!J15","v":"L-13"},{"$f":"EmpDetail!K15","v":65200},{"$f":"EmpDetail!F15","v":"00:00:00"}]
[null,null,null,null,null,null,null,null,null,null,null,{"$f":"Master!B4","v":"चौगाई]टोंक"},null,null,13,{"$f":"EmpDetail!B16","v":"prqHkqZt tkV"},{"$f":"EmpDetail!C16","v":"अध्यापक ग्रेड III"},{"$f":"EmpDetail!D16","v":"राउमावि चौगाई"},{"$f":"EmpDetail!J16","v":"L-11"},{"$f":"EmpDetail!K16","v":52300},{"$f":"EmpDetail!F16","v":"2005-04-13"}]
[null,"Øekad&",{"$f":"Master!H3&Master!I3&Master!J3&Master!E3&\"/\"","v":"राउमावि/चौगाई/संस्था/2021-22/"},null,null,null,null,null,null,null,null,null,"fnukad&",{"$f":"TODAY()","v":"2021-06-19"},14,{"$f":"EmpDetail!B17","v":"vklsQk [kku"},{"$f":"EmpDetail!C17","v":"अध्यापक ग्रेड III"},{"$f":"EmpDetail!D17","v":"राउमावि चौगाई"},{"$f":"EmpDetail!J17","v":"L-11"},{"$f":"EmpDetail!K17","v":52300},{"$f":"EmpDetail!F17","v":"00:00:00"}]
[null,null,"izfrfyfi lwpukFkZ ,oa ikyukFkZ",null,null,null,null,null,null,null,null,null,null,null,15,{"$f":"EmpDetail!B18","v":"lq'khyk cSjok"},{"$f":"EmpDetail!C18","v":"कनिष्ठ सहायक"},{"$f":"EmpDetail!D18","v":"राउमावि चौगाई"},{"$f":"EmpDetail!J18","v":"L-5"},{"$f":"EmpDetail!K18","v":14600},{"$f":"EmpDetail!F18","v":"00:00:00"}]
[null,1,"dks\"kkf/kdkjh@mi dks\"kkf/kdkjh",{"$f":"Master!H4","v":"पीपलू"},null,null,null,null,null,null,null,null,null,null,16,{"$f":"EmpDetail!B19","v":"txnh'k izlkn rsyh"},{"$f":"EmpDetail!C19","v":"सहायक कर्मचारी"},{"$f":"EmpDetail!D19","v":"राउमावि चौगाई"},{"$f":"EmpDetail!J19","v":"L-5"},{"$f":"EmpDetail!K19","v":34700},{"$f":"EmpDetail!F19","v":"00:00:00"}]
[null,2,"ys[kk 'kk[kk LFkkuh; dk;kZy;",null,null,null,null,null,null,null,null,null,null,null,17,{"$f":"EmpDetail!B20","v":"jfoUnz dqekj tSu"},{"$f":"EmpDetail!C20","v":"अध्यापक ग्रेड III"},{"$f":"EmpDetail!D20","v":"राउप्रावि मोहिनी"},{"$f":"EmpDetail!J20","v":"L-12"},{"$f":"EmpDetail!K20","v":65200},{"$f":"EmpDetail!F20","v":"00:00:00"}]
[null,3,"dkfeZd O;fDrxr iaftdk",null,null,null,null,null,null,null,null,null,null,null,18,{"$f":"EmpDetail!B21","v":" ';ke lqUnj ckxkSM"},{"$f":"EmpDetail!C21","v":"अध्यापक ग्रेड III"},{"$f":"EmpDetail!D21","v":"राउप्रावि मोहिनी"},{"$f":"EmpDetail!J21","v":"L-10"},{"$f":"EmpDetail!K21","v":40300},{"$f":"EmpDetail!F21","v":"00:00:00"}]
[null,4,"lEcfU/kr dkfeZd",null,null,null,null,null,null,null,null,{"$f":"L19","v":"प्रधानाचार्य"},null,null,19,{"$f":"EmpDetail!B22","v":"d`\".kk 'kekZ"},{"$f":"EmpDetail!C22","v":"प्रबोधक"},{"$f":"EmpDetail!D22","v":"राउप्रावि मोहिनी"},{"$f":"EmpDetail!J22","v":"L-11"},{"$f":"EmpDetail!K22","v":45100},{"$f":"EmpDetail!F22","v":"00:00:00"}]
[null,null,null,null,null,null,null,null,null,null,null,{"$f":"L20","v":"राजकीय उच्च माध्यमिक विद्यालय "},null,null,20,{"$f":"EmpDetail!B23","v":"/keZsUnz pkS/kjh"},{"$f":"EmpDetail!C23","v":"अध्यापक ग्रेड III"},{"$f":"EmpDetail!D23","v":"राउप्रावि गोरधनपुरा"},{"$f":"EmpDetail!J23","v":"L-10"},{"$f":"EmpDetail!K23","v":40300},{"$f":"EmpDetail!F23","v":"00:00:00"}]
[null,null,null,null,null,null,null,null,null,null,null,{"$f":"L21","v":"चौगाई]टोंक"},null,null,21,{"$f":"EmpDetail!B24","v":"izgykn ekyh"},{"$f":"EmpDetail!C24","v":"प्रबोधक"},{"$f":"EmpDetail!D24","v":"राउप्रावि गोरधनपुरा"},{"$f":"EmpDetail!J24","v":"L-11"},{"$f":"EmpDetail!K24","v":46500},{"$f":"EmpDetail!F24","v":"00:00:00"}]
[null,null,null,null,null,null,null,null,null,null,null,null,null,null,22,{"$f":"EmpDetail!B25","v":"jken;ky xqtZj"},{"$f":"EmpDetail!C25","v":"प्रबोधक"},{"$f":"EmpDetail!D25","v":"राउप्रावि सोंदीफल"},{"$f":"EmpDetail!J25","v":"L-11"},{"$f":"EmpDetail!K25","v":45100},{"$f":"EmpDetail!F25","v":"00:00:00"}]
[null,null,null,null,null,null,null,null,null,null,null,null,null,null,23,{"$f":"EmpDetail!B26","v":"vkSeizdk'k tkV"},{"$f":"EmpDetail!C26","v":"अध्यापक ग्रेड III"},{"$f":"EmpDetail!D26","v":"राउप्रावि सोंदीफल"},{"$f":"EmpDetail!J26","v":"L-11"},{"$f":"EmpDetail!K26","v":45100},{"$f":"EmpDetail!F26","v":"00:00:00"}]
[null,null,null,null,null,null,null,null,null,null,null,null,null,null,24,{"$f":"EmpDetail!B27","v":"vthr flag"},{"$f":"EmpDetail!C27","v":"अध्यापक ग्रेड III"},{"$f":"EmpDetail!D27","v":"राप्रावि जानकीवल्लभपुरा"},{"$f":"EmpDetail!J27","v":"L-10"},{"$f":"EmpDetail!K27","v":40300},{"$f":"EmpDetail!F27","v":"00:00:00"}]
[null,null,null,null,null,null,null,null,null,null,null,null,null,null,25,{"$f":"EmpDetail!B28","v":"eq[rkj eha;k"},{"$f":"EmpDetail!C28","v":"प्रबोधक"},{"$f":"EmpDetail!D28","v":"राप्रावि जानकीवल्लभपुरा"},{"$f":"EmpDetail!J28","v":"L-11"},{"$f":"EmpDetail!K28","v":45100},{"$f":"EmpDetail!F28","v":"00:00:00"}]
[null,null,null,null,null,null,null,null,null,null,null,null,null,null,26,{"$f":"EmpDetail!B29","v":"eks0 tehy "},{"$f":"EmpDetail!C29","v":"प्रबोधक"},{"$f":"EmpDetail!D29","v":"राप्रावि रसूलपुरा"},{"$f":"EmpDetail!J29","v":"L-11"},{"$f":"EmpDetail!K29","v":45100},{"$f":"EmpDetail!F29","v":"00:00:00"}]
[null,null,null,null,null,null,null,null,null,null,null,null,null,null,27,{"$f":"EmpDetail!B30","v":"lkaojey tkV"},{"$f":"EmpDetail!C30","v":"अध्यापक ग्रेड III"},{"$f":"EmpDetail!D30","v":"राप्रावि रसूलपुरा"},{"$f":"EmpDetail!J30","v":"L-10"},{"$f":"EmpDetail!K30","v":38000},{"$f":"EmpDetail!F30","v":"00:00:00"}]
[null,null,null,null,null,null,null,null,null,null,null,null,null,null,28,{"$f":"EmpDetail!B31","v":"pkS/kjh eksuk jkekorkj"},{"$f":"EmpDetail!C31","v":"अध्यापक ग्रेड III"},{"$f":"EmpDetail!D31","v":"राप्रावि मोहिनी ढाणी बाढ"},{"$f":"EmpDetail!J31","v":"L-10"},{"$f":"EmpDetail!K31","v":38000},{"$f":"EmpDetail!F31","v":"00:00:00"}]
[null,null,null,null,null,null,null,null,null,null,null,null,null,null,29,{"$f":"EmpDetail!B32","v":"rkjkpUn tk;loky"},{"$f":"EmpDetail!C32","v":"प्रबोधक"},{"$f":"EmpDetail!D32","v":"राप्रावि मोहिनी ढाणी बाढ"},{"$f":"EmpDetail!J32","v":"L-11"},{"$f":"EmpDetail!K32","v":41300},{"$f":"EmpDetail!F32","v":"00:00:00"}]
[null,null,null,null,null,null,null,null,null,null,null,null,null,null,30,{"$f":"EmpDetail!B33","v":"jketl ;kno"},{"$f":"EmpDetail!C33","v":"अध्यापक ग्रेड III"},{"$f":"EmpDetail!D33","v":"राप्रावि बैरवा ढाणी सोन्दीफल"},{"$f":"EmpDetail!J33","v":"L-12"},{"$f":"EmpDetail!K33","v":63100},{"$f":"EmpDetail!F33","v":"00:00:00"}]
[null,null,null,null,null,null,null,null,null,null,null,null,null,null,31,{"$f":"EmpDetail!B34","v":"dtksMey eh.kk"},{"$f":"EmpDetail!C34","v":"अध्यापक ग्रेड III"},{"$f":"EmpDetail!D34","v":"राप्रावि बैरवा ढाणी सोन्दीफल"},{"$f":"EmpDetail!J34","v":"L-10"},{"$f":"EmpDetail!K34","v":38000},{"$f":"EmpDetail!F34","v":"00:00:00"}]
[null,null,null,null,null,null,null,null,null,null,null,null,null,null,32,{"$f":"EmpDetail!B35","v":"/kaut; xkSRre"},{"$f":"EmpDetail!C35","v":"अध्यापक ग्रेड III"},{"$f":"EmpDetail!D35","v":"राउप्रावि गोरधनपुरा"},{"$f":"EmpDetail!J35","v":"L-10"},{"$f":"EmpDetail!K35","v":34800},{"$f":"EmpDetail!F35","v":"2018-04-03"}]
[null,null,null,null,null,null,null,null,null,null,null,null,null,null,33,{"$f":"EmpDetail!B36","v":"d`\".kk xaxoky"},{"$f":"EmpDetail!C36","v":"अध्यापक ग्रेड III"},{"$f":"EmpDetail!D36","v":"राउप्रावि गोरधनपुरा"},{"$f":"EmpDetail!J36","v":"L-10"},{"$f":"EmpDetail!K36","v":33800},{"$f":"EmpDetail!F36","v":"2018-12-21"}]
[null,null,null,null,null,null,null,null,null,null,null,null,null,null,34,{"$f":"EmpDetail!B37","v":"n'kjFk dqekj ;kno"},{"$f":"EmpDetail!C37","v":"अध्यापक ग्रेड III"},{"$f":"EmpDetail!D37","v":"राउप्रावि सोंदीफल"},{"$f":"EmpDetail!J37","v":"L-10"},{"$f":"EmpDetail!K37","v":23700},{"$f":"EmpDetail!F37","v":"2018-09-29"}]
[null,null,null,null,null,null,null,null,null,null,null,null,null,null,35,{"$f":"EmpDetail!B38","v":"d`\".k yky tkV"},{"$f":"EmpDetail!C38","v":"अध्यापक ग्रेड III"},{"$f":"EmpDetail!D38","v":"राउप्रावि सोंदीफल"},{"$f":"EmpDetail!J38","v":"L-10"},{"$f":"EmpDetail!K38","v":33800},{"$f":"EmpDetail!F38","v":"2018-10-02"}]
[null,null,null,null,null,null,null,null,null,null,null,null,null,null,36,{"$f":"EmpDetail!B39","v":"nhisUnz dqekj iztkir"},{"$f":"EmpDetail!C39","v":"अध्यापक ग्रेड III"},{"$f":"EmpDetail!D39","v":"राउप्रावि सोंदीफल"},{"$f":"EmpDetail!J39","v":"L-10"},{"$f":"EmpDetail!K39","v":33800},{"$f":"EmpDetail!F39","v":"2018-12-28"}]
[null,null,null,null,null,null,null,null,null,null,null,null,null,null,37,{"$f":"EmpDetail!B40","v":"uohu dqekj"},{"$f":"EmpDetail!C40","v":"अध्यापक ग्रेड III"},{"$f":"EmpDetail!D40","v":"राउप्रावि मोहिनी"},{"$f":"EmpDetail!J40","v":"L-10"},{"$f":"EmpDetail!K40","v":33800},{"$f":"EmpDetail!F40","v":"2018-12-21"}]
[null,null,null,null,null,null,null,null,null,null,null,null,null,null,38,{"$f":"EmpDetail!B41","v":"ehrs'k dqekj 'kekZ"},{"$f":"EmpDetail!C41","v":"अध्यापक ग्रेड III"},{"$f":"EmpDetail!D41","v":"राउप्रावि मोहिनी"},{"$f":"EmpDetail!J41","v":"L-10"},{"$f":"EmpDetail!K41","v":34800},{"$f":"EmpDetail!G41","v":"2020-04-02"}]
[null,null,null,null,null,null,null,null,null,null,null,null,null,null,39,{"$f":"EmpDetail!B42","v":"eUtw eh.kk"},{"$f":"EmpDetail!C42","v":"वरिष्ठ अध्यापक"},{"$f":"EmpDetail!D42","v":"राउप्रावि गोरधनपुरा"},{"$f":"EmpDetail!J42","v":"L-10"},{"$f":"EmpDetail!K42","v":33800},{"$f":"EmpDetail!F42","v":"2018-09-28"}]
[null,null,null,null,null,null,null,null,null,null,null,null,null,null,40,{"$f":"EmpDetail!B43","v":"eatw pkS/kjh"},{"$f":"EmpDetail!C43","v":"वरिष्ठ अध्यापक"},{"$f":"EmpDetail!D43","v":"राउप्रावि सोंदीफल"},{"$f":"EmpDetail!J43","v":"L-11"},{"$f":"EmpDetail!K43","v":26500},{"$f":"EmpDetail!F43","v":"2020-09-29"}]
[null,null,null,null,null,null,null,null,null,null,null,null,null,null,41,{"$f":"EmpDetail!B44","v":0},{"$f":"EmpDetail!C44","v":0},{"$f":"EmpDetail!D44","v":0},{"$f":"EmpDetail!J44","v":0},{"$f":"EmpDetail!K44","v":0},{"$f":"EmpDetail!F44","v":"00:00:00"}]
[null,null,null,null,null,null,null,null,null,null,null,null,null,null,42,{"$f":"EmpDetail!B45","v":0},{"$f":"EmpDetail!C45","v":0},{"$f":"EmpDetail!D45","v":0},{"$f":"EmpDetail!J45","v":0},{"$f":"EmpDetail!K45","v":0},{"$f":"EmpDetail!F45","v":"00:00:00"}]
[null,null,null,null,null,null,null,null,null,null,null,null,null,null,43,{"$f":"EmpDetail!B46","v":0},{"$f":"EmpDetail!C46","v":0},{"$f":"EmpDetail!D46","v":0},{"$f":"EmpDetail!J46","v":0},{"$f":"EmpDetail!K46","v":0},{"$f":"EmpDetail!F46","v":"00:00:00"}]
[null,null,null,null,null,null,null,null,null,null,null,null,null,null,44,{"$f":"EmpDetail!B47","v":0},{"$f":"EmpDetail!C47","v":0},{"$f":"EmpDetail!D47","v":0},{"$f":"EmpDetail!J47","v":0},{"$f":"EmpDetail!K47","v":0},{"$f":"EmpDetail!F47","v":"00:00:00"}]
[null,null,null,null,null,null,null,null,null,null,null,null,null,null,45,{"$f":"EmpDetail!B48","v":0},{"$f":"EmpDetail!C48","v":0},{"$f":"EmpDetail!D48","v":0},{"$f":"EmpDetail!J48","v":0},{"$f":"EmpDetail!K48","v":0},{"$f":"EmpDetail!F48","v":"00:00:00"}]
[null,null,null,null,null,null,null,null,null,null,null,null,null,null,46,{"$f":"EmpDetail!B49","v":0},{"$f":"EmpDetail!C49","v":0},{"$f":"EmpDetail!D49","v":0},{"$f":"EmpDetail!J49","v":0},{"$f":"EmpDetail!K49","v":0},{"$f":"EmpDetail!F49","v":"00:00:00"}]
[null,null,null,null,null,null,null,null,null,null,null,null,null,null,47,{"$f":"EmpDetail!B50","v":0},{"$f":"EmpDetail!C50","v":0},{"$f":"EmpDetail!D50","v":0},{"$f":"EmpDetail!J50","v":0},{"$f":"EmpDetail!K50","v":0},{"$f":"EmpDetail!F50","v":"00:00:00"}]
[null,null,null,null,null,null,null,null,null,null,null,null,null,null,48,{"$f":"EmpDetail!B51","v":0},{"$f":"EmpDetail!C51","v":0},{"$f":"EmpDetail!D51","v":0},{"$f":"EmpDetail!J51","v":0},{"$f":"EmpDetail!K51","v":0},{"$f":"EmpDetail!F51","v":"00:00:00"}]
[null,null,null,null,null,null,null,null,null,null,null,null,null,null,49,{"$f":"EmpDetail!B52","v":0},{"$f":"EmpDetail!C52","v":0},{"$f":"EmpDetail!D52","v":0},{"$f":"EmpDetail!J52","v":0},{"$f":"EmpDetail!K52","v":0},{"$f":"EmpDetail!F52","v":"00:00:00"}]
[null,null,null,null,null,null,null,null,null,null,null,null,null,null,50,{"$f":"EmpDetail!B53","v":0},{"$f":"EmpDetail!C53","v":0},{"$f":"EmpDetail!D53","v":0},{"$f":"EmpDetail!J53","v":0},{"$f":"EmpDetail!K53","v":0},{"$f":"EmpDetail!F53","v":"00:00:00"}]
[null,null,null,null,null,null,null,null,null,null,null,null,null,null,51,{"$f":"EmpDetail!B54","v":0},{"$f":"EmpDetail!C54","v":0},{"$f":"EmpDetail!D54","v":0},{"$f":"EmpDetail!J54","v":0},{"$f":"EmpDetail!K54","v":0},{"$f":"EmpDetail!F54","v":"00:00:00"}]
[null,null,null,null,null,null,null,null,null,null,null,null,null,null,52,{"$f":"EmpDetail!B55","v":0},{"$f":"EmpDetail!C55","v":0},{"$f":"EmpDetail!D55","v":0},{"$f":"EmpDetail!J55","v":0},{"$f":"EmpDetail!K55","v":0},{"$f":"EmpDetail!F55","v":"00:00:00"}]
[null,null,null,null,null,null,null,null,null,null,null,null,null,null,53,{"$f":"EmpDetail!B56","v":0},{"$f":"EmpDetail!C56","v":0},{"$f":"EmpDetail!D56","v":0},{"$f":"EmpDetail!J56","v":0},{"$f":"EmpDetail!K56","v":0},{"$f":"EmpDetail!F56","v":"00:00:00"}]
[null,null,null,null,null,null,null,null,null,null,null,null,null,null,54,{"$f":"EmpDetail!B57","v":0},{"$f":"EmpDetail!C57","v":0},{"$f":"EmpDetail!D57","v":0},{"$f":"EmpDetail!J57","v":0},{"$f":"EmpDetail!K57","v":0},{"$f":"EmpDetail!F57","v":"00:00:00"}]
[null,null,null,null,null,null,null,null,null,null,null,null,null,null,55,{"$f":"EmpDetail!B58","v":0},{"$f":"EmpDetail!C58","v":0},{"$f":"EmpDetail!D58","v":0},{"$f":"EmpDetail!J58","v":0},{"$f":"EmpDetail!K58","v":0},{"$f":"EmpDetail!F58","v":"00:00:00"}]
[null,null,null,null,null,null,null,null,null,null,null,null,null,null,56,{"$f":"EmpDetail!B59","v":0},{"$f":"EmpDetail!C59","v":0},{"$f":"EmpDetail!D59","v":0},{"$f":"EmpDetail!J59","v":0},{"$f":"EmpDetail!K59","v":0},{"$f":"EmpDetail!F59","v":"00:00:00"}]
[null,null,null,null,null,null,null,null,null,null,null,null,null,null,57,{"$f":"EmpDetail!B60","v":0},{"$f":"EmpDetail!C60","v":0},{"$f":"EmpDetail!D60","v":0},{"$f":"EmpDetail!J60","v":0},{"$f":"EmpDetail!K60","v":0},{"$f":"EmpDetail!F60","v":"00:00:00"}]
[null,null,null,null,null,null,null,null,null,null,null,null,null,null,58,{"$f":"EmpDetail!B61","v":0},{"$f":"EmpDetail!C61","v":0},{"$f":"EmpDetail!D61","v":0},{"$f":"EmpDetail!J61","v":0},{"$f":"EmpDetail!K61","v":0},{"$f":"EmpDetail!F61","v":"00:00:00"}]
[null,null,null,null,null,null,null,null,null,null,null,null,null,null,59,{"$f":"EmpDetail!B62","v":0},{"$f":"EmpDetail!C62","v":0},{"$f":"EmpDetail!D62","v":0},{"$f":"EmpDetail!J62","v":0},{"$f":"EmpDetail!K62","v":0},{"$f":"EmpDetail!F62","v":"00:00:00"}]
[null,null,null,null,null,null,null,null,null,null,null,null,null,null,60,{"$f":"EmpDetail!B63","v":0},{"$f":"EmpDetail!C63","v":0},{"$f":"EmpDetail!D63","v":0},{"$f":"EmpDetail!J63","v":0},{"$f":"EmpDetail!K63","v":0},{"$f":"EmpDetail!F63","v":"00:00:00"}]
[null,null,null,null,null,null,null,null,null,null,null,null,null,null,61,{"$f":"EmpDetail!B64","v":0},{"$f":"EmpDetail!C64","v":0},{"$f":"EmpDetail!D64","v":0},{"$f":"EmpDetail!J64","v":0},{"$f":"EmpDetail!K64","v":0},{"$f":"EmpDetail!F64","v":"00:00:00"}]
[null,null,null,null,null,null,null,null,null,null,null,null,null,null,62,{"$f":"EmpDetail!B65","v":0},{"$f":"EmpDetail!C65","v":0},{"$f":"EmpDetail!D65","v":0},{"$f":"EmpDetail!J65","v":0},{"$f":"EmpDetail!K65","v":0},{"$f":"EmpDetail!F65","v":"00:00:00"}]
[null,null,null,null,null,null,null,null,null,null,null,null,null,null,63,{"$f":"EmpDetail!B66","v":0},{"$f":"EmpDetail!C66","v":0},{"$f":"EmpDetail!D66","v":0},{"$f":"EmpDetail!J66","v":0},{"$f":"EmpDetail!K66","v":0},{"$f":"EmpDetail!F66","v":"00:00:00"}]
[null,null,null,null,null,null,null,null,null,null,null,null,null,null,64,{"$f":"EmpDetail!B67","v":0},{"$f":"EmpDetail!C67","v":0},{"$f":"EmpDetail!D67","v":0},{"$f":"EmpDetail!J67","v":0},{"$f":"EmpDetail!K67","v":0},{"$f":"EmpDetail!F67","v":"00:00:00"}]
[null,null,null,null,null,null,null,null,null,null,null,null,null,null,65,{"$f":"EmpDetail!B68","v":0},{"$f":"EmpDetail!C68","v":0},{"$f":"EmpDetail!D68","v":0},{"$f":"EmpDetail!J68","v":0},{"$f":"EmpDetail!K68","v":0},{"$f":"EmpDetail!F68","v":"00:00:00"}]
[null,null,null,null,null,null,null,null,null,null,null,null,null,null,66,{"$f":"EmpDetail!B69","v":0},{"$f":"EmpDetail!C69","v":0},{"$f":"EmpDetail!D69","v":0},{"$f":"EmpDetail!J69","v":0},{"$f":"EmpDetail!K69","v":0},{"$f":"EmpDetail!F69","v":"00:00:00"}]
[null,null,null,null,null,null,null,null,null,null,null,null,null,null,67,{"$f":"EmpDetail!B70","v":0},{"$f":"EmpDetail!C70","v":0},{"$f":"EmpDetail!D70","v":0},{"$f":"EmpDetail!J70","v":0},{"$f":"EmpDetail!K70","v":0},{"$f":"EmpDetail!F70","v":"00:00:00"}]
[null,null,null,null,null,null,null,null,null,null,null,null,null,null,68,{"$f":"EmpDetail!B71","v":0},{"$f":"EmpDetail!C71","v":0},{"$f":"EmpDetail!D71","v":0},{"$f":"EmpDetail!J71","v":0},{"$f":"EmpDetail!K71","v":0},{"$f":"EmpDetail!F71","v":"00:00:00"}]
[null,null,null,null,null,null,null,null,null,null,null,null,null,null,69,{"$f":"EmpDetail!B72","v":0},{"$f":"EmpDetail!C72","v":0},{"$f":"EmpDetail!D72","v":0},{"$f":"EmpDetail!J72","v":0},{"$f":"EmpDetail!K72","v":0},{"$f":"EmpDetail!F72","v":"00:00:00"}]
[null,null,null,null,null,null,null,null,null,null,null,null,null,null,70,{"$f":"EmpDetail!B73","v":0},{"$f":"EmpDetail!C73","v":0},{"$f":"EmpDetail!D73","v":0},{"$f":"EmpDetail!J73","v":0},{"$f":"EmpDetail!K73","v":0},{"$f":"EmpDetail!F73","v":"00:00:00"}]
[null,null,null,null,null,null,null,null,null,null,null,null,null,null,71,{"$f":"EmpDetail!B74","v":0},{"$f":"EmpDetail!C74","v":0},{"$f":"EmpDetail!D74","v":0},{"$f":"EmpDetail!J74","v":0},{"$f":"EmpDetail!K74","v":0},{"$f":"EmpDetail!F74","v":"00:00:00"}]
[null,null,null,null,null,null,null,null,null,null,null,null,null,null,72,{"$f":"EmpDetail!B75","v":0},{"$f":"EmpDetail!C75","v":0},{"$f":"EmpDetail!D75","v":0},{"$f":"EmpDetail!J75","v":0},{"$f":"EmpDetail!K75","v":0},{"$f":"EmpDetail!F75","v":"00:00:00"}]
[null,null,null,null,null,null,null,null,null,null,null,null,null,null,73,{"$f":"EmpDetail!B76","v":0},{"$f":"EmpDetail!C76","v":0},{"$f":"EmpDetail!D76","v":0},{"$f":"EmpDetail!J76","v":0},{"$f":"EmpDetail!K76","v":0},{"$f":"EmpDetail!F76","v":"00:00:00"}]
[null,null,null,null,null,null,null,null,null,null,null,null,null,null,74,{"$f":"EmpDetail!B77","v":0},{"$f":"EmpDetail!C77","v":0},{"$f":"EmpDetail!D77","v":0},{"$f":"EmpDetail!J77","v":0},{"$f":"EmpDetail!K77","v":0},{"$f":"EmpDetail!F77","v":"00:00:00"}]
[null,null,null,null,null,null,null,null,null,null,null,null,null,null,75,{"$f":"EmpDetail!B78","v":0},{"$f":"EmpDetail!C78","v":0},{"$f":"EmpDetail!D78","v":0},{"$f":"EmpDetail!J78","v":0},{"$f":"EmpDetail!K78","v":0},{"$f":"EmpDetail!F78","v":"00:00:00"}]
[null,null,null,null,null,null,null,null,null,null,null,null,null,null,76,{"$f":"EmpDetail!B79","v":0},{"$f":"EmpDetail!C79","v":0},{"$f":"EmpDetail!D79","v":0},{"$f":"EmpDetail!J79","v":0},{"$f":"EmpDetail!K79","v":0},{"$f":"EmpDetail!F79","v":"00:00:00"}]
[null,null,null,null,null,null,null,null,null,null,null,null,null,null,77,{"$f":"EmpDetail!B80","v":0},{"$f":"EmpDetail!C80","v":0},{"$f":"EmpDetail!D80","v":0},{"$f":"EmpDetail!J80","v":0},{"$f":"EmpDetail!K80","v":0},{"$f":"EmpDetail!F80","v":"00:00:00"}]
[null,null,null,null,null,null,null,null,null,null,null,null,null,null,78,{"$f":"EmpDetail!B81","v":0},{"$f":"EmpDetail!C81","v":0},{"$f":"EmpDetail!D81","v":0},{"$f":"EmpDetail!J81","v":0},{"$f":"EmpDetail!K81","v":0},{"$f":"EmpDetail!F81","v":"00:00:00"}]
[null,null,null,null,null,null,null,null,null,null,null,null,null,null,79,{"$f":"EmpDetail!B82","v":0},{"$f":"EmpDetail!C82","v":0},{"$f":"EmpDetail!D82","v":0},{"$f":"EmpDetail!J82","v":0},{"$f":"EmpDetail!K82","v":0},{"$f":"EmpDetail!F82","v":"00:00:00"}]
[null,null,null,null,null,null,null,null,null,null,null,null,null,null,80,{"$f":"EmpDetail!B83","v":0},{"$f":"EmpDetail!C83","v":0},{"$f":"EmpDetail!D83","v":0},{"$f":"EmpDetail!J83","v":0},{"$f":"EmpDetail!K83","v":0},{"$f":"EmpDetail!F83","v":"00:00:00"}]
[null,null,null,null,null,null,null,null,null,null,null,null,null,null,81,{"$f":"EmpDetail!B84","v":0},{"$f":"EmpDetail!C84","v":0},{"$f":"EmpDetail!D84","v":0},{"$f":"EmpDetail!J84","v":0},{"$f":"EmpDetail!K84","v":0},{"$f":"EmpDetail!F84","v":"00:00:00"}]
[null,null,null,null,null,null,null,null,null,null,null,null,null,null,82,{"$f":"EmpDetail!B85","v":0},{"$f":"EmpDetail!C85","v":0},{"$f":"EmpDetail!D85","v":0},{"$f":"EmpDetail!J85","v":0},{"$f":"EmpDetail!K85","v":0},{"$f":"EmpDetail!F85","v":"00:00:00"}]
[null,null,null,null,null,null,null,null,null,null,null,null,null,null,83,{"$f":"EmpDetail!B86","v":0},{"$f":"EmpDetail!C86","v":0},{"$f":"EmpDetail!D86","v":0},{"$f":"EmpDetail!J86","v":0},{"$f":"EmpDetail!K86","v":0},{"$f":"EmpDetail!F86","v":"00:00:00"}]
[null,null,null,null,null,null,null,null,null,null,null,null,null,null,84,{"$f":"EmpDetail!B87","v":0},{"$f":"EmpDetail!C87","v":0},{"$f":"EmpDetail!D87","v":0},{"$f":"EmpDetail!J87","v":0},{"$f":"EmpDetail!K87","v":0},{"$f":"EmpDetail!F87","v":"00:00:00"}]
[null,null,null,null,null,null,null,null,null,null,null,null,null,null,85,{"$f":"EmpDetail!B88","v":0},{"$f":"EmpDetail!C88","v":0},{"$f":"EmpDetail!D88","v":0},{"$f":"EmpDetail!J88","v":0},{"$f":"EmpDetail!K88","v":0},{"$f":"EmpDetail!F88","v":"00:00:00"}]
[null,null,null,null,null,null,null,null,null,null,null,null,null,null,86,{"$f":"EmpDetail!B89","v":0},{"$f":"EmpDetail!C89","v":0},{"$f":"EmpDetail!D89","v":0},{"$f":"EmpDetail!J89","v":0},{"$f":"EmpDetail!K89","v":0},{"$f":"EmpDetail!F89","v":"00:00:00"}]
[null,null,null,null,null,null,null,null,null,null,null,null,null,null,87,{"$f":"EmpDetail!B90","v":0},{"$f":"EmpDetail!C90","v":0},{"$f":"EmpDetail!D90","v":0},{"$f":"EmpDetail!J90","v":0},{"$f":"EmpDetail!K90","v":0},{"$f":"EmpDetail!F90","v":"00:00:00"}]
[null,null,null,null,null,null,null,null,null,null,null,null,null,null,88,{"$f":"EmpDetail!B91","v":0},{"$f":"EmpDetail!C91","v":0},{"$f":"EmpDetail!D91","v":0},{"$f":"EmpDetail!J91","v":0},{"$f":"EmpDetail!K91","v":0},{"$f":"EmpDetail!F91","v":"00:00:00"}]
[null,null,null,null,null,null,null,null,null,null,null,null,null,null,89,{"$f":"EmpDetail!B92","v":0},{"$f":"EmpDetail!C92","v":0},{"$f":"EmpDetail!D92","v":0},{"$f":"EmpDetail!J92","v":0},{"$f":"EmpDetail!K92","v":0},{"$f":"EmpDetail!F92","v":"00:00:00"}]
[null,null,null,null,null,null,null,null,null,null,null,null,null,null,90,{"$f":"EmpDetail!B93","v":0},{"$f":"EmpDetail!C93","v":0},{"$f":"EmpDetail!D93","v":0},{"$f":"EmpDetail!J93","v":0},{"$f":"EmpDetail!K93","v":0},{"$f":"EmpDetail!F93","v":"00:00:00"}]
[null,null,null,null,null,null,null,null,null,null,null,null,null,null,91,{"$f":"EmpDetail!B94","v":0},{"$f":"EmpDetail!C94","v":0},{"$f":"EmpDetail!D94","v":0},{"$f":"EmpDetail!J94","v":0},{"$f":"EmpDetail!K94","v":0},{"$f":"EmpDetail!F94","v":"00:00:00"}]
[null,null,null,null,null,null,null,null,null,null,null,null,null,null,92,{"$f":"EmpDetail!B95","v":0},{"$f":"EmpDetail!C95","v":0},{"$f":"EmpDetail!D95","v":0},{"$f":"EmpDetail!J95","v":0},{"$f":"EmpDetail!K95","v":0},{"$f":"EmpDetail!F95","v":"00:00:00"}]
[null,null,null,null,null,null,null,null,null,null,null,null,null,null,93,{"$f":"EmpDetail!B96","v":0},{"$f":"EmpDetail!C96","v":0},{"$f":"EmpDetail!D96","v":0},{"$f":"EmpDetail!J96","v":0},{"$f":"EmpDetail!K96","v":0},{"$f":"EmpDetail!F96","v":"00:00:00"}]
[null,null,null,null,null,null,null,null,null,null,null,null,null,null,94,{"$f":"EmpDetail!B97","v":0},{"$f":"EmpDetail!C97","v":0},{"$f":"EmpDetail!D97","v":0},{"$f":"EmpDetail!J97","v":0},{"$f":"EmpDetail!K97","v":0},{"$f":"EmpDetail!F97","v":"00:00:00"}]
[null,null,null,null,null,null,null,null,null,null,null,null,null,null,95,{"$f":"EmpDetail!B98","v":0},{"$f":"EmpDetail!C98","v":0},{"$f":"EmpDetail!D98","v":0},{"$f":"EmpDetail!J98","v":0},{"$f":"EmpDetail!K98","v":0},{"$f":"EmpDetail!F98","v":"00:00:00"}]
[null,null,null,null,null,null,null,null,null,null,null,null,null,null,96,{"$f":"EmpDetail!B99","v":0},{"$f":"EmpDetail!C99","v":0},{"$f":"EmpDetail!D99","v":0},{"$f":"EmpDetail!J99","v":0},{"$f":"EmpDetail!K99","v":0},{"$f":"EmpDetail!F99","v":"00:00:00"}]
[null,null,null,null,null,null,null,null,null,null,null,null,null,null,97,{"$f":"EmpDetail!B100","v":0},{"$f":"EmpDetail!C100","v":0},{"$f":"EmpDetail!D100","v":0},{"$f":"EmpDetail!J100","v":0},{"$f":"EmpDetail!K100","v":0},{"$f":"EmpDetail!F100","v":"00:00:00"}]
[null,null,null,null,null,null,null,null,null,null,null,null,null,null,98,{"$f":"EmpDetail!B101","v":0},{"$f":"EmpDetail!C101","v":0},{"$f":"EmpDetail!D101","v":0},{"$f":"EmpDetail!J101","v":0},{"$f":"EmpDetail!K101","v":0},{"$f":"EmpDetail!F101","v":"00:00:00"}]
[null,null,null,null,null,null,null,null,null,null,null,null,null,null,99,{"$f":"EmpDetail!B102","v":0},{"$f":"EmpDetail!C102","v":0},{"$f":"EmpDetail!D102","v":0},{"$f":"EmpDetail!J102","v":0},{"$f":"EmpDetail!K102","v":0},{"$f":"EmpDetail!F102","v":"00:00:00"}]
[null,null,null,null,null,null,null,null,null,null,null,null,null,null,100,{"$f":"EmpDetail!B103","v":0},{"$f":"EmpDetail!C103","v":0},{"$f":"EmpDetail!D103","v":0},{"$f":"EmpDetail!J103","v":0},{"$f":"EmpDetail!K103","v":0},{"$f":"EmpDetail!F103","v":"00:00:00"}]

{"sheet":"DPC Pay","index":12,"n_rows":108,"n_cols":25,"rows_kept":108,"cut":false,"hidden":true,"merged":[[0,1,0,16],[3,13,3,16]]}
[null,{"$f":"Master!G2&Master!H2","v":"कार्यालय&राजकीय उच्च माध्यमिक विद्यालय ]चौगाई]टोंक"},null,null,null,null,null,null,null,null,null,null,null,null,null,null,null,null,null,null,null,null,null,null,"निदेशक माध्यमिक शिक्षा राजस्थान] बीकानेर के आदेश क्रमांक"]
[null,null,null,null,null,null,null,null,"dk;kZy; vkns'k",null,null,null,null,null,null,null,null,null,null,null,null,null,null,null,"उप निदेशक माध्यमिक शिक्षा अजमेर] वृत अजमेर के आदेश क्रमांक"]
[null,null,null,null,null,null,null,null,null,null,null,null,null,null,null,null,null,null,null,null,null,null,null,null,"जिला शिक्षा अधिकारी माध्यमिक शिक्षा टोंक के आदेश क्रमांक"]
[null,null,null,null,"निदेशक माध्यमिक शिक्षा राजस्थान] बीकानेर के आदेश क्रमांक","f'kfojk@ek@laLFkk@lh&5@Mhihlh@Hkwxks vU;@2020&21@Hkwxksy@1&412",null,null,null,null,null,"fnukad&","2021-02-02"," dh vuqikyuk esa",null,null,null,null,null,null,null,null,null,null,"जिला शिक्षा अधिकारी प्रारम्भिक शिक्षा टोंक के आदेश क्रमांक"]
[null," fuEukafdr dkfeZdksa dks  inksUur fd;k x;k gSA vkns'kksa dh vuqikyuk esa dk;Zxzg.kksijkUr] foÙk foHkkx dh foKfIr la- ,Q-1¼4½,QMh¼:Yl½@2017&A t;iqj fnukad 30 vDVwcj]2017 ds vuqlj.k esa jktLFkku lsok fu;eksa ds ",null,null,null,null,null,null,null,null,null,null,null,null,null,null,null,null,null,null,null,null,null,null,"मुख्य जिला शिक्षा अधिकारी मुख्यालय टोंक के आदेश क्रमांक"]
[null,"fu;e 26 , ¼A½ ds vuqlj.k esa budk osru buds uke ds lEeq[k vafdr fooj.kkuqlkj fu/kkZj.k dj] osru vkgj.k dh Lohd`fr iznku dh tkrh gSA budh vkxkeh osru o`f) fnukad dkWye la[;k 15 esa vafdrkuqlkj jgsxhA",null,null,null,null,null,null,null,null,null,null,null,null,null,null,null,null,null,null,null,null,null,null,"eq"]
["dkfeZd Øe","Ø-la-","uke dfeZd"," in uke","inLFkkiu LFkku","inksUufr iwoZ dk in","Mhihlh in dk fo\"k;","Mhihlh o\"kZ","dkYifud osru fu/kkZj.k frfFk","inksUufr ij dk;Z xzg.k fnukad","orZeku osru dk ysoy","inksUufr ij ns; ysoy","orZeku in dk osru","orZeku osru ij ,d osru o`f)","inksUufr ij fu/kkZfjr osru","vkxkeh osru o`f) frfFk","fo0fo0"]
[null,1,2,3,4,5,6,7,8,9,10,11,12,13,14,15,16]
[7,{"$f":"IF(C9=\"\",\"\",1)","v":1},{"$f":"IF(ISNA(VLOOKUP($A9,$R$9:$W$108,2,FALSE)),\"\",VLOOKUP($A9,$R$9:$W$108,2,FALSE))","v":"vk'kkjke eh.kk"},{"$f":"IF(ISNA(VLOOKUP($A9,$R$9:$W$108,3,FALSE)),\"\",VLOOKUP($A9,$R$9:$W$108,3,FALSE))","v":"वरिष्ठ अध्यापक"},{"$f":"IF(ISNA(VLOOKUP($A9,$R$9:$W$108,4,FALSE)),\"\",VLOOKUP($A9,$R$9:$W$108,4,FALSE))","v":"राउमावि चौगाई"},"वरिष्ठ अध्यापक","भूगोल","2020-21","2020-04-01","2021-02-03",{"$f":"IF(ISNA(VLOOKUP($A9,$R$9:$W$108,5,FALSE)),\"\",VLOOKUP($A9,$R$9:$W$108,5,FALSE))","v":"L-11"},"L-12",{"$f":"IF(ISNA(VLOOKUP($A9,$R$9:$W$108,6,FALSE)),\"\",VLOOKUP($A9,$R$9:$W$108,6,FALSE))","v":52300},{"$f":"IF(AND(M9=\"\"),\"\",ROUND(ROUND(M9*3%,0),-2))","v":1600},45600,"2020-07-01","dkYifud",1,{"$f":"EmpDetail!B4","v":"fd'ku yky cSjok"},{"$f":"EmpDetail!C4","v":"प्रधानाचार्य"},{"$f":"EmpDetail!D4","v":"राउमावि चौगाई"},{"$f":"EmpDetail!J4","v":"L-16"},{"$f":"EmpDetail!K4","v":95900}]
[null,{"$f":"IF(C10=\"\",\"\",B9+1)","v":""},{"$f":"IF(ISNA(VLOOKUP($A10,$R$9:$W$108,2,FALSE)),\"\",VLOOKUP($A10,$R$9:$W$108,2,FALSE))","v":""},{"$f":"IF(ISNA(VLOOKUP($A10,$R$9:$W$108,3,FALSE)),\"\",VLOOKUP($A10,$R$9:$W$108,3,FALSE))","v":""},{"$f":"IF(ISNA(VLOOKUP($A10,$R$9:$W$108,4,FALSE)),\"\",VLOOKUP($A10,$R$9:$W$108,4,FALSE))","v":""},null,null,null,null,"",{"$f":"IF(ISNA(VLOOKUP($A10,$R$9:$W$108,5,FALSE)),\"\",VLOOKUP($A10,$R$9:$W$108,5,FALSE))","v":""},"L-12",{"$f":"IF(ISNA(VLOOKUP($A10,$R$9:$W$108,6,FALSE)),\"\",VLOOKUP($A10,$R$9:$W$108,6,FALSE))","v":""},{"$f":"IF(AND(M10=\"\"),\"\",ROUND(ROUND(M10*3%,0),-2))","v":""},47000,"2021-07-01","dkYifud okoso`-",2,{"$f":"EmpDetail!B5","v":"iwj.k pUn y{kdkj"},{"$f":"EmpDetail!C5","v":"व्याख्याता"},{"$f":"EmpDetail!D5","v":"राउमावि चौगाई"},{"$f":"EmpDetail!J5","v":"L-12"},{"$f":"EmpDetail!K5","v":56100}]
[null,{"$f":"IF(C11=\"\",\"\",B10+1)","v":""},"","","",null,null,null,null,"","",null,"","",null,null,null,3,{"$f":"EmpDetail!B6","v":"jktsUnz dqekj tSu"},{"$f":"EmpDetail!C6","v":"व्याख्याता"},{"$f":"EmpDetail!D6","v":"राउमावि चौगाई"},{"$f":"EmpDetail!J6","v":"L-12"},{"$f":"EmpDetail!K6","v":63100}]
[null,"","","","",null,null,null,null,"","",null,"","","",null,"",4,{"$f":"EmpDetail!B7","v":"fd'ku yky cSjok"},{"$f":"EmpDetail!C7","v":"व्याख्याता"},{"$f":"EmpDetail!D7","v":"राउमावि चौगाई"},{"$f":"EmpDetail!J7","v":"L-12"},{"$f":"EmpDetail!K7","v":54500}]
[null,"","","","",null,null,null,null,"","",null,"","","",null,"",5,{"$f":"EmpDetail!B8","v":"lR;ukjk;.k 'kekZ"},{"$f":"EmpDetail!C8","v":"वरिष्ठ अध्यापक"},{"$f":"EmpDetail!D8","v":"राउमावि चौगाई"},{"$f":"EmpDetail!J8","v":"L-13"},{"$f":"EmpDetail!K8","v":71300}]
[null,"","","","",null,null,null,null,"","",null,"","","",null,"",6,{"$f":"EmpDetail!B9","v":"iq\"ik tSu"},{"$f":"EmpDetail!C9","v":"वरिष्ठ अध्यापक"},{"$f":"EmpDetail!D9","v":"राउमावि चौगाई"},{"$f":"EmpDetail!J9","v":"L-13"},{"$f":"EmpDetail!K9","v":73400}]
[null,"","","","",null,null,null,null,"","",null,"","","",null,"",7,{"$f":"EmpDetail!B10","v":"vk'kkjke eh.kk"},{"$f":"EmpDetail!C10","v":"वरिष्ठ अध्यापक"},{"$f":"EmpDetail!D10","v":"राउमावि चौगाई"},{"$f":"EmpDetail!J10","v":"L-11"},{"$f":"EmpDetail!K10","v":52300}]
[null,"","","","",null,null,null,null,"","",null,"","","",null,"",8,{"$f":"EmpDetail!B11","v":"t;iky flag"},{"$f":"EmpDetail!C11","v":"वरिष्ठ अध्यापक"},{"$f":"EmpDetail!D11","v":"राउमावि चौगाई"},{"$f":"EmpDetail!J11","v":"L-12"},{"$f":"EmpDetail!K11","v":63100}]
[null,"","","","",null,null,null,null,"","",null,"","","",null,"",9,{"$f":"EmpDetail!B12","v":"jkeizlkn jsxj"},{"$f":"EmpDetail!C12","v":"वरिष्ठ अध्यापक"},{"$f":"EmpDetail!D12","v":"राउमावि चौगाई"},{"$f":"EmpDetail!J12","v":"L-11"},{"$f":"EmpDetail!K12","v":46500}]
[null,null,"uksV&","vkfFkZd ykHk inksUufr ij dk;Zxzg.k fnukad ls ns; gksxkA",null,null,null,null,null,null,null,null,null,null,null,null,null,10,{"$f":"EmpDetail!B13","v":"egsUnz dqekj tkV"},{"$f":"EmpDetail!C13","v":"शारीरिक शिक्षक"},{"$f":"EmpDetail!D13","v":"राउमावि चौगाई"},{"$f":"EmpDetail!J13","v":"L-12"},{"$f":"EmpDetail!K13","v":61300}]
[null,null,null,null,null,null,null,null,null,null,null,null,null,null,{"$f":"Master!B2","v":"प्रधानाचार्य"},null,null,11,{"$f":"EmpDetail!B14","v":"NksVw yky jsxj"},{"$f":"EmpDetail!C14","v":"अध्यापक ग्रेड III"},{"$f":"EmpDetail!D14","v":"राउमावि चौगाई"},{"$f":"EmpDetail!J14","v":"L-13"},{"$f":"EmpDetail!K14","v":65200}]
[null,null,null,null,null,null,null,null,null,null,null,null,null,null,{"$f":"Master!B3","v":"राजकीय उच्च माध्यमिक विद्यालय "},null,null,12,{"$f":"EmpDetail!B15","v":"dUgS;k yky egkoj"},{"$f":"EmpDetail!C15","v":"अध्यापक ग्रेड III"},{"$f":"EmpDetail!D15","v":"राउमावि चौगाई"},{"$f":"EmpDetail!J15","v":"L-13"},{"$f":"EmpDetail!K15","v":65200}]
[null,null,null,null,null,null,null,null,null,null,null,null,null,null,{"$f":"Master!B4","v":"चौगाई]टोंक"},null,null,13,{"$f":"EmpDetail!B16","v":"prqHkqZt tkV"},{"$f":"EmpDetail!C16","v":"अध्यापक ग्रेड III"},{"$f":"EmpDetail!D16","v":"राउमावि चौगाई"},{"$f":"EmpDetail!J16","v":"L-11"},{"$f":"EmpDetail!K16","v":52300}]
[null,"dzekad&",{"$f":"Master!H3&Master!I3&Master!J3&Master!E3&\"/\"","v":"राउमावि/चौगाई/संस्था/2021-22/"},null,null,null,null,null,null,null,null,null,null,null,null,"fnukad&",{"$f":"TODAY()","v":"2021-06-19"},14,{"$f":"EmpDetail!B17","v":"vklsQk [kku"},{"$f":"EmpDetail!C17","v":"अध्यापक ग्रेड III"},{"$f":"EmpDetail!D17","v":"राउमावि चौगाई"},{"$f":"EmpDetail!J17","v":"L-11"},{"$f":"EmpDetail!K17","v":52300}]
[null,null,"izfrfyfi lwpukFkZ ,oa ikyukFkZ",null,null,null,null,null,null,null,null,null,null,null,null,null,null,15,{"$f":"EmpDetail!B18","v":"lq'khyk cSjok"},{"$f":"EmpDetail!C18","v":"कनिष्ठ सहायक"},{"$f":"EmpDetail!D18","v":"राउमावि चौगाई"},{"$f":"EmpDetail!J18","v":"L-5"},{"$f":"EmpDetail!K18","v":14600}]
[null,1,"dks\"kkf/kdkjh@mi dks\"kkf/kdkjh",{"$f":"Master!H4","v":"पीपलू"},null,null,null,null,null,null,null,null,null,null,null,null,null,16,{"$f":"EmpDetail!B19","v":"txnh'k izlkn rsyh"},{"$f":"EmpDetail!C19","v":"सहायक कर्मचारी"},{"$f":"EmpDetail!D19","v":"राउमावि चौगाई"},{"$f":"EmpDetail!J19","v":"L-5"},{"$f":"EmpDetail!K19","v":34700}]
[null,2,"ys[kk 'kk[kk LFkkuh; dk;kZy;",null,null,null,null,null,null,null,null,null,null,null,null,null,null,17,{"$f":"EmpDetail!B20","v":"jfoUnz dqekj tSu"},{"$f":"EmpDetail!C20","v":"अध्यापक ग्रेड III"},{"$f":"EmpDetail!D20","v":"राउप्रावि मोहिनी"},{"$f":"EmpDetail!J20","v":"L-12"},{"$f":"EmpDetail!K20","v":65200}]
[null,3,"dkfeZd O;fDrxr iaftdk",null,null,null,null,null,null,null,null,null,null,null,null,null,null,18,{"$f":"EmpDetail!B21","v":" ';ke lqUnj ckxkSM"},{"$f":"EmpDetail!C21","v":"अध्यापक ग्रेड III"},{"$f":"EmpDetail!D21","v":"राउप्रावि मोहिनी"},{"$f":"EmpDetail!J21","v":"L-10"},{"$f":"EmpDetail!K21","v":40300}]
[null,4,"lEcfU/kr dkfeZd",null,null,null,null,null,null,null,null,null,null,null,{"$f":"Master!B2","v":"प्रधानाचार्य"},null,null,19,{"$f":"EmpDetail!B22","v":"d`\".kk 'kekZ"},{"$f":"EmpDetail!C22","v":"प्रबोधक"},{"$f":"EmpDetail!D22","v":"राउप्रावि मोहिनी"},{"$f":"EmpDetail!J22","v":"L-11"},{"$f":"EmpDetail!K22","v":45100}]
[null,null,null,null,null,null,null,null,null,null,null,null,null,null,{"$f":"Master!B3","v":"राजकीय उच्च माध्यमिक विद्यालय "},null,null,20,{"$f":"EmpDetail!B23","v":"/keZsUnz pkS/kjh"},{"$f":"EmpDetail!C23","v":"अध्यापक ग्रेड III"},{"$f":"EmpDetail!D23","v":"राउप्रावि गोरधनपुरा"},{"$f":"EmpDetail!J23","v":"L-10"},{"$f":"EmpDetail!K23","v":40300}]
[null,null,null,null,null,null,null,null,null,null,null,null,null,null,{"$f":"Master!B4","v":"चौगाई]टोंक"},null,null,21,{"$f":"EmpDetail!B24","v":"izgykn ekyh"},{"$f":"EmpDetail!C24","v":"प्रबोधक"},{"$f":"EmpDetail!D24","v":"राउप्रावि गोरधनपुरा"},{"$f":"EmpDetail!J24","v":"L-11"},{"$f":"EmpDetail!K24","v":46500}]
[null,null,null,null,null,null,null,null,null,null,null,null,null,null,null,null,null,22,{"$f":"EmpDetail!B25","v":"jken;ky xqtZj"},{"$f":"EmpDetail!C25","v":"प्रबोधक"},{"$f":"EmpDetail!D25","v":"राउप्रावि सोंदीफल"},{"$f":"EmpDetail!J25","v":"L-11"},{"$f":"EmpDetail!K25","v":45100}]
[null,null,null,null,null,null,null,null,null,null,null,null,null,null,null,null,null,23,{"$f":"EmpDetail!B26","v":"vkSeizdk'k tkV"},{"$f":"EmpDetail!C26","v":"अध्यापक ग्रेड III"},{"$f":"EmpDetail!D26","v":"राउप्रावि सोंदीफल"},{"$f":"EmpDetail!J26","v":"L-11"},{"$f":"EmpDetail!K26","v":45100}]
[null,null,null,null,null,null,null,null,null,null,null,null,null,null,null,null,null,24,{"$f":"EmpDetail!B27","v":"vthr flag"},{"$f":"EmpDetail!C27","v":"अध्यापक ग्रेड III"},{"$f":"EmpDetail!D27","v":"राप्रावि जानकीवल्लभपुरा"},{"$f":"EmpDetail!J27","v":"L-10"},{"$f":"EmpDetail!K27","v":40300}]
[null,null,null,null,null,null,null,null,null,null,null,null,null,null,null,null,null,25,{"$f":"EmpDetail!B28","v":"eq[rkj eha;k"},{"$f":"EmpDetail!C28","v":"प्रबोधक"},{"$f":"EmpDetail!D28","v":"राप्रावि जानकीवल्लभपुरा"},{"$f":"EmpDetail!J28","v":"L-11"},{"$f":"EmpDetail!K28","v":45100}]
[null,null,null,null,null,null,null,null,null,null,null,null,null,null,null,null,null,26,{"$f":"EmpDetail!B29","v":"eks0 tehy "},{"$f":"EmpDetail!C29","v":"प्रबोधक"},{"$f":"EmpDetail!D29","v":"राप्रावि रसूलपुरा"},{"$f":"EmpDetail!J29","v":"L-11"},{"$f":"EmpDetail!K29","v":45100}]
[null,null,null,null,null,null,null,null,null,null,null,null,null,null,null,null,null,27,{"$f":"EmpDetail!B30","v":"lkaojey tkV"},{"$f":"EmpDetail!C30","v":"अध्यापक ग्रेड III"},{"$f":"EmpDetail!D30","v":"राप्रावि रसूलपुरा"},{"$f":"EmpDetail!J30","v":"L-10"},{"$f":"EmpDetail!K30","v":38000}]
[null,null,null,null,null,null,null,null,null,null,null,null,null,null,null,null,null,28,{"$f":"EmpDetail!B31","v":"pkS/kjh eksuk jkekorkj"},{"$f":"EmpDetail!C31","v":"अध्यापक ग्रेड III"},{"$f":"EmpDetail!D31","v":"राप्रावि मोहिनी ढाणी बाढ"},{"$f":"EmpDetail!J31","v":"L-10"},{"$f":"EmpDetail!K31","v":38000}]
[null,null,null,null,null,null,null,null,null,null,null,null,null,null,null,null,null,29,{"$f":"EmpDetail!B32","v":"rkjkpUn tk;loky"},{"$f":"EmpDetail!C32","v":"प्रबोधक"},{"$f":"EmpDetail!D32","v":"राप्रावि मोहिनी ढाणी बाढ"},{"$f":"EmpDetail!J32","v":"L-11"},{"$f":"EmpDetail!K32","v":41300}]
[null,null,null,null,null,null,null,null,null,null,null,null,null,null,null,null,null,30,{"$f":"EmpDetail!B33","v":"jketl ;kno"},{"$f":"EmpDetail!C33","v":"अध्यापक ग्रेड III"},{"$f":"EmpDetail!D33","v":"राप्रावि बैरवा ढाणी सोन्दीफल"},{"$f":"EmpDetail!J33","v":"L-12"},{"$f":"EmpDetail!K33","v":63100}]
[null,null,null,null,null,null,null,null,null,null,null,null,null,null,null,null,null,31,{"$f":"EmpDetail!B34","v":"dtksMey eh.kk"},{"$f":"EmpDetail!C34","v":"अध्यापक ग्रेड III"},{"$f":"EmpDetail!D34","v":"राप्रावि बैरवा ढाणी सोन्दीफल"},{"$f":"EmpDetail!J34","v":"L-10"},{"$f":"EmpDetail!K34","v":38000}]
[null,null,null,null,null,null,null,null,null,null,null,null,null,null,null,null,null,32,{"$f":"EmpDetail!B35","v":"/kaut; xkSRre"},{"$f":"EmpDetail!C35","v":"अध्यापक ग्रेड III"},{"$f":"EmpDetail!D35","v":"राउप्रावि गोरधनपुरा"},{"$f":"EmpDetail!J35","v":"L-10"},{"$f":"EmpDetail!K35","v":34800}]
[null,null,null,null,null,null,null,null,null,null,null,null,null,null,null,null,null,33,{"$f":"EmpDetail!B36","v":"d`\".kk xaxoky"},{"$f":"EmpDetail!C36","v":"अध्यापक ग्रेड III"},{"$f":"EmpDetail!D36","v":"राउप्रावि गोरधनपुरा"},{"$f":"EmpDetail!J36","v":"L-10"},{"$f":"EmpDetail!K36","v":33800}]
[null,null,null,null,null,null,null,null,null,null,null,null,null,null,null,null,null,34,{"$f":"EmpDetail!B37","v":"n'kjFk dqekj ;kno"},{"$f":"EmpDetail!C37","v":"अध्यापक ग्रेड III"},{"$f":"EmpDetail!D37","v":"राउप्रावि सोंदीफल"},{"$f":"EmpDetail!J37","v":"L-10"},{"$f":"EmpDetail!K37","v":23700}]
[null,null,null,null,null,null,null,null,null,null,null,null,null,null,null,null,null,35,{"$f":"EmpDetail!B38","v":"d`\".k yky tkV"},{"$f":"EmpDetail!C38","v":"अध्यापक ग्रेड III"},{"$f":"EmpDetail!D38","v":"राउप्रावि सोंदीफल"},{"$f":"EmpDetail!J38","v":"L-10"},{"$f":"EmpDetail!K38","v":33800}]
[null,null,null,null,null,null,null,null,null,null,null,null,null,null,null,null,null,36,{"$f":"EmpDetail!B39","v":"nhisUnz dqekj iztkir"},{"$f":"EmpDetail!C39","v":"अध्यापक ग्रेड III"},{"$f":"EmpDetail!D39","v":"राउप्रावि सोंदीफल"},{"$f":"EmpDetail!J39","v":"L-10"},{"$f":"EmpDetail!K39","v":33800}]
[null,null,null,null,null,null,null,null,null,null,null,null,null,null,null,null,null,37,{"$f":"EmpDetail!B40","v":"uohu dqekj"},{"$f":"EmpDetail!C40","v":"अध्यापक ग्रेड III"},{"$f":"EmpDetail!D40","v":"राउप्रावि मोहिनी"},{"$f":"EmpDetail!J40","v":"L-10"},{"$f":"EmpDetail!K40","v":33800}]
[null,null,null,null,null,null,null,null,null,null,null,null,null,null,null,null,null,38,{"$f":"EmpDetail!B41","v":"ehrs'k dqekj 'kekZ"},{"$f":"EmpDetail!C41","v":"अध्यापक ग्रेड III"},{"$f":"EmpDetail!D41","v":"राउप्रावि मोहिनी"},{"$f":"EmpDetail!J41","v":"L-10"},{"$f":"EmpDetail!K41","v":34800}]
[null,null,null,null,null,null,null,null,null,null,null,null,null,null,null,null,null,39,{"$f":"EmpDetail!B42","v":"eUtw eh.kk"},{"$f":"EmpDetail!C42","v":"वरिष्ठ अध्यापक"},{"$f":"EmpDetail!D42","v":"राउप्रावि गोरधनपुरा"},{"$f":"EmpDetail!J42","v":"L-10"},{"$f":"EmpDetail!K42","v":33800}]
[null,null,null,null,null,null,null,null,null,null,null,null,null,null,null,null,null,40,{"$f":"EmpDetail!B43","v":"eatw pkS/kjh"},{"$f":"EmpDetail!C43","v":"वरिष्ठ अध्यापक"},{"$f":"EmpDetail!D43","v":"राउप्रावि सोंदीफल"},{"$f":"EmpDetail!J43","v":"L-11"},{"$f":"EmpDetail!K43","v":26500}]
[null,null,null,null,null,null,null,null,null,null,null,null,null,null,null,null,null,41,{"$f":"EmpDetail!B44","v":0},{"$f":"EmpDetail!C44","v":0},{"$f":"EmpDetail!D44","v":0},{"$f":"EmpDetail!J44","v":0},{"$f":"EmpDetail!K44","v":0}]
[null,null,null,null,null,null,null,null,null,null,null,null,null,null,null,null,null,42,{"$f":"EmpDetail!B45","v":0},{"$f":"EmpDetail!C45","v":0},{"$f":"EmpDetail!D45","v":0},{"$f":"EmpDetail!J45","v":0},{"$f":"EmpDetail!K45","v":0}]
[null,null,null,null,null,null,null,null,null,null,null,null,null,null,null,null,null,43,{"$f":"EmpDetail!B46","v":0},{"$f":"EmpDetail!#REF!","v":{"$error":"#REF!"}},{"$f":"EmpDetail!#REF!","v":{"$error":"#REF!"}},{"$f":"EmpDetail!J46","v":0},{"$f":"EmpDetail!K46","v":0}]
[null,null,null,null,null,null,null,null,null,null,null,null,null,null,null,null,null,44,{"$f":"EmpDetail!B47","v":0},{"$f":"EmpDetail!C47","v":0},{"$f":"EmpDetail!D47","v":0},{"$f":"EmpDetail!J47","v":0},{"$f":"EmpDetail!K47","v":0}]
[null,null,null,null,null,null,null,null,null,null,null,null,null,null,null,null,null,45,{"$f":"EmpDetail!B48","v":0},{"$f":"EmpDetail!C48","v":0},{"$f":"EmpDetail!D48","v":0},{"$f":"EmpDetail!J48","v":0},{"$f":"EmpDetail!K48","v":0}]
[null,null,null,null,null,null,null,null,null,null,null,null,null,null,null,null,null,46,{"$f":"EmpDetail!B49","v":0},{"$f":"EmpDetail!C49","v":0},{"$f":"EmpDetail!D49","v":0},{"$f":"EmpDetail!J49","v":0},{"$f":"EmpDetail!K49","v":0}]
[null,null,null,null,null,null,null,null,null,null,null,null,null,null,null,null,null,47,{"$f":"EmpDetail!B50","v":0},{"$f":"EmpDetail!C50","v":0},{"$f":"EmpDetail!D50","v":0},{"$f":"EmpDetail!J50","v":0},{"$f":"EmpDetail!K50","v":0}]
[null,null,null,null,null,null,null,null,null,null,null,null,null,null,null,null,null,48,{"$f":"EmpDetail!B51","v":0},{"$f":"EmpDetail!C51","v":0},{"$f":"EmpDetail!D51","v":0},{"$f":"EmpDetail!J51","v":0},{"$f":"EmpDetail!K51","v":0}]
[null,null,null,null,null,null,null,null,null,null,null,null,null,null,null,null,null,49,{"$f":"EmpDetail!B52","v":0},{"$f":"EmpDetail!C52","v":0},{"$f":"EmpDetail!D52","v":0},{"$f":"EmpDetail!J52","v":0},{"$f":"EmpDetail!K52","v":0}]
[null,null,null,null,null,null,null,null,null,null,null,null,null,null,null,null,null,50,{"$f":"EmpDetail!B53","v":0},{"$f":"EmpDetail!C53","v":0},{"$f":"EmpDetail!D53","v":0},{"$f":"EmpDetail!J53","v":0},{"$f":"EmpDetail!K53","v":0}]
[null,null,null,null,null,null,null,null,null,null,null,null,null,null,null,null,null,51,{"$f":"EmpDetail!B54","v":0},{"$f":"EmpDetail!C54","v":0},{"$f":"EmpDetail!D54","v":0},{"$f":"EmpDetail!J54","v":0},{"$f":"EmpDetail!K54","v":0}]
[null,null,null,null,null,null,null,null,null,null,null,null,null,null,null,null,null,52,{"$f":"EmpDetail!B55","v":0},{"$f":"EmpDetail!C55","v":0},{"$f":"EmpDetail!D55","v":0},{"$f":"EmpDetail!J55","v":0},{"$f":"EmpDetail!K55","v":0}]
[null,null,null,null,null,null,null,null,null,null,null,null,null,null,null,null,null,53,{"$f":"EmpDetail!B56","v":0},{"$f":"EmpDetail!C56","v":0},{"$f":"EmpDetail!D56","v":0},{"$f":"EmpDetail!J56","v":0},{"$f":"EmpDetail!K56","v":0}]
[null,null,null,null,null,null,null,null,null,null,null,null,null,null,null,null,null,54,{"$f":"EmpDetail!B57","v":0},{"$f":"EmpDetail!C57","v":0},{"$f":"EmpDetail!D57","v":0},{"$f":"EmpDetail!J57","v":0},{"$f":"EmpDetail!K57","v":0}]
[null,null,null,null,null,null,null,null,null,null,null,null,null,null,null,null,null,55,{"$f":"EmpDetail!B58","v":0},{"$f":"EmpDetail!C58","v":0},{"$f":"EmpDetail!D58","v":0},{"$f":"EmpDetail!J58","v":0},{"$f":"EmpDetail!K58","v":0}]
[null,null,null,null,null,null,null,null,null,null,null,null,null,null,null,null,null,56,{"$f":"EmpDetail!B59","v":0},{"$f":"EmpDetail!C59","v":0},{"$f":"EmpDetail!D59","v":0},{"$f":"EmpDetail!J59","v":0},{"$f":"EmpDetail!K59","v":0}]
[null,null,null,null,null,null,null,null,null,null,null,null,null,null,null,null,null,57,{"$f":"EmpDetail!B60","v":0},{"$f":"EmpDetail!C60","v":0},{"$f":"EmpDetail!D60","v":0},{"$f":"EmpDetail!J60","v":0},{"$f":"EmpDetail!K60","v":0}]
[null,null,null,null,null,null,null,null,null,null,null,null,null,null,null,null,null,58,{"$f":"EmpDetail!B61","v":0},{"$f":"EmpDetail!C61","v":0},{"$f":"EmpDetail!D61","v":0},{"$f":"EmpDetail!J61","v":0},{"$f":"EmpDetail!K61","v":0}]
[null,null,null,null,null,null,null,null,null,null,null,null,null,null,null,null,null,59,{"$f":"EmpDetail!B62","v":0},{"$f":"EmpDetail!C62","v":0},{"$f":"EmpDetail!D62","v":0},{"$f":"EmpDetail!J62","v":0},{"$f":"EmpDetail!K62","v":0}]
[null,null,null,null,null,null,null,null,null,null,null,null,null,null,null,null,null,60,{"$f":"EmpDetail!B63","v":0},{"$f":"EmpDetail!C63","v":0},{"$f":"EmpDetail!D63","v":0},{"$f":"EmpDetail!J63","v":0},{"$f":"EmpDetail!K63","v":0}]
[null,null,null,null,null,null,null,null,null,null,null,null,null,null,null,null,null,61,{"$f":"EmpDetail!B64","v":0},{"$f":"EmpDetail!C64","v":0},{"$f":"EmpDetail!D64","v":0},{"$f":"EmpDetail!J64","v":0},{"$f":"EmpDetail!K64","v":0}]
[null,null,null,null,null,null,null,null,null,null,null,null,null,null,null,null,null,62,{"$f":"EmpDetail!B65","v":0},{"$f":"EmpDetail!C65","v":0},{"$f":"EmpDetail!D65","v":0},{"$f":"EmpDetail!J65","v":0},{"$f":"EmpDetail!K65","v":0}]
[null,null,null,null,null,null,null,null,null,null,null,null,null,null,null,null,null,63,{"$f":"EmpDetail!B66","v":0},{"$f":"EmpDetail!C66","v":0},{"$f":"EmpDetail!D66","v":0},{"$f":"EmpDetail!J66","v":0},{"$f":"EmpDetail!K66","v":0}]
[null,null,null,null,null,null,null,null,null,null,null,null,null,null,null,null,null,64,{"$f":"EmpDetail!B67","v":0},{"$f":"EmpDetail!C67","v":0},{"$f":"EmpDetail!D67","v":0},{"$f":"EmpDetail!J67","v":0},{"$f":"EmpDetail!K67","v":0}]
[null,null,null,null,null,null,null,null,null,null,null,null,null,null,null,null,null,65,{"$f":"EmpDetail!B68","v":0},{"$f":"EmpDetail!C68","v":0},{"$f":"EmpDetail!D68","v":0},{"$f":"EmpDetail!J68","v":0},{"$f":"EmpDetail!K68","v":0}]
[null,null,null,null,null,null,null,null,null,null,null,null,null,null,null,null,null,66,{"$f":"EmpDetail!B69","v":0},{"$f":"EmpDetail!C69","v":0},{"$f":"EmpDetail!D69","v":0},{"$f":"EmpDetail!J69","v":0},{"$f":"EmpDetail!K69","v":0}]
[null,null,null,null,null,null,null,null,null,null,null,null,null,null,null,null,null,67,{"$f":"EmpDetail!B70","v":0},{"$f":"EmpDetail!C70","v":0},{"$f":"EmpDetail!D70","v":0},{"$f":"EmpDetail!J70","v":0},{"$f":"EmpDetail!K70","v":0}]
[null,null,null,null,null,null,null,null,null,null,null,null,null,null,null,null,null,68,{"$f":"EmpDetail!B71","v":0},{"$f":"EmpDetail!C71","v":0},{"$f":"EmpDetail!D71","v":0},{"$f":"EmpDetail!J71","v":0},{"$f":"EmpDetail!K71","v":0}]
[null,null,null,null,null,null,null,null,null,null,null,null,null,null,null,null,null,69,{"$f":"EmpDetail!B72","v":0},{"$f":"EmpDetail!C72","v":0},{"$f":"EmpDetail!D72","v":0},{"$f":"EmpDetail!J72","v":0},{"$f":"EmpDetail!K72","v":0}]
[null,null,null,null,null,null,null,null,null,null,null,null,null,null,null,null,null,70,{"$f":"EmpDetail!B73","v":0},{"$f":"EmpDetail!C73","v":0},{"$f":"EmpDetail!D73","v":0},{"$f":"EmpDetail!J73","v":0},{"$f":"EmpDetail!K73","v":0}]
[null,null,null,null,null,null,null,null,null,null,null,null,null,null,null,null,null,71,{"$f":"EmpDetail!B74","v":0},{"$f":"EmpDetail!C74","v":0},{"$f":"EmpDetail!D74","v":0},{"$f":"EmpDetail!J74","v":0},{"$f":"EmpDetail!K74","v":0}]
[null,null,null,null,null,null,null,null,null,null,null,null,null,null,null,null,null,72,{"$f":"EmpDetail!B75","v":0},{"$f":"EmpDetail!C75","v":0},{"$f":"EmpDetail!D75","v":0},{"$f":"EmpDetail!J75","v":0},{"$f":"EmpDetail!K75","v":0}]
[null,null,null,null,null,null,null,null,null,null,null,null,null,null,null,null,null,73,{"$f":"EmpDetail!B76","v":0},{"$f":"EmpDetail!C76","v":0},{"$f":"EmpDetail!D76","v":0},{"$f":"EmpDetail!J76","v":0},{"$f":"EmpDetail!K76","v":0}]
[null,null,null,null,null,null,null,null,null,null,null,null,null,null,null,null,null,74,{"$f":"EmpDetail!B77","v":0},{"$f":"EmpDetail!C77","v":0},{"$f":"EmpDetail!D77","v":0},{"$f":"EmpDetail!J77","v":0},{"$f":"EmpDetail!K77","v":0}]
[null,null,null,null,null,null,null,null,null,null,null,null,null,null,null,null,null,75,{"$f":"EmpDetail!B78","v":0},{"$f":"EmpDetail!C78","v":0},{"$f":"EmpDetail!D78","v":0},{"$f":"EmpDetail!J78","v":0},{"$f":"EmpDetail!K78","v":0}]
[null,null,null,null,null,null,null,null,null,null,null,null,null,null,null,null,null,76,{"$f":"EmpDetail!B79","v":0},{"$f":"EmpDetail!C79","v":0},{"$f":"EmpDetail!D79","v":0},{"$f":"EmpDetail!J79","v":0},{"$f":"EmpDetail!K79","v":0}]
[null,null,null,null,null,null,null,null,null,null,null,null,null,null,null,null,null,77,{"$f":"EmpDetail!B80","v":0},{"$f":"EmpDetail!C80","v":0},{"$f":"EmpDetail!D80","v":0},{"$f":"EmpDetail!J80","v":0},{"$f":"EmpDetail!K80","v":0}]
[null,null,null,null,null,null,null,null,null,null,null,null,null,null,null,null,null,78,{"$f":"EmpDetail!B81","v":0},{"$f":"EmpDetail!C81","v":0},{"$f":"EmpDetail!D81","v":0},{"$f":"EmpDetail!J81","v":0},{"$f":"EmpDetail!K81","v":0}]
[null,null,null,null,null,null,null,null,null,null,null,null,null,null,null,null,null,79,{"$f":"EmpDetail!B82","v":0},{"$f":"EmpDetail!C82","v":0},{"$f":"EmpDetail!D82","v":0},{"$f":"EmpDetail!J82","v":0},{"$f":"EmpDetail!K82","v":0}]
[null,null,null,null,null,null,null,null,null,null,null,null,null,null,null,null,null,80,{"$f":"EmpDetail!B83","v":0},{"$f":"EmpDetail!C83","v":0},{"$f":"EmpDetail!D83","v":0},{"$f":"EmpDetail!J83","v":0},{"$f":"EmpDetail!K83","v":0}]
[null,null,null,null,null,null,null,null,null,null,null,null,null,null,null,null,null,81,{"$f":"EmpDetail!B84","v":0},{"$f":"EmpDetail!C84","v":0},{"$f":"EmpDetail!D84","v":0},{"$f":"EmpDetail!J84","v":0},{"$f":"EmpDetail!K84","v":0}]
[null,null,null,null,null,null,null,null,null,null,null,null,null,null,null,null,null,82,{"$f":"EmpDetail!B85","v":0},{"$f":"EmpDetail!C85","v":0},{"$f":"EmpDetail!D85","v":0},{"$f":"EmpDetail!J85","v":0},{"$f":"EmpDetail!K85","v":0}]
[null,null,null,null,null,null,null,null,null,null,null,null,null,null,null,null,null,83,{"$f":"EmpDetail!B86","v":0},{"$f":"EmpDetail!C86","v":0},{"$f":"EmpDetail!D86","v":0},{"$f":"EmpDetail!J86","v":0},{"$f":"EmpDetail!K86","v":0}]
[null,null,null,null,null,null,null,null,null,null,null,null,null,null,null,null,null,84,{"$f":"EmpDetail!B87","v":0},{"$f":"EmpDetail!C87","v":0},{"$f":"EmpDetail!D87","v":0},{"$f":"EmpDetail!J87","v":0},{"$f":"EmpDetail!K87","v":0}]
[null,null,null,null,null,null,null,null,null,null,null,null,null,null,null,null,null,85,{"$f":"EmpDetail!B88","v":0},{"$f":"EmpDetail!C88","v":0},{"$f":"EmpDetail!D88","v":0},{"$f":"EmpDetail!J88","v":0},{"$f":"EmpDetail!K88","v":0}]
[null,null,null,null,null,null,null,null,null,null,null,null,null,null,null,null,null,86,{"$f":"EmpDetail!B89","v":0},{"$f":"EmpDetail!C89","v":0},{"$f":"EmpDetail!D89","v":0},{"$f":"EmpDetail!J89","v":0},{"$f":"EmpDetail!K89","v":0}]
[null,null,null,null,null,null,null,null,null,null,null,null,null,null,null,null,null,87,{"$f":"EmpDetail!B90","v":0},{"$f":"EmpDetail!C90","v":0},{"$f":"EmpDetail!D90","v":0},{"$f":"EmpDetail!J90","v":0},{"$f":"EmpDetail!K90","v":0}]
[null,null,null,null,null,null,null,null,null,null,null,null,null,null,null,null,null,88,{"$f":"EmpDetail!B91","v":0},{"$f":"EmpDetail!C91","v":0},{"$f":"EmpDetail!D91","v":0},{"$f":"EmpDetail!J91","v":0},{"$f":"EmpDetail!K91","v":0}]
[null,null,null,null,null,null,null,null,null,null,null,null,null,null,null,null,null,89,{"$f":"EmpDetail!B92","v":0},{"$f":"EmpDetail!C92","v":0},{"$f":"EmpDetail!D92","v":0},{"$f":"EmpDetail!J92","v":0},{"$f":"EmpDetail!K92","v":0}]
[null,null,null,null,null,null,null,null,null,null,null,null,null,null,null,null,null,90,{"$f":"EmpDetail!B93","v":0},{"$f":"EmpDetail!C93","v":0},{"$f":"EmpDetail!D93","v":0},{"$f":"EmpDetail!J93","v":0},{"$f":"EmpDetail!K93","v":0}]
[null,null,null,null,null,null,null,null,null,null,null,null,null,null,null,null,null,91,{"$f":"EmpDetail!B94","v":0},{"$f":"EmpDetail!C94","v":0},{"$f":"EmpDetail!D94","v":0},{"$f":"EmpDetail!J94","v":0},{"$f":"EmpDetail!K94","v":0}]
[null,null,null,null,null,null,null,null,null,null,null,null,null,null,null,null,null,92,{"$f":"EmpDetail!B95","v":0},{"$f":"EmpDetail!C95","v":0},{"$f":"EmpDetail!D95","v":0},{"$f":"EmpDetail!J95","v":0},{"$f":"EmpDetail!K95","v":0}]
[null,null,null,null,null,null,null,null,null,null,null,null,null,null,null,null,null,93,{"$f":"EmpDetail!B96","v":0},{"$f":"EmpDetail!C96","v":0},{"$f":"EmpDetail!D96","v":0},{"$f":"EmpDetail!J96","v":0},{"$f":"EmpDetail!K96","v":0}]
[null,null,null,null,null,null,null,null,null,null,null,null,null,null,null,null,null,94,{"$f":"EmpDetail!B97","v":0},{"$f":"EmpDetail!C97","v":0},{"$f":"EmpDetail!D97","v":0},{"$f":"EmpDetail!J97","v":0},{"$f":"EmpDetail!K97","v":0}]
[null,null,null,null,null,null,null,null,null,null,null,null,null,null,null,null,null,95,{"$f":"EmpDetail!B98","v":0},{"$f":"EmpDetail!C98","v":0},{"$f":"EmpDetail!D98","v":0},{"$f":"EmpDetail!J98","v":0},{"$f":"EmpDetail!K98","v":0}]
[null,null,null,null,null,null,null,null,null,null,null,null,null,null,null,null,null,96,{"$f":"EmpDetail!B99","v":0},{"$f":"EmpDetail!C99","v":0},{"$f":"EmpDetail!D99","v":0},{"$f":"EmpDetail!J99","v":0},{"$f":"EmpDetail!K99","v":0}]
[null,null,null,null,null,null,null,null,null,null,null,null,null,null,null,null,null,97,{"$f":"EmpDetail!B100","v":0},{"$f":"EmpDetail!C100","v":0},{"$f":"EmpDetail!D100","v":0},{"$f":"EmpDetail!J100","v":0},{"$f":"EmpDetail!K100","v":0}]
[null,null,null,null,null,null,null,null,null,null,null,null,null,null,null,null,null,98,{"$f":"EmpDetail!B101","v":0},{"$f":"EmpDetail!C101","v":0},{"$f":"EmpDetail!D101","v":0},{"$f":"EmpDetail!J101","v":0},{"$f":"EmpDetail!K101","v":0}]
[null,null,null,null,null,null,null,null,null,null,null,null,null,null,null,null,null,99,{"$f":"EmpDetail!B102","v":0},{"$f":"EmpDetail!C102","v":0},{"$f":"EmpDetail!D102","v":0},{"$f":"EmpDetail!J102","v":0},{"$f":"EmpDetail!K102","v":0}]
[null,null,null,null,null,null,null,null,null,null,null,null,null,null,null,null,null,100,{"$f":"EmpDetail!B103","v":0},{"$f":"EmpDetail!C103","v":0},{"$f":"EmpDetail!D103","v":0},{"$f":"EmpDetail!J103","v":0},{"$f":"EmpDetail!K103","v":0}]

{"sheet":"PL on Retirement","index":13,"n_rows":109,"n_cols":16,"rows_kept":109,"cut":false,"hidden":true,"merged":[[0,1,0,9],[5,1,5,9],[6,1,6,9]]}
[null,{"$f":"Master!G2&Master!H2","v":"कार्यालय&राजकीय उच्च माध्यमिक विद्यालय ]चौगाई]टोंक"}]
[]
[null,null,null,null,null,"dk;kZy; vkns'k"]
[]
[null,null,"jktLFkku lsok fu;eksa ds fu;e 91 , ds vUrxZr jktLFkku ljdkj foÙk foHkkx ds vkns'k Øekad % ,Q&1¼12½@,QMh@:Yl@2005@¼vkj-,l-vkj-&18@10½ fnukad 06-02-2009"]
[null,",oe~  lela[;d vkns'k fnukad 18-06-2010 ds vuqlj.k esa vf/kokf\"kZdh vk;q iw.kZ gksus@e`R;q ds dkj.k lsokfuo`Ùk@lsokeqDr gksus ij muds uke ds lEeq[k vafdr fooj.kkuqlkj buds vodk'k"]
[null,"[kkrs esa vuqi;ksftr mikftZr vodk'k ds ,ot esa udn Hkqxrku fd;s tkus dh ,r~r }kjk Lohd`fr iznku dh tkrh gSA"]
[]
["dkfeZd Øe","Ø-la-","uke dfeZd"," in uke","inLFkkiu LFkku","is&eSfVªDl  ysoy","vkosnu fnukad dks ewy osru","lsok fuo`fÙk vkns'k Øekad","[kkrs esa miyC/k mikftZr vodk'k","lsok fuo`fÙk fnukad"]
[33,{"$f":"IF(C10=\"\",\"\",1)","v":1},{"$f":"IF(ISNA(VLOOKUP($A10,$K$10:$P$109,2,FALSE)),\"\",VLOOKUP($A10,$K$10:$P$109,2,FALSE))","v":"d`\".kk xaxoky"},{"$f":"IF(ISNA(VLOOKUP($A10,$K$10:$P$109,3,FALSE)),\"\",VLOOKUP($A10,$K$10:$P$109,3,FALSE))","v":"अध्यापक ग्रेड III"},{"$f":"IF(ISNA(VLOOKUP($A10,$K$10:$P$109,4,FALSE)),\"\",VLOOKUP($A10,$K$10:$P$109,4,FALSE))","v":"राउप्रावि गोरधनपुरा"},{"$f":"IF(ISNA(VLOOKUP($A10,$K$10:$P$109,5,FALSE)),\"\",VLOOKUP($A10,$K$10:$P$109,5,FALSE))","v":"L-10"},{"$f":"IF(ISNA(VLOOKUP($A10,$K$10:$P$109,6,FALSE)),\"\",VLOOKUP($A10,$K$10:$P$109,6,FALSE))","v":33800},"lafu@Ldwy f'k-@vt@laLFkk&4@Qk- ls-fu@2019@109 fn 14-02-2020",253,"2021-01-31",1,{"$f":"EmpDetail!B4","v":"fd'ku yky cSjok"},{"$f":"EmpDetail!C4","v":"प्रधानाचार्य"},{"$f":"EmpDetail!D4","v":"राउमावि चौगाई"},{"$f":"EmpDetail!J4","v":"L-16"},{"$f":"EmpDetail!K4","v":95900}]
[null,{"$f":"IF(C11=\"\",\"\",B10+1)","v":""},{"$f":"IF(ISNA(VLOOKUP($A11,$K$10:$P$109,2,FALSE)),\"\",VLOOKUP($A11,$K$10:$P$109,2,FALSE))","v":""},{"$f":"IF(ISNA(VLOOKUP($A11,$K$10:$P$109,3,FALSE)),\"\",VLOOKUP($A11,$K$10:$P$109,3,FALSE))","v":""},{"$f":"IF(ISNA(VLOOKUP($A11,$K$10:$P$109,4,FALSE)),\"\",VLOOKUP($A11,$K$10:$P$109,4,FALSE))","v":""},{"$f":"IF(ISNA(VLOOKUP($A11,$K$10:$P$109,5,FALSE)),\"\",VLOOKUP($A11,$K$10:$P$109,5,FALSE))","v":""},{"$f":"IF(ISNA(VLOOKUP($A11,$K$10:$P$109,6,FALSE)),\"\",VLOOKUP($A11,$K$10:$P$109,6,FALSE))","v":""},null,null,null,2,{"$f":"EmpDetail!B5","v":"iwj.k pUn y{kdkj"},{"$f":"EmpDetail!C5","v":"व्याख्याता"},{"$f":"EmpDetail!D5","v":"राउमावि चौगाई"},{"$f":"EmpDetail!J5","v":"L-12"},{"$f":"EmpDetail!K5","v":56100}]
[null,"","","","","","","",null,"",3,{"$f":"EmpDetail!B6","v":"jktsUnz dqekj tSu"},{"$f":"EmpDetail!C6","v":"व्याख्याता"},{"$f":"EmpDetail!D6","v":"राउमावि चौगाई"},{"$f":"EmpDetail!J6","v":"L-12"},{"$f":"EmpDetail!K6","v":63100}]
[null,"","","","","","","",null,"",4,{"$f":"EmpDetail!B7","v":"fd'ku yky cSjok"},{"$f":"EmpDetail!C7","v":"व्याख्याता"},{"$f":"EmpDetail!D7","v":"राउमावि चौगाई"},{"$f":"EmpDetail!J7","v":"L-12"},{"$f":"EmpDetail!K7","v":54500}]
[null,"","","","","","","",null,"",5,{"$f":"EmpDetail!B8","v":"lR;ukjk;.k 'kekZ"},{"$f":"EmpDetail!C8","v":"वरिष्ठ अध्यापक"},{"$f":"EmpDetail!D8","v":"राउमावि चौगाई"},{"$f":"EmpDetail!J8","v":"L-13"},{"$f":"EmpDetail!K8","v":71300}]
[null,"","","","","","","",null,"",6,{"$f":"EmpDetail!B9","v":"iq\"ik tSu"},{"$f":"EmpDetail!C9","v":"वरिष्ठ अध्यापक"},{"$f":"EmpDetail!D9","v":"राउमावि चौगाई"},{"$f":"EmpDetail!J9","v":"L-13"},{"$f":"EmpDetail!K9","v":73400}]
[null,"","","","","","","",null,"",7,{"$f":"EmpDetail!B10","v":"vk'kkjke eh.kk"},{"$f":"EmpDetail!C10","v":"वरिष्ठ अध्यापक"},{"$f":"EmpDetail!D10","v":"राउमावि चौगाई"},{"$f":"EmpDetail!J10","v":"L-11"},{"$f":"EmpDetail!K10","v":52300}]
[null,null,"uksV&","mikftZr vodk'k ds vnys esa udn Hkxrku lsok fuo`fÙk fnukad ls iwoZ ns; ugha gksxkA",null,null,null,null,null,null,8,{"$f":"EmpDetail!B11","v":"t;iky flag"},{"$f":"EmpDetail!C11","v":"वरिष्ठ अध्यापक"},{"$f":"EmpDetail!D11","v":"राउमावि चौगाई"},{"$f":"EmpDetail!J11","v":"L-12"},{"$f":"EmpDetail!K11","v":63100}]
[null,null,null,null,null,null,null,null,{"$f":"Master!B2","v":"प्रधानाचार्य"},null,9,{"$f":"EmpDetail!B12","v":"jkeizlkn jsxj"},{"$f":"EmpDetail!C12","v":"वरिष्ठ अध्यापक"},{"$f":"EmpDetail!D12","v":"राउमावि चौगाई"},{"$f":"EmpDetail!J12","v":"L-11"},{"$f":"EmpDetail!K12","v":46500}]
[null,null,null,null,null,null,null,null,{"$f":"Master!B3","v":"राजकीय उच्च माध्यमिक विद्यालय "},null,10,{"$f":"EmpDetail!B13","v":"egsUnz dqekj tkV"},{"$f":"EmpDetail!C13","v":"शारीरिक शिक्षक"},{"$f":"EmpDetail!D13","v":"राउमावि चौगाई"},{"$f":"EmpDetail!J13","v":"L-12"},{"$f":"EmpDetail!K13","v":61300}]
[null,null,null,null,null,null,null,null,{"$f":"Master!B4","v":"चौगाई]टोंक"},null,11,{"$f":"EmpDetail!B14","v":"NksVw yky jsxj"},{"$f":"EmpDetail!C14","v":"अध्यापक ग्रेड III"},{"$f":"EmpDetail!D14","v":"राउमावि चौगाई"},{"$f":"EmpDetail!J14","v":"L-13"},{"$f":"EmpDetail!K14","v":65200}]
[null,null,null,null,null,null,null,null,null,null,12,{"$f":"EmpDetail!B15","v":"dUgS;k yky egkoj"},{"$f":"EmpDetail!C15","v":"अध्यापक ग्रेड III"},{"$f":"EmpDetail!D15","v":"राउमावि चौगाई"},{"$f":"EmpDetail!J15","v":"L-13"},{"$f":"EmpDetail!K15","v":65200}]
[null,"Øekad&",{"$f":"Master!H3&Master!I3&Master!J3&Master!E3&\"/\"","v":"राउमावि/चौगाई/संस्था/2021-22/"},null,null,null,null,null,"fnukad&",{"$f":"TODAY()","v":"2021-06-19"},13,{"$f":"EmpDetail!B16","v":"prqHkqZt tkV"},{"$f":"EmpDetail!C16","v":"अध्यापक ग्रेड III"},{"$f":"EmpDetail!D16","v":"राउमावि चौगाई"},{"$f":"EmpDetail!J16","v":"L-11"},{"$f":"EmpDetail!K16","v":52300}]
[null,null,"izfrfyfi lwpukFkZ ,oa ikyukFkZ",null,null,null,null,null,null,null,14,{"$f":"EmpDetail!B17","v":"vklsQk [kku"},{"$f":"EmpDetail!C17","v":"अध्यापक ग्रेड III"},{"$f":"EmpDetail!D17","v":"राउमावि चौगाई"},{"$f":"EmpDetail!J17","v":"L-11"},{"$f":"EmpDetail!K17","v":52300}]
[null,1,"dks\"kkf/kdkjh@mi dks\"kkf/kdkjh",{"$f":"Master!H4","v":"पीपलू"},null,null,null,null,null,null,15,{"$f":"EmpDetail!B18","v":"lq'khyk cSjok"},{"$f":"EmpDetail!C18","v":"कनिष्ठ सहायक"},{"$f":"EmpDetail!D18","v":"राउमावि चौगाई"},{"$f":"EmpDetail!J18","v":"L-5"},{"$f":"EmpDetail!K18","v":14600}]
[null,2,"ys[kk 'kk[kk LFkkuh; dk;kZy;",null,null,null,null,null,null,null,16,{"$f":"EmpDetail!B19","v":"txnh'k izlkn rsyh"},{"$f":"EmpDetail!C19","v":"सहायक कर्मचारी"},{"$f":"EmpDetail!D19","v":"राउमावि चौगाई"},{"$f":"EmpDetail!J19","v":"L-5"},{"$f":"EmpDetail!K19","v":34700}]
[null,3,"dkfeZd O;fDrxr iaftdk",null,null,null,null,null,null,null,17,{"$f":"EmpDetail!B20","v":"jfoUnz dqekj tSu"},{"$f":"EmpDetail!C20","v":"अध्यापक ग्रेड III"},{"$f":"EmpDetail!D20","v":"राउप्रावि मोहिनी"},{"$f":"EmpDetail!J20","v":"L-12"},{"$f":"EmpDetail!K20","v":65200}]
[null,4,"lEcfU/kr dkfeZd",null,null,null,null,null,{"$f":"I18","v":"प्रधानाचार्य"},null,18,{"$f":"EmpDetail!B21","v":" ';ke lqUnj ckxkSM"},{"$f":"EmpDetail!C21","v":"अध्यापक ग्रेड III"},{"$f":"EmpDetail!D21","v":"राउप्रावि मोहिनी"},{"$f":"EmpDetail!J21","v":"L-10"},{"$f":"EmpDetail!K21","v":40300}]
[null,null,null,null,null,null,null,null,{"$f":"I19","v":"राजकीय उच्च माध्यमिक विद्यालय "},null,19,{"$f":"EmpDetail!B22","v":"d`\".kk 'kekZ"},{"$f":"EmpDetail!C22","v":"प्रबोधक"},{"$f":"EmpDetail!D22","v":"राउप्रावि मोहिनी"},{"$f":"EmpDetail!J22","v":"L-11"},{"$f":"EmpDetail!K22","v":45100}]
[null,null,null,null,null,null,null,null,{"$f":"I20","v":"चौगाई]टोंक"},null,20,{"$f":"EmpDetail!B23","v":"/keZsUnz pkS/kjh"},{"$f":"EmpDetail!C23","v":"अध्यापक ग्रेड III"},{"$f":"EmpDetail!D23","v":"राउप्रावि गोरधनपुरा"},{"$f":"EmpDetail!J23","v":"L-10"},{"$f":"EmpDetail!K23","v":40300}]
[null,null,null,null,null,null,null,null,null,null,21,{"$f":"EmpDetail!B24","v":"izgykn ekyh"},{"$f":"EmpDetail!C24","v":"प्रबोधक"},{"$f":"EmpDetail!D24","v":"राउप्रावि गोरधनपुरा"},{"$f":"EmpDetail!J24","v":"L-11"},{"$f":"EmpDetail!K24","v":46500}]
[null,null,null,null,null,null,null,null,null,null,22,{"$f":"EmpDetail!B25","v":"jken;ky xqtZj"},{"$f":"EmpDetail!C25","v":"प्रबोधक"},{"$f":"EmpDetail!D25","v":"राउप्रावि सोंदीफल"},{"$f":"EmpDetail!J25","v":"L-11"},{"$f":"EmpDetail!K25","v":45100}]
[null,null,null,null,null,null,null,null,null,null,23,{"$f":"EmpDetail!B26","v":"vkSeizdk'k tkV"},{"$f":"EmpDetail!C26","v":"अध्यापक ग्रेड III"},{"$f":"EmpDetail!D26","v":"राउप्रावि सोंदीफल"},{"$f":"EmpDetail!J26","v":"L-11"},{"$f":"EmpDetail!K26","v":45100}]
[null,null,null,null,null,null,null,null,null,null,24,{"$f":"EmpDetail!B27","v":"vthr flag"},{"$f":"EmpDetail!C27","v":"अध्यापक ग्रेड III"},{"$f":"EmpDetail!D27","v":"राप्रावि जानकीवल्लभपुरा"},{"$f":"EmpDetail!J27","v":"L-10"},{"$f":"EmpDetail!K27","v":40300}]
[null,null,null,null,null,null,null,null,null,null,25,{"$f":"EmpDetail!B28","v":"eq[rkj eha;k"},{"$f":"EmpDetail!C28","v":"प्रबोधक"},{"$f":"EmpDetail!D28","v":"राप्रावि जानकीवल्लभपुरा"},{"$f":"EmpDetail!J28","v":"L-11"},{"$f":"EmpDetail!K28","v":45100}]
[null,null,null,null,null,null,null,null,null,null,26,{"$f":"EmpDetail!B29","v":"eks0 tehy "},{"$f":"EmpDetail!C29","v":"प्रबोधक"},{"$f":"EmpDetail!D29","v":"राप्रावि रसूलपुरा"},{"$f":"EmpDetail!J29","v":"L-11"},{"$f":"EmpDetail!K29","v":45100}]
[null,null,null,null,null,null,null,null,null,null,27,{"$f":"EmpDetail!B30","v":"lkaojey tkV"},{"$f":"EmpDetail!C30","v":"अध्यापक ग्रेड III"},{"$f":"EmpDetail!D30","v":"राप्रावि रसूलपुरा"},{"$f":"EmpDetail!J30","v":"L-10"},{"$f":"EmpDetail!K30","v":38000}]
[null,null,null,null,null,null,null,null,null,null,28,{"$f":"EmpDetail!B31","v":"pkS/kjh eksuk jkekorkj"},{"$f":"EmpDetail!C31","v":"अध्यापक ग्रेड III"},{"$f":"EmpDetail!D31","v":"राप्रावि मोहिनी ढाणी बाढ"},{"$f":"EmpDetail!J31","v":"L-10"},{"$f":"EmpDetail!K31","v":38000}]
[null,null,null,null,null,null,null,null,null,null,29,{"$f":"EmpDetail!B32","v":"rkjkpUn tk;loky"},{"$f":"EmpDetail!C32","v":"प्रबोधक"},{"$f":"EmpDetail!D32","v":"राप्रावि मोहिनी ढाणी बाढ"},{"$f":"EmpDetail!J32","v":"L-11"},{"$f":"EmpDetail!K32","v":41300}]
[null,null,null,null,null,null,null,null,null,null,30,{"$f":"EmpDetail!B33","v":"jketl ;kno"},{"$f":"EmpDetail!C33","v":"अध्यापक ग्रेड III"},{"$f":"EmpDetail!D33","v":"राप्रावि बैरवा ढाणी सोन्दीफल"},{"$f":"EmpDetail!J33","v":"L-12"},{"$f":"EmpDetail!K33","v":63100}]
[null,null,null,null,null,null,null,null,null,null,31,{"$f":"EmpDetail!B34","v":"dtksMey eh.kk"},{"$f":"EmpDetail!C34","v":"अध्यापक ग्रेड III"},{"$f":"EmpDetail!D34","v":"राप्रावि बैरवा ढाणी सोन्दीफल"},{"$f":"EmpDetail!J34","v":"L-10"},{"$f":"EmpDetail!K34","v":38000}]
[null,null,null,null,null,null,null,null,null,null,32,{"$f":"EmpDetail!B35","v":"/kaut; xkSRre"},{"$f":"EmpDetail!C35","v":"अध्यापक ग्रेड III"},{"$f":"EmpDetail!D35","v":"राउप्रावि गोरधनपुरा"},{"$f":"EmpDetail!J35","v":"L-10"},{"$f":"EmpDetail!K35","v":34800}]
[null,null,null,null,null,null,null,null,null,null,33,{"$f":"EmpDetail!B36","v":"d`\".kk xaxoky"},{"$f":"EmpDetail!C36","v":"अध्यापक ग्रेड III"},{"$f":"EmpDetail!D36","v":"राउप्रावि गोरधनपुरा"},{"$f":"EmpDetail!J36","v":"L-10"},{"$f":"EmpDetail!K36","v":33800}]
[null,null,null,null,null,null,null,null,null,null,34,{"$f":"EmpDetail!B37","v":"n'kjFk dqekj ;kno"},{"$f":"EmpDetail!C37","v":"अध्यापक ग्रेड III"},{"$f":"EmpDetail!D37","v":"राउप्रावि सोंदीफल"},{"$f":"EmpDetail!J37","v":"L-10"},{"$f":"EmpDetail!K37","v":23700}]
[null,null,null,null,null,null,null,null,null,null,35,{"$f":"EmpDetail!B38","v":"d`\".k yky tkV"},{"$f":"EmpDetail!C38","v":"अध्यापक ग्रेड III"},{"$f":"EmpDetail!D38","v":"राउप्रावि सोंदीफल"},{"$f":"EmpDetail!J38","v":"L-10"},{"$f":"EmpDetail!K38","v":33800}]
[null,null,null,null,null,null,null,null,null,null,36,{"$f":"EmpDetail!B39","v":"nhisUnz dqekj iztkir"},{"$f":"EmpDetail!C39","v":"अध्यापक ग्रेड III"},{"$f":"EmpDetail!D39","v":"राउप्रावि सोंदीफल"},{"$f":"EmpDetail!J39","v":"L-10"},{"$f":"EmpDetail!K39","v":33800}]
[null,null,null,null,null,null,null,null,null,null,37,{"$f":"EmpDetail!B40","v":"uohu dqekj"},{"$f":"EmpDetail!C40","v":"अध्यापक ग्रेड III"},{"$f":"EmpDetail!D40","v":"राउप्रावि मोहिनी"},{"$f":"EmpDetail!J40","v":"L-10"},{"$f":"EmpDetail!K40","v":33800}]
[null,null,null,null,null,null,null,null,null,null,38,{"$f":"EmpDetail!B41","v":"ehrs'k dqekj 'kekZ"},{"$f":"EmpDetail!C41","v":"अध्यापक ग्रेड III"},{"$f":"EmpDetail!D41","v":"राउप्रावि मोहिनी"},{"$f":"EmpDetail!J41","v":"L-10"},{"$f":"EmpDetail!K41","v":34800}]
[null,null,null,null,null,null,null,null,null,null,39,{"$f":"EmpDetail!B42","v":"eUtw eh.kk"},{"$f":"EmpDetail!C42","v":"वरिष्ठ अध्यापक"},{"$f":"EmpDetail!D42","v":"राउप्रावि गोरधनपुरा"},{"$f":"EmpDetail!J42","v":"L-10"},{"$f":"EmpDetail!K42","v":33800}]
[null,null,null,null,null,null,null,null,null,null,40,{"$f":"EmpDetail!B43","v":"eatw pkS/kjh"},{"$f":"EmpDetail!C43","v":"वरिष्ठ अध्यापक"},{"$f":"EmpDetail!D43","v":"राउप्रावि सोंदीफल"},{"$f":"EmpDetail!J43","v":"L-11"},{"$f":"EmpDetail!K43","v":26500}]
[null,null,null,null,null,null,null,null,null,null,41,{"$f":"EmpDetail!B44","v":0},{"$f":"EmpDetail!C44","v":0},{"$f":"EmpDetail!D44","v":0},{"$f":"EmpDetail!J44","v":0},{"$f":"EmpDetail!K44","v":0}]
[null,null,null,null,null,null,null,null,null,null,42,{"$f":"EmpDetail!B45","v":0},{"$f":"EmpDetail!C45","v":0},{"$f":"EmpDetail!D45","v":0},{"$f":"EmpDetail!J45","v":0},{"$f":"EmpDetail!K45","v":0}]
[null,null,null,null,null,null,null,null,null,null,43,{"$f":"EmpDetail!B46","v":0},{"$f":"EmpDetail!#REF!","v":{"$error":"#REF!"}},{"$f":"EmpDetail!#REF!","v":{"$error":"#REF!"}},{"$f":"EmpDetail!J46","v":0},{"$f":"EmpDetail!K46","v":0}]
[null,null,null,null,null,null,null,null,null,null,44,{"$f":"EmpDetail!B47","v":0},{"$f":"EmpDetail!C47","v":0},{"$f":"EmpDetail!D47","v":0},{"$f":"EmpDetail!J47","v":0},{"$f":"EmpDetail!K47","v":0}]
[null,null,null,null,null,null,null,null,null,null,45,{"$f":"EmpDetail!B48","v":0},{"$f":"EmpDetail!C48","v":0},{"$f":"EmpDetail!D48","v":0},{"$f":"EmpDetail!J48","v":0},{"$f":"EmpDetail!K48","v":0}]
[null,null,null,null,null,null,null,null,null,null,46,{"$f":"EmpDetail!B49","v":0},{"$f":"EmpDetail!C49","v":0},{"$f":"EmpDetail!D49","v":0},{"$f":"EmpDetail!J49","v":0},{"$f":"EmpDetail!K49","v":0}]
[null,null,null,null,null,null,null,null,null,null,47,{"$f":"EmpDetail!B50","v":0},{"$f":"EmpDetail!C50","v":0},{"$f":"EmpDetail!D50","v":0},{"$f":"EmpDetail!J50","v":0},{"$f":"EmpDetail!K50","v":0}]
[null,null,null,null,null,null,null,null,null,null,48,{"$f":"EmpDetail!B51","v":0},{"$f":"EmpDetail!C51","v":0},{"$f":"EmpDetail!D51","v":0},{"$f":"EmpDetail!J51","v":0},{"$f":"EmpDetail!K51","v":0}]
[null,null,null,null,null,null,null,null,null,null,49,{"$f":"EmpDetail!B52","v":0},{"$f":"EmpDetail!C52","v":0},{"$f":"EmpDetail!D52","v":0},{"$f":"EmpDetail!J52","v":0},{"$f":"EmpDetail!K52","v":0}]
[null,null,null,null,null,null,null,null,null,null,50,{"$f":"EmpDetail!B53","v":0},{"$f":"EmpDetail!C53","v":0},{"$f":"EmpDetail!D53","v":0},{"$f":"EmpDetail!J53","v":0},{"$f":"EmpDetail!K53","v":0}]
[null,null,null,null,null,null,null,null,null,null,51,{"$f":"EmpDetail!B54","v":0},{"$f":"EmpDetail!C54","v":0},{"$f":"EmpDetail!D54","v":0},{"$f":"EmpDetail!J54","v":0},{"$f":"EmpDetail!K54","v":0}]
[null,null,null,null,null,null,null,null,null,null,52,{"$f":"EmpDetail!B55","v":0},{"$f":"EmpDetail!C55","v":0},{"$f":"EmpDetail!D55","v":0},{"$f":"EmpDetail!J55","v":0},{"$f":"EmpDetail!K55","v":0}]
[null,null,null,null,null,null,null,null,null,null,53,{"$f":"EmpDetail!B56","v":0},{"$f":"EmpDetail!C56","v":0},{"$f":"EmpDetail!D56","v":0},{"$f":"EmpDetail!J56","v":0},{"$f":"EmpDetail!K56","v":0}]
[null,null,null,null,null,null,null,null,null,null,54,{"$f":"EmpDetail!B57","v":0},{"$f":"EmpDetail!C57","v":0},{"$f":"EmpDetail!D57","v":0},{"$f":"EmpDetail!J57","v":0},{"$f":"EmpDetail!K57","v":0}]
[null,null,null,null,null,null,null,null,null,null,55,{"$f":"EmpDetail!B58","v":0},{"$f":"EmpDetail!C58","v":0},{"$f":"EmpDetail!D58","v":0},{"$f":"EmpDetail!J58","v":0},{"$f":"EmpDetail!K58","v":0}]
[null,null,null,null,null,null,null,null,null,null,56,{"$f":"EmpDetail!B59","v":0},{"$f":"EmpDetail!C59","v":0},{"$f":"EmpDetail!D59","v":0},{"$f":"EmpDetail!J59","v":0},{"$f":"EmpDetail!K59","v":0}]
[null,null,null,null,null,null,null,null,null,null,57,{"$f":"EmpDetail!B60","v":0},{"$f":"EmpDetail!C60","v":0},{"$f":"EmpDetail!D60","v":0},{"$f":"EmpDetail!J60","v":0},{"$f":"EmpDetail!K60","v":0}]
[null,null,null,null,null,null,null,null,null,null,58,{"$f":"EmpDetail!B61","v":0},{"$f":"EmpDetail!C61","v":0},{"$f":"EmpDetail!D61","v":0},{"$f":"EmpDetail!J61","v":0},{"$f":"EmpDetail!K61","v":0}]
[null,null,null,null,null,null,null,null,null,null,59,{"$f":"EmpDetail!B62","v":0},{"$f":"EmpDetail!C62","v":0},{"$f":"EmpDetail!D62","v":0},{"$f":"EmpDetail!J62","v":0},{"$f":"EmpDetail!K62","v":0}]
[null,null,null,null,null,null,null,null,null,null,60,{"$f":"EmpDetail!B63","v":0},{"$f":"EmpDetail!C63","v":0},{"$f":"EmpDetail!D63","v":0},{"$f":"EmpDetail!J63","v":0},{"$f":"EmpDetail!K63","v":0}]
[null,null,null,null,null,null,null,null,null,null,61,{"$f":"EmpDetail!B64","v":0},{"$f":"EmpDetail!C64","v":0},{"$f":"EmpDetail!D64","v":0},{"$f":"EmpDetail!J64","v":0},{"$f":"EmpDetail!K64","v":0}]
[null,null,null,null,null,null,null,null,null,null,62,{"$f":"EmpDetail!B65","v":0},{"$f":"EmpDetail!C65","v":0},{"$f":"EmpDetail!D65","v":0},{"$f":"EmpDetail!J65","v":0},{"$f":"EmpDetail!K65","v":0}]
[null,null,null,null,null,null,null,null,null,null,63,{"$f":"EmpDetail!B66","v":0},{"$f":"EmpDetail!C66","v":0},{"$f":"EmpDetail!D66","v":0},{"$f":"EmpDetail!J66","v":0},{"$f":"EmpDetail!K66","v":0}]
[null,null,null,null,null,null,null,null,null,null,64,{"$f":"EmpDetail!B67","v":0},{"$f":"EmpDetail!C67","v":0},{"$f":"EmpDetail!D67","v":0},{"$f":"EmpDetail!J67","v":0},{"$f":"EmpDetail!K67","v":0}]
[null,null,null,null,null,null,null,null,null,null,65,{"$f":"EmpDetail!B68","v":0},{"$f":"EmpDetail!C68","v":0},{"$f":"EmpDetail!D68","v":0},{"$f":"EmpDetail!J68","v":0},{"$f":"EmpDetail!K68","v":0}]
[null,null,null,null,null,null,null,null,null,null,66,{"$f":"EmpDetail!B69","v":0},{"$f":"EmpDetail!C69","v":0},{"$f":"EmpDetail!D69","v":0},{"$f":"EmpDetail!J69","v":0},{"$f":"EmpDetail!K69","v":0}]
[null,null,null,null,null,null,null,null,null,null,67,{"$f":"EmpDetail!B70","v":0},{"$f":"EmpDetail!C70","v":0},{"$f":"EmpDetail!D70","v":0},{"$f":"EmpDetail!J70","v":0},{"$f":"EmpDetail!K70","v":0}]
[null,null,null,null,null,null,null,null,null,null,68,{"$f":"EmpDetail!B71","v":0},{"$f":"EmpDetail!C71","v":0},{"$f":"EmpDetail!D71","v":0},{"$f":"EmpDetail!J71","v":0},{"$f":"EmpDetail!K71","v":0}]
[null,null,null,null,null,null,null,null,null,null,69,{"$f":"EmpDetail!B72","v":0},{"$f":"EmpDetail!C72","v":0},{"$f":"EmpDetail!D72","v":0},{"$f":"EmpDetail!J72","v":0},{"$f":"EmpDetail!K72","v":0}]
[null,null,null,null,null,null,null,null,null,null,70,{"$f":"EmpDetail!B73","v":0},{"$f":"EmpDetail!C73","v":0},{"$f":"EmpDetail!D73","v":0},{"$f":"EmpDetail!J73","v":0},{"$f":"EmpDetail!K73","v":0}]
[null,null,null,null,null,null,null,null,null,null,71,{"$f":"EmpDetail!B74","v":0},{"$f":"EmpDetail!C74","v":0},{"$f":"EmpDetail!D74","v":0},{"$f":"EmpDetail!J74","v":0},{"$f":"EmpDetail!K74","v":0}]
[null,null,null,null,null,null,null,null,null,null,72,{"$f":"EmpDetail!B75","v":0},{"$f":"EmpDetail!C75","v":0},{"$f":"EmpDetail!D75","v":0},{"$f":"EmpDetail!J75","v":0},{"$f":"EmpDetail!K75","v":0}]
[null,null,null,null,null,null,null,null,null,null,73,{"$f":"EmpDetail!B76","v":0},{"$f":"EmpDetail!C76","v":0},{"$f":"EmpDetail!D76","v":0},{"$f":"EmpDetail!J76","v":0},{"$f":"EmpDetail!K76","v":0}]
[null,null,null,null,null,null,null,null,null,null,74,{"$f":"EmpDetail!B77","v":0},{"$f":"EmpDetail!C77","v":0},{"$f":"EmpDetail!D77","v":0},{"$f":"EmpDetail!J77","v":0},{"$f":"EmpDetail!K77","v":0}]
[null,null,null,null,null,null,null,null,null,null,75,{"$f":"EmpDetail!B78","v":0},{"$f":"EmpDetail!C78","v":0},{"$f":"EmpDetail!D78","v":0},{"$f":"EmpDetail!J78","v":0},{"$f":"EmpDetail!K78","v":0}]
[null,null,null,null,null,null,null,null,null,null,76,{"$f":"EmpDetail!B79","v":0},{"$f":"EmpDetail!C79","v":0},{"$f":"EmpDetail!D79","v":0},{"$f":"EmpDetail!J79","v":0},{"$f":"EmpDetail!K79","v":0}]
[null,null,null,null,null,null,null,null,null,null,77,{"$f":"EmpDetail!B80","v":0},{"$f":"EmpDetail!C80","v":0},{"$f":"EmpDetail!D80","v":0},{"$f":"EmpDetail!J80","v":0},{"$f":"EmpDetail!K80","v":0}]
[null,null,null,null,null,null,null,null,null,null,78,{"$f":"EmpDetail!B81","v":0},{"$f":"EmpDetail!C81","v":0},{"$f":"EmpDetail!D81","v":0},{"$f":"EmpDetail!J81","v":0},{"$f":"EmpDetail!K81","v":0}]
[null,null,null,null,null,null,null,null,null,null,79,{"$f":"EmpDetail!B82","v":0},{"$f":"EmpDetail!C82","v":0},{"$f":"EmpDetail!D82","v":0},{"$f":"EmpDetail!J82","v":0},{"$f":"EmpDetail!K82","v":0}]
[null,null,null,null,null,null,null,null,null,null,80,{"$f":"EmpDetail!B83","v":0},{"$f":"EmpDetail!C83","v":0},{"$f":"EmpDetail!D83","v":0},{"$f":"EmpDetail!J83","v":0},{"$f":"EmpDetail!K83","v":0}]
[null,null,null,null,null,null,null,null,null,null,81,{"$f":"EmpDetail!B84","v":0},{"$f":"EmpDetail!C84","v":0},{"$f":"EmpDetail!D84","v":0},{"$f":"EmpDetail!J84","v":0},{"$f":"EmpDetail!K84","v":0}]
[null,null,null,null,null,null,null,null,null,null,82,{"$f":"EmpDetail!B85","v":0},{"$f":"EmpDetail!C85","v":0},{"$f":"EmpDetail!D85","v":0},{"$f":"EmpDetail!J85","v":0},{"$f":"EmpDetail!K85","v":0}]
[null,null,null,null,null,null,null,null,null,null,83,{"$f":"EmpDetail!B86","v":0},{"$f":"EmpDetail!C86","v":0},{"$f":"EmpDetail!D86","v":0},{"$f":"EmpDetail!J86","v":0},{"$f":"EmpDetail!K86","v":0}]
[null,null,null,null,null,null,null,null,null,null,84,{"$f":"EmpDetail!B87","v":0},{"$f":"EmpDetail!C87","v":0},{"$f":"EmpDetail!D87","v":0},{"$f":"EmpDetail!J87","v":0},{"$f":"EmpDetail!K87","v":0}]
[null,null,null,null,null,null,null,null,null,null,85,{"$f":"EmpDetail!B88","v":0},{"$f":"EmpDetail!C88","v":0},{"$f":"EmpDetail!D88","v":0},{"$f":"EmpDetail!J88","v":0},{"$f":"EmpDetail!K88","v":0}]
[null,null,null,null,null,null,null,null,null,null,86,{"$f":"EmpDetail!B89","v":0},{"$f":"EmpDetail!C89","v":0},{"$f":"EmpDetail!D89","v":0},{"$f":"EmpDetail!J89","v":0},{"$f":"EmpDetail!K89","v":0}]
[null,null,null,null,null,null,null,null,null,null,87,{"$f":"EmpDetail!B90","v":0},{"$f":"EmpDetail!C90","v":0},{"$f":"EmpDetail!D90","v":0},{"$f":"EmpDetail!J90","v":0},{"$f":"EmpDetail!K90","v":0}]
[null,null,null,null,null,null,null,null,null,null,88,{"$f":"EmpDetail!B91","v":0},{"$f":"EmpDetail!C91","v":0},{"$f":"EmpDetail!D91","v":0},{"$f":"EmpDetail!J91","v":0},{"$f":"EmpDetail!K91","v":0}]
[null,null,null,null,null,null,null,null,null,null,89,{"$f":"EmpDetail!B92","v":0},{"$f":"EmpDetail!C92","v":0},{"$f":"EmpDetail!D92","v":0},{"$f":"EmpDetail!J92","v":0},{"$f":"EmpDetail!K92","v":0}]
[null,null,null,null,null,null,null,null,null,null,90,{"$f":"EmpDetail!B93","v":0},{"$f":"EmpDetail!C93","v":0},{"$f":"EmpDetail!D93","v":0},{"$f":"EmpDetail!J93","v":0},{"$f":"EmpDetail!K93","v":0}]
[null,null,null,null,null,null,null,null,null,null,91,{"$f":"EmpDetail!B94","v":0},{"$f":"EmpDetail!C94","v":0},{"$f":"EmpDetail!D94","v":0},{"$f":"EmpDetail!J94","v":0},{"$f":"EmpDetail!K94","v":0}]
[null,null,null,null,null,null,null,null,null,null,92,{"$f":"EmpDetail!B95","v":0},{"$f":"EmpDetail!C95","v":0},{"$f":"EmpDetail!D95","v":0},{"$f":"EmpDetail!J95","v":0},{"$f":"EmpDetail!K95","v":0}]
[null,null,null,null,null,null,null,null,null,null,93,{"$f":"EmpDetail!B96","v":0},{"$f":"EmpDetail!C96","v":0},{"$f":"EmpDetail!D96","v":0},{"$f":"EmpDetail!J96","v":0},{"$f":"EmpDetail!K96","v":0}]
[null,null,null,null,null,null,null,null,null,null,94,{"$f":"EmpDetail!B97","v":0},{"$f":"EmpDetail!C97","v":0},{"$f":"EmpDetail!D97","v":0},{"$f":"EmpDetail!J97","v":0},{"$f":"EmpDetail!K97","v":0}]
[null,null,null,null,null,null,null,null,null,null,95,{"$f":"EmpDetail!B98","v":0},{"$f":"EmpDetail!C98","v":0},{"$f":"EmpDetail!D98","v":0},{"$f":"EmpDetail!J98","v":0},{"$f":"EmpDetail!K98","v":0}]
[null,null,null,null,null,null,null,null,null,null,96,{"$f":"EmpDetail!B99","v":0},{"$f":"EmpDetail!C99","v":0},{"$f":"EmpDetail!D99","v":0},{"$f":"EmpDetail!J99","v":0},{"$f":"EmpDetail!K99","v":0}]
[null,null,null,null,null,null,null,null,null,null,97,{"$f":"EmpDetail!B100","v":0},{"$f":"EmpDetail!C100","v":0},{"$f":"EmpDetail!D100","v":0},{"$f":"EmpDetail!J100","v":0},{"$f":"EmpDetail!K100","v":0}]
[null,null,null,null,null,null,null,null,null,null,98,{"$f":"EmpDetail!B101","v":0},{"$f":"EmpDetail!C101","v":0},{"$f":"EmpDetail!D101","v":0},{"$f":"EmpDetail!J101","v":0},{"$f":"EmpDetail!K101","v":0}]
[null,null,null,null,null,null,null,null,null,null,99,{"$f":"EmpDetail!B102","v":0},{"$f":"EmpDetail!C102","v":0},{"$f":"EmpDetail!D102","v":0},{"$f":"EmpDetail!J102","v":0},{"$f":"EmpDetail!K102","v":0}]
[null,null,null,null,null,null,null,null,null,null,100,{"$f":"EmpDetail!B103","v":0},{"$f":"EmpDetail!C103","v":0},{"$f":"EmpDetail!D103","v":0},{"$f":"EmpDetail!J103","v":0},{"$f":"EmpDetail!K103","v":0}]

{"sheet":"Releave Letter","index":14,"n_rows":105,"n_cols":23,"rows_kept":105,"cut":false,"hidden":true,"merged":[[0,1,0,10],[1,1,1,10],[3,1,3,10],[12,11,13,11],[1,0,2,0],[5,5,5,6],[6,1,6,2],[6,3,6,5]]}
[null,{"$f":"Master!G2&Master!H2","v":"कार्यालय&राजकीय उच्च माध्यमिक विद्यालय ]चौगाई]टोंक"},null,null,null,null,null,null,null,null,null,"श्रीमान निदेशक माध्यमिक शिक्षा राजस्थान] बीकानेर के आदेश क्रमांक&"]
["dkfeZd dk dzekad",null,null,null,null,null,null,null,null,null,null,"श्रीमान उप निदेशक माध्यमिक शिक्षा अजमेर] वृत अजमेर के आदेश क्रमांक&"]
[null,"dzekad&",{"$f":"Master!H3&Master!I3&Master!J3&Master!E3&\"/\"","v":"राउमावि/चौगाई/संस्था/2021-22/"},null,null,null,null,null,null,"fnukad&",{"$f":"TODAY()","v":"2021-06-19"},"श्रीमान जिला शिक्षा अधिकारी माध्यमिक शिक्षा टोंक के आदेश क्रमांक&"]
[31,"dk;ZeqfDr vkns'k",null,null,null,null,null,null,null,null,null,"श्रीमान जिला शिक्षा अधिकारी प्रारम्भिक शिक्षा टोंक के आदेश क्रमांक&"]
[null,null,null,null,null,"श्रीमान मुख्य ब्लाक शिक्षा अधिकारी टोंक के आदेश क्रमांक&","lhchbZvks@lelk@Vksad@2020&21@902",null,null,"fnukad&","2021-01-12","श्रीमान मुख्य जिला शिक्षा अधिकारी मुख्यालय टोंक के आदेश क्रमांक&"]
[null,"dh vuqikyuk esa",{"$f":"IF(ISNA(VLOOKUP($A4,$T$6:$W$105,2,FALSE)),\"\",VLOOKUP($A4,$T$6:$W$105,2,FALSE))","v":"dtksMey eh.kk"},{"$f":"IF(ISNA(VLOOKUP($A4,$T$6:$W$105,3,FALSE)),\"\",VLOOKUP($A4,$T$6:$W$105,3,FALSE))","v":"अध्यापक ग्रेड III"},{"$f":"IF(ISNA(VLOOKUP($A4,$T$6:$W$105,4,FALSE)),\"\",VLOOKUP($A4,$T$6:$W$105,4,FALSE))","v":"राप्रावि बैरवा ढाणी सोन्दीफल"},"dks vkt fnukad&",null,{"$f":"TODAY()","v":"2021-06-19"},"dks bl dk;kZy; ls","मध्यान्ह पश्चात",null,"श्रीमान मुख्य ब्लाक शिक्षा अधिकारी टोंक के आदेश क्रमांक&",null,null,null,null,null,null,null,1,{"$f":"EmpDetail!B4","v":"fd'ku yky cSjok"},{"$f":"EmpDetail!C4","v":"प्रधानाचार्य"},{"$f":"EmpDetail!D4","v":"राउमावि चौगाई"}]
[null,"dk;Z iqfLrdk forj.k gsrw O;oLFkkFkZ",null,"eq[; CykWd f'k{kk f'k{kk vf/kdkjh Vksad",null,null,"ds fy, dk;ZeqDr fd;k tkrk gS A",null,null,null,null,"अन्य",null,null,null,null,null,null,null,2,{"$f":"EmpDetail!B5","v":"iwj.k pUn y{kdkj"},{"$f":"EmpDetail!C5","v":"व्याख्याता"},{"$f":"EmpDetail!D5","v":"राउमावि चौगाई"}]
[null,null,null,null,null,null,null,null,null,null,null,"अन्य",null,null,null,null,null,null,null,3,{"$f":"EmpDetail!B6","v":"jktsUnz dqekj tSu"},{"$f":"EmpDetail!C6","v":"व्याख्याता"},{"$f":"EmpDetail!D6","v":"राउमावि चौगाई"}]
[null,null,null,null,null,null,null,null,{"$f":"Master!B2","v":"प्रधानाचार्य"},null,null,"अन्य",null,null,null,null,null,null,null,4,{"$f":"EmpDetail!B7","v":"fd'ku yky cSjok"},{"$f":"EmpDetail!C7","v":"व्याख्याता"},{"$f":"EmpDetail!D7","v":"राउमावि चौगाई"}]
[null,null,null,null,null,null,null,null,{"$f":"Master!B3","v":"राजकीय उच्च माध्यमिक विद्यालय "},null,null,null,null,null,null,null,null,null,null,5,{"$f":"EmpDetail!B8","v":"lR;ukjk;.k 'kekZ"},{"$f":"EmpDetail!C8","v":"वरिष्ठ अध्यापक"},{"$f":"EmpDetail!D8","v":"राउमावि चौगाई"}]
[null,null,null,null,null,null,null,null,{"$f":"Master!B4","v":"चौगाई]टोंक"},null,null,null,null,null,null,null,null,null,null,6,{"$f":"EmpDetail!B9","v":"iq\"ik tSu"},{"$f":"EmpDetail!C9","v":"वरिष्ठ अध्यापक"},{"$f":"EmpDetail!D9","v":"राउमावि चौगाई"}]
[null,null,null,null,null,null,null,null,null,null,null,null,null,null,null,null,null,null,null,7,{"$f":"EmpDetail!B10","v":"vk'kkjke eh.kk"},{"$f":"EmpDetail!C10","v":"वरिष्ठ अध्यापक"},{"$f":"EmpDetail!D10","v":"राउमावि चौगाई"}]
[null,null,null,null,null,null,null,null,null,null,null,"LFkkukUrj.k@lsokfuo`fRr@vU; gsrw ;gka fDyd djsa",null,null,null,null,null,null,null,8,{"$f":"EmpDetail!B11","v":"t;iky flag"},{"$f":"EmpDetail!C11","v":"वरिष्ठ अध्यापक"},{"$f":"EmpDetail!D11","v":"राउमावि चौगाई"}]
[null,null,null,null,null,null,null,null,null,null,null,null,null,null,null,null,null,null,null,9,{"$f":"EmpDetail!B12","v":"jkeizlkn jsxj"},{"$f":"EmpDetail!C12","v":"वरिष्ठ अध्यापक"},{"$f":"EmpDetail!D12","v":"राउमावि चौगाई"}]
[null,null,null,null,null,null,null,null,null,null,null,null,null,null,null,null,null,null,null,10,{"$f":"EmpDetail!B13","v":"egsUnz dqekj tkV"},{"$f":"EmpDetail!C13","v":"शारीरिक शिक्षक"},{"$f":"EmpDetail!D13","v":"राउमावि चौगाई"}]
[null,null,null,null,null,null,null,null,null,null,null,null,null,null,null,null,null,null,null,11,{"$f":"EmpDetail!B14","v":"NksVw yky jsxj"},{"$f":"EmpDetail!C14","v":"अध्यापक ग्रेड III"},{"$f":"EmpDetail!D14","v":"राउमावि चौगाई"}]
[null,null,null,null,null,null,null,null,null,null,null,null,null,null,null,null,null,null,null,12,{"$f":"EmpDetail!B15","v":"dUgS;k yky egkoj"},{"$f":"EmpDetail!C15","v":"अध्यापक ग्रेड III"},{"$f":"EmpDetail!D15","v":"राउमावि चौगाई"}]
[null,null,null,null,null,null,null,null,null,null,null,null,null,null,null,null,null,null,null,13,{"$f":"EmpDetail!B16","v":"prqHkqZt tkV"},{"$f":"EmpDetail!C16","v":"अध्यापक ग्रेड III"},{"$f":"EmpDetail!D16","v":"राउमावि चौगाई"}]
[null,null,null,null,null,null,null,null,null,null,null,null,null,null,null,null,null,null,null,14,{"$f":"EmpDetail!B17","v":"vklsQk [kku"},{"$f":"EmpDetail!C17","v":"अध्यापक ग्रेड III"},{"$f":"EmpDetail!D17","v":"राउमावि चौगाई"}]
[null,null,null,null,null,null,null,null,null,null,null,null,null,null,null,null,null,null,null,15,{"$f":"EmpDetail!B18","v":"lq'khyk cSjok"},{"$f":"EmpDetail!C18","v":"कनिष्ठ सहायक"},{"$f":"EmpDetail!D18","v":"राउमावि चौगाई"}]
[null,null,null,null,null,null,null,null,null,null,null,null,null,null,null,null,null,null,null,16,{"$f":"EmpDetail!B19","v":"txnh'k izlkn rsyh"},{"$f":"EmpDetail!C19","v":"सहायक कर्मचारी"},{"$f":"EmpDetail!D19","v":"राउमावि चौगाई"}]
[null,null,null,null,null,null,null,null,null,null,null,null,null,null,null,null,null,null,null,17,{"$f":"EmpDetail!B20","v":"jfoUnz dqekj tSu"},{"$f":"EmpDetail!C20","v":"अध्यापक ग्रेड III"},{"$f":"EmpDetail!D20","v":"राउप्रावि मोहिनी"}]
[null,null,null,null,null,null,null,null,null,null,null,null,null,null,null,null,null,null,null,18,{"$f":"EmpDetail!B21","v":" ';ke lqUnj ckxkSM"},{"$f":"EmpDetail!C21","v":"अध्यापक ग्रेड III"},{"$f":"EmpDetail!D21","v":"राउप्रावि मोहिनी"}]
[null,null,null,null,null,null,null,null,null,null,null,null,null,null,null,null,null,null,null,19,{"$f":"EmpDetail!B22","v":"d`\".kk 'kekZ"},{"$f":"EmpDetail!C22","v":"प्रबोधक"},{"$f":"EmpDetail!D22","v":"राउप्रावि मोहिनी"}]
[null,null,null,null,null,null,null,null,null,null,null,null,null,null,null,null,null,null,null,20,{"$f":"EmpDetail!B23","v":"/keZsUnz pkS/kjh"},{"$f":"EmpDetail!C23","v":"अध्यापक ग्रेड III"},{"$f":"EmpDetail!D23","v":"राउप्रावि गोरधनपुरा"}]
[null,null,null,null,null,null,null,null,null,null,null,null,null,null,null,null,null,null,null,21,{"$f":"EmpDetail!B24","v":"izgykn ekyh"},{"$f":"EmpDetail!C24","v":"प्रबोधक"},{"$f":"EmpDetail!D24","v":"राउप्रावि गोरधनपुरा"}]
[null,null,null,null,null,null,null,null,null,null,null,null,null,null,null,null,null,null,null,22,{"$f":"EmpDetail!B25","v":"jken;ky xqtZj"},{"$f":"EmpDetail!C25","v":"प्रबोधक"},{"$f":"EmpDetail!D25","v":"राउप्रावि सोंदीफल"}]
[null,null,null,null,null,null,null,null,null,null,null,null,null,null,null,null,null,null,null,23,{"$f":"EmpDetail!B26","v":"vkSeizdk'k tkV"},{"$f":"EmpDetail!C26","v":"अध्यापक ग्रेड III"},{"$f":"EmpDetail!D26","v":"राउप्रावि सोंदीफल"}]
[null,null,null,null,null,null,null,null,null,null,null,null,null,null,null,null,null,null,null,24,{"$f":"EmpDetail!B27","v":"vthr flag"},{"$f":"EmpDetail!C27","v":"अध्यापक ग्रेड III"},{"$f":"EmpDetail!D27","v":"राप्रावि जानकीवल्लभपुरा"}]
[null,null,null,null,null,null,null,null,null,null,null,null,null,null,null,null,null,null,null,25,{"$f":"EmpDetail!B28","v":"eq[rkj eha;k"},{"$f":"EmpDetail!C28","v":"प्रबोधक"},{"$f":"EmpDetail!D28","v":"राप्रावि जानकीवल्लभपुरा"}]
[null,null,null,null,null,null,null,null,null,null,null,null,null,null,null,null,null,null,null,26,{"$f":"EmpDetail!B29","v":"eks0 tehy "},{"$f":"EmpDetail!C29","v":"प्रबोधक"},{"$f":"EmpDetail!D29","v":"राप्रावि रसूलपुरा"}]
[null,null,null,null,null,null,null,null,null,null,null,null,null,null,null,null,null,null,null,27,{"$f":"EmpDetail!B30","v":"lkaojey tkV"},{"$f":"EmpDetail!C30","v":"अध्यापक ग्रेड III"},{"$f":"EmpDetail!D30","v":"राप्रावि रसूलपुरा"}]
[null,null,null,null,null,null,null,null,null,null,null,null,null,null,null,null,null,null,null,28,{"$f":"EmpDetail!B31","v":"pkS/kjh eksuk jkekorkj"},{"$f":"EmpDetail!C31","v":"अध्यापक ग्रेड III"},{"$f":"EmpDetail!D31","v":"राप्रावि मोहिनी ढाणी बाढ"}]
[null,null,null,null,null,null,null,null,null,null,null,null,null,null,null,null,null,null,null,29,{"$f":"EmpDetail!B32","v":"rkjkpUn tk;loky"},{"$f":"EmpDetail!C32","v":"प्रबोधक"},{"$f":"EmpDetail!D32","v":"राप्रावि मोहिनी ढाणी बाढ"}]
[null,null,null,null,null,null,null,null,null,null,null,null,null,null,null,null,null,null,null,30,{"$f":"EmpDetail!B33","v":"jketl ;kno"},{"$f":"EmpDetail!C33","v":"अध्यापक ग्रेड III"},{"$f":"EmpDetail!D33","v":"राप्रावि बैरवा ढाणी सोन्दीफल"}]
[null,null,null,null,null,null,null,null,null,null,null,null,null,null,null,null,null,null,null,31,{"$f":"EmpDetail!B34","v":"dtksMey eh.kk"},{"$f":"EmpDetail!C34","v":"अध्यापक ग्रेड III"},{"$f":"EmpDetail!D34","v":"राप्रावि बैरवा ढाणी सोन्दीफल"}]
[null,null,null,null,null,null,null,null,null,null,null,null,null,null,null,null,null,null,null,32,{"$f":"EmpDetail!B35","v":"/kaut; xkSRre"},{"$f":"EmpDetail!C35","v":"अध्यापक ग्रेड III"},{"$f":"EmpDetail!D35","v":"राउप्रावि गोरधनपुरा"}]
[null,null,null,null,null,null,null,null,null,null,null,null,null,null,null,null,null,null,null,33,{"$f":"EmpDetail!B36","v":"d`\".kk xaxoky"},{"$f":"EmpDetail!C36","v":"अध्यापक ग्रेड III"},{"$f":"EmpDetail!D36","v":"राउप्रावि गोरधनपुरा"}]
[null,null,null,null,null,null,null,null,null,null,null,null,null,null,null,null,null,null,null,34,{"$f":"EmpDetail!B37","v":"n'kjFk dqekj ;kno"},{"$f":"EmpDetail!C37","v":"अध्यापक ग्रेड III"},{"$f":"EmpDetail!D37","v":"राउप्रावि सोंदीफल"}]
[null,null,null,null,null,null,null,null,null,null,null,null,null,null,null,null,null,null,null,35,{"$f":"EmpDetail!B38","v":"d`\".k yky tkV"},{"$f":"EmpDetail!C38","v":"अध्यापक ग्रेड III"},{"$f":"EmpDetail!D38","v":"राउप्रावि सोंदीफल"}]
[null,null,null,null,null,null,null,null,null,null,null,null,null,null,null,null,null,null,null,36,{"$f":"EmpDetail!B39","v":"nhisUnz dqekj iztkir"},{"$f":"EmpDetail!C39","v":"अध्यापक ग्रेड III"},{"$f":"EmpDetail!D39","v":"राउप्रावि सोंदीफल"}]
[null,null,null,null,null,null,null,null,null,null,null,null,null,null,null,null,null,null,null,37,{"$f":"EmpDetail!B40","v":"uohu dqekj"},{"$f":"EmpDetail!C40","v":"अध्यापक ग्रेड III"},{"$f":"EmpDetail!D40","v":"राउप्रावि मोहिनी"}]
[null,null,null,null,null,null,null,null,null,null,null,null,null,null,null,null,null,null,null,38,{"$f":"EmpDetail!B41","v":"ehrs'k dqekj 'kekZ"},{"$f":"EmpDetail!C41","v":"अध्यापक ग्रेड III"},{"$f":"EmpDetail!D41","v":"राउप्रावि मोहिनी"}]
[null,null,null,null,null,null,null,null,null,null,null,null,null,null,null,null,null,null,null,39,{"$f":"EmpDetail!B42","v":"eUtw eh.kk"},{"$f":"EmpDetail!C42","v":"वरिष्ठ अध्यापक"},{"$f":"EmpDetail!D42","v":"राउप्रावि गोरधनपुरा"}]
[null,null,null,null,null,null,null,null,null,null,null,null,null,null,null,null,null,null,null,40,{"$f":"EmpDetail!B43","v":"eatw pkS/kjh"},{"$f":"EmpDetail!C43","v":"वरिष्ठ अध्यापक"},{"$f":"EmpDetail!D43","v":"राउप्रावि सोंदीफल"}]
[null,null,null,null,null,null,null,null,null,null,null,null,null,null,null,null,null,null,null,41,{"$f":"EmpDetail!B44","v":0},{"$f":"EmpDetail!C44","v":0},{"$f":"EmpDetail!D44","v":0}]
[null,null,null,null,null,null,null,null,null,null,null,null,null,null,null,null,null,null,null,42,{"$f":"EmpDetail!B45","v":0},{"$f":"EmpDetail!C45","v":0},{"$f":"EmpDetail!D45","v":0}]
[null,null,null,null,null,null,null,null,null,null,null,null,null,null,null,null,null,null,null,43,{"$f":"EmpDetail!B46","v":0},{"$f":"EmpDetail!#REF!","v":{"$error":"#REF!"}},{"$f":"EmpDetail!#REF!","v":{"$error":"#REF!"}}]
[null,null,null,null,null,null,null,null,null,null,null,null,null,null,null,null,null,null,null,44,{"$f":"EmpDetail!B47","v":0},{"$f":"EmpDetail!C47","v":0},{"$f":"EmpDetail!D47","v":0}]
[null,null,null,null,null,null,null,null,null,null,null,null,null,null,null,null,null,null,null,45,{"$f":"EmpDetail!B48","v":0},{"$f":"EmpDetail!C48","v":0},{"$f":"EmpDetail!D48","v":0}]
[null,null,null,null,null,null,null,null,null,null,null,null,null,null,null,null,null,null,null,46,{"$f":"EmpDetail!B49","v":0},{"$f":"EmpDetail!C49","v":0},{"$f":"EmpDetail!D49","v":0}]
[null,null,null,null,null,null,null,null,null,null,null,null,null,null,null,null,null,null,null,47,{"$f":"EmpDetail!B50","v":0},{"$f":"EmpDetail!C50","v":0},{"$f":"EmpDetail!D50","v":0}]
[null,null,null,null,null,null,null,null,null,null,null,null,null,null,null,null,null,null,null,48,{"$f":"EmpDetail!B51","v":0},{"$f":"EmpDetail!C51","v":0},{"$f":"EmpDetail!D51","v":0}]
[null,null,null,null,null,null,null,null,null,null,null,null,null,null,null,null,null,null,null,49,{"$f":"EmpDetail!B52","v":0},{"$f":"EmpDetail!C52","v":0},{"$f":"EmpDetail!D52","v":0}]
[null,null,null,null,null,null,null,null,null,null,null,null,null,null,null,null,null,null,null,50,{"$f":"EmpDetail!B53","v":0},{"$f":"EmpDetail!C53","v":0},{"$f":"EmpDetail!D53","v":0}]
[null,null,null,null,null,null,null,null,null,null,null,null,null,null,null,null,null,null,null,51,{"$f":"EmpDetail!B54","v":0},{"$f":"EmpDetail!C54","v":0},{"$f":"EmpDetail!D54","v":0}]
[null,null,null,null,null,null,null,null,null,null,null,null,null,null,null,null,null,null,null,52,{"$f":"EmpDetail!B55","v":0},{"$f":"EmpDetail!C55","v":0},{"$f":"EmpDetail!D55","v":0}]
[null,null,null,null,null,null,null,null,null,null,null,null,null,null,null,null,null,null,null,53,{"$f":"EmpDetail!B56","v":0},{"$f":"EmpDetail!C56","v":0},{"$f":"EmpDetail!D56","v":0}]
[null,null,null,null,null,null,null,null,null,null,null,null,null,null,null,null,null,null,null,54,{"$f":"EmpDetail!B57","v":0},{"$f":"EmpDetail!C57","v":0},{"$f":"EmpDetail!D57","v":0}]
[null,null,null,null,null,null,null,null,null,null,null,null,null,null,null,null,null,null,null,55,{"$f":"EmpDetail!B58","v":0},{"$f":"EmpDetail!C58","v":0},{"$f":"EmpDetail!D58","v":0}]
[null,null,null,null,null,null,null,null,null,null,null,null,null,null,null,null,null,null,null,56,{"$f":"EmpDetail!B59","v":0},{"$f":"EmpDetail!C59","v":0},{"$f":"EmpDetail!D59","v":0}]
[null,null,null,null,null,null,null,null,null,null,null,null,null,null,null,null,null,null,null,57,{"$f":"EmpDetail!B60","v":0},{"$f":"EmpDetail!C60","v":0},{"$f":"EmpDetail!D60","v":0}]
[null,null,null,null,null,null,null,null,null,null,null,null,null,null,null,null,null,null,null,58,{"$f":"EmpDetail!B61","v":0},{"$f":"EmpDetail!C61","v":0},{"$f":"EmpDetail!D61","v":0}]
[null,null,null,null,null,null,null,null,null,null,null,null,null,null,null,null,null,null,null,59,{"$f":"EmpDetail!B62","v":0},{"$f":"EmpDetail!C62","v":0},{"$f":"EmpDetail!D62","v":0}]
[null,null,null,null,null,null,null,null,null,null,null,null,null,null,null,null,null,null,null,60,{"$f":"EmpDetail!B63","v":0},{"$f":"EmpDetail!C63","v":0},{"$f":"EmpDetail!D63","v":0}]
[null,null,null,null,null,null,null,null,null,null,null,null,null,null,null,null,null,null,null,61,{"$f":"EmpDetail!B64","v":0},{"$f":"EmpDetail!C64","v":0},{"$f":"EmpDetail!D64","v":0}]
[null,null,null,null,null,null,null,null,null,null,null,null,null,null,null,null,null,null,null,62,{"$f":"EmpDetail!B65","v":0},{"$f":"EmpDetail!C65","v":0},{"$f":"EmpDetail!D65","v":0}]
[null,null,null,null,null,null,null,null,null,null,null,null,null,null,null,null,null,null,null,63,{"$f":"EmpDetail!B66","v":0},{"$f":"EmpDetail!C66","v":0},{"$f":"EmpDetail!D66","v":0}]
[null,null,null,null,null,null,null,null,null,null,null,null,null,null,null,null,null,null,null,64,{"$f":"EmpDetail!B67","v":0},{"$f":"EmpDetail!C67","v":0},{"$f":"EmpDetail!D67","v":0}]
[null,null,null,null,null,null,null,null,null,null,null,null,null,null,null,null,null,null,null,65,{"$f":"EmpDetail!B68","v":0},{"$f":"EmpDetail!C68","v":0},{"$f":"EmpDetail!D68","v":0}]
[null,null,null,null,null,null,null,null,null,null,null,null,null,null,null,null,null,null,null,66,{"$f":"EmpDetail!B69","v":0},{"$f":"EmpDetail!C69","v":0},{"$f":"EmpDetail!D69","v":0}]
[null,null,null,null,null,null,null,null,null,null,null,null,null,null,null,null,null,null,null,67,{"$f":"EmpDetail!B70","v":0},{"$f":"EmpDetail!C70","v":0},{"$f":"EmpDetail!D70","v":0}]
[null,null,null,null,null,null,null,null,null,null,null,null,null,null,null,null,null,null,null,68,{"$f":"EmpDetail!B71","v":0},{"$f":"EmpDetail!C71","v":0},{"$f":"EmpDetail!D71","v":0}]
[null,null,null,null,null,null,null,null,null,null,null,null,null,null,null,null,null,null,null,69,{"$f":"EmpDetail!B72","v":0},{"$f":"EmpDetail!C72","v":0},{"$f":"EmpDetail!D72","v":0}]
[null,null,null,null,null,null,null,null,null,null,null,null,null,null,null,null,null,null,null,70,{"$f":"EmpDetail!B73","v":0},{"$f":"EmpDetail!C73","v":0},{"$f":"EmpDetail!D73","v":0}]
[null,null,null,null,null,null,null,null,null,null,null,null,null,null,null,null,null,null,null,71,{"$f":"EmpDetail!B74","v":0},{"$f":"EmpDetail!C74","v":0},{"$f":"EmpDetail!D74","v":0}]
[null,null,null,null,null,null,null,null,null,null,null,null,null,null,null,null,null,null,null,72,{"$f":"EmpDetail!B75","v":0},{"$f":"EmpDetail!C75","v":0},{"$f":"EmpDetail!D75","v":0}]
[null,null,null,null,null,null,null,null,null,null,null,null,null,null,null,null,null,null,null,73,{"$f":"EmpDetail!B76","v":0},{"$f":"EmpDetail!C76","v":0},{"$f":"EmpDetail!D76","v":0}]
[null,null,null,null,null,null,null,null,null,null,null,null,null,null,null,null,null,null,null,74,{"$f":"EmpDetail!B77","v":0},{"$f":"EmpDetail!C77","v":0},{"$f":"EmpDetail!D77","v":0}]
[null,null,null,null,null,null,null,null,null,null,null,null,null,null,null,null,null,null,null,75,{"$f":"EmpDetail!B78","v":0},{"$f":"EmpDetail!C78","v":0},{"$f":"EmpDetail!D78","v":0}]
[null,null,null,null,null,null,null,null,null,null,null,null,null,null,null,null,null,null,null,76,{"$f":"EmpDetail!B79","v":0},{"$f":"EmpDetail!C79","v":0},{"$f":"EmpDetail!D79","v":0}]
[null,null,null,null,null,null,null,null,null,null,null,null,null,null,null,null,null,null,null,77,{"$f":"EmpDetail!B80","v":0},{"$f":"EmpDetail!C80","v":0},{"$f":"EmpDetail!D80","v":0}]
[null,null,null,null,null,null,null,null,null,null,null,null,null,null,null,null,null,null,null,78,{"$f":"EmpDetail!B81","v":0},{"$f":"EmpDetail!C81","v":0},{"$f":"EmpDetail!D81","v":0}]
[null,null,null,null,null,null,null,null,null,null,null,null,null,null,null,null,null,null,null,79,{"$f":"EmpDetail!B82","v":0},{"$f":"EmpDetail!C82","v":0},{"$f":"EmpDetail!D82","v":0}]
[null,null,null,null,null,null,null,null,null,null,null,null,null,null,null,null,null,null,null,80,{"$f":"EmpDetail!B83","v":0},{"$f":"EmpDetail!C83","v":0},{"$f":"EmpDetail!D83","v":0}]
[null,null,null,null,null,null,null,null,null,null,null,null,null,null,null,null,null,null,null,81,{"$f":"EmpDetail!B84","v":0},{"$f":"EmpDetail!C84","v":0},{"$f":"EmpDetail!D84","v":0}]
[null,null,null,null,null,null,null,null,null,null,null,null,null,null,null,null,null,null,null,82,{"$f":"EmpDetail!B85","v":0},{"$f":"EmpDetail!C85","v":0},{"$f":"EmpDetail!D85","v":0}]
[null,null,null,null,null,null,null,null,null,null,null,null,null,null,null,null,null,null,null,83,{"$f":"EmpDetail!B86","v":0},{"$f":"EmpDetail!C86","v":0},{"$f":"EmpDetail!D86","v":0}]
[null,null,null,null,null,null,null,null,null,null,null,null,null,null,null,null,null,null,null,84,{"$f":"EmpDetail!B87","v":0},{"$f":"EmpDetail!C87","v":0},{"$f":"EmpDetail!D87","v":0}]
[null,null,null,null,null,null,null,null,null,null,null,null,null,null,null,null,null,null,null,85,{"$f":"EmpDetail!B88","v":0},{"$f":"EmpDetail!C88","v":0},{"$f":"EmpDetail!D88","v":0}]
[null,null,null,null,null,null,null,null,null,null,null,null,null,null,null,null,null,null,null,86,{"$f":"EmpDetail!B89","v":0},{"$f":"EmpDetail!C89","v":0},{"$f":"EmpDetail!D89","v":0}]
[null,null,null,null,null,null,null,null,null,null,null,null,null,null,null,null,null,null,null,87,{"$f":"EmpDetail!B90","v":0},{"$f":"EmpDetail!C90","v":0},{"$f":"EmpDetail!D90","v":0}]
[null,null,null,null,null,null,null,null,null,null,null,null,null,null,null,null,null,null,null,88,{"$f":"EmpDetail!B91","v":0},{"$f":"EmpDetail!C91","v":0},{"$f":"EmpDetail!D91","v":0}]
[null,null,null,null,null,null,null,null,null,null,null,null,null,null,null,null,null,null,null,89,{"$f":"EmpDetail!B92","v":0},{"$f":"EmpDetail!C92","v":0},{"$f":"EmpDetail!D92","v":0}]
[null,null,null,null,null,null,null,null,null,null,null,null,null,null,null,null,null,null,null,90,{"$f":"EmpDetail!B93","v":0},{"$f":"EmpDetail!C93","v":0},{"$f":"EmpDetail!D93","v":0}]
[null,null,null,null,null,null,null,null,null,null,null,null,null,null,null,null,null,null,null,91,{"$f":"EmpDetail!B94","v":0},{"$f":"EmpDetail!C94","v":0},{"$f":"EmpDetail!D94","v":0}]
[null,null,null,null,null,null,null,null,null,null,null,null,null,null,null,null,null,null,null,92,{"$f":"EmpDetail!B95","v":0},{"$f":"EmpDetail!C95","v":0},{"$f":"EmpDetail!D95","v":0}]
[null,null,null,null,null,null,null,null,null,null,null,null,null,null,null,null,null,null,null,93,{"$f":"EmpDetail!B96","v":0},{"$f":"EmpDetail!C96","v":0},{"$f":"EmpDetail!D96","v":0}]
[null,null,null,null,null,null,null,null,null,null,null,null,null,null,null,null,null,null,null,94,{"$f":"EmpDetail!B97","v":0},{"$f":"EmpDetail!C97","v":0},{"$f":"EmpDetail!D97","v":0}]
[null,null,null,null,null,null,null,null,null,null,null,null,null,null,null,null,null,null,null,95,{"$f":"EmpDetail!B98","v":0},{"$f":"EmpDetail!C98","v":0},{"$f":"EmpDetail!D98","v":0}]
[null,null,null,null,null,null,null,null,null,null,null,null,null,null,null,null,null,null,null,96,{"$f":"EmpDetail!B99","v":0},{"$f":"EmpDetail!C99","v":0},{"$f":"EmpDetail!D99","v":0}]
[null,null,null,null,null,null,null,null,null,null,null,null,null,null,null,null,null,null,null,97,{"$f":"EmpDetail!B100","v":0},{"$f":"EmpDetail!C100","v":0},{"$f":"EmpDetail!D100","v":0}]
[null,null,null,null,null,null,null,null,null,null,null,null,null,null,null,null,null,null,null,98,{"$f":"EmpDetail!B101","v":0},{"$f":"EmpDetail!C101","v":0},{"$f":"EmpDetail!D101","v":0}]
[null,null,null,null,null,null,null,null,null,null,null,null,null,null,null,null,null,null,null,99,{"$f":"EmpDetail!B102","v":0},{"$f":"EmpDetail!C102","v":0},{"$f":"EmpDetail!D102","v":0}]
[null,null,null,null,null,null,null,null,null,null,null,null,null,null,null,null,null,null,null,100,{"$f":"EmpDetail!B103","v":0},{"$f":"EmpDetail!C103","v":0},{"$f":"EmpDetail!D103","v":0}]

{"sheet":"Duty Cert I","index":15,"n_rows":105,"n_cols":15,"rows_kept":105,"cut":false,"hidden":true,"merged":[[1,0,2,0],[5,3,5,5],[5,6,5,7],[6,2,6,3],[6,4,6,6],[0,1,0,10],[1,1,1,10],[3,1,3,10]]}
[null,{"$f":"Master!G2&Master!H2","v":"कार्यालय&राजकीय उच्च माध्यमिक विद्यालय ]चौगाई]टोंक"}]
["dkfeZd dk dzekad fy[ksa&"]
[null,"dzekad&",{"$f":"Master!H3&Master!I3&Master!J3&Master!E3&\"/\"","v":"राउमावि/चौगाई/संस्था/2021-22/"},null,null,null,null,null,null,"fnukad&",{"$f":"TODAY()","v":"2021-06-19"}]
[7,"mifLFkfr izek.k i="]
["TA Y/N",null,null,null,"izekf.kr fd;k tkrk gS fd Jh@Jhefr",{"$f":"IF(ISNA(VLOOKUP($A4,$L$6:$O$105,2,FALSE)),\"\",VLOOKUP($A4,$L$6:$O$105,2,FALSE))","v":"vk'kkjke eh.kk"},{"$f":"IF(ISNA(VLOOKUP($A4,$L$6:$O$105,3,FALSE)),\"\",VLOOKUP($A4,$L$6:$O$105,3,FALSE))","v":"वरिष्ठ अध्यापक"},{"$f":"IF(ISNA(VLOOKUP($A4,$L$6:$O$105,4,FALSE)),\"\",VLOOKUP($A4,$L$6:$O$105,4,FALSE))","v":"राउमावि चौगाई"},"us","fnukad&","2021-04-05"]
["N","ls fnukad&","2021-04-05","rd v/kksgLrk{kjdrkZ ds dk;kZy; esa ",null,null,"izHkkj  gLrkarj.k  dk;Z  gsrw",null,"viuh mifLFkfr nh A",null,null,1,{"$f":"EmpDetail!B4","v":"fd'ku yky cSjok"},{"$f":"EmpDetail!C4","v":"प्रधानाचार्य"},{"$f":"EmpDetail!D4","v":"राउमावि चौगाई"}]
[null,"vr% Jh@Jhefr",{"$f":"IF(ISNA(VLOOKUP($A4,$L$6:$O$105,2,FALSE)),\"\",VLOOKUP($A4,$L$6:$O$105,2,FALSE))","v":"vk'kkjke eh.kk"},null,"dh  mifLFkfr  izekf.kr  dh  tkrh  gS A",null,null,{"$f":"IF(A6=\"Y\",\"bUgs ;k=k o nSfud HkRrk ns; gS A\",\"\")","v":""},null,null,null,2,{"$f":"EmpDetail!B5","v":"iwj.k pUn y{kdkj"},{"$f":"EmpDetail!C5","v":"व्याख्याता"},{"$f":"EmpDetail!D5","v":"राउमावि चौगाई"}]
[null,null,null,null,null,null,null,null,null,null,null,3,{"$f":"EmpDetail!B6","v":"jktsUnz dqekj tSu"},{"$f":"EmpDetail!C6","v":"व्याख्याता"},{"$f":"EmpDetail!D6","v":"राउमावि चौगाई"}]
[null,null,null,null,null,null,null,null,{"$f":"Master!B2","v":"प्रधानाचार्य"},null,null,4,{"$f":"EmpDetail!B7","v":"fd'ku yky cSjok"},{"$f":"EmpDetail!C7","v":"व्याख्याता"},{"$f":"EmpDetail!D7","v":"राउमावि चौगाई"}]
[null,null,null,null,null,null,null,null,{"$f":"Master!B3","v":"राजकीय उच्च माध्यमिक विद्यालय "},null,null,5,{"$f":"EmpDetail!B8","v":"lR;ukjk;.k 'kekZ"},{"$f":"EmpDetail!C8","v":"वरिष्ठ अध्यापक"},{"$f":"EmpDetail!D8","v":"राउमावि चौगाई"}]
[null,null,null,null,null,null,null,null,{"$f":"Master!B4","v":"चौगाई]टोंक"},null,null,6,{"$f":"EmpDetail!B9","v":"iq\"ik tSu"},{"$f":"EmpDetail!C9","v":"वरिष्ठ अध्यापक"},{"$f":"EmpDetail!D9","v":"राउमावि चौगाई"}]
[null,null,null,null,null,null,null,null,null,null,null,7,{"$f":"EmpDetail!B10","v":"vk'kkjke eh.kk"},{"$f":"EmpDetail!C10","v":"वरिष्ठ अध्यापक"},{"$f":"EmpDetail!D10","v":"राउमावि चौगाई"}]
[null,null,null,null,null,null,null,null,null,null,null,8,{"$f":"EmpDetail!B11","v":"t;iky flag"},{"$f":"EmpDetail!C11","v":"वरिष्ठ अध्यापक"},{"$f":"EmpDetail!D11","v":"राउमावि चौगाई"}]
[null,null,null,null,null,null,null,null,null,null,null,9,{"$f":"EmpDetail!B12","v":"jkeizlkn jsxj"},{"$f":"EmpDetail!C12","v":"वरिष्ठ अध्यापक"},{"$f":"EmpDetail!D12","v":"राउमावि चौगाई"}]
[null,null,null,null,null,null,null,null,null,null,null,10,{"$f":"EmpDetail!B13","v":"egsUnz dqekj tkV"},{"$f":"EmpDetail!C13","v":"शारीरिक शिक्षक"},{"$f":"EmpDetail!D13","v":"राउमावि चौगाई"}]
[null,null,null,null,null,null,null,null,null,null,null,11,{"$f":"EmpDetail!B14","v":"NksVw yky jsxj"},{"$f":"EmpDetail!C14","v":"अध्यापक ग्रेड III"},{"$f":"EmpDetail!D14","v":"राउमावि चौगाई"}]
[null,null,null,null,null,null,null,null,null,null,null,12,{"$f":"EmpDetail!B15","v":"dUgS;k yky egkoj"},{"$f":"EmpDetail!C15","v":"अध्यापक ग्रेड III"},{"$f":"EmpDetail!D15","v":"राउमावि चौगाई"}]
[null,null,null,null,null,null,null,null,null,null,null,13,{"$f":"EmpDetail!B16","v":"prqHkqZt tkV"},{"$f":"EmpDetail!C16","v":"अध्यापक ग्रेड III"},{"$f":"EmpDetail!D16","v":"राउमावि चौगाई"}]
[null,null,null,null,null,null,null,null,null,null,null,14,{"$f":"EmpDetail!B17","v":"vklsQk [kku"},{"$f":"EmpDetail!C17","v":"अध्यापक ग्रेड III"},{"$f":"EmpDetail!D17","v":"राउमावि चौगाई"}]
[null,null,null,null,null,null,null,null,null,null,null,15,{"$f":"EmpDetail!B18","v":"lq'khyk cSjok"},{"$f":"EmpDetail!C18","v":"कनिष्ठ सहायक"},{"$f":"EmpDetail!D18","v":"राउमावि चौगाई"}]
[null,null,null,null,null,null,null,null,null,null,null,16,{"$f":"EmpDetail!B19","v":"txnh'k izlkn rsyh"},{"$f":"EmpDetail!C19","v":"सहायक कर्मचारी"},{"$f":"EmpDetail!D19","v":"राउमावि चौगाई"}]
[null,null,null,null,null,null,null,null,null,null,null,17,{"$f":"EmpDetail!B20","v":"jfoUnz dqekj tSu"},{"$f":"EmpDetail!C20","v":"अध्यापक ग्रेड III"},{"$f":"EmpDetail!D20","v":"राउप्रावि मोहिनी"}]
[null,null,null,null,null,null,null,null,null,null,null,18,{"$f":"EmpDetail!B21","v":" ';ke lqUnj ckxkSM"},{"$f":"EmpDetail!C21","v":"अध्यापक ग्रेड III"},{"$f":"EmpDetail!D21","v":"राउप्रावि मोहिनी"}]
[null,null,null,null,null,null,null,null,null,null,null,19,{"$f":"EmpDetail!B22","v":"d`\".kk 'kekZ"},{"$f":"EmpDetail!C22","v":"प्रबोधक"},{"$f":"EmpDetail!D22","v":"राउप्रावि मोहिनी"}]
[null,null,null,null,null,null,null,null,null,null,null,20,{"$f":"EmpDetail!B23","v":"/keZsUnz pkS/kjh"},{"$f":"EmpDetail!C23","v":"अध्यापक ग्रेड III"},{"$f":"EmpDetail!D23","v":"राउप्रावि गोरधनपुरा"}]
[null,null,null,null,null,null,null,null,null,null,null,21,{"$f":"EmpDetail!B24","v":"izgykn ekyh"},{"$f":"EmpDetail!C24","v":"प्रबोधक"},{"$f":"EmpDetail!D24","v":"राउप्रावि गोरधनपुरा"}]
[null,null,null,null,null,null,null,null,null,null,null,22,{"$f":"EmpDetail!B25","v":"jken;ky xqtZj"},{"$f":"EmpDetail!C25","v":"प्रबोधक"},{"$f":"EmpDetail!D25","v":"राउप्रावि सोंदीफल"}]
[null,null,null,null,null,null,null,null,null,null,null,23,{"$f":"EmpDetail!B26","v":"vkSeizdk'k tkV"},{"$f":"EmpDetail!C26","v":"अध्यापक ग्रेड III"},{"$f":"EmpDetail!D26","v":"राउप्रावि सोंदीफल"}]
[null,null,null,null,null,null,null,null,null,null,null,24,{"$f":"EmpDetail!B27","v":"vthr flag"},{"$f":"EmpDetail!C27","v":"अध्यापक ग्रेड III"},{"$f":"EmpDetail!D27","v":"राप्रावि जानकीवल्लभपुरा"}]
[null,null,null,null,null,null,null,null,null,null,null,25,{"$f":"EmpDetail!B28","v":"eq[rkj eha;k"},{"$f":"EmpDetail!C28","v":"प्रबोधक"},{"$f":"EmpDetail!D28","v":"राप्रावि जानकीवल्लभपुरा"}]
[null,null,null,null,null,null,null,null,null,null,null,26,{"$f":"EmpDetail!B29","v":"eks0 tehy "},{"$f":"EmpDetail!C29","v":"प्रबोधक"},{"$f":"EmpDetail!D29","v":"राप्रावि रसूलपुरा"}]
[null,null,null,null,null,null,null,null,null,null,null,27,{"$f":"EmpDetail!B30","v":"lkaojey tkV"},{"$f":"EmpDetail!C30","v":"अध्यापक ग्रेड III"},{"$f":"EmpDetail!D30","v":"राप्रावि रसूलपुरा"}]
[null,null,null,null,null,null,null,null,null,null,null,28,{"$f":"EmpDetail!B31","v":"pkS/kjh eksuk jkekorkj"},{"$f":"EmpDetail!C31","v":"अध्यापक ग्रेड III"},{"$f":"EmpDetail!D31","v":"राप्रावि मोहिनी ढाणी बाढ"}]
[null,null,null,null,null,null,null,null,null,null,null,29,{"$f":"EmpDetail!B32","v":"rkjkpUn tk;loky"},{"$f":"EmpDetail!C32","v":"प्रबोधक"},{"$f":"EmpDetail!D32","v":"राप्रावि मोहिनी ढाणी बाढ"}]
[null,null,null,null,null,null,null,null,null,null,null,30,{"$f":"EmpDetail!B33","v":"jketl ;kno"},{"$f":"EmpDetail!C33","v":"अध्यापक ग्रेड III"},{"$f":"EmpDetail!D33","v":"राप्रावि बैरवा ढाणी सोन्दीफल"}]
[null,null,null,null,null,null,null,null,null,null,null,31,{"$f":"EmpDetail!B34","v":"dtksMey eh.kk"},{"$f":"EmpDetail!C34","v":"अध्यापक ग्रेड III"},{"$f":"EmpDetail!D34","v":"राप्रावि बैरवा ढाणी सोन्दीफल"}]
[null,null,null,null,null,null,null,null,null,null,null,32,{"$f":"EmpDetail!B35","v":"/kaut; xkSRre"},{"$f":"EmpDetail!C35","v":"अध्यापक ग्रेड III"},{"$f":"EmpDetail!D35","v":"राउप्रावि गोरधनपुरा"}]
[null,null,null,null,null,null,null,null,null,null,null,33,{"$f":"EmpDetail!B36","v":"d`\".kk xaxoky"},{"$f":"EmpDetail!C36","v":"अध्यापक ग्रेड III"},{"$f":"EmpDetail!D36","v":"राउप्रावि गोरधनपुरा"}]
[null,null,null,null,null,null,null,null,null,null,null,34,{"$f":"EmpDetail!B37","v":"n'kjFk dqekj ;kno"},{"$f":"EmpDetail!C37","v":"अध्यापक ग्रेड III"},{"$f":"EmpDetail!D37","v":"राउप्रावि सोंदीफल"}]
[null,null,null,null,null,null,null,null,null,null,null,35,{"$f":"EmpDetail!B38","v":"d`\".k yky tkV"},{"$f":"EmpDetail!C38","v":"अध्यापक ग्रेड III"},{"$f":"EmpDetail!D38","v":"राउप्रावि सोंदीफल"}]
[null,null,null,null,null,null,null,null,null,null,null,36,{"$f":"EmpDetail!B39","v":"nhisUnz dqekj iztkir"},{"$f":"EmpDetail!C39","v":"अध्यापक ग्रेड III"},{"$f":"EmpDetail!D39","v":"राउप्रावि सोंदीफल"}]
[null,null,null,null,null,null,null,null,null,null,null,37,{"$f":"EmpDetail!B40","v":"uohu dqekj"},{"$f":"EmpDetail!C40","v":"अध्यापक ग्रेड III"},{"$f":"EmpDetail!D40","v":"राउप्रावि मोहिनी"}]
[null,null,null,null,null,null,null,null,null,null,null,38,{"$f":"EmpDetail!B41","v":"ehrs'k dqekj 'kekZ"},{"$f":"EmpDetail!C41","v":"अध्यापक ग्रेड III"},{"$f":"EmpDetail!D41","v":"राउप्रावि मोहिनी"}]
[null,null,null,null,null,null,null,null,null,null,null,39,{"$f":"EmpDetail!B42","v":"eUtw eh.kk"},{"$f":"EmpDetail!C42","v":"वरिष्ठ अध्यापक"},{"$f":"EmpDetail!D42","v":"राउप्रावि गोरधनपुरा"}]
[null,null,null,null,null,null,null,null,null,null,null,40,{"$f":"EmpDetail!B43","v":"eatw pkS/kjh"},{"$f":"EmpDetail!C43","v":"वरिष्ठ अध्यापक"},{"$f":"EmpDetail!D43","v":"राउप्रावि सोंदीफल"}]
[null,null,null,null,null,null,null,null,null,null,null,41,{"$f":"EmpDetail!B44","v":0},{"$f":"EmpDetail!C44","v":0},{"$f":"EmpDetail!D44","v":0}]
[null,null,null,null,null,null,null,null,null,null,null,42,{"$f":"EmpDetail!B45","v":0},{"$f":"EmpDetail!C45","v":0},{"$f":"EmpDetail!D45","v":0}]
[null,null,null,null,null,null,null,null,null,null,null,43,{"$f":"EmpDetail!B46","v":0},{"$f":"EmpDetail!#REF!","v":{"$error":"#REF!"}},{"$f":"EmpDetail!#REF!","v":{"$error":"#REF!"}}]
[null,null,null,null,null,null,null,null,null,null,null,44,{"$f":"EmpDetail!B47","v":0},{"$f":"EmpDetail!C47","v":0},{"$f":"EmpDetail!D47","v":0}]
[null,null,null,null,null,null,null,null,null,null,null,45,{"$f":"EmpDetail!B48","v":0},{"$f":"EmpDetail!C48","v":0},{"$f":"EmpDetail!D48","v":0}]
[null,null,null,null,null,null,null,null,null,null,null,46,{"$f":"EmpDetail!B49","v":0},{"$f":"EmpDetail!C49","v":0},{"$f":"EmpDetail!D49","v":0}]
[null,null,null,null,null,null,null,null,null,null,null,47,{"$f":"EmpDetail!B50","v":0},{"$f":"EmpDetail!C50","v":0},{"$f":"EmpDetail!D50","v":0}]
[null,null,null,null,null,null,null,null,null,null,null,48,{"$f":"EmpDetail!B51","v":0},{"$f":"EmpDetail!C51","v":0},{"$f":"EmpDetail!D51","v":0}]
[null,null,null,null,null,null,null,null,null,null,null,49,{"$f":"EmpDetail!B52","v":0},{"$f":"EmpDetail!C52","v":0},{"$f":"EmpDetail!D52","v":0}]
[null,null,null,null,null,null,null,null,null,null,null,50,{"$f":"EmpDetail!B53","v":0},{"$f":"EmpDetail!C53","v":0},{"$f":"EmpDetail!D53","v":0}]
[null,null,null,null,null,null,null,null,null,null,null,51,{"$f":"EmpDetail!B54","v":0},{"$f":"EmpDetail!C54","v":0},{"$f":"EmpDetail!D54","v":0}]
[null,null,null,null,null,null,null,null,null,null,null,52,{"$f":"EmpDetail!B55","v":0},{"$f":"EmpDetail!C55","v":0},{"$f":"EmpDetail!D55","v":0}]
[null,null,null,null,null,null,null,null,null,null,null,53,{"$f":"EmpDetail!B56","v":0},{"$f":"EmpDetail!C56","v":0},{"$f":"EmpDetail!D56","v":0}]
[null,null,null,null,null,null,null,null,null,null,null,54,{"$f":"EmpDetail!B57","v":0},{"$f":"EmpDetail!C57","v":0},{"$f":"EmpDetail!D57","v":0}]
[null,null,null,null,null,null,null,null,null,null,null,55,{"$f":"EmpDetail!B58","v":0},{"$f":"EmpDetail!C58","v":0},{"$f":"EmpDetail!D58","v":0}]
[null,null,null,null,null,null,null,null,null,null,null,56,{"$f":"EmpDetail!B59","v":0},{"$f":"EmpDetail!C59","v":0},{"$f":"EmpDetail!D59","v":0}]
[null,null,null,null,null,null,null,null,null,null,null,57,{"$f":"EmpDetail!B60","v":0},{"$f":"EmpDetail!C60","v":0},{"$f":"EmpDetail!D60","v":0}]
[null,null,null,null,null,null,null,null,null,null,null,58,{"$f":"EmpDetail!B61","v":0},{"$f":"EmpDetail!C61","v":0},{"$f":"EmpDetail!D61","v":0}]
[null,null,null,null,null,null,null,null,null,null,null,59,{"$f":"EmpDetail!B62","v":0},{"$f":"EmpDetail!C62","v":0},{"$f":"EmpDetail!D62","v":0}]
[null,null,null,null,null,null,null,null,null,null,null,60,{"$f":"EmpDetail!B63","v":0},{"$f":"EmpDetail!C63","v":0},{"$f":"EmpDetail!D63","v":0}]
[null,null,null,null,null,null,null,null,null,null,null,61,{"$f":"EmpDetail!B64","v":0},{"$f":"EmpDetail!C64","v":0},{"$f":"EmpDetail!D64","v":0}]
[null,null,null,null,null,null,null,null,null,null,null,62,{"$f":"EmpDetail!B65","v":0},{"$f":"EmpDetail!C65","v":0},{"$f":"EmpDetail!D65","v":0}]
[null,null,null,null,null,null,null,null,null,null,null,63,{"$f":"EmpDetail!B66","v":0},{"$f":"EmpDetail!C66","v":0},{"$f":"EmpDetail!D66","v":0}]
[null,null,null,null,null,null,null,null,null,null,null,64,{"$f":"EmpDetail!B67","v":0},{"$f":"EmpDetail!C67","v":0},{"$f":"EmpDetail!D67","v":0}]
[null,null,null,null,null,null,null,null,null,null,null,65,{"$f":"EmpDetail!B68","v":0},{"$f":"EmpDetail!C68","v":0},{"$f":"EmpDetail!D68","v":0}]
[null,null,null,null,null,null,null,null,null,null,null,66,{"$f":"EmpDetail!B69","v":0},{"$f":"EmpDetail!C69","v":0},{"$f":"EmpDetail!D69","v":0}]
[null,null,null,null,null,null,null,null,null,null,null,67,{"$f":"EmpDetail!B70","v":0},{"$f":"EmpDetail!C70","v":0},{"$f":"EmpDetail!D70","v":0}]
[null,null,null,null,null,null,null,null,null,null,null,68,{"$f":"EmpDetail!B71","v":0},{"$f":"EmpDetail!C71","v":0},{"$f":"EmpDetail!D71","v":0}]
[null,null,null,null,null,null,null,null,null,null,null,69,{"$f":"EmpDetail!B72","v":0},{"$f":"EmpDetail!C72","v":0},{"$f":"EmpDetail!D72","v":0}]
[null,null,null,null,null,null,null,null,null,null,null,70,{"$f":"EmpDetail!B73","v":0},{"$f":"EmpDetail!C73","v":0},{"$f":"EmpDetail!D73","v":0}]
[null,null,null,null,null,null,null,null,null,null,null,71,{"$f":"EmpDetail!B74","v":0},{"$f":"EmpDetail!C74","v":0},{"$f":"EmpDetail!D74","v":0}]
[null,null,null,null,null,null,null,null,null,null,null,72,{"$f":"EmpDetail!B75","v":0},{"$f":"EmpDetail!C75","v":0},{"$f":"EmpDetail!D75","v":0}]
[null,null,null,null,null,null,null,null,null,null,null,73,{"$f":"EmpDetail!B76","v":0},{"$f":"EmpDetail!C76","v":0},{"$f":"EmpDetail!D76","v":0}]
[null,null,null,null,null,null,null,null,null,null,null,74,{"$f":"EmpDetail!B77","v":0},{"$f":"EmpDetail!C77","v":0},{"$f":"EmpDetail!D77","v":0}]
[null,null,null,null,null,null,null,null,null,null,null,75,{"$f":"EmpDetail!B78","v":0},{"$f":"EmpDetail!C78","v":0},{"$f":"EmpDetail!D78","v":0}]
[null,null,null,null,null,null,null,null,null,null,null,76,{"$f":"EmpDetail!B79","v":0},{"$f":"EmpDetail!C79","v":0},{"$f":"EmpDetail!D79","v":0}]
[null,null,null,null,null,null,null,null,null,null,null,77,{"$f":"EmpDetail!B80","v":0},{"$f":"EmpDetail!C80","v":0},{"$f":"EmpDetail!D80","v":0}]
[null,null,null,null,null,null,null,null,null,null,null,78,{"$f":"EmpDetail!B81","v":0},{"$f":"EmpDetail!C81","v":0},{"$f":"EmpDetail!D81","v":0}]
[null,null,null,null,null,null,null,null,null,null,null,79,{"$f":"EmpDetail!B82","v":0},{"$f":"EmpDetail!C82","v":0},{"$f":"EmpDetail!D82","v":0}]
[null,null,null,null,null,null,null,null,null,null,null,80,{"$f":"EmpDetail!B83","v":0},{"$f":"EmpDetail!C83","v":0},{"$f":"EmpDetail!D83","v":0}]
[null,null,null,null,null,null,null,null,null,null,null,81,{"$f":"EmpDetail!B84","v":0},{"$f":"EmpDetail!C84","v":0},{"$f":"EmpDetail!D84","v":0}]
[null,null,null,null,null,null,null,null,null,null,null,82,{"$f":"EmpDetail!B85","v":0},{"$f":"EmpDetail!C85","v":0},{"$f":"EmpDetail!D85","v":0}]
[null,null,null,null,null,null,null,null,null,null,null,83,{"$f":"EmpDetail!B86","v":0},{"$f":"EmpDetail!C86","v":0},{"$f":"EmpDetail!D86","v":0}]
[null,null,null,null,null,null,null,null,null,null,null,84,{"$f":"EmpDetail!B87","v":0},{"$f":"EmpDetail!C87","v":0},{"$f":"EmpDetail!D87","v":0}]
[null,null,null,null,null,null,null,null,null,null,null,85,{"$f":"EmpDetail!B88","v":0},{"$f":"EmpDetail!C88","v":0},{"$f":"EmpDetail!D88","v":0}]
[null,null,null,null,null,null,null,null,null,null,null,86,{"$f":"EmpDetail!B89","v":0},{"$f":"EmpDetail!C89","v":0},{"$f":"EmpDetail!D89","v":0}]
[null,null,null,null,null,null,null,null,null,null,null,87,{"$f":"EmpDetail!B90","v":0},{"$f":"EmpDetail!C90","v":0},{"$f":"EmpDetail!D90","v":0}]
[null,null,null,null,null,null,null,null,null,null,null,88,{"$f":"EmpDetail!B91","v":0},{"$f":"EmpDetail!C91","v":0},{"$f":"EmpDetail!D91","v":0}]
[null,null,null,null,null,null,null,null,null,null,null,89,{"$f":"EmpDetail!B92","v":0},{"$f":"EmpDetail!C92","v":0},{"$f":"EmpDetail!D92","v":0}]
[null,null,null,null,null,null,null,null,null,null,null,90,{"$f":"EmpDetail!B93","v":0},{"$f":"EmpDetail!C93","v":0},{"$f":"EmpDetail!D93","v":0}]
[null,null,null,null,null,null,null,null,null,null,null,91,{"$f":"EmpDetail!B94","v":0},{"$f":"EmpDetail!C94","v":0},{"$f":"EmpDetail!D94","v":0}]
[null,null,null,null,null,null,null,null,null,null,null,92,{"$f":"EmpDetail!B95","v":0},{"$f":"EmpDetail!C95","v":0},{"$f":"EmpDetail!D95","v":0}]
[null,null,null,null,null,null,null,null,null,null,null,93,{"$f":"EmpDetail!B96","v":0},{"$f":"EmpDetail!C96","v":0},{"$f":"EmpDetail!D96","v":0}]
[null,null,null,null,null,null,null,null,null,null,null,94,{"$f":"EmpDetail!B97","v":0},{"$f":"EmpDetail!C97","v":0},{"$f":"EmpDetail!D97","v":0}]
[null,null,null,null,null,null,null,null,null,null,null,95,{"$f":"EmpDetail!B98","v":0},{"$f":"EmpDetail!C98","v":0},{"$f":"EmpDetail!D98","v":0}]
[null,null,null,null,null,null,null,null,null,null,null,96,{"$f":"EmpDetail!B99","v":0},{"$f":"EmpDetail!C99","v":0},{"$f":"EmpDetail!D99","v":0}]
[null,null,null,null,null,null,null,null,null,null,null,97,{"$f":"EmpDetail!B100","v":0},{"$f":"EmpDetail!C100","v":0},{"$f":"EmpDetail!D100","v":0}]
[null,null,null,null,null,null,null,null,null,null,null,98,{"$f":"EmpDetail!B101","v":0},{"$f":"EmpDetail!C101","v":0},{"$f":"EmpDetail!D101","v":0}]
[null,null,null,null,null,null,null,null,null,null,null,99,{"$f":"EmpDetail!B102","v":0},{"$f":"EmpDetail!C102","v":0},{"$f":"EmpDetail!D102","v":0}]
[null,null,null,null,null,null,null,null,null,null,null,100,{"$f":"EmpDetail!B103","v":0},{"$f":"EmpDetail!C103","v":0},{"$f":"EmpDetail!D103","v":0}]

{"sheet":"Duty Cert II","index":16,"n_rows":108,"n_cols":15,"rows_kept":108,"cut":false,"hidden":true,"merged":[[28,2,28,6],[3,4,3,5],[3,1,3,3],[6,0,7,0],[6,1,7,1],[6,2,7,2],[6,3,7,3],[6,4,7,4],[6,7,7,7],[6,8,7,8],[0,1,0,8],[2,1,2,8],[4,1,4,3],[4,4,4,5],[5,1,5,8],[6,5,6,6]]}
[null,{"$f":"Master!G2&Master!H2","v":"कार्यालय&राजकीय उच्च माध्यमिक विद्यालय ]चौगाई]टोंक"}]
["TA Y/N","dzekad&",{"$f":"Master!H3&Master!I3&Master!J3&Master!E3&\"/\"","v":"राउमावि/चौगाई/संस्था/2021-22/"},null,null,null,null,"fnukad&",{"$f":"TODAY()","v":"2021-06-19"}]
["No","mifLFkfr izek.k i="]
[null," Jheku~ lhchbZvks Vksad ds vkns'k dzekad&",null,null,"lhchbZvks@Vksad@2020&21@890",null,"fnukad&","2021-01-07","dh vuqikyuk esa"]
[null,"fuEu dkfeZdksa us 02 fnolh; xSj vkoklh; izf'k{k.k esa",null,null," n{k izf'k{kd ds :i esa",null,"viuh mifLFkfr nh gS A",null,"vr% fuEu"]
[null,"dkfeZdksa dks muds uke ds lEeq[k vafdr frfFk ls mifLFkfr izekf.kr dh tkrh gSA"]
["dkfeZd dz0la0","dz0la0","uke dkfeZd","in uke","inLFkkiu","mifLFkfr",null,"dqy fnol","fo0fo0"]
[null,null,null,null,null,"fnukad ls","fnukad rd"]
[32,{"$f":"IF(C9=\"\",\"\",1)","v":1},{"$f":"IF(ISNA(VLOOKUP($A9,$J$9:$M$108,2,FALSE)),\"\",VLOOKUP($A9,$J$9:$M$108,2,FALSE))","v":"/kaut; xkSRre"},{"$f":"IF(ISNA(VLOOKUP($A9,$J$9:$M$108,3,FALSE)),\"\",VLOOKUP($A9,$J$9:$M$108,3,FALSE))","v":"अध्यापक ग्रेड III"},{"$f":"IF(ISNA(VLOOKUP($A9,$J$9:$M$108,4,FALSE)),\"\",VLOOKUP($A9,$J$9:$M$108,4,FALSE))","v":"राउप्रावि गोरधनपुरा"},"2021-01-13","2021-01-14",{"$f":"IF(O9=\"\",\"\",O9+1)","v":2},null,1,{"$f":"EmpDetail!B4","v":"fd'ku yky cSjok"},{"$f":"EmpDetail!C4","v":"प्रधानाचार्य"},{"$f":"EmpDetail!D4","v":"राउमावि चौगाई"},null,{"$f":"IF(G9=\"\",\"\",G9-F9)","v":1}]
[33,{"$f":"IF(C10=\"\",\"\",B9+1)","v":2},{"$f":"IF(ISNA(VLOOKUP($A10,$J$9:$M$108,2,FALSE)),\"\",VLOOKUP($A10,$J$9:$M$108,2,FALSE))","v":"d`\".kk xaxoky"},{"$f":"IF(ISNA(VLOOKUP($A10,$J$9:$M$108,3,FALSE)),\"\",VLOOKUP($A10,$J$9:$M$108,3,FALSE))","v":"अध्यापक ग्रेड III"},{"$f":"IF(ISNA(VLOOKUP($A10,$J$9:$M$108,4,FALSE)),\"\",VLOOKUP($A10,$J$9:$M$108,4,FALSE))","v":"राउप्रावि गोरधनपुरा"},"2021-01-13","2021-01-14",{"$f":"IF(O10=\"\",\"\",O10+1)","v":2},null,2,{"$f":"EmpDetail!B5","v":"iwj.k pUn y{kdkj"},{"$f":"EmpDetail!C5","v":"व्याख्याता"},{"$f":"EmpDetail!D5","v":"राउमावि चौगाई"},null,{"$f":"IF(G10=\"\",\"\",G10-F10)","v":1}]
[null,"","","","",null,null,{"$f":"IF(O11=\"\",\"\",O11+1)","v":""},null,3,{"$f":"EmpDetail!B6","v":"jktsUnz dqekj tSu"},{"$f":"EmpDetail!C6","v":"व्याख्याता"},{"$f":"EmpDetail!D6","v":"राउमावि चौगाई"},null,""]
[null,"","","","",null,null,"",null,4,{"$f":"EmpDetail!B7","v":"fd'ku yky cSjok"},{"$f":"EmpDetail!C7","v":"व्याख्याता"},{"$f":"EmpDetail!D7","v":"राउमावि चौगाई"},null,""]
[null,"","","","",null,null,"",null,5,{"$f":"EmpDetail!B8","v":"lR;ukjk;.k 'kekZ"},{"$f":"EmpDetail!C8","v":"वरिष्ठ अध्यापक"},{"$f":"EmpDetail!D8","v":"राउमावि चौगाई"},null,""]
[null,"","","","",null,null,"",null,6,{"$f":"EmpDetail!B9","v":"iq\"ik tSu"},{"$f":"EmpDetail!C9","v":"वरिष्ठ अध्यापक"},{"$f":"EmpDetail!D9","v":"राउमावि चौगाई"},null,""]
[null,"","","","",null,null,"",null,7,{"$f":"EmpDetail!B10","v":"vk'kkjke eh.kk"},{"$f":"EmpDetail!C10","v":"वरिष्ठ अध्यापक"},{"$f":"EmpDetail!D10","v":"राउमावि चौगाई"},null,""]
[null,"","","","",null,null,"",null,8,{"$f":"EmpDetail!B11","v":"t;iky flag"},{"$f":"EmpDetail!C11","v":"वरिष्ठ अध्यापक"},{"$f":"EmpDetail!D11","v":"राउमावि चौगाई"},null,""]
[null,"","","","",null,null,"",null,9,{"$f":"EmpDetail!B12","v":"jkeizlkn jsxj"},{"$f":"EmpDetail!C12","v":"वरिष्ठ अध्यापक"},{"$f":"EmpDetail!D12","v":"राउमावि चौगाई"},null,""]
[null,"","","","",null,null,"",null,10,{"$f":"EmpDetail!B13","v":"egsUnz dqekj tkV"},{"$f":"EmpDetail!C13","v":"शारीरिक शिक्षक"},{"$f":"EmpDetail!D13","v":"राउमावि चौगाई"},null,""]
[null,"","","","",null,null,"",null,11,{"$f":"EmpDetail!B14","v":"NksVw yky jsxj"},{"$f":"EmpDetail!C14","v":"अध्यापक ग्रेड III"},{"$f":"EmpDetail!D14","v":"राउमावि चौगाई"},null,""]
[null,"","","","",null,null,"",null,12,{"$f":"EmpDetail!B15","v":"dUgS;k yky egkoj"},{"$f":"EmpDetail!C15","v":"अध्यापक ग्रेड III"},{"$f":"EmpDetail!D15","v":"राउमावि चौगाई"},null,""]
[null,"","","","",null,null,"",null,13,{"$f":"EmpDetail!B16","v":"prqHkqZt tkV"},{"$f":"EmpDetail!C16","v":"अध्यापक ग्रेड III"},{"$f":"EmpDetail!D16","v":"राउमावि चौगाई"},null,""]
[null,"","","","",null,null,"",null,14,{"$f":"EmpDetail!B17","v":"vklsQk [kku"},{"$f":"EmpDetail!C17","v":"अध्यापक ग्रेड III"},{"$f":"EmpDetail!D17","v":"राउमावि चौगाई"},null,""]
[null,"","","","",null,null,"",null,15,{"$f":"EmpDetail!B18","v":"lq'khyk cSjok"},{"$f":"EmpDetail!C18","v":"कनिष्ठ सहायक"},{"$f":"EmpDetail!D18","v":"राउमावि चौगाई"},null,""]
[null,"","","","",null,null,"",null,16,{"$f":"EmpDetail!B19","v":"txnh'k izlkn rsyh"},{"$f":"EmpDetail!C19","v":"सहायक कर्मचारी"},{"$f":"EmpDetail!D19","v":"राउमावि चौगाई"},null,""]
[null,"","","","",null,null,"",null,17,{"$f":"EmpDetail!B20","v":"jfoUnz dqekj tSu"},{"$f":"EmpDetail!C20","v":"अध्यापक ग्रेड III"},{"$f":"EmpDetail!D20","v":"राउप्रावि मोहिनी"},null,""]
[null,"","","","",null,null,"",null,18,{"$f":"EmpDetail!B21","v":" ';ke lqUnj ckxkSM"},{"$f":"EmpDetail!C21","v":"अध्यापक ग्रेड III"},{"$f":"EmpDetail!D21","v":"राउप्रावि मोहिनी"},null,""]
[null,"","","","",null,null,"",null,19,{"$f":"EmpDetail!B22","v":"d`\".kk 'kekZ"},{"$f":"EmpDetail!C22","v":"प्रबोधक"},{"$f":"EmpDetail!D22","v":"राउप्रावि मोहिनी"},null,""]
[null,"","","","",null,null,"",null,20,{"$f":"EmpDetail!B23","v":"/keZsUnz pkS/kjh"},{"$f":"EmpDetail!C23","v":"अध्यापक ग्रेड III"},{"$f":"EmpDetail!D23","v":"राउप्रावि गोरधनपुरा"},null,""]
[null,{"$f":"IF(C29=\"\",\"\",\"uksV&\")","v":""},{"$f":"IF(A3=\"Yes\",\"bUgs fu;ekuqlkj ;k=k o nSfud HkRrk ns; gS A\",\"\")","v":""},null,null,null,null,null,null,21,{"$f":"EmpDetail!B24","v":"izgykn ekyh"},{"$f":"EmpDetail!C24","v":"प्रबोधक"},{"$f":"EmpDetail!D24","v":"राउप्रावि गोरधनपुरा"}]
[null,null,null,null,null,null,null,{"$f":"Master!B2","v":"प्रधानाचार्य"},null,22,{"$f":"EmpDetail!B25","v":"jken;ky xqtZj"},{"$f":"EmpDetail!C25","v":"प्रबोधक"},{"$f":"EmpDetail!D25","v":"राउप्रावि सोंदीफल"}]
[null,null,null,null,null,null,null,{"$f":"Master!B3","v":"राजकीय उच्च माध्यमिक विद्यालय "},null,23,{"$f":"EmpDetail!B26","v":"vkSeizdk'k tkV"},{"$f":"EmpDetail!C26","v":"अध्यापक ग्रेड III"},{"$f":"EmpDetail!D26","v":"राउप्रावि सोंदीफल"}]
[null,null,null,null,null,null,null,{"$f":"Master!B4","v":"चौगाई]टोंक"},null,24,{"$f":"EmpDetail!B27","v":"vthr flag"},{"$f":"EmpDetail!C27","v":"अध्यापक ग्रेड III"},{"$f":"EmpDetail!D27","v":"राप्रावि जानकीवल्लभपुरा"}]
[null,null,null,null,null,null,null,null,null,25,{"$f":"EmpDetail!B28","v":"eq[rkj eha;k"},{"$f":"EmpDetail!C28","v":"प्रबोधक"},{"$f":"EmpDetail!D28","v":"राप्रावि जानकीवल्लभपुरा"}]
[null,null,null,null,null,null,null,null,null,26,{"$f":"EmpDetail!B29","v":"eks0 tehy "},{"$f":"EmpDetail!C29","v":"प्रबोधक"},{"$f":"EmpDetail!D29","v":"राप्रावि रसूलपुरा"}]
[null,null,null,null,null,null,null,null,null,27,{"$f":"EmpDetail!B30","v":"lkaojey tkV"},{"$f":"EmpDetail!C30","v":"अध्यापक ग्रेड III"},{"$f":"EmpDetail!D30","v":"राप्रावि रसूलपुरा"}]
[null,null,null,null,null,null,null,null,null,28,{"$f":"EmpDetail!B31","v":"pkS/kjh eksuk jkekorkj"},{"$f":"EmpDetail!C31","v":"अध्यापक ग्रेड III"},{"$f":"EmpDetail!D31","v":"राप्रावि मोहिनी ढाणी बाढ"}]
[null,null,null,null,null,null,null,null,null,29,{"$f":"EmpDetail!B32","v":"rkjkpUn tk;loky"},{"$f":"EmpDetail!C32","v":"प्रबोधक"},{"$f":"EmpDetail!D32","v":"राप्रावि मोहिनी ढाणी बाढ"}]
[null,null,null,null,null,null,null,null,null,30,{"$f":"EmpDetail!B33","v":"jketl ;kno"},{"$f":"EmpDetail!C33","v":"अध्यापक ग्रेड III"},{"$f":"EmpDetail!D33","v":"राप्रावि बैरवा ढाणी सोन्दीफल"}]
[null,null,null,null,null,null,null,null,null,31,{"$f":"EmpDetail!B34","v":"dtksMey eh.kk"},{"$f":"EmpDetail!C34","v":"अध्यापक ग्रेड III"},{"$f":"EmpDetail!D34","v":"राप्रावि बैरवा ढाणी सोन्दीफल"}]
[null,null,null,null,null,null,null,null,null,32,{"$f":"EmpDetail!B35","v":"/kaut; xkSRre"},{"$f":"EmpDetail!C35","v":"अध्यापक ग्रेड III"},{"$f":"EmpDetail!D35","v":"राउप्रावि गोरधनपुरा"}]
[null,null,null,null,null,null,null,null,null,33,{"$f":"EmpDetail!B36","v":"d`\".kk xaxoky"},{"$f":"EmpDetail!C36","v":"अध्यापक ग्रेड III"},{"$f":"EmpDetail!D36","v":"राउप्रावि गोरधनपुरा"}]
[null,null,null,null,null,null,null,null,null,34,{"$f":"EmpDetail!B37","v":"n'kjFk dqekj ;kno"},{"$f":"EmpDetail!C37","v":"अध्यापक ग्रेड III"},{"$f":"EmpDetail!D37","v":"राउप्रावि सोंदीफल"}]
[null,null,null,null,null,null,null,null,null,35,{"$f":"EmpDetail!B38","v":"d`\".k yky tkV"},{"$f":"EmpDetail!C38","v":"अध्यापक ग्रेड III"},{"$f":"EmpDetail!D38","v":"राउप्रावि सोंदीफल"}]
[null,null,null,null,null,null,null,null,null,36,{"$f":"EmpDetail!B39","v":"nhisUnz dqekj iztkir"},{"$f":"EmpDetail!C39","v":"अध्यापक ग्रेड III"},{"$f":"EmpDetail!D39","v":"राउप्रावि सोंदीफल"}]
[null,null,null,null,null,null,null,null,null,37,{"$f":"EmpDetail!B40","v":"uohu dqekj"},{"$f":"EmpDetail!C40","v":"अध्यापक ग्रेड III"},{"$f":"EmpDetail!D40","v":"राउप्रावि मोहिनी"}]
[null,null,null,null,null,null,null,null,null,38,{"$f":"EmpDetail!B41","v":"ehrs'k dqekj 'kekZ"},{"$f":"EmpDetail!C41","v":"अध्यापक ग्रेड III"},{"$f":"EmpDetail!D41","v":"राउप्रावि मोहिनी"}]
[null,null,null,null,null,null,null,null,null,39,{"$f":"EmpDetail!B42","v":"eUtw eh.kk"},{"$f":"EmpDetail!C42","v":"वरिष्ठ अध्यापक"},{"$f":"EmpDetail!D42","v":"राउप्रावि गोरधनपुरा"}]
[null,null,null,null,null,null,null,null,null,40,{"$f":"EmpDetail!B43","v":"eatw pkS/kjh"},{"$f":"EmpDetail!C43","v":"वरिष्ठ अध्यापक"},{"$f":"EmpDetail!D43","v":"राउप्रावि सोंदीफल"}]
[null,null,null,null,null,null,null,null,null,41,{"$f":"EmpDetail!B44","v":0},{"$f":"EmpDetail!C44","v":0},{"$f":"EmpDetail!D44","v":0}]
[null,null,null,null,null,null,null,null,null,42,{"$f":"EmpDetail!B45","v":0},{"$f":"EmpDetail!C45","v":0},{"$f":"EmpDetail!D45","v":0}]
[null,null,null,null,null,null,null,null,null,43,{"$f":"EmpDetail!B46","v":0},{"$f":"EmpDetail!#REF!","v":{"$error":"#REF!"}},{"$f":"EmpDetail!#REF!","v":{"$error":"#REF!"}}]
[null,null,null,null,null,null,null,null,null,44,{"$f":"EmpDetail!B47","v":0},{"$f":"EmpDetail!C47","v":0},{"$f":"EmpDetail!D47","v":0}]
[null,null,null,null,null,null,null,null,null,45,{"$f":"EmpDetail!B48","v":0},{"$f":"EmpDetail!C48","v":0},{"$f":"EmpDetail!D48","v":0}]
[null,null,null,null,null,null,null,null,null,46,{"$f":"EmpDetail!B49","v":0},{"$f":"EmpDetail!C49","v":0},{"$f":"EmpDetail!D49","v":0}]
[null,null,null,null,null,null,null,null,null,47,{"$f":"EmpDetail!B50","v":0},{"$f":"EmpDetail!C50","v":0},{"$f":"EmpDetail!D50","v":0}]
[null,null,null,null,null,null,null,null,null,48,{"$f":"EmpDetail!B51","v":0},{"$f":"EmpDetail!C51","v":0},{"$f":"EmpDetail!D51","v":0}]
[null,null,null,null,null,null,null,null,null,49,{"$f":"EmpDetail!B52","v":0},{"$f":"EmpDetail!C52","v":0},{"$f":"EmpDetail!D52","v":0}]
[null,null,null,null,null,null,null,null,null,50,{"$f":"EmpDetail!B53","v":0},{"$f":"EmpDetail!C53","v":0},{"$f":"EmpDetail!D53","v":0}]
[null,null,null,null,null,null,null,null,null,51,{"$f":"EmpDetail!B54","v":0},{"$f":"EmpDetail!C54","v":0},{"$f":"EmpDetail!D54","v":0}]
[null,null,null,null,null,null,null,null,null,52,{"$f":"EmpDetail!B55","v":0},{"$f":"EmpDetail!C55","v":0},{"$f":"EmpDetail!D55","v":0}]
[null,null,null,null,null,null,null,null,null,53,{"$f":"EmpDetail!B56","v":0},{"$f":"EmpDetail!C56","v":0},{"$f":"EmpDetail!D56","v":0}]
[null,null,null,null,null,null,null,null,null,54,{"$f":"EmpDetail!B57","v":0},{"$f":"EmpDetail!C57","v":0},{"$f":"EmpDetail!D57","v":0}]
[null,null,null,null,null,null,null,null,null,55,{"$f":"EmpDetail!B58","v":0},{"$f":"EmpDetail!C58","v":0},{"$f":"EmpDetail!D58","v":0}]
[null,null,null,null,null,null,null,null,null,56,{"$f":"EmpDetail!B59","v":0},{"$f":"EmpDetail!C59","v":0},{"$f":"EmpDetail!D59","v":0}]
[null,null,null,null,null,null,null,null,null,57,{"$f":"EmpDetail!B60","v":0},{"$f":"EmpDetail!C60","v":0},{"$f":"EmpDetail!D60","v":0}]
[null,null,null,null,null,null,null,null,null,58,{"$f":"EmpDetail!B61","v":0},{"$f":"EmpDetail!C61","v":0},{"$f":"EmpDetail!D61","v":0}]
[null,null,null,null,null,null,null,null,null,59,{"$f":"EmpDetail!B62","v":0},{"$f":"EmpDetail!C62","v":0},{"$f":"EmpDetail!D62","v":0}]
[null,null,null,null,null,null,null,null,null,60,{"$f":"EmpDetail!B63","v":0},{"$f":"EmpDetail!C63","v":0},{"$f":"EmpDetail!D63","v":0}]
[null,null,null,null,null,null,null,null,null,61,{"$f":"EmpDetail!B64","v":0},{"$f":"EmpDetail!C64","v":0},{"$f":"EmpDetail!D64","v":0}]
[null,null,null,null,null,null,null,null,null,62,{"$f":"EmpDetail!B65","v":0},{"$f":"EmpDetail!C65","v":0},{"$f":"EmpDetail!D65","v":0}]
[null,null,null,null,null,null,null,null,null,63,{"$f":"EmpDetail!B66","v":0},{"$f":"EmpDetail!C66","v":0},{"$f":"EmpDetail!D66","v":0}]
[null,null,null,null,null,null,null,null,null,64,{"$f":"EmpDetail!B67","v":0},{"$f":"EmpDetail!C67","v":0},{"$f":"EmpDetail!D67","v":0}]
[null,null,null,null,null,null,null,null,null,65,{"$f":"EmpDetail!B68","v":0},{"$f":"EmpDetail!C68","v":0},{"$f":"EmpDetail!D68","v":0}]
[null,null,null,null,null,null,null,null,null,66,{"$f":"EmpDetail!B69","v":0},{"$f":"EmpDetail!C69","v":0},{"$f":"EmpDetail!D69","v":0}]
[null,null,null,null,null,null,null,null,null,67,{"$f":"EmpDetail!B70","v":0},{"$f":"EmpDetail!C70","v":0},{"$f":"EmpDetail!D70","v":0}]
[null,null,null,null,null,null,null,null,null,68,{"$f":"EmpDetail!B71","v":0},{"$f":"EmpDetail!C71","v":0},{"$f":"EmpDetail!D71","v":0}]
[null,null,null,null,null,null,null,null,null,69,{"$f":"EmpDetail!B72","v":0},{"$f":"EmpDetail!C72","v":0},{"$f":"EmpDetail!D72","v":0}]
[null,null,null,null,null,null,null,null,null,70,{"$f":"EmpDetail!B73","v":0},{"$f":"EmpDetail!C73","v":0},{"$f":"EmpDetail!D73","v":0}]
[null,null,null,null,null,null,null,null,null,71,{"$f":"EmpDetail!B74","v":0},{"$f":"EmpDetail!C74","v":0},{"$f":"EmpDetail!D74","v":0}]
[null,null,null,null,null,null,null,null,null,72,{"$f":"EmpDetail!B75","v":0},{"$f":"EmpDetail!C75","v":0},{"$f":"EmpDetail!D75","v":0}]
[null,null,null,null,null,null,null,null,null,73,{"$f":"EmpDetail!B76","v":0},{"$f":"EmpDetail!C76","v":0},{"$f":"EmpDetail!D76","v":0}]
[null,null,null,null,null,null,null,null,null,74,{"$f":"EmpDetail!B77","v":0},{"$f":"EmpDetail!C77","v":0},{"$f":"EmpDetail!D77","v":0}]
[null,null,null,null,null,null,null,null,null,75,{"$f":"EmpDetail!B78","v":0},{"$f":"EmpDetail!C78","v":0},{"$f":"EmpDetail!D78","v":0}]
[null,null,null,null,null,null,null,null,null,76,{"$f":"EmpDetail!B79","v":0},{"$f":"EmpDetail!C79","v":0},{"$f":"EmpDetail!D79","v":0}]
[null,null,null,null,null,null,null,null,null,77,{"$f":"EmpDetail!B80","v":0},{"$f":"EmpDetail!C80","v":0},{"$f":"EmpDetail!D80","v":0}]
[null,null,null,null,null,null,null,null,null,78,{"$f":"EmpDetail!B81","v":0},{"$f":"EmpDetail!C81","v":0},{"$f":"EmpDetail!D81","v":0}]
[null,null,null,null,null,null,null,null,null,79,{"$f":"EmpDetail!B82","v":0},{"$f":"EmpDetail!C82","v":0},{"$f":"EmpDetail!D82","v":0}]
[null,null,null,null,null,null,null,null,null,80,{"$f":"EmpDetail!B83","v":0},{"$f":"EmpDetail!C83","v":0},{"$f":"EmpDetail!D83","v":0}]
[null,null,null,null,null,null,null,null,null,81,{"$f":"EmpDetail!B84","v":0},{"$f":"EmpDetail!C84","v":0},{"$f":"EmpDetail!D84","v":0}]
[null,null,null,null,null,null,null,null,null,82,{"$f":"EmpDetail!B85","v":0},{"$f":"EmpDetail!C85","v":0},{"$f":"EmpDetail!D85","v":0}]
[null,null,null,null,null,null,null,null,null,83,{"$f":"EmpDetail!B86","v":0},{"$f":"EmpDetail!C86","v":0},{"$f":"EmpDetail!D86","v":0}]
[null,null,null,null,null,null,null,null,null,84,{"$f":"EmpDetail!B87","v":0},{"$f":"EmpDetail!C87","v":0},{"$f":"EmpDetail!D87","v":0}]
[null,null,null,null,null,null,null,null,null,85,{"$f":"EmpDetail!B88","v":0},{"$f":"EmpDetail!C88","v":0},{"$f":"EmpDetail!D88","v":0}]
[null,null,null,null,null,null,null,null,null,86,{"$f":"EmpDetail!B89","v":0},{"$f":"EmpDetail!C89","v":0},{"$f":"EmpDetail!D89","v":0}]
[null,null,null,null,null,null,null,null,null,87,{"$f":"EmpDetail!B90","v":0},{"$f":"EmpDetail!C90","v":0},{"$f":"EmpDetail!D90","v":0}]
[null,null,null,null,null,null,null,null,null,88,{"$f":"EmpDetail!B91","v":0},{"$f":"EmpDetail!C91","v":0},{"$f":"EmpDetail!D91","v":0}]
[null,null,null,null,null,null,null,null,null,89,{"$f":"EmpDetail!B92","v":0},{"$f":"EmpDetail!C92","v":0},{"$f":"EmpDetail!D92","v":0}]
[null,null,null,null,null,null,null,null,null,90,{"$f":"EmpDetail!B93","v":0},{"$f":"EmpDetail!C93","v":0},{"$f":"EmpDetail!D93","v":0}]
[null,null,null,null,null,null,null,null,null,91,{"$f":"EmpDetail!B94","v":0},{"$f":"EmpDetail!C94","v":0},{"$f":"EmpDetail!D94","v":0}]
[null,null,null,null,null,null,null,null,null,92,{"$f":"EmpDetail!B95","v":0},{"$f":"EmpDetail!C95","v":0},{"$f":"EmpDetail!D95","v":0}]
[null,null,null,null,null,null,null,null,null,93,{"$f":"EmpDetail!B96","v":0},{"$f":"EmpDetail!C96","v":0},{"$f":"EmpDetail!D96","v":0}]
[null,null,null,null,null,null,null,null,null,94,{"$f":"EmpDetail!B97","v":0},{"$f":"EmpDetail!C97","v":0},{"$f":"EmpDetail!D97","v":0}]
[null,null,null,null,null,null,null,null,null,95,{"$f":"EmpDetail!B98","v":0},{"$f":"EmpDetail!C98","v":0},{"$f":"EmpDetail!D98","v":0}]
[null,null,null,null,null,null,null,null,null,96,{"$f":"EmpDetail!B99","v":0},{"$f":"EmpDetail!C99","v":0},{"$f":"EmpDetail!D99","v":0}]
[null,null,null,null,null,null,null,null,null,97,{"$f":"EmpDetail!B100","v":0},{"$f":"EmpDetail!C100","v":0},{"$f":"EmpDetail!D100","v":0}]
[null,null,null,null,null,null,null,null,null,98,{"$f":"EmpDetail!B101","v":0},{"$f":"EmpDetail!C101","v":0},{"$f":"EmpDetail!D101","v":0}]
[null,null,null,null,null,null,null,null,null,99,{"$f":"EmpDetail!B102","v":0},{"$f":"EmpDetail!C102","v":0},{"$f":"EmpDetail!D102","v":0}]
[null,null,null,null,null,null,null,null,null,100,{"$f":"EmpDetail!B103","v":0},{"$f":"EmpDetail!C103","v":0},{"$f":"EmpDetail!D103","v":0}]

{"sheet":"Annual Result","index":17,"n_rows":105,"n_cols":13,"rows_kept":105,"cut":false,"hidden":true,"merged":[[0,1,0,9],[1,1,1,9],[2,3,2,4],[2,5,2,6]]}
[null,{"$f":"Master!G2&Master!H2","v":"कार्यालय&राजकीय उच्च माध्यमिक विद्यालय ]चौगाई]टोंक"}]
[null,"v/;kidokj ijh{kk ijh.kke"]
[null,null,null,"l=&",null,{"$f":"Master!E3","v":"2021-22"}]
[null,"dzekad&",{"$f":"Master!H3&Master!I3&Master!J3&Master!E3&\"/\"","v":"राउमावि/चौगाई/संस्था/2021-22/"},null,null,null,null,null,"fnukad&",{"$f":"TODAY()","v":"2021-06-19"}]
["zdkfeZd dz0la0","dz0la0","uke dkfeZd","inuke","fo\"k;","d{kk","dqy ukekafdr Nk=","ijh{kk esa izfo\"B","dqy mRrh.kZ","mRrh.kZrk izfr'kr"]
[2,{"$f":"IF(C6=\"\",\"\",1)","v":1},{"$f":"IF(ISNA(VLOOKUP($A6,$K$6:$M$105,2,FALSE)),\"\",VLOOKUP($A6,$K$6:$M$105,2,FALSE))","v":"iwj.k pUn y{kdkj"},{"$f":"IF(ISNA(VLOOKUP($A6,$K$6:$M$105,3,FALSE)),\"\",VLOOKUP($A6,$K$6:$M$105,3,FALSE))","v":"व्याख्याता"},"इतिहास","12,A",45,45,41,{"$f":"IF(G6=\"\",\"\",ROUNDUP(I6*100/H6,0))","v":92},1,{"$f":"EmpDetail!B4","v":"fd'ku yky cSjok"},{"$f":"EmpDetail!C4","v":"प्रधानाचार्य"}]
[2,{"$f":"IF(C7=\"\",\"\",B6+1)","v":2},{"$f":"IF(ISNA(VLOOKUP($A7,$K$6:$M$105,2,FALSE)),\"\",VLOOKUP($A7,$K$6:$M$105,2,FALSE))","v":"iwj.k pUn y{kdkj"},{"$f":"IF(ISNA(VLOOKUP($A7,$K$6:$M$105,3,FALSE)),\"\",VLOOKUP($A7,$K$6:$M$105,3,FALSE))","v":"व्याख्याता"},"इतिहास","11,A",45,45,40,{"$f":"IF(G7=\"\",\"\",ROUNDUP(I7*100/H7,0))","v":89},2,{"$f":"EmpDetail!B5","v":"iwj.k pUn y{kdkj"},{"$f":"EmpDetail!C5","v":"व्याख्याता"}]
[2,{"$f":"IF(C8=\"\",\"\",B7+1)","v":3},"iwj.k pUn y{kdkj","व्याख्याता","सामाजिक विज्ञान","10,A",null,null,null,"",3,{"$f":"EmpDetail!B6","v":"jktsUnz dqekj tSu"},{"$f":"EmpDetail!C6","v":"व्याख्याता"}]
[3,4,"jktsUnz dqekj tSu","व्याख्याता","हिंदी अनिवार्य","12,A",null,null,null,"",4,{"$f":"EmpDetail!B7","v":"fd'ku yky cSjok"},{"$f":"EmpDetail!C7","v":"व्याख्याता"}]
[3,5,"jktsUnz dqekj tSu","व्याख्याता","हिंदी साहित्य","11,A",null,null,null,"",5,{"$f":"EmpDetail!B8","v":"lR;ukjk;.k 'kekZ"},{"$f":"EmpDetail!C8","v":"वरिष्ठ अध्यापक"}]
[4,6,"fd'ku yky cSjok","व्याख्याता","संस्कृत","10,A",null,null,null,"",6,{"$f":"EmpDetail!B9","v":"iq\"ik tSu"},{"$f":"EmpDetail!C9","v":"वरिष्ठ अध्यापक"}]
[4,7,"fd'ku yky cSjok","व्याख्याता","संस्कृत","9,A",null,null,null,"",7,{"$f":"EmpDetail!B10","v":"vk'kkjke eh.kk"},{"$f":"EmpDetail!C10","v":"वरिष्ठ अध्यापक"}]
[5,8,"lR;ukjk;.k 'kekZ","वरिष्ठ अध्यापक","हिंदी","10,A",null,null,null,"",8,{"$f":"EmpDetail!B11","v":"t;iky flag"},{"$f":"EmpDetail!C11","v":"वरिष्ठ अध्यापक"}]
[5,9,"lR;ukjk;.k 'kekZ","वरिष्ठ अध्यापक","हिंदी","9,A",null,null,null,"",9,{"$f":"EmpDetail!B12","v":"jkeizlkn jsxj"},{"$f":"EmpDetail!C12","v":"वरिष्ठ अध्यापक"}]
[7,10,"vk'kkjke eh.kk","वरिष्ठ अध्यापक","अंग्रेजी",null,null,null,null,"",10,{"$f":"EmpDetail!B13","v":"egsUnz dqekj tkV"},{"$f":"EmpDetail!C13","v":"शारीरिक शिक्षक"}]
[null,"","","",null,null,null,null,null,"",11,{"$f":"EmpDetail!B14","v":"NksVw yky jsxj"},{"$f":"EmpDetail!C14","v":"अध्यापक ग्रेड III"}]
[null,"","","",null,null,null,null,null,"",12,{"$f":"EmpDetail!B15","v":"dUgS;k yky egkoj"},{"$f":"EmpDetail!C15","v":"अध्यापक ग्रेड III"}]
[null,"","","",null,null,null,null,null,"",13,{"$f":"EmpDetail!B16","v":"prqHkqZt tkV"},{"$f":"EmpDetail!C16","v":"अध्यापक ग्रेड III"}]
[null,"","","",null,null,null,null,null,"",14,{"$f":"EmpDetail!B17","v":"vklsQk [kku"},{"$f":"EmpDetail!C17","v":"अध्यापक ग्रेड III"}]
[null,"","","",null,null,null,null,null,"",15,{"$f":"EmpDetail!B18","v":"lq'khyk cSjok"},{"$f":"EmpDetail!C18","v":"कनिष्ठ सहायक"}]
[null,null,null,null,null,null,null,null,null,null,16,{"$f":"EmpDetail!B19","v":"txnh'k izlkn rsyh"},{"$f":"EmpDetail!C19","v":"सहायक कर्मचारी"}]
[null,null,null,null,null,null,null,{"$f":"Master!B2","v":"प्रधानाचार्य"},null,null,17,{"$f":"EmpDetail!B20","v":"jfoUnz dqekj tSu"},{"$f":"EmpDetail!C20","v":"अध्यापक ग्रेड III"}]
[null,null,null,null,null,null,null,{"$f":"Master!B3","v":"राजकीय उच्च माध्यमिक विद्यालय "},null,null,18,{"$f":"EmpDetail!B21","v":" ';ke lqUnj ckxkSM"},{"$f":"EmpDetail!C21","v":"अध्यापक ग्रेड III"}]
[null,null,null,null,null,null,null,{"$f":"Master!B4","v":"चौगाई]टोंक"},null,null,19,{"$f":"EmpDetail!B22","v":"d`\".kk 'kekZ"},{"$f":"EmpDetail!C22","v":"प्रबोधक"}]
[null,null,null,null,null,null,null,null,null,null,20,{"$f":"EmpDetail!B23","v":"/keZsUnz pkS/kjh"},{"$f":"EmpDetail!C23","v":"अध्यापक ग्रेड III"}]
[null,null,null,null,null,null,null,null,null,null,21,{"$f":"EmpDetail!B24","v":"izgykn ekyh"},{"$f":"EmpDetail!C24","v":"प्रबोधक"}]
[null,null,null,null,null,null,null,null,null,null,22,{"$f":"EmpDetail!B25","v":"jken;ky xqtZj"},{"$f":"EmpDetail!C25","v":"प्रबोधक"}]
[null,null,null,null,null,null,null,null,null,null,23,{"$f":"EmpDetail!B26","v":"vkSeizdk'k tkV"},{"$f":"EmpDetail!C26","v":"अध्यापक ग्रेड III"}]
[null,null,null,null,null,null,null,null,null,null,24,{"$f":"EmpDetail!B27","v":"vthr flag"},{"$f":"EmpDetail!C27","v":"अध्यापक ग्रेड III"}]
[null,null,null,null,null,null,null,null,null,null,25,{"$f":"EmpDetail!B28","v":"eq[rkj eha;k"},{"$f":"EmpDetail!C28","v":"प्रबोधक"}]
[null,null,null,null,null,null,null,null,null,null,26,{"$f":"EmpDetail!B29","v":"eks0 tehy "},{"$f":"EmpDetail!C29","v":"प्रबोधक"}]
[null,null,null,null,null,null,null,null,null,null,27,{"$f":"EmpDetail!B30","v":"lkaojey tkV"},{"$f":"EmpDetail!C30","v":"अध्यापक ग्रेड III"}]
[null,null,null,null,null,null,null,null,null,null,28,{"$f":"EmpDetail!B31","v":"pkS/kjh eksuk jkekorkj"},{"$f":"EmpDetail!C31","v":"अध्यापक ग्रेड III"}]
[null,null,null,null,null,null,null,null,null,null,29,{"$f":"EmpDetail!B32","v":"rkjkpUn tk;loky"},{"$f":"EmpDetail!C32","v":"प्रबोधक"}]
[null,null,null,null,null,null,null,null,null,null,30,{"$f":"EmpDetail!B33","v":"jketl ;kno"},{"$f":"EmpDetail!C33","v":"अध्यापक ग्रेड III"}]
[null,null,null,null,null,null,null,null,null,null,31,{"$f":"EmpDetail!B34","v":"dtksMey eh.kk"},{"$f":"EmpDetail!C34","v":"अध्यापक ग्रेड III"}]
[null,null,null,null,null,null,null,null,null,null,32,{"$f":"EmpDetail!B35","v":"/kaut; xkSRre"},{"$f":"EmpDetail!C35","v":"अध्यापक ग्रेड III"}]
[null,null,null,null,null,null,null,null,null,null,33,{"$f":"EmpDetail!B36","v":"d`\".kk xaxoky"},{"$f":"EmpDetail!C36","v":"अध्यापक ग्रेड III"}]
[null,null,null,null,null,null,null,null,null,null,34,{"$f":"EmpDetail!B37","v":"n'kjFk dqekj ;kno"},{"$f":"EmpDetail!C37","v":"अध्यापक ग्रेड III"}]
[null,null,null,null,null,null,null,null,null,null,35,{"$f":"EmpDetail!B38","v":"d`\".k yky tkV"},{"$f":"EmpDetail!C38","v":"अध्यापक ग्रेड III"}]
[null,null,null,null,null,null,null,null,null,null,36,{"$f":"EmpDetail!B39","v":"nhisUnz dqekj iztkir"},{"$f":"EmpDetail!C39","v":"अध्यापक ग्रेड III"}]
[null,null,null,null,null,null,null,null,null,null,37,{"$f":"EmpDetail!B40","v":"uohu dqekj"},{"$f":"EmpDetail!C40","v":"अध्यापक ग्रेड III"}]
[null,null,null,null,null,null,null,null,null,null,38,{"$f":"EmpDetail!B41","v":"ehrs'k dqekj 'kekZ"},{"$f":"EmpDetail!C41","v":"अध्यापक ग्रेड III"}]
[null,null,null,null,null,null,null,null,null,null,39,{"$f":"EmpDetail!B42","v":"eUtw eh.kk"},{"$f":"EmpDetail!C42","v":"वरिष्ठ अध्यापक"}]
[null,null,null,null,null,null,null,null,null,null,40,{"$f":"EmpDetail!B43","v":"eatw pkS/kjh"},{"$f":"EmpDetail!C43","v":"वरिष्ठ अध्यापक"}]
[null,null,null,null,null,null,null,null,null,null,41,{"$f":"EmpDetail!B44","v":0},{"$f":"EmpDetail!C44","v":0}]
[null,null,null,null,null,null,null,null,null,null,42,{"$f":"EmpDetail!B45","v":0},{"$f":"EmpDetail!C45","v":0}]
[null,null,null,null,null,null,null,null,null,null,43,{"$f":"EmpDetail!B46","v":0},{"$f":"EmpDetail!#REF!","v":{"$error":"#REF!"}}]
[null,null,null,null,null,null,null,null,null,null,44,{"$f":"EmpDetail!B47","v":0},{"$f":"EmpDetail!C47","v":0}]
[null,null,null,null,null,null,null,null,null,null,45,{"$f":"EmpDetail!B48","v":0},{"$f":"EmpDetail!C48","v":0}]
[null,null,null,null,null,null,null,null,null,null,46,{"$f":"EmpDetail!B49","v":0},{"$f":"EmpDetail!C49","v":0}]
[null,null,null,null,null,null,null,null,null,null,47,{"$f":"EmpDetail!B50","v":0},{"$f":"EmpDetail!C50","v":0}]
[null,null,null,null,null,null,null,null,null,null,48,{"$f":"EmpDetail!B51","v":0},{"$f":"EmpDetail!C51","v":0}]
[null,null,null,null,null,null,null,null,null,null,49,{"$f":"EmpDetail!B52","v":0},{"$f":"EmpDetail!C52","v":0}]
[null,null,null,null,null,null,null,null,null,null,50,{"$f":"EmpDetail!B53","v":0},{"$f":"EmpDetail!C53","v":0}]
[null,null,null,null,null,null,null,null,null,null,51,{"$f":"EmpDetail!B54","v":0},{"$f":"EmpDetail!C54","v":0}]
[null,null,null,null,null,null,null,null,null,null,52,{"$f":"EmpDetail!B55","v":0},{"$f":"EmpDetail!C55","v":0}]
[null,null,null,null,null,null,null,null,null,null,53,{"$f":"EmpDetail!B56","v":0},{"$f":"EmpDetail!C56","v":0}]
[null,null,null,null,null,null,null,null,null,null,54,{"$f":"EmpDetail!B57","v":0},{"$f":"EmpDetail!C57","v":0}]
[null,null,null,null,null,null,null,null,null,null,55,{"$f":"EmpDetail!B58","v":0},{"$f":"EmpDetail!C58","v":0}]
[null,null,null,null,null,null,null,null,null,null,56,{"$f":"EmpDetail!B59","v":0},{"$f":"EmpDetail!C59","v":0}]
[null,null,null,null,null,null,null,null,null,null,57,{"$f":"EmpDetail!B60","v":0},{"$f":"EmpDetail!C60","v":0}]
[null,null,null,null,null,null,null,null,null,null,58,{"$f":"EmpDetail!B61","v":0},{"$f":"EmpDetail!C61","v":0}]
[null,null,null,null,null,null,null,null,null,null,59,{"$f":"EmpDetail!B62","v":0},{"$f":"EmpDetail!C62","v":0}]
[null,null,null,null,null,null,null,null,null,null,60,{"$f":"EmpDetail!B63","v":0},{"$f":"EmpDetail!C63","v":0}]
[null,null,null,null,null,null,null,null,null,null,61,{"$f":"EmpDetail!B64","v":0},{"$f":"EmpDetail!C64","v":0}]
[null,null,null,null,null,null,null,null,null,null,62,{"$f":"EmpDetail!B65","v":0},{"$f":"EmpDetail!C65","v":0}]
[null,null,null,null,null,null,null,null,null,null,63,{"$f":"EmpDetail!B66","v":0},{"$f":"EmpDetail!C66","v":0}]
[null,null,null,null,null,null,null,null,null,null,64,{"$f":"EmpDetail!B67","v":0},{"$f":"EmpDetail!C67","v":0}]
[null,null,null,null,null,null,null,null,null,null,65,{"$f":"EmpDetail!B68","v":0},{"$f":"EmpDetail!C68","v":0}]
[null,null,null,null,null,null,null,null,null,null,66,{"$f":"EmpDetail!B69","v":0},{"$f":"EmpDetail!C69","v":0}]
[null,null,null,null,null,null,null,null,null,null,67,{"$f":"EmpDetail!B70","v":0},{"$f":"EmpDetail!C70","v":0}]
[null,null,null,null,null,null,null,null,null,null,68,{"$f":"EmpDetail!B71","v":0},{"$f":"EmpDetail!C71","v":0}]
[null,null,null,null,null,null,null,null,null,null,69,{"$f":"EmpDetail!B72","v":0},{"$f":"EmpDetail!C72","v":0}]
[null,null,null,null,null,null,null,null,null,null,70,{"$f":"EmpDetail!B73","v":0},{"$f":"EmpDetail!C73","v":0}]
[null,null,null,null,null,null,null,null,null,null,71,{"$f":"EmpDetail!B74","v":0},{"$f":"EmpDetail!C74","v":0}]
[null,null,null,null,null,null,null,null,null,null,72,{"$f":"EmpDetail!B75","v":0},{"$f":"EmpDetail!C75","v":0}]
[null,null,null,null,null,null,null,null,null,null,73,{"$f":"EmpDetail!B76","v":0},{"$f":"EmpDetail!C76","v":0}]
[null,null,null,null,null,null,null,null,null,null,74,{"$f":"EmpDetail!B77","v":0},{"$f":"EmpDetail!C77","v":0}]
[null,null,null,null,null,null,null,null,null,null,75,{"$f":"EmpDetail!B78","v":0},{"$f":"EmpDetail!C78","v":0}]
[null,null,null,null,null,null,null,null,null,null,76,{"$f":"EmpDetail!B79","v":0},{"$f":"EmpDetail!C79","v":0}]
[null,null,null,null,null,null,null,null,null,null,77,{"$f":"EmpDetail!B80","v":0},{"$f":"EmpDetail!C80","v":0}]
[null,null,null,null,null,null,null,null,null,null,78,{"$f":"EmpDetail!B81","v":0},{"$f":"EmpDetail!C81","v":0}]
[null,null,null,null,null,null,null,null,null,null,79,{"$f":"EmpDetail!B82","v":0},{"$f":"EmpDetail!C82","v":0}]
[null,null,null,null,null,null,null,null,null,null,80,{"$f":"EmpDetail!B83","v":0},{"$f":"EmpDetail!C83","v":0}]
[null,null,null,null,null,null,null,null,null,null,81,{"$f":"EmpDetail!B84","v":0},{"$f":"EmpDetail!C84","v":0}]
[null,null,null,null,null,null,null,null,null,null,82,{"$f":"EmpDetail!B85","v":0},{"$f":"EmpDetail!C85","v":0}]
[null,null,null,null,null,null,null,null,null,null,83,{"$f":"EmpDetail!B86","v":0},{"$f":"EmpDetail!C86","v":0}]
[null,null,null,null,null,null,null,null,null,null,84,{"$f":"EmpDetail!B87","v":0},{"$f":"EmpDetail!C87","v":0}]
[null,null,null,null,null,null,null,null,null,null,85,{"$f":"EmpDetail!B88","v":0},{"$f":"EmpDetail!C88","v":0}]
[null,null,null,null,null,null,null,null,null,null,86,{"$f":"EmpDetail!B89","v":0},{"$f":"EmpDetail!C89","v":0}]
[null,null,null,null,null,null,null,null,null,null,87,{"$f":"EmpDetail!B90","v":0},{"$f":"EmpDetail!C90","v":0}]
[null,null,null,null,null,null,null,null,null,null,88,{"$f":"EmpDetail!B91","v":0},{"$f":"EmpDetail!C91","v":0}]
[null,null,null,null,null,null,null,null,null,null,89,{"$f":"EmpDetail!B92","v":0},{"$f":"EmpDetail!C92","v":0}]
[null,null,null,null,null,null,null,null,null,null,90,{"$f":"EmpDetail!B93","v":0},{"$f":"EmpDetail!C93","v":0}]
[null,null,null,null,null,null,null,null,null,null,91,{"$f":"EmpDetail!B94","v":0},{"$f":"EmpDetail!C94","v":0}]
[null,null,null,null,null,null,null,null,null,null,92,{"$f":"EmpDetail!B95","v":0},{"$f":"EmpDetail!C95","v":0}]
[null,null,null,null,null,null,null,null,null,null,93,{"$f":"EmpDetail!B96","v":0},{"$f":"EmpDetail!C96","v":0}]
[null,null,null,null,null,null,null,null,null,null,94,{"$f":"EmpDetail!B97","v":0},{"$f":"EmpDetail!C97","v":0}]
[null,null,null,null,null,null,null,null,null,null,95,{"$f":"EmpDetail!B98","v":0},{"$f":"EmpDetail!C98","v":0}]
[null,null,null,null,null,null,null,null,null,null,96,{"$f":"EmpDetail!B99","v":0},{"$f":"EmpDetail!C99","v":0}]
[null,null,null,null,null,null,null,null,null,null,97,{"$f":"EmpDetail!B100","v":0},{"$f":"EmpDetail!C100","v":0}]
[null,null,null,null,null,null,null,null,null,null,98,{"$f":"EmpDetail!B101","v":0},{"$f":"EmpDetail!C101","v":0}]
[null,null,null,null,null,null,null,null,null,null,99,{"$f":"EmpDetail!B102","v":0},{"$f":"EmpDetail!C102","v":0}]
[null,null,null,null,null,null,null,null,null,null,100,{"$f":"EmpDetail!B103","v":0},{"$f":"EmpDetail!C103","v":0}]

{"sheet":"ChargeHandover","index":18,"n_rows":42,"n_cols":13,"rows_kept":42,"cut":false,"hidden":true,"merged":[[10,1,10,2],[10,3,10,9],[7,1,7,2],[7,3,7,7],[7,8,7,9],[9,2,9,5],[9,6,9,7],[9,8,9,9],[6,1,6,9],[0,1,0,9],[1,1,1,9],[2,1,2,9],[3,1,3,9],[4,1,4,9],[13,1,13,4],[13,6,13,9],[14,1,14,4],[14,6,14,9],[16,1,16,9],[15,2,15,4],[15,7,15,9],[17,1,17,9],[19,1,19,9],[20,2,20,3],[20,4,20,5],[20,6,20,7],[20,8,20,9],[25,1,25,9],[21,2,21,3],[21,4,21,5],[21,6,21,7],[21,8,21,9],[22,2,22,3],[22,4,22,5],[22,6,22,7],[22,8,22,9],[23,2,23,3],[23,4,23,5],[23,6,23,7],[23,8,23,9],[24,1,24,9],[26,1,26,9],[27,1,27,9],[28,2,28,3],[28,4,28,5],[28,6,28,7],[28,8,28,9],[29,2,29,3],[29,4,29,5],[29,6,29,7],[29,8,29,9],[30,2,30,3],[30,4,30,5],[30,6,30,7],[30,8,30,9],[31,2,31,3],[31,4,31,5],[31,6,31,7],[31,8,31,9],[32,1,35,4],[32,8,32,9],[33,8,33,9],[32,5,32,6],[33,5,33,6],[34,5,34,6],[35,5,35,6],[41,1,41,4],[41,6,41,9],[34,8,34,9],[35,8,35,9],[40,1,40,4],[40,6,40,9],[36,1,36,6],[37,1,37,6],[38,1,38,6],[36,8,36,9],[37,8,37,9],[38,8,38,9]]}
[null,"                             GOVERNMENT OF RAJASTHAN                     GA-13"]
[null,"jktLFkku ljdkj "]
[null,"GF&AR "]
[null,"Certificate oF Transfer of charge"]
[null,"dk;ZHkkj gLrkUrj.k&i=",null,null,null,null,null,null,null,null,null,1,{"$f":"Master!L6","v":"राउमावि चौगाई"}]
[null,null,null,null,null,1,null,null,null,null,null,2,{"$f":"Master!L7","v":"राउप्रावि मोहिनी"}]
[null,"             Certificate That I have handed over/taken over Charge of The Office",null,null,null,null,null,null,null,null,null,3,{"$f":"Master!L8","v":"राउप्रावि सोंदीफल"}]
[null,{"$f":"IF(ISNA(VLOOKUP(F6,$L$5:$M$19,2,FALSE)),\"\",VLOOKUP($F6,$L$5:$M$19,2,FALSE))","v":"राउमावि चौगाई"},null,"In the Fore-noon/Afternoon of this day of",null,null,null,null,"2021-04-27",null,null,4,{"$f":"Master!L9","v":"राउप्रावि गोरधनपुरा"}]
[null,null,null,null,null,null,null,null,null,null,null,5,{"$f":"Master!L10","v":"राप्रावि रसूलपुरा"}]
[null,null,"izekf.kr fd;k tkrk gS fd eSusa",null,null,null,{"$f":"IF(ISNA(VLOOKUP($F6,$L$5:$M$19,2,FALSE)),\"\",VLOOKUP($F6,$L$5:$M$19,2,FALSE))","v":"राउमावि चौगाई"},null,"foHkkx frfFk",null,null,6,{"$f":"Master!L11","v":"राप्रावि जहूरपुरा"}]
[null,{"$f":"I8","v":"2021-04-27"},null,"e/;kUrj ds igys@ckn dk;ZHkkj ns fn;k@ys fy;k gSA ",null,null,null,null,null,null,null,7,{"$f":"Master!L12","v":"राप्रावि जानकीवल्लभपुरा"}]
[null,null,null,null,null,null,null,null,null,null,null,8,{"$f":"Master!L13","v":"राप्रावि बैरवा ढाणी सोन्दीफल"}]
[null,null,null,null,null,null,null,null,null,null,null,9,{"$f":"Master!L14","v":"राप्रावि मोहिनी ढाणी बाढ"}]
[null," Relieved officer ",null,null,null,null,"Relieving officer",null,null,null,null,10,{"$f":"Master!L15","v":"तहसीलदार भू अभिलेख निवाई"}]
[null,"dk;ZHkkj nsus okyk vf/kdkjh",null,null,null,null,"dk;ZHkkj ysus okyk vf/kdkjh",null,null,null,null,11,{"$f":"Master!L16","v":"राउमावि बोरखंडी कला"}]
[null,"uke&","Jh fd'ku yky cSjok] iz/kkukpk;Z",null,null,null,"uke&","Jh iwj.k pUn y{kdkj] O;k[;krk",null,null,null,12,{"$f":"Master!L17","v":"रामावि नयाटीला"}]
[null,"Memo of the Balance for which responsibility is accepted by the officer receivinf charge-",null,null,null,null,null,null,null,null,null,13,{"$f":"Master!L18","v":"राउमावि बगडवा"}]
[null,"vo'ks\"k ftudk mRkjnkf;Ro dk;ZHkkj lEHkkyus okyk vf/kdkjh Lohdkj djrk gSA",null,null,null,null,null,null,null,null,null,14,{"$f":"Master!L19","v":"राउमावि बरोनी टोंक "}]
[null,null,null,null,null,null,null,null,null,null,null,15,{"$f":"Master!L20","v":0}]
[null,"1- General Cash(Amount) udn jde&"]
[null,null,"jktdh; jksdM+ iaftdk",null," Nk=dks\"k jksdM+ iaftdk ",null,"fodkldks\"k jksdM+ iaftdk ",null,"dkjijk Q.M"]
[null,"udn"]
[null,"cSad"]
[null,"dqy ",{"$f":"SUM(C22:C23)","v":0},null,{"$f":"SUM(E22:E23)","v":0},null,{"$f":"SUM(G22:G23)","v":0},null,{"$f":"SUM(I22:I23)","v":0}]
[null,"2- Imprest(Amount) isa'kxh&"]
[null,"3- Stamps(Value) LVkEi ewY;&"]
[null,"4- Stores(Book Value)fdrkch dher&"]
[null,"5- Unused Cheques(Number)iz;ksx esa u yk;s gq, pSd u-&"]
[null,null,"jktdh; jksdM+ iaftdk",null," Nk=dks\"k jksdM+ iaftdk ",null,"fodkldks\"k jksdM+ iaftdk ",null,"dkjijk Q.M"]
[null,"pSd u-"]
[]
[null,"dqy la[;k",{"$f":"SUM(C30:C31)","v":0},null,{"$f":"SUM(E30:E31)","v":0},null,{"$f":"SUM(G30:G31)","v":0},null,{"$f":"SUM(I30:I31)","v":0}]
[null,"6- Receipt Book(Number& Value)-             jlhn dh fdrkcsa& ",null,null,null,"1- dk;kZy; cqd u0 "]
[null,null,null,null,null,"2- ijh{kk cqd u0"]
[null,null,null,null,null,"3- fodkl 'kqYd cqd u0"]
[null,null,null,null,null,"4- Nk=dks\"k cqd u0"]
[null,"7- Service Book (Number&Value )s dk;kZy; esa&"]
[null,"8- Service Rolls (Number&Value )dk;kZy; esa&"]
[null,"9-Personal Files  (Number&Value ) dk;kZy; esa&"]
[]
[null," Relieved officer ",null,null,null,null,"Relieving officer"]
[null,"dk;ZHkkj nsus okyk vf/kdkjh",null,null,null,null,"dk;ZHkkj ysus okyk vf/kdkjh"]

{"sheet":"HRA","index":19,"n_rows":106,"n_cols":15,"rows_kept":106,"cut":false,"hidden":true,"merged":[[4,0,5,0],[4,5,5,5],[0,1,0,8],[1,1,1,8],[2,1,2,9],[3,1,3,8],[4,1,5,1],[4,2,5,2],[4,3,5,3],[4,4,5,4],[4,6,5,6],[4,7,5,7]]}
[null,{"$f":"Master!G2&Master!H2","v":"कार्यालय&राजकीय उच्च माध्यमिक विद्यालय ]चौगाई]टोंक"}]
[null,"dk;kZy; vkns'k"]
[]
[null,"              fuEufyf[kr dkfeZdks dks muds }kjk çLrqr vkosnu i= ds vkèkkj ij jktLFkku ljdkj ds vkns'k Øekad& ,Q-6 ¼4½ ,Q- Mh-@:Yl@07  fnuk¡d& 12-09-2008 o fnuk¡d 06-02-2009 ¼la'kksfèkr nj½ ,oa jktLFkku flfoy lsok ¼iqujhf{kr osrueku ½ 2017 ds foÙk foHkkx ds vkns'kkad ,Q-Mh-15¼1½ ,Q-Mh-@¼:Yl½ 2017 t;iqj fnukad 31&10&2017 ,oa lela[;d la'kksfèkr vkns'k fnukad 09&12&2017 ds çkoèkkukuqlkj jktLFkku lsok fu;eksa ds fu;e 7 ¼24½¼1½ esa ifjHkkf\"kr osru ds fu;ekuqlkj edku fdjk;k HkÙkk  muds uke ds lkeus vafdr fnuk¡d ls jktLFkku ljdkj ds vkns'kkuqlkj izfrekg Loh—r fd;k tkrk gS&"]
["dkfeZd dz0la0","Ø-l-","uke dkfeZd","in","ysoy","uke dk;kZy;","edku fdjk;k HkÙkk ns; frfFk","ewy osru","edku fdjk;k HkÙkk"]
[null,null,null,null,null,null,null,null,0.08]
[35,{"$f":"IF(C7=\"\",\"\",1)","v":1},{"$f":"IF(ISNA(VLOOKUP($A7,$J$7:$O$106,2,FALSE)),\"\",VLOOKUP($A7,$J$7:$O$106,2,FALSE))","v":"d`\".k yky tkV"},{"$f":"IF(ISNA(VLOOKUP($A7,$J$7:$O$106,3,FALSE)),\"\",VLOOKUP($A7,$J$7:$O$106,3,FALSE))","v":"अध्यापक ग्रेड III"},{"$f":"IF(ISNA(VLOOKUP($A7,$J$7:$O$106,5,FALSE)),\"\",VLOOKUP($A7,$J$7:$O$106,5,FALSE))","v":"L-10"},{"$f":"IF(ISNA(VLOOKUP($A7,$J$7:$O$106,4,FALSE)),\"\",VLOOKUP($A7,$J$7:$O$106,4,FALSE))","v":"राउप्रावि सोंदीफल"},"2020-01-01",{"$f":"IF(ISNA(VLOOKUP($A7,$J$7:$O$106,6,FALSE)),\"\",VLOOKUP($A7,$J$7:$O$106,6,FALSE))","v":33800},{"$f":"IF(H7=\"\",\"\",ROUNDUP(H7*I$6,0))","v":2704},1,{"$f":"EmpDetail!B4","v":"fd'ku yky cSjok"},{"$f":"EmpDetail!C4","v":"प्रधानाचार्य"},{"$f":"EmpDetail!D4","v":"राउमावि चौगाई"},{"$f":"EmpDetail!J4","v":"L-16"},{"$f":"EmpDetail!K4","v":95900}]
[null,{"$f":"IF(C8=\"\",\"\",B7+1)","v":""},{"$f":"IF(ISNA(VLOOKUP($A8,$J$7:$O$106,2,FALSE)),\"\",VLOOKUP($A8,$J$7:$O$106,2,FALSE))","v":""},{"$f":"IF(ISNA(VLOOKUP($A8,$J$7:$O$106,3,FALSE)),\"\",VLOOKUP($A8,$J$7:$O$106,3,FALSE))","v":""},{"$f":"IF(ISNA(VLOOKUP($A8,$J$7:$O$106,5,FALSE)),\"\",VLOOKUP($A8,$J$7:$O$106,5,FALSE))","v":""},{"$f":"IF(ISNA(VLOOKUP($A8,$J$7:$O$106,4,FALSE)),\"\",VLOOKUP($A8,$J$7:$O$106,4,FALSE))","v":""},null,{"$f":"IF(ISNA(VLOOKUP($A8,$J$7:$O$106,6,FALSE)),\"\",VLOOKUP($A8,$J$7:$O$106,6,FALSE))","v":""},{"$f":"IF(H8=\"\",\"\",ROUNDUP(H8*I$6,0))","v":""},2,{"$f":"EmpDetail!B5","v":"iwj.k pUn y{kdkj"},{"$f":"EmpDetail!C5","v":"व्याख्याता"},{"$f":"EmpDetail!D5","v":"राउमावि चौगाई"},{"$f":"EmpDetail!J5","v":"L-12"},{"$f":"EmpDetail!K5","v":56100}]
[null,{"$f":"IF(C9=\"\",\"\",B8+1)","v":""},"","","","",null,"","",3,{"$f":"EmpDetail!B6","v":"jktsUnz dqekj tSu"},{"$f":"EmpDetail!C6","v":"व्याख्याता"},{"$f":"EmpDetail!D6","v":"राउमावि चौगाई"},{"$f":"EmpDetail!J6","v":"L-12"},{"$f":"EmpDetail!K6","v":63100}]
[null,"","","","","",null,"","",4,{"$f":"EmpDetail!B7","v":"fd'ku yky cSjok"},{"$f":"EmpDetail!C7","v":"व्याख्याता"},{"$f":"EmpDetail!D7","v":"राउमावि चौगाई"},{"$f":"EmpDetail!J7","v":"L-12"},{"$f":"EmpDetail!K7","v":54500}]
[null,"","","","","",null,"","",5,{"$f":"EmpDetail!B8","v":"lR;ukjk;.k 'kekZ"},{"$f":"EmpDetail!C8","v":"वरिष्ठ अध्यापक"},{"$f":"EmpDetail!D8","v":"राउमावि चौगाई"},{"$f":"EmpDetail!J8","v":"L-13"},{"$f":"EmpDetail!K8","v":71300}]
[null,"","","","","",null,"","",6,{"$f":"EmpDetail!B9","v":"iq\"ik tSu"},{"$f":"EmpDetail!C9","v":"वरिष्ठ अध्यापक"},{"$f":"EmpDetail!D9","v":"राउमावि चौगाई"},{"$f":"EmpDetail!J9","v":"L-13"},{"$f":"EmpDetail!K9","v":73400}]
[null,"","","","","",null,"","",7,{"$f":"EmpDetail!B10","v":"vk'kkjke eh.kk"},{"$f":"EmpDetail!C10","v":"वरिष्ठ अध्यापक"},{"$f":"EmpDetail!D10","v":"राउमावि चौगाई"},{"$f":"EmpDetail!J10","v":"L-11"},{"$f":"EmpDetail!K10","v":52300}]
[null,"","","","","",null,"","",8,{"$f":"EmpDetail!B11","v":"t;iky flag"},{"$f":"EmpDetail!C11","v":"वरिष्ठ अध्यापक"},{"$f":"EmpDetail!D11","v":"राउमावि चौगाई"},{"$f":"EmpDetail!J11","v":"L-12"},{"$f":"EmpDetail!K11","v":63100}]
[null,"","","","","",null,"","",9,{"$f":"EmpDetail!B12","v":"jkeizlkn jsxj"},{"$f":"EmpDetail!C12","v":"वरिष्ठ अध्यापक"},{"$f":"EmpDetail!D12","v":"राउमावि चौगाई"},{"$f":"EmpDetail!J12","v":"L-11"},{"$f":"EmpDetail!K12","v":46500}]
[null,"","","","","",null,"","",10,{"$f":"EmpDetail!B13","v":"egsUnz dqekj tkV"},{"$f":"EmpDetail!C13","v":"शारीरिक शिक्षक"},{"$f":"EmpDetail!D13","v":"राउमावि चौगाई"},{"$f":"EmpDetail!J13","v":"L-12"},{"$f":"EmpDetail!K13","v":61300}]
[null,"","","","","",null,"","",11,{"$f":"EmpDetail!B14","v":"NksVw yky jsxj"},{"$f":"EmpDetail!C14","v":"अध्यापक ग्रेड III"},{"$f":"EmpDetail!D14","v":"राउमावि चौगाई"},{"$f":"EmpDetail!J14","v":"L-13"},{"$f":"EmpDetail!K14","v":65200}]
[null,null,null,null,null,null,null,null,null,12,{"$f":"EmpDetail!B15","v":"dUgS;k yky egkoj"},{"$f":"EmpDetail!C15","v":"अध्यापक ग्रेड III"},{"$f":"EmpDetail!D15","v":"राउमावि चौगाई"},{"$f":"EmpDetail!J15","v":"L-13"},{"$f":"EmpDetail!K15","v":65200}]
[null,null,null,null,null,null,null,{"$f":"Master!B2","v":"प्रधानाचार्य"},null,13,{"$f":"EmpDetail!B16","v":"prqHkqZt tkV"},{"$f":"EmpDetail!C16","v":"अध्यापक ग्रेड III"},{"$f":"EmpDetail!D16","v":"राउमावि चौगाई"},{"$f":"EmpDetail!J16","v":"L-11"},{"$f":"EmpDetail!K16","v":52300}]
[null,null,null,null,null,null,null,{"$f":"Master!B3","v":"राजकीय उच्च माध्यमिक विद्यालय "},null,14,{"$f":"EmpDetail!B17","v":"vklsQk [kku"},{"$f":"EmpDetail!C17","v":"अध्यापक ग्रेड III"},{"$f":"EmpDetail!D17","v":"राउमावि चौगाई"},{"$f":"EmpDetail!J17","v":"L-11"},{"$f":"EmpDetail!K17","v":52300}]
[null,null,null,null,null,null,null,{"$f":"Master!B4","v":"चौगाई]टोंक"},null,15,{"$f":"EmpDetail!B18","v":"lq'khyk cSjok"},{"$f":"EmpDetail!C18","v":"कनिष्ठ सहायक"},{"$f":"EmpDetail!D18","v":"राउमावि चौगाई"},{"$f":"EmpDetail!J18","v":"L-5"},{"$f":"EmpDetail!K18","v":14600}]
[null,"Øekad&",{"$f":"Master!H3&Master!I3&Master!J3&Master!E3&\"/\"","v":"राउमावि/चौगाई/संस्था/2021-22/"},null,null,null,null,"fnukad&","2020-12-21",16,{"$f":"EmpDetail!B19","v":"txnh'k izlkn rsyh"},{"$f":"EmpDetail!C19","v":"सहायक कर्मचारी"},{"$f":"EmpDetail!D19","v":"राउमावि चौगाई"},{"$f":"EmpDetail!J19","v":"L-5"},{"$f":"EmpDetail!K19","v":34700}]
[null,null,"izfrfyfi lwpukFkZ ,oa ikyukFkZ",null,null,null,null,null,null,17,{"$f":"EmpDetail!B20","v":"jfoUnz dqekj tSu"},{"$f":"EmpDetail!C20","v":"अध्यापक ग्रेड III"},{"$f":"EmpDetail!D20","v":"राउप्रावि मोहिनी"},{"$f":"EmpDetail!J20","v":"L-12"},{"$f":"EmpDetail!K20","v":65200}]
[null,1,"dks\"kkf/kdkjh@mi dks\"kkf/kdkjh",{"$f":"Master!H4","v":"पीपलू"},null,null,null,null,null,18,{"$f":"EmpDetail!B21","v":" ';ke lqUnj ckxkSM"},{"$f":"EmpDetail!C21","v":"अध्यापक ग्रेड III"},{"$f":"EmpDetail!D21","v":"राउप्रावि मोहिनी"},{"$f":"EmpDetail!J21","v":"L-10"},{"$f":"EmpDetail!K21","v":40300}]
[null,2,"ys[kk 'kk[kk LFkkuh; dk;kZy;",null,null,null,null,null,null,19,{"$f":"EmpDetail!B22","v":"d`\".kk 'kekZ"},{"$f":"EmpDetail!C22","v":"प्रबोधक"},{"$f":"EmpDetail!D22","v":"राउप्रावि मोहिनी"},{"$f":"EmpDetail!J22","v":"L-11"},{"$f":"EmpDetail!K22","v":45100}]
[null,3,"dkfeZd O;fDrxr iaftdk",null,null,null,null,null,null,20,{"$f":"EmpDetail!B23","v":"/keZsUnz pkS/kjh"},{"$f":"EmpDetail!C23","v":"अध्यापक ग्रेड III"},{"$f":"EmpDetail!D23","v":"राउप्रावि गोरधनपुरा"},{"$f":"EmpDetail!J23","v":"L-10"},{"$f":"EmpDetail!K23","v":40300}]
[null,4,"lEcfU/kr dkfeZd",null,null,null,null,{"$f":"H19","v":"प्रधानाचार्य"},null,21,{"$f":"EmpDetail!B24","v":"izgykn ekyh"},{"$f":"EmpDetail!C24","v":"प्रबोधक"},{"$f":"EmpDetail!D24","v":"राउप्रावि गोरधनपुरा"},{"$f":"EmpDetail!J24","v":"L-11"},{"$f":"EmpDetail!K24","v":46500}]
[null,null,null,null,null,null,null,{"$f":"H20","v":"राजकीय उच्च माध्यमिक विद्यालय "},null,22,{"$f":"EmpDetail!B25","v":"jken;ky xqtZj"},{"$f":"EmpDetail!C25","v":"प्रबोधक"},{"$f":"EmpDetail!D25","v":"राउप्रावि सोंदीफल"},{"$f":"EmpDetail!J25","v":"L-11"},{"$f":"EmpDetail!K25","v":45100}]
[null,null,null,null,null,null,null,{"$f":"H21","v":"चौगाई]टोंक"},null,23,{"$f":"EmpDetail!B26","v":"vkSeizdk'k tkV"},{"$f":"EmpDetail!C26","v":"अध्यापक ग्रेड III"},{"$f":"EmpDetail!D26","v":"राउप्रावि सोंदीफल"},{"$f":"EmpDetail!J26","v":"L-11"},{"$f":"EmpDetail!K26","v":45100}]
[null,null,null,null,null,null,null,null,null,24,{"$f":"EmpDetail!B27","v":"vthr flag"},{"$f":"EmpDetail!C27","v":"अध्यापक ग्रेड III"},{"$f":"EmpDetail!D27","v":"राप्रावि जानकीवल्लभपुरा"},{"$f":"EmpDetail!J27","v":"L-10"},{"$f":"EmpDetail!K27","v":40300}]
[null,null,null,null,null,null,null,null,null,25,{"$f":"EmpDetail!B28","v":"eq[rkj eha;k"},{"$f":"EmpDetail!C28","v":"प्रबोधक"},{"$f":"EmpDetail!D28","v":"राप्रावि जानकीवल्लभपुरा"},{"$f":"EmpDetail!J28","v":"L-11"},{"$f":"EmpDetail!K28","v":45100}]
[null,null,null,null,null,null,null,null,null,26,{"$f":"EmpDetail!B29","v":"eks0 tehy "},{"$f":"EmpDetail!C29","v":"प्रबोधक"},{"$f":"EmpDetail!D29","v":"राप्रावि रसूलपुरा"},{"$f":"EmpDetail!J29","v":"L-11"},{"$f":"EmpDetail!K29","v":45100}]
[null,null,null,null,null,null,null,null,null,27,{"$f":"EmpDetail!B30","v":"lkaojey tkV"},{"$f":"EmpDetail!C30","v":"अध्यापक ग्रेड III"},{"$f":"EmpDetail!D30","v":"राप्रावि रसूलपुरा"},{"$f":"EmpDetail!J30","v":"L-10"},{"$f":"EmpDetail!K30","v":38000}]
[null,null,null,null,null,null,null,null,null,28,{"$f":"EmpDetail!B31","v":"pkS/kjh eksuk jkekorkj"},{"$f":"EmpDetail!C31","v":"अध्यापक ग्रेड III"},{"$f":"EmpDetail!D31","v":"राप्रावि मोहिनी ढाणी बाढ"},{"$f":"EmpDetail!J31","v":"L-10"},{"$f":"EmpDetail!K31","v":38000}]
[null,null,null,null,null,null,null,null,null,29,{"$f":"EmpDetail!B32","v":"rkjkpUn tk;loky"},{"$f":"EmpDetail!C32","v":"प्रबोधक"},{"$f":"EmpDetail!D32","v":"राप्रावि मोहिनी ढाणी बाढ"},{"$f":"EmpDetail!J32","v":"L-11"},{"$f":"EmpDetail!K32","v":41300}]
[null,null,null,null,null,null,null,null,null,30,{"$f":"EmpDetail!B33","v":"jketl ;kno"},{"$f":"EmpDetail!C33","v":"अध्यापक ग्रेड III"},{"$f":"EmpDetail!D33","v":"राप्रावि बैरवा ढाणी सोन्दीफल"},{"$f":"EmpDetail!J33","v":"L-12"},{"$f":"EmpDetail!K33","v":63100}]
[null,null,null,null,null,null,null,null,null,31,{"$f":"EmpDetail!B34","v":"dtksMey eh.kk"},{"$f":"EmpDetail!C34","v":"अध्यापक ग्रेड III"},{"$f":"EmpDetail!D34","v":"राप्रावि बैरवा ढाणी सोन्दीफल"},{"$f":"EmpDetail!J34","v":"L-10"},{"$f":"EmpDetail!K34","v":38000}]
[null,null,null,null,null,null,null,null,null,32,{"$f":"EmpDetail!B35","v":"/kaut; xkSRre"},{"$f":"EmpDetail!C35","v":"अध्यापक ग्रेड III"},{"$f":"EmpDetail!D35","v":"राउप्रावि गोरधनपुरा"},{"$f":"EmpDetail!J35","v":"L-10"},{"$f":"EmpDetail!K35","v":34800}]
[null,null,null,null,null,null,null,null,null,33,{"$f":"EmpDetail!B36","v":"d`\".kk xaxoky"},{"$f":"EmpDetail!C36","v":"अध्यापक ग्रेड III"},{"$f":"EmpDetail!D36","v":"राउप्रावि गोरधनपुरा"},{"$f":"EmpDetail!J36","v":"L-10"},{"$f":"EmpDetail!K36","v":33800}]
[null,null,null,null,null,null,null,null,null,34,{"$f":"EmpDetail!B37","v":"n'kjFk dqekj ;kno"},{"$f":"EmpDetail!C37","v":"अध्यापक ग्रेड III"},{"$f":"EmpDetail!D37","v":"राउप्रावि सोंदीफल"},{"$f":"EmpDetail!J37","v":"L-10"},{"$f":"EmpDetail!K37","v":23700}]
[null,null,null,null,null,null,null,null,null,35,{"$f":"EmpDetail!B38","v":"d`\".k yky tkV"},{"$f":"EmpDetail!C38","v":"अध्यापक ग्रेड III"},{"$f":"EmpDetail!D38","v":"राउप्रावि सोंदीफल"},{"$f":"EmpDetail!J38","v":"L-10"},{"$f":"EmpDetail!K38","v":33800}]
[null,null,null,null,null,null,null,null,null,36,{"$f":"EmpDetail!B39","v":"nhisUnz dqekj iztkir"},{"$f":"EmpDetail!C39","v":"अध्यापक ग्रेड III"},{"$f":"EmpDetail!D39","v":"राउप्रावि सोंदीफल"},{"$f":"EmpDetail!J39","v":"L-10"},{"$f":"EmpDetail!K39","v":33800}]
[null,null,null,null,null,null,null,null,null,37,{"$f":"EmpDetail!B40","v":"uohu dqekj"},{"$f":"EmpDetail!C40","v":"अध्यापक ग्रेड III"},{"$f":"EmpDetail!D40","v":"राउप्रावि मोहिनी"},{"$f":"EmpDetail!J40","v":"L-10"},{"$f":"EmpDetail!K40","v":33800}]
[null,null,null,null,null,null,null,null,null,38,{"$f":"EmpDetail!B41","v":"ehrs'k dqekj 'kekZ"},{"$f":"EmpDetail!C41","v":"अध्यापक ग्रेड III"},{"$f":"EmpDetail!D41","v":"राउप्रावि मोहिनी"},{"$f":"EmpDetail!J41","v":"L-10"},{"$f":"EmpDetail!K41","v":34800}]
[null,null,null,null,null,null,null,null,null,39,{"$f":"EmpDetail!B42","v":"eUtw eh.kk"},{"$f":"EmpDetail!C42","v":"वरिष्ठ अध्यापक"},{"$f":"EmpDetail!D42","v":"राउप्रावि गोरधनपुरा"},{"$f":"EmpDetail!J42","v":"L-10"},{"$f":"EmpDetail!K42","v":33800}]
[null,null,null,null,null,null,null,null,null,40,{"$f":"EmpDetail!B43","v":"eatw pkS/kjh"},{"$f":"EmpDetail!C43","v":"वरिष्ठ अध्यापक"},{"$f":"EmpDetail!D43","v":"राउप्रावि सोंदीफल"},{"$f":"EmpDetail!J43","v":"L-11"},{"$f":"EmpDetail!K43","v":26500}]
[null,null,null,null,null,null,null,null,null,41,{"$f":"EmpDetail!B44","v":0},{"$f":"EmpDetail!C44","v":0},{"$f":"EmpDetail!D44","v":0},{"$f":"EmpDetail!J44","v":0},{"$f":"EmpDetail!K44","v":0}]
[null,null,null,null,null,null,null,null,null,42,{"$f":"EmpDetail!B45","v":0},{"$f":"EmpDetail!C45","v":0},{"$f":"EmpDetail!D45","v":0},{"$f":"EmpDetail!J45","v":0},{"$f":"EmpDetail!K45","v":0}]
[null,null,null,null,null,null,null,null,null,43,{"$f":"EmpDetail!B46","v":0},{"$f":"EmpDetail!#REF!","v":{"$error":"#REF!"}},{"$f":"EmpDetail!#REF!","v":{"$error":"#REF!"}},{"$f":"EmpDetail!J46","v":0},{"$f":"EmpDetail!K46","v":0}]
[null,null,null,null,null,null,null,null,null,44,{"$f":"EmpDetail!B47","v":0},{"$f":"EmpDetail!C47","v":0},{"$f":"EmpDetail!D47","v":0},{"$f":"EmpDetail!J47","v":0},{"$f":"EmpDetail!K47","v":0}]
[null,null,null,null,null,null,null,null,null,45,{"$f":"EmpDetail!B48","v":0},{"$f":"EmpDetail!C48","v":0},{"$f":"EmpDetail!D48","v":0},{"$f":"EmpDetail!J48","v":0},{"$f":"EmpDetail!K48","v":0}]
[null,null,null,null,null,null,null,null,null,46,{"$f":"EmpDetail!B49","v":0},{"$f":"EmpDetail!C49","v":0},{"$f":"EmpDetail!D49","v":0},{"$f":"EmpDetail!J49","v":0},{"$f":"EmpDetail!K49","v":0}]
[null,null,null,null,null,null,null,null,null,47,{"$f":"EmpDetail!B50","v":0},{"$f":"EmpDetail!C50","v":0},{"$f":"EmpDetail!D50","v":0},{"$f":"EmpDetail!J50","v":0},{"$f":"EmpDetail!K50","v":0}]
[null,null,null,null,null,null,null,null,null,48,{"$f":"EmpDetail!B51","v":0},{"$f":"EmpDetail!C51","v":0},{"$f":"EmpDetail!D51","v":0},{"$f":"EmpDetail!J51","v":0},{"$f":"EmpDetail!K51","v":0}]
[null,null,null,null,null,null,null,null,null,49,{"$f":"EmpDetail!B52","v":0},{"$f":"EmpDetail!C52","v":0},{"$f":"EmpDetail!D52","v":0},{"$f":"EmpDetail!J52","v":0},{"$f":"EmpDetail!K52","v":0}]
[null,null,null,null,null,null,null,null,null,50,{"$f":"EmpDetail!B53","v":0},{"$f":"EmpDetail!C53","v":0},{"$f":"EmpDetail!D53","v":0},{"$f":"EmpDetail!J53","v":0},{"$f":"EmpDetail!K53","v":0}]
[null,null,null,null,null,null,null,null,null,51,{"$f":"EmpDetail!B54","v":0},{"$f":"EmpDetail!C54","v":0},{"$f":"EmpDetail!D54","v":0},{"$f":"EmpDetail!J54","v":0},{"$f":"EmpDetail!K54","v":0}]
[null,null,null,null,null,null,null,null,null,52,{"$f":"EmpDetail!B55","v":0},{"$f":"EmpDetail!C55","v":0},{"$f":"EmpDetail!D55","v":0},{"$f":"EmpDetail!J55","v":0},{"$f":"EmpDetail!K55","v":0}]
[null,null,null,null,null,null,null,null,null,53,{"$f":"EmpDetail!B56","v":0},{"$f":"EmpDetail!C56","v":0},{"$f":"EmpDetail!D56","v":0},{"$f":"EmpDetail!J56","v":0},{"$f":"EmpDetail!K56","v":0}]
[null,null,null,null,null,null,null,null,null,54,{"$f":"EmpDetail!B57","v":0},{"$f":"EmpDetail!C57","v":0},{"$f":"EmpDetail!D57","v":0},{"$f":"EmpDetail!J57","v":0},{"$f":"EmpDetail!K57","v":0}]
[null,null,null,null,null,null,null,null,null,55,{"$f":"EmpDetail!B58","v":0},{"$f":"EmpDetail!C58","v":0},{"$f":"EmpDetail!D58","v":0},{"$f":"EmpDetail!J58","v":0},{"$f":"EmpDetail!K58","v":0}]
[null,null,null,null,null,null,null,null,null,56,{"$f":"EmpDetail!B59","v":0},{"$f":"EmpDetail!C59","v":0},{"$f":"EmpDetail!D59","v":0},{"$f":"EmpDetail!J59","v":0},{"$f":"EmpDetail!K59","v":0}]
[null,null,null,null,null,null,null,null,null,57,{"$f":"EmpDetail!B60","v":0},{"$f":"EmpDetail!C60","v":0},{"$f":"EmpDetail!D60","v":0},{"$f":"EmpDetail!J60","v":0},{"$f":"EmpDetail!K60","v":0}]
[null,null,null,null,null,null,null,null,null,58,{"$f":"EmpDetail!B61","v":0},{"$f":"EmpDetail!C61","v":0},{"$f":"EmpDetail!D61","v":0},{"$f":"EmpDetail!J61","v":0},{"$f":"EmpDetail!K61","v":0}]
[null,null,null,null,null,null,null,null,null,59,{"$f":"EmpDetail!B62","v":0},{"$f":"EmpDetail!C62","v":0},{"$f":"EmpDetail!D62","v":0},{"$f":"EmpDetail!J62","v":0},{"$f":"EmpDetail!K62","v":0}]
[null,null,null,null,null,null,null,null,null,60,{"$f":"EmpDetail!B63","v":0},{"$f":"EmpDetail!C63","v":0},{"$f":"EmpDetail!D63","v":0},{"$f":"EmpDetail!J63","v":0},{"$f":"EmpDetail!K63","v":0}]
[null,null,null,null,null,null,null,null,null,61,{"$f":"EmpDetail!B64","v":0},{"$f":"EmpDetail!C64","v":0},{"$f":"EmpDetail!D64","v":0},{"$f":"EmpDetail!J64","v":0},{"$f":"EmpDetail!K64","v":0}]
[null,null,null,null,null,null,null,null,null,62,{"$f":"EmpDetail!B65","v":0},{"$f":"EmpDetail!C65","v":0},{"$f":"EmpDetail!D65","v":0},{"$f":"EmpDetail!J65","v":0},{"$f":"EmpDetail!K65","v":0}]
[null,null,null,null,null,null,null,null,null,63,{"$f":"EmpDetail!B66","v":0},{"$f":"EmpDetail!C66","v":0},{"$f":"EmpDetail!D66","v":0},{"$f":"EmpDetail!J66","v":0},{"$f":"EmpDetail!K66","v":0}]
[null,null,null,null,null,null,null,null,null,64,{"$f":"EmpDetail!B67","v":0},{"$f":"EmpDetail!C67","v":0},{"$f":"EmpDetail!D67","v":0},{"$f":"EmpDetail!J67","v":0},{"$f":"EmpDetail!K67","v":0}]
[null,null,null,null,null,null,null,null,null,65,{"$f":"EmpDetail!B68","v":0},{"$f":"EmpDetail!C68","v":0},{"$f":"EmpDetail!D68","v":0},{"$f":"EmpDetail!J68","v":0},{"$f":"EmpDetail!K68","v":0}]
[null,null,null,null,null,null,null,null,null,66,{"$f":"EmpDetail!B69","v":0},{"$f":"EmpDetail!C69","v":0},{"$f":"EmpDetail!D69","v":0},{"$f":"EmpDetail!J69","v":0},{"$f":"EmpDetail!K69","v":0}]
[null,null,null,null,null,null,null,null,null,67,{"$f":"EmpDetail!B70","v":0},{"$f":"EmpDetail!C70","v":0},{"$f":"EmpDetail!D70","v":0},{"$f":"EmpDetail!J70","v":0},{"$f":"EmpDetail!K70","v":0}]
[null,null,null,null,null,null,null,null,null,68,{"$f":"EmpDetail!B71","v":0},{"$f":"EmpDetail!C71","v":0},{"$f":"EmpDetail!D71","v":0},{"$f":"EmpDetail!J71","v":0},{"$f":"EmpDetail!K71","v":0}]
[null,null,null,null,null,null,null,null,null,69,{"$f":"EmpDetail!B72","v":0},{"$f":"EmpDetail!C72","v":0},{"$f":"EmpDetail!D72","v":0},{"$f":"EmpDetail!J72","v":0},{"$f":"EmpDetail!K72","v":0}]
[null,null,null,null,null,null,null,null,null,70,{"$f":"EmpDetail!B73","v":0},{"$f":"EmpDetail!C73","v":0},{"$f":"EmpDetail!D73","v":0},{"$f":"EmpDetail!J73","v":0},{"$f":"EmpDetail!K73","v":0}]
[null,null,null,null,null,null,null,null,null,71,{"$f":"EmpDetail!B74","v":0},{"$f":"EmpDetail!C74","v":0},{"$f":"EmpDetail!D74","v":0},{"$f":"EmpDetail!J74","v":0},{"$f":"EmpDetail!K74","v":0}]
[null,null,null,null,null,null,null,null,null,72,{"$f":"EmpDetail!B75","v":0},{"$f":"EmpDetail!C75","v":0},{"$f":"EmpDetail!D75","v":0},{"$f":"EmpDetail!J75","v":0},{"$f":"EmpDetail!K75","v":0}]
[null,null,null,null,null,null,null,null,null,73,{"$f":"EmpDetail!B76","v":0},{"$f":"EmpDetail!C76","v":0},{"$f":"EmpDetail!D76","v":0},{"$f":"EmpDetail!J76","v":0},{"$f":"EmpDetail!K76","v":0}]
[null,null,null,null,null,null,null,null,null,74,{"$f":"EmpDetail!B77","v":0},{"$f":"EmpDetail!C77","v":0},{"$f":"EmpDetail!D77","v":0},{"$f":"EmpDetail!J77","v":0},{"$f":"EmpDetail!K77","v":0}]
[null,null,null,null,null,null,null,null,null,75,{"$f":"EmpDetail!B78","v":0},{"$f":"EmpDetail!C78","v":0},{"$f":"EmpDetail!D78","v":0},{"$f":"EmpDetail!J78","v":0},{"$f":"EmpDetail!K78","v":0}]
[null,null,null,null,null,null,null,null,null,76,{"$f":"EmpDetail!B79","v":0},{"$f":"EmpDetail!C79","v":0},{"$f":"EmpDetail!D79","v":0},{"$f":"EmpDetail!J79","v":0},{"$f":"EmpDetail!K79","v":0}]
[null,null,null,null,null,null,null,null,null,77,{"$f":"EmpDetail!B80","v":0},{"$f":"EmpDetail!C80","v":0},{"$f":"EmpDetail!D80","v":0},{"$f":"EmpDetail!J80","v":0},{"$f":"EmpDetail!K80","v":0}]
[null,null,null,null,null,null,null,null,null,78,{"$f":"EmpDetail!B81","v":0},{"$f":"EmpDetail!C81","v":0},{"$f":"EmpDetail!D81","v":0},{"$f":"EmpDetail!J81","v":0},{"$f":"EmpDetail!K81","v":0}]
[null,null,null,null,null,null,null,null,null,79,{"$f":"EmpDetail!B82","v":0},{"$f":"EmpDetail!C82","v":0},{"$f":"EmpDetail!D82","v":0},{"$f":"EmpDetail!J82","v":0},{"$f":"EmpDetail!K82","v":0}]
[null,null,null,null,null,null,null,null,null,80,{"$f":"EmpDetail!B83","v":0},{"$f":"EmpDetail!C83","v":0},{"$f":"EmpDetail!D83","v":0},{"$f":"EmpDetail!J83","v":0},{"$f":"EmpDetail!K83","v":0}]
[null,null,null,null,null,null,null,null,null,81,{"$f":"EmpDetail!B84","v":0},{"$f":"EmpDetail!C84","v":0},{"$f":"EmpDetail!D84","v":0},{"$f":"EmpDetail!J84","v":0},{"$f":"EmpDetail!K84","v":0}]
[null,null,null,null,null,null,null,null,null,82,{"$f":"EmpDetail!B85","v":0},{"$f":"EmpDetail!C85","v":0},{"$f":"EmpDetail!D85","v":0},{"$f":"EmpDetail!J85","v":0},{"$f":"EmpDetail!K85","v":0}]
[null,null,null,null,null,null,null,null,null,83,{"$f":"EmpDetail!B86","v":0},{"$f":"EmpDetail!C86","v":0},{"$f":"EmpDetail!D86","v":0},{"$f":"EmpDetail!J86","v":0},{"$f":"EmpDetail!K86","v":0}]
[null,null,null,null,null,null,null,null,null,84,{"$f":"EmpDetail!B87","v":0},{"$f":"EmpDetail!C87","v":0},{"$f":"EmpDetail!D87","v":0},{"$f":"EmpDetail!J87","v":0},{"$f":"EmpDetail!K87","v":0}]
[null,null,null,null,null,null,null,null,null,85,{"$f":"EmpDetail!B88","v":0},{"$f":"EmpDetail!C88","v":0},{"$f":"EmpDetail!D88","v":0},{"$f":"EmpDetail!J88","v":0},{"$f":"EmpDetail!K88","v":0}]
[null,null,null,null,null,null,null,null,null,86,{"$f":"EmpDetail!B89","v":0},{"$f":"EmpDetail!C89","v":0},{"$f":"EmpDetail!D89","v":0},{"$f":"EmpDetail!J89","v":0},{"$f":"EmpDetail!K89","v":0}]
[null,null,null,null,null,null,null,null,null,87,{"$f":"EmpDetail!B90","v":0},{"$f":"EmpDetail!C90","v":0},{"$f":"EmpDetail!D90","v":0},{"$f":"EmpDetail!J90","v":0},{"$f":"EmpDetail!K90","v":0}]
[null,null,null,null,null,null,null,null,null,88,{"$f":"EmpDetail!B91","v":0},{"$f":"EmpDetail!C91","v":0},{"$f":"EmpDetail!D91","v":0},{"$f":"EmpDetail!J91","v":0},{"$f":"EmpDetail!K91","v":0}]
[null,null,null,null,null,null,null,null,null,89,{"$f":"EmpDetail!B92","v":0},{"$f":"EmpDetail!C92","v":0},{"$f":"EmpDetail!D92","v":0},{"$f":"EmpDetail!J92","v":0},{"$f":"EmpDetail!K92","v":0}]
[null,null,null,null,null,null,null,null,null,90,{"$f":"EmpDetail!B93","v":0},{"$f":"EmpDetail!C93","v":0},{"$f":"EmpDetail!D93","v":0},{"$f":"EmpDetail!J93","v":0},{"$f":"EmpDetail!K93","v":0}]
[null,null,null,null,null,null,null,null,null,91,{"$f":"EmpDetail!B94","v":0},{"$f":"EmpDetail!C94","v":0},{"$f":"EmpDetail!D94","v":0},{"$f":"EmpDetail!J94","v":0},{"$f":"EmpDetail!K94","v":0}]
[null,null,null,null,null,null,null,null,null,92,{"$f":"EmpDetail!B95","v":0},{"$f":"EmpDetail!C95","v":0},{"$f":"EmpDetail!D95","v":0},{"$f":"EmpDetail!J95","v":0},{"$f":"EmpDetail!K95","v":0}]
[null,null,null,null,null,null,null,null,null,93,{"$f":"EmpDetail!B96","v":0},{"$f":"EmpDetail!C96","v":0},{"$f":"EmpDetail!D96","v":0},{"$f":"EmpDetail!J96","v":0},{"$f":"EmpDetail!K96","v":0}]
[null,null,null,null,null,null,null,null,null,94,{"$f":"EmpDetail!B97","v":0},{"$f":"EmpDetail!C97","v":0},{"$f":"EmpDetail!D97","v":0},{"$f":"EmpDetail!J97","v":0},{"$f":"EmpDetail!K97","v":0}]
[null,null,null,null,null,null,null,null,null,95,{"$f":"EmpDetail!B98","v":0},{"$f":"EmpDetail!C98","v":0},{"$f":"EmpDetail!D98","v":0},{"$f":"EmpDetail!J98","v":0},{"$f":"EmpDetail!K98","v":0}]
[null,null,null,null,null,null,null,null,null,96,{"$f":"EmpDetail!B99","v":0},{"$f":"EmpDetail!C99","v":0},{"$f":"EmpDetail!D99","v":0},{"$f":"EmpDetail!J99","v":0},{"$f":"EmpDetail!K99","v":0}]
[null,null,null,null,null,null,null,null,null,97,{"$f":"EmpDetail!B100","v":0},{"$f":"EmpDetail!C100","v":0},{"$f":"EmpDetail!D100","v":0},{"$f":"EmpDetail!J100","v":0},{"$f":"EmpDetail!K100","v":0}]
[null,null,null,null,null,null,null,null,null,98,{"$f":"EmpDetail!B101","v":0},{"$f":"EmpDetail!C101","v":0},{"$f":"EmpDetail!D101","v":0},{"$f":"EmpDetail!J101","v":0},{"$f":"EmpDetail!K101","v":0}]
[null,null,null,null,null,null,null,null,null,99,{"$f":"EmpDetail!B102","v":0},{"$f":"EmpDetail!C102","v":0},{"$f":"EmpDetail!D102","v":0},{"$f":"EmpDetail!J102","v":0},{"$f":"EmpDetail!K102","v":0}]
[null,null,null,null,null,null,null,null,null,100,{"$f":"EmpDetail!B103","v":0},{"$f":"EmpDetail!C103","v":0},{"$f":"EmpDetail!D103","v":0},{"$f":"EmpDetail!J103","v":0},{"$f":"EmpDetail!K103","v":0}]

{"sheet":"Charge List","index":20,"n_rows":105,"n_cols":16,"rows_kept":105,"cut":false,"hidden":true,"merged":[[0,1,0,9],[1,1,1,9],[2,4,2,5],[4,15,6,15]]}
[null,{"$f":"Master!G2&Master!H2","v":"कार्यालय&राजकीय उच्च माध्यमिक विद्यालय ]चौगाई]टोंक"}]
[null,"izHkkj forj.k lwfp"]
[null,null,null,"l=&",{"$f":"Master!E3","v":"2021-22"}]
[null,"dzekad&",{"$f":"Master!H3&Master!I3&Master!J3&Master!E3&\"/\"","v":"राउमावि/चौगाई/संस्था/2021-22/"},null,null,null,null,null,"fnukad&",{"$f":"TODAY()","v":"2021-06-19"}]
["dkfeZd dz0la0","dz0la0","uke dkfeZd","inuke","is&ysoy","izHkkj&1","izHkkj&2","izHkkj&3","izHkkj&4","fo0fo0",null,null,null,null,null,"izHkkj dk uke tksMsa"]
[1,{"$f":"IF(C6=\"\",\"\",1)","v":1},{"$f":"IF(ISNA(VLOOKUP($A6,$K$6:$N$105,2,FALSE)),\"\",VLOOKUP($A6,$K$6:$N$105,2,FALSE))","v":"fd'ku yky cSjok"},{"$f":"IF(ISNA(VLOOKUP($A6,$K$6:$N$105,3,FALSE)),\"\",VLOOKUP($A6,$K$6:$N$105,3,FALSE))","v":"प्रधानाचार्य"},{"$f":"IF(ISNA(VLOOKUP($A6,$K$6:$N$105,4,FALSE)),\"\",VLOOKUP($A6,$K$6:$N$105,4,FALSE))","v":"L-16"},"लेखा शाखा","भुगोल प्रायोगिक","लेखा शाखा","सामान्य शाखा",null,1,{"$f":"EmpDetail!B4","v":"fd'ku yky cSjok"},{"$f":"EmpDetail!C4","v":"प्रधानाचार्य"},{"$f":"EmpDetail!J4","v":"L-16"}]
[2,{"$f":"IF(C7=\"\",\"\",B6+1)","v":2},{"$f":"IF(ISNA(VLOOKUP($A7,$K$6:$N$105,2,FALSE)),\"\",VLOOKUP($A7,$K$6:$N$105,2,FALSE))","v":"iwj.k pUn y{kdkj"},{"$f":"IF(ISNA(VLOOKUP($A7,$K$6:$N$105,3,FALSE)),\"\",VLOOKUP($A7,$K$6:$N$105,3,FALSE))","v":"व्याख्याता"},{"$f":"IF(ISNA(VLOOKUP($A7,$K$6:$N$105,4,FALSE)),\"\",VLOOKUP($A7,$K$6:$N$105,4,FALSE))","v":"L-12"},null,null,null,null,null,2,{"$f":"EmpDetail!B5","v":"iwj.k pUn y{kdkj"},{"$f":"EmpDetail!C5","v":"व्याख्याता"},{"$f":"EmpDetail!J5","v":"L-12"}]
[3,{"$f":"IF(C8=\"\",\"\",B7+1)","v":3},"jktsUnz dqekj tSu","व्याख्याता","L-12",null,null,null,null,null,3,{"$f":"EmpDetail!B6","v":"jktsUnz dqekj tSu"},{"$f":"EmpDetail!C6","v":"व्याख्याता"},{"$f":"EmpDetail!J6","v":"L-12"},null,"संस्थापन शाखा"]
[4,4,"fd'ku yky cSjok","व्याख्याता","L-12",null,null,null,null,null,4,{"$f":"EmpDetail!B7","v":"fd'ku yky cSjok"},{"$f":"EmpDetail!C7","v":"व्याख्याता"},{"$f":"EmpDetail!J7","v":"L-12"},null,"लेखा शाखा"]
[5,5,"lR;ukjk;.k 'kekZ","वरिष्ठ अध्यापक","L-13",null,null,null,null,null,5,{"$f":"EmpDetail!B8","v":"lR;ukjk;.k 'kekZ"},{"$f":"EmpDetail!C8","v":"वरिष्ठ अध्यापक"},{"$f":"EmpDetail!J8","v":"L-13"},null,"सामान्य शाखा"]
[6,6,"iq\"ik tSu","वरिष्ठ अध्यापक","L-13",null,null,null,null,null,6,{"$f":"EmpDetail!B9","v":"iq\"ik tSu"},{"$f":"EmpDetail!C9","v":"वरिष्ठ अध्यापक"},{"$f":"EmpDetail!J9","v":"L-13"},null,"भण्डार शाखा"]
[7,7,"vk'kkjke eh.kk","वरिष्ठ अध्यापक","L-11",null,null,null,null,null,7,{"$f":"EmpDetail!B10","v":"vk'kkjke eh.kk"},{"$f":"EmpDetail!C10","v":"वरिष्ठ अध्यापक"},{"$f":"EmpDetail!J10","v":"L-11"},null,"परीक्षा शाखा"]
[8,8,"t;iky flag","वरिष्ठ अध्यापक","L-12",null,null,null,null,null,8,{"$f":"EmpDetail!B11","v":"t;iky flag"},{"$f":"EmpDetail!C11","v":"वरिष्ठ अध्यापक"},{"$f":"EmpDetail!J11","v":"L-12"},null,"पुस्तकालय शाखा"]
[9,9,"jkeizlkn jsxj","वरिष्ठ अध्यापक","L-11",null,null,null,null,null,9,{"$f":"EmpDetail!B12","v":"jkeizlkn jsxj"},{"$f":"EmpDetail!C12","v":"वरिष्ठ अध्यापक"},{"$f":"EmpDetail!J12","v":"L-11"},null,"खेल शाखा"]
[10,10,"egsUnz dqekj tkV","शारीरिक शिक्षक","L-12",null,null,null,null,null,10,{"$f":"EmpDetail!B13","v":"egsUnz dqekj tkV"},{"$f":"EmpDetail!C13","v":"शारीरिक शिक्षक"},{"$f":"EmpDetail!J13","v":"L-12"},null,"प्रयोगशाला शाखा"]
[11,11,"NksVw yky jsxj","अध्यापक ग्रेड III","L-13",null,null,null,null,null,11,{"$f":"EmpDetail!B14","v":"NksVw yky jsxj"},{"$f":"EmpDetail!C14","v":"अध्यापक ग्रेड III"},{"$f":"EmpDetail!J14","v":"L-13"},null,"पोषाहार"]
[12,12,"dUgS;k yky egkoj","अध्यापक ग्रेड III","L-13",null,null,null,null,null,12,{"$f":"EmpDetail!B15","v":"dUgS;k yky egkoj"},{"$f":"EmpDetail!C15","v":"अध्यापक ग्रेड III"},{"$f":"EmpDetail!J15","v":"L-13"},null,"स्काउट एंव इको क्लब"]
[13,13,"prqHkqZt tkV","अध्यापक ग्रेड III","L-11",null,null,null,null,null,13,{"$f":"EmpDetail!B16","v":"prqHkqZt tkV"},{"$f":"EmpDetail!C16","v":"अध्यापक ग्रेड III"},{"$f":"EmpDetail!J16","v":"L-11"},null,"नि:शुल्क पाठ्यपुस्तके "]
[14,14,"vklsQk [kku","अध्यापक ग्रेड III","L-11",null,null,null,null,null,14,{"$f":"EmpDetail!B17","v":"vklsQk [kku"},{"$f":"EmpDetail!C17","v":"अध्यापक ग्रेड III"},{"$f":"EmpDetail!J17","v":"L-11"},null,"एनिमिया नियंत्रण"]
[null,"","","","",null,null,null,null,null,15,{"$f":"EmpDetail!B18","v":"lq'khyk cSjok"},{"$f":"EmpDetail!C18","v":"कनिष्ठ सहायक"},{"$f":"EmpDetail!J18","v":"L-5"},null,"भुगोल प्रायोगिक"]
[null,null,null,null,null,null,null,null,null,null,16,{"$f":"EmpDetail!B19","v":"txnh'k izlkn rsyh"},{"$f":"EmpDetail!C19","v":"सहायक कर्मचारी"},{"$f":"EmpDetail!J19","v":"L-5"}]
[null,null,null,null,null,null,null,null,{"$f":"Master!B2","v":"प्रधानाचार्य"},null,17,{"$f":"EmpDetail!B20","v":"jfoUnz dqekj tSu"},{"$f":"EmpDetail!C20","v":"अध्यापक ग्रेड III"},{"$f":"EmpDetail!J20","v":"L-12"}]
[null,null,null,null,null,null,null,null,{"$f":"Master!B3","v":"राजकीय उच्च माध्यमिक विद्यालय "},null,18,{"$f":"EmpDetail!B21","v":" ';ke lqUnj ckxkSM"},{"$f":"EmpDetail!C21","v":"अध्यापक ग्रेड III"},{"$f":"EmpDetail!J21","v":"L-10"}]
[null,null,null,null,null,null,null,null,{"$f":"Master!B4","v":"चौगाई]टोंक"},null,19,{"$f":"EmpDetail!B22","v":"d`\".kk 'kekZ"},{"$f":"EmpDetail!C22","v":"प्रबोधक"},{"$f":"EmpDetail!J22","v":"L-11"}]
[null,null,null,null,null,null,null,null,null,null,20,{"$f":"EmpDetail!B23","v":"/keZsUnz pkS/kjh"},{"$f":"EmpDetail!C23","v":"अध्यापक ग्रेड III"},{"$f":"EmpDetail!J23","v":"L-10"}]
[null,null,null,null,null,null,null,null,null,null,21,{"$f":"EmpDetail!B24","v":"izgykn ekyh"},{"$f":"EmpDetail!C24","v":"प्रबोधक"},{"$f":"EmpDetail!J24","v":"L-11"}]
[null,null,null,null,null,null,null,null,null,null,22,{"$f":"EmpDetail!B25","v":"jken;ky xqtZj"},{"$f":"EmpDetail!C25","v":"प्रबोधक"},{"$f":"EmpDetail!J25","v":"L-11"}]
[null,null,null,null,null,null,null,null,null,null,23,{"$f":"EmpDetail!B26","v":"vkSeizdk'k tkV"},{"$f":"EmpDetail!C26","v":"अध्यापक ग्रेड III"},{"$f":"EmpDetail!J26","v":"L-11"}]
[null,null,null,null,null,null,null,null,null,null,24,{"$f":"EmpDetail!B27","v":"vthr flag"},{"$f":"EmpDetail!C27","v":"अध्यापक ग्रेड III"},{"$f":"EmpDetail!J27","v":"L-10"}]
[null,null,null,null,null,null,null,null,null,null,25,{"$f":"EmpDetail!B28","v":"eq[rkj eha;k"},{"$f":"EmpDetail!C28","v":"प्रबोधक"},{"$f":"EmpDetail!J28","v":"L-11"}]
[null,null,null,null,null,null,null,null,null,null,26,{"$f":"EmpDetail!B29","v":"eks0 tehy "},{"$f":"EmpDetail!C29","v":"प्रबोधक"},{"$f":"EmpDetail!J29","v":"L-11"}]
[null,null,null,null,null,null,null,null,null,null,27,{"$f":"EmpDetail!B30","v":"lkaojey tkV"},{"$f":"EmpDetail!C30","v":"अध्यापक ग्रेड III"},{"$f":"EmpDetail!J30","v":"L-10"}]
[null,null,null,null,null,null,null,null,null,null,28,{"$f":"EmpDetail!B31","v":"pkS/kjh eksuk jkekorkj"},{"$f":"EmpDetail!C31","v":"अध्यापक ग्रेड III"},{"$f":"EmpDetail!J31","v":"L-10"}]
[null,null,null,null,null,null,null,null,null,null,29,{"$f":"EmpDetail!B32","v":"rkjkpUn tk;loky"},{"$f":"EmpDetail!C32","v":"प्रबोधक"},{"$f":"EmpDetail!J32","v":"L-11"}]
[null,null,null,null,null,null,null,null,null,null,30,{"$f":"EmpDetail!B33","v":"jketl ;kno"},{"$f":"EmpDetail!C33","v":"अध्यापक ग्रेड III"},{"$f":"EmpDetail!J33","v":"L-12"}]
[null,null,null,null,null,null,null,null,null,null,31,{"$f":"EmpDetail!B34","v":"dtksMey eh.kk"},{"$f":"EmpDetail!C34","v":"अध्यापक ग्रेड III"},{"$f":"EmpDetail!J34","v":"L-10"}]
[null,null,null,null,null,null,null,null,null,null,32,{"$f":"EmpDetail!B35","v":"/kaut; xkSRre"},{"$f":"EmpDetail!C35","v":"अध्यापक ग्रेड III"},{"$f":"EmpDetail!J35","v":"L-10"}]
[null,null,null,null,null,null,null,null,null,null,33,{"$f":"EmpDetail!B36","v":"d`\".kk xaxoky"},{"$f":"EmpDetail!C36","v":"अध्यापक ग्रेड III"},{"$f":"EmpDetail!J36","v":"L-10"}]
[null,null,null,null,null,null,null,null,null,null,34,{"$f":"EmpDetail!B37","v":"n'kjFk dqekj ;kno"},{"$f":"EmpDetail!C37","v":"अध्यापक ग्रेड III"},{"$f":"EmpDetail!J37","v":"L-10"}]
[null,null,null,null,null,null,null,null,null,null,35,{"$f":"EmpDetail!B38","v":"d`\".k yky tkV"},{"$f":"EmpDetail!C38","v":"अध्यापक ग्रेड III"},{"$f":"EmpDetail!J38","v":"L-10"}]
[null,null,null,null,null,null,null,null,null,null,36,{"$f":"EmpDetail!B39","v":"nhisUnz dqekj iztkir"},{"$f":"EmpDetail!C39","v":"अध्यापक ग्रेड III"},{"$f":"EmpDetail!J39","v":"L-10"}]
[null,null,null,null,null,null,null,null,null,null,37,{"$f":"EmpDetail!B40","v":"uohu dqekj"},{"$f":"EmpDetail!C40","v":"अध्यापक ग्रेड III"},{"$f":"EmpDetail!J40","v":"L-10"}]
[null,null,null,null,null,null,null,null,null,null,38,{"$f":"EmpDetail!B41","v":"ehrs'k dqekj 'kekZ"},{"$f":"EmpDetail!C41","v":"अध्यापक ग्रेड III"},{"$f":"EmpDetail!J41","v":"L-10"}]
[null,null,null,null,null,null,null,null,null,null,39,{"$f":"EmpDetail!B42","v":"eUtw eh.kk"},{"$f":"EmpDetail!C42","v":"वरिष्ठ अध्यापक"},{"$f":"EmpDetail!J42","v":"L-10"}]
[null,null,null,null,null,null,null,null,null,null,40,{"$f":"EmpDetail!B43","v":"eatw pkS/kjh"},{"$f":"EmpDetail!C43","v":"वरिष्ठ अध्यापक"},{"$f":"EmpDetail!J43","v":"L-11"}]
[null,null,null,null,null,null,null,null,null,null,41,{"$f":"EmpDetail!B44","v":0},{"$f":"EmpDetail!C44","v":0},{"$f":"EmpDetail!J44","v":0}]
[null,null,null,null,null,null,null,null,null,null,42,{"$f":"EmpDetail!B45","v":0},{"$f":"EmpDetail!C45","v":0},{"$f":"EmpDetail!J45","v":0}]
[null,null,null,null,null,null,null,null,null,null,43,{"$f":"EmpDetail!B46","v":0},{"$f":"EmpDetail!#REF!","v":{"$error":"#REF!"}},{"$f":"EmpDetail!J46","v":0}]
[null,null,null,null,null,null,null,null,null,null,44,{"$f":"EmpDetail!B47","v":0},{"$f":"EmpDetail!C47","v":0},{"$f":"EmpDetail!J47","v":0}]
[null,null,null,null,null,null,null,null,null,null,45,{"$f":"EmpDetail!B48","v":0},{"$f":"EmpDetail!C48","v":0},{"$f":"EmpDetail!J48","v":0}]
[null,null,null,null,null,null,null,null,null,null,46,{"$f":"EmpDetail!B49","v":0},{"$f":"EmpDetail!C49","v":0},{"$f":"EmpDetail!J49","v":0}]
[null,null,null,null,null,null,null,null,null,null,47,{"$f":"EmpDetail!B50","v":0},{"$f":"EmpDetail!C50","v":0},{"$f":"EmpDetail!J50","v":0}]
[null,null,null,null,null,null,null,null,null,null,48,{"$f":"EmpDetail!B51","v":0},{"$f":"EmpDetail!C51","v":0},{"$f":"EmpDetail!J51","v":0}]
[null,null,null,null,null,null,null,null,null,null,49,{"$f":"EmpDetail!B52","v":0},{"$f":"EmpDetail!C52","v":0},{"$f":"EmpDetail!J52","v":0}]
[null,null,null,null,null,null,null,null,null,null,50,{"$f":"EmpDetail!B53","v":0},{"$f":"EmpDetail!C53","v":0},{"$f":"EmpDetail!J53","v":0}]
[null,null,null,null,null,null,null,null,null,null,51,{"$f":"EmpDetail!B54","v":0},{"$f":"EmpDetail!C54","v":0},{"$f":"EmpDetail!J54","v":0}]
[null,null,null,null,null,null,null,null,null,null,52,{"$f":"EmpDetail!B55","v":0},{"$f":"EmpDetail!C55","v":0},{"$f":"EmpDetail!J55","v":0}]
[null,null,null,null,null,null,null,null,null,null,53,{"$f":"EmpDetail!B56","v":0},{"$f":"EmpDetail!C56","v":0},{"$f":"EmpDetail!J56","v":0}]
[null,null,null,null,null,null,null,null,null,null,54,{"$f":"EmpDetail!B57","v":0},{"$f":"EmpDetail!C57","v":0},{"$f":"EmpDetail!J57","v":0}]
[null,null,null,null,null,null,null,null,null,null,55,{"$f":"EmpDetail!B58","v":0},{"$f":"EmpDetail!C58","v":0},{"$f":"EmpDetail!J58","v":0}]
[null,null,null,null,null,null,null,null,null,null,56,{"$f":"EmpDetail!B59","v":0},{"$f":"EmpDetail!C59","v":0},{"$f":"EmpDetail!J59","v":0}]
[null,null,null,null,null,null,null,null,null,null,57,{"$f":"EmpDetail!B60","v":0},{"$f":"EmpDetail!C60","v":0},{"$f":"EmpDetail!J60","v":0}]
[null,null,null,null,null,null,null,null,null,null,58,{"$f":"EmpDetail!B61","v":0},{"$f":"EmpDetail!C61","v":0},{"$f":"EmpDetail!J61","v":0}]
[null,null,null,null,null,null,null,null,null,null,59,{"$f":"EmpDetail!B62","v":0},{"$f":"EmpDetail!C62","v":0},{"$f":"EmpDetail!J62","v":0}]
[null,null,null,null,null,null,null,null,null,null,60,{"$f":"EmpDetail!B63","v":0},{"$f":"EmpDetail!C63","v":0},{"$f":"EmpDetail!J63","v":0}]
[null,null,null,null,null,null,null,null,null,null,61,{"$f":"EmpDetail!B64","v":0},{"$f":"EmpDetail!C64","v":0},{"$f":"EmpDetail!J64","v":0}]
[null,null,null,null,null,null,null,null,null,null,62,{"$f":"EmpDetail!B65","v":0},{"$f":"EmpDetail!C65","v":0},{"$f":"EmpDetail!J65","v":0}]
[null,null,null,null,null,null,null,null,null,null,63,{"$f":"EmpDetail!B66","v":0},{"$f":"EmpDetail!C66","v":0},{"$f":"EmpDetail!J66","v":0}]
[null,null,null,null,null,null,null,null,null,null,64,{"$f":"EmpDetail!B67","v":0},{"$f":"EmpDetail!C67","v":0},{"$f":"EmpDetail!J67","v":0}]
[null,null,null,null,null,null,null,null,null,null,65,{"$f":"EmpDetail!B68","v":0},{"$f":"EmpDetail!C68","v":0},{"$f":"EmpDetail!J68","v":0}]
[null,null,null,null,null,null,null,null,null,null,66,{"$f":"EmpDetail!B69","v":0},{"$f":"EmpDetail!C69","v":0},{"$f":"EmpDetail!J69","v":0}]
[null,null,null,null,null,null,null,null,null,null,67,{"$f":"EmpDetail!B70","v":0},{"$f":"EmpDetail!C70","v":0},{"$f":"EmpDetail!J70","v":0}]
[null,null,null,null,null,null,null,null,null,null,68,{"$f":"EmpDetail!B71","v":0},{"$f":"EmpDetail!C71","v":0},{"$f":"EmpDetail!J71","v":0}]
[null,null,null,null,null,null,null,null,null,null,69,{"$f":"EmpDetail!B72","v":0},{"$f":"EmpDetail!C72","v":0},{"$f":"EmpDetail!J72","v":0}]
[null,null,null,null,null,null,null,null,null,null,70,{"$f":"EmpDetail!B73","v":0},{"$f":"EmpDetail!C73","v":0},{"$f":"EmpDetail!J73","v":0}]
[null,null,null,null,null,null,null,null,null,null,71,{"$f":"EmpDetail!B74","v":0},{"$f":"EmpDetail!C74","v":0},{"$f":"EmpDetail!J74","v":0}]
[null,null,null,null,null,null,null,null,null,null,72,{"$f":"EmpDetail!B75","v":0},{"$f":"EmpDetail!C75","v":0},{"$f":"EmpDetail!J75","v":0}]
[null,null,null,null,null,null,null,null,null,null,73,{"$f":"EmpDetail!B76","v":0},{"$f":"EmpDetail!C76","v":0},{"$f":"EmpDetail!J76","v":0}]
[null,null,null,null,null,null,null,null,null,null,74,{"$f":"EmpDetail!B77","v":0},{"$f":"EmpDetail!C77","v":0},{"$f":"EmpDetail!J77","v":0}]
[null,null,null,null,null,null,null,null,null,null,75,{"$f":"EmpDetail!B78","v":0},{"$f":"EmpDetail!C78","v":0},{"$f":"EmpDetail!J78","v":0}]
[null,null,null,null,null,null,null,null,null,null,76,{"$f":"EmpDetail!B79","v":0},{"$f":"EmpDetail!C79","v":0},{"$f":"EmpDetail!J79","v":0}]
[null,null,null,null,null,null,null,null,null,null,77,{"$f":"EmpDetail!B80","v":0},{"$f":"EmpDetail!C80","v":0},{"$f":"EmpDetail!J80","v":0}]
[null,null,null,null,null,null,null,null,null,null,78,{"$f":"EmpDetail!B81","v":0},{"$f":"EmpDetail!C81","v":0},{"$f":"EmpDetail!J81","v":0}]
[null,null,null,null,null,null,null,null,null,null,79,{"$f":"EmpDetail!B82","v":0},{"$f":"EmpDetail!C82","v":0},{"$f":"EmpDetail!J82","v":0}]
[null,null,null,null,null,null,null,null,null,null,80,{"$f":"EmpDetail!B83","v":0},{"$f":"EmpDetail!C83","v":0},{"$f":"EmpDetail!J83","v":0}]
[null,null,null,null,null,null,null,null,null,null,81,{"$f":"EmpDetail!B84","v":0},{"$f":"EmpDetail!C84","v":0},{"$f":"EmpDetail!J84","v":0}]
[null,null,null,null,null,null,null,null,null,null,82,{"$f":"EmpDetail!B85","v":0},{"$f":"EmpDetail!C85","v":0},{"$f":"EmpDetail!J85","v":0}]
[null,null,null,null,null,null,null,null,null,null,83,{"$f":"EmpDetail!B86","v":0},{"$f":"EmpDetail!C86","v":0},{"$f":"EmpDetail!J86","v":0}]
[null,null,null,null,null,null,null,null,null,null,84,{"$f":"EmpDetail!B87","v":0},{"$f":"EmpDetail!C87","v":0},{"$f":"EmpDetail!J87","v":0}]
[null,null,null,null,null,null,null,null,null,null,85,{"$f":"EmpDetail!B88","v":0},{"$f":"EmpDetail!C88","v":0},{"$f":"EmpDetail!J88","v":0}]
[null,null,null,null,null,null,null,null,null,null,86,{"$f":"EmpDetail!B89","v":0},{"$f":"EmpDetail!C89","v":0},{"$f":"EmpDetail!J89","v":0}]
[null,null,null,null,null,null,null,null,null,null,87,{"$f":"EmpDetail!B90","v":0},{"$f":"EmpDetail!C90","v":0},{"$f":"EmpDetail!J90","v":0}]
[null,null,null,null,null,null,null,null,null,null,88,{"$f":"EmpDetail!B91","v":0},{"$f":"EmpDetail!C91","v":0},{"$f":"EmpDetail!J91","v":0}]
[null,null,null,null,null,null,null,null,null,null,89,{"$f":"EmpDetail!B92","v":0},{"$f":"EmpDetail!C92","v":0},{"$f":"EmpDetail!J92","v":0}]
[null,null,null,null,null,null,null,null,null,null,90,{"$f":"EmpDetail!B93","v":0},{"$f":"EmpDetail!C93","v":0},{"$f":"EmpDetail!J93","v":0}]
[null,null,null,null,null,null,null,null,null,null,91,{"$f":"EmpDetail!B94","v":0},{"$f":"EmpDetail!C94","v":0},{"$f":"EmpDetail!J94","v":0}]
[null,null,null,null,null,null,null,null,null,null,92,{"$f":"EmpDetail!B95","v":0},{"$f":"EmpDetail!C95","v":0},{"$f":"EmpDetail!J95","v":0}]
[null,null,null,null,null,null,null,null,null,null,93,{"$f":"EmpDetail!B96","v":0},{"$f":"EmpDetail!C96","v":0},{"$f":"EmpDetail!J96","v":0}]
[null,null,null,null,null,null,null,null,null,null,94,{"$f":"EmpDetail!B97","v":0},{"$f":"EmpDetail!C97","v":0},{"$f":"EmpDetail!J97","v":0}]
[null,null,null,null,null,null,null,null,null,null,95,{"$f":"EmpDetail!B98","v":0},{"$f":"EmpDetail!C98","v":0},{"$f":"EmpDetail!J98","v":0}]
[null,null,null,null,null,null,null,null,null,null,96,{"$f":"EmpDetail!B99","v":0},{"$f":"EmpDetail!C99","v":0},{"$f":"EmpDetail!J99","v":0}]
[null,null,null,null,null,null,null,null,null,null,97,{"$f":"EmpDetail!B100","v":0},{"$f":"EmpDetail!C100","v":0},{"$f":"EmpDetail!J100","v":0}]
[null,null,null,null,null,null,null,null,null,null,98,{"$f":"EmpDetail!B101","v":0},{"$f":"EmpDetail!C101","v":0},{"$f":"EmpDetail!J101","v":0}]
[null,null,null,null,null,null,null,null,null,null,99,{"$f":"EmpDetail!B102","v":0},{"$f":"EmpDetail!C102","v":0},{"$f":"EmpDetail!J102","v":0}]
[null,null,null,null,null,null,null,null,null,null,100,{"$f":"EmpDetail!B103","v":0},{"$f":"EmpDetail!C103","v":0},{"$f":"EmpDetail!J103","v":0}]

{"sheet":"Sansthapan","index":21,"n_rows":108,"n_cols":19,"rows_kept":108,"cut":false,"hidden":true,"merged":[[1,1,1,14],[0,1,0,14],[2,13,2,14],[2,11,2,12]]}
[null,{"$f":"Master!G2&Master!H2","v":"कार्यालय&राजकीय उच्च माध्यमिक विद्यालय ]चौगाई]टोंक"}]
[null,"dkfeZd laLFkkiu lwpuk"]
[null,"dzekad&",{"$f":"Master!H3&Master!I3&Master!J3&Master!E3&\"/\"","v":"राउमावि/चौगाई/संस्था/2021-22/"},null,null,null,null,null,null,null,null,"fnukad&",null,{"$f":"TODAY()","v":"2021-06-19"}]
[null,"dz0la0","uke dkfeZd","in","uke dk;kZy;","is ysoy","tUe frfFk","izFke fu;qfDr frfFk","csfld osru","orZeku dk;kZy; esa fu;fDr frfFk","dkfeZd vkbZ Mh","cSad [kkrk la[;k","thih,Q uacj",",l vkbZ uacj","izku uacj","isu uacj","eksckbZy uacj","bZesy vkbZMh","LFkkbZ irk"]
[null,{"$f":"EmpDetail!A4","v":1},{"$f":"EmpDetail!B4","v":"fd'ku yky cSjok"},{"$f":"EmpDetail!C4","v":"प्रधानाचार्य"},{"$f":"EmpDetail!D4","v":"राउमावि चौगाई"},{"$f":"EmpDetail!J4","v":"L-16"},{"$f":"EmpDetail!E4","v":"1962-01-10"},{"$f":"EmpDetail!F4","v":"00:00:00"},{"$f":"EmpDetail!K4","v":95900},{"$f":"EmpDetail!I4","v":"00:00:00"},{"$f":"EmpDetail!V4","v":"RJBR199704016633"},{"$f":"EmpDetail!U4","v":61096187775},{"$f":"EmpDetail!Y4","v":683687},{"$f":"EmpDetail!X4","v":650878},{"$f":"EmpDetail!Z4","v":0},{"$f":"EmpDetail!AB4","v":"ACGPB4554L"},{"$f":"EmpDetail!AF4","v":9414912440},{"$f":"EmpDetail!AE4","v":0},{"$f":"EmpDetail!AD4","v":"ch 415 egs'k uxj Vksad QkVd t;iqj"}]
[null,{"$f":"EmpDetail!A5","v":2},{"$f":"EmpDetail!B5","v":"iwj.k pUn y{kdkj"},{"$f":"EmpDetail!C5","v":"व्याख्याता"},{"$f":"EmpDetail!D5","v":"राउमावि चौगाई"},{"$f":"EmpDetail!J5","v":"L-12"},{"$f":"EmpDetail!E5","v":"1971-07-08"},{"$f":"EmpDetail!F5","v":"00:00:00"},{"$f":"EmpDetail!K5","v":56100},{"$f":"EmpDetail!I5","v":"00:00:00"},{"$f":"EmpDetail!V5","v":"RJTO200536022261"},{"$f":"EmpDetail!U5","v":5166051766},{"$f":"EmpDetail!Y5","v":0},{"$f":"EmpDetail!X5","v":1013612},{"$f":"EmpDetail!Z5","v":110081614411},{"$f":"EmpDetail!AB5","v":"ACSPL2673C"},{"$f":"EmpDetail!AF5","v":9928579257},{"$f":"EmpDetail!AE5","v":0},{"$f":"EmpDetail!AD5","v":"eqiks ykok rglhy ekyiqjk Vksad"}]
[null,{"$f":"EmpDetail!A6","v":3},{"$f":"EmpDetail!B6","v":"jktsUnz dqekj tSu"},{"$f":"EmpDetail!C6","v":"व्याख्याता"},{"$f":"EmpDetail!D6","v":"राउमावि चौगाई"},{"$f":"EmpDetail!J6","v":"L-12"},{"$f":"EmpDetail!E6","v":"1968-09-14"},{"$f":"EmpDetail!F6","v":"00:00:00"},{"$f":"EmpDetail!K6","v":63100},{"$f":"EmpDetail!I6","v":"00:00:00"},{"$f":"EmpDetail!V6","v":"RJTO199236014090"},{"$f":"EmpDetail!U6","v":1210100009311},{"$f":"EmpDetail!Y6","v":635130},{"$f":"EmpDetail!X6","v":718827},{"$f":"EmpDetail!Z6","v":0},{"$f":"EmpDetail!AB6","v":"AEPPJ8465H"},{"$f":"EmpDetail!AF6","v":9252619438},{"$f":"EmpDetail!AE6","v":0},{"$f":"EmpDetail!AD6","v":"nhun;ky dkWyksuh fuokbZ Vksad"}]
[null,{"$f":"EmpDetail!A7","v":4},{"$f":"EmpDetail!B7","v":"fd'ku yky cSjok"},{"$f":"EmpDetail!C7","v":"व्याख्याता"},{"$f":"EmpDetail!D7","v":"राउमावि चौगाई"},{"$f":"EmpDetail!J7","v":"L-12"},{"$f":"EmpDetail!E7","v":"1974-07-07"},{"$f":"EmpDetail!F7","v":"00:00:00"},{"$f":"EmpDetail!K7","v":54500},{"$f":"EmpDetail!I7","v":"00:00:00"},{"$f":"EmpDetail!V7","v":"RJTO200536020709"},{"$f":"EmpDetail!U7","v":51066051608},{"$f":"EmpDetail!Y7","v":0},{"$f":"EmpDetail!X7","v":1054537},{"$f":"EmpDetail!Z7","v":110021866597},{"$f":"EmpDetail!AB7","v":"ALCPB0824G"},{"$f":"EmpDetail!AF7","v":9829216208},{"$f":"EmpDetail!AE7","v":0},{"$f":"EmpDetail!AD7","v":"xzk0 cEcksjh iks0 lksMk rglhy ekyiqjk Vksad"}]
[null,{"$f":"EmpDetail!A8","v":5},{"$f":"EmpDetail!B8","v":"lR;ukjk;.k 'kekZ"},{"$f":"EmpDetail!C8","v":"वरिष्ठ अध्यापक"},{"$f":"EmpDetail!D8","v":"राउमावि चौगाई"},{"$f":"EmpDetail!J8","v":"L-13"},{"$f":"EmpDetail!E8","v":"1962-07-01"},{"$f":"EmpDetail!F8","v":"00:00:00"},{"$f":"EmpDetail!K8","v":71300},{"$f":"EmpDetail!I8","v":"00:00:00"},{"$f":"EmpDetail!V8","v":"RJTO198836010114"},{"$f":"EmpDetail!U8","v":61073161492},{"$f":"EmpDetail!Y8","v":579955},{"$f":"EmpDetail!X8","v":747349},{"$f":"EmpDetail!Z8","v":0},{"$f":"EmpDetail!AB8","v":"AFEPS7778C"},{"$f":"EmpDetail!AF8","v":9784023094},{"$f":"EmpDetail!AE8","v":0},{"$f":"EmpDetail!AD8","v":"eqiks ykok rglhy ekyiqjk Vksad"}]
[null,{"$f":"EmpDetail!A9","v":6},{"$f":"EmpDetail!B9","v":"iq\"ik tSu"},{"$f":"EmpDetail!C9","v":"वरिष्ठ अध्यापक"},{"$f":"EmpDetail!D9","v":"राउमावि चौगाई"},{"$f":"EmpDetail!J9","v":"L-13"},{"$f":"EmpDetail!E9","v":"1964-04-10"},{"$f":"EmpDetail!F9","v":"00:00:00"},{"$f":"EmpDetail!K9","v":73400},{"$f":"EmpDetail!I9","v":"00:00:00"},{"$f":"EmpDetail!V9","v":"RJTO198636012024"},{"$f":"EmpDetail!U9","v":51066027835},{"$f":"EmpDetail!Y9","v":602011},{"$f":"EmpDetail!X9","v":718827},{"$f":"EmpDetail!Z9","v":0},{"$f":"EmpDetail!AB9","v":"ABHPJ4882D"},{"$f":"EmpDetail!AF9","v":9460133496},{"$f":"EmpDetail!AE9","v":0},{"$f":"EmpDetail!AD9","v":"55 izrki uxj ekyiqjk ft0 Vksad"}]
[null,{"$f":"EmpDetail!A10","v":7},{"$f":"EmpDetail!B10","v":"vk'kkjke eh.kk"},{"$f":"EmpDetail!C10","v":"वरिष्ठ अध्यापक"},{"$f":"EmpDetail!D10","v":"राउमावि चौगाई"},{"$f":"EmpDetail!J10","v":"L-11"},{"$f":"EmpDetail!E10","v":"1978-06-11"},{"$f":"EmpDetail!F10","v":"00:00:00"},{"$f":"EmpDetail!K10","v":52300},{"$f":"EmpDetail!I10","v":"00:00:00"},{"$f":"EmpDetail!V10","v":"RJJW200522007351"},{"$f":"EmpDetail!U10","v":61006465900},{"$f":"EmpDetail!Y10","v":0},{"$f":"EmpDetail!X10","v":962396},{"$f":"EmpDetail!Z10","v":110061749020},{"$f":"EmpDetail!AB10","v":"ANQPM0064M"},{"$f":"EmpDetail!AF10","v":8290677300},{"$f":"EmpDetail!AE10","v":0},{"$f":"EmpDetail!AD10","v":"oS'kkyh uxj Vksad"}]
[null,{"$f":"EmpDetail!A11","v":8},{"$f":"EmpDetail!B11","v":"t;iky flag"},{"$f":"EmpDetail!C11","v":"वरिष्ठ अध्यापक"},{"$f":"EmpDetail!D11","v":"राउमावि चौगाई"},{"$f":"EmpDetail!J11","v":"L-12"},{"$f":"EmpDetail!E11","v":"1972-02-02"},{"$f":"EmpDetail!F11","v":"00:00:00"},{"$f":"EmpDetail!K11","v":63100},{"$f":"EmpDetail!I11","v":"00:00:00"},{"$f":"EmpDetail!V11","v":"RJTO199636014861"},{"$f":"EmpDetail!U11","v":41640100005500},{"$f":"EmpDetail!Y11","v":849803},{"$f":"EmpDetail!X11","v":941874},{"$f":"EmpDetail!Z11","v":0},{"$f":"EmpDetail!AB11","v":"AKDPS1712Q"},{"$f":"EmpDetail!AF11","v":9772579009},{"$f":"EmpDetail!AE11","v":0},{"$f":"EmpDetail!AD11","v":"t;iqj"}]
[null,{"$f":"EmpDetail!A12","v":9},{"$f":"EmpDetail!B12","v":"jkeizlkn jsxj"},{"$f":"EmpDetail!C12","v":"वरिष्ठ अध्यापक"},{"$f":"EmpDetail!D12","v":"राउमावि चौगाई"},{"$f":"EmpDetail!J12","v":"L-11"},{"$f":"EmpDetail!E12","v":"1978-06-01"},{"$f":"EmpDetail!F12","v":"00:00:00"},{"$f":"EmpDetail!K12","v":46500},{"$f":"EmpDetail!I12","v":"00:00:00"},{"$f":"EmpDetail!V12","v":"RJTO200736007478"},{"$f":"EmpDetail!U12","v":61141039012},{"$f":"EmpDetail!Y12","v":0},{"$f":"EmpDetail!X12","v":1089365},{"$f":"EmpDetail!Z12","v":110041614234},{"$f":"EmpDetail!AB12","v":"BCBPP8558E"},{"$f":"EmpDetail!AF12","v":9252189004},{"$f":"EmpDetail!AE12","v":0},{"$f":"EmpDetail!AD12","v":"eqiks fMXxh ekyiqjk Vksad"}]
[null,{"$f":"EmpDetail!A13","v":10},{"$f":"EmpDetail!B13","v":"egsUnz dqekj tkV"},{"$f":"EmpDetail!C13","v":"शारीरिक शिक्षक"},{"$f":"EmpDetail!D13","v":"राउमावि चौगाई"},{"$f":"EmpDetail!J13","v":"L-12"},{"$f":"EmpDetail!E13","v":"1976-01-30"},{"$f":"EmpDetail!F13","v":"00:00:00"},{"$f":"EmpDetail!K13","v":61300},{"$f":"EmpDetail!I13","v":"00:00:00"},{"$f":"EmpDetail!V13","v":"RJTO199836017112"},{"$f":"EmpDetail!U13","v":61018235247},{"$f":"EmpDetail!Y13","v":847557},{"$f":"EmpDetail!X13","v":941203},{"$f":"EmpDetail!Z13","v":0},{"$f":"EmpDetail!AB13","v":"AFWPJ2407B"},{"$f":"EmpDetail!AF13","v":9929234523},{"$f":"EmpDetail!AE13","v":"mahendradahiya76@gmail.com"},{"$f":"EmpDetail!AD13","v":"xzke xksj/kuiqjk iks ykok rg ihiyw Vksad"}]
[null,{"$f":"EmpDetail!A14","v":11},{"$f":"EmpDetail!B14","v":"NksVw yky jsxj"},{"$f":"EmpDetail!C14","v":"अध्यापक ग्रेड III"},{"$f":"EmpDetail!D14","v":"राउमावि चौगाई"},{"$f":"EmpDetail!J14","v":"L-13"},{"$f":"EmpDetail!E14","v":"1967-07-10"},{"$f":"EmpDetail!F14","v":"00:00:00"},{"$f":"EmpDetail!K14","v":65200},{"$f":"EmpDetail!I14","v":"00:00:00"},{"$f":"EmpDetail!V14","v":"RJTO199336017828"},{"$f":"EmpDetail!U14","v":61018235269},{"$f":"EmpDetail!Y14","v":781753},{"$f":"EmpDetail!X14","v":770325},{"$f":"EmpDetail!Z14","v":0},{"$f":"EmpDetail!AB14","v":"ADVPR9509B"},{"$f":"EmpDetail!AF14","v":9928053215},{"$f":"EmpDetail!AE14","v":0},{"$f":"EmpDetail!AD14","v":"xzkiks cksj[k.Mh dyk ihiyw"}]
[null,{"$f":"EmpDetail!A15","v":12},{"$f":"EmpDetail!B15","v":"dUgS;k yky egkoj"},{"$f":"EmpDetail!C15","v":"अध्यापक ग्रेड III"},{"$f":"EmpDetail!D15","v":"राउमावि चौगाई"},{"$f":"EmpDetail!J15","v":"L-13"},{"$f":"EmpDetail!E15","v":"1962-04-05"},{"$f":"EmpDetail!F15","v":"00:00:00"},{"$f":"EmpDetail!K15","v":65200},{"$f":"EmpDetail!I15","v":"00:00:00"},{"$f":"EmpDetail!V15","v":"RJTO199336010989"},{"$f":"EmpDetail!U15","v":61017388885},{"$f":"EmpDetail!Y15","v":847233},{"$f":"EmpDetail!X15","v":870219},{"$f":"EmpDetail!Z15","v":0},{"$f":"EmpDetail!AB15","v":"AHBPM4917C"},{"$f":"EmpDetail!AF15","v":6377180556},{"$f":"EmpDetail!AE15","v":0},{"$f":"EmpDetail!AD15","v":"eqiks ykok rglhy ekyiqjk Vksad"}]
[null,{"$f":"EmpDetail!A16","v":13},{"$f":"EmpDetail!B16","v":"prqHkqZt tkV"},{"$f":"EmpDetail!C16","v":"अध्यापक ग्रेड III"},{"$f":"EmpDetail!D16","v":"राउमावि चौगाई"},{"$f":"EmpDetail!J16","v":"L-11"},{"$f":"EmpDetail!E16","v":"1976-04-04"},{"$f":"EmpDetail!F16","v":"2005-04-13"},{"$f":"EmpDetail!K16","v":52300},{"$f":"EmpDetail!I16","v":"2008-07-02"},{"$f":"EmpDetail!V16","v":"RJTO200536028883"},{"$f":"EmpDetail!U16","v":51077382140},{"$f":"EmpDetail!Y16","v":0},{"$f":"EmpDetail!X16","v":868676},{"$f":"EmpDetail!Z16","v":110011864700},{"$f":"EmpDetail!AB16","v":"AHJPJ2211Q"},{"$f":"EmpDetail!AF16","v":9829303549},{"$f":"EmpDetail!AE16","v":"chaturbhujjat76@gmail.com"},{"$f":"EmpDetail!AD16","v":"xzke ckykiqjk iks ykok ekyiqjk"}]
[null,{"$f":"EmpDetail!A17","v":14},{"$f":"EmpDetail!B17","v":"vklsQk [kku"},{"$f":"EmpDetail!C17","v":"अध्यापक ग्रेड III"},{"$f":"EmpDetail!D17","v":"राउमावि चौगाई"},{"$f":"EmpDetail!J17","v":"L-11"},{"$f":"EmpDetail!E17","v":"1971-01-10"},{"$f":"EmpDetail!F17","v":"00:00:00"},{"$f":"EmpDetail!K17","v":52300},{"$f":"EmpDetail!I17","v":"00:00:00"},{"$f":"EmpDetail!V17","v":"RJTO200436002236"},{"$f":"EmpDetail!U17","v":61075470544},{"$f":"EmpDetail!Y17","v":0},{"$f":"EmpDetail!X17","v":1016167},{"$f":"EmpDetail!Z17","v":110061924124},{"$f":"EmpDetail!AB17","v":"AOXPK9103K"},{"$f":"EmpDetail!AF17","v":8233194038},{"$f":"EmpDetail!AE17","v":0},{"$f":"EmpDetail!AD17","v":"cjdkrh uxj ikap cRrh jksM Vksad"}]
[null,{"$f":"EmpDetail!A18","v":15},{"$f":"EmpDetail!B18","v":"lq'khyk cSjok"},{"$f":"EmpDetail!C18","v":"कनिष्ठ सहायक"},{"$f":"EmpDetail!D18","v":"राउमावि चौगाई"},{"$f":"EmpDetail!J18","v":"L-5"},{"$f":"EmpDetail!E18","v":"1995-01-01"},{"$f":"EmpDetail!F18","v":"00:00:00"},{"$f":"EmpDetail!K18","v":14600},{"$f":"EmpDetail!I18","v":"00:00:00"},{"$f":"EmpDetail!V18","v":"RJTO202036016697"},{"$f":"EmpDetail!U18","v":61126184286},{"$f":"EmpDetail!Y18","v":0},{"$f":"EmpDetail!X18","v":0},{"$f":"EmpDetail!Z18","v":110184890667},{"$f":"EmpDetail!AB18","v":"BZWPB4606D"},{"$f":"EmpDetail!AF18","v":9166343031},{"$f":"EmpDetail!AE18","v":0},{"$f":"EmpDetail!AD18","v":"956 U;w lkaxkusj jksM nsoh uxj lksMkyk ft0 t;iqj"}]
[null,{"$f":"EmpDetail!A19","v":16},{"$f":"EmpDetail!B19","v":"txnh'k izlkn rsyh"},{"$f":"EmpDetail!C19","v":"सहायक कर्मचारी"},{"$f":"EmpDetail!D19","v":"राउमावि चौगाई"},{"$f":"EmpDetail!J19","v":"L-5"},{"$f":"EmpDetail!E19","v":"1962-06-04"},{"$f":"EmpDetail!F19","v":"00:00:00"},{"$f":"EmpDetail!K19","v":34700},{"$f":"EmpDetail!I19","v":"00:00:00"},{"$f":"EmpDetail!V19","v":"RJTO199236015113"},{"$f":"EmpDetail!U19","v":12880100005699},{"$f":"EmpDetail!Y19","v":680993},{"$f":"EmpDetail!X19","v":654004},{"$f":"EmpDetail!Z19","v":0},{"$f":"EmpDetail!AB19","v":"ADLPT4551B"},{"$f":"EmpDetail!AF19","v":9680761111},{"$f":"EmpDetail!AE19","v":0},{"$f":"EmpDetail!AD19","v":"xzkiks lansMk rglhy ihiyw ft0 Vksad"}]
[null,{"$f":"EmpDetail!A20","v":17},{"$f":"EmpDetail!B20","v":"jfoUnz dqekj tSu"},{"$f":"EmpDetail!C20","v":"अध्यापक ग्रेड III"},{"$f":"EmpDetail!D20","v":"राउप्रावि मोहिनी"},{"$f":"EmpDetail!J20","v":"L-12"},{"$f":"EmpDetail!E20","v":"1967-08-24"},{"$f":"EmpDetail!F20","v":"00:00:00"},{"$f":"EmpDetail!K20","v":65200},{"$f":"EmpDetail!I20","v":"00:00:00"},{"$f":"EmpDetail!V20","v":"RJTO199336008373"},{"$f":"EmpDetail!U20","v":61018112167},{"$f":"EmpDetail!Y20","v":846397},{"$f":"EmpDetail!X20","v":747869},{"$f":"EmpDetail!Z20","v":0},{"$f":"EmpDetail!AB20","v":"ACXPJ6922F"},{"$f":"EmpDetail!AF20","v":9610704779},{"$f":"EmpDetail!AE20","v":0},{"$f":"EmpDetail!AD20","v":"xzkiks ykok rglhy ekyiqjk Vksad "}]
[null,{"$f":"EmpDetail!A21","v":18},{"$f":"EmpDetail!B21","v":" ';ke lqUnj ckxkSM"},{"$f":"EmpDetail!C21","v":"अध्यापक ग्रेड III"},{"$f":"EmpDetail!D21","v":"राउप्रावि मोहिनी"},{"$f":"EmpDetail!J21","v":"L-10"},{"$f":"EmpDetail!E21","v":"1983-08-10"},{"$f":"EmpDetail!F21","v":"00:00:00"},{"$f":"EmpDetail!K21","v":40300},{"$f":"EmpDetail!I21","v":"00:00:00"},{"$f":"EmpDetail!V21","v":"RJTO201236016994"},{"$f":"EmpDetail!U21","v":61089447521},{"$f":"EmpDetail!Y21","v":0},{"$f":"EmpDetail!X21","v":1268061},{"$f":"EmpDetail!Z21","v":110044207450},{"$f":"EmpDetail!AB21","v":"CADPB5237K"},{"$f":"EmpDetail!AF21","v":9887950370},{"$f":"EmpDetail!AE21","v":0},{"$f":"EmpDetail!AD21","v":"xzke eksfguh rglhy ihiyw Vksad"}]
[null,{"$f":"EmpDetail!A22","v":19},{"$f":"EmpDetail!B22","v":"d`\".kk 'kekZ"},{"$f":"EmpDetail!C22","v":"प्रबोधक"},{"$f":"EmpDetail!D22","v":"राउप्रावि मोहिनी"},{"$f":"EmpDetail!J22","v":"L-11"},{"$f":"EmpDetail!E22","v":"1972-08-06"},{"$f":"EmpDetail!F22","v":"00:00:00"},{"$f":"EmpDetail!K22","v":45100},{"$f":"EmpDetail!I22","v":"00:00:00"},{"$f":"EmpDetail!V22","v":"RJTO200836030644"},{"$f":"EmpDetail!U22","v":61121720121},{"$f":"EmpDetail!Y22","v":0},{"$f":"EmpDetail!X22","v":1140336},{"$f":"EmpDetail!Z22","v":110061626026},{"$f":"EmpDetail!AB22","v":"EAPPS9162G"},{"$f":"EmpDetail!AF22","v":9414664595},{"$f":"EmpDetail!AE22","v":0},{"$f":"EmpDetail!AD22","v":"xzk0iks0 leysVh rglhy egqvk ft0 nkSlk"}]
[null,{"$f":"EmpDetail!A23","v":20},{"$f":"EmpDetail!B23","v":"/keZsUnz pkS/kjh"},{"$f":"EmpDetail!C23","v":"अध्यापक ग्रेड III"},{"$f":"EmpDetail!D23","v":"राउप्रावि गोरधनपुरा"},{"$f":"EmpDetail!J23","v":"L-10"},{"$f":"EmpDetail!E23","v":"1990-03-05"},{"$f":"EmpDetail!F23","v":"00:00:00"},{"$f":"EmpDetail!K23","v":40300},{"$f":"EmpDetail!I23","v":"00:00:00"},{"$f":"EmpDetail!V23","v":"RJTO201236011120"},{"$f":"EmpDetail!U23","v":61167150655},{"$f":"EmpDetail!Y23","v":0},{"$f":"EmpDetail!X23","v":1324303},{"$f":"EmpDetail!Z23","v":110037612389},{"$f":"EmpDetail!AB23","v":"CMIPD2058P"},{"$f":"EmpDetail!AF23","v":9667545462},{"$f":"EmpDetail!AE23","v":0},{"$f":"EmpDetail!AD23","v":"xzk0 tkudhoYyHk iqjk rglhy ihiyw Vksad"}]
[null,{"$f":"EmpDetail!A24","v":21},{"$f":"EmpDetail!B24","v":"izgykn ekyh"},{"$f":"EmpDetail!C24","v":"प्रबोधक"},{"$f":"EmpDetail!D24","v":"राउप्रावि गोरधनपुरा"},{"$f":"EmpDetail!J24","v":"L-11"},{"$f":"EmpDetail!E24","v":"1974-08-07"},{"$f":"EmpDetail!F24","v":"00:00:00"},{"$f":"EmpDetail!K24","v":46500},{"$f":"EmpDetail!I24","v":"00:00:00"},{"$f":"EmpDetail!V24","v":"RJTO200836022671"},{"$f":"EmpDetail!U24","v":61017389141},{"$f":"EmpDetail!Y24","v":0},{"$f":"EmpDetail!X24","v":1140023},{"$f":"EmpDetail!Z24","v":110091621432},{"$f":"EmpDetail!AB24","v":"CIDPP7483D"},{"$f":"EmpDetail!AF24","v":7568066321},{"$f":"EmpDetail!AE24","v":0},{"$f":"EmpDetail!AD24","v":"xzke eksfguh rglhy ihiyw Vksad"}]
[null,{"$f":"EmpDetail!A25","v":22},{"$f":"EmpDetail!B25","v":"jken;ky xqtZj"},{"$f":"EmpDetail!C25","v":"प्रबोधक"},{"$f":"EmpDetail!D25","v":"राउप्रावि सोंदीफल"},{"$f":"EmpDetail!J25","v":"L-11"},{"$f":"EmpDetail!E25","v":"1977-08-18"},{"$f":"EmpDetail!F25","v":"00:00:00"},{"$f":"EmpDetail!K25","v":45100},{"$f":"EmpDetail!I25","v":"00:00:00"},{"$f":"EmpDetail!V25","v":"RJTO200836007535"},{"$f":"EmpDetail!U25","v":61055845962},{"$f":"EmpDetail!Y25","v":0},{"$f":"EmpDetail!X25","v":1089892},{"$f":"EmpDetail!Z25","v":110051615567},{"$f":"EmpDetail!AB25","v":"AYOPG9964F"},{"$f":"EmpDetail!AF25","v":9950586769},{"$f":"EmpDetail!AE25","v":0},{"$f":"EmpDetail!AD25","v":"xzke u;kVhyk iks0 cksj[k.Mh rglhy ihiyw Vksad"}]
[null,{"$f":"EmpDetail!A26","v":23},{"$f":"EmpDetail!B26","v":"vkSeizdk'k tkV"},{"$f":"EmpDetail!C26","v":"अध्यापक ग्रेड III"},{"$f":"EmpDetail!D26","v":"राउप्रावि सोंदीफल"},{"$f":"EmpDetail!J26","v":"L-11"},{"$f":"EmpDetail!E26","v":"1982-10-31"},{"$f":"EmpDetail!F26","v":"00:00:00"},{"$f":"EmpDetail!K26","v":45100},{"$f":"EmpDetail!I26","v":"00:00:00"},{"$f":"EmpDetail!V26","v":"RJTO200836025577"},{"$f":"EmpDetail!U26","v":61041958358},{"$f":"EmpDetail!Y26","v":0},{"$f":"EmpDetail!X26","v":1089403},{"$f":"EmpDetail!Z26","v":110031626358},{"$f":"EmpDetail!AB26","v":"APRPJ3922L"},{"$f":"EmpDetail!AF26","v":9001835498},{"$f":"EmpDetail!AE26","v":0},{"$f":"EmpDetail!AD26","v":"xzke dY;k.kiqjk iks cksj[k.Mh ihiyw Vksad"}]
[null,{"$f":"EmpDetail!A27","v":24},{"$f":"EmpDetail!B27","v":"vthr flag"},{"$f":"EmpDetail!C27","v":"अध्यापक ग्रेड III"},{"$f":"EmpDetail!D27","v":"राप्रावि जानकीवल्लभपुरा"},{"$f":"EmpDetail!J27","v":"L-10"},{"$f":"EmpDetail!E27","v":"1987-08-08"},{"$f":"EmpDetail!F27","v":"00:00:00"},{"$f":"EmpDetail!K27","v":40300},{"$f":"EmpDetail!I27","v":"00:00:00"},{"$f":"EmpDetail!V27","v":"RJTO201336044586"},{"$f":"EmpDetail!U27","v":61205589420},{"$f":"EmpDetail!Y27","v":0},{"$f":"EmpDetail!X27","v":1324009},{"$f":"EmpDetail!Z27","v":110077611157},{"$f":"EmpDetail!AB27","v":"GHHPS0967Q"},{"$f":"EmpDetail!AF27","v":9887161511},{"$f":"EmpDetail!AE27","v":0},{"$f":"EmpDetail!AD27","v":"xzkiks0 f>jkuk rglhy ihiyw Vksad"}]
[null,{"$f":"EmpDetail!A28","v":25},{"$f":"EmpDetail!B28","v":"eq[rkj eha;k"},{"$f":"EmpDetail!C28","v":"प्रबोधक"},{"$f":"EmpDetail!D28","v":"राप्रावि जानकीवल्लभपुरा"},{"$f":"EmpDetail!J28","v":"L-11"},{"$f":"EmpDetail!E28","v":"1976-07-04"},{"$f":"EmpDetail!F28","v":"00:00:00"},{"$f":"EmpDetail!K28","v":45100},{"$f":"EmpDetail!I28","v":"00:00:00"},{"$f":"EmpDetail!V28","v":"RJTO200836019528"},{"$f":"EmpDetail!U28","v":61058599669},{"$f":"EmpDetail!Y28","v":0},{"$f":"EmpDetail!X28","v":1140087},{"$f":"EmpDetail!Z28","v":110041615271},{"$f":"EmpDetail!AB28","v":"AYOPM7276L"},{"$f":"EmpDetail!AF28","v":8875445566},{"$f":"EmpDetail!AE28","v":0},{"$f":"EmpDetail!AD28","v":"xzk0 lqusyk gkthiqjk iks0 nsoiqjk ft0 Vksad"}]
[null,{"$f":"EmpDetail!A29","v":26},{"$f":"EmpDetail!B29","v":"eks0 tehy "},{"$f":"EmpDetail!C29","v":"प्रबोधक"},{"$f":"EmpDetail!D29","v":"राप्रावि रसूलपुरा"},{"$f":"EmpDetail!J29","v":"L-11"},{"$f":"EmpDetail!E29","v":"1968-09-15"},{"$f":"EmpDetail!F29","v":"00:00:00"},{"$f":"EmpDetail!K29","v":45100},{"$f":"EmpDetail!I29","v":"00:00:00"},{"$f":"EmpDetail!V29","v":"RJTO200836021360"},{"$f":"EmpDetail!U29","v":61056714971},{"$f":"EmpDetail!Y29","v":0},{"$f":"EmpDetail!X29","v":1089931},{"$f":"EmpDetail!Z29","v":110031615277},{"$f":"EmpDetail!AB29","v":"AXCPK1916C"},{"$f":"EmpDetail!AF29","v":9414681713},{"$f":"EmpDetail!AE29","v":0},{"$f":"EmpDetail!AD29","v":"xzkiks MkjMk rqdhZ rglhy ihiyw Vksad"}]
[null,{"$f":"EmpDetail!A30","v":27},{"$f":"EmpDetail!B30","v":"lkaojey tkV"},{"$f":"EmpDetail!C30","v":"अध्यापक ग्रेड III"},{"$f":"EmpDetail!D30","v":"राप्रावि रसूलपुरा"},{"$f":"EmpDetail!J30","v":"L-10"},{"$f":"EmpDetail!E30","v":"1992-03-03"},{"$f":"EmpDetail!F30","v":"00:00:00"},{"$f":"EmpDetail!K30","v":38000},{"$f":"EmpDetail!I30","v":"00:00:00"},{"$f":"EmpDetail!V30","v":"RJTO201536033743"},{"$f":"EmpDetail!U30","v":61271074682},{"$f":"EmpDetail!Y30","v":0},{"$f":"EmpDetail!X30","v":1325417},{"$f":"EmpDetail!Z30","v":110181593092},{"$f":"EmpDetail!AB30","v":"BCBPJ3389K"},{"$f":"EmpDetail!AF30","v":9667110145},{"$f":"EmpDetail!AE30","v":0},{"$f":"EmpDetail!AD30","v":"xzkiks dk'khiqjk rglhy ihiyw Vksad"}]
[null,{"$f":"EmpDetail!A31","v":28},{"$f":"EmpDetail!B31","v":"pkS/kjh eksuk jkekorkj"},{"$f":"EmpDetail!C31","v":"अध्यापक ग्रेड III"},{"$f":"EmpDetail!D31","v":"राप्रावि मोहिनी ढाणी बाढ"},{"$f":"EmpDetail!J31","v":"L-10"},{"$f":"EmpDetail!E31","v":"1990-01-05"},{"$f":"EmpDetail!F31","v":"00:00:00"},{"$f":"EmpDetail!K31","v":38000},{"$f":"EmpDetail!I31","v":"00:00:00"},{"$f":"EmpDetail!V31","v":"RJTO201536033520"},{"$f":"EmpDetail!U31","v":61272377620},{"$f":"EmpDetail!Y31","v":0},{"$f":"EmpDetail!X31","v":1325552},{"$f":"EmpDetail!Z31","v":110191543848},{"$f":"EmpDetail!AB31","v":"AOIPC3138F"},{"$f":"EmpDetail!AF31","v":8094600886},{"$f":"EmpDetail!AE31","v":0},{"$f":"EmpDetail!AD31","v":"xzke eksfguh rglhy ihiyw Vksad"}]
[null,{"$f":"EmpDetail!A32","v":29},{"$f":"EmpDetail!B32","v":"rkjkpUn tk;loky"},{"$f":"EmpDetail!C32","v":"प्रबोधक"},{"$f":"EmpDetail!D32","v":"राप्रावि मोहिनी ढाणी बाढ"},{"$f":"EmpDetail!J32","v":"L-11"},{"$f":"EmpDetail!E32","v":"1976-11-11"},{"$f":"EmpDetail!F32","v":"00:00:00"},{"$f":"EmpDetail!K32","v":41300},{"$f":"EmpDetail!I32","v":"00:00:00"},{"$f":"EmpDetail!V32","v":"RJTO200836022672"},{"$f":"EmpDetail!U32","v":61055592066},{"$f":"EmpDetail!Y32","v":0},{"$f":"EmpDetail!X32","v":1140016},{"$f":"EmpDetail!Z32","v":110051615519},{"$f":"EmpDetail!AB32","v":"BDKPJ6559D"},{"$f":"EmpDetail!AF32","v":9166967817},{"$f":"EmpDetail!AE32","v":0},{"$f":"EmpDetail!AD32","v":"xzkiks pkSxkbZ rglhy ihiyw ftyk Vksad"}]
[null,{"$f":"EmpDetail!A33","v":30},{"$f":"EmpDetail!B33","v":"jketl ;kno"},{"$f":"EmpDetail!C33","v":"अध्यापक ग्रेड III"},{"$f":"EmpDetail!D33","v":"राप्रावि बैरवा ढाणी सोन्दीफल"},{"$f":"EmpDetail!J33","v":"L-12"},{"$f":"EmpDetail!E33","v":"1970-06-12"},{"$f":"EmpDetail!F33","v":"00:00:00"},{"$f":"EmpDetail!K33","v":63100},{"$f":"EmpDetail!I33","v":"00:00:00"},{"$f":"EmpDetail!V33","v":"RJTO199436007983"},{"$f":"EmpDetail!U33","v":61019435472},{"$f":"EmpDetail!Y33","v":845816},{"$f":"EmpDetail!X33","v":748575},{"$f":"EmpDetail!Z33","v":0},{"$f":"EmpDetail!AB33","v":"AASPY7179G"},{"$f":"EmpDetail!AF33","v":8824745056},{"$f":"EmpDetail!AE33","v":0},{"$f":"EmpDetail!AD33","v":"xzkiks cksj[k.Mh rglhy ihiyw Vksad"}]
[null,{"$f":"EmpDetail!A34","v":31},{"$f":"EmpDetail!B34","v":"dtksMey eh.kk"},{"$f":"EmpDetail!C34","v":"अध्यापक ग्रेड III"},{"$f":"EmpDetail!D34","v":"राप्रावि बैरवा ढाणी सोन्दीफल"},{"$f":"EmpDetail!J34","v":"L-10"},{"$f":"EmpDetail!E34","v":"1990-07-01"},{"$f":"EmpDetail!F34","v":"00:00:00"},{"$f":"EmpDetail!K34","v":38000},{"$f":"EmpDetail!I34","v":"00:00:00"},{"$f":"EmpDetail!V34","v":"RJTO201536032956"},{"$f":"EmpDetail!U34","v":61134498929},{"$f":"EmpDetail!Y34","v":0},{"$f":"EmpDetail!X34","v":1325329},{"$f":"EmpDetail!Z34","v":110101542035},{"$f":"EmpDetail!AB34","v":"BXMPM7839M"},{"$f":"EmpDetail!AF34","v":9166474635},{"$f":"EmpDetail!AE34","v":0},{"$f":"EmpDetail!AD34","v":"xzk0 leniqjk iks0  cksj[k.Mh dykW rglhy ihiyw ft0 Vksad"}]
[null,{"$f":"EmpDetail!A35","v":32},{"$f":"EmpDetail!B35","v":"/kaut; xkSRre"},{"$f":"EmpDetail!C35","v":"अध्यापक ग्रेड III"},{"$f":"EmpDetail!D35","v":"राउप्रावि गोरधनपुरा"},{"$f":"EmpDetail!J35","v":"L-10"},{"$f":"EmpDetail!E35","v":"1986-08-25"},{"$f":"EmpDetail!F35","v":"2018-04-03"},{"$f":"EmpDetail!K35","v":34800},{"$f":"EmpDetail!I35","v":"2018-08-31"},{"$f":"EmpDetail!V35","v":"RJBW201808014066"},{"$f":"EmpDetail!U35","v":61033657191},{"$f":"EmpDetail!Y35","v":0},{"$f":"EmpDetail!X35","v":1447211},{"$f":"EmpDetail!Z35","v":110112693054},{"$f":"EmpDetail!AB35","v":"AOWPG8480N"},{"$f":"EmpDetail!AF35","v":9667531214},{"$f":"EmpDetail!AE35","v":0},{"$f":"EmpDetail!AD35","v":"xzkiks fMXxh rglhy ekyiqjk Vksad"}]
[null,{"$f":"EmpDetail!A36","v":33},{"$f":"EmpDetail!B36","v":"d`\".kk xaxoky"},{"$f":"EmpDetail!C36","v":"अध्यापक ग्रेड III"},{"$f":"EmpDetail!D36","v":"राउप्रावि गोरधनपुरा"},{"$f":"EmpDetail!J36","v":"L-10"},{"$f":"EmpDetail!E36","v":"1995-06-20"},{"$f":"EmpDetail!F36","v":"2018-12-21"},{"$f":"EmpDetail!K36","v":33800},{"$f":"EmpDetail!I36","v":"2018-12-21"},{"$f":"EmpDetail!V36","v":"RJTO201836053346"},{"$f":"EmpDetail!U36","v":61148796699},{"$f":"EmpDetail!Y36","v":0},{"$f":"EmpDetail!X36","v":1447209},{"$f":"EmpDetail!Z36","v":110153207446},{"$f":"EmpDetail!AB36","v":"CSEPG6332F"},{"$f":"EmpDetail!AF36","v":8005747070},{"$f":"EmpDetail!AE36","v":0},{"$f":"EmpDetail!AD36","v":",QlhvkbZ xksnke ds ikl fuokbZ Vksad"}]
[null,{"$f":"EmpDetail!A37","v":34},{"$f":"EmpDetail!B37","v":"n'kjFk dqekj ;kno"},{"$f":"EmpDetail!C37","v":"अध्यापक ग्रेड III"},{"$f":"EmpDetail!D37","v":"राउप्रावि सोंदीफल"},{"$f":"EmpDetail!J37","v":"L-10"},{"$f":"EmpDetail!E37","v":"1991-01-01"},{"$f":"EmpDetail!F37","v":"2018-09-29"},{"$f":"EmpDetail!K37","v":23700},{"$f":"EmpDetail!I37","v":"2018-09-29"},{"$f":"EmpDetail!V37","v":"RJTO201836032921"},{"$f":"EmpDetail!U37","v":32480142484},{"$f":"EmpDetail!Y37","v":0},{"$f":"EmpDetail!X37","v":0},{"$f":"EmpDetail!Z37","v":110082740763},{"$f":"EmpDetail!AB37","v":"AIJPY4777B"},{"$f":"EmpDetail!AF37","v":9251862658},{"$f":"EmpDetail!AE37","v":0},{"$f":"EmpDetail!AD37","v":"xzk0 taokyh iks0 ukusj rglhy ihiyw ft0 Vksad"}]
[null,{"$f":"EmpDetail!A38","v":35},{"$f":"EmpDetail!B38","v":"d`\".k yky tkV"},{"$f":"EmpDetail!C38","v":"अध्यापक ग्रेड III"},{"$f":"EmpDetail!D38","v":"राउप्रावि सोंदीफल"},{"$f":"EmpDetail!J38","v":"L-10"},{"$f":"EmpDetail!E38","v":"1990-07-18"},{"$f":"EmpDetail!F38","v":"2018-10-02"},{"$f":"EmpDetail!K38","v":33800},{"$f":"EmpDetail!I38","v":"2018-10-02"},{"$f":"EmpDetail!V38","v":"RJTO201836032954"},{"$f":"EmpDetail!U38","v":51104741759},{"$f":"EmpDetail!Y38","v":0},{"$f":"EmpDetail!X38","v":1447215},{"$f":"EmpDetail!Z38","v":110102966759},{"$f":"EmpDetail!AB38","v":"BFMPJ9260B"},{"$f":"EmpDetail!AF38","v":8696014039},{"$f":"EmpDetail!AE38","v":0},{"$f":"EmpDetail!AD38","v":"xzkiks pkSxkbZa rglhy ihiyw Vksad"}]
[null,{"$f":"EmpDetail!A39","v":36},{"$f":"EmpDetail!B39","v":"nhisUnz dqekj iztkir"},{"$f":"EmpDetail!C39","v":"अध्यापक ग्रेड III"},{"$f":"EmpDetail!D39","v":"राउप्रावि सोंदीफल"},{"$f":"EmpDetail!J39","v":"L-10"},{"$f":"EmpDetail!E39","v":"1994-07-12"},{"$f":"EmpDetail!F43","v":"2020-09-29"},{"$f":"EmpDetail!K39","v":33800},{"$f":"EmpDetail!I39","v":"2019-03-08"},{"$f":"EmpDetail!V39","v":"RJSM201832057043"},{"$f":"EmpDetail!U39","v":38529450856},{"$f":"EmpDetail!Y39","v":0},{"$f":"EmpDetail!X39","v":1447214},{"$f":"EmpDetail!Z39","v":111103230035},{"$f":"EmpDetail!AB39","v":"ESNPP1895K"},{"$f":"EmpDetail!AF39","v":9887592568},{"$f":"EmpDetail!AE39","v":0},{"$f":"EmpDetail!AD39","v":"xzk0iks0 cksjMh rglhy teokjkex< ft0 t;iqj"}]
[null,{"$f":"EmpDetail!A40","v":37},{"$f":"EmpDetail!B40","v":"uohu dqekj"},{"$f":"EmpDetail!C40","v":"अध्यापक ग्रेड III"},{"$f":"EmpDetail!D40","v":"राउप्रावि मोहिनी"},{"$f":"EmpDetail!J40","v":"L-10"},{"$f":"EmpDetail!E40","v":"1995-04-13"},{"$f":"EmpDetail!F42","v":"2018-09-28"},{"$f":"EmpDetail!K40","v":33800},{"$f":"EmpDetail!I40","v":"2019-03-09"},{"$f":"EmpDetail!V40","v":"RJKO201827053311"},{"$f":"EmpDetail!U40","v":20163229184},{"$f":"EmpDetail!Y40","v":0},{"$f":"EmpDetail!X40","v":1447212},{"$f":"EmpDetail!Z40","v":110133359860},{"$f":"EmpDetail!AB40","v":"GMVPK0622K"},{"$f":"EmpDetail!AF40","v":8094336985},{"$f":"EmpDetail!AE40","v":0},{"$f":"EmpDetail!AD40","v":"xzk0 Jh;klj dyk ok;k uqvk ft0 >qu>quq"}]
[null,{"$f":"EmpDetail!A41","v":38},{"$f":"EmpDetail!B41","v":"ehrs'k dqekj 'kekZ"},{"$f":"EmpDetail!C41","v":"अध्यापक ग्रेड III"},{"$f":"EmpDetail!D41","v":"राउप्रावि मोहिनी"},{"$f":"EmpDetail!J41","v":"L-10"},{"$f":"EmpDetail!E41","v":"1989-08-13"},{"$f":"EmpDetail!G40","v":"2020-12-21"},{"$f":"EmpDetail!K41","v":34800},{"$f":"EmpDetail!I41","v":"2018-09-13"},{"$f":"EmpDetail!V41","v":"RJBW201808013741"},{"$f":"EmpDetail!U41","v":61030857272},{"$f":"EmpDetail!Y41","v":0},{"$f":"EmpDetail!X41","v":1447213},{"$f":"EmpDetail!Z41","v":110142729623},{"$f":"EmpDetail!AB41","v":"BRDPS2559F"},{"$f":"EmpDetail!AF41","v":9928476888},{"$f":"EmpDetail!AE41","v":0},{"$f":"EmpDetail!AD41","v":"uUn fogkj dkWyksuh cLlh ft0 t;iqj"}]
[null,{"$f":"EmpDetail!A42","v":39},{"$f":"EmpDetail!B42","v":"eUtw eh.kk"},{"$f":"EmpDetail!C42","v":"वरिष्ठ अध्यापक"},{"$f":"EmpDetail!D42","v":"राउप्रावि गोरधनपुरा"},{"$f":"EmpDetail!J42","v":"L-10"},{"$f":"EmpDetail!E42","v":"1991-01-06"},{"$f":"EmpDetail!F39","v":"2018-12-28"},{"$f":"EmpDetail!K42","v":33800},{"$f":"EmpDetail!I42","v":"2020-09-29"},{"$f":"EmpDetail!V42","v":"RJDA201813019900"},{"$f":"EmpDetail!U42","v":37975429233},{"$f":"EmpDetail!Y42","v":0},{"$f":"EmpDetail!X42","v":1447210},{"$f":"EmpDetail!Z42","v":111102907638},{"$f":"EmpDetail!AB42","v":"EKJPM1951B"},{"$f":"EmpDetail!AF42","v":7737946347},{"$f":"EmpDetail!AE42","v":0},{"$f":"EmpDetail!AD42","v":"nkSlk"}]
[null,{"$f":"EmpDetail!A43","v":40},{"$f":"EmpDetail!B43","v":"eatw pkS/kjh"},{"$f":"EmpDetail!C43","v":"वरिष्ठ अध्यापक"},{"$f":"EmpDetail!D43","v":"राउप्रावि सोंदीफल"},{"$f":"EmpDetail!J43","v":"L-11"},{"$f":"EmpDetail!E43","v":"1991-08-04"},{"$f":"EmpDetail!F41","v":"2018-04-02"},{"$f":"EmpDetail!K43","v":26500},{"$f":"EmpDetail!I43","v":"2020-09-29"},{"$f":"EmpDetail!V43","v":"RJTO202036032569"},{"$f":"EmpDetail!U43","v":51106823696},{"$f":"EmpDetail!Y43","v":0},{"$f":"EmpDetail!X43","v":0},{"$f":"EmpDetail!Z43","v":110135080896},{"$f":"EmpDetail!AB43","v":"CBYPC2010D"},{"$f":"EmpDetail!AF43","v":9694544544},{"$f":"EmpDetail!AE43","v":0},{"$f":"EmpDetail!AD43","v":"t;iqj"}]
[null,{"$f":"EmpDetail!A44","v":41},{"$f":"EmpDetail!B44","v":0},{"$f":"EmpDetail!C44","v":0},{"$f":"EmpDetail!D44","v":0},{"$f":"EmpDetail!J44","v":0},{"$f":"EmpDetail!E44","v":"00:00:00"},{"$f":"EmpDetail!F44","v":"00:00:00"},{"$f":"EmpDetail!K44","v":0},{"$f":"EmpDetail!I44","v":"00:00:00"},{"$f":"EmpDetail!V44","v":0},{"$f":"EmpDetail!U44","v":0},{"$f":"EmpDetail!Y44","v":0},{"$f":"EmpDetail!X44","v":0},{"$f":"EmpDetail!Z44","v":0},{"$f":"EmpDetail!AB44","v":0},{"$f":"EmpDetail!AF44","v":0},{"$f":"EmpDetail!AE44","v":0},{"$f":"EmpDetail!AD44","v":0}]
[null,{"$f":"EmpDetail!A45","v":42},{"$f":"EmpDetail!B45","v":0},{"$f":"EmpDetail!C45","v":0},{"$f":"EmpDetail!D45","v":0},{"$f":"EmpDetail!J45","v":0},{"$f":"EmpDetail!E45","v":"00:00:00"},{"$f":"EmpDetail!F45","v":"00:00:00"},{"$f":"EmpDetail!K45","v":0},{"$f":"EmpDetail!I45","v":"00:00:00"},{"$f":"EmpDetail!V45","v":0},{"$f":"EmpDetail!U45","v":0},{"$f":"EmpDetail!Y45","v":0},{"$f":"EmpDetail!X45","v":0},{"$f":"EmpDetail!Z45","v":0},{"$f":"EmpDetail!AB45","v":0},{"$f":"EmpDetail!AF45","v":0},{"$f":"EmpDetail!AE45","v":0},{"$f":"EmpDetail!AD45","v":0}]
[null,{"$f":"EmpDetail!A46","v":43},{"$f":"EmpDetail!B46","v":0},{"$f":"EmpDetail!C46","v":0},{"$f":"EmpDetail!D46","v":0},{"$f":"EmpDetail!J46","v":0},{"$f":"EmpDetail!E46","v":"00:00:00"},{"$f":"EmpDetail!F46","v":"00:00:00"},{"$f":"EmpDetail!K46","v":0},{"$f":"EmpDetail!I46","v":"00:00:00"},{"$f":"EmpDetail!V46","v":0},{"$f":"EmpDetail!U46","v":0},{"$f":"EmpDetail!Y46","v":0},{"$f":"EmpDetail!X46","v":0},{"$f":"EmpDetail!Z46","v":0},{"$f":"EmpDetail!AB46","v":0},{"$f":"EmpDetail!AF46","v":0},{"$f":"EmpDetail!AE46","v":0},{"$f":"EmpDetail!AD46","v":0}]
[null,{"$f":"EmpDetail!A47","v":44},{"$f":"EmpDetail!B47","v":0},{"$f":"EmpDetail!C47","v":0},{"$f":"EmpDetail!D47","v":0},{"$f":"EmpDetail!J47","v":0},{"$f":"EmpDetail!E47","v":"00:00:00"},{"$f":"EmpDetail!F47","v":"00:00:00"},{"$f":"EmpDetail!K47","v":0},{"$f":"EmpDetail!I47","v":"00:00:00"},{"$f":"EmpDetail!V47","v":0},{"$f":"EmpDetail!U47","v":0},{"$f":"EmpDetail!Y47","v":0},{"$f":"EmpDetail!X47","v":0},{"$f":"EmpDetail!Z47","v":0},{"$f":"EmpDetail!AB47","v":0},{"$f":"EmpDetail!AF47","v":0},{"$f":"EmpDetail!AE47","v":0},{"$f":"EmpDetail!AD47","v":0}]
[null,{"$f":"EmpDetail!A48","v":45},{"$f":"EmpDetail!B48","v":0},{"$f":"EmpDetail!C48","v":0},{"$f":"EmpDetail!D48","v":0},{"$f":"EmpDetail!J48","v":0},{"$f":"EmpDetail!E48","v":"00:00:00"},{"$f":"EmpDetail!F48","v":"00:00:00"},{"$f":"EmpDetail!K48","v":0},{"$f":"EmpDetail!I48","v":"00:00:00"},{"$f":"EmpDetail!V48","v":0},{"$f":"EmpDetail!U48","v":0},{"$f":"EmpDetail!Y48","v":0},{"$f":"EmpDetail!X48","v":0},{"$f":"EmpDetail!Z48","v":0},{"$f":"EmpDetail!AB48","v":0},{"$f":"EmpDetail!AF48","v":0},{"$f":"EmpDetail!AE48","v":0},{"$f":"EmpDetail!AD48","v":0}]
[null,{"$f":"EmpDetail!A49","v":46},{"$f":"EmpDetail!B49","v":0},{"$f":"EmpDetail!C49","v":0},{"$f":"EmpDetail!D49","v":0},{"$f":"EmpDetail!J49","v":0},{"$f":"EmpDetail!E49","v":"00:00:00"},{"$f":"EmpDetail!F49","v":"00:00:00"},{"$f":"EmpDetail!K49","v":0},{"$f":"EmpDetail!I49","v":"00:00:00"},{"$f":"EmpDetail!V49","v":0},{"$f":"EmpDetail!U49","v":0},{"$f":"EmpDetail!Y49","v":0},{"$f":"EmpDetail!X49","v":0},{"$f":"EmpDetail!Z49","v":0},{"$f":"EmpDetail!AB49","v":0},{"$f":"EmpDetail!AF49","v":0},{"$f":"EmpDetail!AE49","v":0},{"$f":"EmpDetail!AD49","v":0}]
[null,{"$f":"EmpDetail!A50","v":47},{"$f":"EmpDetail!B50","v":0},{"$f":"EmpDetail!C50","v":0},{"$f":"EmpDetail!D50","v":0},{"$f":"EmpDetail!J50","v":0},{"$f":"EmpDetail!E50","v":"00:00:00"},{"$f":"EmpDetail!F50","v":"00:00:00"},{"$f":"EmpDetail!K50","v":0},{"$f":"EmpDetail!I50","v":"00:00:00"},{"$f":"EmpDetail!V50","v":0},{"$f":"EmpDetail!U50","v":0},{"$f":"EmpDetail!Y50","v":0},{"$f":"EmpDetail!X50","v":0},{"$f":"EmpDetail!Z50","v":0},{"$f":"EmpDetail!AB50","v":0},{"$f":"EmpDetail!AF50","v":0},{"$f":"EmpDetail!AE50","v":0},{"$f":"EmpDetail!AD50","v":0}]
[null,{"$f":"EmpDetail!A51","v":48},{"$f":"EmpDetail!B51","v":0},{"$f":"EmpDetail!C51","v":0},{"$f":"EmpDetail!D51","v":0},{"$f":"EmpDetail!J51","v":0},{"$f":"EmpDetail!E51","v":"00:00:00"},{"$f":"EmpDetail!F51","v":"00:00:00"},{"$f":"EmpDetail!K51","v":0},{"$f":"EmpDetail!I51","v":"00:00:00"},{"$f":"EmpDetail!V51","v":0},{"$f":"EmpDetail!U51","v":0},{"$f":"EmpDetail!Y51","v":0},{"$f":"EmpDetail!X51","v":0},{"$f":"EmpDetail!Z51","v":0},{"$f":"EmpDetail!AB51","v":0},{"$f":"EmpDetail!AF51","v":0},{"$f":"EmpDetail!AE51","v":0},{"$f":"EmpDetail!AD51","v":0}]
[null,{"$f":"EmpDetail!A52","v":49},{"$f":"EmpDetail!B52","v":0},{"$f":"EmpDetail!C52","v":0},{"$f":"EmpDetail!D52","v":0},{"$f":"EmpDetail!J52","v":0},{"$f":"EmpDetail!E52","v":"00:00:00"},{"$f":"EmpDetail!F52","v":"00:00:00"},{"$f":"EmpDetail!K52","v":0},{"$f":"EmpDetail!I52","v":"00:00:00"},{"$f":"EmpDetail!V52","v":0},{"$f":"EmpDetail!U52","v":0},{"$f":"EmpDetail!Y52","v":0},{"$f":"EmpDetail!X52","v":0},{"$f":"EmpDetail!Z52","v":0},{"$f":"EmpDetail!AB52","v":0},{"$f":"EmpDetail!AF52","v":0},{"$f":"EmpDetail!AE52","v":0},{"$f":"EmpDetail!AD52","v":0}]
[null,{"$f":"EmpDetail!A53","v":50},{"$f":"EmpDetail!B53","v":0},{"$f":"EmpDetail!C53","v":0},{"$f":"EmpDetail!D53","v":0},{"$f":"EmpDetail!J53","v":0},{"$f":"EmpDetail!E53","v":"00:00:00"},{"$f":"EmpDetail!F53","v":"00:00:00"},{"$f":"EmpDetail!K53","v":0},{"$f":"EmpDetail!I53","v":"00:00:00"},{"$f":"EmpDetail!V53","v":0},{"$f":"EmpDetail!U53","v":0},{"$f":"EmpDetail!Y53","v":0},{"$f":"EmpDetail!X53","v":0},{"$f":"EmpDetail!Z53","v":0},{"$f":"EmpDetail!AB53","v":0},{"$f":"EmpDetail!AF53","v":0},{"$f":"EmpDetail!AE53","v":0},{"$f":"EmpDetail!AD53","v":0}]
[null,{"$f":"EmpDetail!A54","v":51},{"$f":"EmpDetail!B54","v":0},{"$f":"EmpDetail!C54","v":0},{"$f":"EmpDetail!D54","v":0},{"$f":"EmpDetail!J54","v":0},{"$f":"EmpDetail!E54","v":"00:00:00"},{"$f":"EmpDetail!F54","v":"00:00:00"},{"$f":"EmpDetail!K54","v":0},{"$f":"EmpDetail!I54","v":"00:00:00"},{"$f":"EmpDetail!V54","v":0},{"$f":"EmpDetail!U54","v":0},{"$f":"EmpDetail!Y54","v":0},{"$f":"EmpDetail!X54","v":0},{"$f":"EmpDetail!Z54","v":0},{"$f":"EmpDetail!AB54","v":0},{"$f":"EmpDetail!AF54","v":0},{"$f":"EmpDetail!AE54","v":0},{"$f":"EmpDetail!AD54","v":0}]
[null,{"$f":"EmpDetail!A55","v":52},{"$f":"EmpDetail!B55","v":0},{"$f":"EmpDetail!C55","v":0},{"$f":"EmpDetail!D55","v":0},{"$f":"EmpDetail!J55","v":0},{"$f":"EmpDetail!E55","v":"00:00:00"},{"$f":"EmpDetail!F55","v":"00:00:00"},{"$f":"EmpDetail!K55","v":0},{"$f":"EmpDetail!I55","v":"00:00:00"},{"$f":"EmpDetail!V55","v":0},{"$f":"EmpDetail!U55","v":0},{"$f":"EmpDetail!Y55","v":0},{"$f":"EmpDetail!X55","v":0},{"$f":"EmpDetail!Z55","v":0},{"$f":"EmpDetail!AB55","v":0},{"$f":"EmpDetail!AF55","v":0},{"$f":"EmpDetail!AE55","v":0},{"$f":"EmpDetail!AD55","v":0}]
[null,{"$f":"EmpDetail!A56","v":53},{"$f":"EmpDetail!B56","v":0},{"$f":"EmpDetail!C56","v":0},{"$f":"EmpDetail!D56","v":0},{"$f":"EmpDetail!J56","v":0},{"$f":"EmpDetail!E56","v":"00:00:00"},{"$f":"EmpDetail!F56","v":"00:00:00"},{"$f":"EmpDetail!K56","v":0},{"$f":"EmpDetail!I56","v":"00:00:00"},{"$f":"EmpDetail!V56","v":0},{"$f":"EmpDetail!U56","v":0},{"$f":"EmpDetail!Y56","v":0},{"$f":"EmpDetail!X56","v":0},{"$f":"EmpDetail!Z56","v":0},{"$f":"EmpDetail!AB56","v":0},{"$f":"EmpDetail!AF56","v":0},{"$f":"EmpDetail!AE56","v":0},{"$f":"EmpDetail!AD56","v":0}]
[null,{"$f":"EmpDetail!A57","v":54},{"$f":"EmpDetail!B57","v":0},{"$f":"EmpDetail!C57","v":0},{"$f":"EmpDetail!D57","v":0},{"$f":"EmpDetail!J57","v":0},{"$f":"EmpDetail!E57","v":"00:00:00"},{"$f":"EmpDetail!F57","v":"00:00:00"},{"$f":"EmpDetail!K57","v":0},{"$f":"EmpDetail!I57","v":"00:00:00"},{"$f":"EmpDetail!V57","v":0},{"$f":"EmpDetail!U57","v":0},{"$f":"EmpDetail!Y57","v":0},{"$f":"EmpDetail!X57","v":0},{"$f":"EmpDetail!Z57","v":0},{"$f":"EmpDetail!AB57","v":0},{"$f":"EmpDetail!AF57","v":0},{"$f":"EmpDetail!AE57","v":0},{"$f":"EmpDetail!AD57","v":0}]
[null,{"$f":"EmpDetail!A58","v":55},{"$f":"EmpDetail!B58","v":0},{"$f":"EmpDetail!C58","v":0},{"$f":"EmpDetail!D58","v":0},{"$f":"EmpDetail!J58","v":0},{"$f":"EmpDetail!E58","v":"00:00:00"},{"$f":"EmpDetail!F58","v":"00:00:00"},{"$f":"EmpDetail!K58","v":0},{"$f":"EmpDetail!I58","v":"00:00:00"},{"$f":"EmpDetail!V58","v":0},{"$f":"EmpDetail!U58","v":0},{"$f":"EmpDetail!Y58","v":0},{"$f":"EmpDetail!X58","v":0},{"$f":"EmpDetail!Z58","v":0},{"$f":"EmpDetail!AB58","v":0},{"$f":"EmpDetail!AF58","v":0},{"$f":"EmpDetail!AE58","v":0},{"$f":"EmpDetail!AD58","v":0}]
[null,{"$f":"EmpDetail!A59","v":56},{"$f":"EmpDetail!B59","v":0},{"$f":"EmpDetail!C59","v":0},{"$f":"EmpDetail!D59","v":0},{"$f":"EmpDetail!J59","v":0},{"$f":"EmpDetail!E59","v":"00:00:00"},{"$f":"EmpDetail!F59","v":"00:00:00"},{"$f":"EmpDetail!K59","v":0},{"$f":"EmpDetail!I59","v":"00:00:00"},{"$f":"EmpDetail!V59","v":0},{"$f":"EmpDetail!U59","v":0},{"$f":"EmpDetail!Y59","v":0},{"$f":"EmpDetail!X59","v":0},{"$f":"EmpDetail!Z59","v":0},{"$f":"EmpDetail!AB59","v":0},{"$f":"EmpDetail!AF59","v":0},{"$f":"EmpDetail!AE59","v":0},{"$f":"EmpDetail!AD59","v":0}]
[null,{"$f":"EmpDetail!A60","v":57},{"$f":"EmpDetail!B60","v":0},{"$f":"EmpDetail!C60","v":0},{"$f":"EmpDetail!D60","v":0},{"$f":"EmpDetail!J60","v":0},{"$f":"EmpDetail!E60","v":"00:00:00"},{"$f":"EmpDetail!F60","v":"00:00:00"},{"$f":"EmpDetail!K60","v":0},{"$f":"EmpDetail!I60","v":"00:00:00"},{"$f":"EmpDetail!V60","v":0},{"$f":"EmpDetail!U60","v":0},{"$f":"EmpDetail!Y60","v":0},{"$f":"EmpDetail!X60","v":0},{"$f":"EmpDetail!Z60","v":0},{"$f":"EmpDetail!AB60","v":0},{"$f":"EmpDetail!AF60","v":0},{"$f":"EmpDetail!AE60","v":0},{"$f":"EmpDetail!AD60","v":0}]
[null,{"$f":"EmpDetail!A61","v":58},{"$f":"EmpDetail!B61","v":0},{"$f":"EmpDetail!C61","v":0},{"$f":"EmpDetail!D61","v":0},{"$f":"EmpDetail!J61","v":0},{"$f":"EmpDetail!E61","v":"00:00:00"},{"$f":"EmpDetail!F61","v":"00:00:00"},{"$f":"EmpDetail!K61","v":0},{"$f":"EmpDetail!I61","v":"00:00:00"},{"$f":"EmpDetail!V61","v":0},{"$f":"EmpDetail!U61","v":0},{"$f":"EmpDetail!Y61","v":0},{"$f":"EmpDetail!X61","v":0},{"$f":"EmpDetail!Z61","v":0},{"$f":"EmpDetail!AB61","v":0},{"$f":"EmpDetail!AF61","v":0},{"$f":"EmpDetail!AE61","v":0},{"$f":"EmpDetail!AD61","v":0}]
[null,{"$f":"EmpDetail!A62","v":59},{"$f":"EmpDetail!B62","v":0},{"$f":"EmpDetail!C62","v":0},{"$f":"EmpDetail!D62","v":0},{"$f":"EmpDetail!J62","v":0},{"$f":"EmpDetail!E62","v":"00:00:00"},{"$f":"EmpDetail!F62","v":"00:00:00"},{"$f":"EmpDetail!K62","v":0},{"$f":"EmpDetail!I62","v":"00:00:00"},{"$f":"EmpDetail!V62","v":0},{"$f":"EmpDetail!U62","v":0},{"$f":"EmpDetail!Y62","v":0},{"$f":"EmpDetail!X62","v":0},{"$f":"EmpDetail!Z62","v":0},{"$f":"EmpDetail!AB62","v":0},{"$f":"EmpDetail!AF62","v":0},{"$f":"EmpDetail!AE62","v":0},{"$f":"EmpDetail!AD62","v":0}]
[null,{"$f":"EmpDetail!A63","v":60},{"$f":"EmpDetail!B63","v":0},{"$f":"EmpDetail!C63","v":0},{"$f":"EmpDetail!D63","v":0},{"$f":"EmpDetail!J63","v":0},{"$f":"EmpDetail!E63","v":"00:00:00"},{"$f":"EmpDetail!F63","v":"00:00:00"},{"$f":"EmpDetail!K63","v":0},{"$f":"EmpDetail!I63","v":"00:00:00"},{"$f":"EmpDetail!V63","v":0},{"$f":"EmpDetail!U63","v":0},{"$f":"EmpDetail!Y63","v":0},{"$f":"EmpDetail!X63","v":0},{"$f":"EmpDetail!Z63","v":0},{"$f":"EmpDetail!AB63","v":0},{"$f":"EmpDetail!AF63","v":0},{"$f":"EmpDetail!AE63","v":0},{"$f":"EmpDetail!AD63","v":0}]
[null,{"$f":"EmpDetail!A64","v":61},{"$f":"EmpDetail!B64","v":0},{"$f":"EmpDetail!C64","v":0},{"$f":"EmpDetail!D64","v":0},{"$f":"EmpDetail!J64","v":0},{"$f":"EmpDetail!E64","v":"00:00:00"},{"$f":"EmpDetail!F64","v":"00:00:00"},{"$f":"EmpDetail!K64","v":0},{"$f":"EmpDetail!I64","v":"00:00:00"},{"$f":"EmpDetail!V64","v":0},{"$f":"EmpDetail!U64","v":0},{"$f":"EmpDetail!Y64","v":0},{"$f":"EmpDetail!X64","v":0},{"$f":"EmpDetail!Z64","v":0},{"$f":"EmpDetail!AB64","v":0},{"$f":"EmpDetail!AF64","v":0},{"$f":"EmpDetail!AE64","v":0},{"$f":"EmpDetail!AD64","v":0}]
[null,{"$f":"EmpDetail!A65","v":62},{"$f":"EmpDetail!B65","v":0},{"$f":"EmpDetail!C65","v":0},{"$f":"EmpDetail!D65","v":0},{"$f":"EmpDetail!J65","v":0},{"$f":"EmpDetail!E65","v":"00:00:00"},{"$f":"EmpDetail!F65","v":"00:00:00"},{"$f":"EmpDetail!K65","v":0},{"$f":"EmpDetail!I65","v":"00:00:00"},{"$f":"EmpDetail!V65","v":0},{"$f":"EmpDetail!U65","v":0},{"$f":"EmpDetail!Y65","v":0},{"$f":"EmpDetail!X65","v":0},{"$f":"EmpDetail!Z65","v":0},{"$f":"EmpDetail!AB65","v":0},{"$f":"EmpDetail!AF65","v":0},{"$f":"EmpDetail!AE65","v":0},{"$f":"EmpDetail!AD65","v":0}]
[null,{"$f":"EmpDetail!A66","v":63},{"$f":"EmpDetail!B66","v":0},{"$f":"EmpDetail!C66","v":0},{"$f":"EmpDetail!D66","v":0},{"$f":"EmpDetail!J66","v":0},{"$f":"EmpDetail!E66","v":"00:00:00"},{"$f":"EmpDetail!F66","v":"00:00:00"},{"$f":"EmpDetail!K66","v":0},{"$f":"EmpDetail!I66","v":"00:00:00"},{"$f":"EmpDetail!V66","v":0},{"$f":"EmpDetail!U66","v":0},{"$f":"EmpDetail!Y66","v":0},{"$f":"EmpDetail!X66","v":0},{"$f":"EmpDetail!Z66","v":0},{"$f":"EmpDetail!AB66","v":0},{"$f":"EmpDetail!AF66","v":0},{"$f":"EmpDetail!AE66","v":0},{"$f":"EmpDetail!AD66","v":0}]
[null,{"$f":"EmpDetail!A67","v":64},{"$f":"EmpDetail!B67","v":0},{"$f":"EmpDetail!C67","v":0},{"$f":"EmpDetail!D67","v":0},{"$f":"EmpDetail!J67","v":0},{"$f":"EmpDetail!E67","v":"00:00:00"},{"$f":"EmpDetail!F67","v":"00:00:00"},{"$f":"EmpDetail!K67","v":0},{"$f":"EmpDetail!I67","v":"00:00:00"},{"$f":"EmpDetail!V67","v":0},{"$f":"EmpDetail!U67","v":0},{"$f":"EmpDetail!Y67","v":0},{"$f":"EmpDetail!X67","v":0},{"$f":"EmpDetail!Z67","v":0},{"$f":"EmpDetail!AB67","v":0},{"$f":"EmpDetail!AF67","v":0},{"$f":"EmpDetail!AE67","v":0},{"$f":"EmpDetail!AD67","v":0}]
[null,{"$f":"EmpDetail!A68","v":65},{"$f":"EmpDetail!B68","v":0},{"$f":"EmpDetail!C68","v":0},{"$f":"EmpDetail!D68","v":0},{"$f":"EmpDetail!J68","v":0},{"$f":"EmpDetail!E68","v":"00:00:00"},{"$f":"EmpDetail!F68","v":"00:00:00"},{"$f":"EmpDetail!K68","v":0},{"$f":"EmpDetail!I68","v":"00:00:00"},{"$f":"EmpDetail!V68","v":0},{"$f":"EmpDetail!U68","v":0},{"$f":"EmpDetail!Y68","v":0},{"$f":"EmpDetail!X68","v":0},{"$f":"EmpDetail!Z68","v":0},{"$f":"EmpDetail!AB68","v":0},{"$f":"EmpDetail!AF68","v":0},{"$f":"EmpDetail!AE68","v":0},{"$f":"EmpDetail!AD68","v":0}]
[null,{"$f":"EmpDetail!A69","v":66},{"$f":"EmpDetail!B69","v":0},{"$f":"EmpDetail!C69","v":0},{"$f":"EmpDetail!D69","v":0},{"$f":"EmpDetail!J69","v":0},{"$f":"EmpDetail!E69","v":"00:00:00"},{"$f":"EmpDetail!F69","v":"00:00:00"},{"$f":"EmpDetail!K69","v":0},{"$f":"EmpDetail!I69","v":"00:00:00"},{"$f":"EmpDetail!V69","v":0},{"$f":"EmpDetail!U69","v":0},{"$f":"EmpDetail!Y69","v":0},{"$f":"EmpDetail!X69","v":0},{"$f":"EmpDetail!Z69","v":0},{"$f":"EmpDetail!AB69","v":0},{"$f":"EmpDetail!AF69","v":0},{"$f":"EmpDetail!AE69","v":0},{"$f":"EmpDetail!AD69","v":0}]
[null,{"$f":"EmpDetail!A70","v":67},{"$f":"EmpDetail!B70","v":0},{"$f":"EmpDetail!C70","v":0},{"$f":"EmpDetail!D70","v":0},{"$f":"EmpDetail!J70","v":0},{"$f":"EmpDetail!E70","v":"00:00:00"},{"$f":"EmpDetail!F70","v":"00:00:00"},{"$f":"EmpDetail!K70","v":0},{"$f":"EmpDetail!I70","v":"00:00:00"},{"$f":"EmpDetail!V70","v":0},{"$f":"EmpDetail!U70","v":0},{"$f":"EmpDetail!Y70","v":0},{"$f":"EmpDetail!X70","v":0},{"$f":"EmpDetail!Z70","v":0},{"$f":"EmpDetail!AB70","v":0},{"$f":"EmpDetail!AF70","v":0},{"$f":"EmpDetail!AE70","v":0},{"$f":"EmpDetail!AD70","v":0}]
[null,{"$f":"EmpDetail!A71","v":68},{"$f":"EmpDetail!B71","v":0},{"$f":"EmpDetail!C71","v":0},{"$f":"EmpDetail!D71","v":0},{"$f":"EmpDetail!J71","v":0},{"$f":"EmpDetail!E71","v":"00:00:00"},{"$f":"EmpDetail!F71","v":"00:00:00"},{"$f":"EmpDetail!K71","v":0},{"$f":"EmpDetail!I71","v":"00:00:00"},{"$f":"EmpDetail!V71","v":0},{"$f":"EmpDetail!U71","v":0},{"$f":"EmpDetail!Y71","v":0},{"$f":"EmpDetail!X71","v":0},{"$f":"EmpDetail!Z71","v":0},{"$f":"EmpDetail!AB71","v":0},{"$f":"EmpDetail!AF71","v":0},{"$f":"EmpDetail!AE71","v":0},{"$f":"EmpDetail!AD71","v":0}]
[null,{"$f":"EmpDetail!A72","v":69},{"$f":"EmpDetail!B72","v":0},{"$f":"EmpDetail!C72","v":0},{"$f":"EmpDetail!D72","v":0},{"$f":"EmpDetail!J72","v":0},{"$f":"EmpDetail!E72","v":"00:00:00"},{"$f":"EmpDetail!F72","v":"00:00:00"},{"$f":"EmpDetail!K72","v":0},{"$f":"EmpDetail!I72","v":"00:00:00"},{"$f":"EmpDetail!V72","v":0},{"$f":"EmpDetail!U72","v":0},{"$f":"EmpDetail!Y72","v":0},{"$f":"EmpDetail!X72","v":0},{"$f":"EmpDetail!Z72","v":0},{"$f":"EmpDetail!AB72","v":0},{"$f":"EmpDetail!AF72","v":0},{"$f":"EmpDetail!AE72","v":0},{"$f":"EmpDetail!AD72","v":0}]
[null,{"$f":"EmpDetail!A73","v":70},{"$f":"EmpDetail!B73","v":0},{"$f":"EmpDetail!C73","v":0},{"$f":"EmpDetail!D73","v":0},{"$f":"EmpDetail!J73","v":0},{"$f":"EmpDetail!E73","v":"00:00:00"},{"$f":"EmpDetail!F73","v":"00:00:00"},{"$f":"EmpDetail!K73","v":0},{"$f":"EmpDetail!I73","v":"00:00:00"},{"$f":"EmpDetail!V73","v":0},{"$f":"EmpDetail!U73","v":0},{"$f":"EmpDetail!Y73","v":0},{"$f":"EmpDetail!X73","v":0},{"$f":"EmpDetail!Z73","v":0},{"$f":"EmpDetail!AB73","v":0},{"$f":"EmpDetail!AF73","v":0},{"$f":"EmpDetail!AE73","v":0},{"$f":"EmpDetail!AD73","v":0}]
[null,{"$f":"EmpDetail!A74","v":71},{"$f":"EmpDetail!B74","v":0},{"$f":"EmpDetail!C74","v":0},{"$f":"EmpDetail!D74","v":0},{"$f":"EmpDetail!J74","v":0},{"$f":"EmpDetail!E74","v":"00:00:00"},{"$f":"EmpDetail!F74","v":"00:00:00"},{"$f":"EmpDetail!K74","v":0},{"$f":"EmpDetail!I74","v":"00:00:00"},{"$f":"EmpDetail!V74","v":0},{"$f":"EmpDetail!U74","v":0},{"$f":"EmpDetail!Y74","v":0},{"$f":"EmpDetail!X74","v":0},{"$f":"EmpDetail!Z74","v":0},{"$f":"EmpDetail!AB74","v":0},{"$f":"EmpDetail!AF74","v":0},{"$f":"EmpDetail!AE74","v":0},{"$f":"EmpDetail!AD74","v":0}]
[null,{"$f":"EmpDetail!A75","v":72},{"$f":"EmpDetail!B75","v":0},{"$f":"EmpDetail!C75","v":0},{"$f":"EmpDetail!D75","v":0},{"$f":"EmpDetail!J75","v":0},{"$f":"EmpDetail!E75","v":"00:00:00"},{"$f":"EmpDetail!F75","v":"00:00:00"},{"$f":"EmpDetail!K75","v":0},{"$f":"EmpDetail!I75","v":"00:00:00"},{"$f":"EmpDetail!V75","v":0},{"$f":"EmpDetail!U75","v":0},{"$f":"EmpDetail!Y75","v":0},{"$f":"EmpDetail!X75","v":0},{"$f":"EmpDetail!Z75","v":0},{"$f":"EmpDetail!AB75","v":0},{"$f":"EmpDetail!AF75","v":0},{"$f":"EmpDetail!AE75","v":0},{"$f":"EmpDetail!AD75","v":0}]
[null,{"$f":"EmpDetail!A76","v":73},{"$f":"EmpDetail!B76","v":0},{"$f":"EmpDetail!C76","v":0},{"$f":"EmpDetail!D76","v":0},{"$f":"EmpDetail!J76","v":0},{"$f":"EmpDetail!E76","v":"00:00:00"},{"$f":"EmpDetail!F76","v":"00:00:00"},{"$f":"EmpDetail!K76","v":0},{"$f":"EmpDetail!I76","v":"00:00:00"},{"$f":"EmpDetail!V76","v":0},{"$f":"EmpDetail!U76","v":0},{"$f":"EmpDetail!Y76","v":0},{"$f":"EmpDetail!X76","v":0},{"$f":"EmpDetail!Z76","v":0},{"$f":"EmpDetail!AB76","v":0},{"$f":"EmpDetail!AF76","v":0},{"$f":"EmpDetail!AE76","v":0},{"$f":"EmpDetail!AD76","v":0}]
[null,{"$f":"EmpDetail!A77","v":74},{"$f":"EmpDetail!B77","v":0},{"$f":"EmpDetail!C77","v":0},{"$f":"EmpDetail!D77","v":0},{"$f":"EmpDetail!J77","v":0},{"$f":"EmpDetail!E77","v":"00:00:00"},{"$f":"EmpDetail!F77","v":"00:00:00"},{"$f":"EmpDetail!K77","v":0},{"$f":"EmpDetail!I77","v":"00:00:00"},{"$f":"EmpDetail!V77","v":0},{"$f":"EmpDetail!U77","v":0},{"$f":"EmpDetail!Y77","v":0},{"$f":"EmpDetail!X77","v":0},{"$f":"EmpDetail!Z77","v":0},{"$f":"EmpDetail!AB77","v":0},{"$f":"EmpDetail!AF77","v":0},{"$f":"EmpDetail!AE77","v":0},{"$f":"EmpDetail!AD77","v":0}]
[null,{"$f":"EmpDetail!A78","v":75},{"$f":"EmpDetail!B78","v":0},{"$f":"EmpDetail!C78","v":0},{"$f":"EmpDetail!D78","v":0},{"$f":"EmpDetail!J78","v":0},{"$f":"EmpDetail!E78","v":"00:00:00"},{"$f":"EmpDetail!F78","v":"00:00:00"},{"$f":"EmpDetail!K78","v":0},{"$f":"EmpDetail!I78","v":"00:00:00"},{"$f":"EmpDetail!V78","v":0},{"$f":"EmpDetail!U78","v":0},{"$f":"EmpDetail!Y78","v":0},{"$f":"EmpDetail!X78","v":0},{"$f":"EmpDetail!Z78","v":0},{"$f":"EmpDetail!AB78","v":0},{"$f":"EmpDetail!AF78","v":0},{"$f":"EmpDetail!AE78","v":0},{"$f":"EmpDetail!AD78","v":0}]
[null,{"$f":"EmpDetail!A79","v":76},{"$f":"EmpDetail!B79","v":0},{"$f":"EmpDetail!C79","v":0},{"$f":"EmpDetail!D79","v":0},{"$f":"EmpDetail!J79","v":0},{"$f":"EmpDetail!E79","v":"00:00:00"},{"$f":"EmpDetail!F79","v":"00:00:00"},{"$f":"EmpDetail!K79","v":0},{"$f":"EmpDetail!I79","v":"00:00:00"},{"$f":"EmpDetail!V79","v":0},{"$f":"EmpDetail!U79","v":0},{"$f":"EmpDetail!Y79","v":0},{"$f":"EmpDetail!X79","v":0},{"$f":"EmpDetail!Z79","v":0},{"$f":"EmpDetail!AB79","v":0},{"$f":"EmpDetail!AF79","v":0},{"$f":"EmpDetail!AE79","v":0},{"$f":"EmpDetail!AD79","v":0}]
[null,{"$f":"EmpDetail!A80","v":77},{"$f":"EmpDetail!B80","v":0},{"$f":"EmpDetail!C80","v":0},{"$f":"EmpDetail!D80","v":0},{"$f":"EmpDetail!J80","v":0},{"$f":"EmpDetail!E80","v":"00:00:00"},{"$f":"EmpDetail!F80","v":"00:00:00"},{"$f":"EmpDetail!K80","v":0},{"$f":"EmpDetail!I80","v":"00:00:00"},{"$f":"EmpDetail!V80","v":0},{"$f":"EmpDetail!U80","v":0},{"$f":"EmpDetail!Y80","v":0},{"$f":"EmpDetail!X80","v":0},{"$f":"EmpDetail!Z80","v":0},{"$f":"EmpDetail!AB80","v":0},{"$f":"EmpDetail!AF80","v":0},{"$f":"EmpDetail!AE80","v":0},{"$f":"EmpDetail!AD80","v":0}]
[null,{"$f":"EmpDetail!A81","v":78},{"$f":"EmpDetail!B81","v":0},{"$f":"EmpDetail!C81","v":0},{"$f":"EmpDetail!D81","v":0},{"$f":"EmpDetail!J81","v":0},{"$f":"EmpDetail!E81","v":"00:00:00"},{"$f":"EmpDetail!F81","v":"00:00:00"},{"$f":"EmpDetail!K81","v":0},{"$f":"EmpDetail!I81","v":"00:00:00"},{"$f":"EmpDetail!V81","v":0},{"$f":"EmpDetail!U81","v":0},{"$f":"EmpDetail!Y81","v":0},{"$f":"EmpDetail!X81","v":0},{"$f":"EmpDetail!Z81","v":0},{"$f":"EmpDetail!AB81","v":0},{"$f":"EmpDetail!AF81","v":0},{"$f":"EmpDetail!AE81","v":0},{"$f":"EmpDetail!AD81","v":0}]
[null,{"$f":"EmpDetail!A82","v":79},{"$f":"EmpDetail!B82","v":0},{"$f":"EmpDetail!C82","v":0},{"$f":"EmpDetail!D82","v":0},{"$f":"EmpDetail!J82","v":0},{"$f":"EmpDetail!E82","v":"00:00:00"},{"$f":"EmpDetail!F82","v":"00:00:00"},{"$f":"EmpDetail!K82","v":0},{"$f":"EmpDetail!I82","v":"00:00:00"},{"$f":"EmpDetail!V82","v":0},{"$f":"EmpDetail!U82","v":0},{"$f":"EmpDetail!Y82","v":0},{"$f":"EmpDetail!X82","v":0},{"$f":"EmpDetail!Z82","v":0},{"$f":"EmpDetail!AB82","v":0},{"$f":"EmpDetail!AF82","v":0},{"$f":"EmpDetail!AE82","v":0},{"$f":"EmpDetail!AD82","v":0}]
[null,{"$f":"EmpDetail!A83","v":80},{"$f":"EmpDetail!B83","v":0},{"$f":"EmpDetail!C83","v":0},{"$f":"EmpDetail!D83","v":0},{"$f":"EmpDetail!J83","v":0},{"$f":"EmpDetail!E83","v":"00:00:00"},{"$f":"EmpDetail!F83","v":"00:00:00"},{"$f":"EmpDetail!K83","v":0},{"$f":"EmpDetail!I83","v":"00:00:00"},{"$f":"EmpDetail!V83","v":0},{"$f":"EmpDetail!U83","v":0},{"$f":"EmpDetail!Y83","v":0},{"$f":"EmpDetail!X83","v":0},{"$f":"EmpDetail!Z83","v":0},{"$f":"EmpDetail!AB83","v":0},{"$f":"EmpDetail!AF83","v":0},{"$f":"EmpDetail!AE83","v":0},{"$f":"EmpDetail!AD83","v":0}]
[null,{"$f":"EmpDetail!A84","v":81},{"$f":"EmpDetail!B84","v":0},{"$f":"EmpDetail!C84","v":0},{"$f":"EmpDetail!D84","v":0},{"$f":"EmpDetail!J84","v":0},{"$f":"EmpDetail!E84","v":"00:00:00"},{"$f":"EmpDetail!F84","v":"00:00:00"},{"$f":"EmpDetail!K84","v":0},{"$f":"EmpDetail!I84","v":"00:00:00"},{"$f":"EmpDetail!V84","v":0},{"$f":"EmpDetail!U84","v":0},{"$f":"EmpDetail!Y84","v":0},{"$f":"EmpDetail!X84","v":0},{"$f":"EmpDetail!Z84","v":0},{"$f":"EmpDetail!AB84","v":0},{"$f":"EmpDetail!AF84","v":0},{"$f":"EmpDetail!AE84","v":0},{"$f":"EmpDetail!AD84","v":0}]
[null,{"$f":"EmpDetail!A85","v":82},{"$f":"EmpDetail!B85","v":0},{"$f":"EmpDetail!C85","v":0},{"$f":"EmpDetail!D85","v":0},{"$f":"EmpDetail!J85","v":0},{"$f":"EmpDetail!E85","v":"00:00:00"},{"$f":"EmpDetail!F85","v":"00:00:00"},{"$f":"EmpDetail!K85","v":0},{"$f":"EmpDetail!I85","v":"00:00:00"},{"$f":"EmpDetail!V85","v":0},{"$f":"EmpDetail!U85","v":0},{"$f":"EmpDetail!Y85","v":0},{"$f":"EmpDetail!X85","v":0},{"$f":"EmpDetail!Z85","v":0},{"$f":"EmpDetail!AB85","v":0},{"$f":"EmpDetail!AF85","v":0},{"$f":"EmpDetail!AE85","v":0},{"$f":"EmpDetail!AD85","v":0}]
[null,{"$f":"EmpDetail!A86","v":83},{"$f":"EmpDetail!B86","v":0},{"$f":"EmpDetail!C86","v":0},{"$f":"EmpDetail!D86","v":0},{"$f":"EmpDetail!J86","v":0},{"$f":"EmpDetail!E86","v":"00:00:00"},{"$f":"EmpDetail!F86","v":"00:00:00"},{"$f":"EmpDetail!K86","v":0},{"$f":"EmpDetail!I86","v":"00:00:00"},{"$f":"EmpDetail!V86","v":0},{"$f":"EmpDetail!U86","v":0},{"$f":"EmpDetail!Y86","v":0},{"$f":"EmpDetail!X86","v":0},{"$f":"EmpDetail!Z86","v":0},{"$f":"EmpDetail!AB86","v":0},{"$f":"EmpDetail!AF86","v":0},{"$f":"EmpDetail!AE86","v":0},{"$f":"EmpDetail!AD86","v":0}]
[null,{"$f":"EmpDetail!A87","v":84},{"$f":"EmpDetail!B87","v":0},{"$f":"EmpDetail!C87","v":0},{"$f":"EmpDetail!D87","v":0},{"$f":"EmpDetail!J87","v":0},{"$f":"EmpDetail!E87","v":"00:00:00"},{"$f":"EmpDetail!F87","v":"00:00:00"},{"$f":"EmpDetail!K87","v":0},{"$f":"EmpDetail!I87","v":"00:00:00"},{"$f":"EmpDetail!V87","v":0},{"$f":"EmpDetail!U87","v":0},{"$f":"EmpDetail!Y87","v":0},{"$f":"EmpDetail!X87","v":0},{"$f":"EmpDetail!Z87","v":0},{"$f":"EmpDetail!AB87","v":0},{"$f":"EmpDetail!AF87","v":0},{"$f":"EmpDetail!AE87","v":0},{"$f":"EmpDetail!AD87","v":0}]
[null,{"$f":"EmpDetail!A88","v":85},{"$f":"EmpDetail!B88","v":0},{"$f":"EmpDetail!C88","v":0},{"$f":"EmpDetail!D88","v":0},{"$f":"EmpDetail!J88","v":0},{"$f":"EmpDetail!E88","v":"00:00:00"},{"$f":"EmpDetail!F88","v":"00:00:00"},{"$f":"EmpDetail!K88","v":0},{"$f":"EmpDetail!I88","v":"00:00:00"},{"$f":"EmpDetail!V88","v":0},{"$f":"EmpDetail!U88","v":0},{"$f":"EmpDetail!Y88","v":0},{"$f":"EmpDetail!X88","v":0},{"$f":"EmpDetail!Z88","v":0},{"$f":"EmpDetail!AB88","v":0},{"$f":"EmpDetail!AF88","v":0},{"$f":"EmpDetail!AE88","v":0},{"$f":"EmpDetail!AD88","v":0}]
[null,{"$f":"EmpDetail!A89","v":86},{"$f":"EmpDetail!B89","v":0},{"$f":"EmpDetail!C89","v":0},{"$f":"EmpDetail!D89","v":0},{"$f":"EmpDetail!J89","v":0},{"$f":"EmpDetail!E89","v":"00:00:00"},{"$f":"EmpDetail!F89","v":"00:00:00"},{"$f":"EmpDetail!K89","v":0},{"$f":"EmpDetail!I89","v":"00:00:00"},{"$f":"EmpDetail!V89","v":0},{"$f":"EmpDetail!U89","v":0},{"$f":"EmpDetail!Y89","v":0},{"$f":"EmpDetail!X89","v":0},{"$f":"EmpDetail!Z89","v":0},{"$f":"EmpDetail!AB89","v":0},{"$f":"EmpDetail!AF89","v":0},{"$f":"EmpDetail!AE89","v":0},{"$f":"EmpDetail!AD89","v":0}]
[null,{"$f":"EmpDetail!A90","v":87},{"$f":"EmpDetail!B90","v":0},{"$f":"EmpDetail!C90","v":0},{"$f":"EmpDetail!D90","v":0},{"$f":"EmpDetail!J90","v":0},{"$f":"EmpDetail!E90","v":"00:00:00"},{"$f":"EmpDetail!F90","v":"00:00:00"},{"$f":"EmpDetail!K90","v":0},{"$f":"EmpDetail!I90","v":"00:00:00"},{"$f":"EmpDetail!V90","v":0},{"$f":"EmpDetail!U90","v":0},{"$f":"EmpDetail!Y90","v":0},{"$f":"EmpDetail!X90","v":0},{"$f":"EmpDetail!Z90","v":0},{"$f":"EmpDetail!AB90","v":0},{"$f":"EmpDetail!AF90","v":0},{"$f":"EmpDetail!AE90","v":0},{"$f":"EmpDetail!AD90","v":0}]
[null,{"$f":"EmpDetail!A91","v":88},{"$f":"EmpDetail!B91","v":0},{"$f":"EmpDetail!C91","v":0},{"$f":"EmpDetail!D91","v":0},{"$f":"EmpDetail!J91","v":0},{"$f":"EmpDetail!E91","v":"00:00:00"},{"$f":"EmpDetail!F91","v":"00:00:00"},{"$f":"EmpDetail!K91","v":0},{"$f":"EmpDetail!I91","v":"00:00:00"},{"$f":"EmpDetail!V91","v":0},{"$f":"EmpDetail!U91","v":0},{"$f":"EmpDetail!Y91","v":0},{"$f":"EmpDetail!X91","v":0},{"$f":"EmpDetail!Z91","v":0},{"$f":"EmpDetail!AB91","v":0},{"$f":"EmpDetail!AF91","v":0},{"$f":"EmpDetail!AE91","v":0},{"$f":"EmpDetail!AD91","v":0}]
[null,{"$f":"EmpDetail!A92","v":89},{"$f":"EmpDetail!B92","v":0},{"$f":"EmpDetail!C92","v":0},{"$f":"EmpDetail!D92","v":0},{"$f":"EmpDetail!J92","v":0},{"$f":"EmpDetail!E92","v":"00:00:00"},{"$f":"EmpDetail!F92","v":"00:00:00"},{"$f":"EmpDetail!K92","v":0},{"$f":"EmpDetail!I92","v":"00:00:00"},{"$f":"EmpDetail!V92","v":0},{"$f":"EmpDetail!U92","v":0},{"$f":"EmpDetail!Y92","v":0},{"$f":"EmpDetail!X92","v":0},{"$f":"EmpDetail!Z92","v":0},{"$f":"EmpDetail!AB92","v":0},{"$f":"EmpDetail!AF92","v":0},{"$f":"EmpDetail!AE92","v":0},{"$f":"EmpDetail!AD92","v":0}]
[null,{"$f":"EmpDetail!A93","v":90},{"$f":"EmpDetail!B93","v":0},{"$f":"EmpDetail!C93","v":0},{"$f":"EmpDetail!D93","v":0},{"$f":"EmpDetail!J93","v":0},{"$f":"EmpDetail!E93","v":"00:00:00"},{"$f":"EmpDetail!F93","v":"00:00:00"},{"$f":"EmpDetail!K93","v":0},{"$f":"EmpDetail!I93","v":"00:00:00"},{"$f":"EmpDetail!V93","v":0},{"$f":"EmpDetail!U93","v":0},{"$f":"EmpDetail!Y93","v":0},{"$f":"EmpDetail!X93","v":0},{"$f":"EmpDetail!Z93","v":0},{"$f":"EmpDetail!AB93","v":0},{"$f":"EmpDetail!AF93","v":0},{"$f":"EmpDetail!AE93","v":0},{"$f":"EmpDetail!AD93","v":0}]
[null,{"$f":"EmpDetail!A94","v":91},{"$f":"EmpDetail!B94","v":0},{"$f":"EmpDetail!C94","v":0},{"$f":"EmpDetail!D94","v":0},{"$f":"EmpDetail!J94","v":0},{"$f":"EmpDetail!E94","v":"00:00:00"},{"$f":"EmpDetail!F94","v":"00:00:00"},{"$f":"EmpDetail!K94","v":0},{"$f":"EmpDetail!I94","v":"00:00:00"},{"$f":"EmpDetail!V94","v":0},{"$f":"EmpDetail!U94","v":0},{"$f":"EmpDetail!Y94","v":0},{"$f":"EmpDetail!X94","v":0},{"$f":"EmpDetail!Z94","v":0},{"$f":"EmpDetail!AB94","v":0},{"$f":"EmpDetail!AF94","v":0},{"$f":"EmpDetail!AE94","v":0},{"$f":"EmpDetail!AD94","v":0}]
[null,{"$f":"EmpDetail!A95","v":92},{"$f":"EmpDetail!B95","v":0},{"$f":"EmpDetail!C95","v":0},{"$f":"EmpDetail!D95","v":0},{"$f":"EmpDetail!J95","v":0},{"$f":"EmpDetail!E95","v":"00:00:00"},{"$f":"EmpDetail!F95","v":"00:00:00"},{"$f":"EmpDetail!K95","v":0},{"$f":"EmpDetail!I95","v":"00:00:00"},{"$f":"EmpDetail!V95","v":0},{"$f":"EmpDetail!U95","v":0},{"$f":"EmpDetail!Y95","v":0},{"$f":"EmpDetail!X95","v":0},{"$f":"EmpDetail!Z95","v":0},{"$f":"EmpDetail!AB95","v":0},{"$f":"EmpDetail!AF95","v":0},{"$f":"EmpDetail!AE95","v":0},{"$f":"EmpDetail!AD95","v":0}]
[null,{"$f":"EmpDetail!A96","v":93},{"$f":"EmpDetail!B96","v":0},{"$f":"EmpDetail!C96","v":0},{"$f":"EmpDetail!D96","v":0},{"$f":"EmpDetail!J96","v":0},{"$f":"EmpDetail!E96","v":"00:00:00"},{"$f":"EmpDetail!F96","v":"00:00:00"},{"$f":"EmpDetail!K96","v":0},{"$f":"EmpDetail!I96","v":"00:00:00"},{"$f":"EmpDetail!V96","v":0},{"$f":"EmpDetail!U96","v":0},{"$f":"EmpDetail!Y96","v":0},{"$f":"EmpDetail!X96","v":0},{"$f":"EmpDetail!Z96","v":0},{"$f":"EmpDetail!AB96","v":0},{"$f":"EmpDetail!AF96","v":0},{"$f":"EmpDetail!AE96","v":0},{"$f":"EmpDetail!AD96","v":0}]
[null,{"$f":"EmpDetail!A97","v":94},{"$f":"EmpDetail!B97","v":0},{"$f":"EmpDetail!C97","v":0},{"$f":"EmpDetail!D97","v":0},{"$f":"EmpDetail!J97","v":0},{"$f":"EmpDetail!E97","v":"00:00:00"},{"$f":"EmpDetail!F97","v":"00:00:00"},{"$f":"EmpDetail!K97","v":0},{"$f":"EmpDetail!I97","v":"00:00:00"},{"$f":"EmpDetail!V97","v":0},{"$f":"EmpDetail!U97","v":0},{"$f":"EmpDetail!Y97","v":0},{"$f":"EmpDetail!X97","v":0},{"$f":"EmpDetail!Z97","v":0},{"$f":"EmpDetail!AB97","v":0},{"$f":"EmpDetail!AF97","v":0},{"$f":"EmpDetail!AE97","v":0},{"$f":"EmpDetail!AD97","v":0}]
[null,{"$f":"EmpDetail!A98","v":95},{"$f":"EmpDetail!B98","v":0},{"$f":"EmpDetail!C98","v":0},{"$f":"EmpDetail!D98","v":0},{"$f":"EmpDetail!J98","v":0},{"$f":"EmpDetail!E98","v":"00:00:00"},{"$f":"EmpDetail!F98","v":"00:00:00"},{"$f":"EmpDetail!K98","v":0},{"$f":"EmpDetail!I98","v":"00:00:00"},{"$f":"EmpDetail!V98","v":0},{"$f":"EmpDetail!U98","v":0},{"$f":"EmpDetail!Y98","v":0},{"$f":"EmpDetail!X98","v":0},{"$f":"EmpDetail!Z98","v":0},{"$f":"EmpDetail!AB98","v":0},{"$f":"EmpDetail!AF98","v":0},{"$f":"EmpDetail!AE98","v":0},{"$f":"EmpDetail!AD98","v":0}]
[null,{"$f":"EmpDetail!A99","v":96},{"$f":"EmpDetail!B99","v":0},{"$f":"EmpDetail!C99","v":0},{"$f":"EmpDetail!D99","v":0},{"$f":"EmpDetail!J99","v":0},{"$f":"EmpDetail!E99","v":"00:00:00"},{"$f":"EmpDetail!F99","v":"00:00:00"},{"$f":"EmpDetail!K99","v":0},{"$f":"EmpDetail!I99","v":"00:00:00"},{"$f":"EmpDetail!V99","v":0},{"$f":"EmpDetail!U99","v":0},{"$f":"EmpDetail!Y99","v":0},{"$f":"EmpDetail!X99","v":0},{"$f":"EmpDetail!Z99","v":0},{"$f":"EmpDetail!AB99","v":0},{"$f":"EmpDetail!AF99","v":0},{"$f":"EmpDetail!AE99","v":0},{"$f":"EmpDetail!AD99","v":0}]
[null,{"$f":"EmpDetail!A100","v":97},{"$f":"EmpDetail!B100","v":0},{"$f":"EmpDetail!C100","v":0},{"$f":"EmpDetail!D100","v":0},{"$f":"EmpDetail!J100","v":0},{"$f":"EmpDetail!E100","v":"00:00:00"},{"$f":"EmpDetail!F100","v":"00:00:00"},{"$f":"EmpDetail!K100","v":0},{"$f":"EmpDetail!I100","v":"00:00:00"},{"$f":"EmpDetail!V100","v":0},{"$f":"EmpDetail!U100","v":0},{"$f":"EmpDetail!Y100","v":0},{"$f":"EmpDetail!X100","v":0},{"$f":"EmpDetail!Z100","v":0},{"$f":"EmpDetail!AB100","v":0},{"$f":"EmpDetail!AF100","v":0},{"$f":"EmpDetail!AE100","v":0},{"$f":"EmpDetail!AD100","v":0}]
[null,{"$f":"EmpDetail!A101","v":98},{"$f":"EmpDetail!B101","v":0},{"$f":"EmpDetail!C101","v":0},{"$f":"EmpDetail!D101","v":0},{"$f":"EmpDetail!J101","v":0},{"$f":"EmpDetail!E101","v":"00:00:00"},{"$f":"EmpDetail!F101","v":"00:00:00"},{"$f":"EmpDetail!K101","v":0},{"$f":"EmpDetail!I101","v":"00:00:00"},{"$f":"EmpDetail!V101","v":0},{"$f":"EmpDetail!U101","v":0},{"$f":"EmpDetail!Y101","v":0},{"$f":"EmpDetail!X101","v":0},{"$f":"EmpDetail!Z101","v":0},{"$f":"EmpDetail!AB101","v":0},{"$f":"EmpDetail!AF101","v":0},{"$f":"EmpDetail!AE101","v":0},{"$f":"EmpDetail!AD101","v":0}]
[null,{"$f":"EmpDetail!A102","v":99},{"$f":"EmpDetail!B102","v":0},{"$f":"EmpDetail!C102","v":0},{"$f":"EmpDetail!D102","v":0},{"$f":"EmpDetail!J102","v":0},{"$f":"EmpDetail!E102","v":"00:00:00"},{"$f":"EmpDetail!F102","v":"00:00:00"},{"$f":"EmpDetail!K102","v":0},{"$f":"EmpDetail!I102","v":"00:00:00"},{"$f":"EmpDetail!V102","v":0},{"$f":"EmpDetail!U102","v":0},{"$f":"EmpDetail!Y102","v":0},{"$f":"EmpDetail!X102","v":0},{"$f":"EmpDetail!Z102","v":0},{"$f":"EmpDetail!AB102","v":0},{"$f":"EmpDetail!AF102","v":0},{"$f":"EmpDetail!AE102","v":0},{"$f":"EmpDetail!AD102","v":0}]
[null,{"$f":"EmpDetail!A103","v":100},{"$f":"EmpDetail!B103","v":0},{"$f":"EmpDetail!C103","v":0},{"$f":"EmpDetail!D103","v":0},{"$f":"EmpDetail!J103","v":0},{"$f":"EmpDetail!E103","v":"00:00:00"},{"$f":"EmpDetail!F103","v":"00:00:00"},{"$f":"EmpDetail!K103","v":0},{"$f":"EmpDetail!I103","v":"00:00:00"},{"$f":"EmpDetail!V103","v":0},{"$f":"EmpDetail!U103","v":0},{"$f":"EmpDetail!Y103","v":0},{"$f":"EmpDetail!X103","v":0},{"$f":"EmpDetail!Z103","v":0},{"$f":"EmpDetail!AB103","v":0},{"$f":"EmpDetail!AF103","v":0},{"$f":"EmpDetail!AE103","v":0},{"$f":"EmpDetail!AD103","v":0}]
[]
[null,null,null,null,null,null,null,null,null,null,null,null,null,{"$f":"Master!B2","v":"प्रधानाचार्य"}]
[null,null,null,null,null,null,null,null,null,null,null,null,null,{"$f":"Master!B3","v":"राजकीय उच्च माध्यमिक विद्यालय "}]
[null,null,null,null,null,null,null,null,null,null,null,null,null,{"$f":"Master!B4","v":"चौगाई]टोंक"}]

{"sheet":"Time Table","index":22,"n_rows":105,"n_cols":31,"rows_kept":105,"cut":false,"hidden":true,"merged":[[3,25,3,27],[3,7,3,9],[3,10,3,12],[3,13,3,15],[3,16,3,18],[3,19,3,21],[3,22,3,24],[0,1,0,27],[1,9,1,14],[1,15,1,16],[2,23,2,24],[2,25,2,27],[3,0,4,0],[3,1,4,1],[3,2,4,2],[3,3,4,3],[3,4,3,6]]}
[null,{"$f":"Master!G2&Master!H2","v":"कार्यालय&राजकीय उच्च माध्यमिक विद्यालय ]चौगाई]टोंक"}]
[null,null,null,null,null,null,null,null,null,"v/;kidokj le; foHkkx pdz&",null,null,null,null,null,{"$f":"Master!E3","v":"2021-22"}]
[null,"dzekad&",{"$f":"Master!H3&Master!I3&Master!J3&Master!E3&\"/\"","v":"राउमावि/चौगाई/संस्था/2021-22/"},null,null,null,null,null,null,null,null,null,null,null,null,null,null,null,null,null,null,null,null,"fnukad&",null,{"$f":"TODAY()","v":"2021-06-19"}]
["dkfeZd dz0la0","dz0la0","uke v/;kid","inuke","dkyka'k 1",null,null,"dkyka'k 2",null,null,"dkyka'k 3",null,null,"dkyka'k 4",null,null,"dkyka'k 5",null,null,"dkyka'k 6",null,null,"dkyka'k 7",null,null,"dkyka'k 8"]
[null,null,null,null,"fo\"k;","d{kk","fnu","fo\"k;","d{kk","fnu","fo\"k;","d{kk","fnu","fo\"k;","d{kk","fnu","fo\"k;","d{kk","fnu","fo\"k;","d{kk","fnu","fo\"k;","d{kk","fnu","fo\"k;","d{kk","fnu"]
[1,{"$f":"IF(C6=\"\",\"\",1)","v":1},{"$f":"IF(ISNA(VLOOKUP($A6,$AC$6:$AE$105,2,FALSE)),\"\",VLOOKUP($A6,$AC$6:$AE$105,2,FALSE))","v":"fd'ku yky cSjok"},{"$f":"IF(ISNA(VLOOKUP($A6,$AC$6:$AE$105,3,FALSE)),\"\",VLOOKUP($A6,$AC$6:$AE$105,3,FALSE))","v":"प्रधानाचार्य"},null,null,null,null,null,null,null,null,null,"आजादी के बाद का भारत","12,A","6",null,null,null,"आजादी के बाद का भारत","11,A","5-6","आजादी के बाद का भारत","11,A","5-6","आजादी के बाद का भारत","12,A","6",1,{"$f":"EmpDetail!B4","v":"fd'ku yky cSjok"},{"$f":"EmpDetail!C4","v":"प्रधानाचार्य"}]
[2,{"$f":"IF(C7=\"\",\"\",B6+1)","v":2},{"$f":"IF(ISNA(VLOOKUP($A7,$AC$6:$AE$105,2,FALSE)),\"\",VLOOKUP($A7,$AC$6:$AE$105,2,FALSE))","v":"iwj.k pUn y{kdkj"},{"$f":"IF(ISNA(VLOOKUP($A7,$AC$6:$AE$105,3,FALSE)),\"\",VLOOKUP($A7,$AC$6:$AE$105,3,FALSE))","v":"व्याख्याता"},"इतिहास","12,A","1-6",null,null,null,"इतिहास","11,A","1-6","सामाजिक विज्ञान","10,A","1-6",null,null,null,"इतिहास","11,A","1-4","सामाजिक विज्ञान","10,A","3-4","इतिहास","12,A","1-5",2,{"$f":"EmpDetail!B5","v":"iwj.k pUn y{kdkj"},{"$f":"EmpDetail!C5","v":"व्याख्याता"}]
[3,{"$f":"IF(C8=\"\",\"\",B7+1)","v":3},"jktsUnz dqekj tSu","व्याख्याता","हिंदी साहित्य","11,A","1-6","हिंदी साहित्य","12,A","1-6",null,null,null,"हिंदी अनिवार्य","11,A","1-6","हिंदी अनिवार्य","12,A","1-6",null,null,null,"हिंदी साहित्य","12,A","3-6","हिंदी साहित्य","11,A","3-6",3,{"$f":"EmpDetail!B6","v":"jktsUnz dqekj tSu"},{"$f":"EmpDetail!C6","v":"व्याख्याता"}]
[4,4,"fd'ku yky cSjok","व्याख्याता","संस्कृत","6,A","1-5-6","संस्कृत","7,A","1-5-6","संस्कृत","9,A","1-5-6",null,null,null,"संस्कृत","10,A","1-5-6","संस्कृत","8,A","1-5-6","कला शिक्षा","7,A",null,"पुस्तकालय","8,A",null,4,{"$f":"EmpDetail!B7","v":"fd'ku yky cSjok"},{"$f":"EmpDetail!C7","v":"व्याख्याता"}]
[5,5,"lR;ukjk;.k 'kekZ","वरिष्ठ अध्यापक","हिंदी","7,A","1-6","हिंदी","9,A","1-6","हिंदी","6,A","1-6","हिंदी","8,A","1-6",null,null,null,"हिंदी","10,A","1-6","कला शिक्षा","8,A","1-2-3-6","कला शिक्षा","10,A","5-6",5,{"$f":"EmpDetail!B8","v":"lR;ukjk;.k 'kekZ"},{"$f":"EmpDetail!C8","v":"वरिष्ठ अध्यापक"}]
[6,6,"iq\"ik tSu","वरिष्ठ अध्यापक","विज्ञान","8,A","1-6","विज्ञान","6,A","1-6","विज्ञान","10,A","1-6","अंग्रेजी","7,A","1-6","विज्ञान","7,A","1-6","विज्ञान","9,A","1-6","विज्ञान","10,A","5-6","कला शिक्षा","6,A","1-3-4-6",6,{"$f":"EmpDetail!B9","v":"iq\"ik tSu"},{"$f":"EmpDetail!C9","v":"वरिष्ठ अध्यापक"}]
[31,7,"dtksMey eh.kk","अध्यापक ग्रेड III","सामाजिक विज्ञान","9,A","1-6","भूगोल","11,A","1-6",null,null,null,"भूगोल","12,A","1-5","अंग्रेजी","8,A","1-6","भूगोल","12,A","1-6","भूगोल","11,A","1-4",null,null,null,7,{"$f":"EmpDetail!B10","v":"vk'kkjke eh.kk"},{"$f":"EmpDetail!C10","v":"वरिष्ठ अध्यापक"}]
[8,8,"t;iky flag","वरिष्ठ अध्यापक","गणित","10,A","1-6","गणित","8,A","1-6","गणित","7,A","1-6",null,null,null,"गणित","9,A","1-6","गणित","6,A","1-6","गणित","10,A","1-2-3-6","गणित","7,A","1-3-4-6",8,{"$f":"EmpDetail!B11","v":"t;iky flag"},{"$f":"EmpDetail!C11","v":"वरिष्ठ अध्यापक"}]
[9,9,"jkeizlkn jsxj","वरिष्ठ अध्यापक",null,null,null,null,null,null,"सामाजिक विज्ञान","8,A","1-6","सामाजिक विज्ञान","6,A","1-6","स्वा शा शि","5,A","1-6","स्वा शा शि","7,A","1-3-4-6",null,null,null,"समा उत्पा कार्य","10,A","1-2",9,{"$f":"EmpDetail!B12","v":"jkeizlkn jsxj"},{"$f":"EmpDetail!C12","v":"वरिष्ठ अध्यापक"}]
[10,10,"egsUnz dqekj tkV","शारीरिक शिक्षक","हिंदी","3A-4A","1-6","हिंदी","1A-2A","1-6","हिंदी","5,A","1-6","हिंदी","1A-2A","1-6","स्वा शा शि","1A-2A","1-4-5-6","हिंदी","3A-4A","1-6",null,null,null,"हिंदी","5,A","1-6",10,{"$f":"EmpDetail!B13","v":"egsUnz dqekj tkV"},{"$f":"EmpDetail!C13","v":"शारीरिक शिक्षक"}]
[11,11,"NksVw yky jsxj","अध्यापक ग्रेड III","गणित","5,A","1-6","गणित","3A-4A","1-6","गणित","1A-2A","1-6","गणित","5,A","1-6","समा उत्पा कार्य","6,A","1-4-5-6",null,null,null,"सामाजिक विज्ञान","7,A","1-6",null,null,null,11,{"$f":"EmpDetail!B14","v":"NksVw yky jsxj"},{"$f":"EmpDetail!C14","v":"अध्यापक ग्रेड III"}]
[12,12,"dUgS;k yky egkoj","अध्यापक ग्रेड III",null,null,null,"अंग्रेजी","10,A","1-6","अंग्रेजी","12,A","1-6","अंग्रेजी","9,A","1-6","अंग्रेजी","11,A","1-6","अंग्रेजी","5,A","1-6","अंग्रेजी","6,A","1-6","सूचना प्रोद्योगिकी","9,A","1-2",12,{"$f":"EmpDetail!B15","v":"dUgS;k yky egkoj"},{"$f":"EmpDetail!C15","v":"अध्यापक ग्रेड III"}]
[13,13,"prqHkqZt tkV","अध्यापक ग्रेड III","अंग्रेजी","1A-2A","1-6",null,null,null,"अंग्रेजी","3A-4A","1-6","पर्यावरण अध्ययन","3A-4A","1-6","पर्यावरण अध्ययन","3A-4A","1-6","पर्यावरण अध्ययन","1A-2A","1-6","पर्यावरण अध्ययन","5,A","1-6","पर्यावरण अध्ययन","3A-4A","1-6",13,{"$f":"EmpDetail!B16","v":"prqHkqZt tkV"},{"$f":"EmpDetail!C16","v":"अध्यापक ग्रेड III"}]
[null,"","","",null,null,null,null,null,null,null,null,null,null,null,null,null,null,null,null,null,null,null,null,null,null,null,null,14,{"$f":"EmpDetail!B17","v":"vklsQk [kku"},{"$f":"EmpDetail!C17","v":"अध्यापक ग्रेड III"}]
[null,"","","",null,null,null,null,null,null,null,null,null,null,null,null,null,null,null,null,null,null,null,null,null,null,null,null,15,{"$f":"EmpDetail!B18","v":"lq'khyk cSjok"},{"$f":"EmpDetail!C18","v":"कनिष्ठ सहायक"}]
[null,"","","",null,null,null,null,null,null,null,null,null,null,null,null,null,null,null,null,null,null,null,null,null,null,null,null,16,{"$f":"EmpDetail!B19","v":"txnh'k izlkn rsyh"},{"$f":"EmpDetail!C19","v":"सहायक कर्मचारी"}]
[null,"","","",null,null,null,null,null,null,null,null,null,null,null,null,null,null,null,null,null,null,null,null,null,null,null,null,17,{"$f":"EmpDetail!B20","v":"jfoUnz dqekj tSu"},{"$f":"EmpDetail!C20","v":"अध्यापक ग्रेड III"}]
[null,"","","",null,null,null,null,null,null,null,null,null,null,null,null,null,null,null,null,null,null,null,null,null,null,null,null,18,{"$f":"EmpDetail!B21","v":" ';ke lqUnj ckxkSM"},{"$f":"EmpDetail!C21","v":"अध्यापक ग्रेड III"}]
[null,"","","",null,null,null,null,null,null,null,null,null,null,null,null,null,null,null,null,null,null,null,null,null,null,null,null,19,{"$f":"EmpDetail!B22","v":"d`\".kk 'kekZ"},{"$f":"EmpDetail!C22","v":"प्रबोधक"}]
[null,"","","",null,null,null,null,null,null,null,null,null,null,null,null,null,null,null,null,null,null,null,null,null,null,null,null,20,{"$f":"EmpDetail!B23","v":"/keZsUnz pkS/kjh"},{"$f":"EmpDetail!C23","v":"अध्यापक ग्रेड III"}]
[null,"","","",null,null,null,null,null,null,null,null,null,null,null,null,null,null,null,null,null,null,null,null,null,null,null,null,21,{"$f":"EmpDetail!B24","v":"izgykn ekyh"},{"$f":"EmpDetail!C24","v":"प्रबोधक"}]
[null,"","","",null,null,null,null,null,null,null,null,null,null,null,null,null,null,null,null,null,null,null,null,null,null,null,null,22,{"$f":"EmpDetail!B25","v":"jken;ky xqtZj"},{"$f":"EmpDetail!C25","v":"प्रबोधक"}]
[null,"","","",null,null,null,null,null,null,null,null,null,null,null,null,null,null,null,null,null,null,null,null,null,null,null,null,23,{"$f":"EmpDetail!B26","v":"vkSeizdk'k tkV"},{"$f":"EmpDetail!C26","v":"अध्यापक ग्रेड III"}]
[null,"","","",null,null,null,null,null,null,null,null,null,null,null,null,null,null,null,null,null,null,null,null,null,null,null,null,24,{"$f":"EmpDetail!B27","v":"vthr flag"},{"$f":"EmpDetail!C27","v":"अध्यापक ग्रेड III"}]
[null,"","","",null,null,null,null,null,null,null,null,null,null,null,null,null,null,null,null,null,null,null,null,null,null,null,null,25,{"$f":"EmpDetail!B28","v":"eq[rkj eha;k"},{"$f":"EmpDetail!C28","v":"प्रबोधक"}]
[null,"","","",null,null,null,null,null,null,null,null,null,null,null,null,null,null,null,null,null,null,null,null,null,null,null,null,26,{"$f":"EmpDetail!B29","v":"eks0 tehy "},{"$f":"EmpDetail!C29","v":"प्रबोधक"}]
[null,"","","",null,null,null,null,null,null,null,null,null,null,null,null,null,null,null,null,null,null,null,null,null,null,null,null,27,{"$f":"EmpDetail!B30","v":"lkaojey tkV"},{"$f":"EmpDetail!C30","v":"अध्यापक ग्रेड III"}]
[null,"","","",null,null,null,null,null,null,null,null,null,null,null,null,null,null,null,null,null,null,null,null,null,null,null,null,28,{"$f":"EmpDetail!B31","v":"pkS/kjh eksuk jkekorkj"},{"$f":"EmpDetail!C31","v":"अध्यापक ग्रेड III"}]
[null,"","","",null,null,null,null,null,null,null,null,null,null,null,null,null,null,null,null,null,null,null,null,null,null,null,null,29,{"$f":"EmpDetail!B32","v":"rkjkpUn tk;loky"},{"$f":"EmpDetail!C32","v":"प्रबोधक"}]
[null,"","","",null,null,null,null,null,null,null,null,null,null,null,null,null,null,null,null,null,null,null,null,null,null,null,null,30,{"$f":"EmpDetail!B33","v":"jketl ;kno"},{"$f":"EmpDetail!C33","v":"अध्यापक ग्रेड III"}]
[null,"","","",null,null,null,null,null,null,null,null,null,null,null,null,null,null,null,null,null,null,null,null,null,null,null,null,31,{"$f":"EmpDetail!B34","v":"dtksMey eh.kk"},{"$f":"EmpDetail!C34","v":"अध्यापक ग्रेड III"}]
[null,"","","",null,null,null,null,null,null,null,null,null,null,null,null,null,null,null,null,null,null,null,null,null,null,null,null,32,{"$f":"EmpDetail!B35","v":"/kaut; xkSRre"},{"$f":"EmpDetail!C35","v":"अध्यापक ग्रेड III"}]
[null,"","","",null,null,null,null,null,null,null,null,null,null,null,null,null,null,null,null,null,null,null,null,null,null,null,null,33,{"$f":"EmpDetail!B36","v":"d`\".kk xaxoky"},{"$f":"EmpDetail!C36","v":"अध्यापक ग्रेड III"}]
[null,"","","",null,null,null,null,null,null,null,null,null,null,null,null,null,null,null,null,null,null,null,null,null,null,null,null,34,{"$f":"EmpDetail!B37","v":"n'kjFk dqekj ;kno"},{"$f":"EmpDetail!C37","v":"अध्यापक ग्रेड III"}]
[null,"","","",null,null,null,null,null,null,null,null,null,null,null,null,null,null,null,null,null,null,null,null,null,null,null,null,35,{"$f":"EmpDetail!B38","v":"d`\".k yky tkV"},{"$f":"EmpDetail!C38","v":"अध्यापक ग्रेड III"}]
[null,"","","",null,null,null,null,null,null,null,null,null,null,null,null,null,null,null,null,null,null,null,null,null,null,null,null,36,{"$f":"EmpDetail!B39","v":"nhisUnz dqekj iztkir"},{"$f":"EmpDetail!C39","v":"अध्यापक ग्रेड III"}]
[null,"","","",null,null,null,null,null,null,null,null,null,null,null,null,null,null,null,null,null,null,null,null,null,null,null,null,37,{"$f":"EmpDetail!B40","v":"uohu dqekj"},{"$f":"EmpDetail!C40","v":"अध्यापक ग्रेड III"}]
[null,"","","",null,null,null,null,null,null,null,null,null,null,null,null,null,null,null,null,null,null,null,null,null,null,null,null,38,{"$f":"EmpDetail!B41","v":"ehrs'k dqekj 'kekZ"},{"$f":"EmpDetail!C41","v":"अध्यापक ग्रेड III"}]
[null,"","","",null,null,null,null,null,null,null,null,null,null,null,null,null,null,null,null,null,null,null,null,null,null,null,null,39,{"$f":"EmpDetail!B42","v":"eUtw eh.kk"},{"$f":"EmpDetail!C42","v":"वरिष्ठ अध्यापक"}]
[null,null,null,null,null,null,null,null,null,null,null,null,null,null,null,null,null,null,null,null,null,null,null,null,null,null,null,null,40,{"$f":"EmpDetail!B43","v":"eatw pkS/kjh"},{"$f":"EmpDetail!C43","v":"वरिष्ठ अध्यापक"}]
[null,null,null,null,null,null,null,null,null,null,null,null,null,null,null,null,null,null,null,null,null,{"$f":"Master!B2","v":"प्रधानाचार्य"},null,null,null,null,null,null,41,{"$f":"EmpDetail!B44","v":0},{"$f":"EmpDetail!C44","v":0}]
[null,null,null,null,null,null,null,null,null,null,null,null,null,null,null,null,null,null,null,null,null,{"$f":"Master!B3","v":"राजकीय उच्च माध्यमिक विद्यालय "},null,null,null,null,null,null,42,{"$f":"EmpDetail!B45","v":0},{"$f":"EmpDetail!C45","v":0}]
[null,null,null,null,null,null,null,null,null,null,null,null,null,null,null,null,null,null,null,null,null,{"$f":"Master!B4","v":"चौगाई]टोंक"},null,null,null,null,null,null,43,{"$f":"EmpDetail!B46","v":0},{"$f":"EmpDetail!#REF!","v":{"$error":"#REF!"}}]
[null,null,null,null,null,null,null,null,null,null,null,null,null,null,null,null,null,null,null,null,null,null,null,null,null,null,null,null,44,{"$f":"EmpDetail!B47","v":0},{"$f":"EmpDetail!C47","v":0}]
[null,null,null,null,null,null,null,null,null,null,null,null,null,null,null,null,null,null,null,null,null,null,null,null,null,null,null,null,45,{"$f":"EmpDetail!B48","v":0},{"$f":"EmpDetail!C48","v":0}]
[null,null,null,null,null,null,null,null,null,null,null,null,null,null,null,null,null,null,null,null,null,null,null,null,null,null,null,null,46,{"$f":"EmpDetail!B49","v":0},{"$f":"EmpDetail!C49","v":0}]
[null,null,null,null,null,null,null,null,null,null,null,null,null,null,null,null,null,null,null,null,null,null,null,null,null,null,null,null,47,{"$f":"EmpDetail!B50","v":0},{"$f":"EmpDetail!C50","v":0}]
[null,null,null,null,null,null,null,null,null,null,null,null,null,null,null,null,null,null,null,null,null,null,null,null,null,null,null,null,48,{"$f":"EmpDetail!B51","v":0},{"$f":"EmpDetail!C51","v":0}]
[null,null,null,null,null,null,null,null,null,null,null,null,null,null,null,null,null,null,null,null,null,null,null,null,null,null,null,null,49,{"$f":"EmpDetail!B52","v":0},{"$f":"EmpDetail!C52","v":0}]
[null,null,null,null,null,null,null,null,null,null,null,null,null,null,null,null,null,null,null,null,null,null,null,null,null,null,null,null,50,{"$f":"EmpDetail!B53","v":0},{"$f":"EmpDetail!C53","v":0}]
[null,null,null,null,null,null,null,null,null,null,null,null,null,null,null,null,null,null,null,null,null,null,null,null,null,null,null,null,51,{"$f":"EmpDetail!B54","v":0},{"$f":"EmpDetail!C54","v":0}]
[null,null,null,null,null,null,null,null,null,null,null,null,null,null,null,null,null,null,null,null,null,null,null,null,null,null,null,null,52,{"$f":"EmpDetail!B55","v":0},{"$f":"EmpDetail!C55","v":0}]
[null,null,null,null,null,null,null,null,null,null,null,null,null,null,null,null,null,null,null,null,null,null,null,null,null,null,null,null,53,{"$f":"EmpDetail!B56","v":0},{"$f":"EmpDetail!C56","v":0}]
[null,null,null,null,null,null,null,null,null,null,null,null,null,null,null,null,null,null,null,null,null,null,null,null,null,null,null,null,54,{"$f":"EmpDetail!B57","v":0},{"$f":"EmpDetail!C57","v":0}]
[null,null,null,null,null,null,null,null,null,null,null,null,null,null,null,null,null,null,null,null,null,null,null,null,null,null,null,null,55,{"$f":"EmpDetail!B58","v":0},{"$f":"EmpDetail!C58","v":0}]
[null,null,null,null,null,null,null,null,null,null,null,null,null,null,null,null,null,null,null,null,null,null,null,null,null,null,null,null,56,{"$f":"EmpDetail!B59","v":0},{"$f":"EmpDetail!C59","v":0}]
[null,null,null,null,null,null,null,null,null,null,null,null,null,null,null,null,null,null,null,null,null,null,null,null,null,null,null,null,57,{"$f":"EmpDetail!B60","v":0},{"$f":"EmpDetail!C60","v":0}]
[null,null,null,null,null,null,null,null,null,null,null,null,null,null,null,null,null,null,null,null,null,null,null,null,null,null,null,null,58,{"$f":"EmpDetail!B61","v":0},{"$f":"EmpDetail!C61","v":0}]
[null,null,null,null,null,null,null,null,null,null,null,null,null,null,null,null,null,null,null,null,null,null,null,null,null,null,null,null,59,{"$f":"EmpDetail!B62","v":0},{"$f":"EmpDetail!C62","v":0}]
[null,null,null,null,null,null,null,null,null,null,null,null,null,null,null,null,null,null,null,null,null,null,null,null,null,null,null,null,60,{"$f":"EmpDetail!B63","v":0},{"$f":"EmpDetail!C63","v":0}]
[null,null,null,null,null,null,null,null,null,null,null,null,null,null,null,null,null,null,null,null,null,null,null,null,null,null,null,null,61,{"$f":"EmpDetail!B64","v":0},{"$f":"EmpDetail!C64","v":0}]
[null,null,null,null,null,null,null,null,null,null,null,null,null,null,null,null,null,null,null,null,null,null,null,null,null,null,null,null,62,{"$f":"EmpDetail!B65","v":0},{"$f":"EmpDetail!C65","v":0}]
[null,null,null,null,null,null,null,null,null,null,null,null,null,null,null,null,null,null,null,null,null,null,null,null,null,null,null,null,63,{"$f":"EmpDetail!B66","v":0},{"$f":"EmpDetail!C66","v":0}]
[null,null,null,null,null,null,null,null,null,null,null,null,null,null,null,null,null,null,null,null,null,null,null,null,null,null,null,null,64,{"$f":"EmpDetail!B67","v":0},{"$f":"EmpDetail!C67","v":0}]
[null,null,null,null,null,null,null,null,null,null,null,null,null,null,null,null,null,null,null,null,null,null,null,null,null,null,null,null,65,{"$f":"EmpDetail!B68","v":0},{"$f":"EmpDetail!C68","v":0}]
[null,null,null,null,null,null,null,null,null,null,null,null,null,null,null,null,null,null,null,null,null,null,null,null,null,null,null,null,66,{"$f":"EmpDetail!B69","v":0},{"$f":"EmpDetail!C69","v":0}]
[null,null,null,null,null,null,null,null,null,null,null,null,null,null,null,null,null,null,null,null,null,null,null,null,null,null,null,null,67,{"$f":"EmpDetail!B70","v":0},{"$f":"EmpDetail!C70","v":0}]
[null,null,null,null,null,null,null,null,null,null,null,null,null,null,null,null,null,null,null,null,null,null,null,null,null,null,null,null,68,{"$f":"EmpDetail!B71","v":0},{"$f":"EmpDetail!C71","v":0}]
[null,null,null,null,null,null,null,null,null,null,null,null,null,null,null,null,null,null,null,null,null,null,null,null,null,null,null,null,69,{"$f":"EmpDetail!B72","v":0},{"$f":"EmpDetail!C72","v":0}]
[null,null,null,null,null,null,null,null,null,null,null,null,null,null,null,null,null,null,null,null,null,null,null,null,null,null,null,null,70,{"$f":"EmpDetail!B73","v":0},{"$f":"EmpDetail!C73","v":0}]
[null,null,null,null,null,null,null,null,null,null,null,null,null,null,null,null,null,null,null,null,null,null,null,null,null,null,null,null,71,{"$f":"EmpDetail!B74","v":0},{"$f":"EmpDetail!C74","v":0}]
[null,null,null,null,null,null,null,null,null,null,null,null,null,null,null,null,null,null,null,null,null,null,null,null,null,null,null,null,72,{"$f":"EmpDetail!B75","v":0},{"$f":"EmpDetail!C75","v":0}]
[null,null,null,null,null,null,null,null,null,null,null,null,null,null,null,null,null,null,null,null,null,null,null,null,null,null,null,null,73,{"$f":"EmpDetail!B76","v":0},{"$f":"EmpDetail!C76","v":0}]
[null,null,null,null,null,null,null,null,null,null,null,null,null,null,null,null,null,null,null,null,null,null,null,null,null,null,null,null,74,{"$f":"EmpDetail!B77","v":0},{"$f":"EmpDetail!C77","v":0}]
[null,null,null,null,null,null,null,null,null,null,null,null,null,null,null,null,null,null,null,null,null,null,null,null,null,null,null,null,75,{"$f":"EmpDetail!B78","v":0},{"$f":"EmpDetail!C78","v":0}]
[null,null,null,null,null,null,null,null,null,null,null,null,null,null,null,null,null,null,null,null,null,null,null,null,null,null,null,null,76,{"$f":"EmpDetail!B79","v":0},{"$f":"EmpDetail!C79","v":0}]
[null,null,null,null,null,null,null,null,null,null,null,null,null,null,null,null,null,null,null,null,null,null,null,null,null,null,null,null,77,{"$f":"EmpDetail!B80","v":0},{"$f":"EmpDetail!C80","v":0}]
[null,null,null,null,null,null,null,null,null,null,null,null,null,null,null,null,null,null,null,null,null,null,null,null,null,null,null,null,78,{"$f":"EmpDetail!B81","v":0},{"$f":"EmpDetail!C81","v":0}]
[null,null,null,null,null,null,null,null,null,null,null,null,null,null,null,null,null,null,null,null,null,null,null,null,null,null,null,null,79,{"$f":"EmpDetail!B82","v":0},{"$f":"EmpDetail!C82","v":0}]
[null,null,null,null,null,null,null,null,null,null,null,null,null,null,null,null,null,null,null,null,null,null,null,null,null,null,null,null,80,{"$f":"EmpDetail!B83","v":0},{"$f":"EmpDetail!C83","v":0}]
[null,null,null,null,null,null,null,null,null,null,null,null,null,null,null,null,null,null,null,null,null,null,null,null,null,null,null,null,81,{"$f":"EmpDetail!B84","v":0},{"$f":"EmpDetail!C84","v":0}]
[null,null,null,null,null,null,null,null,null,null,null,null,null,null,null,null,null,null,null,null,null,null,null,null,null,null,null,null,82,{"$f":"EmpDetail!B85","v":0},{"$f":"EmpDetail!C85","v":0}]
[null,null,null,null,null,null,null,null,null,null,null,null,null,null,null,null,null,null,null,null,null,null,null,null,null,null,null,null,83,{"$f":"EmpDetail!B86","v":0},{"$f":"EmpDetail!C86","v":0}]
[null,null,null,null,null,null,null,null,null,null,null,null,null,null,null,null,null,null,null,null,null,null,null,null,null,null,null,null,84,{"$f":"EmpDetail!B87","v":0},{"$f":"EmpDetail!C87","v":0}]
[null,null,null,null,null,null,null,null,null,null,null,null,null,null,null,null,null,null,null,null,null,null,null,null,null,null,null,null,85,{"$f":"EmpDetail!B88","v":0},{"$f":"EmpDetail!C88","v":0}]
[null,null,null,null,null,null,null,null,null,null,null,null,null,null,null,null,null,null,null,null,null,null,null,null,null,null,null,null,86,{"$f":"EmpDetail!B89","v":0},{"$f":"EmpDetail!C89","v":0}]
[null,null,null,null,null,null,null,null,null,null,null,null,null,null,null,null,null,null,null,null,null,null,null,null,null,null,null,null,87,{"$f":"EmpDetail!B90","v":0},{"$f":"EmpDetail!C90","v":0}]
[null,null,null,null,null,null,null,null,null,null,null,null,null,null,null,null,null,null,null,null,null,null,null,null,null,null,null,null,88,{"$f":"EmpDetail!B91","v":0},{"$f":"EmpDetail!C91","v":0}]
[null,null,null,null,null,null,null,null,null,null,null,null,null,null,null,null,null,null,null,null,null,null,null,null,null,null,null,null,89,{"$f":"EmpDetail!B92","v":0},{"$f":"EmpDetail!C92","v":0}]
[null,null,null,null,null,null,null,null,null,null,null,null,null,null,null,null,null,null,null,null,null,null,null,null,null,null,null,null,90,{"$f":"EmpDetail!B93","v":0},{"$f":"EmpDetail!C93","v":0}]
[null,null,null,null,null,null,null,null,null,null,null,null,null,null,null,null,null,null,null,null,null,null,null,null,null,null,null,null,91,{"$f":"EmpDetail!B94","v":0},{"$f":"EmpDetail!C94","v":0}]
[null,null,null,null,null,null,null,null,null,null,null,null,null,null,null,null,null,null,null,null,null,null,null,null,null,null,null,null,92,{"$f":"EmpDetail!B95","v":0},{"$f":"EmpDetail!C95","v":0}]
[null,null,null,null,null,null,null,null,null,null,null,null,null,null,null,null,null,null,null,null,null,null,null,null,null,null,null,null,93,{"$f":"EmpDetail!B96","v":0},{"$f":"EmpDetail!C96","v":0}]
[null,null,null,null,null,null,null,null,null,null,null,null,null,null,null,null,null,null,null,null,null,null,null,null,null,null,null,null,94,{"$f":"EmpDetail!B97","v":0},{"$f":"EmpDetail!C97","v":0}]
[null,null,null,null,null,null,null,null,null,null,null,null,null,null,null,null,null,null,null,null,null,null,null,null,null,null,null,null,95,{"$f":"EmpDetail!B98","v":0},{"$f":"EmpDetail!C98","v":0}]
[null,null,null,null,null,null,null,null,null,null,null,null,null,null,null,null,null,null,null,null,null,null,null,null,null,null,null,null,96,{"$f":"EmpDetail!B99","v":0},{"$f":"EmpDetail!C99","v":0}]
[null,null,null,null,null,null,null,null,null,null,null,null,null,null,null,null,null,null,null,null,null,null,null,null,null,null,null,null,97,{"$f":"EmpDetail!B100","v":0},{"$f":"EmpDetail!C100","v":0}]
[null,null,null,null,null,null,null,null,null,null,null,null,null,null,null,null,null,null,null,null,null,null,null,null,null,null,null,null,98,{"$f":"EmpDetail!B101","v":0},{"$f":"EmpDetail!C101","v":0}]
[null,null,null,null,null,null,null,null,null,null,null,null,null,null,null,null,null,null,null,null,null,null,null,null,null,null,null,null,99,{"$f":"EmpDetail!B102","v":0},{"$f":"EmpDetail!C102","v":0}]
[null,null,null,null,null,null,null,null,null,null,null,null,null,null,null,null,null,null,null,null,null,null,null,null,null,null,null,null,100,{"$f":"EmpDetail!B103","v":0},{"$f":"EmpDetail!C103","v":0}]

{"sheet":"Leveries Sanction","index":23,"n_rows":108,"n_cols":17,"rows_kept":108,"cut":false,"hidden":true,"merged":[[19,3,19,7],[1,1,1,7],[2,1,2,7],[3,1,3,7],[4,1,4,7],[5,1,5,7],[6,1,6,6]]}
[]
[null,{"$f":"Master!G2&Master!H2","v":"कार्यालय&राजकीय उच्च माध्यमिक विद्यालय ]चौगाई]टोंक"}]
[null,"dk;kZy; vkns'k"]
[null,"       jktLFkku ljdkj ,oa foRr foHkkx ds vkns'k dzekad& i-6¼2½@lkiz@3@81 fnukad&16-06-2015"]
[null,"ds vuqlkj prqFkZ Js.kh deZpkfj;ksa dks onhZ ds LFkku ij onhZ HkRrk Lohd`fr ds vkns'k gksus ds dkj.k bl"]
[null,{"$f":"\"dk;kZy; ds v/khu dk;Zjr fuEukafdr prqFkZ Js.kh deZpkfj;ksa dks foRrh; l= \"&Master!E3&\" ds onhZ HkRrs dh \"","v":"dk;kZy; ds v/khu dk;Zjr fuEukafdr prqFkZ Js.kh deZpkfj;ksa dks foRrh; l= 2021-22 ds onhZ HkRrs dh "}]
[null,"jkf'k dk udn Hkqxrkku djus dh ,r~n}kjk Lohd`fr iznku dh tkrh gS A"]
["dkfeZd dz0la0","dz0la0","uke dkfeZd","in","iq:\"k@ efgyk","csfld osru","Lohd`r jkf'k","fo0fo0"]
[15,{"$f":"IF(C9=\"\",\"\",1)","v":1},{"$f":"IF(ISNA(VLOOKUP($A9,$I$9:$O$108,2,FALSE)),\"\",VLOOKUP($A9,$I$9:$O$108,2,FALSE))","v":"lq'khyk cSjok"},{"$f":"IF(ISNA(VLOOKUP($A9,$I$9:$O$108,3,FALSE)),\"\",VLOOKUP($A9,$I$9:$O$108,3,FALSE))","v":"कनिष्ठ सहायक"},"पुरुष",{"$f":"IF(ISNA(VLOOKUP($A9,$I$9:$O$108,7,FALSE)),\"\",VLOOKUP($A9,$I$9:$O$108,7,FALSE))","v":14600},{"$f":"IF(E9=\"\",\"\",P9*Q9)","v":1650},null,{"$f":"EmpDetail!A4","v":1},{"$f":"EmpDetail!B4","v":"fd'ku yky cSjok"},{"$f":"EmpDetail!C4","v":"प्रधानाचार्य"},{"$f":"EmpDetail!D4","v":"राउमावि चौगाई"},{"$f":"EmpDetail!E4","v":"1962-01-10"},{"$f":"EmpDetail!J4","v":"L-16"},{"$f":"EmpDetail!K4","v":95900},{"$f":"IF(E9=\"पुरुष\",1650,1)","v":1650},{"$f":"IF(E9=\"महिला\",1950,1)","v":1}]
[null,{"$f":"IF(C10=\"\",\"\",B9+1)","v":""},{"$f":"IF(ISNA(VLOOKUP($A10,$I$9:$O$108,2,FALSE)),\"\",VLOOKUP($A10,$I$9:$O$108,2,FALSE))","v":""},{"$f":"IF(ISNA(VLOOKUP($A10,$I$9:$O$108,3,FALSE)),\"\",VLOOKUP($A10,$I$9:$O$108,3,FALSE))","v":""},null,{"$f":"IF(ISNA(VLOOKUP($A10,$I$9:$O$108,7,FALSE)),\"\",VLOOKUP($A10,$I$9:$O$108,7,FALSE))","v":""},{"$f":"IF(E10=\"\",\"\",P10*Q10)","v":""},null,{"$f":"EmpDetail!A5","v":2},{"$f":"EmpDetail!B5","v":"iwj.k pUn y{kdkj"},{"$f":"EmpDetail!C5","v":"व्याख्याता"},{"$f":"EmpDetail!D5","v":"राउमावि चौगाई"},{"$f":"EmpDetail!E5","v":"1971-07-08"},{"$f":"EmpDetail!J5","v":"L-12"},{"$f":"EmpDetail!K5","v":56100},{"$f":"IF(E10=\"पुरुष\",1650,1)","v":1},{"$f":"IF(E10=\"महिला\",1950,1)","v":1}]
[null,{"$f":"IF(C11=\"\",\"\",B10+1)","v":""},"","",null,"","",null,{"$f":"EmpDetail!A6","v":3},{"$f":"EmpDetail!B6","v":"jktsUnz dqekj tSu"},{"$f":"EmpDetail!C6","v":"व्याख्याता"},{"$f":"EmpDetail!D6","v":"राउमावि चौगाई"},{"$f":"EmpDetail!E6","v":"1968-09-14"},{"$f":"EmpDetail!J6","v":"L-12"},{"$f":"EmpDetail!K6","v":63100},1,1]
[null,"","","",null,"","",null,{"$f":"EmpDetail!A7","v":4},{"$f":"EmpDetail!B7","v":"fd'ku yky cSjok"},{"$f":"EmpDetail!C7","v":"व्याख्याता"},{"$f":"EmpDetail!D7","v":"राउमावि चौगाई"},{"$f":"EmpDetail!E7","v":"1974-07-07"},{"$f":"EmpDetail!J7","v":"L-12"},{"$f":"EmpDetail!K7","v":54500},1,1]
[null,"","","",null,"","",null,{"$f":"EmpDetail!A8","v":5},{"$f":"EmpDetail!B8","v":"lR;ukjk;.k 'kekZ"},{"$f":"EmpDetail!C8","v":"वरिष्ठ अध्यापक"},{"$f":"EmpDetail!D8","v":"राउमावि चौगाई"},{"$f":"EmpDetail!E8","v":"1962-07-01"},{"$f":"EmpDetail!J8","v":"L-13"},{"$f":"EmpDetail!K8","v":71300},1,1]
[null,"","","",null,"","",null,{"$f":"EmpDetail!A9","v":6},{"$f":"EmpDetail!B9","v":"iq\"ik tSu"},{"$f":"EmpDetail!C9","v":"वरिष्ठ अध्यापक"},{"$f":"EmpDetail!D9","v":"राउमावि चौगाई"},{"$f":"EmpDetail!E9","v":"1964-04-10"},{"$f":"EmpDetail!J9","v":"L-13"},{"$f":"EmpDetail!K9","v":73400},1,1]
[null,"","","",null,"","",null,{"$f":"EmpDetail!A10","v":7},{"$f":"EmpDetail!B10","v":"vk'kkjke eh.kk"},{"$f":"EmpDetail!C10","v":"वरिष्ठ अध्यापक"},{"$f":"EmpDetail!D10","v":"राउमावि चौगाई"},{"$f":"EmpDetail!E10","v":"1978-06-11"},{"$f":"EmpDetail!J10","v":"L-11"},{"$f":"EmpDetail!K10","v":52300},1,1]
[null,"","","",null,"","",null,{"$f":"EmpDetail!A11","v":8},{"$f":"EmpDetail!B11","v":"t;iky flag"},{"$f":"EmpDetail!C11","v":"वरिष्ठ अध्यापक"},{"$f":"EmpDetail!D11","v":"राउमावि चौगाई"},{"$f":"EmpDetail!E11","v":"1972-02-02"},{"$f":"EmpDetail!J11","v":"L-12"},{"$f":"EmpDetail!K11","v":63100},1,1]
[null,"","","",null,"","",null,{"$f":"EmpDetail!A12","v":9},{"$f":"EmpDetail!B12","v":"jkeizlkn jsxj"},{"$f":"EmpDetail!C12","v":"वरिष्ठ अध्यापक"},{"$f":"EmpDetail!D12","v":"राउमावि चौगाई"},{"$f":"EmpDetail!E12","v":"1978-06-01"},{"$f":"EmpDetail!J12","v":"L-11"},{"$f":"EmpDetail!K12","v":46500},1,1]
[null,"","","",null,"","",null,{"$f":"EmpDetail!A13","v":10},{"$f":"EmpDetail!B13","v":"egsUnz dqekj tkV"},{"$f":"EmpDetail!C13","v":"शारीरिक शिक्षक"},{"$f":"EmpDetail!D13","v":"राउमावि चौगाई"},{"$f":"EmpDetail!E13","v":"1976-01-30"},{"$f":"EmpDetail!J13","v":"L-12"},{"$f":"EmpDetail!K13","v":61300},1,1]
[null,null,";ksx",null,null,null,{"$f":"SUM(G9:G18)","v":1650},null,{"$f":"EmpDetail!A14","v":11},{"$f":"EmpDetail!B14","v":"NksVw yky jsxj"},{"$f":"EmpDetail!C14","v":"अध्यापक ग्रेड III"},{"$f":"EmpDetail!D14","v":"राउमावि चौगाई"},{"$f":"EmpDetail!E14","v":"1967-07-10"},{"$f":"EmpDetail!J14","v":"L-13"},{"$f":"EmpDetail!K14","v":65200}]
[null,null,"v{kjs&",",d gtkj N% lkS ipkl :i;s ek=",null,null,null,null,{"$f":"EmpDetail!A15","v":12},{"$f":"EmpDetail!B15","v":"dUgS;k yky egkoj"},{"$f":"EmpDetail!C15","v":"अध्यापक ग्रेड III"},{"$f":"EmpDetail!D15","v":"राउमावि चौगाई"},{"$f":"EmpDetail!E15","v":"1962-04-05"},{"$f":"EmpDetail!J15","v":"L-13"},{"$f":"EmpDetail!K15","v":65200}]
[null,null,null,null,null,null,{"$f":"Master!B2","v":"प्रधानाचार्य"},null,{"$f":"EmpDetail!A16","v":13},{"$f":"EmpDetail!B16","v":"prqHkqZt tkV"},{"$f":"EmpDetail!C16","v":"अध्यापक ग्रेड III"},{"$f":"EmpDetail!D16","v":"राउमावि चौगाई"},{"$f":"EmpDetail!E16","v":"1976-04-04"},{"$f":"EmpDetail!J16","v":"L-11"},{"$f":"EmpDetail!K16","v":52300}]
[null,null,null,null,null,null,{"$f":"Master!B3","v":"राजकीय उच्च माध्यमिक विद्यालय "},null,{"$f":"EmpDetail!A17","v":14},{"$f":"EmpDetail!B17","v":"vklsQk [kku"},{"$f":"EmpDetail!C17","v":"अध्यापक ग्रेड III"},{"$f":"EmpDetail!D17","v":"राउमावि चौगाई"},{"$f":"EmpDetail!E17","v":"1971-01-10"},{"$f":"EmpDetail!J17","v":"L-11"},{"$f":"EmpDetail!K17","v":52300}]
[null,null,null,null,null,null,{"$f":"Master!B4","v":"चौगाई]टोंक"},null,{"$f":"EmpDetail!A18","v":15},{"$f":"EmpDetail!B18","v":"lq'khyk cSjok"},{"$f":"EmpDetail!C18","v":"कनिष्ठ सहायक"},{"$f":"EmpDetail!D18","v":"राउमावि चौगाई"},{"$f":"EmpDetail!E18","v":"1995-01-01"},{"$f":"EmpDetail!J18","v":"L-5"},{"$f":"EmpDetail!K18","v":14600}]
[null,"dzekad&",{"$f":"Master!H3&Master!I3&Master!J3&Master!F4&\"/\"","v":"राउमावि/चौगाई/संस्था/2019-2020/"},null,null,null,"fnukad&",{"$f":"TODAY()","v":"2021-06-19"},{"$f":"EmpDetail!A19","v":16},{"$f":"EmpDetail!B19","v":"txnh'k izlkn rsyh"},{"$f":"EmpDetail!C19","v":"सहायक कर्मचारी"},{"$f":"EmpDetail!D19","v":"राउमावि चौगाई"},{"$f":"EmpDetail!E19","v":"1962-06-04"},{"$f":"EmpDetail!J19","v":"L-5"},{"$f":"EmpDetail!K19","v":34700}]
[null,null,"izfrfyfi lwpukFkZ ,oa ikyukFkZ",null,null,null,null,null,{"$f":"EmpDetail!A20","v":17},{"$f":"EmpDetail!B20","v":"jfoUnz dqekj tSu"},{"$f":"EmpDetail!C20","v":"अध्यापक ग्रेड III"},{"$f":"EmpDetail!D20","v":"राउप्रावि मोहिनी"},{"$f":"EmpDetail!E20","v":"1967-08-24"},{"$f":"EmpDetail!J20","v":"L-12"},{"$f":"EmpDetail!K20","v":65200}]
[null,1,"dks\"kkf/kdkjh@mi dks\"kkf/kdkjh",{"$f":"Master!H4","v":"पीपलू"},null,null,null,null,{"$f":"EmpDetail!A21","v":18},{"$f":"EmpDetail!B21","v":" ';ke lqUnj ckxkSM"},{"$f":"EmpDetail!C21","v":"अध्यापक ग्रेड III"},{"$f":"EmpDetail!D21","v":"राउप्रावि मोहिनी"},{"$f":"EmpDetail!E21","v":"1983-08-10"},{"$f":"EmpDetail!J21","v":"L-10"},{"$f":"EmpDetail!K21","v":40300}]
[null,2,"ys[kk 'kk[kk LFkkuh; dk;kZy;",null,null,null,null,null,{"$f":"EmpDetail!A22","v":19},{"$f":"EmpDetail!B22","v":"d`\".kk 'kekZ"},{"$f":"EmpDetail!C22","v":"प्रबोधक"},{"$f":"EmpDetail!D22","v":"राउप्रावि मोहिनी"},{"$f":"EmpDetail!E22","v":"1972-08-06"},{"$f":"EmpDetail!J22","v":"L-11"},{"$f":"EmpDetail!K22","v":45100}]
[null,3,"dkfeZd O;fDrxr iaftdk",null,null,null,null,null,{"$f":"EmpDetail!A23","v":20},{"$f":"EmpDetail!B23","v":"/keZsUnz pkS/kjh"},{"$f":"EmpDetail!C23","v":"अध्यापक ग्रेड III"},{"$f":"EmpDetail!D23","v":"राउप्रावि गोरधनपुरा"},{"$f":"EmpDetail!E23","v":"1990-03-05"},{"$f":"EmpDetail!J23","v":"L-10"},{"$f":"EmpDetail!K23","v":40300}]
[null,null,null,null,null,null,{"$f":"G21","v":"प्रधानाचार्य"},null,{"$f":"EmpDetail!A24","v":21},{"$f":"EmpDetail!B24","v":"izgykn ekyh"},{"$f":"EmpDetail!C24","v":"प्रबोधक"},{"$f":"EmpDetail!D24","v":"राउप्रावि गोरधनपुरा"},{"$f":"EmpDetail!E24","v":"1974-08-07"},{"$f":"EmpDetail!J24","v":"L-11"},{"$f":"EmpDetail!K24","v":46500}]
[null,null,null,null,null,null,{"$f":"G22","v":"राजकीय उच्च माध्यमिक विद्यालय "},null,{"$f":"EmpDetail!A25","v":22},{"$f":"EmpDetail!B25","v":"jken;ky xqtZj"},{"$f":"EmpDetail!C25","v":"प्रबोधक"},{"$f":"EmpDetail!D25","v":"राउप्रावि सोंदीफल"},{"$f":"EmpDetail!E25","v":"1977-08-18"},{"$f":"EmpDetail!J25","v":"L-11"},{"$f":"EmpDetail!K25","v":45100}]
[null,null,null,null,null,null,{"$f":"G23","v":"चौगाई]टोंक"},null,{"$f":"EmpDetail!A26","v":23},{"$f":"EmpDetail!B26","v":"vkSeizdk'k tkV"},{"$f":"EmpDetail!C26","v":"अध्यापक ग्रेड III"},{"$f":"EmpDetail!D26","v":"राउप्रावि सोंदीफल"},{"$f":"EmpDetail!E26","v":"1982-10-31"},{"$f":"EmpDetail!J26","v":"L-11"},{"$f":"EmpDetail!K26","v":45100}]
[null,null,null,null,null,null,null,null,{"$f":"EmpDetail!A27","v":24},{"$f":"EmpDetail!B27","v":"vthr flag"},{"$f":"EmpDetail!C27","v":"अध्यापक ग्रेड III"},{"$f":"EmpDetail!D27","v":"राप्रावि जानकीवल्लभपुरा"},{"$f":"EmpDetail!E27","v":"1987-08-08"},{"$f":"EmpDetail!J27","v":"L-10"},{"$f":"EmpDetail!K27","v":40300}]
[null,null,null,null,null,null,null,null,{"$f":"EmpDetail!A28","v":25},{"$f":"EmpDetail!B28","v":"eq[rkj eha;k"},{"$f":"EmpDetail!C28","v":"प्रबोधक"},{"$f":"EmpDetail!D28","v":"राप्रावि जानकीवल्लभपुरा"},{"$f":"EmpDetail!E28","v":"1976-07-04"},{"$f":"EmpDetail!J28","v":"L-11"},{"$f":"EmpDetail!K28","v":45100}]
[null,null,null,null,null,null,null,null,{"$f":"EmpDetail!A29","v":26},{"$f":"EmpDetail!B29","v":"eks0 tehy "},{"$f":"EmpDetail!C29","v":"प्रबोधक"},{"$f":"EmpDetail!D29","v":"राप्रावि रसूलपुरा"},{"$f":"EmpDetail!E29","v":"1968-09-15"},{"$f":"EmpDetail!J29","v":"L-11"},{"$f":"EmpDetail!K29","v":45100}]
[null,null,null,null,null,null,null,null,{"$f":"EmpDetail!A30","v":27},{"$f":"EmpDetail!B30","v":"lkaojey tkV"},{"$f":"EmpDetail!C30","v":"अध्यापक ग्रेड III"},{"$f":"EmpDetail!D30","v":"राप्रावि रसूलपुरा"},{"$f":"EmpDetail!E30","v":"1992-03-03"},{"$f":"EmpDetail!J30","v":"L-10"},{"$f":"EmpDetail!K30","v":38000}]
[null,null,null,null,null,null,null,null,{"$f":"EmpDetail!A31","v":28},{"$f":"EmpDetail!B31","v":"pkS/kjh eksuk jkekorkj"},{"$f":"EmpDetail!C31","v":"अध्यापक ग्रेड III"},{"$f":"EmpDetail!D31","v":"राप्रावि मोहिनी ढाणी बाढ"},{"$f":"EmpDetail!E31","v":"1990-01-05"},{"$f":"EmpDetail!J31","v":"L-10"},{"$f":"EmpDetail!K31","v":38000}]
[null,null,null,null,null,null,null,null,{"$f":"EmpDetail!A32","v":29},{"$f":"EmpDetail!B32","v":"rkjkpUn tk;loky"},{"$f":"EmpDetail!C32","v":"प्रबोधक"},{"$f":"EmpDetail!D32","v":"राप्रावि मोहिनी ढाणी बाढ"},{"$f":"EmpDetail!E32","v":"1976-11-11"},{"$f":"EmpDetail!J32","v":"L-11"},{"$f":"EmpDetail!K32","v":41300}]
[null,null,null,null,null,null,null,null,{"$f":"EmpDetail!A33","v":30},{"$f":"EmpDetail!B33","v":"jketl ;kno"},{"$f":"EmpDetail!C33","v":"अध्यापक ग्रेड III"},{"$f":"EmpDetail!D33","v":"राप्रावि बैरवा ढाणी सोन्दीफल"},{"$f":"EmpDetail!E33","v":"1970-06-12"},{"$f":"EmpDetail!J33","v":"L-12"},{"$f":"EmpDetail!K33","v":63100}]
[null,null,null,null,null,null,null,null,{"$f":"EmpDetail!A34","v":31},{"$f":"EmpDetail!B34","v":"dtksMey eh.kk"},{"$f":"EmpDetail!C34","v":"अध्यापक ग्रेड III"},{"$f":"EmpDetail!D34","v":"राप्रावि बैरवा ढाणी सोन्दीफल"},{"$f":"EmpDetail!E34","v":"1990-07-01"},{"$f":"EmpDetail!J34","v":"L-10"},{"$f":"EmpDetail!K34","v":38000}]
[null,null,null,null,null,null,null,null,{"$f":"EmpDetail!A35","v":32},{"$f":"EmpDetail!B35","v":"/kaut; xkSRre"},{"$f":"EmpDetail!C35","v":"अध्यापक ग्रेड III"},{"$f":"EmpDetail!D35","v":"राउप्रावि गोरधनपुरा"},{"$f":"EmpDetail!E35","v":"1986-08-25"},{"$f":"EmpDetail!J35","v":"L-10"},{"$f":"EmpDetail!K35","v":34800}]
[null,null,null,null,null,null,null,null,{"$f":"EmpDetail!A36","v":33},{"$f":"EmpDetail!B36","v":"d`\".kk xaxoky"},{"$f":"EmpDetail!C36","v":"अध्यापक ग्रेड III"},{"$f":"EmpDetail!D36","v":"राउप्रावि गोरधनपुरा"},{"$f":"EmpDetail!E36","v":"1995-06-20"},{"$f":"EmpDetail!J36","v":"L-10"},{"$f":"EmpDetail!K36","v":33800}]
[null,null,null,null,null,null,null,null,{"$f":"EmpDetail!A37","v":34},{"$f":"EmpDetail!B37","v":"n'kjFk dqekj ;kno"},{"$f":"EmpDetail!C37","v":"अध्यापक ग्रेड III"},{"$f":"EmpDetail!D37","v":"राउप्रावि सोंदीफल"},{"$f":"EmpDetail!E37","v":"1991-01-01"},{"$f":"EmpDetail!J37","v":"L-10"},{"$f":"EmpDetail!K37","v":23700}]
[null,null,null,null,null,null,null,null,{"$f":"EmpDetail!A38","v":35},{"$f":"EmpDetail!B38","v":"d`\".k yky tkV"},{"$f":"EmpDetail!C38","v":"अध्यापक ग्रेड III"},{"$f":"EmpDetail!D38","v":"राउप्रावि सोंदीफल"},{"$f":"EmpDetail!E38","v":"1990-07-18"},{"$f":"EmpDetail!J38","v":"L-10"},{"$f":"EmpDetail!K38","v":33800}]
[null,null,null,null,null,null,null,null,{"$f":"EmpDetail!A39","v":36},{"$f":"EmpDetail!B39","v":"nhisUnz dqekj iztkir"},{"$f":"EmpDetail!C39","v":"अध्यापक ग्रेड III"},{"$f":"EmpDetail!D39","v":"राउप्रावि सोंदीफल"},{"$f":"EmpDetail!E39","v":"1994-07-12"},{"$f":"EmpDetail!J39","v":"L-10"},{"$f":"EmpDetail!K39","v":33800}]
[null,null,null,null,null,null,null,null,{"$f":"EmpDetail!A40","v":37},{"$f":"EmpDetail!B40","v":"uohu dqekj"},{"$f":"EmpDetail!C40","v":"अध्यापक ग्रेड III"},{"$f":"EmpDetail!D40","v":"राउप्रावि मोहिनी"},{"$f":"EmpDetail!E40","v":"1995-04-13"},{"$f":"EmpDetail!J40","v":"L-10"},{"$f":"EmpDetail!K40","v":33800}]
[null,null,null,null,null,null,null,null,{"$f":"EmpDetail!A41","v":38},{"$f":"EmpDetail!B41","v":"ehrs'k dqekj 'kekZ"},{"$f":"EmpDetail!C41","v":"अध्यापक ग्रेड III"},{"$f":"EmpDetail!D41","v":"राउप्रावि मोहिनी"},{"$f":"EmpDetail!E41","v":"1989-08-13"},{"$f":"EmpDetail!J41","v":"L-10"},{"$f":"EmpDetail!K41","v":34800}]
[null,null,null,null,null,null,null,null,{"$f":"EmpDetail!A42","v":39},{"$f":"EmpDetail!B42","v":"eUtw eh.kk"},{"$f":"EmpDetail!C42","v":"वरिष्ठ अध्यापक"},{"$f":"EmpDetail!D42","v":"राउप्रावि गोरधनपुरा"},{"$f":"EmpDetail!E42","v":"1991-01-06"},{"$f":"EmpDetail!J42","v":"L-10"},{"$f":"EmpDetail!K42","v":33800}]
[null,null,null,null,null,null,null,null,{"$f":"EmpDetail!A43","v":40},{"$f":"EmpDetail!B43","v":"eatw pkS/kjh"},{"$f":"EmpDetail!C43","v":"वरिष्ठ अध्यापक"},{"$f":"EmpDetail!D43","v":"राउप्रावि सोंदीफल"},{"$f":"EmpDetail!E43","v":"1991-08-04"},{"$f":"EmpDetail!J43","v":"L-11"},{"$f":"EmpDetail!K43","v":26500}]
[null,null,null,null,null,null,null,null,{"$f":"EmpDetail!A44","v":41},{"$f":"EmpDetail!B44","v":0},{"$f":"EmpDetail!C44","v":0},{"$f":"EmpDetail!D44","v":0},{"$f":"EmpDetail!E44","v":"00:00:00"},{"$f":"EmpDetail!J44","v":"00:00:00"},{"$f":"EmpDetail!K44","v":0}]
[null,null,null,null,null,null,null,null,{"$f":"EmpDetail!A45","v":42},{"$f":"EmpDetail!B45","v":0},{"$f":"EmpDetail!C45","v":0},{"$f":"EmpDetail!D45","v":0},{"$f":"EmpDetail!E45","v":"00:00:00"},{"$f":"EmpDetail!J45","v":"00:00:00"},{"$f":"EmpDetail!K45","v":0}]
[null,null,null,null,null,null,null,null,{"$f":"EmpDetail!A46","v":43},{"$f":"EmpDetail!B46","v":0},{"$f":"EmpDetail!C46","v":0},{"$f":"EmpDetail!D46","v":0},{"$f":"EmpDetail!E46","v":"00:00:00"},{"$f":"EmpDetail!J46","v":"00:00:00"},{"$f":"EmpDetail!K46","v":0}]
[null,null,null,null,null,null,null,null,{"$f":"EmpDetail!A47","v":44},{"$f":"EmpDetail!B47","v":0},{"$f":"EmpDetail!C47","v":0},{"$f":"EmpDetail!D47","v":0},{"$f":"EmpDetail!E47","v":"00:00:00"},{"$f":"EmpDetail!J47","v":"00:00:00"},{"$f":"EmpDetail!K47","v":0}]
[null,null,null,null,null,null,null,null,{"$f":"EmpDetail!A48","v":45},{"$f":"EmpDetail!B48","v":0},{"$f":"EmpDetail!C48","v":0},{"$f":"EmpDetail!D48","v":0},{"$f":"EmpDetail!E48","v":"00:00:00"},{"$f":"EmpDetail!J48","v":"00:00:00"},{"$f":"EmpDetail!K48","v":0}]
[null,null,null,null,null,null,null,null,{"$f":"EmpDetail!A49","v":46},{"$f":"EmpDetail!B49","v":0},{"$f":"EmpDetail!C49","v":0},{"$f":"EmpDetail!D49","v":0},{"$f":"EmpDetail!E49","v":"00:00:00"},{"$f":"EmpDetail!J49","v":"00:00:00"},{"$f":"EmpDetail!K49","v":0}]
[null,null,null,null,null,null,null,null,{"$f":"EmpDetail!A50","v":47},{"$f":"EmpDetail!B50","v":0},{"$f":"EmpDetail!C50","v":0},{"$f":"EmpDetail!D50","v":0},{"$f":"EmpDetail!E50","v":"00:00:00"},{"$f":"EmpDetail!J50","v":"00:00:00"},{"$f":"EmpDetail!K50","v":0}]
[null,null,null,null,null,null,null,null,{"$f":"EmpDetail!A51","v":48},{"$f":"EmpDetail!B51","v":0},{"$f":"EmpDetail!C51","v":0},{"$f":"EmpDetail!D51","v":0},{"$f":"EmpDetail!E51","v":"00:00:00"},{"$f":"EmpDetail!J51","v":"00:00:00"},{"$f":"EmpDetail!K51","v":0}]
[null,null,null,null,null,null,null,null,{"$f":"EmpDetail!A52","v":49},{"$f":"EmpDetail!B52","v":0},{"$f":"EmpDetail!C52","v":0},{"$f":"EmpDetail!D52","v":0},{"$f":"EmpDetail!E52","v":"00:00:00"},{"$f":"EmpDetail!J52","v":"00:00:00"},{"$f":"EmpDetail!K52","v":0}]
[null,null,null,null,null,null,null,null,{"$f":"EmpDetail!A53","v":50},{"$f":"EmpDetail!B53","v":0},{"$f":"EmpDetail!C53","v":0},{"$f":"EmpDetail!D53","v":0},{"$f":"EmpDetail!E53","v":"00:00:00"},{"$f":"EmpDetail!J53","v":"00:00:00"},{"$f":"EmpDetail!K53","v":0}]
[null,null,null,null,null,null,null,null,{"$f":"EmpDetail!A54","v":51},{"$f":"EmpDetail!B54","v":0},{"$f":"EmpDetail!C54","v":0},{"$f":"EmpDetail!D54","v":0},{"$f":"EmpDetail!E54","v":"00:00:00"},{"$f":"EmpDetail!J54","v":"00:00:00"},{"$f":"EmpDetail!K54","v":0}]
[null,null,null,null,null,null,null,null,{"$f":"EmpDetail!A55","v":52},{"$f":"EmpDetail!B55","v":0},{"$f":"EmpDetail!C55","v":0},{"$f":"EmpDetail!D55","v":0},{"$f":"EmpDetail!E55","v":"00:00:00"},{"$f":"EmpDetail!J55","v":"00:00:00"},{"$f":"EmpDetail!K55","v":0}]
[null,null,null,null,null,null,null,null,{"$f":"EmpDetail!A56","v":53},{"$f":"EmpDetail!B56","v":0},{"$f":"EmpDetail!C56","v":0},{"$f":"EmpDetail!D56","v":0},{"$f":"EmpDetail!E56","v":"00:00:00"},{"$f":"EmpDetail!J56","v":"00:00:00"},{"$f":"EmpDetail!K56","v":0}]
[null,null,null,null,null,null,null,null,{"$f":"EmpDetail!A57","v":54},{"$f":"EmpDetail!B57","v":0},{"$f":"EmpDetail!C57","v":0},{"$f":"EmpDetail!D57","v":0},{"$f":"EmpDetail!E57","v":"00:00:00"},{"$f":"EmpDetail!J57","v":"00:00:00"},{"$f":"EmpDetail!K57","v":0}]
[null,null,null,null,null,null,null,null,{"$f":"EmpDetail!A58","v":55},{"$f":"EmpDetail!B58","v":0},{"$f":"EmpDetail!C58","v":0},{"$f":"EmpDetail!D58","v":0},{"$f":"EmpDetail!E58","v":"00:00:00"},{"$f":"EmpDetail!J58","v":"00:00:00"},{"$f":"EmpDetail!K58","v":0}]
[null,null,null,null,null,null,null,null,{"$f":"EmpDetail!A59","v":56},{"$f":"EmpDetail!B59","v":0},{"$f":"EmpDetail!C59","v":0},{"$f":"EmpDetail!D59","v":0},{"$f":"EmpDetail!E59","v":"00:00:00"},{"$f":"EmpDetail!J59","v":"00:00:00"},{"$f":"EmpDetail!K59","v":0}]
[null,null,null,null,null,null,null,null,{"$f":"EmpDetail!A60","v":57},{"$f":"EmpDetail!B60","v":0},{"$f":"EmpDetail!C60","v":0},{"$f":"EmpDetail!D60","v":0},{"$f":"EmpDetail!E60","v":"00:00:00"},{"$f":"EmpDetail!J60","v":"00:00:00"},{"$f":"EmpDetail!K60","v":0}]
[null,null,null,null,null,null,null,null,{"$f":"EmpDetail!A61","v":58},{"$f":"EmpDetail!B61","v":0},{"$f":"EmpDetail!C61","v":0},{"$f":"EmpDetail!D61","v":0},{"$f":"EmpDetail!E61","v":"00:00:00"},{"$f":"EmpDetail!J61","v":"00:00:00"},{"$f":"EmpDetail!K61","v":0}]
[null,null,null,null,null,null,null,null,{"$f":"EmpDetail!A62","v":59},{"$f":"EmpDetail!B62","v":0},{"$f":"EmpDetail!C62","v":0},{"$f":"EmpDetail!D62","v":0},{"$f":"EmpDetail!E62","v":"00:00:00"},{"$f":"EmpDetail!J62","v":"00:00:00"},{"$f":"EmpDetail!K62","v":0}]
[null,null,null,null,null,null,null,null,{"$f":"EmpDetail!A63","v":60},{"$f":"EmpDetail!B63","v":0},{"$f":"EmpDetail!C63","v":0},{"$f":"EmpDetail!D63","v":0},{"$f":"EmpDetail!E63","v":"00:00:00"},{"$f":"EmpDetail!J63","v":"00:00:00"},{"$f":"EmpDetail!K63","v":0}]
[null,null,null,null,null,null,null,null,{"$f":"EmpDetail!A64","v":61},{"$f":"EmpDetail!B64","v":0},{"$f":"EmpDetail!C64","v":0},{"$f":"EmpDetail!D64","v":0},{"$f":"EmpDetail!E64","v":"00:00:00"},{"$f":"EmpDetail!J64","v":"00:00:00"},{"$f":"EmpDetail!K64","v":0}]
[null,null,null,null,null,null,null,null,{"$f":"EmpDetail!A65","v":62},{"$f":"EmpDetail!B65","v":0},{"$f":"EmpDetail!C65","v":0},{"$f":"EmpDetail!D65","v":0},{"$f":"EmpDetail!E65","v":"00:00:00"},{"$f":"EmpDetail!J65","v":"00:00:00"},{"$f":"EmpDetail!K65","v":0}]
[null,null,null,null,null,null,null,null,{"$f":"EmpDetail!A66","v":63},{"$f":"EmpDetail!B66","v":0},{"$f":"EmpDetail!C66","v":0},{"$f":"EmpDetail!D66","v":0},{"$f":"EmpDetail!E66","v":"00:00:00"},{"$f":"EmpDetail!J66","v":"00:00:00"},{"$f":"EmpDetail!K66","v":0}]
[null,null,null,null,null,null,null,null,{"$f":"EmpDetail!A67","v":64},{"$f":"EmpDetail!B67","v":0},{"$f":"EmpDetail!C67","v":0},{"$f":"EmpDetail!D67","v":0},{"$f":"EmpDetail!E67","v":"00:00:00"},{"$f":"EmpDetail!J67","v":"00:00:00"},{"$f":"EmpDetail!K67","v":0}]
[null,null,null,null,null,null,null,null,{"$f":"EmpDetail!A68","v":65},{"$f":"EmpDetail!B68","v":0},{"$f":"EmpDetail!C68","v":0},{"$f":"EmpDetail!D68","v":0},{"$f":"EmpDetail!E68","v":"00:00:00"},{"$f":"EmpDetail!J68","v":"00:00:00"},{"$f":"EmpDetail!K68","v":0}]
[null,null,null,null,null,null,null,null,{"$f":"EmpDetail!A69","v":66},{"$f":"EmpDetail!B69","v":0},{"$f":"EmpDetail!C69","v":0},{"$f":"EmpDetail!D69","v":0},{"$f":"EmpDetail!E69","v":"00:00:00"},{"$f":"EmpDetail!J69","v":"00:00:00"},{"$f":"EmpDetail!K69","v":0}]
[null,null,null,null,null,null,null,null,{"$f":"EmpDetail!A70","v":67},{"$f":"EmpDetail!B70","v":0},{"$f":"EmpDetail!C70","v":0},{"$f":"EmpDetail!D70","v":0},{"$f":"EmpDetail!E70","v":"00:00:00"},{"$f":"EmpDetail!J70","v":"00:00:00"},{"$f":"EmpDetail!K70","v":0}]
[null,null,null,null,null,null,null,null,{"$f":"EmpDetail!A71","v":68},{"$f":"EmpDetail!B71","v":0},{"$f":"EmpDetail!C71","v":0},{"$f":"EmpDetail!D71","v":0},{"$f":"EmpDetail!E71","v":"00:00:00"},{"$f":"EmpDetail!J71","v":"00:00:00"},{"$f":"EmpDetail!K71","v":0}]
[null,null,null,null,null,null,null,null,{"$f":"EmpDetail!A72","v":69},{"$f":"EmpDetail!B72","v":0},{"$f":"EmpDetail!C72","v":0},{"$f":"EmpDetail!D72","v":0},{"$f":"EmpDetail!E72","v":"00:00:00"},{"$f":"EmpDetail!J72","v":"00:00:00"},{"$f":"EmpDetail!K72","v":0}]
[null,null,null,null,null,null,null,null,{"$f":"EmpDetail!A73","v":70},{"$f":"EmpDetail!B73","v":0},{"$f":"EmpDetail!C73","v":0},{"$f":"EmpDetail!D73","v":0},{"$f":"EmpDetail!E73","v":"00:00:00"},{"$f":"EmpDetail!J73","v":"00:00:00"},{"$f":"EmpDetail!K73","v":0}]
[null,null,null,null,null,null,null,null,{"$f":"EmpDetail!A74","v":71},{"$f":"EmpDetail!B74","v":0},{"$f":"EmpDetail!C74","v":0},{"$f":"EmpDetail!D74","v":0},{"$f":"EmpDetail!E74","v":"00:00:00"},{"$f":"EmpDetail!J74","v":"00:00:00"},{"$f":"EmpDetail!K74","v":0}]
[null,null,null,null,null,null,null,null,{"$f":"EmpDetail!A75","v":72},{"$f":"EmpDetail!B75","v":0},{"$f":"EmpDetail!C75","v":0},{"$f":"EmpDetail!D75","v":0},{"$f":"EmpDetail!E75","v":"00:00:00"},{"$f":"EmpDetail!J75","v":"00:00:00"},{"$f":"EmpDetail!K75","v":0}]
[null,null,null,null,null,null,null,null,{"$f":"EmpDetail!A76","v":73},{"$f":"EmpDetail!B76","v":0},{"$f":"EmpDetail!C76","v":0},{"$f":"EmpDetail!D76","v":0},{"$f":"EmpDetail!E76","v":"00:00:00"},{"$f":"EmpDetail!J76","v":"00:00:00"},{"$f":"EmpDetail!K76","v":0}]
[null,null,null,null,null,null,null,null,{"$f":"EmpDetail!A77","v":74},{"$f":"EmpDetail!B77","v":0},{"$f":"EmpDetail!C77","v":0},{"$f":"EmpDetail!D77","v":0},{"$f":"EmpDetail!E77","v":"00:00:00"},{"$f":"EmpDetail!J77","v":"00:00:00"},{"$f":"EmpDetail!K77","v":0}]
[null,null,null,null,null,null,null,null,{"$f":"EmpDetail!A78","v":75},{"$f":"EmpDetail!B78","v":0},{"$f":"EmpDetail!C78","v":0},{"$f":"EmpDetail!D78","v":0},{"$f":"EmpDetail!E78","v":"00:00:00"},{"$f":"EmpDetail!J78","v":"00:00:00"},{"$f":"EmpDetail!K78","v":0}]
[null,null,null,null,null,null,null,null,{"$f":"EmpDetail!A79","v":76},{"$f":"EmpDetail!B79","v":0},{"$f":"EmpDetail!C79","v":0},{"$f":"EmpDetail!D79","v":0},{"$f":"EmpDetail!E79","v":"00:00:00"},{"$f":"EmpDetail!J79","v":"00:00:00"},{"$f":"EmpDetail!K79","v":0}]
[null,null,null,null,null,null,null,null,{"$f":"EmpDetail!A80","v":77},{"$f":"EmpDetail!B80","v":0},{"$f":"EmpDetail!C80","v":0},{"$f":"EmpDetail!D80","v":0},{"$f":"EmpDetail!E80","v":"00:00:00"},{"$f":"EmpDetail!J80","v":"00:00:00"},{"$f":"EmpDetail!K80","v":0}]
[null,null,null,null,null,null,null,null,{"$f":"EmpDetail!A81","v":78},{"$f":"EmpDetail!B81","v":0},{"$f":"EmpDetail!C81","v":0},{"$f":"EmpDetail!D81","v":0},{"$f":"EmpDetail!E81","v":"00:00:00"},{"$f":"EmpDetail!J81","v":"00:00:00"},{"$f":"EmpDetail!K81","v":0}]
[null,null,null,null,null,null,null,null,{"$f":"EmpDetail!A82","v":79},{"$f":"EmpDetail!B82","v":0},{"$f":"EmpDetail!C82","v":0},{"$f":"EmpDetail!D82","v":0},{"$f":"EmpDetail!E82","v":"00:00:00"},{"$f":"EmpDetail!J82","v":"00:00:00"},{"$f":"EmpDetail!K82","v":0}]
[null,null,null,null,null,null,null,null,{"$f":"EmpDetail!A83","v":80},{"$f":"EmpDetail!B83","v":0},{"$f":"EmpDetail!C83","v":0},{"$f":"EmpDetail!D83","v":0},{"$f":"EmpDetail!E83","v":"00:00:00"},{"$f":"EmpDetail!J83","v":"00:00:00"},{"$f":"EmpDetail!K83","v":0}]
[null,null,null,null,null,null,null,null,{"$f":"EmpDetail!A84","v":81},{"$f":"EmpDetail!B84","v":0},{"$f":"EmpDetail!C84","v":0},{"$f":"EmpDetail!D84","v":0},{"$f":"EmpDetail!E84","v":"00:00:00"},{"$f":"EmpDetail!J84","v":"00:00:00"},{"$f":"EmpDetail!K84","v":0}]
[null,null,null,null,null,null,null,null,{"$f":"EmpDetail!A85","v":82},{"$f":"EmpDetail!B85","v":0},{"$f":"EmpDetail!C85","v":0},{"$f":"EmpDetail!D85","v":0},{"$f":"EmpDetail!E85","v":"00:00:00"},{"$f":"EmpDetail!J85","v":"00:00:00"},{"$f":"EmpDetail!K85","v":0}]
[null,null,null,null,null,null,null,null,{"$f":"EmpDetail!A86","v":83},{"$f":"EmpDetail!B86","v":0},{"$f":"EmpDetail!C86","v":0},{"$f":"EmpDetail!D86","v":0},{"$f":"EmpDetail!E86","v":"00:00:00"},{"$f":"EmpDetail!J86","v":"00:00:00"},{"$f":"EmpDetail!K86","v":0}]
[null,null,null,null,null,null,null,null,{"$f":"EmpDetail!A87","v":84},{"$f":"EmpDetail!B87","v":0},{"$f":"EmpDetail!C87","v":0},{"$f":"EmpDetail!D87","v":0},{"$f":"EmpDetail!E87","v":"00:00:00"},{"$f":"EmpDetail!J87","v":"00:00:00"},{"$f":"EmpDetail!K87","v":0}]
[null,null,null,null,null,null,null,null,{"$f":"EmpDetail!A88","v":85},{"$f":"EmpDetail!B88","v":0},{"$f":"EmpDetail!C88","v":0},{"$f":"EmpDetail!D88","v":0},{"$f":"EmpDetail!E88","v":"00:00:00"},{"$f":"EmpDetail!J88","v":"00:00:00"},{"$f":"EmpDetail!K88","v":0}]
[null,null,null,null,null,null,null,null,{"$f":"EmpDetail!A89","v":86},{"$f":"EmpDetail!B89","v":0},{"$f":"EmpDetail!C89","v":0},{"$f":"EmpDetail!D89","v":0},{"$f":"EmpDetail!E89","v":"00:00:00"},{"$f":"EmpDetail!J89","v":"00:00:00"},{"$f":"EmpDetail!K89","v":0}]
[null,null,null,null,null,null,null,null,{"$f":"EmpDetail!A90","v":87},{"$f":"EmpDetail!B90","v":0},{"$f":"EmpDetail!C90","v":0},{"$f":"EmpDetail!D90","v":0},{"$f":"EmpDetail!E90","v":"00:00:00"},{"$f":"EmpDetail!J90","v":"00:00:00"},{"$f":"EmpDetail!K90","v":0}]
[null,null,null,null,null,null,null,null,{"$f":"EmpDetail!A91","v":88},{"$f":"EmpDetail!B91","v":0},{"$f":"EmpDetail!C91","v":0},{"$f":"EmpDetail!D91","v":0},{"$f":"EmpDetail!E91","v":"00:00:00"},{"$f":"EmpDetail!J91","v":"00:00:00"},{"$f":"EmpDetail!K91","v":0}]
[null,null,null,null,null,null,null,null,{"$f":"EmpDetail!A92","v":89},{"$f":"EmpDetail!B92","v":0},{"$f":"EmpDetail!C92","v":0},{"$f":"EmpDetail!D92","v":0},{"$f":"EmpDetail!E92","v":"00:00:00"},{"$f":"EmpDetail!J92","v":"00:00:00"},{"$f":"EmpDetail!K92","v":0}]
[null,null,null,null,null,null,null,null,{"$f":"EmpDetail!A93","v":90},{"$f":"EmpDetail!B93","v":0},{"$f":"EmpDetail!C93","v":0},{"$f":"EmpDetail!D93","v":0},{"$f":"EmpDetail!E93","v":"00:00:00"},{"$f":"EmpDetail!J93","v":"00:00:00"},{"$f":"EmpDetail!K93","v":0}]
[null,null,null,null,null,null,null,null,{"$f":"EmpDetail!A94","v":91},{"$f":"EmpDetail!B94","v":0},{"$f":"EmpDetail!C94","v":0},{"$f":"EmpDetail!D94","v":0},{"$f":"EmpDetail!E94","v":"00:00:00"},{"$f":"EmpDetail!J94","v":"00:00:00"},{"$f":"EmpDetail!K94","v":0}]
[null,null,null,null,null,null,null,null,{"$f":"EmpDetail!A95","v":92},{"$f":"EmpDetail!B95","v":0},{"$f":"EmpDetail!C95","v":0},{"$f":"EmpDetail!D95","v":0},{"$f":"EmpDetail!E95","v":"00:00:00"},{"$f":"EmpDetail!J95","v":"00:00:00"},{"$f":"EmpDetail!K95","v":0}]
[null,null,null,null,null,null,null,null,{"$f":"EmpDetail!A96","v":93},{"$f":"EmpDetail!B96","v":0},{"$f":"EmpDetail!C96","v":0},{"$f":"EmpDetail!D96","v":0},{"$f":"EmpDetail!E96","v":"00:00:00"},{"$f":"EmpDetail!J96","v":"00:00:00"},{"$f":"EmpDetail!K96","v":0}]
[null,null,null,null,null,null,null,null,{"$f":"EmpDetail!A97","v":94},{"$f":"EmpDetail!B97","v":0},{"$f":"EmpDetail!C97","v":0},{"$f":"EmpDetail!D97","v":0},{"$f":"EmpDetail!E97","v":"00:00:00"},{"$f":"EmpDetail!J97","v":"00:00:00"},{"$f":"EmpDetail!K97","v":0}]
[null,null,null,null,null,null,null,null,{"$f":"EmpDetail!A98","v":95},{"$f":"EmpDetail!B98","v":0},{"$f":"EmpDetail!C98","v":0},{"$f":"EmpDetail!D98","v":0},{"$f":"EmpDetail!E98","v":"00:00:00"},{"$f":"EmpDetail!J98","v":"00:00:00"},{"$f":"EmpDetail!K98","v":0}]
[null,null,null,null,null,null,null,null,{"$f":"EmpDetail!A99","v":96},{"$f":"EmpDetail!B99","v":0},{"$f":"EmpDetail!C99","v":0},{"$f":"EmpDetail!D99","v":0},{"$f":"EmpDetail!E99","v":"00:00:00"},{"$f":"EmpDetail!J99","v":"00:00:00"},{"$f":"EmpDetail!K99","v":0}]
[null,null,null,null,null,null,null,null,{"$f":"EmpDetail!A100","v":97},{"$f":"EmpDetail!B100","v":0},{"$f":"EmpDetail!C100","v":0},{"$f":"EmpDetail!D100","v":0},{"$f":"EmpDetail!E100","v":"00:00:00"},{"$f":"EmpDetail!J100","v":"00:00:00"},{"$f":"EmpDetail!K100","v":0}]
[null,null,null,null,null,null,null,null,{"$f":"EmpDetail!A101","v":98},{"$f":"EmpDetail!B101","v":0},{"$f":"EmpDetail!C101","v":0},{"$f":"EmpDetail!D101","v":0},{"$f":"EmpDetail!E101","v":"00:00:00"},{"$f":"EmpDetail!J101","v":"00:00:00"},{"$f":"EmpDetail!K101","v":0}]
[null,null,null,null,null,null,null,null,{"$f":"EmpDetail!A102","v":99},{"$f":"EmpDetail!B102","v":0},{"$f":"EmpDetail!C102","v":0},{"$f":"EmpDetail!D102","v":0},{"$f":"EmpDetail!E102","v":"00:00:00"},{"$f":"EmpDetail!J102","v":"00:00:00"},{"$f":"EmpDetail!K102","v":0}]
[null,null,null,null,null,null,null,null,{"$f":"EmpDetail!A103","v":100},{"$f":"EmpDetail!B103","v":0},{"$f":"EmpDetail!C103","v":0},{"$f":"EmpDetail!D103","v":0},{"$f":"EmpDetail!E103","v":"00:00:00"},{"$f":"EmpDetail!J103","v":"00:00:00"},{"$f":"EmpDetail!K103","v":0}]

{"sheet":"GA 141","index":24,"n_rows":114,"n_cols":14,"rows_kept":114,"cut":false,"hidden":true,"merged":[[12,0,13,0],[12,4,12,5],[12,6,13,6],[1,0,1,6],[2,0,2,6],[3,0,3,6],[4,0,4,6],[5,0,5,6],[6,1,6,2],[6,4,6,6],[0,1,0,5],[28,5,28,6],[29,5,29,6],[30,5,30,6],[21,0,21,6],[22,1,22,6],[24,1,24,2],[25,1,25,2],[25,3,25,5],[7,0,7,1],[7,5,7,6],[8,0,8,6],[9,0,9,6],[11,0,11,6],[12,1,12,2],[12,3,13,3],[36,5,36,6],[37,5,37,6],[38,5,38,6],[33,1,33,2],[26,2,26,6],[27,0,27,2]]}
[null,"dkfeZd dh dze la[;k Emloyee Detail ls ns[kdj fy[ks&",null,null,null,null,1]
["GA-141"]
["jktLFkku ljdkj"]
["¼lHkh jkT; deZpkfj;ksa gsrw lsok izekf.kdj.k gsrw½"]
[{"$f":"Master!G2&Master!H2","v":"कार्यालय&राजकीय उच्च माध्यमिक विद्यालय ]चौगाई]टोंक"}]
["fujUrj ,oa ;ksX; lsok dk izek.k i="]
["in&",{"$f":"IF(ISNA(VLOOKUP($G1,$H$15:$N$1114,3,FALSE)),\"\",VLOOKUP($G1,$H$15:$N$114,3,FALSE))","v":"प्रधानाचार्य"},null,"inLFkkiu&",{"$f":"IF(ISNA(VLOOKUP($G1,$H$15:$N$1114,4,FALSE)),\"\",VLOOKUP($G1,$H$15:$N$114,4,FALSE))","v":"राउमावि चौगाई"}]
["lsokdky dk tks fnukad&",null,{"$f":"G26","v":"2020-04-01"},"ls","2021-03-31","rd Fkk] osru fcy] Hkqxrku"]
["ukekoyh] O;fDrxr QkbZy ls tks dk;kZy; esa izkIr gS tkap dj fy;k gS fuEufyf[kr lsokdky ds vykok"]
[" 'ks\"k lsokdky fujUrj ,oa ;ksX; ik;k x;k gS A"]
[]
["¼1½ mijksDr dky esa mUgksusa fuEufyf[kr ifjykHkksa dk miHkksx fd;k gS&",null,null,null,null,null,null,null,null,null,{"$f":"YEAR(L12)","v":2021},{"$f":"TODAY()","v":"2021-06-19"}]
["dz0la0","vof/k",null,"fu;qfDr ewy@dk;Zokgd","miHkksx fd;s x;s ifjykHk ,oa dk;Zokgd HkRrs",null,"fo'ks\"k fooj.k"]
[null,"dc ls","dc rd",null,"ewy","dk;Zokgd"]
[{"$f":"IF(B15=\"\",\"\",1)","v":1},{"$f":"G26","v":"2020-04-01"},"2021-06-30","मूल",{"$f":"IF(D15=\"कार्यवाहक\",\"\",IF(ISNA(VLOOKUP($G1,$H$15:$N$1114,7,FALSE)),\"\",VLOOKUP($G1,$H$15:$N$114,7,FALSE)))","v":95900},{"$f":"IF(D15=\"मूल\",\"\",IF(ISNA(VLOOKUP($G1,$H$15:$N$1114,7,FALSE)),\"\",VLOOKUP($G1,$H$15:$N$114,7,FALSE)))","v":""},{"$f":"IF(B15=\"\",\"\",\"fu;ekuqlkj HkRrs\")","v":"fu;ekuqlkj HkRrs"},{"$f":"EmpDetail!A4","v":1},{"$f":"EmpDetail!B4","v":"fd'ku yky cSjok"},{"$f":"EmpDetail!C4","v":"प्रधानाचार्य"},{"$f":"EmpDetail!D4","v":"राउमावि चौगाई"},{"$f":"EmpDetail!I4","v":"00:00:00"},{"$f":"EmpDetail!J4","v":"L-16"},{"$f":"EmpDetail!K4","v":95900}]
[{"$f":"IF(B16=\"\",\"\",A15+1)","v":2},{"$f":"C15+1","v":"2021-07-01"},"2021-03-31","मूल",98800,null,{"$f":"IF(B16=\"\",\"\",\"fu;ekuqlkj HkRrs\")","v":"fu;ekuqlkj HkRrs"},{"$f":"EmpDetail!A5","v":2},{"$f":"EmpDetail!B5","v":"iwj.k pUn y{kdkj"},{"$f":"EmpDetail!C5","v":"व्याख्याता"},{"$f":"EmpDetail!D5","v":"राउमावि चौगाई"},{"$f":"EmpDetail!I5","v":"00:00:00"},{"$f":"EmpDetail!J5","v":"L-12"},{"$f":"EmpDetail!K5","v":56100}]
[{"$f":"IF(B17=\"\",\"\",A16+1)","v":""},null,null,null,null,null,"",{"$f":"EmpDetail!A6","v":3},{"$f":"EmpDetail!B6","v":"jktsUnz dqekj tSu"},{"$f":"EmpDetail!C6","v":"व्याख्याता"},{"$f":"EmpDetail!D6","v":"राउमावि चौगाई"},{"$f":"EmpDetail!I6","v":"00:00:00"},{"$f":"EmpDetail!J6","v":"L-12"},{"$f":"EmpDetail!K6","v":63100}]
["",null,null,null,null,null,"",{"$f":"EmpDetail!A7","v":4},{"$f":"EmpDetail!B7","v":"fd'ku yky cSjok"},{"$f":"EmpDetail!C7","v":"व्याख्याता"},{"$f":"EmpDetail!D7","v":"राउमावि चौगाई"},{"$f":"EmpDetail!I7","v":"00:00:00"},{"$f":"EmpDetail!J7","v":"L-12"},{"$f":"EmpDetail!K7","v":54500}]
["",null,null,null,null,null,"",{"$f":"EmpDetail!A8","v":5},{"$f":"EmpDetail!B8","v":"lR;ukjk;.k 'kekZ"},{"$f":"EmpDetail!C8","v":"वरिष्ठ अध्यापक"},{"$f":"EmpDetail!D8","v":"राउमावि चौगाई"},{"$f":"EmpDetail!I8","v":"00:00:00"},{"$f":"EmpDetail!J8","v":"L-13"},{"$f":"EmpDetail!K8","v":71300}]
["",null,null,null,null,null,"",{"$f":"EmpDetail!A9","v":6},{"$f":"EmpDetail!B9","v":"iq\"ik tSu"},{"$f":"EmpDetail!C9","v":"वरिष्ठ अध्यापक"},{"$f":"EmpDetail!D9","v":"राउमावि चौगाई"},{"$f":"EmpDetail!I9","v":"00:00:00"},{"$f":"EmpDetail!J9","v":"L-13"},{"$f":"EmpDetail!K9","v":73400}]
[null,null,null,null,null,null,null,{"$f":"EmpDetail!A10","v":7},{"$f":"EmpDetail!B10","v":"vk'kkjke eh.kk"},{"$f":"EmpDetail!C10","v":"वरिष्ठ अध्यापक"},{"$f":"EmpDetail!D10","v":"राउमावि चौगाई"},{"$f":"EmpDetail!I10","v":"00:00:00"},{"$f":"EmpDetail!J10","v":"L-11"},{"$f":"EmpDetail!K10","v":52300}]
["¼2½ vU; fooj.k vUrj ck/kd o vekU; lsokdky ;fn dksbZ gks&",null,null,null,null,null,null,{"$f":"EmpDetail!A11","v":8},{"$f":"EmpDetail!B11","v":"t;iky flag"},{"$f":"EmpDetail!C11","v":"वरिष्ठ अध्यापक"},{"$f":"EmpDetail!D11","v":"राउमावि चौगाई"},{"$f":"EmpDetail!I11","v":"00:00:00"},{"$f":"EmpDetail!J11","v":"L-12"},{"$f":"EmpDetail!K11","v":63100}]
["uksV&","&dksbZ ugha",null,null,null,null,null,{"$f":"EmpDetail!A12","v":9},{"$f":"EmpDetail!B12","v":"jkeizlkn jsxj"},{"$f":"EmpDetail!C12","v":"वरिष्ठ अध्यापक"},{"$f":"EmpDetail!D12","v":"राउमावि चौगाई"},{"$f":"EmpDetail!I12","v":"00:00:00"},{"$f":"EmpDetail!J12","v":"L-11"},{"$f":"EmpDetail!K12","v":46500}]
[null,null,null,null,null,null,null,{"$f":"EmpDetail!A13","v":10},{"$f":"EmpDetail!B13","v":"egsUnz dqekj tkV"},{"$f":"EmpDetail!C13","v":"शारीरिक शिक्षक"},{"$f":"EmpDetail!D13","v":"राउमावि चौगाई"},{"$f":"EmpDetail!I13","v":"00:00:00"},{"$f":"EmpDetail!J13","v":"L-12"},{"$f":"EmpDetail!K13","v":61300}]
["Jh",{"$f":"IF(ISNA(VLOOKUP($G1,$H$15:$N$1114,2,FALSE)),\"\",VLOOKUP($G1,$H$15:$N$114,2,FALSE))","v":"fd'ku yky cSjok"},null,"fnukad&","2020-04-01","ls",{"$f":"E8","v":"2021-03-31"},{"$f":"EmpDetail!A14","v":11},{"$f":"EmpDetail!B14","v":"NksVw yky jsxj"},{"$f":"EmpDetail!C14","v":"अध्यापक ग्रेड III"},{"$f":"EmpDetail!D14","v":"राउमावि चौगाई"},{"$f":"EmpDetail!I14","v":"00:00:00"},{"$f":"EmpDetail!J14","v":"L-13"},{"$f":"EmpDetail!K14","v":65200}]
["rd",{"$f":"IF(ISNA(VLOOKUP($G1,$H$15:$N$1114,3,FALSE)),\"\",VLOOKUP($G1,$H$15:$N$114,3,FALSE))","v":"प्रधानाचार्य"},null,"ds in ij jgs gS budk osru fnukad&",null,null,"2020-04-01",{"$f":"EmpDetail!A15","v":12},{"$f":"EmpDetail!B15","v":"dUgS;k yky egkoj"},{"$f":"EmpDetail!C15","v":"अध्यापक ग्रेड III"},{"$f":"EmpDetail!D15","v":"राउमावि चौगाई"},{"$f":"EmpDetail!I15","v":"00:00:00"},{"$f":"EmpDetail!J15","v":"L-13"},{"$f":"EmpDetail!K15","v":65200}]
["ls",{"$f":"G25","v":"2021-03-31"},"rd dh vof/k esa bl dk;kZy; ls vkgfjr fd;k x;k gS A vr% mDr vof/k dh",null,null,null,null,{"$f":"EmpDetail!A16","v":13},{"$f":"EmpDetail!B16","v":"prqHkqZt tkV"},{"$f":"EmpDetail!C16","v":"अध्यापक ग्रेड III"},{"$f":"EmpDetail!D16","v":"राउमावि चौगाई"},{"$f":"EmpDetail!I16","v":"2008-07-02"},{"$f":"EmpDetail!J16","v":"L-11"},{"$f":"EmpDetail!K16","v":52300}]
["lsok,a izekf.kr dh tkrh gS A",null,null,null,null,null,null,{"$f":"EmpDetail!A17","v":14},{"$f":"EmpDetail!B17","v":"vklsQk [kku"},{"$f":"EmpDetail!C17","v":"अध्यापक ग्रेड III"},{"$f":"EmpDetail!D17","v":"राउमावि चौगाई"},{"$f":"EmpDetail!I17","v":"00:00:00"},{"$f":"EmpDetail!J17","v":"L-11"},{"$f":"EmpDetail!K17","v":52300}]
[null,null,null,null,null,{"$f":"Master!B2","v":"प्रधानाचार्य"},null,{"$f":"EmpDetail!A18","v":15},{"$f":"EmpDetail!B18","v":"lq'khyk cSjok"},{"$f":"EmpDetail!C18","v":"कनिष्ठ सहायक"},{"$f":"EmpDetail!D18","v":"राउमावि चौगाई"},{"$f":"EmpDetail!I18","v":"00:00:00"},{"$f":"EmpDetail!J18","v":"L-5"},{"$f":"EmpDetail!K18","v":14600}]
[null,null,null,null,null,{"$f":"Master!B3","v":"राजकीय उच्च माध्यमिक विद्यालय "},null,{"$f":"EmpDetail!A19","v":16},{"$f":"EmpDetail!B19","v":"txnh'k izlkn rsyh"},{"$f":"EmpDetail!C19","v":"सहायक कर्मचारी"},{"$f":"EmpDetail!D19","v":"राउमावि चौगाई"},{"$f":"EmpDetail!I19","v":"00:00:00"},{"$f":"EmpDetail!J19","v":"L-5"},{"$f":"EmpDetail!K19","v":34700}]
[null,null,null,null,null,{"$f":"Master!B4","v":"चौगाई]टोंक"},null,{"$f":"EmpDetail!A20","v":17},{"$f":"EmpDetail!B20","v":"jfoUnz dqekj tSu"},{"$f":"EmpDetail!C20","v":"अध्यापक ग्रेड III"},{"$f":"EmpDetail!D20","v":"राउप्रावि मोहिनी"},{"$f":"EmpDetail!I20","v":"00:00:00"},{"$f":"EmpDetail!J20","v":"L-12"},{"$f":"EmpDetail!K20","v":65200}]
["dzekad&",{"$f":"Master!H3&Master!I3&Master!J3&Master!E3&\"/\"","v":"राउमावि/चौगाई/संस्था/2021-22/"},null,null,null,"fnukad&",{"$f":"TODAY()","v":"2021-06-19"},{"$f":"EmpDetail!A21","v":18},{"$f":"EmpDetail!B21","v":" ';ke lqUnj ckxkSM"},{"$f":"EmpDetail!C21","v":"अध्यापक ग्रेड III"},{"$f":"EmpDetail!D21","v":"राउप्रावि मोहिनी"},{"$f":"EmpDetail!I21","v":"00:00:00"},{"$f":"EmpDetail!J21","v":"L-10"},{"$f":"EmpDetail!K21","v":40300}]
[null,"izfrfyfi lwpukFkZ ,oa ikyukFkZ",null,null,null,null,null,{"$f":"EmpDetail!A22","v":19},{"$f":"EmpDetail!B22","v":"d`\".kk 'kekZ"},{"$f":"EmpDetail!C22","v":"प्रबोधक"},{"$f":"EmpDetail!D22","v":"राउप्रावि मोहिनी"},{"$f":"EmpDetail!I22","v":"00:00:00"},{"$f":"EmpDetail!J22","v":"L-11"},{"$f":"EmpDetail!K22","v":45100}]
[1,"dks\"kkf/kdkjh@mi dks\"kkf/kdkjh",null,{"$f":"Master!H4","v":"पीपलू"},null,null,null,{"$f":"EmpDetail!A23","v":20},{"$f":"EmpDetail!B23","v":"/keZsUnz pkS/kjh"},{"$f":"EmpDetail!C23","v":"अध्यापक ग्रेड III"},{"$f":"EmpDetail!D23","v":"राउप्रावि गोरधनपुरा"},{"$f":"EmpDetail!I23","v":"00:00:00"},{"$f":"EmpDetail!J23","v":"L-10"},{"$f":"EmpDetail!K23","v":40300}]
[2,"ys[kk 'kk[kk LFkkuh; dk;kZy;",null,null,null,null,null,{"$f":"EmpDetail!A24","v":21},{"$f":"EmpDetail!B24","v":"izgykn ekyh"},{"$f":"EmpDetail!C24","v":"प्रबोधक"},{"$f":"EmpDetail!D24","v":"राउप्रावि गोरधनपुरा"},{"$f":"EmpDetail!I24","v":"00:00:00"},{"$f":"EmpDetail!J24","v":"L-11"},{"$f":"EmpDetail!K24","v":46500}]
[3,"dkfeZd O;fDrxr iaftdk",null,null,null,null,null,{"$f":"EmpDetail!A25","v":22},{"$f":"EmpDetail!B25","v":"jken;ky xqtZj"},{"$f":"EmpDetail!C25","v":"प्रबोधक"},{"$f":"EmpDetail!D25","v":"राउप्रावि सोंदीफल"},{"$f":"EmpDetail!I25","v":"00:00:00"},{"$f":"EmpDetail!J25","v":"L-11"},{"$f":"EmpDetail!K25","v":45100}]
[null,null,null,null,null,{"$f":"F29","v":"प्रधानाचार्य"},null,{"$f":"EmpDetail!A26","v":23},{"$f":"EmpDetail!B26","v":"vkSeizdk'k tkV"},{"$f":"EmpDetail!C26","v":"अध्यापक ग्रेड III"},{"$f":"EmpDetail!D26","v":"राउप्रावि सोंदीफल"},{"$f":"EmpDetail!I26","v":"00:00:00"},{"$f":"EmpDetail!J26","v":"L-11"},{"$f":"EmpDetail!K26","v":45100}]
[null,null,null,null,null,{"$f":"F30","v":"राजकीय उच्च माध्यमिक विद्यालय "},null,{"$f":"EmpDetail!A27","v":24},{"$f":"EmpDetail!B27","v":"vthr flag"},{"$f":"EmpDetail!C27","v":"अध्यापक ग्रेड III"},{"$f":"EmpDetail!D27","v":"राप्रावि जानकीवल्लभपुरा"},{"$f":"EmpDetail!I27","v":"00:00:00"},{"$f":"EmpDetail!J27","v":"L-10"},{"$f":"EmpDetail!K27","v":40300}]
[null,null,null,null,null,{"$f":"F31","v":"चौगाई]टोंक"},null,{"$f":"EmpDetail!A28","v":25},{"$f":"EmpDetail!B28","v":"eq[rkj eha;k"},{"$f":"EmpDetail!C28","v":"प्रबोधक"},{"$f":"EmpDetail!D28","v":"राप्रावि जानकीवल्लभपुरा"},{"$f":"EmpDetail!I28","v":"00:00:00"},{"$f":"EmpDetail!J28","v":"L-11"},{"$f":"EmpDetail!K28","v":45100}]
[null,null,null,null,null,null,null,{"$f":"EmpDetail!A29","v":26},{"$f":"EmpDetail!B29","v":"eks0 tehy "},{"$f":"EmpDetail!C29","v":"प्रबोधक"},{"$f":"EmpDetail!D29","v":"राप्रावि रसूलपुरा"},{"$f":"EmpDetail!I29","v":"00:00:00"},{"$f":"EmpDetail!J29","v":"L-11"},{"$f":"EmpDetail!K29","v":45100}]
[null,null,null,null,null,null,null,{"$f":"EmpDetail!A30","v":27},{"$f":"EmpDetail!B30","v":"lkaojey tkV"},{"$f":"EmpDetail!C30","v":"अध्यापक ग्रेड III"},{"$f":"EmpDetail!D30","v":"राप्रावि रसूलपुरा"},{"$f":"EmpDetail!I30","v":"00:00:00"},{"$f":"EmpDetail!J30","v":"L-10"},{"$f":"EmpDetail!K30","v":38000}]
[null,null,null,null,null,null,null,{"$f":"EmpDetail!A31","v":28},{"$f":"EmpDetail!B31","v":"pkS/kjh eksuk jkekorkj"},{"$f":"EmpDetail!C31","v":"अध्यापक ग्रेड III"},{"$f":"EmpDetail!D31","v":"राप्रावि मोहिनी ढाणी बाढ"},{"$f":"EmpDetail!I31","v":"00:00:00"},{"$f":"EmpDetail!J31","v":"L-10"},{"$f":"EmpDetail!K31","v":38000}]
[null,null,null,null,null,null,null,{"$f":"EmpDetail!A32","v":29},{"$f":"EmpDetail!B32","v":"rkjkpUn tk;loky"},{"$f":"EmpDetail!C32","v":"प्रबोधक"},{"$f":"EmpDetail!D32","v":"राप्रावि मोहिनी ढाणी बाढ"},{"$f":"EmpDetail!I32","v":"00:00:00"},{"$f":"EmpDetail!J32","v":"L-11"},{"$f":"EmpDetail!K32","v":41300}]
[null,null,null,null,null,null,null,{"$f":"EmpDetail!A33","v":30},{"$f":"EmpDetail!B33","v":"jketl ;kno"},{"$f":"EmpDetail!C33","v":"अध्यापक ग्रेड III"},{"$f":"EmpDetail!D33","v":"राप्रावि बैरवा ढाणी सोन्दीफल"},{"$f":"EmpDetail!I33","v":"00:00:00"},{"$f":"EmpDetail!J33","v":"L-12"},{"$f":"EmpDetail!K33","v":63100}]
[null,null,null,null,null,null,null,{"$f":"EmpDetail!A34","v":31},{"$f":"EmpDetail!B34","v":"dtksMey eh.kk"},{"$f":"EmpDetail!C34","v":"अध्यापक ग्रेड III"},{"$f":"EmpDetail!D34","v":"राप्रावि बैरवा ढाणी सोन्दीफल"},{"$f":"EmpDetail!I34","v":"00:00:00"},{"$f":"EmpDetail!J34","v":"L-10"},{"$f":"EmpDetail!K34","v":38000}]
[null,null,null,null,null,null,null,{"$f":"EmpDetail!A35","v":32},{"$f":"EmpDetail!B35","v":"/kaut; xkSRre"},{"$f":"EmpDetail!C35","v":"अध्यापक ग्रेड III"},{"$f":"EmpDetail!D35","v":"राउप्रावि गोरधनपुरा"},{"$f":"EmpDetail!I35","v":"2018-08-31"},{"$f":"EmpDetail!J35","v":"L-10"},{"$f":"EmpDetail!K35","v":34800}]
[null,null,null,null,null,null,null,{"$f":"EmpDetail!A36","v":33},{"$f":"EmpDetail!B36","v":"d`\".kk xaxoky"},{"$f":"EmpDetail!C36","v":"अध्यापक ग्रेड III"},{"$f":"EmpDetail!D36","v":"राउप्रावि गोरधनपुरा"},{"$f":"EmpDetail!I36","v":"2018-12-21"},{"$f":"EmpDetail!J36","v":"L-10"},{"$f":"EmpDetail!K36","v":33800}]
[null,null,null,null,null,null,null,{"$f":"EmpDetail!A37","v":34},{"$f":"EmpDetail!B37","v":"n'kjFk dqekj ;kno"},{"$f":"EmpDetail!C37","v":"अध्यापक ग्रेड III"},{"$f":"EmpDetail!D37","v":"राउप्रावि सोंदीफल"},{"$f":"EmpDetail!I37","v":"2018-09-29"},{"$f":"EmpDetail!J37","v":"L-10"},{"$f":"EmpDetail!K37","v":23700}]
[null,null,null,null,null,null,null,{"$f":"EmpDetail!A38","v":35},{"$f":"EmpDetail!B38","v":"d`\".k yky tkV"},{"$f":"EmpDetail!C38","v":"अध्यापक ग्रेड III"},{"$f":"EmpDetail!D38","v":"राउप्रावि सोंदीफल"},{"$f":"EmpDetail!I38","v":"2018-10-02"},{"$f":"EmpDetail!J38","v":"L-10"},{"$f":"EmpDetail!K38","v":33800}]
[null,null,null,null,null,null,null,{"$f":"EmpDetail!A39","v":36},{"$f":"EmpDetail!B39","v":"nhisUnz dqekj iztkir"},{"$f":"EmpDetail!C39","v":"अध्यापक ग्रेड III"},{"$f":"EmpDetail!D39","v":"राउप्रावि सोंदीफल"},{"$f":"EmpDetail!I39","v":"2019-03-08"},{"$f":"EmpDetail!J39","v":"L-10"},{"$f":"EmpDetail!K39","v":33800}]
[null,null,null,null,null,null,null,{"$f":"EmpDetail!A40","v":37},{"$f":"EmpDetail!B40","v":"uohu dqekj"},{"$f":"EmpDetail!C40","v":"अध्यापक ग्रेड III"},{"$f":"EmpDetail!D40","v":"राउप्रावि मोहिनी"},{"$f":"EmpDetail!I40","v":"2019-03-09"},{"$f":"EmpDetail!J40","v":"L-10"},{"$f":"EmpDetail!K40","v":33800}]
[null,null,null,null,null,null,null,{"$f":"EmpDetail!A41","v":38},{"$f":"EmpDetail!B41","v":"ehrs'k dqekj 'kekZ"},{"$f":"EmpDetail!C41","v":"अध्यापक ग्रेड III"},{"$f":"EmpDetail!D41","v":"राउप्रावि मोहिनी"},{"$f":"EmpDetail!I41","v":"2018-09-13"},{"$f":"EmpDetail!J41","v":"L-10"},{"$f":"EmpDetail!K41","v":34800}]
[null,null,null,null,null,null,null,{"$f":"EmpDetail!A42","v":39},{"$f":"EmpDetail!B42","v":"eUtw eh.kk"},{"$f":"EmpDetail!C42","v":"वरिष्ठ अध्यापक"},{"$f":"EmpDetail!D42","v":"राउप्रावि गोरधनपुरा"},{"$f":"EmpDetail!I42","v":"2020-09-29"},{"$f":"EmpDetail!J42","v":"L-10"},{"$f":"EmpDetail!K42","v":33800}]
[null,null,null,null,null,null,null,{"$f":"EmpDetail!A43","v":40},{"$f":"EmpDetail!B43","v":"eatw pkS/kjh"},{"$f":"EmpDetail!C43","v":"वरिष्ठ अध्यापक"},{"$f":"EmpDetail!D43","v":"राउप्रावि सोंदीफल"},{"$f":"EmpDetail!I43","v":"2020-09-29"},{"$f":"EmpDetail!J43","v":"L-11"},{"$f":"EmpDetail!K43","v":26500}]
[null,null,null,null,null,null,null,{"$f":"EmpDetail!A44","v":41},{"$f":"EmpDetail!B44","v":0},{"$f":"EmpDetail!C44","v":0},{"$f":"EmpDetail!D44","v":0},{"$f":"EmpDetail!I44","v":"00:00:00"},{"$f":"EmpDetail!J44","v":0},{"$f":"EmpDetail!K44","v":0}]
[null,null,null,null,null,null,null,{"$f":"EmpDetail!A45","v":42},{"$f":"EmpDetail!B45","v":0},{"$f":"EmpDetail!C45","v":0},{"$f":"EmpDetail!D45","v":0},{"$f":"EmpDetail!I45","v":"00:00:00"},{"$f":"EmpDetail!J45","v":0},{"$f":"EmpDetail!K45","v":0}]
[null,null,null,null,null,null,null,{"$f":"EmpDetail!A46","v":43},{"$f":"EmpDetail!B46","v":0},{"$f":"EmpDetail!C46","v":0},{"$f":"EmpDetail!D46","v":0},{"$f":"EmpDetail!I46","v":"00:00:00"},{"$f":"EmpDetail!J46","v":0},{"$f":"EmpDetail!K46","v":0}]
[null,null,null,null,null,null,null,{"$f":"EmpDetail!A47","v":44},{"$f":"EmpDetail!B47","v":0},{"$f":"EmpDetail!C47","v":0},{"$f":"EmpDetail!D47","v":0},{"$f":"EmpDetail!I47","v":"00:00:00"},{"$f":"EmpDetail!J47","v":0},{"$f":"EmpDetail!K47","v":0}]
[null,null,null,null,null,null,null,{"$f":"EmpDetail!A48","v":45},{"$f":"EmpDetail!B48","v":0},{"$f":"EmpDetail!C48","v":0},{"$f":"EmpDetail!D48","v":0},{"$f":"EmpDetail!I48","v":"00:00:00"},{"$f":"EmpDetail!J48","v":0},{"$f":"EmpDetail!K48","v":0}]
[null,null,null,null,null,null,null,{"$f":"EmpDetail!A49","v":46},{"$f":"EmpDetail!B49","v":0},{"$f":"EmpDetail!C49","v":0},{"$f":"EmpDetail!D49","v":0},{"$f":"EmpDetail!I49","v":"00:00:00"},{"$f":"EmpDetail!J49","v":0},{"$f":"EmpDetail!K49","v":0}]
[null,null,null,null,null,null,null,{"$f":"EmpDetail!A50","v":47},{"$f":"EmpDetail!B50","v":0},{"$f":"EmpDetail!C50","v":0},{"$f":"EmpDetail!D50","v":0},{"$f":"EmpDetail!I50","v":"00:00:00"},{"$f":"EmpDetail!J50","v":0},{"$f":"EmpDetail!K50","v":0}]
[null,null,null,null,null,null,null,{"$f":"EmpDetail!A51","v":48},{"$f":"EmpDetail!B51","v":0},{"$f":"EmpDetail!C51","v":0},{"$f":"EmpDetail!D51","v":0},{"$f":"EmpDetail!I51","v":"00:00:00"},{"$f":"EmpDetail!J51","v":0},{"$f":"EmpDetail!K51","v":0}]
[null,null,null,null,null,null,null,{"$f":"EmpDetail!A52","v":49},{"$f":"EmpDetail!B52","v":0},{"$f":"EmpDetail!C52","v":0},{"$f":"EmpDetail!D52","v":0},{"$f":"EmpDetail!I52","v":"00:00:00"},{"$f":"EmpDetail!J52","v":0},{"$f":"EmpDetail!K52","v":0}]
[null,null,null,null,null,null,null,{"$f":"EmpDetail!A53","v":50},{"$f":"EmpDetail!B53","v":0},{"$f":"EmpDetail!C53","v":0},{"$f":"EmpDetail!D53","v":0},{"$f":"EmpDetail!I53","v":"00:00:00"},{"$f":"EmpDetail!J53","v":0},{"$f":"EmpDetail!K53","v":0}]
[null,null,null,null,null,null,null,{"$f":"EmpDetail!A54","v":51},{"$f":"EmpDetail!B54","v":0},{"$f":"EmpDetail!C54","v":0},{"$f":"EmpDetail!D54","v":0},{"$f":"EmpDetail!I54","v":"00:00:00"},{"$f":"EmpDetail!J54","v":0},{"$f":"EmpDetail!K54","v":0}]
[null,null,null,null,null,null,null,{"$f":"EmpDetail!A55","v":52},{"$f":"EmpDetail!B55","v":0},{"$f":"EmpDetail!C55","v":0},{"$f":"EmpDetail!D55","v":0},{"$f":"EmpDetail!I55","v":"00:00:00"},{"$f":"EmpDetail!J55","v":0},{"$f":"EmpDetail!K55","v":0}]
[null,null,null,null,null,null,null,{"$f":"EmpDetail!A56","v":53},{"$f":"EmpDetail!B56","v":0},{"$f":"EmpDetail!C56","v":0},{"$f":"EmpDetail!D56","v":0},{"$f":"EmpDetail!I56","v":"00:00:00"},{"$f":"EmpDetail!J56","v":0},{"$f":"EmpDetail!K56","v":0}]
[null,null,null,null,null,null,null,{"$f":"EmpDetail!A57","v":54},{"$f":"EmpDetail!B57","v":0},{"$f":"EmpDetail!C57","v":0},{"$f":"EmpDetail!D57","v":0},{"$f":"EmpDetail!I57","v":"00:00:00"},{"$f":"EmpDetail!J57","v":0},{"$f":"EmpDetail!K57","v":0}]
[null,null,null,null,null,null,null,{"$f":"EmpDetail!A58","v":55},{"$f":"EmpDetail!B58","v":0},{"$f":"EmpDetail!C58","v":0},{"$f":"EmpDetail!D58","v":0},{"$f":"EmpDetail!I58","v":"00:00:00"},{"$f":"EmpDetail!J58","v":0},{"$f":"EmpDetail!K58","v":0}]
[null,null,null,null,null,null,null,{"$f":"EmpDetail!A59","v":56},{"$f":"EmpDetail!B59","v":0},{"$f":"EmpDetail!C59","v":0},{"$f":"EmpDetail!D59","v":0},{"$f":"EmpDetail!I59","v":"00:00:00"},{"$f":"EmpDetail!J59","v":0},{"$f":"EmpDetail!K59","v":0}]
[null,null,null,null,null,null,null,{"$f":"EmpDetail!A60","v":57},{"$f":"EmpDetail!B60","v":0},{"$f":"EmpDetail!C60","v":0},{"$f":"EmpDetail!D60","v":0},{"$f":"EmpDetail!I60","v":"00:00:00"},{"$f":"EmpDetail!J60","v":0},{"$f":"EmpDetail!K60","v":0}]
[null,null,null,null,null,null,null,{"$f":"EmpDetail!A61","v":58},{"$f":"EmpDetail!B61","v":0},{"$f":"EmpDetail!C61","v":0},{"$f":"EmpDetail!D61","v":0},{"$f":"EmpDetail!I61","v":"00:00:00"},{"$f":"EmpDetail!J61","v":0},{"$f":"EmpDetail!K61","v":0}]
[null,null,null,null,null,null,null,{"$f":"EmpDetail!A62","v":59},{"$f":"EmpDetail!B62","v":0},{"$f":"EmpDetail!C62","v":0},{"$f":"EmpDetail!D62","v":0},{"$f":"EmpDetail!I62","v":"00:00:00"},{"$f":"EmpDetail!J62","v":0},{"$f":"EmpDetail!K62","v":0}]
[null,null,null,null,null,null,null,{"$f":"EmpDetail!A63","v":60},{"$f":"EmpDetail!B63","v":0},{"$f":"EmpDetail!C63","v":0},{"$f":"EmpDetail!D63","v":0},{"$f":"EmpDetail!I63","v":"00:00:00"},{"$f":"EmpDetail!J63","v":0},{"$f":"EmpDetail!K63","v":0}]
[null,null,null,null,null,null,null,{"$f":"EmpDetail!A64","v":61},{"$f":"EmpDetail!B64","v":0},{"$f":"EmpDetail!C64","v":0},{"$f":"EmpDetail!D64","v":0},{"$f":"EmpDetail!I64","v":"00:00:00"},{"$f":"EmpDetail!J64","v":0},{"$f":"EmpDetail!K64","v":0}]
[null,null,null,null,null,null,null,{"$f":"EmpDetail!A65","v":62},{"$f":"EmpDetail!B65","v":0},{"$f":"EmpDetail!C65","v":0},{"$f":"EmpDetail!D65","v":0},{"$f":"EmpDetail!I65","v":"00:00:00"},{"$f":"EmpDetail!J65","v":0},{"$f":"EmpDetail!K65","v":0}]
[null,null,null,null,null,null,null,{"$f":"EmpDetail!A66","v":63},{"$f":"EmpDetail!B66","v":0},{"$f":"EmpDetail!C66","v":0},{"$f":"EmpDetail!D66","v":0},{"$f":"EmpDetail!I66","v":"00:00:00"},{"$f":"EmpDetail!J66","v":0},{"$f":"EmpDetail!K66","v":0}]
[null,null,null,null,null,null,null,{"$f":"EmpDetail!A67","v":64},{"$f":"EmpDetail!B67","v":0},{"$f":"EmpDetail!C67","v":0},{"$f":"EmpDetail!D67","v":0},{"$f":"EmpDetail!I67","v":"00:00:00"},{"$f":"EmpDetail!J67","v":0},{"$f":"EmpDetail!K67","v":0}]
[null,null,null,null,null,null,null,{"$f":"EmpDetail!A68","v":65},{"$f":"EmpDetail!B68","v":0},{"$f":"EmpDetail!C68","v":0},{"$f":"EmpDetail!D68","v":0},{"$f":"EmpDetail!I68","v":"00:00:00"},{"$f":"EmpDetail!J68","v":0},{"$f":"EmpDetail!K68","v":0}]
[null,null,null,null,null,null,null,{"$f":"EmpDetail!A69","v":66},{"$f":"EmpDetail!B69","v":0},{"$f":"EmpDetail!C69","v":0},{"$f":"EmpDetail!D69","v":0},{"$f":"EmpDetail!I69","v":"00:00:00"},{"$f":"EmpDetail!J69","v":0},{"$f":"EmpDetail!K69","v":0}]
[null,null,null,null,null,null,null,{"$f":"EmpDetail!A70","v":67},{"$f":"EmpDetail!B70","v":0},{"$f":"EmpDetail!C70","v":0},{"$f":"EmpDetail!D70","v":0},{"$f":"EmpDetail!I70","v":"00:00:00"},{"$f":"EmpDetail!J70","v":0},{"$f":"EmpDetail!K70","v":0}]
[null,null,null,null,null,null,null,{"$f":"EmpDetail!A71","v":68},{"$f":"EmpDetail!B71","v":0},{"$f":"EmpDetail!C71","v":0},{"$f":"EmpDetail!D71","v":0},{"$f":"EmpDetail!I71","v":"00:00:00"},{"$f":"EmpDetail!J71","v":0},{"$f":"EmpDetail!K71","v":0}]
[null,null,null,null,null,null,null,{"$f":"EmpDetail!A72","v":69},{"$f":"EmpDetail!B72","v":0},{"$f":"EmpDetail!C72","v":0},{"$f":"EmpDetail!D72","v":0},{"$f":"EmpDetail!I72","v":"00:00:00"},{"$f":"EmpDetail!J72","v":0},{"$f":"EmpDetail!K72","v":0}]
[null,null,null,null,null,null,null,{"$f":"EmpDetail!A73","v":70},{"$f":"EmpDetail!B73","v":0},{"$f":"EmpDetail!C73","v":0},{"$f":"EmpDetail!D73","v":0},{"$f":"EmpDetail!I73","v":"00:00:00"},{"$f":"EmpDetail!J73","v":0},{"$f":"EmpDetail!K73","v":0}]
[null,null,null,null,null,null,null,{"$f":"EmpDetail!A74","v":71},{"$f":"EmpDetail!B74","v":0},{"$f":"EmpDetail!C74","v":0},{"$f":"EmpDetail!D74","v":0},{"$f":"EmpDetail!I74","v":"00:00:00"},{"$f":"EmpDetail!J74","v":0},{"$f":"EmpDetail!K74","v":0}]
[null,null,null,null,null,null,null,{"$f":"EmpDetail!A75","v":72},{"$f":"EmpDetail!B75","v":0},{"$f":"EmpDetail!C75","v":0},{"$f":"EmpDetail!D75","v":0},{"$f":"EmpDetail!I75","v":"00:00:00"},{"$f":"EmpDetail!J75","v":0},{"$f":"EmpDetail!K75","v":0}]
[null,null,null,null,null,null,null,{"$f":"EmpDetail!A76","v":73},{"$f":"EmpDetail!B76","v":0},{"$f":"EmpDetail!C76","v":0},{"$f":"EmpDetail!D76","v":0},{"$f":"EmpDetail!I76","v":"00:00:00"},{"$f":"EmpDetail!J76","v":0},{"$f":"EmpDetail!K76","v":0}]
[null,null,null,null,null,null,null,{"$f":"EmpDetail!A77","v":74},{"$f":"EmpDetail!B77","v":0},{"$f":"EmpDetail!C77","v":0},{"$f":"EmpDetail!D77","v":0},{"$f":"EmpDetail!I77","v":"00:00:00"},{"$f":"EmpDetail!J77","v":0},{"$f":"EmpDetail!K77","v":0}]
[null,null,null,null,null,null,null,{"$f":"EmpDetail!A78","v":75},{"$f":"EmpDetail!B78","v":0},{"$f":"EmpDetail!C78","v":0},{"$f":"EmpDetail!D78","v":0},{"$f":"EmpDetail!I78","v":"00:00:00"},{"$f":"EmpDetail!J78","v":0},{"$f":"EmpDetail!K78","v":0}]
[null,null,null,null,null,null,null,{"$f":"EmpDetail!A79","v":76},{"$f":"EmpDetail!B79","v":0},{"$f":"EmpDetail!C79","v":0},{"$f":"EmpDetail!D79","v":0},{"$f":"EmpDetail!I79","v":"00:00:00"},{"$f":"EmpDetail!J79","v":0},{"$f":"EmpDetail!K79","v":0}]
[null,null,null,null,null,null,null,{"$f":"EmpDetail!A80","v":77},{"$f":"EmpDetail!B80","v":0},{"$f":"EmpDetail!C80","v":0},{"$f":"EmpDetail!D80","v":0},{"$f":"EmpDetail!I80","v":"00:00:00"},{"$f":"EmpDetail!J80","v":0},{"$f":"EmpDetail!K80","v":0}]
[null,null,null,null,null,null,null,{"$f":"EmpDetail!A81","v":78},{"$f":"EmpDetail!B81","v":0},{"$f":"EmpDetail!C81","v":0},{"$f":"EmpDetail!D81","v":0},{"$f":"EmpDetail!I81","v":"00:00:00"},{"$f":"EmpDetail!J81","v":0},{"$f":"EmpDetail!K81","v":0}]
[null,null,null,null,null,null,null,{"$f":"EmpDetail!A82","v":79},{"$f":"EmpDetail!B82","v":0},{"$f":"EmpDetail!C82","v":0},{"$f":"EmpDetail!D82","v":0},{"$f":"EmpDetail!I82","v":"00:00:00"},{"$f":"EmpDetail!J82","v":0},{"$f":"EmpDetail!K82","v":0}]
[null,null,null,null,null,null,null,{"$f":"EmpDetail!A83","v":80},{"$f":"EmpDetail!B83","v":0},{"$f":"EmpDetail!C83","v":0},{"$f":"EmpDetail!D83","v":0},{"$f":"EmpDetail!I83","v":"00:00:00"},{"$f":"EmpDetail!J83","v":0},{"$f":"EmpDetail!K83","v":0}]
[null,null,null,null,null,null,null,{"$f":"EmpDetail!A84","v":81},{"$f":"EmpDetail!B84","v":0},{"$f":"EmpDetail!C84","v":0},{"$f":"EmpDetail!D84","v":0},{"$f":"EmpDetail!I84","v":"00:00:00"},{"$f":"EmpDetail!J84","v":0},{"$f":"EmpDetail!K84","v":0}]
[null,null,null,null,null,null,null,{"$f":"EmpDetail!A85","v":82},{"$f":"EmpDetail!B85","v":0},{"$f":"EmpDetail!C85","v":0},{"$f":"EmpDetail!D85","v":0},{"$f":"EmpDetail!I85","v":"00:00:00"},{"$f":"EmpDetail!J85","v":0},{"$f":"EmpDetail!K85","v":0}]
[null,null,null,null,null,null,null,{"$f":"EmpDetail!A86","v":83},{"$f":"EmpDetail!B86","v":0},{"$f":"EmpDetail!C86","v":0},{"$f":"EmpDetail!D86","v":0},{"$f":"EmpDetail!I86","v":"00:00:00"},{"$f":"EmpDetail!J86","v":0},{"$f":"EmpDetail!K86","v":0}]
[null,null,null,null,null,null,null,{"$f":"EmpDetail!A87","v":84},{"$f":"EmpDetail!B87","v":0},{"$f":"EmpDetail!C87","v":0},{"$f":"EmpDetail!D87","v":0},{"$f":"EmpDetail!I87","v":"00:00:00"},{"$f":"EmpDetail!J87","v":0},{"$f":"EmpDetail!K87","v":0}]
[null,null,null,null,null,null,null,{"$f":"EmpDetail!A88","v":85},{"$f":"EmpDetail!B88","v":0},{"$f":"EmpDetail!C88","v":0},{"$f":"EmpDetail!D88","v":0},{"$f":"EmpDetail!I88","v":"00:00:00"},{"$f":"EmpDetail!J88","v":0},{"$f":"EmpDetail!K88","v":0}]
[null,null,null,null,null,null,null,{"$f":"EmpDetail!A89","v":86},{"$f":"EmpDetail!B89","v":0},{"$f":"EmpDetail!C89","v":0},{"$f":"EmpDetail!D89","v":0},{"$f":"EmpDetail!I89","v":"00:00:00"},{"$f":"EmpDetail!J89","v":0},{"$f":"EmpDetail!K89","v":0}]
[null,null,null,null,null,null,null,{"$f":"EmpDetail!A90","v":87},{"$f":"EmpDetail!B90","v":0},{"$f":"EmpDetail!C90","v":0},{"$f":"EmpDetail!D90","v":0},{"$f":"EmpDetail!I90","v":"00:00:00"},{"$f":"EmpDetail!J90","v":0},{"$f":"EmpDetail!K90","v":0}]
[null,null,null,null,null,null,null,{"$f":"EmpDetail!A91","v":88},{"$f":"EmpDetail!B91","v":0},{"$f":"EmpDetail!C91","v":0},{"$f":"EmpDetail!D91","v":0},{"$f":"EmpDetail!I91","v":"00:00:00"},{"$f":"EmpDetail!J91","v":0},{"$f":"EmpDetail!K91","v":0}]
[null,null,null,null,null,null,null,{"$f":"EmpDetail!A92","v":89},{"$f":"EmpDetail!B92","v":0},{"$f":"EmpDetail!C92","v":0},{"$f":"EmpDetail!D92","v":0},{"$f":"EmpDetail!I92","v":"00:00:00"},{"$f":"EmpDetail!J92","v":0},{"$f":"EmpDetail!K92","v":0}]
[null,null,null,null,null,null,null,{"$f":"EmpDetail!A93","v":90},{"$f":"EmpDetail!B93","v":0},{"$f":"EmpDetail!C93","v":0},{"$f":"EmpDetail!D93","v":0},{"$f":"EmpDetail!I93","v":"00:00:00"},{"$f":"EmpDetail!J93","v":0},{"$f":"EmpDetail!K93","v":0}]
[null,null,null,null,null,null,null,{"$f":"EmpDetail!A94","v":91},{"$f":"EmpDetail!B94","v":0},{"$f":"EmpDetail!C94","v":0},{"$f":"EmpDetail!D94","v":0},{"$f":"EmpDetail!I94","v":"00:00:00"},{"$f":"EmpDetail!J94","v":0},{"$f":"EmpDetail!K94","v":0}]
[null,null,null,null,null,null,null,{"$f":"EmpDetail!A95","v":92},{"$f":"EmpDetail!B95","v":0},{"$f":"EmpDetail!C95","v":0},{"$f":"EmpDetail!D95","v":0},{"$f":"EmpDetail!I95","v":"00:00:00"},{"$f":"EmpDetail!J95","v":0},{"$f":"EmpDetail!K95","v":0}]
[null,null,null,null,null,null,null,{"$f":"EmpDetail!A96","v":93},{"$f":"EmpDetail!B96","v":0},{"$f":"EmpDetail!C96","v":0},{"$f":"EmpDetail!D96","v":0},{"$f":"EmpDetail!I96","v":"00:00:00"},{"$f":"EmpDetail!J96","v":0},{"$f":"EmpDetail!K96","v":0}]
[null,null,null,null,null,null,null,{"$f":"EmpDetail!A97","v":94},{"$f":"EmpDetail!B97","v":0},{"$f":"EmpDetail!C97","v":0},{"$f":"EmpDetail!D97","v":0},{"$f":"EmpDetail!I97","v":"00:00:00"},{"$f":"EmpDetail!J97","v":0},{"$f":"EmpDetail!K97","v":0}]
[null,null,null,null,null,null,null,{"$f":"EmpDetail!A98","v":95},{"$f":"EmpDetail!B98","v":0},{"$f":"EmpDetail!C98","v":0},{"$f":"EmpDetail!D98","v":0},{"$f":"EmpDetail!I98","v":"00:00:00"},{"$f":"EmpDetail!J98","v":0},{"$f":"EmpDetail!K98","v":0}]
[null,null,null,null,null,null,null,{"$f":"EmpDetail!A99","v":96},{"$f":"EmpDetail!B99","v":0},{"$f":"EmpDetail!C99","v":0},{"$f":"EmpDetail!D99","v":0},{"$f":"EmpDetail!I99","v":"00:00:00"},{"$f":"EmpDetail!J99","v":0},{"$f":"EmpDetail!K99","v":0}]
[null,null,null,null,null,null,null,{"$f":"EmpDetail!A100","v":97},{"$f":"EmpDetail!B100","v":0},{"$f":"EmpDetail!C100","v":0},{"$f":"EmpDetail!D100","v":0},{"$f":"EmpDetail!I100","v":"00:00:00"},{"$f":"EmpDetail!J100","v":0},{"$f":"EmpDetail!K100","v":0}]
[null,null,null,null,null,null,null,{"$f":"EmpDetail!A101","v":98},{"$f":"EmpDetail!B101","v":0},{"$f":"EmpDetail!C101","v":0},{"$f":"EmpDetail!D101","v":0},{"$f":"EmpDetail!I101","v":"00:00:00"},{"$f":"EmpDetail!J101","v":0},{"$f":"EmpDetail!K101","v":0}]
[null,null,null,null,null,null,null,{"$f":"EmpDetail!A102","v":99},{"$f":"EmpDetail!B102","v":0},{"$f":"EmpDetail!C102","v":0},{"$f":"EmpDetail!D102","v":0},{"$f":"EmpDetail!I102","v":"00:00:00"},{"$f":"EmpDetail!J102","v":0},{"$f":"EmpDetail!K102","v":0}]
[null,null,null,null,null,null,null,{"$f":"EmpDetail!A103","v":100},{"$f":"EmpDetail!B103","v":0},{"$f":"EmpDetail!C103","v":0},{"$f":"EmpDetail!D103","v":0},{"$f":"EmpDetail!I103","v":"00:00:00"},{"$f":"EmpDetail!J103","v":0},{"$f":"EmpDetail!K103","v":0}]

{"sheet":"NOC","index":25,"n_rows":103,"n_cols":15,"rows_kept":103,"cut":false,"hidden":true,"merged":[[9,0,9,1],[9,2,9,3],[1,0,1,5],[3,0,3,5],[4,1,4,2],[5,1,5,3],[5,4,5,5],[13,0,13,5],[0,14,2,14],[31,4,31,5],[32,4,32,5],[33,4,33,5],[0,1,0,4],[10,0,10,1],[11,0,11,1],[0,13,2,13],[0,12,2,12],[12,0,12,1],[12,3,12,5],[6,3,6,4],[7,0,7,1],[8,0,8,1],[8,2,8,5]]}
[null,"dkfeZd dk dzekad ntZ djsa&",null,null,null,11,null,null,null,null,null,null,"lsok lekfIr ;k vU; tksMs","dkj.k tksMs","izHkkj dk uke tksMsa"]
[{"$f":"Master!G2&Master!H2","v":"कार्यालय&राजकीय उच्च माध्यमिक विद्यालय ]चौगाई]टोंक"}]
["dzekad&",{"$f":"Master!H3&Master!I3&Master!J3&Master!E3&\"/\"","v":"राउमावि/चौगाई/संस्था/2021-22/"},null,null,"fnukad&",{"$f":"TODAY()","v":"2021-06-19"}]
["vns; izek.k i=",null,null,null,null,null,{"$f":"EmpDetail!A4","v":1},{"$f":"EmpDetail!B4","v":"fd'ku yky cSjok"},{"$f":"EmpDetail!C4","v":"प्रधानाचार्य"},{"$f":"EmpDetail!D4","v":"राउमावि चौगाई"},{"$f":"EmpDetail!I4","v":0},null,"सेवा समाप्ति","अर्दवार्षिकी आयु","संस्थापन शाखा"]
[null,null,null,null,null,null,{"$f":"EmpDetail!A5","v":2},{"$f":"EmpDetail!B5","v":"iwj.k pUn y{kdkj"},{"$f":"EmpDetail!C5","v":"व्याख्याता"},{"$f":"EmpDetail!D5","v":"राउमावि चौगाई"},{"$f":"EmpDetail!I5","v":0},null,"कार्यमुक्त","मृत्यु","लेखा शाखा"]
[null,"izekf.kr fd;k tkrk gS fd Jh",null,null,{"$f":"IF(ISNA(VLOOKUP($F1,$G$4:$K$103,2,FALSE)),\"\",VLOOKUP($F1,$G$4:$K$103,2,FALSE))","v":"NksVw yky jsxj"},null,{"$f":"EmpDetail!A6","v":3},{"$f":"EmpDetail!B6","v":"jktsUnz dqekj tSu"},{"$f":"EmpDetail!C6","v":"व्याख्याता"},{"$f":"EmpDetail!D6","v":"राउमावि चौगाई"},{"$f":"EmpDetail!I6","v":0},null,"सेवामुक्त","स्वेच्छिक सेवानिवृत्ति","सामान्य शाखा"]
["in&",{"$f":"IF(ISNA(VLOOKUP($F1,$G$4:$K$103,3,FALSE)),\"\",VLOOKUP($F1,$G$4:$K$103,3,FALSE))","v":"अध्यापक ग्रेड III"},"inLFkkiu&",{"$f":"IF(ISNA(VLOOKUP($F1,$G$4:$K$103,4,FALSE)),\"\",VLOOKUP($F1,$G$4:$K$103,4,FALSE))","v":"राउमावि चौगाई"},null,"tks fd LFkkuh;",{"$f":"EmpDetail!A7","v":4},{"$f":"EmpDetail!B7","v":"fd'ku yky cSjok"},{"$f":"EmpDetail!C7","v":"व्याख्याता"},{"$f":"EmpDetail!D7","v":"राउमावि चौगाई"},{"$f":"EmpDetail!I7","v":0},null,"सेवानिवृत्त","स्थानांतरण","भण्डार शाखा"]
["dk;kZy; esa fnukad&",null,{"$f":"IF(ISNA(VLOOKUP($F1,$G$4:$K$103,5,FALSE)),\"\",VLOOKUP($F1,$G$4:$K$103,5,FALSE))","v":"00:00:00"},"ls","2021-03-11","rd inLFkkfir",{"$f":"EmpDetail!A8","v":5},{"$f":"EmpDetail!B8","v":"lR;ukjk;.k 'kekZ"},{"$f":"EmpDetail!C8","v":"वरिष्ठ अध्यापक"},{"$f":"EmpDetail!D8","v":"राउमावि चौगाई"},{"$f":"EmpDetail!I8","v":0},null,null,"पदौन्नति","परीक्षा शाखा"]
["jgs gS budk Jheku~",null,"eq[; ftyk f'k{kk vf/kdkjh eq[;ky; ek/;fed f'k{kk Vksad",null,null,null,{"$f":"EmpDetail!A9","v":6},{"$f":"EmpDetail!B9","v":"iq\"ik tSu"},{"$f":"EmpDetail!C9","v":"वरिष्ठ अध्यापक"},{"$f":"EmpDetail!D9","v":"राउमावि चौगाई"},{"$f":"EmpDetail!I9","v":0},null,null,"समायोजन","पुस्तकालय शाखा"]
["ds vkns'k dzekad&",null,"ftf'kv@eq@ekf'k@Vksad@21@765",null,"fnukad&","2021-03-10",{"$f":"EmpDetail!A10","v":7},{"$f":"EmpDetail!B10","v":"vk'kkjke eh.kk"},{"$f":"EmpDetail!C10","v":"वरिष्ठ अध्यापक"},{"$f":"EmpDetail!D10","v":"राउमावि चौगाई"},{"$f":"EmpDetail!I10","v":0},null,null,"अनिवार्य सेवानिवृत्ति","खेल शाखा"]
["dh vuqikyuk esa budh ",null,"मृत्यु","gksus ds dkj.k","सेवामुक्त","fd;s tkus ds ",{"$f":"EmpDetail!A11","v":8},{"$f":"EmpDetail!B11","v":"t;iky flag"},{"$f":"EmpDetail!C11","v":"वरिष्ठ अध्यापक"},{"$f":"EmpDetail!D11","v":"राउमावि चौगाई"},{"$f":"EmpDetail!I11","v":0},null,null,null,"प्रयोगशाला शाखा"]
["dkj.k bUgs fnukad&",null,{"$f":"E8","v":"2021-03-11"},"dks","मध्यान्ह पश्चात",{"$f":"IF(E11=M4,M14,N14)","v":"dk;ZeqDr fd;k"},{"$f":"EmpDetail!A12","v":9},{"$f":"EmpDetail!B12","v":"jkeizlkn jsxj"},{"$f":"EmpDetail!C12","v":"वरिष्ठ अध्यापक"},{"$f":"EmpDetail!D12","v":"राउमावि चौगाई"},{"$f":"EmpDetail!I12","v":0},null,null,null,"पोषाहार"]
["x;k gS] bu ij vkt fnukad",null,"2021-03-11","LFkkuh; dk;kZy; dk dksbZ izHkkj cdk;k ugha gS A",null,null,{"$f":"EmpDetail!A13","v":10},{"$f":"EmpDetail!B13","v":"egsUnz dqekj tkV"},{"$f":"EmpDetail!C13","v":"शारीरिक शिक्षक"},{"$f":"EmpDetail!D13","v":"राउमावि चौगाई"},{"$f":"EmpDetail!I13","v":0},null,null,null,"स्काउट एंव इको क्लब"]
[null,null,null,null,null,null,{"$f":"EmpDetail!A14","v":11},{"$f":"EmpDetail!B14","v":"NksVw yky jsxj"},{"$f":"EmpDetail!C14","v":"अध्यापक ग्रेड III"},{"$f":"EmpDetail!D14","v":"राउमावि चौगाई"},{"$f":"EmpDetail!I14","v":0},null,"lsokeqDr fd;k","dk;ZeqDr fd;k","नि:शुल्क पाठ्यपुस्तके "]
["dz0la0","uke izHkkj","uke izHkkjh","ns;rk@ vns;rk","fo0fo0","gLrk{kj izHkkjh",{"$f":"EmpDetail!A15","v":12},{"$f":"EmpDetail!B15","v":"dUgS;k yky egkoj"},{"$f":"EmpDetail!C15","v":"अध्यापक ग्रेड III"},{"$f":"EmpDetail!D15","v":"राउमावि चौगाई"},{"$f":"EmpDetail!I15","v":0},null,null,null,"एनिमिया नियंत्रण"]
[{"$f":"IF(B16=\"\",\"\",1)","v":1},"परीक्षा शाखा",{"$f":"IF(B16=\"\",\"\",$E$6)","v":"NksVw yky jsxj"},"अदेयता",null,null,{"$f":"EmpDetail!A16","v":13},{"$f":"EmpDetail!B16","v":"prqHkqZt tkV"},{"$f":"EmpDetail!C16","v":"अध्यापक ग्रेड III"},{"$f":"EmpDetail!D16","v":"राउमावि चौगाई"},{"$f":"EmpDetail!I16","v":39631},null,null,null,"भुगोल प्रायोगिक"]
[{"$f":"IF(B17=\"\",\"\",A16+1)","v":2},"स्काउट एंव इको क्लब",{"$f":"IF(B17=\"\",\"\",$E$6)","v":"NksVw yky jsxj"},"अदेयता",null,null,{"$f":"EmpDetail!A17","v":14},{"$f":"EmpDetail!B17","v":"vklsQk [kku"},{"$f":"EmpDetail!C17","v":"अध्यापक ग्रेड III"},{"$f":"EmpDetail!D17","v":"राउमावि चौगाई"},{"$f":"EmpDetail!I17","v":0}]
[{"$f":"IF(B18=\"\",\"\",A17+1)","v":""},null,"",null,null,null,{"$f":"EmpDetail!A18","v":15},{"$f":"EmpDetail!B18","v":"lq'khyk cSjok"},{"$f":"EmpDetail!C18","v":"कनिष्ठ सहायक"},{"$f":"EmpDetail!D18","v":"राउमावि चौगाई"},{"$f":"EmpDetail!I18","v":0}]
["",null,"",null,null,null,{"$f":"EmpDetail!A19","v":16},{"$f":"EmpDetail!B19","v":"txnh'k izlkn rsyh"},{"$f":"EmpDetail!C19","v":"सहायक कर्मचारी"},{"$f":"EmpDetail!D19","v":"राउमावि चौगाई"},{"$f":"EmpDetail!I19","v":0}]
["",null,"",null,null,null,{"$f":"EmpDetail!A20","v":17},{"$f":"EmpDetail!B20","v":"jfoUnz dqekj tSu"},{"$f":"EmpDetail!C20","v":"अध्यापक ग्रेड III"},{"$f":"EmpDetail!D20","v":"राउप्रावि मोहिनी"},{"$f":"EmpDetail!I20","v":0}]
["",null,"",null,null,null,{"$f":"EmpDetail!A21","v":18},{"$f":"EmpDetail!B21","v":" ';ke lqUnj ckxkSM"},{"$f":"EmpDetail!C21","v":"अध्यापक ग्रेड III"},{"$f":"EmpDetail!D21","v":"राउप्रावि मोहिनी"},{"$f":"EmpDetail!I21","v":0}]
["",null,"",null,null,null,{"$f":"EmpDetail!A22","v":19},{"$f":"EmpDetail!B22","v":"d`\".kk 'kekZ"},{"$f":"EmpDetail!C22","v":"प्रबोधक"},{"$f":"EmpDetail!D22","v":"राउप्रावि मोहिनी"},{"$f":"EmpDetail!I22","v":0}]
["",null,"",null,null,null,{"$f":"EmpDetail!A23","v":20},{"$f":"EmpDetail!B23","v":"/keZsUnz pkS/kjh"},{"$f":"EmpDetail!C23","v":"अध्यापक ग्रेड III"},{"$f":"EmpDetail!D23","v":"राउप्रावि गोरधनपुरा"},{"$f":"EmpDetail!I23","v":0}]
["",null,"",null,null,null,{"$f":"EmpDetail!A24","v":21},{"$f":"EmpDetail!B24","v":"izgykn ekyh"},{"$f":"EmpDetail!C24","v":"प्रबोधक"},{"$f":"EmpDetail!D24","v":"राउप्रावि गोरधनपुरा"},{"$f":"EmpDetail!I24","v":0}]
["",null,"",null,null,null,{"$f":"EmpDetail!A25","v":22},{"$f":"EmpDetail!B25","v":"jken;ky xqtZj"},{"$f":"EmpDetail!C25","v":"प्रबोधक"},{"$f":"EmpDetail!D25","v":"राउप्रावि सोंदीफल"},{"$f":"EmpDetail!I25","v":0}]
["",null,"",null,null,null,{"$f":"EmpDetail!A26","v":23},{"$f":"EmpDetail!B26","v":"vkSeizdk'k tkV"},{"$f":"EmpDetail!C26","v":"अध्यापक ग्रेड III"},{"$f":"EmpDetail!D26","v":"राउप्रावि सोंदीफल"},{"$f":"EmpDetail!I26","v":0}]
["",null,"",null,null,null,{"$f":"EmpDetail!A27","v":24},{"$f":"EmpDetail!B27","v":"vthr flag"},{"$f":"EmpDetail!C27","v":"अध्यापक ग्रेड III"},{"$f":"EmpDetail!D27","v":"राप्रावि जानकीवल्लभपुरा"},{"$f":"EmpDetail!I27","v":0}]
["",null,"",null,null,null,{"$f":"EmpDetail!A28","v":25},{"$f":"EmpDetail!B28","v":"eq[rkj eha;k"},{"$f":"EmpDetail!C28","v":"प्रबोधक"},{"$f":"EmpDetail!D28","v":"राप्रावि जानकीवल्लभपुरा"},{"$f":"EmpDetail!I28","v":0}]
["",null,"",null,null,null,{"$f":"EmpDetail!A29","v":26},{"$f":"EmpDetail!B29","v":"eks0 tehy "},{"$f":"EmpDetail!C29","v":"प्रबोधक"},{"$f":"EmpDetail!D29","v":"राप्रावि रसूलपुरा"},{"$f":"EmpDetail!I29","v":0}]
["",null,"",null,null,null,{"$f":"EmpDetail!A30","v":27},{"$f":"EmpDetail!B30","v":"lkaojey tkV"},{"$f":"EmpDetail!C30","v":"अध्यापक ग्रेड III"},{"$f":"EmpDetail!D30","v":"राप्रावि रसूलपुरा"},{"$f":"EmpDetail!I30","v":0}]
[null,null,null,null,null,null,{"$f":"EmpDetail!A31","v":28},{"$f":"EmpDetail!B31","v":"pkS/kjh eksuk jkekorkj"},{"$f":"EmpDetail!C31","v":"अध्यापक ग्रेड III"},{"$f":"EmpDetail!D31","v":"राप्रावि मोहिनी ढाणी बाढ"},{"$f":"EmpDetail!I31","v":0}]
[null,null,null,null,{"$f":"Master!B2","v":"प्रधानाचार्य"},null,{"$f":"EmpDetail!A32","v":29},{"$f":"EmpDetail!B32","v":"rkjkpUn tk;loky"},{"$f":"EmpDetail!C32","v":"प्रबोधक"},{"$f":"EmpDetail!D32","v":"राप्रावि मोहिनी ढाणी बाढ"},{"$f":"EmpDetail!I32","v":0}]
[null,null,null,null,{"$f":"Master!B3","v":"राजकीय उच्च माध्यमिक विद्यालय "},null,{"$f":"EmpDetail!A33","v":30},{"$f":"EmpDetail!B33","v":"jketl ;kno"},{"$f":"EmpDetail!C33","v":"अध्यापक ग्रेड III"},{"$f":"EmpDetail!D33","v":"राप्रावि बैरवा ढाणी सोन्दीफल"},{"$f":"EmpDetail!I33","v":0}]
[null,null,null,null,{"$f":"Master!B4","v":"चौगाई]टोंक"},null,{"$f":"EmpDetail!A34","v":31},{"$f":"EmpDetail!B34","v":"dtksMey eh.kk"},{"$f":"EmpDetail!C34","v":"अध्यापक ग्रेड III"},{"$f":"EmpDetail!D34","v":"राप्रावि बैरवा ढाणी सोन्दीफल"},{"$f":"EmpDetail!I34","v":0}]
[null,null,null,null,null,null,{"$f":"EmpDetail!A35","v":32},{"$f":"EmpDetail!B35","v":"/kaut; xkSRre"},{"$f":"EmpDetail!C35","v":"अध्यापक ग्रेड III"},{"$f":"EmpDetail!D35","v":"राउप्रावि गोरधनपुरा"},{"$f":"EmpDetail!I35","v":43343}]
[null,null,null,null,null,null,{"$f":"EmpDetail!A36","v":33},{"$f":"EmpDetail!B36","v":"d`\".kk xaxoky"},{"$f":"EmpDetail!C36","v":"अध्यापक ग्रेड III"},{"$f":"EmpDetail!D36","v":"राउप्रावि गोरधनपुरा"},{"$f":"EmpDetail!I36","v":43455}]
[null,null,null,null,null,null,{"$f":"EmpDetail!A37","v":34},{"$f":"EmpDetail!B37","v":"n'kjFk dqekj ;kno"},{"$f":"EmpDetail!C37","v":"अध्यापक ग्रेड III"},{"$f":"EmpDetail!D37","v":"राउप्रावि सोंदीफल"},{"$f":"EmpDetail!I37","v":43372}]
[null,null,null,null,null,null,{"$f":"EmpDetail!A38","v":35},{"$f":"EmpDetail!B38","v":"d`\".k yky tkV"},{"$f":"EmpDetail!C38","v":"अध्यापक ग्रेड III"},{"$f":"EmpDetail!D38","v":"राउप्रावि सोंदीफल"},{"$f":"EmpDetail!I38","v":43375}]
[null,null,null,null,null,null,{"$f":"EmpDetail!A39","v":36},{"$f":"EmpDetail!B39","v":"nhisUnz dqekj iztkir"},{"$f":"EmpDetail!C39","v":"अध्यापक ग्रेड III"},{"$f":"EmpDetail!D39","v":"राउप्रावि सोंदीफल"},{"$f":"EmpDetail!I39","v":43532}]
[null,null,null,null,null,null,{"$f":"EmpDetail!A40","v":37},{"$f":"EmpDetail!B40","v":"uohu dqekj"},{"$f":"EmpDetail!C40","v":"अध्यापक ग्रेड III"},{"$f":"EmpDetail!D40","v":"राउप्रावि मोहिनी"},{"$f":"EmpDetail!I40","v":43533}]
[null,null,null,null,null,null,{"$f":"EmpDetail!A41","v":38},{"$f":"EmpDetail!B41","v":"ehrs'k dqekj 'kekZ"},{"$f":"EmpDetail!C41","v":"अध्यापक ग्रेड III"},{"$f":"EmpDetail!D41","v":"राउप्रावि मोहिनी"},{"$f":"EmpDetail!I41","v":43356}]
[null,null,null,null,null,null,{"$f":"EmpDetail!A42","v":39},{"$f":"EmpDetail!B42","v":"eUtw eh.kk"},{"$f":"EmpDetail!C42","v":"वरिष्ठ अध्यापक"},{"$f":"EmpDetail!D42","v":"राउप्रावि गोरधनपुरा"},{"$f":"EmpDetail!I42","v":44103}]
[null,null,null,null,null,null,{"$f":"EmpDetail!A43","v":40},{"$f":"EmpDetail!B43","v":"eatw pkS/kjh"},{"$f":"EmpDetail!C43","v":"वरिष्ठ अध्यापक"},{"$f":"EmpDetail!D43","v":"राउप्रावि सोंदीफल"},{"$f":"EmpDetail!I43","v":44103}]
[null,null,null,null,null,null,{"$f":"EmpDetail!A44","v":41},{"$f":"EmpDetail!B44","v":0},{"$f":"EmpDetail!C44","v":0},{"$f":"EmpDetail!D44","v":0},{"$f":"EmpDetail!I44","v":0}]
[null,null,null,null,null,null,{"$f":"EmpDetail!A45","v":42},{"$f":"EmpDetail!B45","v":0},{"$f":"EmpDetail!C45","v":0},{"$f":"EmpDetail!D45","v":0},{"$f":"EmpDetail!I45","v":0}]
[null,null,null,null,null,null,{"$f":"EmpDetail!A46","v":43},{"$f":"EmpDetail!B46","v":0},{"$f":"EmpDetail!C46","v":0},{"$f":"EmpDetail!D46","v":0},{"$f":"EmpDetail!I46","v":0}]
[null,null,null,null,null,null,{"$f":"EmpDetail!A47","v":44},{"$f":"EmpDetail!B47","v":0},{"$f":"EmpDetail!C47","v":0},{"$f":"EmpDetail!D47","v":0},{"$f":"EmpDetail!I47","v":0}]
[null,null,null,null,null,null,{"$f":"EmpDetail!A48","v":45},{"$f":"EmpDetail!B48","v":0},{"$f":"EmpDetail!C48","v":0},{"$f":"EmpDetail!D48","v":0},{"$f":"EmpDetail!I48","v":0}]
[null,null,null,null,null,null,{"$f":"EmpDetail!A49","v":46},{"$f":"EmpDetail!B49","v":0},{"$f":"EmpDetail!C49","v":0},{"$f":"EmpDetail!D49","v":0},{"$f":"EmpDetail!I49","v":0}]
[null,null,null,null,null,null,{"$f":"EmpDetail!A50","v":47},{"$f":"EmpDetail!B50","v":0},{"$f":"EmpDetail!C50","v":0},{"$f":"EmpDetail!D50","v":0},{"$f":"EmpDetail!I50","v":0}]
[null,null,null,null,null,null,{"$f":"EmpDetail!A51","v":48},{"$f":"EmpDetail!B51","v":0},{"$f":"EmpDetail!C51","v":0},{"$f":"EmpDetail!D51","v":0},{"$f":"EmpDetail!I51","v":0}]
[null,null,null,null,null,null,{"$f":"EmpDetail!A52","v":49},{"$f":"EmpDetail!B52","v":0},{"$f":"EmpDetail!C52","v":0},{"$f":"EmpDetail!D52","v":0},{"$f":"EmpDetail!I52","v":0}]
[null,null,null,null,null,null,{"$f":"EmpDetail!A53","v":50},{"$f":"EmpDetail!B53","v":0},{"$f":"EmpDetail!C53","v":0},{"$f":"EmpDetail!D53","v":0},{"$f":"EmpDetail!I53","v":0}]
[null,null,null,null,null,null,{"$f":"EmpDetail!A54","v":51},{"$f":"EmpDetail!B54","v":0},{"$f":"EmpDetail!C54","v":0},{"$f":"EmpDetail!D54","v":0},{"$f":"EmpDetail!I54","v":0}]
[null,null,null,null,null,null,{"$f":"EmpDetail!A55","v":52},{"$f":"EmpDetail!B55","v":0},{"$f":"EmpDetail!C55","v":0},{"$f":"EmpDetail!D55","v":0},{"$f":"EmpDetail!I55","v":0}]
[null,null,null,null,null,null,{"$f":"EmpDetail!A56","v":53},{"$f":"EmpDetail!B56","v":0},{"$f":"EmpDetail!C56","v":0},{"$f":"EmpDetail!D56","v":0},{"$f":"EmpDetail!I56","v":0}]
[null,null,null,null,null,null,{"$f":"EmpDetail!A57","v":54},{"$f":"EmpDetail!B57","v":0},{"$f":"EmpDetail!C57","v":0},{"$f":"EmpDetail!D57","v":0},{"$f":"EmpDetail!I57","v":0}]
[null,null,null,null,null,null,{"$f":"EmpDetail!A58","v":55},{"$f":"EmpDetail!B58","v":0},{"$f":"EmpDetail!C58","v":0},{"$f":"EmpDetail!D58","v":0},{"$f":"EmpDetail!I58","v":0}]
[null,null,null,null,null,null,{"$f":"EmpDetail!A59","v":56},{"$f":"EmpDetail!B59","v":0},{"$f":"EmpDetail!C59","v":0},{"$f":"EmpDetail!D59","v":0},{"$f":"EmpDetail!I59","v":0}]
[null,null,null,null,null,null,{"$f":"EmpDetail!A60","v":57},{"$f":"EmpDetail!B60","v":0},{"$f":"EmpDetail!C60","v":0},{"$f":"EmpDetail!D60","v":0},{"$f":"EmpDetail!I60","v":0}]
[null,null,null,null,null,null,{"$f":"EmpDetail!A61","v":58},{"$f":"EmpDetail!B61","v":0},{"$f":"EmpDetail!C61","v":0},{"$f":"EmpDetail!D61","v":0},{"$f":"EmpDetail!I61","v":0}]
[null,null,null,null,null,null,{"$f":"EmpDetail!A62","v":59},{"$f":"EmpDetail!B62","v":0},{"$f":"EmpDetail!C62","v":0},{"$f":"EmpDetail!D62","v":0},{"$f":"EmpDetail!I62","v":0}]
[null,null,null,null,null,null,{"$f":"EmpDetail!A63","v":60},{"$f":"EmpDetail!B63","v":0},{"$f":"EmpDetail!C63","v":0},{"$f":"EmpDetail!D63","v":0},{"$f":"EmpDetail!I63","v":0}]
[null,null,null,null,null,null,{"$f":"EmpDetail!A64","v":61},{"$f":"EmpDetail!B64","v":0},{"$f":"EmpDetail!C64","v":0},{"$f":"EmpDetail!D64","v":0},{"$f":"EmpDetail!I64","v":0}]
[null,null,null,null,null,null,{"$f":"EmpDetail!A65","v":62},{"$f":"EmpDetail!B65","v":0},{"$f":"EmpDetail!C65","v":0},{"$f":"EmpDetail!D65","v":0},{"$f":"EmpDetail!I65","v":0}]
[null,null,null,null,null,null,{"$f":"EmpDetail!A66","v":63},{"$f":"EmpDetail!B66","v":0},{"$f":"EmpDetail!C66","v":0},{"$f":"EmpDetail!D66","v":0},{"$f":"EmpDetail!I66","v":0}]
[null,null,null,null,null,null,{"$f":"EmpDetail!A67","v":64},{"$f":"EmpDetail!B67","v":0},{"$f":"EmpDetail!C67","v":0},{"$f":"EmpDetail!D67","v":0},{"$f":"EmpDetail!I67","v":0}]
[null,null,null,null,null,null,{"$f":"EmpDetail!A68","v":65},{"$f":"EmpDetail!B68","v":0},{"$f":"EmpDetail!C68","v":0},{"$f":"EmpDetail!D68","v":0},{"$f":"EmpDetail!I68","v":0}]
[null,null,null,null,null,null,{"$f":"EmpDetail!A69","v":66},{"$f":"EmpDetail!B69","v":0},{"$f":"EmpDetail!C69","v":0},{"$f":"EmpDetail!D69","v":0},{"$f":"EmpDetail!I69","v":0}]
[null,null,null,null,null,null,{"$f":"EmpDetail!A70","v":67},{"$f":"EmpDetail!B70","v":0},{"$f":"EmpDetail!C70","v":0},{"$f":"EmpDetail!D70","v":0},{"$f":"EmpDetail!I70","v":0}]
[null,null,null,null,null,null,{"$f":"EmpDetail!A71","v":68},{"$f":"EmpDetail!B71","v":0},{"$f":"EmpDetail!C71","v":0},{"$f":"EmpDetail!D71","v":0},{"$f":"EmpDetail!I71","v":0}]
[null,null,null,null,null,null,{"$f":"EmpDetail!A72","v":69},{"$f":"EmpDetail!B72","v":0},{"$f":"EmpDetail!C72","v":0},{"$f":"EmpDetail!D72","v":0},{"$f":"EmpDetail!I72","v":0}]
[null,null,null,null,null,null,{"$f":"EmpDetail!A73","v":70},{"$f":"EmpDetail!B73","v":0},{"$f":"EmpDetail!C73","v":0},{"$f":"EmpDetail!D73","v":0},{"$f":"EmpDetail!I73","v":0}]
[null,null,null,null,null,null,{"$f":"EmpDetail!A74","v":71},{"$f":"EmpDetail!B74","v":0},{"$f":"EmpDetail!C74","v":0},{"$f":"EmpDetail!D74","v":0},{"$f":"EmpDetail!I74","v":0}]
[null,null,null,null,null,null,{"$f":"EmpDetail!A75","v":72},{"$f":"EmpDetail!B75","v":0},{"$f":"EmpDetail!C75","v":0},{"$f":"EmpDetail!D75","v":0},{"$f":"EmpDetail!I75","v":0}]
[null,null,null,null,null,null,{"$f":"EmpDetail!A76","v":73},{"$f":"EmpDetail!B76","v":0},{"$f":"EmpDetail!C76","v":0},{"$f":"EmpDetail!D76","v":0},{"$f":"EmpDetail!I76","v":0}]
[null,null,null,null,null,null,{"$f":"EmpDetail!A77","v":74},{"$f":"EmpDetail!B77","v":0},{"$f":"EmpDetail!C77","v":0},{"$f":"EmpDetail!D77","v":0},{"$f":"EmpDetail!I77","v":0}]
[null,null,null,null,null,null,{"$f":"EmpDetail!A78","v":75},{"$f":"EmpDetail!B78","v":0},{"$f":"EmpDetail!C78","v":0},{"$f":"EmpDetail!D78","v":0},{"$f":"EmpDetail!I78","v":0}]
[null,null,null,null,null,null,{"$f":"EmpDetail!A79","v":76},{"$f":"EmpDetail!B79","v":0},{"$f":"EmpDetail!C79","v":0},{"$f":"EmpDetail!D79","v":0},{"$f":"EmpDetail!I79","v":0}]
[null,null,null,null,null,null,{"$f":"EmpDetail!A80","v":77},{"$f":"EmpDetail!B80","v":0},{"$f":"EmpDetail!C80","v":0},{"$f":"EmpDetail!D80","v":0},{"$f":"EmpDetail!I80","v":0}]
[null,null,null,null,null,null,{"$f":"EmpDetail!A81","v":78},{"$f":"EmpDetail!B81","v":0},{"$f":"EmpDetail!C81","v":0},{"$f":"EmpDetail!D81","v":0},{"$f":"EmpDetail!I81","v":0}]
[null,null,null,null,null,null,{"$f":"EmpDetail!A82","v":79},{"$f":"EmpDetail!B82","v":0},{"$f":"EmpDetail!C82","v":0},{"$f":"EmpDetail!D82","v":0},{"$f":"EmpDetail!I82","v":0}]
[null,null,null,null,null,null,{"$f":"EmpDetail!A83","v":80},{"$f":"EmpDetail!B83","v":0},{"$f":"EmpDetail!C83","v":0},{"$f":"EmpDetail!D83","v":0},{"$f":"EmpDetail!I83","v":0}]
[null,null,null,null,null,null,{"$f":"EmpDetail!A84","v":81},{"$f":"EmpDetail!B84","v":0},{"$f":"EmpDetail!C84","v":0},{"$f":"EmpDetail!D84","v":0},{"$f":"EmpDetail!I84","v":0}]
[null,null,null,null,null,null,{"$f":"EmpDetail!A85","v":82},{"$f":"EmpDetail!B85","v":0},{"$f":"EmpDetail!C85","v":0},{"$f":"EmpDetail!D85","v":0},{"$f":"EmpDetail!I85","v":0}]
[null,null,null,null,null,null,{"$f":"EmpDetail!A86","v":83},{"$f":"EmpDetail!B86","v":0},{"$f":"EmpDetail!C86","v":0},{"$f":"EmpDetail!D86","v":0},{"$f":"EmpDetail!I86","v":0}]
[null,null,null,null,null,null,{"$f":"EmpDetail!A87","v":84},{"$f":"EmpDetail!B87","v":0},{"$f":"EmpDetail!C87","v":0},{"$f":"EmpDetail!D87","v":0},{"$f":"EmpDetail!I87","v":0}]
[null,null,null,null,null,null,{"$f":"EmpDetail!A88","v":85},{"$f":"EmpDetail!B88","v":0},{"$f":"EmpDetail!C88","v":0},{"$f":"EmpDetail!D88","v":0},{"$f":"EmpDetail!I88","v":0}]
[null,null,null,null,null,null,{"$f":"EmpDetail!A89","v":86},{"$f":"EmpDetail!B89","v":0},{"$f":"EmpDetail!C89","v":0},{"$f":"EmpDetail!D89","v":0},{"$f":"EmpDetail!I89","v":0}]
[null,null,null,null,null,null,{"$f":"EmpDetail!A90","v":87},{"$f":"EmpDetail!B90","v":0},{"$f":"EmpDetail!C90","v":0},{"$f":"EmpDetail!D90","v":0},{"$f":"EmpDetail!I90","v":0}]
[null,null,null,null,null,null,{"$f":"EmpDetail!A91","v":88},{"$f":"EmpDetail!B91","v":0},{"$f":"EmpDetail!C91","v":0},{"$f":"EmpDetail!D91","v":0},{"$f":"EmpDetail!I91","v":0}]
[null,null,null,null,null,null,{"$f":"EmpDetail!A92","v":89},{"$f":"EmpDetail!B92","v":0},{"$f":"EmpDetail!C92","v":0},{"$f":"EmpDetail!D92","v":0},{"$f":"EmpDetail!I92","v":0}]
[null,null,null,null,null,null,{"$f":"EmpDetail!A93","v":90},{"$f":"EmpDetail!B93","v":0},{"$f":"EmpDetail!C93","v":0},{"$f":"EmpDetail!D93","v":0},{"$f":"EmpDetail!I93","v":0}]
[null,null,null,null,null,null,{"$f":"EmpDetail!A94","v":91},{"$f":"EmpDetail!B94","v":0},{"$f":"EmpDetail!C94","v":0},{"$f":"EmpDetail!D94","v":0},{"$f":"EmpDetail!I94","v":0}]
[null,null,null,null,null,null,{"$f":"EmpDetail!A95","v":92},{"$f":"EmpDetail!B95","v":0},{"$f":"EmpDetail!C95","v":0},{"$f":"EmpDetail!D95","v":0},{"$f":"EmpDetail!I95","v":0}]
[null,null,null,null,null,null,{"$f":"EmpDetail!A96","v":93},{"$f":"EmpDetail!B96","v":0},{"$f":"EmpDetail!C96","v":0},{"$f":"EmpDetail!D96","v":0},{"$f":"EmpDetail!I96","v":0}]
[null,null,null,null,null,null,{"$f":"EmpDetail!A97","v":94},{"$f":"EmpDetail!B97","v":0},{"$f":"EmpDetail!C97","v":0},{"$f":"EmpDetail!D97","v":0},{"$f":"EmpDetail!I97","v":0}]
[null,null,null,null,null,null,{"$f":"EmpDetail!A98","v":95},{"$f":"EmpDetail!B98","v":0},{"$f":"EmpDetail!C98","v":0},{"$f":"EmpDetail!D98","v":0},{"$f":"EmpDetail!I98","v":0}]
[null,null,null,null,null,null,{"$f":"EmpDetail!A99","v":96},{"$f":"EmpDetail!B99","v":0},{"$f":"EmpDetail!C99","v":0},{"$f":"EmpDetail!D99","v":0},{"$f":"EmpDetail!I99","v":0}]
[null,null,null,null,null,null,{"$f":"EmpDetail!A100","v":97},{"$f":"EmpDetail!B100","v":0},{"$f":"EmpDetail!C100","v":0},{"$f":"EmpDetail!D100","v":0},{"$f":"EmpDetail!I100","v":0}]
[null,null,null,null,null,null,{"$f":"EmpDetail!A101","v":98},{"$f":"EmpDetail!B101","v":0},{"$f":"EmpDetail!C101","v":0},{"$f":"EmpDetail!D101","v":0},{"$f":"EmpDetail!I101","v":0}]
[null,null,null,null,null,null,{"$f":"EmpDetail!A102","v":99},{"$f":"EmpDetail!B102","v":0},{"$f":"EmpDetail!C102","v":0},{"$f":"EmpDetail!D102","v":0},{"$f":"EmpDetail!I102","v":0}]
[null,null,null,null,null,null,{"$f":"EmpDetail!A103","v":100},{"$f":"EmpDetail!B103","v":0},{"$f":"EmpDetail!C103","v":0},{"$f":"EmpDetail!D103","v":0},{"$f":"EmpDetail!I103","v":0}]

{"sheet":"LPC","index":26,"n_rows":104,"n_cols":18,"rows_kept":104,"cut":false,"hidden":true,"merged":[[97,10,97,12],[98,10,98,12],[99,10,99,12],[97,0,97,1],[98,0,98,1],[98,2,98,3],[92,8,92,9],[93,8,93,9],[94,8,94,9],[92,10,92,11],[93,10,93,11],[94,10,94,11],[95,6,95,7],[95,8,95,9],[95,10,95,11],[92,6,92,7],[93,6,93,7],[94,6,94,7],[92,0,92,2],[93,0,93,2],[94,0,94,2],[95,0,95,2],[92,4,92,5],[93,4,93,5],[83,10,83,11],[84,10,84,11],[85,10,85,11],[86,10,86,11],[87,10,87,11],[88,10,88,11],[89,10,89,11],[90,10,90,11],[91,10,91,11],[83,6,83,7],[84,6,84,7],[85,6,85,7],[86,6,86,7],[87,6,87,7],[88,6,88,7],[89,6,89,7],[90,6,90,7],[91,6,91,7],[83,8,83,9],[84,8,84,9],[85,8,85,9],[86,8,86,9],[87,8,87,9],[88,8,88,9],[89,8,89,9],[90,8,90,9],[91,8,91,9],[94,4,94,5],[95,4,95,5],[83,0,83,2],[84,0,84,2],[85,0,85,2],[86,0,86,2],[87,0,87,2],[88,0,88,2],[89,0,89,2],[90,0,90,2],[91,0,91,2],[83,4,83,5],[84,4,84,5],[85,4,85,5],[86,4,86,5],[87,4,87,5],[88,4,88,5],[89,4,89,5],[90,4,90,5],[91,4,91,5],[80,0,80,12],[81,0,81,2],[81,4,81,5],[81,6,81,7],[81,8,81,9],[81,10,81,11],[82,0,82,2],[82,4,82,5],[82,6,82,7],[82,8,82,9],[82,10,82,11],[71,0,71,12],[72,0,72,12],[73,0,73,12],[74,0,74,12],[75,0,75,12],[76,0,76,12],[77,0,77,12],[78,0,78,12],[79,0,79,12],[66,9,66,10],[67,9,67,10],[68,9,68,10],[69,9,69,10],[66,11,66,12],[67,11,67,12],[68,11,68,12],[69,11,69,12],[70,0,70,12],[66,1,66,3],[67,1,67,3],[68,1,68,3],[69,1,69,3],[66,4,66,6],[67,4,67,6],[68,4,68,6],[69,4,69,6],[69,7,69,8],[68,7,68,8],[67,7,67,8],[66,7,66,8],[64,1,64,3],[65,1,65,3],[64,4,64,6],[65,4,65,6],[64,7,64,8],[65,7,65,8],[64,9,64,10],[64,11,64,12],[65,9,65,10],[65,11,65,12],[0,0,0,1],[0,7,0,11],[9,5,9,6],[9,7,9,8],[59,0,59,12],[60,0,60,12],[61,0,61,12],[62,0,62,12],[63,0,63,12],[1,0,1,1],[2,0,2,1],[3,0,3,1],[5,0,5,1],[1,10,1,12],[2,10,2,12],[1,2,1,9],[2,2,2,9],[5,4,5,7],[6,2,6,3],[6,4,6,7],[6,10,6,12],[8,1,8,4],[8,8,8,9],[8,5,8,7],[8,10,8,12],[6,0,6,1],[3,8,3,9],[3,10,3,12],[4,8,4,9],[4,10,4,12],[4,0,4,7],[3,2,3,7],[5,2,5,3],[5,11,5,12],[11,2,11,3],[11,4,11,5],[11,6,11,8],[11,10,11,11],[12,1,12,3],[12,9,12,12],[12,4,12,8],[9,1,9,4],[9,10,9,12],[10,2,10,3],[10,4,10,5],[10,6,10,8],[10,10,10,12],[18,3,18,4],[14,2,14,6],[14,8,14,9],[14,11,14,12],[15,11,15,12],[16,11,16,12],[13,1,13,3],[13,4,13,8],[13,9,13,12],[15,3,15,4],[16,3,16,4],[17,3,17,4],[26,9,26,10],[26,5,26,8],[26,11,26,12],[27,1,27,3],[27,4,27,8],[27,9,27,10],[27,11,27,12],[19,4,19,6],[20,4,20,6],[21,4,21,6],[22,4,22,6],[23,4,23,6],[24,5,24,8],[40,1,40,5],[35,2,35,4],[35,6,35,7],[35,11,35,12],[36,2,36,4],[38,1,38,12],[39,5,39,6],[28,2,28,3],[34,2,34,4],[34,6,34,7],[34,11,34,12],[33,11,33,12],[33,1,33,7],[33,8,33,9],[43,0,43,4],[43,5,43,7],[43,8,43,10],[43,11,43,12],[44,0,44,4],[44,5,44,7],[44,8,44,10],[44,11,44,12],[45,0,45,4],[53,0,53,4],[45,5,45,7],[46,5,46,7],[47,5,47,7],[48,5,48,7],[49,5,49,7],[50,5,50,7],[51,5,51,7],[52,5,52,7],[46,0,46,4],[47,0,47,4],[48,0,48,4],[49,0,49,4],[50,0,50,4],[51,0,51,4],[57,2,57,3],[47,11,47,12],[46,11,46,12],[45,11,45,12],[56,10,56,12],[57,10,57,12],[58,10,58,12],[53,11,53,12],[52,11,52,12],[51,11,51,12],[50,11,50,12],[49,11,49,12],[48,11,48,12],[53,5,53,7],[45,8,45,10],[46,8,46,10],[47,8,47,10],[48,8,48,10],[49,8,49,10],[50,8,50,10],[51,8,51,10],[52,8,52,10],[53,8,53,10],[52,0,52,4]]}
[null,null,null,null,null,null,null,"dkfeZd dk dzekad ntZ djsa&",null,null,null,null,8]
["G.A-62",null,"Government of Rajasthan",null,null,null,null,null,null,null,"New Form No. G.A-35"]
["GF&AR-162",null,"jktLFkku ljdkj",null,null,null,null,null,null,null,"Rule-62"]
["Office-",null,"………………………………………………………………………..",null,null,null,null,null,"Department-",null,"…………………………………………….."]
[{"$f":"Master!G2&Master!H2","v":"कार्यालय&राजकीय उच्च माध्यमिक विद्यालय ]चौगाई]टोंक"},null,null,null,null,null,null,null,"foHkkx&",null,"ek/;fed f'k{kk",null,null,{"$f":"EmpDetail!A4","v":1},{"$f":"EmpDetail!B4","v":"fd'ku yky cSjok"},{"$f":"EmpDetail!C4","v":"प्रधानाचार्य"},{"$f":"EmpDetail!D4","v":"राउमावि चौगाई"},{"$f":"EmpDetail!K4","v":95900}]
["Book No-",null,null,null,"Last pay Certificate",null,null,null,null,"S.No.",null,null,null,{"$f":"EmpDetail!A5","v":2},{"$f":"EmpDetail!B5","v":"iwj.k pUn y{kdkj"},{"$f":"EmpDetail!C5","v":"व्याख्याता"},{"$f":"EmpDetail!D5","v":"राउमावि चौगाई"},{"$f":"EmpDetail!K5","v":56100}]
["iqLrd la[;k&",null,null,null,"xr Hkqxrku izek.k i=",null,null,null,null,"dzekad&",{"$f":"Master!H3&Master!I3&Master!J3&Master!E3&\"/\"","v":"राउमावि/चौगाई/संस्था/2021-22/"},null,null,{"$f":"EmpDetail!A6","v":3},{"$f":"EmpDetail!B6","v":"jktsUnz dqekj tSu"},{"$f":"EmpDetail!C6","v":"व्याख्याता"},{"$f":"EmpDetail!D6","v":"राउमावि चौगाई"},{"$f":"EmpDetail!K6","v":63100}]
[null,null,null,null,null,null,null,null,null,null,null,null,null,{"$f":"EmpDetail!A7","v":4},{"$f":"EmpDetail!B7","v":"fd'ku yky cSjok"},{"$f":"EmpDetail!C7","v":"व्याख्याता"},{"$f":"EmpDetail!D7","v":"राउमावि चौगाई"},{"$f":"EmpDetail!K7","v":54500}]
[1,"Last Pay Certificate of Shri/Smt./Ms.",null,null,null,null,null,null,"of the Department",null,null,null,null,{"$f":"EmpDetail!A8","v":5},{"$f":"EmpDetail!B8","v":"lR;ukjk;.k 'kekZ"},{"$f":"EmpDetail!C8","v":"वरिष्ठ अध्यापक"},{"$f":"EmpDetail!D8","v":"राउमावि चौगाई"},{"$f":"EmpDetail!K8","v":71300}]
[null,"xr Hkqxrku izek.k i= Jh@Jhefr@lqJh",null,null,null,{"$f":"IF(ISNA(VLOOKUP($M1,$N$5:$R$104,2,FALSE)),\"\",VLOOKUP($M1,$N$5:$R$105,2,FALSE))","v":"t;iky flag"},null,{"$f":"IF(ISNA(VLOOKUP($M1,$N$5:$R$104,3,FALSE)),\"\",VLOOKUP($M1,$N$5:$R$105,3,FALSE))","v":"वरिष्ठ अध्यापक"},null,"foHkkx&",{"$f":"K5","v":"ek/;fed f'k{kk"},null,null,{"$f":"EmpDetail!A9","v":6},{"$f":"EmpDetail!B9","v":"iq\"ik tSu"},{"$f":"EmpDetail!C9","v":"वरिष्ठ अध्यापक"},{"$f":"EmpDetail!D9","v":"राउमावि चौगाई"},{"$f":"EmpDetail!K9","v":73400}]
[null,"of the",null,null,"Proceeding on",null,null,null,null,"to",null,null,null,{"$f":"EmpDetail!A10","v":7},{"$f":"EmpDetail!B10","v":"vk'kkjke eh.kk"},{"$f":"EmpDetail!C10","v":"वरिष्ठ अध्यापक"},{"$f":"EmpDetail!D10","v":"राउमावि चौगाई"},{"$f":"EmpDetail!K10","v":52300}]
[null,"tks","पदौन्नति",null,"ij",null,{"$f":"IF(ISNA(VLOOKUP($M1,$N$5:$R$104,4,FALSE)),\"\",VLOOKUP($M1,$N$5:$R$105,4,FALSE))","v":"राउमावि चौगाई"},null,null,"ls","jkmekfo cxMok Vksad",null,"tk jgs gS ",{"$f":"EmpDetail!A11","v":8},{"$f":"EmpDetail!B11","v":"t;iky flag"},{"$f":"EmpDetail!C11","v":"वरिष्ठ अध्यापक"},{"$f":"EmpDetail!D11","v":"राउमावि चौगाई"},{"$f":"EmpDetail!K11","v":63100}]
[2,"He/She has been paid upto",null,null,null,null,null,null,null,"as the following rates:-",null,null,null,{"$f":"EmpDetail!A12","v":9},{"$f":"EmpDetail!B12","v":"jkeizlkn jsxj"},{"$f":"EmpDetail!C12","v":"वरिष्ठ अध्यापक"},{"$f":"EmpDetail!D12","v":"राउमावि चौगाई"},{"$f":"EmpDetail!K12","v":46500}]
[null,"budks Hkqxrku fnukad&",null,null,"2021-03-31",null,null,null,null,"rd fuEufyf[kr nj ls fd;k tk pqdk gS%&",null,null,null,{"$f":"EmpDetail!A13","v":10},{"$f":"EmpDetail!B13","v":"egsUnz dqekj tkV"},{"$f":"EmpDetail!C13","v":"शारीरिक शिक्षक"},{"$f":"EmpDetail!D13","v":"राउमावि चौगाई"},{"$f":"EmpDetail!K13","v":61300}]
[null,null,"Particulars      foxr",null,null,null,null,null,"Rates    nj",null,null,"Gross Salary",null,{"$f":"EmpDetail!A14","v":11},{"$f":"EmpDetail!B14","v":"NksVw yky jsxj"},{"$f":"EmpDetail!C14","v":"अध्यापक ग्रेड III"},{"$f":"EmpDetail!D14","v":"राउमावि चौगाई"},{"$f":"EmpDetail!K14","v":65200}]
[null,null,"(i)","Substantive Pay",null,"ewy osru",null,null,null,{"$f":"IF(ISNA(VLOOKUP($M1,$N$5:$R$104,5,FALSE)),\"\",VLOOKUP($M1,$N$5:$R$105,5,FALSE))","v":63100},null,"dqy osru",null,{"$f":"EmpDetail!A15","v":12},{"$f":"EmpDetail!B15","v":"dUgS;k yky egkoj"},{"$f":"EmpDetail!C15","v":"अध्यापक ग्रेड III"},{"$f":"EmpDetail!D15","v":"राउमावि चौगाई"},{"$f":"EmpDetail!K15","v":65200}]
[null,null,"(ii)","Officiating Pay",null,"LFkkukiUu osru",null,null,null,0,null,{"$f":"SUM(J16:J24)","v":78875},null,{"$f":"EmpDetail!A16","v":13},{"$f":"EmpDetail!B16","v":"prqHkqZt tkV"},{"$f":"EmpDetail!C16","v":"अध्यापक ग्रेड III"},{"$f":"EmpDetail!D16","v":"राउमावि चौगाई"},{"$f":"EmpDetail!K16","v":52300}]
[null,null,"(iii)","Special Pay",null,"fo'ks\"k osru",null,null,null,0,null,null,null,{"$f":"EmpDetail!A17","v":14},{"$f":"EmpDetail!B17","v":"vklsQk [kku"},{"$f":"EmpDetail!C17","v":"अध्यापक ग्रेड III"},{"$f":"EmpDetail!D17","v":"राउमावि चौगाई"},{"$f":"EmpDetail!K17","v":52300}]
[null,null,"(iv)","Allowances",null,"HkRrs ¼eagxkbZ HkRrk½",null,17,null,{"$f":"ROUNDUP(J16*H19%,0)","v":10727},null,null,null,{"$f":"EmpDetail!A18","v":15},{"$f":"EmpDetail!B18","v":"lq'khyk cSjok"},{"$f":"EmpDetail!C18","v":"कनिष्ठ सहायक"},{"$f":"EmpDetail!D18","v":"राउमावि चौगाई"},{"$f":"EmpDetail!K18","v":14600}]
[null,null,null,"(a)","House Rent edku fdjk;k",null,null,8,null,{"$f":"ROUNDUP(J16*H20%,0)","v":5048},null,null,null,{"$f":"EmpDetail!A19","v":16},{"$f":"EmpDetail!B19","v":"txnh'k izlkn rsyh"},{"$f":"EmpDetail!C19","v":"सहायक कर्मचारी"},{"$f":"EmpDetail!D19","v":"राउमावि चौगाई"},{"$f":"EmpDetail!K19","v":34700}]
[null,null,null,"(b)","Horse/camel ?kksMk@maV",null,null,null,null,0,null,null,null,{"$f":"EmpDetail!A20","v":17},{"$f":"EmpDetail!B20","v":"jfoUnz dqekj tSu"},{"$f":"EmpDetail!C20","v":"अध्यापक ग्रेड III"},{"$f":"EmpDetail!D20","v":"राउप्रावि मोहिनी"},{"$f":"EmpDetail!K20","v":65200}]
[null,null,null,"(c )","Conveyance lokjh",null,null,null,null,0,null,null,null,{"$f":"EmpDetail!A21","v":18},{"$f":"EmpDetail!B21","v":" ';ke lqUnj ckxkSM"},{"$f":"EmpDetail!C21","v":"अध्यापक ग्रेड III"},{"$f":"EmpDetail!D21","v":"राउप्रावि मोहिनी"},{"$f":"EmpDetail!K21","v":40300}]
[null,null,null,"(d)","H D A   dfBu dRrZO;",null,null,null,null,0,null,null,null,{"$f":"EmpDetail!A22","v":19},{"$f":"EmpDetail!B22","v":"d`\".kk 'kekZ"},{"$f":"EmpDetail!C22","v":"प्रबोधक"},{"$f":"EmpDetail!D22","v":"राउप्रावि मोहिनी"},{"$f":"EmpDetail!K22","v":45100}]
[null,null,null,"(e)","Washing/Others /qkykbZ@vU;",null,null,null,null,0,null,null,null,{"$f":"EmpDetail!A23","v":20},{"$f":"EmpDetail!B23","v":"/keZsUnz pkS/kjh"},{"$f":"EmpDetail!C23","v":"अध्यापक ग्रेड III"},{"$f":"EmpDetail!D23","v":"राउप्रावि गोरधनपुरा"},{"$f":"EmpDetail!K23","v":40300}]
[null,null,null,null,null,"Deductions dVkSfr;ka",null,null,null,null,null,null,null,{"$f":"EmpDetail!A24","v":21},{"$f":"EmpDetail!B24","v":"izgykn ekyh"},{"$f":"EmpDetail!C24","v":"प्रबोधक"},{"$f":"EmpDetail!D24","v":"राउप्रावि गोरधनपुरा"},{"$f":"EmpDetail!K24","v":46500}]
[null,null,null,null,null,null,null,null,null,null,null,null,null,{"$f":"EmpDetail!A25","v":22},{"$f":"EmpDetail!B25","v":"jken;ky xqtZj"},{"$f":"EmpDetail!C25","v":"प्रबोधक"},{"$f":"EmpDetail!D25","v":"राउप्रावि सोंदीफल"},{"$f":"EmpDetail!K25","v":45100}]
[3,"He made over charge of the office of",null,null,null,null,null,null,null,"on the B.N./A.N. of",null,null,null,{"$f":"EmpDetail!A26","v":23},{"$f":"EmpDetail!B26","v":"vkSeizdk'k tkV"},{"$f":"EmpDetail!C26","v":"अध्यापक ग्रेड III"},{"$f":"EmpDetail!D26","v":"राउप्रावि सोंदीफल"},{"$f":"EmpDetail!K26","v":45100}]
[null,"mUgksus",null,null,{"$f":"IF(ISNA(VLOOKUP($M1,$N$5:$R$104,4,FALSE)),\"\",VLOOKUP($M1,$N$5:$R$105,4,FALSE))","v":"राउमावि चौगाई"},null,null,null,null,"dk dk;ZHkkj fnukad&",null,"2021-03-31",null,{"$f":"EmpDetail!A27","v":24},{"$f":"EmpDetail!B27","v":"vthr flag"},{"$f":"EmpDetail!C27","v":"अध्यापक ग्रेड III"},{"$f":"EmpDetail!D27","v":"राप्रावि जानकीवल्लभपुरा"},{"$f":"EmpDetail!K27","v":40300}]
[null,"dks","मध्यान्ह पश्चात",null,"lkSai fn;k gS A",null,null,null,null,null,null,null,null,{"$f":"EmpDetail!A28","v":25},{"$f":"EmpDetail!B28","v":"eq[rkj eha;k"},{"$f":"EmpDetail!C28","v":"प्रबोधक"},{"$f":"EmpDetail!D28","v":"राप्रावि जानकीवल्लभपुरा"},{"$f":"EmpDetail!K28","v":45100}]
[4,"Recoveries are to be made from the pay of government servent as details on Reverse.",null,null,null,null,null,null,null,null,null,null,null,{"$f":"EmpDetail!A29","v":26},{"$f":"EmpDetail!B29","v":"eks0 tehy "},{"$f":"EmpDetail!C29","v":"प्रबोधक"},{"$f":"EmpDetail!D29","v":"राप्रावि रसूलपुरा"},{"$f":"EmpDetail!K29","v":45100}]
[null,"fiNys i`\"B ij fy[ks vuqlkj deZpkjh ls olwfy;ka djuh gSa A",null,null,null,null,null,null,null,null,null,null,null,{"$f":"EmpDetail!A30","v":27},{"$f":"EmpDetail!B30","v":"lkaojey tkV"},{"$f":"EmpDetail!C30","v":"अध्यापक ग्रेड III"},{"$f":"EmpDetail!D30","v":"राप्रावि रसूलपुरा"},{"$f":"EmpDetail!K30","v":38000}]
[5,"He has been paid leave salary as details below.",null,null,null,null,"budks fuEufyf[kr vodk'k osru ns fn;k gS A",null,null,null,null,null,null,{"$f":"EmpDetail!A31","v":28},{"$f":"EmpDetail!B31","v":"pkS/kjh eksuk jkekorkj"},{"$f":"EmpDetail!C31","v":"अध्यापक ग्रेड III"},{"$f":"EmpDetail!D31","v":"राप्रावि मोहिनी ढाणी बाढ"},{"$f":"EmpDetail!K31","v":38000}]
[null,"Deductions have been made as on the Reverse.",null,null,null,null,"fiNys i`\"B ij fy[kh dVkSfr;ka dj yh xbZ gSa A",null,null,null,null,null,null,{"$f":"EmpDetail!A32","v":29},{"$f":"EmpDetail!B32","v":"rkjkpUn tk;loky"},{"$f":"EmpDetail!C32","v":"प्रबोधक"},{"$f":"EmpDetail!D32","v":"राप्रावि मोहिनी ढाणी बाढ"},{"$f":"EmpDetail!K32","v":41300}]
[null,"Period  vof/k",null,null,null,null,null,null,"Rate   nj",null,null,"Amount     jde",null,{"$f":"EmpDetail!A33","v":30},{"$f":"EmpDetail!B33","v":"jketl ;kno"},{"$f":"EmpDetail!C33","v":"अध्यापक ग्रेड III"},{"$f":"EmpDetail!D33","v":"राप्रावि बैरवा ढाणी सोन्दीफल"},{"$f":"EmpDetail!K33","v":63100}]
[null,"From","……………………………………",null,null,"to","……………………………",null,"at Rs.","……………","a month","…………………………….",null,{"$f":"EmpDetail!A34","v":31},{"$f":"EmpDetail!B34","v":"dtksMey eh.kk"},{"$f":"EmpDetail!C34","v":"अध्यापक ग्रेड III"},{"$f":"EmpDetail!D34","v":"राप्रावि बैरवा ढाणी सोन्दीफल"},{"$f":"EmpDetail!K34","v":38000}]
[null,"fnukad ls",null,null,null,"fnukad rd",null,null,"nj :",null,"ekgokj",null,null,{"$f":"EmpDetail!A35","v":32},{"$f":"EmpDetail!B35","v":"/kaut; xkSRre"},{"$f":"EmpDetail!C35","v":"अध्यापक ग्रेड III"},{"$f":"EmpDetail!D35","v":"राउप्रावि गोरधनपुरा"},{"$f":"EmpDetail!K35","v":34800}]
[null,null,null,null,null,null,null,null,null,null,null,null,null,{"$f":"EmpDetail!A36","v":33},{"$f":"EmpDetail!B36","v":"d`\".kk xaxoky"},{"$f":"EmpDetail!C36","v":"अध्यापक ग्रेड III"},{"$f":"EmpDetail!D36","v":"राउप्रावि गोरधनपुरा"},{"$f":"EmpDetail!K36","v":33800}]
[6,"He is entitled to draw the following amount.",null,null,null,null,";g fuEufyf[kr jde ysus ds gdnkj gS A",null,null,null,null,null,null,{"$f":"EmpDetail!A37","v":34},{"$f":"EmpDetail!B37","v":"n'kjFk dqekj ;kno"},{"$f":"EmpDetail!C37","v":"अध्यापक ग्रेड III"},{"$f":"EmpDetail!D37","v":"राउप्रावि सोंदीफल"},{"$f":"EmpDetail!K37","v":23700}]
[null,null,null,null,null,null,null,null,null,null,null,null,null,{"$f":"EmpDetail!A38","v":35},{"$f":"EmpDetail!B38","v":"d`\".k yky tkV"},{"$f":"EmpDetail!C38","v":"अध्यापक ग्रेड III"},{"$f":"EmpDetail!D38","v":"राउप्रावि सोंदीफल"},{"$f":"EmpDetail!K38","v":33800}]
[7,"He is entitled to joining time for",null,null,null,"…………………………….",null,"days.",null,null,null,null,null,{"$f":"EmpDetail!A39","v":36},{"$f":"EmpDetail!B39","v":"nhisUnz dqekj iztkir"},{"$f":"EmpDetail!C39","v":"अध्यापक ग्रेड III"},{"$f":"EmpDetail!D39","v":"राउप्रावि सोंदीफल"},{"$f":"EmpDetail!K39","v":33800}]
[null,"budks nwljh txg dk;ZHkkj laHkkyus ds fy;s fu;ekuqlkj",null,null,null,null,0,"fnu rd dk le; fey ldrk gS A",null,null,null,null,null,{"$f":"EmpDetail!A40","v":37},{"$f":"EmpDetail!B40","v":"uohu dqekj"},{"$f":"EmpDetail!C40","v":"अध्यापक ग्रेड III"},{"$f":"EmpDetail!D40","v":"राउप्रावि मोहिनी"},{"$f":"EmpDetail!K40","v":33800}]
[8,"He finances the insurance policies detailed below from the provident fund.",null,null,null,null,null,null,null,null,null,null,null,{"$f":"EmpDetail!A41","v":38},{"$f":"EmpDetail!B41","v":"ehrs'k dqekj 'kekZ"},{"$f":"EmpDetail!C41","v":"अध्यापक ग्रेड III"},{"$f":"EmpDetail!D41","v":"राउप्रावि मोहिनी"},{"$f":"EmpDetail!K41","v":34800}]
[null,"budh fuEufyf[kr ikWfyfl;ksa dk Hkqxrku izksfoMsUV Q.M ls fd;k tkrk gS A",null,null,null,null,null,null,null,null,null,null,null,{"$f":"EmpDetail!A42","v":39},{"$f":"EmpDetail!B42","v":"eUtw eh.kk"},{"$f":"EmpDetail!C42","v":"वरिष्ठ अध्यापक"},{"$f":"EmpDetail!D42","v":"राउप्रावि गोरधनपुरा"},{"$f":"EmpDetail!K42","v":33800}]
["                            Name of Insurance Company                             chek dk uke ;k jktdh; chek foHkkx",null,null,null,null,"              Number of Policies     ikWfylh uacj",null,null,"            Amount of Premium        fd'r dh jkf'k",null,null,"     Due date for the      fd'r Hkqxrku dh frfFk",null,{"$f":"EmpDetail!A43","v":40},{"$f":"EmpDetail!B43","v":"eatw pkS/kjh"},{"$f":"EmpDetail!C43","v":"वरिष्ठ अध्यापक"},{"$f":"EmpDetail!D43","v":"राउप्रावि सोंदीफल"},{"$f":"EmpDetail!K43","v":26500}]
[1,null,null,null,null,2,null,null,3,null,null,4,null,{"$f":"EmpDetail!A44","v":41},{"$f":"EmpDetail!B44","v":0},{"$f":"EmpDetail!C44","v":0},{"$f":"EmpDetail!D44","v":0},{"$f":"EmpDetail!K44","v":0}]
["GPF/Ec.Pen.fund",null,null,null,null,110011864700,null,null,6543,null,null,{"$f":"IF(A46=\"\",\"\",E$14)","v":"2021-03-31"},null,{"$f":"EmpDetail!A45","v":42},{"$f":"EmpDetail!B45","v":0},{"$f":"EmpDetail!C45","v":0},{"$f":"EmpDetail!D45","v":0},{"$f":"EmpDetail!K45","v":0}]
["Income Tax",null,null,null,null,"AHJPJ2211Q",null,null,5000,null,null,{"$f":"IF(A47=\"\",\"\",E$14)","v":"2021-03-31"},null,{"$f":"EmpDetail!A46","v":43},{"$f":"EmpDetail!B46","v":0},{"$f":"EmpDetail!C46","v":0},{"$f":"EmpDetail!D46","v":0},{"$f":"EmpDetail!K46","v":0}]
["GIS",null,null,null,null,null,null,null,null,null,null,"2021-03-31",null,{"$f":"EmpDetail!A47","v":44},{"$f":"EmpDetail!B47","v":0},{"$f":"EmpDetail!C47","v":0},{"$f":"EmpDetail!D47","v":0},{"$f":"EmpDetail!K47","v":0}]
[null,null,null,null,null,null,null,null,null,null,null,"",null,{"$f":"EmpDetail!A48","v":45},{"$f":"EmpDetail!B48","v":0},{"$f":"EmpDetail!C48","v":0},{"$f":"EmpDetail!D48","v":0},{"$f":"EmpDetail!K48","v":0}]
[null,null,null,null,null,null,null,null,null,null,null,"",null,{"$f":"EmpDetail!A49","v":46},{"$f":"EmpDetail!B49","v":0},{"$f":"EmpDetail!C49","v":0},{"$f":"EmpDetail!D49","v":0},{"$f":"EmpDetail!K49","v":0}]
[null,null,null,null,null,null,null,null,null,null,null,"",null,{"$f":"EmpDetail!A50","v":47},{"$f":"EmpDetail!B50","v":0},{"$f":"EmpDetail!C50","v":0},{"$f":"EmpDetail!D50","v":0},{"$f":"EmpDetail!K50","v":0}]
[null,null,null,null,null,null,null,null,null,null,null,"",null,{"$f":"EmpDetail!A51","v":48},{"$f":"EmpDetail!B51","v":0},{"$f":"EmpDetail!C51","v":0},{"$f":"EmpDetail!D51","v":0},{"$f":"EmpDetail!K51","v":0}]
[null,null,null,null,null,null,null,null,null,null,null,"",null,{"$f":"EmpDetail!A52","v":49},{"$f":"EmpDetail!B52","v":0},{"$f":"EmpDetail!C52","v":0},{"$f":"EmpDetail!D52","v":0},{"$f":"EmpDetail!K52","v":0}]
[null,null,null,null,null,null,null,null,null,null,null,"",null,{"$f":"EmpDetail!A53","v":50},{"$f":"EmpDetail!B53","v":0},{"$f":"EmpDetail!C53","v":0},{"$f":"EmpDetail!D53","v":0},{"$f":"EmpDetail!K53","v":0}]
[9,"The Details of Income Tax recoverdfrom him up to date from the bigining of the current year are noted on the Reverse.",null,null,null,null,null,null,null,null,null,null,null,{"$f":"EmpDetail!A54","v":51},{"$f":"EmpDetail!B54","v":0},{"$f":"EmpDetail!C54","v":0},{"$f":"EmpDetail!D54","v":0},{"$f":"EmpDetail!K54","v":0}]
[null,"vk;dj foxr tks pkyw o\"kZ esa vkt rd olwy gqvk gS fiNys i`\"B ij fyf[kr gS A",null,null,null,null,null,null,null,null,null,null,null,{"$f":"EmpDetail!A55","v":52},{"$f":"EmpDetail!B55","v":0},{"$f":"EmpDetail!C55","v":0},{"$f":"EmpDetail!D55","v":0},{"$f":"EmpDetail!K55","v":0}]
[null,"Date-",null,null,null,null,null,null,null,null,{"$f":"Master!B2","v":"प्रधानाचार्य"},null,null,{"$f":"EmpDetail!A56","v":53},{"$f":"EmpDetail!B56","v":0},{"$f":"EmpDetail!C56","v":0},{"$f":"EmpDetail!D56","v":0},{"$f":"EmpDetail!K56","v":0}]
[null,"fnukad&",{"$f":"L28","v":"2021-03-31"},null,null,null,null,null,null,null,{"$f":"Master!B3","v":"राजकीय उच्च माध्यमिक विद्यालय "},null,null,{"$f":"EmpDetail!A57","v":54},{"$f":"EmpDetail!B57","v":0},{"$f":"EmpDetail!C57","v":0},{"$f":"EmpDetail!D57","v":0},{"$f":"EmpDetail!K57","v":0}]
[null,null,null,null,null,null,null,null,null,null,{"$f":"Master!B4","v":"चौगाई]टोंक"},null,null,{"$f":"EmpDetail!A58","v":55},{"$f":"EmpDetail!B58","v":0},{"$f":"EmpDetail!C58","v":0},{"$f":"EmpDetail!D58","v":0},{"$f":"EmpDetail!K58","v":0}]
[null,null,null,null,null,null,null,null,null,null,null,null,null,{"$f":"EmpDetail!A59","v":56},{"$f":"EmpDetail!B59","v":0},{"$f":"EmpDetail!C59","v":0},{"$f":"EmpDetail!D59","v":0},{"$f":"EmpDetail!K59","v":0}]
["Last Pay Certificate",null,null,null,null,null,null,null,null,null,null,null,null,{"$f":"EmpDetail!A60","v":57},{"$f":"EmpDetail!B60","v":0},{"$f":"EmpDetail!C60","v":0},{"$f":"EmpDetail!D60","v":0},{"$f":"EmpDetail!K60","v":0}]
["xr Hkqxrku izek.k i=",null,null,null,null,null,null,null,null,null,null,null,null,{"$f":"EmpDetail!A61","v":58},{"$f":"EmpDetail!B61","v":0},{"$f":"EmpDetail!C61","v":0},{"$f":"EmpDetail!D61","v":0},{"$f":"EmpDetail!K61","v":0}]
["Reverse",null,null,null,null,null,null,null,null,null,null,null,null,{"$f":"EmpDetail!A62","v":59},{"$f":"EmpDetail!B62","v":0},{"$f":"EmpDetail!C62","v":0},{"$f":"EmpDetail!D62","v":0},{"$f":"EmpDetail!K62","v":0}]
["Details of Recoveries (Part-4)    olwfy;ksa dh foxr",null,null,null,null,null,null,null,null,null,null,null,null,{"$f":"EmpDetail!A63","v":60},{"$f":"EmpDetail!B63","v":0},{"$f":"EmpDetail!C63","v":0},{"$f":"EmpDetail!D63","v":0},{"$f":"EmpDetail!K63","v":0}]
["S.No.","Nature of Recoveries",null,null,"Recoveries Total Amount",null,null,"No. of Intallment",null,"Amount Already Rec",null,"Balance Amount",null,{"$f":"EmpDetail!A64","v":61},{"$f":"EmpDetail!B64","v":0},{"$f":"EmpDetail!C64","v":0},{"$f":"EmpDetail!D64","v":0},{"$f":"EmpDetail!K64","v":0}]
["dz-la-","olwyh dh foxr",null,null,"olwyh ;ksX; dqy jde",null,null,"fd'rksa dh la[;k",null,"olwy dh xbZ dqy jde",null," 'ks\"k olwyh",null,{"$f":"EmpDetail!A65","v":62},{"$f":"EmpDetail!B65","v":0},{"$f":"EmpDetail!C65","v":0},{"$f":"EmpDetail!D65","v":0},{"$f":"EmpDetail!K65","v":0}]
["(i)",null,null,null,null,null,null,null,null,null,null,null,null,{"$f":"EmpDetail!A66","v":63},{"$f":"EmpDetail!B66","v":0},{"$f":"EmpDetail!C66","v":0},{"$f":"EmpDetail!D66","v":0},{"$f":"EmpDetail!K66","v":0}]
["(ii)",null,null,null,null,null,null,null,null,null,null,null,null,{"$f":"EmpDetail!A67","v":64},{"$f":"EmpDetail!B67","v":0},{"$f":"EmpDetail!C67","v":0},{"$f":"EmpDetail!D67","v":0},{"$f":"EmpDetail!K67","v":0}]
["(iii)",null,null,null,null,null,null,null,null,null,null,null,null,{"$f":"EmpDetail!A68","v":65},{"$f":"EmpDetail!B68","v":0},{"$f":"EmpDetail!C68","v":0},{"$f":"EmpDetail!D68","v":0},{"$f":"EmpDetail!K68","v":0}]
["(iv)",null,null,null,null,null,null,null,null,null,null,null,null,{"$f":"EmpDetail!A69","v":66},{"$f":"EmpDetail!B69","v":0},{"$f":"EmpDetail!C69","v":0},{"$f":"EmpDetail!D69","v":0},{"$f":"EmpDetail!K69","v":0}]
[null,null,null,null,null,null,null,null,null,null,null,null,null,{"$f":"EmpDetail!A70","v":67},{"$f":"EmpDetail!B70","v":0},{"$f":"EmpDetail!C70","v":0},{"$f":"EmpDetail!D70","v":0},{"$f":"EmpDetail!K70","v":0}]
["Deductions made from Leave Salary (Part-5)   vodk'k osru ls dh xbZ dVkSfr;ksa dh foxr",null,null,null,null,null,null,null,null,null,null,null,null,{"$f":"EmpDetail!A71","v":68},{"$f":"EmpDetail!B71","v":0},{"$f":"EmpDetail!C71","v":0},{"$f":"EmpDetail!D71","v":0},{"$f":"EmpDetail!K71","v":0}]
[null,null,null,null,null,null,null,null,null,null,null,null,null,{"$f":"EmpDetail!A72","v":69},{"$f":"EmpDetail!B72","v":0},{"$f":"EmpDetail!C72","v":0},{"$f":"EmpDetail!D72","v":0},{"$f":"EmpDetail!K72","v":0}]
["Date From                                                            to                                                   an accout of                                                Rs.",null,null,null,null,null,null,null,null,null,null,null,null,{"$f":"EmpDetail!A73","v":70},{"$f":"EmpDetail!B73","v":0},{"$f":"EmpDetail!C73","v":0},{"$f":"EmpDetail!D73","v":0},{"$f":"EmpDetail!K73","v":0}]
["fnukad ls                            fnukad rd                              ckcr                           :-",null,null,null,null,null,null,null,null,null,null,null,null,{"$f":"EmpDetail!A74","v":71},{"$f":"EmpDetail!B74","v":0},{"$f":"EmpDetail!C74","v":0},{"$f":"EmpDetail!D74","v":0},{"$f":"EmpDetail!K74","v":0}]
[null,null,null,null,null,null,null,null,null,null,null,null,null,{"$f":"EmpDetail!A75","v":72},{"$f":"EmpDetail!B75","v":0},{"$f":"EmpDetail!C75","v":0},{"$f":"EmpDetail!D75","v":0},{"$f":"EmpDetail!K75","v":0}]
[null,null,null,null,null,null,null,null,null,null,null,null,null,{"$f":"EmpDetail!A76","v":73},{"$f":"EmpDetail!B76","v":0},{"$f":"EmpDetail!C76","v":0},{"$f":"EmpDetail!D76","v":0},{"$f":"EmpDetail!K76","v":0}]
[null,null,null,null,null,null,null,null,null,null,null,null,null,{"$f":"EmpDetail!A77","v":74},{"$f":"EmpDetail!B77","v":0},{"$f":"EmpDetail!C77","v":0},{"$f":"EmpDetail!D77","v":0},{"$f":"EmpDetail!K77","v":0}]
[null,null,null,null,null,null,null,null,null,null,null,null,null,{"$f":"EmpDetail!A78","v":75},{"$f":"EmpDetail!B78","v":0},{"$f":"EmpDetail!C78","v":0},{"$f":"EmpDetail!D78","v":0},{"$f":"EmpDetail!K78","v":0}]
["Income Tax Deductions (Part-6)    vk;dj dVkSfr;ksa dh foxr",null,null,null,null,null,null,null,null,null,null,null,null,{"$f":"EmpDetail!A79","v":76},{"$f":"EmpDetail!B79","v":0},{"$f":"EmpDetail!C79","v":0},{"$f":"EmpDetail!D79","v":0},{"$f":"EmpDetail!K79","v":0}]
[null,null,null,null,null,null,null,null,null,null,null,null,null,{"$f":"EmpDetail!A80","v":77},{"$f":"EmpDetail!B80","v":0},{"$f":"EmpDetail!C80","v":0},{"$f":"EmpDetail!D80","v":0},{"$f":"EmpDetail!K80","v":0}]
["Name of Month",null,null,"Pay","Gratuty Fees etc.",null,"Fund and others",null,"Insurance Premium",null,"Amount of Income Tax",null,"Remarks",{"$f":"EmpDetail!A81","v":78},{"$f":"EmpDetail!B81","v":0},{"$f":"EmpDetail!C81","v":0},{"$f":"EmpDetail!D81","v":0},{"$f":"EmpDetail!K81","v":0}]
["uke eghuk",null,null,"osru","vkuqrksf\"kd Qhl vkfn",null,"Q.M ,oa vU; dVkSfr;ka",null,"chek fd'r",null,"vk;dj jde tks olwy dh",null,"fo0fo0",{"$f":"EmpDetail!A82","v":79},{"$f":"EmpDetail!B82","v":0},{"$f":"EmpDetail!C82","v":0},{"$f":"EmpDetail!D82","v":0},{"$f":"EmpDetail!K82","v":0}]
["2020-04-01",null,null,null,null,null,null,null,null,null,500,null,null,{"$f":"EmpDetail!A83","v":80},{"$f":"EmpDetail!B83","v":0},{"$f":"EmpDetail!C83","v":0},{"$f":"EmpDetail!D83","v":0},{"$f":"EmpDetail!K83","v":0}]
["2020-05-01",null,null,null,null,null,null,null,null,null,500,null,null,{"$f":"EmpDetail!A84","v":81},{"$f":"EmpDetail!B84","v":0},{"$f":"EmpDetail!C84","v":0},{"$f":"EmpDetail!D84","v":0},{"$f":"EmpDetail!K84","v":0}]
["2020-06-01",null,null,null,null,null,null,null,null,null,500,null,null,{"$f":"EmpDetail!A85","v":82},{"$f":"EmpDetail!B85","v":0},{"$f":"EmpDetail!C85","v":0},{"$f":"EmpDetail!D85","v":0},{"$f":"EmpDetail!K85","v":0}]
["2020-07-01",null,null,null,null,null,null,null,null,null,500,null,null,{"$f":"EmpDetail!A86","v":83},{"$f":"EmpDetail!B86","v":0},{"$f":"EmpDetail!C86","v":0},{"$f":"EmpDetail!D86","v":0},{"$f":"EmpDetail!K86","v":0}]
["2020-08-01",null,null,null,null,null,null,null,null,null,500,null,null,{"$f":"EmpDetail!A87","v":84},{"$f":"EmpDetail!B87","v":0},{"$f":"EmpDetail!C87","v":0},{"$f":"EmpDetail!D87","v":0},{"$f":"EmpDetail!K87","v":0}]
["2020-09-01",null,null,null,null,null,null,null,null,null,500,null,null,{"$f":"EmpDetail!A88","v":85},{"$f":"EmpDetail!B88","v":0},{"$f":"EmpDetail!C88","v":0},{"$f":"EmpDetail!D88","v":0},{"$f":"EmpDetail!K88","v":0}]
["2020-10-01",null,null,null,null,null,null,null,null,null,500,null,null,{"$f":"EmpDetail!A89","v":86},{"$f":"EmpDetail!B89","v":0},{"$f":"EmpDetail!C89","v":0},{"$f":"EmpDetail!D89","v":0},{"$f":"EmpDetail!K89","v":0}]
["2020-11-01",null,null,null,null,null,null,null,null,null,500,null,null,{"$f":"EmpDetail!A90","v":87},{"$f":"EmpDetail!B90","v":0},{"$f":"EmpDetail!C90","v":0},{"$f":"EmpDetail!D90","v":0},{"$f":"EmpDetail!K90","v":0}]
["2020-12-01",null,null,null,null,null,null,null,null,null,500,null,null,{"$f":"EmpDetail!A91","v":88},{"$f":"EmpDetail!B91","v":0},{"$f":"EmpDetail!C91","v":0},{"$f":"EmpDetail!D91","v":0},{"$f":"EmpDetail!K91","v":0}]
["2021-01-01",null,null,null,null,null,null,null,null,null,500,null,null,{"$f":"EmpDetail!A92","v":89},{"$f":"EmpDetail!B92","v":0},{"$f":"EmpDetail!C92","v":0},{"$f":"EmpDetail!D92","v":0},{"$f":"EmpDetail!K92","v":0}]
["2021-02-01",null,null,null,null,null,null,null,null,null,500,null,null,{"$f":"EmpDetail!A93","v":90},{"$f":"EmpDetail!B93","v":0},{"$f":"EmpDetail!C93","v":0},{"$f":"EmpDetail!D93","v":0},{"$f":"EmpDetail!K93","v":0}]
["2021-03-01",null,null,null,null,null,null,null,null,null,500,null,null,{"$f":"EmpDetail!A94","v":91},{"$f":"EmpDetail!B94","v":0},{"$f":"EmpDetail!C94","v":0},{"$f":"EmpDetail!D94","v":0},{"$f":"EmpDetail!K94","v":0}]
["Total",null,null,null,null,null,null,null,null,null,{"$f":"SUM(K84:K95)","v":6000},null,null,{"$f":"EmpDetail!A95","v":92},{"$f":"EmpDetail!B95","v":0},{"$f":"EmpDetail!C95","v":0},{"$f":"EmpDetail!D95","v":0},{"$f":"EmpDetail!K95","v":0}]
[null,null,null,null,null,null,null,null,null,null,null,null,null,{"$f":"EmpDetail!A96","v":93},{"$f":"EmpDetail!B96","v":0},{"$f":"EmpDetail!C96","v":0},{"$f":"EmpDetail!D96","v":0},{"$f":"EmpDetail!K96","v":0}]
["Date-",null,null,null,null,null,null,null,null,null,{"$f":"Master!B2","v":"प्रधानाचार्य"},null,null,{"$f":"EmpDetail!A97","v":94},{"$f":"EmpDetail!B97","v":0},{"$f":"EmpDetail!C97","v":0},{"$f":"EmpDetail!D97","v":0},{"$f":"EmpDetail!K97","v":0}]
["fnukad&",null,{"$f":"C58","v":"2021-03-31"},null,null,null,null,null,null,null,{"$f":"Master!B3","v":"राजकीय उच्च माध्यमिक विद्यालय "},null,null,{"$f":"EmpDetail!A98","v":95},{"$f":"EmpDetail!B98","v":0},{"$f":"EmpDetail!C98","v":0},{"$f":"EmpDetail!D98","v":0},{"$f":"EmpDetail!K98","v":0}]
[null,null,null,null,null,null,null,null,null,null,{"$f":"Master!B4","v":"चौगाई]टोंक"},null,null,{"$f":"EmpDetail!A99","v":96},{"$f":"EmpDetail!B99","v":0},{"$f":"EmpDetail!C99","v":0},{"$f":"EmpDetail!D99","v":0},{"$f":"EmpDetail!K99","v":0}]
[null,null,null,null,null,null,null,null,null,null,null,null,null,{"$f":"EmpDetail!A100","v":97},{"$f":"EmpDetail!B100","v":0},{"$f":"EmpDetail!C100","v":0},{"$f":"EmpDetail!D100","v":0},{"$f":"EmpDetail!K100","v":0}]
[null,null,null,null,null,null,null,null,null,null,null,null,null,{"$f":"EmpDetail!A101","v":98},{"$f":"EmpDetail!B101","v":0},{"$f":"EmpDetail!C101","v":0},{"$f":"EmpDetail!D101","v":0},{"$f":"EmpDetail!K101","v":0}]
[null,null,null,null,null,null,null,null,null,null,null,null,null,{"$f":"EmpDetail!A102","v":99},{"$f":"EmpDetail!B102","v":0},{"$f":"EmpDetail!C102","v":0},{"$f":"EmpDetail!D102","v":0},{"$f":"EmpDetail!K102","v":0}]
[null,null,null,null,null,null,null,null,null,null,null,null,null,{"$f":"EmpDetail!A103","v":100},{"$f":"EmpDetail!B103","v":0},{"$f":"EmpDetail!C103","v":0},{"$f":"EmpDetail!D103","v":0},{"$f":"EmpDetail!K103","v":0}]

{"sheet":"SB PB Receipt","index":27,"n_rows":104,"n_cols":13,"rows_kept":104,"cut":false,"hidden":true,"merged":[[30,6,30,8],[26,1,26,2],[27,1,27,2],[28,1,28,2],[28,6,28,8],[29,6,29,8],[20,6,20,8],[21,6,21,8],[23,1,23,2],[24,1,24,2],[25,1,25,2],[14,0,14,8],[15,0,15,3],[15,4,15,8],[16,0,16,8],[19,6,19,8],[0,3,0,7],[12,1,12,4],[12,5,12,8],[13,1,13,2],[13,3,13,4],[13,5,13,8],[1,0,1,8],[5,1,5,4],[6,1,6,4],[7,1,7,4],[9,1,9,8],[10,1,10,8]]}
[null,null,null,"dkfeZd dk dzekad ntZ djsa&",null,null,null,null,4]
[{"$f":"Master!G2&Master!H2","v":"कार्यालय&राजकीय उच्च माध्यमिक विद्यालय ]चौगाई]टोंक"}]
["dzekad&",{"$f":"Master!H3&Master!I3&Master!J3&Master!E3&\"/\"","v":"राउमावि/चौगाई/संस्था/2021-22/"},null,null,null,null,null,"fnukad&",{"$f":"TODAY()","v":"2021-06-19"}]
[]
["lsok esa]",null,null,null,null,null,null,null,null,{"$f":"EmpDetail!A4","v":1},{"$f":"EmpDetail!B4","v":"fd'ku yky cSjok"},{"$f":"EmpDetail!C4","v":"प्रधानाचार्य"},{"$f":"EmpDetail!D4","v":"राउमावि चौगाई"}]
[null,"Jheku~ iz/kkukpk;Z egksn;",null,null,null,null,null,null,null,{"$f":"EmpDetail!A5","v":2},{"$f":"EmpDetail!B5","v":"iwj.k pUn y{kdkj"},{"$f":"EmpDetail!C5","v":"व्याख्याता"},{"$f":"EmpDetail!D5","v":"राउमावि चौगाई"}]
[null,"jktdh; mPp ek/;fed fo|ky;",null,null,null,null,null,null,null,{"$f":"EmpDetail!A6","v":3},{"$f":"EmpDetail!B6","v":"jktsUnz dqekj tSu"},{"$f":"EmpDetail!C6","v":"व्याख्याता"},{"$f":"EmpDetail!D6","v":"राउमावि चौगाई"}]
[null,"cxMok] Vksad",null,null,null,null,null,null,null,{"$f":"EmpDetail!A7","v":4},{"$f":"EmpDetail!B7","v":"fd'ku yky cSjok"},{"$f":"EmpDetail!C7","v":"व्याख्याता"},{"$f":"EmpDetail!D7","v":"राउमावि चौगाई"}]
[null,null,null,null,null,null,null,null,null,{"$f":"EmpDetail!A8","v":5},{"$f":"EmpDetail!B8","v":"lR;ukjk;.k 'kekZ"},{"$f":"EmpDetail!C8","v":"वरिष्ठ अध्यापक"},{"$f":"EmpDetail!D8","v":"राउमावि चौगाई"}]
["fo\"k;%&","ewy lsok iqfLrdk@O;fDrxr iaftdk@thih,Q ikl cqd@jkT; chek ikl cqd@,uih,l",null,null,null,null,null,null,null,{"$f":"EmpDetail!A9","v":6},{"$f":"EmpDetail!B9","v":"iq\"ik tSu"},{"$f":"EmpDetail!C9","v":"वरिष्ठ अध्यापक"},{"$f":"EmpDetail!D9","v":"राउमावि चौगाई"}]
[null,"ikl cqd fHktokus ckcr A",null,null,null,null,null,null,null,{"$f":"EmpDetail!A10","v":7},{"$f":"EmpDetail!B10","v":"vk'kkjke eh.kk"},{"$f":"EmpDetail!C10","v":"वरिष्ठ अध्यापक"},{"$f":"EmpDetail!D10","v":"राउमावि चौगाई"}]
["egksn;]",null,null,null,null,null,null,null,null,{"$f":"EmpDetail!A11","v":8},{"$f":"EmpDetail!B11","v":"t;iky flag"},{"$f":"EmpDetail!C11","v":"वरिष्ठ अध्यापक"},{"$f":"EmpDetail!D11","v":"राउमावि चौगाई"}]
[null,"mijksDr fo\"k;kUrxZr ys[k gS fd Jh",null,null,null,{"$f":"IF(ISNA(VLOOKUP($I1,$J$5:$M$104,2,FALSE)),\"\",VLOOKUP($I1,$J$5:$M$104,2,FALSE))","v":"fd'ku yky cSjok"},null,null,null,{"$f":"EmpDetail!A12","v":9},{"$f":"EmpDetail!B12","v":"jkeizlkn jsxj"},{"$f":"EmpDetail!C12","v":"वरिष्ठ अध्यापक"},{"$f":"EmpDetail!D12","v":"राउमावि चौगाई"}]
["in&",{"$f":"IF(ISNA(VLOOKUP($I1,$J$5:$M$104,3,FALSE)),\"\",VLOOKUP($I1,$J$5:$M$104,3,FALSE))","v":"व्याख्याता"},null,"inLFkkiu&",null,{"$f":"IF(ISNA(VLOOKUP($I1,$J$5:$M$104,4,FALSE)),\"\",VLOOKUP($I1,$J$5:$M$104,4,FALSE))","v":"राउमावि चौगाई"},null,null,null,{"$f":"EmpDetail!A13","v":10},{"$f":"EmpDetail!B13","v":"egsUnz dqekj tkV"},{"$f":"EmpDetail!C13","v":"शारीरिक शिक्षक"},{"$f":"EmpDetail!D13","v":"राउमावि चौगाई"}]
["dh inkSUufr@LFkkukUrj.k@lh/kh HkrhZ ls p;u ds dkj.k LFkkuh; dk;kZy; ls vkids dk;kZy;",null,null,null,null,null,null,null,null,{"$f":"EmpDetail!A14","v":11},{"$f":"EmpDetail!B14","v":"NksVw yky jsxj"},{"$f":"EmpDetail!C14","v":"अध्यापक ग्रेड III"},{"$f":"EmpDetail!D14","v":"राउमावि चौगाई"}]
["jktdh; mPp ek/;fed fo|ky; cxMok Vksad",null,null,null,"esa gks tkus ds dkj.k budh ewy lsok iqfLrdk ,oa O;fDrxr",null,null,null,null,{"$f":"EmpDetail!A15","v":12},{"$f":"EmpDetail!B15","v":"dUgS;k yky egkoj"},{"$f":"EmpDetail!C15","v":"अध्यापक ग्रेड III"},{"$f":"EmpDetail!D15","v":"राउमावि चौगाई"}]
["iathdk@thih,Q iklcqd@jkT; chek iklcqd@,uih,l iklcqd buds lkFk lyaXu dj izsf\"kr dh ",null,null,null,null,null,null,null,null,{"$f":"EmpDetail!A16","v":13},{"$f":"EmpDetail!B16","v":"prqHkqZt tkV"},{"$f":"EmpDetail!C16","v":"अध्यापक ग्रेड III"},{"$f":"EmpDetail!D16","v":"राउमावि चौगाई"}]
["tk jgh gS A",null,null,null,null,null,null,null,null,{"$f":"EmpDetail!A17","v":14},{"$f":"EmpDetail!B17","v":"vklsQk [kku"},{"$f":"EmpDetail!C17","v":"अध्यापक ग्रेड III"},{"$f":"EmpDetail!D17","v":"राउमावि चौगाई"}]
[null,"vr% d`i;k ikorh jlhn izsf\"kr djokus dk Je djsa A",null,null,null,null,null,null,null,{"$f":"EmpDetail!A18","v":15},{"$f":"EmpDetail!B18","v":"lq'khyk cSjok"},{"$f":"EmpDetail!C18","v":"कनिष्ठ सहायक"},{"$f":"EmpDetail!D18","v":"राउमावि चौगाई"}]
[null,null,null,null,null,null,{"$f":"Master!B2","v":"प्रधानाचार्य"},null,null,{"$f":"EmpDetail!A19","v":16},{"$f":"EmpDetail!B19","v":"txnh'k izlkn rsyh"},{"$f":"EmpDetail!C19","v":"सहायक कर्मचारी"},{"$f":"EmpDetail!D19","v":"राउमावि चौगाई"}]
[null,null,null,null,null,null,{"$f":"Master!B3","v":"राजकीय उच्च माध्यमिक विद्यालय "},null,null,{"$f":"EmpDetail!A20","v":17},{"$f":"EmpDetail!B20","v":"jfoUnz dqekj tSu"},{"$f":"EmpDetail!C20","v":"अध्यापक ग्रेड III"},{"$f":"EmpDetail!D20","v":"राउप्रावि मोहिनी"}]
[null,null,null,null,null,null,{"$f":"Master!B4","v":"चौगाई]टोंक"},null,null,{"$f":"EmpDetail!A21","v":18},{"$f":"EmpDetail!B21","v":" ';ke lqUnj ckxkSM"},{"$f":"EmpDetail!C21","v":"अध्यापक ग्रेड III"},{"$f":"EmpDetail!D21","v":"राउप्रावि मोहिनी"}]
["lyaXu%&",null,null,null,null,null,null,null,null,{"$f":"EmpDetail!A22","v":19},{"$f":"EmpDetail!B22","v":"d`\".kk 'kekZ"},{"$f":"EmpDetail!C22","v":"प्रबोधक"},{"$f":"EmpDetail!D22","v":"राउप्रावि मोहिनी"}]
[{"$f":"IF(B24=\"\",\"\",1)","v":1},"मूल सेवा पुस्तिका",null,"एक",null,null,null,null,null,{"$f":"EmpDetail!A23","v":20},{"$f":"EmpDetail!B23","v":"/keZsUnz pkS/kjh"},{"$f":"EmpDetail!C23","v":"अध्यापक ग्रेड III"},{"$f":"EmpDetail!D23","v":"राउप्रावि गोरधनपुरा"}]
[{"$f":"IF(B25=\"\",\"\",A24+1)","v":2},"व्यक्तिगत पंजिका",null,"एक",null,null,null,null,null,{"$f":"EmpDetail!A24","v":21},{"$f":"EmpDetail!B24","v":"izgykn ekyh"},{"$f":"EmpDetail!C24","v":"प्रबोधक"},{"$f":"EmpDetail!D24","v":"राउप्रावि गोरधनपुरा"}]
[{"$f":"IF(B26=\"\",\"\",A25+1)","v":3},"जीपीएफ पासबुक",null,"एक",null,null,null,null,null,{"$f":"EmpDetail!A25","v":22},{"$f":"EmpDetail!B25","v":"jken;ky xqtZj"},{"$f":"EmpDetail!C25","v":"प्रबोधक"},{"$f":"EmpDetail!D25","v":"राउप्रावि सोंदीफल"}]
["",null,null,null,null,null,null,null,null,{"$f":"EmpDetail!A26","v":23},{"$f":"EmpDetail!B26","v":"vkSeizdk'k tkV"},{"$f":"EmpDetail!C26","v":"अध्यापक ग्रेड III"},{"$f":"EmpDetail!D26","v":"राउप्रावि सोंदीफल"}]
["",null,null,null,null,null,null,null,null,{"$f":"EmpDetail!A27","v":24},{"$f":"EmpDetail!B27","v":"vthr flag"},{"$f":"EmpDetail!C27","v":"अध्यापक ग्रेड III"},{"$f":"EmpDetail!D27","v":"राप्रावि जानकीवल्लभपुरा"}]
["",null,null,null,null,null,{"$f":"G20","v":"प्रधानाचार्य"},null,null,{"$f":"EmpDetail!A28","v":25},{"$f":"EmpDetail!B28","v":"eq[rkj eha;k"},{"$f":"EmpDetail!C28","v":"प्रबोधक"},{"$f":"EmpDetail!D28","v":"राप्रावि जानकीवल्लभपुरा"}]
[null,null,null,null,null,null,{"$f":"G21","v":"राजकीय उच्च माध्यमिक विद्यालय "},null,null,{"$f":"EmpDetail!A29","v":26},{"$f":"EmpDetail!B29","v":"eks0 tehy "},{"$f":"EmpDetail!C29","v":"प्रबोधक"},{"$f":"EmpDetail!D29","v":"राप्रावि रसूलपुरा"}]
[null,null,null,null,null,null,{"$f":"G22","v":"चौगाई]टोंक"},null,null,{"$f":"EmpDetail!A30","v":27},{"$f":"EmpDetail!B30","v":"lkaojey tkV"},{"$f":"EmpDetail!C30","v":"अध्यापक ग्रेड III"},{"$f":"EmpDetail!D30","v":"राप्रावि रसूलपुरा"}]
[null,null,null,null,null,null,null,null,null,{"$f":"EmpDetail!A31","v":28},{"$f":"EmpDetail!B31","v":"pkS/kjh eksuk jkekorkj"},{"$f":"EmpDetail!C31","v":"अध्यापक ग्रेड III"},{"$f":"EmpDetail!D31","v":"राप्रावि मोहिनी ढाणी बाढ"}]
[null,null,null,null,null,null,null,null,null,{"$f":"EmpDetail!A32","v":29},{"$f":"EmpDetail!B32","v":"rkjkpUn tk;loky"},{"$f":"EmpDetail!C32","v":"प्रबोधक"},{"$f":"EmpDetail!D32","v":"राप्रावि मोहिनी ढाणी बाढ"}]
[null,null,null,null,null,null,null,null,null,{"$f":"EmpDetail!A33","v":30},{"$f":"EmpDetail!B33","v":"jketl ;kno"},{"$f":"EmpDetail!C33","v":"अध्यापक ग्रेड III"},{"$f":"EmpDetail!D33","v":"राप्रावि बैरवा ढाणी सोन्दीफल"}]
[null,null,null,null,null,null,null,null,null,{"$f":"EmpDetail!A34","v":31},{"$f":"EmpDetail!B34","v":"dtksMey eh.kk"},{"$f":"EmpDetail!C34","v":"अध्यापक ग्रेड III"},{"$f":"EmpDetail!D34","v":"राप्रावि बैरवा ढाणी सोन्दीफल"}]
[null,null,null,null,null,null,null,null,null,{"$f":"EmpDetail!A35","v":32},{"$f":"EmpDetail!B35","v":"/kaut; xkSRre"},{"$f":"EmpDetail!C35","v":"अध्यापक ग्रेड III"},{"$f":"EmpDetail!D35","v":"राउप्रावि गोरधनपुरा"}]
[null,null,null,null,null,null,null,null,null,{"$f":"EmpDetail!A36","v":33},{"$f":"EmpDetail!B36","v":"d`\".kk xaxoky"},{"$f":"EmpDetail!C36","v":"अध्यापक ग्रेड III"},{"$f":"EmpDetail!D36","v":"राउप्रावि गोरधनपुरा"}]
[null,null,null,null,null,null,null,null,null,{"$f":"EmpDetail!A37","v":34},{"$f":"EmpDetail!B37","v":"n'kjFk dqekj ;kno"},{"$f":"EmpDetail!C37","v":"अध्यापक ग्रेड III"},{"$f":"EmpDetail!D37","v":"राउप्रावि सोंदीफल"}]
[null,null,null,null,null,null,null,null,null,{"$f":"EmpDetail!A38","v":35},{"$f":"EmpDetail!B38","v":"d`\".k yky tkV"},{"$f":"EmpDetail!C38","v":"अध्यापक ग्रेड III"},{"$f":"EmpDetail!D38","v":"राउप्रावि सोंदीफल"}]
[null,null,null,null,null,null,null,null,null,{"$f":"EmpDetail!A39","v":36},{"$f":"EmpDetail!B39","v":"nhisUnz dqekj iztkir"},{"$f":"EmpDetail!C39","v":"अध्यापक ग्रेड III"},{"$f":"EmpDetail!D39","v":"राउप्रावि सोंदीफल"}]
[null,null,null,null,null,null,null,null,null,{"$f":"EmpDetail!A40","v":37},{"$f":"EmpDetail!B40","v":"uohu dqekj"},{"$f":"EmpDetail!C40","v":"अध्यापक ग्रेड III"},{"$f":"EmpDetail!D40","v":"राउप्रावि मोहिनी"}]
[null,null,null,null,null,null,null,null,null,{"$f":"EmpDetail!A41","v":38},{"$f":"EmpDetail!B41","v":"ehrs'k dqekj 'kekZ"},{"$f":"EmpDetail!C41","v":"अध्यापक ग्रेड III"},{"$f":"EmpDetail!D41","v":"राउप्रावि मोहिनी"}]
[null,null,null,null,null,null,null,null,null,{"$f":"EmpDetail!A42","v":39},{"$f":"EmpDetail!B42","v":"eUtw eh.kk"},{"$f":"EmpDetail!C42","v":"वरिष्ठ अध्यापक"},{"$f":"EmpDetail!D42","v":"राउप्रावि गोरधनपुरा"}]
[null,null,null,null,null,null,null,null,null,{"$f":"EmpDetail!A43","v":40},{"$f":"EmpDetail!B43","v":"eatw pkS/kjh"},{"$f":"EmpDetail!C43","v":"वरिष्ठ अध्यापक"},{"$f":"EmpDetail!D43","v":"राउप्रावि सोंदीफल"}]
[null,null,null,null,null,null,null,null,null,{"$f":"EmpDetail!A44","v":41},{"$f":"EmpDetail!B44","v":0},{"$f":"EmpDetail!C44","v":0},{"$f":"EmpDetail!D44","v":0}]
[null,null,null,null,null,null,null,null,null,{"$f":"EmpDetail!A45","v":42},{"$f":"EmpDetail!B45","v":0},{"$f":"EmpDetail!C45","v":0},{"$f":"EmpDetail!D45","v":0}]
[null,null,null,null,null,null,null,null,null,{"$f":"EmpDetail!A46","v":43},{"$f":"EmpDetail!B46","v":0},{"$f":"EmpDetail!C46","v":0},{"$f":"EmpDetail!D46","v":0}]
[null,null,null,null,null,null,null,null,null,{"$f":"EmpDetail!A47","v":44},{"$f":"EmpDetail!B47","v":0},{"$f":"EmpDetail!C47","v":0},{"$f":"EmpDetail!D47","v":0}]
[null,null,null,null,null,null,null,null,null,{"$f":"EmpDetail!A48","v":45},{"$f":"EmpDetail!B48","v":0},{"$f":"EmpDetail!C48","v":0},{"$f":"EmpDetail!D48","v":0}]
[null,null,null,null,null,null,null,null,null,{"$f":"EmpDetail!A49","v":46},{"$f":"EmpDetail!B49","v":0},{"$f":"EmpDetail!C49","v":0},{"$f":"EmpDetail!D49","v":0}]
[null,null,null,null,null,null,null,null,null,{"$f":"EmpDetail!A50","v":47},{"$f":"EmpDetail!B50","v":0},{"$f":"EmpDetail!C50","v":0},{"$f":"EmpDetail!D50","v":0}]
[null,null,null,null,null,null,null,null,null,{"$f":"EmpDetail!A51","v":48},{"$f":"EmpDetail!B51","v":0},{"$f":"EmpDetail!C51","v":0},{"$f":"EmpDetail!D51","v":0}]
[null,null,null,null,null,null,null,null,null,{"$f":"EmpDetail!A52","v":49},{"$f":"EmpDetail!B52","v":0},{"$f":"EmpDetail!C52","v":0},{"$f":"EmpDetail!D52","v":0}]
[null,null,null,null,null,null,null,null,null,{"$f":"EmpDetail!A53","v":50},{"$f":"EmpDetail!B53","v":0},{"$f":"EmpDetail!C53","v":0},{"$f":"EmpDetail!D53","v":0}]
[null,null,null,null,null,null,null,null,null,{"$f":"EmpDetail!A54","v":51},{"$f":"EmpDetail!B54","v":0},{"$f":"EmpDetail!C54","v":0},{"$f":"EmpDetail!D54","v":0}]
[null,null,null,null,null,null,null,null,null,{"$f":"EmpDetail!A55","v":52},{"$f":"EmpDetail!B55","v":0},{"$f":"EmpDetail!C55","v":0},{"$f":"EmpDetail!D55","v":0}]
[null,null,null,null,null,null,null,null,null,{"$f":"EmpDetail!A56","v":53},{"$f":"EmpDetail!B56","v":0},{"$f":"EmpDetail!C56","v":0},{"$f":"EmpDetail!D56","v":0}]
[null,null,null,null,null,null,null,null,null,{"$f":"EmpDetail!A57","v":54},{"$f":"EmpDetail!B57","v":0},{"$f":"EmpDetail!C57","v":0},{"$f":"EmpDetail!D57","v":0}]
[null,null,null,null,null,null,null,null,null,{"$f":"EmpDetail!A58","v":55},{"$f":"EmpDetail!B58","v":0},{"$f":"EmpDetail!C58","v":0},{"$f":"EmpDetail!D58","v":0}]
[null,null,null,null,null,null,null,null,null,{"$f":"EmpDetail!A59","v":56},{"$f":"EmpDetail!B59","v":0},{"$f":"EmpDetail!C59","v":0},{"$f":"EmpDetail!D59","v":0}]
[null,null,null,null,null,null,null,null,null,{"$f":"EmpDetail!A60","v":57},{"$f":"EmpDetail!B60","v":0},{"$f":"EmpDetail!C60","v":0},{"$f":"EmpDetail!D60","v":0}]
[null,null,null,null,null,null,null,null,null,{"$f":"EmpDetail!A61","v":58},{"$f":"EmpDetail!B61","v":0},{"$f":"EmpDetail!C61","v":0},{"$f":"EmpDetail!D61","v":0}]
[null,null,null,null,null,null,null,null,null,{"$f":"EmpDetail!A62","v":59},{"$f":"EmpDetail!B62","v":0},{"$f":"EmpDetail!C62","v":0},{"$f":"EmpDetail!D62","v":0}]
[null,null,null,null,null,null,null,null,null,{"$f":"EmpDetail!A63","v":60},{"$f":"EmpDetail!B63","v":0},{"$f":"EmpDetail!C63","v":0},{"$f":"EmpDetail!D63","v":0}]
[null,null,null,null,null,null,null,null,null,{"$f":"EmpDetail!A64","v":61},{"$f":"EmpDetail!B64","v":0},{"$f":"EmpDetail!C64","v":0},{"$f":"EmpDetail!D64","v":0}]
[null,null,null,null,null,null,null,null,null,{"$f":"EmpDetail!A65","v":62},{"$f":"EmpDetail!B65","v":0},{"$f":"EmpDetail!C65","v":0},{"$f":"EmpDetail!D65","v":0}]
[null,null,null,null,null,null,null,null,null,{"$f":"EmpDetail!A66","v":63},{"$f":"EmpDetail!B66","v":0},{"$f":"EmpDetail!C66","v":0},{"$f":"EmpDetail!D66","v":0}]
[null,null,null,null,null,null,null,null,null,{"$f":"EmpDetail!A67","v":64},{"$f":"EmpDetail!B67","v":0},{"$f":"EmpDetail!C67","v":0},{"$f":"EmpDetail!D67","v":0}]
[null,null,null,null,null,null,null,null,null,{"$f":"EmpDetail!A68","v":65},{"$f":"EmpDetail!B68","v":0},{"$f":"EmpDetail!C68","v":0},{"$f":"EmpDetail!D68","v":0}]
[null,null,null,null,null,null,null,null,null,{"$f":"EmpDetail!A69","v":66},{"$f":"EmpDetail!B69","v":0},{"$f":"EmpDetail!C69","v":0},{"$f":"EmpDetail!D69","v":0}]
[null,null,null,null,null,null,null,null,null,{"$f":"EmpDetail!A70","v":67},{"$f":"EmpDetail!B70","v":0},{"$f":"EmpDetail!C70","v":0},{"$f":"EmpDetail!D70","v":0}]
[null,null,null,null,null,null,null,null,null,{"$f":"EmpDetail!A71","v":68},{"$f":"EmpDetail!B71","v":0},{"$f":"EmpDetail!C71","v":0},{"$f":"EmpDetail!D71","v":0}]
[null,null,null,null,null,null,null,null,null,{"$f":"EmpDetail!A72","v":69},{"$f":"EmpDetail!B72","v":0},{"$f":"EmpDetail!C72","v":0},{"$f":"EmpDetail!D72","v":0}]
[null,null,null,null,null,null,null,null,null,{"$f":"EmpDetail!A73","v":70},{"$f":"EmpDetail!B73","v":0},{"$f":"EmpDetail!C73","v":0},{"$f":"EmpDetail!D73","v":0}]
[null,null,null,null,null,null,null,null,null,{"$f":"EmpDetail!A74","v":71},{"$f":"EmpDetail!B74","v":0},{"$f":"EmpDetail!C74","v":0},{"$f":"EmpDetail!D74","v":0}]
[null,null,null,null,null,null,null,null,null,{"$f":"EmpDetail!A75","v":72},{"$f":"EmpDetail!B75","v":0},{"$f":"EmpDetail!C75","v":0},{"$f":"EmpDetail!D75","v":0}]
[null,null,null,null,null,null,null,null,null,{"$f":"EmpDetail!A76","v":73},{"$f":"EmpDetail!B76","v":0},{"$f":"EmpDetail!C76","v":0},{"$f":"EmpDetail!D76","v":0}]
[null,null,null,null,null,null,null,null,null,{"$f":"EmpDetail!A77","v":74},{"$f":"EmpDetail!B77","v":0},{"$f":"EmpDetail!C77","v":0},{"$f":"EmpDetail!D77","v":0}]
[null,null,null,null,null,null,null,null,null,{"$f":"EmpDetail!A78","v":75},{"$f":"EmpDetail!B78","v":0},{"$f":"EmpDetail!C78","v":0},{"$f":"EmpDetail!D78","v":0}]
[null,null,null,null,null,null,null,null,null,{"$f":"EmpDetail!A79","v":76},{"$f":"EmpDetail!B79","v":0},{"$f":"EmpDetail!C79","v":0},{"$f":"EmpDetail!D79","v":0}]
[null,null,null,null,null,null,null,null,null,{"$f":"EmpDetail!A80","v":77},{"$f":"EmpDetail!B80","v":0},{"$f":"EmpDetail!C80","v":0},{"$f":"EmpDetail!D80","v":0}]
[null,null,null,null,null,null,null,null,null,{"$f":"EmpDetail!A81","v":78},{"$f":"EmpDetail!B81","v":0},{"$f":"EmpDetail!C81","v":0},{"$f":"EmpDetail!D81","v":0}]
[null,null,null,null,null,null,null,null,null,{"$f":"EmpDetail!A82","v":79},{"$f":"EmpDetail!B82","v":0},{"$f":"EmpDetail!C82","v":0},{"$f":"EmpDetail!D82","v":0}]
[null,null,null,null,null,null,null,null,null,{"$f":"EmpDetail!A83","v":80},{"$f":"EmpDetail!B83","v":0},{"$f":"EmpDetail!C83","v":0},{"$f":"EmpDetail!D83","v":0}]
[null,null,null,null,null,null,null,null,null,{"$f":"EmpDetail!A84","v":81},{"$f":"EmpDetail!B84","v":0},{"$f":"EmpDetail!C84","v":0},{"$f":"EmpDetail!D84","v":0}]
[null,null,null,null,null,null,null,null,null,{"$f":"EmpDetail!A85","v":82},{"$f":"EmpDetail!B85","v":0},{"$f":"EmpDetail!C85","v":0},{"$f":"EmpDetail!D85","v":0}]
[null,null,null,null,null,null,null,null,null,{"$f":"EmpDetail!A86","v":83},{"$f":"EmpDetail!B86","v":0},{"$f":"EmpDetail!C86","v":0},{"$f":"EmpDetail!D86","v":0}]
[null,null,null,null,null,null,null,null,null,{"$f":"EmpDetail!A87","v":84},{"$f":"EmpDetail!B87","v":0},{"$f":"EmpDetail!C87","v":0},{"$f":"EmpDetail!D87","v":0}]
[null,null,null,null,null,null,null,null,null,{"$f":"EmpDetail!A88","v":85},{"$f":"EmpDetail!B88","v":0},{"$f":"EmpDetail!C88","v":0},{"$f":"EmpDetail!D88","v":0}]
[null,null,null,null,null,null,null,null,null,{"$f":"EmpDetail!A89","v":86},{"$f":"EmpDetail!B89","v":0},{"$f":"EmpDetail!C89","v":0},{"$f":"EmpDetail!D89","v":0}]
[null,null,null,null,null,null,null,null,null,{"$f":"EmpDetail!A90","v":87},{"$f":"EmpDetail!B90","v":0},{"$f":"EmpDetail!C90","v":0},{"$f":"EmpDetail!D90","v":0}]
[null,null,null,null,null,null,null,null,null,{"$f":"EmpDetail!A91","v":88},{"$f":"EmpDetail!B91","v":0},{"$f":"EmpDetail!C91","v":0},{"$f":"EmpDetail!D91","v":0}]
[null,null,null,null,null,null,null,null,null,{"$f":"EmpDetail!A92","v":89},{"$f":"EmpDetail!B92","v":0},{"$f":"EmpDetail!C92","v":0},{"$f":"EmpDetail!D92","v":0}]
[null,null,null,null,null,null,null,null,null,{"$f":"EmpDetail!A93","v":90},{"$f":"EmpDetail!B93","v":0},{"$f":"EmpDetail!C93","v":0},{"$f":"EmpDetail!D93","v":0}]
[null,null,null,null,null,null,null,null,null,{"$f":"EmpDetail!A94","v":91},{"$f":"EmpDetail!B94","v":0},{"$f":"EmpDetail!C94","v":0},{"$f":"EmpDetail!D94","v":0}]
[null,null,null,null,null,null,null,null,null,{"$f":"EmpDetail!A95","v":92},{"$f":"EmpDetail!B95","v":0},{"$f":"EmpDetail!C95","v":0},{"$f":"EmpDetail!D95","v":0}]
[null,null,null,null,null,null,null,null,null,{"$f":"EmpDetail!A96","v":93},{"$f":"EmpDetail!B96","v":0},{"$f":"EmpDetail!C96","v":0},{"$f":"EmpDetail!D96","v":0}]
[null,null,null,null,null,null,null,null,null,{"$f":"EmpDetail!A97","v":94},{"$f":"EmpDetail!B97","v":0},{"$f":"EmpDetail!C97","v":0},{"$f":"EmpDetail!D97","v":0}]
[null,null,null,null,null,null,null,null,null,{"$f":"EmpDetail!A98","v":95},{"$f":"EmpDetail!B98","v":0},{"$f":"EmpDetail!C98","v":0},{"$f":"EmpDetail!D98","v":0}]
[null,null,null,null,null,null,null,null,null,{"$f":"EmpDetail!A99","v":96},{"$f":"EmpDetail!B99","v":0},{"$f":"EmpDetail!C99","v":0},{"$f":"EmpDetail!D99","v":0}]
[null,null,null,null,null,null,null,null,null,{"$f":"EmpDetail!A100","v":97},{"$f":"EmpDetail!B100","v":0},{"$f":"EmpDetail!C100","v":0},{"$f":"EmpDetail!D100","v":0}]
[null,null,null,null,null,null,null,null,null,{"$f":"EmpDetail!A101","v":98},{"$f":"EmpDetail!B101","v":0},{"$f":"EmpDetail!C101","v":0},{"$f":"EmpDetail!D101","v":0}]
[null,null,null,null,null,null,null,null,null,{"$f":"EmpDetail!A102","v":99},{"$f":"EmpDetail!B102","v":0},{"$f":"EmpDetail!C102","v":0},{"$f":"EmpDetail!D102","v":0}]
[null,null,null,null,null,null,null,null,null,{"$f":"EmpDetail!A103","v":100},{"$f":"EmpDetail!B103","v":0},{"$f":"EmpDetail!C103","v":0},{"$f":"EmpDetail!D103","v":0}]

{"sheet":"Physical Verify Report","index":28,"n_rows":106,"n_cols":10,"rows_kept":106,"cut":false,"hidden":true,"merged":[[29,6,29,7],[0,2,0,7],[2,2,2,7],[3,2,3,7],[4,2,4,7],[27,6,27,7],[28,6,28,7]]}
[null,null,{"$f":"Master!G2&Master!H2","v":"कार्यालय&राजकीय उच्च माध्यमिक विद्यालय ]चौगाई]टोंक"}]
[null,null,"dzekad&",{"$f":"Master!H3&Master!I3&Master!J3&Master!E3&\"/\"","v":"राउमावि/चौगाई/संस्था/2021-22/"},null,null,"fnukad&","2021-04-04"]
[]
[null,null,{"$f":"\"HkkSfrd lR;kiu fjiksVZ l= \"&Master!E3","v":"HkkSfrd lR;kiu fjiksVZ l= 2021-22"}]
[]
["izHkkjh dzekad","lR;kiudrkZ dzekad","dz0la0","uke izHkkj","uke izHkkjh","HkkSfrd lR;kiudrkZ dk uke","fo0fo0","gLrk{kj HkkSfrd lR;kiudrkZ "]
[5,2,{"$f":"IF(D7=\"\",\"\",1)","v":1},"भण्डार शाखा",{"$f":"IF(ISNA(VLOOKUP($A7,$I$7:$J$106,2,FALSE)),\"\",VLOOKUP($A7,$I$7:$J$106,2,FALSE))","v":"lR;ukjk;.k 'kekZ"},{"$f":"IF(ISNA(VLOOKUP($B7,$I$7:$J$106,2,FALSE)),\"\",VLOOKUP($B7,$I$7:$J$106,2,FALSE))","v":"iwj.k pUn y{kdkj"},"Bhd",null,{"$f":"EmpDetail!A4","v":1},{"$f":"EmpDetail!B4","v":"fd'ku yky cSjok"}]
[6,2,{"$f":"IF(D8=\"\",\"\",C7+1)","v":2},"नि:शुल्क पाठ्यपुस्तके ",{"$f":"IF(ISNA(VLOOKUP($A8,$I$7:$J$106,2,FALSE)),\"\",VLOOKUP($A8,$I$7:$J$106,2,FALSE))","v":"iq\"ik tSu"},{"$f":"IF(ISNA(VLOOKUP($B8,$I$7:$J$106,2,FALSE)),\"\",VLOOKUP($B8,$I$7:$J$106,2,FALSE))","v":"iwj.k pUn y{kdkj"},"Bhd ijUrw laekau de ikyk x;k",null,{"$f":"EmpDetail!A5","v":2},{"$f":"EmpDetail!B5","v":"iwj.k pUn y{kdkj"}]
[null,null,null,null,"","",null,null,{"$f":"EmpDetail!A6","v":3},{"$f":"EmpDetail!B6","v":"jktsUnz dqekj tSu"}]
[null,null,null,null,"","",null,null,{"$f":"EmpDetail!A7","v":4},{"$f":"EmpDetail!B7","v":"fd'ku yky cSjok"}]
[null,null,null,null,"","",null,null,{"$f":"EmpDetail!A8","v":5},{"$f":"EmpDetail!B8","v":"lR;ukjk;.k 'kekZ"}]
[null,null,null,null,"","",null,null,{"$f":"EmpDetail!A9","v":6},{"$f":"EmpDetail!B9","v":"iq\"ik tSu"}]
[null,null,null,null,"","",null,null,{"$f":"EmpDetail!A10","v":7},{"$f":"EmpDetail!B10","v":"vk'kkjke eh.kk"}]
[null,null,null,null,"","",null,null,{"$f":"EmpDetail!A11","v":8},{"$f":"EmpDetail!B11","v":"t;iky flag"}]
[null,null,null,null,"","",null,null,{"$f":"EmpDetail!A12","v":9},{"$f":"EmpDetail!B12","v":"jkeizlkn jsxj"}]
[null,null,null,null,"","",null,null,{"$f":"EmpDetail!A13","v":10},{"$f":"EmpDetail!B13","v":"egsUnz dqekj tkV"}]
[null,null,null,null,"","",null,null,{"$f":"EmpDetail!A14","v":11},{"$f":"EmpDetail!B14","v":"NksVw yky jsxj"}]
[null,null,null,null,"","",null,null,{"$f":"EmpDetail!A15","v":12},{"$f":"EmpDetail!B15","v":"dUgS;k yky egkoj"}]
[null,null,null,null,"","",null,null,{"$f":"EmpDetail!A16","v":13},{"$f":"EmpDetail!B16","v":"prqHkqZt tkV"}]
[null,null,null,null,"","",null,null,{"$f":"EmpDetail!A17","v":14},{"$f":"EmpDetail!B17","v":"vklsQk [kku"}]
[null,null,null,null,"","",null,null,{"$f":"EmpDetail!A18","v":15},{"$f":"EmpDetail!B18","v":"lq'khyk cSjok"}]
[null,null,null,null,"","",null,null,{"$f":"EmpDetail!A19","v":16},{"$f":"EmpDetail!B19","v":"txnh'k izlkn rsyh"}]
[null,null,null,null,"","",null,null,{"$f":"EmpDetail!A20","v":17},{"$f":"EmpDetail!B20","v":"jfoUnz dqekj tSu"}]
[null,null,null,null,"","",null,null,{"$f":"EmpDetail!A21","v":18},{"$f":"EmpDetail!B21","v":" ';ke lqUnj ckxkSM"}]
[null,null,null,null,"","",null,null,{"$f":"EmpDetail!A22","v":19},{"$f":"EmpDetail!B22","v":"d`\".kk 'kekZ"}]
[null,null,null,null,"","",null,null,{"$f":"EmpDetail!A23","v":20},{"$f":"EmpDetail!B23","v":"/keZsUnz pkS/kjh"}]
[null,null,null,null,null,null,null,null,{"$f":"EmpDetail!A24","v":21},{"$f":"EmpDetail!B24","v":"izgykn ekyh"}]
[null,null,null,null,null,null,{"$f":"Master!B2","v":"प्रधानाचार्य"},null,{"$f":"EmpDetail!A25","v":22},{"$f":"EmpDetail!B25","v":"jken;ky xqtZj"}]
[null,null,null,null,null,null,{"$f":"Master!B3","v":"राजकीय उच्च माध्यमिक विद्यालय "},null,{"$f":"EmpDetail!A26","v":23},{"$f":"EmpDetail!B26","v":"vkSeizdk'k tkV"}]
[null,null,null,null,null,null,{"$f":"Master!B4","v":"चौगाई]टोंक"},null,{"$f":"EmpDetail!A27","v":24},{"$f":"EmpDetail!B27","v":"vthr flag"}]
[null,null,null,null,null,null,null,null,{"$f":"EmpDetail!A28","v":25},{"$f":"EmpDetail!B28","v":"eq[rkj eha;k"}]
[null,null,null,null,null,null,null,null,{"$f":"EmpDetail!A29","v":26},{"$f":"EmpDetail!B29","v":"eks0 tehy "}]
[null,null,null,null,null,null,null,null,{"$f":"EmpDetail!A30","v":27},{"$f":"EmpDetail!B30","v":"lkaojey tkV"}]
[null,null,null,null,null,null,null,null,{"$f":"EmpDetail!A31","v":28},{"$f":"EmpDetail!B31","v":"pkS/kjh eksuk jkekorkj"}]
[null,null,null,null,null,null,null,null,{"$f":"EmpDetail!A32","v":29},{"$f":"EmpDetail!B32","v":"rkjkpUn tk;loky"}]
[null,null,null,null,null,null,null,null,{"$f":"EmpDetail!A33","v":30},{"$f":"EmpDetail!B33","v":"jketl ;kno"}]
[null,null,null,null,null,null,null,null,{"$f":"EmpDetail!A34","v":31},{"$f":"EmpDetail!B34","v":"dtksMey eh.kk"}]
[null,null,null,null,null,null,null,null,{"$f":"EmpDetail!A35","v":32},{"$f":"EmpDetail!B35","v":"/kaut; xkSRre"}]
[null,null,null,null,null,null,null,null,{"$f":"EmpDetail!A36","v":33},{"$f":"EmpDetail!B36","v":"d`\".kk xaxoky"}]
[null,null,null,null,null,null,null,null,{"$f":"EmpDetail!A37","v":34},{"$f":"EmpDetail!B37","v":"n'kjFk dqekj ;kno"}]
[null,null,null,null,null,null,null,null,{"$f":"EmpDetail!A38","v":35},{"$f":"EmpDetail!B38","v":"d`\".k yky tkV"}]
[null,null,null,null,null,null,null,null,{"$f":"EmpDetail!A39","v":36},{"$f":"EmpDetail!B39","v":"nhisUnz dqekj iztkir"}]
[null,null,null,null,null,null,null,null,{"$f":"EmpDetail!A40","v":37},{"$f":"EmpDetail!B40","v":"uohu dqekj"}]
[null,null,null,null,null,null,null,null,{"$f":"EmpDetail!A41","v":38},{"$f":"EmpDetail!B41","v":"ehrs'k dqekj 'kekZ"}]
[null,null,null,null,null,null,null,null,{"$f":"EmpDetail!A42","v":39},{"$f":"EmpDetail!B42","v":"eUtw eh.kk"}]
[null,null,null,null,null,null,null,null,{"$f":"EmpDetail!A43","v":40},{"$f":"EmpDetail!B43","v":"eatw pkS/kjh"}]
[null,null,null,null,null,null,null,null,{"$f":"EmpDetail!A44","v":41},{"$f":"EmpDetail!B44","v":0}]
[null,null,null,null,null,null,null,null,{"$f":"EmpDetail!A45","v":42},{"$f":"EmpDetail!B45","v":0}]
[null,null,null,null,null,null,null,null,{"$f":"EmpDetail!A46","v":43},{"$f":"EmpDetail!B46","v":0}]
[null,null,null,null,null,null,null,null,{"$f":"EmpDetail!A47","v":44},{"$f":"EmpDetail!B47","v":0}]
[null,null,null,null,null,null,null,null,{"$f":"EmpDetail!A48","v":45},{"$f":"EmpDetail!B48","v":0}]
[null,null,null,null,null,null,null,null,{"$f":"EmpDetail!A49","v":46},{"$f":"EmpDetail!B49","v":0}]
[null,null,null,null,null,null,null,null,{"$f":"EmpDetail!A50","v":47},{"$f":"EmpDetail!B50","v":0}]
[null,null,null,null,null,null,null,null,{"$f":"EmpDetail!A51","v":48},{"$f":"EmpDetail!B51","v":0}]
[null,null,null,null,null,null,null,null,{"$f":"EmpDetail!A52","v":49},{"$f":"EmpDetail!B52","v":0}]
[null,null,null,null,null,null,null,null,{"$f":"EmpDetail!A53","v":50},{"$f":"EmpDetail!B53","v":0}]
[null,null,null,null,null,null,null,null,{"$f":"EmpDetail!A54","v":51},{"$f":"EmpDetail!B54","v":0}]
[null,null,null,null,null,null,null,null,{"$f":"EmpDetail!A55","v":52},{"$f":"EmpDetail!B55","v":0}]
[null,null,null,null,null,null,null,null,{"$f":"EmpDetail!A56","v":53},{"$f":"EmpDetail!B56","v":0}]
[null,null,null,null,null,null,null,null,{"$f":"EmpDetail!A57","v":54},{"$f":"EmpDetail!B57","v":0}]
[null,null,null,null,null,null,null,null,{"$f":"EmpDetail!A58","v":55},{"$f":"EmpDetail!B58","v":0}]
[null,null,null,null,null,null,null,null,{"$f":"EmpDetail!A59","v":56},{"$f":"EmpDetail!B59","v":0}]
[null,null,null,null,null,null,null,null,{"$f":"EmpDetail!A60","v":57},{"$f":"EmpDetail!B60","v":0}]
[null,null,null,null,null,null,null,null,{"$f":"EmpDetail!A61","v":58},{"$f":"EmpDetail!B61","v":0}]
[null,null,null,null,null,null,null,null,{"$f":"EmpDetail!A62","v":59},{"$f":"EmpDetail!B62","v":0}]
[null,null,null,null,null,null,null,null,{"$f":"EmpDetail!A63","v":60},{"$f":"EmpDetail!B63","v":0}]
[null,null,null,null,null,null,null,null,{"$f":"EmpDetail!A64","v":61},{"$f":"EmpDetail!B64","v":0}]
[null,null,null,null,null,null,null,null,{"$f":"EmpDetail!A65","v":62},{"$f":"EmpDetail!B65","v":0}]
[null,null,null,null,null,null,null,null,{"$f":"EmpDetail!A66","v":63},{"$f":"EmpDetail!B66","v":0}]
[null,null,null,null,null,null,null,null,{"$f":"EmpDetail!A67","v":64},{"$f":"EmpDetail!B67","v":0}]
[null,null,null,null,null,null,null,null,{"$f":"EmpDetail!A68","v":65},{"$f":"EmpDetail!B68","v":0}]
[null,null,null,null,null,null,null,null,{"$f":"EmpDetail!A69","v":66},{"$f":"EmpDetail!B69","v":0}]
[null,null,null,null,null,null,null,null,{"$f":"EmpDetail!A70","v":67},{"$f":"EmpDetail!B70","v":0}]
[null,null,null,null,null,null,null,null,{"$f":"EmpDetail!A71","v":68},{"$f":"EmpDetail!B71","v":0}]
[null,null,null,null,null,null,null,null,{"$f":"EmpDetail!A72","v":69},{"$f":"EmpDetail!B72","v":0}]
[null,null,null,null,null,null,null,null,{"$f":"EmpDetail!A73","v":70},{"$f":"EmpDetail!B73","v":0}]
[null,null,null,null,null,null,null,null,{"$f":"EmpDetail!A74","v":71},{"$f":"EmpDetail!B74","v":0}]
[null,null,null,null,null,null,null,null,{"$f":"EmpDetail!A75","v":72},{"$f":"EmpDetail!B75","v":0}]
[null,null,null,null,null,null,null,null,{"$f":"EmpDetail!A76","v":73},{"$f":"EmpDetail!B76","v":0}]
[null,null,null,null,null,null,null,null,{"$f":"EmpDetail!A77","v":74},{"$f":"EmpDetail!B77","v":0}]
[null,null,null,null,null,null,null,null,{"$f":"EmpDetail!A78","v":75},{"$f":"EmpDetail!B78","v":0}]
[null,null,null,null,null,null,null,null,{"$f":"EmpDetail!A79","v":76},{"$f":"EmpDetail!B79","v":0}]
[null,null,null,null,null,null,null,null,{"$f":"EmpDetail!A80","v":77},{"$f":"EmpDetail!B80","v":0}]
[null,null,null,null,null,null,null,null,{"$f":"EmpDetail!A81","v":78},{"$f":"EmpDetail!B81","v":0}]
[null,null,null,null,null,null,null,null,{"$f":"EmpDetail!A82","v":79},{"$f":"EmpDetail!B82","v":0}]
[null,null,null,null,null,null,null,null,{"$f":"EmpDetail!A83","v":80},{"$f":"EmpDetail!B83","v":0}]
[null,null,null,null,null,null,null,null,{"$f":"EmpDetail!A84","v":81},{"$f":"EmpDetail!B84","v":0}]
[null,null,null,null,null,null,null,null,{"$f":"EmpDetail!A85","v":82},{"$f":"EmpDetail!B85","v":0}]
[null,null,null,null,null,null,null,null,{"$f":"EmpDetail!A86","v":83},{"$f":"EmpDetail!B86","v":0}]
[null,null,null,null,null,null,null,null,{"$f":"EmpDetail!A87","v":84},{"$f":"EmpDetail!B87","v":0}]
[null,null,null,null,null,null,null,null,{"$f":"EmpDetail!A88","v":85},{"$f":"EmpDetail!B88","v":0}]
[null,null,null,null,null,null,null,null,{"$f":"EmpDetail!A89","v":86},{"$f":"EmpDetail!B89","v":0}]
[null,null,null,null,null,null,null,null,{"$f":"EmpDetail!A90","v":87},{"$f":"EmpDetail!B90","v":0}]
[null,null,null,null,null,null,null,null,{"$f":"EmpDetail!A91","v":88},{"$f":"EmpDetail!B91","v":0}]
[null,null,null,null,null,null,null,null,{"$f":"EmpDetail!A92","v":89},{"$f":"EmpDetail!B92","v":0}]
[null,null,null,null,null,null,null,null,{"$f":"EmpDetail!A93","v":90},{"$f":"EmpDetail!B93","v":0}]
[null,null,null,null,null,null,null,null,{"$f":"EmpDetail!A94","v":91},{"$f":"EmpDetail!B94","v":0}]
[null,null,null,null,null,null,null,null,{"$f":"EmpDetail!A95","v":92},{"$f":"EmpDetail!B95","v":0}]
[null,null,null,null,null,null,null,null,{"$f":"EmpDetail!A96","v":93},{"$f":"EmpDetail!B96","v":0}]
[null,null,null,null,null,null,null,null,{"$f":"EmpDetail!A97","v":94},{"$f":"EmpDetail!B97","v":0}]
[null,null,null,null,null,null,null,null,{"$f":"EmpDetail!A98","v":95},{"$f":"EmpDetail!B98","v":0}]
[null,null,null,null,null,null,null,null,{"$f":"EmpDetail!A99","v":96},{"$f":"EmpDetail!B99","v":0}]
[null,null,null,null,null,null,null,null,{"$f":"EmpDetail!A100","v":97},{"$f":"EmpDetail!B100","v":0}]
[null,null,null,null,null,null,null,null,{"$f":"EmpDetail!A101","v":98},{"$f":"EmpDetail!B101","v":0}]
[null,null,null,null,null,null,null,null,{"$f":"EmpDetail!A102","v":99},{"$f":"EmpDetail!B102","v":0}]
[null,null,null,null,null,null,null,null,{"$f":"EmpDetail!A103","v":100},{"$f":"EmpDetail!B103","v":0}]

{"sheet":"GA 79","index":29,"n_rows":111,"n_cols":19,"rows_kept":111,"cut":false,"hidden":true,"merged":[[34,10,34,13],[35,10,35,13],[30,2,30,13],[31,2,31,4],[31,6,31,8],[31,11,31,12],[33,10,33,13],[33,4,33,6],[34,4,34,6],[35,4,35,6],[8,7,10,7],[8,0,10,0],[6,12,6,13],[6,10,6,11],[29,3,29,7],[8,8,8,11],[9,8,9,11],[8,12,10,12],[8,13,10,13],[8,1,10,1],[8,2,10,2],[8,3,10,3],[8,4,10,4],[8,5,10,5],[8,6,10,6],[4,1,4,13],[5,1,5,13],[7,1,7,2],[7,3,7,5],[7,12,7,13],[7,9,7,11],[0,1,0,13],[1,1,1,13],[2,1,2,13],[3,9,3,10],[3,11,3,13],[3,1,3,8]]}
[null,"GA-79"]
[null,{"$f":"Master!G2&Master!H2","v":"कार्यालय&राजकीय उच्च माध्यमिक विद्यालय ]चौगाई]टोंक"}]
[null,"GOVERNMENT OF RAJASTHAN"]
[null,"Statement of frist deduction on account of Insurance Premium for the month of",null,null,null,null,null,null,null,"2021-03-01",null,"SCHEDULE-B"]
[null,"Classification-R-Unfunded Debt-Other Account"]
[null,"STATE GOVERNMENT INSURANCE FUND"]
[null,"dzekad&",{"$f":"Master!H3&Master!I3&Master!J3&Master!E3&\"/\"","v":"राउमावि/चौगाई/संस्था/2021-22/"},null,null,null,null,null,null,null,"fnukad&",null,{"$f":"TODAY()","v":"2021-06-19"}]
[null,"Department-",null,"ek/;fed f'k{kk",null,null,null,null,null,"Treasury/Sub Treasury-",null,null,{"$f":"Master!H4","v":"पीपलू"}]
["dkfeZd dh dz0la0 fy[ks","S.No.","Name","Designation","Date of Permanent appointment","Monthly Pay","Monthly Premium Realised","Remarks","For Insurance Department Use Only",null,null,null,"Initial","Remarks"]
[null,null,null,null,null,null,null,null,"Adjusted Towards"]
[null,null,null,null,null,null,null,null,"Premium","Policy No","Suspence","Decl. No."]
[39,{"$f":"IF(C12=\"\",\"\",1)","v":1},{"$f":"IF(ISNA(VLOOKUP($A12,$O$12:$S$111,2,FALSE)),\"\",VLOOKUP($A12,$O$12:$S$111,2,FALSE))","v":"eUtw eh.kk"},{"$f":"IF(ISNA(VLOOKUP($A12,$O$12:$S$111,3,FALSE)),\"\",VLOOKUP($A12,$O$12:$S$111,3,FALSE))","v":"वरिष्ठ अध्यापक"},{"$f":"IF(ISNA(VLOOKUP($A12,$O$12:$S$111,4,FALSE)),\"\",VLOOKUP($A12,$O$12:$S$111,4,FALSE))","v":"2020-09-29"},{"$f":"IF(ISNA(VLOOKUP($A12,$O$12:$S$111,5,FALSE)),\"\",VLOOKUP($A12,$O$12:$S$111,5,FALSE))","v":33800},5000,null,null,null,null,null,null,null,{"$f":"EmpDetail!A4","v":1},{"$f":"EmpDetail!B4","v":"fd'ku yky cSjok"},{"$f":"EmpDetail!C4","v":"प्रधानाचार्य"},{"$f":"EmpDetail!G4","v":"00:00:00"},{"$f":"EmpDetail!K4","v":95900}]
[37,{"$f":"IF(C13=\"\",\"\",B12+1)","v":2},{"$f":"IF(ISNA(VLOOKUP($A13,$O$12:$S$111,2,FALSE)),\"\",VLOOKUP($A13,$O$12:$S$111,2,FALSE))","v":"uohu dqekj"},{"$f":"IF(ISNA(VLOOKUP($A13,$O$12:$S$111,3,FALSE)),\"\",VLOOKUP($A13,$O$12:$S$111,3,FALSE))","v":"अध्यापक ग्रेड III"},{"$f":"IF(ISNA(VLOOKUP($A13,$O$12:$S$111,4,FALSE)),\"\",VLOOKUP($A13,$O$12:$S$111,4,FALSE))","v":"2020-12-21"},{"$f":"IF(ISNA(VLOOKUP($A13,$O$12:$S$111,5,FALSE)),\"\",VLOOKUP($A13,$O$12:$S$111,5,FALSE))","v":33800},5000,null,null,null,null,null,null,null,{"$f":"EmpDetail!A5","v":2},{"$f":"EmpDetail!B5","v":"iwj.k pUn y{kdkj"},{"$f":"EmpDetail!C5","v":"व्याख्याता"},{"$f":"EmpDetail!G5","v":"00:00:00"},{"$f":"EmpDetail!K5","v":56100}]
[36,{"$f":"IF(C14=\"\",\"\",B13+1)","v":3},"nhisUnz dqekj iztkir","अध्यापक ग्रेड III","2020-12-28",33800,5000,null,null,null,null,null,null,null,{"$f":"EmpDetail!A6","v":3},{"$f":"EmpDetail!B6","v":"jktsUnz dqekj tSu"},{"$f":"EmpDetail!C6","v":"व्याख्याता"},{"$f":"EmpDetail!G6","v":"00:00:00"},{"$f":"EmpDetail!K6","v":63100}]
[38,4,"ehrs'k dqekj 'kekZ","अध्यापक ग्रेड III","2020-04-02",34800,5000,null,null,null,null,null,null,null,{"$f":"EmpDetail!A7","v":4},{"$f":"EmpDetail!B7","v":"fd'ku yky cSjok"},{"$f":"EmpDetail!C7","v":"व्याख्याता"},{"$f":"EmpDetail!G7","v":"00:00:00"},{"$f":"EmpDetail!K7","v":54500}]
[35,5,"d`\".k yky tkV","अध्यापक ग्रेड III","2020-10-02",33800,5000,null,null,null,null,null,null,null,{"$f":"EmpDetail!A8","v":5},{"$f":"EmpDetail!B8","v":"lR;ukjk;.k 'kekZ"},{"$f":"EmpDetail!C8","v":"वरिष्ठ अध्यापक"},{"$f":"EmpDetail!G8","v":"00:00:00"},{"$f":"EmpDetail!K8","v":71300}]
[null,"","","","","",null,null,null,null,null,null,null,null,{"$f":"EmpDetail!A9","v":6},{"$f":"EmpDetail!B9","v":"iq\"ik tSu"},{"$f":"EmpDetail!C9","v":"वरिष्ठ अध्यापक"},{"$f":"EmpDetail!G9","v":"00:00:00"},{"$f":"EmpDetail!K9","v":73400}]
[null,"","","","","",null,null,null,null,null,null,null,null,{"$f":"EmpDetail!A10","v":7},{"$f":"EmpDetail!B10","v":"vk'kkjke eh.kk"},{"$f":"EmpDetail!C10","v":"वरिष्ठ अध्यापक"},{"$f":"EmpDetail!G10","v":"00:00:00"},{"$f":"EmpDetail!K10","v":52300}]
[null,"","","","","",null,null,null,null,null,null,null,null,{"$f":"EmpDetail!A11","v":8},{"$f":"EmpDetail!B11","v":"t;iky flag"},{"$f":"EmpDetail!C11","v":"वरिष्ठ अध्यापक"},{"$f":"EmpDetail!G11","v":"00:00:00"},{"$f":"EmpDetail!K11","v":63100}]
[null,"","","","","",null,null,null,null,null,null,null,null,{"$f":"EmpDetail!A12","v":9},{"$f":"EmpDetail!B12","v":"jkeizlkn jsxj"},{"$f":"EmpDetail!C12","v":"वरिष्ठ अध्यापक"},{"$f":"EmpDetail!G12","v":"00:00:00"},{"$f":"EmpDetail!K12","v":46500}]
[null,"","","","","",null,null,null,null,null,null,null,null,{"$f":"EmpDetail!A13","v":10},{"$f":"EmpDetail!B13","v":"egsUnz dqekj tkV"},{"$f":"EmpDetail!C13","v":"शारीरिक शिक्षक"},{"$f":"EmpDetail!G13","v":"00:00:00"},{"$f":"EmpDetail!K13","v":61300}]
[null,"","","","","",null,null,null,null,null,null,null,null,{"$f":"EmpDetail!A14","v":11},{"$f":"EmpDetail!B14","v":"NksVw yky jsxj"},{"$f":"EmpDetail!C14","v":"अध्यापक ग्रेड III"},{"$f":"EmpDetail!G14","v":"00:00:00"},{"$f":"EmpDetail!K14","v":65200}]
[null,"","","","","",null,null,null,null,null,null,null,null,{"$f":"EmpDetail!A15","v":12},{"$f":"EmpDetail!B15","v":"dUgS;k yky egkoj"},{"$f":"EmpDetail!C15","v":"अध्यापक ग्रेड III"},{"$f":"EmpDetail!G15","v":"00:00:00"},{"$f":"EmpDetail!K15","v":65200}]
[null,"","","","","",null,null,null,null,null,null,null,null,{"$f":"EmpDetail!A16","v":13},{"$f":"EmpDetail!B16","v":"prqHkqZt tkV"},{"$f":"EmpDetail!C16","v":"अध्यापक ग्रेड III"},{"$f":"EmpDetail!G16","v":"2005-04-13"},{"$f":"EmpDetail!K16","v":52300}]
[null,"","","","","",null,null,null,null,null,null,null,null,{"$f":"EmpDetail!A17","v":14},{"$f":"EmpDetail!B17","v":"vklsQk [kku"},{"$f":"EmpDetail!C17","v":"अध्यापक ग्रेड III"},{"$f":"EmpDetail!G17","v":"00:00:00"},{"$f":"EmpDetail!K17","v":52300}]
[null,"","","","","",null,null,null,null,null,null,null,null,{"$f":"EmpDetail!A18","v":15},{"$f":"EmpDetail!B18","v":"lq'khyk cSjok"},{"$f":"EmpDetail!C18","v":"कनिष्ठ सहायक"},{"$f":"EmpDetail!G18","v":"00:00:00"},{"$f":"EmpDetail!K18","v":14600}]
[null,"","","","","",null,null,null,null,null,null,null,null,{"$f":"EmpDetail!A19","v":16},{"$f":"EmpDetail!B19","v":"txnh'k izlkn rsyh"},{"$f":"EmpDetail!C19","v":"सहायक कर्मचारी"},{"$f":"EmpDetail!G19","v":"00:00:00"},{"$f":"EmpDetail!K19","v":34700}]
[null,"","","","","",null,null,null,null,null,null,null,null,{"$f":"EmpDetail!A20","v":17},{"$f":"EmpDetail!B20","v":"jfoUnz dqekj tSu"},{"$f":"EmpDetail!C20","v":"अध्यापक ग्रेड III"},{"$f":"EmpDetail!G20","v":"00:00:00"},{"$f":"EmpDetail!K20","v":65200}]
[null,null,"Total",null,null,null,{"$f":"SUM(G12:G28)","v":25000},null,null,null,null,null,null,null,{"$f":"EmpDetail!A21","v":18},{"$f":"EmpDetail!B21","v":" ';ke lqUnj ckxkSM"},{"$f":"EmpDetail!C21","v":"अध्यापक ग्रेड III"},{"$f":"EmpDetail!G21","v":"00:00:00"},{"$f":"EmpDetail!K21","v":40300}]
[null,null,"v{kjs&","iPphl gtkj :i;s ek= A",null,null,null,null,null,null,null,null,null,null,{"$f":"EmpDetail!A22","v":19},{"$f":"EmpDetail!B22","v":"d`\".kk 'kekZ"},{"$f":"EmpDetail!C22","v":"प्रबोधक"},{"$f":"EmpDetail!G22","v":"00:00:00"},{"$f":"EmpDetail!K22","v":45100}]
[null,"Note-","This form is to be used only for officials in regard to whom recoveries are to be made for the first time.",null,null,null,null,null,null,null,null,null,null,null,{"$f":"EmpDetail!A23","v":20},{"$f":"EmpDetail!B23","v":"/keZsUnz pkS/kjh"},{"$f":"EmpDetail!C23","v":"अध्यापक ग्रेड III"},{"$f":"EmpDetail!G23","v":"00:00:00"},{"$f":"EmpDetail!K23","v":40300}]
[null,null,"Certified that recoveries amounting to Rs.",null,null,{"$f":"G29","v":25000},"have been made from Pay Bill No.",null,null,9,"Dated-","2021-04-04",null,null,{"$f":"EmpDetail!A24","v":21},{"$f":"EmpDetail!B24","v":"izgykn ekyh"},{"$f":"EmpDetail!C24","v":"प्रबोधक"},{"$f":"EmpDetail!G24","v":"00:00:00"},{"$f":"EmpDetail!K24","v":46500}]
[null,null,null,null,null,null,null,null,null,null,null,null,null,null,{"$f":"EmpDetail!A25","v":22},{"$f":"EmpDetail!B25","v":"jken;ky xqtZj"},{"$f":"EmpDetail!C25","v":"प्रबोधक"},{"$f":"EmpDetail!G25","v":"00:00:00"},{"$f":"EmpDetail!K25","v":45100}]
[null,null,null,null,{"$f":"Master!B2","v":"प्रधानाचार्य"},null,null,null,null,null,"Verified by",null,null,null,{"$f":"EmpDetail!A26","v":23},{"$f":"EmpDetail!B26","v":"vkSeizdk'k tkV"},{"$f":"EmpDetail!C26","v":"अध्यापक ग्रेड III"},{"$f":"EmpDetail!G26","v":"00:00:00"},{"$f":"EmpDetail!K26","v":45100}]
[null,null,null,null,{"$f":"Master!B3","v":"राजकीय उच्च माध्यमिक विद्यालय "},null,null,null,null,null,"Treasury Officer",null,null,null,{"$f":"EmpDetail!A27","v":24},{"$f":"EmpDetail!B27","v":"vthr flag"},{"$f":"EmpDetail!C27","v":"अध्यापक ग्रेड III"},{"$f":"EmpDetail!G27","v":"00:00:00"},{"$f":"EmpDetail!K27","v":40300}]
[null,null,null,null,{"$f":"Master!B4","v":"चौगाई]टोंक"},null,null,null,null,null,null,null,null,null,{"$f":"EmpDetail!A28","v":25},{"$f":"EmpDetail!B28","v":"eq[rkj eha;k"},{"$f":"EmpDetail!C28","v":"प्रबोधक"},{"$f":"EmpDetail!G28","v":"00:00:00"},{"$f":"EmpDetail!K28","v":45100}]
[null,null,null,null,null,null,null,null,null,null,null,null,null,null,{"$f":"EmpDetail!A29","v":26},{"$f":"EmpDetail!B29","v":"eks0 tehy "},{"$f":"EmpDetail!C29","v":"प्रबोधक"},{"$f":"EmpDetail!G29","v":"00:00:00"},{"$f":"EmpDetail!K29","v":45100}]
[null,null,null,null,null,null,null,null,null,null,null,null,null,null,{"$f":"EmpDetail!A30","v":27},{"$f":"EmpDetail!B30","v":"lkaojey tkV"},{"$f":"EmpDetail!C30","v":"अध्यापक ग्रेड III"},{"$f":"EmpDetail!G30","v":"00:00:00"},{"$f":"EmpDetail!K30","v":38000}]
[null,null,null,null,null,null,null,null,null,null,null,null,null,null,{"$f":"EmpDetail!A31","v":28},{"$f":"EmpDetail!B31","v":"pkS/kjh eksuk jkekorkj"},{"$f":"EmpDetail!C31","v":"अध्यापक ग्रेड III"},{"$f":"EmpDetail!G31","v":"00:00:00"},{"$f":"EmpDetail!K31","v":38000}]
[null,null,null,null,null,null,null,null,null,null,null,null,null,null,{"$f":"EmpDetail!A32","v":29},{"$f":"EmpDetail!B32","v":"rkjkpUn tk;loky"},{"$f":"EmpDetail!C32","v":"प्रबोधक"},{"$f":"EmpDetail!G32","v":"00:00:00"},{"$f":"EmpDetail!K32","v":41300}]
[null,null,null,null,null,null,null,null,null,null,null,null,null,null,{"$f":"EmpDetail!A33","v":30},{"$f":"EmpDetail!B33","v":"jketl ;kno"},{"$f":"EmpDetail!C33","v":"अध्यापक ग्रेड III"},{"$f":"EmpDetail!G33","v":"00:00:00"},{"$f":"EmpDetail!K33","v":63100}]
[null,null,null,null,null,null,null,null,null,null,null,null,null,null,{"$f":"EmpDetail!A34","v":31},{"$f":"EmpDetail!B34","v":"dtksMey eh.kk"},{"$f":"EmpDetail!C34","v":"अध्यापक ग्रेड III"},{"$f":"EmpDetail!G34","v":"00:00:00"},{"$f":"EmpDetail!K34","v":38000}]
[null,null,null,null,null,null,null,null,null,null,null,null,null,null,{"$f":"EmpDetail!A35","v":32},{"$f":"EmpDetail!B35","v":"/kaut; xkSRre"},{"$f":"EmpDetail!C35","v":"अध्यापक ग्रेड III"},{"$f":"EmpDetail!G35","v":"2020-04-03"},{"$f":"EmpDetail!K35","v":34800}]
[null,null,null,null,null,null,null,null,null,null,null,null,null,null,{"$f":"EmpDetail!A36","v":33},{"$f":"EmpDetail!B36","v":"d`\".kk xaxoky"},{"$f":"EmpDetail!C36","v":"अध्यापक ग्रेड III"},{"$f":"EmpDetail!G36","v":"2020-12-21"},{"$f":"EmpDetail!K36","v":33800}]
[null,null,null,null,null,null,null,null,null,null,null,null,null,null,{"$f":"EmpDetail!A37","v":34},{"$f":"EmpDetail!B37","v":"n'kjFk dqekj ;kno"},{"$f":"EmpDetail!C37","v":"अध्यापक ग्रेड III"},{"$f":"EmpDetail!G37","v":"2020-09-29"},{"$f":"EmpDetail!K37","v":23700}]
[null,null,null,null,null,null,null,null,null,null,null,null,null,null,{"$f":"EmpDetail!A38","v":35},{"$f":"EmpDetail!B38","v":"d`\".k yky tkV"},{"$f":"EmpDetail!C38","v":"अध्यापक ग्रेड III"},{"$f":"EmpDetail!G38","v":"2020-10-02"},{"$f":"EmpDetail!K38","v":33800}]
[null,null,null,null,null,null,null,null,null,null,null,null,null,null,{"$f":"EmpDetail!A39","v":36},{"$f":"EmpDetail!B39","v":"nhisUnz dqekj iztkir"},{"$f":"EmpDetail!C39","v":"अध्यापक ग्रेड III"},{"$f":"EmpDetail!G39","v":"2020-12-28"},{"$f":"EmpDetail!K39","v":33800}]
[null,null,null,null,null,null,null,null,null,null,null,null,null,null,{"$f":"EmpDetail!A40","v":37},{"$f":"EmpDetail!B40","v":"uohu dqekj"},{"$f":"EmpDetail!C40","v":"अध्यापक ग्रेड III"},{"$f":"EmpDetail!G40","v":"2020-12-21"},{"$f":"EmpDetail!K40","v":33800}]
[null,null,null,null,null,null,null,null,null,null,null,null,null,null,{"$f":"EmpDetail!A41","v":38},{"$f":"EmpDetail!B41","v":"ehrs'k dqekj 'kekZ"},{"$f":"EmpDetail!C41","v":"अध्यापक ग्रेड III"},{"$f":"EmpDetail!G41","v":"2020-04-02"},{"$f":"EmpDetail!K41","v":34800}]
[null,null,null,null,null,null,null,null,null,null,null,null,null,null,{"$f":"EmpDetail!A42","v":39},{"$f":"EmpDetail!B42","v":"eUtw eh.kk"},{"$f":"EmpDetail!C42","v":"वरिष्ठ अध्यापक"},{"$f":"EmpDetail!G42","v":"2020-09-29"},{"$f":"EmpDetail!K42","v":33800}]
[null,null,null,null,null,null,null,null,null,null,null,null,null,null,{"$f":"EmpDetail!A43","v":40},{"$f":"EmpDetail!B43","v":"eatw pkS/kjh"},{"$f":"EmpDetail!C43","v":"वरिष्ठ अध्यापक"},{"$f":"EmpDetail!G43","v":"2020-09-29"},{"$f":"EmpDetail!K43","v":26500}]
[null,null,null,null,null,null,null,null,null,null,null,null,null,null,{"$f":"EmpDetail!A44","v":41},{"$f":"EmpDetail!B44","v":0},{"$f":"EmpDetail!C44","v":0},{"$f":"EmpDetail!G44","v":"00:00:00"},{"$f":"EmpDetail!K44","v":0}]
[null,null,null,null,null,null,null,null,null,null,null,null,null,null,{"$f":"EmpDetail!A45","v":42},{"$f":"EmpDetail!B45","v":0},{"$f":"EmpDetail!C45","v":0},{"$f":"EmpDetail!G45","v":"00:00:00"},{"$f":"EmpDetail!K45","v":0}]
[null,null,null,null,null,null,null,null,null,null,null,null,null,null,{"$f":"EmpDetail!A46","v":43},{"$f":"EmpDetail!B46","v":0},{"$f":"EmpDetail!C46","v":0},{"$f":"EmpDetail!G46","v":"00:00:00"},{"$f":"EmpDetail!K46","v":0}]
[null,null,null,null,null,null,null,null,null,null,null,null,null,null,{"$f":"EmpDetail!A47","v":44},{"$f":"EmpDetail!B47","v":0},{"$f":"EmpDetail!C47","v":0},{"$f":"EmpDetail!G47","v":"00:00:00"},{"$f":"EmpDetail!K47","v":0}]
[null,null,null,null,null,null,null,null,null,null,null,null,null,null,{"$f":"EmpDetail!A48","v":45},{"$f":"EmpDetail!B48","v":0},{"$f":"EmpDetail!C48","v":0},{"$f":"EmpDetail!G48","v":"00:00:00"},{"$f":"EmpDetail!K48","v":0}]
[null,null,null,null,null,null,null,null,null,null,null,null,null,null,{"$f":"EmpDetail!A49","v":46},{"$f":"EmpDetail!B49","v":0},{"$f":"EmpDetail!C49","v":0},{"$f":"EmpDetail!G49","v":"00:00:00"},{"$f":"EmpDetail!K49","v":0}]
[null,null,null,null,null,null,null,null,null,null,null,null,null,null,{"$f":"EmpDetail!A50","v":47},{"$f":"EmpDetail!B50","v":0},{"$f":"EmpDetail!C50","v":0},{"$f":"EmpDetail!G50","v":"00:00:00"},{"$f":"EmpDetail!K50","v":0}]
[null,null,null,null,null,null,null,null,null,null,null,null,null,null,{"$f":"EmpDetail!A51","v":48},{"$f":"EmpDetail!B51","v":0},{"$f":"EmpDetail!C51","v":0},{"$f":"EmpDetail!G51","v":"00:00:00"},{"$f":"EmpDetail!K51","v":0}]
[null,null,null,null,null,null,null,null,null,null,null,null,null,null,{"$f":"EmpDetail!A52","v":49},{"$f":"EmpDetail!B52","v":0},{"$f":"EmpDetail!C52","v":0},{"$f":"EmpDetail!G52","v":"00:00:00"},{"$f":"EmpDetail!K52","v":0}]
[null,null,null,null,null,null,null,null,null,null,null,null,null,null,{"$f":"EmpDetail!A53","v":50},{"$f":"EmpDetail!B53","v":0},{"$f":"EmpDetail!C53","v":0},{"$f":"EmpDetail!G53","v":"00:00:00"},{"$f":"EmpDetail!K53","v":0}]
[null,null,null,null,null,null,null,null,null,null,null,null,null,null,{"$f":"EmpDetail!A54","v":51},{"$f":"EmpDetail!B54","v":0},{"$f":"EmpDetail!C54","v":0},{"$f":"EmpDetail!G54","v":"00:00:00"},{"$f":"EmpDetail!K54","v":0}]
[null,null,null,null,null,null,null,null,null,null,null,null,null,null,{"$f":"EmpDetail!A55","v":52},{"$f":"EmpDetail!B55","v":0},{"$f":"EmpDetail!C55","v":0},{"$f":"EmpDetail!G55","v":"00:00:00"},{"$f":"EmpDetail!K55","v":0}]
[null,null,null,null,null,null,null,null,null,null,null,null,null,null,{"$f":"EmpDetail!A56","v":53},{"$f":"EmpDetail!B56","v":0},{"$f":"EmpDetail!C56","v":0},{"$f":"EmpDetail!G56","v":"00:00:00"},{"$f":"EmpDetail!K56","v":0}]
[null,null,null,null,null,null,null,null,null,null,null,null,null,null,{"$f":"EmpDetail!A57","v":54},{"$f":"EmpDetail!B57","v":0},{"$f":"EmpDetail!C57","v":0},{"$f":"EmpDetail!G57","v":"00:00:00"},{"$f":"EmpDetail!K57","v":0}]
[null,null,null,null,null,null,null,null,null,null,null,null,null,null,{"$f":"EmpDetail!A58","v":55},{"$f":"EmpDetail!B58","v":0},{"$f":"EmpDetail!C58","v":0},{"$f":"EmpDetail!G58","v":"00:00:00"},{"$f":"EmpDetail!K58","v":0}]
[null,null,null,null,null,null,null,null,null,null,null,null,null,null,{"$f":"EmpDetail!A59","v":56},{"$f":"EmpDetail!B59","v":0},{"$f":"EmpDetail!C59","v":0},{"$f":"EmpDetail!G59","v":"00:00:00"},{"$f":"EmpDetail!K59","v":0}]
[null,null,null,null,null,null,null,null,null,null,null,null,null,null,{"$f":"EmpDetail!A60","v":57},{"$f":"EmpDetail!B60","v":0},{"$f":"EmpDetail!C60","v":0},{"$f":"EmpDetail!G60","v":"00:00:00"},{"$f":"EmpDetail!K60","v":0}]
[null,null,null,null,null,null,null,null,null,null,null,null,null,null,{"$f":"EmpDetail!A61","v":58},{"$f":"EmpDetail!B61","v":0},{"$f":"EmpDetail!C61","v":0},{"$f":"EmpDetail!G61","v":"00:00:00"},{"$f":"EmpDetail!K61","v":0}]
[null,null,null,null,null,null,null,null,null,null,null,null,null,null,{"$f":"EmpDetail!A62","v":59},{"$f":"EmpDetail!B62","v":0},{"$f":"EmpDetail!C62","v":0},{"$f":"EmpDetail!G62","v":"00:00:00"},{"$f":"EmpDetail!K62","v":0}]
[null,null,null,null,null,null,null,null,null,null,null,null,null,null,{"$f":"EmpDetail!A63","v":60},{"$f":"EmpDetail!B63","v":0},{"$f":"EmpDetail!C63","v":0},{"$f":"EmpDetail!G63","v":"00:00:00"},{"$f":"EmpDetail!K63","v":0}]
[null,null,null,null,null,null,null,null,null,null,null,null,null,null,{"$f":"EmpDetail!A64","v":61},{"$f":"EmpDetail!B64","v":0},{"$f":"EmpDetail!C64","v":0},{"$f":"EmpDetail!G64","v":"00:00:00"},{"$f":"EmpDetail!K64","v":0}]
[null,null,null,null,null,null,null,null,null,null,null,null,null,null,{"$f":"EmpDetail!A65","v":62},{"$f":"EmpDetail!B65","v":0},{"$f":"EmpDetail!C65","v":0},{"$f":"EmpDetail!G65","v":"00:00:00"},{"$f":"EmpDetail!K65","v":0}]
[null,null,null,null,null,null,null,null,null,null,null,null,null,null,{"$f":"EmpDetail!A66","v":63},{"$f":"EmpDetail!B66","v":0},{"$f":"EmpDetail!C66","v":0},{"$f":"EmpDetail!G66","v":"00:00:00"},{"$f":"EmpDetail!K66","v":0}]
[null,null,null,null,null,null,null,null,null,null,null,null,null,null,{"$f":"EmpDetail!A67","v":64},{"$f":"EmpDetail!B67","v":0},{"$f":"EmpDetail!C67","v":0},{"$f":"EmpDetail!G67","v":"00:00:00"},{"$f":"EmpDetail!K67","v":0}]
[null,null,null,null,null,null,null,null,null,null,null,null,null,null,{"$f":"EmpDetail!A68","v":65},{"$f":"EmpDetail!B68","v":0},{"$f":"EmpDetail!C68","v":0},{"$f":"EmpDetail!G68","v":"00:00:00"},{"$f":"EmpDetail!K68","v":0}]
[null,null,null,null,null,null,null,null,null,null,null,null,null,null,{"$f":"EmpDetail!A69","v":66},{"$f":"EmpDetail!B69","v":0},{"$f":"EmpDetail!C69","v":0},{"$f":"EmpDetail!G69","v":"00:00:00"},{"$f":"EmpDetail!K69","v":0}]
[null,null,null,null,null,null,null,null,null,null,null,null,null,null,{"$f":"EmpDetail!A70","v":67},{"$f":"EmpDetail!B70","v":0},{"$f":"EmpDetail!C70","v":0},{"$f":"EmpDetail!G70","v":"00:00:00"},{"$f":"EmpDetail!K70","v":0}]
[null,null,null,null,null,null,null,null,null,null,null,null,null,null,{"$f":"EmpDetail!A71","v":68},{"$f":"EmpDetail!B71","v":0},{"$f":"EmpDetail!C71","v":0},{"$f":"EmpDetail!G71","v":"00:00:00"},{"$f":"EmpDetail!K71","v":0}]
[null,null,null,null,null,null,null,null,null,null,null,null,null,null,{"$f":"EmpDetail!A72","v":69},{"$f":"EmpDetail!B72","v":0},{"$f":"EmpDetail!C72","v":0},{"$f":"EmpDetail!G72","v":"00:00:00"},{"$f":"EmpDetail!K72","v":0}]
[null,null,null,null,null,null,null,null,null,null,null,null,null,null,{"$f":"EmpDetail!A73","v":70},{"$f":"EmpDetail!B73","v":0},{"$f":"EmpDetail!C73","v":0},{"$f":"EmpDetail!G73","v":"00:00:00"},{"$f":"EmpDetail!K73","v":0}]
[null,null,null,null,null,null,null,null,null,null,null,null,null,null,{"$f":"EmpDetail!A74","v":71},{"$f":"EmpDetail!B74","v":0},{"$f":"EmpDetail!C74","v":0},{"$f":"EmpDetail!G74","v":"00:00:00"},{"$f":"EmpDetail!K74","v":0}]
[null,null,null,null,null,null,null,null,null,null,null,null,null,null,{"$f":"EmpDetail!A75","v":72},{"$f":"EmpDetail!B75","v":0},{"$f":"EmpDetail!C75","v":0},{"$f":"EmpDetail!G75","v":"00:00:00"},{"$f":"EmpDetail!K75","v":0}]
[null,null,null,null,null,null,null,null,null,null,null,null,null,null,{"$f":"EmpDetail!A76","v":73},{"$f":"EmpDetail!B76","v":0},{"$f":"EmpDetail!C76","v":0},{"$f":"EmpDetail!G76","v":"00:00:00"},{"$f":"EmpDetail!K76","v":0}]
[null,null,null,null,null,null,null,null,null,null,null,null,null,null,{"$f":"EmpDetail!A77","v":74},{"$f":"EmpDetail!B77","v":0},{"$f":"EmpDetail!C77","v":0},{"$f":"EmpDetail!G77","v":"00:00:00"},{"$f":"EmpDetail!K77","v":0}]
[null,null,null,null,null,null,null,null,null,null,null,null,null,null,{"$f":"EmpDetail!A78","v":75},{"$f":"EmpDetail!B78","v":0},{"$f":"EmpDetail!C78","v":0},{"$f":"EmpDetail!G78","v":"00:00:00"},{"$f":"EmpDetail!K78","v":0}]
[null,null,null,null,null,null,null,null,null,null,null,null,null,null,{"$f":"EmpDetail!A79","v":76},{"$f":"EmpDetail!B79","v":0},{"$f":"EmpDetail!C79","v":0},{"$f":"EmpDetail!G79","v":"00:00:00"},{"$f":"EmpDetail!K79","v":0}]
[null,null,null,null,null,null,null,null,null,null,null,null,null,null,{"$f":"EmpDetail!A80","v":77},{"$f":"EmpDetail!B80","v":0},{"$f":"EmpDetail!C80","v":0},{"$f":"EmpDetail!G80","v":"00:00:00"},{"$f":"EmpDetail!K80","v":0}]
[null,null,null,null,null,null,null,null,null,null,null,null,null,null,{"$f":"EmpDetail!A81","v":78},{"$f":"EmpDetail!B81","v":0},{"$f":"EmpDetail!C81","v":0},{"$f":"EmpDetail!G81","v":"00:00:00"},{"$f":"EmpDetail!K81","v":0}]
[null,null,null,null,null,null,null,null,null,null,null,null,null,null,{"$f":"EmpDetail!A82","v":79},{"$f":"EmpDetail!B82","v":0},{"$f":"EmpDetail!C82","v":0},{"$f":"EmpDetail!G82","v":"00:00:00"},{"$f":"EmpDetail!K82","v":0}]
[null,null,null,null,null,null,null,null,null,null,null,null,null,null,{"$f":"EmpDetail!A83","v":80},{"$f":"EmpDetail!B83","v":0},{"$f":"EmpDetail!C83","v":0},{"$f":"EmpDetail!G83","v":"00:00:00"},{"$f":"EmpDetail!K83","v":0}]
[null,null,null,null,null,null,null,null,null,null,null,null,null,null,{"$f":"EmpDetail!A84","v":81},{"$f":"EmpDetail!B84","v":0},{"$f":"EmpDetail!C84","v":0},{"$f":"EmpDetail!G84","v":"00:00:00"},{"$f":"EmpDetail!K84","v":0}]
[null,null,null,null,null,null,null,null,null,null,null,null,null,null,{"$f":"EmpDetail!A85","v":82},{"$f":"EmpDetail!B85","v":0},{"$f":"EmpDetail!C85","v":0},{"$f":"EmpDetail!G85","v":"00:00:00"},{"$f":"EmpDetail!K85","v":0}]
[null,null,null,null,null,null,null,null,null,null,null,null,null,null,{"$f":"EmpDetail!A86","v":83},{"$f":"EmpDetail!B86","v":0},{"$f":"EmpDetail!C86","v":0},{"$f":"EmpDetail!G86","v":"00:00:00"},{"$f":"EmpDetail!K86","v":0}]
[null,null,null,null,null,null,null,null,null,null,null,null,null,null,{"$f":"EmpDetail!A87","v":84},{"$f":"EmpDetail!B87","v":0},{"$f":"EmpDetail!C87","v":0},{"$f":"EmpDetail!G87","v":"00:00:00"},{"$f":"EmpDetail!K87","v":0}]
[null,null,null,null,null,null,null,null,null,null,null,null,null,null,{"$f":"EmpDetail!A88","v":85},{"$f":"EmpDetail!B88","v":0},{"$f":"EmpDetail!C88","v":0},{"$f":"EmpDetail!G88","v":"00:00:00"},{"$f":"EmpDetail!K88","v":0}]
[null,null,null,null,null,null,null,null,null,null,null,null,null,null,{"$f":"EmpDetail!A89","v":86},{"$f":"EmpDetail!B89","v":0},{"$f":"EmpDetail!C89","v":0},{"$f":"EmpDetail!G89","v":"00:00:00"},{"$f":"EmpDetail!K89","v":0}]
[null,null,null,null,null,null,null,null,null,null,null,null,null,null,{"$f":"EmpDetail!A90","v":87},{"$f":"EmpDetail!B90","v":0},{"$f":"EmpDetail!C90","v":0},{"$f":"EmpDetail!G90","v":"00:00:00"},{"$f":"EmpDetail!K90","v":0}]
[null,null,null,null,null,null,null,null,null,null,null,null,null,null,{"$f":"EmpDetail!A91","v":88},{"$f":"EmpDetail!B91","v":0},{"$f":"EmpDetail!C91","v":0},{"$f":"EmpDetail!G91","v":"00:00:00"},{"$f":"EmpDetail!K91","v":0}]
[null,null,null,null,null,null,null,null,null,null,null,null,null,null,{"$f":"EmpDetail!A92","v":89},{"$f":"EmpDetail!B92","v":0},{"$f":"EmpDetail!C92","v":0},{"$f":"EmpDetail!G92","v":"00:00:00"},{"$f":"EmpDetail!K92","v":0}]
[null,null,null,null,null,null,null,null,null,null,null,null,null,null,{"$f":"EmpDetail!A93","v":90},{"$f":"EmpDetail!B93","v":0},{"$f":"EmpDetail!C93","v":0},{"$f":"EmpDetail!G93","v":"00:00:00"},{"$f":"EmpDetail!K93","v":0}]
[null,null,null,null,null,null,null,null,null,null,null,null,null,null,{"$f":"EmpDetail!A94","v":91},{"$f":"EmpDetail!B94","v":0},{"$f":"EmpDetail!C94","v":0},{"$f":"EmpDetail!G94","v":"00:00:00"},{"$f":"EmpDetail!K94","v":0}]
[null,null,null,null,null,null,null,null,null,null,null,null,null,null,{"$f":"EmpDetail!A95","v":92},{"$f":"EmpDetail!B95","v":0},{"$f":"EmpDetail!C95","v":0},{"$f":"EmpDetail!G95","v":"00:00:00"},{"$f":"EmpDetail!K95","v":0}]
[null,null,null,null,null,null,null,null,null,null,null,null,null,null,{"$f":"EmpDetail!A96","v":93},{"$f":"EmpDetail!B96","v":0},{"$f":"EmpDetail!C96","v":0},{"$f":"EmpDetail!G96","v":"00:00:00"},{"$f":"EmpDetail!K96","v":0}]
[null,null,null,null,null,null,null,null,null,null,null,null,null,null,{"$f":"EmpDetail!A97","v":94},{"$f":"EmpDetail!B97","v":0},{"$f":"EmpDetail!C97","v":0},{"$f":"EmpDetail!G97","v":"00:00:00"},{"$f":"EmpDetail!K97","v":0}]
[null,null,null,null,null,null,null,null,null,null,null,null,null,null,{"$f":"EmpDetail!A98","v":95},{"$f":"EmpDetail!B98","v":0},{"$f":"EmpDetail!C98","v":0},{"$f":"EmpDetail!G98","v":"00:00:00"},{"$f":"EmpDetail!K98","v":0}]
[null,null,null,null,null,null,null,null,null,null,null,null,null,null,{"$f":"EmpDetail!A99","v":96},{"$f":"EmpDetail!B99","v":0},{"$f":"EmpDetail!C99","v":0},{"$f":"EmpDetail!G99","v":"00:00:00"},{"$f":"EmpDetail!K99","v":0}]
[null,null,null,null,null,null,null,null,null,null,null,null,null,null,{"$f":"EmpDetail!A100","v":97},{"$f":"EmpDetail!B100","v":0},{"$f":"EmpDetail!C100","v":0},{"$f":"EmpDetail!G100","v":"00:00:00"},{"$f":"EmpDetail!K100","v":0}]
[null,null,null,null,null,null,null,null,null,null,null,null,null,null,{"$f":"EmpDetail!A101","v":98},{"$f":"EmpDetail!B101","v":0},{"$f":"EmpDetail!C101","v":0},{"$f":"EmpDetail!G101","v":"00:00:00"},{"$f":"EmpDetail!K101","v":0}]
[null,null,null,null,null,null,null,null,null,null,null,null,null,null,{"$f":"EmpDetail!A102","v":99},{"$f":"EmpDetail!B102","v":0},{"$f":"EmpDetail!C102","v":0},{"$f":"EmpDetail!G102","v":"00:00:00"},{"$f":"EmpDetail!K102","v":0}]
[null,null,null,null,null,null,null,null,null,null,null,null,null,null,{"$f":"EmpDetail!A103","v":100},{"$f":"EmpDetail!B103","v":0},{"$f":"EmpDetail!C103","v":0},{"$f":"EmpDetail!G103","v":"00:00:00"},{"$f":"EmpDetail!K103","v":0}]

{"sheet":"Handover List","index":30,"n_rows":41,"n_cols":9,"rows_kept":41,"cut":false,"hidden":true,"merged":[[38,7,38,8],[39,7,39,8],[39,3,39,5],[0,1,0,8],[2,1,2,8],[3,7,3,8],[37,1,37,2],[37,7,37,8]]}
[null,{"$f":"Master!G2&Master!H2","v":"कार्यालय&राजकीय उच्च माध्यमिक विद्यालय ]चौगाई]टोंक"}]
[null,"dzekad&",{"$f":"Master!H3&Master!I3&Master!J3&Master!E3&\"/\"","v":"राउमावि/चौगाई/संस्था/2021-22/"},null,null,null,null,"fnukad&",{"$f":"TODAY()","v":"2021-06-19"}]
[null,"izHkkj gLrkarj.k lwfp"]
[null,"uke izHkkj&","परीक्षा शाखा",null,null,null,"uke izHkkjh&","Jh jkeizlkn jsxj"]
[null,"dz0la0","uke oLrq","ek=k@la[;k","fLFkfr","dz0la0","uke oLrq","ek=k@la[;k","fLFkfr"]
[null,{"$f":"IF(C6=\"\",\"\",1)","v":1},"dqlhZ",1,"Bhd",{"$f":"IF(G6=\"\",\"\",B36+1)","v":32},"csap",1,"[kjkc"]
[null,{"$f":"IF(C7=\"\",\"\",B6+1)","v":2},"Vscy",1,"Bhd",{"$f":"IF(G7=\"\",\"\",F6+1)","v":33},"csap",1,"[kjkc"]
[null,{"$f":"IF(C8=\"\",\"\",B7+1)","v":3},"Vscy",1,"Bhd",{"$f":"IF(G8=\"\",\"\",F7+1)","v":34},"csap",1,"[kjkc"]
[null,4,"Vscy",1,"Bhd",35,"csap",1,"[kjkc"]
[null,5,"Vscy",1,"Bhd",36,"csap",1,"[kjkc"]
[null,6,"Vscy",1,"Bhd",37,"csap",1,"[kjkc"]
[null,7,"Vscy",1,"Bhd",38,"csap",1,"[kjkc"]
[null,8,"Vscy",1,"Bhd",39,"csap",1,"[kjkc"]
[null,9,"Vscy",1,"Bhd",40,"csap",1,"[kjkc"]
[null,10,"Vscy",1,"Bhd",41,"csap",1,"[kjkc"]
[null,11,"Vscy",1,"Bhd",42,"csap",1,"[kjkc"]
[null,12,"Vscy",1,"Bhd",43,"csap",1,"[kjkc"]
[null,13,"Vscy",1,"Bhd",44,"csap",1,"[kjkc"]
[null,14,"Vscy",1,"Bhd",45,"csap",1,"[kjkc"]
[null,15,"Vscy",1,"Bhd",46,"csap",1,"[kjkc"]
[null,16,"Vscy",1,"Bhd",47,"csap",1,"[kjkc"]
[null,17,"Vscy",1,"Bhd",48,"csap",1,"[kjkc"]
[null,18,"Vscy",1,"Bhd",49,"csap",1,"[kjkc"]
[null,19,"Vscy",1,"Bhd",50,"csap",1,"[kjkc"]
[null,20,"Vscy",1,"Bhd",51,"csap",1,"[kjkc"]
[null,21,"Vscy",1,"Bhd",52,"csap",1,"[kjkc"]
[null,22,"Vscy",1,"Bhd",53,"csap",1,"[kjkc"]
[null,23,"Vscy",1,"Bhd",54,"csap",1,"[kjkc"]
[null,24,"Vscy",1,"Bhd",55,"csap",1,"[kjkc"]
[null,25,"Vscy",1,"Bhd",56,"csap",1,"[kjkc"]
[null,26,"Vscy",1,"Bhd",57,"csap",1,"[kjkc"]
[null,27,"Vscy",1,"Bhd",58,"csap",1,"[kjkc"]
[null,28,"Vscy",1,"Bhd",59,"csap",1,"[kjkc"]
[null,29,"Vscy",1,"Bhd",60,"csap",1,"[kjkc"]
[null,30,"Vscy",1,"Bhd",61,"csap",1,"[kjkc"]
[null,31,"Vscy",1,"Bhd",62,"csap",1,"[kjkc"]
[]
[null,"pktZ ysus okys ds gLrk{kj",null,null,null,null,null,"pktZ nsus okys ds gLrk{kj"]
[null,"uke&","egsUnz dqekj tkV",null,{"$f":"Master!B2","v":"प्रधानाचार्य"},null,"uke&",{"$f":"H4","v":"Jh jkeizlkn jsxj"}]
[null,"in&"," 'kk0 f'k0",{"$f":"Master!B3","v":"राजकीय उच्च माध्यमिक विद्यालय "},null,null,"in&","ofj\"B v/;kid"]
[null,null,null,null,{"$f":"Master!B4","v":"चौगाई]टोंक"}]

{"sheet":"Pension Link","index":31,"n_rows":37,"n_cols":4,"rows_kept":37,"cut":false,"hidden":true,"merged":[[0,0,0,2],[1,0,1,2],[6,3,6,7]]}
["jktLFkku jkT; dkfeZd isa'ku izdj.k"]
["izdj.k lwfp"]
["dz0la0","uke QkbZy","fuEu Vsc ij fDyd djsa"]
[{"$f":"IF(B4=\"\",\"\",1)","v":1},"isa'ku izdj.k dh rS;kjh o dqyd"]
[{"$f":"IF(B5=\"\",\"\",A4+1)","v":2},"isa'ku ls iwoZ dh rS;kjh"]
[{"$f":"IF(B6=\"\",\"\",A5+1)","v":3},"isa'ku ds ckn dh dk;Zokgh"]
[4,"dk;kZy; isa'ku izdj.k QkWjokfMZxa i=",null,"izk:i&6 gsrw QkWjokfMZxa i="]
[5,"foHkkxh; tkap izek.k i="]
[6,"lhih,Q izek.k i="]
[7,"dk;kZy; vns; izek.k i="]
[8,"lsok iqfLrdk esa dfVax gks rks izek.k i="]
[9,"vlk/kkj.k vodk'k o vgZdkjh lsok izek.k i="]
[10,"dk;kZy; dk;ZeqfDr vkns'k"," 'kkyk niZ.k ls"]
[11,"jktdh; vkokl vkoaVu izek.k i="]
[12,"uks isa'ku izek.k i="]
[13,"nh?kZdkyhu _.k vns; izek.k i="]
[14,"usfeus'ku QkeZ GA&126"]
[15,"vodk'k 'ks\"k [kkrk GA-46"]
[16,"Capital Letter Formate for Pension"]
[17," 'kiFk i= vUrxZr izk:i&6"]
[18,"isa'ku nLrkost psdfyLV"]
[19,"lsok iqfLrdk esa fd;s tkus okys dk;Z"]
[20,"ifjf'k\"V&d laLFkkiu SI Meturity ij"]
[21,"{kfriwjd ckW.M ,lvkbZ@thih,Q"]
[22,"300 ih,y fMek.M QkWesZV"]
[23,"SI/GPF yksu izek.k i= ¼Dyse QkeZ ds lkFk½"]
[24,"th,&55,  SI/GPF"]
[25,"SI nkok QkjofMZax ysVj"]
[26,"GPF nkok QkjofMZax ysVj"]
[27,"SI esP;kSfjVh fu;e"]
[28,"GPF esP;kSfjVh fu;e"]
[29,"isa'ku ij ih,y fMek.M esy vkbZMh"]
[30,"dks\"kky; dks izLrqr fd;k tkus okyk 'kiFk i="]
[31,"dks\"kky; ls Hkqxrku izkIr djus gsrw dk;Zokgh"]
[32,"esfMdy Mk;jh gsrw vkosnu i="]
[33,"isa'ku osclkbZV ¼ le; le; ij psd djrs jgsa ½","Pension Website"]
[34,"LosfPNd lsok fuo`fRr gsrw vkosnu i="]

{"sheet":"Pension Case","index":32,"n_rows":0,"n_cols":0,"rows_kept":0,"cut":false,"hidden":true,"merged":[]}

{"sheet":"Before Pension","index":33,"n_rows":39,"n_cols":2,"rows_kept":39,"cut":false,"hidden":true,"merged":[[18,1,18,19],[12,1,12,19],[13,1,13,19],[14,1,14,19],[15,1,15,19],[16,1,16,19],[17,1,17,19],[11,1,11,19],[0,0,0,19],[1,1,1,19],[2,1,2,19],[3,1,3,19],[4,1,4,19],[5,1,5,19],[6,1,6,19],[7,1,7,19],[8,1,8,19],[9,1,9,19],[10,1,10,19],[19,1,19,19],[20,1,20,19],[21,1,21,19],[22,1,22,19],[23,1,23,19],[24,1,24,19],[25,1,25,19],[26,1,26,19],[27,1,27,19],[28,1,28,19],[29,1,29,19],[30,1,30,19],[31,1,31,19],[32,1,32,19],[33,1,33,19],[34,1,34,19],[35,1,35,19],[36,1,36,19],[37,1,37,19],[38,1,38,19],[44,1,44,19],[45,1,45,19],[39,1,39,19],[40,1,40,19],[41,1,41,19],[42,1,42,19],[43,1,43,19]]}
["lsokfuo`fRr ls iwoZ dh tkus okyh dk;Zokgh"]
[1,"loZizFke fu;ksDrk vf/kdkjh ls lsokfuo`fRr vkns'k tkjh djok;sa A 'kiFk i= izk:i&6 lyaXu dj Hkstsa"]
[2,"ewy lsok iqfLrdk esa izR;sd izfo\"Vh dks tkapdj iw.kZ djok;sa A th-,- 126 uksfeuh QkeZ yxk gks"]
[3,"lsokfuo`fRr frfFk rd dh lsok dk vxzhe lR;kiu djok;sa A tUe frfFk vuqizekf.kr gks] fu;qfDr;ksa dk ys[kk] osru fu;ru o osru o`f}] dk;ZeqfDr dk banzkt fd;k gqvk gks A"]
[4,"lsokfuo`fRr frfFk rd dh mikftZr ,oa v}Z osru vodk'k dks vxzhe tqMok;sa A lsok iqfLrdk ls vodk'k ys[kk dh QksVks izfr dk;kZy; esa j[ks A"]
[5,"lsokfuo`fRr frfFk rd dh vxzhe okf\"kZd osru o`f} yxokdj izksfotuy vafre osru izek.k i= tkjh djok;sa A"]
[6,";fn vkidk uke cSd [kkrs] isesustj] 'kkyk niZ.k ,oa lsok iqfLrdk esa vyx&vyx@fHkUurk gS rks izR;sd esa uke lsok iqfLrdk ,oa 'kS{kf.kd nLrkostksa ds leku djok;sa A"]
[7,"17 fcUnqvksa dk vaxzsth okyk QkWesZV dsihVy ysVlZ esa Hkjdj MhMhvks dks miyC/k djok;sa rkfd isa'ku dqyd Hkjus esa vklkuh gksA"]
[8,"dk;kZy; ls vxzhe vns; izek.k i= tkjh djok;sa A"]
[9,"foHkkxh; tkap yachr ugha@lhlh, 16]17 dh dk;Zokgh ugha dk izek.k i= tkjh djok;sa A"]
[10,"lhih,Q dkfeZd ugha gksus dk izek.k i= tkjh djok;sa A"]
[11,"isesustj ls uohure is&Lyhi ,oa dkfeZd MkVk QkWeZ fudyokdj MhMhvks ls izekf.kr djok;sa A"]
[12,"cSad iklcqd dh LoPN izfr] vk/kkj dkMZ dh izfr ,oa isu dkMZ dh izfr MhMhvks dks miyC/k djok;sa A"]
[13,"dqyd esa isa'kuj dh ,EiyksbZ vkbZMh ,oa MhMhvks dksM vo'; fy[ksa A"]
[14,"lsok iqfLrdk esa vodk'k ys[ks ds izR;sd i`\"B ij dkfeZd dk uke o tUe frfFk vafdr djsa ,oa bldh QksVks izfr dk;kZy; esa Hkoh\"; ds fy, j[ksa A GA- 46"]
[15,"lsok iqfLrdk ds izR;sd i`\"B ij tgka esa'ku gS dkfeZd ds gLrk{kj djok;sa A"]
[16,"lsok iqfLrdk ds vafre i`\"B dks MhMhvks ls mPpkf/kdkjh dk;kZy;@Loa; ds dk;kZy; ds ys[kkdkj ls izekf.kr djok;sa A"]
[17,"lsok iqfLrdk ds vafre i`\"B dks MhMhvks ls mPpkf/kdkjh dk;kZy;@Loa; ds dk;kZy; ds ys[kkdkj ls izekf.kr djok;sa A"]
[18,"6 ekg iwoZ isa'ku dqyd rhu izfr;ksa esa fdlh vuqHkoh dkfeZd ls gh Hkjok;sa ;k Jh Hkxorh yky luk<; }kjk cuk;s x;s lkWQVos;j esa dqyd Hkjsa A ftldh ,d izfr dk;kZy; esa j[ksa A isa'ku dqyd dh leLr izfof\"V;ka iw.kZ gksuh pkfg, A"]
[19,"isa'ku dqyd ds lkFk layXu nLrkost&"]
["d","lsok fuo`fRr vkns'k"]
["[k","dk;kZy;/;{k dk dk;ZeqfDr vkns'k"]
["x","vns; izek.k i="]
["?k","izksfotuy vafre osru izek.k i="]
["M","flfoy lsok ¼oxhZdj.k] fu;a=.k o vihy½ fu;e 1958 ds fu;e 16 o 17 dh dk;Zokgh ugha dk izek.k i= A"]
["p","lsok larks\"ktud dk izek.k i="]
["N","jktdh; vkokl vkoaVu dk izek.k i="]
["t","nh?kZdkyhu _.k dk vns; izek.k i="]
[">","lhih,Q dkfeZd ugha gksus dk izek.k i="]
["¥","dksbZ jktdh; _.k tSls&Hkou _.k] okgu _.k] QuhZpj _.k fy;k gks rks ftyk dks\"kky; ls vns; izek.k i="]
["r","izFke fu;qfDr ls lsokfuo`fRr rd dk lsok fooj.k"]
["Fk","dksbZ izksfotuy isa'ku ugh ysus dk izek.k i="]
["n","la;qDr 9 QksVksxzkQ ikliksVZ lkbZt ds ¼uksfeuh ds lkFk QksVksxzkQ½ MhMhvks ls vuqizekf.kr gks A"]
["u","isesustj ls uohure is&Lyhi ,oa dkfeZd MkVk QkWeZ fudyokdj MhMhvks ls izekf.kr djok;sa A"]
[18,"dk;kZy; ls QkjofMZax ysVj tkjh djok;sa A"]
[19,"ftl dkfeZd dh lsokfuo`fRr gks jgh gS mlds osru ls lsokfuo`fRr ekg ls iwoZ vkus okys ekpZ ls igys rhu efgus iwoZ ,lvkbZ dh dVkSfr cUn dj ns "]
[null,"rkfd vizsy ekg esa rqjUr Hkqxrku fey lds A"]
[20,"ftl dkfeZd dh lsokfuo`fRr gks jgh gS mlds osru ls lsokfuo`fRr ds 3 ekg iwoZ ¼lsokfuo`fRr ekg lfgr½ thih,Q dh dVkSfr cUn dj ns rkfd lsokfuo`fRr ij "]
[null,"rqjUr Hkqxrku fey lds A"]

{"sheet":"After Pension","index":34,"n_rows":12,"n_cols":2,"rows_kept":12,"cut":false,"hidden":true,"merged":[[10,1,10,13],[11,1,11,13],[12,1,12,13],[25,1,25,18],[27,1,27,18],[22,1,22,18],[20,1,20,18],[21,1,21,18],[14,1,14,13],[13,1,13,13],[17,1,17,13],[15,1,15,13],[16,1,16,13],[9,1,9,18],[5,1,5,18],[6,1,6,18],[7,1,7,18],[8,1,8,18],[0,0,0,18],[1,1,1,18],[2,1,2,18],[3,1,3,18],[4,1,4,13]]}
["lsokfuo`fRr ds ckn dh tkus okyh dk;Zokgh"]
["A","lsokfuo`fRr frfFk dks fd;s tkus okys dk;Z&"]
[1,"ftl dkfeZd dh tUe frfFk ekg ds izFke fnol dks gS mldh lsokfuo`fRr frfFk iwoZ ekg dh vafre frfFk dks gksxh A tUe frfFk ekg ds izFke fnol ds vykok ds ekeys esa mlh ekg ds vafre fnol dks gksxh A"]
[2,"dkfeZd dks vkWuykbZu@vkWQykbZu dk;ZeqDr djuk"]
[3,"vns; izek.k i= tkjh djuk"]
[4,"dkfeZd ls mikftZr vodk'k leiZ.k dk vkosnu i= ysuk"]
["B","lsokfuo`fRr frfFk ds ckn fd;s tkus okys dk;Z&"]
[1,"lsok esa jgrs dkfeZd dh e`R;q gksus ij e`R;q frfFk dk osru ns; gksxk ,oa LoSfPNd lsokfuo`fr dk fnu vdk;Z fnol ekuk tkrk gS rFkk osru dk Hkqxrku ugha fd;k tkrk gS A "]
[2,"dkfeZd dk isesustj ij LVsVl cnyuk Retire and stop pay"]
[3,"dkfeZd dks isesustj ls vafre osru izek.k i= tkjh djsa "]
[4,"PPO Number tkjh gksus ij 300 mikftZr vodk'k leiZ.k dh jkf'k dk fMek.M isa'ku foHkkx dks esy ls Hkstuk"]
[5,"ctV tkjh gksus ij mikftZr vodk'k leiZ.k dh jkf'k dk Hkqxrku djsa A"]

{"sheet":"Office Forwrd","index":35,"n_rows":104,"n_cols":19,"rows_kept":104,"cut":false,"hidden":true,"merged":[[5,10,6,12],[37,5,37,7],[38,5,38,7],[25,5,25,7],[26,5,26,7],[27,5,27,7],[31,1,31,3],[32,2,32,3],[36,5,36,7],[10,1,10,6],[12,1,12,2],[12,3,12,4],[13,0,13,5],[13,7,13,8],[16,0,16,1],[0,0,0,8],[4,1,4,4],[5,1,5,2],[6,1,6,2],[9,2,9,3],[9,5,9,8]]}
[{"$f":"Master!G2&Master!H2","v":"कार्यालय&राजकीय उच्च माध्यमिक विद्यालय ]चौगाई]टोंक"}]
[]
["dzekad%&",{"$f":"Master!H3&Master!I3&Master!J3&Master!E3&\"/\"","v":"राउमावि/चौगाई/संस्था/2021-22/"},null,null,null,null,null,"fnukad%&",{"$f":"TODAY()","v":"2021-06-19"}]
[null,"lsok esa]"]
[" ","Jheku~ eq[; CykWd f'k{kk vf/kdkjh egksn;",null,null,null,null,null,null,null,null,null,null,null,1,{"$f":"EmpDetail!B4","v":"fd'ku yky cSjok"},{"$f":"EmpDetail!C4","v":"प्रधानाचार्य"},{"$f":"EmpDetail!D4","v":"राउमावि चौगाई"},{"$f":"EmpDetail!E4","v":"1962-01-10"},{"$f":"IF(R5=\"\",\"\",DATE(YEAR(R5-1)+60,(MONTH(R5-1))+1,0))","v":"2022-01-31"}]
[null,"     iapk;r lfefr",null,null,null,null,null,null,null,null,"dkfeZd dk dzekad ntZ djsa",null,null,2,{"$f":"EmpDetail!B5","v":"iwj.k pUn y{kdkj"},{"$f":"EmpDetail!C5","v":"व्याख्याता"},{"$f":"EmpDetail!D5","v":"राउमावि चौगाई"},{"$f":"EmpDetail!E5","v":"1971-07-08"},{"$f":"IF(R6=\"\",\"\",DATE(YEAR(R6-1)+60,(MONTH(R6-1))+1,0))","v":"2031-07-31"}]
[null," Vksad",null,null,null,null,null,null,null,null,null,null,null,3,{"$f":"EmpDetail!B6","v":"jktsUnz dqekj tSu"},{"$f":"EmpDetail!C6","v":"व्याख्याता"},{"$f":"EmpDetail!D6","v":"राउमावि चौगाई"},{"$f":"EmpDetail!E6","v":"1968-09-14"},"2028-09-30"]
[null,null,null,null,null,null,null,null,null,null,null,11,null,4,{"$f":"EmpDetail!B7","v":"fd'ku yky cSjok"},{"$f":"EmpDetail!C7","v":"व्याख्याता"},{"$f":"EmpDetail!D7","v":"राउमावि चौगाई"},{"$f":"EmpDetail!E7","v":"1974-07-07"},"2034-07-31"]
[null,null,null,null,null,null,null,null,null,null,null,null,null,5,{"$f":"EmpDetail!B8","v":"lR;ukjk;.k 'kekZ"},{"$f":"EmpDetail!C8","v":"वरिष्ठ अध्यापक"},{"$f":"EmpDetail!D8","v":"राउमावि चौगाई"},{"$f":"EmpDetail!E8","v":"1962-07-01"},"2022-06-30"]
[null,"fo\"k; % &",{"$f":"IF(ISNA(VLOOKUP($L8,$N$5:$R$104,2,FALSE)),\"\",VLOOKUP($L8,$N$5:$R$104,2,FALSE))","v":"NksVw yky jsxj"},null,{"$f":"IF(ISNA(VLOOKUP($L8,$N$5:$R$104,3,FALSE)),\"\",VLOOKUP($L8,$N$5:$R$104,3,FALSE))","v":"अध्यापक ग्रेड III"},"dk lsokfuo`fr ij isa'ku izdj.k fuLrkj.k gsrw fHktokus ckcrA",null,null,null,null,null,null,null,6,{"$f":"EmpDetail!B9","v":"iq\"ik tSu"},{"$f":"EmpDetail!C9","v":"वरिष्ठ अध्यापक"},{"$f":"EmpDetail!D9","v":"राउमावि चौगाई"},{"$f":"EmpDetail!E9","v":"1964-04-10"},"2024-04-30"]
[null,"izlax%&lsokfuo`r dkfeZd }kjk dk;kZy; esa izLrqr isa'ku izdj.k fnukad%&",null,null,null,null,null,"2020-04-13",null,null,null,null,null,7,{"$f":"EmpDetail!B10","v":"vk'kkjke eh.kk"},{"$f":"EmpDetail!C10","v":"वरिष्ठ अध्यापक"},{"$f":"EmpDetail!D10","v":"राउमावि चौगाई"},{"$f":"EmpDetail!E10","v":"1978-06-11"},"2038-06-30"]
["egksn; ]",null,null,null,null,null,null,null,null,null,null,null,null,8,{"$f":"EmpDetail!B11","v":"t;iky flag"},{"$f":"EmpDetail!C11","v":"वरिष्ठ अध्यापक"},{"$f":"EmpDetail!D11","v":"राउमावि चौगाई"},{"$f":"EmpDetail!E11","v":"1972-02-02"},"2032-02-29"]
[null,"funZs'kkuqlkj bl foHkkx ds",null,{"$f":"C10","v":"NksVw yky jsxj"},null,{"$f":"E10","v":"अध्यापक ग्रेड III"},"ds isa'ku lEcfU/kr dqyd vkxs",null,null,null,null,null,null,9,{"$f":"EmpDetail!B12","v":"jkeizlkn jsxj"},{"$f":"EmpDetail!C12","v":"वरिष्ठ अध्यापक"},{"$f":"EmpDetail!D12","v":"राउमावि चौगाई"},{"$f":"EmpDetail!E12","v":"1978-06-01"},"2038-05-31"]
[" vko';d dk;Zokgh gsrq vxzsf\"kr fd;s tk jgs gS A budh tUe frfFk&",null,null,null,null,null,{"$f":"IF(ISNA(VLOOKUP($L8,$N$5:$R$104,5,FALSE)),\"\",VLOOKUP($L8,$N$5:$R$104,5,FALSE))","v":"1967-07-10"},"gSAbudh lsokfuo`fr",null,null,null,null,null,10,{"$f":"EmpDetail!B13","v":"egsUnz dqekj tkV"},{"$f":"EmpDetail!C13","v":"शारीरिक शिक्षक"},{"$f":"EmpDetail!D13","v":"राउमावि चौगाई"},{"$f":"EmpDetail!E13","v":"1976-01-30"},"2036-01-31"]
[null,"  frfFk&",{"$f":"IF(ISNA(VLOOKUP($L8,$N$5:$S$104,6,FALSE)),\"\",VLOOKUP($L8,$N$5:$S$104,6,FALSE))","v":"2027-07-31"},"gS A","isa'ku izdj.k fuLrkj.k gsrw fHktok;k tk jgk gSaA",null,null,null,null,null,null,null,null,11,{"$f":"EmpDetail!B14","v":"NksVw yky jsxj"},{"$f":"EmpDetail!C14","v":"अध्यापक ग्रेड III"},{"$f":"EmpDetail!D14","v":"राउमावि चौगाई"},{"$f":"EmpDetail!E14","v":"1967-07-10"},"2027-07-31"]
[null,null,"d`i;k bUgsa fu;ekuqlkj isa'ku izdj.k fuLrkfjr djokus dh d`ik djkosaA",null,null,null,null,null,null,null,null,null,null,12,{"$f":"EmpDetail!B15","v":"dUgS;k yky egkoj"},{"$f":"EmpDetail!C15","v":"अध्यापक ग्रेड III"},{"$f":"EmpDetail!D15","v":"राउमावि चौगाई"},{"$f":"EmpDetail!E15","v":"1962-04-05"},"2022-04-30"]
["layXu& ",null,"1- ewy lsok iqfLrdkA",null,null,null,null,null,null,null,null,null,null,13,{"$f":"EmpDetail!B16","v":"prqHkqZt tkV"},{"$f":"EmpDetail!C16","v":"अध्यापक ग्रेड III"},{"$f":"EmpDetail!D16","v":"राउमावि चौगाई"},{"$f":"EmpDetail!E16","v":"1976-04-04"},"2036-04-30"]
[null,null,"2- isa’ku dqydA",null,null,null,null,null,null,null,null,null,null,14,{"$f":"EmpDetail!B17","v":"vklsQk [kku"},{"$f":"EmpDetail!C17","v":"अध्यापक ग्रेड III"},{"$f":"EmpDetail!D17","v":"राउमावि चौगाई"},{"$f":"EmpDetail!E17","v":"1971-01-10"},"2031-01-31"]
[null,null,"3-lsokfuo`fr vkns’kA",null,null,null,null,null,null,null,null,null,null,15,{"$f":"EmpDetail!B18","v":"lq'khyk cSjok"},{"$f":"EmpDetail!C18","v":"कनिष्ठ सहायक"},{"$f":"EmpDetail!D18","v":"राउमावि चौगाई"},{"$f":"EmpDetail!E18","v":"1995-01-01"},"2054-12-31"]
[null,null,"4-is eustj ls fizaUV ,EiyksbZ ekLVj MkVkA",null,null,null,null,null,null,null,null,null,null,16,{"$f":"EmpDetail!B19","v":"txnh'k izlkn rsyh"},{"$f":"EmpDetail!C19","v":"सहायक कर्मचारी"},{"$f":"EmpDetail!D19","v":"राउमावि चौगाई"},{"$f":"EmpDetail!E19","v":"1962-06-04"},"2022-06-30"]
[null,null,"5-is eustj ls fizaUV ysVsLV is fLyiA",null,null,null,null,null,null,null,null,null,null,17,{"$f":"EmpDetail!B20","v":"jfoUnz dqekj tSu"},{"$f":"EmpDetail!C20","v":"अध्यापक ग्रेड III"},{"$f":"EmpDetail!D20","v":"राउप्रावि मोहिनी"},{"$f":"EmpDetail!E20","v":"1967-08-24"},"2027-08-31"]
[null,null,"6-cSad [kkrk iklcqd dh QksVks dksihA",null,null,null,null,null,null,null,null,null,null,18,{"$f":"EmpDetail!B21","v":" ';ke lqUnj ckxkSM"},{"$f":"EmpDetail!C21","v":"अध्यापक ग्रेड III"},{"$f":"EmpDetail!D21","v":"राउप्रावि मोहिनी"},{"$f":"EmpDetail!E21","v":"1983-08-10"},"2043-08-31"]
[null,null,"7- nh?kZdkyhu _.k lEcU/kh vns; izek.k&i=A",null,null,null,null,null,null,null,null,null,null,19,{"$f":"EmpDetail!B22","v":"d`\".kk 'kekZ"},{"$f":"EmpDetail!C22","v":"प्रबोधक"},{"$f":"EmpDetail!D22","v":"राउप्रावि मोहिनी"},{"$f":"EmpDetail!E22","v":"1972-08-06"},"2032-08-31"]
[null,null,null,null,null,null,null,null,null,null,null,null,null,20,{"$f":"EmpDetail!B23","v":"/keZsUnz pkS/kjh"},{"$f":"EmpDetail!C23","v":"अध्यापक ग्रेड III"},{"$f":"EmpDetail!D23","v":"राउप्रावि गोरधनपुरा"},{"$f":"EmpDetail!E23","v":"1990-03-05"},"2050-03-31"]
[null,null,null,null,null,null,null,null,null,null,null,null,null,21,{"$f":"EmpDetail!B24","v":"izgykn ekyh"},{"$f":"EmpDetail!C24","v":"प्रबोधक"},{"$f":"EmpDetail!D24","v":"राउप्रावि गोरधनपुरा"},{"$f":"EmpDetail!E24","v":"1974-08-07"},"2034-08-31"]
[null,null,null,null,null,{"$f":"Master!B2","v":"प्रधानाचार्य"},null,null,null,null,null,null,null,22,{"$f":"EmpDetail!B25","v":"jken;ky xqtZj"},{"$f":"EmpDetail!C25","v":"प्रबोधक"},{"$f":"EmpDetail!D25","v":"राउप्रावि सोंदीफल"},{"$f":"EmpDetail!E25","v":"1977-08-18"},"2037-08-31"]
[null,null,null,null,null,{"$f":"Master!B3","v":"राजकीय उच्च माध्यमिक विद्यालय "},null,null,null,null,null,null,null,23,{"$f":"EmpDetail!B26","v":"vkSeizdk'k tkV"},{"$f":"EmpDetail!C26","v":"अध्यापक ग्रेड III"},{"$f":"EmpDetail!D26","v":"राउप्रावि सोंदीफल"},{"$f":"EmpDetail!E26","v":"1982-10-31"},"2042-10-31"]
[null,null,null,null,null,{"$f":"Master!B4","v":"चौगाई]टोंक"},null,null,null,null,null,null,null,24,{"$f":"EmpDetail!B27","v":"vthr flag"},{"$f":"EmpDetail!C27","v":"अध्यापक ग्रेड III"},{"$f":"EmpDetail!D27","v":"राप्रावि जानकीवल्लभपुरा"},{"$f":"EmpDetail!E27","v":"1987-08-08"},"2047-08-31"]
[null,null,null,null,null,null,null,null,null,null,null,null,null,25,{"$f":"EmpDetail!B28","v":"eq[rkj eha;k"},{"$f":"EmpDetail!C28","v":"प्रबोधक"},{"$f":"EmpDetail!D28","v":"राप्रावि जानकीवल्लभपुरा"},{"$f":"EmpDetail!E28","v":"1976-07-04"},"2036-07-31"]
[null,null,null,null,null,null,null,null,null,null,null,null,null,26,{"$f":"EmpDetail!B29","v":"eks0 tehy "},{"$f":"EmpDetail!C29","v":"प्रबोधक"},{"$f":"EmpDetail!D29","v":"राप्रावि रसूलपुरा"},{"$f":"EmpDetail!E29","v":"1968-09-15"},"2028-09-30"]
[null,"izfrfyfi lwpukFkZ ,oa vko';d dk;Zokgh gsrq %&",null,null,null,null,null,null,null,null,null,null,null,27,{"$f":"EmpDetail!B30","v":"lkaojey tkV"},{"$f":"EmpDetail!C30","v":"अध्यापक ग्रेड III"},{"$f":"EmpDetail!D30","v":"राप्रावि रसूलपुरा"},{"$f":"EmpDetail!E30","v":"1992-03-03"},"2052-03-31"]
[1,"Jheku~ vfr- funs'kd isa'ku foHkkx egksn;",null,null,"vtesj",null,null,null,null,null,null,null,null,28,{"$f":"EmpDetail!B31","v":"pkS/kjh eksuk jkekorkj"},{"$f":"EmpDetail!C31","v":"अध्यापक ग्रेड III"},{"$f":"EmpDetail!D31","v":"राप्रावि मोहिनी ढाणी बाढ"},{"$f":"EmpDetail!E31","v":"1990-01-05"},"2050-01-31"]
[2,"lEcfU/kr ",{"$f":"C10","v":"NksVw yky jsxj"},null,{"$f":"E10","v":"अध्यापक ग्रेड III"},null,null,null,null,null,null,null,null,29,{"$f":"EmpDetail!B32","v":"rkjkpUn tk;loky"},{"$f":"EmpDetail!C32","v":"प्रबोधक"},{"$f":"EmpDetail!D32","v":"राप्रावि मोहिनी ढाणी बाढ"},{"$f":"EmpDetail!E32","v":"1976-11-11"},"2036-11-30"]
[3,"jf{kr i=koyh@isa'ku i=koyh A",null,null,null,null,null,null,null,null,null,null,null,30,{"$f":"EmpDetail!B33","v":"jketl ;kno"},{"$f":"EmpDetail!C33","v":"अध्यापक ग्रेड III"},{"$f":"EmpDetail!D33","v":"राप्रावि बैरवा ढाणी सोन्दीफल"},{"$f":"EmpDetail!E33","v":"1970-06-12"},"2030-06-30"]
[null,null,null,null,null,null,null,null,null,null,null,null,null,31,{"$f":"EmpDetail!B34","v":"dtksMey eh.kk"},{"$f":"EmpDetail!C34","v":"अध्यापक ग्रेड III"},{"$f":"EmpDetail!D34","v":"राप्रावि बैरवा ढाणी सोन्दीफल"},{"$f":"EmpDetail!E34","v":"1990-07-01"},"2050-06-30"]
[null,null,null,null,null,null,null,null,null,null,null,null,null,32,{"$f":"EmpDetail!B35","v":"/kaut; xkSRre"},{"$f":"EmpDetail!C35","v":"अध्यापक ग्रेड III"},{"$f":"EmpDetail!D35","v":"राउप्रावि गोरधनपुरा"},{"$f":"EmpDetail!E35","v":"1986-08-25"},"2046-08-31"]
[null,null,null,null,null,{"$f":"F26","v":"प्रधानाचार्य"},null,null,null,null,null,null,null,33,{"$f":"EmpDetail!B36","v":"d`\".kk xaxoky"},{"$f":"EmpDetail!C36","v":"अध्यापक ग्रेड III"},{"$f":"EmpDetail!D36","v":"राउप्रावि गोरधनपुरा"},{"$f":"EmpDetail!E36","v":"1995-06-20"},"2055-06-30"]
[null,null,null,null,null,{"$f":"F27","v":"राजकीय उच्च माध्यमिक विद्यालय "},null,null,null,null,null,null,null,34,{"$f":"EmpDetail!B37","v":"n'kjFk dqekj ;kno"},{"$f":"EmpDetail!C37","v":"अध्यापक ग्रेड III"},{"$f":"EmpDetail!D37","v":"राउप्रावि सोंदीफल"},{"$f":"EmpDetail!E37","v":"1991-01-01"},"2050-12-31"]
[null,null,null,null,null,"चौगाई]टोंक",null,null,null,null,null,null,null,35,{"$f":"EmpDetail!B38","v":"d`\".k yky tkV"},{"$f":"EmpDetail!C38","v":"अध्यापक ग्रेड III"},{"$f":"EmpDetail!D38","v":"राउप्रावि सोंदीफल"},{"$f":"EmpDetail!E38","v":"1990-07-18"},"2050-07-31"]
[null,null,null,null,null,null,null,null,null,null,null,null,null,36,{"$f":"EmpDetail!B39","v":"nhisUnz dqekj iztkir"},{"$f":"EmpDetail!C39","v":"अध्यापक ग्रेड III"},{"$f":"EmpDetail!D39","v":"राउप्रावि सोंदीफल"},{"$f":"EmpDetail!E39","v":"1994-07-12"},"2054-07-31"]
[null,null,null,null,null,null,null,null,null,null,null,null,null,37,{"$f":"EmpDetail!B40","v":"uohu dqekj"},{"$f":"EmpDetail!C40","v":"अध्यापक ग्रेड III"},{"$f":"EmpDetail!D40","v":"राउप्रावि मोहिनी"},{"$f":"EmpDetail!E40","v":"1995-04-13"},"2055-04-30"]
[null,null,null,null,null,null,null,null,null,null,null,null,null,38,{"$f":"EmpDetail!B41","v":"ehrs'k dqekj 'kekZ"},{"$f":"EmpDetail!C41","v":"अध्यापक ग्रेड III"},{"$f":"EmpDetail!D41","v":"राउप्रावि मोहिनी"},{"$f":"EmpDetail!E41","v":"1989-08-13"},"2049-08-31"]
[null,null,null,null,null,null,null,null,null,null,null,null,null,39,{"$f":"EmpDetail!B42","v":"eUtw eh.kk"},{"$f":"EmpDetail!C42","v":"वरिष्ठ अध्यापक"},{"$f":"EmpDetail!D42","v":"राउप्रावि गोरधनपुरा"},{"$f":"EmpDetail!E42","v":"1991-01-06"},"2051-01-31"]
[null,null,null,null,null,null,null,null,null,null,null,null,null,40,{"$f":"EmpDetail!B43","v":"eatw pkS/kjh"},{"$f":"EmpDetail!C43","v":"वरिष्ठ अध्यापक"},{"$f":"EmpDetail!D43","v":"राउप्रावि सोंदीफल"},{"$f":"EmpDetail!E43","v":"1991-08-04"},"2051-08-31"]
[null,null,null,null,null,null,null,null,null,null,null,null,null,41,{"$f":"EmpDetail!B44","v":0},{"$f":"EmpDetail!C44","v":0},{"$f":"EmpDetail!D44","v":0},{"$f":"EmpDetail!E44","v":"00:00:00"},{"$error":"#NUM!"}]
[null,null,null,null,null,null,null,null,null,null,null,null,null,42,{"$f":"EmpDetail!B45","v":0},{"$f":"EmpDetail!C45","v":0},{"$f":"EmpDetail!D45","v":0},{"$f":"EmpDetail!E45","v":"00:00:00"},{"$error":"#NUM!"}]
[null,null,null,null,null,null,null,null,null,null,null,null,null,43,{"$f":"EmpDetail!B46","v":0},{"$f":"EmpDetail!C46","v":0},{"$f":"EmpDetail!D46","v":0},{"$f":"EmpDetail!E46","v":"00:00:00"},{"$error":"#NUM!"}]
[null,null,null,null,null,null,null,null,null,null,null,null,null,44,{"$f":"EmpDetail!B47","v":0},{"$f":"EmpDetail!C47","v":0},{"$f":"EmpDetail!D47","v":0},{"$f":"EmpDetail!E47","v":"00:00:00"},{"$error":"#NUM!"}]
[null,null,null,null,null,null,null,null,null,null,null,null,null,45,{"$f":"EmpDetail!B48","v":0},{"$f":"EmpDetail!C48","v":0},{"$f":"EmpDetail!D48","v":0},{"$f":"EmpDetail!E48","v":"00:00:00"},{"$error":"#NUM!"}]
[null,null,null,null,null,null,null,null,null,null,null,null,null,46,{"$f":"EmpDetail!B49","v":0},{"$f":"EmpDetail!C49","v":0},{"$f":"EmpDetail!D49","v":0},{"$f":"EmpDetail!E49","v":"00:00:00"},{"$error":"#NUM!"}]
[null,null,null,null,null,null,null,null,null,null,null,null,null,47,{"$f":"EmpDetail!B50","v":0},{"$f":"EmpDetail!C50","v":0},{"$f":"EmpDetail!D50","v":0},{"$f":"EmpDetail!E50","v":"00:00:00"},{"$error":"#NUM!"}]
[null,null,null,null,null,null,null,null,null,null,null,null,null,48,{"$f":"EmpDetail!B51","v":0},{"$f":"EmpDetail!C51","v":0},{"$f":"EmpDetail!D51","v":0},{"$f":"EmpDetail!E51","v":"00:00:00"},{"$error":"#NUM!"}]
[null,null,null,null,null,null,null,null,null,null,null,null,null,49,{"$f":"EmpDetail!B52","v":0},{"$f":"EmpDetail!C52","v":0},{"$f":"EmpDetail!D52","v":0},{"$f":"EmpDetail!E52","v":"00:00:00"},{"$error":"#NUM!"}]
[null,null,null,null,null,null,null,null,null,null,null,null,null,50,{"$f":"EmpDetail!B53","v":0},{"$f":"EmpDetail!C53","v":0},{"$f":"EmpDetail!D53","v":0},{"$f":"EmpDetail!E53","v":"00:00:00"},{"$error":"#NUM!"}]
[null,null,null,null,null,null,null,null,null,null,null,null,null,51,{"$f":"EmpDetail!B54","v":0},{"$f":"EmpDetail!C54","v":0},{"$f":"EmpDetail!D54","v":0},{"$f":"EmpDetail!E54","v":"00:00:00"},{"$error":"#NUM!"}]
[null,null,null,null,null,null,null,null,null,null,null,null,null,52,{"$f":"EmpDetail!B55","v":0},{"$f":"EmpDetail!C55","v":0},{"$f":"EmpDetail!D55","v":0},{"$f":"EmpDetail!E55","v":"00:00:00"},{"$error":"#NUM!"}]
[null,null,null,null,null,null,null,null,null,null,null,null,null,53,{"$f":"EmpDetail!B56","v":0},{"$f":"EmpDetail!C56","v":0},{"$f":"EmpDetail!D56","v":0},{"$f":"EmpDetail!E56","v":"00:00:00"},{"$error":"#NUM!"}]
[null,null,null,null,null,null,null,null,null,null,null,null,null,54,{"$f":"EmpDetail!B57","v":0},{"$f":"EmpDetail!C57","v":0},{"$f":"EmpDetail!D57","v":0},{"$f":"EmpDetail!E57","v":"00:00:00"},{"$error":"#NUM!"}]
[null,null,null,null,null,null,null,null,null,null,null,null,null,55,{"$f":"EmpDetail!B58","v":0},{"$f":"EmpDetail!C58","v":0},{"$f":"EmpDetail!D58","v":0},{"$f":"EmpDetail!E58","v":"00:00:00"},{"$error":"#NUM!"}]
[null,null,null,null,null,null,null,null,null,null,null,null,null,56,{"$f":"EmpDetail!B59","v":0},{"$f":"EmpDetail!C59","v":0},{"$f":"EmpDetail!D59","v":0},{"$f":"EmpDetail!E59","v":"00:00:00"},{"$error":"#NUM!"}]
[null,null,null,null,null,null,null,null,null,null,null,null,null,57,{"$f":"EmpDetail!B60","v":0},{"$f":"EmpDetail!C60","v":0},{"$f":"EmpDetail!D60","v":0},{"$f":"EmpDetail!E60","v":"00:00:00"},{"$error":"#NUM!"}]
[null,null,null,null,null,null,null,null,null,null,null,null,null,58,{"$f":"EmpDetail!B61","v":0},{"$f":"EmpDetail!C61","v":0},{"$f":"EmpDetail!D61","v":0},{"$f":"EmpDetail!E61","v":"00:00:00"},{"$error":"#NUM!"}]
[null,null,null,null,null,null,null,null,null,null,null,null,null,59,{"$f":"EmpDetail!B62","v":0},{"$f":"EmpDetail!C62","v":0},{"$f":"EmpDetail!D62","v":0},{"$f":"EmpDetail!E62","v":"00:00:00"},{"$error":"#NUM!"}]
[null,null,null,null,null,null,null,null,null,null,null,null,null,60,{"$f":"EmpDetail!B63","v":0},{"$f":"EmpDetail!C63","v":0},{"$f":"EmpDetail!D63","v":0},{"$f":"EmpDetail!E63","v":"00:00:00"},{"$error":"#NUM!"}]
[null,null,null,null,null,null,null,null,null,null,null,null,null,61,{"$f":"EmpDetail!B64","v":0},{"$f":"EmpDetail!C64","v":0},{"$f":"EmpDetail!D64","v":0},{"$f":"EmpDetail!E64","v":"00:00:00"},{"$error":"#NUM!"}]
[null,null,null,null,null,null,null,null,null,null,null,null,null,62,{"$f":"EmpDetail!B65","v":0},{"$f":"EmpDetail!C65","v":0},{"$f":"EmpDetail!D65","v":0},{"$f":"EmpDetail!E65","v":"00:00:00"},{"$error":"#NUM!"}]
[null,null,null,null,null,null,null,null,null,null,null,null,null,63,{"$f":"EmpDetail!B66","v":0},{"$f":"EmpDetail!C66","v":0},{"$f":"EmpDetail!D66","v":0},{"$f":"EmpDetail!E66","v":"00:00:00"},{"$error":"#NUM!"}]
[null,null,null,null,null,null,null,null,null,null,null,null,null,64,{"$f":"EmpDetail!B67","v":0},{"$f":"EmpDetail!C67","v":0},{"$f":"EmpDetail!D67","v":0},{"$f":"EmpDetail!E67","v":"00:00:00"},{"$error":"#NUM!"}]
[null,null,null,null,null,null,null,null,null,null,null,null,null,65,{"$f":"EmpDetail!B68","v":0},{"$f":"EmpDetail!C68","v":0},{"$f":"EmpDetail!D68","v":0},{"$f":"EmpDetail!E68","v":"00:00:00"},{"$error":"#NUM!"}]
[null,null,null,null,null,null,null,null,null,null,null,null,null,66,{"$f":"EmpDetail!B69","v":0},{"$f":"EmpDetail!C69","v":0},{"$f":"EmpDetail!D69","v":0},{"$f":"EmpDetail!E69","v":"00:00:00"},{"$f":"IF(R70=\"\",\"\",DATE(YEAR(R70-1)+60,(MONTH(R70-1))+1,0))","v":{"$error":"#NUM!"}}]
[null,null,null,null,null,null,null,null,null,null,null,null,null,67,{"$f":"EmpDetail!B70","v":0},{"$f":"EmpDetail!C70","v":0},{"$f":"EmpDetail!D70","v":0},{"$f":"EmpDetail!E70","v":"00:00:00"},{"$error":"#NUM!"}]
[null,null,null,null,null,null,null,null,null,null,null,null,null,68,{"$f":"EmpDetail!B71","v":0},{"$f":"EmpDetail!C71","v":0},{"$f":"EmpDetail!D71","v":0},{"$f":"EmpDetail!E71","v":"00:00:00"},{"$error":"#NUM!"}]
[null,null,null,null,null,null,null,null,null,null,null,null,null,69,{"$f":"EmpDetail!B72","v":0},{"$f":"EmpDetail!C72","v":0},{"$f":"EmpDetail!D72","v":0},{"$f":"EmpDetail!E72","v":"00:00:00"},{"$error":"#NUM!"}]
[null,null,null,null,null,null,null,null,null,null,null,null,null,70,{"$f":"EmpDetail!B73","v":0},{"$f":"EmpDetail!C73","v":0},{"$f":"EmpDetail!D73","v":0},{"$f":"EmpDetail!E73","v":"00:00:00"},{"$error":"#NUM!"}]
[null,null,null,null,null,null,null,null,null,null,null,null,null,71,{"$f":"EmpDetail!B74","v":0},{"$f":"EmpDetail!C74","v":0},{"$f":"EmpDetail!D74","v":0},{"$f":"EmpDetail!E74","v":"00:00:00"},{"$error":"#NUM!"}]
[null,null,null,null,null,null,null,null,null,null,null,null,null,72,{"$f":"EmpDetail!B75","v":0},{"$f":"EmpDetail!C75","v":0},{"$f":"EmpDetail!D75","v":0},{"$f":"EmpDetail!E75","v":"00:00:00"},{"$error":"#NUM!"}]
[null,null,null,null,null,null,null,null,null,null,null,null,null,73,{"$f":"EmpDetail!B76","v":0},{"$f":"EmpDetail!C76","v":0},{"$f":"EmpDetail!D76","v":0},{"$f":"EmpDetail!E76","v":"00:00:00"},{"$error":"#NUM!"}]
[null,null,null,null,null,null,null,null,null,null,null,null,null,74,{"$f":"EmpDetail!B77","v":0},{"$f":"EmpDetail!C77","v":0},{"$f":"EmpDetail!D77","v":0},{"$f":"EmpDetail!E77","v":"00:00:00"},{"$error":"#NUM!"}]
[null,null,null,null,null,null,null,null,null,null,null,null,null,75,{"$f":"EmpDetail!B78","v":0},{"$f":"EmpDetail!C78","v":0},{"$f":"EmpDetail!D78","v":0},{"$f":"EmpDetail!E78","v":"00:00:00"},{"$error":"#NUM!"}]
[null,null,null,null,null,null,null,null,null,null,null,null,null,76,{"$f":"EmpDetail!B79","v":0},{"$f":"EmpDetail!C79","v":0},{"$f":"EmpDetail!D79","v":0},{"$f":"EmpDetail!E79","v":"00:00:00"},{"$error":"#NUM!"}]
[null,null,null,null,null,null,null,null,null,null,null,null,null,77,{"$f":"EmpDetail!B80","v":0},{"$f":"EmpDetail!C80","v":0},{"$f":"EmpDetail!D80","v":0},{"$f":"EmpDetail!E80","v":"00:00:00"},{"$error":"#NUM!"}]
[null,null,null,null,null,null,null,null,null,null,null,null,null,78,{"$f":"EmpDetail!B81","v":0},{"$f":"EmpDetail!C81","v":0},{"$f":"EmpDetail!D81","v":0},{"$f":"EmpDetail!E81","v":"00:00:00"},{"$error":"#NUM!"}]
[null,null,null,null,null,null,null,null,null,null,null,null,null,79,{"$f":"EmpDetail!B82","v":0},{"$f":"EmpDetail!C82","v":0},{"$f":"EmpDetail!D82","v":0},{"$f":"EmpDetail!E82","v":"00:00:00"},{"$error":"#NUM!"}]
[null,null,null,null,null,null,null,null,null,null,null,null,null,80,{"$f":"EmpDetail!B83","v":0},{"$f":"EmpDetail!C83","v":0},{"$f":"EmpDetail!D83","v":0},{"$f":"EmpDetail!E83","v":"00:00:00"},{"$error":"#NUM!"}]
[null,null,null,null,null,null,null,null,null,null,null,null,null,81,{"$f":"EmpDetail!B84","v":0},{"$f":"EmpDetail!C84","v":0},{"$f":"EmpDetail!D84","v":0},{"$f":"EmpDetail!E84","v":"00:00:00"},{"$error":"#NUM!"}]
[null,null,null,null,null,null,null,null,null,null,null,null,null,82,{"$f":"EmpDetail!B85","v":0},{"$f":"EmpDetail!C85","v":0},{"$f":"EmpDetail!D85","v":0},{"$f":"EmpDetail!E85","v":"00:00:00"},{"$error":"#NUM!"}]
[null,null,null,null,null,null,null,null,null,null,null,null,null,83,{"$f":"EmpDetail!B86","v":0},{"$f":"EmpDetail!C86","v":0},{"$f":"EmpDetail!D86","v":0},{"$f":"EmpDetail!E86","v":"00:00:00"},{"$error":"#NUM!"}]
[null,null,null,null,null,null,null,null,null,null,null,null,null,84,{"$f":"EmpDetail!B87","v":0},{"$f":"EmpDetail!C87","v":0},{"$f":"EmpDetail!D87","v":0},{"$f":"EmpDetail!E87","v":"00:00:00"},{"$error":"#NUM!"}]
[null,null,null,null,null,null,null,null,null,null,null,null,null,85,{"$f":"EmpDetail!B88","v":0},{"$f":"EmpDetail!C88","v":0},{"$f":"EmpDetail!D88","v":0},{"$f":"EmpDetail!E88","v":"00:00:00"},{"$error":"#NUM!"}]
[null,null,null,null,null,null,null,null,null,null,null,null,null,86,{"$f":"EmpDetail!B89","v":0},{"$f":"EmpDetail!C89","v":0},{"$f":"EmpDetail!D89","v":0},{"$f":"EmpDetail!E89","v":"00:00:00"},{"$error":"#NUM!"}]
[null,null,null,null,null,null,null,null,null,null,null,null,null,87,{"$f":"EmpDetail!B90","v":0},{"$f":"EmpDetail!C90","v":0},{"$f":"EmpDetail!D90","v":0},{"$f":"EmpDetail!E90","v":"00:00:00"},{"$error":"#NUM!"}]
[null,null,null,null,null,null,null,null,null,null,null,null,null,88,{"$f":"EmpDetail!B91","v":0},{"$f":"EmpDetail!C91","v":0},{"$f":"EmpDetail!D91","v":0},{"$f":"EmpDetail!E91","v":"00:00:00"},{"$error":"#NUM!"}]
[null,null,null,null,null,null,null,null,null,null,null,null,null,89,{"$f":"EmpDetail!B92","v":0},{"$f":"EmpDetail!C92","v":0},{"$f":"EmpDetail!D92","v":0},{"$f":"EmpDetail!E92","v":"00:00:00"},{"$error":"#NUM!"}]
[null,null,null,null,null,null,null,null,null,null,null,null,null,90,{"$f":"EmpDetail!B93","v":0},{"$f":"EmpDetail!C93","v":0},{"$f":"EmpDetail!D93","v":0},{"$f":"EmpDetail!E93","v":"00:00:00"},{"$error":"#NUM!"}]
[null,null,null,null,null,null,null,null,null,null,null,null,null,91,{"$f":"EmpDetail!B94","v":0},{"$f":"EmpDetail!C94","v":0},{"$f":"EmpDetail!D94","v":0},{"$f":"EmpDetail!E94","v":"00:00:00"},{"$error":"#NUM!"}]
[null,null,null,null,null,null,null,null,null,null,null,null,null,92,{"$f":"EmpDetail!B95","v":0},{"$f":"EmpDetail!C95","v":0},{"$f":"EmpDetail!D95","v":0},{"$f":"EmpDetail!E95","v":"00:00:00"},{"$error":"#NUM!"}]
[null,null,null,null,null,null,null,null,null,null,null,null,null,93,{"$f":"EmpDetail!B96","v":0},{"$f":"EmpDetail!C96","v":0},{"$f":"EmpDetail!D96","v":0},{"$f":"EmpDetail!E96","v":"00:00:00"},{"$error":"#NUM!"}]
[null,null,null,null,null,null,null,null,null,null,null,null,null,94,{"$f":"EmpDetail!B97","v":0},{"$f":"EmpDetail!C97","v":0},{"$f":"EmpDetail!D97","v":0},{"$f":"EmpDetail!E97","v":"00:00:00"},{"$error":"#NUM!"}]
[null,null,null,null,null,null,null,null,null,null,null,null,null,95,{"$f":"EmpDetail!B98","v":0},{"$f":"EmpDetail!C98","v":0},{"$f":"EmpDetail!D98","v":0},{"$f":"EmpDetail!E98","v":"00:00:00"},{"$error":"#NUM!"}]
[null,null,null,null,null,null,null,null,null,null,null,null,null,96,{"$f":"EmpDetail!B99","v":0},{"$f":"EmpDetail!C99","v":0},{"$f":"EmpDetail!D99","v":0},{"$f":"EmpDetail!E99","v":"00:00:00"},{"$error":"#NUM!"}]
[null,null,null,null,null,null,null,null,null,null,null,null,null,97,{"$f":"EmpDetail!B100","v":0},{"$f":"EmpDetail!C100","v":0},{"$f":"EmpDetail!D100","v":0},{"$f":"EmpDetail!E100","v":"00:00:00"},{"$error":"#NUM!"}]
[null,null,null,null,null,null,null,null,null,null,null,null,null,98,{"$f":"EmpDetail!B101","v":0},{"$f":"EmpDetail!C101","v":0},{"$f":"EmpDetail!D101","v":0},{"$f":"EmpDetail!E101","v":"00:00:00"},{"$error":"#NUM!"}]
[null,null,null,null,null,null,null,null,null,null,null,null,null,99,{"$f":"EmpDetail!B102","v":0},{"$f":"EmpDetail!C102","v":0},{"$f":"EmpDetail!D102","v":0},{"$f":"EmpDetail!E102","v":"00:00:00"},{"$error":"#NUM!"}]
[null,null,null,null,null,null,null,null,null,null,null,null,null,100,{"$f":"EmpDetail!B103","v":0},{"$f":"EmpDetail!C103","v":0},{"$f":"EmpDetail!D103","v":0},{"$f":"EmpDetail!E103","v":"00:00:00"},{"$error":"#NUM!"}]

{"sheet":"Deprt Enqr","index":36,"n_rows":104,"n_cols":18,"rows_kept":104,"cut":false,"hidden":true,"merged":[[15,6,15,7],[6,2,6,7],[5,1,5,3],[5,4,5,7],[0,0,0,7],[2,0,2,7],[4,9,4,11],[11,0,11,7],[13,6,13,7],[14,6,14,7],[9,0,9,7],[10,0,10,7],[4,0,4,7],[7,0,7,7],[8,0,8,7]]}
[{"$f":"Master!G2&Master!H2","v":"कार्यालय&राजकीय उच्च माध्यमिक विद्यालय ]चौगाई]टोंक"}]
["dzekad&",{"$f":"Master!H3&Master!I3&Master!J3&Master!E3&\"/\"","v":"राउमावि/चौगाई/संस्था/2021-22/"},null,null,null,null,"fnukad&",{"$f":"TODAY()","v":"2021-06-19"}]
["foHkkxh; dk;Zokgh@tkap lEcfU/kr izek.k&iz=",null,null,null,null,null,null,null,null,null,null,null,null,{"$f":"IF(ISNA(VLOOKUP($K6,$M$5:$R$104,2,FALSE)),\"\",VLOOKUP($K6,$M$5:$R$104,2,FALSE))","v":"NksVw yky jsxj"},{"$f":"IF(ISNA(VLOOKUP($K6,$M$5:$R$104,3,FALSE)),\"\",VLOOKUP($K6,$M$5:$R$104,3,FALSE))","v":"अध्यापक ग्रेड III"},{"$f":"IF(ISNA(VLOOKUP($K6,$M$5:$R$104,4,FALSE)),\"\",VLOOKUP($K6,$M$5:$R$104,4,FALSE))","v":"राउमावि चौगाई"},{"$f":"IF(ISNA(VLOOKUP($K6,$M$5:$R$104,6,FALSE)),\"\",VLOOKUP($K6,$M$5:$R$104,6,FALSE))","v":"2027-07-31"}]
[]
[{"$f":"\"izekf.kr fd;k tkrk gS fd Jh@Jhefr \"&N3&\" inuke \"&O3","v":"izekf.kr fd;k tkrk gS fd Jh@Jhefr NksVw yky jsxj inuke अध्यापक ग्रेड III"},null,null,null,null,null,null,null,null,"dkfeZd dk dzekad fy[kas",null,null,1,{"$f":"EmpDetail!B4","v":"fd'ku yky cSjok"},{"$f":"EmpDetail!C4","v":"प्रधानाचार्य"},{"$f":"EmpDetail!D4","v":"राउमावि चौगाई"},{"$f":"EmpDetail!E4","v":"1962-01-10"},{"$f":"IF(Q5=\"\",\"\",DATE(YEAR(Q5-1)+60,(MONTH(Q5-1))+1,0))","v":"2022-01-31"}]
["inLFkkiu",{"$f":"P3","v":"राउमावि चौगाई"},null,null,"dh vf/kokf\"kZdh vk;q iw.kZ gksus ls",null,null,null,null,null,11,null,2,{"$f":"EmpDetail!B5","v":"iwj.k pUn y{kdkj"},{"$f":"EmpDetail!C5","v":"व्याख्याता"},{"$f":"EmpDetail!D5","v":"राउमावि चौगाई"},{"$f":"EmpDetail!E5","v":"1971-07-08"},{"$f":"IF(Q6=\"\",\"\",DATE(YEAR(Q6-1)+60,(MONTH(Q6-1))+1,0))","v":"2031-07-31"}]
["fnukad&",{"$f":"Q3","v":"2027-07-31"},"dks jkT; lsok ls lsokfuo`Rr gks jgs gS@gks pqds gSa] ds&",null,null,null,null,null,null,null,null,null,3,{"$f":"EmpDetail!B6","v":"jktsUnz dqekj tSu"},{"$f":"EmpDetail!C6","v":"व्याख्याता"},{"$f":"EmpDetail!D6","v":"राउमावि चौगाई"},{"$f":"EmpDetail!E6","v":"1968-09-14"},"2028-09-30"]
[null,null,null,null,null,null,null,null,null,null,null,null,4,{"$f":"EmpDetail!B7","v":"fd'ku yky cSjok"},{"$f":"EmpDetail!C7","v":"व्याख्याता"},{"$f":"EmpDetail!D7","v":"राउमावि चौगाई"},{"$f":"EmpDetail!E7","v":"1974-07-07"},"2034-07-31"]
["1- fo:) jktLFkku flfoy lsok ¼oxhZdj.k] fu;a=.k] vihy½ fu;e&1958 ds fu;e 16 ,oa 17 ds         vUrxZr fdlh izdkj dh foHkkxh; dk;Zokgh@tkap izLrkfor@fopkj/khu ugha gS",null,null,null,null,null,null,null,null,null,null,null,5,{"$f":"EmpDetail!B8","v":"lR;ukjk;.k 'kekZ"},{"$f":"EmpDetail!C8","v":"वरिष्ठ अध्यापक"},{"$f":"EmpDetail!D8","v":"राउमावि चौगाई"},{"$f":"EmpDetail!E8","v":"1962-07-01"},"2022-06-30"]
["   rFkk iwoZ esa dkfeZd dks nafMr ugh fd;k x;k gS vkSj uk gh Hkfo\"; esa izLrkfor gSA",null,null,null,null,null,null,null,null,null,null,null,6,{"$f":"EmpDetail!B9","v":"iq\"ik tSu"},{"$f":"EmpDetail!C9","v":"वरिष्ठ अध्यापक"},{"$f":"EmpDetail!D9","v":"राउमावि चौगाई"},{"$f":"EmpDetail!E9","v":"1964-04-10"},"2024-04-30"]
["2- fo:) jktLFkku flfoy lsok ¼oxhZdj.k] fu;a=.k ,oa vihy½ fu;e 1958 ds fu;e&19  ds          vUrZxr dksbZ fo'ks\"k izfØ;k dh dk;Zokgh fopkjk/khu@izLrkfor ugha gSaA ",null,null,null,null,null,null,null,null,null,null,null,7,{"$f":"EmpDetail!B10","v":"vk'kkjke eh.kk"},{"$f":"EmpDetail!C10","v":"वरिष्ठ अध्यापक"},{"$f":"EmpDetail!D10","v":"राउमावि चौगाई"},{"$f":"EmpDetail!E10","v":"1978-06-11"},"2038-06-30"]
["3- fo:) dksbZ U;kf;d dk;Zokgh fdlh ekuuh; U;k;ky; esa fopkjk/khu@yfEcr ugha gSaA",null,null,null,null,null,null,null,null,null,null,null,8,{"$f":"EmpDetail!B11","v":"t;iky flag"},{"$f":"EmpDetail!C11","v":"वरिष्ठ अध्यापक"},{"$f":"EmpDetail!D11","v":"राउमावि चौगाई"},{"$f":"EmpDetail!E11","v":"1972-02-02"},"2032-02-29"]
[null,null,null,null,null,null,null,null,null,null,null,null,9,{"$f":"EmpDetail!B12","v":"jkeizlkn jsxj"},{"$f":"EmpDetail!C12","v":"वरिष्ठ अध्यापक"},{"$f":"EmpDetail!D12","v":"राउमावि चौगाई"},{"$f":"EmpDetail!E12","v":"1978-06-01"},"2038-05-31"]
[null,null,null,null,null,null,{"$f":"Master!B2","v":"प्रधानाचार्य"},null,null,null,null,null,10,{"$f":"EmpDetail!B13","v":"egsUnz dqekj tkV"},{"$f":"EmpDetail!C13","v":"शारीरिक शिक्षक"},{"$f":"EmpDetail!D13","v":"राउमावि चौगाई"},{"$f":"EmpDetail!E13","v":"1976-01-30"},"2036-01-31"]
[null,null,null,null,null,null,{"$f":"Master!B3","v":"राजकीय उच्च माध्यमिक विद्यालय "},null,null,null,null,null,11,{"$f":"EmpDetail!B14","v":"NksVw yky jsxj"},{"$f":"EmpDetail!C14","v":"अध्यापक ग्रेड III"},{"$f":"EmpDetail!D14","v":"राउमावि चौगाई"},{"$f":"EmpDetail!E14","v":"1967-07-10"},"2027-07-31"]
[null,null,null,null,null,null,{"$f":"Master!B4","v":"चौगाई]टोंक"},null,null,null,null,null,12,{"$f":"EmpDetail!B15","v":"dUgS;k yky egkoj"},{"$f":"EmpDetail!C15","v":"अध्यापक ग्रेड III"},{"$f":"EmpDetail!D15","v":"राउमावि चौगाई"},{"$f":"EmpDetail!E15","v":"1962-04-05"},"2022-04-30"]
[null,null,null,null,null,null,null,null,null,null,null,null,13,{"$f":"EmpDetail!B16","v":"prqHkqZt tkV"},{"$f":"EmpDetail!C16","v":"अध्यापक ग्रेड III"},{"$f":"EmpDetail!D16","v":"राउमावि चौगाई"},{"$f":"EmpDetail!E16","v":"1976-04-04"},"2036-04-30"]
[null,null,null,null,null,null,null,null,null,null,null,null,14,{"$f":"EmpDetail!B17","v":"vklsQk [kku"},{"$f":"EmpDetail!C17","v":"अध्यापक ग्रेड III"},{"$f":"EmpDetail!D17","v":"राउमावि चौगाई"},{"$f":"EmpDetail!E17","v":"1971-01-10"},"2031-01-31"]
[null,null,null,null,null,null,null,null,null,null,null,null,15,{"$f":"EmpDetail!B18","v":"lq'khyk cSjok"},{"$f":"EmpDetail!C18","v":"कनिष्ठ सहायक"},{"$f":"EmpDetail!D18","v":"राउमावि चौगाई"},{"$f":"EmpDetail!E18","v":"1995-01-01"},"2054-12-31"]
[null,null,null,null,null,null,null,null,null,null,null,null,16,{"$f":"EmpDetail!B19","v":"txnh'k izlkn rsyh"},{"$f":"EmpDetail!C19","v":"सहायक कर्मचारी"},{"$f":"EmpDetail!D19","v":"राउमावि चौगाई"},{"$f":"EmpDetail!E19","v":"1962-06-04"},"2022-06-30"]
[null,null,null,null,null,null,null,null,null,null,null,null,17,{"$f":"EmpDetail!B20","v":"jfoUnz dqekj tSu"},{"$f":"EmpDetail!C20","v":"अध्यापक ग्रेड III"},{"$f":"EmpDetail!D20","v":"राउप्रावि मोहिनी"},{"$f":"EmpDetail!E20","v":"1967-08-24"},"2027-08-31"]
[null,null,null,null,null,null,null,null,null,null,null,null,18,{"$f":"EmpDetail!B21","v":" ';ke lqUnj ckxkSM"},{"$f":"EmpDetail!C21","v":"अध्यापक ग्रेड III"},{"$f":"EmpDetail!D21","v":"राउप्रावि मोहिनी"},{"$f":"EmpDetail!E21","v":"1983-08-10"},"2043-08-31"]
[null,null,null,null,null,null,null,null,null,null,null,null,19,{"$f":"EmpDetail!B22","v":"d`\".kk 'kekZ"},{"$f":"EmpDetail!C22","v":"प्रबोधक"},{"$f":"EmpDetail!D22","v":"राउप्रावि मोहिनी"},{"$f":"EmpDetail!E22","v":"1972-08-06"},"2032-08-31"]
[null,null,null,null,null,null,null,null,null,null,null,null,20,{"$f":"EmpDetail!B23","v":"/keZsUnz pkS/kjh"},{"$f":"EmpDetail!C23","v":"अध्यापक ग्रेड III"},{"$f":"EmpDetail!D23","v":"राउप्रावि गोरधनपुरा"},{"$f":"EmpDetail!E23","v":"1990-03-05"},"2050-03-31"]
[null,null,null,null,null,null,null,null,null,null,null,null,21,{"$f":"EmpDetail!B24","v":"izgykn ekyh"},{"$f":"EmpDetail!C24","v":"प्रबोधक"},{"$f":"EmpDetail!D24","v":"राउप्रावि गोरधनपुरा"},{"$f":"EmpDetail!E24","v":"1974-08-07"},"2034-08-31"]
[null,null,null,null,null,null,null,null,null,null,null,null,22,{"$f":"EmpDetail!B25","v":"jken;ky xqtZj"},{"$f":"EmpDetail!C25","v":"प्रबोधक"},{"$f":"EmpDetail!D25","v":"राउप्रावि सोंदीफल"},{"$f":"EmpDetail!E25","v":"1977-08-18"},"2037-08-31"]
[null,null,null,null,null,null,null,null,null,null,null,null,23,{"$f":"EmpDetail!B26","v":"vkSeizdk'k tkV"},{"$f":"EmpDetail!C26","v":"अध्यापक ग्रेड III"},{"$f":"EmpDetail!D26","v":"राउप्रावि सोंदीफल"},{"$f":"EmpDetail!E26","v":"1982-10-31"},"2042-10-31"]
[null,null,null,null,null,null,null,null,null,null,null,null,24,{"$f":"EmpDetail!B27","v":"vthr flag"},{"$f":"EmpDetail!C27","v":"अध्यापक ग्रेड III"},{"$f":"EmpDetail!D27","v":"राप्रावि जानकीवल्लभपुरा"},{"$f":"EmpDetail!E27","v":"1987-08-08"},"2047-08-31"]
[null,null,null,null,null,null,null,null,null,null,null,null,25,{"$f":"EmpDetail!B28","v":"eq[rkj eha;k"},{"$f":"EmpDetail!C28","v":"प्रबोधक"},{"$f":"EmpDetail!D28","v":"राप्रावि जानकीवल्लभपुरा"},{"$f":"EmpDetail!E28","v":"1976-07-04"},"2036-07-31"]
[null,null,null,null,null,null,null,null,null,null,null,null,26,{"$f":"EmpDetail!B29","v":"eks0 tehy "},{"$f":"EmpDetail!C29","v":"प्रबोधक"},{"$f":"EmpDetail!D29","v":"राप्रावि रसूलपुरा"},{"$f":"EmpDetail!E29","v":"1968-09-15"},"2028-09-30"]
[null,null,null,null,null,null,null,null,null,null,null,null,27,{"$f":"EmpDetail!B30","v":"lkaojey tkV"},{"$f":"EmpDetail!C30","v":"अध्यापक ग्रेड III"},{"$f":"EmpDetail!D30","v":"राप्रावि रसूलपुरा"},{"$f":"EmpDetail!E30","v":"1992-03-03"},"2052-03-31"]
[null,null,null,null,null,null,null,null,null,null,null,null,28,{"$f":"EmpDetail!B31","v":"pkS/kjh eksuk jkekorkj"},{"$f":"EmpDetail!C31","v":"अध्यापक ग्रेड III"},{"$f":"EmpDetail!D31","v":"राप्रावि मोहिनी ढाणी बाढ"},{"$f":"EmpDetail!E31","v":"1990-01-05"},"2050-01-31"]
[null,null,null,null,null,null,null,null,null,null,null,null,29,{"$f":"EmpDetail!B32","v":"rkjkpUn tk;loky"},{"$f":"EmpDetail!C32","v":"प्रबोधक"},{"$f":"EmpDetail!D32","v":"राप्रावि मोहिनी ढाणी बाढ"},{"$f":"EmpDetail!E32","v":"1976-11-11"},"2036-11-30"]
[null,null,null,null,null,null,null,null,null,null,null,null,30,{"$f":"EmpDetail!B33","v":"jketl ;kno"},{"$f":"EmpDetail!C33","v":"अध्यापक ग्रेड III"},{"$f":"EmpDetail!D33","v":"राप्रावि बैरवा ढाणी सोन्दीफल"},{"$f":"EmpDetail!E33","v":"1970-06-12"},"2030-06-30"]
[null,null,null,null,null,null,null,null,null,null,null,null,31,{"$f":"EmpDetail!B34","v":"dtksMey eh.kk"},{"$f":"EmpDetail!C34","v":"अध्यापक ग्रेड III"},{"$f":"EmpDetail!D34","v":"राप्रावि बैरवा ढाणी सोन्दीफल"},{"$f":"EmpDetail!E34","v":"1990-07-01"},"2050-06-30"]
[null,null,null,null,null,null,null,null,null,null,null,null,32,{"$f":"EmpDetail!B35","v":"/kaut; xkSRre"},{"$f":"EmpDetail!C35","v":"अध्यापक ग्रेड III"},{"$f":"EmpDetail!D35","v":"राउप्रावि गोरधनपुरा"},{"$f":"EmpDetail!E35","v":"1986-08-25"},"2046-08-31"]
[null,null,null,null,null,null,null,null,null,null,null,null,33,{"$f":"EmpDetail!B36","v":"d`\".kk xaxoky"},{"$f":"EmpDetail!C36","v":"अध्यापक ग्रेड III"},{"$f":"EmpDetail!D36","v":"राउप्रावि गोरधनपुरा"},{"$f":"EmpDetail!E36","v":"1995-06-20"},"2055-06-30"]
[null,null,null,null,null,null,null,null,null,null,null,null,34,{"$f":"EmpDetail!B37","v":"n'kjFk dqekj ;kno"},{"$f":"EmpDetail!C37","v":"अध्यापक ग्रेड III"},{"$f":"EmpDetail!D37","v":"राउप्रावि सोंदीफल"},{"$f":"EmpDetail!E37","v":"1991-01-01"},"2050-12-31"]
[null,null,null,null,null,null,null,null,null,null,null,null,35,{"$f":"EmpDetail!B38","v":"d`\".k yky tkV"},{"$f":"EmpDetail!C38","v":"अध्यापक ग्रेड III"},{"$f":"EmpDetail!D38","v":"राउप्रावि सोंदीफल"},{"$f":"EmpDetail!E38","v":"1990-07-18"},"2050-07-31"]
[null,null,null,null,null,null,null,null,null,null,null,null,36,{"$f":"EmpDetail!B39","v":"nhisUnz dqekj iztkir"},{"$f":"EmpDetail!C39","v":"अध्यापक ग्रेड III"},{"$f":"EmpDetail!D39","v":"राउप्रावि सोंदीफल"},{"$f":"EmpDetail!E39","v":"1994-07-12"},"2054-07-31"]
[null,null,null,null,null,null,null,null,null,null,null,null,37,{"$f":"EmpDetail!B40","v":"uohu dqekj"},{"$f":"EmpDetail!C40","v":"अध्यापक ग्रेड III"},{"$f":"EmpDetail!D40","v":"राउप्रावि मोहिनी"},{"$f":"EmpDetail!E40","v":"1995-04-13"},"2055-04-30"]
[null,null,null,null,null,null,null,null,null,null,null,null,38,{"$f":"EmpDetail!B41","v":"ehrs'k dqekj 'kekZ"},{"$f":"EmpDetail!C41","v":"अध्यापक ग्रेड III"},{"$f":"EmpDetail!D41","v":"राउप्रावि मोहिनी"},{"$f":"EmpDetail!E41","v":"1989-08-13"},"2049-08-31"]
[null,null,null,null,null,null,null,null,null,null,null,null,39,{"$f":"EmpDetail!B42","v":"eUtw eh.kk"},{"$f":"EmpDetail!C42","v":"वरिष्ठ अध्यापक"},{"$f":"EmpDetail!D42","v":"राउप्रावि गोरधनपुरा"},{"$f":"EmpDetail!E42","v":"1991-01-06"},"2051-01-31"]
[null,null,null,null,null,null,null,null,null,null,null,null,40,{"$f":"EmpDetail!B43","v":"eatw pkS/kjh"},{"$f":"EmpDetail!C43","v":"वरिष्ठ अध्यापक"},{"$f":"EmpDetail!D43","v":"राउप्रावि सोंदीफल"},{"$f":"EmpDetail!E43","v":"1991-08-04"},"2051-08-31"]
[null,null,null,null,null,null,null,null,null,null,null,null,41,{"$f":"EmpDetail!B44","v":0},{"$f":"EmpDetail!C44","v":0},{"$f":"EmpDetail!D44","v":0},{"$f":"EmpDetail!E44","v":"00:00:00"},{"$error":"#NUM!"}]
[null,null,null,null,null,null,null,null,null,null,null,null,42,{"$f":"EmpDetail!B45","v":0},{"$f":"EmpDetail!C45","v":0},{"$f":"EmpDetail!D45","v":0},{"$f":"EmpDetail!E45","v":"00:00:00"},{"$error":"#NUM!"}]
[null,null,null,null,null,null,null,null,null,null,null,null,43,{"$f":"EmpDetail!B46","v":0},{"$f":"EmpDetail!C46","v":0},{"$f":"EmpDetail!D46","v":0},{"$f":"EmpDetail!E46","v":"00:00:00"},{"$error":"#NUM!"}]
[null,null,null,null,null,null,null,null,null,null,null,null,44,{"$f":"EmpDetail!B47","v":0},{"$f":"EmpDetail!C47","v":0},{"$f":"EmpDetail!D47","v":0},{"$f":"EmpDetail!E47","v":"00:00:00"},{"$error":"#NUM!"}]
[null,null,null,null,null,null,null,null,null,null,null,null,45,{"$f":"EmpDetail!B48","v":0},{"$f":"EmpDetail!C48","v":0},{"$f":"EmpDetail!D48","v":0},{"$f":"EmpDetail!E48","v":"00:00:00"},{"$error":"#NUM!"}]
[null,null,null,null,null,null,null,null,null,null,null,null,46,{"$f":"EmpDetail!B49","v":0},{"$f":"EmpDetail!C49","v":0},{"$f":"EmpDetail!D49","v":0},{"$f":"EmpDetail!E49","v":"00:00:00"},{"$error":"#NUM!"}]
[null,null,null,null,null,null,null,null,null,null,null,null,47,{"$f":"EmpDetail!B50","v":0},{"$f":"EmpDetail!C50","v":0},{"$f":"EmpDetail!D50","v":0},{"$f":"EmpDetail!E50","v":"00:00:00"},{"$error":"#NUM!"}]
[null,null,null,null,null,null,null,null,null,null,null,null,48,{"$f":"EmpDetail!B51","v":0},{"$f":"EmpDetail!C51","v":0},{"$f":"EmpDetail!D51","v":0},{"$f":"EmpDetail!E51","v":"00:00:00"},{"$error":"#NUM!"}]
[null,null,null,null,null,null,null,null,null,null,null,null,49,{"$f":"EmpDetail!B52","v":0},{"$f":"EmpDetail!C52","v":0},{"$f":"EmpDetail!D52","v":0},{"$f":"EmpDetail!E52","v":"00:00:00"},{"$error":"#NUM!"}]
[null,null,null,null,null,null,null,null,null,null,null,null,50,{"$f":"EmpDetail!B53","v":0},{"$f":"EmpDetail!C53","v":0},{"$f":"EmpDetail!D53","v":0},{"$f":"EmpDetail!E53","v":"00:00:00"},{"$error":"#NUM!"}]
[null,null,null,null,null,null,null,null,null,null,null,null,51,{"$f":"EmpDetail!B54","v":0},{"$f":"EmpDetail!C54","v":0},{"$f":"EmpDetail!D54","v":0},{"$f":"EmpDetail!E54","v":"00:00:00"},{"$error":"#NUM!"}]
[null,null,null,null,null,null,null,null,null,null,null,null,52,{"$f":"EmpDetail!B55","v":0},{"$f":"EmpDetail!C55","v":0},{"$f":"EmpDetail!D55","v":0},{"$f":"EmpDetail!E55","v":"00:00:00"},{"$error":"#NUM!"}]
[null,null,null,null,null,null,null,null,null,null,null,null,53,{"$f":"EmpDetail!B56","v":0},{"$f":"EmpDetail!C56","v":0},{"$f":"EmpDetail!D56","v":0},{"$f":"EmpDetail!E56","v":"00:00:00"},{"$error":"#NUM!"}]
[null,null,null,null,null,null,null,null,null,null,null,null,54,{"$f":"EmpDetail!B57","v":0},{"$f":"EmpDetail!C57","v":0},{"$f":"EmpDetail!D57","v":0},{"$f":"EmpDetail!E57","v":"00:00:00"},{"$error":"#NUM!"}]
[null,null,null,null,null,null,null,null,null,null,null,null,55,{"$f":"EmpDetail!B58","v":0},{"$f":"EmpDetail!C58","v":0},{"$f":"EmpDetail!D58","v":0},{"$f":"EmpDetail!E58","v":"00:00:00"},{"$error":"#NUM!"}]
[null,null,null,null,null,null,null,null,null,null,null,null,56,{"$f":"EmpDetail!B59","v":0},{"$f":"EmpDetail!C59","v":0},{"$f":"EmpDetail!D59","v":0},{"$f":"EmpDetail!E59","v":"00:00:00"},{"$error":"#NUM!"}]
[null,null,null,null,null,null,null,null,null,null,null,null,57,{"$f":"EmpDetail!B60","v":0},{"$f":"EmpDetail!C60","v":0},{"$f":"EmpDetail!D60","v":0},{"$f":"EmpDetail!E60","v":"00:00:00"},{"$error":"#NUM!"}]
[null,null,null,null,null,null,null,null,null,null,null,null,58,{"$f":"EmpDetail!B61","v":0},{"$f":"EmpDetail!C61","v":0},{"$f":"EmpDetail!D61","v":0},{"$f":"EmpDetail!E61","v":"00:00:00"},{"$error":"#NUM!"}]
[null,null,null,null,null,null,null,null,null,null,null,null,59,{"$f":"EmpDetail!B62","v":0},{"$f":"EmpDetail!C62","v":0},{"$f":"EmpDetail!D62","v":0},{"$f":"EmpDetail!E62","v":"00:00:00"},{"$error":"#NUM!"}]
[null,null,null,null,null,null,null,null,null,null,null,null,60,{"$f":"EmpDetail!B63","v":0},{"$f":"EmpDetail!C63","v":0},{"$f":"EmpDetail!D63","v":0},{"$f":"EmpDetail!E63","v":"00:00:00"},{"$error":"#NUM!"}]
[null,null,null,null,null,null,null,null,null,null,null,null,61,{"$f":"EmpDetail!B64","v":0},{"$f":"EmpDetail!C64","v":0},{"$f":"EmpDetail!D64","v":0},{"$f":"EmpDetail!E64","v":"00:00:00"},{"$error":"#NUM!"}]
[null,null,null,null,null,null,null,null,null,null,null,null,62,{"$f":"EmpDetail!B65","v":0},{"$f":"EmpDetail!C65","v":0},{"$f":"EmpDetail!D65","v":0},{"$f":"EmpDetail!E65","v":"00:00:00"},{"$error":"#NUM!"}]
[null,null,null,null,null,null,null,null,null,null,null,null,63,{"$f":"EmpDetail!B66","v":0},{"$f":"EmpDetail!C66","v":0},{"$f":"EmpDetail!D66","v":0},{"$f":"EmpDetail!E66","v":"00:00:00"},{"$error":"#NUM!"}]
[null,null,null,null,null,null,null,null,null,null,null,null,64,{"$f":"EmpDetail!B67","v":0},{"$f":"EmpDetail!C67","v":0},{"$f":"EmpDetail!D67","v":0},{"$f":"EmpDetail!E67","v":"00:00:00"},{"$error":"#NUM!"}]
[null,null,null,null,null,null,null,null,null,null,null,null,65,{"$f":"EmpDetail!B68","v":0},{"$f":"EmpDetail!C68","v":0},{"$f":"EmpDetail!D68","v":0},{"$f":"EmpDetail!E68","v":"00:00:00"},{"$error":"#NUM!"}]
[null,null,null,null,null,null,null,null,null,null,null,null,66,{"$f":"EmpDetail!B69","v":0},{"$f":"EmpDetail!C69","v":0},{"$f":"EmpDetail!D69","v":0},{"$f":"EmpDetail!E69","v":"00:00:00"},{"$f":"IF(Q70=\"\",\"\",DATE(YEAR(Q70-1)+60,(MONTH(Q70-1))+1,0))","v":{"$error":"#NUM!"}}]
[null,null,null,null,null,null,null,null,null,null,null,null,67,{"$f":"EmpDetail!B70","v":0},{"$f":"EmpDetail!C70","v":0},{"$f":"EmpDetail!D70","v":0},{"$f":"EmpDetail!E70","v":"00:00:00"},{"$error":"#NUM!"}]
[null,null,null,null,null,null,null,null,null,null,null,null,68,{"$f":"EmpDetail!B71","v":0},{"$f":"EmpDetail!C71","v":0},{"$f":"EmpDetail!D71","v":0},{"$f":"EmpDetail!E71","v":"00:00:00"},{"$error":"#NUM!"}]
[null,null,null,null,null,null,null,null,null,null,null,null,69,{"$f":"EmpDetail!B72","v":0},{"$f":"EmpDetail!C72","v":0},{"$f":"EmpDetail!D72","v":0},{"$f":"EmpDetail!E72","v":"00:00:00"},{"$error":"#NUM!"}]
[null,null,null,null,null,null,null,null,null,null,null,null,70,{"$f":"EmpDetail!B73","v":0},{"$f":"EmpDetail!C73","v":0},{"$f":"EmpDetail!D73","v":0},{"$f":"EmpDetail!E73","v":"00:00:00"},{"$error":"#NUM!"}]
[null,null,null,null,null,null,null,null,null,null,null,null,71,{"$f":"EmpDetail!B74","v":0},{"$f":"EmpDetail!C74","v":0},{"$f":"EmpDetail!D74","v":0},{"$f":"EmpDetail!E74","v":"00:00:00"},{"$error":"#NUM!"}]
[null,null,null,null,null,null,null,null,null,null,null,null,72,{"$f":"EmpDetail!B75","v":0},{"$f":"EmpDetail!C75","v":0},{"$f":"EmpDetail!D75","v":0},{"$f":"EmpDetail!E75","v":"00:00:00"},{"$error":"#NUM!"}]
[null,null,null,null,null,null,null,null,null,null,null,null,73,{"$f":"EmpDetail!B76","v":0},{"$f":"EmpDetail!C76","v":0},{"$f":"EmpDetail!D76","v":0},{"$f":"EmpDetail!E76","v":"00:00:00"},{"$error":"#NUM!"}]
[null,null,null,null,null,null,null,null,null,null,null,null,74,{"$f":"EmpDetail!B77","v":0},{"$f":"EmpDetail!C77","v":0},{"$f":"EmpDetail!D77","v":0},{"$f":"EmpDetail!E77","v":"00:00:00"},{"$error":"#NUM!"}]
[null,null,null,null,null,null,null,null,null,null,null,null,75,{"$f":"EmpDetail!B78","v":0},{"$f":"EmpDetail!C78","v":0},{"$f":"EmpDetail!D78","v":0},{"$f":"EmpDetail!E78","v":"00:00:00"},{"$error":"#NUM!"}]
[null,null,null,null,null,null,null,null,null,null,null,null,76,{"$f":"EmpDetail!B79","v":0},{"$f":"EmpDetail!C79","v":0},{"$f":"EmpDetail!D79","v":0},{"$f":"EmpDetail!E79","v":"00:00:00"},{"$error":"#NUM!"}]
[null,null,null,null,null,null,null,null,null,null,null,null,77,{"$f":"EmpDetail!B80","v":0},{"$f":"EmpDetail!C80","v":0},{"$f":"EmpDetail!D80","v":0},{"$f":"EmpDetail!E80","v":"00:00:00"},{"$error":"#NUM!"}]
[null,null,null,null,null,null,null,null,null,null,null,null,78,{"$f":"EmpDetail!B81","v":0},{"$f":"EmpDetail!C81","v":0},{"$f":"EmpDetail!D81","v":0},{"$f":"EmpDetail!E81","v":"00:00:00"},{"$error":"#NUM!"}]
[null,null,null,null,null,null,null,null,null,null,null,null,79,{"$f":"EmpDetail!B82","v":0},{"$f":"EmpDetail!C82","v":0},{"$f":"EmpDetail!D82","v":0},{"$f":"EmpDetail!E82","v":"00:00:00"},{"$error":"#NUM!"}]
[null,null,null,null,null,null,null,null,null,null,null,null,80,{"$f":"EmpDetail!B83","v":0},{"$f":"EmpDetail!C83","v":0},{"$f":"EmpDetail!D83","v":0},{"$f":"EmpDetail!E83","v":"00:00:00"},{"$error":"#NUM!"}]
[null,null,null,null,null,null,null,null,null,null,null,null,81,{"$f":"EmpDetail!B84","v":0},{"$f":"EmpDetail!C84","v":0},{"$f":"EmpDetail!D84","v":0},{"$f":"EmpDetail!E84","v":"00:00:00"},{"$error":"#NUM!"}]
[null,null,null,null,null,null,null,null,null,null,null,null,82,{"$f":"EmpDetail!B85","v":0},{"$f":"EmpDetail!C85","v":0},{"$f":"EmpDetail!D85","v":0},{"$f":"EmpDetail!E85","v":"00:00:00"},{"$error":"#NUM!"}]
[null,null,null,null,null,null,null,null,null,null,null,null,83,{"$f":"EmpDetail!B86","v":0},{"$f":"EmpDetail!C86","v":0},{"$f":"EmpDetail!D86","v":0},{"$f":"EmpDetail!E86","v":"00:00:00"},{"$error":"#NUM!"}]
[null,null,null,null,null,null,null,null,null,null,null,null,84,{"$f":"EmpDetail!B87","v":0},{"$f":"EmpDetail!C87","v":0},{"$f":"EmpDetail!D87","v":0},{"$f":"EmpDetail!E87","v":"00:00:00"},{"$error":"#NUM!"}]
[null,null,null,null,null,null,null,null,null,null,null,null,85,{"$f":"EmpDetail!B88","v":0},{"$f":"EmpDetail!C88","v":0},{"$f":"EmpDetail!D88","v":0},{"$f":"EmpDetail!E88","v":"00:00:00"},{"$error":"#NUM!"}]
[null,null,null,null,null,null,null,null,null,null,null,null,86,{"$f":"EmpDetail!B89","v":0},{"$f":"EmpDetail!C89","v":0},{"$f":"EmpDetail!D89","v":0},{"$f":"EmpDetail!E89","v":"00:00:00"},{"$error":"#NUM!"}]
[null,null,null,null,null,null,null,null,null,null,null,null,87,{"$f":"EmpDetail!B90","v":0},{"$f":"EmpDetail!C90","v":0},{"$f":"EmpDetail!D90","v":0},{"$f":"EmpDetail!E90","v":"00:00:00"},{"$error":"#NUM!"}]
[null,null,null,null,null,null,null,null,null,null,null,null,88,{"$f":"EmpDetail!B91","v":0},{"$f":"EmpDetail!C91","v":0},{"$f":"EmpDetail!D91","v":0},{"$f":"EmpDetail!E91","v":"00:00:00"},{"$error":"#NUM!"}]
[null,null,null,null,null,null,null,null,null,null,null,null,89,{"$f":"EmpDetail!B92","v":0},{"$f":"EmpDetail!C92","v":0},{"$f":"EmpDetail!D92","v":0},{"$f":"EmpDetail!E92","v":"00:00:00"},{"$error":"#NUM!"}]
[null,null,null,null,null,null,null,null,null,null,null,null,90,{"$f":"EmpDetail!B93","v":0},{"$f":"EmpDetail!C93","v":0},{"$f":"EmpDetail!D93","v":0},{"$f":"EmpDetail!E93","v":"00:00:00"},{"$error":"#NUM!"}]
[null,null,null,null,null,null,null,null,null,null,null,null,91,{"$f":"EmpDetail!B94","v":0},{"$f":"EmpDetail!C94","v":0},{"$f":"EmpDetail!D94","v":0},{"$f":"EmpDetail!E94","v":"00:00:00"},{"$error":"#NUM!"}]
[null,null,null,null,null,null,null,null,null,null,null,null,92,{"$f":"EmpDetail!B95","v":0},{"$f":"EmpDetail!C95","v":0},{"$f":"EmpDetail!D95","v":0},{"$f":"EmpDetail!E95","v":"00:00:00"},{"$error":"#NUM!"}]
[null,null,null,null,null,null,null,null,null,null,null,null,93,{"$f":"EmpDetail!B96","v":0},{"$f":"EmpDetail!C96","v":0},{"$f":"EmpDetail!D96","v":0},{"$f":"EmpDetail!E96","v":"00:00:00"},{"$error":"#NUM!"}]
[null,null,null,null,null,null,null,null,null,null,null,null,94,{"$f":"EmpDetail!B97","v":0},{"$f":"EmpDetail!C97","v":0},{"$f":"EmpDetail!D97","v":0},{"$f":"EmpDetail!E97","v":"00:00:00"},{"$error":"#NUM!"}]
[null,null,null,null,null,null,null,null,null,null,null,null,95,{"$f":"EmpDetail!B98","v":0},{"$f":"EmpDetail!C98","v":0},{"$f":"EmpDetail!D98","v":0},{"$f":"EmpDetail!E98","v":"00:00:00"},{"$error":"#NUM!"}]
[null,null,null,null,null,null,null,null,null,null,null,null,96,{"$f":"EmpDetail!B99","v":0},{"$f":"EmpDetail!C99","v":0},{"$f":"EmpDetail!D99","v":0},{"$f":"EmpDetail!E99","v":"00:00:00"},{"$error":"#NUM!"}]
[null,null,null,null,null,null,null,null,null,null,null,null,97,{"$f":"EmpDetail!B100","v":0},{"$f":"EmpDetail!C100","v":0},{"$f":"EmpDetail!D100","v":0},{"$f":"EmpDetail!E100","v":"00:00:00"},{"$error":"#NUM!"}]
[null,null,null,null,null,null,null,null,null,null,null,null,98,{"$f":"EmpDetail!B101","v":0},{"$f":"EmpDetail!C101","v":0},{"$f":"EmpDetail!D101","v":0},{"$f":"EmpDetail!E101","v":"00:00:00"},{"$error":"#NUM!"}]
[null,null,null,null,null,null,null,null,null,null,null,null,99,{"$f":"EmpDetail!B102","v":0},{"$f":"EmpDetail!C102","v":0},{"$f":"EmpDetail!D102","v":0},{"$f":"EmpDetail!E102","v":"00:00:00"},{"$error":"#NUM!"}]
[null,null,null,null,null,null,null,null,null,null,null,null,100,{"$f":"EmpDetail!B103","v":0},{"$f":"EmpDetail!C103","v":0},{"$f":"EmpDetail!D103","v":0},{"$f":"EmpDetail!E103","v":"00:00:00"},{"$error":"#NUM!"}]

{"sheet":"CPF Cert","index":37,"n_rows":104,"n_cols":18,"rows_kept":104,"cut":false,"hidden":true,"merged":[[2,0,2,5],[4,0,4,5],[7,0,7,5],[0,0,0,5],[11,3,11,5],[10,3,10,5],[4,9,4,11],[5,1,5,2],[5,3,5,5],[6,2,6,5],[9,3,9,5]]}
[{"$f":"Master!G2&Master!H2","v":"कार्यालय&राजकीय उच्च माध्यमिक विद्यालय ]चौगाई]टोंक"}]
["dzekad&",{"$f":"Master!H3&Master!I3&Master!J3&Master!E3&\"/\"","v":"राउमावि/चौगाई/संस्था/2021-22/"},null,null,"fnukad&",{"$f":"TODAY()","v":"2021-06-19"}]
["lh- ih- ,Q- dk lnL; ugha gksus dk izek.k&i="]
[null,null,null,null,null,null,null,null,null,null,null,null,null,{"$f":"IF(ISNA(VLOOKUP($K6,$M$5:$R$104,2,FALSE)),\"\",VLOOKUP($K6,$M$5:$R$104,2,FALSE))","v":"NksVw yky jsxj"},{"$f":"IF(ISNA(VLOOKUP($K6,$M$5:$R$104,3,FALSE)),\"\",VLOOKUP($K6,$M$5:$R$104,3,FALSE))","v":"अध्यापक ग्रेड III"},{"$f":"IF(ISNA(VLOOKUP($K6,$M$5:$R$104,4,FALSE)),\"\",VLOOKUP($K6,$M$5:$R$104,4,FALSE))","v":"राउमावि चौगाई"},{"$f":"IF(ISNA(VLOOKUP($K6,$M$5:$R$104,6,FALSE)),\"\",VLOOKUP($K6,$M$5:$R$104,6,FALSE))","v":"2027-07-31"}]
[{"$f":"\"izekf.kr fd;k tkrk gS fd Jh@Jhefr \"&N4&\" inuke \"&O4","v":"izekf.kr fd;k tkrk gS fd Jh@Jhefr NksVw yky jsxj inuke अध्यापक ग्रेड III"},null,null,null,null,null,null,null,null,"dkfeZd dk dzekad fy[ks",null,null,1,{"$f":"EmpDetail!B4","v":"fd'ku yky cSjok"},{"$f":"EmpDetail!C4","v":"प्रधानाचार्य"},{"$f":"EmpDetail!D4","v":"राउमावि चौगाई"},{"$f":"EmpDetail!E4","v":"1962-01-10"},{"$f":"IF(Q5=\"\",\"\",DATE(YEAR(Q5-1)+60,(MONTH(Q5-1))+1,0))","v":"2022-01-31"}]
["dk;kZy;&",{"$f":"P4","v":"राउमावि चौगाई"},null,"dh vf/kokf\"kZdh vk;q iw.kZ gksus ls",null,null,null,null,null,null,11,null,2,{"$f":"EmpDetail!B5","v":"iwj.k pUn y{kdkj"},{"$f":"EmpDetail!C5","v":"व्याख्याता"},{"$f":"EmpDetail!D5","v":"राउमावि चौगाई"},{"$f":"EmpDetail!E5","v":"1971-07-08"},{"$f":"IF(Q6=\"\",\"\",DATE(YEAR(Q6-1)+60,(MONTH(Q6-1))+1,0))","v":"2031-07-31"}]
["fnukad&",{"$f":"Q4","v":"2027-07-31"},"dks jkT; lsok ls lsokfuo`Rr gks jgs gSA Jh@Jhefr",null,null,null,null,null,null,null,null,null,3,{"$f":"EmpDetail!B6","v":"jktsUnz dqekj tSu"},{"$f":"EmpDetail!C6","v":"व्याख्याता"},{"$f":"EmpDetail!D6","v":"राउमावि चौगाई"},{"$f":"EmpDetail!E6","v":"1968-09-14"},"2028-09-30"]
[{"$f":"N4&\"  vius lsokdky esa va'knk;h isa'ku ;kstuk ds lnL; ugha jgs gSA\"","v":"NksVw yky jsxj  vius lsokdky esa va'knk;h isa'ku ;kstuk ds lnL; ugha jgs gSA"},null,null,null,null,null,null,null,null,null,null,null,4,{"$f":"EmpDetail!B7","v":"fd'ku yky cSjok"},{"$f":"EmpDetail!C7","v":"व्याख्याता"},{"$f":"EmpDetail!D7","v":"राउमावि चौगाई"},{"$f":"EmpDetail!E7","v":"1974-07-07"},"2034-07-31"]
[null,null,null,null,null,null,null,null,null,null,null,null,5,{"$f":"EmpDetail!B8","v":"lR;ukjk;.k 'kekZ"},{"$f":"EmpDetail!C8","v":"वरिष्ठ अध्यापक"},{"$f":"EmpDetail!D8","v":"राउमावि चौगाई"},{"$f":"EmpDetail!E8","v":"1962-07-01"},"2022-06-30"]
[null,null,null,{"$f":"Master!B2","v":"प्रधानाचार्य"},null,null,null,null,null,null,null,null,6,{"$f":"EmpDetail!B9","v":"iq\"ik tSu"},{"$f":"EmpDetail!C9","v":"वरिष्ठ अध्यापक"},{"$f":"EmpDetail!D9","v":"राउमावि चौगाई"},{"$f":"EmpDetail!E9","v":"1964-04-10"},"2024-04-30"]
[null,null,null,{"$f":"Master!B3","v":"राजकीय उच्च माध्यमिक विद्यालय "},null,null,null,null,null,null,null,null,7,{"$f":"EmpDetail!B10","v":"vk'kkjke eh.kk"},{"$f":"EmpDetail!C10","v":"वरिष्ठ अध्यापक"},{"$f":"EmpDetail!D10","v":"राउमावि चौगाई"},{"$f":"EmpDetail!E10","v":"1978-06-11"},"2038-06-30"]
[null,null,null,{"$f":"Master!B4","v":"चौगाई]टोंक"},null,null,null,null,null,null,null,null,8,{"$f":"EmpDetail!B11","v":"t;iky flag"},{"$f":"EmpDetail!C11","v":"वरिष्ठ अध्यापक"},{"$f":"EmpDetail!D11","v":"राउमावि चौगाई"},{"$f":"EmpDetail!E11","v":"1972-02-02"},"2032-02-29"]
[null,null,null,null,null,null,null,null,null,null,null,null,9,{"$f":"EmpDetail!B12","v":"jkeizlkn jsxj"},{"$f":"EmpDetail!C12","v":"वरिष्ठ अध्यापक"},{"$f":"EmpDetail!D12","v":"राउमावि चौगाई"},{"$f":"EmpDetail!E12","v":"1978-06-01"},"2038-05-31"]
[null,null,null,null,null,null,null,null,null,null,null,null,10,{"$f":"EmpDetail!B13","v":"egsUnz dqekj tkV"},{"$f":"EmpDetail!C13","v":"शारीरिक शिक्षक"},{"$f":"EmpDetail!D13","v":"राउमावि चौगाई"},{"$f":"EmpDetail!E13","v":"1976-01-30"},"2036-01-31"]
[null,null,null,null,null,null,null,null,null,null,null,null,11,{"$f":"EmpDetail!B14","v":"NksVw yky jsxj"},{"$f":"EmpDetail!C14","v":"अध्यापक ग्रेड III"},{"$f":"EmpDetail!D14","v":"राउमावि चौगाई"},{"$f":"EmpDetail!E14","v":"1967-07-10"},"2027-07-31"]
[null,null,null,null,null,null,null,null,null,null,null,null,12,{"$f":"EmpDetail!B15","v":"dUgS;k yky egkoj"},{"$f":"EmpDetail!C15","v":"अध्यापक ग्रेड III"},{"$f":"EmpDetail!D15","v":"राउमावि चौगाई"},{"$f":"EmpDetail!E15","v":"1962-04-05"},"2022-04-30"]
[null,null,null,null,null,null,null,null,null,null,null,null,13,{"$f":"EmpDetail!B16","v":"prqHkqZt tkV"},{"$f":"EmpDetail!C16","v":"अध्यापक ग्रेड III"},{"$f":"EmpDetail!D16","v":"राउमावि चौगाई"},{"$f":"EmpDetail!E16","v":"1976-04-04"},"2036-04-30"]
[null,null,null,null,null,null,null,null,null,null,null,null,14,{"$f":"EmpDetail!B17","v":"vklsQk [kku"},{"$f":"EmpDetail!C17","v":"अध्यापक ग्रेड III"},{"$f":"EmpDetail!D17","v":"राउमावि चौगाई"},{"$f":"EmpDetail!E17","v":"1971-01-10"},"2031-01-31"]
[null,null,null,null,null,null,null,null,null,null,null,null,15,{"$f":"EmpDetail!B18","v":"lq'khyk cSjok"},{"$f":"EmpDetail!C18","v":"कनिष्ठ सहायक"},{"$f":"EmpDetail!D18","v":"राउमावि चौगाई"},{"$f":"EmpDetail!E18","v":"1995-01-01"},"2054-12-31"]
[null,null,null,null,null,null,null,null,null,null,null,null,16,{"$f":"EmpDetail!B19","v":"txnh'k izlkn rsyh"},{"$f":"EmpDetail!C19","v":"सहायक कर्मचारी"},{"$f":"EmpDetail!D19","v":"राउमावि चौगाई"},{"$f":"EmpDetail!E19","v":"1962-06-04"},"2022-06-30"]
[null,null,null,null,null,null,null,null,null,null,null,null,17,{"$f":"EmpDetail!B20","v":"jfoUnz dqekj tSu"},{"$f":"EmpDetail!C20","v":"अध्यापक ग्रेड III"},{"$f":"EmpDetail!D20","v":"राउप्रावि मोहिनी"},{"$f":"EmpDetail!E20","v":"1967-08-24"},"2027-08-31"]
[null,null,null,null,null,null,null,null,null,null,null,null,18,{"$f":"EmpDetail!B21","v":" ';ke lqUnj ckxkSM"},{"$f":"EmpDetail!C21","v":"अध्यापक ग्रेड III"},{"$f":"EmpDetail!D21","v":"राउप्रावि मोहिनी"},{"$f":"EmpDetail!E21","v":"1983-08-10"},"2043-08-31"]
[null,null,null,null,null,null,null,null,null,null,null,null,19,{"$f":"EmpDetail!B22","v":"d`\".kk 'kekZ"},{"$f":"EmpDetail!C22","v":"प्रबोधक"},{"$f":"EmpDetail!D22","v":"राउप्रावि मोहिनी"},{"$f":"EmpDetail!E22","v":"1972-08-06"},"2032-08-31"]
[null,null,null,null,null,null,null,null,null,null,null,null,20,{"$f":"EmpDetail!B23","v":"/keZsUnz pkS/kjh"},{"$f":"EmpDetail!C23","v":"अध्यापक ग्रेड III"},{"$f":"EmpDetail!D23","v":"राउप्रावि गोरधनपुरा"},{"$f":"EmpDetail!E23","v":"1990-03-05"},"2050-03-31"]
[null,null,null,null,null,null,null,null,null,null,null,null,21,{"$f":"EmpDetail!B24","v":"izgykn ekyh"},{"$f":"EmpDetail!C24","v":"प्रबोधक"},{"$f":"EmpDetail!D24","v":"राउप्रावि गोरधनपुरा"},{"$f":"EmpDetail!E24","v":"1974-08-07"},"2034-08-31"]
[null,null,null,null,null,null,null,null,null,null,null,null,22,{"$f":"EmpDetail!B25","v":"jken;ky xqtZj"},{"$f":"EmpDetail!C25","v":"प्रबोधक"},{"$f":"EmpDetail!D25","v":"राउप्रावि सोंदीफल"},{"$f":"EmpDetail!E25","v":"1977-08-18"},"2037-08-31"]
[null,null,null,null,null,null,null,null,null,null,null,null,23,{"$f":"EmpDetail!B26","v":"vkSeizdk'k tkV"},{"$f":"EmpDetail!C26","v":"अध्यापक ग्रेड III"},{"$f":"EmpDetail!D26","v":"राउप्रावि सोंदीफल"},{"$f":"EmpDetail!E26","v":"1982-10-31"},"2042-10-31"]
[null,null,null,null,null,null,null,null,null,null,null,null,24,{"$f":"EmpDetail!B27","v":"vthr flag"},{"$f":"EmpDetail!C27","v":"अध्यापक ग्रेड III"},{"$f":"EmpDetail!D27","v":"राप्रावि जानकीवल्लभपुरा"},{"$f":"EmpDetail!E27","v":"1987-08-08"},"2047-08-31"]
[null,null,null,null,null,null,null,null,null,null,null,null,25,{"$f":"EmpDetail!B28","v":"eq[rkj eha;k"},{"$f":"EmpDetail!C28","v":"प्रबोधक"},{"$f":"EmpDetail!D28","v":"राप्रावि जानकीवल्लभपुरा"},{"$f":"EmpDetail!E28","v":"1976-07-04"},"2036-07-31"]
[null,null,null,null,null,null,null,null,null,null,null,null,26,{"$f":"EmpDetail!B29","v":"eks0 tehy "},{"$f":"EmpDetail!C29","v":"प्रबोधक"},{"$f":"EmpDetail!D29","v":"राप्रावि रसूलपुरा"},{"$f":"EmpDetail!E29","v":"1968-09-15"},"2028-09-30"]
[null,null,null,null,null,null,null,null,null,null,null,null,27,{"$f":"EmpDetail!B30","v":"lkaojey tkV"},{"$f":"EmpDetail!C30","v":"अध्यापक ग्रेड III"},{"$f":"EmpDetail!D30","v":"राप्रावि रसूलपुरा"},{"$f":"EmpDetail!E30","v":"1992-03-03"},"2052-03-31"]
[null,null,null,null,null,null,null,null,null,null,null,null,28,{"$f":"EmpDetail!B31","v":"pkS/kjh eksuk jkekorkj"},{"$f":"EmpDetail!C31","v":"अध्यापक ग्रेड III"},{"$f":"EmpDetail!D31","v":"राप्रावि मोहिनी ढाणी बाढ"},{"$f":"EmpDetail!E31","v":"1990-01-05"},"2050-01-31"]
[null,null,null,null,null,null,null,null,null,null,null,null,29,{"$f":"EmpDetail!B32","v":"rkjkpUn tk;loky"},{"$f":"EmpDetail!C32","v":"प्रबोधक"},{"$f":"EmpDetail!D32","v":"राप्रावि मोहिनी ढाणी बाढ"},{"$f":"EmpDetail!E32","v":"1976-11-11"},"2036-11-30"]
[null,null,null,null,null,null,null,null,null,null,null,null,30,{"$f":"EmpDetail!B33","v":"jketl ;kno"},{"$f":"EmpDetail!C33","v":"अध्यापक ग्रेड III"},{"$f":"EmpDetail!D33","v":"राप्रावि बैरवा ढाणी सोन्दीफल"},{"$f":"EmpDetail!E33","v":"1970-06-12"},"2030-06-30"]
[null,null,null,null,null,null,null,null,null,null,null,null,31,{"$f":"EmpDetail!B34","v":"dtksMey eh.kk"},{"$f":"EmpDetail!C34","v":"अध्यापक ग्रेड III"},{"$f":"EmpDetail!D34","v":"राप्रावि बैरवा ढाणी सोन्दीफल"},{"$f":"EmpDetail!E34","v":"1990-07-01"},"2050-06-30"]
[null,null,null,null,null,null,null,null,null,null,null,null,32,{"$f":"EmpDetail!B35","v":"/kaut; xkSRre"},{"$f":"EmpDetail!C35","v":"अध्यापक ग्रेड III"},{"$f":"EmpDetail!D35","v":"राउप्रावि गोरधनपुरा"},{"$f":"EmpDetail!E35","v":"1986-08-25"},"2046-08-31"]
[null,null,null,null,null,null,null,null,null,null,null,null,33,{"$f":"EmpDetail!B36","v":"d`\".kk xaxoky"},{"$f":"EmpDetail!C36","v":"अध्यापक ग्रेड III"},{"$f":"EmpDetail!D36","v":"राउप्रावि गोरधनपुरा"},{"$f":"EmpDetail!E36","v":"1995-06-20"},"2055-06-30"]
[null,null,null,null,null,null,null,null,null,null,null,null,34,{"$f":"EmpDetail!B37","v":"n'kjFk dqekj ;kno"},{"$f":"EmpDetail!C37","v":"अध्यापक ग्रेड III"},{"$f":"EmpDetail!D37","v":"राउप्रावि सोंदीफल"},{"$f":"EmpDetail!E37","v":"1991-01-01"},"2050-12-31"]
[null,null,null,null,null,null,null,null,null,null,null,null,35,{"$f":"EmpDetail!B38","v":"d`\".k yky tkV"},{"$f":"EmpDetail!C38","v":"अध्यापक ग्रेड III"},{"$f":"EmpDetail!D38","v":"राउप्रावि सोंदीफल"},{"$f":"EmpDetail!E38","v":"1990-07-18"},"2050-07-31"]
[null,null,null,null,null,null,null,null,null,null,null,null,36,{"$f":"EmpDetail!B39","v":"nhisUnz dqekj iztkir"},{"$f":"EmpDetail!C39","v":"अध्यापक ग्रेड III"},{"$f":"EmpDetail!D39","v":"राउप्रावि सोंदीफल"},{"$f":"EmpDetail!E39","v":"1994-07-12"},"2054-07-31"]
[null,null,null,null,null,null,null,null,null,null,null,null,37,{"$f":"EmpDetail!B40","v":"uohu dqekj"},{"$f":"EmpDetail!C40","v":"अध्यापक ग्रेड III"},{"$f":"EmpDetail!D40","v":"राउप्रावि मोहिनी"},{"$f":"EmpDetail!E40","v":"1995-04-13"},"2055-04-30"]
[null,null,null,null,null,null,null,null,null,null,null,null,38,{"$f":"EmpDetail!B41","v":"ehrs'k dqekj 'kekZ"},{"$f":"EmpDetail!C41","v":"अध्यापक ग्रेड III"},{"$f":"EmpDetail!D41","v":"राउप्रावि मोहिनी"},{"$f":"EmpDetail!E41","v":"1989-08-13"},"2049-08-31"]
[null,null,null,null,null,null,null,null,null,null,null,null,39,{"$f":"EmpDetail!B42","v":"eUtw eh.kk"},{"$f":"EmpDetail!C42","v":"वरिष्ठ अध्यापक"},{"$f":"EmpDetail!D42","v":"राउप्रावि गोरधनपुरा"},{"$f":"EmpDetail!E42","v":"1991-01-06"},"2051-01-31"]
[null,null,null,null,null,null,null,null,null,null,null,null,40,{"$f":"EmpDetail!B43","v":"eatw pkS/kjh"},{"$f":"EmpDetail!C43","v":"वरिष्ठ अध्यापक"},{"$f":"EmpDetail!D43","v":"राउप्रावि सोंदीफल"},{"$f":"EmpDetail!E43","v":"1991-08-04"},"2051-08-31"]
[null,null,null,null,null,null,null,null,null,null,null,null,41,{"$f":"EmpDetail!B44","v":0},{"$f":"EmpDetail!C44","v":0},{"$f":"EmpDetail!D44","v":0},{"$f":"EmpDetail!E44","v":"00:00:00"},{"$error":"#NUM!"}]
[null,null,null,null,null,null,null,null,null,null,null,null,42,{"$f":"EmpDetail!B45","v":0},{"$f":"EmpDetail!C45","v":0},{"$f":"EmpDetail!D45","v":0},{"$f":"EmpDetail!E45","v":"00:00:00"},{"$error":"#NUM!"}]
[null,null,null,null,null,null,null,null,null,null,null,null,43,{"$f":"EmpDetail!B46","v":0},{"$f":"EmpDetail!C46","v":0},{"$f":"EmpDetail!D46","v":0},{"$f":"EmpDetail!E46","v":"00:00:00"},{"$error":"#NUM!"}]
[null,null,null,null,null,null,null,null,null,null,null,null,44,{"$f":"EmpDetail!B47","v":0},{"$f":"EmpDetail!C47","v":0},{"$f":"EmpDetail!D47","v":0},{"$f":"EmpDetail!E47","v":"00:00:00"},{"$error":"#NUM!"}]
[null,null,null,null,null,null,null,null,null,null,null,null,45,{"$f":"EmpDetail!B48","v":0},{"$f":"EmpDetail!C48","v":0},{"$f":"EmpDetail!D48","v":0},{"$f":"EmpDetail!E48","v":"00:00:00"},{"$error":"#NUM!"}]
[null,null,null,null,null,null,null,null,null,null,null,null,46,{"$f":"EmpDetail!B49","v":0},{"$f":"EmpDetail!C49","v":0},{"$f":"EmpDetail!D49","v":0},{"$f":"EmpDetail!E49","v":"00:00:00"},{"$error":"#NUM!"}]
[null,null,null,null,null,null,null,null,null,null,null,null,47,{"$f":"EmpDetail!B50","v":0},{"$f":"EmpDetail!C50","v":0},{"$f":"EmpDetail!D50","v":0},{"$f":"EmpDetail!E50","v":"00:00:00"},{"$error":"#NUM!"}]
[null,null,null,null,null,null,null,null,null,null,null,null,48,{"$f":"EmpDetail!B51","v":0},{"$f":"EmpDetail!C51","v":0},{"$f":"EmpDetail!D51","v":0},{"$f":"EmpDetail!E51","v":"00:00:00"},{"$error":"#NUM!"}]
[null,null,null,null,null,null,null,null,null,null,null,null,49,{"$f":"EmpDetail!B52","v":0},{"$f":"EmpDetail!C52","v":0},{"$f":"EmpDetail!D52","v":0},{"$f":"EmpDetail!E52","v":"00:00:00"},{"$error":"#NUM!"}]
[null,null,null,null,null,null,null,null,null,null,null,null,50,{"$f":"EmpDetail!B53","v":0},{"$f":"EmpDetail!C53","v":0},{"$f":"EmpDetail!D53","v":0},{"$f":"EmpDetail!E53","v":"00:00:00"},{"$error":"#NUM!"}]
[null,null,null,null,null,null,null,null,null,null,null,null,51,{"$f":"EmpDetail!B54","v":0},{"$f":"EmpDetail!C54","v":0},{"$f":"EmpDetail!D54","v":0},{"$f":"EmpDetail!E54","v":"00:00:00"},{"$error":"#NUM!"}]
[null,null,null,null,null,null,null,null,null,null,null,null,52,{"$f":"EmpDetail!B55","v":0},{"$f":"EmpDetail!C55","v":0},{"$f":"EmpDetail!D55","v":0},{"$f":"EmpDetail!E55","v":"00:00:00"},{"$error":"#NUM!"}]
[null,null,null,null,null,null,null,null,null,null,null,null,53,{"$f":"EmpDetail!B56","v":0},{"$f":"EmpDetail!C56","v":0},{"$f":"EmpDetail!D56","v":0},{"$f":"EmpDetail!E56","v":"00:00:00"},{"$error":"#NUM!"}]
[null,null,null,null,null,null,null,null,null,null,null,null,54,{"$f":"EmpDetail!B57","v":0},{"$f":"EmpDetail!C57","v":0},{"$f":"EmpDetail!D57","v":0},{"$f":"EmpDetail!E57","v":"00:00:00"},{"$error":"#NUM!"}]
[null,null,null,null,null,null,null,null,null,null,null,null,55,{"$f":"EmpDetail!B58","v":0},{"$f":"EmpDetail!C58","v":0},{"$f":"EmpDetail!D58","v":0},{"$f":"EmpDetail!E58","v":"00:00:00"},{"$error":"#NUM!"}]
[null,null,null,null,null,null,null,null,null,null,null,null,56,{"$f":"EmpDetail!B59","v":0},{"$f":"EmpDetail!C59","v":0},{"$f":"EmpDetail!D59","v":0},{"$f":"EmpDetail!E59","v":"00:00:00"},{"$error":"#NUM!"}]
[null,null,null,null,null,null,null,null,null,null,null,null,57,{"$f":"EmpDetail!B60","v":0},{"$f":"EmpDetail!C60","v":0},{"$f":"EmpDetail!D60","v":0},{"$f":"EmpDetail!E60","v":"00:00:00"},{"$error":"#NUM!"}]
[null,null,null,null,null,null,null,null,null,null,null,null,58,{"$f":"EmpDetail!B61","v":0},{"$f":"EmpDetail!C61","v":0},{"$f":"EmpDetail!D61","v":0},{"$f":"EmpDetail!E61","v":"00:00:00"},{"$error":"#NUM!"}]
[null,null,null,null,null,null,null,null,null,null,null,null,59,{"$f":"EmpDetail!B62","v":0},{"$f":"EmpDetail!C62","v":0},{"$f":"EmpDetail!D62","v":0},{"$f":"EmpDetail!E62","v":"00:00:00"},{"$error":"#NUM!"}]
[null,null,null,null,null,null,null,null,null,null,null,null,60,{"$f":"EmpDetail!B63","v":0},{"$f":"EmpDetail!C63","v":0},{"$f":"EmpDetail!D63","v":0},{"$f":"EmpDetail!E63","v":"00:00:00"},{"$error":"#NUM!"}]
[null,null,null,null,null,null,null,null,null,null,null,null,61,{"$f":"EmpDetail!B64","v":0},{"$f":"EmpDetail!C64","v":0},{"$f":"EmpDetail!D64","v":0},{"$f":"EmpDetail!E64","v":"00:00:00"},{"$error":"#NUM!"}]
[null,null,null,null,null,null,null,null,null,null,null,null,62,{"$f":"EmpDetail!B65","v":0},{"$f":"EmpDetail!C65","v":0},{"$f":"EmpDetail!D65","v":0},{"$f":"EmpDetail!E65","v":"00:00:00"},{"$error":"#NUM!"}]
[null,null,null,null,null,null,null,null,null,null,null,null,63,{"$f":"EmpDetail!B66","v":0},{"$f":"EmpDetail!C66","v":0},{"$f":"EmpDetail!D66","v":0},{"$f":"EmpDetail!E66","v":"00:00:00"},{"$error":"#NUM!"}]
[null,null,null,null,null,null,null,null,null,null,null,null,64,{"$f":"EmpDetail!B67","v":0},{"$f":"EmpDetail!C67","v":0},{"$f":"EmpDetail!D67","v":0},{"$f":"EmpDetail!E67","v":"00:00:00"},{"$error":"#NUM!"}]
[null,null,null,null,null,null,null,null,null,null,null,null,65,{"$f":"EmpDetail!B68","v":0},{"$f":"EmpDetail!C68","v":0},{"$f":"EmpDetail!D68","v":0},{"$f":"EmpDetail!E68","v":"00:00:00"},{"$error":"#NUM!"}]
[null,null,null,null,null,null,null,null,null,null,null,null,66,{"$f":"EmpDetail!B69","v":0},{"$f":"EmpDetail!C69","v":0},{"$f":"EmpDetail!D69","v":0},{"$f":"EmpDetail!E69","v":"00:00:00"},{"$f":"IF(Q70=\"\",\"\",DATE(YEAR(Q70-1)+60,(MONTH(Q70-1))+1,0))","v":{"$error":"#NUM!"}}]
[null,null,null,null,null,null,null,null,null,null,null,null,67,{"$f":"EmpDetail!B70","v":0},{"$f":"EmpDetail!C70","v":0},{"$f":"EmpDetail!D70","v":0},{"$f":"EmpDetail!E70","v":"00:00:00"},{"$error":"#NUM!"}]
[null,null,null,null,null,null,null,null,null,null,null,null,68,{"$f":"EmpDetail!B71","v":0},{"$f":"EmpDetail!C71","v":0},{"$f":"EmpDetail!D71","v":0},{"$f":"EmpDetail!E71","v":"00:00:00"},{"$error":"#NUM!"}]
[null,null,null,null,null,null,null,null,null,null,null,null,69,{"$f":"EmpDetail!B72","v":0},{"$f":"EmpDetail!C72","v":0},{"$f":"EmpDetail!D72","v":0},{"$f":"EmpDetail!E72","v":"00:00:00"},{"$error":"#NUM!"}]
[null,null,null,null,null,null,null,null,null,null,null,null,70,{"$f":"EmpDetail!B73","v":0},{"$f":"EmpDetail!C73","v":0},{"$f":"EmpDetail!D73","v":0},{"$f":"EmpDetail!E73","v":"00:00:00"},{"$error":"#NUM!"}]
[null,null,null,null,null,null,null,null,null,null,null,null,71,{"$f":"EmpDetail!B74","v":0},{"$f":"EmpDetail!C74","v":0},{"$f":"EmpDetail!D74","v":0},{"$f":"EmpDetail!E74","v":"00:00:00"},{"$error":"#NUM!"}]
[null,null,null,null,null,null,null,null,null,null,null,null,72,{"$f":"EmpDetail!B75","v":0},{"$f":"EmpDetail!C75","v":0},{"$f":"EmpDetail!D75","v":0},{"$f":"EmpDetail!E75","v":"00:00:00"},{"$error":"#NUM!"}]
[null,null,null,null,null,null,null,null,null,null,null,null,73,{"$f":"EmpDetail!B76","v":0},{"$f":"EmpDetail!C76","v":0},{"$f":"EmpDetail!D76","v":0},{"$f":"EmpDetail!E76","v":"00:00:00"},{"$error":"#NUM!"}]
[null,null,null,null,null,null,null,null,null,null,null,null,74,{"$f":"EmpDetail!B77","v":0},{"$f":"EmpDetail!C77","v":0},{"$f":"EmpDetail!D77","v":0},{"$f":"EmpDetail!E77","v":"00:00:00"},{"$error":"#NUM!"}]
[null,null,null,null,null,null,null,null,null,null,null,null,75,{"$f":"EmpDetail!B78","v":0},{"$f":"EmpDetail!C78","v":0},{"$f":"EmpDetail!D78","v":0},{"$f":"EmpDetail!E78","v":"00:00:00"},{"$error":"#NUM!"}]
[null,null,null,null,null,null,null,null,null,null,null,null,76,{"$f":"EmpDetail!B79","v":0},{"$f":"EmpDetail!C79","v":0},{"$f":"EmpDetail!D79","v":0},{"$f":"EmpDetail!E79","v":"00:00:00"},{"$error":"#NUM!"}]
[null,null,null,null,null,null,null,null,null,null,null,null,77,{"$f":"EmpDetail!B80","v":0},{"$f":"EmpDetail!C80","v":0},{"$f":"EmpDetail!D80","v":0},{"$f":"EmpDetail!E80","v":"00:00:00"},{"$error":"#NUM!"}]
[null,null,null,null,null,null,null,null,null,null,null,null,78,{"$f":"EmpDetail!B81","v":0},{"$f":"EmpDetail!C81","v":0},{"$f":"EmpDetail!D81","v":0},{"$f":"EmpDetail!E81","v":"00:00:00"},{"$error":"#NUM!"}]
[null,null,null,null,null,null,null,null,null,null,null,null,79,{"$f":"EmpDetail!B82","v":0},{"$f":"EmpDetail!C82","v":0},{"$f":"EmpDetail!D82","v":0},{"$f":"EmpDetail!E82","v":"00:00:00"},{"$error":"#NUM!"}]
[null,null,null,null,null,null,null,null,null,null,null,null,80,{"$f":"EmpDetail!B83","v":0},{"$f":"EmpDetail!C83","v":0},{"$f":"EmpDetail!D83","v":0},{"$f":"EmpDetail!E83","v":"00:00:00"},{"$error":"#NUM!"}]
[null,null,null,null,null,null,null,null,null,null,null,null,81,{"$f":"EmpDetail!B84","v":0},{"$f":"EmpDetail!C84","v":0},{"$f":"EmpDetail!D84","v":0},{"$f":"EmpDetail!E84","v":"00:00:00"},{"$error":"#NUM!"}]
[null,null,null,null,null,null,null,null,null,null,null,null,82,{"$f":"EmpDetail!B85","v":0},{"$f":"EmpDetail!C85","v":0},{"$f":"EmpDetail!D85","v":0},{"$f":"EmpDetail!E85","v":"00:00:00"},{"$error":"#NUM!"}]
[null,null,null,null,null,null,null,null,null,null,null,null,83,{"$f":"EmpDetail!B86","v":0},{"$f":"EmpDetail!C86","v":0},{"$f":"EmpDetail!D86","v":0},{"$f":"EmpDetail!E86","v":"00:00:00"},{"$error":"#NUM!"}]
[null,null,null,null,null,null,null,null,null,null,null,null,84,{"$f":"EmpDetail!B87","v":0},{"$f":"EmpDetail!C87","v":0},{"$f":"EmpDetail!D87","v":0},{"$f":"EmpDetail!E87","v":"00:00:00"},{"$error":"#NUM!"}]
[null,null,null,null,null,null,null,null,null,null,null,null,85,{"$f":"EmpDetail!B88","v":0},{"$f":"EmpDetail!C88","v":0},{"$f":"EmpDetail!D88","v":0},{"$f":"EmpDetail!E88","v":"00:00:00"},{"$error":"#NUM!"}]
[null,null,null,null,null,null,null,null,null,null,null,null,86,{"$f":"EmpDetail!B89","v":0},{"$f":"EmpDetail!C89","v":0},{"$f":"EmpDetail!D89","v":0},{"$f":"EmpDetail!E89","v":"00:00:00"},{"$error":"#NUM!"}]
[null,null,null,null,null,null,null,null,null,null,null,null,87,{"$f":"EmpDetail!B90","v":0},{"$f":"EmpDetail!C90","v":0},{"$f":"EmpDetail!D90","v":0},{"$f":"EmpDetail!E90","v":"00:00:00"},{"$error":"#NUM!"}]
[null,null,null,null,null,null,null,null,null,null,null,null,88,{"$f":"EmpDetail!B91","v":0},{"$f":"EmpDetail!C91","v":0},{"$f":"EmpDetail!D91","v":0},{"$f":"EmpDetail!E91","v":"00:00:00"},{"$error":"#NUM!"}]
[null,null,null,null,null,null,null,null,null,null,null,null,89,{"$f":"EmpDetail!B92","v":0},{"$f":"EmpDetail!C92","v":0},{"$f":"EmpDetail!D92","v":0},{"$f":"EmpDetail!E92","v":"00:00:00"},{"$error":"#NUM!"}]
[null,null,null,null,null,null,null,null,null,null,null,null,90,{"$f":"EmpDetail!B93","v":0},{"$f":"EmpDetail!C93","v":0},{"$f":"EmpDetail!D93","v":0},{"$f":"EmpDetail!E93","v":"00:00:00"},{"$error":"#NUM!"}]
[null,null,null,null,null,null,null,null,null,null,null,null,91,{"$f":"EmpDetail!B94","v":0},{"$f":"EmpDetail!C94","v":0},{"$f":"EmpDetail!D94","v":0},{"$f":"EmpDetail!E94","v":"00:00:00"},{"$error":"#NUM!"}]
[null,null,null,null,null,null,null,null,null,null,null,null,92,{"$f":"EmpDetail!B95","v":0},{"$f":"EmpDetail!C95","v":0},{"$f":"EmpDetail!D95","v":0},{"$f":"EmpDetail!E95","v":"00:00:00"},{"$error":"#NUM!"}]
[null,null,null,null,null,null,null,null,null,null,null,null,93,{"$f":"EmpDetail!B96","v":0},{"$f":"EmpDetail!C96","v":0},{"$f":"EmpDetail!D96","v":0},{"$f":"EmpDetail!E96","v":"00:00:00"},{"$error":"#NUM!"}]
[null,null,null,null,null,null,null,null,null,null,null,null,94,{"$f":"EmpDetail!B97","v":0},{"$f":"EmpDetail!C97","v":0},{"$f":"EmpDetail!D97","v":0},{"$f":"EmpDetail!E97","v":"00:00:00"},{"$error":"#NUM!"}]
[null,null,null,null,null,null,null,null,null,null,null,null,95,{"$f":"EmpDetail!B98","v":0},{"$f":"EmpDetail!C98","v":0},{"$f":"EmpDetail!D98","v":0},{"$f":"EmpDetail!E98","v":"00:00:00"},{"$error":"#NUM!"}]
[null,null,null,null,null,null,null,null,null,null,null,null,96,{"$f":"EmpDetail!B99","v":0},{"$f":"EmpDetail!C99","v":0},{"$f":"EmpDetail!D99","v":0},{"$f":"EmpDetail!E99","v":"00:00:00"},{"$error":"#NUM!"}]
[null,null,null,null,null,null,null,null,null,null,null,null,97,{"$f":"EmpDetail!B100","v":0},{"$f":"EmpDetail!C100","v":0},{"$f":"EmpDetail!D100","v":0},{"$f":"EmpDetail!E100","v":"00:00:00"},{"$error":"#NUM!"}]
[null,null,null,null,null,null,null,null,null,null,null,null,98,{"$f":"EmpDetail!B101","v":0},{"$f":"EmpDetail!C101","v":0},{"$f":"EmpDetail!D101","v":0},{"$f":"EmpDetail!E101","v":"00:00:00"},{"$error":"#NUM!"}]
[null,null,null,null,null,null,null,null,null,null,null,null,99,{"$f":"EmpDetail!B102","v":0},{"$f":"EmpDetail!C102","v":0},{"$f":"EmpDetail!D102","v":0},{"$f":"EmpDetail!E102","v":"00:00:00"},{"$error":"#NUM!"}]
[null,null,null,null,null,null,null,null,null,null,null,null,100,{"$f":"EmpDetail!B103","v":0},{"$f":"EmpDetail!C103","v":0},{"$f":"EmpDetail!D103","v":0},{"$f":"EmpDetail!E103","v":"00:00:00"},{"$error":"#NUM!"}]

{"sheet":"SB Cutting","index":38,"n_rows":104,"n_cols":18,"rows_kept":104,"cut":false,"hidden":true,"merged":[[29,2,29,4],[30,2,30,4],[31,2,31,4],[32,2,32,4],[28,5,28,7],[27,5,27,6],[16,9,16,11],[19,1,19,7],[15,1,15,7],[16,1,16,7],[17,6,17,7],[18,1,18,2],[18,3,18,7],[20,1,20,7],[21,1,21,7],[22,1,22,7],[25,5,25,6],[26,5,26,6]]}
[]
[]
[]
[null,null,null,null,null,null,null,null,null,null,null,null,null,{"$f":"IF(ISNA(VLOOKUP($K18,$M$5:$R$104,2,FALSE)),\"\",VLOOKUP($K18,$M$5:$R$104,2,FALSE))","v":"NksVw yky jsxj"},{"$f":"IF(ISNA(VLOOKUP($K18,$M$5:$R$104,3,FALSE)),\"\",VLOOKUP($K18,$M$5:$R$104,3,FALSE))","v":"अध्यापक ग्रेड III"},{"$f":"IF(ISNA(VLOOKUP($K18,$M$5:$R$104,4,FALSE)),\"\",VLOOKUP($K18,$M$5:$R$104,4,FALSE))","v":"राउमावि चौगाई"}]
[null,null,null,null,null,null,null,null,null,null,null,null,1,{"$f":"EmpDetail!B4","v":"fd'ku yky cSjok"},{"$f":"EmpDetail!C4","v":"प्रधानाचार्य"},{"$f":"EmpDetail!D4","v":"राउमावि चौगाई"},{"$f":"EmpDetail!E4","v":"1962-01-10"},{"$f":"IF(Q5=\"\",\"\",DATE(YEAR(Q5-1)+60,(MONTH(Q5-1))+1,0))","v":"2022-01-31"}]
[null,null,null,null,null,null,null,null,null,null,null,null,2,{"$f":"EmpDetail!B5","v":"iwj.k pUn y{kdkj"},{"$f":"EmpDetail!C5","v":"व्याख्याता"},{"$f":"EmpDetail!D5","v":"राउमावि चौगाई"},{"$f":"EmpDetail!E5","v":"1971-07-08"},{"$f":"IF(Q6=\"\",\"\",DATE(YEAR(Q6-1)+60,(MONTH(Q6-1))+1,0))","v":"2031-07-31"}]
[null,null,null,null,null,null,null,null,null,null,null,null,3,{"$f":"EmpDetail!B6","v":"jktsUnz dqekj tSu"},{"$f":"EmpDetail!C6","v":"व्याख्याता"},{"$f":"EmpDetail!D6","v":"राउमावि चौगाई"},{"$f":"EmpDetail!E6","v":"1968-09-14"},"2028-09-30"]
[null,null,null,null,null,null,null,null,null,null,null,null,4,{"$f":"EmpDetail!B7","v":"fd'ku yky cSjok"},{"$f":"EmpDetail!C7","v":"व्याख्याता"},{"$f":"EmpDetail!D7","v":"राउमावि चौगाई"},{"$f":"EmpDetail!E7","v":"1974-07-07"},"2034-07-31"]
[null,null,null,null,null,null,null,null,null,null,null,null,5,{"$f":"EmpDetail!B8","v":"lR;ukjk;.k 'kekZ"},{"$f":"EmpDetail!C8","v":"वरिष्ठ अध्यापक"},{"$f":"EmpDetail!D8","v":"राउमावि चौगाई"},{"$f":"EmpDetail!E8","v":"1962-07-01"},"2022-06-30"]
[null,null,null,null,null,null,null,null,null,null,null,null,6,{"$f":"EmpDetail!B9","v":"iq\"ik tSu"},{"$f":"EmpDetail!C9","v":"वरिष्ठ अध्यापक"},{"$f":"EmpDetail!D9","v":"राउमावि चौगाई"},{"$f":"EmpDetail!E9","v":"1964-04-10"},"2024-04-30"]
[null,null,null,null,null,null,null,null,null,null,null,null,7,{"$f":"EmpDetail!B10","v":"vk'kkjke eh.kk"},{"$f":"EmpDetail!C10","v":"वरिष्ठ अध्यापक"},{"$f":"EmpDetail!D10","v":"राउमावि चौगाई"},{"$f":"EmpDetail!E10","v":"1978-06-11"},"2038-06-30"]
[null,null,null,null,null,null,null,null,null,null,null,null,8,{"$f":"EmpDetail!B11","v":"t;iky flag"},{"$f":"EmpDetail!C11","v":"वरिष्ठ अध्यापक"},{"$f":"EmpDetail!D11","v":"राउमावि चौगाई"},{"$f":"EmpDetail!E11","v":"1972-02-02"},"2032-02-29"]
[null,null,null,null,null,null,null,null,null,null,null,null,9,{"$f":"EmpDetail!B12","v":"jkeizlkn jsxj"},{"$f":"EmpDetail!C12","v":"वरिष्ठ अध्यापक"},{"$f":"EmpDetail!D12","v":"राउमावि चौगाई"},{"$f":"EmpDetail!E12","v":"1978-06-01"},"2038-05-31"]
[null,null,null,null,null,null,null,null,null,null,null,null,10,{"$f":"EmpDetail!B13","v":"egsUnz dqekj tkV"},{"$f":"EmpDetail!C13","v":"शारीरिक शिक्षक"},{"$f":"EmpDetail!D13","v":"राउमावि चौगाई"},{"$f":"EmpDetail!E13","v":"1976-01-30"},"2036-01-31"]
[null,null,null,null,null,null,null,null,null,null,null,null,11,{"$f":"EmpDetail!B14","v":"NksVw yky jsxj"},{"$f":"EmpDetail!C14","v":"अध्यापक ग्रेड III"},{"$f":"EmpDetail!D14","v":"राउमावि चौगाई"},{"$f":"EmpDetail!E14","v":"1967-07-10"},"2027-07-31"]
[null,"jktLFkku lsok fu;e 160 ¼IV½ ¼|½",null,null,null,null,null,null,null,null,null,null,12,{"$f":"EmpDetail!B15","v":"dUgS;k yky egkoj"},{"$f":"EmpDetail!C15","v":"अध्यापक ग्रेड III"},{"$f":"EmpDetail!D15","v":"राउमावि चौगाई"},{"$f":"EmpDetail!E15","v":"1962-04-05"},"2022-04-30"]
[null,"&'kiFk&i=&",null,null,null,null,null,null,null,"dkfeZd dk dzekad fy[ksa",null,null,13,{"$f":"EmpDetail!B16","v":"prqHkqZt tkV"},{"$f":"EmpDetail!C16","v":"अध्यापक ग्रेड III"},{"$f":"EmpDetail!D16","v":"राउमावि चौगाई"},{"$f":"EmpDetail!E16","v":"1976-04-04"},"2036-04-30"]
[null,"eSa",{"$f":"N4","v":"NksVw yky jsxj"},"in&",{"$f":"O4","v":"अध्यापक ग्रेड III"},"iq=@iq=h@iRuh Jh","tXXkk yky cSjok",null,null,null,11,null,14,{"$f":"EmpDetail!B17","v":"vklsQk [kku"},{"$f":"EmpDetail!C17","v":"अध्यापक ग्रेड III"},{"$f":"EmpDetail!D17","v":"राउमावि चौगाई"},{"$f":"EmpDetail!E17","v":"1971-01-10"},"2031-01-31"]
[null,"inLFkkiu &",null,{"$f":"P4","v":"राउमावि चौगाई"},null,null,null,null,null,null,null,null,15,{"$f":"EmpDetail!B18","v":"lq'khyk cSjok"},{"$f":"EmpDetail!C18","v":"कनिष्ठ सहायक"},{"$f":"EmpDetail!D18","v":"राउमावि चौगाई"},{"$f":"EmpDetail!E18","v":"1995-01-01"},"2054-12-31"]
[null,",rn~ }kjk ;g opu nsrk@nsrh gWw fd ewy lsokiqfLrdk dh izfof\"V;ka dVh & QVh gksus ",null,null,null,null,null,null,null,null,null,null,16,{"$f":"EmpDetail!B19","v":"txnh'k izlkn rsyh"},{"$f":"EmpDetail!C19","v":"सहायक कर्मचारी"},{"$f":"EmpDetail!D19","v":"राउमावि चौगाई"},{"$f":"EmpDetail!E19","v":"1962-06-04"},"2022-06-30"]
[null,"ds osru fLFkjhdj.k ] okf\"kZd osru o`f) vkfn dkj.k ls isa'ku fuf.kZr gksrh gS rks isa'ku ",null,null,null,null,null,null,null,null,null,null,17,{"$f":"EmpDetail!B20","v":"jfoUnz dqekj tSu"},{"$f":"EmpDetail!C20","v":"अध्यापक ग्रेड III"},{"$f":"EmpDetail!D20","v":"राउप्रावि मोहिनी"},{"$f":"EmpDetail!E20","v":"1967-08-24"},"2027-08-31"]
[null,"eSa ;fn dksbZ vf/kd Hkqxrku eq>s gksosa ;k ik;k tkoss rks eSa mDr vf/kd Hkqxrku dh jkf'k",null,null,null,null,null,null,null,null,null,null,18,{"$f":"EmpDetail!B21","v":" ';ke lqUnj ckxkSM"},{"$f":"EmpDetail!C21","v":"अध्यापक ग्रेड III"},{"$f":"EmpDetail!D21","v":"राउप्रावि मोहिनी"},{"$f":"EmpDetail!E21","v":"1983-08-10"},"2043-08-31"]
[null,"          tek djkus dk opu nsrk@nsrh gwW A ",null,null,null,null,null,null,null,null,null,null,19,{"$f":"EmpDetail!B22","v":"d`\".kk 'kekZ"},{"$f":"EmpDetail!C22","v":"प्रबोधक"},{"$f":"EmpDetail!D22","v":"राउप्रावि मोहिनी"},{"$f":"EmpDetail!E22","v":"1972-08-06"},"2032-08-31"]
[null,null,null,null,null,null,null,null,null,null,null,null,20,{"$f":"EmpDetail!B23","v":"/keZsUnz pkS/kjh"},{"$f":"EmpDetail!C23","v":"अध्यापक ग्रेड III"},{"$f":"EmpDetail!D23","v":"राउप्रावि गोरधनपुरा"},{"$f":"EmpDetail!E23","v":"1990-03-05"},"2050-03-31"]
[null,null,null,null,null,null,null,null,null,null,null,null,21,{"$f":"EmpDetail!B24","v":"izgykn ekyh"},{"$f":"EmpDetail!C24","v":"प्रबोधक"},{"$f":"EmpDetail!D24","v":"राउप्रावि गोरधनपुरा"},{"$f":"EmpDetail!E24","v":"1974-08-07"},"2034-08-31"]
[null,null,null,null,null,"gLrk{kj 'kiFk drkZ",null,null,null,null,null,null,22,{"$f":"EmpDetail!B25","v":"jken;ky xqtZj"},{"$f":"EmpDetail!C25","v":"प्रबोधक"},{"$f":"EmpDetail!D25","v":"राउप्रावि सोंदीफल"},{"$f":"EmpDetail!E25","v":"1977-08-18"},"2037-08-31"]
[null,null,null,null,"uke %&",{"$f":"C18","v":"NksVw yky jsxj"},null,null,null,null,null,null,23,{"$f":"EmpDetail!B26","v":"vkSeizdk'k tkV"},{"$f":"EmpDetail!C26","v":"अध्यापक ग्रेड III"},{"$f":"EmpDetail!D26","v":"राउप्रावि सोंदीफल"},{"$f":"EmpDetail!E26","v":"1982-10-31"},"2042-10-31"]
[null,null,null,null,"in %&",{"$f":"E18","v":"अध्यापक ग्रेड III"},null,null,null,null,null,null,24,{"$f":"EmpDetail!B27","v":"vthr flag"},{"$f":"EmpDetail!C27","v":"अध्यापक ग्रेड III"},{"$f":"EmpDetail!D27","v":"राप्रावि जानकीवल्लभपुरा"},{"$f":"EmpDetail!E27","v":"1987-08-08"},"2047-08-31"]
[null,null,null,null,"foHkkx %&",{"$f":"D19","v":"राउमावि चौगाई"},null,null,null,null,null,null,25,{"$f":"EmpDetail!B28","v":"eq[rkj eha;k"},{"$f":"EmpDetail!C28","v":"प्रबोधक"},{"$f":"EmpDetail!D28","v":"राप्रावि जानकीवल्लभपुरा"},{"$f":"EmpDetail!E28","v":"1976-07-04"},"2036-07-31"]
[null,null,"gLrk{kj izekf.kr",null,null,null,null,null,null,null,null,null,26,{"$f":"EmpDetail!B29","v":"eks0 tehy "},{"$f":"EmpDetail!C29","v":"प्रबोधक"},{"$f":"EmpDetail!D29","v":"राप्रावि रसूलपुरा"},{"$f":"EmpDetail!E29","v":"1968-09-15"},"2028-09-30"]
[null,null,{"$f":"Master!B2","v":"प्रधानाचार्य"},null,null,null,null,null,null,null,null,null,27,{"$f":"EmpDetail!B30","v":"lkaojey tkV"},{"$f":"EmpDetail!C30","v":"अध्यापक ग्रेड III"},{"$f":"EmpDetail!D30","v":"राप्रावि रसूलपुरा"},{"$f":"EmpDetail!E30","v":"1992-03-03"},"2052-03-31"]
[null,null,{"$f":"Master!B3","v":"राजकीय उच्च माध्यमिक विद्यालय "},null,null,null,null,null,null,null,null,null,28,{"$f":"EmpDetail!B31","v":"pkS/kjh eksuk jkekorkj"},{"$f":"EmpDetail!C31","v":"अध्यापक ग्रेड III"},{"$f":"EmpDetail!D31","v":"राप्रावि मोहिनी ढाणी बाढ"},{"$f":"EmpDetail!E31","v":"1990-01-05"},"2050-01-31"]
[null,null,{"$f":"Master!B4","v":"चौगाई]टोंक"},null,null,null,null,null,null,null,null,null,29,{"$f":"EmpDetail!B32","v":"rkjkpUn tk;loky"},{"$f":"EmpDetail!C32","v":"प्रबोधक"},{"$f":"EmpDetail!D32","v":"राप्रावि मोहिनी ढाणी बाढ"},{"$f":"EmpDetail!E32","v":"1976-11-11"},"2036-11-30"]
[null,"uksV%&mijksDr izek.k&i= 50 :i;s dk uku T;qfMf'k;y LVkEi isij ij vafdr dj izekf.kr djok dj izLrqr djsaA",null,null,null,null,null,null,null,null,null,null,30,{"$f":"EmpDetail!B33","v":"jketl ;kno"},{"$f":"EmpDetail!C33","v":"अध्यापक ग्रेड III"},{"$f":"EmpDetail!D33","v":"राप्रावि बैरवा ढाणी सोन्दीफल"},{"$f":"EmpDetail!E33","v":"1970-06-12"},"2030-06-30"]
[null,null,null,null,null,null,null,null,null,null,null,null,31,{"$f":"EmpDetail!B34","v":"dtksMey eh.kk"},{"$f":"EmpDetail!C34","v":"अध्यापक ग्रेड III"},{"$f":"EmpDetail!D34","v":"राप्रावि बैरवा ढाणी सोन्दीफल"},{"$f":"EmpDetail!E34","v":"1990-07-01"},"2050-06-30"]
[null,null,null,null,null,null,null,null,null,null,null,null,32,{"$f":"EmpDetail!B35","v":"/kaut; xkSRre"},{"$f":"EmpDetail!C35","v":"अध्यापक ग्रेड III"},{"$f":"EmpDetail!D35","v":"राउप्रावि गोरधनपुरा"},{"$f":"EmpDetail!E35","v":"1986-08-25"},"2046-08-31"]
[null,null,null,null,null,null,null,null,null,null,null,null,33,{"$f":"EmpDetail!B36","v":"d`\".kk xaxoky"},{"$f":"EmpDetail!C36","v":"अध्यापक ग्रेड III"},{"$f":"EmpDetail!D36","v":"राउप्रावि गोरधनपुरा"},{"$f":"EmpDetail!E36","v":"1995-06-20"},"2055-06-30"]
[null,null,null,null,null,null,null,null,null,null,null,null,34,{"$f":"EmpDetail!B37","v":"n'kjFk dqekj ;kno"},{"$f":"EmpDetail!C37","v":"अध्यापक ग्रेड III"},{"$f":"EmpDetail!D37","v":"राउप्रावि सोंदीफल"},{"$f":"EmpDetail!E37","v":"1991-01-01"},"2050-12-31"]
[null,null,null,null,null,null,null,null,null,null,null,null,35,{"$f":"EmpDetail!B38","v":"d`\".k yky tkV"},{"$f":"EmpDetail!C38","v":"अध्यापक ग्रेड III"},{"$f":"EmpDetail!D38","v":"राउप्रावि सोंदीफल"},{"$f":"EmpDetail!E38","v":"1990-07-18"},"2050-07-31"]
[null,null,null,null,null,null,null,null,null,null,null,null,36,{"$f":"EmpDetail!B39","v":"nhisUnz dqekj iztkir"},{"$f":"EmpDetail!C39","v":"अध्यापक ग्रेड III"},{"$f":"EmpDetail!D39","v":"राउप्रावि सोंदीफल"},{"$f":"EmpDetail!E39","v":"1994-07-12"},"2054-07-31"]
[null,null,null,null,null,null,null,null,null,null,null,null,37,{"$f":"EmpDetail!B40","v":"uohu dqekj"},{"$f":"EmpDetail!C40","v":"अध्यापक ग्रेड III"},{"$f":"EmpDetail!D40","v":"राउप्रावि मोहिनी"},{"$f":"EmpDetail!E40","v":"1995-04-13"},"2055-04-30"]
[null,null,null,null,null,null,null,null,null,null,null,null,38,{"$f":"EmpDetail!B41","v":"ehrs'k dqekj 'kekZ"},{"$f":"EmpDetail!C41","v":"अध्यापक ग्रेड III"},{"$f":"EmpDetail!D41","v":"राउप्रावि मोहिनी"},{"$f":"EmpDetail!E41","v":"1989-08-13"},"2049-08-31"]
[null,null,null,null,null,null,null,null,null,null,null,null,39,{"$f":"EmpDetail!B42","v":"eUtw eh.kk"},{"$f":"EmpDetail!C42","v":"वरिष्ठ अध्यापक"},{"$f":"EmpDetail!D42","v":"राउप्रावि गोरधनपुरा"},{"$f":"EmpDetail!E42","v":"1991-01-06"},"2051-01-31"]
[null,null,null,null,null,null,null,null,null,null,null,null,40,{"$f":"EmpDetail!B43","v":"eatw pkS/kjh"},{"$f":"EmpDetail!C43","v":"वरिष्ठ अध्यापक"},{"$f":"EmpDetail!D43","v":"राउप्रावि सोंदीफल"},{"$f":"EmpDetail!E43","v":"1991-08-04"},"2051-08-31"]
[null,null,null,null,null,null,null,null,null,null,null,null,41,{"$f":"EmpDetail!B44","v":0},{"$f":"EmpDetail!C44","v":0},{"$f":"EmpDetail!D44","v":0},{"$f":"EmpDetail!E44","v":"00:00:00"},{"$error":"#NUM!"}]
[null,null,null,null,null,null,null,null,null,null,null,null,42,{"$f":"EmpDetail!B45","v":0},{"$f":"EmpDetail!C45","v":0},{"$f":"EmpDetail!D45","v":0},{"$f":"EmpDetail!E45","v":"00:00:00"},{"$error":"#NUM!"}]
[null,null,null,null,null,null,null,null,null,null,null,null,43,{"$f":"EmpDetail!B46","v":0},{"$f":"EmpDetail!C46","v":0},{"$f":"EmpDetail!D46","v":0},{"$f":"EmpDetail!E46","v":"00:00:00"},{"$error":"#NUM!"}]
[null,null,null,null,null,null,null,null,null,null,null,null,44,{"$f":"EmpDetail!B47","v":0},{"$f":"EmpDetail!C47","v":0},{"$f":"EmpDetail!D47","v":0},{"$f":"EmpDetail!E47","v":"00:00:00"},{"$error":"#NUM!"}]
[null,null,null,null,null,null,null,null,null,null,null,null,45,{"$f":"EmpDetail!B48","v":0},{"$f":"EmpDetail!C48","v":0},{"$f":"EmpDetail!D48","v":0},{"$f":"EmpDetail!E48","v":"00:00:00"},{"$error":"#NUM!"}]
[null,null,null,null,null,null,null,null,null,null,null,null,46,{"$f":"EmpDetail!B49","v":0},{"$f":"EmpDetail!C49","v":0},{"$f":"EmpDetail!D49","v":0},{"$f":"EmpDetail!E49","v":"00:00:00"},{"$error":"#NUM!"}]
[null,null,null,null,null,null,null,null,null,null,null,null,47,{"$f":"EmpDetail!B50","v":0},{"$f":"EmpDetail!C50","v":0},{"$f":"EmpDetail!D50","v":0},{"$f":"EmpDetail!E50","v":"00:00:00"},{"$error":"#NUM!"}]
[null,null,null,null,null,null,null,null,null,null,null,null,48,{"$f":"EmpDetail!B51","v":0},{"$f":"EmpDetail!C51","v":0},{"$f":"EmpDetail!D51","v":0},{"$f":"EmpDetail!E51","v":"00:00:00"},{"$error":"#NUM!"}]
[null,null,null,null,null,null,null,null,null,null,null,null,49,{"$f":"EmpDetail!B52","v":0},{"$f":"EmpDetail!C52","v":0},{"$f":"EmpDetail!D52","v":0},{"$f":"EmpDetail!E52","v":"00:00:00"},{"$error":"#NUM!"}]
[null,null,null,null,null,null,null,null,null,null,null,null,50,{"$f":"EmpDetail!B53","v":0},{"$f":"EmpDetail!C53","v":0},{"$f":"EmpDetail!D53","v":0},{"$f":"EmpDetail!E53","v":"00:00:00"},{"$error":"#NUM!"}]
[null,null,null,null,null,null,null,null,null,null,null,null,51,{"$f":"EmpDetail!B54","v":0},{"$f":"EmpDetail!C54","v":0},{"$f":"EmpDetail!D54","v":0},{"$f":"EmpDetail!E54","v":"00:00:00"},{"$error":"#NUM!"}]
[null,null,null,null,null,null,null,null,null,null,null,null,52,{"$f":"EmpDetail!B55","v":0},{"$f":"EmpDetail!C55","v":0},{"$f":"EmpDetail!D55","v":0},{"$f":"EmpDetail!E55","v":"00:00:00"},{"$error":"#NUM!"}]
[null,null,null,null,null,null,null,null,null,null,null,null,53,{"$f":"EmpDetail!B56","v":0},{"$f":"EmpDetail!C56","v":0},{"$f":"EmpDetail!D56","v":0},{"$f":"EmpDetail!E56","v":"00:00:00"},{"$error":"#NUM!"}]
[null,null,null,null,null,null,null,null,null,null,null,null,54,{"$f":"EmpDetail!B57","v":0},{"$f":"EmpDetail!C57","v":0},{"$f":"EmpDetail!D57","v":0},{"$f":"EmpDetail!E57","v":"00:00:00"},{"$error":"#NUM!"}]
[null,null,null,null,null,null,null,null,null,null,null,null,55,{"$f":"EmpDetail!B58","v":0},{"$f":"EmpDetail!C58","v":0},{"$f":"EmpDetail!D58","v":0},{"$f":"EmpDetail!E58","v":"00:00:00"},{"$error":"#NUM!"}]
[null,null,null,null,null,null,null,null,null,null,null,null,56,{"$f":"EmpDetail!B59","v":0},{"$f":"EmpDetail!C59","v":0},{"$f":"EmpDetail!D59","v":0},{"$f":"EmpDetail!E59","v":"00:00:00"},{"$error":"#NUM!"}]
[null,null,null,null,null,null,null,null,null,null,null,null,57,{"$f":"EmpDetail!B60","v":0},{"$f":"EmpDetail!C60","v":0},{"$f":"EmpDetail!D60","v":0},{"$f":"EmpDetail!E60","v":"00:00:00"},{"$error":"#NUM!"}]
[null,null,null,null,null,null,null,null,null,null,null,null,58,{"$f":"EmpDetail!B61","v":0},{"$f":"EmpDetail!C61","v":0},{"$f":"EmpDetail!D61","v":0},{"$f":"EmpDetail!E61","v":"00:00:00"},{"$error":"#NUM!"}]
[null,null,null,null,null,null,null,null,null,null,null,null,59,{"$f":"EmpDetail!B62","v":0},{"$f":"EmpDetail!C62","v":0},{"$f":"EmpDetail!D62","v":0},{"$f":"EmpDetail!E62","v":"00:00:00"},{"$error":"#NUM!"}]
[null,null,null,null,null,null,null,null,null,null,null,null,60,{"$f":"EmpDetail!B63","v":0},{"$f":"EmpDetail!C63","v":0},{"$f":"EmpDetail!D63","v":0},{"$f":"EmpDetail!E63","v":"00:00:00"},{"$error":"#NUM!"}]
[null,null,null,null,null,null,null,null,null,null,null,null,61,{"$f":"EmpDetail!B64","v":0},{"$f":"EmpDetail!C64","v":0},{"$f":"EmpDetail!D64","v":0},{"$f":"EmpDetail!E64","v":"00:00:00"},{"$error":"#NUM!"}]
[null,null,null,null,null,null,null,null,null,null,null,null,62,{"$f":"EmpDetail!B65","v":0},{"$f":"EmpDetail!C65","v":0},{"$f":"EmpDetail!D65","v":0},{"$f":"EmpDetail!E65","v":"00:00:00"},{"$error":"#NUM!"}]
[null,null,null,null,null,null,null,null,null,null,null,null,63,{"$f":"EmpDetail!B66","v":0},{"$f":"EmpDetail!C66","v":0},{"$f":"EmpDetail!D66","v":0},{"$f":"EmpDetail!E66","v":"00:00:00"},{"$error":"#NUM!"}]
[null,null,null,null,null,null,null,null,null,null,null,null,64,{"$f":"EmpDetail!B67","v":0},{"$f":"EmpDetail!C67","v":0},{"$f":"EmpDetail!D67","v":0},{"$f":"EmpDetail!E67","v":"00:00:00"},{"$error":"#NUM!"}]
[null,null,null,null,null,null,null,null,null,null,null,null,65,{"$f":"EmpDetail!B68","v":0},{"$f":"EmpDetail!C68","v":0},{"$f":"EmpDetail!D68","v":0},{"$f":"EmpDetail!E68","v":"00:00:00"},{"$error":"#NUM!"}]
[null,null,null,null,null,null,null,null,null,null,null,null,66,{"$f":"EmpDetail!B69","v":0},{"$f":"EmpDetail!C69","v":0},{"$f":"EmpDetail!D69","v":0},{"$f":"EmpDetail!E69","v":"00:00:00"},{"$f":"IF(Q70=\"\",\"\",DATE(YEAR(Q70-1)+60,(MONTH(Q70-1))+1,0))","v":{"$error":"#NUM!"}}]
[null,null,null,null,null,null,null,null,null,null,null,null,67,{"$f":"EmpDetail!B70","v":0},{"$f":"EmpDetail!C70","v":0},{"$f":"EmpDetail!D70","v":0},{"$f":"EmpDetail!E70","v":"00:00:00"},{"$error":"#NUM!"}]
[null,null,null,null,null,null,null,null,null,null,null,null,68,{"$f":"EmpDetail!B71","v":0},{"$f":"EmpDetail!C71","v":0},{"$f":"EmpDetail!D71","v":0},{"$f":"EmpDetail!E71","v":"00:00:00"},{"$error":"#NUM!"}]
[null,null,null,null,null,null,null,null,null,null,null,null,69,{"$f":"EmpDetail!B72","v":0},{"$f":"EmpDetail!C72","v":0},{"$f":"EmpDetail!D72","v":0},{"$f":"EmpDetail!E72","v":"00:00:00"},{"$error":"#NUM!"}]
[null,null,null,null,null,null,null,null,null,null,null,null,70,{"$f":"EmpDetail!B73","v":0},{"$f":"EmpDetail!C73","v":0},{"$f":"EmpDetail!D73","v":0},{"$f":"EmpDetail!E73","v":"00:00:00"},{"$error":"#NUM!"}]
[null,null,null,null,null,null,null,null,null,null,null,null,71,{"$f":"EmpDetail!B74","v":0},{"$f":"EmpDetail!C74","v":0},{"$f":"EmpDetail!D74","v":0},{"$f":"EmpDetail!E74","v":"00:00:00"},{"$error":"#NUM!"}]
[null,null,null,null,null,null,null,null,null,null,null,null,72,{"$f":"EmpDetail!B75","v":0},{"$f":"EmpDetail!C75","v":0},{"$f":"EmpDetail!D75","v":0},{"$f":"EmpDetail!E75","v":"00:00:00"},{"$error":"#NUM!"}]
[null,null,null,null,null,null,null,null,null,null,null,null,73,{"$f":"EmpDetail!B76","v":0},{"$f":"EmpDetail!C76","v":0},{"$f":"EmpDetail!D76","v":0},{"$f":"EmpDetail!E76","v":"00:00:00"},{"$error":"#NUM!"}]
[null,null,null,null,null,null,null,null,null,null,null,null,74,{"$f":"EmpDetail!B77","v":0},{"$f":"EmpDetail!C77","v":0},{"$f":"EmpDetail!D77","v":0},{"$f":"EmpDetail!E77","v":"00:00:00"},{"$error":"#NUM!"}]
[null,null,null,null,null,null,null,null,null,null,null,null,75,{"$f":"EmpDetail!B78","v":0},{"$f":"EmpDetail!C78","v":0},{"$f":"EmpDetail!D78","v":0},{"$f":"EmpDetail!E78","v":"00:00:00"},{"$error":"#NUM!"}]
[null,null,null,null,null,null,null,null,null,null,null,null,76,{"$f":"EmpDetail!B79","v":0},{"$f":"EmpDetail!C79","v":0},{"$f":"EmpDetail!D79","v":0},{"$f":"EmpDetail!E79","v":"00:00:00"},{"$error":"#NUM!"}]
[null,null,null,null,null,null,null,null,null,null,null,null,77,{"$f":"EmpDetail!B80","v":0},{"$f":"EmpDetail!C80","v":0},{"$f":"EmpDetail!D80","v":0},{"$f":"EmpDetail!E80","v":"00:00:00"},{"$error":"#NUM!"}]
[null,null,null,null,null,null,null,null,null,null,null,null,78,{"$f":"EmpDetail!B81","v":0},{"$f":"EmpDetail!C81","v":0},{"$f":"EmpDetail!D81","v":0},{"$f":"EmpDetail!E81","v":"00:00:00"},{"$error":"#NUM!"}]
[null,null,null,null,null,null,null,null,null,null,null,null,79,{"$f":"EmpDetail!B82","v":0},{"$f":"EmpDetail!C82","v":0},{"$f":"EmpDetail!D82","v":0},{"$f":"EmpDetail!E82","v":"00:00:00"},{"$error":"#NUM!"}]
[null,null,null,null,null,null,null,null,null,null,null,null,80,{"$f":"EmpDetail!B83","v":0},{"$f":"EmpDetail!C83","v":0},{"$f":"EmpDetail!D83","v":0},{"$f":"EmpDetail!E83","v":"00:00:00"},{"$error":"#NUM!"}]
[null,null,null,null,null,null,null,null,null,null,null,null,81,{"$f":"EmpDetail!B84","v":0},{"$f":"EmpDetail!C84","v":0},{"$f":"EmpDetail!D84","v":0},{"$f":"EmpDetail!E84","v":"00:00:00"},{"$error":"#NUM!"}]
[null,null,null,null,null,null,null,null,null,null,null,null,82,{"$f":"EmpDetail!B85","v":0},{"$f":"EmpDetail!C85","v":0},{"$f":"EmpDetail!D85","v":0},{"$f":"EmpDetail!E85","v":"00:00:00"},{"$error":"#NUM!"}]
[null,null,null,null,null,null,null,null,null,null,null,null,83,{"$f":"EmpDetail!B86","v":0},{"$f":"EmpDetail!C86","v":0},{"$f":"EmpDetail!D86","v":0},{"$f":"EmpDetail!E86","v":"00:00:00"},{"$error":"#NUM!"}]
[null,null,null,null,null,null,null,null,null,null,null,null,84,{"$f":"EmpDetail!B87","v":0},{"$f":"EmpDetail!C87","v":0},{"$f":"EmpDetail!D87","v":0},{"$f":"EmpDetail!E87","v":"00:00:00"},{"$error":"#NUM!"}]
[null,null,null,null,null,null,null,null,null,null,null,null,85,{"$f":"EmpDetail!B88","v":0},{"$f":"EmpDetail!C88","v":0},{"$f":"EmpDetail!D88","v":0},{"$f":"EmpDetail!E88","v":"00:00:00"},{"$error":"#NUM!"}]
[null,null,null,null,null,null,null,null,null,null,null,null,86,{"$f":"EmpDetail!B89","v":0},{"$f":"EmpDetail!C89","v":0},{"$f":"EmpDetail!D89","v":0},{"$f":"EmpDetail!E89","v":"00:00:00"},{"$error":"#NUM!"}]
[null,null,null,null,null,null,null,null,null,null,null,null,87,{"$f":"EmpDetail!B90","v":0},{"$f":"EmpDetail!C90","v":0},{"$f":"EmpDetail!D90","v":0},{"$f":"EmpDetail!E90","v":"00:00:00"},{"$error":"#NUM!"}]
[null,null,null,null,null,null,null,null,null,null,null,null,88,{"$f":"EmpDetail!B91","v":0},{"$f":"EmpDetail!C91","v":0},{"$f":"EmpDetail!D91","v":0},{"$f":"EmpDetail!E91","v":"00:00:00"},{"$error":"#NUM!"}]
[null,null,null,null,null,null,null,null,null,null,null,null,89,{"$f":"EmpDetail!B92","v":0},{"$f":"EmpDetail!C92","v":0},{"$f":"EmpDetail!D92","v":0},{"$f":"EmpDetail!E92","v":"00:00:00"},{"$error":"#NUM!"}]
[null,null,null,null,null,null,null,null,null,null,null,null,90,{"$f":"EmpDetail!B93","v":0},{"$f":"EmpDetail!C93","v":0},{"$f":"EmpDetail!D93","v":0},{"$f":"EmpDetail!E93","v":"00:00:00"},{"$error":"#NUM!"}]
[null,null,null,null,null,null,null,null,null,null,null,null,91,{"$f":"EmpDetail!B94","v":0},{"$f":"EmpDetail!C94","v":0},{"$f":"EmpDetail!D94","v":0},{"$f":"EmpDetail!E94","v":"00:00:00"},{"$error":"#NUM!"}]
[null,null,null,null,null,null,null,null,null,null,null,null,92,{"$f":"EmpDetail!B95","v":0},{"$f":"EmpDetail!C95","v":0},{"$f":"EmpDetail!D95","v":0},{"$f":"EmpDetail!E95","v":"00:00:00"},{"$error":"#NUM!"}]
[null,null,null,null,null,null,null,null,null,null,null,null,93,{"$f":"EmpDetail!B96","v":0},{"$f":"EmpDetail!C96","v":0},{"$f":"EmpDetail!D96","v":0},{"$f":"EmpDetail!E96","v":"00:00:00"},{"$error":"#NUM!"}]
[null,null,null,null,null,null,null,null,null,null,null,null,94,{"$f":"EmpDetail!B97","v":0},{"$f":"EmpDetail!C97","v":0},{"$f":"EmpDetail!D97","v":0},{"$f":"EmpDetail!E97","v":"00:00:00"},{"$error":"#NUM!"}]
[null,null,null,null,null,null,null,null,null,null,null,null,95,{"$f":"EmpDetail!B98","v":0},{"$f":"EmpDetail!C98","v":0},{"$f":"EmpDetail!D98","v":0},{"$f":"EmpDetail!E98","v":"00:00:00"},{"$error":"#NUM!"}]
[null,null,null,null,null,null,null,null,null,null,null,null,96,{"$f":"EmpDetail!B99","v":0},{"$f":"EmpDetail!C99","v":0},{"$f":"EmpDetail!D99","v":0},{"$f":"EmpDetail!E99","v":"00:00:00"},{"$error":"#NUM!"}]
[null,null,null,null,null,null,null,null,null,null,null,null,97,{"$f":"EmpDetail!B100","v":0},{"$f":"EmpDetail!C100","v":0},{"$f":"EmpDetail!D100","v":0},{"$f":"EmpDetail!E100","v":"00:00:00"},{"$error":"#NUM!"}]
[null,null,null,null,null,null,null,null,null,null,null,null,98,{"$f":"EmpDetail!B101","v":0},{"$f":"EmpDetail!C101","v":0},{"$f":"EmpDetail!D101","v":0},{"$f":"EmpDetail!E101","v":"00:00:00"},{"$error":"#NUM!"}]
[null,null,null,null,null,null,null,null,null,null,null,null,99,{"$f":"EmpDetail!B102","v":0},{"$f":"EmpDetail!C102","v":0},{"$f":"EmpDetail!D102","v":0},{"$f":"EmpDetail!E102","v":"00:00:00"},{"$error":"#NUM!"}]
[null,null,null,null,null,null,null,null,null,null,null,null,100,{"$f":"EmpDetail!B103","v":0},{"$f":"EmpDetail!C103","v":0},{"$f":"EmpDetail!D103","v":0},{"$f":"EmpDetail!E103","v":"00:00:00"},{"$error":"#NUM!"}]

{"sheet":"EOL Comp","index":39,"n_rows":104,"n_cols":22,"rows_kept":104,"cut":false,"hidden":true,"merged":[[27,8,27,9],[27,0,27,3],[27,4,27,6],[25,0,25,10],[24,0,24,10],[5,0,5,5],[6,0,6,10],[7,0,7,6],[8,0,8,9],[10,1,10,9],[0,0,0,9],[1,0,1,9],[2,0,2,9],[3,0,3,9],[4,1,4,2],[4,4,4,5],[4,6,4,7],[4,8,4,10],[6,12,6,14],[33,3,33,8],[38,8,38,10],[39,8,39,10],[40,8,40,10],[11,1,11,8],[12,1,12,8],[13,1,13,8],[15,1,15,2],[15,4,15,10],[28,7,28,10],[32,3,32,8],[34,3,34,8],[16,0,16,7],[20,8,20,9],[21,8,21,9]]}
["izi= &9 ¼ nsf[k, fu;e 81 ¼1½ ¼d½ ¼vi½ ½"]
["lsok dh fofufnZ\"V vof/k dks isa'ku ;ksX; vof/k fxus tkus ds fy,"]
["deZpkjh }kjk /kks\"k.kk dk izi="]
["¼lknk dkxt ij ½",null,null,null,null,null,null,null,null,null,null,null,null,null,null,null,{"$f":"IF(ISNA(VLOOKUP($N8,$P$5:$V$104,2,FALSE)),\"\",VLOOKUP($N8,$P$5:$V$104,2,FALSE))","v":"d`\".kk xaxoky"},{"$f":"IF(ISNA(VLOOKUP($N8,$P$5:$V$104,3,FALSE)),\"\",VLOOKUP($N8,$P$5:$V$104,3,FALSE))","v":"अध्यापक ग्रेड III"},{"$f":"IF(ISNA(VLOOKUP($N8,$P$5:$V$104,4,FALSE)),\"\",VLOOKUP($N8,$P$5:$V$104,4,FALSE))","v":"राउप्रावि गोरधनपुरा"},{"$f":"IF(ISNA(VLOOKUP($N8,$P$5:$V$104,6,FALSE)),\"\",VLOOKUP($N8,$P$5:$V$104,6,FALSE))","v":"2018-12-21"},{"$f":"IF(ISNA(VLOOKUP($N8,$P$5:$V$104,7,FALSE)),\"\",VLOOKUP($N8,$P$5:$V$104,7,FALSE))","v":"2055-06-30"}]
["  eSa ",{"$f":"Q4","v":"d`\".kk xaxoky"},null,"firk@ifr Jh","tXxk yky cSjok",null,{"$f":"R4","v":"अध्यापक ग्रेड III"},null,"in ij dk;Z dj jgk gqWa ,rn~ }kjk ",null,null,null,null,null,null,1,{"$f":"EmpDetail!B4","v":"fd'ku yky cSjok"},{"$f":"EmpDetail!C4","v":"प्रधानाचार्य"},{"$f":"EmpDetail!D4","v":"राउमावि चौगाई"},{"$f":"EmpDetail!E4","v":"1962-01-10"},{"$f":"EmpDetail!F4","v":"00:00:00"},{"$f":"IF(T5=\"\",\"\",DATE(YEAR(T5-1)+60,(MONTH(T5-1))+1,0))","v":"2022-01-31"}]
["?kks\"k.kk djrk gqWa fd eSus jkT; ljdkj dh lsok fnaukd  ",null,null,null,null,null,{"$f":"T4","v":"2018-12-21"},"ls ",{"$f":"U4","v":"2055-06-30"},"rd gS rFkk bl ",null,null,null,null,null,2,{"$f":"EmpDetail!B5","v":"iwj.k pUn y{kdkj"},{"$f":"EmpDetail!C5","v":"व्याख्याता"},{"$f":"EmpDetail!D5","v":"राउमावि चौगाई"},{"$f":"EmpDetail!E5","v":"1971-07-08"},{"$f":"EmpDetail!F5","v":"00:00:00"},{"$f":"IF(T6=\"\",\"\",DATE(YEAR(T6-1)+60,(MONTH(T6-1))+1,0))","v":"2031-07-31"}]
["vof/k eSa esus fofHkUu ¼foHkkx½ es fofHkUu in ij dk;Z fd;k gS A fu;eksa ds v/khu mDr vof/k isa'ku ds fy, vgZdkjh vof/k Fkh ",null,null,null,null,null,null,null,null,null,null,null,"dkfeZd dk dzekad fy[ksa",null,null,3,{"$f":"EmpDetail!B6","v":"jktsUnz dqekj tSu"},{"$f":"EmpDetail!C6","v":"व्याख्याता"},{"$f":"EmpDetail!D6","v":"राउमावि चौगाई"},{"$f":"EmpDetail!E6","v":"1968-09-14"},{"$f":"EmpDetail!F6","v":"00:00:00"},"2028-09-30"]
["rFkk ml vof/k esa fdlh izdkj dk dksbZ Hkax@O;o/kku ugh Fkk A",null,null,null,null,null,null,null,null,null,null,null,null,33,null,4,{"$f":"EmpDetail!B7","v":"fd'ku yky cSjok"},{"$f":"EmpDetail!C7","v":"व्याख्याता"},{"$f":"EmpDetail!D7","v":"राउमावि चौगाई"},{"$f":"EmpDetail!E7","v":"1974-07-07"},{"$f":"EmpDetail!F7","v":"00:00:00"},"2034-07-31"]
["nLrkosth lk{; rFkk vU; lwpuk tks esjh 'kfDr ds Hkhrj gS dh ;k nh tk ldrh gS uhps lwph ds vuqlkj layXu gSA",null,null,null,null,null,null,null,null,null,null,null,null,null,null,5,{"$f":"EmpDetail!B8","v":"lR;ukjk;.k 'kekZ"},{"$f":"EmpDetail!C8","v":"वरिष्ठ अध्यापक"},{"$f":"EmpDetail!D8","v":"राउमावि चौगाई"},{"$f":"EmpDetail!E8","v":"1962-07-01"},{"$f":"EmpDetail!F8","v":"00:00:00"},"2022-06-30"]
[null,null,null,null,null,null,null,null,null,null,null,null,null,null,null,6,{"$f":"EmpDetail!B9","v":"iq\"ik tSu"},{"$f":"EmpDetail!C9","v":"वरिष्ठ अध्यापक"},{"$f":"EmpDetail!D9","v":"राउमावि चौगाई"},{"$f":"EmpDetail!E9","v":"1964-04-10"},{"$f":"EmpDetail!F9","v":"00:00:00"},"2024-04-30"]
["1-","lsokfHkys[k ds vuqlkj ",null,null,null,null,null,null,null,null,null,null,null,null,null,7,{"$f":"EmpDetail!B10","v":"vk'kkjke eh.kk"},{"$f":"EmpDetail!C10","v":"वरिष्ठ अध्यापक"},{"$f":"EmpDetail!D10","v":"राउमावि चौगाई"},{"$f":"EmpDetail!E10","v":"1978-06-11"},{"$f":"EmpDetail!F10","v":"00:00:00"},"2038-06-30"]
["2-","-----------------------------------------------------------------------------------------------------------------------------------------------------------------------------------------",null,null,null,null,null,null,null,null,null,null,null,null,null,8,{"$f":"EmpDetail!B11","v":"t;iky flag"},{"$f":"EmpDetail!C11","v":"वरिष्ठ अध्यापक"},{"$f":"EmpDetail!D11","v":"राउमावि चौगाई"},{"$f":"EmpDetail!E11","v":"1972-02-02"},{"$f":"EmpDetail!F11","v":"00:00:00"},"2032-02-29"]
["3-","-----------------------------------------------------------------------------------------------------------------------------------------------------------------------------------------",null,null,null,null,null,null,null,null,null,null,null,null,null,9,{"$f":"EmpDetail!B12","v":"jkeizlkn jsxj"},{"$f":"EmpDetail!C12","v":"वरिष्ठ अध्यापक"},{"$f":"EmpDetail!D12","v":"राउमावि चौगाई"},{"$f":"EmpDetail!E12","v":"1978-06-01"},{"$f":"EmpDetail!F12","v":"00:00:00"},"2038-05-31"]
["4-","------------------------------------------------------------------------------------------------------------------------------------------------------------------------------------------",null,null,null,null,null,null,null,null,null,null,null,null,null,10,{"$f":"EmpDetail!B13","v":"egsUnz dqekj tkV"},{"$f":"EmpDetail!C13","v":"शारीरिक शिक्षक"},{"$f":"EmpDetail!D13","v":"राउमावि चौगाई"},{"$f":"EmpDetail!E13","v":"1976-01-30"},{"$f":"EmpDetail!F13","v":"00:00:00"},"2036-01-31"]
[null,null,null,null,null,null,null,null,null,null,null,null,null,null,null,11,{"$f":"EmpDetail!B14","v":"NksVw yky jsxj"},{"$f":"EmpDetail!C14","v":"अध्यापक ग्रेड III"},{"$f":"EmpDetail!D14","v":"राउमावि चौगाई"},{"$f":"EmpDetail!E14","v":"1967-07-10"},{"$f":"EmpDetail!F14","v":"00:00:00"},"2027-07-31"]
["  eSa ",{"$f":"B5","v":"d`\".kk xaxoky"},null,{"$f":"G5","v":"अध्यापक ग्रेड III"},"lR; fu\"Bk iwoZd izfrKk djrh @djrk gwWa rFkk /kks\"k.kk djrh djrk gwWa fd mi;ZqDr",null,null,null,null,null,null,null,null,null,null,12,{"$f":"EmpDetail!B15","v":"dUgS;k yky egkoj"},{"$f":"EmpDetail!C15","v":"अध्यापक ग्रेड III"},{"$f":"EmpDetail!D15","v":"राउमावि चौगाई"},{"$f":"EmpDetail!E15","v":"1962-04-05"},{"$f":"EmpDetail!F15","v":"00:00:00"},"2022-04-30"]
["lwpuk,sa esjh loksZre tkudkjh ,oa fo'okl ds vk/kkj ij lgh ,oa lR; gS A ",null,null,null,null,null,null,null,null,null,null,null,null,null,null,13,{"$f":"EmpDetail!B16","v":"prqHkqZt tkV"},{"$f":"EmpDetail!C16","v":"अध्यापक ग्रेड III"},{"$f":"EmpDetail!D16","v":"राउमावि चौगाई"},{"$f":"EmpDetail!E16","v":"1976-04-04"},{"$f":"EmpDetail!F16","v":"2005-04-13"},"2036-04-30"]
[null,null,null,null,null,null,null,null,null,null,null,null,null,null,null,14,{"$f":"EmpDetail!B17","v":"vklsQk [kku"},{"$f":"EmpDetail!C17","v":"अध्यापक ग्रेड III"},{"$f":"EmpDetail!D17","v":"राउमावि चौगाई"},{"$f":"EmpDetail!E17","v":"1971-01-10"},{"$f":"EmpDetail!F17","v":"00:00:00"},"2031-01-31"]
[null,null,null,null,null,null,null,null,null,null,null,null,null,null,null,15,{"$f":"EmpDetail!B18","v":"lq'khyk cSjok"},{"$f":"EmpDetail!C18","v":"कनिष्ठ सहायक"},{"$f":"EmpDetail!D18","v":"राउमावि चौगाई"},{"$f":"EmpDetail!E18","v":"1995-01-01"},{"$f":"EmpDetail!F18","v":"00:00:00"},"2054-12-31"]
[null,null,null,null,null,null,null,null,null,null,null,null,null,null,null,16,{"$f":"EmpDetail!B19","v":"txnh'k izlkn rsyh"},{"$f":"EmpDetail!C19","v":"सहायक कर्मचारी"},{"$f":"EmpDetail!D19","v":"राउमावि चौगाई"},{"$f":"EmpDetail!E19","v":"1962-06-04"},{"$f":"EmpDetail!F19","v":"00:00:00"},"2022-06-30"]
[null,null,null,null,null,null,null,null,{"$f":"B16","v":"d`\".kk xaxoky"},null,null,null,null,null,null,17,{"$f":"EmpDetail!B20","v":"jfoUnz dqekj tSu"},{"$f":"EmpDetail!C20","v":"अध्यापक ग्रेड III"},{"$f":"EmpDetail!D20","v":"राउप्रावि मोहिनी"},{"$f":"EmpDetail!E20","v":"1967-08-24"},{"$f":"EmpDetail!F20","v":"00:00:00"},"2027-08-31"]
[null,null,null,null,null,null,null,null,"'kiFk xzghrk ds gLrk{kj",null,null,null,null,null,null,18,{"$f":"EmpDetail!B21","v":" ';ke lqUnj ckxkSM"},{"$f":"EmpDetail!C21","v":"अध्यापक ग्रेड III"},{"$f":"EmpDetail!D21","v":"राउप्रावि मोहिनी"},{"$f":"EmpDetail!E21","v":"1983-08-10"},{"$f":"EmpDetail!F21","v":"00:00:00"},"2043-08-31"]
[null,null,null,null,null,null,null,null,null,null,null,null,null,null,null,19,{"$f":"EmpDetail!B22","v":"d`\".kk 'kekZ"},{"$f":"EmpDetail!C22","v":"प्रबोधक"},{"$f":"EmpDetail!D22","v":"राउप्रावि मोहिनी"},{"$f":"EmpDetail!E22","v":"1972-08-06"},{"$f":"EmpDetail!F22","v":"00:00:00"},"2032-08-31"]
[null,null,null,null,null,null,null,null,null,null,null,null,null,null,null,20,{"$f":"EmpDetail!B23","v":"/keZsUnz pkS/kjh"},{"$f":"EmpDetail!C23","v":"अध्यापक ग्रेड III"},{"$f":"EmpDetail!D23","v":"राउप्रावि गोरधनपुरा"},{"$f":"EmpDetail!E23","v":"1990-03-05"},{"$f":"EmpDetail!F23","v":"00:00:00"},"2050-03-31"]
["izi= & 9 ^d^ ¼ nsf[k, fu;e 81 ¼I½ ¼d½ ¼vii½ ½",null,null,null,null,null,null,null,null,null,null,null,null,null,null,21,{"$f":"EmpDetail!B24","v":"izgykn ekyh"},{"$f":"EmpDetail!C24","v":"प्रबोधक"},{"$f":"EmpDetail!D24","v":"राउप्रावि गोरधनपुरा"},{"$f":"EmpDetail!E24","v":"1974-08-07"},{"$f":"EmpDetail!F24","v":"00:00:00"},"2034-08-31"]
["ljdkjh deZpkjh dh /kks\"k.kk vkfn ds vk/kkj ij isa'ku ds fy, lsok dks Lohdkj djus gsrq vkns'k dk izi=",null,null,null,null,null,null,null,null,null,null,null,null,null,null,22,{"$f":"EmpDetail!B25","v":"jken;ky xqtZj"},{"$f":"EmpDetail!C25","v":"प्रबोधक"},{"$f":"EmpDetail!D25","v":"राउप्रावि सोंदीफल"},{"$f":"EmpDetail!E25","v":"1977-08-18"},{"$f":"EmpDetail!F25","v":"00:00:00"},"2037-08-31"]
["dzekad&",{"$f":"Master!H3&Master!I3&Master!J3&Master!E3&\"/\"","v":"राउमावि/चौगाई/संस्था/2021-22/"},null,null,null,null,null,null,"fnukad&",{"$f":"TODAY()","v":"2021-06-19"},null,null,null,null,null,23,{"$f":"EmpDetail!B26","v":"vkSeizdk'k tkV"},{"$f":"EmpDetail!C26","v":"अध्यापक ग्रेड III"},{"$f":"EmpDetail!D26","v":"राउप्रावि सोंदीफल"},{"$f":"EmpDetail!E26","v":"1982-10-31"},{"$f":"EmpDetail!F26","v":"00:00:00"},"2042-10-31"]
["            izekf.kr fd;k tkrk gS fd Jh@Jhefr",null,null,null,{"$f":"B16","v":"d`\".kk xaxoky"},null,null,"tks orZeku esa",{"$f":"D16","v":"अध्यापक ग्रेड III"},null,null,null,null,null,null,24,{"$f":"EmpDetail!B27","v":"vthr flag"},{"$f":"EmpDetail!C27","v":"अध्यापक ग्रेड III"},{"$f":"EmpDetail!D27","v":"राप्रावि जानकीवल्लभपुरा"},{"$f":"EmpDetail!E27","v":"1987-08-08"},{"$f":"EmpDetail!F27","v":"00:00:00"},"2047-08-31"]
["in ij dk;Z dj jgs gS }kjk fofHkUu in ij fnaukd ",null,null,null,{"$f":"G6","v":"2018-12-21"},"ls",{"$f":"I6","v":"2055-06-30"},"rd dh xbZ lsok dks ljdkjh deZpkjh dh ias'ku",null,null,null,null,null,null,null,25,{"$f":"EmpDetail!B28","v":"eq[rkj eha;k"},{"$f":"EmpDetail!C28","v":"प्रबोधक"},{"$f":"EmpDetail!D28","v":"राप्रावि जानकीवल्लभपुरा"},{"$f":"EmpDetail!E28","v":"1976-07-04"},{"$f":"EmpDetail!F28","v":"00:00:00"},"2036-07-31"]
["lax.kuk ds fy, fujUrj ,oa vgdkjh lsok ds :i esa Lohdkj dj fy;k x;k gS A eSaus lek/kku dj fy;k gS fd mDr ",null,null,null,null,null,null,null,null,null,null,null,null,null,null,26,{"$f":"EmpDetail!B29","v":"eks0 tehy "},{"$f":"EmpDetail!C29","v":"प्रबोधक"},{"$f":"EmpDetail!D29","v":"राप्रावि रसूलपुरा"},{"$f":"EmpDetail!E29","v":"1968-09-15"},{"$f":"EmpDetail!F29","v":"00:00:00"},"2028-09-30"]
["vof/k esa fuEu ds flok; dksbZ O;o/kku ugh gqvk gS A ",null,null,null,null,null,null,null,null,null,null,null,null,null,null,27,{"$f":"EmpDetail!B30","v":"lkaojey tkV"},{"$f":"EmpDetail!C30","v":"अध्यापक ग्रेड III"},{"$f":"EmpDetail!D30","v":"राप्रावि रसूलपुरा"},{"$f":"EmpDetail!E30","v":"1992-03-03"},{"$f":"EmpDetail!F30","v":"00:00:00"},"2052-03-31"]
[null,null,null,null,null,null,null,null,null,null,null,null,null,null,null,28,{"$f":"EmpDetail!B31","v":"pkS/kjh eksuk jkekorkj"},{"$f":"EmpDetail!C31","v":"अध्यापक ग्रेड III"},{"$f":"EmpDetail!D31","v":"राप्रावि मोहिनी ढाणी बाढ"},{"$f":"EmpDetail!E31","v":"1990-01-05"},{"$f":"EmpDetail!F31","v":"00:00:00"},"2050-01-31"]
[1,"fnaukd ",null," 'kwU; ls 'kwU; rd",null,null,null,null,null,null,null,null,null,null,null,29,{"$f":"EmpDetail!B32","v":"rkjkpUn tk;loky"},{"$f":"EmpDetail!C32","v":"प्रबोधक"},{"$f":"EmpDetail!D32","v":"राप्रावि मोहिनी ढाणी बाढ"},{"$f":"EmpDetail!E32","v":"1976-11-11"},{"$f":"EmpDetail!F32","v":"00:00:00"},"2036-11-30"]
[2,"fnukad",null," 'kwU; ls 'kwU; rd",null,null,null,null,null,null,null,null,null,null,null,30,{"$f":"EmpDetail!B33","v":"jketl ;kno"},{"$f":"EmpDetail!C33","v":"अध्यापक ग्रेड III"},{"$f":"EmpDetail!D33","v":"राप्रावि बैरवा ढाणी सोन्दीफल"},{"$f":"EmpDetail!E33","v":"1970-06-12"},{"$f":"EmpDetail!F33","v":"00:00:00"},"2030-06-30"]
[3,"fnaukd ",null," 'kwU; ls 'kwU; rd",null,null,null,null,null,null,null,null,null,null,null,31,{"$f":"EmpDetail!B34","v":"dtksMey eh.kk"},{"$f":"EmpDetail!C34","v":"अध्यापक ग्रेड III"},{"$f":"EmpDetail!D34","v":"राप्रावि बैरवा ढाणी सोन्दीफल"},{"$f":"EmpDetail!E34","v":"1990-07-01"},{"$f":"EmpDetail!F34","v":"00:00:00"},"2050-06-30"]
[null,null,null,null,null,null,null,null,null,null,null,null,null,null,null,32,{"$f":"EmpDetail!B35","v":"/kaut; xkSRre"},{"$f":"EmpDetail!C35","v":"अध्यापक ग्रेड III"},{"$f":"EmpDetail!D35","v":"राउप्रावि गोरधनपुरा"},{"$f":"EmpDetail!E35","v":"1986-08-25"},{"$f":"EmpDetail!F35","v":"2018-04-03"},"2046-08-31"]
[null,"fnaukd %& ",{"$f":"J27","v":"2021-06-19"},null,null,null,null,null,null,null,null,null,null,null,null,33,{"$f":"EmpDetail!B36","v":"d`\".kk xaxoky"},{"$f":"EmpDetail!C36","v":"अध्यापक ग्रेड III"},{"$f":"EmpDetail!D36","v":"राउप्रावि गोरधनपुरा"},{"$f":"EmpDetail!E36","v":"1995-06-20"},{"$f":"EmpDetail!F36","v":"2018-12-21"},"2055-06-30"]
[null,null,null,null,null,null,null,null,null,null,null,null,null,null,null,34,{"$f":"EmpDetail!B37","v":"n'kjFk dqekj ;kno"},{"$f":"EmpDetail!C37","v":"अध्यापक ग्रेड III"},{"$f":"EmpDetail!D37","v":"राउप्रावि सोंदीफल"},{"$f":"EmpDetail!E37","v":"1991-01-01"},{"$f":"EmpDetail!F37","v":"2018-09-29"},"2050-12-31"]
[null,null,null,null,null,null,null,null,{"$f":"Master!B2","v":"प्रधानाचार्य"},null,null,null,null,null,null,35,{"$f":"EmpDetail!B38","v":"d`\".k yky tkV"},{"$f":"EmpDetail!C38","v":"अध्यापक ग्रेड III"},{"$f":"EmpDetail!D38","v":"राउप्रावि सोंदीफल"},{"$f":"EmpDetail!E38","v":"1990-07-18"},{"$f":"EmpDetail!F38","v":"2018-10-02"},"2050-07-31"]
[null,null,null,null,null,null,null,null,{"$f":"Master!B3","v":"राजकीय उच्च माध्यमिक विद्यालय "},null,null,null,null,null,null,36,{"$f":"EmpDetail!B39","v":"nhisUnz dqekj iztkir"},{"$f":"EmpDetail!C39","v":"अध्यापक ग्रेड III"},{"$f":"EmpDetail!D39","v":"राउप्रावि सोंदीफल"},{"$f":"EmpDetail!E39","v":"1994-07-12"},{"$f":"EmpDetail!F39","v":"2018-12-28"},"2054-07-31"]
[null,null,null,null,null,null,null,null,{"$f":"Master!B4","v":"चौगाई]टोंक"},null,null,null,null,null,null,37,{"$f":"EmpDetail!B40","v":"uohu dqekj"},{"$f":"EmpDetail!C40","v":"अध्यापक ग्रेड III"},{"$f":"EmpDetail!D40","v":"राउप्रावि मोहिनी"},{"$f":"EmpDetail!E40","v":"1995-04-13"},{"$f":"EmpDetail!F40","v":"2018-12-21"},"2055-04-30"]
[null,null,null,null,null,null,null,null,null,null,null,null,null,null,null,38,{"$f":"EmpDetail!B41","v":"ehrs'k dqekj 'kekZ"},{"$f":"EmpDetail!C41","v":"अध्यापक ग्रेड III"},{"$f":"EmpDetail!D41","v":"राउप्रावि मोहिनी"},{"$f":"EmpDetail!E41","v":"1989-08-13"},{"$f":"EmpDetail!F41","v":"2018-04-02"},"2049-08-31"]
[null,null,null,null,null,null,null,null,null,null,null,null,null,null,null,39,{"$f":"EmpDetail!B42","v":"eUtw eh.kk"},{"$f":"EmpDetail!C42","v":"वरिष्ठ अध्यापक"},{"$f":"EmpDetail!D42","v":"राउप्रावि गोरधनपुरा"},{"$f":"EmpDetail!E42","v":"1991-01-06"},{"$f":"EmpDetail!F42","v":"2018-09-28"},"2051-01-31"]
[null,null,null,null,null,null,null,null,null,null,null,null,null,null,null,40,{"$f":"EmpDetail!B43","v":"eatw pkS/kjh"},{"$f":"EmpDetail!C43","v":"वरिष्ठ अध्यापक"},{"$f":"EmpDetail!D43","v":"राउप्रावि सोंदीफल"},{"$f":"EmpDetail!E43","v":"1991-08-04"},{"$f":"EmpDetail!F43","v":"2020-09-29"},"2051-08-31"]
[null,null,null,null,null,null,null,null,null,null,null,null,null,null,null,41,{"$f":"EmpDetail!B44","v":0},{"$f":"EmpDetail!C44","v":0},{"$f":"EmpDetail!D44","v":0},{"$f":"EmpDetail!E44","v":"00:00:00"},{"$f":"EmpDetail!F44","v":"00:00:00"},{"$error":"#NUM!"}]
[null,null,null,null,null,null,null,null,null,null,null,null,null,null,null,42,{"$f":"EmpDetail!B45","v":0},{"$f":"EmpDetail!C45","v":0},{"$f":"EmpDetail!D45","v":0},{"$f":"EmpDetail!E45","v":"00:00:00"},{"$f":"EmpDetail!F45","v":"00:00:00"},{"$error":"#NUM!"}]
[null,null,null,null,null,null,null,null,null,null,null,null,null,null,null,43,{"$f":"EmpDetail!B46","v":0},{"$f":"EmpDetail!C46","v":0},{"$f":"EmpDetail!D46","v":0},{"$f":"EmpDetail!E46","v":"00:00:00"},{"$f":"EmpDetail!F46","v":"00:00:00"},{"$error":"#NUM!"}]
[null,null,null,null,null,null,null,null,null,null,null,null,null,null,null,44,{"$f":"EmpDetail!B47","v":0},{"$f":"EmpDetail!C47","v":0},{"$f":"EmpDetail!D47","v":0},{"$f":"EmpDetail!E47","v":"00:00:00"},{"$f":"EmpDetail!F47","v":"00:00:00"},{"$error":"#NUM!"}]
[null,null,null,null,null,null,null,null,null,null,null,null,null,null,null,45,{"$f":"EmpDetail!B48","v":0},{"$f":"EmpDetail!C48","v":0},{"$f":"EmpDetail!D48","v":0},{"$f":"EmpDetail!E48","v":"00:00:00"},{"$f":"EmpDetail!F48","v":"00:00:00"},{"$error":"#NUM!"}]
[null,null,null,null,null,null,null,null,null,null,null,null,null,null,null,46,{"$f":"EmpDetail!B49","v":0},{"$f":"EmpDetail!C49","v":0},{"$f":"EmpDetail!D49","v":0},{"$f":"EmpDetail!E49","v":"00:00:00"},{"$f":"EmpDetail!F49","v":"00:00:00"},{"$error":"#NUM!"}]
[null,null,null,null,null,null,null,null,null,null,null,null,null,null,null,47,{"$f":"EmpDetail!B50","v":0},{"$f":"EmpDetail!C50","v":0},{"$f":"EmpDetail!D50","v":0},{"$f":"EmpDetail!E50","v":"00:00:00"},{"$f":"EmpDetail!F50","v":"00:00:00"},{"$error":"#NUM!"}]
[null,null,null,null,null,null,null,null,null,null,null,null,null,null,null,48,{"$f":"EmpDetail!B51","v":0},{"$f":"EmpDetail!C51","v":0},{"$f":"EmpDetail!D51","v":0},{"$f":"EmpDetail!E51","v":"00:00:00"},{"$f":"EmpDetail!F51","v":"00:00:00"},{"$error":"#NUM!"}]
[null,null,null,null,null,null,null,null,null,null,null,null,null,null,null,49,{"$f":"EmpDetail!B52","v":0},{"$f":"EmpDetail!C52","v":0},{"$f":"EmpDetail!D52","v":0},{"$f":"EmpDetail!E52","v":"00:00:00"},{"$f":"EmpDetail!F52","v":"00:00:00"},{"$error":"#NUM!"}]
[null,null,null,null,null,null,null,null,null,null,null,null,null,null,null,50,{"$f":"EmpDetail!B53","v":0},{"$f":"EmpDetail!C53","v":0},{"$f":"EmpDetail!D53","v":0},{"$f":"EmpDetail!E53","v":"00:00:00"},{"$f":"EmpDetail!F53","v":"00:00:00"},{"$error":"#NUM!"}]
[null,null,null,null,null,null,null,null,null,null,null,null,null,null,null,51,{"$f":"EmpDetail!B54","v":0},{"$f":"EmpDetail!C54","v":0},{"$f":"EmpDetail!D54","v":0},{"$f":"EmpDetail!E54","v":"00:00:00"},{"$f":"EmpDetail!F54","v":"00:00:00"},{"$error":"#NUM!"}]
[null,null,null,null,null,null,null,null,null,null,null,null,null,null,null,52,{"$f":"EmpDetail!B55","v":0},{"$f":"EmpDetail!C55","v":0},{"$f":"EmpDetail!D55","v":0},{"$f":"EmpDetail!E55","v":"00:00:00"},{"$f":"EmpDetail!F55","v":"00:00:00"},{"$error":"#NUM!"}]
[null,null,null,null,null,null,null,null,null,null,null,null,null,null,null,53,{"$f":"EmpDetail!B56","v":0},{"$f":"EmpDetail!C56","v":0},{"$f":"EmpDetail!D56","v":0},{"$f":"EmpDetail!E56","v":"00:00:00"},{"$f":"EmpDetail!F56","v":"00:00:00"},{"$error":"#NUM!"}]
[null,null,null,null,null,null,null,null,null,null,null,null,null,null,null,54,{"$f":"EmpDetail!B57","v":0},{"$f":"EmpDetail!C57","v":0},{"$f":"EmpDetail!D57","v":0},{"$f":"EmpDetail!E57","v":"00:00:00"},{"$f":"EmpDetail!F57","v":"00:00:00"},{"$error":"#NUM!"}]
[null,null,null,null,null,null,null,null,null,null,null,null,null,null,null,55,{"$f":"EmpDetail!B58","v":0},{"$f":"EmpDetail!C58","v":0},{"$f":"EmpDetail!D58","v":0},{"$f":"EmpDetail!E58","v":"00:00:00"},{"$f":"EmpDetail!F58","v":"00:00:00"},{"$error":"#NUM!"}]
[null,null,null,null,null,null,null,null,null,null,null,null,null,null,null,56,{"$f":"EmpDetail!B59","v":0},{"$f":"EmpDetail!C59","v":0},{"$f":"EmpDetail!D59","v":0},{"$f":"EmpDetail!E59","v":"00:00:00"},{"$f":"EmpDetail!F59","v":"00:00:00"},{"$error":"#NUM!"}]
[null,null,null,null,null,null,null,null,null,null,null,null,null,null,null,57,{"$f":"EmpDetail!B60","v":0},{"$f":"EmpDetail!C60","v":0},{"$f":"EmpDetail!D60","v":0},{"$f":"EmpDetail!E60","v":"00:00:00"},{"$f":"EmpDetail!F60","v":"00:00:00"},{"$error":"#NUM!"}]
[null,null,null,null,null,null,null,null,null,null,null,null,null,null,null,58,{"$f":"EmpDetail!B61","v":0},{"$f":"EmpDetail!C61","v":0},{"$f":"EmpDetail!D61","v":0},{"$f":"EmpDetail!E61","v":"00:00:00"},{"$f":"EmpDetail!F61","v":"00:00:00"},{"$error":"#NUM!"}]
[null,null,null,null,null,null,null,null,null,null,null,null,null,null,null,59,{"$f":"EmpDetail!B62","v":0},{"$f":"EmpDetail!C62","v":0},{"$f":"EmpDetail!D62","v":0},{"$f":"EmpDetail!E62","v":"00:00:00"},{"$f":"EmpDetail!F62","v":"00:00:00"},{"$error":"#NUM!"}]
[null,null,null,null,null,null,null,null,null,null,null,null,null,null,null,60,{"$f":"EmpDetail!B63","v":0},{"$f":"EmpDetail!C63","v":0},{"$f":"EmpDetail!D63","v":0},{"$f":"EmpDetail!E63","v":"00:00:00"},{"$f":"EmpDetail!F63","v":"00:00:00"},{"$error":"#NUM!"}]
[null,null,null,null,null,null,null,null,null,null,null,null,null,null,null,61,{"$f":"EmpDetail!B64","v":0},{"$f":"EmpDetail!C64","v":0},{"$f":"EmpDetail!D64","v":0},{"$f":"EmpDetail!E64","v":"00:00:00"},{"$f":"EmpDetail!F64","v":"00:00:00"},{"$error":"#NUM!"}]
[null,null,null,null,null,null,null,null,null,null,null,null,null,null,null,62,{"$f":"EmpDetail!B65","v":0},{"$f":"EmpDetail!C65","v":0},{"$f":"EmpDetail!D65","v":0},{"$f":"EmpDetail!E65","v":"00:00:00"},{"$f":"EmpDetail!F65","v":"00:00:00"},{"$error":"#NUM!"}]
[null,null,null,null,null,null,null,null,null,null,null,null,null,null,null,63,{"$f":"EmpDetail!B66","v":0},{"$f":"EmpDetail!C66","v":0},{"$f":"EmpDetail!D66","v":0},{"$f":"EmpDetail!E66","v":"00:00:00"},{"$f":"EmpDetail!F66","v":"00:00:00"},{"$error":"#NUM!"}]
[null,null,null,null,null,null,null,null,null,null,null,null,null,null,null,64,{"$f":"EmpDetail!B67","v":0},{"$f":"EmpDetail!C67","v":0},{"$f":"EmpDetail!D67","v":0},{"$f":"EmpDetail!E67","v":"00:00:00"},{"$f":"EmpDetail!F67","v":"00:00:00"},{"$error":"#NUM!"}]
[null,null,null,null,null,null,null,null,null,null,null,null,null,null,null,65,{"$f":"EmpDetail!B68","v":0},{"$f":"EmpDetail!C68","v":0},{"$f":"EmpDetail!D68","v":0},{"$f":"EmpDetail!E68","v":"00:00:00"},{"$f":"EmpDetail!F68","v":"00:00:00"},{"$error":"#NUM!"}]
[null,null,null,null,null,null,null,null,null,null,null,null,null,null,null,66,{"$f":"EmpDetail!B69","v":0},{"$f":"EmpDetail!C69","v":0},{"$f":"EmpDetail!D69","v":0},{"$f":"EmpDetail!E69","v":"00:00:00"},{"$f":"EmpDetail!F69","v":"00:00:00"},{"$f":"IF(T70=\"\",\"\",DATE(YEAR(T70-1)+60,(MONTH(T70-1))+1,0))","v":{"$error":"#NUM!"}}]
[null,null,null,null,null,null,null,null,null,null,null,null,null,null,null,67,{"$f":"EmpDetail!B70","v":0},{"$f":"EmpDetail!C70","v":0},{"$f":"EmpDetail!D70","v":0},{"$f":"EmpDetail!E70","v":"00:00:00"},{"$f":"EmpDetail!F70","v":"00:00:00"},{"$error":"#NUM!"}]
[null,null,null,null,null,null,null,null,null,null,null,null,null,null,null,68,{"$f":"EmpDetail!B71","v":0},{"$f":"EmpDetail!C71","v":0},{"$f":"EmpDetail!D71","v":0},{"$f":"EmpDetail!E71","v":"00:00:00"},{"$f":"EmpDetail!F71","v":"00:00:00"},{"$error":"#NUM!"}]
[null,null,null,null,null,null,null,null,null,null,null,null,null,null,null,69,{"$f":"EmpDetail!B72","v":0},{"$f":"EmpDetail!C72","v":0},{"$f":"EmpDetail!D72","v":0},{"$f":"EmpDetail!E72","v":"00:00:00"},{"$f":"EmpDetail!F72","v":"00:00:00"},{"$error":"#NUM!"}]
[null,null,null,null,null,null,null,null,null,null,null,null,null,null,null,70,{"$f":"EmpDetail!B73","v":0},{"$f":"EmpDetail!C73","v":0},{"$f":"EmpDetail!D73","v":0},{"$f":"EmpDetail!E73","v":"00:00:00"},{"$f":"EmpDetail!F73","v":"00:00:00"},{"$error":"#NUM!"}]
[null,null,null,null,null,null,null,null,null,null,null,null,null,null,null,71,{"$f":"EmpDetail!B74","v":0},{"$f":"EmpDetail!C74","v":0},{"$f":"EmpDetail!D74","v":0},{"$f":"EmpDetail!E74","v":"00:00:00"},{"$f":"EmpDetail!F74","v":"00:00:00"},{"$error":"#NUM!"}]
[null,null,null,null,null,null,null,null,null,null,null,null,null,null,null,72,{"$f":"EmpDetail!B75","v":0},{"$f":"EmpDetail!C75","v":0},{"$f":"EmpDetail!D75","v":0},{"$f":"EmpDetail!E75","v":"00:00:00"},{"$f":"EmpDetail!F75","v":"00:00:00"},{"$error":"#NUM!"}]
[null,null,null,null,null,null,null,null,null,null,null,null,null,null,null,73,{"$f":"EmpDetail!B76","v":0},{"$f":"EmpDetail!C76","v":0},{"$f":"EmpDetail!D76","v":0},{"$f":"EmpDetail!E76","v":"00:00:00"},{"$f":"EmpDetail!F76","v":"00:00:00"},{"$error":"#NUM!"}]
[null,null,null,null,null,null,null,null,null,null,null,null,null,null,null,74,{"$f":"EmpDetail!B77","v":0},{"$f":"EmpDetail!C77","v":0},{"$f":"EmpDetail!D77","v":0},{"$f":"EmpDetail!E77","v":"00:00:00"},{"$f":"EmpDetail!F77","v":"00:00:00"},{"$error":"#NUM!"}]
[null,null,null,null,null,null,null,null,null,null,null,null,null,null,null,75,{"$f":"EmpDetail!B78","v":0},{"$f":"EmpDetail!C78","v":0},{"$f":"EmpDetail!D78","v":0},{"$f":"EmpDetail!E78","v":"00:00:00"},{"$f":"EmpDetail!F78","v":"00:00:00"},{"$error":"#NUM!"}]
[null,null,null,null,null,null,null,null,null,null,null,null,null,null,null,76,{"$f":"EmpDetail!B79","v":0},{"$f":"EmpDetail!C79","v":0},{"$f":"EmpDetail!D79","v":0},{"$f":"EmpDetail!E79","v":"00:00:00"},{"$f":"EmpDetail!F79","v":"00:00:00"},{"$error":"#NUM!"}]
[null,null,null,null,null,null,null,null,null,null,null,null,null,null,null,77,{"$f":"EmpDetail!B80","v":0},{"$f":"EmpDetail!C80","v":0},{"$f":"EmpDetail!D80","v":0},{"$f":"EmpDetail!E80","v":"00:00:00"},{"$f":"EmpDetail!F80","v":"00:00:00"},{"$error":"#NUM!"}]
[null,null,null,null,null,null,null,null,null,null,null,null,null,null,null,78,{"$f":"EmpDetail!B81","v":0},{"$f":"EmpDetail!C81","v":0},{"$f":"EmpDetail!D81","v":0},{"$f":"EmpDetail!E81","v":"00:00:00"},{"$f":"EmpDetail!F81","v":"00:00:00"},{"$error":"#NUM!"}]
[null,null,null,null,null,null,null,null,null,null,null,null,null,null,null,79,{"$f":"EmpDetail!B82","v":0},{"$f":"EmpDetail!C82","v":0},{"$f":"EmpDetail!D82","v":0},{"$f":"EmpDetail!E82","v":"00:00:00"},{"$f":"EmpDetail!F82","v":"00:00:00"},{"$error":"#NUM!"}]
[null,null,null,null,null,null,null,null,null,null,null,null,null,null,null,80,{"$f":"EmpDetail!B83","v":0},{"$f":"EmpDetail!C83","v":0},{"$f":"EmpDetail!D83","v":0},{"$f":"EmpDetail!E83","v":"00:00:00"},{"$f":"EmpDetail!F83","v":"00:00:00"},{"$error":"#NUM!"}]
[null,null,null,null,null,null,null,null,null,null,null,null,null,null,null,81,{"$f":"EmpDetail!B84","v":0},{"$f":"EmpDetail!C84","v":0},{"$f":"EmpDetail!D84","v":0},{"$f":"EmpDetail!E84","v":"00:00:00"},{"$f":"EmpDetail!F84","v":"00:00:00"},{"$error":"#NUM!"}]
[null,null,null,null,null,null,null,null,null,null,null,null,null,null,null,82,{"$f":"EmpDetail!B85","v":0},{"$f":"EmpDetail!C85","v":0},{"$f":"EmpDetail!D85","v":0},{"$f":"EmpDetail!E85","v":"00:00:00"},{"$f":"EmpDetail!F85","v":"00:00:00"},{"$error":"#NUM!"}]
[null,null,null,null,null,null,null,null,null,null,null,null,null,null,null,83,{"$f":"EmpDetail!B86","v":0},{"$f":"EmpDetail!C86","v":0},{"$f":"EmpDetail!D86","v":0},{"$f":"EmpDetail!E86","v":"00:00:00"},{"$f":"EmpDetail!F86","v":"00:00:00"},{"$error":"#NUM!"}]
[null,null,null,null,null,null,null,null,null,null,null,null,null,null,null,84,{"$f":"EmpDetail!B87","v":0},{"$f":"EmpDetail!C87","v":0},{"$f":"EmpDetail!D87","v":0},{"$f":"EmpDetail!E87","v":"00:00:00"},{"$f":"EmpDetail!F87","v":"00:00:00"},{"$error":"#NUM!"}]
[null,null,null,null,null,null,null,null,null,null,null,null,null,null,null,85,{"$f":"EmpDetail!B88","v":0},{"$f":"EmpDetail!C88","v":0},{"$f":"EmpDetail!D88","v":0},{"$f":"EmpDetail!E88","v":"00:00:00"},{"$f":"EmpDetail!F88","v":"00:00:00"},{"$error":"#NUM!"}]
[null,null,null,null,null,null,null,null,null,null,null,null,null,null,null,86,{"$f":"EmpDetail!B89","v":0},{"$f":"EmpDetail!C89","v":0},{"$f":"EmpDetail!D89","v":0},{"$f":"EmpDetail!E89","v":"00:00:00"},{"$f":"EmpDetail!F89","v":"00:00:00"},{"$error":"#NUM!"}]
[null,null,null,null,null,null,null,null,null,null,null,null,null,null,null,87,{"$f":"EmpDetail!B90","v":0},{"$f":"EmpDetail!C90","v":0},{"$f":"EmpDetail!D90","v":0},{"$f":"EmpDetail!E90","v":"00:00:00"},{"$f":"EmpDetail!F90","v":"00:00:00"},{"$error":"#NUM!"}]
[null,null,null,null,null,null,null,null,null,null,null,null,null,null,null,88,{"$f":"EmpDetail!B91","v":0},{"$f":"EmpDetail!C91","v":0},{"$f":"EmpDetail!D91","v":0},{"$f":"EmpDetail!E91","v":"00:00:00"},{"$f":"EmpDetail!F91","v":"00:00:00"},{"$error":"#NUM!"}]
[null,null,null,null,null,null,null,null,null,null,null,null,null,null,null,89,{"$f":"EmpDetail!B92","v":0},{"$f":"EmpDetail!C92","v":0},{"$f":"EmpDetail!D92","v":0},{"$f":"EmpDetail!E92","v":"00:00:00"},{"$f":"EmpDetail!F92","v":"00:00:00"},{"$error":"#NUM!"}]
[null,null,null,null,null,null,null,null,null,null,null,null,null,null,null,90,{"$f":"EmpDetail!B93","v":0},{"$f":"EmpDetail!C93","v":0},{"$f":"EmpDetail!D93","v":0},{"$f":"EmpDetail!E93","v":"00:00:00"},{"$f":"EmpDetail!F93","v":"00:00:00"},{"$error":"#NUM!"}]
[null,null,null,null,null,null,null,null,null,null,null,null,null,null,null,91,{"$f":"EmpDetail!B94","v":0},{"$f":"EmpDetail!C94","v":0},{"$f":"EmpDetail!D94","v":0},{"$f":"EmpDetail!E94","v":"00:00:00"},{"$f":"EmpDetail!F94","v":"00:00:00"},{"$error":"#NUM!"}]
[null,null,null,null,null,null,null,null,null,null,null,null,null,null,null,92,{"$f":"EmpDetail!B95","v":0},{"$f":"EmpDetail!C95","v":0},{"$f":"EmpDetail!D95","v":0},{"$f":"EmpDetail!E95","v":"00:00:00"},{"$f":"EmpDetail!F95","v":"00:00:00"},{"$error":"#NUM!"}]
[null,null,null,null,null,null,null,null,null,null,null,null,null,null,null,93,{"$f":"EmpDetail!B96","v":0},{"$f":"EmpDetail!C96","v":0},{"$f":"EmpDetail!D96","v":0},{"$f":"EmpDetail!E96","v":"00:00:00"},{"$f":"EmpDetail!F96","v":"00:00:00"},{"$error":"#NUM!"}]
[null,null,null,null,null,null,null,null,null,null,null,null,null,null,null,94,{"$f":"EmpDetail!B97","v":0},{"$f":"EmpDetail!C97","v":0},{"$f":"EmpDetail!D97","v":0},{"$f":"EmpDetail!E97","v":"00:00:00"},{"$f":"EmpDetail!F97","v":"00:00:00"},{"$error":"#NUM!"}]
[null,null,null,null,null,null,null,null,null,null,null,null,null,null,null,95,{"$f":"EmpDetail!B98","v":0},{"$f":"EmpDetail!C98","v":0},{"$f":"EmpDetail!D98","v":0},{"$f":"EmpDetail!E98","v":"00:00:00"},{"$f":"EmpDetail!F98","v":"00:00:00"},{"$error":"#NUM!"}]
[null,null,null,null,null,null,null,null,null,null,null,null,null,null,null,96,{"$f":"EmpDetail!B99","v":0},{"$f":"EmpDetail!C99","v":0},{"$f":"EmpDetail!D99","v":0},{"$f":"EmpDetail!E99","v":"00:00:00"},{"$f":"EmpDetail!F99","v":"00:00:00"},{"$error":"#NUM!"}]
[null,null,null,null,null,null,null,null,null,null,null,null,null,null,null,97,{"$f":"EmpDetail!B100","v":0},{"$f":"EmpDetail!C100","v":0},{"$f":"EmpDetail!D100","v":0},{"$f":"EmpDetail!E100","v":"00:00:00"},{"$f":"EmpDetail!F100","v":"00:00:00"},{"$error":"#NUM!"}]
[null,null,null,null,null,null,null,null,null,null,null,null,null,null,null,98,{"$f":"EmpDetail!B101","v":0},{"$f":"EmpDetail!C101","v":0},{"$f":"EmpDetail!D101","v":0},{"$f":"EmpDetail!E101","v":"00:00:00"},{"$f":"EmpDetail!F101","v":"00:00:00"},{"$error":"#NUM!"}]
[null,null,null,null,null,null,null,null,null,null,null,null,null,null,null,99,{"$f":"EmpDetail!B102","v":0},{"$f":"EmpDetail!C102","v":0},{"$f":"EmpDetail!D102","v":0},{"$f":"EmpDetail!E102","v":"00:00:00"},{"$f":"EmpDetail!F102","v":"00:00:00"},{"$error":"#NUM!"}]
[null,null,null,null,null,null,null,null,null,null,null,null,null,null,null,100,{"$f":"EmpDetail!B103","v":0},{"$f":"EmpDetail!C103","v":0},{"$f":"EmpDetail!D103","v":0},{"$f":"EmpDetail!E103","v":"00:00:00"},{"$f":"EmpDetail!F103","v":"00:00:00"},{"$error":"#NUM!"}]

{"sheet":"Govt Quart","index":40,"n_rows":104,"n_cols":18,"rows_kept":104,"cut":false,"hidden":true,"merged":[[4,9,4,11],[0,0,0,5],[2,0,2,5],[4,0,4,5],[5,1,5,2],[5,3,5,5],[12,3,12,5],[6,2,6,5],[7,0,7,5],[10,3,10,5],[11,3,11,5],[8,0,8,4]]}
[{"$f":"Master!G2&Master!H2","v":"कार्यालय&राजकीय उच्च माध्यमिक विद्यालय ]चौगाई]टोंक"}]
["dzekad&",{"$f":"Master!H3&Master!I3&Master!J3&Master!E3&\"/\"","v":"राउमावि/चौगाई/संस्था/2021-22/"},null,null,"fnukad&",{"$f":"TODAY()","v":"2021-06-19"}]
["vkokl vkaoVu lEcU/kh izek.k&iz="]
[null,null,null,null,null,null,null,null,null,null,null,null,null,{"$f":"IF(ISNA(VLOOKUP($K6,$M$5:$R$104,2,FALSE)),\"\",VLOOKUP($K6,$M$5:$R$104,2,FALSE))","v":"d`\".kk xaxoky"},{"$f":"IF(ISNA(VLOOKUP($K6,$M$5:$R$104,3,FALSE)),\"\",VLOOKUP($K6,$M$5:$R$104,3,FALSE))","v":"अध्यापक ग्रेड III"},{"$f":"IF(ISNA(VLOOKUP($K6,$M$5:$R$104,4,FALSE)),\"\",VLOOKUP($K6,$M$5:$R$104,4,FALSE))","v":"राउप्रावि गोरधनपुरा"},{"$f":"IF(ISNA(VLOOKUP($K6,$M$5:$R$104,6,FALSE)),\"\",VLOOKUP($K6,$M$5:$R$104,6,FALSE))","v":"2055-06-30"}]
[{"$f":"\"izekf.kr fd;k tkrk gS fd Jh@Jhefr \"&N4&\" inuke \"&O4","v":"izekf.kr fd;k tkrk gS fd Jh@Jhefr d`\".kk xaxoky inuke अध्यापक ग्रेड III"},null,null,null,null,null,null,null,null,"dkfeZd dk dzekad fy[ksa",null,null,1,{"$f":"EmpDetail!B4","v":"fd'ku yky cSjok"},{"$f":"EmpDetail!C4","v":"प्रधानाचार्य"},{"$f":"EmpDetail!D4","v":"राउमावि चौगाई"},{"$f":"EmpDetail!E4","v":"1962-01-10"},{"$f":"IF(Q5=\"\",\"\",DATE(YEAR(Q5-1)+60,(MONTH(Q5-1))+1,0))","v":"2022-01-31"}]
["inLFkkiu&",{"$f":"P4","v":"राउप्रावि गोरधनपुरा"},null,"dh vf/kokf\"kZdh vk;q iw.kZ gksus ls",null,null,null,null,null,null,33,null,2,{"$f":"EmpDetail!B5","v":"iwj.k pUn y{kdkj"},{"$f":"EmpDetail!C5","v":"व्याख्याता"},{"$f":"EmpDetail!D5","v":"राउमावि चौगाई"},{"$f":"EmpDetail!E5","v":"1971-07-08"},{"$f":"IF(Q6=\"\",\"\",DATE(YEAR(Q6-1)+60,(MONTH(Q6-1))+1,0))","v":"2031-07-31"}]
["fnukad&",{"$f":"Q4","v":"2055-06-30"},"dks jkT; lsok ls lsokfuo`Rr gks jgs@gks pqds gSA Jh@Jhefr",null,null,null,null,null,null,null,null,null,3,{"$f":"EmpDetail!B6","v":"jktsUnz dqekj tSu"},{"$f":"EmpDetail!C6","v":"व्याख्याता"},{"$f":"EmpDetail!D6","v":"राउमावि चौगाई"},{"$f":"EmpDetail!E6","v":"1968-09-14"},"2028-09-30"]
[{"$f":"N4&\"  dks iwoZ esa fdlh Hkh izdkj dk jktdh; vkokl vkoaVu ugha\"","v":"d`\".kk xaxoky  dks iwoZ esa fdlh Hkh izdkj dk jktdh; vkokl vkoaVu ugha"},null,null,null,null,null,null,null,null,null,null,null,4,{"$f":"EmpDetail!B7","v":"fd'ku yky cSjok"},{"$f":"EmpDetail!C7","v":"व्याख्याता"},{"$f":"EmpDetail!D7","v":"राउमावि चौगाई"},{"$f":"EmpDetail!E7","v":"1974-07-07"},"2034-07-31"]
["fd;k x;k gS vkSj uk gh iwoZ esa Lohd`r fd;k x;k gSA",null,null,null,null,null,null,null,null,null,null,null,5,{"$f":"EmpDetail!B8","v":"lR;ukjk;.k 'kekZ"},{"$f":"EmpDetail!C8","v":"वरिष्ठ अध्यापक"},{"$f":"EmpDetail!D8","v":"राउमावि चौगाई"},{"$f":"EmpDetail!E8","v":"1962-07-01"},"2022-06-30"]
[null,null,null,null,null,null,null,null,null,null,null,null,6,{"$f":"EmpDetail!B9","v":"iq\"ik tSu"},{"$f":"EmpDetail!C9","v":"वरिष्ठ अध्यापक"},{"$f":"EmpDetail!D9","v":"राउमावि चौगाई"},{"$f":"EmpDetail!E9","v":"1964-04-10"},"2024-04-30"]
[null,null,null,{"$f":"Master!B2","v":"प्रधानाचार्य"},null,null,null,null,null,null,null,null,7,{"$f":"EmpDetail!B10","v":"vk'kkjke eh.kk"},{"$f":"EmpDetail!C10","v":"वरिष्ठ अध्यापक"},{"$f":"EmpDetail!D10","v":"राउमावि चौगाई"},{"$f":"EmpDetail!E10","v":"1978-06-11"},"2038-06-30"]
[null,null,null,{"$f":"Master!B3","v":"राजकीय उच्च माध्यमिक विद्यालय "},null,null,null,null,null,null,null,null,8,{"$f":"EmpDetail!B11","v":"t;iky flag"},{"$f":"EmpDetail!C11","v":"वरिष्ठ अध्यापक"},{"$f":"EmpDetail!D11","v":"राउमावि चौगाई"},{"$f":"EmpDetail!E11","v":"1972-02-02"},"2032-02-29"]
[null,null,null,{"$f":"Master!B4","v":"चौगाई]टोंक"},null,null,null,null,null,null,null,null,9,{"$f":"EmpDetail!B12","v":"jkeizlkn jsxj"},{"$f":"EmpDetail!C12","v":"वरिष्ठ अध्यापक"},{"$f":"EmpDetail!D12","v":"राउमावि चौगाई"},{"$f":"EmpDetail!E12","v":"1978-06-01"},"2038-05-31"]
[null,null,null,null,null,null,null,null,null,null,null,null,10,{"$f":"EmpDetail!B13","v":"egsUnz dqekj tkV"},{"$f":"EmpDetail!C13","v":"शारीरिक शिक्षक"},{"$f":"EmpDetail!D13","v":"राउमावि चौगाई"},{"$f":"EmpDetail!E13","v":"1976-01-30"},"2036-01-31"]
[null,null,null,null,null,null,null,null,null,null,null,null,11,{"$f":"EmpDetail!B14","v":"NksVw yky jsxj"},{"$f":"EmpDetail!C14","v":"अध्यापक ग्रेड III"},{"$f":"EmpDetail!D14","v":"राउमावि चौगाई"},{"$f":"EmpDetail!E14","v":"1967-07-10"},"2027-07-31"]
[null,null,null,null,null,null,null,null,null,null,null,null,12,{"$f":"EmpDetail!B15","v":"dUgS;k yky egkoj"},{"$f":"EmpDetail!C15","v":"अध्यापक ग्रेड III"},{"$f":"EmpDetail!D15","v":"राउमावि चौगाई"},{"$f":"EmpDetail!E15","v":"1962-04-05"},"2022-04-30"]
[null,null,null,null,null,null,null,null,null,null,null,null,13,{"$f":"EmpDetail!B16","v":"prqHkqZt tkV"},{"$f":"EmpDetail!C16","v":"अध्यापक ग्रेड III"},{"$f":"EmpDetail!D16","v":"राउमावि चौगाई"},{"$f":"EmpDetail!E16","v":"1976-04-04"},"2036-04-30"]
[null,null,null,null,null,null,null,null,null,null,null,null,14,{"$f":"EmpDetail!B17","v":"vklsQk [kku"},{"$f":"EmpDetail!C17","v":"अध्यापक ग्रेड III"},{"$f":"EmpDetail!D17","v":"राउमावि चौगाई"},{"$f":"EmpDetail!E17","v":"1971-01-10"},"2031-01-31"]
[null,null,null,null,null,null,null,null,null,null,null,null,15,{"$f":"EmpDetail!B18","v":"lq'khyk cSjok"},{"$f":"EmpDetail!C18","v":"कनिष्ठ सहायक"},{"$f":"EmpDetail!D18","v":"राउमावि चौगाई"},{"$f":"EmpDetail!E18","v":"1995-01-01"},"2054-12-31"]
[null,null,null,null,null,null,null,null,null,null,null,null,16,{"$f":"EmpDetail!B19","v":"txnh'k izlkn rsyh"},{"$f":"EmpDetail!C19","v":"सहायक कर्मचारी"},{"$f":"EmpDetail!D19","v":"राउमावि चौगाई"},{"$f":"EmpDetail!E19","v":"1962-06-04"},"2022-06-30"]
[null,null,null,null,null,null,null,null,null,null,null,null,17,{"$f":"EmpDetail!B20","v":"jfoUnz dqekj tSu"},{"$f":"EmpDetail!C20","v":"अध्यापक ग्रेड III"},{"$f":"EmpDetail!D20","v":"राउप्रावि मोहिनी"},{"$f":"EmpDetail!E20","v":"1967-08-24"},"2027-08-31"]
[null,null,null,null,null,null,null,null,null,null,null,null,18,{"$f":"EmpDetail!B21","v":" ';ke lqUnj ckxkSM"},{"$f":"EmpDetail!C21","v":"अध्यापक ग्रेड III"},{"$f":"EmpDetail!D21","v":"राउप्रावि मोहिनी"},{"$f":"EmpDetail!E21","v":"1983-08-10"},"2043-08-31"]
[null,null,null,null,null,null,null,null,null,null,null,null,19,{"$f":"EmpDetail!B22","v":"d`\".kk 'kekZ"},{"$f":"EmpDetail!C22","v":"प्रबोधक"},{"$f":"EmpDetail!D22","v":"राउप्रावि मोहिनी"},{"$f":"EmpDetail!E22","v":"1972-08-06"},"2032-08-31"]
[null,null,null,null,null,null,null,null,null,null,null,null,20,{"$f":"EmpDetail!B23","v":"/keZsUnz pkS/kjh"},{"$f":"EmpDetail!C23","v":"अध्यापक ग्रेड III"},{"$f":"EmpDetail!D23","v":"राउप्रावि गोरधनपुरा"},{"$f":"EmpDetail!E23","v":"1990-03-05"},"2050-03-31"]
[null,null,null,null,null,null,null,null,null,null,null,null,21,{"$f":"EmpDetail!B24","v":"izgykn ekyh"},{"$f":"EmpDetail!C24","v":"प्रबोधक"},{"$f":"EmpDetail!D24","v":"राउप्रावि गोरधनपुरा"},{"$f":"EmpDetail!E24","v":"1974-08-07"},"2034-08-31"]
[null,null,null,null,null,null,null,null,null,null,null,null,22,{"$f":"EmpDetail!B25","v":"jken;ky xqtZj"},{"$f":"EmpDetail!C25","v":"प्रबोधक"},{"$f":"EmpDetail!D25","v":"राउप्रावि सोंदीफल"},{"$f":"EmpDetail!E25","v":"1977-08-18"},"2037-08-31"]
[null,null,null,null,null,null,null,null,null,null,null,null,23,{"$f":"EmpDetail!B26","v":"vkSeizdk'k tkV"},{"$f":"EmpDetail!C26","v":"अध्यापक ग्रेड III"},{"$f":"EmpDetail!D26","v":"राउप्रावि सोंदीफल"},{"$f":"EmpDetail!E26","v":"1982-10-31"},"2042-10-31"]
[null,null,null,null,null,null,null,null,null,null,null,null,24,{"$f":"EmpDetail!B27","v":"vthr flag"},{"$f":"EmpDetail!C27","v":"अध्यापक ग्रेड III"},{"$f":"EmpDetail!D27","v":"राप्रावि जानकीवल्लभपुरा"},{"$f":"EmpDetail!E27","v":"1987-08-08"},"2047-08-31"]
[null,null,null,null,null,null,null,null,null,null,null,null,25,{"$f":"EmpDetail!B28","v":"eq[rkj eha;k"},{"$f":"EmpDetail!C28","v":"प्रबोधक"},{"$f":"EmpDetail!D28","v":"राप्रावि जानकीवल्लभपुरा"},{"$f":"EmpDetail!E28","v":"1976-07-04"},"2036-07-31"]
[null,null,null,null,null,null,null,null,null,null,null,null,26,{"$f":"EmpDetail!B29","v":"eks0 tehy "},{"$f":"EmpDetail!C29","v":"प्रबोधक"},{"$f":"EmpDetail!D29","v":"राप्रावि रसूलपुरा"},{"$f":"EmpDetail!E29","v":"1968-09-15"},"2028-09-30"]
[null,null,null,null,null,null,null,null,null,null,null,null,27,{"$f":"EmpDetail!B30","v":"lkaojey tkV"},{"$f":"EmpDetail!C30","v":"अध्यापक ग्रेड III"},{"$f":"EmpDetail!D30","v":"राप्रावि रसूलपुरा"},{"$f":"EmpDetail!E30","v":"1992-03-03"},"2052-03-31"]
[null,null,null,null,null,null,null,null,null,null,null,null,28,{"$f":"EmpDetail!B31","v":"pkS/kjh eksuk jkekorkj"},{"$f":"EmpDetail!C31","v":"अध्यापक ग्रेड III"},{"$f":"EmpDetail!D31","v":"राप्रावि मोहिनी ढाणी बाढ"},{"$f":"EmpDetail!E31","v":"1990-01-05"},"2050-01-31"]
[null,null,null,null,null,null,null,null,null,null,null,null,29,{"$f":"EmpDetail!B32","v":"rkjkpUn tk;loky"},{"$f":"EmpDetail!C32","v":"प्रबोधक"},{"$f":"EmpDetail!D32","v":"राप्रावि मोहिनी ढाणी बाढ"},{"$f":"EmpDetail!E32","v":"1976-11-11"},"2036-11-30"]
[null,null,null,null,null,null,null,null,null,null,null,null,30,{"$f":"EmpDetail!B33","v":"jketl ;kno"},{"$f":"EmpDetail!C33","v":"अध्यापक ग्रेड III"},{"$f":"EmpDetail!D33","v":"राप्रावि बैरवा ढाणी सोन्दीफल"},{"$f":"EmpDetail!E33","v":"1970-06-12"},"2030-06-30"]
[null,null,null,null,null,null,null,null,null,null,null,null,31,{"$f":"EmpDetail!B34","v":"dtksMey eh.kk"},{"$f":"EmpDetail!C34","v":"अध्यापक ग्रेड III"},{"$f":"EmpDetail!D34","v":"राप्रावि बैरवा ढाणी सोन्दीफल"},{"$f":"EmpDetail!E34","v":"1990-07-01"},"2050-06-30"]
[null,null,null,null,null,null,null,null,null,null,null,null,32,{"$f":"EmpDetail!B35","v":"/kaut; xkSRre"},{"$f":"EmpDetail!C35","v":"अध्यापक ग्रेड III"},{"$f":"EmpDetail!D35","v":"राउप्रावि गोरधनपुरा"},{"$f":"EmpDetail!E35","v":"1986-08-25"},"2046-08-31"]
[null,null,null,null,null,null,null,null,null,null,null,null,33,{"$f":"EmpDetail!B36","v":"d`\".kk xaxoky"},{"$f":"EmpDetail!C36","v":"अध्यापक ग्रेड III"},{"$f":"EmpDetail!D36","v":"राउप्रावि गोरधनपुरा"},{"$f":"EmpDetail!E36","v":"1995-06-20"},"2055-06-30"]
[null,null,null,null,null,null,null,null,null,null,null,null,34,{"$f":"EmpDetail!B37","v":"n'kjFk dqekj ;kno"},{"$f":"EmpDetail!C37","v":"अध्यापक ग्रेड III"},{"$f":"EmpDetail!D37","v":"राउप्रावि सोंदीफल"},{"$f":"EmpDetail!E37","v":"1991-01-01"},"2050-12-31"]
[null,null,null,null,null,null,null,null,null,null,null,null,35,{"$f":"EmpDetail!B38","v":"d`\".k yky tkV"},{"$f":"EmpDetail!C38","v":"अध्यापक ग्रेड III"},{"$f":"EmpDetail!D38","v":"राउप्रावि सोंदीफल"},{"$f":"EmpDetail!E38","v":"1990-07-18"},"2050-07-31"]
[null,null,null,null,null,null,null,null,null,null,null,null,36,{"$f":"EmpDetail!B39","v":"nhisUnz dqekj iztkir"},{"$f":"EmpDetail!C39","v":"अध्यापक ग्रेड III"},{"$f":"EmpDetail!D39","v":"राउप्रावि सोंदीफल"},{"$f":"EmpDetail!E39","v":"1994-07-12"},"2054-07-31"]
[null,null,null,null,null,null,null,null,null,null,null,null,37,{"$f":"EmpDetail!B40","v":"uohu dqekj"},{"$f":"EmpDetail!C40","v":"अध्यापक ग्रेड III"},{"$f":"EmpDetail!D40","v":"राउप्रावि मोहिनी"},{"$f":"EmpDetail!E40","v":"1995-04-13"},"2055-04-30"]
[null,null,null,null,null,null,null,null,null,null,null,null,38,{"$f":"EmpDetail!B41","v":"ehrs'k dqekj 'kekZ"},{"$f":"EmpDetail!C41","v":"अध्यापक ग्रेड III"},{"$f":"EmpDetail!D41","v":"राउप्रावि मोहिनी"},{"$f":"EmpDetail!E41","v":"1989-08-13"},"2049-08-31"]
[null,null,null,null,null,null,null,null,null,null,null,null,39,{"$f":"EmpDetail!B42","v":"eUtw eh.kk"},{"$f":"EmpDetail!C42","v":"वरिष्ठ अध्यापक"},{"$f":"EmpDetail!D42","v":"राउप्रावि गोरधनपुरा"},{"$f":"EmpDetail!E42","v":"1991-01-06"},"2051-01-31"]
[null,null,null,null,null,null,null,null,null,null,null,null,40,{"$f":"EmpDetail!B43","v":"eatw pkS/kjh"},{"$f":"EmpDetail!C43","v":"वरिष्ठ अध्यापक"},{"$f":"EmpDetail!D43","v":"राउप्रावि सोंदीफल"},{"$f":"EmpDetail!E43","v":"1991-08-04"},"2051-08-31"]
[null,null,null,null,null,null,null,null,null,null,null,null,41,{"$f":"EmpDetail!B44","v":0},{"$f":"EmpDetail!C44","v":0},{"$f":"EmpDetail!D44","v":0},{"$f":"EmpDetail!E44","v":"00:00:00"},{"$error":"#NUM!"}]
[null,null,null,null,null,null,null,null,null,null,null,null,42,{"$f":"EmpDetail!B45","v":0},{"$f":"EmpDetail!C45","v":0},{"$f":"EmpDetail!D45","v":0},{"$f":"EmpDetail!E45","v":"00:00:00"},{"$error":"#NUM!"}]
[null,null,null,null,null,null,null,null,null,null,null,null,43,{"$f":"EmpDetail!B46","v":0},{"$f":"EmpDetail!C46","v":0},{"$f":"EmpDetail!D46","v":0},{"$f":"EmpDetail!E46","v":"00:00:00"},{"$error":"#NUM!"}]
[null,null,null,null,null,null,null,null,null,null,null,null,44,{"$f":"EmpDetail!B47","v":0},{"$f":"EmpDetail!C47","v":0},{"$f":"EmpDetail!D47","v":0},{"$f":"EmpDetail!E47","v":"00:00:00"},{"$error":"#NUM!"}]
[null,null,null,null,null,null,null,null,null,null,null,null,45,{"$f":"EmpDetail!B48","v":0},{"$f":"EmpDetail!C48","v":0},{"$f":"EmpDetail!D48","v":0},{"$f":"EmpDetail!E48","v":"00:00:00"},{"$error":"#NUM!"}]
[null,null,null,null,null,null,null,null,null,null,null,null,46,{"$f":"EmpDetail!B49","v":0},{"$f":"EmpDetail!C49","v":0},{"$f":"EmpDetail!D49","v":0},{"$f":"EmpDetail!E49","v":"00:00:00"},{"$error":"#NUM!"}]
[null,null,null,null,null,null,null,null,null,null,null,null,47,{"$f":"EmpDetail!B50","v":0},{"$f":"EmpDetail!C50","v":0},{"$f":"EmpDetail!D50","v":0},{"$f":"EmpDetail!E50","v":"00:00:00"},{"$error":"#NUM!"}]
[null,null,null,null,null,null,null,null,null,null,null,null,48,{"$f":"EmpDetail!B51","v":0},{"$f":"EmpDetail!C51","v":0},{"$f":"EmpDetail!D51","v":0},{"$f":"EmpDetail!E51","v":"00:00:00"},{"$error":"#NUM!"}]
[null,null,null,null,null,null,null,null,null,null,null,null,49,{"$f":"EmpDetail!B52","v":0},{"$f":"EmpDetail!C52","v":0},{"$f":"EmpDetail!D52","v":0},{"$f":"EmpDetail!E52","v":"00:00:00"},{"$error":"#NUM!"}]
[null,null,null,null,null,null,null,null,null,null,null,null,50,{"$f":"EmpDetail!B53","v":0},{"$f":"EmpDetail!C53","v":0},{"$f":"EmpDetail!D53","v":0},{"$f":"EmpDetail!E53","v":"00:00:00"},{"$error":"#NUM!"}]
[null,null,null,null,null,null,null,null,null,null,null,null,51,{"$f":"EmpDetail!B54","v":0},{"$f":"EmpDetail!C54","v":0},{"$f":"EmpDetail!D54","v":0},{"$f":"EmpDetail!E54","v":"00:00:00"},{"$error":"#NUM!"}]
[null,null,null,null,null,null,null,null,null,null,null,null,52,{"$f":"EmpDetail!B55","v":0},{"$f":"EmpDetail!C55","v":0},{"$f":"EmpDetail!D55","v":0},{"$f":"EmpDetail!E55","v":"00:00:00"},{"$error":"#NUM!"}]
[null,null,null,null,null,null,null,null,null,null,null,null,53,{"$f":"EmpDetail!B56","v":0},{"$f":"EmpDetail!C56","v":0},{"$f":"EmpDetail!D56","v":0},{"$f":"EmpDetail!E56","v":"00:00:00"},{"$error":"#NUM!"}]
[null,null,null,null,null,null,null,null,null,null,null,null,54,{"$f":"EmpDetail!B57","v":0},{"$f":"EmpDetail!C57","v":0},{"$f":"EmpDetail!D57","v":0},{"$f":"EmpDetail!E57","v":"00:00:00"},{"$error":"#NUM!"}]
[null,null,null,null,null,null,null,null,null,null,null,null,55,{"$f":"EmpDetail!B58","v":0},{"$f":"EmpDetail!C58","v":0},{"$f":"EmpDetail!D58","v":0},{"$f":"EmpDetail!E58","v":"00:00:00"},{"$error":"#NUM!"}]
[null,null,null,null,null,null,null,null,null,null,null,null,56,{"$f":"EmpDetail!B59","v":0},{"$f":"EmpDetail!C59","v":0},{"$f":"EmpDetail!D59","v":0},{"$f":"EmpDetail!E59","v":"00:00:00"},{"$error":"#NUM!"}]
[null,null,null,null,null,null,null,null,null,null,null,null,57,{"$f":"EmpDetail!B60","v":0},{"$f":"EmpDetail!C60","v":0},{"$f":"EmpDetail!D60","v":0},{"$f":"EmpDetail!E60","v":"00:00:00"},{"$error":"#NUM!"}]
[null,null,null,null,null,null,null,null,null,null,null,null,58,{"$f":"EmpDetail!B61","v":0},{"$f":"EmpDetail!C61","v":0},{"$f":"EmpDetail!D61","v":0},{"$f":"EmpDetail!E61","v":"00:00:00"},{"$error":"#NUM!"}]
[null,null,null,null,null,null,null,null,null,null,null,null,59,{"$f":"EmpDetail!B62","v":0},{"$f":"EmpDetail!C62","v":0},{"$f":"EmpDetail!D62","v":0},{"$f":"EmpDetail!E62","v":"00:00:00"},{"$error":"#NUM!"}]
[null,null,null,null,null,null,null,null,null,null,null,null,60,{"$f":"EmpDetail!B63","v":0},{"$f":"EmpDetail!C63","v":0},{"$f":"EmpDetail!D63","v":0},{"$f":"EmpDetail!E63","v":"00:00:00"},{"$error":"#NUM!"}]
[null,null,null,null,null,null,null,null,null,null,null,null,61,{"$f":"EmpDetail!B64","v":0},{"$f":"EmpDetail!C64","v":0},{"$f":"EmpDetail!D64","v":0},{"$f":"EmpDetail!E64","v":"00:00:00"},{"$error":"#NUM!"}]
[null,null,null,null,null,null,null,null,null,null,null,null,62,{"$f":"EmpDetail!B65","v":0},{"$f":"EmpDetail!C65","v":0},{"$f":"EmpDetail!D65","v":0},{"$f":"EmpDetail!E65","v":"00:00:00"},{"$error":"#NUM!"}]
[null,null,null,null,null,null,null,null,null,null,null,null,63,{"$f":"EmpDetail!B66","v":0},{"$f":"EmpDetail!C66","v":0},{"$f":"EmpDetail!D66","v":0},{"$f":"EmpDetail!E66","v":"00:00:00"},{"$error":"#NUM!"}]
[null,null,null,null,null,null,null,null,null,null,null,null,64,{"$f":"EmpDetail!B67","v":0},{"$f":"EmpDetail!C67","v":0},{"$f":"EmpDetail!D67","v":0},{"$f":"EmpDetail!E67","v":"00:00:00"},{"$error":"#NUM!"}]
[null,null,null,null,null,null,null,null,null,null,null,null,65,{"$f":"EmpDetail!B68","v":0},{"$f":"EmpDetail!C68","v":0},{"$f":"EmpDetail!D68","v":0},{"$f":"EmpDetail!E68","v":"00:00:00"},{"$error":"#NUM!"}]
[null,null,null,null,null,null,null,null,null,null,null,null,66,{"$f":"EmpDetail!B69","v":0},{"$f":"EmpDetail!C69","v":0},{"$f":"EmpDetail!D69","v":0},{"$f":"EmpDetail!E69","v":"00:00:00"},{"$f":"IF(Q70=\"\",\"\",DATE(YEAR(Q70-1)+60,(MONTH(Q70-1))+1,0))","v":{"$error":"#NUM!"}}]
[null,null,null,null,null,null,null,null,null,null,null,null,67,{"$f":"EmpDetail!B70","v":0},{"$f":"EmpDetail!C70","v":0},{"$f":"EmpDetail!D70","v":0},{"$f":"EmpDetail!E70","v":"00:00:00"},{"$error":"#NUM!"}]
[null,null,null,null,null,null,null,null,null,null,null,null,68,{"$f":"EmpDetail!B71","v":0},{"$f":"EmpDetail!C71","v":0},{"$f":"EmpDetail!D71","v":0},{"$f":"EmpDetail!E71","v":"00:00:00"},{"$error":"#NUM!"}]
[null,null,null,null,null,null,null,null,null,null,null,null,69,{"$f":"EmpDetail!B72","v":0},{"$f":"EmpDetail!C72","v":0},{"$f":"EmpDetail!D72","v":0},{"$f":"EmpDetail!E72","v":"00:00:00"},{"$error":"#NUM!"}]
[null,null,null,null,null,null,null,null,null,null,null,null,70,{"$f":"EmpDetail!B73","v":0},{"$f":"EmpDetail!C73","v":0},{"$f":"EmpDetail!D73","v":0},{"$f":"EmpDetail!E73","v":"00:00:00"},{"$error":"#NUM!"}]
[null,null,null,null,null,null,null,null,null,null,null,null,71,{"$f":"EmpDetail!B74","v":0},{"$f":"EmpDetail!C74","v":0},{"$f":"EmpDetail!D74","v":0},{"$f":"EmpDetail!E74","v":"00:00:00"},{"$error":"#NUM!"}]
[null,null,null,null,null,null,null,null,null,null,null,null,72,{"$f":"EmpDetail!B75","v":0},{"$f":"EmpDetail!C75","v":0},{"$f":"EmpDetail!D75","v":0},{"$f":"EmpDetail!E75","v":"00:00:00"},{"$error":"#NUM!"}]
[null,null,null,null,null,null,null,null,null,null,null,null,73,{"$f":"EmpDetail!B76","v":0},{"$f":"EmpDetail!C76","v":0},{"$f":"EmpDetail!D76","v":0},{"$f":"EmpDetail!E76","v":"00:00:00"},{"$error":"#NUM!"}]
[null,null,null,null,null,null,null,null,null,null,null,null,74,{"$f":"EmpDetail!B77","v":0},{"$f":"EmpDetail!C77","v":0},{"$f":"EmpDetail!D77","v":0},{"$f":"EmpDetail!E77","v":"00:00:00"},{"$error":"#NUM!"}]
[null,null,null,null,null,null,null,null,null,null,null,null,75,{"$f":"EmpDetail!B78","v":0},{"$f":"EmpDetail!C78","v":0},{"$f":"EmpDetail!D78","v":0},{"$f":"EmpDetail!E78","v":"00:00:00"},{"$error":"#NUM!"}]
[null,null,null,null,null,null,null,null,null,null,null,null,76,{"$f":"EmpDetail!B79","v":0},{"$f":"EmpDetail!C79","v":0},{"$f":"EmpDetail!D79","v":0},{"$f":"EmpDetail!E79","v":"00:00:00"},{"$error":"#NUM!"}]
[null,null,null,null,null,null,null,null,null,null,null,null,77,{"$f":"EmpDetail!B80","v":0},{"$f":"EmpDetail!C80","v":0},{"$f":"EmpDetail!D80","v":0},{"$f":"EmpDetail!E80","v":"00:00:00"},{"$error":"#NUM!"}]
[null,null,null,null,null,null,null,null,null,null,null,null,78,{"$f":"EmpDetail!B81","v":0},{"$f":"EmpDetail!C81","v":0},{"$f":"EmpDetail!D81","v":0},{"$f":"EmpDetail!E81","v":"00:00:00"},{"$error":"#NUM!"}]
[null,null,null,null,null,null,null,null,null,null,null,null,79,{"$f":"EmpDetail!B82","v":0},{"$f":"EmpDetail!C82","v":0},{"$f":"EmpDetail!D82","v":0},{"$f":"EmpDetail!E82","v":"00:00:00"},{"$error":"#NUM!"}]
[null,null,null,null,null,null,null,null,null,null,null,null,80,{"$f":"EmpDetail!B83","v":0},{"$f":"EmpDetail!C83","v":0},{"$f":"EmpDetail!D83","v":0},{"$f":"EmpDetail!E83","v":"00:00:00"},{"$error":"#NUM!"}]
[null,null,null,null,null,null,null,null,null,null,null,null,81,{"$f":"EmpDetail!B84","v":0},{"$f":"EmpDetail!C84","v":0},{"$f":"EmpDetail!D84","v":0},{"$f":"EmpDetail!E84","v":"00:00:00"},{"$error":"#NUM!"}]
[null,null,null,null,null,null,null,null,null,null,null,null,82,{"$f":"EmpDetail!B85","v":0},{"$f":"EmpDetail!C85","v":0},{"$f":"EmpDetail!D85","v":0},{"$f":"EmpDetail!E85","v":"00:00:00"},{"$error":"#NUM!"}]
[null,null,null,null,null,null,null,null,null,null,null,null,83,{"$f":"EmpDetail!B86","v":0},{"$f":"EmpDetail!C86","v":0},{"$f":"EmpDetail!D86","v":0},{"$f":"EmpDetail!E86","v":"00:00:00"},{"$error":"#NUM!"}]
[null,null,null,null,null,null,null,null,null,null,null,null,84,{"$f":"EmpDetail!B87","v":0},{"$f":"EmpDetail!C87","v":0},{"$f":"EmpDetail!D87","v":0},{"$f":"EmpDetail!E87","v":"00:00:00"},{"$error":"#NUM!"}]
[null,null,null,null,null,null,null,null,null,null,null,null,85,{"$f":"EmpDetail!B88","v":0},{"$f":"EmpDetail!C88","v":0},{"$f":"EmpDetail!D88","v":0},{"$f":"EmpDetail!E88","v":"00:00:00"},{"$error":"#NUM!"}]
[null,null,null,null,null,null,null,null,null,null,null,null,86,{"$f":"EmpDetail!B89","v":0},{"$f":"EmpDetail!C89","v":0},{"$f":"EmpDetail!D89","v":0},{"$f":"EmpDetail!E89","v":"00:00:00"},{"$error":"#NUM!"}]
[null,null,null,null,null,null,null,null,null,null,null,null,87,{"$f":"EmpDetail!B90","v":0},{"$f":"EmpDetail!C90","v":0},{"$f":"EmpDetail!D90","v":0},{"$f":"EmpDetail!E90","v":"00:00:00"},{"$error":"#NUM!"}]
[null,null,null,null,null,null,null,null,null,null,null,null,88,{"$f":"EmpDetail!B91","v":0},{"$f":"EmpDetail!C91","v":0},{"$f":"EmpDetail!D91","v":0},{"$f":"EmpDetail!E91","v":"00:00:00"},{"$error":"#NUM!"}]
[null,null,null,null,null,null,null,null,null,null,null,null,89,{"$f":"EmpDetail!B92","v":0},{"$f":"EmpDetail!C92","v":0},{"$f":"EmpDetail!D92","v":0},{"$f":"EmpDetail!E92","v":"00:00:00"},{"$error":"#NUM!"}]
[null,null,null,null,null,null,null,null,null,null,null,null,90,{"$f":"EmpDetail!B93","v":0},{"$f":"EmpDetail!C93","v":0},{"$f":"EmpDetail!D93","v":0},{"$f":"EmpDetail!E93","v":"00:00:00"},{"$error":"#NUM!"}]
[null,null,null,null,null,null,null,null,null,null,null,null,91,{"$f":"EmpDetail!B94","v":0},{"$f":"EmpDetail!C94","v":0},{"$f":"EmpDetail!D94","v":0},{"$f":"EmpDetail!E94","v":"00:00:00"},{"$error":"#NUM!"}]
[null,null,null,null,null,null,null,null,null,null,null,null,92,{"$f":"EmpDetail!B95","v":0},{"$f":"EmpDetail!C95","v":0},{"$f":"EmpDetail!D95","v":0},{"$f":"EmpDetail!E95","v":"00:00:00"},{"$error":"#NUM!"}]
[null,null,null,null,null,null,null,null,null,null,null,null,93,{"$f":"EmpDetail!B96","v":0},{"$f":"EmpDetail!C96","v":0},{"$f":"EmpDetail!D96","v":0},{"$f":"EmpDetail!E96","v":"00:00:00"},{"$error":"#NUM!"}]
[null,null,null,null,null,null,null,null,null,null,null,null,94,{"$f":"EmpDetail!B97","v":0},{"$f":"EmpDetail!C97","v":0},{"$f":"EmpDetail!D97","v":0},{"$f":"EmpDetail!E97","v":"00:00:00"},{"$error":"#NUM!"}]
[null,null,null,null,null,null,null,null,null,null,null,null,95,{"$f":"EmpDetail!B98","v":0},{"$f":"EmpDetail!C98","v":0},{"$f":"EmpDetail!D98","v":0},{"$f":"EmpDetail!E98","v":"00:00:00"},{"$error":"#NUM!"}]
[null,null,null,null,null,null,null,null,null,null,null,null,96,{"$f":"EmpDetail!B99","v":0},{"$f":"EmpDetail!C99","v":0},{"$f":"EmpDetail!D99","v":0},{"$f":"EmpDetail!E99","v":"00:00:00"},{"$error":"#NUM!"}]
[null,null,null,null,null,null,null,null,null,null,null,null,97,{"$f":"EmpDetail!B100","v":0},{"$f":"EmpDetail!C100","v":0},{"$f":"EmpDetail!D100","v":0},{"$f":"EmpDetail!E100","v":"00:00:00"},{"$error":"#NUM!"}]
[null,null,null,null,null,null,null,null,null,null,null,null,98,{"$f":"EmpDetail!B101","v":0},{"$f":"EmpDetail!C101","v":0},{"$f":"EmpDetail!D101","v":0},{"$f":"EmpDetail!E101","v":"00:00:00"},{"$error":"#NUM!"}]
[null,null,null,null,null,null,null,null,null,null,null,null,99,{"$f":"EmpDetail!B102","v":0},{"$f":"EmpDetail!C102","v":0},{"$f":"EmpDetail!D102","v":0},{"$f":"EmpDetail!E102","v":"00:00:00"},{"$error":"#NUM!"}]
[null,null,null,null,null,null,null,null,null,null,null,null,100,{"$f":"EmpDetail!B103","v":0},{"$f":"EmpDetail!C103","v":0},{"$f":"EmpDetail!D103","v":0},{"$f":"EmpDetail!E103","v":"00:00:00"},{"$error":"#NUM!"}]

{"sheet":"Long Term","index":41,"n_rows":104,"n_cols":18,"rows_kept":104,"cut":false,"hidden":true,"merged":[[12,3,12,5],[4,9,4,11],[0,0,0,5],[4,0,4,5],[5,1,5,2],[5,3,5,5],[6,2,6,5],[8,0,8,4],[7,0,7,5],[2,0,2,5],[10,3,10,5],[11,3,11,5]]}
[{"$f":"Master!G2&Master!H2","v":"कार्यालय&राजकीय उच्च माध्यमिक विद्यालय ]चौगाई]टोंक"}]
["dzekad&",{"$f":"Master!H3&Master!I3&Master!J3&Master!E3&\"/\"","v":"राउमावि/चौगाई/संस्था/2021-22/"},null,null,"fnukad&",{"$f":"TODAY()","v":"2021-06-19"}]
["nh?kZ dkyhu _.k lEcU/kh izek.k&iz="]
[null,null,null,null,null,null,null,null,null,null,null,null,null,{"$f":"IF(ISNA(VLOOKUP($K6,$M$5:$R$104,2,FALSE)),\"\",VLOOKUP($K6,$M$5:$R$104,2,FALSE))","v":"d`\".kk xaxoky"},{"$f":"IF(ISNA(VLOOKUP($K6,$M$5:$R$104,3,FALSE)),\"\",VLOOKUP($K6,$M$5:$R$104,3,FALSE))","v":"अध्यापक ग्रेड III"},{"$f":"IF(ISNA(VLOOKUP($K6,$M$5:$R$104,4,FALSE)),\"\",VLOOKUP($K6,$M$5:$R$104,4,FALSE))","v":"राउप्रावि गोरधनपुरा"},{"$f":"IF(ISNA(VLOOKUP($K6,$M$5:$R$104,6,FALSE)),\"\",VLOOKUP($K6,$M$5:$R$104,6,FALSE))","v":"2055-06-30"}]
[{"$f":"\"izekf.kr fd;k tkrk gS fd Jh@Jhefr \"&N4&\" inuke \"&O4","v":"izekf.kr fd;k tkrk gS fd Jh@Jhefr d`\".kk xaxoky inuke अध्यापक ग्रेड III"},null,null,null,null,null,null,null,null,"dkfeZd dk dzekad fy[ksa",null,null,1,{"$f":"EmpDetail!B4","v":"fd'ku yky cSjok"},{"$f":"EmpDetail!C4","v":"प्रधानाचार्य"},{"$f":"EmpDetail!D4","v":"राउमावि चौगाई"},{"$f":"EmpDetail!E4","v":"1962-01-10"},{"$f":"IF(Q5=\"\",\"\",DATE(YEAR(Q5-1)+60,(MONTH(Q5-1))+1,0))","v":"2022-01-31"}]
["dk;kZy;&",{"$f":"P4","v":"राउप्रावि गोरधनपुरा"},null,"dh vf/kokf\"kZdh vk;q iw.kZ gksus ls",null,null,null,null,null,null,33,null,2,{"$f":"EmpDetail!B5","v":"iwj.k pUn y{kdkj"},{"$f":"EmpDetail!C5","v":"व्याख्याता"},{"$f":"EmpDetail!D5","v":"राउमावि चौगाई"},{"$f":"EmpDetail!E5","v":"1971-07-08"},{"$f":"IF(Q6=\"\",\"\",DATE(YEAR(Q6-1)+60,(MONTH(Q6-1))+1,0))","v":"2031-07-31"}]
["fnukad&",{"$f":"Q4","v":"2055-06-30"},"dks jkT; lsok ls lsokfuo`Rr gks jgs@gks pqds gSA Jh@Jhefr",null,null,null,null,null,null,null,null,null,3,{"$f":"EmpDetail!B6","v":"jktsUnz dqekj tSu"},{"$f":"EmpDetail!C6","v":"व्याख्याता"},{"$f":"EmpDetail!D6","v":"राउमावि चौगाई"},{"$f":"EmpDetail!E6","v":"1968-09-14"},"2028-09-30"]
[{"$f":"N4&\"  dk fdlh izdkj dk nh?kZ dkyhu ¼Hkou@okgu@QuhZpj@vxzhe½ \"","v":"d`\".kk xaxoky  dk fdlh izdkj dk nh?kZ dkyhu ¼Hkou@okgu@QuhZpj@vxzhe½ "},null,null,null,null,null,null,null,null,null,null,null,4,{"$f":"EmpDetail!B7","v":"fd'ku yky cSjok"},{"$f":"EmpDetail!C7","v":"व्याख्याता"},{"$f":"EmpDetail!D7","v":"राउमावि चौगाई"},{"$f":"EmpDetail!E7","v":"1974-07-07"},"2034-07-31"]
["_.k cdk;k ugha gS vkSj uk gh iwoZ esa Lohd`r fd;k x;k gSA",null,null,null,null,null,null,null,null,null,null,null,5,{"$f":"EmpDetail!B8","v":"lR;ukjk;.k 'kekZ"},{"$f":"EmpDetail!C8","v":"वरिष्ठ अध्यापक"},{"$f":"EmpDetail!D8","v":"राउमावि चौगाई"},{"$f":"EmpDetail!E8","v":"1962-07-01"},"2022-06-30"]
[null,null,null,null,null,null,null,null,null,null,null,null,6,{"$f":"EmpDetail!B9","v":"iq\"ik tSu"},{"$f":"EmpDetail!C9","v":"वरिष्ठ अध्यापक"},{"$f":"EmpDetail!D9","v":"राउमावि चौगाई"},{"$f":"EmpDetail!E9","v":"1964-04-10"},"2024-04-30"]
[null,null,null,{"$f":"Master!B2","v":"प्रधानाचार्य"},null,null,null,null,null,null,null,null,7,{"$f":"EmpDetail!B10","v":"vk'kkjke eh.kk"},{"$f":"EmpDetail!C10","v":"वरिष्ठ अध्यापक"},{"$f":"EmpDetail!D10","v":"राउमावि चौगाई"},{"$f":"EmpDetail!E10","v":"1978-06-11"},"2038-06-30"]
[null,null,null,{"$f":"Master!B3","v":"राजकीय उच्च माध्यमिक विद्यालय "},null,null,null,null,null,null,null,null,8,{"$f":"EmpDetail!B11","v":"t;iky flag"},{"$f":"EmpDetail!C11","v":"वरिष्ठ अध्यापक"},{"$f":"EmpDetail!D11","v":"राउमावि चौगाई"},{"$f":"EmpDetail!E11","v":"1972-02-02"},"2032-02-29"]
[null,null,null,{"$f":"Master!B4","v":"चौगाई]टोंक"},null,null,null,null,null,null,null,null,9,{"$f":"EmpDetail!B12","v":"jkeizlkn jsxj"},{"$f":"EmpDetail!C12","v":"वरिष्ठ अध्यापक"},{"$f":"EmpDetail!D12","v":"राउमावि चौगाई"},{"$f":"EmpDetail!E12","v":"1978-06-01"},"2038-05-31"]
[null,null,null,null,null,null,null,null,null,null,null,null,10,{"$f":"EmpDetail!B13","v":"egsUnz dqekj tkV"},{"$f":"EmpDetail!C13","v":"शारीरिक शिक्षक"},{"$f":"EmpDetail!D13","v":"राउमावि चौगाई"},{"$f":"EmpDetail!E13","v":"1976-01-30"},"2036-01-31"]
[null,null,null,null,null,null,null,null,null,null,null,null,11,{"$f":"EmpDetail!B14","v":"NksVw yky jsxj"},{"$f":"EmpDetail!C14","v":"अध्यापक ग्रेड III"},{"$f":"EmpDetail!D14","v":"राउमावि चौगाई"},{"$f":"EmpDetail!E14","v":"1967-07-10"},"2027-07-31"]
[null,null,null,null,null,null,null,null,null,null,null,null,12,{"$f":"EmpDetail!B15","v":"dUgS;k yky egkoj"},{"$f":"EmpDetail!C15","v":"अध्यापक ग्रेड III"},{"$f":"EmpDetail!D15","v":"राउमावि चौगाई"},{"$f":"EmpDetail!E15","v":"1962-04-05"},"2022-04-30"]
[null,null,null,null,null,null,null,null,null,null,null,null,13,{"$f":"EmpDetail!B16","v":"prqHkqZt tkV"},{"$f":"EmpDetail!C16","v":"अध्यापक ग्रेड III"},{"$f":"EmpDetail!D16","v":"राउमावि चौगाई"},{"$f":"EmpDetail!E16","v":"1976-04-04"},"2036-04-30"]
[null,null,null,null,null,null,null,null,null,null,null,null,14,{"$f":"EmpDetail!B17","v":"vklsQk [kku"},{"$f":"EmpDetail!C17","v":"अध्यापक ग्रेड III"},{"$f":"EmpDetail!D17","v":"राउमावि चौगाई"},{"$f":"EmpDetail!E17","v":"1971-01-10"},"2031-01-31"]
[null,null,null,null,null,null,null,null,null,null,null,null,15,{"$f":"EmpDetail!B18","v":"lq'khyk cSjok"},{"$f":"EmpDetail!C18","v":"कनिष्ठ सहायक"},{"$f":"EmpDetail!D18","v":"राउमावि चौगाई"},{"$f":"EmpDetail!E18","v":"1995-01-01"},"2054-12-31"]
[null,null,null,null,null,null,null,null,null,null,null,null,16,{"$f":"EmpDetail!B19","v":"txnh'k izlkn rsyh"},{"$f":"EmpDetail!C19","v":"सहायक कर्मचारी"},{"$f":"EmpDetail!D19","v":"राउमावि चौगाई"},{"$f":"EmpDetail!E19","v":"1962-06-04"},"2022-06-30"]
[null,null,null,null,null,null,null,null,null,null,null,null,17,{"$f":"EmpDetail!B20","v":"jfoUnz dqekj tSu"},{"$f":"EmpDetail!C20","v":"अध्यापक ग्रेड III"},{"$f":"EmpDetail!D20","v":"राउप्रावि मोहिनी"},{"$f":"EmpDetail!E20","v":"1967-08-24"},"2027-08-31"]
[null,null,null,null,null,null,null,null,null,null,null,null,18,{"$f":"EmpDetail!B21","v":" ';ke lqUnj ckxkSM"},{"$f":"EmpDetail!C21","v":"अध्यापक ग्रेड III"},{"$f":"EmpDetail!D21","v":"राउप्रावि मोहिनी"},{"$f":"EmpDetail!E21","v":"1983-08-10"},"2043-08-31"]
[null,null,null,null,null,null,null,null,null,null,null,null,19,{"$f":"EmpDetail!B22","v":"d`\".kk 'kekZ"},{"$f":"EmpDetail!C22","v":"प्रबोधक"},{"$f":"EmpDetail!D22","v":"राउप्रावि मोहिनी"},{"$f":"EmpDetail!E22","v":"1972-08-06"},"2032-08-31"]
[null,null,null,null,null,null,null,null,null,null,null,null,20,{"$f":"EmpDetail!B23","v":"/keZsUnz pkS/kjh"},{"$f":"EmpDetail!C23","v":"अध्यापक ग्रेड III"},{"$f":"EmpDetail!D23","v":"राउप्रावि गोरधनपुरा"},{"$f":"EmpDetail!E23","v":"1990-03-05"},"2050-03-31"]
[null,null,null,null,null,null,null,null,null,null,null,null,21,{"$f":"EmpDetail!B24","v":"izgykn ekyh"},{"$f":"EmpDetail!C24","v":"प्रबोधक"},{"$f":"EmpDetail!D24","v":"राउप्रावि गोरधनपुरा"},{"$f":"EmpDetail!E24","v":"1974-08-07"},"2034-08-31"]
[null,null,null,null,null,null,null,null,null,null,null,null,22,{"$f":"EmpDetail!B25","v":"jken;ky xqtZj"},{"$f":"EmpDetail!C25","v":"प्रबोधक"},{"$f":"EmpDetail!D25","v":"राउप्रावि सोंदीफल"},{"$f":"EmpDetail!E25","v":"1977-08-18"},"2037-08-31"]
[null,null,null,null,null,null,null,null,null,null,null,null,23,{"$f":"EmpDetail!B26","v":"vkSeizdk'k tkV"},{"$f":"EmpDetail!C26","v":"अध्यापक ग्रेड III"},{"$f":"EmpDetail!D26","v":"राउप्रावि सोंदीफल"},{"$f":"EmpDetail!E26","v":"1982-10-31"},"2042-10-31"]
[null,null,null,null,null,null,null,null,null,null,null,null,24,{"$f":"EmpDetail!B27","v":"vthr flag"},{"$f":"EmpDetail!C27","v":"अध्यापक ग्रेड III"},{"$f":"EmpDetail!D27","v":"राप्रावि जानकीवल्लभपुरा"},{"$f":"EmpDetail!E27","v":"1987-08-08"},"2047-08-31"]
[null,null,null,null,null,null,null,null,null,null,null,null,25,{"$f":"EmpDetail!B28","v":"eq[rkj eha;k"},{"$f":"EmpDetail!C28","v":"प्रबोधक"},{"$f":"EmpDetail!D28","v":"राप्रावि जानकीवल्लभपुरा"},{"$f":"EmpDetail!E28","v":"1976-07-04"},"2036-07-31"]
[null,null,null,null,null,null,null,null,null,null,null,null,26,{"$f":"EmpDetail!B29","v":"eks0 tehy "},{"$f":"EmpDetail!C29","v":"प्रबोधक"},{"$f":"EmpDetail!D29","v":"राप्रावि रसूलपुरा"},{"$f":"EmpDetail!E29","v":"1968-09-15"},"2028-09-30"]
[null,null,null,null,null,null,null,null,null,null,null,null,27,{"$f":"EmpDetail!B30","v":"lkaojey tkV"},{"$f":"EmpDetail!C30","v":"अध्यापक ग्रेड III"},{"$f":"EmpDetail!D30","v":"राप्रावि रसूलपुरा"},{"$f":"EmpDetail!E30","v":"1992-03-03"},"2052-03-31"]
[null,null,null,null,null,null,null,null,null,null,null,null,28,{"$f":"EmpDetail!B31","v":"pkS/kjh eksuk jkekorkj"},{"$f":"EmpDetail!C31","v":"अध्यापक ग्रेड III"},{"$f":"EmpDetail!D31","v":"राप्रावि मोहिनी ढाणी बाढ"},{"$f":"EmpDetail!E31","v":"1990-01-05"},"2050-01-31"]
[null,null,null,null,null,null,null,null,null,null,null,null,29,{"$f":"EmpDetail!B32","v":"rkjkpUn tk;loky"},{"$f":"EmpDetail!C32","v":"प्रबोधक"},{"$f":"EmpDetail!D32","v":"राप्रावि मोहिनी ढाणी बाढ"},{"$f":"EmpDetail!E32","v":"1976-11-11"},"2036-11-30"]
[null,null,null,null,null,null,null,null,null,null,null,null,30,{"$f":"EmpDetail!B33","v":"jketl ;kno"},{"$f":"EmpDetail!C33","v":"अध्यापक ग्रेड III"},{"$f":"EmpDetail!D33","v":"राप्रावि बैरवा ढाणी सोन्दीफल"},{"$f":"EmpDetail!E33","v":"1970-06-12"},"2030-06-30"]
[null,null,null,null,null,null,null,null,null,null,null,null,31,{"$f":"EmpDetail!B34","v":"dtksMey eh.kk"},{"$f":"EmpDetail!C34","v":"अध्यापक ग्रेड III"},{"$f":"EmpDetail!D34","v":"राप्रावि बैरवा ढाणी सोन्दीफल"},{"$f":"EmpDetail!E34","v":"1990-07-01"},"2050-06-30"]
[null,null,null,null,null,null,null,null,null,null,null,null,32,{"$f":"EmpDetail!B35","v":"/kaut; xkSRre"},{"$f":"EmpDetail!C35","v":"अध्यापक ग्रेड III"},{"$f":"EmpDetail!D35","v":"राउप्रावि गोरधनपुरा"},{"$f":"EmpDetail!E35","v":"1986-08-25"},"2046-08-31"]
[null,null,null,null,null,null,null,null,null,null,null,null,33,{"$f":"EmpDetail!B36","v":"d`\".kk xaxoky"},{"$f":"EmpDetail!C36","v":"अध्यापक ग्रेड III"},{"$f":"EmpDetail!D36","v":"राउप्रावि गोरधनपुरा"},{"$f":"EmpDetail!E36","v":"1995-06-20"},"2055-06-30"]
[null,null,null,null,null,null,null,null,null,null,null,null,34,{"$f":"EmpDetail!B37","v":"n'kjFk dqekj ;kno"},{"$f":"EmpDetail!C37","v":"अध्यापक ग्रेड III"},{"$f":"EmpDetail!D37","v":"राउप्रावि सोंदीफल"},{"$f":"EmpDetail!E37","v":"1991-01-01"},"2050-12-31"]
[null,null,null,null,null,null,null,null,null,null,null,null,35,{"$f":"EmpDetail!B38","v":"d`\".k yky tkV"},{"$f":"EmpDetail!C38","v":"अध्यापक ग्रेड III"},{"$f":"EmpDetail!D38","v":"राउप्रावि सोंदीफल"},{"$f":"EmpDetail!E38","v":"1990-07-18"},"2050-07-31"]
[null,null,null,null,null,null,null,null,null,null,null,null,36,{"$f":"EmpDetail!B39","v":"nhisUnz dqekj iztkir"},{"$f":"EmpDetail!C39","v":"अध्यापक ग्रेड III"},{"$f":"EmpDetail!D39","v":"राउप्रावि सोंदीफल"},{"$f":"EmpDetail!E39","v":"1994-07-12"},"2054-07-31"]
[null,null,null,null,null,null,null,null,null,null,null,null,37,{"$f":"EmpDetail!B40","v":"uohu dqekj"},{"$f":"EmpDetail!C40","v":"अध्यापक ग्रेड III"},{"$f":"EmpDetail!D40","v":"राउप्रावि मोहिनी"},{"$f":"EmpDetail!E40","v":"1995-04-13"},"2055-04-30"]
[null,null,null,null,null,null,null,null,null,null,null,null,38,{"$f":"EmpDetail!B41","v":"ehrs'k dqekj 'kekZ"},{"$f":"EmpDetail!C41","v":"अध्यापक ग्रेड III"},{"$f":"EmpDetail!D41","v":"राउप्रावि मोहिनी"},{"$f":"EmpDetail!E41","v":"1989-08-13"},"2049-08-31"]
[null,null,null,null,null,null,null,null,null,null,null,null,39,{"$f":"EmpDetail!B42","v":"eUtw eh.kk"},{"$f":"EmpDetail!C42","v":"वरिष्ठ अध्यापक"},{"$f":"EmpDetail!D42","v":"राउप्रावि गोरधनपुरा"},{"$f":"EmpDetail!E42","v":"1991-01-06"},"2051-01-31"]
[null,null,null,null,null,null,null,null,null,null,null,null,40,{"$f":"EmpDetail!B43","v":"eatw pkS/kjh"},{"$f":"EmpDetail!C43","v":"वरिष्ठ अध्यापक"},{"$f":"EmpDetail!D43","v":"राउप्रावि सोंदीफल"},{"$f":"EmpDetail!E43","v":"1991-08-04"},"2051-08-31"]
[null,null,null,null,null,null,null,null,null,null,null,null,41,{"$f":"EmpDetail!B44","v":0},{"$f":"EmpDetail!C44","v":0},{"$f":"EmpDetail!D44","v":0},{"$f":"EmpDetail!E44","v":"00:00:00"},{"$error":"#NUM!"}]
[null,null,null,null,null,null,null,null,null,null,null,null,42,{"$f":"EmpDetail!B45","v":0},{"$f":"EmpDetail!C45","v":0},{"$f":"EmpDetail!D45","v":0},{"$f":"EmpDetail!E45","v":"00:00:00"},{"$error":"#NUM!"}]
[null,null,null,null,null,null,null,null,null,null,null,null,43,{"$f":"EmpDetail!B46","v":0},{"$f":"EmpDetail!C46","v":0},{"$f":"EmpDetail!D46","v":0},{"$f":"EmpDetail!E46","v":"00:00:00"},{"$error":"#NUM!"}]
[null,null,null,null,null,null,null,null,null,null,null,null,44,{"$f":"EmpDetail!B47","v":0},{"$f":"EmpDetail!C47","v":0},{"$f":"EmpDetail!D47","v":0},{"$f":"EmpDetail!E47","v":"00:00:00"},{"$error":"#NUM!"}]
[null,null,null,null,null,null,null,null,null,null,null,null,45,{"$f":"EmpDetail!B48","v":0},{"$f":"EmpDetail!C48","v":0},{"$f":"EmpDetail!D48","v":0},{"$f":"EmpDetail!E48","v":"00:00:00"},{"$error":"#NUM!"}]
[null,null,null,null,null,null,null,null,null,null,null,null,46,{"$f":"EmpDetail!B49","v":0},{"$f":"EmpDetail!C49","v":0},{"$f":"EmpDetail!D49","v":0},{"$f":"EmpDetail!E49","v":"00:00:00"},{"$error":"#NUM!"}]
[null,null,null,null,null,null,null,null,null,null,null,null,47,{"$f":"EmpDetail!B50","v":0},{"$f":"EmpDetail!C50","v":0},{"$f":"EmpDetail!D50","v":0},{"$f":"EmpDetail!E50","v":"00:00:00"},{"$error":"#NUM!"}]
[null,null,null,null,null,null,null,null,null,null,null,null,48,{"$f":"EmpDetail!B51","v":0},{"$f":"EmpDetail!C51","v":0},{"$f":"EmpDetail!D51","v":0},{"$f":"EmpDetail!E51","v":"00:00:00"},{"$error":"#NUM!"}]
[null,null,null,null,null,null,null,null,null,null,null,null,49,{"$f":"EmpDetail!B52","v":0},{"$f":"EmpDetail!C52","v":0},{"$f":"EmpDetail!D52","v":0},{"$f":"EmpDetail!E52","v":"00:00:00"},{"$error":"#NUM!"}]
[null,null,null,null,null,null,null,null,null,null,null,null,50,{"$f":"EmpDetail!B53","v":0},{"$f":"EmpDetail!C53","v":0},{"$f":"EmpDetail!D53","v":0},{"$f":"EmpDetail!E53","v":"00:00:00"},{"$error":"#NUM!"}]
[null,null,null,null,null,null,null,null,null,null,null,null,51,{"$f":"EmpDetail!B54","v":0},{"$f":"EmpDetail!C54","v":0},{"$f":"EmpDetail!D54","v":0},{"$f":"EmpDetail!E54","v":"00:00:00"},{"$error":"#NUM!"}]
[null,null,null,null,null,null,null,null,null,null,null,null,52,{"$f":"EmpDetail!B55","v":0},{"$f":"EmpDetail!C55","v":0},{"$f":"EmpDetail!D55","v":0},{"$f":"EmpDetail!E55","v":"00:00:00"},{"$error":"#NUM!"}]
[null,null,null,null,null,null,null,null,null,null,null,null,53,{"$f":"EmpDetail!B56","v":0},{"$f":"EmpDetail!C56","v":0},{"$f":"EmpDetail!D56","v":0},{"$f":"EmpDetail!E56","v":"00:00:00"},{"$error":"#NUM!"}]
[null,null,null,null,null,null,null,null,null,null,null,null,54,{"$f":"EmpDetail!B57","v":0},{"$f":"EmpDetail!C57","v":0},{"$f":"EmpDetail!D57","v":0},{"$f":"EmpDetail!E57","v":"00:00:00"},{"$error":"#NUM!"}]
[null,null,null,null,null,null,null,null,null,null,null,null,55,{"$f":"EmpDetail!B58","v":0},{"$f":"EmpDetail!C58","v":0},{"$f":"EmpDetail!D58","v":0},{"$f":"EmpDetail!E58","v":"00:00:00"},{"$error":"#NUM!"}]
[null,null,null,null,null,null,null,null,null,null,null,null,56,{"$f":"EmpDetail!B59","v":0},{"$f":"EmpDetail!C59","v":0},{"$f":"EmpDetail!D59","v":0},{"$f":"EmpDetail!E59","v":"00:00:00"},{"$error":"#NUM!"}]
[null,null,null,null,null,null,null,null,null,null,null,null,57,{"$f":"EmpDetail!B60","v":0},{"$f":"EmpDetail!C60","v":0},{"$f":"EmpDetail!D60","v":0},{"$f":"EmpDetail!E60","v":"00:00:00"},{"$error":"#NUM!"}]
[null,null,null,null,null,null,null,null,null,null,null,null,58,{"$f":"EmpDetail!B61","v":0},{"$f":"EmpDetail!C61","v":0},{"$f":"EmpDetail!D61","v":0},{"$f":"EmpDetail!E61","v":"00:00:00"},{"$error":"#NUM!"}]
[null,null,null,null,null,null,null,null,null,null,null,null,59,{"$f":"EmpDetail!B62","v":0},{"$f":"EmpDetail!C62","v":0},{"$f":"EmpDetail!D62","v":0},{"$f":"EmpDetail!E62","v":"00:00:00"},{"$error":"#NUM!"}]
[null,null,null,null,null,null,null,null,null,null,null,null,60,{"$f":"EmpDetail!B63","v":0},{"$f":"EmpDetail!C63","v":0},{"$f":"EmpDetail!D63","v":0},{"$f":"EmpDetail!E63","v":"00:00:00"},{"$error":"#NUM!"}]
[null,null,null,null,null,null,null,null,null,null,null,null,61,{"$f":"EmpDetail!B64","v":0},{"$f":"EmpDetail!C64","v":0},{"$f":"EmpDetail!D64","v":0},{"$f":"EmpDetail!E64","v":"00:00:00"},{"$error":"#NUM!"}]
[null,null,null,null,null,null,null,null,null,null,null,null,62,{"$f":"EmpDetail!B65","v":0},{"$f":"EmpDetail!C65","v":0},{"$f":"EmpDetail!D65","v":0},{"$f":"EmpDetail!E65","v":"00:00:00"},{"$error":"#NUM!"}]
[null,null,null,null,null,null,null,null,null,null,null,null,63,{"$f":"EmpDetail!B66","v":0},{"$f":"EmpDetail!C66","v":0},{"$f":"EmpDetail!D66","v":0},{"$f":"EmpDetail!E66","v":"00:00:00"},{"$error":"#NUM!"}]
[null,null,null,null,null,null,null,null,null,null,null,null,64,{"$f":"EmpDetail!B67","v":0},{"$f":"EmpDetail!C67","v":0},{"$f":"EmpDetail!D67","v":0},{"$f":"EmpDetail!E67","v":"00:00:00"},{"$error":"#NUM!"}]
[null,null,null,null,null,null,null,null,null,null,null,null,65,{"$f":"EmpDetail!B68","v":0},{"$f":"EmpDetail!C68","v":0},{"$f":"EmpDetail!D68","v":0},{"$f":"EmpDetail!E68","v":"00:00:00"},{"$error":"#NUM!"}]
[null,null,null,null,null,null,null,null,null,null,null,null,66,{"$f":"EmpDetail!B69","v":0},{"$f":"EmpDetail!C69","v":0},{"$f":"EmpDetail!D69","v":0},{"$f":"EmpDetail!E69","v":"00:00:00"},{"$f":"IF(Q70=\"\",\"\",DATE(YEAR(Q70-1)+60,(MONTH(Q70-1))+1,0))","v":{"$error":"#NUM!"}}]
[null,null,null,null,null,null,null,null,null,null,null,null,67,{"$f":"EmpDetail!B70","v":0},{"$f":"EmpDetail!C70","v":0},{"$f":"EmpDetail!D70","v":0},{"$f":"EmpDetail!E70","v":"00:00:00"},{"$error":"#NUM!"}]
[null,null,null,null,null,null,null,null,null,null,null,null,68,{"$f":"EmpDetail!B71","v":0},{"$f":"EmpDetail!C71","v":0},{"$f":"EmpDetail!D71","v":0},{"$f":"EmpDetail!E71","v":"00:00:00"},{"$error":"#NUM!"}]
[null,null,null,null,null,null,null,null,null,null,null,null,69,{"$f":"EmpDetail!B72","v":0},{"$f":"EmpDetail!C72","v":0},{"$f":"EmpDetail!D72","v":0},{"$f":"EmpDetail!E72","v":"00:00:00"},{"$error":"#NUM!"}]
[null,null,null,null,null,null,null,null,null,null,null,null,70,{"$f":"EmpDetail!B73","v":0},{"$f":"EmpDetail!C73","v":0},{"$f":"EmpDetail!D73","v":0},{"$f":"EmpDetail!E73","v":"00:00:00"},{"$error":"#NUM!"}]
[null,null,null,null,null,null,null,null,null,null,null,null,71,{"$f":"EmpDetail!B74","v":0},{"$f":"EmpDetail!C74","v":0},{"$f":"EmpDetail!D74","v":0},{"$f":"EmpDetail!E74","v":"00:00:00"},{"$error":"#NUM!"}]
[null,null,null,null,null,null,null,null,null,null,null,null,72,{"$f":"EmpDetail!B75","v":0},{"$f":"EmpDetail!C75","v":0},{"$f":"EmpDetail!D75","v":0},{"$f":"EmpDetail!E75","v":"00:00:00"},{"$error":"#NUM!"}]
[null,null,null,null,null,null,null,null,null,null,null,null,73,{"$f":"EmpDetail!B76","v":0},{"$f":"EmpDetail!C76","v":0},{"$f":"EmpDetail!D76","v":0},{"$f":"EmpDetail!E76","v":"00:00:00"},{"$error":"#NUM!"}]
[null,null,null,null,null,null,null,null,null,null,null,null,74,{"$f":"EmpDetail!B77","v":0},{"$f":"EmpDetail!C77","v":0},{"$f":"EmpDetail!D77","v":0},{"$f":"EmpDetail!E77","v":"00:00:00"},{"$error":"#NUM!"}]
[null,null,null,null,null,null,null,null,null,null,null,null,75,{"$f":"EmpDetail!B78","v":0},{"$f":"EmpDetail!C78","v":0},{"$f":"EmpDetail!D78","v":0},{"$f":"EmpDetail!E78","v":"00:00:00"},{"$error":"#NUM!"}]
[null,null,null,null,null,null,null,null,null,null,null,null,76,{"$f":"EmpDetail!B79","v":0},{"$f":"EmpDetail!C79","v":0},{"$f":"EmpDetail!D79","v":0},{"$f":"EmpDetail!E79","v":"00:00:00"},{"$error":"#NUM!"}]
[null,null,null,null,null,null,null,null,null,null,null,null,77,{"$f":"EmpDetail!B80","v":0},{"$f":"EmpDetail!C80","v":0},{"$f":"EmpDetail!D80","v":0},{"$f":"EmpDetail!E80","v":"00:00:00"},{"$error":"#NUM!"}]
[null,null,null,null,null,null,null,null,null,null,null,null,78,{"$f":"EmpDetail!B81","v":0},{"$f":"EmpDetail!C81","v":0},{"$f":"EmpDetail!D81","v":0},{"$f":"EmpDetail!E81","v":"00:00:00"},{"$error":"#NUM!"}]
[null,null,null,null,null,null,null,null,null,null,null,null,79,{"$f":"EmpDetail!B82","v":0},{"$f":"EmpDetail!C82","v":0},{"$f":"EmpDetail!D82","v":0},{"$f":"EmpDetail!E82","v":"00:00:00"},{"$error":"#NUM!"}]
[null,null,null,null,null,null,null,null,null,null,null,null,80,{"$f":"EmpDetail!B83","v":0},{"$f":"EmpDetail!C83","v":0},{"$f":"EmpDetail!D83","v":0},{"$f":"EmpDetail!E83","v":"00:00:00"},{"$error":"#NUM!"}]
[null,null,null,null,null,null,null,null,null,null,null,null,81,{"$f":"EmpDetail!B84","v":0},{"$f":"EmpDetail!C84","v":0},{"$f":"EmpDetail!D84","v":0},{"$f":"EmpDetail!E84","v":"00:00:00"},{"$error":"#NUM!"}]
[null,null,null,null,null,null,null,null,null,null,null,null,82,{"$f":"EmpDetail!B85","v":0},{"$f":"EmpDetail!C85","v":0},{"$f":"EmpDetail!D85","v":0},{"$f":"EmpDetail!E85","v":"00:00:00"},{"$error":"#NUM!"}]
[null,null,null,null,null,null,null,null,null,null,null,null,83,{"$f":"EmpDetail!B86","v":0},{"$f":"EmpDetail!C86","v":0},{"$f":"EmpDetail!D86","v":0},{"$f":"EmpDetail!E86","v":"00:00:00"},{"$error":"#NUM!"}]
[null,null,null,null,null,null,null,null,null,null,null,null,84,{"$f":"EmpDetail!B87","v":0},{"$f":"EmpDetail!C87","v":0},{"$f":"EmpDetail!D87","v":0},{"$f":"EmpDetail!E87","v":"00:00:00"},{"$error":"#NUM!"}]
[null,null,null,null,null,null,null,null,null,null,null,null,85,{"$f":"EmpDetail!B88","v":0},{"$f":"EmpDetail!C88","v":0},{"$f":"EmpDetail!D88","v":0},{"$f":"EmpDetail!E88","v":"00:00:00"},{"$error":"#NUM!"}]
[null,null,null,null,null,null,null,null,null,null,null,null,86,{"$f":"EmpDetail!B89","v":0},{"$f":"EmpDetail!C89","v":0},{"$f":"EmpDetail!D89","v":0},{"$f":"EmpDetail!E89","v":"00:00:00"},{"$error":"#NUM!"}]
[null,null,null,null,null,null,null,null,null,null,null,null,87,{"$f":"EmpDetail!B90","v":0},{"$f":"EmpDetail!C90","v":0},{"$f":"EmpDetail!D90","v":0},{"$f":"EmpDetail!E90","v":"00:00:00"},{"$error":"#NUM!"}]
[null,null,null,null,null,null,null,null,null,null,null,null,88,{"$f":"EmpDetail!B91","v":0},{"$f":"EmpDetail!C91","v":0},{"$f":"EmpDetail!D91","v":0},{"$f":"EmpDetail!E91","v":"00:00:00"},{"$error":"#NUM!"}]
[null,null,null,null,null,null,null,null,null,null,null,null,89,{"$f":"EmpDetail!B92","v":0},{"$f":"EmpDetail!C92","v":0},{"$f":"EmpDetail!D92","v":0},{"$f":"EmpDetail!E92","v":"00:00:00"},{"$error":"#NUM!"}]
[null,null,null,null,null,null,null,null,null,null,null,null,90,{"$f":"EmpDetail!B93","v":0},{"$f":"EmpDetail!C93","v":0},{"$f":"EmpDetail!D93","v":0},{"$f":"EmpDetail!E93","v":"00:00:00"},{"$error":"#NUM!"}]
[null,null,null,null,null,null,null,null,null,null,null,null,91,{"$f":"EmpDetail!B94","v":0},{"$f":"EmpDetail!C94","v":0},{"$f":"EmpDetail!D94","v":0},{"$f":"EmpDetail!E94","v":"00:00:00"},{"$error":"#NUM!"}]
[null,null,null,null,null,null,null,null,null,null,null,null,92,{"$f":"EmpDetail!B95","v":0},{"$f":"EmpDetail!C95","v":0},{"$f":"EmpDetail!D95","v":0},{"$f":"EmpDetail!E95","v":"00:00:00"},{"$error":"#NUM!"}]
[null,null,null,null,null,null,null,null,null,null,null,null,93,{"$f":"EmpDetail!B96","v":0},{"$f":"EmpDetail!C96","v":0},{"$f":"EmpDetail!D96","v":0},{"$f":"EmpDetail!E96","v":"00:00:00"},{"$error":"#NUM!"}]
[null,null,null,null,null,null,null,null,null,null,null,null,94,{"$f":"EmpDetail!B97","v":0},{"$f":"EmpDetail!C97","v":0},{"$f":"EmpDetail!D97","v":0},{"$f":"EmpDetail!E97","v":"00:00:00"},{"$error":"#NUM!"}]
[null,null,null,null,null,null,null,null,null,null,null,null,95,{"$f":"EmpDetail!B98","v":0},{"$f":"EmpDetail!C98","v":0},{"$f":"EmpDetail!D98","v":0},{"$f":"EmpDetail!E98","v":"00:00:00"},{"$error":"#NUM!"}]
[null,null,null,null,null,null,null,null,null,null,null,null,96,{"$f":"EmpDetail!B99","v":0},{"$f":"EmpDetail!C99","v":0},{"$f":"EmpDetail!D99","v":0},{"$f":"EmpDetail!E99","v":"00:00:00"},{"$error":"#NUM!"}]
[null,null,null,null,null,null,null,null,null,null,null,null,97,{"$f":"EmpDetail!B100","v":0},{"$f":"EmpDetail!C100","v":0},{"$f":"EmpDetail!D100","v":0},{"$f":"EmpDetail!E100","v":"00:00:00"},{"$error":"#NUM!"}]
[null,null,null,null,null,null,null,null,null,null,null,null,98,{"$f":"EmpDetail!B101","v":0},{"$f":"EmpDetail!C101","v":0},{"$f":"EmpDetail!D101","v":0},{"$f":"EmpDetail!E101","v":"00:00:00"},{"$error":"#NUM!"}]
[null,null,null,null,null,null,null,null,null,null,null,null,99,{"$f":"EmpDetail!B102","v":0},{"$f":"EmpDetail!C102","v":0},{"$f":"EmpDetail!D102","v":0},{"$f":"EmpDetail!E102","v":"00:00:00"},{"$error":"#NUM!"}]
[null,null,null,null,null,null,null,null,null,null,null,null,100,{"$f":"EmpDetail!B103","v":0},{"$f":"EmpDetail!C103","v":0},{"$f":"EmpDetail!D103","v":0},{"$f":"EmpDetail!E103","v":"00:00:00"},{"$error":"#NUM!"}]

{"sheet":"No Pension","index":42,"n_rows":104,"n_cols":18,"rows_kept":104,"cut":false,"hidden":true,"merged":[[10,3,10,5],[11,3,11,5],[12,3,12,5],[4,9,4,11],[0,0,0,5],[4,0,4,5],[5,1,5,2],[5,3,5,5],[6,2,6,5],[2,0,2,5]]}
[{"$f":"Master!G2&Master!H2","v":"कार्यालय&राजकीय उच्च माध्यमिक विद्यालय ]चौगाई]टोंक"}]
["dzekad&",{"$f":"Master!H3&Master!I3&Master!J3&Master!E3&\"/\"","v":"राउमावि/चौगाई/संस्था/2021-22/"},null,null,"fnukad&",{"$f":"TODAY()","v":"2021-06-19"}]
["isU’ku ,oa miknku lEcU/kh izek.k&iz="]
[null,null,null,null,null,null,null,null,null,null,null,null,null,{"$f":"IF(ISNA(VLOOKUP($K6,$M$5:$R$104,2,FALSE)),\"\",VLOOKUP($K6,$M$5:$R$104,2,FALSE))","v":"d`\".kk xaxoky"},{"$f":"IF(ISNA(VLOOKUP($K6,$M$5:$R$104,3,FALSE)),\"\",VLOOKUP($K6,$M$5:$R$104,3,FALSE))","v":"अध्यापक ग्रेड III"},{"$f":"IF(ISNA(VLOOKUP($K6,$M$5:$R$104,4,FALSE)),\"\",VLOOKUP($K6,$M$5:$R$104,4,FALSE))","v":"राउप्रावि गोरधनपुरा"},{"$f":"IF(ISNA(VLOOKUP($K6,$M$5:$R$104,6,FALSE)),\"\",VLOOKUP($K6,$M$5:$R$104,6,FALSE))","v":"2055-06-30"}]
[{"$f":"\"izekf.kr fd;k tkrk gS fd Jh@Jhefr \"&N4&\" inuke \"&O4","v":"izekf.kr fd;k tkrk gS fd Jh@Jhefr d`\".kk xaxoky inuke अध्यापक ग्रेड III"},null,null,null,null,null,null,null,null,"dkfeZd dk dzekad fy[ksa",null,null,1,{"$f":"EmpDetail!B4","v":"fd'ku yky cSjok"},{"$f":"EmpDetail!C4","v":"प्रधानाचार्य"},{"$f":"EmpDetail!D4","v":"राउमावि चौगाई"},{"$f":"EmpDetail!E4","v":"1962-01-10"},{"$f":"IF(Q5=\"\",\"\",DATE(YEAR(Q5-1)+60,(MONTH(Q5-1))+1,0))","v":"2022-01-31"}]
["dk;kZy;&",{"$f":"P4","v":"राउप्रावि गोरधनपुरा"},null,"dh vf/kokf\"kZdh vk;q iw.kZ gksus ls",null,null,null,null,null,null,33,null,2,{"$f":"EmpDetail!B5","v":"iwj.k pUn y{kdkj"},{"$f":"EmpDetail!C5","v":"व्याख्याता"},{"$f":"EmpDetail!D5","v":"राउमावि चौगाई"},{"$f":"EmpDetail!E5","v":"1971-07-08"},{"$f":"IF(Q6=\"\",\"\",DATE(YEAR(Q6-1)+60,(MONTH(Q6-1))+1,0))","v":"2031-07-31"}]
["fnukad&",{"$f":"Q4","v":"2055-06-30"},"dks jkT; lsok ls lsokfuo`Rr gks jgs@gks pqds gSA Jh@Jhefr",null,null,null,null,null,null,null,null,null,3,{"$f":"EmpDetail!B6","v":"jktsUnz dqekj tSu"},{"$f":"EmpDetail!C6","v":"व्याख्याता"},{"$f":"EmpDetail!D6","v":"राउमावि चौगाई"},{"$f":"EmpDetail!E6","v":"1968-09-14"},"2028-09-30"]
[" dks iwoZ esa fdlh izdkj dh izksfotuy isU’ku ,oa miknku dh Lohd`fr tkjh ugha dh x;h",null,null,null,null,null,null,null,null,null,null,null,4,{"$f":"EmpDetail!B7","v":"fd'ku yky cSjok"},{"$f":"EmpDetail!C7","v":"व्याख्याता"},{"$f":"EmpDetail!D7","v":"राउमावि चौगाई"},{"$f":"EmpDetail!E7","v":"1974-07-07"},"2034-07-31"]
[" gS vkSj uk gh Hkqxrku fd;k x;k gSA",null,null,null,null,null,null,null,null,null,null,null,5,{"$f":"EmpDetail!B8","v":"lR;ukjk;.k 'kekZ"},{"$f":"EmpDetail!C8","v":"वरिष्ठ अध्यापक"},{"$f":"EmpDetail!D8","v":"राउमावि चौगाई"},{"$f":"EmpDetail!E8","v":"1962-07-01"},"2022-06-30"]
[null,null,null,null,null,null,null,null,null,null,null,null,6,{"$f":"EmpDetail!B9","v":"iq\"ik tSu"},{"$f":"EmpDetail!C9","v":"वरिष्ठ अध्यापक"},{"$f":"EmpDetail!D9","v":"राउमावि चौगाई"},{"$f":"EmpDetail!E9","v":"1964-04-10"},"2024-04-30"]
[null,null,null,{"$f":"Master!B2","v":"प्रधानाचार्य"},null,null,null,null,null,null,null,null,7,{"$f":"EmpDetail!B10","v":"vk'kkjke eh.kk"},{"$f":"EmpDetail!C10","v":"वरिष्ठ अध्यापक"},{"$f":"EmpDetail!D10","v":"राउमावि चौगाई"},{"$f":"EmpDetail!E10","v":"1978-06-11"},"2038-06-30"]
[null,null,null,{"$f":"Master!B3","v":"राजकीय उच्च माध्यमिक विद्यालय "},null,null,null,null,null,null,null,null,8,{"$f":"EmpDetail!B11","v":"t;iky flag"},{"$f":"EmpDetail!C11","v":"वरिष्ठ अध्यापक"},{"$f":"EmpDetail!D11","v":"राउमावि चौगाई"},{"$f":"EmpDetail!E11","v":"1972-02-02"},"2032-02-29"]
[null,null,null,{"$f":"Master!B4","v":"चौगाई]टोंक"},null,null,null,null,null,null,null,null,9,{"$f":"EmpDetail!B12","v":"jkeizlkn jsxj"},{"$f":"EmpDetail!C12","v":"वरिष्ठ अध्यापक"},{"$f":"EmpDetail!D12","v":"राउमावि चौगाई"},{"$f":"EmpDetail!E12","v":"1978-06-01"},"2038-05-31"]
[null,null,null,null,null,null,null,null,null,null,null,null,10,{"$f":"EmpDetail!B13","v":"egsUnz dqekj tkV"},{"$f":"EmpDetail!C13","v":"शारीरिक शिक्षक"},{"$f":"EmpDetail!D13","v":"राउमावि चौगाई"},{"$f":"EmpDetail!E13","v":"1976-01-30"},"2036-01-31"]
[null,null,null,null,null,null,null,null,null,null,null,null,11,{"$f":"EmpDetail!B14","v":"NksVw yky jsxj"},{"$f":"EmpDetail!C14","v":"अध्यापक ग्रेड III"},{"$f":"EmpDetail!D14","v":"राउमावि चौगाई"},{"$f":"EmpDetail!E14","v":"1967-07-10"},"2027-07-31"]
[null,null,null,null,null,null,null,null,null,null,null,null,12,{"$f":"EmpDetail!B15","v":"dUgS;k yky egkoj"},{"$f":"EmpDetail!C15","v":"अध्यापक ग्रेड III"},{"$f":"EmpDetail!D15","v":"राउमावि चौगाई"},{"$f":"EmpDetail!E15","v":"1962-04-05"},"2022-04-30"]
[null,null,null,null,null,null,null,null,null,null,null,null,13,{"$f":"EmpDetail!B16","v":"prqHkqZt tkV"},{"$f":"EmpDetail!C16","v":"अध्यापक ग्रेड III"},{"$f":"EmpDetail!D16","v":"राउमावि चौगाई"},{"$f":"EmpDetail!E16","v":"1976-04-04"},"2036-04-30"]
[null,null,null,null,null,null,null,null,null,null,null,null,14,{"$f":"EmpDetail!B17","v":"vklsQk [kku"},{"$f":"EmpDetail!C17","v":"अध्यापक ग्रेड III"},{"$f":"EmpDetail!D17","v":"राउमावि चौगाई"},{"$f":"EmpDetail!E17","v":"1971-01-10"},"2031-01-31"]
[null,null,null,null,null,null,null,null,null,null,null,null,15,{"$f":"EmpDetail!B18","v":"lq'khyk cSjok"},{"$f":"EmpDetail!C18","v":"कनिष्ठ सहायक"},{"$f":"EmpDetail!D18","v":"राउमावि चौगाई"},{"$f":"EmpDetail!E18","v":"1995-01-01"},"2054-12-31"]
[null,null,null,null,null,null,null,null,null,null,null,null,16,{"$f":"EmpDetail!B19","v":"txnh'k izlkn rsyh"},{"$f":"EmpDetail!C19","v":"सहायक कर्मचारी"},{"$f":"EmpDetail!D19","v":"राउमावि चौगाई"},{"$f":"EmpDetail!E19","v":"1962-06-04"},"2022-06-30"]
[null,null,null,null,null,null,null,null,null,null,null,null,17,{"$f":"EmpDetail!B20","v":"jfoUnz dqekj tSu"},{"$f":"EmpDetail!C20","v":"अध्यापक ग्रेड III"},{"$f":"EmpDetail!D20","v":"राउप्रावि मोहिनी"},{"$f":"EmpDetail!E20","v":"1967-08-24"},"2027-08-31"]
[null,null,null,null,null,null,null,null,null,null,null,null,18,{"$f":"EmpDetail!B21","v":" ';ke lqUnj ckxkSM"},{"$f":"EmpDetail!C21","v":"अध्यापक ग्रेड III"},{"$f":"EmpDetail!D21","v":"राउप्रावि मोहिनी"},{"$f":"EmpDetail!E21","v":"1983-08-10"},"2043-08-31"]
[null,null,null,null,null,null,null,null,null,null,null,null,19,{"$f":"EmpDetail!B22","v":"d`\".kk 'kekZ"},{"$f":"EmpDetail!C22","v":"प्रबोधक"},{"$f":"EmpDetail!D22","v":"राउप्रावि मोहिनी"},{"$f":"EmpDetail!E22","v":"1972-08-06"},"2032-08-31"]
[null,null,null,null,null,null,null,null,null,null,null,null,20,{"$f":"EmpDetail!B23","v":"/keZsUnz pkS/kjh"},{"$f":"EmpDetail!C23","v":"अध्यापक ग्रेड III"},{"$f":"EmpDetail!D23","v":"राउप्रावि गोरधनपुरा"},{"$f":"EmpDetail!E23","v":"1990-03-05"},"2050-03-31"]
[null,null,null,null,null,null,null,null,null,null,null,null,21,{"$f":"EmpDetail!B24","v":"izgykn ekyh"},{"$f":"EmpDetail!C24","v":"प्रबोधक"},{"$f":"EmpDetail!D24","v":"राउप्रावि गोरधनपुरा"},{"$f":"EmpDetail!E24","v":"1974-08-07"},"2034-08-31"]
[null,null,null,null,null,null,null,null,null,null,null,null,22,{"$f":"EmpDetail!B25","v":"jken;ky xqtZj"},{"$f":"EmpDetail!C25","v":"प्रबोधक"},{"$f":"EmpDetail!D25","v":"राउप्रावि सोंदीफल"},{"$f":"EmpDetail!E25","v":"1977-08-18"},"2037-08-31"]
[null,null,null,null,null,null,null,null,null,null,null,null,23,{"$f":"EmpDetail!B26","v":"vkSeizdk'k tkV"},{"$f":"EmpDetail!C26","v":"अध्यापक ग्रेड III"},{"$f":"EmpDetail!D26","v":"राउप्रावि सोंदीफल"},{"$f":"EmpDetail!E26","v":"1982-10-31"},"2042-10-31"]
[null,null,null,null,null,null,null,null,null,null,null,null,24,{"$f":"EmpDetail!B27","v":"vthr flag"},{"$f":"EmpDetail!C27","v":"अध्यापक ग्रेड III"},{"$f":"EmpDetail!D27","v":"राप्रावि जानकीवल्लभपुरा"},{"$f":"EmpDetail!E27","v":"1987-08-08"},"2047-08-31"]
[null,null,null,null,null,null,null,null,null,null,null,null,25,{"$f":"EmpDetail!B28","v":"eq[rkj eha;k"},{"$f":"EmpDetail!C28","v":"प्रबोधक"},{"$f":"EmpDetail!D28","v":"राप्रावि जानकीवल्लभपुरा"},{"$f":"EmpDetail!E28","v":"1976-07-04"},"2036-07-31"]
[null,null,null,null,null,null,null,null,null,null,null,null,26,{"$f":"EmpDetail!B29","v":"eks0 tehy "},{"$f":"EmpDetail!C29","v":"प्रबोधक"},{"$f":"EmpDetail!D29","v":"राप्रावि रसूलपुरा"},{"$f":"EmpDetail!E29","v":"1968-09-15"},"2028-09-30"]
[null,null,null,null,null,null,null,null,null,null,null,null,27,{"$f":"EmpDetail!B30","v":"lkaojey tkV"},{"$f":"EmpDetail!C30","v":"अध्यापक ग्रेड III"},{"$f":"EmpDetail!D30","v":"राप्रावि रसूलपुरा"},{"$f":"EmpDetail!E30","v":"1992-03-03"},"2052-03-31"]
[null,null,null,null,null,null,null,null,null,null,null,null,28,{"$f":"EmpDetail!B31","v":"pkS/kjh eksuk jkekorkj"},{"$f":"EmpDetail!C31","v":"अध्यापक ग्रेड III"},{"$f":"EmpDetail!D31","v":"राप्रावि मोहिनी ढाणी बाढ"},{"$f":"EmpDetail!E31","v":"1990-01-05"},"2050-01-31"]
[null,null,null,null,null,null,null,null,null,null,null,null,29,{"$f":"EmpDetail!B32","v":"rkjkpUn tk;loky"},{"$f":"EmpDetail!C32","v":"प्रबोधक"},{"$f":"EmpDetail!D32","v":"राप्रावि मोहिनी ढाणी बाढ"},{"$f":"EmpDetail!E32","v":"1976-11-11"},"2036-11-30"]
[null,null,null,null,null,null,null,null,null,null,null,null,30,{"$f":"EmpDetail!B33","v":"jketl ;kno"},{"$f":"EmpDetail!C33","v":"अध्यापक ग्रेड III"},{"$f":"EmpDetail!D33","v":"राप्रावि बैरवा ढाणी सोन्दीफल"},{"$f":"EmpDetail!E33","v":"1970-06-12"},"2030-06-30"]
[null,null,null,null,null,null,null,null,null,null,null,null,31,{"$f":"EmpDetail!B34","v":"dtksMey eh.kk"},{"$f":"EmpDetail!C34","v":"अध्यापक ग्रेड III"},{"$f":"EmpDetail!D34","v":"राप्रावि बैरवा ढाणी सोन्दीफल"},{"$f":"EmpDetail!E34","v":"1990-07-01"},"2050-06-30"]
[null,null,null,null,null,null,null,null,null,null,null,null,32,{"$f":"EmpDetail!B35","v":"/kaut; xkSRre"},{"$f":"EmpDetail!C35","v":"अध्यापक ग्रेड III"},{"$f":"EmpDetail!D35","v":"राउप्रावि गोरधनपुरा"},{"$f":"EmpDetail!E35","v":"1986-08-25"},"2046-08-31"]
[null,null,null,null,null,null,null,null,null,null,null,null,33,{"$f":"EmpDetail!B36","v":"d`\".kk xaxoky"},{"$f":"EmpDetail!C36","v":"अध्यापक ग्रेड III"},{"$f":"EmpDetail!D36","v":"राउप्रावि गोरधनपुरा"},{"$f":"EmpDetail!E36","v":"1995-06-20"},"2055-06-30"]
[null,null,null,null,null,null,null,null,null,null,null,null,34,{"$f":"EmpDetail!B37","v":"n'kjFk dqekj ;kno"},{"$f":"EmpDetail!C37","v":"अध्यापक ग्रेड III"},{"$f":"EmpDetail!D37","v":"राउप्रावि सोंदीफल"},{"$f":"EmpDetail!E37","v":"1991-01-01"},"2050-12-31"]
[null,null,null,null,null,null,null,null,null,null,null,null,35,{"$f":"EmpDetail!B38","v":"d`\".k yky tkV"},{"$f":"EmpDetail!C38","v":"अध्यापक ग्रेड III"},{"$f":"EmpDetail!D38","v":"राउप्रावि सोंदीफल"},{"$f":"EmpDetail!E38","v":"1990-07-18"},"2050-07-31"]
[null,null,null,null,null,null,null,null,null,null,null,null,36,{"$f":"EmpDetail!B39","v":"nhisUnz dqekj iztkir"},{"$f":"EmpDetail!C39","v":"अध्यापक ग्रेड III"},{"$f":"EmpDetail!D39","v":"राउप्रावि सोंदीफल"},{"$f":"EmpDetail!E39","v":"1994-07-12"},"2054-07-31"]
[null,null,null,null,null,null,null,null,null,null,null,null,37,{"$f":"EmpDetail!B40","v":"uohu dqekj"},{"$f":"EmpDetail!C40","v":"अध्यापक ग्रेड III"},{"$f":"EmpDetail!D40","v":"राउप्रावि मोहिनी"},{"$f":"EmpDetail!E40","v":"1995-04-13"},"2055-04-30"]
[null,null,null,null,null,null,null,null,null,null,null,null,38,{"$f":"EmpDetail!B41","v":"ehrs'k dqekj 'kekZ"},{"$f":"EmpDetail!C41","v":"अध्यापक ग्रेड III"},{"$f":"EmpDetail!D41","v":"राउप्रावि मोहिनी"},{"$f":"EmpDetail!E41","v":"1989-08-13"},"2049-08-31"]
[null,null,null,null,null,null,null,null,null,null,null,null,39,{"$f":"EmpDetail!B42","v":"eUtw eh.kk"},{"$f":"EmpDetail!C42","v":"वरिष्ठ अध्यापक"},{"$f":"EmpDetail!D42","v":"राउप्रावि गोरधनपुरा"},{"$f":"EmpDetail!E42","v":"1991-01-06"},"2051-01-31"]
[null,null,null,null,null,null,null,null,null,null,null,null,40,{"$f":"EmpDetail!B43","v":"eatw pkS/kjh"},{"$f":"EmpDetail!C43","v":"वरिष्ठ अध्यापक"},{"$f":"EmpDetail!D43","v":"राउप्रावि सोंदीफल"},{"$f":"EmpDetail!E43","v":"1991-08-04"},"2051-08-31"]
[null,null,null,null,null,null,null,null,null,null,null,null,41,{"$f":"EmpDetail!B44","v":0},{"$f":"EmpDetail!C44","v":0},{"$f":"EmpDetail!D44","v":0},{"$f":"EmpDetail!E44","v":"00:00:00"},{"$error":"#NUM!"}]
[null,null,null,null,null,null,null,null,null,null,null,null,42,{"$f":"EmpDetail!B45","v":0},{"$f":"EmpDetail!C45","v":0},{"$f":"EmpDetail!D45","v":0},{"$f":"EmpDetail!E45","v":"00:00:00"},{"$error":"#NUM!"}]
[null,null,null,null,null,null,null,null,null,null,null,null,43,{"$f":"EmpDetail!B46","v":0},{"$f":"EmpDetail!C46","v":0},{"$f":"EmpDetail!D46","v":0},{"$f":"EmpDetail!E46","v":"00:00:00"},{"$error":"#NUM!"}]
[null,null,null,null,null,null,null,null,null,null,null,null,44,{"$f":"EmpDetail!B47","v":0},{"$f":"EmpDetail!C47","v":0},{"$f":"EmpDetail!D47","v":0},{"$f":"EmpDetail!E47","v":"00:00:00"},{"$error":"#NUM!"}]
[null,null,null,null,null,null,null,null,null,null,null,null,45,{"$f":"EmpDetail!B48","v":0},{"$f":"EmpDetail!C48","v":0},{"$f":"EmpDetail!D48","v":0},{"$f":"EmpDetail!E48","v":"00:00:00"},{"$error":"#NUM!"}]
[null,null,null,null,null,null,null,null,null,null,null,null,46,{"$f":"EmpDetail!B49","v":0},{"$f":"EmpDetail!C49","v":0},{"$f":"EmpDetail!D49","v":0},{"$f":"EmpDetail!E49","v":"00:00:00"},{"$error":"#NUM!"}]
[null,null,null,null,null,null,null,null,null,null,null,null,47,{"$f":"EmpDetail!B50","v":0},{"$f":"EmpDetail!C50","v":0},{"$f":"EmpDetail!D50","v":0},{"$f":"EmpDetail!E50","v":"00:00:00"},{"$error":"#NUM!"}]
[null,null,null,null,null,null,null,null,null,null,null,null,48,{"$f":"EmpDetail!B51","v":0},{"$f":"EmpDetail!C51","v":0},{"$f":"EmpDetail!D51","v":0},{"$f":"EmpDetail!E51","v":"00:00:00"},{"$error":"#NUM!"}]
[null,null,null,null,null,null,null,null,null,null,null,null,49,{"$f":"EmpDetail!B52","v":0},{"$f":"EmpDetail!C52","v":0},{"$f":"EmpDetail!D52","v":0},{"$f":"EmpDetail!E52","v":"00:00:00"},{"$error":"#NUM!"}]
[null,null,null,null,null,null,null,null,null,null,null,null,50,{"$f":"EmpDetail!B53","v":0},{"$f":"EmpDetail!C53","v":0},{"$f":"EmpDetail!D53","v":0},{"$f":"EmpDetail!E53","v":"00:00:00"},{"$error":"#NUM!"}]
[null,null,null,null,null,null,null,null,null,null,null,null,51,{"$f":"EmpDetail!B54","v":0},{"$f":"EmpDetail!C54","v":0},{"$f":"EmpDetail!D54","v":0},{"$f":"EmpDetail!E54","v":"00:00:00"},{"$error":"#NUM!"}]
[null,null,null,null,null,null,null,null,null,null,null,null,52,{"$f":"EmpDetail!B55","v":0},{"$f":"EmpDetail!C55","v":0},{"$f":"EmpDetail!D55","v":0},{"$f":"EmpDetail!E55","v":"00:00:00"},{"$error":"#NUM!"}]
[null,null,null,null,null,null,null,null,null,null,null,null,53,{"$f":"EmpDetail!B56","v":0},{"$f":"EmpDetail!C56","v":0},{"$f":"EmpDetail!D56","v":0},{"$f":"EmpDetail!E56","v":"00:00:00"},{"$error":"#NUM!"}]
[null,null,null,null,null,null,null,null,null,null,null,null,54,{"$f":"EmpDetail!B57","v":0},{"$f":"EmpDetail!C57","v":0},{"$f":"EmpDetail!D57","v":0},{"$f":"EmpDetail!E57","v":"00:00:00"},{"$error":"#NUM!"}]
[null,null,null,null,null,null,null,null,null,null,null,null,55,{"$f":"EmpDetail!B58","v":0},{"$f":"EmpDetail!C58","v":0},{"$f":"EmpDetail!D58","v":0},{"$f":"EmpDetail!E58","v":"00:00:00"},{"$error":"#NUM!"}]
[null,null,null,null,null,null,null,null,null,null,null,null,56,{"$f":"EmpDetail!B59","v":0},{"$f":"EmpDetail!C59","v":0},{"$f":"EmpDetail!D59","v":0},{"$f":"EmpDetail!E59","v":"00:00:00"},{"$error":"#NUM!"}]
[null,null,null,null,null,null,null,null,null,null,null,null,57,{"$f":"EmpDetail!B60","v":0},{"$f":"EmpDetail!C60","v":0},{"$f":"EmpDetail!D60","v":0},{"$f":"EmpDetail!E60","v":"00:00:00"},{"$error":"#NUM!"}]
[null,null,null,null,null,null,null,null,null,null,null,null,58,{"$f":"EmpDetail!B61","v":0},{"$f":"EmpDetail!C61","v":0},{"$f":"EmpDetail!D61","v":0},{"$f":"EmpDetail!E61","v":"00:00:00"},{"$error":"#NUM!"}]
[null,null,null,null,null,null,null,null,null,null,null,null,59,{"$f":"EmpDetail!B62","v":0},{"$f":"EmpDetail!C62","v":0},{"$f":"EmpDetail!D62","v":0},{"$f":"EmpDetail!E62","v":"00:00:00"},{"$error":"#NUM!"}]
[null,null,null,null,null,null,null,null,null,null,null,null,60,{"$f":"EmpDetail!B63","v":0},{"$f":"EmpDetail!C63","v":0},{"$f":"EmpDetail!D63","v":0},{"$f":"EmpDetail!E63","v":"00:00:00"},{"$error":"#NUM!"}]
[null,null,null,null,null,null,null,null,null,null,null,null,61,{"$f":"EmpDetail!B64","v":0},{"$f":"EmpDetail!C64","v":0},{"$f":"EmpDetail!D64","v":0},{"$f":"EmpDetail!E64","v":"00:00:00"},{"$error":"#NUM!"}]
[null,null,null,null,null,null,null,null,null,null,null,null,62,{"$f":"EmpDetail!B65","v":0},{"$f":"EmpDetail!C65","v":0},{"$f":"EmpDetail!D65","v":0},{"$f":"EmpDetail!E65","v":"00:00:00"},{"$error":"#NUM!"}]
[null,null,null,null,null,null,null,null,null,null,null,null,63,{"$f":"EmpDetail!B66","v":0},{"$f":"EmpDetail!C66","v":0},{"$f":"EmpDetail!D66","v":0},{"$f":"EmpDetail!E66","v":"00:00:00"},{"$error":"#NUM!"}]
[null,null,null,null,null,null,null,null,null,null,null,null,64,{"$f":"EmpDetail!B67","v":0},{"$f":"EmpDetail!C67","v":0},{"$f":"EmpDetail!D67","v":0},{"$f":"EmpDetail!E67","v":"00:00:00"},{"$error":"#NUM!"}]
[null,null,null,null,null,null,null,null,null,null,null,null,65,{"$f":"EmpDetail!B68","v":0},{"$f":"EmpDetail!C68","v":0},{"$f":"EmpDetail!D68","v":0},{"$f":"EmpDetail!E68","v":"00:00:00"},{"$error":"#NUM!"}]
[null,null,null,null,null,null,null,null,null,null,null,null,66,{"$f":"EmpDetail!B69","v":0},{"$f":"EmpDetail!C69","v":0},{"$f":"EmpDetail!D69","v":0},{"$f":"EmpDetail!E69","v":"00:00:00"},{"$f":"IF(Q70=\"\",\"\",DATE(YEAR(Q70-1)+60,(MONTH(Q70-1))+1,0))","v":{"$error":"#NUM!"}}]
[null,null,null,null,null,null,null,null,null,null,null,null,67,{"$f":"EmpDetail!B70","v":0},{"$f":"EmpDetail!C70","v":0},{"$f":"EmpDetail!D70","v":0},{"$f":"EmpDetail!E70","v":"00:00:00"},{"$error":"#NUM!"}]
[null,null,null,null,null,null,null,null,null,null,null,null,68,{"$f":"EmpDetail!B71","v":0},{"$f":"EmpDetail!C71","v":0},{"$f":"EmpDetail!D71","v":0},{"$f":"EmpDetail!E71","v":"00:00:00"},{"$error":"#NUM!"}]
[null,null,null,null,null,null,null,null,null,null,null,null,69,{"$f":"EmpDetail!B72","v":0},{"$f":"EmpDetail!C72","v":0},{"$f":"EmpDetail!D72","v":0},{"$f":"EmpDetail!E72","v":"00:00:00"},{"$error":"#NUM!"}]
[null,null,null,null,null,null,null,null,null,null,null,null,70,{"$f":"EmpDetail!B73","v":0},{"$f":"EmpDetail!C73","v":0},{"$f":"EmpDetail!D73","v":0},{"$f":"EmpDetail!E73","v":"00:00:00"},{"$error":"#NUM!"}]
[null,null,null,null,null,null,null,null,null,null,null,null,71,{"$f":"EmpDetail!B74","v":0},{"$f":"EmpDetail!C74","v":0},{"$f":"EmpDetail!D74","v":0},{"$f":"EmpDetail!E74","v":"00:00:00"},{"$error":"#NUM!"}]
[null,null,null,null,null,null,null,null,null,null,null,null,72,{"$f":"EmpDetail!B75","v":0},{"$f":"EmpDetail!C75","v":0},{"$f":"EmpDetail!D75","v":0},{"$f":"EmpDetail!E75","v":"00:00:00"},{"$error":"#NUM!"}]
[null,null,null,null,null,null,null,null,null,null,null,null,73,{"$f":"EmpDetail!B76","v":0},{"$f":"EmpDetail!C76","v":0},{"$f":"EmpDetail!D76","v":0},{"$f":"EmpDetail!E76","v":"00:00:00"},{"$error":"#NUM!"}]
[null,null,null,null,null,null,null,null,null,null,null,null,74,{"$f":"EmpDetail!B77","v":0},{"$f":"EmpDetail!C77","v":0},{"$f":"EmpDetail!D77","v":0},{"$f":"EmpDetail!E77","v":"00:00:00"},{"$error":"#NUM!"}]
[null,null,null,null,null,null,null,null,null,null,null,null,75,{"$f":"EmpDetail!B78","v":0},{"$f":"EmpDetail!C78","v":0},{"$f":"EmpDetail!D78","v":0},{"$f":"EmpDetail!E78","v":"00:00:00"},{"$error":"#NUM!"}]
[null,null,null,null,null,null,null,null,null,null,null,null,76,{"$f":"EmpDetail!B79","v":0},{"$f":"EmpDetail!C79","v":0},{"$f":"EmpDetail!D79","v":0},{"$f":"EmpDetail!E79","v":"00:00:00"},{"$error":"#NUM!"}]
[null,null,null,null,null,null,null,null,null,null,null,null,77,{"$f":"EmpDetail!B80","v":0},{"$f":"EmpDetail!C80","v":0},{"$f":"EmpDetail!D80","v":0},{"$f":"EmpDetail!E80","v":"00:00:00"},{"$error":"#NUM!"}]
[null,null,null,null,null,null,null,null,null,null,null,null,78,{"$f":"EmpDetail!B81","v":0},{"$f":"EmpDetail!C81","v":0},{"$f":"EmpDetail!D81","v":0},{"$f":"EmpDetail!E81","v":"00:00:00"},{"$error":"#NUM!"}]
[null,null,null,null,null,null,null,null,null,null,null,null,79,{"$f":"EmpDetail!B82","v":0},{"$f":"EmpDetail!C82","v":0},{"$f":"EmpDetail!D82","v":0},{"$f":"EmpDetail!E82","v":"00:00:00"},{"$error":"#NUM!"}]
[null,null,null,null,null,null,null,null,null,null,null,null,80,{"$f":"EmpDetail!B83","v":0},{"$f":"EmpDetail!C83","v":0},{"$f":"EmpDetail!D83","v":0},{"$f":"EmpDetail!E83","v":"00:00:00"},{"$error":"#NUM!"}]
[null,null,null,null,null,null,null,null,null,null,null,null,81,{"$f":"EmpDetail!B84","v":0},{"$f":"EmpDetail!C84","v":0},{"$f":"EmpDetail!D84","v":0},{"$f":"EmpDetail!E84","v":"00:00:00"},{"$error":"#NUM!"}]
[null,null,null,null,null,null,null,null,null,null,null,null,82,{"$f":"EmpDetail!B85","v":0},{"$f":"EmpDetail!C85","v":0},{"$f":"EmpDetail!D85","v":0},{"$f":"EmpDetail!E85","v":"00:00:00"},{"$error":"#NUM!"}]
[null,null,null,null,null,null,null,null,null,null,null,null,83,{"$f":"EmpDetail!B86","v":0},{"$f":"EmpDetail!C86","v":0},{"$f":"EmpDetail!D86","v":0},{"$f":"EmpDetail!E86","v":"00:00:00"},{"$error":"#NUM!"}]
[null,null,null,null,null,null,null,null,null,null,null,null,84,{"$f":"EmpDetail!B87","v":0},{"$f":"EmpDetail!C87","v":0},{"$f":"EmpDetail!D87","v":0},{"$f":"EmpDetail!E87","v":"00:00:00"},{"$error":"#NUM!"}]
[null,null,null,null,null,null,null,null,null,null,null,null,85,{"$f":"EmpDetail!B88","v":0},{"$f":"EmpDetail!C88","v":0},{"$f":"EmpDetail!D88","v":0},{"$f":"EmpDetail!E88","v":"00:00:00"},{"$error":"#NUM!"}]
[null,null,null,null,null,null,null,null,null,null,null,null,86,{"$f":"EmpDetail!B89","v":0},{"$f":"EmpDetail!C89","v":0},{"$f":"EmpDetail!D89","v":0},{"$f":"EmpDetail!E89","v":"00:00:00"},{"$error":"#NUM!"}]
[null,null,null,null,null,null,null,null,null,null,null,null,87,{"$f":"EmpDetail!B90","v":0},{"$f":"EmpDetail!C90","v":0},{"$f":"EmpDetail!D90","v":0},{"$f":"EmpDetail!E90","v":"00:00:00"},{"$error":"#NUM!"}]
[null,null,null,null,null,null,null,null,null,null,null,null,88,{"$f":"EmpDetail!B91","v":0},{"$f":"EmpDetail!C91","v":0},{"$f":"EmpDetail!D91","v":0},{"$f":"EmpDetail!E91","v":"00:00:00"},{"$error":"#NUM!"}]
[null,null,null,null,null,null,null,null,null,null,null,null,89,{"$f":"EmpDetail!B92","v":0},{"$f":"EmpDetail!C92","v":0},{"$f":"EmpDetail!D92","v":0},{"$f":"EmpDetail!E92","v":"00:00:00"},{"$error":"#NUM!"}]
[null,null,null,null,null,null,null,null,null,null,null,null,90,{"$f":"EmpDetail!B93","v":0},{"$f":"EmpDetail!C93","v":0},{"$f":"EmpDetail!D93","v":0},{"$f":"EmpDetail!E93","v":"00:00:00"},{"$error":"#NUM!"}]
[null,null,null,null,null,null,null,null,null,null,null,null,91,{"$f":"EmpDetail!B94","v":0},{"$f":"EmpDetail!C94","v":0},{"$f":"EmpDetail!D94","v":0},{"$f":"EmpDetail!E94","v":"00:00:00"},{"$error":"#NUM!"}]
[null,null,null,null,null,null,null,null,null,null,null,null,92,{"$f":"EmpDetail!B95","v":0},{"$f":"EmpDetail!C95","v":0},{"$f":"EmpDetail!D95","v":0},{"$f":"EmpDetail!E95","v":"00:00:00"},{"$error":"#NUM!"}]
[null,null,null,null,null,null,null,null,null,null,null,null,93,{"$f":"EmpDetail!B96","v":0},{"$f":"EmpDetail!C96","v":0},{"$f":"EmpDetail!D96","v":0},{"$f":"EmpDetail!E96","v":"00:00:00"},{"$error":"#NUM!"}]
[null,null,null,null,null,null,null,null,null,null,null,null,94,{"$f":"EmpDetail!B97","v":0},{"$f":"EmpDetail!C97","v":0},{"$f":"EmpDetail!D97","v":0},{"$f":"EmpDetail!E97","v":"00:00:00"},{"$error":"#NUM!"}]
[null,null,null,null,null,null,null,null,null,null,null,null,95,{"$f":"EmpDetail!B98","v":0},{"$f":"EmpDetail!C98","v":0},{"$f":"EmpDetail!D98","v":0},{"$f":"EmpDetail!E98","v":"00:00:00"},{"$error":"#NUM!"}]
[null,null,null,null,null,null,null,null,null,null,null,null,96,{"$f":"EmpDetail!B99","v":0},{"$f":"EmpDetail!C99","v":0},{"$f":"EmpDetail!D99","v":0},{"$f":"EmpDetail!E99","v":"00:00:00"},{"$error":"#NUM!"}]
[null,null,null,null,null,null,null,null,null,null,null,null,97,{"$f":"EmpDetail!B100","v":0},{"$f":"EmpDetail!C100","v":0},{"$f":"EmpDetail!D100","v":0},{"$f":"EmpDetail!E100","v":"00:00:00"},{"$error":"#NUM!"}]
[null,null,null,null,null,null,null,null,null,null,null,null,98,{"$f":"EmpDetail!B101","v":0},{"$f":"EmpDetail!C101","v":0},{"$f":"EmpDetail!D101","v":0},{"$f":"EmpDetail!E101","v":"00:00:00"},{"$error":"#NUM!"}]
[null,null,null,null,null,null,null,null,null,null,null,null,99,{"$f":"EmpDetail!B102","v":0},{"$f":"EmpDetail!C102","v":0},{"$f":"EmpDetail!D102","v":0},{"$f":"EmpDetail!E102","v":"00:00:00"},{"$error":"#NUM!"}]
[null,null,null,null,null,null,null,null,null,null,null,null,100,{"$f":"EmpDetail!B103","v":0},{"$f":"EmpDetail!C103","v":0},{"$f":"EmpDetail!D103","v":0},{"$f":"EmpDetail!E103","v":"00:00:00"},{"$error":"#NUM!"}]

{"sheet":"GA 126","index":43,"n_rows":104,"n_cols":18,"rows_kept":104,"cut":false,"hidden":true,"merged":[[28,2,28,3],[29,0,29,1],[29,2,30,3],[20,4,20,5],[21,4,22,5],[24,0,24,5],[27,0,27,1],[27,2,27,3],[27,4,27,5],[4,9,4,11],[30,4,30,5],[31,4,31,5],[19,4,19,5],[0,0,0,5],[1,0,1,5],[2,0,2,5],[3,0,3,5],[5,0,5,5],[6,0,6,5],[8,4,8,5],[9,4,9,5],[10,4,10,5],[11,4,11,5],[16,3,16,5],[28,0,28,1]]}
["                      jktLFkku ljdkj                  GA-126"]
[" euksu;u e`R;q ,oa fuo`fRr miknku izkfIr ds fy;s "]
["tc deZpkjh ds ifjokj gks o muesa ls fdlh ,d O;fDr dks euksuhr "]
["djuk gS rks ;g QkWeZ dke esa ykuk gS",null,null,null,null,null,null,null,null,null,null,null,null,{"$f":"IF(ISNA(VLOOKUP($K6,$M$5:$R$104,2,FALSE)),\"\",VLOOKUP($K6,$M$5:$R$104,2,FALSE))","v":"d`\".kk xaxoky"},{"$f":"IF(ISNA(VLOOKUP($K6,$M$5:$R$104,3,FALSE)),\"\",VLOOKUP($K6,$M$5:$R$104,3,FALSE))","v":"अध्यापक ग्रेड III"},{"$f":"IF(ISNA(VLOOKUP($K6,$M$5:$R$104,4,FALSE)),\"\",VLOOKUP($K6,$M$5:$R$104,4,FALSE))","v":"राउप्रावि गोरधनपुरा"},{"$f":"IF(ISNA(VLOOKUP($K6,$M$5:$R$104,6,FALSE)),\"\",VLOOKUP($K6,$M$5:$R$104,6,FALSE))","v":"2055-06-30"}]
[null,null,null,null,null,null,null,null,null,"dkfeZd dk dzekad fy[ksa",null,null,1,{"$f":"EmpDetail!B4","v":"fd'ku yky cSjok"},{"$f":"EmpDetail!C4","v":"प्रधानाचार्य"},{"$f":"EmpDetail!D4","v":"राउमावि चौगाई"},{"$f":"EmpDetail!E4","v":"1962-01-10"},{"$f":"IF(Q5=\"\",\"\",DATE(YEAR(Q5-1)+60,(MONTH(Q5-1))+1,0))","v":"2022-01-31"}]
[{"$f":"\"eSa  \"&N4&\" in \"&O4&\"  fuEufyf[kr O;fDr dks tks esjk ifjokjh gSa] euksuhr djrk gwa \"","v":"eSa  d`\".kk xaxoky in अध्यापक ग्रेड III  fuEufyf[kr O;fDr dks tks esjk ifjokjh gSa] euksuhr djrk gwa "},null,null,null,null,null,null,null,null,null,33,null,2,{"$f":"EmpDetail!B5","v":"iwj.k pUn y{kdkj"},{"$f":"EmpDetail!C5","v":"व्याख्याता"},{"$f":"EmpDetail!D5","v":"राउमावि चौगाई"},{"$f":"EmpDetail!E5","v":"1971-07-08"},{"$f":"IF(Q6=\"\",\"\",DATE(YEAR(Q6-1)+60,(MONTH(Q6-1))+1,0))","v":"2031-07-31"}]
["fd miknku tks ljdkj ls esjh e`R;q gksus ij Lohd`r djsa] izkfIr dk vf/kdkj nsrk gwa A",null,null,null,null,null,null,null,null,null,null,null,3,{"$f":"EmpDetail!B6","v":"jktsUnz dqekj tSu"},{"$f":"EmpDetail!C6","v":"व्याख्याता"},{"$f":"EmpDetail!D6","v":"राउमावि चौगाई"},{"$f":"EmpDetail!E6","v":"1968-09-14"},"2028-09-30"]
[null,null,null,null,null,null,null,null,null,null,null,null,4,{"$f":"EmpDetail!B7","v":"fd'ku yky cSjok"},{"$f":"EmpDetail!C7","v":"व्याख्याता"},{"$f":"EmpDetail!D7","v":"राउमावि चौगाई"},{"$f":"EmpDetail!E7","v":"1974-07-07"},"2034-07-31"]
["dz-la-","uke o irk euksuhr O;fDr dk ","deZpkjh ls laca/k","?kVuk ftldss gksus ij euksu;u v;ksX; gksxk","uke]irk o laca/k ml O;fDr dk ;fn dksbZ gks ftldh euksuhr O;fDr dk vf/kdkjh mldh deZpkjh ls igys e`R;q gksus ij feysxk",null,null,null,null,null,null,null,5,{"$f":"EmpDetail!B8","v":"lR;ukjk;.k 'kekZ"},{"$f":"EmpDetail!C8","v":"वरिष्ठ अध्यापक"},{"$f":"EmpDetail!D8","v":"राउमावि चौगाई"},{"$f":"EmpDetail!E8","v":"1962-07-01"},"2022-06-30"]
[1,"iIiw yky xaxoky","firk","e`R;q ;k ikxy gksus ij",null,null,null,null,null,null,null,null,6,{"$f":"EmpDetail!B9","v":"iq\"ik tSu"},{"$f":"EmpDetail!C9","v":"वरिष्ठ अध्यापक"},{"$f":"EmpDetail!D9","v":"राउमावि चौगाई"},{"$f":"EmpDetail!E9","v":"1964-04-10"},"2024-04-30"]
[2,null,null,null,null,null,null,null,null,null,null,null,7,{"$f":"EmpDetail!B10","v":"vk'kkjke eh.kk"},{"$f":"EmpDetail!C10","v":"वरिष्ठ अध्यापक"},{"$f":"EmpDetail!D10","v":"राउमावि चौगाई"},{"$f":"EmpDetail!E10","v":"1978-06-11"},"2038-06-30"]
[3,null,null,null,null,null,null,null,null,null,null,null,8,{"$f":"EmpDetail!B11","v":"t;iky flag"},{"$f":"EmpDetail!C11","v":"वरिष्ठ अध्यापक"},{"$f":"EmpDetail!D11","v":"राउमावि चौगाई"},{"$f":"EmpDetail!E11","v":"1972-02-02"},"2032-02-29"]
[null,null,null,null,null,null,null,null,null,null,null,null,9,{"$f":"EmpDetail!B12","v":"jkeizlkn jsxj"},{"$f":"EmpDetail!C12","v":"वरिष्ठ अध्यापक"},{"$f":"EmpDetail!D12","v":"राउमावि चौगाई"},{"$f":"EmpDetail!E12","v":"1978-06-01"},"2038-05-31"]
["fnukad&",{"$f":"TODAY()","v":"2021-06-19"},null,null,null,null,null,null,null,null,null,null,10,{"$f":"EmpDetail!B13","v":"egsUnz dqekj tkV"},{"$f":"EmpDetail!C13","v":"शारीरिक शिक्षक"},{"$f":"EmpDetail!D13","v":"राउमावि चौगाई"},{"$f":"EmpDetail!E13","v":"1976-01-30"},"2036-01-31"]
[null,null,null,null,null,null,null,null,null,null,null,null,11,{"$f":"EmpDetail!B14","v":"NksVw yky jsxj"},{"$f":"EmpDetail!C14","v":"अध्यापक ग्रेड III"},{"$f":"EmpDetail!D14","v":"राउमावि चौगाई"},{"$f":"EmpDetail!E14","v":"1967-07-10"},"2027-07-31"]
[null,null,null,null,null,null,null,null,null,null,null,null,12,{"$f":"EmpDetail!B15","v":"dUgS;k yky egkoj"},{"$f":"EmpDetail!C15","v":"अध्यापक ग्रेड III"},{"$f":"EmpDetail!D15","v":"राउमावि चौगाई"},{"$f":"EmpDetail!E15","v":"1962-04-05"},"2022-04-30"]
["gLrk{kj xokg ",null,null,"gLrk{kj dkfeZd ",null,null,null,null,null,null,null,null,13,{"$f":"EmpDetail!B16","v":"prqHkqZt tkV"},{"$f":"EmpDetail!C16","v":"अध्यापक ग्रेड III"},{"$f":"EmpDetail!D16","v":"राउमावि चौगाई"},{"$f":"EmpDetail!E16","v":"1976-04-04"},"2036-04-30"]
[null,null,null,null,null,null,null,null,null,null,null,null,14,{"$f":"EmpDetail!B17","v":"vklsQk [kku"},{"$f":"EmpDetail!C17","v":"अध्यापक ग्रेड III"},{"$f":"EmpDetail!D17","v":"राउमावि चौगाई"},{"$f":"EmpDetail!E17","v":"1971-01-10"},"2031-01-31"]
[null,null,null,null,null,null,null,null,null,null,null,null,15,{"$f":"EmpDetail!B18","v":"lq'khyk cSjok"},{"$f":"EmpDetail!C18","v":"कनिष्ठ सहायक"},{"$f":"EmpDetail!D18","v":"राउमावि चौगाई"},{"$f":"EmpDetail!E18","v":"1995-01-01"},"2054-12-31"]
["1-  ",null,null,"uke dkfeZd&",{"$f":"N4","v":"d`\".kk xaxoky"},null,null,null,null,null,null,null,16,{"$f":"EmpDetail!B19","v":"txnh'k izlkn rsyh"},{"$f":"EmpDetail!C19","v":"सहायक कर्मचारी"},{"$f":"EmpDetail!D19","v":"राउमावि चौगाई"},{"$f":"EmpDetail!E19","v":"1962-06-04"},"2022-06-30"]
[null,null,null,"in&",{"$f":"O4","v":"अध्यापक ग्रेड III"},null,null,null,null,null,null,null,17,{"$f":"EmpDetail!B20","v":"jfoUnz dqekj tSu"},{"$f":"EmpDetail!C20","v":"अध्यापक ग्रेड III"},{"$f":"EmpDetail!D20","v":"राउप्रावि मोहिनी"},{"$f":"EmpDetail!E20","v":"1967-08-24"},"2027-08-31"]
["2-",null,null,"inLFkkiu&",{"$f":"P4","v":"राउप्रावि गोरधनपुरा"},null,null,null,null,null,null,null,18,{"$f":"EmpDetail!B21","v":" ';ke lqUnj ckxkSM"},{"$f":"EmpDetail!C21","v":"अध्यापक ग्रेड III"},{"$f":"EmpDetail!D21","v":"राउप्रावि मोहिनी"},{"$f":"EmpDetail!E21","v":"1983-08-10"},"2043-08-31"]
[null,null,null,null,null,null,null,null,null,null,null,null,19,{"$f":"EmpDetail!B22","v":"d`\".kk 'kekZ"},{"$f":"EmpDetail!C22","v":"प्रबोधक"},{"$f":"EmpDetail!D22","v":"राउप्रावि मोहिनी"},{"$f":"EmpDetail!E22","v":"1972-08-06"},"2032-08-31"]
[null,null,null,null,null,null,null,null,null,null,null,null,20,{"$f":"EmpDetail!B23","v":"/keZsUnz pkS/kjh"},{"$f":"EmpDetail!C23","v":"अध्यापक ग्रेड III"},{"$f":"EmpDetail!D23","v":"राउप्रावि गोरधनपुरा"},{"$f":"EmpDetail!E23","v":"1990-03-05"},"2050-03-31"]
[";fn deZpkjh vjktif=r gks rks bl QkWeZ dh iwfrZ dk;kZy;/;{k djsaA",null,null,null,null,null,null,null,null,null,null,null,21,{"$f":"EmpDetail!B24","v":"izgykn ekyh"},{"$f":"EmpDetail!C24","v":"प्रबोधक"},{"$f":"EmpDetail!D24","v":"राउप्रावि गोरधनपुरा"},{"$f":"EmpDetail!E24","v":"1974-08-07"},"2034-08-31"]
[null,null,null,null,null,null,null,null,null,null,null,null,22,{"$f":"EmpDetail!B25","v":"jken;ky xqtZj"},{"$f":"EmpDetail!C25","v":"प्रबोधक"},{"$f":"EmpDetail!D25","v":"राउप्रावि सोंदीफल"},{"$f":"EmpDetail!E25","v":"1977-08-18"},"2037-08-31"]
[null,null,null,null,null,null,null,null,null,null,null,null,23,{"$f":"EmpDetail!B26","v":"vkSeizdk'k tkV"},{"$f":"EmpDetail!C26","v":"अध्यापक ग्रेड III"},{"$f":"EmpDetail!D26","v":"राउप्रावि सोंदीफल"},{"$f":"EmpDetail!E26","v":"1982-10-31"},"2042-10-31"]
["euksuhr djus okys dk uke %&",null,{"$f":"E20","v":"d`\".kk xaxoky"},null,"gLrk{kj dk;kZy;/;{k ",null,null,null,null,null,null,null,24,{"$f":"EmpDetail!B27","v":"vthr flag"},{"$f":"EmpDetail!C27","v":"अध्यापक ग्रेड III"},{"$f":"EmpDetail!D27","v":"राप्रावि जानकीवल्लभपुरा"},{"$f":"EmpDetail!E27","v":"1987-08-08"},"2047-08-31"]
["inuke %&",null,{"$f":"E21","v":"अध्यापक ग्रेड III"},null,"   frfFk",{"$f":"TODAY()","v":"2021-06-19"},null,null,null,null,null,null,25,{"$f":"EmpDetail!B28","v":"eq[rkj eha;k"},{"$f":"EmpDetail!C28","v":"प्रबोधक"},{"$f":"EmpDetail!D28","v":"राप्रावि जानकीवल्लभपुरा"},{"$f":"EmpDetail!E28","v":"1976-07-04"},"2036-07-31"]
["uke dk;kZy; %&",null,"राउप्रावि गोरधनपुरा",null,"   in",{"$f":"Master!B2","v":"प्रधानाचार्य"},null,null,null,null,null,null,26,{"$f":"EmpDetail!B29","v":"eks0 tehy "},{"$f":"EmpDetail!C29","v":"प्रबोधक"},{"$f":"EmpDetail!D29","v":"राप्रावि रसूलपुरा"},{"$f":"EmpDetail!E29","v":"1968-09-15"},"2028-09-30"]
[null,null,null,null,{"$f":"Master!B3","v":"राजकीय उच्च माध्यमिक विद्यालय "},null,null,null,null,null,null,null,27,{"$f":"EmpDetail!B30","v":"lkaojey tkV"},{"$f":"EmpDetail!C30","v":"अध्यापक ग्रेड III"},{"$f":"EmpDetail!D30","v":"राप्रावि रसूलपुरा"},{"$f":"EmpDetail!E30","v":"1992-03-03"},"2052-03-31"]
[null,null,null,null,{"$f":"Master!B4","v":"चौगाई]टोंक"},null,null,null,null,null,null,null,28,{"$f":"EmpDetail!B31","v":"pkS/kjh eksuk jkekorkj"},{"$f":"EmpDetail!C31","v":"अध्यापक ग्रेड III"},{"$f":"EmpDetail!D31","v":"राप्रावि मोहिनी ढाणी बाढ"},{"$f":"EmpDetail!E31","v":"1990-01-05"},"2050-01-31"]
[null,null,null,null,null,null,null,null,null,null,null,null,29,{"$f":"EmpDetail!B32","v":"rkjkpUn tk;loky"},{"$f":"EmpDetail!C32","v":"प्रबोधक"},{"$f":"EmpDetail!D32","v":"राप्रावि मोहिनी ढाणी बाढ"},{"$f":"EmpDetail!E32","v":"1976-11-11"},"2036-11-30"]
[null,null,null,null,null,null,null,null,null,null,null,null,30,{"$f":"EmpDetail!B33","v":"jketl ;kno"},{"$f":"EmpDetail!C33","v":"अध्यापक ग्रेड III"},{"$f":"EmpDetail!D33","v":"राप्रावि बैरवा ढाणी सोन्दीफल"},{"$f":"EmpDetail!E33","v":"1970-06-12"},"2030-06-30"]
[null,null,null,null,null,null,null,null,null,null,null,null,31,{"$f":"EmpDetail!B34","v":"dtksMey eh.kk"},{"$f":"EmpDetail!C34","v":"अध्यापक ग्रेड III"},{"$f":"EmpDetail!D34","v":"राप्रावि बैरवा ढाणी सोन्दीफल"},{"$f":"EmpDetail!E34","v":"1990-07-01"},"2050-06-30"]
[null,null,null,null,null,null,null,null,null,null,null,null,32,{"$f":"EmpDetail!B35","v":"/kaut; xkSRre"},{"$f":"EmpDetail!C35","v":"अध्यापक ग्रेड III"},{"$f":"EmpDetail!D35","v":"राउप्रावि गोरधनपुरा"},{"$f":"EmpDetail!E35","v":"1986-08-25"},"2046-08-31"]
[null,null,null,null,null,null,null,null,null,null,null,null,33,{"$f":"EmpDetail!B36","v":"d`\".kk xaxoky"},{"$f":"EmpDetail!C36","v":"अध्यापक ग्रेड III"},{"$f":"EmpDetail!D36","v":"राउप्रावि गोरधनपुरा"},{"$f":"EmpDetail!E36","v":"1995-06-20"},"2055-06-30"]
[null,null,null,null,null,null,null,null,null,null,null,null,34,{"$f":"EmpDetail!B37","v":"n'kjFk dqekj ;kno"},{"$f":"EmpDetail!C37","v":"अध्यापक ग्रेड III"},{"$f":"EmpDetail!D37","v":"राउप्रावि सोंदीफल"},{"$f":"EmpDetail!E37","v":"1991-01-01"},"2050-12-31"]
[null,null,null,null,null,null,null,null,null,null,null,null,35,{"$f":"EmpDetail!B38","v":"d`\".k yky tkV"},{"$f":"EmpDetail!C38","v":"अध्यापक ग्रेड III"},{"$f":"EmpDetail!D38","v":"राउप्रावि सोंदीफल"},{"$f":"EmpDetail!E38","v":"1990-07-18"},"2050-07-31"]
[null,null,null,null,null,null,null,null,null,null,null,null,36,{"$f":"EmpDetail!B39","v":"nhisUnz dqekj iztkir"},{"$f":"EmpDetail!C39","v":"अध्यापक ग्रेड III"},{"$f":"EmpDetail!D39","v":"राउप्रावि सोंदीफल"},{"$f":"EmpDetail!E39","v":"1994-07-12"},"2054-07-31"]
[null,null,null,null,null,null,null,null,null,null,null,null,37,{"$f":"EmpDetail!B40","v":"uohu dqekj"},{"$f":"EmpDetail!C40","v":"अध्यापक ग्रेड III"},{"$f":"EmpDetail!D40","v":"राउप्रावि मोहिनी"},{"$f":"EmpDetail!E40","v":"1995-04-13"},"2055-04-30"]
[null,null,null,null,null,null,null,null,null,null,null,null,38,{"$f":"EmpDetail!B41","v":"ehrs'k dqekj 'kekZ"},{"$f":"EmpDetail!C41","v":"अध्यापक ग्रेड III"},{"$f":"EmpDetail!D41","v":"राउप्रावि मोहिनी"},{"$f":"EmpDetail!E41","v":"1989-08-13"},"2049-08-31"]
[null,null,null,null,null,null,null,null,null,null,null,null,39,{"$f":"EmpDetail!B42","v":"eUtw eh.kk"},{"$f":"EmpDetail!C42","v":"वरिष्ठ अध्यापक"},{"$f":"EmpDetail!D42","v":"राउप्रावि गोरधनपुरा"},{"$f":"EmpDetail!E42","v":"1991-01-06"},"2051-01-31"]
[null,null,null,null,null,null,null,null,null,null,null,null,40,{"$f":"EmpDetail!B43","v":"eatw pkS/kjh"},{"$f":"EmpDetail!C43","v":"वरिष्ठ अध्यापक"},{"$f":"EmpDetail!D43","v":"राउप्रावि सोंदीफल"},{"$f":"EmpDetail!E43","v":"1991-08-04"},"2051-08-31"]
[null,null,null,null,null,null,null,null,null,null,null,null,41,{"$f":"EmpDetail!B44","v":0},{"$f":"EmpDetail!C44","v":0},{"$f":"EmpDetail!D44","v":0},{"$f":"EmpDetail!E44","v":"00:00:00"},{"$error":"#NUM!"}]
[null,null,null,null,null,null,null,null,null,null,null,null,42,{"$f":"EmpDetail!B45","v":0},{"$f":"EmpDetail!C45","v":0},{"$f":"EmpDetail!D45","v":0},{"$f":"EmpDetail!E45","v":"00:00:00"},{"$error":"#NUM!"}]
[null,null,null,null,null,null,null,null,null,null,null,null,43,{"$f":"EmpDetail!B46","v":0},{"$f":"EmpDetail!C46","v":0},{"$f":"EmpDetail!D46","v":0},{"$f":"EmpDetail!E46","v":"00:00:00"},{"$error":"#NUM!"}]
[null,null,null,null,null,null,null,null,null,null,null,null,44,{"$f":"EmpDetail!B47","v":0},{"$f":"EmpDetail!C47","v":0},{"$f":"EmpDetail!D47","v":0},{"$f":"EmpDetail!E47","v":"00:00:00"},{"$error":"#NUM!"}]
[null,null,null,null,null,null,null,null,null,null,null,null,45,{"$f":"EmpDetail!B48","v":0},{"$f":"EmpDetail!C48","v":0},{"$f":"EmpDetail!D48","v":0},{"$f":"EmpDetail!E48","v":"00:00:00"},{"$error":"#NUM!"}]
[null,null,null,null,null,null,null,null,null,null,null,null,46,{"$f":"EmpDetail!B49","v":0},{"$f":"EmpDetail!C49","v":0},{"$f":"EmpDetail!D49","v":0},{"$f":"EmpDetail!E49","v":"00:00:00"},{"$error":"#NUM!"}]
[null,null,null,null,null,null,null,null,null,null,null,null,47,{"$f":"EmpDetail!B50","v":0},{"$f":"EmpDetail!C50","v":0},{"$f":"EmpDetail!D50","v":0},{"$f":"EmpDetail!E50","v":"00:00:00"},{"$error":"#NUM!"}]
[null,null,null,null,null,null,null,null,null,null,null,null,48,{"$f":"EmpDetail!B51","v":0},{"$f":"EmpDetail!C51","v":0},{"$f":"EmpDetail!D51","v":0},{"$f":"EmpDetail!E51","v":"00:00:00"},{"$error":"#NUM!"}]
[null,null,null,null,null,null,null,null,null,null,null,null,49,{"$f":"EmpDetail!B52","v":0},{"$f":"EmpDetail!C52","v":0},{"$f":"EmpDetail!D52","v":0},{"$f":"EmpDetail!E52","v":"00:00:00"},{"$error":"#NUM!"}]
[null,null,null,null,null,null,null,null,null,null,null,null,50,{"$f":"EmpDetail!B53","v":0},{"$f":"EmpDetail!C53","v":0},{"$f":"EmpDetail!D53","v":0},{"$f":"EmpDetail!E53","v":"00:00:00"},{"$error":"#NUM!"}]
[null,null,null,null,null,null,null,null,null,null,null,null,51,{"$f":"EmpDetail!B54","v":0},{"$f":"EmpDetail!C54","v":0},{"$f":"EmpDetail!D54","v":0},{"$f":"EmpDetail!E54","v":"00:00:00"},{"$error":"#NUM!"}]
[null,null,null,null,null,null,null,null,null,null,null,null,52,{"$f":"EmpDetail!B55","v":0},{"$f":"EmpDetail!C55","v":0},{"$f":"EmpDetail!D55","v":0},{"$f":"EmpDetail!E55","v":"00:00:00"},{"$error":"#NUM!"}]
[null,null,null,null,null,null,null,null,null,null,null,null,53,{"$f":"EmpDetail!B56","v":0},{"$f":"EmpDetail!C56","v":0},{"$f":"EmpDetail!D56","v":0},{"$f":"EmpDetail!E56","v":"00:00:00"},{"$error":"#NUM!"}]
[null,null,null,null,null,null,null,null,null,null,null,null,54,{"$f":"EmpDetail!B57","v":0},{"$f":"EmpDetail!C57","v":0},{"$f":"EmpDetail!D57","v":0},{"$f":"EmpDetail!E57","v":"00:00:00"},{"$error":"#NUM!"}]
[null,null,null,null,null,null,null,null,null,null,null,null,55,{"$f":"EmpDetail!B58","v":0},{"$f":"EmpDetail!C58","v":0},{"$f":"EmpDetail!D58","v":0},{"$f":"EmpDetail!E58","v":"00:00:00"},{"$error":"#NUM!"}]
[null,null,null,null,null,null,null,null,null,null,null,null,56,{"$f":"EmpDetail!B59","v":0},{"$f":"EmpDetail!C59","v":0},{"$f":"EmpDetail!D59","v":0},{"$f":"EmpDetail!E59","v":"00:00:00"},{"$error":"#NUM!"}]
[null,null,null,null,null,null,null,null,null,null,null,null,57,{"$f":"EmpDetail!B60","v":0},{"$f":"EmpDetail!C60","v":0},{"$f":"EmpDetail!D60","v":0},{"$f":"EmpDetail!E60","v":"00:00:00"},{"$error":"#NUM!"}]
[null,null,null,null,null,null,null,null,null,null,null,null,58,{"$f":"EmpDetail!B61","v":0},{"$f":"EmpDetail!C61","v":0},{"$f":"EmpDetail!D61","v":0},{"$f":"EmpDetail!E61","v":"00:00:00"},{"$error":"#NUM!"}]
[null,null,null,null,null,null,null,null,null,null,null,null,59,{"$f":"EmpDetail!B62","v":0},{"$f":"EmpDetail!C62","v":0},{"$f":"EmpDetail!D62","v":0},{"$f":"EmpDetail!E62","v":"00:00:00"},{"$error":"#NUM!"}]
[null,null,null,null,null,null,null,null,null,null,null,null,60,{"$f":"EmpDetail!B63","v":0},{"$f":"EmpDetail!C63","v":0},{"$f":"EmpDetail!D63","v":0},{"$f":"EmpDetail!E63","v":"00:00:00"},{"$error":"#NUM!"}]
[null,null,null,null,null,null,null,null,null,null,null,null,61,{"$f":"EmpDetail!B64","v":0},{"$f":"EmpDetail!C64","v":0},{"$f":"EmpDetail!D64","v":0},{"$f":"EmpDetail!E64","v":"00:00:00"},{"$error":"#NUM!"}]
[null,null,null,null,null,null,null,null,null,null,null,null,62,{"$f":"EmpDetail!B65","v":0},{"$f":"EmpDetail!C65","v":0},{"$f":"EmpDetail!D65","v":0},{"$f":"EmpDetail!E65","v":"00:00:00"},{"$error":"#NUM!"}]
[null,null,null,null,null,null,null,null,null,null,null,null,63,{"$f":"EmpDetail!B66","v":0},{"$f":"EmpDetail!C66","v":0},{"$f":"EmpDetail!D66","v":0},{"$f":"EmpDetail!E66","v":"00:00:00"},{"$error":"#NUM!"}]
[null,null,null,null,null,null,null,null,null,null,null,null,64,{"$f":"EmpDetail!B67","v":0},{"$f":"EmpDetail!C67","v":0},{"$f":"EmpDetail!D67","v":0},{"$f":"EmpDetail!E67","v":"00:00:00"},{"$error":"#NUM!"}]
[null,null,null,null,null,null,null,null,null,null,null,null,65,{"$f":"EmpDetail!B68","v":0},{"$f":"EmpDetail!C68","v":0},{"$f":"EmpDetail!D68","v":0},{"$f":"EmpDetail!E68","v":"00:00:00"},{"$error":"#NUM!"}]
[null,null,null,null,null,null,null,null,null,null,null,null,66,{"$f":"EmpDetail!B69","v":0},{"$f":"EmpDetail!C69","v":0},{"$f":"EmpDetail!D69","v":0},{"$f":"EmpDetail!E69","v":"00:00:00"},{"$f":"IF(Q70=\"\",\"\",DATE(YEAR(Q70-1)+60,(MONTH(Q70-1))+1,0))","v":{"$error":"#NUM!"}}]
[null,null,null,null,null,null,null,null,null,null,null,null,67,{"$f":"EmpDetail!B70","v":0},{"$f":"EmpDetail!C70","v":0},{"$f":"EmpDetail!D70","v":0},{"$f":"EmpDetail!E70","v":"00:00:00"},{"$error":"#NUM!"}]
[null,null,null,null,null,null,null,null,null,null,null,null,68,{"$f":"EmpDetail!B71","v":0},{"$f":"EmpDetail!C71","v":0},{"$f":"EmpDetail!D71","v":0},{"$f":"EmpDetail!E71","v":"00:00:00"},{"$error":"#NUM!"}]
[null,null,null,null,null,null,null,null,null,null,null,null,69,{"$f":"EmpDetail!B72","v":0},{"$f":"EmpDetail!C72","v":0},{"$f":"EmpDetail!D72","v":0},{"$f":"EmpDetail!E72","v":"00:00:00"},{"$error":"#NUM!"}]
[null,null,null,null,null,null,null,null,null,null,null,null,70,{"$f":"EmpDetail!B73","v":0},{"$f":"EmpDetail!C73","v":0},{"$f":"EmpDetail!D73","v":0},{"$f":"EmpDetail!E73","v":"00:00:00"},{"$error":"#NUM!"}]
[null,null,null,null,null,null,null,null,null,null,null,null,71,{"$f":"EmpDetail!B74","v":0},{"$f":"EmpDetail!C74","v":0},{"$f":"EmpDetail!D74","v":0},{"$f":"EmpDetail!E74","v":"00:00:00"},{"$error":"#NUM!"}]
[null,null,null,null,null,null,null,null,null,null,null,null,72,{"$f":"EmpDetail!B75","v":0},{"$f":"EmpDetail!C75","v":0},{"$f":"EmpDetail!D75","v":0},{"$f":"EmpDetail!E75","v":"00:00:00"},{"$error":"#NUM!"}]
[null,null,null,null,null,null,null,null,null,null,null,null,73,{"$f":"EmpDetail!B76","v":0},{"$f":"EmpDetail!C76","v":0},{"$f":"EmpDetail!D76","v":0},{"$f":"EmpDetail!E76","v":"00:00:00"},{"$error":"#NUM!"}]
[null,null,null,null,null,null,null,null,null,null,null,null,74,{"$f":"EmpDetail!B77","v":0},{"$f":"EmpDetail!C77","v":0},{"$f":"EmpDetail!D77","v":0},{"$f":"EmpDetail!E77","v":"00:00:00"},{"$error":"#NUM!"}]
[null,null,null,null,null,null,null,null,null,null,null,null,75,{"$f":"EmpDetail!B78","v":0},{"$f":"EmpDetail!C78","v":0},{"$f":"EmpDetail!D78","v":0},{"$f":"EmpDetail!E78","v":"00:00:00"},{"$error":"#NUM!"}]
[null,null,null,null,null,null,null,null,null,null,null,null,76,{"$f":"EmpDetail!B79","v":0},{"$f":"EmpDetail!C79","v":0},{"$f":"EmpDetail!D79","v":0},{"$f":"EmpDetail!E79","v":"00:00:00"},{"$error":"#NUM!"}]
[null,null,null,null,null,null,null,null,null,null,null,null,77,{"$f":"EmpDetail!B80","v":0},{"$f":"EmpDetail!C80","v":0},{"$f":"EmpDetail!D80","v":0},{"$f":"EmpDetail!E80","v":"00:00:00"},{"$error":"#NUM!"}]
[null,null,null,null,null,null,null,null,null,null,null,null,78,{"$f":"EmpDetail!B81","v":0},{"$f":"EmpDetail!C81","v":0},{"$f":"EmpDetail!D81","v":0},{"$f":"EmpDetail!E81","v":"00:00:00"},{"$error":"#NUM!"}]
[null,null,null,null,null,null,null,null,null,null,null,null,79,{"$f":"EmpDetail!B82","v":0},{"$f":"EmpDetail!C82","v":0},{"$f":"EmpDetail!D82","v":0},{"$f":"EmpDetail!E82","v":"00:00:00"},{"$error":"#NUM!"}]
[null,null,null,null,null,null,null,null,null,null,null,null,80,{"$f":"EmpDetail!B83","v":0},{"$f":"EmpDetail!C83","v":0},{"$f":"EmpDetail!D83","v":0},{"$f":"EmpDetail!E83","v":"00:00:00"},{"$error":"#NUM!"}]
[null,null,null,null,null,null,null,null,null,null,null,null,81,{"$f":"EmpDetail!B84","v":0},{"$f":"EmpDetail!C84","v":0},{"$f":"EmpDetail!D84","v":0},{"$f":"EmpDetail!E84","v":"00:00:00"},{"$error":"#NUM!"}]
[null,null,null,null,null,null,null,null,null,null,null,null,82,{"$f":"EmpDetail!B85","v":0},{"$f":"EmpDetail!C85","v":0},{"$f":"EmpDetail!D85","v":0},{"$f":"EmpDetail!E85","v":"00:00:00"},{"$error":"#NUM!"}]
[null,null,null,null,null,null,null,null,null,null,null,null,83,{"$f":"EmpDetail!B86","v":0},{"$f":"EmpDetail!C86","v":0},{"$f":"EmpDetail!D86","v":0},{"$f":"EmpDetail!E86","v":"00:00:00"},{"$error":"#NUM!"}]
[null,null,null,null,null,null,null,null,null,null,null,null,84,{"$f":"EmpDetail!B87","v":0},{"$f":"EmpDetail!C87","v":0},{"$f":"EmpDetail!D87","v":0},{"$f":"EmpDetail!E87","v":"00:00:00"},{"$error":"#NUM!"}]
[null,null,null,null,null,null,null,null,null,null,null,null,85,{"$f":"EmpDetail!B88","v":0},{"$f":"EmpDetail!C88","v":0},{"$f":"EmpDetail!D88","v":0},{"$f":"EmpDetail!E88","v":"00:00:00"},{"$error":"#NUM!"}]
[null,null,null,null,null,null,null,null,null,null,null,null,86,{"$f":"EmpDetail!B89","v":0},{"$f":"EmpDetail!C89","v":0},{"$f":"EmpDetail!D89","v":0},{"$f":"EmpDetail!E89","v":"00:00:00"},{"$error":"#NUM!"}]
[null,null,null,null,null,null,null,null,null,null,null,null,87,{"$f":"EmpDetail!B90","v":0},{"$f":"EmpDetail!C90","v":0},{"$f":"EmpDetail!D90","v":0},{"$f":"EmpDetail!E90","v":"00:00:00"},{"$error":"#NUM!"}]
[null,null,null,null,null,null,null,null,null,null,null,null,88,{"$f":"EmpDetail!B91","v":0},{"$f":"EmpDetail!C91","v":0},{"$f":"EmpDetail!D91","v":0},{"$f":"EmpDetail!E91","v":"00:00:00"},{"$error":"#NUM!"}]
[null,null,null,null,null,null,null,null,null,null,null,null,89,{"$f":"EmpDetail!B92","v":0},{"$f":"EmpDetail!C92","v":0},{"$f":"EmpDetail!D92","v":0},{"$f":"EmpDetail!E92","v":"00:00:00"},{"$error":"#NUM!"}]
[null,null,null,null,null,null,null,null,null,null,null,null,90,{"$f":"EmpDetail!B93","v":0},{"$f":"EmpDetail!C93","v":0},{"$f":"EmpDetail!D93","v":0},{"$f":"EmpDetail!E93","v":"00:00:00"},{"$error":"#NUM!"}]
[null,null,null,null,null,null,null,null,null,null,null,null,91,{"$f":"EmpDetail!B94","v":0},{"$f":"EmpDetail!C94","v":0},{"$f":"EmpDetail!D94","v":0},{"$f":"EmpDetail!E94","v":"00:00:00"},{"$error":"#NUM!"}]
[null,null,null,null,null,null,null,null,null,null,null,null,92,{"$f":"EmpDetail!B95","v":0},{"$f":"EmpDetail!C95","v":0},{"$f":"EmpDetail!D95","v":0},{"$f":"EmpDetail!E95","v":"00:00:00"},{"$error":"#NUM!"}]
[null,null,null,null,null,null,null,null,null,null,null,null,93,{"$f":"EmpDetail!B96","v":0},{"$f":"EmpDetail!C96","v":0},{"$f":"EmpDetail!D96","v":0},{"$f":"EmpDetail!E96","v":"00:00:00"},{"$error":"#NUM!"}]
[null,null,null,null,null,null,null,null,null,null,null,null,94,{"$f":"EmpDetail!B97","v":0},{"$f":"EmpDetail!C97","v":0},{"$f":"EmpDetail!D97","v":0},{"$f":"EmpDetail!E97","v":"00:00:00"},{"$error":"#NUM!"}]
[null,null,null,null,null,null,null,null,null,null,null,null,95,{"$f":"EmpDetail!B98","v":0},{"$f":"EmpDetail!C98","v":0},{"$f":"EmpDetail!D98","v":0},{"$f":"EmpDetail!E98","v":"00:00:00"},{"$error":"#NUM!"}]
[null,null,null,null,null,null,null,null,null,null,null,null,96,{"$f":"EmpDetail!B99","v":0},{"$f":"EmpDetail!C99","v":0},{"$f":"EmpDetail!D99","v":0},{"$f":"EmpDetail!E99","v":"00:00:00"},{"$error":"#NUM!"}]
[null,null,null,null,null,null,null,null,null,null,null,null,97,{"$f":"EmpDetail!B100","v":0},{"$f":"EmpDetail!C100","v":0},{"$f":"EmpDetail!D100","v":0},{"$f":"EmpDetail!E100","v":"00:00:00"},{"$error":"#NUM!"}]
[null,null,null,null,null,null,null,null,null,null,null,null,98,{"$f":"EmpDetail!B101","v":0},{"$f":"EmpDetail!C101","v":0},{"$f":"EmpDetail!D101","v":0},{"$f":"EmpDetail!E101","v":"00:00:00"},{"$error":"#NUM!"}]
[null,null,null,null,null,null,null,null,null,null,null,null,99,{"$f":"EmpDetail!B102","v":0},{"$f":"EmpDetail!C102","v":0},{"$f":"EmpDetail!D102","v":0},{"$f":"EmpDetail!E102","v":"00:00:00"},{"$error":"#NUM!"}]
[null,null,null,null,null,null,null,null,null,null,null,null,100,{"$f":"EmpDetail!B103","v":0},{"$f":"EmpDetail!C103","v":0},{"$f":"EmpDetail!D103","v":0},{"$f":"EmpDetail!E103","v":"00:00:00"},{"$error":"#NUM!"}]

{"sheet":"GA 46","index":44,"n_rows":104,"n_cols":38,"rows_kept":104,"cut":false,"hidden":true,"merged":[[5,25,6,25],[5,13,6,13],[5,14,5,16],[5,17,5,19],[5,20,6,20],[5,21,6,23],[5,24,6,24],[4,8,6,8],[4,9,4,11],[5,0,6,0],[5,1,6,1],[5,2,6,2],[5,5,6,5],[5,6,6,6],[3,28,4,30],[2,0,2,1],[0,26,0,27],[1,4,1,8],[1,10,1,13],[1,16,1,19],[1,23,1,27],[2,2,2,8],[2,10,2,19],[2,20,2,27],[3,0,3,7],[3,9,3,13],[3,14,3,25],[3,26,6,26],[3,27,6,27],[4,0,4,2],[19,22,19,27],[18,22,18,27],[20,22,20,27],[0,0,0,3],[0,19,0,24],[0,4,0,18],[4,3,6,3],[4,12,4,13],[4,14,4,25],[5,9,6,9],[5,10,6,10],[5,11,6,11],[5,12,6,12],[5,7,6,7],[4,4,6,4],[4,5,4,7]]}
["vodk'k dk C;kSjk",null,null,null,{"$f":"Master!G2&Master!H2","v":"कार्यालय&राजकीय उच्च माध्यमिक विद्यालय ]चौगाई]टोंक"},null,null,null,null,null,null,null,null,null,null,null,null,null,null,"LEAVE ACCOUNT",null,null,null,null,null,null,"GA-46"]
["fujUrj jkT; lsok ds izkjEHk dh fnukad %&",null,null,null,{"$f":"AK4","v":"2018-12-21"},null,null,null,null,"in %&",{"$f":"AH4","v":"अध्यापक ग्रेड III"},null,null,null,"tUe fnukad %&",null,{"$f":"AJ4","v":"1995-06-20"},null,null,null," lsokfuo`fr fnukad&",null,null,{"$f":"AL4","v":"2055-06-30"}]
["deZpkjh dk uke&",null,{"$f":"AG4","v":"d`\".kk xaxoky"},null,null,null,null,null,null,"fuoklh %&","xzk0iks0 ihiyw rg0 ihiyw ftyk Vksad"]
["mikftZr vodk'k",null,null,null,null,null,null,null,null,"v}Z oSrfud vodk'k",null,null,null,null,"futh dk;Z ;k chekjh ds dkj.k vodk'k tks fy;k",null,null,null,null,null,null,null,null,null,null,null,"lsok iaftdk@ iqfLrdk esa vodk'k ntZ dj fn;k x;k gS","fVIi.kh","dkfeZd dk dzekad fy[ksa",null,null,null,{"$f":"IF(ISNA(VLOOKUP($AD6,$AF$5:$AL$104,2,FALSE)),\"\",VLOOKUP($AD6,$AF$5:$AL$104,2,FALSE))","v":"d`\".kk xaxoky"},{"$f":"IF(ISNA(VLOOKUP($AD6,$AF$5:$AL$104,3,FALSE)),\"\",VLOOKUP($AD6,$AF$5:$AL$104,3,FALSE))","v":"अध्यापक ग्रेड III"},{"$f":"IF(ISNA(VLOOKUP($AD6,$AF$5:$AL$104,4,FALSE)),\"\",VLOOKUP($AD6,$AF$5:$AL$104,4,FALSE))","v":"राउप्रावि गोरधनपुरा"},{"$f":"IF(ISNA(VLOOKUP($AD6,$AF$5:$AL$104,5,FALSE)),\"\",VLOOKUP($AD6,$AF$5:$AL$104,5,FALSE))","v":"1995-06-20"},{"$f":"IF(ISNA(VLOOKUP($AD6,$AF$5:$AL$104,6,FALSE)),\"\",VLOOKUP($AD6,$AF$5:$AL$104,6,FALSE))","v":"2018-12-21"},{"$f":"IF(ISNA(VLOOKUP($AD6,$AF$5:$AL$104,7,FALSE)),\"\",VLOOKUP($AD6,$AF$5:$AL$104,7,FALSE))","v":"2055-06-30"}]
["vof/k dk;Z",null,null,"mikftZr vodk'k fnuksa esa","tek vodk'k dkye 9 o 4 dk ;ksx fu/kkZfjr vof/k ds vuqlkj ¼fnuksa esa½","vodk'k tks fy;k",null,null,"NqVVh ls okilh ij cdk;k ¼dkye 5 o 8 dk ckdh½","lsok vof/k",null,null,"cdk;k vodk'k",null,"vodk'k tks fy;k",null,null,null,null,null,null,null,null,null,null,null,null,null,null,null,null,1,{"$f":"EmpDetail!B4","v":"fd'ku yky cSjok"},{"$f":"EmpDetail!C4","v":"प्रधानाचार्य"},{"$f":"EmpDetail!D4","v":"राउमावि चौगाई"},{"$f":"EmpDetail!E4","v":"1962-01-10"},{"$f":"EmpDetail!F4","v":"00:00:00"},{"$f":"IF(AJ5=\"\",\"\",DATE(YEAR(AJ5-1)+60,(MONTH(AJ5-1))+1,0))","v":"2022-01-31"}]
["dc ls","dc rd","dk;Z fnolksa dh la[;k",null,null,"dc ls","dc rd","dk;Z fnolksa dh la[;k",null,"dc ls","dc rd","lsok vof/k ¼o\"kksZ esa½","mikftZr vodk'k fnuksa esa","tek vodk'k dkye 9 o 13 dk ;ksx","vodk'k tks futh dk;Z ;k chekjh ds dkj.k fy;k x;k",null,null,"ifjofrZr vodk'k tks MkDVjh izek.k&i= ij iw.kZ osru ij nh xbZ¼ftldh vof/k iw.kZ lsok dky esa 180 fnu dh gS½",null,null,"ifjofrZr vodk'k v}Zosru esa cny dj ¼dkye 20 dk nqxquk½","vuqekfur vodk'k tks MkDVjh izek.k&i= ij Z¼ftldh vof/k iw.kZ lsok dky esa 180 fnu dh gS½",null,null,"v}Zosrfud  vodk'k dh vof/k dkye 17]21 o 24 dk ;ksx","NqVVh ls okilh ij ckdh dkye 14 o 25",null,null,null,33,null,2,{"$f":"EmpDetail!B5","v":"iwj.k pUn y{kdkj"},{"$f":"EmpDetail!C5","v":"व्याख्याता"},{"$f":"EmpDetail!D5","v":"राउमावि चौगाई"},{"$f":"EmpDetail!E5","v":"1971-07-08"},{"$f":"EmpDetail!F5","v":"00:00:00"},{"$f":"IF(AJ6=\"\",\"\",DATE(YEAR(AJ6-1)+60,(MONTH(AJ6-1))+1,0))","v":"2031-07-31"}]
[null,null,null,null,null,null,null,null,null,null,null,null,null,null,"dc ls","dc rd","dk;Z fnolksa dh la[;k","dc ls","dc rd","dk;Z fnolksa dh la[;k",null,null,null,null,null,null,null,null,null,null,null,3,{"$f":"EmpDetail!B6","v":"jktsUnz dqekj tSu"},{"$f":"EmpDetail!C6","v":"व्याख्याता"},{"$f":"EmpDetail!D6","v":"राउमावि चौगाई"},{"$f":"EmpDetail!E6","v":"1968-09-14"},{"$f":"EmpDetail!F6","v":"00:00:00"},"2028-09-30"]
[1,2,3,4,5,6,7,8,9,10,11,12,13,14,15,16,17,18,19,20,21,22,23,24,25,26,27,28,null,null,null,4,{"$f":"EmpDetail!B7","v":"fd'ku yky cSjok"},{"$f":"EmpDetail!C7","v":"व्याख्याता"},{"$f":"EmpDetail!D7","v":"राउमावि चौगाई"},{"$f":"EmpDetail!E7","v":"1974-07-07"},{"$f":"EmpDetail!F7","v":"00:00:00"},"2034-07-31"]
["2020-01-01","2020-12-31","1 o\"kZ",15,"295+15=310","2020-03-13","2020-03-15",{"$f":"IF(F9=\"\",\"\",G9-F9+1)","v":3},310,"2019-11-25","2019-12-31","1 o\"kZ 1 ekg",20,"250+20=250",0,0,0,0,0,0,0,0,0,0,0,250,"gka",null,null,null,null,5,{"$f":"EmpDetail!B8","v":"lR;ukjk;.k 'kekZ"},{"$f":"EmpDetail!C8","v":"वरिष्ठ अध्यापक"},{"$f":"EmpDetail!D8","v":"राउमावि चौगाई"},{"$f":"EmpDetail!E8","v":"1962-07-01"},{"$f":"EmpDetail!F8","v":"00:00:00"},"2022-06-30"]
[null,null,null,null,null,null,null,{"$f":"IF(F10=\"\",\"\",G10-F10+1)","v":""},null,null,null,null,null,null,null,null,null,null,null,null,null,null,null,null,null,null,null,null,null,null,null,6,{"$f":"EmpDetail!B9","v":"iq\"ik tSu"},{"$f":"EmpDetail!C9","v":"वरिष्ठ अध्यापक"},{"$f":"EmpDetail!D9","v":"राउमावि चौगाई"},{"$f":"EmpDetail!E9","v":"1964-04-10"},{"$f":"EmpDetail!F9","v":"00:00:00"},"2024-04-30"]
[null,null,null,null,null,null,null,"",null,null,null,null,null,null,null,null,null,null,null,null,null,null,null,null,null,null,null,null,null,null,null,7,{"$f":"EmpDetail!B10","v":"vk'kkjke eh.kk"},{"$f":"EmpDetail!C10","v":"वरिष्ठ अध्यापक"},{"$f":"EmpDetail!D10","v":"राउमावि चौगाई"},{"$f":"EmpDetail!E10","v":"1978-06-11"},{"$f":"EmpDetail!F10","v":"00:00:00"},"2038-06-30"]
[null,null,null,null,null,null,null,"",null,null,null,null,null,null,null,null,null,null,null,null,null,null,null,null,null,null,null,null,null,null,null,8,{"$f":"EmpDetail!B11","v":"t;iky flag"},{"$f":"EmpDetail!C11","v":"वरिष्ठ अध्यापक"},{"$f":"EmpDetail!D11","v":"राउमावि चौगाई"},{"$f":"EmpDetail!E11","v":"1972-02-02"},{"$f":"EmpDetail!F11","v":"00:00:00"},"2032-02-29"]
[null,null,null,null,null,null,null,"",null,null,null,null,null,null,null,null,null,null,null,null,null,null,null,null,null,null,null,null,null,null,null,9,{"$f":"EmpDetail!B12","v":"jkeizlkn jsxj"},{"$f":"EmpDetail!C12","v":"वरिष्ठ अध्यापक"},{"$f":"EmpDetail!D12","v":"राउमावि चौगाई"},{"$f":"EmpDetail!E12","v":"1978-06-01"},{"$f":"EmpDetail!F12","v":"00:00:00"},"2038-05-31"]
[null,null,null,null,null,null,null,"",null,null,null,null,null,null,null,null,null,null,null,null,null,null,null,null,null,null,null,null,null,null,null,10,{"$f":"EmpDetail!B13","v":"egsUnz dqekj tkV"},{"$f":"EmpDetail!C13","v":"शारीरिक शिक्षक"},{"$f":"EmpDetail!D13","v":"राउमावि चौगाई"},{"$f":"EmpDetail!E13","v":"1976-01-30"},{"$f":"EmpDetail!F13","v":"00:00:00"},"2036-01-31"]
[null,null,null,null,null,null,null,"",null,null,null,null,null,null,null,null,null,null,null,null,null,null,null,null,null,null,null,null,null,null,null,11,{"$f":"EmpDetail!B14","v":"NksVw yky jsxj"},{"$f":"EmpDetail!C14","v":"अध्यापक ग्रेड III"},{"$f":"EmpDetail!D14","v":"राउमावि चौगाई"},{"$f":"EmpDetail!E14","v":"1967-07-10"},{"$f":"EmpDetail!F14","v":"00:00:00"},"2027-07-31"]
[null,null,null,null,null,null,null,"",null,null,null,null,null,null,null,null,null,null,null,null,null,null,null,null,null,null,null,null,null,null,null,12,{"$f":"EmpDetail!B15","v":"dUgS;k yky egkoj"},{"$f":"EmpDetail!C15","v":"अध्यापक ग्रेड III"},{"$f":"EmpDetail!D15","v":"राउमावि चौगाई"},{"$f":"EmpDetail!E15","v":"1962-04-05"},{"$f":"EmpDetail!F15","v":"00:00:00"},"2022-04-30"]
["uksV %& lk/kkj.k vof/k dh fVIi.kh gsrq yky L;kgh ls [krk dzekad 18 esa fy[kk tkosaA 2- v}Zosru ij vodk'k izkjEHk gksus ds le; lsokdky izkjEHk gksus vFkok lekIr gksus dk le; iw.kZ o\"kksZ esa fy[kk tk,xkA ;fn ljdkjh deZpkjh v}Zosru ij vodk'k ",null,null,null,null,null,null,null,null,null,null,null,null,null,null,null,null,null,null,null,null,null,null,null,null,null,null,null,null,null,null,13,{"$f":"EmpDetail!B16","v":"prqHkqZt tkV"},{"$f":"EmpDetail!C16","v":"अध्यापक ग्रेड III"},{"$f":"EmpDetail!D16","v":"राउमावि चौगाई"},{"$f":"EmpDetail!E16","v":"1976-04-04"},{"$f":"EmpDetail!F16","v":"2005-04-13"},"2036-04-30"]
["dh vof/k ,d o\"kZ esa iw.kZ dj ys rks vlk/kkj.k dkye 10 ls 14 rd mfpr ys[k dj fn;k tkosA dkye 26 dks iw.kZ fd;k tkos rks mldks fglkc esa fy;k tkosA 3- tc ifjorZu ,d ekl ls nqljs vuqHkkx esa fd;k tkosa] rks mldk ys[kk bl volj ij iw.kZ fnu esa fd;k ",null,null,null,null,null,null,null,null,null,null,null,null,null,null,null,null,null,null,null,null,null,null,null,null,null,null,null,null,null,null,14,{"$f":"EmpDetail!B17","v":"vklsQk [kku"},{"$f":"EmpDetail!C17","v":"अध्यापक ग्रेड III"},{"$f":"EmpDetail!D17","v":"राउमावि चौगाई"},{"$f":"EmpDetail!E17","v":"1971-01-10"},{"$f":"EmpDetail!F17","v":"00:00:00"},"2031-01-31"]
["tkos]tSlk vk/ks va'k dks NksM fn;k tkoss vkSj vk/ks ls vf/kd dks iq.kZ eku fy;k tkosaA 4-mikftZr vodk'k dh nj esa ifjorZu gks]mikftZr vodk'k tks iw.kZ dh nj ls tek gksxk]mls iw.kZ fnol esa dj fn;k tkosa]vFkkZr vk/ks ls de NksM fn;k tk;sxk rFkk vk/ks ls vf/kd dk iw.kZ fnol ekuk tkosxkA  ",null,null,null,null,null,null,null,null,null,null,null,null,null,null,null,null,null,null,null,null,null,{"$f":"Master!B2","v":"प्रधानाचार्य"},null,null,null,null,null,null,null,null,15,{"$f":"EmpDetail!B18","v":"lq'khyk cSjok"},{"$f":"EmpDetail!C18","v":"कनिष्ठ सहायक"},{"$f":"EmpDetail!D18","v":"राउमावि चौगाई"},{"$f":"EmpDetail!E18","v":"1995-01-01"},{"$f":"EmpDetail!F18","v":"00:00:00"},"2054-12-31"]
[null,null,null,null,null,null,null,null,null,null,null,null,null,null,null,null,null,null,null,null,null,null,{"$f":"Master!B3","v":"राजकीय उच्च माध्यमिक विद्यालय "},null,null,null,null,null,null,null,null,16,{"$f":"EmpDetail!B19","v":"txnh'k izlkn rsyh"},{"$f":"EmpDetail!C19","v":"सहायक कर्मचारी"},{"$f":"EmpDetail!D19","v":"राउमावि चौगाई"},{"$f":"EmpDetail!E19","v":"1962-06-04"},{"$f":"EmpDetail!F19","v":"00:00:00"},"2022-06-30"]
[null,null,null,null,null,null,null,null,null,null,null,null,null,null,null,null,null,null,null,null,null,null,{"$f":"Master!B4","v":"चौगाई]टोंक"},null,null,null,null,null,null,null,null,17,{"$f":"EmpDetail!B20","v":"jfoUnz dqekj tSu"},{"$f":"EmpDetail!C20","v":"अध्यापक ग्रेड III"},{"$f":"EmpDetail!D20","v":"राउप्रावि मोहिनी"},{"$f":"EmpDetail!E20","v":"1967-08-24"},{"$f":"EmpDetail!F20","v":"00:00:00"},"2027-08-31"]
[null,null,null,null,null,null,null,null,null,null,null,null,null,null,null,null,null,null,null,null,null,null,null,null,null,null,null,null,null,null,null,18,{"$f":"EmpDetail!B21","v":" ';ke lqUnj ckxkSM"},{"$f":"EmpDetail!C21","v":"अध्यापक ग्रेड III"},{"$f":"EmpDetail!D21","v":"राउप्रावि मोहिनी"},{"$f":"EmpDetail!E21","v":"1983-08-10"},{"$f":"EmpDetail!F21","v":"00:00:00"},"2043-08-31"]
[null,null,null,null,null,null,null,null,null,null,null,null,null,null,null,null,null,null,null,null,null,null,null,null,null,null,null,null,null,null,null,19,{"$f":"EmpDetail!B22","v":"d`\".kk 'kekZ"},{"$f":"EmpDetail!C22","v":"प्रबोधक"},{"$f":"EmpDetail!D22","v":"राउप्रावि मोहिनी"},{"$f":"EmpDetail!E22","v":"1972-08-06"},{"$f":"EmpDetail!F22","v":"00:00:00"},"2032-08-31"]
[null,null,null,null,null,null,null,null,null,null,null,null,null,null,null,null,null,null,null,null,null,null,null,null,null,null,null,null,null,null,null,20,{"$f":"EmpDetail!B23","v":"/keZsUnz pkS/kjh"},{"$f":"EmpDetail!C23","v":"अध्यापक ग्रेड III"},{"$f":"EmpDetail!D23","v":"राउप्रावि गोरधनपुरा"},{"$f":"EmpDetail!E23","v":"1990-03-05"},{"$f":"EmpDetail!F23","v":"00:00:00"},"2050-03-31"]
[null,null,null,null,null,null,null,null,null,null,null,null,null,null,null,null,null,null,null,null,null,null,null,null,null,null,null,null,null,null,null,21,{"$f":"EmpDetail!B24","v":"izgykn ekyh"},{"$f":"EmpDetail!C24","v":"प्रबोधक"},{"$f":"EmpDetail!D24","v":"राउप्रावि गोरधनपुरा"},{"$f":"EmpDetail!E24","v":"1974-08-07"},{"$f":"EmpDetail!F24","v":"00:00:00"},"2034-08-31"]
[null,null,null,null,null,null,null,null,null,null,null,null,null,null,null,null,null,null,null,null,null,null,null,null,null,null,null,null,null,null,null,22,{"$f":"EmpDetail!B25","v":"jken;ky xqtZj"},{"$f":"EmpDetail!C25","v":"प्रबोधक"},{"$f":"EmpDetail!D25","v":"राउप्रावि सोंदीफल"},{"$f":"EmpDetail!E25","v":"1977-08-18"},{"$f":"EmpDetail!F25","v":"00:00:00"},"2037-08-31"]
[null,null,null,null,null,null,null,null,null,null,null,null,null,null,null,null,null,null,null,null,null,null,null,null,null,null,null,null,null,null,null,23,{"$f":"EmpDetail!B26","v":"vkSeizdk'k tkV"},{"$f":"EmpDetail!C26","v":"अध्यापक ग्रेड III"},{"$f":"EmpDetail!D26","v":"राउप्रावि सोंदीफल"},{"$f":"EmpDetail!E26","v":"1982-10-31"},{"$f":"EmpDetail!F26","v":"00:00:00"},"2042-10-31"]
[null,null,null,null,null,null,null,null,null,null,null,null,null,null,null,null,null,null,null,null,null,null,null,null,null,null,null,null,null,null,null,24,{"$f":"EmpDetail!B27","v":"vthr flag"},{"$f":"EmpDetail!C27","v":"अध्यापक ग्रेड III"},{"$f":"EmpDetail!D27","v":"राप्रावि जानकीवल्लभपुरा"},{"$f":"EmpDetail!E27","v":"1987-08-08"},{"$f":"EmpDetail!F27","v":"00:00:00"},"2047-08-31"]
[null,null,null,null,null,null,null,null,null,null,null,null,null,null,null,null,null,null,null,null,null,null,null,null,null,null,null,null,null,null,null,25,{"$f":"EmpDetail!B28","v":"eq[rkj eha;k"},{"$f":"EmpDetail!C28","v":"प्रबोधक"},{"$f":"EmpDetail!D28","v":"राप्रावि जानकीवल्लभपुरा"},{"$f":"EmpDetail!E28","v":"1976-07-04"},{"$f":"EmpDetail!F28","v":"00:00:00"},"2036-07-31"]
[null,null,null,null,null,null,null,null,null,null,null,null,null,null,null,null,null,null,null,null,null,null,null,null,null,null,null,null,null,null,null,26,{"$f":"EmpDetail!B29","v":"eks0 tehy "},{"$f":"EmpDetail!C29","v":"प्रबोधक"},{"$f":"EmpDetail!D29","v":"राप्रावि रसूलपुरा"},{"$f":"EmpDetail!E29","v":"1968-09-15"},{"$f":"EmpDetail!F29","v":"00:00:00"},"2028-09-30"]
[null,null,null,null,null,null,null,null,null,null,null,null,null,null,null,null,null,null,null,null,null,null,null,null,null,null,null,null,null,null,null,27,{"$f":"EmpDetail!B30","v":"lkaojey tkV"},{"$f":"EmpDetail!C30","v":"अध्यापक ग्रेड III"},{"$f":"EmpDetail!D30","v":"राप्रावि रसूलपुरा"},{"$f":"EmpDetail!E30","v":"1992-03-03"},{"$f":"EmpDetail!F30","v":"00:00:00"},"2052-03-31"]
[null,null,null,null,null,null,null,null,null,null,null,null,null,null,null,null,null,null,null,null,null,null,null,null,null,null,null,null,null,null,null,28,{"$f":"EmpDetail!B31","v":"pkS/kjh eksuk jkekorkj"},{"$f":"EmpDetail!C31","v":"अध्यापक ग्रेड III"},{"$f":"EmpDetail!D31","v":"राप्रावि मोहिनी ढाणी बाढ"},{"$f":"EmpDetail!E31","v":"1990-01-05"},{"$f":"EmpDetail!F31","v":"00:00:00"},"2050-01-31"]
[null,null,null,null,null,null,null,null,null,null,null,null,null,null,null,null,null,null,null,null,null,null,null,null,null,null,null,null,null,null,null,29,{"$f":"EmpDetail!B32","v":"rkjkpUn tk;loky"},{"$f":"EmpDetail!C32","v":"प्रबोधक"},{"$f":"EmpDetail!D32","v":"राप्रावि मोहिनी ढाणी बाढ"},{"$f":"EmpDetail!E32","v":"1976-11-11"},{"$f":"EmpDetail!F32","v":"00:00:00"},"2036-11-30"]
[null,null,null,null,null,null,null,null,null,null,null,null,null,null,null,null,null,null,null,null,null,null,null,null,null,null,null,null,null,null,null,30,{"$f":"EmpDetail!B33","v":"jketl ;kno"},{"$f":"EmpDetail!C33","v":"अध्यापक ग्रेड III"},{"$f":"EmpDetail!D33","v":"राप्रावि बैरवा ढाणी सोन्दीफल"},{"$f":"EmpDetail!E33","v":"1970-06-12"},{"$f":"EmpDetail!F33","v":"00:00:00"},"2030-06-30"]
[null,null,null,null,null,null,null,null,null,null,null,null,null,null,null,null,null,null,null,null,null,null,null,null,null,null,null,null,null,null,null,31,{"$f":"EmpDetail!B34","v":"dtksMey eh.kk"},{"$f":"EmpDetail!C34","v":"अध्यापक ग्रेड III"},{"$f":"EmpDetail!D34","v":"राप्रावि बैरवा ढाणी सोन्दीफल"},{"$f":"EmpDetail!E34","v":"1990-07-01"},{"$f":"EmpDetail!F34","v":"00:00:00"},"2050-06-30"]
[null,null,null,null,null,null,null,null,null,null,null,null,null,null,null,null,null,null,null,null,null,null,null,null,null,null,null,null,null,null,null,32,{"$f":"EmpDetail!B35","v":"/kaut; xkSRre"},{"$f":"EmpDetail!C35","v":"अध्यापक ग्रेड III"},{"$f":"EmpDetail!D35","v":"राउप्रावि गोरधनपुरा"},{"$f":"EmpDetail!E35","v":"1986-08-25"},{"$f":"EmpDetail!F35","v":"2018-04-03"},"2046-08-31"]
[null,null,null,null,null,null,null,null,null,null,null,null,null,null,null,null,null,null,null,null,null,null,null,null,null,null,null,null,null,null,null,33,{"$f":"EmpDetail!B36","v":"d`\".kk xaxoky"},{"$f":"EmpDetail!C36","v":"अध्यापक ग्रेड III"},{"$f":"EmpDetail!D36","v":"राउप्रावि गोरधनपुरा"},{"$f":"EmpDetail!E36","v":"1995-06-20"},{"$f":"EmpDetail!F36","v":"2018-12-21"},"2055-06-30"]
[null,null,null,null,null,null,null,null,null,null,null,null,null,null,null,null,null,null,null,null,null,null,null,null,null,null,null,null,null,null,null,34,{"$f":"EmpDetail!B37","v":"n'kjFk dqekj ;kno"},{"$f":"EmpDetail!C37","v":"अध्यापक ग्रेड III"},{"$f":"EmpDetail!D37","v":"राउप्रावि सोंदीफल"},{"$f":"EmpDetail!E37","v":"1991-01-01"},{"$f":"EmpDetail!F37","v":"2018-09-29"},"2050-12-31"]
[null,null,null,null,null,null,null,null,null,null,null,null,null,null,null,null,null,null,null,null,null,null,null,null,null,null,null,null,null,null,null,35,{"$f":"EmpDetail!B38","v":"d`\".k yky tkV"},{"$f":"EmpDetail!C38","v":"अध्यापक ग्रेड III"},{"$f":"EmpDetail!D38","v":"राउप्रावि सोंदीफल"},{"$f":"EmpDetail!E38","v":"1990-07-18"},{"$f":"EmpDetail!F38","v":"2018-10-02"},"2050-07-31"]
[null,null,null,null,null,null,null,null,null,null,null,null,null,null,null,null,null,null,null,null,null,null,null,null,null,null,null,null,null,null,null,36,{"$f":"EmpDetail!B39","v":"nhisUnz dqekj iztkir"},{"$f":"EmpDetail!C39","v":"अध्यापक ग्रेड III"},{"$f":"EmpDetail!D39","v":"राउप्रावि सोंदीफल"},{"$f":"EmpDetail!E39","v":"1994-07-12"},{"$f":"EmpDetail!F39","v":"2018-12-28"},"2054-07-31"]
[null,null,null,null,null,null,null,null,null,null,null,null,null,null,null,null,null,null,null,null,null,null,null,null,null,null,null,null,null,null,null,37,{"$f":"EmpDetail!B40","v":"uohu dqekj"},{"$f":"EmpDetail!C40","v":"अध्यापक ग्रेड III"},{"$f":"EmpDetail!D40","v":"राउप्रावि मोहिनी"},{"$f":"EmpDetail!E40","v":"1995-04-13"},{"$f":"EmpDetail!F40","v":"2018-12-21"},"2055-04-30"]
[null,null,null,null,null,null,null,null,null,null,null,null,null,null,null,null,null,null,null,null,null,null,null,null,null,null,null,null,null,null,null,38,{"$f":"EmpDetail!B41","v":"ehrs'k dqekj 'kekZ"},{"$f":"EmpDetail!C41","v":"अध्यापक ग्रेड III"},{"$f":"EmpDetail!D41","v":"राउप्रावि मोहिनी"},{"$f":"EmpDetail!E41","v":"1989-08-13"},{"$f":"EmpDetail!F41","v":"2018-04-02"},"2049-08-31"]
[null,null,null,null,null,null,null,null,null,null,null,null,null,null,null,null,null,null,null,null,null,null,null,null,null,null,null,null,null,null,null,39,{"$f":"EmpDetail!B42","v":"eUtw eh.kk"},{"$f":"EmpDetail!C42","v":"वरिष्ठ अध्यापक"},{"$f":"EmpDetail!D42","v":"राउप्रावि गोरधनपुरा"},{"$f":"EmpDetail!E42","v":"1991-01-06"},{"$f":"EmpDetail!F42","v":"2018-09-28"},"2051-01-31"]
[null,null,null,null,null,null,null,null,null,null,null,null,null,null,null,null,null,null,null,null,null,null,null,null,null,null,null,null,null,null,null,40,{"$f":"EmpDetail!B43","v":"eatw pkS/kjh"},{"$f":"EmpDetail!C43","v":"वरिष्ठ अध्यापक"},{"$f":"EmpDetail!D43","v":"राउप्रावि सोंदीफल"},{"$f":"EmpDetail!E43","v":"1991-08-04"},{"$f":"EmpDetail!F43","v":"2020-09-29"},"2051-08-31"]
[null,null,null,null,null,null,null,null,null,null,null,null,null,null,null,null,null,null,null,null,null,null,null,null,null,null,null,null,null,null,null,41,{"$f":"EmpDetail!B44","v":0},{"$f":"EmpDetail!C44","v":0},{"$f":"EmpDetail!D44","v":0},{"$f":"EmpDetail!E44","v":"00:00:00"},{"$f":"EmpDetail!F44","v":"00:00:00"},{"$error":"#NUM!"}]
[null,null,null,null,null,null,null,null,null,null,null,null,null,null,null,null,null,null,null,null,null,null,null,null,null,null,null,null,null,null,null,42,{"$f":"EmpDetail!B45","v":0},{"$f":"EmpDetail!C45","v":0},{"$f":"EmpDetail!D45","v":0},{"$f":"EmpDetail!E45","v":"00:00:00"},{"$f":"EmpDetail!F45","v":"00:00:00"},{"$error":"#NUM!"}]
[null,null,null,null,null,null,null,null,null,null,null,null,null,null,null,null,null,null,null,null,null,null,null,null,null,null,null,null,null,null,null,43,{"$f":"EmpDetail!B46","v":0},{"$f":"EmpDetail!C46","v":0},{"$f":"EmpDetail!D46","v":0},{"$f":"EmpDetail!E46","v":"00:00:00"},{"$f":"EmpDetail!F46","v":"00:00:00"},{"$error":"#NUM!"}]
[null,null,null,null,null,null,null,null,null,null,null,null,null,null,null,null,null,null,null,null,null,null,null,null,null,null,null,null,null,null,null,44,{"$f":"EmpDetail!B47","v":0},{"$f":"EmpDetail!C47","v":0},{"$f":"EmpDetail!D47","v":0},{"$f":"EmpDetail!E47","v":"00:00:00"},{"$f":"EmpDetail!F47","v":"00:00:00"},{"$error":"#NUM!"}]
[null,null,null,null,null,null,null,null,null,null,null,null,null,null,null,null,null,null,null,null,null,null,null,null,null,null,null,null,null,null,null,45,{"$f":"EmpDetail!B48","v":0},{"$f":"EmpDetail!C48","v":0},{"$f":"EmpDetail!D48","v":0},{"$f":"EmpDetail!E48","v":"00:00:00"},{"$f":"EmpDetail!F48","v":"00:00:00"},{"$error":"#NUM!"}]
[null,null,null,null,null,null,null,null,null,null,null,null,null,null,null,null,null,null,null,null,null,null,null,null,null,null,null,null,null,null,null,46,{"$f":"EmpDetail!B49","v":0},{"$f":"EmpDetail!C49","v":0},{"$f":"EmpDetail!D49","v":0},{"$f":"EmpDetail!E49","v":"00:00:00"},{"$f":"EmpDetail!F49","v":"00:00:00"},{"$error":"#NUM!"}]
[null,null,null,null,null,null,null,null,null,null,null,null,null,null,null,null,null,null,null,null,null,null,null,null,null,null,null,null,null,null,null,47,{"$f":"EmpDetail!B50","v":0},{"$f":"EmpDetail!C50","v":0},{"$f":"EmpDetail!D50","v":0},{"$f":"EmpDetail!E50","v":"00:00:00"},{"$f":"EmpDetail!F50","v":"00:00:00"},{"$error":"#NUM!"}]
[null,null,null,null,null,null,null,null,null,null,null,null,null,null,null,null,null,null,null,null,null,null,null,null,null,null,null,null,null,null,null,48,{"$f":"EmpDetail!B51","v":0},{"$f":"EmpDetail!C51","v":0},{"$f":"EmpDetail!D51","v":0},{"$f":"EmpDetail!E51","v":"00:00:00"},{"$f":"EmpDetail!F51","v":"00:00:00"},{"$error":"#NUM!"}]
[null,null,null,null,null,null,null,null,null,null,null,null,null,null,null,null,null,null,null,null,null,null,null,null,null,null,null,null,null,null,null,49,{"$f":"EmpDetail!B52","v":0},{"$f":"EmpDetail!C52","v":0},{"$f":"EmpDetail!D52","v":0},{"$f":"EmpDetail!E52","v":"00:00:00"},{"$f":"EmpDetail!F52","v":"00:00:00"},{"$error":"#NUM!"}]
[null,null,null,null,null,null,null,null,null,null,null,null,null,null,null,null,null,null,null,null,null,null,null,null,null,null,null,null,null,null,null,50,{"$f":"EmpDetail!B53","v":0},{"$f":"EmpDetail!C53","v":0},{"$f":"EmpDetail!D53","v":0},{"$f":"EmpDetail!E53","v":"00:00:00"},{"$f":"EmpDetail!F53","v":"00:00:00"},{"$error":"#NUM!"}]
[null,null,null,null,null,null,null,null,null,null,null,null,null,null,null,null,null,null,null,null,null,null,null,null,null,null,null,null,null,null,null,51,{"$f":"EmpDetail!B54","v":0},{"$f":"EmpDetail!C54","v":0},{"$f":"EmpDetail!D54","v":0},{"$f":"EmpDetail!E54","v":"00:00:00"},{"$f":"EmpDetail!F54","v":"00:00:00"},{"$error":"#NUM!"}]
[null,null,null,null,null,null,null,null,null,null,null,null,null,null,null,null,null,null,null,null,null,null,null,null,null,null,null,null,null,null,null,52,{"$f":"EmpDetail!B55","v":0},{"$f":"EmpDetail!C55","v":0},{"$f":"EmpDetail!D55","v":0},{"$f":"EmpDetail!E55","v":"00:00:00"},{"$f":"EmpDetail!F55","v":"00:00:00"},{"$error":"#NUM!"}]
[null,null,null,null,null,null,null,null,null,null,null,null,null,null,null,null,null,null,null,null,null,null,null,null,null,null,null,null,null,null,null,53,{"$f":"EmpDetail!B56","v":0},{"$f":"EmpDetail!C56","v":0},{"$f":"EmpDetail!D56","v":0},{"$f":"EmpDetail!E56","v":"00:00:00"},{"$f":"EmpDetail!F56","v":"00:00:00"},{"$error":"#NUM!"}]
[null,null,null,null,null,null,null,null,null,null,null,null,null,null,null,null,null,null,null,null,null,null,null,null,null,null,null,null,null,null,null,54,{"$f":"EmpDetail!B57","v":0},{"$f":"EmpDetail!C57","v":0},{"$f":"EmpDetail!D57","v":0},{"$f":"EmpDetail!E57","v":"00:00:00"},{"$f":"EmpDetail!F57","v":"00:00:00"},{"$error":"#NUM!"}]
[null,null,null,null,null,null,null,null,null,null,null,null,null,null,null,null,null,null,null,null,null,null,null,null,null,null,null,null,null,null,null,55,{"$f":"EmpDetail!B58","v":0},{"$f":"EmpDetail!C58","v":0},{"$f":"EmpDetail!D58","v":0},{"$f":"EmpDetail!E58","v":"00:00:00"},{"$f":"EmpDetail!F58","v":"00:00:00"},{"$error":"#NUM!"}]
[null,null,null,null,null,null,null,null,null,null,null,null,null,null,null,null,null,null,null,null,null,null,null,null,null,null,null,null,null,null,null,56,{"$f":"EmpDetail!B59","v":0},{"$f":"EmpDetail!C59","v":0},{"$f":"EmpDetail!D59","v":0},{"$f":"EmpDetail!E59","v":"00:00:00"},{"$f":"EmpDetail!F59","v":"00:00:00"},{"$error":"#NUM!"}]
[null,null,null,null,null,null,null,null,null,null,null,null,null,null,null,null,null,null,null,null,null,null,null,null,null,null,null,null,null,null,null,57,{"$f":"EmpDetail!B60","v":0},{"$f":"EmpDetail!C60","v":0},{"$f":"EmpDetail!D60","v":0},{"$f":"EmpDetail!E60","v":"00:00:00"},{"$f":"EmpDetail!F60","v":"00:00:00"},{"$error":"#NUM!"}]
[null,null,null,null,null,null,null,null,null,null,null,null,null,null,null,null,null,null,null,null,null,null,null,null,null,null,null,null,null,null,null,58,{"$f":"EmpDetail!B61","v":0},{"$f":"EmpDetail!C61","v":0},{"$f":"EmpDetail!D61","v":0},{"$f":"EmpDetail!E61","v":"00:00:00"},{"$f":"EmpDetail!F61","v":"00:00:00"},{"$error":"#NUM!"}]
[null,null,null,null,null,null,null,null,null,null,null,null,null,null,null,null,null,null,null,null,null,null,null,null,null,null,null,null,null,null,null,59,{"$f":"EmpDetail!B62","v":0},{"$f":"EmpDetail!C62","v":0},{"$f":"EmpDetail!D62","v":0},{"$f":"EmpDetail!E62","v":"00:00:00"},{"$f":"EmpDetail!F62","v":"00:00:00"},{"$error":"#NUM!"}]
[null,null,null,null,null,null,null,null,null,null,null,null,null,null,null,null,null,null,null,null,null,null,null,null,null,null,null,null,null,null,null,60,{"$f":"EmpDetail!B63","v":0},{"$f":"EmpDetail!C63","v":0},{"$f":"EmpDetail!D63","v":0},{"$f":"EmpDetail!E63","v":"00:00:00"},{"$f":"EmpDetail!F63","v":"00:00:00"},{"$error":"#NUM!"}]
[null,null,null,null,null,null,null,null,null,null,null,null,null,null,null,null,null,null,null,null,null,null,null,null,null,null,null,null,null,null,null,61,{"$f":"EmpDetail!B64","v":0},{"$f":"EmpDetail!C64","v":0},{"$f":"EmpDetail!D64","v":0},{"$f":"EmpDetail!E64","v":"00:00:00"},{"$f":"EmpDetail!F64","v":"00:00:00"},{"$error":"#NUM!"}]
[null,null,null,null,null,null,null,null,null,null,null,null,null,null,null,null,null,null,null,null,null,null,null,null,null,null,null,null,null,null,null,62,{"$f":"EmpDetail!B65","v":0},{"$f":"EmpDetail!C65","v":0},{"$f":"EmpDetail!D65","v":0},{"$f":"EmpDetail!E65","v":"00:00:00"},{"$f":"EmpDetail!F65","v":"00:00:00"},{"$error":"#NUM!"}]
[null,null,null,null,null,null,null,null,null,null,null,null,null,null,null,null,null,null,null,null,null,null,null,null,null,null,null,null,null,null,null,63,{"$f":"EmpDetail!B66","v":0},{"$f":"EmpDetail!C66","v":0},{"$f":"EmpDetail!D66","v":0},{"$f":"EmpDetail!E66","v":"00:00:00"},{"$f":"EmpDetail!F66","v":"00:00:00"},{"$error":"#NUM!"}]
[null,null,null,null,null,null,null,null,null,null,null,null,null,null,null,null,null,null,null,null,null,null,null,null,null,null,null,null,null,null,null,64,{"$f":"EmpDetail!B67","v":0},{"$f":"EmpDetail!C67","v":0},{"$f":"EmpDetail!D67","v":0},{"$f":"EmpDetail!E67","v":"00:00:00"},{"$f":"EmpDetail!F67","v":"00:00:00"},{"$error":"#NUM!"}]
[null,null,null,null,null,null,null,null,null,null,null,null,null,null,null,null,null,null,null,null,null,null,null,null,null,null,null,null,null,null,null,65,{"$f":"EmpDetail!B68","v":0},{"$f":"EmpDetail!C68","v":0},{"$f":"EmpDetail!D68","v":0},{"$f":"EmpDetail!E68","v":"00:00:00"},{"$f":"EmpDetail!F68","v":"00:00:00"},{"$error":"#NUM!"}]
[null,null,null,null,null,null,null,null,null,null,null,null,null,null,null,null,null,null,null,null,null,null,null,null,null,null,null,null,null,null,null,66,{"$f":"EmpDetail!B69","v":0},{"$f":"EmpDetail!C69","v":0},{"$f":"EmpDetail!D69","v":0},{"$f":"EmpDetail!E69","v":"00:00:00"},{"$f":"EmpDetail!F69","v":"00:00:00"},{"$f":"IF(AJ70=\"\",\"\",DATE(YEAR(AJ70-1)+60,(MONTH(AJ70-1))+1,0))","v":{"$error":"#NUM!"}}]
[null,null,null,null,null,null,null,null,null,null,null,null,null,null,null,null,null,null,null,null,null,null,null,null,null,null,null,null,null,null,null,67,{"$f":"EmpDetail!B70","v":0},{"$f":"EmpDetail!C70","v":0},{"$f":"EmpDetail!D70","v":0},{"$f":"EmpDetail!E70","v":"00:00:00"},{"$f":"EmpDetail!F70","v":"00:00:00"},{"$error":"#NUM!"}]
[null,null,null,null,null,null,null,null,null,null,null,null,null,null,null,null,null,null,null,null,null,null,null,null,null,null,null,null,null,null,null,68,{"$f":"EmpDetail!B71","v":0},{"$f":"EmpDetail!C71","v":0},{"$f":"EmpDetail!D71","v":0},{"$f":"EmpDetail!E71","v":"00:00:00"},{"$f":"EmpDetail!F71","v":"00:00:00"},{"$error":"#NUM!"}]
[null,null,null,null,null,null,null,null,null,null,null,null,null,null,null,null,null,null,null,null,null,null,null,null,null,null,null,null,null,null,null,69,{"$f":"EmpDetail!B72","v":0},{"$f":"EmpDetail!C72","v":0},{"$f":"EmpDetail!D72","v":0},{"$f":"EmpDetail!E72","v":"00:00:00"},{"$f":"EmpDetail!F72","v":"00:00:00"},{"$error":"#NUM!"}]
[null,null,null,null,null,null,null,null,null,null,null,null,null,null,null,null,null,null,null,null,null,null,null,null,null,null,null,null,null,null,null,70,{"$f":"EmpDetail!B73","v":0},{"$f":"EmpDetail!C73","v":0},{"$f":"EmpDetail!D73","v":0},{"$f":"EmpDetail!E73","v":"00:00:00"},{"$f":"EmpDetail!F73","v":"00:00:00"},{"$error":"#NUM!"}]
[null,null,null,null,null,null,null,null,null,null,null,null,null,null,null,null,null,null,null,null,null,null,null,null,null,null,null,null,null,null,null,71,{"$f":"EmpDetail!B74","v":0},{"$f":"EmpDetail!C74","v":0},{"$f":"EmpDetail!D74","v":0},{"$f":"EmpDetail!E74","v":"00:00:00"},{"$f":"EmpDetail!F74","v":"00:00:00"},{"$error":"#NUM!"}]
[null,null,null,null,null,null,null,null,null,null,null,null,null,null,null,null,null,null,null,null,null,null,null,null,null,null,null,null,null,null,null,72,{"$f":"EmpDetail!B75","v":0},{"$f":"EmpDetail!C75","v":0},{"$f":"EmpDetail!D75","v":0},{"$f":"EmpDetail!E75","v":"00:00:00"},{"$f":"EmpDetail!F75","v":"00:00:00"},{"$error":"#NUM!"}]
[null,null,null,null,null,null,null,null,null,null,null,null,null,null,null,null,null,null,null,null,null,null,null,null,null,null,null,null,null,null,null,73,{"$f":"EmpDetail!B76","v":0},{"$f":"EmpDetail!C76","v":0},{"$f":"EmpDetail!D76","v":0},{"$f":"EmpDetail!E76","v":"00:00:00"},{"$f":"EmpDetail!F76","v":"00:00:00"},{"$error":"#NUM!"}]
[null,null,null,null,null,null,null,null,null,null,null,null,null,null,null,null,null,null,null,null,null,null,null,null,null,null,null,null,null,null,null,74,{"$f":"EmpDetail!B77","v":0},{"$f":"EmpDetail!C77","v":0},{"$f":"EmpDetail!D77","v":0},{"$f":"EmpDetail!E77","v":"00:00:00"},{"$f":"EmpDetail!F77","v":"00:00:00"},{"$error":"#NUM!"}]
[null,null,null,null,null,null,null,null,null,null,null,null,null,null,null,null,null,null,null,null,null,null,null,null,null,null,null,null,null,null,null,75,{"$f":"EmpDetail!B78","v":0},{"$f":"EmpDetail!C78","v":0},{"$f":"EmpDetail!D78","v":0},{"$f":"EmpDetail!E78","v":"00:00:00"},{"$f":"EmpDetail!F78","v":"00:00:00"},{"$error":"#NUM!"}]
[null,null,null,null,null,null,null,null,null,null,null,null,null,null,null,null,null,null,null,null,null,null,null,null,null,null,null,null,null,null,null,76,{"$f":"EmpDetail!B79","v":0},{"$f":"EmpDetail!C79","v":0},{"$f":"EmpDetail!D79","v":0},{"$f":"EmpDetail!E79","v":"00:00:00"},{"$f":"EmpDetail!F79","v":"00:00:00"},{"$error":"#NUM!"}]
[null,null,null,null,null,null,null,null,null,null,null,null,null,null,null,null,null,null,null,null,null,null,null,null,null,null,null,null,null,null,null,77,{"$f":"EmpDetail!B80","v":0},{"$f":"EmpDetail!C80","v":0},{"$f":"EmpDetail!D80","v":0},{"$f":"EmpDetail!E80","v":"00:00:00"},{"$f":"EmpDetail!F80","v":"00:00:00"},{"$error":"#NUM!"}]
[null,null,null,null,null,null,null,null,null,null,null,null,null,null,null,null,null,null,null,null,null,null,null,null,null,null,null,null,null,null,null,78,{"$f":"EmpDetail!B81","v":0},{"$f":"EmpDetail!C81","v":0},{"$f":"EmpDetail!D81","v":0},{"$f":"EmpDetail!E81","v":"00:00:00"},{"$f":"EmpDetail!F81","v":"00:00:00"},{"$error":"#NUM!"}]
[null,null,null,null,null,null,null,null,null,null,null,null,null,null,null,null,null,null,null,null,null,null,null,null,null,null,null,null,null,null,null,79,{"$f":"EmpDetail!B82","v":0},{"$f":"EmpDetail!C82","v":0},{"$f":"EmpDetail!D82","v":0},{"$f":"EmpDetail!E82","v":"00:00:00"},{"$f":"EmpDetail!F82","v":"00:00:00"},{"$error":"#NUM!"}]
[null,null,null,null,null,null,null,null,null,null,null,null,null,null,null,null,null,null,null,null,null,null,null,null,null,null,null,null,null,null,null,80,{"$f":"EmpDetail!B83","v":0},{"$f":"EmpDetail!C83","v":0},{"$f":"EmpDetail!D83","v":0},{"$f":"EmpDetail!E83","v":"00:00:00"},{"$f":"EmpDetail!F83","v":"00:00:00"},{"$error":"#NUM!"}]
[null,null,null,null,null,null,null,null,null,null,null,null,null,null,null,null,null,null,null,null,null,null,null,null,null,null,null,null,null,null,null,81,{"$f":"EmpDetail!B84","v":0},{"$f":"EmpDetail!C84","v":0},{"$f":"EmpDetail!D84","v":0},{"$f":"EmpDetail!E84","v":"00:00:00"},{"$f":"EmpDetail!F84","v":"00:00:00"},{"$error":"#NUM!"}]
[null,null,null,null,null,null,null,null,null,null,null,null,null,null,null,null,null,null,null,null,null,null,null,null,null,null,null,null,null,null,null,82,{"$f":"EmpDetail!B85","v":0},{"$f":"EmpDetail!C85","v":0},{"$f":"EmpDetail!D85","v":0},{"$f":"EmpDetail!E85","v":"00:00:00"},{"$f":"EmpDetail!F85","v":"00:00:00"},{"$error":"#NUM!"}]
[null,null,null,null,null,null,null,null,null,null,null,null,null,null,null,null,null,null,null,null,null,null,null,null,null,null,null,null,null,null,null,83,{"$f":"EmpDetail!B86","v":0},{"$f":"EmpDetail!C86","v":0},{"$f":"EmpDetail!D86","v":0},{"$f":"EmpDetail!E86","v":"00:00:00"},{"$f":"EmpDetail!F86","v":"00:00:00"},{"$error":"#NUM!"}]
[null,null,null,null,null,null,null,null,null,null,null,null,null,null,null,null,null,null,null,null,null,null,null,null,null,null,null,null,null,null,null,84,{"$f":"EmpDetail!B87","v":0},{"$f":"EmpDetail!C87","v":0},{"$f":"EmpDetail!D87","v":0},{"$f":"EmpDetail!E87","v":"00:00:00"},{"$f":"EmpDetail!F87","v":"00:00:00"},{"$error":"#NUM!"}]
[null,null,null,null,null,null,null,null,null,null,null,null,null,null,null,null,null,null,null,null,null,null,null,null,null,null,null,null,null,null,null,85,{"$f":"EmpDetail!B88","v":0},{"$f":"EmpDetail!C88","v":0},{"$f":"EmpDetail!D88","v":0},{"$f":"EmpDetail!E88","v":"00:00:00"},{"$f":"EmpDetail!F88","v":"00:00:00"},{"$error":"#NUM!"}]
[null,null,null,null,null,null,null,null,null,null,null,null,null,null,null,null,null,null,null,null,null,null,null,null,null,null,null,null,null,null,null,86,{"$f":"EmpDetail!B89","v":0},{"$f":"EmpDetail!C89","v":0},{"$f":"EmpDetail!D89","v":0},{"$f":"EmpDetail!E89","v":"00:00:00"},{"$f":"EmpDetail!F89","v":"00:00:00"},{"$error":"#NUM!"}]
[null,null,null,null,null,null,null,null,null,null,null,null,null,null,null,null,null,null,null,null,null,null,null,null,null,null,null,null,null,null,null,87,{"$f":"EmpDetail!B90","v":0},{"$f":"EmpDetail!C90","v":0},{"$f":"EmpDetail!D90","v":0},{"$f":"EmpDetail!E90","v":"00:00:00"},{"$f":"EmpDetail!F90","v":"00:00:00"},{"$error":"#NUM!"}]
[null,null,null,null,null,null,null,null,null,null,null,null,null,null,null,null,null,null,null,null,null,null,null,null,null,null,null,null,null,null,null,88,{"$f":"EmpDetail!B91","v":0},{"$f":"EmpDetail!C91","v":0},{"$f":"EmpDetail!D91","v":0},{"$f":"EmpDetail!E91","v":"00:00:00"},{"$f":"EmpDetail!F91","v":"00:00:00"},{"$error":"#NUM!"}]
[null,null,null,null,null,null,null,null,null,null,null,null,null,null,null,null,null,null,null,null,null,null,null,null,null,null,null,null,null,null,null,89,{"$f":"EmpDetail!B92","v":0},{"$f":"EmpDetail!C92","v":0},{"$f":"EmpDetail!D92","v":0},{"$f":"EmpDetail!E92","v":"00:00:00"},{"$f":"EmpDetail!F92","v":"00:00:00"},{"$error":"#NUM!"}]
[null,null,null,null,null,null,null,null,null,null,null,null,null,null,null,null,null,null,null,null,null,null,null,null,null,null,null,null,null,null,null,90,{"$f":"EmpDetail!B93","v":0},{"$f":"EmpDetail!C93","v":0},{"$f":"EmpDetail!D93","v":0},{"$f":"EmpDetail!E93","v":"00:00:00"},{"$f":"EmpDetail!F93","v":"00:00:00"},{"$error":"#NUM!"}]
[null,null,null,null,null,null,null,null,null,null,null,null,null,null,null,null,null,null,null,null,null,null,null,null,null,null,null,null,null,null,null,91,{"$f":"EmpDetail!B94","v":0},{"$f":"EmpDetail!C94","v":0},{"$f":"EmpDetail!D94","v":0},{"$f":"EmpDetail!E94","v":"00:00:00"},{"$f":"EmpDetail!F94","v":"00:00:00"},{"$error":"#NUM!"}]
[null,null,null,null,null,null,null,null,null,null,null,null,null,null,null,null,null,null,null,null,null,null,null,null,null,null,null,null,null,null,null,92,{"$f":"EmpDetail!B95","v":0},{"$f":"EmpDetail!C95","v":0},{"$f":"EmpDetail!D95","v":0},{"$f":"EmpDetail!E95","v":"00:00:00"},{"$f":"EmpDetail!F95","v":"00:00:00"},{"$error":"#NUM!"}]
[null,null,null,null,null,null,null,null,null,null,null,null,null,null,null,null,null,null,null,null,null,null,null,null,null,null,null,null,null,null,null,93,{"$f":"EmpDetail!B96","v":0},{"$f":"EmpDetail!C96","v":0},{"$f":"EmpDetail!D96","v":0},{"$f":"EmpDetail!E96","v":"00:00:00"},{"$f":"EmpDetail!F96","v":"00:00:00"},{"$error":"#NUM!"}]
[null,null,null,null,null,null,null,null,null,null,null,null,null,null,null,null,null,null,null,null,null,null,null,null,null,null,null,null,null,null,null,94,{"$f":"EmpDetail!B97","v":0},{"$f":"EmpDetail!C97","v":0},{"$f":"EmpDetail!D97","v":0},{"$f":"EmpDetail!E97","v":"00:00:00"},{"$f":"EmpDetail!F97","v":"00:00:00"},{"$error":"#NUM!"}]
[null,null,null,null,null,null,null,null,null,null,null,null,null,null,null,null,null,null,null,null,null,null,null,null,null,null,null,null,null,null,null,95,{"$f":"EmpDetail!B98","v":0},{"$f":"EmpDetail!C98","v":0},{"$f":"EmpDetail!D98","v":0},{"$f":"EmpDetail!E98","v":"00:00:00"},{"$f":"EmpDetail!F98","v":"00:00:00"},{"$error":"#NUM!"}]
[null,null,null,null,null,null,null,null,null,null,null,null,null,null,null,null,null,null,null,null,null,null,null,null,null,null,null,null,null,null,null,96,{"$f":"EmpDetail!B99","v":0},{"$f":"EmpDetail!C99","v":0},{"$f":"EmpDetail!D99","v":0},{"$f":"EmpDetail!E99","v":"00:00:00"},{"$f":"EmpDetail!F99","v":"00:00:00"},{"$error":"#NUM!"}]
[null,null,null,null,null,null,null,null,null,null,null,null,null,null,null,null,null,null,null,null,null,null,null,null,null,null,null,null,null,null,null,97,{"$f":"EmpDetail!B100","v":0},{"$f":"EmpDetail!C100","v":0},{"$f":"EmpDetail!D100","v":0},{"$f":"EmpDetail!E100","v":"00:00:00"},{"$f":"EmpDetail!F100","v":"00:00:00"},{"$error":"#NUM!"}]
[null,null,null,null,null,null,null,null,null,null,null,null,null,null,null,null,null,null,null,null,null,null,null,null,null,null,null,null,null,null,null,98,{"$f":"EmpDetail!B101","v":0},{"$f":"EmpDetail!C101","v":0},{"$f":"EmpDetail!D101","v":0},{"$f":"EmpDetail!E101","v":"00:00:00"},{"$f":"EmpDetail!F101","v":"00:00:00"},{"$error":"#NUM!"}]
[null,null,null,null,null,null,null,null,null,null,null,null,null,null,null,null,null,null,null,null,null,null,null,null,null,null,null,null,null,null,null,99,{"$f":"EmpDetail!B102","v":0},{"$f":"EmpDetail!C102","v":0},{"$f":"EmpDetail!D102","v":0},{"$f":"EmpDetail!E102","v":"00:00:00"},{"$f":"EmpDetail!F102","v":"00:00:00"},{"$error":"#NUM!"}]
[null,null,null,null,null,null,null,null,null,null,null,null,null,null,null,null,null,null,null,null,null,null,null,null,null,null,null,null,null,null,null,100,{"$f":"EmpDetail!B103","v":0},{"$f":"EmpDetail!C103","v":0},{"$f":"EmpDetail!D103","v":0},{"$f":"EmpDetail!E103","v":"00:00:00"},{"$f":"EmpDetail!F103","v":"00:00:00"},{"$error":"#NUM!"}]

{"sheet":"Capital Letter","index":45,"n_rows":45,"n_cols":9,"rows_kept":45,"cut":false,"hidden":true,"merged":[[41,2,42,8],[44,1,44,4],[44,5,45,8],[35,2,35,4],[36,2,36,4],[37,2,37,4],[38,2,38,4],[39,1,39,8],[40,1,40,8],[27,1,27,4],[27,5,27,8],[28,0,38,0],[28,1,28,8],[29,2,29,4],[30,2,30,4],[31,2,31,4],[32,2,32,4],[33,2,33,4],[34,2,34,4],[26,1,26,4],[26,5,26,8],[18,1,18,4],[18,5,18,8],[19,0,20,0],[19,1,20,4],[19,5,20,8],[21,0,22,0],[21,1,22,4],[21,5,22,8],[23,1,23,4],[23,5,23,8],[24,0,25,0],[24,1,25,4],[24,5,25,8],[15,1,15,4],[15,5,15,8],[16,1,16,4],[16,5,16,8],[17,1,17,2],[17,3,17,4],[17,5,17,8],[13,0,14,0],[13,1,14,4],[13,5,14,8],[6,0,7,0],[6,1,7,4],[6,5,7,8],[8,0,9,0],[8,1,9,4],[8,5,9,8],[10,0,11,0],[10,1,11,4],[10,5,11,7],[12,1,12,4],[12,5,12,8],[0,0,0,8],[1,0,2,8],[3,1,3,4],[3,5,3,8],[4,0,5,0],[4,1,5,4],[4,5,5,8]]}
["¼vaxzsth ds cM+s v{kjksa esa Hkjk tkuk lqfuf'pr djkosa½"]
["Please fill all the fields in capital letters of English and enclose with the pesion case alongwith the latest photo copy of pay slip generated by Pay Manager"]
[]
[1,"Employee I.D.",null,null,null,"RJTO198836028883"]
[2,"Employee's Name",null,null,null,"CHHITAR LAL BAIRWA"]
[]
[3,"Father's/Husband'S Name",null,null,null,"JAGGA LAL BAIRWA"]
[]
[4,"Post held",null,null,null,"SENIOR TEACHER"]
[]
[5,"Name of Department with address (Office ID)",null,null,null,"EDUCATION DEPARTMENT GOVT UPPER PRIMARY SCHOOL MOHINI",null,null,"Office ID"]
[null,null,null,null,null,null,null,null,27306]
[6,"Mobile No. of Pensioner",null,null,null,9829303549]
[7,"Postal address of Pensioner after retirement alongwith Pin code",null,null,null,"VPO PIPLOO TEHSIL PIPLOO DIST TONK PIN 304801"]
[]
[8,"Date of Birth (As per S.B.)",null,null,null,"1961-03-23"]
[9,"Date of Joining in Service",null,null,null,"1988-01-01"]
[10,"Date of ",null,"Retirement",null,"2021-03-31"]
[11,"Name of Treasury/Sub Treasury",null,null,null,"PIPLOO"]
[12,"Bank Name",null,null,null,"STATE BANK OF INDIA"]
[]
[13,"Bank Branch with address",null,null,null,"TREASURY BUILDIND TONK"]
[]
[14,"Bank Account No",null,null,null,61077382140]
[15,"IFSC code (as mentioned in cheque book/Pass book)",null,null,null,"SBIN0031842"]
[]
[16,"PAN No.",null,null,null,"AHJKJ2211Q"]
[null,"PPO./FPP No (in case of revision)",null,null,null,"1223654789890(RJ)"]
[17,"Family Details"]
[null,"S.N.","Name",null,null,"Relation","Date of Birth","Married/\nUnmarried","Employed/\nUnemployed"]
[null,{"$f":"IF(G31>0,1,\"\")","v":1},"KAILASHI DEVI",null,null,"WIFE","1965-01-12","MARRIED","UNEMPLOYED"]
[null,{"$f":"IF(G32=\"\",\"\",B31+1)","v":""}]
[null,""]
[null,""]
[null,""]
[null,""]
[null,""]
[null,""]
[null,""]
[null,"Encl. Photo copy of Pay Slip generated by Pay Manager "]
[null,{"$f":"IF([2]Mastersheet!$H$34=\"YES\",\"Retirement date extended, order copy is attached\",\"\")","v":""}]
[{"$f":"[2]C3!A23","v":""},null,{"$f":"[2]C3!B23","v":""}]
[]
[]
[null,"Signature of Applicant",null,null,null,"Signature of DDO"]

{"sheet":"Formate 6","index":46,"n_rows":104,"n_cols":21,"rows_kept":104,"cut":false,"hidden":true,"merged":[[33,0,33,11],[34,0,34,11],[35,0,35,11],[36,9,36,11],[28,1,28,11],[29,1,29,2],[30,1,30,2],[30,9,30,11],[31,0,31,11],[32,0,32,1],[16,1,16,4],[16,6,16,7],[16,9,16,11],[27,1,27,11],[17,0,17,11],[18,1,18,2],[18,3,18,10],[19,0,19,11],[20,1,20,11],[21,1,21,11],[22,1,22,11],[23,1,23,11],[24,1,24,11],[25,1,25,11],[26,1,26,11],[8,12,9,14],[10,13,11,13],[13,0,13,11],[14,0,14,11],[15,0,15,11]]}
[]
[]
[]
[null,null,null,null,null,null,null,null,null,null,null,null,null,null,null,null,{"$f":"IF(ISNA(VLOOKUP($N11,$P$5:$U$104,2,FALSE)),\"\",VLOOKUP($N11,$P$5:$U$104,2,FALSE))","v":"d`\".kk xaxoky"},{"$f":"IF(ISNA(VLOOKUP($N11,$P$5:$U$104,3,FALSE)),\"\",VLOOKUP($N11,$P$5:$U$104,3,FALSE))","v":"अध्यापक ग्रेड III"},{"$f":"IF(ISNA(VLOOKUP($N11,$P$5:$U$104,4,FALSE)),\"\",VLOOKUP($N11,$P$5:$U$104,4,FALSE))","v":"राउप्रावि गोरधनपुरा"},{"$f":"IF(ISNA(VLOOKUP($N11,$P$5:$U$104,5,FALSE)),\"\",VLOOKUP($N11,$P$5:$U$104,5,FALSE))","v":"1995-06-20"},{"$f":"IF(ISNA(VLOOKUP($N11,$P$5:$U$104,6,FALSE)),\"\",VLOOKUP($N11,$P$5:$U$104,6,FALSE))","v":"2055-06-30"}]
[null,null,null,null,null,null,null,null,null,null,null,null,null,null,null,1,{"$f":"EmpDetail!B4","v":"fd'ku yky cSjok"},{"$f":"EmpDetail!C4","v":"प्रधानाचार्य"},{"$f":"EmpDetail!D4","v":"राउमावि चौगाई"},{"$f":"EmpDetail!E4","v":"1962-01-10"},{"$f":"IF(T5=\"\",\"\",DATE(YEAR(T5-1)+60,(MONTH(T5-1))+1,0))","v":"2022-01-31"}]
[null,null,null,null,null,null,null,null,null,null,null,null,null,null,null,2,{"$f":"EmpDetail!B5","v":"iwj.k pUn y{kdkj"},{"$f":"EmpDetail!C5","v":"व्याख्याता"},{"$f":"EmpDetail!D5","v":"राउमावि चौगाई"},{"$f":"EmpDetail!E5","v":"1971-07-08"},{"$f":"IF(T6=\"\",\"\",DATE(YEAR(T6-1)+60,(MONTH(T6-1))+1,0))","v":"2031-07-31"}]
[null,null,null,null,null,null,null,null,null,null,null,null,null,null,null,3,{"$f":"EmpDetail!B6","v":"jktsUnz dqekj tSu"},{"$f":"EmpDetail!C6","v":"व्याख्याता"},{"$f":"EmpDetail!D6","v":"राउमावि चौगाई"},{"$f":"EmpDetail!E6","v":"1968-09-14"},"2028-09-30"]
[null,null,null,null,null,null,null,null,null,null,null,null,null,null,null,4,{"$f":"EmpDetail!B7","v":"fd'ku yky cSjok"},{"$f":"EmpDetail!C7","v":"व्याख्याता"},{"$f":"EmpDetail!D7","v":"राउमावि चौगाई"},{"$f":"EmpDetail!E7","v":"1974-07-07"},"2034-07-31"]
[null,null,null,null,null,null,null,null,null,null,null,null,"dkfeZd dk dzekad fy[ksa",null,null,5,{"$f":"EmpDetail!B8","v":"lR;ukjk;.k 'kekZ"},{"$f":"EmpDetail!C8","v":"वरिष्ठ अध्यापक"},{"$f":"EmpDetail!D8","v":"राउमावि चौगाई"},{"$f":"EmpDetail!E8","v":"1962-07-01"},"2022-06-30"]
[null,null,null,null,null,null,null,null,null,null,null,null,null,null,null,6,{"$f":"EmpDetail!B9","v":"iq\"ik tSu"},{"$f":"EmpDetail!C9","v":"वरिष्ठ अध्यापक"},{"$f":"EmpDetail!D9","v":"राउमावि चौगाई"},{"$f":"EmpDetail!E9","v":"1964-04-10"},"2024-04-30"]
[null,null,null,null,null,null,null,null,null,null,null,null,null,33,null,7,{"$f":"EmpDetail!B10","v":"vk'kkjke eh.kk"},{"$f":"EmpDetail!C10","v":"वरिष्ठ अध्यापक"},{"$f":"EmpDetail!D10","v":"राउमावि चौगाई"},{"$f":"EmpDetail!E10","v":"1978-06-11"},"2038-06-30"]
[null,null,null,null,null,null,null,null,null,null,null,null,null,null,null,8,{"$f":"EmpDetail!B11","v":"t;iky flag"},{"$f":"EmpDetail!C11","v":"वरिष्ठ अध्यापक"},{"$f":"EmpDetail!D11","v":"राउमावि चौगाई"},{"$f":"EmpDetail!E11","v":"1972-02-02"},"2032-02-29"]
[null,null,null,null,null,null,null,null,null,null,null,null,null,null,null,9,{"$f":"EmpDetail!B12","v":"jkeizlkn jsxj"},{"$f":"EmpDetail!C12","v":"वरिष्ठ अध्यापक"},{"$f":"EmpDetail!D12","v":"राउमावि चौगाई"},{"$f":"EmpDetail!E12","v":"1978-06-01"},"2038-05-31"]
[" 'kiFk i=",null,null,null,null,null,null,null,null,null,null,null,null,null,null,10,{"$f":"EmpDetail!B13","v":"egsUnz dqekj tkV"},{"$f":"EmpDetail!C13","v":"शारीरिक शिक्षक"},{"$f":"EmpDetail!D13","v":"राउमावि चौगाई"},{"$f":"EmpDetail!E13","v":"1976-01-30"},"2036-01-31"]
["¼vUrxZr izk:i&6½",null,null,null,null,null,null,null,null,null,null,null,null,null,null,11,{"$f":"EmpDetail!B14","v":"NksVw yky jsxj"},{"$f":"EmpDetail!C14","v":"अध्यापक ग्रेड III"},{"$f":"EmpDetail!D14","v":"राउमावि चौगाई"},{"$f":"EmpDetail!E14","v":"1967-07-10"},"2027-07-31"]
[null,null,null,null,null,null,null,null,null,null,null,null,null,null,null,12,{"$f":"EmpDetail!B15","v":"dUgS;k yky egkoj"},{"$f":"EmpDetail!C15","v":"अध्यापक ग्रेड III"},{"$f":"EmpDetail!D15","v":"राउमावि चौगाई"},{"$f":"EmpDetail!E15","v":"1962-04-05"},"2022-04-30"]
["eSa",{"$f":"Q4","v":"d`\".kk xaxoky"},null,null,null,"inuke&",{"$f":"R4","v":"अध्यापक ग्रेड III"},null,"inLFkkiu&",{"$f":"S4","v":"राउप्रावि गोरधनपुरा"},null,null,null,null,null,13,{"$f":"EmpDetail!B16","v":"prqHkqZt tkV"},{"$f":"EmpDetail!C16","v":"अध्यापक ग्रेड III"},{"$f":"EmpDetail!D16","v":"राउमावि चौगाई"},{"$f":"EmpDetail!E16","v":"1976-04-04"},"2036-04-30"]
["jktLFkku lsok@jktLFkku vf/kuLFk lsok@jktLFkku ys[kk lsok@jktkLFkku ea=ky;hd vf/kuLFk lsok esa dk;Zjr gwa A esjh",null,null,null,null,null,null,null,null,null,null,null,null,null,null,14,{"$f":"EmpDetail!B17","v":"vklsQk [kku"},{"$f":"EmpDetail!C17","v":"अध्यापक ग्रेड III"},{"$f":"EmpDetail!D17","v":"राउमावि चौगाई"},{"$f":"EmpDetail!E17","v":"1971-01-10"},"2031-01-31"]
["tUe frfFk",{"$f":"T4","v":"1995-06-20"},null,"gksus ls esjh vf/kokf\"kZdh lsokfuo`fRr vk;q 60 o\"kZ iw.kZ gksus ds QyLo:i eq>s fnukad&",null,null,null,null,null,null,null,{"$f":"U4","v":"2055-06-30"},null,null,null,15,{"$f":"EmpDetail!B18","v":"lq'khyk cSjok"},{"$f":"EmpDetail!C18","v":"कनिष्ठ सहायक"},{"$f":"EmpDetail!D18","v":"राउमावि चौगाई"},{"$f":"EmpDetail!E18","v":"1995-01-01"},"2054-12-31"]
["dks lsokfuo`Rr fd;k tkuk gS A eSa ;g 'kiFk iwoZd izekf.kr djrk@djrh gwa fd esjs fo:} vkt fnukad rd%&",null,null,null,null,null,null,null,null,null,null,null,null,null,null,16,{"$f":"EmpDetail!B19","v":"txnh'k izlkn rsyh"},{"$f":"EmpDetail!C19","v":"सहायक कर्मचारी"},{"$f":"EmpDetail!D19","v":"राउमावि चौगाई"},{"$f":"EmpDetail!E19","v":"1962-06-04"},"2022-06-30"]
[null,null,null,null,null,null,null,null,null,null,null,null,null,null,null,17,{"$f":"EmpDetail!B20","v":"jfoUnz dqekj tSu"},{"$f":"EmpDetail!C20","v":"अध्यापक ग्रेड III"},{"$f":"EmpDetail!D20","v":"राउप्रावि मोहिनी"},{"$f":"EmpDetail!E20","v":"1967-08-24"},"2027-08-31"]
["1-","jktLFkku flfoy lsok ¼oxhZdj.k] fu;a=.k ,oa vihy½ fu;e 1958 ds fu;e&13@16@17@18 ds vUrZxr fdlh Hkh ",null,null,null,null,null,null,null,null,null,null,null,null,null,18,{"$f":"EmpDetail!B21","v":" ';ke lqUnj ckxkSM"},{"$f":"EmpDetail!C21","v":"अध्यापक ग्रेड III"},{"$f":"EmpDetail!D21","v":"राउप्रावि मोहिनी"},{"$f":"EmpDetail!E21","v":"1983-08-10"},"2043-08-31"]
[null," izdkj dh foHkkxh; tkap dgh Hkh fopkjk/khu@ izLrkfor ugha gSaA",null,null,null,null,null,null,null,null,null,null,null,null,null,19,{"$f":"EmpDetail!B22","v":"d`\".kk 'kekZ"},{"$f":"EmpDetail!C22","v":"प्रबोधक"},{"$f":"EmpDetail!D22","v":"राउप्रावि मोहिनी"},{"$f":"EmpDetail!E22","v":"1972-08-06"},"2032-08-31"]
["2-","esjs fo:) vkt fnukad rd jktLFkku flfoy lsok ¼oxhZdj.k] fu;a=.k ,oa vihy½ fu;e 1958 ds fu;e&19 ds",null,null,null,null,null,null,null,null,null,null,null,null,null,20,{"$f":"EmpDetail!B23","v":"/keZsUnz pkS/kjh"},{"$f":"EmpDetail!C23","v":"अध्यापक ग्रेड III"},{"$f":"EmpDetail!D23","v":"राउप्रावि गोरधनपुरा"},{"$f":"EmpDetail!E23","v":"1990-03-05"},"2050-03-31"]
[null,"vUrZxr dksbZ fo'ks\"k izfØ;k dh dk;Zokgh fopkjk/khu@izLrkfor ugha gSaA",null,null,null,null,null,null,null,null,null,null,null,null,null,21,{"$f":"EmpDetail!B24","v":"izgykn ekyh"},{"$f":"EmpDetail!C24","v":"प्रबोधक"},{"$f":"EmpDetail!D24","v":"राउप्रावि गोरधनपुरा"},{"$f":"EmpDetail!E24","v":"1974-08-07"},"2034-08-31"]
["3-","esjs fo:) dksbZ U;kf;d dk;Zokgh fdlh ekuuh; U;k;ky; esa fopkjk/khu@yfEcr ugha gSaA",null,null,null,null,null,null,null,null,null,null,null,null,null,22,{"$f":"EmpDetail!B25","v":"jken;ky xqtZj"},{"$f":"EmpDetail!C25","v":"प्रबोधक"},{"$f":"EmpDetail!D25","v":"राउप्रावि सोंदीफल"},{"$f":"EmpDetail!E25","v":"1977-08-18"},"2037-08-31"]
["4-","mijksDr fcUnq la- 01 ls 03 rd iw.kZr;k% lgh ,oa lR; gSa ,oa fdlh izdkj dh tkudkjh vlR; ik;h tkus ij esjs",null,null,null,null,null,null,null,null,null,null,null,null,null,23,{"$f":"EmpDetail!B26","v":"vkSeizdk'k tkV"},{"$f":"EmpDetail!C26","v":"अध्यापक ग्रेड III"},{"$f":"EmpDetail!D26","v":"राउप्रावि सोंदीफल"},{"$f":"EmpDetail!E26","v":"1982-10-31"},"2042-10-31"]
[null,"fo:) izHkkoh dk;Zokgh gsrq eSa Lo;a O;fDr'k% mRrkjnk;h jgwaxk@jgwaxhA",null,null,null,null,null,null,null,null,null,null,null,null,null,24,{"$f":"EmpDetail!B27","v":"vthr flag"},{"$f":"EmpDetail!C27","v":"अध्यापक ग्रेड III"},{"$f":"EmpDetail!D27","v":"राप्रावि जानकीवल्लभपुरा"},{"$f":"EmpDetail!E27","v":"1987-08-08"},"2047-08-31"]
[null,null,null,null,null,null,null,null,null,null,null,null,null,null,null,25,{"$f":"EmpDetail!B28","v":"eq[rkj eha;k"},{"$f":"EmpDetail!C28","v":"प्रबोधक"},{"$f":"EmpDetail!D28","v":"राप्रावि जानकीवल्लभपुरा"},{"$f":"EmpDetail!E28","v":"1976-07-04"},"2036-07-31"]
["LFkku&","pkSxkbZ] Vksad",null,null,null,null,null,null,null,null,null,null,null,null,null,26,{"$f":"EmpDetail!B29","v":"eks0 tehy "},{"$f":"EmpDetail!C29","v":"प्रबोधक"},{"$f":"EmpDetail!D29","v":"राप्रावि रसूलपुरा"},{"$f":"EmpDetail!E29","v":"1968-09-15"},"2028-09-30"]
["fnukad&",{"$f":"TODAY()","v":"2021-06-19"},null,null,null,null,null,null,null,"gLrk{kj 'kiFkdrkZ",null,null,null,null,null,27,{"$f":"EmpDetail!B30","v":"lkaojey tkV"},{"$f":"EmpDetail!C30","v":"अध्यापक ग्रेड III"},{"$f":"EmpDetail!D30","v":"राप्रावि रसूलपुरा"},{"$f":"EmpDetail!E30","v":"1992-03-03"},"2052-03-31"]
[null,null,null,null,null,null,null,null,null,null,null,null,null,null,null,28,{"$f":"EmpDetail!B31","v":"pkS/kjh eksuk jkekorkj"},{"$f":"EmpDetail!C31","v":"अध्यापक ग्रेड III"},{"$f":"EmpDetail!D31","v":"राप्रावि मोहिनी ढाणी बाढ"},{"$f":"EmpDetail!E31","v":"1990-01-05"},"2050-01-31"]
["rLnhd %&",null,null,null,null,null,null,null,null,null,null,null,null,null,null,29,{"$f":"EmpDetail!B32","v":"rkjkpUn tk;loky"},{"$f":"EmpDetail!C32","v":"प्रबोधक"},{"$f":"EmpDetail!D32","v":"राप्रावि मोहिनी ढाणी बाढ"},{"$f":"EmpDetail!E32","v":"1976-11-11"},"2036-11-30"]
["eSa ;g rLnhd djrk@djrh gWw fd mDr 'kiFk i= ds dFku fd;s x;s mijksDr fcUnq ,d ls pkj rd iw.kZr;k% lgh ,oa",null,null,null,null,null,null,null,null,null,null,null,null,null,null,30,{"$f":"EmpDetail!B33","v":"jketl ;kno"},{"$f":"EmpDetail!C33","v":"अध्यापक ग्रेड III"},{"$f":"EmpDetail!D33","v":"राप्रावि बैरवा ढाणी सोन्दीफल"},{"$f":"EmpDetail!E33","v":"1970-06-12"},"2030-06-30"]
["lR; gSa ,oa fcuk fdlh u'ks] irs ds ,dne nq:Lr gkyr esa fd;s x;s gSa tks oDr t:jr esjs dke vkosA bZ'oj esjh enn djsA",null,null,null,null,null,null,null,null,null,null,null,null,null,null,31,{"$f":"EmpDetail!B34","v":"dtksMey eh.kk"},{"$f":"EmpDetail!C34","v":"अध्यापक ग्रेड III"},{"$f":"EmpDetail!D34","v":"राप्रावि बैरवा ढाणी सोन्दीफल"},{"$f":"EmpDetail!E34","v":"1990-07-01"},"2050-06-30"]
[null,null,null,null,null,null,null,null,null,null,null,null,null,null,null,32,{"$f":"EmpDetail!B35","v":"/kaut; xkSRre"},{"$f":"EmpDetail!C35","v":"अध्यापक ग्रेड III"},{"$f":"EmpDetail!D35","v":"राउप्रावि गोरधनपुरा"},{"$f":"EmpDetail!E35","v":"1986-08-25"},"2046-08-31"]
[null,null,null,null,null,null,null,null,null,"gLrk{kj 'kiFkdrkZ",null,null,null,null,null,33,{"$f":"EmpDetail!B36","v":"d`\".kk xaxoky"},{"$f":"EmpDetail!C36","v":"अध्यापक ग्रेड III"},{"$f":"EmpDetail!D36","v":"राउप्रावि गोरधनपुरा"},{"$f":"EmpDetail!E36","v":"1995-06-20"},"2055-06-30"]
[null,null,null,null,null,null,null,null,null,null,null,null,null,null,null,34,{"$f":"EmpDetail!B37","v":"n'kjFk dqekj ;kno"},{"$f":"EmpDetail!C37","v":"अध्यापक ग्रेड III"},{"$f":"EmpDetail!D37","v":"राउप्रावि सोंदीफल"},{"$f":"EmpDetail!E37","v":"1991-01-01"},"2050-12-31"]
[null,null,null,null,null,null,null,null,null,null,null,null,null,null,null,35,{"$f":"EmpDetail!B38","v":"d`\".k yky tkV"},{"$f":"EmpDetail!C38","v":"अध्यापक ग्रेड III"},{"$f":"EmpDetail!D38","v":"राउप्रावि सोंदीफल"},{"$f":"EmpDetail!E38","v":"1990-07-18"},"2050-07-31"]
[null,null,null,null,null,null,null,null,null,null,null,null,null,null,null,36,{"$f":"EmpDetail!B39","v":"nhisUnz dqekj iztkir"},{"$f":"EmpDetail!C39","v":"अध्यापक ग्रेड III"},{"$f":"EmpDetail!D39","v":"राउप्रावि सोंदीफल"},{"$f":"EmpDetail!E39","v":"1994-07-12"},"2054-07-31"]
[null,null,null,null,null,null,null,null,null,null,null,null,null,null,null,37,{"$f":"EmpDetail!B40","v":"uohu dqekj"},{"$f":"EmpDetail!C40","v":"अध्यापक ग्रेड III"},{"$f":"EmpDetail!D40","v":"राउप्रावि मोहिनी"},{"$f":"EmpDetail!E40","v":"1995-04-13"},"2055-04-30"]
[null,null,null,null,null,null,null,null,null,null,null,null,null,null,null,38,{"$f":"EmpDetail!B41","v":"ehrs'k dqekj 'kekZ"},{"$f":"EmpDetail!C41","v":"अध्यापक ग्रेड III"},{"$f":"EmpDetail!D41","v":"राउप्रावि मोहिनी"},{"$f":"EmpDetail!E41","v":"1989-08-13"},"2049-08-31"]
[null,null,null,null,null,null,null,null,null,null,null,null,null,null,null,39,{"$f":"EmpDetail!B42","v":"eUtw eh.kk"},{"$f":"EmpDetail!C42","v":"वरिष्ठ अध्यापक"},{"$f":"EmpDetail!D42","v":"राउप्रावि गोरधनपुरा"},{"$f":"EmpDetail!E42","v":"1991-01-06"},"2051-01-31"]
[null,null,null,null,null,null,null,null,null,null,null,null,null,null,null,40,{"$f":"EmpDetail!B43","v":"eatw pkS/kjh"},{"$f":"EmpDetail!C43","v":"वरिष्ठ अध्यापक"},{"$f":"EmpDetail!D43","v":"राउप्रावि सोंदीफल"},{"$f":"EmpDetail!E43","v":"1991-08-04"},"2051-08-31"]
[null,null,null,null,null,null,null,null,null,null,null,null,null,null,null,41,{"$f":"EmpDetail!B44","v":0},{"$f":"EmpDetail!C44","v":0},{"$f":"EmpDetail!D44","v":0},{"$f":"EmpDetail!E44","v":"00:00:00"},{"$error":"#NUM!"}]
[null,null,null,null,null,null,null,null,null,null,null,null,null,null,null,42,{"$f":"EmpDetail!B45","v":0},{"$f":"EmpDetail!C45","v":0},{"$f":"EmpDetail!D45","v":0},{"$f":"EmpDetail!E45","v":"00:00:00"},{"$error":"#NUM!"}]
[null,null,null,null,null,null,null,null,null,null,null,null,null,null,null,43,{"$f":"EmpDetail!B46","v":0},{"$f":"EmpDetail!C46","v":0},{"$f":"EmpDetail!D46","v":0},{"$f":"EmpDetail!E46","v":"00:00:00"},{"$error":"#NUM!"}]
[null,null,null,null,null,null,null,null,null,null,null,null,null,null,null,44,{"$f":"EmpDetail!B47","v":0},{"$f":"EmpDetail!C47","v":0},{"$f":"EmpDetail!D47","v":0},{"$f":"EmpDetail!E47","v":"00:00:00"},{"$error":"#NUM!"}]
[null,null,null,null,null,null,null,null,null,null,null,null,null,null,null,45,{"$f":"EmpDetail!B48","v":0},{"$f":"EmpDetail!C48","v":0},{"$f":"EmpDetail!D48","v":0},{"$f":"EmpDetail!E48","v":"00:00:00"},{"$error":"#NUM!"}]
[null,null,null,null,null,null,null,null,null,null,null,null,null,null,null,46,{"$f":"EmpDetail!B49","v":0},{"$f":"EmpDetail!C49","v":0},{"$f":"EmpDetail!D49","v":0},{"$f":"EmpDetail!E49","v":"00:00:00"},{"$error":"#NUM!"}]
[null,null,null,null,null,null,null,null,null,null,null,null,null,null,null,47,{"$f":"EmpDetail!B50","v":0},{"$f":"EmpDetail!C50","v":0},{"$f":"EmpDetail!D50","v":0},{"$f":"EmpDetail!E50","v":"00:00:00"},{"$error":"#NUM!"}]
[null,null,null,null,null,null,null,null,null,null,null,null,null,null,null,48,{"$f":"EmpDetail!B51","v":0},{"$f":"EmpDetail!C51","v":0},{"$f":"EmpDetail!D51","v":0},{"$f":"EmpDetail!E51","v":"00:00:00"},{"$error":"#NUM!"}]
[null,null,null,null,null,null,null,null,null,null,null,null,null,null,null,49,{"$f":"EmpDetail!B52","v":0},{"$f":"EmpDetail!C52","v":0},{"$f":"EmpDetail!D52","v":0},{"$f":"EmpDetail!E52","v":"00:00:00"},{"$error":"#NUM!"}]
[null,null,null,null,null,null,null,null,null,null,null,null,null,null,null,50,{"$f":"EmpDetail!B53","v":0},{"$f":"EmpDetail!C53","v":0},{"$f":"EmpDetail!D53","v":0},{"$f":"EmpDetail!E53","v":"00:00:00"},{"$error":"#NUM!"}]
[null,null,null,null,null,null,null,null,null,null,null,null,null,null,null,51,{"$f":"EmpDetail!B54","v":0},{"$f":"EmpDetail!C54","v":0},{"$f":"EmpDetail!D54","v":0},{"$f":"EmpDetail!E54","v":"00:00:00"},{"$error":"#NUM!"}]
[null,null,null,null,null,null,null,null,null,null,null,null,null,null,null,52,{"$f":"EmpDetail!B55","v":0},{"$f":"EmpDetail!C55","v":0},{"$f":"EmpDetail!D55","v":0},{"$f":"EmpDetail!E55","v":"00:00:00"},{"$error":"#NUM!"}]
[null,null,null,null,null,null,null,null,null,null,null,null,null,null,null,53,{"$f":"EmpDetail!B56","v":0},{"$f":"EmpDetail!C56","v":0},{"$f":"EmpDetail!D56","v":0},{"$f":"EmpDetail!E56","v":"00:00:00"},{"$error":"#NUM!"}]
[null,null,null,null,null,null,null,null,null,null,null,null,null,null,null,54,{"$f":"EmpDetail!B57","v":0},{"$f":"EmpDetail!C57","v":0},{"$f":"EmpDetail!D57","v":0},{"$f":"EmpDetail!E57","v":"00:00:00"},{"$error":"#NUM!"}]
[null,null,null,null,null,null,null,null,null,null,null,null,null,null,null,55,{"$f":"EmpDetail!B58","v":0},{"$f":"EmpDetail!C58","v":0},{"$f":"EmpDetail!D58","v":0},{"$f":"EmpDetail!E58","v":"00:00:00"},{"$error":"#NUM!"}]
[null,null,null,null,null,null,null,null,null,null,null,null,null,null,null,56,{"$f":"EmpDetail!B59","v":0},{"$f":"EmpDetail!C59","v":0},{"$f":"EmpDetail!D59","v":0},{"$f":"EmpDetail!E59","v":"00:00:00"},{"$error":"#NUM!"}]
[null,null,null,null,null,null,null,null,null,null,null,null,null,null,null,57,{"$f":"EmpDetail!B60","v":0},{"$f":"EmpDetail!C60","v":0},{"$f":"EmpDetail!D60","v":0},{"$f":"EmpDetail!E60","v":"00:00:00"},{"$error":"#NUM!"}]
[null,null,null,null,null,null,null,null,null,null,null,null,null,null,null,58,{"$f":"EmpDetail!B61","v":0},{"$f":"EmpDetail!C61","v":0},{"$f":"EmpDetail!D61","v":0},{"$f":"EmpDetail!E61","v":"00:00:00"},{"$error":"#NUM!"}]
[null,null,null,null,null,null,null,null,null,null,null,null,null,null,null,59,{"$f":"EmpDetail!B62","v":0},{"$f":"EmpDetail!C62","v":0},{"$f":"EmpDetail!D62","v":0},{"$f":"EmpDetail!E62","v":"00:00:00"},{"$error":"#NUM!"}]
[null,null,null,null,null,null,null,null,null,null,null,null,null,null,null,60,{"$f":"EmpDetail!B63","v":0},{"$f":"EmpDetail!C63","v":0},{"$f":"EmpDetail!D63","v":0},{"$f":"EmpDetail!E63","v":"00:00:00"},{"$error":"#NUM!"}]
[null,null,null,null,null,null,null,null,null,null,null,null,null,null,null,61,{"$f":"EmpDetail!B64","v":0},{"$f":"EmpDetail!C64","v":0},{"$f":"EmpDetail!D64","v":0},{"$f":"EmpDetail!E64","v":"00:00:00"},{"$error":"#NUM!"}]
[null,null,null,null,null,null,null,null,null,null,null,null,null,null,null,62,{"$f":"EmpDetail!B65","v":0},{"$f":"EmpDetail!C65","v":0},{"$f":"EmpDetail!D65","v":0},{"$f":"EmpDetail!E65","v":"00:00:00"},{"$error":"#NUM!"}]
[null,null,null,null,null,null,null,null,null,null,null,null,null,null,null,63,{"$f":"EmpDetail!B66","v":0},{"$f":"EmpDetail!C66","v":0},{"$f":"EmpDetail!D66","v":0},{"$f":"EmpDetail!E66","v":"00:00:00"},{"$error":"#NUM!"}]
[null,null,null,null,null,null,null,null,null,null,null,null,null,null,null,64,{"$f":"EmpDetail!B67","v":0},{"$f":"EmpDetail!C67","v":0},{"$f":"EmpDetail!D67","v":0},{"$f":"EmpDetail!E67","v":"00:00:00"},{"$error":"#NUM!"}]
[null,null,null,null,null,null,null,null,null,null,null,null,null,null,null,65,{"$f":"EmpDetail!B68","v":0},{"$f":"EmpDetail!C68","v":0},{"$f":"EmpDetail!D68","v":0},{"$f":"EmpDetail!E68","v":"00:00:00"},{"$error":"#NUM!"}]
[null,null,null,null,null,null,null,null,null,null,null,null,null,null,null,66,{"$f":"EmpDetail!B69","v":0},{"$f":"EmpDetail!C69","v":0},{"$f":"EmpDetail!D69","v":0},{"$f":"EmpDetail!E69","v":"00:00:00"},{"$f":"IF(T70=\"\",\"\",DATE(YEAR(T70-1)+60,(MONTH(T70-1))+1,0))","v":{"$error":"#NUM!"}}]
[null,null,null,null,null,null,null,null,null,null,null,null,null,null,null,67,{"$f":"EmpDetail!B70","v":0},{"$f":"EmpDetail!C70","v":0},{"$f":"EmpDetail!D70","v":0},{"$f":"EmpDetail!E70","v":"00:00:00"},{"$error":"#NUM!"}]
[null,null,null,null,null,null,null,null,null,null,null,null,null,null,null,68,{"$f":"EmpDetail!B71","v":0},{"$f":"EmpDetail!C71","v":0},{"$f":"EmpDetail!D71","v":0},{"$f":"EmpDetail!E71","v":"00:00:00"},{"$error":"#NUM!"}]
[null,null,null,null,null,null,null,null,null,null,null,null,null,null,null,69,{"$f":"EmpDetail!B72","v":0},{"$f":"EmpDetail!C72","v":0},{"$f":"EmpDetail!D72","v":0},{"$f":"EmpDetail!E72","v":"00:00:00"},{"$error":"#NUM!"}]
[null,null,null,null,null,null,null,null,null,null,null,null,null,null,null,70,{"$f":"EmpDetail!B73","v":0},{"$f":"EmpDetail!C73","v":0},{"$f":"EmpDetail!D73","v":0},{"$f":"EmpDetail!E73","v":"00:00:00"},{"$error":"#NUM!"}]
[null,null,null,null,null,null,null,null,null,null,null,null,null,null,null,71,{"$f":"EmpDetail!B74","v":0},{"$f":"EmpDetail!C74","v":0},{"$f":"EmpDetail!D74","v":0},{"$f":"EmpDetail!E74","v":"00:00:00"},{"$error":"#NUM!"}]
[null,null,null,null,null,null,null,null,null,null,null,null,null,null,null,72,{"$f":"EmpDetail!B75","v":0},{"$f":"EmpDetail!C75","v":0},{"$f":"EmpDetail!D75","v":0},{"$f":"EmpDetail!E75","v":"00:00:00"},{"$error":"#NUM!"}]
[null,null,null,null,null,null,null,null,null,null,null,null,null,null,null,73,{"$f":"EmpDetail!B76","v":0},{"$f":"EmpDetail!C76","v":0},{"$f":"EmpDetail!D76","v":0},{"$f":"EmpDetail!E76","v":"00:00:00"},{"$error":"#NUM!"}]
[null,null,null,null,null,null,null,null,null,null,null,null,null,null,null,74,{"$f":"EmpDetail!B77","v":0},{"$f":"EmpDetail!C77","v":0},{"$f":"EmpDetail!D77","v":0},{"$f":"EmpDetail!E77","v":"00:00:00"},{"$error":"#NUM!"}]
[null,null,null,null,null,null,null,null,null,null,null,null,null,null,null,75,{"$f":"EmpDetail!B78","v":0},{"$f":"EmpDetail!C78","v":0},{"$f":"EmpDetail!D78","v":0},{"$f":"EmpDetail!E78","v":"00:00:00"},{"$error":"#NUM!"}]
[null,null,null,null,null,null,null,null,null,null,null,null,null,null,null,76,{"$f":"EmpDetail!B79","v":0},{"$f":"EmpDetail!C79","v":0},{"$f":"EmpDetail!D79","v":0},{"$f":"EmpDetail!E79","v":"00:00:00"},{"$error":"#NUM!"}]
[null,null,null,null,null,null,null,null,null,null,null,null,null,null,null,77,{"$f":"EmpDetail!B80","v":0},{"$f":"EmpDetail!C80","v":0},{"$f":"EmpDetail!D80","v":0},{"$f":"EmpDetail!E80","v":"00:00:00"},{"$error":"#NUM!"}]
[null,null,null,null,null,null,null,null,null,null,null,null,null,null,null,78,{"$f":"EmpDetail!B81","v":0},{"$f":"EmpDetail!C81","v":0},{"$f":"EmpDetail!D81","v":0},{"$f":"EmpDetail!E81","v":"00:00:00"},{"$error":"#NUM!"}]
[null,null,null,null,null,null,null,null,null,null,null,null,null,null,null,79,{"$f":"EmpDetail!B82","v":0},{"$f":"EmpDetail!C82","v":0},{"$f":"EmpDetail!D82","v":0},{"$f":"EmpDetail!E82","v":"00:00:00"},{"$error":"#NUM!"}]
[null,null,null,null,null,null,null,null,null,null,null,null,null,null,null,80,{"$f":"EmpDetail!B83","v":0},{"$f":"EmpDetail!C83","v":0},{"$f":"EmpDetail!D83","v":0},{"$f":"EmpDetail!E83","v":"00:00:00"},{"$error":"#NUM!"}]
[null,null,null,null,null,null,null,null,null,null,null,null,null,null,null,81,{"$f":"EmpDetail!B84","v":0},{"$f":"EmpDetail!C84","v":0},{"$f":"EmpDetail!D84","v":0},{"$f":"EmpDetail!E84","v":"00:00:00"},{"$error":"#NUM!"}]
[null,null,null,null,null,null,null,null,null,null,null,null,null,null,null,82,{"$f":"EmpDetail!B85","v":0},{"$f":"EmpDetail!C85","v":0},{"$f":"EmpDetail!D85","v":0},{"$f":"EmpDetail!E85","v":"00:00:00"},{"$error":"#NUM!"}]
[null,null,null,null,null,null,null,null,null,null,null,null,null,null,null,83,{"$f":"EmpDetail!B86","v":0},{"$f":"EmpDetail!C86","v":0},{"$f":"EmpDetail!D86","v":0},{"$f":"EmpDetail!E86","v":"00:00:00"},{"$error":"#NUM!"}]
[null,null,null,null,null,null,null,null,null,null,null,null,null,null,null,84,{"$f":"EmpDetail!B87","v":0},{"$f":"EmpDetail!C87","v":0},{"$f":"EmpDetail!D87","v":0},{"$f":"EmpDetail!E87","v":"00:00:00"},{"$error":"#NUM!"}]
[null,null,null,null,null,null,null,null,null,null,null,null,null,null,null,85,{"$f":"EmpDetail!B88","v":0},{"$f":"EmpDetail!C88","v":0},{"$f":"EmpDetail!D88","v":0},{"$f":"EmpDetail!E88","v":"00:00:00"},{"$error":"#NUM!"}]
[null,null,null,null,null,null,null,null,null,null,null,null,null,null,null,86,{"$f":"EmpDetail!B89","v":0},{"$f":"EmpDetail!C89","v":0},{"$f":"EmpDetail!D89","v":0},{"$f":"EmpDetail!E89","v":"00:00:00"},{"$error":"#NUM!"}]
[null,null,null,null,null,null,null,null,null,null,null,null,null,null,null,87,{"$f":"EmpDetail!B90","v":0},{"$f":"EmpDetail!C90","v":0},{"$f":"EmpDetail!D90","v":0},{"$f":"EmpDetail!E90","v":"00:00:00"},{"$error":"#NUM!"}]
[null,null,null,null,null,null,null,null,null,null,null,null,null,null,null,88,{"$f":"EmpDetail!B91","v":0},{"$f":"EmpDetail!C91","v":0},{"$f":"EmpDetail!D91","v":0},{"$f":"EmpDetail!E91","v":"00:00:00"},{"$error":"#NUM!"}]
[null,null,null,null,null,null,null,null,null,null,null,null,null,null,null,89,{"$f":"EmpDetail!B92","v":0},{"$f":"EmpDetail!C92","v":0},{"$f":"EmpDetail!D92","v":0},{"$f":"EmpDetail!E92","v":"00:00:00"},{"$error":"#NUM!"}]
[null,null,null,null,null,null,null,null,null,null,null,null,null,null,null,90,{"$f":"EmpDetail!B93","v":0},{"$f":"EmpDetail!C93","v":0},{"$f":"EmpDetail!D93","v":0},{"$f":"EmpDetail!E93","v":"00:00:00"},{"$error":"#NUM!"}]
[null,null,null,null,null,null,null,null,null,null,null,null,null,null,null,91,{"$f":"EmpDetail!B94","v":0},{"$f":"EmpDetail!C94","v":0},{"$f":"EmpDetail!D94","v":0},{"$f":"EmpDetail!E94","v":"00:00:00"},{"$error":"#NUM!"}]
[null,null,null,null,null,null,null,null,null,null,null,null,null,null,null,92,{"$f":"EmpDetail!B95","v":0},{"$f":"EmpDetail!C95","v":0},{"$f":"EmpDetail!D95","v":0},{"$f":"EmpDetail!E95","v":"00:00:00"},{"$error":"#NUM!"}]
[null,null,null,null,null,null,null,null,null,null,null,null,null,null,null,93,{"$f":"EmpDetail!B96","v":0},{"$f":"EmpDetail!C96","v":0},{"$f":"EmpDetail!D96","v":0},{"$f":"EmpDetail!E96","v":"00:00:00"},{"$error":"#NUM!"}]
[null,null,null,null,null,null,null,null,null,null,null,null,null,null,null,94,{"$f":"EmpDetail!B97","v":0},{"$f":"EmpDetail!C97","v":0},{"$f":"EmpDetail!D97","v":0},{"$f":"EmpDetail!E97","v":"00:00:00"},{"$error":"#NUM!"}]
[null,null,null,null,null,null,null,null,null,null,null,null,null,null,null,95,{"$f":"EmpDetail!B98","v":0},{"$f":"EmpDetail!C98","v":0},{"$f":"EmpDetail!D98","v":0},{"$f":"EmpDetail!E98","v":"00:00:00"},{"$error":"#NUM!"}]
[null,null,null,null,null,null,null,null,null,null,null,null,null,null,null,96,{"$f":"EmpDetail!B99","v":0},{"$f":"EmpDetail!C99","v":0},{"$f":"EmpDetail!D99","v":0},{"$f":"EmpDetail!E99","v":"00:00:00"},{"$error":"#NUM!"}]
[null,null,null,null,null,null,null,null,null,null,null,null,null,null,null,97,{"$f":"EmpDetail!B100","v":0},{"$f":"EmpDetail!C100","v":0},{"$f":"EmpDetail!D100","v":0},{"$f":"EmpDetail!E100","v":"00:00:00"},{"$error":"#NUM!"}]
[null,null,null,null,null,null,null,null,null,null,null,null,null,null,null,98,{"$f":"EmpDetail!B101","v":0},{"$f":"EmpDetail!C101","v":0},{"$f":"EmpDetail!D101","v":0},{"$f":"EmpDetail!E101","v":"00:00:00"},{"$error":"#NUM!"}]
[null,null,null,null,null,null,null,null,null,null,null,null,null,null,null,99,{"$f":"EmpDetail!B102","v":0},{"$f":"EmpDetail!C102","v":0},{"$f":"EmpDetail!D102","v":0},{"$f":"EmpDetail!E102","v":"00:00:00"},{"$error":"#NUM!"}]
[null,null,null,null,null,null,null,null,null,null,null,null,null,null,null,100,{"$f":"EmpDetail!B103","v":0},{"$f":"EmpDetail!C103","v":0},{"$f":"EmpDetail!D103","v":0},{"$f":"EmpDetail!E103","v":"00:00:00"},{"$error":"#NUM!"}]

{"sheet":"Checklist","index":47,"n_rows":33,"n_cols":3,"rows_kept":33,"cut":false,"hidden":true,"merged":[[0,0,0,2],[1,0,1,1],[2,0,2,2],[14,0,14,2]]}
["isa'ku nLrkost pSd fyLV"]
["dk;kZy; v/;{k }kjk ns[ks tkus okys fcUnq",null,"dk;kZy; v/;{k dh vfHk;qqfDr@ fo-fo- gkWa@ugha@ykxw ugha@vU;"]
["¼d½ izddj.k ds lkFk layaXu vfHkys[k %&"]
["dz0la0","layXu vfHkys[k","gka@ugha@ykxw ugha@vU;"]
[1,"fu;qfDr izkf/kdkjh }kjk tkjh lsokfuo``fRr vkns’k A","हाँ"]
[2,"fu;qqfDr izkf/kdkjh }kjk tkjh foHkkxh; tkWaWp cdk;k ugha gksus dk izzek.k&i="]
[3,"fu;qfDr izkf/kdkjh }kjk fu;e 45 ds uhps vafdr fVIi.kh\nla[;k 3@16@17@18 ¼fLFkfr ds vuqlkj"]
[4,"deZpkjh@ik= ikfjokfjd isa’kuj ls izkIr ifjokj ds lnL;ksa  dk\niw.kZ C;kSjk ¼fookfgr iq= iq=h lfgr½"]
[5,"deZpkjh@ik= ik-isa’kuj dh o.kZukRed ukekoyh dh rhu\n¼jkT; ls ckgj isasa’ku izkIr djus ds ekeys esasa 4½ izzfr;kW A"]
[6,"deZpkjh dk e`R;q izek.k&i= ¼e`R;q dh fLFkfr esa½"]
[7,"dks\"kkf/kdkjh }kjk tkjh cdk;k ugha gksus dk lesfdr\nvns;rk izzek.k&i="]
[8,"foHkkx }kjk tkjh cdk;k ugha gksus dk lesfdr vns;rk izek.k i="]
[9,"ewy lsok iqfLrdk ¼ewy [kks tkus ij jk- ls-s-fu- 160 ¼?k½\nds varxZZr rS;kj MqqIyhdssV lsok iqfLrdk½"]
[10,"deZpkjh dh lsok esa  jgrs e`R;q ds ekeys esa miknku gssrq\nukeakdu ugha gksus ij ifjokj ds ik= lHkh O;Ld lnL;ksa \ndh@ukekadu dh fLFkfr esa ukfer lnL;ksa dh o.kkZRed\nukekoyh dh 3&3 izfr;ka"]
["¼d½ dk;kZy; }kjk lqfuf’pr djus dh tkudkjh %&"]
[1,"lsok iqfLrdk esa tUe frfFk vafdr gS] tUe frfFk izek.ku dk vk/kkj vafdr dj fn;k x;k gS] tUe frfFk esa ifjorZu ds fy, jkT; ljdkj dh Lohd`fr izdj.k ds lkFk layaXu dh xbZ gS rFkk mldk mYys[k ;Fkk LFkku dj fn;k gSA","हाँ"]
[2,"fu;qfDr frfFk ls lsokfuo`fr frfFk rd dh lsok,a izekf.kr dj nh xbZ gS A"]
[3,"vlR;kfir lsok ds fy, fu/kkZfjr izi= 9 esa deZZpkjh ls ?kks\"k.kk izkIr dj lrqaqf\"V mijkUr izi= 9 , esa Lohd`fr tkjh dj nh xbZ gS rFkk mldk mYys[k ;Fkk LFkku dj fn;k gS A"]
[4,"O;o/kku vof/k daMksusu djus dh jkT; ljdkj dh Lohd`fr izzkIr dj yh xbZ gS] rFkk ;FkkLFkku mYys[k dj fn;k x;k gS A"]
[5,"vlkk/kkj.k vodk’k ,oa fuyEcu vof/k ;fn isa’ku ds fy, ;kssX; lsok ugha gS rks dqy lsok esa ls de dj nh xbZ gS@ isa’ku ;ksX; lsok ekuus dk vkns’k gksus ij ;Fkk LFkku mYys[k dj fn;k x;k gS A"]
[6,"Ck[kkZLrxh ;k fu;e 53 ds vUrxZr vfuok;Z lsokfuo`fr i'pkr~ iqucZgkyh ds ekeys esa uksfVl osru ,oa isasa’kujh ifjykHkksa ds Hkqqxrku dh xbZ jkf’k e; C;kt tek djkus dh izfof\"V lsokiqfLrdk essa vafdr gS A"]
[7,"deZpkjh ds lsok ls gVk;s tkus ;k c[kkZLr fd;s tkus ds\nckn cgky fd;s tkus ij chp dh vof/k ¼Intervening period½ dk l{ke Lrj ij fu;eu dj fn;k x;k gS ;k vof/k ;ksX;kRed lsok esa ls de dj nh xbZ gS A"]
[8,"izfrfu;qfDr@oSnsf’kd lsok@lsok loaxZ ckg~; lsok ¼excadre½ vof/k funs’kd] isa’ku foHkkx }kjk lR;kfir dj nh xbZ gS A mDr vof/k dk isa’ku va’knku o vodk’k osru va’knku tek djkus dk fooj.k isa’ku dqyd esa vafdr dj fn;k x;k gS A"]
[9,"dk;Z izHkkfjr lsok fu;fer dj bh xbZ gS] eLVj jksy lsok lR;kfir djrs gq, vuqifLFkfr vof/k dk vlk/kkj.k vodk’k Lohd`r dj fn;k x;k gS A"]
[10,"dk;Z izHkkfjr lsok vof/k dk va’knk;h izko/kk;h fuf/k esasa fu;ksDrk ds va’knku dh tek djkbZ xbZ jkf’k e; C;kt jktdks\"k esa LFkkukUrfjr djus gsrq tkjh LFkkukraj.k izfof\"V dh izfr layaXu dj nh xbZ gS rFkk ;FkkLFkku mYys[k dj fn;k x;k gS A"]
[11," 'kkfLr dk izHkko osru o`f};ksa ,oa p;fur osrueku@lqfuf’pr dsfj;j izxfr ;kstuk ¼ACP) dh Lohd`fr ij fu;ekuqlkj Mky fn;k x;k gS A"]
[12,"vlk/kkj.k vodk’k ,oa fuyEcu vof/k ;fn osru o`f} ds fy, M~;wVh ugha ekuh xbZ gS rks mldk izHkko fu;ekuqlkj osru of}@o`f};ksa ij Mky fn;k x;k gS A"]
[13,"osru la’kks/ku ds dkj.k olwyh ;ksX; jkf’k olwy dj yh xbZ gS rFkk izfof\"V lsok iqfLrdk esa vafafdr dj nh xbZ gS A"]
[14,"dkssbZ osru fu/kkZj.k cdk;k ugha gS lHkh osru fu/kkZj.kksa o okf\"kZd osru o`f};ksa dh tkWaWp dk;kZy; ds ofj\"Bre ys[kkdehZ ls djok;h xbZ gS rFkk bl vk’k; dk izek.k&i= lsok iqfLrdk esa vafdr djok fn;k x;k gS A"]
[15,"olwyh ;ksX; jkf’k miknku ls olwy djus dh vfHk’kalk dj nh xbZ gS rFkk vafre osru izek.k&i= esa olwyh ;ksX; jkf’k o tek dk iw.kZ ctV en vafdr dj fn;k x;k gS A"]
[16,"fo'ks\"k osru NCA/NPA Lohd`fr dh izfof\"V lsok esa vafdr gS rFkk isa’ku dqyd esa vafre 10 ekg dk vkSlr vafdr gS A"]
[17,"LoSfPNd lsokfuo`fr dk fnu vdk;Z fnol ekuk x;k gS rFkk osru dk Hkqxrku ugha fd;k x;k gS A lsok es jgrs e`R;q ds ekeys esa e`R;q fnol lsok dk Hkkx gS] ftldk osru vodk’k osru fn;k x;k gS A"]
[18,"#ikUrj.k isa’ku vkosnu ij izkfIr frfFk vafdr dj vxzsf\"kr dj fn;k x;k gS A"]

{"sheet":"SB Rules","index":48,"n_rows":14,"n_cols":2,"rows_kept":14,"cut":false,"hidden":true,"merged":[[0,0,0,1]]}
["isa'ku dqyd Hkstus ls iwoZ vkidks lsok iqfLrdk esa psd djuk gSA"]
[1,"lfoZl cqd ds izFke i`\"B ij uksfeus'ku QkeZ ¼GA 126½ yxk gksuk pkfg;sA "]
[2,"izFke fu;qfDr vkns'k dh izfo\"Vh gksuh pkfg;sA"]
[3,"LFkkbZdj.k dh izfo\"Vh gksuh pkfg;sA"]
[4,"lHkh izkIr p;fur osrueku dh izfo\"Vh gksuh pkfg;sA"]
[5,"lfoZl cqd ds izFke i`\"B dh leLr izfof\"B;ksa dh ewy fjdkMZ ls feyku djuh gSA"]
[6,"lfoZl cqd vksj yxh gS rks mleas Hkh izFke i`\"B dh iwfrZ;kWa djuh gSa A"]
[7,"izFke fu;qfDr ls vkt fnu rd lsok izek.khdj.k gksuk pkfg;sA fnukad ij dfVax ugh gksuh pkfg;s o nksgjk lsok lR;kiu ugha gksuk pkfg;sA vxj dfVax gks xbZ gS rks ogh ls izekf.kr djkuh gSA izR;sd lsok izek.khdj.k ij yky L;kgh ls dzekad vafdr gksus pkfg;sA"]
[8,"ih-,y- o esfMdy vodk'k psd djs o vodk'k ys[kk ds mij uke in tUefrfFk izFke fu;qfDr frfFk lsokfuo`fr frfFk fuokl LFkku vxj vafdr ugha gS rks fy[ksaA"]
[9,"Mh-Mh-vks dh lhy ij dgha ij gLRkk{kj NwV x;s gS rks djokuk gSA"]
[10,"leLr fQDls'ku o fodYi i= dh izfof\"B;ka psd dj ysosaA "]
[11,"leLr okf\"kZd osru o`f);k psd dj ysosa o okf\"kZd osru o`f) ds lkeus lsokiqfLrdk dkWye ua- 8 esa dkfeZd ds gLrk{kj psd dj ysosaA"]
[12,"izFke fu;qfDr ls vkt fnu rd V~zWaklQj ] lek;kstu] inkSUufr gksus ij fjfyfoax o TkksbZfuax dk nk[kyk psd djsaA"]
[13,"tUe frfFk vadks o 'kCnksa esa lgh fy[kh gqbZ gksuh pkfg;sA cksMZ izek.k i= la[;k Mky dj laLFkk iz/kku }kjk  izekf.kr  gksuh pkfg;sA"]

{"sheet":"Apendix K","index":49,"n_rows":104,"n_cols":18,"rows_kept":104,"cut":false,"hidden":true,"merged":[[49,5,49,6],[20,1,20,5],[21,1,22,1],[21,2,22,2],[21,3,22,3],[21,4,21,5],[21,6,22,6],[45,1,45,6],[46,1,46,4],[47,5,47,6],[48,5,48,6],[17,2,17,3],[17,4,17,6],[18,2,18,3],[18,4,18,6],[19,2,19,3],[19,4,19,6],[14,2,14,3],[14,4,14,6],[15,2,15,3],[15,4,15,6],[16,2,16,3],[16,4,16,6],[11,1,11,3],[11,4,11,6],[12,2,12,3],[12,4,12,6],[13,2,13,3],[13,4,13,6],[6,0,6,1],[6,2,6,6],[8,1,8,6],[9,0,9,4],[10,1,10,3],[10,4,10,6],[4,9,4,11],[5,1,5,2],[5,4,5,6],[0,0,0,6],[1,0,1,6],[2,0,2,6],[4,1,4,2],[4,5,4,6],[3,1,3,2]]}
["jktLFkku ljdkj"]
["jkT; chek ,oa izko/kk;h fuf/k foHkkx"]
["ifjf'k\"V&d"]
["dzekad&",{"$f":"Master!H3&Master!I3&Master!J3&Master!E3&\"/\"","v":"राउमावि/चौगाई/संस्था/2021-22/"},null,null,null,"fnukad&",{"$f":"TODAY()","v":"2021-06-19"},null,null,null,null,null,null,{"$f":"IF(ISNA(VLOOKUP($K6,$M$5:$R$104,2,FALSE)),\"\",VLOOKUP($K6,$M$5:$R$104,2,FALSE))","v":"d`\".kk xaxoky"},{"$f":"IF(ISNA(VLOOKUP($K6,$M$5:$R$104,3,FALSE)),\"\",VLOOKUP($K6,$M$5:$R$104,3,FALSE))","v":"अध्यापक ग्रेड III"},{"$f":"IF(ISNA(VLOOKUP($K6,$M$5:$R$104,4,FALSE)),\"\",VLOOKUP($K6,$M$5:$R$104,4,FALSE))","v":"राउप्रावि गोरधनपुरा"},{"$f":"IF(ISNA(VLOOKUP($K6,$M$5:$R$104,5,FALSE)),\"\",VLOOKUP($K6,$M$5:$R$104,5,FALSE))","v":"1995-06-20"}]
["fo\"k;&","chek izek.k i= la[;k&",null,868676,"Jh@Jhefr&",{"$f":"N4","v":"d`\".kk xaxoky"},null,null,null,"dkfeZd dk dzekad fy[ksa",null,null,1,{"$f":"EmpDetail!B4","v":"fd'ku yky cSjok"},{"$f":"EmpDetail!C4","v":"प्रधानाचार्य"},{"$f":"EmpDetail!D4","v":"राउमावि चौगाई"},{"$f":"EmpDetail!E4","v":"1962-01-10"},{"$f":"IF(Q5=\"\",\"\",DATE(YEAR(Q5-1)+60,(MONTH(Q5-1))+1,0))","v":"2022-01-31"}]
["in&",{"$f":"O4","v":"अध्यापक ग्रेड III"},null,"iq=@iq=h Jh","tXxk yky cSjok",null,null,null,null,null,33,null,2,{"$f":"EmpDetail!B5","v":"iwj.k pUn y{kdkj"},{"$f":"EmpDetail!C5","v":"व्याख्याता"},{"$f":"EmpDetail!D5","v":"राउमावि चौगाई"},{"$f":"EmpDetail!E5","v":"1971-07-08"},{"$f":"IF(Q6=\"\",\"\",DATE(YEAR(Q6-1)+60,(MONTH(Q6-1))+1,0))","v":"2031-07-31"}]
["foHkkxh; irk&",null,{"$f":"P4","v":"राउप्रावि गोरधनपुरा"},null,null,null,null,null,null,null,null,null,3,{"$f":"EmpDetail!B6","v":"jktsUnz dqekj tSu"},{"$f":"EmpDetail!C6","v":"व्याख्याता"},{"$f":"EmpDetail!D6","v":"राउमावि चौगाई"},{"$f":"EmpDetail!E6","v":"1968-09-14"},"2028-09-30"]
[null,null,null,null,null,null,null,null,null,null,null,null,4,{"$f":"EmpDetail!B7","v":"fd'ku yky cSjok"},{"$f":"EmpDetail!C7","v":"व्याख्याता"},{"$f":"EmpDetail!D7","v":"राउमावि चौगाई"},{"$f":"EmpDetail!E7","v":"1974-07-07"},"2034-07-31"]
[null,"vki LoRo i= ds lkFk chesnkj ls lacaf/kr fuEu tkudkjh bl foHkkx dks fHktokus dk d\"V djsa",null,null,null,null,null,null,null,null,null,null,5,{"$f":"EmpDetail!B8","v":"lR;ukjk;.k 'kekZ"},{"$f":"EmpDetail!C8","v":"वरिष्ठ अध्यापक"},{"$f":"EmpDetail!D8","v":"राउमावि चौगाई"},{"$f":"EmpDetail!E8","v":"1962-07-01"},"2022-06-30"]
["ftlls LoRo nkok r; djus esa foyEc u gksa&",null,null,null,null,null,null,null,null,null,null,null,6,{"$f":"EmpDetail!B9","v":"iq\"ik tSu"},{"$f":"EmpDetail!C9","v":"वरिष्ठ अध्यापक"},{"$f":"EmpDetail!D9","v":"राउमावि चौगाई"},{"$f":"EmpDetail!E9","v":"1964-04-10"},"2024-04-30"]
[1,"chesankj dk LFkkbZ irk ftlij Hkfo\"; esa",null,null,"xzk0iks0 ihiyw rglhy ihiyw ftyk Vksad",null,null,null,null,null,null,null,7,{"$f":"EmpDetail!B10","v":"vk'kkjke eh.kk"},{"$f":"EmpDetail!C10","v":"वरिष्ठ अध्यापक"},{"$f":"EmpDetail!D10","v":"राउमावि चौगाई"},{"$f":"EmpDetail!E10","v":"1978-06-11"},"2038-06-30"]
[null,"i= O;ogkj fd;k tk lds",null,null,"fiu 304801",null,null,null,null,null,null,null,8,{"$f":"EmpDetail!B11","v":"t;iky flag"},{"$f":"EmpDetail!C11","v":"वरिष्ठ अध्यापक"},{"$f":"EmpDetail!D11","v":"राउमावि चौगाई"},{"$f":"EmpDetail!E11","v":"1972-02-02"},"2032-02-29"]
[null,"¼d½","dk;kZy; dh nwjHkk\"k la[;k&",null,"0141-25840",null,null,null,null,null,null,null,9,{"$f":"EmpDetail!B12","v":"jkeizlkn jsxj"},{"$f":"EmpDetail!C12","v":"वरिष्ठ अध्यापक"},{"$f":"EmpDetail!D12","v":"राउमावि चौगाई"},{"$f":"EmpDetail!E12","v":"1978-06-01"},"2038-05-31"]
[null,"¼[k½","vU; nwjHkk\"k la[;k&",null,9829303549,null,null,null,null,null,null,null,10,{"$f":"EmpDetail!B13","v":"egsUnz dqekj tkV"},{"$f":"EmpDetail!C13","v":"शारीरिक शिक्षक"},{"$f":"EmpDetail!D13","v":"राउमावि चौगाई"},{"$f":"EmpDetail!E13","v":"1976-01-30"},"2036-01-31"]
[2,"¼d½","deZpkjh dh tUe frfFk&",null,{"$f":"Q4","v":"1995-06-20"},null,null,null,null,null,null,null,11,{"$f":"EmpDetail!B14","v":"NksVw yky jsxj"},{"$f":"EmpDetail!C14","v":"अध्यापक ग्रेड III"},{"$f":"EmpDetail!D14","v":"राउमावि चौगाई"},{"$f":"EmpDetail!E14","v":"1967-07-10"},"2027-07-31"]
[null,null,"tks lsok fjdkMZ esa ntZ dh xbZ gSA",null,null,null,null,null,null,null,null,null,12,{"$f":"EmpDetail!B15","v":"dUgS;k yky egkoj"},{"$f":"EmpDetail!C15","v":"अध्यापक ग्रेड III"},{"$f":"EmpDetail!D15","v":"राउमावि चौगाई"},{"$f":"EmpDetail!E15","v":"1962-04-05"},"2022-04-30"]
[null,"¼[k½","D;k tUe frfFk cnyh xbZ gS ",null,"ugha",null,null,null,null,null,null,null,13,{"$f":"EmpDetail!B16","v":"prqHkqZt tkV"},{"$f":"EmpDetail!C16","v":"अध्यापक ग्रेड III"},{"$f":"EmpDetail!D16","v":"राउमावि चौगाई"},{"$f":"EmpDetail!E16","v":"1976-04-04"},"2036-04-30"]
[null,null,";fn gka rks vkns'k layXu djsa",null,"lyaXu",null,null,null,null,null,null,null,14,{"$f":"EmpDetail!B17","v":"vklsQk [kku"},{"$f":"EmpDetail!C17","v":"अध्यापक ग्रेड III"},{"$f":"EmpDetail!D17","v":"राउमावि चौगाई"},{"$f":"EmpDetail!E17","v":"1971-01-10"},"2031-01-31"]
[null,"¼x½",";fn deZpkjh fuyafcr jgk gS@fcuk",null,"ugha",null,null,null,null,null,null,null,15,{"$f":"EmpDetail!B18","v":"lq'khyk cSjok"},{"$f":"EmpDetail!C18","v":"कनिष्ठ सहायक"},{"$f":"EmpDetail!D18","v":"राउमावि चौगाई"},{"$f":"EmpDetail!E18","v":"1995-01-01"},"2054-12-31"]
[null,null,"osru vodk'k ij jgk gS rks fooj.k nsaos",null,"ugha",null,null,null,null,null,null,null,16,{"$f":"EmpDetail!B19","v":"txnh'k izlkn rsyh"},{"$f":"EmpDetail!C19","v":"सहायक कर्मचारी"},{"$f":"EmpDetail!D19","v":"राउमावि चौगाई"},{"$f":"EmpDetail!E19","v":"1962-06-04"},"2022-06-30"]
[3,"deZpkjh ds lsokdky esa o\"kZ 1983 ls inLFkkiu dk iw.kZ fooj.k fuEukuqlkj nsaosa&",null,null,null,null,null,null,null,null,null,null,17,{"$f":"EmpDetail!B20","v":"jfoUnz dqekj tSu"},{"$f":"EmpDetail!C20","v":"अध्यापक ग्रेड III"},{"$f":"EmpDetail!D20","v":"राउप्रावि मोहिनी"},{"$f":"EmpDetail!E20","v":"1967-08-24"},"2027-08-31"]
[null,"dzekad","dk;kZy; dk uke","in","vof/k ekg",null,"fo0fo0",null,null,null,null,null,18,{"$f":"EmpDetail!B21","v":" ';ke lqUnj ckxkSM"},{"$f":"EmpDetail!C21","v":"अध्यापक ग्रेड III"},{"$f":"EmpDetail!D21","v":"राउप्रावि मोहिनी"},{"$f":"EmpDetail!E21","v":"1983-08-10"},"2043-08-31"]
[null,null,null,null,"dc ls","dc rd",null,null,null,null,null,null,19,{"$f":"EmpDetail!B22","v":"d`\".kk 'kekZ"},{"$f":"EmpDetail!C22","v":"प्रबोधक"},{"$f":"EmpDetail!D22","v":"राउप्रावि मोहिनी"},{"$f":"EmpDetail!E22","v":"1972-08-06"},"2032-08-31"]
[null,{"$f":"IF(C24=\"\",\"\",1)","v":1},"jkmekfo pkSxkbZ Vksad","v/;kid","1999-04-13","2021-01-31",null,null,null,null,null,null,20,{"$f":"EmpDetail!B23","v":"/keZsUnz pkS/kjh"},{"$f":"EmpDetail!C23","v":"अध्यापक ग्रेड III"},{"$f":"EmpDetail!D23","v":"राउप्रावि गोरधनपुरा"},{"$f":"EmpDetail!E23","v":"1990-03-05"},"2050-03-31"]
[null,{"$f":"IF(C25=\"\",\"\",B24+1)","v":2},"jkmizkfo eksfguh","o0v0",null,null,null,null,null,null,null,null,21,{"$f":"EmpDetail!B24","v":"izgykn ekyh"},{"$f":"EmpDetail!C24","v":"प्रबोधक"},{"$f":"EmpDetail!D24","v":"राउप्रावि गोरधनपुरा"},{"$f":"EmpDetail!E24","v":"1974-08-07"},"2034-08-31"]
[null,{"$f":"IF(C26=\"\",\"\",B25+1)","v":""},null,null,null,null,null,null,null,null,null,null,22,{"$f":"EmpDetail!B25","v":"jken;ky xqtZj"},{"$f":"EmpDetail!C25","v":"प्रबोधक"},{"$f":"EmpDetail!D25","v":"राउप्रावि सोंदीफल"},{"$f":"EmpDetail!E25","v":"1977-08-18"},"2037-08-31"]
[null,"",null,null,null,null,null,null,null,null,null,null,23,{"$f":"EmpDetail!B26","v":"vkSeizdk'k tkV"},{"$f":"EmpDetail!C26","v":"अध्यापक ग्रेड III"},{"$f":"EmpDetail!D26","v":"राउप्रावि सोंदीफल"},{"$f":"EmpDetail!E26","v":"1982-10-31"},"2042-10-31"]
[null,"",null,null,null,null,null,null,null,null,null,null,24,{"$f":"EmpDetail!B27","v":"vthr flag"},{"$f":"EmpDetail!C27","v":"अध्यापक ग्रेड III"},{"$f":"EmpDetail!D27","v":"राप्रावि जानकीवल्लभपुरा"},{"$f":"EmpDetail!E27","v":"1987-08-08"},"2047-08-31"]
[null,"",null,null,null,null,null,null,null,null,null,null,25,{"$f":"EmpDetail!B28","v":"eq[rkj eha;k"},{"$f":"EmpDetail!C28","v":"प्रबोधक"},{"$f":"EmpDetail!D28","v":"राप्रावि जानकीवल्लभपुरा"},{"$f":"EmpDetail!E28","v":"1976-07-04"},"2036-07-31"]
[null,"",null,null,null,null,null,null,null,null,null,null,26,{"$f":"EmpDetail!B29","v":"eks0 tehy "},{"$f":"EmpDetail!C29","v":"प्रबोधक"},{"$f":"EmpDetail!D29","v":"राप्रावि रसूलपुरा"},{"$f":"EmpDetail!E29","v":"1968-09-15"},"2028-09-30"]
[null,"",null,null,null,null,null,null,null,null,null,null,27,{"$f":"EmpDetail!B30","v":"lkaojey tkV"},{"$f":"EmpDetail!C30","v":"अध्यापक ग्रेड III"},{"$f":"EmpDetail!D30","v":"राप्रावि रसूलपुरा"},{"$f":"EmpDetail!E30","v":"1992-03-03"},"2052-03-31"]
[null,"",null,null,null,null,null,null,null,null,null,null,28,{"$f":"EmpDetail!B31","v":"pkS/kjh eksuk jkekorkj"},{"$f":"EmpDetail!C31","v":"अध्यापक ग्रेड III"},{"$f":"EmpDetail!D31","v":"राप्रावि मोहिनी ढाणी बाढ"},{"$f":"EmpDetail!E31","v":"1990-01-05"},"2050-01-31"]
[null,"",null,null,null,null,null,null,null,null,null,null,29,{"$f":"EmpDetail!B32","v":"rkjkpUn tk;loky"},{"$f":"EmpDetail!C32","v":"प्रबोधक"},{"$f":"EmpDetail!D32","v":"राप्रावि मोहिनी ढाणी बाढ"},{"$f":"EmpDetail!E32","v":"1976-11-11"},"2036-11-30"]
[null,"",null,null,null,null,null,null,null,null,null,null,30,{"$f":"EmpDetail!B33","v":"jketl ;kno"},{"$f":"EmpDetail!C33","v":"अध्यापक ग्रेड III"},{"$f":"EmpDetail!D33","v":"राप्रावि बैरवा ढाणी सोन्दीफल"},{"$f":"EmpDetail!E33","v":"1970-06-12"},"2030-06-30"]
[null,"",null,null,null,null,null,null,null,null,null,null,31,{"$f":"EmpDetail!B34","v":"dtksMey eh.kk"},{"$f":"EmpDetail!C34","v":"अध्यापक ग्रेड III"},{"$f":"EmpDetail!D34","v":"राप्रावि बैरवा ढाणी सोन्दीफल"},{"$f":"EmpDetail!E34","v":"1990-07-01"},"2050-06-30"]
[null,"",null,null,null,null,null,null,null,null,null,null,32,{"$f":"EmpDetail!B35","v":"/kaut; xkSRre"},{"$f":"EmpDetail!C35","v":"अध्यापक ग्रेड III"},{"$f":"EmpDetail!D35","v":"राउप्रावि गोरधनपुरा"},{"$f":"EmpDetail!E35","v":"1986-08-25"},"2046-08-31"]
[null,"",null,null,null,null,null,null,null,null,null,null,33,{"$f":"EmpDetail!B36","v":"d`\".kk xaxoky"},{"$f":"EmpDetail!C36","v":"अध्यापक ग्रेड III"},{"$f":"EmpDetail!D36","v":"राउप्रावि गोरधनपुरा"},{"$f":"EmpDetail!E36","v":"1995-06-20"},"2055-06-30"]
[null,"",null,null,null,null,null,null,null,null,null,null,34,{"$f":"EmpDetail!B37","v":"n'kjFk dqekj ;kno"},{"$f":"EmpDetail!C37","v":"अध्यापक ग्रेड III"},{"$f":"EmpDetail!D37","v":"राउप्रावि सोंदीफल"},{"$f":"EmpDetail!E37","v":"1991-01-01"},"2050-12-31"]
[null,"",null,null,null,null,null,null,null,null,null,null,35,{"$f":"EmpDetail!B38","v":"d`\".k yky tkV"},{"$f":"EmpDetail!C38","v":"अध्यापक ग्रेड III"},{"$f":"EmpDetail!D38","v":"राउप्रावि सोंदीफल"},{"$f":"EmpDetail!E38","v":"1990-07-18"},"2050-07-31"]
[null,"",null,null,null,null,null,null,null,null,null,null,36,{"$f":"EmpDetail!B39","v":"nhisUnz dqekj iztkir"},{"$f":"EmpDetail!C39","v":"अध्यापक ग्रेड III"},{"$f":"EmpDetail!D39","v":"राउप्रावि सोंदीफल"},{"$f":"EmpDetail!E39","v":"1994-07-12"},"2054-07-31"]
[null,"",null,null,null,null,null,null,null,null,null,null,37,{"$f":"EmpDetail!B40","v":"uohu dqekj"},{"$f":"EmpDetail!C40","v":"अध्यापक ग्रेड III"},{"$f":"EmpDetail!D40","v":"राउप्रावि मोहिनी"},{"$f":"EmpDetail!E40","v":"1995-04-13"},"2055-04-30"]
[null,"",null,null,null,null,null,null,null,null,null,null,38,{"$f":"EmpDetail!B41","v":"ehrs'k dqekj 'kekZ"},{"$f":"EmpDetail!C41","v":"अध्यापक ग्रेड III"},{"$f":"EmpDetail!D41","v":"राउप्रावि मोहिनी"},{"$f":"EmpDetail!E41","v":"1989-08-13"},"2049-08-31"]
[null,"",null,null,null,null,null,null,null,null,null,null,39,{"$f":"EmpDetail!B42","v":"eUtw eh.kk"},{"$f":"EmpDetail!C42","v":"वरिष्ठ अध्यापक"},{"$f":"EmpDetail!D42","v":"राउप्रावि गोरधनपुरा"},{"$f":"EmpDetail!E42","v":"1991-01-06"},"2051-01-31"]
[null,"",null,null,null,null,null,null,null,null,null,null,40,{"$f":"EmpDetail!B43","v":"eatw pkS/kjh"},{"$f":"EmpDetail!C43","v":"वरिष्ठ अध्यापक"},{"$f":"EmpDetail!D43","v":"राउप्रावि सोंदीफल"},{"$f":"EmpDetail!E43","v":"1991-08-04"},"2051-08-31"]
["uksV&",null,null,null,null,null,null,null,null,null,null,null,41,{"$f":"EmpDetail!B44","v":0},{"$f":"EmpDetail!C44","v":0},{"$f":"EmpDetail!D44","v":0},{"$f":"EmpDetail!E44","v":"00:00:00"},{"$error":"#NUM!"}]
[null,"izekf.kr fd;k tkrk gS fd deZpkjh dk mijksDr fooj.k dkfeZd ds lsok vfHkys[kks@vU; vfHkys[kksa ls ",null,null,null,null,null,null,null,null,null,null,42,{"$f":"EmpDetail!B45","v":0},{"$f":"EmpDetail!C45","v":0},{"$f":"EmpDetail!D45","v":0},{"$f":"EmpDetail!E45","v":"00:00:00"},{"$error":"#NUM!"}]
[null,"tkap dj fy;k x;k gS ,oa lgh ik;k x;k gS A",null,null,null,null,null,null,null,null,null,null,43,{"$f":"EmpDetail!B46","v":0},{"$f":"EmpDetail!C46","v":0},{"$f":"EmpDetail!D46","v":0},{"$f":"EmpDetail!E46","v":"00:00:00"},{"$error":"#NUM!"}]
[null,null,null,null,null,{"$f":"Master!B2","v":"प्रधानाचार्य"},null,null,null,null,null,null,44,{"$f":"EmpDetail!B47","v":0},{"$f":"EmpDetail!C47","v":0},{"$f":"EmpDetail!D47","v":0},{"$f":"EmpDetail!E47","v":"00:00:00"},{"$error":"#NUM!"}]
["LFkku&","pksaxkbZa",null,null,null,{"$f":"Master!B3","v":"राजकीय उच्च माध्यमिक विद्यालय "},null,null,null,null,null,null,45,{"$f":"EmpDetail!B48","v":0},{"$f":"EmpDetail!C48","v":0},{"$f":"EmpDetail!D48","v":0},{"$f":"EmpDetail!E48","v":"00:00:00"},{"$error":"#NUM!"}]
["fnukad&",{"$f":"G4","v":"2021-06-19"},null,null,null,{"$f":"Master!B4","v":"चौगाई]टोंक"},null,null,null,null,null,null,46,{"$f":"EmpDetail!B49","v":0},{"$f":"EmpDetail!C49","v":0},{"$f":"EmpDetail!D49","v":0},{"$f":"EmpDetail!E49","v":"00:00:00"},{"$error":"#NUM!"}]
[null,null,null,null,null,null,null,null,null,null,null,null,47,{"$f":"EmpDetail!B50","v":0},{"$f":"EmpDetail!C50","v":0},{"$f":"EmpDetail!D50","v":0},{"$f":"EmpDetail!E50","v":"00:00:00"},{"$error":"#NUM!"}]
[null,null,null,null,null,null,null,null,null,null,null,null,48,{"$f":"EmpDetail!B51","v":0},{"$f":"EmpDetail!C51","v":0},{"$f":"EmpDetail!D51","v":0},{"$f":"EmpDetail!E51","v":"00:00:00"},{"$error":"#NUM!"}]
[null,null,null,null,null,null,null,null,null,null,null,null,49,{"$f":"EmpDetail!B52","v":0},{"$f":"EmpDetail!C52","v":0},{"$f":"EmpDetail!D52","v":0},{"$f":"EmpDetail!E52","v":"00:00:00"},{"$error":"#NUM!"}]
[null,null,null,null,null,null,null,null,null,null,null,null,50,{"$f":"EmpDetail!B53","v":0},{"$f":"EmpDetail!C53","v":0},{"$f":"EmpDetail!D53","v":0},{"$f":"EmpDetail!E53","v":"00:00:00"},{"$error":"#NUM!"}]
[null,null,null,null,null,null,null,null,null,null,null,null,51,{"$f":"EmpDetail!B54","v":0},{"$f":"EmpDetail!C54","v":0},{"$f":"EmpDetail!D54","v":0},{"$f":"EmpDetail!E54","v":"00:00:00"},{"$error":"#NUM!"}]
[null,null,null,null,null,null,null,null,null,null,null,null,52,{"$f":"EmpDetail!B55","v":0},{"$f":"EmpDetail!C55","v":0},{"$f":"EmpDetail!D55","v":0},{"$f":"EmpDetail!E55","v":"00:00:00"},{"$error":"#NUM!"}]
[null,null,null,null,null,null,null,null,null,null,null,null,53,{"$f":"EmpDetail!B56","v":0},{"$f":"EmpDetail!C56","v":0},{"$f":"EmpDetail!D56","v":0},{"$f":"EmpDetail!E56","v":"00:00:00"},{"$error":"#NUM!"}]
[null,null,null,null,null,null,null,null,null,null,null,null,54,{"$f":"EmpDetail!B57","v":0},{"$f":"EmpDetail!C57","v":0},{"$f":"EmpDetail!D57","v":0},{"$f":"EmpDetail!E57","v":"00:00:00"},{"$error":"#NUM!"}]
[null,null,null,null,null,null,null,null,null,null,null,null,55,{"$f":"EmpDetail!B58","v":0},{"$f":"EmpDetail!C58","v":0},{"$f":"EmpDetail!D58","v":0},{"$f":"EmpDetail!E58","v":"00:00:00"},{"$error":"#NUM!"}]
[null,null,null,null,null,null,null,null,null,null,null,null,56,{"$f":"EmpDetail!B59","v":0},{"$f":"EmpDetail!C59","v":0},{"$f":"EmpDetail!D59","v":0},{"$f":"EmpDetail!E59","v":"00:00:00"},{"$error":"#NUM!"}]
[null,null,null,null,null,null,null,null,null,null,null,null,57,{"$f":"EmpDetail!B60","v":0},{"$f":"EmpDetail!C60","v":0},{"$f":"EmpDetail!D60","v":0},{"$f":"EmpDetail!E60","v":"00:00:00"},{"$error":"#NUM!"}]
[null,null,null,null,null,null,null,null,null,null,null,null,58,{"$f":"EmpDetail!B61","v":0},{"$f":"EmpDetail!C61","v":0},{"$f":"EmpDetail!D61","v":0},{"$f":"EmpDetail!E61","v":"00:00:00"},{"$error":"#NUM!"}]
[null,null,null,null,null,null,null,null,null,null,null,null,59,{"$f":"EmpDetail!B62","v":0},{"$f":"EmpDetail!C62","v":0},{"$f":"EmpDetail!D62","v":0},{"$f":"EmpDetail!E62","v":"00:00:00"},{"$error":"#NUM!"}]
[null,null,null,null,null,null,null,null,null,null,null,null,60,{"$f":"EmpDetail!B63","v":0},{"$f":"EmpDetail!C63","v":0},{"$f":"EmpDetail!D63","v":0},{"$f":"EmpDetail!E63","v":"00:00:00"},{"$error":"#NUM!"}]
[null,null,null,null,null,null,null,null,null,null,null,null,61,{"$f":"EmpDetail!B64","v":0},{"$f":"EmpDetail!C64","v":0},{"$f":"EmpDetail!D64","v":0},{"$f":"EmpDetail!E64","v":"00:00:00"},{"$error":"#NUM!"}]
[null,null,null,null,null,null,null,null,null,null,null,null,62,{"$f":"EmpDetail!B65","v":0},{"$f":"EmpDetail!C65","v":0},{"$f":"EmpDetail!D65","v":0},{"$f":"EmpDetail!E65","v":"00:00:00"},{"$error":"#NUM!"}]
[null,null,null,null,null,null,null,null,null,null,null,null,63,{"$f":"EmpDetail!B66","v":0},{"$f":"EmpDetail!C66","v":0},{"$f":"EmpDetail!D66","v":0},{"$f":"EmpDetail!E66","v":"00:00:00"},{"$error":"#NUM!"}]
[null,null,null,null,null,null,null,null,null,null,null,null,64,{"$f":"EmpDetail!B67","v":0},{"$f":"EmpDetail!C67","v":0},{"$f":"EmpDetail!D67","v":0},{"$f":"EmpDetail!E67","v":"00:00:00"},{"$error":"#NUM!"}]
[null,null,null,null,null,null,null,null,null,null,null,null,65,{"$f":"EmpDetail!B68","v":0},{"$f":"EmpDetail!C68","v":0},{"$f":"EmpDetail!D68","v":0},{"$f":"EmpDetail!E68","v":"00:00:00"},{"$error":"#NUM!"}]
[null,null,null,null,null,null,null,null,null,null,null,null,66,{"$f":"EmpDetail!B69","v":0},{"$f":"EmpDetail!C69","v":0},{"$f":"EmpDetail!D69","v":0},{"$f":"EmpDetail!E69","v":"00:00:00"},{"$f":"IF(Q70=\"\",\"\",DATE(YEAR(Q70-1)+60,(MONTH(Q70-1))+1,0))","v":{"$error":"#NUM!"}}]
[null,null,null,null,null,null,null,null,null,null,null,null,67,{"$f":"EmpDetail!B70","v":0},{"$f":"EmpDetail!C70","v":0},{"$f":"EmpDetail!D70","v":0},{"$f":"EmpDetail!E70","v":"00:00:00"},{"$error":"#NUM!"}]
[null,null,null,null,null,null,null,null,null,null,null,null,68,{"$f":"EmpDetail!B71","v":0},{"$f":"EmpDetail!C71","v":0},{"$f":"EmpDetail!D71","v":0},{"$f":"EmpDetail!E71","v":"00:00:00"},{"$error":"#NUM!"}]
[null,null,null,null,null,null,null,null,null,null,null,null,69,{"$f":"EmpDetail!B72","v":0},{"$f":"EmpDetail!C72","v":0},{"$f":"EmpDetail!D72","v":0},{"$f":"EmpDetail!E72","v":"00:00:00"},{"$error":"#NUM!"}]
[null,null,null,null,null,null,null,null,null,null,null,null,70,{"$f":"EmpDetail!B73","v":0},{"$f":"EmpDetail!C73","v":0},{"$f":"EmpDetail!D73","v":0},{"$f":"EmpDetail!E73","v":"00:00:00"},{"$error":"#NUM!"}]
[null,null,null,null,null,null,null,null,null,null,null,null,71,{"$f":"EmpDetail!B74","v":0},{"$f":"EmpDetail!C74","v":0},{"$f":"EmpDetail!D74","v":0},{"$f":"EmpDetail!E74","v":"00:00:00"},{"$error":"#NUM!"}]
[null,null,null,null,null,null,null,null,null,null,null,null,72,{"$f":"EmpDetail!B75","v":0},{"$f":"EmpDetail!C75","v":0},{"$f":"EmpDetail!D75","v":0},{"$f":"EmpDetail!E75","v":"00:00:00"},{"$error":"#NUM!"}]
[null,null,null,null,null,null,null,null,null,null,null,null,73,{"$f":"EmpDetail!B76","v":0},{"$f":"EmpDetail!C76","v":0},{"$f":"EmpDetail!D76","v":0},{"$f":"EmpDetail!E76","v":"00:00:00"},{"$error":"#NUM!"}]
[null,null,null,null,null,null,null,null,null,null,null,null,74,{"$f":"EmpDetail!B77","v":0},{"$f":"EmpDetail!C77","v":0},{"$f":"EmpDetail!D77","v":0},{"$f":"EmpDetail!E77","v":"00:00:00"},{"$error":"#NUM!"}]
[null,null,null,null,null,null,null,null,null,null,null,null,75,{"$f":"EmpDetail!B78","v":0},{"$f":"EmpDetail!C78","v":0},{"$f":"EmpDetail!D78","v":0},{"$f":"EmpDetail!E78","v":"00:00:00"},{"$error":"#NUM!"}]
[null,null,null,null,null,null,null,null,null,null,null,null,76,{"$f":"EmpDetail!B79","v":0},{"$f":"EmpDetail!C79","v":0},{"$f":"EmpDetail!D79","v":0},{"$f":"EmpDetail!E79","v":"00:00:00"},{"$error":"#NUM!"}]
[null,null,null,null,null,null,null,null,null,null,null,null,77,{"$f":"EmpDetail!B80","v":0},{"$f":"EmpDetail!C80","v":0},{"$f":"EmpDetail!D80","v":0},{"$f":"EmpDetail!E80","v":"00:00:00"},{"$error":"#NUM!"}]
[null,null,null,null,null,null,null,null,null,null,null,null,78,{"$f":"EmpDetail!B81","v":0},{"$f":"EmpDetail!C81","v":0},{"$f":"EmpDetail!D81","v":0},{"$f":"EmpDetail!E81","v":"00:00:00"},{"$error":"#NUM!"}]
[null,null,null,null,null,null,null,null,null,null,null,null,79,{"$f":"EmpDetail!B82","v":0},{"$f":"EmpDetail!C82","v":0},{"$f":"EmpDetail!D82","v":0},{"$f":"EmpDetail!E82","v":"00:00:00"},{"$error":"#NUM!"}]
[null,null,null,null,null,null,null,null,null,null,null,null,80,{"$f":"EmpDetail!B83","v":0},{"$f":"EmpDetail!C83","v":0},{"$f":"EmpDetail!D83","v":0},{"$f":"EmpDetail!E83","v":"00:00:00"},{"$error":"#NUM!"}]
[null,null,null,null,null,null,null,null,null,null,null,null,81,{"$f":"EmpDetail!B84","v":0},{"$f":"EmpDetail!C84","v":0},{"$f":"EmpDetail!D84","v":0},{"$f":"EmpDetail!E84","v":"00:00:00"},{"$error":"#NUM!"}]
[null,null,null,null,null,null,null,null,null,null,null,null,82,{"$f":"EmpDetail!B85","v":0},{"$f":"EmpDetail!C85","v":0},{"$f":"EmpDetail!D85","v":0},{"$f":"EmpDetail!E85","v":"00:00:00"},{"$error":"#NUM!"}]
[null,null,null,null,null,null,null,null,null,null,null,null,83,{"$f":"EmpDetail!B86","v":0},{"$f":"EmpDetail!C86","v":0},{"$f":"EmpDetail!D86","v":0},{"$f":"EmpDetail!E86","v":"00:00:00"},{"$error":"#NUM!"}]
[null,null,null,null,null,null,null,null,null,null,null,null,84,{"$f":"EmpDetail!B87","v":0},{"$f":"EmpDetail!C87","v":0},{"$f":"EmpDetail!D87","v":0},{"$f":"EmpDetail!E87","v":"00:00:00"},{"$error":"#NUM!"}]
[null,null,null,null,null,null,null,null,null,null,null,null,85,{"$f":"EmpDetail!B88","v":0},{"$f":"EmpDetail!C88","v":0},{"$f":"EmpDetail!D88","v":0},{"$f":"EmpDetail!E88","v":"00:00:00"},{"$error":"#NUM!"}]
[null,null,null,null,null,null,null,null,null,null,null,null,86,{"$f":"EmpDetail!B89","v":0},{"$f":"EmpDetail!C89","v":0},{"$f":"EmpDetail!D89","v":0},{"$f":"EmpDetail!E89","v":"00:00:00"},{"$error":"#NUM!"}]
[null,null,null,null,null,null,null,null,null,null,null,null,87,{"$f":"EmpDetail!B90","v":0},{"$f":"EmpDetail!C90","v":0},{"$f":"EmpDetail!D90","v":0},{"$f":"EmpDetail!E90","v":"00:00:00"},{"$error":"#NUM!"}]
[null,null,null,null,null,null,null,null,null,null,null,null,88,{"$f":"EmpDetail!B91","v":0},{"$f":"EmpDetail!C91","v":0},{"$f":"EmpDetail!D91","v":0},{"$f":"EmpDetail!E91","v":"00:00:00"},{"$error":"#NUM!"}]
[null,null,null,null,null,null,null,null,null,null,null,null,89,{"$f":"EmpDetail!B92","v":0},{"$f":"EmpDetail!C92","v":0},{"$f":"EmpDetail!D92","v":0},{"$f":"EmpDetail!E92","v":"00:00:00"},{"$error":"#NUM!"}]
[null,null,null,null,null,null,null,null,null,null,null,null,90,{"$f":"EmpDetail!B93","v":0},{"$f":"EmpDetail!C93","v":0},{"$f":"EmpDetail!D93","v":0},{"$f":"EmpDetail!E93","v":"00:00:00"},{"$error":"#NUM!"}]
[null,null,null,null,null,null,null,null,null,null,null,null,91,{"$f":"EmpDetail!B94","v":0},{"$f":"EmpDetail!C94","v":0},{"$f":"EmpDetail!D94","v":0},{"$f":"EmpDetail!E94","v":"00:00:00"},{"$error":"#NUM!"}]
[null,null,null,null,null,null,null,null,null,null,null,null,92,{"$f":"EmpDetail!B95","v":0},{"$f":"EmpDetail!C95","v":0},{"$f":"EmpDetail!D95","v":0},{"$f":"EmpDetail!E95","v":"00:00:00"},{"$error":"#NUM!"}]
[null,null,null,null,null,null,null,null,null,null,null,null,93,{"$f":"EmpDetail!B96","v":0},{"$f":"EmpDetail!C96","v":0},{"$f":"EmpDetail!D96","v":0},{"$f":"EmpDetail!E96","v":"00:00:00"},{"$error":"#NUM!"}]
[null,null,null,null,null,null,null,null,null,null,null,null,94,{"$f":"EmpDetail!B97","v":0},{"$f":"EmpDetail!C97","v":0},{"$f":"EmpDetail!D97","v":0},{"$f":"EmpDetail!E97","v":"00:00:00"},{"$error":"#NUM!"}]
[null,null,null,null,null,null,null,null,null,null,null,null,95,{"$f":"EmpDetail!B98","v":0},{"$f":"EmpDetail!C98","v":0},{"$f":"EmpDetail!D98","v":0},{"$f":"EmpDetail!E98","v":"00:00:00"},{"$error":"#NUM!"}]
[null,null,null,null,null,null,null,null,null,null,null,null,96,{"$f":"EmpDetail!B99","v":0},{"$f":"EmpDetail!C99","v":0},{"$f":"EmpDetail!D99","v":0},{"$f":"EmpDetail!E99","v":"00:00:00"},{"$error":"#NUM!"}]
[null,null,null,null,null,null,null,null,null,null,null,null,97,{"$f":"EmpDetail!B100","v":0},{"$f":"EmpDetail!C100","v":0},{"$f":"EmpDetail!D100","v":0},{"$f":"EmpDetail!E100","v":"00:00:00"},{"$error":"#NUM!"}]
[null,null,null,null,null,null,null,null,null,null,null,null,98,{"$f":"EmpDetail!B101","v":0},{"$f":"EmpDetail!C101","v":0},{"$f":"EmpDetail!D101","v":0},{"$f":"EmpDetail!E101","v":"00:00:00"},{"$error":"#NUM!"}]
[null,null,null,null,null,null,null,null,null,null,null,null,99,{"$f":"EmpDetail!B102","v":0},{"$f":"EmpDetail!C102","v":0},{"$f":"EmpDetail!D102","v":0},{"$f":"EmpDetail!E102","v":"00:00:00"},{"$error":"#NUM!"}]
[null,null,null,null,null,null,null,null,null,null,null,null,100,{"$f":"EmpDetail!B103","v":0},{"$f":"EmpDetail!C103","v":0},{"$f":"EmpDetail!D103","v":0},{"$f":"EmpDetail!E103","v":"00:00:00"},{"$error":"#NUM!"}]

{"sheet":"Indemnity Bond","index":50,"n_rows":104,"n_cols":17,"rows_kept":104,"cut":false,"hidden":true,"merged":[[5,9,5,11],[22,0,22,3],[25,0,26,0],[28,0,28,3],[13,0,13,3],[14,0,14,3],[15,0,15,3],[19,0,19,3],[20,0,20,3],[21,0,21,3],[23,2,23,3]]}
[]
[]
[]
[null,null,null,null,null,null,null,null,null,null,null,null,null,{"$f":"IF(ISNA(VLOOKUP($K7,$M$5:$R$104,2,FALSE)),\"\",VLOOKUP($K7,$M$5:$R$104,2,FALSE))","v":"d`\".kk xaxoky"},{"$f":"IF(ISNA(VLOOKUP($K7,$M$5:$R$104,3,FALSE)),\"\",VLOOKUP($K7,$M$5:$R$104,3,FALSE))","v":"अध्यापक ग्रेड III"},{"$f":"IF(ISNA(VLOOKUP($K7,$M$5:$R$104,4,FALSE)),\"\",VLOOKUP($K7,$M$5:$R$104,4,FALSE))","v":"राउप्रावि गोरधनपुरा"},{"$f":"IF(ISNA(VLOOKUP($K7,$M$5:$R$104,5,FALSE)),\"\",VLOOKUP($K7,$M$5:$R$104,5,FALSE))","v":"1995-06-20"}]
[null,null,null,null,null,null,null,null,null,null,null,null,1,{"$f":"EmpDetail!B4","v":"fd'ku yky cSjok"},{"$f":"EmpDetail!C4","v":"प्रधानाचार्य"},{"$f":"EmpDetail!D4","v":"राउमावि चौगाई"},{"$f":"EmpDetail!E4","v":"1962-01-10"}]
[null,null,null,null,null,null,null,null,null,"dkfeZd dk dzekad fy[ksa",null,null,2,{"$f":"EmpDetail!B5","v":"iwj.k pUn y{kdkj"},{"$f":"EmpDetail!C5","v":"व्याख्याता"},{"$f":"EmpDetail!D5","v":"राउमावि चौगाई"},{"$f":"EmpDetail!E5","v":"1971-07-08"}]
[null,null,null,null,null,null,null,null,null,null,33,null,3,{"$f":"EmpDetail!B6","v":"jktsUnz dqekj tSu"},{"$f":"EmpDetail!C6","v":"व्याख्याता"},{"$f":"EmpDetail!D6","v":"राउमावि चौगाई"},{"$f":"EmpDetail!E6","v":"1968-09-14"}]
[null,null,null,null,null,null,null,null,null,null,null,null,4,{"$f":"EmpDetail!B7","v":"fd'ku yky cSjok"},{"$f":"EmpDetail!C7","v":"व्याख्याता"},{"$f":"EmpDetail!D7","v":"राउमावि चौगाई"},{"$f":"EmpDetail!E7","v":"1974-07-07"}]
[null,null,null,null,null,null,null,null,null,null,null,null,5,{"$f":"EmpDetail!B8","v":"lR;ukjk;.k 'kekZ"},{"$f":"EmpDetail!C8","v":"वरिष्ठ अध्यापक"},{"$f":"EmpDetail!D8","v":"राउमावि चौगाई"},{"$f":"EmpDetail!E8","v":"1962-07-01"}]
[null,null,null,null,null,null,null,null,null,null,null,null,6,{"$f":"EmpDetail!B9","v":"iq\"ik tSu"},{"$f":"EmpDetail!C9","v":"वरिष्ठ अध्यापक"},{"$f":"EmpDetail!D9","v":"राउमावि चौगाई"},{"$f":"EmpDetail!E9","v":"1964-04-10"}]
[null,null,null,null,null,null,null,null,null,null,null,null,7,{"$f":"EmpDetail!B10","v":"vk'kkjke eh.kk"},{"$f":"EmpDetail!C10","v":"वरिष्ठ अध्यापक"},{"$f":"EmpDetail!D10","v":"राउमावि चौगाई"},{"$f":"EmpDetail!E10","v":"1978-06-11"}]
[null,null,null,null,null,null,null,null,null,null,null,null,8,{"$f":"EmpDetail!B11","v":"t;iky flag"},{"$f":"EmpDetail!C11","v":"वरिष्ठ अध्यापक"},{"$f":"EmpDetail!D11","v":"राउमावि चौगाई"},{"$f":"EmpDetail!E11","v":"1972-02-02"}]
[null,null,null,null,null,null,null,null,null,null,null,null,9,{"$f":"EmpDetail!B12","v":"jkeizlkn jsxj"},{"$f":"EmpDetail!C12","v":"वरिष्ठ अध्यापक"},{"$f":"EmpDetail!D12","v":"राउमावि चौगाई"},{"$f":"EmpDetail!E12","v":"1978-06-01"}]
["{kfriwjd ckW.M",null,null,null,null,null,null,null,null,null,null,null,10,{"$f":"EmpDetail!B13","v":"egsUnz dqekj tkV"},{"$f":"EmpDetail!C13","v":"शारीरिक शिक्षक"},{"$f":"EmpDetail!D13","v":"राउमावि चौगाई"},{"$f":"EmpDetail!E13","v":"1976-01-30"}]
["(Indemnity Bond)",null,null,null,null,null,null,null,null,null,null,null,11,{"$f":"EmpDetail!B14","v":"NksVw yky jsxj"},{"$f":"EmpDetail!C14","v":"अध्यापक ग्रेड III"},{"$f":"EmpDetail!D14","v":"राउमावि चौगाई"},{"$f":"EmpDetail!E14","v":"1967-07-10"}]
["[fu;e 21 ¼iv½]",null,null,null,null,null,null,null,null,null,null,null,12,{"$f":"EmpDetail!B15","v":"dUgS;k yky egkoj"},{"$f":"EmpDetail!C15","v":"अध्यापक ग्रेड III"},{"$f":"EmpDetail!D15","v":"राउमावि चौगाई"},{"$f":"EmpDetail!E15","v":"1962-04-05"}]
[null,null,null,null,null,null,null,null,null,null,null,null,13,{"$f":"EmpDetail!B16","v":"prqHkqZt tkV"},{"$f":"EmpDetail!C16","v":"अध्यापक ग्रेड III"},{"$f":"EmpDetail!D16","v":"राउमावि चौगाई"},{"$f":"EmpDetail!E16","v":"1976-04-04"}]
["eSa",{"$f":"N4","v":"d`\".kk xaxoky"},"iq=@iq=h@iRuh Jh","tXxk yky cSjok",null,null,null,null,null,null,null,null,14,{"$f":"EmpDetail!B17","v":"vklsQk [kku"},{"$f":"EmpDetail!C17","v":"अध्यापक ग्रेड III"},{"$f":"EmpDetail!D17","v":"राउमावि चौगाई"},{"$f":"EmpDetail!E17","v":"1971-01-10"}]
["in&",{"$f":"O4","v":"अध्यापक ग्रेड III"},"inLFkkiu&",{"$f":"P4","v":"राउप्रावि गोरधनपुरा"},null,null,null,null,null,null,null,null,15,{"$f":"EmpDetail!B18","v":"lq'khyk cSjok"},{"$f":"EmpDetail!C18","v":"कनिष्ठ सहायक"},{"$f":"EmpDetail!D18","v":"राउमावि चौगाई"},{"$f":"EmpDetail!E18","v":"1995-01-01"}]
[",rn~}kjk ?kks\"k.kk djrk@djrh gwaW fd eq>s funs'kd] jkT; chek ,oa lkekU; izko/kk;h fuf/k foHkkx }kjk",null,null,null,null,null,null,null,null,null,null,null,16,{"$f":"EmpDetail!B19","v":"txnh'k izlkn rsyh"},{"$f":"EmpDetail!C19","v":"सहायक कर्मचारी"},{"$f":"EmpDetail!D19","v":"राउमावि चौगाई"},{"$f":"EmpDetail!E19","v":"1962-06-04"}]
["lkekU; izko/kk;h fuf/k@jkT; chek ls vf/kd Hkqxrku dh xbZ jkf'k tek ugha djk;s tkus dh fLFkfr ",null,null,null,null,null,null,null,null,null,null,null,17,{"$f":"EmpDetail!B20","v":"jfoUnz dqekj tSu"},{"$f":"EmpDetail!C20","v":"अध्यापक ग्रेड III"},{"$f":"EmpDetail!D20","v":"राउप्रावि मोहिनी"},{"$f":"EmpDetail!E20","v":"1967-08-24"}]
["esa foHkkx }kjk eq>s jkT; ljdkj ls ns; isa'ku] xzsT;wVh rFkk vU; Hkqxrku esa ls vf/kd Hkqxrku dh xbZ ",null,null,null,null,null,null,null,null,null,null,null,18,{"$f":"EmpDetail!B21","v":" ';ke lqUnj ckxkSM"},{"$f":"EmpDetail!C21","v":"अध्यापक ग्रेड III"},{"$f":"EmpDetail!D21","v":"राउप्रावि मोहिनी"},{"$f":"EmpDetail!E21","v":"1983-08-10"}]
["jkf'k e; C;kt dh dVkSrh djus dh lgefr nsrk@nsrh gWwA",null,null,null,null,null,null,null,null,null,null,null,19,{"$f":"EmpDetail!B22","v":"d`\".kk 'kekZ"},{"$f":"EmpDetail!C22","v":"प्रबोधक"},{"$f":"EmpDetail!D22","v":"राउप्रावि मोहिनी"},{"$f":"EmpDetail!E22","v":"1972-08-06"}]
[null,null,"gLrk{kj va'knkrk",null,null,null,null,null,null,null,null,null,20,{"$f":"EmpDetail!B23","v":"/keZsUnz pkS/kjh"},{"$f":"EmpDetail!C23","v":"अध्यापक ग्रेड III"},{"$f":"EmpDetail!D23","v":"राउप्रावि गोरधनपुरा"},{"$f":"EmpDetail!E23","v":"1990-03-05"}]
[null,null,"va'knkrk@euksuhr dk uke&",{"$f":"B18","v":"d`\".kk xaxoky"},null,null,null,null,null,null,null,null,21,{"$f":"EmpDetail!B24","v":"izgykn ekyh"},{"$f":"EmpDetail!C24","v":"प्रबोधक"},{"$f":"EmpDetail!D24","v":"राउप्रावि गोरधनपुरा"},{"$f":"EmpDetail!E24","v":"1974-08-07"}]
["gLrk{kj izekf.kr",null,"in&",{"$f":"B19","v":"अध्यापक ग्रेड III"},null,null,null,null,null,null,null,null,22,{"$f":"EmpDetail!B25","v":"jken;ky xqtZj"},{"$f":"EmpDetail!C25","v":"प्रबोधक"},{"$f":"EmpDetail!D25","v":"राउप्रावि सोंदीफल"},{"$f":"EmpDetail!E25","v":"1977-08-18"}]
[null,null,"foHkkx&","f'k{kk foHkkx",null,null,null,null,null,null,null,null,23,{"$f":"EmpDetail!B26","v":"vkSeizdk'k tkV"},{"$f":"EmpDetail!C26","v":"अध्यापक ग्रेड III"},{"$f":"EmpDetail!D26","v":"राउप्रावि सोंदीफल"},{"$f":"EmpDetail!E26","v":"1982-10-31"}]
[null,null,null,null,null,null,null,null,null,null,null,null,24,{"$f":"EmpDetail!B27","v":"vthr flag"},{"$f":"EmpDetail!C27","v":"अध्यापक ग्रेड III"},{"$f":"EmpDetail!D27","v":"राप्रावि जानकीवल्लभपुरा"},{"$f":"EmpDetail!E27","v":"1987-08-08"}]
["uksV & mijksDr izek.k&i= 10 : dk ukWu T;wfMf'k;y LVkEi ij vafdr dj izekf.kr djokdj izLrqr djsaA",null,null,null,null,null,null,null,null,null,null,null,25,{"$f":"EmpDetail!B28","v":"eq[rkj eha;k"},{"$f":"EmpDetail!C28","v":"प्रबोधक"},{"$f":"EmpDetail!D28","v":"राप्रावि जानकीवल्लभपुरा"},{"$f":"EmpDetail!E28","v":"1976-07-04"}]
[null,null,null,null,null,null,null,null,null,null,null,null,26,{"$f":"EmpDetail!B29","v":"eks0 tehy "},{"$f":"EmpDetail!C29","v":"प्रबोधक"},{"$f":"EmpDetail!D29","v":"राप्रावि रसूलपुरा"},{"$f":"EmpDetail!E29","v":"1968-09-15"}]
[null,null,null,null,null,null,null,null,null,null,null,null,27,{"$f":"EmpDetail!B30","v":"lkaojey tkV"},{"$f":"EmpDetail!C30","v":"अध्यापक ग्रेड III"},{"$f":"EmpDetail!D30","v":"राप्रावि रसूलपुरा"},{"$f":"EmpDetail!E30","v":"1992-03-03"}]
[null,null,null,null,null,null,null,null,null,null,null,null,28,{"$f":"EmpDetail!B31","v":"pkS/kjh eksuk jkekorkj"},{"$f":"EmpDetail!C31","v":"अध्यापक ग्रेड III"},{"$f":"EmpDetail!D31","v":"राप्रावि मोहिनी ढाणी बाढ"},{"$f":"EmpDetail!E31","v":"1990-01-05"}]
[null,null,null,null,null,null,null,null,null,null,null,null,29,{"$f":"EmpDetail!B32","v":"rkjkpUn tk;loky"},{"$f":"EmpDetail!C32","v":"प्रबोधक"},{"$f":"EmpDetail!D32","v":"राप्रावि मोहिनी ढाणी बाढ"},{"$f":"EmpDetail!E32","v":"1976-11-11"}]
[null,null,null,null,null,null,null,null,null,null,null,null,30,{"$f":"EmpDetail!B33","v":"jketl ;kno"},{"$f":"EmpDetail!C33","v":"अध्यापक ग्रेड III"},{"$f":"EmpDetail!D33","v":"राप्रावि बैरवा ढाणी सोन्दीफल"},{"$f":"EmpDetail!E33","v":"1970-06-12"}]
[null,null,null,null,null,null,null,null,null,null,null,null,31,{"$f":"EmpDetail!B34","v":"dtksMey eh.kk"},{"$f":"EmpDetail!C34","v":"अध्यापक ग्रेड III"},{"$f":"EmpDetail!D34","v":"राप्रावि बैरवा ढाणी सोन्दीफल"},{"$f":"EmpDetail!E34","v":"1990-07-01"}]
[null,null,null,null,null,null,null,null,null,null,null,null,32,{"$f":"EmpDetail!B35","v":"/kaut; xkSRre"},{"$f":"EmpDetail!C35","v":"अध्यापक ग्रेड III"},{"$f":"EmpDetail!D35","v":"राउप्रावि गोरधनपुरा"},{"$f":"EmpDetail!E35","v":"1986-08-25"}]
[null,null,null,null,null,null,null,null,null,null,null,null,33,{"$f":"EmpDetail!B36","v":"d`\".kk xaxoky"},{"$f":"EmpDetail!C36","v":"अध्यापक ग्रेड III"},{"$f":"EmpDetail!D36","v":"राउप्रावि गोरधनपुरा"},{"$f":"EmpDetail!E36","v":"1995-06-20"}]
[null,null,null,null,null,null,null,null,null,null,null,null,34,{"$f":"EmpDetail!B37","v":"n'kjFk dqekj ;kno"},{"$f":"EmpDetail!C37","v":"अध्यापक ग्रेड III"},{"$f":"EmpDetail!D37","v":"राउप्रावि सोंदीफल"},{"$f":"EmpDetail!E37","v":"1991-01-01"}]
[null,null,null,null,null,null,null,null,null,null,null,null,35,{"$f":"EmpDetail!B38","v":"d`\".k yky tkV"},{"$f":"EmpDetail!C38","v":"अध्यापक ग्रेड III"},{"$f":"EmpDetail!D38","v":"राउप्रावि सोंदीफल"},{"$f":"EmpDetail!E38","v":"1990-07-18"}]
[null,null,null,null,null,null,null,null,null,null,null,null,36,{"$f":"EmpDetail!B39","v":"nhisUnz dqekj iztkir"},{"$f":"EmpDetail!C39","v":"अध्यापक ग्रेड III"},{"$f":"EmpDetail!D39","v":"राउप्रावि सोंदीफल"},{"$f":"EmpDetail!E39","v":"1994-07-12"}]
[null,null,null,null,null,null,null,null,null,null,null,null,37,{"$f":"EmpDetail!B40","v":"uohu dqekj"},{"$f":"EmpDetail!C40","v":"अध्यापक ग्रेड III"},{"$f":"EmpDetail!D40","v":"राउप्रावि मोहिनी"},{"$f":"EmpDetail!E40","v":"1995-04-13"}]
[null,null,null,null,null,null,null,null,null,null,null,null,38,{"$f":"EmpDetail!B41","v":"ehrs'k dqekj 'kekZ"},{"$f":"EmpDetail!C41","v":"अध्यापक ग्रेड III"},{"$f":"EmpDetail!D41","v":"राउप्रावि मोहिनी"},{"$f":"EmpDetail!E41","v":"1989-08-13"}]
[null,null,null,null,null,null,null,null,null,null,null,null,39,{"$f":"EmpDetail!B42","v":"eUtw eh.kk"},{"$f":"EmpDetail!C42","v":"वरिष्ठ अध्यापक"},{"$f":"EmpDetail!D42","v":"राउप्रावि गोरधनपुरा"},{"$f":"EmpDetail!E42","v":"1991-01-06"}]
[null,null,null,null,null,null,null,null,null,null,null,null,40,{"$f":"EmpDetail!B43","v":"eatw pkS/kjh"},{"$f":"EmpDetail!C43","v":"वरिष्ठ अध्यापक"},{"$f":"EmpDetail!D43","v":"राउप्रावि सोंदीफल"},{"$f":"EmpDetail!E43","v":"1991-08-04"}]
[null,null,null,null,null,null,null,null,null,null,null,null,41,{"$f":"EmpDetail!B44","v":0},{"$f":"EmpDetail!C44","v":0},{"$f":"EmpDetail!D44","v":0},{"$f":"EmpDetail!E44","v":"00:00:00"}]
[null,null,null,null,null,null,null,null,null,null,null,null,42,{"$f":"EmpDetail!B45","v":0},{"$f":"EmpDetail!C45","v":0},{"$f":"EmpDetail!D45","v":0},{"$f":"EmpDetail!E45","v":"00:00:00"}]
[null,null,null,null,null,null,null,null,null,null,null,null,43,{"$f":"EmpDetail!B46","v":0},{"$f":"EmpDetail!C46","v":0},{"$f":"EmpDetail!D46","v":0},{"$f":"EmpDetail!E46","v":"00:00:00"}]
[null,null,null,null,null,null,null,null,null,null,null,null,44,{"$f":"EmpDetail!B47","v":0},{"$f":"EmpDetail!C47","v":0},{"$f":"EmpDetail!D47","v":0},{"$f":"EmpDetail!E47","v":"00:00:00"}]
[null,null,null,null,null,null,null,null,null,null,null,null,45,{"$f":"EmpDetail!B48","v":0},{"$f":"EmpDetail!C48","v":0},{"$f":"EmpDetail!D48","v":0},{"$f":"EmpDetail!E48","v":"00:00:00"}]
[null,null,null,null,null,null,null,null,null,null,null,null,46,{"$f":"EmpDetail!B49","v":0},{"$f":"EmpDetail!C49","v":0},{"$f":"EmpDetail!D49","v":0},{"$f":"EmpDetail!E49","v":"00:00:00"}]
[null,null,null,null,null,null,null,null,null,null,null,null,47,{"$f":"EmpDetail!B50","v":0},{"$f":"EmpDetail!C50","v":0},{"$f":"EmpDetail!D50","v":0},{"$f":"EmpDetail!E50","v":"00:00:00"}]
[null,null,null,null,null,null,null,null,null,null,null,null,48,{"$f":"EmpDetail!B51","v":0},{"$f":"EmpDetail!C51","v":0},{"$f":"EmpDetail!D51","v":0},{"$f":"EmpDetail!E51","v":"00:00:00"}]
[null,null,null,null,null,null,null,null,null,null,null,null,49,{"$f":"EmpDetail!B52","v":0},{"$f":"EmpDetail!C52","v":0},{"$f":"EmpDetail!D52","v":0},{"$f":"EmpDetail!E52","v":"00:00:00"}]
[null,null,null,null,null,null,null,null,null,null,null,null,50,{"$f":"EmpDetail!B53","v":0},{"$f":"EmpDetail!C53","v":0},{"$f":"EmpDetail!D53","v":0},{"$f":"EmpDetail!E53","v":"00:00:00"}]
[null,null,null,null,null,null,null,null,null,null,null,null,51,{"$f":"EmpDetail!B54","v":0},{"$f":"EmpDetail!C54","v":0},{"$f":"EmpDetail!D54","v":0},{"$f":"EmpDetail!E54","v":"00:00:00"}]
[null,null,null,null,null,null,null,null,null,null,null,null,52,{"$f":"EmpDetail!B55","v":0},{"$f":"EmpDetail!C55","v":0},{"$f":"EmpDetail!D55","v":0},{"$f":"EmpDetail!E55","v":"00:00:00"}]
[null,null,null,null,null,null,null,null,null,null,null,null,53,{"$f":"EmpDetail!B56","v":0},{"$f":"EmpDetail!C56","v":0},{"$f":"EmpDetail!D56","v":0},{"$f":"EmpDetail!E56","v":"00:00:00"}]
[null,null,null,null,null,null,null,null,null,null,null,null,54,{"$f":"EmpDetail!B57","v":0},{"$f":"EmpDetail!C57","v":0},{"$f":"EmpDetail!D57","v":0},{"$f":"EmpDetail!E57","v":"00:00:00"}]
[null,null,null,null,null,null,null,null,null,null,null,null,55,{"$f":"EmpDetail!B58","v":0},{"$f":"EmpDetail!C58","v":0},{"$f":"EmpDetail!D58","v":0},{"$f":"EmpDetail!E58","v":"00:00:00"}]
[null,null,null,null,null,null,null,null,null,null,null,null,56,{"$f":"EmpDetail!B59","v":0},{"$f":"EmpDetail!C59","v":0},{"$f":"EmpDetail!D59","v":0},{"$f":"EmpDetail!E59","v":"00:00:00"}]
[null,null,null,null,null,null,null,null,null,null,null,null,57,{"$f":"EmpDetail!B60","v":0},{"$f":"EmpDetail!C60","v":0},{"$f":"EmpDetail!D60","v":0},{"$f":"EmpDetail!E60","v":"00:00:00"}]
[null,null,null,null,null,null,null,null,null,null,null,null,58,{"$f":"EmpDetail!B61","v":0},{"$f":"EmpDetail!C61","v":0},{"$f":"EmpDetail!D61","v":0},{"$f":"EmpDetail!E61","v":"00:00:00"}]
[null,null,null,null,null,null,null,null,null,null,null,null,59,{"$f":"EmpDetail!B62","v":0},{"$f":"EmpDetail!C62","v":0},{"$f":"EmpDetail!D62","v":0},{"$f":"EmpDetail!E62","v":"00:00:00"}]
[null,null,null,null,null,null,null,null,null,null,null,null,60,{"$f":"EmpDetail!B63","v":0},{"$f":"EmpDetail!C63","v":0},{"$f":"EmpDetail!D63","v":0},{"$f":"EmpDetail!E63","v":"00:00:00"}]
[null,null,null,null,null,null,null,null,null,null,null,null,61,{"$f":"EmpDetail!B64","v":0},{"$f":"EmpDetail!C64","v":0},{"$f":"EmpDetail!D64","v":0},{"$f":"EmpDetail!E64","v":"00:00:00"}]
[null,null,null,null,null,null,null,null,null,null,null,null,62,{"$f":"EmpDetail!B65","v":0},{"$f":"EmpDetail!C65","v":0},{"$f":"EmpDetail!D65","v":0},{"$f":"EmpDetail!E65","v":"00:00:00"}]
[null,null,null,null,null,null,null,null,null,null,null,null,63,{"$f":"EmpDetail!B66","v":0},{"$f":"EmpDetail!C66","v":0},{"$f":"EmpDetail!D66","v":0},{"$f":"EmpDetail!E66","v":"00:00:00"}]
[null,null,null,null,null,null,null,null,null,null,null,null,64,{"$f":"EmpDetail!B67","v":0},{"$f":"EmpDetail!C67","v":0},{"$f":"EmpDetail!D67","v":0},{"$f":"EmpDetail!E67","v":"00:00:00"}]
[null,null,null,null,null,null,null,null,null,null,null,null,65,{"$f":"EmpDetail!B68","v":0},{"$f":"EmpDetail!C68","v":0},{"$f":"EmpDetail!D68","v":0},{"$f":"EmpDetail!E68","v":"00:00:00"}]
[null,null,null,null,null,null,null,null,null,null,null,null,66,{"$f":"EmpDetail!B69","v":0},{"$f":"EmpDetail!C69","v":0},{"$f":"EmpDetail!D69","v":0},{"$f":"EmpDetail!E69","v":"00:00:00"}]
[null,null,null,null,null,null,null,null,null,null,null,null,67,{"$f":"EmpDetail!B70","v":0},{"$f":"EmpDetail!C70","v":0},{"$f":"EmpDetail!D70","v":0},{"$f":"EmpDetail!E70","v":"00:00:00"}]
[null,null,null,null,null,null,null,null,null,null,null,null,68,{"$f":"EmpDetail!B71","v":0},{"$f":"EmpDetail!C71","v":0},{"$f":"EmpDetail!D71","v":0},{"$f":"EmpDetail!E71","v":"00:00:00"}]
[null,null,null,null,null,null,null,null,null,null,null,null,69,{"$f":"EmpDetail!B72","v":0},{"$f":"EmpDetail!C72","v":0},{"$f":"EmpDetail!D72","v":0},{"$f":"EmpDetail!E72","v":"00:00:00"}]
[null,null,null,null,null,null,null,null,null,null,null,null,70,{"$f":"EmpDetail!B73","v":0},{"$f":"EmpDetail!C73","v":0},{"$f":"EmpDetail!D73","v":0},{"$f":"EmpDetail!E73","v":"00:00:00"}]
[null,null,null,null,null,null,null,null,null,null,null,null,71,{"$f":"EmpDetail!B74","v":0},{"$f":"EmpDetail!C74","v":0},{"$f":"EmpDetail!D74","v":0},{"$f":"EmpDetail!E74","v":"00:00:00"}]
[null,null,null,null,null,null,null,null,null,null,null,null,72,{"$f":"EmpDetail!B75","v":0},{"$f":"EmpDetail!C75","v":0},{"$f":"EmpDetail!D75","v":0},{"$f":"EmpDetail!E75","v":"00:00:00"}]
[null,null,null,null,null,null,null,null,null,null,null,null,73,{"$f":"EmpDetail!B76","v":0},{"$f":"EmpDetail!C76","v":0},{"$f":"EmpDetail!D76","v":0},{"$f":"EmpDetail!E76","v":"00:00:00"}]
[null,null,null,null,null,null,null,null,null,null,null,null,74,{"$f":"EmpDetail!B77","v":0},{"$f":"EmpDetail!C77","v":0},{"$f":"EmpDetail!D77","v":0},{"$f":"EmpDetail!E77","v":"00:00:00"}]
[null,null,null,null,null,null,null,null,null,null,null,null,75,{"$f":"EmpDetail!B78","v":0},{"$f":"EmpDetail!C78","v":0},{"$f":"EmpDetail!D78","v":0},{"$f":"EmpDetail!E78","v":"00:00:00"}]
[null,null,null,null,null,null,null,null,null,null,null,null,76,{"$f":"EmpDetail!B79","v":0},{"$f":"EmpDetail!C79","v":0},{"$f":"EmpDetail!D79","v":0},{"$f":"EmpDetail!E79","v":"00:00:00"}]
[null,null,null,null,null,null,null,null,null,null,null,null,77,{"$f":"EmpDetail!B80","v":0},{"$f":"EmpDetail!C80","v":0},{"$f":"EmpDetail!D80","v":0},{"$f":"EmpDetail!E80","v":"00:00:00"}]
[null,null,null,null,null,null,null,null,null,null,null,null,78,{"$f":"EmpDetail!B81","v":0},{"$f":"EmpDetail!C81","v":0},{"$f":"EmpDetail!D81","v":0},{"$f":"EmpDetail!E81","v":"00:00:00"}]
[null,null,null,null,null,null,null,null,null,null,null,null,79,{"$f":"EmpDetail!B82","v":0},{"$f":"EmpDetail!C82","v":0},{"$f":"EmpDetail!D82","v":0},{"$f":"EmpDetail!E82","v":"00:00:00"}]
[null,null,null,null,null,null,null,null,null,null,null,null,80,{"$f":"EmpDetail!B83","v":0},{"$f":"EmpDetail!C83","v":0},{"$f":"EmpDetail!D83","v":0},{"$f":"EmpDetail!E83","v":"00:00:00"}]
[null,null,null,null,null,null,null,null,null,null,null,null,81,{"$f":"EmpDetail!B84","v":0},{"$f":"EmpDetail!C84","v":0},{"$f":"EmpDetail!D84","v":0},{"$f":"EmpDetail!E84","v":"00:00:00"}]
[null,null,null,null,null,null,null,null,null,null,null,null,82,{"$f":"EmpDetail!B85","v":0},{"$f":"EmpDetail!C85","v":0},{"$f":"EmpDetail!D85","v":0},{"$f":"EmpDetail!E85","v":"00:00:00"}]
[null,null,null,null,null,null,null,null,null,null,null,null,83,{"$f":"EmpDetail!B86","v":0},{"$f":"EmpDetail!C86","v":0},{"$f":"EmpDetail!D86","v":0},{"$f":"EmpDetail!E86","v":"00:00:00"}]
[null,null,null,null,null,null,null,null,null,null,null,null,84,{"$f":"EmpDetail!B87","v":0},{"$f":"EmpDetail!C87","v":0},{"$f":"EmpDetail!D87","v":0},{"$f":"EmpDetail!E87","v":"00:00:00"}]
[null,null,null,null,null,null,null,null,null,null,null,null,85,{"$f":"EmpDetail!B88","v":0},{"$f":"EmpDetail!C88","v":0},{"$f":"EmpDetail!D88","v":0},{"$f":"EmpDetail!E88","v":"00:00:00"}]
[null,null,null,null,null,null,null,null,null,null,null,null,86,{"$f":"EmpDetail!B89","v":0},{"$f":"EmpDetail!C89","v":0},{"$f":"EmpDetail!D89","v":0},{"$f":"EmpDetail!E89","v":"00:00:00"}]
[null,null,null,null,null,null,null,null,null,null,null,null,87,{"$f":"EmpDetail!B90","v":0},{"$f":"EmpDetail!C90","v":0},{"$f":"EmpDetail!D90","v":0},{"$f":"EmpDetail!E90","v":"00:00:00"}]
[null,null,null,null,null,null,null,null,null,null,null,null,88,{"$f":"EmpDetail!B91","v":0},{"$f":"EmpDetail!C91","v":0},{"$f":"EmpDetail!D91","v":0},{"$f":"EmpDetail!E91","v":"00:00:00"}]
[null,null,null,null,null,null,null,null,null,null,null,null,89,{"$f":"EmpDetail!B92","v":0},{"$f":"EmpDetail!C92","v":0},{"$f":"EmpDetail!D92","v":0},{"$f":"EmpDetail!E92","v":"00:00:00"}]
[null,null,null,null,null,null,null,null,null,null,null,null,90,{"$f":"EmpDetail!B93","v":0},{"$f":"EmpDetail!C93","v":0},{"$f":"EmpDetail!D93","v":0},{"$f":"EmpDetail!E93","v":"00:00:00"}]
[null,null,null,null,null,null,null,null,null,null,null,null,91,{"$f":"EmpDetail!B94","v":0},{"$f":"EmpDetail!C94","v":0},{"$f":"EmpDetail!D94","v":0},{"$f":"EmpDetail!E94","v":"00:00:00"}]
[null,null,null,null,null,null,null,null,null,null,null,null,92,{"$f":"EmpDetail!B95","v":0},{"$f":"EmpDetail!C95","v":0},{"$f":"EmpDetail!D95","v":0},{"$f":"EmpDetail!E95","v":"00:00:00"}]
[null,null,null,null,null,null,null,null,null,null,null,null,93,{"$f":"EmpDetail!B96","v":0},{"$f":"EmpDetail!C96","v":0},{"$f":"EmpDetail!D96","v":0},{"$f":"EmpDetail!E96","v":"00:00:00"}]
[null,null,null,null,null,null,null,null,null,null,null,null,94,{"$f":"EmpDetail!B97","v":0},{"$f":"EmpDetail!C97","v":0},{"$f":"EmpDetail!D97","v":0},{"$f":"EmpDetail!E97","v":"00:00:00"}]
[null,null,null,null,null,null,null,null,null,null,null,null,95,{"$f":"EmpDetail!B98","v":0},{"$f":"EmpDetail!C98","v":0},{"$f":"EmpDetail!D98","v":0},{"$f":"EmpDetail!E98","v":"00:00:00"}]
[null,null,null,null,null,null,null,null,null,null,null,null,96,{"$f":"EmpDetail!B99","v":0},{"$f":"EmpDetail!C99","v":0},{"$f":"EmpDetail!D99","v":0},{"$f":"EmpDetail!E99","v":"00:00:00"}]
[null,null,null,null,null,null,null,null,null,null,null,null,97,{"$f":"EmpDetail!B100","v":0},{"$f":"EmpDetail!C100","v":0},{"$f":"EmpDetail!D100","v":0},{"$f":"EmpDetail!E100","v":"00:00:00"}]
[null,null,null,null,null,null,null,null,null,null,null,null,98,{"$f":"EmpDetail!B101","v":0},{"$f":"EmpDetail!C101","v":0},{"$f":"EmpDetail!D101","v":0},{"$f":"EmpDetail!E101","v":"00:00:00"}]
[null,null,null,null,null,null,null,null,null,null,null,null,99,{"$f":"EmpDetail!B102","v":0},{"$f":"EmpDetail!C102","v":0},{"$f":"EmpDetail!D102","v":0},{"$f":"EmpDetail!E102","v":"00:00:00"}]
[null,null,null,null,null,null,null,null,null,null,null,null,100,{"$f":"EmpDetail!B103","v":0},{"$f":"EmpDetail!C103","v":0},{"$f":"EmpDetail!D103","v":0},{"$f":"EmpDetail!E103","v":"00:00:00"}]

{"sheet":"PL Demand","index":51,"n_rows":34,"n_cols":6,"rows_kept":34,"cut":false,"hidden":true,"merged":[[28,3,28,4],[30,4,30,5],[31,4,31,5],[32,0,33,0],[32,1,33,1],[32,4,32,5],[14,0,14,5],[0,0,0,5],[2,0,2,2],[3,0,3,2],[4,0,4,2],[5,0,5,2],[7,1,7,5],[8,0,8,5],[11,0,11,2],[11,3,11,5],[12,0,12,5],[13,0,13,5]]}
[{"$f":"Master!G2&Master!H2","v":"कार्यालय&राजकीय उच्च माध्यमिक विद्यालय ]चौगाई]टोंक"}]
["dzekad&",{"$f":"Master!H3&Master!I3&Master!J3&Master!E3&\"/\"","v":"राउमावि/चौगाई/संस्था/2021-22/"},null,null,"fnukad&",{"$f":"TODAY()","v":"2021-06-19"}]
["Jheku~ la;qDr funs'kd egksn;"]
["isa'ku o isa'kulZ osyQs;j foHkkx"]
["{ksf=; dk;kZy; ¼laHkkx eq[;ky;½"]
["      vtesj"]
[]
["fo\"k;&","lsokfuo`Rr dkfeZdksa ds fy, lsokfuo`fRr ij mikftZr vodk'k ds udnhdj.k fgrykHk ds fy, ctV en"]
["         2071&01&115&01&01 en esa jkf'k vkaoVu djus gsrw A"]
[]
["egksn;]"]
["mi;qDr fo\"k;kUrxZr fuosnu gS fd ",null,null,{"$f":"Master!H2","v":"राजकीय उच्च माध्यमिक विद्यालय ]चौगाई]टोंक"}]
["ds fuEu lsokfuo`Rr@e`r dkfeZd@dkfeZdksa ds vodk'k [kkrs es 'ks\"k mikftZr vodk'kksa dk  lsokfuo`fRr@lsok&"]
["lekfIr mijkUr udn Hkqxrku djus gsrw ctV en 2071&01&115&01&01 esa  vko';d jkf'k vkaofVr fd;s tkus "]
["dk Je djsa rkfd lacaf/kr dkfeZd dks vfoyac Hkqxrku fd;k tk lds A"]
[]
["dz0la0","dk;kZy; dh MhMhvks vkbZMh","dkfeZd ds PPO uacj","dkfeZd dk uke","dkfeZd dh Employee ID","okafNr jkf'k"]
[{"$f":"IF(B18=\"\",\"\",1)","v":1},27306,"13135567899099AA","Nhrj yky cSjok","RJTO198636028883",1355000]
[{"$f":"IF(B19=\"\",\"\",A18+1)","v":""}]
[{"$f":"IF(B20=\"\",\"\",A19+1)","v":""}]
[""]
[""]
[""]
[""]
[""]
[""]
[null,null,"TOTAL",null,null,{"$f":"SUM(F18:F26)","v":1355000}]
[]
["ekg vizsy","2020 ls","ekpZ& 2021 rd","mDr en esa vc rd [kpZ dh xbZ dqy jkf'k&",null,0]
[]
["fnukad&",{"$f":"F2","v":"2021-06-19"},null,null,{"$f":"Master!B2","v":"प्रधानाचार्य"}]
[null,null,null,null,{"$f":"Master!B3","v":"राजकीय उच्च माध्यमिक विद्यालय "}]
["dk;kZy;/;{k eks0ua0&",9829303549,null,null,{"$f":"Master!B4","v":"चौगाई]टोंक"}]
[null,null,null,null,"MhMhvks dksM&",{"$f":"B18","v":27306}]

{"sheet":"Loan Cert","index":52,"n_rows":104,"n_cols":18,"rows_kept":104,"cut":false,"hidden":true,"merged":[[4,9,4,11],[47,3,47,4],[0,0,0,4],[2,0,2,4],[4,0,4,1],[6,0,6,4],[14,0,14,2],[15,3,15,4],[16,3,16,4],[17,3,17,4],[18,0,18,4],[45,3,45,4],[46,3,46,4]]}
[{"$f":"Master!G2&Master!H2","v":"कार्यालय&राजकीय उच्च माध्यमिक विद्यालय ]चौगाई]टोंक"}]
["dzekad&",{"$f":"Master!H3&Master!I3&Master!J3&Master!E3&\"/\"","v":"राउमावि/चौगाई/संस्था/2021-22/"},null,"fnukad&",{"$f":"TODAY()","v":"2021-06-19"}]
["_.k izek.k i="]
[null,null,null,null,null,null,null,null,null,null,null,null,null,{"$f":"IF(ISNA(VLOOKUP($K6,$M$5:$R$104,2,FALSE)),\"\",VLOOKUP($K6,$M$5:$R$104,2,FALSE))","v":"d`\".kk xaxoky"},{"$f":"IF(ISNA(VLOOKUP($K6,$M$5:$R$104,3,FALSE)),\"\",VLOOKUP($K6,$M$5:$R$104,3,FALSE))","v":"अध्यापक ग्रेड III"},{"$f":"IF(ISNA(VLOOKUP($K6,$M$5:$R$104,4,FALSE)),\"\",VLOOKUP($K6,$M$5:$R$104,4,FALSE))","v":"राउप्रावि गोरधनपुरा"},{"$f":"IF(ISNA(VLOOKUP($K6,$M$5:$R$104,6,FALSE)),\"\",VLOOKUP($K6,$M$5:$R$104,6,FALSE))","v":"2055-06-30"}]
[";g izekf.kr fd;k tkrk gS fd va'knkrk Jh@Jhefr",null,{"$f":"N4","v":"d`\".kk xaxoky"},"iq=@iq=h@iRuh Jh","tXxk yky cSjok",null,null,null,null,"dkfeZd dk dzekad fy[ksa",null,null,1,{"$f":"EmpDetail!B4","v":"fd'ku yky cSjok"},{"$f":"EmpDetail!C4","v":"प्रधानाचार्य"},{"$f":"EmpDetail!D4","v":"राउमावि चौगाई"},{"$f":"EmpDetail!E4","v":"1962-01-10"},{"$f":"IF(Q5=\"\",\"\",DATE(YEAR(Q5-1)+60,(MONTH(Q5-1))+1,0))","v":"2022-01-31"}]
["[kkrk la[;k&",868676,"tks fnukad&",{"$f":"Q4","v":"2055-06-30"},"dks lsokfuo`Rr@e`R;q ",null,null,null,null,null,33,null,2,{"$f":"EmpDetail!B5","v":"iwj.k pUn y{kdkj"},{"$f":"EmpDetail!C5","v":"व्याख्याता"},{"$f":"EmpDetail!D5","v":"राउमावि चौगाई"},{"$f":"EmpDetail!E5","v":"1971-07-08"},{"$f":"IF(Q6=\"\",\"\",DATE(YEAR(Q6-1)+60,(MONTH(Q6-1))+1,0))","v":"2031-07-31"}]
["gks pqdh gS A bl dk;kZy; }kjk fuEukafdr LFkkbZ ,oa vLFkkbZ _.k jkf'k dk Hkqxrku fd;k x;k gS A",null,null,null,null,null,null,null,null,null,null,null,3,{"$f":"EmpDetail!B6","v":"jktsUnz dqekj tSu"},{"$f":"EmpDetail!C6","v":"व्याख्याता"},{"$f":"EmpDetail!D6","v":"राउमावि चौगाई"},{"$f":"EmpDetail!E6","v":"1968-09-14"},"2028-09-30"]
[null,null,null,null,null,null,null,null,null,null,null,null,4,{"$f":"EmpDetail!B7","v":"fd'ku yky cSjok"},{"$f":"EmpDetail!C7","v":"व्याख्याता"},{"$f":"EmpDetail!D7","v":"राउमावि चौगाई"},{"$f":"EmpDetail!E7","v":"1974-07-07"},"2034-07-31"]
["dz0la0","_.k dk izdkj","jkf'k","Hkqxrku izkfIr frfFk","fo0fo0",null,null,null,null,null,null,null,5,{"$f":"EmpDetail!B8","v":"lR;ukjk;.k 'kekZ"},{"$f":"EmpDetail!C8","v":"वरिष्ठ अध्यापक"},{"$f":"EmpDetail!D8","v":"राउमावि चौगाई"},{"$f":"EmpDetail!E8","v":"1962-07-01"},"2022-06-30"]
[{"$f":"IF(B10=\"\",\"\",1)","v":1},"LFkkbZ",300000,"2005-03-13",null,null,null,null,null,null,null,null,6,{"$f":"EmpDetail!B9","v":"iq\"ik tSu"},{"$f":"EmpDetail!C9","v":"वरिष्ठ अध्यापक"},{"$f":"EmpDetail!D9","v":"राउमावि चौगाई"},{"$f":"EmpDetail!E9","v":"1964-04-10"},"2024-04-30"]
[{"$f":"IF(B11=\"\",\"\",A10+1)","v":2},"vLFkkbZ",300000,"2005-03-13",null,null,null,null,null,null,null,null,7,{"$f":"EmpDetail!B10","v":"vk'kkjke eh.kk"},{"$f":"EmpDetail!C10","v":"वरिष्ठ अध्यापक"},{"$f":"EmpDetail!D10","v":"राउमावि चौगाई"},{"$f":"EmpDetail!E10","v":"1978-06-11"},"2038-06-30"]
[{"$f":"IF(B12=\"\",\"\",A11+1)","v":3},"vLFkkbZ",300000,"2005-03-13",null,null,null,null,null,null,null,null,8,{"$f":"EmpDetail!B11","v":"t;iky flag"},{"$f":"EmpDetail!C11","v":"वरिष्ठ अध्यापक"},{"$f":"EmpDetail!D11","v":"राउमावि चौगाई"},{"$f":"EmpDetail!E11","v":"1972-02-02"},"2032-02-29"]
[4,"vLFkkbZ",300000,"2005-03-13",null,null,null,null,null,null,null,null,9,{"$f":"EmpDetail!B12","v":"jkeizlkn jsxj"},{"$f":"EmpDetail!C12","v":"वरिष्ठ अध्यापक"},{"$f":"EmpDetail!D12","v":"राउमावि चौगाई"},{"$f":"EmpDetail!E12","v":"1978-06-01"},"2038-05-31"]
[null,null,null,null,null,null,null,null,null,null,null,null,10,{"$f":"EmpDetail!B13","v":"egsUnz dqekj tkV"},{"$f":"EmpDetail!C13","v":"शारीरिक शिक्षक"},{"$f":"EmpDetail!D13","v":"राउमावि चौगाई"},{"$f":"EmpDetail!E13","v":"1976-01-30"},"2036-01-31"]
["blds vykok va'knkrk dks fdlh Hkh izdkj dk _.k Lohd`r ugha fd;k x;k gS A",null,null,null,null,null,null,null,null,null,null,null,11,{"$f":"EmpDetail!B14","v":"NksVw yky jsxj"},{"$f":"EmpDetail!C14","v":"अध्यापक ग्रेड III"},{"$f":"EmpDetail!D14","v":"राउमावि चौगाई"},{"$f":"EmpDetail!E14","v":"1967-07-10"},"2027-07-31"]
[null,null,null,{"$f":"Master!B2","v":"प्रधानाचार्य"},null,null,null,null,null,null,null,null,12,{"$f":"EmpDetail!B15","v":"dUgS;k yky egkoj"},{"$f":"EmpDetail!C15","v":"अध्यापक ग्रेड III"},{"$f":"EmpDetail!D15","v":"राउमावि चौगाई"},{"$f":"EmpDetail!E15","v":"1962-04-05"},"2022-04-30"]
[null,null,null,{"$f":"Master!B3","v":"राजकीय उच्च माध्यमिक विद्यालय "},null,null,null,null,null,null,null,null,13,{"$f":"EmpDetail!B16","v":"prqHkqZt tkV"},{"$f":"EmpDetail!C16","v":"अध्यापक ग्रेड III"},{"$f":"EmpDetail!D16","v":"राउमावि चौगाई"},{"$f":"EmpDetail!E16","v":"1976-04-04"},"2036-04-30"]
[null,null,null,{"$f":"Master!B4","v":"चौगाई]टोंक"},null,null,null,null,null,null,null,null,14,{"$f":"EmpDetail!B17","v":"vklsQk [kku"},{"$f":"EmpDetail!C17","v":"अध्यापक ग्रेड III"},{"$f":"EmpDetail!D17","v":"राउमावि चौगाई"},{"$f":"EmpDetail!E17","v":"1971-01-10"},"2031-01-31"]
["dk;Zjr LFkku dk iw.kZ fooj.k nsosaA",null,null,null,null,null,null,null,null,null,null,null,15,{"$f":"EmpDetail!B18","v":"lq'khyk cSjok"},{"$f":"EmpDetail!C18","v":"कनिष्ठ सहायक"},{"$f":"EmpDetail!D18","v":"राउमावि चौगाई"},{"$f":"EmpDetail!E18","v":"1995-01-01"},"2054-12-31"]
["dz0la0","dk;kZy; dk uke","vof/k","ftyk","osru en",null,null,null,null,null,null,null,16,{"$f":"EmpDetail!B19","v":"txnh'k izlkn rsyh"},{"$f":"EmpDetail!C19","v":"सहायक कर्मचारी"},{"$f":"EmpDetail!D19","v":"राउमावि चौगाई"},{"$f":"EmpDetail!E19","v":"1962-06-04"},"2022-06-30"]
[{"$f":"IF(B21=\"\",\"\",1)","v":1},"jkmizkfo eksfguh Vksad","13-03-2000 ls 12-01-2005","Vksad","jkT; en",null,null,null,null,null,null,null,17,{"$f":"EmpDetail!B20","v":"jfoUnz dqekj tSu"},{"$f":"EmpDetail!C20","v":"अध्यापक ग्रेड III"},{"$f":"EmpDetail!D20","v":"राउप्रावि मोहिनी"},{"$f":"EmpDetail!E20","v":"1967-08-24"},"2027-08-31"]
[{"$f":"IF(B22=\"\",\"\",A21+1)","v":2},"jkmizkfo eksfguh Vksad","13-03-2000 ls 12-01-2005","Vksad","jkT; en",null,null,null,null,null,null,null,18,{"$f":"EmpDetail!B21","v":" ';ke lqUnj ckxkSM"},{"$f":"EmpDetail!C21","v":"अध्यापक ग्रेड III"},{"$f":"EmpDetail!D21","v":"राउप्रावि मोहिनी"},{"$f":"EmpDetail!E21","v":"1983-08-10"},"2043-08-31"]
[{"$f":"IF(B23=\"\",\"\",A22+1)","v":3},"jkmizkfo eksfguh Vksad","13-03-2000 ls 12-01-2005","Vksad","jkT; en",null,null,null,null,null,null,null,19,{"$f":"EmpDetail!B22","v":"d`\".kk 'kekZ"},{"$f":"EmpDetail!C22","v":"प्रबोधक"},{"$f":"EmpDetail!D22","v":"राउप्रावि मोहिनी"},{"$f":"EmpDetail!E22","v":"1972-08-06"},"2032-08-31"]
[4,"jkmizkfo eksfguh Vksad","13-03-2000 ls 12-01-2005","Vksad","jkT; en",null,null,null,null,null,null,null,20,{"$f":"EmpDetail!B23","v":"/keZsUnz pkS/kjh"},{"$f":"EmpDetail!C23","v":"अध्यापक ग्रेड III"},{"$f":"EmpDetail!D23","v":"राउप्रावि गोरधनपुरा"},{"$f":"EmpDetail!E23","v":"1990-03-05"},"2050-03-31"]
[5,"jkmizkfo eksfguh Vksad","13-03-2000 ls 12-01-2005","Vksad","jkT; en",null,null,null,null,null,null,null,21,{"$f":"EmpDetail!B24","v":"izgykn ekyh"},{"$f":"EmpDetail!C24","v":"प्रबोधक"},{"$f":"EmpDetail!D24","v":"राउप्रावि गोरधनपुरा"},{"$f":"EmpDetail!E24","v":"1974-08-07"},"2034-08-31"]
[6,"jkmizkfo eksfguh Vksad","13-03-2000 ls 12-01-2005","Vksad","jkT; en",null,null,null,null,null,null,null,22,{"$f":"EmpDetail!B25","v":"jken;ky xqtZj"},{"$f":"EmpDetail!C25","v":"प्रबोधक"},{"$f":"EmpDetail!D25","v":"राउप्रावि सोंदीफल"},{"$f":"EmpDetail!E25","v":"1977-08-18"},"2037-08-31"]
[7,"jkmizkfo eksfguh Vksad","13-03-2000 ls 12-01-2005","Vksad","jkT; en",null,null,null,null,null,null,null,23,{"$f":"EmpDetail!B26","v":"vkSeizdk'k tkV"},{"$f":"EmpDetail!C26","v":"अध्यापक ग्रेड III"},{"$f":"EmpDetail!D26","v":"राउप्रावि सोंदीफल"},{"$f":"EmpDetail!E26","v":"1982-10-31"},"2042-10-31"]
[8,"jkmizkfo eksfguh Vksad","13-03-2000 ls 12-01-2005","Vksad","jkT; en",null,null,null,null,null,null,null,24,{"$f":"EmpDetail!B27","v":"vthr flag"},{"$f":"EmpDetail!C27","v":"अध्यापक ग्रेड III"},{"$f":"EmpDetail!D27","v":"राप्रावि जानकीवल्लभपुरा"},{"$f":"EmpDetail!E27","v":"1987-08-08"},"2047-08-31"]
[9,"jkmizkfo eksfguh Vksad","13-03-2000 ls 12-01-2005","Vksad","jkT; en",null,null,null,null,null,null,null,25,{"$f":"EmpDetail!B28","v":"eq[rkj eha;k"},{"$f":"EmpDetail!C28","v":"प्रबोधक"},{"$f":"EmpDetail!D28","v":"राप्रावि जानकीवल्लभपुरा"},{"$f":"EmpDetail!E28","v":"1976-07-04"},"2036-07-31"]
[10,"jkmizkfo eksfguh Vksad","13-03-2000 ls 12-01-2005","Vksad","jkT; en",null,null,null,null,null,null,null,26,{"$f":"EmpDetail!B29","v":"eks0 tehy "},{"$f":"EmpDetail!C29","v":"प्रबोधक"},{"$f":"EmpDetail!D29","v":"राप्रावि रसूलपुरा"},{"$f":"EmpDetail!E29","v":"1968-09-15"},"2028-09-30"]
[11,"jkmizkfo eksfguh Vksad","13-03-2000 ls 12-01-2005","Vksad","jkT; en",null,null,null,null,null,null,null,27,{"$f":"EmpDetail!B30","v":"lkaojey tkV"},{"$f":"EmpDetail!C30","v":"अध्यापक ग्रेड III"},{"$f":"EmpDetail!D30","v":"राप्रावि रसूलपुरा"},{"$f":"EmpDetail!E30","v":"1992-03-03"},"2052-03-31"]
[12,"jkmizkfo eksfguh Vksad","13-03-2000 ls 12-01-2005","Vksad","jkT; en",null,null,null,null,null,null,null,28,{"$f":"EmpDetail!B31","v":"pkS/kjh eksuk jkekorkj"},{"$f":"EmpDetail!C31","v":"अध्यापक ग्रेड III"},{"$f":"EmpDetail!D31","v":"राप्रावि मोहिनी ढाणी बाढ"},{"$f":"EmpDetail!E31","v":"1990-01-05"},"2050-01-31"]
[13,"jkmizkfo eksfguh Vksad","13-03-2000 ls 12-01-2005","Vksad","jkT; en",null,null,null,null,null,null,null,29,{"$f":"EmpDetail!B32","v":"rkjkpUn tk;loky"},{"$f":"EmpDetail!C32","v":"प्रबोधक"},{"$f":"EmpDetail!D32","v":"राप्रावि मोहिनी ढाणी बाढ"},{"$f":"EmpDetail!E32","v":"1976-11-11"},"2036-11-30"]
[14,"jkmizkfo eksfguh Vksad","13-03-2000 ls 12-01-2005","Vksad","jkT; en",null,null,null,null,null,null,null,30,{"$f":"EmpDetail!B33","v":"jketl ;kno"},{"$f":"EmpDetail!C33","v":"अध्यापक ग्रेड III"},{"$f":"EmpDetail!D33","v":"राप्रावि बैरवा ढाणी सोन्दीफल"},{"$f":"EmpDetail!E33","v":"1970-06-12"},"2030-06-30"]
[15,"jkmizkfo eksfguh Vksad","13-03-2000 ls 12-01-2005","Vksad","jkT; en",null,null,null,null,null,null,null,31,{"$f":"EmpDetail!B34","v":"dtksMey eh.kk"},{"$f":"EmpDetail!C34","v":"अध्यापक ग्रेड III"},{"$f":"EmpDetail!D34","v":"राप्रावि बैरवा ढाणी सोन्दीफल"},{"$f":"EmpDetail!E34","v":"1990-07-01"},"2050-06-30"]
[16,"jkmizkfo eksfguh Vksad","13-03-2000 ls 12-01-2005","Vksad","jkT; en",null,null,null,null,null,null,null,32,{"$f":"EmpDetail!B35","v":"/kaut; xkSRre"},{"$f":"EmpDetail!C35","v":"अध्यापक ग्रेड III"},{"$f":"EmpDetail!D35","v":"राउप्रावि गोरधनपुरा"},{"$f":"EmpDetail!E35","v":"1986-08-25"},"2046-08-31"]
[17,"jkmizkfo eksfguh Vksad","13-03-2000 ls 12-01-2005","Vksad","jkT; en",null,null,null,null,null,null,null,33,{"$f":"EmpDetail!B36","v":"d`\".kk xaxoky"},{"$f":"EmpDetail!C36","v":"अध्यापक ग्रेड III"},{"$f":"EmpDetail!D36","v":"राउप्रावि गोरधनपुरा"},{"$f":"EmpDetail!E36","v":"1995-06-20"},"2055-06-30"]
[18,"jkmizkfo eksfguh Vksad","13-03-2000 ls 12-01-2005","Vksad","jkT; en",null,null,null,null,null,null,null,34,{"$f":"EmpDetail!B37","v":"n'kjFk dqekj ;kno"},{"$f":"EmpDetail!C37","v":"अध्यापक ग्रेड III"},{"$f":"EmpDetail!D37","v":"राउप्रावि सोंदीफल"},{"$f":"EmpDetail!E37","v":"1991-01-01"},"2050-12-31"]
[19,"jkmizkfo eksfguh Vksad","13-03-2000 ls 12-01-2005","Vksad","jkT; en",null,null,null,null,null,null,null,35,{"$f":"EmpDetail!B38","v":"d`\".k yky tkV"},{"$f":"EmpDetail!C38","v":"अध्यापक ग्रेड III"},{"$f":"EmpDetail!D38","v":"राउप्रावि सोंदीफल"},{"$f":"EmpDetail!E38","v":"1990-07-18"},"2050-07-31"]
[20,"jkmizkfo eksfguh Vksad","13-03-2000 ls 12-01-2005","Vksad","jkT; en",null,null,null,null,null,null,null,36,{"$f":"EmpDetail!B39","v":"nhisUnz dqekj iztkir"},{"$f":"EmpDetail!C39","v":"अध्यापक ग्रेड III"},{"$f":"EmpDetail!D39","v":"राउप्रावि सोंदीफल"},{"$f":"EmpDetail!E39","v":"1994-07-12"},"2054-07-31"]
[21,"jkmizkfo eksfguh Vksad","13-03-2000 ls 12-01-2005","Vksad","jkT; en",null,null,null,null,null,null,null,37,{"$f":"EmpDetail!B40","v":"uohu dqekj"},{"$f":"EmpDetail!C40","v":"अध्यापक ग्रेड III"},{"$f":"EmpDetail!D40","v":"राउप्रावि मोहिनी"},{"$f":"EmpDetail!E40","v":"1995-04-13"},"2055-04-30"]
[22,"jkmizkfo eksfguh Vksad","13-03-2000 ls 12-01-2005","Vksad","jkT; en",null,null,null,null,null,null,null,38,{"$f":"EmpDetail!B41","v":"ehrs'k dqekj 'kekZ"},{"$f":"EmpDetail!C41","v":"अध्यापक ग्रेड III"},{"$f":"EmpDetail!D41","v":"राउप्रावि मोहिनी"},{"$f":"EmpDetail!E41","v":"1989-08-13"},"2049-08-31"]
[23,"jkmizkfo eksfguh Vksad","13-03-2000 ls 12-01-2005","Vksad","jkT; en",null,null,null,null,null,null,null,39,{"$f":"EmpDetail!B42","v":"eUtw eh.kk"},{"$f":"EmpDetail!C42","v":"वरिष्ठ अध्यापक"},{"$f":"EmpDetail!D42","v":"राउप्रावि गोरधनपुरा"},{"$f":"EmpDetail!E42","v":"1991-01-06"},"2051-01-31"]
[24,"jkmizkfo eksfguh Vksad","13-03-2000 ls 12-01-2005","Vksad","jkT; en",null,null,null,null,null,null,null,40,{"$f":"EmpDetail!B43","v":"eatw pkS/kjh"},{"$f":"EmpDetail!C43","v":"वरिष्ठ अध्यापक"},{"$f":"EmpDetail!D43","v":"राउप्रावि सोंदीफल"},{"$f":"EmpDetail!E43","v":"1991-08-04"},"2051-08-31"]
[null,null,null,null,null,null,null,null,null,null,null,null,41,{"$f":"EmpDetail!B44","v":0},{"$f":"EmpDetail!C44","v":0},{"$f":"EmpDetail!D44","v":0},{"$f":"EmpDetail!E44","v":"00:00:00"},{"$error":"#NUM!"}]
[null,null,null,{"$f":"Master!B2","v":"प्रधानाचार्य"},null,null,null,null,null,null,null,null,42,{"$f":"EmpDetail!B45","v":0},{"$f":"EmpDetail!C45","v":0},{"$f":"EmpDetail!D45","v":0},{"$f":"EmpDetail!E45","v":"00:00:00"},{"$error":"#NUM!"}]
["fnukad&",{"$f":"E2","v":"2021-06-19"},null,{"$f":"Master!B3","v":"राजकीय उच्च माध्यमिक विद्यालय "},null,null,null,null,null,null,null,null,43,{"$f":"EmpDetail!B46","v":0},{"$f":"EmpDetail!C46","v":0},{"$f":"EmpDetail!D46","v":0},{"$f":"EmpDetail!E46","v":"00:00:00"},{"$error":"#NUM!"}]
[null,null,null,{"$f":"Master!B4","v":"चौगाई]टोंक"},null,null,null,null,null,null,null,null,44,{"$f":"EmpDetail!B47","v":0},{"$f":"EmpDetail!C47","v":0},{"$f":"EmpDetail!D47","v":0},{"$f":"EmpDetail!E47","v":"00:00:00"},{"$error":"#NUM!"}]
[null,null,null,null,null,null,null,null,null,null,null,null,45,{"$f":"EmpDetail!B48","v":0},{"$f":"EmpDetail!C48","v":0},{"$f":"EmpDetail!D48","v":0},{"$f":"EmpDetail!E48","v":"00:00:00"},{"$error":"#NUM!"}]
[null,null,null,null,null,null,null,null,null,null,null,null,46,{"$f":"EmpDetail!B49","v":0},{"$f":"EmpDetail!C49","v":0},{"$f":"EmpDetail!D49","v":0},{"$f":"EmpDetail!E49","v":"00:00:00"},{"$error":"#NUM!"}]
[null,null,null,null,null,null,null,null,null,null,null,null,47,{"$f":"EmpDetail!B50","v":0},{"$f":"EmpDetail!C50","v":0},{"$f":"EmpDetail!D50","v":0},{"$f":"EmpDetail!E50","v":"00:00:00"},{"$error":"#NUM!"}]
[null,null,null,null,null,null,null,null,null,null,null,null,48,{"$f":"EmpDetail!B51","v":0},{"$f":"EmpDetail!C51","v":0},{"$f":"EmpDetail!D51","v":0},{"$f":"EmpDetail!E51","v":"00:00:00"},{"$error":"#NUM!"}]
[null,null,null,null,null,null,null,null,null,null,null,null,49,{"$f":"EmpDetail!B52","v":0},{"$f":"EmpDetail!C52","v":0},{"$f":"EmpDetail!D52","v":0},{"$f":"EmpDetail!E52","v":"00:00:00"},{"$error":"#NUM!"}]
[null,null,null,null,null,null,null,null,null,null,null,null,50,{"$f":"EmpDetail!B53","v":0},{"$f":"EmpDetail!C53","v":0},{"$f":"EmpDetail!D53","v":0},{"$f":"EmpDetail!E53","v":"00:00:00"},{"$error":"#NUM!"}]
[null,null,null,null,null,null,null,null,null,null,null,null,51,{"$f":"EmpDetail!B54","v":0},{"$f":"EmpDetail!C54","v":0},{"$f":"EmpDetail!D54","v":0},{"$f":"EmpDetail!E54","v":"00:00:00"},{"$error":"#NUM!"}]
[null,null,null,null,null,null,null,null,null,null,null,null,52,{"$f":"EmpDetail!B55","v":0},{"$f":"EmpDetail!C55","v":0},{"$f":"EmpDetail!D55","v":0},{"$f":"EmpDetail!E55","v":"00:00:00"},{"$error":"#NUM!"}]
[null,null,null,null,null,null,null,null,null,null,null,null,53,{"$f":"EmpDetail!B56","v":0},{"$f":"EmpDetail!C56","v":0},{"$f":"EmpDetail!D56","v":0},{"$f":"EmpDetail!E56","v":"00:00:00"},{"$error":"#NUM!"}]
[null,null,null,null,null,null,null,null,null,null,null,null,54,{"$f":"EmpDetail!B57","v":0},{"$f":"EmpDetail!C57","v":0},{"$f":"EmpDetail!D57","v":0},{"$f":"EmpDetail!E57","v":"00:00:00"},{"$error":"#NUM!"}]
[null,null,null,null,null,null,null,null,null,null,null,null,55,{"$f":"EmpDetail!B58","v":0},{"$f":"EmpDetail!C58","v":0},{"$f":"EmpDetail!D58","v":0},{"$f":"EmpDetail!E58","v":"00:00:00"},{"$error":"#NUM!"}]
[null,null,null,null,null,null,null,null,null,null,null,null,56,{"$f":"EmpDetail!B59","v":0},{"$f":"EmpDetail!C59","v":0},{"$f":"EmpDetail!D59","v":0},{"$f":"EmpDetail!E59","v":"00:00:00"},{"$error":"#NUM!"}]
[null,null,null,null,null,null,null,null,null,null,null,null,57,{"$f":"EmpDetail!B60","v":0},{"$f":"EmpDetail!C60","v":0},{"$f":"EmpDetail!D60","v":0},{"$f":"EmpDetail!E60","v":"00:00:00"},{"$error":"#NUM!"}]
[null,null,null,null,null,null,null,null,null,null,null,null,58,{"$f":"EmpDetail!B61","v":0},{"$f":"EmpDetail!C61","v":0},{"$f":"EmpDetail!D61","v":0},{"$f":"EmpDetail!E61","v":"00:00:00"},{"$error":"#NUM!"}]
[null,null,null,null,null,null,null,null,null,null,null,null,59,{"$f":"EmpDetail!B62","v":0},{"$f":"EmpDetail!C62","v":0},{"$f":"EmpDetail!D62","v":0},{"$f":"EmpDetail!E62","v":"00:00:00"},{"$error":"#NUM!"}]
[null,null,null,null,null,null,null,null,null,null,null,null,60,{"$f":"EmpDetail!B63","v":0},{"$f":"EmpDetail!C63","v":0},{"$f":"EmpDetail!D63","v":0},{"$f":"EmpDetail!E63","v":"00:00:00"},{"$error":"#NUM!"}]
[null,null,null,null,null,null,null,null,null,null,null,null,61,{"$f":"EmpDetail!B64","v":0},{"$f":"EmpDetail!C64","v":0},{"$f":"EmpDetail!D64","v":0},{"$f":"EmpDetail!E64","v":"00:00:00"},{"$error":"#NUM!"}]
[null,null,null,null,null,null,null,null,null,null,null,null,62,{"$f":"EmpDetail!B65","v":0},{"$f":"EmpDetail!C65","v":0},{"$f":"EmpDetail!D65","v":0},{"$f":"EmpDetail!E65","v":"00:00:00"},{"$error":"#NUM!"}]
[null,null,null,null,null,null,null,null,null,null,null,null,63,{"$f":"EmpDetail!B66","v":0},{"$f":"EmpDetail!C66","v":0},{"$f":"EmpDetail!D66","v":0},{"$f":"EmpDetail!E66","v":"00:00:00"},{"$error":"#NUM!"}]
[null,null,null,null,null,null,null,null,null,null,null,null,64,{"$f":"EmpDetail!B67","v":0},{"$f":"EmpDetail!C67","v":0},{"$f":"EmpDetail!D67","v":0},{"$f":"EmpDetail!E67","v":"00:00:00"},{"$error":"#NUM!"}]
[null,null,null,null,null,null,null,null,null,null,null,null,65,{"$f":"EmpDetail!B68","v":0},{"$f":"EmpDetail!C68","v":0},{"$f":"EmpDetail!D68","v":0},{"$f":"EmpDetail!E68","v":"00:00:00"},{"$error":"#NUM!"}]
[null,null,null,null,null,null,null,null,null,null,null,null,66,{"$f":"EmpDetail!B69","v":0},{"$f":"EmpDetail!C69","v":0},{"$f":"EmpDetail!D69","v":0},{"$f":"EmpDetail!E69","v":"00:00:00"},{"$f":"IF(Q70=\"\",\"\",DATE(YEAR(Q70-1)+60,(MONTH(Q70-1))+1,0))","v":{"$error":"#NUM!"}}]
[null,null,null,null,null,null,null,null,null,null,null,null,67,{"$f":"EmpDetail!B70","v":0},{"$f":"EmpDetail!C70","v":0},{"$f":"EmpDetail!D70","v":0},{"$f":"EmpDetail!E70","v":"00:00:00"},{"$error":"#NUM!"}]
[null,null,null,null,null,null,null,null,null,null,null,null,68,{"$f":"EmpDetail!B71","v":0},{"$f":"EmpDetail!C71","v":0},{"$f":"EmpDetail!D71","v":0},{"$f":"EmpDetail!E71","v":"00:00:00"},{"$error":"#NUM!"}]
[null,null,null,null,null,null,null,null,null,null,null,null,69,{"$f":"EmpDetail!B72","v":0},{"$f":"EmpDetail!C72","v":0},{"$f":"EmpDetail!D72","v":0},{"$f":"EmpDetail!E72","v":"00:00:00"},{"$error":"#NUM!"}]
[null,null,null,null,null,null,null,null,null,null,null,null,70,{"$f":"EmpDetail!B73","v":0},{"$f":"EmpDetail!C73","v":0},{"$f":"EmpDetail!D73","v":0},{"$f":"EmpDetail!E73","v":"00:00:00"},{"$error":"#NUM!"}]
[null,null,null,null,null,null,null,null,null,null,null,null,71,{"$f":"EmpDetail!B74","v":0},{"$f":"EmpDetail!C74","v":0},{"$f":"EmpDetail!D74","v":0},{"$f":"EmpDetail!E74","v":"00:00:00"},{"$error":"#NUM!"}]
[null,null,null,null,null,null,null,null,null,null,null,null,72,{"$f":"EmpDetail!B75","v":0},{"$f":"EmpDetail!C75","v":0},{"$f":"EmpDetail!D75","v":0},{"$f":"EmpDetail!E75","v":"00:00:00"},{"$error":"#NUM!"}]
[null,null,null,null,null,null,null,null,null,null,null,null,73,{"$f":"EmpDetail!B76","v":0},{"$f":"EmpDetail!C76","v":0},{"$f":"EmpDetail!D76","v":0},{"$f":"EmpDetail!E76","v":"00:00:00"},{"$error":"#NUM!"}]
[null,null,null,null,null,null,null,null,null,null,null,null,74,{"$f":"EmpDetail!B77","v":0},{"$f":"EmpDetail!C77","v":0},{"$f":"EmpDetail!D77","v":0},{"$f":"EmpDetail!E77","v":"00:00:00"},{"$error":"#NUM!"}]
[null,null,null,null,null,null,null,null,null,null,null,null,75,{"$f":"EmpDetail!B78","v":0},{"$f":"EmpDetail!C78","v":0},{"$f":"EmpDetail!D78","v":0},{"$f":"EmpDetail!E78","v":"00:00:00"},{"$error":"#NUM!"}]
[null,null,null,null,null,null,null,null,null,null,null,null,76,{"$f":"EmpDetail!B79","v":0},{"$f":"EmpDetail!C79","v":0},{"$f":"EmpDetail!D79","v":0},{"$f":"EmpDetail!E79","v":"00:00:00"},{"$error":"#NUM!"}]
[null,null,null,null,null,null,null,null,null,null,null,null,77,{"$f":"EmpDetail!B80","v":0},{"$f":"EmpDetail!C80","v":0},{"$f":"EmpDetail!D80","v":0},{"$f":"EmpDetail!E80","v":"00:00:00"},{"$error":"#NUM!"}]
[null,null,null,null,null,null,null,null,null,null,null,null,78,{"$f":"EmpDetail!B81","v":0},{"$f":"EmpDetail!C81","v":0},{"$f":"EmpDetail!D81","v":0},{"$f":"EmpDetail!E81","v":"00:00:00"},{"$error":"#NUM!"}]
[null,null,null,null,null,null,null,null,null,null,null,null,79,{"$f":"EmpDetail!B82","v":0},{"$f":"EmpDetail!C82","v":0},{"$f":"EmpDetail!D82","v":0},{"$f":"EmpDetail!E82","v":"00:00:00"},{"$error":"#NUM!"}]
[null,null,null,null,null,null,null,null,null,null,null,null,80,{"$f":"EmpDetail!B83","v":0},{"$f":"EmpDetail!C83","v":0},{"$f":"EmpDetail!D83","v":0},{"$f":"EmpDetail!E83","v":"00:00:00"},{"$error":"#NUM!"}]
[null,null,null,null,null,null,null,null,null,null,null,null,81,{"$f":"EmpDetail!B84","v":0},{"$f":"EmpDetail!C84","v":0},{"$f":"EmpDetail!D84","v":0},{"$f":"EmpDetail!E84","v":"00:00:00"},{"$error":"#NUM!"}]
[null,null,null,null,null,null,null,null,null,null,null,null,82,{"$f":"EmpDetail!B85","v":0},{"$f":"EmpDetail!C85","v":0},{"$f":"EmpDetail!D85","v":0},{"$f":"EmpDetail!E85","v":"00:00:00"},{"$error":"#NUM!"}]
[null,null,null,null,null,null,null,null,null,null,null,null,83,{"$f":"EmpDetail!B86","v":0},{"$f":"EmpDetail!C86","v":0},{"$f":"EmpDetail!D86","v":0},{"$f":"EmpDetail!E86","v":"00:00:00"},{"$error":"#NUM!"}]
[null,null,null,null,null,null,null,null,null,null,null,null,84,{"$f":"EmpDetail!B87","v":0},{"$f":"EmpDetail!C87","v":0},{"$f":"EmpDetail!D87","v":0},{"$f":"EmpDetail!E87","v":"00:00:00"},{"$error":"#NUM!"}]
[null,null,null,null,null,null,null,null,null,null,null,null,85,{"$f":"EmpDetail!B88","v":0},{"$f":"EmpDetail!C88","v":0},{"$f":"EmpDetail!D88","v":0},{"$f":"EmpDetail!E88","v":"00:00:00"},{"$error":"#NUM!"}]
[null,null,null,null,null,null,null,null,null,null,null,null,86,{"$f":"EmpDetail!B89","v":0},{"$f":"EmpDetail!C89","v":0},{"$f":"EmpDetail!D89","v":0},{"$f":"EmpDetail!E89","v":"00:00:00"},{"$error":"#NUM!"}]
[null,null,null,null,null,null,null,null,null,null,null,null,87,{"$f":"EmpDetail!B90","v":0},{"$f":"EmpDetail!C90","v":0},{"$f":"EmpDetail!D90","v":0},{"$f":"EmpDetail!E90","v":"00:00:00"},{"$error":"#NUM!"}]
[null,null,null,null,null,null,null,null,null,null,null,null,88,{"$f":"EmpDetail!B91","v":0},{"$f":"EmpDetail!C91","v":0},{"$f":"EmpDetail!D91","v":0},{"$f":"EmpDetail!E91","v":"00:00:00"},{"$error":"#NUM!"}]
[null,null,null,null,null,null,null,null,null,null,null,null,89,{"$f":"EmpDetail!B92","v":0},{"$f":"EmpDetail!C92","v":0},{"$f":"EmpDetail!D92","v":0},{"$f":"EmpDetail!E92","v":"00:00:00"},{"$error":"#NUM!"}]
[null,null,null,null,null,null,null,null,null,null,null,null,90,{"$f":"EmpDetail!B93","v":0},{"$f":"EmpDetail!C93","v":0},{"$f":"EmpDetail!D93","v":0},{"$f":"EmpDetail!E93","v":"00:00:00"},{"$error":"#NUM!"}]
[null,null,null,null,null,null,null,null,null,null,null,null,91,{"$f":"EmpDetail!B94","v":0},{"$f":"EmpDetail!C94","v":0},{"$f":"EmpDetail!D94","v":0},{"$f":"EmpDetail!E94","v":"00:00:00"},{"$error":"#NUM!"}]
[null,null,null,null,null,null,null,null,null,null,null,null,92,{"$f":"EmpDetail!B95","v":0},{"$f":"EmpDetail!C95","v":0},{"$f":"EmpDetail!D95","v":0},{"$f":"EmpDetail!E95","v":"00:00:00"},{"$error":"#NUM!"}]
[null,null,null,null,null,null,null,null,null,null,null,null,93,{"$f":"EmpDetail!B96","v":0},{"$f":"EmpDetail!C96","v":0},{"$f":"EmpDetail!D96","v":0},{"$f":"EmpDetail!E96","v":"00:00:00"},{"$error":"#NUM!"}]
[null,null,null,null,null,null,null,null,null,null,null,null,94,{"$f":"EmpDetail!B97","v":0},{"$f":"EmpDetail!C97","v":0},{"$f":"EmpDetail!D97","v":0},{"$f":"EmpDetail!E97","v":"00:00:00"},{"$error":"#NUM!"}]
[null,null,null,null,null,null,null,null,null,null,null,null,95,{"$f":"EmpDetail!B98","v":0},{"$f":"EmpDetail!C98","v":0},{"$f":"EmpDetail!D98","v":0},{"$f":"EmpDetail!E98","v":"00:00:00"},{"$error":"#NUM!"}]
[null,null,null,null,null,null,null,null,null,null,null,null,96,{"$f":"EmpDetail!B99","v":0},{"$f":"EmpDetail!C99","v":0},{"$f":"EmpDetail!D99","v":0},{"$f":"EmpDetail!E99","v":"00:00:00"},{"$error":"#NUM!"}]
[null,null,null,null,null,null,null,null,null,null,null,null,97,{"$f":"EmpDetail!B100","v":0},{"$f":"EmpDetail!C100","v":0},{"$f":"EmpDetail!D100","v":0},{"$f":"EmpDetail!E100","v":"00:00:00"},{"$error":"#NUM!"}]
[null,null,null,null,null,null,null,null,null,null,null,null,98,{"$f":"EmpDetail!B101","v":0},{"$f":"EmpDetail!C101","v":0},{"$f":"EmpDetail!D101","v":0},{"$f":"EmpDetail!E101","v":"00:00:00"},{"$error":"#NUM!"}]
[null,null,null,null,null,null,null,null,null,null,null,null,99,{"$f":"EmpDetail!B102","v":0},{"$f":"EmpDetail!C102","v":0},{"$f":"EmpDetail!D102","v":0},{"$f":"EmpDetail!E102","v":"00:00:00"},{"$error":"#NUM!"}]
[null,null,null,null,null,null,null,null,null,null,null,null,100,{"$f":"EmpDetail!B103","v":0},{"$f":"EmpDetail!C103","v":0},{"$f":"EmpDetail!D103","v":0},{"$f":"EmpDetail!E103","v":"00:00:00"},{"$error":"#NUM!"}]

{"sheet":"GA 55A","index":53,"n_rows":104,"n_cols":46,"rows_kept":104,"cut":false,"hidden":true,"merged":[[4,36,5,38],[1,22,1,31],[26,4,26,16],[26,33,26,35],[27,4,27,16],[27,33,27,35],[6,34,6,35],[4,0,4,7],[4,8,4,33],[4,34,4,35],[5,0,5,7],[5,8,5,33],[5,34,5,35],[6,0,6,7],[6,8,6,17],[6,18,6,20],[28,4,28,8],[25,33,25,35],[23,0,23,1],[23,2,23,6],[23,8,23,10],[23,34,23,35],[24,1,24,6],[24,7,24,8],[24,9,24,10],[24,33,24,35],[25,0,25,3],[25,4,25,5],[25,6,25,7],[25,8,25,10],[25,11,25,14],[6,21,6,25],[6,26,6,32],[2,25,2,26],[2,27,2,29],[2,32,2,35],[3,7,3,11],[3,32,3,33],[3,34,3,35],[2,6,2,11],[2,12,2,16],[2,17,2,18],[2,19,2,22],[2,23,2,24],[0,0,0,35],[1,0,1,4],[1,6,1,15],[1,16,1,20],[1,32,1,35]]}
["jktLFkku ljdkj"]
["jkT; chek ,oa izko/kk;h fu/kh foHkkx",null,null,null,null,null,"jkT; deZpkfj;ksa ds osru ls dh xbZ dVkSfr;ksa dk izek.k i=",null,null,null,null,null,null,null,null,null,"f'k{kk foHkkx",null,null,null,null,"foHkkx",{"$f":"Master!G2&Master!H2","v":"कार्यालय&राजकीय उच्च माध्यमिक विद्यालय ]चौगाई]टोंक"},null,null,null,null,null,null,null,null,null,"¼ldqZyj ua- 40@80 th-,- 55, nsf[k, ½"]
[null,null,null,null,null,null,";g izekf.kr fd;k tkrk gS fd Jh@Jhefr",null,null,null,null,null,{"$f":"AO4","v":"d`\".kk xaxoky"},null,null,null,null,"in&",null,{"$f":"AP4","v":"अध्यापक ग्रेड III"},null,null,null,"ds o\"kZ&",null,{"$f":"Master!E3","v":"2021-22"},null,"ds osru ls dh xbZ",null,null,null,null,"fu;e 81 , ,oa ¼lk- foRr ,oa ys[kk fu;e½"]
[null,null,null,null,null,null,null,"dVkSfr;ksa dk fooj.k fuEukuqlkj gS A",null,null,null,null,null,null,null,null,null,null,null,null,null,null,null,null,null,null,null,null,null,null,null,null,"chek izek.k i= la0&",null,868676,null,null,null,null,null,{"$f":"IF(ISNA(VLOOKUP($AL7,$AN$5:$AT$104,2,FALSE)),\"\",VLOOKUP($AL7,$AN$5:$AT$104,2,FALSE))","v":"d`\".kk xaxoky"},{"$f":"IF(ISNA(VLOOKUP($AL7,$AN$5:$AT$104,3,FALSE)),\"\",VLOOKUP($AL7,$AN$5:$AT$104,3,FALSE))","v":"अध्यापक ग्रेड III"},{"$f":"IF(ISNA(VLOOKUP($AL7,$AN$5:$AT$104,4,FALSE)),\"\",VLOOKUP($AL7,$AN$5:$AT$104,4,FALSE))","v":"राउप्रावि गोरधनपुरा"},{"$f":"IF(ISNA(VLOOKUP($AL7,$AN$5:$AT$104,5,FALSE)),\"\",VLOOKUP($AL7,$AN$5:$AT$104,5,FALSE))","v":"1995-06-20"},{"$f":"IF(ISNA(VLOOKUP($AL7,$AN$5:$AT$104,6,FALSE)),\"\",VLOOKUP($AL7,$AN$5:$AT$104,6,FALSE))","v":"2018-12-21"},{"$f":"IF(ISNA(VLOOKUP($AL7,$AN$5:$AT$104,7,FALSE)),\"\",VLOOKUP($AL7,$AN$5:$AT$104,7,FALSE))","v":"2055-06-30"}]
[null,null,null,null,null,null,null,null,"dVkSfr;ka",null,null,null,null,null,null,null,null,null,null,null,null,null,null,null,null,null,null,null,null,null,null,null,null,null,null,null,"dkfeZd dk dzekad fy[ksa",null,null,1,{"$f":"EmpDetail!B4","v":"fd'ku yky cSjok"},{"$f":"EmpDetail!C4","v":"प्रधानाचार्य"},{"$f":"EmpDetail!D4","v":"राउमावि चौगाई"},{"$f":"EmpDetail!E4","v":"1962-01-10"},{"$f":"EmpDetail!F4","v":"00:00:00"},{"$f":"IF(AR5=\"\",\"\",DATE(YEAR(AR5-1)+60,(MONTH(AR5-1))+1,0))","v":"2022-01-31"}]
["osru ,oa HkRrs",null,null,null,null,null,null,null,"jkT; chek ,oa lkekU; izko/kk;h fuf/k",null,null,null,null,null,null,null,null,null,null,null,null,null,null,null,null,null,null,null,null,null,null,null,null,null,null,null,null,null,null,2,{"$f":"EmpDetail!B5","v":"iwj.k pUn y{kdkj"},{"$f":"EmpDetail!C5","v":"व्याख्याता"},{"$f":"EmpDetail!D5","v":"राउमावि चौगाई"},{"$f":"EmpDetail!E5","v":"1971-07-08"},{"$f":"EmpDetail!F5","v":"00:00:00"},{"$f":"IF(AR6=\"\",\"\",DATE(YEAR(AR6-1)+60,(MONTH(AR6-1))+1,0))","v":"2031-07-31"}]
[null,null,null,null,null,null,null,null,"jkT; chek",null,null,null,null,null,null,null,null,null,"vU;",null,null,"lkekU; izko/kk;h fuf/k",null,null,null,null,"vU;",null,null,null,null,null,null,null,null,null,null,33,null,3,{"$f":"EmpDetail!B6","v":"jktsUnz dqekj tSu"},{"$f":"EmpDetail!C6","v":"व्याख्याता"},{"$f":"EmpDetail!D6","v":"राउमावि चौगाई"},{"$f":"EmpDetail!E6","v":"1968-09-14"},{"$f":"EmpDetail!F6","v":"00:00:00"},"2028-09-30"]
["osru","eagxkbZ HkRrk","uxj HkRrk","edku fdjk;k","vU;","vU;",";ksx","ekg","izhfe;e","_.k","C;kt","vkthou chek","va'knku","_.k","C;kt","va'knku","_.k","C;kt","jktdh; vkokl","QuhZpj","xkMZu","vfuok;Z tek","_.k","C;kt","_.k","C;kt","R;kSagkj vxzhe","gtkMZ","vkjih,e,Q","vk;dj","vU;","vU;","vU;",";ksx dVkSfr;ka"," 'kq} Hkqxrku","fcy ua0 o fnukad",null,null,null,4,{"$f":"EmpDetail!B7","v":"fd'ku yky cSjok"},{"$f":"EmpDetail!C7","v":"व्याख्याता"},{"$f":"EmpDetail!D7","v":"राउमावि चौगाई"},{"$f":"EmpDetail!E7","v":"1974-07-07"},{"$f":"EmpDetail!F7","v":"00:00:00"},"2034-07-31"]
[1,2,3,4,5,6,7,8,9,10,11,12,13,14,15,16,17,18,19,20,21,22,23,24,25,26,27,28,29,30,31,32,33,34,35,36,null,null,null,5,{"$f":"EmpDetail!B8","v":"lR;ukjk;.k 'kekZ"},{"$f":"EmpDetail!C8","v":"वरिष्ठ अध्यापक"},{"$f":"EmpDetail!D8","v":"राउमावि चौगाई"},{"$f":"EmpDetail!E8","v":"1962-07-01"},{"$f":"EmpDetail!F8","v":"00:00:00"},"2022-06-30"]
[71300,12300,0,5700,null,null,{"$f":"SUM(A10:F10)","v":89300},"ekpZ",2650,null,null,null,null,null,null,null,null,null,null,null,null,4200,null,null,null,null,null,null,875,8000,null,null,null,{"$f":"SUM(I10:AG10)","v":15725},{"$f":"G10-AH10","v":73575},null,null,null,null,6,{"$f":"EmpDetail!B9","v":"iq\"ik tSu"},{"$f":"EmpDetail!C9","v":"वरिष्ठ अध्यापक"},{"$f":"EmpDetail!D9","v":"राउमावि चौगाई"},{"$f":"EmpDetail!E9","v":"1964-04-10"},{"$f":"EmpDetail!F9","v":"00:00:00"},"2024-04-30"]
[71300,12300,0,5700,null,null,{"$f":"SUM(A11:F11)","v":89300},"vizsy",2650,null,null,null,null,null,null,null,null,null,null,null,null,4200,null,null,null,null,null,null,875,8000,null,null,null,{"$f":"SUM(I11:AG11)","v":15725},{"$f":"G11-AH11","v":73575},null,null,null,null,7,{"$f":"EmpDetail!B10","v":"vk'kkjke eh.kk"},{"$f":"EmpDetail!C10","v":"वरिष्ठ अध्यापक"},{"$f":"EmpDetail!D10","v":"राउमावि चौगाई"},{"$f":"EmpDetail!E10","v":"1978-06-11"},{"$f":"EmpDetail!F10","v":"00:00:00"},"2038-06-30"]
[71300,12300,0,5700,null,null,89300,"ebZ",2650,null,null,null,null,null,null,null,null,null,null,null,null,4200,null,null,null,null,null,null,875,8000,null,null,null,15725,73575,null,null,null,null,8,{"$f":"EmpDetail!B11","v":"t;iky flag"},{"$f":"EmpDetail!C11","v":"वरिष्ठ अध्यापक"},{"$f":"EmpDetail!D11","v":"राउमावि चौगाई"},{"$f":"EmpDetail!E11","v":"1972-02-02"},{"$f":"EmpDetail!F11","v":"00:00:00"},"2032-02-29"]
[71300,12300,0,5700,null,null,89300,"twu",2650,null,null,null,null,null,null,null,null,null,null,null,null,4200,null,null,null,null,null,null,875,8000,null,null,null,15725,73575,null,null,null,null,9,{"$f":"EmpDetail!B12","v":"jkeizlkn jsxj"},{"$f":"EmpDetail!C12","v":"वरिष्ठ अध्यापक"},{"$f":"EmpDetail!D12","v":"राउमावि चौगाई"},{"$f":"EmpDetail!E12","v":"1978-06-01"},{"$f":"EmpDetail!F12","v":"00:00:00"},"2038-05-31"]
[71300,12300,0,5700,null,null,89300,"tqykbZ",2650,null,null,null,null,null,null,null,null,null,null,null,null,4200,null,null,null,null,null,null,875,8000,null,null,null,15725,73575,null,null,null,null,10,{"$f":"EmpDetail!B13","v":"egsUnz dqekj tkV"},{"$f":"EmpDetail!C13","v":"शारीरिक शिक्षक"},{"$f":"EmpDetail!D13","v":"राउमावि चौगाई"},{"$f":"EmpDetail!E13","v":"1976-01-30"},{"$f":"EmpDetail!F13","v":"00:00:00"},"2036-01-31"]
[71300,12300,0,5700,null,null,89300,"vxLr",2650,null,null,null,null,null,null,null,null,null,null,null,null,4200,null,null,null,null,null,null,875,8000,null,null,null,15725,73575,null,null,null,null,11,{"$f":"EmpDetail!B14","v":"NksVw yky jsxj"},{"$f":"EmpDetail!C14","v":"अध्यापक ग्रेड III"},{"$f":"EmpDetail!D14","v":"राउमावि चौगाई"},{"$f":"EmpDetail!E14","v":"1967-07-10"},{"$f":"EmpDetail!F14","v":"00:00:00"},"2027-07-31"]
[71300,12300,0,5700,null,null,89300,"flrEcj",2650,null,null,null,null,null,null,null,null,null,null,null,null,4200,null,null,null,null,null,null,875,8000,null,null,null,15725,73575,null,null,null,null,12,{"$f":"EmpDetail!B15","v":"dUgS;k yky egkoj"},{"$f":"EmpDetail!C15","v":"अध्यापक ग्रेड III"},{"$f":"EmpDetail!D15","v":"राउमावि चौगाई"},{"$f":"EmpDetail!E15","v":"1962-04-05"},{"$f":"EmpDetail!F15","v":"00:00:00"},"2022-04-30"]
[71300,12300,0,5700,null,null,89300,"vDVwcj",2650,null,null,null,null,null,null,null,null,null,null,null,null,4200,null,null,null,null,null,null,875,8000,null,null,null,15725,73575,null,null,null,null,13,{"$f":"EmpDetail!B16","v":"prqHkqZt tkV"},{"$f":"EmpDetail!C16","v":"अध्यापक ग्रेड III"},{"$f":"EmpDetail!D16","v":"राउमावि चौगाई"},{"$f":"EmpDetail!E16","v":"1976-04-04"},{"$f":"EmpDetail!F16","v":"2005-04-13"},"2036-04-30"]
[71300,12300,0,5700,null,null,89300,"uoacj",2650,null,null,null,null,null,null,null,null,null,null,null,null,4200,null,null,null,null,null,null,875,8000,null,null,null,15725,73575,null,null,null,null,14,{"$f":"EmpDetail!B17","v":"vklsQk [kku"},{"$f":"EmpDetail!C17","v":"अध्यापक ग्रेड III"},{"$f":"EmpDetail!D17","v":"राउमावि चौगाई"},{"$f":"EmpDetail!E17","v":"1971-01-10"},{"$f":"EmpDetail!F17","v":"00:00:00"},"2031-01-31"]
[71300,12300,0,5700,null,null,89300,"fnlacj",2650,null,null,null,null,null,null,null,null,null,null,null,null,4200,null,null,null,null,null,null,875,8000,null,null,null,15725,73575,null,null,null,null,15,{"$f":"EmpDetail!B18","v":"lq'khyk cSjok"},{"$f":"EmpDetail!C18","v":"कनिष्ठ सहायक"},{"$f":"EmpDetail!D18","v":"राउमावि चौगाई"},{"$f":"EmpDetail!E18","v":"1995-01-01"},{"$f":"EmpDetail!F18","v":"00:00:00"},"2054-12-31"]
[71300,12300,0,5700,null,null,89300,"tuojh",2650,null,null,null,null,null,null,null,null,null,null,null,null,4200,null,null,null,null,null,null,875,8000,null,null,null,15725,73575,null,null,null,null,16,{"$f":"EmpDetail!B19","v":"txnh'k izlkn rsyh"},{"$f":"EmpDetail!C19","v":"सहायक कर्मचारी"},{"$f":"EmpDetail!D19","v":"राउमावि चौगाई"},{"$f":"EmpDetail!E19","v":"1962-06-04"},{"$f":"EmpDetail!F19","v":"00:00:00"},"2022-06-30"]
[71300,12300,0,5700,null,null,89300,"Qjojh",2650,null,null,null,null,null,null,null,null,null,null,null,null,4200,null,null,null,null,null,null,875,8000,null,null,null,15725,73575,null,null,null,null,17,{"$f":"EmpDetail!B20","v":"jfoUnz dqekj tSu"},{"$f":"EmpDetail!C20","v":"अध्यापक ग्रेड III"},{"$f":"EmpDetail!D20","v":"राउप्रावि मोहिनी"},{"$f":"EmpDetail!E20","v":"1967-08-24"},{"$f":"EmpDetail!F20","v":"00:00:00"},"2027-08-31"]
[{"$f":"SUM(A10:A21)","v":855600},{"$f":"SUM(B10:B21)","v":147600},0,68400,0,0,1071600,";ksx",{"$f":"SUM(I10:I21)","v":31800},0,0,0,0,0,0,0,0,0,0,0,0,50400,0,0,0,0,0,0,10500,96000,0,0,0,188700,882900,null,null,null,null,18,{"$f":"EmpDetail!B21","v":" ';ke lqUnj ckxkSM"},{"$f":"EmpDetail!C21","v":"अध्यापक ग्रेड III"},{"$f":"EmpDetail!D21","v":"राउप्रावि मोहिनी"},{"$f":"EmpDetail!E21","v":"1983-08-10"},{"$f":"EmpDetail!F21","v":"00:00:00"},"2043-08-31"]
[null,null,null,null,null,null,null,null,null,null,null,null,null,null,null,null,null,null,null,null,null,null,null,null,null,null,null,null,null,null,null,null,null,null,null,null,null,null,null,19,{"$f":"EmpDetail!B22","v":"d`\".kk 'kekZ"},{"$f":"EmpDetail!C22","v":"प्रबोधक"},{"$f":"EmpDetail!D22","v":"राउप्रावि मोहिनी"},{"$f":"EmpDetail!E22","v":"1972-08-06"},{"$f":"EmpDetail!F22","v":"00:00:00"},"2032-08-31"]
["Jh@Jhefr",null,{"$f":"M3","v":"d`\".kk xaxoky"},null,null,null,null,"in&",{"$f":"T3","v":"अध्यापक ग्रेड III"},null,null,null,null,null,null,null,null,null,null,null,null,null,null,null,null,null,null,null,null,null,null,null,null,null,null,null,null,null,null,20,{"$f":"EmpDetail!B23","v":"/keZsUnz pkS/kjh"},{"$f":"EmpDetail!C23","v":"अध्यापक ग्रेड III"},{"$f":"EmpDetail!D23","v":"राउप्रावि गोरधनपुरा"},{"$f":"EmpDetail!E23","v":"1990-03-05"},{"$f":"EmpDetail!F23","v":"00:00:00"},"2050-03-31"]
["dzekad&",{"$f":"Master!H3&Master!I3&Master!J3&Master!E3&\"/\"","v":"राउमावि/चौगाई/संस्था/2021-22/"},null,null,null,null,null,"fnukad&",null,{"$f":"TODAY()","v":"2021-06-19"},null,null,null,null,null,null,null,null,null,null,null,null,null,null,null,null,null,null,null,null,null,null,null,{"$f":"Master!B2","v":"प्रधानाचार्य"},null,null,null,null,null,21,{"$f":"EmpDetail!B24","v":"izgykn ekyh"},{"$f":"EmpDetail!C24","v":"प्रबोधक"},{"$f":"EmpDetail!D24","v":"राउप्रावि गोरधनपुरा"},{"$f":"EmpDetail!E24","v":"1974-08-07"},{"$f":"EmpDetail!F24","v":"00:00:00"},"2034-08-31"]
["th-,- 55 , izek.k i=&",null,null,null,"ikWfylh la[;k",null,{"$f":"AI4","v":868676},null,"deZpkjh dk uke&",null,null,{"$f":"C24","v":"d`\".kk xaxoky"},null,null,null,null,null,null,null,null,null,null,null,null,null,null,null,null,null,null,null,null,null,{"$f":"Master!B3","v":"राजकीय उच्च माध्यमिक विद्यालय "},null,null,null,null,null,22,{"$f":"EmpDetail!B25","v":"jken;ky xqtZj"},{"$f":"EmpDetail!C25","v":"प्रबोधक"},{"$f":"EmpDetail!D25","v":"राउप्रावि सोंदीफल"},{"$f":"EmpDetail!E25","v":"1977-08-18"},{"$f":"EmpDetail!F25","v":"00:00:00"},"2037-08-31"]
[null,null,null,null,"izekf.kr fd;k tkrk gS fd izi= th- ,- 55&, esa vafdr dVkSfV;ka mDr fcesnkj ds osru ls dkVh xbZ gS A",null,null,null,null,null,null,null,null,null,null,null,null,null,null,null,null,null,null,null,null,null,null,null,null,null,null,null,null,{"$f":"Master!B4","v":"चौगाई]टोंक"},null,null,null,null,null,23,{"$f":"EmpDetail!B26","v":"vkSeizdk'k tkV"},{"$f":"EmpDetail!C26","v":"अध्यापक ग्रेड III"},{"$f":"EmpDetail!D26","v":"राउप्रावि सोंदीफल"},{"$f":"EmpDetail!E26","v":"1982-10-31"},{"$f":"EmpDetail!F26","v":"00:00:00"},"2042-10-31"]
[null,null,null,null,"vr% bl izek.k i= ds vk/kkj ij yqIr dVkSfr;ksa dks dzsfMV nsdj Hkqxrku djus dk d\"V djsa bl Hkqxrku dh",null,null,null,null,null,null,null,null,null,null,null,null,null,null,null,null,null,null,null,null,null,null,null,null,null,null,null,null,null,null,null,null,null,null,24,{"$f":"EmpDetail!B27","v":"vthr flag"},{"$f":"EmpDetail!C27","v":"अध्यापक ग्रेड III"},{"$f":"EmpDetail!D27","v":"राप्रावि जानकीवल्लभपुरा"},{"$f":"EmpDetail!E27","v":"1987-08-08"},{"$f":"EmpDetail!F27","v":"00:00:00"},"2047-08-31"]
[null,null,null,null,"ftEesnkjh v|ksgLrk{kj drkZ dh gksxh A",null,null,null,null,null,null,null,null,null,null,null,null,null,null,null,null,null,null,null,null,null,null,null,null,null,null,null,null,null,null,null,null,null,null,25,{"$f":"EmpDetail!B28","v":"eq[rkj eha;k"},{"$f":"EmpDetail!C28","v":"प्रबोधक"},{"$f":"EmpDetail!D28","v":"राप्रावि जानकीवल्लभपुरा"},{"$f":"EmpDetail!E28","v":"1976-07-04"},{"$f":"EmpDetail!F28","v":"00:00:00"},"2036-07-31"]
[null,null,null,null,null,null,null,null,null,null,null,null,null,null,null,null,null,null,null,null,null,null,null,null,null,null,null,null,null,null,null,null,null,null,null,null,null,null,null,26,{"$f":"EmpDetail!B29","v":"eks0 tehy "},{"$f":"EmpDetail!C29","v":"प्रबोधक"},{"$f":"EmpDetail!D29","v":"राप्रावि रसूलपुरा"},{"$f":"EmpDetail!E29","v":"1968-09-15"},{"$f":"EmpDetail!F29","v":"00:00:00"},"2028-09-30"]
[null,null,null,null,null,null,null,null,null,null,null,null,null,null,null,null,null,null,null,null,null,null,null,null,null,null,null,null,null,null,null,null,null,null,null,null,null,null,null,27,{"$f":"EmpDetail!B30","v":"lkaojey tkV"},{"$f":"EmpDetail!C30","v":"अध्यापक ग्रेड III"},{"$f":"EmpDetail!D30","v":"राप्रावि रसूलपुरा"},{"$f":"EmpDetail!E30","v":"1992-03-03"},{"$f":"EmpDetail!F30","v":"00:00:00"},"2052-03-31"]
[null,null,null,null,null,null,null,null,null,null,null,null,null,null,null,null,null,null,null,null,null,null,null,null,null,null,null,null,null,null,null,null,null,null,null,null,null,null,null,28,{"$f":"EmpDetail!B31","v":"pkS/kjh eksuk jkekorkj"},{"$f":"EmpDetail!C31","v":"अध्यापक ग्रेड III"},{"$f":"EmpDetail!D31","v":"राप्रावि मोहिनी ढाणी बाढ"},{"$f":"EmpDetail!E31","v":"1990-01-05"},{"$f":"EmpDetail!F31","v":"00:00:00"},"2050-01-31"]
[null,null,null,null,null,null,null,null,null,null,null,null,null,null,null,null,null,null,null,null,null,null,null,null,null,null,null,null,null,null,null,null,null,null,null,null,null,null,null,29,{"$f":"EmpDetail!B32","v":"rkjkpUn tk;loky"},{"$f":"EmpDetail!C32","v":"प्रबोधक"},{"$f":"EmpDetail!D32","v":"राप्रावि मोहिनी ढाणी बाढ"},{"$f":"EmpDetail!E32","v":"1976-11-11"},{"$f":"EmpDetail!F32","v":"00:00:00"},"2036-11-30"]
[null,null,null,null,null,null,null,null,null,null,null,null,null,null,null,null,null,null,null,null,null,null,null,null,null,null,null,null,null,null,null,null,null,null,null,null,null,null,null,30,{"$f":"EmpDetail!B33","v":"jketl ;kno"},{"$f":"EmpDetail!C33","v":"अध्यापक ग्रेड III"},{"$f":"EmpDetail!D33","v":"राप्रावि बैरवा ढाणी सोन्दीफल"},{"$f":"EmpDetail!E33","v":"1970-06-12"},{"$f":"EmpDetail!F33","v":"00:00:00"},"2030-06-30"]
[null,null,null,null,null,null,null,null,null,null,null,null,null,null,null,null,null,null,null,null,null,null,null,null,null,null,null,null,null,null,null,null,null,null,null,null,null,null,null,31,{"$f":"EmpDetail!B34","v":"dtksMey eh.kk"},{"$f":"EmpDetail!C34","v":"अध्यापक ग्रेड III"},{"$f":"EmpDetail!D34","v":"राप्रावि बैरवा ढाणी सोन्दीफल"},{"$f":"EmpDetail!E34","v":"1990-07-01"},{"$f":"EmpDetail!F34","v":"00:00:00"},"2050-06-30"]
[null,null,null,null,null,null,null,null,null,null,null,null,null,null,null,null,null,null,null,null,null,null,null,null,null,null,null,null,null,null,null,null,null,null,null,null,null,null,null,32,{"$f":"EmpDetail!B35","v":"/kaut; xkSRre"},{"$f":"EmpDetail!C35","v":"अध्यापक ग्रेड III"},{"$f":"EmpDetail!D35","v":"राउप्रावि गोरधनपुरा"},{"$f":"EmpDetail!E35","v":"1986-08-25"},{"$f":"EmpDetail!F35","v":"2018-04-03"},"2046-08-31"]
[null,null,null,null,null,null,null,null,null,null,null,null,null,null,null,null,null,null,null,null,null,null,null,null,null,null,null,null,null,null,null,null,null,null,null,null,null,null,null,33,{"$f":"EmpDetail!B36","v":"d`\".kk xaxoky"},{"$f":"EmpDetail!C36","v":"अध्यापक ग्रेड III"},{"$f":"EmpDetail!D36","v":"राउप्रावि गोरधनपुरा"},{"$f":"EmpDetail!E36","v":"1995-06-20"},{"$f":"EmpDetail!F36","v":"2018-12-21"},"2055-06-30"]
[null,null,null,null,null,null,null,null,null,null,null,null,null,null,null,null,null,null,null,null,null,null,null,null,null,null,null,null,null,null,null,null,null,null,null,null,null,null,null,34,{"$f":"EmpDetail!B37","v":"n'kjFk dqekj ;kno"},{"$f":"EmpDetail!C37","v":"अध्यापक ग्रेड III"},{"$f":"EmpDetail!D37","v":"राउप्रावि सोंदीफल"},{"$f":"EmpDetail!E37","v":"1991-01-01"},{"$f":"EmpDetail!F37","v":"2018-09-29"},"2050-12-31"]
[null,null,null,null,null,null,null,null,null,null,null,null,null,null,null,null,null,null,null,null,null,null,null,null,null,null,null,null,null,null,null,null,null,null,null,null,null,null,null,35,{"$f":"EmpDetail!B38","v":"d`\".k yky tkV"},{"$f":"EmpDetail!C38","v":"अध्यापक ग्रेड III"},{"$f":"EmpDetail!D38","v":"राउप्रावि सोंदीफल"},{"$f":"EmpDetail!E38","v":"1990-07-18"},{"$f":"EmpDetail!F38","v":"2018-10-02"},"2050-07-31"]
[null,null,null,null,null,null,null,null,null,null,null,null,null,null,null,null,null,null,null,null,null,null,null,null,null,null,null,null,null,null,null,null,null,null,null,null,null,null,null,36,{"$f":"EmpDetail!B39","v":"nhisUnz dqekj iztkir"},{"$f":"EmpDetail!C39","v":"अध्यापक ग्रेड III"},{"$f":"EmpDetail!D39","v":"राउप्रावि सोंदीफल"},{"$f":"EmpDetail!E39","v":"1994-07-12"},{"$f":"EmpDetail!F39","v":"2018-12-28"},"2054-07-31"]
[null,null,null,null,null,null,null,null,null,null,null,null,null,null,null,null,null,null,null,null,null,null,null,null,null,null,null,null,null,null,null,null,null,null,null,null,null,null,null,37,{"$f":"EmpDetail!B40","v":"uohu dqekj"},{"$f":"EmpDetail!C40","v":"अध्यापक ग्रेड III"},{"$f":"EmpDetail!D40","v":"राउप्रावि मोहिनी"},{"$f":"EmpDetail!E40","v":"1995-04-13"},{"$f":"EmpDetail!F40","v":"2018-12-21"},"2055-04-30"]
[null,null,null,null,null,null,null,null,null,null,null,null,null,null,null,null,null,null,null,null,null,null,null,null,null,null,null,null,null,null,null,null,null,null,null,null,null,null,null,38,{"$f":"EmpDetail!B41","v":"ehrs'k dqekj 'kekZ"},{"$f":"EmpDetail!C41","v":"अध्यापक ग्रेड III"},{"$f":"EmpDetail!D41","v":"राउप्रावि मोहिनी"},{"$f":"EmpDetail!E41","v":"1989-08-13"},{"$f":"EmpDetail!F41","v":"2018-04-02"},"2049-08-31"]
[null,null,null,null,null,null,null,null,null,null,null,null,null,null,null,null,null,null,null,null,null,null,null,null,null,null,null,null,null,null,null,null,null,null,null,null,null,null,null,39,{"$f":"EmpDetail!B42","v":"eUtw eh.kk"},{"$f":"EmpDetail!C42","v":"वरिष्ठ अध्यापक"},{"$f":"EmpDetail!D42","v":"राउप्रावि गोरधनपुरा"},{"$f":"EmpDetail!E42","v":"1991-01-06"},{"$f":"EmpDetail!F42","v":"2018-09-28"},"2051-01-31"]
[null,null,null,null,null,null,null,null,null,null,null,null,null,null,null,null,null,null,null,null,null,null,null,null,null,null,null,null,null,null,null,null,null,null,null,null,null,null,null,40,{"$f":"EmpDetail!B43","v":"eatw pkS/kjh"},{"$f":"EmpDetail!C43","v":"वरिष्ठ अध्यापक"},{"$f":"EmpDetail!D43","v":"राउप्रावि सोंदीफल"},{"$f":"EmpDetail!E43","v":"1991-08-04"},{"$f":"EmpDetail!F43","v":"2020-09-29"},"2051-08-31"]
[null,null,null,null,null,null,null,null,null,null,null,null,null,null,null,null,null,null,null,null,null,null,null,null,null,null,null,null,null,null,null,null,null,null,null,null,null,null,null,41,{"$f":"EmpDetail!B44","v":0},{"$f":"EmpDetail!C44","v":0},{"$f":"EmpDetail!D44","v":0},{"$f":"EmpDetail!E44","v":"00:00:00"},{"$f":"EmpDetail!F44","v":"00:00:00"},{"$error":"#NUM!"}]
[null,null,null,null,null,null,null,null,null,null,null,null,null,null,null,null,null,null,null,null,null,null,null,null,null,null,null,null,null,null,null,null,null,null,null,null,null,null,null,42,{"$f":"EmpDetail!B45","v":0},{"$f":"EmpDetail!C45","v":0},{"$f":"EmpDetail!D45","v":0},{"$f":"EmpDetail!E45","v":"00:00:00"},{"$f":"EmpDetail!F45","v":"00:00:00"},{"$error":"#NUM!"}]
[null,null,null,null,null,null,null,null,null,null,null,null,null,null,null,null,null,null,null,null,null,null,null,null,null,null,null,null,null,null,null,null,null,null,null,null,null,null,null,43,{"$f":"EmpDetail!B46","v":0},{"$f":"EmpDetail!C46","v":0},{"$f":"EmpDetail!D46","v":0},{"$f":"EmpDetail!E46","v":"00:00:00"},{"$f":"EmpDetail!F46","v":"00:00:00"},{"$error":"#NUM!"}]
[null,null,null,null,null,null,null,null,null,null,null,null,null,null,null,null,null,null,null,null,null,null,null,null,null,null,null,null,null,null,null,null,null,null,null,null,null,null,null,44,{"$f":"EmpDetail!B47","v":0},{"$f":"EmpDetail!C47","v":0},{"$f":"EmpDetail!D47","v":0},{"$f":"EmpDetail!E47","v":"00:00:00"},{"$f":"EmpDetail!F47","v":"00:00:00"},{"$error":"#NUM!"}]
[null,null,null,null,null,null,null,null,null,null,null,null,null,null,null,null,null,null,null,null,null,null,null,null,null,null,null,null,null,null,null,null,null,null,null,null,null,null,null,45,{"$f":"EmpDetail!B48","v":0},{"$f":"EmpDetail!C48","v":0},{"$f":"EmpDetail!D48","v":0},{"$f":"EmpDetail!E48","v":"00:00:00"},{"$f":"EmpDetail!F48","v":"00:00:00"},{"$error":"#NUM!"}]
[null,null,null,null,null,null,null,null,null,null,null,null,null,null,null,null,null,null,null,null,null,null,null,null,null,null,null,null,null,null,null,null,null,null,null,null,null,null,null,46,{"$f":"EmpDetail!B49","v":0},{"$f":"EmpDetail!C49","v":0},{"$f":"EmpDetail!D49","v":0},{"$f":"EmpDetail!E49","v":"00:00:00"},{"$f":"EmpDetail!F49","v":"00:00:00"},{"$error":"#NUM!"}]
[null,null,null,null,null,null,null,null,null,null,null,null,null,null,null,null,null,null,null,null,null,null,null,null,null,null,null,null,null,null,null,null,null,null,null,null,null,null,null,47,{"$f":"EmpDetail!B50","v":0},{"$f":"EmpDetail!C50","v":0},{"$f":"EmpDetail!D50","v":0},{"$f":"EmpDetail!E50","v":"00:00:00"},{"$f":"EmpDetail!F50","v":"00:00:00"},{"$error":"#NUM!"}]
[null,null,null,null,null,null,null,null,null,null,null,null,null,null,null,null,null,null,null,null,null,null,null,null,null,null,null,null,null,null,null,null,null,null,null,null,null,null,null,48,{"$f":"EmpDetail!B51","v":0},{"$f":"EmpDetail!C51","v":0},{"$f":"EmpDetail!D51","v":0},{"$f":"EmpDetail!E51","v":"00:00:00"},{"$f":"EmpDetail!F51","v":"00:00:00"},{"$error":"#NUM!"}]
[null,null,null,null,null,null,null,null,null,null,null,null,null,null,null,null,null,null,null,null,null,null,null,null,null,null,null,null,null,null,null,null,null,null,null,null,null,null,null,49,{"$f":"EmpDetail!B52","v":0},{"$f":"EmpDetail!C52","v":0},{"$f":"EmpDetail!D52","v":0},{"$f":"EmpDetail!E52","v":"00:00:00"},{"$f":"EmpDetail!F52","v":"00:00:00"},{"$error":"#NUM!"}]
[null,null,null,null,null,null,null,null,null,null,null,null,null,null,null,null,null,null,null,null,null,null,null,null,null,null,null,null,null,null,null,null,null,null,null,null,null,null,null,50,{"$f":"EmpDetail!B53","v":0},{"$f":"EmpDetail!C53","v":0},{"$f":"EmpDetail!D53","v":0},{"$f":"EmpDetail!E53","v":"00:00:00"},{"$f":"EmpDetail!F53","v":"00:00:00"},{"$error":"#NUM!"}]
[null,null,null,null,null,null,null,null,null,null,null,null,null,null,null,null,null,null,null,null,null,null,null,null,null,null,null,null,null,null,null,null,null,null,null,null,null,null,null,51,{"$f":"EmpDetail!B54","v":0},{"$f":"EmpDetail!C54","v":0},{"$f":"EmpDetail!D54","v":0},{"$f":"EmpDetail!E54","v":"00:00:00"},{"$f":"EmpDetail!F54","v":"00:00:00"},{"$error":"#NUM!"}]
[null,null,null,null,null,null,null,null,null,null,null,null,null,null,null,null,null,null,null,null,null,null,null,null,null,null,null,null,null,null,null,null,null,null,null,null,null,null,null,52,{"$f":"EmpDetail!B55","v":0},{"$f":"EmpDetail!C55","v":0},{"$f":"EmpDetail!D55","v":0},{"$f":"EmpDetail!E55","v":"00:00:00"},{"$f":"EmpDetail!F55","v":"00:00:00"},{"$error":"#NUM!"}]
[null,null,null,null,null,null,null,null,null,null,null,null,null,null,null,null,null,null,null,null,null,null,null,null,null,null,null,null,null,null,null,null,null,null,null,null,null,null,null,53,{"$f":"EmpDetail!B56","v":0},{"$f":"EmpDetail!C56","v":0},{"$f":"EmpDetail!D56","v":0},{"$f":"EmpDetail!E56","v":"00:00:00"},{"$f":"EmpDetail!F56","v":"00:00:00"},{"$error":"#NUM!"}]
[null,null,null,null,null,null,null,null,null,null,null,null,null,null,null,null,null,null,null,null,null,null,null,null,null,null,null,null,null,null,null,null,null,null,null,null,null,null,null,54,{"$f":"EmpDetail!B57","v":0},{"$f":"EmpDetail!C57","v":0},{"$f":"EmpDetail!D57","v":0},{"$f":"EmpDetail!E57","v":"00:00:00"},{"$f":"EmpDetail!F57","v":"00:00:00"},{"$error":"#NUM!"}]
[null,null,null,null,null,null,null,null,null,null,null,null,null,null,null,null,null,null,null,null,null,null,null,null,null,null,null,null,null,null,null,null,null,null,null,null,null,null,null,55,{"$f":"EmpDetail!B58","v":0},{"$f":"EmpDetail!C58","v":0},{"$f":"EmpDetail!D58","v":0},{"$f":"EmpDetail!E58","v":"00:00:00"},{"$f":"EmpDetail!F58","v":"00:00:00"},{"$error":"#NUM!"}]
[null,null,null,null,null,null,null,null,null,null,null,null,null,null,null,null,null,null,null,null,null,null,null,null,null,null,null,null,null,null,null,null,null,null,null,null,null,null,null,56,{"$f":"EmpDetail!B59","v":0},{"$f":"EmpDetail!C59","v":0},{"$f":"EmpDetail!D59","v":0},{"$f":"EmpDetail!E59","v":"00:00:00"},{"$f":"EmpDetail!F59","v":"00:00:00"},{"$error":"#NUM!"}]
[null,null,null,null,null,null,null,null,null,null,null,null,null,null,null,null,null,null,null,null,null,null,null,null,null,null,null,null,null,null,null,null,null,null,null,null,null,null,null,57,{"$f":"EmpDetail!B60","v":0},{"$f":"EmpDetail!C60","v":0},{"$f":"EmpDetail!D60","v":0},{"$f":"EmpDetail!E60","v":"00:00:00"},{"$f":"EmpDetail!F60","v":"00:00:00"},{"$error":"#NUM!"}]
[null,null,null,null,null,null,null,null,null,null,null,null,null,null,null,null,null,null,null,null,null,null,null,null,null,null,null,null,null,null,null,null,null,null,null,null,null,null,null,58,{"$f":"EmpDetail!B61","v":0},{"$f":"EmpDetail!C61","v":0},{"$f":"EmpDetail!D61","v":0},{"$f":"EmpDetail!E61","v":"00:00:00"},{"$f":"EmpDetail!F61","v":"00:00:00"},{"$error":"#NUM!"}]
[null,null,null,null,null,null,null,null,null,null,null,null,null,null,null,null,null,null,null,null,null,null,null,null,null,null,null,null,null,null,null,null,null,null,null,null,null,null,null,59,{"$f":"EmpDetail!B62","v":0},{"$f":"EmpDetail!C62","v":0},{"$f":"EmpDetail!D62","v":0},{"$f":"EmpDetail!E62","v":"00:00:00"},{"$f":"EmpDetail!F62","v":"00:00:00"},{"$error":"#NUM!"}]
[null,null,null,null,null,null,null,null,null,null,null,null,null,null,null,null,null,null,null,null,null,null,null,null,null,null,null,null,null,null,null,null,null,null,null,null,null,null,null,60,{"$f":"EmpDetail!B63","v":0},{"$f":"EmpDetail!C63","v":0},{"$f":"EmpDetail!D63","v":0},{"$f":"EmpDetail!E63","v":"00:00:00"},{"$f":"EmpDetail!F63","v":"00:00:00"},{"$error":"#NUM!"}]
[null,null,null,null,null,null,null,null,null,null,null,null,null,null,null,null,null,null,null,null,null,null,null,null,null,null,null,null,null,null,null,null,null,null,null,null,null,null,null,61,{"$f":"EmpDetail!B64","v":0},{"$f":"EmpDetail!C64","v":0},{"$f":"EmpDetail!D64","v":0},{"$f":"EmpDetail!E64","v":"00:00:00"},{"$f":"EmpDetail!F64","v":"00:00:00"},{"$error":"#NUM!"}]
[null,null,null,null,null,null,null,null,null,null,null,null,null,null,null,null,null,null,null,null,null,null,null,null,null,null,null,null,null,null,null,null,null,null,null,null,null,null,null,62,{"$f":"EmpDetail!B65","v":0},{"$f":"EmpDetail!C65","v":0},{"$f":"EmpDetail!D65","v":0},{"$f":"EmpDetail!E65","v":"00:00:00"},{"$f":"EmpDetail!F65","v":"00:00:00"},{"$error":"#NUM!"}]
[null,null,null,null,null,null,null,null,null,null,null,null,null,null,null,null,null,null,null,null,null,null,null,null,null,null,null,null,null,null,null,null,null,null,null,null,null,null,null,63,{"$f":"EmpDetail!B66","v":0},{"$f":"EmpDetail!C66","v":0},{"$f":"EmpDetail!D66","v":0},{"$f":"EmpDetail!E66","v":"00:00:00"},{"$f":"EmpDetail!F66","v":"00:00:00"},{"$error":"#NUM!"}]
[null,null,null,null,null,null,null,null,null,null,null,null,null,null,null,null,null,null,null,null,null,null,null,null,null,null,null,null,null,null,null,null,null,null,null,null,null,null,null,64,{"$f":"EmpDetail!B67","v":0},{"$f":"EmpDetail!C67","v":0},{"$f":"EmpDetail!D67","v":0},{"$f":"EmpDetail!E67","v":"00:00:00"},{"$f":"EmpDetail!F67","v":"00:00:00"},{"$error":"#NUM!"}]
[null,null,null,null,null,null,null,null,null,null,null,null,null,null,null,null,null,null,null,null,null,null,null,null,null,null,null,null,null,null,null,null,null,null,null,null,null,null,null,65,{"$f":"EmpDetail!B68","v":0},{"$f":"EmpDetail!C68","v":0},{"$f":"EmpDetail!D68","v":0},{"$f":"EmpDetail!E68","v":"00:00:00"},{"$f":"EmpDetail!F68","v":"00:00:00"},{"$error":"#NUM!"}]
[null,null,null,null,null,null,null,null,null,null,null,null,null,null,null,null,null,null,null,null,null,null,null,null,null,null,null,null,null,null,null,null,null,null,null,null,null,null,null,66,{"$f":"EmpDetail!B69","v":0},{"$f":"EmpDetail!C69","v":0},{"$f":"EmpDetail!D69","v":0},{"$f":"EmpDetail!E69","v":"00:00:00"},{"$f":"EmpDetail!F69","v":"00:00:00"},{"$f":"IF(AR70=\"\",\"\",DATE(YEAR(AR70-1)+60,(MONTH(AR70-1))+1,0))","v":{"$error":"#NUM!"}}]
[null,null,null,null,null,null,null,null,null,null,null,null,null,null,null,null,null,null,null,null,null,null,null,null,null,null,null,null,null,null,null,null,null,null,null,null,null,null,null,67,{"$f":"EmpDetail!B70","v":0},{"$f":"EmpDetail!C70","v":0},{"$f":"EmpDetail!D70","v":0},{"$f":"EmpDetail!E70","v":"00:00:00"},{"$f":"EmpDetail!F70","v":"00:00:00"},{"$error":"#NUM!"}]
[null,null,null,null,null,null,null,null,null,null,null,null,null,null,null,null,null,null,null,null,null,null,null,null,null,null,null,null,null,null,null,null,null,null,null,null,null,null,null,68,{"$f":"EmpDetail!B71","v":0},{"$f":"EmpDetail!C71","v":0},{"$f":"EmpDetail!D71","v":0},{"$f":"EmpDetail!E71","v":"00:00:00"},{"$f":"EmpDetail!F71","v":"00:00:00"},{"$error":"#NUM!"}]
[null,null,null,null,null,null,null,null,null,null,null,null,null,null,null,null,null,null,null,null,null,null,null,null,null,null,null,null,null,null,null,null,null,null,null,null,null,null,null,69,{"$f":"EmpDetail!B72","v":0},{"$f":"EmpDetail!C72","v":0},{"$f":"EmpDetail!D72","v":0},{"$f":"EmpDetail!E72","v":"00:00:00"},{"$f":"EmpDetail!F72","v":"00:00:00"},{"$error":"#NUM!"}]
[null,null,null,null,null,null,null,null,null,null,null,null,null,null,null,null,null,null,null,null,null,null,null,null,null,null,null,null,null,null,null,null,null,null,null,null,null,null,null,70,{"$f":"EmpDetail!B73","v":0},{"$f":"EmpDetail!C73","v":0},{"$f":"EmpDetail!D73","v":0},{"$f":"EmpDetail!E73","v":"00:00:00"},{"$f":"EmpDetail!F73","v":"00:00:00"},{"$error":"#NUM!"}]
[null,null,null,null,null,null,null,null,null,null,null,null,null,null,null,null,null,null,null,null,null,null,null,null,null,null,null,null,null,null,null,null,null,null,null,null,null,null,null,71,{"$f":"EmpDetail!B74","v":0},{"$f":"EmpDetail!C74","v":0},{"$f":"EmpDetail!D74","v":0},{"$f":"EmpDetail!E74","v":"00:00:00"},{"$f":"EmpDetail!F74","v":"00:00:00"},{"$error":"#NUM!"}]
[null,null,null,null,null,null,null,null,null,null,null,null,null,null,null,null,null,null,null,null,null,null,null,null,null,null,null,null,null,null,null,null,null,null,null,null,null,null,null,72,{"$f":"EmpDetail!B75","v":0},{"$f":"EmpDetail!C75","v":0},{"$f":"EmpDetail!D75","v":0},{"$f":"EmpDetail!E75","v":"00:00:00"},{"$f":"EmpDetail!F75","v":"00:00:00"},{"$error":"#NUM!"}]
[null,null,null,null,null,null,null,null,null,null,null,null,null,null,null,null,null,null,null,null,null,null,null,null,null,null,null,null,null,null,null,null,null,null,null,null,null,null,null,73,{"$f":"EmpDetail!B76","v":0},{"$f":"EmpDetail!C76","v":0},{"$f":"EmpDetail!D76","v":0},{"$f":"EmpDetail!E76","v":"00:00:00"},{"$f":"EmpDetail!F76","v":"00:00:00"},{"$error":"#NUM!"}]
[null,null,null,null,null,null,null,null,null,null,null,null,null,null,null,null,null,null,null,null,null,null,null,null,null,null,null,null,null,null,null,null,null,null,null,null,null,null,null,74,{"$f":"EmpDetail!B77","v":0},{"$f":"EmpDetail!C77","v":0},{"$f":"EmpDetail!D77","v":0},{"$f":"EmpDetail!E77","v":"00:00:00"},{"$f":"EmpDetail!F77","v":"00:00:00"},{"$error":"#NUM!"}]
[null,null,null,null,null,null,null,null,null,null,null,null,null,null,null,null,null,null,null,null,null,null,null,null,null,null,null,null,null,null,null,null,null,null,null,null,null,null,null,75,{"$f":"EmpDetail!B78","v":0},{"$f":"EmpDetail!C78","v":0},{"$f":"EmpDetail!D78","v":0},{"$f":"EmpDetail!E78","v":"00:00:00"},{"$f":"EmpDetail!F78","v":"00:00:00"},{"$error":"#NUM!"}]
[null,null,null,null,null,null,null,null,null,null,null,null,null,null,null,null,null,null,null,null,null,null,null,null,null,null,null,null,null,null,null,null,null,null,null,null,null,null,null,76,{"$f":"EmpDetail!B79","v":0},{"$f":"EmpDetail!C79","v":0},{"$f":"EmpDetail!D79","v":0},{"$f":"EmpDetail!E79","v":"00:00:00"},{"$f":"EmpDetail!F79","v":"00:00:00"},{"$error":"#NUM!"}]
[null,null,null,null,null,null,null,null,null,null,null,null,null,null,null,null,null,null,null,null,null,null,null,null,null,null,null,null,null,null,null,null,null,null,null,null,null,null,null,77,{"$f":"EmpDetail!B80","v":0},{"$f":"EmpDetail!C80","v":0},{"$f":"EmpDetail!D80","v":0},{"$f":"EmpDetail!E80","v":"00:00:00"},{"$f":"EmpDetail!F80","v":"00:00:00"},{"$error":"#NUM!"}]
[null,null,null,null,null,null,null,null,null,null,null,null,null,null,null,null,null,null,null,null,null,null,null,null,null,null,null,null,null,null,null,null,null,null,null,null,null,null,null,78,{"$f":"EmpDetail!B81","v":0},{"$f":"EmpDetail!C81","v":0},{"$f":"EmpDetail!D81","v":0},{"$f":"EmpDetail!E81","v":"00:00:00"},{"$f":"EmpDetail!F81","v":"00:00:00"},{"$error":"#NUM!"}]
[null,null,null,null,null,null,null,null,null,null,null,null,null,null,null,null,null,null,null,null,null,null,null,null,null,null,null,null,null,null,null,null,null,null,null,null,null,null,null,79,{"$f":"EmpDetail!B82","v":0},{"$f":"EmpDetail!C82","v":0},{"$f":"EmpDetail!D82","v":0},{"$f":"EmpDetail!E82","v":"00:00:00"},{"$f":"EmpDetail!F82","v":"00:00:00"},{"$error":"#NUM!"}]
[null,null,null,null,null,null,null,null,null,null,null,null,null,null,null,null,null,null,null,null,null,null,null,null,null,null,null,null,null,null,null,null,null,null,null,null,null,null,null,80,{"$f":"EmpDetail!B83","v":0},{"$f":"EmpDetail!C83","v":0},{"$f":"EmpDetail!D83","v":0},{"$f":"EmpDetail!E83","v":"00:00:00"},{"$f":"EmpDetail!F83","v":"00:00:00"},{"$error":"#NUM!"}]
[null,null,null,null,null,null,null,null,null,null,null,null,null,null,null,null,null,null,null,null,null,null,null,null,null,null,null,null,null,null,null,null,null,null,null,null,null,null,null,81,{"$f":"EmpDetail!B84","v":0},{"$f":"EmpDetail!C84","v":0},{"$f":"EmpDetail!D84","v":0},{"$f":"EmpDetail!E84","v":"00:00:00"},{"$f":"EmpDetail!F84","v":"00:00:00"},{"$error":"#NUM!"}]
[null,null,null,null,null,null,null,null,null,null,null,null,null,null,null,null,null,null,null,null,null,null,null,null,null,null,null,null,null,null,null,null,null,null,null,null,null,null,null,82,{"$f":"EmpDetail!B85","v":0},{"$f":"EmpDetail!C85","v":0},{"$f":"EmpDetail!D85","v":0},{"$f":"EmpDetail!E85","v":"00:00:00"},{"$f":"EmpDetail!F85","v":"00:00:00"},{"$error":"#NUM!"}]
[null,null,null,null,null,null,null,null,null,null,null,null,null,null,null,null,null,null,null,null,null,null,null,null,null,null,null,null,null,null,null,null,null,null,null,null,null,null,null,83,{"$f":"EmpDetail!B86","v":0},{"$f":"EmpDetail!C86","v":0},{"$f":"EmpDetail!D86","v":0},{"$f":"EmpDetail!E86","v":"00:00:00"},{"$f":"EmpDetail!F86","v":"00:00:00"},{"$error":"#NUM!"}]
[null,null,null,null,null,null,null,null,null,null,null,null,null,null,null,null,null,null,null,null,null,null,null,null,null,null,null,null,null,null,null,null,null,null,null,null,null,null,null,84,{"$f":"EmpDetail!B87","v":0},{"$f":"EmpDetail!C87","v":0},{"$f":"EmpDetail!D87","v":0},{"$f":"EmpDetail!E87","v":"00:00:00"},{"$f":"EmpDetail!F87","v":"00:00:00"},{"$error":"#NUM!"}]
[null,null,null,null,null,null,null,null,null,null,null,null,null,null,null,null,null,null,null,null,null,null,null,null,null,null,null,null,null,null,null,null,null,null,null,null,null,null,null,85,{"$f":"EmpDetail!B88","v":0},{"$f":"EmpDetail!C88","v":0},{"$f":"EmpDetail!D88","v":0},{"$f":"EmpDetail!E88","v":"00:00:00"},{"$f":"EmpDetail!F88","v":"00:00:00"},{"$error":"#NUM!"}]
[null,null,null,null,null,null,null,null,null,null,null,null,null,null,null,null,null,null,null,null,null,null,null,null,null,null,null,null,null,null,null,null,null,null,null,null,null,null,null,86,{"$f":"EmpDetail!B89","v":0},{"$f":"EmpDetail!C89","v":0},{"$f":"EmpDetail!D89","v":0},{"$f":"EmpDetail!E89","v":"00:00:00"},{"$f":"EmpDetail!F89","v":"00:00:00"},{"$error":"#NUM!"}]
[null,null,null,null,null,null,null,null,null,null,null,null,null,null,null,null,null,null,null,null,null,null,null,null,null,null,null,null,null,null,null,null,null,null,null,null,null,null,null,87,{"$f":"EmpDetail!B90","v":0},{"$f":"EmpDetail!C90","v":0},{"$f":"EmpDetail!D90","v":0},{"$f":"EmpDetail!E90","v":"00:00:00"},{"$f":"EmpDetail!F90","v":"00:00:00"},{"$error":"#NUM!"}]
[null,null,null,null,null,null,null,null,null,null,null,null,null,null,null,null,null,null,null,null,null,null,null,null,null,null,null,null,null,null,null,null,null,null,null,null,null,null,null,88,{"$f":"EmpDetail!B91","v":0},{"$f":"EmpDetail!C91","v":0},{"$f":"EmpDetail!D91","v":0},{"$f":"EmpDetail!E91","v":"00:00:00"},{"$f":"EmpDetail!F91","v":"00:00:00"},{"$error":"#NUM!"}]
[null,null,null,null,null,null,null,null,null,null,null,null,null,null,null,null,null,null,null,null,null,null,null,null,null,null,null,null,null,null,null,null,null,null,null,null,null,null,null,89,{"$f":"EmpDetail!B92","v":0},{"$f":"EmpDetail!C92","v":0},{"$f":"EmpDetail!D92","v":0},{"$f":"EmpDetail!E92","v":"00:00:00"},{"$f":"EmpDetail!F92","v":"00:00:00"},{"$error":"#NUM!"}]
[null,null,null,null,null,null,null,null,null,null,null,null,null,null,null,null,null,null,null,null,null,null,null,null,null,null,null,null,null,null,null,null,null,null,null,null,null,null,null,90,{"$f":"EmpDetail!B93","v":0},{"$f":"EmpDetail!C93","v":0},{"$f":"EmpDetail!D93","v":0},{"$f":"EmpDetail!E93","v":"00:00:00"},{"$f":"EmpDetail!F93","v":"00:00:00"},{"$error":"#NUM!"}]
[null,null,null,null,null,null,null,null,null,null,null,null,null,null,null,null,null,null,null,null,null,null,null,null,null,null,null,null,null,null,null,null,null,null,null,null,null,null,null,91,{"$f":"EmpDetail!B94","v":0},{"$f":"EmpDetail!C94","v":0},{"$f":"EmpDetail!D94","v":0},{"$f":"EmpDetail!E94","v":"00:00:00"},{"$f":"EmpDetail!F94","v":"00:00:00"},{"$error":"#NUM!"}]
[null,null,null,null,null,null,null,null,null,null,null,null,null,null,null,null,null,null,null,null,null,null,null,null,null,null,null,null,null,null,null,null,null,null,null,null,null,null,null,92,{"$f":"EmpDetail!B95","v":0},{"$f":"EmpDetail!C95","v":0},{"$f":"EmpDetail!D95","v":0},{"$f":"EmpDetail!E95","v":"00:00:00"},{"$f":"EmpDetail!F95","v":"00:00:00"},{"$error":"#NUM!"}]
[null,null,null,null,null,null,null,null,null,null,null,null,null,null,null,null,null,null,null,null,null,null,null,null,null,null,null,null,null,null,null,null,null,null,null,null,null,null,null,93,{"$f":"EmpDetail!B96","v":0},{"$f":"EmpDetail!C96","v":0},{"$f":"EmpDetail!D96","v":0},{"$f":"EmpDetail!E96","v":"00:00:00"},{"$f":"EmpDetail!F96","v":"00:00:00"},{"$error":"#NUM!"}]
[null,null,null,null,null,null,null,null,null,null,null,null,null,null,null,null,null,null,null,null,null,null,null,null,null,null,null,null,null,null,null,null,null,null,null,null,null,null,null,94,{"$f":"EmpDetail!B97","v":0},{"$f":"EmpDetail!C97","v":0},{"$f":"EmpDetail!D97","v":0},{"$f":"EmpDetail!E97","v":"00:00:00"},{"$f":"EmpDetail!F97","v":"00:00:00"},{"$error":"#NUM!"}]
[null,null,null,null,null,null,null,null,null,null,null,null,null,null,null,null,null,null,null,null,null,null,null,null,null,null,null,null,null,null,null,null,null,null,null,null,null,null,null,95,{"$f":"EmpDetail!B98","v":0},{"$f":"EmpDetail!C98","v":0},{"$f":"EmpDetail!D98","v":0},{"$f":"EmpDetail!E98","v":"00:00:00"},{"$f":"EmpDetail!F98","v":"00:00:00"},{"$error":"#NUM!"}]
[null,null,null,null,null,null,null,null,null,null,null,null,null,null,null,null,null,null,null,null,null,null,null,null,null,null,null,null,null,null,null,null,null,null,null,null,null,null,null,96,{"$f":"EmpDetail!B99","v":0},{"$f":"EmpDetail!C99","v":0},{"$f":"EmpDetail!D99","v":0},{"$f":"EmpDetail!E99","v":"00:00:00"},{"$f":"EmpDetail!F99","v":"00:00:00"},{"$error":"#NUM!"}]
[null,null,null,null,null,null,null,null,null,null,null,null,null,null,null,null,null,null,null,null,null,null,null,null,null,null,null,null,null,null,null,null,null,null,null,null,null,null,null,97,{"$f":"EmpDetail!B100","v":0},{"$f":"EmpDetail!C100","v":0},{"$f":"EmpDetail!D100","v":0},{"$f":"EmpDetail!E100","v":"00:00:00"},{"$f":"EmpDetail!F100","v":"00:00:00"},{"$error":"#NUM!"}]
[null,null,null,null,null,null,null,null,null,null,null,null,null,null,null,null,null,null,null,null,null,null,null,null,null,null,null,null,null,null,null,null,null,null,null,null,null,null,null,98,{"$f":"EmpDetail!B101","v":0},{"$f":"EmpDetail!C101","v":0},{"$f":"EmpDetail!D101","v":0},{"$f":"EmpDetail!E101","v":"00:00:00"},{"$f":"EmpDetail!F101","v":"00:00:00"},{"$error":"#NUM!"}]
[null,null,null,null,null,null,null,null,null,null,null,null,null,null,null,null,null,null,null,null,null,null,null,null,null,null,null,null,null,null,null,null,null,null,null,null,null,null,null,99,{"$f":"EmpDetail!B102","v":0},{"$f":"EmpDetail!C102","v":0},{"$f":"EmpDetail!D102","v":0},{"$f":"EmpDetail!E102","v":"00:00:00"},{"$f":"EmpDetail!F102","v":"00:00:00"},{"$error":"#NUM!"}]
[null,null,null,null,null,null,null,null,null,null,null,null,null,null,null,null,null,null,null,null,null,null,null,null,null,null,null,null,null,null,null,null,null,null,null,null,null,null,null,100,{"$f":"EmpDetail!B103","v":0},{"$f":"EmpDetail!C103","v":0},{"$f":"EmpDetail!D103","v":0},{"$f":"EmpDetail!E103","v":"00:00:00"},{"$f":"EmpDetail!F103","v":"00:00:00"},{"$error":"#NUM!"}]

{"sheet":"SI Forwrd","index":54,"n_rows":104,"n_cols":14,"rows_kept":104,"cut":false,"hidden":true,"merged":[[4,9,4,11],[27,4,27,7],[24,1,24,2],[25,1,25,2],[25,4,25,7],[26,4,26,7],[15,1,15,6],[16,1,16,2],[19,1,19,2],[20,1,20,2],[21,1,21,2],[22,1,22,2],[23,1,23,2],[19,4,19,7],[18,4,18,7],[20,4,20,7],[0,1,0,7],[13,1,13,7],[14,2,14,7],[7,2,7,4],[9,1,9,2],[10,3,10,4],[9,5,9,7],[1,2,1,5],[2,1,2,2],[2,3,2,5],[3,1,3,2],[5,2,5,4],[3,3,3,5],[6,2,6,4]]}
[null,{"$f":"Master!G2&Master!H2","v":"कार्यालय&राजकीय उच्च माध्यमिक विद्यालय ]चौगाई]टोंक"}]
[null,"Øekad &     ",{"$f":"Master!H3&Master!I3&Master!J3&Master!E3&\"/\"","v":"राउमावि/चौगाई/संस्था/2021-22/"},null,null,null,"fnaukd&",{"$f":"TODAY()","v":"2021-06-19"}]
[null,"                   vkWuykbZu vkosnu i= dzekad&                          ",null,12,null,null,"fnaukd&","2021-03-25"]
[null,"EMPLOYEE ID &",null,"RJTO198836028883",null,null,null,null,null,null,null,null,null,{"$f":"IF(ISNA(VLOOKUP($K6,$M$5:$R$104,2,FALSE)),\"\",VLOOKUP($K6,$M$5:$R$104,2,FALSE))","v":"d`\".kk xaxoky"}]
[null,"lsok esa]",null,null,null,null,null,null,null,"dkfeZd dk dzekad fy[ksa",null,null,1,{"$f":"EmpDetail!B4","v":"fd'ku yky cSjok"}]
[null,null,"   Jheku~ mifuns'kd egksn;",null,null,null,null,null,null,null,33,null,2,{"$f":"EmpDetail!B5","v":"iwj.k pUn y{kdkj"}]
[null,null," jkT; chek ,oa izko/kk;h fu/kh foHkkx",null,null,null,null,null,null,null,null,null,3,{"$f":"EmpDetail!B6","v":"jktsUnz dqekj tSu"}]
[null,null,"Vksad",null,null,null,null,null,null,null,null,null,4,{"$f":"EmpDetail!B7","v":"fd'ku yky cSjok"}]
[null,null,null,null,null,null,null,null,null,null,null,null,5,{"$f":"EmpDetail!B8","v":"lR;ukjk;.k 'kekZ"}]
[null,"fo\"k; & chek izek.k i= la[;k&                                ",null,868676,"Jh@Jhefr",{"$f":"N4","v":"d`\".kk xaxoky"},null,null,null,null,null,null,6,{"$f":"EmpDetail!B9","v":"iq\"ik tSu"}]
[null,"lqiq=@lqiq=h                                                                                    ","tXxk yky cSjok","dks ifjiDork jkf'k fnykus gsrqA",null,null,null,null,null,null,null,null,7,{"$f":"EmpDetail!B10","v":"vk'kkjke eh.kk"}]
[null,"        izlax & vkidk i= dzekad@,e1@chek LoRo@              ",null,null,null,null,null,null,null,null,null,null,8,{"$f":"EmpDetail!B11","v":"t;iky flag"}]
[null,"egksn;]",null,null,null,null,null,null,null,null,null,null,9,{"$f":"EmpDetail!B12","v":"jkeizlkn jsxj"}]
[null,"  mi;qZDr fo\"k;kUrxZr fuosnu gS fd mDr chesnkj dh chek ikWfylh fnukad          ",null,null,null,null,null,null,null,null,null,null,10,{"$f":"EmpDetail!B13","v":"egsUnz dqekj tkV"}]
[null,"2021-04-01","dks Hkqxrku gsrq ifjiDo gks jgh gS A ",null,null,null,null,null,null,null,null,null,11,{"$f":"EmpDetail!B14","v":"NksVw yky jsxj"}]
[null,"             vr% budk vkWuykbZu vkosnu i= lcfeV dj gkMZ dkWih bl i= ds lkFk ",null,null,null,null,null,null,null,null,null,null,12,{"$f":"EmpDetail!B15","v":"dUgS;k yky egkoj"}]
[null,"layXu dj lsokfiZr gSA ",null,null,null,null,null,null,null,null,null,null,13,{"$f":"EmpDetail!B16","v":"prqHkqZt tkV"}]
[null,null,"d`i;k bUgaas le; ij Hkqxrku fnykus dh d`ik djsaA",null,null,null,null,null,null,null,null,null,14,{"$f":"EmpDetail!B17","v":"vklsQk [kku"}]
[null,"layXu %& ",null,null,{"$f":"E26","v":"प्रधानाचार्य"},null,null,null,null,null,null,null,15,{"$f":"EmpDetail!B18","v":"lq'khyk cSjok"}]
[null,"1- vkWuykbZu vkosnu i= & 1 ",null,null,{"$f":"E27","v":"राजकीय उच्च माध्यमिक विद्यालय "},null,null,null,null,null,null,null,16,{"$f":"EmpDetail!B19","v":"txnh'k izlkn rsyh"}]
[null,"2- jkT; chek fjdkWMZ cqd ewy & 1",null,null,{"$f":"E28","v":"चौगाई]टोंक"},null,null,null,null,null,null,null,17,{"$f":"EmpDetail!B20","v":"jfoUnz dqekj tSu"}]
[null,"3- jkT; chek ikWfylh ewy & 1",null,null,null,null,null,null,null,null,null,null,18,{"$f":"EmpDetail!B21","v":" ';ke lqUnj ckxkSM"}]
[null,"4- inLFkkiuksa dk fooj.k ifjf'k\"V **d**&1",null,null,null,null,null,null,null,null,null,null,19,{"$f":"EmpDetail!B22","v":"d`\".kk 'kekZ"}]
[null,"5- th-,- 55 l= 2012&13 ls vc rd",null,null,null,null,null,null,null,null,null,null,20,{"$f":"EmpDetail!B23","v":"/keZsUnz pkS/kjh"}]
[null,"6- lsok fuo`fr@lsok i`Fkdj.k vkns'k & 1",null,null,null,null,null,null,null,null,null,null,21,{"$f":"EmpDetail!B24","v":"izgykn ekyh"}]
[null,"7-",null,null,{"$f":"Master!B2","v":"प्रधानाचार्य"},null,null,null,null,null,null,null,22,{"$f":"EmpDetail!B25","v":"jken;ky xqtZj"}]
[null,null,null,null,{"$f":"Master!B3","v":"राजकीय उच्च माध्यमिक विद्यालय "},null,null,null,null,null,null,null,23,{"$f":"EmpDetail!B26","v":"vkSeizdk'k tkV"}]
[null,null,null,null,{"$f":"Master!B4","v":"चौगाई]टोंक"},null,null,null,null,null,null,null,24,{"$f":"EmpDetail!B27","v":"vthr flag"}]
[null,null,null,null,null,null,null,null,null,null,null,null,25,{"$f":"EmpDetail!B28","v":"eq[rkj eha;k"}]
[null,null,null,null,null,null,null,null,null,null,null,null,26,{"$f":"EmpDetail!B29","v":"eks0 tehy "}]
[null,null,null,null,null,null,null,null,null,null,null,null,27,{"$f":"EmpDetail!B30","v":"lkaojey tkV"}]
[null,null,null,null,null,null,null,null,null,null,null,null,28,{"$f":"EmpDetail!B31","v":"pkS/kjh eksuk jkekorkj"}]
[null,null,null,null,null,null,null,null,null,null,null,null,29,{"$f":"EmpDetail!B32","v":"rkjkpUn tk;loky"}]
[null,null,null,null,null,null,null,null,null,null,null,null,30,{"$f":"EmpDetail!B33","v":"jketl ;kno"}]
[null,null,null,null,null,null,null,null,null,null,null,null,31,{"$f":"EmpDetail!B34","v":"dtksMey eh.kk"}]
[null,null,null,null,null,null,null,null,null,null,null,null,32,{"$f":"EmpDetail!B35","v":"/kaut; xkSRre"}]
[null,null,null,null,null,null,null,null,null,null,null,null,33,{"$f":"EmpDetail!B36","v":"d`\".kk xaxoky"}]
[null,null,null,null,null,null,null,null,null,null,null,null,34,{"$f":"EmpDetail!B37","v":"n'kjFk dqekj ;kno"}]
[null,null,null,null,null,null,null,null,null,null,null,null,35,{"$f":"EmpDetail!B38","v":"d`\".k yky tkV"}]
[null,null,null,null,null,null,null,null,null,null,null,null,36,{"$f":"EmpDetail!B39","v":"nhisUnz dqekj iztkir"}]
[null,null,null,null,null,null,null,null,null,null,null,null,37,{"$f":"EmpDetail!B40","v":"uohu dqekj"}]
[null,null,null,null,null,null,null,null,null,null,null,null,38,{"$f":"EmpDetail!B41","v":"ehrs'k dqekj 'kekZ"}]
[null,null,null,null,null,null,null,null,null,null,null,null,39,{"$f":"EmpDetail!B42","v":"eUtw eh.kk"}]
[null,null,null,null,null,null,null,null,null,null,null,null,40,{"$f":"EmpDetail!B43","v":"eatw pkS/kjh"}]
[null,null,null,null,null,null,null,null,null,null,null,null,41,{"$f":"EmpDetail!B44","v":0}]
[null,null,null,null,null,null,null,null,null,null,null,null,42,{"$f":"EmpDetail!B45","v":0}]
[null,null,null,null,null,null,null,null,null,null,null,null,43,{"$f":"EmpDetail!B46","v":0}]
[null,null,null,null,null,null,null,null,null,null,null,null,44,{"$f":"EmpDetail!B47","v":0}]
[null,null,null,null,null,null,null,null,null,null,null,null,45,{"$f":"EmpDetail!B48","v":0}]
[null,null,null,null,null,null,null,null,null,null,null,null,46,{"$f":"EmpDetail!B49","v":0}]
[null,null,null,null,null,null,null,null,null,null,null,null,47,{"$f":"EmpDetail!B50","v":0}]
[null,null,null,null,null,null,null,null,null,null,null,null,48,{"$f":"EmpDetail!B51","v":0}]
[null,null,null,null,null,null,null,null,null,null,null,null,49,{"$f":"EmpDetail!B52","v":0}]
[null,null,null,null,null,null,null,null,null,null,null,null,50,{"$f":"EmpDetail!B53","v":0}]
[null,null,null,null,null,null,null,null,null,null,null,null,51,{"$f":"EmpDetail!B54","v":0}]
[null,null,null,null,null,null,null,null,null,null,null,null,52,{"$f":"EmpDetail!B55","v":0}]
[null,null,null,null,null,null,null,null,null,null,null,null,53,{"$f":"EmpDetail!B56","v":0}]
[null,null,null,null,null,null,null,null,null,null,null,null,54,{"$f":"EmpDetail!B57","v":0}]
[null,null,null,null,null,null,null,null,null,null,null,null,55,{"$f":"EmpDetail!B58","v":0}]
[null,null,null,null,null,null,null,null,null,null,null,null,56,{"$f":"EmpDetail!B59","v":0}]
[null,null,null,null,null,null,null,null,null,null,null,null,57,{"$f":"EmpDetail!B60","v":0}]
[null,null,null,null,null,null,null,null,null,null,null,null,58,{"$f":"EmpDetail!B61","v":0}]
[null,null,null,null,null,null,null,null,null,null,null,null,59,{"$f":"EmpDetail!B62","v":0}]
[null,null,null,null,null,null,null,null,null,null,null,null,60,{"$f":"EmpDetail!B63","v":0}]
[null,null,null,null,null,null,null,null,null,null,null,null,61,{"$f":"EmpDetail!B64","v":0}]
[null,null,null,null,null,null,null,null,null,null,null,null,62,{"$f":"EmpDetail!B65","v":0}]
[null,null,null,null,null,null,null,null,null,null,null,null,63,{"$f":"EmpDetail!B66","v":0}]
[null,null,null,null,null,null,null,null,null,null,null,null,64,{"$f":"EmpDetail!B67","v":0}]
[null,null,null,null,null,null,null,null,null,null,null,null,65,{"$f":"EmpDetail!B68","v":0}]
[null,null,null,null,null,null,null,null,null,null,null,null,66,{"$f":"EmpDetail!B69","v":0}]
[null,null,null,null,null,null,null,null,null,null,null,null,67,{"$f":"EmpDetail!B70","v":0}]
[null,null,null,null,null,null,null,null,null,null,null,null,68,{"$f":"EmpDetail!B71","v":0}]
[null,null,null,null,null,null,null,null,null,null,null,null,69,{"$f":"EmpDetail!B72","v":0}]
[null,null,null,null,null,null,null,null,null,null,null,null,70,{"$f":"EmpDetail!B73","v":0}]
[null,null,null,null,null,null,null,null,null,null,null,null,71,{"$f":"EmpDetail!B74","v":0}]
[null,null,null,null,null,null,null,null,null,null,null,null,72,{"$f":"EmpDetail!B75","v":0}]
[null,null,null,null,null,null,null,null,null,null,null,null,73,{"$f":"EmpDetail!B76","v":0}]
[null,null,null,null,null,null,null,null,null,null,null,null,74,{"$f":"EmpDetail!B77","v":0}]
[null,null,null,null,null,null,null,null,null,null,null,null,75,{"$f":"EmpDetail!B78","v":0}]
[null,null,null,null,null,null,null,null,null,null,null,null,76,{"$f":"EmpDetail!B79","v":0}]
[null,null,null,null,null,null,null,null,null,null,null,null,77,{"$f":"EmpDetail!B80","v":0}]
[null,null,null,null,null,null,null,null,null,null,null,null,78,{"$f":"EmpDetail!B81","v":0}]
[null,null,null,null,null,null,null,null,null,null,null,null,79,{"$f":"EmpDetail!B82","v":0}]
[null,null,null,null,null,null,null,null,null,null,null,null,80,{"$f":"EmpDetail!B83","v":0}]
[null,null,null,null,null,null,null,null,null,null,null,null,81,{"$f":"EmpDetail!B84","v":0}]
[null,null,null,null,null,null,null,null,null,null,null,null,82,{"$f":"EmpDetail!B85","v":0}]
[null,null,null,null,null,null,null,null,null,null,null,null,83,{"$f":"EmpDetail!B86","v":0}]
[null,null,null,null,null,null,null,null,null,null,null,null,84,{"$f":"EmpDetail!B87","v":0}]
[null,null,null,null,null,null,null,null,null,null,null,null,85,{"$f":"EmpDetail!B88","v":0}]
[null,null,null,null,null,null,null,null,null,null,null,null,86,{"$f":"EmpDetail!B89","v":0}]
[null,null,null,null,null,null,null,null,null,null,null,null,87,{"$f":"EmpDetail!B90","v":0}]
[null,null,null,null,null,null,null,null,null,null,null,null,88,{"$f":"EmpDetail!B91","v":0}]
[null,null,null,null,null,null,null,null,null,null,null,null,89,{"$f":"EmpDetail!B92","v":0}]
[null,null,null,null,null,null,null,null,null,null,null,null,90,{"$f":"EmpDetail!B93","v":0}]
[null,null,null,null,null,null,null,null,null,null,null,null,91,{"$f":"EmpDetail!B94","v":0}]
[null,null,null,null,null,null,null,null,null,null,null,null,92,{"$f":"EmpDetail!B95","v":0}]
[null,null,null,null,null,null,null,null,null,null,null,null,93,{"$f":"EmpDetail!B96","v":0}]
[null,null,null,null,null,null,null,null,null,null,null,null,94,{"$f":"EmpDetail!B97","v":0}]
[null,null,null,null,null,null,null,null,null,null,null,null,95,{"$f":"EmpDetail!B98","v":0}]
[null,null,null,null,null,null,null,null,null,null,null,null,96,{"$f":"EmpDetail!B99","v":0}]
[null,null,null,null,null,null,null,null,null,null,null,null,97,{"$f":"EmpDetail!B100","v":0}]
[null,null,null,null,null,null,null,null,null,null,null,null,98,{"$f":"EmpDetail!B101","v":0}]
[null,null,null,null,null,null,null,null,null,null,null,null,99,{"$f":"EmpDetail!B102","v":0}]
[null,null,null,null,null,null,null,null,null,null,null,null,100,{"$f":"EmpDetail!B103","v":0}]

{"sheet":"GPF Forwrd","index":55,"n_rows":104,"n_cols":16,"rows_kept":104,"cut":false,"hidden":true,"merged":[[4,9,4,11],[11,0,11,2],[24,0,24,1],[25,2,25,4],[26,2,26,4],[9,2,9,4],[0,0,0,4],[5,0,5,1],[6,0,6,1],[7,0,7,1],[27,2,27,4],[15,0,15,3],[19,0,19,1],[20,0,20,1],[21,0,21,1],[22,0,22,1],[23,0,23,1]]}
[{"$f":"Master!G2&Master!H2","v":"कार्यालय&राजकीय उच्च माध्यमिक विद्यालय ]चौगाई]टोंक"}]
[{"$f":"\"Sr.No.-\"&Master!H3&Master!I3&Master!J3&Master!E3&\"/\"","v":"Sr.No.-राउमावि/चौगाई/संस्था/2021-22/"},null,null,"fnukad&",{"$f":"TODAY()","v":"2021-06-19"}]
["vkWuykbZu vkosnu i= dzekad&                            ",12345,null,"fnukad&","2021-05-10"]
["EMPLOYEE ID-","RJTO198836028883",null,null,null,null,null,null,null,null,null,null,null,{"$f":"IF(ISNA(VLOOKUP($K6,$M$5:$R$104,2,FALSE)),\"\",VLOOKUP($K6,$M$5:$R$104,2,FALSE))","v":"d`\".kk xaxoky"},{"$f":"IF(ISNA(VLOOKUP($K6,$M$5:$R$104,4,FALSE)),\"\",VLOOKUP($K6,$M$5:$R$104,4,FALSE))","v":"2055-06-30"}]
["lsok esa]",null,null,null,null,null,null,null,null,"dkfeZd dk dzekad fy[ksa",null,null,1,{"$f":"EmpDetail!B4","v":"fd'ku yky cSjok"},{"$f":"EmpDetail!E4","v":"1962-01-10"},{"$f":"IF(O5=\"\",\"\",DATE(YEAR(O5-1)+60,(MONTH(O5-1))+1,0))","v":"2022-01-31"}]
["Jheku~ mifuns'kd egksn;",null,null,null,null,null,null,null,null,null,33,null,2,{"$f":"EmpDetail!B5","v":"iwj.k pUn y{kdkj"},{"$f":"EmpDetail!E5","v":"1971-07-08"},{"$f":"IF(O6=\"\",\"\",DATE(YEAR(O6-1)+60,(MONTH(O6-1))+1,0))","v":"2031-07-31"}]
[" jkT; chek ,oa izko/kk;h fu/kh foHkkx",null,null,null,null,null,null,null,null,null,null,null,3,{"$f":"EmpDetail!B6","v":"jktsUnz dqekj tSu"},{"$f":"EmpDetail!E6","v":"1968-09-14"},"2028-09-30"]
["Vksad",null,null,null,null,null,null,null,null,null,null,null,4,{"$f":"EmpDetail!B7","v":"fd'ku yky cSjok"},{"$f":"EmpDetail!E7","v":"1974-07-07"},"2034-07-31"]
[null,null,null,null,null,null,null,null,null,null,null,null,5,{"$f":"EmpDetail!B8","v":"lR;ukjk;.k 'kekZ"},{"$f":"EmpDetail!E8","v":"1962-07-01"},"2022-06-30"]
[" fo\"k; & th-ih-,Q-[kkrk la[;k&                                 ",1256789,{"$f":"N4","v":"d`\".kk xaxoky"},null,null,null,null,null,null,null,null,null,6,{"$f":"EmpDetail!B9","v":"iq\"ik tSu"},{"$f":"EmpDetail!E9","v":"1964-04-10"},"2024-04-30"]
["           lqiq=@lqiq=h Jh                                                                                   ","tXxk yky cSjok","dks vfUre Hkqxrku jkf'k fnykus gsrqA",null,null,null,null,null,null,null,null,null,7,{"$f":"EmpDetail!B10","v":"vk'kkjke eh.kk"},{"$f":"EmpDetail!E10","v":"1978-06-11"},"2038-06-30"]
["          izlax & vkidk i= dzekad@             ",null,null,null,null,null,null,null,null,null,null,null,8,{"$f":"EmpDetail!B11","v":"t;iky flag"},{"$f":"EmpDetail!E11","v":"1972-02-02"},"2032-02-29"]
["egksn;]",null,null,null,null,null,null,null,null,null,null,null,9,{"$f":"EmpDetail!B12","v":"jkeizlkn jsxj"},{"$f":"EmpDetail!E12","v":"1978-06-01"},"2038-05-31"]
["             mi;qZDr fo\"k;kUrxZr fuosnu gS fd mDr [kkrsnkj dh lsokfuo`fr@lsok lekfIr fnukad ",null,null,null,null,null,null,null,null,null,null,null,10,{"$f":"EmpDetail!B13","v":"egsUnz dqekj tkV"},{"$f":"EmpDetail!E13","v":"1976-01-30"},"2036-01-31"]
[{"$f":"O4","v":"2055-06-30"}," dks gks xbZ gS @ gks jgh gS A   ",null,null,null,null,null,null,null,null,null,null,11,{"$f":"EmpDetail!B14","v":"NksVw yky jsxj"},{"$f":"EmpDetail!E14","v":"1967-07-10"},"2027-07-31"]
["                     vr% budk vkWuykbZu vkosnu i= lcfeV dj gkMZ dkWih bl i= ds lkFk ",null,null,null,null,null,null,null,null,null,null,null,12,{"$f":"EmpDetail!B15","v":"dUgS;k yky egkoj"},{"$f":"EmpDetail!E15","v":"1962-04-05"},"2022-04-30"]
["layXu dj lsokfiZr gSA ",null,null,null,null,null,null,null,null,null,null,null,13,{"$f":"EmpDetail!B16","v":"prqHkqZt tkV"},{"$f":"EmpDetail!E16","v":"1976-04-04"},"2036-04-30"]
[null,"d`i;k bUgaas le; ij Hkqxrku fnykus dh d`ik djsaA",null,null,null,null,null,null,null,null,null,null,14,{"$f":"EmpDetail!B17","v":"vklsQk [kku"},{"$f":"EmpDetail!E17","v":"1971-01-10"},"2031-01-31"]
["layXu & ",null,null,null,null,null,null,null,null,null,null,null,15,{"$f":"EmpDetail!B18","v":"lq'khyk cSjok"},{"$f":"EmpDetail!E18","v":"1995-01-01"},"2054-12-31"]
["1- vkWuykbZu vkosnu i= & 1 ",null,null,null,null,null,null,null,null,null,null,null,16,{"$f":"EmpDetail!B19","v":"txnh'k izlkn rsyh"},{"$f":"EmpDetail!E19","v":"1962-06-04"},"2022-06-30"]
["2- th-ih-,Q-ikl cqd ewy & 1",null,null,null,null,null,null,null,null,null,null,null,17,{"$f":"EmpDetail!B20","v":"jfoUnz dqekj tSu"},{"$f":"EmpDetail!E20","v":"1967-08-24"},"2027-08-31"]
["3- 'kiFk i= LVkEi isij ij ewy & 1",null,null,null,null,null,null,null,null,null,null,null,18,{"$f":"EmpDetail!B21","v":" ';ke lqUnj ckxkSM"},{"$f":"EmpDetail!E21","v":"1983-08-10"},"2043-08-31"]
["4- th-,- 55 l= 2012&13 ls vc rd",null,null,null,null,null,null,null,null,null,null,null,19,{"$f":"EmpDetail!B22","v":"d`\".kk 'kekZ"},{"$f":"EmpDetail!E22","v":"1972-08-06"},"2032-08-31"]
["5- lsok fuo`fr@lsok i`FkDdj.k vkns'k & 1",null,null,null,null,null,null,null,null,null,null,null,20,{"$f":"EmpDetail!B23","v":"/keZsUnz pkS/kjh"},{"$f":"EmpDetail!E23","v":"1990-03-05"},"2050-03-31"]
["6-",null,null,null,null,null,null,null,null,null,null,null,21,{"$f":"EmpDetail!B24","v":"izgykn ekyh"},{"$f":"EmpDetail!E24","v":"1974-08-07"},"2034-08-31"]
[null,null,{"$f":"Master!B2","v":"प्रधानाचार्य"},null,null,null,null,null,null,null,null,null,22,{"$f":"EmpDetail!B25","v":"jken;ky xqtZj"},{"$f":"EmpDetail!E25","v":"1977-08-18"},"2037-08-31"]
[null,null,{"$f":"Master!B3","v":"राजकीय उच्च माध्यमिक विद्यालय "},null,null,null,null,null,null,null,null,null,23,{"$f":"EmpDetail!B26","v":"vkSeizdk'k tkV"},{"$f":"EmpDetail!E26","v":"1982-10-31"},"2042-10-31"]
[null,null,{"$f":"Master!B4","v":"चौगाई]टोंक"},null,null,null,null,null,null,null,null,null,24,{"$f":"EmpDetail!B27","v":"vthr flag"},{"$f":"EmpDetail!E27","v":"1987-08-08"},"2047-08-31"]
[null,null,null,null,null,null,null,null,null,null,null,null,25,{"$f":"EmpDetail!B28","v":"eq[rkj eha;k"},{"$f":"EmpDetail!E28","v":"1976-07-04"},"2036-07-31"]
[null,null,null,null,null,null,null,null,null,null,null,null,26,{"$f":"EmpDetail!B29","v":"eks0 tehy "},{"$f":"EmpDetail!E29","v":"1968-09-15"},"2028-09-30"]
[null,null,null,null,null,null,null,null,null,null,null,null,27,{"$f":"EmpDetail!B30","v":"lkaojey tkV"},{"$f":"EmpDetail!E30","v":"1992-03-03"},"2052-03-31"]
[null,null,null,null,null,null,null,null,null,null,null,null,28,{"$f":"EmpDetail!B31","v":"pkS/kjh eksuk jkekorkj"},{"$f":"EmpDetail!E31","v":"1990-01-05"},"2050-01-31"]
[null,null,null,null,null,null,null,null,null,null,null,null,29,{"$f":"EmpDetail!B32","v":"rkjkpUn tk;loky"},{"$f":"EmpDetail!E32","v":"1976-11-11"},"2036-11-30"]
[null,null,null,null,null,null,null,null,null,null,null,null,30,{"$f":"EmpDetail!B33","v":"jketl ;kno"},{"$f":"EmpDetail!E33","v":"1970-06-12"},"2030-06-30"]
[null,null,null,null,null,null,null,null,null,null,null,null,31,{"$f":"EmpDetail!B34","v":"dtksMey eh.kk"},{"$f":"EmpDetail!E34","v":"1990-07-01"},"2050-06-30"]
[null,null,null,null,null,null,null,null,null,null,null,null,32,{"$f":"EmpDetail!B35","v":"/kaut; xkSRre"},{"$f":"EmpDetail!E35","v":"1986-08-25"},"2046-08-31"]
[null,null,null,null,null,null,null,null,null,null,null,null,33,{"$f":"EmpDetail!B36","v":"d`\".kk xaxoky"},{"$f":"EmpDetail!E36","v":"1995-06-20"},"2055-06-30"]
[null,null,null,null,null,null,null,null,null,null,null,null,34,{"$f":"EmpDetail!B37","v":"n'kjFk dqekj ;kno"},{"$f":"EmpDetail!E37","v":"1991-01-01"},"2050-12-31"]
[null,null,null,null,null,null,null,null,null,null,null,null,35,{"$f":"EmpDetail!B38","v":"d`\".k yky tkV"},{"$f":"EmpDetail!E38","v":"1990-07-18"},"2050-07-31"]
[null,null,null,null,null,null,null,null,null,null,null,null,36,{"$f":"EmpDetail!B39","v":"nhisUnz dqekj iztkir"},{"$f":"EmpDetail!E39","v":"1994-07-12"},"2054-07-31"]
[null,null,null,null,null,null,null,null,null,null,null,null,37,{"$f":"EmpDetail!B40","v":"uohu dqekj"},{"$f":"EmpDetail!E40","v":"1995-04-13"},"2055-04-30"]
[null,null,null,null,null,null,null,null,null,null,null,null,38,{"$f":"EmpDetail!B41","v":"ehrs'k dqekj 'kekZ"},{"$f":"EmpDetail!E41","v":"1989-08-13"},"2049-08-31"]
[null,null,null,null,null,null,null,null,null,null,null,null,39,{"$f":"EmpDetail!B42","v":"eUtw eh.kk"},{"$f":"EmpDetail!E42","v":"1991-01-06"},"2051-01-31"]
[null,null,null,null,null,null,null,null,null,null,null,null,40,{"$f":"EmpDetail!B43","v":"eatw pkS/kjh"},{"$f":"EmpDetail!E43","v":"1991-08-04"},"2051-08-31"]
[null,null,null,null,null,null,null,null,null,null,null,null,41,{"$f":"EmpDetail!B44","v":0},{"$f":"EmpDetail!E44","v":"00:00:00"},{"$error":"#NUM!"}]
[null,null,null,null,null,null,null,null,null,null,null,null,42,{"$f":"EmpDetail!B45","v":0},{"$f":"EmpDetail!E45","v":"00:00:00"},{"$error":"#NUM!"}]
[null,null,null,null,null,null,null,null,null,null,null,null,43,{"$f":"EmpDetail!B46","v":0},{"$f":"EmpDetail!E46","v":"00:00:00"},{"$error":"#NUM!"}]
[null,null,null,null,null,null,null,null,null,null,null,null,44,{"$f":"EmpDetail!B47","v":0},{"$f":"EmpDetail!E47","v":"00:00:00"},{"$error":"#NUM!"}]
[null,null,null,null,null,null,null,null,null,null,null,null,45,{"$f":"EmpDetail!B48","v":0},{"$f":"EmpDetail!E48","v":"00:00:00"},{"$error":"#NUM!"}]
[null,null,null,null,null,null,null,null,null,null,null,null,46,{"$f":"EmpDetail!B49","v":0},{"$f":"EmpDetail!E49","v":"00:00:00"},{"$error":"#NUM!"}]
[null,null,null,null,null,null,null,null,null,null,null,null,47,{"$f":"EmpDetail!B50","v":0},{"$f":"EmpDetail!E50","v":"00:00:00"},{"$error":"#NUM!"}]
[null,null,null,null,null,null,null,null,null,null,null,null,48,{"$f":"EmpDetail!B51","v":0},{"$f":"EmpDetail!E51","v":"00:00:00"},{"$error":"#NUM!"}]
[null,null,null,null,null,null,null,null,null,null,null,null,49,{"$f":"EmpDetail!B52","v":0},{"$f":"EmpDetail!E52","v":"00:00:00"},{"$error":"#NUM!"}]
[null,null,null,null,null,null,null,null,null,null,null,null,50,{"$f":"EmpDetail!B53","v":0},{"$f":"EmpDetail!E53","v":"00:00:00"},{"$error":"#NUM!"}]
[null,null,null,null,null,null,null,null,null,null,null,null,51,{"$f":"EmpDetail!B54","v":0},{"$f":"EmpDetail!E54","v":"00:00:00"},{"$error":"#NUM!"}]
[null,null,null,null,null,null,null,null,null,null,null,null,52,{"$f":"EmpDetail!B55","v":0},{"$f":"EmpDetail!E55","v":"00:00:00"},{"$error":"#NUM!"}]
[null,null,null,null,null,null,null,null,null,null,null,null,53,{"$f":"EmpDetail!B56","v":0},{"$f":"EmpDetail!E56","v":"00:00:00"},{"$error":"#NUM!"}]
[null,null,null,null,null,null,null,null,null,null,null,null,54,{"$f":"EmpDetail!B57","v":0},{"$f":"EmpDetail!E57","v":"00:00:00"},{"$error":"#NUM!"}]
[null,null,null,null,null,null,null,null,null,null,null,null,55,{"$f":"EmpDetail!B58","v":0},{"$f":"EmpDetail!E58","v":"00:00:00"},{"$error":"#NUM!"}]
[null,null,null,null,null,null,null,null,null,null,null,null,56,{"$f":"EmpDetail!B59","v":0},{"$f":"EmpDetail!E59","v":"00:00:00"},{"$error":"#NUM!"}]
[null,null,null,null,null,null,null,null,null,null,null,null,57,{"$f":"EmpDetail!B60","v":0},{"$f":"EmpDetail!E60","v":"00:00:00"},{"$error":"#NUM!"}]
[null,null,null,null,null,null,null,null,null,null,null,null,58,{"$f":"EmpDetail!B61","v":0},{"$f":"EmpDetail!E61","v":"00:00:00"},{"$error":"#NUM!"}]
[null,null,null,null,null,null,null,null,null,null,null,null,59,{"$f":"EmpDetail!B62","v":0},{"$f":"EmpDetail!E62","v":"00:00:00"},{"$error":"#NUM!"}]
[null,null,null,null,null,null,null,null,null,null,null,null,60,{"$f":"EmpDetail!B63","v":0},{"$f":"EmpDetail!E63","v":"00:00:00"},{"$error":"#NUM!"}]
[null,null,null,null,null,null,null,null,null,null,null,null,61,{"$f":"EmpDetail!B64","v":0},{"$f":"EmpDetail!E64","v":"00:00:00"},{"$error":"#NUM!"}]
[null,null,null,null,null,null,null,null,null,null,null,null,62,{"$f":"EmpDetail!B65","v":0},{"$f":"EmpDetail!E65","v":"00:00:00"},{"$error":"#NUM!"}]
[null,null,null,null,null,null,null,null,null,null,null,null,63,{"$f":"EmpDetail!B66","v":0},{"$f":"EmpDetail!E66","v":"00:00:00"},{"$error":"#NUM!"}]
[null,null,null,null,null,null,null,null,null,null,null,null,64,{"$f":"EmpDetail!B67","v":0},{"$f":"EmpDetail!E67","v":"00:00:00"},{"$error":"#NUM!"}]
[null,null,null,null,null,null,null,null,null,null,null,null,65,{"$f":"EmpDetail!B68","v":0},{"$f":"EmpDetail!E68","v":"00:00:00"},{"$error":"#NUM!"}]
[null,null,null,null,null,null,null,null,null,null,null,null,66,{"$f":"EmpDetail!B69","v":0},{"$f":"EmpDetail!E69","v":"00:00:00"},{"$f":"IF(O70=\"\",\"\",DATE(YEAR(O70-1)+60,(MONTH(O70-1))+1,0))","v":{"$error":"#NUM!"}}]
[null,null,null,null,null,null,null,null,null,null,null,null,67,{"$f":"EmpDetail!B70","v":0},{"$f":"EmpDetail!E70","v":"00:00:00"},{"$error":"#NUM!"}]
[null,null,null,null,null,null,null,null,null,null,null,null,68,{"$f":"EmpDetail!B71","v":0},{"$f":"EmpDetail!E71","v":"00:00:00"},{"$error":"#NUM!"}]
[null,null,null,null,null,null,null,null,null,null,null,null,69,{"$f":"EmpDetail!B72","v":0},{"$f":"EmpDetail!E72","v":"00:00:00"},{"$error":"#NUM!"}]
[null,null,null,null,null,null,null,null,null,null,null,null,70,{"$f":"EmpDetail!B73","v":0},{"$f":"EmpDetail!E73","v":"00:00:00"},{"$error":"#NUM!"}]
[null,null,null,null,null,null,null,null,null,null,null,null,71,{"$f":"EmpDetail!B74","v":0},{"$f":"EmpDetail!E74","v":"00:00:00"},{"$error":"#NUM!"}]
[null,null,null,null,null,null,null,null,null,null,null,null,72,{"$f":"EmpDetail!B75","v":0},{"$f":"EmpDetail!E75","v":"00:00:00"},{"$error":"#NUM!"}]
[null,null,null,null,null,null,null,null,null,null,null,null,73,{"$f":"EmpDetail!B76","v":0},{"$f":"EmpDetail!E76","v":"00:00:00"},{"$error":"#NUM!"}]
[null,null,null,null,null,null,null,null,null,null,null,null,74,{"$f":"EmpDetail!B77","v":0},{"$f":"EmpDetail!E77","v":"00:00:00"},{"$error":"#NUM!"}]
[null,null,null,null,null,null,null,null,null,null,null,null,75,{"$f":"EmpDetail!B78","v":0},{"$f":"EmpDetail!E78","v":"00:00:00"},{"$error":"#NUM!"}]
[null,null,null,null,null,null,null,null,null,null,null,null,76,{"$f":"EmpDetail!B79","v":0},{"$f":"EmpDetail!E79","v":"00:00:00"},{"$error":"#NUM!"}]
[null,null,null,null,null,null,null,null,null,null,null,null,77,{"$f":"EmpDetail!B80","v":0},{"$f":"EmpDetail!E80","v":"00:00:00"},{"$error":"#NUM!"}]
[null,null,null,null,null,null,null,null,null,null,null,null,78,{"$f":"EmpDetail!B81","v":0},{"$f":"EmpDetail!E81","v":"00:00:00"},{"$error":"#NUM!"}]
[null,null,null,null,null,null,null,null,null,null,null,null,79,{"$f":"EmpDetail!B82","v":0},{"$f":"EmpDetail!E82","v":"00:00:00"},{"$error":"#NUM!"}]
[null,null,null,null,null,null,null,null,null,null,null,null,80,{"$f":"EmpDetail!B83","v":0},{"$f":"EmpDetail!E83","v":"00:00:00"},{"$error":"#NUM!"}]
[null,null,null,null,null,null,null,null,null,null,null,null,81,{"$f":"EmpDetail!B84","v":0},{"$f":"EmpDetail!E84","v":"00:00:00"},{"$error":"#NUM!"}]
[null,null,null,null,null,null,null,null,null,null,null,null,82,{"$f":"EmpDetail!B85","v":0},{"$f":"EmpDetail!E85","v":"00:00:00"},{"$error":"#NUM!"}]
[null,null,null,null,null,null,null,null,null,null,null,null,83,{"$f":"EmpDetail!B86","v":0},{"$f":"EmpDetail!E86","v":"00:00:00"},{"$error":"#NUM!"}]
[null,null,null,null,null,null,null,null,null,null,null,null,84,{"$f":"EmpDetail!B87","v":0},{"$f":"EmpDetail!E87","v":"00:00:00"},{"$error":"#NUM!"}]
[null,null,null,null,null,null,null,null,null,null,null,null,85,{"$f":"EmpDetail!B88","v":0},{"$f":"EmpDetail!E88","v":"00:00:00"},{"$error":"#NUM!"}]
[null,null,null,null,null,null,null,null,null,null,null,null,86,{"$f":"EmpDetail!B89","v":0},{"$f":"EmpDetail!E89","v":"00:00:00"},{"$error":"#NUM!"}]
[null,null,null,null,null,null,null,null,null,null,null,null,87,{"$f":"EmpDetail!B90","v":0},{"$f":"EmpDetail!E90","v":"00:00:00"},{"$error":"#NUM!"}]
[null,null,null,null,null,null,null,null,null,null,null,null,88,{"$f":"EmpDetail!B91","v":0},{"$f":"EmpDetail!E91","v":"00:00:00"},{"$error":"#NUM!"}]
[null,null,null,null,null,null,null,null,null,null,null,null,89,{"$f":"EmpDetail!B92","v":0},{"$f":"EmpDetail!E92","v":"00:00:00"},{"$error":"#NUM!"}]
[null,null,null,null,null,null,null,null,null,null,null,null,90,{"$f":"EmpDetail!B93","v":0},{"$f":"EmpDetail!E93","v":"00:00:00"},{"$error":"#NUM!"}]
[null,null,null,null,null,null,null,null,null,null,null,null,91,{"$f":"EmpDetail!B94","v":0},{"$f":"EmpDetail!E94","v":"00:00:00"},{"$error":"#NUM!"}]
[null,null,null,null,null,null,null,null,null,null,null,null,92,{"$f":"EmpDetail!B95","v":0},{"$f":"EmpDetail!E95","v":"00:00:00"},{"$error":"#NUM!"}]
[null,null,null,null,null,null,null,null,null,null,null,null,93,{"$f":"EmpDetail!B96","v":0},{"$f":"EmpDetail!E96","v":"00:00:00"},{"$error":"#NUM!"}]
[null,null,null,null,null,null,null,null,null,null,null,null,94,{"$f":"EmpDetail!B97","v":0},{"$f":"EmpDetail!E97","v":"00:00:00"},{"$error":"#NUM!"}]
[null,null,null,null,null,null,null,null,null,null,null,null,95,{"$f":"EmpDetail!B98","v":0},{"$f":"EmpDetail!E98","v":"00:00:00"},{"$error":"#NUM!"}]
[null,null,null,null,null,null,null,null,null,null,null,null,96,{"$f":"EmpDetail!B99","v":0},{"$f":"EmpDetail!E99","v":"00:00:00"},{"$error":"#NUM!"}]
[null,null,null,null,null,null,null,null,null,null,null,null,97,{"$f":"EmpDetail!B100","v":0},{"$f":"EmpDetail!E100","v":"00:00:00"},{"$error":"#NUM!"}]
[null,null,null,null,null,null,null,null,null,null,null,null,98,{"$f":"EmpDetail!B101","v":0},{"$f":"EmpDetail!E101","v":"00:00:00"},{"$error":"#NUM!"}]
[null,null,null,null,null,null,null,null,null,null,null,null,99,{"$f":"EmpDetail!B102","v":0},{"$f":"EmpDetail!E102","v":"00:00:00"},{"$error":"#NUM!"}]
[null,null,null,null,null,null,null,null,null,null,null,null,100,{"$f":"EmpDetail!B103","v":0},{"$f":"EmpDetail!E103","v":"00:00:00"},{"$error":"#NUM!"}]

{"sheet":"SI Maturity","index":56,"n_rows":11,"n_cols":6,"rows_kept":11,"cut":false,"hidden":true,"merged":[[6,1,6,18],[7,1,7,18],[9,5,9,7],[10,1,10,17],[0,0,0,18],[1,1,1,18],[2,1,2,11],[3,1,3,18],[4,1,4,18],[5,1,5,18]]}
["jkT; chek nkok"]
["1-","ftl dkfeZd dh lsokfuo`fRr gks jgh gS mlds osru ls lsokfuo`fRr ekg ls iwoZ vkus okys ekpZ ls igys rhu efgus iwoZ ,lvkbZ dh dVkSfr cUn dj ns "]
[null,"rkfd vizsy ekg esa rqjUr Hkqxrku fey lds A"]
["2-","3 ekg iwoZ gh dkfeZd dh SSO ID ls ,lvkbZ nkok vkWuykbZu lcfeV djokuk gS A"]
["3-","dkfeZd dh SSO ID ls ,lvkbZ nkok vkWuykbZu lcfeV djrs le; v|ru dh gqbZ ,lvkbZ iklcqd o ,lvkbZ ckW.M dks viyksM djuk gS A"]
["4-","nkok vkWuykbZu lcfeV djrs le; dkfeZd ds ikl vk/kkj vksVhih vk;sxh ftldks Mkyus ij dkfeZd dk nkok vkWuykbZu gh osjhQkbZ gks tk;sxk A"]
["5-","nkok izi= ij gLrk{kj dj ,lvkbZ iklcqd] {kfriwfrZ ckW.M] ,lvkbZ ckW.M] fujLr psd o cSad ikl cqd] th,&55, ,ao ifjf'k\"V&d ds lkFk lacaf/kr MhMhvks dks izLrqr djsa "]
["6-","MhMhvks ls nkos dks QkWjoMZ djok;s ,oa gkMZ dkWih thih,Q dk;kZy; Hkstsa A"]
[]
[null,null,null,null,null,"RPMF Deduction"]
[null,"vkjih,e,Q dh dVksfr lsokfuo`fRr ds vafre ekg rd gksrh gS bldk dksbZ Dyse ugha feyrk gS A"]

{"sheet":"GPF Maturity","index":57,"n_rows":8,"n_cols":2,"rows_kept":8,"cut":false,"hidden":true,"merged":[[7,1,7,18],[0,0,0,18],[1,1,1,18],[3,1,3,18],[4,1,4,18],[5,1,5,18],[6,1,6,18],[2,1,2,17]]}
["lkekU; izko/kk; fuf/k nkok"]
[1,"ftl dkfeZd dh lsokfuo`fRr gks jgh gS mlds osru ls lsokfuo`fRr ds 3 ekg iwoZ ¼lsokfuo`fRr ekg lfgr½ thih,Q dh dVkSfr cUn dj ns rkfd lsokfuo`fRr ij rqjUr Hkqxrku fey lds A"]
[2,";fn fdlh dkfeZd dh lsok esa jgrs e`R;q gks tkrh gS rks mlds vafre osru ls dsoy RPMF/NPS dh gh dVkSrh gksxh vU; dVkSfr;ksa dks Delete dj nsa A"]
[3,"lsokfuo`fRr ds 3 ekg iwoZ dkfeZd dh SSO ID ls thih,Q nkok vkWuykbZu lcfeV djokuk gS A"]
[4,"dkfeZd dh SSO ID ls thih,Q nkok vkWuykbZu lcfeV djrs le; v|ru dh gqbZ thih,Q iklcqd ,oa {kfriwfrZ ckW.M dks Hkh viyksM djuk gS A"]
[5,"nkok vkWuykbZu lcfeV djrs le; dkfeZd ds ikl vk/kkj vksVhih vk;sxh ftldks Mkyus ij dkfeZd dk nkok vkWuykbZu gh osjhQkbZ gks tk;sxk A"]
[6,"nkok izi= ij gLrk{kj dj thih,Q iklcqd ,oa {kfriwfrZ ckW.M] fujLr psd o cSad ikl cqd ds lkFk lacaf/kr MhMhvks dks izLrqr djsa A"]
[7,"MhMhvks ls nkos dks QkWjoMZ djok;s A"]

{"sheet":"Demand Mail","index":58,"n_rows":10,"n_cols":4,"rows_kept":10,"cut":false,"hidden":true,"merged":[[0,0,0,3],[1,0,1,3]]}
["Mail Addrress of Pension Deptt Rajasthan"]
["jktLFkku ds laHkkxokj isa'ku foHkkxksa ds esy ,Mjsl fuEukuqlkj gSa&"]
["S.No","Name of Office","Mail Address1","Mail Address2"]
[1,"Pension Department Jaipur","dir-pen-rj@nic.in",0]
[2,"JD Office Jodhpur","jdpen-jod-rj@nic.in",0]
[3,"JD Office Bikaner","jdpenbik@gmail.com",0]
[4,"JD Office Ajmer","jdpensionajmer@yahoo.co.in",0]
[5,"JD Office Udaipur","jdpensionudaipur123@gmail.com","jdpension.udaipur@rajasthan.gov.in"]
[6,"JD Office Bharatpur","jdpensionbharatpur@gmail.com",0]
[7,"JD Office Kota","jdpension.kota@rajasthan.gov.in","jdpension@hotmail.com"]

{"sheet":"Treasury Affaid","index":59,"n_rows":104,"n_cols":18,"rows_kept":104,"cut":false,"hidden":true,"merged":[[4,9,4,11],[29,1,29,2],[33,3,33,7],[35,0,35,8],[36,1,36,2],[20,0,20,2],[13,0,13,7],[14,2,14,4],[14,6,14,8],[15,3,15,8],[16,0,16,3],[17,4,17,8],[18,1,18,2],[18,4,18,6],[19,0,19,1],[19,3,19,6],[19,7,19,8],[37,1,37,3],[38,5,38,7],[32,2,32,4],[32,6,32,8],[21,0,21,8],[22,0,22,8],[23,0,23,8],[24,0,24,8],[25,0,25,5],[26,0,26,8],[27,0,27,3],[28,1,28,2],[30,5,30,7],[31,0,31,7]]}
[]
[]
[]
[null,null,null,null,null,null,null,null,null,null,null,null,null,{"$f":"IF(ISNA(VLOOKUP($K6,$M$5:$R$104,2,FALSE)),\"\",VLOOKUP($K6,$M$5:$R$104,2,FALSE))","v":"d`\".kk xaxoky"},{"$f":"IF(ISNA(VLOOKUP($K6,$M$5:$R$104,3,FALSE)),\"\",VLOOKUP($K6,$M$5:$R$104,3,FALSE))","v":"अध्यापक ग्रेड III"},{"$f":"IF(ISNA(VLOOKUP($K6,$M$5:$R$104,4,FALSE)),\"\",VLOOKUP($K6,$M$5:$R$104,4,FALSE))","v":"राउप्रावि गोरधनपुरा"},{"$f":"IF(ISNA(VLOOKUP($K6,$M$5:$R$104,6,FALSE)),\"\",VLOOKUP($K6,$M$5:$R$104,6,FALSE))","v":"2055-06-30"}]
[null,null,null,null,null,null,null,null,null,"dkfeZd dk dzekad fy[ksa",null,null,1,{"$f":"EmpDetail!B4","v":"fd'ku yky cSjok"},{"$f":"EmpDetail!C4","v":"प्रधानाचार्य"},{"$f":"EmpDetail!D4","v":"राउमावि चौगाई"},{"$f":"EmpDetail!E4","v":"1962-01-10"},{"$f":"IF(Q5=\"\",\"\",DATE(YEAR(Q5-1)+60,(MONTH(Q5-1))+1,0))","v":"2022-01-31"}]
[null,null,null,null,null,null,null,null,null,null,33,null,2,{"$f":"EmpDetail!B5","v":"iwj.k pUn y{kdkj"},{"$f":"EmpDetail!C5","v":"व्याख्याता"},{"$f":"EmpDetail!D5","v":"राउमावि चौगाई"},{"$f":"EmpDetail!E5","v":"1971-07-08"},{"$f":"IF(Q6=\"\",\"\",DATE(YEAR(Q6-1)+60,(MONTH(Q6-1))+1,0))","v":"2031-07-31"}]
[null,null,null,null,null,null,null,null,null,null,null,null,3,{"$f":"EmpDetail!B6","v":"jktsUnz dqekj tSu"},{"$f":"EmpDetail!C6","v":"व्याख्याता"},{"$f":"EmpDetail!D6","v":"राउमावि चौगाई"},{"$f":"EmpDetail!E6","v":"1968-09-14"},"2028-09-30"]
[null,null,null,null,null,null,null,null,null,null,null,null,4,{"$f":"EmpDetail!B7","v":"fd'ku yky cSjok"},{"$f":"EmpDetail!C7","v":"व्याख्याता"},{"$f":"EmpDetail!D7","v":"राउमावि चौगाई"},{"$f":"EmpDetail!E7","v":"1974-07-07"},"2034-07-31"]
[null,null,null,null,null,null,null,null,null,null,null,null,5,{"$f":"EmpDetail!B8","v":"lR;ukjk;.k 'kekZ"},{"$f":"EmpDetail!C8","v":"वरिष्ठ अध्यापक"},{"$f":"EmpDetail!D8","v":"राउमावि चौगाई"},{"$f":"EmpDetail!E8","v":"1962-07-01"},"2022-06-30"]
[null,null,null,null,null,null,null,null,null,null,null,null,6,{"$f":"EmpDetail!B9","v":"iq\"ik tSu"},{"$f":"EmpDetail!C9","v":"वरिष्ठ अध्यापक"},{"$f":"EmpDetail!D9","v":"राउमावि चौगाई"},{"$f":"EmpDetail!E9","v":"1964-04-10"},"2024-04-30"]
[null,null,null,null,null,null,null,null,null,null,null,null,7,{"$f":"EmpDetail!B10","v":"vk'kkjke eh.kk"},{"$f":"EmpDetail!C10","v":"वरिष्ठ अध्यापक"},{"$f":"EmpDetail!D10","v":"राउमावि चौगाई"},{"$f":"EmpDetail!E10","v":"1978-06-11"},"2038-06-30"]
[null,null,null,null,null,null,null,null,null,null,null,null,8,{"$f":"EmpDetail!B11","v":"t;iky flag"},{"$f":"EmpDetail!C11","v":"वरिष्ठ अध्यापक"},{"$f":"EmpDetail!D11","v":"राउमावि चौगाई"},{"$f":"EmpDetail!E11","v":"1972-02-02"},"2032-02-29"]
[null,null,null,null,null,null,null,null,null,null,null,null,9,{"$f":"EmpDetail!B12","v":"jkeizlkn jsxj"},{"$f":"EmpDetail!C12","v":"वरिष्ठ अध्यापक"},{"$f":"EmpDetail!D12","v":"राउमावि चौगाई"},{"$f":"EmpDetail!E12","v":"1978-06-01"},"2038-05-31"]
[" &% 'kiFk&i= %&",null,null,null,null,null,null,null,null,null,null,null,10,{"$f":"EmpDetail!B13","v":"egsUnz dqekj tkV"},{"$f":"EmpDetail!C13","v":"शारीरिक शिक्षक"},{"$f":"EmpDetail!D13","v":"राउमावि चौगाई"},{"$f":"EmpDetail!E13","v":"1976-01-30"},"2036-01-31"]
[null," eSa",{"$f":"N4","v":"d`\".kk xaxoky"},null,null,"firk@iRuh","tXxk yky cSjok",null,null,null,null,null,11,{"$f":"EmpDetail!B14","v":"NksVw yky jsxj"},{"$f":"EmpDetail!C14","v":"अध्यापक ग्रेड III"},{"$f":"EmpDetail!D14","v":"राउमावि चौगाई"},{"$f":"EmpDetail!E14","v":"1967-07-10"},"2027-07-31"]
["vk;q&",60,"fuoklh&","xzk0iks0 ihiyw ftyk Vksad",null,null,null,null,null,null,null,null,12,{"$f":"EmpDetail!B15","v":"dUgS;k yky egkoj"},{"$f":"EmpDetail!C15","v":"अध्यापक ग्रेड III"},{"$f":"EmpDetail!D15","v":"राउमावि चौगाई"},{"$f":"EmpDetail!E15","v":"1962-04-05"},"2022-04-30"]
[" 'kiFk iwoZd ?kks\"k.kk djrk gWw fd&",null,null,null,null,null,null,null,null,null,null,null,13,{"$f":"EmpDetail!B16","v":"prqHkqZt tkV"},{"$f":"EmpDetail!C16","v":"अध्यापक ग्रेड III"},{"$f":"EmpDetail!D16","v":"राउमावि चौगाई"},{"$f":"EmpDetail!E16","v":"1976-04-04"},"2036-04-30"]
["1- eSa 'kiFk iwoZd fuosnu djrk gwa fd eSa",null,null,null,{"$f":"P4","v":"राउप्रावि गोरधनपुरा"},null,null,null,null,null,null,null,14,{"$f":"EmpDetail!B17","v":"vklsQk [kku"},{"$f":"EmpDetail!C17","v":"अध्यापक ग्रेड III"},{"$f":"EmpDetail!D17","v":"राउमावि चौगाई"},{"$f":"EmpDetail!E17","v":"1971-01-10"},"2031-01-31"]
["  foHkkx&","f'k{kk foHkkx",null,"esa",{"$f":"O4","v":"अध्यापक ग्रेड III"},null,null,"ds in ij dk;Zjr ",null,null,null,null,15,{"$f":"EmpDetail!B18","v":"lq'khyk cSjok"},{"$f":"EmpDetail!C18","v":"कनिष्ठ सहायक"},{"$f":"EmpDetail!D18","v":"राउमावि चौगाई"},{"$f":"EmpDetail!E18","v":"1995-01-01"},"2054-12-31"]
["   jgrs gq, fnukad&",null,{"$f":"Q4","v":"2055-06-30"},"dks lsokfuo`Rr gqvk gwaA esajs ih-ih-vks- uEcj ",null,null,null,"354546767787AA",null,null,null,null,16,{"$f":"EmpDetail!B19","v":"txnh'k izlkn rsyh"},{"$f":"EmpDetail!C19","v":"सहायक कर्मचारी"},{"$f":"EmpDetail!D19","v":"राउमावि चौगाई"},{"$f":"EmpDetail!E19","v":"1962-06-04"},"2022-06-30"]
["   gSa ,oa lsokfuo`fRr fnukad&",null,null,{"$f":"C20","v":"2055-06-30"},"gS A",null,null,null,null,null,null,null,17,{"$f":"EmpDetail!B20","v":"jfoUnz dqekj tSu"},{"$f":"EmpDetail!C20","v":"अध्यापक ग्रेड III"},{"$f":"EmpDetail!D20","v":"राउप्रावि मोहिनी"},{"$f":"EmpDetail!E20","v":"1967-08-24"},"2027-08-31"]
["2- eSa 'kiFk iwoZd fuosnu djrk gwa fd lsoklekfIr fnukad ls vkt fnukad rd iqufuZ;qfDr ugha gqbZ@",null,null,null,null,null,null,null,null,null,null,null,18,{"$f":"EmpDetail!B21","v":" ';ke lqUnj ckxkSM"},{"$f":"EmpDetail!C21","v":"अध्यापक ग्रेड III"},{"$f":"EmpDetail!D21","v":"राउप्रावि मोहिनी"},{"$f":"EmpDetail!E21","v":"1983-08-10"},"2043-08-31"]
["   gqvk gqa u gh fdlh fuxe @ laLFkku vFkok jkT; ljdkj ds midze esa dk;Zjr gqaA Hkfo\"; esa dks\"k",null,null,null,null,null,null,null,null,null,null,null,19,{"$f":"EmpDetail!B22","v":"d`\".kk 'kekZ"},{"$f":"EmpDetail!C22","v":"प्रबोधक"},{"$f":"EmpDetail!D22","v":"राउप्रावि मोहिनी"},{"$f":"EmpDetail!E22","v":"1972-08-06"},"2032-08-31"]
["   dk;kZy; vFkok cSad }kjk fdlh izdkj dh isa'ku jkf'k dk isa'ku ifjykHk jkf'k vf/kd tek gks tkrh gS",null,null,null,null,null,null,null,null,null,null,null,20,{"$f":"EmpDetail!B23","v":"/keZsUnz pkS/kjh"},{"$f":"EmpDetail!C23","v":"अध्यापक ग्रेड III"},{"$f":"EmpDetail!D23","v":"राउप्रावि गोरधनपुरा"},{"$f":"EmpDetail!E23","v":"1990-03-05"},"2050-03-31"]
["   rks cSad vFkok dks\"k dk;kZy; mldh olwyh eq>s lwpuk vFkok fcuk lwpuk iqu% olwyh djus esa Lora=",null,null,null,null,null,null,null,null,null,null,null,21,{"$f":"EmpDetail!B24","v":"izgykn ekyh"},{"$f":"EmpDetail!C24","v":"प्रबोधक"},{"$f":"EmpDetail!D24","v":"राउप्रावि गोरधनपुरा"},{"$f":"EmpDetail!E24","v":"1974-08-07"},"2034-08-31"]
["   gSA ftldk eq>s fdlh izdkj dk vk{ksi ;k f'kdk;r ugha gksxh A",null,null,null,null,null,null,null,null,null,null,null,22,{"$f":"EmpDetail!B25","v":"jken;ky xqtZj"},{"$f":"EmpDetail!C25","v":"प्रबोधक"},{"$f":"EmpDetail!D25","v":"राउप्रावि सोंदीफल"},{"$f":"EmpDetail!E25","v":"1977-08-18"},"2037-08-31"]
["3- eSa 'kiFk iwoZd fuosnu djrk gwa esSaus mDr 'kiFk & i= esa dksbZ lkjoku rF; ugha Nqik;k gSa ] ugh",null,null,null,null,null,null,null,null,null,null,null,23,{"$f":"EmpDetail!B26","v":"vkSeizdk'k tkV"},{"$f":"EmpDetail!C26","v":"अध्यापक ग्रेड III"},{"$f":"EmpDetail!D26","v":"राउप्रावि सोंदीफल"},{"$f":"EmpDetail!E26","v":"1982-10-31"},"2042-10-31"]
["   dksbZ xyr rF; vafdr fd;k gS A",null,null,null,null,null,null,null,null,null,null,null,24,{"$f":"EmpDetail!B27","v":"vthr flag"},{"$f":"EmpDetail!C27","v":"अध्यापक ग्रेड III"},{"$f":"EmpDetail!D27","v":"राप्रावि जानकीवल्लभपुरा"},{"$f":"EmpDetail!E27","v":"1987-08-08"},"2047-08-31"]
["fnukad&","2021-05-05",null,null,null,null,null,null,null,null,null,null,25,{"$f":"EmpDetail!B28","v":"eq[rkj eha;k"},{"$f":"EmpDetail!C28","v":"प्रबोधक"},{"$f":"EmpDetail!D28","v":"राप्रावि जानकीवल्लभपुरा"},{"$f":"EmpDetail!E28","v":"1976-07-04"},"2036-07-31"]
["LFkku&","ihiyw",null,null,null,null,null,null,null,null,null,null,26,{"$f":"EmpDetail!B29","v":"eks0 tehy "},{"$f":"EmpDetail!C29","v":"प्रबोधक"},{"$f":"EmpDetail!D29","v":"राप्रावि रसूलपुरा"},{"$f":"EmpDetail!E29","v":"1968-09-15"},"2028-09-30"]
[null,null,null,null,null," gLrk{kj ",null,null,null,null,null,null,27,{"$f":"EmpDetail!B30","v":"lkaojey tkV"},{"$f":"EmpDetail!C30","v":"अध्यापक ग्रेड III"},{"$f":"EmpDetail!D30","v":"राप्रावि रसूलपुरा"},{"$f":"EmpDetail!E30","v":"1992-03-03"},"2052-03-31"]
[" &% lR;kiu %&",null,null,null,null,null,null,null,null,null,null,null,28,{"$f":"EmpDetail!B31","v":"pkS/kjh eksuk jkekorkj"},{"$f":"EmpDetail!C31","v":"अध्यापक ग्रेड III"},{"$f":"EmpDetail!D31","v":"राप्रावि मोहिनी ढाणी बाढ"},{"$f":"EmpDetail!E31","v":"1990-01-05"},"2050-01-31"]
[null," eSa ",{"$f":"C15","v":"d`\".kk xaxoky"},null,null,"firk@iRuh",{"$f":"G15","v":"tXxk yky cSjok"},null,null,null,null,null,29,{"$f":"EmpDetail!B32","v":"rkjkpUn tk;loky"},{"$f":"EmpDetail!C32","v":"प्रबोधक"},{"$f":"EmpDetail!D32","v":"राप्रावि मोहिनी ढाणी बाढ"},{"$f":"EmpDetail!E32","v":"1976-11-11"},"2036-11-30"]
[{"$f":"A16","v":"vk;q&"},{"$f":"B16","v":60},"fuoklh%&",{"$f":"D16","v":"xzk0iks0 ihiyw ftyk Vksad"},null,null,null,null,null,null,null,null,30,{"$f":"EmpDetail!B33","v":"jketl ;kno"},{"$f":"EmpDetail!C33","v":"अध्यापक ग्रेड III"},{"$f":"EmpDetail!D33","v":"राप्रावि बैरवा ढाणी सोन्दीफल"},{"$f":"EmpDetail!E33","v":"1970-06-12"},"2030-06-30"]
[" 'kiFkiwoZd lR;kfir djrk gwa fd mDr",null,null,null,null,null,null,null,null,null,null,null,31,{"$f":"EmpDetail!B34","v":"dtksMey eh.kk"},{"$f":"EmpDetail!C34","v":"अध्यापक ग्रेड III"},{"$f":"EmpDetail!D34","v":"राप्रावि बैरवा ढाणी सोन्दीफल"},{"$f":"EmpDetail!E34","v":"1990-07-01"},"2050-06-30"]
[" 'kiFk & i= dh dze la[;k 1 ls 3 rd esa of.kZr rF; esajs futh Kku o fo'okl ls lgh ,oa lR; gSA",null,null,null,null,null,null,null,null,null,null,null,32,{"$f":"EmpDetail!B35","v":"/kaut; xkSRre"},{"$f":"EmpDetail!C35","v":"अध्यापक ग्रेड III"},{"$f":"EmpDetail!D35","v":"राउप्रावि गोरधनपुरा"},{"$f":"EmpDetail!E35","v":"1986-08-25"},"2046-08-31"]
["fnukad %&",{"$f":"B29","v":"2021-05-05"},null,null,null,null,null,null,null,null,null,null,33,{"$f":"EmpDetail!B36","v":"d`\".kk xaxoky"},{"$f":"EmpDetail!C36","v":"अध्यापक ग्रेड III"},{"$f":"EmpDetail!D36","v":"राउप्रावि गोरधनपुरा"},{"$f":"EmpDetail!E36","v":"1995-06-20"},"2055-06-30"]
["LFkku %&",{"$f":"B30","v":"ihiyw"},null,null,null,null,null,null,null,null,null,null,34,{"$f":"EmpDetail!B37","v":"n'kjFk dqekj ;kno"},{"$f":"EmpDetail!C37","v":"अध्यापक ग्रेड III"},{"$f":"EmpDetail!D37","v":"राउप्रावि सोंदीफल"},{"$f":"EmpDetail!E37","v":"1991-01-01"},"2050-12-31"]
[null,null,null,null,null," gLrk{kj ",null,null,null,null,null,null,35,{"$f":"EmpDetail!B38","v":"d`\".k yky tkV"},{"$f":"EmpDetail!C38","v":"अध्यापक ग्रेड III"},{"$f":"EmpDetail!D38","v":"राउप्रावि सोंदीफल"},{"$f":"EmpDetail!E38","v":"1990-07-18"},"2050-07-31"]
[null,null,null,null,null,null,null,null,null,null,null,null,36,{"$f":"EmpDetail!B39","v":"nhisUnz dqekj iztkir"},{"$f":"EmpDetail!C39","v":"अध्यापक ग्रेड III"},{"$f":"EmpDetail!D39","v":"राउप्रावि सोंदीफल"},{"$f":"EmpDetail!E39","v":"1994-07-12"},"2054-07-31"]
[null,null,null,null,null,null,null,null,null,null,null,null,37,{"$f":"EmpDetail!B40","v":"uohu dqekj"},{"$f":"EmpDetail!C40","v":"अध्यापक ग्रेड III"},{"$f":"EmpDetail!D40","v":"राउप्रावि मोहिनी"},{"$f":"EmpDetail!E40","v":"1995-04-13"},"2055-04-30"]
[null,null,null,null,null,null,null,null,null,null,null,null,38,{"$f":"EmpDetail!B41","v":"ehrs'k dqekj 'kekZ"},{"$f":"EmpDetail!C41","v":"अध्यापक ग्रेड III"},{"$f":"EmpDetail!D41","v":"राउप्रावि मोहिनी"},{"$f":"EmpDetail!E41","v":"1989-08-13"},"2049-08-31"]
[null,null,null,null,null,null,null,null,null,null,null,null,39,{"$f":"EmpDetail!B42","v":"eUtw eh.kk"},{"$f":"EmpDetail!C42","v":"वरिष्ठ अध्यापक"},{"$f":"EmpDetail!D42","v":"राउप्रावि गोरधनपुरा"},{"$f":"EmpDetail!E42","v":"1991-01-06"},"2051-01-31"]
[null,null,null,null,null,null,null,null,null,null,null,null,40,{"$f":"EmpDetail!B43","v":"eatw pkS/kjh"},{"$f":"EmpDetail!C43","v":"वरिष्ठ अध्यापक"},{"$f":"EmpDetail!D43","v":"राउप्रावि सोंदीफल"},{"$f":"EmpDetail!E43","v":"1991-08-04"},"2051-08-31"]
[null,null,null,null,null,null,null,null,null,null,null,null,41,{"$f":"EmpDetail!B44","v":0},{"$f":"EmpDetail!C44","v":0},{"$f":"EmpDetail!D44","v":0},{"$f":"EmpDetail!E44","v":"00:00:00"},{"$error":"#NUM!"}]
[null,null,null,null,null,null,null,null,null,null,null,null,42,{"$f":"EmpDetail!B45","v":0},{"$f":"EmpDetail!C45","v":0},{"$f":"EmpDetail!D45","v":0},{"$f":"EmpDetail!E45","v":"00:00:00"},{"$error":"#NUM!"}]
[null,null,null,null,null,null,null,null,null,null,null,null,43,{"$f":"EmpDetail!B46","v":0},{"$f":"EmpDetail!C46","v":0},{"$f":"EmpDetail!D46","v":0},{"$f":"EmpDetail!E46","v":"00:00:00"},{"$error":"#NUM!"}]
[null,null,null,null,null,null,null,null,null,null,null,null,44,{"$f":"EmpDetail!B47","v":0},{"$f":"EmpDetail!C47","v":0},{"$f":"EmpDetail!D47","v":0},{"$f":"EmpDetail!E47","v":"00:00:00"},{"$error":"#NUM!"}]
[null,null,null,null,null,null,null,null,null,null,null,null,45,{"$f":"EmpDetail!B48","v":0},{"$f":"EmpDetail!C48","v":0},{"$f":"EmpDetail!D48","v":0},{"$f":"EmpDetail!E48","v":"00:00:00"},{"$error":"#NUM!"}]
[null,null,null,null,null,null,null,null,null,null,null,null,46,{"$f":"EmpDetail!B49","v":0},{"$f":"EmpDetail!C49","v":0},{"$f":"EmpDetail!D49","v":0},{"$f":"EmpDetail!E49","v":"00:00:00"},{"$error":"#NUM!"}]
[null,null,null,null,null,null,null,null,null,null,null,null,47,{"$f":"EmpDetail!B50","v":0},{"$f":"EmpDetail!C50","v":0},{"$f":"EmpDetail!D50","v":0},{"$f":"EmpDetail!E50","v":"00:00:00"},{"$error":"#NUM!"}]
[null,null,null,null,null,null,null,null,null,null,null,null,48,{"$f":"EmpDetail!B51","v":0},{"$f":"EmpDetail!C51","v":0},{"$f":"EmpDetail!D51","v":0},{"$f":"EmpDetail!E51","v":"00:00:00"},{"$error":"#NUM!"}]
[null,null,null,null,null,null,null,null,null,null,null,null,49,{"$f":"EmpDetail!B52","v":0},{"$f":"EmpDetail!C52","v":0},{"$f":"EmpDetail!D52","v":0},{"$f":"EmpDetail!E52","v":"00:00:00"},{"$error":"#NUM!"}]
[null,null,null,null,null,null,null,null,null,null,null,null,50,{"$f":"EmpDetail!B53","v":0},{"$f":"EmpDetail!C53","v":0},{"$f":"EmpDetail!D53","v":0},{"$f":"EmpDetail!E53","v":"00:00:00"},{"$error":"#NUM!"}]
[null,null,null,null,null,null,null,null,null,null,null,null,51,{"$f":"EmpDetail!B54","v":0},{"$f":"EmpDetail!C54","v":0},{"$f":"EmpDetail!D54","v":0},{"$f":"EmpDetail!E54","v":"00:00:00"},{"$error":"#NUM!"}]
[null,null,null,null,null,null,null,null,null,null,null,null,52,{"$f":"EmpDetail!B55","v":0},{"$f":"EmpDetail!C55","v":0},{"$f":"EmpDetail!D55","v":0},{"$f":"EmpDetail!E55","v":"00:00:00"},{"$error":"#NUM!"}]
[null,null,null,null,null,null,null,null,null,null,null,null,53,{"$f":"EmpDetail!B56","v":0},{"$f":"EmpDetail!C56","v":0},{"$f":"EmpDetail!D56","v":0},{"$f":"EmpDetail!E56","v":"00:00:00"},{"$error":"#NUM!"}]
[null,null,null,null,null,null,null,null,null,null,null,null,54,{"$f":"EmpDetail!B57","v":0},{"$f":"EmpDetail!C57","v":0},{"$f":"EmpDetail!D57","v":0},{"$f":"EmpDetail!E57","v":"00:00:00"},{"$error":"#NUM!"}]
[null,null,null,null,null,null,null,null,null,null,null,null,55,{"$f":"EmpDetail!B58","v":0},{"$f":"EmpDetail!C58","v":0},{"$f":"EmpDetail!D58","v":0},{"$f":"EmpDetail!E58","v":"00:00:00"},{"$error":"#NUM!"}]
[null,null,null,null,null,null,null,null,null,null,null,null,56,{"$f":"EmpDetail!B59","v":0},{"$f":"EmpDetail!C59","v":0},{"$f":"EmpDetail!D59","v":0},{"$f":"EmpDetail!E59","v":"00:00:00"},{"$error":"#NUM!"}]
[null,null,null,null,null,null,null,null,null,null,null,null,57,{"$f":"EmpDetail!B60","v":0},{"$f":"EmpDetail!C60","v":0},{"$f":"EmpDetail!D60","v":0},{"$f":"EmpDetail!E60","v":"00:00:00"},{"$error":"#NUM!"}]
[null,null,null,null,null,null,null,null,null,null,null,null,58,{"$f":"EmpDetail!B61","v":0},{"$f":"EmpDetail!C61","v":0},{"$f":"EmpDetail!D61","v":0},{"$f":"EmpDetail!E61","v":"00:00:00"},{"$error":"#NUM!"}]
[null,null,null,null,null,null,null,null,null,null,null,null,59,{"$f":"EmpDetail!B62","v":0},{"$f":"EmpDetail!C62","v":0},{"$f":"EmpDetail!D62","v":0},{"$f":"EmpDetail!E62","v":"00:00:00"},{"$error":"#NUM!"}]
[null,null,null,null,null,null,null,null,null,null,null,null,60,{"$f":"EmpDetail!B63","v":0},{"$f":"EmpDetail!C63","v":0},{"$f":"EmpDetail!D63","v":0},{"$f":"EmpDetail!E63","v":"00:00:00"},{"$error":"#NUM!"}]
[null,null,null,null,null,null,null,null,null,null,null,null,61,{"$f":"EmpDetail!B64","v":0},{"$f":"EmpDetail!C64","v":0},{"$f":"EmpDetail!D64","v":0},{"$f":"EmpDetail!E64","v":"00:00:00"},{"$error":"#NUM!"}]
[null,null,null,null,null,null,null,null,null,null,null,null,62,{"$f":"EmpDetail!B65","v":0},{"$f":"EmpDetail!C65","v":0},{"$f":"EmpDetail!D65","v":0},{"$f":"EmpDetail!E65","v":"00:00:00"},{"$error":"#NUM!"}]
[null,null,null,null,null,null,null,null,null,null,null,null,63,{"$f":"EmpDetail!B66","v":0},{"$f":"EmpDetail!C66","v":0},{"$f":"EmpDetail!D66","v":0},{"$f":"EmpDetail!E66","v":"00:00:00"},{"$error":"#NUM!"}]
[null,null,null,null,null,null,null,null,null,null,null,null,64,{"$f":"EmpDetail!B67","v":0},{"$f":"EmpDetail!C67","v":0},{"$f":"EmpDetail!D67","v":0},{"$f":"EmpDetail!E67","v":"00:00:00"},{"$error":"#NUM!"}]
[null,null,null,null,null,null,null,null,null,null,null,null,65,{"$f":"EmpDetail!B68","v":0},{"$f":"EmpDetail!C68","v":0},{"$f":"EmpDetail!D68","v":0},{"$f":"EmpDetail!E68","v":"00:00:00"},{"$error":"#NUM!"}]
[null,null,null,null,null,null,null,null,null,null,null,null,66,{"$f":"EmpDetail!B69","v":0},{"$f":"EmpDetail!C69","v":0},{"$f":"EmpDetail!D69","v":0},{"$f":"EmpDetail!E69","v":"00:00:00"},{"$f":"IF(Q70=\"\",\"\",DATE(YEAR(Q70-1)+60,(MONTH(Q70-1))+1,0))","v":{"$error":"#NUM!"}}]
[null,null,null,null,null,null,null,null,null,null,null,null,67,{"$f":"EmpDetail!B70","v":0},{"$f":"EmpDetail!C70","v":0},{"$f":"EmpDetail!D70","v":0},{"$f":"EmpDetail!E70","v":"00:00:00"},{"$error":"#NUM!"}]
[null,null,null,null,null,null,null,null,null,null,null,null,68,{"$f":"EmpDetail!B71","v":0},{"$f":"EmpDetail!C71","v":0},{"$f":"EmpDetail!D71","v":0},{"$f":"EmpDetail!E71","v":"00:00:00"},{"$error":"#NUM!"}]
[null,null,null,null,null,null,null,null,null,null,null,null,69,{"$f":"EmpDetail!B72","v":0},{"$f":"EmpDetail!C72","v":0},{"$f":"EmpDetail!D72","v":0},{"$f":"EmpDetail!E72","v":"00:00:00"},{"$error":"#NUM!"}]
[null,null,null,null,null,null,null,null,null,null,null,null,70,{"$f":"EmpDetail!B73","v":0},{"$f":"EmpDetail!C73","v":0},{"$f":"EmpDetail!D73","v":0},{"$f":"EmpDetail!E73","v":"00:00:00"},{"$error":"#NUM!"}]
[null,null,null,null,null,null,null,null,null,null,null,null,71,{"$f":"EmpDetail!B74","v":0},{"$f":"EmpDetail!C74","v":0},{"$f":"EmpDetail!D74","v":0},{"$f":"EmpDetail!E74","v":"00:00:00"},{"$error":"#NUM!"}]
[null,null,null,null,null,null,null,null,null,null,null,null,72,{"$f":"EmpDetail!B75","v":0},{"$f":"EmpDetail!C75","v":0},{"$f":"EmpDetail!D75","v":0},{"$f":"EmpDetail!E75","v":"00:00:00"},{"$error":"#NUM!"}]
[null,null,null,null,null,null,null,null,null,null,null,null,73,{"$f":"EmpDetail!B76","v":0},{"$f":"EmpDetail!C76","v":0},{"$f":"EmpDetail!D76","v":0},{"$f":"EmpDetail!E76","v":"00:00:00"},{"$error":"#NUM!"}]
[null,null,null,null,null,null,null,null,null,null,null,null,74,{"$f":"EmpDetail!B77","v":0},{"$f":"EmpDetail!C77","v":0},{"$f":"EmpDetail!D77","v":0},{"$f":"EmpDetail!E77","v":"00:00:00"},{"$error":"#NUM!"}]
[null,null,null,null,null,null,null,null,null,null,null,null,75,{"$f":"EmpDetail!B78","v":0},{"$f":"EmpDetail!C78","v":0},{"$f":"EmpDetail!D78","v":0},{"$f":"EmpDetail!E78","v":"00:00:00"},{"$error":"#NUM!"}]
[null,null,null,null,null,null,null,null,null,null,null,null,76,{"$f":"EmpDetail!B79","v":0},{"$f":"EmpDetail!C79","v":0},{"$f":"EmpDetail!D79","v":0},{"$f":"EmpDetail!E79","v":"00:00:00"},{"$error":"#NUM!"}]
[null,null,null,null,null,null,null,null,null,null,null,null,77,{"$f":"EmpDetail!B80","v":0},{"$f":"EmpDetail!C80","v":0},{"$f":"EmpDetail!D80","v":0},{"$f":"EmpDetail!E80","v":"00:00:00"},{"$error":"#NUM!"}]
[null,null,null,null,null,null,null,null,null,null,null,null,78,{"$f":"EmpDetail!B81","v":0},{"$f":"EmpDetail!C81","v":0},{"$f":"EmpDetail!D81","v":0},{"$f":"EmpDetail!E81","v":"00:00:00"},{"$error":"#NUM!"}]
[null,null,null,null,null,null,null,null,null,null,null,null,79,{"$f":"EmpDetail!B82","v":0},{"$f":"EmpDetail!C82","v":0},{"$f":"EmpDetail!D82","v":0},{"$f":"EmpDetail!E82","v":"00:00:00"},{"$error":"#NUM!"}]
[null,null,null,null,null,null,null,null,null,null,null,null,80,{"$f":"EmpDetail!B83","v":0},{"$f":"EmpDetail!C83","v":0},{"$f":"EmpDetail!D83","v":0},{"$f":"EmpDetail!E83","v":"00:00:00"},{"$error":"#NUM!"}]
[null,null,null,null,null,null,null,null,null,null,null,null,81,{"$f":"EmpDetail!B84","v":0},{"$f":"EmpDetail!C84","v":0},{"$f":"EmpDetail!D84","v":0},{"$f":"EmpDetail!E84","v":"00:00:00"},{"$error":"#NUM!"}]
[null,null,null,null,null,null,null,null,null,null,null,null,82,{"$f":"EmpDetail!B85","v":0},{"$f":"EmpDetail!C85","v":0},{"$f":"EmpDetail!D85","v":0},{"$f":"EmpDetail!E85","v":"00:00:00"},{"$error":"#NUM!"}]
[null,null,null,null,null,null,null,null,null,null,null,null,83,{"$f":"EmpDetail!B86","v":0},{"$f":"EmpDetail!C86","v":0},{"$f":"EmpDetail!D86","v":0},{"$f":"EmpDetail!E86","v":"00:00:00"},{"$error":"#NUM!"}]
[null,null,null,null,null,null,null,null,null,null,null,null,84,{"$f":"EmpDetail!B87","v":0},{"$f":"EmpDetail!C87","v":0},{"$f":"EmpDetail!D87","v":0},{"$f":"EmpDetail!E87","v":"00:00:00"},{"$error":"#NUM!"}]
[null,null,null,null,null,null,null,null,null,null,null,null,85,{"$f":"EmpDetail!B88","v":0},{"$f":"EmpDetail!C88","v":0},{"$f":"EmpDetail!D88","v":0},{"$f":"EmpDetail!E88","v":"00:00:00"},{"$error":"#NUM!"}]
[null,null,null,null,null,null,null,null,null,null,null,null,86,{"$f":"EmpDetail!B89","v":0},{"$f":"EmpDetail!C89","v":0},{"$f":"EmpDetail!D89","v":0},{"$f":"EmpDetail!E89","v":"00:00:00"},{"$error":"#NUM!"}]
[null,null,null,null,null,null,null,null,null,null,null,null,87,{"$f":"EmpDetail!B90","v":0},{"$f":"EmpDetail!C90","v":0},{"$f":"EmpDetail!D90","v":0},{"$f":"EmpDetail!E90","v":"00:00:00"},{"$error":"#NUM!"}]
[null,null,null,null,null,null,null,null,null,null,null,null,88,{"$f":"EmpDetail!B91","v":0},{"$f":"EmpDetail!C91","v":0},{"$f":"EmpDetail!D91","v":0},{"$f":"EmpDetail!E91","v":"00:00:00"},{"$error":"#NUM!"}]
[null,null,null,null,null,null,null,null,null,null,null,null,89,{"$f":"EmpDetail!B92","v":0},{"$f":"EmpDetail!C92","v":0},{"$f":"EmpDetail!D92","v":0},{"$f":"EmpDetail!E92","v":"00:00:00"},{"$error":"#NUM!"}]
[null,null,null,null,null,null,null,null,null,null,null,null,90,{"$f":"EmpDetail!B93","v":0},{"$f":"EmpDetail!C93","v":0},{"$f":"EmpDetail!D93","v":0},{"$f":"EmpDetail!E93","v":"00:00:00"},{"$error":"#NUM!"}]
[null,null,null,null,null,null,null,null,null,null,null,null,91,{"$f":"EmpDetail!B94","v":0},{"$f":"EmpDetail!C94","v":0},{"$f":"EmpDetail!D94","v":0},{"$f":"EmpDetail!E94","v":"00:00:00"},{"$error":"#NUM!"}]
[null,null,null,null,null,null,null,null,null,null,null,null,92,{"$f":"EmpDetail!B95","v":0},{"$f":"EmpDetail!C95","v":0},{"$f":"EmpDetail!D95","v":0},{"$f":"EmpDetail!E95","v":"00:00:00"},{"$error":"#NUM!"}]
[null,null,null,null,null,null,null,null,null,null,null,null,93,{"$f":"EmpDetail!B96","v":0},{"$f":"EmpDetail!C96","v":0},{"$f":"EmpDetail!D96","v":0},{"$f":"EmpDetail!E96","v":"00:00:00"},{"$error":"#NUM!"}]
[null,null,null,null,null,null,null,null,null,null,null,null,94,{"$f":"EmpDetail!B97","v":0},{"$f":"EmpDetail!C97","v":0},{"$f":"EmpDetail!D97","v":0},{"$f":"EmpDetail!E97","v":"00:00:00"},{"$error":"#NUM!"}]
[null,null,null,null,null,null,null,null,null,null,null,null,95,{"$f":"EmpDetail!B98","v":0},{"$f":"EmpDetail!C98","v":0},{"$f":"EmpDetail!D98","v":0},{"$f":"EmpDetail!E98","v":"00:00:00"},{"$error":"#NUM!"}]
[null,null,null,null,null,null,null,null,null,null,null,null,96,{"$f":"EmpDetail!B99","v":0},{"$f":"EmpDetail!C99","v":0},{"$f":"EmpDetail!D99","v":0},{"$f":"EmpDetail!E99","v":"00:00:00"},{"$error":"#NUM!"}]
[null,null,null,null,null,null,null,null,null,null,null,null,97,{"$f":"EmpDetail!B100","v":0},{"$f":"EmpDetail!C100","v":0},{"$f":"EmpDetail!D100","v":0},{"$f":"EmpDetail!E100","v":"00:00:00"},{"$error":"#NUM!"}]
[null,null,null,null,null,null,null,null,null,null,null,null,98,{"$f":"EmpDetail!B101","v":0},{"$f":"EmpDetail!C101","v":0},{"$f":"EmpDetail!D101","v":0},{"$f":"EmpDetail!E101","v":"00:00:00"},{"$error":"#NUM!"}]
[null,null,null,null,null,null,null,null,null,null,null,null,99,{"$f":"EmpDetail!B102","v":0},{"$f":"EmpDetail!C102","v":0},{"$f":"EmpDetail!D102","v":0},{"$f":"EmpDetail!E102","v":"00:00:00"},{"$error":"#NUM!"}]
[null,null,null,null,null,null,null,null,null,null,null,null,100,{"$f":"EmpDetail!B103","v":0},{"$f":"EmpDetail!C103","v":0},{"$f":"EmpDetail!D103","v":0},{"$f":"EmpDetail!E103","v":"00:00:00"},{"$error":"#NUM!"}]

{"sheet":"Treasury Doc","index":60,"n_rows":17,"n_cols":2,"rows_kept":17,"cut":false,"hidden":true,"merged":[[12,1,12,11],[13,1,13,11],[14,1,14,11],[15,1,15,11],[16,1,16,11],[11,1,11,11],[0,0,0,11],[1,1,1,11],[2,1,2,11],[3,1,3,11],[4,1,4,11],[5,1,5,11],[6,1,6,11],[7,1,7,11],[8,1,8,11],[9,1,9,11],[10,1,10,11]]}
["dks\"kky; dks izLrqr fd;s tkus okys nLrkost"]
[1,"PPO/GPO/CPO ewy dkWih&QksVks izfr Loa; ds ikl j[ks A"]
[2,"nks la;qDr QksVks tks isa'ku dqyd esa yxk;s x;s Fks A"]
[3,"vk/kkj dkMZ QksVks izfr"]
[4,"dks\"kky; }kjk iznRr fu/kkZfjr izk:i esa 'kiFk i= 50 :i;s ds LVkEi ij"]
[5,"oksVj vkbZMh QksVks izfr"]
[6,"lsokfuo`fRr vkns'k dh izfr"]
[7,"ewy dk;ZeqfDr vkns'k 'kkyk niZ.k ls@vksQykbZu"]
[8,"ewy vafre osru izek.k i="]
[9,"cSad [kkrk iklcqd dh QksVks izfr"]
[10,"thfor izek.k i=&dks\"kky; ls tkjh djok;s@vU; jktif=r vf/kdkjh ls"]
[11,"ukWfeuh dk vk/kkj dkMZ QksVks izfr"]
[12,"vU; nLrkost dks\"kky; ds funsZ'kkuqlkj"]
[13,"tc PPO, CPO, GPO dh jkf'k vkids cSad [kkrs esa tek gks tk;s rc dks\"kky; tkdj viuk ewy "]
[null,"PPO/GPO/CPO izkIr dj ysos A"]
[14,"esMhdy Mk;jh gsrw fu/kkZfjr izk:i esa vkosnu i= Hkjdj e; ihihvks dh lR;kfir izfr ds dks\"kky; esa"]
[null,"tek djok;sa A dks\"kky; }kjk fu/kkZfjr le;kof/k esa esfMdy Mk;jh tkjh dj nh tk;sxh A"]

{"sheet":"Medical Diary","index":61,"n_rows":104,"n_cols":20,"rows_kept":104,"cut":false,"hidden":true,"merged":[[4,9,4,11],[11,4,11,5],[17,2,17,8],[18,6,18,8],[31,1,31,2],[22,0,22,2],[22,3,22,6],[15,2,15,3],[15,4,15,8],[16,2,16,8],[17,0,17,1],[18,0,18,5],[19,0,19,5],[20,0,20,2],[20,3,20,7],[21,0,21,2],[32,4,32,8],[33,4,33,8],[24,5,24,6],[27,0,27,8],[28,5,28,7],[29,2,29,3],[29,4,29,5],[29,6,29,7],[21,3,21,6],[12,0,12,3],[12,5,12,6],[13,0,13,3],[13,4,13,6],[14,0,14,1],[14,2,14,3],[14,4,14,8],[11,0,11,3],[5,0,5,4],[5,5,5,7],[6,0,6,1],[6,2,6,3],[7,0,7,6],[7,7,7,8],[9,0,9,3],[9,4,9,6],[10,0,10,3],[10,4,10,5],[10,6,10,8],[0,0,0,8],[2,0,2,2],[2,3,2,5],[2,7,4,8],[3,0,3,2],[3,3,3,5],[4,0,4,2],[4,3,4,5]]}
["esfMdy Mk;jh izkIr djus gsrq vkosnu & i="]
[]
["1- ih-ih-vks-@lh-ih-,Q-la[;k",null,null,"1234567789AA",null,null,null,";gka ij QksVks fpidk,a tks isa'ku dqyd ij yxk;k Fkk vkSj ,d QksVks vyx ls Hkh bl QkeZ ds lkFk esa nsosaA"]
["2- ¼v½ isa'kuj dk uke",null,null,{"$f":"N4","v":"d`\".kk xaxoky"},null,null,null,null,null,null,null,null,null,{"$f":"IF(ISNA(VLOOKUP($K6,$M$5:$R$104,2,FALSE)),\"\",VLOOKUP($K6,$M$5:$R$104,2,FALSE))","v":"d`\".kk xaxoky"},{"$f":"IF(ISNA(VLOOKUP($K6,$M$5:$R$104,3,FALSE)),\"\",VLOOKUP($K6,$M$5:$R$104,3,FALSE))","v":"अध्यापक ग्रेड III"},{"$f":"IF(ISNA(VLOOKUP($K6,$M$5:$R$104,4,FALSE)),\"\",VLOOKUP($K6,$M$5:$R$104,4,FALSE))","v":"राउप्रावि गोरधनपुरा"},{"$f":"IF(ISNA(VLOOKUP($K6,$M$5:$R$104,5,FALSE)),\"\",VLOOKUP($K6,$M$5:$R$104,5,FALSE))","v":"1995-06-20"},{"$f":"IF(ISNA(VLOOKUP($K6,$M$5:$R$104,6,FALSE)),\"\",VLOOKUP($K6,$M$5:$R$104,6,FALSE))","v":"2055-06-30"},{"$f":"IF(ISNA(VLOOKUP($K6,$M$5:$T$104,7,FALSE)),\"\",VLOOKUP($K6,$M$5:$T$104,7,FALSE))","v":33800},{"$f":"IF(ISNA(VLOOKUP($K6,$M$5:$T$104,8,FALSE)),\"\",VLOOKUP($K6,$M$5:$T$104,8,FALSE))","v":"L-10"}]
["       tUe fnukad",null,null,{"$f":"Q4","v":"1995-06-20"},null,null,null,null,null,"dkfeZd dk dzekad fy[ksa",null,null,1,{"$f":"EmpDetail!B4","v":"fd'ku yky cSjok"},{"$f":"EmpDetail!C4","v":"प्रधानाचार्य"},{"$f":"EmpDetail!D4","v":"राउमावि चौगाई"},{"$f":"EmpDetail!E4","v":"1962-01-10"},{"$f":"IF(Q5=\"\",\"\",DATE(YEAR(Q5-1)+60,(MONTH(Q5-1))+1,0))","v":"2022-01-31"},{"$f":"EmpDetail!K4","v":95900},{"$f":"EmpDetail!J4","v":"L-16"}]
[" ¼c½ ifr@iRuh dk uke ¼;fn isa'kuj ij vkfJr gks rks½ ",null,null,null,null,"jes'k cSjok",null,null,null,null,33,null,2,{"$f":"EmpDetail!B5","v":"iwj.k pUn y{kdkj"},{"$f":"EmpDetail!C5","v":"व्याख्याता"},{"$f":"EmpDetail!D5","v":"राउमावि चौगाई"},{"$f":"EmpDetail!E5","v":"1971-07-08"},{"$f":"IF(Q6=\"\",\"\",DATE(YEAR(Q6-1)+60,(MONTH(Q6-1))+1,0))","v":"2031-07-31"},{"$f":"EmpDetail!K5","v":56100},{"$f":"EmpDetail!J5","v":"L-12"}]
["    tUe fnukad ",null,"1998-11-11",null,null,null,null,null,null,null,null,null,3,{"$f":"EmpDetail!B6","v":"jktsUnz dqekj tSu"},{"$f":"EmpDetail!C6","v":"व्याख्याता"},{"$f":"EmpDetail!D6","v":"राउमावि चौगाई"},{"$f":"EmpDetail!E6","v":"1968-09-14"},"2028-09-30",{"$f":"EmpDetail!K6","v":63100},{"$f":"EmpDetail!J6","v":"L-12"}]
["¼l½ vkfJr fodkykax iq=@iq=h dk uke tks vkftfodk dekus esa v{ke gks ",null,null,null,null,null,null,"eqds'k dqekj",null,null,null,null,4,{"$f":"EmpDetail!B7","v":"fd'ku yky cSjok"},{"$f":"EmpDetail!C7","v":"व्याख्याता"},{"$f":"EmpDetail!D7","v":"राउमावि चौगाई"},{"$f":"EmpDetail!E7","v":"1974-07-07"},"2034-07-31",{"$f":"EmpDetail!K7","v":54500},{"$f":"EmpDetail!J7","v":"L-12"}]
["    ¼ ;fn mls fpfdRlk lqfo/kk gsrq vf/kd`r fd;k x;k gS] rks ½",null,null,null,null,null,null,null,null,null,null,null,5,{"$f":"EmpDetail!B8","v":"lR;ukjk;.k 'kekZ"},{"$f":"EmpDetail!C8","v":"वरिष्ठ अध्यापक"},{"$f":"EmpDetail!D8","v":"राउमावि चौगाई"},{"$f":"EmpDetail!E8","v":"1962-07-01"},"2022-06-30",{"$f":"EmpDetail!K8","v":71300},{"$f":"EmpDetail!J8","v":"L-13"}]
["3- in ftlls lsokfuo`Rr gqvk gS ",null,null,null,{"$f":"O4","v":"अध्यापक ग्रेड III"},null,null,null,null,null,null,null,6,{"$f":"EmpDetail!B9","v":"iq\"ik tSu"},{"$f":"EmpDetail!C9","v":"वरिष्ठ अध्यापक"},{"$f":"EmpDetail!D9","v":"राउमावि चौगाई"},{"$f":"EmpDetail!E9","v":"1964-04-10"},"2024-04-30",{"$f":"EmpDetail!K9","v":73400},{"$f":"EmpDetail!J9","v":"L-13"}]
["4- foHkkx dk uke tgka ls lsokfuo`Rr gqvk gSA ",null,null,null,"f'k{kk foHkkx",null,{"$f":"P4","v":"राउप्रावि गोरधनपुरा"},null,null,null,null,null,7,{"$f":"EmpDetail!B10","v":"vk'kkjke eh.kk"},{"$f":"EmpDetail!C10","v":"वरिष्ठ अध्यापक"},{"$f":"EmpDetail!D10","v":"राउमावि चौगाई"},{"$f":"EmpDetail!E10","v":"1978-06-11"},"2038-06-30",{"$f":"EmpDetail!K10","v":52300},{"$f":"EmpDetail!J10","v":"L-11"}]
["5- lsokfuo`fRr dh fnukad ",null,null,null,{"$f":"R4","v":"2055-06-30"},null,null,null,null,null,null,null,8,{"$f":"EmpDetail!B11","v":"t;iky flag"},{"$f":"EmpDetail!C11","v":"वरिष्ठ अध्यापक"},{"$f":"EmpDetail!D11","v":"राउमावि चौगाई"},{"$f":"EmpDetail!E11","v":"1972-02-02"},"2032-02-29",{"$f":"EmpDetail!K11","v":63100},{"$f":"EmpDetail!J11","v":"L-12"}]
["6- lsokfuo`fRr ij eqy osru ",null,null,null,{"$f":"S4","v":33800},"is esfVªDl ysoy",null,{"$f":"T4","v":"L-10"},null,null,null,null,9,{"$f":"EmpDetail!B12","v":"jkeizlkn jsxj"},{"$f":"EmpDetail!C12","v":"वरिष्ठ अध्यापक"},{"$f":"EmpDetail!D12","v":"राउमावि चौगाई"},{"$f":"EmpDetail!E12","v":"1978-06-01"},"2038-05-31",{"$f":"EmpDetail!K12","v":46500},{"$f":"EmpDetail!J12","v":"L-11"}]
["7- varjx jksxh gksus ij okMZ fd ik=rk ",null,null,null,"gka@ugha",null,null,null,null,null,null,null,10,{"$f":"EmpDetail!B13","v":"egsUnz dqekj tkV"},{"$f":"EmpDetail!C13","v":"शारीरिक शिक्षक"},{"$f":"EmpDetail!D13","v":"राउमावि चौगाई"},{"$f":"EmpDetail!E13","v":"1976-01-30"},"2036-01-31",{"$f":"EmpDetail!K13","v":61300},{"$f":"EmpDetail!J13","v":"L-12"}]
["8- uequs ds gLrk{kj   ",null,"1- isa'kuj&",null,null,null,null,null,null,null,null,null,11,{"$f":"EmpDetail!B14","v":"NksVw yky jsxj"},{"$f":"EmpDetail!C14","v":"अध्यापक ग्रेड III"},{"$f":"EmpDetail!D14","v":"राउमावि चौगाई"},{"$f":"EmpDetail!E14","v":"1967-07-10"},"2027-07-31",{"$f":"EmpDetail!K14","v":65200},{"$f":"EmpDetail!J14","v":"L-13"}]
[null,null,"2- ifr@iRuh &",null,null,null,null,null,null,null,null,null,12,{"$f":"EmpDetail!B15","v":"dUgS;k yky egkoj"},{"$f":"EmpDetail!C15","v":"अध्यापक ग्रेड III"},{"$f":"EmpDetail!D15","v":"राउमावि चौगाई"},{"$f":"EmpDetail!E15","v":"1962-04-05"},"2022-04-30",{"$f":"EmpDetail!K15","v":65200},{"$f":"EmpDetail!J15","v":"L-13"}]
["9- iwjk irk ",null,"xzk0iks0 ihiyw tglhy ihiyw ftyk Vksad fiu 304801",null,null,null,null,null,null,null,null,null,13,{"$f":"EmpDetail!B16","v":"prqHkqZt tkV"},{"$f":"EmpDetail!C16","v":"अध्यापक ग्रेड III"},{"$f":"EmpDetail!D16","v":"राउमावि चौगाई"},{"$f":"EmpDetail!E16","v":"1976-04-04"},"2036-04-30",{"$f":"EmpDetail!K16","v":52300},{"$f":"EmpDetail!J16","v":"L-11"}]
["  eksckbZy uEcj ",null,8867267282,null,null,null,null,null,null,null,null,null,14,{"$f":"EmpDetail!B17","v":"vklsQk [kku"},{"$f":"EmpDetail!C17","v":"अध्यापक ग्रेड III"},{"$f":"EmpDetail!D17","v":"राउमावि चौगाई"},{"$f":"EmpDetail!E17","v":"1971-01-10"},"2031-01-31",{"$f":"EmpDetail!K17","v":52300},{"$f":"EmpDetail!J17","v":"L-11"}]
["10- esfMdy Mk;jh fd oS/krk dk fooj.k & okf\"kZd@ vkthou ",null,null,null,null,null,"okf\"kZd@ vkthou ",null,null,null,null,null,15,{"$f":"EmpDetail!B18","v":"lq'khyk cSjok"},{"$f":"EmpDetail!C18","v":"कनिष्ठ सहायक"},{"$f":"EmpDetail!D18","v":"राउमावि चौगाई"},{"$f":"EmpDetail!E18","v":"1995-01-01"},"2054-12-31",{"$f":"EmpDetail!K18","v":14600},{"$f":"EmpDetail!J18","v":"L-5"}]
["   ias'kuj dh cSd dk fooj.k & ¼ cSad ikl cqd dh QksVksdkWih ½",null,null,null,null,null,null,null,null,null,null,null,16,{"$f":"EmpDetail!B19","v":"txnh'k izlkn rsyh"},{"$f":"EmpDetail!C19","v":"सहायक कर्मचारी"},{"$f":"EmpDetail!D19","v":"राउमावि चौगाई"},{"$f":"EmpDetail!E19","v":"1962-06-04"},"2022-06-30",{"$f":"EmpDetail!K19","v":34700},{"$f":"EmpDetail!J19","v":"L-5"}]
["¼1a½ cSad dk uke o 'kk[kk&  ",null,null,"State Bank of India Treasury Bldg Tonk",null,null,null,null,null,null,null,null,17,{"$f":"EmpDetail!B20","v":"jfoUnz dqekj tSu"},{"$f":"EmpDetail!C20","v":"अध्यापक ग्रेड III"},{"$f":"EmpDetail!D20","v":"राउप्रावि मोहिनी"},{"$f":"EmpDetail!E20","v":"1967-08-24"},"2027-08-31",{"$f":"EmpDetail!K20","v":65200},{"$f":"EmpDetail!J20","v":"L-12"}]
["¼2½ cSad dk [kkrk la[;k&",null,null,612345678890,null,null,null,null,null,null,null,null,18,{"$f":"EmpDetail!B21","v":" ';ke lqUnj ckxkSM"},{"$f":"EmpDetail!C21","v":"अध्यापक ग्रेड III"},{"$f":"EmpDetail!D21","v":"राउप्रावि मोहिनी"},{"$f":"EmpDetail!E21","v":"1983-08-10"},"2043-08-31",{"$f":"EmpDetail!K21","v":40300},{"$f":"EmpDetail!J21","v":"L-10"}]
["¼3½ cSad dk vkbZ ,Q ,l dksM&",null,null,"SBIN0031842",null,null,null,null,null,null,null,null,19,{"$f":"EmpDetail!B22","v":"d`\".kk 'kekZ"},{"$f":"EmpDetail!C22","v":"प्रबोधक"},{"$f":"EmpDetail!D22","v":"राउप्रावि मोहिनी"},{"$f":"EmpDetail!E22","v":"1972-08-06"},"2032-08-31",{"$f":"EmpDetail!K22","v":45100},{"$f":"EmpDetail!J22","v":"L-11"}]
[null,null,null,null,null,null,null,null,null,null,null,null,20,{"$f":"EmpDetail!B23","v":"/keZsUnz pkS/kjh"},{"$f":"EmpDetail!C23","v":"अध्यापक ग्रेड III"},{"$f":"EmpDetail!D23","v":"राउप्रावि गोरधनपुरा"},{"$f":"EmpDetail!E23","v":"1990-03-05"},"2050-03-31",{"$f":"EmpDetail!K23","v":40300},{"$f":"EmpDetail!J23","v":"L-10"}]
[null,null,null,null,null,"gLrk{kj isa'kuj",null,null,null,null,null,null,21,{"$f":"EmpDetail!B24","v":"izgykn ekyh"},{"$f":"EmpDetail!C24","v":"प्रबोधक"},{"$f":"EmpDetail!D24","v":"राउप्रावि गोरधनपुरा"},{"$f":"EmpDetail!E24","v":"1974-08-07"},"2034-08-31",{"$f":"EmpDetail!K24","v":46500},{"$f":"EmpDetail!J24","v":"L-11"}]
[null,null,null,null,null,null,null,null,null,null,null,null,22,{"$f":"EmpDetail!B25","v":"jken;ky xqtZj"},{"$f":"EmpDetail!C25","v":"प्रबोधक"},{"$f":"EmpDetail!D25","v":"राउप्रावि सोंदीफल"},{"$f":"EmpDetail!E25","v":"1977-08-18"},"2037-08-31",{"$f":"EmpDetail!K25","v":45100},{"$f":"EmpDetail!J25","v":"L-11"}]
["uksV & ih-ih-vks- dh QksVks izfr ,oe la;qDr ikliksVZ lkbt dk QksVksxzkQ layXu djsaA ",null,null,null,null,null,null,null,null,null,null,null,23,{"$f":"EmpDetail!B26","v":"vkSeizdk'k tkV"},{"$f":"EmpDetail!C26","v":"अध्यापक ग्रेड III"},{"$f":"EmpDetail!D26","v":"राउप्रावि सोंदीफल"},{"$f":"EmpDetail!E26","v":"1982-10-31"},"2042-10-31",{"$f":"EmpDetail!K26","v":45100},{"$f":"EmpDetail!J26","v":"L-11"}]
["isa'kuj ds thfor gksus dk izek.k i= ",null,null,null,null,null,null,null,null,null,null,null,24,{"$f":"EmpDetail!B27","v":"vthr flag"},{"$f":"EmpDetail!C27","v":"अध्यापक ग्रेड III"},{"$f":"EmpDetail!D27","v":"राप्रावि जानकीवल्लभपुरा"},{"$f":"EmpDetail!E27","v":"1987-08-08"},"2047-08-31",{"$f":"EmpDetail!K27","v":40300},{"$f":"EmpDetail!J27","v":"L-10"}]
[null,"izekf.kr fd;k tkrk gS fd Jh@Jhefr ",null,null,null,{"$f":"D4","v":"d`\".kk xaxoky"},null,null,"isa'kuj /kkjd ",null,null,null,25,{"$f":"EmpDetail!B28","v":"eq[rkj eha;k"},{"$f":"EmpDetail!C28","v":"प्रबोधक"},{"$f":"EmpDetail!D28","v":"राप्रावि जानकीवल्लभपुरा"},{"$f":"EmpDetail!E28","v":"1976-07-04"},"2036-07-31",{"$f":"EmpDetail!K28","v":45100},{"$f":"EmpDetail!J28","v":"L-11"}]
["ih ih vks dzekad ",null,{"$f":"D3","v":"1234567789AA"},null,"vkt fnukad &",null,"2021-03-15",null,"dks thfor ",null,null,null,26,{"$f":"EmpDetail!B29","v":"eks0 tehy "},{"$f":"EmpDetail!C29","v":"प्रबोधक"},{"$f":"EmpDetail!D29","v":"राप्रावि रसूलपुरा"},{"$f":"EmpDetail!E29","v":"1968-09-15"},"2028-09-30",{"$f":"EmpDetail!K29","v":45100},{"$f":"EmpDetail!J29","v":"L-11"}]
["gS rFkk eSus mUgSa ns[kk gSA ",null,null,null,null,null,null,null,null,null,null,null,27,{"$f":"EmpDetail!B30","v":"lkaojey tkV"},{"$f":"EmpDetail!C30","v":"अध्यापक ग्रेड III"},{"$f":"EmpDetail!D30","v":"राप्रावि रसूलपुरा"},{"$f":"EmpDetail!E30","v":"1992-03-03"},"2052-03-31",{"$f":"EmpDetail!K30","v":38000},{"$f":"EmpDetail!J30","v":"L-10"}]
["fnukad ",{"$f":"G30","v":"2021-03-15"},null,null,null,null,null,null,null,null,null,null,28,{"$f":"EmpDetail!B31","v":"pkS/kjh eksuk jkekorkj"},{"$f":"EmpDetail!C31","v":"अध्यापक ग्रेड III"},{"$f":"EmpDetail!D31","v":"राप्रावि मोहिनी ढाणी बाढ"},{"$f":"EmpDetail!E31","v":"1990-01-05"},"2050-01-31",{"$f":"EmpDetail!K31","v":38000},{"$f":"EmpDetail!J31","v":"L-10"}]
[null,null,null,null,"gLrk{kj",null,null,null,null,null,null,null,29,{"$f":"EmpDetail!B32","v":"rkjkpUn tk;loky"},{"$f":"EmpDetail!C32","v":"प्रबोधक"},{"$f":"EmpDetail!D32","v":"राप्रावि मोहिनी ढाणी बाढ"},{"$f":"EmpDetail!E32","v":"1976-11-11"},"2036-11-30",{"$f":"EmpDetail!K32","v":41300},{"$f":"EmpDetail!J32","v":"L-11"}]
[null,null,null,null,"jktif=r vf/kdkjh@fpfdRld@dks\"kkf/kdkjh e; lhy",null,null,null,null,null,null,null,30,{"$f":"EmpDetail!B33","v":"jketl ;kno"},{"$f":"EmpDetail!C33","v":"अध्यापक ग्रेड III"},{"$f":"EmpDetail!D33","v":"राप्रावि बैरवा ढाणी सोन्दीफल"},{"$f":"EmpDetail!E33","v":"1970-06-12"},"2030-06-30",{"$f":"EmpDetail!K33","v":63100},{"$f":"EmpDetail!J33","v":"L-12"}]
[null,null,null,null,null,null,null,null,null,null,null,null,31,{"$f":"EmpDetail!B34","v":"dtksMey eh.kk"},{"$f":"EmpDetail!C34","v":"अध्यापक ग्रेड III"},{"$f":"EmpDetail!D34","v":"राप्रावि बैरवा ढाणी सोन्दीफल"},{"$f":"EmpDetail!E34","v":"1990-07-01"},"2050-06-30",{"$f":"EmpDetail!K34","v":38000},{"$f":"EmpDetail!J34","v":"L-10"}]
[null,null,null,null,null,null,null,null,null,null,null,null,32,{"$f":"EmpDetail!B35","v":"/kaut; xkSRre"},{"$f":"EmpDetail!C35","v":"अध्यापक ग्रेड III"},{"$f":"EmpDetail!D35","v":"राउप्रावि गोरधनपुरा"},{"$f":"EmpDetail!E35","v":"1986-08-25"},"2046-08-31",{"$f":"EmpDetail!K35","v":34800},{"$f":"EmpDetail!J35","v":"L-10"}]
[null,null,null,null,null,null,null,null,null,null,null,null,33,{"$f":"EmpDetail!B36","v":"d`\".kk xaxoky"},{"$f":"EmpDetail!C36","v":"अध्यापक ग्रेड III"},{"$f":"EmpDetail!D36","v":"राउप्रावि गोरधनपुरा"},{"$f":"EmpDetail!E36","v":"1995-06-20"},"2055-06-30",{"$f":"EmpDetail!K36","v":33800},{"$f":"EmpDetail!J36","v":"L-10"}]
[null,null,null,null,null,null,null,null,null,null,null,null,34,{"$f":"EmpDetail!B37","v":"n'kjFk dqekj ;kno"},{"$f":"EmpDetail!C37","v":"अध्यापक ग्रेड III"},{"$f":"EmpDetail!D37","v":"राउप्रावि सोंदीफल"},{"$f":"EmpDetail!E37","v":"1991-01-01"},"2050-12-31",{"$f":"EmpDetail!K37","v":23700},{"$f":"EmpDetail!J37","v":"L-10"}]
[null,null,null,null,null,null,null,null,null,null,null,null,35,{"$f":"EmpDetail!B38","v":"d`\".k yky tkV"},{"$f":"EmpDetail!C38","v":"अध्यापक ग्रेड III"},{"$f":"EmpDetail!D38","v":"राउप्रावि सोंदीफल"},{"$f":"EmpDetail!E38","v":"1990-07-18"},"2050-07-31",{"$f":"EmpDetail!K38","v":33800},{"$f":"EmpDetail!J38","v":"L-10"}]
[null,null,null,null,null,null,null,null,null,null,null,null,36,{"$f":"EmpDetail!B39","v":"nhisUnz dqekj iztkir"},{"$f":"EmpDetail!C39","v":"अध्यापक ग्रेड III"},{"$f":"EmpDetail!D39","v":"राउप्रावि सोंदीफल"},{"$f":"EmpDetail!E39","v":"1994-07-12"},"2054-07-31",{"$f":"EmpDetail!K39","v":33800},{"$f":"EmpDetail!J39","v":"L-10"}]
[null,null,null,null,null,null,null,null,null,null,null,null,37,{"$f":"EmpDetail!B40","v":"uohu dqekj"},{"$f":"EmpDetail!C40","v":"अध्यापक ग्रेड III"},{"$f":"EmpDetail!D40","v":"राउप्रावि मोहिनी"},{"$f":"EmpDetail!E40","v":"1995-04-13"},"2055-04-30",{"$f":"EmpDetail!K40","v":33800},{"$f":"EmpDetail!J40","v":"L-10"}]
[null,null,null,null,null,null,null,null,null,null,null,null,38,{"$f":"EmpDetail!B41","v":"ehrs'k dqekj 'kekZ"},{"$f":"EmpDetail!C41","v":"अध्यापक ग्रेड III"},{"$f":"EmpDetail!D41","v":"राउप्रावि मोहिनी"},{"$f":"EmpDetail!E41","v":"1989-08-13"},"2049-08-31",{"$f":"EmpDetail!K41","v":34800},{"$f":"EmpDetail!J41","v":"L-10"}]
[null,null,null,null,null,null,null,null,null,null,null,null,39,{"$f":"EmpDetail!B42","v":"eUtw eh.kk"},{"$f":"EmpDetail!C42","v":"वरिष्ठ अध्यापक"},{"$f":"EmpDetail!D42","v":"राउप्रावि गोरधनपुरा"},{"$f":"EmpDetail!E42","v":"1991-01-06"},"2051-01-31",{"$f":"EmpDetail!K42","v":33800},{"$f":"EmpDetail!J42","v":"L-10"}]
[null,null,null,null,null,null,null,null,null,null,null,null,40,{"$f":"EmpDetail!B43","v":"eatw pkS/kjh"},{"$f":"EmpDetail!C43","v":"वरिष्ठ अध्यापक"},{"$f":"EmpDetail!D43","v":"राउप्रावि सोंदीफल"},{"$f":"EmpDetail!E43","v":"1991-08-04"},"2051-08-31",{"$f":"EmpDetail!K43","v":26500},{"$f":"EmpDetail!J43","v":"L-11"}]
[null,null,null,null,null,null,null,null,null,null,null,null,41,{"$f":"EmpDetail!B44","v":0},{"$f":"EmpDetail!C44","v":0},{"$f":"EmpDetail!D44","v":0},{"$f":"EmpDetail!E44","v":"00:00:00"},{"$error":"#NUM!"},{"$f":"EmpDetail!K44","v":0},{"$f":"EmpDetail!J44","v":0}]
[null,null,null,null,null,null,null,null,null,null,null,null,42,{"$f":"EmpDetail!B45","v":0},{"$f":"EmpDetail!C45","v":0},{"$f":"EmpDetail!D45","v":0},{"$f":"EmpDetail!E45","v":"00:00:00"},{"$error":"#NUM!"},{"$f":"EmpDetail!K45","v":0},{"$f":"EmpDetail!J45","v":0}]
[null,null,null,null,null,null,null,null,null,null,null,null,43,{"$f":"EmpDetail!B46","v":0},{"$f":"EmpDetail!C46","v":0},{"$f":"EmpDetail!D46","v":0},{"$f":"EmpDetail!E46","v":"00:00:00"},{"$error":"#NUM!"},{"$f":"EmpDetail!K46","v":0},{"$f":"EmpDetail!J46","v":0}]
[null,null,null,null,null,null,null,null,null,null,null,null,44,{"$f":"EmpDetail!B47","v":0},{"$f":"EmpDetail!C47","v":0},{"$f":"EmpDetail!D47","v":0},{"$f":"EmpDetail!E47","v":"00:00:00"},{"$error":"#NUM!"},{"$f":"EmpDetail!K47","v":0},{"$f":"EmpDetail!J47","v":0}]
[null,null,null,null,null,null,null,null,null,null,null,null,45,{"$f":"EmpDetail!B48","v":0},{"$f":"EmpDetail!C48","v":0},{"$f":"EmpDetail!D48","v":0},{"$f":"EmpDetail!E48","v":"00:00:00"},{"$error":"#NUM!"},{"$f":"EmpDetail!K48","v":0},{"$f":"EmpDetail!J48","v":0}]
[null,null,null,null,null,null,null,null,null,null,null,null,46,{"$f":"EmpDetail!B49","v":0},{"$f":"EmpDetail!C49","v":0},{"$f":"EmpDetail!D49","v":0},{"$f":"EmpDetail!E49","v":"00:00:00"},{"$error":"#NUM!"},{"$f":"EmpDetail!K49","v":0},{"$f":"EmpDetail!J49","v":0}]
[null,null,null,null,null,null,null,null,null,null,null,null,47,{"$f":"EmpDetail!B50","v":0},{"$f":"EmpDetail!C50","v":0},{"$f":"EmpDetail!D50","v":0},{"$f":"EmpDetail!E50","v":"00:00:00"},{"$error":"#NUM!"},{"$f":"EmpDetail!K50","v":0},{"$f":"EmpDetail!J50","v":0}]
[null,null,null,null,null,null,null,null,null,null,null,null,48,{"$f":"EmpDetail!B51","v":0},{"$f":"EmpDetail!C51","v":0},{"$f":"EmpDetail!D51","v":0},{"$f":"EmpDetail!E51","v":"00:00:00"},{"$error":"#NUM!"},{"$f":"EmpDetail!K51","v":0},{"$f":"EmpDetail!J51","v":0}]
[null,null,null,null,null,null,null,null,null,null,null,null,49,{"$f":"EmpDetail!B52","v":0},{"$f":"EmpDetail!C52","v":0},{"$f":"EmpDetail!D52","v":0},{"$f":"EmpDetail!E52","v":"00:00:00"},{"$error":"#NUM!"},{"$f":"EmpDetail!K52","v":0},{"$f":"EmpDetail!J52","v":0}]
[null,null,null,null,null,null,null,null,null,null,null,null,50,{"$f":"EmpDetail!B53","v":0},{"$f":"EmpDetail!C53","v":0},{"$f":"EmpDetail!D53","v":0},{"$f":"EmpDetail!E53","v":"00:00:00"},{"$error":"#NUM!"},{"$f":"EmpDetail!K53","v":0},{"$f":"EmpDetail!J53","v":0}]
[null,null,null,null,null,null,null,null,null,null,null,null,51,{"$f":"EmpDetail!B54","v":0},{"$f":"EmpDetail!C54","v":0},{"$f":"EmpDetail!D54","v":0},{"$f":"EmpDetail!E54","v":"00:00:00"},{"$error":"#NUM!"},{"$f":"EmpDetail!K54","v":0},{"$f":"EmpDetail!J54","v":0}]
[null,null,null,null,null,null,null,null,null,null,null,null,52,{"$f":"EmpDetail!B55","v":0},{"$f":"EmpDetail!C55","v":0},{"$f":"EmpDetail!D55","v":0},{"$f":"EmpDetail!E55","v":"00:00:00"},{"$error":"#NUM!"},{"$f":"EmpDetail!K55","v":0},{"$f":"EmpDetail!J55","v":0}]
[null,null,null,null,null,null,null,null,null,null,null,null,53,{"$f":"EmpDetail!B56","v":0},{"$f":"EmpDetail!C56","v":0},{"$f":"EmpDetail!D56","v":0},{"$f":"EmpDetail!E56","v":"00:00:00"},{"$error":"#NUM!"},{"$f":"EmpDetail!K56","v":0},{"$f":"EmpDetail!J56","v":0}]
[null,null,null,null,null,null,null,null,null,null,null,null,54,{"$f":"EmpDetail!B57","v":0},{"$f":"EmpDetail!C57","v":0},{"$f":"EmpDetail!D57","v":0},{"$f":"EmpDetail!E57","v":"00:00:00"},{"$error":"#NUM!"},{"$f":"EmpDetail!K57","v":0},{"$f":"EmpDetail!J57","v":0}]
[null,null,null,null,null,null,null,null,null,null,null,null,55,{"$f":"EmpDetail!B58","v":0},{"$f":"EmpDetail!C58","v":0},{"$f":"EmpDetail!D58","v":0},{"$f":"EmpDetail!E58","v":"00:00:00"},{"$error":"#NUM!"},{"$f":"EmpDetail!K58","v":0},{"$f":"EmpDetail!J58","v":0}]
[null,null,null,null,null,null,null,null,null,null,null,null,56,{"$f":"EmpDetail!B59","v":0},{"$f":"EmpDetail!C59","v":0},{"$f":"EmpDetail!D59","v":0},{"$f":"EmpDetail!E59","v":"00:00:00"},{"$error":"#NUM!"},{"$f":"EmpDetail!K59","v":0},{"$f":"EmpDetail!J59","v":0}]
[null,null,null,null,null,null,null,null,null,null,null,null,57,{"$f":"EmpDetail!B60","v":0},{"$f":"EmpDetail!C60","v":0},{"$f":"EmpDetail!D60","v":0},{"$f":"EmpDetail!E60","v":"00:00:00"},{"$error":"#NUM!"},{"$f":"EmpDetail!K60","v":0},{"$f":"EmpDetail!J60","v":0}]
[null,null,null,null,null,null,null,null,null,null,null,null,58,{"$f":"EmpDetail!B61","v":0},{"$f":"EmpDetail!C61","v":0},{"$f":"EmpDetail!D61","v":0},{"$f":"EmpDetail!E61","v":"00:00:00"},{"$error":"#NUM!"},{"$f":"EmpDetail!K61","v":0},{"$f":"EmpDetail!J61","v":0}]
[null,null,null,null,null,null,null,null,null,null,null,null,59,{"$f":"EmpDetail!B62","v":0},{"$f":"EmpDetail!C62","v":0},{"$f":"EmpDetail!D62","v":0},{"$f":"EmpDetail!E62","v":"00:00:00"},{"$error":"#NUM!"},{"$f":"EmpDetail!K62","v":0},{"$f":"EmpDetail!J62","v":0}]
[null,null,null,null,null,null,null,null,null,null,null,null,60,{"$f":"EmpDetail!B63","v":0},{"$f":"EmpDetail!C63","v":0},{"$f":"EmpDetail!D63","v":0},{"$f":"EmpDetail!E63","v":"00:00:00"},{"$error":"#NUM!"},{"$f":"EmpDetail!K63","v":0},{"$f":"EmpDetail!J63","v":0}]
[null,null,null,null,null,null,null,null,null,null,null,null,61,{"$f":"EmpDetail!B64","v":0},{"$f":"EmpDetail!C64","v":0},{"$f":"EmpDetail!D64","v":0},{"$f":"EmpDetail!E64","v":"00:00:00"},{"$error":"#NUM!"},{"$f":"EmpDetail!K64","v":0},{"$f":"EmpDetail!J64","v":0}]
[null,null,null,null,null,null,null,null,null,null,null,null,62,{"$f":"EmpDetail!B65","v":0},{"$f":"EmpDetail!C65","v":0},{"$f":"EmpDetail!D65","v":0},{"$f":"EmpDetail!E65","v":"00:00:00"},{"$error":"#NUM!"},{"$f":"EmpDetail!K65","v":0},{"$f":"EmpDetail!J65","v":0}]
[null,null,null,null,null,null,null,null,null,null,null,null,63,{"$f":"EmpDetail!B66","v":0},{"$f":"EmpDetail!C66","v":0},{"$f":"EmpDetail!D66","v":0},{"$f":"EmpDetail!E66","v":"00:00:00"},{"$error":"#NUM!"},{"$f":"EmpDetail!K66","v":0},{"$f":"EmpDetail!J66","v":0}]
[null,null,null,null,null,null,null,null,null,null,null,null,64,{"$f":"EmpDetail!B67","v":0},{"$f":"EmpDetail!C67","v":0},{"$f":"EmpDetail!D67","v":0},{"$f":"EmpDetail!E67","v":"00:00:00"},{"$error":"#NUM!"},{"$f":"EmpDetail!K67","v":0},{"$f":"EmpDetail!J67","v":0}]
[null,null,null,null,null,null,null,null,null,null,null,null,65,{"$f":"EmpDetail!B68","v":0},{"$f":"EmpDetail!C68","v":0},{"$f":"EmpDetail!D68","v":0},{"$f":"EmpDetail!E68","v":"00:00:00"},{"$error":"#NUM!"},{"$f":"EmpDetail!K68","v":0},{"$f":"EmpDetail!J68","v":0}]
[null,null,null,null,null,null,null,null,null,null,null,null,66,{"$f":"EmpDetail!B69","v":0},{"$f":"EmpDetail!C69","v":0},{"$f":"EmpDetail!D69","v":0},{"$f":"EmpDetail!E69","v":"00:00:00"},{"$f":"IF(Q70=\"\",\"\",DATE(YEAR(Q70-1)+60,(MONTH(Q70-1))+1,0))","v":{"$error":"#NUM!"}},{"$f":"EmpDetail!K69","v":0},{"$f":"EmpDetail!J69","v":0}]
[null,null,null,null,null,null,null,null,null,null,null,null,67,{"$f":"EmpDetail!B70","v":0},{"$f":"EmpDetail!C70","v":0},{"$f":"EmpDetail!D70","v":0},{"$f":"EmpDetail!E70","v":"00:00:00"},{"$error":"#NUM!"},{"$f":"EmpDetail!K70","v":0},{"$f":"EmpDetail!J70","v":0}]
[null,null,null,null,null,null,null,null,null,null,null,null,68,{"$f":"EmpDetail!B71","v":0},{"$f":"EmpDetail!C71","v":0},{"$f":"EmpDetail!D71","v":0},{"$f":"EmpDetail!E71","v":"00:00:00"},{"$error":"#NUM!"},{"$f":"EmpDetail!K71","v":0},{"$f":"EmpDetail!J71","v":0}]
[null,null,null,null,null,null,null,null,null,null,null,null,69,{"$f":"EmpDetail!B72","v":0},{"$f":"EmpDetail!C72","v":0},{"$f":"EmpDetail!D72","v":0},{"$f":"EmpDetail!E72","v":"00:00:00"},{"$error":"#NUM!"},{"$f":"EmpDetail!K72","v":0},{"$f":"EmpDetail!J72","v":0}]
[null,null,null,null,null,null,null,null,null,null,null,null,70,{"$f":"EmpDetail!B73","v":0},{"$f":"EmpDetail!C73","v":0},{"$f":"EmpDetail!D73","v":0},{"$f":"EmpDetail!E73","v":"00:00:00"},{"$error":"#NUM!"},{"$f":"EmpDetail!K73","v":0},{"$f":"EmpDetail!J73","v":0}]
[null,null,null,null,null,null,null,null,null,null,null,null,71,{"$f":"EmpDetail!B74","v":0},{"$f":"EmpDetail!C74","v":0},{"$f":"EmpDetail!D74","v":0},{"$f":"EmpDetail!E74","v":"00:00:00"},{"$error":"#NUM!"},{"$f":"EmpDetail!K74","v":0},{"$f":"EmpDetail!J74","v":0}]
[null,null,null,null,null,null,null,null,null,null,null,null,72,{"$f":"EmpDetail!B75","v":0},{"$f":"EmpDetail!C75","v":0},{"$f":"EmpDetail!D75","v":0},{"$f":"EmpDetail!E75","v":"00:00:00"},{"$error":"#NUM!"},{"$f":"EmpDetail!K75","v":0},{"$f":"EmpDetail!J75","v":0}]
[null,null,null,null,null,null,null,null,null,null,null,null,73,{"$f":"EmpDetail!B76","v":0},{"$f":"EmpDetail!C76","v":0},{"$f":"EmpDetail!D76","v":0},{"$f":"EmpDetail!E76","v":"00:00:00"},{"$error":"#NUM!"},{"$f":"EmpDetail!K76","v":0},{"$f":"EmpDetail!J76","v":0}]
[null,null,null,null,null,null,null,null,null,null,null,null,74,{"$f":"EmpDetail!B77","v":0},{"$f":"EmpDetail!C77","v":0},{"$f":"EmpDetail!D77","v":0},{"$f":"EmpDetail!E77","v":"00:00:00"},{"$error":"#NUM!"},{"$f":"EmpDetail!K77","v":0},{"$f":"EmpDetail!J77","v":0}]
[null,null,null,null,null,null,null,null,null,null,null,null,75,{"$f":"EmpDetail!B78","v":0},{"$f":"EmpDetail!C78","v":0},{"$f":"EmpDetail!D78","v":0},{"$f":"EmpDetail!E78","v":"00:00:00"},{"$error":"#NUM!"},{"$f":"EmpDetail!K78","v":0},{"$f":"EmpDetail!J78","v":0}]
[null,null,null,null,null,null,null,null,null,null,null,null,76,{"$f":"EmpDetail!B79","v":0},{"$f":"EmpDetail!C79","v":0},{"$f":"EmpDetail!D79","v":0},{"$f":"EmpDetail!E79","v":"00:00:00"},{"$error":"#NUM!"},{"$f":"EmpDetail!K79","v":0},{"$f":"EmpDetail!J79","v":0}]
[null,null,null,null,null,null,null,null,null,null,null,null,77,{"$f":"EmpDetail!B80","v":0},{"$f":"EmpDetail!C80","v":0},{"$f":"EmpDetail!D80","v":0},{"$f":"EmpDetail!E80","v":"00:00:00"},{"$error":"#NUM!"},{"$f":"EmpDetail!K80","v":0},{"$f":"EmpDetail!J80","v":0}]
[null,null,null,null,null,null,null,null,null,null,null,null,78,{"$f":"EmpDetail!B81","v":0},{"$f":"EmpDetail!C81","v":0},{"$f":"EmpDetail!D81","v":0},{"$f":"EmpDetail!E81","v":"00:00:00"},{"$error":"#NUM!"},{"$f":"EmpDetail!K81","v":0},{"$f":"EmpDetail!J81","v":0}]
[null,null,null,null,null,null,null,null,null,null,null,null,79,{"$f":"EmpDetail!B82","v":0},{"$f":"EmpDetail!C82","v":0},{"$f":"EmpDetail!D82","v":0},{"$f":"EmpDetail!E82","v":"00:00:00"},{"$error":"#NUM!"},{"$f":"EmpDetail!K82","v":0},{"$f":"EmpDetail!J82","v":0}]
[null,null,null,null,null,null,null,null,null,null,null,null,80,{"$f":"EmpDetail!B83","v":0},{"$f":"EmpDetail!C83","v":0},{"$f":"EmpDetail!D83","v":0},{"$f":"EmpDetail!E83","v":"00:00:00"},{"$error":"#NUM!"},{"$f":"EmpDetail!K83","v":0},{"$f":"EmpDetail!J83","v":0}]
[null,null,null,null,null,null,null,null,null,null,null,null,81,{"$f":"EmpDetail!B84","v":0},{"$f":"EmpDetail!C84","v":0},{"$f":"EmpDetail!D84","v":0},{"$f":"EmpDetail!E84","v":"00:00:00"},{"$error":"#NUM!"},{"$f":"EmpDetail!K84","v":0},{"$f":"EmpDetail!J84","v":0}]
[null,null,null,null,null,null,null,null,null,null,null,null,82,{"$f":"EmpDetail!B85","v":0},{"$f":"EmpDetail!C85","v":0},{"$f":"EmpDetail!D85","v":0},{"$f":"EmpDetail!E85","v":"00:00:00"},{"$error":"#NUM!"},{"$f":"EmpDetail!K85","v":0},{"$f":"EmpDetail!J85","v":0}]
[null,null,null,null,null,null,null,null,null,null,null,null,83,{"$f":"EmpDetail!B86","v":0},{"$f":"EmpDetail!C86","v":0},{"$f":"EmpDetail!D86","v":0},{"$f":"EmpDetail!E86","v":"00:00:00"},{"$error":"#NUM!"},{"$f":"EmpDetail!K86","v":0},{"$f":"EmpDetail!J86","v":0}]
[null,null,null,null,null,null,null,null,null,null,null,null,84,{"$f":"EmpDetail!B87","v":0},{"$f":"EmpDetail!C87","v":0},{"$f":"EmpDetail!D87","v":0},{"$f":"EmpDetail!E87","v":"00:00:00"},{"$error":"#NUM!"},{"$f":"EmpDetail!K87","v":0},{"$f":"EmpDetail!J87","v":0}]
[null,null,null,null,null,null,null,null,null,null,null,null,85,{"$f":"EmpDetail!B88","v":0},{"$f":"EmpDetail!C88","v":0},{"$f":"EmpDetail!D88","v":0},{"$f":"EmpDetail!E88","v":"00:00:00"},{"$error":"#NUM!"},{"$f":"EmpDetail!K88","v":0},{"$f":"EmpDetail!J88","v":0}]
[null,null,null,null,null,null,null,null,null,null,null,null,86,{"$f":"EmpDetail!B89","v":0},{"$f":"EmpDetail!C89","v":0},{"$f":"EmpDetail!D89","v":0},{"$f":"EmpDetail!E89","v":"00:00:00"},{"$error":"#NUM!"},{"$f":"EmpDetail!K89","v":0},{"$f":"EmpDetail!J89","v":0}]
[null,null,null,null,null,null,null,null,null,null,null,null,87,{"$f":"EmpDetail!B90","v":0},{"$f":"EmpDetail!C90","v":0},{"$f":"EmpDetail!D90","v":0},{"$f":"EmpDetail!E90","v":"00:00:00"},{"$error":"#NUM!"},{"$f":"EmpDetail!K90","v":0},{"$f":"EmpDetail!J90","v":0}]
[null,null,null,null,null,null,null,null,null,null,null,null,88,{"$f":"EmpDetail!B91","v":0},{"$f":"EmpDetail!C91","v":0},{"$f":"EmpDetail!D91","v":0},{"$f":"EmpDetail!E91","v":"00:00:00"},{"$error":"#NUM!"},{"$f":"EmpDetail!K91","v":0},{"$f":"EmpDetail!J91","v":0}]
[null,null,null,null,null,null,null,null,null,null,null,null,89,{"$f":"EmpDetail!B92","v":0},{"$f":"EmpDetail!C92","v":0},{"$f":"EmpDetail!D92","v":0},{"$f":"EmpDetail!E92","v":"00:00:00"},{"$error":"#NUM!"},{"$f":"EmpDetail!K92","v":0},{"$f":"EmpDetail!J92","v":0}]
[null,null,null,null,null,null,null,null,null,null,null,null,90,{"$f":"EmpDetail!B93","v":0},{"$f":"EmpDetail!C93","v":0},{"$f":"EmpDetail!D93","v":0},{"$f":"EmpDetail!E93","v":"00:00:00"},{"$error":"#NUM!"},{"$f":"EmpDetail!K93","v":0},{"$f":"EmpDetail!J93","v":0}]
[null,null,null,null,null,null,null,null,null,null,null,null,91,{"$f":"EmpDetail!B94","v":0},{"$f":"EmpDetail!C94","v":0},{"$f":"EmpDetail!D94","v":0},{"$f":"EmpDetail!E94","v":"00:00:00"},{"$error":"#NUM!"},{"$f":"EmpDetail!K94","v":0},{"$f":"EmpDetail!J94","v":0}]
[null,null,null,null,null,null,null,null,null,null,null,null,92,{"$f":"EmpDetail!B95","v":0},{"$f":"EmpDetail!C95","v":0},{"$f":"EmpDetail!D95","v":0},{"$f":"EmpDetail!E95","v":"00:00:00"},{"$error":"#NUM!"},{"$f":"EmpDetail!K95","v":0},{"$f":"EmpDetail!J95","v":0}]
[null,null,null,null,null,null,null,null,null,null,null,null,93,{"$f":"EmpDetail!B96","v":0},{"$f":"EmpDetail!C96","v":0},{"$f":"EmpDetail!D96","v":0},{"$f":"EmpDetail!E96","v":"00:00:00"},{"$error":"#NUM!"},{"$f":"EmpDetail!K96","v":0},{"$f":"EmpDetail!J96","v":0}]
[null,null,null,null,null,null,null,null,null,null,null,null,94,{"$f":"EmpDetail!B97","v":0},{"$f":"EmpDetail!C97","v":0},{"$f":"EmpDetail!D97","v":0},{"$f":"EmpDetail!E97","v":"00:00:00"},{"$error":"#NUM!"},{"$f":"EmpDetail!K97","v":0},{"$f":"EmpDetail!J97","v":0}]
[null,null,null,null,null,null,null,null,null,null,null,null,95,{"$f":"EmpDetail!B98","v":0},{"$f":"EmpDetail!C98","v":0},{"$f":"EmpDetail!D98","v":0},{"$f":"EmpDetail!E98","v":"00:00:00"},{"$error":"#NUM!"},{"$f":"EmpDetail!K98","v":0},{"$f":"EmpDetail!J98","v":0}]
[null,null,null,null,null,null,null,null,null,null,null,null,96,{"$f":"EmpDetail!B99","v":0},{"$f":"EmpDetail!C99","v":0},{"$f":"EmpDetail!D99","v":0},{"$f":"EmpDetail!E99","v":"00:00:00"},{"$error":"#NUM!"},{"$f":"EmpDetail!K99","v":0},{"$f":"EmpDetail!J99","v":0}]
[null,null,null,null,null,null,null,null,null,null,null,null,97,{"$f":"EmpDetail!B100","v":0},{"$f":"EmpDetail!C100","v":0},{"$f":"EmpDetail!D100","v":0},{"$f":"EmpDetail!E100","v":"00:00:00"},{"$error":"#NUM!"},{"$f":"EmpDetail!K100","v":0},{"$f":"EmpDetail!J100","v":0}]
[null,null,null,null,null,null,null,null,null,null,null,null,98,{"$f":"EmpDetail!B101","v":0},{"$f":"EmpDetail!C101","v":0},{"$f":"EmpDetail!D101","v":0},{"$f":"EmpDetail!E101","v":"00:00:00"},{"$error":"#NUM!"},{"$f":"EmpDetail!K101","v":0},{"$f":"EmpDetail!J101","v":0}]
[null,null,null,null,null,null,null,null,null,null,null,null,99,{"$f":"EmpDetail!B102","v":0},{"$f":"EmpDetail!C102","v":0},{"$f":"EmpDetail!D102","v":0},{"$f":"EmpDetail!E102","v":"00:00:00"},{"$error":"#NUM!"},{"$f":"EmpDetail!K102","v":0},{"$f":"EmpDetail!J102","v":0}]
[null,null,null,null,null,null,null,null,null,null,null,null,100,{"$f":"EmpDetail!B103","v":0},{"$f":"EmpDetail!C103","v":0},{"$f":"EmpDetail!D103","v":0},{"$f":"EmpDetail!E103","v":"00:00:00"},{"$error":"#NUM!"},{"$f":"EmpDetail!K103","v":0},{"$f":"EmpDetail!J103","v":0}]

{"sheet":"Voluntry Retire","index":62,"n_rows":104,"n_cols":21,"rows_kept":104,"cut":false,"hidden":true,"merged":[[4,9,4,11],[4,0,4,1],[48,0,48,4],[50,0,50,5],[58,4,58,5],[15,6,16,6],[32,0,32,6],[33,0,33,6],[14,0,14,1],[14,2,14,4],[15,0,16,0],[15,1,16,1],[15,2,16,2],[15,3,15,5],[13,0,13,1],[13,2,13,4],[27,4,27,6],[9,0,9,1],[9,2,9,4],[10,0,10,1],[10,2,10,4],[11,0,12,1],[59,4,59,5],[38,5,38,6],[39,5,39,6],[40,5,40,6],[45,0,45,5],[46,0,46,6],[48,5,48,6],[49,1,49,2],[49,4,49,5],[5,2,5,4],[0,0,0,6],[1,0,1,6],[2,2,2,4],[3,2,3,4],[4,2,4,4],[6,0,6,1],[6,2,6,4],[7,0,7,1],[7,2,7,4],[8,0,8,1],[8,2,8,4]]}
["LoSfPNd lsok&fuo`fr ysus gsrq izkFkZuk&i="]
["¼ jktLFkku flfoy lsok fu;e ¼isU'ku½ 1996 ds fu;e 50 ¼1½ o 51 ds vUrxZr "]
["orZeku inLFkkiu LFkku ",null,{"$f":"P4","v":"राउप्रावि सोंदीफल"},null,null,"orZeku in ",{"$f":"O4","v":"प्रबोधक"}]
["yksdlsod dk uke",null,{"$f":"N4","v":"jken;ky xqtZj"},null,null,"nwjHkk\"k uEcj ",9829456789,null,null,null,null,null,null,{"$f":"IF(ISNA(VLOOKUP($K6,$M$5:$R$104,2,FALSE)),\"\",VLOOKUP($K6,$M$5:$R$104,2,FALSE))","v":"jken;ky xqtZj"},{"$f":"IF(ISNA(VLOOKUP($K6,$M$5:$R$104,3,FALSE)),\"\",VLOOKUP($K6,$M$5:$R$104,3,FALSE))","v":"प्रबोधक"},{"$f":"IF(ISNA(VLOOKUP($K6,$M$5:$R$104,4,FALSE)),\"\",VLOOKUP($K6,$M$5:$R$104,4,FALSE))","v":"राउप्रावि सोंदीफल"},{"$f":"IF(ISNA(VLOOKUP($K6,$M$5:$R$104,5,FALSE)),\"\",VLOOKUP($K6,$M$5:$R$104,5,FALSE))","v":"1977-08-18"},{"$f":"IF(ISNA(VLOOKUP($K6,$M$5:$R$104,6,FALSE)),\"\",VLOOKUP($K6,$M$5:$R$104,6,FALSE))","v":"2037-08-31"},{"$f":"IF(ISNA(VLOOKUP($K6,$M$5:$T$104,7,FALSE)),\"\",VLOOKUP($K6,$M$5:$T$104,7,FALSE))","v":45100},{"$f":"IF(ISNA(VLOOKUP($K6,$M$5:$T$104,8,FALSE)),\"\",VLOOKUP($K6,$M$5:$T$104,8,FALSE))","v":"L-11"},{"$f":"IF(ISNA(VLOOKUP($K6,$M$5:$U$104,9,FALSE)),\"\",VLOOKUP($K6,$M$5:$U$104,9,FALSE))","v":"00:00:00"}]
["firk@ifr dk uke Jh",null,"jkeQwy xqtZj",null,null,"tUe frfFk",{"$f":"Q4","v":"1977-08-18"},null,null,"dkfeZd dk dzekad fy[ksa",null,null,1,{"$f":"EmpDetail!B4","v":"fd'ku yky cSjok"},{"$f":"EmpDetail!C4","v":"प्रधानाचार्य"},{"$f":"EmpDetail!D4","v":"राउमावि चौगाई"},{"$f":"EmpDetail!E4","v":"1962-01-10"},{"$f":"IF(Q5=\"\",\"\",DATE(YEAR(Q5-1)+60,(MONTH(Q5-1))+1,0))","v":"2022-01-31"},{"$f":"EmpDetail!K4","v":95900},{"$f":"EmpDetail!J4","v":"L-16"},{"$f":"EmpDetail!F4","v":"00:00:00"}]
["dkfeZd vkbZ Mh- ua-",null,"RJTO198836028883",null,null,"lsokfuo`fr frfFk",{"$f":"R4","v":"2037-08-31"},null,null,null,22,null,2,{"$f":"EmpDetail!B5","v":"iwj.k pUn y{kdkj"},{"$f":"EmpDetail!C5","v":"व्याख्याता"},{"$f":"EmpDetail!D5","v":"राउमावि चौगाई"},{"$f":"EmpDetail!E5","v":"1971-07-08"},{"$f":"IF(Q6=\"\",\"\",DATE(YEAR(Q6-1)+60,(MONTH(Q6-1))+1,0))","v":"2031-07-31"},{"$f":"EmpDetail!K5","v":56100},{"$f":"EmpDetail!J5","v":"L-12"},{"$f":"EmpDetail!F5","v":"00:00:00"}]
["D;k yksdlsod lsok vof/k esa fuyfEcr jgs gSa gkWa rks dc ls dc rd \\ fuyfEcr vof/k dks isa'ku ;kX; ekuk x;k gS \\ ",null,"ugha",null,null,"lsok esa izFke fu;qfDr frfFk ",{"$f":"U4","v":"00:00:00"},null,null,null,null,null,3,{"$f":"EmpDetail!B6","v":"jktsUnz dqekj tSu"},{"$f":"EmpDetail!C6","v":"व्याख्याता"},{"$f":"EmpDetail!D6","v":"राउमावि चौगाई"},{"$f":"EmpDetail!E6","v":"1968-09-14"},"2028-09-30",{"$f":"EmpDetail!K6","v":63100},{"$f":"EmpDetail!J6","v":"L-12"},{"$f":"EmpDetail!F6","v":"00:00:00"}]
["lEiw.kZ lsokdky esa fcuk osru vodk'k dk fooj.k %&",null,"ugha",null,null,"fu;qfDr dk izdkj ","सीधी भर्ती ",null,null,null,null,null,4,{"$f":"EmpDetail!B7","v":"fd'ku yky cSjok"},{"$f":"EmpDetail!C7","v":"व्याख्याता"},{"$f":"EmpDetail!D7","v":"राउमावि चौगाई"},{"$f":"EmpDetail!E7","v":"1974-07-07"},"2034-07-31",{"$f":"EmpDetail!K7","v":54500},{"$f":"EmpDetail!J7","v":"L-12"},{"$f":"EmpDetail!F7","v":"00:00:00"}]
["D;k yksdlsod orZeku esa fuyfEcr gS \\ ;fn gkWa rks dc ls \\ rFkk dkj.k ",null,"ugha",null,null,"45 o\"kZ dh vk;q iw.kZ djus dh frfFk ","2020-03-22",null,null,null,null,null,5,{"$f":"EmpDetail!B8","v":"lR;ukjk;.k 'kekZ"},{"$f":"EmpDetail!C8","v":"वरिष्ठ अध्यापक"},{"$f":"EmpDetail!D8","v":"राउमावि चौगाई"},{"$f":"EmpDetail!E8","v":"1962-07-01"},"2022-06-30",{"$f":"EmpDetail!K8","v":71300},{"$f":"EmpDetail!J8","v":"L-13"},{"$f":"EmpDetail!F8","v":"00:00:00"}]
["D;k yksdlsod ds fo:) lh-lh-,- 16 o 17 ds fu;eksa ds vUrxZr vuq'kklukRed dk;Zokgh fopkjk/khu gS mldk fooj.k &",null,"ugha",null,null,"ofj\"Brk uEcj o o\"kZ ","17/2019-2020",null,null,null,null,null,6,{"$f":"EmpDetail!B9","v":"iq\"ik tSu"},{"$f":"EmpDetail!C9","v":"वरिष्ठ अध्यापक"},{"$f":"EmpDetail!D9","v":"राउमावि चौगाई"},{"$f":"EmpDetail!E9","v":"1964-04-10"},"2024-04-30",{"$f":"EmpDetail!K9","v":73400},{"$f":"EmpDetail!J9","v":"L-13"},{"$f":"EmpDetail!F9","v":"00:00:00"}]
["D;k yksdlsod ds fo:) dksbZ U;k;ky; es QkStnkjh eqdnek fopkjk/khu gS A ;fn gkWa rks mldk fooj.k &",null,"ugha",null,null,"Mhihlh p;u o\"kZ ","2019-2020",null,null,null,null,null,7,{"$f":"EmpDetail!B10","v":"vk'kkjke eh.kk"},{"$f":"EmpDetail!C10","v":"वरिष्ठ अध्यापक"},{"$f":"EmpDetail!D10","v":"राउमावि चौगाई"},{"$f":"EmpDetail!E10","v":"1978-06-11"},"2038-06-30",{"$f":"EmpDetail!K10","v":52300},{"$f":"EmpDetail!J10","v":"L-11"},{"$f":"EmpDetail!F10","v":"00:00:00"}]
["vgZd ¼DokfyQkbax½ dqy lsok vof/k ",null,"    o\"kZ     ","    ekg      ","fnu","osru o xzsM is osru J`a[kyk ",{"$f":"S4","v":45100},null,null,null,null,null,8,{"$f":"EmpDetail!B11","v":"t;iky flag"},{"$f":"EmpDetail!C11","v":"वरिष्ठ अध्यापक"},{"$f":"EmpDetail!D11","v":"राउमावि चौगाई"},{"$f":"EmpDetail!E11","v":"1972-02-02"},"2032-02-29",{"$f":"EmpDetail!K11","v":63100},{"$f":"EmpDetail!J11","v":"L-12"},{"$f":"EmpDetail!F11","v":"00:00:00"}]
[null,null,25,10,13,"is esfVªDl ysoy",{"$f":"T4","v":"L-11"},null,null,null,null,null,9,{"$f":"EmpDetail!B12","v":"jkeizlkn jsxj"},{"$f":"EmpDetail!C12","v":"वरिष्ठ अध्यापक"},{"$f":"EmpDetail!D12","v":"राउमावि चौगाई"},{"$f":"EmpDetail!E12","v":"1978-06-01"},"2038-05-31",{"$f":"EmpDetail!K12","v":46500},{"$f":"EmpDetail!J12","v":"L-11"},{"$f":"EmpDetail!F12","v":"00:00:00"}]
["D;k yksdlsod ds fo:) dksbZ cdk;k jkf'k dh olwyh djuk 'ks\"k gS \\ ;fn gkWa rks mldk fooj.k &",null,"ugha",null,null,"VRS pkgus dk dkj.k ","पारिवारीक कारण से ",null,null,null,null,null,10,{"$f":"EmpDetail!B13","v":"egsUnz dqekj tkV"},{"$f":"EmpDetail!C13","v":"शारीरिक शिक्षक"},{"$f":"EmpDetail!D13","v":"राउमावि चौगाई"},{"$f":"EmpDetail!E13","v":"1976-01-30"},"2036-01-31",{"$f":"EmpDetail!K13","v":61300},{"$f":"EmpDetail!J13","v":"L-12"},{"$f":"EmpDetail!F13","v":"00:00:00"}]
["VRS ysus gsrq izkFkZuk&i= izLrqr djus dh frFkh",null,"2021-07-13",null,null,"VRS pkgus dh frfFk","2021-08-31",null,null,null,null,null,11,{"$f":"EmpDetail!B14","v":"NksVw yky jsxj"},{"$f":"EmpDetail!C14","v":"अध्यापक ग्रेड III"},{"$f":"EmpDetail!D14","v":"राउमावि चौगाई"},{"$f":"EmpDetail!E14","v":"1967-07-10"},"2027-07-31",{"$f":"EmpDetail!K14","v":65200},{"$f":"EmpDetail!J14","v":"L-13"},{"$f":"EmpDetail!F14","v":"00:00:00"}]
["dz-la-","dk;kZy; dk uke","ftyk ","dk;Zjr vof/k dc ls dc rd ",null,null,"¼03 ikoj½ jgs ¼gkWa@ugha½",null,null,null,null,null,12,{"$f":"EmpDetail!B15","v":"dUgS;k yky egkoj"},{"$f":"EmpDetail!C15","v":"अध्यापक ग्रेड III"},{"$f":"EmpDetail!D15","v":"राउमावि चौगाई"},{"$f":"EmpDetail!E15","v":"1962-04-05"},"2022-04-30",{"$f":"EmpDetail!K15","v":65200},{"$f":"EmpDetail!J15","v":"L-13"},{"$f":"EmpDetail!F15","v":"00:00:00"}]
[null,null,null,"fnukad","ls","fnukad",null,null,null,null,null,null,13,{"$f":"EmpDetail!B16","v":"prqHkqZt tkV"},{"$f":"EmpDetail!C16","v":"अध्यापक ग्रेड III"},{"$f":"EmpDetail!D16","v":"राउमावि चौगाई"},{"$f":"EmpDetail!E16","v":"1976-04-04"},"2036-04-30",{"$f":"EmpDetail!K16","v":52300},{"$f":"EmpDetail!J16","v":"L-11"},{"$f":"EmpDetail!F16","v":"2005-04-13"}]
[1,"jkmekfo dkadjksyh","jktleUn","01.03.2021","ls","21.03.2021","ugha",null,null,null,null,null,14,{"$f":"EmpDetail!B17","v":"vklsQk [kku"},{"$f":"EmpDetail!C17","v":"अध्यापक ग्रेड III"},{"$f":"EmpDetail!D17","v":"राउमावि चौगाई"},{"$f":"EmpDetail!E17","v":"1971-01-10"},"2031-01-31",{"$f":"EmpDetail!K17","v":52300},{"$f":"EmpDetail!J17","v":"L-11"},{"$f":"EmpDetail!F17","v":"00:00:00"}]
[2,"jkmekfo dkadjksyh","jktleUn","01.03.2022","ls","21.03.2022","ugha",null,null,null,null,null,15,{"$f":"EmpDetail!B18","v":"lq'khyk cSjok"},{"$f":"EmpDetail!C18","v":"कनिष्ठ सहायक"},{"$f":"EmpDetail!D18","v":"राउमावि चौगाई"},{"$f":"EmpDetail!E18","v":"1995-01-01"},"2054-12-31",{"$f":"EmpDetail!K18","v":14600},{"$f":"EmpDetail!J18","v":"L-5"},{"$f":"EmpDetail!F18","v":"00:00:00"}]
["     izekf.kr fd;k tkrk gS fd mDr vafdr fooj.k lR; gS ,oa LoSfPNd lsokfuo`fr vkosnu ",null,null,null,null,null,null,null,null,null,null,null,16,{"$f":"EmpDetail!B19","v":"txnh'k izlkn rsyh"},{"$f":"EmpDetail!C19","v":"सहायक कर्मचारी"},{"$f":"EmpDetail!D19","v":"राउमावि चौगाई"},{"$f":"EmpDetail!E19","v":"1962-06-04"},"2022-06-30",{"$f":"EmpDetail!K19","v":34700},{"$f":"EmpDetail!J19","v":"L-5"},{"$f":"EmpDetail!F19","v":"00:00:00"}]
["dks esjs }kjk fujLr ugha djk;k tk,xkA",null,null,null,null,null,null,null,null,null,null,null,17,{"$f":"EmpDetail!B20","v":"jfoUnz dqekj tSu"},{"$f":"EmpDetail!C20","v":"अध्यापक ग्रेड III"},{"$f":"EmpDetail!D20","v":"राउप्रावि मोहिनी"},{"$f":"EmpDetail!E20","v":"1967-08-24"},"2027-08-31",{"$f":"EmpDetail!K20","v":65200},{"$f":"EmpDetail!J20","v":"L-12"},{"$f":"EmpDetail!F20","v":"00:00:00"}]
["layXu djaas %& 1- LVkEi isij ij 'kiFk i= ¼izk:i&6½",null,null,null,null,null,null,null,null,null,null,null,18,{"$f":"EmpDetail!B21","v":" ';ke lqUnj ckxkSM"},{"$f":"EmpDetail!C21","v":"अध्यापक ग्रेड III"},{"$f":"EmpDetail!D21","v":"राउप्रावि मोहिनी"},{"$f":"EmpDetail!E21","v":"1983-08-10"},"2043-08-31",{"$f":"EmpDetail!K21","v":40300},{"$f":"EmpDetail!J21","v":"L-10"},{"$f":"EmpDetail!F21","v":"00:00:00"}]
["2- vfUre laLFkk dk vns; izek.k&i=",null,null,null,null,null,null,null,null,null,null,null,19,{"$f":"EmpDetail!B22","v":"d`\".kk 'kekZ"},{"$f":"EmpDetail!C22","v":"प्रबोधक"},{"$f":"EmpDetail!D22","v":"राउप्रावि मोहिनी"},{"$f":"EmpDetail!E22","v":"1972-08-06"},"2032-08-31",{"$f":"EmpDetail!K22","v":45100},{"$f":"EmpDetail!J22","v":"L-11"},{"$f":"EmpDetail!F22","v":"00:00:00"}]
["3- jktif=r&dky dk lsok fooj.k] fuEu fu/kkZfjr izi= esa fHktokosa& ¼ikWap izfr;kWa½",null,null,null,null,null,null,null,null,null,null,null,20,{"$f":"EmpDetail!B23","v":"/keZsUnz pkS/kjh"},{"$f":"EmpDetail!C23","v":"अध्यापक ग्रेड III"},{"$f":"EmpDetail!D23","v":"राउप्रावि गोरधनपुरा"},{"$f":"EmpDetail!E23","v":"1990-03-05"},"2050-03-31",{"$f":"EmpDetail!K23","v":40300},{"$f":"EmpDetail!J23","v":"L-10"},{"$f":"EmpDetail!F23","v":"00:00:00"}]
[null,null,null,null,null,null,null,null,null,null,null,null,21,{"$f":"EmpDetail!B24","v":"izgykn ekyh"},{"$f":"EmpDetail!C24","v":"प्रबोधक"},{"$f":"EmpDetail!D24","v":"राउप्रावि गोरधनपुरा"},{"$f":"EmpDetail!E24","v":"1974-08-07"},"2034-08-31",{"$f":"EmpDetail!K24","v":46500},{"$f":"EmpDetail!J24","v":"L-11"},{"$f":"EmpDetail!F24","v":"00:00:00"}]
[null,null,null,null,null,null,null,null,null,null,null,null,22,{"$f":"EmpDetail!B25","v":"jken;ky xqtZj"},{"$f":"EmpDetail!C25","v":"प्रबोधक"},{"$f":"EmpDetail!D25","v":"राउप्रावि सोंदीफल"},{"$f":"EmpDetail!E25","v":"1977-08-18"},"2037-08-31",{"$f":"EmpDetail!K25","v":45100},{"$f":"EmpDetail!J25","v":"L-11"},{"$f":"EmpDetail!F25","v":"00:00:00"}]
[null,null,null,null,null,"izkFkhZ@izkfFkZ;k ds gLrk{kj ",null,null,null,null,null,null,23,{"$f":"EmpDetail!B26","v":"vkSeizdk'k tkV"},{"$f":"EmpDetail!C26","v":"अध्यापक ग्रेड III"},{"$f":"EmpDetail!D26","v":"राउप्रावि सोंदीफल"},{"$f":"EmpDetail!E26","v":"1982-10-31"},"2042-10-31",{"$f":"EmpDetail!K26","v":45100},{"$f":"EmpDetail!J26","v":"L-11"},{"$f":"EmpDetail!F26","v":"00:00:00"}]
[null,null,null,null,{"$f":"C4","v":"jken;ky xqtZj"},null,null,null,null,null,null,null,24,{"$f":"EmpDetail!B27","v":"vthr flag"},{"$f":"EmpDetail!C27","v":"अध्यापक ग्रेड III"},{"$f":"EmpDetail!D27","v":"राप्रावि जानकीवल्लभपुरा"},{"$f":"EmpDetail!E27","v":"1987-08-08"},"2047-08-31",{"$f":"EmpDetail!K27","v":40300},{"$f":"EmpDetail!J27","v":"L-10"},{"$f":"EmpDetail!F27","v":"00:00:00"}]
[null,null,null,null,null,null,null,null,null,null,null,null,25,{"$f":"EmpDetail!B28","v":"eq[rkj eha;k"},{"$f":"EmpDetail!C28","v":"प्रबोधक"},{"$f":"EmpDetail!D28","v":"राप्रावि जानकीवल्लभपुरा"},{"$f":"EmpDetail!E28","v":"1976-07-04"},"2036-07-31",{"$f":"EmpDetail!K28","v":45100},{"$f":"EmpDetail!J28","v":"L-11"},{"$f":"EmpDetail!F28","v":"00:00:00"}]
[null,null,null,null,null,null,null,null,null,null,null,null,26,{"$f":"EmpDetail!B29","v":"eks0 tehy "},{"$f":"EmpDetail!C29","v":"प्रबोधक"},{"$f":"EmpDetail!D29","v":"राप्रावि रसूलपुरा"},{"$f":"EmpDetail!E29","v":"1968-09-15"},"2028-09-30",{"$f":"EmpDetail!K29","v":45100},{"$f":"EmpDetail!J29","v":"L-11"},{"$f":"EmpDetail!F29","v":"00:00:00"}]
[null,null,null,null,null,null,null,null,null,null,null,null,27,{"$f":"EmpDetail!B30","v":"lkaojey tkV"},{"$f":"EmpDetail!C30","v":"अध्यापक ग्रेड III"},{"$f":"EmpDetail!D30","v":"राप्रावि रसूलपुरा"},{"$f":"EmpDetail!E30","v":"1992-03-03"},"2052-03-31",{"$f":"EmpDetail!K30","v":38000},{"$f":"EmpDetail!J30","v":"L-10"},{"$f":"EmpDetail!F30","v":"00:00:00"}]
[null,null,null,null,null,null,null,null,null,null,null,null,28,{"$f":"EmpDetail!B31","v":"pkS/kjh eksuk jkekorkj"},{"$f":"EmpDetail!C31","v":"अध्यापक ग्रेड III"},{"$f":"EmpDetail!D31","v":"राप्रावि मोहिनी ढाणी बाढ"},{"$f":"EmpDetail!E31","v":"1990-01-05"},"2050-01-31",{"$f":"EmpDetail!K31","v":38000},{"$f":"EmpDetail!J31","v":"L-10"},{"$f":"EmpDetail!F31","v":"00:00:00"}]
[{"$f":"Master!G2&Master!H2","v":"कार्यालय&राजकीय उच्च माध्यमिक विद्यालय ]चौगाई]टोंक"},null,null,null,null,null,null,null,null,null,null,null,29,{"$f":"EmpDetail!B32","v":"rkjkpUn tk;loky"},{"$f":"EmpDetail!C32","v":"प्रबोधक"},{"$f":"EmpDetail!D32","v":"राप्रावि मोहिनी ढाणी बाढ"},{"$f":"EmpDetail!E32","v":"1976-11-11"},"2036-11-30",{"$f":"EmpDetail!K32","v":41300},{"$f":"EmpDetail!J32","v":"L-11"},{"$f":"EmpDetail!F32","v":"00:00:00"}]
["&% dk;kZy;k/;{k dh fVIi.kh %&",null,null,null,null,null,null,null,null,null,null,null,30,{"$f":"EmpDetail!B33","v":"jketl ;kno"},{"$f":"EmpDetail!C33","v":"अध्यापक ग्रेड III"},{"$f":"EmpDetail!D33","v":"राप्रावि बैरवा ढाणी सोन्दीफल"},{"$f":"EmpDetail!E33","v":"1970-06-12"},"2030-06-30",{"$f":"EmpDetail!K33","v":63100},{"$f":"EmpDetail!J33","v":"L-12"},{"$f":"EmpDetail!F33","v":"00:00:00"}]
["dzekad&",{"$f":"Master!H3&Master!I3&Master!J3&Master!E3&\"/\"","v":"राउमावि/चौगाई/संस्था/2021-22/"},null,null,null,"fnukad&",{"$f":"TODAY()","v":"2021-06-19"},null,null,null,null,null,31,{"$f":"EmpDetail!B34","v":"dtksMey eh.kk"},{"$f":"EmpDetail!C34","v":"अध्यापक ग्रेड III"},{"$f":"EmpDetail!D34","v":"राप्रावि बैरवा ढाणी सोन्दीफल"},{"$f":"EmpDetail!E34","v":"1990-07-01"},"2050-06-30",{"$f":"EmpDetail!K34","v":38000},{"$f":"EmpDetail!J34","v":"L-10"},{"$f":"EmpDetail!F34","v":"00:00:00"}]
["              izekf.kr fd;k tkrk gS fd mDr fooj.k dk feyku dkfeZd dh lsok vfHkys[k",null,null,null,null,null,null,null,null,null,null,null,32,{"$f":"EmpDetail!B35","v":"/kaut; xkSRre"},{"$f":"EmpDetail!C35","v":"अध्यापक ग्रेड III"},{"$f":"EmpDetail!D35","v":"राउप्रावि गोरधनपुरा"},{"$f":"EmpDetail!E35","v":"1986-08-25"},"2046-08-31",{"$f":"EmpDetail!K35","v":34800},{"$f":"EmpDetail!J35","v":"L-10"},{"$f":"EmpDetail!F35","v":"2018-04-03"}]
["ls dj izek.khdj.k dj fy;k x;k gS ,oa deZpkjh }kjk izLrqr LoSfPNd lsokfuo`fr fujLr ",null,null,null,null,null,null,null,null,null,null,null,33,{"$f":"EmpDetail!B36","v":"d`\".kk xaxoky"},{"$f":"EmpDetail!C36","v":"अध्यापक ग्रेड III"},{"$f":"EmpDetail!D36","v":"राउप्रावि गोरधनपुरा"},{"$f":"EmpDetail!E36","v":"1995-06-20"},"2055-06-30",{"$f":"EmpDetail!K36","v":33800},{"$f":"EmpDetail!J36","v":"L-10"},{"$f":"EmpDetail!F36","v":"2018-12-21"}]
["ugha djk;k tk,xkA",null,null,null,null,null,null,null,null,null,null,null,34,{"$f":"EmpDetail!B37","v":"n'kjFk dqekj ;kno"},{"$f":"EmpDetail!C37","v":"अध्यापक ग्रेड III"},{"$f":"EmpDetail!D37","v":"राउप्रावि सोंदीफल"},{"$f":"EmpDetail!E37","v":"1991-01-01"},"2050-12-31",{"$f":"EmpDetail!K37","v":23700},{"$f":"EmpDetail!J37","v":"L-10"},{"$f":"EmpDetail!F37","v":"2018-09-29"}]
[null,null,null,null,null,{"$f":"Master!B2","v":"प्रधानाचार्य"},null,null,null,null,null,null,35,{"$f":"EmpDetail!B38","v":"d`\".k yky tkV"},{"$f":"EmpDetail!C38","v":"अध्यापक ग्रेड III"},{"$f":"EmpDetail!D38","v":"राउप्रावि सोंदीफल"},{"$f":"EmpDetail!E38","v":"1990-07-18"},"2050-07-31",{"$f":"EmpDetail!K38","v":33800},{"$f":"EmpDetail!J38","v":"L-10"},{"$f":"EmpDetail!F38","v":"2018-10-02"}]
[null,null,null,null,null,{"$f":"Master!B3","v":"राजकीय उच्च माध्यमिक विद्यालय "},null,null,null,null,null,null,36,{"$f":"EmpDetail!B39","v":"nhisUnz dqekj iztkir"},{"$f":"EmpDetail!C39","v":"अध्यापक ग्रेड III"},{"$f":"EmpDetail!D39","v":"राउप्रावि सोंदीफल"},{"$f":"EmpDetail!E39","v":"1994-07-12"},"2054-07-31",{"$f":"EmpDetail!K39","v":33800},{"$f":"EmpDetail!J39","v":"L-10"},{"$f":"EmpDetail!F39","v":"2018-12-28"}]
[null,null,null,null,null,{"$f":"Master!B4","v":"चौगाई]टोंक"},null,null,null,null,null,null,37,{"$f":"EmpDetail!B40","v":"uohu dqekj"},{"$f":"EmpDetail!C40","v":"अध्यापक ग्रेड III"},{"$f":"EmpDetail!D40","v":"राउप्रावि मोहिनी"},{"$f":"EmpDetail!E40","v":"1995-04-13"},"2055-04-30",{"$f":"EmpDetail!K40","v":33800},{"$f":"EmpDetail!J40","v":"L-10"},{"$f":"EmpDetail!F40","v":"2018-12-21"}]
[null,null,null,null,null,null,null,null,null,null,null,null,38,{"$f":"EmpDetail!B41","v":"ehrs'k dqekj 'kekZ"},{"$f":"EmpDetail!C41","v":"अध्यापक ग्रेड III"},{"$f":"EmpDetail!D41","v":"राउप्रावि मोहिनी"},{"$f":"EmpDetail!E41","v":"1989-08-13"},"2049-08-31",{"$f":"EmpDetail!K41","v":34800},{"$f":"EmpDetail!J41","v":"L-10"},{"$f":"EmpDetail!F41","v":"2018-04-02"}]
[null,null,null,null,null,null,null,null,null,null,null,null,39,{"$f":"EmpDetail!B42","v":"eUtw eh.kk"},{"$f":"EmpDetail!C42","v":"वरिष्ठ अध्यापक"},{"$f":"EmpDetail!D42","v":"राउप्रावि गोरधनपुरा"},{"$f":"EmpDetail!E42","v":"1991-01-06"},"2051-01-31",{"$f":"EmpDetail!K42","v":33800},{"$f":"EmpDetail!J42","v":"L-10"},{"$f":"EmpDetail!F42","v":"2018-09-28"}]
[null,null,null,null,null,null,null,null,null,null,null,null,40,{"$f":"EmpDetail!B43","v":"eatw pkS/kjh"},{"$f":"EmpDetail!C43","v":"वरिष्ठ अध्यापक"},{"$f":"EmpDetail!D43","v":"राउप्रावि सोंदीफल"},{"$f":"EmpDetail!E43","v":"1991-08-04"},"2051-08-31",{"$f":"EmpDetail!K43","v":26500},{"$f":"EmpDetail!J43","v":"L-11"},{"$f":"EmpDetail!F43","v":"2020-09-29"}]
[null,null,null,null,null,null,null,null,null,null,null,null,41,{"$f":"EmpDetail!B44","v":0},{"$f":"EmpDetail!C44","v":0},{"$f":"EmpDetail!D44","v":0},{"$f":"EmpDetail!E44","v":"00:00:00"},{"$error":"#NUM!"},{"$f":"EmpDetail!K44","v":0},{"$f":"EmpDetail!J44","v":0},{"$f":"EmpDetail!F44","v":"00:00:00"}]
["dk;kZy; ftyk f'k{kk vf/kdkjh ek/;fed &",null,null,null,null,null,"Vksad",null,null,null,null,null,42,{"$f":"EmpDetail!B45","v":0},{"$f":"EmpDetail!C45","v":0},{"$f":"EmpDetail!D45","v":0},{"$f":"EmpDetail!E45","v":"00:00:00"},{"$error":"#NUM!"},{"$f":"EmpDetail!K45","v":0},{"$f":"EmpDetail!J45","v":0},{"$f":"EmpDetail!F45","v":"00:00:00"}]
["&% foHkkxk/;{k dh fVIi.kh %&",null,null,null,null,null,null,null,null,null,null,null,43,{"$f":"EmpDetail!B46","v":0},{"$f":"EmpDetail!C46","v":0},{"$f":"EmpDetail!D46","v":0},{"$f":"EmpDetail!E46","v":"00:00:00"},{"$error":"#NUM!"},{"$f":"EmpDetail!K46","v":0},{"$f":"EmpDetail!J46","v":0},{"$f":"EmpDetail!F46","v":"00:00:00"}]
["dzekad&","-----------------------------------------",null,null,null,"fnukad&",null,null,null,null,null,null,44,{"$f":"EmpDetail!B47","v":0},{"$f":"EmpDetail!C47","v":0},{"$f":"EmpDetail!D47","v":0},{"$f":"EmpDetail!E47","v":"00:00:00"},{"$error":"#NUM!"},{"$f":"EmpDetail!K47","v":0},{"$f":"EmpDetail!J47","v":0},{"$f":"EmpDetail!F47","v":"00:00:00"}]
["                     izekf.kr fd;k tkrk gS fd Jh@Jhefr",null,null,null,null,{"$f":"C4","v":"jken;ky xqtZj"},null,null,null,null,null,null,45,{"$f":"EmpDetail!B48","v":0},{"$f":"EmpDetail!C48","v":0},{"$f":"EmpDetail!D48","v":0},{"$f":"EmpDetail!E48","v":"00:00:00"},{"$error":"#NUM!"},{"$f":"EmpDetail!K48","v":0},{"$f":"EmpDetail!J48","v":0},{"$f":"EmpDetail!F48","v":"00:00:00"}]
["in ",{"$f":"G3","v":"प्रबोधक"},null,"fo\"k; %&","laLd`r",null,"inLFkkiu LFkku&",null,null,null,null,null,46,{"$f":"EmpDetail!B49","v":0},{"$f":"EmpDetail!C49","v":0},{"$f":"EmpDetail!D49","v":0},{"$f":"EmpDetail!E49","v":"00:00:00"},{"$error":"#NUM!"},{"$f":"EmpDetail!K49","v":0},{"$f":"EmpDetail!J49","v":0},{"$f":"EmpDetail!F49","v":"00:00:00"}]
[{"$f":"C3","v":"राउप्रावि सोंदीफल"},null,null,null,null,null,"ds fo:) lh-lh-,- ",null,null,null,null,null,47,{"$f":"EmpDetail!B50","v":0},{"$f":"EmpDetail!C50","v":0},{"$f":"EmpDetail!D50","v":0},{"$f":"EmpDetail!E50","v":"00:00:00"},{"$error":"#NUM!"},{"$f":"EmpDetail!K50","v":0},{"$f":"EmpDetail!J50","v":0},{"$f":"EmpDetail!F50","v":"00:00:00"}]
["16 o 17 ds fu;eksa ds vUrxZr fdlh Hkh izdkj dh foHkkxh; dk;Zokgh fopkjk/khu ugha gS ,oa mDr ",null,null,null,null,null,null,null,null,null,null,null,48,{"$f":"EmpDetail!B51","v":0},{"$f":"EmpDetail!C51","v":0},{"$f":"EmpDetail!D51","v":0},{"$f":"EmpDetail!E51","v":"00:00:00"},{"$error":"#NUM!"},{"$f":"EmpDetail!K51","v":0},{"$f":"EmpDetail!J51","v":0},{"$f":"EmpDetail!F51","v":"00:00:00"}]
["deZpkjh ds fo:) dksbZ foHkkxh; jkf'k cdk;k ugha gSA budk dk;Z ,oa O;ogkj larks\"kizn gSA ",null,null,null,null,null,null,null,null,null,null,null,49,{"$f":"EmpDetail!B52","v":0},{"$f":"EmpDetail!C52","v":0},{"$f":"EmpDetail!D52","v":0},{"$f":"EmpDetail!E52","v":"00:00:00"},{"$error":"#NUM!"},{"$f":"EmpDetail!K52","v":0},{"$f":"EmpDetail!J52","v":0},{"$f":"EmpDetail!F52","v":"00:00:00"}]
["mijksDr rF;ksa dk feyku lEcfU/kr dh lsok iqfLrdk ls dj fy;k x;k gS A ",null,null,null,null,null,null,null,null,null,null,null,50,{"$f":"EmpDetail!B53","v":0},{"$f":"EmpDetail!C53","v":0},{"$f":"EmpDetail!D53","v":0},{"$f":"EmpDetail!E53","v":"00:00:00"},{"$error":"#NUM!"},{"$f":"EmpDetail!K53","v":0},{"$f":"EmpDetail!J53","v":0},{"$f":"EmpDetail!F53","v":"00:00:00"}]
[null,"                     vr% buds LoSfPNd lsok&fuo`fr ysus ds vkns'k tkjh djus gsrq ",null,null,null,null,null,null,null,null,null,null,51,{"$f":"EmpDetail!B54","v":0},{"$f":"EmpDetail!C54","v":0},{"$f":"EmpDetail!D54","v":0},{"$f":"EmpDetail!E54","v":"00:00:00"},{"$error":"#NUM!"},{"$f":"EmpDetail!K54","v":0},{"$f":"EmpDetail!J54","v":0},{"$f":"EmpDetail!F54","v":"00:00:00"}]
["vfHk'ka\"kk dh tkrh gSA",null,null,null,null,null,null,null,null,null,null,null,52,{"$f":"EmpDetail!B55","v":0},{"$f":"EmpDetail!C55","v":0},{"$f":"EmpDetail!D55","v":0},{"$f":"EmpDetail!E55","v":"00:00:00"},{"$error":"#NUM!"},{"$f":"EmpDetail!K55","v":0},{"$f":"EmpDetail!J55","v":0},{"$f":"EmpDetail!F55","v":"00:00:00"}]
[null,null,null,null,null,null,null,null,null,null,null,null,53,{"$f":"EmpDetail!B56","v":0},{"$f":"EmpDetail!C56","v":0},{"$f":"EmpDetail!D56","v":0},{"$f":"EmpDetail!E56","v":"00:00:00"},{"$error":"#NUM!"},{"$f":"EmpDetail!K56","v":0},{"$f":"EmpDetail!J56","v":0},{"$f":"EmpDetail!F56","v":"00:00:00"}]
[null,null,null,null,null,null,null,null,null,null,null,null,54,{"$f":"EmpDetail!B57","v":0},{"$f":"EmpDetail!C57","v":0},{"$f":"EmpDetail!D57","v":0},{"$f":"EmpDetail!E57","v":"00:00:00"},{"$error":"#NUM!"},{"$f":"EmpDetail!K57","v":0},{"$f":"EmpDetail!J57","v":0},{"$f":"EmpDetail!F57","v":"00:00:00"}]
[null,null,null,null,"foHkkxk/;{k ds gLrk{kj ",null,null,null,null,null,null,null,55,{"$f":"EmpDetail!B58","v":0},{"$f":"EmpDetail!C58","v":0},{"$f":"EmpDetail!D58","v":0},{"$f":"EmpDetail!E58","v":"00:00:00"},{"$error":"#NUM!"},{"$f":"EmpDetail!K58","v":0},{"$f":"EmpDetail!J58","v":0},{"$f":"EmpDetail!F58","v":"00:00:00"}]
[null,null,null,null,"¼e; eksgj½",null,null,null,null,null,null,null,56,{"$f":"EmpDetail!B59","v":0},{"$f":"EmpDetail!C59","v":0},{"$f":"EmpDetail!D59","v":0},{"$f":"EmpDetail!E59","v":"00:00:00"},{"$error":"#NUM!"},{"$f":"EmpDetail!K59","v":0},{"$f":"EmpDetail!J59","v":0},{"$f":"EmpDetail!F59","v":"00:00:00"}]
[null,null,null,null,null,null,null,null,null,null,null,null,57,{"$f":"EmpDetail!B60","v":0},{"$f":"EmpDetail!C60","v":0},{"$f":"EmpDetail!D60","v":0},{"$f":"EmpDetail!E60","v":"00:00:00"},{"$error":"#NUM!"},{"$f":"EmpDetail!K60","v":0},{"$f":"EmpDetail!J60","v":0},{"$f":"EmpDetail!F60","v":"00:00:00"}]
[null,null,null,null,null,null,null,null,null,null,null,null,58,{"$f":"EmpDetail!B61","v":0},{"$f":"EmpDetail!C61","v":0},{"$f":"EmpDetail!D61","v":0},{"$f":"EmpDetail!E61","v":"00:00:00"},{"$error":"#NUM!"},{"$f":"EmpDetail!K61","v":0},{"$f":"EmpDetail!J61","v":0},{"$f":"EmpDetail!F61","v":"00:00:00"}]
[null,null,null,null,null,null,null,null,null,null,null,null,59,{"$f":"EmpDetail!B62","v":0},{"$f":"EmpDetail!C62","v":0},{"$f":"EmpDetail!D62","v":0},{"$f":"EmpDetail!E62","v":"00:00:00"},{"$error":"#NUM!"},{"$f":"EmpDetail!K62","v":0},{"$f":"EmpDetail!J62","v":0},{"$f":"EmpDetail!F62","v":"00:00:00"}]
[null,null,null,null,null,null,null,null,null,null,null,null,60,{"$f":"EmpDetail!B63","v":0},{"$f":"EmpDetail!C63","v":0},{"$f":"EmpDetail!D63","v":0},{"$f":"EmpDetail!E63","v":"00:00:00"},{"$error":"#NUM!"},{"$f":"EmpDetail!K63","v":0},{"$f":"EmpDetail!J63","v":0},{"$f":"EmpDetail!F63","v":"00:00:00"}]
[null,null,null,null,null,null,null,null,null,null,null,null,61,{"$f":"EmpDetail!B64","v":0},{"$f":"EmpDetail!C64","v":0},{"$f":"EmpDetail!D64","v":0},{"$f":"EmpDetail!E64","v":"00:00:00"},{"$error":"#NUM!"},{"$f":"EmpDetail!K64","v":0},{"$f":"EmpDetail!J64","v":0},{"$f":"EmpDetail!F64","v":"00:00:00"}]
[null,null,null,null,null,null,null,null,null,null,null,null,62,{"$f":"EmpDetail!B65","v":0},{"$f":"EmpDetail!C65","v":0},{"$f":"EmpDetail!D65","v":0},{"$f":"EmpDetail!E65","v":"00:00:00"},{"$error":"#NUM!"},{"$f":"EmpDetail!K65","v":0},{"$f":"EmpDetail!J65","v":0},{"$f":"EmpDetail!F65","v":"00:00:00"}]
[null,null,null,null,null,null,null,null,null,null,null,null,63,{"$f":"EmpDetail!B66","v":0},{"$f":"EmpDetail!C66","v":0},{"$f":"EmpDetail!D66","v":0},{"$f":"EmpDetail!E66","v":"00:00:00"},{"$error":"#NUM!"},{"$f":"EmpDetail!K66","v":0},{"$f":"EmpDetail!J66","v":0},{"$f":"EmpDetail!F66","v":"00:00:00"}]
[null,null,null,null,null,null,null,null,null,null,null,null,64,{"$f":"EmpDetail!B67","v":0},{"$f":"EmpDetail!C67","v":0},{"$f":"EmpDetail!D67","v":0},{"$f":"EmpDetail!E67","v":"00:00:00"},{"$error":"#NUM!"},{"$f":"EmpDetail!K67","v":0},{"$f":"EmpDetail!J67","v":0},{"$f":"EmpDetail!F67","v":"00:00:00"}]
[null,null,null,null,null,null,null,null,null,null,null,null,65,{"$f":"EmpDetail!B68","v":0},{"$f":"EmpDetail!C68","v":0},{"$f":"EmpDetail!D68","v":0},{"$f":"EmpDetail!E68","v":"00:00:00"},{"$error":"#NUM!"},{"$f":"EmpDetail!K68","v":0},{"$f":"EmpDetail!J68","v":0},{"$f":"EmpDetail!F68","v":"00:00:00"}]
[null,null,null,null,null,null,null,null,null,null,null,null,66,{"$f":"EmpDetail!B69","v":0},{"$f":"EmpDetail!C69","v":0},{"$f":"EmpDetail!D69","v":0},{"$f":"EmpDetail!E69","v":"00:00:00"},{"$f":"IF(Q70=\"\",\"\",DATE(YEAR(Q70-1)+60,(MONTH(Q70-1))+1,0))","v":{"$error":"#NUM!"}},{"$f":"EmpDetail!K69","v":0},{"$f":"EmpDetail!J69","v":0},{"$f":"EmpDetail!F69","v":"00:00:00"}]
[null,null,null,null,null,null,null,null,null,null,null,null,67,{"$f":"EmpDetail!B70","v":0},{"$f":"EmpDetail!C70","v":0},{"$f":"EmpDetail!D70","v":0},{"$f":"EmpDetail!E70","v":"00:00:00"},{"$error":"#NUM!"},{"$f":"EmpDetail!K70","v":0},{"$f":"EmpDetail!J70","v":0},{"$f":"EmpDetail!F70","v":"00:00:00"}]
[null,null,null,null,null,null,null,null,null,null,null,null,68,{"$f":"EmpDetail!B71","v":0},{"$f":"EmpDetail!C71","v":0},{"$f":"EmpDetail!D71","v":0},{"$f":"EmpDetail!E71","v":"00:00:00"},{"$error":"#NUM!"},{"$f":"EmpDetail!K71","v":0},{"$f":"EmpDetail!J71","v":0},{"$f":"EmpDetail!F71","v":"00:00:00"}]
[null,null,null,null,null,null,null,null,null,null,null,null,69,{"$f":"EmpDetail!B72","v":0},{"$f":"EmpDetail!C72","v":0},{"$f":"EmpDetail!D72","v":0},{"$f":"EmpDetail!E72","v":"00:00:00"},{"$error":"#NUM!"},{"$f":"EmpDetail!K72","v":0},{"$f":"EmpDetail!J72","v":0},{"$f":"EmpDetail!F72","v":"00:00:00"}]
[null,null,null,null,null,null,null,null,null,null,null,null,70,{"$f":"EmpDetail!B73","v":0},{"$f":"EmpDetail!C73","v":0},{"$f":"EmpDetail!D73","v":0},{"$f":"EmpDetail!E73","v":"00:00:00"},{"$error":"#NUM!"},{"$f":"EmpDetail!K73","v":0},{"$f":"EmpDetail!J73","v":0},{"$f":"EmpDetail!F73","v":"00:00:00"}]
[null,null,null,null,null,null,null,null,null,null,null,null,71,{"$f":"EmpDetail!B74","v":0},{"$f":"EmpDetail!C74","v":0},{"$f":"EmpDetail!D74","v":0},{"$f":"EmpDetail!E74","v":"00:00:00"},{"$error":"#NUM!"},{"$f":"EmpDetail!K74","v":0},{"$f":"EmpDetail!J74","v":0},{"$f":"EmpDetail!F74","v":"00:00:00"}]
[null,null,null,null,null,null,null,null,null,null,null,null,72,{"$f":"EmpDetail!B75","v":0},{"$f":"EmpDetail!C75","v":0},{"$f":"EmpDetail!D75","v":0},{"$f":"EmpDetail!E75","v":"00:00:00"},{"$error":"#NUM!"},{"$f":"EmpDetail!K75","v":0},{"$f":"EmpDetail!J75","v":0},{"$f":"EmpDetail!F75","v":"00:00:00"}]
[null,null,null,null,null,null,null,null,null,null,null,null,73,{"$f":"EmpDetail!B76","v":0},{"$f":"EmpDetail!C76","v":0},{"$f":"EmpDetail!D76","v":0},{"$f":"EmpDetail!E76","v":"00:00:00"},{"$error":"#NUM!"},{"$f":"EmpDetail!K76","v":0},{"$f":"EmpDetail!J76","v":0},{"$f":"EmpDetail!F76","v":"00:00:00"}]
[null,null,null,null,null,null,null,null,null,null,null,null,74,{"$f":"EmpDetail!B77","v":0},{"$f":"EmpDetail!C77","v":0},{"$f":"EmpDetail!D77","v":0},{"$f":"EmpDetail!E77","v":"00:00:00"},{"$error":"#NUM!"},{"$f":"EmpDetail!K77","v":0},{"$f":"EmpDetail!J77","v":0},{"$f":"EmpDetail!F77","v":"00:00:00"}]
[null,null,null,null,null,null,null,null,null,null,null,null,75,{"$f":"EmpDetail!B78","v":0},{"$f":"EmpDetail!C78","v":0},{"$f":"EmpDetail!D78","v":0},{"$f":"EmpDetail!E78","v":"00:00:00"},{"$error":"#NUM!"},{"$f":"EmpDetail!K78","v":0},{"$f":"EmpDetail!J78","v":0},{"$f":"EmpDetail!F78","v":"00:00:00"}]
[null,null,null,null,null,null,null,null,null,null,null,null,76,{"$f":"EmpDetail!B79","v":0},{"$f":"EmpDetail!C79","v":0},{"$f":"EmpDetail!D79","v":0},{"$f":"EmpDetail!E79","v":"00:00:00"},{"$error":"#NUM!"},{"$f":"EmpDetail!K79","v":0},{"$f":"EmpDetail!J79","v":0},{"$f":"EmpDetail!F79","v":"00:00:00"}]
[null,null,null,null,null,null,null,null,null,null,null,null,77,{"$f":"EmpDetail!B80","v":0},{"$f":"EmpDetail!C80","v":0},{"$f":"EmpDetail!D80","v":0},{"$f":"EmpDetail!E80","v":"00:00:00"},{"$error":"#NUM!"},{"$f":"EmpDetail!K80","v":0},{"$f":"EmpDetail!J80","v":0},{"$f":"EmpDetail!F80","v":"00:00:00"}]
[null,null,null,null,null,null,null,null,null,null,null,null,78,{"$f":"EmpDetail!B81","v":0},{"$f":"EmpDetail!C81","v":0},{"$f":"EmpDetail!D81","v":0},{"$f":"EmpDetail!E81","v":"00:00:00"},{"$error":"#NUM!"},{"$f":"EmpDetail!K81","v":0},{"$f":"EmpDetail!J81","v":0},{"$f":"EmpDetail!F81","v":"00:00:00"}]
[null,null,null,null,null,null,null,null,null,null,null,null,79,{"$f":"EmpDetail!B82","v":0},{"$f":"EmpDetail!C82","v":0},{"$f":"EmpDetail!D82","v":0},{"$f":"EmpDetail!E82","v":"00:00:00"},{"$error":"#NUM!"},{"$f":"EmpDetail!K82","v":0},{"$f":"EmpDetail!J82","v":0},{"$f":"EmpDetail!F82","v":"00:00:00"}]
[null,null,null,null,null,null,null,null,null,null,null,null,80,{"$f":"EmpDetail!B83","v":0},{"$f":"EmpDetail!C83","v":0},{"$f":"EmpDetail!D83","v":0},{"$f":"EmpDetail!E83","v":"00:00:00"},{"$error":"#NUM!"},{"$f":"EmpDetail!K83","v":0},{"$f":"EmpDetail!J83","v":0},{"$f":"EmpDetail!F83","v":"00:00:00"}]
[null,null,null,null,null,null,null,null,null,null,null,null,81,{"$f":"EmpDetail!B84","v":0},{"$f":"EmpDetail!C84","v":0},{"$f":"EmpDetail!D84","v":0},{"$f":"EmpDetail!E84","v":"00:00:00"},{"$error":"#NUM!"},{"$f":"EmpDetail!K84","v":0},{"$f":"EmpDetail!J84","v":0},{"$f":"EmpDetail!F84","v":"00:00:00"}]
[null,null,null,null,null,null,null,null,null,null,null,null,82,{"$f":"EmpDetail!B85","v":0},{"$f":"EmpDetail!C85","v":0},{"$f":"EmpDetail!D85","v":0},{"$f":"EmpDetail!E85","v":"00:00:00"},{"$error":"#NUM!"},{"$f":"EmpDetail!K85","v":0},{"$f":"EmpDetail!J85","v":0},{"$f":"EmpDetail!F85","v":"00:00:00"}]
[null,null,null,null,null,null,null,null,null,null,null,null,83,{"$f":"EmpDetail!B86","v":0},{"$f":"EmpDetail!C86","v":0},{"$f":"EmpDetail!D86","v":0},{"$f":"EmpDetail!E86","v":"00:00:00"},{"$error":"#NUM!"},{"$f":"EmpDetail!K86","v":0},{"$f":"EmpDetail!J86","v":0},{"$f":"EmpDetail!F86","v":"00:00:00"}]
[null,null,null,null,null,null,null,null,null,null,null,null,84,{"$f":"EmpDetail!B87","v":0},{"$f":"EmpDetail!C87","v":0},{"$f":"EmpDetail!D87","v":0},{"$f":"EmpDetail!E87","v":"00:00:00"},{"$error":"#NUM!"},{"$f":"EmpDetail!K87","v":0},{"$f":"EmpDetail!J87","v":0},{"$f":"EmpDetail!F87","v":"00:00:00"}]
[null,null,null,null,null,null,null,null,null,null,null,null,85,{"$f":"EmpDetail!B88","v":0},{"$f":"EmpDetail!C88","v":0},{"$f":"EmpDetail!D88","v":0},{"$f":"EmpDetail!E88","v":"00:00:00"},{"$error":"#NUM!"},{"$f":"EmpDetail!K88","v":0},{"$f":"EmpDetail!J88","v":0},{"$f":"EmpDetail!F88","v":"00:00:00"}]
[null,null,null,null,null,null,null,null,null,null,null,null,86,{"$f":"EmpDetail!B89","v":0},{"$f":"EmpDetail!C89","v":0},{"$f":"EmpDetail!D89","v":0},{"$f":"EmpDetail!E89","v":"00:00:00"},{"$error":"#NUM!"},{"$f":"EmpDetail!K89","v":0},{"$f":"EmpDetail!J89","v":0},{"$f":"EmpDetail!F89","v":"00:00:00"}]
[null,null,null,null,null,null,null,null,null,null,null,null,87,{"$f":"EmpDetail!B90","v":0},{"$f":"EmpDetail!C90","v":0},{"$f":"EmpDetail!D90","v":0},{"$f":"EmpDetail!E90","v":"00:00:00"},{"$error":"#NUM!"},{"$f":"EmpDetail!K90","v":0},{"$f":"EmpDetail!J90","v":0},{"$f":"EmpDetail!F90","v":"00:00:00"}]
[null,null,null,null,null,null,null,null,null,null,null,null,88,{"$f":"EmpDetail!B91","v":0},{"$f":"EmpDetail!C91","v":0},{"$f":"EmpDetail!D91","v":0},{"$f":"EmpDetail!E91","v":"00:00:00"},{"$error":"#NUM!"},{"$f":"EmpDetail!K91","v":0},{"$f":"EmpDetail!J91","v":0},{"$f":"EmpDetail!F91","v":"00:00:00"}]
[null,null,null,null,null,null,null,null,null,null,null,null,89,{"$f":"EmpDetail!B92","v":0},{"$f":"EmpDetail!C92","v":0},{"$f":"EmpDetail!D92","v":0},{"$f":"EmpDetail!E92","v":"00:00:00"},{"$error":"#NUM!"},{"$f":"EmpDetail!K92","v":0},{"$f":"EmpDetail!J92","v":0},{"$f":"EmpDetail!F92","v":"00:00:00"}]
[null,null,null,null,null,null,null,null,null,null,null,null,90,{"$f":"EmpDetail!B93","v":0},{"$f":"EmpDetail!C93","v":0},{"$f":"EmpDetail!D93","v":0},{"$f":"EmpDetail!E93","v":"00:00:00"},{"$error":"#NUM!"},{"$f":"EmpDetail!K93","v":0},{"$f":"EmpDetail!J93","v":0},{"$f":"EmpDetail!F93","v":"00:00:00"}]
[null,null,null,null,null,null,null,null,null,null,null,null,91,{"$f":"EmpDetail!B94","v":0},{"$f":"EmpDetail!C94","v":0},{"$f":"EmpDetail!D94","v":0},{"$f":"EmpDetail!E94","v":"00:00:00"},{"$error":"#NUM!"},{"$f":"EmpDetail!K94","v":0},{"$f":"EmpDetail!J94","v":0},{"$f":"EmpDetail!F94","v":"00:00:00"}]
[null,null,null,null,null,null,null,null,null,null,null,null,92,{"$f":"EmpDetail!B95","v":0},{"$f":"EmpDetail!C95","v":0},{"$f":"EmpDetail!D95","v":0},{"$f":"EmpDetail!E95","v":"00:00:00"},{"$error":"#NUM!"},{"$f":"EmpDetail!K95","v":0},{"$f":"EmpDetail!J95","v":0},{"$f":"EmpDetail!F95","v":"00:00:00"}]
[null,null,null,null,null,null,null,null,null,null,null,null,93,{"$f":"EmpDetail!B96","v":0},{"$f":"EmpDetail!C96","v":0},{"$f":"EmpDetail!D96","v":0},{"$f":"EmpDetail!E96","v":"00:00:00"},{"$error":"#NUM!"},{"$f":"EmpDetail!K96","v":0},{"$f":"EmpDetail!J96","v":0},{"$f":"EmpDetail!F96","v":"00:00:00"}]
[null,null,null,null,null,null,null,null,null,null,null,null,94,{"$f":"EmpDetail!B97","v":0},{"$f":"EmpDetail!C97","v":0},{"$f":"EmpDetail!D97","v":0},{"$f":"EmpDetail!E97","v":"00:00:00"},{"$error":"#NUM!"},{"$f":"EmpDetail!K97","v":0},{"$f":"EmpDetail!J97","v":0},{"$f":"EmpDetail!F97","v":"00:00:00"}]
[null,null,null,null,null,null,null,null,null,null,null,null,95,{"$f":"EmpDetail!B98","v":0},{"$f":"EmpDetail!C98","v":0},{"$f":"EmpDetail!D98","v":0},{"$f":"EmpDetail!E98","v":"00:00:00"},{"$error":"#NUM!"},{"$f":"EmpDetail!K98","v":0},{"$f":"EmpDetail!J98","v":0},{"$f":"EmpDetail!F98","v":"00:00:00"}]
[null,null,null,null,null,null,null,null,null,null,null,null,96,{"$f":"EmpDetail!B99","v":0},{"$f":"EmpDetail!C99","v":0},{"$f":"EmpDetail!D99","v":0},{"$f":"EmpDetail!E99","v":"00:00:00"},{"$error":"#NUM!"},{"$f":"EmpDetail!K99","v":0},{"$f":"EmpDetail!J99","v":0},{"$f":"EmpDetail!F99","v":"00:00:00"}]
[null,null,null,null,null,null,null,null,null,null,null,null,97,{"$f":"EmpDetail!B100","v":0},{"$f":"EmpDetail!C100","v":0},{"$f":"EmpDetail!D100","v":0},{"$f":"EmpDetail!E100","v":"00:00:00"},{"$error":"#NUM!"},{"$f":"EmpDetail!K100","v":0},{"$f":"EmpDetail!J100","v":0},{"$f":"EmpDetail!F100","v":"00:00:00"}]
[null,null,null,null,null,null,null,null,null,null,null,null,98,{"$f":"EmpDetail!B101","v":0},{"$f":"EmpDetail!C101","v":0},{"$f":"EmpDetail!D101","v":0},{"$f":"EmpDetail!E101","v":"00:00:00"},{"$error":"#NUM!"},{"$f":"EmpDetail!K101","v":0},{"$f":"EmpDetail!J101","v":0},{"$f":"EmpDetail!F101","v":"00:00:00"}]
[null,null,null,null,null,null,null,null,null,null,null,null,99,{"$f":"EmpDetail!B102","v":0},{"$f":"EmpDetail!C102","v":0},{"$f":"EmpDetail!D102","v":0},{"$f":"EmpDetail!E102","v":"00:00:00"},{"$error":"#NUM!"},{"$f":"EmpDetail!K102","v":0},{"$f":"EmpDetail!J102","v":0},{"$f":"EmpDetail!F102","v":"00:00:00"}]
[null,null,null,null,null,null,null,null,null,null,null,null,100,{"$f":"EmpDetail!B103","v":0},{"$f":"EmpDetail!C103","v":0},{"$f":"EmpDetail!D103","v":0},{"$f":"EmpDetail!E103","v":"00:00:00"},{"$error":"#NUM!"},{"$f":"EmpDetail!K103","v":0},{"$f":"EmpDetail!J103","v":0},{"$f":"EmpDetail!F103","v":"00:00:00"}]

{"sheet":"Leave Rules","index":63,"n_rows":23,"n_cols":3,"rows_kept":23,"cut":false,"hidden":true,"merged":[[0,0,0,2],[1,0,1,2]]}
["jktLFkku lsok fu;e ¼vodk'k fu;e½"]
["izdj.k lwfp"]
["dz0la0","uke QkbZy","fuEu Vsc ij fDyd djsa"]
[{"$f":"IF(B4=\"\",\"\",1)","v":1},"mikftZr vodk'k"]
[{"$f":"IF(B5=\"\",\"\",A4+1)","v":2},":ikUrfjr vodk'k"]
[{"$f":"IF(B6=\"\",\"\",A5+1)","v":3},"v}Zosru vodk'k"]
[4,"vlk/kkj.k vodk'k"]
[5,"fir`Ro@ekr`Ro@izlwfr vodk'k"]
[6,"v/;;u vodk'k"]
[7,"vns; vodk'k"]
[8,"vkdfLed vodk'k"]
[9,"fo'ks\"k vkdfLed@cU/k;kdj.k vodk'k"]
[10,"izkscs'ku dky esa vodk'k"]
[11,"iq=@iq=h nRrdj.k vodk'k"]
[12,"fujks/kkodk'k"]
[13,"fo'ks\"k vleFkZrk vodk'k"]
[14,"{kfriwfrZ vkdfLed vodk'k"]
[15,"fpfdRlky; vodk'k"]
[16,"lsok lekfIr vodk'k"]
[17,"pkbZYM ds;j yho CCL"]
[""]
[""]
[""]

{"sheet":"Formates","index":64,"n_rows":24,"n_cols":3,"rows_kept":24,"cut":false,"hidden":true,"merged":[[0,0,0,2],[1,0,1,2]]}
["fofHkUu izdkj ds izi="]
["izdj.k lwfp"]
["dz0la0","uke QkbZy","fuEu Vsc ij fDyd djsa"]
[{"$f":"IF(B4=\"\",\"\",1)","v":1},"FVC Bill onhZ HkRrk"]
[{"$f":"IF(B5=\"\",\"\",A4+1)","v":2},"FVC Bill vU; O;;"]
[{"$f":"IF(B6=\"\",\"\",A5+1)","v":3},"lUrku laca/kh ?kks\"k.kk 'kiFk i="]
[4,"uksu isesUV izek.k i="]
[5,"fjDr inksa dh lwpuk"]
[6,"ysVj gsM"]
[7,"pkbZYM ds;j yho QkWjesV"]
[""]
[""]
[""]
[""]
[""]
[""]
[""]
[""]
[""]
[""]
[""]
[""]
[""]
[""]

{"sheet":"Applications","index":65,"n_rows":29,"n_cols":3,"rows_kept":29,"cut":false,"hidden":true,"merged":[[0,0,0,2],[1,0,1,2]]}
["fofHkUu izdkj ds vkosnu@izkFkZuk i="]
["izdj.k lwfp"]
["dz0la0","uke QkbZy","fuEu Vsc ij fDyd djsa"]
[{"$f":"IF(B4=\"\",\"\",1)","v":1},"Mksaxy ,DVhos'ku izkFkZuk i="]
[{"$f":"IF(B5=\"\",\"\",A4+1)","v":2},"Mksaxy Mh&,DVhos'ku izkFkZuk i="]
[{"$f":"IF(B6=\"\",\"\",A5+1)","v":3},"dk;Zxzg.k dky ih,y vkosnu i="]
[4,"lhlh,y vkosnu i="]
[5,"fodykax HkRrk gsrw vkosnu i="]
[6,"fgrdkjh fu/kh bZlh,l lwpuk"]
[7,"E-SignPDF Download Link"]
[8,"dkfeZd vkbZMh ,yksds'ku QkWeZ"]
[9,"lsok iqfLrdk ikofr jlhn gsrw i="]
[""]
[""]
[""]
[""]
[""]
[""]
[""]
[""]
[""]
[""]
[""]
[""]
[""]
[""]
[""]
[""]
[""]

{"sheet":"Stock","index":66,"n_rows":18,"n_cols":3,"rows_kept":18,"cut":false,"hidden":true,"merged":[[0,0,0,2],[1,0,1,2]]}
["izHkkj ,oa Hk.Mkj laca/kh izi="]
["izdj.k lwfp"]
["dz0la0","uke QkbZy","fuEu Vsc ij fDyd djsa"]
[{"$f":"IF(B4=\"\",\"\",1)","v":1},"HkkSfrd lR;kiu lwfp"]
[{"$f":"IF(B5=\"\",\"\",A4+1)","v":2},"okf\"kZd HkkSfrd lR;kiu"]
[{"$f":"IF(B6=\"\",\"\",A5+1)","v":3},",l vkj&5"]
[4,",l vkj&6"]
[5,",l vkj&7"]
[6,"izHkkj gLrkarj.k lwfp"]
[7,"izHkkj forj.k lwfp"]
[""]
[""]
[""]
[""]
[""]
[""]
[""]
[""]

{"sheet":"PL","index":67,"n_rows":45,"n_cols":2,"rows_kept":45,"cut":false,"hidden":true,"merged":[[0,0,0,1]]}
["Privilege Leave (Rule 91 & 92)"]
[1,"LFkk;h ;k vLFkk;h jkT; deZpkjh dks 1 tuojh 1985 ls izR;sd dys.Mj o\"kZ esa 2 ckj 1 tuojh dks 15 fnu dh ih-,y-o 1 tqykbZ dks 15 fnu dh ih-,y-dqy 30 vfxze :Ik esa tek dh tk;sxhA fQDl osru ij dk;Zjr dkfeZd dks mikftZr vodk'k ns; ugha gksxkA"]
[2,"jktLFkku l’kL= iqfyl dks 21 fnu ns; gSA"]
[3,"bl izdkj tek vfxze vodk’kksa dk miHkksx vkxkeh 6 ekg ;Fkk twu o fnlEcj rd fd;k tk ldsxkA\n                                            &foÙk ¼fu;e½ foHkkx dk ifji= Øekad ,Q-1¼4½foÙk@fu;e@98 fnukad 12&12&2012"]
[4,"1 tuojh 1998 ls LFkk;h ;k vLFkk;h jkT; deZpkjh vius ys[kksa esa vf/kdre 300 ih-,y-tek j[k ldrk gSA 1 tuojh 1992 ls 240 ih-,y-tek j[kh tk ldrh FkhA blls iwoZ ;g 180 FkhA"]
[5,"mikftZr vodk'k fdlh Hkh dkj.k ls fy;k tk ldrk gSA"]
[6,"mikftZr vodk'k [kkrk loZ izFke fu;qfDr frfFk ls 31 fnlEcj rd dk gh ysuk gSA blds i'pkr~ 01 tuojh ls 31 fnlEcj rd dk la/kkfjr djuk gSA"]
[7,"mikftZr vodk'k izR;sd CykWd o\"kZ esa 01 vizSy ls 31 ekpZ ds chp 15 fnu dk lefiZr vodk'k udn Hkqxrku ds :i esa Lohd`r djk;k tk ldrk gSA bldk yky L;kgh ls"]
[null,"lsok iqfLrdk esa bUnzkt fd;k tkuk t:jh gSA"]
[5,";fn dksbZ deZpkjh fdlh dyS.Mj o\"kZ dh ,d N ekgh esa vlk/kkj.k vodk’k ij jgrk gS rks ih-,y-[kkrs esa izR;sd 10 fnu ds vlk/kkj.k vodk’k ij 1 fnu dk vodk’k de dj fn;k tkosxkA"]
[6,";fn fdlh jkT; deZpkjh dk ih-,y- 31 fnlEcj o 30 twu dks 300 fnu ;k de ysfdu 285 ls vf/kd tek gS rks 1 tuojh o 1 tqykbZ dks 15 vfxze ih-,y-ys[ks dk vyx ls la/kkj.k fd;k tk;sxkA"]
[7,"6 ekg dh vof/k esa fy;s x;s ih-,y-;k lefiZr vodk’k dk lek;kstu igys 15 fnol ds ih-,y esa ls fd;k tk;sxkAblds ckn 'ks\"k vodk’k esa lek;kstu fd;k tkosxkA"]
[8,"6 ekg dh lekfIr ij vfxze tek ih-,y-rFkk igys ls iwoZ esa tek ih-,y-dk ;ksx 300 fnu ls vf/kd ugha gksxkA\n                                                                    &foÙk ¼fu;e½ foHkkx dk ifji= Øekad ,Q-1¼4½foÙk@fu;e@98 fnukad12&12&2012"]
[9,"5 ls 10 vlk/kkj.k vodk’kksa ij 1 ih-,y-de gksxkA"]
[10,",d jkT; deZpkjh dks ,d le; esa vf/kdre 120 fnu rd dh ih-,y-Lohd`r dh tk ldrh gSA"]
[11,";fn ,slk vodk’k mls fdlh ekU;rk izkIr lsfuVksfj;e vLirky esa Vh-ch-@dSalj ;k ekufld jksx ds funku@fpfdRlk ds fy;s vko’;d gks rks ,d le; esa 300 fnu rd Lohd`r fd;k tk ldrk gSA                                                    &fu;e 59 ,oa 91 ¼3½"]
[12,"ekfld vk/kkj ij jkT; deZpkfj;ksa ds mikftZr vodk’k ds [kkrs esa mikftZr vodk’k tek djus dh nj fuEukuqlkj gS%&"]
[null,"1- deZpkjh tks dyS.Mj o\"kZ esa 30 fnu ds mikftZr vodk’k ds fy;s vf/kd`r gS& 2-5 fnu"]
[null,"2- vkj-,-lh- ds dkfeZd& 3-5 fnu"]
[null,"3- U;k;ky;ksa ds LVkQ& 1 fnu"]
[13,"foJke dkyhu foHkkx esa dk;Zjr jkT; deZpkfj;ksa dks fdlh ,sls dys.Mj o\"kZ esa dh x;h dÙkZO; vof/k ds ,ot esa dksbZ mikftZr vodk’k fuEufyf[kr of.kZr 'krksZ@lhek dks NksMdj ns; ugha gksxk&"]
[null,"1- fo|ky;ksa@ikWfyVsfDud laLFkkuksa] dyk@foKku egkfo|ky;ksa esa v/;kiu dk;Z djkus okys vf/kdkfj;ksa@deZpkfj;ksa dks ,d dyS.Mj o\"kZ esa 15 mikftZr vodk’k ns; gksaxsaA                                                                      &fu;e 92(ii)"]
[null,"2- fdlh dys.Mj o\"kZ esa fu;qfä] lsokfoo`fÙk@e`R;q gksus ij izR;sd ekg ds fy;s 1-25 fnu dh nj ls mikftZr vodk’k ns; gksxkA              &fu;e  92(iii)(1)"]
[14,"mä izko/kkuksa ds dkj.k miyC/k mikftZr vodk’kksa dks lefiZr dj fu;e 91 , ds vuqlkj udn Hkqxrku fn;k tkosxkA o\"kZ esa mikftZr vodk’k dk miHkksx ugha djus ij vkxkeh o\"kZ esa tek fd;k tkosxkA"]
[15,"foJke dkyhu foHkkx dk v/;kiu dk;Zjr ,d deZpkjh ;fn fdlh dys.Mj o\"kZ esa foJke dkyksa dk miHkksx ugha dj lds rks mls ,sls vuqi;ksftr foJke dkyksa ds ,ot esa 15 ds vuqikr esa mikftZr vodk’k ns; gkasxsaA"]
[16,";fn dys.Mj o\"kZ esa deZpkjh us foJke dky dk mi;ksx ugha fd;k gS rks 15 fnu dk mikftZr vodk’k mlds [kkrs es atksM+ fn;k tkosxkA               &fu;e 91 [k"]
[17,"xzh\"edkyhu vodk’k o 'khrdkyhu vodk’k esa dke djus ij 3 fnu dh ,ot esa 1 fnu dk mikftZr vodk’k ns; gSA"]
[18,",d jkT; deZpkjh izR;sd foÙkh; o\"kZ esa vf/krdre 15 fnu dk mikftZr vodk’k lefiZr dj muds ,ot esa udn Hkqxrku izkIr dj ldrk gSA              &fu;e 91 ,"]
[19,"foÙkfoHkkxds vkns’k Øekad ,Q-1 ¼12½ foÙk ¼fu;e½@2005 fnukad 6&2&2009 }kjk jkT; deZpkfj;ksa dks 2009&2010 esa rFkk vkxs Hkh ,d o\"kZ esa 15 fnu ds mikftZr vodk’k ds leiZ.k ds ,ot esa udn Hkqxrku dh lqfo/kk iznku dh x;h gSA"]
[20,"lefiZr mikftZr vodk’k ds ,ot esa udn Hkqxrku dh x.kuk jfuax osru cSa.M esa osru rFkk xzsM&is o e¡gxkbZ HkÙks ds ;ksx ij 30 fnu ds ekg ds vk/kkj ij x.kuk dh tkosxhA lefiZr vodk’k ds udn Hkqxrku esa ls th-ih-,Q- dh dVkSrh ugha dh tkosxhA\n                                 Surrender of Pay = Pay in Pay Band + GradePay + DA"]
[21,"lefiZr vodk’k ds izkFkZuk i= dh fnukad dks deZpkjh ds [kkrs esa vodk’k MsfcV gksaxsA"]
[22,"jktLFkku flfoy lsok ¼isa’ku½ fu;e] 1996 ds fu;e 50 o 53 ds vuqlkj superannuation, invalid compensation pension or retirement pension izkIr djus ij ml fnu mlds mikftZr vodk’k ds ys[kksa esa vuqi;ksftr mikftZr vodk’kksa ds ,ot esa ¼vf/kdre300 fnu½ udn Hkqxrku dh x.kuk fuEukuqlkj dh tk;sxh%&"]
[null,"&Cash Payment = (Pay admissible on the date of retirement + DA on that day)*(Number of unutilized P.L. at credit on the date of retirement subject to a maximum of 300 days)/30"]
[null,"&jktLFkku flfoy lsok ¼oxhZdj.k] fu;a=.k ,oa vihy½ fu;e] 1958 ds fu;e 14¼6½ ds rgr vfuok;Z lsokfuo`fÙk dh 'kkfLr feyus ij ns; ugha"]
[23,"vuqi;ksftr mikftZr vodk’kksa ds ,ot esa ¼vf/kdre 300 fnu½ udn Hkqxrku ,d eq’r ,oa ,d gh le;] lsokfuo`fÙk ij pqdk;k tk;sxkA                &fu;e91[k¼2½"]
[24,"dk;kZy;k/;{k ;k foHkkxk/;{k ;g vodk’k vuqer djus o ,slk udn Hkqxrku djus ds fy;s l{ke izkf/kdkjh gksaxaasA                                &fu;e91[k¼5½"]
[25,";g ykHk mUgsa Hkh ns; gS tks lsokfuo`fÙk vk;q ds cknlsok esa vfHko`f) djds vkxs j[ks tkrs gSA                                                 &fu;e91[k¼6½"]
[26,"udn Hkqxrku ds vkns’k lsokfuo`fÙk dh rkjh[k ls 1 ekg iwoZ tkjh fd;s tk ldsxsa ysfdu udn Hkqxrku okLrfod lsokfuo`fÙk ds izHkkoh gksus ds ckn gh fd;k tk;sxkA"]
[27,"lsok esa jgrs gq,s ljdkjh deZpkjh dh e`R;q dh n’kk esa e`R;q gksus dh rkjh[k dks ns; vuqi;ksftr mikftZr vodk’kksa ds ,ot esa ¼vf/kdre300 fnu½ udn Hkqxrku fu;e 91 [k ds vuqlkj ns; gSA"]
[28,"Lksokfuo`fÙk ds le; vuqi;ksftr mikftZr vodk’k ds cdk;k vo’ks\"k esa fnuksa ds ÝsD’ku esa mikftZr vodk’k jg tkos rks vk/ks ls uhps ,d fnu ls de dk ÝzsD’ku ugha ekuk tkosxkA vk/ks ;k vf/kd ds ÝsD’ku dks ,d fnu ekuk tkosxkA                                       &No. F.1(12)FD/Rules/2005 dated 17-11-2014"]
[29,",d LFkkbZ jkT; dkfeZd ds mikftZr vodk'k@:ikUrfjr vodk'k@v}Z osru  vodk'k@vlk/kkj.k  vodk'k@pkbZYM ds;j yho@ekr`Rro@fir`Reo vodk'k vkfn dk l{ke Lohd`fr ¼,d r; lhek rd½ vf/kdkjh dk;kZy;/;{k gksrk gS A"]
[30,"ifjokj isa’ku Lohd`r djus esa l{ke izkf/kdkjh bl fu;e ds v/khu lans; ,d eq’r jkf’k Lohd`r djsxkA                                        &fu;e 91 lh  ¼c½"]
[31,"mikftZr vodk'k vU; izdkj ds vodk'k tSls& jktif=r vodk'k] ifjofrZr] v}Zosru vodk'k] vns; +vlk/kkj.k vodk'k ;kfu lh-,y- dks NksM+dj fdlh Hkh izdkj ds vodk'k "]
[null," dh fujUrjrk esa Lohd`r fd;k tk ldrk gSA vFkkZFk jktif=r vodk'k o vU; vodk'k iwoZxkeh@i'pkr tksMs tk ldrs gS vkdfLed vodk'k ds vykokA"]
[32,"Any kind of leave may be granted in combination or in continuation of any other kind of leave.  (CL is not a leave)                                       -Rule 88"]

{"sheet":"Commuted","index":68,"n_rows":13,"n_cols":2,"rows_kept":13,"cut":false,"hidden":true,"merged":[[0,0,0,1]]}
["COMMUTED LEAVE"]
[1,"LFkk;h lsok ds ,d jkT; deZpkjh dks izkf/kd`r fpfdRld ds izek.k i= ds vk/kkj ij v)Z osru vodk’kksa dh vk/kh la[;k rd :ikUrfjr vodk’k fuEufyf[kr 'krksZ ds vk/kkj ij Lohd`r fd;k tk ldrk gSA                                                                                                  &fu;e 93 ¼2½"]
[2,"Tkc fdlh deZpkjh dks :ikUrfjr vodk’k Lohd`r fd;s tkos rks mlds ,ot esa nqxquh la[;k esa v)Z osru vodk’k ys[kksa ls ?kVk fn;s tkosaA"]
[3,"bl vodk’k esa mikftZr vodk’k ds leku vodk’k osru ns; gSA vodk’kksa dh lekfIr ij ,sls deZpkjh ds lsok ij okil mifLFkr gksus dh iw.kZ lEHkkouk,a gSA"]
[4,",d le; esa ns; v)Z osru vodk’kksa esa ls 180 fnu rd ds v)Z osru vodk’kksa dks izkf/kd`r fpfdRld ds izek.ki= ds fcuk ,sls :ikUrfjr vodk’kksa ds :i esa Lohd`r fd;k tk ldrk gS tgk¡ ,slk vodk’k fdlh vuqeksfnr ikB~;Øe ds fy;s pkgk tk;s rFkk vodk’k Lohd`r djus okyk izkf/kdkjh ,sls ikB~;Øe@v/;;u lkoZtfud fgr esa izekf.kr dj nsaA                                                                                            &fu;e93¼2½"]
[5,"l{ke Lohd`rkf/kdkjh dk;kZy;/;{k&,d lhek rd"]
[6,"bl vodk’k esa mikftZr vodk’k ds leku vodk’k osru ns; gksxkA                                                                        &fu;e 97"]
[7,",p-ih-,y- vodk'k vU; izdkj ds vodk'k tSls jktif=r vodk'k] mikftZr] ifjofrZr] vns;@+vlk/kkj.k vodk'k ¼lh-,y- dks NksM+dj½ fdlh Hkh izdkj ds vodk'k dh fujUrjrk esa Lohd`r fd;k tk ldrk gSA vFkkZFk jktif=r vodk'k] mikftZr] ifjofrZr] vns;@+vlk/kkj.k@v/;;u vodk'k ¼lh-,y- dks NksM+dj½ fdlh Hkh izdkj ds vodk'k ds iwoZxkeh@ i'pkr tksMk tk ldrk gS A"]
[8,",d LFkkbZ jkT; dkfeZd ds :ikUrfjr vodk'k@v}Z osru  vodk'k@vlk/kkj.k  vodk'k@pkbZYM ds;j yho@ekr`Rro@fir`Reo vodk'k vkfn dk l{ke Lohd`fr ¼,d r; lhek rd½ vf/kdkjh dk;kZy;/;{k gksrk gS A"]
[9,"foJkedkyhu foHkkx esa ;fn dksbZ dkfeZd xzh\"ekodk'k@e/;kof/k vodk'k@'khrdkyhu vodk'k ls iwoZ vU; vodk'k ¼vkdfLed vodk'k dks NksMdj½ ij gks rks xzh\"ekodk'k-@---- ds lekIr gksus ij izFke dk;Z fnol dks dk;Zxzg.k djuk vfuok;Z gksxk vU;Fkk xzh\"ekodk'k-@----Hkh mlh vodk'k esa fujUrj ekuk tk;sxkA      &fu;e 61 o 63 ds vuqlkj"]
[null,"mijksDr fLFkfr esa ftrus fnol dk vodk'k dkfeZd us Lohd`r djok;k gqvk gS rd dh frfFk rd dkfeZd dk vodk'k ekuk tk;sxk rFkk 'ks\"k fnol xzh\"ekodk'k-@---- ds ekus tk;saxs A"]
[10,"ऐसा अवकाश जो राज.सेवा नियम के खण्ड एक मे परिभाषित हैं,लिऐ जाने पर अवकाश समाप्ति की तिथि से. 3माह के भीतर आवेदन करने पर अवकाश के नेचर को नियम 59 के निचे अकित \"राज्य सरकार के आदेश \"टिप्पणी के तहत (RSR VOL I मे ही परिभाषित अन्य अवकाश मे) बदलवाया जा सकता हैं।"]
[11,"1 जूलाई को अवकाश पर(ऐसा अवकाश जो RSR VOL I मे परिभाषित है)रहने पर,वेतन वृद्धि तो एक जुलाई से ही स्वीकृत होगी लेकिन नकद लाभ अवकाश से लौटने की तिथि से देय होगा।"]

{"sheet":"HPL","index":69,"n_rows":18,"n_cols":2,"rows_kept":18,"cut":false,"hidden":true,"merged":[[0,0,0,1]]}
["HALF PAY LEAVE"]
[1,",d jkT; deZpkjh dks fu;qfä frfFk ls ,d o\"kZ dh lsok iw.kZ djus ij 20 fnu dk v)Z osru vodk’k vftZr gksxkA vFkkZr~ v)Z osru vodk’k dh izfo\"Vh lsok iqfLrdk esa  fu;qfä frfFk ls ,d o\"kZ dh LFkkbZ lsok iw.kZ djus dh frfFk ij gh dh tkrh gS A                                                              &fu;e 93 ¼1½ ¼,½"]
[2,";g vodk’k vkuqikfrd ns; ugh agS&"]
[null,";kfu fdlh deZpkjh dh fu;qfä rkjh[k 31&3&1978 o lsokfuo`fÙk 31&12&2013 dks gS rks mls v)Z osru vodk’k dsoy 31&3&2013 rd gh ns; gksaxsaA 1&4&2013 l s31&12&2013 rd dksbZ vodk’k ns; ugh gksaxsaA "]
[3,"mijksä fu;e 93 ¼1½ ¼,½ ds vuqlkj ns; v)Z osru vodk’k fpfdRlk izek.k i= ;k futh dkj.k ds vk/kkj ij Lohd`r fd;k tk ldrk gSA"]
[4,",p-ih-,y- dk rkRi;Z v/kZ osru vodk'k ls gS tks dkfeZd ftrus fnukaas dk ,p-ih-,y- miHkksx djsssxk mls mrus fnukas dk vk/kk osru ns; gksxkA"]
[5,",p-ih-,y- vodk'k dks vfxze Lohd`r djok;k tk ldrk gSA"]
[6,",p-ih-,y- vodk'k dks l{ke fpfdRld ds }kjk tkjh fpfdRlk izek.k i=ksa ds vk/kkj ij ifjofrZr vodk'k ds :i esa Lohd`r fd;k tk ldrk gSA tSls fnukad 1 ls 5 rd 05"]
[null,"fnuksa dh Lohd`r djokuh gS rks 10 fnuksa dh ,p-ih-,y- dVsxhA"]
[7,",p-ih-,y- vodk'k vU; izdkj ds vodk'k tSls jktif=r vodk'k] mikftZr] ifjofrZr] vns;@vlk/kkj.k@v/;;u vodk'k ;kfu lh-,y- dks NksM+dj fdlh Hkh izdkj ds vodk'k dh fujUrjrk esa Lohd`r fd;k tk ldrk gSA vFkkZFk jktif=r vodk'k] mikftZr] ifjofrZr] vns;@+vlk/kkj.k@v/;;u vodk'k ¼lh-,y- dks NksM+dj½ fdlh Hkh izdkj ds vodk'k ds iwoZxkeh@ i'pkr tksMk tk ldrk gS A"]
[]
[8,",p-ih-,y- vodk'k dk ys[kk izFke fu;qfDr frfFk ls lsok iqfLrdk esa la/kkfjr fd;k tkosA"]
[9,";fn dksbZ dkfeZd mPp v/;;u ;k ih-,p-Mh- ¼ 'kks/k dk;Z ½ djuk pkgrk gS rks og ,p-ih-,y dk miHkksx dj ldrk gSA "]
[10,"v/kZ osru vodk'k ,d eq'r 360 fnol rd dk ns; gksrk gSSA"]
[11,";fn dksbZ dkfeZd yEch vof/k ds vodk'k esa jgrk gS vkSj mlds chp fu;qfDr fnukad vk tkrh gS rks mls ml o\"kZ dh ,p-ih-,y- dk ykHk ns; gksxkA"]
[12,",d LFkkbZ jkT; dkfeZd ds :ikUrfjr vodk'k@v}Z osru  vodk'k@vlk/kkj.k  vodk'k@pkbZYM ds;j yho@ekr`Rro@fir`Reo vodk'k vkfn dk l{ke Lohd`fr ¼,d r; lhek rd½ vf/kdkjh dk;kZy;/;{k gksrk gS A"]
[13,"foJkedkyhu foHkkx esa ;fn dksbZ dkfeZd xzh\"ekodk'k@e/;kof/k vodk'k@'khrdkyhu vodk'k ls iwoZ vU; vodk'k ¼vkdfLed vodk'k dks NksMdj½ ij gks rks xzh\"ekodk'k-@---- ds lekIr gksus ij izFke dk;Z fnol dks dk;Zxzg.k djuk vfuok;Z gksxk vU;Fkk xzh\"ekodk'k-@----Hkh mlh vodk'k esa fujUrj ekuk tk;sxkA      &fu;e 61 o 63 ds vuqlkj"]
[null,"mijksDr fLFkfr esa ftrus fnol dk vodk'k dkfeZd us Lohd`r djok;k gqvk gS rd dh frfFk rd dkfeZd dk vodk'k ekuk tk;sxk rFkk 'ks\"k fnol xzh\"ekodk'k-@---- ds ekus tk;saxs A"]

{"sheet":"EOL","index":70,"n_rows":19,"n_cols":2,"rows_kept":19,"cut":false,"hidden":true,"merged":[[0,0,0,1]]}
["EXTRA ORDINARY LEAVE"]
[1,"fuEukafdr fo’ks\"k ifjfLFkfr;ksa esa ,d jkT; deZpkjh dks vlk/kkj.k vodk’k fn;k tk ldrk gS%&"]
[null,"1- Tkc fu;eksa ds vUrZxr mls dksbZ vU; vodk’k ns;@Lohdk;Z u gksA"]
[null,"2- Tkc vU; vodk’k cdk;k gks]ijUrq deZpkjh Lo;a vlk/kkj.k vodk’k Lohd`r djus ds fy;s vkosnu djrk gSA                        &fu;e 96(a)(i)(ii)"]
[2,"vLFkk;h jkT; deZpkjh dks ,d le; esa 3 ekg ;k 18 ekg rd dk vlk/kkj.k vodk’k Lohd`r fd;k tk ldrk gSA                      &fu;e 96 (b)"]
[3,"3 ekg ls vf/kd dk yEcs le; dk vlk/kkj.k vodk’k foÙk foHkkx dh lgefr ls deZpkjh dks yEch chekjh ;k v/;;u ds ikB~;Øe iw.kZ djus gsrq Lohd`r fd;k tk ldrk gSA"]
[4,"LFkk;h deZpkjh dks 24 ekg rd dh vof/k ds fy;s ¼v/;;u vodk’k lfgr½ Lohd`r fd;k tk ldrk gSA"]
[5,"24 ekg ls vf/kd dh vof/k dk vodk’k foÙk foHkkx dh iwoZ vuqefr ls gh Lohd`r fd;k tk ldrk gSA"]
[6,"vLFkk;h efgyk jkT; deZpkjh tks lqj{kk dfeZ;ksa dh ifRu;ka gS]dks ,d le; esa 6 ekg rd dk vlk/kkj.k vodk’k Lohd`r fd;k tk ldrk gSA          &fu;e 96 (b)"]
[7,"deZpkjh dks vlk/kkj.k vodk’k ysus ij fdlh izdkj dk vodk’k osru izkIr ugha gksrk gSA                                      &fu;e 97 (4)"]
[8,":ikUrfjr vodk’k ij deZpkjh vodk’k osru dk gdnkj mlh rjg gksrk gS tSlk fd og mikftZr vodk’k ij gksrk gSA              &fu;e 97 (3)"]
[9,",d vLFkk;h jkT; deZpkjh ftldh fu;qfä fu/kkZfjr p;u izfØ;k ds rgr gqbZ gS rFkk ftlus fu;fer lsok ds 3 o\"kZ iw.kZ dj fy;s gS] mls vlk/kkj.k vodk’k LFkk;h deZpkjh dh Hkk¡fr gh Lohd`r fd;k tk ldrk gSA                          &foÙk foHkkx dk ifji= Øekad ,Q-1¼5½ foÙk@fu;e@96 fnukad 26&2&2002"]
[10,"ijhoh{kkdky esa yxs fnukad 11-6-2014 ls iwoZ fu;qDr dkfeZd dk 90 fnol rd dk vlk/kkj.k vodk'k fu;qfDr vf/kdkjh }kjk Lohd`r fd;k tk,xk mlds fujUrjrk esa ;fn vkSj vof/k gS rks Lohd`fr gsrq jkT; ljdkj l{ke gSA"]
[11,"ijhoh{kkdky esas fnukad 11-6-2014 ds i'pkr~ yxs dkfeZd dks 30 fnol ls vf/kd vof/k dk vlk/kkj.k vodk'k ns; ugha gksxkA ;fn fdlh dkfeZd us 30 fnol ls vf/kd dh vof/k dk vlk/kkj.k vodk'k miHkksx fd;k rks mldk izdj.k jkT; ljdkj dks vkj,l,l- 96 ¼ch½ f'kfFkyu gsrq jkT; ljdkj dks izf\"kr fd;k tk,xkA"]
[12,"2 o\"kZ ds izkscs'ku dky esa ,d dkfeZd dks 30 fnu dk vlk/kkj.k vodk'k fu;qfDr vf/kdkjh Lohd`r djsxk] mDr vof/k ls dkfeZd dk izkscs'ku dky vkxs ugha c<sxk A ysfdu ;fn dkfeZd mDr vof/k esa 30 ls vf/kd fnuksa dk vlk/kkj.k vodk'k dk miHkksx djrk gS rks 30 ls vf/kd vof/k dh Lohd`fr dk;kZy;k/;{k@foHkkxk/;{k }kjk dh tk;sxh ,oa mDr lEiw.kZ  vof/k ls dkfeZd dk izkscs'ku dky vkxs c<sxk ftlesa 30 fnu Hkh 'kkfey gksaxs vFkkZr~ ;fn dkfeZd }kjk 31 fnu dk vlk/kkj.k vodk'k dk miHksx djrk gS rks mldk  izkscs'ku dky 31 fnu gh  vkxs c<sxk A"]
[13,"l{ke fpfdRlk vf/kdkjh dk fpfdRlk izek.k i= @esfMdy cksMZ dh fjiksVZ ds vk/kkj ij Hkh vlk/kkj.k vodk'k Lohd`r fd;k tk ldrk gSA mDr vof/k dk okf\"kZd osru o`f+) ij izHkko ugha iM+sxk rFkk ;g vof/k isa'ku x.kuk gsrq Hkh ekU; gksxhA"]
[14,";fn l{ke fpfdRld ds izek.k i=ksa ds fcuk vFkok fdlh vU; dkj.kksa ls vlk/kkj.k vodk'k dk miHkksx fd;k tkrk gS rks vlk/kkj.k vodk'k dh vof/k dk okf\"kZdk osru o`f) ij izHkko iM+sxkA"]
[15,"vlk/kkj.k vodk'k vU; izdkj ds vodk'k tSls jktif=r vodk'k] mikftZr] ifjofrZr] vns;@v/;;u vodk'k ;kfu lh-,y- dks NksM+dj fdlh Hkh izdkj ds vodk'k dh fujUrjrk esa Lohd`r fd;k tk ldrk gSA vFkkZFk jktif=r vodk'k] mikftZr] ifjofrZr] vns;@+v/;;u vodk'k ¼lh-,y- dks NksM+dj½ fdlh Hkh izdkj ds vodk'k ds iwoZxkeh@ i'pkr tksMk tk ldrk gS A"]
[16,",d LFkk;h jkT; deZpkjh dk 90 fnol dk vlk/kkj.k vodk'k dk;kZy;/;{k }kjk Lohd`r fd;k tk ldrk gS A"]

{"sheet":"MPL","index":71,"n_rows":28,"n_cols":2,"rows_kept":28,"cut":false,"hidden":true,"merged":[[0,0,0,1]]}
["MATERNITY/PATERNITY LEAVE"]
["A","MATERNITY LEAVE:"]
[1,";g vodk’k fnukad 6 fnlEcj 2004 ls ns; fd;k x;k gSA"]
[2,",d efgyk ljdkjh deZpkjh dks lEiw.kZ lsok vof/k esa 2 ckj rFkk thfor cPpk u gks rks rhljh ckj izlwfr vodk’k Lohd`r fd;k tk ldrk gSA       &fu;e 103"]
[3,";g vodk’k fpfdRlk izek.k i= ds vk/kkj ij izkjEHk gksus dh rkjh[k ls 180 fnu dh vof/k rd iw.kZ osru ij Lohd`r fd;k tkosxkA          &¼fnukad 11&8&2008 ls ykxw½"]
[4,";g vodk’k dk;kZy;k/;{k }kjk Lohd`r fd;k tk ldrk gSA og l{ke izkf/kdkjh gSA"]
[5,"xHkZikr ds ekeys esa 6 lIrkg dk vodk’k izkf/kd`r fpfdRlk vf/kdkjh dk izek.k i= layXu djus ij Lohd`r fd;k tk ldrk gSA"]
[6,"efgyk deZpkjh vodk’k osru ikus dh gdnkj gSA"]
[7,",slh NqÍh dks vodk’k ys[ks esa ls MsfcV ugha fd;k tk;sxk fdUrq lsok iqfLrdk esa bldh izfof\"V i`Fkd ls dh tk;sxhA"]
[8,";g vodk’k vLFkk;h@izksc'kujh efgyk deZpkjh dks Hkh ns; gSA"]
[9,";g vodk'k Lohd`r djokrs le; th-,- 45] MkW- dk izek.k i=] ,d 'kiFk i= ftlesa nks ls vf/kd larku ugha gksus dk mYys[k gks izkIr fd;k tkos rFkk ,d lk/kkj.k izkFkZuk i= Lohd`r drkZ vf/kdkjh dks izLrqr djuk gksxkA"]
[10,";g vodk’k vuqcfU/kr efgyk deZpkfj;ksa dks Hkh ns; gSA &foÙk foHkkx dk ifji= Øekad &,Q-1¼16½foÙk@fu;e@2007 fnukad&18 twu 2009"]
[11,";g vodk’k efgyk ijhoh{kk/khu izf’k{k.kkFkhZ deZpkfj;ksa dks fu;e 122(A)(ii) ds rgr ns; gSA foÙk foHkkx dk ifji= Øekad&,Q-1¼6½ foÙk@fu;e@2011 fnukad&15 Qjojh 2012 }kjk fu;e 103 A fu;e 121 (A)(ii) ds :i esa izfrLFkkfir"]
[12,";g vodk’k v/kwjs xHkZikr ds ekeys esa ugha feysxkA"]
[13,";g vodk’k fdlh vU; izdkj ds vodk’k ds lkFk Hkh fy;k tk ldrk gSA            &fu;e 104"]
[14,";g vodk’k 2 thfor cPpksa ls de gksus ij gh Lohd`r fd;k tk ldrk gSA"]
["B","PATERNITY LEAVE"]
[1,";g vodk’k fnukad 6 fnlEcj 2004 ls ns; fd;k x;k gSA"]
[2,";g vodk’k l{ke izkf/kdkjh }kjk ,d iq:\"k ljdkjh deZpkjh dks 2 ls de thfor cPpksa ds gksus ij viuh lEiw.kZ lsok vof/k esa ifRu dh xHkkZoLFkk@izlo ds nkSjku ,oa ckn esa ns[kHkky djus gsrq ;kfu izlo ds 15 fnu iwoZ ,oa izlo ds 3 ekg ds Hkhrj 15 fnu dk fir`Ro vodk’k Lohd`r djsxkA"]
[3,";g deZpkjh dh lEiw.kZ lsok vof/k esa 2 ck jLohd`r fd;k tk ldrk gSaA"]
[4,"bl vodk’k dkfu/kkZfjr vof/k esa mi;ksx ugha djus ij ;g ysIl gks tkrk gSA"]
[5,"bl vodk’k dks vodk’k ys[kksa esa 'kkfey ugha fd;k tkosxk ijUrq bl vodk’k dk lsokiqfLrdk esa bUnzkt fd;k tkrk gSa"]
[6,";g vodk’k fdlh vU; izdkj ds vodk’k ds lkFk Hkh fy;k tk ldrk gSA            &fu;e 104"]
[7,"xHkZikr ;k feldSjst ds ekeys esa ;g vodk’k Lohd`r ugha fd;k tk;sxkA"]
[8,";g vodk’k iq:\"k ijhoh{kk/khu izf’k{k.kkFkhZ dks fu;e 122 (A)(iii) ds vuqlkj ns; gSA foÙk foHkkx dk ifji= Øekad&,Q-1¼6½foÙk@fu;e@2011 fnukad&15 Qjojh 2012 }kjk fu;e 103 A fu;e 121 (A)(iii) ds :i esa izfrLFkkfir"]
[9,"ekr`Rro@fir`Rro vodk'k vU; izdkj ds vodk'k tSls jktif=r vodk'k] mikftZr] ifjofrZr] vns;@vlk/kkj.k@v/;;u vodk'k ;kfu lh-,y- dks NksM+dj fdlh Hkh izdkj ds vodk'k dh fujUrjrk esa Lohd`r fd;k tk ldrk gSA vFkkZFk jktif=r vodk'k] mikftZr] ifjofrZr] vns;@+vlk/kkj.k@v/;;u vodk'k ¼lh-,y- dks NksM+dj½ fdlh Hkh izdkj ds vodk'k ds iwoZxkeh@ i'pkr tksMk tk ldrk gS A"]
[10,",d LFkkbZ jkT; dkfeZd ds :ikUrfjr vodk'k@v}Z osru  vodk'k@vlk/kkj.k  vodk'k@pkbZYM ds;j yho@ekr`Rro@fir`Reo vodk'k vkfn dk l{ke Lohd`fr ¼,d r; lhek rd½ vf/kdkjh dk;kZy;/;{k gksrk gS A"]
[11,"bl vodk’k ds nkSjku ljdkjh deZpkjh dks vodk’k ij tkus ls Bhd iwoZ vkgfjr osru ds leku vodk’k osru lanÙk fd;k tk;sxkA"]

{"sheet":"LND","index":72,"n_rows":15,"n_cols":2,"rows_kept":15,"cut":false,"hidden":true,"merged":[[0,0,0,1]]}
["LEAVE NOT DUE"]
[1,"lsok fuo`fÙk ls iwoZ ds vodk’kksa ds ekeyksa esa NksM+dj LFkk;h jkT; deZpkjh dks vns; vodk’k (Leave Not Due) fuEufyf[kr ’krksZ ij Lohd`r fd;k tk ldrk gS%&"]
[2,"vodk'k Lohd`rdrkZ bl ckr ls lUrq\"V gks fd ,slk deZpkjh vns; vodk’kksa ls ¼vodk’kksa dh lekfIr ds ckn lsok ij okfil½m ifLFkr gks tk;sxkA         &fu;e93¼3½d"]
[3,"vns; vodk’kksa dh la[;k ml vuqeksfnr la[;k ls vf/kd ugha gksxh tks ,d deZpkjh ,sls vodk’kksa ls okfil vkdj mruh gh la[;k esa v)Z osru vodk’k vftZr dj ldsaA           &fu;e 93 ¼3½ [k"]
[4,"lEiw.kZ lsokdky esa vns; vodk’k fuEu izdkj ls Lohd`r fd;s tk;sxas%&"]
[null,"1- vf/kdre vns; vodk'k& 360 fnu"]
[null,"2- ,d le; esa& 90 fnu"]
[null,"3- fpfdRlk izek.k i= ds vk/kkj ij& 180 fnu"]
[null,"4- 'ks\"k vU; vk/kkj ij                                                                            &fu;e 93 ¼3½ x"]
[5,"vns; vodk’k Lohd`r fd;s tkus ij og deZpkjh ds v)Zosru vodk’kksa ds [kkrs esa ukes fy[kk tk;sxk rFkk mldk lek;kstu ,sls deZpkjh }kjk Hkfo\"; esa vftZr fd;s tkus okys v)Zosru vodk’kksa ls fd;k tk;sxkA                                                                  &fu;e 93 ¼3½ ?k"]
[6,"fu;fer fu;qfä ds ckn 3 o\"kZ dh lsok vof/k iw.kZ djus ij :ikUrfjr vodk’k o vns; vodk’k Lohd`r fd;s tk ldsaxsaA                       &fu;e93¼4½"]
[7,"lsok esa jgrs gq,s deZpkjh dh e`R;q gksus ij] jktLFkku flfoy lsok, a¼isa’ku½ fu;e] 1996 ds fu;e 35 ds vUrZxr vleFkZrk ds vk/kkj ij lsokfuo`Ùk djus ;k fu;e 53 ds vUrZxr vfuok;Z :i ls lsokfuo`Ùk dj fn;k tkrk gS rks mlls vodk’k osru laca/kh olwyh] ;fn curh gks rks ugha dh tkosxhA vU; leLr ekeyksa esa tSls R;kx i=] LoSfPNd lsokfuo`fÙk] fu\"dklu ;k c[kkZLrxh vkfn esa vodk’k osru dh olwyh gksxhA                            &fu;e93¼5½"]
[8,"vns; vodk'k dk lek;kstu ,p-ih-,y- ls djuk gksxk ;fn fdlh dkfeZd dh lsok fuo`fr fudV gS vkSj og vns; vodk'k dk le;kstu djokus dh fLFkfr esa ugha  gS rks mls vns; vodk'k Lohd`r ugha fd;k tkosA "]
[9,"vns; vodk'k dh vof/k esa v)Zosru ds cjkcj osru ns; gksxkA"]
[10,"vns; vodk'k vU; vodk'kksa dh fujUrjrk esa Lohd`r fd;k tk ldrk gSA"]

{"sheet":"CL","index":73,"n_rows":38,"n_cols":2,"rows_kept":38,"cut":false,"hidden":true,"merged":[[0,0,0,1]]}
["CASUAL LEAVE"]
[1,"jktLFkku lsok fu;e 1951 [k.M I ds ifjf’k\"V I ds vuqHkkx& III vkdfLed vodk’k esa fn;s x;s Li\"Vhdj.k ds vuqlkj fdlh jkT; deZpkjh dks vkdfLed vodk’k dk miHkksx djus ls iwoZ viokn Lo:i ifjfLFkfr;ksa ds vykok ,sls vodk’k dh iwoZ Lohd`fr izkIr djuk vko’;d gSA vkdfLed vodk’k dks vodk'kksa dh Js.kh esa ugha ekuk x;k gS A"]
[2,"jkT; ljdkj ds vkns’k Øekad i-1¼4½foÙk@fu;e@2008 fnukad 17 Qjojh 2012 ds vuqlkj ;fn jkT; deZpkjh vkdfLed vodk’k ysdj futh fons’k ;k=k djuk pkgs rks mls vkdfLed vodk’k dk vkosnu i= de ls de 3 lIrkg iwoZ l{ke vf/kdkjh dks nsuk gksxkA"]
[3,";g fdlh ,d ckj esa 10 fnu rd lhfer jgsxkA vkdfLed vodk’k esa jktdh; vodk'k lfEefyr ugha gksrk gS A"]
[4,"bl vodk’k dks fdlh vof/k ds 'kh?kz iwoZxkeh ;k Ik’pkrxkeh ;k e/; esa jfookj] jktdh; vodk’k ;k lkIrkfgd vodk’k vkosa rks mls vkdfLed vodk’k dk va’k ugha ekuk tkrkA vkdfLed vodk’k dks fdlh Hkh vU; vodk'k ;Fkk mikftZr@:ikUrfjr@v}Zosru vodk'k@ekr`Rro@fir`Rro@v/;;u vodk'k vkfn ds lkFk 'kh?kz iwoZxkeh ;k Ik’pkrxkeh ds :i esa Lohd`r ugha fd;k tk ldrk gS A"]
[5,"jkT; deZpkfj;ksa dks viuk eq[;ky; ;k ftyk fcuk iwokZuqefr ds ugha NksM+uk pkfg;sA"]
[6,"Lksok esa u;s izos’k ikus okys deZpkfj;ks adks fuEukuqlkj vkdfLed vodk’k ns; gS&"]
[null,"1&3 ekg ;k de dh lsok gksus ij& 5 fnu"]
[null,"2&3 ekg ls vf/kd ijUrq 6 ekg ls de dh lsok gksus ij&10 fnu"]
[null,"3&6 ekg ls vf/kd dh lsok gksus ij&15 fnu"]
[null,"FD Order No. F.5(1)FD(R)/56 dated 11.1.1956"]
[7,"lsokfuo`Ùk gksus okys dkfeZdksa dks o\"kZ esa ¼1 tuojh 2002 ls½ fuEu izdkj ls vkdfLed vodk’k ns; gS&"]
[null,"1&lsokfuo`Ùk o\"kZ esa 3 ekg ;k de dh lsok gksus ij&5 fnu"]
[null,"2&lsokfuo`Ùk o\"kZ esa 3 ekg ls vf/kd ijUrq 6 ekg ls de dh lsok gksus ij&10 fnu"]
[null,"3&lsokfuo`Ùk o\"kZ esa 6 ekg ls vf/kd dh lsok gksus ij&15 fnu"]
[null,"FD Order No. F.1(8)FD(Rules)/95 dated 20-2-2002"]
[8,"jkT; deZpkfj;ksa dks viuk eq[;ky; ;k ftyk fcuk iwoZ vuqefr ds ugha NksM+uk pkfg;sA vkdfLed vodk’k ds vkosnu i=ks es vius vodk’k dkyhu le; esa jgus dk irk vafdr fd;k tkuk pkfg;sA"]
[9,"jktif=r vodk’k esa Hkh eq[;ky; NksMus ij viuk irk vkosnu i= esa vafdr djuk vko’;d gSA"]
[10,"fdlh Hkh jkT; deZpkjh dks vkdfLed vodk’k dh ;FkkFkZ ekeyksa esa tSls chekjh] vLirky vkSj vUR;s\"Bh esa mifLFkfr gsrq vodk’k pkgus ij iwoZ Lohd`fr ugha djkus ij Hkh dk;ksZÙkj Lohd`fr iznku dh tk ldsxhA"]
[11,"jkT; deZpkfj;ksa dks vk/kk fnu dk vkdfLed vodk’k Hkh fn;k tk ldrk gSA vijkUg iwoZ l= ds fy;s ;g le; 2-00 cts rd ekU; gksxkA vijkUg ds ckn vkdfLed vodk’k dk le; 1-30 cts izkjEHk gksxkA ,oa izkr%dkyhu dk;Z fnol esa foHkktu dk le; izkr% 10-00 cts dk ekU; fd;k tk;sxkA"]
[12,"va’kdkyhu deZpkfj;ksa dks Hkh iw.kZ dkfyd deZpkfj;ksa dh Hkk¡fr vkdfLed vodk’k ns; gSA"]
[13,"jkT; deZpkfj;ksa dks vkdfLed vodk’k bl izdkj ugha fn;k tkuk pkfg;s fd fuEu fo\"k;d fu;eks ls cpk tk lds%&"]
[null,"1&osru ,oa HkÙks dh lax.kuk dh rkjh[k"]
[null,"2&dk;kZy; dk ÁHkkj"]
[null,"3&vodk’k dk izkjEHk ,oa vUr"]
[null,"4&vodk’k ls iqu% dk;Z dks ykSVuk"]
[null,"5&;k vodk’k dh vof/k bruh c<k nsuk fd fu;ekuqlkj mls Lohd`r ugha fd;k tk ldsA"]
[14,"foJke dkyhu foHkkxksa tSls jktdh; egkfo|ky; ¼ftlesa i'kqfpfdRlk ,oa esfMdy lfEefyr gS½ fo|ky;ksa] LFkyksa]o f’kYi¼iksfyVsfDud½ ,oa vU; f’k{k.k laLFkkvksa ds ekeys esa o\"kZ 1 tqykbZ ls izkjEHk vkSj 30 twu dks lekIr ekuk tk;sxkA"]
[15,"fo|ky;ksa esa vkdfLed vodk’k dh x.kuk 1 tqykbZ ls 30 twu rd gksxhA"]
[16,"osds’ku ds Øe esa vkdfLed vodk’k Lohd`r ugha fd;k tk ldrkA"]
[17,"iqfyl ds flikgh] gSM dkULVscy] lgk;d mi fujh{kd] rFkk mi fujh{kdksa dks o\"kZ esa 25 fnu dk vkdfLed vodk’k ns; gksxkA ;g ,d ckj esa vf/kdre 10 fnu dk gh vodk’k Lohd`r fd;k tk ldrk gSA"]
[18,"x<okyh] usikyh] rFkk xksj[ks tks vkj-,-lh bdkbZ;ksa esa Hkkjr&ikd lhek ij inLFkkfir gS dks 5 fnu dk fo’ks\"k fj;k;rh vkdfLed vodk’k ns; gksxk fdUrq ,d le; esa vuqifLFkfr dk le; 15 fnu ls vf/kd ugha gksxkA"]
[19,"vkj-,-lh ds tokuksa dks vkdfLed vodk’k mikftZr vodk’kksa ls iwoZ tksM+us dh vuqefr bl vk/kkj ij nh tk ldrh gS fd fdlh ,d le; esa vkdfLed vodk’k 15 fnu ls vf/kd ugha gksxkA"]
[20,"Qk;j lsok ds vf/kdkfj;ksa dks 25 fnu dk vkdfLed vodk’k ns; gSA"]
[21,"Lkesfdr osru ij fu;qä vk;qosZn ulZ ,oa dEikm.Mj dks 15 fnu dk vkdfLed vodk’k ns; gSA"]
[22,"Ikjhoh{kk/khu Áf’k{k.kkFkhZ dks ,d dys.Mj o\"kZ esa 15 fnu ds vkdfLed vodk’k ns; gSA"]
[23,"foHkkxk/;{kksa dks vkdfLed vodk’k dh Lohd`fr lacaf/kr iz’kklfud foHkkx ds lfpo nsaxsa ,oa vU; jktif=r vf/kdkfj;ksa ds vkdfLed vodk’k muds fudVre mPpkf/kdkjh Lohd`r djsaxsaA"]
[24," 'kklu lfpo ds vkdfLed vodk’k izeq[k 'kklu lfpo }kjk Lohd`r fd;s tk;saxsaA"]

{"sheet":"SCL","index":74,"n_rows":13,"n_cols":2,"rows_kept":13,"cut":false,"hidden":true,"merged":[[0,0,0,1]]}
["SPECIAL CASUAL LEAVE"]
[1,"jkT; ljdkj us dfri; ekeyksa esa jkT; deZpkfj;ksa dks fof’k\"V vkdfLed vodk’k] fujks/kkodk’k] vodk’k ds cnys esa {kfriwfrZ vodk’ko Ms&vkWQ dh Lohd`fr iznku dh gSA"]
[2,"jktLFkku f’k{kk lsok ds lnL;] izkFkfed ,oa ek/;fed f’k{kk ds v/;kid] jktLFkku f’k{kk lsok la?k] jktLFkku f’k{kd la?k] :DVk vkfn ds okf\"kZd lEesyu Hkkx ysus ij izR;sd 'kS{kf.kd l= esa 4 fnu dk fof’k\"V vkdfLed vodk’k fnukad 1 vizSy 1983 ls ns; gSA ;g 30 uoEcj ds ckn ns; ugha gSA"]
[3,"fpfdRlk foHkkx] [kku ,oa HkwfoKku foHkkx ds f’k{kk lac/kh dk;Z djus okys deZpkfj;ksa dks ,d l= esa 15 fnu ckgj jgus ij rFkk 6 fnu rd dk fof’k\"V vkdfLed vodk’k ns; gSA"]
[4,"oU/;kdj.k vkWijs’ku ds fy;s iq:\"k jkT; deZpkfj;ksa dks 6 fnu o efgyk jkT; deZpkfj;ksa dks 14 fnu rd dk fof’k\"V vkdfLed vodk’k ns; gSA"]
[5,"ml iq:\"k jkT; deZpkjh dks ftldh ifRu oU/;kdj.k dh 'kY; fpfdRlk djkrh gS rks mls viuh ifRu dh ns[kHkky ds fy;s 7 fnu rd dk fof’k\"V vkdfLed vodk’k ns; gSA"]
[6,"V~;wcDVkseh 'kY; fpfdRlk fcxMus ij] nqckjk 'kY; fpfdRlk djkus ij ml iq:\"k jkT; deZpkjh dks 14 fnu rd dk fof’k\"V vkdfLed vodk’k ns; gSA"]
[7,"iquZukyhdj.k djkus ij 21 fnu rd dk fof’k\"V vkdfLed vodk’k ns; gSA"]
[8,"efgyk deZpkjh dks ywi yxokus ij 1 fnu rd dk fof’k\"V vkdfLed vodk’k ns; gSA"]
[9,"jkT; deZpkjh dks jk\"Vªh;@vUrZjk\"Vªh; [ksy&dwnksa ds voljksa ij Hkkx ysus ds fy;s 30 fnu rd dk fof’k\"V vkdfLed vodk’k ns; gSA"]
[10,"izknsf’kd@LFkkuh; Lrj dh [ksy&dwn izfr;ksfxrk esa Hkkx ysus ds fy;s ,d dys.Mj o\"kZ esa 10 fnu rd dk fof’k\"V vkdfLed vodk’k ns; gSA"]
[11,"jkT; ljdkj ds vkns’k Øekad ,Q-1¼49½,QMh@¼th-vkj-2½@82 fnukad 1&9&1990 ds vuqlkj ,sfPNd vodk’k o vkdfLed vodk’k ,d lkFk Lohd`r fd;s tk ldrs gSaA"]
[12,";g vodk’k vkns’k fnukad 1&4&1983 ;Fkk la’kksf/kr fnukad 29&8&1998 }kjk rduhdh f’k{kk lesr f’k{kk foHkkx ds ijhoh{kk/khu izf’k{k.kkFkhZ v/;kidksa dks Hkh o\"kZ 2011&2012 ls ns; gSA"]

{"sheet":"Probation","index":75,"n_rows":28,"n_cols":2,"rows_kept":28,"cut":false,"hidden":true,"merged":[[0,0,0,1]]}
["Probationary Trainee Leave & Benefits"]
[1,"Ikjhoh{kk/khu izf’k{k.kkFkhZ dks ijhoh{kk dh vof/k ds nkSjku dksbZ vodk’k vftZr ugha gksxkA"]
[2,"efgyk Ikjhoh{kk/khu izf’k{k.kkFkhZ dks fu;e 103 o 104 ds vuqlkj izlwfr vodk’k Lohd`r fd;k tk;sxkA"]
[3,"iq:\"k Ikjhoh{kk/khu izf’k{k.kkFkhZ dks fu;e 103 d ds vuqlkj fir`Ro vodk’k Lohd`r fd;k tk ldsxkA            &fu;e 122 (A)(i),(ii),(iii)&(iv)"]
[4,"राजस्थान सेवा नियम -1951 के नियम 8 के तहत 20-1-2006 या इसके पश्चात राजकीय सेवा में नियुक्त कार्मिक को 2 वर्ष की कालावधि के परिवीक्षाधीन प्रशिक्षणार्थी के रूप में रखा जाता है तथा इस अवधि में राज्य सरकार द्वारा समय-समय पर नियत किया गया नियत पारिश्रमिक (fixed remuneration) संदत किया जाता है अन्य कोई भी भत्ते देय नहीं होते है।"]
[5,"प्रोबेशन अवधि को वेतन वृद्धि के लिए नहीं गिना जाता है।"]
[6,"नियत पारिश्रमिक से राज्य बीमा की कटौती नहीं होती है परंतु नियत पारिश्रमिक से अप्रैल माह में सामूहिक दुर्घटना बीमा की राशि (प.12(6)वित्त/नियम/05 दिनांक 13-03-2006) व प्रत्येक माह एनपीएस के अंशदान (10%) की कटौती होती है। (F.1(4)FD/Rules/2017-I,dated 30-19-2017)\n"]
[7," प्रोबेशनर ट्रेनी जो पूर्व से ही राजकीय सेवा में है तो उसे प्रोबेशन अवधि में पूर्व पद के वेतन ( विद्यमान वेतनमान) या नियत पारिश्रमिक में से जो लाभकारी है, का विकल्प चुन सकता है।"]
[null,"यदि वह विद्यमान वेतनमान का विकल्प चुनता है तो उसे पूर्व पद के विद्यमान वेतनमान में वार्षिक वेतन वृद्धि देय होगी तथा प्रोबेशन अवधि सफलतापूर्वक पूर्ण करने पर उसका वेतन पूर्व पद और ग्रेड वेतन के प्रति निर्देश से समान स्टेज पर नए पद के चालू वेतन बैंड/लेवल में नियत किया जाएगा।(पुनरीक्षित वेतनमान-2008 के नियम-22 के पैरा-II के अनुसार) (F.12(5)वित्त/नियम/06 दिनांक 31-08-2006 & 28-06-2013)"]
[8,"प्रोबेशनर ट्रेनी का वेतन नियतन पे मैट्रिक्स के संबंधित लेवल में वेतन प्रथम सेल में अनुज्ञात किया जाता है। (अनुसूची-V के अनुसार)"]
[9,"प्रोबेशन अवधि सफलतापूर्वक पूर्ण करने पर प्रथम वेतन वृद्धि 1 जुलाई को जो प्रोबेशन पूर्ण करने की तारीख के ठीक बाद में आती है, अनुज्ञात की जाएगी।"]
[10,"प्रोबेशनर ट्रेनी को एक कैलेंडर वर्ष में 15 आकस्मिक अवकाश देय हैं।"]
[11,"नवनियुक्त प्रोबेशनर ट्रेनी जो पूर्व से ही राज्य कर्मचारी होने के कारण उसके अवकाश खाते में पूर्व अर्जित अवकाश बकाया हैं तो उसे पूर्व अर्जित अवकाश के उपभोग की अनुमति नियंत्रण अधिकारी द्वारा प्रदान की जाती है तो उसकी प्रोबेशन अवधि नहीं बढ़ती है।(प.17(2) शिक्षा-2/2008 दिनांक 18-10-2012)\n"]
[12,"महिला प्रोबेशनर ट्रेनी को नियम 103 व 104 के तहत 180 दिन का प्रसूति अवकाश देय है पुरुष प्रोबेशनर ट्रेनी को नियम 103 ए के तहत 15 दिन का पितृत्व अवकाश देय है।(F.1(6)FD/Rules/2011,dated 15-02-2012)"]
[null,"नोट:- मातृत्व व पितृत्व अवकाश के उपभोग से प्रोबेशन ट्रेनी अवधि में कोई वृद्धि नहीं होती है।"]
[13,"राजस्थान सेवा नियम-1951 के नियम 96(B) के तहत प्रोबेशन अवधि में 30 दिवस तक का असाधारण अवकाश (अवैतनिक) नियुक्ति अधिकारी द्वारा स्वीकृत किया जाएगा।"]
[null,"30 दिवस से अधिक अवधि का असाधारण अवकाश प्रशासनिक विभाग के अनुमोदन से नियुक्ति अधिकारी द्वारा स्वीकृत किया जाता है।"]
[null,"08-08-2019 या उसके बाद 30 दिवस से अधिक असाधारण अवकाश का उपभोग करने पर प्रोबेशन संपूर्ण अवधि के लिए बढ़ता है। (F.1(2)FD/Rules/2006-I, dated 25-10-2019)"]
[14,"प्रोबेशन अवधि में विशेष परिस्थितियों में चाइल्ड केयर लीव स्वीकृत किया जा सकता है परंतु सीसीएल अवधि के समान अवधि तक प्रोबेशन काल आगे बढ़ता है।"]
[15,"प्रोबेशन ट्रेनी को ऐच्छिक अवकाश देय नहीं है।\n"]
[16,"प्रोबेशन अवधि में प्रोबेशनर ट्रेनी को तदर्थ बोनस देय नहीं है।"]
[17,"प्रोबेशन अवधि में निलंबित कार्मिक को निर्वाह भत्ता देय है।"]
[18,"प्रोबेशन अवधि पदोन्नति व आश्वासित कैरियर प्रगति (एसीपी) के लिए सेवा अवधि की गणना हेतु मान्य होती है।(F.7(2)DOP/A-II/2005 Dated 26-04-2011)"]
[19,"प्रोबेशनर ट्रेनी को मेडिक्लेम बीमा कवर देय है। (F.6(6)FD(Rules)/2005  dated 13-03-2006)"]
[20,"प्रोबेशनर ट्रेनी द्वारा राजकीय कार्य से यात्रा करने पर T.A on tour में बस किराया, विराम भत्ता एवं अनुषांगिक व्यय देय है।(P.4(7)वित्त/नियम/2002 दिनांक 25-11-2016)"]
[21," प्रोबेशन में स्थानांतरण होने पर केवल mileage allowance & incidental on fixed remuneration पर देय है।"]
[22,"01-01-2004 के बाद राज्य कर्मचारी की सेवा में रहते मृत्यु या निशक्तता होने पर न्यू पेंशन स्कीम (NPS) के तहत अतिरिक्त राहत के रूप में अनंतिम कुटुंब पेंशन (Provisional family pension) एवं ग्रेच्युटी दिए जाने का प्रावधान है। (F.12(8)FD(Rules)/2008 dated 09-05-2013 & 29-05-2015)"]
[null,"नियोक्ता द्वारा जमा अंशदान एवं उस पर अर्जित ब्याज जो मृतक के परिवार को प्राप्त हुआ है वह संपूर्ण राशि 60 दिवस में सरकारी राजस्व (राज्य बीमा व प्राविधिक विभाग) में जमा करवाने पर पुरानी पेंशन योजना (OPS) का लाभ देय होगा तथा कार्यालयाध्यक्ष द्वारा पेंशन प्रकरण निदेशक, पेंशन एवं पेंशनर्स कल्याण निदेशालय, जयपुर को भिजवाना होता है।"]

{"sheet":"ChildAdL","index":76,"n_rows":7,"n_cols":2,"rows_kept":7,"cut":false,"hidden":true,"merged":[[0,0,0,1]]}
["CHILD ADOPTION LEAVE"]
[1,";g vodk’k fnukad 7 fnlEcj 2011 ls ns; fd;k x;k gSA                                                                                                                      &foÙk foHkkx dk ifji= Øekad&,Q-1¼43½foÙk@xzqi&2@83 fnukad&7 fnlEcj 2011 }kjk fu;e 103 (B) ds :i esa izfrLFkkfir"]
[2,"2 ls de thfor larku gksus ij ,d efgyk jkT; deZpkjh dks 1 o\"kZ ls de mez ds cPps dh fof/kekU; nÙkddj.k djus dh fnukad ls 180 fnu dh vof/k dk cPpk nÙkddj.k vodk’k Lohd`r fd;k tk ldsxkA"]
[3,";g vodk’k] vodk’k Lohd`r djus okys l{ke vf/kdkjh }kjk Lohd`r fd;k tk ldrk gSA          &fu;e 103 (B)(1)"]
[4,"bl vodk’k dh vof/k ds nkSjku mldks vodk’k ij tkus ds Bhd iwoZ vkgfjr osru ds cjkcj vodk’k osru dk Hkqxrku fd;k tk;sxkA"]
[5,"bl vodk’k dks fdlh Hkh vU; izdkj ds vodk’k ds lkFk tksM+k tk ldrk gSA           &fu;e 104"]
[6,"bl vodk’k dks vodk’k ys[ksa esa ls ?kVk;k ugha tk;sxk] vfirq lsokiqfLrdk esa ,slh i`Fkd izfof\"V dh tkuh pkfg;sA       &fu;e 103 (B)(2),(3)&(4)"]

{"sheet":"Quaranteen","index":77,"n_rows":4,"n_cols":2,"rows_kept":4,"cut":false,"hidden":true,"merged":[[0,0,0,1]]}
["QUARANTINE LEAVE"]
[1,"fdlh jkT; deZpkjh ds ifjokj ;k ?kj esa fdlh Nwr dk jksx ¼gStk] pspd] Iysx] fMfIVfFkfj;k] VkbQlcq[kkj] lsjhczkslikbuy]esusutkfVl] LOkkbu¶yw]dksfoM&19½ yx tkus ds QyLo:i dk;kZy; esa ugha vkus ds vkns’k }kjk visf{kr dk;Z ls vuqifLFkr jgus dh vuqefr gksrh gSA,slk vodk’k dk;kZy;k/;{k }kjk fpfdRlk izek.ki= ds vk/kkj ij 21 fnu dh vof/k ;k fo’sk\"k ifjfLFkfr esa 30 fnu ls vf/kd ugha gksxkA dksfoM&19 ds ekeys esa 14 fnol gksxh ;k fpfdRlk izek.ki= ds vk/kkj ij A"]
[2,"dksfoM&19 ds ekeys esa ;fn Loa; dkfeZd ladzfer gks rks ifjofrZr vodk'k@mikftZr vodk'k gh ns; gksxkA"]
[3,"Lokkbu ¶yw ds fy;s vf/kdre 7 fnu dk fujks/kkodk’k Lohd`r fd;k tk ldrk gSA"]

{"sheet":"Disabl Leave","index":78,"n_rows":9,"n_cols":2,"rows_kept":9,"cut":false,"hidden":true,"merged":[[0,0,0,1]]}
["SPECIAL DISABILITY LEAVE"]
[1,",d jkT; deZpkjh ftls vius drZO; dh mfpr ikyuk djrs gq,s ;k viuh jktdh; fLFkfr ds dkj.k pksV yxh gks ;k pksV igaqpk;h xbZ gks vkSj ftld sdkj.k og deZpkjh vleFkZ gks x;k gks] mls fo’ks\"k vleFkZrk vodk’k Lohd`r fd;k tk ldrk gSA                    &fu;e 99(i)"]
[2,";g vodk’k fpfdRld e.My ds izek.k i= ds vk/kkj ij Lohdkj fd;k tk;sxk ijUr qfdlh Hkh n’kk esa 24 ekg ls vf/kd dk Lohd`r ugha fd;k tk;sxkA            &fu;e 99(iv)"]
[3,",slk vodk’k fdlh Hkh izdkj ds vodk’k ds lkFk feyk dj fy;k tk ldrk gSA                   &fu;e 99(iv)"]
[4,"bl vodk’k dh vof/k isa’ku ;ksX; lsok dh x.kuk esa tksM+h tk;sxhA                      &fu;e 99(vi)"]
[5,",sls vodk’k ds nkSjku mPp lsok esa fu;qä deZpkfj;ksa dks izFke 120 fnu dk iw.kZ osru ,oa prqFkZ lsok deZpkfj;ksa dks izFke 60 fnu dk iw.kZ osru ns; gksxkA"]
[6,",sls vodk’k ds 'ks\"k le; ds fy;s fu;e 97 ¼2½ ds vuqlkj v)Zosru ds leku vodk’k osru ns; gksxkA"]
[7,"deZpkfj;ksa ds fodYi ij mikftZr vodk’k dh vf/kdre vof/k ds fy;s tks vU;Fkk :i ls Lohd`r dh tk ldrh gks] iw.kZ osru ns; gksxkA vodk’k dk vk/kk le; mlds mikftZr vodk’k ds ys[kksa esa ukes fy[kk tkosxkA                                   &fu;e 99"]
[8,"vleFkZrk ds dkj.k {kfriwfrZ Lohd`r gksus ij vodk’k osru esa ls {kfriwfrZ dh jkf’k de dj Hkqxrku dh tkoxhA                   &fu;e 100"]

{"sheet":"Companstr","index":79,"n_rows":6,"n_cols":2,"rows_kept":6,"cut":false,"hidden":true,"merged":[[0,0,0,1]]}
["COMPENSATORY CASUAL LEAVE"]
[1,"jfookjksa@vU; jktif=r vodk’kksa eas ea=kyf;d@ prqFkZ Js.kh deZpkjh dks vfuok;Zr% ftrus fnu rd dk;kZy; esa mifLFkr gksus ds fy;s jktif=r vf/kdkjh }kjk fyf[kr esa vkns’k tkjh dj cqyk;k tkos mrus fnuksa ds fy;s mUgsa {kfriwfrZ vodk’k ns; gksxkA"]
[2,";g ykHk vf/kdfj;ksa ds futh LVkQ ;Fkk LVsuks] futh lgk;d] jhMj vkfn dks ns; ughs gSA"]
[3,"laxzgky;ksa esa dk;Zjr deZpkfj;ksa dks Hkh jktif=r vodk’kksa ds fnuksa esa laxzgky; [kqys jgus dh fLFkfr esa {kfriwfrZ vodk’k ns; gSA"]
[4,"leLr fo|ky;ksa ds iqLrdky;k/;{kksa o lkoZtfud iqLrdky;ksa esa dk;Zjr vjktif=r] ea=kyf;d o prqFkZ Js.kh deZpkfj;ksa dks f}rh; 'kfuokj ds LFkku ij 1 fnu dk {kfriwfrZ vodk’k ns; gksxkA"]
[5,"nSfud dfu\"B fyfidks dks Hkh jktif=r vodk’kksa ds fnuksa esa dke djus ij {kfriwfrZ vodk’k ns; gSA"]

{"sheet":"Study Leave","index":80,"n_rows":31,"n_cols":2,"rows_kept":31,"cut":false,"hidden":true,"merged":[[0,0,0,1]]}
["STUDY LEAVE"]
[null,"jktLFkku lsok fu;e] 1951] v/;k; 11 [k.M 6 fu;e 110 ds vUrxZr&"]
[1,"v/;;u vodk’k ,sls LFkk;h lsok ds deZpkjh dks fdlh ,sls ikB~;Øe ;k fdlh fof’k\"V ;k rduhdh izd`fr ds v/;;u@ ikB~;Øe ds fy;s Lohd`r fd;k tk ldrk gS] ;fn l{ke vf/kdkjh dh lEefr esa ,slk v/;;u@ikB~;Øe ml foHkkx ds dk;Z lEiknu ds fy;s tufgr esa vko’;d gksA"]
[2,"lkekU;r% v/;;u vodk’k ml deZpkjh dks Lohd`r ugha fd;k tkuk pfkg;s ftlus 20 o\"kZ ;k mlls vf/kd lsokiw.kZ dj yh gksA       &fu;e 110 (1)"]
[3,"v/;;u vodk’k ,sls vLFkk;h lsok ds deZpkjh dks Hkh fuEu 'krksZ ij Lohd`r fd;k tk ldrk gS%&"]
[null,"1- mldh fu;qfä fu;fer vk/kkj ij gqbZ gks"]
[null,"2- mlus 3 o\"kZ dh fujUrj lsok iw.kZ dj yh gks"]
[null,"3- mldh izkjfEHkd fu;qfä jktLFkku yksd lsok vk;ksx dh vuq’kalk ls dh x;h gks"]
[null,"4- fu;qfädrkZ izkf/kdkjh us Hkkjr ds lafo/kku ds vuqPNsn 309 esa fn;s x;s ijUrqd ds rgr cuk;s x;s lsok fu;e@mifu;e ds vuqlkj fu;qfä dh gksA"]
[null,"5- Tkgka ,sls fu;e ugha cus gks ogka fu;qfädrkZ izkf/kdkjh us og fu;qfä 'kS{kf.kd vgZrk] vuqHko vkfn fofgr djus ds l{ke vkns’kksa ds vuqlkj dh gksA &fu;e 110 (2)"]
[null,",sls vLFkk;h lsok ds deZpkjh us ;fn%&"]
[null,"v-   3 o\"kZ dh fujUrj lsok iw.kZ dj yh gks"]
[null,"c-   yssfdu fu;e 110 ¼2½ ds izko/kku iw.kZ ugha djrk gks]"]
[null,"mls tufgr esa izekf.kr mPp v/;;u ds iz;kstukFkZ 2 o\"kZ dk vlk/kkj.k vodk’k jktLFkku lsok fu;e 96 ¼[k½ ds izko/kkuksa ds f’kfFkyhdj.k esa Lohd`r fd;k tk ldrk gSA       &fu;e 110 (3)"]
[4,";g ,d ckj esa 12 ekg ls vf/kd Lohd`r ugha fd;k tk;sxk rFkk lEiw.kZ lsokdky esa 24 ekg ds fy;s Lohd`r fd;k tk ldrk gS ftls jkT; deZpkjh ,d volj ;k ,d ls vf/kd voljksaa ij miHkksx dj ldrk gSaA"]
[5,"fpfdRlk vf/kdkfj;ksa dks ih-th- djus ds fy;s 3 o\"kZ dk v/;;u vodk’k Lohd`r fd;k tk ldrk gSaA"]
[6,"bl vodk’k dk miHkksx vU; izdkj ds vodk’k] ¼vlk/kkj.k vodk’k dks NksMdj½ ds lkFk fd;k tkos rks jkT; deZpkjh dh fu;fer drZO;ksa ls vuqifLFkfr 28 ekg ls vf/kd dh Lohd`r ugha dh tk;sxhA               &fu;e 112 (ii)"]
[7,"bl vodk’k dh vof/k esa ,d jkT; deZpkjh dks v)Zosru ds leku vodk’k osru ns; gSA"]
[8,"v/;;u vodk’k inkséfr ;k isa’ku ds fy;s lsok vof/k ds :Ik esa le>k tk;sxkA"]
[9,"bldk izHkko deZpkjh ds ukes vo’ks\"k fdlh Hkh vodk’k ij ugha iMsxkA           &fu;e 121"]
[10,";g v)Zosru ij vfrfjä vodk’k gksrk gS rFkk ,sls vodk’kdky esa deZpkjh dks vodk’k osru dk Hkqxrku jktLFkku lsok fu;e 97 ¼2½ ds vuqlkj ns; gSA           &fu;e 112 (2)"]
[11,"deZpkjh dks v/;;u dk ikB~;Øe ’kqYd vkfn Lo;a dks tek djkuk gksxkA"]
[12,"dsoy viokn Lo:i ekeyksa esa gh jkT; ljdkj bl izdkj dk izLrko Lohdkj djus dks lger gksxh fd veqd 'kqYd ljdkj }kjk fn;k tkuk pkfg;sA   &fu;e119"]
[13,"deZpkjh dks osru ds vfrfjä fdlh Hkh ,slh LdkWyjf’ki ¼Nk=o`fÙk½@ LVkbis.M izkIr djus rFkk mls vius ikl j[kus dh Lohd`fr nh tk ldrh gSaA                    &fu;e 119 below Government of Rajasthan’s decision"]
[14,"deZpkjh dks v/;;u ds mijkUr fdlh v/;;u ds ikB~;Øe dks iwjk djus ij ,d izek.k i= ljdkj dks izLrqr djuk gksxkA                 &fu;e 120"]
[15,"deZpkjh dks ,d cU/kd i= [k.M 2 ds ifjf’k\"V 18 ds vuqlkj Hkjdj fuEukuqlkj nsuk gksxk%&"]
[null,"v/;;u vodk’k dh vof/k                                     ca/kd i= dh vof/k"]
[null,"3 ekg                                                             1 o\"kZ"]
[null,"6 ekg                                                             2 o\"kZ"]
[null,"2 o\"k                                                              2 o\"kZ"]
[null,"2 o\"kZ ls vf/kd                                                      5 o\"kZ"]

{"sheet":"Hospital Leave","index":81,"n_rows":5,"n_cols":2,"rows_kept":5,"cut":false,"hidden":true,"merged":[[0,0,0,1]]}
["HOSPITAL  LEAVE"]
[1,"Lk{ke vf/kdkjh fdlh ,sls prqFkZ Js.kh deZpkjh ;k ea=kyf;d oxZ ;k v/khuLFk lsok ds deZpkjh dks fpfdRlky; vodk’k Lohd`r dj ldrk gS ftldk osru fpfdRlky; esa izos’k ds fnu :-5000 ekfld ls de gS rFkk ftldk dk;Z ,oa mÙkjnkf;Ro fo\"ke la;=ksa] foLQksVd lkexzh] fo\"kSyh vkS\"kf/k;ksa@ jlk;uksa dks gkFk esa idM+us ds gks] rFkk mlds dkj.k izR;{k tksf[ke gks ,oa Li\"V ;k ml ds in ds drZO;ksa ls tqMs gq,s tksf[keksa ds dkj.k gksus pkfg;sA  &fu;e 105"]
[2,"fpfdRlky; vodk’k] fu;e 97 ¼1½ ;k ¼2½ ds rgr vodk’k osru ds vUrZxr Lohd`r fd;k tk ldrk gSA"]
[3,";g mruh vof/k ds fy;s Lohd`r fd;k tk ldrk gS ftruk vodk’k nsus okyk vf/kdkjh vko’;d le>sA        &fu;e106"]
[4,",d deZpkjh dks Lohdk;Z vU; izdkj ds vodk’kksa ds vykok ;g vodk’k Lohdr fd;k tk ldrk gSA            &fu;e108"]

{"sheet":"Terminal","index":82,"n_rows":13,"n_cols":2,"rows_kept":13,"cut":false,"hidden":true,"merged":[[0,0,0,1]]}
["Terminal Leave"]
[1,"fuEufyf[kr vLFkkbZ jkT; deZpkfj;ksa dks mudh lsok lekfIr ij muds mikftZr vodk’k ys[kksa esa ns; mikftZr vodk’kksa dh lhek rd ¼vf/kdre300fnu½ lsok lekfIr vodk’k Lohd`r fd;k tk ldrk gS pkgs ,slk vodk’k deZpkjh us vkSipkfjd :i ls ugha ek¡xk gks ;k jkT; fgr esa vLohd`r ugha fd;k x;k gks%&"]
[2,",d vLFkkbZ jkT; deZpkjh ftldh lsok,a laLFkkiu esa dVkSrh ;k in dh lekfIr ds dkj.k mlds vf/kokf\"kZdh vk;q ds gksus ls iwoZ gh lekIr dh tk jgh gksA      &fu;e 94 ¼1½ d"]
[3,",slk deZpkjh tks ml in dh iw.kZ ;ksX;rk j[krk gks rFkk ftls ,d ;ksX; O;fä ds miyC/k gks tkus ds dkj.k in ls gVk;k tk jgk gksA         &fu;e 94 ¼1½ ?k"]
[4,",slk vLFkkbZ jkT; deZpkjh ftldh lsokk,a iz’kklfud lqfo/kk dks /;ku esa j[k dj lekIr dh tk jgh gks vkSj ftlds fo:) vkSipkfjd foHkkxh; dk;Zokgh djuk mfpr ugha le>k x;k gksA                         &fu;e 94 ¼1½ M+-"]
[5,",d vLFkkbZ jkT; deZpkjh tks vius Lo;a d sfoosd ds vk/kkj ij lsok ls R;kx i= nsrk gks] dks ,slk vodk’k Lohd`r djrs le; izkf/kdkjh vius foosd ij lsok lekfIr vodk’k Lohd`r dj ldrk gS tks deZpkjh ds mikftZr vodk’k ds [kkrs esa ns; vodk’kksa dh lhek ls vk/kk gksxk rFkk tks fdlh Hkh fLFkfr esa 120 fnu ls vf/kd dk ugha gksxkA"]
[6,"fu;e 94 ¼1½ o ¼2½ ds vuqlkj ns; lsok lekfIr vodk’k osru ,d eq’r rFkk ,d le; esa mlh izdkj ls pqdk;k tk;sxk tSlk fd fu;e 94 ch¼3½  o ¼4½ esa crk;k x;k gSA                                     &fu;e 94¼3½+-"]
[7,"fu;e 94 ¼1½ o ¼2½ ds izko/kkuksa ds vuqlkj lsok lekfIr vodk’k fuEukafdr O;fä;ksa dks Lohdk;Z@ns; ugha gksxk%&"]
[null,"1- ,sls jkT; deZpkjh rFkk f’k{kkFkhZ tks jkT; lsok es iwjs le; ds fy;s fu;qä ugha gS]"]
[null,"2- ,sls deZpkjh ftUgsa lsok ls c[kkZLr ;k fu\"dkflr dj fn;k x;k gks] rFkk"]
[null,"3- ,sls vLFkk;h deZpkjh ftudh lsok,a jk\"Vª fojks/kh xfrfof/k;ksa esa Hkkx ysus d sdkj.k lekIr dh tkrh gSA                   &fu;e 94¼4½¼v½¼c½o¼l½+-"]
[8,"lsok esa O;o/kku ds fcuk LFkk;h :Ik ls fu;qä vLFkk;h deZpkjh dks vodk’k %&"]
[null,"1- ,d jkT; deZpkjh tks vLFkk;h lsok esa gks tc lsok esa O;o/kku ds fcuk gh ;fn fdlh LFkk;h in ij fu;qä dj fn;k tkrk gS rks mldks iwoZ dh lsok esa vftZr vodk’kksa dks tks mlds lsok vfHkys[k esa tek gS] vkSj tks mls iwoZ esa gh LFkk;h lsok esa gksus ij izkIr gksrs] ds vUrj dk vkxs dk tek fd;k tkosxkA bl fu;e ds vuqlkj vodk’k dh vof/k dks lsok esa O;o/kku ugha ekuk tkrk gSaA          &fu;e 95"]

{"sheet":"Death Case","index":83,"n_rows":10,"n_cols":3,"rows_kept":10,"cut":false,"hidden":true,"merged":[[0,0,0,2]]}
["lsokjr dkfeZd dh e`R;q ij ns; ykHk o vuqdEikRed fu;qfDr"]
["dz0la0","izdj.k","fuEu fyad ij fDyd djsa"]
[1,"e`R;q ds ckkn dh tkus okyh izfdz;k o ns; ykHk"]
[2,"vuqdEik fu;qfDr fu;e"]
[3,"vuqdEik fu;qfDr vkosnu ds lkFk lyaXud o izfdz;k"]
[4,"vuqdEik fu;qfDr vkosnu i="]
[5,"lsok lekfIr gsrw QkjofMZax ysVj"]
[6,"isa'ku izdj.k gsrw QkjofMZax ysVj"]
[7,"dk;kZy;k/;{k psdfyLV vuqdEik fu;qfDr vkosnu ds lkFk"]
[8,"dk;kZy;k/;{k izek.k i="]

{"sheet":"Benefit","index":84,"n_rows":45,"n_cols":2,"rows_kept":45,"cut":false,"hidden":true,"merged":[]}
[null,"lsokjr dkfeZd dh e`R;q gksus ij ns; ifjykHk एव प्रक्रिया"]
[1,"राजस्थान सिविल सेवा पेंशन नियम 1996 के अनुसार कार्मिक की मृत्यु के दिन को कार्य दिवस माना जाता है यदि किसी कार्मिक कि मृत्यु 20/03/20 को होती है तो इनको 20/03/2020 तक वेतन का भुगतान होगा एवं 21/03/2020 से पारिवारिक पेंशन स्वीकृत होगी।"]
[2,"कार्मिक की मृत्यु होने पर की जाने वाली कार्यवाही- "]
[null,"                          परिवार के सदस्यो से मृत्यु प्रमाण पत्र प्राप्त करना "]
[3,"सेवा समाप्ति आदेश जारी करवाना-"]
[null,"(अ) सेवा समाप्ति आदेश हेतू डीडीओ द्वारा नियुक्ति अधिकारी को फारवर्डिंग लेटर के साथ कार्मिक का मृत्यु प्रमाण पत्र, कार्मिक की सेवा पुस्तिका के प्रथम पृष्ठ की प्रतिलिपी भेजनी है "]
[4,"सेवा समाप्ति आदेश जारी होने के बाद- "]
[null,"(अ) कार्मिक को आनलाईन/आफलाईन कार्यमुक्त करना "]
[null,"(ब)  कार्मिक को कार्यमुक्त करना एव  कार्मिक की सेवापुस्तिका मे सेवा समाप्ति आदेश की प्रविष्टि करना तथा कार्मिक की मृत्यु तिथि तक की सेवापुस्तिका को संधारित करना "]
[null,"(स)  कार्मिक के नामिनी के बेंक खाता नम्बर पेमेनेजर(कोषाधिकारी कार्यालय से) व एसएसओ आईडी पर आनलाईन (डीडीओ द्वारा) अपडेट करवाना "]
[null,"(द) कार्मिक की मृत्यु के बाद उसके बकाया वेतन या अन्य कोई बिल व दावों का भुगतान उसके नॉमिनी को किया जाना है।"]
[null,"(य) अंतिम वेतन बिल में केवल RPMF या Nps की कटौती ही होती है अन्य कोई कटौती नही होगी"]
[null,"(ल) अदेय प्रमाण पत्र जारी करना "]
[null,"(व) अंतिम वेतन प्रमाण पत्र (पेमेनेजर द्वारा जारी) जारी करना "]
[null,"(श) GPF/SI/Nps क्लेम के अंतिम भुगतान की कार्यवाही । SI/GPF/NPS Claims will be submited only online by DDO ."]
[5,"पेंशन कुलक भरवाना-        जिस सदस्य को पारिवारिक पेंशन मिलेगी उनका फ़ोटोग्राफ (9 फोटो पासपोर्ट साईज)"]
[6,"पेंशन कुलक के साथ सलंगन दस्तावेज- "]
[null,"(अ)  कार्मिक का कार्यमुक्ति आदेश"]
[null,"(ब)  कार्मिक मृत्यु प्रमाण पत्र"]
[null,"(स) सेवा समाप्ति आदेश "]
[null,"(द) अदेय प्रमाण पत्र "]
[null,"(य) अंतिम वेतन प्रमाण पत्र (पेमेनेजर द्वारा जारी)"]
[null,"(र) राजकीय आवास आवांट्न नही होने का प्रमाण पत्र "]
[null,"(ल) ऋण बकाया नही होने का प्रमाण पत्र "]
[null,"(व) विभागीय कार्यवाही नही होने का प्रमाण पत्र "]
[null,"कार्मिक की मृत्यु के बाद नियमानुसार पारिवारिक पेंशन एवं ग्रेच्युटी के भुगतान हेतु पेंशन कुलक तैयार कर पेंशन विभाग (सम्बंधित क्षेत्रीय कार्यालय) को भेजना।"]
[7,"शेष उपार्जित अवकाशों के नकद भुगतान के लिए बजट आवंटन हेतु पेंशन विभाग को निर्धारित प्रपत्र में मांग पत्र मेल से भेजना"]
[8,"PPO Number जारी होने के बाद शेष उपार्जित अवकाश के नगद भुगतान की कार्यवाही । "]
[9,"पात्रता होने पर आश्रित को अनुकंम्पा नियुक्ति।"]
[null,"अनुकंम्पा नियुक्ति हेतु आश्रित की परिभाषा में कार्मिक के ( पति या पत्नी) ,पुत्र,अविवाहित पुत्री या विधवा पुत्री,कार्मिक द्वारा वैध रूप से ग्रहीत दत्तक पुत्र या अविवाहित पुत्री नौकरी के लिए पात्र हो सकते हैं।"]
[null,"उक्त आश्रितो में से यदि कोई केंद्रीय या राजकीय सेवा में या किसी निगम, बोर्ड या संगठन में पहले से कोई नियुक्त है तो अनुकंम्पा नियुक्ति हेतु पात्र नहीं होंगे लेकिन विधवा स्वयं नौकरी लेना चाहें तो अनुकंम्पा नियुक्ति मिल सकती है।"]
[null,"यदि आश्रित नाबालिग है तो आयु में शिथिलन के लिए आवेदन निर्धारित समय सीमा में उचित माध्यम से राज्य सरकार को मृत्यु के 90 दिवश मे भेजना पड़ता है। आयु में शिथिलन राज्य सरकार द्वारा ही दिया जाता है।"]
[10,"ग्रेच्युटी का भुगतान-"]
[null,"               कार्मिक द्वारा मनोनयन किया हुआ हो तो ग्रेच्युटी का भुगतान नोमिनी को होगा अन्यथा ग्रेच्युटी का भुगतान पति/पत्नि, सभी पुत्र, अविवाहित पुत्रियो को समान रुप से होगा "]
[11,"मृत्यु दुर्घटना में हुई है तो Group Insurance (GIS) का क्लेम कार्मिक द्वारा दिए गए GPA के प्रस्ताव के अनुसार- 3 लाख/10 लाख/ 20 लाख /30 लाख रु का क्लेम।"]
[12,"शिक्षा विभाग के कार्मिक है तो हितकारी निधि  से 1.50 लाख एवं शिक्षक कल्याण से सहायता 5000 रु राशि का क्लेम ।"]
[13,"कोविड-19 की ड्यूटी में संक्रमण से कार्मिक की मृत्यु होने पर 50 लाख की अलग से अनुग्रह राशि का क्लेम।"]
[null,"इस योजना में राज्य सरकार के समस्त अधिकारी, कर्मचारी, संविदा कर्मचारी एवं मानदेय पर कार्यरत कर्मचारियों को भी कवर किया गया है।"]
[14,"सेलरी बैंक A/C पर यदि कोई बीमा पॉलिसी ली हुई है तो उसका क्लेम।"]
[15,"वेतन से या निजी कोई बीमा पॉलिसी ली हुई है तो उसका क्लेम।"]
[]
[]
[]
["नोट-"]
[null,"विषेश आग्रह कृपया दिवंगत कार्मिक के परिवार के सद्स्यो का जित्ना हो सके उतना सहयोग करे क्योकि कभी वे हमारे हि परिवार का सदस्य थे धन्यवाद "]

{"sheet":"Procedure","index":85,"n_rows":25,"n_cols":2,"rows_kept":25,"cut":false,"hidden":true,"merged":[]}
[null,"vuqdEik fu;qfDr vkosnu izfdz;k"]
[null,"अनुकम्पात्मक नियुक्ति नियम 1996 के तहत नियुक्ति के लिए आवेदन"]
[1,"अनुकम्पा नियुक्ति आवेदन मृत्यु दिनांक से 90 दिवस में भिजवाया जावे।"]
[2,"आवेदन फॉर्म के पांचो भाग पूर्ण रूप से भरे होना जरूरी है।"]
[3,"अनुकम्पा नियुक्ति प्रकरण फ़ाइल 3 प्रति में तैयार करें।"]
[4,"आवेदक का जन्म तिथि संबंधी प्रमाण पत्र।"]
[5,"शैक्षिक/प्रशैक्षणिक योग्यता सम्बन्धित दस्तावेज।"]
[6,"पद जिसके लिए आवेदन किया हो वह स्पष्ट रूप से लिखे।"]
[7,"कम्प्यूटर योग्यता प्रमाण पत्र की प्रति। (यदि कनिष्ठ सहायक के लिए आवेदन किया है)"]
[8,"जाति सम्बन्धित प्रमाण पत्र संलग्न करने वाले दस्तावेज। (यदि लागू हो तो )"]
[9,"मृत्यु प्रमाण पत्र मूल।"]
[10,"मृतक राज्य कार्मिक का सेवा समाप्ति आदेश की प्रति।"]
[11,"आवेदक का संतान सम्बन्धित घोषणा का शपथ पत्र। ( यदि आवेदक विवाहित हो तो) या"]
[null,"दहेज नही लेने का शपथ पत्र। ( यदि आवेदक अविवाहित हो तो) या"]
[null,"आवेदक पुत्री होने पर अविवाहित होने का प्रमाणपत्र या"]
[null,"आवेदक पति/पत्नी है तो पुनः विवाह नही करने का प्रमाणपत्र आदि।"]
[12,"आवेदक का भरण पोषण का शपथ पत्र।"]
[13,"अंतिम शैक्षणिक संस्था का चरित्र प्रमाण पत्र।"]
[14,"मूल निवास प्रमाण पत्र की प्रति।"]
[15,"आवेदक के परिवार के समस्त वयस्क सदस्यों के सहमति सम्बन्धित शपथ पत्र। ( यदि आवेदक पति/पत्नि नही हो तो)"]
[16,"नियम 5 का शपथ पत्र प्रत्येक वयस्क सदस्यों का। परीवार या आश्रित का सेवा मे नही होने का "]
[17,"नियम 5 का प्रमाण पत्र कार्यालयध्यक्ष का। परीवार या आश्रित का सेवा मे नही होने का"]
[18,"परिवार के सभी सदस्यों का मासिक आय समन्धी शपथ पत्र।"]
[19,"मृतक कर्मचारी की सेवाएं नियमित एंव निरन्तर का प्रमाण पत्र कार्यालयध्यक्ष का।"]
[20,"मृतक आश्रित के परिवार में किसी के भी राज्य/केंद्र/संगठन में सेवारत/नियोजन में नही होने का प्रमाणपत्र"]

{"sheet":"DongleActiv","index":86,"n_rows":37,"n_cols":9,"rows_kept":37,"cut":false,"hidden":true,"merged":[[14,0,14,4],[14,5,14,8],[0,0,0,8],[1,1,1,5],[3,0,3,4],[4,0,4,1],[4,3,4,4],[5,0,5,8],[6,0,6,7],[12,0,12,4],[12,5,12,8],[13,0,13,4],[13,5,13,8],[15,0,15,4],[15,5,15,8],[16,0,16,4],[16,5,16,8],[17,0,17,4],[17,5,17,8],[26,0,26,4],[26,5,26,8],[18,0,18,8],[19,0,19,4],[19,5,19,8],[20,0,20,4],[20,5,20,8],[21,0,21,4],[21,5,21,8],[22,0,22,8],[23,0,23,8],[24,0,24,8],[25,0,25,4],[25,5,25,8],[35,5,35,8],[36,5,36,6],[36,7,36,8],[27,0,27,4],[27,5,27,8],[28,0,28,4],[28,5,28,8],[33,5,33,8],[34,5,34,8]]}
[{"$f":"Master!G2&Master!H2","v":"कार्यालय&राजकीय उच्च माध्यमिक विद्यालय ]चौगाई]टोंक"}]
["dzekad&",{"$f":"Master!H3&Master!I3&Master!J3&Master!E3&\"/\"","v":"राउमावि/चौगाई/संस्था/2021-22/"},null,null,null,null,null,"fnukad&",{"$f":"TODAY()","v":"2021-06-19"}]
["lsok esa ]"]
["Jheku dks\"kkf/kdkjh@midks\"kkf/kdkjh egksn; ]"]
[{"$f":"Master!H4","v":"पीपलू"},null,"ftyk",{"$f":"Master!D4","v":"टोंक"}]
[]
["fo\"k;&is&eSustj fMftVy gLrk{kj Active / Verify djokus gsrqA"]
["egksn;]"]
["             mijksDr fo\"k;kUrxZr fuosnu gS fd bl dk;kZy; ds vkgj.k ,oa forj.k"]
["vf/kdkjh ds :i esa osru foi=ksa ij fMftVy gLrk{kj gsrq vf/kd`r v/kksgLrk{kjrkZ }kjk"]
["is&eSustj ij fMftVy gLrk{kj dk jftLVªs'ku djok fn;k x;k gS fooj.k fuEukuqlkj gS%&"]
[]
["dk;kZy; dk Mh-Mh-vks- dksM uECkj &",null,null,null,null,{"$f":"Master!M4","v":27306}]
["dk;kZy; dh vkWfQl vkbZMh &",null,null,null,null,{"$f":"Master!M3","v":27306}]
["vkgj.k ,oa forj.k vf/kdkjh dk uke &",null,null,null,null,"Jh fd'ku yky cSjok"]
["in &",null,null,null,null,"iz/kkukpk;Z"]
["in ij dk;Zxzg.k fnukad &",null,null,null,null,"2020-12-15"]
["ewy inLFkkiu@vfrfjDr dk;ZHkkj ¼03 ikoj½ &",null,null,null,null,"2021-12-15"]
[]
[";fn vfrfjDr dk;ZHkkj ¼03 ikoj½ gks rks",null,null,null,null,"हाँ"]
["vfrfjDr dk;ZHkkj xzg.k fnukad &",null,null,null,null,"2020-12-15"]
["ewy inLFkkiu LFkku o in &",null,null,null,null,"iz/kkukpk;Z jkmekfo pkSxkbZa] Vksad"]
[]
["D;k iwoZ inLFkkfir@vfrfjDr dk;ZHkkj xzfgr"]
["vkgj.k ,oa forj.k vf/kdkjh }kjk gLrk{kj Deactive djus gsr q Lo;a dk vf/kd`r "]
["i= midks\"k esa izLrqr dj fn;k x;k gS ¼fpfUgr djsa½ &",null,null,null,null,"नही"]
["eksckby uEcj &",null,null,null,null,9829303549]
["bZ&esy vkbZMh &",null,null,null,null,"gsschogai@gmail.com"]
["fMftVy gLrk{kj jftLVªs'ku fnukad &",null,null,null,null,"2022-12-15"]
[]
["                   blh dze esa fuosnu gS fd v/kksgLrk{kjrkZ ds fMftVy gLrk{kj dks "]
["Active/Verify djus dk Je djkosA"]
[]
[null,null,null,null,null,{"$f":"Master!B2","v":"प्रधानाचार्य"}]
[null,null,null,null,null,{"$f":"Master!B3","v":"राजकीय उच्च माध्यमिक विद्यालय "}]
[null,null,null,null,null,{"$f":"Master!B4","v":"चौगाई]टोंक"}]
[null,null,null,null,null,"MhMhvks dksM %&",null,{"$f":"F13","v":27306}]

{"sheet":"Deactiv","index":87,"n_rows":24,"n_cols":10,"rows_kept":24,"cut":false,"hidden":true,"merged":[[1,1,1,5],[0,0,0,9],[12,5,12,9],[21,5,21,8],[22,5,22,8],[23,5,23,6],[23,7,23,8],[4,1,4,5],[7,0,7,9],[10,1,10,4],[10,5,10,9],[13,0,13,2],[13,3,13,5],[13,6,13,9],[16,4,16,5],[16,6,16,8],[12,0,12,4],[11,0,11,9],[14,0,14,4],[17,1,17,6],[20,5,20,8]]}
[{"$f":"Master!G2&Master!H2","v":"कार्यालय&राजकीय उच्च माध्यमिक विद्यालय ]चौगाई]टोंक"}]
["dzekad&",{"$f":"Master!H3&Master!I3&Master!J3&Master!E3&\"/\"","v":"राउमावि/चौगाई/संस्था/2021-22/"},null,null,null,null,null,null,"fnukad&",{"$f":"TODAY()","v":"2021-06-19"}]
[]
["lsokesa ]"]
[null,"Jheku~ dks\"kkf/kdkjh@midks\"kkf/kdkjh egksn; ]"]
[null,null,{"$f":"Master!H4","v":"पीपलू"},"ftyk",{"$f":"Master!D4","v":"टोंक"}]
[]
["fo\"k; & is&eSustj ij fMftVy Mksaxy Deactivate  djokus gsrq A"]
[]
["egksn; th ]"]
[null,"mi;qZDr fo\"k;kUrxZr fuosnu gS fd ",null,null,null,"Jheku~ funs'kd ek/;fed f'k{kk jktLFkku"]
["chdkusj ds vkns'k dzekad & f'kfojk@ek@laLFkk@ch & 2@5698@iz/kkukpk;Z@la'kks-@"]
["LFkkukUrj.k@2021 fnukad %& 15-05-2020 ",null,null,null,null,"ds vuqlkj LFkkuh; fo/kky;@dk;kZy; ds "]
["DDO / Principal",null,null,"Jh fd'ku yky cSjok ",null,null,"dk LFkkukUrj.k@inkSUufr@lsokfuo`fRr"]
["jkmekfo cuokMk ftyk & Vksad ",null,null,null,null,"esa gks x;k gSA"]
[null,"vr% is esustj ij osru foi=ksa ij gLrk{kj gsrq dke esa fy;k tkus okyk "]
["fMftVy Mksaxy dks DDO Code ",null,null,null,{"$f":"Master!M3","v":27306},null,"GSSS CHOGAI TONK"]
["ls ","Unmaping / Deactivate  djokus dk d\"V djkosa A"]
[]
[]
[null,null,null,null,null,{"$f":"Master!B2","v":"प्रधानाचार्य"}]
[null,null,null,null,null,{"$f":"Master!B3","v":"राजकीय उच्च माध्यमिक विद्यालय "}]
[null,null,null,null,null,{"$f":"Master!B4","v":"चौगाई]टोंक"}]
[null,null,null,null,null,"MhMhvks dksM&",null,{"$f":"E17","v":27306}]

{"sheet":"YogkalApl","index":88,"n_rows":26,"n_cols":18,"rows_kept":26,"cut":false,"hidden":true,"merged":[[4,1,4,5],[4,6,4,8],[0,0,0,8],[2,1,2,5],[2,6,2,8],[3,1,3,5],[3,6,3,8],[10,1,10,5],[10,6,10,8],[5,1,5,5],[5,6,5,8],[6,0,7,0],[6,1,6,5],[6,6,6,8],[7,1,7,5],[7,6,7,8],[8,0,9,0],[8,1,8,5],[8,6,8,8],[9,1,9,5],[9,6,9,8],[11,6,11,8],[12,1,12,5],[12,6,12,8],[13,1,13,5],[13,6,13,8],[25,7,25,8],[1,0,1,8],[1,10,1,12],[17,0,17,1],[22,6,22,8],[23,1,23,3],[23,7,23,8],[24,7,24,8],[14,1,14,5],[14,6,14,8],[15,1,15,5],[15,6,15,8],[16,1,16,5],[16,6,16,8],[11,0,12,0],[11,1,11,5]]}
["jktLFkku ljdkj"]
["dk;Zxzg.k dky ds cnys mikftZr vodk'k izi=",null,null,null,null,null,null,null,null,null,"dkfeZd dk dzekad fy[ksa"]
[1,"uke deZpkjh&",null,null,null,null,{"$f":"(INDEX(EmpDetail!$B$4:$B$103,MATCH(YogkalApl!$L$3,EmpDetail!$A$4:$A$103,0)))","v":"eq[rkj eha;k"},null,null,null,null,25]
[2,"in&",null,null,null,null,{"$f":"(INDEX(EmpDetail!$C$4:$C$103,MATCH(YogkalApl!$L$3,EmpDetail!$A$4:$A$103,0)))","v":"प्रबोधक"}]
[3,"iwoZ inLFkkiu LFkku&",null,null,null,null,"jkt0 izkFk0 fo|k0 lqusyk]gkthiqjk"]
[4,"u;k inLFkkiu LFkku&",null,null,null,null,{"$f":"(INDEX(EmpDetail!$D$4:$D$103,MATCH(YogkalApl!$L$3,EmpDetail!$A$4:$A$103,0)))","v":"राप्रावि जानकीवल्लभपुरा"}]
[5,"inksUufr@LFkkukUrj.k vkns'k dk dzekad ¼ izfr layXu djsa ½&",null,null,null,null,"i-5@5@izk-f'k@LFkk- dsEi@2018"]
[null,"vkns'k fnukad& ",null,null,null,null,"2018-06-25"]
[6,"iwoZ LFkku ij dk;ZHkkj NksMus dh frfFk&",null,null,null,null,"2018-06-29"]
[null,"iwokZUg @ vijkUg&",null,null,null,null,"अपरान्ह"]
[7,"dk;ZHkkj LFkkukUrj.k dh izfrfyfi&",null,null,null,null,"layXu gS"]
[8,"u;s LFkku ij dk;ZHkkj lEHkkyus dh frfFk&",null,null,null,null,"2018-07-09"]
[null,"iwokZUg @ vijkUg&",null,null,null,null,"पूर्वान्ह"]
[9,"iwoZ LFkku ls u;s LFkku dh nwjh ¼ fdyks ehVj esa ½&",null,null,null,null,60]
[10,"ftl lk/ku ls ;k=k dh mldk fooj.k nsosa&",null,null,null,null,"बस"]
[11,"inksUufr@LFkkukUrj.k Lo;a dh izkFkZuk@jkT;fgr esaa&",null,null,null,null," jkT;fgr esaa",null,null,null,null,null,null,null,"Used Leave","Earned Leave","Releave","Join"]
[12,"dk;Zxzg.k dky dk mi;ksx u djus ds cnys esa fdrus fnu dk mikftZr vodk'k pkgk gS %&",null,null,null,null,{"$f":"IF(G14=0,0,P17-O17)&\"  Days\"","v":"1  Days"},null,null,null,null,null,null,null,{"$f":"IF(G9=G12,0,R17-Q17)","v":9},{"$f":"IF(G14=\"\",0,IF(G14<=500,10,IF(G14<=999,12,IF(G14<=10000,15,0))))*IF(G14>2,1,0)","v":10},{"$f":"IF(G10=\"अपरान्ह\",G9+1,G9)","v":"2018-06-30"},{"$f":"IF(G13=\"अपरान्ह\",G12+1,G12)","v":"2018-07-09"}]
["layXud %&"]
["1- ","inkSUufr@LFkkukUrj.k vkns'k dh nks izfrfyfi A"]
["2- ","inkSUufr@LFkkukUrj.k ij dk;ZeqfDr vkns'k dh nks izfrfyfi A"]
["3- ","inkSUufr@LFkkukUrj.k ij dk;Zxzg.k vkns'k dh nks izfrfyfi A"]
[]
[null,null,null,null,null,null,"gLrk{kj deZpkjh"]
[null,"vkosnu i= izLrqr djus dh fnukad&",null,null,{"$f":"TODAY()","v":"2021-06-19"},null,"uke&",{"$f":"G3","v":"eq[rkj eha;k"}]
[null,null,null,null,null,null,"in&",{"$f":"G4","v":"प्रबोधक"}]
[null,null,null,null,null,null,"inLFkkiu&",{"$f":"G6","v":"राप्रावि जानकीवल्लभपुरा"}]

{"sheet":"CCLApl","index":89,"n_rows":35,"n_cols":8,"rows_kept":35,"cut":false,"hidden":true,"merged":[[0,0,0,4],[1,0,1,4],[27,0,27,4],[1,6,1,8],[29,1,29,4],[2,3,2,4],[3,3,3,4],[4,3,4,4],[9,3,9,4],[10,3,10,4],[14,0,16,0],[14,1,16,1],[14,2,16,2],[11,3,11,4],[5,1,8,1],[5,0,8,0],[5,2,8,2],[12,3,12,4],[13,3,13,4],[17,3,17,4],[18,3,18,4],[32,3,32,4],[33,3,33,4],[34,3,34,4],[30,1,30,4],[19,3,19,4],[20,3,20,4],[21,3,21,4],[24,3,24,4],[25,3,25,4]]}
["Government of Rajasthan"]
["APPLICATION FOR CHILD CARE LEAVE",null,null,null,null,null,"dkfeZd dk dzekad fy[ksa"]
[1,"NAME OF THE APPLICANT","%",{"$f":"(INDEX(EmpDetail!$B$4:$B$103,MATCH(CCLApl!$H$3,EmpDetail!$A$4:$A$103,0)))","v":"vklsQk [kku"},null,null,null,14]
[2,"DESIGNATION","%",{"$f":"(INDEX(EmpDetail!$C$4:$C$103,MATCH(CCLApl!$H$3,EmpDetail!$A$4:$A$103,0)))","v":"अध्यापक ग्रेड III"}]
[3,"DEPT/OFFICE/SECTION","%",{"$f":"(INDEX(EmpDetail!$D$4:$D$103,MATCH(CCLApl!$H$3,EmpDetail!$A$4:$A$103,0)))","v":"राउमावि चौगाई"}]
[4,"DETAIL OF CHILD/CHILDREN","%","Name","Date of Birth"]
[null,null,null,"euh\"k","2018-04-13"]
[null,null,null,"euh\"k","2018-04-13"]
[null,null,null,"euh\"k","2018-04-13"]
[5,"NAME OF SPECIALLY ABLED ","%","jktsUnz"]
[6,"NAME OF CHILD FOR WHOM CHILD CARE LEAVE IS APPLIED FOR","%","euh\"k"]
[7,"DATE OF BIRTH OF THE CHILD ","%","2018-04-13"]
[8,"DATE OF WHICH CHILD WILL BE ATTAINING AGE OF 18 YEARS  ","%","2036-04-13"]
[9,"IS THE CHILD AMONG THE TWO ELDEST CHILDEREN","%","Yes"]
[10,"PERIOD OF LEAVE & NUMBER OF DAYS PREFIX/SUFFIX OF HOLIDAYS, IF ANY","%","Date From","To"]
[null,null,null,"2021-05-16","2021-05-16"]
[null,null,null,"Days",{"$f":"(E16-D16)+1","v":1}]
[11,"REASON (S) FOR LEAVE APPLIED FOR","%","Medical Ground of Child"]
[12,"TOTAL CHILD CARE LEAVE AVAILED TILL DATE","%",720]
[13,"(A)- WHETHER PERMISSION TO LEAVE STATION IS REQUIRED","%","Yes"]
[null,"(B) IF YES, ADDRESS DURING LEAVE PERIOD","%","Village Lawa Post Lawa Teshil Malpura Tonk"]
[14,"DATE OF RETURN FROM LAST LEAVE, & NATURE AND PERIOD OF THAT LEAVE","%","02-08-2020, Commuted Leave, 27-07-2020 to 01-08-2020 total 06 Days"]
[]
[]
["DATE-",{"$f":"TODAY()","v":"2021-06-19"},null,"SIGNATURE OF APPLICANT"]
[null,"EMPLOYEE ID NO.","&",{"$f":"(INDEX(EmpDetail!$V$4:$V$103,MATCH(CCLApl!$H$3,EmpDetail!$A$4:$A$103,0)))","v":"RJTO200436002236"}]
[]
["LEAVE SANCTION AUTHORITY"]
["REMARK OF CONTROLLING OFFICER LEAVE RECOMMENDED / LEAVE NOT RECOMMENDED"]
[null,"---------------------------------------------------------------------------------------------------------------------------------------------------------------------------------------------------------------"]
[null,"---------------------------------------------------------------------------------------------------------------------------------------------------------------------------------------------------------------"]
[]
["DATE-",{"$f":"TODAY()","v":"2021-06-19"},null,{"$f":"Master!B2","v":"प्रधानाचार्य"}]
["PLACE-",{"$f":"D35","v":"चौगाई]टोंक"},null,{"$f":"Master!B3","v":"राजकीय उच्च माध्यमिक विद्यालय "}]
[null,null,null,{"$f":"Master!B4","v":"चौगाई]टोंक"}]

{"sheet":"HandiAll","index":90,"n_rows":34,"n_cols":6,"rows_kept":34,"cut":false,"hidden":true,"merged":[[0,0,0,2],[1,0,1,2],[2,0,2,2],[10,0,11,0],[12,0,13,0],[12,1,13,1],[28,0,31,0],[28,1,28,2],[29,1,29,2],[30,1,31,1],[1,4,1,6],[17,1,17,2],[18,0,24,0],[18,1,18,2],[19,1,19,2],[20,1,21,1],[26,0,26,2]]}
["jktLFkku ljdkj"]
["jktLFkku ljdkj fodykax okgu HkRrk fu;e] 1956 ds vUrxZr fodykax",null,null,null,"dkfeZd dk dzekad fy[ks"]
["deZpkfj;ksa dks okgu HkRrk Lohd`fRr gsrw vkosnu i=",null,null,null,null,11]
[1,"uke dkfeZd&",{"$f":"(INDEX(EmpDetail!$B$4:$B$103,MATCH(HandiAll!$F$3,EmpDetail!$A$4:$A$103,0)))","v":"NksVw yky jsxj"}]
[2,"inuke&",{"$f":"(INDEX(EmpDetail!$C$4:$C$103,MATCH(HandiAll!$F$3,EmpDetail!$A$4:$A$103,0)))","v":"अध्यापक ग्रेड III"}]
[3,"firk dk uke&","Jh nqxkZ yky egkoj"]
[4,"inLFkkiu LFkku&",{"$f":"(INDEX(EmpDetail!$D$4:$D$103,MATCH(HandiAll!$F$3,EmpDetail!$A$4:$A$103,0)))","v":"राउमावि चौगाई"}]
[5,"tUe frfFk&",{"$f":"(INDEX(EmpDetail!$E$4:$E$103,MATCH(HandiAll!$F$3,EmpDetail!$A$4:$A$103,0)))","v":"1967-07-10"}]
[6,"fu;qfDr frfFk&",{"$f":"(INDEX(EmpDetail!$F$4:$F$103,MATCH(HandiAll!$F$3,EmpDetail!$A$4:$A$103,0)))","v":"00:00:00"}]
[7,"/kkfjr in LFkkbZ@vLFkkbZ","स्थाई"]
[8,"osru&",{"$f":"(INDEX(EmpDetail!$K$4:$K$103,MATCH(HandiAll!$F$3,EmpDetail!$A$4:$A$103,0)))","v":65200}]
[null,"xzsM is@is&ysoy",{"$f":"(INDEX(EmpDetail!$J$4:$J$103,MATCH(HandiAll!$F$3,EmpDetail!$A$4:$A$103,0)))","v":"L-13"}]
[9,"LFkkbZ irk&","xzke iksLV ykok rglhy ekyiqjk"]
[null,null,"ftyk Vksad fiu&304504"]
[10,"fodykax gksus dk fooj.k&"]
[null,"¼v½ dkSulk vax dk;Z djus esa vleFkZ gS&","iSj"]
[null,"¼c½ fodykaxrk dk fooj.k&","iSjksa ls fodykax"]
[11,"izek.k i=&"]
[null,"eSa izekf.kr djrk@djrh gaw fd mijksDr fn;k x;k fooj.k iw.kZr;k lgh gS ,oa vU; "]
[null,"fdlh lzksr ls fodykaxrk@okgu HkRrk izkIr ugha dj jgk@jgh gwa A"]
[]
[null,null,"gLrk{kj dkfeZd"]
[null,"uke&",{"$f":"C4","v":"NksVw yky jsxj"}]
[null,"inuke&",{"$f":"C5","v":"अध्यापक ग्रेड III"}]
[null,"inLFkkiu&",{"$f":"C7","v":"राउमावि चौगाई"}]
[12,"mPpkf/kdkjh dh vfHk'ka\"kk&"]
[{"$f":"Master!G2&Master!H2","v":"कार्यालय&राजकीय उच्च माध्यमिक विद्यालय ]चौगाई]टोंक"}]
["dzekad&",{"$f":"Master!H3&Master!I3&Master!J3&Master!E3&\"/\"","v":"राउमावि/चौगाई/संस्था/2021-22/"},"fnuakd& 13-05-2021"]
[null,"-------------------------------------------------------------------------------------------------------------------------------------------------------------------------------------------------------------------"]
[null,"-------------------------------------------------------------------------------------------------------------------------------------------------------------------------------------------------------------------"]
[]
[null,null,{"$f":"Master!B2","v":"प्रधानाचार्य"}]
["fnukad&",{"$f":"TODAY()","v":"2021-06-19"},{"$f":"Master!B3","v":"राजकीय उच्च माध्यमिक विद्यालय "}]
[null,null,{"$f":"Master!B4","v":"चौगाई]टोंक"}]

{"sheet":"HitkariECS","index":91,"n_rows":33,"n_cols":5,"rows_kept":33,"cut":false,"hidden":true,"merged":[[0,0,0,4],[3,1,3,2],[4,1,4,2],[5,1,5,2],[6,1,6,2],[32,3,32,4],[7,1,7,4],[11,1,11,4],[13,0,13,4],[14,0,14,3],[12,0,12,1],[12,3,12,4],[9,1,9,4],[30,3,30,4],[31,3,31,4]]}
[{"$f":"Master!G2&Master!H2","v":"कार्यालय&राजकीय उच्च माध्यमिक विद्यालय ]चौगाई]टोंक"}]
["dzekad&",{"$f":"Master!H3&Master!I3&Master!J3&Master!E3&\"/\"","v":"राउमावि/चौगाई/संस्था/2021-22/"},null,"fnukad&",{"$f":"TODAY()","v":"2021-06-19"}]
["lsok esa]"]
[null,"        Jheku v/;{k egksn;]"]
[null,"fgrdkjh fu/kh ]ek/;fed f'k{kk "]
[null,"jktLFkku ]chdkusj ftyk & chdkusj"]
[]
["fo\"k; &","fgrdkjh fu/kh okf\"kZd va'knku o\"kZ 2020 dk f'kM;qy o ECS fLyi fHktokus ckcr A"]
[null,"izlax %& Jheku mi funs'kd iz'kklu ,oa lfpo fgrdkjh fuf/k ek/;fed f'k{kk] jktLFkku] chdkusj"]
[null,"     ds vkns'k dzekad%&f'kfojk@ek-@fgfu@28203@2020&21 fnukad %& 04-12-2020"]
["egksn;"]
[null,"        mi;qZDr fo\"k;kUrxZr fuosnu gS fd LFkkuh; fo/kky; esa dk;Zjr leLr dkfeZdks dh   "]
["fgrdkjh fu/kh okf\"kZd va'knku o\"kZ& ",null,{"$f":"Master!E3","v":"2021-22"},"dh jkf'k ekg& fnlEcj ds osru fcy ls dj yh"]
["xbZ gSA vr% fgrdkjh fu/kh okf\"kZd va'knku dk f'kM;qy o ECS fLyi bl i= ds lkFk layXu dj lsokfiZr gS A"]
[" d`i;k ikorh fHktokus dh d`ik djkosa A"]
[]
["dz0 la0","fcy uEcj","fcy dh dqy jkf'k","Vh-oh-uEcj o fnukad","fgrdkjh fu/kh dVksrh f'kM;qy dh jkf'k"]
[1,2,3,4,5]
[{"$f":"IF(B19=\"\",\"\",1)","v":1},"56/21.12.2020",97375,"47570/01.01.2021",500]
[{"$f":"IF(B20=\"\",\"\",A19+1)","v":2},"56/21.12.2020"]
[{"$f":"IF(B21=\"\",\"\",A20+1)","v":""}]
[""]
[""]
[""]
[""]
[""]
[""]
["layXu %&1-fgrdkjh fu/kh f'kM;qy& ",null,4]
["        2-ECS fLyi &",null,4]
[]
[null,null,null,{"$f":"Master!B2","v":"प्रधानाचार्य"}]
[null,null,null,{"$f":"Master!B3","v":"राजकीय उच्च माध्यमिक विद्यालय "}]
[null,null,null,{"$f":"Master!B4","v":"चौगाई]टोंक"}]

{"sheet":"NonPaymentCert","index":92,"n_rows":15,"n_cols":14,"rows_kept":15,"cut":false,"hidden":true,"merged":[[14,6,14,10],[1,2,1,6],[6,4,6,5],[7,8,7,10],[8,9,8,10],[9,1,9,7],[2,1,2,10],[5,6,5,9],[6,1,6,3],[6,6,6,10],[7,2,7,3],[0,12,1,14],[7,5,7,7],[8,1,8,8],[12,6,12,10],[13,6,13,10],[0,1,0,10]]}
[null,{"$f":"Master!G2&Master!H2","v":"कार्यालय&राजकीय उच्च माध्यमिक विद्यालय ]चौगाई]टोंक"},null,null,null,null,null,null,null,null,null,null,"dkfeZd dk dzekad fy[ksa"]
[null,"dzekad&",{"$f":"Master!H3&Master!I3&Master!J3&Master!E3&\"/\"","v":"राउमावि/चौगाई/संस्था/2021-22/"},null,null,null,null,null,null,"fnukad&",{"$f":"TODAY()","v":"2021-06-19"}]
[null,"ukWu isesUV izek.k i=",null,null,null,null,null,null,null,null,null,null,null,11]
[]
[null,"                 miyC/k fjdkMZ@Hkqxrku fcyksa dh dk;kZy; izfr@jftLVj ds "]
[null,"vk/kkj ij izekf.kr fd;k tkrk gS fd ",null,null,null,null,{"$f":"(INDEX(EmpDetail!$B$4:$B$103,MATCH(NonPaymentCert!$N$3,EmpDetail!$A$4:$A$103,0)))","v":"NksVw yky jsxj"},null,null,null,"in "]
[null,{"$f":"(INDEX(EmpDetail!$C$4:$C$103,MATCH(NonPaymentCert!$N$3,EmpDetail!$A$4:$A$103,0)))","v":"अध्यापक ग्रेड III"},null,null,"inLFkkiu LFkku ",null,{"$f":"(INDEX(EmpDetail!$D$4:$D$103,MATCH(NonPaymentCert!$N$3,EmpDetail!$A$4:$A$103,0)))","v":"राउमावि चौगाई"}]
[null,"ftyk ",{"$f":"Master!D4","v":"टोंक"},null,"dk",";k=k O;;",null,null,"fcy dh jkf’k :i;s& "]
[null,"10161@& v{kjs :i;k nl gtkj ,d lkS bdlB ek= A",null,null,null,null,null,null,null,"dk Hkqxrku bl "]
[null,"dk;kZy; ls ugha fd;k x;k gS A"]
[]
[]
[null,null,null,null,null,null,{"$f":"Master!B2","v":"प्रधानाचार्य"}]
[null,"fnukad&",{"$f":"K2","v":"2021-06-19"},null,null,null,{"$f":"Master!B3","v":"राजकीय उच्च माध्यमिक विद्यालय "}]
[null,"LFkku&",{"$f":"G15","v":"चौगाई]टोंक"},null,null,null,{"$f":"Master!B4","v":"चौगाई]टोंक"}]

{"sheet":"FVCLevr","index":93,"n_rows":70,"n_cols":11,"rows_kept":70,"cut":false,"hidden":true,"merged":[[0,0,0,6],[1,0,1,6],[2,0,2,6],[3,0,3,1],[3,3,3,4],[3,5,3,6],[22,3,22,5],[4,0,4,1],[4,2,4,3],[4,4,4,6],[5,0,5,1],[5,2,5,3],[5,5,5,6],[6,2,6,4],[6,5,6,6],[17,2,17,6],[20,3,20,5],[21,3,21,5],[38,0,38,6],[23,0,23,6],[24,0,24,6],[25,0,25,6],[29,3,29,5],[30,3,30,5],[31,3,31,5],[33,0,33,6],[34,0,34,6],[35,0,35,6],[36,0,36,6],[37,0,37,6],[39,0,39,6],[40,0,40,6],[41,0,41,2],[41,3,41,5],[42,0,44,2],[42,3,42,5],[43,3,43,5],[44,3,44,5],[54,4,54,6],[45,0,45,2],[45,3,45,6],[46,0,46,2],[46,3,46,6],[47,3,47,6],[48,0,48,2],[48,3,48,6],[49,3,49,6],[50,0,50,6],[51,0,51,2],[52,0,52,2],[53,0,53,2],[60,2,60,3],[60,4,60,6],[55,4,55,6],[56,0,56,1],[56,4,56,6],[58,0,58,1],[58,2,58,3],[58,4,58,6],[67,3,67,6],[69,5,69,6],[26,0,26,1],[5,10,5,12],[4,10,4,12],[62,4,62,6],[63,0,63,1],[63,4,63,6],[64,0,64,6],[65,3,65,6],[66,0,66,1],[66,3,66,6],[59,0,59,1],[59,2,59,3],[59,4,59,6],[60,0,60,1]]}
["OLD NO.G.A. 108       jktLFkku ljdkj     NEW NO.G.A.84 RULE 219"]
["Fully-Vouched Contingent Bill"]
["ifjiw.kZ vU; & O;; fcy"]
["Bill No-/ fcy la[;k                                  STATE…RAJASTHAN",null,"102/07-02-2021 ","State",null,"jktLFkku"]
["District             ",null,{"$f":"\"Detailed Bill of Contingent Charges of \"&Master!B3&Master!B4&\" का विस्तृत अन्य व्यय बिल \"&K6&\"  (37) वर्दीया तथा अन्य सुविधाए for the Month of \"&F6","v":"Detailed Bill of Contingent Charges of राजकीय उच्च माध्यमिक विद्यालय चौगाई]टोंक का विस्तृत अन्य व्यय बिल 2202-02-109-00  (37) वर्दीया तथा अन्य सुविधाए for the Month of February"},null,"Vocher No. /okmpj Øekad --------------------------------------------------------------of list of payment for the month of / O;; dh lwph dk ",null,null,null,null,null,"foLr`r ctV en dk uke fy[ksa"]
[{"$f":"Master!D4","v":"टोंक"},null,"Head of Account /fglkc dk en",null,"ekg &","February",null,null,null,null,"2202-02-109-00"]
["Ø-la","S.Number of Sub-Vocher mi&okmpj dk Øekad","Description of charge and number and date of authority for all charges requirong special sanction.                                                O;; dk fooj.k vkSj ftl O;; ds fy, fo'ks\"k Lohd`fr dh vko';drk gks] ml Lohd`fr dk Øekad o fnukad ",null,null,"        Amount         jde"]
[null,null,null,"Rs. :-",null,"Rs.:i;s"]
[1,null,"37&ofnZ;k rFkk vU; lqfo/kk,W \n"]
[null,null,{"$f":"\"jkT; ljdkj ds foRr foHkkx ds vkns'k dzekad & i-6¼2½@lkiz@3@81 fnukad 16-06-2015 ds vuqlkj LFkkuh; dk;kZy; esa dk;Zjr fuEu dkfeZdksa ds l=&\"&Master!E3&\"  esa ofnZ;ksa dh udn jkf'k buds cSad [kkrs esa tek djus gsrq&\"","v":"jkT; ljdkj ds foRr foHkkx ds vkns'k dzekad & i-6¼2½@lkiz@3@81 fnukad 16-06-2015 ds vuqlkj LFkkuh; dk;kZy; esa dk;Zjr fuEu dkfeZdksa ds l=&2021-22  esa ofnZ;ksa dh udn jkf'k buds cSad [kkrs esa tek djus gsrq&"}]
["uke dkfeZd","in","cSad [kkrk la[;k ","jkf'k",null,";ksx"]
["1-foey dqekj tSu","iz-'kk-ls-",51060340367,1650,null,{"$f":"D12","v":1650}]
["2-txnh'k izlkn rsyh","p-Js-d-",51060340243,1650,null,{"$f":"D13","v":1650}]
["3-","p-Js-d-",null,0,null,{"$f":"D14","v":0}]
["4-","p-Js-d-",null,0,null,0]
["5-","p-Js-d-",null,0,null,0]
[null,null,"egk;ksx",{"$f":"SUM(D12:D16)","v":3300},null,{"$f":"SUM(F12:F16)","v":3300}]
[null,"v{kjs&","rhu gtkj rhu lkS :i;s ek= A"]
[]
[]
[null,null,null,{"$f":"Master!B2","v":"प्रधानाचार्य"}]
[null,null,null,{"$f":"Master!B3","v":"राजकीय उच्च माध्यमिक विद्यालय "}]
[null,null,null,{"$f":"Master!B4","v":"चौगाई]टोंक"}]
["izek.k & i=        "]
["1 izekf.kr fd;k tkrk gS fd bl fcy dk Hkqxrku iwoZ esa ugh mBk;k x;k A            "]
["2 iq:\"k o efgyk dkfeZd ds fu;ekuqlkj jkf'k Dyse dh tk jgh gSA"]
["3 jkT;kns'kkuqlkj ofnZ;ksa dh jkf'k o\"kZ&",null,{"$f":"Master!E3","v":"2021-22"},"dh udn fcy cukdj [kkrs esa tek djuh gSA"]
[]
[]
[null,null,null,{"$f":"Master!B2","v":"प्रधानाचार्य"}]
[null,null,null,{"$f":"Master!B3","v":"राजकीय उच्च माध्यमिक विद्यालय "}]
[null,null,null,{"$f":"Master!B4","v":"चौगाई]टोंक"}]
[]
["To be entered Drawing Officer"]
["(I)  I Cerity that the Expenditure included in this bill could not , with due regard to the interwst of the public service, be avoided,I certity that to , the best of my knowledge and bilief the apayment entered in this bill  have been duly made to the parties ebtitled to receive them with  the exceptions noted below which exceed the balance of the permanent advance and will be paid on receipt ofthe money drawn on this bill Vochhers for sall sums abouts 25 in amount are attached to dhis bill save those noted below which wikk be forwarded as soon as the alounts have been paid. I have as possible obtained Vochers for other sums and I am responsoble that they have been so defaced or mutiated that they can not be used agin. all work bills are annexed."]
["*(2)  Cetified that all the article detailed in the Vochers attached to the bill and in those retained in my office have been accounted for in the Stock Register."]
["(3) Certified that all purchases bill for have beenj received in good order that their quantities are correct and their quality good that the rates paid are not in excess of the accepted and the marked rates and that suitable notes of payment have been recorded against the indents and invoices aincerned to prevent double payments."]
["(4)  Certified that :- "]
["(a) the expenditure on conveyance hire included in this bill was actually incurred, was unavoidab,e and is within the Schduled scale of charges for conveyance used, and"]
["(b) the Government servant concened is not entitled to drawn traveling allowance under the ordinary rules for the journy and is not gradnted any compensatory leave and does not and will not otherwise receive any special remuneration for the performance fo the duty which necessitated the journey."]
["This Certificate is required when proper store accounts of materials and stores purchased are required to be maintained."]
["Received Coutents",null,null,"Appropriation for the current year ",null,null,4500]
[{"$f":"F17","v":3300},null,null,"Expenditure including this bill",null,null,{"$f":"F17","v":3300}]
[null,null,null,"Amount of work bill annexed",null,null,0]
[null,null,null,"Balance available",null,null,{"$f":"G42-G43","v":1200}]
["Sinnature and Designation                                                                of the Drawing Officer",null,null,"( Abbreviated Classification )"]
["pay to ……………………………………………..   ( Designation)",null,null,"1. …………………………………."]
[null,null,null,"Signature of Messenger"]
["Whose specimen sinjgature below is hereby attested",null,null,"2…………………………………."]
[null,null,null,"Signature of Drawing Officer"]
["For Treasury Use"]
["Treasury/ Bank"]
["Pay Rupees (……………               ……..) …………………………………………………………………………………."]
["Examined and entered "]
[null,null,null,null,"Treasury Officer"]
[null,null,null,null,"Dated……………………….."]
["Accountant",null,null,null,"Station……………………….."]
[]
["For Non-Bank Treasury",null,"Paye's Discharge",null,"For Bank"]
["Paid Rs ----",null,"Received Rs …………………",null,"Paid Rs…………………………"]
["On………………………",null,"On………………………………",null,"On…………………………………."]
[]
[null,null,null,null,"Bank Seal"]
["Treasurer",null,"Signature",null,"Manager"]
["Fro use in Accountant General's Office"]
[null,null,null,"Admistted for Rupees…………………"]
["Head of Account",null,null,"Objaect to Rs………………………………"]
[null,null,null,"Reason of objection…………………"]
[]
[null,null,null,"Auditor","Supdt.","Gazelled Officer"]

{"sheet":"FVCOthr","index":94,"n_rows":66,"n_cols":11,"rows_kept":66,"cut":false,"hidden":true,"merged":[[0,0,0,6],[1,0,1,6],[2,0,2,6],[3,0,3,1],[3,3,3,4],[3,5,3,6],[4,0,4,1],[4,2,4,3],[4,4,4,6],[5,0,5,1],[5,2,5,3],[5,5,5,6],[24,0,24,6],[6,2,6,4],[6,5,6,6],[14,2,14,6],[16,3,16,5],[17,3,17,5],[18,3,18,5],[19,0,19,6],[20,0,20,6],[21,0,21,6],[22,0,22,6],[23,0,23,6],[37,0,37,2],[37,3,37,5],[26,3,26,5],[27,3,27,5],[28,3,28,5],[29,0,29,6],[30,0,30,6],[31,0,31,6],[32,0,32,6],[33,0,33,6],[34,0,34,6],[35,0,35,6],[36,0,36,6],[38,0,40,2],[38,3,38,5],[39,3,39,5],[40,3,40,5],[41,0,41,2],[41,3,41,6],[48,0,48,2],[49,0,49,2],[50,4,50,6],[51,4,51,6],[42,0,42,2],[42,3,42,6],[43,3,43,6],[44,0,44,2],[44,3,44,6],[45,3,45,6],[63,3,63,6],[65,5,65,6],[56,0,56,1],[56,2,56,3],[56,4,56,6],[58,4,58,6],[59,0,59,1],[59,4,59,6],[4,10,4,12],[5,9,5,13],[60,0,60,6],[61,3,61,6],[62,0,62,1],[62,3,62,6],[52,0,52,1],[52,4,52,6],[54,0,54,1],[54,2,54,3],[54,4,54,6],[55,0,55,1],[55,2,55,3],[55,4,55,6],[46,0,46,6],[47,0,47,2]]}
["OLD NO.G.A. 108       jktLFkku ljdkj     NEW NO.G.A.84 RULE 219"]
["Fully-Vouched Contingent Bill"]
["ifjiw.kZ vU; & O;; fcy"]
["Bill No-/ fcy la[;k                                  STATE…RAJASTHAN",null,"102/07-02-2020 ","State",null,"jktLFkku"]
["District             ",null,{"$f":"\"Detailed Bill of Contingent Charges of \"&Master!B3&Master!B4&\" का विस्तृत अन्य व्यय बिल \"&J6&\"  for the Month of  \"&F6&\" Financial Year-\"&Master!E3","v":"Detailed Bill of Contingent Charges of राजकीय उच्च माध्यमिक विद्यालय चौगाई]टोंक का विस्तृत अन्य व्यय बिल 2202-02-109-01-00(05) Office Expenses  for the Month of  February Financial Year-2021-22"},null,"Vocher No. /okmpj Øekad --------------------------------------------------------------of list of payment for the month of / O;; dh lwph dk ",null,null,null,null,null,"foLr`r ctV en fy[ksa enuke lfgr"]
[{"$f":"Master!D4","v":"टोंक"},null,"Head of Account /fglkc dk en",null,"ekg %&","February",null,null,null,"2202-02-109-01-00(05) Office Expenses"]
["Ø-la","S.Number of Sub-Vocher mi&okmpj dk Øekad","Description of charge and number and date of authority for all charges requirong special sanction.                                                O;; dk fooj.k vkSj ftl O;; ds fy, fo'ks\"k Lohd`fr dh vko';drk gks] ml Lohd`fr dk Øekad o fnukad ",null,null,"        Amount         jde"]
[null,null,null,"Rs. :-","P. iSls","Rs.:i;s","P. isSls"]
[1,null,"vxzoky tujy LVksj ,oa LVs'kujht  eq[; cktkj ykok ds okmpj u0 987 fnukad 16-05-2021 dks dk;kZy; lkexzh dk Hkqxrku djus gsrw",2500,0,{"$f":"D9","v":2500},{"$f":"E9","v":0}]
[null,null,"dk;kZy; esa izkIr lkexzh & LVs'kujh"]
[]
[]
[]
[null,null,"egk;ksx",{"$f":"SUM(D9:D13)","v":2500},{"$f":"SUM(E9:E13)","v":0},2500,0]
[null,"v{kjs &",":i;s nks gtkj ikap lkS ek= A"]
[]
[null,null,null,{"$f":"Master!B2","v":"प्रधानाचार्य"}]
[null,null,null,{"$f":"Master!B3","v":"राजकीय उच्च माध्यमिक विद्यालय "}]
[null,null,null,{"$f":"Master!B4","v":"चौगाई]टोंक"}]
["izek.k & i="]
["1 izekf.kr fd;k tkrk gS fd bl fcy dk Hkqxrku iwoZ esa ugh mBk;k x;k A            "]
["2 Hkqxrku foRrh; lhekvksa esa fd;k x;k gSA"]
["3 fcy dh jkf'k :1000@ ls vf/kd gS blfy, buokW;l fcy layXu fd;k x;k gSA"]
["4 lkexzh dk LVkd izfo\"V dj nh xbZ gS"]
["5 izekf.kr fd;k tkrk gS fd dz; lkeku C.S.P.O. lwph esa ugh gS A            "]
[]
[null,null,null,{"$f":"D17","v":"प्रधानाचार्य"}]
[null,null,null,{"$f":"D18","v":"राजकीय उच्च माध्यमिक विद्यालय "}]
[null,null,null,"चौगाई]टोंक"]
["To be entered Drawing Officer"]
["(I)  I Cerity that the Expenditure included in this bill could not , with due regard to the interwst of the public service, be avoided,I certity that to , the best of my knowledge and bilief the apayment entered in this bill  have been duly made to the parties ebtitled to receive them with  the exceptions noted below which exceed the balance of the permanent advance and will be paid on receipt ofthe money drawn on this bill Vochhers for sall sums abouts 25 in amount are attached to dhis bill save those noted below which wikk be forwarded as soon as the alounts have been paid. I have as possible obtained Vochers for other sums and I am responsoble that they have been so defaced or mutiated that they can not be used agin. all work bills are annexed."]
["*(2)  Cetified that all the article detailed in the Vochers attached to the bill and in those retained in my office have been accounted for in the Stock Register."]
["(3) Certified that all purchases bill for have beenj received in good order that their quantities are correct and their quality good that the rates paid are not in excess of the accepted and the marked rates and that suitable notes of payment have been recorded against the indents and invoices aincerned to prevent double payments."]
["(4)  Certified that :- "]
["(a) the expenditure on conveyance hire included in this bill was actually incurred, was unavoidab,e and is within the Schduled scale of charges for conveyance used, and"]
["(b) the Government servant concened is not entitled to drawn traveling allowance under the ordinary rules for the journy and is not gradnted any compensatory leave and does not and will not otherwise receive any special remuneration for the performance fo the duty which necessitated the journey."]
["This Certificate is required when proper store accounts of materials and stores purchased are required to be maintained."]
["Received Coutents",null,null,"Appropriation for the current year ",null,null,4500]
[{"$f":"F14","v":2500},null,null,"Expenditure including this bill",null,null,{"$f":"F14","v":2500}]
[null,null,null,"Amount of work bill annexed",null,null,0]
[null,null,null,"Balance available",null,null,{"$f":"G38-G39","v":2000}]
["Sinnature and Designation                                                           of the Drawing Officer",null,null,"( Abbreviated Classification )"]
["pay to ……………………………………………..   ( Designation)",null,null,"1. …………………………………."]
[null,null,null,"Signature of Messenger"]
["Whose specimen sinjgature below is hereby attested",null,null,"2…………………………………."]
[null,null,null,"Signature of Drawing Officer"]
["For Treasury Use"]
["Treasury/ Bank"]
["Pay Rupees (……………               ……..) …………………………………………………………………………………."]
["Examined and entered "]
[null,null,null,null,"Treasury Officer"]
[null,null,null,null,"Dated……………………….."]
["Accountant",null,null,null,"Station……………………….."]
[]
["For Non-Bank Treasury",null,"Paye's Discharge",null,"For Bank"]
["Paid Rs ----",null,"Received Rs …………………",null,"Paid Rs…………………………"]
["On………………………",null,"On………………………………",null,"On…………………………………."]
[]
[null,null,null,null,"Bank Seal"]
["Treasurer",null,"Signature",null,"Manager"]
["Fro use in Accountant General's Office"]
[null,null,null,"Admistted for Rupees…………………"]
["Head of Account",null,null,"Objaect to Rs………………………………"]
[null,null,null,"Reason of objection…………………"]
[]
[null,null,null,"Auditor","Supdt.","Gazelled Officer"]

{"sheet":"ChildDeclr","index":95,"n_rows":44,"n_cols":14,"rows_kept":44,"cut":false,"hidden":true,"merged":[[43,0,43,2],[22,2,22,4],[22,6,22,8],[23,0,23,2],[25,0,25,6],[31,0,31,6],[33,1,33,5],[33,6,33,8],[34,1,34,5],[34,6,34,8],[35,1,35,5],[35,6,35,8],[28,1,28,5],[28,6,28,8],[29,1,29,5],[29,6,29,8],[41,5,41,8],[41,3,41,4],[36,1,36,2],[37,5,37,7],[41,0,41,2],[21,12,21,14],[39,5,39,7],[40,5,40,7],[20,3,20,5],[24,0,24,3],[32,1,32,5],[32,6,32,8],[21,0,21,8],[23,3,23,8],[26,1,26,5],[26,6,26,8],[27,1,27,5],[27,6,27,8]]}
[]
[]
[]
[]
[]
[]
[]
[]
[]
[]
[]
[]
[]
[]
[]
[]
[]
[]
[]
[]
[null,null,null," 'kiFk i="]
["for foHkkx dh vf/klwpuk ,Q-11¼7½,QMh@¼fu;e½@2008 fnukad 12-09-2008 ,oa ifji= la[;k ,Q-14¼88½ ,QMh@¼fu;e½@2008&kk fnukad 31-12-2009 ds rgr jkT; lsok ds vf/kdkfj;ksa@deZpkfj;ksa dk larku laca/kh 'kiFk dk izk:iA ¼jkf'k :- 50 ds ukWu T;wfMf'k;y LVkEi ij IkzLrqr fd;k tkos½ ¼uksVsjh ls izekf.kr ewy izfr½",null,null,null,null,null,null,null,null,null,null,null,"dkfeZd dk dzekad fy[ksa"]
[null," eSa &   ",{"$f":"(INDEX(EmpDetail!$B$4:$B$103,MATCH(ChildDeclr!$N$23,EmpDetail!$A$4:$A$103,0)))","v":"egsUnz dqekj tkV"},null,null,"in & ",{"$f":"(INDEX(EmpDetail!$C$4:$C$103,MATCH(ChildDeclr!$N$23,EmpDetail!$A$4:$A$103,0)))","v":"शारीरिक शिक्षक"},null,null,null,null,null,null,10]
["in LFkkiu LFkku &",null,null,{"$f":"(INDEX(EmpDetail!$D$4:$D$103,MATCH(ChildDeclr!$N$23,EmpDetail!$A$4:$A$103,0)))","v":"राउमावि चौगाई"}]
[",rn~ }kjk /kks\"k.kk djrk gWw fd &"]
["1-   fnukad 31-05-2002 rd esjs cPpksa ¼ iq=@iq=h ½ dh la[;k &",null,null,null,null,null,null,3,"Fkh &"]
["  dz-la-                         "," uke  ",null,null,null,null,"tUefrfFk"]
[1,"Jherh usgk jk;   ",null,null,null,null,"1986-09-23"]
[2,"Jherh usgk jk;   ",null,null,null,null,"1986-09-24"]
[3,"Jherh usgk jk;   ",null,null,null,null,"1986-09-24"]
["2-   fnukad 01-06-2002 vFkok blds i'pkr~ esjs cPpksa dh la[;k esa o`f) gqbZ@o`f) "]
["ugha gqbZ gS] rFkk crZeku esa esjs cPpksa dh dqy la[;k  &",null,null,null,null,null,null,3,"gS A"]
["  dz-la-                         "," uke  ",null,null,null,null,"tUefrfFk"]
[1,"Jherh usgk jk;   ",null,null,null,null,"1986-09-23"]
[2,"Jherh usgk jk;   ",null,null,null,null,"1986-09-24"]
[3,"Jherh usgk jk;   ",null,null,null,null,"1986-09-24"]
["fnukad%&                        ","2020-10-01"]
[null,null,null,null,null," gLrk{kj "]
[]
[null,null,null,null,"uke & ",{"$f":"C23","v":"egsUnz dqekj tkV"}]
[null,null,null,null,"in & ",{"$f":"G23","v":"शारीरिक शिक्षक"}]
[null,null,null,"inLFkkiu LFkku &",null,{"$f":"D24","v":"राउमावि चौगाई"}]
[]
["izekf.kr l{ke vf/kdkjh"]

{"sheet":"VacantPost","index":96,"n_rows":52,"n_cols":13,"rows_kept":52,"cut":false,"hidden":true,"merged":[[4,0,5,0],[4,1,4,3],[4,4,4,6],[4,7,4,9],[4,10,5,10],[3,0,3,1],[1,0,1,1],[1,11,1,12],[1,2,1,6],[0,0,0,12],[2,0,2,12],[3,5,3,6],[49,10,49,12],[50,10,50,12],[51,10,51,12],[3,2,3,3],[3,11,3,12],[3,7,3,9],[4,11,5,11],[4,12,5,12]]}
[{"$f":"Master!G2&Master!H2","v":"कार्यालय&राजकीय उच्च माध्यमिक विद्यालय ]चौगाई]टोंक"}]
["dzekad&",null,{"$f":"Master!H3&Master!I3&Master!J3&Master!E3&\"/\"","v":"राउमावि/चौगाई/संस्था/2021-22/"},null,null,null,null,null,null,null,"fnukad &",{"$f":"TODAY()","v":"2021-06-19"}]
[" Lohd`r@dk;Zjr@fjDr inks dk fooj.k"]
["ekg &",null,"vxLr&2021",null,"l= &","2021-2022"]
["Ø-la-","Lohd`r in",null,null,"dk;Zjr in",null,null,"fjDr in",null,null,"fjDr dh fnukad","fjDr dk dkj.k","O;fDr dk uke ftlds dkj.k in fjDr gqvk"]
[null,"in dk uke","fo\"k;","Lohd`r ","in dk uke","fo\"k;","dk;Zjr","in dk uke","fo\"k;","fjDr "]
[{"$f":"IF(B7=\"\",\"\",1)","v":1},"प्रधानाचार्य",null,1,{"$f":"IF(B7=\"\",\"\",B7)","v":"प्रधानाचार्य"},{"$f":"IF(C7=\"\",\"\",C7)","v":""},1,{"$f":"IF(E7=\"\",\"\",E7)","v":"प्रधानाचार्य"},{"$f":"IF(F7=\"\",\"\",F7)","v":""},{"$f":"D7-G7","v":0},"00/01/1900",0,0]
[{"$f":"IF(B8=\"\",\"\",A7+1)","v":2},"प्रधानाचार्य","अंग्रेजी",1,{"$f":"IF(B8=\"\",\"\",B8)","v":"प्रधानाचार्य"},{"$f":"IF(C8=\"\",\"\",C8)","v":"अंग्रेजी"},1,{"$f":"IF(E8=\"\",\"\",E8)","v":"प्रधानाचार्य"},{"$f":"IF(F8=\"\",\"\",F8)","v":"अंग्रेजी"},{"$f":"D8-G8","v":0},"00/01/1900",0,0]
[{"$f":"IF(B9=\"\",\"\",A8+1)","v":3},"प्रधानाचार्य","अंग्रेजी",1,{"$f":"IF(B9=\"\",\"\",B9)","v":"प्रधानाचार्य"},"अंग्रेजी",1,"प्रधानाचार्य","अंग्रेजी",0,"00/01/1900",0,0]
[4,"प्रधानाचार्य","अंग्रेजी",1,"प्रधानाचार्य","अंग्रेजी",1,"प्रधानाचार्य","अंग्रेजी",0,"00/01/1900",0,0]
[5,"प्रधानाचार्य","अंग्रेजी",1,"प्रधानाचार्य","अंग्रेजी",1,"प्रधानाचार्य","अंग्रेजी",0,"00/01/1900",0,0]
[6,"प्रधानाचार्य","अंग्रेजी",1,"प्रधानाचार्य","अंग्रेजी",1,"प्रधानाचार्य","अंग्रेजी",0,"00/01/1900",0,0]
[7,"प्रधानाचार्य","अंग्रेजी",1,"प्रधानाचार्य","अंग्रेजी",1,"प्रधानाचार्य","अंग्रेजी",0,"00/01/1900",0,0]
[8,"प्रधानाचार्य","अंग्रेजी",1,"प्रधानाचार्य","अंग्रेजी",1,"प्रधानाचार्य","अंग्रेजी",0,"00/01/1900",0,0]
[9,"प्रधानाचार्य","अंग्रेजी",1,"प्रधानाचार्य","अंग्रेजी",1,"प्रधानाचार्य","अंग्रेजी",0,"00/01/1900",0,0]
[10,"प्रधानाचार्य","अंग्रेजी",1,"प्रधानाचार्य","अंग्रेजी",1,"प्रधानाचार्य","अंग्रेजी",0,"00/01/1900",0,0]
[11,"प्रधानाचार्य","अंग्रेजी",1,"प्रधानाचार्य","अंग्रेजी",1,"प्रधानाचार्य","अंग्रेजी",0,"00/01/1900",0,0]
[12,"प्रधानाचार्य","अंग्रेजी",1,"प्रधानाचार्य","अंग्रेजी",1,"प्रधानाचार्य","अंग्रेजी",0,"00:00:00",0,0]
[13,"प्रधानाचार्य","अंग्रेजी",1,"प्रधानाचार्य","अंग्रेजी",1,"प्रधानाचार्य","अंग्रेजी",0,"00:00:00",0,0]
[14,"प्रधानाचार्य","अंग्रेजी",1,"प्रधानाचार्य","अंग्रेजी",1,"प्रधानाचार्य","अंग्रेजी",0,"00:00:00",0,0]
[15,"प्रधानाचार्य","अंग्रेजी",1,"प्रधानाचार्य","अंग्रेजी",0,"प्रधानाचार्य","अंग्रेजी",1,"2016-05-16","inkSUufr","Jh /keZsUnz dqekj Vsyj"]
[16,"प्रधानाचार्य","अंग्रेजी",1,"प्रधानाचार्य","अंग्रेजी",0,"प्रधानाचार्य","अंग्रेजी",1,"2015-07-29","inkSUufr","Jh izeksn dqekj ikyhoky"]
[17,"प्रधानाचार्य","अंग्रेजी",1,"प्रधानाचार्य","अंग्रेजी",0,"प्रधानाचार्य","अंग्रेजी",1,"2013-06-16","inkSUufr","Jh lkseiky flag jk.kk"]
[18,"प्रधानाचार्य","अंग्रेजी",1,"प्रधानाचार्य","अंग्रेजी",0,"प्रधानाचार्य","अंग्रेजी",1,"2015-05-06","inkSUufr","Jh HkS: 'kadj iwfcZ;k"]
[19,"प्रधानाचार्य","अंग्रेजी",1,"प्रधानाचार्य","अंग्रेजी",0,"प्रधानाचार्य","अंग्रेजी",1,"&","lsokfuo`fr","Jh uouhr dqekj ikyhoky"]
[20,"प्रधानाचार्य","अंग्रेजी",1,"प्रधानाचार्य","अंग्रेजी",1,"प्रधानाचार्य","अंग्रेजी",0,"00:00:00",0,0]
[21,"प्रधानाचार्य","अंग्रेजी",1,"प्रधानाचार्य","अंग्रेजी",1,"प्रधानाचार्य","अंग्रेजी",0,"00:00:00",0,0]
[22,"प्रधानाचार्य","अंग्रेजी",1,"प्रधानाचार्य","अंग्रेजी",1,"प्रधानाचार्य","अंग्रेजी",0,"00:00:00",0,0]
[23,"प्रधानाचार्य","अंग्रेजी",1,"प्रधानाचार्य","अंग्रेजी",1,"प्रधानाचार्य","अंग्रेजी",0,"00:00:00",0,0]
[24,"प्रधानाचार्य","अंग्रेजी",1,"प्रधानाचार्य","अंग्रेजी",0,"प्रधानाचार्य","अंग्रेजी",1,"2016-07-26","inkSUufr","Jh jkts'k pUnz [k.Msyoky"]
[25,"प्रधानाचार्य","अंग्रेजी",1,"प्रधानाचार्य","अंग्रेजी",0,"प्रधानाचार्य","अंग्रेजी",1,"2016-04-20","inkSUufr","Jh xksfoUn yky vkSfnP;"]
[26,"प्रधानाचार्य","अंग्रेजी",1,"प्रधानाचार्य","अंग्रेजी",0,"प्रधानाचार्य","अंग्रेजी",1,"&","LFkkukUrj.k","Jh 'kdhy vgen"]
[27,"प्रधानाचार्य","अंग्रेजी",1,"प्रधानाचार्य","अंग्रेजी",0,"प्रधानाचार्य","अंग्रेजी",1,"2016-04-01","Lohd`fr ls gh fjDr","&"]
[28,"प्रधानाचार्य","अंग्रेजी",1,"प्रधानाचार्य","अंग्रेजी",1,"प्रधानाचार्य","अंग्रेजी",0,"00:00:00",0,0]
["",null,null,null,"","",null,"","",0]
["",null,null,null,"","",null,"","",0]
["",null,null,null,"","",null,"","",0]
["",null,null,null,"","",null,"","",0]
["",null,null,null,"","",null,"","",0]
["",null,null,null,"","",null,"","",0]
["",null,null,null,"","",null,"","",0]
["",null,null,null,"","",null,"","",0]
["",null,null,null,"","",null,"","",0]
["",null,null,null,"","",null,"","",0]
["",null,null,null,"","",null,"","",0]
["",null,null,null,"","",null,"","",0]
["",null,null,null,"","",null,"","",0]
[null,";ksx",null,{"$f":"SUM(D7:D47)","v":28},null,null,{"$f":"SUM(G7:G47)","v":19},null,null,{"$f":"SUM(J7:J47)","v":9}]
[]
[null,null,null,null,null,null,null,null,null,null,{"$f":"Master!B2","v":"प्रधानाचार्य"}]
[null,null,null,null,null,null,null,null,null,null,{"$f":"Master!B3","v":"राजकीय उच्च माध्यमिक विद्यालय "}]
[null,null,null,null,null,null,null,null,null,null,{"$f":"Master!B4","v":"चौगाई]टोंक"}]

{"sheet":"VerifyListP1","index":97,"n_rows":37,"n_cols":8,"rows_kept":37,"cut":false,"hidden":true,"merged":[[36,1,36,2],[35,6,35,7],[1,0,1,7],[2,0,2,7],[0,0,0,7],[35,1,35,2],[34,1,34,2]]}
[{"$f":"Master!G2&Master!H2","v":"कार्यालय&राजकीय उच्च माध्यमिक विद्यालय ]चौगाई]टोंक"}]
["izi=  & 1"]
["dk;kZy; Hk.Mkj lkexzh dh HkkSfrd lR;kiu lwph"]
["dza-la-","uke lkexzh","Hk.Mkj iaftdk i`\"B dazekd","iaftdk esa vafdr lkexzh dh rknkn ","lR;kiu ds le; izkIr lkexzh","de","vf/kd","vuqi;ksxh lkexzh dk fooj.k"]
[1,2,3,4,5,6,7,8]
[{"$f":"IF(B6=\"\",\"\",1)","v":1},"dqlhZ",123,34,33,"1 de"]
[{"$f":"IF(B7=\"\",\"\",A6+1)","v":2},"Vscy"]
[{"$f":"IF(B8=\"\",\"\",A7+1)","v":""}]
[""]
[""]
[""]
[""]
[""]
[""]
[""]
[""]
[""]
[""]
[""]
[""]
[""]
[""]
[""]
[""]
[""]
[""]
[""]
[""]
[""]
[""]
[""]
[""]
[]
[]
[null,{"$f":"Master!B2","v":"प्रधानाचार्य"}]
[null,{"$f":"Master!B3","v":"राजकीय उच्च माध्यमिक विद्यालय "},null,null,null,null,"gLrk{kj fujh{k.k dÙkkZ"]
[null,{"$f":"Master!B4","v":"चौगाई]टोंक"}]

{"sheet":"SR5","index":98,"n_rows":6,"n_cols":11,"rows_kept":6,"cut":false,"hidden":true,"merged":[[0,0,0,10],[1,0,1,10],[2,0,2,10],[3,0,3,10]]}
["jktLFkku ljdkj "]
["                             vizpfyr ,oa vuqi;ksxh lkekuksa dk jftLVj                       ,lvkj 5"]
["                                                                    lk-fo-ys-fu- HkkxAA & fu;e 17(i)"]
[{"$f":"Master!G2&Master!H2","v":"कार्यालय&राजकीय उच्च माध्यमिक विद्यालय ]चौगाई]टोंक"}]
["en la[;k ","lkeku dk fooj.k ","LVkWd jftLVj dk lanHkZ","DokfyVh esd vkfn dk la{ksi esa fooj.k","dz; djus dk o\"kZ ","dz; ewY;","fdu ifjfLFkfr;ksa esa lkeku cs'kh vuqi;ksxh vizpfyr gqvk","lkeku dh orZeku n'kk vFkkZr D;k mi;ksxh gS ;k vuqi;ksxh gS","olwy dh tk ldus okyh yxHkx ykxr","O;;u gsrq lq>ko ","vH;qfDr"]
[1,2,3,4,5,6,7,8,9,10,11]

{"sheet":"SR6","index":99,"n_rows":7,"n_cols":7,"rows_kept":7,"cut":false,"hidden":true,"merged":[[0,0,0,6],[1,0,1,6],[2,0,2,6],[3,0,3,6]]}
["jktLFkku ljdkj"]
["                                            losZ{k.k izfrosnu                                     ,l-vkj-&6"]
["lk-fo-ys-fu-HkkxAA & fu;e 21 (ii)"]
[{"$f":"Master!G2&Master!H2","v":"कार्यालय&राजकीय उच्च माध्यमिक विद्यालय ]चौगाई]टोंक"}]
["en la[;k"," lkeku dk fooj.k ","ek=k@ otu"," iqLrdkafr ewY;@ ewy dz; ewY;","dz; djus dk o\"kZ","O;;u dk rjhdk ¼fodz; lkoZtfud uhykeh ;k vU; izdkj ls½","O;;u ds fy;s izkf/kdkjh ds vkns'k"]
[1,2,3,4,5,6,7]
[1,"dqlhZ","15 ux"]

{"sheet":"SR7","index":100,"n_rows":19,"n_cols":11,"rows_kept":19,"cut":false,"hidden":true,"merged":[[0,0,0,10],[1,0,1,10],[2,0,2,10],[16,0,16,1],[3,0,3,10]]}
["jktLFkku ljdkj"]
["                                                fodz; ys[kk                                 ,lvkj izk:Ik & 7"]
["lk-fu-ys-fu-Hkkx AA & fu;e 23 (iii)"]
[{"$f":"Master!G2&Master!H2","v":"कार्यालय&राजकीय उच्च माध्यमिक विद्यालय ]चौगाई]टोंक"}]
["en la[;k ","lkeku dk fooj.k","ek=k@Hkkj","dzsrk dk uke o iw.kZ irk","Lohdkj dh xbZ mPpre cksyh","jn~n dh x;h mPpre cksyh","ekSds ij olwy dh xbZ c;kuk jkf'k","rkjh[k ftldks iw.kZ jkf'k olwy dh x;h vkSj dks\"kkxkj esa tek djkbZ xbZ","D;k oLrq,a ekSds ij ;FkkFkZ esa laHkyok nh Fkha];fn ugha rks oLrqvksa dks laHkyokus dh okLrfod rkjh[k e; ek=k ds","uhykedrkZ dk deh'ku ,oa mldk Hkqxrku izkIr djus dh jlhn","vH;qfDr"]
[1,2,3,4,5,6,7,8,9,10,11]
[1,"dqlhZ",25]
[]
[]
[]
[]
[]
[]
[]
["izekf.kr fd;k tkrk gS fd mDr izfof\"V;ksa dh tkap losZ{k.k izfrosnu ls dj yh x;h gSA"]
["lfefr dh flQkfj'k"]
["fnukad &",null,{"$f":"TODAY()","v":"2021-06-19"}]
[null,null,null,null,null,null,null,null,"vf/kdkjh] lfefr ds lnL;ksa ds gLrk{kj"]
[null,null,null,null,null,null,null,null,"ftUgksaus uhykeh dk i;Zos{k.k fd;kA"]

{"sheet":"ReleaveLetr","index":101,"n_rows":103,"n_cols":15,"rows_kept":103,"cut":false,"hidden":true,"merged":[[0,1,0,4],[0,12,2,12],[0,13,2,13],[1,0,1,5],[3,0,3,5],[12,0,12,1],[12,3,12,5],[5,1,5,3],[5,4,5,5],[6,3,6,4],[7,0,7,1],[8,0,8,1],[8,2,8,5],[1,14,3,17],[9,0,9,1],[9,2,9,3],[10,0,10,1],[11,0,11,1],[4,1,4,2],[4,14,4,17],[13,0,13,5],[14,4,14,5],[15,4,15,5],[16,4,16,5],[17,4,17,5]]}
[null,"dkfeZd dk dzekad ntZ djsa&",null,null,null,11,null,null,null,null,null,null,"lsok lekfIr ;k vU; tksMs","dkj.k tksMs"]
[{"$f":"Master!G2&Master!H2","v":"कार्यालय&राजकीय उच्च माध्यमिक विद्यालय ]चौगाई]टोंक"},null,null,null,null,null,null,null,null,null,null,null,null,null,";fn LFkkukukUrj.k@ inkSUufr@lek;kstu @O;oLFkkFkZ dk;ZeqDr fd;k gks rks 0 ;k okLrfod vkdfLed vodk'k fy[ks vU;Fkk [kkyh NksMsa&"]
["dzekad&",{"$f":"Master!H3&Master!I3&Master!J3&Master!E3&\"/\"","v":"राउमावि/चौगाई/संस्था/2021-22/"},null,null,"fnukad&",{"$f":"TODAY()","v":"2021-06-19"}]
["dk;ZeqfDr izek.k i=",null,null,null,null,null,{"$f":"EmpDetail!A4","v":1},{"$f":"EmpDetail!B4","v":"fd'ku yky cSjok"},{"$f":"EmpDetail!C4","v":"प्रधानाचार्य"},{"$f":"EmpDetail!D4","v":"राउमावि चौगाई"},{"$f":"EmpDetail!I4","v":"00:00:00"},null,"सेवा समाप्ति","अर्दवार्षिकी आयु"]
[null,null,null,null,null,null,{"$f":"EmpDetail!A5","v":2},{"$f":"EmpDetail!B5","v":"iwj.k pUn y{kdkj"},{"$f":"EmpDetail!C5","v":"व्याख्याता"},{"$f":"EmpDetail!D5","v":"राउमावि चौगाई"},{"$f":"EmpDetail!I5","v":"00:00:00"},null,"कार्यमुक्त","मृत्यु"]
[null,"izekf.kr fd;k tkrk gS fd Jh  ",null,null,{"$f":"IF(ISNA(VLOOKUP($F1,$G$4:$K$103,2,FALSE)),\"\",VLOOKUP($F1,$G$4:$K$103,2,FALSE))","v":"NksVw yky jsxj"},null,{"$f":"EmpDetail!A6","v":3},{"$f":"EmpDetail!B6","v":"jktsUnz dqekj tSu"},{"$f":"EmpDetail!C6","v":"व्याख्याता"},{"$f":"EmpDetail!D6","v":"राउमावि चौगाई"},{"$f":"EmpDetail!I6","v":"00:00:00"},null,"सेवामुक्त","स्वेच्छिक सेवानिवृत्ति"]
["in&",{"$f":"IF(ISNA(VLOOKUP($F1,$G$4:$K$103,3,FALSE)),\"\",VLOOKUP($F1,$G$4:$K$103,3,FALSE))","v":"अध्यापक ग्रेड III"},"inLFkkiu&",{"$f":"IF(ISNA(VLOOKUP($F1,$G$4:$K$103,4,FALSE)),\"\",VLOOKUP($F1,$G$4:$K$103,4,FALSE))","v":"राउमावि चौगाई"},null,"tks fd LFkkuh;",{"$f":"EmpDetail!A7","v":4},{"$f":"EmpDetail!B7","v":"fd'ku yky cSjok"},{"$f":"EmpDetail!C7","v":"व्याख्याता"},{"$f":"EmpDetail!D7","v":"राउमावि चौगाई"},{"$f":"EmpDetail!I7","v":"00:00:00"},null,"सेवानिवृत्त","स्थानांतरण"]
["dk;kZy; esa fnukad&",null,{"$f":"IF(ISNA(VLOOKUP($F1,$G$4:$K$103,5,FALSE)),\"\",VLOOKUP($F1,$G$4:$K$103,5,FALSE))","v":"00:00:00"},"ls","2021-03-31","rd inLFkkfir",{"$f":"EmpDetail!A8","v":5},{"$f":"EmpDetail!B8","v":"lR;ukjk;.k 'kekZ"},{"$f":"EmpDetail!C8","v":"वरिष्ठ अध्यापक"},{"$f":"EmpDetail!D8","v":"राउमावि चौगाई"},{"$f":"EmpDetail!I8","v":"00:00:00"},null,null,"पदौन्नति"]
["jgs gS budk Jheku~ ",null,"eq[; ftyk f'k{kk vf/kdkjh eq[;ky; ek/;fed f'k{kk Vksad",null,null,null,{"$f":"EmpDetail!A9","v":6},{"$f":"EmpDetail!B9","v":"iq\"ik tSu"},{"$f":"EmpDetail!C9","v":"वरिष्ठ अध्यापक"},{"$f":"EmpDetail!D9","v":"राउमावि चौगाई"},{"$f":"EmpDetail!I9","v":"00:00:00"},null,null,"समायोजन"]
["ds vkns'k dzekad&",null,"ftf'kv@eq@ekf'k@Vksad@21@765",null,"fnukad&","2021-03-10",{"$f":"EmpDetail!A10","v":7},{"$f":"EmpDetail!B10","v":"vk'kkjke eh.kk"},{"$f":"EmpDetail!C10","v":"वरिष्ठ अध्यापक"},{"$f":"EmpDetail!D10","v":"राउमावि चौगाई"},{"$f":"EmpDetail!I10","v":"00:00:00"},null,null,"अनिवार्य सेवानिवृत्ति"]
["dh vuqikyuk esa budh ",null,"अर्दवार्षिकी आयु","gksus ds dkj.k","सेवा समाप्ति","fd;s tkus ds ",{"$f":"EmpDetail!A11","v":8},{"$f":"EmpDetail!B11","v":"t;iky flag"},{"$f":"EmpDetail!C11","v":"वरिष्ठ अध्यापक"},{"$f":"EmpDetail!D11","v":"राउमावि चौगाई"},{"$f":"EmpDetail!I11","v":"00:00:00"}]
["dkj.k bUgs fnukad&",null,{"$f":"E8","v":"2021-03-31"},"dks","मध्यान्ह पश्चात",{"$f":"IF(E11=M4,M14,N14)","v":"lsokeqDr fd;k"},{"$f":"EmpDetail!A12","v":9},{"$f":"EmpDetail!B12","v":"jkeizlkn jsxj"},{"$f":"EmpDetail!C12","v":"वरिष्ठ अध्यापक"},{"$f":"EmpDetail!D12","v":"राउमावि चौगाई"},{"$f":"EmpDetail!I12","v":"00:00:00"}]
["x;k gS] bu ij vkt fnukad",null,"2021-03-31","LFkkuh; dk;kZy; dk dksbZ izHkkj cdk;k ugha gS A",null,null,{"$f":"EmpDetail!A13","v":10},{"$f":"EmpDetail!B13","v":"egsUnz dqekj tkV"},{"$f":"EmpDetail!C13","v":"शारीरिक शिक्षक"},{"$f":"EmpDetail!D13","v":"राउमावि चौगाई"},{"$f":"EmpDetail!I13","v":"00:00:00"}]
[{"$f":"IF(O5=\"\",\"\",\"vkSj bUgksus vc rd  \"&O5&\"   vkdfLed vodk'k dk miHkksx fd;k gS A\")","v":""},null,null,null,null,null,{"$f":"EmpDetail!A14","v":11},{"$f":"EmpDetail!B14","v":"NksVw yky jsxj"},{"$f":"EmpDetail!C14","v":"अध्यापक ग्रेड III"},{"$f":"EmpDetail!D14","v":"राउमावि चौगाई"},{"$f":"EmpDetail!I14","v":"00:00:00"},null,"lsokeqDr fd;k","dk;ZeqDr fd;k"]
[null,null,null,null,null,null,{"$f":"EmpDetail!A15","v":12},{"$f":"EmpDetail!B15","v":"dUgS;k yky egkoj"},{"$f":"EmpDetail!C15","v":"अध्यापक ग्रेड III"},{"$f":"EmpDetail!D15","v":"राउमावि चौगाई"},{"$f":"EmpDetail!I15","v":"00:00:00"}]
[null,null,null,null,{"$f":"Master!B2","v":"प्रधानाचार्य"},null,{"$f":"EmpDetail!A16","v":13},{"$f":"EmpDetail!B16","v":"prqHkqZt tkV"},{"$f":"EmpDetail!C16","v":"अध्यापक ग्रेड III"},{"$f":"EmpDetail!D16","v":"राउमावि चौगाई"},{"$f":"EmpDetail!I16","v":"2008-07-02"}]
[null,null,null,null,{"$f":"Master!B3","v":"राजकीय उच्च माध्यमिक विद्यालय "},null,{"$f":"EmpDetail!A17","v":14},{"$f":"EmpDetail!B17","v":"vklsQk [kku"},{"$f":"EmpDetail!C17","v":"अध्यापक ग्रेड III"},{"$f":"EmpDetail!D17","v":"राउमावि चौगाई"},{"$f":"EmpDetail!I17","v":"00:00:00"}]
[null,null,null,null,{"$f":"Master!B4","v":"चौगाई]टोंक"},null,{"$f":"EmpDetail!A18","v":15},{"$f":"EmpDetail!B18","v":"lq'khyk cSjok"},{"$f":"EmpDetail!C18","v":"कनिष्ठ सहायक"},{"$f":"EmpDetail!D18","v":"राउमावि चौगाई"},{"$f":"EmpDetail!I18","v":"00:00:00"}]
[null,null,null,null,null,null,{"$f":"EmpDetail!A19","v":16},{"$f":"EmpDetail!B19","v":"txnh'k izlkn rsyh"},{"$f":"EmpDetail!C19","v":"सहायक कर्मचारी"},{"$f":"EmpDetail!D19","v":"राउमावि चौगाई"},{"$f":"EmpDetail!I19","v":"00:00:00"}]
[null,null,null,null,null,null,{"$f":"EmpDetail!A20","v":17},{"$f":"EmpDetail!B20","v":"jfoUnz dqekj tSu"},{"$f":"EmpDetail!C20","v":"अध्यापक ग्रेड III"},{"$f":"EmpDetail!D20","v":"राउप्रावि मोहिनी"},{"$f":"EmpDetail!I20","v":"00:00:00"}]
[null,null,null,null,null,null,{"$f":"EmpDetail!A21","v":18},{"$f":"EmpDetail!B21","v":" ';ke lqUnj ckxkSM"},{"$f":"EmpDetail!C21","v":"अध्यापक ग्रेड III"},{"$f":"EmpDetail!D21","v":"राउप्रावि मोहिनी"},{"$f":"EmpDetail!I21","v":"00:00:00"}]
[null,null,null,null,null,null,{"$f":"EmpDetail!A22","v":19},{"$f":"EmpDetail!B22","v":"d`\".kk 'kekZ"},{"$f":"EmpDetail!C22","v":"प्रबोधक"},{"$f":"EmpDetail!D22","v":"राउप्रावि मोहिनी"},{"$f":"EmpDetail!I22","v":"00:00:00"}]
[null,null,null,null,null,null,{"$f":"EmpDetail!A23","v":20},{"$f":"EmpDetail!B23","v":"/keZsUnz pkS/kjh"},{"$f":"EmpDetail!C23","v":"अध्यापक ग्रेड III"},{"$f":"EmpDetail!D23","v":"राउप्रावि गोरधनपुरा"},{"$f":"EmpDetail!I23","v":"00:00:00"}]
[null,null,null,null,null,null,{"$f":"EmpDetail!A24","v":21},{"$f":"EmpDetail!B24","v":"izgykn ekyh"},{"$f":"EmpDetail!C24","v":"प्रबोधक"},{"$f":"EmpDetail!D24","v":"राउप्रावि गोरधनपुरा"},{"$f":"EmpDetail!I24","v":"00:00:00"}]
[null,null,null,null,null,null,{"$f":"EmpDetail!A25","v":22},{"$f":"EmpDetail!B25","v":"jken;ky xqtZj"},{"$f":"EmpDetail!C25","v":"प्रबोधक"},{"$f":"EmpDetail!D25","v":"राउप्रावि सोंदीफल"},{"$f":"EmpDetail!I25","v":"00:00:00"}]
[null,null,null,null,null,null,{"$f":"EmpDetail!A26","v":23},{"$f":"EmpDetail!B26","v":"vkSeizdk'k tkV"},{"$f":"EmpDetail!C26","v":"अध्यापक ग्रेड III"},{"$f":"EmpDetail!D26","v":"राउप्रावि सोंदीफल"},{"$f":"EmpDetail!I26","v":"00:00:00"}]
[null,null,null,null,null,null,{"$f":"EmpDetail!A27","v":24},{"$f":"EmpDetail!B27","v":"vthr flag"},{"$f":"EmpDetail!C27","v":"अध्यापक ग्रेड III"},{"$f":"EmpDetail!D27","v":"राप्रावि जानकीवल्लभपुरा"},{"$f":"EmpDetail!I27","v":"00:00:00"}]
[null,null,null,null,null,null,{"$f":"EmpDetail!A28","v":25},{"$f":"EmpDetail!B28","v":"eq[rkj eha;k"},{"$f":"EmpDetail!C28","v":"प्रबोधक"},{"$f":"EmpDetail!D28","v":"राप्रावि जानकीवल्लभपुरा"},{"$f":"EmpDetail!I28","v":"00:00:00"}]
[null,null,null,null,null,null,{"$f":"EmpDetail!A29","v":26},{"$f":"EmpDetail!B29","v":"eks0 tehy "},{"$f":"EmpDetail!C29","v":"प्रबोधक"},{"$f":"EmpDetail!D29","v":"राप्रावि रसूलपुरा"},{"$f":"EmpDetail!I29","v":"00:00:00"}]
[null,null,null,null,null,null,{"$f":"EmpDetail!A30","v":27},{"$f":"EmpDetail!B30","v":"lkaojey tkV"},{"$f":"EmpDetail!C30","v":"अध्यापक ग्रेड III"},{"$f":"EmpDetail!D30","v":"राप्रावि रसूलपुरा"},{"$f":"EmpDetail!I30","v":"00:00:00"}]
[null,null,null,null,null,null,{"$f":"EmpDetail!A31","v":28},{"$f":"EmpDetail!B31","v":"pkS/kjh eksuk jkekorkj"},{"$f":"EmpDetail!C31","v":"अध्यापक ग्रेड III"},{"$f":"EmpDetail!D31","v":"राप्रावि मोहिनी ढाणी बाढ"},{"$f":"EmpDetail!I31","v":"00:00:00"}]
[null,null,null,null,null,null,{"$f":"EmpDetail!A32","v":29},{"$f":"EmpDetail!B32","v":"rkjkpUn tk;loky"},{"$f":"EmpDetail!C32","v":"प्रबोधक"},{"$f":"EmpDetail!D32","v":"राप्रावि मोहिनी ढाणी बाढ"},{"$f":"EmpDetail!I32","v":"00:00:00"}]
[null,null,null,null,null,null,{"$f":"EmpDetail!A33","v":30},{"$f":"EmpDetail!B33","v":"jketl ;kno"},{"$f":"EmpDetail!C33","v":"अध्यापक ग्रेड III"},{"$f":"EmpDetail!D33","v":"राप्रावि बैरवा ढाणी सोन्दीफल"},{"$f":"EmpDetail!I33","v":"00:00:00"}]
[null,null,null,null,null,null,{"$f":"EmpDetail!A34","v":31},{"$f":"EmpDetail!B34","v":"dtksMey eh.kk"},{"$f":"EmpDetail!C34","v":"अध्यापक ग्रेड III"},{"$f":"EmpDetail!D34","v":"राप्रावि बैरवा ढाणी सोन्दीफल"},{"$f":"EmpDetail!I34","v":"00:00:00"}]
[null,null,null,null,null,null,{"$f":"EmpDetail!A35","v":32},{"$f":"EmpDetail!B35","v":"/kaut; xkSRre"},{"$f":"EmpDetail!C35","v":"अध्यापक ग्रेड III"},{"$f":"EmpDetail!D35","v":"राउप्रावि गोरधनपुरा"},{"$f":"EmpDetail!I35","v":"2018-08-31"}]
[null,null,null,null,null,null,{"$f":"EmpDetail!A36","v":33},{"$f":"EmpDetail!B36","v":"d`\".kk xaxoky"},{"$f":"EmpDetail!C36","v":"अध्यापक ग्रेड III"},{"$f":"EmpDetail!D36","v":"राउप्रावि गोरधनपुरा"},{"$f":"EmpDetail!I36","v":"2018-12-21"}]
[null,null,null,null,null,null,{"$f":"EmpDetail!A37","v":34},{"$f":"EmpDetail!B37","v":"n'kjFk dqekj ;kno"},{"$f":"EmpDetail!C37","v":"अध्यापक ग्रेड III"},{"$f":"EmpDetail!D37","v":"राउप्रावि सोंदीफल"},{"$f":"EmpDetail!I37","v":"2018-09-29"}]
[null,null,null,null,null,null,{"$f":"EmpDetail!A38","v":35},{"$f":"EmpDetail!B38","v":"d`\".k yky tkV"},{"$f":"EmpDetail!C38","v":"अध्यापक ग्रेड III"},{"$f":"EmpDetail!D38","v":"राउप्रावि सोंदीफल"},{"$f":"EmpDetail!I38","v":"2018-10-02"}]
[null,null,null,null,null,null,{"$f":"EmpDetail!A39","v":36},{"$f":"EmpDetail!B39","v":"nhisUnz dqekj iztkir"},{"$f":"EmpDetail!C39","v":"अध्यापक ग्रेड III"},{"$f":"EmpDetail!D39","v":"राउप्रावि सोंदीफल"},{"$f":"EmpDetail!I39","v":"2019-03-08"}]
[null,null,null,null,null,null,{"$f":"EmpDetail!A40","v":37},{"$f":"EmpDetail!B40","v":"uohu dqekj"},{"$f":"EmpDetail!C40","v":"अध्यापक ग्रेड III"},{"$f":"EmpDetail!D40","v":"राउप्रावि मोहिनी"},{"$f":"EmpDetail!I40","v":"2019-03-09"}]
[null,null,null,null,null,null,{"$f":"EmpDetail!A41","v":38},{"$f":"EmpDetail!B41","v":"ehrs'k dqekj 'kekZ"},{"$f":"EmpDetail!C41","v":"अध्यापक ग्रेड III"},{"$f":"EmpDetail!D41","v":"राउप्रावि मोहिनी"},{"$f":"EmpDetail!I41","v":"2018-09-13"}]
[null,null,null,null,null,null,{"$f":"EmpDetail!A42","v":39},{"$f":"EmpDetail!B42","v":"eUtw eh.kk"},{"$f":"EmpDetail!C42","v":"वरिष्ठ अध्यापक"},{"$f":"EmpDetail!D42","v":"राउप्रावि गोरधनपुरा"},{"$f":"EmpDetail!I42","v":"2020-09-29"}]
[null,null,null,null,null,null,{"$f":"EmpDetail!A43","v":40},{"$f":"EmpDetail!B43","v":"eatw pkS/kjh"},{"$f":"EmpDetail!C43","v":"वरिष्ठ अध्यापक"},{"$f":"EmpDetail!D43","v":"राउप्रावि सोंदीफल"},{"$f":"EmpDetail!I43","v":"2020-09-29"}]
[null,null,null,null,null,null,{"$f":"EmpDetail!A44","v":41},{"$f":"EmpDetail!B44","v":0},{"$f":"EmpDetail!C44","v":0},{"$f":"EmpDetail!D44","v":0},{"$f":"EmpDetail!I44","v":"00:00:00"}]
[null,null,null,null,null,null,{"$f":"EmpDetail!A45","v":42},{"$f":"EmpDetail!B45","v":0},{"$f":"EmpDetail!C45","v":0},{"$f":"EmpDetail!D45","v":0},{"$f":"EmpDetail!I45","v":"00:00:00"}]
[null,null,null,null,null,null,{"$f":"EmpDetail!A46","v":43},{"$f":"EmpDetail!B46","v":0},{"$f":"EmpDetail!C46","v":0},{"$f":"EmpDetail!D46","v":0},{"$f":"EmpDetail!I46","v":"00:00:00"}]
[null,null,null,null,null,null,{"$f":"EmpDetail!A47","v":44},{"$f":"EmpDetail!B47","v":0},{"$f":"EmpDetail!C47","v":0},{"$f":"EmpDetail!D47","v":0},{"$f":"EmpDetail!I47","v":"00:00:00"}]
[null,null,null,null,null,null,{"$f":"EmpDetail!A48","v":45},{"$f":"EmpDetail!B48","v":0},{"$f":"EmpDetail!C48","v":0},{"$f":"EmpDetail!D48","v":0},{"$f":"EmpDetail!I48","v":"00:00:00"}]
[null,null,null,null,null,null,{"$f":"EmpDetail!A49","v":46},{"$f":"EmpDetail!B49","v":0},{"$f":"EmpDetail!C49","v":0},{"$f":"EmpDetail!D49","v":0},{"$f":"EmpDetail!I49","v":"00:00:00"}]
[null,null,null,null,null,null,{"$f":"EmpDetail!A50","v":47},{"$f":"EmpDetail!B50","v":0},{"$f":"EmpDetail!C50","v":0},{"$f":"EmpDetail!D50","v":0},{"$f":"EmpDetail!I50","v":"00:00:00"}]
[null,null,null,null,null,null,{"$f":"EmpDetail!A51","v":48},{"$f":"EmpDetail!B51","v":0},{"$f":"EmpDetail!C51","v":0},{"$f":"EmpDetail!D51","v":0},{"$f":"EmpDetail!I51","v":"00:00:00"}]
[null,null,null,null,null,null,{"$f":"EmpDetail!A52","v":49},{"$f":"EmpDetail!B52","v":0},{"$f":"EmpDetail!C52","v":0},{"$f":"EmpDetail!D52","v":0},{"$f":"EmpDetail!I52","v":"00:00:00"}]
[null,null,null,null,null,null,{"$f":"EmpDetail!A53","v":50},{"$f":"EmpDetail!B53","v":0},{"$f":"EmpDetail!C53","v":0},{"$f":"EmpDetail!D53","v":0},{"$f":"EmpDetail!I53","v":"00:00:00"}]
[null,null,null,null,null,null,{"$f":"EmpDetail!A54","v":51},{"$f":"EmpDetail!B54","v":0},{"$f":"EmpDetail!C54","v":0},{"$f":"EmpDetail!D54","v":0},{"$f":"EmpDetail!I54","v":"00:00:00"}]
[null,null,null,null,null,null,{"$f":"EmpDetail!A55","v":52},{"$f":"EmpDetail!B55","v":0},{"$f":"EmpDetail!C55","v":0},{"$f":"EmpDetail!D55","v":0},{"$f":"EmpDetail!I55","v":"00:00:00"}]
[null,null,null,null,null,null,{"$f":"EmpDetail!A56","v":53},{"$f":"EmpDetail!B56","v":0},{"$f":"EmpDetail!C56","v":0},{"$f":"EmpDetail!D56","v":0},{"$f":"EmpDetail!I56","v":"00:00:00"}]
[null,null,null,null,null,null,{"$f":"EmpDetail!A57","v":54},{"$f":"EmpDetail!B57","v":0},{"$f":"EmpDetail!C57","v":0},{"$f":"EmpDetail!D57","v":0},{"$f":"EmpDetail!I57","v":"00:00:00"}]
[null,null,null,null,null,null,{"$f":"EmpDetail!A58","v":55},{"$f":"EmpDetail!B58","v":0},{"$f":"EmpDetail!C58","v":0},{"$f":"EmpDetail!D58","v":0},{"$f":"EmpDetail!I58","v":"00:00:00"}]
[null,null,null,null,null,null,{"$f":"EmpDetail!A59","v":56},{"$f":"EmpDetail!B59","v":0},{"$f":"EmpDetail!C59","v":0},{"$f":"EmpDetail!D59","v":0},{"$f":"EmpDetail!I59","v":"00:00:00"}]
[null,null,null,null,null,null,{"$f":"EmpDetail!A60","v":57},{"$f":"EmpDetail!B60","v":0},{"$f":"EmpDetail!C60","v":0},{"$f":"EmpDetail!D60","v":0},{"$f":"EmpDetail!I60","v":"00:00:00"}]
[null,null,null,null,null,null,{"$f":"EmpDetail!A61","v":58},{"$f":"EmpDetail!B61","v":0},{"$f":"EmpDetail!C61","v":0},{"$f":"EmpDetail!D61","v":0},{"$f":"EmpDetail!I61","v":"00:00:00"}]
[null,null,null,null,null,null,{"$f":"EmpDetail!A62","v":59},{"$f":"EmpDetail!B62","v":0},{"$f":"EmpDetail!C62","v":0},{"$f":"EmpDetail!D62","v":0},{"$f":"EmpDetail!I62","v":"00:00:00"}]
[null,null,null,null,null,null,{"$f":"EmpDetail!A63","v":60},{"$f":"EmpDetail!B63","v":0},{"$f":"EmpDetail!C63","v":0},{"$f":"EmpDetail!D63","v":0},{"$f":"EmpDetail!I63","v":"00:00:00"}]
[null,null,null,null,null,null,{"$f":"EmpDetail!A64","v":61},{"$f":"EmpDetail!B64","v":0},{"$f":"EmpDetail!C64","v":0},{"$f":"EmpDetail!D64","v":0},{"$f":"EmpDetail!I64","v":"00:00:00"}]
[null,null,null,null,null,null,{"$f":"EmpDetail!A65","v":62},{"$f":"EmpDetail!B65","v":0},{"$f":"EmpDetail!C65","v":0},{"$f":"EmpDetail!D65","v":0},{"$f":"EmpDetail!I65","v":"00:00:00"}]
[null,null,null,null,null,null,{"$f":"EmpDetail!A66","v":63},{"$f":"EmpDetail!B66","v":0},{"$f":"EmpDetail!C66","v":0},{"$f":"EmpDetail!D66","v":0},{"$f":"EmpDetail!I66","v":"00:00:00"}]
[null,null,null,null,null,null,{"$f":"EmpDetail!A67","v":64},{"$f":"EmpDetail!B67","v":0},{"$f":"EmpDetail!C67","v":0},{"$f":"EmpDetail!D67","v":0},{"$f":"EmpDetail!I67","v":"00:00:00"}]
[null,null,null,null,null,null,{"$f":"EmpDetail!A68","v":65},{"$f":"EmpDetail!B68","v":0},{"$f":"EmpDetail!C68","v":0},{"$f":"EmpDetail!D68","v":0},{"$f":"EmpDetail!I68","v":"00:00:00"}]
[null,null,null,null,null,null,{"$f":"EmpDetail!A69","v":66},{"$f":"EmpDetail!B69","v":0},{"$f":"EmpDetail!C69","v":0},{"$f":"EmpDetail!D69","v":0},{"$f":"EmpDetail!I69","v":"00:00:00"}]
[null,null,null,null,null,null,{"$f":"EmpDetail!A70","v":67},{"$f":"EmpDetail!B70","v":0},{"$f":"EmpDetail!C70","v":0},{"$f":"EmpDetail!D70","v":0},{"$f":"EmpDetail!I70","v":"00:00:00"}]
[null,null,null,null,null,null,{"$f":"EmpDetail!A71","v":68},{"$f":"EmpDetail!B71","v":0},{"$f":"EmpDetail!C71","v":0},{"$f":"EmpDetail!D71","v":0},{"$f":"EmpDetail!I71","v":"00:00:00"}]
[null,null,null,null,null,null,{"$f":"EmpDetail!A72","v":69},{"$f":"EmpDetail!B72","v":0},{"$f":"EmpDetail!C72","v":0},{"$f":"EmpDetail!D72","v":0},{"$f":"EmpDetail!I72","v":"00:00:00"}]
[null,null,null,null,null,null,{"$f":"EmpDetail!A73","v":70},{"$f":"EmpDetail!B73","v":0},{"$f":"EmpDetail!C73","v":0},{"$f":"EmpDetail!D73","v":0},{"$f":"EmpDetail!I73","v":"00:00:00"}]
[null,null,null,null,null,null,{"$f":"EmpDetail!A74","v":71},{"$f":"EmpDetail!B74","v":0},{"$f":"EmpDetail!C74","v":0},{"$f":"EmpDetail!D74","v":0},{"$f":"EmpDetail!I74","v":"00:00:00"}]
[null,null,null,null,null,null,{"$f":"EmpDetail!A75","v":72},{"$f":"EmpDetail!B75","v":0},{"$f":"EmpDetail!C75","v":0},{"$f":"EmpDetail!D75","v":0},{"$f":"EmpDetail!I75","v":"00:00:00"}]
[null,null,null,null,null,null,{"$f":"EmpDetail!A76","v":73},{"$f":"EmpDetail!B76","v":0},{"$f":"EmpDetail!C76","v":0},{"$f":"EmpDetail!D76","v":0},{"$f":"EmpDetail!I76","v":"00:00:00"}]
[null,null,null,null,null,null,{"$f":"EmpDetail!A77","v":74},{"$f":"EmpDetail!B77","v":0},{"$f":"EmpDetail!C77","v":0},{"$f":"EmpDetail!D77","v":0},{"$f":"EmpDetail!I77","v":"00:00:00"}]
[null,null,null,null,null,null,{"$f":"EmpDetail!A78","v":75},{"$f":"EmpDetail!B78","v":0},{"$f":"EmpDetail!C78","v":0},{"$f":"EmpDetail!D78","v":0},{"$f":"EmpDetail!I78","v":"00:00:00"}]
[null,null,null,null,null,null,{"$f":"EmpDetail!A79","v":76},{"$f":"EmpDetail!B79","v":0},{"$f":"EmpDetail!C79","v":0},{"$f":"EmpDetail!D79","v":0},{"$f":"EmpDetail!I79","v":"00:00:00"}]
[null,null,null,null,null,null,{"$f":"EmpDetail!A80","v":77},{"$f":"EmpDetail!B80","v":0},{"$f":"EmpDetail!C80","v":0},{"$f":"EmpDetail!D80","v":0},{"$f":"EmpDetail!I80","v":"00:00:00"}]
[null,null,null,null,null,null,{"$f":"EmpDetail!A81","v":78},{"$f":"EmpDetail!B81","v":0},{"$f":"EmpDetail!C81","v":0},{"$f":"EmpDetail!D81","v":0},{"$f":"EmpDetail!I81","v":"00:00:00"}]
[null,null,null,null,null,null,{"$f":"EmpDetail!A82","v":79},{"$f":"EmpDetail!B82","v":0},{"$f":"EmpDetail!C82","v":0},{"$f":"EmpDetail!D82","v":0},{"$f":"EmpDetail!I82","v":"00:00:00"}]
[null,null,null,null,null,null,{"$f":"EmpDetail!A83","v":80},{"$f":"EmpDetail!B83","v":0},{"$f":"EmpDetail!C83","v":0},{"$f":"EmpDetail!D83","v":0},{"$f":"EmpDetail!I83","v":"00:00:00"}]
[null,null,null,null,null,null,{"$f":"EmpDetail!A84","v":81},{"$f":"EmpDetail!B84","v":0},{"$f":"EmpDetail!C84","v":0},{"$f":"EmpDetail!D84","v":0},{"$f":"EmpDetail!I84","v":"00:00:00"}]
[null,null,null,null,null,null,{"$f":"EmpDetail!A85","v":82},{"$f":"EmpDetail!B85","v":0},{"$f":"EmpDetail!C85","v":0},{"$f":"EmpDetail!D85","v":0},{"$f":"EmpDetail!I85","v":"00:00:00"}]
[null,null,null,null,null,null,{"$f":"EmpDetail!A86","v":83},{"$f":"EmpDetail!B86","v":0},{"$f":"EmpDetail!C86","v":0},{"$f":"EmpDetail!D86","v":0},{"$f":"EmpDetail!I86","v":"00:00:00"}]
[null,null,null,null,null,null,{"$f":"EmpDetail!A87","v":84},{"$f":"EmpDetail!B87","v":0},{"$f":"EmpDetail!C87","v":0},{"$f":"EmpDetail!D87","v":0},{"$f":"EmpDetail!I87","v":"00:00:00"}]
[null,null,null,null,null,null,{"$f":"EmpDetail!A88","v":85},{"$f":"EmpDetail!B88","v":0},{"$f":"EmpDetail!C88","v":0},{"$f":"EmpDetail!D88","v":0},{"$f":"EmpDetail!I88","v":"00:00:00"}]
[null,null,null,null,null,null,{"$f":"EmpDetail!A89","v":86},{"$f":"EmpDetail!B89","v":0},{"$f":"EmpDetail!C89","v":0},{"$f":"EmpDetail!D89","v":0},{"$f":"EmpDetail!I89","v":"00:00:00"}]
[null,null,null,null,null,null,{"$f":"EmpDetail!A90","v":87},{"$f":"EmpDetail!B90","v":0},{"$f":"EmpDetail!C90","v":0},{"$f":"EmpDetail!D90","v":0},{"$f":"EmpDetail!I90","v":"00:00:00"}]
[null,null,null,null,null,null,{"$f":"EmpDetail!A91","v":88},{"$f":"EmpDetail!B91","v":0},{"$f":"EmpDetail!C91","v":0},{"$f":"EmpDetail!D91","v":0},{"$f":"EmpDetail!I91","v":"00:00:00"}]
[null,null,null,null,null,null,{"$f":"EmpDetail!A92","v":89},{"$f":"EmpDetail!B92","v":0},{"$f":"EmpDetail!C92","v":0},{"$f":"EmpDetail!D92","v":0},{"$f":"EmpDetail!I92","v":"00:00:00"}]
[null,null,null,null,null,null,{"$f":"EmpDetail!A93","v":90},{"$f":"EmpDetail!B93","v":0},{"$f":"EmpDetail!C93","v":0},{"$f":"EmpDetail!D93","v":0},{"$f":"EmpDetail!I93","v":"00:00:00"}]
[null,null,null,null,null,null,{"$f":"EmpDetail!A94","v":91},{"$f":"EmpDetail!B94","v":0},{"$f":"EmpDetail!C94","v":0},{"$f":"EmpDetail!D94","v":0},{"$f":"EmpDetail!I94","v":"00:00:00"}]
[null,null,null,null,null,null,{"$f":"EmpDetail!A95","v":92},{"$f":"EmpDetail!B95","v":0},{"$f":"EmpDetail!C95","v":0},{"$f":"EmpDetail!D95","v":0},{"$f":"EmpDetail!I95","v":"00:00:00"}]
[null,null,null,null,null,null,{"$f":"EmpDetail!A96","v":93},{"$f":"EmpDetail!B96","v":0},{"$f":"EmpDetail!C96","v":0},{"$f":"EmpDetail!D96","v":0},{"$f":"EmpDetail!I96","v":"00:00:00"}]
[null,null,null,null,null,null,{"$f":"EmpDetail!A97","v":94},{"$f":"EmpDetail!B97","v":0},{"$f":"EmpDetail!C97","v":0},{"$f":"EmpDetail!D97","v":0},{"$f":"EmpDetail!I97","v":"00:00:00"}]
[null,null,null,null,null,null,{"$f":"EmpDetail!A98","v":95},{"$f":"EmpDetail!B98","v":0},{"$f":"EmpDetail!C98","v":0},{"$f":"EmpDetail!D98","v":0},{"$f":"EmpDetail!I98","v":"00:00:00"}]
[null,null,null,null,null,null,{"$f":"EmpDetail!A99","v":96},{"$f":"EmpDetail!B99","v":0},{"$f":"EmpDetail!C99","v":0},{"$f":"EmpDetail!D99","v":0},{"$f":"EmpDetail!I99","v":"00:00:00"}]
[null,null,null,null,null,null,{"$f":"EmpDetail!A100","v":97},{"$f":"EmpDetail!B100","v":0},{"$f":"EmpDetail!C100","v":0},{"$f":"EmpDetail!D100","v":0},{"$f":"EmpDetail!I100","v":"00:00:00"}]
[null,null,null,null,null,null,{"$f":"EmpDetail!A101","v":98},{"$f":"EmpDetail!B101","v":0},{"$f":"EmpDetail!C101","v":0},{"$f":"EmpDetail!D101","v":0},{"$f":"EmpDetail!I101","v":"00:00:00"}]
[null,null,null,null,null,null,{"$f":"EmpDetail!A102","v":99},{"$f":"EmpDetail!B102","v":0},{"$f":"EmpDetail!C102","v":0},{"$f":"EmpDetail!D102","v":0},{"$f":"EmpDetail!I102","v":"00:00:00"}]
[null,null,null,null,null,null,{"$f":"EmpDetail!A103","v":100},{"$f":"EmpDetail!B103","v":0},{"$f":"EmpDetail!C103","v":0},{"$f":"EmpDetail!D103","v":0},{"$f":"EmpDetail!I103","v":"00:00:00"}]

{"sheet":"FrwrdServEnd","index":102,"n_rows":39,"n_cols":12,"rows_kept":39,"cut":false,"hidden":true,"merged":[[37,5,37,7],[38,5,38,7],[5,10,6,12],[18,2,18,4],[19,2,19,4],[20,2,20,4],[25,5,25,7],[26,5,26,7],[27,5,27,7],[31,1,31,3],[32,2,32,3],[36,5,36,7],[10,1,10,6],[12,1,12,2],[12,3,12,4],[13,0,13,5],[13,7,13,8],[16,0,16,1],[0,0,0,8],[4,1,4,4],[5,1,5,2],[6,1,6,2],[9,2,9,3],[9,5,9,8]]}
[{"$f":"Master!G2&Master!H2","v":"कार्यालय&राजकीय उच्च माध्यमिक विद्यालय ]चौगाई]टोंक"}]
[]
["dzekad%&",{"$f":"Master!H3&Master!I3&Master!J3&Master!E3&\"/\"","v":"राउमावि/चौगाई/संस्था/2021-22/"},null,null,null,null,null,"fnukad%&",{"$f":"TODAY()","v":"2021-06-19"}]
[null,"lsok esa]"]
[" ","    Jheku~ eq[; CykWd f'k{kk vf/kdkjh egksn;"]
[null,"     iapk;r lfefr",null,null,null,null,null,null,null,null,"dkfeZd dk dzekad ntZ djsa"]
[null," Vksad"]
[null,null,null,null,null,null,null,null,null,null,null,11]
[]
[null,"fo\"k; % &",{"$f":"(INDEX(EmpDetail!$B$4:$B$103,MATCH(FrwrdServEnd!$L$8,EmpDetail!$A$4:$A$103,0)))","v":"NksVw yky jsxj"},null,{"$f":"(INDEX(EmpDetail!$C$4:$C$103,MATCH(FrwrdServEnd!$L$8,EmpDetail!$A$4:$A$103,0)))","v":"अध्यापक ग्रेड III"},"dh e`R;q ij lsok lekfIr vkns'k tkjh djokus ckcrA"]
[null,"izlax%&e`rd dkfeZd ds vkfJrksa }kjk dk;kZy; esa e`R;q izek.k i= izLrqr djus dh fnukad%&",null,null,null,null,null,"2020-04-13"]
["egksn; ]"]
[null,"funZs'kkuqlkj bl foHkkx ds",null,{"$f":"C10","v":"NksVw yky jsxj"},null,{"$f":"E10","v":"अध्यापक ग्रेड III"},"dh e`R;q gks tkus ds dkj.k izdj.k"]
[" vko';d dk;Zokgh gsrq vxzsf\"kr fd;k tk jgs gS A budh tUe frfFk&",null,null,null,null,null,{"$f":"(INDEX(EmpDetail!$E$4:$E$103,MATCH(FrwrdServEnd!$L$8,EmpDetail!$A$4:$A$103,0)))","v":"1967-07-10"},"gSAbudh e`R;q"]
[null,"  frfFk&","2020-04-01","gS A","izdj.k lsoklekfIr vkns'k tkjh djokus gsrw fHktok;k tk jgk gSaA"]
[null,null,"d`i;k budk lsoklekfIr vkns'k tkjh djokus dh d`ik djkosaA"]
["layXu& ",null,"1- e`R;q izek.k i=A"]
[null,null,"2- lsokiqfLrdk ds izFke i`\"B dh izfrfyihA"]
[null,null,"3- ----------------------------------------------------------"]
[null,null,"4 ------------------------------------------------------------"]
[null,null,"5- -----------------------------------------------------------"]
[]
[]
[]
[]
[null,null,null,null,null,{"$f":"Master!B2","v":"प्रधानाचार्य"}]
[null,null,null,null,null,{"$f":"Master!B3","v":"राजकीय उच्च माध्यमिक विद्यालय "}]
[null,null,null,null,null,{"$f":"Master!B4","v":"चौगाई]टोंक"}]
[]
[]
[null,"izfrfyfi lwpukFkZ ,oa vko';d dk;Zokgh gsrq %&"]
[1,"Jheku~ ----------------fu;qfDr vf/kdkjh--------------------------------",null,null,"--------------------------------"]
[2,"lEcfU/kr ",{"$f":"C10","v":"NksVw yky jsxj"},null,{"$f":"E10","v":"अध्यापक ग्रेड III"}]
[3,"jf{kr i=koyh@isa'ku i=koyh A"]
[]
[]
[null,null,null,null,null,{"$f":"F26","v":"प्रधानाचार्य"}]
[null,null,null,null,null,{"$f":"F27","v":"राजकीय उच्च माध्यमिक विद्यालय "}]
[null,null,null,null,null,"चौगाई]टोंक"]

{"sheet":"FrwrdDeathCase","index":103,"n_rows":39,"n_cols":12,"rows_kept":39,"cut":false,"hidden":true,"merged":[[37,5,37,7],[38,5,38,7],[5,10,6,12],[25,5,25,7],[26,5,26,7],[27,5,27,7],[31,1,31,3],[32,2,32,3],[36,5,36,7],[10,1,10,6],[12,1,12,2],[12,3,12,4],[13,0,13,5],[13,7,13,8],[16,0,16,1],[0,0,0,8],[4,1,4,4],[5,1,5,2],[6,1,6,2],[9,5,9,8]]}
[{"$f":"Master!G2&Master!H2","v":"कार्यालय&राजकीय उच्च माध्यमिक विद्यालय ]चौगाई]टोंक"}]
[]
["dzekad%&",{"$f":"Master!H3&Master!I3&Master!J3&Master!E3&\"/\"","v":"राउमावि/चौगाई/संस्था/2021-22/"},null,null,null,null,null,"fnukad%&",{"$f":"TODAY()","v":"2021-06-19"}]
[null,"lsok esa]"]
[" ","Jheku~ eq[; CykWd f'k{kk vf/kdkjh egksn;"]
[null,"     iapk;r lfefr",null,null,null,null,null,null,null,null,"dkfeZd dk dzekad ntZ djsa"]
[null," Vksad"]
[null,null,null,null,null,null,null,null,null,null,null,33]
[]
[null,"fo\"k; % &",{"$f":"(INDEX(EmpDetail!$B$4:$B$103,MATCH(FrwrdDeathCase!$L$8,EmpDetail!$A$4:$A$103,0)))","v":"d`\".kk xaxoky"},null,{"$f":"(INDEX(EmpDetail!$C$4:$C$103,MATCH(FrwrdDeathCase!$L$8,EmpDetail!$A$4:$A$103,0)))","v":"अध्यापक ग्रेड III"},"dh e`R;q ls lsoklekfIr ij isa'ku izdj.k fuLrkj.k gsrw fHktokus ckcrA"]
[null,"izlax%&e`rd dkfeZd ds vkfJrksa }kjk dk;kZy; esa izLrqr isa'ku izdj.k fnukad%&",null,null,null,null,null,"2020-04-17"]
["egksn; ]"]
[null,"funZs'kkuqlkj bl foHkkx ds",null,{"$f":"C10","v":"d`\".kk xaxoky"},null,{"$f":"E10","v":"अध्यापक ग्रेड III"},"ds isa'ku lEcfU/kr dqyd vkxs"]
[" vko';d dk;Zokgh gsrq vxzsf\"kr fd;s tk jgs gS A budh e`R;q frfFk&",null,null,null,null,null,"2021-04-12","gSAbudh lsoklekfIr"]
[null,"  frfFk&","2021-04-12","gS A","isa'ku izdj.k fuLrkj.k gsrw fHktok;k tk jgk gSaA"]
[null,null,"d`i;k bUgsa fu;ekuqlkj isa'ku izdj.k fuLrkfjr djokus dh d`ik djkosaA"]
["layXu& ",null,"1- ewy lsok iqfLrdkA"]
[null,null,"2- isa’ku dqydA"]
[null,null,"3- lsoklekfIr vkns’kA"]
[null,null,"4- is eustj ls fizaUV ,EiyksbZ ekLVj MkVkA"]
[null,null,"5- is eustj ls fizaUV ysVsLV is fLyiA"]
[null,null,"6- cSad [kkrk iklcqd dh QksVks dksihA"]
[null,null,"7- e`R;q izek.k&i=A"]
[]
[]
[null,null,null,null,null,{"$f":"Master!B2","v":"प्रधानाचार्य"}]
[null,null,null,null,null,{"$f":"Master!B3","v":"राजकीय उच्च माध्यमिक विद्यालय "}]
[null,null,null,null,null,{"$f":"Master!B4","v":"चौगाई]टोंक"}]
[]
[]
[null,"izfrfyfi lwpukFkZ ,oa vko';d dk;Zokgh gsrq %&"]
[1,"Jheku~ vfr- funs'kd isa'ku foHkkx egksn;",null,null,"vtesj"]
[2,"lEcfU/kr ",{"$f":"C10","v":"d`\".kk xaxoky"},null,{"$f":"E10","v":"अध्यापक ग्रेड III"}]
[3,"jf{kr i=koyh@isa'ku i=koyh A"]
[]
[]
[null,null,null,null,null,{"$f":"F26","v":"प्रधानाचार्य"}]
[null,null,null,null,null,{"$f":"F27","v":"राजकीय उच्च माध्यमिक विद्यालय "}]
[null,null,null,null,null,"चौगाई]टोंक"]

{"sheet":"Open","index":104,"n_rows":69,"n_cols":13,"rows_kept":69,"cut":false,"hidden":true,"merged":[[23,12,24,19],[68,12,71,19],[3,0,4,9],[23,0,24,9],[68,0,71,8],[63,0,64,8],[43,0,44,9]]}
[]
[]
[]
["Click on option---------------------------------------------------------"]
[]
[]
[]
[]
[]
[]
[]
[]
[]
[]
[]
[]
[]
[]
[]
[]
[]
[]
[]
["Checkmark Both Enable the content then OK-----------------",null,null,null,null,null,null,null,null,null,null,null,"दोनो Redio Buttons को Checkmark  करे अन्यथा कुछ बटन काम नही करेंगे"]
[]
[]
[]
[]
[]
[]
[]
[]
[]
[]
[]
[]
[]
[]
[]
[]
[]
[]
[]
["Click on continue-----------------------------------------------------"]
[]
[]
[]
[]
[]
[]
[]
[]
[]
[]
[]
[]
[]
[]
[]
[]
[]
[]
[]
["Click on below button and install font----------------------"]
[]
[]
[]
[]
["Click on below button and install Google Hindi Input Tools-------------------------------------------------",null,null,null,null,null,null,null,null,null,null,null,"Click on below button and Read Instruction for Use--------------------------------------------------"]

{"sheet":"F6FrwrdLtr","index":105,"n_rows":39,"n_cols":12,"rows_kept":39,"cut":false,"hidden":true,"merged":[[37,5,37,7],[38,5,38,7],[5,10,6,12],[18,2,18,4],[19,2,19,4],[25,5,25,7],[26,5,26,7],[27,5,27,7],[31,1,31,3],[32,2,32,3],[36,5,36,7],[10,1,10,6],[12,1,12,2],[12,3,12,4],[13,0,13,5],[13,7,13,8],[16,0,16,1],[0,0,0,8],[4,1,4,4],[5,1,5,2],[6,1,6,2],[9,2,9,3],[9,5,9,8]]}
[{"$f":"Master!G2&Master!H2","v":"कार्यालय&राजकीय उच्च माध्यमिक विद्यालय ]चौगाई]टोंक"}]
[]
["dzekad%&",{"$f":"Master!H3&Master!I3&Master!J3&Master!E3&\"/\"","v":"राउमावि/चौगाई/संस्था/2021-22/"},null,null,null,null,null,"fnukad%&",{"$f":"TODAY()","v":"2021-06-19"}]
[null,"lsok esa]"]
[" ","Jheku~ eq[; CykWd f'k{kk vf/kdkjh egksn;"]
[null,"     iapk;r lfefr",null,null,null,null,null,null,null,null,"dkfeZd dk dzekad ntZ djsa"]
[null," Vksad"]
[null,null,null,null,null,null,null,null,null,null,null,11]
[]
[null,"fo\"k; &",{"$f":"(INDEX(EmpDetail!$B$4:$B$103,MATCH(F6FrwrdLtr!$L$8,EmpDetail!$A$4:$A$103,0)))","v":"NksVw yky jsxj"},null,{"$f":"(INDEX(EmpDetail!$C$4:$C$103,MATCH(F6FrwrdLtr!$L$8,EmpDetail!$A$4:$A$103,0)))","v":"अध्यापक ग्रेड III"},"}kjk v}Zokf\"kZdh vk;q iw.kZ djus ij lsokfuo`fr vkns'k tkjh"]
[null,"          djokus  ckcrA"]
["egksn; ]"]
[null,"funZs'kkuqlkj bl foHkkx ds",null,{"$f":"C10","v":"NksVw yky jsxj"},null,{"$f":"E10","v":"अध्यापक ग्रेड III"},"}kjk v}Zokf\"kZdh vk;q iw.kZ djus ij "]
["lsokfuo`fr vkns'k tkjh djokus gsrq nLrkost vxzsf\"kr fd;s tk jgs gS A budh tUe frfFk&",null,null,null,null,null,{"$f":"(INDEX(EmpDetail!$E$4:$E$103,MATCH(F6FrwrdLtr!$L$8,EmpDetail!$A$4:$A$103,0)))","v":"1967-07-10"},"gSAbudh lsokfuo`fr"]
[null,"  frfFk&","2021-03-31","gS A"]
[null,null,"d`i;k buds lsokfuo`fr vkns'k tkjh djokus dh d`ik djkosaA"]
["layXu& ",null,"1- lsok iqfLrdk ds izFke i`\"B dh QksVks izfrA"]
[null,null,"2- izk:i&6 'kiFk i=A"]
[null,null,"3- ---------------------------------------------------"]
[null,null,"4- ---------------------------------------------------"]
[]
[]
[]
[]
[]
[null,null,null,null,null,{"$f":"Master!B2","v":"प्रधानाचार्य"}]
[null,null,null,null,null,{"$f":"Master!B3","v":"राजकीय उच्च माध्यमिक विद्यालय "}]
[null,null,null,null,null,{"$f":"Master!B4","v":"चौगाई]टोंक"}]
[]
[]
[null,"izfrfyfi lwpukFkZ ,oa vko';d dk;Zokgh gsrq %&"]
[1,"Jheku~ ----------------------------------------------------------",null,null,"-------------------------------"]
[2,"lEcfU/kr ",{"$f":"C10","v":"NksVw yky jsxj"},null,{"$f":"E10","v":"अध्यापक ग्रेड III"}]
[3,"jf{kr i=koyh@isa'ku i=koyh A"]
[]
[]
[null,null,null,null,null,{"$f":"F26","v":"प्रधानाचार्य"}]
[null,null,null,null,null,{"$f":"F27","v":"राजकीय उच्च माध्यमिक विद्यालय "}]
[null,null,null,null,null,"चौगाई]टोंक"]

{"sheet":"LetrHead","index":106,"n_rows":20,"n_cols":14,"rows_kept":20,"cut":false,"hidden":true,"merged":[[15,1,15,13],[16,1,16,13],[17,1,17,13],[18,1,18,13],[11,3,11,13],[14,1,14,13],[8,2,8,13],[9,2,9,13],[10,3,10,13],[12,1,12,2],[13,2,13,13],[6,2,6,6],[0,1,0,13],[1,2,1,7],[3,1,3,2],[4,2,4,6],[5,2,5,6]]}
[null,{"$f":"Master!G2&Master!H2","v":"कार्यालय&राजकीय उच्च माध्यमिक विद्यालय ]चौगाई]टोंक"}]
[null,"dzekad&",{"$f":"Master!H3&Master!I3&Master!J3&Master!E3&\"/\"","v":"राउमावि/चौगाई/संस्था/2021-22/"},null,null,null,null,null,null,null,null,null,"fnukad&",{"$f":"TODAY()","v":"2021-06-19"}]
[]
[null,"lsok esa]"]
[null,null,"Jheku~ eq[; ftyk f'k{kk vf/kdkjh egksn;]"]
[null,null,"izk0f'k0 ftyk Vksad"]
[]
[]
[null,"fo\"k;&"," Jh n'kjFk dqekj ;kno ds vlk/kkj.k vodk'k izdj.k esa vk{ksi iwfrZ ckcr A"]
[]
[null,null,"lanHkZ&"]
[]
[null,"egksn;]"]
[null,null,"      mijksDr fo\"k;kUrxZr fuosnu gS Jh n'kjFk dqekj ;kno v/;k0 jkmizkfo lkSanhQy ds vlk/kkj.k vodk'k izdj.k esa vk{ksi"]
[null,"dh iwfrZ dj ewy lsok iqfLrdk Loa; Jh ;kno ds lkFk fHktokbZ tk jgh gS vr% Jheku~th ls fuosnu gS fd vlk/kkj.k vodk'k"]
[null,"lohd`r djokus dk Je djsa A"]
[]
[null,"                                                                                  iz/kkukpk;Z"]
[null,"                                                                                  jkt0 mPp ek/;0 fo|k0"]
[null,null,null,null,null,null,null,null,null,null,null,"     pkSxkbZ] Vksad"]

{"sheet":"CCLRule","index":107,"n_rows":31,"n_cols":2,"rows_kept":31,"cut":false,"hidden":true,"merged":[[0,0,0,1]]}
["pkbZYM ds;j yho (CCL)"]
[1,"jktLFkku lsok fu;e&1951 ds fu;e 103 ¼lh½ tksMdj jkT; ljdkj dh efgyk dkfeZdksa ds fy, lEiw.kZ lsokdky 730 fnol dh lhlh,y fn;s tkus dk izko/kku fd;k x;k gS A"]
[2,"lhlh,y ds dksbZ efgyk dkfeZd vf/kdkj Lo:i ekax ugha dj ldrh gS A"]
[3,"efgyk dkfeZd dks izFke 365 fnol dk lhlh,y vodk'k osru ij Lohd`r fd;k tk;sxk ,oa vxys 365 fnol dk 80 izfr'kr osru ij Lohd`r fd;k tk;sxk A"]
[4,"efgyk dkfeZd dks ,d le; esa vf/kdre 120 fnol dk lhlh,y dk;kZy;/;{k }kjk ,oa blls vf/kd dh Lohd`fr ds fy, foHkkxk/;{k l{ke gS A"]
[5,",d efgyk dkfeZd dks ,d le; esa U;wure 5 fnol dk lhlh,y Lohd`r fd;k tk ldrk gS A"]
[6,"efgyk dkfeZd dks ,d dsys.Mj o\"kZ esa vf/kdre 3 ckj gh lhlh,y Lohd`r fd;k tk ldrk gS A"]
[7,",d efgyk dkfeZd }kjk iwoZ esa Lohd`r gks pqdss ;k miHkksx esa fy;s tk jgs vU; izdkj ds vodk'kksa dks fdlh ifjfLfFkfr esa lhlh,y esa ifjofrZr ugha fd;k tk;sxk A"]
[8,"lhlh,y dk miHkksx vU; vodk'kksa dh fujUrjrk esa fd;k tk ldrk gS A"]
[9,"lhlh,y ds igys ;k ckn esa vkus okys jfookj o lkoZtfud vodk'kksa dk miHkksx fujUrjrk esa fd;k tk ldrk gS A"]
[10,";g vodk'k mikftZr vodk'k ds vuqlkj gh Lohd`r fd;k tk;sxk ijUrq vodk'k ys[ks esa ls ukes ugha fd;k tk;sxk cfYd fu/kkZfjr izk:i esa vyx ls la/kkfjr dj dkfeZd dh lsok iqfLrdk esa pLik fd;k tk;sxk A"]
[11,"ifjfo{kkdky esa lekU;kr;k ;g vodk'k Lohd`r ugha fd;k tk;sxk ysfdu fo'ks\"k ifjfLFkfr;ksa esa Lohd`r fd;k tkrk gS rks izkscs'ku vof/k mrus fnuksa rd vkxs c<sxh ftrus fnol dk ;g vodk'k Lohd`r fd;k tk;sxk A"]
[12,";fn ;g vodk'k ,d dsys.Mj o\"kZ ls izkjEHk gksdj vxys dsys.Mj o\"kZ rd pyrk gS rks vodk'k dh lEiw.kZ vof/k vodk'k izkjEHk gksus okys o\"kZ esa gh fxuh tk;sxh A "]
[13,"vodk'k ns;rk dh 'krsZ&"]
[null,"¼v½ ;g vodk'k efgyk dkfeZd dks mldh izFke nks thfor fof/kekU; ¼lsjksxslh enj ls mRiUu fy, ds ugha½ 18 o\"kZ ls de vk;q dh larkuksa ds ikyu ;k       ns[kHkky dh vko';drk tSls ijh{kk ;k chekj gksus ds dkj.k Lohd`r fd;k tk ldrk gS A"]
[null,"¼c½ ,dy iq:\"k ;Fkk vfookfgr@fonqj@rykd'kqnk dks Hkh ;g vodk'k ns; gS A"]
[null,"¼l½ ;g vodk'k 40 izfr'kr ;k vf/kd fu%'kDr larku ds fy, Hkh Lohd`r fd;k tk ldrk gS A"]
[null,"¼n½ ;g vodk'k xaHkhj jksx ls ihfMr@fnO;kax larku ds fy, Hkh Lohd`r fd;k tk ldrk gS A"]
[null,"¼;½ ;g vodk'k vkdfLed xaHkhj dkj.k tSls nq?kZVuk ds dkj.k larku ds fy, fo'ks\"k ns[kHkky dh vko';drk ds fy, Hkh Lohd`r fd;k tk ldrk gS A"]
[null,"¼j½ ;g vodk'k larku dh lsds.Mjh@lhfu;j lsds.Mjh ijh{kk@mPp O;kolkf;d laLFkku dh izos'k ijh{kk ds ns[kHkky fy, Hkh Lohd`r fd;k tk ldrk gS A"]
[null,"¼y½ ;g vodk'k rhu o\"kZ rd dh vk;q dh larku dh ikyuk fy, Hkh Lohd`r fd;k tk ldrk gS A"]
[null,"¼o½ Lohd`fr esa fo/kok@ifjR;Drk Js.kh dh efgykvksa dks izkFkfedrk nh tk;sxh A"]
[null,"¼'k½ ,d dk;kZy; esa dk;Zjr dqy dkfeZdksa dh la[;k ds 20 izfr'kr ls vf/kd dkfeZdksa dks ,d le; esa ;g vodk'k Lohd`r ugha fd;k tk;sxk A"]
[null,"¼\"k½ bl vodk'k dh Lohd`fr iwoZ dk;kZy;k/;{k ;g lqfuf'pr djsxk dh vodk'k Lohd`fr ls dk;kZy;@laLFkku dk dk;Z izHkkfor ugha gksxk ,oa dkfeZd ds      ikl ;fn dksbZ ,slk izHkkj rks ugha gS ftlls dk;kZy;@laLFkku@f'k{k.k laLFkk dk v/;;u izHkkfor gks A "]
[14,"vkosnu i= ds lkFk layXu nLrkost&"]
[null,"¼v½ fu/kkZfjr izk:i esa vkosnu i="]
[null,"¼c½ jk'ku dkMZ dh izfrfyfi"]
[null,"¼l½ thfor larkuksa ds tUe izek.k i="]
[null,"¼n½ larku dh fcekjh ls lacaf/kr nLrkost"]
[null,"¼;½ fnO;kaxrk izek.k i= dh izfr e; fuHkZjrk izek.k i= ;fn ykxw gks"]
[null,"¼j½ larku dh ijh{kk frfFk@izos'k laca/kh vko';d izek.k i=ksa dh izfr ;fn ykxw gks"]

{"sheet":"CCLAcct","index":108,"n_rows":38,"n_cols":11,"rows_kept":38,"cut":false,"hidden":true,"merged":[[0,9,1,11],[2,10,3,10],[1,2,1,3],[4,5,5,5],[0,0,0,5],[3,4,3,5],[1,0,1,1],[2,1,2,3],[4,0,4,2],[3,0,3,2],[4,3,4,4]]}
["Performa for Maintaining Child Care Leave Account",null,null,null,null,null,null,null,null,"dkfeZd dk dzekad fy[ks"]
["Name of Employee-",null,{"$f":"(INDEX(EmpDetail!$B$4:$B$103,MATCH(CCLAcct!$K$3,EmpDetail!$A$4:$A$103,0)))","v":"vklsQk [kku"}]
["Post-",{"$f":"(INDEX(EmpDetail!$C$4:$C$103,MATCH(CCLAcct!$K$3,EmpDetail!$A$4:$A$103,0)))","v":"अध्यापक ग्रेड III"},null,null,"Date of Birth-",{"$f":"(INDEX(EmpDetail!$E$4:$E$103,MATCH(CCLAcct!$K$3,EmpDetail!$A$4:$A$103,0)))","v":"1971-01-10"},null,null,null,null,14]
["Date of Joining in Regular Service-",null,null,{"$f":"(INDEX(EmpDetail!$G$4:$G$103,MATCH(CCLAcct!$K$3,EmpDetail!$A$4:$A$103,0)))","v":"00:00:00"}]
["Period of Child Care leave Taken",null,null,"Balance Child Care Leave",null,"Signature and Designation the certifying officer"]
["From","To","Total days","Balance ","Date"]
[1,2,3,4,5,6]
["2020-05-01","2020-05-31",{"$f":"IF(A8=\"\",\"\",B8-A8+1)","v":31},{"$f":"IF(C8=\"\",\"\",730-C8)","v":699},"2020-12-31"]
["2020-07-01","2020-09-30",{"$f":"IF(A9=\"\",\"\",B9-A9+1)","v":92},{"$f":"IF(C9=\"\",\"\",D8-C9)","v":607},"2020-12-31"]
["2020-12-01","2020-12-31",31,{"$f":"IF(C10=\"\",\"\",D9-C10)","v":576},"2020-12-31"]
[null,null,"",""]
[null,null,"",""]
[null,null,"",""]
[null,null,"",""]
[null,null,"",""]
[null,null,"",""]
[null,null,"",""]
[null,null,"",""]
[null,null,"",""]
[null,null,"",""]
[null,null,"",""]
[null,null,"",""]
[null,null,"",""]
[null,null,"",""]
[null,null,"",""]
[null,null,"",""]
[null,null,"",""]
[null,null,"",""]
[null,null,"",""]
[null,null,"",""]
[null,null,"",""]
[null,null,"",""]
[null,null,"",""]
[null,null,"",""]
[null,null,"",""]
[null,null,"",""]
[null,null,"",""]
[null,null,"",""]

{"sheet":"Power3","index":109,"n_rows":11,"n_cols":3,"rows_kept":11,"cut":false,"hidden":true,"merged":[[0,0,0,2],[1,0,1,2]]}
["vkgj.k forj.k vf/kdkj fu;e&03"]
["izdj.k lwfp"]
["dz0la0","uke QkbZy","fuEu Vsc ij fDyd djsa"]
[{"$f":"IF(B4=\"\",\"\",1)","v":1},"vkgj.k forj.k vf/kdkj fu;e"]
[{"$f":"IF(B5=\"\",\"\",A4+1)","v":2},"dk;kZy; dofjax ysVj "]
[{"$f":"IF(B6=\"\",\"\",A5+1)","v":3},"vkg-for-vf/k- lgefr i="]
[4,"vkg-for-vf/k- QkWjesV"]
[5,"uewuk gLrk{kj QkWjesV dks\"k dk;kZy;"]
[6,"Mksaxy ,fDVos'ku i="]
[7,"Mksaxy Mh,fDVos'ku i="]
[""]

{"sheet":"PowrFormate","index":110,"n_rows":7,"n_cols":11,"rows_kept":7,"cut":false,"hidden":true,"merged":[[3,10,6,10],[3,9,6,9],[0,0,0,10],[1,0,1,10],[3,0,6,0],[3,3,6,3],[3,4,6,4],[3,5,6,5],[3,6,6,6],[3,7,6,7],[3,8,6,8]]}
["dk;kZy;& ftyk f'k{kk vf/kdkjh ¼ek/;fed½ Vksad jkt"]
["lkekU; foRr ,oa ys[kk fu;e 1952 ds fu;e 03 ds rgr vkgj.k forj.k fn;s tkus ds izLrko"]
["dz-la-","laLFkk dk uke o dk;kZy;k/;{k dk inuke ftlds fy, vkgj.k forj.k vf/kdkj fn, tkus gS ","vf/kdkjh dk uke@inuke@LFkku ftldks vkgj.k forj.k vf/kdkj fn, tkus gS e; tUefrfFk","dkWye la[;k 3 esa vafdr vf/kdkjh dk p;u ;Fkk vkj ih ,l lh@Mh ih lh@rnFkZ@ik-os vafdr djsa","dkWye la[;k 2 o 3 ijLij nwjh fdeh esa","lacaf/kr dks\"k@midks\"k dk uke","foHkkxh; tkap dh fLFkfr","dkWye la[;k 3 ds vf/kdkjh dks fdrus laLFkk@dk;kZy; ds vkgj.k forj.k vf/kdkj gSa","ys[kkdehZ dh fVIi.kh ifji= ds fcUnw la[;k 1 o 2 ds vuqlkj ","la/kkfjr jftLVj dk dzekad o fnukad","fo-fo-"]
[1,"iz/kkukpk;Z","Jh iwj.k pUn y{kdkj","inkSUufr","5 fdeh","ihiyw","dksbZ ugha","dksbZ ugha"]
[null,"jkt- mPp ek/;- fo|k- cxMok] Vksad","O;k[;krk"]
[null,"MhMhvks dksM&27304","jkmekfo pkSxkbZa Vksad"]
[null,null,"DOB- 10-03-1972"]

{"sheet":"PwrFrLt","index":111,"n_rows":20,"n_cols":10,"rows_kept":20,"cut":false,"hidden":true,"merged":[[9,0,9,1],[10,1,10,9],[11,1,11,3],[1,1,1,4],[0,0,0,9],[11,5,11,7],[3,1,3,5],[4,1,4,5],[5,1,5,5],[7,1,7,9],[8,1,8,9],[11,8,11,9],[19,6,19,9],[15,0,15,4],[18,6,18,9],[17,6,17,9],[12,0,12,1],[12,2,12,9],[13,1,13,9],[14,0,14,3],[14,4,14,6],[14,7,14,9]]}
[{"$f":"Master!G2&Master!H2","v":"कार्यालय&राजकीय उच्च माध्यमिक विद्यालय ]चौगाई]टोंक"}]
["dzekad&",{"$f":"Master!H3&Master!I3&Master!J3&Master!E3&\"/\"","v":"राउमावि/चौगाई/संस्था/2021-22/"},null,null,null,null,null,null,"fnukad&",{"$f":"TODAY()","v":"2021-06-19"}]
["lsok esa]"]
[null,"Jheku~ ftyk f’k{kk vf/kdkjh¼ek0½ egksn;"]
[null,"ftyk Vksad ¼jkt0½"]
[]
[]
["fo\"k;&","lkekU; fofRr; ys[kk fu;e 1952 ds fu;e 03 ds rgr vkgj.k forj.k vf/kdkj fnyokus ckcr~ A"]
[]
["egksn;]"]
[null,"mijksDr fo\"k;kUrxZr fuosnu gS fd fd LFkkuh; dk;kZy; ds vkgj.k forj.k vf/kdkjh"]
["Jh@Jhefr","fd'ku yky cSjok",null,null,"dk","स्थानांतरण",null,null,"gksus ds dkj.k"]
["कार्यमुक्त",null,"fd;s tkus ds dkj.k vkgj.k forj.k vf/kdkjh dk in fjDr gks x;k gS A"]
[null,"vr% Jheku~th ls fuosnu gS fd LFkkuh; dk;kZy; ds osru vkgj.k ,oa fofRr; ysunsu gsrw "]
["vkgj.k forj.k vf/kdkj Jh@Jhefr",null,null,null,"iwj.k pUn y{kdkj",null,null,"O;k[;krk jkmekfo pkSxkbZa Vksad"]
["dks Lohd`r djokus dk Je djsa A"]
[]
[null,null,null,null,null,null,{"$f":"Master!B2","v":"प्रधानाचार्य"}]
[null,null,null,null,null,null,{"$f":"Master!B3","v":"राजकीय उच्च माध्यमिक विद्यालय "}]
[null,null,null,null,null,null,{"$f":"Master!B4","v":"चौगाई]टोंक"}]

{"sheet":"PwrConsent","index":112,"n_rows":15,"n_cols":8,"rows_kept":15,"cut":false,"hidden":true,"merged":[[2,1,2,3],[4,0,4,7],[0,0,0,7],[14,5,14,7],[9,0,9,7],[10,0,10,7],[8,5,8,7],[6,1,6,3],[6,5,6,7],[7,0,7,1],[7,2,7,5],[7,6,7,7],[8,1,8,4],[12,5,12,7],[13,5,13,7]]}
["dk;kZy;&jktdh; mPp ek/;fed fo|ky;&pkSxkbZa] Vksad"]
[]
["dzekad&",null,null,null,null,null,"fnukad&",{"$f":"TODAY()","v":"2021-06-19"}]
[]
["vkgj.k forj.k vf/kdkj lgefr i="]
[]
["eSa","iwj.k pUn y{kdkj",null,null,"in&","O;k[;krk"]
["inLFkkiu LFkku&",null,"jkt- mPp ek/;- fo|k- pkSxkbZa] Vksad",null,null,null,"lgefr nsrk gwa fd"]
[";fn eq>s","jkt- mPp ek/;- fo|k- cxMok] Vksad",null,null,null," ds fofRr; ysunsu ,oa osru "]
[" vkgj.k gsrw lkekU; fofRr; ys[kk fu;e 1952 ds fu;e 3,@3ch ds rgr forj.k "]
[" vkgj.k vf/kdkj fn;s tkrs gS rks eq>s dksbZ vkifRr ugha gksxh A"]
[]
[null,null,null,null,null,{"$f":"B7","v":"iwj.k pUn y{kdkj"}]
[null,null,null,null,null,{"$f":"F7","v":"O;k[;krk"}]
[null,null,null,null,null,{"$f":"C8","v":"jkt- mPp ek/;- fo|k- pkSxkbZa] Vksad"}]

{"sheet":"PwrRule","index":113,"n_rows":12,"n_cols":2,"rows_kept":12,"cut":false,"hidden":true,"merged":[[0,0,0,1]]}
["vkgj.k forj.k vf/kdkj fu;e 03 "]
[1,"lkekU; fofRr; ,oa ys[kk fu;e 1952 ds fu;e 03 , ds vUrxZr foHkkxk/;{k dks bu vkSj ljdkj ds vU; fofRr; fu;eksa ds iz;kstu ds fy, vius v/khuLFk fdlh jktif=r vf/kdkjh ds dk;kZy; ds fy, izeq[k ds :i esa ?kksf\"kr djus dh 'kfDr gksxh A"]
[2,"lkekU; fofRr; ,oa ys[kk fu;eksa ds fu;e 03 ch ds vUrxZr dk;kZy; ds izeq[k fdlh Hkh jktif=r vf/kdkjh dks viuh vksj ls fdlh fcy ;k vkns'k ij gLrk{kj djus ds fy, vf/kd`r dj ldrs gSa ysfdu blls dk;kZy;k/;{k ds vius nkf;Ro de ugha gks ldrs gS] fQj Hkh jktif=r vf/kdkfj;ksa ,oa vius fcyksa ij gLrk{kj Loa; vkgj.k forj.k vf/kdkjh gh djsaxs rFkk bl izdkj vf/kd`r djus dh lwpuk dks\"kky; dks nsuh gksxh ,oa uewus ds gLrk{kj dks\"kky; dks Hkstdj lwfpr djsaxsa A"]
[3,"vkgj.k forj.k vf/kdkj gsrw layXu nLrkost"]
[null,"¼v½ vkgj.k forj.k vf/kdkjh ds in fjDr gksus ds dkj.k vkns'k dh izfr"]
[null,"¼c½ vkgj.k forj.k vf/kdkjh ds in fjDr gksus ds dkj.k dk;ZeqfDr vkns'k dh izfr"]
[null,"¼l½ vkgj.k forj.k vf/kdkjh ds izHkkj gLrkarj.k dh izfr"]
[null,"¼n½ u;s vf/kdkjh ds inLFkkiu vkns'k dh izfr"]
[null,"¼;½ u;s vf/kdkjh dk lgefr i="]
[null,"¼y½ u;s vf/kdkjh dk lgefr i="]
[4,";fn dk;kZy;k/;{k in fjDr gks rks mlh dk;kZy; ds ofj\"Bre jktif=r vf/kdkjh dks Hkh vkgj.k forj.k vf/kdkj fey ldrsa gSa A"]
[5,";fn dk;kZy;k/;{k in fjDr gks rks 15 fdeh ls vf/kd nwj inLFkkfir vf/kdkjh@jktif=r vf/kdkjh dks vkgj.k forj.k vf/kdkj ugha fey ldrk gSa A"]

{"sheet":"SignSampl","index":114,"n_rows":11,"n_cols":4,"rows_kept":11,"cut":false,"hidden":true,"merged":[[0,0,0,3],[1,0,1,3],[2,0,2,3],[6,2,6,3]]}
["dk;kZy;&dks\"kkf/kdkjh@midks\"kkf/kdkjh] ihiyw Vksad"]
["izekf.kr gLrk{kj dkMZ"]
["¼lk- fo- ys- fu-1952 fu;e 3, o 3ch 242 ds vUrxZr vkgj.k forj.k vf/kdkfj;ksa gsrw ½"]
[1,"vkgj.k forj.k vf/k0 dk uke o in&","Jh iwj.k pUn y{kdkj","O;k[;krk"]
[2,"pktZ ysus dh fnukad ¼vijkUg@iwokZUg½&","21-04-2021   iwokZUg","eks0ua0&9982115463"]
[3,"vkns'k dzekad o fnukad&","f'kfojk@fcdk@lkfoysfu@2021 fn- 20-04-2021","ftlls vf/kd`r fd;k x;k gSa A"]
[4,"cSad dk uke ftlls Hkqxrku fd;k tkuk gS","STATE BANK OF INDIA TONK"]
["dz0la0","vkgj.k o forj.k vf/kdkjh uewus ds gLrk{kj","izekf.kr djus okys vf/kdkjh ds gLrk{kj","fo'ks\"k fooj.k"]
[1]
[2]
[3]

{"sheet":"CompssantRul","index":115,"n_rows":28,"n_cols":2,"rows_kept":28,"cut":false,"hidden":true,"merged":[]}
[null,"vuqdEikRed fu;qfDr fu;e"]
[1,"मृतक आश्रित की परिभाषा- आश्रित अनुकम्पा नियुक्ति नियम 1996 के नियम 2(ग) के अनुसार अनुकम्पा नियुक्ति हेतु आश्रित में कार्मिक  की पत्नी/पति, पुत्र, अविवाहित पुत्री (परित्यक्ता पुत्री को भी अविवाहित की श्रेणी में माना जाता है), विधवा पुत्री एवं मृत कर्मचारी द्वारा अपने जीवनकाल में वैधानिक रूप से ग्रहीत दत्तक पुत्र/पुत्री को आश्रित माना जाता है। \n"]
[null,"नोट :- राज्य सरकार के निर्णय एवं कार्मिक विभाग के स्पष्टीकरण आदेश दिनांक 31.05.2016 के अनुसार मृतक कार्मिक का ऐसा पुत्र, जिसकी पत्नी/पुत्र/अविवाहित पुत्री पूर्व से ही नियोजित है तो उस पुत्र को मृतक कार्मिक आश्रित श्रेणी में नही माना जाएगा। फलतः ऐसे पुत्र को अनुकम्पा नियुक्ति देय नही होगी।"]
[2,"यदि पति-पत्नी दोनों राजकीय सेवा में है तो पति के देहांत उपरान्त किसी भी आश्रित को अनुकम्पा नियुक्ति नही मिलेगी।"]
[3,"कार्मिक विभाग के आदेश दिनांक 26.04.2011 एवं संशोधन आदेश दिनांक 25/04/2012 के अनुसार प्रोबेशन ट्रेनी को परिवीक्षाकाल में मृत्यु होने पर आश्रित को नियमानुसार अनुकम्पा नियुक्ति का लाभ देय होता है।"]
[4,"अनुकम्पा नियुक्ति नियम 1996 में भाई या बहिन को मृतक आश्रित की परिभाषा में सम्मिलित नही किया गया है। अतः ऐसे मामलों में अनुकम्पा नियुक्ति तो देय नही होगी लेकिन नॉमिनेशन के अनुसार अन्य परिलाभों का भुगतान नॉमिनी को किया जाएगा।"]
[5,"अनुकम्पा नियुक्ति की देयता- अनुकम्पा नियुक्ति नियम 1996 के नियम 5 के अनुसार कार्मिक की डेथ होने के बाद उसकी पत्नी या पति, कोई एक ज्येष्टतम पुत्र,अविवाहित पुत्री, दत्तक पुत्र या अविवाहित दत्तक पुत्री केंद्र या राज्य सरकार अथवा केंद्र या राज्य सरकार के कानूनी बोर्ड़, संगठन, निगम में पहले से नियोजित है तो किसी आश्रित को अनुकम्पा नियुक्ति देय नही होगी। परन्तु जहां कार्मिक की विधवा पत्नी स्वयं के लिए अनुकम्पा नियुक्ति का आवेदन करती है तो उसे अनुकम्पा नियुक्ति दी जाएगी।  उस पर यह शर्ते लागू नही होगी।"]
[6,"आयु सीमा- अनुकम्पा नियुक्ति नियम 1996 के  नियम 8 के अनुसार आयु सीमा -"]
[null,"(1) अनुकम्पा नियुक्ति के लिए आवेदन के पात्र हेतु न्यूनतम 16 वर्ष (केवल लिपिक पद हेतु इस शर्त के साथ की जब तक 18 व वर्ष कि उम्र पूर्ण नही करे, वित्तिय मामलो का कार्य नही सोंपा जाये पेंशन योग्य सेवा 18 वर्ष कि आयु होने से ही गिना जायेगा)  अधिकतम 40 वर्ष निर्धारित की गई है।"]
[null,"(2) किसी विधवा की नियुक्ति हेतु कोई ऊपरी (अधिकतम) आयु सीमा नही है।"]
[null,"(3)अन्य आश्रितों के लिए अधिकतम ऊपरी सीमा में 5 वर्ष शिथिलन देय होता है।"]
[null,"नाबालिग आश्रित के आयु में शिथिलन राज्य सरकार द्वारा दिया जाता है। अतः इस हेतु निर्धारित समय सीमा में सम्बन्धित प्रशासनिक विभाग द्वारा कार्मिक विभाग को भेजा जाएगा।"]
[7,"यदि पति/पत्नी स्वय नियुक्ति नही चाहे और शेष आश्रितो मे ज्येष्टतम ने भी 18 वर्ष की आयु पूर्ण नही की हो (इस आशय की सूचना कार्मिक की मृत्यु के 90 दिवस मे देनी होगी) तो वहा आवेदन देने की परिसीमा की कालावधि एसे ज्येष्टतम आश्रित की आयु 18  वर्ष पूर्ण होने की तारीख से प्रारम्भ होगी । अत: प्रथम नियुक्ति आश्रितो मे ज्येष्टतम को ही मिलेगी ।"]
[null,"आवेदन की समय सीमा- अनुकम्पा नियुक्ति हेतु आवेदन पत्र जमा करवाने के लिए 90 दिन की समय सीमा निर्धारित है। अतः मृतक आश्रित को निर्धारित समय सीमा के भीतर अपना आवेदन पत्र अपने कार्यालयाध्यक्ष के पास अवश्य जमा करवा देना चाहिए और आवेदन की पावती भी प्राप्त कर लेनी चाहिए। "]
[8,"वित्त विभाग के आदेश 19/09/2003 के अनुसार वर्क चार्ज कार्मिक की मृत्यु होने पर उनके आश्रितों को भी नियमानुसार अनुकंम्पा नियुक्ति देय होती है।"]
[9,"अनुकम्पा नियुक्ति हेतु  निर्धारित योग्यता"]
[null,"(1) कनिष्ठ सहायक (LDC)  पद (L-5) के लिए - शैक्षणिक योग्यता सीनियर सेकण्डरी उत्तीर्ण एवं कम्प्यूटर कोर्स उत्तीर्ण होना जरूरी है। हालांकि कम्प्यूटर कोर्स बाद में 2 वर्ष के परीविक्षाकाल मे भी उतीर्ण किया जा सकता है। कम्प्यूटर योग्यता निर्धारित अवधि में प्राप्त नही करने पर आदेश दिनांक 02.01.2017 के अनुसार कार्मिक जितनी विलम्ब अवधि से योग्यता अर्जित करेगा उतनी ही अवधि के लिए परिवीक्षाकाल को आगे बढ़ाया जाएगा।\nनिर्धारित समयावधि में टंकण परीक्षा उत्तीर्ण नही होने तक कोई वेतनवृद्धि नही दी जाएगी।\n"]
[null,"नोट :- अनुकम्पा नियुक्ति प्राप्त विधवा महिला एवं निःशक्त कार्मिको को टंकण परीक्षा उत्तीर्ण करने से छूट दी गई है। पैरों से विकलांग कार्मिक को टंकण परीक्षा में छूट देय नही है।"]
[null,"(2) विज्ञान या कृषि संकाय से सीनीयर सेकण्डरी पास आश्रित प्रयोगशाला सहायक (L-8) के लिए आवेदन कर सकते है। इसमे पे लेवल 8 के अनुसार वेतन मिलता है।"]
[null,"(3) चतुर्थ श्रेणी कर्मचारी (L-1) के लिए साक्षर होना आवश्यक है।"]
[null,"(4) वर्तमान मे राज्य सरकार ने अनुकम्पा नियुक्ति नियम मे संशोधन किया है जिसके अनुसार अब पे लेवल 10 पर भी अध्यापक के पद पर नियुक्ति दी जा सकेगी । (केवल वध की स्थिति मे)"]
[null,"(5)कार्मिक विभाग की अधिसूचना दिनांक 02.08.2001 एवं 25.04.2012 के अनुसार यदि किसी कार्मिक की अपने पदीय कर्तव्यों के पालन के दौरान निधन हो जाता है तो उसके आश्रित को अर्हक योग्यता होने पर आदेश दिंनाक 03.07.2019 के अनुसार पेमेट्रिक L-10 और L-11 (ग्रेड पे 3600 एवं 4200) में नियुक्ति दी जा सकती है। सामान्य प्रकरणों में अनुकम्पा नियुक्ति कनिष्ठ सहायक, प्रयोगशाला सहायक और चतुर्थ श्रेणी कर्मचारी के पद पर ही दी जाती है।"]
[10,"दो से अधिक संतान का नियम-"]
[null,"किसी विवाहित आश्रित के 2 से अधिक संतान होने पर वह अनुकम्पा नियुक्ति के लिए पात्र नही होगा। आश्रित को इस आशय का शपथ पत्र आवेदन पत्र के साथ देना अनिवार्य है। वित्त विभाग के आदेश 29/10/2005 के अनुसार 2 अधिक संतान का नियम मृतक की विधवा की नियुक्ति के मामले  पर लागू नही होगा।"]
[11,"पद मे बदलाव- अनुकम्पा नियुक्ति नियम 1996 के अनुसार किसी पद पर एक बार नियुक्ति स्वीकार कर लेने एवं कार्यग्रहण कर लेने के बाद आश्रित सुविधा का उपभोग मान लिया जाता है । एक बार उक्त सुविधा का लाभ ले लेने के पश्चात किसी भी परिस्थिति में अन्य पद पर नियुक्ति के लिए विचार नही किया जाएगा।"]
[12,"एक बार नियुक्ति आदेश जारी होने पर यदि कोई आश्रित कार्यग्रहण नही करता है तो नियुक्ति आदेश जारी होने के 90 दिवस मे दूसरे आश्रित द्वारा आवेदन करने पर अन्य आश्रित की नियुक्ति पर विचार किया जा सकता है ।        -आदेश- एफ 5 (51) कार्मिक/क-2/88 पार्ट दिनांक 25-04-2012"]
[13,"अनुकम्पा आवेदन के साथ संलग्न दस्तावेज-"]
[null,"अनुकम्पा नियुक्ति हेतु निर्धारित आवेदन पत्र पूर्ण भरा हुआ, मृतक आश्रित के परिवार में किसी के भी राज्य/केंद्र/संगठन में सेवारत/नियोजन में नही होने का प्रमाणपत्र, अभ्यर्थी के शैक्षणिक योग्यता प्रमाणपत्र, आवेदक के जाति/मूल निवासी/विवाह/चरित्र प्रमाणपत्र, आवेदक की जन्मतिथि हेतु आयु प्रमाणपत्र या आयु सम्बन्धी दस्तावेज, विवाह के समय दहेज नही लेने का नोटेराइज्ड शपथपत्र, धूम्रपान एवं गुटखा सेवन नही करने का नोटेराइज्ड शपथपत्र, आवेदक का स्वास्थ्य एवं पुलिस सत्यापन प्रमाणपत्र, मृतक कार्मिक का मृत्यु प्रमाणपत्र एवं सेवा समाप्ति  आदेश की प्रतिलिपि, आवेदक की नियुक्ति हेतु आश्रित सदस्यों का नोटरी युक्त सहमति पत्र, आवेदक द्वारा आश्रित सदस्यों के भरण पोषण का नोटेराइज्ड शपथ पत्र, मृत कार्मिक की सेवा नियमित एवं निरन्तरता संबंधित प्रमाणपत्र, कार्यालयाध्यक्ष का अनुशंषा प्रमाणपत्र, आश्रित सदस्यों का आय के संबंध में आय उद्घोषणा पत्र, आवेदक पुत्री होने पर अविवाहित होने का प्रमाणपत्र, आवेदक पति/पत्नी है तो पुनः विवाह नही करने का प्रमाणपत्र आदि।"]

{"sheet":"AppFrm","index":116,"n_rows":100,"n_cols":9,"rows_kept":100,"cut":false,"hidden":true,"merged":[[97,5,97,6],[98,2,98,4],[99,2,99,4],[88,5,88,6],[90,0,90,6],[92,0,92,4],[93,0,93,5],[94,0,94,1],[96,5,96,6],[87,5,87,6],[73,4,73,6],[74,4,74,6],[75,0,75,6],[76,0,76,6],[77,0,77,6],[78,1,78,2],[80,1,80,6],[81,1,81,2],[82,1,82,2],[84,1,84,6],[85,1,85,3],[72,4,72,6],[58,3,58,4],[60,0,60,6],[61,0,61,6],[62,1,62,3],[63,0,63,6],[64,0,64,6],[65,0,65,1],[68,1,68,6],[69,1,69,3],[69,4,69,6],[71,4,71,6],[57,3,57,4],[41,1,41,3],[41,4,41,6],[42,5,42,6],[43,5,43,6],[44,5,44,6],[48,0,48,6],[49,0,49,6],[51,1,51,6],[52,0,52,6],[53,0,53,6],[56,5,56,6],[38,1,38,3],[38,4,38,6],[39,1,39,3],[39,4,39,6],[40,1,40,3],[40,4,40,6],[35,1,35,3],[35,4,35,6],[36,1,36,3],[36,4,36,6],[37,1,37,3],[37,4,37,6],[25,0,25,6],[26,0,26,6],[33,1,33,3],[33,4,33,6],[34,1,34,3],[34,4,34,6],[13,1,13,6],[7,1,7,3],[7,4,7,6],[8,1,8,3],[8,4,8,6],[9,1,9,3],[9,4,9,6],[10,1,10,3],[10,4,10,6],[11,1,11,3],[11,4,11,6],[12,1,12,6],[4,1,4,3],[4,4,4,6],[5,1,5,3],[5,4,5,6],[6,1,6,3],[6,4,6,6],[0,0,0,6],[1,0,1,6],[1,7,1,9],[2,0,2,6],[3,1,3,3],[3,4,3,6]]}
["vuqdEikRed fu;qfDr gsrw vkosnu i="]
["आवेदन-पत्र",null,null,null,null,null,null,"dkfeZd dk dzekad fy[ksa"]
["भाग - 1",null,null,null,null,null,null,null,33]
[1,"मृतक राज्य कर्मचारी का नाम-",null,null,{"$f":"(INDEX(EmpDetail!$B$4:$B$103,MATCH(AppFrm!$I$3,EmpDetail!$A$4:$A$103,0)))","v":"d`\".kk xaxoky"}]
[null,"पद -",null,null,{"$f":"(INDEX(EmpDetail!$C$4:$C$103,MATCH(AppFrm!$I$3,EmpDetail!$A$4:$A$103,0)))","v":"अध्यापक ग्रेड III"}]
[2,"निधन की दिनांक- (मृत्यु प्रमाण-पत्र संलग्न करें)",null,null,"2020-03-23"]
[null,"निधन का स्थान-",null,null,"ihiyw"]
[3,"विभाग का नाम जिसमें वह मृत्यु के समय कार्यरत था-",null,null,{"$f":"(INDEX(EmpDetail!$D$4:$D$103,MATCH(AppFrm!$I$3,EmpDetail!$A$4:$A$103,0)))","v":"राउप्रावि गोरधनपुरा"}]
[4,"मृत्यु के समय धारित पद-",null,null,{"$f":"(INDEX(EmpDetail!$C$4:$C$103,MATCH(AppFrm!$I$3,EmpDetail!$A$4:$A$103,0)))","v":"अध्यापक ग्रेड III"}]
[null,"मृत्यु के समय का वेतनमान-",null,null,{"$f":"(INDEX(EmpDetail!$K$4:$K$103,MATCH(AppFrm!$I$3,EmpDetail!$A$4:$A$103,0)))","v":33800}]
[5,"नियुक्ति का प्रकार : (स्थाई/ अस्थाई)-",null,null,"स्थाई"]
[6,"राजकीय सेवा मे प्रथम नियुक्ति का दिनांक-",null,null,{"$f":"(INDEX(EmpDetail!$F$4:$F$103,MATCH(AppFrm!$I$3,EmpDetail!$A$4:$A$103,0)))","v":"2018-12-21"}]
[7,"मृतक कर्मचारी के परिवार के सदस्यो का विवरण:-"]
[null,"(केवल परिवार के सदस्यो के ही नाम लिखे जाये)"]
["क्र.स.","नाम","मृतक से संबंध","जन्म दिनांक एवं आयु","शैक्षणिक योग्यता","विवाहित/\nअविवाहित","मासिक आय*  रूपये"]
[1,"lhrk nsoh","ifRu","1971-01-01","fuj{kj","अविवाहित",0]
[2,"jekdkUr oekZ","iq=","2000-10-20","ch-, ch-,M","अविवाहित",0]
[3,"ljhrk","iq=h","2002-01-11","ch-, ch-,M","अविवाहित",0]
[4,"ljhrk","iq=h","2002-01-11","ch-, ch-,M","अविवाहित",0]
[5,"ljhrk","iq=h","2002-01-11","ch-, ch-,M","अविवाहित",0]
[6,"ljhrk","iq=h","2002-01-11","ch-, ch-,M","अविवाहित",0]
[]
["* नियम 10(3) मे यथा विर्णित शपथ-पत्र संलग्न करे"]
[]
[]
["भाग - 2"]
["राजकीय सेवा मे नियुक्ति हेतु आवेदन करने वाले आश्रित का विवरण-"]
[]
[]
[]
[]
[]
[]
[1,"आवेदक का नाम-",null,null,"jekdkUr oekZ"]
[2,"आवेदक की जन्मतिथि-",null,null,"2000-10-20"]
[null,"आवेदक की आयु-",null,null,20]
[3,"शै‍क्षणिक योग्यता-\n(प्रमाण-पत्र संलग्न करे)",null,null,"ch-,- ch-,M"]
[4,"मृतक राज्य कर्मचारी से सम्बन्ध-",null,null,"firk&iq="]
[5,"आवेदित पद का नाम-",null,null,"dfu\"B lgk;d"]
[null,"वेतनमान-",null,null,"20500  L-8"]
[null,"आवेदक का स्थाई पता -",null,null,"xzke iks0 ihiyw rg0 ihiyw ftyk Vksad"]
[null,null,null,null,"fiu&304801"]
[]
[null,null,null,null,null,"आवेदक के हस्ताक्षर"]
[null,null,null,null,null,{"$f":"E34","v":"jekdkUr oekZ"}]
[]
[]
[]
["भाग - 3"]
["यदि आवेदक विधवा स्वयं नही हे तो विधवा/अन्य आश्रितों की सहमति "]
[]
[null,"मैने आवेदन के भाग (1) व (2) मे उल्लिखित सूचना पढ ली है ।  भली प्रकार"]
["सुन ली है । आवेदक को नोकरी दिये जाने हेतु मेरी/अन्य आश्रितों की सहमति है। जिसके समर्थन में मेरा/अन्य"]
["आश्रितों का घोषणा पत्र संलग्न है ।"]
[]
[]
[null,null,null,null,null,"विधवा के हस्ताक्षर"]
[null,"साक्ष्‍य :-",1,"........................................... "]
[null,null,2,"........................................... "]
[]
["भाग - 4"]
[{"$f":"[3]Master!G2&[3]Master!H2","v":"कार्यालय&राजकीय उच्च माध्यमिक विद्यालय ]चौगाई]टोंक"}]
["क्रमांक-",{"$f":"[3]Master!H3&[3]Master!I3&[3]Master!J3&[3]Master!E3&\"/\"","v":"राउमावि/चौगाई/संस्था/2021-22/"},null,null,null," दिनांक-",{"$f":"TODAY()","v":"2021-06-19"}]
["कार्यालयाध्यक्ष का प्रमाण-पत्र"]
[]
["प्रमाणित किया जाता है कि :-"]
[1,"आवेदन पत्र विभाग में दिनांक","2021-05-16","को प्राप्त हुआ है जो कि "]
[null,"डायरी संख्या -",1817,"दिनांक-","2021-05-16","पर दर्ज है ।"]
[2,"आवेदन पत्र मे अंकित सूचनायें मृतक कर्मचारी के सेवा अभिलेख के अनुसार सही "]
[null,"है । नियमों के अनुसार आवेदक आवेदित पद- ",null,null,"dfu\"B lgk;d"]
[null,"पर नियुक्ति का पात्र है ।"]
[null,null,null,null,{"$f":"[3]Master!B2","v":"प्रधानाचार्य"}]
[null,null,null,null,{"$f":"[3]Master!B3","v":"राजकीय उच्च माध्यमिक विद्यालय "}]
[null,null,null,null,{"$f":"[3]Master!B4","v":"चौगाई]टोंक"}]
[]
["भाग - 5"]
["dk;kZy;& ftyk f'k{kk vf/kdkjh eq[;ky; ek/;fed f'k{kk Vksad] jkt0"]
["विभागाध्यरक्ष  का प्रमाण-पत्र यदि आवेदन पत्र अन्य विभाग को भेजा जाना है"]
["dzekad&",null,null,null,null,"fnukad&"]
["प्रमाणित किया जाता है कि :-"]
[1,"आवेदक आवेदित पद पर नियुक्ति का पात्र है किन्तु  यह पद  "]
[null,"ek/;fed f'k{kk",null,"विभाग मे नही है । अत: "]
[null,"nsoLFkku foHkkx",null,"को अग्रेषित किया जा रहा है ।"]
[]
[2,"मृतक कर्मचारी के नियम के पश्चा.त आज तक उसके स्थान पर किसी भी "]
[null,"आश्रित को किसी भी पद पर नियुक्ति नही दी गई है ।"]
[]
[null,null,null,null,null,"हस्ताक्षर विभागाध्‍यक्ष"]
[null,null,null,null,null,"(मय कार्यालय सील)"]
[]
["आवेदक का प्रमाण-पत्र"]
[]
["मै प्रमाणित करता हॅूं कि आवेदन पत्र के भाग (1) व (2) मे वर्णित तथ्य मेरी "]
["जानकारी में सही है । यदि भविष्य मे कोई भी तथ्य असत्य पाया जावे तो मेरी सेवाऐं "]
["समाप्ती  की जा सकेगीं ।"]
[]
[null,null,null,null,null,"आवेदक के हस्ताक्षर"]
[null,null,null,null,null,{"$f":"E34","v":"jekdkUr oekZ"}]
["साक्ष्य:-",1,"..........................................."]
[null,2,"..........................................."]

{"sheet":"CheckLstD","index":117,"n_rows":26,"n_cols":4,"rows_kept":26,"cut":false,"hidden":true,"merged":[[25,2,25,3],[2,0,2,3],[3,1,3,2],[0,0,0,3],[23,2,23,3],[24,2,24,3]]}
[{"$f":"Master!G2&Master!H2","v":"कार्यालय&राजकीय उच्च माध्यमिक विद्यालय ]चौगाई]टोंक"}]
["dzekad&",{"$f":"Master!H3&Master!I3&Master!J3&Master!E3&\"/\"","v":"राउमावि/चौगाई/संस्था/2021-22/"},"fnukad&",{"$f":"TODAY()","v":"2021-06-19"}]
["¼e`rd jkT; deZpkjh vkfJr dks vuqdEik fu;qfDr izdj.k dh tkWap½"]
["dz0la0","tkap fo\"k;",null,"i`0la0"]
[1,"e`rd jkT; deZpkjh dk uke","Nhrj yky xqIrk",1]
[2,"inuke o inLFkkiu LFkku","o0 v/;k0 jkmizkfo eksfguh",2]
[3,"izFke fu;qfDr frfFk","01&01&1988",3]
[4,"fu/ku dh fnukad e; e`R;q izek.k i=","layXu gS",4]
[5,"lsok lekfIr vkns'k dh izfr","layXu gS",5]
[6,"fu;qfDr dk izdkj ¼LFkkbZ@vLFkkbZ½","LFkkbZ",6]
[7,"e`rd ds ifjokj ds ckfyx lnL;ksa dk\n'kiFk i= ¼vfookfgr iqf=;ksa lfgr½","layXu gS",7]
[8,"fu;qfDr mijkUr vU; fu;qfDr dk\ngdnkj ugha gksus dk vkosnd dk 'kiFk i=","layXu gS",8]
[9,"e`rd deZpkjh dh ekfld vk; ¼isa'ku\nlfgr½ dk vkosnd dk 'kiFk i=","layXu gS",9]
[10,"e`rd ds ifjokj dk dksbZ lnL; vU;=\nfu;qDr ugha gS dk ifr@iRuh dk 'kiFk i=","layXu gS",10]
[11,"fu;qfDr mijkUr ifjokj dk Hkj.k iks\"k.k\ndk 'kiFk i=","layXu gS",11]
[12,"vkosnd iq=h gksus ij vfookfgr dk\n'kiFk i=","layXu gS",12]
[13,"vkosnd iRuh gksus ij iquZfookg ugha\ndjus dk 'kiFk i=","layXu gS",13]
[14,"e`rd deZpkjh dh lsok;sa fu;fer ,oa\nfujUrj gksus dk izek.k&i=","layXu gS",14]
[15,"izkFkhZ dk uke","jksgu xqIrk",15]
[16,"e`rd deZpkjh ls lEcU/k ","firk&iq=",16]
[17,"tUe frfFk ,oa vk;q","13-04-2000] 21 o\"kZ",17]
[18,"vkosnu i= izkIr gksus dh fnukad rFkk\nHkkx&4 esa vadu","13&04&21",18]
[]
["fnukad&",{"$f":"D2","v":"2021-06-19"},{"$f":"Master!B2","v":"प्रधानाचार्य"}]
["LFkku&",{"$f":"Master!D2","v":"चौगाई"},{"$f":"Master!B3","v":"राजकीय उच्च माध्यमिक विद्यालय "}]
[null,null,{"$f":"Master!B4","v":"चौगाई]टोंक"}]

{"sheet":"DDOCrt","index":118,"n_rows":11,"n_cols":14,"rows_kept":11,"cut":false,"hidden":true,"merged":[[2,12,2,15],[3,13,3,14],[6,0,6,10],[4,1,4,6],[5,9,5,10],[4,7,4,10],[5,2,5,6],[5,7,5,8],[8,7,8,10],[9,7,9,10],[10,7,10,10],[2,0,2,10],[0,0,0,10]]}
[{"$f":"Master!G2&Master!H2","v":"कार्यालय&राजकीय उच्च माध्यमिक विद्यालय ]चौगाई]टोंक"}]
["dzekad&",{"$f":"Master!H3&Master!I3&Master!J3&Master!E3&\"/\"","v":"राउमावि/चौगाई/संस्था/2021-22/"},null,null,null,null,null,null,null,"fnukad&",{"$f":"TODAY()","v":"2021-06-19"}]
["laLFkk iz/kku dk izek.k&i=",null,null,null,null,null,null,null,null,null,null,null,"dkfeZd dh dze la0 fy[ks"]
[null,null,null,null,null,null,null,null,null,null,null,null,null,11]
[null,"izekf.kr fd;k tkrk gS fd e`rd dkfeZd LoxhZ; Jh@Jhefr@lqJh",null,null,null,null,null,{"$f":"(INDEX(EmpDetail!$B$4:$B$103,MATCH(DDOCrt!$N$4,EmpDetail!$A$4:$A$103,0)))","v":"NksVw yky jsxj"}]
["in&",{"$f":"(INDEX(EmpDetail!$C$4:$C$103,MATCH(DDOCrt!$N$4,EmpDetail!$A$4:$A$103,0)))","v":"अध्यापक ग्रेड III"},"LFkkuh; dk;kZy; esa dk;Zjr Fks] budh e`R;q fnukad",null,null,null,null,"2021-01-01",null,"dks gks \nxbZ Fkh A"]
["blls iwoZ v|ksgLrk{kjdrkZ ds dk;kZy; ls buds fdlh vkfJr dk vkosnu i= fu;qfDr gsrq vxzsf\"kr ugha fd;k x;k gSA"]
[]
[null,null,null,null,null,null,null,{"$f":"Master!B2","v":"प्रधानाचार्य"}]
[null,null,null,null,null,null,null,{"$f":"Master!B3","v":"राजकीय उच्च माध्यमिक विद्यालय "}]
[null,null,null,null,null,null,null,{"$f":"Master!B4","v":"चौगाई]टोंक"}]

{"sheet":"EmpID","index":119,"n_rows":22,"n_cols":2,"rows_kept":22,"cut":false,"hidden":true,"merged":[[0,0,0,1]]}
["Generate Employee ID"]
[{"$f":"IF(B2=\"\",\"\",1)","v":1},"orZeku esa jktLFkku ljdkj ds uofu;qDr dkfeZd ds inHkkj xzg.k djus ds rnksijkUr dkfeZd dh Employee ID cukuk vko';d gksrk gS blds fy, loZizFke dkfeZd ls Employee ID Form Hkjokdj DDO }kjk viuh SSO ID ls QkWeZ      Submit djuk gksrk gS A mlds ckn gh PRAN ,oa Paymanager o vU; Site ij Online Data Feed fd;s tk ldrs gS A"]
[{"$f":"IF(B3=\"\",\"\",A2+1)","v":2},"Employee ID Generate djus dh izfdz;k fuEukuqlkj djuh gS&"]
[{"$f":"IF(B4=\"\",\"\",A3+1)","v":3},"loZizFke DDO dh SSO ID Open djsa] SIPF Icon ij Click djsa] Right Side esa Meanu Bar ij Customer ij Click djsa] 2 Tab fn[kkbZ nsaxh Customer and DDO, DDO ij Click djsa A"]
[4,"SIPF Portal ij Left Side esa 3 Bar ij Click djsa] EMP------Transaction--------Employee ij Click djsa A"]
[5,"New Window Open gksxh ftlesa dkfeZd dh Basic Details Hkjsa A"]
[6,"Form ds chp esa 4 Tab fn[kkbZ nsaxh& Contact Details, Service Details, Scheme Details, Family & Nominee Details vkfn A lHkh dks ckjh&ckjh ls dze'k% Hkjsa A"]
[7,"dkfeZd dh csfld fMVsy Hkjrs le; dkfeZd dh tUe frfFk]uke] eksckbZy ua0] bZesy vkfn lHkh nLrkostks ls feyku djds lgh&lgh Hkjsa D;ksadh Paymanger ij Data Fetch SIPF ls gh gksrs gS A"]
[8,"Submit djsa] fdlh Hkh izdkj ds nLrkost SIPF Office esa Hkstus dh vko';drk ugha gS ,oa leLr mRrjnkf;Ro DDO dk gksrk gS blfy, Form Submit djrs le; iw.kZ lko/kkuh cjrsa A"]
[9,"tSls gh SIPF Office }kjk Online Verification gksxk dkfeZd ds Mobile No ij Employee ID dk Massege vk tk;sxk A"]
[""]
[""]
[""]
[""]
[""]
[""]
[""]
[""]
[""]
[""]
[""]
[""]

{"sheet":"PRAN","index":120,"n_rows":30,"n_cols":2,"rows_kept":30,"cut":false,"hidden":true,"merged":[[0,0,0,1]]}
["Generate PRAN Number"]
[{"$f":"IF(B2=\"\",\"\",1)","v":1},"orZeku esa jktLFkku ljdkj ds uofu;qDr dkfeZd dks ijoh{kkdky esa jkT; ljdkj }kjk fu;r ekuns; ns; gksrk gS ,oa uohu isa'ku ;kstuk ykxw gksrh gS  ftlds fy, dkfeZd dh Employee ID cuus ds ckn gh PRAN Number Generate fd;k tk ldrk gS ftldh Online izfdz;k fuEukuqlkj gS&"]
[{"$f":"IF(B3=\"\",\"\",A2+1)","v":2},"loZizFke https://cra-nsdl.com/CRA/   website open djsa] ftlij Login ds 2 option fn[kkbZ nsaxs] 1- Subscribers 2- Nodel Offices/Other Intermidiaries"]
[{"$f":"IF(B4=\"\",\"\",A3+1)","v":3},"vkidks Nodel Offices/Other Intermidiaries okys Option ls Login djuk gS A I-PIN ij Checkmark yxkuk gS A"]
[4,"User Name esa vkids SGV Number vkSj mlds lkFk 00 fy[kuk gS Password esa ;fn vkius igyh ckj Login fd;k gS rks nsdl@123 Mkyuk gS vU;Fkk tks vkidk iwoZ es Generate fd;k gqvk Password Mkysa A tSls& vkidk SGV Number- SGV146426C gks rks vkidk Username gksxk SGV146426C00 ,oa Password-nsdl@123 "]
[5,";fn vkius igyh ckj Login fd;k gS rks Login djrs DDO Profile Generate djsa ftlesa Mobile No., Email, Secrete Question vkfn dh tkudkjh Hkjsa vkSj Submit djsa A"]
[6,"Meanu Br ij mij ,d Tab fn[kkbZ nsxh Subscriber Registration ml ij Click djsa uhps 2 Option fn[kkbZ nsaxs Online Registration ,oa Online Registration Status, Online Registration ij Click djsaA"]
[7,"ubZ Window [kqysxh Online Subscriber Registration ftlesa New Registration ij Checkmark djsa ,oa Submit djsa "]
[8,"vc PRAN Form [kqyk gqvk gS ftlesa mij 5 Tab gS& 1. Core Details 2. Contact Details 3. Bank & Employment Details 4. Scheme & Nominee Details 5. Photo & Signature Details vkidkss dze'k% izR;sd Tab ij Click djrs gq, Hkjuk gS A "]
[9,"lcls igys 1. Core Details dks Hkjdj Generate Aknowledgement No ij Click djuk gS mlds ckn Save ij Click djuk gS A vki vius Generate Aknowledgement No fy[k ys A Core Details esa tgka&tgka # yxk gS mldh Details Hkjuk vko';d gS ,oa PAN No Hkjdj Validate djuk gS vUr esa Save djsa A"]
[10,"KYC Proof Details esa Documents dk uke Select djuk gS ftldks vkidk ckn esa vkxs Upload Hkh djuk gS A"]
[11,"2. Contact Details esa vki viuk orZeku o LFkkbZ irk Hkjsa A ;fn vkidk orZeku o LFkkbZ irk leku gh gS rks Same as Current Address ij Checkmark yxk;sa A vU;Fkk nksuksa esa irk Hkjsa A Address Type esa Residential Select djsa A"]
[12,"Jurisdiction Details esa tUe dk LFkku fy[ks o tUe dk ns'k Select djsa A Nationality & Residential Status Select djsa  US Person esasa No Select djsa Declairation of FETCA-FATCA Compliant, AMLA Declairation-Yes, Evidence of Citizenship esa yes Select djsa"]
[13,"Mobile No and Email Address fy[ksa A"]
[14,"FETCA Detail esa 3 Table gS vkidks dsoy ,d gh Hkjuk gS ftlds lHkh dkWye dh iwfrZ djuh gS A Tax Identification esa viuk PAN NO fy[kssa] Validity esa Hkfo\"; dh dksbZ Hkh rkjh[k fy[k nsosa] FETCA ZIP Code esa PIN Code fy[ksa A vUr esa Save djsa A"]
[15,"3. Bank & Employement Details  esa vki lclsa igys Bank Detail Hkjsa] * yxs gq, dkWye dks Hkjuk vfuok;Z gS A"]
[16,"Employment Detail esa PPAN NO esa vki viuh Employee ID Hkjsa] Employment Class esa ABCD ;k I II III IV Hkjsa A"]
[17,"Department, Ministry, Pay Scal, Basic Pay, Date of Joining & Retirement vkfn Hkjsa ,oa Save djsa A"]
[18,"4. Scheme & Nominee esa Add ij Click djsa] uksfeuh dk uke] tUe frfFk] 'ks;j izfr'kr]irk Hkjsa o Major/Minor Select djsa ,oa Save djsaA"]
[19,"5. Photo & Signature Details esa QksVks o lkbZu¼QkbZy lkbZt vf/kdre 72 kb½ dks Chose dj Upload djsa] nLrkost ftudh ,d PDF File cukdj Upload djuh gS& isu dkMZ] cSad ikl cqd] vk/kkj dkMZ] 10 oha cksMZ izek.k i=] fu;qfDr i=] dk;Zxzg.k vkns'k] dsafly psd] CSR Form dkfeZd }kjk Hkjk gqvk] S5-DDO Forwarding vkfn nLrkost ftudh lkbZt vf/kdre 2 ,ech ls de gks A"]
[20,"uhps nks Checkbox fn, x, gS mudks Checkmark djus ij Submit Button Show gksxk ij Click djsa A"]
[21,"Submit gksus ds ckn vkidks form ko download djuk gS vkSj Hard copy Concerned SIPF Office esa tks nLrkost viyksM fd;s gS muds lkFk tek djokuh gS A"]
[22,"gkMZ dkWih tek djokus ds vxys dqN fnuksa esa vkids eksckbZy ij PRAN NO dk Massege vk tk;sxk A"]
[23,"QkeZ Hkjus ls igys lHkh lwpuk,a rS;kj j[ks A QkeZ Hkjrs le; FkksMh&FkksMh nsj esa Save djrs jgs ojuk Site tYnh gh Logout gks tkrh gS bldk fo'ks\"k /;ku j[ksa A"]
[""]
[""]
[""]
[""]
[""]
[""]

{"sheet":"PayHome","index":121,"n_rows":36,"n_cols":3,"rows_kept":36,"cut":false,"hidden":true,"merged":[[0,0,0,2],[1,0,1,2]]}
["Paymanger ij fcy cukus dh lEiw.kZ izfdz;k"]
["izdj.k lwfp"]
["dz0la0","uke QkbZy","fuEu Vsc ij fDyd djsa"]
[{"$f":"IF(B4=\"\",\"\",1)","v":1},"isesustj ekLVj MkVk QkWeZ"]
[2,"u;k xzqi cukuk"]
[{"$f":"IF(B6=\"\",\"\",A5+1)","v":3},"dkfeZd dk xzqi ifjorZu"]
[4,"u;k dkfeZd tksMuk"]
[5,"dkfeZd is&fMVsy esa HkRrs@dVkSfr;ka tksMuk@gVkuk"]
[6,"fcy ,yksds'ku"]
[7,"ekfld osru cukus dh lEiw.kZ tkudkjh&With Auto Salary Process"]
[8,"fcy LVsV~l tkuuk"]
[9,"fcy fMyhV djuk"]
[10,"fcy fjoVZ djuk"]
[11,"fcy vkWctsD'ku gVkuk"]
[12,"fM, ,fj;j fcy cukuk"]
[13,"osru ,fj;j cukuk"]
[14,"lefiZr vodk'k dk Hkqxrku"]
[15,"lsokfuo`fRr ij lefiZr vodk'k dk Hkqxrku"]
[16,"cksul fcy cukuk"]
[17,";k=k O;; fcy"]
[18,"fpfdRlk fcy cukuk"]
[19,",Qohlh@onhZ HkRrk@dk;kZy; O;; fcy cukuk"]
[20,"Half Pay Salary"]
[21,"Partial Pay Salary"]
[22,"Change DDO Information & DSC Certificate"]
[23,"dkfeZd LFkkukUrj.k"]
[24,"LFkkukUrfjr dkfeZd dks Lohdkj djuk"]
[25,"LIC/Loan dVkSfr ADD/Delete djuk"]
[26,"fuokZg HkRrk fcy cukuk"]
[27,"Add Bulk Allowances & Deductions"]
[28,"Change Basic Pay By DDO"]
[29,"IFMS- Budget & Post"]
[30,"E-Grass Challan & Minus Expenditure"]
[31,"Rajkosh- Expenditure Download"]
[32,"Pull/Add DDO Role in SSO ID"]
[33,"Recovery By ROP"]

{"sheet":"EmpIDFrm","index":122,"n_rows":42,"n_cols":6,"rows_kept":42,"cut":false,"hidden":true,"merged":[[8,0,8,5],[0,0,0,5],[1,0,1,5],[2,0,2,1],[2,4,2,5],[3,0,3,1],[3,4,3,5],[4,0,4,1],[4,3,4,4],[5,0,5,1],[5,3,5,4],[7,0,7,5],[17,0,17,1],[17,2,17,5],[9,0,9,5],[10,2,10,3],[10,4,10,5],[11,2,11,3],[11,4,11,5],[12,0,12,1],[12,2,12,5],[13,0,13,1],[13,2,13,5],[14,0,14,5],[16,0,16,1],[16,2,16,5],[18,0,18,1],[18,4,18,5],[19,0,19,1],[19,3,19,4],[21,0,21,1],[21,2,21,5],[38,1,38,2],[38,4,38,5],[41,4,41,5],[22,0,22,1],[22,3,22,4],[23,0,23,5],[36,0,36,5],[37,1,37,2],[37,4,37,5]]}
["Personal Details for Employee ID"]
["Personal Details-"]
["Name of Employee",null,"Category","Date of Birth","Father/Husband Name"]
["CHATURBHJ JAT",null,"OBC","1976-04-04","JAGDISH LAL JAT"]
["Marital Status-",null,"Unmarried","Date of Marriage-",null,"1998-04-30"]
["Gender-",null,"Male","Employee Type-",null,"Paymanager"]
["PAN-","AHJPJ2211Q","Place of Birth-","Lawa","Aadhar No-",892812631817]
["Contact Detail-"]
["Address-"]
["Vill Balapura Post Lawa"]
["PIN","Tehsil","District",null,"State"]
[304504,"Malpura","Tonk",null,"Rajasthan"]
["Mobile No.",null,"Email Address"]
[9829303549,null,"chaturbhujjat76@gmail.com"]
["Service Detail-"]
["SIPF Unit-","Tonk","Dept.-","Education","DDO-","GSSS Chogai"]
["Employee Status-",null,"Permanent"]
["Category-",null,"Subordinate Service"]
["Designation-",null,"Teacher III","Budget Head-","2202-02-109-27-01-01"]
["Date of Joining in Service-",null,"2005-04-13","Date of Joining in Present Office",null,"2008-07-03"]
["Pay Band-","PB-2","Level-","L-10","Basic Pay-",23700]
["Employee Status-",null,"In Service"]
["GPF/PRAN No-",null,0,"SI No-",null,0]
["Family Detail-"]
["S.No.","Name","Date of Birth","Relation","Gender","Annual Income"]
[{"$f":"IF(B26=\"\",\"\",1)","v":1},"Seema","1980-10-20","Wife","Female",0]
[{"$f":"IF(B27=\"\",\"\",A26+1)","v":2},"Sanjay","2000-09-05","Son","Male",0]
[{"$f":"IF(B28=\"\",\"\",A27+1)","v":3},"Vikash","2003-10-17","Son","Male",0]
[4,"Vikash","2003-10-17","Son","Male",0]
[5,"Vikash","2003-10-17","Son","Male",0]
[6,"Vikash","2003-10-17","Son","Male",0]
[7,"Vikash","2003-10-17","Son","Male",0]
[8,"Vikash","2003-10-17","Son","Male",0]
[9,"Vikash","2003-10-17","Son","Male",0]
[10,"Vikash","2003-10-17","Son","Male",0]
[11,"Vikash","2003-10-17","Son","Male",0]
["Bank Account Detail-"]
["Bank Name-","State Bank of India",null,"Branch Name"," Treasury Bldg Tonk"]
["Account No-",51077382340,null,"IFSC Code-","SBIN0031842"]
[]
[]
[null,null,null,null,"Signature of Employee"]

{"sheet":"MasterFrm","index":123,"n_rows":49,"n_cols":8,"rows_kept":49,"cut":false,"hidden":true,"merged":[[7,1,7,3],[8,1,8,3],[8,4,8,5],[8,6,8,7],[9,1,9,3],[9,4,9,5],[9,6,9,7],[0,0,0,7],[1,0,1,7],[2,1,2,3],[2,4,7,5],[2,6,4,7],[3,1,3,3],[4,1,4,3],[5,1,5,3],[5,6,7,7],[6,1,6,3],[13,2,13,3],[13,5,13,6],[14,0,14,7],[15,1,15,3],[15,4,15,5],[15,6,15,7],[10,1,10,3],[10,4,10,5],[10,6,10,7],[11,0,11,7],[12,2,12,3],[12,5,12,6],[18,1,18,3],[18,4,18,5],[18,6,18,7],[19,1,19,3],[19,4,19,5],[19,6,19,7],[16,1,16,3],[16,4,16,5],[16,6,16,7],[17,1,17,3],[17,4,17,5],[17,6,17,7],[23,1,23,3],[23,4,23,5],[23,6,23,7],[24,1,24,3],[24,4,24,5],[24,6,24,7],[20,1,20,3],[20,4,20,5],[20,6,20,7],[21,0,21,7],[22,1,22,3],[22,4,22,5],[22,6,22,7],[27,1,27,3],[27,4,27,5],[27,6,27,7],[28,0,28,7],[29,2,29,3],[29,5,29,6],[25,1,25,3],[25,4,25,5],[25,6,25,7],[26,1,26,3],[26,4,26,5],[26,6,26,7],[34,0,34,7],[35,2,35,3],[35,5,35,6],[36,2,36,3],[36,5,36,6],[37,0,37,7],[30,2,30,3],[30,5,30,6],[31,1,31,3],[31,5,31,6],[32,1,32,7],[33,1,33,4],[33,6,33,7],[43,1,43,2],[43,3,43,5],[43,6,43,7],[44,1,44,2],[44,3,44,5],[44,6,44,7],[40,0,40,7],[41,1,41,2],[41,3,41,5],[41,6,41,7],[42,1,42,2],[42,3,42,5],[42,6,42,7],[47,1,47,2],[47,4,47,5],[48,5,48,7],[45,1,45,2],[45,3,45,5],[45,6,45,7],[46,1,46,2],[46,3,46,5],[46,6,46,7]]}
["Paymanger Employee Master Data Form"]
["Personal Detail-"]
["Employee ID-","RJTO200536028883",null,null,"PHOTO",null,"Signature"]
["Employee Name-","Chaturbhuj Jat"]
["Father's Name-","Jagdish Lal Jat"]
["Date of Birth-","1976-04-04",null,null,null,null,"Left Thumb Impresion"]
["Gender-","Male"]
["Present Designation-","Teacher III"]
["Blood Group-","O-",null,null,"Date of Retirement-",null,"1936-04-30"]
["Group Name-","Primary",null,null,"Sequence No.-",null,314]
["Pay Commission-","Seventh",null,null,"HRA-",null,"Eligible"]
["Status Detail-"]
["Temporary/Permanent-","Permanent","Status-",null,"NA","Service Sub Type-",null,"Regular"]
["Service Category-","Subordinate Service","Sevice Quota-",null,"NA","Category-",null,"OBC"]
["Present Communication-"]
["State-","Rajasthan",null,null,"District-",null,"Tonk"]
["Rural/Urban-","Rural",null,null,"Block/Municipal Area-",null,"Tonk"]
["Granmpanchayat/Ward-","Lawa",null,null,"Village/Street/Nagar-",null,"Balapura"]
["Home Town-","Lawa",null,null,"House No-",null,34]
["PIN Code",304504,null,null,"Email-",null,"chaturbhujjat76@gmail.com"]
["Telephone No.-",0,null,null,"Mobile No-",null,9829303549]
["Permanent Communication-"]
["State-","Rajasthan",null,null,"District-",null,"Tonk"]
["Rural/Urban-","Rural",null,null,"Block/Municipal Area-",null,"Tonk"]
["Granmpanchayat/Ward-","Lawa",null,null,"Village/Street/Nagar-",null,"Balapura"]
["Home Town-","Lawa",null,null,"House No-",null,34]
["PIN Code",304504,null,null,"Email-",null,"chaturbhujjat76@gmail.com"]
["Telephone No.-",0,null,null,"Mobile No-",null,9829303549]
["Pay & Bank-"]
["Pay Commission-","Seventh","Pay Level-",null,"L-11","NPA-",null,"Not Eligible"]
["Basic Pay-",52300,"Grade Pay-",null,0,"HRA-",null,"Eligible"]
["Bank Account No.-",51077382146,null,null,null,"Increment Date-",null,"2005-04-13"]
["Bank Name-","State Bank of India"]
["Branch Name-","Treasury Bldg Tonk",null,null,null,"IFSC Code-","SBIN0031842"]
["Dates-"]
["Date of Joining-","2005-04-13","Date of Joining Regular Service-",null,"2005-04-13","Date of Present Designation",null,"2005-04-13"]
["Date of Present Pay Scale-","2005-04-13","Date of Joining Present DDO-",null,"2008-07-03","Increment Date-",null,"2021-07-01"]
["Other Numbers-"]
["GPF No.-",767687,"SI No-",14722010,"Cpenf No-",20053690698,"Belt No-",0]
["UID No.-",892812631817,"PRAN No-",110011864700,"CPF No-",0,"PAN No-","AHJPJ2211Q"]
["Family Details-"]
["Name","Date of Birth",null,"Working/Non Working",null,null,"Relationship"]
["Seema Devi","1980-10-20",null,"Non-working",null,null,"Wife"]
["Sanjay","2000-09-05",null,"Non-working",null,null,"Son"]
["Vikash","2003-10-17",null,"Non-working",null,null,"Son"]
["Arti","2005-07-01",null,"Non-working",null,null,"Daughter"]
["Arti","2005-07-01",null,"Non-working",null,null,"Daughter"]
[{"$f":"IF(D43=\"Working\",\"Bank Name-\",\"\")","v":""},null,null,{"$f":"IF(D43=\"Working\",\"Account No-\",\"\")","v":""},null,null,{"$f":"IF(D43=\"Working\",\"IFSC Code-\",\"\")","v":""}]
[null,null,null,null,null,"Signature of Employee"]

{"sheet":"GrpAlo","index":124,"n_rows":21,"n_cols":2,"rows_kept":21,"cut":false,"hidden":true,"merged":[[0,0,0,1]]}
["How to Create a New Group"]
[{"$f":"IF(B2=\"\",\"\",1)","v":1},";fn fdlh fofRr; o\"kZ esa izkIr ctV gsM ifjofrZr gks tk;s ;k u;s gsM esa in Lohd`r gks tk;s ;k vU; dkj.k ls Paymanger ij Group Creation dk Option gS ftlds vuqlkj u;k xzqi cuk;k tkrk gS A"]
[{"$f":"IF(B3=\"\",\"\",A2+1)","v":2},"u;k xzqi rHkh cuk;k tk ldrk gS tc fdlh ctV gsM esa jkf'k Lohd`r gks tkrh gS vU;Fkk Budget Head Does not Exist dk Error Massage vk;sxk A"]
[{"$f":"IF(B4=\"\",\"\",A3+1)","v":3},"u;k xzqi cukus dh izfdz;k fuEukuqlkj gS&"]
[4,"Master                 Group Master                    Add Group"]
[null,"                           ,d u;k ist [kqysxk ftles fuEufyf[kr lwpuk,a Fill djuh gS&"]
[null,"Group Name-     As your wish"]
[null,"Budget Head-    According to sanctioned Budget as- 2202-02-109-27-01"]
[null,"Object Head-     01 or if any"]
[null,"BFC Type-           CA/SF/NA"]
[null,"Head Type-         Charged/Voted/NA"]
[""]
[null,"                                  Submit"]
[null,"                Group Added Successfully   massage will appear on screen"]
[""]
[""]
[""]
[""]
[""]
[""]
[""]

{"sheet":"GrpChang","index":125,"n_rows":17,"n_cols":2,"rows_kept":17,"cut":false,"hidden":true,"merged":[[0,0,0,1]]}
["How to Create a New Group"]
[{"$f":"IF(B2=\"\",\"\",1)","v":1},";fn fdlh fofRr; o\"kZ esa izkIr ctV gsM ls u;s gsM esa in ifjofrZr gks tk;s ;k vU; dkj.k ls Paymanger ij Group Change dk Option gS ftlds vuqlkj fdlh Hkh dkfeZd ds xzqi esa ifjoZru fd;k tk ldrk gS A"]
[{"$f":"IF(B3=\"\",\"\",A2+1)","v":2},"dkfeZd ds iwoZ esa Allocated xzqi es ifjorZu rHkh laHko gS tcfd dkfeZd ds iwoZ ds lHkh fcy Pass gks pqds gks vkSj muds TV No Allote gks pqds gks ojuk xzqi es ifjorZu laHko ugha gksxk A"]
[{"$f":"IF(B4=\"\",\"\",A3+1)","v":3},"dkfeZd dks u;s xzqi esa rHkh LFkkukUrfjr fd;k tk ldrk gS tc orZeku fofRr; o\"kZ esa ml u;s gsM esa ctV Lohd`r gks pqdk gksA"]
[{"$f":"IF(B5=\"\",\"\",A4+1)","v":4},"dkfeZd ds xzqi esa ifjorZu dh izfdz;k fuEukuqlkj gS&"]
[5,"Master                 Group Allocation                    Select Group"]
[6," ,d u;k ist [kqysxk ftles vkidks xzqi dk p;u djuk gS ftlesa og dkfeZd gS ftldk xzqi cnyuk gS&"]
[7,"xzqi dk p;u djrs gh ,d List Show gksxh ftlesa xzqi ds lHkh dkfeZd iznf'kZr gksaxs A"]
[8,"izR;sd dkfeZd ds uke ds vUr esa Change fy[kk gksxk A"]
[9,"lacaf/kr dkfeZd ds uke ds vUr esa fy[ks Change ij Click djsa A"]
[10,"ubZ Pop-up Window [kqysxh ftlesa&"]
[null,"Select Group & xzqi dk uke p;u djsa ftlesa vki dkfeZd dks ys tkuk pkgrs gS A"]
[null,"Select Designation & in dk uke p;u djsa ftl in ij dkfeZd dk;Zjr gS A"]
[]
[]
[null,"                                         Submit"]
[null,"         Employee Group has been successfully changed massage appear."]

{"sheet":"NewEmp","index":126,"n_rows":55,"n_cols":2,"rows_kept":55,"cut":false,"hidden":true,"merged":[[0,0,0,1]]}
["How to add a new Employee on Paymanger"]
[{"$f":"IF(B2=\"\",\"\",1)","v":1},",d uofu;qDr dkfeZd dh Employee ID and PRAN No Generate gks tkus ds ckn Paymanger ij dkfeZd dh Details Feed djuh gksrh gS A"]
[{"$f":"IF(B3=\"\",\"\",A2+1)","v":2},",d uofu;qDr dkfeZd dh Detail Feeding djrs le; cgqr lko/kkuh cjruh pkfg;s A paymanger ij Data Feeding fuEukuqlkj djuh gS&"]
[{"$f":"IF(B4=\"\",\"\",A3+1)","v":3},"Master                 Employee Detail                  "]
[4,"Employee Detais esa 10 Part gS&"]
[5,"A- Personal Details-"]
[null,"Select Service Category- AIS, State Service, Subordinate Service, Ministrial etc"]
[null,"A New Pop-up Window Appears on the Screen"]
[null,"                                                            Fetch DATA FROM SIPF"]
[null,"Fill Employee ID and Click on Fetch DATA"]
[null,"SIPF ls fuEufyf[kr Data automatically Fetch gksaxs&"]
[null,"Name of Employee, Current Post, Father's Name, Employee ID, Date of Birth, Date of Retirement"]
[null,"Rest part of Personal Details fill manually as-"]
[null,"Select Sub Category- Regular/Probation ;fn dkfeZd izoh{kkdky esa gS rks izkscs'ku pqus"]
[null,"Gender- Male/Female/Transgender"]
[null,"Select Group- dkfeZd dk in ftl gsM ls lacaf/kr gS ml gsM ds xzqi dks pqus"]
[null,"Select Designation-----------------------------------"]
[null,"Select Blood Group- A-/A+/B-/B+/AB/O-/O+"]
[null,"Select Posr at Appointment- ----------------------"]
[null,"Select Pay Commission- Fifth/Sixth/Seventh"]
[null,"Select HRA Eligible City- X-8%/Y-16%/Z-24%"]
[null,"Select CCA Eligiblity- ------------------------------------"]
[null,"Select Department- ------------------------------"]
[null,"                                                                     Submit"]
[6,"B- Employee Status-"]
[null,"Select Service Category- AIS, State Service, Subordinate Service, Ministrial etc"]
[null,"Select Sub Category- Regular/Probation ;fn dkfeZd izoh{kkdky esa gS rks izkscs'ku pqus"]
[null,"Select Status- NA/Ad-Hoc/APO/Death/Deputation"]
[null,"Select Temporary/Permanent- Temporary/Permanent/Probation"]
[null,"Select Service Quota- Deceased/Divorced/Ex-Serviceman/Physical handicap/Player/Widow/NA"]
[null,"Select Category- SC/ST/OBC/SBC/Gen/Minority"]
[null,"Select Gazetted/Non-Gazetted- Gazetted/Non-Gazetted"]
[null,"Select Entitlement Status- Benefit Before 01-01-2004/NPS from 01-01-2004/CPF/None"]
[null,"Select Marital Status- Married/Unmarried/Widow/Divorced"]
[null,"                                                                     Submit"]
[7,"C- Pay and Bank-"]
[null,"Select Followings Details- "]
[null,"Pay Commission, Pay Scale- Level,Basic Pay,Grade Pay-0, NPA Eligible/Non-eligible, HRA "]
[null,"Eligible/Non-Eligible, Fill IFSC Code and Search, Fill Account No., Increament Date etc."]
[8,"D- Contact Details-"]
[null,"Fill Present and Permanent address of employee"]
[9,"E- Employee Dates-"]
[null,"Fill Employee following Dates- Date of Joining, Date of present designation, Date of Joining "]
[null,"present DDO, Date of Joining Regular service"]
[10,"F- Employee Numbers-"]
[null,"Fill Employee following Numbers- Aadhar No., PAN No., PRAN No. "]
[11,"G- Family Details-"]
[null,"Fill family details"]
[12,"H- Scheme-"]
[null,"Select Group Insurance and SI Nominee "]
[13,"I- Image-"]
[null,"Upload Employee Photo, Signature, Left Thumb Impression, Enter Code and Submit"]
[14,"J- Corp Details-"]
[null,"Hitkari Nidhi Account No and others"]
[null,"Submit"]

{"sheet":"PayAdd","index":127,"n_rows":42,"n_cols":2,"rows_kept":42,"cut":false,"hidden":true,"merged":[[0,0,0,1]]}
["How to Add/Delete Allowances &Deductions"]
[{"$f":"IF(B2=\"\",\"\",1)","v":1},",d uofu;qDr dkfeZd dks osru ,oa vU; HkRrksa dk Hkqxrku djus ds fy, Paymanager ij ml dkfeZd dk lEiw.kZ fooj.k gksuk vko';d gS A dkfeZd ds fooj.k dh iwfrZ ds i'pkr dkfeZd dh Pay Detail iw.kZ gksuk Hkh vko';d gS"]
[{"$f":"IF(B3=\"\",\"\",A2+1)","v":2},",d uofu;qDr dkfeZd ds osru ,oa vU; HkRrksa dks Paymanager ij Add/Delete djus dh izfdz;k fuEukuqlkj gS"]
[{"$f":"IF(B4=\"\",\"\",A3+1)","v":3},"Bill Processing                            Salary Processing                                Employee Pay Details"]
[null,"Select Month, Year and Group------------------------"]
["A","Add Allowances/Deductions-"]
["i","p;fur xzqi ds lHkh dkfeZdksa dh ,d lwfp uhps iznf'kZr gksxh ftlesa ls lacaf/kr dkfeZd ds uke ij Click djsa&"]
["ii","dkfeZd dk uke] in] csfld is ,oa xzqi Show gksxk uhps Allowances and Deductions dh lkj.kh fn[ksxh ftlesa dkfeZd dh dsoy Basic gh fn[kkbZ nsxh tks vkius dkfeZd dh Basic Detail esa Feed fd;k gS A"]
["iii","lkj.kh ds uhps fuEu Options fn[kkbZ nsaxs&"]
[null,"Add Allowances, Partial Pay, Stop Payment, Add Deduction, Add LIC, Loan Master, Add"]
[null,"Nominee, Dependent Deduction, Suspand"]
[null,"Add Allowances ij Click djsa"]
[null,",d Pop-up Window [kqysxh ftles Select Allowances- DA dks Select djsa"]
[null,"Select DA Rates- 17% "]
[null,"Type- Formula"]
[null,"Formula- (Basic+DP+Leave Pay+NPA)*DA Rate"]
[null,"Amount- will display automatically"]
[null,"Submit"]
[null,"Add Allowances ij Click djsa"]
[null,",d Pop-up Window [kqysxh ftles Select Allowances- HRA dks Select djsa"]
[null,"Type- Formula"]
[null,"Formula- (Basic+DP+Leave Pay+NPA)*City Class"]
[null,"Amount- will display automatically"]
[null,"Submit"]
[null,"Add Deductions ij Click djsa"]
[null,",d Pop-up Window [kqysxh ftles Select Deductions- ECPenF-261 dks Select djsa"]
[null,"Type- Formula"]
[null,"Formula- (Basic+DP+Leave Pay+NPA+DA)*0.10"]
[null,"Amount- will display automatically"]
[null,"Submit"]
[4,"GPF,SIP ds fy, Slab/Amount dks Select djuk gS ,oa Itax ds fy, Amount Select djsa"]
[{"$f":"IF(B32=\"\",\"\",A31+1)","v":5},"uofu;qDr dkfeZd ds fy, Allowances esa dsoy Basic gh j[kuk gS rFkk Deductions es dsoy ECPenF 261 gh Add djuk gS A"]
[6,"fdlh LFkkbZ dkfeZd ds Loan ,oa LIC dks Add/Delete djus dh izfdz;k vyx ls crkbZ xbZ gS A"]
["B","Delete Deductions-"]
["i","dkfeZd dh Pay Details esa ls ;fn fdlh Deduction dks gVkuk gks rks ml Deduction ds lkeus fy[ks Delete ij Click djsa dVkSfr Delete gks tk;sxh A dsoy Itax ds fy, Delete dk mi;ksx djsa A"]
["ii",";fn fdlh dkfeZd dh fdlh dVkSfr esa cnyko djuk pkgrs gS rks dVkSfr dks Delete ugha djuh gS dsoy Edit gh djuk gS ;fn vkius SIP and GPF dh dVkSfr dks Delete dj fn;k rks mls dsoy Treasury }kjk gh tksMk tk ldrk gS A"]
["iii","SIP esa Edit djus ds fy, fuEukuqlkj dk;Z djsa&"]
[null,"Bill Processing                        Salary Preparation                               Bulk Deduction"]
[null,"Bill Name- ml fcy xzqi dk p;u dhft, ftles vkidk dkfeZd gS "]
[null,"Deduction- Select   SIP 217"]
[null,"Type- Select Amount"]
[null,"Amount- og jkf'k Hkfj;s tks vki pkgrs gS ,oa lkeus dkfeZdksa dh lwfp esa ls ml dkfeZd ;k lHkh dkfeZdksa ds vkxs Checkmark yxk;sa vkSj Submit djsa A"]

{"sheet":"BillAlo","index":128,"n_rows":16,"n_cols":2,"rows_kept":16,"cut":false,"hidden":true,"merged":[[0,0,0,1]]}
["How can Allocate Bill No"]
[{"$f":"IF(B2=\"\",\"\",1)","v":1},"orZeku esa Paymanger ij osru ;k vU; fcy cukus dh izfdz;k dh izFke lh<h gS Bill No Allocation djuk ijUrw vkus okys dqN ekg esa bl izfdz;k esa cnyko fd;k tk;sxk ftlds rgr Bill Alocation vc Automatic gksxk ysfdu dqN ekeyksa esa Bill Allocation Manually gksrk jgsxk vr% Bill No Allocation dh izfdz;k dks tkuuk vo';d gS A"]
[{"$f":"IF(B3=\"\",\"\",A2+1)","v":2},"Bill Allocation ds fy, fuEukuqlkj izfdz;k viukuh gS&"]
[null,"Bill Processing                         Bill No Allocation"]
[null,",d u;k QkWeZ [kqysxk ftlesa ls Select Bill Allocation"]
[null,"Bill Generate Manually ij Checkmark yxk;sa "]
[null,"Select Bill Type- Salary/DA/Bonus/Salary Arear/TA/Medical/FVC etc"]
[null,"Select sub Type- Regullar (Only for salary)"]
[null,"Select Object Head- 01-Salary, TA-03, Medical-04, Office Exp-05, Library-31, Laboratory-33, Leveries-37"]
[null,"Select Pay Month- ftl ekg dk osru cukuk gS mldk uke ;k pkyw ekg"]
[null,"Select Pay Year- o\"kZ dk p;u djsa "]
[null,"Select Bill Date- lk/kkj.kr;k Current Date gh pqus "]
[null,"Fill Bill No- from bill register"]
[null,"Select Bill Name- Bill Group dk p;u djsa ftl Group dk bill vki cuk jgs gSa "]
[null,"Submit"]
[null,"\"Bill Register Details Added Successfully\" Massage appears on screen."]

{"sheet":"SalProc","index":129,"n_rows":56,"n_cols":2,"rows_kept":56,"cut":false,"hidden":true,"merged":[[0,0,0,1]]}
["How can Proccess Salary"]
[{"$f":"IF(B2=\"\",\"\",1)","v":1},"orZeku esa Paymanger ij osru fcy@vU; fcy cukus dh tks izfdz;k viukbZ tkrh gS mldk ,d fuf'pr Step by Step System gS ftlds vuqlkj gh ,d fcy cuk;k tkdj dkfeZd ds [kkrs esa ECS }kjk Hkqxrku fd;k tkrk gS ijUrq Hkfo\"; esa ekfld osru fcy vc Automatically System }kjk Generate gksaxs vkSj Pass gksaxs fQj Hkh vU; fcy o osru fcy Hkh dqN lhek rd Manually gh cuk;s tk;saxs blfy, tkudkjh gksuk vko';d gS A"]
[2,"Hkfo\"; esa osru fcy cukus dh izfdz;k cny tkus ds ckn vU; fcyksa dks cukus dh izfdz;k leku :i ls izfdz;k esa jgsxh dsoy Salary Process ds LFkku ij vU; fcyksa dh izfdz;k viuk;sa 'ks\"k izfdz;k leku gh jgsxh A vU; izdkj ds fcy cukus dh izfdz;k vkidks vU; 'khV~l ij crkbZ tk;sxh A ;gka dsoy osru fcy cukus dh izfdz;k crkbZ tk jgh jgh gS A"]
[3,"osru fcy ;k vU; fcy dks cukus dh izfdz;k fuEu Diagram }kjk le>sa&"]
[]
[]
[]
[]
[]
[]
[]
[]
[]
[]
[null,"mij tks Step crk;s x;s gS muds vuqlkj dze'k% izfdz;k djuh gS ;fn ,d Hkh Step pwds rks Bill cukus es ijs'kkuh gks ldrh gS"]
["A","Bill No Allocation dh Process vkidks vyx ls crk nh xbZa gS mlds vuqlkj Bill Alloction ds ckn fuEu izfdz;k djs"]
["B","Salary Process-"]
[null,"Bill Processing                        Salary Preparation                    Monthly Salary Process"]
[null,"Select Month and Year"]
[null,"ekg ,oa o\"kZ p;u ds ckn ftrus fcy vkius Allocate fd;s gS mudh ,d lwfp iznf'kZr gksxh "]
[null,"lwfp ds mij ds Checkmark dks Mark djsa ,oa ftl fcy dks vki Process djokuk pkgrs gS mlds vUr esass Checkmark dk fpUg yxk;sa] fpUg yxkrs gh ml fcy@xzqi esa ftrus dkfeZd gS mudh lwfp lkeus fn[kkbZ nsxh] ml xzqi ds ftrus Hkh dkfeZdksa dh Salary vki cukuk pkgrs gS muds uke ds vUr es cus Checkmark dks Mark djsa A"]
[null,"Click on Submit"]
["C","Documents Upload-"]
[null,"Salary Process gks tkus ds ckn ,d ckj vki Salary Reports ls Inner Download djds Check djysa rkfd dksbZ =qVh gks rks lq/kkjk tk lds A ;fn vki osru fcy@,fj;j@cksul@ljsUMj vkfn fcy cuk jgs gS ftuds lkFk lgk;d nLrkostks dh vko';drk gS rks vkidks fcy ds nLrkost viyksM Hkh djus gS vU;Fkk fcy vkWctsD'ku es vk tk;sxk A"]
[null,"Authorization                            Documents Upload"]
[null,"Select Year, Month, Bill Type,  Group Name and Bill No"]
[null,"fcy ua0 dk p;u djrs gh ,d lwfp iznf'kZr gksxh ftles fofHkUu nLrkostks ds uke iznf'kZZr gksaxs lacaf/kr nLrkost dk p;u djsa vkSj viyksM djus ds ckn Submit djsa Submit djus ds ckn viyksMsM nLrkostksa dh lwfp fn[kkbZ nsxh A ;fn vkids fcy ds lkFk fdlh Hkh lgk;d nLrkost dh vko';drk ugha gS rks vki bl Step dks NksM ldrs gS A"]
["D","DDO Forward-"]
[null,"Bill Processing                        DDO Forward"]
[null,"Select Month, Year, Bill type, Bill Name ,d lwfp iznf'kZr gksxh ftlds izkjEHk esa ,d Chekmark fn;k gS mldks Checkmark djuk gS] lwfp esa vkids fcy dh Gross Amount and Net Amount Show gksxh mlds vkxs dqN [kkyh Box-SF,CA, NA fn[ksaxs muesa ls ml Box esa vkidks jkf'k Hkjuh gS tks vSkids xzqi ds gsM ds vuq:i gS vkSj Submit djuk gS A"]
[null,";fn vkidks lacaf/kr xzqi gsM esa SF and CA nksuksa esa ctV izkIr gqvk gS rks SF esa Gross Amount dk 60% ,oa CA esa 40% jkf'k Mkysa vU;Fkk lEiw.kZ jkf'k SF esa gh Mkysa A"]
[null,"Submit djus ds ckn Budget Validate ij Click djsa vkSj fQj Forward ij Click djsa A"]
["E","Download Reports-"]
[null,"Reports                                  All Salary Reports"]
[null,"Select Year, Month, Bill Type,  Group Name, Bill No and Report Type- Inner/Outer/All Schedule"]
[null,"dze'k% Inner, Outer and All Schedule dks Download djsa A"]
[null,";fn vkius lHkh Reports Download ugha dh rks Digital Sign ugha gksaxs A"]
["F","Digital Sign-"]
[null,"Authorization                         Documents Digital Sign        vius DDO dk DSC Dongle PC esa Insert djsa"]
[null,"Select Month, Year,Bill Type, Group Name"]
[null,"xzqi dk uke pquus ds ckn uhps ,d lwfp iznf'kZr gksxh ftlesa Bill No, View Report, View Doc, Sign Reports and Delete Sign Files fn[kkbZ nsxk A"]
[null,"lwfp ds izkjEHk esa ,d Check Box fn[ksxk mldks Checkmark djuk gS psdekdZ djrs gh vkxs Total Files-03 and Total Sign Files-0 ,oa uhps Sign by DSC fn[ksxk mlij Checkmark djuk gS mlds ckn uhps Sign dk cVu fn[ksxk mls Click djsa mlds ckn ,d Pop-up Window [kqysxh ftlesa vkids DDO dk uke fn[ksxk Ok ij Click djsa vc vkidh lHkh QkbZyksa ij Digital Sign gks pqds gS bldk eslst vk;sxk A "]
[null,"Reports Downloads- vc vki Sign Reports ij Click djds rhuksa QkbZyksa dks Download djsa ,oa vkius PC es Hkfo\"; ds fy, Save djsa A Digitally Signed Reports dks gh vki viuh fcy QkbZy esa yxkuk gS A"]
["G","Treasuty Forward-"]
[null,"Authorization                           Bill Forward to Treasury "]
[null,"Select Month, Year,Bill Type, Bill Name"]
[null,"uhps ,d lwfp iznf'kZr gksxh ftlls igys cus Checkbox dks Checkmark djsa ,oa Forward ij Click djsa A"]
[{"$f":"IF(B48=\"\",\"\",A47+1)","v":""}]
[""]
[""]
[""]
[""]
[""]
[""]
[""]
[""]

{"sheet":"BillStat","index":130,"n_rows":25,"n_cols":2,"rows_kept":25,"cut":false,"hidden":true,"merged":[[0,0,0,1]]}
["Show Bill Status"]
[{"$f":"IF(B2=\"\",\"\",1)","v":1},"fcy cukus ds ckn ;g tkuuk dh fcy dh D;k fLFkfr gS ;k fcy dkSuls Lrj rd iw.kZ gqvk vFkkZr~ fcy ikl gqvk ;k Objection esa gS ;k Hkqxrku gks pqdk gS ;k TV No Assign gq, ;k ugha vkfn dh tkudkjh Bill Status ls tkuh tk ldrh gS A"]
[{"$f":"IF(B3=\"\",\"\",A2+1)","v":2},"Bill Status tkuus ds fy, vkidks fuEukuqlkj izfdz;k viukuh gS&"]
[{"$f":"IF(B4=\"\",\"\",A3+1)","v":3},"Authorization                                        View Bill Status"]
[null,"Select Month, Year, Bill Type, Bill Name "]
[null,"Bill Nmae Select djrs gh uhps ,d lkj.kh iznf'kZr gksxh ftlesa vkids lacaf/kr fcy dh fuEu tkudkjh Show gksxh&"]
[null,"Bill Name   Bill No    Bill No Assign   Processing    DDO Forward    Treasury Forward         TV No Assign"]
[null,"izR;sd dkWye ds uhps Right/Cross dk fpUg fn[kkbZ nsxk A Right dk vFkZ gS dh vkius mijksDr izfdz;k iw.kZ djyh gS ,oa Cross dk vFkZ gS vkius mijksDr izfdz;k iw.kZ ugha dh gS A "]
[null,"Treasury Forward ds lkFk Detail fy[kk gksxk ml ij Computer dk Pointer ys tkus ij Status fn[kkbZ nsxk& Tokan No-000 Objection- Pass/ECS Done/Bill in Objection etc"]
[""]
[""]
[""]
[""]
[""]
[""]
[""]
[""]
[""]
[""]
[""]
[""]
[""]
[""]
[""]
[""]

{"sheet":"BillDlt","index":131,"n_rows":27,"n_cols":2,"rows_kept":27,"cut":false,"hidden":true,"merged":[[0,0,0,1]]}
["How can Delete/Update a Bill"]
[{"$f":"IF(B2=\"\",\"\",1)","v":1},"vkids }kjk ;k flLVe }kjk Bill Allocation gksus ds ckn fdlh dkj.ko'k ;fn vki Bill dks Delet djuk pkgrs gS rks mlds fy, Paymanger ij nks Option gS&"]
[null,"(i) Bill Allocation Option }kjk"]
[null,"(i) Bill Delete Option }kjk"]
[null,"/;ku nsus ;ksX;& ;fn vkidk fcy DDO/Treasury Forward gks tkus ds ckn vki mls Delete ugha dj ldrs gS mlds fy, vkidks igys fcy dks Revert djus dh izfdz;k viukuh gksxh A "]
[null,";fn vkidk fcy Treasury Forward ds ckn Objection esa vk x;k gS ,oa mldks vkius Revert fd;k gS rks Hkh Bill dks vki iw.kZr;k Delete ugha dj ldrs] dsoy Data gh Delete gksaxs A"]
[2,"(i) Bill Delete by Bill Allocation Option-"]
[null,"Bill Processing                                      Bill Allocation"]
[null,"Select Bill Modification- ,d lwfp iznf'kZr gksxh ftlesa vc rd ftrus Hkh fcy Processing ds ckn Forward ugha gq, gS mudh lwfp fn[ksxh A izR;sd Row ds vUr esa Edit vkSj Delete Data dk Option gS A Delete Data ij Click djus ij vkidk Bill Delete gks tk;sxk] Edit ij Click djus ls dsoy vki Bill No. Change dj ldrs gS A"]
[3,"(i) Bill Delete by Bill Delete Option-"]
[null,"Authorization                                      Delete Bills"]
[null,"Select Month- ftl ekg dk fcy vki Delete djuk pkgrs gSa"]
[null,"Select Year- ftl o\"kZ dk fcy vki Delete djuk pkgrs gSa"]
[null,",d lwfp iznf'kZr gksxh ftlesa vc rd ds Not Forwarded/Reverted Bills fn[kkbZ nsaxsA"]
[null,"ftl fcy dks vki Delete djuk pkgrs gS mlds vkxs Checkmark dj Delete ij Click djsa] vkidk fcy Delete gks tk;sxk A"]
[5,"Update Bill Detail-"]
[null,"Authorization                                      Update Bill Detail"]
[null,"Enter Bill's Reference No.-------------------"]
[null,"Submit"]
[null,"lacaf/kr fcy dk fooj.k iznf'kZr gksxk ftles vki fuEu fooj.k cny ldrs gS&"]
[null,"                                Object Head"]
[null,"                                Budget Head"]
[null,"                                Voted/Charged"]
[null,"                                Bill Type- Salary/Salary Arear/DA/Bonus/Surrender etc"]
[null,"                                Plan/Non Plan"]
[null,"                                Demand No."]
[null,"                                Loan Head"]

{"sheet":"BillRevrt","index":132,"n_rows":9,"n_cols":2,"rows_kept":9,"cut":false,"hidden":true,"merged":[[0,0,0,1]]}
["How can Revert a Bill"]
[{"$f":"IF(B2=\"\",\"\",1)","v":1},";fn fdlh =qfV@Hkwyo'k vkidk fcy DDO Forward gks tk;s ;k vkids fcy ij Objection vk tk;s ;k Bill Objection gVkus ds fy, Bill Revert Option dk mi;ksx fd;k tkrk gS A"]
[{"$f":"IF(B3=\"\",\"\",A2+1)","v":2},"Authorization                                      Bill Revert"]
[{"$f":"IF(B4=\"\",\"\",A3+1)","v":3},"Bill Search ds nks Option gS& By Reference No. 000  And Manual Search- ----------"]
[null,"Reference No. Mkys ;k Manual search esa Select Month,Year,Bill Type,Bill Name"]
[null,"Manual search ls dsoy DDO Forward rd fd;s gq, fcy gh Revert fd;s tk ldrs gS A"]
[null,"nksuksa rjhdksa ls vkids Bill dh Detail fn[kkbZ nsxh vkSj uhps OK ij Click djsa Confirmation Massage esa OK ij Click djsa A"]
[4,"vkidk fcy Revert gks tk;sxk A"]
[5,"Bill Revert gksus ds ckn vkidk Bill, DDO Forward ls iwoZ dh fLFkfr esa vk tk;sxk vFkkZr~ vkidk fcy vc dsoy Proocessed gS vc vkidks iqu% DDO Forward, Digital Sign and Treasury Forward djuk gS A"]

{"sheet":"BillObj","index":133,"n_rows":33,"n_cols":2,"rows_kept":33,"cut":false,"hidden":true,"merged":[[0,0,0,1]]}
["How can Remove Bill Objection"]
[{"$f":"IF(B2=\"\",\"\",1)","v":1},"fdUgh nLrkostksa dh deh ;k =qVh ds dkj.k tc vkids fcy ij Objection vk tkrk gS mldh tkudkjh ge View Bill Status dj ldrs gS A"]
[{"$f":"IF(B3=\"\",\"\",A2+1)","v":2},"Bill ls Objection Remove djus ds fy, Step by Step dk;Z djuk gS ojuk leL;k vk ldrh gS A"]
[{"$f":"IF(B4=\"\",\"\",A3+1)","v":3},"loZizFke vkidks Bill Revert djuk gS By Reference No. tks vkids izR;sd fcy ds mij ckabZ rjQ fy[ks gksrs gS A"]
[4,"View Bill Objection Status ij Click djuk gS tks Authorization esa feysxk A"]
[null,"Select Month,Year,Bill Type,Bill Name and Bill No."]
[null,"uhps ,d lkj.kh iznf'kZr gksxh ftlesa vkids fcy ij ftrus Hkh Objections yxk;s x;s gS Li\"V fn[kkbZ nsaxs A"]
[null,"vkidks izR;sd Column ds Objection dk mlds lkeus ds [kkyh Culumn esa Reply fy[kuk gS uhps dh rjQ PDF File esa pkgh xbZ ,d QkbZy ftlesa vko'drkuqlkj ,d ls vf/kd ist gks ldrs gS] Document Upload dj Submit djuk gS A"]
[5,";fn vko';d gks rks Bill Data Delete djsa rFkk ;fn pkgk x;k gks rks dkfeZd dh Pay Detail esa cnyko djsa A"]
[6,"iqu% fcy Process djsa] vko';d gks rks vU; Documents Upload djsa ,oa DDO Forward, Documents E-Sign, Treasury Forward djsa A"]
[""]
[""]
[""]
[""]
[""]
[""]
[""]
[""]
[""]
[""]
[""]
[""]
[""]
[""]
[""]
[""]
[""]
[""]
[""]
[""]
[""]
[""]
[""]

{"sheet":"DArer","index":134,"n_rows":23,"n_cols":2,"rows_kept":23,"cut":false,"hidden":true,"merged":[[0,0,0,1]]}
["How can Prepare DA Arear Bill"]
[{"$f":"IF(B2=\"\",\"\",1)","v":1},"le;&le; ij tc jkT; ljdkj }kjk DA Rate esa o`f} dh ?kks\"k.kk dh tkrh gS og dqN ekg ckn dh tkrh gS blfy, dkfeZdksa dks cdk;k Arear fn;k tkrk gS A"]
[{"$f":"IF(B3=\"\",\"\",A2+1)","v":2},"Paymanger ij DA Arear dk Bill cukus dh izfdz;k osru fcy cukus ls fHkUu gS tks fuEukuqlkj gS&"]
[{"$f":"IF(B4=\"\",\"\",A3+1)","v":3},"loZizFke vkidks Paymanager ij Master esa DA Rates Update ij Click djuk gS tgka vkidks Pay Commission and New DA Rate dk p;u djuk gS vkSj Update djuk gS A"]
[{"$f":"IF(B5=\"\",\"\",A4+1)","v":4},"mlds ckn vkidks Bill Allocation djuk gS ftlesa loZizFke Bill Type esa DA Select djuk gS mlds ckn Object Head 01 fy[ks Pay Month esa pkyw ekg ,oa pkyw o\"kZ fy[ksa] Bill Date and bill no fy[ksa ,o Bill Group Select djsa vkSj Submit djsa A"]
[5,"Bill Processing esa DA Preparation--------DA Arear ij Click djsa"]
[6,",d ubZ foUMks [kqysxh ftlesa Month, Year, Bill Name, Bill No, Pay Commission, Rate/PayOrder Select djsa"]
[7,"vc DA Details Select djsa& DA Year From Month, To Month and Click on Show Data"]
[8,"uhps ckabZ rjQ Cash- Months Name    Gpf/ECPen- Month name Filter- All/Individual esa ls lacaf/kr ij Checkmark djsa chp esa xzqi dh Employees List fn[ksxh mlesa ls lHkh ;k dqN dkfeZdksa ds uke ds vkxs Checkmark yxk;sa "]
[9,";fn vki Transferred Employee dk DA Arear cukuk pkgrs gS rks Add Transferred Employee ij Click djsa Transferred dkfeZd ds DDO No Mkydj Search djds Add dj Arear cuk ldrs gS A"]
[10,"Process DA ij Click djsa A vkidk DA Arear Process gks pqdk gS A"]
[11,"vc vki osru fcy dh rjg DDO Forward and Next Step same"]
[12,";fn vki DA Arear cu tkus ds ckn DDO Forward ls igys] mles cnyko djuk pkgrs gS rks "]
[13,"Bill Processing esa DA Preparation--------DA ArearUpdation ij Click djsa"]
[14,"Month, Year, Bill Name, Bill No Select djsa"]
[15,"uhps lacaf/kr xzqi ds lHkh dkfeZdksa dh lwfp ftudk ,fj;j cuk;k x;k gS] iznf'Zkr gksxh lacaf/kr dkfeZd ds uke ij Click dj mlds Arear esa la'kks/ku dj ldrs gS A"]
[""]
[""]
[""]
[""]
[""]
[""]
[""]

{"sheet":"HPSal","index":135,"n_rows":11,"n_cols":2,"rows_kept":11,"cut":false,"hidden":true,"merged":[[0,0,0,1]]}
["Prepare Half Pay Leave Bill"]
[{"$f":"IF(B2=\"\",\"\",1)","v":1},";fn dksbZ dkfeZd v}Z osru vodk'k dk miHksx djrk gS rks mldks mDr vodk'k dky esa dsoy v}Z osru gh feysxk vFkkZr~ ;fn dksbZ dkfeZd fnukad 1 ls 20 rd v}Z osru vodk'k /HPL ij jgrk gS rks mldks fnukad 1 ls 20 rd ds fy, dsoy 10 fnol dk gh osru Hkqxrku fd;k tk;sxk rFkk fnukad 21 ls 30 rd dk iw.kZ osru ns; gksxk ¼ftls vkidks Partial Pay ls Add djuk gksxk½"]
[{"$f":"IF(B3=\"\",\"\",A2+1)","v":2},";fn dksbZ dkfeZd v}Z osru vodk'k dk miHkksx djrk gS rks mlds vodk'k [kkrs ls mrus gh fnol uke fd;s tk;asxs ftrus fnol dk v}Z osru vodk'k fy;k x;k gS tcfd :ikUrfjr vodk'k esa ls nqxqus HPL vodk'k [kkrs ls ukes fd;k tkrk gS o mDr dky dk iw.kZ osru ns; gksrk gS A"]
[{"$f":"IF(B4=\"\",\"\",A3+1)","v":3},"mDr izdkj ds osru ds fy, Paymanager ij vyx ls O;oLFkk gS ftlds fy, vki loZizFke Salary Bill Allocation djsa vkSj Bill Processing esa Employee Half Pay ij Click djsa A"]
[{"$f":"IF(B5=\"\",\"\",A4+1)","v":4},"Employee Name Enter djsa ,oa Search djsa A iznf'kZr lwfp esa ls lacaf/kr dkfeZd ds uke ij Click djsa A"]
[5,"Select Year, Month and From Date To Date Enter djsa fnuksa dh la[;k vius vki iznf'kZr gksxh ,oa Submit djsa A"]
[6,"Half Pay ,oa Partial Pay nksuksa dks ,d lkFk Bill Process fd;k tk ldrk gS A"]
[7,"vc vkidks Bill Process dh izfdz;k viukuh gS tks Normal Salary Process dh rjg gh djuk gS A"]
[""]
[""]
[""]

{"sheet":"PartialPay","index":136,"n_rows":17,"n_cols":2,"rows_kept":17,"cut":false,"hidden":true,"merged":[[0,0,0,1]]}
["Prepare Partial Pay Bill"]
[{"$f":"IF(B2=\"\",\"\",1)","v":1},"tc fdlh dkfeZd dks fdlh ekg fo'ks\"k ds dqN gh fnuksa dk osru Hkqxrku djuk gks rks rc dkfeZd dk Partial Pay cuk;k tkrk gS A"]
[{"$f":"IF(B3=\"\",\"\",A2+1)","v":2},"dkfeZd dk Partial Pay cukus dh izfdz;k fuEukulkj gS&"]
[{"$f":"IF(B4=\"\",\"\",A3+1)","v":3},"loZizFke Salary Bill Allocation djuk gS tSls lkekU;r;k osru fcy ds fy, fd;k tkrk gS A"]
[4,"blds ckn Employee Pay Detail easa tkuk gS lacaf/kr dkfeZd dh Pay Detail esa tk;sa ftlesa uhps dh rjQ Partial Pay ds Option ij Click djus ij ,d ubZa Window Open gksxh A"]
[5,"Select Month & Year ftl ekg dk Partial Pay cukuk pkgrs gS ,oa From Date & To Date Enter djsa uhps fnuksa dh la[;k Automatic Show gksxh ,oa Deduction dks Checkmark djsa vU;Fkk osru ls dVkSfr;ka ugha gksxh ;fn iw.kZ fnuksa ds lkFk vk/kk fnu tksMuk pkgrs gksa rks HalF Pay dks Checkmark djsa vk/kk fnu Add gks tk;sxk ,oa Submit djsa A"]
[null,"tSls& fdlh dkfeZd dk 15-50 fnuksa dk osru cukus ds fy, fnukad 1 ls 15 rd Select djsa ,oa Half Pay dks Checkmark djus lsa fnuksa dh la[;k 15-50 vk tk;sxh A"]
[6,"vc dkfeZd dh Pay Detail esa 15-50 dk csfld osru]Mh, ,oa edku fdjk;k HkRrk Show gksxk ysfdu dVkSfr;ksa esa NPS dh dVkSrh lEiw.kZ ekg dh gh Show gksxh] Salary Process djus ds ckn Inner Sheet Check djsa NPS lgh Show gksxh A"]
[7,"vc vki pkgs rks Group ds lHkh dkfeZdksa ds lkFk Salary Process djsa ;k vdsys dkfeZd dh Hkh cuk ldrsa gS"]
[8,"Document Upload esa ftl dkfeZd dh Partial Pay cukbZ gS mldk Supporting Documents Upload djsa"]
[9,";fn fdlh dkfeZd us Probation esa EOL/vlk/kkj.k vodk'k fy;k gks rks mldh Lohd`fr rks Probation iw.kZ gksus ds ckn fu;qfDr vf/kdkjh tkjh djsxk vr% vki Abscentee Sheet Edit ij Click dj dkfeZd dk uke Select djsa ,oa dkj.k esa Unauthorised Leave Select dj Date Period Select djsa o Submit djsa A Uploaded Documents esa Abscentee Sheet Show gksxh mls Download djsa A"]
[10,"Abscentee Sheet ij DDO ds Sign & Seal yxkdj Other Documents ds uke ls Upload djsa A"]
[11,"ckfd izfdz;k lkekU; Salary Bill dh izfdz;k viuk;sa A"]
[""]
[""]
[""]
[""]

{"sheet":"EmpTrf","index":137,"n_rows":16,"n_cols":2,"rows_kept":16,"cut":false,"hidden":true,"merged":[[0,0,0,1]]}
["Employee Transfer from Paymanager"]
[{"$f":"IF(B2=\"\",\"\",1)","v":1},"tc fdlh dkfeZd dk vius dk;kZy; ls vU; dk;kZy; esa LFkkuUrj.k gks tkrk gS rks ml dkfeZd dks Paymanger ls nwljs Ddo ds dk;kZy; ds fy, Transfer fd;k tkrk gS A"]
[{"$f":"IF(B3=\"\",\"\",A2+1)","v":2},"dkfeZd dh Paymanager rHkh Transfer gksxh tc mDr dkfeZd dk Paymanger ij dksbZ Hkh fcy Processing esa ugha gks rFkk lHkh fcyksa dk Hkqxrku ds i'pkr TV No Generate gks pqds gks A"]
[{"$f":"IF(B4=\"\",\"\",A3+1)","v":3},"fdlh dkfeZd dh Paymanager ID Transfer ds fy, fuEu izfdz;k viuk;s&"]
[{"$f":"IF(B5=\"\",\"\",A4+1)","v":4},"Authorization esa Transfer Employee ij Click djsa"]
[5,",d ubZ foUMks vksiu gksxh ftlesa dkfeZd ds uke ds nks v{kj Vkbi djus ij Drop Down Meanu esa dkfeZd dk iwjk uke Show gksxk mlij Click djus ij uhps dkfeZd ds uke ds lkFk mldk vU; fooj.k Hkh fn[kkbZ nsxk A"]
[6,"dkfeZd ds uke ij Click djsa uhps dkfeZd dk lEiw.kZ fooj.k fn[kkbZ nsxk"]
[7,"Type ds vkxs Paymanager ;k PRI esa ls fdlh ,d dks Checkmark djsa ,oa vxys DDO dh ID Mkydj Search ij Click djsa vxys DDO ds dk;kZy; dk uke o dksM vius vki uhps fn[kkbZ nsxk A"]
[8,"vc Order No and date Mkydj Update ij Click djsa A vkids Employee dh ID vxys DDO ij Transfer gks pqdh gS A"]
[9,"tc rd vxyk DDO lacaf/kr dkfeZd dh ID dks Accept ugha dj ysrk rc rd vki Transfer dks change dj ldrs gS"]
[10,"Master esa Rectify Wrong Trasfer ij Click djsa ,d ubZ foUMks [kqysxh ftlesa Previous Office ID vius vki fn[kkbZ nsxh ,o uhps Select Name ls vkids dkfeZd dk uke Select djsa ,o Updated Office Id Mkysa vkSj Update ij Click djs vkids }kjk fd;k x;k ifjorZu Save gks pqdk gS A"]
[""]
[""]
[""]
[""]
[""]

{"sheet":"AcceptTrf","index":138,"n_rows":11,"n_cols":2,"rows_kept":11,"cut":false,"hidden":true,"merged":[[0,0,0,1]]}
["Accept Transferred Employee on Paymanager"]
[{"$f":"IF(B2=\"\",\"\",1)","v":1},";fn fdlh dkfeZd dh Paymanger ID dk LFkkukUrj.k iqjkus DDO ls u;s DDO ds fy, fd;k tkrk gS rks u;s MhMhvks }kjk dkfeZd dh ID dks Accept djuk gksrk gS A "]
[{"$f":"IF(B3=\"\",\"\",A2+1)","v":2},"Paymanger ij Emloyee ID dks Accept djus ds fy, fuEu izfdz;k viukuh gksrh gS&"]
[{"$f":"IF(B4=\"\",\"\",A3+1)","v":3},"Authorization esa Accept Transferred Employees ij Click djsa "]
[{"$f":"IF(B5=\"\",\"\",A4+1)","v":4},",d ubZ foUMks [kqysxh ftlesa vkids dk;kZy; dks Transfer fd;s x;s lHkh dkfeZdksa dh ,d lwfp iznf'kZr gksxh ftlesa ls lacaf/kr dkfeZd ij Click djus ij ,d Pop-up Window [kqysxh ftlesa dkfeZd dk in ,oa Group Name Select dj Submit djsa"]
[5,"vc vkids xzqi esa u;k dkfeZd Add gks pqdk gS A"]
[""]
[""]
[""]
[""]
[""]

{"sheet":"AddLoan","index":139,"n_rows":23,"n_cols":2,"rows_kept":23,"cut":false,"hidden":true,"merged":[[0,0,0,1]]}
["How can Add/Delete LIC/Loan Deduction"]
[{"$f":"IF(B2=\"\",\"\",1)","v":1},";fn fdlh dkfeZd }kjk ,slk _.k fy;k x;k gS ftldh dVkSrh osru ls dh tkuh gS tSls& jkT; chek _.k] lkekU; izko/kk;h fuf/k vLFkkbZ _.k] vkokl _.k vkfn] rks mldh dVkSfr;ka isesustj ls djus dh izfdz;k fHkUu izdkj ls gS A"]
[{"$f":"IF(B3=\"\",\"\",A2+1)","v":2},"mDr _.kksa dh dVkSfr;ka vki lh/ks Employee Pay Detail esa tkdj Deduction ls ugha dj ldrs ;fn vkius Pay Detail esas Deduction ls dVkSrh dh rks dVkSrh rks Show djsxh ysfdu Bill Objection es vk tk;sxk A D;ksfd lh/ks dVkSfr Add djus ls _.k [kkrk la[;k Show ugha djsxh vkSj vkidk _.k dc izkjEHk gqvk ,oa dc lekIr gksxk bldh tkudkjh feyuk vlaHko gks tk;sxk A"]
[{"$f":"IF(B4=\"\",\"\",A3+1)","v":3},"Loan and  LIC Add djus ds nks Option gSa& 1- Employee Pay Detail esa Add LIC and Add Loan 2- Deduction Master in Master Data ls A lh/ks Deductions ls ugha djsa A"]
["(i)","By Employee Pay Detail-"]
[null,"Employee Pay Detail esa uhps dh rjQ Tab nh gqbZ gSa muesa Add Lic ij Click djus ij ,d Pop-up Window [kqysxh ftlesa LIC No., LIC Amount, Start Date and End Date Hkjsa ,oa Submit djsa A Loan Add ds fy, Add Loan ij Click djsa ,d QkWeZ [kqysxk ftlesa Loan dh Detai Hkjsa] Account No Hkjuk ugha Hkwysa vkSj Submit djsa A"]
["(ii)","By Deduction Master-"]
[null,"Master esa Deduction Master ij vkidks dbZ Option fn[kkbZ nsaxs tSls& LIC Detail, Cooprative A/c Detail, Loan Detail ftuls vki mDr dVkSfr;ksa dks Add dj ldrs gS A"]
["A","LIC Detail-"]
[null,"LiC Detail ij Click djus ij ,d QkWeZ [kqysxk ftlesa Employee ds uke ds izFke nks v{kj fy[kus ij uhps dkfeZd dk uke fn[ksxk mlij Click djrs gh dkfeZd dk uke] in] tUe frfFk fn[kkbZ nsxh mlds ckn Add fn[kkbZ nsxk rFkk ;fn dkfeZd dh igys ls gh dksbZ Policy py jgh gks mudh lwfp Hkh uhps fn[kkbZ nsxh vkSj Action esa Delete dk Option gksxk vki pkgs rks fdlh Policy dks Delete dj ldrs gS A"]
[null,"Add ij Click djus ds ckn ,d Pop-up Window [kqysxh ftlesa Policy No. Amount, Start Date & End Date Hkjuh gS vkSj Submit djuk gS A"]
[null,"Pay Detail esa Automatic LIC dh dVkSfr Add gks tk;sxh ;fn iwoZ ls LIC dh dVkSfr Add gS rks jkf'k esa o`f} gks tk;sxh "]
["B","Loan Detail-"]
[null,"Select Bill Name/ Group Name and Enter Employee Name's first two letter"]
[null,"uhps dkfeZd dk iwjk uke fn[ksxk mls Select djsa ,d u;k QkWeZ [kqysxk&"]
[null,";fn dkfeZd dk igys ls gh dksbZ yksu py jgk gS rks mldk iwjk fooj.k uhps fn[kkbZ nsxk ftlesa Edit/Delete dj ldrs gS ;fn vkidk yksu iwjk gks pqdk gks rks vki Delete dj ldrs gS A "]
[null,"Add Loan Detail-"]
[null,"Select Deduction- GPF Loan/SI Loan/HBA Old and others"]
[null,"Fill Loan A/C No, Drawn Date, Loan Amount, Total Installment,Last Bill Month, Last Bill Year, State, District, Bank Name, Bank Branch etc and Submit"]
[{"$f":"IF(B20=\"\",\"\",A19+1)","v":""}]
[""]
[""]
[""]

{"sheet":"NirwahBhatta","index":140,"n_rows":19,"n_cols":2,"rows_kept":19,"cut":false,"hidden":true,"merged":[[0,0,0,1]]}
["How can Add/Delete LIC/Loan Deduction"]
[{"$f":"IF(B2=\"\",\"\",1)","v":1},"tc fdlh dkfeZd dks fuyafcr fd;k tkrk gS rks dkfeZd dks fuyacu dky esa iw.kZ osru ugha fn;k tkdj dsoy fuokZg HkRrk ns; gksrk gS tks fuyacu vkns'k esa of.kZr gksrk gS A"]
[{"$f":"IF(B3=\"\",\"\",A2+1)","v":2},"fuyafcr dkfeZd dks ns; fuokZg HkRrs ds Hkqxrku gsrw Paymanager ij Bill cukus dh izfdz;k fuEukuqlkj gS&"]
[{"$f":"IF(B4=\"\",\"\",A3+1)","v":3},"loZizFke Monthly Salary Bill dh rjg Bill Allocation djsa A"]
[4,"Bill Allocation ds ckn Employee Pay Detail esa tk;sa&"]
[null,"Select Month, Year ftl ekg dk fcy cuk jgsa gSa ,oa Select Bill Group and Employee Name"]
[null,"dkfeZd dh Pay Detail esa uhps dh rjQ Suspand ij Click djsa] ,d Pop-up Window Open gksxh ftlesa fuyacu vkns'k dzekad o fnukad fy[ks] fuyacu vof/k rFkk fuyacu dky esa ns; fuokZg HkRrs dh nj Fill djsa] Remark esa fuokZg HkRrs dh fVIi.kh djsa ,oa Submit djsa A"]
[5,"fuyacu dky esa izFke 6 ekg esa nj&50% ,oa 6 ekg ds ckn ls 75% ;fn dky esa o`f} dk;kZy; dh dfe ls gks rks vU;Fkk nj esa dfe dh tkrh gS A"]
[6,"vc Salary Process djsa ,oa vkxs dh izfdz;k lkekU; osru fcy dh rjg gh viuk;sa A"]
[7,"HRA dh nj fuyacu dky ds eq[;ky; ij ns; nj ds leku gksxh A"]
[8,"dkfeZd dks fuyacu dky esa fdlh vU; izdkj ds fu;kstu] O;kikj] O;olk; ;k /kU/ks esa ugha gksus dk izek.k i= nsuk gksxk A"]
[9,"fuokZg HkRrs ls vk;dj o jkT; chek _.k] vxzhe _.k dh Premium dh dVkSfr vfuok;Zr% dh tkrh gS ,oa LIC, Cooperative Loan, GPF Loan dh dVkSfr;ka dkfeZd dh lgefr ls gh tk;sxh vU;Fkk ugha A"]
[""]
[""]
[""]
[""]
[""]
[""]
[""]

{"sheet":"BonsBill","index":141,"n_rows":27,"n_cols":2,"rows_kept":27,"cut":false,"hidden":true,"merged":[[0,0,0,1]]}
["Bonus Bill"]
[{"$f":"IF(B2=\"\",\"\",1)","v":1},"jkT; ljdkj ds ,sls vjktif=r LFkkbZ dkfeZd tks is ysoy&12 ;k mlls de ij dk;Zjr gS mUgs fiNys foRr o\"kZ dk cksul ns; gksrk gS ;fn os fiNys foRr o\"kZ esa 6 ekg ;k mlls vf/kd le; ls dk;Zjr gks A"]
[{"$f":"IF(B3=\"\",\"\",A2+1)","v":2},"jkT; ljdkj }kjk cksul dh ?kks\"k.kk djus ij cksul fcy fuEukuqlkj cuk;k tkrk gS&"]
[{"$f":"IF(B4=\"\",\"\",A3+1)","v":3},"Bill Allocation-"]
[null,"Select Bill Type- Bonus"]
[null,"Object Head- 01, Select Pay Month,Year,Date, Bill No- Manually, Bill Name & Submit"]
[{"$f":"IF(B7=\"\",\"\",A4+1)","v":4},"Bill Processing-"]
[null,"Other Bill                                                  Bonus Detail"]
[null,"Select Pay Year, Pay Month, Bill Name, Bill No, Order No- foRr foHkkx }kjk tkjh orZeku o\"kZ dk vkns'k dzekad Select djsa ,oa Show ij Click djsa A"]
[null,"uhps Eligible dkfeZdksa dh lwfp iznf'kZr gksxh Filter esa Individual ij Checkmark djsa ,oa ftu dkfeZdksa dk Bonus Bill Process djuk pkgrs gS muds uke ds igys Chechmark dj Process ij Click djsa A"]
[null,"vkidk Bonus Bill Process gks pqdk gS ¼;fn fdlh dkfeZd dk vkaf'kd cksul cukuk gks rks uhps dh izfdz;k ds ckn gh DDO Forward djsa½ vc vki vko';d nLrkost Upload dj vkxs dh izfdz;k tSls&DDO Forward------------vkfn djsa"]
[{"$f":"IF(B12=\"\",\"\",A7+1)","v":5},"Partial Bonus Process-"]
[null,";fn fdlh dkfeZd dk vkaf'kd Bonus cukuk pkgrs gS rks mijksDrkuqlkj Bonus Bill Process ds ckn fuEu izfdz;k viuk;sa vkSj mlds ckn gh vxyh izfdz;k viuk;sa&"]
[null,"Other Bill esa Bonus Updation ij Click djsa& "]
[null,"Select Pay Year, Pay Month, Bill Name, Bill No, Order No- foRr foHkkx }kjk tkjh orZeku o\"kZ dk vkns'k dzekad Select djsa ,oa Show ij Click djsa A"]
[null,"iwoZ esa vkius ftrus dkfeZdksa dk Bonus Process fd;k Fkk mudh lwfp iznf'kZr gksxh] ukeksa ds vUr esa Delete dk Option gS Delete ij Click djus ij dkfeZd Bonus Bill ls Delete gks tk;sxk] Bonus Update ds fy, dkfeZd ds uke ij Click djsa&"]
[null,"uhps dkfeZd dk cksul tks iwoZ esa Process fd;k Fkk oks Show gksxk A"]
[null,"Edit Allowance ij Click djsa&"]
[null,"Pop Up Window [kqysxh ftlesa Enter New Amount esa tks vkaf'kd cksul vki Mkyuk pkgrs gS oks Hkjsa ,oa Submit djsa A"]
[null,"vc vkidk Bonus Amount cny pqdk gS A vc osru fcy dh rjg ossru izksls'k ds vkxs dh izfdz;k viuk;sa"]
[{"$f":"IF(B21=\"\",\"\",A12+1)","v":6},"Add Nominee-"]
[null,"              ;fn cksul dk Hkqxrku dkfeZd ds uksfeuh dks djuk gks rks Click on Add Nominee ,d Pop-up Window [kqysxh ftlesa Select Nominee ¼uksfeuh o mldh cSad Detail iwoZ esa ADD gksuk pkfg;s½ djsa ,oa ftruh jkf'k dk Hkqxrku uksfeuh dks djuk Hkjsa rFkk Submit djsa A"]
[{"$f":"IF(B23=\"\",\"\",A21+1)","v":7},"Documents Upload-"]
[null,"                Document Upload esa dk;kZy; dk cksul Lohd`fRr vkns'k ,oa vU; ;fn ykxw gks] viyksM djsa A"]
[{"$f":"IF(B25=\"\",\"\",A23+1)","v":8},"Print Report-"]
[null,"                    Reports                     Other Bill Report                      Bonus Report      "]
[null,"Bonus Inner, Bonus Outer, Bonus Salary Detail Download djsa"]

{"sheet":"ChngPay","index":142,"n_rows":19,"n_cols":2,"rows_kept":19,"cut":false,"hidden":true,"merged":[[0,0,0,1]]}
["Change in Pay Detail without HOD Approved"]
[{"$f":"IF(B2=\"\",\"\",1)","v":1},"iseSustj ds os dkfeZd ftuds ewy osru esa ACP/DPC/Pay Fixation/Other ds dkj.k ifjorZu gksus ij fcuk HOD Approve djok;s Pay Detail esa Change djus dh izfdz;k fuEukuqlkj gS&"]
[{"$f":"IF(B3=\"\",\"\",A2+1)","v":2},"Employee Pay Detail Update-"]
[null,"Authorization                               Employee Details Updation                   Employee Pay Detail Update"]
[null,"dkfeZd dks Search djus nks Options gS  1- Selection By- Bill Name          2- Selection By-By Search"]
[null,"A-Selection By- Bill Name"]
[null,"Select Bill Name---- uhps nka;h rjQ lHkh dkfeZdksa dh lwfp iznf'kZr gksxh ftlesa ls lacaf/kr dkfeZd ds uke ij Click djsa "]
[null,"Side esa dkfeZd ds Existing Data fn[kkbZs nsaxs"]
[null,"lcls mij Select Fixation Type-ACP/ Promotion/Advance Increament, Fill Sanction/Promotion Date and fill Effectve Date"]
[null,"Select New Pay Commission, New Pay Level and New Basic Pay, Select File in PDF and Click on Update"]
[null,"B-Selection By- By Search"]
[null,"          uhps Employee ID, Name, Belt No, A/c No esa ls Name ls igys Checkmark yxk;sa ,oa [kkyh Column esa dkfeZd ds uke ds nks v{kj Type djrs gh Drop Down esa ls dkfeZd ds uke dks Select djsa "]
[null,"nka;h rjQ dkfeZd dk uke iznf'kZr gksxk mlij Click djsa"]
[null,"vc mijksDrkuqlkj dk;Zokgh djs ,oa Update ij Click djsa A dkfeZd dh Pay Detail Change gks pqdh gS A"]
[]
[{"$f":"IF(B16=\"\",\"\",A15+1)","v":""}]
[""]
[""]
[""]

{"sheet":"IfmsBudg","index":143,"n_rows":21,"n_cols":2,"rows_kept":21,"cut":false,"hidden":true,"merged":[[0,0,0,1]]}
["Download Sanctioned Budget & Post From IFMS"]
[{"$f":"IF(B2=\"\",\"\",1)","v":1},"IFMS ij Budget Module ls DDOWise Sanctioned Post, Sanctioned Budget ,oa Expenditure dh tkudkjh Download dh tk ldrh gS"]
[{"$f":"IF(B3=\"\",\"\",A2+1)","v":2},"blds fy, Username- guest and Password- Guest@321 Sequrity Code Mkydj Submit djsa A"]
[{"$f":"IF(B4=\"\",\"\",A3+1)","v":3},"Download Sanctioned Budget-"]
[null,"Finance                           Budget Distribution                 Report                  Letest Budget Balance in Passbook Formate"]
[null,"Select Financial Year------------        Enter Office ID----------------------"]
[null,"Report Type esa Detail of Allocation ij Checkmark djsa  ckfd lHkh Options dks [kkyh NksM nsaos ,oa Show Report ij Click djsa  vkids DDO Code ls lacaf/kr lHkh Heads esa Lohd`r ctV dk fooj.k izkIr gks tk;sxk A"]
[null,";fn vki izR;sd Head dk Sanctioned Budget i`Fkd&i`Fkd izkIr djuk pkgrsa gS rks Budget Head esa Budget Head-tSls  2202-02-109-01-00 ,sls gh vyx&vyx gsM Mkydj Report Download dj ldrs gS A "]
[{"$f":"IF(B9=\"\",\"\",A4+1)","v":4},"Download Sanctioned, Total Expediture & Balance Budget-"]
[null,";fn vki Report Type esa Summary with Exp ij Checkmark yxkrs gS rks vkidks Budget Head Hkjuk vfuok;Z gksxk vkSSj 'ks\"k column dks [kkyh NksMuk gS Show Report ij Click djsa "]
[null,"fjiksVZ es lacaf/kr Head dk Sanctioned Budget, vc rd dk dqy Expenditure ,oa Balance Amount Show gksxk A"]
[{"$f":"IF(B12=\"\",\"\",A9+1)","v":5},"Download Sanctioned Post-"]
[null,"Finance                           Centralized Distribution/Withdraw                 Post Detail Officewise"]
[null,"Budget Head and Office ID Mkysa ,oa Show Report ij Click djsa A"]
[null,"bl izdkj lacaf/kr Budget Head esa Lohd`r Post dk uke ,o dqy Lohd`r inksa dh la[;k dh tkudkjh izkIr dh tk ldrh gS A blh fjiksVZ ds vuqlkj vki Paymanger ij izRlsd Group esa dkfeZdksa dk p;u djsaxs A"]
[""]
[""]
[""]
[""]
[""]
[""]

{"sheet":"Rajkosh","index":144,"n_rows":21,"n_cols":2,"rows_kept":21,"cut":false,"hidden":true,"merged":[[0,0,0,1]]}
["Download Expenditure Report From Rajkosh"]
[{"$f":"IF(B2=\"\",\"\",1)","v":1},"IFMS ij Rajkosh Module ls MhMhvks }kjk izR;sd Budget Headwise izR;sd fofRr; o\"kZ dk Expenditure ,oa Billwise TV No Download fd;k tk ldrk gS A"]
[{"$f":"IF(B3=\"\",\"\",A2+1)","v":2},"Rajkosh ij Username- guest and Password- guest, Sequrity Code Mkydj Login djsa A"]
[null,"Transaction Status                                              DDOWise Report (Expenditure)"]
[null,"Select From Date---------- To Date--------------------District Treasury"]
[null,"Fill Complete Budget Head-------------- Select DDO Code in Criteria On-----------   Value- DDO Code"]
[null,"Object Head, BFC Type, Head Type esa dqN ugha djsa"]
[null,"Report View esa PDF ij Checkmark yxk;sa vkSj Submit ij Click djsa A"]
[{"$f":"IF(B9=\"\",\"\",A3+1)","v":3},"Report esa Bill No & Date, Budget Head, TV No & Date, Cash Amount, Gross Amount and Total Expediture of Head dh leLr tkudkjh feysxh A"]
[{"$f":"IF(B10=\"\",\"\",A9+1)","v":4},"          ,d ckj esa dsoy ,d gh foRr o\"kZ dh vof/k dh frfFk;ka Mkysa tSls& 01-04-20 ls 31-03-21 rd A"]
[""]
[""]
[""]
[""]
[""]
[""]
[""]
[""]
[""]
[""]
[""]

{"sheet":"ROP","index":145,"n_rows":20,"n_cols":2,"rows_kept":20,"cut":false,"hidden":true,"merged":[[0,0,0,1]]}
["Recovery By ROP"]
[{"$f":"IF(B2=\"\",\"\",1)","v":1},";fn fdlh dkfeZd dks =qfVol@Hkwyol osru@HkRrs@vU; jkf'k dk vf/kd Hkqxrku gks tkrk gS rks lk-fo-ys-fu ds vuqlkj MhMhvks }kjk vf/kd Hkqxrku dh Recovery djus dk izko/kku gS A ROP- Recovery of Payment"]
[{"$f":"IF(B3=\"\",\"\",A2+1)","v":2},";fn olwyh mlh foRr o\"kZ esa dh tkrh gS ftlesa vf/kd Hkqxrku fd;k x;k gS rks olwyh nks izdkj ls dh tk ldrh gS 1- Minus Expenditure }kjk mlh Budget Head ls ftlls jkf'k vkgfjr dh xbZ gks 2- ROP }kjk"]
[{"$f":"IF(B4=\"\",\"\",A3+1)","v":3},"ROP ls olwyh djus dh izfdz;k fuEukuqlkj gS&"]
[null,"loZizFke MhMhvks }kjk olwyh dk dk;kZy; vkns'k fudkydj olwyh dk fu/kkZj.k fd;k tk;sxk"]
[null,"Bill Processing                                         Salary Preparation                                      Employee Pay Detail"]
[null,"Select Bill Month- ftl ekg dk osru fcy vc cuk;k tkuk gS"]
[null,"Select Year & Bill Group- ftl xzqi esa lacaf/kr dkfeZd gS"]
[null,"uhps nka;ha rjQ xzqi ds dkfeZdksa dh lwfp iznf'kZr gksxh ftlesa lacaf/kr dkfeZd ds uke ij Click djsa ftlls ROP djuh gSa A"]
[null,"uhps dkfeZd dh Pay Detail iznf'kZr gksxh ,oa mlds uhps ADD Allowances ij Click djusa ij ,d Pop-up window [kqysxh"]
[null,"Select Allowance esa ls ROP-123 dks] Type esa Amount dks  Select djsa ,oa Amount esa olwyh dh jkf'k o Reason esa olwyh dk fooj.k fy[ksa vkSj Submit djsa A"]
[{"$f":"IF(B12=\"\",\"\",A4+1)","v":4},"dkfeZd ds Allowances esa ROP dh jkf'k ¼&½ esa iznf'kZr gksxh vkSj mldh Gross Salary de gks tk;sxh A"]
[{"$f":"IF(B13=\"\",\"\",A12+1)","v":5},"vc vki Salary Process djsa ,oa vkxs dh izfdz;k djsa rFkk ROP dh  Schedule dks dkfeZd dh PF esa yxkuh gSa A"]
[6,"Salary ECS gks tkus ,oa TV No Generate gkus ds ckn ROP dks dkfeZd dh Pay Detail ls Delete dj nsaos A"]
[""]
[""]
[""]
[""]
[""]
[""]

{"sheet":"BulkD","index":146,"n_rows":20,"n_cols":2,"rows_kept":20,"cut":false,"hidden":true,"merged":[[0,0,0,1]]}
["Bulk Allowances & Deductions"]
[{"$f":"IF(B2=\"\",\"\",1)","v":1},"Paymanger ij igys ls gh ekstwn dkfeZd ds osru] HkRrs] dVkSfr;ksa vkfn dh jkf'k esa ifjorZu ;k u;s HkRrs@dVkSfr;ksa dks tksMus ds fy, Bulk Allowances/Deduction dk iz;ksx fd;k tkrk gS A"]
[{"$f":"IF(B3=\"\",\"\",A2+1)","v":2},"Bulk Allowances-"]
[null,"Bill Processing                        Salary Preparation                               Bulk Allowances"]
[null,"Bill Name- ml fcy xzqi dk p;u dhft, ftles vkidk dkfeZd gS "]
[null,"Allowances- Select   Desired Allowance Name"]
[null,"Type- Select Formula/Amount"]
[null,";fn vkius Formula Select fd;k gS rks jkf'k ugha Hkjuh gS"]
[null,"Amount- og jkf'k Hkfj;s tks vki pkgrs gS"]
[null,"lkeus dkfeZdksa dh lwfp esa ls ml dkfeZd ;k lHkh dkfeZdksa ds vkxs Checkmark yxk;sa vkSj Submit djsa A"]
[null,"blizdkj vkids dkfeZdksa@dkfeZd dh Pay Detail esa lacaf/kr HkRrs dh jkf'k c<@?kV tk;sxh A"]
[{"$f":"IF(B12=\"\",\"\",A3+1)","v":3},"Bulk Deductions-"]
[null,"Bill Processing                        Salary Preparation                               Bulk Deductions"]
[null,"Bill Name- ml fcy xzqi dk p;u dhft, ftles vkidk dkfeZd gS "]
[null,"Deduction- Select   Desired Deductions Name"]
[null,"Type- Select Formula/Amount"]
[null,";fn vkius Formula Select fd;k gS rks jkf'k ugha Hkjuh gS"]
[null,"Amount- og jkf'k Hkfj;s tks vki pkgrs gS"]
[null,"lkeus dkfeZdksa dh lwfp esa ls ml dkfeZd ;k lHkh dkfeZdksa ds vkxs Checkmark yxk;sa vkSj Submit djsa A"]
[null,"blizdkj vkids dkfeZdksa@dkfeZd dh Pay Detail esa lacaf/kr dVkSfr dh jkf'k c<@?kV tk;sxh A"]

{"sheet":"SalArer","index":147,"n_rows":26,"n_cols":2,"rows_kept":26,"cut":false,"hidden":true,"merged":[[0,0,0,1]]}
["How can Prepare Salary Arear Bill"]
[{"$f":"IF(B2=\"\",\"\",1)","v":1},";fn fdlh dkfeZd dk Pay Fixation/ACP/DPC/Other ds dkj.k osru@HkRrs dk Hkqxrku 'ks\"k gksus ij Salary Arear cukus dh Paymanger ij vyx ls O;oLFkk gS A"]
[{"$f":"IF(B3=\"\",\"\",A2+1)","v":2},"Salary Arear cukus ls iwoZ dkfeZd dh Salary Arear Defference Sheet cukuk vfuok;Z gS rkfd Paymanger ij cus Arear dk feyku lqfuf'pr fd;k tk lds A"]
[{"$f":"IF(B4=\"\",\"\",A3+1)","v":3},"Bill Allocation-"]
[null,"Select Bill Type- Salary Arear"]
[null,"Bill Sub Type- Salary Arear"]
[null,"Object Head- 01"]
[null,"Pay Month- Current Month"]
[null,"Year- Current Year"]
[null,"Bill Date-----------"]
[null,"Bill No-----------"]
[null,"Bill Name-Concerned Group and Click on SUBMIT"]
[{"$f":"IF(B13=\"\",\"\",A4+1)","v":4},"Bill Processing-"]
[null,"Bill Processing-                           Salary Preparation                                   Salary Arear"]
[null,"Salary Arear ij Click djrs gh ,d ubZ Window [kqysxh ftlesa&"]
[null,"Select Pay Month, Pay Year, Bill Name, Bill No, Enter Reason- Salary Arear/ACP/DPC/Other, Checkmark on Name "]
[null,"uke ds dkWye esa dkfeZd ds uke dk izFke v{kj Mkyrs gh Drop Down esa iwjk uke Show gksxk mls Select djrsa gh dkfeZd dk uke uhps nka;h rjQ Add gks tk;sxk] blh izdkj vU; dkfeZdksa ds uke Hkh tksM ldrsa gS A"]
[null,"lwph esa ls fdlh ,d dkfeZd ds uke ij Click djrs gh uhps dkfeZd dk uke] in] ewy osru] xzqi dk uke] [kkrk la- vkfn iznf'kZr gksaxs uhps dh rjQ Add Allowance ij Click djsa ,d Pop up Window [kqysxh ftlesa&"]
[null,"Fill From Date To Date- esa ftl frfFk ls ,fj;j cdk;k gS ls ,d foRr o\"kZ ds vUr rd ;fn gks rks Hkjsa ojuk tgka rd ,fj;j nsuk gS Hkjsa A ;fn foRr o\"kZ ds ckn dk Hkh cdk;k gS rks nqckjk blh en dks vxyh frfFk ls Hkjsa A"]
[null,"HkRrs dhs ensa& Basic vkfn dks Select djrs gh ftrus ekg dh vof/k mij Hkjh Fkh mrus dkWye uhps [kqy tk;saxs ftuesa ekg o o\"kZ Hkjs gq, gksaxs vkidks lHkh dkWye esa vUrj fooj.k i= ls Already Drawn Amount and Difference Amount Hkjdj Submit djuk gS] ;fn foRr o\"kZ ds ckn dk Hkh cdk;k gS rks nqckjk blh en dks vxyh frfFk ls Hkjsa"]
[null,"blh izdkj ;fn DA and HRA ns; gks rks ckjh&ckjh ls mijksDrkuqlkj izfdz;k djsa A"]
[null,"vc Add Deduction ij Click djsa ,d Pop up Window [kqysxh ftlesa&"]
[null,"vof/k Hkjsa ,oa tks dVkSfr;ka ,fj;j ls djuh gS tSls& SI/GPF/RPMF/CePenf/Itax vkfn dks ckjh&ckjh ls pqudj Add djsa tSls& Add Allowance esa fd;k Fkk A"]
[null,"vc dkfeZd dk Total Allowances, Total Deductions and Payable Salary dh jkf'k uhps iznf'kZr gksxh ftldh Hkyh Hkkafr ls Arear Sheet ls dj ysos A"]
[{"$f":"IF(B25=\"\",\"\",A13+1)","v":5},"okafNr Documents Upload djsa] vkxs dh izfdz;k vU; fcyksa dh rjg leku :i ls viuk;sa A"]
[{"$f":"IF(B26=\"\",\"\",A25+1)","v":""}]

{"sheet":"LevEncs","index":148,"n_rows":40,"n_cols":2,"rows_kept":40,"cut":false,"hidden":true,"merged":[[0,0,0,1]]}
["Leave Encashment on Retire/Death"]
[{"$f":"IF(B2=\"\",\"\",1)","v":1},"fdlh dkfeZd dh lsokfo`fRr ;k e`R;q gks tkus ij dkfeZd ds vodk'k [kkrs esa vuqi;ksftr vodk'k dk udn Hkqxrku djus ds fy, Paymanger ij vyx ls izfdz;k fu/kkZfjr gS A"]
[{"$f":"IF(B3=\"\",\"\",A2+1)","v":2},"lsokfuo`fRr@e`R;q ij mikftZr vodk'k dk Hkqxrku rHkh fd;k tk ldrk gS tc dkfeZd dks PPO No tkjh gksus ds ckn ,oa Budget Head-2071-01-115-01-01 esa ctV izkIr gks tk;s A"]
[{"$f":"IF(B4=\"\",\"\",A3+1)","v":3},"Group Allocation-"]
[null,"Master                 Group Master                    Add Group"]
[null,"                           ,d u;k ist [kqysxk ftles fuEufyf[kr lwpuk,a Fill djuh gS&"]
[null,"Group Name-     As your wish"]
[null,"Budget Head-  2071-01-115-01-01"]
[null,"Object Head-     84"]
[null,"BFC Type-           CA/SF/NA"]
[null,"Head Type-         Charged/Voted/NA"]
[]
[null,"                                  Submit                      bl xzqi esa fdlh Hkh dkfeZd dks Tranfer ugha djuk gS A"]
[{"$f":"IF(B14=\"\",\"\",A4+1)","v":4},"Bill Allocation-"]
[null,"Bill Processing                         Bill No Allocation"]
[null,",d u;k QkWeZ [kqysxk ftlesa ls Select Bill Allocation"]
[null,"Bill Generate Manually ij Checkmark yxk;sa "]
[null,"Select Bill Type- Lave Encashment on Retirement"]
[null,"Select sub Type- Freezed"]
[null,"Select Object Head- 84"]
[null,"Select Pay Month- ftl ekg dk osru cukuk gS mldk uke ;k pkyw ekg"]
[null,"Select Pay Year- o\"kZ dk p;u djsa "]
[null,"Select Bill Date- lk/kkj.kr;k Current Date gh pqus "]
[null,"Fill Bill No- from bill register"]
[null,"Select Bill Name- Bill Group dk p;u djsa ftl Group dks vkius vHkh mij cuk;k gSa "]
[null,"Submit"]
[{"$f":"IF(B27=\"\",\"\",A14+1)","v":5},"Leave Encashment Process-"]
[null,"Bill Processing                Leave Encashment Preparation              Leave Encashment Retirement          "]
[null,"Select Year, Month,Group-New Created,Bill No,Order- DA Rate/Pay commission"]
[null,"Fill No of Days- dkfeZd ds vodk'k [kkrs esa vo'ks\"k mikftZr vodk'kksa dh la[;k"]
[null,"Sanction date- dk;kZy; Lohd`fr vkns'k fnukad"]
[null,"Search- Checkmark on Name, dkfeZd ds uke dk izFke v{kj Mkyrs gh dropDown esa dkfeZd dk uke iznf'kZr gksxk ij Click djsa ,oa Add ij Click djsa A"]
[null,"uhps dkfeZd dk uke] ewy osru] HkRrk ,oa dqy jkf'k iznf'kZr gksxh] d`i;k x.kuk djds iw.kZr;k lUrq\"V gksus ij gh vkxs dh izfdz;k djsa A"]
[{"$f":"IF(B34=\"\",\"\",A27+1)","v":6},"Add Nominee-"]
[null,"              ;fn jkf'k dk Hkqxrku dkfeZd ds uksfeuh dks djuk gks rks Click on Add Nominee ,d Pop-up Window [kqysxh ftlesa Select Nominee ¼uksfeuh o mldh cSad Detail iwoZ esa ADD gksuk pkfg;s½ djsa ,oa ftruh jkf'k dk Hkqxrku uksfeuh dks djuk gS Hkjsa rFkk Submit djsa A"]
[{"$f":"IF(B36=\"\",\"\",A34+1)","v":7},"Documents Upload-"]
[null,"dkfeZd dk lsokfuo`fRr@lsoklekfIr vkns'k] dk;kZy; dk dk;ZeqfDr vkns'k] vodk'k Hkqxrku Lohd`fRr vkns'k] vodk'k [kkrs dh QksVks izfr vkfn nLrkost Upload djsa"]
[null,"         vkxs dh izfdz;k osru fcy ds leku gS A"]
[{"$f":"IF(B39=\"\",\"\",A26+1)","v":""}]
[""]

{"sheet":"PLSrr","index":149,"n_rows":28,"n_cols":2,"rows_kept":28,"cut":false,"hidden":true,"merged":[[0,0,0,1]]}
["PL Surrender Bill"]
[{"$f":"IF(B2=\"\",\"\",1)","v":1},"jktLFkku lsok fu;e ds fu;e&91 , ds rgr ,d jkT; dkfeZd dks mlds }kjk vkosnu djus ij 15 fnu ds mikftZr vodk'k ds leZi.k ds cnys udn Hkqxrku fd;k tkrk gS A"]
[{"$f":"IF(B3=\"\",\"\",A2+1)","v":2},"15 fnol ds mikftZr vodk'k ds Hkqxrku dh izfdz;k fuEukuqlkj gS A"]
[{"$f":"IF(B4=\"\",\"\",A3+1)","v":3},"Bill Allocation-"]
[null,"Select Bill Type- Serrender 15 Days"]
[null,"Object Head- 01"]
[null,"Pay Month- Current Month"]
[null,"Year- Current Year"]
[null,"Bill Date-----------"]
[null,"Bill No-----------"]
[null,"Bill Name-Concerned Group"]
[null,"Submit"]
[{"$f":"IF(B13=\"\",\"\",A4+1)","v":4},"Bill Processing-"]
[null,"Click Bill Processing                   Surrender(15 Days) Preparation                       Surrender 15 Days"]
[null,"Select Month, Year, Bill Name, Financial Year, Bill no, Order No- DA Rate/Pay commission"]
[null,"Sanction- Pl Sanction Order Date, Checkmark on Individual and Chechmark on Search by Name"]
[null,"Employee Name esa dkfeZd ds uke dk izFke v{kj Mkyrs gh Drop Down esa iwjk uke Show gksxk mlij Click djsa "]
[null,"Enter Days esa 15 Days Pre Filled feysxk Add ij Click djsa "]
[null,"uhps dkfeZd dk uke] osru] HkRrk o dqy jkf'k Show gksxh A"]
[null,"blh izdkj xzqi ds vU; dkfeZdksa dks Hkh Add dj ldrs gSa A"]
[{"$f":"IF(B21=\"\",\"\",A13+1)","v":5},"Documents Uploads-"]
[null,"lefiZr vodk'k ds dk;kZy; Lohd`fRr vkns'k dks Documents Upload esa tkdj Upload djsa A"]
[{"$f":"IF(B23=\"\",\"\",A21+1)","v":6},"DDO Forward-"]
[null,"fcy dks DDO Forward djsa A"]
[{"$f":"IF(B25=\"\",\"\",A23+1)","v":7},"Report Download-"]
[null,"Reports esa tkdj  Surrender Report Download djsa] Documents E-Sign dj Bill Treasuty Forward djsa A"]
[{"$f":"IF(B27=\"\",\"\",A26+1)","v":""}]
[""]

{"sheet":"Egrass","index":150,"n_rows":63,"n_cols":2,"rows_kept":63,"cut":false,"hidden":true,"merged":[[0,0,0,1]]}
["EGRASS-Generate Challan & Minus Expanditure (Recovery Challan)"]
[{"$f":"IF(B2=\"\",\"\",1)","v":1},"fdlh dkfeZd dks osru] HkRrs] ;k=k O;;] fpfdRlk O;;] cksul ;k vU; en esa vf/kd Hkqxrku ;k lgou ls Hkqxrku gks tkrk gS rks lk-fo-ys-fu- ds vuqlkj olwyh dh tkuh vfuok;Z gS tks pkyku ;k ROP ls olwyh dh tk;sxh ¼iwoZ foRr o\"kZ dh pkyku ls ,oa orZeku foRr o\"kZ dh ROP ls½"]
[{"$f":"IF(B3=\"\",\"\",A2+1)","v":2},";fn vf/kd Hkqxrku dh olwyh pkyku ls dh tkuh gS rks loZizFke ;g lqfuf'pr djuk gS fd olwyh orZeku foRr o\"kZ dh gS ;k iwoZ ds foRr o\"kZ dh gS nksuksa ds Challan Head vyx vyx gksaxs A"]
[{"$f":"IF(B4=\"\",\"\",A3+1)","v":3},"nksuksa gh fLFkfr;ksa esa Challan Minus Expenditure esa cusxk A    vk; O;;d vuqHkkx t;iqj ds }kjk tkjh ifji= fnukad 03-07-2018 vuqlkj"]
[4,";fn vf/kd Hkqxrku dh olwyh orZeku foRr o\"kZ dh gS rks pkyku mlh ctV gsM esa cusxk ftl gsM ls jkf'k vkgfjr dh xbZ gS rFkk olwyh iwoZ ds foRr o\"kZ dh gS rks pkyku gsM ek/;0 f'k{kk& 2202-02-911-01-01-98 izk0 f'k{kk& 2202-01-911-01-00-98 esa cusxk A"]
[5,"Egrass ij izR;sd dk;kZy; }kjk Profile Create djds ID cukbZ gksrh gS ;gka ij ;g /;ku nsus ;ksX; gS fd ;fn vkidks Egrass ij Login ID dsoy DDO ID ls gh cukuh gS ojuk Minus Expenditure dk Option ugha vk;sxk ;fn iwoZ esa ,slh ID ugha cuh gqbZ gS rks fuEu izfdz;k djsa&"]
[null,"Egrass Module ds Sign in esa Username- Your DDO Code and Password- Sun@123 Enter Captcha and Submit"]
[null,",d ubZ window [kysxh ftlesa Old Password- Sun@123 and New Password- Minimum 6 Character password Enter djsa ,oa Confirm Passwrd ogh u;s Password Mkys vkSj Submit djsa A"]
[null,"vc DDO dh Profile Create djokbZ tk;sxh ftlesa Ddo dh lEiw.kZ tkudkjh Hkjsa ,oa Submit djsa A vki pkgsa rks vU; pkyku Hkh blh ID ls cuk ldrs gS tSls& f'k{kk] Qhl o vU; A"]
[{"$f":"IF(B10=\"\",\"\",A6+1)","v":6},"Create Minus Expenditure Profile for last year Recovery-"]
[null,"tSls gh vki u;s Username and Password ls Login djsaxs eq[; ist ij mij dh rjQ Minus Expenditure dk Option fn[kkbZ nsxk ftlij Click djusa ij ubZ window [kqysxh A"]
[null,"Regular ,oa Minus Expenditure esa ls Minus Expenditure ij Checkmark djsa "]
[null,"Create Profile ij Click djsa "]
[null,"Department esa 70-Secondary Education Department Select djsa] Major Head esa 2202&lkekU; f'k{kk Select djsa "]
[null,"uhps cka;h rjQ ,d lwph iznf'kZr gksxh ftlesa lHkh izdkj ds Budget Head-Primary and Secondary Education ds fn[kkbZ nsaxs ftuesa ge osru fcy cukrs gS lkFk gh ek/;0 f'k{kk& 2202-02-911-01-01-98 izk0 f'k{kk& 2202-02-911-01-01-98 Hkh nksuksa esa ls ftl foHkkx dh fiNys o\"kZ dh olwyh djuh gS ml ij Click djds chp esa Arrow ds fpUg ij Click djus ls lacaf/kr Head nwljs Column esa vk tk;sxk A"]
[null,"uhps cka;h rjQ Profile Name- As your wish Mkysa] Object Head- 98&?kVkbZ;s Select djsa] Plan/Non Plan- SF/CA/NA ij Checkmark yxk;sa] Voted ij Checkmark yxk;sa vkSj Submit ij Click djsa A"]
[{"$f":"IF(B17=\"\",\"\",A10+1)","v":7},"Create Minus Expenditure Profile for Current year Recovery-"]
[null,"Regular ,oa Minus Expenditure esa ls Minus Expenditure ij Checkmark djsa "]
[null,"Create Profile ij Click djsa "]
[null,"Department esa 70-Secondary Education Department Select djsa] Major Head esa 2202&lkekU; f'k{kk Select djsa "]
[null,"uhps cka;h rjQ ,d lwph iznf'kZr gksxh ftlesa lHkh izdkj ds Budget Head-Primary and Secondary Education ds fn[kkbZ nsaxs ftuesa ge osru fcy cukrs gS] ftl Head dh orZeku o\"kZ dh olwyh djuh gS ml ij Click djds chp esa Arrow ds fpUg ij Click djus ls lacaf/kr Head nwljs Column esa vk tk;sxk A"]
[null,"uhps cka;h rjQ Profile Name- As your wish Mkysa] Object Head- ftl Object Head esa vf/kd Hkqxrku gqvk gS  Select djsa] Plan/Non Plan- SF/CA/NA ij Checkmark yxk;sa] Voted ij Checkmark yxk;sa vkSj Submit ij Click djsa A"]
[{"$f":"IF(B23=\"\",\"\",A17+1)","v":8},"Create Regular Profile for Challan-"]
[null,"Regular ,oa Minus Expenditure esa ls Regular ij Checkmark djsa "]
[null,"Create Profile ij Click djsa "]
[null,"Department esa 70-Secondary Education Department Select djsa] Major Head esa 0202&f'k{kk] [ksydwn] dyk o laLd`fr Select djsa  "]
[null,"uhps cka;h rjQ ,d lwph iznf'kZr gksxh ftlesa lHkh izdkj fofHkUu Head fn[kkbZ nsaxs ftuesa ls dk;kZy; esa dke esa vkus okys lHkh Heads dks ckjh ckjh ls Select djds chp esa Arrow ds fpUg ij Click djus ls lacaf/kr Head nwljs Column esa vk tk;sxk A"]
[null,"uhps cka;h rjQ Profile Name- As your wish Mkysa vkSj Submit ij Click djsa A"]
[{"$f":"IF(B29=\"\",\"\",A23+1)","v":9},"Recovery Minus Expenditure Challan for Last Year-"]
[null,"Click on Minus Expediture  -> Chechmark on Minus Expenditure  ->         Select Desired Profile->         Click on Continue"]
[null,"E-Challan Open gksxk Select Year(Period)-Financial Year of Recovery, Period- Select One Time, Fill FromDate- To Date ftl ekg esa vf/kd Hkqxrku gqvk gS  Amount esa Recovery Amount Mkysa A"]
[null,"Select DDO and Bank, Checkmark on Cash/Cheque"]
[null,"Remark esa dkfeZd dk uke] in] Employee ID, Amount vkSj olwyh dk laf{kIr fooj.k fy[ksa rFkk Submit djsa "]
[null,"Download Challan and Deposite in the concerned bank"]
[{"$f":"IF(B35=\"\",\"\",A29+1)","v":10},"Recovery Minus Expenditure Challan for Current Year-"]
[null,"mijksDr Minus Expenditure Challan for last year dh Hkkafr Profile Select dj pkyku Generate djsa cSad esa tek djok;sa A"]
[null,"pkyw o\"kZ dh Recovery dks vkxkeh ekg ds osru fcy ls ROP djds Hkh tek djok;k tk ldrk gS A"]
[{"$f":"IF(B38=\"\",\"\",A35+1)","v":11},"Generate Regular Challan-"]
[null,"Click on Minus Expediture->        Chechmark on Regular->          Select Desired Profile->            Chechmark on E-Banking/ Manual Banking->                  Click on Continue"]
[null,"Select District, Office Name with Ddo Code, Treasury Name, Year and Period- Annual/Half Yearly/One Time"]
[null,"lacaf/kr en ds lkeus okys Column esa jkf'k Mkysa "]
[null,"Select Manual, E-Banking, Debit/Credit Card vkfn esa ls dksbZ ,d A"]
[null,"Manual Banking and E-Banking esa Bank Select djsaA Manual ls dj jgs gS rks Cash/Cheque ij Checkmark djsa A"]
[null,"Remark esa pkyku dk iw.kZ fooj.k fy[ksa Submit djsa vkSj Download djsa A"]
[{"$f":"IF(B45=\"\",\"\",A38+1)","v":12},"Important Challan Heads-"]
[null,"fofo/k& 0202-01-102-03-01"]
[null,"f'k{k.k] Qhl o vU;& 0202-01-102-01-00  TC, Admission"]
[null,"Nk=o`fRr@lkbZfdy 'ks\"k jkf'k& 0202-01-102-03-01"]
[null,"ikB~;iqLrdksa dh fuykeh ls vk;& 0202-01-102-02-00"]
[null,"vuqi;ksxh okguksa dh fuykeh& 0202-01-102-50-01"]
[null,"vuqi;ksxh@udkjk lkekuksa ds fuLrkj.k ls vk;& 0202-01-102-50-02"]
[null,"va'knku o o`fRr;ksa ls vk;& 0202-01-102-03-03"]
[null,"u;k f'k{kd] f'kfojk if=dk& 0202-01-102-03-05"]
[null,"vf/kd Hkqxrkuksa dh olwyh ek/;0 f'k{kk& 2202-02-911-01-01-98"]
[null,"vf/kd Hkqxrkuksa dh olwyh izk0 f'k{kk& 2202-01-911-01-00-98"]
[null,"isa'ku ,oa lsokfuo`fRr ifjykHk& 2071-01-115-01-01 Object Head-84 Demand No-15"]
[null,"lkewfgd nq?kZVuk chek@GIS& 8011-00-107-01-00 "]
[{"$f":"IF(B58=\"\",\"\",A57+1)","v":""}]
[""]
[""]
[""]
[""]
[""]

{"sheet":"PulDDO","index":151,"n_rows":12,"n_cols":2,"rows_kept":12,"cut":false,"hidden":true,"merged":[[0,0,0,1]]}
["Pull/Add DDO Role in SSO ID"]
[{"$f":"IF(B2=\"\",\"\",1)","v":1},";fn fdlh dk;kZy; ls vkgj.k forj.k vf/kdkjh dk LFkkukUrj.k@inkSUufr@lsokfuo`fRr@vU; dkj.k ls DDO dk izHkkj u;s@vU; DDO dks LFkkukUrfjr gks tkrk gS rks SIPF }kjk tkjh DDO ID dks Hkh u;s DDO dh SSO ID ij Pull/Add djuk vfuok;Z gS A"]
[{"$f":"IF(B3=\"\",\"\",A2+1)","v":2},"Pull/Add DDO ID on SSO Portal-"]
[null,"loZizFke u;s DDO dh SSO ID ls SSO Portal Login djsa "]
[null,"SIPF ij Click djus ij ,d ubZ Sight ij Redirect fd;k tk;sxk ftlij mij nka;h rjQ dkfeZd ds uke ij Click djus ij uhps dqN Options fn[kkbZ nsaxs muesa ls Add DDO Role ij Click djsa A"]
[null,",d ubZ Window [kqysxh Pull DDO Role-"]
[null,"DDO Code esa SIPF Office }kjk tkjh Username And DDO Password esa vkids }kjk iqoZ esa cuk;s x;s Password Mkydj Submit djsa A ,d DDO Role Added Succesfully dk Massage vk;sxk A"]
[{"$f":"IF(B8=\"\",\"\",A3+1)","v":3},"vc vki Home ij Click djsa mlds ckn nka;h vksj mij Customer ij Click djusa ij vkidks DDO dksM fn[kkbZ nsxk mlij Click dj DDO ls lacaf/kr dk;Z dj ldrs gSa A"]
[{"$f":"IF(B9=\"\",\"\",A8+1)","v":4},"         ;fn vki SIPF Office }kjk tkjh ID Hkwy x;sa gSa rks vkidh User ID vkids DDO Code ds ckn vkidh ftyk Treasury ds Code yxkus ij izkIr vad gSa vkSj ikloMZ ugha gS rks vkidks ftyk SIPF lgk;d funs'kd dks i= fy[kdj Password izkIr dj ldrs gSa"]
[""]
[""]
[""]

{"sheet":"ChngDSC","index":152,"n_rows":23,"n_cols":2,"rows_kept":23,"cut":false,"hidden":true,"merged":[[0,0,0,1]]}
["To Change Old DDO and DSC Process"]
[{"$f":"IF(B2=\"\",\"\",1)","v":1},";fn fdlh dk;kZy; ls vkgj.k forj.k vf/kdkjh dk LFkkukUrj.k@inkSUufr@lsokfuo`fRr@vU; dkj.k ls DDO dk izHkkj u;s@vU; DDO dks LFkkukUrfjr gks tkrk gS rks Paymanager ij Change DDO Information and DSC Dongle Registration djuk vfuok;Z gS A"]
[{"$f":"IF(B3=\"\",\"\",A2+1)","v":2},"Process on Office Level-"]
[null,";fn MhMhvks dk in fjDr gks tk;s rks 03 Power fdlh vU; vf/kdkjh ds uke tkjh djok;sa ,oa mudk DSC Dongle Class III dk cuok;sa"]
[null,";fn vkids MhMhvks dk LFkkukUrj.k gks tk;s rks vkidk orZeku DSC Dongle mUgsa lqiqnZ dj nsa ,oa vius Computer/Laptop ls DSC Dongle dks Uninstall djsa] vkids dks\"k@midks\"k dk;kZy; dks iqjkus DSC Dongle dks Deactivate djokus ds fy, i= fy[ksa u, DDO ls mudk DSC Dongle izkIr djsa lkFk gh mudh fiNyh Treasury ls muds DSC Dongle dks Hkh iqjkus dk;kZy; }kjk Deactivate djok;sa"]
[{"$f":"IF(B6=\"\",\"\",A3+1)","v":3},"Uninstall Old DSC Process-"]
[null,"                                                Go to Controll Panel Click on Programs                                               Programs & Features"]
[null,"vkidks iqjkus DSC dks Uninstall dsoy Controll Panel ls gh djuk gS iqjkus DSC ds uke ij Right Click djds Unistall ij Click djsa "]
[{"$f":"IF(B9=\"\",\"\",A6+1)","v":4},"Update New DDO Information on Paymanager-"]
[null,"Login to Paymanager with DDO Code & Click on                           Master                                      DDO Information"]
[null,"uhps iqjkus DDO dh Information fn[kkbZ nsxh mls Delete djsa ,oa Paymanger Employee ij Checkmark yxk;sa] Search Employee ds dkWye esa u;sa DDO ds uke dk izFke v{kj fy[krs gh Drop Down esa iwjk uke fn[kkbZ nsxk mls Click djus ckn DDO dh Comlete Information Show djsxh uhps Submit ij Click djsa A DDO Information Add gks pqdh gS A"]
[null,"mijksDr izfdz;k vki rHkh dj ldrs gS tc u;s DDO dh Paymanger ID dks vkids DDO Code ij Tranfer dj fn;k x;k gks ,oa vkids }kjk Accept dj fy;k x;k gks ;fn u;k DDO vkids dk;kZy; dk dkfeZd ugha gS rks fuEu izfdz;k viuk;sa& "]
[null,"Master esa Other DDO Information ij Click dj Name of DDO, Aadhar No, Contact No,Email Id Hkjsa vkSj Submit djsa A"]
[{"$f":"IF(B14=\"\",\"\",A9+1)","v":5},"DDO Certificate Registration-"]
[null,"loZizFke vius Computer esa u;s DDO ds DSC Dongle dks Incert djsa A"]
[null,"Master esa DDO Certificate Registration ij Click djus ij vkidks DDO dk uke ,oa Mobile No Hkjs gq, feysaxs Verify Contact ij Click dj izkIr OTP Mkydj Show Certificate ij Click djsa A "]
[null,"Left Side esa mij Certificate fn[kkbZ nsxk OK ij Click dj Submit djus ij ,d Succesfully dk Massage vk;sxk A"]
[{"$f":"IF(B18=\"\",\"\",A14+1)","v":6},"vc vkidks viuh Treasury dks Dongle Activate djokus ds fy, vkosnu djuk gksxk A"]
[{"$f":"IF(B19=\"\",\"\",A18+1)","v":7},"Treasury ls vkidk Dongle Activate gksus ds ckn vki Paymanager Generated Bills ij E-Sign dj ldrs gS A"]
[""]
[""]
[""]
[""]

{"sheet":"TABill","index":153,"n_rows":64,"n_cols":2,"rows_kept":64,"cut":false,"hidden":true,"merged":[[0,0,0,1]]}
["TA Bill Process"]
[{"$f":"IF(B2=\"\",\"\",1)","v":1},";fn fdlh dkfeZd }kjk jktdh; dRrZO;ksa dk fuoZgu djus gsrw vius eq[;ky; ls 6 ?k.Vs ls vf/kd le; ds fy, vU;= ;k=k dh tkrh gS rks dkfeZd dks ;k=k O;; ,oa nSfud HkRrs dk fu;ekuqlkj Hkqxrku fd;k tkrk gS A"]
[{"$f":"IF(B3=\"\",\"\",A2+1)","v":2},"Paymanager ij TA bill cukus ds fy, dkfeZd dks Loa; dh ID ls fcy cukdj lacaf/kr DDO dks Forward fd;k tkrk gS ,oa tc TA Head esa Budget Allote gksus ij Bill Process fd;k tkrk gS "]
[{"$f":"IF(B4=\"\",\"\",A3+1)","v":3},"Paymanager ij TA bill cukus ds fy, DDO Login esas Hkh fcy cukus dh izfdz;k nh xbZ gS ijUrw tc rd  TA Head esa Budget Allote ugha gks tkrk rc rd Bill Allocation ugha fd;k tk ldrk gS vr% ;gka dsoy dkfeZd dh ID ls TA fcy cukus dh izfdz;k ds ckjs esa crk;k tk;sxk A"]
[4,"loZizFke dkfeZd dh Paymanager ID ls Login djsa ;fn vkids ikl ID & Password ugha gS ;k Hkwy x;s gS rks dkfeZd dk Username mldh Employee ID gksrh gS rFkk Password ds fy, vkidks Paymanager ds Homepage ij tkuk gksxk&"]
[5,"Generate Employee Password- "]
[null,"Paymanager Login Page ij Just Login ds uhps Forgote Password(Employee Login) ij Click djsa"]
[null,"Fill Employee ID, Bank Account No, Date of Birth, Mobile No and Click on verify contact No"]
[null,"Enter OTP and Click on Submit Details uhps yky v{kjks esa Password reset Successfully fy[kk gksxk vc vki Employee Login djsa vkidk Password Bank A/c no ds last 4 digit gS A"]
[null,"T;ksa gh vki Login djsaxsa Password Change dk QkWeZ [kqysxk ftlesa vki iqjkus ikloMZ esa cSad [kkrs ds 4 vad Mkyas ,oa u;s ikloMZ Mkys vkSj duQeZ dj lcfeV djsa nqckjk u;s ikloMZ ls ykWfxu djsa A"]
[{"$f":"IF(B11=\"\",\"\",A6+1)","v":6},"Employee TA Bill Process-"]
[null,"Employee Corner--------------TA Medical Bill----------------------Employee TA Bill"]
[null,"Select Pay Commission, Category of Employee, Basic Pay and Click on New Bill"]
[null,"Select TA Bill Sub Type- TA Bill/Transfer Bill/Adjustment TA Bill/Advance TA Bill/Foreign Journey"]
[null,"Fill Sanction/Order No, Sanction Date  and Click on Add Journey"]
[null,",d QkWeZ [kqysxk ftlesa fuEufyf[kr fooj.k Hkjsa ,oa Submit djsa&"]
[null,"Departure Place- vius eq[;ky; dk uke fy[ksa A"]
[null,"Start Date/Time- vius eq[;ky; ls ;k=k ij izLFkku dh fnukad ,oa le; fy[ksa A"]
[null,"Arival Place- tgka ds fy, ;k=k dj jgsa gS ml LFkku dk uke fy[ksa A"]
[null,"Arival Date/Time- tgka ds fy, ;k=k dh gS ml LFkku ij iagqpus dh fnukad o le; fy[ksa A"]
[null,"Headquarter- vius eq[;ky; dk uke fy[ksa A"]
[null,"Travel Mode- Bus/Car/Train/Scooter/Motor Cycle"]
[null,"State Destination- tgka ds fy, ;k=k dh gS ml LFkku dk jkT; pqusaA"]
[null,"Destination City- Capital/other than capital"]
[null,"Ticket Class/No- --------------"]
[null,"Distance-Fill Actual Distance"]
[null,"Fare- Fill Actual Fare"]
[null,"Other Expenditure- vU; O;; fy[ksa ;fn dksbZ gksA"]
[null,"Travel Reason- ;k=k dk dkj.k pqusaA"]
[null,"Submit  Massage - Data Inserted Successfully."]
[null,"uhps ;k=k ij tkus dk O;; fn[kkbZ nsxk] vc vkids lkeus tks Screen gS mlh esa ;k=k ls okil tkus dk fooj.k mijksDrkuqlkj Hkjsa Departure Place fy[kk gqvk ,oa Freezed feysxk vkxs ds dkWyeksa dh iwfrZ dj Submit djsa A"]
[null,"uhps nks Row Show gksaxh ;fn vkius vU; fnukad o vU; LFkku dh ;k=k dk O;; Hkh blh es tksMuk pkgrs gS rks tksM ldrs gS"]
[{"$f":"IF(B33=\"\",\"\",A11+1)","v":7},"TA Annexure Download-"]
[null,"Employee Corner--------------TA Medical Bill----------------------TA/Medical Annexure"]
[null,"Select Bill- TA Bill"]
[null,"uhps vkids }kjk cuk;s x;s TA Bills dh lwfp iznf'kZr gksxh ftlesa vkids fcy ls iwoZ Checkmark yxkdj uhps TA Annexure ij Click djus ij Schedule Download gks tk;sxh ftlij dkfeZd dss gLrk{kj dj DDO dks izLrqr djsa A"]
[{"$f":"IF(B37=\"\",\"\",A33+1)","v":8},"Bill DDO Forward-"]
[null,"Employee Corner--------------TA Medical Bill----------------------Employee Bill Forward"]
[null,"Select Bill Type- TA Bill"]
[null,"Select Bill Sub Type- TA Bill"]
[null,"uhps ,d lwfp iznf'kZr gksxh ftlesa Action ij Checkmark djds Upload ij Click djsa Choose PDF File of Your Tour, Click on Submit Than Click on Forward"]
[{"$f":"IF(B42=\"\",\"\",A37+1)","v":9},"Check Bill Status by Employee-"]
[null,"Employee Corner--------------Bills Status"]
[null,"Select Bill Year,Month and Bill Type- TA Bill/Medical Bill/Salary etc"]
[null,"uhps fcy ua0 ,oa jkf'k rFkk fcy fLFkfr tkudkjh izkIr dh tk ldrh gSA"]
[{"$f":"IF(B46=\"\",\"\",A42+1)","v":10},"Bill Process By DDO Login-"]
[null,"TA Budget Head esa Budget Sanction gksus ds ckn Ddo }kjk TA Bill dh Process fuEukuqlkj djuh gS&"]
["a","Bill Allocation-"]
[null,"Select Bill Type- TA Bill"]
[null,"Bill Sub Type- TA Bill"]
[null,"Object Head- 03"]
[null,"Select Pay Month, Year, Date-Today Date,Bill No, Select Bill Name- lacaf/kr dkfeZd dk xzqi"]
["b","TA Bill Process-"]
[null,"Go to Other Bill -> TA Bill"]
[null,"Select Month, Year, Bill Type, Group Name, Bill No. Select Employee name."]
[null,"When select employee name , Employee detail will shown. "]
[null,"Click on “Add employee” to add employee in Bill."]
[null,"uhps cka;h rjQ lwfp esa dkfeZd uke tqM pqdk gS ml ij Click djus ij nka;h rjQ ;k=k O;; fn[kkbZ nsxk Sow ij Click djus ij dkfeZd dk O;; fooj.k [kqysxk ftles DDO ifjoZru Hkh dj ldrk gS"]
["c","Revert TA Bill By DDO-"]
[null,"DDO can Revert Bill to Employee, for this click on Authorization – > TA Employee Revert"]
[null,"Select detail and employee , enter reasons and then select bill and click on revert"]
["d","Upload Documents-"]
[null,"dkfeZd }kjk izLrqr TA Annexure ij DDO ds gLrk{kj ,oa lhy yxkdj lkFk esa ;k=k vkns'k o mifLFkfr dh izfr dks Upload djsa A"]
[null,"vkxs dh izfdz;k vU; fcyksa ds leku gh viuk;s A"]

{"sheet":"FVC","index":154,"n_rows":61,"n_cols":2,"rows_kept":61,"cut":false,"hidden":true,"merged":[[0,0,0,1]]}
["FVC-Leveries/Office Exp/Library Bills"]
[{"$f":"IF(B2=\"\",\"\",1)","v":1},"FVC (Fully Vouchured Contingent) Bill dk mi;ksx QeksaZ] laLFkkuksa] Bsdsnkjksa ,oa r`rh; i{kdkjksa ds vizfrnk; (Non-Reimbushment) Hkqxrku vFkok dkfeZdksa ds izfrnk; (Reimbursement) Hkqxrkuksa ds fy, fd;k tkrk gS A"]
[{"$f":"IF(B3=\"\",\"\",A2+1)","v":2},"eq[;r% FVC Bill dk mi;ksx onhZ HkRrk] dk;kZy; O;;] iqLrdky; O;;] iz;ksx'kkyk O;;] lafonk O;;] fctyh] ikuh dk fcy vkfn ds fy, fd;k tkrk gS A ;gka vkidks onhZ HkRrk ,oa Third Party Bill cukus ds ckjs esa crk;k tk;sxk"]
["A","Leveries Bill-"]
[{"$f":"IF(B5=\"\",\"\",A3+1)","v":3},"Bill Allocation-"]
[null,"Select Bill Type- FVC"]
[null,"Bill Sub Type- Leveries"]
[null,"Object Head- 37"]
[null,"Select Pay Month, Year, Date-Today Date,Bill No, Select Bill Name- lacaf/kr dkfeZd dk xzqi"]
[null,"Submit"]
[{"$f":"IF(B11=\"\",\"\",A5+1)","v":4},"Leveries Bill Process-"]
[null,"Other Bill------------FVC Bill-------------------Leveries Process"]
[null,"Select Year, Month, Bill Name, Group, Bill No."]
[null,"uhps Add New Employee ij Click djrs gh ,d Pop-up Window [kqysxh ftles&"]
[null,"Tick This Box to Search with Bank A/c No ij Checkmark yxkus ij dkfeZd ds Bank A/c No Mkys vU;Fkk Employee ID Mkysa] Emp ID/Bank acct no fy[krs gh uhps Drop Down esa dkfeZd dk uke vk;sxk ftls Select djrs gh&"]
[null,"uhps dkfeZd dk uke] in] tUe frfFk] firk dk uke] Employee ID and Office ID Show gksxh"]
[null,"Amount esa fu;ekuqlkj Lohd`r jkf'k Mkydj Submit djsa] Data Submited Successfully Massage esa OK ij Click djsa A"]
[null,"vkidk fcy izksls'k gks pqdk gS ftldk fooj.k uhps fn[kkbZ nsxk vki pkgs rks Delete ij Click djus ij Data Delete gks tk;saxs"]
[{"$f":"IF(B19=\"\",\"\",A11+1)","v":5},"Report Download for Check-"]
[null,"Reports--------------Other Bill Report-----------------Advise Inner/Outer Report"]
[null,"Select Bill Type, Year, Month, Group Name, Bill No and Click on Show Report"]
[{"$f":"IF(B22=\"\",\"\",A19+1)","v":6},"Upload Documents-"]
[null,"onhZ HkRrs dk dk;kZy; Lohd`fr vkns'k Documents Upload option esa Upload djsa A"]
[null,"vkxs dh izfdz;k osru fcy ds leku gh jgsxh A"]
["B","Third Party Bill-"]
[{"$f":"IF(B26=\"\",\"\",1)","v":1},"Bill Allocation-"]
[null,"Bill Type- FVC"]
[null,"Bill Sub Type- Third Party"]
[null,"Object Head- 05-Office Exp, 31-Library, 33-Laboratory"]
[null,"Select Pay Month, Year, Date-Today Date,Bill No, Select Bill Name- ftl fcy esa dk;kZy;/;{k dk in Lohd`r gS ,oa Submit ij Click djsa A"]
[{"$f":"IF(B31=\"\",\"\",A26+1)","v":2},"Add Third Party-"]
[null,"Other Bill------------FVC Bill-------------------FVC Master"]
[null,",d u;k QkWeZ [kqysxk ftlesa cka;h rjQ iwoZ esa Added Third Party List gS ;fn lwfp esa Party dk uke gS rks Party ugha tksMs vU;Fkk nka;h rjQ FVC Details Form gS ftlesa&"]
[null,"Select Bill Type- Water Bill, Electricity Bill, Telephone Bill, Third Party, Vehicle Payment, Contratual Salary Bill vkfn esa fdlh ,d dks Select djsa A"]
[null,"Enter Name- QeZ] laLFkk] O;fDr vkfn dk uke fy[ksa ftldks Hkqxrku djuk gS A"]
[null,"Enter PAN/TAN No- QeZ] laLFkk] O;fDr vkfn dk PAN/TAN No fy[ksa ftldks Hkqxrku djuk gS A"]
[null,"Click on IFSC Code ;fn vkids ikl QeZ] laLFkk] O;fDr vkfn dk IFSC Code gks rks vU;Fkk uhps cSad fMVsy Hkjsa"]
[null,",d Pop-up window [kqysxh ftlesa IFSC Code Mkydj Submit djsa Party dh Bank Detail Automatic Hkj tk;sxh cSad [kkrk la[;k ds vykok A"]
[null,"Party Bank A/C Hkjsa ,oa ID/SI/GPF esa Party dk GST No ;k dkfeZd gks rks Employee ID Hkjsa A"]
[null,"Party dk Mobile No Hkjsa ,oa Submit djsa A Data Submited Successfully dk Massage vk;sxk OK ij Click djsa A"]
[null,"cka;h rjQ mij lwfp esa Third Party Add gks pqdh gS A"]
[{"$f":"IF(B42=\"\",\"\",A31+1)","v":3},"Third Party Account Verification-"]
[null,"Other Bill----------------FVC Bill---------------------Third Party Account Verification"]
[null,";fn vkius New Third Party Add dh gS rks Verify djs vU;Fkk ugha A"]
[null,"uhps Third Party list Show gksxh ftlesa Edit ij Click djrs gh ,d Pop-up window [kqysxh ftlesa Party ds Mobile No fn[ksaxs Send OTP ij Click djrs gh Party ds Mobile ij OTP tk;sxh mls uhps Mkydj Verify ij Click djsa A"]
[{"$f":"IF(B46=\"\",\"\",A42+1)","v":4},"Third Party Bill Process-"]
[null,"Other Bill----------------FVC Bill---------------------FVC Process"]
[null,"Select Month, Year, Bill No, Select Reimburse Type- Select Reimbursement for Employee or Non-Reimbursement for Third Party"]
[null,"Select Third Party- ftl Party dks Hkqxrku djuk pkgrs gS mls Select djsa A"]
[null,"Click on Processed Data"]
[null,"uhps Party dh iwoZ esa Hkjh xbZ Detal Show gksxh mlesa Invoice No, Invoice Date, Sanction No, Sanction Date and Fill Amount of Invoice Reason esa O;; fooj.k Hkjsa vkSj Submit djsa A "]
[null,"Data Saved Successfully dk Massage Show gksxk mles OK ij Click djsa A uhps Party dk Bill Show gksxk A "]
[{"$f":"IF(B53=\"\",\"\",A46+1)","v":5},"ADD Deductions- uhps Party dk Bill Show gksxk ;fn vki Third Party Bill ls dksbZ Deduction djuk pkgrs gS rks Deduction ij Click djus ij ubZ pop-up [kqysxh ftlesa vk;dj dk p;u dj jkf'k Mkydj Submit djsa rFkk ADD GST/TDS Deduction ij Click dj Party and DDO GSTIN No, Sanction Amount, GST Amount Fill dj Submit djsa A ;fn vki Delete ij Click djsaxs rks Bill Delete gks tk;sxk A"]
[{"$f":"IF(B54=\"\",\"\",A53+1)","v":6},"Upload Documents-"]
[null,"Document Upload esa FVC Bill ls lacaf/kr leLr nLrkost tSls& fcy ,oa vU; nLrkost Upload djsa A"]
[{"$f":"IF(B56=\"\",\"\",A54+1)","v":7},"Reports Download-"]
[null,"Reports----------Other Bill Report-----------Advise Inner/Outer Report/FVC-Grant in Aid Schedule"]
[null,"Select Bill Type, Year, Month, Group Name, Bill No and Click on Show Report"]
[{"$f":"IF(B59=\"\",\"\",A56+1)","v":8},"vkxs dh izfdz;k vU; fcyksa ds leku gh jgsxh A"]
[{"$f":"IF(B60=\"\",\"\",A59+1)","v":""}]
[""]

{"sheet":"Medical","index":155,"n_rows":31,"n_cols":2,"rows_kept":31,"cut":false,"hidden":true,"merged":[[0,0,0,1]]}
["Medical Bill Reimbursment Process"]
[{"$f":"IF(B2=\"\",\"\",1)","v":1},"01&04&2021 ls jkT; dkfeZdksa ,oa is'kujksa ds fy, RGHS Scheme ykxw dh xbZ gS ftlds vUrxZr vc jkT; dkfeZdksa ,oa is'kujksa dks RGHS ;kstukUrxZr vuqeksfnr vLirkyksa esa fpfdRlk djokus ij fpfdRlk O;; dk iquHkZj.k lh/ks vLirkyksa dks gh fd;k tk;sxk A"]
[{"$f":"IF(B3=\"\",\"\",A2+1)","v":2},"RGHS ;kstuk esa izR;sd jkT; dkfeZdksa ,oa is'kujksa ds }kjk Loa; dh SSO ID ls RGHS ij Registration djus dh lqfo/kk miyC/k gS A"]
[{"$f":"IF(B4=\"\",\"\",A3+1)","v":3},",d o\"kZ ds fy, ,d ifjokj dk 5-00 yk[k :i;s rd fpfdRlk O;; dk iquHkZj.k RGHS ;kstukUrxZr fd;k tk;sxk ftlesa 50000 :i;s rd ds Outdoor ds fcy ,oa 450000 :i;s rd ds Indoor ds fcy lfEefyr gksaxs A"]
[4,"bl ;kstuk dh orZeku vf/kd tkudkjh miyC/k ugha gS tSls gh foLr`r tkudkjh ;k izfdz;k miyC/k gksrh gS vkidks miyC/k djok nh tk;sxh A"]
[""]
[""]
[""]
[""]
[""]
[""]
[""]
[""]
[""]
[""]
[""]
[""]
[""]
[""]
[""]
[""]
[""]
[""]
[""]
[""]
[""]
[""]
[""]
[""]
[""]
[""]

{"sheet":"AutoS","index":156,"n_rows":53,"n_cols":2,"rows_kept":53,"cut":false,"hidden":true,"merged":[]}
[null,"Salary Automation Process"]
["A"]
[]
[]
[]
[]
[]
[]
[]
[]
[]
[]
[]
[]
[]
[]
[]
[]
[]
[]
[]
[]
[]
[]
[]
[]
[]
[]
[]
[]
[]
["B","Detailed Process of Salary Automation-"]
[1,"osru ekg tqykbZ 21 ns; vxLr 21 ls Paymanager ij Salary Automation Process izkjEHk dh tk jgh gS tks fu/kkZfjr le;kof/k ls dk;Z djsxh A ;gka ij Paymanager ij izkjEHk dh xbZ ubZ dsoy ubZ Tabs dh gh tkudkjh nh tk;sxh vU; O;oLFkk iwoZ dh Hkkafr gh jgsxh A"]
[2,"Salary Automation Process ds vUrxZr System }kjk xr ekg ds fcyksa ds vuqlkj Automatically Bill No Allocation fd;k tk;sxk A   ->ekg dh 16 rkjh[k ls"]
[3,"ekg dh 01 ls 15 rkjh[k rd dk le; DDO  ds fy, ,oa ekg dh 01 ls 10 rkjh[k rd dk le; Employee Request }kjk Pay Detail ls HkRrs o dVkSfr;ksa esa la'kks/ku fd;k tk ldsxk ,oa DDO }kjk Salary Process ds fy, dkfeZdksa dk p;u fd;k tk;sxk A"]
[4,"Deduction Request by Employee-"]
[null,"GPF & Itax dh dVkSfr;ksa esa cnyko ds fy, dkfeZd }kjk ekg dh 01 ls 10 rkjh[k rd Loa; dh Login ID ls DDO dks Request dj ldsxk ,oa DDO }kjk ekg dh 10 ls 15 rkjh[k rd Request dks Approve/Reject fd;k tk ldsxk"]
[5,"Other Salary Request-"]
[null,"Bill Processing ->         Salary Processing ->        Other Salary Request"]
[null,"Select Month, Year, Bill Name, Employee Name, Enter Reason, Select Documents Typy-----, Upload Document and Click on Submit by OTP of DDO's Mob. No"]
[null,"Pay Details ds vykok DDO }kjk mijksDr Other Salary Request ls fuEu ifjorZu dj ldrs gSa tSls& Modification in Allowance/Deduction, Modification in SI/GPF, Addition in SI/GPF, Partial Entry, Half Pay, Loan Entry, Absentee Statement, Misc "]
[6,"Salary Bill Process by System-"]
[null,"ekg dh 16 ls 22 rkjh[k dh vof/k esa DDO }kjk lHkh la'kks/ku i'pkr o System ij miyC/k lwpukvksa ds vk/kkj ij] System }kjk Automatically Salary Process dj nh tk;sxh A DDO ds ikl ekg dh 16 ls 22 rkjh[k rd dk le; System }kjk Processed Salary Bill dks Confirmation/Objection dk jgsxk vU;Fkk fcy Treasury Forward gks tk;sxk A"]
[7,"Salary Bill Confirmation/Objection-"]
[null,"Bill Processing ->         Salary Processing ->        Salary Bill Confirmation/Objection"]
[null,"Salary Bill Process gksus ds ckn System DDO dks fcyksa dks vafre :i nsus dk ,d volj nsxk ftlesa DDO }kjk ;fn fcy dks Reject dj fn;k trk gS rks System }kjk Bill Delete dj fn;k tk;sxk vkSj fcy vkxs ds la'kks/ku@cnyko ds fy, miyC/k gksxk vFkkZr vc DDO }kjk fcy esa la'kks/ku fd;k tk ldsxk A"]
[8,"fu;r le; lhek ds ckn System }kjk mu fcyksa dks ftuesa DDO }kjk ifjorZu fd;k x;k gS] iqu% Automatically Process fd;k tk;sxk A"]
[9,"Digital Signature-"]
[null,"DDO }kjk miyC/k djok;s x;s Digital Signature/Server Certificate dk Reports E-Sign ds fy, System }kjk mi;ksx fd;k tk;sxk A"]
[10,"Treasury Forward-"]
[null,"lacaf/kr Head esa Budget miyC/k gksus ij System }kjk fcy dks Automatically Treasury Forward dj fn;k tk;sxk A vxys nks dk;Zfnolksa esa Treasury }kjk Token No tkjh dj Ecs gsrw miyC/k djok fn;k tk;sxk A"]
[null,"           Written by->"]
[null,"           Chaturbhuj Jat                                                                                                                                                                                                                                                                                Teacher GSSS Chogai, Tonk"]

{"sheet":"FixationRule","index":157,"n_rows":13,"n_cols":3,"rows_kept":13,"cut":false,"hidden":true,"merged":[[0,0,0,2],[1,0,1,2]]}
["Pay Fixation fu;eksa dh lEiw.kZ tkudkjh"]
["izdj.k lwfp"]
["dz0la0","uke QkbZy","fuEu Vsc ij fDyd djsa"]
[{"$f":"IF(B4=\"\",\"\",1)","v":1},"Pay Fixation on Completion of Probation Rules"]
[{"$f":"IF(B5=\"\",\"\",A4+1)","v":2},"Pay Fixation on ACP Rules"]
[{"$f":"IF(B6=\"\",\"\",A5+1)","v":3},"Pay Fixation on DPC Rules"]
[4,"AGI Rules/okf\"kZd osru o`f} fu;e"]
[5,"Arear Defference Sheet"]
[""]
[""]
[""]
[""]
[""]

{"sheet":"PrbFix","index":158,"n_rows":25,"n_cols":2,"rows_kept":25,"cut":false,"hidden":true,"merged":[[0,0,0,1]]}
["Pay Fixation Rule After Probation"]
[{"$f":"IF(B2=\"\",\"\",1)","v":1},"fdlh dkfeZd dk larks\"kizn ifjfo{kkdky iw.kZ gksus ij osru fLFkjhdj.k jktLFkku lsok fu;e 1951 ds rgr jktLFkku flfoy lsok fu;e ¼iqufjf{kr osrueku½ 2017 ds fu;e 24 ,oa 26 ds vuqlkj fd;k tk;sxk A"]
[{"$f":"IF(B3=\"\",\"\",A2+1)","v":2},"RSR Rule 24-"]
["a","fdlh dkfeZd dk larks\"kizn ifjfo{kkdky iw.kZ gksus ij ml in dh fu/kkZfjr is esfVªd ysoy dh izFke lsy ij vafdr osru ij osru fu;frdj.k fd;k tk;sxk vkSj osru is esfVªd ysoy dh izFke lsy ij vafdr osru ls vf/kd ugha gksxk A"]
["b",";fn dksbZ dkfeZd tks iwoZ esa fu;fer lsok esa Fkk] dh lh/kh HkrhZ ls iwoZ in ds is ysoy ds leku ;k mPp ij fu;qfDr gksrh gS ,oa iwoZ in ds osru dk fodYi nsrk gS dk larks\"kizn ifjfo{kkdky iw.kZ gksus ij fu;e 26 ds vuqlkj osru fu;frdj.k fd;k tk;sxk A"]
["c",";fn dksbZ dkfeZd iwoZ esa fu;fer lsok esa Fkk] dh lh/kh HkrhZ ls iwoZ in ds is ysoy lss fuEu ij fu;qfDr gksrh gS ,oa iwoZ in ds osru dk fodYi nsrk gS dk larks\"kizn ifjfo{kkdky iw.kZ gksus ij ;g ekurs gq, dh fiNyh lsokof/k ubZ lsok esa ekU; gksxh] fu;e 26 ds vuqlkj osru fu;frdj.k fd;k tk;sxk A"]
[{"$f":"IF(B7=\"\",\"\",A3+1)","v":3},"RSR Rule 26-The existing Rule 26 shall be substituted by the following, namely; -"]
[{"$f":"IF(B8=\"\",\"\",A7+1)","v":4},"RSR Rule 26(1)-"]
["a","fdlh dkfeZd dk larks\"kizn ifjfo{kkdky iw.kZ gksus ij ml in dh fu/kkZfjr is esfVªd ysoy dh izFke lsy ij vafdr osru ij osru fLFkjhdj.k fd;k tk;sxk A"]
["b",";fn dksbZ dkfeZd tks iwoZ esa fu;fer lsok esa Fkk] dh lh/kh HkrhZ ls iwoZ in ds is ysoy ds leku ;k mPp ij fu;qfDr gksrh gS ,oa iwoZ in ds osru dk fodYi nsrk gS dk larks\"kizn ifjfo{kkdky iw.kZ gksus ij iwoZ in ds osru esa fu;fer osru o`f} ds lkFk uohu in dh leku lsy ;k leku miyC/k uk gks rks vxyh lsy ij osru fLFkjhdj.k fd;k tk;sxk A"]
["c",";fn dksbZ dkfeZd iwoZ esa fu;fer lsok esa Fkk] dh lh/kh HkrhZ ls iwoZ in ds is ysoy lss fuEu ij fu;qfDr gksrh gS ,oa iwoZ in ds osru dk fodYi nsrk gS dk larks\"kizn ifjfo{kkdky iw.kZ gksus ij ;g ekurs gq, dh fiNyh lsokof/k dh x.kuk ubZ lsok esa x.kuk ;ksX; gksxh] dk osru fLFkjhdj.k iqjkus in ds vafre osru ds cjkcj is ysoy ij fd;k tk;sxk A"]
[""]
["Note","mijksDr fu;eksa dh foLr`r tkudkjh ds fy, nsa[ksa&  GOVERNMENT OF RAJASTHAN FINANCE DEPARTMENT NOTIFICATION No. F. 1 (4)FD(Rules)/2017-1 Jaipur, dated : 30th October, 2017"]
[""]
[""]
[""]
[""]
[""]
[""]
[""]
[""]
[""]
[""]
[""]
[""]

{"sheet":"ACPFix","index":159,"n_rows":21,"n_cols":2,"rows_kept":21,"cut":false,"hidden":true,"merged":[[0,0,0,1]]}
["Pay Fixation Rule on ACP"]
[{"$f":"IF(B2=\"\",\"\",1)","v":1},"jktLFkku flfoy lsok ¼iqujhf{kr osrueku½ fu;e 2017 ds fu;e 14 ds vuqlkj ,d jkT; dkfeZd tks ysoy 13 ¼jkT; lsok dks NksMdj½ ;k mlls de ysoy ij dk;Zjr gS dks 9]18]27 o\"kZ dh fu;fer lsok ij lsokdky esa 3 rhu ACP ns; gksxh ;fn mDr in ds vkxs mldh inkSUufr ugha gksrh gS A "]
[{"$f":"IF(B3=\"\",\"\",A2+1)","v":2},"jktLFkku flfoy lsok ¼iqujhf{kr osrueku½ fu;e 2017 ds fu;e 15 ds vuqlkj ,d jkT; lsok dk dkfeZd tks ysoy 14 ;k mlls vf/kd ysoy ij dk;Zjr gS dks 10]20]30 o\"kZ dh fu;fer lsok ij lsokdky esa 3 rhu ACP ns; gksxh ;fn mDr in ds vkxs mldh inkSUufr ugha gksrh gSA "]
[{"$f":"IF(B4=\"\",\"\",A3+1)","v":3},"ACP ij osru fu/kZj.k&"]
[null,"ACP ij osru fu/kZj.k orZeku in ds is ysoy esa ,d osru o`f} tksMdj vxys is ysoy dh leku lsy ;k leku miyC/k ugha gks rks mlls vxyh lsy ds cjkcj osru fu;ru fd;k tkrk gS A"]
[4,"ACP ds ckn ;fn inkSUufr gksrh gS rks inkSUufr ij osru fu/kkZj.k ugha fd;k tk;sxk A"]
[{"$f":"IF(B7=\"\",\"\",A6+1)","v":5},"ACP ,oa okf\"kZd osru o`f} frfFk leku gksus ij igys okf\"kZd osru o`f} ns; gksxh ,oa r~ri'pkr ACP ij osru fu/kkZj.k fd;k tk;sxk A"]
[6,"ACP ds ckn vkus okyh 01 tqykbZ dks okf\"kZd osru o`f} ns; gksxh A"]
[7,"ACP Lohd`fr l{ke vf/kdkjh dkfeZd ds mDr in dk fu;qfDr vf/kdkjh gksxkA"]
[8,"ACP Lohd`r gksus ij dkfeZd ds inuke esa dksbZ ifjorZu ugha gksxkA"]
[9,"ACP Lohd`r gksus ij dkfeZd ds orZeku is ysoy ls vxys ysoy ij dsoy vkfFkZd ykHk ns; gksxk u dh inkSUufrA"]
[10,";fn dkfeZd ds 01-06-2006 ds ckn 02 ls vf/kd larku gks rks ACP ns; frfFk ls vxys 03 o\"kZ rd dksbZ ACP ns; ugha gksxh ysfdu bldk izHkko vxyh ACP ij ugha gksxk A  ->> See Rule- Finance Department Notification No F.14(88)FD/Rules/2008 Jaipur Dated-18 Dec 2020"]
[""]
[""]
[null,"&&&&&&mijksDr fooj.k lkekU; tkudkjh ds fy, gS foLr`r tkudkjh gsrw foRr foHkkx }kjk tkjh jktLFkku flfoy lsok fu;e nsa[ks"]
[""]
[""]
[""]
[""]
[""]
[""]

{"sheet":"DPCFix","index":160,"n_rows":25,"n_cols":3,"rows_kept":25,"cut":false,"hidden":true,"merged":[[0,0,0,1],[3,2,10,2]]}
["Pay Fixation Rules on DPC"]
[{"$f":"IF(B2=\"\",\"\",1)","v":1},"jktLFkku lsok fu;e¼iqufjf{kr osrueku½ 2017 ds fu;e 26 , ds vUrxrZ foHkkxh; inkSUufr ij dkfeZd dk osru fu;ru fd;k tkrk gS tks fuEukuqlkj fd;k tkrk gS A ;gka inkSUufr ij osru fu;ru dh lkekU; tkudkjh nh tk jgh gS foLr`r fu;e gsrw foRr foHkkx ds fu;eksa dk voyksdu djsa A"]
[{"$f":"IF(B3=\"\",\"\",A2+1)","v":2},"inkSUufr ij dkfeZd dks iwoZ in ds is ysoy ij ,d osru o`f} nsdj vxys ysoy dh leku lsy ;k leku lsy miyC/k uk gksus ij vxyh lsy ij osru fu;ru fd;k tk;sxk A"]
[{"$f":"IF(B4=\"\",\"\",A3+1)","v":3},"orZeku o\"kZ ds fo:} inkSUufr ij osru fu;ru&","lkstU; ls& isesustj bUQks xzqi ,Mfeu isuy"]
["a","करंट वर्ष डीपीसी में चयन तिथि का उल्लेख होता है तो वेतन निर्धारण चयन तिथि से नोशनल होता है एवम आर्थिक लाभ जॉइन करने की तिथि से देय होगा ।"]
["b","करंट वर्ष डीपीसी में चयन तिथि का उल्लेख नही होता है केवल डीपीसी वर्ष ही लिखा हुआ होता है तो वेतन निर्धारण जॉइन करने की तिथि से होता है एवम आर्थिक लाभ भी उसी दिन से मिलता है।"]
["c","करन्ट ईयर में चयन तिथि का उल्लेख है किन्तु चयन तिथि के बाद कर्मचारी सेवा निवृत्त हो जाता है पदस्थापन आदेश सेवानिवृत्ति से पहले जारी नहीं होने से कार्य ग्रहण नहीं कर पाता तो काल्पनिक वेतन निर्धारण चयन तिथि से होगा लेकिन आर्थिक लाभ काल्पनिक एलपीसी के आधार पेंशन प्रारम्भ होने की तिथि से देय होगा। यदि चयन तिथि अंकित नहीं है तो अंतिम कार्य दिवस को काल्पनिक वेतन निर्धारण व आर्थिक लाभ पेंशन प्रारम्भ होने से देय।"]
["d","चयन सेवा निवृत्ति वर्ष से पूर्व वर्ष में हो व चयन तिथि अंकित है तो चयन तिथि से काल्पनिक व पेंशन प्रारम्भ होने से आर्थिक लाभ देय और यदि चयन तिथि अंकित नहीं है तो वर्ष की अंतिम तिथि 31 मार्च से काल्पनिक व पेंशन प्रारम्भ होने से आर्थिक लाभ देय ।"]
[null,"fnukad 01-04-2013 ls iwoZ orZeku o\"kZ esa inkSUufr ij osru fu/kkZj.k o\"kZ ds izFke fnu 01 vizsy ls gksrk Fkk"]
[{"$f":"IF(B10=\"\",\"\",A4+1)","v":4},"xr o\"kZ ds fo:} inkSUufr ij osru fu;ru&"]
["a","back year डीपीसी में पदोन्नति होती है एवं आदेश बाद में होते है तो उसमे चयन तिथि का उल्लेख होता है तो चयन तिथि से नोशनल वेतन निर्धारण होता है एवं आर्थिक लाभ जॉइन करने की तिथि से मिलता है।"]
["b","यदि back year डीपीसी में चयन तिथि का उल्लेख नही है तो  डीपीसी के अंतिम दिन 31 मार्च से वेतन निर्धारण होता है एवं आर्थिक लाभ जॉइन करने की तिथि से देय होता है।"]
[{"$f":"IF(B13=\"\",\"\",A10+1)","v":5},";fn inkSUufr okf\"kZd osru o`f} frfFk dks gksrh gS rks loZizFke iwoZ in dh okf\"kZd osru o`f} nh tk;sxh ,oa mlds ckn mPp in ij inkSUufr ij osru fu/kkZj.k fd;k tk;sxk"]
[6,";fn jkT; dkfeZd dh mPp in ij inkSUufr leku ysoy esa ACP yxus ds ckn gksrh gS rks fdlh Hkh izdkj dk osru fu;ru ugha fd;k tk;sxk A"]
[7," dkfeZd dh inkSUufr ij osru fu;ru ds ckn dh okf\"kZd osru o`f} frfFk 01 tqykbZ gksxh A"]
[8,"See Rules->"]
[null,">>>Government of Rajasthan Finance Department Notification No. F. 1 (4)FD(Rules)/2017-1 Jaipur, dated : 30th October, 2017"]
[null,">>>Government of Rajasthan Finance Department Clearification no-No.F.1(1)FD(Rules)/2009 Dated-09-06-2009 "]
[""]
[""]
[""]
[""]
[""]
[""]
[""]

{"sheet":"AGIFix","index":161,"n_rows":26,"n_cols":2,"rows_kept":26,"cut":false,"hidden":true,"merged":[[0,0,0,1]]}
["Effect on AGI & Rule"]
[{"$f":"IF(B2=\"\",\"\",1)","v":1},"jktLFkku flfoy lsok fu;e ¼iqujhf{kr osrueku½ 2017 ds fu;e 13¼1½ ds rgr ,d LFkkbZ dkfeZd dh osru o`f} frfFk 01 tqykbZ gksxh ftlds fy,  esa osru o`f} o\"kZ esa de ls de 6 ekg dh fu;fer lsok iw.kZ dh gks A ;gka osru o`f} o\"kZ dh vof/k 01 tqykbZ ls 30 tWu rd ekuk x;k gS A"]
[{"$f":"IF(B3=\"\",\"\",A2+1)","v":2},"Probationary Trainee-"]
[null,"jktLFkku flfoy lsok fu;e ¼iqujhf{kr osrueku½ 2017 ds fu;e 13¼2½ ds rgr os dkfeZd ftudk LFkkbZdj.k ;k osru fu;fefrdj.k gqvk gS] dh ifjoh{kk dky lekfIr ds rqjUr i'pkr vkus okyh 01 tqykbZ dks izFke okf\"kZd osru o`f} ns; gksxh pkgs fu;fer lsokof/k 06 ekg dh gks ;k ughaA"]
[null,"Li\"Vhdj.k&"]
[null,";fn fdlh dkfeZd dh fu;qfDr frfFk 30 twu gS rks mldks rqjUr i'pkr vkus okyh 01 tqykbZ dks izFke okf\"kZd osru o`f} ns; gksxh ysfdu ;fn fdlh dkfeZd dh fu;qfDr frfFk 01 tqykbZ gS rks mldks vxys o\"kZ dh 01 tqykbZ dks izFke okf\"kZd osru o`f} ns; gksxh A"]
[{"$f":"IF(B7=\"\",\"\",A3+1)","v":3},"Leave on 01 July-"]
[null,";fn dksbZ dkfeZd 01 tqykbZ dks vodk'k ¼vkdfLed vodk'k ds vykok½ ij gks rks okf\"kZd osru o`f} rks 01 tqykbZ ls gh ns; gksxh ysfdu uks'kuy :i ls ns; gksxh ijUrw okLrfod foRrh; ykHk dkfeZd ds vodk'k ls yksVus ij dk;Zxzg.k frfFk ls ns; gksxk A"]
[null,"&fu;e 97 ds rgr vodk'k vof/k esa vodk'k osru ns; gksxk] vodk'k osru og osru gksrk gS tks fd dkfeZd vodk'k ij tkus ls iwoZ izkIr dj jgk gksrk gS A"]
[{"$f":"IF(B10=\"\",\"\",A7+1)","v":4},"Extra Ordinary Leave-"]
[null,"okf\"kZd osru o`f} ds fy, lsok vof/k vlk/kkj.k vodk'k ¼fpfdRlk izek.k i= ds vk/kkj ij vlk/kkj.k vodk'k ,oa v/;;u vodk'k mPp v/;;u ;k izfr;hsxh ijh{kk rS;kjh gsrw dks NksMdj½ ds vfrfjDr lHkh Lohd`r vodk'kksa dh lsok vof/k okf\"kZd osru o`f} ds fy, x.kuk ;ksX; gS A vlk/kkj.k vodk'k ,d o\"kZ esa 01 tqykbZ ls 30 twu ds e/; ;fn 06 ekg ls vf/kd dh EOL yh gks rks AGI ,d o\"kZ vkxs c< tk;sxh rFkk mDr vof/k esa EOL 06 ekg ls de gks rks AGI ij dksbZ izHkko ugha iMsxk ysfdu dksbZ dkfeZd 01 tuojh ls 31 fnlEcj rd EOL ij jgrk gS rks Hkh mldh okf\"kZd osru o`f} frfFk ij dksbZ izHkko ugha iMsxk A            See-> Finance Department Clearification no-No.F.1(1)FD(Rules)/2009 Dated-09-06-2009 "]
[{"$f":"IF(B12=\"\",\"\",A10+1)","v":5},"Due to DPC & ACP-"]
[null,"jktLFkku flfoy lsok fu;e ¼iqujhf{kr osrueku½ 2008 ,oa 2017 ds rgr inkSUufr ;k ,lhih ls okf\"kZd osru o`f} izHkkfor ugha gksxh A"]
[null,";fn fdlh dkfeZd dh ,lhih fnukad 01 tqykbZ dks ns; gks rks loZizFke okf\"kZd osru o`f} Lohd`r ,oa mlds ckn dk osru ,lhih ds fy, ewy osru ekuk tk;sxk A"]
[null,"jk-fl-ls-fu- 1951 ds [k.M A ds fu;e 29 ds rgr tc rd l{ke vf/kdkjh }kjk ¼fu;e 26,] 27, o 30 ds izko/kkuksa ds rgr½ fu;ekuqlkj okf\"kZd osru o`f} jksd ugha nh tkrh rc rd jkT; dkfeZd dks mldh okf\"kZd osru o`f} fu;fer :i ls ns; gksxh A"]
[{"$f":"IF(B16=\"\",\"\",A12+1)","v":6},"AGI Order-"]
[null,"GF&AR ds fu;e 155 ds vuwlkj GA-92 (New GA-41) esa DDO }kjk okf\"kZd osru o`f} vkns'k Lohd`r fd;k tk;sxk ftldh ,d izfr tqykbZ ds osru fcy ds lkFk layXu djuh gksxh A"]
[{"$f":"IF(B18=\"\",\"\",A17+1)","v":""}]
[""]
[""]
[""]
[""]
[""]
[""]
[""]
[""]

{"sheet":"DeffrShet","index":162,"n_rows":32,"n_cols":21,"rows_kept":32,"cut":false,"hidden":true,"merged":[[0,0,0,19],[1,0,1,19],[2,0,2,1],[2,2,2,4],[2,6,2,7],[2,9,2,11],[2,14,2,15],[2,17,2,18],[28,4,28,9],[29,16,29,19],[3,0,4,0],[3,1,4,1],[3,2,3,4],[3,6,3,8],[3,10,3,13],[3,14,3,17],[30,16,30,19],[31,16,31,19],[3,18,4,18],[3,19,4,19],[3,20,4,21],[5,20,5,21]]}
[{"$f":"Master!G2&Master!H2","v":"कार्यालय&राजकीय उच्च माध्यमिक विद्यालय ]चौगाई]टोंक"}]
["osru vUrj fooj.k izi= "]
["uke dkfeZd&",null,{"$f":"(INDEX(EmpDetail!$B$4:$B$103,MATCH(DeffrShet!$U$6,EmpDetail!$A$4:$A$103,0)))","v":"prqHkqZt tkV"},null,null,"in&",{"$f":"(INDEX(EmpDetail!$C$4:$C$103,MATCH(DeffrShet!$U$6,EmpDetail!$A$4:$A$103,0)))","v":"अध्यापक ग्रेड III"},null,"inLFkkiu&",{"$f":"(INDEX(EmpDetail!$D$4:$D$103,MATCH(DeffrShet!$U$6,EmpDetail!$A$4:$A$103,0)))","v":"राउमावि चौगाई"},null,null,null,"fnukad&","2020-04-01",null,"ls","2020-12-31",null,"rd"]
["S. No","Month","osru tks izkIr djuk gS                ",null,null,65000,"osru tks izkIr fd;k gS  ",null,null,64000,"osru vUrj",null,null,null,"dVkSfr;ksa dk vUrj",null,null,null,"Net Pay","Vhoh ua ,oa fnukad","dkfeZd dh dz0la0 fy[ks"]
[null,null,"Basic","DA","HRA","Total","Basic","DA","HRA","Total","Basic","DA","HRA","Total","Gpf/NPS","Other/SI","I Tax",";ksx dVksfr;ka"]
[{"$f":"IF(B6=\"\",\"\",1)","v":1},"2020-04-01",65000,10715,5042,{"$f":"SUM(C6:E6)","v":80757},64000,10369,4880,{"$f":"SUM(G6:I6)","v":79249},{"$f":"SUM(C6-G6)","v":1000},346,162,1508,0,0,0,{"$f":"SUM(O6:Q6)","v":0},{"$f":"SUM(N6-R6)","v":1508},null,13]
[{"$f":"IF(B7=\"\",\"\",A6+1)","v":2},"2020-05-01",65000,11084,5216,{"$f":"SUM(C7:E7)","v":81300},64000,10727,5048,{"$f":"SUM(G7:I7)","v":79775},1000,357,168,1525,0,0,0,{"$f":"SUM(O7:Q7)","v":0},{"$f":"SUM(N7-R7)","v":1525}]
[{"$f":"IF(B8=\"\",\"\",A7+1)","v":3},"2020-06-01",65000,11084,5216,81300,64000,10727,5048,79775,1000,357,168,1525,0,0,0,0,1525]
[4,"2020-07-01",65000,11084,5216,81300,64000,10727,5048,79775,1000,357,168,1525,0,0,0,0,1525]
[5,"2020-08-01",65000,11084,5216,81300,64000,10727,5048,79775,1000,357,168,1525,0,0,100,100,1425]
[6,"2020-09-01",65000,11084,5216,81300,64000,10727,5048,79775,1000,357,168,1525,0,0,100,100,1425]
[7,"2020-10-01",65000,11084,5216,81300,64000,10727,5048,79775,1000,357,168,1525,0,0,100,100,1425]
["",null,null,null,null,0,null,null,null,0,0,{"$f":"SUM(D13-H13)","v":0},0,0,0,0,0,0,0]
["",null,null,null,null,0,null,null,null,0,0,0,0,0,0,0,0,0,0]
["",null,null,null,null,0,null,null,null,0,0,0,0,0,0,0,0,0,0]
["",null,null,null,null,0,null,null,null,0,0,0,0,0,0,0,0,0,0]
["",null,null,null,null,0,null,null,null,0,0,0,0,0,0,0,0,0,0]
["",null,null,null,null,0,null,null,null,0,0,0,0,0,0,0,0,0,0]
["",null,null,null,null,0,null,null,null,0,0,0,0,0,0,0,0,0,0]
["",null,null,null,null,0,null,null,null,0,0,0,0,0,0,0,0,0,0]
["",null,null,null,null,0,null,null,null,0,0,0,0,0,0,0,0,0,0]
["",null,null,null,null,0,null,null,null,0,{"$f":"SUM(C22-G22)","v":0},0,0,{"$f":"SUM(F22-J22)","v":0},0,0,0,0,0]
["",null,null,null,null,0,null,null,null,0,0,0,0,0,0,0,0,0,0]
["",null,null,null,null,0,null,null,null,0,0,0,0,0,0,0,0,0,0]
["",null,null,null,null,0,null,null,null,0,0,0,0,0,0,0,0,0,0]
["",null,null,null,null,0,null,null,null,0,0,0,0,0,0,0,0,0,0]
["",null,null,null,null,0,null,null,null,0,0,0,0,0,0,0,0,0,0]
[0,"Total",{"$f":"SUM(C6:C27)","v":455000},{"$f":"SUM(D6:D27)","v":77219},36338,568557,448000,74731,35168,557899,7000,2488,1170,10658,0,0,300,300,10358]
[".",null,null,"v{kjs&","pkSng gtkj N% lkS vB;klh :i;s ek="]
[".","uksV&","izekf.kr fd;k tkrk gS fd bl fcy dk Hkqxrku iwoZ esa ugh mBk;k x;k gS vkSj u gh Hkfo\"; esa mBk;k tk;sxk A",null,null,null,null,null,null,null,null,null,null,null,null,null,{"$f":"Master!B2","v":"प्रधानाचार्य"}]
[".",null,null,null,null,null,null,null,null,null,null,null,null,null,null,null,{"$f":"Master!B3","v":"राजकीय उच्च माध्यमिक विद्यालय "}]
[null,null,null,null,null,null,null,null,null,null,null,null,null,null,null,null,{"$f":"Master!B4","v":"चौगाई]टोंक"}]