Workbook

Sheet DETAIL
A2: KAILASH CHANDRA SHARMA ,POST-TEACHER L-I,GSSS-JEEWANA,MASUDA,BEAWAR(RAJ)
A3: vko';d lq>ko vkefU=r&Klsharma1971@gmail.com
A4: ekg dk uke pqus | C4: SEP | F4: YEAR | H4: 2026 | J4: 1 ebZ 2025 ls izHkkoh
A5: fo|ky; dk uke | C5: jktdh; mPp ek/;fed fo|ky; thok.kk | J5: &%uksV%& | Y5: JAN | Z5: =IF(C4="JAN","1",IF(C4="FEB","2",IF(C4="MAR","3",IF(C4="APRIL","4",IF(C4="MAY","5",IF(C4="JUNE","6",IF(C4="JULY","7",IF(C4="AUGUST","8",IF(C4="SEP","9",IF(C4="OCT","10",IF(C4="NOV","11",IF(C4="DEC","12","0")))))))))))) -> 9 | AA5: 1
A6: MDM dksM | C6: 0 91 | J6: 1-dsoy lQsn lsYl gh HkjsaA | Y6: FEB
A7: xzke iapk;r | G7: CykWd | H7: elwnk | J7: 2-bl ,si dks SAVE AS djds gj eghus dke fy;k tk ldrk gSA | Y7: MAR
A8: cSd dk uke | C8: cSd vkWQ cMkSnk | F8: [kkrk la[;k | J8: 01 vizsy 2025 dks 'ks"k | N8: ljdkj ls xr ekg rd izkIr | P8: ljdkj ls ekg ds nkSjku izkIr | R8: vU; L=ksr ls | U8: jk'ku Mhyj ls fy;k@fn;k | W8: 01 vizsy ls xr ekg rd O;; | Y8: APRIL
A9: IFC CODE | C9: BARB0BEAWAR | J9: 1 ls 5 | K9: xsgwa | L9: 753.9 | N9: 0 | P9: 0 | R9: 0 | U9: 0 | W9: 0 | Y9: MAY | AD9: 45658
A10: ukekadu 1ls 5 | J10: 1 ls 5 | K10: pkoy | L10: 234 | N10: 0 | P10: 0 | R10: 0 | U10: 0 | W10: 0 | Y10: JUNE | AD10: 45689 | AE10: dqd de gsYij
A11: ukekadu 6ls 8 | J11: 6 ls 8 | K11: xsgwa | L11: 716.95 | N11: 0 | P11: 0 | R11: 0 | U11: 0 | W11: 0 | Y11: JULY | AB11: 2025 | AD11: 45717 | AE11: S.NO. | AF11: NO.of students | AG11: No.of Cook cum Helpers
A12: eksckbZy uEcj laLFkk iz/kku@ikS"kkgkj izHkkjh | J12: 6 ls 8 | K12: pkoy | L12: 330.25 | N12: 0 | P12: 0 | R12: 0 | U12: 0 | W12: 0 | Y12: AUGUST | AB12: 2026 | AD12: 45748
J13: 1 ls 5 | K13: ikmMj | L13: 79.535 | N13: 0 | P13: 0 | R13: 0 | T13: 0 | W13: 0 | Y13: SEP | AB13: 2027 | AD13: 45778 | AE13: 1 | AF13: 01 to 50 | AG13: 1
A14: okV~vi uEcj laLFkk iz/kku@ikS"kkgkj izHkkjh | J14: 6 ls 8 | K14: ikmMj | L14: 185.31 | N14: 0 | P14: 0 | R14: 0 | T14: 0 | W14: 0 | Y14: OCT | AB14: 2028 | AD14: 45809 | AE14: 2 | AF14: 51 to 150 | AG14: 2
J15: vf/kdkfj;ksa }kjk fujh{k.k | O15: 1 | Y15: NOV | AB15: 2029 | AD15: 45839 | AE15: 3 | AF15: 151 to 400 | AG15: 3
A16: ikS"kkgkj cukus okyh efgyk dk uke | P16: dqd dUotZu dh nj ¼1 ls 5½ | V16: 6.78 | Y16: DEC | AB16: 2030 | AD16: 45870 | AE16: blds mijkUr izR;sd 150 Nk=@Nk=k ukekadu ij ,d vfrfjDr dh Lohd`fr
J17: tuizfrfuf/k;ksasa }kjk fujh{k.k | O17: 2 | P17: dqd dUotZu dh nj ¼6 ls 8½ | V17: 10.17 | AB17: 2031 | AD17: 45901
A18: oxZ | C18: OBC | E18: OBC | G18: OBC | I18: OBC | J18: ,l-,e-lh- }kjk fujh{k.k | O18: 2 | AD18: 45931
A19: vk/kkj uEcj | J19: is;ty lqfo/kk ,oa okVj Vsad dh vafre lQkbZ dh fnukad vafdr djs | O19: 46137 | R19: phuh dh nj ¼1 ls 5½ | V19: 0.378 | Y19: first date | Z19: =DATE(H4,Z5,AA5) -> 46266 | AA19: =EOMONTH(Z19,0) -> 46295 | AD19: 45962
J20: fpfdRlk tkWp dh frfFk | O20: 46134 | R20: phuh dh nj ¼6 ls 8½ | V20: 0.459 | Z20: =Z19+1 -> 46267 | AA20: =IFERROR(IF(Z20="","",IF(DATE(YEAR(Z20),MONTH(Z20),DAY(Z20))=DATE(YEAR($AA$19),MONTH($AA$19),DAY($AA$19)+1),"",IF(Z20>$AA$19,"",Z20))),"") -> 46267 | AD20: 45992
A21: dqd de gsYij dh la[;k | C21: SC | F21: ST | H21: OTHER | I21: OTHER | J21: TOTAL | L21: ekg 10@16 esa Lohd`r jkf'k | Q21: dqy vfxze jkf'k | U21: dc rd Hkqxrku dj fn;k x;k | Z21: =Z20+1 -> 46268 | AA21: =IFERROR(IF(Z21="","",IF(DATE(YEAR(Z21),MONTH(Z21),DAY(Z21))=DATE(YEAR($AA$19),MONTH($AA$19),DAY($AA$19)+1),"",IF(Z21>$AA$19,"",Z21))),"") -> 46268 | AD21: 46023
C22: 0 | F22: 0 | I22: 3 | J22: =SUM(C22:I22) -> 3 | Z22: =Z21+1 -> 46269 | AA22: =IFERROR(IF(Z22="","",IF(DATE(YEAR(Z22),MONTH(Z22),DAY(Z22))=DATE(YEAR($AA$19),MONTH($AA$19),DAY($AA$19)+1),"",IF(Z22>$AA$19,"",Z22))),"") -> 46269 | AD22: 46054
A23: =C21*C22 -> #VALUE! | Z23: =Z22+1 -> 46270 | AA23: =IFERROR(IF(Z23="","",IF(DATE(YEAR(Z23),MONTH(Z23),DAY(Z23))=DATE(YEAR($AA$19),MONTH($AA$19),DAY($AA$19)+1),"",IF(Z23>$AA$19,"",Z23))),"") -> 46270 | AD23: 46082
A24: dqd de gsYij dh jkf'k dh nj | C24: 2467 | F24: SC | H24: OTHER | I24: ST | L24: 0 | Q24: 0 | U24: 45992 | Z24: =Z23+1 -> 46271 | AA24: =IFERROR(IF(Z24="","",IF(DATE(YEAR(Z24),MONTH(Z24),DAY(Z24))=DATE(YEAR($AA$19),MONTH($AA$19),DAY($AA$19)+1),"",IF(Z24>$AA$19,"",Z24))),"") -> 46271 | AD24: 46113
A25: =J22*C24 -> 7401 | Z25: =Z24+1 -> 46272 | AA25: =IFERROR(IF(Z25="","",IF(DATE(YEAR(Z25),MONTH(Z25),DAY(Z25))=DATE(YEAR($AA$19),MONTH($AA$19),DAY($AA$19)+1),"",IF(Z25>$AA$19,"",Z25))),"") -> 46272 | AD25: 46143
Z26: =Z25+1 -> 46273 | AA26: =IFERROR(IF(Z26="","",IF(DATE(YEAR(Z26),MONTH(Z26),DAY(Z26))=DATE(YEAR($AA$19),MONTH($AA$19),DAY($AA$19)+1),"",IF(Z26>$AA$19,"",Z26))),"") -> 46273 | AD26: 46174
Z27: =Z26+1 -> 46274 | AA27: =IFERROR(IF(Z27="","",IF(DATE(YEAR(Z27),MONTH(Z27),DAY(Z27))=DATE(YEAR($AA$19),MONTH($AA$19),DAY($AA$19)+1),"",IF(Z27>$AA$19,"",Z27))),"") -> 46274 | AD27: 46204
F28: =ROUND(((B!A4)*F26/100),0) -> 0 | I28: =ROUND(((B!A4)*I26/100),0) -> 0 | Z28: =Z27+1 -> 46275 | AA28: =IFERROR(IF(Z28="","",IF(DATE(YEAR(Z28),MONTH(Z28),DAY(Z28))=DATE(YEAR($AA$19),MONTH($AA$19),DAY($AA$19)+1),"",IF(Z28>$AA$19,"",Z28))),"") -> 46275 | AD28: 46235
F29: =ROUND(((B!G4)*F27/100),0) -> 0 | I29: =ROUND(((B!G4)*I27/100),0) -> 0 | Z29: =Z28+1 -> 46276 | AA29: =IFERROR(IF(Z29="","",IF(DATE(YEAR(Z29),MONTH(Z29),DAY(Z29))=DATE(YEAR($AA$19),MONTH($AA$19),DAY($AA$19)+1),"",IF(Z29>$AA$19,"",Z29))),"") -> 46276 | AD29: 46266
Z30: =Z29+1 -> 46277 | AA30: =IFERROR(IF(Z30="","",IF(DATE(YEAR(Z30),MONTH(Z30),DAY(Z30))=DATE(YEAR($AA$19),MONTH($AA$19),DAY($AA$19)+1),"",IF(Z30>$AA$19,"",Z30))),"") -> 46277 | AD30: 46296
Z31: =Z30+1 -> 46278 | AA31: =IFERROR(IF(Z31="","",IF(DATE(YEAR(Z31),MONTH(Z31),DAY(Z31))=DATE(YEAR($AA$19),MONTH($AA$19),DAY($AA$19)+1),"",IF(Z31>$AA$19,"",Z31))),"") -> 46278 | AD31: 46327
Z32: =Z31+1 -> 46279 | AA32: =IFERROR(IF(Z32="","",IF(DATE(YEAR(Z32),MONTH(Z32),DAY(Z32))=DATE(YEAR($AA$19),MONTH($AA$19),DAY($AA$19)+1),"",IF(Z32>$AA$19,"",Z32))),"") -> 46279 | AD32: 46357
Z33: =Z32+1 -> 46280 | AA33: =IFERROR(IF(Z33="","",IF(DATE(YEAR(Z33),MONTH(Z33),DAY(Z33))=DATE(YEAR($AA$19),MONTH($AA$19),DAY($AA$19)+1),"",IF(Z33>$AA$19,"",Z33))),"") -> 46280 | AD33: 46388
Z34: =Z33+1 -> 46281 | AA34: =IFERROR(IF(Z34="","",IF(DATE(YEAR(Z34),MONTH(Z34),DAY(Z34))=DATE(YEAR($AA$19),MONTH($AA$19),DAY($AA$19)+1),"",IF(Z34>$AA$19,"",Z34))),"") -> 46281 | AD34: 46419
Z35: =Z34+1 -> 46282 | AA35: =IFERROR(IF(Z35="","",IF(DATE(YEAR(Z35),MONTH(Z35),DAY(Z35))=DATE(YEAR($AA$19),MONTH($AA$19),DAY($AA$19)+1),"",IF(Z35>$AA$19,"",Z35))),"") -> 46282 | AD35: 46447
Z36: =Z35+1 -> 46283 | AA36: =IFERROR(IF(Z36="","",IF(DATE(YEAR(Z36),MONTH(Z36),DAY(Z36))=DATE(YEAR($AA$19),MONTH($AA$19),DAY($AA$19)+1),"",IF(Z36>$AA$19,"",Z36))),"") -> 46283 | AD36: 46478
Z37: =Z36+1 -> 46284 | AA37: =IFERROR(IF(Z37="","",IF(DATE(YEAR(Z37),MONTH(Z37),DAY(Z37))=DATE(YEAR($AA$19),MONTH($AA$19),DAY($AA$19)+1),"",IF(Z37>$AA$19,"",Z37))),"") -> 46284 | AD37: 46508
Z38: =Z37+1 -> 46285 | AA38: =IFERROR(IF(Z38="","",IF(DATE(YEAR(Z38),MONTH(Z38),DAY(Z38))=DATE(YEAR($AA$19),MONTH($AA$19),DAY($AA$19)+1),"",IF(Z38>$AA$19,"",Z38))),"") -> 46285 | AD38: 46539
Z39: =Z38+1 -> 46286 | AA39: =IFERROR(IF(Z39="","",IF(DATE(YEAR(Z39),MONTH(Z39),DAY(Z39))=DATE(YEAR($AA$19),MONTH($AA$19),DAY($AA$19)+1),"",IF(Z39>$AA$19,"",Z39))),"") -> 46286 | AD39: 46569
Z40: =Z39+1 -> 46287 | AA40: =IFERROR(IF(Z40="","",IF(DATE(YEAR(Z40),MONTH(Z40),DAY(Z40))=DATE(YEAR($AA$19),MONTH($AA$19),DAY($AA$19)+1),"",IF(Z40>$AA$19,"",Z40))),"") -> 46287 | AD40: 46600
Z41: =Z40+1 -> 46288 | AA41: =IFERROR(IF(Z41="","",IF(DATE(YEAR(Z41),MONTH(Z41),DAY(Z41))=DATE(YEAR($AA$19),MONTH($AA$19),DAY($AA$19)+1),"",IF(Z41>$AA$19,"",Z41))),"") -> 46288 | AD41: 46631
...

Sheet Attendance
A1: dsoy mifLFkfr HkjsaA
A2: DAY | B2: DATE | C2: PS | F2: UPS | I2: nqX/k ikmMj
C3: xsgwa | D3: pkoy | F3: xsgwa | G3: pkoy | I3: PS | J3: UPS
C4: mifLFkfr | D4: mifLFkfr | F4: mifLFkfr | G4: mifLFkfr | I4: mifLFkfr | J4: mifLFkfr
A5: =WEEKDAY(B5) -> 3 | B5: =DETAIL!Z19 -> 46266
A6: =WEEKDAY(B6) -> 4 | B6: =DETAIL!AA20 -> 46267
A7: =WEEKDAY(B7) -> 5 | B7: =DETAIL!AA21 -> 46268
A8: =WEEKDAY(B8) -> 6 | B8: =DETAIL!AA22 -> 46269
A9: =WEEKDAY(B9) -> 7 | B9: =DETAIL!AA23 -> 46270
A10: =WEEKDAY(B10) -> 1 | B10: =DETAIL!AA24 -> 46271
A11: =WEEKDAY(B11) -> 2 | B11: =DETAIL!AA25 -> 46272
A12: =WEEKDAY(B12) -> 3 | B12: =DETAIL!AA26 -> 46273
A13: =WEEKDAY(B13) -> 4 | B13: =DETAIL!AA27 -> 46274
A14: =WEEKDAY(B14) -> 5 | B14: =DETAIL!AA28 -> 46275
A15: =WEEKDAY(B15) -> 6 | B15: =DETAIL!AA29 -> 46276
A16: =WEEKDAY(B16) -> 7 | B16: =DETAIL!AA30 -> 46277
A17: =WEEKDAY(B17) -> 1 | B17: =DETAIL!AA31 -> 46278
... A22: =WEEKDAY(B22) -> 6 | B22: =DETAIL!AA36 -> 46283
A23: =WEEKDAY(B23) -> 7 | B23: =DETAIL!AA37 -> 46284 | C23: 0 | D23: 0 | F23: 0 | G23: 0 | I23: 0 | J23: 0
A24: =WEEKDAY(B24) -> 1 | B24: =DETAIL!AA38 -> 46285
A25: =WEEKDAY(B25) -> 2 | B25: =DETAIL!AA39 -> 46286
A26: =WEEKDAY(B26) -> 3 | B26: =DETAIL!AA40 -> 46287
A27: =WEEKDAY(B27) -> 4 | B27: =DETAIL!AA41 -> 46288
A28: =WEEKDAY(B28) -> 5 | B28: =DETAIL!AA42 -> 46289
A29: =WEEKDAY(B29) -> 6 | B29: =DETAIL!AA43 -> 46290
A30: =WEEKDAY(B30) -> 7 | B30: =DETAIL!AA44 -> 46291
A31: =WEEKDAY(B31) -> 1 | B31: =DETAIL!AA45 -> 46292
A32: =WEEKDAY(B32) -> 2 | B32: =DETAIL!AA46 -> 46293
A33: =IF(B33="","",WEEKDAY(B33)) -> 3 | B33: =DETAIL!AA47 -> 46294
A34: =IF(B34="","",WEEKDAY(B34)) -> 4 | B34: =DETAIL!AA48 -> 46295
A35: =IF(B35="","",WEEKDAY(B35)) | B35: =DETAIL!AA49
C36: =SUM(C5:C35) -> 0 | D36: =SUM(D5:D35) -> 0 | F36: =SUM(F5:F35) -> 0 | G36: =SUM(G5:G35) -> 0 | I36: =SUM(I5:I35) -> 0 | J36: =SUM(J5:J35) -> 0
C37: =COUNTIF(C5:C35,">1") -> 0 | D37: =COUNTIF(D5:D35,">1") -> 0 | F37: =COUNTIF(F5:F35,">1") -> 0 | G37: =COUNTIF(G5:G35,">1") -> 0 | I37: =COUNTIF(I5:I35,">1") -> 0 | J37: =COUNTIF(J5:J35,">1") -> 0

Sheet A
A1: ftyk vtesj
A2: fo|ky; %& | C2: =DETAIL!C5 -> jktdh; mPp ek/;fed fo|ky; thok.kk
A3: 1 ebZ 2025 ls izHkkoh
A4: feM Ms ehy ;kstuk dk ekfld mi;ksfxrk izek.k i= | I4: =DETAIL!C4 -> SEP | J4: =DETAIL!H4 -> 2026
A5: d{kk 1 ls 5 o 6 ls 8 dk iks"kkgkj ekuns; fcy ekg %&
A6: xzke iapk;r | C6: =DETAIL!C7 -> 0 | G6: CykWd | H6: =DETAIL!H7 -> elwnk | I6: MDM dksM%& | J6: =DETAIL!C6 -> 0 91
A7: cSd dk uke | C7: =DETAIL!C8 -> cSd vkWQ cMkSnk | E7: [kkrk la[;k | F7: =DETAIL!G8 -> 0 | H7: IFSC CODE | I7: =DETAIL!C9 -> BARB0BEAWAR
A8: fo|ky; dk ukekadu vk/kkj frfFk 30 flarEcj | C8: d{kk 1 ls 5 | E8: =DETAIL!C10 -> 0 | F8: d{kk 6 ls 8 | H8: =DETAIL!C11 -> 0 | I8: ;ksx | J8: =E8+H8 -> 0
A9: laLFkkiz/kku@ikS"kkgkj izHkkjh@eks-u- | E9: =DETAIL!C12 -> 0 | G9: okV~lvi u-a | I9: =DETAIL!C14 -> 0
A10: dz-la- | B10: fnukad | C10: d{kk 1 ls 5 ¼ 100 xzke@izfr Nk= ½ | F10: nw/k dh ek=k 15 xzke izfr fo|kFkhZ | G10: d{kk 6 ls 8 ¼ 150 xzke@izfr Nk= ½ | J10: nw/k dh ek=k 20 xzke izfr fo|kFkhZ
C11: vkoafVr [kk|ku dh ek=k | G11: vkoafVr [kk|ku dh ek=k
C12: iks"kkgkj ls ykHkkafor Nk= la[;k | D12: xsagwW dh [kir | E12: pkoy dh [kir | F12: nw/k ikmMj ls ykHkkfUor Nk=ksa dh la[;k | G12: iks"kkgkj ls ykHkkafor Nk= la[;k | H12: xsagwW dh [kir | I12: pkoy dh [kir | J12: nw/k ikmMj ls ykHkkfUor Nk=ksa dh la[;k
A13: 1 | B13: =Attendance!B5 -> 46266 | C13: =Attendance!C5+Attendance!D5 -> 0 | D13: =Attendance!C5*0.1 -> 0 | E13: =Attendance!D5*0.1 -> 0 | F13: =Attendance!I5*0.015 -> 0 | G13: =Attendance!F5+Attendance!G5 -> 0 | H13: =Attendance!F5*0.15 -> 0 | I13: =Attendance!G5*0.15 -> 0 | J13: =Attendance!J5*0.02 -> 0
A14: 2 | B14: =Attendance!B6 -> 46267 | C14: =Attendance!C6+Attendance!D6 -> 0 | D14: =Attendance!C6*0.1 -> 0 | E14: =Attendance!D6*0.1 -> 0 | F14: =Attendance!I6*0.015 -> 0 | G14: =Attendance!F6+Attendance!G6 -> 0 | H14: =Attendance!F6*0.15 -> 0 | I14: =Attendance!G6*0.15 -> 0 | J14: =Attendance!J6*0.02 -> 0
A15: 3 | B15: =Attendance!B7 -> 46268 | C15: =Attendance!C7+Attendance!D7 -> 0 | D15: =Attendance!C7*0.1 -> 0 | E15: =Attendance!D7*0.1 -> 0 | F15: =Attendance!I7*0.015 -> 0 | G15: =Attendance!F7+Attendance!G7 -> 0 | H15: =Attendance!F7*0.15 -> 0 | I15: =Attendance!G7*0.15 -> 0 | J15: =Attendance!J7*0.02 -> 0
A16: 4 | B16: =Attendance!B8 -> 46269 | C16: =Attendance!C8+Attendance!D8 -> 0 | D16: =Attendance!C8*0.1 -> 0 | E16: =Attendance!D8*0.1 -> 0 | F16: =Attendance!I8*0.015 -> 0 | G16: =Attendance!F8+Attendance!G8 -> 0 | H16: =Attendance!F8*0.15 -> 0 | I16: =Attendance!G8*0.15 -> 0 | J16: =Attendance!J8*0.02 -> 0
A17: 5 | B17: =Attendance!B9 -> 46270 | C17: =Attendance!C9+Attendance!D9 -> 0 | D17: =Attendance!C9*0.1 -> 0 | E17: =Attendance!D9*0.1 -> 0 | F17: =Attendance!I9*0.015 -> 0 | G17: =Attendance!F9+Attendance!G9 -> 0 | H17: =Attendance!F9*0.15 -> 0 | I17: =Attendance!G9*0.15 -> 0 | J17: =Attendance!J9*0.02 -> 0
A18: 6 | B18: =Attendance!B10 -> 46271 | C18: =Attendance!C10+Attendance!D10 -> 0 | D18: =Attendance!C10*0.1 -> 0 | E18: =Attendance!D10*0.1 -> 0 | F18: =Attendance!I10*0.015 -> 0 | G18: =Attendance!F10+Attendance!G10 -> 0 | H18: =Attendance!F10*0.15 -> 0 | I18: =Attendance!G10*0.15 -> 0 | J18: =Attendance!J10*0.02 -> 0
A19: 7 | B19: =Attendance!B11 -> 46272 | C19: =Attendance!C11+Attendance!D11 -> 0 | D19: =Attendance!C11*0.1 -> 0 | E19: =Attendance!D11*0.1 -> 0 | F19: =Attendance!I11*0.015 -> 0 | G19: =Attendance!F11+Attendance!G11 -> 0 | H19: =Attendance!F11*0.15 -> 0 | I19: =Attendance!G11*0.15 -> 0 | J19: =Attendance!J11*0.02 -> 0
A20: 8 | B20: =Attendance!B12 -> 46273 | C20: =Attendance!C12+Attendance!D12 -> 0 | D20: =Attendance!C12*0.1 -> 0 | E20: =Attendance!D12*0.1 -> 0 | F20: =Attendance!I12*0.015 -> 0 | G20: =Attendance!F12+Attendance!G12 -> 0 | H20: =Attendance!F12*0.15 -> 0 | I20: =Attendance!G12*0.15 -> 0 | J20: =Attendance!J12*0.02 -> 0
A21: 9 | B21: =Attendance!B13 -> 46274 | C21: =Attendance!C13+Attendance!D13 -> 0 | D21: =Attendance!C13*0.1 -> 0 | E21: =Attendance!D13*0.1 -> 0 | F21: =Attendance!I13*0.015 -> 0 | G21: =Attendance!F13+Attendance!G13 -> 0 | H21: =Attendance!F13*0.15 -> 0 | I21: =Attendance!G13*0.15 -> 0 | J21: =Attendance!J13*0.02 -> 0
A22: 10 | B22: =Attendance!B14 -> 46275 | C22: =Attendance!C14+Attendance!D14 -> 0 | D22: =Attendance!C14*0.1 -> 0 | E22: =Attendance!D14*0.1 -> 0 | F22: =Attendance!I14*0.015 -> 0 | G22: =Attendance!F14+Attendance!G14 -> 0 | H22: =Attendance!F14*0.15 -> 0 | I22: =Attendance!G14*0.15 -> 0 | J22: =Attendance!J14*0.02 -> 0
A23: 11 | B23: =Attendance!B15 -> 46276 | C23: =Attendance!C15+Attendance!D15 -> 0 | D23: =Attendance!C15*0.1 -> 0 | E23: =Attendance!D15*0.1 -> 0 | F23: =Attendance!I15*0.015 -> 0 | G23: =Attendance!F15+Attendance!G15 -> 0 | H23: =Attendance!F15*0.15 -> 0 | I23: =Attendance!G15*0.15 -> 0 | J23: =Attendance!J15*0.02 -> 0
A24: 12 | B24: =Attendance!B16 -> 46277 | C24: =Attendance!C16+Attendance!D16 -> 0 | D24: =Attendance!C16*0.1 -> 0 | E24: =Attendance!D16*0.1 -> 0 | F24: =Attendance!I16*0.015 -> 0 | G24: =Attendance!F16+Attendance!G16 -> 0 | H24: =Attendance!F16*0.15 -> 0 | I24: =Attendance!G16*0.15 -> 0 | J24: =Attendance!J16*0.02 -> 0
... A43: 31 | B43: =Attendance!B35 | C43: =Attendance!C35+Attendance!D35 -> 0 | D43: =Attendance!C35*0.1 -> 0 | E43: =Attendance!D35*0.1 -> 0 | F43: =Attendance!I35*0.015 -> 0 | G43: =Attendance!F35+Attendance!G35 -> 0 | H43: =Attendance!F35*0.15 -> 0 | I43: =Attendance!G35*0.15 -> 0 | J43: =Attendance!J35*0.02 -> 0
A44: loZ ;ksx | C44: =SUM(C13:C43) -> 0 | D44: =SUM(D13:D43) -> 0 | E44: =SUM(E13:E43) -> 0 | F44: =SUM(F13:F43) -> 0 | G44: =SUM(G13:G43) -> 0 | H44: =SUM(H13:H43) -> 0 | I44: =SUM(I13:I43) -> 0 | J44: =SUM(J13:J43) -> 0
A45: iks"kkgkj forj.k fnu la[;k | D45: =Attendance!C37 -> 0 | E45: =Attendance!D37 -> 0 | F45: =D45+E45 -> 0 | H45: =Attendance!F37 -> 0 | I45: =Attendance!G37 -> 0 | J45: =H45+I45 -> 0

Sheet B
A1: ekg | C1: =A!I4 -> SEP | E1: =A!J4 -> 2026 | F1: gsrq Hkqxrku ;ksX; jkf'k dk fooj.k
A2: ykHkkfUor Nk=ksa dh la[;k 1 ls 5 | B2: dq- dUotZu dh nj | C2: jkf'k ¼1X2½ | D2: ikS"kkgkj ykHkkfUor Nk=ksa dh la[;k 6 ls 8 | E2: dq- dUotZu dh nj | F2: jkf'k ¼4X5½ | G2: dqd de gSYij dh la[;k | H2: dqd de gSYij dk ekuns; | I2: dqd de gSYij dh jkf'k ¼7x8½ | K2: fey Ms ehy gsrq Hkqxrku ;ksX; dqy jkf'k (3+6+9)
A3: 1 | B3: 2 | C3: 3 | D3: 4 | E3: 5 | F3: 6 | G3: 7 | H3: 8 | I3: 9 | K3: 10
A4: =A!C44 -> 0 | B4: =DETAIL!V16 -> 6.78 | C4: =A4*B4 -> 0 | D4: =A!G44 -> 0 | E4: =DETAIL!V17 -> 10.17 | F4: =D4*E4 -> 0 | G4: =DETAIL!J22 -> 3 | H4: =DETAIL!C24 -> 2467 | I4: =G4*H4 -> 7401 | K4: =C4+F4+I4 -> 7401
A5: nw/k ls ykHkkfUor Nk=ksa dh la[;ka d{kk iwoZ izkFkfed ls 5 | B5: phuh dh nj izfr Nk= | C5: jkf'k ¼11X12½ | D5: nw/k ls ykHkkfUor Nk=ksa dh la[;k d{kk 6 ls 8 | E5: phuh dh nj izfr Nk= | F5: jkf'k ¼14X15½ | G5: bZa/ku O;; | H5: nw/k xeZ djus gsrq ekuns; 500@&# izfr ekg | I5: dqy Hkqxrku ;ksX; jkf'k ¼13+16+17+18½ | K5: fcy dh dqy jkf'k (10+19)
A6: 11 | B6: 12 | C6: 13 | D6: 14 | E6: 15 | F6: 16 | G6: 17 | H6: 18 | I6: 19 | K6: 20
A7: =Attendance!I36 -> 0 | B7: =DETAIL!V19 -> 0.378 | C7: =A7*B7 -> 0 | D7: =Attendance!J36 -> 0 | E7: =DETAIL!V20 -> 0.459 | F7: =D7*E7 -> 0 | G7: 920 | H7: 500 | I7: =C7+F7+G7+H7 -> 1420 | K7: =K4+I7 -> 8821
A8: [kk|kUu ¼ ek=k fdyksxzke esa vafdr djsa ½
A9: d{kk | B9: [kk|kku | C9: 01 vizsy 2026 dk 'ks"k | D9: 01-04-26 ls xr ekg rd izkIr | E9: ljdkj ls ekg ds nkSjku izkIr | F9: vU; L=ksr ls izkIr | G9: jk'ku Mhyj ls m/kkj fy;k o fn;k ¼+ o & esa n'kkZ,½ | H9: dqy(3+4+5+6+7) dk ;ksx | I9: 1@4 ls xr ekg rd O;; | J9: ekg ds nkSjku O;; | K9: dqy (9+10) dk ;ksx | L9: ekg ds vUr esa 'ks"k ²¼8&11½
A10: 1 | B10: 2 | C10: 3 | D10: 4 | E10: 5 | F10: 6 | G10: 7 | H10: 8 | I10: 9 | J10: 10 | K10: 11 | L10: 12
A11: 1 ls 5 | B11: xsagwW | C11: =DETAIL!L9 -> 753.9 | D11: =DETAIL!N9 -> 0 | E11: =DETAIL!P9 -> 0 | F11: =DETAIL!R9 -> 0 | G11: =DETAIL!U9 -> 0 | H11: =C11+D11+E11+F11+G11 -> 753.9 | I11: =DETAIL!W9 -> 0 | J11: =A!D44 -> 0 | K11: =SUM(I11:J11) -> 0 | L11: =H11-K11 -> 753.9
A12: 1 ls 5 | B12: pkoy | C12: =DETAIL!L10 -> 234 | D12: =DETAIL!N10 -> 0 | E12: =DETAIL!P10 -> 0 | F12: =DETAIL!R10 -> 0 | G12: =DETAIL!U10 -> 0 | H12: =C12+D12+E12+F12+G12 -> 234 | I12: =DETAIL!W10 -> 0 | J12: =A!E44 -> 0 | K12: =SUM(I12:J12) -> 0 | L12: =H12-K12 -> 234
A13: 6 ls 8 | B13: xsagwW | C13: =DETAIL!L11 -> 716.95 | D13: =DETAIL!N11 -> 0 | E13: =DETAIL!P11 -> 0 | F13: =DETAIL!R11 -> 0 | G13: =DETAIL!U11 -> 0 | H13: =C13+D13+E13+F13+G13 -> 716.95 | I13: =DETAIL!W11 -> 0 | J13: =A!H44 -> 0 | K13: =SUM(I13:J13) -> 0 | L13: =H13-K13 -> 716.95
A14: 6 ls 8 | B14: pkoy | C14: =DETAIL!L12 -> 330.25 | D14: =DETAIL!N12 -> 0 | E14: =DETAIL!P12 -> 0 | F14: =DETAIL!R12 -> 0 | G14: =DETAIL!U12 -> 0 | H14: =C14+D14+E14+F14+G14 -> 330.25 | I14: =DETAIL!W12 -> 0 | J14: =A!I44 -> 0 | K14: =SUM(I14:J14) -> 0 | L14: =H14-K14 -> 330.25
A15: ;ksx | C15: =SUM(C11:C14) -> 2035.1 | D15: =SUM(D11:D14) -> 0 | E15: =SUM(E11:E14) -> 0 | F15: =SUM(F11:F14) -> 0 | G15: =SUM(G11:G14) -> 0 | H15: =SUM(H11:H14) -> 2035.1 | I15: =SUM(I11:I14) -> 0 | J15: =SUM(J11:J14) -> 0 | ... L15: =SUM(L11:L14) -> 2035.1
A16: 1 ls 5 | B16: ikmMj | C16: =DETAIL!L13 -> 79.535 | D16: =DETAIL!N13 -> 0 | E16: =DETAIL!P13 -> 0 | F16: =DETAIL!R13 -> 0 | G16: =DETAIL!T13 -> 0 | H16: =C16+D16+E16+F16+G16 -> 79.535 | I16: =DETAIL!W13 -> 0 | J16: =A!F44 -> 0 | K16: =SUM(I16:J16) -> 0 | L16: =H16-K16 -> 79.535
A17: 6 ls 8 | B17: ikmMj | C17: =DETAIL!L14 -> 185.31 | D17: =DETAIL!N14 -> 0 | E17: =DETAIL!P14 -> 0 | F17: =DETAIL!R14 -> 0 | G17: =DETAIL!T14 -> 0 | H17: =C17+D17+E17+F17+G17 -> 185.31 | I17: =DETAIL!W14 -> 0 | J17: =A!J44 -> 0 | K17: =SUM(I17:J17) -> 0 | L17: =H17-K17 -> 185.31
A18: ;ksx | C18: =SUM(C16:C17) -> 264.845 | D18: =SUM(D16:D17) -> 0 | E18: =SUM(E16:E17) -> 0 | F18: =SUM(F16:F17) -> 0 | G18: =SUM(G16:G17) -> 0 | H18: =SUM(H16:H17) -> 264.845 | I18: =SUM(I16:I17) -> 0 | J18: =SUM(J16:J17) -> 0 | ... L18: =SUM(L16:L17) -> 264.845
A19: 3- ekg ds nkSjku JS.khokj ykHkkfUor Nk= @ Nk=kvksa dh la[;k @ dqdde gsYij dh la[;k
A20: ekg ds nkSjku ykHkkfUor Nk= Nk=kvksa dh la[;k d{kk 1 ls 5 | E20: ekg ds nkSjku ykHkkfUor Nk= Nk=kvksa dh la[;k d{kk 6 ls 8 | I20: fu;qDr dqd de gsYij dh Js.kh | K20: dqd de gsYij dh la[;k
A21: OTHER | B21: SC | C21: ST | D21: TOTAL | E21: SC | F21: ST | G21: OTHER | H21: TOTAL | I21: SC | K21: =DETAIL!C22 -> 0
I22: ST | K22: =DETAIL!F22 -> 0
I23: OTHER | K23: =DETAIL!I22 -> 3
A24: 4- dqdde gSYij dh lwpuk
A25: dz0l0 | B25: dqd de gsYuj dk uke | E25: Js.kh(SC/ST/OBC/OTHER) | I25: vk/kkj dkMZ la[;k | K25: fpjathoh ;kstuk dk dkMZ uEcj
A26: 1 | B26: =DETAIL!C16 -> 0 | E26: =DETAIL!C18 -> OBC | I26: =DETAIL!C19 -> 0
A27: 2 | B27: =DETAIL!G16 -> 0 | E27: =DETAIL!E18 -> OBC | I27: =DETAIL!G19 -> 0
A28: 3 | B28: =DETAIL!C17 -> 0 | E28: =DETAIL!G18 -> OBC | I28: =DETAIL!C20 -> 0
A29: 4 | B29: =DETAIL!G17 -> 0 | I29: =DETAIL!G20 -> 0
A30: 5 | O30: colum no.5 unprotected
A31: 5- vU; lwpuk;sa | I31: 6- fofRr; lwpuk
A32: ekg ds nkSjku fd;s x;s fujh{k.k ¼la[;k n'kk;s½ | I32: dqfdax dUotZu ,oa dqdde gsYij dk cdk;k Hkzxrku ¼ekg vafdr djsa½ uksV%& yky L;kgh ls vafdr djsa
A33: vf/kdkfj;ksa }kjk fujh{k.k | G33: =DETAIL!O15 -> 1
A34: tuizfrfuf/k;ksasa }kjk fujh{k.k | G34: =DETAIL!O17 -> 2
A35: ,l-,e-lh- lnL;ksa }kjk fujh{k.k | G35: =DETAIL!O18 -> 2 | K35: =DETAIL!U24 -> 45992
A36: is;ty lqfo/kk ,oa okVj Vsad dh vafre lQkbZ dh fnukad vafdr djs | G36: =DETAIL!O19 -> 46137
A37: fpfdRlk tkWp dh frfFk | G37: =DETAIL!O20 -> 46134 | I37: Advance Amount if any
A38: 1- izekf.kr fd;k tkrk gS fd fo|ky; esa iks"kkgkj fu/kkZfjr ehU;w ds vuqlkj forfjr fd;k tk jgk gS rFkk izfr lIrkg Qy forfjr fd;s tk jgsa gSA
A39: 2- izekf.kr fd;k tkrk gS fd yxk;s x;s dqd de gSYij la[;k | F39: =DETAIL!J22 -> 3 | G39: dks ekg | H39: =DETAIL!U24 -> 45992 | I39: rd dk Hkqxrku dj fn;k x;k gSA
A40: 3- izekf.kr fd;k tkrk gS fd fo|ky; esa [kk|kUu miyC/k ugha gksus ij jk'ku Mhyj ls | H40: NIL | I40: fdyksxzke xsgwa@pkoy m/kkj fy, x;sA
...

Sheet DATA.
A1: School Monthly Data For
A2: instruction: | AA2: School Monthly Data For
A3: .keep Enrollment Register at the time of entry
A4: .Keep Account Register at the time of entry | U4: =A!I4 -> SEP
A5: School Details | AA5: School Expenses ( In Rs )
A6: School Code | G6: ='[1]UPS-DETAIL'!C8 -> 8210610301 | I6: School Name | M6: School Name | S6: GOVT. SR. SEC. SCHOOL BADI | AC6: Total Expenditure | AF6: date of Expenditure | AI6: Cumulative Expenditure at School
A7: School type | G7: SECONDARY | I7: School Name | M7: Category | S7: CO-EDUCATION | AC7: & | AF7: & | AI7: &
A8: State | G8: RAJASTHAN | I8: School Name | M8: District | S8: AJMER
A9: Area | G9: BADI | I9: School Name | M9: block | S9: MASUDA | AA9: School Inspection
A10: Village / ward | G10: BADI | I10: School Name | AA10: School Inspection (yes) / (no)
AA11: Name
A12: Meals Avilled Status* | AA12: By Member Of task Force | AG12: NILL
K13: Primary | S13: Upper Primary | AA13: By District Officials | AG13: NILL
A14: number of School Days During month | K14: =A!F45 -> 0 | S14: =A!J45 -> 0 | AA14: By Block / Taluka Level Official | AG14: 1
A15: Actual number Of days mid Day Meal Served | K15: =A!F45 -> 0 | S15: =A!J45 -> 0 | AA15: By SMC Members | AG15: 2
A16: Total meals Served During the Month | K16: =A!F45 -> 0 | S16: =A!J45 -> 0
AA17: Untoward Inclidents (if Any)
A18: Cook Cum Helper Detaills | AA18: Number Of Incident Occurred | AG18: NILL
A19: Name | F19: Gender | K19: Category | P19: Mode Of Payment | U19: Amount Received During The Month (in Rs)
A20: LALI DEVI | F20: F | K20: GEN | P20: CASH | U20: 1000
A21: RAMPRASAD | F21: M | K21: GEN | P21: CASH | U21: 1000
A22: MANJU | F22: F | K22: GEN | P22: CASH | U22: 1000
A24: Cooking Cost (In Rs)
A25: Primary | N25: Upper Primary
A26: Opening Balance | E26: Received During The Month | H26: ExpenditureDuring The Month | K26: Closing Balance | N26: Opening Balance | R26: Received During The Month | U26: ExpenditureDuring The Month | X26: Closing Balance
A27: 0 | E27: 0 | H27: =B!#REF! -> #REF! | K27: 0 | N27: 0 | R27: 0 | U27: =B!#REF! -> #REF! | X27: 0
A28: Wheter The Above Balances Matching With Bank Account Balances (Yes ) / (No)
A30: Detail Of Foodgrain (In Quintals)
A31: Primary | N31: Upper Primary
A32: Food Item | C32: Opening Balance | F32: Received During the Month | H32: Consumtion During the Month | K32: Closing Balance | N32: Food Item | P32: Opening Balance | S32: Received During the Month | U32: Consumtion During the Month | X32: Closing Balance
A33: Wheat | C33: 0.34 | F33: 1.8 | H33: 1.299 | K33: =C33+F33-H33 -> 0.841 | P33: 0.6995 | S33: 0.9 | U33: 1.3305 | X33: =P33+S33-U33 -> 0.269
A34: Rice | C34: 0.656 | F34: 0.85 | H34: 0.697 | K34: =C34+F34-H34 -> 0.809 | P34: 0.2335 | S34: 0.9 | U34: 0.696 | X34: =P34+S34-U34 -> 0.4375

Sheet DOODH
A1: fo|ky; izcU/ku lfefr | E1: =Attendance!#REF! -> #REF!
A2: fodzsrk& | C2: ljl 'kksi ,tsUlh thok.kk
A3: vUuiw.kkZ nw/k ;kstuk nw/k vkiwfrZ Hkqxrku i=d | F3: ekg | G3: =A!I4 -> SEP
A5: fnukad | B5: ykHkkfUor fo|kfFkZ;ksa dh la[;k | D5: vkiwfrZ fd;s x;s nw/k dh ek=k yhVj esa | G5: nj izfr yhVj | H5: jkf'k
B6: class 1 to 5 | C6: class 6 to 8 | D6: class 1 to 5 | E6: class 6 to 8 | F6: total
A7: =Attendance!B5 -> 46266 | B7: =Attendance!I5 -> 0 | C7: =Attendance!J5 -> 0 | D7: =B7*0.15 -> 0 | E7: =C7*0.2 -> 0 | F7: =D7+E7 -> 0 | G7: =DETAIL!V20 -> 0.459 | H7: =F7*G7 -> 0
A8: =Attendance!B6 -> 46267 | B8: =Attendance!I6 -> 0 | C8: =Attendance!J6 -> 0 | D8: =B8*0.15 -> 0 | E8: =C8*0.2 -> 0 | F8: =D8+E8 -> 0 | G8: =G7 -> 0.459 | H8: =F8*G8 -> 0
A9: =Attendance!B7 -> 46268 | B9: =Attendance!I7 -> 0 | C9: =Attendance!J7 -> 0 | D9: =B9*0.15 -> 0 | E9: =C9*0.2 -> 0 | F9: =D9+E9 -> 0 | G9: =G8 -> 0.459 | H9: =F9*G9 -> 0
A10: =Attendance!B8 -> 46269 | B10: =Attendance!I8 -> 0 | C10: =Attendance!J8 -> 0 | D10: =B10*0.15 -> 0 | E10: =C10*0.2 -> 0 | F10: =D10+E10 -> 0 | G10: =G9 -> 0.459 | H10: =F10*G10 -> 0
A11: =Attendance!B9 -> 46270 | B11: =Attendance!I9 -> 0 | C11: =Attendance!J9 -> 0 | D11: =B11*0.15 -> 0 | E11: =C11*0.2 -> 0 | F11: =D11+E11 -> 0 | G11: =G10 -> 0.459 | H11: =F11*G11 -> 0
A12: =Attendance!B10 -> 46271 | B12: =Attendance!I10 -> 0 | C12: =Attendance!J10 -> 0 | D12: =B12*0.15 -> 0 | E12: =C12*0.2 -> 0 | F12: =D12+E12 -> 0 | G12: =G11 -> 0.459 | H12: =F12*G12 -> 0
A13: =Attendance!B11 -> 46272 | B13: =Attendance!I11 -> 0 | C13: =Attendance!J11 -> 0 | D13: =B13*0.15 -> 0 | E13: =C13*0.2 -> 0 | F13: =D13+E13 -> 0 | G13: =G12 -> 0.459 | H13: =F13*G13 -> 0
A14: =Attendance!B12 -> 46273 | B14: =Attendance!I12 -> 0 | C14: =Attendance!J12 -> 0 | D14: =B14*0.15 -> 0 | E14: =C14*0.2 -> 0 | F14: =D14+E14 -> 0 | G14: =G13 -> 0.459 | H14: =F14*G14 -> 0
A15: =Attendance!B13 -> 46274 | B15: =Attendance!I13 -> 0 | C15: =Attendance!J13 -> 0 | D15: =B15*0.15 -> 0 | E15: =C15*0.2 -> 0 | F15: =D15+E15 -> 0 | G15: =G14 -> 0.459 | H15: =F15*G15 -> 0
A16: =Attendance!B14 -> 46275 | B16: =Attendance!I14 -> 0 | C16: =Attendance!J14 -> 0 | D16: =B16*0.15 -> 0 | E16: =C16*0.2 -> 0 | F16: =D16+E16 -> 0 | G16: =G15 -> 0.459 | H16: =F16*G16 -> 0
A17: =Attendance!B15 -> 46276 | B17: =Attendance!I15 -> 0 | C17: =Attendance!J15 -> 0 | D17: =B17*0.15 -> 0 | E17: =C17*0.2 -> 0 | F17: =D17+E17 -> 0 | G17: =G16 -> 0.459 | H17: =F17*G17 -> 0
A18: =Attendance!B16 -> 46277 | B18: =Attendance!I16 -> 0 | C18: =Attendance!J16 -> 0 | D18: =B18*0.15 -> 0 | E18: =C18*0.2 -> 0 | F18: =D18+E18 -> 0 | G18: =G17 -> 0.459 | H18: =F18*G18 -> 0
A19: =Attendance!B17 -> 46278 | B19: =Attendance!I17 -> 0 | C19: =Attendance!J17 -> 0 | D19: =B19*0.15 -> 0 | E19: =C19*0.2 -> 0 | F19: =D19+E19 -> 0 | G19: =G18 -> 0.459 | H19: =F19*G19 -> 0
... A37: =Attendance!B35 | B37: =Attendance!I35 -> 0 | C37: =Attendance!J35 -> 0 | D37: =B37*0.15 -> 0 | E37: =C37*0.2 -> 0 | F37: =D37+E37 -> 0 | G37: =G36 -> 0.459 | H37: =F37*G37 -> 0
A38: TOTAL | B38: =SUM(B7:B37) -> 0 | C38: =SUM(C7:C37) -> 0 | D38: =SUM(D7:D37) -> 0 | E38: =SUM(E7:E37) -> 0 | F38: =SUM(F7:F37) -> 0 | G38: =SUM(G7:G37) -> 14.229 | H38: =SUM(H7:H37) -> 0
A39: Detail of Payments Made for the Month
A40: Date | B40: Cheque No | C40: Cheq. Date | D40: Amount | E40: Receipt
D41: =H38 -> 0
F45: v/;{k | H45: lfpo

Sheet B2

Sheet Sheet4

Sheet Bills Calculation
A1: bl ekg ds fy, MDM ds fcyksa dh x.kuk ¼vuqekfur½
E3: d{kk 1 ls 5 | H3: d{kk 6 ls 8 | K3: ;ksx
A4: dqd de dUotZu jkf'k | E4: =B!C4 -> 0 | H4: =B!F4 -> 0 | K4: =E4+H4 -> 0
A5: dqd de gsYij dh Hkqxrku dh jkf'k | E5: =B!I4 -> 7401 | K5: =E5 -> 7401
A6: nqX/k ;kstuk dh Hkqxrku jkf'k | E6: =B!C7 -> 0 | H6: =B!F7 -> 0 | K6: =E6+H6 -> 0
A7: bZa/ku O;; | E7: =B!G7 -> 920 | H7: nw/k xeZ djus dk ekuns; | K7: =B!H7 -> 500
H8: ;ksx | K8: =K4+K5+K6+E7+K7 -> 8821
A9: xSl flysaMj dh jkf'k | E9: =E4*29/100 -> 0 | H9: =H4*29/100 -> 0 | K9: =E9+H9 -> 0 | M9: 29
A10: xsagw dh filkbZ | E10: =E4*6/100 -> 0 | H10: =H4*6/100 -> 0 | K10: =E10+H10 -> 0 | M10: 6
A11: fdjk.kk dh jkf'k | E11: =E4*40/100 -> 0 | H11: =H4*40/100 -> 0 | K11: =E11+H11 -> 0 | M11: 38
A12: lfCt dh jkf'k | E12: =E4*17/100 -> 0 | H12: =H4*17/100 -> 0 | K12: =E12+H12 -> 0 | M12: 17
A13: Qyks dh jkf'k | E13: =E4*8/100 -> 0 | H13: =H4*8/100 -> 0 | K13: =E13+H13 -> 0 | M13: 8
A14: ;ksx | E14: =SUM(E9:G13) -> 0 | H14: =SUM(H9:J13) -> 0 | K14: =SUM(K9:L13) -> 0 | M14: =SUM(M9:M13) -> 98
A18: lkekuks dh ek=k
A19: lkexzh | D19: d{kk 1 ls 5 | G19: d{kk 6 ls 8
A20: rsy | D20: =B!A4*5/1000 -> 0 | F20: yhVj | G20: =B!D4*7.5/1000 -> 0 | I20: yhVj | M20: 5 ML | N20: 7.5
A21: nky | D21: =B!A4*20/1000 -> 0 | F21: fdyks- | G21: =B!D4*30/1000 -> 0 | I21: fdyks- | M21: 20 GRAM | N21: 30
A22: lfCt | D22: =B!A4*20/1000 -> 0 | F22: fdyks- | G22: =B!D4*30/1000 -> 0 | I22: fdyks- | M22: 20GRAM | N22: 30

Sheet BLANK A
A1: ftyk C;koj
A2: fo|ky; %&
A3: 1 ebZ 2025 ls izHkkoh
A4: feM Ms ehy ;kstuk dk ekfld mi;ksfxrk izek.k i=
A5: d{kk 1 ls 5 o 6 ls 8 dk iks"kkgkj ekuns; fcy ekg %&
A6: xzke iapk;r | C6: =DETAIL!C7 -> 0 | G6: CykWd | H6: =DETAIL!H7 -> elwnk | I6: MDM dksM%&
A7: cSd dk uke | E7: [kkrk la[;k | H7: IFSC CODE
A8: fo|ky; dk ukekadu vk/kkj frfFk 30 flarEcj | C8: d{kk 1 ls 5 | E8: =DETAIL!C10 -> 0 | F8: d{kk 6 ls 8 | I8: ;ksx
A9: laLFkkiz/kku@ikS"kkgkj izHkkjh@eks-u- | G9: okV~lvi u-a
A10: dz-la- | B10: fnukad | C10: d{kk 1 ls 5 ¼ 100 xzke@izfr Nk= ½ | F10: nw/k dh ek=k 15 xzke izfr fo|kFkhZ | G10: d{kk 6 ls 8 ¼ 150 xzke@izfr Nk= ½ | J10: nw/k dh ek=k 20 xzke izfr fo|kFkhZ
C11: vkoafVr [kk|ku dh ek=k | G11: vkoafVr [kk|ku dh ek=k
C12: iks"kkgkj ls ykHkkafor Nk= la[;k | D12: xsagwW dh [kir | E12: pkoy dh [kir | F12: nw/k ikmMj ls ykHkkfUor Nk=ksa dh la[;k | G12: iks"kkgkj ls ykHkkafor Nk= la[;k | H12: xsagwW dh [kir | I12: pkoy dh [kir | J12: nw/k ikmMj ls ykHkkfUor Nk=ksa dh la[;k
A13: 1
A14: 2
A15: 3
A16: 4
A17: 5
A18: 6
A19: 7
A20: 8
A21: 9
A22: 10
A23: 11
A24: 12
... A43: 31
A44: loZ ;ksx
A45: iks"kkgkj forj.k fnu la[;k

Sheet BLANK B
A1: ekg | C1: =A!I4 -> SEP | E1: =A!J4 -> 2026 | F1: gsrq Hkqxrku ;ksX; jkf'k dk fooj.k
A2: ykHkkfUor Nk=ksa dh la[;k 1 ls 5 | B2: dq- dUotZu dh nj | C2: jkf'k ¼1X2½ | D2: ikS"kkgkj ykHkkfUor Nk=ksa dh la[;k 6 ls 8 | E2: dq- dUotZu dh nj | F2: jkf'k ¼4X5½ | G2: dqd de gSYij dh la[;k | H2: dqd de gSYij dk ekuns; | I2: dqd de gSYij dh jkf'k ¼7x8½ | K2: fey Ms ehy gsrq Hkqxrku ;ksX; dqy jkf'k (3+6+9)
A3: 1 | B3: 2 | C3: 3 | D3: 4 | E3: 5 | F3: 6 | G3: 7 | H3: 8 | I3: 9 | K3: 10
A5: nw/k ls ykHkkfUor Nk=ksa dh la[;ka d{kk iwoZ izkFkfed ls 5 | B5: phuh dh nj izfr Nk= | C5: jkf'k ¼11X12½ | D5: nw/k ls ykHkkfUor Nk=ksa dh la[;k d{kk 6 ls 8 | E5: phuh dh nj izfr Nk= | F5: jkf'k ¼14X15½ | G5: bZa/ku O;; | H5: nw/k xeZ djus gsrq ekuns; 500@&# izfr ekg | I5: dqy Hkqxrku ;ksX; jkf'k ¼13+16+17+18½ | K5: fcy dh dqy jkf'k (10+19)
A6: 11 | B6: 12 | C6: 13 | D6: 14 | E6: 15 | F6: 16 | G6: 17 | H6: 18 | I6: 19 | K6: 20
A8: [kk|kUu ¼ ek=k fdyksxzke esa vafdr djsa ½
A9: d{kk | B9: [kk|kku | C9: 01 vizsy 2025 dk 'ks"k | D9: 01-04-25 ls xr ekg rd izkIr | E9: ljdkj ls ekg ds nkSjku izkIr | F9: vU; L=ksr ls izkIr | G9: jk'ku Mhyj ls m/kkj fy;k o fn;k ¼+ o & esa n'kkZ,½ | H9: dqy(3+4+5+6+7) dk ;ksx | I9: 1@4 ls xr ekg rd O;; | J9: ekg ds nkSjku O;; | K9: dqy (9+10) dk ;ksx | L9: ekg ds vUr esa 'ks"k ²¼8&11½
A10: 1 | B10: 2 | C10: 3 | D10: 4 | E10: 5 | F10: 6 | G10: 7 | H10: 8 | I10: 9 | J10: 10 | K10: 11 | L10: 12
A11: 1 ls 5 | B11: xsagwW
A12: 1 ls 5 | B12: pkoy
A13: 6 ls 8 | B13: xsagwW
A14: 6 ls 8 | B14: pkoy
A15: ;ksx
A16: 1 ls 5 | B16: ikmMj
A17: 6 ls 8 | B17: ikmMj
A18: ;ksx
A19: 3- ekg ds nkSjku JS.khokj ykHkkfUor Nk= @ Nk=kvksa dh la[;k @ dqdde gsYij dh la[;k
A20: ekg ds nkSjku ykHkkfUor Nk= Nk=kvksa dh la[;k d{kk 1 ls 5 | E20: ekg ds nkSjku ykHkkfUor Nk= Nk=kvksa dh la[;k d{kk 6 ls 8 | I20: fu;qDr dqd de gsYij dh Js.kh | K20: dqd de gsYij dh la[;k
A21: OTHER | B21: SC | C21: ST | D21: TOTAL | E21: SC | F21: ST | G21: OTHER | H21: TOTAL | I21: SC
I22: ST
I23: OTHER
A24: 4- dqdde gSYij dh lwpuk
A25: dz0l0 | B25: dqd de gsYuj dk uke | E25: Js.kh(SC/ST/OBC/OTHER) | I25: vk/kkj dkMZ la[;k | K25: fpjathoh ;kstuk dk dkMZ uEcj
A26: 1 | E26: =DETAIL!C18 -> OBC
A27: 2 | E27: =DETAIL!E18 -> OBC
A28: 3 | E28: =DETAIL!G18 -> OBC
A29: 4 | E29: =DETAIL!I18 -> OBC
A30: 5 | O30: colum no.5 unprotected
A31: 5- vU; lwpuk;sa | I31: 6- fofRr; lwpuk
A32: ekg ds nkSjku fd;s x;s fujh{k.k ¼la[;k n'kk;s½ | I32: dqfdax dUotZu ,oa dqdde gsYij dk cdk;k Hkzxrku ¼ekg vafdr djsa½ uksV%& yky L;kgh ls vafdr djsa
A33: vf/kdkfj;ksa }kjk fujh{k.k
A34: tuizfrfuf/k;ksasa }kjk fujh{k.k
A35: ,l-,e-lh- lnL;ksa }kjk fujh{k.k
A36: is;ty lqfo/kk ,oa okVj Vsad dh vafre lQkbZ dh fnukad vafdr djs
A37: fpfdRlk tkWp dh frfFk | I37: Advance Amount if any
A38: 1- izekf.kr fd;k tkrk gS fd fo|ky; esa iks"kkgkj fu/kkZfjr ehU;w ds vuqlkj forfjr fd;k tk jgk gS rFkk izfr lIrkg Qy forfjr fd;s tk jgsa gSA
A39: 2- izekf.kr fd;k tkrk gS fd yxk;s x;s dqd de gSYij la[;k | G39: dks ekg | I39: rd dk Hkqxrku dj fn;k x;k gSA
A40: 3- izekf.kr fd;k tkrk gS fd fo|ky; esa [kk|kUu miyC/k ugha gksus ij jk'ku Mhyj ls | I40: fdyksxzke xsgwa@pkoy m/kkj fy, x;sA
A41: 4- izekf.kr fd;k tkrk gS fd iks"kkgkj idkus ,oa forj.k O;oLFkk esa iw.kZ lko/kkuh cjrh tk jgh gS A
A42: 5- ekg ds nkSjku tu lg;ksx ls [kk|kUu @fooj.k ¼ ;fn tulg;ksx ls izkIr fd;k gks rks fooj.k vafdr djsa ½ | I42: xsgwa | K42: pkoy
...

Sheet PRAPATRA 1
A1: =DETAIL!C5 -> jktdh; mPp ek/;fed fo|ky; thok.kk
A2: MDM CODE - | C2: =DETAIL!C6 -> 0 91 | H2: fnukad
A3: ukekadu gsrq lwpuk izi=&1
A4: 30 flrEcj 2022 dh ukekadu dh lwpuk gsrq izi= % vk/kkj frfFk %30-09-2022
A5: fo|y; dk uke | B5: xzke iapk;r | C5: rglhy | D5: MDM CODE | E5: d{kk 1 ls 5 ¼izkFkfed½ | I5: d{kk 1 ls 5 ¼mPp izkFkfed½
E6: SC | F6: ST | G6: OTHER | H6: TOTAL | I6: SC | J6: ST | K6: OTHER | L6: TOTAL

Sheet PRAPATRA 2
A1: =DETAIL!C5 -> jktdh; mPp ek/;fed fo|ky; thok.kk
A2: fo|kfFkZ;ksa ds vk/kkj dkMZ dh lwpuk gsrq izi=&2
A3: fo|kfFkZ;ksa ds vk/kkj dkMZ dh lwpuk gsrq izi= % vk/kkj frfFk %30-09-2022
A4: fo|y; dk uke | B4: MDM CODE | C4: d{kk 1 ls 8 ds fo|kfFkZ;ksa dk ukekadu | D4: vk/kkj dkMZ cus gq, fo|kfFkZ;ksa dh la[;k | E4: vk/kkj dkMZ gsrq vkosnu fd;s gq, fo|kfFkZ;ks dh la[;k | F4: 'ks"k fo|kfFkZ;ksa dh la['k ftuds vk/kkj dkMZ ugh cus
B5: =DETAIL!C6 -> 0 91

Sheet Sheet1

Sheet Sheet2
