{"text_format":"1","workbook":"xlsx","n_sheets":3,"sheets":["info","DICTIONARY","ADVANCE LIST"],"not_rendered":{"charts":0,"images":2,"macros":1,"external_links":0,"defined_names":5,"comments":2,"pivot_tables":0},"unopened":[],"bounds":{"document_bytes":16777216,"sheet_cells":100000,"rows_first":2000,"rows_last":500,"rows_between":2000,"halvings":0,"cell_chars":16384,"cell_head_chars":4096},"cells_cut":0,"cells_raw":0,"read":"whole","date_system":"1900"}

{"sheet":"info","index":0,"n_rows":31,"n_cols":27,"rows_kept":31,"cut":false,"hidden":false,"merged":[[5,1,5,23],[6,1,6,23],[7,1,7,23],[0,1,0,23],[1,1,1,23],[2,0,2,23],[3,1,3,23],[4,1,4,23],[18,1,18,23],[8,1,8,23],[9,1,9,23],[10,1,10,23],[11,1,11,23],[12,1,12,23],[13,0,13,4],[13,5,13,9],[13,10,13,14],[13,15,13,20],[13,21,13,23],[14,1,14,23],[15,1,15,23],[16,1,16,23],[17,0,17,23],[24,16,24,20],[25,3,28,23],[29,0,30,5],[29,6,30,23],[19,0,19,23],[20,1,20,23],[21,0,21,23],[22,1,22,23],[23,0,23,23],[24,0,28,2],[24,3,24,6],[24,7,24,9],[24,10,24,15]]}
[null,"JAYSHREE DICTIONARY में आपका स्वागत है I"]
[null,"सभी गुरुजनों को SMART TEACHER बनाने के लिए समर्पित"]
["INSTRUCTIONS FOR \"JAYSHREE DICTIONARY\" MICRO ENABLE PROGRAMME"]
[1,"जयश्री शब्दकोष विद्यालय में अध्ययनरत छात्र&छात्राओं के अधिगम स्तर को बढ़ाने के लिए काफी उपयोगी साबित होगी !"]
[2,"इस प्रोग्राम में आप DICTIONARY sheet में WHITE CELL  में WORD को चुने या TYPE  करे I"]
[3,"इस dictionary में आप हिंदी से अंग्रेजी और अंग्रेजी से हिंदी दोनों प्रकार के शब्द देख सकते है I"]
[4,"LIST OF MEANING sheet में सर्वप्रथम आपको अपनी पसंद की लिस्ट का चुनाव GREEN CELL से करके REFRESH बटन को दबाये error को end करे"]
[5,"यह एक MICRO ENABLE PROGRAMME है आप LIST का A4 SIZE में PRINT भी ले सकते है I"]
[6,"आशा है की यह प्रोग्राम आपके लिए उपयोगी साबित होगा इसी आशा के साथ मेरे नए प्रोग्राम SCHOOL FEES का इंतजार करे-------------------"]
[7]
[8]
[9]
[10]
["घर पर रहे,मास्क का प्रयोग करे",null,null,null,null,"nksLrks vf/kd tkudkjh gsrq esjk ;wV;wc psuy ns[ks vkSj ykbd vkSj lCldzkbc t#j djs rkfd vkus okyk izksxke vki rd igWqp ldsA ",null,null,null,null,null,null,null,null,null,"https://youtu.be/3yHQVnwH1W0",null,null,null,null,null,"Like subscribe t#j djs"]
[1,"OLD TAX REGIME  sheet  esa gkml yksu C;kt ,ao vU; vk; rFkk Chapter VI A Deduction dh jkf'k dk bUnzkt djs tks lsy vuykWd gSA"]
[2,"OLD TAX  REGIME sheet  esa dsoy vuykWd 'khV esa gh bUnzkt djs vU; osru ls dVus okyh jkf'k Lor vk tk,xh A"]
[3,"bl 'khV esa Refundable amount (+) esa gS rks vkidks jkf'k okil feysxh vU;Fkk vkidk VSDl cdk;k gSA "]
["INSTRUCTION FOR NEW TAX REGIME"]
[1,"NEW TAX REGIME  sheet  esa 70 izdkj dh dVksfr ls oafpr gksuk iMsXkk dsoy NPS  dh DVkSfr vf/kdre 50000 dh NwV ns; gS vU; lsy ykWd gSA"]
["INSTRUCTION FOR PAY SLIP SHEET"]
[1,"\"PAY SLIP  sheet\"  esa vki ftl ekg dh is Lyhi ysuh gks ml ekg dk p;u djs vki dh is Lyhi rS;kj gS ckdh  lsy ykWd gSA A4 page size ( margin full page)"]
["INSTRUCTION FOR PRINT"]
[1,"lHkh 'khV A4 page size ij Margin full page esa lsV fd;k gqvk gS vki fizV ys ldrs gsA 7pay matrix chart sheet legal page ls  print  fudky ldrs gSA"]
["bl odZcqd dks jktLFkku ds f'k{kk foHkkx ds deZpkfj;ksa dh lqfo/kk ds fy, rS;kj fd;k gqvk gS A blesa lHkh x.kuk ,ao ladyu dks iw.kZ lko/kkuh ds lkFk iz;ksx  fd;k gSa exj fdlh izdkj dh =qfV ,ao pwd ds fy;s rS;kjdRrkZ ftEesnkj ugha gksxkA vk;dj foHkkx ds vkns'kkuqlkj x.kuk ,ao fu;e gh ekU; gksxs A"]
[null,null,null,"FOR MORE MY EXCEL SOFTWARE & EDU.NEWS ---",null,null,null,"https://shalasugam.com/vijay-kumar-excel-sheet-expert/",null,null,"https://www.ashwinisharma.com/p/vijay-kumar-excel-sheet-expert.html",null,null,null,null,null,"https://rajsevak.com/vijay-kumar-prajapat-software/"]
[null,null,null,"दोस्तों यह प्रोग्राम आपको कैसा लगा 1\nविजय कुमार प्रजापत अध्यापक राजकीय उच्च माध्यमिक विद्यालय आलनियावास तहसील &रियां बड़ी    जिला &नागौर\nआपका स्नेह मिलता रहे !\nइस प्रोग्राम को बनाने में काफी सावधानी बरती है फिर भी किसी प्रकार की समस्या एंव सुझाव हेतु मेरी इमेल आईडी पर सम्पर्क करे\nमेरे प्रेरणा स्रोत&1-श्री अश्विनी कुमार 2- श्री किशन लाल 3- श्री हीरालाल 4- श्री विष्णु शर्मा 5- श्री अभिषेक शर्मा 6 मंजीत कुमार और आप"]
[]
[]
[]
["Keep Your Face Always In Sunshine",null,null,null,null,null,"gupskalani@gmail.com"]
[null,null,null,null,null,null,null,null,null,null,null,null,null,null,null,null,null,null,null,null,null,null,null,null,null,null," "]

{"sheet":"DICTIONARY","index":1,"n_rows":3961,"n_cols":23,"rows_kept":3961,"cut":false,"hidden":false,"merged":[[20,1,25,7],[9,1,10,3],[9,5,10,7],[2,1,3,7],[12,1,13,7],[16,1,17,3],[16,5,17,7],[7,5,8,7],[7,1,8,3],[14,1,15,3],[14,5,15,7],[4,1,5,7]]}
[]
[]
[null,"WELCOME TO MY \"  JAYSHREE DICTIONARY  \"  "]
[]
[null,"ENGLISH TO HINDI"]
[]
[]
[null,"ENGLISH WORD लिखे या चुने",null,null,null,"अर्थ देखे"]
[]
[null,"VICTORY",null,null,null,{"$f":"VLOOKUP(B10,N29:O4000,2,0)","v":"विजय"}]
[]
[]
[null,"हिंदी से अंग्रेजी "]
[]
[null,"हिन्दी शब्द लिखे या चुने",null,null,null,"अर्थ देखे"]
[]
[null,"विजय",null,null,null,{"$f":"VLOOKUP(B17,Q29:R4000,2,0)","v":"Victory"}]
[]
[]
[]
[null,"जयश्री शब्दकोश\nविजय कुमार प्रजापत अध्यापक राजकीय उच्च माध्यमिक विद्यालय आलनियावास जिला नागौर"]
[]
[]
[]
[]
[]
[]
[null,null,null,null,null,null,null,null,null,null,null,"SNO","MEANING WORD","MEANING","अर्थ","LIST OF","HINDI","HINDI TO ENGLISH",null,null,null,null,"LIST OF"]
[null,null,null,null,null,null,null,null,null,null,null,1,null,"ABUSE","गाली देना",null,{"$f":"O29","v":"गाली देना"},{"$f":"PROPER(N29)","v":"Abuse"}]
[null,null,null,null,null,null,null,null,null,null,null,2,{"$f":"PROPER(N30)","v":"A Lot"},"a lot","बहुत सा",null,"बहुत सा",{"$f":"PROPER(N30)","v":"A Lot"}]
[null,null,null,null,null,null,null,null,null,null,null,3,"Arrogant","arrogant","अहंकारी",null,"अहंकारी","Arrogant"]
[null,null,null,null,null,null,null,null,null,null,null,4,"Average","average","औसतन",null,"औसतन","Average",null,null,null,null,"SCHOOLS"]
[null,null,null,null,null,null,null,null,null,null,null,5,"Actually","actually","वास्तव में",null,"वास्तव में","Actually"]
[null,null,null,null,null,null,null,null,null,null,null,6,"Happen","happen","घटित होना",null,"घटित होना","Happen"]
[null,null,null,null,null,null,null,null,null,null,null,7,"Past","past","भूत",null,"भूत","Past"]
[null,null,null,null,null,null,null,null,null,null,null,8,"Ailmant","ailmant","छोटी-मोटी बीमारी",null,"छोटी-मोटी बीमारी","Ailmant"]
[null,null,null,null,null,null,null,null,null,null,null,9,"Ary","ary","कोई",null,"कोई","Ary"]
[null,null,null,null,null,null,null,null,null,null,null,10,"Pattern","pattern","नमूना",null,"नमूना","Pattern"]
[null,null,null,null,null,null,null,null,null,null,null,11,"Alphabet","ALPHABET","वर्ण",null,"वर्ण","Alphabet"]
[null,null,null,null,null,null,null,null,null,null,null,12,"Amazed","amazed","दांग रह गए",null,"दांग रह गए","Amazed"]
[null,null,null,null,null,null,null,null,null,null,null,13,"Asleep","asleep","निद्रित",null,"निद्रित","Asleep"]
[null,null,null,null,null,null,null,null,null,null,null,14,"Anger","anger","गुस्सा,नाराजगी",null,"गुस्सा,नाराजगी","Anger"]
[null,null,null,null,null,null,null,null,null,null,null,15,"Angry","angry","ग़ुस्सा",null,"ग़ुस्सा","Angry"]
[null,null,null,null,null,null,null,null,null,null,null,16,"Another","another","दूसरा",null,"दूसरा","Another"]
[null,null,null,null,null,null,null,null,null,null,null,17,"Ape","APE","लंगूर",null,"लंगूर","Ape"]
[null,null,null,null,null,null,null,null,null,null,null,18,"Apple","APPLE","सेब",null,"सेब","Apple"]
[null,null,null,null,null,null,null,null,null,null,null,19,"Apricot","APRICOT","खुबानी",null,"खुबानी","Apricot"]
[null,null,null,null,null,null,null,null,null,null,null,20,"Progress","progress","प्रगति",null,"प्रगति","Progress"]
[null,null,null,null,null,null,null,null,null,null,null,21,"Arm","ARM","भुजा","PARTS OF BODY ( शरीर के अंग )","भुजा","Arm",null,null,null,null,"PARTS OF BODY"]
[null,null,null,null,null,null,null,null,null,null,null,22,"Arm Pit","arm pit","भुजा","PARTS OF BODY ( शरीर के अंग )","भुजा","Arm Pit",null,null,null,null,"PARTS OF BODY"]
[null,null,null,null,null,null,null,null,null,null,null,23,"Around","around","चारो तरफ",null,"चारो तरफ","Around"]
[null,null,null,null,null,null,null,null,null,null,null,24,"Altogether","altogether","पूर्णतया",null,"पूर्णतया","Altogether",null,null,null,null,"PARTS OF BODY"]
[null,null,null,null,null,null,null,null,null,null,null,25,"Arum","ARUM","अरबी","VEGETABLES ( सब्जियां )","अरबी","Arum",null,null,null,null,"VEGETABLES"]
[null,null,null,null,null,null,null,null,null,null,null,26,"Ash","ash","राख",null,"राख","Ash"]
[null,null,null,null,null,null,null,null,null,null,null,27,"Aside","aside","एक तरफ",null,"एक तरफ","Aside"]
[null,null,null,null,null,null,null,null,null,null,null,28,"Overall","overall","सम्पूर्ण",null,"सम्पूर्ण","Overall"]
[null,null,null,null,null,null,null,null,null,null,null,29,"Ass","ASS","गधा","ANIMALS ( पशु )","गधा","Ass",null,null,null,null,"ANIMALS"]
[null,null,null,null,null,null,null,null,null,null,null,30,"Wire","wire","तार",null,"तार","Wire",null,null,null,null,"MONTHS OF A YEARS"]
[null,null,null,null,null,null,null,null,null,null,null,31,"Aunty","aunty","चाची","RELATIONS AND RELATIVES ( सम्बन्ध और सम्बन्धी )","चाची","Aunty",null,null,null,null,"RELATIONS AND RELATIVES"]
[null,null,null,null,null,null,null,null,null,null,null,32,"Guess","guess","अनुमान लगाना",null,"अनुमान लगाना","Guess",null,null,null,null,"PARTS OF BODY"]
[null,null,null,null,null,null,null,null,null,null,null,33,"Backbone","backbone","पीठ","PARTS OF BODY ( शरीर के अंग )","पीठ","Backbone",null,null,null,null,"PARTS OF BODY"]
[null,null,null,null,null,null,null,null,null,null,null,34,"Probably","probably","शायद",null,"शायद","Probably"]
[null,null,null,null,null,null,null,null,null,null,null,35,"Bag","BAG","थैला",null,"थैला","Bag"]
[null,null,null,null,null,null,null,null,null,null,null,36,"Sigh","sigh","आंह",null,"आंह","Sigh"]
[null,null,null,null,null,null,null,null,null,null,null,37,"Balanced","balanced","संतुलित",null,"संतुलित","Balanced"]
[null,null,null,null,null,null,null,null,null,null,null,38,"Ballon","BALLON","गुब्बारा",null,"गुब्बारा","Ballon"]
[null,null,null,null,null,null,null,null,null,null,null,39,"Banana","BANANA","केला","FRUITS ( फलों के नाम )","केला","Banana",null,null,null,null,"FRUITS"]
[null,null,null,null,null,null,null,null,null,null,null,40,"Computer","computer","संगणक",null,"संगणक","Computer"]
[null,null,null,null,null,null,null,null,null,null,null,41,"Bathe","bathe","नहाना",null,"नहाना","Bathe"]
[null,null,null,null,null,null,null,null,null,null,null,42,"Application","application","प्रार्थना पत्र",null,"प्रार्थना पत्र","Application"]
[null,null,null,null,null,null,null,null,null,null,null,43,"Bear","BEAR","भालू","ANIMALS ( पशु )","भालू","Bear",null,null,null,null,"ANIMALS"]
[null,null,null,null,null,null,null,null,null,null,null,44,"Program","program","कार्ययोजना",null,"कार्ययोजना","Program",null,null,null,null,"PARTS OF BODY"]
[null,null,null,null,null,null,null,null,null,null,null,45,"Guidence","guidence","मार्गदर्शन",null,"मार्गदर्शन","Guidence"]
[null,null,null,null,null,null,null,null,null,null,null,46,"Guide","guide","मार्गदर्शन करना","WORMS AND INSECTS ( कीट पतंगे )","मार्गदर्शन करना","Guide",null,null,null,null,"WORMS AND INSECTS"]
[null,null,null,null,null,null,null,null,null,null,null,47,"Gym","gym","व्यायामशाला",null,"व्यायामशाला","Gym",null,null,null,null,"FOODS"]
[null,null,null,null,null,null,null,null,null,null,null,48,"Beet","beet","चुकंदर","VEGETABLES ( सब्जियां )","चुकंदर","Beet",null,null,null,null,"VEGETABLES"]
[null,null,null,null,null,null,null,null,null,null,null,49,"Believe","believe","विश्वाश करना",null,"विश्वाश करना","Believe"]
[null,null,null,null,null,null,null,null,null,null,null,50,"Habbit","habbit","आदत",null,"आदत","Habbit",null,null,null,null,"PARTS OF BODY"]
[null,null,null,null,null,null,null,null,null,null,null,51,"Habitation","habitation","निवास स्थान",null,"निवास स्थान","Habitation"]
[null,null,null,null,null,null,null,null,null,null,null,52,"Clap","clap","ताली",null,"ताली","Clap"]
[null,null,null,null,null,null,null,null,null,null,null,53,"Between","BETWEEN","बीच में",null,"बीच में","Between"]
[null,null,null,null,null,null,null,null,null,null,null,54,"Bilb","BILB","बल्ब",null,"बल्ब","Bilb"]
[null,null,null,null,null,null,null,null,null,null,null,55,"Biogas","biogas","बायोगैस",null,"बायोगैस","Biogas"]
[null,null,null,null,null,null,null,null,null,null,null,56,"Black Berry","BLACK BERRY","जामुन","FRUITS ( फलों के नाम )","जामुन","Black Berry",null,null,null,null,"FRUITS"]
[null,null,null,null,null,null,null,null,null,null,null,57,"Hardy","hardy","साहसी",null,"साहसी","Hardy"]
[null,null,null,null,null,null,null,null,null,null,null,58,"Handicapped","handicapped","विकलांग",null,"विकलांग","Handicapped"]
[null,null,null,null,null,null,null,null,null,null,null,59,"Body","BODY","शरीर","PARTS OF BODY ( शरीर के अंग )","शरीर","Body",null,null,null,null,"PARTS OF BODY"]
[null,null,null,null,null,null,null,null,null,null,null,60,"Hardship","hardship","कठिनाई",null,"कठिनाई","Hardship"]
[null,null,null,null,null,null,null,null,null,null,null,61,"Book","BOOK","किताब","SCHOOL RELATIVE  ( विद्यालय सम्बन्धी  )","किताब","Book",null,null,null,null,"SCHOOLS"]
[null,null,null,null,null,null,null,null,null,null,null,62,"Borrow","borrow","उधार",null,"उधार","Borrow"]
[null,null,null,null,null,null,null,null,null,null,null,63,"Heredity","heredity","वशानुगत",null,"वशानुगत","Heredity"]
[null,null,null,null,null,null,null,null,null,null,null,64,"Boy","BOY","लड़का",null,"लड़का","Boy"]
[null,null,null,null,null,null,null,null,null,null,null,65,"Nervous","nervous","अधीर",null,{"$f":"O93","v":"अधीर"},"Nervous"]
[null,null,null,null,null,null,null,null,null,null,null,66,{"$f":"PROPER(N94)","v":"Breast"},"BREAST","छाती","PARTS OF BODY ( शरीर के अंग )","छाती",{"$f":"PROPER(N94)","v":"Breast"},null,null,null,null,"PARTS OF BODY"]
[null,null,null,null,null,null,null,null,null,null,null,67,"Prestigious","prestigious","प्रतिष्ठित",null,"प्रतिष्ठित","Prestigious"]
[null,null,null,null,null,null,null,null,null,null,null,68,"Brinjal","brinjal","बेगन",null,"बेगन","Brinjal"]
[null,null,null,null,null,null,null,null,null,null,null,69,"Teenger","teenger","किशोर,किशोरी",null,"किशोर,किशोरी","Teenger"]
[null,null,null,null,null,null,null,null,null,null,null,70,"Brother","BROTHER","भाई","RELATIONS AND RELATIVES ( सम्बन्ध और सम्बन्धी )","भाई","Brother",null,null,null,null,"RELATIONS AND RELATIVES"]
[null,null,null,null,null,null,null,null,null,null,null,71,"Brother In Law","BROTHER IN LAW","बहनोई,साला","RELATIONS AND RELATIVES ( सम्बन्ध और सम्बन्धी )","बहनोई,साला","Brother In Law",null,null,null,null,"RELATIONS AND RELATIVES"]
[null,null,null,null,null,null,null,null,null,null,null,72,"Approching","approching","आती हुई",null,"आती हुई","Approching",null,null,null,null,"COLOURS"]
[null,null,null,null,null,null,null,null,null,null,null,73,"Vibration","vibration","स्पंदन",null,"स्पंदन","Vibration"]
[null,null,null,null,null,null,null,null,null,null,null,74,"Pursue","pursue","जारी रखना",null,"जारी रखना","Pursue"]
[null,null,null,null,null,null,null,null,null,null,null,75,"Buffalo","BUFFALO","भैंस","ANIMALS ( पशु )","भैंस","Buffalo",null,null,null,null,"ANIMALS"]
[null,null,null,null,null,null,null,null,null,null,null,76,"Normal","normal","सामान्य ",null,"सामान्य ","Normal"]
[null,null,null,null,null,null,null,null,null,null,null,77,"Cabbage","CABBAGE","पत्तागोबी",null,"पत्तागोबी","Cabbage",null,null,null,null,"VEGETABLES"]
[null,null,null,null,null,null,null,null,null,null,null,78,"Resonance","resonance","गूंज",null,"गूंज","Resonance"]
[null,null,null,null,null,null,null,null,null,null,null,79,"Basic","basic","बुनियादी",null,"बुनियादी","Basic"]
[null,null,null,null,null,null,null,null,null,null,null,80,"Camel","CAMEL","ऊंट","ANIMALS ( पशु )","ऊंट","Camel",null,null,null,null,"ANIMALS"]
[null,null,null,null,null,null,null,null,null,null,null,81,"Fingertips","fingertips","अंगुली का छोर",null,"अंगुली का छोर","Fingertips"]
[null,null,null,null,null,null,null,null,null,null,null,82,"Component","component","अंग",null,"अंग","Component"]
[null,null,null,null,null,null,null,null,null,null,null,83,"Civilian","civilian","नागरिक",null,"नागरिक","Civilian"]
[null,null,null,null,null,null,null,null,null,null,null,84,"Caring","caring","संभालना",null,"संभालना","Caring"]
[null,null,null,null,null,null,null,null,null,null,null,85,"Memorable","memorable","स्मरणीय",null,"स्मरणीय","Memorable"]
[null,null,null,null,null,null,null,null,null,null,null,86,"Carrot","CARROT","गाजर","VEGETABLES ( सब्जियां )","गाजर","Carrot",null,null,null,null,"VEGETABLES"]
[null,null,null,null,null,null,null,null,null,null,null,87,"Cat","CAT","बिल्ली","ANIMALS ( पशु )","बिल्ली","Cat",null,null,null,null,"ANIMALS"]
[null,null,null,null,null,null,null,null,null,null,null,88,"Cauliflower","CAULIFLOWER","फूल्गोबी","VEGETABLES ( सब्जियां )","फूल्गोबी","Cauliflower",null,null,null,null,"VEGETABLES"]
[null,null,null,null,null,null,null,null,null,null,null,89,"Arificial","arificial","बनावटी",null,"बनावटी","Arificial"]
[null,null,null,null,null,null,null,null,null,null,null,90,"Charity","charity","उदारता",null,"उदारता","Charity"]
[null,null,null,null,null,null,null,null,null,null,null,91,"Cheat","cheat","धोखा देना",null,"धोखा देना","Cheat"]
[null,null,null,null,null,null,null,null,null,null,null,92,"Cheek","CHEEK","गाल",null,"गाल","Cheek"]
[null,null,null,null,null,null,null,null,null,null,null,93,"Glamour","glamour","शानदार","food and drink ( खाद्य और पेय )","शानदार","Glamour",null,null,null,null,"FOODS"]
[null,null,null,null,null,null,null,null,null,null,null,94,"Chin","CHIN","ठुड्डी","PARTS OF BODY ( शरीर के अंग )","ठुड्डी","Chin",null,null,null,null,"PARTS OF BODY"]
[null,null,null,null,null,null,null,null,null,null,null,95,"Captivated","captivated","मंत्रमुक्त",null,"मंत्रमुक्त","Captivated"]
[null,null,null,null,null,null,null,null,null,null,null,96,"Ancester","ancester","पूर्वज",null,"पूर्वज","Ancester"]
[null,null,null,null,null,null,null,null,null,null,null,97,"Closer","closer","अधिक नजदीक",null,"अधिक नजदीक","Closer"]
[null,null,null,null,null,null,null,null,null,null,null,98,"Recital","recital","संगीत प्रस्तुति",null,"संगीत प्रस्तुति","Recital"]
[null,null,null,null,null,null,null,null,null,null,null,99,"Greet","greet","अभिवादन काना",null,"अभिवादन काना","Greet"]
[null,null,null,null,null,null,null,null,null,null,null,100,"Emphasis","emphasis","जोरदार ढंग से",null,"जोरदार ढंग से","Emphasis"]
[null,null,null,null,null,null,null,null,null,null,null,101,"Cock","COCK","मुर्गा","BIRDS  ( पक्षियों के नाम  )","मुर्गा","Cock",null,null,null,null,"BIRDS"]
[null,null,null,null,null,null,null,null,null,null,null,102,"Coconut","COCONUT","नारियल",null,"नारियल","Coconut"]
[null,null,null,null,null,null,null,null,null,null,null,103,"Recognition","recognition","सम्मान",null,"सम्मान","Recognition"]
[null,null,null,null,null,null,null,null,null,null,null,104,"Auditorium","auditorium","श्रोतामंडप",null,"श्रोतामंडप","Auditorium"]
[null,null,null,null,null,null,null,null,null,null,null,105,"Trip","trip","यात्रा",null,"यात्रा","Trip"]
[null,null,null,null,null,null,null,null,null,null,null,106,"Unique","unique","अद्भुत",null,"अद्भुत","Unique"]
[null,null,null,null,null,null,null,null,null,null,null,107,"Relief","relief","राहत",null,"राहत","Relief"]
[null,null,null,null,null,null,null,null,null,null,null,108,"Concluded","concluded","बात पूरी की",null,"बात पूरी की","Concluded"]
[null,null,null,null,null,null,null,null,null,null,null,109,"Confuse","CONFUSE","असमंजस ",null,"असमंजस ","Confuse"]
[null,null,null,null,null,null,null,null,null,null,null,110,"Consoneant","CONSONEANT","व्यंजन",null,"व्यंजन","Consoneant"]
[null,null,null,null,null,null,null,null,null,null,null,111,"Constructed","constructed","बने हुए",null,"बने हुए","Constructed"]
[null,null,null,null,null,null,null,null,null,null,null,112,"Coriander","coriander","धनिया","VEGETABLES ( सब्जियां )","धनिया","Coriander",null,null,null,null,"VEGETABLES"]
[null,null,null,null,null,null,null,null,null,null,null,113,"Cot","COT","चारपाई",null,"चारपाई","Cot"]
[null,null,null,null,null,null,null,null,null,null,null,114,"Cotton","cotton","कपास",null,"कपास","Cotton"]
[null,null,null,null,null,null,null,null,null,null,null,115,"Coughing","coughing","खासंना",null,"खासंना","Coughing"]
[null,null,null,null,null,null,null,null,null,null,null,116,"Figure","figure","आक्रति",null,"आक्रति","Figure",null,null,null,null,"PARTS OF BODY"]
[null,null,null,null,null,null,null,null,null,null,null,117,"Cow","COW","गाय","ANIMALS ( पशु )","गाय","Cow",null,null,null,null,"ANIMALS"]
[null,null,null,null,null,null,null,null,null,null,null,118,"Cowdung","cowdung","गोबर",null,"गोबर","Cowdung"]
[null,null,null,null,null,null,null,null,null,null,null,119,"Crane","CRANE","सरस","BIRDS  ( पक्षियों के नाम  )","सरस","Crane",null,null,null,null,"BIRDS"]
[null,null,null,null,null,null,null,null,null,null,null,120,"Crow","CROW","कोवा","BIRDS  ( पक्षियों के नाम  )","कोवा","Crow",null,null,null,null,"BIRDS"]
[null,null,null,null,null,null,null,null,null,null,null,121,"Slipper","slipper","चप्पल",null,"चप्पल","Slipper",null,null,null,null,"ANIMALS"]
[null,null,null,null,null,null,null,null,null,null,null,122,"Cube-Shaped","cube-shaped","घनाभाकर",null,"घनाभाकर","Cube-Shaped"]
[null,null,null,null,null,null,null,null,null,null,null,123,"Giant","giant","भीमकाय",null,"भीमकाय","Giant",null,null,null,null,"VEGETABLES"]
[null,null,null,null,null,null,null,null,null,null,null,124,"Cur","CUR","आवारा कुत्ता","ANIMALS ( पशु )","आवारा कुत्ता","Cur",null,null,null,null,"ANIMALS"]
[null,null,null,null,null,null,null,null,null,null,null,125,"Stare","stare","घुरना",null,"घुरना","Stare",null,null,null,null,"FOODS"]
[null,null,null,null,null,null,null,null,null,null,null,126,"Tiny","tiny","छोटे छोटे",null,"छोटे छोटे","Tiny",null,null,null,null,"FOODS"]
[null,null,null,null,null,null,null,null,null,null,null,127,"Mind","mind","दिमाग","food and drink ( खाद्य और पेय )","दिमाग","Mind",null,null,null,null,"FOODS"]
[null,null,null,null,null,null,null,null,null,null,null,128,"Custerd Apple","CUSTERD APPLE","शरीफा","FRUITS ( फलों के नाम )","शरीफा","Custerd Apple",null,null,null,null,"FRUITS"]
[null,null,null,null,null,null,null,null,null,null,null,129,"Custmer","custmer","ग्राहक","OCCUPATIONS AND PROFESSION (व्यवसाय और पेशा )",{"$f":"O157","v":"ग्राहक"},"Custmer",null,null,null,null,"OCCUPATIONS AND PROFESSION"]
[null,null,null,null,null,null,null,null,null,null,null,130,{"$f":"PROPER(N158)","v":"Playmates"},"playmates","साथी खिलाडी",null,"साथी खिलाडी",{"$f":"PROPER(N158)","v":"Playmates"}]
[null,null,null,null,null,null,null,null,null,null,null,131,"Cycle","CYCLE","साइकिल",null,"साइकिल","Cycle"]
[null,null,null,null,null,null,null,null,null,null,null,132,"Dairy","DAIRY","डायरी",null,"डायरी","Dairy"]
[null,null,null,null,null,null,null,null,null,null,null,133,"Mass","mass","द्रय्वमान",null,"द्रय्वमान","Mass",null,null,null,null,"FRUITS"]
[null,null,null,null,null,null,null,null,null,null,null,134,"Daughter","DAUGHTER","बेटी","RELATIONS AND RELATIVES ( सम्बन्ध और सम्बन्धी )","बेटी","Daughter",null,null,null,null,"RELATIONS AND RELATIVES"]
[null,null,null,null,null,null,null,null,null,null,null,135,"Daughter In Law","DAUGHTER IN LAW","बहू","RELATIONS AND RELATIVES ( सम्बन्ध और सम्बन्धी )","बहू","Daughter In Law",null,null,null,null,"RELATIONS AND RELATIVES"]
[null,null,null,null,null,null,null,null,null,null,null,136,"Day By Day","day by day","दिन बे दिन",null,"दिन बे दिन","Day By Day"]
[null,null,null,null,null,null,null,null,null,null,null,137,"Graduate","graduate","स्नातक",null,"स्नातक","Graduate",null,null,null,null,"MONTHS OF A YEARS"]
[null,null,null,null,null,null,null,null,null,null,null,138,"Decided ","decided ","तय किया",null,"तय किया","Decided "]
[null,null,null,null,null,null,null,null,null,null,null,139,"Deer","DEER","हिरन","ANIMALS ( पशु )","हिरन","Deer",null,null,null,null,"ANIMALS"]
[null,null,null,null,null,null,null,null,null,null,null,140,"Delete","DELETE","समाप्त",null,"समाप्त","Delete"]
[null,null,null,null,null,null,null,null,null,null,null,141,"Devote","devote","देवता",null,"देवता","Devote"]
[null,null,null,null,null,null,null,null,null,null,null,142,"Invention","invention","आविष्कार",null,"आविष्कार","Invention"]
[null,null,null,null,null,null,null,null,null,null,null,143,"Ally","ally","मित्र,सहयोगी",null,"मित्र,सहयोगी","Ally"]
[null,null,null,null,null,null,null,null,null,null,null,144,"Conclusion","conclusion","निष्कर्ष",null,"निष्कर्ष","Conclusion"]
[null,null,null,null,null,null,null,null,null,null,null,145,"Uttered","uttered","बोला",null,"बोला","Uttered"]
[null,null,null,null,null,null,null,null,null,null,null,146,"Dirt","dirt","गन्दा",null,"गन्दा","Dirt"]
[null,null,null,null,null,null,null,null,null,null,null,147,"Disappointed","disappointed","निराश हुआ",null,"निराश हुआ","Disappointed"]
[null,null,null,null,null,null,null,null,null,null,null,148,"Discipline","discipline","अनुशाशन",null,"अनुशाशन","Discipline"]
[null,null,null,null,null,null,null,null,null,null,null,149,"Disease","disease","रोग,बीमारी",null,"रोग,बीमारी","Disease"]
[null,null,null,null,null,null,null,null,null,null,null,150,"Dish","DISH","थाली",null,"थाली","Dish"]
[null,null,null,null,null,null,null,null,null,null,null,151,"Doe","DOE","हिरनी","ANIMALS ( पशु )","हिरनी","Doe",null,null,null,null,"ANIMALS"]
[null,null,null,null,null,null,null,null,null,null,null,152,"Dog","DOG","कुत्ता","ANIMALS ( पशु )","कुत्ता","Dog",null,null,null,null,"ANIMALS"]
[null,null,null,null,null,null,null,null,null,null,null,153,"Domestic","domestic","घरेलु",null,"घरेलु","Domestic"]
[null,null,null,null,null,null,null,null,null,null,null,154,"Donkey","DONKEY","गधा","ANIMALS ( पशु )","गधा","Donkey",null,null,null,null,"ANIMALS"]
[null,null,null,null,null,null,null,null,null,null,null,155,"Divorce","divorce","तलाक",null,"तलाक","Divorce"]
[null,null,null,null,null,null,null,null,null,null,null,156,"Dove","DOVE","फाख्ता","ANIMALS ( पशु )","फाख्ता","Dove",null,null,null,null,"ANIMALS"]
[null,null,null,null,null,null,null,null,null,null,null,157,"Dry ","dry ","सूखा",null,"सूखा","Dry "]
[null,null,null,null,null,null,null,null,null,null,null,158,"Duck","DUCK","बतख","BIRDS  ( पक्षियों के नाम  )","बतख","Duck",null,null,null,null,"BIRDS"]
[null,null,null,null,null,null,null,null,null,null,null,159,"Dustbin","dustbin","कचरा पात्र",null,"कचरा पात्र","Dustbin"]
[null,null,null,null,null,null,null,null,null,null,null,160,"Ear","EAR","कान","PARTS OF BODY ( शरीर के अंग )","कान","Ear",null,null,null,null,"PARTS OF BODY"]
[null,null,null,null,null,null,null,null,null,null,null,161,"Visionary","visionary","भविष्यदर्शी",null,"भविष्यदर्शी","Visionary"]
[null,null,null,null,null,null,null,null,null,null,null,162,"Destroy","destroy","नष्ट करना",null,"नष्ट करना","Destroy"]
[null,null,null,null,null,null,null,null,null,null,null,163,"Gravity","gravity","गुरुत्वाकर्षण",null,"गुरुत्वाकर्षण","Gravity"]
[null,null,null,null,null,null,null,null,null,null,null,164,"Ambition","ambition","लक्ष्य",null,"लक्ष्य","Ambition"]
[null,null,null,null,null,null,null,null,null,null,null,165,"Meagre","meagre","न्यून",null,"न्यून","Meagre",null,null,null,null,"FOODS"]
[null,null,null,null,null,null,null,null,null,null,null,166,"Electricity","electricity","बिजली",null,"बिजली","Electricity"]
[null,null,null,null,null,null,null,null,null,null,null,167,"Elephant","ELEPHANT","हाथी","ANIMALS ( पशु )","हाथी","Elephant",null,null,null,null,"ANIMALS"]
[null,null,null,null,null,null,null,null,null,null,null,168,"Solitary","solitary","एक",null,"एक","Solitary"]
[null,null,null,null,null,null,null,null,null,null,null,169,"Elsewhere","elsewhere","अन्यत्र",null,"अन्यत्र","Elsewhere"]
[null,null,null,null,null,null,null,null,null,null,null,170,"Emotion","emotion","भावना",null,"भावना","Emotion"]
[null,null,null,null,null,null,null,null,null,null,null,171,"Enemy","ENEMY","शत्रु,दुश्मन",null,"शत्रु,दुश्मन","Enemy"]
[null,null,null,null,null,null,null,null,null,null,null,172,"Energy","energy"," ऊर्जा",null," ऊर्जा","Energy"]
[null,null,null,null,null,null,null,null,null,null,null,173,"Environment","environment","पर्यावरण, वातावरण",null,"पर्यावरण, वातावरण","Environment"]
[null,null,null,null,null,null,null,null,null,null,null,174,"Beneath","beneath","के नीचे",null,"के नीचे","Beneath"]
[null,null,null,null,null,null,null,null,null,null,null,175,"Tremble","tremble","कांपना",null,"कांपना","Tremble",null,null,null,null,"SCHOOLS"]
[null,null,null,null,null,null,null,null,null,null,null,176,"Bachelor","bachelor","कुंवारा",null,"कुंवारा","Bachelor"]
[null,null,null,null,null,null,null,null,null,null,null,177,"Everything","everything","प्रत्येक,सब कुछ",null,"प्रत्येक,सब कुछ","Everything"]
[null,null,null,null,null,null,null,null,null,null,null,178,"Exam Center","exam center","परीक्षा केंद्र","SCHOOL RELATIVE  ( विद्यालय सम्बन्धी  )","परीक्षा केंद्र","Exam Center",null,null,null,null,"SCHOOLS"]
[null,null,null,null,null,null,null,null,null,null,null,179,"Text","text","अभ्यास","SCHOOL RELATIVE  ( विद्यालय सम्बन्धी  )","अभ्यास","Text",null,null,null,null,"SCHOOLS"]
[null,null,null,null,null,null,null,null,null,null,null,180,"Explain","explain","स्पष्ट करो",null,"स्पष्ट करो","Explain"]
[null,null,null,null,null,null,null,null,null,null,null,181,"Explained","explained","समझाया",null,"समझाया","Explained"]
[null,null,null,null,null,null,null,null,null,null,null,182,"Eye","EYE","आंख","PARTS OF BODY ( शरीर के अंग )","आंख","Eye",null,null,null,null,"PARTS OF BODY"]
[null,null,null,null,null,null,null,null,null,null,null,183,"Eyebrow","EYEBROW","भोंहे","PARTS OF BODY ( शरीर के अंग )","भोंहे","Eyebrow",null,null,null,null,"PARTS OF BODY"]
[null,null,null,null,null,null,null,null,null,null,null,184,"Reflection","reflection","परछाई",null,"परछाई","Reflection",null,null,null,null,"PARTS OF BODY"]
[null,null,null,null,null,null,null,null,null,null,null,185,"Face","face","चेहरा","PARTS OF BODY ( शरीर के अंग )","चेहरा","Face",null,null,null,null,"PARTS OF BODY"]
[null,null,null,null,null,null,null,null,null,null,null,186,"Vermillion","vermillion","सिंदूरी",null,"सिंदूरी","Vermillion"]
[null,null,null,null,null,null,null,null,null,null,null,187,"Fun","fun","मजा",null,"मजा","Fun"]
[null,null,null,null,null,null,null,null,null,null,null,188,"Farm","farm","खेत",null,"खेत","Farm"]
[null,null,null,null,null,null,null,null,null,null,null,189,"Fate","fate","भाग्य",null,"भाग्य","Fate"]
[null,null,null,null,null,null,null,null,null,null,null,190,"Father","FATHER","पिता","RELATIONS AND RELATIVES ( सम्बन्ध और सम्बन्धी )","पिता","Father",null,null,null,null,"RELATIONS AND RELATIVES"]
[null,null,null,null,null,null,null,null,null,null,null,191,"Father In Law","FATHER IN LAW","ससुर","RELATIONS AND RELATIVES ( सम्बन्ध और सम्बन्धी )","ससुर","Father In Law",null,null,null,null,"RELATIONS AND RELATIVES"]
[null,null,null,null,null,null,null,null,null,null,null,192,"Describe","describe","वर्णन करना",null,"वर्णन करना","Describe"]
[null,null,null,null,null,null,null,null,null,null,null,193,"Additional","additional","अतिरिक्त",null,{"$f":"O221","v":"अतिरिक्त"},"Additional"]
[null,null,null,null,null,null,null,null,null,null,null,194,{"$f":"PROPER(N222)","v":"Passage"},"passage","गद्यांश",null,"गद्यांश",{"$f":"PROPER(N222)","v":"Passage"},null,null,null,null,"MONTHS OF A YEARS"]
[null,null,null,null,null,null,null,null,null,null,null,195,"Fertile","fertile","उपजाऊ",null,"उपजाऊ","Fertile"]
[null,null,null,null,null,null,null,null,null,null,null,196,"Fig","FIG","अंजीर","food and drink ( खाद्य और पेय )","अंजीर","Fig",null,null,null,null,"FOODS"]
[null,null,null,null,null,null,null,null,null,null,null,197,"Finger","FINGER","अंगुली","PARTS OF BODY ( शरीर के अंग )","अंगुली","Finger",null,null,null,null,"PARTS OF BODY"]
[null,null,null,null,null,null,null,null,null,null,null,198,"Imagination","imagination","कल्पना",null,"कल्पना","Imagination"]
[null,null,null,null,null,null,null,null,null,null,null,199,"Childhood","childhood","बचपन",null,"बचपन","Childhood"]
[null,null,null,null,null,null,null,null,null,null,null,200,"Fist","fist","मुठ्ठी",null,"मुठ्ठी","Fist"]
[null,null,null,null,null,null,null,null,null,null,null,201,"Erstwhile","erstwhile","तत्कालीन",null,"तत्कालीन","Erstwhile"]
[null,null,null,null,null,null,null,null,null,null,null,202,"Formal","formal","औपचारिक",null,"औपचारिक","Formal",null,null,null,null,"FOODS"]
[null,null,null,null,null,null,null,null,null,null,null,203,"Flower","FLOWER","फूल","flowers ( फूलो के नाम )","फूल","Flower",null,null,null,null,"FLOWERS"]
[null,null,null,null,null,null,null,null,null,null,null,204,"Foalbasket","FOALBASKET",null,null,0,"Foalbasket"]
[null,null,null,null,null,null,null,null,null,null,null,205,"Foe","FOE","शत्रु,दुश्मन",null,"शत्रु,दुश्मन","Foe"]
[null,null,null,null,null,null,null,null,null,null,null,206,"Food","food","भोजन","food and drink ( खाद्य और पेय )","भोजन","Food",null,null,null,null,"FOODS"]
[null,null,null,null,null,null,null,null,null,null,null,207,"Wisdom","wisdom","बुधिमत्ता",null,"बुधिमत्ता","Wisdom",null,null,null,null,"PARTS OF BODY"]
[null,null,null,null,null,null,null,null,null,null,null,208,"Football","FOOTBALL","फूटबाल",null,"फूटबाल","Football"]
[null,null,null,null,null,null,null,null,null,null,null,209,"Footpath","footpath","पैदल रास्ता",null,"पैदल रास्ता","Footpath"]
[null,null,null,null,null,null,null,null,null,null,null,210,"Innate","innate","जन्मजात",null,"जन्मजात","Innate",null,null,null,null,"PARTS OF BODY"]
[null,null,null,null,null,null,null,null,null,null,null,211,"Fork","FORK","कांता",null,"कांता","Fork"]
[null,null,null,null,null,null,null,null,null,null,null,212,"Formula","FORMULA","सूत्र",null,"सूत्र","Formula"]
[null,null,null,null,null,null,null,null,null,null,null,213,"Fox","FOX","लोमड़ी","ANIMALS ( पशु )","लोमड़ी","Fox",null,null,null,null,"ANIMALS"]
[null,null,null,null,null,null,null,null,null,null,null,214,"Monday","Monday","सोमवार","DAYS OF A WEEK ( सप्ताह के दिन )","सोमवार","Monday",null,null,null,null,"DAYS OF A WEEK"]
[null,null,null,null,null,null,null,null,null,null,null,215,"Friend","FRIEND","मित्र,सखा",null,"मित्र,सखा","Friend"]
[null,null,null,null,null,null,null,null,null,null,null,216,"Specific","specific","विशिष्ट",null,"विशिष्ट","Specific"]
[null,null,null,null,null,null,null,null,null,null,null,217,"Fruit","FRUIT","फल","FRUITS ( फलों के नाम )","फल","Fruit",null,null,null,null,"FRUITS"]
[null,null,null,null,null,null,null,null,null,null,null,218,"Garbage","garbage","कचरा",null,"कचरा","Garbage"]
[null,null,null,null,null,null,null,null,null,null,null,219,"Garlic","GARLIC","लहसुन","CORNS AND SPICES ( अन्न और मसाले )","लहसुन","Garlic",null,null,null,null,"SPICES"]
[null,null,null,null,null,null,null,null,null,null,null,220,"Generate","generate","पैदा करना",null,"पैदा करना","Generate"]
[null,null,null,null,null,null,null,null,null,null,null,221,"Self Discipline","self discipline","स्व अनुशासन",null,"स्व अनुशासन","Self Discipline",null,null,null,null,"SPICES"]
[null,null,null,null,null,null,null,null,null,null,null,222,"Girl","GIRL","लड़की",null,"लड़की","Girl"]
[null,null,null,null,null,null,null,null,null,null,null,223,"Pilgrim","pilgrim","तीर्थ यात्री",null,"तीर्थ यात्री","Pilgrim"]
[null,null,null,null,null,null,null,null,null,null,null,224,"Give Up","give up","छोड़ना",null,"छोड़ना","Give Up"]
[null,null,null,null,null,null,null,null,null,null,null,225,"Inherited","inherited","वंशानुगत",null,"वंशानुगत","Inherited"]
[null,null,null,null,null,null,null,null,null,null,null,226,"Kindness","kindness","दयालुता",null,"दयालुता","Kindness"]
[null,null,null,null,null,null,null,null,null,null,null,227,"Goat","GOAT","बकरी","ANIMALS ( पशु )","बकरी","Goat",null,null,null,null,"ANIMALS"]
[null,null,null,null,null,null,null,null,null,null,null,228,"God","GOD","भगवन",null,"भगवन","God"]
[null,null,null,null,null,null,null,null,null,null,null,229,"Godess","GODESS","देवी",null,"देवी","Godess"]
[null,null,null,null,null,null,null,null,null,null,null,230,"Tranport","tranport","परिवहन",null,"परिवहन","Tranport"]
[null,null,null,null,null,null,null,null,null,null,null,231,"Got Washed Away","got washed away","बहाकर चली गई",null,"बहाकर चली गई","Got Washed Away"]
[null,null,null,null,null,null,null,null,null,null,null,232,"Gradually","gradually","धीरे-धीरे",null,"धीरे-धीरे","Gradually"]
[null,null,null,null,null,null,null,null,null,null,null,233,"Spread","spread","फैलाना",null,"फैलाना","Spread"]
[null,null,null,null,null,null,null,null,null,null,null,234,"Grand Father","GRAND FATHER","दादा","RELATIONS AND RELATIVES ( सम्बन्ध और सम्बन्धी )","दादा","Grand Father",null,null,null,null,"RELATIONS AND RELATIVES"]
[null,null,null,null,null,null,null,null,null,null,null,235,"Grand Mother","GRAND MOTHER","दादी","RELATIONS AND RELATIVES ( सम्बन्ध और सम्बन्धी )","दादी","Grand Mother",null,null,null,null,"RELATIONS AND RELATIVES"]
[null,null,null,null,null,null,null,null,null,null,null,236,"Grapes","GRAPES","अंगूर","FRUITS ( फलों के नाम )","अंगूर","Grapes",null,null,null,null,"FRUITS"]
[null,null,null,null,null,null,null,null,null,null,null,237,"Imminent","imminent","निकट",null,"निकट","Imminent"]
[null,null,null,null,null,null,null,null,null,null,null,238,"Greed","greed","लोभ,लालच",null,"लोभ,लालच","Greed"]
[null,null,null,null,null,null,null,null,null,null,null,239,"Regret","regret","दुःख प्रकट करना","FRUITS ( फलों के नाम )","दुःख प्रकट करना","Regret",null,null,null,null,"FRUITS"]
[null,null,null,null,null,null,null,null,null,null,null,240,"Guest","guest","मेहमान",null,"मेहमान","Guest"]
[null,null,null,null,null,null,null,null,null,null,null,241,"Gum","gum","मसूड़ा","PARTS OF BODY ( शरीर के अंग )","मसूड़ा","Gum",null,null,null,null,"PARTS OF BODY"]
[null,null,null,null,null,null,null,null,null,null,null,242,"Habit","habit","आदत",null,"आदत","Habit"]
[null,null,null,null,null,null,null,null,null,null,null,243,"Apologise","apologise","क्षमा मांगना",null,"क्षमा मांगना","Apologise",null,null,null,null,"PARTS OF BODY"]
[null,null,null,null,null,null,null,null,null,null,null,244,"Hair","hair","बाल","PARTS OF BODY ( शरीर के अंग )","बाल","Hair",null,null,null,null,"PARTS OF BODY"]
[null,null,null,null,null,null,null,null,null,null,null,245,"Hand","HAND","हाथ","PARTS OF BODY ( शरीर के अंग )","हाथ","Hand",null,null,null,null,"PARTS OF BODY"]
[null,null,null,null,null,null,null,null,null,null,null,246,"Weekend","weekend","सप्ताहांत",null,"सप्ताहांत","Weekend"]
[null,null,null,null,null,null,null,null,null,null,null,247,"Hare","HARE","खरगोश","ANIMALS ( पशु )","खरगोश","Hare",null,null,null,null,"ANIMALS"]
[null,null,null,null,null,null,null,null,null,null,null,248,"Harmony","harmony","सामजंस्य",null,"सामजंस्य","Harmony"]
[null,null,null,null,null,null,null,null,null,null,null,249,"Confronted","confronted","सामना करना",null,"सामना करना","Confronted"]
[null,null,null,null,null,null,null,null,null,null,null,250,"Hatred","hatred","नफ़रत",null,"नफ़रत","Hatred"]
[null,null,null,null,null,null,null,null,null,null,null,251,"Hawk","HAWK","बाज","BIRDS  ( पक्षियों के नाम  )","बाज","Hawk",null,null,null,null,"BIRDS"]
[null,null,null,null,null,null,null,null,null,null,null,252,"Seagull","seagull","समुद्री पक्षी",null,"समुद्री पक्षी","Seagull"]
[null,null,null,null,null,null,null,null,null,null,null,253,"Head","HEAD","सिर","PARTS OF BODY ( शरीर के अंग )","सिर","Head",null,null,null,null,"PARTS OF BODY"]
[null,null,null,null,null,null,null,null,null,null,null,254,"Health","health","स्वास्थ्य",null,"स्वास्थ्य","Health"]
[null,null,null,null,null,null,null,null,null,null,null,255,"Permission","permission","अनुमति",null,"अनुमति","Permission",null,null,null,null,"PARTS OF BODY"]
[null,null,null,null,null,null,null,null,null,null,null,256,"Optimism","optimism","आशावादी",null,"आशावादी","Optimism",null,null,null,null,"PARTS OF BODY"]
[null,null,null,null,null,null,null,null,null,null,null,257,"Longing","longing","इच्छा",null,{"$f":"O285","v":"इच्छा"},"Longing",null,null,null,null,"PARTS OF BODY"]
[null,null,null,null,null,null,null,null,null,null,null,258,{"$f":"PROPER(N286)","v":"Heir"},"heir","वारिस","RELATIONS AND RELATIVES ( सम्बन्ध और सम्बन्धी )","वारिस",{"$f":"PROPER(N286)","v":"Heir"},null,null,null,null,"RELATIONS AND RELATIVES"]
[null,null,null,null,null,null,null,null,null,null,null,259,"Hen","HEN","मुर्गी","BIRDS  ( पक्षियों के नाम  )","मुर्गी","Hen",null,null,null,null,"BIRDS"]
[null,null,null,null,null,null,null,null,null,null,null,260,"Horrible","horrible","भयानक",null,"भयानक","Horrible"]
[null,null,null,null,null,null,null,null,null,null,null,261,"Honest","HONEST","ईमानदार",null,"ईमानदार","Honest"]
[null,null,null,null,null,null,null,null,null,null,null,262,"Horse","HORSE","घोडा",null,"घोडा","Horse"]
[null,null,null,null,null,null,null,null,null,null,null,263,"Host","host","यजमान",null,"यजमान","Host"]
[null,null,null,null,null,null,null,null,null,null,null,264,"Hot Sun","hot sun","तेज धुप",null,"तेज धुप","Hot Sun"]
[null,null,null,null,null,null,null,null,null,null,null,265,"Senseless","senseless","समझरहित",null,"समझरहित","Senseless"]
[null,null,null,null,null,null,null,null,null,null,null,266,"How","HOW","कैसे","QUESTIONS WORDS  ( प्रश्न वाचक शब्द )","कैसे","How",null,null,null,null,"QUESTIONS WORDS"]
[null,null,null,null,null,null,null,null,null,null,null,267,"How Many","HOW MANY","कितने","QUESTIONS WORDS  ( प्रश्न वाचक शब्द )","कितने","How Many",null,null,null,null,"QUESTIONS WORDS"]
[null,null,null,null,null,null,null,null,null,null,null,268,"How Much","HOW MUCH","कितने","QUESTIONS WORDS  ( प्रश्न वाचक शब्द )","कितने","How Much",null,null,null,null,"QUESTIONS WORDS"]
[null,null,null,null,null,null,null,null,null,null,null,269,"Dream","dream","सपना",null,"सपना","Dream"]
[null,null,null,null,null,null,null,null,null,null,null,270,"Hungry","Hungry","भूखा",null,"भूखा","Hungry"]
[null,null,null,null,null,null,null,null,null,null,null,271,"Husband","HUSBAND","पति","RELATIONS AND RELATIVES ( सम्बन्ध और सम्बन्धी )","पति","Husband",null,null,null,null,"RELATIONS AND RELATIVES"]
[null,null,null,null,null,null,null,null,null,null,null,272,"Wild","wild","जंगली",null,"जंगली","Wild"]
[null,null,null,null,null,null,null,null,null,null,null,273,"Perspiration","perspiration","पसीना",null,"पसीना","Perspiration"]
[null,null,null,null,null,null,null,null,null,null,null,274,"Ice Cream","ice cream","कुल्फी",null,"कुल्फी","Ice Cream"]
[null,null,null,null,null,null,null,null,null,null,null,275,"Improve","improve","सुधार करना",null,"सुधार करना","Improve"]
[null,null,null,null,null,null,null,null,null,null,null,276,"Misery","misery","व्यथा",null,"व्यथा","Misery"]
[null,null,null,null,null,null,null,null,null,null,null,277,"Extraordinary","extraordinary","असाधारण",null,"असाधारण","Extraordinary"]
[null,null,null,null,null,null,null,null,null,null,null,278,"Exclaimed","exclaimed","चिल्लाया",null,"चिल्लाया","Exclaimed"]
[null,null,null,null,null,null,null,null,null,null,null,279,"Misterious","misterious","रहस्यमयी",null,"रहस्यमयी","Misterious",null,null,null,null,"SCHOOLS"]
[null,null,null,null,null,null,null,null,null,null,null,280,"Ink Pot","INK POT","स्याई दवात","SCHOOL RELATIVE  ( विद्यालय सम्बन्धी  )","स्याई दवात","Ink Pot",null,null,null,null,"SCHOOLS"]
[null,null,null,null,null,null,null,null,null,null,null,281,"Insert","INSERT","घुसाना",null,"घुसाना","Insert"]
[null,null,null,null,null,null,null,null,null,null,null,282,"Invited","invited","आमंत्रित किया",null,"आमंत्रित किया","Invited"]
[null,null,null,null,null,null,null,null,null,null,null,283,"Steadily","steadily","लगातार",null,"लगातार","Steadily"]
[null,null,null,null,null,null,null,null,null,null,null,284,"Jackal","JACKAL","सियार","ANIMALS ( पशु )","सियार","Jackal",null,null,null,null,"ANIMALS"]
[null,null,null,null,null,null,null,null,null,null,null,285,"Conciet","conciet","अंहकार",null,"अंहकार","Conciet",null,null,null,null,"FOODS"]
[null,null,null,null,null,null,null,null,null,null,null,286,"Nuisance","nuisance","बकवास",null,"बकवास","Nuisance",null,null,null,null,"MONTHS OF A YEARS"]
[null,null,null,null,null,null,null,null,null,null,null,287,"Jasmin","jasmin","चमेली","flowers ( फूलो के नाम )","चमेली","Jasmin",null,null,null,null,"FLOWERS"]
[null,null,null,null,null,null,null,null,null,null,null,288,"Curse","curse","कोसना,श्राप देना",null,"कोसना,श्राप देना","Curse",null,null,null,null,"PARTS OF BODY"]
[null,null,null,null,null,null,null,null,null,null,null,289,"Damp","damp","गीला",null,"गीला","Damp"]
[null,null,null,null,null,null,null,null,null,null,null,290,"Juice","JUICE","रस",null,"रस","Juice"]
[null,null,null,null,null,null,null,null,null,null,null,291,"Sin","sin","पाप",null,"पाप","Sin",null,null,null,null,"MONTHS OF A YEARS"]
[null,null,null,null,null,null,null,null,null,null,null,292,"Urge","urge","तीर्व इच्छा",null,"तीर्व इच्छा","Urge",null,null,null,null,"MONTHS OF A YEARS"]
[null,null,null,null,null,null,null,null,null,null,null,293,"Junior","JUNIOR","कनिष्क","OCCUPATIONS AND PROFESSION (व्यवसाय और पेशा )","कनिष्क","Junior",null,null,null,null,"OCCUPATIONS AND PROFESSION"]
[null,null,null,null,null,null,null,null,null,null,null,294,"Destiny","destiny","भाग्य",null,"भाग्य","Destiny"]
[null,null,null,null,null,null,null,null,null,null,null,295,"Pleasant","pleasant","सुखद",null,"सुखद","Pleasant",null,null,null,null,"ANIMALS"]
[null,null,null,null,null,null,null,null,null,null,null,296,"Kidney","kidney","मूत्राशय","PARTS OF BODY ( शरीर के अंग )","मूत्राशय","Kidney",null,null,null,null,"PARTS OF BODY"]
[null,null,null,null,null,null,null,null,null,null,null,297,"Kidney Bean","kidney bean","मूंग","food and drink ( खाद्य और पेय )","मूंग","Kidney Bean",null,null,null,null,"FOODS"]
[null,null,null,null,null,null,null,null,null,null,null,298,"Kill","KILL","मारना",null,"मारना","Kill"]
[null,null,null,null,null,null,null,null,null,null,null,299,"Kingdom","Kingdom","साम्राज्य",null,"साम्राज्य","Kingdom"]
[null,null,null,null,null,null,null,null,null,null,null,300,"Kitchen","KITCHEN","रसोईघर",null,"रसोईघर","Kitchen"]
[null,null,null,null,null,null,null,null,null,null,null,301,"Kite","KITE","पतंग",null,"पतंग","Kite"]
[null,null,null,null,null,null,null,null,null,null,null,302,"Polite","polite","विनम्र",null,"विनम्र","Polite",null,null,null,null,"ANIMALS"]
[null,null,null,null,null,null,null,null,null,null,null,303,"Affirmative","affirmative","सकारात्मक",null,"सकारात्मक","Affirmative",null,null,null,null,"PARTS OF BODY"]
[null,null,null,null,null,null,null,null,null,null,null,304,"Knee","knee","घुटना","PARTS OF BODY ( शरीर के अंग )","घुटना","Knee",null,null,null,null,"PARTS OF BODY"]
[null,null,null,null,null,null,null,null,null,null,null,305,"Feat","feat","उपलब्धि",null,"उपलब्धि","Feat"]
[null,null,null,null,null,null,null,null,null,null,null,306,"Knowledge","knowledge","ज्ञान",null,"ज्ञान","Knowledge"]
[null,null,null,null,null,null,null,null,null,null,null,307,"Ladyfinger","LADYFINGER","भिन्डी",null,"भिन्डी","Ladyfinger"]
[null,null,null,null,null,null,null,null,null,null,null,308,"Lamb","LAMB","मेमना",null,"मेमना","Lamb",null,null,null,null,"PARTS OF BODY"]
[null,null,null,null,null,null,null,null,null,null,null,309,"Amazing","amazing","शानदार",null,"शानदार","Amazing"]
[null,null,null,null,null,null,null,null,null,null,null,310,"Landowner","landowner","जमीदार","OCCUPATIONS AND PROFESSION (व्यवसाय और पेशा )","जमीदार","Landowner",null,null,null,null,"OCCUPATIONS AND PROFESSION"]
[null,null,null,null,null,null,null,null,null,null,null,311,"Language","LANGUAGE","भाषा",null,"भाषा","Language"]
[null,null,null,null,null,null,null,null,null,null,null,312,"Physically","physically","शारीरिक",null,"शारीरिक","Physically"]
[null,null,null,null,null,null,null,null,null,null,null,313,"Lap","lap","गोद",null,"गोद","Lap"]
[null,null,null,null,null,null,null,null,null,null,null,314,"Culmination","culmination","चरमबिंदु",null,"चरमबिंदु","Culmination"]
[null,null,null,null,null,null,null,null,null,null,null,315,"Lazier","lazier","                     ",null,"                     ","Lazier"]
[null,null,null,null,null,null,null,null,null,null,null,316,"Lazy","Lazy","आलसी",null,"आलसी","Lazy"]
[null,null,null,null,null,null,null,null,null,null,null,317,"Learning","learning","सिखाते हुए",null,"सिखाते हुए","Learning"]
[null,null,null,null,null,null,null,null,null,null,null,318,"Leave ","leave ","छोड़ना",null,"छोड़ना","Leave "]
[null,null,null,null,null,null,null,null,null,null,null,319,"Annals","annals","इतिहस","SCHOOL RELATIVE  ( विद्यालय सम्बन्धी  )","इतिहस","Annals",null,null,null,null,"SCHOOLS"]
[null,null,null,null,null,null,null,null,null,null,null,320,"Leg","LEG","पैर","PARTS OF BODY ( शरीर के अंग )","पैर","Leg",null,null,null,null,"PARTS OF BODY"]
[null,null,null,null,null,null,null,null,null,null,null,321,"Lemon","LEMON","नींबू","VEGETABLES ( सब्जियां )",{"$f":"O349","v":"नींबू"},"Lemon",null,null,null,null,"VEGETABLES"]
[null,null,null,null,null,null,null,null,null,null,null,322,{"$f":"PROPER(N350)","v":"Reference"},"reference","सन्दर्भ",null,"सन्दर्भ",{"$f":"PROPER(N350)","v":"Reference"},null,null,null,null,"FOODS"]
[null,null,null,null,null,null,null,null,null,null,null,323,"Lid","LID","ढक्कन",null,"ढक्कन","Lid"]
[null,null,null,null,null,null,null,null,null,null,null,324,"Explanation","explanation","व्याख्या",null,"व्याख्या","Explanation"]
[null,null,null,null,null,null,null,null,null,null,null,325,"Lion","LION","शेर","ANIMALS ( पशु )","शेर","Lion",null,null,null,null,"ANIMALS"]
[null,null,null,null,null,null,null,null,null,null,null,326,"Lip","LIP","होठ","PARTS OF BODY ( शरीर के अंग )","होठ","Lip",null,null,null,null,"PARTS OF BODY"]
[null,null,null,null,null,null,null,null,null,null,null,327,"Stanza","stanza","पद्यांश",null,"पद्यांश","Stanza"]
[null,null,null,null,null,null,null,null,null,null,null,328,"Little Finger","little finger","कानी अंगुली","PARTS OF BODY ( शरीर के अंग )","कानी अंगुली","Little Finger",null,null,null,null,"PARTS OF BODY"]
[null,null,null,null,null,null,null,null,null,null,null,329,"Lock","LOCK","ताला",null,"ताला","Lock"]
[null,null,null,null,null,null,null,null,null,null,null,330,"Look","LOOK","देखना",null,"देखना","Look"]
[null,null,null,null,null,null,null,null,null,null,null,331,"Maintain","maintain","बनाए रखना,रखरखाव",null,"बनाए रखना,रखरखाव","Maintain"]
[null,null,null,null,null,null,null,null,null,null,null,332,"Probabbly","probabbly","शायद",null,"शायद","Probabbly"]
[null,null,null,null,null,null,null,null,null,null,null,333,"Man","MAN","आदमी",null,"आदमी","Man"]
[null,null,null,null,null,null,null,null,null,null,null,334,"Mango","MANGO","आम","FRUITS ( फलों के नाम )","आम","Mango",null,null,null,null,"FRUITS"]
[null,null,null,null,null,null,null,null,null,null,null,335,"Manure Pits","manure pits","खाद के खड्डे",null,"खाद के खड्डे","Manure Pits"]
[null,null,null,null,null,null,null,null,null,null,null,336,"Many","MANY","बहुत",null,"बहुत","Many"]
[null,null,null,null,null,null,null,null,null,null,null,337,"Interior","interior","आंतरिक",null,"आंतरिक","Interior",null,null,null,null,"MONTHS OF A YEARS"]
[null,null,null,null,null,null,null,null,null,null,null,338,"Mare","MARE","घोड़ी",null,"घोड़ी","Mare"]
[null,null,null,null,null,null,null,null,null,null,null,339,"Imitation","imitation","अनुकरण",null,"अनुकरण","Imitation",null,null,null,null,"FLOWERS"]
[null,null,null,null,null,null,null,null,null,null,null,340,"Familiar","familiar","परिचित",null,"परिचित","Familiar"]
[null,null,null,null,null,null,null,null,null,null,null,341,"Material","material","सामग्री",null,"सामग्री","Material"]
[null,null,null,null,null,null,null,null,null,null,null,342,"Maternal","MATERNAL","मामा","RELATIONS AND RELATIVES ( सम्बन्ध और सम्बन्धी )","मामा","Maternal",null,null,null,null,"RELATIONS AND RELATIVES"]
[null,null,null,null,null,null,null,null,null,null,null,343,"Sympathy","sympathy","हमदर्दी,सहानुभूति",null,"हमदर्दी,सहानुभूति","Sympathy",null,null,null,null,"MONTHS OF A YEARS"]
[null,null,null,null,null,null,null,null,null,null,null,344,"Meal","meal","खाना","food and drink ( खाद्य और पेय )","खाना","Meal",null,null,null,null,"FOODS"]
[null,null,null,null,null,null,null,null,null,null,null,345,"Guy","guy","व्यक्ति",null,"व्यक्ति","Guy",null,null,null,null,"FOODS"]
[null,null,null,null,null,null,null,null,null,null,null,346,"Medicine","MEDICINE","दवाई",null,"दवाई","Medicine"]
[null,null,null,null,null,null,null,null,null,null,null,347,"Musk Melon","musk MELON","खरबूजा","FRUITS ( फलों के नाम )","खरबूजा","Musk Melon",null,null,null,null,"FRUITS"]
[null,null,null,null,null,null,null,null,null,null,null,348,"Mental","mental","मानसिक",null,"मानसिक","Mental"]
[null,null,null,null,null,null,null,null,null,null,null,349,"Charming","charming","आकर्षक",null,"आकर्षक","Charming",null,null,null,null,"OCCUPATIONS AND PROFESSION"]
[null,null,null,null,null,null,null,null,null,null,null,350,"Method","method","तरीका,उपाय",null,"तरीका,उपाय","Method"]
[null,null,null,null,null,null,null,null,null,null,null,351,"Milky","MILKy","दूधिया",null,"दूधिया","Milky",null,null,null,null,"FOODS"]
[null,null,null,null,null,null,null,null,null,null,null,352,"Millet","millet","बाजरा",null,"बाजरा","Millet"]
[null,null,null,null,null,null,null,null,null,null,null,353,"Assist","assist","सहायता करना",null,"सहायता करना","Assist",null,null,null,null,"VEGETABLES"]
[null,null,null,null,null,null,null,null,null,null,null,354,"Mint","mint","पोदीना","VEGETABLES ( सब्जियां )","पोदीना","Mint",null,null,null,null,"VEGETABLES"]
[null,null,null,null,null,null,null,null,null,null,null,355,"Considerable","considerable","इतना कुछ",null,"इतना कुछ","Considerable"]
[null,null,null,null,null,null,null,null,null,null,null,356,"Modern","modern","आधुनिक",null,"आधुनिक","Modern"]
[null,null,null,null,null,null,null,null,null,null,null,357,"Tuesday","Tuesday","मंगलवार","DAYS OF A WEEK ( सप्ताह के दिन )","मंगलवार","Tuesday",null,null,null,null,"DAYS OF A WEEK"]
[null,null,null,null,null,null,null,null,null,null,null,358,"Money","MONEY","रूपया",null,"रूपया","Money"]
[null,null,null,null,null,null,null,null,null,null,null,359,"Mongoose","MONGOOSE","नेवला",null,"नेवला","Mongoose"]
[null,null,null,null,null,null,null,null,null,null,null,360,"Monkey","MONKEY","बन्दर","ANIMALS ( पशु )","बन्दर","Monkey",null,null,null,null,"ANIMALS"]
[null,null,null,null,null,null,null,null,null,null,null,361,"Modest","modest","विनम्र",null,"विनम्र","Modest"]
[null,null,null,null,null,null,null,null,null,null,null,362,"Mother","MOTHER","माता","RELATIONS AND RELATIVES ( सम्बन्ध और सम्बन्धी )","माता","Mother",null,null,null,null,"RELATIONS AND RELATIVES"]
[null,null,null,null,null,null,null,null,null,null,null,363,"Mother In Law","MOTHER IN LAW","सास","RELATIONS AND RELATIVES ( सम्बन्ध और सम्बन्धी )","सास","Mother In Law",null,null,null,null,"RELATIONS AND RELATIVES"]
[null,null,null,null,null,null,null,null,null,null,null,364,"Mouse","MOUSE","चूहा","ANIMALS ( पशु )","चूहा","Mouse",null,null,null,null,"ANIMALS"]
[null,null,null,null,null,null,null,null,null,null,null,365,"Precisely","precisely","सही सही",null,"सही सही","Precisely"]
[null,null,null,null,null,null,null,null,null,null,null,366,"Mustard","mustard","सरसों","food and drink ( खाद्य और पेय )","सरसों","Mustard",null,null,null,null,"FOODS"]
[null,null,null,null,null,null,null,null,null,null,null,367,"Dandy","dandy","शानदार","food and drink ( खाद्य और पेय )","शानदार","Dandy",null,null,null,null,"FOODS"]
[null,null,null,null,null,null,null,null,null,null,null,368,"Understand","understand","समझ गए",null,"समझ गए","Understand",null,null,null,null,"PARTS OF BODY"]
[null,null,null,null,null,null,null,null,null,null,null,369,"Cops","cops","सिपाही",null,"सिपाही","Cops",null,null,null,null,"PARTS OF BODY"]
[null,null,null,null,null,null,null,null,null,null,null,370,"Crime","crime","अपराध",null,"अपराध","Crime",null,null,null,null,"PARTS OF BODY"]
[null,null,null,null,null,null,null,null,null,null,null,371,"Grave","grave","गंभीर",null,"गंभीर","Grave"]
[null,null,null,null,null,null,null,null,null,null,null,372,"Extremly","extremly","बहुत",null,"बहुत","Extremly",null,null,null,null,"PARTS OF BODY"]
[null,null,null,null,null,null,null,null,null,null,null,373,"Nearby","nearby","पास के ही",null,"पास के ही","Nearby"]
[null,null,null,null,null,null,null,null,null,null,null,374,"Neck","neck","गर्दन","PARTS OF BODY ( शरीर के अंग )","गर्दन","Neck",null,null,null,null,"PARTS OF BODY"]
[null,null,null,null,null,null,null,null,null,null,null,375,"Tribute","tribute","श्रधांजलि",null,"श्रधांजलि","Tribute"]
[null,null,null,null,null,null,null,null,null,null,null,376,"Negative","negative","नकारात्मक,अशुभ",null,"नकारात्मक,अशुभ","Negative"]
[null,null,null,null,null,null,null,null,null,null,null,377,"Dodge","dodge","चकमा देना",null,"चकमा देना","Dodge"]
[null,null,null,null,null,null,null,null,null,null,null,378,"Apparently","apparently","देखने में स्पष्ट",null,"देखने में स्पष्ट","Apparently",null,null,null,null,"RELATIONS AND RELATIVES"]
[null,null,null,null,null,null,null,null,null,null,null,379,"Decorative","decorative","सुंदर",null,"सुंदर","Decorative"]
[null,null,null,null,null,null,null,null,null,null,null,380,"Next To","next to","समीप",null,"समीप","Next To"]
[null,null,null,null,null,null,null,null,null,null,null,381,"Unfortunately","unfortunately","दुर्भाग्यवश",null,"दुर्भाग्यवश","Unfortunately",null,null,null,null,"RELATIONS AND RELATIVES"]
[null,null,null,null,null,null,null,null,null,null,null,382,"Nightingle","NIGHTINGLE","बुलबुल","BIRDS  ( पक्षियों के नाम  )","बुलबुल","Nightingle",null,null,null,null,"BIRDS"]
[null,null,null,null,null,null,null,null,null,null,null,383,"None","None","कोई नहीं",null,"कोई नहीं","None"]
[null,null,null,null,null,null,null,null,null,null,null,384,"Nose","NOSE","नाक","PARTS OF BODY ( शरीर के अंग )","नाक","Nose",null,null,null,null,"PARTS OF BODY"]
[null,null,null,null,null,null,null,null,null,null,null,385,"Concern","concern","संबधित",null,{"$f":"O413","v":"संबधित"},"Concern",null,null,null,null,"PARTS OF BODY"]
[null,null,null,null,null,null,null,null,null,null,null,386,{"$f":"PROPER(N414)","v":"Not"},"NOT","नहीं",null,"नहीं",{"$f":"PROPER(N414)","v":"Not"}]
[null,null,null,null,null,null,null,null,null,null,null,387,"Noticed","noticed","दिखा",null,"दिखा","Noticed"]
[null,null,null,null,null,null,null,null,null,null,null,388,"Rattle","rattle","खडकना",null,"खडकना","Rattle",null,null,null,null,"MONTHS OF A YEARS"]
[null,null,null,null,null,null,null,null,null,null,null,389,"Amusing","amusing","मनोरंजक",null,"मनोरंजक","Amusing"]
[null,null,null,null,null,null,null,null,null,null,null,390,"October","OCTOBER","अक्टूबर",null,"अक्टूबर","October",null,null,null,null,"MONTHS OF A YEARS"]
[null,null,null,null,null,null,null,null,null,null,null,391,"Oily","OILy","तेलीय",null,"तेलीय","Oily"]
[null,null,null,null,null,null,null,null,null,null,null,392,"Imagine","imagine","कल्पना करना",null,"कल्पना करना","Imagine"]
[null,null,null,null,null,null,null,null,null,null,null,393,"Oneself","oneself","स्वंय को",null,"स्वंय को","Oneself"]
[null,null,null,null,null,null,null,null,null,null,null,394,"Onion","ONION","प्याज","VEGETABLES ( सब्जियां )","प्याज","Onion",null,null,null,null,"VEGETABLES"]
[null,null,null,null,null,null,null,null,null,null,null,395,"Orange","ORANGE","संतरा","FRUITS ( फलों के नाम )","संतरा","Orange",null,null,null,null,"FRUITS"]
[null,null,null,null,null,null,null,null,null,null,null,396,"Organized","organized","संगठित,सुनियोजित",null,"संगठित,सुनियोजित","Organized"]
[null,null,null,null,null,null,null,null,null,null,null,397,"Ostrich","OSTRICH","शुतुरमुर्ग","BIRDS  ( पक्षियों के नाम  )","शुतुरमुर्ग","Ostrich",null,null,null,null,"BIRDS"]
[null,null,null,null,null,null,null,null,null,null,null,398,"Comport","comport","आराम",null,"आराम","Comport",null,null,null,null,"BIRDS"]
[null,null,null,null,null,null,null,null,null,null,null,399,"Owl","OWL","उल्लू","BIRDS  ( पक्षियों के नाम  )","उल्लू","Owl",null,null,null,null,"BIRDS"]
[null,null,null,null,null,null,null,null,null,null,null,400,"Careful","careful","सावधानीपूर्वक",null,"सावधानीपूर्वक","Careful"]
[null,null,null,null,null,null,null,null,null,null,null,401,"Surprise","surprise","आश्चर्यचकित होना",null,"आश्चर्यचकित होना","Surprise"]
[null,null,null,null,null,null,null,null,null,null,null,402,"Lucky","lucky","भागी",null,"भागी","Lucky",null,null,null,null,"PARTS OF BODY"]
[null,null,null,null,null,null,null,null,null,null,null,403,"Smart","smart","सुंदर",null,"सुंदर","Smart",null,null,null,null,"PARTS OF BODY"]
[null,null,null,null,null,null,null,null,null,null,null,404,"Panther","PANTHER","चीता","ANIMALS ( पशु )","चीता","Panther",null,null,null,null,"ANIMALS"]
[null,null,null,null,null,null,null,null,null,null,null,405,"Papaya","PAPAYA","पपीता","FRUITS ( फलों के नाम )","पपीता","Papaya",null,null,null,null,"FRUITS"]
[null,null,null,null,null,null,null,null,null,null,null,406,"Parents","PARENTS","अभिभावक","RELATIONS AND RELATIVES ( सम्बन्ध और सम्बन्धी )","अभिभावक","Parents",null,null,null,null,"RELATIONS AND RELATIVES"]
[null,null,null,null,null,null,null,null,null,null,null,407,"Parrot","PARROT","तोता","BIRDS  ( पक्षियों के नाम  )","तोता","Parrot",null,null,null,null,"BIRDS"]
[null,null,null,null,null,null,null,null,null,null,null,408,"Patridge","PATRIDGE","तीतर","BIRDS  ( पक्षियों के नाम  )","तीतर","Patridge",null,null,null,null,"BIRDS"]
[null,null,null,null,null,null,null,null,null,null,null,409,"Pay Attention","pay attention","ध्यान देना",null,"ध्यान देना","Pay Attention"]
[null,null,null,null,null,null,null,null,null,null,null,410,"Discuss","discuss","चर्चा करना",null,"चर्चा करना","Discuss"]
[null,null,null,null,null,null,null,null,null,null,null,411,"Pea Hen","PEA HEN","मोरनी","BIRDS  ( पक्षियों के नाम  )","मोरनी","Pea Hen",null,null,null,null,"BIRDS"]
[null,null,null,null,null,null,null,null,null,null,null,412,"Peach","PEACH","आडू","FRUITS ( फलों के नाम )","आडू","Peach",null,null,null,null,"FRUITS"]
[null,null,null,null,null,null,null,null,null,null,null,413,"Peacock","PEACOCK","मोर","BIRDS  ( पक्षियों के नाम  )","मोर","Peacock",null,null,null,null,"BIRDS"]
[null,null,null,null,null,null,null,null,null,null,null,414,"Pear","PEAR","नासपाती","FRUITS ( फलों के नाम )","नासपाती","Pear",null,null,null,null,"FRUITS"]
[null,null,null,null,null,null,null,null,null,null,null,415,"Confidential","confidential","प्रमाणिक",null,"प्रमाणिक","Confidential"]
[null,null,null,null,null,null,null,null,null,null,null,416,"Bent","bent","मुड़ी हुई",null,"मुड़ी हुई","Bent",null,null,null,null,"SCHOOLS"]
[null,null,null,null,null,null,null,null,null,null,null,417,"Physical","physical","शारीरिक",null,"शारीरिक","Physical"]
[null,null,null,null,null,null,null,null,null,null,null,418,"Pickle","pickle","अचार","food and drink ( खाद्य और पेय )","अचार","Pickle",null,null,null,null,"FOODS"]
[null,null,null,null,null,null,null,null,null,null,null,419,"Hence","hence","आगे",null,"आगे","Hence"]
[null,null,null,null,null,null,null,null,null,null,null,420,"Scatter","scatter","बिखेरना",null,"बिखेरना","Scatter",null,null,null,null,"ANIMALS"]
[null,null,null,null,null,null,null,null,null,null,null,421,"Pigeon","PIGEON","कबूतर","BIRDS  ( पक्षियों के नाम  )","कबूतर","Pigeon",null,null,null,null,"BIRDS"]
[null,null,null,null,null,null,null,null,null,null,null,422,"Pillow","PILLOW","तकिया",null,"तकिया","Pillow"]
[null,null,null,null,null,null,null,null,null,null,null,423,"Pineapple","PINEAPPLE","अन्नानास","FRUITS ( फलों के नाम )","अन्नानास","Pineapple",null,null,null,null,"FRUITS"]
[null,null,null,null,null,null,null,null,null,null,null,424,"Pipe-System","pipe-system","नल प्रणाली",null,"नल प्रणाली","Pipe-System"]
[null,null,null,null,null,null,null,null,null,null,null,425,"Frail","frail","कमजोर",null,"कमजोर","Frail"]
[null,null,null,null,null,null,null,null,null,null,null,426,"Humid","humid","नम",null,"नम","Humid"]
[null,null,null,null,null,null,null,null,null,null,null,427,"Shadow","shadow","छाया",null,"छाया","Shadow",null,null,null,null,"FRUITS"]
[null,null,null,null,null,null,null,null,null,null,null,428,"Pomegranate","POMEGRANATE","अनार","FRUITS ( फलों के नाम )","अनार","Pomegranate",null,null,null,null,"FRUITS"]
[null,null,null,null,null,null,null,null,null,null,null,429,"Start","start","शुरुआत",null,"शुरुआत","Start",null,null,null,null,"FOODS"]
[null,null,null,null,null,null,null,null,null,null,null,430,"Potato","POTATO","आलू","VEGETABLES ( सब्जियां )","आलू","Potato",null,null,null,null,"VEGETABLES"]
[null,null,null,null,null,null,null,null,null,null,null,431,"Bliss","bliss","आनंददायक",null,"आनंददायक","Bliss"]
[null,null,null,null,null,null,null,null,null,null,null,432,"Precepter","precepter","गुरु","RELATIONS AND RELATIVES ( सम्बन्ध और सम्बन्धी )","गुरु","Precepter",null,null,null,null,"RELATIONS AND RELATIVES"]
[null,null,null,null,null,null,null,null,null,null,null,433,"Preserving","preserving","संरक्षित करना",null,"संरक्षित करना","Preserving"]
[null,null,null,null,null,null,null,null,null,null,null,434,"Presonal","presonal","निजी",null,"निजी","Presonal"]
[null,null,null,null,null,null,null,null,null,null,null,435,"Pride","pride","गर्व,घमंड",null,"गर्व,घमंड","Pride"]
[null,null,null,null,null,null,null,null,null,null,null,436,"Problem","problem","समस्या",null,"समस्या","Problem"]
[null,null,null,null,null,null,null,null,null,null,null,437,"Produced","produced","उत्पादन किया",null,"उत्पादन किया","Produced"]
[null,null,null,null,null,null,null,null,null,null,null,438,"Property","property","सम्पति,जायदाद",null,"सम्पति,जायदाद","Property"]
[null,null,null,null,null,null,null,null,null,null,null,439,"Foreign","foreign","विदेशी",null,"विदेशी","Foreign"]
[null,null,null,null,null,null,null,null,null,null,null,440,"Prove","prove","सिद्ध करना",null,"सिद्ध करना","Prove"]
[null,null,null,null,null,null,null,null,null,null,null,441,"Condemn","condemn","बुरा बताना",null,"बुरा बताना","Condemn"]
[null,null,null,null,null,null,null,null,null,null,null,442,"Defile","defile","अपवित्र करना",null,"अपवित्र करना","Defile"]
[null,null,null,null,null,null,null,null,null,null,null,443,"Pumpkin","PUMPKIN","कद्दू","VEGETABLES ( सब्जियां )","कद्दू","Pumpkin",null,null,null,null,"VEGETABLES"]
[null,null,null,null,null,null,null,null,null,null,null,444,"Hells","hells","नरक",null,"नरक","Hells",null,null,null,null,"ANIMALS"]
[null,null,null,null,null,null,null,null,null,null,null,445,"Quail","QUAIL","बटेर","BIRDS  ( पक्षियों के नाम  )","बटेर","Quail",null,null,null,null,"BIRDS"]
[null,null,null,null,null,null,null,null,null,null,null,446,"Rabbit","RABBIT","खरगोश","ANIMALS ( पशु )","खरगोश","Rabbit",null,null,null,null,"ANIMALS"]
[null,null,null,null,null,null,null,null,null,null,null,447,"Radio","RADIO","रेडियो",null,"रेडियो","Radio"]
[null,null,null,null,null,null,null,null,null,null,null,448,"Radish","RADISH","मूली","VEGETABLES ( सब्जियां )","मूली","Radish",null,null,null,null,"VEGETABLES"]
[null,null,null,null,null,null,null,null,null,null,null,449,"Innocence","innocence","निर्दोष",null,{"$f":"O477","v":"निर्दोष"},"Innocence"]
[null,null,null,null,null,null,null,null,null,null,null,450,{"$f":"PROPER(N478)","v":"Regular"},"regular","सामान्य ",null,"सामान्य ",{"$f":"PROPER(N478)","v":"Regular"}]
[null,null,null,null,null,null,null,null,null,null,null,451,"Related","related","सम्बंधित",null,"सम्बंधित","Related"]
[null,null,null,null,null,null,null,null,null,null,null,452,"Rest","rest","आराम,शेष",null,"आराम,शेष","Rest"]
[null,null,null,null,null,null,null,null,null,null,null,453,"Result","result","परिणाम",null,"परिणाम","Result"]
[null,null,null,null,null,null,null,null,null,null,null,454,"Rib","rib","पसली",null,"पसली","Rib"]
[null,null,null,null,null,null,null,null,null,null,null,455,"Betray","betray","धोखा देना",null,"धोखा देना","Betray",null,null,null,null,"FOODS"]
[null,null,null,null,null,null,null,null,null,null,null,456,"Ring Finger","ring finger","अनामिका",null,"अनामिका","Ring Finger"]
[null,null,null,null,null,null,null,null,null,null,null,457,"Roadside","roadside","सड़क किनारे",null,"सड़क किनारे","Roadside"]
[null,null,null,null,null,null,null,null,null,null,null,458,"Recognise","recognise","पहचानना",null,"पहचानना","Recognise"]
[null,null,null,null,null,null,null,null,null,null,null,459,"Nasty","nasty","विशाल",null,"विशाल","Nasty",null,null,null,null,"FLOWERS"]
[null,null,null,null,null,null,null,null,null,null,null,460,"Rushed","rushed","झपटा मारना",null,"झपटा मारना","Rushed"]
[null,null,null,null,null,null,null,null,null,null,null,461,"Sack","SACK","बोरा",null,"बोरा","Sack"]
[null,null,null,null,null,null,null,null,null,null,null,462,"Sadly","sadly","दुखी होकर",null,"दुखी होकर","Sadly"]
[null,null,null,null,null,null,null,null,null,null,null,463,"Rode","rode","सवारी करना",null,"सवारी करना","Rode"]
[null,null,null,null,null,null,null,null,null,null,null,464,"Gaily","gaily","प्रसन्नता",null,"प्रसन्नता","Gaily",null,null,null,null,"SPICES"]
[null,null,null,null,null,null,null,null,null,null,null,465,"Wednesday","Wednesday","बुधवार","DAYS OF A WEEK ( सप्ताह के दिन )","बुधवार","Wednesday",null,null,null,null,"DAYS OF A WEEK"]
[null,null,null,null,null,null,null,null,null,null,null,466,"Desire","desire","इच्छा",null,"इच्छा","Desire",null,null,null,null,"FOODS"]
[null,null,null,null,null,null,null,null,null,null,null,467,"Gaze","gaze","एकटक दृष्टि",null,"एकटक दृष्टि","Gaze"]
[null,null,null,null,null,null,null,null,null,null,null,468,"Cautionary","cautionary","चेतावनी",null,"चेतावनी","Cautionary"]
[null,null,null,null,null,null,null,null,null,null,null,469,"Architecture","architecture","सरंचना",null,"सरंचना","Architecture"]
[null,null,null,null,null,null,null,null,null,null,null,470,"Search","SEARCH","ढूढना",null,"ढूढना","Search"]
[null,null,null,null,null,null,null,null,null,null,null,471,"Seen","SEEN","देखा",null,"देखा","Seen"]
[null,null,null,null,null,null,null,null,null,null,null,472,"Sweatmeat","sweatmeat","मिठाई",null,"मिठाई","Sweatmeat"]
[null,null,null,null,null,null,null,null,null,null,null,473,"Greedy","greedy","लालची",null,"लालची","Greedy",null,null,null,null,"MONTHS OF A YEARS"]
[null,null,null,null,null,null,null,null,null,null,null,474,"Settle","settle","बसना",null,"बसना","Settle"]
[null,null,null,null,null,null,null,null,null,null,null,475,"Grove","grove","वृक्ष कुञ्ज",null,"वृक्ष कुञ्ज","Grove"]
[null,null,null,null,null,null,null,null,null,null,null,476,"Sheep","SHEEP","भेड़",null,"भेड़","Sheep",null,null,null,null,"ANIMALS"]
[null,null,null,null,null,null,null,null,null,null,null,477,"Snake Charmer","snake charmer","सपेरा",null,"सपेरा","Snake Charmer"]
[null,null,null,null,null,null,null,null,null,null,null,478,"Rage","rage","क्रोध",null,"क्रोध","Rage"]
[null,null,null,null,null,null,null,null,null,null,null,479,"Jerk","jerk","झटका",null,"झटका","Jerk"]
[null,null,null,null,null,null,null,null,null,null,null,480,"Heavy","heavy","भारी",null,"भारी","Heavy"]
[null,null,null,null,null,null,null,null,null,null,null,481,"Shoulder","SHOULDER","कन्धा",null,"कन्धा","Shoulder"]
[null,null,null,null,null,null,null,null,null,null,null,482,"Sieve","SIEVE","छलनी",null,"छलनी","Sieve"]
[null,null,null,null,null,null,null,null,null,null,null,483,"Sister","SISTER","बहिन","RELATIONS AND RELATIVES ( सम्बन्ध और सम्बन्धी )","बहिन","Sister",null,null,null,null,"RELATIONS AND RELATIVES"]
[null,null,null,null,null,null,null,null,null,null,null,484,"Sister In Law","SISTER IN LAW","साली,भाभी","RELATIONS AND RELATIVES ( सम्बन्ध और सम्बन्धी )","साली,भाभी","Sister In Law",null,null,null,null,"RELATIONS AND RELATIVES"]
[null,null,null,null,null,null,null,null,null,null,null,485,"Strain","strain","दबाव",null,"दबाव","Strain"]
[null,null,null,null,null,null,null,null,null,null,null,486,"Adventure","adventure","कारनामा",null,"कारनामा","Adventure"]
[null,null,null,null,null,null,null,null,null,null,null,487,"Smile","smile","मुस्कारना",null,"मुस्कारना","Smile"]
[null,null,null,null,null,null,null,null,null,null,null,488,"Smoke","smoke","धुंआ",null,"धुंआ","Smoke"]
[null,null,null,null,null,null,null,null,null,null,null,489,"Snatched","snatched","छीनलिया",null,"छीनलिया","Snatched"]
[null,null,null,null,null,null,null,null,null,null,null,490,"Sneezing","sneezing","छिकना",null,"छिकना","Sneezing"]
[null,null,null,null,null,null,null,null,null,null,null,491,"Pretty","pretty","सुंदर",null,"सुंदर","Pretty"]
[null,null,null,null,null,null,null,null,null,null,null,492,"Social","social","सामाजिक",null,"सामाजिक","Social"]
[null,null,null,null,null,null,null,null,null,null,null,493,"Sock","SOCK","मोज़े",null,"मोज़े","Sock"]
[null,null,null,null,null,null,null,null,null,null,null,494,"Soil","soil","मृदा",null,"मृदा","Soil"]
[null,null,null,null,null,null,null,null,null,null,null,495,"Son","SON","बेटा","RELATIONS AND RELATIVES ( सम्बन्ध और सम्बन्धी )","बेटा","Son",null,null,null,null,"RELATIONS AND RELATIVES"]
[null,null,null,null,null,null,null,null,null,null,null,496,"Son In Law","SON IN LAW","दामाद","RELATIONS AND RELATIVES ( सम्बन्ध और सम्बन्धी )","दामाद","Son In Law",null,null,null,null,"RELATIONS AND RELATIVES"]
[null,null,null,null,null,null,null,null,null,null,null,497,"Sort","SORT","तरह",null,"तरह","Sort"]
[null,null,null,null,null,null,null,null,null,null,null,498,"Sparrow","SPARROW","चिड़िया","BIRDS  ( पक्षियों के नाम  )","चिड़िया","Sparrow",null,null,null,null,"BIRDS"]
[null,null,null,null,null,null,null,null,null,null,null,499,"Slap","slap","थप्पड़",null,"थप्पड़","Slap"]
[null,null,null,null,null,null,null,null,null,null,null,500,"Spritual","spritual","आध्यात्मिक",null,"आध्यात्मिक","Spritual"]
[null,null,null,null,null,null,null,null,null,null,null,501,"Onlooker","onlooker","तमाशबीन",null,"तमाशबीन","Onlooker",null,null,null,null,"worms and insect"]
[null,null,null,null,null,null,null,null,null,null,null,502,"Occasionally","occasionally","कभी कभी",null,"कभी कभी","Occasionally"]
[null,null,null,null,null,null,null,null,null,null,null,503,"Adjust","adjust","समायोजन",null,"समायोजन","Adjust"]
[null,null,null,null,null,null,null,null,null,null,null,504,"Muttering","muttering","बुदबुदाते हुए",null,"बुदबुदाते हुए","Muttering",null,null,null,null,"RELATIONS AND RELATIVES"]
[null,null,null,null,null,null,null,null,null,null,null,505,"Step Son","STEP SON","सोतेला बेटा","RELATIONS AND RELATIVES ( सम्बन्ध और सम्बन्धी )","सोतेला बेटा","Step Son",null,null,null,null,"RELATIONS AND RELATIVES"]
[null,null,null,null,null,null,null,null,null,null,null,506,"Capacity","capacity","क्षमता",null,"क्षमता","Capacity"]
[null,null,null,null,null,null,null,null,null,null,null,507,"Stomach","STOMACH","पेट","PARTS OF BODY ( शरीर के अंग )","पेट","Stomach",null,null,null,null,"PARTS OF BODY"]
[null,null,null,null,null,null,null,null,null,null,null,508,"Strange","strange","विचित्र",null,"विचित्र","Strange"]
[null,null,null,null,null,null,null,null,null,null,null,509,"Gesture","gesture","हावभाव",null,"हावभाव","Gesture"]
[null,null,null,null,null,null,null,null,null,null,null,510,"Enormous","enormous","विशाल",null,"विशाल","Enormous"]
[null,null,null,null,null,null,null,null,null,null,null,511,"Prologue","prologue","प्रस्तावना",null,"प्रस्तावना","Prologue"]
[null,null,null,null,null,null,null,null,null,null,null,512,"Substitude","substitude","विकल्प",null,"विकल्प","Substitude"]
[null,null,null,null,null,null,null,null,null,null,null,513,"Succeed","succeed","सफल",null,{"$f":"O541","v":"सफल"},"Succeed"]
[null,null,null,null,null,null,null,null,null,null,null,514,{"$f":"PROPER(N542)","v":"Suffer"},"suffer","पीड़ित होना",null,"पीड़ित होना",{"$f":"PROPER(N542)","v":"Suffer"}]
[null,null,null,null,null,null,null,null,null,null,null,515,"Crazy","crazy","पागल",null,"पागल","Crazy"]
[null,null,null,null,null,null,null,null,null,null,null,516,"Talkative","talkative","वाचाल",null,"वाचाल","Talkative"]
[null,null,null,null,null,null,null,null,null,null,null,517,"Thursday","Thursday","गुरुवार","DAYS OF A WEEK ( सप्ताह के दिन )","गुरुवार","Thursday",null,null,null,null,"DAYS OF A WEEK"]
[null,null,null,null,null,null,null,null,null,null,null,518,"Digestive","digestive","पाचन",null,"पाचन","Digestive"]
[null,null,null,null,null,null,null,null,null,null,null,519,"Figment","figment","मनागढ़ात बात",null,"मनागढ़ात बात","Figment"]
[null,null,null,null,null,null,null,null,null,null,null,520,"Surprised","surprised","चकित हुए",null,"चकित हुए","Surprised"]
[null,null,null,null,null,null,null,null,null,null,null,521,"Surroundings","surroundings","आसपास",null,"आसपास","Surroundings"]
[null,null,null,null,null,null,null,null,null,null,null,522,"Swan","SWAN","हंस","BIRDS  ( पक्षियों के नाम  )","हंस","Swan",null,null,null,null,"BIRDS"]
[null,null,null,null,null,null,null,null,null,null,null,523,"Skelton","skelton","कंकाल",null,"कंकाल","Skelton",null,null,null,null,"VEGETABLES"]
[null,null,null,null,null,null,null,null,null,null,null,524,"Sweet Potato","SWEET POTATO","शकरकंद","VEGETABLES ( सब्जियां )","शकरकंद","Sweet Potato",null,null,null,null,"VEGETABLES"]
[null,null,null,null,null,null,null,null,null,null,null,525,"Switch","switch","स्विच",null,"स्विच","Switch"]
[null,null,null,null,null,null,null,null,null,null,null,526,"Cheerful","cheerful","प्रसन्न",null,"प्रसन्न","Cheerful",null,null,null,null,"SCHOOLS"]
[null,null,null,null,null,null,null,null,null,null,null,527,"Tadpole","TADPOLE","मेढ़क का बच्चा",null,"मेढ़क का बच्चा","Tadpole"]
[null,null,null,null,null,null,null,null,null,null,null,528,"Admire","admire","प्रसंसा करना",null,"प्रसंसा करना","Admire"]
[null,null,null,null,null,null,null,null,null,null,null,529,"Take Care","take care","देखभाल करना",null,"देखभाल करना","Take Care"]
[null,null,null,null,null,null,null,null,null,null,null,530,"Fool","fool","मुर्ख",null,"मुर्ख","Fool",null,null,null,null,"FOODS"]
[null,null,null,null,null,null,null,null,null,null,null,531,"Astonishment","astonishment","विष्मय",null,"विष्मय","Astonishment"]
[null,null,null,null,null,null,null,null,null,null,null,532,"Sacred","sacred","पवित्र",null,"पवित्र","Sacred"]
[null,null,null,null,null,null,null,null,null,null,null,533,"Guilty","guilty","दोषी",null,"दोषी","Guilty",null,null,null,null,"SCHOOLS"]
[null,null,null,null,null,null,null,null,null,null,null,534,"Bricklayer","bricklayer","मिस्त्री",null,"मिस्त्री","Bricklayer",null,null,null,null,"SCHOOLS"]
[null,null,null,null,null,null,null,null,null,null,null,535,"Innocent","innocent","निर्दोष",null,"निर्दोष","Innocent"]
[null,null,null,null,null,null,null,null,null,null,null,536,"Television","TELEVISION","दूरदर्शन",null,"दूरदर्शन","Television"]
[null,null,null,null,null,null,null,null,null,null,null,537,"Messenger","messenger","सन्देशवाहक",null,"सन्देशवाहक","Messenger"]
[null,null,null,null,null,null,null,null,null,null,null,538,"Impatient","impatient","बैचेन",null,"बैचेन","Impatient",null,null,null,null,"PARTS OF BODY"]
[null,null,null,null,null,null,null,null,null,null,null,539,"Tenant","tenant","किरायेदार",null,"किरायेदार","Tenant"]
[null,null,null,null,null,null,null,null,null,null,null,540,"Tension","tension","खिंचाव, तनाव",null,"खिंचाव, तनाव","Tension"]
[null,null,null,null,null,null,null,null,null,null,null,541,"Culprit","culprit","दोषी",null,"दोषी","Culprit"]
[null,null,null,null,null,null,null,null,null,null,null,542,"The","THE","वह",null,"वह","The"]
[null,null,null,null,null,null,null,null,null,null,null,543,"Accusation","accusation","आरोप",null,"आरोप","Accusation"]
[null,null,null,null,null,null,null,null,null,null,null,544,"Decree","decree","शासनादेश",null,"शासनादेश","Decree"]
[null,null,null,null,null,null,null,null,null,null,null,545,"They","THEY","वे",null,"वे","They"]
[null,null,null,null,null,null,null,null,null,null,null,546,"Thick","thick","घना",null,"घना","Thick"]
[null,null,null,null,null,null,null,null,null,null,null,547,"Thigh","THIGH","जांघ","PARTS OF BODY ( शरीर के अंग )","जांघ","Thigh",null,null,null,null,"PARTS OF BODY"]
[null,null,null,null,null,null,null,null,null,null,null,548,"Whisper","whisper","फुसफुसाया",null,"फुसफुसाया","Whisper"]
[null,null,null,null,null,null,null,null,null,null,null,549,"Clamour","clamour","शोर शराबा",null,"शोर शराबा","Clamour"]
[null,null,null,null,null,null,null,null,null,null,null,550,"Thought","thought","विचार",null,"विचार","Thought"]
[null,null,null,null,null,null,null,null,null,null,null,551,"Thread","THREAD","धागा",null,"धागा","Thread"]
[null,null,null,null,null,null,null,null,null,null,null,552,"Threw","threw","फेंक दिया",null,"फेंक दिया","Threw"]
[null,null,null,null,null,null,null,null,null,null,null,553,"Persuade","persuade","मनाया",null,"मनाया","Persuade"]
[null,null,null,null,null,null,null,null,null,null,null,554,"Thumb","THUMB","अंगूठा","PARTS OF BODY ( शरीर के अंग )","अंगूठा","Thumb",null,null,null,null,"PARTS OF BODY"]
[null,null,null,null,null,null,null,null,null,null,null,555,"Friday","FRIDAY","शुक्रवार","DAYS OF A WEEK ( सप्ताह के दिन )","शुक्रवार","Friday",null,null,null,null,"DAYS OF A WEEK"]
[null,null,null,null,null,null,null,null,null,null,null,556,"Tiger","TIGER","चीता","ANIMALS ( पशु )","चीता","Tiger",null,null,null,null,"ANIMALS"]
[null,null,null,null,null,null,null,null,null,null,null,557,"To Hold","to hold","थामने के लिए",null,"थामने के लिए","To Hold"]
[null,null,null,null,null,null,null,null,null,null,null,558,"Tobacco","tobacco","तम्बाकू",null,"तम्बाकू","Tobacco"]
[null,null,null,null,null,null,null,null,null,null,null,559,"Solemn","solemn","गंभीर",null,"गंभीर","Solemn"]
[null,null,null,null,null,null,null,null,null,null,null,560,"Toilet","toilet","शौचालय",null,"शौचालय","Toilet"]
[null,null,null,null,null,null,null,null,null,null,null,561,"Tomato","TOMATO","टमाटर","VEGETABLES ( सब्जियां )","टमाटर","Tomato",null,null,null,null,"VEGETABLES"]
[null,null,null,null,null,null,null,null,null,null,null,562,"Tong","TONG","चिमटा",null,"चिमटा","Tong"]
[null,null,null,null,null,null,null,null,null,null,null,563,"Tongue","TONGUE","जीभ","PARTS OF BODY ( शरीर के अंग )","जीभ","Tongue",null,null,null,null,"PARTS OF BODY"]
[null,null,null,null,null,null,null,null,null,null,null,564,"Took","took","लिया",null,"लिया","Took"]
[null,null,null,null,null,null,null,null,null,null,null,565,"Postponed","postponed","स्थगित करना",null,"स्थगित करना","Postponed",null,null,null,null,"PARTS OF BODY"]
[null,null,null,null,null,null,null,null,null,null,null,566,"Touch","touch","स्पर्श,छूना",null,"स्पर्श,छूना","Touch"]
[null,null,null,null,null,null,null,null,null,null,null,567,"Towards","towards","की तरफ",null,"की तरफ","Towards"]
[null,null,null,null,null,null,null,null,null,null,null,568,"Towl","TOWL","तोलिया",null,"तोलिया","Towl"]
[null,null,null,null,null,null,null,null,null,null,null,569,"Statue","statue","स्तम्भ",null,"स्तम्भ","Statue"]
[null,null,null,null,null,null,null,null,null,null,null,570,"Trap","trap","ग्रहण करना",null,"ग्रहण करना","Trap"]
[null,null,null,null,null,null,null,null,null,null,null,571,"Trouser","TROUSER","पजामा",null,"पजामा","Trouser"]
[null,null,null,null,null,null,null,null,null,null,null,572,"Truth","TRUTH","सही",null,"सही","Truth"]
[null,null,null,null,null,null,null,null,null,null,null,573,"Tub","TUB","टैब",null,"टैब","Tub"]
[null,null,null,null,null,null,null,null,null,null,null,574,"Saturday","SATURDAY","शनिवार","DAYS OF A WEEK ( सप्ताह के दिन )","शनिवार","Saturday",null,null,null,null,"DAYS OF A WEEK"]
[null,null,null,null,null,null,null,null,null,null,null,575,"Turnip","TURNIP","शलजम","VEGETABLES ( सब्जियां )","शलजम","Turnip",null,null,null,null,"VEGETABLES"]
[null,null,null,null,null,null,null,null,null,null,null,576,"Types","types","प्रकार",null,"प्रकार","Types"]
[null,null,null,null,null,null,null,null,null,null,null,577,"Curious","curious","विचित्र",null,{"$f":"O605","v":"विचित्र"},"Curious",null,null,null,null,"RELATIONS AND RELATIVES"]
[null,null,null,null,null,null,null,null,null,null,null,578,{"$f":"PROPER(N606)","v":"Underground"},"underground","भूमिगत",null,"भूमिगत",{"$f":"PROPER(N606)","v":"Underground"}]
[null,null,null,null,null,null,null,null,null,null,null,579,"Uniformity","uniformity","एकरूपता",null,"एकरूपता","Uniformity"]
[null,null,null,null,null,null,null,null,null,null,null,580,"Unless","unless","जब तक",null,"जब तक","Unless"]
[null,null,null,null,null,null,null,null,null,null,null,581,"Determiner","determiner","दृढ निश्चयी",null,"दृढ निश्चयी","Determiner"]
[null,null,null,null,null,null,null,null,null,null,null,582,"Use","USE","उपयोग",null,"उपयोग","Use"]
[null,null,null,null,null,null,null,null,null,null,null,583,"Useful","USEFUL","उपयोगी",null,"उपयोगी","Useful"]
[null,null,null,null,null,null,null,null,null,null,null,584,"Usual","usual"," सामान्य",null," सामान्य","Usual"]
[null,null,null,null,null,null,null,null,null,null,null,585,"Uterus","uterus","गर्भाशय","RELATIONS AND RELATIVES ( सम्बन्ध और सम्बन्धी )","गर्भाशय","Uterus",null,null,null,null,"RELATIONS AND RELATIVES"]
[null,null,null,null,null,null,null,null,null,null,null,586,"Vagina","vagina","योनी","RELATIONS AND RELATIVES ( सम्बन्ध और सम्बन्धी )","योनी","Vagina",null,null,null,null,"RELATIONS AND RELATIVES"]
[null,null,null,null,null,null,null,null,null,null,null,587,"Vase","VASE","फूलदान",null,"फूलदान","Vase"]
[null,null,null,null,null,null,null,null,null,null,null,588,"Vegetable","VEGETABLE","सब्जी","VEGETABLES ( सब्जियां )","सब्जी","Vegetable",null,null,null,null,"VEGETABLES"]
[null,null,null,null,null,null,null,null,null,null,null,589,"Pedestal","pedestal","स्तम्भ",null,"स्तम्भ","Pedestal"]
[null,null,null,null,null,null,null,null,null,null,null,590,"Crisp","crisp","खुश्क",null,"खुश्क","Crisp"]
[null,null,null,null,null,null,null,null,null,null,null,591,"Vest","VEST","बनियान",null,"बनियान","Vest"]
[null,null,null,null,null,null,null,null,null,null,null,592,"Vowel","VOWEL","स्वर",null,"स्वर","Vowel"]
[null,null,null,null,null,null,null,null,null,null,null,593,"Vulture","VULTURE","गिद्ध","BIRDS  ( पक्षियों के नाम  )","गिद्ध","Vulture",null,null,null,null,"BIRDS"]
[null,null,null,null,null,null,null,null,null,null,null,594,"Waist","WAIST","छाती","PARTS OF BODY ( शरीर के अंग )","छाती","Waist",null,null,null,null,"PARTS OF BODY"]
[null,null,null,null,null,null,null,null,null,null,null,595,"Wash","wash","धोना",null,"धोना","Wash"]
[null,null,null,null,null,null,null,null,null,null,null,596,"Crack","crack","दरार",null,"दरार","Crack"]
[null,null,null,null,null,null,null,null,null,null,null,597,"Water Melon","WATER MELON","तरबूज","FRUITS ( फलों के नाम )","तरबूज","Water Melon",null,null,null,null,"FRUITS"]
[null,null,null,null,null,null,null,null,null,null,null,598,"Sunday","Sunday","रविवार","DAYS OF A WEEK ( सप्ताह के दिन )","रविवार","Sunday",null,null,null,null,"DAYS OF A WEEK"]
[null,null,null,null,null,null,null,null,null,null,null,599,"Well Being","well being","खुशहाली",null,"खुशहाली","Well Being"]
[null,null,null,null,null,null,null,null,null,null,null,600," What "," WHAT ","क्या","QUESTIONS WORDS  ( प्रश्न वाचक शब्द )","क्या"," What ",null,null,null,null,"QUESTION WORD"]
[null,null,null,null,null,null,null,null,null,null,null,601,"Wheat","WHEAT","गेहूं",null,"गेहूं","Wheat"]
[null,null,null,null,null,null,null,null,null,null,null,602,"Surge","surge","उफान",null,"उफान","Surge"]
[null,null,null,null,null,null,null,null,null,null,null,603,"Whether","WHEther","मोसम",null,"मोसम","Whether"]
[null,null,null,null,null,null,null,null,null,null,null,604,"Whole","whole","पूरा",null,"पूरा","Whole"]
[null,null,null,null,null,null,null,null,null,null,null,605," Whom"," WHOM","किसका","QUESTIONS WORDS  ( प्रश्न वाचक शब्द )","किसका"," Whom",null,null,null,null,"QUESTION WORD"]
[null,null,null,null,null,null,null,null,null,null,null,606," Whose"," WHOSE","किसका","QUESTIONS WORDS  ( प्रश्न वाचक शब्द )","किसका"," Whose",null,null,null,null,"QUESTION WORD"]
[null,null,null,null,null,null,null,null,null,null,null,607," Why"," WHY","क्यों","QUESTIONS WORDS  ( प्रश्न वाचक शब्द )","क्यों"," Why",null,null,null,null,"QUESTION WORD"]
[null,null,null,null,null,null,null,null,null,null,null,608,"Dreadful","dreadful","भयानक",null,"भयानक","Dreadful"]
[null,null,null,null,null,null,null,null,null,null,null,609,"Corpses","corpses","लाशे",null,"लाशे","Corpses",null,null,null,null,"RELATIONS AND RELATIVES"]
[null,null,null,null,null,null,null,null,null,null,null,610,"Windmill","windmill","पवन चक्की",null,"पवन चक्की","Windmill"]
[null,null,null,null,null,null,null,null,null,null,null,611,"Refuge","refuge","शरण",null,"शरण","Refuge"]
[null,null,null,null,null,null,null,null,null,null,null,612,"Wine","wine","शराब",null,"शराब","Wine"]
[null,null,null,null,null,null,null,null,null,null,null,613,"Wolf","WOLF","भेड़िया","ANIMALS ( पशु )","भेड़िया","Wolf",null,null,null,null,"ANIMALS"]
[null,null,null,null,null,null,null,null,null,null,null,614,"Woman","WOMAN","औरत",null,"औरत","Woman"]
[null,null,null,null,null,null,null,null,null,null,null,615,"Womb","womb","गर्भ","PARTS OF BODY ( शरीर के अंग )","गर्भ","Womb",null,null,null,null,"PARTS OF BODY"]
[null,null,null,null,null,null,null,null,null,null,null,616,"Wool","wool","उन",null,"उन","Wool"]
[null,null,null,null,null,null,null,null,null,null,null,617,"Fury","fury","प्रचंड क्रोध",null,"प्रचंड क्रोध","Fury"]
[null,null,null,null,null,null,null,null,null,null,null,618,"Worry","worry","चिंता",null,"चिंता","Worry"]
[null,null,null,null,null,null,null,null,null,null,null,619,"Worth","worth","कीमत,मूल्य",null,"कीमत,मूल्य","Worth"]
[null,null,null,null,null,null,null,null,null,null,null,620,"Motley","motley","रँग-बिरंगी",null,"रँग-बिरंगी","Motley",null,null,null,null,"PARTS OF BODY"]
[null,null,null,null,null,null,null,null,null,null,null,621,"Macabre","macabre","भयावह",null,"भयावह","Macabre",null,null,null,null,"PARTS OF BODY"]
[null,null,null,null,null,null,null,null,null,null,null,622,"Remnants","remnants","अवशेष",null,"अवशेष","Remnants"]
[null,null,null,null,null,null,null,null,null,null,null,623,"Mobilised","mobilised","गतिमान किया",null,"गतिमान किया","Mobilised"]
[null,null,null,null,null,null,null,null,null,null,null,624,"Initial","initial","प्रारम्भिक",null,"प्रारम्भिक","Initial"]
[null,null,null,null,null,null,null,null,null,null,null,625,"Yours","yours","आपका",null,"आपका","Yours"]
[null,null,null,null,null,null,null,null,null,null,null,626,"Communicate","communicate","सन्देश भेजना",null,"सन्देश भेजना","Communicate"]
[null,null,null,null,null,null,null,null,null,null,null,627,"Zebra","zebra","जंगली गधा","ANIMALS ( पशु )","जंगली गधा","Zebra",null,null,null,null,"ANIMALS"]
[null,null,null,null,null,null,null,null,null,null,null,628,"Zoo","zoo","चिड़ियाघर",null,"चिड़ियाघर","Zoo"]
[null,null,null,null,null,null,null,null,null,null,null,629,"False",false,"गलत",null,"गलत","False"]
[null,null,null,null,null,null,null,null,null,null,null,630,"True",true,"सत्य",null,"सत्य","True"]
[null,null,null,null,null,null,null,null,null,null,null,631,"Finish","finish","खत्म करना",null,"खत्म करना","Finish"]
[null,null,null,null,null,null,null,null,null,null,null,632,"Finality","finality","अंतिम रूप से",null,"अंतिम रूप से","Finality"]
[null,null,null,null,null,null,null,null,null,null,null,633,"Recover","recover","ठीक होना",null,"ठीक होना","Recover"]
[null,null,null,null,null,null,null,null,null,null,null,634,"Masterpiece","masterpiece","अनुपमकृति",null,"अनुपमकृति","Masterpiece",null,null,null,null,"SPICES"]
[null,null,null,null,null,null,null,null,null,null,null,635,"Flutter","flutter","फदफदाना",null,"फदफदाना","Flutter",null,null,null,null,"FOODS"]
[null,null,null,null,null,null,null,null,null,null,null,636,"Energytically","energytically","फुर्तिवान",null,"फुर्तिवान","Energytically",null,null,null,null,"SCHOOLS"]
[null,null,null,null,null,null,null,null,null,null,null,637,"Tow","tow","खीच करलाना",null,"खीच करलाना","Tow",null,null,null,null,"occupation or profession"]
[null,null,null,null,null,null,null,null,null,null,null,638,"Swatting","swatting","जोर से मारना",null,"जोर से मारना","Swatting"]
[null,null,null,null,null,null,null,null,null,null,null,639,"Encourage","encourage","प्रोत्साहन देना",null,"प्रोत्साहन देना","Encourage",null,null,null,null,"FRUITS"]
[null,null,null,null,null,null,null,null,null,null,null,640,"Fallday","fallday","पतझड़ के दिन",null,"पतझड़ के दिन","Fallday",null,null,null,null,"SPICES"]
[null,null,null,null,null,null,null,null,null,null,null,641,"Diminish","diminish","धीरे-धीरे कम होना",null,{"$f":"O669","v":"धीरे-धीरे कम होना"},"Diminish",null,null,null,null,"SPICES"]
[null,null,null,null,null,null,null,null,null,null,null,642,{"$f":"PROPER(N670)","v":"Surreal"},"surreal","अजीब",null,"अजीब",{"$f":"PROPER(N670)","v":"Surreal"},null,null,null,null,"SPICES"]
[null,null,null,null,null,null,null,null,null,null,null,643,"Basil","basil","तुलसी",null,"तुलसी","Basil"]
[null,null,null,null,null,null,null,null,null,null,null,644,"Rescue","rescue","बचाना",null,"बचाना","Rescue",null,null,null,null,"SPICES"]
[null,null,null,null,null,null,null,null,null,null,null,645,"Cinnamon","cinnamon","दालचीनी","CORNS AND SPICES ( अन्न और मसाले )","दालचीनी","Cinnamon",null,null,null,null,"SPICES"]
[null,null,null,null,null,null,null,null,null,null,null,646,"Damage","damage","नुकसान",null,"नुकसान","Damage"]
[null,null,null,null,null,null,null,null,null,null,null,647,"Cardmom","cardmom","इलायची","CORNS AND SPICES ( अन्न और मसाले )","इलायची","Cardmom",null,null,null,null,"SPICES"]
[null,null,null,null,null,null,null,null,null,null,null,648,"Betel Nut","betel nut","सुपारी",null,"सुपारी","Betel Nut"]
[null,null,null,null,null,null,null,null,null,null,null,649,"Grieve","grieve","शौक मनाना",null,"शौक मनाना","Grieve"]
[null,null,null,null,null,null,null,null,null,null,null,650,"Realise","realise","महसूस करना",null,"महसूस करना","Realise"]
[null,null,null,null,null,null,null,null,null,null,null,651,"Curb","curb","किनार",null,"किनार","Curb"]
[null,null,null,null,null,null,null,null,null,null,null,652,"Casualty","casualty","नष्ट",null,"नष्ट","Casualty"]
[null,null,null,null,null,null,null,null,null,null,null,653,"Focusing","focusing","केन्द्रित",null,"केन्द्रित","Focusing"]
[null,null,null,null,null,null,null,null,null,null,null,654,"Overwhelming","overwhelming","अति प्रबल",null,"अति प्रबल","Overwhelming"]
[null,null,null,null,null,null,null,null,null,null,null,655,"Gratitude","gratitude","आभार",null,"आभार","Gratitude"]
[null,null,null,null,null,null,null,null,null,null,null,656,"Tambourine","tambourine","दफ",null,"दफ","Tambourine"]
[null,null,null,null,null,null,null,null,null,null,null,657,"Dumbstruck","dumbstruck","हक्का बक्का",null,"हक्का बक्का","Dumbstruck"]
[null,null,null,null,null,null,null,null,null,null,null,658,"Tomtom","tomtom","ढोलक",null,"ढोलक","Tomtom"]
[null,null,null,null,null,null,null,null,null,null,null,659,"Bugie","bugie","तुरही",null,"तुरही","Bugie"]
[null,null,null,null,null,null,null,null,null,null,null,660,"Cascade","cascade","झरना",null,"झरना","Cascade"]
[null,null,null,null,null,null,null,null,null,null,null,661,"Concourse","concourse","प्रांगन",null,"प्रांगन","Concourse"]
[null,null,null,null,null,null,null,null,null,null,null,662,"Crash","crash","धराशाही होना",null,"धराशाही होना","Crash"]
[null,null,null,null,null,null,null,null,null,null,null,663,"Perhaps","perhaps","शायद",null,"शायद","Perhaps"]
[null,null,null,null,null,null,null,null,null,null,null,664,"Whistle","whistle","सिटी",null,"सिटी","Whistle"]
[null,null,null,null,null,null,null,null,null,null,null,665,"Lavatory","lavatory","शौचालय",null,"शौचालय","Lavatory"]
[null,null,null,null,null,null,null,null,null,null,null,666,"News","news","समाचार",null,"समाचार","News"]
[null,null,null,null,null,null,null,null,null,null,null,667,"News Monger","news monger","अखबारवाला","OCCUPATIONS AND PROFESSION (व्यवसाय और पेशा )","अखबारवाला","News Monger",null,null,null,null,"OCCUPATIONS AND PROFESSION"]
[null,null,null,null,null,null,null,null,null,null,null,668,"Milkmaid","milkmaid","अहिरिन","OCCUPATIONS AND PROFESSION (व्यवसाय और पेशा )","अहिरिन","Milkmaid",null,null,null,null,"OCCUPATIONS AND PROFESSION"]
[null,null,null,null,null,null,null,null,null,null,null,669,"Milk Man","milk man","दूधवाला","OCCUPATIONS AND PROFESSION (व्यवसाय और पेशा )","दूधवाला","Milk Man",null,null,null,null,"OCCUPATIONS AND PROFESSION"]
[null,null,null,null,null,null,null,null,null,null,null,670,"Lavish","lavish","अत्यधिक",null,"अत्यधिक","Lavish",null,null,null,null,"OCCUPATIONS AND PROFESSION"]
[null,null,null,null,null,null,null,null,null,null,null,671,"Evident","evident","स्पष्ट",null,"स्पष्ट","Evident",null,null,null,null,"OCCUPATIONS AND PROFESSION"]
[null,null,null,null,null,null,null,null,null,null,null,672,"Artist","artist","कलाकार","OCCUPATIONS AND PROFESSION (व्यवसाय और पेशा )","कलाकार","Artist",null,null,null,null,"OCCUPATIONS AND PROFESSION"]
[null,null,null,null,null,null,null,null,null,null,null,673,"Trust","trust","विश्वास करना",null,"विश्वास करना","Trust",null,null,null,null,"OCCUPATIONS AND PROFESSION"]
[null,null,null,null,null,null,null,null,null,null,null,674,"Book Seller","book seller","पुस्तक विक्रेता","OCCUPATIONS AND PROFESSION (व्यवसाय और पेशा )","पुस्तक विक्रेता","Book Seller",null,null,null,null,"OCCUPATIONS AND PROFESSION"]
[null,null,null,null,null,null,null,null,null,null,null,675,"Suave","suave","शिष्ट",null,"शिष्ट","Suave",null,null,null,null,"OCCUPATIONS AND PROFESSION"]
[null,null,null,null,null,null,null,null,null,null,null,676,"Treasurer","treasurer","खंचाची",null,"खंचाची","Treasurer"]
[null,null,null,null,null,null,null,null,null,null,null,677,"Urbane","urbane","शिष्टता",null,"शिष्टता","Urbane",null,null,null,null,"OCCUPATIONS AND PROFESSION"]
[null,null,null,null,null,null,null,null,null,null,null,678,"Frequent","frequent","अक्सर",null,"अक्सर","Frequent",null,null,null,null,"OCCUPATIONS AND PROFESSION"]
[null,null,null,null,null,null,null,null,null,null,null,679,"Pity","pity","दया",null,"दया","Pity",null,null,null,null,"OCCUPATIONS AND PROFESSION"]
[null,null,null,null,null,null,null,null,null,null,null,680,"Swear","swear","कसम खाना",null,"कसम खाना","Swear"]
[null,null,null,null,null,null,null,null,null,null,null,681,"Magician","magician","जादूगर","OCCUPATIONS AND PROFESSION (व्यवसाय और पेशा )","जादूगर","Magician",null,null,null,null,"OCCUPATIONS AND PROFESSION"]
[null,null,null,null,null,null,null,null,null,null,null,682,"Intrigue","intrigue","षड़यंत्र",null,"षड़यंत्र","Intrigue",null,null,null,null,"OCCUPATIONS AND PROFESSION"]
[null,null,null,null,null,null,null,null,null,null,null,683,"Book Binder","book binder","जिल्दसाज","OCCUPATIONS AND PROFESSION (व्यवसाय और पेशा )","जिल्दसाज","Book Binder",null,null,null,null,"OCCUPATIONS AND PROFESSION"]
[null,null,null,null,null,null,null,null,null,null,null,684,"Gait","gait","चाल",null,"चाल","Gait"]
[null,null,null,null,null,null,null,null,null,null,null,685,"Circumtences","circumtences","परिस्थतिया",null,"परिस्थतिया","Circumtences",null,null,null,null,"OCCUPATIONS AND PROFESSION"]
[null,null,null,null,null,null,null,null,null,null,null,686,"Shoemaker","shoemaker","जूते बनाने वाला",null,"जूते बनाने वाला","Shoemaker"]
[null,null,null,null,null,null,null,null,null,null,null,687,"Braziar","braziar","ठठेरा","OCCUPATIONS AND PROFESSION (व्यवसाय और पेशा )","ठठेरा","Braziar",null,null,null,null,"OCCUPATIONS AND PROFESSION"]
[null,null,null,null,null,null,null,null,null,null,null,688,"Contrctor","contrctor","ठेकेदार","OCCUPATIONS AND PROFESSION (व्यवसाय और पेशा )","ठेकेदार","Contrctor",null,null,null,null,"OCCUPATIONS AND PROFESSION"]
[null,null,null,null,null,null,null,null,null,null,null,689,"Province","province","प्रान्त",null,"प्रान्त","Province",null,null,null,null,"OCCUPATIONS AND PROFESSION"]
[null,null,null,null,null,null,null,null,null,null,null,690,"Disguest","disguest","अरुचि",null,"अरुचि","Disguest",null,null,null,null,"OCCUPATIONS AND PROFESSION"]
[null,null,null,null,null,null,null,null,null,null,null,691,"Fiction","fiction","मनागढ़ात कहानी",null,"मनागढ़ात कहानी","Fiction",null,null,null,null,"OCCUPATIONS AND PROFESSION"]
[null,null,null,null,null,null,null,null,null,null,null,692,"Drummer","drummer","तबलची",null,"तबलची","Drummer"]
[null,null,null,null,null,null,null,null,null,null,null,693,"Pseudo","pseudo","नकली",null,"नकली","Pseudo",null,null,null,null,"OCCUPATIONS AND PROFESSION"]
[null,null,null,null,null,null,null,null,null,null,null,694,"Scold","scold","डाटना",null,"डाटना","Scold",null,null,null,null,"OCCUPATIONS AND PROFESSION"]
[null,null,null,null,null,null,null,null,null,null,null,695,"Inclination","inclination","मन का झुकाव",null,"मन का झुकाव","Inclination",null,null,null,null,"OCCUPATIONS AND PROFESSION"]
[null,null,null,null,null,null,null,null,null,null,null,696,"Chop","chop","काटना",null,"काटना","Chop"]
[null,null,null,null,null,null,null,null,null,null,null,697,"Swindling","swindling","ठगी",null,"ठगी","Swindling",null,null,null,null,"OCCUPATIONS AND PROFESSION"]
[null,null,null,null,null,null,null,null,null,null,null,698,"Watchman","watchman","पहरेदार",null,"पहरेदार","Watchman"]
[null,null,null,null,null,null,null,null,null,null,null,699,"Sober","sober","गंभीर",null,"गंभीर","Sober",null,null,null,null,"OCCUPATIONS AND PROFESSION"]
[null,null,null,null,null,null,null,null,null,null,null,700,"Pretence","pretence","बहाना",null,"बहाना","Pretence",null,null,null,null,"OCCUPATIONS AND PROFESSION"]
[null,null,null,null,null,null,null,null,null,null,null,701,"Sot","sot","शराबी","OCCUPATIONS AND PROFESSION (व्यवसाय और पेशा )","शराबी","Sot",null,null,null,null,"OCCUPATIONS AND PROFESSION"]
[null,null,null,null,null,null,null,null,null,null,null,702,"Ruin","ruin","सर्वनाश",null,"सर्वनाश","Ruin",null,null,null,null,"OCCUPATIONS AND PROFESSION"]
[null,null,null,null,null,null,null,null,null,null,null,703,"Butler","butler","भंडारी","OCCUPATIONS AND PROFESSION (व्यवसाय और पेशा )","भंडारी","Butler",null,null,null,null,"OCCUPATIONS AND PROFESSION"]
[null,null,null,null,null,null,null,null,null,null,null,704,"Begger","begger","भिकारी","OCCUPATIONS AND PROFESSION (व्यवसाय और पेशा )","भिकारी","Begger",null,null,null,null,"OCCUPATIONS AND PROFESSION"]
[null,null,null,null,null,null,null,null,null,null,null,705,"Repairer","repairer","मरम्मत करने वाला",null,{"$f":"O733","v":"मरम्मत करने वाला"},"Repairer"]
[null,null,null,null,null,null,null,null,null,null,null,706,{"$f":"PROPER(N734)","v":"Creature"},"creature","प्राणी",null,"प्राणी",{"$f":"PROPER(N734)","v":"Creature"},null,null,null,null,"OCCUPATIONS AND PROFESSION"]
[null,null,null,null,null,null,null,null,null,null,null,707,"Carry On","carry on","जारी रखना",null,"जारी रखना","Carry On",null,null,null,null,"OCCUPATIONS AND PROFESSION"]
[null,null,null,null,null,null,null,null,null,null,null,708,"Garndener","garndener","माली","OCCUPATIONS AND PROFESSION (व्यवसाय और पेशा )","माली","Garndener",null,null,null,null,"OCCUPATIONS AND PROFESSION"]
[null,null,null,null,null,null,null,null,null,null,null,709,"Enameller","enameller","मीनाकर","OCCUPATIONS AND PROFESSION (व्यवसाय और पेशा )","मीनाकर","Enameller",null,null,null,null,"OCCUPATIONS AND PROFESSION"]
[null,null,null,null,null,null,null,null,null,null,null,710,"Owing To","owing to","के कारण",null,"के कारण","Owing To"]
[null,null,null,null,null,null,null,null,null,null,null,711,"Handsome","handsome","सुंदर",null,"सुंदर","Handsome",null,null,null,null,"OCCUPATIONS AND PROFESSION"]
[null,null,null,null,null,null,null,null,null,null,null,712,"Sick","sick","बीमार",null,"बीमार","Sick"]
[null,null,null,null,null,null,null,null,null,null,null,713,"Hardly","hardly","मुस्किल से",null,"मुस्किल से","Hardly"]
[null,null,null,null,null,null,null,null,null,null,null,714,"Deny","deny","मना करना",null,"मना करना","Deny"]
[null,null,null,null,null,null,null,null,null,null,null,715,"Cabbler","cabbler","मोची","OCCUPATIONS AND PROFESSION (व्यवसाय और पेशा )","मोची","Cabbler",null,null,null,null,"OCCUPATIONS AND PROFESSION"]
[null,null,null,null,null,null,null,null,null,null,null,716,"Politian","politian","राजनेता","OCCUPATIONS AND PROFESSION (व्यवसाय और पेशा )","राजनेता","Politian",null,null,null,null,"OCCUPATIONS AND PROFESSION"]
[null,null,null,null,null,null,null,null,null,null,null,717,"Tinman","tinman","कलाई करने वाला","OCCUPATIONS AND PROFESSION (व्यवसाय और पेशा )","कलाई करने वाला","Tinman",null,null,null,null,"OCCUPATIONS AND PROFESSION"]
[null,null,null,null,null,null,null,null,null,null,null,718,"Dyer","dyer","रंगरेज","OCCUPATIONS AND PROFESSION (व्यवसाय और पेशा )","रंगरेज","Dyer",null,null,null,null,"OCCUPATIONS AND PROFESSION"]
[null,null,null,null,null,null,null,null,null,null,null,719,"Florist","florist","फूल बेचने वाला","OCCUPATIONS AND PROFESSION (व्यवसाय और पेशा )","फूल बेचने वाला","Florist"]
[null,null,null,null,null,null,null,null,null,null,null,720,"Gatekeeper","gatekeeper","दरबान","OCCUPATIONS AND PROFESSION (व्यवसाय और पेशा )","दरबान","Gatekeeper",null,null,null,null,"OCCUPATIONS AND PROFESSION"]
[null,null,null,null,null,null,null,null,null,null,null,721,"Landlord","landlord","जागीरदार","OCCUPATIONS AND PROFESSION (व्यवसाय और पेशा )","जागीरदार","Landlord",null,null,null,null,"OCCUPATIONS AND PROFESSION"]
[null,null,null,null,null,null,null,null,null,null,null,722,"Pedler","pedler","फेरीवाला","OCCUPATIONS AND PROFESSION (व्यवसाय और पेशा )","फेरीवाला","Pedler",null,null,null,null,"occupation or profession"]
[null,null,null,null,null,null,null,null,null,null,null,723,"Procurer","procurer","दलाल","OCCUPATIONS AND PROFESSION (व्यवसाय और पेशा )","दलाल","Procurer",null,null,null,null,"OCCUPATIONS AND PROFESSION"]
[null,null,null,null,null,null,null,null,null,null,null,724,"Quake","quake","नीमहकीम","OCCUPATIONS AND PROFESSION (व्यवसाय और पेशा )","नीमहकीम","Quake",null,null,null,null,"OCCUPATIONS AND PROFESSION"]
[null,null,null,null,null,null,null,null,null,null,null,725,"Sheperd","sheperd","गडरिया","OCCUPATIONS AND PROFESSION (व्यवसाय और पेशा )","गडरिया","Sheperd"]
[null,null,null,null,null,null,null,null,null,null,null,726,"Photographer","photographer","फोटोग्राफर","OCCUPATIONS AND PROFESSION (व्यवसाय और पेशा )","फोटोग्राफर","Photographer",null,null,null,null,"OCCUPATIONS AND PROFESSION"]
[null,null,null,null,null,null,null,null,null,null,null,727,"Retailor","retailor","खुदरा व्यापारी","OCCUPATIONS AND PROFESSION (व्यवसाय और पेशा )","खुदरा व्यापारी","Retailor",null,null,null,null,"OCCUPATIONS AND PROFESSION"]
[null,null,null,null,null,null,null,null,null,null,null,728,"Darner","darner","रफ्फुगर","OCCUPATIONS AND PROFESSION (व्यवसाय और पेशा )","रफ्फुगर","Darner",null,null,null,null,"OCCUPATIONS AND PROFESSION"]
[null,null,null,null,null,null,null,null,null,null,null,729,"Artisian","artisian","कारीगर","OCCUPATIONS AND PROFESSION (व्यवसाय और पेशा )","कारीगर","Artisian"]
[null,null,null,null,null,null,null,null,null,null,null,730,"Bankrupt","bankrupt","दिवालिया","OCCUPATIONS AND PROFESSION (व्यवसाय और पेशा )","दिवालिया","Bankrupt",null,null,null,null,"worms and insect"]
[null,null,null,null,null,null,null,null,null,null,null,731,"Wide","wide","विस्तृत",null,"विस्तृत","Wide"]
[null,null,null,null,null,null,null,null,null,null,null,732,"Toss","toss","उछालना",null,"उछालना","Toss"]
[null,null,null,null,null,null,null,null,null,null,null,733,"Clocasia","clocasia","कचालू","VEGETABLES ( सब्जियां )","कचालू","Clocasia"]
[null,null,null,null,null,null,null,null,null,null,null,734,"Fenugreek","fenugreek","मैथी","VEGETABLES ( सब्जियां )","मैथी","Fenugreek"]
[null,null,null,null,null,null,null,null,null,null,null,735,"Gourd","gourd","कद्दू,घीया","VEGETABLES ( सब्जियां )","कद्दू,घीया","Gourd"]
[null,null,null,null,null,null,null,null,null,null,null,736,"Noisy","noisy","शोरगुल से भरा",null,"शोरगुल से भरा","Noisy"]
[null,null,null,null,null,null,null,null,null,null,null,737,"Spinch","spinch","पालक","VEGETABLES ( सब्जियां )","पालक","Spinch"]
[null,null,null,null,null,null,null,null,null,null,null,738,"Luffa","luffa","घीया तोरि","VEGETABLES ( सब्जियां )","घीया तोरि","Luffa"]
[null,null,null,null,null,null,null,null,null,null,null,739,"Jack Fruit","jack fruit","कटहल","VEGETABLES ( सब्जियां )","कटहल","Jack Fruit",null,null,null,null,"WORMS AND INSECTS"]
[null,null,null,null,null,null,null,null,null,null,null,740,"Bunny","bunny","खरगोश","ANIMALS ( पशु )","खरगोश","Bunny",null,null,null,null,"ANIMALS"]
[null,null,null,null,null,null,null,null,null,null,null,741,"Burrow","burrow","बिल,सुरंग",null,"बिल,सुरंग","Burrow"]
[null,null,null,null,null,null,null,null,null,null,null,742,"Lettuce","lettuce","सलाद","food and drink ( खाद्य और पेय )","सलाद","Lettuce",null,null,null,null,"FOODS"]
[null,null,null,null,null,null,null,null,null,null,null,743,"Daisy","daisy","गुलबहार","flowers ( फूलो के नाम )","गुलबहार","Daisy"]
[null,null,null,null,null,null,null,null,null,null,null,744,"Kennel","kennel","कुत्तो का घर",null,"कुत्तो का घर","Kennel"]
[null,null,null,null,null,null,null,null,null,null,null,745,"Erythrinin","erythrinin","पारिजात","flowers ( फूलो के नाम )","पारिजात","Erythrinin"]
[null,null,null,null,null,null,null,null,null,null,null,746,"Hiptage","hiptage","माधवी पुष्प","flowers ( फूलो के नाम )","माधवी पुष्प","Hiptage"]
[null,null,null,null,null,null,null,null,null,null,null,747,"Hole","hole","बिल",null,"बिल","Hole"]
[null,null,null,null,null,null,null,null,null,null,null,748,"River Bank","river bank","नदी के किनारे",null,"नदी के किनारे","River Bank"]
[null,null,null,null,null,null,null,null,null,null,null,749,"Little","little","छोटी",null,"छोटी","Little"]
[null,null,null,null,null,null,null,null,null,null,null,750,"Bird","bird","पक्षी","BIRDS  ( पक्षियों के नाम  )","पक्षी","Bird",null,null,null,null,"BIRDS"]
[null,null,null,null,null,null,null,null,null,null,null,751,"Nest","nest","घोंसला",null,"घोंसला","Nest"]
[null,null,null,null,null,null,null,null,null,null,null,752,"Glad","glad","प्रसन्न",null,"प्रसन्न","Glad"]
[null,null,null,null,null,null,null,null,null,null,null,753,"Poppy","poppy","पोस्ता के फूल","flowers ( फूलो के नाम )","पोस्ता के फूल","Poppy"]
[null,null,null,null,null,null,null,null,null,null,null,754,"Prickly Pear","prickly pear","नागफनी","flowers ( फूलो के नाम )","नागफनी","Prickly Pear"]
[null,null,null,null,null,null,null,null,null,null,null,755,"Best","best","सबसे अच्छा",null,"सबसे अच्छा","Best"]
[null,null,null,null,null,null,null,null,null,null,null,756,"Sun Flower","sun flower","सूर्यमुखी","flowers ( फूलो के नाम )","सूर्यमुखी","Sun Flower"]
[null,null,null,null,null,null,null,null,null,null,null,757,"Eldest","eldest","सबसे बड़ा ",null,"सबसे बड़ा ","Eldest",null,null,null,null,"[आयु में]"]
[null,null,null,null,null,null,null,null,null,null,null,758,"Founder","founder","संस्थापक",null,"संस्थापक","Founder"]
[null,null,null,null,null,null,null,null,null,null,null,759,"Brave","brave","बहादुर,वीर",null,"बहादुर,वीर","Brave"]
[null,null,null,null,null,null,null,null,null,null,null,760,"Touch-Me-Not","touch-me-not","छुई-मुई","flowers ( फूलो के नाम )","छुई-मुई","Touch-Me-Not"]
[null,null,null,null,null,null,null,null,null,null,null,761,"Yam","yam","कचालू","VEGETABLES ( सब्जियां )","कचालू","Yam"]
[null,null,null,null,null,null,null,null,null,null,null,762,"Right From","right from","शुरू से ही   ",null,"शुरू से ही   ","Right From"]
[null,null,null,null,null,null,null,null,null,null,null,763,"Boyhood","boyhood","लड़कपन",null,"लड़कपन","Boyhood"]
[null,null,null,null,null,null,null,null,null,null,null,764,"Courtier","courtier","दरबारी","OCCUPATIONS AND PROFESSION (व्यवसाय और पेशा )","दरबारी","Courtier",null,null,null,null,"OCCUPATIONS AND PROFESSION"]
[null,null,null,null,null,null,null,null,null,null,null,765,"Qualities","qualities","विशेषताए,गुण",null,"विशेषताए,गुण","Qualities"]
[null,null,null,null,null,null,null,null,null,null,null,766,"Horse Riding","horse riding","गुड़सवारी",null,"गुड़सवारी","Horse Riding"]
[null,null,null,null,null,null,null,null,null,null,null,767,"Proud Of","proud of","गर्व करना",null,"गर्व करना","Proud Of"]
[null,null,null,null,null,null,null,null,null,null,null,768,"Weaponary","weaponary","हथियार बाज़ी",null,"हथियार बाज़ी","Weaponary"]
[null,null,null,null,null,null,null,null,null,null,null,769,"Warfare","warfare","युद्ध कला",null,{"$f":"O797","v":"युद्ध कला"},"Warfare"]
[null,null,null,null,null,null,null,null,null,null,null,770,{"$f":"PROPER(N798)","v":"Tactic"},"tactic","चाल,रणनीतिया",null,"चाल,रणनीतिया",{"$f":"PROPER(N798)","v":"Tactic"}]
[null,null,null,null,null,null,null,null,null,null,null,771,"Black-Berry","black-berry","जामुन","FRUITS ( फलों के नाम )","जामुन","Black-Berry"]
[null,null,null,null,null,null,null,null,null,null,null,772,"Gravia","gravia","फालसा","FRUITS ( फलों के नाम )","फालसा","Gravia"]
[null,null,null,null,null,null,null,null,null,null,null,773,"Entire","entire","समस्त",null,"समस्त","Entire"]
[null,null,null,null,null,null,null,null,null,null,null,774,"Royal","royal","शाही",null,"शाही","Royal"]
[null,null,null,null,null,null,null,null,null,null,null,775,"Fight","fight","युद्ध करना",null,"युद्ध करना","Fight"]
[null,null,null,null,null,null,null,null,null,null,null,776,"Lychee","lychee","लीची","FRUITS ( फलों के नाम )","लीची","Lychee"]
[null,null,null,null,null,null,null,null,null,null,null,777,"Somehow","somehow","जैसे-तैसे",null,"जैसे-तैसे","Somehow"]
[null,null,null,null,null,null,null,null,null,null,null,778,"Appointed","appointed","नियुक्त किया",null,"नियुक्त किया","Appointed"]
[null,null,null,null,null,null,null,null,null,null,null,779,"Successor","successor","उतराधिकारी",null,"उतराधिकारी","Successor"]
[null,null,null,null,null,null,null,null,null,null,null,780,"Senior","senior","वरिष्ट",null,"वरिष्ट","Senior"]
[null,null,null,null,null,null,null,null,null,null,null,781,"Nobles","nobles","सरदार,नायक",null,"सरदार,नायक","Nobles"]
[null,null,null,null,null,null,null,null,null,null,null,782,"Accept","accept","स्वीकार करना",null,"स्वीकार करना","Accept"]
[null,null,null,null,null,null,null,null,null,null,null,783,"Crowned","crowned","राजा घोषित किया",null,"राजा घोषित किया","Crowned"]
[null,null,null,null,null,null,null,null,null,null,null,784,"Next","next","अगला",null,"अगला","Next"]
[null,null,null,null,null,null,null,null,null,null,null,785,"Malta","malta","माल्टा","FRUITS ( फलों के नाम )","माल्टा","Malta"]
[null,null,null,null,null,null,null,null,null,null,null,786,"Army General","army general","सेनापति","OCCUPATIONS AND PROFESSION (व्यवसाय और पेशा )","सेनापति","Army General",null,null,null,null,"OCCUPATIONS AND PROFESSION"]
[null,null,null,null,null,null,null,null,null,null,null,787,"Larger","larger","अधिक बड़ी",null,"अधिक बड़ी","Larger"]
[null,null,null,null,null,null,null,null,null,null,null,788,"Narrow","narrow","संकरा",null,"संकरा","Narrow"]
[null,null,null,null,null,null,null,null,null,null,null,789,"Waternut","waternut","सिघाड़ा","FRUITS ( फलों के नाम )","सिघाड़ा","Waternut"]
[null,null,null,null,null,null,null,null,null,null,null,790,"Amaranthus","amaranthus","चौलाई","VEGETABLES ( सब्जियां )","चौलाई","Amaranthus"]
[null,null,null,null,null,null,null,null,null,null,null,791,"Bravely","bravely","बहादुरीपूर्वक",null,"बहादुरीपूर्वक","Bravely"]
[null,null,null,null,null,null,null,null,null,null,null,792,"Parson","parson","पादरी","OCCUPATIONS AND PROFESSION (व्यवसाय और पेशा )","पादरी","Parson"]
[null,null,null,null,null,null,null,null,null,null,null,793,"Favourite","favourite","सबसे ज्यादा पसंद",null,"सबसे ज्यादा पसंद","Favourite"]
[null,null,null,null,null,null,null,null,null,null,null,794,"Lost","lost","खोया हुआ",null,"खोया हुआ","Lost"]
[null,null,null,null,null,null,null,null,null,null,null,795,"Territories","territories","राज्य",null,"राज्य","Territories"]
[null,null,null,null,null,null,null,null,null,null,null,796,"Injuries","injuries","चोट,घाव",null,"चोट,घाव","Injuries"]
[null,null,null,null,null,null,null,null,null,null,null,797,"Hunt","hunt","शिकार करना",null,"शिकार करना","Hunt"]
[null,null,null,null,null,null,null,null,null,null,null,798,"Accident","accident","दुर्घटना",null,"दुर्घटना","Accident"]
[null,null,null,null,null,null,null,null,null,null,null,799,"Glorify","glorify","यशोगान करना",null,"यशोगान करना","Glorify"]
[null,null,null,null,null,null,null,null,null,null,null,800,"Legendary","legendary","सुप्रसिद्ध,विख्यात",null,"सुप्रसिद्ध,विख्यात","Legendary"]
[null,null,null,null,null,null,null,null,null,null,null,801,"Free Of Cost","free of cost","निशुल्क",null,"निशुल्क","Free Of Cost"]
[null,null,null,null,null,null,null,null,null,null,null,802,"Capital ","capital ","राजधानी",null,"राजधानी","Capital "]
[null,null,null,null,null,null,null,null,null,null,null,803,"Construction","construction","निर्माण",null,"निर्माण","Construction"]
[null,null,null,null,null,null,null,null,null,null,null,804,"Strusture","strusture","भवन,इमारत",null,"भवन,इमारत","Strusture"]
[null,null,null,null,null,null,null,null,null,null,null,805,"Cauldron","cauldron","कड़ाई",null,"कड़ाई","Cauldron"]
[null,null,null,null,null,null,null,null,null,null,null,806,"According To","according to","के अनुसार",null,"के अनुसार","According To"]
[null,null,null,null,null,null,null,null,null,null,null,807,"During","during","के दौरान",null,"के दौरान","During"]
[null,null,null,null,null,null,null,null,null,null,null,808,"Architect","architect","वास्तुशिल्पी","OCCUPATIONS AND PROFESSION (व्यवसाय और पेशा )","वास्तुशिल्पी","Architect",null,null,null,null,"OCCUPATIONS AND PROFESSION"]
[null,null,null,null,null,null,null,null,null,null,null,809,"Flagon","flagon","सुराही",null,"सुराही","Flagon",null,null,null,null,"DIRECTIONS"]
[null,null,null,null,null,null,null,null,null,null,null,810,"Rampart","rampart","परकोटा",null,"परकोटा","Rampart"]
[null,null,null,null,null,null,null,null,null,null,null,811,"Enter","enter","प्रवेश करना",null,"प्रवेश करना","Enter"]
[null,null,null,null,null,null,null,null,null,null,null,812,"Spear","spear","भाला",null,"भाला","Spear"]
[null,null,null,null,null,null,null,null,null,null,null,813,"Network","network","जल, तंत्र",null,"जल, तंत्र","Network"]
[null,null,null,null,null,null,null,null,null,null,null,814,"Population","population","जनसँख्या",null,"जनसँख्या","Population"]
[null,null,null,null,null,null,null,null,null,null,null,815,"Census","census","जनगणना",null,"जनगणना","Census"]
[null,null,null,null,null,null,null,null,null,null,null,816,"Semi Arid","semi arid","अर्द्धशुष्क",null,"अर्द्धशुष्क","Semi Arid"]
[null,null,null,null,null,null,null,null,null,null,null,817,"Climate","climate","जलवायु",null,"जलवायु","Climate"]
[null,null,null,null,null,null,null,null,null,null,null,818,"Rainfall","rainfall","वर्षा होना",null,"वर्षा होना","Rainfall"]
[null,null,null,null,null,null,null,null,null,null,null,819,"Nit","nit","लीक","WORMS AND INSECTS ( कीट पतंगे )","लीक","Nit"]
[null,null,null,null,null,null,null,null,null,null,null,820,"Magpie","magpie","नीलकंठ","BIRDS  ( पक्षियों के नाम  )","नीलकंठ","Magpie"]
[null,null,null,null,null,null,null,null,null,null,null,821,"Tourist","tourist","पर्यटक",null,"पर्यटक","Tourist"]
[null,null,null,null,null,null,null,null,null,null,null,822,"Museum","museum","संग्रहालय",null,"संग्रहालय","Museum"]
[null,null,null,null,null,null,null,null,null,null,null,823,"State","state","राज्य,प्रदेश",null,"राज्य,प्रदेश","State"]
[null,null,null,null,null,null,null,null,null,null,null,824,"Government","government","सरकार",null,"सरकार","Government"]
[null,null,null,null,null,null,null,null,null,null,null,825,"Heron","heron","बगुला","BIRDS  ( पक्षियों के नाम  )","बगुला","Heron"]
[null,null,null,null,null,null,null,null,null,null,null,826,"Stork","stork","सारस","BIRDS  ( पक्षियों के नाम  )","सारस","Stork"]
[null,null,null,null,null,null,null,null,null,null,null,827,"Secretariat","secretariat","सचिवालय",null,"सचिवालय","Secretariat"]
[null,null,null,null,null,null,null,null,null,null,null,828,"Raven","raven","पहाड़ी कौवा","BIRDS  ( पक्षियों के नाम  )","पहाड़ी कौवा","Raven",null,null,null,null,"SCHOOLS"]
[null,null,null,null,null,null,null,null,null,null,null,829,"Weaver-Bird","weaver-bird","बया","BIRDS  ( पक्षियों के नाम  )","बया","Weaver-Bird"]
[null,null,null,null,null,null,null,null,null,null,null,830,"Administrative","administrative","प्रशासनिक",null,"प्रशासनिक","Administrative"]
[null,null,null,null,null,null,null,null,null,null,null,831,"Woodpecker","woodpecker","कठफोड़वा","BIRDS  ( पक्षियों के नाम  )","कठफोड़वा","Woodpecker",null,null,null,null,"SCHOOLS"]
[null,null,null,null,null,null,null,null,null,null,null,832,"Representative","representative","प्रतिनिधि",null,"प्रतिनिधि","Representative"]
[null,null,null,null,null,null,null,null,null,null,null,833,"Municipal Corporation","municipal corporation","नगर निगम",null,{"$f":"O861","v":"नगर निगम"},"Municipal Corporation"]
[null,null,null,null,null,null,null,null,null,null,null,834,{"$f":"PROPER(N862)","v":"Responsible"},"responsible","जिम्मेदार",null,"जिम्मेदार",{"$f":"PROPER(N862)","v":"Responsible"}]
[null,null,null,null,null,null,null,null,null,null,null,835,"Civic","civic","नगर का",null,"नगर का","Civic"]
[null,null,null,null,null,null,null,null,null,null,null,836,"Infrastructure","infrastructure","आवश्यक आधार रूप गटक",null,"आवश्यक आधार रूप गटक","Infrastructure"]
[null,null,null,null,null,null,null,null,null,null,null,837,"Carring Out","carring out","कार्य पूरा करना",null,"कार्य पूरा करना","Carring Out"]
[null,null,null,null,null,null,null,null,null,null,null,838,"Chimpanzee","chimpanzee","वनमानुष","ANIMALS ( पशु )","वनमानुष","Chimpanzee"]
[null,null,null,null,null,null,null,null,null,null,null,839,"Mayor","mayor","नगर प्रमुख",null,"नगर प्रमुख","Mayor"]
[null,null,null,null,null,null,null,null,null,null,null,840,"Deputy Mayor","deputy mayor","नगर उपप्रमुख",null,"नगर उपप्रमुख","Deputy Mayor"]
[null,null,null,null,null,null,null,null,null,null,null,841,"Development","development","विकास",null,"विकास","Development"]
[null,null,null,null,null,null,null,null,null,null,null,842,"Authority","authority","प्राधिकरण",null,"प्राधिकरण","Authority"]
[null,null,null,null,null,null,null,null,null,null,null,843,"Nodal","nodal","जोड़ने वाला",null,"जोड़ने वाला","Nodal"]
[null,null,null,null,null,null,null,null,null,null,null,844,"Ewe","ewe","मेढ़ी","ANIMALS ( पशु )","मेढ़ी","Ewe"]
[null,null,null,null,null,null,null,null,null,null,null,845,"Sustainable","sustainable","दीर्घकालिक",null,"दीर्घकालिक","Sustainable"]
[null,null,null,null,null,null,null,null,null,null,null,846,"Hippopptamus","hippopptamus","दरियाई घोडा","ANIMALS ( पशु )","दरियाई घोडा","Hippopptamus"]
[null,null,null,null,null,null,null,null,null,null,null,847,"Ensure","ensure","निश्चित कर लेना",null,"निश्चित कर लेना","Ensure"]
[null,null,null,null,null,null,null,null,null,null,null,848,"Security","security","सुरक्षा",null,"सुरक्षा","Security"]
[null,null,null,null,null,null,null,null,null,null,null,849,"Education","education","शिक्षा","SCHOOL RELATIVE  ( विद्यालय सम्बन्धी  )","शिक्षा","Education",null,null,null,null,"SCHOOLS"]
[null,null,null,null,null,null,null,null,null,null,null,850,"Facility","facility","सुविधा",null,"सुविधा","Facility"]
[null,null,null,null,null,null,null,null,null,null,null,851,"Gem","gem","मणि,रत्न",null,"मणि,रत्न","Gem"]
[null,null,null,null,null,null,null,null,null,null,null,852,"Hyena","hyena","लकड़बग्गा","ANIMALS ( पशु )","लकड़बग्गा","Hyena"]
[null,null,null,null,null,null,null,null,null,null,null,853,"Industrial","industrial","औद्योगिक",null,"औद्योगिक","Industrial"]
[null,null,null,null,null,null,null,null,null,null,null,854,"Metro","metro","मेट्रो रेल",null,"मेट्रो रेल","Metro"]
[null,null,null,null,null,null,null,null,null,null,null,855,"Latest","latest","नवीनतम",null,"नवीनतम","Latest"]
[null,null,null,null,null,null,null,null,null,null,null,856,"Hog","hog","सूअर","ANIMALS ( पशु )","सूअर","Hog"]
[null,null,null,null,null,null,null,null,null,null,null,857,"Dictionary","dictionary","शब्दकोष",null,"शब्दकोष","Dictionary"]
[null,null,null,null,null,null,null,null,null,null,null,858,"Bookshop","bookshop","पुस्तक की दुकान",null,"पुस्तक की दुकान","Bookshop"]
[null,null,null,null,null,null,null,null,null,null,null,859,"Rat","rat","चूहा","ANIMALS ( पशु )","चूहा","Rat"]
[null,null,null,null,null,null,null,null,null,null,null,860,"Pointed","pointed","इशारा किया",null,"इशारा किया","Pointed"]
[null,null,null,null,null,null,null,null,null,null,null,861,"Group","group","समूह",null,"समूह","Group"]
[null,null,null,null,null,null,null,null,null,null,null,862,"Stag","stag","बारहसिंगा","ANIMALS ( पशु )","बारहसिंगा","Stag"]
[null,null,null,null,null,null,null,null,null,null,null,863,"Voice","voice","आवाज",null,"आवाज","Voice"]
[null,null,null,null,null,null,null,null,null,null,null,864,"Fire Engine","fire engine","दमकल",null,"दमकल","Fire Engine"]
[null,null,null,null,null,null,null,null,null,null,null,865,"Ox","ox","बैल","ANIMALS ( पशु )","बैल","Ox"]
[null,null,null,null,null,null,null,null,null,null,null,866,"Put Out","put out","बुझाना",null,"बुझाना","Put Out"]
[null,null,null,null,null,null,null,null,null,null,null,867,"Fireman","fireman","आग बुझाना",null,"आग बुझाना","Fireman"]
[null,null,null,null,null,null,null,null,null,null,null,868,"Most","most","अधिकांश",null,"अधिकांश","Most"]
[null,null,null,null,null,null,null,null,null,null,null,869,"Furniture","furniture","लकड़ी से निर्मित वस्तुए",null,"लकड़ी से निर्मित वस्तुए","Furniture"]
[null,null,null,null,null,null,null,null,null,null,null,870,"Musk-Deer","musk-deer","कस्तूरी हिरन","ANIMALS ( पशु )","कस्तूरी हिरन","Musk-Deer"]
[null,null,null,null,null,null,null,null,null,null,null,871,"Fire Brigade ","fire brigade ","अग्निशमन दल",null,"अग्निशमन दल","Fire Brigade "]
[null,null,null,null,null,null,null,null,null,null,null,872,"Fire Brigade Officer","fire brigade officer","अग्निशमन दल अधिकारी",null,"अग्निशमन दल अधिकारी","Fire Brigade Officer"]
[null,null,null,null,null,null,null,null,null,null,null,873,"Matchstick","matchstick","तीली",null,"तीली","Matchstick"]
[null,null,null,null,null,null,null,null,null,null,null,874,"Spark","spark","चिंगारी",null,"चिंगारी","Spark"]
[null,null,null,null,null,null,null,null,null,null,null,875,"Firewood Stove","firewood stove","लकड़ी जलने का चूल्हा",null,"लकड़ी जलने का चूल्हा","Firewood Stove"]
[null,null,null,null,null,null,null,null,null,null,null,876,"Cigarette","cigarette","सिगरेट",null,"सिगरेट","Cigarette"]
[null,null,null,null,null,null,null,null,null,null,null,877,"Short Circuit","short circuit","लघु पथन",null,"लघु पथन","Short Circuit"]
[null,null,null,null,null,null,null,null,null,null,null,878,"Zebu","zebu","सांड","ANIMALS ( पशु )","सांड","Zebu"]
[null,null,null,null,null,null,null,null,null,null,null,879,"Electric Wire","electric wire","विद्दुत तार",null,"विद्दुत तार","Electric Wire"]
[null,null,null,null,null,null,null,null,null,null,null,880,"Equipments","equipments","उपकरण",null,"उपकरण","Equipments"]
[null,null,null,null,null,null,null,null,null,null,null,881,"Appliance","appliance","यन्त्र",null,"यन्त्र","Appliance"]
[null,null,null,null,null,null,null,null,null,null,null,882,"Nearness","nearness","सामीप्य",null,"सामीप्य","Nearness"]
[null,null,null,null,null,null,null,null,null,null,null,883,"Crackers","crackers","पटाखे",null,"पटाखे","Crackers"]
[null,null,null,null,null,null,null,null,null,null,null,884,"Major","major","मुख्य,बड़ा",null,"मुख्य,बड़ा","Major"]
[null,null,null,null,null,null,null,null,null,null,null,885,"Swine","swine","शुकरी","ANIMALS ( पशु )","शुकरी","Swine"]
[null,null,null,null,null,null,null,null,null,null,null,886,"Standard","standard","मानक,स्तर",null,"मानक,स्तर","Standard"]
[null,null,null,null,null,null,null,null,null,null,null,887,"Condition","condition","स्थिति,दशा,हालत",null,"स्थिति,दशा,हालत","Condition"]
[null,null,null,null,null,null,null,null,null,null,null,888,"Highly","highly","अत्यधिक",null,"अत्यधिक","Highly"]
[null,null,null,null,null,null,null,null,null,null,null,889,"Inflammable","inflammable","ज्वलनशील",null,"ज्वलनशील","Inflammable"]
[null,null,null,null,null,null,null,null,null,null,null,890,"Fire Extinguisher","fire extinguisher","अग्निशामक यन्त्र",null,"अग्निशामक यन्त्र","Fire Extinguisher"]
[null,null,null,null,null,null,null,null,null,null,null,891,"Yak","yak","पर्वतीय बैल","ANIMALS ( पशु )","पर्वतीय बैल","Yak"]
[null,null,null,null,null,null,null,null,null,null,null,892,"Adjutant","adjutant","सारस","BIRDS  ( पक्षियों के नाम  )","सारस","Adjutant"]
[null,null,null,null,null,null,null,null,null,null,null,893,"Day ","day ","दिन","DAYS OF A WEEK ( सप्ताह के दिन )","दिन","Day ",null,null,null,null,"DAYS OF A WEEK"]
[null,null,null,null,null,null,null,null,null,null,null,894,"Folk","folk","लोक,जनसाधारण",null,"लोक,जनसाधारण","Folk"]
[null,null,null,null,null,null,null,null,null,null,null,895,"Inviting","inviting","मोहक,आकर्षक",null,"मोहक,आकर्षक","Inviting"]
[null,null,null,null,null,null,null,null,null,null,null,896,"Engaging","engaging","ध्यानाकर्षक",null,"ध्यानाकर्षक","Engaging"]
[null,null,null,null,null,null,null,null,null,null,null,897,"Induce","induce","फुसलाना,उकसाना",null,{"$f":"O925","v":"फुसलाना,उकसाना"},"Induce"]
[null,null,null,null,null,null,null,null,null,null,null,898,{"$f":"PROPER(N926)","v":"Tap"},"tap","थपकी",null,"थपकी",{"$f":"PROPER(N926)","v":"Tap"}]
[null,null,null,null,null,null,null,null,null,null,null,899,"Along With","along with","के साथ",null,"के साथ","Along With"]
[null,null,null,null,null,null,null,null,null,null,null,900,"Dancers","dancers","नर्तक",null,"नर्तक","Dancers"]
[null,null,null,null,null,null,null,null,null,null,null,901,"Essentially","essentially","मूलतः",null,"मूलतः","Essentially"]
[null,null,null,null,null,null,null,null,null,null,null,902,"Origin","origin","उत्पति",null,"उत्पति","Origin"]
[null,null,null,null,null,null,null,null,null,null,null,903,"Rural","rural","ग्रामीण",null,"ग्रामीण","Rural"]
[null,null,null,null,null,null,null,null,null,null,null,904,"Custom","custom","रीती-रिवाज",null,"रीती-रिवाज","Custom"]
[null,null,null,null,null,null,null,null,null,null,null,905,"Cuckoo","cuckoo","कोयल","BIRDS  ( पक्षियों के नाम  )","कोयल","Cuckoo"]
[null,null,null,null,null,null,null,null,null,null,null,906,"Traditional","traditional","पारम्परिक",null,"पारम्परिक","Traditional"]
[null,null,null,null,null,null,null,null,null,null,null,907,"Cygnet","cygnet","हंस शावक","BIRDS  ( पक्षियों के नाम  )","हंस शावक","Cygnet"]
[null,null,null,null,null,null,null,null,null,null,null,908,"Colourful","colourful","रंगीन",null,"रंगीन","Colourful"]
[null,null,null,null,null,null,null,null,null,null,null,909,"Lively","lively","आनंददायक,सजीव जैसा",null,"आनंददायक,सजीव जैसा","Lively"]
[null,null,null,null,null,null,null,null,null,null,null,910,"Significance","significance","महत्व",null,"महत्व","Significance"]
[null,null,null,null,null,null,null,null,null,null,null,911,"Style","style","शैली,ढंग",null,"शैली,ढंग","Style"]
[null,null,null,null,null,null,null,null,null,null,null,912,"Attractive","attractive","आकर्षक",null,"आकर्षक","Attractive"]
[null,null,null,null,null,null,null,null,null,null,null,913,"Skilful","skilful","कौशल दिखने वाला",null,"कौशल दिखने वाला","Skilful"]
[null,null,null,null,null,null,null,null,null,null,null,914,"Form","form","रूप,प्रकार",null,"रूप,प्रकार","Form"]
[null,null,null,null,null,null,null,null,null,null,null,915,"Community","community","सामुदायिक",null,"सामुदायिक","Community"]
[null,null,null,null,null,null,null,null,null,null,null,916,"Perform","perform","प्रस्तुत करना",null,"प्रस्तुत करना","Perform"]
[null,null,null,null,null,null,null,null,null,null,null,917,"Auspicious","auspicious","मांगलिक,शुभ",null,"मांगलिक,शुभ","Auspicious"]
[null,null,null,null,null,null,null,null,null,null,null,918,"Falcon","falcon","बाज","BIRDS  ( पक्षियों के नाम  )","बाज","Falcon"]
[null,null,null,null,null,null,null,null,null,null,null,919,"Goose","goose","बत्तख","BIRDS  ( पक्षियों के नाम  )","बत्तख","Goose"]
[null,null,null,null,null,null,null,null,null,null,null,920,"Gracefully","gracefully","मनोरम",null,"मनोरम","Gracefully"]
[null,null,null,null,null,null,null,null,null,null,null,921,"Partridge","partridge","तीतर","BIRDS  ( पक्षियों के नाम  )","तीतर","Partridge"]
[null,null,null,null,null,null,null,null,null,null,null,922,"Circuler","circuler","वृताकार",null,"वृताकार","Circuler"]
[null,null,null,null,null,null,null,null,null,null,null,923,"Display","display","प्रदर्शन करते हे",null,"प्रदर्शन करते हे","Display"]
[null,null,null,null,null,null,null,null,null,null,null,924,"Spectacular","spectacular","शानदार एंव प्रभावी",null,"शानदार एंव प्रभावी","Spectacular"]
[null,null,null,null,null,null,null,null,null,null,null,925,"Ancient","ancient","प्राचीन",null,"प्राचीन","Ancient"]
[null,null,null,null,null,null,null,null,null,null,null,926,"Pheasant","pheasant","तीतर","BIRDS  ( पक्षियों के नाम  )","तीतर","Pheasant"]
[null,null,null,null,null,null,null,null,null,null,null,927,"Similar","similar","सामान",null,"सामान","Similar"]
[null,null,null,null,null,null,null,null,null,null,null,928,"Serpant","serpant","सर्प",null,"सर्प","Serpant"]
[null,null,null,null,null,null,null,null,null,null,null,929,"Posterity","posterity","वशंज","RELATIONS AND RELATIVES ( सम्बन्ध और सम्बन्धी )","वशंज","Posterity"]
[null,null,null,null,null,null,null,null,null,null,null,930,"Lover","lover","प्रेमी","RELATIONS AND RELATIVES ( सम्बन्ध और सम्बन्धी )","प्रेमी","Lover",null,null,null,null,"SCHOOLS"]
[null,null,null,null,null,null,null,null,null,null,null,931,"Bean","bean","एक संगीत वाद्द्य",null,"एक संगीत वाद्द्य","Bean"]
[null,null,null,null,null,null,null,null,null,null,null,932,"Cotton Seed","cotton seed","बिनौले,कपास के बीज",null,"बिनौले,कपास के बीज","Cotton Seed"]
[null,null,null,null,null,null,null,null,null,null,null,933,"Involves","involves","शामिल रहता हे",null,"शामिल रहता हे","Involves"]
[null,null,null,null,null,null,null,null,null,null,null,934,"Brethren","brethren","भाई-बंधू","RELATIONS AND RELATIVES ( सम्बन्ध और सम्बन्धी )","भाई-बंधू","Brethren"]
[null,null,null,null,null,null,null,null,null,null,null,935,"Co-Wife","co-wife","सह पत्नी","RELATIONS AND RELATIVES ( सम्बन्ध और सम्बन्धी )","सह पत्नी","Co-Wife"]
[null,null,null,null,null,null,null,null,null,null,null,936,"Twirl","twirl","चक्कर लगाती",null,"चक्कर लगाती","Twirl"]
[null,null,null,null,null,null,null,null,null,null,null,937,"Edge","edge","धार",null,"धार","Edge"]
[null,null,null,null,null,null,null,null,null,null,null,938,"Sword","sword","तलवार",null,"तलवार","Sword"]
[null,null,null,null,null,null,null,null,null,null,null,939,"Tribal","tribal","जनजातीय",null,"जनजातीय","Tribal"]
[null,null,null,null,null,null,null,null,null,null,null,940,"Festival","festival","त्यौहार",null,"त्यौहार","Festival"]
[null,null,null,null,null,null,null,null,null,null,null,941,"Tunic","tunic","घुटनों तक लम्बा चोगा",null,"घुटनों तक लम्बा चोगा","Tunic"]
[null,null,null,null,null,null,null,null,null,null,null,942,"Concubine","concubine","रखैल","RELATIONS AND RELATIVES ( सम्बन्ध और सम्बन्धी )","रखैल","Concubine"]
[null,null,null,null,null,null,null,null,null,null,null,943,"Geendad","geendad","गीदड़","ANIMALS ( पशु )","गीदड़","Geendad",null,null,null,null,"ANIMALS"]
[null,null,null,null,null,null,null,null,null,null,null,944,"Somewhat","somewhat","कुछ-कुछ",null,"कुछ-कुछ","Somewhat"]
[null,null,null,null,null,null,null,null,null,null,null,945,"Musical","musical","संगीतमय",null,"संगीतमय","Musical"]
[null,null,null,null,null,null,null,null,null,null,null,946,"Discs","discs","पतली,गोल,चपटी छालिया",null,"पतली,गोल,चपटी छालिया","Discs"]
[null,null,null,null,null,null,null,null,null,null,null,947,"Accompanist","accompanist","संगीतकार","OCCUPATIONS AND PROFESSION (व्यवसाय और पेशा )","संगीतकार","Accompanist"]
[null,null,null,null,null,null,null,null,null,null,null,948,"Create","create","उत्पन्न करना",null,"उत्पन्न करना","Create"]
[null,null,null,null,null,null,null,null,null,null,null,949,"Teat","teat","स्तन","PARTS OF BODY ( शरीर के अंग )","स्तन","Teat"]
[null,null,null,null,null,null,null,null,null,null,null,950,"Rhythm","rhythm","लय",null,"लय","Rhythm"]
[null,null,null,null,null,null,null,null,null,null,null,951,"Dramatic","dramatic","नाटकीय",null,"नाटकीय","Dramatic"]
[null,null,null,null,null,null,null,null,null,null,null,952,"Troupe","troupe","नर्तको का दल",null,"नर्तको का दल","Troupe"]
[null,null,null,null,null,null,null,null,null,null,null,953,"Performance","performance","प्रस्तुति",null,"प्रस्तुति","Performance"]
[null,null,null,null,null,null,null,null,null,null,null,954,"Functionaries","functionaries","छोटे-मोटे काम करने वाले",null,"छोटे-मोटे काम करने वाले","Functionaries"]
[null,null,null,null,null,null,null,null,null,null,null,955,"Strict","strict","सख्त",null,"सख्त","Strict"]
[null,null,null,null,null,null,null,null,null,null,null,956,"Regimen","regimen","परहेज",null,"परहेज","Regimen"]
[null,null,null,null,null,null,null,null,null,null,null,957,"Enactment","enactment","नाटक में नाट्य अभिनय",null,"नाटक में नाट्य अभिनय","Enactment"]
[null,null,null,null,null,null,null,null,null,null,null,958,"Various","various","विविध,कई,अनेक",null,"विविध,कई,अनेक","Various"]
[null,null,null,null,null,null,null,null,null,null,null,959,"Sweat","sweat","पसीना","PARTS OF BODY ( शरीर के अंग )","पसीना","Sweat"]
[null,null,null,null,null,null,null,null,null,null,null,960,"Central","central","बिच में केंद्रीय",null,"बिच में केंद्रीय","Central"]
[null,null,null,null,null,null,null,null,null,null,null,961,"Spot","spot","स्थान विशेष,जगह",null,{"$f":"O989","v":"स्थान विशेष,जगह"},"Spot"]
[null,null,null,null,null,null,null,null,null,null,null,962,{"$f":"PROPER(N990)","v":"Anus"},"anus","गुदा","PARTS OF BODY ( शरीर के अंग )","गुदा",{"$f":"PROPER(N990)","v":"Anus"}]
[null,null,null,null,null,null,null,null,null,null,null,963,"Puppets","puppets","कठपुतलिया",null,"कठपुतलिया","Puppets"]
[null,null,null,null,null,null,null,null,null,null,null,964,"Puppeteer","puppeteer","कटपुतली कलाकार","OCCUPATIONS AND PROFESSION (व्यवसाय और पेशा )","कटपुतली कलाकार","Puppeteer"]
[null,null,null,null,null,null,null,null,null,null,null,965,"Bladder","bladder","मूत्राशय","PARTS OF BODY ( शरीर के अंग )","मूत्राशय","Bladder"]
[null,null,null,null,null,null,null,null,null,null,null,966,"Tied","tied","बंधा हुआ",null,"बंधा हुआ","Tied"]
[null,null,null,null,null,null,null,null,null,null,null,967,"Word","word","शब्द",null,"शब्द","Word"]
[null,null,null,null,null,null,null,null,null,null,null,968,"Forever","forever","सदा के लिए",null,"सदा के लिए","Forever"]
[null,null,null,null,null,null,null,null,null,null,null,969,"Loin","loin","कमर","PARTS OF BODY ( शरीर के अंग )","कमर","Loin"]
[null,null,null,null,null,null,null,null,null,null,null,970,"Ever","ever","कभी भी",null,"कभी भी","Ever"]
[null,null,null,null,null,null,null,null,null,null,null,971,"Dead","dead","मृत,निर्जीव",null,"मृत,निर्जीव","Dead"]
[null,null,null,null,null,null,null,null,null,null,null,972,"Careless","careless","बिना सोचे-समझे",null,"बिना सोचे-समझे","Careless"]
[null,null,null,null,null,null,null,null,null,null,null,973,"Eye Lid","eye lid","पलक","PARTS OF BODY ( शरीर के अंग )","पलक","Eye Lid"]
[null,null,null,null,null,null,null,null,null,null,null,974,"Grief","grief","दुःख,संताप",null,"दुःख,संताप","Grief"]
[null,null,null,null,null,null,null,null,null,null,null,975,"Heart","heart","मन,हर्दय","PARTS OF BODY ( शरीर के अंग )","मन,हर्दय","Heart",null,null,null,null,"PARTS OF BODY"]
[null,null,null,null,null,null,null,null,null,null,null,976,"Optimist","optimist","आशावादी",null,"आशावादी","Optimist"]
[null,null,null,null,null,null,null,null,null,null,null,977,"Times","times","बार",null,"बार","Times"]
[null,null,null,null,null,null,null,null,null,null,null,978,"Depart","depart","से हट जाना",null,"से हट जाना","Depart"]
[null,null,null,null,null,null,null,null,null,null,null,979,"Sadder","sadder","अधिक दुखी",null,"अधिक दुखी","Sadder"]
[null,null,null,null,null,null,null,null,null,null,null,980,"Happier","happier","अधिक खुश",null,"अधिक खुश","Happier"]
[null,null,null,null,null,null,null,null,null,null,null,981,"Pessimist","pessimist","निराशावादी",null,"निराशावादी","Pessimist"]
[null,null,null,null,null,null,null,null,null,null,null,982,"Power","power","नियन्त्रण",null,"नियन्त्रण","Power"]
[null,null,null,null,null,null,null,null,null,null,null,983,"Victor","victor","विजेता",null,"विजेता","Victor"]
[null,null,null,null,null,null,null,null,null,null,null,984,"Better","better","अधिक अच्छा",null,"अधिक अच्छा","Better"]
[null,null,null,null,null,null,null,null,null,null,null,985,"Drive","drive","वाहन  चलाना",null,"वाहन  चलाना","Drive"]
[null,null,null,null,null,null,null,null,null,null,null,986,"Vehicle","vehicle","वाहन",null,"वाहन","Vehicle"]
[null,null,null,null,null,null,null,null,null,null,null,987,"Across","across","उस पार",null,"उस पार","Across"]
[null,null,null,null,null,null,null,null,null,null,null,988,"Comfort","comfort","आराम",null,"आराम","Comfort"]
[null,null,null,null,null,null,null,null,null,null,null,989,"Wrap","wrap","लपेटना",null,"लपेटना","Wrap"]
[null,null,null,null,null,null,null,null,null,null,null,990,"Etc","etc","आदि",null,"आदि","Etc"]
[null,null,null,null,null,null,null,null,null,null,null,991,"Slow","slow","धीमा",null,"धीमा","Slow"]
[null,null,null,null,null,null,null,null,null,null,null,992,"Bullock Cart","bullock cart","बैलगाड़ी",null,"बैलगाड़ी","Bullock Cart"]
[null,null,null,null,null,null,null,null,null,null,null,993,"Horse Carriage","horse carriage","घोड़ागाड़ी",null,"घोड़ागाड़ी","Horse Carriage"]
[null,null,null,null,null,null,null,null,null,null,null,994,"Risky","risky","जोखिम भरा",null,"जोखिम भरा","Risky"]
[null,null,null,null,null,null,null,null,null,null,null,995,"Hurry","hurry","शीघ्रता,जल्दबाजी",null,"शीघ्रता,जल्दबाजी","Hurry"]
[null,null,null,null,null,null,null,null,null,null,null,996,"Ignore","ignore","ध्यान न देना",null,"ध्यान न देना","Ignore"]
[null,null,null,null,null,null,null,null,null,null,null,997,"Cause","cause","कारण बनना",null,"कारण बनना","Cause"]
[null,null,null,null,null,null,null,null,null,null,null,998,"A Lot Of","a lot of"," बहुत सारे",null," बहुत सारे","A Lot Of"]
[null,null,null,null,null,null,null,null,null,null,null,999,"Avoid","avoid","बचना",null,"बचना","Avoid"]
[null,null,null,null,null,null,null,null,null,null,null,1000,"Obey","obey","पालन करना",null,"पालन करना","Obey"]
[null,null,null,null,null,null,null,null,null,null,null,1001,"Follow","follow","पालन करना",null,"पालन करना","Follow"]
[null,null,null,null,null,null,null,null,null,null,null,1002,"Pure","pure","शुध्द",null,"शुध्द","Pure"]
[null,null,null,null,null,null,null,null,null,null,null,1003,"Turn","turn","घूमना,मुड़ना",null,"घूमना,मुड़ना","Turn"]
[null,null,null,null,null,null,null,null,null,null,null,1004,"Adulterated","adulterated","अशुद्ध",null,"अशुद्ध","Adulterated"]
[null,null,null,null,null,null,null,null,null,null,null,1005,"Cross","cross","पार करना'",null,"पार करना'","Cross"]
[null,null,null,null,null,null,null,null,null,null,null,1006,"Clear","clear","साफ,खाली",null,"साफ,खाली","Clear"]
[null,null,null,null,null,null,null,null,null,null,null,1007,"Straight","straight","सीधा",null,"सीधा","Straight"]
[null,null,null,null,null,null,null,null,null,null,null,1008,"Angle","angle","तिरछा",null,"तिरछा","Angle"]
[null,null,null,null,null,null,null,null,null,null,null,1009,"Calmly","calmly","शांतिपूर्वक",null,"शांतिपूर्वक","Calmly"]
[null,null,null,null,null,null,null,null,null,null,null,1010,"Watch Out","watch out","सावधनी से देखो",null,"सावधनी से देखो","Watch Out"]
[null,null,null,null,null,null,null,null,null,null,null,1011,"Strip","strip","धारी",null,"धारी","Strip"]
[null,null,null,null,null,null,null,null,null,null,null,1012,"Safer","safer","अधिक सुरक्षित",null,"अधिक सुरक्षित","Safer"]
[null,null,null,null,null,null,null,null,null,null,null,1013,"Go By","go by","के अनुसार चलना",null,"के अनुसार चलना","Go By"]
[null,null,null,null,null,null,null,null,null,null,null,1014,"Traffic","traffic","यातायात",null,"यातायात","Traffic"]
[null,null,null,null,null,null,null,null,null,null,null,1015,"Ready","ready","तैयार",null,"तैयार","Ready"]
[null,null,null,null,null,null,null,null,null,null,null,1016,"Blow Horn","blow horn","हॉर्न बजाना",null,"हॉर्न बजाना","Blow Horn"]
[null,null,null,null,null,null,null,null,null,null,null,1017,"Disturb","disturb","दखल देना",null,"दखल देना","Disturb"]
[null,null,null,null,null,null,null,null,null,null,null,1018,"Pollution","pollution","प्रदुषण",null,"प्रदुषण","Pollution"]
[null,null,null,null,null,null,null,null,null,null,null,1019,"Reasonable","reasonable","उचित",null,"उचित","Reasonable"]
[null,null,null,null,null,null,null,null,null,null,null,1020,"Uncontrollable ","uncontrollable ","अनियंत्रित",null,"अनियंत्रित","Uncontrollable "]
[null,null,null,null,null,null,null,null,null,null,null,1021,"Dangerous","dangerous","खतरनाक",null,"खतरनाक","Dangerous"]
[null,null,null,null,null,null,null,null,null,null,null,1022,"Dwarf","dwarf","बोना",null,"बोना","Dwarf"]
[null,null,null,null,null,null,null,null,null,null,null,1023,"Faith","faith","विश्वाशी",null,"विश्वाशी","Faith"]
[null,null,null,null,null,null,null,null,null,null,null,1024,"Crossroad","crossroad","चोराहा",null,"चोराहा","Crossroad"]
[null,null,null,null,null,null,null,null,null,null,null,1025,"Control","control","नियन्त्रण",null,{"$f":"O1053","v":"नियन्त्रण"},"Control"]
[null,null,null,null,null,null,null,null,null,null,null,1026,{"$f":"PROPER(N1054)","v":"Barren"},"barren","बंजर",null,"बंजर",{"$f":"PROPER(N1054)","v":"Barren"}]
[null,null,null,null,null,null,null,null,null,null,null,1027,"Mistake","mistake","गलती",null,"गलती","Mistake"]
[null,null,null,null,null,null,null,null,null,null,null,1028,"Wet","wet","गीला",null,"गीला","Wet"]
[null,null,null,null,null,null,null,null,null,null,null,1029,"Slippery","slippery","फिसलन",null,"फिसलन","Slippery"]
[null,null,null,null,null,null,null,null,null,null,null,1030,"Take ","take ","लेना",null,"लेना","Take "]
[null,null,null,null,null,null,null,null,null,null,null,1031,"Rush","rush","दोड़ना",null,"दोड़ना","Rush"]
[null,null,null,null,null,null,null,null,null,null,null,1032,"Chance","chance","अवसर",null,"अवसर","Chance"]
[null,null,null,null,null,null,null,null,null,null,null,1033,"Adhoc","adhoc","तथार्थ",null,"तथार्थ","Adhoc"]
[null,null,null,null,null,null,null,null,null,null,null,1034,"Until","until","जबतक",null,"जबतक","Until"]
[null,null,null,null,null,null,null,null,null,null,null,1035,"Get Off","get off","उतरना",null,"उतरना","Get Off"]
[null,null,null,null,null,null,null,null,null,null,null,1036,"Move Off","move off","चल पड़ना",null,"चल पड़ना","Move Off"]
[null,null,null,null,null,null,null,null,null,null,null,1037,"Admistration","admistration","प्रशासन",null,"प्रशासन","Admistration"]
[null,null,null,null,null,null,null,null,null,null,null,1038,"Loyal","loyal","शाही",null,"शाही","Loyal"]
[null,null,null,null,null,null,null,null,null,null,null,1039,"Maid","maid","नोकरानी","OCCUPATIONS AND PROFESSION (व्यवसाय और पेशा )","नोकरानी","Maid",null,null,null,null,"OCCUPATIONS AND PROFESSION"]
[null,null,null,null,null,null,null,null,null,null,null,1040,"Jauhar","jauhar","जोहर",null,"जोहर","Jauhar"]
[null,null,null,null,null,null,null,null,null,null,null,1041,"Faithful","faithful","विश्वासी",null,"विश्वासी","Faithful"]
[null,null,null,null,null,null,null,null,null,null,null,1042,"Acting","acting","कार्यकारी",null,"कार्यकारी","Acting",null,null,null,null,"OCCUPATIONS AND PROFESSION"]
[null,null,null,null,null,null,null,null,null,null,null,1043,"Lord","lord","भगवन",null,"भगवन","Lord"]
[null,null,null,null,null,null,null,null,null,null,null,1044,"Future ","future ","भावी",null,"भावी","Future "]
[null,null,null,null,null,null,null,null,null,null,null,1045,"Care","care","देखभाल करना",null,"देखभाल करना","Care"]
[null,null,null,null,null,null,null,null,null,null,null,1046,"Hereafter","hereafter","अब से आगे ",null,"अब से आगे ","Hereafter"]
[null,null,null,null,null,null,null,null,null,null,null,1047,"Allotment","allotment","बाँट",null,"बाँट","Allotment"]
[null,null,null,null,null,null,null,null,null,null,null,1048,"Great","great","महान",null,"महान","Great"]
[null,null,null,null,null,null,null,null,null,null,null,1049,"Alien","alien","अन्य विदेशी",null,"अन्य विदेशी","Alien"]
[null,null,null,null,null,null,null,null,null,null,null,1050,"Sobbingly","sobbingly","सिसकते हुए",null,"सिसकते हुए","Sobbingly"]
[null,null,null,null,null,null,null,null,null,null,null,1051,"Agreement","agreement","करार",null,"करार","Agreement",null,null,null,null,"RELATIONS AND RELATIVES"]
[null,null,null,null,null,null,null,null,null,null,null,1052,"Unworthy","unworthy","अयोग्य",null,"अयोग्य","Unworthy"]
[null,null,null,null,null,null,null,null,null,null,null,1053,"Allegation","allegation","आरोप",null,"आरोप","Allegation"]
[null,null,null,null,null,null,null,null,null,null,null,1054,"Unpopular","unpopular","अप्रिय",null,"अप्रिय","Unpopular"]
[null,null,null,null,null,null,null,null,null,null,null,1055,"High-Spirited","high-spirited","अति-उत्साही",null,"अति-उत्साही","High-Spirited"]
[null,null,null,null,null,null,null,null,null,null,null,1056,"Tolerate","tolerate","सहन करना",null,"सहन करना","Tolerate"]
[null,null,null,null,null,null,null,null,null,null,null,1057,"Cruelity","cruelity","क्रूरता",null,"क्रूरता","Cruelity"]
[null,null,null,null,null,null,null,null,null,null,null,1058,"Insolence","insolence","दुर्व्यवहार",null,"दुर्व्यवहार","Insolence"]
[null,null,null,null,null,null,null,null,null,null,null,1059,"Injustice","injustice","अन्याय",null,"अन्याय","Injustice"]
[null,null,null,null,null,null,null,null,null,null,null,1060,"Minority","minority","अवयस्क,नाबालिग",null,"अवयस्क,नाबालिग","Minority"]
[null,null,null,null,null,null,null,null,null,null,null,1061,"Ambitious","ambitious","मह्तावाकांक्षी",null,"मह्तावाकांक्षी","Ambitious"]
[null,null,null,null,null,null,null,null,null,null,null,1062,"Cunning","cunning","धूर्त एंव चालक",null,"धूर्त एंव चालक","Cunning"]
[null,null,null,null,null,null,null,null,null,null,null,1063,"Throne","throne","सिंहासन,राजगद्दी",null,"सिंहासन,राजगद्दी","Throne"]
[null,null,null,null,null,null,null,null,null,null,null,1064,"Noble","noble","कुलीन",null,"कुलीन","Noble"]
[null,null,null,null,null,null,null,null,null,null,null,1065,"Amount","amount","राशी",null,"राशी","Amount"]
[null,null,null,null,null,null,null,null,null,null,null,1066,"Just","just","अभी-अभी",null,"अभी-अभी","Just"]
[null,null,null,null,null,null,null,null,null,null,null,1067,"Appended","appended","सलग्न",null,"सलग्न","Appended"]
[null,null,null,null,null,null,null,null,null,null,null,1068,"Suddenly","suddenly","अचानक",null,"अचानक","Suddenly"]
[null,null,null,null,null,null,null,null,null,null,null,1069,"Uproar","uproar","कोलाहल",null,"कोलाहल","Uproar"]
[null,null,null,null,null,null,null,null,null,null,null,1070,"Qaurter","qaurter","आवास,घर'",null,"आवास,घर'","Qaurter"]
[null,null,null,null,null,null,null,null,null,null,null,1071,"Maid-Servent","maid-servent","नौकरानी","OCCUPATIONS AND PROFESSION (व्यवसाय और पेशा )","नौकरानी","Maid-Servent",null,null,null,null,"OCCUPATIONS AND PROFESSION"]
[null,null,null,null,null,null,null,null,null,null,null,1072,"Anxiously","anxiously","चिंतिंत होकर",null,"चिंतिंत होकर","Anxiously"]
[null,null,null,null,null,null,null,null,null,null,null,1073,"Eager","eager","आतुर",null,"आतुर","Eager"]
[null,null,null,null,null,null,null,null,null,null,null,1074,"Seige","seige","कब्ज़ा करना",null,"कब्ज़ा करना","Seige"]
[null,null,null,null,null,null,null,null,null,null,null,1075,"Permanently","permanently","स्थायी रूप से",null,"स्थायी रूप से","Permanently"]
[null,null,null,null,null,null,null,null,null,null,null,1076,"Murder","murder","ह्त्या करना",null,"ह्त्या करना","Murder"]
[null,null,null,null,null,null,null,null,null,null,null,1077,"Moment ","moment ","पल,क्षण",null,"पल,क्षण","Moment "]
[null,null,null,null,null,null,null,null,null,null,null,1078,"Hid","hid","छिपा दिया",null,"छिपा दिया","Hid"]
[null,null,null,null,null,null,null,null,null,null,null,1079,"Bushes","bushes","झाडिया",null,"झाडिया","Bushes"]
[null,null,null,null,null,null,null,null,null,null,null,1080,"Apartment","apartment","महल का एक भाग",null,"महल का एक भाग","Apartment"]
[null,null,null,null,null,null,null,null,null,null,null,1081,"Thundered","thundered","धमकाया,गरज कर बोला",null,"धमकाया,गरज कर बोला","Thundered"]
[null,null,null,null,null,null,null,null,null,null,null,1082,"Painful","painful","टीस,दुःख भरे",null,"टीस,दुःख भरे","Painful"]
[null,null,null,null,null,null,null,null,null,null,null,1083,"Arrest","arrest","बंदी करना",null,"बंदी करना","Arrest"]
[null,null,null,null,null,null,null,null,null,null,null,1084,"Witnessed","witnessed","घटना की साक्षी बनी",null,"घटना की साक्षी बनी","Witnessed"]
[null,null,null,null,null,null,null,null,null,null,null,1085,"Assemble","assemble","जोड़ना,समवेत होना",null,"जोड़ना,समवेत होना","Assemble"]
[null,null,null,null,null,null,null,null,null,null,null,1086,"Thrust","thrust","घोंप दिया",null,"घोंप दिया","Thrust"]
[null,null,null,null,null,null,null,null,null,null,null,1087,"Mercilessly","mercilessly","निर्दयता,बेरहम होकर",null,"निर्दयता,बेरहम होकर","Mercilessly"]
[null,null,null,null,null,null,null,null,null,null,null,1088,"Tender","tender","कोमल,नाजुक",null,"कोमल,नाजुक","Tender"]
[null,null,null,null,null,null,null,null,null,null,null,1089,"Feeling","feeling","मनोभाव",null,{"$f":"O1117","v":"मनोभाव"},"Feeling"]
[null,null,null,null,null,null,null,null,null,null,null,1090,{"$f":"PROPER(N1118)","v":"Sacrifice"},"sacrifice","बलिदान कर दिया",null,"बलिदान कर दिया",{"$f":"PROPER(N1118)","v":"Sacrifice"}]
[null,null,null,null,null,null,null,null,null,null,null,1091,"Stay","stay","ठहरना",null,"ठहरना","Stay"]
[null,null,null,null,null,null,null,null,null,null,null,1092,"To Mourn ","to mourn ","शोक मनाना",null,"शोक मनाना","To Mourn "]
[null,null,null,null,null,null,null,null,null,null,null,1093,"Left","left","निकला",null,"निकला","Left"]
[null,null,null,null,null,null,null,null,null,null,null,1094,"Hall","hall","कक्ष",null,"कक्ष","Hall"]
[null,null,null,null,null,null,null,null,null,null,null,1095,"Assent","assent","अनुमति",null,"अनुमति","Assent"]
[null,null,null,null,null,null,null,null,null,null,null,1096,"Audit","audit","लेखा परीक्षा",null,"लेखा परीक्षा","Audit"]
[null,null,null,null,null,null,null,null,null,null,null,1097,"Unlettered","unlettered","निरक्षर,अनपढ़",null,"निरक्षर,अनपढ़","Unlettered"]
[null,null,null,null,null,null,null,null,null,null,null,1098,"Motherland","motherland","मातृभूमि",null,"मातृभूमि","Motherland"]
[null,null,null,null,null,null,null,null,null,null,null,1099,"Neighbour","neighbour","पडोसी",null,"पडोसी","Neighbour"]
[null,null,null,null,null,null,null,null,null,null,null,1100,"Boundary","boundary","सीमा",null,"सीमा","Boundary"]
[null,null,null,null,null,null,null,null,null,null,null,1101,"Visit","visit","देखना",null,"देखना","Visit"]
[null,null,null,null,null,null,null,null,null,null,null,1102,"Demonstration","demonstration","प्रदर्शन",null,"प्रदर्शन","Demonstration"]
[null,null,null,null,null,null,null,null,null,null,null,1103,"Receives","receives","प्राप्त करना",null,"प्राप्त करना","Receives"]
[null,null,null,null,null,null,null,null,null,null,null,1104,"Board","board","मंडली,बोर्ड",null,"मंडली,बोर्ड","Board"]
[null,null,null,null,null,null,null,null,null,null,null,1105,"Not At All","not at all","बिलकुल नहीं",null,"बिलकुल नहीं","Not At All"]
[null,null,null,null,null,null,null,null,null,null,null,1106,"Pleasure","pleasure","ख़ुशी",null,"ख़ुशी","Pleasure"]
[null,null,null,null,null,null,null,null,null,null,null,1107,"In Fact","in fact","सचमुच",null,"सचमुच","In Fact"]
[null,null,null,null,null,null,null,null,null,null,null,1108,"Really","really","वास्तव में",null,"वास्तव में","Really"]
[null,null,null,null,null,null,null,null,null,null,null,1109,"Benefit","benefit","लाभ",null,"लाभ","Benefit"]
[null,null,null,null,null,null,null,null,null,null,null,1110,"Certainly","certainly","सचमुच",null,"सचमुच","Certainly"]
[null,null,null,null,null,null,null,null,null,null,null,1111,"Grains","grains","अनाज",null,"अनाज","Grains"]
[null,null,null,null,null,null,null,null,null,null,null,1112,"Base","base","आधार",null,"आधार","Base"]
[null,null,null,null,null,null,null,null,null,null,null,1113,"Transistors","transistors","कम्प्यूटर के अवयव",null,"कम्प्यूटर के अवयव","Transistors"]
[null,null,null,null,null,null,null,null,null,null,null,1114,"Microchip","microchip","सूक्ष्म चिप",null,"सूक्ष्म चिप","Microchip"]
[null,null,null,null,null,null,null,null,null,null,null,1115,"Interesting","interesting","रुचिकर",null,"रुचिकर","Interesting"]
[null,null,null,null,null,null,null,null,null,null,null,1116,"Invented","invented","खोज की",null,"खोज की","Invented"]
[null,null,null,null,null,null,null,null,null,null,null,1117,"Calculator","calculator","गणक",null,"गणक","Calculator"]
[null,null,null,null,null,null,null,null,null,null,null,1118,"Machine","machine","मशीन",null,"मशीन","Machine"]
[null,null,null,null,null,null,null,null,null,null,null,1119,"Addition","addition","जोड़",null,"जोड़","Addition"]
[null,null,null,null,null,null,null,null,null,null,null,1120,"Subtraction","subtraction","बाकी",null,"बाकी","Subtraction"]
[null,null,null,null,null,null,null,null,null,null,null,1121,"Multiplication","multiplication","गुना",null,"गुना","Multiplication"]
[null,null,null,null,null,null,null,null,null,null,null,1122,"Division","division","भाग",null,"भाग","Division"]
[null,null,null,null,null,null,null,null,null,null,null,1123,"Broadcasting","broadcasting","प्रसारण",null,"प्रसारण","Broadcasting"]
[null,null,null,null,null,null,null,null,null,null,null,1124,"Accurately","accurately","त्रुटिरहित,ठीक-ठीक",null,"त्रुटिरहित,ठीक-ठीक","Accurately"]
[null,null,null,null,null,null,null,null,null,null,null,1125,"Listen","listen","सुनना",null,"सुनना","Listen"]
[null,null,null,null,null,null,null,null,null,null,null,1126,"Idea","idea","विचार",null,"विचार","Idea"]
[null,null,null,null,null,null,null,null,null,null,null,1127,"Russians","russians","रुसी",null,"रुसी","Russians"]
[null,null,null,null,null,null,null,null,null,null,null,1128,"Electric","electric","बिजली",null,"बिजली","Electric"]
[null,null,null,null,null,null,null,null,null,null,null,1129,"University","university","विश्व विद्यालय",null,"विश्व विद्यालय","University"]
[null,null,null,null,null,null,null,null,null,null,null,1130,"Usa","USA","सयुंक्त राज्य अमेरिका",null,"सयुंक्त राज्य अमेरिका","Usa"]
[null,null,null,null,null,null,null,null,null,null,null,1131,"Huge","huge","बड़ा",null,"बड़ा","Huge"]
[null,null,null,null,null,null,null,null,null,null,null,1132,"Different","different","भिन्न भिन्न",null,"भिन्न भिन्न","Different"]
[null,null,null,null,null,null,null,null,null,null,null,1133,"Size","size","आकार",null,"आकार","Size"]
[null,null,null,null,null,null,null,null,null,null,null,1134,"Since Then","since then","टैब से ही",null,"टैब से ही","Since Then"]
[null,null,null,null,null,null,null,null,null,null,null,1135,"Information","information","तब से ही",null,"तब से ही","Information"]
[null,null,null,null,null,null,null,null,null,null,null,1136,"Reservation","reservation","आरक्षण",null,"आरक्षण","Reservation"]
[null,null,null,null,null,null,null,null,null,null,null,1137,"Account","account","खाता",null,"खाता","Account"]
[null,null,null,null,null,null,null,null,null,null,null,1138,"Easily","easily","आसानी से",null,"आसानी से","Easily"]
[null,null,null,null,null,null,null,null,null,null,null,1139,"Helpful","helpful","मददगार",null,"मददगार","Helpful"]
[null,null,null,null,null,null,null,null,null,null,null,1140,"Provide","provide","देना",null,"देना","Provide"]
[null,null,null,null,null,null,null,null,null,null,null,1141,"Pass On","pass on","गुजरना",null,"गुजरना","Pass On"]
[null,null,null,null,null,null,null,null,null,null,null,1142,"Vote","vote","मत",null,"मत","Vote"]
[null,null,null,null,null,null,null,null,null,null,null,1143,"Election","election","चुनाव",null,"चुनाव","Election"]
[null,null,null,null,null,null,null,null,null,null,null,1144,"Replaced","replaced","बदलना",null,"बदलना","Replaced"]
[null,null,null,null,null,null,null,null,null,null,null,1145,"Belive","belive","विश्वास करना",null,"विश्वास करना","Belive"]
[null,null,null,null,null,null,null,null,null,null,null,1146,"Push","push","धकेलना",null,"धकेलना","Push"]
[null,null,null,null,null,null,null,null,null,null,null,1147,"Fault","fault","गलती",null,"गलती","Fault"]
[null,null,null,null,null,null,null,null,null,null,null,1148,"Substitute","substitute","विकल्प",null,"विकल्प","Substitute"]
[null,null,null,null,null,null,null,null,null,null,null,1149,"Certificate","certificate","प्रमाणपत्र",null,"प्रमाणपत्र","Certificate"]
[null,null,null,null,null,null,null,null,null,null,null,1150,"Chief Justice","chief justice","मुख्य न्यायाधिपति",null,"मुख्य न्यायाधिपति","Chief Justice"]
[null,null,null,null,null,null,null,null,null,null,null,1151,"Feel","feel","महसूस करना",null,"महसूस करना","Feel"]
[null,null,null,null,null,null,null,null,null,null,null,1152,"Clause","clause","धारा",null,"धारा","Clause"]
[null,null,null,null,null,null,null,null,null,null,null,1153,"Common Sense","common sense","व्यावहारिक ज्ञान",null,{"$f":"O1181","v":"व्यावहारिक ज्ञान"},"Common Sense"]
[null,null,null,null,null,null,null,null,null,null,null,1154,{"$f":"PROPER(N1182)","v":"Code"},"code","संहिता",null,"संहिता",{"$f":"PROPER(N1182)","v":"Code"}]
[null,null,null,null,null,null,null,null,null,null,null,1155,"Clarification","clarification","स्पष्टीकरण","SCHOOL RELATIVE  ( विद्यालय सम्बन्धी  )","स्पष्टीकरण","Clarification",null,null,null,null,"SCHOOLS"]
[null,null,null,null,null,null,null,null,null,null,null,1156,"Learn","learn","सीखना",null,"सीखना","Learn"]
[null,null,null,null,null,null,null,null,null,null,null,1157,"Committee","committee","समिति",null,"समिति","Committee",null,null,null,null,"SCHOOLS"]
[null,null,null,null,null,null,null,null,null,null,null,1158,"Contact","contact","सम्पर्क","SCHOOL RELATIVE  ( विद्यालय सम्बन्धी  )","सम्पर्क","Contact",null,null,null,null,"SCHOOLS"]
[null,null,null,null,null,null,null,null,null,null,null,1159,"Overtake","overtake","आगे निकलना",null,"आगे निकलना","Overtake"]
[null,null,null,null,null,null,null,null,null,null,null,1160,"Contempt","contempt","अवमानना",null,"अवमानना","Contempt"]
[null,null,null,null,null,null,null,null,null,null,null,1161,"Anywere","anywere","कही भी",null,"कही भी","Anywere"]
[null,null,null,null,null,null,null,null,null,null,null,1162,"Vacation","vacation","अवकाश",null,"अवकाश","Vacation"]
[null,null,null,null,null,null,null,null,null,null,null,1163,"Contex","contex","सन्दर्भ,प्रसंग",null,"सन्दर्भ,प्रसंग","Contex"]
[null,null,null,null,null,null,null,null,null,null,null,1164,"Holidays","holidays","अवकाश","SCHOOL RELATIVE  ( विद्यालय सम्बन्धी  )","अवकाश","Holidays",null,null,null,null,"SCHOOLS"]
[null,null,null,null,null,null,null,null,null,null,null,1165,"Suggested","suggested","सुझाव दिया",null,"सुझाव दिया","Suggested"]
[null,null,null,null,null,null,null,null,null,null,null,1166,"Complaint","complaint","शिकायत",null,"शिकायत","Complaint"]
[null,null,null,null,null,null,null,null,null,null,null,1167,"Hobby","hobby","आदत",null,"आदत","Hobby"]
[null,null,null,null,null,null,null,null,null,null,null,1168,"Delighted","delighted","प्रसन्न हुई",null,"प्रसन्न हुई","Delighted"]
[null,null,null,null,null,null,null,null,null,null,null,1169,"Earn","earn","कमाना",null,"कमाना","Earn"]
[null,null,null,null,null,null,null,null,null,null,null,1170,"Controversy","controversy","प्रतिवाद,वाद",null,"प्रतिवाद,वाद","Controversy"]
[null,null,null,null,null,null,null,null,null,null,null,1171,"Deposit","deposit","जमा कराओ",null,"जमा कराओ","Deposit"]
[null,null,null,null,null,null,null,null,null,null,null,1172,"Application Form","application form","आवेदन पत्र","SCHOOL RELATIVE  ( विद्यालय सम्बन्धी  )","आवेदन पत्र","Application Form",null,null,null,null,"school"]
[null,null,null,null,null,null,null,null,null,null,null,1173,"Photograph","photograph","फोटो",null,"फोटो","Photograph"]
[null,null,null,null,null,null,null,null,null,null,null,1174,"Entries","entries","प्रवेश","SCHOOL RELATIVE  ( विद्यालय सम्बन्धी  )","प्रवेश","Entries",null,null,null,null,"SCHOOLS"]
[null,null,null,null,null,null,null,null,null,null,null,1175,"Head Clerk","head clerk","मुख्य बाबु","OCCUPATIONS AND PROFESSION (व्यवसाय और पेशा )","मुख्य बाबु","Head Clerk",null,null,null,null,"OCCUPATIONS AND PROFESSION"]
[null,null,null,null,null,null,null,null,null,null,null,1176,"Specimen","specimen","विशेष प्रति",null,"विशेष प्रति","Specimen"]
[null,null,null,null,null,null,null,null,null,null,null,1177,"Signature","signature","हस्ताक्षर",null,"हस्ताक्षर","Signature"]
[null,null,null,null,null,null,null,null,null,null,null,1178,"Copyright","copyright","प्रकाशनाधिकार","OCCUPATIONS AND PROFESSION (व्यवसाय और पेशा )","प्रकाशनाधिकार","Copyright",null,null,null,null,"OCCUPATIONS AND PROFESSION"]
[null,null,null,null,null,null,null,null,null,null,null,1179,"Pay-In-Slip","pay-in-slip","वेतन पर्ची",null,"वेतन पर्ची","Pay-In-Slip"]
[null,null,null,null,null,null,null,null,null,null,null,1180,"Handed","handed","कार्यभार देना",null,"कार्यभार देना","Handed"]
[null,null,null,null,null,null,null,null,null,null,null,1181,"Council Of State","council of state","राज्यपरिषद",null,"राज्यपरिषद","Council Of State",null,null,null,null,"OCCUPATIONS AND PROFESSION"]
[null,null,null,null,null,null,null,null,null,null,null,1182,"Corrupt","corrupt","भ्रष्ट",null,"भ्रष्ट","Corrupt"]
[null,null,null,null,null,null,null,null,null,null,null,1183,"Whenever","whenever","जबतक",null,"जबतक","Whenever"]
[null,null,null,null,null,null,null,null,null,null,null,1184,"Safe","safe","सुरक्षित",null,"सुरक्षित","Safe"]
[null,null,null,null,null,null,null,null,null,null,null,1185,"Grow","grow","उगाना",null,"उगाना","Grow"]
[null,null,null,null,null,null,null,null,null,null,null,1186,"Corruption","corruption","भ्रस्टाचार",null,"भ्रस्टाचार","Corruption"]
[null,null,null,null,null,null,null,null,null,null,null,1187,"Withdraw","withdraw","निकलना",null,"निकलना","Withdraw"]
[null,null,null,null,null,null,null,null,null,null,null,1188,"Needs","needs","आवशयकता",null,"आवशयकता","Needs"]
[null,null,null,null,null,null,null,null,null,null,null,1189,"Diplomacy","diplomacy","राजनय,कूटनीति",null,"राजनय,कूटनीति","Diplomacy"]
[null,null,null,null,null,null,null,null,null,null,null,1190,"Foil","foil","चमकदार कागज",null,"चमकदार कागज","Foil"]
[null,null,null,null,null,null,null,null,null,null,null,1191,"Criminal","criminal","अपराधी",null,"अपराधी","Criminal"]
[null,null,null,null,null,null,null,null,null,null,null,1192,"Monsoon","monsoon","मानसून",null,"मानसून","Monsoon"]
[null,null,null,null,null,null,null,null,null,null,null,1193,"Defence","defence","प्रतिरक्षा",null,"प्रतिरक्षा","Defence"]
[null,null,null,null,null,null,null,null,null,null,null,1194,"Corn","corn","अनाज",null,"अनाज","Corn"]
[null,null,null,null,null,null,null,null,null,null,null,1195,"Treat","treat","उपचार",null,"उपचार","Treat"]
[null,null,null,null,null,null,null,null,null,null,null,1196,"Demand","demand","मांग",null,"मांग","Demand"]
[null,null,null,null,null,null,null,null,null,null,null,1197,"Arrows","arrows","तीर",null,"तीर","Arrows"]
[null,null,null,null,null,null,null,null,null,null,null,1198,"Lanes","lanes","गलियां",null,"गलियां","Lanes"]
[null,null,null,null,null,null,null,null,null,null,null,1199,"District","district","जिला",null,"जिला","District"]
[null,null,null,null,null,null,null,null,null,null,null,1200,"Religious","religious","धार्मिक",null,"धार्मिक","Religious"]
[null,null,null,null,null,null,null,null,null,null,null,1201,"Aback","aback","पीछे,पीछे की और",null,"पीछे,पीछे की और","Aback"]
[null,null,null,null,null,null,null,null,null,null,null,1202,"Abaction","abaction","पशुओ की चोरी",null,"पशुओ की चोरी","Abaction"]
[null,null,null,null,null,null,null,null,null,null,null,1203,"Abactor","abactor","पशु चोर",null,"पशु चोर","Abactor"]
[null,null,null,null,null,null,null,null,null,null,null,1204,"Abacus","abacus","गिनती यन्त्र",null,"गिनती यन्त्र","Abacus"]
[null,null,null,null,null,null,null,null,null,null,null,1205,"Abandon","abandon","छोड़ देना",null,"छोड़ देना","Abandon"]
[null,null,null,null,null,null,null,null,null,null,null,1206,"Abase","abase","बेकदर करना",null,"बेकदर करना","Abase"]
[null,null,null,null,null,null,null,null,null,null,null,1207,"Ability","ability","योग्यता","SCHOOL RELATIVE  ( विद्यालय सम्बन्धी  )","योग्यता","Ability",null,null,null,null,"SCHOOLS"]
[null,null,null,null,null,null,null,null,null,null,null,1208,"Abject","abject","नीच",null,"नीच","Abject"]
[null,null,null,null,null,null,null,null,null,null,null,1209,"Abate","abate","कम करना",null,"कम करना","Abate"]
[null,null,null,null,null,null,null,null,null,null,null,1210,"Abatement","abatement","कमी",null,"कमी","Abatement"]
[null,null,null,null,null,null,null,null,null,null,null,1211,"Abba","abba","पापा","RELATIONS AND RELATIVES ( सम्बन्ध और सम्बन्धी )","पापा","Abba",null,null,null,null,"RELATIVES"]
[null,null,null,null,null,null,null,null,null,null,null,1212,"Abbess","abbess","मह्न्तीं","OCCUPATIONS AND PROFESSION (व्यवसाय और पेशा )","मह्न्तीं","Abbess",null,null,null,null,"OC"]
[null,null,null,null,null,null,null,null,null,null,null,1213,"Abbey","abbey","मठ",null,"मठ","Abbey"]
[null,null,null,null,null,null,null,null,null,null,null,1214,"Abbot","abbot","मेहनत",null,"मेहनत","Abbot"]
[null,null,null,null,null,null,null,null,null,null,null,1215,"Abbreviate","abbreviate","छोटा रूप",null,"छोटा रूप","Abbreviate"]
[null,null,null,null,null,null,null,null,null,null,null,1216,"Abdicate","abdicate","राज्य या पद छोड़ना",null,"राज्य या पद छोड़ना","Abdicate"]
[null,null,null,null,null,null,null,null,null,null,null,1217,"Depty","depty","उप","PARTS OF BODY ( शरीर के अंग )",{"$f":"O1245","v":"उप"},"Depty",null,null,null,null,"PARTS OF BODY"]
[null,null,null,null,null,null,null,null,null,null,null,1218,{"$f":"PROPER(N1246)","v":"Abduct"},"abduct","भगा ले जाने ",null,"भगा ले जाने ",{"$f":"PROPER(N1246)","v":"Abduct"}]
[null,null,null,null,null,null,null,null,null,null,null,1219,"Abductor","abductor","भगा ले जाने वाला",null,"भगा ले जाने वाला","Abductor"]
[null,null,null,null,null,null,null,null,null,null,null,1220,"Abhorrent","abhorrent","घिनोना",null,"घिनोना","Abhorrent"]
[null,null,null,null,null,null,null,null,null,null,null,1221,"Abhore","abhore","घ्रणा",null,"घ्रणा","Abhore"]
[null,null,null,null,null,null,null,null,null,null,null,1222,"Abjactly","abjactly","निचता से",null,"निचता से","Abjactly"]
[null,null,null,null,null,null,null,null,null,null,null,1223,"Abjure","abjure","कसम खाकर छोड़ना",null,"कसम खाकर छोड़ना","Abjure"]
[null,null,null,null,null,null,null,null,null,null,null,1224,"Ablaze","ablaze","जलता हुआ",null,"जलता हुआ","Ablaze"]
[null,null,null,null,null,null,null,null,null,null,null,1225,"Able","able","योग्य ,लायक",null,"योग्य ,लायक","Able"]
[null,null,null,null,null,null,null,null,null,null,null,1226,"Able- Bodiet","able- bodiet","मजबूत",null,"मजबूत","Able- Bodiet"]
[null,null,null,null,null,null,null,null,null,null,null,1227,"Ably","ably","योग्यता से",null,"योग्यता से","Ably"]
[null,null,null,null,null,null,null,null,null,null,null,1228,"Abloom","abLoom","खिला  हुआ",null,"खिला  हुआ","Abloom"]
[null,null,null,null,null,null,null,null,null,null,null,1229,"Ablush","ablush","लज्जित",null,"लज्जित","Ablush"]
[null,null,null,null,null,null,null,null,null,null,null,1230,"Ablution","ablution","तीर्थ  स्थान",null,"तीर्थ  स्थान","Ablution"]
[null,null,null,null,null,null,null,null,null,null,null,1231,"Abnormal","abnormal","असाधारण",null,"असाधारण","Abnormal"]
[null,null,null,null,null,null,null,null,null,null,null,1232,"Aboard","aboard","जहाज या  गाड़ी  पर",null,"जहाज या  गाड़ी  पर","Aboard"]
[null,null,null,null,null,null,null,null,null,null,null,1233,"Abode","abode","घर",null,"घर","Abode"]
[null,null,null,null,null,null,null,null,null,null,null,1234,"Abolish","abolish","तोडना , मिठाना",null,"तोडना , मिठाना","Abolish"]
[null,null,null,null,null,null,null,null,null,null,null,1235,"Abolition","abolition","समाधि",null,"समाधि","Abolition"]
[null,null,null,null,null,null,null,null,null,null,null,1236,"Abominable","abominable","घिनोना",null,"घिनोना","Abominable"]
[null,null,null,null,null,null,null,null,null,null,null,1237,"Aboriginal","aboriginal","आदिम , आदिवासी",null,"आदिम , आदिवासी","Aboriginal"]
[null,null,null,null,null,null,null,null,null,null,null,1238,"Aborigines","aborigines","आदिवासी",null,"आदिवासी","Aborigines"]
[null,null,null,null,null,null,null,null,null,null,null,1239,"Abortion","abortion","ग्रभपात",null,"ग्रभपात","Abortion"]
[null,null,null,null,null,null,null,null,null,null,null,1240,"Abound","abound","पर्याप्त",null,"पर्याप्त","Abound"]
[null,null,null,null,null,null,null,null,null,null,null,1241,"Deprive","deprive","वंचित",null,"वंचित","Deprive"]
[null,null,null,null,null,null,null,null,null,null,null,1242,"Defarmation","defarmation","मानहानि",null,"मानहानि","Defarmation"]
[null,null,null,null,null,null,null,null,null,null,null,1243,"Above-Board","above-board","प्रकट , खुला",null,"प्रकट , खुला","Above-Board"]
[null,null,null,null,null,null,null,null,null,null,null,1244,"Abreast","abreast","साथ-साथ  पास-पास",null,"साथ-साथ  पास-पास","Abreast"]
[null,null,null,null,null,null,null,null,null,null,null,1245,"Abribge","abribge","छोटा  करना",null,"छोटा  करना","Abribge"]
[null,null,null,null,null,null,null,null,null,null,null,1246,"Abridged","abridged","घर या देश से बाहर",null,"घर या देश से बाहर","Abridged"]
[null,null,null,null,null,null,null,null,null,null,null,1247,"Abroad","abroad","घर या देश से बाहर",null,"घर या देश से बाहर","Abroad"]
[null,null,null,null,null,null,null,null,null,null,null,1248,"Abrupt","abrupt","आकस्मिक",null,"आकस्मिक","Abrupt"]
[null,null,null,null,null,null,null,null,null,null,null,1249,"Abscess","abscess","मवाद  भरा फोड़ा",null,"मवाद  भरा फोड़ा","Abscess"]
[null,null,null,null,null,null,null,null,null,null,null,1250,"Abscond","abscond","चुपके से भाग जाना",null,"चुपके से भाग जाना","Abscond"]
[null,null,null,null,null,null,null,null,null,null,null,1251,"Absence","absence","गैर हाजिर","SCHOOL RELATIVE  ( विद्यालय सम्बन्धी  )","गैर हाजिर","Absence",null,null,null,null,"SCHOOLS"]
[null,null,null,null,null,null,null,null,null,null,null,1252,"Discovery","discovery","खोज",null,"खोज","Discovery",null,null,null,null,"SCHOOLS"]
[null,null,null,null,null,null,null,null,null,null,null,1253,"Absentminded","absentminded","बेखबर",null,"बेखबर","Absentminded"]
[null,null,null,null,null,null,null,null,null,null,null,1254,"Distribution","distribution","वितरण",null,"वितरण","Distribution"]
[null,null,null,null,null,null,null,null,null,null,null,1255,"Absolutely","absolutely","पुर्णतः",null,"पुर्णतः","Absolutely"]
[null,null,null,null,null,null,null,null,null,null,null,1256,"Absord","absord","सोखना",null,"सोखना","Absord"]
[null,null,null,null,null,null,null,null,null,null,null,1257,"Absorbed","absorbed","सोखा",null,"सोखा","Absorbed"]
[null,null,null,null,null,null,null,null,null,null,null,1258,"Abstain","abstain","परहेजकरना",null,"परहेजकरना","Abstain"]
[null,null,null,null,null,null,null,null,null,null,null,1259,"Abstinent","abstinent","संयमी",null,"संयमी","Abstinent"]
[null,null,null,null,null,null,null,null,null,null,null,1260,"Domicile","domicile","अधिवास",null,"अधिवास","Domicile"]
[null,null,null,null,null,null,null,null,null,null,null,1261,"Abstract","abstract","निराकार",null,"निराकार","Abstract"]
[null,null,null,null,null,null,null,null,null,null,null,1262,"Dispute","dispute","विवाद",null,"विवाद","Dispute"]
[null,null,null,null,null,null,null,null,null,null,null,1263,"Inhabitants","inhabitants","निवासी",null,"निवासी","Inhabitants"]
[null,null,null,null,null,null,null,null,null,null,null,1264,"Dinner","dinner","शाम का भोजन",null,"शाम का भोजन","Dinner"]
[null,null,null,null,null,null,null,null,null,null,null,1265,"Discussion","discussion","चर्चा",null,"चर्चा","Discussion"]
[null,null,null,null,null,null,null,null,null,null,null,1266,"Emotional","emotional","भावुक",null,"भावुक","Emotional"]
[null,null,null,null,null,null,null,null,null,null,null,1267,"Stress","stress","तनाव",null,"तनाव","Stress"]
[null,null,null,null,null,null,null,null,null,null,null,1268,"Protect","protect","रक्षा करना",null,"रक्षा करना","Protect"]
[null,null,null,null,null,null,null,null,null,null,null,1269,"Earned","earned","कमाया",null,"कमाया","Earned"]
[null,null,null,null,null,null,null,null,null,null,null,1270,"Effort","effort","प्रयास",null,"प्रयास","Effort"]
[null,null,null,null,null,null,null,null,null,null,null,1271,"Tooth","tooth","दन्त",null,"दन्त","Tooth"]
[null,null,null,null,null,null,null,null,null,null,null,1272,"Eatable","eatable","खाने योग्य",null,"खाने योग्य","Eatable"]
[null,null,null,null,null,null,null,null,null,null,null,1273,"Structure","structure","सरंचना",null,"सरंचना","Structure"]
[null,null,null,null,null,null,null,null,null,null,null,1274,"Election Commissioner","election commissioner","निर्वाचन आयुक्त",null,"निर्वाचन आयुक्त","Election Commissioner"]
[null,null,null,null,null,null,null,null,null,null,null,1275,"Emergency","emergency","आपात",null,"आपात","Emergency"]
[null,null,null,null,null,null,null,null,null,null,null,1276,"Estimate","estimate","अनुमान",null,"अनुमान","Estimate"]
[null,null,null,null,null,null,null,null,null,null,null,1277,"Export Duty","export duty","निर्यात शुल्क",null,"निर्यात शुल्क","Export Duty"]
[null,null,null,null,null,null,null,null,null,null,null,1278,"Estate","estate","सम्पदा",null,"सम्पदा","Estate"]
[null,null,null,null,null,null,null,null,null,null,null,1279,"Place","place","स्थान विशेष,जगह",null,"स्थान विशेष,जगह","Place"]
[null,null,null,null,null,null,null,null,null,null,null,1280,"Expenditure","expenditure","खर्च",null,"खर्च","Expenditure"]
[null,null,null,null,null,null,null,null,null,null,null,1281,"Finance","finance","वित्त",null,{"$f":"O1309","v":"वित्त"},"Finance"]
[null,null,null,null,null,null,null,null,null,null,null,1282,{"$f":"PROPER(N1310)","v":"Nut Shell"},"nut shell","छिलका",null,"छिलका",{"$f":"PROPER(N1310)","v":"Nut Shell"}]
[null,null,null,null,null,null,null,null,null,null,null,1283,"Leftover","leftover","झूठा",null,"झूठा","Leftover"]
[null,null,null,null,null,null,null,null,null,null,null,1284,"Citizen","citizen","नागरिक",null,"नागरिक","Citizen"]
[null,null,null,null,null,null,null,null,null,null,null,1285,"Forbidden","forbidden","निषिद्ध",null,"निषिद्ध","Forbidden"]
[null,null,null,null,null,null,null,null,null,null,null,1286,"City","city","शहर",null,"शहर","City"]
[null,null,null,null,null,null,null,null,null,null,null,1287,"Quality","quality","गुणवत्ता",null,"गुणवत्ता","Quality"]
[null,null,null,null,null,null,null,null,null,null,null,1288,"Wife","wife","पत्नी","RELATIONS AND RELATIVES ( सम्बन्ध और सम्बन्धी )","पत्नी","Wife",null,null,null,null,"RELATIONS AND RELATIVES"]
[null,null,null,null,null,null,null,null,null,null,null,1289,"Force","force","बल",null,"बल","Force"]
[null,null,null,null,null,null,null,null,null,null,null,1290,"Freedom","freedom","आजादी",null,"आजादी","Freedom"]
[null,null,null,null,null,null,null,null,null,null,null,1291,"Territory","territory","क्षेत्र",null,"क्षेत्र","Territory"]
[null,null,null,null,null,null,null,null,null,null,null,1292,"Injury","injury","चोट",null,"चोट","Injury"]
[null,null,null,null,null,null,null,null,null,null,null,1293,"Direction","direction","दिशा",null,"दिशा","Direction"]
[null,null,null,null,null,null,null,null,null,null,null,1294,"Fund","fund","निधि",null,"निधि","Fund"]
[null,null,null,null,null,null,null,null,null,null,null,1295,"Part","part","भाग",null,"भाग","Part"]
[null,null,null,null,null,null,null,null,null,null,null,1296,"Duty","duty","कर्तव्य",null,"कर्तव्य","Duty"]
[null,null,null,null,null,null,null,null,null,null,null,1297,"Agency","agency","एजेंसी",null,"एजेंसी","Agency"]
[null,null,null,null,null,null,null,null,null,null,null,1298,"Jewellery","jewellery","आभूषण",null,"आभूषण","Jewellery"]
[null,null,null,null,null,null,null,null,null,null,null,1299,"Gratuity","gratuity","उपदान",null,"उपदान","Gratuity"]
[null,null,null,null,null,null,null,null,null,null,null,1300,"Guidance","guidance","मार्गदर्शन",null,"मार्गदर्शन","Guidance"]
[null,null,null,null,null,null,null,null,null,null,null,1301,"Custem","custem","रिवाज",null,"रिवाज","Custem"]
[null,null,null,null,null,null,null,null,null,null,null,1302,"Tradition","tradition","परम्परा",null,"परम्परा","Tradition"]
[null,null,null,null,null,null,null,null,null,null,null,1303,"Event","event","घटना",null,"घटना","Event"]
[null,null,null,null,null,null,null,null,null,null,null,1304,"Occasion","occasion","अवसर",null,"अवसर","Occasion"]
[null,null,null,null,null,null,null,null,null,null,null,1305,"House Of People","house of people","लोकसभा",null,"लोकसभा","House Of People"]
[null,null,null,null,null,null,null,null,null,null,null,1306,"Movement","movement","क्षण",null,"क्षण","Movement"]
[null,null,null,null,null,null,null,null,null,null,null,1307,"Costume","costume","वेशभूषा",null,"वेशभूषा","Costume"]
[null,null,null,null,null,null,null,null,null,null,null,1308,"Guaratee","guaratee","प्रत्याभूति",null,"प्रत्याभूति","Guaratee"]
[null,null,null,null,null,null,null,null,null,null,null,1309,"Involve","involve","शामिल करना",null,"शामिल करना","Involve"]
[null,null,null,null,null,null,null,null,null,null,null,1310,"Stick","stick","छड़ी",null,"छड़ी","Stick"]
[null,null,null,null,null,null,null,null,null,null,null,1311,"Episode","episode","घटनाक्रम",null,"घटनाक्रम","Episode"]
[null,null,null,null,null,null,null,null,null,null,null,1312,"Deity","deity","देवी",null,"देवी","Deity"]
[null,null,null,null,null,null,null,null,null,null,null,1313,"Puppet","puppet","पुतली",null,"पुतली","Puppet"]
[null,null,null,null,null,null,null,null,null,null,null,1314,"Memory","memory","याद",null,"याद","Memory"]
[null,null,null,null,null,null,null,null,null,null,null,1315,"Impeachment","impeachment","महाभियाग",null,"महाभियाग","Impeachment"]
[null,null,null,null,null,null,null,null,null,null,null,1316,"Industry","industry","उद्द्योग",null,"उद्द्योग","Industry"]
[null,null,null,null,null,null,null,null,null,null,null,1317,"Inquiry","inquiry","जाँच",null,"जाँच","Inquiry"]
[null,null,null,null,null,null,null,null,null,null,null,1318,"Institude","institude","संस्था",null,"संस्था","Institude"]
[null,null,null,null,null,null,null,null,null,null,null,1319,"Afternoon","afternoon","दोपहर",null,"दोपहर","Afternoon"]
[null,null,null,null,null,null,null,null,null,null,null,1320,"Interst","interst","ब्याज",null,"ब्याज","Interst"]
[null,null,null,null,null,null,null,null,null,null,null,1321,"Pedestrain","pedestrain","पेदल यात्री",null,"पेदल यात्री","Pedestrain"]
[null,null,null,null,null,null,null,null,null,null,null,1322,"Pavement","pavement","फूटपाथ",null,"फूटपाथ","Pavement"]
[null,null,null,null,null,null,null,null,null,null,null,1323,"Rule","rule","नियम",null,"नियम","Rule"]
[null,null,null,null,null,null,null,null,null,null,null,1324,"Signal","signal","संकेत",null,"संकेत","Signal"]
[null,null,null,null,null,null,null,null,null,null,null,1325,"Influence","influence","प्रभाव",null,"प्रभाव","Influence"]
[null,null,null,null,null,null,null,null,null,null,null,1326,"Maid Servant","maid servant","नोकरानी",null,"नोकरानी","Maid Servant"]
[null,null,null,null,null,null,null,null,null,null,null,1327,"Inspection","inspection","निरीक्षण",null,"निरीक्षण","Inspection"]
[null,null,null,null,null,null,null,null,null,null,null,1328,"Bush","bush","झाड़ी",null,"झाड़ी","Bush"]
[null,null,null,null,null,null,null,null,null,null,null,1329,"Insurance","insurance","बीमा",null,"बीमा","Insurance"]
[null,null,null,null,null,null,null,null,null,null,null,1330,"Ineligible","ineligible","अयोग्य",null,"अयोग्य","Ineligible"]
[null,null,null,null,null,null,null,null,null,null,null,1331,"Invalid","invalid","अमान्य",null,"अमान्य","Invalid"]
[null,null,null,null,null,null,null,null,null,null,null,1332,"Investigation","investigation","अनुसन्धान",null,"अनुसन्धान","Investigation"]
[null,null,null,null,null,null,null,null,null,null,null,1333,"Judgement","judgement","निर्णय",null,"निर्णय","Judgement"]
[null,null,null,null,null,null,null,null,null,null,null,1334,"Message","message","सन्देश",null,"सन्देश","Message"]
[null,null,null,null,null,null,null,null,null,null,null,1335,"Holiday","holiday","छुट्टी",null,"छुट्टी","Holiday"]
[null,null,null,null,null,null,null,null,null,null,null,1336,"Labour","labour","श्रम",null,"श्रम","Labour",null,null,null,null,"school"]
[null,null,null,null,null,null,null,null,null,null,null,1337,"Entry","entry","प्रवेश","SCHOOL RELATIVE  ( विद्यालय सम्बन्धी  )","प्रवेश","Entry",null,null,null,null,"school"]
[null,null,null,null,null,null,null,null,null,null,null,1338,"Companion","companion","साथी",null,"साथी","Companion"]
[null,null,null,null,null,null,null,null,null,null,null,1339,"Ankle","Ankle","टखना","PARTS OF BODY ( शरीर के अंग )","टखना","Ankle",null,null,null,null,"PARTS OF BODY"]
[null,null,null,null,null,null,null,null,null,null,null,1340,"Armpit","armpit","बगल","PARTS OF BODY ( शरीर के अंग )","बगल","Armpit",null,null,null,null,"PARTS OF BODY"]
[null,null,null,null,null,null,null,null,null,null,null,1341,"Legel","legel","विधिसम्मत",null,"विधिसम्मत","Legel",null,null,null,null,"PARTS OF BODY"]
[null,null,null,null,null,null,null,null,null,null,null,1342,"Beard","beard","दाढ़ी","OCCUPATIONS AND PROFESSION","दाढ़ी","Beard",null,null,null,null,"occupation or profession"]
[null,null,null,null,null,null,null,null,null,null,null,1343,"Land Revenue","land revenue","भू अभिलेख",null,"भू अभिलेख","Land Revenue",null,null,null,null,"PARTS OF BODY"]
[null,null,null,null,null,null,null,null,null,null,null,1344,"Brain","brain","दिमाग","PARTS OF BODY ( शरीर के अंग )","दिमाग","Brain",null,null,null,null,"PARTS OF BODY"]
[null,null,null,null,null,null,null,null,null,null,null,1345,"Elbow","elbow","कोहनी",null,{"$f":"O1373","v":"कोहनी"},"Elbow"]
[null,null,null,null,null,null,null,null,null,null,null,1346,{"$f":"PROPER(N1374)","v":"Eyeball"},"eyeball","आँख की पुतली","PARTS OF BODY ( शरीर के अंग )","आँख की पुतली",{"$f":"PROPER(N1374)","v":"Eyeball"},null,null,null,null,"PARTS OF BODY"]
[null,null,null,null,null,null,null,null,null,null,null,1347,"Eyelid","eyelid","पलक","PARTS OF BODY ( शरीर के अंग )","पलक","Eyelid",null,null,null,null,"PARTS OF BODY"]
[null,null,null,null,null,null,null,null,null,null,null,1348,"Forehead","forehead","माथा","PARTS OF BODY ( शरीर के अंग )","माथा","Forehead",null,null,null,null,"PARTS OF BODY"]
[null,null,null,null,null,null,null,null,null,null,null,1349,"Levy","levy","आरोपण",null,"आरोपण","Levy",null,null,null,null,"PARTS OF BODY"]
[null,null,null,null,null,null,null,null,null,null,null,1350,"Legislative Assembly","legislative assembly","विधान सभा",null,"विधान सभा","Legislative Assembly",null,null,null,null,"PARTS OF BODY"]
[null,null,null,null,null,null,null,null,null,null,null,1351,"Legislative Council","legislative council","विधान परिषद",null,"विधान परिषद","Legislative Council",null,null,null,null,"PARTS OF BODY"]
[null,null,null,null,null,null,null,null,null,null,null,1352,"Joint","joint","जोड़",null,"जोड़","Joint"]
[null,null,null,null,null,null,null,null,null,null,null,1353,"Lung","lung","फेफेड़े","PARTS OF BODY ( शरीर के अंग )","फेफेड़े","Lung",null,null,null,null,"PARTS OF BODY"]
[null,null,null,null,null,null,null,null,null,null,null,1354,"Liberty","liberty","आजादी",null,"आजादी","Liberty",null,null,null,null,"PARTS OF BODY"]
[null,null,null,null,null,null,null,null,null,null,null,1355,"Rib ","rib ","पसली",null,"पसली","Rib "]
[null,null,null,null,null,null,null,null,null,null,null,1356,"Licence","licence","अनुज्ञप्ति",null,"अनुज्ञप्ति","Licence",null,null,null,null,"PARTS OF BODY"]
[null,null,null,null,null,null,null,null,null,null,null,1357,"Limitation","limitation","परिसीमा",null,"परिसीमा","Limitation"]
[null,null,null,null,null,null,null,null,null,null,null,1358,"Throat","throat","गला","PARTS OF BODY ( शरीर के अंग )","गला","Throat",null,null,null,null,"PARTS OF BODY"]
[null,null,null,null,null,null,null,null,null,null,null,1359,"Toe","toe","पैर की अंगूठा","PARTS OF BODY ( शरीर के अंग )","पैर की अंगूठा","Toe",null,null,null,null,"PARTS OF BODY"]
[null,null,null,null,null,null,null,null,null,null,null,1360,"Loan","loan","उधार ऋण",null,"उधार ऋण","Loan",null,null,null,null,"PARTS OF BODY"]
[null,null,null,null,null,null,null,null,null,null,null,1361,"Wrist","wrist","कलाई","PARTS OF BODY ( शरीर के अंग )","कलाई","Wrist",null,null,null,null,"PARTS OF BODY"]
[null,null,null,null,null,null,null,null,null,null,null,1362,"Lockup","lockup","बंदीखाना",null,"बंदीखाना","Lockup",null,null,null,null,"occupation or profession"]
[null,null,null,null,null,null,null,null,null,null,null,1363,"Barber","barber","नाइ","OCCUPATIONS AND PROFESSION (व्यवसाय और पेशा )","नाइ","Barber",null,null,null,null,"occupation or profession"]
[null,null,null,null,null,null,null,null,null,null,null,1364,"Blacksmith","blacksmith","लुहार","OCCUPATIONS AND PROFESSION (व्यवसाय और पेशा )","लुहार","Blacksmith",null,null,null,null,"occupation or profession"]
[null,null,null,null,null,null,null,null,null,null,null,1365,"Maintainace","maintainace","रखरखाव",null,"रखरखाव","Maintainace",null,null,null,null,"occupation or profession"]
[null,null,null,null,null,null,null,null,null,null,null,1366,"Carpenter","carpenter","खाती","OCCUPATIONS AND PROFESSION (व्यवसाय और पेशा )","खाती","Carpenter",null,null,null,null,"occupation or profession"]
[null,null,null,null,null,null,null,null,null,null,null,1367,"Clerk","clerk","बाबु","OCCUPATIONS AND PROFESSION (व्यवसाय और पेशा )","बाबु","Clerk",null,null,null,null,"occupation or profession"]
[null,null,null,null,null,null,null,null,null,null,null,1368,"Contractor","contractor","ठेकेदार","OCCUPATIONS AND PROFESSION (व्यवसाय और पेशा )","ठेकेदार","Contractor",null,null,null,null,"occupation or profession"]
[null,null,null,null,null,null,null,null,null,null,null,1369,"Migration","migration","प्रवजन",null,"प्रवजन","Migration"]
[null,null,null,null,null,null,null,null,null,null,null,1370,"Coolie","coolie","कुली","OCCUPATIONS AND PROFESSION (व्यवसाय और पेशा )","कुली","Coolie",null,null,null,null,"occupation or profession"]
[null,null,null,null,null,null,null,null,null,null,null,1371,"Mining","mining","खनिज",null,"खनिज","Mining",null,null,null,null,"occupation or profession"]
[null,null,null,null,null,null,null,null,null,null,null,1372,"Memorial","memorial","स्मारक",null,"स्मारक","Memorial",null,null,null,null,"occupation or profession"]
[null,null,null,null,null,null,null,null,null,null,null,1373,"Memo","memo","स्मृतिपत्र",null,"स्मृतिपत्र","Memo",null,null,null,null,"occupation or profession"]
[null,null,null,null,null,null,null,null,null,null,null,1374,"Editor","editor","प्रकाशक","OCCUPATIONS AND PROFESSION (व्यवसाय और पेशा )","प्रकाशक","Editor",null,null,null,null,"occupation or profession"]
[null,null,null,null,null,null,null,null,null,null,null,1375,"Engineer","engineer","अभियंता","OCCUPATIONS AND PROFESSION (व्यवसाय और पेशा )","अभियंता","Engineer",null,null,null,null,"occupation or profession"]
[null,null,null,null,null,null,null,null,null,null,null,1376,"Memorandum","memorandum","ज्ञापन",null,"ज्ञापन","Memorandum",null,null,null,null,"occupation or profession"]
[null,null,null,null,null,null,null,null,null,null,null,1377,"Member","member","सदस्य",null,"सदस्य","Member",null,null,null,null,"occupation or profession"]
[null,null,null,null,null,null,null,null,null,null,null,1378,"Majority","majority","बहुमत",null,"बहुमत","Majority",null,null,null,null,"occupation or profession"]
[null,null,null,null,null,null,null,null,null,null,null,1379,"Goldsmith","goldsmith","सुनार","OCCUPATIONS AND PROFESSION (व्यवसाय और पेशा )","सुनार","Goldsmith",null,null,null,null,"occupation or profession"]
[null,null,null,null,null,null,null,null,null,null,null,1380,"Hawker","hawker","फेरीवाला","OCCUPATIONS AND PROFESSION (व्यवसाय और पेशा )","फेरीवाला","Hawker",null,null,null,null,"occupation or profession"]
[null,null,null,null,null,null,null,null,null,null,null,1381,"Inspector","inspector","निरीक्षक","OCCUPATIONS AND PROFESSION (व्यवसाय और पेशा )","निरीक्षक","Inspector",null,null,null,null,"occupation or profession"]
[null,null,null,null,null,null,null,null,null,null,null,1382,"Jeweller","jeweller","जोहरी","OCCUPATIONS AND PROFESSION (व्यवसाय और पेशा )","जोहरी","Jeweller",null,null,null,null,"occupation or profession"]
[null,null,null,null,null,null,null,null,null,null,null,1383,"Mandamus","mandamus","परमादेश",null,"परमादेश","Mandamus",null,null,null,null,"occupation or profession"]
[null,null,null,null,null,null,null,null,null,null,null,1384,"Merchant","merchant","व्यापारी","OCCUPATIONS AND PROFESSION (व्यवसाय और पेशा )","व्यापारी","Merchant",null,null,null,null,"occupation or profession"]
[null,null,null,null,null,null,null,null,null,null,null,1385,"Manufafacture","manufafacture","निर्माण",null,"निर्माण","Manufafacture",null,null,null,null,"occupation or profession"]
[null,null,null,null,null,null,null,null,null,null,null,1386,"Painter","painter","चित्रकार","OCCUPATIONS AND PROFESSION (व्यवसाय और पेशा )","चित्रकार","Painter",null,null,null,null,"occupation or profession"]
[null,null,null,null,null,null,null,null,null,null,null,1387,"Police","police","पुलिस","OCCUPATIONS AND PROFESSION (व्यवसाय और पेशा )","पुलिस","Police",null,null,null,null,"occupation or profession"]
[null,null,null,null,null,null,null,null,null,null,null,1388,"Policeman","policeman","सिपाही","OCCUPATIONS AND PROFESSION (व्यवसाय और पेशा )","सिपाही","Policeman",null,null,null,null,"occupation or profession"]
[null,null,null,null,null,null,null,null,null,null,null,1389,"Postman","postman","डाकिया","OCCUPATIONS AND PROFESSION (व्यवसाय और पेशा )","डाकिया","Postman",null,null,null,null,"occupation or profession"]
[null,null,null,null,null,null,null,null,null,null,null,1390,"Morality","morality","सदाचार",null,"सदाचार","Morality",null,null,null,null,"occupation or profession"]
[null,null,null,null,null,null,null,null,null,null,null,1391,"Shopkeeper","shopkeeper","दुकानदार","OCCUPATIONS AND PROFESSION (व्यवसाय और पेशा )","दुकानदार","Shopkeeper",null,null,null,null,"occupation or profession"]
[null,null,null,null,null,null,null,null,null,null,null,1392,"Modification","modification","रूपभेद सुधार",null,"रूपभेद सुधार","Modification"]
[null,null,null,null,null,null,null,null,null,null,null,1393,"Occupations","occupations","व्यवसाय","OCCUPATIONS AND PROFESSION (व्यवसाय और पेशा )","व्यवसाय","Occupations"]
[null,null,null,null,null,null,null,null,null,null,null,1394,"Motion Of Confidnece","motion of confidnece","विश्वाश प्रस्ताव",null,"विश्वाश प्रस्ताव","Motion Of Confidnece",null,null,null,null,"occupation or profession"]
[null,null,null,null,null,null,null,null,null,null,null,1395,"Behaviour","behaviour","व्यवहार",null,"व्यवहार","Behaviour",null,null,null,null,"occupation or profession"]
[null,null,null,null,null,null,null,null,null,null,null,1396,"Washerman","washerman","धोबी","OCCUPATIONS AND PROFESSION (व्यवसाय और पेशा )","धोबी","Washerman",null,null,null,null,"occupation or profession"]
[null,null,null,null,null,null,null,null,null,null,null,1397,"Watchmen","watchmen","चोकीदार","OCCUPATIONS AND PROFESSION (व्यवसाय और पेशा )","चोकीदार","Watchmen",null,null,null,null,"occupation or profession"]
[null,null,null,null,null,null,null,null,null,null,null,1398,"Writer","writer","लेखक","OCCUPATIONS AND PROFESSION (व्यवसाय और पेशा )","लेखक","Writer",null,null,null,null,"occupation or profession"]
[null,null,null,null,null,null,null,null,null,null,null,1399,"Bull","bull","सांड","ANIMALS ( पशु )","सांड","Bull",null,null,null,null,"ANIMALS"]
[null,null,null,null,null,null,null,null,null,null,null,1400,"Bitch","bitch","कुतिया","ANIMALS ( पशु )","कुतिया","Bitch",null,null,null,null,"ANIMALS"]
[null,null,null,null,null,null,null,null,null,null,null,1401,"Leopard","leopard","तेंदुवा","ANIMALS ( पशु )","तेंदुवा","Leopard",null,null,null,null,"ANIMALS"]
[null,null,null,null,null,null,null,null,null,null,null,1402,"Spotted","spotted","देखा या पाया",null,"देखा या पाया","Spotted"]
[null,null,null,null,null,null,null,null,null,null,null,1403,"Junk Shop","junk shop","कबाड़ी की दुकान","OCCUPATIONS AND PROFESSION (व्यवसाय और पेशा )","कबाड़ी की दुकान","Junk Shop",null,null,null,null,"occupation or profession"]
[null,null,null,null,null,null,null,null,null,null,null,1404,"Money Bill","money bill","धन विधेयक",null,"धन विधेयक","Money Bill"]
[null,null,null,null,null,null,null,null,null,null,null,1405,"Cheap","cheap","सस्ती",null,"सस्ती","Cheap"]
[null,null,null,null,null,null,null,null,null,null,null,1406,"Expensive","expensive","महंगा",null,"महंगा","Expensive"]
[null,null,null,null,null,null,null,null,null,null,null,1407,"Oak","oak","सह बलूत वृक्ष",null,"सह बलूत वृक्ष","Oak"]
[null,null,null,null,null,null,null,null,null,null,null,1408,"Roll-Top","roll-top","लपेट सतह",null,"लपेट सतह","Roll-Top"]
[null,null,null,null,null,null,null,null,null,null,null,1409,"Roll-Top Desk","roll-top desk","लपेट सतह वाली मेज",null,{"$f":"O1437","v":"लपेट सतह वाली मेज"},"Roll-Top Desk"]
[null,null,null,null,null,null,null,null,null,null,null,1410,{"$f":"PROPER(N1438)","v":"Several"},"several","कहीं",null,"कहीं",{"$f":"PROPER(N1438)","v":"Several"}]
[null,null,null,null,null,null,null,null,null,null,null,1411,"Obligation","obligation","आभार",null,"आभार","Obligation"]
[null,null,null,null,null,null,null,null,null,null,null,1412,"Clumsily","clumsily","भद्दे तरीके से",null,"भद्दे तरीके से","Clumsily"]
[null,null,null,null,null,null,null,null,null,null,null,1413,"Mended","mended","मरम्मत की",null,"मरम्मत की","Mended"]
[null,null,null,null,null,null,null,null,null,null,null,1414,"Opinion","opinion","अभिप्राय राय",null,"अभिप्राय राय","Opinion",null,null,null,null,"PARTS OF BODY"]
[null,null,null,null,null,null,null,null,null,null,null,1415,"Newspaper","newspaper","समाचार पत्र",null,"समाचार पत्र","Newspaper"]
[null,null,null,null,null,null,null,null,null,null,null,1416,"Restore","restore","पुनः लाना",null,"पुनः लाना","Restore"]
[null,null,null,null,null,null,null,null,null,null,null,1417,"Risk","risk","जोखिम भरा",null,"जोखिम भरा","Risk"]
[null,null,null,null,null,null,null,null,null,null,null,1418,"Challenge","challenge","चुनोती",null,"चुनोती","Challenge"]
[null,null,null,null,null,null,null,null,null,null,null,1419,"Nomination","nomination","नाम निर्देशन",null,"नाम निर्देशन","Nomination"]
[null,null,null,null,null,null,null,null,null,null,null,1420,"Workroom","workroom","कार्य कक्ष",null,"कार्य कक्ष","Workroom"]
[null,null,null,null,null,null,null,null,null,null,null,1421,"Garage","garage","वाहन कक्ष",null,"वाहन कक्ष","Garage"]
[null,null,null,null,null,null,null,null,null,null,null,1422,"Remove","remove","हटाना",null,"हटाना","Remove"]
[null,null,null,null,null,null,null,null,null,null,null,1423,"Completely","completely","पूरी तरह से",null,"पूरी तरह से","Completely"]
[null,null,null,null,null,null,null,null,null,null,null,1424,"Naval","naval","नौसेना",null,"नौसेना","Naval"]
[null,null,null,null,null,null,null,null,null,null,null,1425,"Notification","notification","अधिसूचना",null,"अधिसूचना","Notification",null,null,null,null,"school"]
[null,null,null,null,null,null,null,null,null,null,null,1426,"Organization","organization","संगटन",null,"संगटन","Organization",null,null,null,null,"school"]
[null,null,null,null,null,null,null,null,null,null,null,1427,"Parliament","parliament","संसद",null,"संसद","Parliament",null,null,null,null,"school"]
[null,null,null,null,null,null,null,null,null,null,null,1428,"Partership","partership","भागिता",null,"भागिता","Partership",null,null,null,null,"school"]
[null,null,null,null,null,null,null,null,null,null,null,1429,"Passport","passport","पारपत्र",null,"पारपत्र","Passport",null,null,null,null,"school"]
[null,null,null,null,null,null,null,null,null,null,null,1430,"Pension","pension","निवृत वेतन",null,"निवृत वेतन","Pension",null,null,null,null,"school"]
[null,null,null,null,null,null,null,null,null,null,null,1431,"Penalty","penalty","दंड",null,"दंड","Penalty",null,null,null,null,"school"]
[null,null,null,null,null,null,null,null,null,null,null,1432,"Pending","pending","लंबित",null,"लंबित","Pending",null,null,null,null,"school"]
[null,null,null,null,null,null,null,null,null,null,null,1433,"Preamble","preamble","प्रस्तावना",null,"प्रस्तावना","Preamble",null,null,null,null,"school"]
[null,null,null,null,null,null,null,null,null,null,null,1434,"Privileges","privileges","विशेषाधिकार",null,"विशेषाधिकार","Privileges",null,null,null,null,"school"]
[null,null,null,null,null,null,null,null,null,null,null,1435,"Black Board","black board","श्यामपट","SCHOOL RELATIVE  ( विद्यालय सम्बन्धी  )","श्यामपट","Black Board",null,null,null,null,"school"]
[null,null,null,null,null,null,null,null,null,null,null,1436,"Process","process","विधान",null,"विधान","Process",null,null,null,null,"school"]
[null,null,null,null,null,null,null,null,null,null,null,1437,"Proclamation","proclamation","घोषणा",null,"घोषणा","Proclamation",null,null,null,null,"school"]
[null,null,null,null,null,null,null,null,null,null,null,1438,"Prohibited","prohibited","मनाही",null,"मनाही","Prohibited",null,null,null,null,"school"]
[null,null,null,null,null,null,null,null,null,null,null,1439,"Prohibition","prohibition","निषेध",null,"निषेध","Prohibition",null,null,null,null,"school"]
[null,null,null,null,null,null,null,null,null,null,null,1440,"Proposal","proposal","प्रस्ताव",null,"प्रस्ताव","Proposal",null,null,null,null,"school"]
[null,null,null,null,null,null,null,null,null,null,null,1441,"Publication","publication","प्रकाशन",null,"प्रकाशन","Publication",null,null,null,null,"school"]
[null,null,null,null,null,null,null,null,null,null,null,1442,"Qualification","qualification","योग्यता","SCHOOL RELATIVE  ( विद्यालय सम्बन्धी  )","योग्यता","Qualification",null,null,null,null,"school"]
[null,null,null,null,null,null,null,null,null,null,null,1443,"Quarantine","quarantine","निरोधा",null,"निरोधा","Quarantine",null,null,null,null,"school"]
[null,null,null,null,null,null,null,null,null,null,null,1444,"Recruitment","recruitment","भर्ती",null,"भर्ती","Recruitment",null,null,null,null,"school"]
[null,null,null,null,null,null,null,null,null,null,null,1445,"Head Master","head master","प्रधानाध्यापक","SCHOOL RELATIVE  ( विद्यालय सम्बन्धी  )","प्रधानाध्यापक","Head Master",null,null,null,null,"school"]
[null,null,null,null,null,null,null,null,null,null,null,1446,"Region","region","क्षेत्र",null,"क्षेत्र","Region",null,null,null,null,"school"]
[null,null,null,null,null,null,null,null,null,null,null,1447,"Chapter","chapter","अध्याय","SCHOOL RELATIVE  ( विद्यालय सम्बन्धी  )","अध्याय","Chapter",null,null,null,null,"school"]
[null,null,null,null,null,null,null,null,null,null,null,1448,"Vacancy","vacancy","रिक्ति","SCHOOL RELATIVE  ( विद्यालय सम्बन्धी  )","रिक्ति","Vacancy",null,null,null,null,"school"]
[null,null,null,null,null,null,null,null,null,null,null,1449,"Validity","validity","मान्यता","SCHOOL RELATIVE  ( विद्यालय सम्बन्धी  )","मान्यता","Validity",null,null,null,null,"school"]
[null,null,null,null,null,null,null,null,null,null,null,1450,"Vocation","vocation","व्यवसाय",null,"व्यवसाय","Vocation",null,null,null,null,"school"]
[null,null,null,null,null,null,null,null,null,null,null,1451,"Writ","writ","लेख आदेश",null,"लेख आदेश","Writ",null,null,null,null,"school"]
[null,null,null,null,null,null,null,null,null,null,null,1452,"Warranty","warranty","मरम्मत की ",null,"मरम्मत की ","Warranty",null,null,null,null,"school"]
[null,null,null,null,null,null,null,null,null,null,null,1453,"Wage","wage","मजदूरी",null,"मजदूरी","Wage",null,null,null,null,"school"]
[null,null,null,null,null,null,null,null,null,null,null,1454,"Violation","violation","अतिक्रमण",null,"अतिक्रमण","Violation",null,null,null,null,"school"]
[null,null,null,null,null,null,null,null,null,null,null,1455,"Voter","voter","मतदाता",null,"मतदाता","Voter",null,null,null,null,"school"]
[null,null,null,null,null,null,null,null,null,null,null,1456,"Unity","unity","एकता",null,"एकता","Unity",null,null,null,null,"school"]
[null,null,null,null,null,null,null,null,null,null,null,1457,"Union","union","संघ",null,"संघ","Union",null,null,null,null,"school"]
[null,null,null,null,null,null,null,null,null,null,null,1458," Tax"," tax","कर",null,"कर"," Tax",null,null,null,null,"school"]
[null,null,null,null,null,null,null,null,null,null,null,1459,"Session","session","सत्र",null,"सत्र","Session",null,null,null,null,"school"]
[null,null,null,null,null,null,null,null,null,null,null,1460,"Service Charge","service charge","सेवाभार",null,"सेवाभार","Service Charge",null,null,null,null,"school"]
[null,null,null,null,null,null,null,null,null,null,null,1461,"Magazine","magazine","पत्रिका","SCHOOL RELATIVE  ( विद्यालय सम्बन्धी  )","पत्रिका","Magazine",null,null,null,null,"school"]
[null,null,null,null,null,null,null,null,null,null,null,1462,"Relevant","relevant","सुसंगत",null,"सुसंगत","Relevant",null,null,null,null,"school"]
[null,null,null,null,null,null,null,null,null,null,null,1463,"Transition","transition","सक्रमण",null,"सक्रमण","Transition",null,null,null,null,"school"]
[null,null,null,null,null,null,null,null,null,null,null,1464,"Tribe","tribe","जनजाति",null,"जनजाति","Tribe",null,null,null,null,"school"]
[null,null,null,null,null,null,null,null,null,null,null,1465,"Training","training","प्रक्षिशन",null,"प्रक्षिशन","Training",null,null,null,null,"worms and insect"]
[null,null,null,null,null,null,null,null,null,null,null,1466,"Butterfly","butterfly","तितली","WORMS AND INSECTS ( कीट पतंगे )","तितली","Butterfly",null,null,null,null,"worms and insect"]
[null,null,null,null,null,null,null,null,null,null,null,1467,"Bee","bee","मधुमक्खी","WORMS AND INSECTS ( कीट पतंगे )","मधुमक्खी","Bee",null,null,null,null,"worms and insect"]
[null,null,null,null,null,null,null,null,null,null,null,1468,"Sale","sale","विक्रय",null,"विक्रय","Sale",null,null,null,null,"worms and insect"]
[null,null,null,null,null,null,null,null,null,null,null,1469,"Fire Fly","fire fly","जुगनू","WORMS AND INSECTS ( कीट पतंगे )","जुगनू","Fire Fly",null,null,null,null,"worms and insect"]
[null,null,null,null,null,null,null,null,null,null,null,1470,"Insect","insect","कीड़ा","WORMS AND INSECTS ( कीट पतंगे )","कीड़ा","Insect",null,null,null,null,"worms and insect"]
[null,null,null,null,null,null,null,null,null,null,null,1471,"Wasp","wasp","बर्रे","WORMS AND INSECTS ( कीट पतंगे )","बर्रे","Wasp",null,null,null,null,"worms and insect"]
[null,null,null,null,null,null,null,null,null,null,null,1472,"Ant","ant","चींटी","WORMS AND INSECTS ( कीट पतंगे )","चींटी","Ant",null,null,null,null,"worms and insect"]
[null,null,null,null,null,null,null,null,null,null,null,1473,"Hornet","hornet","भँवरा","WORMS AND INSECTS ( कीट पतंगे )",{"$f":"O1501","v":"भँवरा"},"Hornet",null,null,null,null,"worms and insect"]
[null,null,null,null,null,null,null,null,null,null,null,1474,{"$f":"PROPER(N1502)","v":"Locust"},"locust","टिड्डा","WORMS AND INSECTS ( कीट पतंगे )","टिड्डा",{"$f":"PROPER(N1502)","v":"Locust"},null,null,null,null,"worms and insect"]
[null,null,null,null,null,null,null,null,null,null,null,1475,"Bug","bug","खटमल","WORMS AND INSECTS ( कीट पतंगे )","खटमल","Bug",null,null,null,null,"worms and insect"]
[null,null,null,null,null,null,null,null,null,null,null,1476,"Spider","spider","मकड़ी","WORMS AND INSECTS ( कीट पतंगे )","मकड़ी","Spider",null,null,null,null,"worms and insect"]
[null,null,null,null,null,null,null,null,null,null,null,1477,"Leech","leech","जोंक","WORMS AND INSECTS ( कीट पतंगे )","जोंक","Leech",null,null,null,null,"worms and insect"]
[null,null,null,null,null,null,null,null,null,null,null,1478,"Black Bee","black bee","भोंरा","WORMS AND INSECTS ( कीट पतंगे )","भोंरा","Black Bee",null,null,null,null,"worms and insect"]
[null,null,null,null,null,null,null,null,null,null,null,1479,"Louse","louse","जू","WORMS AND INSECTS ( कीट पतंगे )","जू","Louse",null,null,null,null,"worms and insect"]
[null,null,null,null,null,null,null,null,null,null,null,1480,"Oyester","oyester","सीप","WORMS AND INSECTS ( कीट पतंगे )","सीप","Oyester",null,null,null,null,"worms and insect"]
[null,null,null,null,null,null,null,null,null,null,null,1481,"Review","review","पुनरावलोकन",null,"पुनरावलोकन","Review",null,null,null,null,"worms and insect"]
[null,null,null,null,null,null,null,null,null,null,null,1482,"Earth Worm","earth worm","केचुआ","WORMS AND INSECTS ( कीट पतंगे )","केचुआ","Earth Worm",null,null,null,null,"worms and insect"]
[null,null,null,null,null,null,null,null,null,null,null,1483,"Conch","conch","शंख","WORMS AND INSECTS ( कीट पतंगे )","शंख","Conch",null,null,null,null,"worms and insect"]
[null,null,null,null,null,null,null,null,null,null,null,1484,"Snail","snail","घोंघा","WORMS AND INSECTS ( कीट पतंगे )","घोंघा","Snail",null,null,null,null,"worms and insect"]
[null,null,null,null,null,null,null,null,null,null,null,1485,"Silk Worm","silk worm","रेशम कीट","WORMS AND INSECTS ( कीट पतंगे )","रेशम कीट","Silk Worm",null,null,null,null,"worms and insect"]
[null,null,null,null,null,null,null,null,null,null,null,1486,"Cockroach","cockroach","तिलचट्टा","WORMS AND INSECTS ( कीट पतंगे )","तिलचट्टा","Cockroach",null,null,null,null,"worms and insect"]
[null,null,null,null,null,null,null,null,null,null,null,1487,"Mosquito","mosquito","मच्छर","WORMS AND INSECTS ( कीट पतंगे )","मच्छर","Mosquito",null,null,null,null,"worms and insect"]
[null,null,null,null,null,null,null,null,null,null,null,1488,"Gnat","gnat","मच्छर","WORMS AND INSECTS ( कीट पतंगे )","मच्छर","Gnat",null,null,null,null,"worms and insect"]
[null,null,null,null,null,null,null,null,null,null,null,1489,"Restrication","restrication","निर्बन्धन",null,"निर्बन्धन","Restrication",null,null,null,null,"worms and insect"]
[null,null,null,null,null,null,null,null,null,null,null,1490,"Beetle","beetle","गुबरैला","WORMS AND INSECTS ( कीट पतंगे )","गुबरैला","Beetle",null,null,null,null,"worms and insect"]
[null,null,null,null,null,null,null,null,null,null,null,1491,"White Ant","white ant","दीमक","WORMS AND INSECTS ( कीट पतंगे )","दीमक","White Ant",null,null,null,null,"worms and insect"]
[null,null,null,null,null,null,null,null,null,null,null,1492,"Grass Hopper","grass hopper","पतंगा","WORMS AND INSECTS ( कीट पतंगे )","पतंगा","Grass Hopper",null,null,null,null,"worms and insect"]
[null,null,null,null,null,null,null,null,null,null,null,1493,"Lizard","lizard","छिपकली","WORMS AND INSECTS ( कीट पतंगे )","छिपकली","Lizard",null,null,null,null,"worms and insect"]
[null,null,null,null,null,null,null,null,null,null,null,1494,"Hive","hive","शहद का छत्ता","WORMS AND INSECTS ( कीट पतंगे )","शहद का छत्ता","Hive",null,null,null,null,"worms and insect"]
[null,null,null,null,null,null,null,null,null,null,null,1495,"Tax Export","tax export","निर्यात कर",null,"निर्यात कर","Tax Export",null,null,null,null,"food and drink"]
[null,null,null,null,null,null,null,null,null,null,null,1496,"Tax Sales","tax sales","विक्रय कर",null,"विक्रय कर","Tax Sales",null,null,null,null,"food and drink"]
[null,null,null,null,null,null,null,null,null,null,null,1497,"Milk","milk","दूध","food and drink ( खाद्य और पेय )","दूध","Milk",null,null,null,null,"food and drink"]
[null,null,null,null,null,null,null,null,null,null,null,1498,"Buttermilk","buttermilk","छाछ","food and drink ( खाद्य और पेय )","छाछ","Buttermilk",null,null,null,null,"food and drink"]
[null,null,null,null,null,null,null,null,null,null,null,1499,"Curd","curd","दही","food and drink ( खाद्य और पेय )","दही","Curd",null,null,null,null,"food and drink"]
[null,null,null,null,null,null,null,null,null,null,null,1500,"Butter","butter","मक्खन","food and drink ( खाद्य और पेय )","मक्खन","Butter",null,null,null,null,"food and drink"]
[null,null,null,null,null,null,null,null,null,null,null,1501,"Ghee","ghee","घी","food and drink ( खाद्य और पेय )","घी","Ghee",null,null,null,null,"food and drink"]
[null,null,null,null,null,null,null,null,null,null,null,1502,"Cream","cream","मलाई","food and drink ( खाद्य और पेय )","मलाई","Cream",null,null,null,null,"food and drink"]
[null,null,null,null,null,null,null,null,null,null,null,1503,"Bread","bread","रोटी","food and drink ( खाद्य और पेय )","रोटी","Bread",null,null,null,null,"food and drink"]
[null,null,null,null,null,null,null,null,null,null,null,1504,"Pulses","pulses","दाल","food and drink ( खाद्य और पेय )","दाल","Pulses",null,null,null,null,"food and drink"]
[null,null,null,null,null,null,null,null,null,null,null,1505,"Soup","soup","रसा","food and drink ( खाद्य और पेय )","रसा","Soup",null,null,null,null,"food and drink"]
[null,null,null,null,null,null,null,null,null,null,null,1506,"Suffrage","suffrage","मताधिकार",null,"मताधिकार","Suffrage",null,null,null,null,"food and drink"]
[null,null,null,null,null,null,null,null,null,null,null,1507,"Curry","curry","तरकारी","food and drink ( खाद्य और पेय )","तरकारी","Curry",null,null,null,null,"food and drink"]
[null,null,null,null,null,null,null,null,null,null,null,1508,"Beef","beef","गोमांस","food and drink ( खाद्य और पेय )","गोमांस","Beef",null,null,null,null,"food and drink"]
[null,null,null,null,null,null,null,null,null,null,null,1509,"Mutton","mutton","भेड़ का मांस","food and drink ( खाद्य और पेय )","भेड़ का मांस","Mutton",null,null,null,null,"food and drink"]
[null,null,null,null,null,null,null,null,null,null,null,1510,"Meat","meat","मांस","food and drink ( खाद्य और पेय )","मांस","Meat",null,null,null,null,"food and drink"]
[null,null,null,null,null,null,null,null,null,null,null,1511,"Pork","pork","सूअर का मांस","food and drink ( खाद्य और पेय )","सूअर का मांस","Pork",null,null,null,null,"food and drink"]
[null,null,null,null,null,null,null,null,null,null,null,1512,"Venison","venison","हिरन का मांस","food and drink ( खाद्य और पेय )","हिरन का मांस","Venison",null,null,null,null,"food and drink"]
[null,null,null,null,null,null,null,null,null,null,null,1513,"Soveregin","soveregin","प्रभु",null,"प्रभु","Soveregin",null,null,null,null,"food and drink"]
[null,null,null,null,null,null,null,null,null,null,null,1514,"Cheese","cheese","पनीर","food and drink ( खाद्य और पेय )","पनीर","Cheese",null,null,null,null,"food and drink"]
[null,null,null,null,null,null,null,null,null,null,null,1515,"Sugar","sugar","शक्कर","food and drink ( खाद्य और पेय )","शक्कर","Sugar",null,null,null,null,"food and drink"]
[null,null,null,null,null,null,null,null,null,null,null,1516,"Honey","honey","शहद ","food and drink ( खाद्य और पेय )","शहद ","Honey",null,null,null,null,"food and drink"]
[null,null,null,null,null,null,null,null,null,null,null,1517,"Sugar Candy","sugar candy","मिश्री","food and drink ( खाद्य और पेय )","मिश्री","Sugar Candy",null,null,null,null,"food and drink"]
[null,null,null,null,null,null,null,null,null,null,null,1518,"Arrowroot","arrowroot","आरारोट","food and drink ( खाद्य और पेय )","आरारोट","Arrowroot",null,null,null,null,"food and drink"]
[null,null,null,null,null,null,null,null,null,null,null,1519,"State List","state list","राज्य सूचि",null,"राज्य सूचि","State List",null,null,null,null,"food and drink"]
[null,null,null,null,null,null,null,null,null,null,null,1520,"Staff","staff","कर्मचारी वृन्द","SCHOOL RELATIVE  ( विद्यालय सम्बन्धी  )","कर्मचारी वृन्द","Staff",null,null,null,null,"food and drink"]
[null,null,null,null,null,null,null,null,null,null,null,1521,"Jam","jam","मुररब्बा","food and drink ( खाद्य और पेय )","मुररब्बा","Jam",null,null,null,null,"food and drink"]
[null,null,null,null,null,null,null,null,null,null,null,1522,"Jaily","jaily","जेलों","food and drink ( खाद्य और पेय )","जेलों","Jaily",null,null,null,null,"food and drink"]
[null,null,null,null,null,null,null,null,null,null,null,1523,"Transfer","transfer","स्थानान्तरण","SCHOOL RELATIVE  ( विद्यालय सम्बन्धी  )","स्थानान्तरण","Transfer",null,null,null,null,"food and drink"]
[null,null,null,null,null,null,null,null,null,null,null,1524,"Oil","oil","तेल","food and drink ( खाद्य और पेय )","तेल","Oil",null,null,null,null,"food and drink"]
[null,null,null,null,null,null,null,null,null,null,null,1525,"Tea","tea","चाय","food and drink ( खाद्य और पेय )","चाय","Tea",null,null,null,null,"food and drink"]
[null,null,null,null,null,null,null,null,null,null,null,1526,"Egg","egg","अंडा","food and drink ( खाद्य और पेय )","अंडा","Egg",null,null,null,null,"food and drink"]
[null,null,null,null,null,null,null,null,null,null,null,1527,"Mustard Oil","mustard oil","सरसों का तेल","food and drink ( खाद्य और पेय )","सरसों का तेल","Mustard Oil",null,null,null,null,"food and drink"]
[null,null,null,null,null,null,null,null,null,null,null,1528,"Sauce","sauce","चटनी","food and drink ( खाद्य और पेय )","चटनी","Sauce",null,null,null,null,"food and drink"]
[null,null,null,null,null,null,null,null,null,null,null,1529,"Feast","feast","भोज","food and drink ( खाद्य और पेय )","भोज","Feast",null,null,null,null,"food and drink"]
[null,null,null,null,null,null,null,null,null,null,null,1530,"Coffee","coffee","कॉफ़ी","food and drink ( खाद्य और पेय )","कॉफ़ी","Coffee",null,null,null,null,"food and drink"]
[null,null,null,null,null,null,null,null,null,null,null,1531,"Syrup","syrup","शरबत","food and drink ( खाद्य और पेय )","शरबत","Syrup",null,null,null,null,"food and drink"]
[null,null,null,null,null,null,null,null,null,null,null,1532,"Tolls","tolls","पथकर",null,"पथकर","Tolls",null,null,null,null,"food and drink"]
[null,null,null,null,null,null,null,null,null,null,null,1533,"Lotus","lotus","कमल","flowers ( फूलो के नाम )","कमल","Lotus",null,null,null,null,"flowers"]
[null,null,null,null,null,null,null,null,null,null,null,1534,"Rose","rose","गुलाब","flowers ( फूलो के नाम )","गुलाब","Rose",null,null,null,null,"flowers"]
[null,null,null,null,null,null,null,null,null,null,null,1535,"Chameli","chameli","चमेली","flowers ( फूलो के नाम )","चमेली","Chameli",null,null,null,null,"flowers"]
[null,null,null,null,null,null,null,null,null,null,null,1536,"Magnolia","magnolia","चंपा","flowers ( फूलो के नाम )","चंपा","Magnolia",null,null,null,null,"flowers"]
[null,null,null,null,null,null,null,null,null,null,null,1537,"Night Jesmine","night jesmine","हरसिंगार","flowers ( फूलो के नाम )",{"$f":"O1565","v":"हरसिंगार"},"Night Jesmine",null,null,null,null,"flowers"]
[null,null,null,null,null,null,null,null,null,null,null,1538,{"$f":"PROPER(N1566)","v":"Tulip"},"tulip","मल्लिका","flowers ( फूलो के नाम )","मल्लिका",{"$f":"PROPER(N1566)","v":"Tulip"},null,null,null,null,"flowers"]
[null,null,null,null,null,null,null,null,null,null,null,1539,"Tribunal","tribunal","न्यायाधिकरण",null,"न्यायाधिकरण","Tribunal",null,null,null,null,"flowers"]
[null,null,null,null,null,null,null,null,null,null,null,1540,"Lily","lily","कुमुद","flowers ( फूलो के नाम )","कुमुद","Lily",null,null,null,null,"flowers"]
[null,null,null,null,null,null,null,null,null,null,null,1541,"Murraya","murraya","कामिनी","flowers ( फूलो के नाम )","कामिनी","Murraya",null,null,null,null,"flowers"]
[null,null,null,null,null,null,null,null,null,null,null,1542,"Bud","bud","कली","flowers ( फूलो के नाम )","कली","Bud",null,null,null,null,"flowers"]
[null,null,null,null,null,null,null,null,null,null,null,1543,"Garland","garland","माला","flowers ( फूलो के नाम )","माला","Garland",null,null,null,null,"flowers"]
[null,null,null,null,null,null,null,null,null,null,null,1544,"Marigold","marigold","गेंदा","flowers ( फूलो के नाम )","गेंदा","Marigold",null,null,null,null,"flowers"]
[null,null,null,null,null,null,null,null,null,null,null,1545,"Myrtle","myrtle","मेहंदी","flowers ( फूलो के नाम )","मेहंदी","Myrtle",null,null,null,null,"flowers"]
[null,null,null,null,null,null,null,null,null,null,null,1546,"Oleander","oleander","कनेर","flowers ( फूलो के नाम )","कनेर","Oleander",null,null,null,null,"flowers"]
[null,null,null,null,null,null,null,null,null,null,null,1547,"Jesmine","jesmine","जूही","flowers ( फूलो के नाम )","जूही","Jesmine",null,null,null,null,"flowers"]
[null,null,null,null,null,null,null,null,null,null,null,1548,"Nightqueen","nightqueen","रजनीगंधा","flowers ( फूलो के नाम )","रजनीगंधा","Nightqueen",null,null,null,null,"flowers"]
[null,null,null,null,null,null,null,null,null,null,null,1549,"Sunflower","sunflower","सूर्यमुखी","flowers ( फूलो के नाम )","सूर्यमुखी","Sunflower",null,null,null,null,"flowers"]
[null,null,null,null,null,null,null,null,null,null,null,1550,"Stramonium","stramonium","धतुरा","flowers ( फूलो के नाम )","धतुरा","Stramonium",null,null,null,null,"flowers"]
[null,null,null,null,null,null,null,null,null,null,null,1551,"Balsam","balsam","गुलमेहंदी","flowers ( फूलो के नाम )","गुलमेहंदी","Balsam",null,null,null,null,"flowers"]
[null,null,null,null,null,null,null,null,null,null,null,1552,"Petal","petal","पंखुड़ी","flowers ( फूलो के नाम )","पंखुड़ी","Petal",null,null,null,null,"flowers"]
[null,null,null,null,null,null,null,null,null,null,null,1553,"Deep","deep","गाढ़ा","Colours  ( रंगों के नाम )","गाढ़ा","Deep",null,null,null,null,"colours"]
[null,null,null,null,null,null,null,null,null,null,null,1554,"Golden","golden","सुनहरी","Colours  ( रंगों के नाम )","सुनहरी","Golden",null,null,null,null,"colours"]
[null,null,null,null,null,null,null,null,null,null,null,1555,"Subordinate","subordinate","अधीनस्थ",null,"अधीनस्थ","Subordinate",null,null,null,null,"colours"]
[null,null,null,null,null,null,null,null,null,null,null,1556,"Bright","bright","चमकीला","Colours  ( रंगों के नाम )","चमकीला","Bright",null,null,null,null,"colours"]
[null,null,null,null,null,null,null,null,null,null,null,1557,"Fast Colour","fast colour","पक्का रँग","Colours  ( रंगों के नाम )","पक्का रँग","Fast Colour",null,null,null,null,"colours"]
[null,null,null,null,null,null,null,null,null,null,null,1558,"Colour","colour","रँग","Colours  ( रंगों के नाम )","रँग","Colour",null,null,null,null,"colours"]
[null,null,null,null,null,null,null,null,null,null,null,1559,"Pink","pink","गुलाबी","Colours  ( रंगों के नाम )","गुलाबी","Pink",null,null,null,null,"colours"]
[null,null,null,null,null,null,null,null,null,null,null,1560,"Grey","grey","धूसर","Colours  ( रंगों के नाम )","धूसर","Grey",null,null,null,null,"colours"]
[null,null,null,null,null,null,null,null,null,null,null,1561,"Blue","blue","नीला","Colours  ( रंगों के नाम )","नीला","Blue",null,null,null,null,"colours"]
[null,null,null,null,null,null,null,null,null,null,null,1562,"Red","red","लाल","Colours  ( रंगों के नाम )","लाल","Red",null,null,null,null,"colours"]
[null,null,null,null,null,null,null,null,null,null,null,1563,"White","white","सफ़ेद","Colours  ( रंगों के नाम )","सफ़ेद","White",null,null,null,null,"colours"]
[null,null,null,null,null,null,null,null,null,null,null,1564,"Azure","azure","आसमानी","Colours  ( रंगों के नाम )","आसमानी","Azure",null,null,null,null,"colours"]
[null,null,null,null,null,null,null,null,null,null,null,1565,"Purple","purple","जामुनी रँग","Colours  ( रंगों के नाम )","जामुनी रँग","Purple",null,null,null,null,"colours"]
[null,null,null,null,null,null,null,null,null,null,null,1566,"Crimson","crimson","गहरा लाल","Colours  ( रंगों के नाम )","गहरा लाल","Crimson",null,null,null,null,"colours"]
[null,null,null,null,null,null,null,null,null,null,null,1567,"Yellow","yellow","पीला","Colours  ( रंगों के नाम )","पीला","Yellow",null,null,null,null,"colours"]
[null,null,null,null,null,null,null,null,null,null,null,1568,"Violet","violet","बैगनी","Colours  ( रंगों के नाम )","बैगनी","Violet",null,null,null,null,"colours"]
[null,null,null,null,null,null,null,null,null,null,null,1569,"Pale","pale","फीका","Colours  ( रंगों के नाम )","फीका","Pale",null,null,null,null,"colours"]
[null,null,null,null,null,null,null,null,null,null,null,1570,"Brown","brown","भूरा","Colours  ( रंगों के नाम )","भूरा","Brown",null,null,null,null,"colours"]
[null,null,null,null,null,null,null,null,null,null,null,1571,"Green","green","हरा","Colours  ( रंगों के नाम )","हरा","Green",null,null,null,null,"colours"]
[null,null,null,null,null,null,null,null,null,null,null,1572,"Indigo","indigo","नीला","Colours  ( रंगों के नाम )","नीला","Indigo",null,null,null,null,"colours"]
[null,null,null,null,null,null,null,null,null,null,null,1573,"Black","black","काला","Colours  ( रंगों के नाम )","काला","Black",null,null,null,null,"colours"]
[null,null,null,null,null,null,null,null,null,null,null,1574,"Order","order","आदेश","SCHOOL RELATIVE  ( विद्यालय सम्बन्धी  )","आदेश","Order",null,null,null,null,"TOOLS"]
[null,null,null,null,null,null,null,null,null,null,null,1575,"Razor","RAZOR","ब्लेड","TOOLS ( औजार )","ब्लेड","Razor",null,null,null,null,"TOOLS"]
[null,null,null,null,null,null,null,null,null,null,null,1576,"Lower House","lower house","निम्न सदन",null,"निम्न सदन","Lower House",null,null,null,null,"TOOLS"]
[null,null,null,null,null,null,null,null,null,null,null,1577,"Needle","NEEDLE","सुई","TOOLS ( औजार )","सुई","Needle",null,null,null,null,"TOOLS"]
[null,null,null,null,null,null,null,null,null,null,null,1578,"Sickle","SICKLE","हंसिया","TOOLS ( औजार )","हंसिया","Sickle",null,null,null,null,"TOOLS"]
[null,null,null,null,null,null,null,null,null,null,null,1579,"Spade","SPADE","कुदाल","TOOLS ( औजार )","कुदाल","Spade",null,null,null,null,"TOOLS"]
[null,null,null,null,null,null,null,null,null,null,null,1580,"Crowbar","CROWBAR","सब्ब्ले","TOOLS ( औजार )","सब्ब्ले","Crowbar",null,null,null,null,"TOOLS"]
[null,null,null,null,null,null,null,null,null,null,null,1581,"Warp","WARP","ताना","TOOLS ( औजार )","ताना","Warp",null,null,null,null,"TOOLS"]
[null,null,null,null,null,null,null,null,null,null,null,1582,"Scissors","SCISSORS","केंची","TOOLS ( औजार )","केंची","Scissors",null,null,null,null,"TOOLS"]
[null,null,null,null,null,null,null,null,null,null,null,1583,"Bill Hook","BILL HOOK","कटारी","TOOLS ( औजार )","कटारी","Bill Hook",null,null,null,null,"TOOLS"]
[null,null,null,null,null,null,null,null,null,null,null,1584,"File","FILE","रेती","TOOLS ( औजार )","रेती","File",null,null,null,null,"TOOLS"]
[null,null,null,null,null,null,null,null,null,null,null,1585,"Auger","AUGER","गिरमिट","TOOLS ( औजार )","गिरमिट","Auger",null,null,null,null,"TOOLS"]
[null,null,null,null,null,null,null,null,null,null,null,1586,"Lunacy","lunacy","उन्माद",null,"उन्माद","Lunacy",null,null,null,null,"TOOLS"]
[null,null,null,null,null,null,null,null,null,null,null,1587,"Saw","SAW","आरी","TOOLS ( औजार )","आरी","Saw",null,null,null,null,"TOOLS"]
[null,null,null,null,null,null,null,null,null,null,null,1588,"Pick Axe","PICK AXE","गैंती","TOOLS ( औजार )","गैंती","Pick Axe",null,null,null,null,"TOOLS"]
[null,null,null,null,null,null,null,null,null,null,null,1589,"Lunatic","lunatic","उन्मत",null,"उन्मत","Lunatic",null,null,null,null,"TOOLS"]
[null,null,null,null,null,null,null,null,null,null,null,1590,"Punch","PUNCH","छेनी","TOOLS ( औजार )","छेनी","Punch",null,null,null,null,"TOOLS"]
[null,null,null,null,null,null,null,null,null,null,null,1591,"Hammer","HAMMER","हथोडा","TOOLS ( औजार )","हथोडा","Hammer",null,null,null,null,"TOOLS"]
[null,null,null,null,null,null,null,null,null,null,null,1592,"Anvil","ANVIL","निहाई","TOOLS ( औजार )","निहाई","Anvil",null,null,null,null,"TOOLS"]
[null,null,null,null,null,null,null,null,null,null,null,1593,"Spindle","SPINDLE","तकला","TOOLS ( औजार )","तकला","Spindle",null,null,null,null,"TOOLS"]
[null,null,null,null,null,null,null,null,null,null,null,1594,"Loom","LOOM","करघा","TOOLS ( औजार )","करघा","Loom",null,null,null,null,"TOOLS"]
[null,null,null,null,null,null,null,null,null,null,null,1595,"Local","local","स्थानीय",null,"स्थानीय","Local",null,null,null,null,"TOOLS"]
[null,null,null,null,null,null,null,null,null,null,null,1596,"Pincers","PINCERS","संडासी","TOOLS ( औजार )","संडासी","Pincers",null,null,null,null,"TOOLS"]
[null,null,null,null,null,null,null,null,null,null,null,1597,"Chisel","CHISEL","बटालि","TOOLS ( औजार )","बटालि","Chisel",null,null,null,null,"TOOLS"]
[null,null,null,null,null,null,null,null,null,null,null,1598,"Tongs","TONGS","चिमटा","TOOLS ( औजार )","चिमटा","Tongs",null,null,null,null,"TOOLS"]
[null,null,null,null,null,null,null,null,null,null,null,1599,"Livelihood","livelihood","जीविका",null,"जीविका","Livelihood",null,null,null,null,"TOOLS"]
[null,null,null,null,null,null,null,null,null,null,null,1600,"Woof","WOOF","ताना भरनी","TOOLS ( औजार )","ताना भरनी","Woof",null,null,null,null,"TOOLS"]
[null,null,null,null,null,null,null,null,null,null,null,1601,"Kiln","KILN","भट्टी","TOOLS ( औजार )",{"$f":"O1629","v":"भट्टी"},"Kiln",null,null,null,null,"TOOLS"]
[null,null,null,null,null,null,null,null,null,null,null,1602,{"$f":"PROPER(N1630)","v":"Mallet"},"MALLET","मुंगरी","TOOLS ( औजार )","मुंगरी",{"$f":"PROPER(N1630)","v":"Mallet"},null,null,null,null,"TOOLS"]
[null,null,null,null,null,null,null,null,null,null,null,1603,"Trowel","TROWEL","करणी","TOOLS ( औजार )","करणी","Trowel",null,null,null,null,"TOOLS"]
[null,null,null,null,null,null,null,null,null,null,null,1604,"Awl","AWL","सुआ","TOOLS ( औजार )","सुआ","Awl",null,null,null,null,"TOOLS"]
[null,null,null,null,null,null,null,null,null,null,null,1605,"Forgo","FORGO","भट्टी","TOOLS ( औजार )","भट्टी","Forgo",null,null,null,null,"TOOLS"]
[null,null,null,null,null,null,null,null,null,null,null,1606,"Reel","REEL","फिरकी","TOOLS ( औजार )","फिरकी","Reel",null,null,null,null,"TOOLS"]
[null,null,null,null,null,null,null,null,null,null,null,1607,"Frontiers","frontiers","सीमांत",null,"सीमांत","Frontiers",null,null,null,null,"TOOLS"]
[null,null,null,null,null,null,null,null,null,null,null,1608,"Shuttle","SHUTTLE","तुरी","TOOLS ( औजार )","तुरी","Shuttle",null,null,null,null,"TOOLS"]
[null,null,null,null,null,null,null,null,null,null,null,1609,"Lathe","LATHE","कुंद',खराद","TOOLS ( औजार )","कुंद',खराद","Lathe",null,null,null,null,"TOOLS"]
[null,null,null,null,null,null,null,null,null,null,null,1610,"Goad","GOAD","अंकुश","TOOLS ( औजार )","अंकुश","Goad",null,null,null,null,"TOOLS"]
[null,null,null,null,null,null,null,null,null,null,null,1611,"Hoe","HOE","खुरपी","TOOLS ( औजार )","खुरपी","Hoe",null,null,null,null,"TOOLS"]
[null,null,null,null,null,null,null,null,null,null,null,1612,"Harrow","HARROW","पाटा","TOOLS ( औजार )","पाटा","Harrow",null,null,null,null,"TOOLS"]
[null,null,null,null,null,null,null,null,null,null,null,1613,"Extend","extend","फेलाना, आगे बढ़ाना",null,"फेलाना, आगे बढ़ाना","Extend",null,null,null,null,"GAMES AND SPORTS"]
[null,null,null,null,null,null,null,null,null,null,null,1614,"Tennis","TENNIS","टेनिस","GAMES AND SPORTS ( खेल - कूद )","टेनिस","Tennis",null,null,null,null,"GAMES AND SPORTS"]
[null,null,null,null,null,null,null,null,null,null,null,1615,"Sports","SPORTS","खेल कूद","GAMES AND SPORTS ( खेल - कूद )","खेल कूद","Sports",null,null,null,null,"GAMES AND SPORTS"]
[null,null,null,null,null,null,null,null,null,null,null,1616,"Cricket","CRICKET","क्रिकेट","GAMES AND SPORTS ( खेल - कूद )","क्रिकेट","Cricket",null,null,null,null,"GAMES AND SPORTS"]
[null,null,null,null,null,null,null,null,null,null,null,1617,"Bat","BAT","बल्ला","GAMES AND SPORTS ( खेल - कूद )","बल्ला","Bat",null,null,null,null,"GAMES AND SPORTS"]
[null,null,null,null,null,null,null,null,null,null,null,1618,"Foot Ball","FOOT BALL","फुटबॉल","GAMES AND SPORTS ( खेल - कूद )","फुटबॉल","Foot Ball",null,null,null,null,"GAMES AND SPORTS"]
[null,null,null,null,null,null,null,null,null,null,null,1619,"Hockey","HOCKEY","हॉकी","GAMES AND SPORTS ( खेल - कूद )","हॉकी","Hockey",null,null,null,null,"GAMES AND SPORTS"]
[null,null,null,null,null,null,null,null,null,null,null,1620,"Volley Ball","VOLLEY BALL","बालीबाल","GAMES AND SPORTS ( खेल - कूद )","बालीबाल","Volley Ball",null,null,null,null,"GAMES AND SPORTS"]
[null,null,null,null,null,null,null,null,null,null,null,1621,"Ha Do Do","HA DO DO","कब्बडी","GAMES AND SPORTS ( खेल - कूद )","कब्बडी","Ha Do Do",null,null,null,null,"GAMES AND SPORTS"]
[null,null,null,null,null,null,null,null,null,null,null,1622,"Grant","grant","अनुदान,देना","GAMES AND SPORTS ( खेल - कूद )","अनुदान,देना","Grant",null,null,null,null,"GAMES AND SPORTS"]
[null,null,null,null,null,null,null,null,null,null,null,1623,"Player","PLAYER","खिलाडी","GAMES AND SPORTS ( खेल - कूद )","खिलाडी","Player",null,null,null,null,"GAMES AND SPORTS"]
[null,null,null,null,null,null,null,null,null,null,null,1624,"Play Ground","PLAY GROUND","खेल मैदान","GAMES AND SPORTS ( खेल - कूद )","खेल मैदान","Play Ground",null,null,null,null,"GAMES AND SPORTS"]
[null,null,null,null,null,null,null,null,null,null,null,1625,"Race","RACE","दौड़","GAMES AND SPORTS ( खेल - कूद )","दौड़","Race",null,null,null,null,"GAMES AND SPORTS"]
[null,null,null,null,null,null,null,null,null,null,null,1626,"Wrestling","WRESTLING","कुश्ती","GAMES AND SPORTS ( खेल - कूद )","कुश्ती","Wrestling",null,null,null,null,"GAMES AND SPORTS"]
[null,null,null,null,null,null,null,null,null,null,null,1627,"Boat Race","BOAT RACE","नौकादौड़","GAMES AND SPORTS ( खेल - कूद )","नौकादौड़","Boat Race",null,null,null,null,"GAMES AND SPORTS"]
[null,null,null,null,null,null,null,null,null,null,null,1628,"Ludo","LUDO","लूडो","GAMES AND SPORTS ( खेल - कूद )","लूडो","Ludo",null,null,null,null,"GAMES AND SPORTS"]
[null,null,null,null,null,null,null,null,null,null,null,1629,"Chess","CHESS","शतरंज","GAMES AND SPORTS ( खेल - कूद )","शतरंज","Chess",null,null,null,null,"GAMES AND SPORTS"]
[null,null,null,null,null,null,null,null,null,null,null,1630,"Cards","CARDS","तास","GAMES AND SPORTS ( खेल - कूद )","तास","Cards",null,null,null,null,"GAMES AND SPORTS"]
[null,null,null,null,null,null,null,null,null,null,null,1631,"Dice","DICE","पासा","GAMES AND SPORTS ( खेल - कूद )","पासा","Dice",null,null,null,null,"GAMES AND SPORTS"]
[null,null,null,null,null,null,null,null,null,null,null,1632,"Carrom","CARROM","केर्रम","GAMES AND SPORTS ( खेल - कूद )","केर्रम","Carrom",null,null,null,null,"GAMES AND SPORTS"]
[null,null,null,null,null,null,null,null,null,null,null,1633,"Dumble","DUMBLE","दम्ब्ले","GAMES AND SPORTS ( खेल - कूद )","दम्ब्ले","Dumble",null,null,null,null,"GAMES AND SPORTS"]
[null,null,null,null,null,null,null,null,null,null,null,1634,"Future Market","future market","वायदाबाजार",null,"वायदाबाजार","Future Market",null,null,null,null,"GAMES AND SPORTS"]
[null,null,null,null,null,null,null,null,null,null,null,1635,"Top","TOP","लट्टू","GAMES AND SPORTS ( खेल - कूद )","लट्टू","Top",null,null,null,null,"GAMES AND SPORTS"]
[null,null,null,null,null,null,null,null,null,null,null,1636,"Hide-And-Seek","HIDE-AND-SEEK","लुकाछिपी","GAMES AND SPORTS ( खेल - कूद )","लुकाछिपी","Hide-And-Seek",null,null,null,null,"GAMES AND SPORTS"]
[null,null,null,null,null,null,null,null,null,null,null,1637,"Outdoor Games","OUTDOOR GAMES","बाहर खेले जाने वाले खेल","GAMES AND SPORTS ( खेल - कूद )","बाहर खेले जाने वाले खेल","Outdoor Games",null,null,null,null,"GAMES AND SPORTS"]
[null,null,null,null,null,null,null,null,null,null,null,1638,"Indore Games","INDORE GAMES","अन्दर खेले जाने वाले खेल","GAMES AND SPORTS ( खेल - कूद )","अन्दर खेले जाने वाले खेल","Indore Games",null,null,null,null,"GAMES AND SPORTS"]
[null,null,null,null,null,null,null,null,null,null,null,1639," President"," PRESIDENT","राष्ट्रपति","GOVERNMENT ( सरकारी )","राष्ट्रपति"," President",null,null,null,null,"GOVERNMENT"]
[null,null,null,null,null,null,null,null,null,null,null,1640,"Prime Minister","PRIME MINISTER","प्रधानमंत्री","GOVERNMENT ( सरकारी )","प्रधानमंत्री","Prime Minister",null,null,null,null,"GOVERNMENT"]
[null,null,null,null,null,null,null,null,null,null,null,1641,"Governor","GOVERNOR","राज्यपाल","GOVERNMENT ( सरकारी )","राज्यपाल","Governor",null,null,null,null,"GOVERNMENT"]
[null,null,null,null,null,null,null,null,null,null,null,1642,"King","KING","राजा","GOVERNMENT ( सरकारी )","राजा","King",null,null,null,null,"GOVERNMENT"]
[null,null,null,null,null,null,null,null,null,null,null,1643,"Rular","RULAR","शासक","GOVERNMENT ( सरकारी )","शासक","Rular",null,null,null,null,"GOVERNMENT"]
[null,null,null,null,null,null,null,null,null,null,null,1644,"Chief Minister","CHIEF MINISTER","मुख्यमंत्री","GOVERNMENT ( सरकारी )","मुख्यमंत्री","Chief Minister",null,null,null,null,"GOVERNMENT"]
[null,null,null,null,null,null,null,null,null,null,null,1645,"Queen","QUEEN","रानी","GOVERNMENT ( सरकारी )","रानी","Queen",null,null,null,null,"GOVERNMENT"]
[null,null,null,null,null,null,null,null,null,null,null,1646,"Prince","PRINCE","राजकुमार","GOVERNMENT ( सरकारी )","राजकुमार","Prince",null,null,null,null,"GOVERNMENT"]
[null,null,null,null,null,null,null,null,null,null,null,1647,"Princess","PRINCESS","राजकुमारी","GOVERNMENT ( सरकारी )","राजकुमारी","Princess",null,null,null,null,"GOVERNMENT"]
[null,null,null,null,null,null,null,null,null,null,null,1648,"Subject","SUBJECT","प्रजा","GOVERNMENT ( सरकारी )","प्रजा","Subject",null,null,null,null,"GOVERNMENT"]
[null,null,null,null,null,null,null,null,null,null,null,1649,"Minister","MINISTER","मंत्री","GOVERNMENT ( सरकारी )","मंत्री","Minister",null,null,null,null,"GOVERNMENT"]
[null,null,null,null,null,null,null,null,null,null,null,1650," Secretary"," SECRETARY","सचिव","GOVERNMENT ( सरकारी )","सचिव"," Secretary",null,null,null,null,"GOVERNMENT"]
[null,null,null,null,null,null,null,null,null,null,null,1651,"Democracy","DEMOCRACY","प्रजातंत्र","GOVERNMENT ( सरकारी )","प्रजातंत्र","Democracy",null,null,null,null,"GOVERNMENT"]
[null,null,null,null,null,null,null,null,null,null,null,1652," Steel"," STEEL","इस्पात","METALS AND MINERALS ( धातु और द्रव्य )","इस्पात"," Steel",null,null,null,null,"METALS AND MINERALS"]
[null,null,null,null,null,null,null,null,null,null,null,1653,"Gold","GOLD","सोना","METALS AND MINERALS ( धातु और द्रव्य )","सोना","Gold",null,null,null,null,"METALS AND MINERALS"]
[null,null,null,null,null,null,null,null,null,null,null,1654,"Silver","SILVER","चांदी","METALS AND MINERALS ( धातु और द्रव्य )","चांदी","Silver",null,null,null,null,"METALS AND MINERALS"]
[null,null,null,null,null,null,null,null,null,null,null,1655,"Iron","IRON","लोहा","METALS AND MINERALS ( धातु और द्रव्य )","लोहा","Iron",null,null,null,null,"METALS AND MINERALS"]
[null,null,null,null,null,null,null,null,null,null,null,1656," Lead"," LEAD","सीसा","METALS AND MINERALS ( धातु और द्रव्य )","सीसा"," Lead",null,null,null,null,"METALS AND MINERALS"]
[null,null,null,null,null,null,null,null,null,null,null,1657,"Zinc","ZINC","जस्ता","METALS AND MINERALS ( धातु और द्रव्य )","जस्ता","Zinc",null,null,null,null,"METALS AND MINERALS"]
[null,null,null,null,null,null,null,null,null,null,null,1658,"Mica","MICA","अभ्रक","METALS AND MINERALS ( धातु और द्रव्य )","अभ्रक","Mica",null,null,null,null,"METALS AND MINERALS"]
[null,null,null,null,null,null,null,null,null,null,null,1659,"Coal","COAL","कोयला","METALS AND MINERALS ( धातु और द्रव्य )","कोयला","Coal",null,null,null,null,"METALS AND MINERALS"]
[null,null,null,null,null,null,null,null,null,null,null,1660,"Tin","TIN","टिन","METALS AND MINERALS ( धातु और द्रव्य )","टिन","Tin",null,null,null,null,"METALS AND MINERALS"]
[null,null,null,null,null,null,null,null,null,null,null,1661,"Brass","BRASS","पीतल","METALS AND MINERALS ( धातु और द्रव्य )","पीतल","Brass",null,null,null,null,"METALS AND MINERALS"]
[null,null,null,null,null,null,null,null,null,null,null,1662," Salt"," SALT","नमक","METALS AND MINERALS ( धातु और द्रव्य )","नमक"," Salt",null,null,null,null,"METALS AND MINERALS"]
[null,null,null,null,null,null,null,null,null,null,null,1663,"Charcoal","CHARCOAL","काष्ठ कोयला","METALS AND MINERALS ( धातु और द्रव्य )","काष्ठ कोयला","Charcoal",null,null,null,null,"METALS AND MINERALS"]
[null,null,null,null,null,null,null,null,null,null,null,1664," Alum"," ALUM","फिटकरी","METALS AND MINERALS ( धातु और द्रव्य )","फिटकरी"," Alum",null,null,null,null,"METALS AND MINERALS"]
[null,null,null,null,null,null,null,null,null,null,null,1665," Sulphur"," SULPHUR","गंधक","METALS AND MINERALS ( धातु और द्रव्य )",{"$f":"O1693","v":"गंधक"}," Sulphur",null,null,null,null,"METALS AND MINERALS"]
[null,null,null,null,null,null,null,null,null,null,null,1666,{"$f":"PROPER(N1694)","v":"Copper"},"COPPER","ताम्बा","METALS AND MINERALS ( धातु और द्रव्य )","ताम्बा",{"$f":"PROPER(N1694)","v":"Copper"},null,null,null,null,"METALS AND MINERALS"]
[null,null,null,null,null,null,null,null,null,null,null,1667," Lime"," LIME","चूना","METALS AND MINERALS ( धातु और द्रव्य )","चूना"," Lime",null,null,null,null,"METALS AND MINERALS"]
[null,null,null,null,null,null,null,null,null,null,null,1668," Stone"," STONE","पत्थर","METALS AND MINERALS ( धातु और द्रव्य )","पत्थर"," Stone",null,null,null,null,"METALS AND MINERALS"]
[null,null,null,null,null,null,null,null,null,null,null,1669,"Mine","MINE","खान","METALS AND MINERALS ( धातु और द्रव्य )","खान","Mine",null,null,null,null,"METALS AND MINERALS"]
[null,null,null,null,null,null,null,null,null,null,null,1670,"Metal","METAL","धातु","METALS AND MINERALS ( धातु और द्रव्य )","धातु","Metal",null,null,null,null,"METALS AND MINERALS"]
[null,null,null,null,null,null,null,null,null,null,null,1671,"Bell-Metal","BELL-METAL","कांसा","METALS AND MINERALS ( धातु और द्रव्य )","कांसा","Bell-Metal",null,null,null,null,"METALS AND MINERALS"]
[null,null,null,null,null,null,null,null,null,null,null,1672,"Sand","SAND","रेत","METALS AND MINERALS ( धातु और द्रव्य )","रेत","Sand",null,null,null,null,"METALS AND MINERALS"]
[null,null,null,null,null,null,null,null,null,null,null,1673,"Emerlad","EMERLAD","मरकत मणि","METALS AND MINERALS ( धातु और द्रव्य )","मरकत मणि","Emerlad",null,null,null,null,"METALS AND MINERALS"]
[null,null,null,null,null,null,null,null,null,null,null,1674,"Ruby","RUBY","लाल","METALS AND MINERALS ( धातु और द्रव्य )","लाल","Ruby",null,null,null,null,"METALS AND MINERALS"]
[null,null,null,null,null,null,null,null,null,null,null,1675,"Minerals","MINERALS","खनिज","METALS AND MINERALS ( धातु और द्रव्य )","खनिज","Minerals",null,null,null,null,"METALS AND MINERALS"]
[null,null,null,null,null,null,null,null,null,null,null,1676,"Borax","BORAX","सोहागा","METALS AND MINERALS ( धातु और द्रव्य )","सोहागा","Borax",null,null,null,null,"METALS AND MINERALS"]
[null,null,null,null,null,null,null,null,null,null,null,1677,"Marble","MARBLE","संगमरमर","METALS AND MINERALS ( धातु और द्रव्य )","संगमरमर","Marble",null,null,null,null,"METALS AND MINERALS"]
[null,null,null,null,null,null,null,null,null,null,null,1678,"Flint","FLINT","चकमक पत्थर","METALS AND MINERALS ( धातु और द्रव्य )","चकमक पत्थर","Flint",null,null,null,null,"METALS AND MINERALS"]
[null,null,null,null,null,null,null,null,null,null,null,1679,"Glass","GLASS","कांच","METALS AND MINERALS ( धातु और द्रव्य )","कांच","Glass",null,null,null,null,"METALS AND MINERALS"]
[null,null,null,null,null,null,null,null,null,null,null,1680,"Blue Vitriol","BLUE VITRIOL","तूतिया","METALS AND MINERALS ( धातु और द्रव्य )","तूतिया","Blue Vitriol",null,null,null,null,"METALS AND MINERALS"]
[null,null,null,null,null,null,null,null,null,null,null,1681,"Crystal","CRYSTAL","स्फटिक","METALS AND MINERALS ( धातु और द्रव्य )","स्फटिक","Crystal",null,null,null,null,"METALS AND MINERALS"]
[null,null,null,null,null,null,null,null,null,null,null,1682,"Green Vitriol","GREEN VITRIOL","हिराकन","METALS AND MINERALS ( धातु और द्रव्य )","हिराकन","Green Vitriol",null,null,null,null,"METALS AND MINERALS"]
[null,null,null,null,null,null,null,null,null,null,null,1683,"Magnet","MAGNET","चुम्बक","METALS AND MINERALS ( धातु और द्रव्य )","चुम्बक","Magnet",null,null,null,null,"METALS AND MINERALS"]
[null,null,null,null,null,null,null,null,null,null,null,1684,"Coral","CORAL","मूंगा","METALS AND MINERALS ( धातु और द्रव्य )","मूंगा","Coral",null,null,null,null,"METALS AND MINERALS"]
[null,null,null,null,null,null,null,null,null,null,null,1685,"Chalk","CHALK","खड़िया","METALS AND MINERALS ( धातु और द्रव्य )","खड़िया","Chalk",null,null,null,null,"METALS AND MINERALS"]
[null,null,null,null,null,null,null,null,null,null,null,1686,"Diamond","DIAMOND","हीरा","METALS AND MINERALS ( धातु और द्रव्य )","हीरा","Diamond",null,null,null,null,"METALS AND MINERALS"]
[null,null,null,null,null,null,null,null,null,null,null,1687,"Mercury","MERCURY","पारा","METALS AND MINERALS ( धातु और द्रव्य )","पारा","Mercury",null,null,null,null,"METALS AND MINERALS"]
[null,null,null,null,null,null,null,null,null,null,null,1688,"Necklace","NECKLACE","हार","ORNAMENTS ( आभूषण )","हार","Necklace",null,null,null,null,"ORNAMENTS"]
[null,null,null,null,null,null,null,null,null,null,null,1689,"Bracelet","BRACELET","कंगन","ORNAMENTS ( आभूषण )","कंगन","Bracelet",null,null,null,null,"ORNAMENTS"]
[null,null,null,null,null,null,null,null,null,null,null,1690,"Armlet","ARMLET","बाजूबंद","ORNAMENTS ( आभूषण )","बाजूबंद","Armlet",null,null,null,null,"ORNAMENTS"]
[null,null,null,null,null,null,null,null,null,null,null,1691,"Ring","RING","अंगूठी","ORNAMENTS ( आभूषण )","अंगूठी","Ring",null,null,null,null,"ORNAMENTS"]
[null,null,null,null,null,null,null,null,null,null,null,1692,"Crown","CROWN","मुकुट","ORNAMENTS ( आभूषण )","मुकुट","Crown",null,null,null,null,"ORNAMENTS"]
[null,null,null,null,null,null,null,null,null,null,null,1693,"Ear-Ring","EAR-RING","कान की बाली","ORNAMENTS ( आभूषण )","कान की बाली","Ear-Ring",null,null,null,null,"ORNAMENTS"]
[null,null,null,null,null,null,null,null,null,null,null,1694,"Conch-Bangle","CONCH-BANGLE","शंख की चूड़ी","ORNAMENTS ( आभूषण )","शंख की चूड़ी","Conch-Bangle",null,null,null,null,"ORNAMENTS"]
[null,null,null,null,null,null,null,null,null,null,null,1695,"Anklet","ANKLET","पैर का गहना","ORNAMENTS ( आभूषण )","पैर का गहना","Anklet",null,null,null,null,"ORNAMENTS"]
[null,null,null,null,null,null,null,null,null,null,null,1696,"Nose-Ring","NOSE-RING","नथ","ORNAMENTS ( आभूषण )","नथ","Nose-Ring",null,null,null,null,"ORNAMENTS"]
[null,null,null,null,null,null,null,null,null,null,null,1697,"Bangles","BANGLES","चूड़ी","ORNAMENTS ( आभूषण )","चूड़ी","Bangles",null,null,null,null,"ORNAMENTS"]
[null,null,null,null,null,null,null,null,null,null,null,1698,"Pendant","PENDANT","झुमका","ORNAMENTS ( आभूषण )","झुमका","Pendant",null,null,null,null,"ORNAMENTS"]
[null,null,null,null,null,null,null,null,null,null,null,1699,"Wrist-Chain","WRIST-CHAIN","कमरबंध","ORNAMENTS ( आभूषण )","कमरबंध","Wrist-Chain",null,null,null,null,"ORNAMENTS"]
[null,null,null,null,null,null,null,null,null,null,null,1700,"Gram","GRAM","चना","CORNS AND SPICES ( अन्न और मसाले )","चना","Gram",null,null,null,null,"CORNS AND SPICES"]
[null,null,null,null,null,null,null,null,null,null,null,1701,"Cassia","CASSIA","तेजपात","CORNS AND SPICES ( अन्न और मसाले )","तेजपात","Cassia",null,null,null,null,"CORNS AND SPICES"]
[null,null,null,null,null,null,null,null,null,null,null,1702,"Pea","PEA","मटर","CORNS AND SPICES ( अन्न और मसाले )","मटर","Pea",null,null,null,null,"CORNS AND SPICES"]
[null,null,null,null,null,null,null,null,null,null,null,1703,"Bamboo Camphor","BAMBOO CAMPHOR","वंशलोचन","CORNS AND SPICES ( अन्न और मसाले )","वंशलोचन","Bamboo Camphor",null,null,null,null,"CORNS AND SPICES"]
[null,null,null,null,null,null,null,null,null,null,null,1704,"Salt Petre","SALT PETRE","शोरा","CORNS AND SPICES ( अन्न और मसाले )","शोरा","Salt Petre",null,null,null,null,"CORNS AND SPICES"]
[null,null,null,null,null,null,null,null,null,null,null,1705,"Gall-Nut","GALL-NUT","माजूफल","CORNS AND SPICES ( अन्न और मसाले )","माजूफल","Gall-Nut",null,null,null,null,"CORNS AND SPICES"]
[null,null,null,null,null,null,null,null,null,null,null,1706,"Long-Peeper","LONG-PEEPER","पीपल","CORNS AND SPICES ( अन्न और मसाले )","पीपल","Long-Peeper",null,null,null,null,"CORNS AND SPICES"]
[null,null,null,null,null,null,null,null,null,null,null,1707,"Rock-Salt","ROCK-SALT","सेंधा नमक","CORNS AND SPICES ( अन्न और मसाले )","सेंधा नमक","Rock-Salt",null,null,null,null,"CORNS AND SPICES"]
[null,null,null,null,null,null,null,null,null,null,null,1708,"Lentil","LENTIL","मसूर","CORNS AND SPICES ( अन्न और मसाले )","मसूर","Lentil",null,null,null,null,"CORNS AND SPICES"]
[null,null,null,null,null,null,null,null,null,null,null,1709,"Seed","SEED","बीज","CORNS AND SPICES ( अन्न और मसाले )","बीज","Seed",null,null,null,null,"CORNS AND SPICES"]
[null,null,null,null,null,null,null,null,null,null,null,1710,"Senna","SENNA","सनाय","CORNS AND SPICES ( अन्न और मसाले )","सनाय","Senna",null,null,null,null,"CORNS AND SPICES"]
[null,null,null,null,null,null,null,null,null,null,null,1711,"Alum","ALUM","फिटकरी","CORNS AND SPICES ( अन्न और मसाले )","फिटकरी","Alum",null,null,null,null,"CORNS AND SPICES"]
[null,null,null,null,null,null,null,null,null,null,null,1712,"Cubed","CUBED","कबाबचीनी","CORNS AND SPICES ( अन्न और मसाले )","कबाबचीनी","Cubed",null,null,null,null,"CORNS AND SPICES"]
[null,null,null,null,null,null,null,null,null,null,null,1713,"Musk","MUSK","कस्तूरी","CORNS AND SPICES ( अन्न और मसाले )","कस्तूरी","Musk",null,null,null,null,"CORNS AND SPICES"]
[null,null,null,null,null,null,null,null,null,null,null,1714,"Yeast","YEAST","खमीर","CORNS AND SPICES ( अन्न और मसाले )","खमीर","Yeast",null,null,null,null,"CORNS AND SPICES"]
[null,null,null,null,null,null,null,null,null,null,null,1715,"Ruddle","RUDDLE","गेरू","CORNS AND SPICES ( अन्न और मसाले )","गेरू","Ruddle",null,null,null,null,"CORNS AND SPICES"]
[null,null,null,null,null,null,null,null,null,null,null,1716,"Sandal","SANDAL","चन्दन","CORNS AND SPICES ( अन्न और मसाले )","चन्दन","Sandal",null,null,null,null,"CORNS AND SPICES"]
[null,null,null,null,null,null,null,null,null,null,null,1717,"Sago","SAGO","साबूदाना","CORNS AND SPICES ( अन्न और मसाले )","साबूदाना","Sago",null,null,null,null,"CORNS AND SPICES"]
[null,null,null,null,null,null,null,null,null,null,null,1718,"Poppy-Seed","POPPY-SEED","पोस्ता","CORNS AND SPICES ( अन्न और मसाले )","पोस्ता","Poppy-Seed",null,null,null,null,"CORNS AND SPICES"]
[null,null,null,null,null,null,null,null,null,null,null,1719,"Maize","MAIZE","मक्का","CORNS AND SPICES ( अन्न और मसाले )","मक्का","Maize",null,null,null,null,"CORNS AND SPICES"]
[null,null,null,null,null,null,null,null,null,null,null,1720,"Pulse","PULSE","दाल","CORNS AND SPICES ( अन्न और मसाले )","दाल","Pulse",null,null,null,null,"CORNS AND SPICES"]
[null,null,null,null,null,null,null,null,null,null,null,1721,"Rice","RICE","चावल","CORNS AND SPICES ( अन्न और मसाले )","चावल","Rice",null,null,null,null,"CORNS AND SPICES"]
[null,null,null,null,null,null,null,null,null,null,null,1722,"Black Peeper","BLACK PEEPER","काली मिर्च","CORNS AND SPICES ( अन्न और मसाले )","काली मिर्च","Black Peeper",null,null,null,null,"CORNS AND SPICES"]
[null,null,null,null,null,null,null,null,null,null,null,1723,"Paddy","PADDY","धान","CORNS AND SPICES ( अन्न और मसाले )","धान","Paddy",null,null,null,null,"CORNS AND SPICES"]
[null,null,null,null,null,null,null,null,null,null,null,1724,"Bonezin","BONEZIN","लोबान","CORNS AND SPICES ( अन्न और मसाले )","लोबान","Bonezin",null,null,null,null,"CORNS AND SPICES"]
[null,null,null,null,null,null,null,null,null,null,null,1725,"Barley","BARLEY","जौ","CORNS AND SPICES ( अन्न और मसाले )","जौ","Barley",null,null,null,null,"CORNS AND SPICES"]
[null,null,null,null,null,null,null,null,null,null,null,1726,"Flour","FLOUR","आटा","CORNS AND SPICES ( अन्न और मसाले )","आटा","Flour",null,null,null,null,"CORNS AND SPICES"]
[null,null,null,null,null,null,null,null,null,null,null,1727,"Clove","CLOVE","लोंग","CORNS AND SPICES ( अन्न और मसाले )","लोंग","Clove",null,null,null,null,"CORNS AND SPICES"]
[null,null,null,null,null,null,null,null,null,null,null,1728,"Pigeon Pea","PIGEON PEA","अरहर","CORNS AND SPICES ( अन्न और मसाले )","अरहर","Pigeon Pea",null,null,null,null,"CORNS AND SPICES"]
[null,null,null,null,null,null,null,null,null,null,null,1729,"Saffron","SAFFRON","केशर","CORNS AND SPICES ( अन्न और मसाले )",{"$f":"O1757","v":"केशर"},"Saffron",null,null,null,null,"CORNS AND SPICES"]
[null,null,null,null,null,null,null,null,null,null,null,1730,{"$f":"PROPER(N1758)","v":" Garlic"}," GARLIC","लहसुन","CORNS AND SPICES ( अन्न और मसाले )","लहसुन",{"$f":"PROPER(N1758)","v":" Garlic"},null,null,null,null,"CORNS AND SPICES"]
[null,null,null,null,null,null,null,null,null,null,null,1731,"Nutmeg","NUTMEG","जायफल","CORNS AND SPICES ( अन्न और मसाले )","जायफल","Nutmeg",null,null,null,null,"CORNS AND SPICES"]
[null,null,null,null,null,null,null,null,null,null,null,1732,"Mace","MACE","जावित्री","CORNS AND SPICES ( अन्न और मसाले )","जावित्री","Mace",null,null,null,null,"CORNS AND SPICES"]
[null,null,null,null,null,null,null,null,null,null,null,1733,"Arsenic","ARSENIC","संखिया","CORNS AND SPICES ( अन्न और मसाले )","संखिया","Arsenic",null,null,null,null,"CORNS AND SPICES"]
[null,null,null,null,null,null,null,null,null,null,null,1734,"Corinder","CORINDER","धनिया","CORNS AND SPICES ( अन्न और मसाले )","धनिया","Corinder",null,null,null,null,"CORNS AND SPICES"]
[null,null,null,null,null,null,null,null,null,null,null,1735,"Salt","SALT","नमक","CORNS AND SPICES ( अन्न और मसाले )","नमक","Salt",null,null,null,null,"CORNS AND SPICES"]
[null,null,null,null,null,null,null,null,null,null,null,1736,"Ginger","GINGER","अदरक","CORNS AND SPICES ( अन्न और मसाले )","अदरक","Ginger",null,null,null,null,"CORNS AND SPICES"]
[null,null,null,null,null,null,null,null,null,null,null,1737,"Tamarid","TAMARID","इमली","CORNS AND SPICES ( अन्न और मसाले )","इमली","Tamarid",null,null,null,null,"CORNS AND SPICES"]
[null,null,null,null,null,null,null,null,null,null,null,1738,"Camphor","CAMPHOR","कपूर","CORNS AND SPICES ( अन्न और मसाले )","कपूर","Camphor",null,null,null,null,"CORNS AND SPICES"]
[null,null,null,null,null,null,null,null,null,null,null,1739,"Parsley","PARSLEY","अजवायन","CORNS AND SPICES ( अन्न और मसाले )","अजवायन","Parsley",null,null,null,null,"CORNS AND SPICES"]
[null,null,null,null,null,null,null,null,null,null,null,1740,"Sesame","SESAME","तिल","CORNS AND SPICES ( अन्न और मसाले )","तिल","Sesame",null,null,null,null,"CORNS AND SPICES"]
[null,null,null,null,null,null,null,null,null,null,null,1741,"Oat","OAT","जई","CORNS AND SPICES ( अन्न और मसाले )","जई","Oat",null,null,null,null,"CORNS AND SPICES"]
[null,null,null,null,null,null,null,null,null,null,null,1742,"Caster Seed","CASTER SEED","अरंडी","CORNS AND SPICES ( अन्न और मसाले )","अरंडी","Caster Seed",null,null,null,null,"CORNS AND SPICES"]
[null,null,null,null,null,null,null,null,null,null,null,1743,"Red Seed","RED SEED","राई","CORNS AND SPICES ( अन्न और मसाले )","राई","Red Seed",null,null,null,null,"CORNS AND SPICES"]
[null,null,null,null,null,null,null,null,null,null,null,1744,"Turmeric","TURMERIC","हल्दी","CORNS AND SPICES ( अन्न और मसाले )","हल्दी","Turmeric",null,null,null,null,"CORNS AND SPICES"]
[null,null,null,null,null,null,null,null,null,null,null,1745,"Mustard Seed","MUSTARD SEED","सरसों","CORNS AND SPICES ( अन्न और मसाले )","सरसों","Mustard Seed",null,null,null,null,"CORNS AND SPICES"]
[null,null,null,null,null,null,null,null,null,null,null,1746,"Chilli","CHILLI","मिर्च","CORNS AND SPICES ( अन्न और मसाले )","मिर्च","Chilli",null,null,null,null,"CORNS AND SPICES"]
[null,null,null,null,null,null,null,null,null,null,null,1747," Clove"," CLOVE","लोंग","CORNS AND SPICES ( अन्न और मसाले )","लोंग"," Clove",null,null,null,null,"CORNS AND SPICES"]
[null,null,null,null,null,null,null,null,null,null,null,1748,"Aniseed","ANISEED","सौंफ","CORNS AND SPICES ( अन्न और मसाले )","सौंफ","Aniseed",null,null,null,null,"CORNS AND SPICES"]
[null,null,null,null,null,null,null,null,null,null,null,1749,"Cumin Seed","CUMIN SEED","जीरा","CORNS AND SPICES ( अन्न और मसाले )","जीरा","Cumin Seed",null,null,null,null,"CORNS AND SPICES"]
[null,null,null,null,null,null,null,null,null,null,null,1750,"Cardamom","CARDAMOM","इलायची","CORNS AND SPICES ( अन्न और मसाले )","इलायची","Cardamom",null,null,null,null,"CORNS AND SPICES"]
[null,null,null,null,null,null,null,null,null,null,null,1751,"Asafoetida","ASAFOETIDA","हिंग","CORNS AND SPICES ( अन्न और मसाले )","हिंग","Asafoetida",null,null,null,null,"CORNS AND SPICES"]
[null,null,null,null,null,null,null,null,null,null,null,1752,"Aloe","ALOE","मुसब्बर","CORNS AND SPICES ( अन्न और मसाले )","मुसब्बर","Aloe",null,null,null,null,"CORNS AND SPICES"]
[null,null,null,null,null,null,null,null,null,null,null,1753," Pepper"," PEPPER","काली मिर्च","CORNS AND SPICES ( अन्न और मसाले )","काली मिर्च"," Pepper",null,null,null,null,"CORNS AND SPICES"]
[null,null,null,null,null,null,null,null,null,null,null,1754,"Cinnabar","CINNABAR","सिन्दूर","CORNS AND SPICES ( अन्न और मसाले )","सिन्दूर","Cinnabar",null,null,null,null,"CORNS AND SPICES"]
[null,null,null,null,null,null,null,null,null,null,null,1755,"Cloud","CLOUD","बादल","NATURAL OBJECTS ( प्राकतिक वस्तुएं )","बादल","Cloud",null,null,null,null,"NATURAL OBJECTS"]
[null,null,null,null,null,null,null,null,null,null,null,1756,"Rain","RAIN","वर्षा","NATURAL OBJECTS ( प्राकतिक वस्तुएं )","वर्षा","Rain",null,null,null,null,"NATURAL OBJECTS"]
[null,null,null,null,null,null,null,null,null,null,null,1757,"Sun","SUN","सूर्य","NATURAL OBJECTS ( प्राकतिक वस्तुएं )","सूर्य","Sun",null,null,null,null,"NATURAL OBJECTS"]
[null,null,null,null,null,null,null,null,null,null,null,1758,"Moon","MOON","चन्द्रमा","NATURAL OBJECTS ( प्राकतिक वस्तुएं )","चन्द्रमा","Moon",null,null,null,null,"NATURAL OBJECTS"]
[null,null,null,null,null,null,null,null,null,null,null,1759,"Earth","EARTH","पृथ्वी","NATURAL OBJECTS ( प्राकतिक वस्तुएं )","पृथ्वी","Earth",null,null,null,null,"NATURAL OBJECTS"]
[null,null,null,null,null,null,null,null,null,null,null,1760,"Sky","SKY","आकाश","NATURAL OBJECTS ( प्राकतिक वस्तुएं )","आकाश","Sky",null,null,null,null,"NATURAL OBJECTS"]
[null,null,null,null,null,null,null,null,null,null,null,1761,"Wind","WIND","हवा","NATURAL OBJECTS ( प्राकतिक वस्तुएं )","हवा","Wind",null,null,null,null,"NATURAL OBJECTS"]
[null,null,null,null,null,null,null,null,null,null,null,1762,"Plains","PLAINS","समतल मैदान","NATURAL OBJECTS ( प्राकतिक वस्तुएं )","समतल मैदान","Plains",null,null,null,null,"NATURAL OBJECTS"]
[null,null,null,null,null,null,null,null,null,null,null,1763," Valley"," VALLEY","घाटी","NATURAL OBJECTS ( प्राकतिक वस्तुएं )","घाटी"," Valley",null,null,null,null,"NATURAL OBJECTS"]
[null,null,null,null,null,null,null,null,null,null,null,1764,"Mist","MIST","कोहरा","NATURAL OBJECTS ( प्राकतिक वस्तुएं )","कोहरा","Mist",null,null,null,null,"NATURAL OBJECTS"]
[null,null,null,null,null,null,null,null,null,null,null,1765,"Snow","SNOW","बर्फ","NATURAL OBJECTS ( प्राकतिक वस्तुएं )","बर्फ","Snow",null,null,null,null,"NATURAL OBJECTS"]
[null,null,null,null,null,null,null,null,null,null,null,1766,"Dew","DEW","ओंस","NATURAL OBJECTS ( प्राकतिक वस्तुएं )","ओंस","Dew",null,null,null,null,"NATURAL OBJECTS"]
[null,null,null,null,null,null,null,null,null,null,null,1767,"Vapour","VAPOUR","भाप","NATURAL OBJECTS ( प्राकतिक वस्तुएं )","भाप","Vapour",null,null,null,null,"NATURAL OBJECTS"]
[null,null,null,null,null,null,null,null,null,null,null,1768,"Thunder","THUNDER","गरज","NATURAL OBJECTS ( प्राकतिक वस्तुएं )","गरज","Thunder",null,null,null,null,"NATURAL OBJECTS"]
[null,null,null,null,null,null,null,null,null,null,null,1769," Light"," LIGHT","प्रकाश","NATURAL OBJECTS ( प्राकतिक वस्तुएं )","प्रकाश"," Light",null,null,null,null,"NATURAL OBJECTS"]
[null,null,null,null,null,null,null,null,null,null,null,1770,"Darkness","DARKNESS","अँधेरा","NATURAL OBJECTS ( प्राकतिक वस्तुएं )","अँधेरा","Darkness",null,null,null,null,"NATURAL OBJECTS"]
[null,null,null,null,null,null,null,null,null,null,null,1771,"Air","AIR","हवा","NATURAL OBJECTS ( प्राकतिक वस्तुएं )","हवा","Air",null,null,null,null,"NATURAL OBJECTS"]
[null,null,null,null,null,null,null,null,null,null,null,1772,"Star","STAR","तारे","NATURAL OBJECTS ( प्राकतिक वस्तुएं )","तारे","Star",null,null,null,null,"NATURAL OBJECTS"]
[null,null,null,null,null,null,null,null,null,null,null,1773,"Water","WATER","पानी","NATURAL OBJECTS ( प्राकतिक वस्तुएं )","पानी","Water",null,null,null,null,"NATURAL OBJECTS"]
[null,null,null,null,null,null,null,null,null,null,null,1774,"Ice","ICE","बर्फ","NATURAL OBJECTS ( प्राकतिक वस्तुएं )","बर्फ","Ice",null,null,null,null,"NATURAL OBJECTS"]
[null,null,null,null,null,null,null,null,null,null,null,1775,"Fog","FOG","धुंवा","NATURAL OBJECTS ( प्राकतिक वस्तुएं )","धुंवा","Fog",null,null,null,null,"NATURAL OBJECTS"]
[null,null,null,null,null,null,null,null,null,null,null,1776," Hill"," HILL","पहाड़ी","NATURAL OBJECTS ( प्राकतिक वस्तुएं )","पहाड़ी"," Hill",null,null,null,null,"NATURAL OBJECTS"]
[null,null,null,null,null,null,null,null,null,null,null,1777,"Moutain","MOUTAIN","पर्वत","NATURAL OBJECTS ( प्राकतिक वस्तुएं )","पर्वत","Moutain",null,null,null,null,"NATURAL OBJECTS"]
[null,null,null,null,null,null,null,null,null,null,null,1778," Cave"," CAVE","गुफा","NATURAL OBJECTS ( प्राकतिक वस्तुएं )","गुफा"," Cave",null,null,null,null,"NATURAL OBJECTS"]
[null,null,null,null,null,null,null,null,null,null,null,1779,"Stone","STONE","पत्थर","NATURAL OBJECTS ( प्राकतिक वस्तुएं )","पत्थर","Stone",null,null,null,null,"NATURAL OBJECTS"]
[null,null,null,null,null,null,null,null,null,null,null,1780," Grass"," GRASS","घास","NATURAL OBJECTS ( प्राकतिक वस्तुएं )","घास"," Grass",null,null,null,null,"NATURAL OBJECTS"]
[null,null,null,null,null,null,null,null,null,null,null,1781,"Field","FIELD","खेत","NATURAL OBJECTS ( प्राकतिक वस्तुएं )","खेत","Field",null,null,null,null,"NATURAL OBJECTS"]
[null,null,null,null,null,null,null,null,null,null,null,1782," Mud"," MUD","कीचड़","NATURAL OBJECTS ( प्राकतिक वस्तुएं )","कीचड़"," Mud",null,null,null,null,"NATURAL OBJECTS"]
[null,null,null,null,null,null,null,null,null,null,null,1783,"Pasture-Land","PASTURE-LAND","चारागाह","NATURAL OBJECTS ( प्राकतिक वस्तुएं )","चारागाह","Pasture-Land",null,null,null,null,"NATURAL OBJECTS"]
[null,null,null,null,null,null,null,null,null,null,null,1784,"Lightining","LIGHTINING","बिजली कोंधना","NATURAL OBJECTS ( प्राकतिक वस्तुएं )","बिजली कोंधना","Lightining",null,null,null,null,"NATURAL OBJECTS"]
[null,null,null,null,null,null,null,null,null,null,null,1785,"Shower","SHOWER","बोछार","NATURAL OBJECTS ( प्राकतिक वस्तुएं )","बोछार","Shower",null,null,null,null,"NATURAL OBJECTS"]
[null,null,null,null,null,null,null,null,null,null,null,1786,"Hailstorm","HAILSTORM","ओले गिरना","NATURAL OBJECTS ( प्राकतिक वस्तुएं )","ओले गिरना","Hailstorm",null,null,null,null,"NATURAL OBJECTS"]
[null,null,null,null,null,null,null,null,null,null,null,1787,"Storm","STORM","आंधी","NATURAL OBJECTS ( प्राकतिक वस्तुएं )","आंधी","Storm",null,null,null,null,"NATURAL OBJECTS"]
[null,null,null,null,null,null,null,null,null,null,null,1788,"Cyclone","CYCLONE","चक्रवात","NATURAL OBJECTS ( प्राकतिक वस्तुएं )","चक्रवात","Cyclone",null,null,null,null,"NATURAL OBJECTS"]
[null,null,null,null,null,null,null,null,null,null,null,1789," Wave"," WAVE","लहर","NATURAL OBJECTS ( प्राकतिक वस्तुएं )","लहर"," Wave",null,null,null,null,"NATURAL OBJECTS"]
[null,null,null,null,null,null,null,null,null,null,null,1790,"Current","CURRENT","प्रवाह","NATURAL OBJECTS ( प्राकतिक वस्तुएं )","प्रवाह","Current",null,null,null,null,"NATURAL OBJECTS"]
[null,null,null,null,null,null,null,null,null,null,null,1791,"Flow-Tide","FLOW-TIDE","ज्वार","NATURAL OBJECTS ( प्राकतिक वस्तुएं )","ज्वार","Flow-Tide",null,null,null,null,"NATURAL OBJECTS"]
[null,null,null,null,null,null,null,null,null,null,null,1792,"Ebb-Tide","EBB-TIDE","भाटा","NATURAL OBJECTS ( प्राकतिक वस्तुएं )","भाटा","Ebb-Tide",null,null,null,null,"NATURAL OBJECTS"]
[null,null,null,null,null,null,null,null,null,null,null,1793,"Meteor","METEOR","उल्का","NATURAL OBJECTS ( प्राकतिक वस्तुएं )",{"$f":"O1821","v":"उल्का"},"Meteor",null,null,null,null,"NATURAL OBJECTS"]
[null,null,null,null,null,null,null,null,null,null,null,1794,{"$f":"PROPER(N1822)","v":" Volcano"}," VOLCANO","ज्वालामुखी","NATURAL OBJECTS ( प्राकतिक वस्तुएं )","ज्वालामुखी",{"$f":"PROPER(N1822)","v":" Volcano"},null,null,null,null,"NATURAL OBJECTS"]
[null,null,null,null,null,null,null,null,null,null,null,1795," Island"," ISLAND","द्वीप","NATURAL OBJECTS ( प्राकतिक वस्तुएं )","द्वीप"," Island",null,null,null,null,"NATURAL OBJECTS"]
[null,null,null,null,null,null,null,null,null,null,null,1796,"Delta","DELTA","नदी का मुहाना","NATURAL OBJECTS ( प्राकतिक वस्तुएं )","नदी का मुहाना","Delta",null,null,null,null,"NATURAL OBJECTS"]
[null,null,null,null,null,null,null,null,null,null,null,1797,"Peninsula","PENINSULA","प्रायद्वीप","NATURAL OBJECTS ( प्राकतिक वस्तुएं )","प्रायद्वीप","Peninsula",null,null,null,null,"NATURAL OBJECTS"]
[null,null,null,null,null,null,null,null,null,null,null,1798," Archipelago"," ARCHIPELAGO","द्वीपपुन्ज","NATURAL OBJECTS ( प्राकतिक वस्तुएं )","द्वीपपुन्ज"," Archipelago",null,null,null,null,"NATURAL OBJECTS"]
[null,null,null,null,null,null,null,null,null,null,null,1799," Spring"," SPRING","जलस्रोत","NATURAL OBJECTS ( प्राकतिक वस्तुएं )","जलस्रोत"," Spring",null,null,null,null,"NATURAL OBJECTS"]
[null,null,null,null,null,null,null,null,null,null,null,1800," Hail"," HAIL","ओला","NATURAL OBJECTS ( प्राकतिक वस्तुएं )","ओला"," Hail",null,null,null,null,"NATURAL OBJECTS"]
[null,null,null,null,null,null,null,null,null,null,null,1801,"Breeze","BREEZE","समीर","NATURAL OBJECTS ( प्राकतिक वस्तुएं )","समीर","Breeze",null,null,null,null,"NATURAL OBJECTS"]
[null,null,null,null,null,null,null,null,null,null,null,1802," Sea"," SEA","समुन्द्र","NATURAL OBJECTS ( प्राकतिक वस्तुएं )","समुन्द्र"," Sea",null,null,null,null,"NATURAL OBJECTS"]
[null,null,null,null,null,null,null,null,null,null,null,1803," River"," RIVER","नदी","NATURAL OBJECTS ( प्राकतिक वस्तुएं )","नदी"," River",null,null,null,null,"NATURAL OBJECTS"]
[null,null,null,null,null,null,null,null,null,null,null,1804,"Forest","FOREST","जंगल","NATURAL OBJECTS ( प्राकतिक वस्तुएं )","जंगल","Forest",null,null,null,null,"NATURAL OBJECTS"]
[null,null,null,null,null,null,null,null,null,null,null,1805," Lake"," LAKE","झील","NATURAL OBJECTS ( प्राकतिक वस्तुएं )","झील"," Lake",null,null,null,null,"NATURAL OBJECTS"]
[null,null,null,null,null,null,null,null,null,null,null,1806,"Flood","FLOOD","बाढ़","NATURAL OBJECTS ( प्राकतिक वस्तुएं )","बाढ़","Flood",null,null,null,null,"NATURAL OBJECTS"]
[null,null,null,null,null,null,null,null,null,null,null,1807,"Dust","DUST","धूल","NATURAL OBJECTS ( प्राकतिक वस्तुएं )","धूल","Dust",null,null,null,null,"NATURAL OBJECTS"]
[null,null,null,null,null,null,null,null,null,null,null,1808," Sand"," SAND","धूल","NATURAL OBJECTS ( प्राकतिक वस्तुएं )","धूल"," Sand",null,null,null,null,"NATURAL OBJECTS"]
[null,null,null,null,null,null,null,null,null,null,null,1809," Desert"," DESERT","रेगिस्तान","NATURAL OBJECTS ( प्राकतिक वस्तुएं )","रेगिस्तान"," Desert",null,null,null,null,"NATURAL OBJECTS"]
[null,null,null,null,null,null,null,null,null,null,null,1810,"Oasis","OASIS","मरूद्यान","NATURAL OBJECTS ( प्राकतिक वस्तुएं )","मरूद्यान","Oasis",null,null,null,null,"NATURAL OBJECTS"]
[null,null,null,null,null,null,null,null,null,null,null,1811,"Fire","FIRE","आग","NATURAL OBJECTS ( प्राकतिक वस्तुएं )","आग","Fire",null,null,null,null,"NATURAL OBJECTS"]
[null,null,null,null,null,null,null,null,null,null,null,1812,"Sunlight","SUNLIGHT","सूर्यकिरण","NATURAL OBJECTS ( प्राकतिक वस्तुएं )","सूर्यकिरण","Sunlight",null,null,null,null,"NATURAL OBJECTS"]
[null,null,null,null,null,null,null,null,null,null,null,1813,"Comet","COMET","पुच्छलतारा","NATURAL OBJECTS ( प्राकतिक वस्तुएं )","पुच्छलतारा","Comet",null,null,null,null,"NATURAL OBJECTS"]
[null,null,null,null,null,null,null,null,null,null,null,1814,"Strait","STRAIT","जलडमरूमध्य","NATURAL OBJECTS ( प्राकतिक वस्तुएं )","जलडमरूमध्य","Strait",null,null,null,null,"NATURAL OBJECTS"]
[null,null,null,null,null,null,null,null,null,null,null,1815," Fountain"," FOUNTAIN","झरना","NATURAL OBJECTS ( प्राकतिक वस्तुएं )","झरना"," Fountain",null,null,null,null,"NATURAL OBJECTS"]
[null,null,null,null,null,null,null,null,null,null,null,1816," Water-Fall"," WATER-FALL","जल प्रपात","NATURAL OBJECTS ( प्राकतिक वस्तुएं )","जल प्रपात"," Water-Fall",null,null,null,null,"NATURAL OBJECTS"]
[null,null,null,null,null,null,null,null,null,null,null,1817,"Gulf","GULF","खाड़ी","NATURAL OBJECTS ( प्राकतिक वस्तुएं )","खाड़ी","Gulf",null,null,null,null,"NATURAL OBJECTS"]
[null,null,null,null,null,null,null,null,null,null,null,1818," Ocean"," OCEAN","महासागर","NATURAL OBJECTS ( प्राकतिक वस्तुएं )","महासागर"," Ocean",null,null,null,null,"NATURAL OBJECTS"]
[null,null,null,null,null,null,null,null,null,null,null,1819,"Sound","SOUND","आवाज","NATURAL OBJECTS ( प्राकतिक वस्तुएं )","आवाज","Sound",null,null,null,null,"NATURAL OBJECTS"]
[null,null,null,null,null,null,null,null,null,null,null,1820,"Moonlight","MOONLIGHT","चन्द्र रश्मि","NATURAL OBJECTS ( प्राकतिक वस्तुएं )","चन्द्र रश्मि","Moonlight",null,null,null,null,"NATURAL OBJECTS"]
[null,null,null,null,null,null,null,null,null,null,null,1821,"Sunshine","SUNSHINE","धुप","NATURAL OBJECTS ( प्राकतिक वस्तुएं )","धुप","Sunshine",null,null,null,null,"NATURAL OBJECTS"]
[null,null,null,null,null,null,null,null,null,null,null,1822,"Cosmos","COSMOS","ब्रह्माण्ड","NATURAL OBJECTS ( प्राकतिक वस्तुएं )","ब्रह्माण्ड","Cosmos",null,null,null,null,"NATURAL OBJECTS"]
[null,null,null,null,null,null,null,null,null,null,null,1823,"Universe","UNIVERSE","ब्रह्माण्ड","NATURAL OBJECTS ( प्राकतिक वस्तुएं )","ब्रह्माण्ड","Universe",null,null,null,null,"NATURAL OBJECTS"]
[null,null,null,null,null,null,null,null,null,null,null,1824,"Coast","COAST","समुद्रतट","NATURAL OBJECTS ( प्राकतिक वस्तुएं )","समुद्रतट","Coast",null,null,null,null,"NATURAL OBJECTS"]
[null,null,null,null,null,null,null,null,null,null,null,1825,"Shore","SHORE","समुन्द्रतीर","NATURAL OBJECTS ( प्राकतिक वस्तुएं )","समुन्द्रतीर","Shore",null,null,null,null,"NATURAL OBJECTS"]
[null,null,null,null,null,null,null,null,null,null,null,1826," Bank"," BANK","किनारा","NATURAL OBJECTS ( प्राकतिक वस्तुएं )","किनारा"," Bank",null,null,null,null,"NATURAL OBJECTS"]
[null,null,null,null,null,null,null,null,null,null,null,1827," Planet"," PLANET","ग्रह","NATURAL OBJECTS ( प्राकतिक वस्तुएं )","ग्रह"," Planet",null,null,null,null,"NATURAL OBJECTS"]
[null,null,null,null,null,null,null,null,null,null,null,1828,"Satelite","SATELITE","उपग्रह","NATURAL OBJECTS ( प्राकतिक वस्तुएं )","उपग्रह","Satelite",null,null,null,null,"NATURAL OBJECTS"]
[null,null,null,null,null,null,null,null,null,null,null,1829,"Eclipse","ECLIPSE","ग्रहण","NATURAL OBJECTS ( प्राकतिक वस्तुएं )","ग्रहण","Eclipse",null,null,null,null,"NATURAL OBJECTS"]
[null,null,null,null,null,null,null,null,null,null,null,1830,"Solar Eclipse","SOLAR ECLIPSE","सूर्यग्रहण","NATURAL OBJECTS ( प्राकतिक वस्तुएं )","सूर्यग्रहण","Solar Eclipse",null,null,null,null,"NATURAL OBJECTS"]
[null,null,null,null,null,null,null,null,null,null,null,1831,"Lunar Eclipse","LUNAR ECLIPSE","चंद्रग्रहण","NATURAL OBJECTS ( प्राकतिक वस्तुएं )","चंद्रग्रहण","Lunar Eclipse",null,null,null,null,"NATURAL OBJECTS"]
[null,null,null,null,null,null,null,null,null,null,null,1832,"Milky-Way","MILKY-WAY","आकाशगंगा","NATURAL OBJECTS ( प्राकतिक वस्तुएं )","आकाशगंगा","Milky-Way",null,null,null,null,"NATURAL OBJECTS"]
[null,null,null,null,null,null,null,null,null,null,null,1833,"Galaxy","GALAXY","आकाशगंगा","NATURAL OBJECTS ( प्राकतिक वस्तुएं )","आकाशगंगा","Galaxy",null,null,null,null,"NATURAL OBJECTS"]
[null,null,null,null,null,null,null,null,null,null,null,1834,"Earthquake","EARTHQUAKE","भूकंप","NATURAL OBJECTS ( प्राकतिक वस्तुएं )","भूकंप","Earthquake",null,null,null,null,"NATURAL OBJECTS"]
[null,null,null,null,null,null,null,null,null,null,null,1835,"January","JANUARY","जनवरी","MONTH OF A YEAR ( वर्ष के माह )","जनवरी","January",null,null,null,null,"MONTH OF A YEAR"]
[null,null,null,null,null,null,null,null,null,null,null,1836,"February","FEBRUARY","फरवरी","MONTH OF A YEAR ( वर्ष के माह )","फरवरी","February",null,null,null,null,"MONTH OF A YEAR"]
[null,null,null,null,null,null,null,null,null,null,null,1837," March"," MARCH","मार्च","MONTH OF A YEAR ( वर्ष के माह )","मार्च"," March",null,null,null,null,"MONTH OF A YEAR"]
[null,null,null,null,null,null,null,null,null,null,null,1838,"April","APRIL","अप्रैल","MONTH OF A YEAR ( वर्ष के माह )","अप्रैल","April",null,null,null,null,"MONTH OF A YEAR"]
[null,null,null,null,null,null,null,null,null,null,null,1839,"May","MAY","मई","MONTH OF A YEAR ( वर्ष के माह )","मई","May",null,null,null,null,"MONTH OF A YEAR"]
[null,null,null,null,null,null,null,null,null,null,null,1840,"June","JUNE","जून","MONTH OF A YEAR ( वर्ष के माह )","जून","June",null,null,null,null,"MONTH OF A YEAR"]
[null,null,null,null,null,null,null,null,null,null,null,1841,"July","JULY","जुलाई","MONTH OF A YEAR ( वर्ष के माह )","जुलाई","July",null,null,null,null,"MONTH OF A YEAR"]
[null,null,null,null,null,null,null,null,null,null,null,1842,"August","AUGUST","अगस्त","MONTH OF A YEAR ( वर्ष के माह )","अगस्त","August",null,null,null,null,"MONTH OF A YEAR"]
[null,null,null,null,null,null,null,null,null,null,null,1843,"September","SEPTEMBER","सितम्बर","MONTH OF A YEAR ( वर्ष के माह )","सितम्बर","September",null,null,null,null,"MONTH OF A YEAR"]
[null,null,null,null,null,null,null,null,null,null,null,1844,"Octomber","OCTOMBER","अक्तूबर","MONTH OF A YEAR ( वर्ष के माह )","अक्तूबर","Octomber",null,null,null,null,"MONTH OF A YEAR"]
[null,null,null,null,null,null,null,null,null,null,null,1845,"November","NOVEMBER","नवम्बर","MONTH OF A YEAR ( वर्ष के माह )","नवम्बर","November",null,null,null,null,"MONTH OF A YEAR"]
[null,null,null,null,null,null,null,null,null,null,null,1846,"December","DECEMBER","दिसम्बर","MONTH OF A YEAR ( वर्ष के माह )","दिसम्बर","December",null,null,null,null,"MONTH OF A YEAR"]
[null,null,null,null,null,null,null,null,null,null,null,1847," Month"," MONTH","महिना","MONTH OF A YEAR ( वर्ष के माह )","महिना"," Month",null,null,null,null,"MONTH OF A YEAR"]
[null,null,null,null,null,null,null,null,null,null,null,1848," Year"," YEAR","वर्ष","MONTH OF A YEAR ( वर्ष के माह )","वर्ष"," Year",null,null,null,null,"MONTH OF A YEAR"]
[null,null,null,null,null,null,null,null,null,null,null,1849,"Zodiac Sign","ZODIAC SIGN","राशी","ZODIAC SIGNS ( राशियाँ )","राशी","Zodiac Sign",null,null,null,null,"ZODIAC SIGNS"]
[null,null,null,null,null,null,null,null,null,null,null,1850,"Aries","ARIES","मेष","ZODIAC SIGNS ( राशियाँ )","मेष","Aries",null,null,null,null,"ZODIAC SIGNS"]
[null,null,null,null,null,null,null,null,null,null,null,1851,"Taurus","TAURUS","वर्ष","ZODIAC SIGNS ( राशियाँ )","वर्ष","Taurus",null,null,null,null,"ZODIAC SIGNS"]
[null,null,null,null,null,null,null,null,null,null,null,1852,{"$f":"PROPER(N1879)","v":"Taurus"},"GEMINI","मिथुन","ZODIAC SIGNS ( राशियाँ )","मिथुन","Gemini",null,null,null,null,"ZODIAC SIGNS"]
[null,null,null,null,null,null,null,null,null,null,null,1853,"Gemini"," CRAB","कर्क","ZODIAC SIGNS ( राशियाँ )","कर्क"," Crab",null,null,null,null,"ZODIAC SIGNS"]
[null,null,null,null,null,null,null,null,null,null,null,1854," Crab","LEO","सिंह","ZODIAC SIGNS ( राशियाँ )","सिंह","Leo",null,null,null,null,"ZODIAC SIGNS"]
[null,null,null,null,null,null,null,null,null,null,null,1855,"Leo","VIRGO","कन्या","ZODIAC SIGNS ( राशियाँ )","कन्या","Virgo",null,null,null,null,"ZODIAC SIGNS"]
[null,null,null,null,null,null,null,null,null,null,null,1856,"Virgo","LIBRA","तुला","ZODIAC SIGNS ( राशियाँ )","तुला","Libra",null,null,null,null,"ZODIAC SIGNS"]
[null,null,null,null,null,null,null,null,null,null,null,1857,"Libra","SCORPIO","वर्श्चिक","ZODIAC SIGNS ( राशियाँ )",{"$f":"O1885","v":"वर्श्चिक"},"Scorpio",null,null,null,null,"ZODIAC SIGNS"]
[null,null,null,null,null,null,null,null,null,null,null,1858,"Scorpio","SAGITTARIUS","धनु","ZODIAC SIGNS ( राशियाँ )","धनु",{"$f":"PROPER(N1886)","v":"Sagittarius"},null,null,null,null,"ZODIAC SIGNS"]
[null,null,null,null,null,null,null,null,null,null,null,1859,"Sagittarius","CAPRICOM","मकर","ZODIAC SIGNS ( राशियाँ )","मकर","Capricom",null,null,null,null,"ZODIAC SIGNS"]
[null,null,null,null,null,null,null,null,null,null,null,1860,"Capricom","AQUARIUS","कुम्भ","ZODIAC SIGNS ( राशियाँ )","कुम्भ","Aquarius",null,null,null,null,"ZODIAC SIGNS"]
[null,null,null,null,null,null,null,null,null,null,null,1861,"Aquarius","PISCES","मीन","ZODIAC SIGNS ( राशियाँ )","मीन","Pisces",null,null,null,null,"ZODIAC SIGNS"]
[null,null,null,null,null,null,null,null,null,null,null,1862,"Pisces","PLANET","ग्रह","COUNTINGS ( गिनती )","ग्रह","Planet",null,null,null,null,"COUNTINGS"]
[null,null,null,null,null,null,null,null,null,null,null,1863,{"$f":"PROPER(N1891)","v":"One"},"ONE","एक","COUNTINGS ( गिनती )","एक","One",null,null,null,null,"COUNTINGS"]
[null,null,null,null,null,null,null,null,null,null,null,1864,"Two","TWO","दो","COUNTINGS ( गिनती )","दो","Two",null,null,null,null,"COUNTINGS"]
[null,null,null,null,null,null,null,null,null,null,null,1865,"Three","THREE","तीन","COUNTINGS ( गिनती )","तीन","Three",null,null,null,null,"COUNTINGS"]
[null,null,null,null,null,null,null,null,null,null,null,1866,"Four","FOUR","चार","COUNTINGS ( गिनती )","चार","Four",null,null,null,null,"COUNTINGS"]
[null,null,null,null,null,null,null,null,null,null,null,1867,"Five","FIVE","पांच","COUNTINGS ( गिनती )","पांच","Five",null,null,null,null,"COUNTINGS"]
[null,null,null,null,null,null,null,null,null,null,null,1868,"Six","SIX","छह","COUNTINGS ( गिनती )","छह","Six",null,null,null,null,"COUNTINGS"]
[null,null,null,null,null,null,null,null,null,null,null,1869,"Seven","SEVEN","सात","COUNTINGS ( गिनती )","सात","Seven",null,null,null,null,"COUNTINGS"]
[null,null,null,null,null,null,null,null,null,null,null,1870,"Eight","EIGHT","आठ","COUNTINGS ( गिनती )","आठ","Eight",null,null,null,null,"COUNTINGS"]
[null,null,null,null,null,null,null,null,null,null,null,1871,"Nine","NINE","नों","COUNTINGS ( गिनती )","नों","Nine",null,null,null,null,"COUNTINGS"]
[null,null,null,null,null,null,null,null,null,null,null,1872,"Ten","TEN","दस","COUNTINGS ( गिनती )","दस","Ten",null,null,null,null,"COUNTINGS"]
[null,null,null,null,null,null,null,null,null,null,null,1873,"Eleven","ELEVEN","ग्यारह","COUNTINGS ( गिनती )","ग्यारह","Eleven",null,null,null,null,"COUNTINGS"]
[null,null,null,null,null,null,null,null,null,null,null,1874,"Twelve","TWELVE","बारह","COUNTINGS ( गिनती )","बारह","Twelve",null,null,null,null,"COUNTINGS"]
[null,null,null,null,null,null,null,null,null,null,null,1875,"Thirteen","THIRTEEN","तेरह","COUNTINGS ( गिनती )","तेरह","Thirteen",null,null,null,null,"COUNTINGS"]
[null,null,null,null,null,null,null,null,null,null,null,1876,"Fourteen","FOURTEEN","चोदह","COUNTINGS ( गिनती )","चोदह","Fourteen",null,null,null,null,"COUNTINGS"]
[null,null,null,null,null,null,null,null,null,null,null,1877,"Fifteen","FIFTEEN","पंद्रह","COUNTINGS ( गिनती )","पंद्रह","Fifteen",null,null,null,null,"COUNTINGS"]
[null,null,null,null,null,null,null,null,null,null,null,1878,"Sixteen","SIXTEEN","सोलह","COUNTINGS ( गिनती )","सोलह","Sixteen",null,null,null,null,"COUNTINGS"]
[null,null,null,null,null,null,null,null,null,null,null,1879,"Seventeen","SEVENTEEN","सत्रह","COUNTINGS ( गिनती )","सत्रह","Seventeen",null,null,null,null,"COUNTINGS"]
[null,null,null,null,null,null,null,null,null,null,null,1880,"Eighteen","EIGHTEEN","अठारह","COUNTINGS ( गिनती )","अठारह","Eighteen",null,null,null,null,"COUNTINGS"]
[null,null,null,null,null,null,null,null,null,null,null,1881,"Nineteen","NINETEEN","उन्नीस","COUNTINGS ( गिनती )","उन्नीस","Nineteen",null,null,null,null,"COUNTINGS"]
[null,null,null,null,null,null,null,null,null,null,null,1882,"Twenty","TWENTY","बीस","COUNTINGS ( गिनती )","बीस","Twenty",null,null,null,null,"COUNTINGS"]
[null,null,null,null,null,null,null,null,null,null,null,1883,"Twenty One","TWENTY ONE","इक्कीस","COUNTINGS ( गिनती )","इक्कीस","Twenty One",null,null,null,null,"COUNTINGS"]
[null,null,null,null,null,null,null,null,null,null,null,1884,"Twenty Two","TWENTY TWO","बाईस","COUNTINGS ( गिनती )","बाईस","Twenty Two",null,null,null,null,"COUNTINGS"]
[null,null,null,null,null,null,null,null,null,null,null,1885,"Twenty Three","TWENTY THREE","तेईस","COUNTINGS ( गिनती )","तेईस","Twenty Three",null,null,null,null,"COUNTINGS"]
[null,null,null,null,null,null,null,null,null,null,null,1886,"Twenty Four","TWENTY FOUR","चोईस","COUNTINGS ( गिनती )","चोईस","Twenty Four",null,null,null,null,"COUNTINGS"]
[null,null,null,null,null,null,null,null,null,null,null,1887,"Twenty Five","TWENTY FIVE","पच्चीस","COUNTINGS ( गिनती )","पच्चीस","Twenty Five",null,null,null,null,"COUNTINGS"]
[null,null,null,null,null,null,null,null,null,null,null,1888,"Twenty Six","TWENTY SIX","छब्बीस","COUNTINGS ( गिनती )","छब्बीस","Twenty Six",null,null,null,null,"COUNTINGS"]
[null,null,null,null,null,null,null,null,null,null,null,1889,"Twenty Seven","TWENTY SEVEN","सताईस","COUNTINGS ( गिनती )","सताईस","Twenty Seven",null,null,null,null,"COUNTINGS"]
[null,null,null,null,null,null,null,null,null,null,null,1890,"Twenty Eight","TWENTY EIGHT","अठाईस","COUNTINGS ( गिनती )","अठाईस","Twenty Eight",null,null,null,null,"COUNTINGS"]
[null,null,null,null,null,null,null,null,null,null,null,1891,"Twenty Nine","TWENTY NINE","उनतीस","COUNTINGS ( गिनती )","उनतीस","Twenty Nine",null,null,null,null,"COUNTINGS"]
[null,null,null,null,null,null,null,null,null,null,null,1892,"Thirty","THIRTY","तीस","COUNTINGS ( गिनती )","तीस","Thirty",null,null,null,null,"COUNTINGS"]
[null,null,null,null,null,null,null,null,null,null,null,1893,"Thirty One","THIRTY ONE","इकतीस","COUNTINGS ( गिनती )","इकतीस","Thirty One",null,null,null,null,"COUNTINGS"]
[null,null,null,null,null,null,null,null,null,null,null,1894,"Thirty Two","THIRTY TWO","बत्तीस","COUNTINGS ( गिनती )","बत्तीस","Thirty Two",null,null,null,null,"COUNTINGS"]
[null,null,null,null,null,null,null,null,null,null,null,1895,"Thirty Three","THIRTY THREE","तेंतीस","COUNTINGS ( गिनती )","तेंतीस","Thirty Three",null,null,null,null,"COUNTINGS"]
[null,null,null,null,null,null,null,null,null,null,null,1896,"Thirty Four","THIRTY FOUR","चोंतीस","COUNTINGS ( गिनती )","चोंतीस","Thirty Four",null,null,null,null,"COUNTINGS"]
[null,null,null,null,null,null,null,null,null,null,null,1897,"Thirty Five","THIRTY FIVE","पैंतीस","COUNTINGS ( गिनती )","पैंतीस","Thirty Five",null,null,null,null,"COUNTINGS"]
[null,null,null,null,null,null,null,null,null,null,null,1898,"Thirty Six","THIRTY SIX","छत्तीस","COUNTINGS ( गिनती )","छत्तीस","Thirty Six",null,null,null,null,"COUNTINGS"]
[null,null,null,null,null,null,null,null,null,null,null,1899,"Thirty Seven","THIRTY SEVEN","सेंतीस","COUNTINGS ( गिनती )","सेंतीस","Thirty Seven",null,null,null,null,"COUNTINGS"]
[null,null,null,null,null,null,null,null,null,null,null,1900,"Thirty Eight","THIRTY EIGHT","अडतीस","COUNTINGS ( गिनती )","अडतीस","Thirty Eight",null,null,null,null,"COUNTINGS"]
[null,null,null,null,null,null,null,null,null,null,null,1901,"Thirty Nine","THIRTY NINE","उनचालीस","COUNTINGS ( गिनती )","उनचालीस","Thirty Nine",null,null,null,null,"COUNTINGS"]
[null,null,null,null,null,null,null,null,null,null,null,1902,"Forty","FORTY","चालीस","COUNTINGS ( गिनती )","चालीस","Forty",null,null,null,null,"COUNTINGS"]
[null,null,null,null,null,null,null,null,null,null,null,1903,"Forty One","FORTY ONE","इकतालीस","COUNTINGS ( गिनती )","इकतालीस","Forty One",null,null,null,null,"COUNTINGS"]
[null,null,null,null,null,null,null,null,null,null,null,1904,"Forty Two","FORTY TWO","बयालीस","COUNTINGS ( गिनती )","बयालीस","Forty Two",null,null,null,null,"COUNTINGS"]
[null,null,null,null,null,null,null,null,null,null,null,1905,"Forty Three","FORTY THREE","तेयालीस","COUNTINGS ( गिनती )","तेयालीस","Forty Three",null,null,null,null,"COUNTINGS"]
[null,null,null,null,null,null,null,null,null,null,null,1906,"Forty Four","FORTY FOUR","चवालीस","COUNTINGS ( गिनती )","चवालीस","Forty Four",null,null,null,null,"COUNTINGS"]
[null,null,null,null,null,null,null,null,null,null,null,1907,"Forty Five","FORTY FIVE","पैंतालीस","COUNTINGS ( गिनती )","पैंतालीस","Forty Five",null,null,null,null,"COUNTINGS"]
[null,null,null,null,null,null,null,null,null,null,null,1908,"Forty Six","FORTY SIX","छियालीस","COUNTINGS ( गिनती )","छियालीस","Forty Six",null,null,null,null,"COUNTINGS"]
[null,null,null,null,null,null,null,null,null,null,null,1909,"Forty Seven","FORTY SEVEN","सेंतालीस","COUNTINGS ( गिनती )","सेंतालीस","Forty Seven",null,null,null,null,"COUNTINGS"]
[null,null,null,null,null,null,null,null,null,null,null,1910,"Forty Eight","FORTY EIGHT","अड़तालीस","COUNTINGS ( गिनती )","अड़तालीस","Forty Eight",null,null,null,null,"COUNTINGS"]
[null,null,null,null,null,null,null,null,null,null,null,1911,"Forty Nine","FORTY NINE","उनचास","COUNTINGS ( गिनती )","उनचास","Forty Nine",null,null,null,null,"COUNTINGS"]
[null,null,null,null,null,null,null,null,null,null,null,1912,"Fifty","FIFTY","पचास","COUNTINGS ( गिनती )","पचास","Fifty",null,null,null,null,"COUNTINGS"]
[null,null,null,null,null,null,null,null,null,null,null,1913,"Fifty One","FIFTY ONE","इक्यावन","COUNTINGS ( गिनती )","इक्यावन","Fifty One",null,null,null,null,"COUNTINGS"]
[null,null,null,null,null,null,null,null,null,null,null,1914,"Fifty Two","FIFTY TWO","बावन","COUNTINGS ( गिनती )","बावन","Fifty Two",null,null,null,null,"COUNTINGS"]
[null,null,null,null,null,null,null,null,null,null,null,1915,"Fifty Three","FIFTY THREE","तिरेपन","COUNTINGS ( गिनती )","तिरेपन","Fifty Three",null,null,null,null,"COUNTINGS"]
[null,null,null,null,null,null,null,null,null,null,null,1916,"Fifty Four","FIFTY FOUR","चौवन","COUNTINGS ( गिनती )","चौवन","Fifty Four",null,null,null,null,"COUNTINGS"]
[null,null,null,null,null,null,null,null,null,null,null,1917,"Fifty Five","FIFTY FIVE","पचपन","COUNTINGS ( गिनती )","पचपन","Fifty Five",null,null,null,null,"COUNTINGS"]
[null,null,null,null,null,null,null,null,null,null,null,1918,"Fifty Six","FIFTY SIX","छपन","COUNTINGS ( गिनती )","छपन","Fifty Six",null,null,null,null,"COUNTINGS"]
[null,null,null,null,null,null,null,null,null,null,null,1919,"Fifty Seven","FIFTY SEVEN","सतावन","COUNTINGS ( गिनती )","सतावन","Fifty Seven",null,null,null,null,"COUNTINGS"]
[null,null,null,null,null,null,null,null,null,null,null,1920,"Fifty Eight","FIFTY EIGHT","अठावन","COUNTINGS ( गिनती )","अठावन","Fifty Eight",null,null,null,null,"COUNTINGS"]
[null,null,null,null,null,null,null,null,null,null,null,1921,"Fifty Nine","FIFTY NINE","उन्सठ","COUNTINGS ( गिनती )",{"$f":"O1949","v":"उन्सठ"},"Fifty Nine",null,null,null,null,"COUNTINGS"]
[null,null,null,null,null,null,null,null,null,null,null,1922,{"$f":"PROPER(N1950)","v":"Sixty"},"SIXTY","साठ","COUNTINGS ( गिनती )","साठ",{"$f":"PROPER(N1950)","v":"Sixty"},null,null,null,null,"COUNTINGS"]
[null,null,null,null,null,null,null,null,null,null,null,1923,"Sixty One","SIXTY ONE","इकसठ","COUNTINGS ( गिनती )","इकसठ","Sixty One",null,null,null,null,"COUNTINGS"]
[null,null,null,null,null,null,null,null,null,null,null,1924,"Sixty Two","SIXTY TWO","बासठ","COUNTINGS ( गिनती )","बासठ","Sixty Two",null,null,null,null,"COUNTINGS"]
[null,null,null,null,null,null,null,null,null,null,null,1925,"Sixty Three","SIXTY THREE","तिरेसठ","COUNTINGS ( गिनती )","तिरेसठ","Sixty Three",null,null,null,null,"COUNTINGS"]
[null,null,null,null,null,null,null,null,null,null,null,1926,"Sixty Four","SIXTY FOUR","चोसठ","COUNTINGS ( गिनती )","चोसठ","Sixty Four",null,null,null,null,"COUNTINGS"]
[null,null,null,null,null,null,null,null,null,null,null,1927,"Sixty Five","SIXTY FIVE","पेंसठ","COUNTINGS ( गिनती )","पेंसठ","Sixty Five",null,null,null,null,"COUNTINGS"]
[null,null,null,null,null,null,null,null,null,null,null,1928,"Sixty Six","SIXTY SIX","छियासठ","COUNTINGS ( गिनती )","छियासठ","Sixty Six",null,null,null,null,"COUNTINGS"]
[null,null,null,null,null,null,null,null,null,null,null,1929,"Sixty Seven","SIXTY SEVEN","सडसठ","COUNTINGS ( गिनती )","सडसठ","Sixty Seven",null,null,null,null,"COUNTINGS"]
[null,null,null,null,null,null,null,null,null,null,null,1930,"Sixty Eight","SIXTY EIGHT","अडसठ","COUNTINGS ( गिनती )","अडसठ","Sixty Eight",null,null,null,null,"COUNTINGS"]
[null,null,null,null,null,null,null,null,null,null,null,1931,"Sixty Nine","SIXTY NINE","उनहत्तर","COUNTINGS ( गिनती )","उनहत्तर","Sixty Nine",null,null,null,null,"COUNTINGS"]
[null,null,null,null,null,null,null,null,null,null,null,1932,"Seventy","SEVENTY","सत्तर","COUNTINGS ( गिनती )","सत्तर","Seventy",null,null,null,null,"COUNTINGS"]
[null,null,null,null,null,null,null,null,null,null,null,1933,"Seventy One","SEVENTY ONE","इकहत्तर","COUNTINGS ( गिनती )","इकहत्तर","Seventy One",null,null,null,null,"COUNTINGS"]
[null,null,null,null,null,null,null,null,null,null,null,1934,"Seventy Two","SEVENTY TWO","बहेतर","COUNTINGS ( गिनती )","बहेतर","Seventy Two",null,null,null,null,"COUNTINGS"]
[null,null,null,null,null,null,null,null,null,null,null,1935,"Seventy Three","SEVENTY THREE","तिहेत्तर","COUNTINGS ( गिनती )","तिहेत्तर","Seventy Three",null,null,null,null,"COUNTINGS"]
[null,null,null,null,null,null,null,null,null,null,null,1936,"Seventy Four","SEVENTY FOUR","चोहत्टर","COUNTINGS ( गिनती )","चोहत्टर","Seventy Four",null,null,null,null,"COUNTINGS"]
[null,null,null,null,null,null,null,null,null,null,null,1937,"Seventy Five","SEVENTY FIVE","पचहत्तर","COUNTINGS ( गिनती )","पचहत्तर","Seventy Five",null,null,null,null,"COUNTINGS"]
[null,null,null,null,null,null,null,null,null,null,null,1938,"Seventy Six","SEVENTY SIX","छिहत्तर","COUNTINGS ( गिनती )","छिहत्तर","Seventy Six",null,null,null,null,"COUNTINGS"]
[null,null,null,null,null,null,null,null,null,null,null,1939,"Seventy Seven","SEVENTY SEVEN","सतहत्तर","COUNTINGS ( गिनती )","सतहत्तर","Seventy Seven",null,null,null,null,"COUNTINGS"]
[null,null,null,null,null,null,null,null,null,null,null,1940,"Seventy Eight","SEVENTY EIGHT","अठहत्तर","COUNTINGS ( गिनती )","अठहत्तर","Seventy Eight",null,null,null,null,"COUNTINGS"]
[null,null,null,null,null,null,null,null,null,null,null,1941,"Seventy Nine","SEVENTY NINE","उनासी","COUNTINGS ( गिनती )","उनासी","Seventy Nine",null,null,null,null,"COUNTINGS"]
[null,null,null,null,null,null,null,null,null,null,null,1942,"Eighty","EIGHTY","अस्सी","COUNTINGS ( गिनती )","अस्सी","Eighty",null,null,null,null,"COUNTINGS"]
[null,null,null,null,null,null,null,null,null,null,null,1943,"Eighty One","EIGHTY ONE","इकासी","COUNTINGS ( गिनती )","इकासी","Eighty One",null,null,null,null,"COUNTINGS"]
[null,null,null,null,null,null,null,null,null,null,null,1944,"Eighty Two","EIGHTY TWO","बयासी","COUNTINGS ( गिनती )","बयासी","Eighty Two",null,null,null,null,"COUNTINGS"]
[null,null,null,null,null,null,null,null,null,null,null,1945,"Eighty Three","EIGHTY THREE","तिरासी","COUNTINGS ( गिनती )","तिरासी","Eighty Three",null,null,null,null,"COUNTINGS"]
[null,null,null,null,null,null,null,null,null,null,null,1946,"Eighty Four","EIGHTY FOUR","चोरासी","COUNTINGS ( गिनती )","चोरासी","Eighty Four",null,null,null,null,"COUNTINGS"]
[null,null,null,null,null,null,null,null,null,null,null,1947,"Eighty Five","EIGHTY FIVE","पचासी","COUNTINGS ( गिनती )","पचासी","Eighty Five",null,null,null,null,"COUNTINGS"]
[null,null,null,null,null,null,null,null,null,null,null,1948,"Eighty Six","EIGHTY SIX","छियासी","COUNTINGS ( गिनती )","छियासी","Eighty Six",null,null,null,null,"COUNTINGS"]
[null,null,null,null,null,null,null,null,null,null,null,1949,"Eighty Seven","EIGHTY SEVEN","सतासी","COUNTINGS ( गिनती )","सतासी","Eighty Seven",null,null,null,null,"COUNTINGS"]
[null,null,null,null,null,null,null,null,null,null,null,1950,"Eighty Eight","EIGHTY EIGHT","अठासी","COUNTINGS ( गिनती )","अठासी","Eighty Eight",null,null,null,null,"COUNTINGS"]
[null,null,null,null,null,null,null,null,null,null,null,1951,"Eighty Nine","EIGHTY NINE","नवासी","COUNTINGS ( गिनती )","नवासी","Eighty Nine",null,null,null,null,"COUNTINGS"]
[null,null,null,null,null,null,null,null,null,null,null,1952,"Ninty","NINTY","नब्बे","COUNTINGS ( गिनती )","नब्बे","Ninty",null,null,null,null,"COUNTINGS"]
[null,null,null,null,null,null,null,null,null,null,null,1953,"Ninety One","NINETY ONE","इक्यानवे","COUNTINGS ( गिनती )","इक्यानवे","Ninety One",null,null,null,null,"COUNTINGS"]
[null,null,null,null,null,null,null,null,null,null,null,1954,"Ninety  Two","NINETY  TWO","बरानवे","COUNTINGS ( गिनती )","बरानवे","Ninety  Two",null,null,null,null,"COUNTINGS"]
[null,null,null,null,null,null,null,null,null,null,null,1955,"Ninety  Three","NINETY  THREE","तिरानवे","COUNTINGS ( गिनती )","तिरानवे","Ninety  Three",null,null,null,null,"COUNTINGS"]
[null,null,null,null,null,null,null,null,null,null,null,1956,"Ninety  Four","NINETY  FOUR","चोरानवे","COUNTINGS ( गिनती )","चोरानवे","Ninety  Four",null,null,null,null,"COUNTINGS"]
[null,null,null,null,null,null,null,null,null,null,null,1957,"Ninety  Five","NINETY  FIVE","पचानवे","COUNTINGS ( गिनती )","पचानवे","Ninety  Five",null,null,null,null,"COUNTINGS"]
[null,null,null,null,null,null,null,null,null,null,null,1958,"Ninety  Six","NINETY  SIX","छियानवे","COUNTINGS ( गिनती )","छियानवे","Ninety  Six",null,null,null,null,"COUNTINGS"]
[null,null,null,null,null,null,null,null,null,null,null,1959,"Ninety  Seven","NINETY  SEVEN","सतानवे","COUNTINGS ( गिनती )","सतानवे","Ninety  Seven",null,null,null,null,"COUNTINGS"]
[null,null,null,null,null,null,null,null,null,null,null,1960,"Ninety  Eight","NINETY  EIGHT","अठानवे","COUNTINGS ( गिनती )","अठानवे","Ninety  Eight",null,null,null,null,"COUNTINGS"]
[null,null,null,null,null,null,null,null,null,null,null,1961,"Ninety  Nine","NINETY  NINE","निन्यानवे","COUNTINGS ( गिनती )","निन्यानवे","Ninety  Nine",null,null,null,null,"COUNTINGS"]
[null,null,null,null,null,null,null,null,null,null,null,1962,"Hundred","HUNDRED","सौं","COUNTINGS ( गिनती )","सौं","Hundred",null,null,null,null,"COUNTINGS"]
[null,null,null,null,null,null,null,null,null,null,null,1963,"Million","MILLION","दस लाख","COUNTINGS ( गिनती )","दस लाख","Million",null,null,null,null,"COUNTINGS"]
[null,null,null,null,null,null,null,null,null,null,null,1964,"Billion","BILLION","दस करोड़","COUNTINGS ( गिनती )","दस करोड़","Billion",null,null,null,null,"COUNTINGS"]
[null,null,null,null,null,null,null,null,null,null,null,1965,"Thousand","THOUSAND","हजार","COUNTINGS ( गिनती )","हजार","Thousand",null,null,null,null,"COUNTINGS"]
[null,null,null,null,null,null,null,null,null,null,null,1966,"Index","INDEX","संकेत",null,"संकेत","Index"]
[null,null,null,null,null,null,null,null,null,null,null,1967,"Fish","FISH","मछली","REPTILES AND FISHES ( सरीसर्प और मछली )","मछली","Fish"]
[null,null,null,null,null,null,null,null,null,null,null,1968,"Frog","FROG","मेंढक","REPTILES AND FISHES ( सरीसर्प और मछली )","मेंढक","Frog"]
[null,null,null,null,null,null,null,null,null,null,null,1969,"Fry","FRY","एक प्रकार' की मछली","REPTILES AND FISHES ( सरीसर्प और मछली )","एक प्रकार' की मछली","Fry"]
[null,null,null,null,null,null,null,null,null,null,null,1970,"Carp","CARP","कतला","REPTILES AND FISHES ( सरीसर्प और मछली )","कतला","Carp"]
[null,null,null,null,null,null,null,null,null,null,null,1971,"Whale","WHALE","बड़ी' मछली","REPTILES AND FISHES ( सरीसर्प और मछली )","बड़ी' मछली","Whale"]
[null,null,null,null,null,null,null,null,null,null,null,1972,"Cod","COD","कोड मछली","REPTILES AND FISHES ( सरीसर्प और मछली )","कोड मछली","Cod"]
[null,null,null,null,null,null,null,null,null,null,null,1973,"Salmon","SALMON","रोहू","REPTILES AND FISHES ( सरीसर्प और मछली )","रोहू","Salmon"]
[null,null,null,null,null,null,null,null,null,null,null,1974,"Crocodile","CROCODILE","मगरमच्छ","REPTILES AND FISHES ( सरीसर्प और मछली )","मगरमच्छ","Crocodile"]
[null,null,null,null,null,null,null,null,null,null,null,1975,"Tortoise","TORTOISE","कछुआ","REPTILES AND FISHES ( सरीसर्प और मछली )","कछुआ","Tortoise"]
[null,null,null,null,null,null,null,null,null,null,null,1976,"Hilsa Fish","HILSA FISH","हिलसा फिश","REPTILES AND FISHES ( सरीसर्प और मछली )","हिलसा फिश","Hilsa Fish"]
[null,null,null,null,null,null,null,null,null,null,null,1977,"Climbing Fish","CLIMBING FISH","कोई मछली","REPTILES AND FISHES ( सरीसर्प और मछली )","कोई मछली","Climbing Fish"]
[null,null,null,null,null,null,null,null,null,null,null,1978,"Mango Fish","MANGO FISH","तपसे मछली","REPTILES AND FISHES ( सरीसर्प और मछली )","तपसे मछली","Mango Fish"]
[null,null,null,null,null,null,null,null,null,null,null,1979,"Cobra","COBRA","काला नाग","REPTILES AND FISHES ( सरीसर्प और मछली )","काला नाग","Cobra"]
[null,null,null,null,null,null,null,null,null,null,null,1980,"Crab","CRAB","केकड़ा","REPTILES AND FISHES ( सरीसर्प और मछली )","केकड़ा","Crab"]
[null,null,null,null,null,null,null,null,null,null,null,1981,"Reptile","REPTILE","सरीसर्प","REPTILES AND FISHES ( सरीसर्प और मछली )","सरीसर्प","Reptile"]
[null,null,null,null,null,null,null,null,null,null,null,1982,"Snake","SNAKE","सांप","REPTILES AND FISHES ( सरीसर्प और मछली )","सांप","Snake"]
[null,null,null,null,null,null,null,null,null,null,null,1983,"Pupil","pupil","पुतली","PARTS OF BODY ( शरीर के अंग )","पुतली","Pupil"]
[null,null,null,null,null,null,null,null,null,null,null,1984,"Eye-Lash","eye-lash","आंख के बाल","PARTS OF BODY ( शरीर के अंग )","आंख के बाल","Eye-Lash"]
[null,null,null,null,null,null,null,null,null,null,null,1985,"Moustache","moustache","मूंछ","PARTS OF BODY ( शरीर के अंग )",{"$f":"O2013","v":"मूंछ"},"Moustache"]
[null,null,null,null,null,null,null,null,null,null,null,1986,{"$f":"PROPER(N2014)","v":"Tear"},"tear","आंसू","PARTS OF BODY ( शरीर के अंग )","आंसू",{"$f":"PROPER(N2014)","v":"Tear"}]
[null,null,null,null,null,null,null,null,null,null,null,1987,"Eye-Ball","eye-ball","नेत्र-गोलक","PARTS OF BODY ( शरीर के अंग )","नेत्र-गोलक","Eye-Ball"]
[null,null,null,null,null,null,null,null,null,null,null,1988,"Fore-Finger","fore-finger","तर्ज़नी","PARTS OF BODY ( शरीर के अंग )","तर्ज़नी","Fore-Finger"]
[null,null,null,null,null,null,null,null,null,null,null,1989,"Palm","palm","पंजा","PARTS OF BODY ( शरीर के अंग )","पंजा","Palm"]
[null,null,null,null,null,null,null,null,null,null,null,1990,"Middle-Finger","middle-finger","बीच की अंगुली (मध्यमा)","PARTS OF BODY ( शरीर के अंग )","बीच की अंगुली (मध्यमा)","Middle-Finger"]
[null,null,null,null,null,null,null,null,null,null,null,1991,"Ring-Finger","ring-finger","अनामिका","PARTS OF BODY ( शरीर के अंग )","अनामिका","Ring-Finger"]
[null,null,null,null,null,null,null,null,null,null,null,1992,"Little-Finger","little-finger","छोटी अंगुली(कनिष्ठा)","PARTS OF BODY ( शरीर के अंग )","छोटी अंगुली(कनिष्ठा)","Little-Finger"]
[null,null,null,null,null,null,null,null,null,null,null,1993,"Palate","palate","तालू","PARTS OF BODY ( शरीर के अंग )","तालू","Palate"]
[null,null,null,null,null,null,null,null,null,null,null,1994,"Nostril","nostril","नासारंध्र","PARTS OF BODY ( शरीर के अंग )","नासारंध्र","Nostril"]
[null,null,null,null,null,null,null,null,null,null,null,1995,"Jaw","jaw","जबड़ा","PARTS OF BODY ( शरीर के अंग )","जबड़ा","Jaw"]
[null,null,null,null,null,null,null,null,null,null,null,1996,"Spine","spine","रीढ़","PARTS OF BODY ( शरीर के अंग )","रीढ़","Spine"]
[null,null,null,null,null,null,null,null,null,null,null,1997,"Back","back","पीठ","PARTS OF BODY ( शरीर के अंग )","पीठ","Back"]
[null,null,null,null,null,null,null,null,null,null,null,1998,"Bowel","bowel","पेट","PARTS OF BODY ( शरीर के अंग )","पेट","Bowel"]
[null,null,null,null,null,null,null,null,null,null,null,1999,"Belly","belly","पेट","PARTS OF BODY ( शरीर के अंग )","पेट","Belly"]
[null,null,null,null,null,null,null,null,null,null,null,2000,"Abdomen","abdomen","उदर","PARTS OF BODY ( शरीर के अंग )","उदर","Abdomen"]
[null,null,null,null,null,null,null,null,null,null,null,2001,"Navel","navel","नाभि","PARTS OF BODY ( शरीर के अंग )","नाभि","Navel"]
[null,null,null,null,null,null,null,null,null,null,null,2002," Sole"," sole","तलवा","PARTS OF BODY ( शरीर के अंग )","तलवा"," Sole"]
[null,null,null,null,null,null,null,null,null,null,null,2003,"Flesh","flesh","मांस","PARTS OF BODY ( शरीर के अंग )","मांस","Flesh"]
[null,null,null,null,null,null,null,null,null,null,null,2004,"Bone","bone","हड्डी","PARTS OF BODY ( शरीर के अंग )","हड्डी","Bone"]
[null,null,null,null,null,null,null,null,null,null,null,2005,"Stool","stool","मल","PARTS OF BODY ( शरीर के अंग )","मल","Stool"]
[null,null,null,null,null,null,null,null,null,null,null,2006,"Urine","urine","मूत्र","PARTS OF BODY ( शरीर के अंग )","मूत्र","Urine"]
[null,null,null,null,null,null,null,null,null,null,null,2007,"Saliva","saliva","लार","PARTS OF BODY ( शरीर के अंग )","लार","Saliva"]
[null,null,null,null,null,null,null,null,null,null,null,2008,"Marrow","marrow","मज्जा","PARTS OF BODY ( शरीर के अंग )","मज्जा","Marrow"]
[null,null,null,null,null,null,null,null,null,null,null,2009,"Skull","skull","खोपड़ी","PARTS OF BODY ( शरीर के अंग )","खोपड़ी","Skull"]
[null,null,null,null,null,null,null,null,null,null,null,2010,"Skeleton","skeleton","कंकाल","PARTS OF BODY ( शरीर के अंग )","कंकाल","Skeleton"]
[null,null,null,null,null,null,null,null,null,null,null,2011,"Lungs","lungs","फेफड़े","PARTS OF BODY ( शरीर के अंग )","फेफड़े","Lungs"]
[null,null,null,null,null,null,null,null,null,null,null,2012,"Limbs","limbs","अंग-प्रत्यंग","PARTS OF BODY ( शरीर के अंग )","अंग-प्रत्यंग","Limbs"]
[null,null,null,null,null,null,null,null,null,null,null,2013,"Liver","liver","यकृत,जिगर","PARTS OF BODY ( शरीर के अंग )","यकृत,जिगर","Liver"]
[null,null,null,null,null,null,null,null,null,null,null,2014,"Spleen","spleen","प्लीहा","PARTS OF BODY ( शरीर के अंग )","प्लीहा","Spleen"]
[null,null,null,null,null,null,null,null,null,null,null,2015," Vein"," vein","शिरा","PARTS OF BODY ( शरीर के अंग )","शिरा"," Vein"]
[null,null,null,null,null,null,null,null,null,null,null,2016,"Role","role","मछली का अंडा","LIMBS OF ANIMAL ( जीव जंतुओं के अंग प्रत्यंग )","मछली का अंडा","Role"]
[null,null,null,null,null,null,null,null,null,null,null,2017,"Fin","fin","मछली के पंख","LIMBS OF ANIMAL ( जीव जंतुओं के अंग प्रत्यंग )","मछली के पंख","Fin"]
[null,null,null,null,null,null,null,null,null,null,null,2018,"Scale","scale","मछली का छिलका","LIMBS OF ANIMAL ( जीव जंतुओं के अंग प्रत्यंग )","मछली का छिलका","Scale"]
[null,null,null,null,null,null,null,null,null,null,null,2019,"Feather","feather","पंख","LIMBS OF ANIMAL ( जीव जंतुओं के अंग प्रत्यंग )","पंख","Feather"]
[null,null,null,null,null,null,null,null,null,null,null,2020,"Slough","slough","खोल","LIMBS OF ANIMAL ( जीव जंतुओं के अंग प्रत्यंग )","खोल","Slough"]
[null,null,null,null,null,null,null,null,null,null,null,2021,"Udder","udder","थन","LIMBS OF ANIMAL ( जीव जंतुओं के अंग प्रत्यंग )","थन","Udder"]
[null,null,null,null,null,null,null,null,null,null,null,2022,"Wing","wing","डैना","LIMBS OF ANIMAL ( जीव जंतुओं के अंग प्रत्यंग )","डैना","Wing"]
[null,null,null,null,null,null,null,null,null,null,null,2023,"Bill","bill","चोंच","LIMBS OF ANIMAL ( जीव जंतुओं के अंग प्रत्यंग )","चोंच","Bill"]
[null,null,null,null,null,null,null,null,null,null,null,2024,"Talon","talon","शिकारी पक्षी का नाखुन ,पंजा","LIMBS OF ANIMAL ( जीव जंतुओं के अंग प्रत्यंग )","शिकारी पक्षी का नाखुन ,पंजा","Talon"]
[null,null,null,null,null,null,null,null,null,null,null,2025,"Paw","paw","पंजा","LIMBS OF ANIMAL ( जीव जंतुओं के अंग प्रत्यंग )","पंजा","Paw"]
[null,null,null,null,null,null,null,null,null,null,null,2026," Tail"," tail","पूंछ,दुम","LIMBS OF ANIMAL ( जीव जंतुओं के अंग प्रत्यंग )","पूंछ,दुम"," Tail"]
[null,null,null,null,null,null,null,null,null,null,null,2027,"Claw","claw","पशु का नाखुन","LIMBS OF ANIMAL ( जीव जंतुओं के अंग प्रत्यंग )","पशु का नाखुन","Claw"]
[null,null,null,null,null,null,null,null,null,null,null,2028," Mane"," mane","सिंह-केशर","LIMBS OF ANIMAL ( जीव जंतुओं के अंग प्रत्यंग )","सिंह-केशर"," Mane"]
[null,null,null,null,null,null,null,null,null,null,null,2029," Hide"," hide","चमडा","LIMBS OF ANIMAL ( जीव जंतुओं के अंग प्रत्यंग )","चमडा"," Hide"]
[null,null,null,null,null,null,null,null,null,null,null,2030,"String","string","डंक","LIMBS OF ANIMAL ( जीव जंतुओं के अंग प्रत्यंग )","डंक","String"]
[null,null,null,null,null,null,null,null,null,null,null,2031,"Fur","fur","कोमल रोम","LIMBS OF ANIMAL ( जीव जंतुओं के अंग प्रत्यंग )","कोमल रोम","Fur"]
[null,null,null,null,null,null,null,null,null,null,null,2032,"Tusk","tusk","हाथी दन्त","LIMBS OF ANIMAL ( जीव जंतुओं के अंग प्रत्यंग )","हाथी दन्त","Tusk"]
[null,null,null,null,null,null,null,null,null,null,null,2033," Trunk"," trunk","हाथी की सूंड","LIMBS OF ANIMAL ( जीव जंतुओं के अंग प्रत्यंग )","हाथी की सूंड"," Trunk"]
[null,null,null,null,null,null,null,null,null,null,null,2034,"Hoof","hoof","खुर","LIMBS OF ANIMAL ( जीव जंतुओं के अंग प्रत्यंग )","खुर","Hoof"]
[null,null,null,null,null,null,null,null,null,null,null,2035," Horn"," horn","सींग","LIMBS OF ANIMAL ( जीव जंतुओं के अंग प्रत्यंग )","सींग"," Horn"]
[null,null,null,null,null,null,null,null,null,null,null,2036,"Uncle","uncle","ताऊ,काका,मामा,फूफा,मौसा","RELATIONS AND RELATIVES ( सम्बन्ध और सम्बन्धी )","ताऊ,काका,मामा,फूफा,मौसा","Uncle"]
[null,null,null,null,null,null,null,null,null,null,null,2037,"Aunt","aunt","ताई,काकी,मामी,मौसी,बुआ","RELATIONS AND RELATIVES ( सम्बन्ध और सम्बन्धी )","ताई,काकी,मामी,मौसी,बुआ","Aunt"]
[null,null,null,null,null,null,null,null,null,null,null,2038,"Brother-In Law","brother-in law","साला,बहनोई,साढू-भाई,जेठ,देवर","RELATIONS AND RELATIVES ( सम्बन्ध और सम्बन्धी )","साला,बहनोई,साढू-भाई,जेठ,देवर","Brother-In Law"]
[null,null,null,null,null,null,null,null,null,null,null,2039,"Sister-In Law","sister-in law","साली,भाभी,ननद,जेठानी,देवरानी","RELATIONS AND RELATIVES ( सम्बन्ध और सम्बन्धी )","साली,भाभी,ननद,जेठानी,देवरानी","Sister-In Law"]
[null,null,null,null,null,null,null,null,null,null,null,2040,"Nephew","nephew","भांजा,भतीजा","RELATIONS AND RELATIVES ( सम्बन्ध और सम्बन्धी )","भांजा,भतीजा","Nephew"]
[null,null,null,null,null,null,null,null,null,null,null,2041,"Niece","niece","भांजी,भतीजी","RELATIONS AND RELATIVES ( सम्बन्ध और सम्बन्धी )","भांजी,भतीजी","Niece"]
[null,null,null,null,null,null,null,null,null,null,null,2042,"Cousin","cousin","चचेरा,ममेरा,फुफेरा,मौसेरा,भाई-बहन","RELATIONS AND RELATIVES ( सम्बन्ध और सम्बन्धी )","चचेरा,ममेरा,फुफेरा,मौसेरा,भाई-बहन","Cousin"]
[null,null,null,null,null,null,null,null,null,null,null,2043,"Bridegroom","bridegroom","वार,दूल्हा","RELATIONS AND RELATIVES ( सम्बन्ध और सम्बन्धी )","वार,दूल्हा","Bridegroom"]
[null,null,null,null,null,null,null,null,null,null,null,2044,"Bride","bride","दुल्हन","RELATIONS AND RELATIVES ( सम्बन्ध और सम्बन्धी )","दुल्हन","Bride"]
[null,null,null,null,null,null,null,null,null,null,null,2045,"Daughter-In-Law","daughter-in-law","पुत्रवधू","RELATIONS AND RELATIVES ( सम्बन्ध और सम्बन्धी )","पुत्रवधू","Daughter-In-Law"]
[null,null,null,null,null,null,null,null,null,null,null,2046,"Couple","couple","दम्पति,जोड़ा","RELATIONS AND RELATIVES ( सम्बन्ध और सम्बन्धी )","दम्पति,जोड़ा","Couple"]
[null,null,null,null,null,null,null,null,null,null,null,2047,"Adopted Son","adopted son","पालित पुत्र","RELATIONS AND RELATIVES ( सम्बन्ध और सम्बन्धी )","पालित पुत्र","Adopted Son"]
[null,null,null,null,null,null,null,null,null,null,null,2048,"Infant","infant","छोटा शिशु","RELATIONS AND RELATIVES ( सम्बन्ध और सम्बन्धी )","छोटा शिशु","Infant"]
[null,null,null,null,null,null,null,null,null,null,null,2049,"Baby","baby","शिशु","RELATIONS AND RELATIVES ( सम्बन्ध और सम्बन्धी )",{"$f":"O2077","v":"शिशु"},"Baby"]
[null,null,null,null,null,null,null,null,null,null,null,2050,{"$f":"PROPER(N2078)","v":"Fore-Fathers"},"fore-fathers","पूर्वज","RELATIONS AND RELATIVES ( सम्बन्ध और सम्बन्धी )","पूर्वज",{"$f":"PROPER(N2078)","v":"Fore-Fathers"}]
[null,null,null,null,null,null,null,null,null,null,null,2051,"Kinsman","kinsman","रक्त-सम्बन्धी","RELATIONS AND RELATIVES ( सम्बन्ध और सम्बन्धी )","रक्त-सम्बन्धी","Kinsman"]
[null,null,null,null,null,null,null,null,null,null,null,2052,"Grand-Son","grand-son","नाती,पौत्र(पोता)","RELATIONS AND RELATIVES ( सम्बन्ध और सम्बन्धी )","नाती,पौत्र(पोता)","Grand-Son"]
[null,null,null,null,null,null,null,null,null,null,null,2053,"Grand-Daughter","grand-daughter","धेवती,पौत्री(पोती)","RELATIONS AND RELATIVES ( सम्बन्ध और सम्बन्धी )","धेवती,पौत्री(पोती)","Grand-Daughter"]
[null,null,null,null,null,null,null,null,null,null,null,2054,"Child","child","बच्चा","RELATIONS AND RELATIVES ( सम्बन्ध और सम्बन्धी )","बच्चा","Child"]
[null,null,null,null,null,null,null,null,null,null,null,2055,"Sir","sir","महाशय,श्रीमान","RELATIONS AND RELATIVES ( सम्बन्ध और सम्बन्धी )","महाशय,श्रीमान","Sir"]
[null,null,null,null,null,null,null,null,null,null,null,2056,"Madam","madam","महाशया,मैडम","RELATIONS AND RELATIVES ( सम्बन्ध और सम्बन्धी )","महाशया,मैडम","Madam"]
[null,null,null,null,null,null,null,null,null,null,null,2057,"Female","female","महिला","RELATIONS AND RELATIVES ( सम्बन्ध और सम्बन्धी )","महिला","Female"]
[null,null,null,null,null,null,null,null,null,null,null,2058,"Male","male","पुरुष","RELATIONS AND RELATIVES ( सम्बन्ध और सम्बन्धी )","पुरुष","Male"]
[null,null,null,null,null,null,null,null,null,null,null,2059,"Master","master","मालिक,कुंवारा","RELATIONS AND RELATIVES ( सम्बन्ध और सम्बन्धी )","मालिक,कुंवारा","Master"]
[null,null,null,null,null,null,null,null,null,null,null,2060,"Servent","servent","नौकर","RELATIONS AND RELATIVES ( सम्बन्ध और सम्बन्धी )","नौकर","Servent"]
[null,null,null,null,null,null,null,null,null,null,null,2061,"Gentleman","gentleman","सज्जन व्यक्ति","RELATIONS AND RELATIVES ( सम्बन्ध और सम्बन्धी )","सज्जन व्यक्ति","Gentleman"]
[null,null,null,null,null,null,null,null,null,null,null,2062,"Lady","lady","महिला","RELATIONS AND RELATIVES ( सम्बन्ध और सम्बन्धी )","महिला","Lady"]
[null,null,null,null,null,null,null,null,null,null,null,2063,"Admission","admission","प्रवेश","SCHOOL RELATIVE  ( विद्यालय सम्बन्धी  )","प्रवेश","Admission"]
[null,null,null,null,null,null,null,null,null,null,null,2064,"Class","class","कक्षा,श्रेणी","SCHOOL RELATIVE  ( विद्यालय सम्बन्धी  )","कक्षा,श्रेणी","Class"]
[null,null,null,null,null,null,null,null,null,null,null,2065," School"," school","विद्यालय","SCHOOL RELATIVE  ( विद्यालय सम्बन्धी  )","विद्यालय"," School"]
[null,null,null,null,null,null,null,null,null,null,null,2066,"Teacher","teacher","शिक्षक","SCHOOL RELATIVE  ( विद्यालय सम्बन्धी  )","शिक्षक","Teacher"]
[null,null,null,null,null,null,null,null,null,null,null,2067,"Eraser","eraser","रबर","SCHOOL RELATIVE  ( विद्यालय सम्बन्धी  )","रबर","Eraser"]
[null,null,null,null,null,null,null,null,null,null,null,2068,"Table","table","मेज","SCHOOL RELATIVE  ( विद्यालय सम्बन्धी  )","मेज","Table"]
[null,null,null,null,null,null,null,null,null,null,null,2069,"Pen","pen","कलम","SCHOOL RELATIVE  ( विद्यालय सम्बन्धी  )","कलम","Pen"]
[null,null,null,null,null,null,null,null,null,null,null,2070,"Desk","desk","डेस्क","SCHOOL RELATIVE  ( विद्यालय सम्बन्धी  )","डेस्क","Desk"]
[null,null,null,null,null,null,null,null,null,null,null,2071,"Pencil","pencil","पेंसिल","SCHOOL RELATIVE  ( विद्यालय सम्बन्धी  )","पेंसिल","Pencil"]
[null,null,null,null,null,null,null,null,null,null,null,2072,"Chair","chair","कुर्सी","SCHOOL RELATIVE  ( विद्यालय सम्बन्धी  )","कुर्सी","Chair"]
[null,null,null,null,null,null,null,null,null,null,null,2073,"Clock","clock","घड़ी","SCHOOL RELATIVE  ( विद्यालय सम्बन्धी  )","घड़ी","Clock"]
[null,null,null,null,null,null,null,null,null,null,null,2074,"Slate","slate","पट्टिका,स्लेट","SCHOOL RELATIVE  ( विद्यालय सम्बन्धी  )","पट्टिका,स्लेट","Slate"]
[null,null,null,null,null,null,null,null,null,null,null,2075,"Bell","bell","घंटी","SCHOOL RELATIVE  ( विद्यालय सम्बन्धी  )","घंटी","Bell"]
[null,null,null,null,null,null,null,null,null,null,null,2076,"Black-Board","black-board","श्याम-पट्ट","SCHOOL RELATIVE  ( विद्यालय सम्बन्धी  )","श्याम-पट्ट","Black-Board"]
[null,null,null,null,null,null,null,null,null,null,null,2077,"Copy-Book","copy-book","खाता","SCHOOL RELATIVE  ( विद्यालय सम्बन्धी  )","खाता","Copy-Book"]
[null,null,null,null,null,null,null,null,null,null,null,2078," Paper"," paper","कागज","SCHOOL RELATIVE  ( विद्यालय सम्बन्धी  )","कागज"," Paper"]
[null,null,null,null,null,null,null,null,null,null,null,2079," Chalk"," chalk","खल्ली","SCHOOL RELATIVE  ( विद्यालय सम्बन्धी  )","खल्ली"," Chalk"]
[null,null,null,null,null,null,null,null,null,null,null,2080,"Ink","ink","स्याही","SCHOOL RELATIVE  ( विद्यालय सम्बन्धी  )","स्याही","Ink"]
[null,null,null,null,null,null,null,null,null,null,null,2081,"Inkpot","inkpot","दवात","SCHOOL RELATIVE  ( विद्यालय सम्बन्धी  )","दवात","Inkpot"]
[null,null,null,null,null,null,null,null,null,null,null,2082,"Page","page","प्रष्ट","SCHOOL RELATIVE  ( विद्यालय सम्बन्धी  )","प्रष्ट","Page"]
[null,null,null,null,null,null,null,null,null,null,null,2083,"Duster","duster","झाडन","SCHOOL RELATIVE  ( विद्यालय सम्बन्धी  )","झाडन","Duster"]
[null,null,null,null,null,null,null,null,null,null,null,2084," Map"," map","मानचित्र","SCHOOL RELATIVE  ( विद्यालय सम्बन्धी  )","मानचित्र"," Map"]
[null,null,null,null,null,null,null,null,null,null,null,2085,"Cover","cover","आवरण","SCHOOL RELATIVE  ( विद्यालय सम्बन्धी  )","आवरण","Cover"]
[null,null,null,null,null,null,null,null,null,null,null,2086," Globe"," globe","ग्लोब","SCHOOL RELATIVE  ( विद्यालय सम्बन्धी  )","ग्लोब"," Globe"]
[null,null,null,null,null,null,null,null,null,null,null,2087,"Answer","answer","उत्तर","SCHOOL RELATIVE  ( विद्यालय सम्बन्धी  )","उत्तर","Answer"]
[null,null,null,null,null,null,null,null,null,null,null,2088,"Answer-Paper","answer-paper","उत्तर-पत्रक","SCHOOL RELATIVE  ( विद्यालय सम्बन्धी  )","उत्तर-पत्रक","Answer-Paper"]
[null,null,null,null,null,null,null,null,null,null,null,2089,"Principal","principal","प्राधानाचार्य","SCHOOL RELATIVE  ( विद्यालय सम्बन्धी  )","प्राधानाचार्य","Principal"]
[null,null,null,null,null,null,null,null,null,null,null,2090,"Headmaster","headmaster","प्रधानाध्यापक","SCHOOL RELATIVE  ( विद्यालय सम्बन्धी  )","प्रधानाध्यापक","Headmaster"]
[null,null,null,null,null,null,null,null,null,null,null,2091," Lesson"," lesson","पाठ","SCHOOL RELATIVE  ( विद्यालय सम्बन्धी  )","पाठ"," Lesson"]
[null,null,null,null,null,null,null,null,null,null,null,2092,"Prose","prose","गद्य","SCHOOL RELATIVE  ( विद्यालय सम्बन्धी  )","गद्य","Prose"]
[null,null,null,null,null,null,null,null,null,null,null,2093,"Poetry","poetry","पद्य,कविता","SCHOOL RELATIVE  ( विद्यालय सम्बन्धी  )","पद्य,कविता","Poetry"]
[null,null,null,null,null,null,null,null,null,null,null,2094,"Professor","professor","प्राध्यापक","SCHOOL RELATIVE  ( विद्यालय सम्बन्धी  )","प्राध्यापक","Professor"]
[null,null,null,null,null,null,null,null,null,null,null,2095,"Fee","fee","शुल्क","SCHOOL RELATIVE  ( विद्यालय सम्बन्धी  )","शुल्क","Fee"]
[null,null,null,null,null,null,null,null,null,null,null,2096,"Private Tutor","private tutor","ग्रह-शिक्षक","SCHOOL RELATIVE  ( विद्यालय सम्बन्धी  )","ग्रह-शिक्षक","Private Tutor"]
[null,null,null,null,null,null,null,null,null,null,null,2097,"Fine","fine","जुर्माना","SCHOOL RELATIVE  ( विद्यालय सम्बन्धी  )","जुर्माना","Fine"]
[null,null,null,null,null,null,null,null,null,null,null,2098,"Examination","examination","परीक्षा","SCHOOL RELATIVE  ( विद्यालय सम्बन्धी  )","परीक्षा","Examination"]
[null,null,null,null,null,null,null,null,null,null,null,2099,"Prize","prize","पुरष्कार","SCHOOL RELATIVE  ( विद्यालय सम्बन्धी  )","पुरष्कार","Prize"]
[null,null,null,null,null,null,null,null,null,null,null,2100," Medal"," medal","पदक","SCHOOL RELATIVE  ( विद्यालय सम्बन्धी  )","पदक"," Medal"]
[null,null,null,null,null,null,null,null,null,null,null,2101,"Examiner","examiner","परीक्षक","SCHOOL RELATIVE  ( विद्यालय सम्बन्धी  )","परीक्षक","Examiner"]
[null,null,null,null,null,null,null,null,null,null,null,2102,"Examinee","examinee","परीक्षार्थी","SCHOOL RELATIVE  ( विद्यालय सम्बन्धी  )","परीक्षार्थी","Examinee"]
[null,null,null,null,null,null,null,null,null,null,null,2103,"Scholarship","scholarship","छात्रावृति","SCHOOL RELATIVE  ( विद्यालय सम्बन्धी  )","छात्रावृति","Scholarship"]
[null,null,null,null,null,null,null,null,null,null,null,2104,"Absent","absent","अनुपस्थित","SCHOOL RELATIVE  ( विद्यालय सम्बन्धी  )","अनुपस्थित","Absent"]
[null,null,null,null,null,null,null,null,null,null,null,2105,"Present","present","उपस्थित","SCHOOL RELATIVE  ( विद्यालय सम्बन्धी  )","उपस्थित","Present"]
[null,null,null,null,null,null,null,null,null,null,null,2106,"Question","question","प्रश्न","SCHOOL RELATIVE  ( विद्यालय सम्बन्धी  )","प्रश्न","Question"]
[null,null,null,null,null,null,null,null,null,null,null,2107,"Attendance","attendance","उपस्थिति","SCHOOL RELATIVE  ( विद्यालय सम्बन्धी  )","उपस्थिति","Attendance"]
[null,null,null,null,null,null,null,null,null,null,null,2108,"School Magazine","school magazine","विद्यालय पत्रिका","SCHOOL RELATIVE  ( विद्यालय सम्बन्धी  )","विद्यालय पत्रिका","School Magazine"]
[null,null,null,null,null,null,null,null,null,null,null,2109,"Question-Paper","question-paper","प्रश्न-पत्र","SCHOOL RELATIVE  ( विद्यालय सम्बन्धी  )","प्रश्न-पत्र","Question-Paper"]
[null,null,null,null,null,null,null,null,null,null,null,2110,"Derawing Book","derawing book","चित्रांकन-पुस्तिका","SCHOOL RELATIVE  ( विद्यालय सम्बन्धी  )","चित्रांकन-पुस्तिका","Derawing Book"]
[null,null,null,null,null,null,null,null,null,null,null,2111,"Grammar","grammar","व्याकरण","SCHOOL RELATIVE  ( विद्यालय सम्बन्धी  )","व्याकरण","Grammar"]
[null,null,null,null,null,null,null,null,null,null,null,2112,"Playground","playground","खेल का मैदान","SCHOOL RELATIVE  ( विद्यालय सम्बन्धी  )","खेल का मैदान","Playground"]
[null,null,null,null,null,null,null,null,null,null,null,2113,"Handwriting","handwriting","हस्तलिपि","SCHOOL RELATIVE  ( विद्यालय सम्बन्धी  )",{"$f":"O2141","v":"हस्तलिपि"},"Handwriting"]
[null,null,null,null,null,null,null,null,null,null,null,2114,{"$f":"PROPER(N2142)","v":"Sum"},"sum","अंक,गणित,सवाल","SCHOOL RELATIVE  ( विद्यालय सम्बन्धी  )","अंक,गणित,सवाल",{"$f":"PROPER(N2142)","v":"Sum"}]
[null,null,null,null,null,null,null,null,null,null,null,2115,"Mole","mole","छछूंदर","ANIMALS ( पशु )","छछूंदर","Mole"]
[null,null,null,null,null,null,null,null,null,null,null,2116,"Pony","pony","टट्टू,छोटा घोडा","ANIMALS ( पशु )","टट्टू,छोटा घोडा","Pony"]
[null,null,null,null,null,null,null,null,null,null,null,2117,"Cattle","cattle","गाय,भेंश,बिल्ली आदि","ANIMALS ( पशु )","गाय,भेंश,बिल्ली आदि","Cattle"]
[null,null,null,null,null,null,null,null,null,null,null,2118,"Porcupine","porcupine","साहिल","ANIMALS ( पशु )","साहिल","Porcupine"]
[null,null,null,null,null,null,null,null,null,null,null,2119,"Beast","beast","बनैला पशु","ANIMALS ( पशु )","बनैला पशु","Beast"]
[null,null,null,null,null,null,null,null,null,null,null,2120,"Orangeoutang","orangeoutang","वनमानुष","ANIMALS ( पशु )","वनमानुष","Orangeoutang"]
[null,null,null,null,null,null,null,null,null,null,null,2121,"Langur","langur","लंगूर","ANIMALS ( पशु )","लंगूर","Langur"]
[null,null,null,null,null,null,null,null,null,null,null,2122,"Guerilla","guerilla","गोरिला","ANIMALS ( पशु )","गोरिला","Guerilla"]
[null,null,null,null,null,null,null,null,null,null,null,2123,"Mule","mule","खच्चर","ANIMALS ( पशु )","खच्चर","Mule"]
[null,null,null,null,null,null,null,null,null,null,null,2124,"Weasel","weasel","नेवला","ANIMALS ( पशु )","नेवला","Weasel"]
[null,null,null,null,null,null,null,null,null,null,null,2125,"Otter","otter","ऊदबिलाव","ANIMALS ( पशु )","ऊदबिलाव","Otter"]
[null,null,null,null,null,null,null,null,null,null,null,2126,"Hippopotamus","hippopotamus","दरियाई घोडा","ANIMALS ( पशु )","दरियाई घोडा","Hippopotamus"]
[null,null,null,null,null,null,null,null,null,null,null,2127,"Sea-Horse","sea-horse","समुद्री-घोडा","ANIMALS ( पशु )","समुद्री-घोडा","Sea-Horse"]
[null,null,null,null,null,null,null,null,null,null,null,2128,"Rhinoceros","rhinoceros","गैंडा","ANIMALS ( पशु )","गैंडा","Rhinoceros"]
[null,null,null,null,null,null,null,null,null,null,null,2129,"Boar","boar","बनैला सूअर","ANIMALS ( पशु )","बनैला सूअर","Boar"]
[null,null,null,null,null,null,null,null,null,null,null,2130,"Squirrel","squirrel","गिलहरी","ANIMALS ( पशु )","गिलहरी","Squirrel"]
[null,null,null,null,null,null,null,null,null,null,null,2131,"Tailor","tailor","दर्जी","OCCUPATIONS AND PROFESSION (व्यवसाय और पेशा )","दर्जी","Tailor"]
[null,null,null,null,null,null,null,null,null,null,null,2132,"Sweeper","sweeper","मेहतर","OCCUPATIONS AND PROFESSION (व्यवसाय और पेशा )","मेहतर","Sweeper"]
[null,null,null,null,null,null,null,null,null,null,null,2133,"Student","student","विद्यार्थी","OCCUPATIONS AND PROFESSION (व्यवसाय और पेशा )","विद्यार्थी","Student"]
[null,null,null,null,null,null,null,null,null,null,null,2134,"Potter","potter","कुम्हार","OCCUPATIONS AND PROFESSION (व्यवसाय और पेशा )","कुम्हार","Potter"]
[null,null,null,null,null,null,null,null,null,null,null,2135,"Poet","poet","कवी","OCCUPATIONS AND PROFESSION (व्यवसाय और पेशा )","कवी","Poet"]
[null,null,null,null,null,null,null,null,null,null,null,2136,"Novelist","novelist","उपन्यासकार","OCCUPATIONS AND PROFESSION (व्यवसाय और पेशा )","उपन्यासकार","Novelist"]
[null,null,null,null,null,null,null,null,null,null,null,2137,"Orater","orater","वक्ता","OCCUPATIONS AND PROFESSION (व्यवसाय और पेशा )","वक्ता","Orater"]
[null,null,null,null,null,null,null,null,null,null,null,2138,"Grocer","grocer","बनिया","OCCUPATIONS AND PROFESSION (व्यवसाय और पेशा )","बनिया","Grocer"]
[null,null,null,null,null,null,null,null,null,null,null,2139,"Cowherd","cowherd","चरवाहा","OCCUPATIONS AND PROFESSION (व्यवसाय और पेशा )","चरवाहा","Cowherd"]
[null,null,null,null,null,null,null,null,null,null,null,2140,"Shoe-Maker","shoe-maker","मोची","OCCUPATIONS AND PROFESSION (व्यवसाय और पेशा )","मोची","Shoe-Maker"]
[null,null,null,null,null,null,null,null,null,null,null,2141,"Reader","reader","पाठक","OCCUPATIONS AND PROFESSION (व्यवसाय और पेशा )","पाठक","Reader"]
[null,null,null,null,null,null,null,null,null,null,null,2142,"Author","author","ग्रंथकार","OCCUPATIONS AND PROFESSION (व्यवसाय और पेशा )","ग्रंथकार","Author"]
[null,null,null,null,null,null,null,null,null,null,null,2143,"Priest","priest","पुरोहित","OCCUPATIONS AND PROFESSION (व्यवसाय और पेशा )","पुरोहित","Priest"]
[null,null,null,null,null,null,null,null,null,null,null,2144,"Oilman","oilman","तेली","OCCUPATIONS AND PROFESSION (व्यवसाय और पेशा )","तेली","Oilman"]
[null,null,null,null,null,null,null,null,null,null,null,2145,"Fisherman","fisherman","मछुआ","OCCUPATIONS AND PROFESSION (व्यवसाय और पेशा )","मछुआ","Fisherman"]
[null,null,null,null,null,null,null,null,null,null,null,2146,"Shepherd","shepherd","गडरिया,भेड़ चराने वाला","OCCUPATIONS AND PROFESSION (व्यवसाय और पेशा )","गडरिया,भेड़ चराने वाला","Shepherd"]
[null,null,null,null,null,null,null,null,null,null,null,2147,"Cowboy","cowboy","चरवाहा","OCCUPATIONS AND PROFESSION (व्यवसाय और पेशा )","चरवाहा","Cowboy"]
[null,null,null,null,null,null,null,null,null,null,null,2148,"Butcher","butcher","कसाई","OCCUPATIONS AND PROFESSION (व्यवसाय और पेशा )","कसाई","Butcher"]
[null,null,null,null,null,null,null,null,null,null,null,2149,"Shoe-Shine","shoe-shine","जूता पोलिश करने वाला","OCCUPATIONS AND PROFESSION (व्यवसाय और पेशा )","जूता पोलिश करने वाला","Shoe-Shine"]
[null,null,null,null,null,null,null,null,null,null,null,2150,"Coachman","coachman","गाड़ीवान","OCCUPATIONS AND PROFESSION (व्यवसाय और पेशा )","गाड़ीवान","Coachman"]
[null,null,null,null,null,null,null,null,null,null,null,2151,"Carter","carter","गाड़ीवान","OCCUPATIONS AND PROFESSION (व्यवसाय और पेशा )","गाड़ीवान","Carter"]
[null,null,null,null,null,null,null,null,null,null,null,2152,"Confectioner","confectioner","हलवाई","OCCUPATIONS AND PROFESSION (व्यवसाय और पेशा )","हलवाई","Confectioner"]
[null,null,null,null,null,null,null,null,null,null,null,2153,"Farmer","farmer","किसान","OCCUPATIONS AND PROFESSION (व्यवसाय और पेशा )","किसान","Farmer"]
[null,null,null,null,null,null,null,null,null,null,null,2154,"Book-Binder","book-binder","दफ्तरी,जिल्साद","OCCUPATIONS AND PROFESSION (व्यवसाय और पेशा )","दफ्तरी,जिल्साद","Book-Binder"]
[null,null,null,null,null,null,null,null,null,null,null,2155,"Thief","thief","चोर","OCCUPATIONS AND PROFESSION (व्यवसाय और पेशा )","चोर","Thief"]
[null,null,null,null,null,null,null,null,null,null,null,2156,"Robber","robber","डाकू","OCCUPATIONS AND PROFESSION (व्यवसाय और पेशा )","डाकू","Robber"]
[null,null,null,null,null,null,null,null,null,null,null,2157,"Producer","producer","सूत्रधार","OCCUPATIONS AND PROFESSION (व्यवसाय और पेशा )","सूत्रधार","Producer"]
[null,null,null,null,null,null,null,null,null,null,null,2158," Actor"," actor","अभिनेता","OCCUPATIONS AND PROFESSION (व्यवसाय और पेशा )","अभिनेता"," Actor"]
[null,null,null,null,null,null,null,null,null,null,null,2159,"Gardener","gardener","माली","OCCUPATIONS AND PROFESSION (व्यवसाय और पेशा )","माली","Gardener"]
[null,null,null,null,null,null,null,null,null,null,null,2160,"Constable","constable","सिपाही,पहरेदार","OCCUPATIONS AND PROFESSION (व्यवसाय और पेशा )","सिपाही,पहरेदार","Constable"]
[null,null,null,null,null,null,null,null,null,null,null,2161,"Dancer","dancer","नर्तक","OCCUPATIONS AND PROFESSION (व्यवसाय और पेशा )","नर्तक","Dancer"]
[null,null,null,null,null,null,null,null,null,null,null,2162," Singer"," singer","गायक","OCCUPATIONS AND PROFESSION (व्यवसाय और पेशा )","गायक"," Singer"]
[null,null,null,null,null,null,null,null,null,null,null,2163,"Astronomer","astronomer","ज्योतिष-वैज्ञानिक","OCCUPATIONS AND PROFESSION (व्यवसाय और पेशा )","ज्योतिष-वैज्ञानिक","Astronomer"]
[null,null,null,null,null,null,null,null,null,null,null,2164,"Printer","printer","मुद्रक","OCCUPATIONS AND PROFESSION (व्यवसाय और पेशा )","मुद्रक","Printer"]
[null,null,null,null,null,null,null,null,null,null,null,2165,"Publisher","publisher","पुस्तक-प्रकाशक","OCCUPATIONS AND PROFESSION (व्यवसाय और पेशा )","पुस्तक-प्रकाशक","Publisher"]
[null,null,null,null,null,null,null,null,null,null,null,2166,"Fowler","fowler","व्याध","OCCUPATIONS AND PROFESSION (व्यवसाय और पेशा )","व्याध","Fowler"]
[null,null,null,null,null,null,null,null,null,null,null,2167,"Proprietor","proprietor","स्वत्वा-धिकारी,मालिक","OCCUPATIONS AND PROFESSION (व्यवसाय और पेशा )","स्वत्वा-धिकारी,मालिक","Proprietor"]
[null,null,null,null,null,null,null,null,null,null,null,2168,"Broker","broker","दलाल","OCCUPATIONS AND PROFESSION (व्यवसाय और पेशा )","दलाल","Broker"]
[null,null,null,null,null,null,null,null,null,null,null,2169,"Cook","cook","रसोइया,पाचक","OCCUPATIONS AND PROFESSION (व्यवसाय और पेशा )","रसोइया,पाचक","Cook"]
[null,null,null,null,null,null,null,null,null,null,null,2170,"Editer","editer","सम्पादक","OCCUPATIONS AND PROFESSION (व्यवसाय और पेशा )","सम्पादक","Editer"]
[null,null,null,null,null,null,null,null,null,null,null,2171,"Porter","porter","भोटिया,भारवाहक,कुली","OCCUPATIONS AND PROFESSION (व्यवसाय और पेशा )","भोटिया,भारवाहक,कुली","Porter"]
[null,null,null,null,null,null,null,null,null,null,null,2172,"Scholar","scholar","पंडित,विद्वान्","OCCUPATIONS AND PROFESSION (व्यवसाय और पेशा )","पंडित,विद्वान्","Scholar"]
[null,null,null,null,null,null,null,null,null,null,null,2173,"Director","director","परिचालक,निर्देशक","OCCUPATIONS AND PROFESSION (व्यवसाय और पेशा )","परिचालक,निर्देशक","Director"]
[null,null,null,null,null,null,null,null,null,null,null,2174,"Stationer","stationer","लेखन सामग्री विक्रेता","OCCUPATIONS AND PROFESSION (व्यवसाय और पेशा )","लेखन सामग्री विक्रेता","Stationer"]
[null,null,null,null,null,null,null,null,null,null,null,2175,"Manager","manager","व्यवस्थापक","OCCUPATIONS AND PROFESSION (व्यवसाय और पेशा )","व्यवस्थापक","Manager"]
[null,null,null,null,null,null,null,null,null,null,null,2176,"Book-Seller","book-seller","पुस्तक-विक्रेता","OCCUPATIONS AND PROFESSION (व्यवसाय और पेशा )","पुस्तक-विक्रेता","Book-Seller"]
[null,null,null,null,null,null,null,null,null,null,null,2177,"Labourer","labourer","मजदुर","OCCUPATIONS AND PROFESSION (व्यवसाय और पेशा )",{"$f":"O2205","v":"मजदुर"},"Labourer"]
[null,null,null,null,null,null,null,null,null,null,null,2178,{"$f":"PROPER(N2206)","v":" Trader"}," trader","व्यापारी","OCCUPATIONS AND PROFESSION (व्यवसाय और पेशा )","व्यापारी",{"$f":"PROPER(N2206)","v":" Trader"}]
[null,null,null,null,null,null,null,null,null,null,null,2179,"Physician","physician","चिकित्सक","OCCUPATIONS AND PROFESSION (व्यवसाय और पेशा )","चिकित्सक","Physician"]
[null,null,null,null,null,null,null,null,null,null,null,2180,"Advocate","advocate","वकील","OCCUPATIONS AND PROFESSION (व्यवसाय और पेशा )","वकील","Advocate"]
[null,null,null,null,null,null,null,null,null,null,null,2181,"Disciple","disciple","शिष्य","OCCUPATIONS AND PROFESSION (व्यवसाय और पेशा )","शिष्य","Disciple"]
[null,null,null,null,null,null,null,null,null,null,null,2182,"Groom","groom","साइस","OCCUPATIONS AND PROFESSION (व्यवसाय और पेशा )","साइस","Groom"]
[null,null,null,null,null,null,null,null,null,null,null,2183,"Matchmaker","matchmaker","अगुआ(विवाह सम्बन्ध करने वाला","OCCUPATIONS AND PROFESSION (व्यवसाय और पेशा )","अगुआ(विवाह सम्बन्ध करने वाला","Matchmaker"]
[null,null,null,null,null,null,null,null,null,null,null,2184,"Weaver","weaver","बुनकर","OCCUPATIONS AND PROFESSION (व्यवसाय और पेशा )","बुनकर","Weaver"]
[null,null,null,null,null,null,null,null,null,null,null,2185,"Palmist","palmist","सामुद्रविद,हस्तरेखाविद","OCCUPATIONS AND PROFESSION (व्यवसाय और पेशा )","सामुद्रविद,हस्तरेखाविद","Palmist"]
[null,null,null,null,null,null,null,null,null,null,null,2186,"Mason","mason","राजमिस्त्री","OCCUPATIONS AND PROFESSION (व्यवसाय और पेशा )","राजमिस्त्री","Mason"]
[null,null,null,null,null,null,null,null,null,null,null,2187,"Cashier","cashier","रोकडिया,खजांची","OCCUPATIONS AND PROFESSION (व्यवसाय और पेशा )","रोकडिया,खजांची","Cashier"]
[null,null,null,null,null,null,null,null,null,null,null,2188,"Juggler","juggler","बाज़ीगर","OCCUPATIONS AND PROFESSION (व्यवसाय और पेशा )","बाज़ीगर","Juggler"]
[null,null,null,null,null,null,null,null,null,null,null,2189,"Shell-Cutter","shell-cutter","शंख काटने वाला","OCCUPATIONS AND PROFESSION (व्यवसाय और पेशा )","शंख काटने वाला","Shell-Cutter"]
[null,null,null,null,null,null,null,null,null,null,null,2190,"Banker","banker","महाजन","OCCUPATIONS AND PROFESSION (व्यवसाय और पेशा )","महाजन","Banker"]
[null,null,null,null,null,null,null,null,null,null,null,2191,"Money-Lender","money-lender","महाजन","OCCUPATIONS AND PROFESSION (व्यवसाय और पेशा )","महाजन","Money-Lender"]
[null,null,null,null,null,null,null,null,null,null,null,2192," Nurse"," nurse","दाइ","OCCUPATIONS AND PROFESSION (व्यवसाय और पेशा )","दाइ"," Nurse"]
[null,null,null,null,null,null,null,null,null,null,null,2193,"Usurer","usurer","सूदखोर","OCCUPATIONS AND PROFESSION (व्यवसाय और पेशा )","सूदखोर","Usurer"]
[null,null,null,null,null,null,null,null,null,null,null,2194,"Gate-Keeper","gate-keeper","द्वाररक्षक,द्वारपाल","OCCUPATIONS AND PROFESSION (व्यवसाय और पेशा )","द्वाररक्षक,द्वारपाल","Gate-Keeper"]
[null,null,null,null,null,null,null,null,null,null,null,2195,"Compositor","compositor","अक्षर्योजक","OCCUPATIONS AND PROFESSION (व्यवसाय और पेशा )","अक्षर्योजक","Compositor"]
[null,null,null,null,null,null,null,null,null,null,null,2196,"Surveyor","surveyor","सर्वेयर,अमिन,पैमाइश करनेवाला","OCCUPATIONS AND PROFESSION (व्यवसाय और पेशा )","सर्वेयर,अमिन,पैमाइश करनेवाला","Surveyor"]
[null,null,null,null,null,null,null,null,null,null,null,2197,"Baker","baker","नानबाई,रोतिओ बनाने वाला","OCCUPATIONS AND PROFESSION (व्यवसाय और पेशा )","नानबाई,रोतिओ बनाने वाला","Baker"]
[null,null,null,null,null,null,null,null,null,null,null,2198,"Sculptor","sculptor","मूर्तिकार","OCCUPATIONS AND PROFESSION (व्यवसाय और पेशा )","मूर्तिकार","Sculptor"]
[null,null,null,null,null,null,null,null,null,null,null,2199,"Cobbler","cobbler","जूता बनाने वाला","OCCUPATIONS AND PROFESSION (व्यवसाय और पेशा )","जूता बनाने वाला","Cobbler"]
[null,null,null,null,null,null,null,null,null,null,null,2200," Druggist"," druggist","औषधि विक्रेता","OCCUPATIONS AND PROFESSION (व्यवसाय और पेशा )","औषधि विक्रेता"," Druggist"]
[null,null,null,null,null,null,null,null,null,null,null,2201,"Post,Mail","post,mail","डाक","POST AND TELEGRAPHS ( डाक एंव तार )","डाक","Post,Mail"]
[null,null,null,null,null,null,null,null,null,null,null,2202,"Stamp","stamp","टिकट","POST AND TELEGRAPHS ( डाक एंव तार )","टिकट","Stamp"]
[null,null,null,null,null,null,null,null,null,null,null,2203,"Telephone","telephone","दूरभाष","POST AND TELEGRAPHS ( डाक एंव तार )","दूरभाष","Telephone"]
[null,null,null,null,null,null,null,null,null,null,null,2204,"Registration","registration","रजिस्ट्री,पंजीकरण","POST AND TELEGRAPHS ( डाक एंव तार )","रजिस्ट्री,पंजीकरण","Registration"]
[null,null,null,null,null,null,null,null,null,null,null,2205,"Telegraph","telegraph","टेलीग्राफ,टार यन्त्र","POST AND TELEGRAPHS ( डाक एंव तार )","टेलीग्राफ,टार यन्त्र","Telegraph"]
[null,null,null,null,null,null,null,null,null,null,null,2206,"Post-Office","post-office","डाक-घर","POST AND TELEGRAPHS ( डाक एंव तार )","डाक-घर","Post-Office"]
[null,null,null,null,null,null,null,null,null,null,null,2207,"Letter","letter","चिठ्ठी,पत्र","POST AND TELEGRAPHS ( डाक एंव तार )","चिठ्ठी,पत्र","Letter"]
[null,null,null,null,null,null,null,null,null,null,null,2208," Receipt"," receipt","रसीद","POST AND TELEGRAPHS ( डाक एंव तार )","रसीद"," Receipt"]
[null,null,null,null,null,null,null,null,null,null,null,2209,"Letter-Box","letter-box","पत्र-मंजूषा","POST AND TELEGRAPHS ( डाक एंव तार )","पत्र-मंजूषा","Letter-Box"]
[null,null,null,null,null,null,null,null,null,null,null,2210,"Air-Mail","air-mail","विमान-डाक","POST AND TELEGRAPHS ( डाक एंव तार )","विमान-डाक","Air-Mail"]
[null,null,null,null,null,null,null,null,null,null,null,2211,"Address","address","पता","POST AND TELEGRAPHS ( डाक एंव तार )","पता","Address"]
[null,null,null,null,null,null,null,null,null,null,null,2212,"Addresses","addresses","प्रापक","POST AND TELEGRAPHS ( डाक एंव तार )","प्रापक","Addresses"]
[null,null,null,null,null,null,null,null,null,null,null,2213,"Post-Card","post-card","ख़त","POST AND TELEGRAPHS ( डाक एंव तार )","ख़त","Post-Card"]
[null,null,null,null,null,null,null,null,null,null,null,2214,"Envelope","envelope","लिफाफा","POST AND TELEGRAPHS ( डाक एंव तार )","लिफाफा","Envelope"]
[null,null,null,null,null,null,null,null,null,null,null,2215,"Postage-Stamp","postage-stamp","डाक-टिकट","POST AND TELEGRAPHS ( डाक एंव तार )","डाक-टिकट","Postage-Stamp"]
[null,null,null,null,null,null,null,null,null,null,null,2216,"Postage","postage","डाकखर्च","POST AND TELEGRAPHS ( डाक एंव तार )","डाकखर्च","Postage"]
[null,null,null,null,null,null,null,null,null,null,null,2217,"Parcel","parcel","पार्सल","POST AND TELEGRAPHS ( डाक एंव तार )","पार्सल","Parcel"]
[null,null,null,null,null,null,null,null,null,null,null,2218,"Money-Order","money-order","मनीआर्डर","POST AND TELEGRAPHS ( डाक एंव तार )","मनीआर्डर","Money-Order"]
[null,null,null,null,null,null,null,null,null,null,null,2219,"Payee","payee","रूपया पानेवाला","POST AND TELEGRAPHS ( डाक एंव तार )","रूपया पानेवाला","Payee"]
[null,null,null,null,null,null,null,null,null,null,null,2220,"Remitter","remitter","रूपया भेजने वाला","POST AND TELEGRAPHS ( डाक एंव तार )","रूपया भेजने वाला","Remitter"]
[null,null,null,null,null,null,null,null,null,null,null,2221,"Sender","sender","प्रेषक","POST AND TELEGRAPHS ( डाक एंव तार )","प्रेषक","Sender"]
[null,null,null,null,null,null,null,null,null,null,null,2222,"Revenue-Stamp","revenue-stamp","रसीदी-टिकट","POST AND TELEGRAPHS ( डाक एंव तार )","रसीदी-टिकट","Revenue-Stamp"]
[null,null,null,null,null,null,null,null,null,null,null,2223,"Runner","runner","हरकारा","POST AND TELEGRAPHS ( डाक एंव तार )","हरकारा","Runner"]
[null,null,null,null,null,null,null,null,null,null,null,2224,"Wireless","wireless","बेतार","POST AND TELEGRAPHS ( डाक एंव तार )","बेतार","Wireless"]
[null,null,null,null,null,null,null,null,null,null,null,2225,"Post-Master","post-master","पोस्ट-मास्टर","POST AND TELEGRAPHS ( डाक एंव तार )","पोस्ट-मास्टर","Post-Master"]
[null,null,null,null,null,null,null,null,null,null,null,2226,"Post-Man","post-man","डाकिया","POST AND TELEGRAPHS ( डाक एंव तार )","डाकिया","Post-Man"]
[null,null,null,null,null,null,null,null,null,null,null,2227,"Book-Post","book-post","बुक-पोस्ट","POST AND TELEGRAPHS ( डाक एंव तार )","बुक-पोस्ट","Book-Post"]
[null,null,null,null,null,null,null,null,null,null,null,2228,"Trunk-Call","trunk-call","ट्रंककॉल","POST AND TELEGRAPHS ( डाक एंव तार )","ट्रंककॉल","Trunk-Call"]
[null,null,null,null,null,null,null,null,null,null,null,2229,"Telegram","telegram","टेलीग्राम,तार","POST AND TELEGRAPHS ( डाक एंव तार )","टेलीग्राम,तार","Telegram"]
[null,null,null,null,null,null,null,null,null,null,null,2230,"Wireless-Telegram","wireless-telegram","बेतारका तार","POST AND TELEGRAPHS ( डाक एंव तार )","बेतारका तार","Wireless-Telegram"]
[null,null,null,null,null,null,null,null,null,null,null,2231,"Dress","dress","पोशाक","DRESS ( गणवेश )","पोशाक","Dress"]
[null,null,null,null,null,null,null,null,null,null,null,2232,"Cloth","cloth","कपड़ा","DRESS ( गणवेश )","कपड़ा","Cloth"]
[null,null,null,null,null,null,null,null,null,null,null,2233,"Cap","cap","टोपी","DRESS ( गणवेश )","टोपी","Cap"]
[null,null,null,null,null,null,null,null,null,null,null,2234,"Hat","hat","टॉप","DRESS ( गणवेश )","टॉप","Hat"]
[null,null,null,null,null,null,null,null,null,null,null,2235,"Shirt","shirt","कुर्ता,कमीज","DRESS ( गणवेश )","कुर्ता,कमीज","Shirt"]
[null,null,null,null,null,null,null,null,null,null,null,2236,"Frock","frock","फ्राक","DRESS ( गणवेश )","फ्राक","Frock"]
[null,null,null,null,null,null,null,null,null,null,null,2237,"Coat","coat","कोट","DRESS ( गणवेश )","कोट","Coat"]
[null,null,null,null,null,null,null,null,null,null,null,2238,"Sari","sari","साड़ी","DRESS ( गणवेश )","साड़ी","Sari"]
[null,null,null,null,null,null,null,null,null,null,null,2239,"Dhoti","dhoti","धोती","DRESS ( गणवेश )","धोती","Dhoti"]
[null,null,null,null,null,null,null,null,null,null,null,2240,"Gown","gown","गाउन","DRESS ( गणवेश )","गाउन","Gown"]
[null,null,null,null,null,null,null,null,null,null,null,2241,"Skirt","skirt","ओढ़नी","DRESS ( गणवेश )",{"$f":"O2269","v":"ओढ़नी"},"Skirt"]
[null,null,null,null,null,null,null,null,null,null,null,2242,{"$f":"PROPER(N2270)","v":"Scarf"},"scarf","ओढनी","DRESS ( गणवेश )","ओढनी",{"$f":"PROPER(N2270)","v":"Scarf"}]
[null,null,null,null,null,null,null,null,null,null,null,2243,"Wrapper","wrapper","ओढ़ने का कपड़ा(चादर)","DRESS ( गणवेश )","ओढ़ने का कपड़ा(चादर)","Wrapper"]
[null,null,null,null,null,null,null,null,null,null,null,2244,"Baniyan","baniyan","बनियन,गंजी","DRESS ( गणवेश )","बनियन,गंजी","Baniyan"]
[null,null,null,null,null,null,null,null,null,null,null,2245,"Tape","tape","फीता","DRESS ( गणवेश )","फीता","Tape"]
[null,null,null,null,null,null,null,null,null,null,null,2246,"Gloves","gloves","दस्ताना","DRESS ( गणवेश )","दस्ताना","Gloves"]
[null,null,null,null,null,null,null,null,null,null,null,2247,"Pocket","pocket","जेब","DRESS ( गणवेश )","जेब","Pocket"]
[null,null,null,null,null,null,null,null,null,null,null,2248,"Button","button","बटन","DRESS ( गणवेश )","बटन","Button"]
[null,null,null,null,null,null,null,null,null,null,null,2249,"Shorts","shorts","हाफ पेन्ट","DRESS ( गणवेश )","हाफ पेन्ट","Shorts"]
[null,null,null,null,null,null,null,null,null,null,null,2250,"Shocks","shocks","मोज़े","DRESS ( गणवेश )","मोज़े","Shocks"]
[null,null,null,null,null,null,null,null,null,null,null,2251,"Shoe","shoe","जूता","DRESS ( गणवेश )","जूता","Shoe"]
[null,null,null,null,null,null,null,null,null,null,null,2252,"Spectacles","spectacles","चश्मा","DRESS ( गणवेश )","चश्मा","Spectacles"]
[null,null,null,null,null,null,null,null,null,null,null,2253,"Slippers","slippers","चप्पल","DRESS ( गणवेश )","चप्पल","Slippers"]
[null,null,null,null,null,null,null,null,null,null,null,2254,"Umbrella","umbrella","छाता","DRESS ( गणवेश )","छाता","Umbrella"]
[null,null,null,null,null,null,null,null,null,null,null,2255,"Belt","belt","पट्टा,कमरबंद","DRESS ( गणवेश )","पट्टा,कमरबंद","Belt"]
[null,null,null,null,null,null,null,null,null,null,null,2256,"Hair-Pin","hair-pin","बाल का काँटा","DRESS ( गणवेश )","बाल का काँटा","Hair-Pin"]
[null,null,null,null,null,null,null,null,null,null,null,2257,"Pantaloon","pantaloon","छोटा पेंट,पतलून","DRESS ( गणवेश )","छोटा पेंट,पतलून","Pantaloon"]
[null,null,null,null,null,null,null,null,null,null,null,2258,"Turban","turban","पगड़ी","DRESS ( गणवेश )","पगड़ी","Turban"]
[null,null,null,null,null,null,null,null,null,null,null,2259,"Blouse","blouse","ब्लाउज,कुर्ती,चोली","DRESS ( गणवेश )","ब्लाउज,कुर्ती,चोली","Blouse"]
[null,null,null,null,null,null,null,null,null,null,null,2260,"Tiara","tiara","सर का भूषण","DRESS ( गणवेश )","सर का भूषण","Tiara"]
[null,null,null,null,null,null,null,null,null,null,null,2261,"Wooden-Sandal","wooden-sandal","खडाऊ","DRESS ( गणवेश )","खडाऊ","Wooden-Sandal"]
[null,null,null,null,null,null,null,null,null,null,null,2262,"Trousers","trousers","पायजामा","DRESS ( गणवेश )","पायजामा","Trousers"]
[null,null,null,null,null,null,null,null,null,null,null,2263,"I","I","मै","PRONOUNS ( सर्वनाम )","मै","I"]
[null,null,null,null,null,null,null,null,null,null,null,2264,"We","we","हम","PRONOUNS ( सर्वनाम )","हम","We"]
[null,null,null,null,null,null,null,null,null,null,null,2265,"Our,Ours","OUR,OURS","हमारा","PRONOUNS ( सर्वनाम )","हमारा","Our,Ours"]
[null,null,null,null,null,null,null,null,null,null,null,2266,"My,Mine","MY,MINE","मेरा","PRONOUNS ( सर्वनाम )","मेरा","My,Mine"]
[null,null,null,null,null,null,null,null,null,null,null,2267,"Whom","WHOM","किसको,जिनको,किनको","PRONOUNS ( सर्वनाम )","किसको,जिनको,किनको","Whom"]
[null,null,null,null,null,null,null,null,null,null,null,2268,"Whose","WHOSE","जिसका,किनका","PRONOUNS ( सर्वनाम )","जिसका,किनका","Whose"]
[null,null,null,null,null,null,null,null,null,null,null,2269,"It","IT","यह","PRONOUNS ( सर्वनाम )","यह","It"]
[null,null,null,null,null,null,null,null,null,null,null,2270,"You","YOU","तुम,आप","PRONOUNS ( सर्वनाम )","तुम,आप","You"]
[null,null,null,null,null,null,null,null,null,null,null,2271,"Your,Yours","YOUR,YOURS","तुम्हारा,आपका","PRONOUNS ( सर्वनाम )","तुम्हारा,आपका","Your,Yours"]
[null,null,null,null,null,null,null,null,null,null,null,2272,"Us","us","हमको,हमें","PRONOUNS ( सर्वनाम )","हमको,हमें","Us"]
[null,null,null,null,null,null,null,null,null,null,null,2273,"Me","ME","मुझेको","PRONOUNS ( सर्वनाम )","मुझेको","Me"]
[null,null,null,null,null,null,null,null,null,null,null,2274," Herself"," HERSELF","वह स्वंय(स्त्री)","PRONOUNS ( सर्वनाम )","वह स्वंय(स्त्री)"," Herself"]
[null,null,null,null,null,null,null,null,null,null,null,2275,"Himself","HIMSELF","वह स्वंय(पुरुष)","PRONOUNS ( सर्वनाम )","वह स्वंय(पुरुष)","Himself"]
[null,null,null,null,null,null,null,null,null,null,null,2276,"This","THIS","यह","PRONOUNS ( सर्वनाम )","यह","This"]
[null,null,null,null,null,null,null,null,null,null,null,2277," That"," THAT","वह","PRONOUNS ( सर्वनाम )","वह"," That"]
[null,null,null,null,null,null,null,null,null,null,null,2278,"Its","ITS","इसका","PRONOUNS ( सर्वनाम )","इसका","Its"]
[null,null,null,null,null,null,null,null,null,null,null,2279,"Who","WHO","कौन","PRONOUNS ( सर्वनाम )","कौन","Who"]
[null,null,null,null,null,null,null,null,null,null,null,2280,"Their","THEIR","उनका","PRONOUNS ( सर्वनाम )","उनका","Their"]
[null,null,null,null,null,null,null,null,null,null,null,2281,"Yourself","YOURSELF","तुम स्वंय","PRONOUNS ( सर्वनाम )","तुम स्वंय","Yourself"]
[null,null,null,null,null,null,null,null,null,null,null,2282,"Myself","MYSELF","में स्वमं","PRONOUNS ( सर्वनाम )","में स्वमं","Myself"]
[null,null,null,null,null,null,null,null,null,null,null,2283,"He","HE","वह(पुरुष)","PRONOUNS ( सर्वनाम )","वह(पुरुष)","He"]
[null,null,null,null,null,null,null,null,null,null,null,2284,"She","she","वह(स्त्री)","PRONOUNS ( सर्वनाम )","वह(स्त्री)","She"]
[null,null,null,null,null,null,null,null,null,null,null,2285,"These","THESE","ये","PRONOUNS ( सर्वनाम )","ये","These"]
[null,null,null,null,null,null,null,null,null,null,null,2286,"Those","THOSE","वे","PRONOUNS ( सर्वनाम )","वे","Those"]
[null,null,null,null,null,null,null,null,null,null,null,2287,"What","WHAT","क्या","PRONOUNS ( सर्वनाम )","क्या","What"]
[null,null,null,null,null,null,null,null,null,null,null,2288,"Him","HIM","उसको,उनको","PRONOUNS ( सर्वनाम )","उसको,उनको","Him"]
[null,null,null,null,null,null,null,null,null,null,null,2289,"Which","WHICH","कौन","PRONOUNS ( सर्वनाम )","कौन","Which"]
[null,null,null,null,null,null,null,null,null,null,null,2290,"  Why","  WHY","क्यों","PRONOUNS ( सर्वनाम )","क्यों","  Why"]
[null,null,null,null,null,null,null,null,null,null,null,2291,"His","HIS","उसका,उनका","PRONOUNS ( सर्वनाम )","उसका,उनका","His"]
[null,null,null,null,null,null,null,null,null,null,null,2292,"Herself","HERSELF","उसका स्वंय","PRONOUNS ( सर्वनाम )","उसका स्वंय","Herself"]
[null,null,null,null,null,null,null,null,null,null,null,2293," Here"," HERE","यहाँ","PRONOUNS ( सर्वनाम )","यहाँ"," Here"]
[null,null,null,null,null,null,null,null,null,null,null,2294," There"," THERE","वहाँ","PRONOUNS ( सर्वनाम )","वहाँ"," There"]
[null,null,null,null,null,null,null,null,null,null,null,2295,"Them","THEM","उनको","PRONOUNS ( सर्वनाम )","उनको","Them"]
[null,null,null,null,null,null,null,null,null,null,null,2296,"Battle","BATTLE","युद्ध","WAR AND WEAPONS ( युद्द्ध एँव हथियार )","युद्ध","Battle"]
[null,null,null,null,null,null,null,null,null,null,null,2297,"War","WAR","संग्राम","WAR AND WEAPONS ( युद्द्ध एँव हथियार )","संग्राम","War"]
[null,null,null,null,null,null,null,null,null,null,null,2298,"World-War","WORLD-WAR","विश्वयुद्ध","WAR AND WEAPONS ( युद्द्ध एँव हथियार )","विश्वयुद्ध","World-War"]
[null,null,null,null,null,null,null,null,null,null,null,2299,"Battle-Field","BATTLE-FIELD","युद्ध क्षेत्र","WAR AND WEAPONS ( युद्द्ध एँव हथियार )","युद्ध क्षेत्र","Battle-Field"]
[null,null,null,null,null,null,null,null,null,null,null,2300,"Gun","GUN","बन्दुक","WAR AND WEAPONS ( युद्द्ध एँव हथियार )","बन्दुक","Gun"]
[null,null,null,null,null,null,null,null,null,null,null,2301,"Gunpowder","GUNPOWDER","बारूद","WAR AND WEAPONS ( युद्द्ध एँव हथियार )","बारूद","Gunpowder"]
[null,null,null,null,null,null,null,null,null,null,null,2302,"Bow","BOW","धनुष","WAR AND WEAPONS ( युद्द्ध एँव हथियार )","धनुष","Bow"]
[null,null,null,null,null,null,null,null,null,null,null,2303,"Arrow","ARROW","तीर","WAR AND WEAPONS ( युद्द्ध एँव हथियार )","तीर","Arrow"]
[null,null,null,null,null,null,null,null,null,null,null,2304,"Bullet","BULLET","गोली","WAR AND WEAPONS ( युद्द्ध एँव हथियार )","गोली","Bullet"]
[null,null,null,null,null,null,null,null,null,null,null,2305,"Shell","shell","गोला","WAR AND WEAPONS ( युद्द्ध एँव हथियार )",{"$f":"O2333","v":"गोला"},"Shell"]
[null,null,null,null,null,null,null,null,null,null,null,2306,{"$f":"PROPER(N2334)","v":"Camp"},"CAMP","शिविर","WAR AND WEAPONS ( युद्द्ध एँव हथियार )","शिविर",{"$f":"PROPER(N2334)","v":"Camp"}]
[null,null,null,null,null,null,null,null,null,null,null,2307,"Tent","TENT","तम्बू","WAR AND WEAPONS ( युद्द्ध एँव हथियार )","तम्बू","Tent"]
[null,null,null,null,null,null,null,null,null,null,null,2308,"Fort","FORT","किला","WAR AND WEAPONS ( युद्द्ध एँव हथियार )","किला","Fort"]
[null,null,null,null,null,null,null,null,null,null,null,2309," Cannon"," CANNON","कमान,तोप","WAR AND WEAPONS ( युद्द्ध एँव हथियार )","कमान,तोप"," Cannon"]
[null,null,null,null,null,null,null,null,null,null,null,2310,"Bomb","BOMB","बम","WAR AND WEAPONS ( युद्द्ध एँव हथियार )","बम","Bomb"]
[null,null,null,null,null,null,null,null,null,null,null,2311,"Arms","ARMS","अस्त्र-शस्त्र","WAR AND WEAPONS ( युद्द्ध एँव हथियार )","अस्त्र-शस्त्र","Arms"]
[null,null,null,null,null,null,null,null,null,null,null,2312,"Flag","FLAG","झंडा","WAR AND WEAPONS ( युद्द्ध एँव हथियार )","झंडा","Flag"]
[null,null,null,null,null,null,null,null,null,null,null,2313,"Club","CLUB","गदा","WAR AND WEAPONS ( युद्द्ध एँव हथियार )","गदा","Club"]
[null,null,null,null,null,null,null,null,null,null,null,2314,"Lance","LANCE","बरछा","WAR AND WEAPONS ( युद्द्ध एँव हथियार )","बरछा","Lance"]
[null,null,null,null,null,null,null,null,null,null,null,2315,"Warrior","WARRIOR","योधा","WAR AND WEAPONS ( युद्द्ध एँव हथियार )","योधा","Warrior"]
[null,null,null,null,null,null,null,null,null,null,null,2316,"Treaty","TREATY","संधि","WAR AND WEAPONS ( युद्द्ध एँव हथियार )","संधि","Treaty"]
[null,null,null,null,null,null,null,null,null,null,null,2317,"Quiver","QUIVER","तुणीर","WAR AND WEAPONS ( युद्द्ध एँव हथियार )","तुणीर","Quiver"]
[null,null,null,null,null,null,null,null,null,null,null,2318,"Victory","VICTORY","विजय","WAR AND WEAPONS ( युद्द्ध एँव हथियार )","विजय","Victory"]
[null,null,null,null,null,null,null,null,null,null,null,2319,"Defeat","DEFEAT","हार","WAR AND WEAPONS ( युद्द्ध एँव हथियार )","हार","Defeat"]
[null,null,null,null,null,null,null,null,null,null,null,2320,"Shield","SHIELD","ढल","WAR AND WEAPONS ( युद्द्ध एँव हथियार )","ढल","Shield"]
[null,null,null,null,null,null,null,null,null,null,null,2321,"Dagger","DAGGER","छुरा","WAR AND WEAPONS ( युद्द्ध एँव हथियार )","छुरा","Dagger"]
[null,null,null,null,null,null,null,null,null,null,null,2322,"Weapon","WEAPON","अस्त्र","WAR AND WEAPONS ( युद्द्ध एँव हथियार )","अस्त्र","Weapon"]
[null,null,null,null,null,null,null,null,null,null,null,2323,"Bayonet","BAYONET","संगीन","WAR AND WEAPONS ( युद्द्ध एँव हथियार )","संगीन","Bayonet"]
[null,null,null,null,null,null,null,null,null,null,null,2324,"Soldier","SOLDIER","सैनिक","WAR AND WEAPONS ( युद्द्ध एँव हथियार )","सैनिक","Soldier"]
[null,null,null,null,null,null,null,null,null,null,null,2325,"Helmet","HELMET","शिर्धारण","WAR AND WEAPONS ( युद्द्ध एँव हथियार )","शिर्धारण","Helmet"]
[null,null,null,null,null,null,null,null,null,null,null,2326,"Regiment","REGIMENT","पलटन","WAR AND WEAPONS ( युद्द्ध एँव हथियार )","पलटन","Regiment"]
[null,null,null,null,null,null,null,null,null,null,null,2327,"Army","ARMY","सेना","WAR AND WEAPONS ( युद्द्ध एँव हथियार )","सेना","Army"]
[null,null,null,null,null,null,null,null,null,null,null,2328,"Siege","SIEGE","अवरोध","WAR AND WEAPONS ( युद्द्ध एँव हथियार )","अवरोध","Siege"]
[null,null,null,null,null,null,null,null,null,null,null,2329,"Navy","NAVY","नौसेना","WAR AND WEAPONS ( युद्द्ध एँव हथियार )","नौसेना","Navy"]
[null,null,null,null,null,null,null,null,null,null,null,2330,"Captain","CAPTAIN","नायक","WAR AND WEAPONS ( युद्द्ध एँव हथियार )","नायक","Captain"]
[null,null,null,null,null,null,null,null,null,null,null,2331,"Attack","ATTACK","आक्रमण","WAR AND WEAPONS ( युद्द्ध एँव हथियार )","आक्रमण","Attack"]
[null,null,null,null,null,null,null,null,null,null,null,2332,"Fighter-Plane","FIGHTER-PLANE","जंगी जहाज","WAR AND WEAPONS ( युद्द्ध एँव हथियार )","जंगी जहाज","Fighter-Plane"]
[null,null,null,null,null,null,null,null,null,null,null,2333,"Bomber","BOMBER","बमवर्षक","WAR AND WEAPONS ( युद्द्ध एँव हथियार )","बमवर्षक","Bomber"]
[null,null,null,null,null,null,null,null,null,null,null,2334,"Atombomb","ATOMBOMB","परमाणु बम","WAR AND WEAPONS ( युद्द्ध एँव हथियार )","परमाणु बम","Atombomb"]
[null,null,null,null,null,null,null,null,null,null,null,2335,"Tank","TANK","टैक","WAR AND WEAPONS ( युद्द्ध एँव हथियार )","टैक","Tank"]
[null,null,null,null,null,null,null,null,null,null,null,2336,"Wounded","WOUNDED","घायल","WAR AND WEAPONS ( युद्द्ध एँव हथियार )","घायल","Wounded"]
[null,null,null,null,null,null,null,null,null,null,null,2337,"March","MARCH","अभियान","WAR AND WEAPONS ( युद्द्ध एँव हथियार )","अभियान","March"]
[null,null,null,null,null,null,null,null,null,null,null,2338,"Admiral","ADMIRAL","नौसेनापति","WAR AND WEAPONS ( युद्द्ध एँव हथियार )","नौसेनापति","Admiral"]
[null,null,null,null,null,null,null,null,null,null,null,2339,"Commander","COMMANDER","सेनापति","WAR AND WEAPONS ( युद्द्ध एँव हथियार )","सेनापति","Commander"]
[null,null,null,null,null,null,null,null,null,null,null,2340,"Pistol","PISTOL","पिस्तौल","WAR AND WEAPONS ( युद्द्ध एँव हथियार )","पिस्तौल","Pistol"]
[null,null,null,null,null,null,null,null,null,null,null,2341,"Rifle","RIFLE","रायफल","WAR AND WEAPONS ( युद्द्ध एँव हथियार )","रायफल","Rifle"]
[null,null,null,null,null,null,null,null,null,null,null,2342,"Air-Raid","AIR-RAID","विमान से हमला","WAR AND WEAPONS ( युद्द्ध एँव हथियार )","विमान से हमला","Air-Raid"]
[null,null,null,null,null,null,null,null,null,null,null,2343,"Warship","WARSHIP","युद्ध तोप","WAR AND WEAPONS ( युद्द्ध एँव हथियार )","युद्ध तोप","Warship"]
[null,null,null,null,null,null,null,null,null,null,null,2344,"Revolver","REVOLVER","रिवोल्वर","WAR AND WEAPONS ( युद्द्ध एँव हथियार )","रिवोल्वर","Revolver"]
[null,null,null,null,null,null,null,null,null,null,null,2345,"Colonel","COLONEL","कर्नल","WAR AND WEAPONS ( युद्द्ध एँव हथियार )","कर्नल","Colonel"]
[null,null,null,null,null,null,null,null,null,null,null,2346,"Ask","ask","पूछना","VERBS ( क्रियाए )","पूछना","Ask"]
[null,null,null,null,null,null,null,null,null,null,null,2347,"Awake","awake","जागना","VERBS ( क्रियाए )","जागना","Awake"]
[null,null,null,null,null,null,null,null,null,null,null,2348,"Be","be","होना","VERBS ( क्रियाए )","होना","Be"]
[null,null,null,null,null,null,null,null,null,null,null,2349,"Beat","beat","मारना","VERBS ( क्रियाए )","मारना","Beat"]
[null,null,null,null,null,null,null,null,null,null,null,2350,"Bite","bite","काटना","VERBS ( क्रियाए )","काटना","Bite"]
[null,null,null,null,null,null,null,null,null,null,null,2351,"Blow","blow","हवा चलना","VERBS ( क्रियाए )","हवा चलना","Blow"]
[null,null,null,null,null,null,null,null,null,null,null,2352,"Bring","bring","लाना","VERBS ( क्रियाए )","लाना","Bring"]
[null,null,null,null,null,null,null,null,null,null,null,2353,"Burn","burn","जलना","VERBS ( क्रियाए )","जलना","Burn"]
[null,null,null,null,null,null,null,null,null,null,null,2354," Buy"," buy","खरीदना","VERBS ( क्रियाए )","खरीदना"," Buy"]
[null,null,null,null,null,null,null,null,null,null,null,2355,"Call","call","पुकारना,बुलाना","VERBS ( क्रियाए )","पुकारना,बुलाना","Call"]
[null,null,null,null,null,null,null,null,null,null,null,2356,"Can","can","सकना","VERBS ( क्रियाए )","सकना","Can"]
[null,null,null,null,null,null,null,null,null,null,null,2357,"Carry","carry","ले जाना","VERBS ( क्रियाए )","ले जाना","Carry"]
[null,null,null,null,null,null,null,null,null,null,null,2358,"Catch","catch","पकड़ना","VERBS ( क्रियाए )","पकड़ना","Catch"]
[null,null,null,null,null,null,null,null,null,null,null,2359,"Come","come","आना","VERBS ( क्रियाए )","आना","Come"]
[null,null,null,null,null,null,null,null,null,null,null,2360,"Cry","cry","चिल्लाना","VERBS ( क्रियाए )","चिल्लाना","Cry"]
[null,null,null,null,null,null,null,null,null,null,null,2361,"Cut","cut","काटना","VERBS ( क्रियाए )","काटना","Cut"]
[null,null,null,null,null,null,null,null,null,null,null,2362," Dance"," dance","नाचना","VERBS ( क्रियाए )","नाचना"," Dance"]
[null,null,null,null,null,null,null,null,null,null,null,2363,"Die","die","मरना","VERBS ( क्रियाए )","मरना","Die"]
[null,null,null,null,null,null,null,null,null,null,null,2364,"Do","do","करना","VERBS ( क्रियाए )","करना","Do"]
[null,null,null,null,null,null,null,null,null,null,null,2365,"Draw","draw","खींचना","VERBS ( क्रियाए )","खींचना","Draw"]
[null,null,null,null,null,null,null,null,null,null,null,2366,"Eat","eat","खाना","VERBS ( क्रियाए )","खाना","Eat"]
[null,null,null,null,null,null,null,null,null,null,null,2367,"Fall","fall","गिरना","VERBS ( क्रियाए )","गिरना","Fall"]
[null,null,null,null,null,null,null,null,null,null,null,2368,"Fear","fear","डरना","VERBS ( क्रियाए )","डरना","Fear"]
[null,null,null,null,null,null,null,null,null,null,null,2369,"Feed","feed","खिलाना","VERBS ( क्रियाए )",{"$f":"O2397","v":"खिलाना"},"Feed"]
[null,null,null,null,null,null,null,null,null,null,null,2370,{"$f":"PROPER(N2398)","v":"Flow"},"flow","बहना","VERBS ( क्रियाए )","बहना",{"$f":"PROPER(N2398)","v":"Flow"}]
[null,null,null,null,null,null,null,null,null,null,null,2371,"Fly","fly","उड़ना","VERBS ( क्रियाए )","उड़ना","Fly"]
[null,null,null,null,null,null,null,null,null,null,null,2372,"Forget","forget","भूलना","VERBS ( क्रियाए )","भूलना","Forget"]
[null,null,null,null,null,null,null,null,null,null,null,2373,"Forgive","forgive","क्षमा मांगना","VERBS ( क्रियाए )","क्षमा मांगना","Forgive"]
[null,null,null,null,null,null,null,null,null,null,null,2374,"Get","get","पाना","VERBS ( क्रियाए )","पाना","Get"]
[null,null,null,null,null,null,null,null,null,null,null,2375,"Give","give","देना","VERBS ( क्रियाए )","देना","Give"]
[null,null,null,null,null,null,null,null,null,null,null,2376,"Go","go","जाना","VERBS ( क्रियाए )","जाना","Go"]
[null,null,null,null,null,null,null,null,null,null,null,2377,"Hate","hate","नफरत करना","VERBS ( क्रियाए )","नफरत करना","Hate"]
[null,null,null,null,null,null,null,null,null,null,null,2378,"Hear","hear","सुनना","VERBS ( क्रियाए )","सुनना","Hear"]
[null,null,null,null,null,null,null,null,null,null,null,2379,"Hide","hide","छिपाना","VERBS ( क्रियाए )","छिपाना","Hide"]
[null,null,null,null,null,null,null,null,null,null,null,2380,"Hit","hit","चोट मारना","VERBS ( क्रियाए )","चोट मारना","Hit"]
[null,null,null,null,null,null,null,null,null,null,null,2381,"Hope","hope","आशा करना","VERBS ( क्रियाए )","आशा करना","Hope"]
[null,null,null,null,null,null,null,null,null,null,null,2382,"Jump","jump","कूदना","VERBS ( क्रियाए )","कूदना","Jump"]
[null,null,null,null,null,null,null,null,null,null,null,2383,"Keep","keep","रखना","VERBS ( क्रियाए )","रखना","Keep"]
[null,null,null,null,null,null,null,null,null,null,null,2384,"Know","know","जानना","VERBS ( क्रियाए )","जानना","Know"]
[null,null,null,null,null,null,null,null,null,null,null,2385,"Laugh","laugh","हसंना","VERBS ( क्रियाए )","हसंना","Laugh"]
[null,null,null,null,null,null,null,null,null,null,null,2386,"Leave","leave","छोड़ना","VERBS ( क्रियाए )","छोड़ना","Leave"]
[null,null,null,null,null,null,null,null,null,null,null,2387,"Lie","lie","झूठ बोलना","VERBS ( क्रियाए )","झूठ बोलना","Lie"]
[null,null,null,null,null,null,null,null,null,null,null,2388,"Light","light","प्रकाशित करना","VERBS ( क्रियाए )","प्रकाशित करना","Light"]
[null,null,null,null,null,null,null,null,null,null,null,2389,"Live","live","रहना","VERBS ( क्रियाए )","रहना","Live"]
[null,null,null,null,null,null,null,null,null,null,null,2390,"Love","love","प्रेम करना","VERBS ( क्रियाए )","प्रेम करना","Love"]
[null,null,null,null,null,null,null,null,null,null,null,2391,"Make","make","बनाना","VERBS ( क्रियाए )","बनाना","Make"]
[null,null,null,null,null,null,null,null,null,null,null,2392,"Move","move","हिलना","VERBS ( क्रियाए )","हिलना","Move"]
[null,null,null,null,null,null,null,null,null,null,null,2393," Pay"," pay","देना","VERBS ( क्रियाए )","देना"," Pay"]
[null,null,null,null,null,null,null,null,null,null,null,2394,"Play","play","खेलना","VERBS ( क्रियाए )","खेलना","Play"]
[null,null,null,null,null,null,null,null,null,null,null,2395,"Plough","plough","हाल जोतना","VERBS ( क्रियाए )","हाल जोतना","Plough"]
[null,null,null,null,null,null,null,null,null,null,null,2396,"Pull","pull","खींचना","VERBS ( क्रियाए )","खींचना","Pull"]
[null,null,null,null,null,null,null,null,null,null,null,2397,"Read","read","पढना","VERBS ( क्रियाए )","पढना","Read"]
[null,null,null,null,null,null,null,null,null,null,null,2398," Ring"," ring","बजाना","VERBS ( क्रियाए )","बजाना"," Ring"]
[null,null,null,null,null,null,null,null,null,null,null,2399,"Lockdown","lockdown","आपातकालीन बंध",null,"आपातकालीन बंध","Lockdown"]
[null,null,null,null,null,null,null,null,null,null,null,2400," Rise"," rise","उठाना","VERBS ( क्रियाए )","उठाना"," Rise"]
[null,null,null,null,null,null,null,null,null,null,null,2401,"Roar","roar","दहाड़ना","VERBS ( क्रियाए )","दहाड़ना","Roar"]
[null,null,null,null,null,null,null,null,null,null,null,2402,"Run","run","दोड़ना","VERBS ( क्रियाए )","दोड़ना","Run"]
[null,null,null,null,null,null,null,null,null,null,null,2403,"See","see","देखना","VERBS ( क्रियाए )","देखना","See"]
[null,null,null,null,null,null,null,null,null,null,null,2404,"Seek","seek","खोजना'","VERBS ( क्रियाए )","खोजना'","Seek"]
[null,null,null,null,null,null,null,null,null,null,null,2405,"Sell","sell","बेचना","VERBS ( क्रियाए )","बेचना","Sell"]
[null,null,null,null,null,null,null,null,null,null,null,2406,"Send","send","भेजना","VERBS ( क्रियाए )","भेजना","Send"]
[null,null,null,null,null,null,null,null,null,null,null,2407,"Show","show","दिखाना","VERBS ( क्रियाए )","दिखाना","Show"]
[null,null,null,null,null,null,null,null,null,null,null,2408," Sing"," sing","गाना","VERBS ( क्रियाए )","गाना"," Sing"]
[null,null,null,null,null,null,null,null,null,null,null,2409,"Sink","sink","डूबना","VERBS ( क्रियाए )","डूबना","Sink"]
[null,null,null,null,null,null,null,null,null,null,null,2410,"Sit","SIT","बैठना","VERBS ( क्रियाए )","बैठना","Sit"]
[null,null,null,null,null,null,null,null,null,null,null,2411,"Sleep","sleep","सोना","VERBS ( क्रियाए )","सोना","Sleep"]
[null,null,null,null,null,null,null,null,null,null,null,2412,"Spend","spend","बिताना","VERBS ( क्रियाए )","बिताना","Spend"]
[null,null,null,null,null,null,null,null,null,null,null,2413," Steal"," steal","चुराना","VERBS ( क्रियाए )","चुराना"," Steal"]
[null,null,null,null,null,null,null,null,null,null,null,2414,"Swim","swim","तैरना","VERBS ( क्रियाए )","तैरना","Swim"]
[null,null,null,null,null,null,null,null,null,null,null,2415,"Take","take","लेना","VERBS ( क्रियाए )","लेना","Take"]
[null,null,null,null,null,null,null,null,null,null,null,2416,"Talk","talk","बताना","VERBS ( क्रियाए )","बताना","Talk"]
[null,null,null,null,null,null,null,null,null,null,null,2417,"Teach","teach","पढाना","VERBS ( क्रियाए )","पढाना","Teach"]
[null,null,null,null,null,null,null,null,null,null,null,2418,"Tell","tell","कहना,बताना","VERBS ( क्रियाए )","कहना,बताना","Tell"]
[null,null,null,null,null,null,null,null,null,null,null,2419,"Told","told","बताया","VERBS ( क्रियाए )","बताया","Told"]
[null,null,null,null,null,null,null,null,null,null,null,2420,"Think","think","सोचना","VERBS ( क्रियाए )","सोचना","Think"]
[null,null,null,null,null,null,null,null,null,null,null,2421,"Throw","throw","फेंकना","VERBS ( क्रियाए )","फेंकना","Throw"]
[null,null,null,null,null,null,null,null,null,null,null,2422,"Walk","walk","चलना","VERBS ( क्रियाए )","चलना","Walk"]
[null,null,null,null,null,null,null,null,null,null,null,2423,"Want","want","चाहना","VERBS ( क्रियाए )","चाहना","Want"]
[null,null,null,null,null,null,null,null,null,null,null,2424,"Weep","weep","रोना","VERBS ( क्रियाए )","रोना","Weep"]
[null,null,null,null,null,null,null,null,null,null,null,2425,"Wish","wish","इच्छा करना","VERBS ( क्रियाए )","इच्छा करना","Wish"]
[null,null,null,null,null,null,null,null,null,null,null,2426,"Work","work","कार्य करना","VERBS ( क्रियाए )","कार्य करना","Work"]
[null,null,null,null,null,null,null,null,null,null,null,2427,"Worship","worship","पुजा करना","VERBS ( क्रियाए )","पुजा करना","Worship"]
[null,null,null,null,null,null,null,null,null,null,null,2428,"Write","write","लिखना","VERBS ( क्रियाए )","लिखना","Write"]
[null,null,null,null,null,null,null,null,null,null,null,2429,"North","NORTH","उत्तर","DIRECTIONS","उत्तर","North"]
[null,null,null,null,null,null,null,null,null,null,null,2430,"South","SOUTH","दक्षिण","DIRECTIONS","दक्षिण","South"]
[null,null,null,null,null,null,null,null,null,null,null,2431,"East","EAST","पूर्व","DIRECTIONS","पूर्व","East"]
[null,null,null,null,null,null,null,null,null,null,null,2432,"West","WEST","पश्चिम","DIRECTIONS","पश्चिम","West"]
[null,null,null,null,null,null,null,null,null,null,null,2433,"Pot","POT","बर्तन","HOUSE HOLD ARTICLES ( गृह - सामग्री )","बर्तन","Pot"]
[null,null,null,null,null,null,null,null,null,null,null,2434,{"$f":"PROPER(N2462)","v":"Pitcher"},"PITCHER","घड़ा","HOUSE HOLD ARTICLES ( गृह - सामग्री )","घड़ा",{"$f":"PROPER(N2462)","v":"Pitcher"}]
[null,null,null,null,null,null,null,null,null,null,null,2435,"Napkin","NAPKIN","छोटा अंगोछा","HOUSE HOLD ARTICLES ( गृह - सामग्री )","छोटा अंगोछा","Napkin"]
[null,null,null,null,null,null,null,null,null,null,null,2436," Bed"," BED","बिस्तर","HOUSE HOLD ARTICLES ( गृह - सामग्री )",{"$f":"O2464","v":"बिस्तर"}," Bed"]
[null,null,null,null,null,null,null,null,null,null,null,2437,"Pillow-Case","PILLOW-CASE","तकिये का गिलाफ","HOUSE HOLD ARTICLES ( गृह - सामग्री )","तकिये का गिलाफ","Pillow-Case"]
[null,null,null,null,null,null,null,null,null,null,null,2438,"Bed-Sheet","BED-SHEET","चादर","HOUSE HOLD ARTICLES ( गृह - सामग्री )","चादर","Bed-Sheet"]
[null,null,null,null,null,null,null,null,null,null,null,2439,"Couch Cot","COUCH COT","तख्तपोश","HOUSE HOLD ARTICLES ( गृह - सामग्री )","तख्तपोश","Couch Cot"]
[null,null,null,null,null,null,null,null,null,null,null,2440,"Mat","MAT","चटाई","HOUSE HOLD ARTICLES ( गृह - सामग्री )","चटाई","Mat"]
[null,null,null,null,null,null,null,null,null,null,null,2441,"Pan","PAN","कड़ाई","HOUSE HOLD ARTICLES ( गृह - सामग्री )","कड़ाई","Pan"]
[null,null,null,null,null,null,null,null,null,null,null,2442,"Jug","JUG","जलदान","HOUSE HOLD ARTICLES ( गृह - सामग्री )","जलदान","Jug"]
[null,null,null,null,null,null,null,null,null,null,null,2443,"Jar","JAR","घड़ा","HOUSE HOLD ARTICLES ( गृह - सामग्री )","घड़ा","Jar"]
[null,null,null,null,null,null,null,null,null,null,null,2444,"Towel","TOWEL","तोलिया","HOUSE HOLD ARTICLES ( गृह - सामग्री )","तोलिया","Towel"]
[null,null,null,null,null,null,null,null,null,null,null,2445,"Bucket","BUCKET","बाल्टी","HOUSE HOLD ARTICLES ( गृह - सामग्री )","बाल्टी","Bucket"]
[null,null,null,null,null,null,null,null,null,null,null,2446,"Utencil","UTENCIL","बर्तन","HOUSE HOLD ARTICLES ( गृह - सामग्री )","बर्तन","Utencil"]
[null,null,null,null,null,null,null,null,null,null,null,2447,"Dish/Saucer","DISH/SAUCER","रकाबी,थाली","HOUSE HOLD ARTICLES ( गृह - सामग्री )","रकाबी,थाली","Dish/Saucer"]
[null,null,null,null,null,null,null,null,null,null,null,2448," Lamp"," LAMP","दीया","HOUSE HOLD ARTICLES ( गृह - सामग्री )","दीया"," Lamp"]
[null,null,null,null,null,null,null,null,null,null,null,2449,"Lampstand","LAMPSTAND","दीवट","HOUSE HOLD ARTICLES ( गृह - सामग्री )","दीवट","Lampstand"]
[null,null,null,null,null,null,null,null,null,null,null,2450,"Wick","WICK","बाती","HOUSE HOLD ARTICLES ( गृह - सामग्री )","बाती","Wick"]
[null,null,null,null,null,null,null,null,null,null,null,2451,"Plate","PLATE","थाली","HOUSE HOLD ARTICLES ( गृह - सामग्री )","थाली","Plate"]
[null,null,null,null,null,null,null,null,null,null,null,2452,"Cup","CUP","कप","HOUSE HOLD ARTICLES ( गृह - सामग्री )","कप","Cup"]
[null,null,null,null,null,null,null,null,null,null,null,2453,"Box","BOX","बक्सा","HOUSE HOLD ARTICLES ( गृह - सामग्री )","बक्सा","Box"]
[null,null,null,null,null,null,null,null,null,null,null,2454,"Candle","CANDLE","मोमबत्ती","HOUSE HOLD ARTICLES ( गृह - सामग्री )","मोमबत्ती","Candle"]
[null,null,null,null,null,null,null,null,null,null,null,2455,"Quilt","QUILT","रजाई","HOUSE HOLD ARTICLES ( गृह - सामग्री )","रजाई","Quilt"]
[null,null,null,null,null,null,null,null,null,null,null,2456,"Mosquito-Curtain","MOSQUITO-CURTAIN","मसहरी","HOUSE HOLD ARTICLES ( गृह - सामग्री )","मसहरी","Mosquito-Curtain"]
[null,null,null,null,null,null,null,null,null,null,null,2457,"Almirah","ALMIRAH","अलमारी","HOUSE HOLD ARTICLES ( गृह - सामग्री )","अलमारी","Almirah"]
[null,null,null,null,null,null,null,null,null,null,null,2458,"Blanket","BLANKET","कम्बल","HOUSE HOLD ARTICLES ( गृह - सामग्री )","कम्बल","Blanket"]
[null,null,null,null,null,null,null,null,null,null,null,2459,"Mattress","MATTRESS","गद्दा","HOUSE HOLD ARTICLES ( गृह - सामग्री )","गद्दा","Mattress"]
[null,null,null,null,null,null,null,null,null,null,null,2460,"Mosquito-Net","MOSQUITO-NET","मसहरी","HOUSE HOLD ARTICLES ( गृह - सामग्री )","मसहरी","Mosquito-Net"]
[null,null,null,null,null,null,null,null,null,null,null,2461,"Carpet","CARPET","गलीचा","HOUSE HOLD ARTICLES ( गृह - सामग्री )","गलीचा","Carpet"]
[null,null,null,null,null,null,null,null,null,null,null,2462,"  Trunk","  TRUNK","बड़ा संदूक","HOUSE HOLD ARTICLES ( गृह - सामग्री )","बड़ा संदूक","  Trunk"]
[null,null,null,null,null,null,null,null,null,null,null,2463,"Chest","CHEST","तिजोरी","HOUSE HOLD ARTICLES ( गृह - सामग्री )","तिजोरी","Chest"]
[null,null,null,null,null,null,null,null,null,null,null,2464,"Screen","SCREEN","पर्दा","HOUSE HOLD ARTICLES ( गृह - सामग्री )","पर्दा","Screen"]
[null,null,null,null,null,null,null,null,null,null,null,2465,"Iron-Chest","IRON-CHEST","लोहे की तिजोरी","HOUSE HOLD ARTICLES ( गृह - सामग्री )","लोहे की तिजोरी","Iron-Chest"]
[null,null,null,null,null,null,null,null,null,null,null,2466,"Iron-Safe","IRON-SAFE","लोहे की तिजोरी","HOUSE HOLD ARTICLES ( गृह - सामग्री )","लोहे की तिजोरी","Iron-Safe"]
[null,null,null,null,null,null,null,null,null,null,null,2467," Glass"," GLASS","गिलास","HOUSE HOLD ARTICLES ( गृह - सामग्री )","गिलास"," Glass"]
[null,null,null,null,null,null,null,null,null,null,null,2468,"Spoon","SPOON","चम्मच","HOUSE HOLD ARTICLES ( गृह - सामग्री )","चम्मच","Spoon"]
[null,null,null,null,null,null,null,null,null,null,null,2469,"Hardware","HARDWARE","लोहे की वस्तुए","HOUSE HOLD ARTICLES ( गृह - सामग्री )","लोहे की वस्तुए","Hardware"]
[null,null,null,null,null,null,null,null,null,null,null,2470,"Kettle","KETTLE","केतली","HOUSE HOLD ARTICLES ( गृह - सामग्री )","केतली","Kettle"]
[null,null,null,null,null,null,null,null,null,null,null,2471,"Soap","SOAP","साबुन","HOUSE HOLD ARTICLES ( गृह - सामग्री )","साबुन","Soap"]
[null,null,null,null,null,null,null,null,null,null,null,2472,"Brass-Ware","BRASS-WARE","पीतल के बर्तन","HOUSE HOLD ARTICLES ( गृह - सामग्री )","पीतल के बर्तन","Brass-Ware"]
[null,null,null,null,null,null,null,null,null,null,null,2473,"Match-Box","MATCH-BOX","माचिस","HOUSE HOLD ARTICLES ( गृह - सामग्री )","माचिस","Match-Box"]
[null,null,null,null,null,null,null,null,null,null,null,2474,"Shelf","SHELF","तांड","HOUSE HOLD ARTICLES ( गृह - सामग्री )","तांड","Shelf"]
[null,null,null,null,null,null,null,null,null,null,null,2475,"Lantern","LANTERN","लालटेन","HOUSE HOLD ARTICLES ( गृह - सामग्री )","लालटेन","Lantern"]
[null,null,null,null,null,null,null,null,null,null,null,2476,"Torch","TORCH","बैटरी","HOUSE HOLD ARTICLES ( गृह - सामग्री )","बैटरी","Torch"]
[null,null,null,null,null,null,null,null,null,null,null,2477,"Drawer","DRAWER","दराज","HOUSE HOLD ARTICLES ( गृह - सामग्री )","दराज","Drawer"]
[null,null,null,null,null,null,null,null,null,null,null,2478," Phial"," PHIAL","शीशी","HOUSE HOLD ARTICLES ( गृह - सामग्री )","शीशी"," Phial"]
[null,null,null,null,null,null,null,null,null,null,null,2479,"Key","KEY","चाबी","HOUSE HOLD ARTICLES ( गृह - सामग्री )","चाबी","Key"]
[null,null,null,null,null,null,null,null,null,null,null,2480,"Broom","BROOM","झाड़ू","HOUSE HOLD ARTICLES ( गृह - सामग्री )","झाड़ू","Broom"]
[null,null,null,null,null,null,null,null,null,null,null,2481,"Bottle","BOTTLE","बोतल","HOUSE HOLD ARTICLES ( गृह - सामग्री )","बोतल","Bottle"]
[null,null,null,null,null,null,null,null,null,null,null,2482,"Knife","KNIFE","चाकू","HOUSE HOLD ARTICLES ( गृह - सामग्री )","चाकू","Knife"]
[null,null,null,null,null,null,null,null,null,null,null,2483,"Basket","BASKET","टोकरी","HOUSE HOLD ARTICLES ( गृह - सामग्री )","टोकरी","Basket"]
[null,null,null,null,null,null,null,null,null,null,null,2484,"Spitton","SPITTON","पीकदान","HOUSE HOLD ARTICLES ( गृह - सामग्री )","पीकदान","Spitton"]
[null,null,null,null,null,null,null,null,null,null,null,2485,"Flower-Vase","FLOWER-VASE","फूलदानी","HOUSE HOLD ARTICLES ( गृह - सामग्री )","फूलदानी","Flower-Vase"]
[null,null,null,null,null,null,null,null,null,null,null,2486,"Picture","PICTURE","तस्वीर","HOUSE HOLD ARTICLES ( गृह - सामग्री )","तस्वीर","Picture"]
[null,null,null,null,null,null,null,null,null,null,null,2487,"Brush","BRUSH","ब्रश","HOUSE HOLD ARTICLES ( गृह - सामग्री )","ब्रश","Brush"]
[null,null,null,null,null,null,null,null,null,null,null,2488,"Glass-Ware","GLASS-WARE","शीशे के बर्तन","HOUSE HOLD ARTICLES ( गृह - सामग्री )","शीशे के बर्तन","Glass-Ware"]
[null,null,null,null,null,null,null,null,null,null,null,2489,"Easy-Chair","EASY-CHAIR","आराम कुर्सी","HOUSE HOLD ARTICLES ( गृह - सामग्री )","आराम कुर्सी","Easy-Chair"]
[null,null,null,null,null,null,null,null,null,null,null,2490,"Doll","DOLL","गुडिया","HOUSE HOLD ARTICLES ( गृह - सामग्री )","गुडिया","Doll"]
[null,null,null,null,null,null,null,null,null,null,null,2491,"Cradle","CRADLE","झुला","HOUSE HOLD ARTICLES ( गृह - सामग्री )","झुला","Cradle"]
[null,null,null,null,null,null,null,null,null,null,null,2492,"China-Ware","CHINA-WARE","चीनी मिटटी के बर्तन","HOUSE HOLD ARTICLES ( गृह - सामग्री )","चीनी मिटटी के बर्तन","China-Ware"]
[null,null,null,null,null,null,null,null,null,null,null,2493,"Handkerchief","HANDKERCHIEF","रुमाल","HOUSE HOLD ARTICLES ( गृह - सामग्री )","रुमाल","Handkerchief"]
[null,null,null,null,null,null,null,null,null,null,null,2494,"Toy","TOY","खिलौना","HOUSE HOLD ARTICLES ( गृह - सामग्री )","खिलौना","Toy"]
[null,null,null,null,null,null,null,null,null,null,null,2495,"Fan","FAN","पंखा","HOUSE HOLD ARTICLES ( गृह - सामग्री )","पंखा","Fan"]
[null,null,null,null,null,null,null,null,null,null,null,2496,"Mirror","MIRROR","आईना","HOUSE HOLD ARTICLES ( गृह - सामग्री )","आईना","Mirror"]
[null,null,null,null,null,null,null,null,null,null,null,2497,"Axe","AXE","कुल्हाड़ी","HOUSE HOLD ARTICLES ( गृह - सामग्री )","कुल्हाड़ी","Axe"]
[null,null,null,null,null,null,null,null,null,null,null,2498,{"$f":"PROPER(N2526)","v":"Tool"},"TOOL","स्टूल","HOUSE HOLD ARTICLES ( गृह - सामग्री )","स्टूल",{"$f":"PROPER(N2526)","v":"Tool"}]
[null,null,null,null,null,null,null,null,null,null,null,2499,"Comb","COMB","कंघा","HOUSE HOLD ARTICLES ( गृह - सामग्री )","कंघा","Comb"]
[null,null,null,null,null,null,null,null,null,null,null,2500,"North-East","NORTH-EAST","उत्तर-पूर्व, ईशान","DIRECTIONS ( दिशाएँ )",{"$f":"O2528","v":"उत्तर-पूर्व, ईशान"},"North-East"]
[null,null,null,null,null,null,null,null,null,null,null,2501,"South-East","SOUTH-EAST","दक्षिण-पूर्व , आग्नेय","DIRECTIONS ( दिशाएँ )","दक्षिण-पूर्व , आग्नेय","South-East"]
[null,null,null,null,null,null,null,null,null,null,null,2502,"North-West","NORTH-WEST","उत्तर-पश्चिम , वायव्य","DIRECTIONS ( दिशाएँ )","उत्तर-पश्चिम , वायव्य","North-West"]
[null,null,null,null,null,null,null,null,null,null,null,2503,"South-West","SOUTH-WEST","दक्षिण-पश्चिम , नेत्रेतव्य","DIRECTIONS ( दिशाएँ )","दक्षिण-पश्चिम , नेत्रेतव्य","South-West"]
[null,null,null,null,null,null,null,null,null,null,null,2504,"Summer","SUMMER","गर्मी","SEASONS ( र्ऋतुएँ )","गर्मी","Summer"]
[null,null,null,null,null,null,null,null,null,null,null,2505,"Rainy","RAINY","वर्षा","SEASONS ( र्ऋतुएँ )","वर्षा","Rainy"]
[null,null,null,null,null,null,null,null,null,null,null,2506,"Winter","WINTER","सर्दी","SEASONS ( र्ऋतुएँ )","सर्दी","Winter"]
[null,null,null,null,null,null,null,null,null,null,null,2507,"Autumn","AUTUMN","शरद","SEASONS ( र्ऋतुएँ )","शरद","Autumn"]
[null,null,null,null,null,null,null,null,null,null,null,2508,"  Spring","  SPRING","वसंत","SEASONS ( र्ऋतुएँ )","वसंत","  Spring"]
[null,null,null,null,null,null,null,null,null,null,null,2509,"Dawn","DAWN","उषाकाल","DIVISIONS OF TIME ( समय का विभाजन  )","उषाकाल","Dawn"]
[null,null,null,null,null,null,null,null,null,null,null,2510,"Sunrise","SUNRISE","सूर्योदय","DIVISIONS OF TIME ( समय का विभाजन  )","सूर्योदय","Sunrise"]
[null,null,null,null,null,null,null,null,null,null,null,2511,"Morning","MORNING","सुबह","DIVISIONS OF TIME ( समय का विभाजन  )","सुबह","Morning"]
[null,null,null,null,null,null,null,null,null,null,null,2512,"Day","DAY","दिन","DIVISIONS OF TIME ( समय का विभाजन  )","दिन","Day"]
[null,null,null,null,null,null,null,null,null,null,null,2513,"Forenoon","FORENOON","पूर्वान्ह","DIVISIONS OF TIME ( समय का विभाजन  )","पूर्वान्ह","Forenoon"]
[null,null,null,null,null,null,null,null,null,null,null,2514,"Noon","NOON","दोपहर","DIVISIONS OF TIME ( समय का विभाजन  )","दोपहर","Noon"]
[null,null,null,null,null,null,null,null,null,null,null,2515,"Mid-Day","MID-DAY","अपराहन","DIVISIONS OF TIME ( समय का विभाजन  )","अपराहन","Mid-Day"]
[null,null,null,null,null,null,null,null,null,null,null,2516,"Sunset","SUNSET","सूर्यास्त","DIVISIONS OF TIME ( समय का विभाजन  )","सूर्यास्त","Sunset"]
[null,null,null,null,null,null,null,null,null,null,null,2517,"Dusk","DUSK","गोधुली","DIVISIONS OF TIME ( समय का विभाजन  )","गोधुली","Dusk"]
[null,null,null,null,null,null,null,null,null,null,null,2518,"Twilight","TWILIGHT","गोधुली","DIVISIONS OF TIME ( समय का विभाजन  )","गोधुली","Twilight"]
[null,null,null,null,null,null,null,null,null,null,null,2519,"Day Before Yesterday","DAY BEFORE YESTERDAY","परसों बिता हुआ","DIVISIONS OF TIME ( समय का विभाजन  )","परसों बिता हुआ","Day Before Yesterday"]
[null,null,null,null,null,null,null,null,null,null,null,2520,"Yesterday","YESTERDAY","कल बिता हुआ","DIVISIONS OF TIME ( समय का विभाजन  )","कल बिता हुआ","Yesterday"]
[null,null,null,null,null,null,null,null,null,null,null,2521,"Day After Tomorrow","DAY AFTER TOMORROW","परसों आनेवाला","DIVISIONS OF TIME ( समय का विभाजन  )","परसों आनेवाला","Day After Tomorrow"]
[null,null,null,null,null,null,null,null,null,null,null,2522,"Moment","MOMENT","क्षण","DIVISIONS OF TIME ( समय का विभाजन  )","क्षण","Moment"]
[null,null,null,null,null,null,null,null,null,null,null,2523,"Second","SECOND","सेकेण्ड","DIVISIONS OF TIME ( समय का विभाजन  )","सेकेण्ड","Second"]
[null,null,null,null,null,null,null,null,null,null,null,2524,"Minute","MINUTE","मिनट","DIVISIONS OF TIME ( समय का विभाजन  )","मिनट","Minute"]
[null,null,null,null,null,null,null,null,null,null,null,2525,"Hour","HOUR","घंटा","DIVISIONS OF TIME ( समय का विभाजन  )","घंटा","Hour"]
[null,null,null,null,null,null,null,null,null,null,null,2526,"Week","WEEK","सप्ताह","DIVISIONS OF TIME ( समय का विभाजन  )","सप्ताह","Week"]
[null,null,null,null,null,null,null,null,null,null,null,2527,"Month","MONTH","माह","DIVISIONS OF TIME ( समय का विभाजन  )","माह","Month"]
[null,null,null,null,null,null,null,null,null,null,null,2528,"Year","YEAR","वर्षा","DIVISIONS OF TIME ( समय का विभाजन  )","वर्षा","Year"]
[null,null,null,null,null,null,null,null,null,null,null,2529,"Half-Yearly","HALF-YEARLY","अर्द्धवार्षिक","DIVISIONS OF TIME ( समय का विभाजन  )","अर्द्धवार्षिक","Half-Yearly"]
[null,null,null,null,null,null,null,null,null,null,null,2530,"Evening","EVENING","शाम","DIVISIONS OF TIME ( समय का विभाजन  )","शाम","Evening"]
[null,null,null,null,null,null,null,null,null,null,null,2531,"Night","NIGHT","रात","DIVISIONS OF TIME ( समय का विभाजन  )","रात","Night"]
[null,null,null,null,null,null,null,null,null,null,null,2532,"Mid-Night","MID-NIGHT","मध्यरात्रि","DIVISIONS OF TIME ( समय का विभाजन  )","मध्यरात्रि","Mid-Night"]
[null,null,null,null,null,null,null,null,null,null,null,2533,"Today","TODAY","आज","DIVISIONS OF TIME ( समय का विभाजन  )","आज","Today"]
[null,null,null,null,null,null,null,null,null,null,null,2534,"Tomorrow","TOMORROW","कल आनेवाला","DIVISIONS OF TIME ( समय का विभाजन  )","कल आनेवाला","Tomorrow"]
[null,null,null,null,null,null,null,null,null,null,null,2535,"Tonight","TONIGHT","आजरात","DIVISIONS OF TIME ( समय का विभाजन  )","आजरात","Tonight"]
[null,null,null,null,null,null,null,null,null,null,null,2536,"Last Night","LAST NIGHT","पिछली रत","DIVISIONS OF TIME ( समय का विभाजन  )","पिछली रत","Last Night"]
[null,null,null,null,null,null,null,null,null,null,null,2537,"Age","AGE","युग","DIVISIONS OF TIME ( समय का विभाजन  )","युग","Age"]
[null,null,null,null,null,null,null,null,null,null,null,2538,"Century","CENTURY","शताब्दी","DIVISIONS OF TIME ( समय का विभाजन  )","शताब्दी","Century"]
[null,null,null,null,null,null,null,null,null,null,null,2539,"Era","ERA","युग,संवत","DIVISIONS OF TIME ( समय का विभाजन  )","युग,संवत","Era"]
[null,null,null,null,null,null,null,null,null,null,null,2540,"Birthday","BIRTHDAY","जन्मदिन","DIVISIONS OF TIME ( समय का विभाजन  )","जन्मदिन","Birthday"]
[null,null,null,null,null,null,null,null,null,null,null,2541,"Anniversary","ANNIVERSARY","वार्षिकोत्सव","DIVISIONS OF TIME ( समय का विभाजन  )","वार्षिकोत्सव","Anniversary"]
[null,null,null,null,null,null,null,null,null,null,null,2542,"Centenary","CENTENARY","शताब्दी","DIVISIONS OF TIME ( समय का विभाजन  )","शताब्दी","Centenary"]
[null,null,null,null,null,null,null,null,null,null,null,2543,"Ultimo","ULTIMO","गत माह","DIVISIONS OF TIME ( समय का विभाजन  )","गत माह","Ultimo"]
[null,null,null,null,null,null,null,null,null,null,null,2544,"Proximo","PROXIMO","आगामी माह","DIVISIONS OF TIME ( समय का विभाजन  )","आगामी माह","Proximo"]
[null,null,null,null,null,null,null,null,null,null,null,2545,"Next-Day","NEXT-DAY","अगला दिन","DIVISIONS OF TIME ( समय का विभाजन  )","अगला दिन","Next-Day"]
[null,null,null,null,null,null,null,null,null,null,null,2546,"The Other Day","THE OTHER DAY","अन्य दिन","DIVISIONS OF TIME ( समय का विभाजन  )","अन्य दिन","The Other Day"]
[null,null,null,null,null,null,null,null,null,null,null,2547," Up"," UP","उपर","DIVISIONS OF TIME ( समय का विभाजन  )","उपर"," Up"]
[null,null,null,null,null,null,null,null,null,null,null,2548," Down"," DOWN","निचे","DIVISIONS OF TIME ( समय का विभाजन  )","निचे"," Down"]
[null,null,null,null,null,null,null,null,null,null,null,2549," In"," IN","अंदर","DIVISIONS OF TIME ( समय का विभाजन  )","अंदर"," In"]
[null,null,null,null,null,null,null,null,null,null,null,2550,"Side","SIDE","बगल","DIVISIONS OF TIME ( समय का विभाजन  )","बगल","Side"]
[null,null,null,null,null,null,null,null,null,null,null,2551," Near"," NEAR","पास","DIVISIONS OF TIME ( समय का विभाजन  )","पास"," Near"]
[null,null,null,null,null,null,null,null,null,null,null,2552," Far"," FAR","दूर","DIVISIONS OF TIME ( समय का विभाजन  )","दूर"," Far"]
[null,null,null,null,null,null,null,null,null,null,null,2553," Out"," OUT","बाहर","DIVISIONS OF TIME ( समय का विभाजन  )","बाहर"," Out"]
[null,null,null,null,null,null,null,null,null,null,null,2554,"Home","HOME","घर","BUILDING AND THEIR PARTS ( इमारते एंव उनके भाग )","घर","Home"]
[null,null,null,null,null,null,null,null,null,null,null,2555,"Hamlet","HAMLET","छोटा पुरवा","BUILDING AND THEIR PARTS ( इमारते एंव उनके भाग )","छोटा पुरवा","Hamlet"]
[null,null,null,null,null,null,null,null,null,null,null,2556,"Wall","WALL","दीवार","BUILDING AND THEIR PARTS ( इमारते एंव उनके भाग )","दीवार","Wall"]
[null,null,null,null,null,null,null,null,null,null,null,2557,"Hook","HOOK","अगरी","BUILDING AND THEIR PARTS ( इमारते एंव उनके भाग )","अगरी","Hook"]
[null,null,null,null,null,null,null,null,null,null,null,2558,"Room","ROOM","कमरा","BUILDING AND THEIR PARTS ( इमारते एंव उनके भाग )","कमरा","Room"]
[null,null,null,null,null,null,null,null,null,null,null,2559,"Nail","NAIL","कील","BUILDING AND THEIR PARTS ( इमारते एंव उनके भाग )","कील","Nail"]
[null,null,null,null,null,null,null,null,null,null,null,2560,"House","HOUSE","मकान","BUILDING AND THEIR PARTS ( इमारते एंव उनके भाग )","मकान","House"]
[null,null,null,null,null,null,null,null,null,null,null,2561,"Palace","PALACE","महल","BUILDING AND THEIR PARTS ( इमारते एंव उनके भाग )","महल","Palace"]
[null,null,null,null,null,null,null,null,null,null,null,2562,{"$f":"PROPER(N2590)","v":"Girder"},"GIRDER","शहतीर","BUILDING AND THEIR PARTS ( इमारते एंव उनके भाग )","शहतीर",{"$f":"PROPER(N2590)","v":"Girder"}]
[null,null,null,null,null,null,null,null,null,null,null,2563,"Gutter","GUTTER","पनाला","BUILDING AND THEIR PARTS ( इमारते एंव उनके भाग )","पनाला","Gutter"]
[null,null,null,null,null,null,null,null,null,null,null,2564,"Coal-Tar","COAL-TAR","अलकतरा","BUILDING AND THEIR PARTS ( इमारते एंव उनके भाग )",{"$f":"O2592","v":"अलकतरा"},"Coal-Tar"]
[null,null,null,null,null,null,null,null,null,null,null,2565,"Foundation","FOUNDATION","नींव","BUILDING AND THEIR PARTS ( इमारते एंव उनके भाग )","नींव","Foundation"]
[null,null,null,null,null,null,null,null,null,null,null,2566,"Fountain","FOUNTAIN","फव्वारा","BUILDING AND THEIR PARTS ( इमारते एंव उनके भाग )","फव्वारा","Fountain"]
[null,null,null,null,null,null,null,null,null,null,null,2567,"Peg","PEG","खूंटी","BUILDING AND THEIR PARTS ( इमारते एंव उनके भाग )","खूंटी","Peg"]
[null,null,null,null,null,null,null,null,null,null,null,2568,"Pipe","PIPE","नल","BUILDING AND THEIR PARTS ( इमारते एंव उनके भाग )","नल","Pipe"]
[null,null,null,null,null,null,null,null,null,null,null,2569,"Water Pipe","WATER PIPE","जलकल","BUILDING AND THEIR PARTS ( इमारते एंव उनके भाग )","जलकल","Water Pipe"]
[null,null,null,null,null,null,null,null,null,null,null,2570,"Screw","SCREW","पेच","BUILDING AND THEIR PARTS ( इमारते एंव उनके भाग )","पेच","Screw"]
[null,null,null,null,null,null,null,null,null,null,null,2571,"Storey","STOREY","मंजिल","BUILDING AND THEIR PARTS ( इमारते एंव उनके भाग )","मंजिल","Storey"]
[null,null,null,null,null,null,null,null,null,null,null,2572,"Portico","PORTICO","बरसाती","BUILDING AND THEIR PARTS ( इमारते एंव उनके भाग )","बरसाती","Portico"]
[null,null,null,null,null,null,null,null,null,null,null,2573,"Mud","MUD","कीचड़","BUILDING AND THEIR PARTS ( इमारते एंव उनके भाग )","कीचड़","Mud"]
[null,null,null,null,null,null,null,null,null,null,null,2574,"Lime","LIME","चुना","BUILDING AND THEIR PARTS ( इमारते एंव उनके भाग )","चुना","Lime"]
[null,null,null,null,null,null,null,null,null,null,null,2575,"Hermitage","HERMITAGE","साधूकुटी","BUILDING AND THEIR PARTS ( इमारते एंव उनके भाग )","साधूकुटी","Hermitage"]
[null,null,null,null,null,null,null,null,null,null,null,2576,"Ladder","LADDER","सीड़ी","BUILDING AND THEIR PARTS ( इमारते एंव उनके भाग )","सीड़ी","Ladder"]
[null,null,null,null,null,null,null,null,null,null,null,2577,"  Sand","  SAND","धुल","BUILDING AND THEIR PARTS ( इमारते एंव उनके भाग )","धुल","  Sand"]
[null,null,null,null,null,null,null,null,null,null,null,2578,"Cement","CEMENT","सीमेंट","BUILDING AND THEIR PARTS ( इमारते एंव उनके भाग )","सीमेंट","Cement"]
[null,null,null,null,null,null,null,null,null,null,null,2579,"Rubbish","RUBBISH","कूड़ा","BUILDING AND THEIR PARTS ( इमारते एंव उनके भाग )","कूड़ा","Rubbish"]
[null,null,null,null,null,null,null,null,null,null,null,2580,"Bed-Room","BED-ROOM","सोने का कमरा","BUILDING AND THEIR PARTS ( इमारते एंव उनके भाग )","सोने का कमरा","Bed-Room"]
[null,null,null,null,null,null,null,null,null,null,null,2581,"Reading Room","READING ROOM","पढने का कमरा","BUILDING AND THEIR PARTS ( इमारते एंव उनके भाग )","पढने का कमरा","Reading Room"]
[null,null,null,null,null,null,null,null,null,null,null,2582,"Dining Room","DINING ROOM","भोजन कक्ष","BUILDING AND THEIR PARTS ( इमारते एंव उनके भाग )","भोजन कक्ष","Dining Room"]
[null,null,null,null,null,null,null,null,null,null,null,2583,"Staircase","STAIRCASE","सीढी","BUILDING AND THEIR PARTS ( इमारते एंव उनके भाग )","सीढी","Staircase"]
[null,null,null,null,null,null,null,null,null,null,null,2584," Shutter"," SHUTTER","किवाड़","BUILDING AND THEIR PARTS ( इमारते एंव उनके भाग )","किवाड़"," Shutter"]
[null,null,null,null,null,null,null,null,null,null,null,2585,"Platform","PLATFORM","चबूतरा","BUILDING AND THEIR PARTS ( इमारते एंव उनके भाग )","चबूतरा","Platform"]
[null,null,null,null,null,null,null,null,null,null,null,2586,"School","SCHOOL","विद्यालय","BUILDING AND THEIR PARTS ( इमारते एंव उनके भाग )","विद्यालय","School"]
[null,null,null,null,null,null,null,null,null,null,null,2587,"Building","BUILDING","इमारत","BUILDING AND THEIR PARTS ( इमारते एंव उनके भाग )","इमारत","Building"]
[null,null,null,null,null,null,null,null,null,null,null,2588,"Drawing Room","DRAWING ROOM","बैठक","BUILDING AND THEIR PARTS ( इमारते एंव उनके भाग )","बैठक","Drawing Room"]
[null,null,null,null,null,null,null,null,null,null,null,2589," Office"," OFFICE","कार्यालय","BUILDING AND THEIR PARTS ( इमारते एंव उनके भाग )","कार्यालय"," Office"]
[null,null,null,null,null,null,null,null,null,null,null,2590,"Temple","TEMPLE","मंदिर","BUILDING AND THEIR PARTS ( इमारते एंव उनके भाग )","मंदिर","Temple"]
[null,null,null,null,null,null,null,null,null,null,null,2591,"Mosque","MOSQUE","मस्जिद","BUILDING AND THEIR PARTS ( इमारते एंव उनके भाग )","मस्जिद","Mosque"]
[null,null,null,null,null,null,null,null,null,null,null,2592,"Minaret","MINARET","मस्जिद की मीनार","BUILDING AND THEIR PARTS ( इमारते एंव उनके भाग )","मस्जिद की मीनार","Minaret"]
[null,null,null,null,null,null,null,null,null,null,null,2593,"Church","CHURCH","गिरजाघर","BUILDING AND THEIR PARTS ( इमारते एंव उनके भाग )","गिरजाघर","Church"]
[null,null,null,null,null,null,null,null,null,null,null,2594,"Vault","VAULT","गुम्बद","BUILDING AND THEIR PARTS ( इमारते एंव उनके भाग )","गुम्बद","Vault"]
[null,null,null,null,null,null,null,null,null,null,null,2595,"Parlour","PARLOUR","बैठक","BUILDING AND THEIR PARTS ( इमारते एंव उनके भाग )","बैठक","Parlour"]
[null,null,null,null,null,null,null,null,null,null,null,2596,"Stable","STABLE","अस्तबल","BUILDING AND THEIR PARTS ( इमारते एंव उनके भाग )","अस्तबल","Stable"]
[null,null,null,null,null,null,null,null,null,null,null,2597,"Cowshed","COWSHED","गोशाला","BUILDING AND THEIR PARTS ( इमारते एंव उनके भाग )","गोशाला","Cowshed"]
[null,null,null,null,null,null,null,null,null,null,null,2598," Arch"," ARCH","मेहराब","BUILDING AND THEIR PARTS ( इमारते एंव उनके भाग )","मेहराब"," Arch"]
[null,null,null,null,null,null,null,null,null,null,null,2599,"Step","STEP","सीढी का डंडा","BUILDING AND THEIR PARTS ( इमारते एंव उनके भाग )","सीढी का डंडा","Step"]
[null,null,null,null,null,null,null,null,null,null,null,2600,"Tile","TILE","खपरैल","BUILDING AND THEIR PARTS ( इमारते एंव उनके भाग )","खपरैल","Tile"]
[null,null,null,null,null,null,null,null,null,null,null,2601,"Hut","HUT","झोपड़ी","BUILDING AND THEIR PARTS ( इमारते एंव उनके भाग )","झोपड़ी","Hut"]
[null,null,null,null,null,null,null,null,null,null,null,2602,"Paint","PAINT","रँग","BUILDING AND THEIR PARTS ( इमारते एंव उनके भाग )","रँग","Paint"]
[null,null,null,null,null,null,null,null,null,null,null,2603,"Cottage","COTTAGE","कोठी","BUILDING AND THEIR PARTS ( इमारते एंव उनके भाग )","कोठी","Cottage"]
[null,null,null,null,null,null,null,null,null,null,null,2604,"Tiled Hut","TILED HUT","खपरैल की झोंपड़ी","BUILDING AND THEIR PARTS ( इमारते एंव उनके भाग )","खपरैल की झोंपड़ी","Tiled Hut"]
[null,null,null,null,null,null,null,null,null,null,null,2605,"Shop","SHOP","दुकान","BUILDING AND THEIR PARTS ( इमारते एंव उनके भाग )","दुकान","Shop"]
[null,null,null,null,null,null,null,null,null,null,null,2606,"Store Room","STORE ROOM","भंडार","BUILDING AND THEIR PARTS ( इमारते एंव उनके भाग )","भंडार","Store Room"]
[null,null,null,null,null,null,null,null,null,null,null,2607," Urinal"," URINAL","पेशाब घर","BUILDING AND THEIR PARTS ( इमारते एंव उनके भाग )","पेशाब घर"," Urinal"]
[null,null,null,null,null,null,null,null,null,null,null,2608," Godown"," GODOWN","गोदाम","BUILDING AND THEIR PARTS ( इमारते एंव उनके भाग )","गोदाम"," Godown"]
[null,null,null,null,null,null,null,null,null,null,null,2609,"Privy","PRIVY","पायदान","BUILDING AND THEIR PARTS ( इमारते एंव उनके भाग )","पायदान","Privy"]
[null,null,null,null,null,null,null,null,null,null,null,2610,"Latrine","LATRINE","शोचालय","BUILDING AND THEIR PARTS ( इमारते एंव उनके भाग )","शोचालय","Latrine"]
[null,null,null,null,null,null,null,null,null,null,null,2611," Dispensary"," DISPENSARY","औषधालय","BUILDING AND THEIR PARTS ( इमारते एंव उनके भाग )","औषधालय"," Dispensary"]
[null,null,null,null,null,null,null,null,null,null,null,2612,"Bolt","BOLT","सिटकनी","BUILDING AND THEIR PARTS ( इमारते एंव उनके भाग )","सिटकनी","Bolt"]
[null,null,null,null,null,null,null,null,null,null,null,2613," Rafter"," RAFTER","कड़ी","BUILDING AND THEIR PARTS ( इमारते एंव उनके भाग )","कड़ी"," Rafter"]
[null,null,null,null,null,null,null,null,null,null,null,2614,"Collage","COLLAGE","महाविद्यालय","BUILDING AND THEIR PARTS ( इमारते एंव उनके भाग )","महाविद्यालय","Collage"]
[null,null,null,null,null,null,null,null,null,null,null,2615,"Window","WINDOW","खिड़की","BUILDING AND THEIR PARTS ( इमारते एंव उनके भाग )","खिड़की","Window"]
[null,null,null,null,null,null,null,null,null,null,null,2616,"Workshop","WORKSHOP","कारखाना","BUILDING AND THEIR PARTS ( इमारते एंव उनके भाग )","कारखाना","Workshop"]
[null,null,null,null,null,null,null,null,null,null,null,2617,"Library","LIBRARY","पुश्ताकालय","BUILDING AND THEIR PARTS ( इमारते एंव उनके भाग )","पुश्ताकालय","Library"]
[null,null,null,null,null,null,null,null,null,null,null,2618,"Hotel","HOTEL","होटल","BUILDING AND THEIR PARTS ( इमारते एंव उनके भाग )","होटल","Hotel"]
[null,null,null,null,null,null,null,null,null,null,null,2619,"Pillar","PILLAR","खम्बा","BUILDING AND THEIR PARTS ( इमारते एंव उनके भाग )","खम्बा","Pillar"]
[null,null,null,null,null,null,null,null,null,null,null,2620,"Courtyard","COURTYARD","आगन","BUILDING AND THEIR PARTS ( इमारते एंव उनके भाग )","आगन","Courtyard"]
[null,null,null,null,null,null,null,null,null,null,null,2621," Door"," DOOR","दरवाजा","BUILDING AND THEIR PARTS ( इमारते एंव उनके भाग )","दरवाजा"," Door"]
[null,null,null,null,null,null,null,null,null,null,null,2622,"Drain","DRAIN","नाली","BUILDING AND THEIR PARTS ( इमारते एंव उनके भाग )","नाली","Drain"]
[null,null,null,null,null,null,null,null,null,null,null,2623," Plaster"," PLASTER","पलस्टर","BUILDING AND THEIR PARTS ( इमारते एंव उनके भाग )","पलस्टर"," Plaster"]
[null,null,null,null,null,null,null,null,null,null,null,2624,"Door","DOOR","दरवाजा","BUILDING AND THEIR PARTS ( इमारते एंव उनके भाग )","दरवाजा","Door"]
[null,null,null,null,null,null,null,null,null,null,null,2625,"Door-Sill","DOOR-SILL","दहलीज","BUILDING AND THEIR PARTS ( इमारते एंव उनके भाग )","दहलीज","Door-Sill"]
[null,null,null,null,null,null,null,null,null,null,null,2626,{"$f":"PROPER(N2654)","v":"Shutter"},"SHUTTER","शटर","BUILDING AND THEIR PARTS ( इमारते एंव उनके भाग )","शटर",{"$f":"PROPER(N2654)","v":"Shutter"}]
[null,null,null,null,null,null,null,null,null,null,null,2627,"Beam","BEAM","धारण","BUILDING AND THEIR PARTS ( इमारते एंव उनके भाग )","धारण","Beam"]
[null,null,null,null,null,null,null,null,null,null,null,2628,"Hospital","HOSPITAL","अस्पताल","BUILDING AND THEIR PARTS ( इमारते एंव उनके भाग )",{"$f":"O2656","v":"अस्पताल"},"Hospital"]
[null,null,null,null,null,null,null,null,null,null,null,2629,"Lattice","LATTICE","पत्थर की झाली","BUILDING AND THEIR PARTS ( इमारते एंव उनके भाग )","पत्थर की झाली","Lattice"]
[null,null,null,null,null,null,null,null,null,null,null,2630,"Post","POST","खूंटी","BUILDING AND THEIR PARTS ( इमारते एंव उनके भाग )","खूंटी","Post"]
[null,null,null,null,null,null,null,null,null,null,null,2631,"Inn","INN","सराय","BUILDING AND THEIR PARTS ( इमारते एंव उनके भाग )","सराय","Inn"]
[null,null,null,null,null,null,null,null,null,null,null,2632,"Latch","LATCH","सांकल","BUILDING AND THEIR PARTS ( इमारते एंव उनके भाग )","सांकल","Latch"]
[null,null,null,null,null,null,null,null,null,null,null,2633,"Urinal","URINAL","पेशाबघर","BUILDING AND THEIR PARTS ( इमारते एंव उनके भाग )","पेशाबघर","Urinal"]
[null,null,null,null,null,null,null,null,null,null,null,2634,"Solution","solution","हल,समाधान","SCHOOL RELATIVE  ( विद्यालय सम्बन्धी  )","हल,समाधान","Solution"]
[null,null,null,null,null,null,null,null,null,null,null,2635,"First-Flore","FIRST-FLORE","एक्ताल्ला","BUILDING AND THEIR PARTS ( इमारते एंव उनके भाग )","एक्ताल्ला","First-Flore"]
[null,null,null,null,null,null,null,null,null,null,null,2636,"Roof","ROOF","छत","BUILDING AND THEIR PARTS ( इमारते एंव उनके भाग )","छत","Roof"]
[null,null,null,null,null,null,null,null,null,null,null,2637,"Bar","BAR","लिहे की छड","BUILDING AND THEIR PARTS ( इमारते एंव उनके भाग )","लिहे की छड","Bar"]
[null,null,null,null,null,null,null,null,null,null,null,2638,"Floor","FLOOR","आगन","BUILDING AND THEIR PARTS ( इमारते एंव उनके भाग )","आगन","Floor"]
[null,null,null,null,null,null,null,null,null,null,null,2639,"White-Wash","WHITE-WASH","सफ़ेदी","BUILDING AND THEIR PARTS ( इमारते एंव उनके भाग )","सफ़ेदी","White-Wash"]
[null,null,null,null,null,null,null,null,null,null,null,2640,"Celling","CELLING","छत","BUILDING AND THEIR PARTS ( इमारते एंव उनके भाग )","छत","Celling"]
[null,null,null,null,null,null,null,null,null,null,null,2641,"Gravel","GRAVEL","कांकड़","BUILDING AND THEIR PARTS ( इमारते एंव उनके भाग )","कांकड़","Gravel"]
[null,null,null,null,null,null,null,null,null,null,null,2642,"Garden","GARDEN","बगीचा","BUILDING AND THEIR PARTS ( इमारते एंव उनके भाग )","बगीचा","Garden"]
[null,null,null,null,null,null,null,null,null,null,null,2643,"Brick","BRICK","ईंट","BUILDING AND THEIR PARTS ( इमारते एंव उनके भाग )","ईंट","Brick"]
[null,null,null,null,null,null,null,null,null,null,null,2644,"Grating","GRATING","जाली","BUILDING AND THEIR PARTS ( इमारते एंव उनके भाग )","जाली","Grating"]
[null,null,null,null,null,null,null,null,null,null,null,2645,"Ground-Floor","GROUND-FLOOR","भूतल","BUILDING AND THEIR PARTS ( इमारते एंव उनके भाग )","भूतल","Ground-Floor"]
[null,null,null,null,null,null,null,null,null,null,null,2646,"Bathroom","BATHROOM","स्नानघर","BUILDING AND THEIR PARTS ( इमारते एंव उनके भाग )","स्नानघर","Bathroom"]
[null,null,null,null,null,null,null,null,null,null,null,2647,"Gate","GATE","फाटक","BUILDING AND THEIR PARTS ( इमारते एंव उनके भाग )","फाटक","Gate"]
[null,null,null,null,null,null,null,null,null,null,null,2648,"Sash","SASH","सदसी","BUILDING AND THEIR PARTS ( इमारते एंव उनके भाग )","सदसी","Sash"]
[null,null,null,null,null,null,null,null,null,null,null,2649,"Rafter","RAFTER","घंनो","BUILDING AND THEIR PARTS ( इमारते एंव उनके भाग )","घंनो","Rafter"]
[null,null,null,null,null,null,null,null,null,null,null,2650,"Niche","NICHE","तास्त्र","BUILDING AND THEIR PARTS ( इमारते एंव उनके भाग )","तास्त्र","Niche"]
[null,null,null,null,null,null,null,null,null,null,null,2651,"Compound","COMPOUND","आँगन","BUILDING AND THEIR PARTS ( इमारते एंव उनके भाग )","आँगन","Compound"]
[null,null,null,null,null,null,null,null,null,null,null,2652,"Arch","ARCH","खिलन","BUILDING AND THEIR PARTS ( इमारते एंव उनके भाग )","खिलन","Arch"]
[null,null,null,null,null,null,null,null,null,null,null,2653,"Hinge","HINGE","कब्ज़ा","BUILDING AND THEIR PARTS ( इमारते एंव उनके भाग )","कब्ज़ा","Hinge"]
[null,null,null,null,null,null,null,null,null,null,null,2654,"Rail","RAIL","छड","BUILDING AND THEIR PARTS ( इमारते एंव उनके भाग )","छड","Rail"]
[null,null,null,null,null,null,null,null,null,null,null,2655,"Treshhold","TRESHHOLD","चौखट","BUILDING AND THEIR PARTS ( इमारते एंव उनके भाग )","चौखट","Treshhold"]
[null,null,null,null,null,null,null,null,null,null,null,2656,"Shed","SHED","छप्पर","BUILDING AND THEIR PARTS ( इमारते एंव उनके भाग )","छप्पर","Shed"]
[null,null,null,null,null,null,null,null,null,null,null,2657,"Puppy","puppy","कुत्ते का बच्चा ( पिल्ला )","YOUNG ONES OF ANIMALS ( जानवरों के बच्चे )","कुत्ते का बच्चा ( पिल्ला )","Puppy"]
[null,null,null,null,null,null,null,null,null,null,null,2658,"Calf","calf","बछड़ा","YOUNG ONES OF ANIMALS ( जानवरों के बच्चे )","बछड़ा","Calf"]
[null,null,null,null,null,null,null,null,null,null,null,2659,"Kid","kid","बकरी का बच्चा","YOUNG ONES OF ANIMALS ( जानवरों के बच्चे )","बकरी का बच्चा","Kid"]
[null,null,null,null,null,null,null,null,null,null,null,2660,"Kitten","kitten","बिल्ली का बच्चा","YOUNG ONES OF ANIMALS ( जानवरों के बच्चे )","बिल्ली का बच्चा","Kitten"]
[null,null,null,null,null,null,null,null,null,null,null,2661,"Fawn","fawn","हरिन-शावक ( मृगशावक )","YOUNG ONES OF ANIMALS ( जानवरों के बच्चे )","हरिन-शावक ( मृगशावक )","Fawn"]
[null,null,null,null,null,null,null,null,null,null,null,2662,"Lamp","lamp","भेड़ का बच्चा","YOUNG ONES OF ANIMALS ( जानवरों के बच्चे )","भेड़ का बच्चा","Lamp"]
[null,null,null,null,null,null,null,null,null,null,null,2663,"Gosling","gosling","राजहंस का बच्चा","YOUNG ONES OF ANIMALS ( जानवरों के बच्चे )","राजहंस का बच्चा","Gosling"]
[null,null,null,null,null,null,null,null,null,null,null,2664,"Colt","colt","घोड़े का बच्चा","YOUNG ONES OF ANIMALS ( जानवरों के बच्चे )","घोड़े का बच्चा","Colt"]
[null,null,null,null,null,null,null,null,null,null,null,2665,"Duckling","duckling","हंस का बच्चा","YOUNG ONES OF ANIMALS ( जानवरों के बच्चे )","हंस का बच्चा","Duckling"]
[null,null,null,null,null,null,null,null,null,null,null,2666,"Chicken","chicken","मुर्गी का बच्चा","YOUNG ONES OF ANIMALS ( जानवरों के बच्चे )","मुर्गी का बच्चा","Chicken"]
[null,null,null,null,null,null,null,null,null,null,null,2667,"Pig","pig","सूअर का बच्चा","YOUNG ONES OF ANIMALS ( जानवरों के बच्चे )","सूअर का बच्चा","Pig"]
[null,null,null,null,null,null,null,null,null,null,null,2668,"Cub","cub","सिंह या बाघ का बच्चा","YOUNG ONES OF ANIMALS ( जानवरों के बच्चे )","सिंह या बाघ का बच्चा","Cub"]
[null,null,null,null,null,null,null,null,null,null,null,2669,"Lowing","lowing","गाय की आवाज","CRIES OF ANIMALS ( पशु-पक्षियों की बोली )","गाय की आवाज","Lowing"]
[null,null,null,null,null,null,null,null,null,null,null,2670,"Bellowing","bellowing","डकारना,सांड की आवाज","CRIES OF ANIMALS ( पशु-पक्षियों की बोली )","डकारना,सांड की आवाज","Bellowing"]
[null,null,null,null,null,null,null,null,null,null,null,2671,"Mewing","mewing","बिल्ली की बोली","CRIES OF ANIMALS ( पशु-पक्षियों की बोली )","बिल्ली की बोली","Mewing"]
[null,null,null,null,null,null,null,null,null,null,null,2672,"Braying","braying","गधे का रेंकना","CRIES OF ANIMALS ( पशु-पक्षियों की बोली )","गधे का रेंकना","Braying"]
[null,null,null,null,null,null,null,null,null,null,null,2673,"Bleating","bleating","भेड़ का मिमियाना","CRIES OF ANIMALS ( पशु-पक्षियों की बोली )","भेड़ का मिमियाना","Bleating"]
[null,null,null,null,null,null,null,null,null,null,null,2674,"Howling","howling","सियार की बोली","CRIES OF ANIMALS ( पशु-पक्षियों की बोली )","सियार की बोली","Howling"]
[null,null,null,null,null,null,null,null,null,null,null,2675,"Barking","barking","कुत्ते का भोंकना","CRIES OF ANIMALS ( पशु-पक्षियों की बोली )","कुत्ते का भोंकना","Barking"]
[null,null,null,null,null,null,null,null,null,null,null,2676,"Neighing","neighing","घोड़े का हिनहिनाना","CRIES OF ANIMALS ( पशु-पक्षियों की बोली )","घोड़े का हिनहिनाना","Neighing"]
[null,null,null,null,null,null,null,null,null,null,null,2677,"Cawing","cawing","कौवे की आवाज,काँव-काँव","CRIES OF ANIMALS ( पशु-पक्षियों की बोली )","कौवे की आवाज,काँव-काँव","Cawing"]
[null,null,null,null,null,null,null,null,null,null,null,2678,"Crowing","crowing","मुर्गे की बोली,बांग देना","CRIES OF ANIMALS ( पशु-पक्षियों की बोली )","मुर्गे की बोली,बांग देना","Crowing"]
[null,null,null,null,null,null,null,null,null,null,null,2679,"Quacking","quacking","बत्तख की बोली","CRIES OF ANIMALS ( पशु-पक्षियों की बोली )","बत्तख की बोली","Quacking"]
[null,null,null,null,null,null,null,null,null,null,null,2680,"Cooing","cooing","गुटरगू","CRIES OF ANIMALS ( पशु-पक्षियों की बोली )","गुटरगू","Cooing"]
[null,null,null,null,null,null,null,null,null,null,null,2681,"Croacking","croacking","मेंढक का टर्राना","CRIES OF ANIMALS ( पशु-पक्षियों की बोली )","मेंढक का टर्राना","Croacking"]
[null,null,null,null,null,null,null,null,null,null,null,2682,"Hissing","hissing","सांप की फुंफकार","CRIES OF ANIMALS ( पशु-पक्षियों की बोली )","सांप की फुंफकार","Hissing"]
[null,null,null,null,null,null,null,null,null,null,null,2683,"Roaring","roaring","सिंह की दहाड़,मेघ तथा समुद्र का गर्जन","CRIES OF ANIMALS ( पशु-पक्षियों की बोली )","सिंह की दहाड़,मेघ तथा समुद्र का गर्जन","Roaring"]
[null,null,null,null,null,null,null,null,null,null,null,2684,"Growling","growling","बाघ,भालू का गर्जन ","CRIES OF ANIMALS ( पशु-पक्षियों की बोली )","बाघ,भालू का गर्जन ","Growling"]
[null,null,null,null,null,null,null,null,null,null,null,2685,"Hummimg","hummimg","मक्खियों का भिनभिनाना","CRIES OF ANIMALS ( पशु-पक्षियों की बोली )","मक्खियों का भिनभिनाना","Hummimg"]
[null,null,null,null,null,null,null,null,null,null,null,2686,"Cacking","cacking","राजहंस की बोली","CRIES OF ANIMALS ( पशु-पक्षियों की बोली )","राजहंस की बोली","Cacking"]
[null,null,null,null,null,null,null,null,null,null,null,2687,"Plantain","plantain","केला","FRUITS NAME ( फलो के नाम )","केला","Plantain"]
[null,null,null,null,null,null,null,null,null,null,null,2688,"Lichi","lichi","लीची","FRUITS NAME ( फलो के नाम )","लीची","Lichi"]
[null,null,null,null,null,null,null,null,null,null,null,2689,"Pistachio","pistachio","पिस्ता","FRUITS NAME ( फलो के नाम )","पिस्ता","Pistachio"]
[null,null,null,null,null,null,null,null,null,null,null,2690,{"$f":"PROPER(N2718)","v":"Green Cconut"},"green cconut","कच्चा नारियल","FRUITS NAME ( फलो के नाम )","कच्चा नारियल",{"$f":"PROPER(N2718)","v":"Green Cconut"}]
[null,null,null,null,null,null,null,null,null,null,null,2691,"Plum","plum","बेर","FRUITS NAME ( फलो के नाम )","बेर","Plum"]
[null,null,null,null,null,null,null,null,null,null,null,2692,"Blackberry","blackberry","जामुन","FRUITS NAME ( फलो के नाम )",{"$f":"O2720","v":"जामुन"},"Blackberry"]
[null,null,null,null,null,null,null,null,null,null,null,2693,"Date","date","खजूर","FRUITS NAME ( फलो के नाम )","खजूर","Date"]
[null,null,null,null,null,null,null,null,null,null,null,2694,"Cucumber","cucumber","खीरा","FRUITS NAME ( फलो के नाम )","खीरा","Cucumber"]
[null,null,null,null,null,null,null,null,null,null,null,2695,"Castard-Apple","castard-apple","शरीफा","FRUITS NAME ( फलो के नाम )","शरीफा","Castard-Apple"]
[null,null,null,null,null,null,null,null,null,null,null,2696,"Pomegranate ","pomegranate ","अनार","FRUITS NAME ( फलो के नाम )","अनार","Pomegranate "]
[null,null,null,null,null,null,null,null,null,null,null,2697,"Almond","almond","बादाम","FRUITS NAME ( फलो के नाम )","बादाम","Almond"]
[null,null,null,null,null,null,null,null,null,null,null,2698,"Guava","guava","अमरुद","FRUITS NAME ( फलो के नाम )","अमरुद","Guava"]
[null,null,null,null,null,null,null,null,null,null,null,2699,"Olive","olive","जैतून","FRUITS NAME ( फलो के नाम )","जैतून","Olive"]
[null,null,null,null,null,null,null,null,null,null,null,2700,"Tamarind","tamarind","इमली","FRUITS NAME ( फलो के नाम )","इमली","Tamarind"]
[null,null,null,null,null,null,null,null,null,null,null,2701,"Raisin","raisin","किशमिश,मुनक्का","FRUITS NAME ( फलो के नाम )","किशमिश,मुनक्का","Raisin"]
[null,null,null,null,null,null,null,null,null,null,null,2702,"Jackkfruit","jackkfruit","कटहल","FRUITS NAME ( फलो के नाम )","कटहल","Jackkfruit"]
[null,null,null,null,null,null,null,null,null,null,null,2703,"Gooseberry","gooseberry","टिपारी","FRUITS NAME ( फलो के नाम )","टिपारी","Gooseberry"]
[null,null,null,null,null,null,null,null,null,null,null,2704,"Stone-Apple","stone-apple","कैथबेल","FRUITS NAME ( फलो के नाम )","कैथबेल","Stone-Apple"]
[null,null,null,null,null,null,null,null,null,null,null,2705,"Groundnut","groundnut","मूंगफली","FRUITS NAME ( फलो के नाम )","मूंगफली","Groundnut"]
[null,null,null,null,null,null,null,null,null,null,null,2706,"Watermelon","watermelon","तरबूज","FRUITS NAME ( फलो के नाम )","तरबूज","Watermelon"]
[null,null,null,null,null,null,null,null,null,null,null,2707,"Melon","melon","ककड़ी","FRUITS NAME ( फलो के नाम )","ककड़ी","Melon"]
[null,null,null,null,null,null,null,null,null,null,null,2708,"Hogplum","hogplum","अमडा","FRUITS NAME ( फलो के नाम )","अमडा","Hogplum"]
[null,null,null,null,null,null,null,null,null,null,null,2709,"Roseberry","roseberry","गुलाब जामुन","FRUITS NAME ( फलो के नाम )","गुलाब जामुन","Roseberry"]
[null,null,null,null,null,null,null,null,null,null,null,2710,"Muskmelon","muskmelon","खरबूजा","FRUITS NAME ( फलो के नाम )","खरबूजा","Muskmelon"]
[null,null,null,null,null,null,null,null,null,null,null,2711,"Star-Apple","star-apple","जमरूल","FRUITS NAME ( फलो के नाम )","जमरूल","Star-Apple"]
[null,null,null,null,null,null,null,null,null,null,null,2712,"Palmyra","palmyra","ताड","FRUITS NAME ( फलो के नाम )","ताड","Palmyra"]
[null,null,null,null,null,null,null,null,null,null,null,2713,"Tree","tree","पेड़","TREES AND PLANTS ( पेड़,पौधे )","पेड़","Tree"]
[null,null,null,null,null,null,null,null,null,null,null,2714,"Plant","plant","पौधे","TREES AND PLANTS ( पेड़,पौधे )","पौधे","Plant"]
[null,null,null,null,null,null,null,null,null,null,null,2715,"Sal-Tree","sal-tree","साल वृक्ष","TREES AND PLANTS ( पेड़,पौधे )","साल वृक्ष","Sal-Tree"]
[null,null,null,null,null,null,null,null,null,null,null,2716,"Teak-Tree","teak-tree","सागवान का पेड़","TREES AND PLANTS ( पेड़,पौधे )","सागवान का पेड़","Teak-Tree"]
[null,null,null,null,null,null,null,null,null,null,null,2717,"Bamboo","bamboo","बांस","TREES AND PLANTS ( पेड़,पौधे )","बांस","Bamboo"]
[null,null,null,null,null,null,null,null,null,null,null,2718,"Jackfruit-Tree","jackfruit-tree","कटहल का पेड़","TREES AND PLANTS ( पेड़,पौधे )","कटहल का पेड़","Jackfruit-Tree"]
[null,null,null,null,null,null,null,null,null,null,null,2719,"Tamarind-Tree","tamarind-tree","इमली का पेड़","TREES AND PLANTS ( पेड़,पौधे )","इमली का पेड़","Tamarind-Tree"]
[null,null,null,null,null,null,null,null,null,null,null,2720,"Thorn","thorn","काँटा","TREES AND PLANTS ( पेड़,पौधे )","काँटा","Thorn"]
[null,null,null,null,null,null,null,null,null,null,null,2721,"Weed","weed","अन्वाछित पौधे","TREES AND PLANTS ( पेड़,पौधे )","अन्वाछित पौधे","Weed"]
[null,null,null,null,null,null,null,null,null,null,null,2722,"Coconut-Tree","coconut-tree","नारियल का पेड़","TREES AND PLANTS ( पेड़,पौधे )","नारियल का पेड़","Coconut-Tree"]
[null,null,null,null,null,null,null,null,null,null,null,2723,"Acacia-Tree","acacia-tree","बाबुल का पेड़","TREES AND PLANTS ( पेड़,पौधे )","बाबुल का पेड़","Acacia-Tree"]
[null,null,null,null,null,null,null,null,null,null,null,2724,"Palmyra-Tree","palmyra-tree","ताड-वृक्ष","TREES AND PLANTS ( पेड़,पौधे )","ताड-वृक्ष","Palmyra-Tree"]
[null,null,null,null,null,null,null,null,null,null,null,2725,"Date-Tree","date-tree","खजूर-वृक्ष","TREES AND PLANTS ( पेड़,पौधे )","खजूर-वृक्ष","Date-Tree"]
[null,null,null,null,null,null,null,null,null,null,null,2726,"Batelnut-Tree","batelnut-tree","सुपारी का पेड़","TREES AND PLANTS ( पेड़,पौधे )","सुपारी का पेड़","Batelnut-Tree"]
[null,null,null,null,null,null,null,null,null,null,null,2727,"Guava-Tree","guava-tree","अमरुद का पेड़","TREES AND PLANTS ( पेड़,पौधे )","अमरुद का पेड़","Guava-Tree"]
[null,null,null,null,null,null,null,null,null,null,null,2728,"Banian-Tree","banian-tree","वाट-वृक्ष","TREES AND PLANTS ( पेड़,पौधे )","वाट-वृक्ष","Banian-Tree"]
[null,null,null,null,null,null,null,null,null,null,null,2729,"Peepul-Tree","peepul-tree","पीपल का पेड़","TREES AND PLANTS ( पेड़,पौधे )","पीपल का पेड़","Peepul-Tree"]
[null,null,null,null,null,null,null,null,null,null,null,2730,"Hemp","hemp","गांजा,भांग","TREES AND PLANTS ( पेड़,पौधे )","गांजा,भांग","Hemp"]
[null,null,null,null,null,null,null,null,null,null,null,2731,"Silk-Cotton Tree","silk-cotton tree","सेमल का पेड़","TREES AND PLANTS ( पेड़,पौधे )","सेमल का पेड़","Silk-Cotton Tree"]
[null,null,null,null,null,null,null,null,null,null,null,2732,"Pine-Tree","pine-tree","देवदारु का पेड़","TREES AND PLANTS ( पेड़,पौधे )","देवदारु का पेड़","Pine-Tree"]
[null,null,null,null,null,null,null,null,null,null,null,2733,"Sandal-Tree","sandal-tree","चन्दन का पेड़ ","TREES AND PLANTS ( पेड़,पौधे )","चन्दन का पेड़ ","Sandal-Tree"]
[null,null,null,null,null,null,null,null,null,null,null,2734,"Fig-Tree","fig-tree","गुलर का पेड़,अंजीर का पेड़","TREES AND PLANTS ( पेड़,पौधे )","गुलर का पेड़,अंजीर का पेड़","Fig-Tree"]
[null,null,null,null,null,null,null,null,null,null,null,2735,"Leaf","leaf","पत्ता","TREES AND PLANTS ( पेड़,पौधे )","पत्ता","Leaf"]
[null,null,null,null,null,null,null,null,null,null,null,2736,"Parasite","parasite","परजीवी लता","TREES AND PLANTS ( पेड़,पौधे )","परजीवी लता","Parasite"]
[null,null,null,null,null,null,null,null,null,null,null,2737,"Tea-Plant","tea-plant","चाय का पौधा","TREES AND PLANTS ( पेड़,पौधे )","चाय का पौधा","Tea-Plant"]
[null,null,null,null,null,null,null,null,null,null,null,2738,"Flax-Plant","flax-plant","सनई का पौधा","TREES AND PLANTS ( पेड़,पौधे )","सनई का पौधा","Flax-Plant"]
[null,null,null,null,null,null,null,null,null,null,null,2739,"Cane-Plant","cane-plant","बेंत का पौधा","TREES AND PLANTS ( पेड़,पौधे )","बेंत का पौधा","Cane-Plant"]
[null,null,null,null,null,null,null,null,null,null,null,2740,"Mango-Tree","mango-tree","आम का पेड़","TREES AND PLANTS ( पेड़,पौधे )","आम का पेड़","Mango-Tree"]
[null,null,null,null,null,null,null,null,null,null,null,2741,"Creeper","creeper","लता","TREES AND PLANTS ( पेड़,पौधे )","लता","Creeper"]
[null,null,null,null,null,null,null,null,null,null,null,2742,"Shrub","shrub","गुल्म","TREES AND PLANTS ( पेड़,पौधे )","गुल्म","Shrub"]
[null,null,null,null,null,null,null,null,null,null,null,2743,"Grass","grass","घास","TREES AND PLANTS ( पेड़,पौधे )","घास","Grass"]
[null,null,null,null,null,null,null,null,null,null,null,2744," Root"," root","जड़","TREES AND PLANTS ( पेड़,पौधे )","जड़"," Root"]
[null,null,null,null,null,null,null,null,null,null,null,2745,"Banana-Plant","banana-plant","केले का पौधा","TREES AND PLANTS ( पेड़,पौधे )","केले का पौधा","Banana-Plant"]
[null,null,null,null,null,null,null,null,null,null,null,2746,"Jute-Plant'","jute-plant'","पटसन का पौधा","TREES AND PLANTS ( पेड़,पौधे )","पटसन का पौधा","Jute-Plant'"]
[null,null,null,null,null,null,null,null,null,null,null,2747,"Sugarcane","sugarcane","गन्ना","TREES AND PLANTS ( पेड़,पौधे )","गन्ना","Sugarcane"]
[null,null,null,null,null,null,null,null,null,null,null,2748,"Grapevine","grapevine","अंगूर की लता","TREES AND PLANTS ( पेड़,पौधे )","अंगूर की लता","Grapevine"]
[null,null,null,null,null,null,null,null,null,null,null,2749,"Castor-Oil Plant","castor-oil plant","रेंडी (अंडी) का पौधा","TREES AND PLANTS ( पेड़,पौधे )","रेंडी (अंडी) का पौधा","Castor-Oil Plant"]
[null,null,null,null,null,null,null,null,null,null,null,2750,"Paddy Plant","paddy plant","धान का पौधा ","TREES AND PLANTS ( पेड़,पौधे )","धान का पौधा ","Paddy Plant"]
[null,null,null,null,null,null,null,null,null,null,null,2751,"Cotton-Plant","cotton-plant","कपास का पौधा","TREES AND PLANTS ( पेड़,पौधे )","कपास का पौधा","Cotton-Plant"]
[null,null,null,null,null,null,null,null,null,null,null,2752,"Branch","branch","टहनी,शाखा,डाल","TREES AND PLANTS ( पेड़,पौधे )","टहनी,शाखा,डाल","Branch"]
[null,null,null,null,null,null,null,null,null,null,null,2753,"Stem","stem","डंठल","TREES AND PLANTS ( पेड़,पौधे )","डंठल","Stem"]
[null,null,null,null,null,null,null,null,null,null,null,2754,{"$f":"PROPER(N2782)","v":"Trunk"},"trunk","तना","TREES AND PLANTS ( पेड़,पौधे )","तना",{"$f":"PROPER(N2782)","v":"Trunk"}]
[null,null,null,null,null,null,null,null,null,null,null,2755,"Water-Hyacinth","water-hyacinth","जलकुंभी","TREES AND PLANTS ( पेड़,पौधे )","जलकुंभी","Water-Hyacinth"]
[null,null,null,null,null,null,null,null,null,null,null,2756,"Nettle","nettle","बिछुटी","TREES AND PLANTS ( पेड़,पौधे )",{"$f":"O2784","v":"बिछुटी"},"Nettle"]
[null,null,null,null,null,null,null,null,null,null,null,2757,"Bark","bark","छाल","TREES AND PLANTS ( पेड़,पौधे )","छाल","Bark"]
[null,null,null,null,null,null,null,null,null,null,null,2758,"Mushroom","mushroom","कुकुरमुत्ता","TREES AND PLANTS ( पेड़,पौधे )","कुकुरमुत्ता","Mushroom"]
[null,null,null,null,null,null,null,null,null,null,null,2759," Opium"," opium","अफीम","TREES AND PLANTS ( पेड़,पौधे )","अफीम"," Opium"]
[null,null,null,null,null,null,null,null,null,null,null,2760,"Reeds","reeds","नरकट,खागडा","TREES AND PLANTS ( पेड़,पौधे )","नरकट,खागडा","Reeds"]
[null,null,null,null,null,null,null,null,null,null,null,2761,"Phial","PHIAL","शीशी","MEDICINES AND HOSPTALS ( औषध और चिकित्सालय संबधी)","शीशी","Phial"]
[null,null,null,null,null,null,null,null,null,null,null,2762," Bandage"," BANDAGE","पट्टी","MEDICINES AND HOSPTALS ( औषध और चिकित्सालय संबधी)","पट्टी"," Bandage"]
[null,null,null,null,null,null,null,null,null,null,null,2763," Powder"," POWDER","चूर्ण","MEDICINES AND HOSPTALS ( औषध और चिकित्सालय संबधी)","चूर्ण"," Powder"]
[null,null,null,null,null,null,null,null,null,null,null,2764," Tablet"," TABLET","टिकिया","MEDICINES AND HOSPTALS ( औषध और चिकित्सालय संबधी)","टिकिया"," Tablet"]
[null,null,null,null,null,null,null,null,null,null,null,2765," Mark"," MARK","दाग","MEDICINES AND HOSPTALS ( औषध और चिकित्सालय संबधी)","दाग"," Mark"]
[null,null,null,null,null,null,null,null,null,null,null,2766," Drug"," DRUG","औषध","MEDICINES AND HOSPTALS ( औषध और चिकित्सालय संबधी)","औषध"," Drug"]
[null,null,null,null,null,null,null,null,null,null,null,2767," Dose"," DOSE","खुराक","MEDICINES AND HOSPTALS ( औषध और चिकित्सालय संबधी)","खुराक"," Dose"]
[null,null,null,null,null,null,null,null,null,null,null,2768," Diet"," DIET","पथ्य","MEDICINES AND HOSPTALS ( औषध और चिकित्सालय संबधी)","पथ्य"," Diet"]
[null,null,null,null,null,null,null,null,null,null,null,2769," Fomentation"," FOMENTATION","सेक","MEDICINES AND HOSPTALS ( औषध और चिकित्सालय संबधी)","सेक"," Fomentation"]
[null,null,null,null,null,null,null,null,null,null,null,2770," Ointment"," OINTMENT","मरहम","MEDICINES AND HOSPTALS ( औषध और चिकित्सालय संबधी)","मरहम"," Ointment"]
[null,null,null,null,null,null,null,null,null,null,null,2771,"Surgery","SURGERY","शल्यचिकित्सा","MEDICINES AND HOSPTALS ( औषध और चिकित्सालय संबधी)","शल्यचिकित्सा","Surgery"]
[null,null,null,null,null,null,null,null,null,null,null,2772,"Homeopathy","HOMEOPATHY","होमिओपैथी","MEDICINES AND HOSPTALS ( औषध और चिकित्सालय संबधी)","होमिओपैथी","Homeopathy"]
[null,null,null,null,null,null,null,null,null,null,null,2773,"Surgen","SURGEN","शल्यचिकित्सक","MEDICINES AND HOSPTALS ( औषध और चिकित्सालय संबधी)","शल्यचिकित्सक","Surgen"]
[null,null,null,null,null,null,null,null,null,null,null,2774,"Doctor","DOCTOR","चिकित्सक","MEDICINES AND HOSPTALS ( औषध और चिकित्सालय संबधी)","चिकित्सक","Doctor"]
[null,null,null,null,null,null,null,null,null,null,null,2775,"Dispensary","DISPENSARY","दवाखाना","MEDICINES AND HOSPTALS ( औषध और चिकित्सालय संबधी)","दवाखाना","Dispensary"]
[null,null,null,null,null,null,null,null,null,null,null,2776,"Symptom","SYMPTOM","लक्षण","MEDICINES AND HOSPTALS ( औषध और चिकित्सालय संबधी)","लक्षण","Symptom"]
[null,null,null,null,null,null,null,null,null,null,null,2777,"Dentist","DENTIST","दन्तचिकित्सक","MEDICINES AND HOSPTALS ( औषध और चिकित्सालय संबधी)","दन्तचिकित्सक","Dentist"]
[null,null,null,null,null,null,null,null,null,null,null,2778,"Allopathy","ALLOPATHY","एलोपैथी","MEDICINES AND HOSPTALS ( औषध और चिकित्सालय संबधी)","एलोपैथी","Allopathy"]
[null,null,null,null,null,null,null,null,null,null,null,2779,"Naturopathy","NATUROPATHY","प्राकतिक चिकित्सा","MEDICINES AND HOSPTALS ( औषध और चिकित्सालय संबधी)","प्राकतिक चिकित्सा","Naturopathy"]
[null,null,null,null,null,null,null,null,null,null,null,2780,"Compounder","COMPOUNDER","परिचारक","MEDICINES AND HOSPTALS ( औषध और चिकित्सालय संबधी)","परिचारक","Compounder"]
[null,null,null,null,null,null,null,null,null,null,null,2781,"Treatment","TREATMENT","उपचार","MEDICINES AND HOSPTALS ( औषध और चिकित्सालय संबधी)","उपचार","Treatment"]
[null,null,null,null,null,null,null,null,null,null,null,2782,"Stethoscope","STETHOSCOPE","परि-स्त्रावक","MEDICINES AND HOSPTALS ( औषध और चिकित्सालय संबधी)","परि-स्त्रावक","Stethoscope"]
[null,null,null,null,null,null,null,null,null,null,null,2783,"Physisian","PHYSISIAN","वैद्य,चिकित्सक","MEDICINES AND HOSPTALS ( औषध और चिकित्सालय संबधी)","वैद्य,चिकित्सक","Physisian"]
[null,null,null,null,null,null,null,null,null,null,null,2784,"Patient","PATIENT","मरीज","MEDICINES AND HOSPTALS ( औषध और चिकित्सालय संबधी)","मरीज","Patient"]
[null,null,null,null,null,null,null,null,null,null,null,2785,"Thermometer","THERMOMETER","तापमापी","MEDICINES AND HOSPTALS ( औषध और चिकित्सालय संबधी)","तापमापी","Thermometer"]
[null,null,null,null,null,null,null,null,null,null,null,2786,"Midwife","MIDWIFE","धात्री,दाई","MEDICINES AND HOSPTALS ( औषध और चिकित्सालय संबधी)","धात्री,दाई","Midwife"]
[null,null,null,null,null,null,null,null,null,null,null,2787,"Nurse","NURSE","परिचारिका","MEDICINES AND HOSPTALS ( औषध और चिकित्सालय संबधी)","परिचारिका","Nurse"]
[null,null,null,null,null,null,null,null,null,null,null,2788,"Indian","indian","भारतीय","NATIONS AND LANGUAGES ( वासी और देश )","भारतीय","Indian"]
[null,null,null,null,null,null,null,null,null,null,null,2789,"American","american","अमेरिकी","NATIONS AND LANGUAGES ( वासी और देश )","अमेरिकी","American"]
[null,null,null,null,null,null,null,null,null,null,null,2790,"Negro","negro","नीग्रो","NATIONS AND LANGUAGES ( वासी और देश )","नीग्रो","Negro"]
[null,null,null,null,null,null,null,null,null,null,null,2791," Chinese"," chinese","चीनी","NATIONS AND LANGUAGES ( वासी और देश )","चीनी"," Chinese"]
[null,null,null,null,null,null,null,null,null,null,null,2792," Russian"," russian","रूसी","NATIONS AND LANGUAGES ( वासी और देश )","रूसी"," Russian"]
[null,null,null,null,null,null,null,null,null,null,null,2793,"Ceylonese","ceylonese","सिंहली","NATIONS AND LANGUAGES ( वासी और देश )","सिंहली","Ceylonese"]
[null,null,null,null,null,null,null,null,null,null,null,2794," French"," french","फ़्रांसिसी","NATIONS AND LANGUAGES ( वासी और देश )","फ़्रांसिसी"," French"]
[null,null,null,null,null,null,null,null,null,null,null,2795,"Christian","christian","ईसाई","NATIONS AND LANGUAGES ( वासी और देश )","ईसाई","Christian"]
[null,null,null,null,null,null,null,null,null,null,null,2796,"Spanish","spanish","स्पेनवासी","NATIONS AND LANGUAGES ( वासी और देश )","स्पेनवासी","Spanish"]
[null,null,null,null,null,null,null,null,null,null,null,2797,"Englishman","englishman","अंग्रेज़","NATIONS AND LANGUAGES ( वासी और देश )","अंग्रेज़","Englishman"]
[null,null,null,null,null,null,null,null,null,null,null,2798,"Australian","australian","ऑस्ट्रेलियावासी","NATIONS AND LANGUAGES ( वासी और देश )","ऑस्ट्रेलियावासी","Australian"]
[null,null,null,null,null,null,null,null,null,null,null,2799," German"," german","जर्मनवासी","NATIONS AND LANGUAGES ( वासी और देश )","जर्मनवासी"," German"]
[null,null,null,null,null,null,null,null,null,null,null,2800,"Roman","roman","रोमन भाषा,रोमवासी","NATIONS AND LANGUAGES ( वासी और देश )","रोमन भाषा,रोमवासी","Roman"]
[null,null,null,null,null,null,null,null,null,null,null,2801,"Buddhist","buddhist","बौध्द","NATIONS AND LANGUAGES ( वासी और देश )","बौध्द","Buddhist"]
[null,null,null,null,null,null,null,null,null,null,null,2802,"Muslim","muslim","मुस्लमान","NATIONS AND LANGUAGES ( वासी और देश )","मुस्लमान","Muslim"]
[null,null,null,null,null,null,null,null,null,null,null,2803,"Hindu","hindu","हिन्दू","NATIONS AND LANGUAGES ( वासी और देश )","हिन्दू","Hindu"]
[null,null,null,null,null,null,null,null,null,null,null,2804," Japanese"," japanese","जापानी","NATIONS AND LANGUAGES ( वासी और देश )","जापानी"," Japanese"]
[null,null,null,null,null,null,null,null,null,null,null,2805,"European","european","यूरोपीय","NATIONS AND LANGUAGES ( वासी और देश )","यूरोपीय","European"]
[null,null,null,null,null,null,null,null,null,null,null,2806,"Persian","persian","फारसवासी,फारसी","NATIONS AND LANGUAGES ( वासी और देश )","फारसवासी,फारसी","Persian"]
[null,null,null,null,null,null,null,null,null,null,null,2807,"Arabian","arabian","अरबवासी","NATIONS AND LANGUAGES ( वासी और देश )","अरबवासी","Arabian"]
[null,null,null,null,null,null,null,null,null,null,null,2808," Burmese"," burmese","बमावासी","NATIONS AND LANGUAGES ( वासी और देश )","बमावासी"," Burmese"]
[null,null,null,null,null,null,null,null,null,null,null,2809," Music"," music","संगीत","MUSIC ( संगीत )","संगीत"," Music"]
[null,null,null,null,null,null,null,null,null,null,null,2810,"Audience","audience","श्रोता","MUSIC ( संगीत )","श्रोता","Audience"]
[null,null,null,null,null,null,null,null,null,null,null,2811,"Tune","tune","स्वर","MUSIC ( संगीत )","स्वर","Tune"]
[null,null,null,null,null,null,null,null,null,null,null,2812,"Song","song","गाना","MUSIC ( संगीत )","गाना","Song"]
[null,null,null,null,null,null,null,null,null,null,null,2813,"Melody","melody","लय,मधुर राग","MUSIC ( संगीत )","लय,मधुर राग","Melody"]
[null,null,null,null,null,null,null,null,null,null,null,2814,"Dance","dance","नाच","MUSIC ( संगीत )","नाच","Dance"]
[null,null,null,null,null,null,null,null,null,null,null,2815,"Chorus","chorus","समवेत गायन,सहगान","MUSIC ( संगीत )","समवेत गायन,सहगान","Chorus"]
[null,null,null,null,null,null,null,null,null,null,null,2816,"Sing","sing","गाना","MUSIC ( संगीत )","गाना","Sing"]
[null,null,null,null,null,null,null,null,null,null,null,2817,"Stage","stage","रंगमंच","MUSIC ( संगीत )","रंगमंच","Stage"]
[null,null,null,null,null,null,null,null,null,null,null,2818,{"$f":"PROPER(N2846)","v":"Horn"},"horn","सींग","MUSIC ( संगीत )","सींग",{"$f":"PROPER(N2846)","v":"Horn"}]
[null,null,null,null,null,null,null,null,null,null,null,2819,"Tuba","tuba","बांसुरी","MUSIC ( संगीत )","बांसुरी","Tuba"]
[null,null,null,null,null,null,null,null,null,null,null,2820,"Actress","actress","अभिनेत्री","MUSIC ( संगीत )",{"$f":"O2848","v":"अभिनेत्री"},"Actress"]
[null,null,null,null,null,null,null,null,null,null,null,2821,"Actor","actor","अभिनेता","MUSIC ( संगीत )","अभिनेता","Actor"]
[null,null,null,null,null,null,null,null,null,null,null,2822,"Songster","songster","गायक","MUSIC ( संगीत )","गायक","Songster"]
[null,null,null,null,null,null,null,null,null,null,null,2823,"Scene","scene","दृश्य","MUSIC ( संगीत )","दृश्य","Scene"]
[null,null,null,null,null,null,null,null,null,null,null,2824,"Theatre","theatre","रंगशाला","MUSIC ( संगीत )","रंगशाला","Theatre"]
[null,null,null,null,null,null,null,null,null,null,null,2825,"Drama","drama","नाटक","MUSIC ( संगीत )","नाटक","Drama"]
[null,null,null,null,null,null,null,null,null,null,null,2826,"Bugle","bugle","रणसिंगा,बिगुल","MUSIC ( संगीत )","रणसिंगा,बिगुल","Bugle"]
[null,null,null,null,null,null,null,null,null,null,null,2827,"Drum","drum","ढाक,ढोल","MUSIC ( संगीत )","ढाक,ढोल","Drum"]
[null,null,null,null,null,null,null,null,null,null,null,2828,"Trumpet","trumpet","भेरी","MUSIC ( संगीत )","भेरी","Trumpet"]
[null,null,null,null,null,null,null,null,null,null,null,2829,"Singer","singer","गायक","MUSIC ( संगीत )","गायक","Singer"]
[null,null,null,null,null,null,null,null,null,null,null,2830,"Gramophone","gramophone","ग्रामोफोन","MUSIC ( संगीत )","ग्रामोफोन","Gramophone"]
[null,null,null,null,null,null,null,null,null,null,null,2831,"Bagpipe","bagpipe","मशकबीन","MUSIC ( संगीत )","मशकबीन","Bagpipe"]
[null,null,null,null,null,null,null,null,null,null,null,2832,"Sarengi","sarengi","सारंगी","MUSIC ( संगीत )","सारंगी","Sarengi"]
[null,null,null,null,null,null,null,null,null,null,null,2833,"Cymbal","cymbal","करताल","MUSIC ( संगीत )","करताल","Cymbal"]
[null,null,null,null,null,null,null,null,null,null,null,2834,"Kettle-Drum","kettle-drum","नगाड़ा","MUSIC ( संगीत )","नगाड़ा","Kettle-Drum"]
[null,null,null,null,null,null,null,null,null,null,null,2835,"Cineme","cineme","सिनेमा,चलचित्र","MUSIC ( संगीत )","सिनेमा,चलचित्र","Cineme"]
[null,null,null,null,null,null,null,null,null,null,null,2836,"Dance-Drama","dance-drama","नृत्यनाटक","MUSIC ( संगीत )","नृत्यनाटक","Dance-Drama"]
[null,null,null,null,null,null,null,null,null,null,null,2837,"Dulcimer","dulcimer","सितार","MUSIC ( संगीत )","सितार","Dulcimer"]
[null,null,null,null,null,null,null,null,null,null,null,2838,"Harp","harp","वीणा","MUSIC ( संगीत )","वीणा","Harp"]
[null,null,null,null,null,null,null,null,null,null,null,2839,"Harmonium","harmonium","हारमोनियम","MUSIC ( संगीत )","हारमोनियम","Harmonium"]
[null,null,null,null,null,null,null,null,null,null,null,2840,"Swarode","swarode","सरोद","MUSIC ( संगीत )","सरोद","Swarode"]
[null,null,null,null,null,null,null,null,null,null,null,2841,"Monochord","monochord","इकतारा","MUSIC ( संगीत )","इकतारा","Monochord"]
[null,null,null,null,null,null,null,null,null,null,null,2842,"Piano","piano","पियानो","MUSIC ( संगीत )","पियानो","Piano"]
[null,null,null,null,null,null,null,null,null,null,null,2843,"Tanpura","tanpura","तानपुरा","MUSIC ( संगीत )","तानपुरा","Tanpura"]
[null,null,null,null,null,null,null,null,null,null,null,2844,"Flute","flute","बांसुरी","MUSIC ( संगीत )","बांसुरी","Flute"]
[null,null,null,null,null,null,null,null,null,null,null,2845,"Esraj","esraj","इसराज","MUSIC ( संगीत )","इसराज","Esraj"]
[null,null,null,null,null,null,null,null,null,null,null,2846,"Tabor","tabor","तबला","MUSIC ( संगीत )","तबला","Tabor"]
[null,null,null,null,null,null,null,null,null,null,null,2847,"Guitar","guitar","गिटार","MUSIC ( संगीत )","गिटार","Guitar"]
[null,null,null,null,null,null,null,null,null,null,null,2848,"Violin","violin","वायलिन","MUSIC ( संगीत )","वायलिन","Violin"]
[null,null,null,null,null,null,null,null,null,null,null,2849,"Meeting","meeting","सभा,बैठक","ABOUT MEETING ( सभा सम्बन्धी )","सभा,बैठक","Meeting"]
[null,null,null,null,null,null,null,null,null,null,null,2850,"Speaker","speaker","वक्ता","ABOUT MEETING ( सभा सम्बन्धी )","वक्ता","Speaker"]
[null,null,null,null,null,null,null,null,null,null,null,2851,"Lecturer","lecturer","प्रवक्ता","ABOUT MEETING ( सभा सम्बन्धी )","प्रवक्ता","Lecturer"]
[null,null,null,null,null,null,null,null,null,null,null,2852,"President","president","सभापति,अध्यक्ष","ABOUT MEETING ( सभा सम्बन्धी )","सभापति,अध्यक्ष","President"]
[null,null,null,null,null,null,null,null,null,null,null,2853,"Secretary","secretary","सचिव","ABOUT MEETING ( सभा सम्बन्धी )","सचिव","Secretary"]
[null,null,null,null,null,null,null,null,null,null,null,2854,"Resolution","resolution","प्रस्ताव","ABOUT MEETING ( सभा सम्बन्धी )","प्रस्ताव","Resolution"]
[null,null,null,null,null,null,null,null,null,null,null,2855,"Chief-Guest","chief-guest","मुख्य-अथिति","ABOUT MEETING ( सभा सम्बन्धी )","मुख्य-अथिति","Chief-Guest"]
[null,null,null,null,null,null,null,null,null,null,null,2856,"Support","support","समर्थन","ABOUT MEETING ( सभा सम्बन्धी )","समर्थन","Support"]
[null,null,null,null,null,null,null,null,null,null,null,2857,"Election-Meeting","election-meeting","निर्वाचन-सभा","ABOUT MEETING ( सभा सम्बन्धी )","निर्वाचन-सभा","Election-Meeting"]
[null,null,null,null,null,null,null,null,null,null,null,2858,"Public-Meeting","public-meeting","जनसभा","ABOUT MEETING ( सभा सम्बन्धी )","जनसभा","Public-Meeting"]
[null,null,null,null,null,null,null,null,null,null,null,2859,"Quorum","quorum","कोरम,आवश्यक उपस्थिति","ABOUT MEETING ( सभा सम्बन्धी )","कोरम,आवश्यक उपस्थिति","Quorum"]
[null,null,null,null,null,null,null,null,null,null,null,2860,"Association","association","समिति","ABOUT MEETING ( सभा सम्बन्धी )","समिति","Association"]
[null,null,null,null,null,null,null,null,null,null,null,2861,"Procession","procession","जुलूस","ABOUT MEETING ( सभा सम्बन्धी )","जुलूस","Procession"]
[null,null,null,null,null,null,null,null,null,null,null,2862,"Condolence Meeting","condolence meeting","शोक-सभा","ABOUT MEETING ( सभा सम्बन्धी )","शोक-सभा","Condolence Meeting"]
[null,null,null,null,null,null,null,null,null,null,null,2863,"Gathering","gathering","जनसमावेश","ABOUT MEETING ( सभा सम्बन्धी )","जनसमावेश","Gathering"]
[null,null,null,null,null,null,null,null,null,null,null,2864,"Public","public","जनसाधारण","ABOUT MEETING ( सभा सम्बन्धी )","जनसाधारण","Public"]
[null,null,null,null,null,null,null,null,null,null,null,2865,"Aeroplane","aeroplane","विमनापोत,वायुयान,हवाई जहाज","CONVEYANCE ( वाहन-सवारी )","विमनापोत,वायुयान,हवाई जहाज","Aeroplane"]
[null,null,null,null,null,null,null,null,null,null,null,2866,"Airport","airport","हवाई अड्डा","CONVEYANCE ( वाहन-सवारी )","हवाई अड्डा","Airport"]
[null,null,null,null,null,null,null,null,null,null,null,2867,"Pilot","pilot","विमानचालक","CONVEYANCE ( वाहन-सवारी )","विमानचालक","Pilot"]
[null,null,null,null,null,null,null,null,null,null,null,2868,"Ship","ship","पानी का जहाज,जलयान","CONVEYANCE ( वाहन-सवारी )","पानी का जहाज,जलयान","Ship"]
[null,null,null,null,null,null,null,null,null,null,null,2869,"Ship-Of-War","ship-of-war","जंगी-जहाज ,युध्दपोत","CONVEYANCE ( वाहन-सवारी )","जंगी-जहाज ,युध्दपोत","Ship-Of-War"]
[null,null,null,null,null,null,null,null,null,null,null,2870,"Ferry-Boat","ferry-boat","पार करने वाली नाव","CONVEYANCE ( वाहन-सवारी )","पार करने वाली नाव","Ferry-Boat"]
[null,null,null,null,null,null,null,null,null,null,null,2871,"Boat","boat","नाव","CONVEYANCE ( वाहन-सवारी )","नाव","Boat"]
[null,null,null,null,null,null,null,null,null,null,null,2872,"Steamer","steamer","स्टीमर","CONVEYANCE ( वाहन-सवारी )","स्टीमर","Steamer"]
[null,null,null,null,null,null,null,null,null,null,null,2873,"Green-Boat","green-boat","प्रमोद-नौका","CONVEYANCE ( वाहन-सवारी )","प्रमोद-नौका","Green-Boat"]
[null,null,null,null,null,null,null,null,null,null,null,2874,"Cart","cart","बैलगाड़ी","CONVEYANCE ( वाहन-सवारी )","बैलगाड़ी","Cart"]
[null,null,null,null,null,null,null,null,null,null,null,2875,"Coach","coach","घोड़ागाड़ी","CONVEYANCE ( वाहन-सवारी )","घोड़ागाड़ी","Coach"]
[null,null,null,null,null,null,null,null,null,null,null,2876,"Bicycle","bicycle","साईंकिल","CONVEYANCE ( वाहन-सवारी )","साईंकिल","Bicycle"]
[null,null,null,null,null,null,null,null,null,null,null,2877,"Rickshaw","rickshaw","रिक्शा","CONVEYANCE ( वाहन-सवारी )","रिक्शा","Rickshaw"]
[null,null,null,null,null,null,null,null,null,null,null,2878,"Motor-Car","motor-car","मोटर","CONVEYANCE ( वाहन-सवारी )","मोटर","Motor-Car"]
[null,null,null,null,null,null,null,null,null,null,null,2879,"Driver","driver","चालक","CONVEYANCE ( वाहन-सवारी )","चालक","Driver"]
[null,null,null,null,null,null,null,null,null,null,null,2880,"Passenger","passenger","यात्री,सवारी","CONVEYANCE ( वाहन-सवारी )","यात्री,सवारी","Passenger"]
[null,null,null,null,null,null,null,null,null,null,null,2881,"Wagon","wagon","मालगाड़ी का डब्बा","CONVEYANCE ( वाहन-सवारी )","मालगाड़ी का डब्बा","Wagon"]
[null,null,null,null,null,null,null,null,null,null,null,2882,{"$f":"PROPER(N2910)","v":"Bus"},"bus","बस","CONVEYANCE ( वाहन-सवारी )","बस",{"$f":"PROPER(N2910)","v":"Bus"}]
[null,null,null,null,null,null,null,null,null,null,null,2883,"Train","train","रेलगाड़ी","CONVEYANCE ( वाहन-सवारी )","रेलगाड़ी","Train"]
[null,null,null,null,null,null,null,null,null,null,null,2884,"Palanquin","palanquin","पालकी","CONVEYANCE ( वाहन-सवारी )",{"$f":"O2912","v":"पालकी"},"Palanquin"]
[null,null,null,null,null,null,null,null,null,null,null,2885," Cabin"," cabin","जहाज की कोठरी","CONVEYANCE ( वाहन-सवारी )","जहाज की कोठरी"," Cabin"]
[null,null,null,null,null,null,null,null,null,null,null,2886,"Sailor","sailor","नाविक","CONVEYANCE ( वाहन-सवारी )","नाविक","Sailor"]
[null,null,null,null,null,null,null,null,null,null,null,2887,"Deck","deck","जहाज की छत","CONVEYANCE ( वाहन-सवारी )","जहाज की छत","Deck"]
[null,null,null,null,null,null,null,null,null,null,null,2888,"Tandem","tandem","टमटम","CONVEYANCE ( वाहन-सवारी )","टमटम","Tandem"]
[null,null,null,null,null,null,null,null,null,null,null,2889,"Car","car","कार","CONVEYANCE ( वाहन-सवारी )","कार","Car"]
[null,null,null,null,null,null,null,null,null,null,null,2890,"Carriage","carriage","गाड़ी","CONVEYANCE ( वाहन-सवारी )","गाड़ी","Carriage"]
[null,null,null,null,null,null,null,null,null,null,null,2891,"Omnibus","omnibus","बस","CONVEYANCE ( वाहन-सवारी )","बस","Omnibus"]
[null,null,null,null,null,null,null,null,null,null,null,2892,"Chariot","chariot","रथ","CONVEYANCE ( वाहन-सवारी )","रथ","Chariot"]
[null,null,null,null,null,null,null,null,null,null,null,2893,"Taxi","taxi","भाडा गाड़ी","CONVEYANCE ( वाहन-सवारी )","भाडा गाड़ी","Taxi"]
[null,null,null,null,null,null,null,null,null,null,null,2894,"Cabin","cabin","भाडा गाड़ी","CONVEYANCE ( वाहन-सवारी )","भाडा गाड़ी","Cabin"]
[null,null,null,null,null,null,null,null,null,null,null,2895,"Troolley","troolley","ठेला","CONVEYANCE ( वाहन-सवारी )","ठेला","Troolley"]
[null,null,null,null,null,null,null,null,null,null,null,2896,"Harbour","harbour","बंदरगाह","CONVEYANCE ( वाहन-सवारी )","बंदरगाह","Harbour"]
[null,null,null,null,null,null,null,null,null,null,null,2897,"Anchor","anchor","लंगर","CONVEYANCE ( वाहन-सवारी )","लंगर","Anchor"]
[null,null,null,null,null,null,null,null,null,null,null,2898,"Boatman","boatman","नाविक","CONVEYANCE ( वाहन-सवारी )","नाविक","Boatman"]
[null,null,null,null,null,null,null,null,null,null,null,2899,"Tram-Car","tram-car","ट्रामगाड़ी","CONVEYANCE ( वाहन-सवारी )","ट्रामगाड़ी","Tram-Car"]
[null,null,null,null,null,null,null,null,null,null,null,2900,"Mast","mast","मस्तूल","CONVEYANCE ( वाहन-सवारी )","मस्तूल","Mast"]
[null,null,null,null,null,null,null,null,null,null,null,2901," Oar"," oar","पतवार","CONVEYANCE ( वाहन-सवारी )","पतवार"," Oar"]
[null,null,null,null,null,null,null,null,null,null,null,2902,"Paddle","paddle","चप्पू","CONVEYANCE ( वाहन-सवारी )","चप्पू","Paddle"]
[null,null,null,null,null,null,null,null,null,null,null,2903,"Helm","helm","पतवार","CONVEYANCE ( वाहन-सवारी )","पतवार","Helm"]
[null,null,null,null,null,null,null,null,null,null,null,2904,"Sail","sail","पाल","CONVEYANCE ( वाहन-सवारी )","पाल","Sail"]
[null,null,null,null,null,null,null,null,null,null,null,2905,"Goods-Train","goods-train","मालगाड़ी ","CONVEYANCE ( वाहन-सवारी )","मालगाड़ी ","Goods-Train"]
[null,null,null,null,null,null,null,null,null,null,null,2906,"Duble-Decker Bus","duble-decker bus","दोतल्ला बस","CONVEYANCE ( वाहन-सवारी )","दोतल्ला बस","Duble-Decker Bus"]
[null,null,null,null,null,null,null,null,null,null,null,2907,"Lorry","lorry","लारी","CONVEYANCE ( वाहन-सवारी )","लारी","Lorry"]
[null,null,null,null,null,null,null,null,null,null,null,2908,"Bridge","bridge","पुल","CONVEYANCE ( वाहन-सवारी )","पुल","Bridge"]
[null,null,null,null,null,null,null,null,null,null,null,2909,"Culvert","culvert","पुलिया","CONVEYANCE ( वाहन-सवारी )","पुलिया","Culvert"]
[null,null,null,null,null,null,null,null,null,null,null,2910,"Lane","lane","गली","CONVEYANCE ( वाहन-सवारी )","गली","Lane"]
[null,null,null,null,null,null,null,null,null,null,null,2911,"Briddle","briddle","लगाम","CONVEYANCE ( वाहन-सवारी )","लगाम","Briddle"]
[null,null,null,null,null,null,null,null,null,null,null,2912,"Wheel","wheel","पहिया","CONVEYANCE ( वाहन-सवारी )","पहिया","Wheel"]
[null,null,null,null,null,null,null,null,null,null,null,2913,"Road","road","रास्ता,सड़क","CONVEYANCE ( वाहन-सवारी )","रास्ता,सड़क","Road"]
[null,null,null,null,null,null,null,null,null,null,null,2914,"Litter","litter","डोली","CONVEYANCE ( वाहन-सवारी )","डोली","Litter"]
[null,null,null,null,null,null,null,null,null,null,null,2915,"Bearer","bearer","वाहक","CONVEYANCE ( वाहन-सवारी )","वाहक","Bearer"]
[null,null,null,null,null,null,null,null,null,null,null,2916,"Whip","whip","चाबुक","CONVEYANCE ( वाहन-सवारी )","चाबुक","Whip"]
[null,null,null,null,null,null,null,null,null,null,null,2917,"Street","street","रास्ता,गली","CONVEYANCE ( वाहन-सवारी )","रास्ता,गली","Street"]
[null,null,null,null,null,null,null,null,null,null,null,2918,"Trade","trade","व्यापार","TRADE AND COMMERCE ( वाणिज्य-व्यवसाय )","व्यापार","Trade"]
[null,null,null,null,null,null,null,null,null,null,null,2919,"Goods","GOODS","माल","TRADE AND COMMERCE ( वाणिज्य-व्यवसाय )","माल","Goods"]
[null,null,null,null,null,null,null,null,null,null,null,2920,"Import","IMPORT","आयात","TRADE AND COMMERCE ( वाणिज्य-व्यवसाय )","आयात","Import"]
[null,null,null,null,null,null,null,null,null,null,null,2921,"Market","MARKET","बाजार","TRADE AND COMMERCE ( वाणिज्य-व्यवसाय )","बाजार","Market"]
[null,null,null,null,null,null,null,null,null,null,null,2922," Commerce"," COMMERCE","व्यवसाय","TRADE AND COMMERCE ( वाणिज्य-व्यवसाय )","व्यवसाय"," Commerce"]
[null,null,null,null,null,null,null,null,null,null,null,2923,"Pay","PAY","वेतन","TRADE AND COMMERCE ( वाणिज्य-व्यवसाय )","वेतन","Pay"]
[null,null,null,null,null,null,null,null,null,null,null,2924,"Exchange","EXCHANGE","विनिमय","TRADE AND COMMERCE ( वाणिज्य-व्यवसाय )","विनिमय","Exchange"]
[null,null,null,null,null,null,null,null,null,null,null,2925,"Office","OFFICE","कार्यालय","TRADE AND COMMERCE ( वाणिज्य-व्यवसाय )","कार्यालय","Office"]
[null,null,null,null,null,null,null,null,null,null,null,2926," Fair"," FAIR","हाट,मेला","TRADE AND COMMERCE ( वाणिज्य-व्यवसाय )","हाट,मेला"," Fair"]
[null,null,null,null,null,null,null,null,null,null,null,2927,"Expense","EXPENSE","व्यय","TRADE AND COMMERCE ( वाणिज्य-व्यवसाय )","व्यय","Expense"]
[null,null,null,null,null,null,null,null,null,null,null,2928,"Income","INCOME","आय","TRADE AND COMMERCE ( वाणिज्य-व्यवसाय )","आय","Income"]
[null,null,null,null,null,null,null,null,null,null,null,2929,"Purchase","PURCHASE","खरीद","TRADE AND COMMERCE ( वाणिज्य-व्यवसाय )","खरीद","Purchase"]
[null,null,null,null,null,null,null,null,null,null,null,2930,"Saie","SAIE","विक्रय","TRADE AND COMMERCE ( वाणिज्य-व्यवसाय )","विक्रय","Saie"]
[null,null,null,null,null,null,null,null,null,null,null,2931,"Due","DUE","पावना","TRADE AND COMMERCE ( वाणिज्य-व्यवसाय )","पावना","Due"]
[null,null,null,null,null,null,null,null,null,null,null,2932,"Baiance","BAIANCE","शेष","TRADE AND COMMERCE ( वाणिज्य-व्यवसाय )","शेष","Baiance"]
[null,null,null,null,null,null,null,null,null,null,null,2933,"Export","EXPORT","निर्यात","TRADE AND COMMERCE ( वाणिज्य-व्यवसाय )","निर्यात","Export"]
[null,null,null,null,null,null,null,null,null,null,null,2934,"Profit","PROFIT","लाभ","TRADE AND COMMERCE ( वाणिज्य-व्यवसाय )","लाभ","Profit"]
[null,null,null,null,null,null,null,null,null,null,null,2935,"List","LIST","तालिका","TRADE AND COMMERCE ( वाणिज्य-व्यवसाय )","तालिका","List"]
[null,null,null,null,null,null,null,null,null,null,null,2936,"Loss","LOSS","क्षति,हानि","TRADE AND COMMERCE ( वाणिज्य-व्यवसाय )","क्षति,हानि","Loss"]
[null,null,null,null,null,null,null,null,null,null,null,2937,"Cost","COST","खर्च,दाम,मूल्य","TRADE AND COMMERCE ( वाणिज्य-व्यवसाय )","खर्च,दाम,मूल्य","Cost"]
[null,null,null,null,null,null,null,null,null,null,null,2938,"Factory","FACTORY","कारखाना","TRADE AND COMMERCE ( वाणिज्य-व्यवसाय )","कारखाना","Factory"]
[null,null,null,null,null,null,null,null,null,null,null,2939,"Invoice","INVOICE","चालान","TRADE AND COMMERCE ( वाणिज्य-व्यवसाय )","चालान","Invoice"]
[null,null,null,null,null,null,null,null,null,null,null,2940,"Contract","CONTRACT","चूक्त,ठेका,अनुबंध","TRADE AND COMMERCE ( वाणिज्य-व्यवसाय )","चूक्त,ठेका,अनुबंध","Contract"]
[null,null,null,null,null,null,null,null,null,null,null,2941,"Barter","BARTER","वस्तु,विनिमय","TRADE AND COMMERCE ( वाणिज्य-व्यवसाय )","वस्तु,विनिमय","Barter"]
[null,null,null,null,null,null,null,null,null,null,null,2942,"Wages","WAGES","मजदूरी","TRADE AND COMMERCE ( वाणिज्य-व्यवसाय )","मजदूरी","Wages"]
[null,null,null,null,null,null,null,null,null,null,null,2943,"Capital","CAPITAL","मूलधन","TRADE AND COMMERCE ( वाणिज्य-व्यवसाय )","मूलधन","Capital"]
[null,null,null,null,null,null,null,null,null,null,null,2944,"Liability","LIABILITY","देय,ऋण","TRADE AND COMMERCE ( वाणिज्य-व्यवसाय )","देय,ऋण","Liability"]
[null,null,null,null,null,null,null,null,null,null,null,2945,"Sampie","SAMPIE","नमूना","TRADE AND COMMERCE ( वाणिज्य-व्यवसाय )","नमूना","Sampie"]
[null,null,null,null,null,null,null,null,null,null,null,2946,{"$f":"PROPER(N2974)","v":"Cash-Money"},"CASH-MONEY","नगद","TRADE AND COMMERCE ( वाणिज्य-व्यवसाय )","नगद",{"$f":"PROPER(N2974)","v":"Cash-Money"}]
[null,null,null,null,null,null,null,null,null,null,null,2947,"Advance","ADVANCE","रूपया","TRADE AND COMMERCE ( वाणिज्य-व्यवसाय )","रूपया","Advance"]
[null,null,null,null,null,null,null,null,null,null,null,2948,"Cash-Book","CASH-BOOK","अग्रिम","TRADE AND COMMERCE ( वाणिज्य-व्यवसाय )",{"$f":"O2976","v":"अग्रिम"},"Cash-Book"]
[null,null,null,null,null,null,null,null,null,null,null,2949,"Credit","CREDIT","रोकड़","TRADE AND COMMERCE ( वाणिज्य-व्यवसाय )","रोकड़","Credit"]
[null,null,null,null,null,null,null,null,null,null,null,2950,"Ledger","LEDGER","उधार","TRADE AND COMMERCE ( वाणिज्य-व्यवसाय )","उधार","Ledger"]
[null,null,null,null,null,null,null,null,null,null,null,2951,"Godown","GODOWN","लेजर","TRADE AND COMMERCE ( वाणिज्य-व्यवसाय )","लेजर","Godown"]
[null,null,null,null,null,null,null,null,null,null,null,2952,"Store","STORE","गोदाम","TRADE AND COMMERCE ( वाणिज्य-व्यवसाय )","गोदाम","Store"]
[null,null,null,null,null,null,null,null,null,null,null,2953,"Trader","TRADER","गोदाम","TRADE AND COMMERCE ( वाणिज्य-व्यवसाय )","गोदाम","Trader"]
[null,null,null,null,null,null,null,null,null,null,null,2954," Agent"," AGENT","व्यवसायी","TRADE AND COMMERCE ( वाणिज्य-व्यवसाय )","व्यवसायी"," Agent"]
[null,null,null,null,null,null,null,null,null,null,null,2955,"Custom-House","CUSTOM-HOUSE","आढतिया","TRADE AND COMMERCE ( वाणिज्य-व्यवसाय )","आढतिया","Custom-House"]
[null,null,null,null,null,null,null,null,null,null,null,2956,"Petty Expenses","PETTY EXPENSES","सीमा-शुल्क भवन","TRADE AND COMMERCE ( वाणिज्य-व्यवसाय )","सीमा-शुल्क भवन","Petty Expenses"]
[null,null,null,null,null,null,null,null,null,null,null,2957,"Partner","PARTNER","मामूली खर्च","TRADE AND COMMERCE ( वाणिज्य-व्यवसाय )","मामूली खर्च","Partner"]
[null,null,null,null,null,null,null,null,null,null,null,2958,"Porterage","PORTERAGE","भागीदार","TRADE AND COMMERCE ( वाणिज्य-व्यवसाय )","भागीदार","Porterage"]
[null,null,null,null,null,null,null,null,null,null,null,2959,"Retailer","RETAILER","मोटिया का भाड़ा कुली की मजदूरी  ","TRADE AND COMMERCE ( वाणिज्य-व्यवसाय )","मोटिया का भाड़ा कुली की मजदूरी  ","Retailer"]
[null,null,null,null,null,null,null,null,null,null,null,2960,"Duties","DUTIES","खुदरा विक्रेता ","TRADE AND COMMERCE ( वाणिज्य-व्यवसाय )","खुदरा विक्रेता ","Duties"]
[null,null,null,null,null,null,null,null,null,null,null,2961,"Delivery","DELIVERY","वितरण  ","TRADE AND COMMERCE ( वाणिज्य-व्यवसाय )","वितरण  ","Delivery"]
[null,null,null,null,null,null,null,null,null,null,null,2962,"Release","RELEASE","निकासी ","TRADE AND COMMERCE ( वाणिज्य-व्यवसाय )","निकासी ","Release"]
[null,null,null,null,null,null,null,null,null,null,null,2963,"Accounts","ACCOUNTS","हिसाबलेखा ","TRADE AND COMMERCE ( वाणिज्य-व्यवसाय )","हिसाबलेखा ","Accounts"]
[null,null,null,null,null,null,null,null,null,null,null,2964," Cheque"," CHEQUE","हुण्डी ","TRADE AND COMMERCE ( वाणिज्य-व्यवसाय )","हुण्डी "," Cheque"]
[null,null,null,null,null,null,null,null,null,null,null,2965,"Through","THROUGH","मार्फ़त ","TRADE AND COMMERCE ( वाणिज्य-व्यवसाय )","मार्फ़त ","Through"]
[null,null,null,null,null,null,null,null,null,null,null,2966,"Interest","INTEREST","सूद ब्याज ","TRADE AND COMMERCE ( वाणिज्य-व्यवसाय )","सूद ब्याज ","Interest"]
[null,null,null,null,null,null,null,null,null,null,null,2967,"Discount","DISCOUNT","बट्टा,छुट","TRADE AND COMMERCE ( वाणिज्य-व्यवसाय )","बट्टा,छुट","Discount"]
[null,null,null,null,null,null,null,null,null,null,null,2968,"Wholesale-Dealer","WHOLESALE-DEALER","थोक-विक्रेता","TRADE AND COMMERCE ( वाणिज्य-व्यवसाय )","थोक-विक्रेता","Wholesale-Dealer"]
[null,null,null,null,null,null,null,null,null,null,null,2969,"Receipt","RECEIPT","रसीद","TRADE AND COMMERCE ( वाणिज्य-व्यवसाय )","रसीद","Receipt"]
[null,null,null,null,null,null,null,null,null,null,null,2970," Law"," law","कानून ","LAW AND COURT ( कानून और अदालत )","कानून "," Law"]
[null,null,null,null,null,null,null,null,null,null,null,2971,"Case,Suit","case,suit","मुक़दमा","LAW AND COURT ( कानून और अदालत )","मुक़दमा","Case,Suit"]
[null,null,null,null,null,null,null,null,null,null,null,2972,"Warrant","warrant","वारंट,परवाना","LAW AND COURT ( कानून और अदालत )","वारंट,परवाना","Warrant"]
[null,null,null,null,null,null,null,null,null,null,null,2973,"Summons","summons","समन","LAW AND COURT ( कानून और अदालत )","समन","Summons"]
[null,null,null,null,null,null,null,null,null,null,null,2974,"Court","court","अदालत","LAW AND COURT ( कानून और अदालत )","अदालत","Court"]
[null,null,null,null,null,null,null,null,null,null,null,2975,"Jail","jail","जेल,कारागार","LAW AND COURT ( कानून और अदालत )","जेल,कारागार","Jail"]
[null,null,null,null,null,null,null,null,null,null,null,2976,"Lock-Up","lock-up","जेल की कोठरी","LAW AND COURT ( कानून और अदालत )","जेल की कोठरी","Lock-Up"]
[null,null,null,null,null,null,null,null,null,null,null,2977,"Hand,Cuff","hand,cuff","हथकड़ी","LAW AND COURT ( कानून और अदालत )","हथकड़ी","Hand,Cuff"]
[null,null,null,null,null,null,null,null,null,null,null,2978,"Appeal","appeal","अपील","LAW AND COURT ( कानून और अदालत )","अपील","Appeal"]
[null,null,null,null,null,null,null,null,null,null,null,2979,"Accused","accused","आसामी,मुद्दालेह,अभियोगी","LAW AND COURT ( कानून और अदालत )","आसामी,मुद्दालेह,अभियोगी","Accused"]
[null,null,null,null,null,null,null,null,null,null,null,2980,"Judgment","judgment","फैसला","LAW AND COURT ( कानून और अदालत )","फैसला","Judgment"]
[null,null,null,null,null,null,null,null,null,null,null,2981,"Witness","witness","साक्षी,गवाह","LAW AND COURT ( कानून और अदालत )","साक्षी,गवाह","Witness"]
[null,null,null,null,null,null,null,null,null,null,null,2982,"Judge","judge","न्यायधीश","LAW AND COURT ( कानून और अदालत )","न्यायधीश","Judge"]
[null,null,null,null,null,null,null,null,null,null,null,2983,"Trial","trial","विचार","LAW AND COURT ( कानून और अदालत )","विचार","Trial"]
[null,null,null,null,null,null,null,null,null,null,null,2984,"Theft","theft","चोरी","LAW AND COURT ( कानून और अदालत )","चोरी","Theft"]
[null,null,null,null,null,null,null,null,null,null,null,2985,"Dacoity","dacoity","डकैती","LAW AND COURT ( कानून और अदालत )","डकैती","Dacoity"]
[null,null,null,null,null,null,null,null,null,null,null,2986,"Sentence","sentence","दंडाज्ञा","LAW AND COURT ( कानून और अदालत )","दंडाज्ञा","Sentence"]
[null,null,null,null,null,null,null,null,null,null,null,2987,"Prisoner","prisoner","बंदी,कैदी","LAW AND COURT ( कानून और अदालत )","बंदी,कैदी","Prisoner"]
[null,null,null,null,null,null,null,null,null,null,null,2988,"Argument","argument","जिरह,बहस,लड़ाई-झगडा","LAW AND COURT ( कानून और अदालत )","जिरह,बहस,लड़ाई-झगडा","Argument"]
[null,null,null,null,null,null,null,null,null,null,null,2989,"Evidence","evidence","गवाह,प्रमाण,सबुत","LAW AND COURT ( कानून और अदालत )","गवाह,प्रमाण,सबुत","Evidence"]
[null,null,null,null,null,null,null,null,null,null,null,2990," Bail"," bail","जमानत","LAW AND COURT ( कानून और अदालत )","जमानत"," Bail"]
[null,null,null,null,null,null,null,null,null,null,null,2991,"Cilent","cilent","मुवक्किल","LAW AND COURT ( कानून और अदालत )","मुवक्किल","Cilent"]
[null,null,null,null,null,null,null,null,null,null,null,2992,"Robbery","robbery","डकैती","LAW AND COURT ( कानून और अदालत )","डकैती","Robbery"]
[null,null,null,null,null,null,null,null,null,null,null,2993,"Murderer","murderer","खुनी,हत्यारा","LAW AND COURT ( कानून और अदालत )","खुनी,हत्यारा","Murderer"]
[null,null,null,null,null,null,null,null,null,null,null,2994,"Dock","dock","कठगरा","LAW AND COURT ( कानून और अदालत )","कठगरा","Dock"]
[null,null,null,null,null,null,null,null,null,null,null,2995,"Dismiss","dismiss","ख़ारिज करना","LAW AND COURT ( कानून और अदालत )","ख़ारिज करना","Dismiss"]
[null,null,null,null,null,null,null,null,null,null,null,2996,"Statement","statement","बयान","LAW AND COURT ( कानून और अदालत )","बयान","Statement"]
[null,null,null,null,null,null,null,null,null,null,null,2997,"Pleader","pleader","वकील","LAW AND COURT ( कानून और अदालत )","वकील","Pleader"]
[null,null,null,null,null,null,null,null,null,null,null,2998,"Document","document","अभिलेख","LAW AND COURT ( कानून और अदालत )","अभिलेख","Document"]
[null,null,null,null,null,null,null,null,null,null,null,2999,"Jury","jury","जूरी","LAW AND COURT ( कानून और अदालत )","जूरी","Jury"]
[null,null,null,null,null,null,null,null,null,null,null,3000,"Oath","oath","शपथ","LAW AND COURT ( कानून और अदालत )","शपथ","Oath"]
[null,null,null,null,null,null,null,null,null,null,null,3001,"Bond","bond","अनुबंध-पत्र","LAW AND COURT ( कानून और अदालत )","अनुबंध-पत्र","Bond"]
[null,null,null,null,null,null,null,null,null,null,null,3002,"Lease","lease","पट्टा","LAW AND COURT ( कानून और अदालत )","पट्टा","Lease"]
[null,null,null,null,null,null,null,null,null,null,null,3003,"Mortgage","mortgage","बंधक","LAW AND COURT ( कानून और अदालत )","बंधक","Mortgage"]
[null,null,null,null,null,null,null,null,null,null,null,3004,"Revenue","revenue","राजस्व","LAW AND COURT ( कानून और अदालत )","राजस्व","Revenue"]
[null,null,null,null,null,null,null,null,null,null,null,3005,"Accuser","accuser","अभियोगकर्ता","LAW AND COURT ( कानून और अदालत )","अभियोगकर्ता","Accuser"]
[null,null,null,null,null,null,null,null,null,null,null,3006,"Barrister","barrister","बारिस्टर","LAW AND COURT ( कानून और अदालत )","बारिस्टर","Barrister"]
[null,null,null,null,null,null,null,null,null,null,null,3007,"Attorny","attorny","एटोनी","LAW AND COURT ( कानून और अदालत )","एटोनी","Attorny"]
[null,null,null,null,null,null,null,null,null,null,null,3008,"Punishment","punishment","सजा","LAW AND COURT ( कानून और अदालत )","सजा","Punishment"]
[null,null,null,null,null,null,null,null,null,null,null,3009,"Peon","peon","चपरासी","LAW AND COURT ( कानून और अदालत )","चपरासी","Peon"]
[null,null,null,null,null,null,null,null,null,null,null,3010,{"$f":"PROPER(N3038)","v":"Officer"},"officer","अधिकारी","LAW AND COURT ( कानून और अदालत )","अधिकारी",{"$f":"PROPER(N3038)","v":"Officer"}]
[null,null,null,null,null,null,null,null,null,null,null,3011,"High Court","high court","उच्च -न्यायालय","LAW AND COURT ( कानून और अदालत )","उच्च -न्यायालय","High Court"]
[null,null,null,null,null,null,null,null,null,null,null,3012,"Supreme-Court","supreme-court","उच्चतम न्यायालय","LAW AND COURT ( कानून और अदालत )",{"$f":"O3040","v":"उच्चतम न्यायालय"},"Supreme-Court"]
[null,null,null,null,null,null,null,null,null,null,null,3013,"Tax","tax","कर","LAW AND COURT ( कानून और अदालत )","कर","Tax"]
[null,null,null,null,null,null,null,null,null,null,null,3014,"Income Tax","income tax","आयकर","LAW AND COURT ( कानून और अदालत )","आयकर","Income Tax"]
[null,null,null,null,null,null,null,null,null,null,null,3015,"Civil-Court","civil-court","दीवानी अदालत","LAW AND COURT ( कानून और अदालत )","दीवानी अदालत","Civil-Court"]
[null,null,null,null,null,null,null,null,null,null,null,3016,"Criminal-Court","criminal-court","फौजदारी अदालत","LAW AND COURT ( कानून और अदालत )","फौजदारी अदालत","Criminal-Court"]
[null,null,null,null,null,null,null,null,null,null,null,3017,"Hanging","hanging","फाँसी","LAW AND COURT ( कानून और अदालत )","फाँसी","Hanging"]
[null,null,null,null,null,null,null,null,null,null,null,3018,"Imprisonment","imprisonment","कैदी","LAW AND COURT ( कानून और अदालत )","कैदी","Imprisonment"]
[null,null,null,null,null,null,null,null,null,null,null,3019,"Rent","rent","किराया","LAW AND COURT ( कानून और अदालत )","किराया","Rent"]
[null,null,null,null,null,null,null,null,null,null,null,3020,"Small-Causes-Court","small-causes-court","निम्न अदालत","LAW AND COURT ( कानून और अदालत )","निम्न अदालत","Small-Causes-Court"]
[null,null,null,null,null,null,null,null,null,null,null,3021," Lawyer"," lawyer","वकील","LAW AND COURT ( कानून और अदालत )","वकील"," Lawyer"]
[null,null,null,null,null,null,null,null,null,null,null,3022,"Charge","charge","अभियोग","LAW AND COURT ( कानून और अदालत )","अभियोग","Charge"]
[null,null,null,null,null,null,null,null,null,null,null,3023,"Claim","claim","दावा","LAW AND COURT ( कानून और अदालत )","दावा","Claim"]
[null,null,null,null,null,null,null,null,null,null,null,3024,"Because","because","क्योंकि","CONJUNCTION ( सयोंजकअव्यव )","क्योंकि","Because"]
[null,null,null,null,null,null,null,null,null,null,null,3025," However"," however","जैसे भी हो","CONJUNCTION ( सयोंजकअव्यव )","जैसे भी हो"," However"]
[null,null,null,null,null,null,null,null,null,null,null,3026,"Accordingly","accordingly","इसी के अनुसार","CONJUNCTION ( सयोंजकअव्यव )","इसी के अनुसार","Accordingly"]
[null,null,null,null,null,null,null,null,null,null,null,3027,"Therefore","therefore","अतएव,अत:","CONJUNCTION ( सयोंजकअव्यव )","अतएव,अत:","Therefore"]
[null,null,null,null,null,null,null,null,null,null,null,3028,"Either-Or","either-or","या-तो","CONJUNCTION ( सयोंजकअव्यव )","या-तो","Either-Or"]
[null,null,null,null,null,null,null,null,null,null,null,3029,"Neither-Nor","neither-nor","नहीं-तो","CONJUNCTION ( सयोंजकअव्यव )","नहीं-तो","Neither-Nor"]
[null,null,null,null,null,null,null,null,null,null,null,3030,"And","and","और","CONJUNCTION ( सयोंजकअव्यव )","और","And"]
[null,null,null,null,null,null,null,null,null,null,null,3031,"If","if","यदि","CONJUNCTION ( सयोंजकअव्यव )","यदि","If"]
[null,null,null,null,null,null,null,null,null,null,null,3032," So"," so","उस प्रकार","CONJUNCTION ( सयोंजकअव्यव )","उस प्रकार"," So"]
[null,null,null,null,null,null,null,null,null,null,null,3033,"Or","or","अथवा","CONJUNCTION ( सयोंजकअव्यव )","अथवा","Or"]
[null,null,null,null,null,null,null,null,null,null,null,3034,"Also","also","और भी,भी","CONJUNCTION ( सयोंजकअव्यव )","और भी,भी","Also"]
[null,null,null,null,null,null,null,null,null,null,null,3035,"Else","else","नहीं तो,अन्यथा","CONJUNCTION ( सयोंजकअव्यव )","नहीं तो,अन्यथा","Else"]
[null,null,null,null,null,null,null,null,null,null,null,3036,"Than","than","अपेक्षा","CONJUNCTION ( सयोंजकअव्यव )","अपेक्षा","Than"]
[null,null,null,null,null,null,null,null,null,null,null,3037,"That","that","वह","CONJUNCTION ( सयोंजकअव्यव )","वह","That"]
[null,null,null,null,null,null,null,null,null,null,null,3038," Then"," then","तब","CONJUNCTION ( सयोंजकअव्यव )","तब"," Then"]
[null,null,null,null,null,null,null,null,null,null,null,3039," When"," when","जब","CONJUNCTION ( सयोंजकअव्यव )","जब"," When"]
[null,null,null,null,null,null,null,null,null,null,null,3040," As"," as","जैसे","CONJUNCTION ( सयोंजकअव्यव )","जैसे"," As"]
[null,null,null,null,null,null,null,null,null,null,null,3041,"Yet","yet","तथापि","CONJUNCTION ( सयोंजकअव्यव )","तथापि","Yet"]
[null,null,null,null,null,null,null,null,null,null,null,3042,"But","but","परन्तु,किन्तु","CONJUNCTION ( सयोंजकअव्यव )","परन्तु,किन्तु","But"]
[null,null,null,null,null,null,null,null,null,null,null,3043," For"," for","कारण,लिये","CONJUNCTION ( सयोंजकअव्यव )","कारण,लिये"," For"]
[null,null,null,null,null,null,null,null,null,null,null,3044,"While","while","जबकि","CONJUNCTION ( सयोंजकअव्यव )","जबकि","While"]
[null,null,null,null,null,null,null,null,null,null,null,3045,"Lest","lest","पीछे ऐसा न हो","CONJUNCTION ( सयोंजकअव्यव )","पीछे ऐसा न हो","Lest"]
[null,null,null,null,null,null,null,null,null,null,null,3046,"Although","although","यद्यपि","CONJUNCTION ( सयोंजकअव्यव )","यद्यपि","Although"]
[null,null,null,null,null,null,null,null,null,null,null,3047,"Though","though","यद्यपि","CONJUNCTION ( सयोंजकअव्यव )","यद्यपि","Though"]
[null,null,null,null,null,null,null,null,null,null,null,3048,"Since","since","इसलिए","CONJUNCTION ( सयोंजकअव्यव )","इसलिए","Since"]
[null,null,null,null,null,null,null,null,null,null,null,3049,"Yes","YES","हाँ","ADVERB ( क्रिया-विशेषण )","हाँ","Yes"]
[null,null,null,null,null,null,null,null,null,null,null,3050,"No","NO","नहीं","ADVERB ( क्रिया-विशेषण )","नहीं","No"]
[null,null,null,null,null,null,null,null,null,null,null,3051,"Then","then","तब","ADVERB ( क्रिया-विशेषण )","तब","Then"]
[null,null,null,null,null,null,null,null,null,null,null,3052,"  In","  in","भीतर","ADVERB ( क्रिया-विशेषण )","भीतर","  In"]
[null,null,null,null,null,null,null,null,null,null,null,3053,"Here","here","यहाँ","ADVERB ( क्रिया-विशेषण )","यहाँ","Here"]
[null,null,null,null,null,null,null,null,null,null,null,3054,"There","there","वहाँ","ADVERB ( क्रिया-विशेषण )","वहाँ","There"]
[null,null,null,null,null,null,null,null,null,null,null,3055,"Late","late","देरी से","ADVERB ( क्रिया-विशेषण )","देरी से","Late"]
[null,null,null,null,null,null,null,null,null,null,null,3056,"Quickly","quickly","शिघ्रातिशिग्र","ADVERB ( क्रिया-विशेषण )","शिघ्रातिशिग्र","Quickly"]
[null,null,null,null,null,null,null,null,null,null,null,3057,"Gently","gently","भद्रता से,सभ्यता से","ADVERB ( क्रिया-विशेषण )","भद्रता से,सभ्यता से","Gently"]
[null,null,null,null,null,null,null,null,null,null,null,3058,"Early","early","सुबह-सुबह","ADVERB ( क्रिया-विशेषण )","सुबह-सुबह","Early"]
[null,null,null,null,null,null,null,null,null,null,null,3059,"Softly","softly","नम्रतापूर्वक,नरमी से","ADVERB ( क्रिया-विशेषण )","नम्रतापूर्वक,नरमी से","Softly"]
[null,null,null,null,null,null,null,null,null,null,null,3060,"Nicely","nicely","सुन्दर ढंग से","ADVERB ( क्रिया-विशेषण )","सुन्दर ढंग से","Nicely"]
[null,null,null,null,null,null,null,null,null,null,null,3061,"Out","out","बाहर","ADVERB ( क्रिया-विशेषण )","बाहर","Out"]
[null,null,null,null,null,null,null,null,null,null,null,3062,"Why","why","क्योंकि","ADVERB ( क्रिया-विशेषण )","क्योंकि","Why"]
[null,null,null,null,null,null,null,null,null,null,null,3063,"However","however","केसे","ADVERB ( क्रिया-विशेषण )","केसे","However"]
[null,null,null,null,null,null,null,null,null,null,null,3064,"Up","up","ऊपर","ADVERB ( क्रिया-विशेषण )","ऊपर","Up"]
[null,null,null,null,null,null,null,null,null,null,null,3065,"Down","down","निचे","ADVERB ( क्रिया-विशेषण )","निचे","Down"]
[null,null,null,null,null,null,null,null,null,null,null,3066,"As","as","जैसा","ADVERB ( क्रिया-विशेषण )","जैसा","As"]
[null,null,null,null,null,null,null,null,null,null,null,3067,"So","so","तैसा","ADVERB ( क्रिया-विशेषण )","तैसा","So"]
[null,null,null,null,null,null,null,null,null,null,null,3068,"Ago","ago","पहले","ADVERB ( क्रिया-विशेषण )","पहले","Ago"]
[null,null,null,null,null,null,null,null,null,null,null,3069,"Again","again","फिर से","ADVERB ( क्रिया-विशेषण )","फिर से","Again"]
[null,null,null,null,null,null,null,null,null,null,null,3070,"Brightly","brightly","उज्जवल रूप से","ADVERB ( क्रिया-विशेषण )","उज्जवल रूप से","Brightly"]
[null,null,null,null,null,null,null,null,null,null,null,3071,"Sweetly","sweetly","मधुरतापूर्वक","ADVERB ( क्रिया-विशेषण )","मधुरतापूर्वक","Sweetly"]
[null,null,null,null,null,null,null,null,null,null,null,3072,"More","more","और भी,ज्यादा,अधिक","ADVERB ( क्रिया-विशेषण )","और भी,ज्यादा,अधिक","More"]
[null,null,null,null,null,null,null,null,null,null,null,3073,"Far","far","दूर","ADVERB ( क्रिया-विशेषण )","दूर","Far"]
[null,null,null,null,null,null,null,null,null,null,null,3074,{"$f":"PROPER(N3102)","v":"Soon"},"soon","जल्दी,शीघ्र","ADVERB ( क्रिया-विशेषण )","जल्दी,शीघ्र",{"$f":"PROPER(N3102)","v":"Soon"}]
[null,null,null,null,null,null,null,null,null,null,null,3075,"Slowly","slowly","धीरे-धीरे","ADVERB ( क्रिया-विशेषण )","धीरे-धीरे","Slowly"]
[null,null,null,null,null,null,null,null,null,null,null,3076,"Fast","fast","तेज,जल्दी-जल्दी","ADVERB ( क्रिया-विशेषण )",{"$f":"O3104","v":"तेज,जल्दी-जल्दी"},"Fast"]
[null,null,null,null,null,null,null,null,null,null,null,3077,"Almost","almost","प्राय:","ADVERB ( क्रिया-विशेषण )","प्राय:","Almost"]
[null,null,null,null,null,null,null,null,null,null,null,3078,"Gladly","gladly","सानन्द,आनंद के साथ","ADVERB ( क्रिया-विशेषण )","सानन्द,आनंद के साथ","Gladly"]
[null,null,null,null,null,null,null,null,null,null,null,3079,"Attentively","attentively","ध्यान लगाकर ,एकाग्रता से,ध्यान से","ADVERB ( क्रिया-विशेषण )","ध्यान लगाकर ,एकाग्रता से,ध्यान से","Attentively"]
[null,null,null,null,null,null,null,null,null,null,null,3080,"Possibly","possibly","संभवत:","ADVERB ( क्रिया-विशेषण )","संभवत:","Possibly"]
[null,null,null,null,null,null,null,null,null,null,null,3081," After"," after","बाद में","ADVERB ( क्रिया-विशेषण )","बाद में"," After"]
[null,null,null,null,null,null,null,null,null,null,null,3082," Before"," before","पहले","ADVERB ( क्रिया-विशेषण )","पहले"," Before"]
[null,null,null,null,null,null,null,null,null,null,null,3083,"Daily","daily","नित्य,दैनिक","ADVERB ( क्रिया-विशेषण )","नित्य,दैनिक","Daily"]
[null,null,null,null,null,null,null,null,null,null,null,3084,"Near","near","पास","ADVERB ( क्रिया-विशेषण )","पास","Near"]
[null,null,null,null,null,null,null,null,null,null,null,3085,"Only","only","केवल,सिर्फ","ADVERB ( क्रिया-विशेषण )","केवल,सिर्फ","Only"]
[null,null,null,null,null,null,null,null,null,null,null,3086,"When","when","कब","ADVERB ( क्रिया-विशेषण )","कब","When"]
[null,null,null,null,null,null,null,null,null,null,null,3087,"Monthly","monthly","मासिक,माहवारी","ADVERB ( क्रिया-विशेषण )","मासिक,माहवारी","Monthly"]
[null,null,null,null,null,null,null,null,null,null,null,3088,"Never","never","कभी नहीं","ADVERB ( क्रिया-विशेषण )","कभी नहीं","Never"]
[null,null,null,null,null,null,null,null,null,null,null,3089,"Once","once","एक बार","ADVERB ( क्रिया-विशेषण )","एक बार","Once"]
[null,null,null,null,null,null,null,null,null,null,null,3090,"Sometimes","sometimes","कभी,कभी","ADVERB ( क्रिया-विशेषण )","कभी,कभी","Sometimes"]
[null,null,null,null,null,null,null,null,null,null,null,3091,"Where","where","कहाँ","ADVERB ( क्रिया-विशेषण )","कहाँ","Where"]
[null,null,null,null,null,null,null,null,null,null,null,3092,"Often","often","प्राय:","ADVERB ( क्रिया-विशेषण )","प्राय:","Often"]
[null,null,null,null,null,null,null,null,null,null,null,3093,"Thus","thus","इस प्रकार","ADVERB ( क्रिया-विशेषण )","इस प्रकार","Thus"]
[null,null,null,null,null,null,null,null,null,null,null,3094,"Always","always","सदा,सर्वदा","ADVERB ( क्रिया-विशेषण )","सदा,सर्वदा","Always"]
[null,null,null,null,null,null,null,null,null,null,null,3095,"O","O","ओह!","INTERJECTION ( विस्मयादिबोधक अव्यव )","ओह!","O"]
[null,null,null,null,null,null,null,null,null,null,null,3096,"Hello","hello","हेलो,सुनिए तो","INTERJECTION ( विस्मयादिबोधक अव्यव )","हेलो,सुनिए तो","Hello"]
[null,null,null,null,null,null,null,null,null,null,null,3097,"Fie","fie","छी: ! छी: !","INTERJECTION ( विस्मयादिबोधक अव्यव )","छी: ! छी: !","Fie"]
[null,null,null,null,null,null,null,null,null,null,null,3098,"Alas","alas","हाय! हाय!","INTERJECTION ( विस्मयादिबोधक अव्यव )","हाय! हाय!","Alas"]
[null,null,null,null,null,null,null,null,null,null,null,3099,"Pooh","pooh","हटो?","INTERJECTION ( विस्मयादिबोधक अव्यव )","हटो?","Pooh"]
[null,null,null,null,null,null,null,null,null,null,null,3100,"Hush","hush","चुप रहो","INTERJECTION ( विस्मयादिबोधक अव्यव )","चुप रहो","Hush"]
[null,null,null,null,null,null,null,null,null,null,null,3101,"Oh","OH","हाय! अरे!","INTERJECTION ( विस्मयादिबोधक अव्यव )","हाय! अरे!","Oh"]
[null,null,null,null,null,null,null,null,null,null,null,3102,"Good-Bye","good-bye","अलविदा","INTERJECTION ( विस्मयादिबोधक अव्यव )","अलविदा","Good-Bye"]
[null,null,null,null,null,null,null,null,null,null,null,3103,"Bravo","bravo","वाह! वाह!","INTERJECTION ( विस्मयादिबोधक अव्यव )","वाह! वाह!","Bravo"]
[null,null,null,null,null,null,null,null,null,null,null,3104,"Hurrah","hurrah","शाबाश","INTERJECTION ( विस्मयादिबोधक अव्यव )","शाबाश","Hurrah"]
[null,null,null,null,null,null,null,null,null,null,null,3105,"Big","big","बड़ा","ADJECTIVES ( विशेषण )","बड़ा","Big"]
[null,null,null,null,null,null,null,null,null,null,null,3106,"Soft","soft","नरम","ADJECTIVES ( विशेषण )","नरम","Soft"]
[null,null,null,null,null,null,null,null,null,null,null,3107,"Hot","hot","गरम","ADJECTIVES ( विशेषण )","गरम","Hot"]
[null,null,null,null,null,null,null,null,null,null,null,3108,"Cold","cold","ठंडा","ADJECTIVES ( विशेषण )","ठंडा","Cold"]
[null,null,null,null,null,null,null,null,null,null,null,3109,"Clean","clean","स्वच्छ","ADJECTIVES ( विशेषण )","स्वच्छ","Clean"]
[null,null,null,null,null,null,null,null,null,null,null,3110,"Dirty","dirty","गन्दा","ADJECTIVES ( विशेषण )","गन्दा","Dirty"]
[null,null,null,null,null,null,null,null,null,null,null,3111,"Strong","strong","बलवान","ADJECTIVES ( विशेषण )","बलवान","Strong"]
[null,null,null,null,null,null,null,null,null,null,null,3112,"Weak","weak","कमजोर","ADJECTIVES ( विशेषण )","कमजोर","Weak"]
[null,null,null,null,null,null,null,null,null,null,null,3113,"Stupid","stupid","मुर्ख","ADJECTIVES ( विशेषण )","मुर्ख","Stupid"]
[null,null,null,null,null,null,null,null,null,null,null,3114,"Clever","clever","चतुर","ADJECTIVES ( विशेषण )","चतुर","Clever"]
[null,null,null,null,null,null,null,null,null,null,null,3115,"Beautiful","beautiful","सुन्दर ","ADJECTIVES ( विशेषण )","सुन्दर ","Beautiful"]
[null,null,null,null,null,null,null,null,null,null,null,3116,"Small","small","छोटा","ADJECTIVES ( विशेषण )","छोटा","Small"]
[null,null,null,null,null,null,null,null,null,null,null,3117,"Tall","tall","लम्बा","ADJECTIVES ( विशेषण )","लम्बा","Tall"]
[null,null,null,null,null,null,null,null,null,null,null,3118,"Short","short","नाटा","ADJECTIVES ( विशेषण )","नाटा","Short"]
[null,null,null,null,null,null,null,null,null,null,null,3119,"Good","good","अच्छा","ADJECTIVES ( विशेषण )","अच्छा","Good"]
[null,null,null,null,null,null,null,null,null,null,null,"        3120 bad","Bad","bad","बुरा","ADJECTIVES ( विशेषण )","बुरा","Bad"]
[null,null,null,null,null,null,null,null,null,null,null,3121,"High","high","ऊँचा","ADJECTIVES ( विशेषण )","ऊँचा","High"]
[null,null,null,null,null,null,null,null,null,null,null,"        3122 low","Low","low","नीचा","ADJECTIVES ( विशेषण )","नीचा","Low"]
[null,null,null,null,null,null,null,null,null,null,null,3124," True"," TRUE","सत्य","ADJECTIVES ( विशेषण )","सत्य"," True"]
[null,null,null,null,null,null,null,null,null,null,null,3125," False"," FALSE","झूठ","ADJECTIVES ( विशेषण )","झूठ"," False"]
[null,null,null,null,null,null,null,null,null,null,null,3126,"New","new","नया ","ADJECTIVES ( विशेषण )","नया ","New"]
[null,null,null,null,null,null,null,null,null,null,null,3127,"Old","old","पुराना","ADJECTIVES ( विशेषण )","पुराना","Old"]
[null,null,null,null,null,null,null,null,null,null,null,3128,"Hard","hard","कडा,कठोर","ADJECTIVES ( विशेषण )","कडा,कठोर","Hard"]
[null,null,null,null,null,null,null,null,null,null,null,3129,"Ugly","ugly","कुरूप,बदसूरत","ADJECTIVES ( विशेषण )","कुरूप,बदसूरत","Ugly"]
[null,null,null,null,null,null,null,null,null,null,null,3130,"Well","well","स्वस्थ,अच्छा","ADJECTIVES ( विशेषण )","स्वस्थ,अच्छा","Well"]
[null,null,null,null,null,null,null,null,null,null,null,3131,"Rich","rich","धनी,अमीर","ADJECTIVES ( विशेषण )","धनी,अमीर","Rich"]
[null,null,null,null,null,null,null,null,null,null,null,3132,"Poor","poor","गरीब","ADJECTIVES ( विशेषण )","गरीब","Poor"]
[null,null,null,null,null,null,null,null,null,null,null,3133,"Kind","kind","दयालु","ADJECTIVES ( विशेषण )","दयालु","Kind"]
[null,null,null,null,null,null,null,null,null,null,null,"        3134  cruel","Cruel","cruel","निष्ठुर","ADJECTIVES ( विशेषण )","निष्ठुर","Cruel"]
[null,null,null,null,null,null,null,null,null,null,null,3135,"Sweet","sweet","मीठा","ADJECTIVES ( विशेषण )","मीठा","Sweet"]
[null,null,null,null,null,null,null,null,null,null,null,3136,"Lame","lame","लंगड़ा","ADJECTIVES ( विशेषण )","लंगड़ा","Lame"]
[null,null,null,null,null,null,null,null,null,null,null,3137,"Deaf","deaf","बहरा","ADJECTIVES ( विशेषण )","बहरा","Deaf"]
[null,null,null,null,null,null,null,null,null,null,null,3138,"Dumb","dumb","मूक,गूँगा","ADJECTIVES ( विशेषण )","मूक,गूँगा","Dumb"]
[null,null,null,null,null,null,null,null,null,null,null,3139,{"$f":"PROPER(N3166)","v":"Blind"},"blind","अँधा","ADJECTIVES ( विशेषण )","अँधा",{"$f":"PROPER(N3166)","v":"Blind"}]
[null,null,null,null,null,null,null,null,null,null,null,3140,"Bold","bold","साहसी","ADJECTIVES ( विशेषण )","साहसी","Bold"]
[null,null,null,null,null,null,null,null,null,null,null,3141,"Timid","timid","डरपोक","ADJECTIVES ( विशेषण )",{"$f":"O3168","v":"डरपोक"},"Timid"]
[null,null,null,null,null,null,null,null,null,null,null,3142,"Happy","happy","सुखी","ADJECTIVES ( विशेषण )","सुखी","Happy"]
[null,null,null,null,null,null,null,null,null,null,null,3143," Idle"," idle","आलसी","ADJECTIVES ( विशेषण )","आलसी"," Idle"]
[null,null,null,null,null,null,null,null,null,null,null,3144,"Busy","busy","व्यस्त","ADJECTIVES ( विशेषण )","व्यस्त","Busy"]
[null,null,null,null,null,null,null,null,null,null,null,3145,"Foolish","foolish","मुर्ख","ADJECTIVES ( विशेषण )","मुर्ख","Foolish"]
[null,null,null,null,null,null,null,null,null,null,null,3146,"Wise","wise","ज्ञानी","ADJECTIVES ( विशेषण )","ज्ञानी","Wise"]
[null,null,null,null,null,null,null,null,null,null,null,3147,"Fat","fat","मोटा","ADJECTIVES ( विशेषण )","मोटा","Fat"]
[null,null,null,null,null,null,null,null,null,null,null,3148,"Thin","thin","कमजोर,दुबला-पतला","ADJECTIVES ( विशेषण )","कमजोर,दुबला-पतला","Thin"]
[null,null,null,null,null,null,null,null,null,null,null,3149,"Pet","pet","पालतू","ADJECTIVES ( विशेषण )","पालतू","Pet"]
[null,null,null,null,null,null,null,null,null,null,null,3150,"Sad","sad","दुखी,उदास","ADJECTIVES ( विशेषण )","दुखी,उदास","Sad"]
[null,null,null,null,null,null,null,null,null,null,null,3151,"Sharp","sharp","तीक्ष्ण,तीखा","ADJECTIVES ( विशेषण )","तीक्ष्ण,तीखा","Sharp"]
[null,null,null,null,null,null,null,null,null,null,null,3152,"Blunt","blunt","भोथा","ADJECTIVES ( विशेषण )","भोथा","Blunt"]
[null,null,null,null,null,null,null,null,null,null,null,3153,"Ill","ill","अस्वस्थ","ADJECTIVES ( विशेषण )","अस्वस्थ","Ill"]
[null,null,null,null,null,null,null,null,null,null,null,3154,"Calm","calm","शांत","ADJECTIVES ( विशेषण )","शांत","Calm"]
[null,null,null,null,null,null,null,null,null,null,null,3155,"Naughty","naughty","शरारती,शैतान","ADJECTIVES ( विशेषण )","शरारती,शैतान","Naughty"]
[null,null,null,null,null,null,null,null,null,null,null,3156,"To","to","प्रति,प्राप्तकर्ता","PREPOSITIONS ( सम्बन्धवाचक अव्यव )","प्रति,प्राप्तकर्ता","To"]
[null,null,null,null,null,null,null,null,null,null,null,3157,"At","at","पर","PREPOSITIONS ( सम्बन्धवाचक अव्यव )","पर","At"]
[null,null,null,null,null,null,null,null,null,null,null,3158,"In","in","भीतर","PREPOSITIONS ( सम्बन्धवाचक अव्यव )","भीतर","In"]
[null,null,null,null,null,null,null,null,null,null,null,3159," By"," by","द्वारा","PREPOSITIONS ( सम्बन्धवाचक अव्यव )","द्वारा"," By"]
[null,null,null,null,null,null,null,null,null,null,null,3160,"Of","of","का,के,की","PREPOSITIONS ( सम्बन्धवाचक अव्यव )","का,के,की","Of"]
[null,null,null,null,null,null,null,null,null,null,null,3161,"On","on","ऊपर","PREPOSITIONS ( सम्बन्धवाचक अव्यव )","ऊपर","On"]
[null,null,null,null,null,null,null,null,null,null,null,3162,"Above","above","ऊपर","PREPOSITIONS ( सम्बन्धवाचक अव्यव )","ऊपर","Above"]
[null,null,null,null,null,null,null,null,null,null,null,3163,"Within","within","भीतर","PREPOSITIONS ( सम्बन्धवाचक अव्यव )","भीतर","Within"]
[null,null,null,null,null,null,null,null,null,null,null,3164,"For","for","के लिए","PREPOSITIONS ( सम्बन्धवाचक अव्यव )","के लिए","For"]
[null,null,null,null,null,null,null,null,null,null,null,3165,"Under","under","नीचे","PREPOSITIONS ( सम्बन्धवाचक अव्यव )","नीचे","Under"]
[null,null,null,null,null,null,null,null,null,null,null,3166,"Into","into","मध्य में,में","PREPOSITIONS ( सम्बन्धवाचक अव्यव )","मध्य में,में","Into"]
[null,null,null,null,null,null,null,null,null,null,null,3167,"After","after","बाद में","PREPOSITIONS ( सम्बन्धवाचक अव्यव )","बाद में","After"]
[null,null,null,null,null,null,null,null,null,null,null,3168,"From","from","से,प्रेषक","PREPOSITIONS ( सम्बन्धवाचक अव्यव )","से,प्रेषक","From"]
[null,null,null,null,null,null,null,null,null,null,null,3169,"Except","except","छोड़कर","PREPOSITIONS ( सम्बन्धवाचक अव्यव )","छोड़कर","Except"]
[null,null,null,null,null,null,null,null,null,null,null,3170,"Without","without","अलावा,सिवाय","PREPOSITIONS ( सम्बन्धवाचक अव्यव )","अलावा,सिवाय","Without"]
[null,null,null,null,null,null,null,null,null,null,null,3171,"Against","against","विरुध्द","PREPOSITIONS ( सम्बन्धवाचक अव्यव )","विरुध्द","Against"]
[null,null,null,null,null,null,null,null,null,null,null,3172,"Below","below","नीचे","PREPOSITIONS ( सम्बन्धवाचक अव्यव )","नीचे","Below"]
[null,null,null,null,null,null,null,null,null,null,null,3173,"Round","round","चारो ओर,चतुर्दिक","PREPOSITIONS ( सम्बन्धवाचक अव्यव )","चारो ओर,चतुर्दिक","Round"]
[null,null,null,null,null,null,null,null,null,null,null,3174,"Till","till","तक","PREPOSITIONS ( सम्बन्धवाचक अव्यव )","तक","Till"]
[null,null,null,null,null,null,null,null,null,null,null,3175,"With","with","साथ में","PREPOSITIONS ( सम्बन्धवाचक अव्यव )","साथ में","With"]
[null,null,null,null,null,null,null,null,null,null,null,3176,"Over","over","ऊपर से","PREPOSITIONS ( सम्बन्धवाचक अव्यव )","ऊपर से","Over"]
[null,null,null,null,null,null,null,null,null,null,null,3177,"About","about","प्राय:","PREPOSITIONS ( सम्बन्धवाचक अव्यव )","प्राय:","About"]
[null,null,null,null,null,null,null,null,null,null,null,3178,"Before","before","पहले,सामने","PREPOSITIONS ( सम्बन्धवाचक अव्यव )","पहले,सामने","Before"]
[null,null,null,null,null,null,null,null,null,null,null,3179,"Along","along","मध्य","PREPOSITIONS ( सम्बन्धवाचक अव्यव )","मध्य","Along"]
[null,null,null,null,null,null,null,null,null,null,null,3180,"Among","among","मध्य","PREPOSITIONS ( सम्बन्धवाचक अव्यव )","मध्य","Among"]
[null,null,null,null,null,null,null,null,null,null,null,3181,"Fever","fever","बुखार,ज्वर","DISEASES ( बीमारियाँ )","बुखार,ज्वर","Fever"]
[null,null,null,null,null,null,null,null,null,null,null,3182,"Ague","ague","क्म्पज्वर,शीतज्वर","DISEASES ( बीमारियाँ )","क्म्पज्वर,शीतज्वर","Ague"]
[null,null,null,null,null,null,null,null,null,null,null,3183,"Malaria","malaria","मलेरिया","DISEASES ( बीमारियाँ )","मलेरिया","Malaria"]
[null,null,null,null,null,null,null,null,null,null,null,3184,"Tyohoid","tyohoid","मियादी बुखार","DISEASES ( बीमारियाँ )","मियादी बुखार","Tyohoid"]
[null,null,null,null,null,null,null,null,null,null,null,3185,"Cholera","cholera","हैजा","DISEASES ( बीमारियाँ )","हैजा","Cholera"]
[null,null,null,null,null,null,null,null,null,null,null,3186,"Cough","cough","खाँसी","DISEASES ( बीमारियाँ )","खाँसी","Cough"]
[null,null,null,null,null,null,null,null,null,null,null,3187,"Piles","piles","सर्दी","DISEASES ( बीमारियाँ )","सर्दी","Piles"]
[null,null,null,null,null,null,null,null,null,null,null,3188,"Dyspesia","dyspesia","अर्श,बवासीर","DISEASES ( बीमारियाँ )","अर्श,बवासीर","Dyspesia"]
[null,null,null,null,null,null,null,null,null,null,null,3189,"Small-Pox","small-pox","अजीर्ण","DISEASES ( बीमारियाँ )","अजीर्ण","Small-Pox"]
[null,null,null,null,null,null,null,null,null,null,null,3190,"Blood-Dysentery","blood-dysentery","चेचक-शीतला","DISEASES ( बीमारियाँ )","चेचक-शीतला","Blood-Dysentery"]
[null,null,null,null,null,null,null,null,null,null,null,3191,"Influenza","influenza","रक्तामाशय,रक्तातिसार","DISEASES ( बीमारियाँ )","रक्तामाशय,रक्तातिसार","Influenza"]
[null,null,null,null,null,null,null,null,null,null,null,3192,"Pus","pus","इन्फ्लुएंजा","DISEASES ( बीमारियाँ )","इन्फ्लुएंजा","Pus"]
[null,null,null,null,null,null,null,null,null,null,null,3193,"Dysentery","dysentery","पेचिश","DISEASES ( बीमारियाँ )","पेचिश","Dysentery"]
[null,null,null,null,null,null,null,null,null,null,null,3194,"Vomitting","vomitting","उल्टी,कै,मन","DISEASES ( बीमारियाँ )","उल्टी,कै,मन","Vomitting"]
[null,null,null,null,null,null,null,null,null,null,null,3195,"Measles","measles","खसरा,शीतला","DISEASES ( बीमारियाँ )","खसरा,शीतला","Measles"]
[null,null,null,null,null,null,null,null,null,null,null,3196,"Boil","boil","फोड़ा","DISEASES ( बीमारियाँ )","फोड़ा","Boil"]
[null,null,null,null,null,null,null,null,null,null,null,3197,"Ring-Worm","ring-worm","दाद,दिनाय","DISEASES ( बीमारियाँ )","दाद,दिनाय","Ring-Worm"]
[null,null,null,null,null,null,null,null,null,null,null,3198,"Asthma","asthma","शूल","DISEASES ( बीमारियाँ )","शूल","Asthma"]
[null,null,null,null,null,null,null,null,null,null,null,3199,"Wound","wound","घाव","DISEASES ( बीमारियाँ )","घाव","Wound"]
[null,null,null,null,null,null,null,null,null,null,null,3200,"Hurt","hurt","चोट","DISEASES ( बीमारियाँ )","चोट","Hurt"]
[null,null,null,null,null,null,null,null,null,null,null,3201,"Chicken-Pox","chicken-pox","छोटी चेचक","DISEASES ( बीमारियाँ )","छोटी चेचक","Chicken-Pox"]
[null,null,null,null,null,null,null,null,null,null,null,3202,"Pthisis","pthisis","क्षयरोग,यक्ष्मा","DISEASES ( बीमारियाँ )","क्षयरोग,यक्ष्मा","Pthisis"]
[null,null,null,null,null,null,null,null,null,null,null,3203,{"$f":"PROPER(N3230)","v":"Headache"},"headache","सिरदर्द","DISEASES ( बीमारियाँ )","सिरदर्द",{"$f":"PROPER(N3230)","v":"Headache"}]
[null,null,null,null,null,null,null,null,null,null,null,3204,"Hysteria","hysteria","उन्माद","DISEASES ( बीमारियाँ )","उन्माद","Hysteria"]
[null,null,null,null,null,null,null,null,null,null,null,3205,"Paralysis","paralysis","पक्षाघात","DISEASES ( बीमारियाँ )",{"$f":"O3232","v":"पक्षाघात"},"Paralysis"]
[null,null,null,null,null,null,null,null,null,null,null,3206,"Nettle-Rash","nettle-rash","पित्ती","DISEASES ( बीमारियाँ )","पित्ती","Nettle-Rash"]
[null,null,null,null,null,null,null,null,null,null,null,3207,"Diabetes","diabetes","बहुमूत्र","DISEASES ( बीमारियाँ )","बहुमूत्र","Diabetes"]
[null,null,null,null,null,null,null,null,null,null,null,3208,"Suicide","suicide","आत्महत्या","DISEASES ( बीमारियाँ )","आत्महत्या","Suicide"]
[null,null,null,null,null,null,null,null,null,null,null,3209,"Gout","gout","वात रोग,गठिया","DISEASES ( बीमारियाँ )","वात रोग,गठिया","Gout"]
[null,null,null,null,null,null,null,null,null,null,null,3210,"Leprosy","leprosy","कुष्ट,कोढ़","DISEASES ( बीमारियाँ )","कुष्ट,कोढ़","Leprosy"]
[null,null,null,null,null,null,null,null,null,null,null,3211,"Blood-Pressure(Bp)","blood-pressure(BP)","रक्तचाप","DISEASES ( बीमारियाँ )","रक्तचाप","Blood-Pressure(Bp)"]
[null,null,null,null,null,null,null,null,null,null,null,3212,"Sunstroke","sunstroke","लू लगना","DISEASES ( बीमारियाँ )","लू लगना","Sunstroke"]
[null,null,null,null,null,null,null,null,null,null,null,3213,"Tytanus","tytanus","धनुंष्टकार","DISEASES ( बीमारियाँ )","धनुंष्टकार","Tytanus"]
[null,null,null,null,null,null,null,null,null,null,null,3214,"Worm","worm","कृमि","DISEASES ( बीमारियाँ )","कृमि","Worm"]
[null,null,null,null,null,null,null,null,null,null,null,3215,"Constipation","constipation","कब्जियत,कोष्ठ्बध्द्ता","DISEASES ( बीमारियाँ )","कब्जियत,कोष्ठ्बध्द्ता","Constipation"]
[null,null,null,null,null,null,null,null,null,null,null,3216,"Skin-Disease","skin-disease","चर्मरोग","DISEASES ( बीमारियाँ )","चर्मरोग","Skin-Disease"]
[null,null,null,null,null,null,null,null,null,null,null,3217,"Thrombosis","thrombosis","सन्यासरोग","DISEASES ( बीमारियाँ )","सन्यासरोग","Thrombosis"]
[null,null,null,null,null,null,null,null,null,null,null,3218,"Anaemia","anaemia","रक्ताल्पता,सुखारोग","DISEASES ( बीमारियाँ )","रक्ताल्पता,सुखारोग","Anaemia"]
[null,null,null,null,null,null,null,null,null,null,null,3219,"Epidemic","epidemic","महामारी","DISEASES ( बीमारियाँ )","महामारी","Epidemic"]
[null,null,null,null,null,null,null,null,null,null,null,3220,"Acidity","acidity","अम्लरोग","DISEASES ( बीमारियाँ )","अम्लरोग","Acidity"]
[null,null,null,null,null,null,null,null,null,null,null,3221,"Ulcer","ulcer","फोड़ा,व्रण","DISEASES ( बीमारियाँ )","फोड़ा,व्रण","Ulcer"]
[null,null,null,null,null,null,null,null,null,null,null,3222,"Chinese","chinese","चीनी","MODERN FOREIGN LANGUAGES ( आधुनिक विदेशी भाषाए )","चीनी","Chinese"]
[null,null,null,null,null,null,null,null,null,null,null,3223,"Japanese","japanese","जापानी","MODERN FOREIGN LANGUAGES ( आधुनिक विदेशी भाषाए )","जापानी","Japanese"]
[null,null,null,null,null,null,null,null,null,null,null,3224,"Russian","russian","रूसी","MODERN FOREIGN LANGUAGES ( आधुनिक विदेशी भाषाए )","रूसी","Russian"]
[null,null,null,null,null,null,null,null,null,null,null,3225,"English","english","अंग्रेजी","MODERN FOREIGN LANGUAGES ( आधुनिक विदेशी भाषाए )","अंग्रेजी","English"]
[null,null,null,null,null,null,null,null,null,null,null,3226,"German","german","जर्मन","MODERN FOREIGN LANGUAGES ( आधुनिक विदेशी भाषाए )","जर्मन","German"]
[null,null,null,null,null,null,null,null,null,null,null,3227,"French","french","फ्रेंच","MODERN FOREIGN LANGUAGES ( आधुनिक विदेशी भाषाए )","फ्रेंच","French"]
[null,null,null,null,null,null,null,null,null,null,null,3228,"Literature Or Art","literature or art","साहित्य","MODERN FOREIGN LANGUAGES ( आधुनिक विदेशी भाषाए )","साहित्य","Literature Or Art"]
[null,null,null,null,null,null,null,null,null,null,null,3229,"Italian","italian","इटालवी","MODERN FOREIGN LANGUAGES ( आधुनिक विदेशी भाषाए )","इटालवी","Italian"]
[null,null,null,null,null,null,null,null,null,null,null,3230,"Hebrew","hebrew","यहूदी","MODERN FOREIGN LANGUAGES ( आधुनिक विदेशी भाषाए )","यहूदी","Hebrew"]
[null,null,null,null,null,null,null,null,null,null,null,3231,"Burmese","burmese","बर्मी","MODERN FOREIGN LANGUAGES ( आधुनिक विदेशी भाषाए )","बर्मी","Burmese"]
[null,null,null,null,null,null,null,null,null,null,null,3232,"Music","music","संगीत","MODERN FOREIGN LANGUAGES ( आधुनिक विदेशी भाषाए )","संगीत","Music"]
[null,null,null,null,null,null,null,null,null,null,null,3233,"Ethics","ethics","चरित्र या नीतिशास्त्र","MODERN FOREIGN LANGUAGES ( आधुनिक विदेशी भाषाए )","चरित्र या नीतिशास्त्र","Ethics"]
[null,null,null,null,null,null,null,null,null,null,null,3234," Theology"," theology","परमेश्वर अस्तित्व विज्ञान","MODERN FOREIGN LANGUAGES ( आधुनिक विदेशी भाषाए )","परमेश्वर अस्तित्व विज्ञान"," Theology"]
[null,null,null,null,null,null,null,null,null,null,null,3235,"Religion","religion","धर्मशास्त्र","MODERN FOREIGN LANGUAGES ( आधुनिक विदेशी भाषाए )","धर्मशास्त्र","Religion"]
[null,null,null,null,null,null,null,null,null,null,null,3236,"Sociology","sociology","समाज-शास्त्र","MODERN FOREIGN LANGUAGES ( आधुनिक विदेशी भाषाए )","समाज-शास्त्र","Sociology"]
[null,null,null,null,null,null,null,null,null,null,null,3237," History"," history","इतिहास","MODERN FOREIGN LANGUAGES ( आधुनिक विदेशी भाषाए )","इतिहास"," History"]
[null,null,null,null,null,null,null,null,null,null,null,3238,"Aesthetics","aesthetics","सौन्दर्य-शास्त्र","MODERN FOREIGN LANGUAGES ( आधुनिक विदेशी भाषाए )","सौन्दर्य-शास्त्र","Aesthetics"]
[null,null,null,null,null,null,null,null,null,null,null,3239,"Philology","philology","भाषा-विज्ञान","MODERN FOREIGN LANGUAGES ( आधुनिक विदेशी भाषाए )","भाषा-विज्ञान","Philology"]
[null,null,null,null,null,null,null,null,null,null,null,3240,"Grammer","grammer","व्याकरणशास्त्र","MODERN FOREIGN LANGUAGES ( आधुनिक विदेशी भाषाए )","व्याकरणशास्त्र","Grammer"]
[null,null,null,null,null,null,null,null,null,null,null,3241,"Lexicography","lexicography","कोष-निर्माण शास्त्र","MODERN FOREIGN LANGUAGES ( आधुनिक विदेशी भाषाए )","कोष-निर्माण शास्त्र","Lexicography"]
[null,null,null,null,null,null,null,null,null,null,null,3242,"Prosody","prosody","छंद-शास्त्र","MODERN FOREIGN LANGUAGES ( आधुनिक विदेशी भाषाए )","छंद-शास्त्र","Prosody"]
[null,null,null,null,null,null,null,null,null,null,null,3243,"Rhetoric","rhetoric","अलंकारशास्त्र","MODERN FOREIGN LANGUAGES ( आधुनिक विदेशी भाषाए )","अलंकारशास्त्र","Rhetoric"]
[null,null,null,null,null,null,null,null,null,null,null,3244,"Economics","economics","अर्थशास्त्र","INDIAN HISTORY AND CULTURE ( भारतीय इतिहास और कल्चर )","अर्थशास्त्र","Economics"]
[null,null,null,null,null,null,null,null,null,null,null,3245," Logic"," logic","तर्कशास्त्र","INDIAN HISTORY AND CULTURE ( भारतीय इतिहास और कल्चर )","तर्कशास्त्र"," Logic"]
[null,null,null,null,null,null,null,null,null,null,null,3246,"Law","law","कानून","INDIAN HISTORY AND CULTURE ( भारतीय इतिहास और कल्चर )","कानून","Law"]
[null,null,null,null,null,null,null,null,null,null,null,3247,"Indology","indology","भारतीय साहित्य और शास्त्र","INDIAN HISTORY AND CULTURE ( भारतीय इतिहास और कल्चर )","भारतीय साहित्य और शास्त्र","Indology"]
[null,null,null,null,null,null,null,null,null,null,null,3248," Geography"," geography","भूगोल","INDIAN HISTORY AND CULTURE ( भारतीय इतिहास और कल्चर )","भूगोल"," Geography"]
[null,null,null,null,null,null,null,null,null,null,null,3249,"Politics","politics","राजनीतिशास्त्र","INDIAN HISTORY AND CULTURE ( भारतीय इतिहास और कल्चर )","राजनीतिशास्त्र","Politics"]
[null,null,null,null,null,null,null,null,null,null,null,3250,"Drawing And Painting","drawing and painting","चित्रकारी","INDIAN HISTORY AND CULTURE ( भारतीय इतिहास और कल्चर )","चित्रकारी","Drawing And Painting"]
[null,null,null,null,null,null,null,null,null,null,null,3251,"Sculpture","sculpture","मूर्तिकला","INDIAN HISTORY AND CULTURE ( भारतीय इतिहास और कल्चर )","मूर्तिकला","Sculpture"]
[null,null,null,null,null,null,null,null,null,null,null,3252,"Psychology","psychology","मनोविज्ञान","INDIAN HISTORY AND CULTURE ( भारतीय इतिहास और कल्चर )","मनोविज्ञान","Psychology"]
[null,null,null,null,null,null,null,null,null,null,null,3253," Philosophy"," philosophy","दर्शनशास्त्र","INDIAN HISTORY AND CULTURE ( भारतीय इतिहास और कल्चर )","दर्शनशास्त्र"," Philosophy"]
[null,null,null,null,null,null,null,null,null,null,null,3254,"Pedagogy","pedagogy","शिक्षणशास्त्र","INDIAN HISTORY AND CULTURE ( भारतीय इतिहास और कल्चर )","शिक्षणशास्त्र","Pedagogy"]
[null,null,null,null,null,null,null,null,null,null,null,3255,"Heavens ","heavens ","नभमंडल ","SOME GEOGRAPHICAL TERMS ( कुछ भौगोलिक शब्द )","नभमंडल ","Heavens "]
[null,null,null,null,null,null,null,null,null,null,null,3256,"Zenith","zenith","आकाश का उत्तम स्थान","SOME GEOGRAPHICAL TERMS ( कुछ भौगोलिक शब्द )","आकाश का उत्तम स्थान","Zenith"]
[null,null,null,null,null,null,null,null,null,null,null,3257,"Hill","hill","पहाड़ी","SOME GEOGRAPHICAL TERMS ( कुछ भौगोलिक शब्द )","पहाड़ी","Hill"]
[null,null,null,null,null,null,null,null,null,null,null,3258,"Chain","chain","पर्वत श्रेणी","SOME GEOGRAPHICAL TERMS ( कुछ भौगोलिक शब्द )","पर्वत श्रेणी","Chain"]
[null,null,null,null,null,null,null,null,null,null,null,3259,"Peak","peak","पर्वत शिखर","SOME GEOGRAPHICAL TERMS ( कुछ भौगोलिक शब्द )","पर्वत शिखर","Peak"]
[null,null,null,null,null,null,null,null,null,null,null,3260,"Map","map","भू-चित्र","SOME GEOGRAPHICAL TERMS ( कुछ भौगोलिक शब्द )","भू-चित्र","Map"]
[null,null,null,null,null,null,null,null,null,null,null,3261,"Globe","globe","भूमंडल","SOME GEOGRAPHICAL TERMS ( कुछ भौगोलिक शब्द )","भूमंडल","Globe"]
[null,null,null,null,null,null,null,null,null,null,null,3262,"Horizon ","horizon ","क्षितिज","SOME GEOGRAPHICAL TERMS ( कुछ भौगोलिक शब्द )","क्षितिज","Horizon "]
[null,null,null,null,null,null,null,null,null,null,null,3263,"Continent","continent","महाद्वीप","SOME GEOGRAPHICAL TERMS ( कुछ भौगोलिक शब्द )","महाद्वीप","Continent"]
[null,null,null,null,null,null,null,null,null,null,null,3264,"Country","country","देश","SOME GEOGRAPHICAL TERMS ( कुछ भौगोलिक शब्द )","देश","Country"]
[null,null,null,null,null,null,null,null,null,null,null,3265,"Mountain","mountain","पहाड़","SOME GEOGRAPHICAL TERMS ( कुछ भौगोलिक शब्द )","पहाड़","Mountain"]
[null,null,null,null,null,null,null,null,null,null,null,3266,"Rock Or Cliff","rock or cliff","चट्टान","SOME GEOGRAPHICAL TERMS ( कुछ भौगोलिक शब्द )","चट्टान","Rock Or Cliff"]
[null,null,null,null,null,null,null,null,null,null,null,3267,{"$f":"PROPER(N3294)","v":"Ravine"},"ravine","कन्दरा","SOME GEOGRAPHICAL TERMS ( कुछ भौगोलिक शब्द )","कन्दरा",{"$f":"PROPER(N3294)","v":"Ravine"}]
[null,null,null,null,null,null,null,null,null,null,null,3268,"Cave","cave","गुफा","SOME GEOGRAPHICAL TERMS ( कुछ भौगोलिक शब्द )","गुफा","Cave"]
[null,null,null,null,null,null,null,null,null,null,null,3269,"Pass","pass","दर्रा","SOME GEOGRAPHICAL TERMS ( कुछ भौगोलिक शब्द )",{"$f":"O3296","v":"दर्रा"},"Pass"]
[null,null,null,null,null,null,null,null,null,null,null,3270,"Spring","spring","स्त्रोता( जल का )","SOME GEOGRAPHICAL TERMS ( कुछ भौगोलिक शब्द )","स्त्रोता( जल का )","Spring"]
[null,null,null,null,null,null,null,null,null,null,null,3271,"Plateau","plateau","पठार","SOME GEOGRAPHICAL TERMS ( कुछ भौगोलिक शब्द )","पठार","Plateau"]
[null,null,null,null,null,null,null,null,null,null,null,3272," Plain"," plain","मैदान","SOME GEOGRAPHICAL TERMS ( कुछ भौगोलिक शब्द )","मैदान"," Plain"]
[null,null,null,null,null,null,null,null,null,null,null,3273,"Table Land","table land","चौरस भूमि","SOME GEOGRAPHICAL TERMS ( कुछ भौगोलिक शब्द )","चौरस भूमि","Table Land"]
[null,null,null,null,null,null,null,null,null,null,null,3274,"Volcano","volcano","ज्वालामुखी पर्वत","SOME GEOGRAPHICAL TERMS ( कुछ भौगोलिक शब्द )","ज्वालामुखी पर्वत","Volcano"]
[null,null,null,null,null,null,null,null,null,null,null,3275,"Crator","crator","ज्वालामुखी पर्वत का मुख","SOME GEOGRAPHICAL TERMS ( कुछ भौगोलिक शब्द )","ज्वालामुखी पर्वत का मुख","Crator"]
[null,null,null,null,null,null,null,null,null,null,null,3276,"Water-Fall","water-fall","जलप्रपात","SOME GEOGRAPHICAL TERMS ( कुछ भौगोलिक शब्द )","जलप्रपात","Water-Fall"]
[null,null,null,null,null,null,null,null,null,null,null,3277,"Lake","lake","झील","SOME GEOGRAPHICAL TERMS ( कुछ भौगोलिक शब्द )","झील","Lake"]
[null,null,null,null,null,null,null,null,null,null,null,3278,"Earth,S Crust","earth,s crust","भू-पटल","SOME GEOGRAPHICAL TERMS ( कुछ भौगोलिक शब्द )","भू-पटल","Earth,S Crust"]
[null,null,null,null,null,null,null,null,null,null,null,3279,"Earth Quake","earth quake","भूकंप","SOME GEOGRAPHICAL TERMS ( कुछ भौगोलिक शब्द )","भूकंप","Earth Quake"]
[null,null,null,null,null,null,null,null,null,null,null,3280,"River","river","नदी","SOME GEOGRAPHICAL TERMS ( कुछ भौगोलिक शब्द )","नदी","River"]
[null,null,null,null,null,null,null,null,null,null,null,3281,"Source","source","उदगम","SOME GEOGRAPHICAL TERMS ( कुछ भौगोलिक शब्द )","उदगम","Source"]
[null,null,null,null,null,null,null,null,null,null,null,3282,"Bed","bed","नदी-तल","SOME GEOGRAPHICAL TERMS ( कुछ भौगोलिक शब्द )","नदी-तल","Bed"]
[null,null,null,null,null,null,null,null,null,null,null,3283,"Bay Or Gulf","bay or gulf","खाड़ी","SOME GEOGRAPHICAL TERMS ( कुछ भौगोलिक शब्द )","खाड़ी","Bay Or Gulf"]
[null,null,null,null,null,null,null,null,null,null,null,3284,"Ocean","ocean","महासागर","SOME GEOGRAPHICAL TERMS ( कुछ भौगोलिक शब्द )","महासागर","Ocean"]
[null,null,null,null,null,null,null,null,null,null,null,3285,"  Wave","  wave","लहर","SOME GEOGRAPHICAL TERMS ( कुछ भौगोलिक शब्द )","लहर","  Wave"]
[null,null,null,null,null,null,null,null,null,null,null,3286,"Island","island","द्वीप","SOME GEOGRAPHICAL TERMS ( कुछ भौगोलिक शब्द )","द्वीप","Island"]
[null,null,null,null,null,null,null,null,null,null,null,3287,"Archipelago","archipelago","द्वीपसमूह","SOME GEOGRAPHICAL TERMS ( कुछ भौगोलिक शब्द )","द्वीपसमूह","Archipelago"]
[null,null,null,null,null,null,null,null,null,null,null,3288,"Bank","bank","नदी-तट","SOME GEOGRAPHICAL TERMS ( कुछ भौगोलिक शब्द )","नदी-तट","Bank"]
[null,null,null,null,null,null,null,null,null,null,null,3289,"Basin","basin","जलाशय","SOME GEOGRAPHICAL TERMS ( कुछ भौगोलिक शब्द )","जलाशय","Basin"]
[null,null,null,null,null,null,null,null,null,null,null,3290,"Valley","valley","घाटी","SOME GEOGRAPHICAL TERMS ( कुछ भौगोलिक शब्द )","घाटी","Valley"]
[null,null,null,null,null,null,null,null,null,null,null,3291,"Tributary","tributary","सहायक नदी","SOME GEOGRAPHICAL TERMS ( कुछ भौगोलिक शब्द )","सहायक नदी","Tributary"]
[null,null,null,null,null,null,null,null,null,null,null,3292,"Mouth","mouth","मुहाना","SOME GEOGRAPHICAL TERMS ( कुछ भौगोलिक शब्द )","मुहाना","Mouth"]
[null,null,null,null,null,null,null,null,null,null,null,3293,"Surface","surface","नदी का सतह","SOME GEOGRAPHICAL TERMS ( कुछ भौगोलिक शब्द )","नदी का सतह","Surface"]
[null,null,null,null,null,null,null,null,null,null,null,3294,"Sea","sea","समुद्र","SOME GEOGRAPHICAL TERMS ( कुछ भौगोलिक शब्द )","समुद्र","Sea"]
[null,null,null,null,null,null,null,null,null,null,null,3295,"Book-Craft","book-craft","जिल्दसाजी","SPINNIG AND WEAVING ( घूर्णन और बुनना )","जिल्दसाजी","Book-Craft"]
[null,null,null,null,null,null,null,null,null,null,null,3296,"Commerce","commerce","वाणिज्य-शास्त्र","SPINNIG AND WEAVING ( घूर्णन और बुनना )","वाणिज्य-शास्त्र","Commerce"]
[null,null,null,null,null,null,null,null,null,null,null,3297,"Craft","craft","शिल्प-विज्ञान","SPINNIG AND WEAVING ( घूर्णन और बुनना )","शिल्प-विज्ञान","Craft"]
[null,null,null,null,null,null,null,null,null,null,null,3298,"Wood-Craft","wood-craft","काष्ठकला","SPINNIG AND WEAVING ( घूर्णन और बुनना )","काष्ठकला","Wood-Craft"]
[null,null,null,null,null,null,null,null,null,null,null,3299,"Aeronautics","aeronautics","वायुशास्त्र","SPINNIG AND WEAVING ( घूर्णन और बुनना )","वायुशास्त्र","Aeronautics"]
[null,null,null,null,null,null,null,null,null,null,null,3300,"Aerodynamics","aerodynamics","वायु-गति","SPINNIG AND WEAVING ( घूर्णन और बुनना )","वायु-गति","Aerodynamics"]
[null,null,null,null,null,null,null,null,null,null,null,3301," Science"," science","विज्ञान","SPINNIG AND WEAVING ( घूर्णन और बुनना )","विज्ञान"," Science"]
[null,null,null,null,null,null,null,null,null,null,null,3302," Physics"," physics","भौतिकशास्त्र","SPINNIG AND WEAVING ( घूर्णन और बुनना )","भौतिकशास्त्र"," Physics"]
[null,null,null,null,null,null,null,null,null,null,null,3303,"Board Of Revenue","board of revenue","बोर्ड ऑफ़ रिवेन्यू","OFFICERS OF THE REVENUE COURT( माल अदालत के अधिकारी )","बोर्ड ऑफ़ रिवेन्यू","Board Of Revenue"]
[null,null,null,null,null,null,null,null,null,null,null,3304,"Commissioner","commissioner","आयुक्त","OFFICERS OF THE REVENUE COURT( माल अदालत के अधिकारी )","आयुक्त","Commissioner"]
[null,null,null,null,null,null,null,null,null,null,null,3305,"Collecter","collecter","जिलाधीश","OFFICERS OF THE REVENUE COURT( माल अदालत के अधिकारी )","जिलाधीश","Collecter"]
[null,null,null,null,null,null,null,null,null,null,null,3306,"Additional Collector","additional collector","अतिरिक्त जिलाधीश","OFFICERS OF THE REVENUE COURT( माल अदालत के अधिकारी )","अतिरिक्त जिलाधीश","Additional Collector"]
[null,null,null,null,null,null,null,null,null,null,null,3307,"Assistant Collector","assistant collector","सहायक जिलाधीश","OFFICERS OF THE REVENUE COURT( माल अदालत के अधिकारी )","सहायक जिलाधीश","Assistant Collector"]
[null,null,null,null,null,null,null,null,null,null,null,3308,"Deputy Collector","deputy collector","उप जिलाधीश","OFFICERS OF THE REVENUE COURT( माल अदालत के अधिकारी )","उप जिलाधीश","Deputy Collector"]
[null,null,null,null,null,null,null,null,null,null,null,3309,"Sub Divisional","sub divisional","परगनाधीश","OFFICERS OF THE REVENUE COURT( माल अदालत के अधिकारी )","परगनाधीश","Sub Divisional"]
[null,null,null,null,null,null,null,null,null,null,null,3310,"Tehsildar","tehsildar","तहसीलदार","OFFICERS OF THE REVENUE COURT( माल अदालत के अधिकारी )","तहसीलदार","Tehsildar"]
[null,null,null,null,null,null,null,null,null,null,null,3311,"Naib Tehsildar","naib tehsildar","नायब तहसीलदार","OFFICERS OF THE REVENUE COURT( माल अदालत के अधिकारी )","नायब तहसीलदार","Naib Tehsildar"]
[null,null,null,null,null,null,null,null,null,null,null,3312,"Coin","coin","मुद्रा","COIN,WEIGHT AND MEASUREMENT ( सिक्का,वजन और माप )","मुद्रा","Coin"]
[null,null,null,null,null,null,null,null,null,null,null,3313,"Rouble","rouble","रूसी मुद्रा","COIN,WEIGHT AND MEASUREMENT ( सिक्का,वजन और माप )","रूसी मुद्रा","Rouble"]
[null,null,null,null,null,null,null,null,null,null,null,3314,"Paisa","paisa","पैसा","COIN,WEIGHT AND MEASUREMENT ( सिक्का,वजन और माप )","पैसा","Paisa"]
[null,null,null,null,null,null,null,null,null,null,null,3315,"Rupee ","rupee ","रूपया","COIN,WEIGHT AND MEASUREMENT ( सिक्का,वजन और माप )","रूपया","Rupee "]
[null,null,null,null,null,null,null,null,null,null,null,3316,"Mark","mark","जर्मन मुद्रा","COIN,WEIGHT AND MEASUREMENT ( सिक्का,वजन और माप )","जर्मन मुद्रा","Mark"]
[null,null,null,null,null,null,null,null,null,null,null,3317,"Currency Note","currency note","नोट","COIN,WEIGHT AND MEASUREMENT ( सिक्का,वजन और माप )","नोट","Currency Note"]
[null,null,null,null,null,null,null,null,null,null,null,3318,"Small-Coin","small-coin","खुदरा ","COIN,WEIGHT AND MEASUREMENT ( सिक्का,वजन और माप )","खुदरा ","Small-Coin"]
[null,null,null,null,null,null,null,null,null,null,null,3319,"Change","change","खुदरा,रेजगारी","COIN,WEIGHT AND MEASUREMENT ( सिक्का,वजन और माप )","खुदरा,रेजगारी","Change"]
[null,null,null,null,null,null,null,null,null,null,null,3320,"Quarter-Rupee","quarter-rupee","चवन्नी","COIN,WEIGHT AND MEASUREMENT ( सिक्का,वजन और माप )","चवन्नी","Quarter-Rupee"]
[null,null,null,null,null,null,null,null,null,null,null,3321,"Half-Rupee","half-rupee","अठन्नी","COIN,WEIGHT AND MEASUREMENT ( सिक्का,वजन और माप )","अठन्नी","Half-Rupee"]
[null,null,null,null,null,null,null,null,null,null,null,3322,"Pound","pound","पौंड","COIN,WEIGHT AND MEASUREMENT ( सिक्का,वजन और माप )","पौंड","Pound"]
[null,null,null,null,null,null,null,null,null,null,null,3323,"Measurement","measurement","माप","COIN,WEIGHT AND MEASUREMENT ( सिक्का,वजन और माप )","माप","Measurement"]
[null,null,null,null,null,null,null,null,null,null,null,3324,"Dimension","dimension","परिमाप","COIN,WEIGHT AND MEASUREMENT ( सिक्का,वजन और माप )","परिमाप","Dimension"]
[null,null,null,null,null,null,null,null,null,null,null,3325,"Area","area","क्षेत्रफल","COIN,WEIGHT AND MEASUREMENT ( सिक्का,वजन और माप )","क्षेत्रफल","Area"]
[null,null,null,null,null,null,null,null,null,null,null,3326,"Cubit","cubit","लम्बाई","COIN,WEIGHT AND MEASUREMENT ( सिक्का,वजन और माप )","लम्बाई","Cubit"]
[null,null,null,null,null,null,null,null,null,null,null,3327,"Breadth","breadth","चौड़ाई","COIN,WEIGHT AND MEASUREMENT ( सिक्का,वजन और माप )","चौड़ाई","Breadth"]
[null,null,null,null,null,null,null,null,null,null,null,3328,"Thickness","thickness","मोटाई","COIN,WEIGHT AND MEASUREMENT ( सिक्का,वजन और माप )","मोटाई","Thickness"]
[null,null,null,null,null,null,null,null,null,null,null,3329,"Height","height","ऊँचाई","COIN,WEIGHT AND MEASUREMENT ( सिक्का,वजन और माप )","ऊँचाई","Height"]
[null,null,null,null,null,null,null,null,null,null,null,3330,"Foot","foot","फुट","COIN,WEIGHT AND MEASUREMENT ( सिक्का,वजन और माप )","फुट","Foot"]
[null,null,null,null,null,null,null,null,null,null,null,3331,{"$f":"PROPER(N3358)","v":"Mile"},"mile","मील","COIN,WEIGHT AND MEASUREMENT ( सिक्का,वजन और माप )","मील",{"$f":"PROPER(N3358)","v":"Mile"}]
[null,null,null,null,null,null,null,null,null,null,null,3332,"Yard","yard","यार्ड","COIN,WEIGHT AND MEASUREMENT ( सिक्का,वजन और माप )","यार्ड","Yard"]
[null,null,null,null,null,null,null,null,null,null,null,3333,"Kilogram","kilogram","गज","COIN,WEIGHT AND MEASUREMENT ( सिक्का,वजन और माप )",{"$f":"O3360","v":"गज"},"Kilogram"]
[null,null,null,null,null,null,null,null,null,null,null,3334,"Quintal","quintal","किलोग्राम","COIN,WEIGHT AND MEASUREMENT ( सिक्का,वजन और माप )","किलोग्राम","Quintal"]
[null,null,null,null,null,null,null,null,null,null,null,3335,"Metre","metre","क्विण्टल,सौ किलो","COIN,WEIGHT AND MEASUREMENT ( सिक्का,वजन और माप )","क्विण्टल,सौ किलो","Metre"]
[null,null,null,null,null,null,null,null,null,null,null,3336,"Litre","litre","मीटर","COIN,WEIGHT AND MEASUREMENT ( सिक्का,वजन और माप )","मीटर","Litre"]
[null,null,null,null,null,null,null,null,null,null,null,3337,"Balance","balance","लीटर","COIN,WEIGHT AND MEASUREMENT ( सिक्का,वजन और माप )","लीटर","Balance"]
[null,null,null,null,null,null,null,null,null,null,null,3338,"Weight","weight","तराजू","COIN,WEIGHT AND MEASUREMENT ( सिक्का,वजन और माप )","तराजू","Weight"]
[null,null,null,null,null,null,null,null,null,null,null,3339,"Shilling","shilling","वजन","COIN,WEIGHT AND MEASUREMENT ( सिक्का,वजन और माप )","वजन","Shilling"]
[null,null,null,null,null,null,null,null,null,null,null,3340,"Penny","penny","शिलिंग","COIN,WEIGHT AND MEASUREMENT ( सिक्का,वजन और माप )","शिलिंग","Penny"]
[null,null,null,null,null,null,null,null,null,null,null,3341,"Yen","yen","पेनी","COIN,WEIGHT AND MEASUREMENT ( सिक्का,वजन और माप )","पेनी","Yen"]
[null,null,null,null,null,null,null,null,null,null,null,3342,"Kyates","kyates","जापानी मुद्रा","COIN,WEIGHT AND MEASUREMENT ( सिक्का,वजन और माप )","जापानी मुद्रा","Kyates"]
[null,null,null,null,null,null,null,null,null,null,null,3343,"Dollar","dollar","डॉलर","COIN,WEIGHT AND MEASUREMENT ( सिक्का,वजन और माप )","डॉलर","Dollar"]
[null,null,null,null,null,null,null,null,null,null,null,3344,"Farthing","farthing","फार्दिंग","COIN,WEIGHT AND MEASUREMENT ( सिक्का,वजन और माप )","फार्दिंग","Farthing"]
[null,null,null,null,null,null,null,null,null,null,null,3345,"Guinea","guinea","गिनी","COIN,WEIGHT AND MEASUREMENT ( सिक्का,वजन और माप )","गिनी","Guinea"]
[null,null,null,null,null,null,null,null,null,null,null,3346," Crown"," crown","क्राउन","COIN,WEIGHT AND MEASUREMENT ( सिक्का,वजन और माप )","क्राउन"," Crown"]
[null,null,null,null,null,null,null,null,null,null,null,3347,"Sovereign","sovereign","एक पौंड की स्वर्णमुद्रा","COIN,WEIGHT AND MEASUREMENT ( सिक्का,वजन और माप )","एक पौंड की स्वर्णमुद्रा","Sovereign"]
[null,null,null,null,null,null,null,null,null,null,null,3348,"Arithmetic","arithmetic","अंक-गणित","BRANCHES OF LEARNING ( विविध-विद्याए )","अंक-गणित","Arithmetic"]
[null,null,null,null,null,null,null,null,null,null,null,3349,"Geometry","geometry","ज्यामिति/रेखागणित","BRANCHES OF LEARNING ( विविध-विद्याए )","ज्यामिति/रेखागणित","Geometry"]
[null,null,null,null,null,null,null,null,null,null,null,3350,"Algebra","algebra","बीजगणित","BRANCHES OF LEARNING ( विविध-विद्याए )","बीजगणित","Algebra"]
[null,null,null,null,null,null,null,null,null,null,null,3351,"Science","science","विज्ञानं","BRANCHES OF LEARNING ( विविध-विद्याए )","विज्ञानं","Science"]
[null,null,null,null,null,null,null,null,null,null,null,3352,"Art","art","शिल्पकला","BRANCHES OF LEARNING ( विविध-विद्याए )","शिल्पकला","Art"]
[null,null,null,null,null,null,null,null,null,null,null,3353,"Logic","logic","तर्कशास्त्र","BRANCHES OF LEARNING ( विविध-विद्याए )","तर्कशास्त्र","Logic"]
[null,null,null,null,null,null,null,null,null,null,null,3354,"Trigonometry","trigonometry","त्रिकोणमिति","BRANCHES OF LEARNING ( विविध-विद्याए )","त्रिकोणमिति","Trigonometry"]
[null,null,null,null,null,null,null,null,null,null,null,3355,"Mathematics","mathematics","गणित","BRANCHES OF LEARNING ( विविध-विद्याए )","गणित","Mathematics"]
[null,null,null,null,null,null,null,null,null,null,null,3356,"Theology","theology","धर्मशास्त्र","BRANCHES OF LEARNING ( विविध-विद्याए )","धर्मशास्त्र","Theology"]
[null,null,null,null,null,null,null,null,null,null,null,3357,"Philosophy","philosophy","दर्शनशास्त्र","BRANCHES OF LEARNING ( विविध-विद्याए )","दर्शनशास्त्र","Philosophy"]
[null,null,null,null,null,null,null,null,null,null,null,3358,"Chemistry","chemistry","रसायन-शास्त्र","BRANCHES OF LEARNING ( विविध-विद्याए )","रसायन-शास्त्र","Chemistry"]
[null,null,null,null,null,null,null,null,null,null,null,3359,"Zoology","zoology","प्राणी-शास्त्र","BRANCHES OF LEARNING ( विविध-विद्याए )","प्राणी-शास्त्र","Zoology"]
[null,null,null,null,null,null,null,null,null,null,null,3360,"Botany","botany","वनस्पति-विज्ञान","BRANCHES OF LEARNING ( विविध-विद्याए )","वनस्पति-विज्ञान","Botany"]
[null,null,null,null,null,null,null,null,null,null,null,3361,"Literature","literature","साहित्य","BRANCHES OF LEARNING ( विविध-विद्याए )","साहित्य","Literature"]
[null,null,null,null,null,null,null,null,null,null,null,3362,"History","history","इतिहास","BRANCHES OF LEARNING ( विविध-विद्याए )","इतिहास","History"]
[null,null,null,null,null,null,null,null,null,null,null,3363,"Physics","physics","पदार्थविद्या,भौतिकी-विज्ञान","BRANCHES OF LEARNING ( विविध-विद्याए )","पदार्थविद्या,भौतिकी-विज्ञान","Physics"]
[null,null,null,null,null,null,null,null,null,null,null,3364,"Agriculture","agriculture","कृषि-शास्त्र","BRANCHES OF LEARNING ( विविध-विद्याए )","कृषि-शास्त्र","Agriculture"]
[null,null,null,null,null,null,null,null,null,null,null,3365,"Geography","geography","भूगोल","BRANCHES OF LEARNING ( विविध-विद्याए )","भूगोल","Geography"]
[null,null,null,null,null,null,null,null,null,null,null,3366,"Biology","biology","जीव-विज्ञान","BRANCHES OF LEARNING ( विविध-विद्याए )","जीव-विज्ञान","Biology"]
[null,null,null,null,null,null,null,null,null,null,null,3367,"Hygiene","hygiene","स्वास्थ्य-विज्ञानं","BRANCHES OF LEARNING ( विविध-विद्याए )","स्वास्थ्य-विज्ञानं","Hygiene"]
[null,null,null,null,null,null,null,null,null,null,null,3368,"A Man'S Only Support","a man's only support","अधें की लकड़ी","IDIOMS ( मुहावरे )","अधें की लकड़ी","A Man'S Only Support"]
[null,null,null,null,null,null,null,null,null,null,null,3369,"To Hesitate","to hesitate","अगर मगर करना","IDIOMS ( मुहावरे )","अगर मगर करना","To Hesitate"]
[null,null,null,null,null,null,null,null,null,null,null,3370,"Prosperity","prosperity","अच्छे दिन","IDIOMS ( मुहावरे )","अच्छे दिन","Prosperity"]
[null,null,null,null,null,null,null,null,null,null,null,3371,"To Think Of The Consequence","to think of the consequence","आगा पीछा सोचना","IDIOMS ( मुहावरे )","आगा पीछा सोचना","To Think Of The Consequence"]
[null,null,null,null,null,null,null,null,null,null,null,3372,"To Rebuke","to rebuke","आड़े हाथों लेना","IDIOMS ( मुहावरे )","आड़े हाथों लेना","To Rebuke"]
[null,null,null,null,null,null,null,null,null,null,null,3373,"To Do The Impossible","to do the impossible","आसमान के तारे' तोडना","IDIOMS ( मुहावरे )","आसमान के तारे' तोडना","To Do The Impossible"]
[null,null,null,null,null,null,null,null,null,null,null,3374,"To Make A Hasty Retreat","to make a hasty retreat","उलटे पांव लोटना","IDIOMS ( मुहावरे )","उलटे पांव लोटना","To Make A Hasty Retreat"]
[null,null,null,null,null,null,null,null,null,null,null,3375,"A Reversed State","a reversed state","उल्टी गंगा बहना","IDIOMS ( मुहावरे )","उल्टी गंगा बहना","A Reversed State"]
[null,null,null,null,null,null,null,null,null,null,null,3376,"Killing To Birds With One Stone","killing to birds with one stone","एक पंथ दो काज","IDIOMS ( मुहावरे )","एक पंथ दो काज","Killing To Birds With One Stone"]
[null,null,null,null,null,null,null,null,null,null,null,3377,"To Grid Up The Loins","to grid up the loins","कमर कसना","IDIOMS ( मुहावरे )","कमर कसना","To Grid Up The Loins"]
[null,null,null,null,null,null,null,null,null,null,null,3378,"A Child'S Play","a child's play","गुडिया का खेल","IDIOMS ( मुहावरे )","गुडिया का खेल","A Child'S Play"]
[null,null,null,null,null,null,null,null,null,null,null,3379,"To Harass","to harass","नाकों चने चबवाना","IDIOMS ( मुहावरे )","नाकों चने चबवाना","To Harass"]
[null,null,null,null,null,null,null,null,null,null,null,3380,"To Give A Slip","to give a slip","चकमा देना","IDIOMS ( मुहावरे )","चकमा देना","To Give A Slip"]
[null,null,null,null,null,null,null,null,null,null,null,3381,"To Flatter,To Cajole","to flatter,to cajole","चिकनी चुपड़ी बात करना","IDIOMS ( मुहावरे )","चिकनी चुपड़ी बात करना","To Flatter,To Cajole"]
[null,null,null,null,null,null,null,null,null,null,null,3382,"To Be In Great Difficulty","to be in great difficulty","छठी का दूध यद् दिलाना","IDIOMS ( मुहावरे )","छठी का दूध यद् दिलाना","To Be In Great Difficulty"]
[null,null,null,null,null,null,null,null,null,null,null,3383,"To Stake'S Own Life","to stake's own life","जान पे खेलना","IDIOMS ( मुहावरे )","जान पे खेलना","To Stake'S Own Life"]
[null,null,null,null,null,null,null,null,null,null,null,3384,"To Leek The Feet","to leek the feet","तलवे चाटना","IDIOMS ( मुहावरे )","तलवे चाटना","To Leek The Feet"]
[null,null,null,null,null,null,null,null,null,null,null,3385,"To Get Rid Of","to get rid of","पल्ला झाड़ना","IDIOMS ( मुहावरे )","पल्ला झाड़ना","To Get Rid Of"]
[null,null,null,null,null,null,null,null,null,null,null,3386,"To Be Bewildered","to be bewildered","हक्का बक्का रहना","IDIOMS ( मुहावरे )","हक्का बक्का रहना","To Be Bewildered"]
[null,null,null,null,null,null,null,null,null,null,null,3387,"Red Handed","red handed","रँगे हाथ","IDIOMS ( मुहावरे )","रँगे हाथ","Red Handed"]
[null,null,null,null,null,null,null,null,null,null,null,3388,"Pandora'S Box","pandora's box","भानुमती का पिटारा","IDIOMS ( मुहावरे )","भानुमती का पिटारा","Pandora'S Box"]
[null,null,null,null,null,null,null,null,null,null,null,3389,"Allopathic Medicine","allopathic medicine","डॉक्टरी दवा","MEDICINES AND HOSPTALS ( औषध और चिकित्सालय संबधी)","डॉक्टरी दवा","Allopathic Medicine"]
[null,null,null,null,null,null,null,null,null,null,null,3390,"Quinine","quinine","मलेरिया ज्वरनाशक कड़वी दवा","MEDICINES AND HOSPTALS ( औषध और चिकित्सालय संबधी)","मलेरिया ज्वरनाशक कड़वी दवा","Quinine"]
[null,null,null,null,null,null,null,null,null,null,null,3391,"Arnica","arnica","ज्वरनाशक होम्योपैथिक दवा","MEDICINES AND HOSPTALS ( औषध और चिकित्सालय संबधी)","ज्वरनाशक होम्योपैथिक दवा","Arnica"]
[null,null,null,null,null,null,null,null,null,null,null,3392,"Spirit","spirit","एक प्रकार की दवा जो चोट पार लगाई जाती है ","MEDICINES AND HOSPTALS ( औषध और चिकित्सालय संबधी)","एक प्रकार की दवा जो चोट पार लगाई जाती है ","Spirit"]
[null,null,null,null,null,null,null,null,null,null,null,3393,"Cinchona","cinchona","नीम का पेड़","MEDICINES AND HOSPTALS ( औषध और चिकित्सालय संबधी)","नीम का पेड़","Cinchona"]
[null,null,null,null,null,null,null,null,null,null,null,3394,"Lotion","lotion","आंख में छोड़ने वाली दवा","MEDICINES AND HOSPTALS ( औषध और चिकित्सालय संबधी)","आंख में छोड़ने वाली दवा","Lotion"]
[null,null,null,null,null,null,null,null,null,null,null,3395,{"$f":"PROPER(N3422)","v":"Cocaine"},"cocaine","किसी अंग को बेसुध करने की दवा","MEDICINES AND HOSPTALS ( औषध और चिकित्सालय संबधी)","किसी अंग को बेसुध करने की दवा",{"$f":"PROPER(N3422)","v":"Cocaine"}]
[null,null,null,null,null,null,null,null,null,null,null,3396,"Decoction","decoction","काढ़ा","MEDICINES AND HOSPTALS ( औषध और चिकित्सालय संबधी)","काढ़ा","Decoction"]
[null,null,null,null,null,null,null,null,null,null,null,3397,"Opium","opium","अफीम","MEDICINES AND HOSPTALS ( औषध और चिकित्सालय संबधी)",{"$f":"O3424","v":"अफीम"},"Opium"]
[null,null,null,null,null,null,null,null,null,null,null,3398,"Injection","injection","शरीर में पिचकारी द्वारा पहुँचाने की दवा","MEDICINES AND HOSPTALS ( औषध और चिकित्सालय संबधी)","शरीर में पिचकारी द्वारा पहुँचाने की दवा","Injection"]
[null,null,null,null,null,null,null,null,null,null,null,3399,"Ozoena","ozoena","पीनस","MEDICINES AND HOSPTALS ( औषध और चिकित्सालय संबधी)","पीनस","Ozoena"]
[null,null,null,null,null,null,null,null,null,null,null,3400,"Chemist","chemist","रसायनी","MEDICINES AND HOSPTALS ( औषध और चिकित्सालय संबधी)","रसायनी","Chemist"]
[null,null,null,null,null,null,null,null,null,null,null,3401,"Druggist","druggist","दवा बेचने वाला","MEDICINES AND HOSPTALS ( औषध और चिकित्सालय संबधी)","दवा बेचने वाला","Druggist"]
[null,null,null,null,null,null,null,null,null,null,null,3402,"Sulphur","sulphur","गंधक","MEDICINES AND HOSPTALS ( औषध और चिकित्सालय संबधी)","गंधक","Sulphur"]
[null,null,null,null,null,null,null,null,null,null,null,3403,"Trional","trional","नशा करने वाला पदार्थ","MEDICINES AND HOSPTALS ( औषध और चिकित्सालय संबधी)","नशा करने वाला पदार्थ","Trional"]
[null,null,null,null,null,null,null,null,null,null,null,3404,"Snuff","snuff","सुंघनी","MEDICINES AND HOSPTALS ( औषध और चिकित्सालय संबधी)","सुंघनी","Snuff"]
[null,null,null,null,null,null,null,null,null,null,null,3405,"Ayurvedic Medicine","ayurvedic medicine","आयुर्वेदिक औषधि","MEDICINES AND HOSPTALS ( औषध और चिकित्सालय संबधी)","आयुर्वेदिक औषधि","Ayurvedic Medicine"]
[null,null,null,null,null,null,null,null,null,null,null,3406,"Phosphorus","phosphorus","एक तुरंत जलने वाली दवा जिससे दियासलाई बनती है","MEDICINES AND HOSPTALS ( औषध और चिकित्सालय संबधी)","एक तुरंत जलने वाली दवा जिससे दियासलाई बनती है","Phosphorus"]
[null,null,null,null,null,null,null,null,null,null,null,3407,"Distilled Water","distilled water","आसुत जल","MEDICINES AND HOSPTALS ( औषध और चिकित्सालय संबधी)","आसुत जल","Distilled Water"]
[null,null,null,null,null,null,null,null,null,null,null,3408,"Caustics-Soda","caustics-soda","साबुन आदि बनाने का एक पदार्थ","MEDICINES AND HOSPTALS ( औषध और चिकित्सालय संबधी)","साबुन आदि बनाने का एक पदार्थ","Caustics-Soda"]
[null,null,null,null,null,null,null,null,null,null,null,3409,"Poultice","poultice","फोड़े आदि पार लगने का एक पदार्थ","MEDICINES AND HOSPTALS ( औषध और चिकित्सालय संबधी)","फोड़े आदि पार लगने का एक पदार्थ","Poultice"]
[null,null,null,null,null,null,null,null,null,null,null,3410,"Fumigation","fumigation","धुनी देना,बफारा देना","MEDICINES AND HOSPTALS ( औषध और चिकित्सालय संबधी)","धुनी देना,बफारा देना","Fumigation"]
[null,null,null,null,null,null,null,null,null,null,null,3411,"Boric Acid","boric acid","एक प्रकार की दवा जिससे सेंक किया जता है","MEDICINES AND HOSPTALS ( औषध और चिकित्सालय संबधी)","एक प्रकार की दवा जिससे सेंक किया जता है","Boric Acid"]
[null,null,null,null,null,null,null,null,null,null,null,3412,"Mixture","mixture","दवाओ को मिलाकर बनाई पिने की तरल औषधि","MEDICINES AND HOSPTALS ( औषध और चिकित्सालय संबधी)","दवाओ को मिलाकर बनाई पिने की तरल औषधि","Mixture"]
[null,null,null,null,null,null,null,null,null,null,null,3413,"Plaster","plaster","लेप","MEDICINES AND HOSPTALS ( औषध और चिकित्सालय संबधी)","लेप","Plaster"]
[null,null,null,null,null,null,null,null,null,null,null,3414,"Diet","diet","पथ्य,आहार","MEDICINES AND HOSPTALS ( औषध और चिकित्सालय संबधी)","पथ्य,आहार","Diet"]
[null,null,null,null,null,null,null,null,null,null,null,3415,"Bryonia","bryonia","सर्दी,खांसी नाशक","MEDICINES AND HOSPTALS ( औषध और चिकित्सालय संबधी)","सर्दी,खांसी नाशक","Bryonia"]
[null,null,null,null,null,null,null,null,null,null,null,3416,"Tablet","tablet","टिकिया","MEDICINES AND HOSPTALS ( औषध और चिकित्सालय संबधी)","टिकिया","Tablet"]
[null,null,null,null,null,null,null,null,null,null,null,3417,"Homoeopathic Medicine","homoeopathic medicine","होम्योपेथिक दवा","MEDICINES AND HOSPTALS ( औषध और चिकित्सालय संबधी)","होम्योपेथिक दवा","Homoeopathic Medicine"]
[null,null,null,null,null,null,null,null,null,null,null,3418,"Soda-Water","soda-water","खार मिलाया हुआ खारा पानी","MEDICINES AND HOSPTALS ( औषध और चिकित्सालय संबधी)","खार मिलाया हुआ खारा पानी","Soda-Water"]
[null,null,null,null,null,null,null,null,null,null,null,3419,"Powder","powder","बुकनी,चूर्ण","MEDICINES AND HOSPTALS ( औषध और चिकित्सालय संबधी)","बुकनी,चूर्ण","Powder"]
[null,null,null,null,null,null,null,null,null,null,null,3420,"Dose","dose","दवा की खुराक या मात्रा","MEDICINES AND HOSPTALS ( औषध और चिकित्सालय संबधी)","दवा की खुराक या मात्रा","Dose"]
[null,null,null,null,null,null,null,null,null,null,null,3421,"Laxative","laxative","विरेचिक दवा,जुलाब","MEDICINES AND HOSPTALS ( औषध और चिकित्सालय संबधी)","विरेचिक दवा,जुलाब","Laxative"]
[null,null,null,null,null,null,null,null,null,null,null,3422,"Drug","drug","दवा","MEDICINES AND HOSPTALS ( औषध और चिकित्सालय संबधी)","दवा","Drug"]
[null,null,null,null,null,null,null,null,null,null,null,3423,"Operation","operation","चीर-फाड़ करना","MEDICINES AND HOSPTALS ( औषध और चिकित्सालय संबधी)","चीर-फाड़ करना","Operation"]
[null,null,null,null,null,null,null,null,null,null,null,3424,"Lancet","lancet","नश्तर","MEDICINES AND HOSPTALS ( औषध और चिकित्सालय संबधी)","नश्तर","Lancet"]
[null,null,null,null,null,null,null,null,null,null,null,3425,"Tincture","tincture","अर्क","MEDICINES AND HOSPTALS ( औषध और चिकित्सालय संबधी)","अर्क","Tincture"]
[null,null,null,null,null,null,null,null,null,null,null,3426,"Emetic","emetic","कै कराने वाली दवा","MEDICINES AND HOSPTALS ( औषध और चिकित्सालय संबधी)","कै कराने वाली दवा","Emetic"]
[null,null,null,null,null,null,null,null,null,null,null,3427,"Fomentation","fomentation","सेंक","MEDICINES AND HOSPTALS ( औषध और चिकित्सालय संबधी)","सेंक","Fomentation"]
[null,null,null,null,null,null,null,null,null,null,null,3428,"Nux-Vomica","nux-vomica","कुचला","MEDICINES AND HOSPTALS ( औषध और चिकित्सालय संबधी)","कुचला","Nux-Vomica"]
[null,null,null,null,null,null,null,null,null,null,null,3429,"Tonic","tonic","पुष्टई,ताकत की दवा","MEDICINES AND HOSPTALS ( औषध और चिकित्सालय संबधी)","पुष्टई,ताकत की दवा","Tonic"]
[null,null,null,null,null,null,null,null,null,null,null,3430,"Jalap","jalap","दस्त करना की दवा","MEDICINES AND HOSPTALS ( औषध और चिकित्सालय संबधी)","दस्त करना की दवा","Jalap"]
[null,null,null,null,null,null,null,null,null,null,null,3431,"Toth Powder","toth powder","दन्त मंजन","MEDICINES AND HOSPTALS ( औषध और चिकित्सालय संबधी)","दन्त मंजन","Toth Powder"]
[null,null,null,null,null,null,null,null,null,null,null,3432,"Caustics","caustics","तेल जलाने वाली दवा","MEDICINES AND HOSPTALS ( औषध और चिकित्सालय संबधी)","तेल जलाने वाली दवा","Caustics"]
[null,null,null,null,null,null,null,null,null,null,null,3433,"Ointment","ointment","मलहम","MEDICINES AND HOSPTALS ( औषध और चिकित्सालय संबधी)","मलहम","Ointment"]
[null,null,null,null,null,null,null,null,null,null,null,3434,"Gargle","gargle","कुल्ला करने के लिए तरल औषधि","MEDICINES AND HOSPTALS ( औषध और चिकित्सालय संबधी)","कुल्ला करने के लिए तरल औषधि","Gargle"]
[null,null,null,null,null,null,null,null,null,null,null,3435,"Purgative","purgative","जुलाब","MEDICINES AND HOSPTALS ( औषध और चिकित्सालय संबधी)","जुलाब","Purgative"]
[null,null,null,null,null,null,null,null,null,null,null,3436,"Bandage","bandage","पट्टी,पट्टी से बांधना","MEDICINES AND HOSPTALS ( औषध और चिकित्सालय संबधी)","पट्टी,पट्टी से बांधना","Bandage"]
[null,null,null,null,null,null,null,null,null,null,null,3437,"Vaccination","vaccination","टीकाकरण","MEDICINES AND HOSPTALS ( औषध और चिकित्सालय संबधी)","टीकाकरण","Vaccination"]
[null,null,null,null,null,null,null,null,null,null,null,3438,"Castro-Oil","castro-oil","रेंडी का तेल","MEDICINES AND HOSPTALS ( औषध और चिकित्सालय संबधी)","रेंडी का तेल","Castro-Oil"]
[null,null,null,null,null,null,null,null,null,null,null,3439,"Absolute","absolute","पूर्ण","DIFFERENT IN SPELLING AND MEANING ( युग्म शब्द )","पूर्ण","Absolute"]
[null,null,null,null,null,null,null,null,null,null,null,3440,"Obsolete","obsolete","अप्रचलित","DIFFERENT IN SPELLING AND MEANING ( युग्म शब्द )","अप्रचलित","Obsolete"]
[null,null,null,null,null,null,null,null,null,null,null,3441,"Bail","bail","जमानत","DIFFERENT IN SPELLING AND MEANING ( युग्म शब्द )","जमानत","Bail"]
[null,null,null,null,null,null,null,null,null,null,null,3442,"Bale","bale","सामान का गट्ठर","DIFFERENT IN SPELLING AND MEANING ( युग्म शब्द )","सामान का गट्ठर","Bale"]
[null,null,null,null,null,null,null,null,null,null,null,3443,"Waive","waive","त्यागना,छोड़ देना","DIFFERENT IN SPELLING AND MEANING ( युग्म शब्द )","त्यागना,छोड़ देना","Waive"]
[null,null,null,null,null,null,null,null,null,null,null,3444,"Wave","wave","हिलाना-डुलाना,तरंग","DIFFERENT IN SPELLING AND MEANING ( युग्म शब्द )","हिलाना-डुलाना,तरंग","Wave"]
[null,null,null,null,null,null,null,null,null,null,null,3445,"Altar","altar","वेदी","DIFFERENT IN SPELLING AND MEANING ( युग्म शब्द )","वेदी","Altar"]
[null,null,null,null,null,null,null,null,null,null,null,3446,"Alter","alter","परिवर्तन करना","DIFFERENT IN SPELLING AND MEANING ( युग्म शब्द )","परिवर्तन करना","Alter"]
[null,null,null,null,null,null,null,null,null,null,null,3447,"Aught","aught","कोई चीज़","DIFFERENT IN SPELLING AND MEANING ( युग्म शब्द )","कोई चीज़","Aught"]
[null,null,null,null,null,null,null,null,null,null,null,3448,"Ought","ought","चाहिए","DIFFERENT IN SPELLING AND MEANING ( युग्म शब्द )","चाहिए","Ought"]
[null,null,null,null,null,null,null,null,null,null,null,3449,"Buy","buy","मोल लेना","DIFFERENT IN SPELLING AND MEANING ( युग्म शब्द )","मोल लेना","Buy"]
[null,null,null,null,null,null,null,null,null,null,null,3450,"By","by","से,द्वारा निकट","DIFFERENT IN SPELLING AND MEANING ( युग्म शब्द )","से,द्वारा निकट","By"]
[null,null,null,null,null,null,null,null,null,null,null,3451,"Course","course","रास्ता,अग्रगति","DIFFERENT IN SPELLING AND MEANING ( युग्म शब्द )","रास्ता,अग्रगति","Course"]
[null,null,null,null,null,null,null,null,null,null,null,3452,"Coarse","coarse","भद्दा,मोटा","DIFFERENT IN SPELLING AND MEANING ( युग्म शब्द )","भद्दा,मोटा","Coarse"]
[null,null,null,null,null,null,null,null,null,null,null,3453,"Calender","calender","इस्त्री","DIFFERENT IN SPELLING AND MEANING ( युग्म शब्द )","इस्त्री","Calender"]
[null,null,null,null,null,null,null,null,null,null,null,3454,"Calendar","calendar","पंचाग","DIFFERENT IN SPELLING AND MEANING ( युग्म शब्द )","पंचाग","Calendar"]
[null,null,null,null,null,null,null,null,null,null,null,3455,"Cast","cast","फेंकना","DIFFERENT IN SPELLING AND MEANING ( युग्म शब्द )","फेंकना","Cast"]
[null,null,null,null,null,null,null,null,null,null,null,3456,"Caste","caste","जाति","DIFFERENT IN SPELLING AND MEANING ( युग्म शब्द )","जाति","Caste"]
[null,null,null,null,null,null,null,null,null,null,null,3457,"Borne","borne","ले आया गया","DIFFERENT IN SPELLING AND MEANING ( युग्म शब्द )","ले आया गया","Borne"]
[null,null,null,null,null,null,null,null,null,null,null,3458,"Born","born","जना,जन्मा","DIFFERENT IN SPELLING AND MEANING ( युग्म शब्द )","जना,जन्मा","Born"]
[null,null,null,null,null,null,null,null,null,null,null,3459,{"$f":"PROPER(N3486)","v":"Ceiling"},"ceiling","छत का नीचेका ( भीतरी ) हिस्सा","DIFFERENT IN SPELLING AND MEANING ( युग्म शब्द )","छत का नीचेका ( भीतरी ) हिस्सा",{"$f":"PROPER(N3486)","v":"Ceiling"}]
[null,null,null,null,null,null,null,null,null,null,null,3460,"Sealing","sealing","मुहर से बंद किया रोकना","DIFFERENT IN SPELLING AND MEANING ( युग्म शब्द )","मुहर से बंद किया रोकना","Sealing"]
[null,null,null,null,null,null,null,null,null,null,null,3461,"Cite","cite","दृष्टान्त देना","DIFFERENT IN SPELLING AND MEANING ( युग्म शब्द )",{"$f":"O3488","v":"दृष्टान्त देना"},"Cite"]
[null,null,null,null,null,null,null,null,null,null,null,3462,"Sight","sight","दृष्टि,नजर","DIFFERENT IN SPELLING AND MEANING ( युग्म शब्द )","दृष्टि,नजर","Sight"]
[null,null,null,null,null,null,null,null,null,null,null,3463,"Draft","draft","नक्शा","DIFFERENT IN SPELLING AND MEANING ( युग्म शब्द )","नक्शा","Draft"]
[null,null,null,null,null,null,null,null,null,null,null,3464,"Draught","draught","खिंचाव","DIFFERENT IN SPELLING AND MEANING ( युग्म शब्द )","खिंचाव","Draught"]
[null,null,null,null,null,null,null,null,null,null,null,3465,"Compliment","compliment","अभिनन्दन,प्रशंसा","DIFFERENT IN SPELLING AND MEANING ( युग्म शब्द )","अभिनन्दन,प्रशंसा","Compliment"]
[null,null,null,null,null,null,null,null,null,null,null,3466,"Complement","complement","परिपूरक","DIFFERENT IN SPELLING AND MEANING ( युग्म शब्द )","परिपूरक","Complement"]
[null,null,null,null,null,null,null,null,null,null,null,3467,"Cemetery","cemetery","मुर्दा गाड़ने की जगह,समाधि","DIFFERENT IN SPELLING AND MEANING ( युग्म शब्द )","मुर्दा गाड़ने की जगह,समाधि","Cemetery"]
[null,null,null,null,null,null,null,null,null,null,null,3468,"Symmetry","symmetry","अंगो की समानता","DIFFERENT IN SPELLING AND MEANING ( युग्म शब्द )","अंगो की समानता","Symmetry"]
[null,null,null,null,null,null,null,null,null,null,null,3469,"Extant","extant","वर्तमान","DIFFERENT IN SPELLING AND MEANING ( युग्म शब्द )","वर्तमान","Extant"]
[null,null,null,null,null,null,null,null,null,null,null,3470,"Extent","extent","विस्तार","DIFFERENT IN SPELLING AND MEANING ( युग्म शब्द )","विस्तार","Extent"]
[null,null,null,null,null,null,null,null,null,null,null,3471,"Confidant","confidant","विश्वास,जिसे गुप्त बाते बताई जा सके","DIFFERENT IN SPELLING AND MEANING ( युग्म शब्द )","विश्वास,जिसे गुप्त बाते बताई जा सके","Confidant"]
[null,null,null,null,null,null,null,null,null,null,null,3472,"Confident","confident","पूरा विश्वस्त","DIFFERENT IN SPELLING AND MEANING ( युग्म शब्द )","पूरा विश्वस्त","Confident"]
[null,null,null,null,null,null,null,null,null,null,null,3473,"Adapt","adapt","दक्ष,प्रवीण","DIFFERENT IN SPELLING AND MEANING ( युग्म शब्द )","दक्ष,प्रवीण","Adapt"]
[null,null,null,null,null,null,null,null,null,null,null,3474,"Adopt","adopt","ग्रहण करना","DIFFERENT IN SPELLING AND MEANING ( युग्म शब्द )","ग्रहण करना","Adopt"]
[null,null,null,null,null,null,null,null,null,null,null,3475,"Corporal","corporal","शरीर सम्बन्धी,पैदल सेना का छोटा अफसर","DIFFERENT IN SPELLING AND MEANING ( युग्म शब्द )","शरीर सम्बन्धी,पैदल सेना का छोटा अफसर","Corporal"]
[null,null,null,null,null,null,null,null,null,null,null,3476,"Corporeal","corporeal","भैतिक,शारीरिक","DIFFERENT IN SPELLING AND MEANING ( युग्म शब्द )","भैतिक,शारीरिक","Corporeal"]
[null,null,null,null,null,null,null,null,null,null,null,3477,"Apposite","apposite","उपयोगी,योग्य","DIFFERENT IN SPELLING AND MEANING ( युग्म शब्द )","उपयोगी,योग्य","Apposite"]
[null,null,null,null,null,null,null,null,null,null,null,3478,"Opposite","opposite","विपरीत,विरुध्द","DIFFERENT IN SPELLING AND MEANING ( युग्म शब्द )","विपरीत,विरुध्द","Opposite"]
[null,null,null,null,null,null,null,null,null,null,null,3479,"Council","council","परिषद,मंत्रणा सभा परामर्श","DIFFERENT IN SPELLING AND MEANING ( युग्म शब्द )","परिषद,मंत्रणा सभा परामर्श","Council"]
[null,null,null,null,null,null,null,null,null,null,null,3480,"Counsel","counsel","सहाल","DIFFERENT IN SPELLING AND MEANING ( युग्म शब्द )","सहाल","Counsel"]
[null,null,null,null,null,null,null,null,null,null,null,3481,"Decent","decent","उचित,योग्य सुन्दर","DIFFERENT IN SPELLING AND MEANING ( युग्म शब्द )","उचित,योग्य सुन्दर","Decent"]
[null,null,null,null,null,null,null,null,null,null,null,3482,"Descent","descent","अधोगमन,अवरोह,पतन","DIFFERENT IN SPELLING AND MEANING ( युग्म शब्द )","अधोगमन,अवरोह,पतन","Descent"]
[null,null,null,null,null,null,null,null,null,null,null,3483,"Cheque","cheque","चेक,हुण्डी,रुक्का","DIFFERENT IN SPELLING AND MEANING ( युग्म शब्द )","चेक,हुण्डी,रुक्का","Cheque"]
[null,null,null,null,null,null,null,null,null,null,null,3484,"Check","check","रोकना","DIFFERENT IN SPELLING AND MEANING ( युग्म शब्द )","रोकना","Check"]
[null,null,null,null,null,null,null,null,null,null,null,3485,"Canvass","canvass","खोज,वोट या सम्मति","DIFFERENT IN SPELLING AND MEANING ( युग्म शब्द )","खोज,वोट या सम्मति","Canvass"]
[null,null,null,null,null,null,null,null,null,null,null,3486,"Canvas","canvas","विलायती टाट,तिरपाल","DIFFERENT IN SPELLING AND MEANING ( युग्म शब्द )","विलायती टाट,तिरपाल","Canvas"]
[null,null,null,null,null,null,null,null,null,null,null,3487,"Consensus","consensus","मतैक्य,एकमत","DIFFERENT IN SPELLING AND MEANING ( युग्म शब्द )","मतैक्य,एकमत","Consensus"]
[null,null,null,null,null,null,null,null,null,null,null,3488,"Conscientious","conscientious","धर्मभीरु,धर्मात्मा","DIFFERENT IN SPELLING AND MEANING ( युग्म शब्द )","धर्मभीरु,धर्मात्मा","Conscientious"]
[null,null,null,null,null,null,null,null,null,null,null,3489,"Canon","canon","कानून,नियम","DIFFERENT IN SPELLING AND MEANING ( युग्म शब्द )","कानून,नियम","Canon"]
[null,null,null,null,null,null,null,null,null,null,null,3490,"Cannon","cannon","तोप,बन्दुक","DIFFERENT IN SPELLING AND MEANING ( युग्म शब्द )","तोप,बन्दुक","Cannon"]
[null,null,null,null,null,null,null,null,null,null,null,3491,"Advise","advise","सलाह देना","DIFFERENT IN SPELLING AND MEANING ( युग्म शब्द )","सलाह देना","Advise"]
[null,null,null,null,null,null,null,null,null,null,null,3492,"Advice","advice","सलाह ","DIFFERENT IN SPELLING AND MEANING ( युग्म शब्द )","सलाह ","Advice"]
[null,null,null,null,null,null,null,null,null,null,null,3493,"Vain","vain","निष्फल,व्यर्थ,घमंडी","DIFFERENT IN SPELLING AND MEANING ( युग्म शब्द )","निष्फल,व्यर्थ,घमंडी","Vain"]
[null,null,null,null,null,null,null,null,null,null,null,3494,"Vein","vein","नस,नाडी,रँग","DIFFERENT IN SPELLING AND MEANING ( युग्म शब्द )","नस,नाडी,रँग","Vein"]
[null,null,null,null,null,null,null,null,null,null,null,3495,"Access","access","पहुँच,( किसी के पास )","DIFFERENT IN SPELLING AND MEANING ( युग्म शब्द )","पहुँच,( किसी के पास )","Access"]
[null,null,null,null,null,null,null,null,null,null,null,3496,"Excess","excess","अधिकता,अतिरेक","DIFFERENT IN SPELLING AND MEANING ( युग्म शब्द )","अधिकता,अतिरेक","Excess"]
[null,null,null,null,null,null,null,null,null,null,null,3497,"Affect","affect","प्रभाव डालना","DIFFERENT IN SPELLING AND MEANING ( युग्म शब्द )","प्रभाव डालना","Affect"]
[null,null,null,null,null,null,null,null,null,null,null,3498,"Effect","effect","फल","DIFFERENT IN SPELLING AND MEANING ( युग्म शब्द )","फल","Effect"]
[null,null,null,null,null,null,null,null,null,null,null,3499,"Deference","deference","विलम्ब","DIFFERENT IN SPELLING AND MEANING ( युग्म शब्द )","विलम्ब","Deference"]
[null,null,null,null,null,null,null,null,null,null,null,3500,"Difference","difference","भेद","DIFFERENT IN SPELLING AND MEANING ( युग्म शब्द )","भेद","Difference"]
[null,null,null,null,null,null,null,null,null,null,null,3501,"Dessert","dessert","भोजन के बाद परोसे हुए फल या मिठाई","DIFFERENT IN SPELLING AND MEANING ( युग्म शब्द )","भोजन के बाद परोसे हुए फल या मिठाई","Dessert"]
[null,null,null,null,null,null,null,null,null,null,null,3502,"Desert","desert","मरुस्थल","DIFFERENT IN SPELLING AND MEANING ( युग्म शब्द )","मरुस्थल","Desert"]
[null,null,null,null,null,null,null,null,null,null,null,3503,"Humane","humane","दयालु","DIFFERENT IN SPELLING AND MEANING ( युग्म शब्द )","दयालु","Humane"]
[null,null,null,null,null,null,null,null,null,null,null,3504,"Human","human","मनुष्य","DIFFERENT IN SPELLING AND MEANING ( युग्म शब्द )","मनुष्य","Human"]
[null,null,null,null,null,null,null,null,null,null,null,3505,"Diverse","diverse","विभिन्न विविध","DIFFERENT IN SPELLING AND MEANING ( युग्म शब्द )","विभिन्न विविध","Diverse"]
[null,null,null,null,null,null,null,null,null,null,null,3506,"Diverge","diverge","भिन्न होना","DIFFERENT IN SPELLING AND MEANING ( युग्म शब्द )","भिन्न होना","Diverge"]
[null,null,null,null,null,null,null,null,null,null,null,3507,"Idle","idle","आलसी","DIFFERENT IN SPELLING AND MEANING ( युग्म शब्द )","आलसी","Idle"]
[null,null,null,null,null,null,null,null,null,null,null,3508,"Idyl","idyl","वर्णात्मक कविता का एक प्रकार","DIFFERENT IN SPELLING AND MEANING ( युग्म शब्द )","वर्णात्मक कविता का एक प्रकार","Idyl"]
[null,null,null,null,null,null,null,null,null,null,null,3509,"Fare","fare","खाद्य","DIFFERENT IN SPELLING AND MEANING ( युग्म शब्द )","खाद्य","Fare"]
[null,null,null,null,null,null,null,null,null,null,null,3510,"Fair","fair","सुन्दर","DIFFERENT IN SPELLING AND MEANING ( युग्म शब्द )","सुन्दर","Fair"]
[null,null,null,null,null,null,null,null,null,null,null,3511,"Gambol","gambol","खेलकूद","DIFFERENT IN SPELLING AND MEANING ( युग्म शब्द )","खेलकूद","Gambol"]
[null,null,null,null,null,null,null,null,null,null,null,3512,"Gamble","gamble","जुआ खेलना","DIFFERENT IN SPELLING AND MEANING ( युग्म शब्द )","जुआ खेलना","Gamble"]
[null,null,null,null,null,null,null,null,null,null,null,3513,"Eligible","eligible","चुनने योग्य,ग्रहणीय","DIFFERENT IN SPELLING AND MEANING ( युग्म शब्द )","चुनने योग्य,ग्रहणीय","Eligible"]
[null,null,null,null,null,null,null,null,null,null,null,3514,"Lllegible","lllegible","जो पढ़ा न जा सके ","DIFFERENT IN SPELLING AND MEANING ( युग्म शब्द )","जो पढ़ा न जा सके ","Lllegible"]
[null,null,null,null,null,null,null,null,null,null,null,3515,"Exercice","exercice","हांक ले जाना","DIFFERENT IN SPELLING AND MEANING ( युग्म शब्द )","हांक ले जाना","Exercice"]
[null,null,null,null,null,null,null,null,null,null,null,3516,"Exercise","exercise","व्यायाम,अभ्यास","DIFFERENT IN SPELLING AND MEANING ( युग्म शब्द )","व्यायाम,अभ्यास","Exercise"]
[null,null,null,null,null,null,null,null,null,null,null,3517,"Mettle","mettle","स्वभाव,पौरुष,शूरता","DIFFERENT IN SPELLING AND MEANING ( युग्म शब्द )","स्वभाव,पौरुष,शूरता","Mettle"]
[null,null,null,null,null,null,null,null,null,null,null,3518," Metal"," metal","धातु जैसे सोना,ताँबा","DIFFERENT IN SPELLING AND MEANING ( युग्म शब्द )","धातु जैसे सोना,ताँबा"," Metal"]
[null,null,null,null,null,null,null,null,null,null,null,3519,"Faint","faint","धुंधला","DIFFERENT IN SPELLING AND MEANING ( युग्म शब्द )","धुंधला","Faint"]
[null,null,null,null,null,null,null,null,null,null,null,3520," Soar"," soar","ऊँचे पर चढ़ना","DIFFERENT IN SPELLING AND MEANING ( युग्म शब्द )","ऊँचे पर चढ़ना"," Soar"]
[null,null,null,null,null,null,null,null,null,null,null,3521,"Soar","soar","दुःख,क्लेश","DIFFERENT IN SPELLING AND MEANING ( युग्म शब्द )","दुःख,क्लेश","Soar"]
[null,null,null,null,null,null,null,null,null,null,null,3522,"Hale","hale","तंदुरुस्त","DIFFERENT IN SPELLING AND MEANING ( युग्म शब्द )","तंदुरुस्त","Hale"]
[null,null,null,null,null,null,null,null,null,null,null,3523,"Hail","hail","जय-जयकार","DIFFERENT IN SPELLING AND MEANING ( युग्म शब्द )","जय-जयकार",{"$f":"PROPER(N3550)","v":"Hail"}]
[null,null,null,null,null,null,null,null,null,null,null,3524,"Meddle","meddle","हस्तक्षेप","DIFFERENT IN SPELLING AND MEANING ( युग्म शब्द )","हस्तक्षेप","Meddle"]
[null,null,null,null,null,null,null,null,null,null,null,3525,"Medal","medal","पदक,तगमा","DIFFERENT IN SPELLING AND MEANING ( युग्म शब्द )",{"$f":"O3552","v":"पदक,तगमा"},"Medal"]
[null,null,null,null,null,null,null,null,null,null,null,3526,"Persued","persued","पीछा किया","DIFFERENT IN SPELLING AND MEANING ( युग्म शब्द )","पीछा किया","Persued"]
[null,null,null,null,null,null,null,null,null,null,null,3527,"Hoard","hoard","संचय करना","DIFFERENT IN SPELLING AND MEANING ( युग्म शब्द )","संचय करना","Hoard"]
[null,null,null,null,null,null,null,null,null,null,null,3528,"Horde","horde","देश-देशांतर में फिरने वाली जाति ( खानाबदोश )","DIFFERENT IN SPELLING AND MEANING ( युग्म शब्द )","देश-देशांतर में फिरने वाली जाति ( खानाबदोश )","Horde"]
[null,null,null,null,null,null,null,null,null,null,null,3529,"Lead","lead","सीसा,रांगा","DIFFERENT IN SPELLING AND MEANING ( युग्म शब्द )","सीसा,रांगा","Lead"]
[null,null,null,null,null,null,null,null,null,null,null,3530,"Led","led","चलाया था,पाठ-प्रदर्शन","DIFFERENT IN SPELLING AND MEANING ( युग्म शब्द )","चलाया था,पाठ-प्रदर्शन","Led"]
[null,null,null,null,null,null,null,null,null,null,null,3531,"Personal","personal","मनुष्य सम्बन्धी ,व्यक्तिगत","DIFFERENT IN SPELLING AND MEANING ( युग्म शब्द )","मनुष्य सम्बन्धी ,व्यक्तिगत","Personal"]
[null,null,null,null,null,null,null,null,null,null,null,3532,"Personnel","personnel","किसी एक कार्य में काम करने वाले","DIFFERENT IN SPELLING AND MEANING ( युग्म शब्द )","किसी एक कार्य में काम करने वाले","Personnel"]
[null,null,null,null,null,null,null,null,null,null,null,3533,"Liar","liar","मिथ्यावादी,झूठ बोलने वाला","DIFFERENT IN SPELLING AND MEANING ( युग्म शब्द )","मिथ्यावादी,झूठ बोलने वाला","Liar"]
[null,null,null,null,null,null,null,null,null,null,null,3534,"Lawyer","lawyer","वकील,मुखतार,कानून जानने वाला","DIFFERENT IN SPELLING AND MEANING ( युग्म शब्द )","वकील,मुखतार,कानून जानने वाला","Lawyer"]
[null,null,null,null,null,null,null,null,null,null,null,3535,"Feign","feign","बहाना करना","DIFFERENT IN SPELLING AND MEANING ( युग्म शब्द )","बहाना करना","Feign"]
[null,null,null,null,null,null,null,null,null,null,null,3536,"Lightening","lightening","हल्का करना","DIFFERENT IN SPELLING AND MEANING ( युग्म शब्द )","हल्का करना","Lightening"]
[null,null,null,null,null,null,null,null,null,null,null,3537,"Lightning","lightning","आकाश की बिजली","DIFFERENT IN SPELLING AND MEANING ( युग्म शब्द )","आकाश की बिजली","Lightning"]
[null,null,null,null,null,null,null,null,null,null,null,3538,"Immerge","immerge","तरल पदार्थ में डूबना","DIFFERENT IN SPELLING AND MEANING ( युग्म शब्द )","तरल पदार्थ में डूबना","Immerge"]
[null,null,null,null,null,null,null,null,null,null,null,3539,"Emerge","emerge","प्रकट होना","DIFFERENT IN SPELLING AND MEANING ( युग्म शब्द )","प्रकट होना","Emerge"]
[null,null,null,null,null,null,null,null,null,null,null,3540,"Main","main","प्रधान,मुख्य,महासागर","DIFFERENT IN SPELLING AND MEANING ( युग्म शब्द )","प्रधान,मुख्य,महासागर","Main"]
[null,null,null,null,null,null,null,null,null,null,null,3541,"Mane","mane","सिंह,घोड़े आदि जानवरों की गर्दन पार लम्बे बाल करना","DIFFERENT IN SPELLING AND MEANING ( युग्म शब्द )","सिंह,घोड़े आदि जानवरों की गर्दन पार लम्बे बाल करना","Mane"]
[null,null,null,null,null,null,null,null,null,null,null,3542,"Pray","pray","प्राथना करना,विनती करना","DIFFERENT IN SPELLING AND MEANING ( युग्म शब्द )","प्राथना करना,विनती करना","Pray"]
[null,null,null,null,null,null,null,null,null,null,null,3543,"Prey","prey","शिकार","DIFFERENT IN SPELLING AND MEANING ( युग्म शब्द )","शिकार","Prey"]
[null,null,null,null,null,null,null,null,null,null,null,3544,"Irruption","irruption","एकाकक आक्रमण,चढाई","DIFFERENT IN SPELLING AND MEANING ( युग्म शब्द )","एकाकक आक्रमण,चढाई","Irruption"]
[null,null,null,null,null,null,null,null,null,null,null,3545,"Eruption","eruption","वेग के साथ तोड़ना ,धडाका","DIFFERENT IN SPELLING AND MEANING ( युग्म शब्द )","वेग के साथ तोड़ना ,धडाका","Eruption"]
[null,null,null,null,null,null,null,null,null,null,null,3546,"Tail","tail","पूँछ,दुम","DIFFERENT IN SPELLING AND MEANING ( युग्म शब्द )","पूँछ,दुम","Tail"]
[null,null,null,null,null,null,null,null,null,null,null,3547,"Tale","tale","कहानी","DIFFERENT IN SPELLING AND MEANING ( युग्म शब्द )","कहानी","Tale"]
[null,null,null,null,null,null,null,null,null,null,null,3548,"Minor","minor","अल्प,छोटा,तुच्छ","DIFFERENT IN SPELLING AND MEANING ( युग्म शब्द )","अल्प,छोटा,तुच्छ","Minor"]
[null,null,null,null,null,null,null,null,null,null,null,3549,"Miner","miner","खान खोदने वाला","DIFFERENT IN SPELLING AND MEANING ( युग्म शब्द )","खान खोदने वाला","Miner"]
[null,null,null,null,null,null,null,null,null,null,null,3550,"Funereal","funereal","उदास,शोकमय","DIFFERENT IN SPELLING AND MEANING ( युग्म शब्द )","उदास,शोकमय","Funereal"]
[null,null,null,null,null,null,null,null,null,null,null,3551,"Funeral","funeral","शव-दाह,समाधि,दफ़न","DIFFERENT IN SPELLING AND MEANING ( युग्म शब्द )","शव-दाह,समाधि,दफ़न","Funeral"]
[null,null,null,null,null,null,null,null,null,null,null,3552,"Agent","agent","दलाल","DIFFERENT IN SPELLING AND MEANING ( युग्म शब्द )","दलाल","Agent"]
[null,null,null,null,null,null,null,null,null,null,null,3553,"Sole","sole","तलवा,जूते का तल्ला ","DIFFERENT IN SPELLING AND MEANING ( युग्म शब्द )","तलवा,जूते का तल्ला ","Sole"]
[null,null,null,null,null,null,null,null,null,null,null,3554,"Soul","soul","आत्मा","DIFFERENT IN SPELLING AND MEANING ( युग्म शब्द )","आत्मा","Soul"]
[null,null,null,null,null,null,null,null,null,null,null,3555,"Lose","lose","खोना,चूकना,गंवाना","DIFFERENT IN SPELLING AND MEANING ( युग्म शब्द )","खोना,चूकना,गंवाना","Lose"]
[null,null,null,null,null,null,null,null,null,null,null,3556,"Loose","loose","ढीला करना ,भ्रष्ट","DIFFERENT IN SPELLING AND MEANING ( युग्म शब्द )","ढीला करना ,भ्रष्ट","Loose"]
[null,null,null,null,null,null,null,null,null,null,null,3557,"Steal","steal","चुराना,चोरी करना","DIFFERENT IN SPELLING AND MEANING ( युग्म शब्द )","चुराना,चोरी करना","Steal"]
[null,null,null,null,null,null,null,null,null,null,null,3558,"Steel","steel","फौलाद ,इस्पात","DIFFERENT IN SPELLING AND MEANING ( युग्म शब्द )","फौलाद ,इस्पात","Steel"]
[null,null,null,null,null,null,null,null,null,null,null,3559,"Peace","peace","शांति","DIFFERENT IN SPELLING AND MEANING ( युग्म शब्द )","शांति","Peace"]
[null,null,null,null,null,null,null,null,null,null,null,3560,"Piece","piece","टुकड़ा,खण्ड,अंश","DIFFERENT IN SPELLING AND MEANING ( युग्म शब्द )","टुकड़ा,खण्ड,अंश","Piece"]
[null,null,null,null,null,null,null,null,null,null,null,3561,"Hue","hue","वर्ण,रँग,चिल्लाहट","DIFFERENT IN SPELLING AND MEANING ( युग्म शब्द )","वर्ण,रँग,चिल्लाहट","Hue"]
[null,null,null,null,null,null,null,null,null,null,null,3562,"Hew","hew","कुल्हाड़ी इत्यादि से काटना","DIFFERENT IN SPELLING AND MEANING ( युग्म शब्द )","कुल्हाड़ी इत्यादि से काटना","Hew"]
[null,null,null,null,null,null,null,null,null,null,null,3563,"Physic","physic","औषधि,दवा","DIFFERENT IN SPELLING AND MEANING ( युग्म शब्द )","औषधि,दवा","Physic"]
[null,null,null,null,null,null,null,null,null,null,null,3564,"Physique","physique","शरीर की बनावट डील-डौल","DIFFERENT IN SPELLING AND MEANING ( युग्म शब्द )","शरीर की बनावट डील-डौल","Physique"]
[null,null,null,null,null,null,null,null,null,null,null,3565,"Plain","plain","समतल भूमि,साधारण,सादा","DIFFERENT IN SPELLING AND MEANING ( युग्म शब्द )","समतल भूमि,साधारण,सादा","Plain"]
[null,null,null,null,null,null,null,null,null,null,null,3566,"Plane","plane","धरातल,बहुधा ठोस","DIFFERENT IN SPELLING AND MEANING ( युग्म शब्द )","धरातल,बहुधा ठोस","Plane"]
[null,null,null,null,null,null,null,null,null,null,null,3567,"Pole","pole","डंडा,बल्ला","DIFFERENT IN SPELLING AND MEANING ( युग्म शब्द )","डंडा,बल्ला","Pole"]
[null,null,null,null,null,null,null,null,null,null,null,3568,"Poll","poll","चुनाव में मत देना ,चुनाव स्थान","DIFFERENT IN SPELLING AND MEANING ( युग्म शब्द )","चुनाव में मत देना ,चुनाव स्थान","Poll"]
[null,null,null,null,null,null,null,null,null,null,null,3569,"Yoke","yoke","जुआ जो बैलो के कंधो पर रखा जाता है","DIFFERENT IN SPELLING AND MEANING ( युग्म शब्द )","जुआ जो बैलो के कंधो पर रखा जाता है","Yoke"]
[null,null,null,null,null,null,null,null,null,null,null,3570,"Yolk","yolk","अंडे का पीला भाग","DIFFERENT IN SPELLING AND MEANING ( युग्म शब्द )","अंडे का पीला भाग","Yolk"]
[null,null,null,null,null,null,null,null,null,null,null,3571,"Vale","vale","खड्ड,घटी,दर्रा","DIFFERENT IN SPELLING AND MEANING ( युग्म शब्द )","खड्ड,घटी,दर्रा","Vale"]
[null,null,null,null,null,null,null,null,null,null,null,3572,"Veil","veil","घूँघट,पर्दा","DIFFERENT IN SPELLING AND MEANING ( युग्म शब्द )","घूँघट,पर्दा","Veil"]
[null,null,null,null,null,null,null,null,null,null,null,3573,"Oar","oar","नाव खेने की डांड,पतवार","DIFFERENT IN SPELLING AND MEANING ( युग्म शब्द )","नाव खेने की डांड,पतवार","Oar"]
[null,null,null,null,null,null,null,null,null,null,null,3574,"Ore","ore","खान से निकली हुई कच्ची धातु","DIFFERENT IN SPELLING AND MEANING ( युग्म शब्द )","खान से निकली हुई कच्ची धातु","Ore"]
[null,null,null,null,null,null,null,null,null,null,null,3575,"Pepper","pepper","गोल मिर्च,कलि मिर्च","DIFFERENT IN SPELLING AND MEANING ( युग्म शब्द )","गोल मिर्च,कलि मिर्च","Pepper"]
[null,null,null,null,null,null,null,null,null,null,null,3576,"Paper","paper","कागज,समाचार-पत्र","DIFFERENT IN SPELLING AND MEANING ( युग्म शब्द )","कागज,समाचार-पत्र","Paper"]
[null,null,null,null,null,null,null,null,null,null,null,3577,"Route","route","रास्ता,मार्ग","DIFFERENT IN SPELLING AND MEANING ( युग्म शब्द )","रास्ता,मार्ग","Route"]
[null,null,null,null,null,null,null,null,null,null,null,3578,"Root","root","पेड़ की जड़,उत्पति का मूल","DIFFERENT IN SPELLING AND MEANING ( युग्म शब्द )","पेड़ की जड़,उत्पति का मूल","Root"]
[null,null,null,null,null,null,null,null,null,null,null,3579,"Lessen","lessen","कम होना,कम करना","DIFFERENT IN SPELLING AND MEANING ( युग्म शब्द )","कम होना,कम करना","Lessen"]
[null,null,null,null,null,null,null,null,null,null,null,3580,"Lesson","lesson","पाठ,उपदेश,शिक्षा","DIFFERENT IN SPELLING AND MEANING ( युग्म शब्द )","पाठ,उपदेश,शिक्षा","Lesson"]
[null,null,null,null,null,null,null,null,null,null,null,3581,"Heal","heal","आरोग्य करना,चंगा करना","DIFFERENT IN SPELLING AND MEANING ( युग्म शब्द )","आरोग्य करना,चंगा करना","Heal"]
[null,null,null,null,null,null,null,null,null,null,null,3582,"Heel","heel","पैर की एडी","DIFFERENT IN SPELLING AND MEANING ( युग्म शब्द )","पैर की एडी","Heel"]
[null,null,null,null,null,null,null,null,null,null,null,3583,"Rote","rote","अर्थ के ऊपर ध्यान ना देकर केवल आवृति","DIFFERENT IN SPELLING AND MEANING ( युग्म शब्द )","अर्थ के ऊपर ध्यान ना देकर केवल आवृति","Rote"]
[null,null,null,null,null,null,null,null,null,null,null,3584,"Wrote","wrote","लिखा,लिखा था","DIFFERENT IN SPELLING AND MEANING ( युग्म शब्द )","लिखा,लिखा था","Wrote"]
[null,null,null,null,null,null,null,null,null,null,null,3585,"Cellar","cellar","तहखान,गुफा","DIFFERENT IN SPELLING AND MEANING ( युग्म शब्द )","तहखान,गुफा","Cellar"]
[null,null,null,null,null,null,null,null,null,null,null,3586,"Seller","seller","विक्रेता,बेचने वाला","DIFFERENT IN SPELLING AND MEANING ( युग्म शब्द )","विक्रेता,बेचने वाला","Seller"]
[null,null,null,null,null,null,null,null,null,null,null,3587," Stationery"," stationery","कागज,कलम,स्याही आदि लिखने की सामग्री","DIFFERENT IN SPELLING AND MEANING ( युग्म शब्द )","कागज,कलम,स्याही आदि लिखने की सामग्री",{"$f":"PROPER(N3614)","v":" Stationery"}]
[null,null,null,null,null,null,null,null,null,null,null,3588,"Stationary","stationary","स्थिर,अचल","DIFFERENT IN SPELLING AND MEANING ( युग्म शब्द )","स्थिर,अचल","Stationary"]
[null,null,null,null,null,null,null,null,null,null,null,3589,"Suit","suit","योग्य,फिट,एक ही स्थान से बनी हुई पोशक का जोड़ा","DIFFERENT IN SPELLING AND MEANING ( युग्म शब्द )",{"$f":"O3616","v":"योग्य,फिट,एक ही स्थान से बनी हुई पोशक का जोड़ा"},"Suit"]
[null,null,null,null,null,null,null,null,null,null,null,3590,"Suite","suite","नौकर-चाकर,अनुचर","DIFFERENT IN SPELLING AND MEANING ( युग्म शब्द )","नौकर-चाकर,अनुचर","Suite"]
[null,null,null,null,null,null,null,null,null,null,null,3591,"Loath","loath","अनिच्छुक,नाराज","DIFFERENT IN SPELLING AND MEANING ( युग्म शब्द )","अनिच्छुक,नाराज","Loath"]
[null,null,null,null,null,null,null,null,null,null,null,3592,"Loathe","loathe","घृणा करना","DIFFERENT IN SPELLING AND MEANING ( युग्म शब्द )","घृणा करना","Loathe"]
[null,null,null,null,null,null,null,null,null,null,null,3593,"Temper","temper","स्वभाव ,मिजाज","DIFFERENT IN SPELLING AND MEANING ( युग्म शब्द )","स्वभाव ,मिजाज","Temper"]
[null,null,null,null,null,null,null,null,null,null,null,3594,"Tamper","tamper","हाथ डालना,हस्तक्षेप","DIFFERENT IN SPELLING AND MEANING ( युग्म शब्द )","हाथ डालना,हस्तक्षेप","Tamper"]
[null,null,null,null,null,null,null,null,null,null,null,3595," Quite"," quite","पूर्ण रूप से","DIFFERENT IN SPELLING AND MEANING ( युग्म शब्द )","पूर्ण रूप से"," Quite"]
[null,null,null,null,null,null,null,null,null,null,null,3596,"Quite","quite","शांत","DIFFERENT IN SPELLING AND MEANING ( युग्म शब्द )","शांत","Quite"]
[null,null,null,null,null,null,null,null,null,null,null,3597," A Crowd Of Men"," a crowd of men","जनसमूह.भीड़","COLLECTION OF THINGS ( दलसूचक शब्द )","जनसमूह.भीड़"," A Crowd Of Men"]
[null,null,null,null,null,null,null,null,null,null,null,3598,"A Bunch Of Plantains","a bunch of plantains","केले का घांद","COLLECTION OF THINGS ( दलसूचक शब्द )","केले का घांद","A Bunch Of Plantains"]
[null,null,null,null,null,null,null,null,null,null,null,3599,"A Swarm Of Flies Or Bees","a swarm of flies or bees","मधुमख्खी का झुण्ड","COLLECTION OF THINGS ( दलसूचक शब्द )","मधुमख्खी का झुण्ड","A Swarm Of Flies Or Bees"]
[null,null,null,null,null,null,null,null,null,null,null,3600,"A Range Of Mountains","a range of mountains","पर्वतश्रेणी","COLLECTION OF THINGS ( दलसूचक शब्द )","पर्वतश्रेणी","A Range Of Mountains"]
[null,null,null,null,null,null,null,null,null,null,null,3601,"A Group Of Island","a group of island","द्वीप समूह","COLLECTION OF THINGS ( दलसूचक शब्द )","द्वीप समूह","A Group Of Island"]
[null,null,null,null,null,null,null,null,null,null,null,3602,"A Group Of Boys","a group of boys","बालक दल","COLLECTION OF THINGS ( दलसूचक शब्द )","बालक दल","A Group Of Boys"]
[null,null,null,null,null,null,null,null,null,null,null,3603,"A Flight Of Birds","a flight of birds","खग वृन्द","COLLECTION OF THINGS ( दलसूचक शब्द )","खग वृन्द","A Flight Of Birds"]
[null,null,null,null,null,null,null,null,null,null,null,3604,"A Gange Of Dacoits","a gange of dacoits","डाकुओ का गिरोह","COLLECTION OF THINGS ( दलसूचक शब्द )","डाकुओ का गिरोह","A Gange Of Dacoits"]
[null,null,null,null,null,null,null,null,null,null,null,3605,"A Galaxy Of Stars","a galaxy of stars","तारामंडल","COLLECTION OF THINGS ( दलसूचक शब्द )","तारामंडल","A Galaxy Of Stars"]
[null,null,null,null,null,null,null,null,null,null,null,3606,"A Herd Of Cows","a herd of cows","गौवृन्द","COLLECTION OF THINGS ( दलसूचक शब्द )","गौवृन्द","A Herd Of Cows"]
[null,null,null,null,null,null,null,null,null,null,null,3607," A Bounch Of Keys"," a bounch of keys","चाबियों का गुच्चा","COLLECTION OF THINGS ( दलसूचक शब्द )","चाबियों का गुच्चा"," A Bounch Of Keys"]
[null,null,null,null,null,null,null,null,null,null,null,3608,"A Bundle Of Sticks","a bundle of sticks","गठ्ठा","COLLECTION OF THINGS ( दलसूचक शब्द )","गठ्ठा","A Bundle Of Sticks"]
[null,null,null,null,null,null,null,null,null,null,null,3609,"A Nest Of Aunts","a nest of aunts","चीटियों का झुण्ड","COLLECTION OF THINGS ( दलसूचक शब्द )","चीटियों का झुण्ड","A Nest Of Aunts"]
[null,null,null,null,null,null,null,null,null,null,null,3610,"A Flock Of Sheeps","a flock of sheeps","भेड़ो का झुण्ड","COLLECTION OF THINGS ( दलसूचक शब्द )","भेड़ो का झुण्ड","A Flock Of Sheeps"]
[null,null,null,null,null,null,null,null,null,null,null,3611,"A Shoal Of Fish","a shoal of fish","मछलियों का झुण्ड","COLLECTION OF THINGS ( दलसूचक शब्द )","मछलियों का झुण्ड","A Shoal Of Fish"]
[null,null,null,null,null,null,null,null,null,null,null,3612,"A Drove Of Buffalos","a drove of buffalos","भैंसों का झुण्ड","COLLECTION OF THINGS ( दलसूचक शब्द )","भैंसों का झुण्ड","A Drove Of Buffalos"]
[null,null,null,null,null,null,null,null,null,null,null,3613,"A Herd Of Deers","a herd of deers","हिरनों का झुण्ड","COLLECTION OF THINGS ( दलसूचक शब्द )","हिरनों का झुण्ड","A Herd Of Deers"]
[null,null,null,null,null,null,null,null,null,null,null,3614,"",null,null,null,null,""]
[null,null,null,null,null,null,null,null,null,null,null,3615]
[null,null,null,null,null,null,null,null,null,null,null,3616]
[null,null,null,null,null,null,null,null,null,null,null,3617]
[null,null,null,null,null,null,null,null,null,null,null,3618]
[null,null,null,null,null,null,null,null,null,null,null,3619]
[null,null,null,null,null,null,null,null,null,null,null,3620]
[null,null,null,null,null,null,null,null,null,null,null,3621]
[null,null,null,null,null,null,null,null,null,null,null,3622]
[null,null,null,null,null,null,null,null,null,null,null,3623]
[null,null,null,null,null,null,null,null,null,null,null,3624]
[null,null,null,null,null,null,null,null,null,null,null,3625]
[null,null,null,null,null,null,null,null,null,null,null,3626]
[null,null,null,null,null,null,null,null,null,null,null,3627]
[null,null,null,null,null,null,null,null,null,null,null,3628]
[null,null,null,null,null,null,null,null,null,null,null,3629]
[null,null,null,null,null,null,null,null,null,null,null,3630]
[null,null,null,null,null,null,null,null,null,null,null,3631]
[null,null,null,null,null,null,null,null,null,null,null,3632]
[null,null,null,null,null,null,null,null,null,null,null,3633]
[null,null,null,null,null,null,null,null,null,null,null,3634]
[null,null,null,null,null,null,null,null,null,null,null,3635]
[null,null,null,null,null,null,null,null,null,null,null,3636]
[null,null,null,null,null,null,null,null,null,null,null,3637]
[null,null,null,null,null,null,null,null,null,null,null,3638]
[null,null,null,null,null,null,null,null,null,null,null,3639]
[null,null,null,null,null,null,null,null,null,null,null,3640]
[null,null,null,null,null,null,null,null,null,null,null,3641]
[null,null,null,null,null,null,null,null,null,null,null,3642]
[null,null,null,null,null,null,null,null,null,null,null,3643]
[null,null,null,null,null,null,null,null,null,null,null,3644]
[null,null,null,null,null,null,null,null,null,null,null,3645]
[null,null,null,null,null,null,null,null,null,null,null,3646]
[null,null,null,null,null,null,null,null,null,null,null,3647]
[null,null,null,null,null,null,null,null,null,null,null,3648]
[null,null,null,null,null,null,null,null,null,null,null,3649]
[null,null,null,null,null,null,null,null,null,null,null,3650]
[null,null,null,null,null,null,null,null,null,null,null,3651]
[null,null,null,null,null,null,null,null,null,null,null,3652]
[null,null,null,null,null,null,null,null,null,null,null,3653]
[null,null,null,null,null,null,null,null,null,null,null,3654]
[null,null,null,null,null,null,null,null,null,null,null,3655]
[null,null,null,null,null,null,null,null,null,null,null,3656]
[null,null,null,null,null,null,null,null,null,null,null,3657]
[null,null,null,null,null,null,null,null,null,null,null,3658]
[null,null,null,null,null,null,null,null,null,null,null,3659]
[null,null,null,null,null,null,null,null,null,null,null,3660]
[null,null,null,null,null,null,null,null,null,null,null,3661]
[null,null,null,null,null,null,null,null,null,null,null,3662]
[null,null,null,null,null,null,null,null,null,null,null,3663]
[null,null,null,null,null,null,null,null,null,null,null,3664]
[null,null,null,null,null,null,null,null,null,null,null,3665]
[null,null,null,null,null,null,null,null,null,null,null,3666]
[null,null,null,null,null,null,null,null,null,null,null,3667]
[null,null,null,null,null,null,null,null,null,null,null,3668]
[null,null,null,null,null,null,null,null,null,null,null,3669]
[null,null,null,null,null,null,null,null,null,null,null,3670]
[null,null,null,null,null,null,null,null,null,null,null,3671]
[null,null,null,null,null,null,null,null,null,null,null,3672]
[null,null,null,null,null,null,null,null,null,null,null,3673]
[null,null,null,null,null,null,null,null,null,null,null,3674]
[null,null,null,null,null,null,null,null,null,null,null,3675]
[null,null,null,null,null,null,null,null,null,null,null,3676]
[null,null,null,null,null,null,null,null,null,null,null,3677]
[null,null,null,null,null,null,null,null,null,null,null,3678]
[null,null,null,null,null,null,null,null,null,null,null,3679]
[null,null,null,null,null,null,null,null,null,null,null,3680]
[null,null,null,null,null,null,null,null,null,null,null,3681]
[null,null,null,null,null,null,null,null,null,null,null,3682]
[null,null,null,null,null,null,null,null,null,null,null,3683]
[null,null,null,null,null,null,null,null,null,null,null,3684]
[null,null,null,null,null,null,null,null,null,null,null,3685]
[null,null,null,null,null,null,null,null,null,null,null,3686]
[null,null,null,null,null,null,null,null,null,null,null,3687]
[null,null,null,null,null,null,null,null,null,null,null,3688]
[null,null,null,null,null,null,null,null,null,null,null,3689]
[null,null,null,null,null,null,null,null,null,null,null,3690]
[null,null,null,null,null,null,null,null,null,null,null,3691]
[null,null,null,null,null,null,null,null,null,null,null,3692]
[null,null,null,null,null,null,null,null,null,null,null,3693]
[null,null,null,null,null,null,null,null,null,null,null,3694]
[null,null,null,null,null,null,null,null,null,null,null,3695]
[null,null,null,null,null,null,null,null,null,null,null,3696]
[null,null,null,null,null,null,null,null,null,null,null,3697]
[null,null,null,null,null,null,null,null,null,null,null,3698]
[null,null,null,null,null,null,null,null,null,null,null,3699]
[null,null,null,null,null,null,null,null,null,null,null,3700]
[null,null,null,null,null,null,null,null,null,null,null,3701]
[null,null,null,null,null,null,null,null,null,null,null,3702]
[null,null,null,null,null,null,null,null,null,null,null,3703]
[null,null,null,null,null,null,null,null,null,null,null,3704]
[null,null,null,null,null,null,null,null,null,null,null,3705]
[null,null,null,null,null,null,null,null,null,null,null,3706]
[null,null,null,null,null,null,null,null,null,null,null,3707]
[null,null,null,null,null,null,null,null,null,null,null,3708]
[null,null,null,null,null,null,null,null,null,null,null,3709]
[null,null,null,null,null,null,null,null,null,null,null,3710]
[null,null,null,null,null,null,null,null,null,null,null,3711]
[null,null,null,null,null,null,null,null,null,null,null,3712]
[null,null,null,null,null,null,null,null,null,null,null,3713]
[null,null,null,null,null,null,null,null,null,null,null,3714]
[null,null,null,null,null,null,null,null,null,null,null,3715]
[null,null,null,null,null,null,null,null,null,null,null,3716]
[null,null,null,null,null,null,null,null,null,null,null,3717]
[null,null,null,null,null,null,null,null,null,null,null,3718]
[null,null,null,null,null,null,null,null,null,null,null,3719]
[null,null,null,null,null,null,null,null,null,null,null,3720]
[null,null,null,null,null,null,null,null,null,null,null,3721]
[null,null,null,null,null,null,null,null,null,null,null,3722]
[null,null,null,null,null,null,null,null,null,null,null,3723]
[null,null,null,null,null,null,null,null,null,null,null,3724]
[null,null,null,null,null,null,null,null,null,null,null,3725]
[null,null,null,null,null,null,null,null,null,null,null,3726]
[null,null,null,null,null,null,null,null,null,null,null,3727]
[null,null,null,null,null,null,null,null,null,null,null,3728]
[null,null,null,null,null,null,null,null,null,null,null,3729]
[null,null,null,null,null,null,null,null,null,null,null,3730]
[null,null,null,null,null,null,null,null,null,null,null,3731]
[null,null,null,null,null,null,null,null,null,null,null,3732]
[null,null,null,null,null,null,null,null,null,null,null,3733]
[null,null,null,null,null,null,null,null,null,null,null,3734]
[null,null,null,null,null,null,null,null,null,null,null,3735]
[null,null,null,null,null,null,null,null,null,null,null,3736]
[null,null,null,null,null,null,null,null,null,null,null,3737]
[null,null,null,null,null,null,null,null,null,null,null,3738]
[null,null,null,null,null,null,null,null,null,null,null,3739]
[null,null,null,null,null,null,null,null,null,null,null,3740]
[null,null,null,null,null,null,null,null,null,null,null,3741]
[null,null,null,null,null,null,null,null,null,null,null,3742]
[null,null,null,null,null,null,null,null,null,null,null,3743]
[null,null,null,null,null,null,null,null,null,null,null,3744]
[null,null,null,null,null,null,null,null,null,null,null,3745]
[null,null,null,null,null,null,null,null,null,null,null,3746]
[null,null,null,null,null,null,null,null,null,null,null,3747]
[null,null,null,null,null,null,null,null,null,null,null,3748]
[null,null,null,null,null,null,null,null,null,null,null,3749]
[null,null,null,null,null,null,null,null,null,null,null,3750]
[null,null,null,null,null,null,null,null,null,null,null,3751]
[null,null,null,null,null,null,null,null,null,null,null,3752]
[null,null,null,null,null,null,null,null,null,null,null,3753]
[null,null,null,null,null,null,null,null,null,null,null,3754]
[null,null,null,null,null,null,null,null,null,null,null,3755]
[null,null,null,null,null,null,null,null,null,null,null,3756]
[null,null,null,null,null,null,null,null,null,null,null,3757]
[null,null,null,null,null,null,null,null,null,null,null,3758]
[null,null,null,null,null,null,null,null,null,null,null,3759]
[null,null,null,null,null,null,null,null,null,null,null,3760]
[null,null,null,null,null,null,null,null,null,null,null,3761]
[null,null,null,null,null,null,null,null,null,null,null,3762]
[null,null,null,null,null,null,null,null,null,null,null,3763]
[null,null,null,null,null,null,null,null,null,null,null,3764]
[null,null,null,null,null,null,null,null,null,null,null,3765]
[null,null,null,null,null,null,null,null,null,null,null,3766]
[null,null,null,null,null,null,null,null,null,null,null,3767]
[null,null,null,null,null,null,null,null,null,null,null,3768]
[null,null,null,null,null,null,null,null,null,null,null,3769]
[null,null,null,null,null,null,null,null,null,null,null,3770]
[null,null,null,null,null,null,null,null,null,null,null,3771]
[null,null,null,null,null,null,null,null,null,null,null,3772]
[null,null,null,null,null,null,null,null,null,null,null,3773]
[null,null,null,null,null,null,null,null,null,null,null,3774]
[null,null,null,null,null,null,null,null,null,null,null,3775]
[null,null,null,null,null,null,null,null,null,null,null,3776]
[null,null,null,null,null,null,null,null,null,null,null,3777]
[null,null,null,null,null,null,null,null,null,null,null,3778]
[null,null,null,null,null,null,null,null,null,null,null,3779]
[null,null,null,null,null,null,null,null,null,null,null,3780]
[null,null,null,null,null,null,null,null,null,null,null,3781]
[null,null,null,null,null,null,null,null,null,null,null,3782]
[null,null,null,null,null,null,null,null,null,null,null,3783]
[null,null,null,null,null,null,null,null,null,null,null,3784]
[null,null,null,null,null,null,null,null,null,null,null,3785]
[null,null,null,null,null,null,null,null,null,null,null,3786]
[null,null,null,null,null,null,null,null,null,null,null,3787]
[null,null,null,null,null,null,null,null,null,null,null,3788]
[null,null,null,null,null,null,null,null,null,null,null,3789]
[null,null,null,null,null,null,null,null,null,null,null,3790]
[null,null,null,null,null,null,null,null,null,null,null,3791]
[null,null,null,null,null,null,null,null,null,null,null,3792]
[null,null,null,null,null,null,null,null,null,null,null,3793]
[null,null,null,null,null,null,null,null,null,null,null,3794]
[null,null,null,null,null,null,null,null,null,null,null,3795]
[null,null,null,null,null,null,null,null,null,null,null,3796]
[null,null,null,null,null,null,null,null,null,null,null,3797]
[null,null,null,null,null,null,null,null,null,null,null,3798]
[null,null,null,null,null,null,null,null,null,null,null,3799]
[null,null,null,null,null,null,null,null,null,null,null,3800]
[null,null,null,null,null,null,null,null,null,null,null,3801]
[null,null,null,null,null,null,null,null,null,null,null,3802]
[null,null,null,null,null,null,null,null,null,null,null,3803]
[null,null,null,null,null,null,null,null,null,null,null,3804]
[null,null,null,null,null,null,null,null,null,null,null,3805]
[null,null,null,null,null,null,null,null,null,null,null,3806]
[null,null,null,null,null,null,null,null,null,null,null,3807]
[null,null,null,null,null,null,null,null,null,null,null,3808]
[null,null,null,null,null,null,null,null,null,null,null,3809]
[null,null,null,null,null,null,null,null,null,null,null,3810]
[null,null,null,null,null,null,null,null,null,null,null,3811]
[null,null,null,null,null,null,null,null,null,null,null,3812]
[null,null,null,null,null,null,null,null,null,null,null,3813]
[null,null,null,null,null,null,null,null,null,null,null,3814]
[null,null,null,null,null,null,null,null,null,null,null,3815]
[null,null,null,null,null,null,null,null,null,null,null,3816]
[null,null,null,null,null,null,null,null,null,null,null,3817]
[null,null,null,null,null,null,null,null,null,null,null,3818]
[null,null,null,null,null,null,null,null,null,null,null,3819]
[null,null,null,null,null,null,null,null,null,null,null,3820]
[null,null,null,null,null,null,null,null,null,null,null,3821]
[null,null,null,null,null,null,null,null,null,null,null,3822]
[null,null,null,null,null,null,null,null,null,null,null,3823]
[null,null,null,null,null,null,null,null,null,null,null,3824]
[null,null,null,null,null,null,null,null,null,null,null,3825]
[null,null,null,null,null,null,null,null,null,null,null,3826]
[null,null,null,null,null,null,null,null,null,null,null,3827]
[null,null,null,null,null,null,null,null,null,null,null,3828]
[null,null,null,null,null,null,null,null,null,null,null,3829]
[null,null,null,null,null,null,null,null,null,null,null,3830]
[null,null,null,null,null,null,null,null,null,null,null,3831]
[null,null,null,null,null,null,null,null,null,null,null,3832]
[null,null,null,null,null,null,null,null,null,null,null,3833]
[null,null,null,null,null,null,null,null,null,null,null,3834]
[null,null,null,null,null,null,null,null,null,null,null,3835]
[null,null,null,null,null,null,null,null,null,null,null,3836]
[null,null,null,null,null,null,null,null,null,null,null,3837]
[null,null,null,null,null,null,null,null,null,null,null,3838]
[null,null,null,null,null,null,null,null,null,null,null,3839]
[null,null,null,null,null,null,null,null,null,null,null,3840]
[null,null,null,null,null,null,null,null,null,null,null,3841]
[null,null,null,null,null,null,null,null,null,null,null,3842]
[null,null,null,null,null,null,null,null,null,null,null,3843]
[null,null,null,null,null,null,null,null,null,null,null,3844]
[null,null,null,null,null,null,null,null,null,null,null,3845]
[null,null,null,null,null,null,null,null,null,null,null,3846]
[null,null,null,null,null,null,null,null,null,null,null,3847]
[null,null,null,null,null,null,null,null,null,null,null,3848]
[null,null,null,null,null,null,null,null,null,null,null,3849]
[null,null,null,null,null,null,null,null,null,null,null,3850]
[null,null,null,null,null,null,null,null,null,null,null,3851]
[null,null,null,null,null,null,null,null,null,null,null,3852]
[null,null,null,null,null,null,null,null,null,null,null,3853]
[null,null,null,null,null,null,null,null,null,null,null,3854]
[null,null,null,null,null,null,null,null,null,null,null,3855]
[null,null,null,null,null,null,null,null,null,null,null,3856]
[null,null,null,null,null,null,null,null,null,null,null,3857]
[null,null,null,null,null,null,null,null,null,null,null,3858]
[null,null,null,null,null,null,null,null,null,null,null,3859]
[null,null,null,null,null,null,null,null,null,null,null,3860]
[null,null,null,null,null,null,null,null,null,null,null,3861]
[null,null,null,null,null,null,null,null,null,null,null,3862]
[null,null,null,null,null,null,null,null,null,null,null,3863]
[null,null,null,null,null,null,null,null,null,null,null,3864]
[null,null,null,null,null,null,null,null,null,null,null,3865]
[null,null,null,null,null,null,null,null,null,null,null,3866]
[null,null,null,null,null,null,null,null,null,null,null,3867]
[null,null,null,null,null,null,null,null,null,null,null,3868]
[null,null,null,null,null,null,null,null,null,null,null,3869]
[null,null,null,null,null,null,null,null,null,null,null,3870]
[null,null,null,null,null,null,null,null,null,null,null,3871]
[null,null,null,null,null,null,null,null,null,null,null,3872]
[null,null,null,null,null,null,null,null,null,null,null,3873]
[null,null,null,null,null,null,null,null,null,null,null,3874]
[null,null,null,null,null,null,null,null,null,null,null,3875]
[null,null,null,null,null,null,null,null,null,null,null,3876]
[null,null,null,null,null,null,null,null,null,null,null,3877]
[null,null,null,null,null,null,null,null,null,null,null,3878]
[null,null,null,null,null,null,null,null,null,null,null,3879]
[null,null,null,null,null,null,null,null,null,null,null,3880]
[null,null,null,null,null,null,null,null,null,null,null,3881]
[null,null,null,null,null,null,null,null,null,null,null,3882]
[null,null,null,null,null,null,null,null,null,null,null,3883]
[null,null,null,null,null,null,null,null,null,null,null,3884]
[null,null,null,null,null,null,null,null,null,null,null,3885]
[null,null,null,null,null,null,null,null,null,null,null,3886]
[null,null,null,null,null,null,null,null,null,null,null,3887]
[null,null,null,null,null,null,null,null,null,null,null,3888]
[null,null,null,null,null,null,null,null,null,null,null,3889]
[null,null,null,null,null,null,null,null,null,null,null,3890]
[null,null,null,null,null,null,null,null,null,null,null,3891]
[null,null,null,null,null,null,null,null,null,null,null,3892]
[null,null,null,null,null,null,null,null,null,null,null,3893]
[null,null,null,null,null,null,null,null,null,null,null,3894]
[null,null,null,null,null,null,null,null,null,null,null,3895]
[null,null,null,null,null,null,null,null,null,null,null,3896]
[null,null,null,null,null,null,null,null,null,null,null,3897]
[null,null,null,null,null,null,null,null,null,null,null,3898]
[null,null,null,null,null,null,null,null,null,null,null,3899]
[null,null,null,null,null,null,null,null,null,null,null,3900]
[null,null,null,null,null,null,null,null,null,null,null,3901]
[null,null,null,null,null,null,null,null,null,null,null,3902]
[null,null,null,null,null,null,null,null,null,null,null,3903]
[null,null,null,null,null,null,null,null,null,null,null,3904]
[null,null,null,null,null,null,null,null,null,null,null,3905]
[null,null,null,null,null,null,null,null,null,null,null,3906]
[null,null,null,null,null,null,null,null,null,null,null,3907]
[null,null,null,null,null,null,null,null,null,null,null,3908]
[null,null,null,null,null,null,null,null,null,null,null,3909]
[null,null,null,null,null,null,null,null,null,null,null,3910]
[null,null,null,null,null,null,null,null,null,null,null,3911]
[null,null,null,null,null,null,null,null,null,null,null,3912]
[null,null,null,null,null,null,null,null,null,null,null,3913]
[null,null,null,null,null,null,null,null,null,null,null,3914]
[null,null,null,null,null,null,null,null,null,null,null,3915]
[null,null,null,null,null,null,null,null,null,null,null,3916]
[null,null,null,null,null,null,null,null,null,null,null,3917]
[null,null,null,null,null,null,null,null,null,null,null,3918]
[null,null,null,null,null,null,null,null,null,null,null,3919]
[null,null,null,null,null,null,null,null,null,null,null,3920]
[null,null,null,null,null,null,null,null,null,null,null,3921]
[null,null,null,null,null,null,null,null,null,null,null,3922]
[null,null,null,null,null,null,null,null,null,null,null,3923]
[null,null,null,null,null,null,null,null,null,null,null,3924]
[null,null,null,null,null,null,null,null,null,null,null,3925]
[null,null,null,null,null,null,null,null,null,null,null,3926]
[null,null,null,null,null,null,null,null,null,null,null,3927]
[null,null,null,null,null,null,null,null,null,null,null,3928]
[null,null,null,null,null,null,null,null,null,null,null,3929]
[null,null,null,null,null,null,null,null,null,null,null,3930]
[null,null,null,null,null,null,null,null,null,null,null,3931]
[null,null,null,null,null,null,null,null,null,null,null,3932]
[null,null,null,null,null,null,null,null,null,null,null,3933]
[null,null,null,null,null,null,null,null,null,null,null,3934]

{"sheet":"ADVANCE LIST","index":2,"n_rows":3616,"n_cols":18,"rows_kept":3616,"cut":false,"hidden":false,"merged":[[1,1,1,3],[0,1,0,3]]}
[null,"LIST OF",null,null,null,null,null,null,null,null,null,null,null,null,null,null,null,{"$f":"'ADVANCE LIST'!$J5:$N3511","v":{"$error":"#VALUE!"}}]
[null,"LAW AND COURT ( कानून और अदालत )",null,null,null,null,null,null,null,null,0]
[null,"SNO","MEANING ","अर्थ"]
[null,{"$f":"IF(C4=\"\",\"\",ROWS($C$4:C4))","v":1},"Wholesale-Dealer","थोक-विक्रेता",null,null,null,null,null,"SNO","MEANING ","MEANING","अर्थ","LIST OF",null,null,{"$f":"'ADVANCE LIST'!$N$4","v":"LIST OF"},{"$f":"'ADVANCE LIST'!$J5:$N3511","v":{"$error":"#VALUE!"}}]
[null,{"$f":"IF(C5=\"\",\"\",ROWS($C$4:C5))","v":2},"Receipt","रसीद",null,null,null,null,null,{"$f":"IF(K5=\" \",\" \",ROWS($K$5:K5))","v":1},{"$f":"DICTIONARY!M29","v":0},{"$f":"DICTIONARY!O29","v":"गाली देना"},{"$f":"L5","v":"गाली देना"},{"$f":"DICTIONARY!P29","v":0},{"$f":"M5","v":"गाली देना"},{"$f":"L5","v":"गाली देना"},0]
[null,{"$f":"IF(C6=\"\",\"\",ROWS($C$4:C6))","v":3}," Law","कानून ",null,null,null,null,null,{"$f":"IF(K6=\" \",\" \",ROWS($K$5:K6))","v":2},{"$f":"DICTIONARY!M30","v":"A Lot"},{"$f":"DICTIONARY!O30","v":"बहुत सा"},{"$f":"L6","v":"बहुत सा"},{"$f":"DICTIONARY!P30","v":0},"बहुत सा","बहुत सा","SCHOOL RELATIVE  ( विद्यालय सम्बन्धी  )"]
[null,{"$f":"IF(C7=\"\",\"\",ROWS($C$4:C7))","v":4},"Case,Suit","मुक़दमा",null,null,null,null,null,{"$f":"IF(K7=\" \",\" \",ROWS($K$5:K7))","v":3},{"$f":"DICTIONARY!M31","v":"Arrogant"},{"$f":"DICTIONARY!O31","v":"अहंकारी"},"अहंकारी",{"$f":"DICTIONARY!P31","v":0},"अहंकारी","अहंकारी","PARTS OF BODY ( शरीर के अंग )"]
[null,{"$f":"IF(C8=\"\",\"\",ROWS($C$4:C8))","v":5},"Warrant","वारंट,परवाना",null,null,null,null,null,{"$f":"IF(K8=\" \",\" \",ROWS($K$5:K8))","v":4},{"$f":"DICTIONARY!M32","v":"Average"},{"$f":"DICTIONARY!O32","v":"औसतन"},"औसतन",{"$f":"DICTIONARY!P32","v":0},"औसतन","औसतन","VEGETABLES ( सब्जियां )"]
[null,{"$f":"IF(C9=\"\",\"\",ROWS($C$4:C9))","v":6},"Summons","समन",null,null,null,null,null,{"$f":"IF(K9=\" \",\" \",ROWS($K$5:K9))","v":5},{"$f":"DICTIONARY!M33","v":"Actually"},{"$f":"DICTIONARY!O33","v":"वास्तव में"},"वास्तव में",{"$f":"DICTIONARY!P33","v":0},"वास्तव में","वास्तव में","ANIMALS ( पशु )"]
[null,{"$f":"IF(C10=\"\",\"\",ROWS($C$4:C10))","v":7},"Court","अदालत",null,null,null,null,null,{"$f":"IF(K10=\" \",\" \",ROWS($K$5:K10))","v":6},{"$f":"DICTIONARY!M34","v":"Happen"},{"$f":"DICTIONARY!O34","v":"घटित होना"},"घटित होना",{"$f":"DICTIONARY!P34","v":0},"घटित होना","घटित होना","RELATIONS AND RELATIVES ( सम्बन्ध और सम्बन्धी )"]
[null,{"$f":"IF(C11=\"\",\"\",ROWS($C$4:C11))","v":8},"Jail","जेल,कारागार",null,null,null,null,null,{"$f":"IF(K11=\" \",\" \",ROWS($K$5:K11))","v":7},{"$f":"DICTIONARY!M35","v":"Past"},{"$f":"DICTIONARY!O35","v":"भूत"},"भूत",{"$f":"DICTIONARY!P35","v":0},"भूत","भूत","FRUITS NAME ( फलो के नाम )"]
[null,{"$f":"IF(C12=\"\",\"\",ROWS($C$4:C12))","v":9},"Lock-Up","जेल की कोठरी",null,null,null,null,null,{"$f":"IF(K12=\" \",\" \",ROWS($K$5:K12))","v":8},{"$f":"DICTIONARY!M36","v":"Ailmant"},{"$f":"DICTIONARY!O36","v":"छोटी-मोटी बीमारी"},"छोटी-मोटी बीमारी",{"$f":"DICTIONARY!P36","v":0},"छोटी-मोटी बीमारी","छोटी-मोटी बीमारी","WORMS AND INSECTS ( कीट पतंगे )"]
[null,{"$f":"IF(C13=\"\",\"\",ROWS($C$4:C13))","v":10},"Hand,Cuff","हथकड़ी",null,null,null,null,null,{"$f":"IF(K13=\" \",\" \",ROWS($K$5:K13))","v":9},{"$f":"DICTIONARY!M37","v":"Ary"},{"$f":"DICTIONARY!O37","v":"कोई"},"कोई",{"$f":"DICTIONARY!P37","v":0},"कोई","कोई","food and drink ( खाद्य और पेय )"]
[null,{"$f":"IF(C14=\"\",\"\",ROWS($C$4:C14))","v":11},"Appeal","अपील",null,null,null,null,null,{"$f":"IF(K14=\" \",\" \",ROWS($K$5:K14))","v":10},{"$f":"DICTIONARY!M38","v":"Pattern"},{"$f":"DICTIONARY!O38","v":"नमूना"},"नमूना",{"$f":"DICTIONARY!P38","v":0},"नमूना","नमूना","Colours  ( रंगों के नाम )"]
[null,{"$f":"IF(C15=\"\",\"\",ROWS($C$4:C15))","v":12},"Accused","आसामी,मुद्दालेह,अभियोगी",null,null,null,null,null,{"$f":"IF(K15=\" \",\" \",ROWS($K$5:K15))","v":11},{"$f":"DICTIONARY!M39","v":"Alphabet"},{"$f":"DICTIONARY!O39","v":"वर्ण"},"वर्ण",{"$f":"DICTIONARY!P39","v":0},"वर्ण","वर्ण","BIRDS  ( पक्षियों के नाम  )"]
[null,{"$f":"IF(C16=\"\",\"\",ROWS($C$4:C16))","v":13},"Judgment","फैसला",null,null,null,null,null,{"$f":"IF(K16=\" \",\" \",ROWS($K$5:K16))","v":12},{"$f":"DICTIONARY!M40","v":"Amazed"},{"$f":"DICTIONARY!O40","v":"दांग रह गए"},"दांग रह गए",{"$f":"DICTIONARY!P40","v":0},"दांग रह गए","दांग रह गए","OCCUPATIONS AND PROFESSION (व्यवसाय और पेशा )"]
[null,{"$f":"IF(C17=\"\",\"\",ROWS($C$4:C17))","v":14},"Witness","साक्षी,गवाह",null,null,null,null,null,{"$f":"IF(K17=\" \",\" \",ROWS($K$5:K17))","v":13},{"$f":"DICTIONARY!M41","v":"Asleep"},{"$f":"DICTIONARY!O41","v":"निद्रित"},"निद्रित",{"$f":"DICTIONARY!P41","v":0},"निद्रित","निद्रित","flowers ( फूलो के नाम )"]
[null,{"$f":"IF(C18=\"\",\"\",ROWS($C$4:C18))","v":15},"Judge","न्यायधीश",null,null,null,null,null,{"$f":"IF(K18=\" \",\" \",ROWS($K$5:K18))","v":14},{"$f":"DICTIONARY!M42","v":"Anger"},{"$f":"DICTIONARY!O42","v":"गुस्सा,नाराजगी"},"गुस्सा,नाराजगी",{"$f":"DICTIONARY!P42","v":0},"गुस्सा,नाराजगी","गुस्सा,नाराजगी","DAYS OF A WEEK ( सप्ताह के दिन )"]
[null,{"$f":"IF(C19=\"\",\"\",ROWS($C$4:C19))","v":16},"Trial","विचार",null,null,null,null,null,{"$f":"IF(K19=\" \",\" \",ROWS($K$5:K19))","v":15},{"$f":"DICTIONARY!M43","v":"Angry"},{"$f":"DICTIONARY!O43","v":"ग़ुस्सा"},"ग़ुस्सा",{"$f":"DICTIONARY!P43","v":0},"ग़ुस्सा","ग़ुस्सा","CORNS AND SPICES ( अन्न और मसाले )"]
[null,{"$f":"IF(C20=\"\",\"\",ROWS($C$4:C20))","v":17},"Theft","चोरी",null,null,null,null,null,{"$f":"IF(K20=\" \",\" \",ROWS($K$5:K20))","v":16},{"$f":"DICTIONARY!M44","v":"Another"},{"$f":"DICTIONARY!O44","v":"दूसरा"},"दूसरा",{"$f":"DICTIONARY!P44","v":0},"दूसरा","दूसरा","QUESTIONS WORDS  ( प्रश्न वाचक शब्द )"]
[null,{"$f":"IF(C21=\"\",\"\",ROWS($C$4:C21))","v":18},"Dacoity","डकैती",null,null,null,null,null,{"$f":"IF(K21=\" \",\" \",ROWS($K$5:K21))","v":17},{"$f":"DICTIONARY!M45","v":"Ape"},{"$f":"DICTIONARY!O45","v":"लंगूर"},"लंगूर",{"$f":"DICTIONARY!P45","v":0},"लंगूर","लंगूर","DIRECTIONS ( दिशाएँ )"]
[null,{"$f":"IF(C22=\"\",\"\",ROWS($C$4:C22))","v":19},"Sentence","दंडाज्ञा",null,null,null,null,null,{"$f":"IF(K22=\" \",\" \",ROWS($K$5:K22))","v":18},{"$f":"DICTIONARY!M46","v":"Apple"},{"$f":"DICTIONARY!O46","v":"सेब"},"सेब",{"$f":"DICTIONARY!P46","v":0},"सेब","सेब","TOOLS ( औजार )"]
[null,{"$f":"IF(C23=\"\",\"\",ROWS($C$4:C23))","v":20},"Prisoner","बंदी,कैदी",null,null,null,null,null,{"$f":"IF(K23=\" \",\" \",ROWS($K$5:K23))","v":19},{"$f":"DICTIONARY!M47","v":"Apricot"},{"$f":"DICTIONARY!O47","v":"खुबानी"},"खुबानी",{"$f":"DICTIONARY!P47","v":0},"खुबानी","खुबानी","GAMES AND SPORTS ( खेल - कूद )"]
[null,{"$f":"IF(C24=\"\",\"\",ROWS($C$4:C24))","v":21},"Argument","जिरह,बहस,लड़ाई-झगडा",null,null,null,null,null,{"$f":"IF(K24=\" \",\" \",ROWS($K$5:K24))","v":20},{"$f":"DICTIONARY!M48","v":"Progress"},{"$f":"DICTIONARY!O48","v":"प्रगति"},"प्रगति",{"$f":"DICTIONARY!P48","v":0},"प्रगति","प्रगति","GOVERNMENT ( सरकारी )"]
[null,{"$f":"IF(C25=\"\",\"\",ROWS($C$4:C25))","v":22},"Evidence","गवाह,प्रमाण,सबुत",null,null,null,null,null,{"$f":"IF(K25=\" \",\" \",ROWS($K$5:K25))","v":21},{"$f":"DICTIONARY!M49","v":"Arm"},{"$f":"DICTIONARY!O49","v":"भुजा"},"भुजा",{"$f":"DICTIONARY!P49","v":"PARTS OF BODY ( शरीर के अंग )"},"भुजा","भुजा","METALS AND MINERALS ( धातु और द्रव्य )"]
[null,{"$f":"IF(C26=\"\",\"\",ROWS($C$4:C26))","v":23}," Bail","जमानत",null,null,null,null,null,{"$f":"IF(K26=\" \",\" \",ROWS($K$5:K26))","v":22},{"$f":"DICTIONARY!M50","v":"Arm Pit"},{"$f":"DICTIONARY!O50","v":"भुजा"},"भुजा",{"$f":"DICTIONARY!P50","v":"PARTS OF BODY ( शरीर के अंग )"},"भुजा","भुजा","ORNAMENTS ( आभूषण )"]
[null,{"$f":"IF(C27=\"\",\"\",ROWS($C$4:C27))","v":24},"Cilent","मुवक्किल",null,null,null,null,null,{"$f":"IF(K27=\" \",\" \",ROWS($K$5:K27))","v":23},{"$f":"DICTIONARY!M51","v":"Around"},{"$f":"DICTIONARY!O51","v":"चारो तरफ"},"चारो तरफ",{"$f":"DICTIONARY!P51","v":0},"चारो तरफ","चारो तरफ","NATURAL OBJECTS ( प्राकतिक वस्तुएं )"]
[null,{"$f":"IF(C28=\"\",\"\",ROWS($C$4:C28))","v":25},"Robbery","डकैती",null,null,null,null,null,{"$f":"IF(K28=\" \",\" \",ROWS($K$5:K28))","v":24},{"$f":"DICTIONARY!M52","v":"Altogether"},{"$f":"DICTIONARY!O52","v":"पूर्णतया"},"पूर्णतया",{"$f":"DICTIONARY!P52","v":0},"पूर्णतया","पूर्णतया","MONTH OF A YEAR ( वर्ष के माह )"]
[null,{"$f":"IF(C29=\"\",\"\",ROWS($C$4:C29))","v":26},"Murderer","खुनी,हत्यारा",null,null,null,null,null,{"$f":"IF(K29=\" \",\" \",ROWS($K$5:K29))","v":25},{"$f":"DICTIONARY!M53","v":"Arum"},{"$f":"DICTIONARY!O53","v":"अरबी"},"अरबी",{"$f":"DICTIONARY!P53","v":"VEGETABLES ( सब्जियां )"},"अरबी","अरबी","ZODIAC SIGNS ( राशियाँ )"]
[null,{"$f":"IF(C30=\"\",\"\",ROWS($C$4:C30))","v":27},"Dock","कठगरा",null,null,null,null,null,{"$f":"IF(K30=\" \",\" \",ROWS($K$5:K30))","v":26},{"$f":"DICTIONARY!M54","v":"Ash"},{"$f":"DICTIONARY!O54","v":"राख"},"राख",{"$f":"DICTIONARY!P54","v":0},"राख","राख","COUNTINGS ( गिनती )"]
[null,{"$f":"IF(C31=\"\",\"\",ROWS($C$4:C31))","v":28},"Dismiss","ख़ारिज करना",null,null,null,null,null,{"$f":"IF(K31=\" \",\" \",ROWS($K$5:K31))","v":27},{"$f":"DICTIONARY!M55","v":"Aside"},{"$f":"DICTIONARY!O55","v":"एक तरफ"},"एक तरफ",{"$f":"DICTIONARY!P55","v":0},"एक तरफ","एक तरफ","REPTILES AND FISHES ( सरीसर्प और मछली )"]
[null,{"$f":"IF(C32=\"\",\"\",ROWS($C$4:C32))","v":29},"Statement","बयान",null,null,null,null,null,{"$f":"IF(K32=\" \",\" \",ROWS($K$5:K32))","v":28},{"$f":"DICTIONARY!M56","v":"Overall"},{"$f":"DICTIONARY!O56","v":"सम्पूर्ण"},"सम्पूर्ण",{"$f":"DICTIONARY!P56","v":0},"सम्पूर्ण","सम्पूर्ण","LIMBS OF ANIMAL ( जीव जंतुओं के अंग प्रत्यंग )"]
[null,{"$f":"IF(C33=\"\",\"\",ROWS($C$4:C33))","v":30},"Pleader","वकील",null,null,null,null,null,{"$f":"IF(K33=\" \",\" \",ROWS($K$5:K33))","v":29},{"$f":"DICTIONARY!M57","v":"Ass"},{"$f":"DICTIONARY!O57","v":"गधा"},"गधा",{"$f":"DICTIONARY!P57","v":"ANIMALS ( पशु )"},"गधा","गधा","POST AND TELEGRAPHS ( डाक एंव तार )"]
[null,{"$f":"IF(C34=\"\",\"\",ROWS($C$4:C34))","v":31},"Document","अभिलेख",null,null,null,null,null,{"$f":"IF(K34=\" \",\" \",ROWS($K$5:K34))","v":30},{"$f":"DICTIONARY!M58","v":"Wire"},{"$f":"DICTIONARY!O58","v":"तार"},"तार",{"$f":"DICTIONARY!P58","v":0},"तार","तार","DRESS ( गणवेश )"]
[null,{"$f":"IF(C35=\"\",\"\",ROWS($C$4:C35))","v":32},"Jury","जूरी",null,null,null,null,null,{"$f":"IF(K35=\" \",\" \",ROWS($K$5:K35))","v":31},{"$f":"DICTIONARY!M59","v":"Aunty"},{"$f":"DICTIONARY!O59","v":"चाची"},"चाची",{"$f":"DICTIONARY!P59","v":"RELATIONS AND RELATIVES ( सम्बन्ध और सम्बन्धी )"},"चाची","चाची","PRONOUNS ( सर्वनाम )"]
[null,{"$f":"IF(C36=\"\",\"\",ROWS($C$4:C36))","v":33},"Oath","शपथ",null,null,null,null,null,{"$f":"IF(K36=\" \",\" \",ROWS($K$5:K36))","v":32},{"$f":"DICTIONARY!M60","v":"Guess"},{"$f":"DICTIONARY!O60","v":"अनुमान लगाना"},"अनुमान लगाना",{"$f":"DICTIONARY!P60","v":0},"अनुमान लगाना","अनुमान लगाना","WAR AND WEAPONS ( युद्द्ध एँव हथियार )"]
[null,{"$f":"IF(C37=\"\",\"\",ROWS($C$4:C37))","v":34},"Bond","अनुबंध-पत्र",null,null,null,null,null,{"$f":"IF(K37=\" \",\" \",ROWS($K$5:K37))","v":33},{"$f":"DICTIONARY!M61","v":"Backbone"},{"$f":"DICTIONARY!O61","v":"पीठ"},"पीठ",{"$f":"DICTIONARY!P61","v":"PARTS OF BODY ( शरीर के अंग )"},"पीठ","पीठ","VERBS ( क्रियाए )"]
[null,{"$f":"IF(C38=\"\",\"\",ROWS($C$4:C38))","v":35},"Lease","पट्टा",null,null,null,null,null,{"$f":"IF(K38=\" \",\" \",ROWS($K$5:K38))","v":34},{"$f":"DICTIONARY!M62","v":"Probably"},{"$f":"DICTIONARY!O62","v":"शायद"},"शायद",{"$f":"DICTIONARY!P62","v":0},"शायद","शायद","HOUSE HOLD ARTICLES ( गृह - सामग्री )"]
[null,{"$f":"IF(C39=\"\",\"\",ROWS($C$4:C39))","v":36},"Mortgage","बंधक",null,null,null,null,null,{"$f":"IF(K39=\" \",\" \",ROWS($K$5:K39))","v":35},{"$f":"DICTIONARY!M63","v":"Bag"},{"$f":"DICTIONARY!O63","v":"थैला"},"थैला",{"$f":"DICTIONARY!P63","v":0},"थैला","थैला","SEASONS ( र्ऋतुएँ )"]
[null,{"$f":"IF(C40=\"\",\"\",ROWS($C$4:C40))","v":37},"Revenue","राजस्व",null,null,null,null,null,{"$f":"IF(K40=\" \",\" \",ROWS($K$5:K40))","v":36},{"$f":"DICTIONARY!M64","v":"Sigh"},{"$f":"DICTIONARY!O64","v":"आंह"},"आंह",{"$f":"DICTIONARY!P64","v":0},"आंह","आंह","DIVISIONS OF TIME ( समय का विभाजन  )"]
[null,{"$f":"IF(C41=\"\",\"\",ROWS($C$4:C41))","v":38},"Accuser","अभियोगकर्ता",null,null,null,null,null,{"$f":"IF(K41=\" \",\" \",ROWS($K$5:K41))","v":37},{"$f":"DICTIONARY!M65","v":"Balanced"},{"$f":"DICTIONARY!O65","v":"संतुलित"},"संतुलित",{"$f":"DICTIONARY!P65","v":0},"संतुलित","संतुलित","BUILDING AND THEIR PARTS ( इमारते एंव उनके भाग )"]
[null,{"$f":"IF(C42=\"\",\"\",ROWS($C$4:C42))","v":39},"Barrister","बारिस्टर",null,null,null,null,null,{"$f":"IF(K42=\" \",\" \",ROWS($K$5:K42))","v":38},{"$f":"DICTIONARY!M66","v":"Ballon"},{"$f":"DICTIONARY!O66","v":"गुब्बारा"},"गुब्बारा",{"$f":"DICTIONARY!P66","v":0},"गुब्बारा","गुब्बारा","YOUNG ONES OF ANIMALS ( जानवरों के बच्चे )"]
[null,{"$f":"IF(C43=\"\",\"\",ROWS($C$4:C43))","v":40},"Attorny","एटोनी",null,null,null,null,null,{"$f":"IF(K43=\" \",\" \",ROWS($K$5:K43))","v":39},{"$f":"DICTIONARY!M67","v":"Banana"},{"$f":"DICTIONARY!O67","v":"केला"},"केला","FRUITS NAME ( फलो के नाम )","केला","केला","CRIES OF ANIMALS ( पशु-पक्षियों की बोली )"]
[null,{"$f":"IF(C44=\"\",\"\",ROWS($C$4:C44))","v":41},"Punishment","सजा",null,null,null,null,null,{"$f":"IF(K44=\" \",\" \",ROWS($K$5:K44))","v":40},{"$f":"DICTIONARY!M68","v":"Computer"},{"$f":"DICTIONARY!O68","v":"संगणक"},"संगणक",{"$f":"DICTIONARY!P68","v":0},"संगणक","संगणक","TREES AND PLANTS ( पेड़,पौधे )"]
[null,{"$f":"IF(C45=\"\",\"\",ROWS($C$4:C45))","v":42},"Peon","चपरासी",null,null,null,null,null,{"$f":"IF(K45=\" \",\" \",ROWS($K$5:K45))","v":41},{"$f":"DICTIONARY!M69","v":"Bathe"},{"$f":"DICTIONARY!O69","v":"नहाना"},"नहाना",{"$f":"DICTIONARY!P69","v":0},"नहाना","नहाना","MEDICINES AND HOSPTALS ( औषध और चिकित्सालय संबधी)"]
[null,{"$f":"IF(C46=\"\",\"\",ROWS($C$4:C46))","v":43},"Officer","अधिकारी",null,null,null,null,null,{"$f":"IF(K46=\" \",\" \",ROWS($K$5:K46))","v":42},{"$f":"DICTIONARY!M70","v":"Application"},{"$f":"DICTIONARY!O70","v":"प्रार्थना पत्र"},"प्रार्थना पत्र",{"$f":"DICTIONARY!P70","v":0},"प्रार्थना पत्र","प्रार्थना पत्र","NATIONS AND LANGUAGES ( वासी और देश )"]
[null,{"$f":"IF(C47=\"\",\"\",ROWS($C$4:C47))","v":44},"High Court","उच्च -न्यायालय",null,null,null,null,null,{"$f":"IF(K47=\" \",\" \",ROWS($K$5:K47))","v":43},{"$f":"DICTIONARY!M71","v":"Bear"},{"$f":"DICTIONARY!O71","v":"भालू"},"भालू",{"$f":"DICTIONARY!P71","v":"ANIMALS ( पशु )"},"भालू","भालू","MUSIC ( संगीत )"]
[null,{"$f":"IF(C48=\"\",\"\",ROWS($C$4:C48))","v":45},"Supreme-Court","उच्चतम न्यायालय",null,null,null,null,null,{"$f":"IF(K48=\" \",\" \",ROWS($K$5:K48))","v":44},{"$f":"DICTIONARY!M72","v":"Program"},{"$f":"DICTIONARY!O72","v":"कार्ययोजना"},"कार्ययोजना",{"$f":"DICTIONARY!P72","v":0},"कार्ययोजना","कार्ययोजना","ABOUT MEETING ( सभा सम्बन्धी )"]
[null,{"$f":"IF(C49=\"\",\"\",ROWS($C$4:C49))","v":46},"Tax","कर",null,null,null,null,null,{"$f":"IF(K49=\" \",\" \",ROWS($K$5:K49))","v":45},{"$f":"DICTIONARY!M73","v":"Guidence"},{"$f":"DICTIONARY!O73","v":"मार्गदर्शन"},"मार्गदर्शन",{"$f":"DICTIONARY!P73","v":0},"मार्गदर्शन","मार्गदर्शन","CONVEYANCE ( वाहन-सवारी )"]
[null,{"$f":"IF(C50=\"\",\"\",ROWS($C$4:C50))","v":47},"Income Tax","आयकर",null,null,null,null,null,{"$f":"IF(K50=\" \",\" \",ROWS($K$5:K50))","v":46},{"$f":"DICTIONARY!M74","v":"Guide"},{"$f":"DICTIONARY!O74","v":"मार्गदर्शन करना"},"मार्गदर्शन करना",{"$f":"DICTIONARY!P74","v":"WORMS AND INSECTS ( कीट पतंगे )"},"मार्गदर्शन करना","मार्गदर्शन करना","TRADE AND COMMERCE ( वाणिज्य-व्यवसाय )"]
[null,{"$f":"IF(C51=\"\",\"\",ROWS($C$4:C51))","v":48},"Civil-Court","दीवानी अदालत",null,null,null,null,null,{"$f":"IF(K51=\" \",\" \",ROWS($K$5:K51))","v":47},{"$f":"DICTIONARY!M75","v":"Gym"},{"$f":"DICTIONARY!O75","v":"व्यायामशाला"},"व्यायामशाला",{"$f":"DICTIONARY!P75","v":0},"व्यायामशाला","व्यायामशाला","LAW AND COURT ( कानून और अदालत )"]
[null,{"$f":"IF(C52=\"\",\"\",ROWS($C$4:C52))","v":49},"Criminal-Court","फौजदारी अदालत",null,null,null,null,null,{"$f":"IF(K52=\" \",\" \",ROWS($K$5:K52))","v":48},{"$f":"DICTIONARY!M76","v":"Beet"},{"$f":"DICTIONARY!O76","v":"चुकंदर"},"चुकंदर",{"$f":"DICTIONARY!P76","v":"VEGETABLES ( सब्जियां )"},"चुकंदर","चुकंदर","CONJUNCTION ( सयोंजकअव्यव )"]
[null,{"$f":"IF(C53=\"\",\"\",ROWS($C$4:C53))","v":50},"Hanging","फाँसी",null,null,null,null,null,{"$f":"IF(K53=\" \",\" \",ROWS($K$5:K53))","v":49},{"$f":"DICTIONARY!M77","v":"Believe"},{"$f":"DICTIONARY!O77","v":"विश्वाश करना"},"विश्वाश करना",{"$f":"DICTIONARY!P77","v":0},"विश्वाश करना","विश्वाश करना","ADVERB ( क्रिया-विशेषण )"]
[null,{"$f":"IF(C54=\"\",\"\",ROWS($C$4:C54))","v":51},"Imprisonment","कैदी",null,null,null,null,null,{"$f":"IF(K54=\" \",\" \",ROWS($K$5:K54))","v":50},{"$f":"DICTIONARY!M78","v":"Habbit"},{"$f":"DICTIONARY!O78","v":"आदत"},"आदत",{"$f":"DICTIONARY!P78","v":0},"आदत","आदत","INTERJECTION ( विस्मयादिबोधक अव्यव )"]
[null,{"$f":"IF(C55=\"\",\"\",ROWS($C$4:C55))","v":52},"Rent","किराया",null,null,null,null,null,{"$f":"IF(K55=\" \",\" \",ROWS($K$5:K55))","v":51},{"$f":"DICTIONARY!M79","v":"Habitation"},{"$f":"DICTIONARY!O79","v":"निवास स्थान"},"निवास स्थान",{"$f":"DICTIONARY!P79","v":0},"निवास स्थान","निवास स्थान","ADJECTIVES ( विशेषण )"]
[null,{"$f":"IF(C56=\"\",\"\",ROWS($C$4:C56))","v":53},"Small-Causes-Court","निम्न अदालत",null,null,null,null,null,{"$f":"IF(K56=\" \",\" \",ROWS($K$5:K56))","v":52},{"$f":"DICTIONARY!M80","v":"Clap"},{"$f":"DICTIONARY!O80","v":"ताली"},"ताली",{"$f":"DICTIONARY!P80","v":0},"ताली","ताली","PREPOSITIONS ( सम्बन्धवाचक अव्यव )"]
[null,{"$f":"IF(C57=\"\",\"\",ROWS($C$4:C57))","v":54}," Lawyer","वकील",null,null,null,null,null,{"$f":"IF(K57=\" \",\" \",ROWS($K$5:K57))","v":53},{"$f":"DICTIONARY!M81","v":"Between"},{"$f":"DICTIONARY!O81","v":"बीच में"},"बीच में",{"$f":"DICTIONARY!P81","v":0},"बीच में","बीच में","DISEASES ( बीमारियाँ )"]
[null,{"$f":"IF(C58=\"\",\"\",ROWS($C$4:C58))","v":55},"Charge","अभियोग",null,null,null,null,null,{"$f":"IF(K58=\" \",\" \",ROWS($K$5:K58))","v":54},{"$f":"DICTIONARY!M82","v":"Bilb"},{"$f":"DICTIONARY!O82","v":"बल्ब"},"बल्ब",{"$f":"DICTIONARY!P82","v":0},"बल्ब","बल्ब","MODERN FOREIGN LANGUAGES ( आधुनिक विदेशी भाषाए )"]
[null,{"$f":"IF(C59=\"\",\"\",ROWS($C$4:C59))","v":56},"Claim","दावा",null,null,null,null,null,{"$f":"IF(K59=\" \",\" \",ROWS($K$5:K59))","v":55},{"$f":"DICTIONARY!M83","v":"Biogas"},{"$f":"DICTIONARY!O83","v":"बायोगैस"},"बायोगैस",{"$f":"DICTIONARY!P83","v":0},"बायोगैस","बायोगैस","INDIAN HISTORY AND CULTURE ( भारतीय इतिहास और कल्चर )"]
[null,{"$f":"IF(C60=\"\",\"\",ROWS($C$4:C60))","v":""},null,null,null,null,null,null,null,{"$f":"IF(K60=\" \",\" \",ROWS($K$5:K60))","v":56},{"$f":"DICTIONARY!M84","v":"Black Berry"},{"$f":"DICTIONARY!O84","v":"जामुन"},"जामुन","FRUITS NAME ( फलो के नाम )","जामुन","जामुन","SOME GEOGRAPHICAL TERMS ( कुछ भौगोलिक शब्द )"]
[null,{"$f":"IF(C61=\"\",\"\",ROWS($C$4:C61))","v":""},null,null,null,null,null,null,null,{"$f":"IF(K61=\" \",\" \",ROWS($K$5:K61))","v":57},{"$f":"DICTIONARY!M85","v":"Hardy"},{"$f":"DICTIONARY!O85","v":"साहसी"},"साहसी",{"$f":"DICTIONARY!P85","v":0},"साहसी","साहसी","SPINNIG AND WEAVING ( घूर्णन और बुनना )"]
[null,{"$f":"IF(C62=\"\",\"\",ROWS($C$4:C62))","v":""},null,null,null,null,null,null,null,{"$f":"IF(K62=\" \",\" \",ROWS($K$5:K62))","v":58},{"$f":"DICTIONARY!M86","v":"Handicapped"},{"$f":"DICTIONARY!O86","v":"विकलांग"},"विकलांग",{"$f":"DICTIONARY!P86","v":0},"विकलांग","विकलांग","OFFICERS OF THE REVENUE COURT( माल अदालत के अधिकारी )"]
[null,{"$f":"IF(C63=\"\",\"\",ROWS($C$4:C63))","v":""},null,null,null,null,null,null,null,{"$f":"IF(K63=\" \",\" \",ROWS($K$5:K63))","v":59},{"$f":"DICTIONARY!M87","v":"Body"},{"$f":"DICTIONARY!O87","v":"शरीर"},"शरीर",{"$f":"DICTIONARY!P87","v":"PARTS OF BODY ( शरीर के अंग )"},"शरीर","शरीर","COIN,WEIGHT AND MEASUREMENT ( सिक्का,वजन और माप )"]
[null,{"$f":"IF(C64=\"\",\"\",ROWS($C$4:C64))","v":""},null,null,null,null,null,null,null,{"$f":"IF(K64=\" \",\" \",ROWS($K$5:K64))","v":60},{"$f":"DICTIONARY!M88","v":"Hardship"},{"$f":"DICTIONARY!O88","v":"कठिनाई"},"कठिनाई",{"$f":"DICTIONARY!P88","v":0},"कठिनाई","कठिनाई","BRANCHES OF LEARNING ( विविध-विद्याए )"]
[null,{"$f":"IF(C65=\"\",\"\",ROWS($C$4:C65))","v":""},null,null,null,null,null,null,null,{"$f":"IF(K65=\" \",\" \",ROWS($K$5:K65))","v":61},{"$f":"DICTIONARY!M89","v":"Book"},{"$f":"DICTIONARY!O89","v":"किताब"},"किताब",{"$f":"DICTIONARY!P89","v":"SCHOOL RELATIVE  ( विद्यालय सम्बन्धी  )"},"किताब","किताब","IDIOMS ( मुहावरे )"]
[null,{"$f":"IF(C66=\"\",\"\",ROWS($C$4:C66))","v":""},null,null,null,null,null,null,null,{"$f":"IF(K66=\" \",\" \",ROWS($K$5:K66))","v":62},{"$f":"DICTIONARY!M90","v":"Borrow"},{"$f":"DICTIONARY!O90","v":"उधार"},"उधार",{"$f":"DICTIONARY!P90","v":0},"उधार","उधार","DIFFERENT IN SPELLING AND MEANING ( युग्म शब्द )"]
[null,{"$f":"IF(C67=\"\",\"\",ROWS($C$4:C67))","v":""},null,null,null,null,null,null,null,{"$f":"IF(K67=\" \",\" \",ROWS($K$5:K67))","v":63},{"$f":"DICTIONARY!M91","v":"Heredity"},{"$f":"DICTIONARY!O91","v":"वशानुगत"},"वशानुगत",{"$f":"DICTIONARY!P91","v":0},"वशानुगत","वशानुगत","COLLECTION OF THINGS ( दलसूचक शब्द )"]
[null,{"$f":"IF(C68=\"\",\"\",ROWS($C$4:C68))","v":""},null,null,null,null,null,null,null,{"$f":"IF(K68=\" \",\" \",ROWS($K$5:K68))","v":64},{"$f":"DICTIONARY!M92","v":"Boy"},{"$f":"DICTIONARY!O92","v":"लड़का"},"लड़का",{"$f":"DICTIONARY!P92","v":0},"लड़का","लड़का"]
[null,{"$f":"IF(C69=\"\",\"\",ROWS($C$4:C69))","v":""},null,null,null,null,null,null,null,{"$f":"IF(K69=\" \",\" \",ROWS($K$5:K69))","v":65},{"$f":"DICTIONARY!M93","v":"Nervous"},{"$f":"DICTIONARY!O93","v":"अधीर"},"अधीर",{"$f":"DICTIONARY!P93","v":0},{"$f":"M69","v":"अधीर"},{"$f":"L69","v":"अधीर"}]
[null,{"$f":"IF(C70=\"\",\"\",ROWS($C$4:C70))","v":""},null,null,null,null,null,null,null,{"$f":"IF(K70=\" \",\" \",ROWS($K$5:K70))","v":66},{"$f":"DICTIONARY!M94","v":"Breast"},{"$f":"DICTIONARY!O94","v":"छाती"},{"$f":"L70","v":"छाती"},{"$f":"DICTIONARY!P94","v":"PARTS OF BODY ( शरीर के अंग )"},"छाती","छाती"]
[null,{"$f":"IF(C71=\"\",\"\",ROWS($C$4:C71))","v":""},null,null,null,null,null,null,null,{"$f":"IF(K71=\" \",\" \",ROWS($K$5:K71))","v":67},{"$f":"DICTIONARY!M95","v":"Prestigious"},{"$f":"DICTIONARY!O95","v":"प्रतिष्ठित"},"प्रतिष्ठित",{"$f":"DICTIONARY!P95","v":0},"प्रतिष्ठित","प्रतिष्ठित"]
[null,{"$f":"IF(C72=\"\",\"\",ROWS($C$4:C72))","v":""},null,null,null,null,null,null,null,{"$f":"IF(K72=\" \",\" \",ROWS($K$5:K72))","v":68},{"$f":"DICTIONARY!M96","v":"Brinjal"},{"$f":"DICTIONARY!O96","v":"बेगन"},"बेगन",{"$f":"DICTIONARY!P96","v":0},"बेगन","बेगन"]
[null,{"$f":"IF(C73=\"\",\"\",ROWS($C$4:C73))","v":""},null,null,null,null,null,null,null,{"$f":"IF(K73=\" \",\" \",ROWS($K$5:K73))","v":69},{"$f":"DICTIONARY!M97","v":"Teenger"},{"$f":"DICTIONARY!O97","v":"किशोर,किशोरी"},"किशोर,किशोरी",{"$f":"DICTIONARY!P97","v":0},"किशोर,किशोरी","किशोर,किशोरी"]
[null,{"$f":"IF(C74=\"\",\"\",ROWS($C$4:C74))","v":""},null,null,null,null,null,null,null,{"$f":"IF(K74=\" \",\" \",ROWS($K$5:K74))","v":70},{"$f":"DICTIONARY!M98","v":"Brother"},{"$f":"DICTIONARY!O98","v":"भाई"},"भाई",{"$f":"DICTIONARY!P98","v":"RELATIONS AND RELATIVES ( सम्बन्ध और सम्बन्धी )"},"भाई","भाई"]
[null,{"$f":"IF(C75=\"\",\"\",ROWS($C$4:C75))","v":""},null,null,null,null,null,null,null,{"$f":"IF(K75=\" \",\" \",ROWS($K$5:K75))","v":71},{"$f":"DICTIONARY!M99","v":"Brother In Law"},{"$f":"DICTIONARY!O99","v":"बहनोई,साला"},"बहनोई,साला",{"$f":"DICTIONARY!P99","v":"RELATIONS AND RELATIVES ( सम्बन्ध और सम्बन्धी )"},"बहनोई,साला","बहनोई,साला"]
[null,{"$f":"IF(C76=\"\",\"\",ROWS($C$4:C76))","v":""},null,null,null,null,null,null,null,{"$f":"IF(K76=\" \",\" \",ROWS($K$5:K76))","v":72},{"$f":"DICTIONARY!M100","v":"Approching"},{"$f":"DICTIONARY!O100","v":"आती हुई"},"आती हुई",{"$f":"DICTIONARY!P100","v":0},"आती हुई","आती हुई"]
[null,{"$f":"IF(C77=\"\",\"\",ROWS($C$4:C77))","v":""},null,null,null,null,null,null,null,{"$f":"IF(K77=\" \",\" \",ROWS($K$5:K77))","v":73},{"$f":"DICTIONARY!M101","v":"Vibration"},{"$f":"DICTIONARY!O101","v":"स्पंदन"},"स्पंदन",{"$f":"DICTIONARY!P101","v":0},"स्पंदन","स्पंदन"]
[null,{"$f":"IF(C78=\"\",\"\",ROWS($C$4:C78))","v":""},null,null,null,null,null,null,null,{"$f":"IF(K78=\" \",\" \",ROWS($K$5:K78))","v":74},{"$f":"DICTIONARY!M102","v":"Pursue"},{"$f":"DICTIONARY!O102","v":"जारी रखना"},"जारी रखना",{"$f":"DICTIONARY!P102","v":0},"जारी रखना","जारी रखना"]
[null,{"$f":"IF(C79=\"\",\"\",ROWS($C$4:C79))","v":""},null,null,null,null,null,null,null,{"$f":"IF(K79=\" \",\" \",ROWS($K$5:K79))","v":75},{"$f":"DICTIONARY!M103","v":"Buffalo"},{"$f":"DICTIONARY!O103","v":"भैंस"},"भैंस",{"$f":"DICTIONARY!P103","v":"ANIMALS ( पशु )"},"भैंस","भैंस"]
[null,{"$f":"IF(C80=\"\",\"\",ROWS($C$4:C80))","v":""},null,null,null,null,null,null,null,{"$f":"IF(K80=\" \",\" \",ROWS($K$5:K80))","v":76},{"$f":"DICTIONARY!M104","v":"Normal"},{"$f":"DICTIONARY!O104","v":"सामान्य "},"सामान्य ",{"$f":"DICTIONARY!P104","v":0},"सामान्य ","सामान्य "]
[null,{"$f":"IF(C81=\"\",\"\",ROWS($C$4:C81))","v":""},null,null,null,null,null,null,null,{"$f":"IF(K81=\" \",\" \",ROWS($K$5:K81))","v":77},{"$f":"DICTIONARY!M105","v":"Cabbage"},{"$f":"DICTIONARY!O105","v":"पत्तागोबी"},"पत्तागोबी",{"$f":"DICTIONARY!P105","v":0},"पत्तागोबी","पत्तागोबी"]
[null,{"$f":"IF(C82=\"\",\"\",ROWS($C$4:C82))","v":""},null,null,null,null,null,null,null,{"$f":"IF(K82=\" \",\" \",ROWS($K$5:K82))","v":78},{"$f":"DICTIONARY!M106","v":"Resonance"},{"$f":"DICTIONARY!O106","v":"गूंज"},"गूंज",{"$f":"DICTIONARY!P106","v":0},"गूंज","गूंज"]
[null,{"$f":"IF(C83=\"\",\"\",ROWS($C$4:C83))","v":""},null,null,null,null,null,null,null,{"$f":"IF(K83=\" \",\" \",ROWS($K$5:K83))","v":79},{"$f":"DICTIONARY!M107","v":"Basic"},{"$f":"DICTIONARY!O107","v":"बुनियादी"},"बुनियादी",{"$f":"DICTIONARY!P107","v":0},"बुनियादी","बुनियादी"]
[null,{"$f":"IF(C84=\"\",\"\",ROWS($C$4:C84))","v":""},null,null,null,null,null,null,null,{"$f":"IF(K84=\" \",\" \",ROWS($K$5:K84))","v":80},{"$f":"DICTIONARY!M108","v":"Camel"},{"$f":"DICTIONARY!O108","v":"ऊंट"},"ऊंट",{"$f":"DICTIONARY!P108","v":"ANIMALS ( पशु )"},"ऊंट","ऊंट"]
[null,{"$f":"IF(C85=\"\",\"\",ROWS($C$4:C85))","v":""},null,null,null,null,null,null,null,{"$f":"IF(K85=\" \",\" \",ROWS($K$5:K85))","v":81},{"$f":"DICTIONARY!M109","v":"Fingertips"},{"$f":"DICTIONARY!O109","v":"अंगुली का छोर"},"अंगुली का छोर",{"$f":"DICTIONARY!P109","v":0},"अंगुली का छोर","अंगुली का छोर"]
[null,{"$f":"IF(C86=\"\",\"\",ROWS($C$4:C86))","v":""},null,null,null,null,null,null,null,{"$f":"IF(K86=\" \",\" \",ROWS($K$5:K86))","v":82},{"$f":"DICTIONARY!M110","v":"Component"},{"$f":"DICTIONARY!O110","v":"अंग"},"अंग",{"$f":"DICTIONARY!P110","v":0},"अंग","अंग"]
[null,{"$f":"IF(C87=\"\",\"\",ROWS($C$4:C87))","v":""},null,null,null,null,null,null,null,{"$f":"IF(K87=\" \",\" \",ROWS($K$5:K87))","v":83},{"$f":"DICTIONARY!M111","v":"Civilian"},{"$f":"DICTIONARY!O111","v":"नागरिक"},"नागरिक",{"$f":"DICTIONARY!P111","v":0},"नागरिक","नागरिक"]
[null,{"$f":"IF(C88=\"\",\"\",ROWS($C$4:C88))","v":""},null,null,null,null,null,null,null,{"$f":"IF(K88=\" \",\" \",ROWS($K$5:K88))","v":84},{"$f":"DICTIONARY!M112","v":"Caring"},{"$f":"DICTIONARY!O112","v":"संभालना"},"संभालना",{"$f":"DICTIONARY!P112","v":0},"संभालना","संभालना"]
[null,{"$f":"IF(C89=\"\",\"\",ROWS($C$4:C89))","v":""},null,null,null,null,null,null,null,{"$f":"IF(K89=\" \",\" \",ROWS($K$5:K89))","v":85},{"$f":"DICTIONARY!M113","v":"Memorable"},{"$f":"DICTIONARY!O113","v":"स्मरणीय"},"स्मरणीय",{"$f":"DICTIONARY!P113","v":0},"स्मरणीय","स्मरणीय"]
[null,{"$f":"IF(C90=\"\",\"\",ROWS($C$4:C90))","v":""},null,null,null,null,null,null,null,{"$f":"IF(K90=\" \",\" \",ROWS($K$5:K90))","v":86},{"$f":"DICTIONARY!M114","v":"Carrot"},{"$f":"DICTIONARY!O114","v":"गाजर"},"गाजर",{"$f":"DICTIONARY!P114","v":"VEGETABLES ( सब्जियां )"},"गाजर","गाजर"]
[null,{"$f":"IF(C91=\"\",\"\",ROWS($C$4:C91))","v":""},null,null,null,null,null,null,null,{"$f":"IF(K91=\" \",\" \",ROWS($K$5:K91))","v":87},{"$f":"DICTIONARY!M115","v":"Cat"},{"$f":"DICTIONARY!O115","v":"बिल्ली"},"बिल्ली",{"$f":"DICTIONARY!P115","v":"ANIMALS ( पशु )"},"बिल्ली","बिल्ली"]
[null,{"$f":"IF(C92=\"\",\"\",ROWS($C$4:C92))","v":""},null,null,null,null,null,null,null,{"$f":"IF(K92=\" \",\" \",ROWS($K$5:K92))","v":88},{"$f":"DICTIONARY!M116","v":"Cauliflower"},{"$f":"DICTIONARY!O116","v":"फूल्गोबी"},"फूल्गोबी",{"$f":"DICTIONARY!P116","v":"VEGETABLES ( सब्जियां )"},"फूल्गोबी","फूल्गोबी"]
[null,{"$f":"IF(C93=\"\",\"\",ROWS($C$4:C93))","v":""},null,null,null,null,null,null,null,{"$f":"IF(K93=\" \",\" \",ROWS($K$5:K93))","v":89},{"$f":"DICTIONARY!M117","v":"Arificial"},{"$f":"DICTIONARY!O117","v":"बनावटी"},"बनावटी",{"$f":"DICTIONARY!P117","v":0},"बनावटी","बनावटी"]
[null,{"$f":"IF(C94=\"\",\"\",ROWS($C$4:C94))","v":""},null,null,null,null,null,null,null,{"$f":"IF(K94=\" \",\" \",ROWS($K$5:K94))","v":90},{"$f":"DICTIONARY!M118","v":"Charity"},{"$f":"DICTIONARY!O118","v":"उदारता"},"उदारता",{"$f":"DICTIONARY!P118","v":0},"उदारता","उदारता"]
[null,{"$f":"IF(C95=\"\",\"\",ROWS($C$4:C95))","v":""},null,null,null,null,null,null,null,{"$f":"IF(K95=\" \",\" \",ROWS($K$5:K95))","v":91},{"$f":"DICTIONARY!M119","v":"Cheat"},{"$f":"DICTIONARY!O119","v":"धोखा देना"},"धोखा देना",{"$f":"DICTIONARY!P119","v":0},"धोखा देना","धोखा देना"]
[null,{"$f":"IF(C96=\"\",\"\",ROWS($C$4:C96))","v":""},null,null,null,null,null,null,null,{"$f":"IF(K96=\" \",\" \",ROWS($K$5:K96))","v":92},{"$f":"DICTIONARY!M120","v":"Cheek"},{"$f":"DICTIONARY!O120","v":"गाल"},"गाल",{"$f":"DICTIONARY!P120","v":0},"गाल","गाल"]
[null,{"$f":"IF(C97=\"\",\"\",ROWS($C$4:C97))","v":""},null,null,null,null,null,null,null,{"$f":"IF(K97=\" \",\" \",ROWS($K$5:K97))","v":93},{"$f":"DICTIONARY!M121","v":"Glamour"},{"$f":"DICTIONARY!O121","v":"शानदार"},"शानदार",{"$f":"DICTIONARY!P121","v":"food and drink ( खाद्य और पेय )"},"शानदार","शानदार"]
[null,{"$f":"IF(C98=\"\",\"\",ROWS($C$4:C98))","v":""},null,null,null,null,null,null,null,{"$f":"IF(K98=\" \",\" \",ROWS($K$5:K98))","v":94},{"$f":"DICTIONARY!M122","v":"Chin"},{"$f":"DICTIONARY!O122","v":"ठुड्डी"},"ठुड्डी",{"$f":"DICTIONARY!P122","v":"PARTS OF BODY ( शरीर के अंग )"},"ठुड्डी","ठुड्डी"]
[null,{"$f":"IF(C99=\"\",\"\",ROWS($C$4:C99))","v":""},null,null,null,null,null,null,null,{"$f":"IF(K99=\" \",\" \",ROWS($K$5:K99))","v":95},{"$f":"DICTIONARY!M123","v":"Captivated"},{"$f":"DICTIONARY!O123","v":"मंत्रमुक्त"},"मंत्रमुक्त",{"$f":"DICTIONARY!P123","v":0},"मंत्रमुक्त","मंत्रमुक्त"]
[null,{"$f":"IF(C100=\"\",\"\",ROWS($C$4:C100))","v":""},null,null,null,null,null,null,null,{"$f":"IF(K100=\" \",\" \",ROWS($K$5:K100))","v":96},{"$f":"DICTIONARY!M124","v":"Ancester"},{"$f":"DICTIONARY!O124","v":"पूर्वज"},"पूर्वज",{"$f":"DICTIONARY!P124","v":0},"पूर्वज","पूर्वज"]
[null,{"$f":"IF(C101=\"\",\"\",ROWS($C$4:C101))","v":""},null,null,null,null,null,null,null,{"$f":"IF(K101=\" \",\" \",ROWS($K$5:K101))","v":97},{"$f":"DICTIONARY!M125","v":"Closer"},{"$f":"DICTIONARY!O125","v":"अधिक नजदीक"},"अधिक नजदीक",{"$f":"DICTIONARY!P125","v":0},"अधिक नजदीक","अधिक नजदीक"]
[null,{"$f":"IF(C102=\"\",\"\",ROWS($C$4:C102))","v":""},null,null,null,null,null,null,null,{"$f":"IF(K102=\" \",\" \",ROWS($K$5:K102))","v":98},{"$f":"DICTIONARY!M126","v":"Recital"},{"$f":"DICTIONARY!O126","v":"संगीत प्रस्तुति"},"संगीत प्रस्तुति",{"$f":"DICTIONARY!P126","v":0},"संगीत प्रस्तुति","संगीत प्रस्तुति"]
[null,{"$f":"IF(C103=\"\",\"\",ROWS($C$4:C103))","v":""},null,null,null,null,null,null,null,{"$f":"IF(K103=\" \",\" \",ROWS($K$5:K103))","v":99},{"$f":"DICTIONARY!M127","v":"Greet"},{"$f":"DICTIONARY!O127","v":"अभिवादन काना"},"अभिवादन काना",{"$f":"DICTIONARY!P127","v":0},"अभिवादन काना","अभिवादन काना"]
[null,{"$f":"IF(C104=\"\",\"\",ROWS($C$4:C104))","v":""},null,null,null,null,null,null,null,{"$f":"IF(K104=\" \",\" \",ROWS($K$5:K104))","v":100},{"$f":"DICTIONARY!M128","v":"Emphasis"},{"$f":"DICTIONARY!O128","v":"जोरदार ढंग से"},"जोरदार ढंग से",{"$f":"DICTIONARY!P128","v":0},"जोरदार ढंग से","जोरदार ढंग से"]
[null,{"$f":"IF(C105=\"\",\"\",ROWS($C$4:C105))","v":""},null,null,null,null,null,null,null,{"$f":"IF(K105=\" \",\" \",ROWS($K$5:K105))","v":101},{"$f":"DICTIONARY!M129","v":"Cock"},{"$f":"DICTIONARY!O129","v":"मुर्गा"},"मुर्गा",{"$f":"DICTIONARY!P129","v":"BIRDS  ( पक्षियों के नाम  )"},"मुर्गा","मुर्गा"]
[null,{"$f":"IF(C106=\"\",\"\",ROWS($C$4:C106))","v":""},null,null,null,null,null,null,null,{"$f":"IF(K106=\" \",\" \",ROWS($K$5:K106))","v":102},{"$f":"DICTIONARY!M130","v":"Coconut"},{"$f":"DICTIONARY!O130","v":"नारियल"},"नारियल",{"$f":"DICTIONARY!P130","v":0},"नारियल","नारियल"]
[null,{"$f":"IF(C107=\"\",\"\",ROWS($C$4:C107))","v":""},null,null,null,null,null,null,null,{"$f":"IF(K107=\" \",\" \",ROWS($K$5:K107))","v":103},{"$f":"DICTIONARY!M131","v":"Recognition"},{"$f":"DICTIONARY!O131","v":"सम्मान"},"सम्मान",{"$f":"DICTIONARY!P131","v":0},"सम्मान","सम्मान"]
[null,{"$f":"IF(C108=\"\",\"\",ROWS($C$4:C108))","v":""},null,null,null,null,null,null,null,{"$f":"IF(K108=\" \",\" \",ROWS($K$5:K108))","v":104},{"$f":"DICTIONARY!M132","v":"Auditorium"},{"$f":"DICTIONARY!O132","v":"श्रोतामंडप"},"श्रोतामंडप",{"$f":"DICTIONARY!P132","v":0},"श्रोतामंडप","श्रोतामंडप"]
[null,{"$f":"IF(C109=\"\",\"\",ROWS($C$4:C109))","v":""},null,null,null,null,null,null,null,{"$f":"IF(K109=\" \",\" \",ROWS($K$5:K109))","v":105},{"$f":"DICTIONARY!M133","v":"Trip"},{"$f":"DICTIONARY!O133","v":"यात्रा"},"यात्रा",{"$f":"DICTIONARY!P133","v":0},"यात्रा","यात्रा"]
[null,{"$f":"IF(C110=\"\",\"\",ROWS($C$4:C110))","v":""},null,null,null,null,null,null,null,{"$f":"IF(K110=\" \",\" \",ROWS($K$5:K110))","v":106},{"$f":"DICTIONARY!M134","v":"Unique"},{"$f":"DICTIONARY!O134","v":"अद्भुत"},"अद्भुत",{"$f":"DICTIONARY!P134","v":0},"अद्भुत","अद्भुत"]
[null,{"$f":"IF(C111=\"\",\"\",ROWS($C$4:C111))","v":""},null,null,null,null,null,null,null,{"$f":"IF(K111=\" \",\" \",ROWS($K$5:K111))","v":107},{"$f":"DICTIONARY!M135","v":"Relief"},{"$f":"DICTIONARY!O135","v":"राहत"},"राहत",{"$f":"DICTIONARY!P135","v":0},"राहत","राहत"]
[null,{"$f":"IF(C112=\"\",\"\",ROWS($C$4:C112))","v":""},null,null,null,null,null,null,null,{"$f":"IF(K112=\" \",\" \",ROWS($K$5:K112))","v":108},{"$f":"DICTIONARY!M136","v":"Concluded"},{"$f":"DICTIONARY!O136","v":"बात पूरी की"},"बात पूरी की",{"$f":"DICTIONARY!P136","v":0},"बात पूरी की","बात पूरी की"]
[null,{"$f":"IF(C113=\"\",\"\",ROWS($C$4:C113))","v":""},null,null,null,null,null,null,null,{"$f":"IF(K113=\" \",\" \",ROWS($K$5:K113))","v":109},{"$f":"DICTIONARY!M137","v":"Confuse"},{"$f":"DICTIONARY!O137","v":"असमंजस "},"असमंजस ",{"$f":"DICTIONARY!P137","v":0},"असमंजस ","असमंजस "]
[null,{"$f":"IF(C114=\"\",\"\",ROWS($C$4:C114))","v":""},null,null,null,null,null,null,null,{"$f":"IF(K114=\" \",\" \",ROWS($K$5:K114))","v":110},{"$f":"DICTIONARY!M138","v":"Consoneant"},{"$f":"DICTIONARY!O138","v":"व्यंजन"},"व्यंजन",{"$f":"DICTIONARY!P138","v":0},"व्यंजन","व्यंजन"]
[null,{"$f":"IF(C115=\"\",\"\",ROWS($C$4:C115))","v":""},null,null,null,null,null,null,null,{"$f":"IF(K115=\" \",\" \",ROWS($K$5:K115))","v":111},{"$f":"DICTIONARY!M139","v":"Constructed"},{"$f":"DICTIONARY!O139","v":"बने हुए"},"बने हुए",{"$f":"DICTIONARY!P139","v":0},"बने हुए","बने हुए"]
[null,{"$f":"IF(C116=\"\",\"\",ROWS($C$4:C116))","v":""},null,null,null,null,null,null,null,{"$f":"IF(K116=\" \",\" \",ROWS($K$5:K116))","v":112},{"$f":"DICTIONARY!M140","v":"Coriander"},{"$f":"DICTIONARY!O140","v":"धनिया"},"धनिया",{"$f":"DICTIONARY!P140","v":"VEGETABLES ( सब्जियां )"},"धनिया","धनिया"]
[null,{"$f":"IF(C117=\"\",\"\",ROWS($C$4:C117))","v":""},null,null,null,null,null,null,null,{"$f":"IF(K117=\" \",\" \",ROWS($K$5:K117))","v":113},{"$f":"DICTIONARY!M141","v":"Cot"},{"$f":"DICTIONARY!O141","v":"चारपाई"},"चारपाई",{"$f":"DICTIONARY!P141","v":0},"चारपाई","चारपाई"]
[null,{"$f":"IF(C118=\"\",\"\",ROWS($C$4:C118))","v":""},null,null,null,null,null,null,null,{"$f":"IF(K118=\" \",\" \",ROWS($K$5:K118))","v":114},{"$f":"DICTIONARY!M142","v":"Cotton"},{"$f":"DICTIONARY!O142","v":"कपास"},"कपास",{"$f":"DICTIONARY!P142","v":0},"कपास","कपास"]
[null,{"$f":"IF(C119=\"\",\"\",ROWS($C$4:C119))","v":""},null,null,null,null,null,null,null,{"$f":"IF(K119=\" \",\" \",ROWS($K$5:K119))","v":115},{"$f":"DICTIONARY!M143","v":"Coughing"},{"$f":"DICTIONARY!O143","v":"खासंना"},"खासंना",{"$f":"DICTIONARY!P143","v":0},"खासंना","खासंना"]
[null,{"$f":"IF(C120=\"\",\"\",ROWS($C$4:C120))","v":""},null,null,null,null,null,null,null,{"$f":"IF(K120=\" \",\" \",ROWS($K$5:K120))","v":116},{"$f":"DICTIONARY!M144","v":"Figure"},{"$f":"DICTIONARY!O144","v":"आक्रति"},"आक्रति",{"$f":"DICTIONARY!P144","v":0},"आक्रति","आक्रति"]
[null,{"$f":"IF(C121=\"\",\"\",ROWS($C$4:C121))","v":""},null,null,null,null,null,null,null,{"$f":"IF(K121=\" \",\" \",ROWS($K$5:K121))","v":117},{"$f":"DICTIONARY!M145","v":"Cow"},{"$f":"DICTIONARY!O145","v":"गाय"},"गाय",{"$f":"DICTIONARY!P145","v":"ANIMALS ( पशु )"},"गाय","गाय"]
[null,{"$f":"IF(C122=\"\",\"\",ROWS($C$4:C122))","v":""},null,null,null,null,null,null,null,{"$f":"IF(K122=\" \",\" \",ROWS($K$5:K122))","v":118},{"$f":"DICTIONARY!M146","v":"Cowdung"},{"$f":"DICTIONARY!O146","v":"गोबर"},"गोबर",{"$f":"DICTIONARY!P146","v":0},"गोबर","गोबर"]
[null,{"$f":"IF(C123=\"\",\"\",ROWS($C$4:C123))","v":""},null,null,null,null,null,null,null,{"$f":"IF(K123=\" \",\" \",ROWS($K$5:K123))","v":119},{"$f":"DICTIONARY!M147","v":"Crane"},{"$f":"DICTIONARY!O147","v":"सरस"},"सरस",{"$f":"DICTIONARY!P147","v":"BIRDS  ( पक्षियों के नाम  )"},"सरस","सरस"]
[null,{"$f":"IF(C124=\"\",\"\",ROWS($C$4:C124))","v":""},null,null,null,null,null,null,null,{"$f":"IF(K124=\" \",\" \",ROWS($K$5:K124))","v":120},{"$f":"DICTIONARY!M148","v":"Crow"},{"$f":"DICTIONARY!O148","v":"कोवा"},"कोवा",{"$f":"DICTIONARY!P148","v":"BIRDS  ( पक्षियों के नाम  )"},"कोवा","कोवा"]
[null,{"$f":"IF(C125=\"\",\"\",ROWS($C$4:C125))","v":""},null,null,null,null,null,null,null,{"$f":"IF(K125=\" \",\" \",ROWS($K$5:K125))","v":121},{"$f":"DICTIONARY!M149","v":"Slipper"},{"$f":"DICTIONARY!O149","v":"चप्पल"},"चप्पल",{"$f":"DICTIONARY!P149","v":0},"चप्पल","चप्पल"]
[null,{"$f":"IF(C126=\"\",\"\",ROWS($C$4:C126))","v":""},null,null,null,null,null,null,null,{"$f":"IF(K126=\" \",\" \",ROWS($K$5:K126))","v":122},{"$f":"DICTIONARY!M150","v":"Cube-Shaped"},{"$f":"DICTIONARY!O150","v":"घनाभाकर"},"घनाभाकर",{"$f":"DICTIONARY!P150","v":0},"घनाभाकर","घनाभाकर"]
[null,{"$f":"IF(C127=\"\",\"\",ROWS($C$4:C127))","v":""},null,null,null,null,null,null,null,{"$f":"IF(K127=\" \",\" \",ROWS($K$5:K127))","v":123},{"$f":"DICTIONARY!M151","v":"Giant"},{"$f":"DICTIONARY!O151","v":"भीमकाय"},"भीमकाय",{"$f":"DICTIONARY!P151","v":0},"भीमकाय","भीमकाय"]
[null,{"$f":"IF(C128=\"\",\"\",ROWS($C$4:C128))","v":""},null,null,null,null,null,null,null,{"$f":"IF(K128=\" \",\" \",ROWS($K$5:K128))","v":124},{"$f":"DICTIONARY!M152","v":"Cur"},{"$f":"DICTIONARY!O152","v":"आवारा कुत्ता"},"आवारा कुत्ता",{"$f":"DICTIONARY!P152","v":"ANIMALS ( पशु )"},"आवारा कुत्ता","आवारा कुत्ता"]
[null,{"$f":"IF(C129=\"\",\"\",ROWS($C$4:C129))","v":""},null,null,null,null,null,null,null,{"$f":"IF(K129=\" \",\" \",ROWS($K$5:K129))","v":125},{"$f":"DICTIONARY!M153","v":"Stare"},{"$f":"DICTIONARY!O153","v":"घुरना"},"घुरना",{"$f":"DICTIONARY!P153","v":0},"घुरना","घुरना"]
[null,{"$f":"IF(C130=\"\",\"\",ROWS($C$4:C130))","v":""},null,null,null,null,null,null,null,{"$f":"IF(K130=\" \",\" \",ROWS($K$5:K130))","v":126},{"$f":"DICTIONARY!M154","v":"Tiny"},{"$f":"DICTIONARY!O154","v":"छोटे छोटे"},"छोटे छोटे",{"$f":"DICTIONARY!P154","v":0},"छोटे छोटे","छोटे छोटे"]
[null,{"$f":"IF(C131=\"\",\"\",ROWS($C$4:C131))","v":""},null,null,null,null,null,null,null,{"$f":"IF(K131=\" \",\" \",ROWS($K$5:K131))","v":127},{"$f":"DICTIONARY!M155","v":"Mind"},{"$f":"DICTIONARY!O155","v":"दिमाग"},"दिमाग",{"$f":"DICTIONARY!P155","v":"food and drink ( खाद्य और पेय )"},"दिमाग","दिमाग"]
[null,{"$f":"IF(C132=\"\",\"\",ROWS($C$4:C132))","v":""},null,null,null,null,null,null,null,{"$f":"IF(K132=\" \",\" \",ROWS($K$5:K132))","v":128},{"$f":"DICTIONARY!M156","v":"Custerd Apple"},{"$f":"DICTIONARY!O156","v":"शरीफा"},"शरीफा","FRUITS NAME ( फलो के नाम )","शरीफा","शरीफा"]
[null,{"$f":"IF(C133=\"\",\"\",ROWS($C$4:C133))","v":""},null,null,null,null,null,null,null,{"$f":"IF(K133=\" \",\" \",ROWS($K$5:K133))","v":129},{"$f":"DICTIONARY!M157","v":"Custmer"},{"$f":"DICTIONARY!O157","v":"ग्राहक"},"ग्राहक",{"$f":"DICTIONARY!P157","v":"OCCUPATIONS AND PROFESSION (व्यवसाय और पेशा )"},{"$f":"M133","v":"ग्राहक"},{"$f":"L133","v":"ग्राहक"}]
[null,{"$f":"IF(C134=\"\",\"\",ROWS($C$4:C134))","v":""},null,null,null,null,null,null,null,{"$f":"IF(K134=\" \",\" \",ROWS($K$5:K134))","v":130},{"$f":"DICTIONARY!M158","v":"Playmates"},{"$f":"DICTIONARY!O158","v":"साथी खिलाडी"},{"$f":"L134","v":"साथी खिलाडी"},{"$f":"DICTIONARY!P158","v":0},"साथी खिलाडी","साथी खिलाडी"]
[null,{"$f":"IF(C135=\"\",\"\",ROWS($C$4:C135))","v":""},null,null,null,null,null,null,null,{"$f":"IF(K135=\" \",\" \",ROWS($K$5:K135))","v":131},{"$f":"DICTIONARY!M159","v":"Cycle"},{"$f":"DICTIONARY!O159","v":"साइकिल"},"साइकिल",{"$f":"DICTIONARY!P159","v":0},"साइकिल","साइकिल"]
[null,{"$f":"IF(C136=\"\",\"\",ROWS($C$4:C136))","v":""},null,null,null,null,null,null,null,{"$f":"IF(K136=\" \",\" \",ROWS($K$5:K136))","v":132},{"$f":"DICTIONARY!M160","v":"Dairy"},{"$f":"DICTIONARY!O160","v":"डायरी"},"डायरी",{"$f":"DICTIONARY!P160","v":0},"डायरी","डायरी"]
[null,{"$f":"IF(C137=\"\",\"\",ROWS($C$4:C137))","v":""},null,null,null,null,null,null,null,{"$f":"IF(K137=\" \",\" \",ROWS($K$5:K137))","v":133},{"$f":"DICTIONARY!M161","v":"Mass"},{"$f":"DICTIONARY!O161","v":"द्रय्वमान"},"द्रय्वमान","FRUITS NAME ( फलो के नाम )","द्रय्वमान","द्रय्वमान"]
[null,{"$f":"IF(C138=\"\",\"\",ROWS($C$4:C138))","v":""},null,null,null,null,null,null,null,{"$f":"IF(K138=\" \",\" \",ROWS($K$5:K138))","v":134},{"$f":"DICTIONARY!M162","v":"Daughter"},{"$f":"DICTIONARY!O162","v":"बेटी"},"बेटी",{"$f":"DICTIONARY!P162","v":"RELATIONS AND RELATIVES ( सम्बन्ध और सम्बन्धी )"},"बेटी","बेटी"]
[null,{"$f":"IF(C139=\"\",\"\",ROWS($C$4:C139))","v":""},null,null,null,null,null,null,null,{"$f":"IF(K139=\" \",\" \",ROWS($K$5:K139))","v":135},{"$f":"DICTIONARY!M163","v":"Daughter In Law"},{"$f":"DICTIONARY!O163","v":"बहू"},"बहू",{"$f":"DICTIONARY!P163","v":"RELATIONS AND RELATIVES ( सम्बन्ध और सम्बन्धी )"},"बहू","बहू"]
[null,{"$f":"IF(C140=\"\",\"\",ROWS($C$4:C140))","v":""},null,null,null,null,null,null,null,{"$f":"IF(K140=\" \",\" \",ROWS($K$5:K140))","v":136},{"$f":"DICTIONARY!M164","v":"Day By Day"},{"$f":"DICTIONARY!O164","v":"दिन बे दिन"},"दिन बे दिन",{"$f":"DICTIONARY!P164","v":0},"दिन बे दिन","दिन बे दिन"]
[null,{"$f":"IF(C141=\"\",\"\",ROWS($C$4:C141))","v":""},null,null,null,null,null,null,null,{"$f":"IF(K141=\" \",\" \",ROWS($K$5:K141))","v":137},{"$f":"DICTIONARY!M165","v":"Graduate"},{"$f":"DICTIONARY!O165","v":"स्नातक"},"स्नातक",{"$f":"DICTIONARY!P165","v":0},"स्नातक","स्नातक"]
[null,{"$f":"IF(C142=\"\",\"\",ROWS($C$4:C142))","v":""},null,null,null,null,null,null,null,{"$f":"IF(K142=\" \",\" \",ROWS($K$5:K142))","v":138},{"$f":"DICTIONARY!M166","v":"Decided "},{"$f":"DICTIONARY!O166","v":"तय किया"},"तय किया",{"$f":"DICTIONARY!P166","v":0},"तय किया","तय किया"]
[null,{"$f":"IF(C143=\"\",\"\",ROWS($C$4:C143))","v":""},null,null,null,null,null,null,null,{"$f":"IF(K143=\" \",\" \",ROWS($K$5:K143))","v":139},{"$f":"DICTIONARY!M167","v":"Deer"},{"$f":"DICTIONARY!O167","v":"हिरन"},"हिरन",{"$f":"DICTIONARY!P167","v":"ANIMALS ( पशु )"},"हिरन","हिरन"]
[null,{"$f":"IF(C144=\"\",\"\",ROWS($C$4:C144))","v":""},null,null,null,null,null,null,null,{"$f":"IF(K144=\" \",\" \",ROWS($K$5:K144))","v":140},{"$f":"DICTIONARY!M168","v":"Delete"},{"$f":"DICTIONARY!O168","v":"समाप्त"},"समाप्त",{"$f":"DICTIONARY!P168","v":0},"समाप्त","समाप्त"]
[null,{"$f":"IF(C145=\"\",\"\",ROWS($C$4:C145))","v":""},null,null,null,null,null,null,null,{"$f":"IF(K145=\" \",\" \",ROWS($K$5:K145))","v":141},{"$f":"DICTIONARY!M169","v":"Devote"},{"$f":"DICTIONARY!O169","v":"देवता"},"देवता",{"$f":"DICTIONARY!P169","v":0},"देवता","देवता"]
[null,{"$f":"IF(C146=\"\",\"\",ROWS($C$4:C146))","v":""},null,null,null,null,null,null,null,{"$f":"IF(K146=\" \",\" \",ROWS($K$5:K146))","v":142},{"$f":"DICTIONARY!M170","v":"Invention"},{"$f":"DICTIONARY!O170","v":"आविष्कार"},"आविष्कार",{"$f":"DICTIONARY!P170","v":0},"आविष्कार","आविष्कार"]
[null,{"$f":"IF(C147=\"\",\"\",ROWS($C$4:C147))","v":""},null,null,null,null,null,null,null,{"$f":"IF(K147=\" \",\" \",ROWS($K$5:K147))","v":143},{"$f":"DICTIONARY!M171","v":"Ally"},{"$f":"DICTIONARY!O171","v":"मित्र,सहयोगी"},"मित्र,सहयोगी",{"$f":"DICTIONARY!P171","v":0},"मित्र,सहयोगी","मित्र,सहयोगी"]
[null,{"$f":"IF(C148=\"\",\"\",ROWS($C$4:C148))","v":""},null,null,null,null,null,null,null,{"$f":"IF(K148=\" \",\" \",ROWS($K$5:K148))","v":144},{"$f":"DICTIONARY!M172","v":"Conclusion"},{"$f":"DICTIONARY!O172","v":"निष्कर्ष"},"निष्कर्ष",{"$f":"DICTIONARY!P172","v":0},"निष्कर्ष","निष्कर्ष"]
[null,{"$f":"IF(C149=\"\",\"\",ROWS($C$4:C149))","v":""},null,null,null,null,null,null,null,{"$f":"IF(K149=\" \",\" \",ROWS($K$5:K149))","v":145},{"$f":"DICTIONARY!M173","v":"Uttered"},{"$f":"DICTIONARY!O173","v":"बोला"},"बोला",{"$f":"DICTIONARY!P173","v":0},"बोला","बोला"]
[null,{"$f":"IF(C150=\"\",\"\",ROWS($C$4:C150))","v":""},null,null,null,null,null,null,null,{"$f":"IF(K150=\" \",\" \",ROWS($K$5:K150))","v":146},{"$f":"DICTIONARY!M174","v":"Dirt"},{"$f":"DICTIONARY!O174","v":"गन्दा"},"गन्दा",{"$f":"DICTIONARY!P174","v":0},"गन्दा","गन्दा"]
[null,{"$f":"IF(C151=\"\",\"\",ROWS($C$4:C151))","v":""},null,null,null,null,null,null,null,{"$f":"IF(K151=\" \",\" \",ROWS($K$5:K151))","v":147},{"$f":"DICTIONARY!M175","v":"Disappointed"},{"$f":"DICTIONARY!O175","v":"निराश हुआ"},"निराश हुआ",{"$f":"DICTIONARY!P175","v":0},"निराश हुआ","निराश हुआ"]
[null,{"$f":"IF(C152=\"\",\"\",ROWS($C$4:C152))","v":""},null,null,null,null,null,null,null,{"$f":"IF(K152=\" \",\" \",ROWS($K$5:K152))","v":148},{"$f":"DICTIONARY!M176","v":"Discipline"},{"$f":"DICTIONARY!O176","v":"अनुशाशन"},"अनुशाशन",{"$f":"DICTIONARY!P176","v":0},"अनुशाशन","अनुशाशन"]
[null,null,null,null,null,null,null,null,null,{"$f":"IF(K153=\" \",\" \",ROWS($K$5:K153))","v":149},{"$f":"DICTIONARY!M177","v":"Disease"},{"$f":"DICTIONARY!O177","v":"रोग,बीमारी"},"रोग,बीमारी",{"$f":"DICTIONARY!P177","v":0},"रोग,बीमारी","रोग,बीमारी"]
[null,null,null,null,null,null,null,null,null,{"$f":"IF(K154=\" \",\" \",ROWS($K$5:K154))","v":150},{"$f":"DICTIONARY!M178","v":"Dish"},{"$f":"DICTIONARY!O178","v":"थाली"},"थाली",{"$f":"DICTIONARY!P178","v":0},"थाली","थाली"]
[null,null,null,null,null,null,null,null,null,{"$f":"IF(K155=\" \",\" \",ROWS($K$5:K155))","v":151},{"$f":"DICTIONARY!M179","v":"Doe"},{"$f":"DICTIONARY!O179","v":"हिरनी"},"हिरनी",{"$f":"DICTIONARY!P179","v":"ANIMALS ( पशु )"},"हिरनी","हिरनी"]
[null,null,null,null,null,null,null,null,null,{"$f":"IF(K156=\" \",\" \",ROWS($K$5:K156))","v":152},{"$f":"DICTIONARY!M180","v":"Dog"},{"$f":"DICTIONARY!O180","v":"कुत्ता"},"कुत्ता",{"$f":"DICTIONARY!P180","v":"ANIMALS ( पशु )"},"कुत्ता","कुत्ता"]
[null,null,null,null,null,null,null,null,null,{"$f":"IF(K157=\" \",\" \",ROWS($K$5:K157))","v":153},{"$f":"DICTIONARY!M181","v":"Domestic"},{"$f":"DICTIONARY!O181","v":"घरेलु"},"घरेलु",{"$f":"DICTIONARY!P181","v":0},"घरेलु","घरेलु"]
[null,null,null,null,null,null,null,null,null,{"$f":"IF(K158=\" \",\" \",ROWS($K$5:K158))","v":154},{"$f":"DICTIONARY!M182","v":"Donkey"},{"$f":"DICTIONARY!O182","v":"गधा"},"गधा",{"$f":"DICTIONARY!P182","v":"ANIMALS ( पशु )"},"गधा","गधा"]
[null,null,null,null,null,null,null,null,null,{"$f":"IF(K159=\" \",\" \",ROWS($K$5:K159))","v":155},{"$f":"DICTIONARY!M183","v":"Divorce"},{"$f":"DICTIONARY!O183","v":"तलाक"},"तलाक",{"$f":"DICTIONARY!P183","v":0},"तलाक","तलाक"]
[null,null,null,null,null,null,null,null,null,{"$f":"IF(K160=\" \",\" \",ROWS($K$5:K160))","v":156},{"$f":"DICTIONARY!M184","v":"Dove"},{"$f":"DICTIONARY!O184","v":"फाख्ता"},"फाख्ता",{"$f":"DICTIONARY!P184","v":"ANIMALS ( पशु )"},"फाख्ता","फाख्ता"]
[null,null,null,null,null,null,null,null,null,{"$f":"IF(K161=\" \",\" \",ROWS($K$5:K161))","v":157},{"$f":"DICTIONARY!M185","v":"Dry "},{"$f":"DICTIONARY!O185","v":"सूखा"},"सूखा",{"$f":"DICTIONARY!P185","v":0},"सूखा","सूखा"]
[null,null,null,null,null,null,null,null,null,{"$f":"IF(K162=\" \",\" \",ROWS($K$5:K162))","v":158},{"$f":"DICTIONARY!M186","v":"Duck"},{"$f":"DICTIONARY!O186","v":"बतख"},"बतख",{"$f":"DICTIONARY!P186","v":"BIRDS  ( पक्षियों के नाम  )"},"बतख","बतख"]
[null,null,null,null,null,null,null,null,null,{"$f":"IF(K163=\" \",\" \",ROWS($K$5:K163))","v":159},{"$f":"DICTIONARY!M187","v":"Dustbin"},{"$f":"DICTIONARY!O187","v":"कचरा पात्र"},"कचरा पात्र",{"$f":"DICTIONARY!P187","v":0},"कचरा पात्र","कचरा पात्र"]
[null,null,null,null,null,null,null,null,null,{"$f":"IF(K164=\" \",\" \",ROWS($K$5:K164))","v":160},{"$f":"DICTIONARY!M188","v":"Ear"},{"$f":"DICTIONARY!O188","v":"कान"},"कान",{"$f":"DICTIONARY!P188","v":"PARTS OF BODY ( शरीर के अंग )"},"कान","कान"]
[null,null,null,null,null,null,null,null,null,{"$f":"IF(K165=\" \",\" \",ROWS($K$5:K165))","v":161},{"$f":"DICTIONARY!M189","v":"Visionary"},{"$f":"DICTIONARY!O189","v":"भविष्यदर्शी"},"भविष्यदर्शी",{"$f":"DICTIONARY!P189","v":0},"भविष्यदर्शी","भविष्यदर्शी"]
[null,null,null,null,null,null,null,null,null,{"$f":"IF(K166=\" \",\" \",ROWS($K$5:K166))","v":162},{"$f":"DICTIONARY!M190","v":"Destroy"},{"$f":"DICTIONARY!O190","v":"नष्ट करना"},"नष्ट करना",{"$f":"DICTIONARY!P190","v":0},"नष्ट करना","नष्ट करना"]
[null,null,null,null,null,null,null,null,null,{"$f":"IF(K167=\" \",\" \",ROWS($K$5:K167))","v":163},{"$f":"DICTIONARY!M191","v":"Gravity"},{"$f":"DICTIONARY!O191","v":"गुरुत्वाकर्षण"},"गुरुत्वाकर्षण",{"$f":"DICTIONARY!P191","v":0},"गुरुत्वाकर्षण","गुरुत्वाकर्षण"]
[null,null,null,null,null,null,null,null,null,{"$f":"IF(K168=\" \",\" \",ROWS($K$5:K168))","v":164},{"$f":"DICTIONARY!M192","v":"Ambition"},{"$f":"DICTIONARY!O192","v":"लक्ष्य"},"लक्ष्य",{"$f":"DICTIONARY!P192","v":0},"लक्ष्य","लक्ष्य"]
[null,null,null,null,null,null,null,null,null,{"$f":"IF(K169=\" \",\" \",ROWS($K$5:K169))","v":165},{"$f":"DICTIONARY!M193","v":"Meagre"},{"$f":"DICTIONARY!O193","v":"न्यून"},"न्यून",{"$f":"DICTIONARY!P193","v":0},"न्यून","न्यून"]
[null,null,null,null,null,null,null,null,null,{"$f":"IF(K170=\" \",\" \",ROWS($K$5:K170))","v":166},{"$f":"DICTIONARY!M194","v":"Electricity"},{"$f":"DICTIONARY!O194","v":"बिजली"},"बिजली",{"$f":"DICTIONARY!P194","v":0},"बिजली","बिजली"]
[null,null,null,null,null,null,null,null,null,{"$f":"IF(K171=\" \",\" \",ROWS($K$5:K171))","v":167},{"$f":"DICTIONARY!M195","v":"Elephant"},{"$f":"DICTIONARY!O195","v":"हाथी"},"हाथी",{"$f":"DICTIONARY!P195","v":"ANIMALS ( पशु )"},"हाथी","हाथी"]
[null,null,null,null,null,null,null,null,null,{"$f":"IF(K172=\" \",\" \",ROWS($K$5:K172))","v":168},{"$f":"DICTIONARY!M196","v":"Solitary"},{"$f":"DICTIONARY!O196","v":"एक"},"एक",{"$f":"DICTIONARY!P196","v":0},"एक","एक"]
[null,null,null,null,null,null,null,null,null,{"$f":"IF(K173=\" \",\" \",ROWS($K$5:K173))","v":169},{"$f":"DICTIONARY!M197","v":"Elsewhere"},{"$f":"DICTIONARY!O197","v":"अन्यत्र"},"अन्यत्र",{"$f":"DICTIONARY!P197","v":0},"अन्यत्र","अन्यत्र"]
[null,null,null,null,null,null,null,null,null,{"$f":"IF(K174=\" \",\" \",ROWS($K$5:K174))","v":170},{"$f":"DICTIONARY!M198","v":"Emotion"},{"$f":"DICTIONARY!O198","v":"भावना"},"भावना",{"$f":"DICTIONARY!P198","v":0},"भावना","भावना"]
[null,null,null,null,null,null,null,null,null,{"$f":"IF(K175=\" \",\" \",ROWS($K$5:K175))","v":171},{"$f":"DICTIONARY!M199","v":"Enemy"},{"$f":"DICTIONARY!O199","v":"शत्रु,दुश्मन"},"शत्रु,दुश्मन",{"$f":"DICTIONARY!P199","v":0},"शत्रु,दुश्मन","शत्रु,दुश्मन"]
[null,null,null,null,null,null,null,null,null,{"$f":"IF(K176=\" \",\" \",ROWS($K$5:K176))","v":172},{"$f":"DICTIONARY!M200","v":"Energy"},{"$f":"DICTIONARY!O200","v":" ऊर्जा"}," ऊर्जा",{"$f":"DICTIONARY!P200","v":0}," ऊर्जा"," ऊर्जा"]
[null,null,null,null,null,null,null,null,null,{"$f":"IF(K177=\" \",\" \",ROWS($K$5:K177))","v":173},{"$f":"DICTIONARY!M201","v":"Environment"},{"$f":"DICTIONARY!O201","v":"पर्यावरण, वातावरण"},"पर्यावरण, वातावरण",{"$f":"DICTIONARY!P201","v":0},"पर्यावरण, वातावरण","पर्यावरण, वातावरण"]
[null,null,null,null,null,null,null,null,null,{"$f":"IF(K178=\" \",\" \",ROWS($K$5:K178))","v":174},{"$f":"DICTIONARY!M202","v":"Beneath"},{"$f":"DICTIONARY!O202","v":"के नीचे"},"के नीचे",{"$f":"DICTIONARY!P202","v":0},"के नीचे","के नीचे"]
[null,null,null,null,null,null,null,null,null,{"$f":"IF(K179=\" \",\" \",ROWS($K$5:K179))","v":175},{"$f":"DICTIONARY!M203","v":"Tremble"},{"$f":"DICTIONARY!O203","v":"कांपना"},"कांपना",{"$f":"DICTIONARY!P203","v":0},"कांपना","कांपना"]
[null,null,null,null,null,null,null,null,null,{"$f":"IF(K180=\" \",\" \",ROWS($K$5:K180))","v":176},{"$f":"DICTIONARY!M204","v":"Bachelor"},{"$f":"DICTIONARY!O204","v":"कुंवारा"},"कुंवारा",{"$f":"DICTIONARY!P204","v":0},"कुंवारा","कुंवारा"]
[null,null,null,null,null,null,null,null,null,{"$f":"IF(K181=\" \",\" \",ROWS($K$5:K181))","v":177},{"$f":"DICTIONARY!M205","v":"Everything"},{"$f":"DICTIONARY!O205","v":"प्रत्येक,सब कुछ"},"प्रत्येक,सब कुछ",{"$f":"DICTIONARY!P205","v":0},"प्रत्येक,सब कुछ","प्रत्येक,सब कुछ"]
[null,null,null,null,null,null,null,null,null,{"$f":"IF(K182=\" \",\" \",ROWS($K$5:K182))","v":178},{"$f":"DICTIONARY!M206","v":"Exam Center"},{"$f":"DICTIONARY!O206","v":"परीक्षा केंद्र"},"परीक्षा केंद्र",{"$f":"DICTIONARY!P206","v":"SCHOOL RELATIVE  ( विद्यालय सम्बन्धी  )"},"परीक्षा केंद्र","परीक्षा केंद्र"]
[null,null,null,null,null,null,null,null,null,{"$f":"IF(K183=\" \",\" \",ROWS($K$5:K183))","v":179},{"$f":"DICTIONARY!M207","v":"Text"},{"$f":"DICTIONARY!O207","v":"अभ्यास"},"अभ्यास",{"$f":"DICTIONARY!P207","v":"SCHOOL RELATIVE  ( विद्यालय सम्बन्धी  )"},"अभ्यास","अभ्यास"]
[null,null,null,null,null,null,null,null,null,{"$f":"IF(K184=\" \",\" \",ROWS($K$5:K184))","v":180},{"$f":"DICTIONARY!M208","v":"Explain"},{"$f":"DICTIONARY!O208","v":"स्पष्ट करो"},"स्पष्ट करो",{"$f":"DICTIONARY!P208","v":0},"स्पष्ट करो","स्पष्ट करो"]
[null,null,null,null,null,null,null,null,null,{"$f":"IF(K185=\" \",\" \",ROWS($K$5:K185))","v":181},{"$f":"DICTIONARY!M209","v":"Explained"},{"$f":"DICTIONARY!O209","v":"समझाया"},"समझाया",{"$f":"DICTIONARY!P209","v":0},"समझाया","समझाया"]
[null,null,null,null,null,null,null,null,null,{"$f":"IF(K186=\" \",\" \",ROWS($K$5:K186))","v":182},{"$f":"DICTIONARY!M210","v":"Eye"},{"$f":"DICTIONARY!O210","v":"आंख"},"आंख",{"$f":"DICTIONARY!P210","v":"PARTS OF BODY ( शरीर के अंग )"},"आंख","आंख"]
[null,null,null,null,null,null,null,null,null,{"$f":"IF(K187=\" \",\" \",ROWS($K$5:K187))","v":183},{"$f":"DICTIONARY!M211","v":"Eyebrow"},{"$f":"DICTIONARY!O211","v":"भोंहे"},"भोंहे",{"$f":"DICTIONARY!P211","v":"PARTS OF BODY ( शरीर के अंग )"},"भोंहे","भोंहे"]
[null,null,null,null,null,null,null,null,null,{"$f":"IF(K188=\" \",\" \",ROWS($K$5:K188))","v":184},{"$f":"DICTIONARY!M212","v":"Reflection"},{"$f":"DICTIONARY!O212","v":"परछाई"},"परछाई",{"$f":"DICTIONARY!P212","v":0},"परछाई","परछाई"]
[null,null,null,null,null,null,null,null,null,{"$f":"IF(K189=\" \",\" \",ROWS($K$5:K189))","v":185},{"$f":"DICTIONARY!M213","v":"Face"},{"$f":"DICTIONARY!O213","v":"चेहरा"},"चेहरा",{"$f":"DICTIONARY!P213","v":"PARTS OF BODY ( शरीर के अंग )"},"चेहरा","चेहरा"]
[null,null,null,null,null,null,null,null,null,{"$f":"IF(K190=\" \",\" \",ROWS($K$5:K190))","v":186},{"$f":"DICTIONARY!M214","v":"Vermillion"},{"$f":"DICTIONARY!O214","v":"सिंदूरी"},"सिंदूरी",{"$f":"DICTIONARY!P214","v":0},"सिंदूरी","सिंदूरी"]
[null,null,null,null,null,null,null,null,null,{"$f":"IF(K191=\" \",\" \",ROWS($K$5:K191))","v":187},{"$f":"DICTIONARY!M215","v":"Fun"},{"$f":"DICTIONARY!O215","v":"मजा"},"मजा",{"$f":"DICTIONARY!P215","v":0},"मजा","मजा"]
[null,null,null,null,null,null,null,null,null,{"$f":"IF(K192=\" \",\" \",ROWS($K$5:K192))","v":188},{"$f":"DICTIONARY!M216","v":"Farm"},{"$f":"DICTIONARY!O216","v":"खेत"},"खेत",{"$f":"DICTIONARY!P216","v":0},"खेत","खेत"]
[null,null,null,null,null,null,null,null,null,{"$f":"IF(K193=\" \",\" \",ROWS($K$5:K193))","v":189},{"$f":"DICTIONARY!M217","v":"Fate"},{"$f":"DICTIONARY!O217","v":"भाग्य"},"भाग्य",{"$f":"DICTIONARY!P217","v":0},"भाग्य","भाग्य"]
[null,null,null,null,null,null,null,null,null,{"$f":"IF(K194=\" \",\" \",ROWS($K$5:K194))","v":190},{"$f":"DICTIONARY!M218","v":"Father"},{"$f":"DICTIONARY!O218","v":"पिता"},"पिता",{"$f":"DICTIONARY!P218","v":"RELATIONS AND RELATIVES ( सम्बन्ध और सम्बन्धी )"},"पिता","पिता"]
[null,null,null,null,null,null,null,null,null,{"$f":"IF(K195=\" \",\" \",ROWS($K$5:K195))","v":191},{"$f":"DICTIONARY!M219","v":"Father In Law"},{"$f":"DICTIONARY!O219","v":"ससुर"},"ससुर",{"$f":"DICTIONARY!P219","v":"RELATIONS AND RELATIVES ( सम्बन्ध और सम्बन्धी )"},"ससुर","ससुर"]
[null,null,null,null,null,null,null,null,null,{"$f":"IF(K196=\" \",\" \",ROWS($K$5:K196))","v":192},{"$f":"DICTIONARY!M220","v":"Describe"},{"$f":"DICTIONARY!O220","v":"वर्णन करना"},"वर्णन करना",{"$f":"DICTIONARY!P220","v":0},"वर्णन करना","वर्णन करना"]
[null,null,null,null,null,null,null,null,null,{"$f":"IF(K197=\" \",\" \",ROWS($K$5:K197))","v":193},{"$f":"DICTIONARY!M221","v":"Additional"},{"$f":"DICTIONARY!O221","v":"अतिरिक्त"},"अतिरिक्त",{"$f":"DICTIONARY!P221","v":0},{"$f":"M197","v":"अतिरिक्त"},{"$f":"L197","v":"अतिरिक्त"}]
[null,null,null,null,null,null,null,null,null,{"$f":"IF(K198=\" \",\" \",ROWS($K$5:K198))","v":194},{"$f":"DICTIONARY!M222","v":"Passage"},{"$f":"DICTIONARY!O222","v":"गद्यांश"},{"$f":"L198","v":"गद्यांश"},{"$f":"DICTIONARY!P222","v":0},"गद्यांश","गद्यांश"]
[null,null,null,null,null,null,null,null,null,{"$f":"IF(K199=\" \",\" \",ROWS($K$5:K199))","v":195},{"$f":"DICTIONARY!M223","v":"Fertile"},{"$f":"DICTIONARY!O223","v":"उपजाऊ"},"उपजाऊ",{"$f":"DICTIONARY!P223","v":0},"उपजाऊ","उपजाऊ"]
[null,null,null,null,null,null,null,null,null,{"$f":"IF(K200=\" \",\" \",ROWS($K$5:K200))","v":196},{"$f":"DICTIONARY!M224","v":"Fig"},{"$f":"DICTIONARY!O224","v":"अंजीर"},"अंजीर",{"$f":"DICTIONARY!P224","v":"food and drink ( खाद्य और पेय )"},"अंजीर","अंजीर"]
[null,null,null,null,null,null,null,null,null,{"$f":"IF(K201=\" \",\" \",ROWS($K$5:K201))","v":197},{"$f":"DICTIONARY!M225","v":"Finger"},{"$f":"DICTIONARY!O225","v":"अंगुली"},"अंगुली",{"$f":"DICTIONARY!P225","v":"PARTS OF BODY ( शरीर के अंग )"},"अंगुली","अंगुली"]
[null,null,null,null,null,null,null,null,null,{"$f":"IF(K202=\" \",\" \",ROWS($K$5:K202))","v":198},{"$f":"DICTIONARY!M226","v":"Imagination"},{"$f":"DICTIONARY!O226","v":"कल्पना"},"कल्पना",{"$f":"DICTIONARY!P226","v":0},"कल्पना","कल्पना"]
[null,null,null,null,null,null,null,null,null,{"$f":"IF(K203=\" \",\" \",ROWS($K$5:K203))","v":199},{"$f":"DICTIONARY!M227","v":"Childhood"},{"$f":"DICTIONARY!O227","v":"बचपन"},"बचपन",{"$f":"DICTIONARY!P227","v":0},"बचपन","बचपन"]
[null,null,null,null,null,null,null,null,null,{"$f":"IF(K204=\" \",\" \",ROWS($K$5:K204))","v":200},{"$f":"DICTIONARY!M228","v":"Fist"},{"$f":"DICTIONARY!O228","v":"मुठ्ठी"},"मुठ्ठी",{"$f":"DICTIONARY!P228","v":0},"मुठ्ठी","मुठ्ठी"]
[null,null,null,null,null,null,null,null,null,{"$f":"IF(K205=\" \",\" \",ROWS($K$5:K205))","v":201},{"$f":"DICTIONARY!M229","v":"Erstwhile"},{"$f":"DICTIONARY!O229","v":"तत्कालीन"},"तत्कालीन",{"$f":"DICTIONARY!P229","v":0},"तत्कालीन","तत्कालीन"]
[null,null,null,null,null,null,null,null,null,{"$f":"IF(K206=\" \",\" \",ROWS($K$5:K206))","v":202},{"$f":"DICTIONARY!M230","v":"Formal"},{"$f":"DICTIONARY!O230","v":"औपचारिक"},"औपचारिक",{"$f":"DICTIONARY!P230","v":0},"औपचारिक","औपचारिक"]
[null,null,null,null,null,null,null,null,null,{"$f":"IF(K207=\" \",\" \",ROWS($K$5:K207))","v":203},{"$f":"DICTIONARY!M231","v":"Flower"},{"$f":"DICTIONARY!O231","v":"फूल"},"फूल",{"$f":"DICTIONARY!P231","v":"flowers ( फूलो के नाम )"},"फूल","फूल"]
[null,null,null,null,null,null,null,null,null,{"$f":"IF(K208=\" \",\" \",ROWS($K$5:K208))","v":204},{"$f":"DICTIONARY!M232","v":"Foalbasket"},{"$f":"DICTIONARY!O232","v":0},0,{"$f":"DICTIONARY!P232","v":0},0,0]
[null,null,null,null,null,null,null,null,null,{"$f":"IF(K209=\" \",\" \",ROWS($K$5:K209))","v":205},{"$f":"DICTIONARY!M233","v":"Foe"},{"$f":"DICTIONARY!O233","v":"शत्रु,दुश्मन"},"शत्रु,दुश्मन",{"$f":"DICTIONARY!P233","v":0},"शत्रु,दुश्मन","शत्रु,दुश्मन"]
[null,null,null,null,null,null,null,null,null,{"$f":"IF(K210=\" \",\" \",ROWS($K$5:K210))","v":206},{"$f":"DICTIONARY!M234","v":"Food"},{"$f":"DICTIONARY!O234","v":"भोजन"},"भोजन",{"$f":"DICTIONARY!P234","v":"food and drink ( खाद्य और पेय )"},"भोजन","भोजन"]
[null,null,null,null,null,null,null,null,null,{"$f":"IF(K211=\" \",\" \",ROWS($K$5:K211))","v":207},{"$f":"DICTIONARY!M235","v":"Wisdom"},{"$f":"DICTIONARY!O235","v":"बुधिमत्ता"},"बुधिमत्ता",{"$f":"DICTIONARY!P235","v":0},"बुधिमत्ता","बुधिमत्ता"]
[null,null,null,null,null,null,null,null,null,{"$f":"IF(K212=\" \",\" \",ROWS($K$5:K212))","v":208},{"$f":"DICTIONARY!M236","v":"Football"},{"$f":"DICTIONARY!O236","v":"फूटबाल"},"फूटबाल",{"$f":"DICTIONARY!P236","v":0},"फूटबाल","फूटबाल"]
[null,null,null,null,null,null,null,null,null,{"$f":"IF(K213=\" \",\" \",ROWS($K$5:K213))","v":209},{"$f":"DICTIONARY!M237","v":"Footpath"},{"$f":"DICTIONARY!O237","v":"पैदल रास्ता"},"पैदल रास्ता",{"$f":"DICTIONARY!P237","v":0},"पैदल रास्ता","पैदल रास्ता"]
[null,null,null,null,null,null,null,null,null,{"$f":"IF(K214=\" \",\" \",ROWS($K$5:K214))","v":210},{"$f":"DICTIONARY!M238","v":"Innate"},{"$f":"DICTIONARY!O238","v":"जन्मजात"},"जन्मजात",{"$f":"DICTIONARY!P238","v":0},"जन्मजात","जन्मजात"]
[null,null,null,null,null,null,null,null,null,{"$f":"IF(K215=\" \",\" \",ROWS($K$5:K215))","v":211},{"$f":"DICTIONARY!M239","v":"Fork"},{"$f":"DICTIONARY!O239","v":"कांता"},"कांता",{"$f":"DICTIONARY!P239","v":0},"कांता","कांता"]
[null,null,null,null,null,null,null,null,null,{"$f":"IF(K216=\" \",\" \",ROWS($K$5:K216))","v":212},{"$f":"DICTIONARY!M240","v":"Formula"},{"$f":"DICTIONARY!O240","v":"सूत्र"},"सूत्र",{"$f":"DICTIONARY!P240","v":0},"सूत्र","सूत्र"]
[null,null,null,null,null,null,null,null,null,{"$f":"IF(K217=\" \",\" \",ROWS($K$5:K217))","v":213},{"$f":"DICTIONARY!M241","v":"Fox"},{"$f":"DICTIONARY!O241","v":"लोमड़ी"},"लोमड़ी",{"$f":"DICTIONARY!P241","v":"ANIMALS ( पशु )"},"लोमड़ी","लोमड़ी"]
[null,null,null,null,null,null,null,null,null,{"$f":"IF(K218=\" \",\" \",ROWS($K$5:K218))","v":214},{"$f":"DICTIONARY!M242","v":"Monday"},{"$f":"DICTIONARY!O242","v":"सोमवार"},"सोमवार",{"$f":"DICTIONARY!P242","v":"DAYS OF A WEEK ( सप्ताह के दिन )"},"सोमवार","सोमवार"]
[null,null,null,null,null,null,null,null,null,{"$f":"IF(K219=\" \",\" \",ROWS($K$5:K219))","v":215},{"$f":"DICTIONARY!M243","v":"Friend"},{"$f":"DICTIONARY!O243","v":"मित्र,सखा"},"मित्र,सखा",{"$f":"DICTIONARY!P243","v":0},"मित्र,सखा","मित्र,सखा"]
[null,null,null,null,null,null,null,null,null,{"$f":"IF(K220=\" \",\" \",ROWS($K$5:K220))","v":216},{"$f":"DICTIONARY!M244","v":"Specific"},{"$f":"DICTIONARY!O244","v":"विशिष्ट"},"विशिष्ट",{"$f":"DICTIONARY!P244","v":0},"विशिष्ट","विशिष्ट"]
[null,null,null,null,null,null,null,null,null,{"$f":"IF(K221=\" \",\" \",ROWS($K$5:K221))","v":217},{"$f":"DICTIONARY!M245","v":"Fruit"},{"$f":"DICTIONARY!O245","v":"फल"},"फल","FRUITS NAME ( फलो के नाम )","फल","फल"]
[null,null,null,null,null,null,null,null,null,{"$f":"IF(K222=\" \",\" \",ROWS($K$5:K222))","v":218},{"$f":"DICTIONARY!M246","v":"Garbage"},{"$f":"DICTIONARY!O246","v":"कचरा"},"कचरा",{"$f":"DICTIONARY!P246","v":0},"कचरा","कचरा"]
[null,null,null,null,null,null,null,null,null,{"$f":"IF(K223=\" \",\" \",ROWS($K$5:K223))","v":219},{"$f":"DICTIONARY!M247","v":"Garlic"},{"$f":"DICTIONARY!O247","v":"लहसुन"},"लहसुन",{"$f":"DICTIONARY!P247","v":"CORNS AND SPICES ( अन्न और मसाले )"},"लहसुन","लहसुन"]
[null,null,null,null,null,null,null,null,null,{"$f":"IF(K224=\" \",\" \",ROWS($K$5:K224))","v":220},{"$f":"DICTIONARY!M248","v":"Generate"},{"$f":"DICTIONARY!O248","v":"पैदा करना"},"पैदा करना",{"$f":"DICTIONARY!P248","v":0},"पैदा करना","पैदा करना"]
[null,null,null,null,null,null,null,null,null,{"$f":"IF(K225=\" \",\" \",ROWS($K$5:K225))","v":221},{"$f":"DICTIONARY!M249","v":"Self Discipline"},{"$f":"DICTIONARY!O249","v":"स्व अनुशासन"},"स्व अनुशासन",{"$f":"DICTIONARY!P249","v":0},"स्व अनुशासन","स्व अनुशासन"]
[null,null,null,null,null,null,null,null,null,{"$f":"IF(K226=\" \",\" \",ROWS($K$5:K226))","v":222},{"$f":"DICTIONARY!M250","v":"Girl"},{"$f":"DICTIONARY!O250","v":"लड़की"},"लड़की",{"$f":"DICTIONARY!P250","v":0},"लड़की","लड़की"]
[null,null,null,null,null,null,null,null,null,{"$f":"IF(K227=\" \",\" \",ROWS($K$5:K227))","v":223},{"$f":"DICTIONARY!M251","v":"Pilgrim"},{"$f":"DICTIONARY!O251","v":"तीर्थ यात्री"},"तीर्थ यात्री",{"$f":"DICTIONARY!P251","v":0},"तीर्थ यात्री","तीर्थ यात्री"]
[null,null,null,null,null,null,null,null,null,{"$f":"IF(K228=\" \",\" \",ROWS($K$5:K228))","v":224},{"$f":"DICTIONARY!M252","v":"Give Up"},{"$f":"DICTIONARY!O252","v":"छोड़ना"},"छोड़ना",{"$f":"DICTIONARY!P252","v":0},"छोड़ना","छोड़ना"]
[null,null,null,null,null,null,null,null,null,{"$f":"IF(K229=\" \",\" \",ROWS($K$5:K229))","v":225},{"$f":"DICTIONARY!M253","v":"Inherited"},{"$f":"DICTIONARY!O253","v":"वंशानुगत"},"वंशानुगत",{"$f":"DICTIONARY!P253","v":0},"वंशानुगत","वंशानुगत"]
[null,null,null,null,null,null,null,null,null,{"$f":"IF(K230=\" \",\" \",ROWS($K$5:K230))","v":226},{"$f":"DICTIONARY!M254","v":"Kindness"},{"$f":"DICTIONARY!O254","v":"दयालुता"},"दयालुता",{"$f":"DICTIONARY!P254","v":0},"दयालुता","दयालुता"]
[null,null,null,null,null,null,null,null,null,{"$f":"IF(K231=\" \",\" \",ROWS($K$5:K231))","v":227},{"$f":"DICTIONARY!M255","v":"Goat"},{"$f":"DICTIONARY!O255","v":"बकरी"},"बकरी",{"$f":"DICTIONARY!P255","v":"ANIMALS ( पशु )"},"बकरी","बकरी"]
[null,null,null,null,null,null,null,null,null,{"$f":"IF(K232=\" \",\" \",ROWS($K$5:K232))","v":228},{"$f":"DICTIONARY!M256","v":"God"},{"$f":"DICTIONARY!O256","v":"भगवन"},"भगवन",{"$f":"DICTIONARY!P256","v":0},"भगवन","भगवन"]
[null,null,null,null,null,null,null,null,null,{"$f":"IF(K233=\" \",\" \",ROWS($K$5:K233))","v":229},{"$f":"DICTIONARY!M257","v":"Godess"},{"$f":"DICTIONARY!O257","v":"देवी"},"देवी",{"$f":"DICTIONARY!P257","v":0},"देवी","देवी"]
[null,null,null,null,null,null,null,null,null,{"$f":"IF(K234=\" \",\" \",ROWS($K$5:K234))","v":230},{"$f":"DICTIONARY!M258","v":"Tranport"},{"$f":"DICTIONARY!O258","v":"परिवहन"},"परिवहन",{"$f":"DICTIONARY!P258","v":0},"परिवहन","परिवहन"]
[null,null,null,null,null,null,null,null,null,{"$f":"IF(K235=\" \",\" \",ROWS($K$5:K235))","v":231},{"$f":"DICTIONARY!M259","v":"Got Washed Away"},{"$f":"DICTIONARY!O259","v":"बहाकर चली गई"},"बहाकर चली गई",{"$f":"DICTIONARY!P259","v":0},"बहाकर चली गई","बहाकर चली गई"]
[null,null,null,null,null,null,null,null,null,{"$f":"IF(K236=\" \",\" \",ROWS($K$5:K236))","v":232},{"$f":"DICTIONARY!M260","v":"Gradually"},{"$f":"DICTIONARY!O260","v":"धीरे-धीरे"},"धीरे-धीरे",{"$f":"DICTIONARY!P260","v":0},"धीरे-धीरे","धीरे-धीरे"]
[null,null,null,null,null,null,null,null,null,{"$f":"IF(K237=\" \",\" \",ROWS($K$5:K237))","v":233},{"$f":"DICTIONARY!M261","v":"Spread"},{"$f":"DICTIONARY!O261","v":"फैलाना"},"फैलाना",{"$f":"DICTIONARY!P261","v":0},"फैलाना","फैलाना"]
[null,null,null,null,null,null,null,null,null,{"$f":"IF(K238=\" \",\" \",ROWS($K$5:K238))","v":234},{"$f":"DICTIONARY!M262","v":"Grand Father"},{"$f":"DICTIONARY!O262","v":"दादा"},"दादा",{"$f":"DICTIONARY!P262","v":"RELATIONS AND RELATIVES ( सम्बन्ध और सम्बन्धी )"},"दादा","दादा"]
[null,null,null,null,null,null,null,null,null,{"$f":"IF(K239=\" \",\" \",ROWS($K$5:K239))","v":235},{"$f":"DICTIONARY!M263","v":"Grand Mother"},{"$f":"DICTIONARY!O263","v":"दादी"},"दादी",{"$f":"DICTIONARY!P263","v":"RELATIONS AND RELATIVES ( सम्बन्ध और सम्बन्धी )"},"दादी","दादी"]
[null,null,null,null,null,null,null,null,null,{"$f":"IF(K240=\" \",\" \",ROWS($K$5:K240))","v":236},{"$f":"DICTIONARY!M264","v":"Grapes"},{"$f":"DICTIONARY!O264","v":"अंगूर"},"अंगूर","FRUITS NAME ( फलो के नाम )","अंगूर","अंगूर"]
[null,null,null,null,null,null,null,null,null,{"$f":"IF(K241=\" \",\" \",ROWS($K$5:K241))","v":237},{"$f":"DICTIONARY!M265","v":"Imminent"},{"$f":"DICTIONARY!O265","v":"निकट"},"निकट",{"$f":"DICTIONARY!P265","v":0},"निकट","निकट"]
[null,null,null,null,null,null,null,null,null,{"$f":"IF(K242=\" \",\" \",ROWS($K$5:K242))","v":238},{"$f":"DICTIONARY!M266","v":"Greed"},{"$f":"DICTIONARY!O266","v":"लोभ,लालच"},"लोभ,लालच",{"$f":"DICTIONARY!P266","v":0},"लोभ,लालच","लोभ,लालच"]
[null,null,null,null,null,null,null,null,null,{"$f":"IF(K243=\" \",\" \",ROWS($K$5:K243))","v":239},{"$f":"DICTIONARY!M267","v":"Regret"},{"$f":"DICTIONARY!O267","v":"दुःख प्रकट करना"},"दुःख प्रकट करना","FRUITS NAME ( फलो के नाम )","दुःख प्रकट करना","दुःख प्रकट करना"]
[null,null,null,null,null,null,null,null,null,{"$f":"IF(K244=\" \",\" \",ROWS($K$5:K244))","v":240},{"$f":"DICTIONARY!M268","v":"Guest"},{"$f":"DICTIONARY!O268","v":"मेहमान"},"मेहमान",{"$f":"DICTIONARY!P268","v":0},"मेहमान","मेहमान"]
[null,null,null,null,null,null,null,null,null,{"$f":"IF(K245=\" \",\" \",ROWS($K$5:K245))","v":241},{"$f":"DICTIONARY!M269","v":"Gum"},{"$f":"DICTIONARY!O269","v":"मसूड़ा"},"मसूड़ा",{"$f":"DICTIONARY!P269","v":"PARTS OF BODY ( शरीर के अंग )"},"मसूड़ा","मसूड़ा"]
[null,null,null,null,null,null,null,null,null,{"$f":"IF(K246=\" \",\" \",ROWS($K$5:K246))","v":242},{"$f":"DICTIONARY!M270","v":"Habit"},{"$f":"DICTIONARY!O270","v":"आदत"},"आदत",{"$f":"DICTIONARY!P270","v":0},"आदत","आदत"]
[null,null,null,null,null,null,null,null,null,{"$f":"IF(K247=\" \",\" \",ROWS($K$5:K247))","v":243},{"$f":"DICTIONARY!M271","v":"Apologise"},{"$f":"DICTIONARY!O271","v":"क्षमा मांगना"},"क्षमा मांगना",{"$f":"DICTIONARY!P271","v":0},"क्षमा मांगना","क्षमा मांगना"]
[null,null,null,null,null,null,null,null,null,{"$f":"IF(K248=\" \",\" \",ROWS($K$5:K248))","v":244},{"$f":"DICTIONARY!M272","v":"Hair"},{"$f":"DICTIONARY!O272","v":"बाल"},"बाल",{"$f":"DICTIONARY!P272","v":"PARTS OF BODY ( शरीर के अंग )"},"बाल","बाल"]
[null,null,null,null,null,null,null,null,null,{"$f":"IF(K249=\" \",\" \",ROWS($K$5:K249))","v":245},{"$f":"DICTIONARY!M273","v":"Hand"},{"$f":"DICTIONARY!O273","v":"हाथ"},"हाथ",{"$f":"DICTIONARY!P273","v":"PARTS OF BODY ( शरीर के अंग )"},"हाथ","हाथ"]
[null,null,null,null,null,null,null,null,null,{"$f":"IF(K250=\" \",\" \",ROWS($K$5:K250))","v":246},{"$f":"DICTIONARY!M274","v":"Weekend"},{"$f":"DICTIONARY!O274","v":"सप्ताहांत"},"सप्ताहांत",{"$f":"DICTIONARY!P274","v":0},"सप्ताहांत","सप्ताहांत"]
[null,null,null,null,null,null,null,null,null,{"$f":"IF(K251=\" \",\" \",ROWS($K$5:K251))","v":247},{"$f":"DICTIONARY!M275","v":"Hare"},{"$f":"DICTIONARY!O275","v":"खरगोश"},"खरगोश",{"$f":"DICTIONARY!P275","v":"ANIMALS ( पशु )"},"खरगोश","खरगोश"]
[null,null,null,null,null,null,null,null,null,{"$f":"IF(K252=\" \",\" \",ROWS($K$5:K252))","v":248},{"$f":"DICTIONARY!M276","v":"Harmony"},{"$f":"DICTIONARY!O276","v":"सामजंस्य"},"सामजंस्य",{"$f":"DICTIONARY!P276","v":0},"सामजंस्य","सामजंस्य"]
[null,null,null,null,null,null,null,null,null,{"$f":"IF(K253=\" \",\" \",ROWS($K$5:K253))","v":249},{"$f":"DICTIONARY!M277","v":"Confronted"},{"$f":"DICTIONARY!O277","v":"सामना करना"},"सामना करना",{"$f":"DICTIONARY!P277","v":0},"सामना करना","सामना करना"]
[null,null,null,null,null,null,null,null,null,{"$f":"IF(K254=\" \",\" \",ROWS($K$5:K254))","v":250},{"$f":"DICTIONARY!M278","v":"Hatred"},{"$f":"DICTIONARY!O278","v":"नफ़रत"},"नफ़रत",{"$f":"DICTIONARY!P278","v":0},"नफ़रत","नफ़रत"]
[null,null,null,null,null,null,null,null,null,{"$f":"IF(K255=\" \",\" \",ROWS($K$5:K255))","v":251},{"$f":"DICTIONARY!M279","v":"Hawk"},{"$f":"DICTIONARY!O279","v":"बाज"},"बाज",{"$f":"DICTIONARY!P279","v":"BIRDS  ( पक्षियों के नाम  )"},"बाज","बाज"]
[null,null,null,null,null,null,null,null,null,{"$f":"IF(K256=\" \",\" \",ROWS($K$5:K256))","v":252},{"$f":"DICTIONARY!M280","v":"Seagull"},{"$f":"DICTIONARY!O280","v":"समुद्री पक्षी"},"समुद्री पक्षी",{"$f":"DICTIONARY!P280","v":0},"समुद्री पक्षी","समुद्री पक्षी"]
[null,null,null,null,null,null,null,null,null,{"$f":"IF(K257=\" \",\" \",ROWS($K$5:K257))","v":253},{"$f":"DICTIONARY!M281","v":"Head"},{"$f":"DICTIONARY!O281","v":"सिर"},"सिर",{"$f":"DICTIONARY!P281","v":"PARTS OF BODY ( शरीर के अंग )"},"सिर","सिर"]
[null,null,null,null,null,null,null,null,null,{"$f":"IF(K258=\" \",\" \",ROWS($K$5:K258))","v":254},{"$f":"DICTIONARY!M282","v":"Health"},{"$f":"DICTIONARY!O282","v":"स्वास्थ्य"},"स्वास्थ्य",{"$f":"DICTIONARY!P282","v":0},"स्वास्थ्य","स्वास्थ्य"]
[null,null,null,null,null,null,null,null,null,{"$f":"IF(K259=\" \",\" \",ROWS($K$5:K259))","v":255},{"$f":"DICTIONARY!M283","v":"Permission"},{"$f":"DICTIONARY!O283","v":"अनुमति"},"अनुमति",{"$f":"DICTIONARY!P283","v":0},"अनुमति","अनुमति"]
[null,null,null,null,null,null,null,null,null,{"$f":"IF(K260=\" \",\" \",ROWS($K$5:K260))","v":256},{"$f":"DICTIONARY!M284","v":"Optimism"},{"$f":"DICTIONARY!O284","v":"आशावादी"},"आशावादी",{"$f":"DICTIONARY!P284","v":0},"आशावादी","आशावादी"]
[null,null,null,null,null,null,null,null,null,{"$f":"IF(K261=\" \",\" \",ROWS($K$5:K261))","v":257},{"$f":"DICTIONARY!M285","v":"Longing"},{"$f":"DICTIONARY!O285","v":"इच्छा"},"इच्छा",{"$f":"DICTIONARY!P285","v":0},{"$f":"M261","v":"इच्छा"},{"$f":"L261","v":"इच्छा"}]
[null,null,null,null,null,null,null,null,null,{"$f":"IF(K262=\" \",\" \",ROWS($K$5:K262))","v":258},{"$f":"DICTIONARY!M286","v":"Heir"},{"$f":"DICTIONARY!O286","v":"वारिस"},{"$f":"L262","v":"वारिस"},{"$f":"DICTIONARY!P286","v":"RELATIONS AND RELATIVES ( सम्बन्ध और सम्बन्धी )"},"वारिस","वारिस"]
[null,null,null,null,null,null,null,null,null,{"$f":"IF(K263=\" \",\" \",ROWS($K$5:K263))","v":259},{"$f":"DICTIONARY!M287","v":"Hen"},{"$f":"DICTIONARY!O287","v":"मुर्गी"},"मुर्गी",{"$f":"DICTIONARY!P287","v":"BIRDS  ( पक्षियों के नाम  )"},"मुर्गी","मुर्गी"]
[null,null,null,null,null,null,null,null,null,{"$f":"IF(K264=\" \",\" \",ROWS($K$5:K264))","v":260},{"$f":"DICTIONARY!M288","v":"Horrible"},{"$f":"DICTIONARY!O288","v":"भयानक"},"भयानक",{"$f":"DICTIONARY!P288","v":0},"भयानक","भयानक"]
[null,null,null,null,null,null,null,null,null,{"$f":"IF(K265=\" \",\" \",ROWS($K$5:K265))","v":261},{"$f":"DICTIONARY!M289","v":"Honest"},{"$f":"DICTIONARY!O289","v":"ईमानदार"},"ईमानदार",{"$f":"DICTIONARY!P289","v":0},"ईमानदार","ईमानदार"]
[null,null,null,null,null,null,null,null,null,{"$f":"IF(K266=\" \",\" \",ROWS($K$5:K266))","v":262},{"$f":"DICTIONARY!M290","v":"Horse"},{"$f":"DICTIONARY!O290","v":"घोडा"},"घोडा",{"$f":"DICTIONARY!P290","v":0},"घोडा","घोडा"]
[null,null,null,null,null,null,null,null,null,{"$f":"IF(K267=\" \",\" \",ROWS($K$5:K267))","v":263},{"$f":"DICTIONARY!M291","v":"Host"},{"$f":"DICTIONARY!O291","v":"यजमान"},"यजमान",{"$f":"DICTIONARY!P291","v":0},"यजमान","यजमान"]
[null,null,null,null,null,null,null,null,null,{"$f":"IF(K268=\" \",\" \",ROWS($K$5:K268))","v":264},{"$f":"DICTIONARY!M292","v":"Hot Sun"},{"$f":"DICTIONARY!O292","v":"तेज धुप"},"तेज धुप",{"$f":"DICTIONARY!P292","v":0},"तेज धुप","तेज धुप"]
[null,null,null,null,null,null,null,null,null,{"$f":"IF(K269=\" \",\" \",ROWS($K$5:K269))","v":265},{"$f":"DICTIONARY!M293","v":"Senseless"},{"$f":"DICTIONARY!O293","v":"समझरहित"},"समझरहित",{"$f":"DICTIONARY!P293","v":0},"समझरहित","समझरहित"]
[null,null,null,null,null,null,null,null,null,{"$f":"IF(K270=\" \",\" \",ROWS($K$5:K270))","v":266},{"$f":"DICTIONARY!M294","v":"How"},{"$f":"DICTIONARY!O294","v":"कैसे"},"कैसे",{"$f":"DICTIONARY!P294","v":"QUESTIONS WORDS  ( प्रश्न वाचक शब्द )"},"कैसे","कैसे"]
[null,null,null,null,null,null,null,null,null,{"$f":"IF(K271=\" \",\" \",ROWS($K$5:K271))","v":267},{"$f":"DICTIONARY!M295","v":"How Many"},{"$f":"DICTIONARY!O295","v":"कितने"},"कितने",{"$f":"DICTIONARY!P295","v":"QUESTIONS WORDS  ( प्रश्न वाचक शब्द )"},"कितने","कितने"]
[null,null,null,null,null,null,null,null,null,{"$f":"IF(K272=\" \",\" \",ROWS($K$5:K272))","v":268},{"$f":"DICTIONARY!M296","v":"How Much"},{"$f":"DICTIONARY!O296","v":"कितने"},"कितने",{"$f":"DICTIONARY!P296","v":"QUESTIONS WORDS  ( प्रश्न वाचक शब्द )"},"कितने","कितने"]
[null,null,null,null,null,null,null,null,null,{"$f":"IF(K273=\" \",\" \",ROWS($K$5:K273))","v":269},{"$f":"DICTIONARY!M297","v":"Dream"},{"$f":"DICTIONARY!O297","v":"सपना"},"सपना",{"$f":"DICTIONARY!P297","v":0},"सपना","सपना"]
[null,null,null,null,null,null,null,null,null,{"$f":"IF(K274=\" \",\" \",ROWS($K$5:K274))","v":270},{"$f":"DICTIONARY!M298","v":"Hungry"},{"$f":"DICTIONARY!O298","v":"भूखा"},"भूखा",{"$f":"DICTIONARY!P298","v":0},"भूखा","भूखा"]
[null,null,null,null,null,null,null,null,null,{"$f":"IF(K275=\" \",\" \",ROWS($K$5:K275))","v":271},{"$f":"DICTIONARY!M299","v":"Husband"},{"$f":"DICTIONARY!O299","v":"पति"},"पति",{"$f":"DICTIONARY!P299","v":"RELATIONS AND RELATIVES ( सम्बन्ध और सम्बन्धी )"},"पति","पति"]
[null,null,null,null,null,null,null,null,null,{"$f":"IF(K276=\" \",\" \",ROWS($K$5:K276))","v":272},{"$f":"DICTIONARY!M300","v":"Wild"},{"$f":"DICTIONARY!O300","v":"जंगली"},"जंगली",{"$f":"DICTIONARY!P300","v":0},"जंगली","जंगली"]
[null,null,null,null,null,null,null,null,null,{"$f":"IF(K277=\" \",\" \",ROWS($K$5:K277))","v":273},{"$f":"DICTIONARY!M301","v":"Perspiration"},{"$f":"DICTIONARY!O301","v":"पसीना"},"पसीना",{"$f":"DICTIONARY!P301","v":0},"पसीना","पसीना"]
[null,null,null,null,null,null,null,null,null,{"$f":"IF(K278=\" \",\" \",ROWS($K$5:K278))","v":274},{"$f":"DICTIONARY!M302","v":"Ice Cream"},{"$f":"DICTIONARY!O302","v":"कुल्फी"},"कुल्फी",{"$f":"DICTIONARY!P302","v":0},"कुल्फी","कुल्फी"]
[null,null,null,null,null,null,null,null,null,{"$f":"IF(K279=\" \",\" \",ROWS($K$5:K279))","v":275},{"$f":"DICTIONARY!M303","v":"Improve"},{"$f":"DICTIONARY!O303","v":"सुधार करना"},"सुधार करना",{"$f":"DICTIONARY!P303","v":0},"सुधार करना","सुधार करना"]
[null,null,null,null,null,null,null,null,null,{"$f":"IF(K280=\" \",\" \",ROWS($K$5:K280))","v":276},{"$f":"DICTIONARY!M304","v":"Misery"},{"$f":"DICTIONARY!O304","v":"व्यथा"},"व्यथा",{"$f":"DICTIONARY!P304","v":0},"व्यथा","व्यथा"]
[null,null,null,null,null,null,null,null,null,{"$f":"IF(K281=\" \",\" \",ROWS($K$5:K281))","v":277},{"$f":"DICTIONARY!M305","v":"Extraordinary"},{"$f":"DICTIONARY!O305","v":"असाधारण"},"असाधारण",{"$f":"DICTIONARY!P305","v":0},"असाधारण","असाधारण"]
[null,null,null,null,null,null,null,null,null,{"$f":"IF(K282=\" \",\" \",ROWS($K$5:K282))","v":278},{"$f":"DICTIONARY!M306","v":"Exclaimed"},{"$f":"DICTIONARY!O306","v":"चिल्लाया"},"चिल्लाया",{"$f":"DICTIONARY!P306","v":0},"चिल्लाया","चिल्लाया"]
[null,null,null,null,null,null,null,null,null,{"$f":"IF(K283=\" \",\" \",ROWS($K$5:K283))","v":279},{"$f":"DICTIONARY!M307","v":"Misterious"},{"$f":"DICTIONARY!O307","v":"रहस्यमयी"},"रहस्यमयी",{"$f":"DICTIONARY!P307","v":0},"रहस्यमयी","रहस्यमयी"]
[null,null,null,null,null,null,null,null,null,{"$f":"IF(K284=\" \",\" \",ROWS($K$5:K284))","v":280},{"$f":"DICTIONARY!M308","v":"Ink Pot"},{"$f":"DICTIONARY!O308","v":"स्याई दवात"},"स्याई दवात",{"$f":"DICTIONARY!P308","v":"SCHOOL RELATIVE  ( विद्यालय सम्बन्धी  )"},"स्याई दवात","स्याई दवात"]
[null,null,null,null,null,null,null,null,null,{"$f":"IF(K285=\" \",\" \",ROWS($K$5:K285))","v":281},{"$f":"DICTIONARY!M309","v":"Insert"},{"$f":"DICTIONARY!O309","v":"घुसाना"},"घुसाना",{"$f":"DICTIONARY!P309","v":0},"घुसाना","घुसाना"]
[null,null,null,null,null,null,null,null,null,{"$f":"IF(K286=\" \",\" \",ROWS($K$5:K286))","v":282},{"$f":"DICTIONARY!M310","v":"Invited"},{"$f":"DICTIONARY!O310","v":"आमंत्रित किया"},"आमंत्रित किया",{"$f":"DICTIONARY!P310","v":0},"आमंत्रित किया","आमंत्रित किया"]
[null,null,null,null,null,null,null,null,null,{"$f":"IF(K287=\" \",\" \",ROWS($K$5:K287))","v":283},{"$f":"DICTIONARY!M311","v":"Steadily"},{"$f":"DICTIONARY!O311","v":"लगातार"},"लगातार",{"$f":"DICTIONARY!P311","v":0},"लगातार","लगातार"]
[null,null,null,null,null,null,null,null,null,{"$f":"IF(K288=\" \",\" \",ROWS($K$5:K288))","v":284},{"$f":"DICTIONARY!M312","v":"Jackal"},{"$f":"DICTIONARY!O312","v":"सियार"},"सियार",{"$f":"DICTIONARY!P312","v":"ANIMALS ( पशु )"},"सियार","सियार"]
[null,null,null,null,null,null,null,null,null,{"$f":"IF(K289=\" \",\" \",ROWS($K$5:K289))","v":285},{"$f":"DICTIONARY!M313","v":"Conciet"},{"$f":"DICTIONARY!O313","v":"अंहकार"},"अंहकार",{"$f":"DICTIONARY!P313","v":0},"अंहकार","अंहकार"]
[null,null,null,null,null,null,null,null,null,{"$f":"IF(K290=\" \",\" \",ROWS($K$5:K290))","v":286},{"$f":"DICTIONARY!M314","v":"Nuisance"},{"$f":"DICTIONARY!O314","v":"बकवास"},"बकवास",{"$f":"DICTIONARY!P314","v":0},"बकवास","बकवास"]
[null,null,null,null,null,null,null,null,null,{"$f":"IF(K291=\" \",\" \",ROWS($K$5:K291))","v":287},{"$f":"DICTIONARY!M315","v":"Jasmin"},{"$f":"DICTIONARY!O315","v":"चमेली"},"चमेली",{"$f":"DICTIONARY!P315","v":"flowers ( फूलो के नाम )"},"चमेली","चमेली"]
[null,null,null,null,null,null,null,null,null,{"$f":"IF(K292=\" \",\" \",ROWS($K$5:K292))","v":288},{"$f":"DICTIONARY!M316","v":"Curse"},{"$f":"DICTIONARY!O316","v":"कोसना,श्राप देना"},"कोसना,श्राप देना",{"$f":"DICTIONARY!P316","v":0},"कोसना,श्राप देना","कोसना,श्राप देना"]
[null,null,null,null,null,null,null,null,null,{"$f":"IF(K293=\" \",\" \",ROWS($K$5:K293))","v":289},{"$f":"DICTIONARY!M317","v":"Damp"},{"$f":"DICTIONARY!O317","v":"गीला"},"गीला",{"$f":"DICTIONARY!P317","v":0},"गीला","गीला"]
[null,null,null,null,null,null,null,null,null,{"$f":"IF(K294=\" \",\" \",ROWS($K$5:K294))","v":290},{"$f":"DICTIONARY!M318","v":"Juice"},{"$f":"DICTIONARY!O318","v":"रस"},"रस",{"$f":"DICTIONARY!P318","v":0},"रस","रस"]
[null,null,null,null,null,null,null,null,null,{"$f":"IF(K295=\" \",\" \",ROWS($K$5:K295))","v":291},{"$f":"DICTIONARY!M319","v":"Sin"},{"$f":"DICTIONARY!O319","v":"पाप"},"पाप",{"$f":"DICTIONARY!P319","v":0},"पाप","पाप"]
[null,null,null,null,null,null,null,null,null,{"$f":"IF(K296=\" \",\" \",ROWS($K$5:K296))","v":292},{"$f":"DICTIONARY!M320","v":"Urge"},{"$f":"DICTIONARY!O320","v":"तीर्व इच्छा"},"तीर्व इच्छा",{"$f":"DICTIONARY!P320","v":0},"तीर्व इच्छा","तीर्व इच्छा"]
[null,null,null,null,null,null,null,null,null,{"$f":"IF(K297=\" \",\" \",ROWS($K$5:K297))","v":293},{"$f":"DICTIONARY!M321","v":"Junior"},{"$f":"DICTIONARY!O321","v":"कनिष्क"},"कनिष्क",{"$f":"DICTIONARY!P321","v":"OCCUPATIONS AND PROFESSION (व्यवसाय और पेशा )"},"कनिष्क","कनिष्क"]
[null,null,null,null,null,null,null,null,null,{"$f":"IF(K298=\" \",\" \",ROWS($K$5:K298))","v":294},{"$f":"DICTIONARY!M322","v":"Destiny"},{"$f":"DICTIONARY!O322","v":"भाग्य"},"भाग्य",{"$f":"DICTIONARY!P322","v":0},"भाग्य","भाग्य"]
[null,null,null,null,null,null,null,null,null,{"$f":"IF(K299=\" \",\" \",ROWS($K$5:K299))","v":295},{"$f":"DICTIONARY!M323","v":"Pleasant"},{"$f":"DICTIONARY!O323","v":"सुखद"},"सुखद",{"$f":"DICTIONARY!P323","v":0},"सुखद","सुखद"]
[null,null,null,null,null,null,null,null,null,{"$f":"IF(K300=\" \",\" \",ROWS($K$5:K300))","v":296},{"$f":"DICTIONARY!M324","v":"Kidney"},{"$f":"DICTIONARY!O324","v":"मूत्राशय"},"मूत्राशय",{"$f":"DICTIONARY!P324","v":"PARTS OF BODY ( शरीर के अंग )"},"मूत्राशय","मूत्राशय"]
[null,null,null,null,null,null,null,null,null,{"$f":"IF(K301=\" \",\" \",ROWS($K$5:K301))","v":297},{"$f":"DICTIONARY!M325","v":"Kidney Bean"},{"$f":"DICTIONARY!O325","v":"मूंग"},"मूंग",{"$f":"DICTIONARY!P325","v":"food and drink ( खाद्य और पेय )"},"मूंग","मूंग"]
[null,null,null,null,null,null,null,null,null,{"$f":"IF(K302=\" \",\" \",ROWS($K$5:K302))","v":298},{"$f":"DICTIONARY!M326","v":"Kill"},{"$f":"DICTIONARY!O326","v":"मारना"},"मारना",{"$f":"DICTIONARY!P326","v":0},"मारना","मारना"]
[null,null,null,null,null,null,null,null,null,{"$f":"IF(K303=\" \",\" \",ROWS($K$5:K303))","v":299},{"$f":"DICTIONARY!M327","v":"Kingdom"},{"$f":"DICTIONARY!O327","v":"साम्राज्य"},"साम्राज्य",{"$f":"DICTIONARY!P327","v":0},"साम्राज्य","साम्राज्य"]
[null,null,null,null,null,null,null,null,null,{"$f":"IF(K304=\" \",\" \",ROWS($K$5:K304))","v":300},{"$f":"DICTIONARY!M328","v":"Kitchen"},{"$f":"DICTIONARY!O328","v":"रसोईघर"},"रसोईघर",{"$f":"DICTIONARY!P328","v":0},"रसोईघर","रसोईघर"]
[null,null,null,null,null,null,null,null,null,{"$f":"IF(K305=\" \",\" \",ROWS($K$5:K305))","v":301},{"$f":"DICTIONARY!M329","v":"Kite"},{"$f":"DICTIONARY!O329","v":"पतंग"},"पतंग",{"$f":"DICTIONARY!P329","v":0},"पतंग","पतंग"]
[null,null,null,null,null,null,null,null,null,{"$f":"IF(K306=\" \",\" \",ROWS($K$5:K306))","v":302},{"$f":"DICTIONARY!M330","v":"Polite"},{"$f":"DICTIONARY!O330","v":"विनम्र"},"विनम्र",{"$f":"DICTIONARY!P330","v":0},"विनम्र","विनम्र"]
[null,null,null,null,null,null,null,null,null,{"$f":"IF(K307=\" \",\" \",ROWS($K$5:K307))","v":303},{"$f":"DICTIONARY!M331","v":"Affirmative"},{"$f":"DICTIONARY!O331","v":"सकारात्मक"},"सकारात्मक",{"$f":"DICTIONARY!P331","v":0},"सकारात्मक","सकारात्मक"]
[null,null,null,null,null,null,null,null,null,{"$f":"IF(K308=\" \",\" \",ROWS($K$5:K308))","v":304},{"$f":"DICTIONARY!M332","v":"Knee"},{"$f":"DICTIONARY!O332","v":"घुटना"},"घुटना",{"$f":"DICTIONARY!P332","v":"PARTS OF BODY ( शरीर के अंग )"},"घुटना","घुटना"]
[null,null,null,null,null,null,null,null,null,{"$f":"IF(K309=\" \",\" \",ROWS($K$5:K309))","v":305},{"$f":"DICTIONARY!M333","v":"Feat"},{"$f":"DICTIONARY!O333","v":"उपलब्धि"},"उपलब्धि",{"$f":"DICTIONARY!P333","v":0},"उपलब्धि","उपलब्धि"]
[null,null,null,null,null,null,null,null,null,{"$f":"IF(K310=\" \",\" \",ROWS($K$5:K310))","v":306},{"$f":"DICTIONARY!M334","v":"Knowledge"},{"$f":"DICTIONARY!O334","v":"ज्ञान"},"ज्ञान",{"$f":"DICTIONARY!P334","v":0},"ज्ञान","ज्ञान"]
[null,null,null,null,null,null,null,null,null,{"$f":"IF(K311=\" \",\" \",ROWS($K$5:K311))","v":307},{"$f":"DICTIONARY!M335","v":"Ladyfinger"},{"$f":"DICTIONARY!O335","v":"भिन्डी"},"भिन्डी",{"$f":"DICTIONARY!P335","v":0},"भिन्डी","भिन्डी"]
[null,null,null,null,null,null,null,null,null,{"$f":"IF(K312=\" \",\" \",ROWS($K$5:K312))","v":308},{"$f":"DICTIONARY!M336","v":"Lamb"},{"$f":"DICTIONARY!O336","v":"मेमना"},"मेमना",{"$f":"DICTIONARY!P336","v":0},"मेमना","मेमना"]
[null,null,null,null,null,null,null,null,null,{"$f":"IF(K313=\" \",\" \",ROWS($K$5:K313))","v":309},{"$f":"DICTIONARY!M337","v":"Amazing"},{"$f":"DICTIONARY!O337","v":"शानदार"},"शानदार",{"$f":"DICTIONARY!P337","v":0},"शानदार","शानदार"]
[null,null,null,null,null,null,null,null,null,{"$f":"IF(K314=\" \",\" \",ROWS($K$5:K314))","v":310},{"$f":"DICTIONARY!M338","v":"Landowner"},{"$f":"DICTIONARY!O338","v":"जमीदार"},"जमीदार",{"$f":"DICTIONARY!P338","v":"OCCUPATIONS AND PROFESSION (व्यवसाय और पेशा )"},"जमीदार","जमीदार"]
[null,null,null,null,null,null,null,null,null,{"$f":"IF(K315=\" \",\" \",ROWS($K$5:K315))","v":311},{"$f":"DICTIONARY!M339","v":"Language"},{"$f":"DICTIONARY!O339","v":"भाषा"},"भाषा",{"$f":"DICTIONARY!P339","v":0},"भाषा","भाषा"]
[null,null,null,null,null,null,null,null,null,{"$f":"IF(K316=\" \",\" \",ROWS($K$5:K316))","v":312},{"$f":"DICTIONARY!M340","v":"Physically"},{"$f":"DICTIONARY!O340","v":"शारीरिक"},"शारीरिक",{"$f":"DICTIONARY!P340","v":0},"शारीरिक","शारीरिक"]
[null,null,null,null,null,null,null,null,null,{"$f":"IF(K317=\" \",\" \",ROWS($K$5:K317))","v":313},{"$f":"DICTIONARY!M341","v":"Lap"},{"$f":"DICTIONARY!O341","v":"गोद"},"गोद",{"$f":"DICTIONARY!P341","v":0},"गोद","गोद"]
[null,null,null,null,null,null,null,null,null,{"$f":"IF(K318=\" \",\" \",ROWS($K$5:K318))","v":314},{"$f":"DICTIONARY!M342","v":"Culmination"},{"$f":"DICTIONARY!O342","v":"चरमबिंदु"},"चरमबिंदु",{"$f":"DICTIONARY!P342","v":0},"चरमबिंदु","चरमबिंदु"]
[null,null,null,null,null,null,null,null,null,{"$f":"IF(K319=\" \",\" \",ROWS($K$5:K319))","v":315},{"$f":"DICTIONARY!M343","v":"Lazier"},{"$f":"DICTIONARY!O343","v":"                     "},"                     ",{"$f":"DICTIONARY!P343","v":0},"                     ","                     "]
[null,null,null,null,null,null,null,null,null,{"$f":"IF(K320=\" \",\" \",ROWS($K$5:K320))","v":316},{"$f":"DICTIONARY!M344","v":"Lazy"},{"$f":"DICTIONARY!O344","v":"आलसी"},"आलसी",{"$f":"DICTIONARY!P344","v":0},"आलसी","आलसी"]
[null,null,null,null,null,null,null,null,null,{"$f":"IF(K321=\" \",\" \",ROWS($K$5:K321))","v":317},{"$f":"DICTIONARY!M345","v":"Learning"},{"$f":"DICTIONARY!O345","v":"सिखाते हुए"},"सिखाते हुए",{"$f":"DICTIONARY!P345","v":0},"सिखाते हुए","सिखाते हुए"]
[null,null,null,null,null,null,null,null,null,{"$f":"IF(K322=\" \",\" \",ROWS($K$5:K322))","v":318},{"$f":"DICTIONARY!M346","v":"Leave "},{"$f":"DICTIONARY!O346","v":"छोड़ना"},"छोड़ना",{"$f":"DICTIONARY!P346","v":0},"छोड़ना","छोड़ना"]
[null,null,null,null,null,null,null,null,null,{"$f":"IF(K323=\" \",\" \",ROWS($K$5:K323))","v":319},{"$f":"DICTIONARY!M347","v":"Annals"},{"$f":"DICTIONARY!O347","v":"इतिहस"},"इतिहस",{"$f":"DICTIONARY!P347","v":"SCHOOL RELATIVE  ( विद्यालय सम्बन्धी  )"},"इतिहस","इतिहस"]
[null,null,null,null,null,null,null,null,null,{"$f":"IF(K324=\" \",\" \",ROWS($K$5:K324))","v":320},{"$f":"DICTIONARY!M348","v":"Leg"},{"$f":"DICTIONARY!O348","v":"पैर"},"पैर",{"$f":"DICTIONARY!P348","v":"PARTS OF BODY ( शरीर के अंग )"},"पैर","पैर"]
[null,null,null,null,null,null,null,null,null,{"$f":"IF(K325=\" \",\" \",ROWS($K$5:K325))","v":321},{"$f":"DICTIONARY!M349","v":"Lemon"},{"$f":"DICTIONARY!O349","v":"नींबू"},"नींबू",{"$f":"DICTIONARY!P349","v":"VEGETABLES ( सब्जियां )"},{"$f":"M325","v":"नींबू"},{"$f":"L325","v":"नींबू"}]
[null,null,null,null,null,null,null,null,null,{"$f":"IF(K326=\" \",\" \",ROWS($K$5:K326))","v":322},{"$f":"DICTIONARY!M350","v":"Reference"},{"$f":"DICTIONARY!O350","v":"सन्दर्भ"},{"$f":"L326","v":"सन्दर्भ"},{"$f":"DICTIONARY!P350","v":0},"सन्दर्भ","सन्दर्भ"]
[null,null,null,null,null,null,null,null,null,{"$f":"IF(K327=\" \",\" \",ROWS($K$5:K327))","v":323},{"$f":"DICTIONARY!M351","v":"Lid"},{"$f":"DICTIONARY!O351","v":"ढक्कन"},"ढक्कन",{"$f":"DICTIONARY!P351","v":0},"ढक्कन","ढक्कन"]
[null,null,null,null,null,null,null,null,null,{"$f":"IF(K328=\" \",\" \",ROWS($K$5:K328))","v":324},{"$f":"DICTIONARY!M352","v":"Explanation"},{"$f":"DICTIONARY!O352","v":"व्याख्या"},"व्याख्या",{"$f":"DICTIONARY!P352","v":0},"व्याख्या","व्याख्या"]
[null,null,null,null,null,null,null,null,null,{"$f":"IF(K329=\" \",\" \",ROWS($K$5:K329))","v":325},{"$f":"DICTIONARY!M353","v":"Lion"},{"$f":"DICTIONARY!O353","v":"शेर"},"शेर",{"$f":"DICTIONARY!P353","v":"ANIMALS ( पशु )"},"शेर","शेर"]
[null,null,null,null,null,null,null,null,null,{"$f":"IF(K330=\" \",\" \",ROWS($K$5:K330))","v":326},{"$f":"DICTIONARY!M354","v":"Lip"},{"$f":"DICTIONARY!O354","v":"होठ"},"होठ",{"$f":"DICTIONARY!P354","v":"PARTS OF BODY ( शरीर के अंग )"},"होठ","होठ"]
[null,null,null,null,null,null,null,null,null,{"$f":"IF(K331=\" \",\" \",ROWS($K$5:K331))","v":327},{"$f":"DICTIONARY!M355","v":"Stanza"},{"$f":"DICTIONARY!O355","v":"पद्यांश"},"पद्यांश",{"$f":"DICTIONARY!P355","v":0},"पद्यांश","पद्यांश"]
[null,null,null,null,null,null,null,null,null,{"$f":"IF(K332=\" \",\" \",ROWS($K$5:K332))","v":328},{"$f":"DICTIONARY!M356","v":"Little Finger"},{"$f":"DICTIONARY!O356","v":"कानी अंगुली"},"कानी अंगुली",{"$f":"DICTIONARY!P356","v":"PARTS OF BODY ( शरीर के अंग )"},"कानी अंगुली","कानी अंगुली"]
[null,null,null,null,null,null,null,null,null,{"$f":"IF(K333=\" \",\" \",ROWS($K$5:K333))","v":329},{"$f":"DICTIONARY!M357","v":"Lock"},{"$f":"DICTIONARY!O357","v":"ताला"},"ताला",{"$f":"DICTIONARY!P357","v":0},"ताला","ताला"]
[null,null,null,null,null,null,null,null,null,{"$f":"IF(K334=\" \",\" \",ROWS($K$5:K334))","v":330},{"$f":"DICTIONARY!M358","v":"Look"},{"$f":"DICTIONARY!O358","v":"देखना"},"देखना",{"$f":"DICTIONARY!P358","v":0},"देखना","देखना"]
[null,null,null,null,null,null,null,null,null,{"$f":"IF(K335=\" \",\" \",ROWS($K$5:K335))","v":331},{"$f":"DICTIONARY!M359","v":"Maintain"},{"$f":"DICTIONARY!O359","v":"बनाए रखना,रखरखाव"},"बनाए रखना,रखरखाव",{"$f":"DICTIONARY!P359","v":0},"बनाए रखना,रखरखाव","बनाए रखना,रखरखाव"]
[null,null,null,null,null,null,null,null,null,{"$f":"IF(K336=\" \",\" \",ROWS($K$5:K336))","v":332},{"$f":"DICTIONARY!M360","v":"Probabbly"},{"$f":"DICTIONARY!O360","v":"शायद"},"शायद",{"$f":"DICTIONARY!P360","v":0},"शायद","शायद"]
[null,null,null,null,null,null,null,null,null,{"$f":"IF(K337=\" \",\" \",ROWS($K$5:K337))","v":333},{"$f":"DICTIONARY!M361","v":"Man"},{"$f":"DICTIONARY!O361","v":"आदमी"},"आदमी",{"$f":"DICTIONARY!P361","v":0},"आदमी","आदमी"]
[null,null,null,null,null,null,null,null,null,{"$f":"IF(K338=\" \",\" \",ROWS($K$5:K338))","v":334},{"$f":"DICTIONARY!M362","v":"Mango"},{"$f":"DICTIONARY!O362","v":"आम"},"आम","FRUITS NAME ( फलो के नाम )","आम","आम"]
[null,null,null,null,null,null,null,null,null,{"$f":"IF(K339=\" \",\" \",ROWS($K$5:K339))","v":335},{"$f":"DICTIONARY!M363","v":"Manure Pits"},{"$f":"DICTIONARY!O363","v":"खाद के खड्डे"},"खाद के खड्डे",{"$f":"DICTIONARY!P363","v":0},"खाद के खड्डे","खाद के खड्डे"]
[null,null,null,null,null,null,null,null,null,{"$f":"IF(K340=\" \",\" \",ROWS($K$5:K340))","v":336},{"$f":"DICTIONARY!M364","v":"Many"},{"$f":"DICTIONARY!O364","v":"बहुत"},"बहुत",{"$f":"DICTIONARY!P364","v":0},"बहुत","बहुत"]
[null,null,null,null,null,null,null,null,null,{"$f":"IF(K341=\" \",\" \",ROWS($K$5:K341))","v":337},{"$f":"DICTIONARY!M365","v":"Interior"},{"$f":"DICTIONARY!O365","v":"आंतरिक"},"आंतरिक",{"$f":"DICTIONARY!P365","v":0},"आंतरिक","आंतरिक"]
[null,null,null,null,null,null,null,null,null,{"$f":"IF(K342=\" \",\" \",ROWS($K$5:K342))","v":338},{"$f":"DICTIONARY!M366","v":"Mare"},{"$f":"DICTIONARY!O366","v":"घोड़ी"},"घोड़ी",{"$f":"DICTIONARY!P366","v":0},"घोड़ी","घोड़ी"]
[null,null,null,null,null,null,null,null,null,{"$f":"IF(K343=\" \",\" \",ROWS($K$5:K343))","v":339},{"$f":"DICTIONARY!M367","v":"Imitation"},{"$f":"DICTIONARY!O367","v":"अनुकरण"},"अनुकरण",{"$f":"DICTIONARY!P367","v":0},"अनुकरण","अनुकरण"]
[null,null,null,null,null,null,null,null,null,{"$f":"IF(K344=\" \",\" \",ROWS($K$5:K344))","v":340},{"$f":"DICTIONARY!M368","v":"Familiar"},{"$f":"DICTIONARY!O368","v":"परिचित"},"परिचित",{"$f":"DICTIONARY!P368","v":0},"परिचित","परिचित"]
[null,null,null,null,null,null,null,null,null,{"$f":"IF(K345=\" \",\" \",ROWS($K$5:K345))","v":341},{"$f":"DICTIONARY!M369","v":"Material"},{"$f":"DICTIONARY!O369","v":"सामग्री"},"सामग्री",{"$f":"DICTIONARY!P369","v":0},"सामग्री","सामग्री"]
[null,null,null,null,null,null,null,null,null,{"$f":"IF(K346=\" \",\" \",ROWS($K$5:K346))","v":342},{"$f":"DICTIONARY!M370","v":"Maternal"},{"$f":"DICTIONARY!O370","v":"मामा"},"मामा",{"$f":"DICTIONARY!P370","v":"RELATIONS AND RELATIVES ( सम्बन्ध और सम्बन्धी )"},"मामा","मामा"]
[null,null,null,null,null,null,null,null,null,{"$f":"IF(K347=\" \",\" \",ROWS($K$5:K347))","v":343},{"$f":"DICTIONARY!M371","v":"Sympathy"},{"$f":"DICTIONARY!O371","v":"हमदर्दी,सहानुभूति"},"हमदर्दी,सहानुभूति",{"$f":"DICTIONARY!P371","v":0},"हमदर्दी,सहानुभूति","हमदर्दी,सहानुभूति"]
[null,null,null,null,null,null,null,null,null,{"$f":"IF(K348=\" \",\" \",ROWS($K$5:K348))","v":344},{"$f":"DICTIONARY!M372","v":"Meal"},{"$f":"DICTIONARY!O372","v":"खाना"},"खाना",{"$f":"DICTIONARY!P372","v":"food and drink ( खाद्य और पेय )"},"खाना","खाना"]
[null,null,null,null,null,null,null,null,null,{"$f":"IF(K349=\" \",\" \",ROWS($K$5:K349))","v":345},{"$f":"DICTIONARY!M373","v":"Guy"},{"$f":"DICTIONARY!O373","v":"व्यक्ति"},"व्यक्ति",{"$f":"DICTIONARY!P373","v":0},"व्यक्ति","व्यक्ति"]
[null,null,null,null,null,null,null,null,null,{"$f":"IF(K350=\" \",\" \",ROWS($K$5:K350))","v":346},{"$f":"DICTIONARY!M374","v":"Medicine"},{"$f":"DICTIONARY!O374","v":"दवाई"},"दवाई",{"$f":"DICTIONARY!P374","v":0},"दवाई","दवाई"]
[null,null,null,null,null,null,null,null,null,{"$f":"IF(K351=\" \",\" \",ROWS($K$5:K351))","v":347},{"$f":"DICTIONARY!M375","v":"Musk Melon"},{"$f":"DICTIONARY!O375","v":"खरबूजा"},"खरबूजा","FRUITS NAME ( फलो के नाम )","खरबूजा","खरबूजा"]
[null,null,null,null,null,null,null,null,null,{"$f":"IF(K352=\" \",\" \",ROWS($K$5:K352))","v":348},{"$f":"DICTIONARY!M376","v":"Mental"},{"$f":"DICTIONARY!O376","v":"मानसिक"},"मानसिक",{"$f":"DICTIONARY!P376","v":0},"मानसिक","मानसिक"]
[null,null,null,null,null,null,null,null,null,{"$f":"IF(K353=\" \",\" \",ROWS($K$5:K353))","v":349},{"$f":"DICTIONARY!M377","v":"Charming"},{"$f":"DICTIONARY!O377","v":"आकर्षक"},"आकर्षक",{"$f":"DICTIONARY!P377","v":0},"आकर्षक","आकर्षक"]
[null,null,null,null,null,null,null,null,null,{"$f":"IF(K354=\" \",\" \",ROWS($K$5:K354))","v":350},{"$f":"DICTIONARY!M378","v":"Method"},{"$f":"DICTIONARY!O378","v":"तरीका,उपाय"},"तरीका,उपाय",{"$f":"DICTIONARY!P378","v":0},"तरीका,उपाय","तरीका,उपाय"]
[null,null,null,null,null,null,null,null,null,{"$f":"IF(K355=\" \",\" \",ROWS($K$5:K355))","v":351},{"$f":"DICTIONARY!M379","v":"Milky"},{"$f":"DICTIONARY!O379","v":"दूधिया"},"दूधिया",{"$f":"DICTIONARY!P379","v":0},"दूधिया","दूधिया"]
[null,null,null,null,null,null,null,null,null,{"$f":"IF(K356=\" \",\" \",ROWS($K$5:K356))","v":352},{"$f":"DICTIONARY!M380","v":"Millet"},{"$f":"DICTIONARY!O380","v":"बाजरा"},"बाजरा",{"$f":"DICTIONARY!P380","v":0},"बाजरा","बाजरा"]
[null,null,null,null,null,null,null,null,null,{"$f":"IF(K357=\" \",\" \",ROWS($K$5:K357))","v":353},{"$f":"DICTIONARY!M381","v":"Assist"},{"$f":"DICTIONARY!O381","v":"सहायता करना"},"सहायता करना",{"$f":"DICTIONARY!P381","v":0},"सहायता करना","सहायता करना"]
[null,null,null,null,null,null,null,null,null,{"$f":"IF(K358=\" \",\" \",ROWS($K$5:K358))","v":354},{"$f":"DICTIONARY!M382","v":"Mint"},{"$f":"DICTIONARY!O382","v":"पोदीना"},"पोदीना",{"$f":"DICTIONARY!P382","v":"VEGETABLES ( सब्जियां )"},"पोदीना","पोदीना"]
[null,null,null,null,null,null,null,null,null,{"$f":"IF(K359=\" \",\" \",ROWS($K$5:K359))","v":355},{"$f":"DICTIONARY!M383","v":"Considerable"},{"$f":"DICTIONARY!O383","v":"इतना कुछ"},"इतना कुछ",{"$f":"DICTIONARY!P383","v":0},"इतना कुछ","इतना कुछ"]
[null,null,null,null,null,null,null,null,null,{"$f":"IF(K360=\" \",\" \",ROWS($K$5:K360))","v":356},{"$f":"DICTIONARY!M384","v":"Modern"},{"$f":"DICTIONARY!O384","v":"आधुनिक"},"आधुनिक",{"$f":"DICTIONARY!P384","v":0},"आधुनिक","आधुनिक"]
[null,null,null,null,null,null,null,null,null,{"$f":"IF(K361=\" \",\" \",ROWS($K$5:K361))","v":357},{"$f":"DICTIONARY!M385","v":"Tuesday"},{"$f":"DICTIONARY!O385","v":"मंगलवार"},"मंगलवार",{"$f":"DICTIONARY!P385","v":"DAYS OF A WEEK ( सप्ताह के दिन )"},"मंगलवार","मंगलवार"]
[null,null,null,null,null,null,null,null,null,{"$f":"IF(K362=\" \",\" \",ROWS($K$5:K362))","v":358},{"$f":"DICTIONARY!M386","v":"Money"},{"$f":"DICTIONARY!O386","v":"रूपया"},"रूपया",{"$f":"DICTIONARY!P386","v":0},"रूपया","रूपया"]
[null,null,null,null,null,null,null,null,null,{"$f":"IF(K363=\" \",\" \",ROWS($K$5:K363))","v":359},{"$f":"DICTIONARY!M387","v":"Mongoose"},{"$f":"DICTIONARY!O387","v":"नेवला"},"नेवला",{"$f":"DICTIONARY!P387","v":0},"नेवला","नेवला"]
[null,null,null,null,null,null,null,null,null,{"$f":"IF(K364=\" \",\" \",ROWS($K$5:K364))","v":360},{"$f":"DICTIONARY!M388","v":"Monkey"},{"$f":"DICTIONARY!O388","v":"बन्दर"},"बन्दर",{"$f":"DICTIONARY!P388","v":"ANIMALS ( पशु )"},"बन्दर","बन्दर"]
[null,null,null,null,null,null,null,null,null,{"$f":"IF(K365=\" \",\" \",ROWS($K$5:K365))","v":361},{"$f":"DICTIONARY!M389","v":"Modest"},{"$f":"DICTIONARY!O389","v":"विनम्र"},"विनम्र",{"$f":"DICTIONARY!P389","v":0},"विनम्र","विनम्र"]
[null,null,null,null,null,null,null,null,null,{"$f":"IF(K366=\" \",\" \",ROWS($K$5:K366))","v":362},{"$f":"DICTIONARY!M390","v":"Mother"},{"$f":"DICTIONARY!O390","v":"माता"},"माता",{"$f":"DICTIONARY!P390","v":"RELATIONS AND RELATIVES ( सम्बन्ध और सम्बन्धी )"},"माता","माता"]
[null,null,null,null,null,null,null,null,null,{"$f":"IF(K367=\" \",\" \",ROWS($K$5:K367))","v":363},{"$f":"DICTIONARY!M391","v":"Mother In Law"},{"$f":"DICTIONARY!O391","v":"सास"},"सास",{"$f":"DICTIONARY!P391","v":"RELATIONS AND RELATIVES ( सम्बन्ध और सम्बन्धी )"},"सास","सास"]
[null,null,null,null,null,null,null,null,null,{"$f":"IF(K368=\" \",\" \",ROWS($K$5:K368))","v":364},{"$f":"DICTIONARY!M392","v":"Mouse"},{"$f":"DICTIONARY!O392","v":"चूहा"},"चूहा",{"$f":"DICTIONARY!P392","v":"ANIMALS ( पशु )"},"चूहा","चूहा"]
[null,null,null,null,null,null,null,null,null,{"$f":"IF(K369=\" \",\" \",ROWS($K$5:K369))","v":365},{"$f":"DICTIONARY!M393","v":"Precisely"},{"$f":"DICTIONARY!O393","v":"सही सही"},"सही सही",{"$f":"DICTIONARY!P393","v":0},"सही सही","सही सही"]
[null,null,null,null,null,null,null,null,null,{"$f":"IF(K370=\" \",\" \",ROWS($K$5:K370))","v":366},{"$f":"DICTIONARY!M394","v":"Mustard"},{"$f":"DICTIONARY!O394","v":"सरसों"},"सरसों",{"$f":"DICTIONARY!P394","v":"food and drink ( खाद्य और पेय )"},"सरसों","सरसों"]
[null,null,null,null,null,null,null,null,null,{"$f":"IF(K371=\" \",\" \",ROWS($K$5:K371))","v":367},{"$f":"DICTIONARY!M395","v":"Dandy"},{"$f":"DICTIONARY!O395","v":"शानदार"},"शानदार",{"$f":"DICTIONARY!P395","v":"food and drink ( खाद्य और पेय )"},"शानदार","शानदार"]
[null,null,null,null,null,null,null,null,null,{"$f":"IF(K372=\" \",\" \",ROWS($K$5:K372))","v":368},{"$f":"DICTIONARY!M396","v":"Understand"},{"$f":"DICTIONARY!O396","v":"समझ गए"},"समझ गए",{"$f":"DICTIONARY!P396","v":0},"समझ गए","समझ गए"]
[null,null,null,null,null,null,null,null,null,{"$f":"IF(K373=\" \",\" \",ROWS($K$5:K373))","v":369},{"$f":"DICTIONARY!M397","v":"Cops"},{"$f":"DICTIONARY!O397","v":"सिपाही"},"सिपाही",{"$f":"DICTIONARY!P397","v":0},"सिपाही","सिपाही"]
[null,null,null,null,null,null,null,null,null,{"$f":"IF(K374=\" \",\" \",ROWS($K$5:K374))","v":370},{"$f":"DICTIONARY!M398","v":"Crime"},{"$f":"DICTIONARY!O398","v":"अपराध"},"अपराध",{"$f":"DICTIONARY!P398","v":0},"अपराध","अपराध"]
[null,null,null,null,null,null,null,null,null,{"$f":"IF(K375=\" \",\" \",ROWS($K$5:K375))","v":371},{"$f":"DICTIONARY!M399","v":"Grave"},{"$f":"DICTIONARY!O399","v":"गंभीर"},"गंभीर",{"$f":"DICTIONARY!P399","v":0},"गंभीर","गंभीर"]
[null,null,null,null,null,null,null,null,null,{"$f":"IF(K376=\" \",\" \",ROWS($K$5:K376))","v":372},{"$f":"DICTIONARY!M400","v":"Extremly"},{"$f":"DICTIONARY!O400","v":"बहुत"},"बहुत",{"$f":"DICTIONARY!P400","v":0},"बहुत","बहुत"]
[null,null,null,null,null,null,null,null,null,{"$f":"IF(K377=\" \",\" \",ROWS($K$5:K377))","v":373},{"$f":"DICTIONARY!M401","v":"Nearby"},{"$f":"DICTIONARY!O401","v":"पास के ही"},"पास के ही",{"$f":"DICTIONARY!P401","v":0},"पास के ही","पास के ही"]
[null,null,null,null,null,null,null,null,null,{"$f":"IF(K378=\" \",\" \",ROWS($K$5:K378))","v":374},{"$f":"DICTIONARY!M402","v":"Neck"},{"$f":"DICTIONARY!O402","v":"गर्दन"},"गर्दन",{"$f":"DICTIONARY!P402","v":"PARTS OF BODY ( शरीर के अंग )"},"गर्दन","गर्दन"]
[null,null,null,null,null,null,null,null,null,{"$f":"IF(K379=\" \",\" \",ROWS($K$5:K379))","v":375},{"$f":"DICTIONARY!M403","v":"Tribute"},{"$f":"DICTIONARY!O403","v":"श्रधांजलि"},"श्रधांजलि",{"$f":"DICTIONARY!P403","v":0},"श्रधांजलि","श्रधांजलि"]
[null,null,null,null,null,null,null,null,null,{"$f":"IF(K380=\" \",\" \",ROWS($K$5:K380))","v":376},{"$f":"DICTIONARY!M404","v":"Negative"},{"$f":"DICTIONARY!O404","v":"नकारात्मक,अशुभ"},"नकारात्मक,अशुभ",{"$f":"DICTIONARY!P404","v":0},"नकारात्मक,अशुभ","नकारात्मक,अशुभ"]
[null,null,null,null,null,null,null,null,null,{"$f":"IF(K381=\" \",\" \",ROWS($K$5:K381))","v":377},{"$f":"DICTIONARY!M405","v":"Dodge"},{"$f":"DICTIONARY!O405","v":"चकमा देना"},"चकमा देना",{"$f":"DICTIONARY!P405","v":0},"चकमा देना","चकमा देना"]
[null,null,null,null,null,null,null,null,null,{"$f":"IF(K382=\" \",\" \",ROWS($K$5:K382))","v":378},{"$f":"DICTIONARY!M406","v":"Apparently"},{"$f":"DICTIONARY!O406","v":"देखने में स्पष्ट"},"देखने में स्पष्ट",{"$f":"DICTIONARY!P406","v":0},"देखने में स्पष्ट","देखने में स्पष्ट"]
[null,null,null,null,null,null,null,null,null,{"$f":"IF(K383=\" \",\" \",ROWS($K$5:K383))","v":379},{"$f":"DICTIONARY!M407","v":"Decorative"},{"$f":"DICTIONARY!O407","v":"सुंदर"},"सुंदर",{"$f":"DICTIONARY!P407","v":0},"सुंदर","सुंदर"]
[null,null,null,null,null,null,null,null,null,{"$f":"IF(K384=\" \",\" \",ROWS($K$5:K384))","v":380},{"$f":"DICTIONARY!M408","v":"Next To"},{"$f":"DICTIONARY!O408","v":"समीप"},"समीप",{"$f":"DICTIONARY!P408","v":0},"समीप","समीप"]
[null,null,null,null,null,null,null,null,null,{"$f":"IF(K385=\" \",\" \",ROWS($K$5:K385))","v":381},{"$f":"DICTIONARY!M409","v":"Unfortunately"},{"$f":"DICTIONARY!O409","v":"दुर्भाग्यवश"},"दुर्भाग्यवश",{"$f":"DICTIONARY!P409","v":0},"दुर्भाग्यवश","दुर्भाग्यवश"]
[null,null,null,null,null,null,null,null,null,{"$f":"IF(K386=\" \",\" \",ROWS($K$5:K386))","v":382},{"$f":"DICTIONARY!M410","v":"Nightingle"},{"$f":"DICTIONARY!O410","v":"बुलबुल"},"बुलबुल",{"$f":"DICTIONARY!P410","v":"BIRDS  ( पक्षियों के नाम  )"},"बुलबुल","बुलबुल"]
[null,null,null,null,null,null,null,null,null,{"$f":"IF(K387=\" \",\" \",ROWS($K$5:K387))","v":383},{"$f":"DICTIONARY!M411","v":"None"},{"$f":"DICTIONARY!O411","v":"कोई नहीं"},"कोई नहीं",{"$f":"DICTIONARY!P411","v":0},"कोई नहीं","कोई नहीं"]
[null,null,null,null,null,null,null,null,null,{"$f":"IF(K388=\" \",\" \",ROWS($K$5:K388))","v":384},{"$f":"DICTIONARY!M412","v":"Nose"},{"$f":"DICTIONARY!O412","v":"नाक"},"नाक",{"$f":"DICTIONARY!P412","v":"PARTS OF BODY ( शरीर के अंग )"},"नाक","नाक"]
[null,null,null,null,null,null,null,null,null,{"$f":"IF(K389=\" \",\" \",ROWS($K$5:K389))","v":385},{"$f":"DICTIONARY!M413","v":"Concern"},{"$f":"DICTIONARY!O413","v":"संबधित"},"संबधित",{"$f":"DICTIONARY!P413","v":0},{"$f":"M389","v":"संबधित"},{"$f":"L389","v":"संबधित"}]
[null,null,null,null,null,null,null,null,null,{"$f":"IF(K390=\" \",\" \",ROWS($K$5:K390))","v":386},{"$f":"DICTIONARY!M414","v":"Not"},{"$f":"DICTIONARY!O414","v":"नहीं"},{"$f":"L390","v":"नहीं"},{"$f":"DICTIONARY!P414","v":0},"नहीं","नहीं"]
[null,null,null,null,null,null,null,null,null,{"$f":"IF(K391=\" \",\" \",ROWS($K$5:K391))","v":387},{"$f":"DICTIONARY!M415","v":"Noticed"},{"$f":"DICTIONARY!O415","v":"दिखा"},"दिखा",{"$f":"DICTIONARY!P415","v":0},"दिखा","दिखा"]
[null,null,null,null,null,null,null,null,null,{"$f":"IF(K392=\" \",\" \",ROWS($K$5:K392))","v":388},{"$f":"DICTIONARY!M416","v":"Rattle"},{"$f":"DICTIONARY!O416","v":"खडकना"},"खडकना",{"$f":"DICTIONARY!P416","v":0},"खडकना","खडकना"]
[null,null,null,null,null,null,null,null,null,{"$f":"IF(K393=\" \",\" \",ROWS($K$5:K393))","v":389},{"$f":"DICTIONARY!M417","v":"Amusing"},{"$f":"DICTIONARY!O417","v":"मनोरंजक"},"मनोरंजक",{"$f":"DICTIONARY!P417","v":0},"मनोरंजक","मनोरंजक"]
[null,null,null,null,null,null,null,null,null,{"$f":"IF(K394=\" \",\" \",ROWS($K$5:K394))","v":390},{"$f":"DICTIONARY!M418","v":"October"},{"$f":"DICTIONARY!O418","v":"अक्टूबर"},"अक्टूबर",{"$f":"DICTIONARY!P418","v":0},"अक्टूबर","अक्टूबर"]
[null,null,null,null,null,null,null,null,null,{"$f":"IF(K395=\" \",\" \",ROWS($K$5:K395))","v":391},{"$f":"DICTIONARY!M419","v":"Oily"},{"$f":"DICTIONARY!O419","v":"तेलीय"},"तेलीय",{"$f":"DICTIONARY!P419","v":0},"तेलीय","तेलीय"]
[null,null,null,null,null,null,null,null,null,{"$f":"IF(K396=\" \",\" \",ROWS($K$5:K396))","v":392},{"$f":"DICTIONARY!M420","v":"Imagine"},{"$f":"DICTIONARY!O420","v":"कल्पना करना"},"कल्पना करना",{"$f":"DICTIONARY!P420","v":0},"कल्पना करना","कल्पना करना"]
[null,null,null,null,null,null,null,null,null,{"$f":"IF(K397=\" \",\" \",ROWS($K$5:K397))","v":393},{"$f":"DICTIONARY!M421","v":"Oneself"},{"$f":"DICTIONARY!O421","v":"स्वंय को"},"स्वंय को",{"$f":"DICTIONARY!P421","v":0},"स्वंय को","स्वंय को"]
[null,null,null,null,null,null,null,null,null,{"$f":"IF(K398=\" \",\" \",ROWS($K$5:K398))","v":394},{"$f":"DICTIONARY!M422","v":"Onion"},{"$f":"DICTIONARY!O422","v":"प्याज"},"प्याज",{"$f":"DICTIONARY!P422","v":"VEGETABLES ( सब्जियां )"},"प्याज","प्याज"]
[null,null,null,null,null,null,null,null,null,{"$f":"IF(K399=\" \",\" \",ROWS($K$5:K399))","v":395},{"$f":"DICTIONARY!M423","v":"Orange"},{"$f":"DICTIONARY!O423","v":"संतरा"},"संतरा","FRUITS NAME ( फलो के नाम )","संतरा","संतरा"]
[null,null,null,null,null,null,null,null,null,{"$f":"IF(K400=\" \",\" \",ROWS($K$5:K400))","v":396},{"$f":"DICTIONARY!M424","v":"Organized"},{"$f":"DICTIONARY!O424","v":"संगठित,सुनियोजित"},"संगठित,सुनियोजित",{"$f":"DICTIONARY!P424","v":0},"संगठित,सुनियोजित","संगठित,सुनियोजित"]
[null,null,null,null,null,null,null,null,null,{"$f":"IF(K401=\" \",\" \",ROWS($K$5:K401))","v":397},{"$f":"DICTIONARY!M425","v":"Ostrich"},{"$f":"DICTIONARY!O425","v":"शुतुरमुर्ग"},"शुतुरमुर्ग",{"$f":"DICTIONARY!P425","v":"BIRDS  ( पक्षियों के नाम  )"},"शुतुरमुर्ग","शुतुरमुर्ग"]
[null,null,null,null,null,null,null,null,null,{"$f":"IF(K402=\" \",\" \",ROWS($K$5:K402))","v":398},{"$f":"DICTIONARY!M426","v":"Comport"},{"$f":"DICTIONARY!O426","v":"आराम"},"आराम",{"$f":"DICTIONARY!P426","v":0},"आराम","आराम"]
[null,null,null,null,null,null,null,null,null,{"$f":"IF(K403=\" \",\" \",ROWS($K$5:K403))","v":399},{"$f":"DICTIONARY!M427","v":"Owl"},{"$f":"DICTIONARY!O427","v":"उल्लू"},"उल्लू",{"$f":"DICTIONARY!P427","v":"BIRDS  ( पक्षियों के नाम  )"},"उल्लू","उल्लू"]
[null,null,null,null,null,null,null,null,null,{"$f":"IF(K404=\" \",\" \",ROWS($K$5:K404))","v":400},{"$f":"DICTIONARY!M428","v":"Careful"},{"$f":"DICTIONARY!O428","v":"सावधानीपूर्वक"},"सावधानीपूर्वक",{"$f":"DICTIONARY!P428","v":0},"सावधानीपूर्वक","सावधानीपूर्वक"]
[null,null,null,null,null,null,null,null,null,{"$f":"IF(K405=\" \",\" \",ROWS($K$5:K405))","v":401},{"$f":"DICTIONARY!M429","v":"Surprise"},{"$f":"DICTIONARY!O429","v":"आश्चर्यचकित होना"},"आश्चर्यचकित होना",{"$f":"DICTIONARY!P429","v":0},"आश्चर्यचकित होना","आश्चर्यचकित होना"]
[null,null,null,null,null,null,null,null,null,{"$f":"IF(K406=\" \",\" \",ROWS($K$5:K406))","v":402},{"$f":"DICTIONARY!M430","v":"Lucky"},{"$f":"DICTIONARY!O430","v":"भागी"},"भागी",{"$f":"DICTIONARY!P430","v":0},"भागी","भागी"]
[null,null,null,null,null,null,null,null,null,{"$f":"IF(K407=\" \",\" \",ROWS($K$5:K407))","v":403},{"$f":"DICTIONARY!M431","v":"Smart"},{"$f":"DICTIONARY!O431","v":"सुंदर"},"सुंदर",{"$f":"DICTIONARY!P431","v":0},"सुंदर","सुंदर"]
[null,null,null,null,null,null,null,null,null,{"$f":"IF(K408=\" \",\" \",ROWS($K$5:K408))","v":404},{"$f":"DICTIONARY!M432","v":"Panther"},{"$f":"DICTIONARY!O432","v":"चीता"},"चीता",{"$f":"DICTIONARY!P432","v":"ANIMALS ( पशु )"},"चीता","चीता"]
[null,null,null,null,null,null,null,null,null,{"$f":"IF(K409=\" \",\" \",ROWS($K$5:K409))","v":405},{"$f":"DICTIONARY!M433","v":"Papaya"},{"$f":"DICTIONARY!O433","v":"पपीता"},"पपीता","FRUITS NAME ( फलो के नाम )","पपीता","पपीता"]
[null,null,null,null,null,null,null,null,null,{"$f":"IF(K410=\" \",\" \",ROWS($K$5:K410))","v":406},{"$f":"DICTIONARY!M434","v":"Parents"},{"$f":"DICTIONARY!O434","v":"अभिभावक"},"अभिभावक",{"$f":"DICTIONARY!P434","v":"RELATIONS AND RELATIVES ( सम्बन्ध और सम्बन्धी )"},"अभिभावक","अभिभावक"]
[null,null,null,null,null,null,null,null,null,{"$f":"IF(K411=\" \",\" \",ROWS($K$5:K411))","v":407},{"$f":"DICTIONARY!M435","v":"Parrot"},{"$f":"DICTIONARY!O435","v":"तोता"},"तोता",{"$f":"DICTIONARY!P435","v":"BIRDS  ( पक्षियों के नाम  )"},"तोता","तोता"]
[null,null,null,null,null,null,null,null,null,{"$f":"IF(K412=\" \",\" \",ROWS($K$5:K412))","v":408},{"$f":"DICTIONARY!M436","v":"Patridge"},{"$f":"DICTIONARY!O436","v":"तीतर"},"तीतर",{"$f":"DICTIONARY!P436","v":"BIRDS  ( पक्षियों के नाम  )"},"तीतर","तीतर"]
[null,null,null,null,null,null,null,null,null,{"$f":"IF(K413=\" \",\" \",ROWS($K$5:K413))","v":409},{"$f":"DICTIONARY!M437","v":"Pay Attention"},{"$f":"DICTIONARY!O437","v":"ध्यान देना"},"ध्यान देना",{"$f":"DICTIONARY!P437","v":0},"ध्यान देना","ध्यान देना"]
[null,null,null,null,null,null,null,null,null,{"$f":"IF(K414=\" \",\" \",ROWS($K$5:K414))","v":410},{"$f":"DICTIONARY!M438","v":"Discuss"},{"$f":"DICTIONARY!O438","v":"चर्चा करना"},"चर्चा करना",{"$f":"DICTIONARY!P438","v":0},"चर्चा करना","चर्चा करना"]
[null,null,null,null,null,null,null,null,null,{"$f":"IF(K415=\" \",\" \",ROWS($K$5:K415))","v":411},{"$f":"DICTIONARY!M439","v":"Pea Hen"},{"$f":"DICTIONARY!O439","v":"मोरनी"},"मोरनी",{"$f":"DICTIONARY!P439","v":"BIRDS  ( पक्षियों के नाम  )"},"मोरनी","मोरनी"]
[null,null,null,null,null,null,null,null,null,{"$f":"IF(K416=\" \",\" \",ROWS($K$5:K416))","v":412},{"$f":"DICTIONARY!M440","v":"Peach"},{"$f":"DICTIONARY!O440","v":"आडू"},"आडू","FRUITS NAME ( फलो के नाम )","आडू","आडू"]
[null,null,null,null,null,null,null,null,null,{"$f":"IF(K417=\" \",\" \",ROWS($K$5:K417))","v":413},{"$f":"DICTIONARY!M441","v":"Peacock"},{"$f":"DICTIONARY!O441","v":"मोर"},"मोर",{"$f":"DICTIONARY!P441","v":"BIRDS  ( पक्षियों के नाम  )"},"मोर","मोर"]
[null,null,null,null,null,null,null,null,null,{"$f":"IF(K418=\" \",\" \",ROWS($K$5:K418))","v":414},{"$f":"DICTIONARY!M442","v":"Pear"},{"$f":"DICTIONARY!O442","v":"नासपाती"},"नासपाती","FRUITS NAME ( फलो के नाम )","नासपाती","नासपाती"]
[null,null,null,null,null,null,null,null,null,{"$f":"IF(K419=\" \",\" \",ROWS($K$5:K419))","v":415},{"$f":"DICTIONARY!M443","v":"Confidential"},{"$f":"DICTIONARY!O443","v":"प्रमाणिक"},"प्रमाणिक",{"$f":"DICTIONARY!P443","v":0},"प्रमाणिक","प्रमाणिक"]
[null,null,null,null,null,null,null,null,null,{"$f":"IF(K420=\" \",\" \",ROWS($K$5:K420))","v":416},{"$f":"DICTIONARY!M444","v":"Bent"},{"$f":"DICTIONARY!O444","v":"मुड़ी हुई"},"मुड़ी हुई",{"$f":"DICTIONARY!P444","v":0},"मुड़ी हुई","मुड़ी हुई"]
[null,null,null,null,null,null,null,null,null,{"$f":"IF(K421=\" \",\" \",ROWS($K$5:K421))","v":417},{"$f":"DICTIONARY!M445","v":"Physical"},{"$f":"DICTIONARY!O445","v":"शारीरिक"},"शारीरिक",{"$f":"DICTIONARY!P445","v":0},"शारीरिक","शारीरिक"]
[null,null,null,null,null,null,null,null,null,{"$f":"IF(K422=\" \",\" \",ROWS($K$5:K422))","v":418},{"$f":"DICTIONARY!M446","v":"Pickle"},{"$f":"DICTIONARY!O446","v":"अचार"},"अचार",{"$f":"DICTIONARY!P446","v":"food and drink ( खाद्य और पेय )"},"अचार","अचार"]
[null,null,null,null,null,null,null,null,null,{"$f":"IF(K423=\" \",\" \",ROWS($K$5:K423))","v":419},{"$f":"DICTIONARY!M447","v":"Hence"},{"$f":"DICTIONARY!O447","v":"आगे"},"आगे",{"$f":"DICTIONARY!P447","v":0},"आगे","आगे"]
[null,null,null,null,null,null,null,null,null,{"$f":"IF(K424=\" \",\" \",ROWS($K$5:K424))","v":420},{"$f":"DICTIONARY!M448","v":"Scatter"},{"$f":"DICTIONARY!O448","v":"बिखेरना"},"बिखेरना",{"$f":"DICTIONARY!P448","v":0},"बिखेरना","बिखेरना"]
[null,null,null,null,null,null,null,null,null,{"$f":"IF(K425=\" \",\" \",ROWS($K$5:K425))","v":421},{"$f":"DICTIONARY!M449","v":"Pigeon"},{"$f":"DICTIONARY!O449","v":"कबूतर"},"कबूतर",{"$f":"DICTIONARY!P449","v":"BIRDS  ( पक्षियों के नाम  )"},"कबूतर","कबूतर"]
[null,null,null,null,null,null,null,null,null,{"$f":"IF(K426=\" \",\" \",ROWS($K$5:K426))","v":422},{"$f":"DICTIONARY!M450","v":"Pillow"},{"$f":"DICTIONARY!O450","v":"तकिया"},"तकिया",{"$f":"DICTIONARY!P450","v":0},"तकिया","तकिया"]
[null,null,null,null,null,null,null,null,null,{"$f":"IF(K427=\" \",\" \",ROWS($K$5:K427))","v":423},{"$f":"DICTIONARY!M451","v":"Pineapple"},{"$f":"DICTIONARY!O451","v":"अन्नानास"},"अन्नानास","FRUITS NAME ( फलो के नाम )","अन्नानास","अन्नानास"]
[null,null,null,null,null,null,null,null,null,{"$f":"IF(K428=\" \",\" \",ROWS($K$5:K428))","v":424},{"$f":"DICTIONARY!M452","v":"Pipe-System"},{"$f":"DICTIONARY!O452","v":"नल प्रणाली"},"नल प्रणाली",{"$f":"DICTIONARY!P452","v":0},"नल प्रणाली","नल प्रणाली"]
[null,null,null,null,null,null,null,null,null,{"$f":"IF(K429=\" \",\" \",ROWS($K$5:K429))","v":425},{"$f":"DICTIONARY!M453","v":"Frail"},{"$f":"DICTIONARY!O453","v":"कमजोर"},"कमजोर",{"$f":"DICTIONARY!P453","v":0},"कमजोर","कमजोर"]
[null,null,null,null,null,null,null,null,null,{"$f":"IF(K430=\" \",\" \",ROWS($K$5:K430))","v":426},{"$f":"DICTIONARY!M454","v":"Humid"},{"$f":"DICTIONARY!O454","v":"नम"},"नम",{"$f":"DICTIONARY!P454","v":0},"नम","नम"]
[null,null,null,null,null,null,null,null,null,{"$f":"IF(K431=\" \",\" \",ROWS($K$5:K431))","v":427},{"$f":"DICTIONARY!M455","v":"Shadow"},{"$f":"DICTIONARY!O455","v":"छाया"},"छाया","FRUITS NAME ( फलो के नाम )","छाया","छाया"]
[null,null,null,null,null,null,null,null,null,{"$f":"IF(K432=\" \",\" \",ROWS($K$5:K432))","v":428},{"$f":"DICTIONARY!M456","v":"Pomegranate"},{"$f":"DICTIONARY!O456","v":"अनार"},"अनार","FRUITS NAME ( फलो के नाम )","अनार","अनार"]
[null,null,null,null,null,null,null,null,null,{"$f":"IF(K433=\" \",\" \",ROWS($K$5:K433))","v":429},{"$f":"DICTIONARY!M457","v":"Start"},{"$f":"DICTIONARY!O457","v":"शुरुआत"},"शुरुआत",{"$f":"DICTIONARY!P457","v":0},"शुरुआत","शुरुआत"]
[null,null,null,null,null,null,null,null,null,{"$f":"IF(K434=\" \",\" \",ROWS($K$5:K434))","v":430},{"$f":"DICTIONARY!M458","v":"Potato"},{"$f":"DICTIONARY!O458","v":"आलू"},"आलू",{"$f":"DICTIONARY!P458","v":"VEGETABLES ( सब्जियां )"},"आलू","आलू"]
[null,null,null,null,null,null,null,null,null,{"$f":"IF(K435=\" \",\" \",ROWS($K$5:K435))","v":431},{"$f":"DICTIONARY!M459","v":"Bliss"},{"$f":"DICTIONARY!O459","v":"आनंददायक"},"आनंददायक",{"$f":"DICTIONARY!P459","v":0},"आनंददायक","आनंददायक"]
[null,null,null,null,null,null,null,null,null,{"$f":"IF(K436=\" \",\" \",ROWS($K$5:K436))","v":432},{"$f":"DICTIONARY!M460","v":"Precepter"},{"$f":"DICTIONARY!O460","v":"गुरु"},"गुरु",{"$f":"DICTIONARY!P460","v":"RELATIONS AND RELATIVES ( सम्बन्ध और सम्बन्धी )"},"गुरु","गुरु"]
[null,null,null,null,null,null,null,null,null,{"$f":"IF(K437=\" \",\" \",ROWS($K$5:K437))","v":433},{"$f":"DICTIONARY!M461","v":"Preserving"},{"$f":"DICTIONARY!O461","v":"संरक्षित करना"},"संरक्षित करना",{"$f":"DICTIONARY!P461","v":0},"संरक्षित करना","संरक्षित करना"]
[null,null,null,null,null,null,null,null,null,{"$f":"IF(K438=\" \",\" \",ROWS($K$5:K438))","v":434},{"$f":"DICTIONARY!M462","v":"Presonal"},{"$f":"DICTIONARY!O462","v":"निजी"},"निजी",{"$f":"DICTIONARY!P462","v":0},"निजी","निजी"]
[null,null,null,null,null,null,null,null,null,{"$f":"IF(K439=\" \",\" \",ROWS($K$5:K439))","v":435},{"$f":"DICTIONARY!M463","v":"Pride"},{"$f":"DICTIONARY!O463","v":"गर्व,घमंड"},"गर्व,घमंड",{"$f":"DICTIONARY!P463","v":0},"गर्व,घमंड","गर्व,घमंड"]
[null,null,null,null,null,null,null,null,null,{"$f":"IF(K440=\" \",\" \",ROWS($K$5:K440))","v":436},{"$f":"DICTIONARY!M464","v":"Problem"},{"$f":"DICTIONARY!O464","v":"समस्या"},"समस्या",{"$f":"DICTIONARY!P464","v":0},"समस्या","समस्या"]
[null,null,null,null,null,null,null,null,null,{"$f":"IF(K441=\" \",\" \",ROWS($K$5:K441))","v":437},{"$f":"DICTIONARY!M465","v":"Produced"},{"$f":"DICTIONARY!O465","v":"उत्पादन किया"},"उत्पादन किया",{"$f":"DICTIONARY!P465","v":0},"उत्पादन किया","उत्पादन किया"]
[null,null,null,null,null,null,null,null,null,{"$f":"IF(K442=\" \",\" \",ROWS($K$5:K442))","v":438},{"$f":"DICTIONARY!M466","v":"Property"},{"$f":"DICTIONARY!O466","v":"सम्पति,जायदाद"},"सम्पति,जायदाद",{"$f":"DICTIONARY!P466","v":0},"सम्पति,जायदाद","सम्पति,जायदाद"]
[null,null,null,null,null,null,null,null,null,{"$f":"IF(K443=\" \",\" \",ROWS($K$5:K443))","v":439},{"$f":"DICTIONARY!M467","v":"Foreign"},{"$f":"DICTIONARY!O467","v":"विदेशी"},"विदेशी",{"$f":"DICTIONARY!P467","v":0},"विदेशी","विदेशी"]
[null,null,null,null,null,null,null,null,null,{"$f":"IF(K444=\" \",\" \",ROWS($K$5:K444))","v":440},{"$f":"DICTIONARY!M468","v":"Prove"},{"$f":"DICTIONARY!O468","v":"सिद्ध करना"},"सिद्ध करना",{"$f":"DICTIONARY!P468","v":0},"सिद्ध करना","सिद्ध करना"]
[null,null,null,null,null,null,null,null,null,{"$f":"IF(K445=\" \",\" \",ROWS($K$5:K445))","v":441},{"$f":"DICTIONARY!M469","v":"Condemn"},{"$f":"DICTIONARY!O469","v":"बुरा बताना"},"बुरा बताना",{"$f":"DICTIONARY!P469","v":0},"बुरा बताना","बुरा बताना"]
[null,null,null,null,null,null,null,null,null,{"$f":"IF(K446=\" \",\" \",ROWS($K$5:K446))","v":442},{"$f":"DICTIONARY!M470","v":"Defile"},{"$f":"DICTIONARY!O470","v":"अपवित्र करना"},"अपवित्र करना",{"$f":"DICTIONARY!P470","v":0},"अपवित्र करना","अपवित्र करना"]
[null,null,null,null,null,null,null,null,null,{"$f":"IF(K447=\" \",\" \",ROWS($K$5:K447))","v":443},{"$f":"DICTIONARY!M471","v":"Pumpkin"},{"$f":"DICTIONARY!O471","v":"कद्दू"},"कद्दू",{"$f":"DICTIONARY!P471","v":"VEGETABLES ( सब्जियां )"},"कद्दू","कद्दू"]
[null,null,null,null,null,null,null,null,null,{"$f":"IF(K448=\" \",\" \",ROWS($K$5:K448))","v":444},{"$f":"DICTIONARY!M472","v":"Hells"},{"$f":"DICTIONARY!O472","v":"नरक"},"नरक",{"$f":"DICTIONARY!P472","v":0},"नरक","नरक"]
[null,null,null,null,null,null,null,null,null,{"$f":"IF(K449=\" \",\" \",ROWS($K$5:K449))","v":445},{"$f":"DICTIONARY!M473","v":"Quail"},{"$f":"DICTIONARY!O473","v":"बटेर"},"बटेर",{"$f":"DICTIONARY!P473","v":"BIRDS  ( पक्षियों के नाम  )"},"बटेर","बटेर"]
[null,null,null,null,null,null,null,null,null,{"$f":"IF(K450=\" \",\" \",ROWS($K$5:K450))","v":446},{"$f":"DICTIONARY!M474","v":"Rabbit"},{"$f":"DICTIONARY!O474","v":"खरगोश"},"खरगोश",{"$f":"DICTIONARY!P474","v":"ANIMALS ( पशु )"},"खरगोश","खरगोश"]
[null,null,null,null,null,null,null,null,null,{"$f":"IF(K451=\" \",\" \",ROWS($K$5:K451))","v":447},{"$f":"DICTIONARY!M475","v":"Radio"},{"$f":"DICTIONARY!O475","v":"रेडियो"},"रेडियो",{"$f":"DICTIONARY!P475","v":0},"रेडियो","रेडियो"]
[null,null,null,null,null,null,null,null,null,{"$f":"IF(K452=\" \",\" \",ROWS($K$5:K452))","v":448},{"$f":"DICTIONARY!M476","v":"Radish"},{"$f":"DICTIONARY!O476","v":"मूली"},"मूली",{"$f":"DICTIONARY!P476","v":"VEGETABLES ( सब्जियां )"},"मूली","मूली"]
[null,null,null,null,null,null,null,null,null,{"$f":"IF(K453=\" \",\" \",ROWS($K$5:K453))","v":449},{"$f":"DICTIONARY!M477","v":"Innocence"},{"$f":"DICTIONARY!O477","v":"निर्दोष"},"निर्दोष",{"$f":"DICTIONARY!P477","v":0},{"$f":"M453","v":"निर्दोष"},{"$f":"L453","v":"निर्दोष"}]
[null,null,null,null,null,null,null,null,null,{"$f":"IF(K454=\" \",\" \",ROWS($K$5:K454))","v":450},{"$f":"DICTIONARY!M478","v":"Regular"},{"$f":"DICTIONARY!O478","v":"सामान्य "},{"$f":"L454","v":"सामान्य "},{"$f":"DICTIONARY!P478","v":0},"सामान्य ","सामान्य "]
[null,null,null,null,null,null,null,null,null,{"$f":"IF(K455=\" \",\" \",ROWS($K$5:K455))","v":451},{"$f":"DICTIONARY!M479","v":"Related"},{"$f":"DICTIONARY!O479","v":"सम्बंधित"},"सम्बंधित",{"$f":"DICTIONARY!P479","v":0},"सम्बंधित","सम्बंधित"]
[null,null,null,null,null,null,null,null,null,{"$f":"IF(K456=\" \",\" \",ROWS($K$5:K456))","v":452},{"$f":"DICTIONARY!M480","v":"Rest"},{"$f":"DICTIONARY!O480","v":"आराम,शेष"},"आराम,शेष",{"$f":"DICTIONARY!P480","v":0},"आराम,शेष","आराम,शेष"]
[null,null,null,null,null,null,null,null,null,{"$f":"IF(K457=\" \",\" \",ROWS($K$5:K457))","v":453},{"$f":"DICTIONARY!M481","v":"Result"},{"$f":"DICTIONARY!O481","v":"परिणाम"},"परिणाम",{"$f":"DICTIONARY!P481","v":0},"परिणाम","परिणाम"]
[null,null,null,null,null,null,null,null,null,{"$f":"IF(K458=\" \",\" \",ROWS($K$5:K458))","v":454},{"$f":"DICTIONARY!M482","v":"Rib"},{"$f":"DICTIONARY!O482","v":"पसली"},"पसली",{"$f":"DICTIONARY!P482","v":0},"पसली","पसली"]
[null,null,null,null,null,null,null,null,null,{"$f":"IF(K459=\" \",\" \",ROWS($K$5:K459))","v":455},{"$f":"DICTIONARY!M483","v":"Betray"},{"$f":"DICTIONARY!O483","v":"धोखा देना"},"धोखा देना",{"$f":"DICTIONARY!P483","v":0},"धोखा देना","धोखा देना"]
[null,null,null,null,null,null,null,null,null,{"$f":"IF(K460=\" \",\" \",ROWS($K$5:K460))","v":456},{"$f":"DICTIONARY!M484","v":"Ring Finger"},{"$f":"DICTIONARY!O484","v":"अनामिका"},"अनामिका",{"$f":"DICTIONARY!P484","v":0},"अनामिका","अनामिका"]
[null,null,null,null,null,null,null,null,null,{"$f":"IF(K461=\" \",\" \",ROWS($K$5:K461))","v":457},{"$f":"DICTIONARY!M485","v":"Roadside"},{"$f":"DICTIONARY!O485","v":"सड़क किनारे"},"सड़क किनारे",{"$f":"DICTIONARY!P485","v":0},"सड़क किनारे","सड़क किनारे"]
[null,null,null,null,null,null,null,null,null,{"$f":"IF(K462=\" \",\" \",ROWS($K$5:K462))","v":458},{"$f":"DICTIONARY!M486","v":"Recognise"},{"$f":"DICTIONARY!O486","v":"पहचानना"},"पहचानना",{"$f":"DICTIONARY!P486","v":0},"पहचानना","पहचानना"]
[null,null,null,null,null,null,null,null,null,{"$f":"IF(K463=\" \",\" \",ROWS($K$5:K463))","v":459},{"$f":"DICTIONARY!M487","v":"Nasty"},{"$f":"DICTIONARY!O487","v":"विशाल"},"विशाल",{"$f":"DICTIONARY!P487","v":0},"विशाल","विशाल"]
[null,null,null,null,null,null,null,null,null,{"$f":"IF(K464=\" \",\" \",ROWS($K$5:K464))","v":460},{"$f":"DICTIONARY!M488","v":"Rushed"},{"$f":"DICTIONARY!O488","v":"झपटा मारना"},"झपटा मारना",{"$f":"DICTIONARY!P488","v":0},"झपटा मारना","झपटा मारना"]
[null,null,null,null,null,null,null,null,null,{"$f":"IF(K465=\" \",\" \",ROWS($K$5:K465))","v":461},{"$f":"DICTIONARY!M489","v":"Sack"},{"$f":"DICTIONARY!O489","v":"बोरा"},"बोरा",{"$f":"DICTIONARY!P489","v":0},"बोरा","बोरा"]
[null,null,null,null,null,null,null,null,null,{"$f":"IF(K466=\" \",\" \",ROWS($K$5:K466))","v":462},{"$f":"DICTIONARY!M490","v":"Sadly"},{"$f":"DICTIONARY!O490","v":"दुखी होकर"},"दुखी होकर",{"$f":"DICTIONARY!P490","v":0},"दुखी होकर","दुखी होकर"]
[null,null,null,null,null,null,null,null,null,{"$f":"IF(K467=\" \",\" \",ROWS($K$5:K467))","v":463},{"$f":"DICTIONARY!M491","v":"Rode"},{"$f":"DICTIONARY!O491","v":"सवारी करना"},"सवारी करना",{"$f":"DICTIONARY!P491","v":0},"सवारी करना","सवारी करना"]
[null,null,null,null,null,null,null,null,null,{"$f":"IF(K468=\" \",\" \",ROWS($K$5:K468))","v":464},{"$f":"DICTIONARY!M492","v":"Gaily"},{"$f":"DICTIONARY!O492","v":"प्रसन्नता"},"प्रसन्नता",{"$f":"DICTIONARY!P492","v":0},"प्रसन्नता","प्रसन्नता"]
[null,null,null,null,null,null,null,null,null,{"$f":"IF(K469=\" \",\" \",ROWS($K$5:K469))","v":465},{"$f":"DICTIONARY!M493","v":"Wednesday"},{"$f":"DICTIONARY!O493","v":"बुधवार"},"बुधवार",{"$f":"DICTIONARY!P493","v":"DAYS OF A WEEK ( सप्ताह के दिन )"},"बुधवार","बुधवार"]
[null,null,null,null,null,null,null,null,null,{"$f":"IF(K470=\" \",\" \",ROWS($K$5:K470))","v":466},{"$f":"DICTIONARY!M494","v":"Desire"},{"$f":"DICTIONARY!O494","v":"इच्छा"},"इच्छा",{"$f":"DICTIONARY!P494","v":0},"इच्छा","इच्छा"]
[null,null,null,null,null,null,null,null,null,{"$f":"IF(K471=\" \",\" \",ROWS($K$5:K471))","v":467},{"$f":"DICTIONARY!M495","v":"Gaze"},{"$f":"DICTIONARY!O495","v":"एकटक दृष्टि"},"एकटक दृष्टि",{"$f":"DICTIONARY!P495","v":0},"एकटक दृष्टि","एकटक दृष्टि"]
[null,null,null,null,null,null,null,null,null,{"$f":"IF(K472=\" \",\" \",ROWS($K$5:K472))","v":468},{"$f":"DICTIONARY!M496","v":"Cautionary"},{"$f":"DICTIONARY!O496","v":"चेतावनी"},"चेतावनी",{"$f":"DICTIONARY!P496","v":0},"चेतावनी","चेतावनी"]
[null,null,null,null,null,null,null,null,null,{"$f":"IF(K473=\" \",\" \",ROWS($K$5:K473))","v":469},{"$f":"DICTIONARY!M497","v":"Architecture"},{"$f":"DICTIONARY!O497","v":"सरंचना"},"सरंचना",{"$f":"DICTIONARY!P497","v":0},"सरंचना","सरंचना"]
[null,null,null,null,null,null,null,null,null,{"$f":"IF(K474=\" \",\" \",ROWS($K$5:K474))","v":470},{"$f":"DICTIONARY!M498","v":"Search"},{"$f":"DICTIONARY!O498","v":"ढूढना"},"ढूढना",{"$f":"DICTIONARY!P498","v":0},"ढूढना","ढूढना"]
[null,null,null,null,null,null,null,null,null,{"$f":"IF(K475=\" \",\" \",ROWS($K$5:K475))","v":471},{"$f":"DICTIONARY!M499","v":"Seen"},{"$f":"DICTIONARY!O499","v":"देखा"},"देखा",{"$f":"DICTIONARY!P499","v":0},"देखा","देखा"]
[null,null,null,null,null,null,null,null,null,{"$f":"IF(K476=\" \",\" \",ROWS($K$5:K476))","v":472},{"$f":"DICTIONARY!M500","v":"Sweatmeat"},{"$f":"DICTIONARY!O500","v":"मिठाई"},"मिठाई",{"$f":"DICTIONARY!P500","v":0},"मिठाई","मिठाई"]
[null,null,null,null,null,null,null,null,null,{"$f":"IF(K477=\" \",\" \",ROWS($K$5:K477))","v":473},{"$f":"DICTIONARY!M501","v":"Greedy"},{"$f":"DICTIONARY!O501","v":"लालची"},"लालची",{"$f":"DICTIONARY!P501","v":0},"लालची","लालची"]
[null,null,null,null,null,null,null,null,null,{"$f":"IF(K478=\" \",\" \",ROWS($K$5:K478))","v":474},{"$f":"DICTIONARY!M502","v":"Settle"},{"$f":"DICTIONARY!O502","v":"बसना"},"बसना",{"$f":"DICTIONARY!P502","v":0},"बसना","बसना"]
[null,null,null,null,null,null,null,null,null,{"$f":"IF(K479=\" \",\" \",ROWS($K$5:K479))","v":475},{"$f":"DICTIONARY!M503","v":"Grove"},{"$f":"DICTIONARY!O503","v":"वृक्ष कुञ्ज"},"वृक्ष कुञ्ज",{"$f":"DICTIONARY!P503","v":0},"वृक्ष कुञ्ज","वृक्ष कुञ्ज"]
[null,null,null,null,null,null,null,null,null,{"$f":"IF(K480=\" \",\" \",ROWS($K$5:K480))","v":476},{"$f":"DICTIONARY!M504","v":"Sheep"},{"$f":"DICTIONARY!O504","v":"भेड़"},"भेड़",{"$f":"DICTIONARY!P504","v":0},"भेड़","भेड़"]
[null,null,null,null,null,null,null,null,null,{"$f":"IF(K481=\" \",\" \",ROWS($K$5:K481))","v":477},{"$f":"DICTIONARY!M505","v":"Snake Charmer"},{"$f":"DICTIONARY!O505","v":"सपेरा"},"सपेरा",{"$f":"DICTIONARY!P505","v":0},"सपेरा","सपेरा"]
[null,null,null,null,null,null,null,null,null,{"$f":"IF(K482=\" \",\" \",ROWS($K$5:K482))","v":478},{"$f":"DICTIONARY!M506","v":"Rage"},{"$f":"DICTIONARY!O506","v":"क्रोध"},"क्रोध",{"$f":"DICTIONARY!P506","v":0},"क्रोध","क्रोध"]
[null,null,null,null,null,null,null,null,null,{"$f":"IF(K483=\" \",\" \",ROWS($K$5:K483))","v":479},{"$f":"DICTIONARY!M507","v":"Jerk"},{"$f":"DICTIONARY!O507","v":"झटका"},"झटका",{"$f":"DICTIONARY!P507","v":0},"झटका","झटका"]
[null,null,null,null,null,null,null,null,null,{"$f":"IF(K484=\" \",\" \",ROWS($K$5:K484))","v":480},{"$f":"DICTIONARY!M508","v":"Heavy"},{"$f":"DICTIONARY!O508","v":"भारी"},"भारी",{"$f":"DICTIONARY!P508","v":0},"भारी","भारी"]
[null,null,null,null,null,null,null,null,null,{"$f":"IF(K485=\" \",\" \",ROWS($K$5:K485))","v":481},{"$f":"DICTIONARY!M509","v":"Shoulder"},{"$f":"DICTIONARY!O509","v":"कन्धा"},"कन्धा",{"$f":"DICTIONARY!P509","v":0},"कन्धा","कन्धा"]
[null,null,null,null,null,null,null,null,null,{"$f":"IF(K486=\" \",\" \",ROWS($K$5:K486))","v":482},{"$f":"DICTIONARY!M510","v":"Sieve"},{"$f":"DICTIONARY!O510","v":"छलनी"},"छलनी",{"$f":"DICTIONARY!P510","v":0},"छलनी","छलनी"]
[null,null,null,null,null,null,null,null,null,{"$f":"IF(K487=\" \",\" \",ROWS($K$5:K487))","v":483},{"$f":"DICTIONARY!M511","v":"Sister"},{"$f":"DICTIONARY!O511","v":"बहिन"},"बहिन",{"$f":"DICTIONARY!P511","v":"RELATIONS AND RELATIVES ( सम्बन्ध और सम्बन्धी )"},"बहिन","बहिन"]
[null,null,null,null,null,null,null,null,null,{"$f":"IF(K488=\" \",\" \",ROWS($K$5:K488))","v":484},{"$f":"DICTIONARY!M512","v":"Sister In Law"},{"$f":"DICTIONARY!O512","v":"साली,भाभी"},"साली,भाभी",{"$f":"DICTIONARY!P512","v":"RELATIONS AND RELATIVES ( सम्बन्ध और सम्बन्धी )"},"साली,भाभी","साली,भाभी"]
[null,null,null,null,null,null,null,null,null,{"$f":"IF(K489=\" \",\" \",ROWS($K$5:K489))","v":485},{"$f":"DICTIONARY!M513","v":"Strain"},{"$f":"DICTIONARY!O513","v":"दबाव"},"दबाव",{"$f":"DICTIONARY!P513","v":0},"दबाव","दबाव"]
[null,null,null,null,null,null,null,null,null,{"$f":"IF(K490=\" \",\" \",ROWS($K$5:K490))","v":486},{"$f":"DICTIONARY!M514","v":"Adventure"},{"$f":"DICTIONARY!O514","v":"कारनामा"},"कारनामा",{"$f":"DICTIONARY!P514","v":0},"कारनामा","कारनामा"]
[null,null,null,null,null,null,null,null,null,{"$f":"IF(K491=\" \",\" \",ROWS($K$5:K491))","v":487},{"$f":"DICTIONARY!M515","v":"Smile"},{"$f":"DICTIONARY!O515","v":"मुस्कारना"},"मुस्कारना",{"$f":"DICTIONARY!P515","v":0},"मुस्कारना","मुस्कारना"]
[null,null,null,null,null,null,null,null,null,{"$f":"IF(K492=\" \",\" \",ROWS($K$5:K492))","v":488},{"$f":"DICTIONARY!M516","v":"Smoke"},{"$f":"DICTIONARY!O516","v":"धुंआ"},"धुंआ",{"$f":"DICTIONARY!P516","v":0},"धुंआ","धुंआ"]
[null,null,null,null,null,null,null,null,null,{"$f":"IF(K493=\" \",\" \",ROWS($K$5:K493))","v":489},{"$f":"DICTIONARY!M517","v":"Snatched"},{"$f":"DICTIONARY!O517","v":"छीनलिया"},"छीनलिया",{"$f":"DICTIONARY!P517","v":0},"छीनलिया","छीनलिया"]
[null,null,null,null,null,null,null,null,null,{"$f":"IF(K494=\" \",\" \",ROWS($K$5:K494))","v":490},{"$f":"DICTIONARY!M518","v":"Sneezing"},{"$f":"DICTIONARY!O518","v":"छिकना"},"छिकना",{"$f":"DICTIONARY!P518","v":0},"छिकना","छिकना"]
[null,null,null,null,null,null,null,null,null,{"$f":"IF(K495=\" \",\" \",ROWS($K$5:K495))","v":491},{"$f":"DICTIONARY!M519","v":"Pretty"},{"$f":"DICTIONARY!O519","v":"सुंदर"},"सुंदर",{"$f":"DICTIONARY!P519","v":0},"सुंदर","सुंदर"]
[null,null,null,null,null,null,null,null,null,{"$f":"IF(K496=\" \",\" \",ROWS($K$5:K496))","v":492},{"$f":"DICTIONARY!M520","v":"Social"},{"$f":"DICTIONARY!O520","v":"सामाजिक"},"सामाजिक",{"$f":"DICTIONARY!P520","v":0},"सामाजिक","सामाजिक"]
[null,null,null,null,null,null,null,null,null,{"$f":"IF(K497=\" \",\" \",ROWS($K$5:K497))","v":493},{"$f":"DICTIONARY!M521","v":"Sock"},{"$f":"DICTIONARY!O521","v":"मोज़े"},"मोज़े",{"$f":"DICTIONARY!P521","v":0},"मोज़े","मोज़े"]
[null,null,null,null,null,null,null,null,null,{"$f":"IF(K498=\" \",\" \",ROWS($K$5:K498))","v":494},{"$f":"DICTIONARY!M522","v":"Soil"},{"$f":"DICTIONARY!O522","v":"मृदा"},"मृदा",{"$f":"DICTIONARY!P522","v":0},"मृदा","मृदा"]
[null,null,null,null,null,null,null,null,null,{"$f":"IF(K499=\" \",\" \",ROWS($K$5:K499))","v":495},{"$f":"DICTIONARY!M523","v":"Son"},{"$f":"DICTIONARY!O523","v":"बेटा"},"बेटा",{"$f":"DICTIONARY!P523","v":"RELATIONS AND RELATIVES ( सम्बन्ध और सम्बन्धी )"},"बेटा","बेटा"]
[null,null,null,null,null,null,null,null,null,{"$f":"IF(K500=\" \",\" \",ROWS($K$5:K500))","v":496},{"$f":"DICTIONARY!M524","v":"Son In Law"},{"$f":"DICTIONARY!O524","v":"दामाद"},"दामाद",{"$f":"DICTIONARY!P524","v":"RELATIONS AND RELATIVES ( सम्बन्ध और सम्बन्धी )"},"दामाद","दामाद"]
[null,null,null,null,null,null,null,null,null,{"$f":"IF(K501=\" \",\" \",ROWS($K$5:K501))","v":497},{"$f":"DICTIONARY!M525","v":"Sort"},{"$f":"DICTIONARY!O525","v":"तरह"},"तरह",{"$f":"DICTIONARY!P525","v":0},"तरह","तरह"]
[null,null,null,null,null,null,null,null,null,{"$f":"IF(K502=\" \",\" \",ROWS($K$5:K502))","v":498},{"$f":"DICTIONARY!M526","v":"Sparrow"},{"$f":"DICTIONARY!O526","v":"चिड़िया"},"चिड़िया",{"$f":"DICTIONARY!P526","v":"BIRDS  ( पक्षियों के नाम  )"},"चिड़िया","चिड़िया"]
[null,null,null,null,null,null,null,null,null,{"$f":"IF(K503=\" \",\" \",ROWS($K$5:K503))","v":499},{"$f":"DICTIONARY!M527","v":"Slap"},{"$f":"DICTIONARY!O527","v":"थप्पड़"},"थप्पड़",{"$f":"DICTIONARY!P527","v":0},"थप्पड़","थप्पड़"]
[null,null,null,null,null,null,null,null,null,{"$f":"IF(K504=\" \",\" \",ROWS($K$5:K504))","v":500},{"$f":"DICTIONARY!M528","v":"Spritual"},{"$f":"DICTIONARY!O528","v":"आध्यात्मिक"},"आध्यात्मिक",{"$f":"DICTIONARY!P528","v":0},"आध्यात्मिक","आध्यात्मिक"]
[null,null,null,null,null,null,null,null,null,{"$f":"IF(K505=\" \",\" \",ROWS($K$5:K505))","v":501},{"$f":"DICTIONARY!M529","v":"Onlooker"},{"$f":"DICTIONARY!O529","v":"तमाशबीन"},"तमाशबीन",{"$f":"DICTIONARY!P529","v":0},"तमाशबीन","तमाशबीन"]
[null,null,null,null,null,null,null,null,null,{"$f":"IF(K506=\" \",\" \",ROWS($K$5:K506))","v":502},{"$f":"DICTIONARY!M530","v":"Occasionally"},{"$f":"DICTIONARY!O530","v":"कभी कभी"},"कभी कभी",{"$f":"DICTIONARY!P530","v":0},"कभी कभी","कभी कभी"]
[null,null,null,null,null,null,null,null,null,{"$f":"IF(K507=\" \",\" \",ROWS($K$5:K507))","v":503},{"$f":"DICTIONARY!M531","v":"Adjust"},{"$f":"DICTIONARY!O531","v":"समायोजन"},"समायोजन",{"$f":"DICTIONARY!P531","v":0},"समायोजन","समायोजन"]
[null,null,null,null,null,null,null,null,null,{"$f":"IF(K508=\" \",\" \",ROWS($K$5:K508))","v":504},{"$f":"DICTIONARY!M532","v":"Muttering"},{"$f":"DICTIONARY!O532","v":"बुदबुदाते हुए"},"बुदबुदाते हुए",{"$f":"DICTIONARY!P532","v":0},"बुदबुदाते हुए","बुदबुदाते हुए"]
[null,null,null,null,null,null,null,null,null,{"$f":"IF(K509=\" \",\" \",ROWS($K$5:K509))","v":505},{"$f":"DICTIONARY!M533","v":"Step Son"},{"$f":"DICTIONARY!O533","v":"सोतेला बेटा"},"सोतेला बेटा",{"$f":"DICTIONARY!P533","v":"RELATIONS AND RELATIVES ( सम्बन्ध और सम्बन्धी )"},"सोतेला बेटा","सोतेला बेटा"]
[null,null,null,null,null,null,null,null,null,{"$f":"IF(K510=\" \",\" \",ROWS($K$5:K510))","v":506},{"$f":"DICTIONARY!M534","v":"Capacity"},{"$f":"DICTIONARY!O534","v":"क्षमता"},"क्षमता",{"$f":"DICTIONARY!P534","v":0},"क्षमता","क्षमता"]
[null,null,null,null,null,null,null,null,null,{"$f":"IF(K511=\" \",\" \",ROWS($K$5:K511))","v":507},{"$f":"DICTIONARY!M535","v":"Stomach"},{"$f":"DICTIONARY!O535","v":"पेट"},"पेट",{"$f":"DICTIONARY!P535","v":"PARTS OF BODY ( शरीर के अंग )"},"पेट","पेट"]
[null,null,null,null,null,null,null,null,null,{"$f":"IF(K512=\" \",\" \",ROWS($K$5:K512))","v":508},{"$f":"DICTIONARY!M536","v":"Strange"},{"$f":"DICTIONARY!O536","v":"विचित्र"},"विचित्र",{"$f":"DICTIONARY!P536","v":0},"विचित्र","विचित्र"]
[null,null,null,null,null,null,null,null,null,{"$f":"IF(K513=\" \",\" \",ROWS($K$5:K513))","v":509},{"$f":"DICTIONARY!M537","v":"Gesture"},{"$f":"DICTIONARY!O537","v":"हावभाव"},"हावभाव",{"$f":"DICTIONARY!P537","v":0},"हावभाव","हावभाव"]
[null,null,null,null,null,null,null,null,null,{"$f":"IF(K514=\" \",\" \",ROWS($K$5:K514))","v":510},{"$f":"DICTIONARY!M538","v":"Enormous"},{"$f":"DICTIONARY!O538","v":"विशाल"},"विशाल",{"$f":"DICTIONARY!P538","v":0},"विशाल","विशाल"]
[null,null,null,null,null,null,null,null,null,{"$f":"IF(K515=\" \",\" \",ROWS($K$5:K515))","v":511},{"$f":"DICTIONARY!M539","v":"Prologue"},{"$f":"DICTIONARY!O539","v":"प्रस्तावना"},"प्रस्तावना",{"$f":"DICTIONARY!P539","v":0},"प्रस्तावना","प्रस्तावना"]
[null,null,null,null,null,null,null,null,null,{"$f":"IF(K516=\" \",\" \",ROWS($K$5:K516))","v":512},{"$f":"DICTIONARY!M540","v":"Substitude"},{"$f":"DICTIONARY!O540","v":"विकल्प"},"विकल्प",{"$f":"DICTIONARY!P540","v":0},"विकल्प","विकल्प"]
[null,null,null,null,null,null,null,null,null,{"$f":"IF(K517=\" \",\" \",ROWS($K$5:K517))","v":513},{"$f":"DICTIONARY!M541","v":"Succeed"},{"$f":"DICTIONARY!O541","v":"सफल"},"सफल",{"$f":"DICTIONARY!P541","v":0},{"$f":"M517","v":"सफल"},{"$f":"L517","v":"सफल"}]
[null,null,null,null,null,null,null,null,null,{"$f":"IF(K518=\" \",\" \",ROWS($K$5:K518))","v":514},{"$f":"DICTIONARY!M542","v":"Suffer"},{"$f":"DICTIONARY!O542","v":"पीड़ित होना"},{"$f":"L518","v":"पीड़ित होना"},{"$f":"DICTIONARY!P542","v":0},"पीड़ित होना","पीड़ित होना"]
[null,null,null,null,null,null,null,null,null,{"$f":"IF(K519=\" \",\" \",ROWS($K$5:K519))","v":515},{"$f":"DICTIONARY!M543","v":"Crazy"},{"$f":"DICTIONARY!O543","v":"पागल"},"पागल",{"$f":"DICTIONARY!P543","v":0},"पागल","पागल"]
[null,null,null,null,null,null,null,null,null,{"$f":"IF(K520=\" \",\" \",ROWS($K$5:K520))","v":516},{"$f":"DICTIONARY!M544","v":"Talkative"},{"$f":"DICTIONARY!O544","v":"वाचाल"},"वाचाल",{"$f":"DICTIONARY!P544","v":0},"वाचाल","वाचाल"]
[null,null,null,null,null,null,null,null,null,{"$f":"IF(K521=\" \",\" \",ROWS($K$5:K521))","v":517},{"$f":"DICTIONARY!M545","v":"Thursday"},{"$f":"DICTIONARY!O545","v":"गुरुवार"},"गुरुवार",{"$f":"DICTIONARY!P545","v":"DAYS OF A WEEK ( सप्ताह के दिन )"},"गुरुवार","गुरुवार"]
[null,null,null,null,null,null,null,null,null,{"$f":"IF(K522=\" \",\" \",ROWS($K$5:K522))","v":518},{"$f":"DICTIONARY!M546","v":"Digestive"},{"$f":"DICTIONARY!O546","v":"पाचन"},"पाचन",{"$f":"DICTIONARY!P546","v":0},"पाचन","पाचन"]
[null,null,null,null,null,null,null,null,null,{"$f":"IF(K523=\" \",\" \",ROWS($K$5:K523))","v":519},{"$f":"DICTIONARY!M547","v":"Figment"},{"$f":"DICTIONARY!O547","v":"मनागढ़ात बात"},"मनागढ़ात बात",{"$f":"DICTIONARY!P547","v":0},"मनागढ़ात बात","मनागढ़ात बात"]
[null,null,null,null,null,null,null,null,null,{"$f":"IF(K524=\" \",\" \",ROWS($K$5:K524))","v":520},{"$f":"DICTIONARY!M548","v":"Surprised"},{"$f":"DICTIONARY!O548","v":"चकित हुए"},"चकित हुए",{"$f":"DICTIONARY!P548","v":0},"चकित हुए","चकित हुए"]
[null,null,null,null,null,null,null,null,null,{"$f":"IF(K525=\" \",\" \",ROWS($K$5:K525))","v":521},{"$f":"DICTIONARY!M549","v":"Surroundings"},{"$f":"DICTIONARY!O549","v":"आसपास"},"आसपास",{"$f":"DICTIONARY!P549","v":0},"आसपास","आसपास"]
[null,null,null,null,null,null,null,null,null,{"$f":"IF(K526=\" \",\" \",ROWS($K$5:K526))","v":522},{"$f":"DICTIONARY!M550","v":"Swan"},{"$f":"DICTIONARY!O550","v":"हंस"},"हंस",{"$f":"DICTIONARY!P550","v":"BIRDS  ( पक्षियों के नाम  )"},"हंस","हंस"]
[null,null,null,null,null,null,null,null,null,{"$f":"IF(K527=\" \",\" \",ROWS($K$5:K527))","v":523},{"$f":"DICTIONARY!M551","v":"Skelton"},{"$f":"DICTIONARY!O551","v":"कंकाल"},"कंकाल",{"$f":"DICTIONARY!P551","v":0},"कंकाल","कंकाल"]
[null,null,null,null,null,null,null,null,null,{"$f":"IF(K528=\" \",\" \",ROWS($K$5:K528))","v":524},{"$f":"DICTIONARY!M552","v":"Sweet Potato"},{"$f":"DICTIONARY!O552","v":"शकरकंद"},"शकरकंद",{"$f":"DICTIONARY!P552","v":"VEGETABLES ( सब्जियां )"},"शकरकंद","शकरकंद"]
[null,null,null,null,null,null,null,null,null,{"$f":"IF(K529=\" \",\" \",ROWS($K$5:K529))","v":525},{"$f":"DICTIONARY!M553","v":"Switch"},{"$f":"DICTIONARY!O553","v":"स्विच"},"स्विच",{"$f":"DICTIONARY!P553","v":0},"स्विच","स्विच"]
[null,null,null,null,null,null,null,null,null,{"$f":"IF(K530=\" \",\" \",ROWS($K$5:K530))","v":526},{"$f":"DICTIONARY!M554","v":"Cheerful"},{"$f":"DICTIONARY!O554","v":"प्रसन्न"},"प्रसन्न",{"$f":"DICTIONARY!P554","v":0},"प्रसन्न","प्रसन्न"]
[null,null,null,null,null,null,null,null,null,{"$f":"IF(K531=\" \",\" \",ROWS($K$5:K531))","v":527},{"$f":"DICTIONARY!M555","v":"Tadpole"},{"$f":"DICTIONARY!O555","v":"मेढ़क का बच्चा"},"मेढ़क का बच्चा",{"$f":"DICTIONARY!P555","v":0},"मेढ़क का बच्चा","मेढ़क का बच्चा"]
[null,null,null,null,null,null,null,null,null,{"$f":"IF(K532=\" \",\" \",ROWS($K$5:K532))","v":528},{"$f":"DICTIONARY!M556","v":"Admire"},{"$f":"DICTIONARY!O556","v":"प्रसंसा करना"},"प्रसंसा करना",{"$f":"DICTIONARY!P556","v":0},"प्रसंसा करना","प्रसंसा करना"]
[null,null,null,null,null,null,null,null,null,{"$f":"IF(K533=\" \",\" \",ROWS($K$5:K533))","v":529},{"$f":"DICTIONARY!M557","v":"Take Care"},{"$f":"DICTIONARY!O557","v":"देखभाल करना"},"देखभाल करना",{"$f":"DICTIONARY!P557","v":0},"देखभाल करना","देखभाल करना"]
[null,null,null,null,null,null,null,null,null,{"$f":"IF(K534=\" \",\" \",ROWS($K$5:K534))","v":530},{"$f":"DICTIONARY!M558","v":"Fool"},{"$f":"DICTIONARY!O558","v":"मुर्ख"},"मुर्ख",{"$f":"DICTIONARY!P558","v":0},"मुर्ख","मुर्ख"]
[null,null,null,null,null,null,null,null,null,{"$f":"IF(K535=\" \",\" \",ROWS($K$5:K535))","v":531},{"$f":"DICTIONARY!M559","v":"Astonishment"},{"$f":"DICTIONARY!O559","v":"विष्मय"},"विष्मय",{"$f":"DICTIONARY!P559","v":0},"विष्मय","विष्मय"]
[null,null,null,null,null,null,null,null,null,{"$f":"IF(K536=\" \",\" \",ROWS($K$5:K536))","v":532},{"$f":"DICTIONARY!M560","v":"Sacred"},{"$f":"DICTIONARY!O560","v":"पवित्र"},"पवित्र",{"$f":"DICTIONARY!P560","v":0},"पवित्र","पवित्र"]
[null,null,null,null,null,null,null,null,null,{"$f":"IF(K537=\" \",\" \",ROWS($K$5:K537))","v":533},{"$f":"DICTIONARY!M561","v":"Guilty"},{"$f":"DICTIONARY!O561","v":"दोषी"},"दोषी",{"$f":"DICTIONARY!P561","v":0},"दोषी","दोषी"]
[null,null,null,null,null,null,null,null,null,{"$f":"IF(K538=\" \",\" \",ROWS($K$5:K538))","v":534},{"$f":"DICTIONARY!M562","v":"Bricklayer"},{"$f":"DICTIONARY!O562","v":"मिस्त्री"},"मिस्त्री",{"$f":"DICTIONARY!P562","v":0},"मिस्त्री","मिस्त्री"]
[null,null,null,null,null,null,null,null,null,{"$f":"IF(K539=\" \",\" \",ROWS($K$5:K539))","v":535},{"$f":"DICTIONARY!M563","v":"Innocent"},{"$f":"DICTIONARY!O563","v":"निर्दोष"},"निर्दोष",{"$f":"DICTIONARY!P563","v":0},"निर्दोष","निर्दोष"]
[null,null,null,null,null,null,null,null,null,{"$f":"IF(K540=\" \",\" \",ROWS($K$5:K540))","v":536},{"$f":"DICTIONARY!M564","v":"Television"},{"$f":"DICTIONARY!O564","v":"दूरदर्शन"},"दूरदर्शन",{"$f":"DICTIONARY!P564","v":0},"दूरदर्शन","दूरदर्शन"]
[null,null,null,null,null,null,null,null,null,{"$f":"IF(K541=\" \",\" \",ROWS($K$5:K541))","v":537},{"$f":"DICTIONARY!M565","v":"Messenger"},{"$f":"DICTIONARY!O565","v":"सन्देशवाहक"},"सन्देशवाहक",{"$f":"DICTIONARY!P565","v":0},"सन्देशवाहक","सन्देशवाहक"]
[null,null,null,null,null,null,null,null,null,{"$f":"IF(K542=\" \",\" \",ROWS($K$5:K542))","v":538},{"$f":"DICTIONARY!M566","v":"Impatient"},{"$f":"DICTIONARY!O566","v":"बैचेन"},"बैचेन",{"$f":"DICTIONARY!P566","v":0},"बैचेन","बैचेन"]
[null,null,null,null,null,null,null,null,null,{"$f":"IF(K543=\" \",\" \",ROWS($K$5:K543))","v":539},{"$f":"DICTIONARY!M567","v":"Tenant"},{"$f":"DICTIONARY!O567","v":"किरायेदार"},"किरायेदार",{"$f":"DICTIONARY!P567","v":0},"किरायेदार","किरायेदार"]
[null,null,null,null,null,null,null,null,null,{"$f":"IF(K544=\" \",\" \",ROWS($K$5:K544))","v":540},{"$f":"DICTIONARY!M568","v":"Tension"},{"$f":"DICTIONARY!O568","v":"खिंचाव, तनाव"},"खिंचाव, तनाव",{"$f":"DICTIONARY!P568","v":0},"खिंचाव, तनाव","खिंचाव, तनाव"]
[null,null,null,null,null,null,null,null,null,{"$f":"IF(K545=\" \",\" \",ROWS($K$5:K545))","v":541},{"$f":"DICTIONARY!M569","v":"Culprit"},{"$f":"DICTIONARY!O569","v":"दोषी"},"दोषी",{"$f":"DICTIONARY!P569","v":0},"दोषी","दोषी"]
[null,null,null,null,null,null,null,null,null,{"$f":"IF(K546=\" \",\" \",ROWS($K$5:K546))","v":542},{"$f":"DICTIONARY!M570","v":"The"},{"$f":"DICTIONARY!O570","v":"वह"},"वह",{"$f":"DICTIONARY!P570","v":0},"वह","वह"]
[null,null,null,null,null,null,null,null,null,{"$f":"IF(K547=\" \",\" \",ROWS($K$5:K547))","v":543},{"$f":"DICTIONARY!M571","v":"Accusation"},{"$f":"DICTIONARY!O571","v":"आरोप"},"आरोप",{"$f":"DICTIONARY!P571","v":0},"आरोप","आरोप"]
[null,null,null,null,null,null,null,null,null,{"$f":"IF(K548=\" \",\" \",ROWS($K$5:K548))","v":544},{"$f":"DICTIONARY!M572","v":"Decree"},{"$f":"DICTIONARY!O572","v":"शासनादेश"},"शासनादेश",{"$f":"DICTIONARY!P572","v":0},"शासनादेश","शासनादेश"]
[null,null,null,null,null,null,null,null,null,{"$f":"IF(K549=\" \",\" \",ROWS($K$5:K549))","v":545},{"$f":"DICTIONARY!M573","v":"They"},{"$f":"DICTIONARY!O573","v":"वे"},"वे",{"$f":"DICTIONARY!P573","v":0},"वे","वे"]
[null,null,null,null,null,null,null,null,null,{"$f":"IF(K550=\" \",\" \",ROWS($K$5:K550))","v":546},{"$f":"DICTIONARY!M574","v":"Thick"},{"$f":"DICTIONARY!O574","v":"घना"},"घना",{"$f":"DICTIONARY!P574","v":0},"घना","घना"]
[null,null,null,null,null,null,null,null,null,{"$f":"IF(K551=\" \",\" \",ROWS($K$5:K551))","v":547},{"$f":"DICTIONARY!M575","v":"Thigh"},{"$f":"DICTIONARY!O575","v":"जांघ"},"जांघ",{"$f":"DICTIONARY!P575","v":"PARTS OF BODY ( शरीर के अंग )"},"जांघ","जांघ"]
[null,null,null,null,null,null,null,null,null,{"$f":"IF(K552=\" \",\" \",ROWS($K$5:K552))","v":548},{"$f":"DICTIONARY!M576","v":"Whisper"},{"$f":"DICTIONARY!O576","v":"फुसफुसाया"},"फुसफुसाया",{"$f":"DICTIONARY!P576","v":0},"फुसफुसाया","फुसफुसाया"]
[null,null,null,null,null,null,null,null,null,{"$f":"IF(K553=\" \",\" \",ROWS($K$5:K553))","v":549},{"$f":"DICTIONARY!M577","v":"Clamour"},{"$f":"DICTIONARY!O577","v":"शोर शराबा"},"शोर शराबा",{"$f":"DICTIONARY!P577","v":0},"शोर शराबा","शोर शराबा"]
[null,null,null,null,null,null,null,null,null,{"$f":"IF(K554=\" \",\" \",ROWS($K$5:K554))","v":550},{"$f":"DICTIONARY!M578","v":"Thought"},{"$f":"DICTIONARY!O578","v":"विचार"},"विचार",{"$f":"DICTIONARY!P578","v":0},"विचार","विचार"]
[null,null,null,null,null,null,null,null,null,{"$f":"IF(K555=\" \",\" \",ROWS($K$5:K555))","v":551},{"$f":"DICTIONARY!M579","v":"Thread"},{"$f":"DICTIONARY!O579","v":"धागा"},"धागा",{"$f":"DICTIONARY!P579","v":0},"धागा","धागा"]
[null,null,null,null,null,null,null,null,null,{"$f":"IF(K556=\" \",\" \",ROWS($K$5:K556))","v":552},{"$f":"DICTIONARY!M580","v":"Threw"},{"$f":"DICTIONARY!O580","v":"फेंक दिया"},"फेंक दिया",{"$f":"DICTIONARY!P580","v":0},"फेंक दिया","फेंक दिया"]
[null,null,null,null,null,null,null,null,null,{"$f":"IF(K557=\" \",\" \",ROWS($K$5:K557))","v":553},{"$f":"DICTIONARY!M581","v":"Persuade"},{"$f":"DICTIONARY!O581","v":"मनाया"},"मनाया",{"$f":"DICTIONARY!P581","v":0},"मनाया","मनाया"]
[null,null,null,null,null,null,null,null,null,{"$f":"IF(K558=\" \",\" \",ROWS($K$5:K558))","v":554},{"$f":"DICTIONARY!M582","v":"Thumb"},{"$f":"DICTIONARY!O582","v":"अंगूठा"},"अंगूठा",{"$f":"DICTIONARY!P582","v":"PARTS OF BODY ( शरीर के अंग )"},"अंगूठा","अंगूठा"]
[null,null,null,null,null,null,null,null,null,{"$f":"IF(K559=\" \",\" \",ROWS($K$5:K559))","v":555},{"$f":"DICTIONARY!M583","v":"Friday"},{"$f":"DICTIONARY!O583","v":"शुक्रवार"},"शुक्रवार",{"$f":"DICTIONARY!P583","v":"DAYS OF A WEEK ( सप्ताह के दिन )"},"शुक्रवार","शुक्रवार"]
[null,null,null,null,null,null,null,null,null,{"$f":"IF(K560=\" \",\" \",ROWS($K$5:K560))","v":556},{"$f":"DICTIONARY!M584","v":"Tiger"},{"$f":"DICTIONARY!O584","v":"चीता"},"चीता",{"$f":"DICTIONARY!P584","v":"ANIMALS ( पशु )"},"चीता","चीता"]
[null,null,null,null,null,null,null,null,null,{"$f":"IF(K561=\" \",\" \",ROWS($K$5:K561))","v":557},{"$f":"DICTIONARY!M585","v":"To Hold"},{"$f":"DICTIONARY!O585","v":"थामने के लिए"},"थामने के लिए",{"$f":"DICTIONARY!P585","v":0},"थामने के लिए","थामने के लिए"]
[null,null,null,null,null,null,null,null,null,{"$f":"IF(K562=\" \",\" \",ROWS($K$5:K562))","v":558},{"$f":"DICTIONARY!M586","v":"Tobacco"},{"$f":"DICTIONARY!O586","v":"तम्बाकू"},"तम्बाकू",{"$f":"DICTIONARY!P586","v":0},"तम्बाकू","तम्बाकू"]
[null,null,null,null,null,null,null,null,null,{"$f":"IF(K563=\" \",\" \",ROWS($K$5:K563))","v":559},{"$f":"DICTIONARY!M587","v":"Solemn"},{"$f":"DICTIONARY!O587","v":"गंभीर"},"गंभीर",{"$f":"DICTIONARY!P587","v":0},"गंभीर","गंभीर"]
[null,null,null,null,null,null,null,null,null,{"$f":"IF(K564=\" \",\" \",ROWS($K$5:K564))","v":560},{"$f":"DICTIONARY!M588","v":"Toilet"},{"$f":"DICTIONARY!O588","v":"शौचालय"},"शौचालय",{"$f":"DICTIONARY!P588","v":0},"शौचालय","शौचालय"]
[null,null,null,null,null,null,null,null,null,{"$f":"IF(K565=\" \",\" \",ROWS($K$5:K565))","v":561},{"$f":"DICTIONARY!M589","v":"Tomato"},{"$f":"DICTIONARY!O589","v":"टमाटर"},"टमाटर",{"$f":"DICTIONARY!P589","v":"VEGETABLES ( सब्जियां )"},"टमाटर","टमाटर"]
[null,null,null,null,null,null,null,null,null,{"$f":"IF(K566=\" \",\" \",ROWS($K$5:K566))","v":562},{"$f":"DICTIONARY!M590","v":"Tong"},{"$f":"DICTIONARY!O590","v":"चिमटा"},"चिमटा",{"$f":"DICTIONARY!P590","v":0},"चिमटा","चिमटा"]
[null,null,null,null,null,null,null,null,null,{"$f":"IF(K567=\" \",\" \",ROWS($K$5:K567))","v":563},{"$f":"DICTIONARY!M591","v":"Tongue"},{"$f":"DICTIONARY!O591","v":"जीभ"},"जीभ",{"$f":"DICTIONARY!P591","v":"PARTS OF BODY ( शरीर के अंग )"},"जीभ","जीभ"]
[null,null,null,null,null,null,null,null,null,{"$f":"IF(K568=\" \",\" \",ROWS($K$5:K568))","v":564},{"$f":"DICTIONARY!M592","v":"Took"},{"$f":"DICTIONARY!O592","v":"लिया"},"लिया",{"$f":"DICTIONARY!P592","v":0},"लिया","लिया"]
[null,null,null,null,null,null,null,null,null,{"$f":"IF(K569=\" \",\" \",ROWS($K$5:K569))","v":565},{"$f":"DICTIONARY!M593","v":"Postponed"},{"$f":"DICTIONARY!O593","v":"स्थगित करना"},"स्थगित करना",{"$f":"DICTIONARY!P593","v":0},"स्थगित करना","स्थगित करना"]
[null,null,null,null,null,null,null,null,null,{"$f":"IF(K570=\" \",\" \",ROWS($K$5:K570))","v":566},{"$f":"DICTIONARY!M594","v":"Touch"},{"$f":"DICTIONARY!O594","v":"स्पर्श,छूना"},"स्पर्श,छूना",{"$f":"DICTIONARY!P594","v":0},"स्पर्श,छूना","स्पर्श,छूना"]
[null,null,null,null,null,null,null,null,null,{"$f":"IF(K571=\" \",\" \",ROWS($K$5:K571))","v":567},{"$f":"DICTIONARY!M595","v":"Towards"},{"$f":"DICTIONARY!O595","v":"की तरफ"},"की तरफ",{"$f":"DICTIONARY!P595","v":0},"की तरफ","की तरफ"]
[null,null,null,null,null,null,null,null,null,{"$f":"IF(K572=\" \",\" \",ROWS($K$5:K572))","v":568},{"$f":"DICTIONARY!M596","v":"Towl"},{"$f":"DICTIONARY!O596","v":"तोलिया"},"तोलिया",{"$f":"DICTIONARY!P596","v":0},"तोलिया","तोलिया"]
[null,null,null,null,null,null,null,null,null,{"$f":"IF(K573=\" \",\" \",ROWS($K$5:K573))","v":569},{"$f":"DICTIONARY!M597","v":"Statue"},{"$f":"DICTIONARY!O597","v":"स्तम्भ"},"स्तम्भ",{"$f":"DICTIONARY!P597","v":0},"स्तम्भ","स्तम्भ"]
[null,null,null,null,null,null,null,null,null,{"$f":"IF(K574=\" \",\" \",ROWS($K$5:K574))","v":570},{"$f":"DICTIONARY!M598","v":"Trap"},{"$f":"DICTIONARY!O598","v":"ग्रहण करना"},"ग्रहण करना",{"$f":"DICTIONARY!P598","v":0},"ग्रहण करना","ग्रहण करना"]
[null,null,null,null,null,null,null,null,null,{"$f":"IF(K575=\" \",\" \",ROWS($K$5:K575))","v":571},{"$f":"DICTIONARY!M599","v":"Trouser"},{"$f":"DICTIONARY!O599","v":"पजामा"},"पजामा",{"$f":"DICTIONARY!P599","v":0},"पजामा","पजामा"]
[null,null,null,null,null,null,null,null,null,{"$f":"IF(K576=\" \",\" \",ROWS($K$5:K576))","v":572},{"$f":"DICTIONARY!M600","v":"Truth"},{"$f":"DICTIONARY!O600","v":"सही"},"सही",{"$f":"DICTIONARY!P600","v":0},"सही","सही"]
[null,null,null,null,null,null,null,null,null,{"$f":"IF(K577=\" \",\" \",ROWS($K$5:K577))","v":573},{"$f":"DICTIONARY!M601","v":"Tub"},{"$f":"DICTIONARY!O601","v":"टैब"},"टैब",{"$f":"DICTIONARY!P601","v":0},"टैब","टैब"]
[null,null,null,null,null,null,null,null,null,{"$f":"IF(K578=\" \",\" \",ROWS($K$5:K578))","v":574},{"$f":"DICTIONARY!M602","v":"Saturday"},{"$f":"DICTIONARY!O602","v":"शनिवार"},"शनिवार",{"$f":"DICTIONARY!P602","v":"DAYS OF A WEEK ( सप्ताह के दिन )"},"शनिवार","शनिवार"]
[null,null,null,null,null,null,null,null,null,{"$f":"IF(K579=\" \",\" \",ROWS($K$5:K579))","v":575},{"$f":"DICTIONARY!M603","v":"Turnip"},{"$f":"DICTIONARY!O603","v":"शलजम"},"शलजम",{"$f":"DICTIONARY!P603","v":"VEGETABLES ( सब्जियां )"},"शलजम","शलजम"]
[null,null,null,null,null,null,null,null,null,{"$f":"IF(K580=\" \",\" \",ROWS($K$5:K580))","v":576},{"$f":"DICTIONARY!M604","v":"Types"},{"$f":"DICTIONARY!O604","v":"प्रकार"},"प्रकार",{"$f":"DICTIONARY!P604","v":0},"प्रकार","प्रकार"]
[null,null,null,null,null,null,null,null,null,{"$f":"IF(K581=\" \",\" \",ROWS($K$5:K581))","v":577},{"$f":"DICTIONARY!M605","v":"Curious"},{"$f":"DICTIONARY!O605","v":"विचित्र"},"विचित्र",{"$f":"DICTIONARY!P605","v":0},{"$f":"M581","v":"विचित्र"},{"$f":"L581","v":"विचित्र"}]
[null,null,null,null,null,null,null,null,null,{"$f":"IF(K582=\" \",\" \",ROWS($K$5:K582))","v":578},{"$f":"DICTIONARY!M606","v":"Underground"},{"$f":"DICTIONARY!O606","v":"भूमिगत"},{"$f":"L582","v":"भूमिगत"},{"$f":"DICTIONARY!P606","v":0},"भूमिगत","भूमिगत"]
[null,null,null,null,null,null,null,null,null,{"$f":"IF(K583=\" \",\" \",ROWS($K$5:K583))","v":579},{"$f":"DICTIONARY!M607","v":"Uniformity"},{"$f":"DICTIONARY!O607","v":"एकरूपता"},"एकरूपता",{"$f":"DICTIONARY!P607","v":0},"एकरूपता","एकरूपता"]
[null,null,null,null,null,null,null,null,null,{"$f":"IF(K584=\" \",\" \",ROWS($K$5:K584))","v":580},{"$f":"DICTIONARY!M608","v":"Unless"},{"$f":"DICTIONARY!O608","v":"जब तक"},"जब तक",{"$f":"DICTIONARY!P608","v":0},"जब तक","जब तक"]
[null,null,null,null,null,null,null,null,null,{"$f":"IF(K585=\" \",\" \",ROWS($K$5:K585))","v":581},{"$f":"DICTIONARY!M609","v":"Determiner"},{"$f":"DICTIONARY!O609","v":"दृढ निश्चयी"},"दृढ निश्चयी",{"$f":"DICTIONARY!P609","v":0},"दृढ निश्चयी","दृढ निश्चयी"]
[null,null,null,null,null,null,null,null,null,{"$f":"IF(K586=\" \",\" \",ROWS($K$5:K586))","v":582},{"$f":"DICTIONARY!M610","v":"Use"},{"$f":"DICTIONARY!O610","v":"उपयोग"},"उपयोग",{"$f":"DICTIONARY!P610","v":0},"उपयोग","उपयोग"]
[null,null,null,null,null,null,null,null,null,{"$f":"IF(K587=\" \",\" \",ROWS($K$5:K587))","v":583},{"$f":"DICTIONARY!M611","v":"Useful"},{"$f":"DICTIONARY!O611","v":"उपयोगी"},"उपयोगी",{"$f":"DICTIONARY!P611","v":0},"उपयोगी","उपयोगी"]
[null,null,null,null,null,null,null,null,null,{"$f":"IF(K588=\" \",\" \",ROWS($K$5:K588))","v":584},{"$f":"DICTIONARY!M612","v":"Usual"},{"$f":"DICTIONARY!O612","v":" सामान्य"}," सामान्य",{"$f":"DICTIONARY!P612","v":0}," सामान्य"," सामान्य"]
[null,null,null,null,null,null,null,null,null,{"$f":"IF(K589=\" \",\" \",ROWS($K$5:K589))","v":585},{"$f":"DICTIONARY!M613","v":"Uterus"},{"$f":"DICTIONARY!O613","v":"गर्भाशय"},"गर्भाशय",{"$f":"DICTIONARY!P613","v":"RELATIONS AND RELATIVES ( सम्बन्ध और सम्बन्धी )"},"गर्भाशय","गर्भाशय"]
[null,null,null,null,null,null,null,null,null,{"$f":"IF(K590=\" \",\" \",ROWS($K$5:K590))","v":586},{"$f":"DICTIONARY!M614","v":"Vagina"},{"$f":"DICTIONARY!O614","v":"योनी"},"योनी",{"$f":"DICTIONARY!P614","v":"RELATIONS AND RELATIVES ( सम्बन्ध और सम्बन्धी )"},"योनी","योनी"]
[null,null,null,null,null,null,null,null,null,{"$f":"IF(K591=\" \",\" \",ROWS($K$5:K591))","v":587},{"$f":"DICTIONARY!M615","v":"Vase"},{"$f":"DICTIONARY!O615","v":"फूलदान"},"फूलदान",{"$f":"DICTIONARY!P615","v":0},"फूलदान","फूलदान"]
[null,null,null,null,null,null,null,null,null,{"$f":"IF(K592=\" \",\" \",ROWS($K$5:K592))","v":588},{"$f":"DICTIONARY!M616","v":"Vegetable"},{"$f":"DICTIONARY!O616","v":"सब्जी"},"सब्जी",{"$f":"DICTIONARY!P616","v":"VEGETABLES ( सब्जियां )"},"सब्जी","सब्जी"]
[null,null,null,null,null,null,null,null,null,{"$f":"IF(K593=\" \",\" \",ROWS($K$5:K593))","v":589},{"$f":"DICTIONARY!M617","v":"Pedestal"},{"$f":"DICTIONARY!O617","v":"स्तम्भ"},"स्तम्भ",{"$f":"DICTIONARY!P617","v":0},"स्तम्भ","स्तम्भ"]
[null,null,null,null,null,null,null,null,null,{"$f":"IF(K594=\" \",\" \",ROWS($K$5:K594))","v":590},{"$f":"DICTIONARY!M618","v":"Crisp"},{"$f":"DICTIONARY!O618","v":"खुश्क"},"खुश्क",{"$f":"DICTIONARY!P618","v":0},"खुश्क","खुश्क"]
[null,null,null,null,null,null,null,null,null,{"$f":"IF(K595=\" \",\" \",ROWS($K$5:K595))","v":591},{"$f":"DICTIONARY!M619","v":"Vest"},{"$f":"DICTIONARY!O619","v":"बनियान"},"बनियान",{"$f":"DICTIONARY!P619","v":0},"बनियान","बनियान"]
[null,null,null,null,null,null,null,null,null,{"$f":"IF(K596=\" \",\" \",ROWS($K$5:K596))","v":592},{"$f":"DICTIONARY!M620","v":"Vowel"},{"$f":"DICTIONARY!O620","v":"स्वर"},"स्वर",{"$f":"DICTIONARY!P620","v":0},"स्वर","स्वर"]
[null,null,null,null,null,null,null,null,null,{"$f":"IF(K597=\" \",\" \",ROWS($K$5:K597))","v":593},{"$f":"DICTIONARY!M621","v":"Vulture"},{"$f":"DICTIONARY!O621","v":"गिद्ध"},"गिद्ध",{"$f":"DICTIONARY!P621","v":"BIRDS  ( पक्षियों के नाम  )"},"गिद्ध","गिद्ध"]
[null,null,null,null,null,null,null,null,null,{"$f":"IF(K598=\" \",\" \",ROWS($K$5:K598))","v":594},{"$f":"DICTIONARY!M622","v":"Waist"},{"$f":"DICTIONARY!O622","v":"छाती"},"छाती",{"$f":"DICTIONARY!P622","v":"PARTS OF BODY ( शरीर के अंग )"},"छाती","छाती"]
[null,null,null,null,null,null,null,null,null,{"$f":"IF(K599=\" \",\" \",ROWS($K$5:K599))","v":595},{"$f":"DICTIONARY!M623","v":"Wash"},{"$f":"DICTIONARY!O623","v":"धोना"},"धोना",{"$f":"DICTIONARY!P623","v":0},"धोना","धोना"]
[null,null,null,null,null,null,null,null,null,{"$f":"IF(K600=\" \",\" \",ROWS($K$5:K600))","v":596},{"$f":"DICTIONARY!M624","v":"Crack"},{"$f":"DICTIONARY!O624","v":"दरार"},"दरार",{"$f":"DICTIONARY!P624","v":0},"दरार","दरार"]
[null,null,null,null,null,null,null,null,null,{"$f":"IF(K601=\" \",\" \",ROWS($K$5:K601))","v":597},{"$f":"DICTIONARY!M625","v":"Water Melon"},{"$f":"DICTIONARY!O625","v":"तरबूज"},"तरबूज","FRUITS NAME ( फलो के नाम )","तरबूज","तरबूज"]
[null,null,null,null,null,null,null,null,null,{"$f":"IF(K602=\" \",\" \",ROWS($K$5:K602))","v":598},{"$f":"DICTIONARY!M626","v":"Sunday"},{"$f":"DICTIONARY!O626","v":"रविवार"},"रविवार",{"$f":"DICTIONARY!P626","v":"DAYS OF A WEEK ( सप्ताह के दिन )"},"रविवार","रविवार"]
[null,null,null,null,null,null,null,null,null,{"$f":"IF(K603=\" \",\" \",ROWS($K$5:K603))","v":599},{"$f":"DICTIONARY!M627","v":"Well Being"},{"$f":"DICTIONARY!O627","v":"खुशहाली"},"खुशहाली",{"$f":"DICTIONARY!P627","v":0},"खुशहाली","खुशहाली"]
[null,null,null,null,null,null,null,null,null,{"$f":"IF(K604=\" \",\" \",ROWS($K$5:K604))","v":600},{"$f":"DICTIONARY!M628","v":" What "},{"$f":"DICTIONARY!O628","v":"क्या"},"क्या",{"$f":"DICTIONARY!P628","v":"QUESTIONS WORDS  ( प्रश्न वाचक शब्द )"},"क्या","क्या"]
[null,null,null,null,null,null,null,null,null,{"$f":"IF(K605=\" \",\" \",ROWS($K$5:K605))","v":601},{"$f":"DICTIONARY!M629","v":"Wheat"},{"$f":"DICTIONARY!O629","v":"गेहूं"},"गेहूं",{"$f":"DICTIONARY!P629","v":0},"गेहूं","गेहूं"]
[null,null,null,null,null,null,null,null,null,{"$f":"IF(K606=\" \",\" \",ROWS($K$5:K606))","v":602},{"$f":"DICTIONARY!M630","v":"Surge"},{"$f":"DICTIONARY!O630","v":"उफान"},"उफान",{"$f":"DICTIONARY!P630","v":0},"उफान","उफान"]
[null,null,null,null,null,null,null,null,null,{"$f":"IF(K607=\" \",\" \",ROWS($K$5:K607))","v":603},{"$f":"DICTIONARY!M631","v":"Whether"},{"$f":"DICTIONARY!O631","v":"मोसम"},"मोसम",{"$f":"DICTIONARY!P631","v":0},"मोसम","मोसम"]
[null,null,null,null,null,null,null,null,null,{"$f":"IF(K608=\" \",\" \",ROWS($K$5:K608))","v":604},{"$f":"DICTIONARY!M632","v":"Whole"},{"$f":"DICTIONARY!O632","v":"पूरा"},"पूरा",{"$f":"DICTIONARY!P632","v":0},"पूरा","पूरा"]
[null,null,null,null,null,null,null,null,null,{"$f":"IF(K609=\" \",\" \",ROWS($K$5:K609))","v":605},{"$f":"DICTIONARY!M633","v":" Whom"},{"$f":"DICTIONARY!O633","v":"किसका"},"किसका",{"$f":"DICTIONARY!P633","v":"QUESTIONS WORDS  ( प्रश्न वाचक शब्द )"},"किसका","किसका"]
[null,null,null,null,null,null,null,null,null,{"$f":"IF(K610=\" \",\" \",ROWS($K$5:K610))","v":606},{"$f":"DICTIONARY!M634","v":" Whose"},{"$f":"DICTIONARY!O634","v":"किसका"},"किसका",{"$f":"DICTIONARY!P634","v":"QUESTIONS WORDS  ( प्रश्न वाचक शब्द )"},"किसका","किसका"]
[null,null,null,null,null,null,null,null,null,{"$f":"IF(K611=\" \",\" \",ROWS($K$5:K611))","v":607},{"$f":"DICTIONARY!M635","v":" Why"},{"$f":"DICTIONARY!O635","v":"क्यों"},"क्यों",{"$f":"DICTIONARY!P635","v":"QUESTIONS WORDS  ( प्रश्न वाचक शब्द )"},"क्यों","क्यों"]
[null,null,null,null,null,null,null,null,null,{"$f":"IF(K612=\" \",\" \",ROWS($K$5:K612))","v":608},{"$f":"DICTIONARY!M636","v":"Dreadful"},{"$f":"DICTIONARY!O636","v":"भयानक"},"भयानक",{"$f":"DICTIONARY!P636","v":0},"भयानक","भयानक"]
[null,null,null,null,null,null,null,null,null,{"$f":"IF(K613=\" \",\" \",ROWS($K$5:K613))","v":609},{"$f":"DICTIONARY!M637","v":"Corpses"},{"$f":"DICTIONARY!O637","v":"लाशे"},"लाशे",{"$f":"DICTIONARY!P637","v":0},"लाशे","लाशे"]
[null,null,null,null,null,null,null,null,null,{"$f":"IF(K614=\" \",\" \",ROWS($K$5:K614))","v":610},{"$f":"DICTIONARY!M638","v":"Windmill"},{"$f":"DICTIONARY!O638","v":"पवन चक्की"},"पवन चक्की",{"$f":"DICTIONARY!P638","v":0},"पवन चक्की","पवन चक्की"]
[null,null,null,null,null,null,null,null,null,{"$f":"IF(K615=\" \",\" \",ROWS($K$5:K615))","v":611},{"$f":"DICTIONARY!M639","v":"Refuge"},{"$f":"DICTIONARY!O639","v":"शरण"},"शरण",{"$f":"DICTIONARY!P639","v":0},"शरण","शरण"]
[null,null,null,null,null,null,null,null,null,{"$f":"IF(K616=\" \",\" \",ROWS($K$5:K616))","v":612},{"$f":"DICTIONARY!M640","v":"Wine"},{"$f":"DICTIONARY!O640","v":"शराब"},"शराब",{"$f":"DICTIONARY!P640","v":0},"शराब","शराब"]
[null,null,null,null,null,null,null,null,null,{"$f":"IF(K617=\" \",\" \",ROWS($K$5:K617))","v":613},{"$f":"DICTIONARY!M641","v":"Wolf"},{"$f":"DICTIONARY!O641","v":"भेड़िया"},"भेड़िया",{"$f":"DICTIONARY!P641","v":"ANIMALS ( पशु )"},"भेड़िया","भेड़िया"]
[null,null,null,null,null,null,null,null,null,{"$f":"IF(K618=\" \",\" \",ROWS($K$5:K618))","v":614},{"$f":"DICTIONARY!M642","v":"Woman"},{"$f":"DICTIONARY!O642","v":"औरत"},"औरत",{"$f":"DICTIONARY!P642","v":0},"औरत","औरत"]
[null,null,null,null,null,null,null,null,null,{"$f":"IF(K619=\" \",\" \",ROWS($K$5:K619))","v":615},{"$f":"DICTIONARY!M643","v":"Womb"},{"$f":"DICTIONARY!O643","v":"गर्भ"},"गर्भ",{"$f":"DICTIONARY!P643","v":"PARTS OF BODY ( शरीर के अंग )"},"गर्भ","गर्भ"]
[null,null,null,null,null,null,null,null,null,{"$f":"IF(K620=\" \",\" \",ROWS($K$5:K620))","v":616},{"$f":"DICTIONARY!M644","v":"Wool"},{"$f":"DICTIONARY!O644","v":"उन"},"उन",{"$f":"DICTIONARY!P644","v":0},"उन","उन"]
[null,null,null,null,null,null,null,null,null,{"$f":"IF(K621=\" \",\" \",ROWS($K$5:K621))","v":617},{"$f":"DICTIONARY!M645","v":"Fury"},{"$f":"DICTIONARY!O645","v":"प्रचंड क्रोध"},"प्रचंड क्रोध",{"$f":"DICTIONARY!P645","v":0},"प्रचंड क्रोध","प्रचंड क्रोध"]
[null,null,null,null,null,null,null,null,null,{"$f":"IF(K622=\" \",\" \",ROWS($K$5:K622))","v":618},{"$f":"DICTIONARY!M646","v":"Worry"},{"$f":"DICTIONARY!O646","v":"चिंता"},"चिंता",{"$f":"DICTIONARY!P646","v":0},"चिंता","चिंता"]
[null,null,null,null,null,null,null,null,null,{"$f":"IF(K623=\" \",\" \",ROWS($K$5:K623))","v":619},{"$f":"DICTIONARY!M647","v":"Worth"},{"$f":"DICTIONARY!O647","v":"कीमत,मूल्य"},"कीमत,मूल्य",{"$f":"DICTIONARY!P647","v":0},"कीमत,मूल्य","कीमत,मूल्य"]
[null,null,null,null,null,null,null,null,null,{"$f":"IF(K624=\" \",\" \",ROWS($K$5:K624))","v":620},{"$f":"DICTIONARY!M648","v":"Motley"},{"$f":"DICTIONARY!O648","v":"रँग-बिरंगी"},"रँग-बिरंगी",{"$f":"DICTIONARY!P648","v":0},"रँग-बिरंगी","रँग-बिरंगी"]
[null,null,null,null,null,null,null,null,null,{"$f":"IF(K625=\" \",\" \",ROWS($K$5:K625))","v":621},{"$f":"DICTIONARY!M649","v":"Macabre"},{"$f":"DICTIONARY!O649","v":"भयावह"},"भयावह",{"$f":"DICTIONARY!P649","v":0},"भयावह","भयावह"]
[null,null,null,null,null,null,null,null,null,{"$f":"IF(K626=\" \",\" \",ROWS($K$5:K626))","v":622},{"$f":"DICTIONARY!M650","v":"Remnants"},{"$f":"DICTIONARY!O650","v":"अवशेष"},"अवशेष",{"$f":"DICTIONARY!P650","v":0},"अवशेष","अवशेष"]
[null,null,null,null,null,null,null,null,null,{"$f":"IF(K627=\" \",\" \",ROWS($K$5:K627))","v":623},{"$f":"DICTIONARY!M651","v":"Mobilised"},{"$f":"DICTIONARY!O651","v":"गतिमान किया"},"गतिमान किया",{"$f":"DICTIONARY!P651","v":0},"गतिमान किया","गतिमान किया"]
[null,null,null,null,null,null,null,null,null,{"$f":"IF(K628=\" \",\" \",ROWS($K$5:K628))","v":624},{"$f":"DICTIONARY!M652","v":"Initial"},{"$f":"DICTIONARY!O652","v":"प्रारम्भिक"},"प्रारम्भिक",{"$f":"DICTIONARY!P652","v":0},"प्रारम्भिक","प्रारम्भिक"]
[null,null,null,null,null,null,null,null,null,{"$f":"IF(K629=\" \",\" \",ROWS($K$5:K629))","v":625},{"$f":"DICTIONARY!M653","v":"Yours"},{"$f":"DICTIONARY!O653","v":"आपका"},"आपका",{"$f":"DICTIONARY!P653","v":0},"आपका","आपका"]
[null,null,null,null,null,null,null,null,null,{"$f":"IF(K630=\" \",\" \",ROWS($K$5:K630))","v":626},{"$f":"DICTIONARY!M654","v":"Communicate"},{"$f":"DICTIONARY!O654","v":"सन्देश भेजना"},"सन्देश भेजना",{"$f":"DICTIONARY!P654","v":0},"सन्देश भेजना","सन्देश भेजना"]
[null,null,null,null,null,null,null,null,null,{"$f":"IF(K631=\" \",\" \",ROWS($K$5:K631))","v":627},{"$f":"DICTIONARY!M655","v":"Zebra"},{"$f":"DICTIONARY!O655","v":"जंगली गधा"},"जंगली गधा",{"$f":"DICTIONARY!P655","v":"ANIMALS ( पशु )"},"जंगली गधा","जंगली गधा"]
[null,null,null,null,null,null,null,null,null,{"$f":"IF(K632=\" \",\" \",ROWS($K$5:K632))","v":628},{"$f":"DICTIONARY!M656","v":"Zoo"},{"$f":"DICTIONARY!O656","v":"चिड़ियाघर"},"चिड़ियाघर",{"$f":"DICTIONARY!P656","v":0},"चिड़ियाघर","चिड़ियाघर"]
[null,null,null,null,null,null,null,null,null,{"$f":"IF(K633=\" \",\" \",ROWS($K$5:K633))","v":629},{"$f":"DICTIONARY!M657","v":"False"},{"$f":"DICTIONARY!O657","v":"गलत"},"गलत",{"$f":"DICTIONARY!P657","v":0},"गलत","गलत"]
[null,null,null,null,null,null,null,null,null,{"$f":"IF(K634=\" \",\" \",ROWS($K$5:K634))","v":630},{"$f":"DICTIONARY!M658","v":"True"},{"$f":"DICTIONARY!O658","v":"सत्य"},"सत्य",{"$f":"DICTIONARY!P658","v":0},"सत्य","सत्य"]
[null,null,null,null,null,null,null,null,null,{"$f":"IF(K635=\" \",\" \",ROWS($K$5:K635))","v":631},{"$f":"DICTIONARY!M659","v":"Finish"},{"$f":"DICTIONARY!O659","v":"खत्म करना"},"खत्म करना",{"$f":"DICTIONARY!P659","v":0},"खत्म करना","खत्म करना"]
[null,null,null,null,null,null,null,null,null,{"$f":"IF(K636=\" \",\" \",ROWS($K$5:K636))","v":632},{"$f":"DICTIONARY!M660","v":"Finality"},{"$f":"DICTIONARY!O660","v":"अंतिम रूप से"},"अंतिम रूप से",{"$f":"DICTIONARY!P660","v":0},"अंतिम रूप से","अंतिम रूप से"]
[null,null,null,null,null,null,null,null,null,{"$f":"IF(K637=\" \",\" \",ROWS($K$5:K637))","v":633},{"$f":"DICTIONARY!M661","v":"Recover"},{"$f":"DICTIONARY!O661","v":"ठीक होना"},"ठीक होना",{"$f":"DICTIONARY!P661","v":0},"ठीक होना","ठीक होना"]
[null,null,null,null,null,null,null,null,null,{"$f":"IF(K638=\" \",\" \",ROWS($K$5:K638))","v":634},{"$f":"DICTIONARY!M662","v":"Masterpiece"},{"$f":"DICTIONARY!O662","v":"अनुपमकृति"},"अनुपमकृति",{"$f":"DICTIONARY!P662","v":0},"अनुपमकृति","अनुपमकृति"]
[null,null,null,null,null,null,null,null,null,{"$f":"IF(K639=\" \",\" \",ROWS($K$5:K639))","v":635},{"$f":"DICTIONARY!M663","v":"Flutter"},{"$f":"DICTIONARY!O663","v":"फदफदाना"},"फदफदाना",{"$f":"DICTIONARY!P663","v":0},"फदफदाना","फदफदाना"]
[null,null,null,null,null,null,null,null,null,{"$f":"IF(K640=\" \",\" \",ROWS($K$5:K640))","v":636},{"$f":"DICTIONARY!M664","v":"Energytically"},{"$f":"DICTIONARY!O664","v":"फुर्तिवान"},"फुर्तिवान",{"$f":"DICTIONARY!P664","v":0},"फुर्तिवान","फुर्तिवान"]
[null,null,null,null,null,null,null,null,null,{"$f":"IF(K641=\" \",\" \",ROWS($K$5:K641))","v":637},{"$f":"DICTIONARY!M665","v":"Tow"},{"$f":"DICTIONARY!O665","v":"खीच करलाना"},"खीच करलाना",{"$f":"DICTIONARY!P665","v":0},"खीच करलाना","खीच करलाना"]
[null,null,null,null,null,null,null,null,null,{"$f":"IF(K642=\" \",\" \",ROWS($K$5:K642))","v":638},{"$f":"DICTIONARY!M666","v":"Swatting"},{"$f":"DICTIONARY!O666","v":"जोर से मारना"},"जोर से मारना",{"$f":"DICTIONARY!P666","v":0},"जोर से मारना","जोर से मारना"]
[null,null,null,null,null,null,null,null,null,{"$f":"IF(K643=\" \",\" \",ROWS($K$5:K643))","v":639},{"$f":"DICTIONARY!M667","v":"Encourage"},{"$f":"DICTIONARY!O667","v":"प्रोत्साहन देना"},"प्रोत्साहन देना","FRUITS NAME ( फलो के नाम )","प्रोत्साहन देना","प्रोत्साहन देना"]
[null,null,null,null,null,null,null,null,null,{"$f":"IF(K644=\" \",\" \",ROWS($K$5:K644))","v":640},{"$f":"DICTIONARY!M668","v":"Fallday"},{"$f":"DICTIONARY!O668","v":"पतझड़ के दिन"},"पतझड़ के दिन",{"$f":"DICTIONARY!P668","v":0},"पतझड़ के दिन","पतझड़ के दिन"]
[null,null,null,null,null,null,null,null,null,{"$f":"IF(K645=\" \",\" \",ROWS($K$5:K645))","v":641},{"$f":"DICTIONARY!M669","v":"Diminish"},{"$f":"DICTIONARY!O669","v":"धीरे-धीरे कम होना"},"धीरे-धीरे कम होना",{"$f":"DICTIONARY!P669","v":0},{"$f":"M645","v":"धीरे-धीरे कम होना"},{"$f":"L645","v":"धीरे-धीरे कम होना"}]
[null,null,null,null,null,null,null,null,null,{"$f":"IF(K646=\" \",\" \",ROWS($K$5:K646))","v":642},{"$f":"DICTIONARY!M670","v":"Surreal"},{"$f":"DICTIONARY!O670","v":"अजीब"},{"$f":"L646","v":"अजीब"},{"$f":"DICTIONARY!P670","v":0},"अजीब","अजीब"]
[null,null,null,null,null,null,null,null,null,{"$f":"IF(K647=\" \",\" \",ROWS($K$5:K647))","v":643},{"$f":"DICTIONARY!M671","v":"Basil"},{"$f":"DICTIONARY!O671","v":"तुलसी"},"तुलसी",{"$f":"DICTIONARY!P671","v":0},"तुलसी","तुलसी"]
[null,null,null,null,null,null,null,null,null,{"$f":"IF(K648=\" \",\" \",ROWS($K$5:K648))","v":644},{"$f":"DICTIONARY!M672","v":"Rescue"},{"$f":"DICTIONARY!O672","v":"बचाना"},"बचाना",{"$f":"DICTIONARY!P672","v":0},"बचाना","बचाना"]
[null,null,null,null,null,null,null,null,null,{"$f":"IF(K649=\" \",\" \",ROWS($K$5:K649))","v":645},{"$f":"DICTIONARY!M673","v":"Cinnamon"},{"$f":"DICTIONARY!O673","v":"दालचीनी"},"दालचीनी",{"$f":"DICTIONARY!P673","v":"CORNS AND SPICES ( अन्न और मसाले )"},"दालचीनी","दालचीनी"]
[null,null,null,null,null,null,null,null,null,{"$f":"IF(K650=\" \",\" \",ROWS($K$5:K650))","v":646},{"$f":"DICTIONARY!M674","v":"Damage"},{"$f":"DICTIONARY!O674","v":"नुकसान"},"नुकसान",{"$f":"DICTIONARY!P674","v":0},"नुकसान","नुकसान"]
[null,null,null,null,null,null,null,null,null,{"$f":"IF(K651=\" \",\" \",ROWS($K$5:K651))","v":647},{"$f":"DICTIONARY!M675","v":"Cardmom"},{"$f":"DICTIONARY!O675","v":"इलायची"},"इलायची",{"$f":"DICTIONARY!P675","v":"CORNS AND SPICES ( अन्न और मसाले )"},"इलायची","इलायची"]
[null,null,null,null,null,null,null,null,null,{"$f":"IF(K652=\" \",\" \",ROWS($K$5:K652))","v":648},{"$f":"DICTIONARY!M676","v":"Betel Nut"},{"$f":"DICTIONARY!O676","v":"सुपारी"},"सुपारी",{"$f":"DICTIONARY!P676","v":0},"सुपारी","सुपारी"]
[null,null,null,null,null,null,null,null,null,{"$f":"IF(K653=\" \",\" \",ROWS($K$5:K653))","v":649},{"$f":"DICTIONARY!M677","v":"Grieve"},{"$f":"DICTIONARY!O677","v":"शौक मनाना"},"शौक मनाना",{"$f":"DICTIONARY!P677","v":0},"शौक मनाना","शौक मनाना"]
[null,null,null,null,null,null,null,null,null,{"$f":"IF(K654=\" \",\" \",ROWS($K$5:K654))","v":650},{"$f":"DICTIONARY!M678","v":"Realise"},{"$f":"DICTIONARY!O678","v":"महसूस करना"},"महसूस करना",{"$f":"DICTIONARY!P678","v":0},"महसूस करना","महसूस करना"]
[null,null,null,null,null,null,null,null,null,{"$f":"IF(K655=\" \",\" \",ROWS($K$5:K655))","v":651},{"$f":"DICTIONARY!M679","v":"Curb"},{"$f":"DICTIONARY!O679","v":"किनार"},"किनार",{"$f":"DICTIONARY!P679","v":0},"किनार","किनार"]
[null,null,null,null,null,null,null,null,null,{"$f":"IF(K656=\" \",\" \",ROWS($K$5:K656))","v":652},{"$f":"DICTIONARY!M680","v":"Casualty"},{"$f":"DICTIONARY!O680","v":"नष्ट"},"नष्ट",{"$f":"DICTIONARY!P680","v":0},"नष्ट","नष्ट"]
[null,null,null,null,null,null,null,null,null,{"$f":"IF(K657=\" \",\" \",ROWS($K$5:K657))","v":653},{"$f":"DICTIONARY!M681","v":"Focusing"},{"$f":"DICTIONARY!O681","v":"केन्द्रित"},"केन्द्रित",{"$f":"DICTIONARY!P681","v":0},"केन्द्रित","केन्द्रित"]
[null,null,null,null,null,null,null,null,null,{"$f":"IF(K658=\" \",\" \",ROWS($K$5:K658))","v":654},{"$f":"DICTIONARY!M682","v":"Overwhelming"},{"$f":"DICTIONARY!O682","v":"अति प्रबल"},"अति प्रबल",{"$f":"DICTIONARY!P682","v":0},"अति प्रबल","अति प्रबल"]
[null,null,null,null,null,null,null,null,null,{"$f":"IF(K659=\" \",\" \",ROWS($K$5:K659))","v":655},{"$f":"DICTIONARY!M683","v":"Gratitude"},{"$f":"DICTIONARY!O683","v":"आभार"},"आभार",{"$f":"DICTIONARY!P683","v":0},"आभार","आभार"]
[null,null,null,null,null,null,null,null,null,{"$f":"IF(K660=\" \",\" \",ROWS($K$5:K660))","v":656},{"$f":"DICTIONARY!M684","v":"Tambourine"},{"$f":"DICTIONARY!O684","v":"दफ"},"दफ",{"$f":"DICTIONARY!P684","v":0},"दफ","दफ"]
[null,null,null,null,null,null,null,null,null,{"$f":"IF(K661=\" \",\" \",ROWS($K$5:K661))","v":657},{"$f":"DICTIONARY!M685","v":"Dumbstruck"},{"$f":"DICTIONARY!O685","v":"हक्का बक्का"},"हक्का बक्का",{"$f":"DICTIONARY!P685","v":0},"हक्का बक्का","हक्का बक्का"]
[null,null,null,null,null,null,null,null,null,{"$f":"IF(K662=\" \",\" \",ROWS($K$5:K662))","v":658},{"$f":"DICTIONARY!M686","v":"Tomtom"},{"$f":"DICTIONARY!O686","v":"ढोलक"},"ढोलक",{"$f":"DICTIONARY!P686","v":0},"ढोलक","ढोलक"]
[null,null,null,null,null,null,null,null,null,{"$f":"IF(K663=\" \",\" \",ROWS($K$5:K663))","v":659},{"$f":"DICTIONARY!M687","v":"Bugie"},{"$f":"DICTIONARY!O687","v":"तुरही"},"तुरही",{"$f":"DICTIONARY!P687","v":0},"तुरही","तुरही"]
[null,null,null,null,null,null,null,null,null,{"$f":"IF(K664=\" \",\" \",ROWS($K$5:K664))","v":660},{"$f":"DICTIONARY!M688","v":"Cascade"},{"$f":"DICTIONARY!O688","v":"झरना"},"झरना",{"$f":"DICTIONARY!P688","v":0},"झरना","झरना"]
[null,null,null,null,null,null,null,null,null,{"$f":"IF(K665=\" \",\" \",ROWS($K$5:K665))","v":661},{"$f":"DICTIONARY!M689","v":"Concourse"},{"$f":"DICTIONARY!O689","v":"प्रांगन"},"प्रांगन",{"$f":"DICTIONARY!P689","v":0},"प्रांगन","प्रांगन"]
[null,null,null,null,null,null,null,null,null,{"$f":"IF(K666=\" \",\" \",ROWS($K$5:K666))","v":662},{"$f":"DICTIONARY!M690","v":"Crash"},{"$f":"DICTIONARY!O690","v":"धराशाही होना"},"धराशाही होना",{"$f":"DICTIONARY!P690","v":0},"धराशाही होना","धराशाही होना"]
[null,null,null,null,null,null,null,null,null,{"$f":"IF(K667=\" \",\" \",ROWS($K$5:K667))","v":663},{"$f":"DICTIONARY!M691","v":"Perhaps"},{"$f":"DICTIONARY!O691","v":"शायद"},"शायद",{"$f":"DICTIONARY!P691","v":0},"शायद","शायद"]
[null,null,null,null,null,null,null,null,null,{"$f":"IF(K668=\" \",\" \",ROWS($K$5:K668))","v":664},{"$f":"DICTIONARY!M692","v":"Whistle"},{"$f":"DICTIONARY!O692","v":"सिटी"},"सिटी",{"$f":"DICTIONARY!P692","v":0},"सिटी","सिटी"]
[null,null,null,null,null,null,null,null,null,{"$f":"IF(K669=\" \",\" \",ROWS($K$5:K669))","v":665},{"$f":"DICTIONARY!M693","v":"Lavatory"},{"$f":"DICTIONARY!O693","v":"शौचालय"},"शौचालय",{"$f":"DICTIONARY!P693","v":0},"शौचालय","शौचालय"]
[null,null,null,null,null,null,null,null,null,{"$f":"IF(K670=\" \",\" \",ROWS($K$5:K670))","v":666},{"$f":"DICTIONARY!M694","v":"News"},{"$f":"DICTIONARY!O694","v":"समाचार"},"समाचार",{"$f":"DICTIONARY!P694","v":0},"समाचार","समाचार"]
[null,null,null,null,null,null,null,null,null,{"$f":"IF(K671=\" \",\" \",ROWS($K$5:K671))","v":667},{"$f":"DICTIONARY!M695","v":"News Monger"},{"$f":"DICTIONARY!O695","v":"अखबारवाला"},"अखबारवाला",{"$f":"DICTIONARY!P695","v":"OCCUPATIONS AND PROFESSION (व्यवसाय और पेशा )"},"अखबारवाला","अखबारवाला"]
[null,null,null,null,null,null,null,null,null,{"$f":"IF(K672=\" \",\" \",ROWS($K$5:K672))","v":668},{"$f":"DICTIONARY!M696","v":"Milkmaid"},{"$f":"DICTIONARY!O696","v":"अहिरिन"},"अहिरिन",{"$f":"DICTIONARY!P696","v":"OCCUPATIONS AND PROFESSION (व्यवसाय और पेशा )"},"अहिरिन","अहिरिन"]
[null,null,null,null,null,null,null,null,null,{"$f":"IF(K673=\" \",\" \",ROWS($K$5:K673))","v":669},{"$f":"DICTIONARY!M697","v":"Milk Man"},{"$f":"DICTIONARY!O697","v":"दूधवाला"},"दूधवाला",{"$f":"DICTIONARY!P697","v":"OCCUPATIONS AND PROFESSION (व्यवसाय और पेशा )"},"दूधवाला","दूधवाला"]
[null,null,null,null,null,null,null,null,null,{"$f":"IF(K674=\" \",\" \",ROWS($K$5:K674))","v":670},{"$f":"DICTIONARY!M698","v":"Lavish"},{"$f":"DICTIONARY!O698","v":"अत्यधिक"},"अत्यधिक",{"$f":"DICTIONARY!P698","v":0},"अत्यधिक","अत्यधिक"]
[null,null,null,null,null,null,null,null,null,{"$f":"IF(K675=\" \",\" \",ROWS($K$5:K675))","v":671},{"$f":"DICTIONARY!M699","v":"Evident"},{"$f":"DICTIONARY!O699","v":"स्पष्ट"},"स्पष्ट",{"$f":"DICTIONARY!P699","v":0},"स्पष्ट","स्पष्ट"]
[null,null,null,null,null,null,null,null,null,{"$f":"IF(K676=\" \",\" \",ROWS($K$5:K676))","v":672},{"$f":"DICTIONARY!M700","v":"Artist"},{"$f":"DICTIONARY!O700","v":"कलाकार"},"कलाकार",{"$f":"DICTIONARY!P700","v":"OCCUPATIONS AND PROFESSION (व्यवसाय और पेशा )"},"कलाकार","कलाकार"]
[null,null,null,null,null,null,null,null,null,{"$f":"IF(K677=\" \",\" \",ROWS($K$5:K677))","v":673},{"$f":"DICTIONARY!M701","v":"Trust"},{"$f":"DICTIONARY!O701","v":"विश्वास करना"},"विश्वास करना",{"$f":"DICTIONARY!P701","v":0},"विश्वास करना","विश्वास करना"]
[null,null,null,null,null,null,null,null,null,{"$f":"IF(K678=\" \",\" \",ROWS($K$5:K678))","v":674},{"$f":"DICTIONARY!M702","v":"Book Seller"},{"$f":"DICTIONARY!O702","v":"पुस्तक विक्रेता"},"पुस्तक विक्रेता",{"$f":"DICTIONARY!P702","v":"OCCUPATIONS AND PROFESSION (व्यवसाय और पेशा )"},"पुस्तक विक्रेता","पुस्तक विक्रेता"]
[null,null,null,null,null,null,null,null,null,{"$f":"IF(K679=\" \",\" \",ROWS($K$5:K679))","v":675},{"$f":"DICTIONARY!M703","v":"Suave"},{"$f":"DICTIONARY!O703","v":"शिष्ट"},"शिष्ट",{"$f":"DICTIONARY!P703","v":0},"शिष्ट","शिष्ट"]
[null,null,null,null,null,null,null,null,null,{"$f":"IF(K680=\" \",\" \",ROWS($K$5:K680))","v":676},{"$f":"DICTIONARY!M704","v":"Treasurer"},{"$f":"DICTIONARY!O704","v":"खंचाची"},"खंचाची",{"$f":"DICTIONARY!P704","v":0},"खंचाची","खंचाची"]
[null,null,null,null,null,null,null,null,null,{"$f":"IF(K681=\" \",\" \",ROWS($K$5:K681))","v":677},{"$f":"DICTIONARY!M705","v":"Urbane"},{"$f":"DICTIONARY!O705","v":"शिष्टता"},"शिष्टता",{"$f":"DICTIONARY!P705","v":0},"शिष्टता","शिष्टता"]
[null,null,null,null,null,null,null,null,null,{"$f":"IF(K682=\" \",\" \",ROWS($K$5:K682))","v":678},{"$f":"DICTIONARY!M706","v":"Frequent"},{"$f":"DICTIONARY!O706","v":"अक्सर"},"अक्सर",{"$f":"DICTIONARY!P706","v":0},"अक्सर","अक्सर"]
[null,null,null,null,null,null,null,null,null,{"$f":"IF(K683=\" \",\" \",ROWS($K$5:K683))","v":679},{"$f":"DICTIONARY!M707","v":"Pity"},{"$f":"DICTIONARY!O707","v":"दया"},"दया",{"$f":"DICTIONARY!P707","v":0},"दया","दया"]
[null,null,null,null,null,null,null,null,null,{"$f":"IF(K684=\" \",\" \",ROWS($K$5:K684))","v":680},{"$f":"DICTIONARY!M708","v":"Swear"},{"$f":"DICTIONARY!O708","v":"कसम खाना"},"कसम खाना",{"$f":"DICTIONARY!P708","v":0},"कसम खाना","कसम खाना"]
[null,null,null,null,null,null,null,null,null,{"$f":"IF(K685=\" \",\" \",ROWS($K$5:K685))","v":681},{"$f":"DICTIONARY!M709","v":"Magician"},{"$f":"DICTIONARY!O709","v":"जादूगर"},"जादूगर",{"$f":"DICTIONARY!P709","v":"OCCUPATIONS AND PROFESSION (व्यवसाय और पेशा )"},"जादूगर","जादूगर"]
[null,null,null,null,null,null,null,null,null,{"$f":"IF(K686=\" \",\" \",ROWS($K$5:K686))","v":682},{"$f":"DICTIONARY!M710","v":"Intrigue"},{"$f":"DICTIONARY!O710","v":"षड़यंत्र"},"षड़यंत्र",{"$f":"DICTIONARY!P710","v":0},"षड़यंत्र","षड़यंत्र"]
[null,null,null,null,null,null,null,null,null,{"$f":"IF(K687=\" \",\" \",ROWS($K$5:K687))","v":683},{"$f":"DICTIONARY!M711","v":"Book Binder"},{"$f":"DICTIONARY!O711","v":"जिल्दसाज"},"जिल्दसाज",{"$f":"DICTIONARY!P711","v":"OCCUPATIONS AND PROFESSION (व्यवसाय और पेशा )"},"जिल्दसाज","जिल्दसाज"]
[null,null,null,null,null,null,null,null,null,{"$f":"IF(K688=\" \",\" \",ROWS($K$5:K688))","v":684},{"$f":"DICTIONARY!M712","v":"Gait"},{"$f":"DICTIONARY!O712","v":"चाल"},"चाल",{"$f":"DICTIONARY!P712","v":0},"चाल","चाल"]
[null,null,null,null,null,null,null,null,null,{"$f":"IF(K689=\" \",\" \",ROWS($K$5:K689))","v":685},{"$f":"DICTIONARY!M713","v":"Circumtences"},{"$f":"DICTIONARY!O713","v":"परिस्थतिया"},"परिस्थतिया",{"$f":"DICTIONARY!P713","v":0},"परिस्थतिया","परिस्थतिया"]
[null,null,null,null,null,null,null,null,null,{"$f":"IF(K690=\" \",\" \",ROWS($K$5:K690))","v":686},{"$f":"DICTIONARY!M714","v":"Shoemaker"},{"$f":"DICTIONARY!O714","v":"जूते बनाने वाला"},"जूते बनाने वाला",{"$f":"DICTIONARY!P714","v":0},"जूते बनाने वाला","जूते बनाने वाला"]
[null,null,null,null,null,null,null,null,null,{"$f":"IF(K691=\" \",\" \",ROWS($K$5:K691))","v":687},{"$f":"DICTIONARY!M715","v":"Braziar"},{"$f":"DICTIONARY!O715","v":"ठठेरा"},"ठठेरा",{"$f":"DICTIONARY!P715","v":"OCCUPATIONS AND PROFESSION (व्यवसाय और पेशा )"},"ठठेरा","ठठेरा"]
[null,null,null,null,null,null,null,null,null,{"$f":"IF(K692=\" \",\" \",ROWS($K$5:K692))","v":688},{"$f":"DICTIONARY!M716","v":"Contrctor"},{"$f":"DICTIONARY!O716","v":"ठेकेदार"},"ठेकेदार",{"$f":"DICTIONARY!P716","v":"OCCUPATIONS AND PROFESSION (व्यवसाय और पेशा )"},"ठेकेदार","ठेकेदार"]
[null,null,null,null,null,null,null,null,null,{"$f":"IF(K693=\" \",\" \",ROWS($K$5:K693))","v":689},{"$f":"DICTIONARY!M717","v":"Province"},{"$f":"DICTIONARY!O717","v":"प्रान्त"},"प्रान्त",{"$f":"DICTIONARY!P717","v":0},"प्रान्त","प्रान्त"]
[null,null,null,null,null,null,null,null,null,{"$f":"IF(K694=\" \",\" \",ROWS($K$5:K694))","v":690},{"$f":"DICTIONARY!M718","v":"Disguest"},{"$f":"DICTIONARY!O718","v":"अरुचि"},"अरुचि",{"$f":"DICTIONARY!P718","v":0},"अरुचि","अरुचि"]
[null,null,null,null,null,null,null,null,null,{"$f":"IF(K695=\" \",\" \",ROWS($K$5:K695))","v":691},{"$f":"DICTIONARY!M719","v":"Fiction"},{"$f":"DICTIONARY!O719","v":"मनागढ़ात कहानी"},"मनागढ़ात कहानी",{"$f":"DICTIONARY!P719","v":0},"मनागढ़ात कहानी","मनागढ़ात कहानी"]
[null,null,null,null,null,null,null,null,null,{"$f":"IF(K696=\" \",\" \",ROWS($K$5:K696))","v":692},{"$f":"DICTIONARY!M720","v":"Drummer"},{"$f":"DICTIONARY!O720","v":"तबलची"},"तबलची",{"$f":"DICTIONARY!P720","v":0},"तबलची","तबलची"]
[null,null,null,null,null,null,null,null,null,{"$f":"IF(K697=\" \",\" \",ROWS($K$5:K697))","v":693},{"$f":"DICTIONARY!M721","v":"Pseudo"},{"$f":"DICTIONARY!O721","v":"नकली"},"नकली",{"$f":"DICTIONARY!P721","v":0},"नकली","नकली"]
[null,null,null,null,null,null,null,null,null,{"$f":"IF(K698=\" \",\" \",ROWS($K$5:K698))","v":694},{"$f":"DICTIONARY!M722","v":"Scold"},{"$f":"DICTIONARY!O722","v":"डाटना"},"डाटना",{"$f":"DICTIONARY!P722","v":0},"डाटना","डाटना"]
[null,null,null,null,null,null,null,null,null,{"$f":"IF(K699=\" \",\" \",ROWS($K$5:K699))","v":695},{"$f":"DICTIONARY!M723","v":"Inclination"},{"$f":"DICTIONARY!O723","v":"मन का झुकाव"},"मन का झुकाव",{"$f":"DICTIONARY!P723","v":0},"मन का झुकाव","मन का झुकाव"]
[null,null,null,null,null,null,null,null,null,{"$f":"IF(K700=\" \",\" \",ROWS($K$5:K700))","v":696},{"$f":"DICTIONARY!M724","v":"Chop"},{"$f":"DICTIONARY!O724","v":"काटना"},"काटना",{"$f":"DICTIONARY!P724","v":0},"काटना","काटना"]
[null,null,null,null,null,null,null,null,null,{"$f":"IF(K701=\" \",\" \",ROWS($K$5:K701))","v":697},{"$f":"DICTIONARY!M725","v":"Swindling"},{"$f":"DICTIONARY!O725","v":"ठगी"},"ठगी",{"$f":"DICTIONARY!P725","v":0},"ठगी","ठगी"]
[null,null,null,null,null,null,null,null,null,{"$f":"IF(K702=\" \",\" \",ROWS($K$5:K702))","v":698},{"$f":"DICTIONARY!M726","v":"Watchman"},{"$f":"DICTIONARY!O726","v":"पहरेदार"},"पहरेदार",{"$f":"DICTIONARY!P726","v":0},"पहरेदार","पहरेदार"]
[null,null,null,null,null,null,null,null,null,{"$f":"IF(K703=\" \",\" \",ROWS($K$5:K703))","v":699},{"$f":"DICTIONARY!M727","v":"Sober"},{"$f":"DICTIONARY!O727","v":"गंभीर"},"गंभीर",{"$f":"DICTIONARY!P727","v":0},"गंभीर","गंभीर"]
[null,null,null,null,null,null,null,null,null,{"$f":"IF(K704=\" \",\" \",ROWS($K$5:K704))","v":700},{"$f":"DICTIONARY!M728","v":"Pretence"},{"$f":"DICTIONARY!O728","v":"बहाना"},"बहाना",{"$f":"DICTIONARY!P728","v":0},"बहाना","बहाना"]
[null,null,null,null,null,null,null,null,null,{"$f":"IF(K705=\" \",\" \",ROWS($K$5:K705))","v":701},{"$f":"DICTIONARY!M729","v":"Sot"},{"$f":"DICTIONARY!O729","v":"शराबी"},"शराबी",{"$f":"DICTIONARY!P729","v":"OCCUPATIONS AND PROFESSION (व्यवसाय और पेशा )"},"शराबी","शराबी"]
[null,null,null,null,null,null,null,null,null,{"$f":"IF(K706=\" \",\" \",ROWS($K$5:K706))","v":702},{"$f":"DICTIONARY!M730","v":"Ruin"},{"$f":"DICTIONARY!O730","v":"सर्वनाश"},"सर्वनाश",{"$f":"DICTIONARY!P730","v":0},"सर्वनाश","सर्वनाश"]
[null,null,null,null,null,null,null,null,null,{"$f":"IF(K707=\" \",\" \",ROWS($K$5:K707))","v":703},{"$f":"DICTIONARY!M731","v":"Butler"},{"$f":"DICTIONARY!O731","v":"भंडारी"},"भंडारी",{"$f":"DICTIONARY!P731","v":"OCCUPATIONS AND PROFESSION (व्यवसाय और पेशा )"},"भंडारी","भंडारी"]
[null,null,null,null,null,null,null,null,null,{"$f":"IF(K708=\" \",\" \",ROWS($K$5:K708))","v":704},{"$f":"DICTIONARY!M732","v":"Begger"},{"$f":"DICTIONARY!O732","v":"भिकारी"},"भिकारी",{"$f":"DICTIONARY!P732","v":"OCCUPATIONS AND PROFESSION (व्यवसाय और पेशा )"},"भिकारी","भिकारी"]
[null,null,null,null,null,null,null,null,null,{"$f":"IF(K709=\" \",\" \",ROWS($K$5:K709))","v":705},{"$f":"DICTIONARY!M733","v":"Repairer"},{"$f":"DICTIONARY!O733","v":"मरम्मत करने वाला"},"मरम्मत करने वाला",{"$f":"DICTIONARY!P733","v":0},{"$f":"M709","v":"मरम्मत करने वाला"},{"$f":"L709","v":"मरम्मत करने वाला"}]
[null,null,null,null,null,null,null,null,null,{"$f":"IF(K710=\" \",\" \",ROWS($K$5:K710))","v":706},{"$f":"DICTIONARY!M734","v":"Creature"},{"$f":"DICTIONARY!O734","v":"प्राणी"},{"$f":"L710","v":"प्राणी"},{"$f":"DICTIONARY!P734","v":0},"प्राणी","प्राणी"]
[null,null,null,null,null,null,null,null,null,{"$f":"IF(K711=\" \",\" \",ROWS($K$5:K711))","v":707},{"$f":"DICTIONARY!M735","v":"Carry On"},{"$f":"DICTIONARY!O735","v":"जारी रखना"},"जारी रखना",{"$f":"DICTIONARY!P735","v":0},"जारी रखना","जारी रखना"]
[null,null,null,null,null,null,null,null,null,{"$f":"IF(K712=\" \",\" \",ROWS($K$5:K712))","v":708},{"$f":"DICTIONARY!M736","v":"Garndener"},{"$f":"DICTIONARY!O736","v":"माली"},"माली",{"$f":"DICTIONARY!P736","v":"OCCUPATIONS AND PROFESSION (व्यवसाय और पेशा )"},"माली","माली"]
[null,null,null,null,null,null,null,null,null,{"$f":"IF(K713=\" \",\" \",ROWS($K$5:K713))","v":709},{"$f":"DICTIONARY!M737","v":"Enameller"},{"$f":"DICTIONARY!O737","v":"मीनाकर"},"मीनाकर",{"$f":"DICTIONARY!P737","v":"OCCUPATIONS AND PROFESSION (व्यवसाय और पेशा )"},"मीनाकर","मीनाकर"]
[null,null,null,null,null,null,null,null,null,{"$f":"IF(K714=\" \",\" \",ROWS($K$5:K714))","v":710},{"$f":"DICTIONARY!M738","v":"Owing To"},{"$f":"DICTIONARY!O738","v":"के कारण"},"के कारण",{"$f":"DICTIONARY!P738","v":0},"के कारण","के कारण"]
[null,null,null,null,null,null,null,null,null,{"$f":"IF(K715=\" \",\" \",ROWS($K$5:K715))","v":711},{"$f":"DICTIONARY!M739","v":"Handsome"},{"$f":"DICTIONARY!O739","v":"सुंदर"},"सुंदर",{"$f":"DICTIONARY!P739","v":0},"सुंदर","सुंदर"]
[null,null,null,null,null,null,null,null,null,{"$f":"IF(K716=\" \",\" \",ROWS($K$5:K716))","v":712},{"$f":"DICTIONARY!M740","v":"Sick"},{"$f":"DICTIONARY!O740","v":"बीमार"},"बीमार",{"$f":"DICTIONARY!P740","v":0},"बीमार","बीमार"]
[null,null,null,null,null,null,null,null,null,{"$f":"IF(K717=\" \",\" \",ROWS($K$5:K717))","v":713},{"$f":"DICTIONARY!M741","v":"Hardly"},{"$f":"DICTIONARY!O741","v":"मुस्किल से"},"मुस्किल से",{"$f":"DICTIONARY!P741","v":0},"मुस्किल से","मुस्किल से"]
[null,null,null,null,null,null,null,null,null,{"$f":"IF(K718=\" \",\" \",ROWS($K$5:K718))","v":714},{"$f":"DICTIONARY!M742","v":"Deny"},{"$f":"DICTIONARY!O742","v":"मना करना"},"मना करना",{"$f":"DICTIONARY!P742","v":0},"मना करना","मना करना"]
[null,null,null,null,null,null,null,null,null,{"$f":"IF(K719=\" \",\" \",ROWS($K$5:K719))","v":715},{"$f":"DICTIONARY!M743","v":"Cabbler"},{"$f":"DICTIONARY!O743","v":"मोची"},"मोची",{"$f":"DICTIONARY!P743","v":"OCCUPATIONS AND PROFESSION (व्यवसाय और पेशा )"},"मोची","मोची"]
[null,null,null,null,null,null,null,null,null,{"$f":"IF(K720=\" \",\" \",ROWS($K$5:K720))","v":716},{"$f":"DICTIONARY!M744","v":"Politian"},{"$f":"DICTIONARY!O744","v":"राजनेता"},"राजनेता",{"$f":"DICTIONARY!P744","v":"OCCUPATIONS AND PROFESSION (व्यवसाय और पेशा )"},"राजनेता","राजनेता"]
[null,null,null,null,null,null,null,null,null,{"$f":"IF(K721=\" \",\" \",ROWS($K$5:K721))","v":717},{"$f":"DICTIONARY!M745","v":"Tinman"},{"$f":"DICTIONARY!O745","v":"कलाई करने वाला"},"कलाई करने वाला",{"$f":"DICTIONARY!P745","v":"OCCUPATIONS AND PROFESSION (व्यवसाय और पेशा )"},"कलाई करने वाला","कलाई करने वाला"]
[null,null,null,null,null,null,null,null,null,{"$f":"IF(K722=\" \",\" \",ROWS($K$5:K722))","v":718},{"$f":"DICTIONARY!M746","v":"Dyer"},{"$f":"DICTIONARY!O746","v":"रंगरेज"},"रंगरेज",{"$f":"DICTIONARY!P746","v":"OCCUPATIONS AND PROFESSION (व्यवसाय और पेशा )"},"रंगरेज","रंगरेज"]
[null,null,null,null,null,null,null,null,null,{"$f":"IF(K723=\" \",\" \",ROWS($K$5:K723))","v":719},{"$f":"DICTIONARY!M747","v":"Florist"},{"$f":"DICTIONARY!O747","v":"फूल बेचने वाला"},"फूल बेचने वाला",{"$f":"DICTIONARY!P747","v":"OCCUPATIONS AND PROFESSION (व्यवसाय और पेशा )"},"फूल बेचने वाला","फूल बेचने वाला"]
[null,null,null,null,null,null,null,null,null,{"$f":"IF(K724=\" \",\" \",ROWS($K$5:K724))","v":720},{"$f":"DICTIONARY!M748","v":"Gatekeeper"},{"$f":"DICTIONARY!O748","v":"दरबान"},"दरबान",{"$f":"DICTIONARY!P748","v":"OCCUPATIONS AND PROFESSION (व्यवसाय और पेशा )"},"दरबान","दरबान"]
[null,null,null,null,null,null,null,null,null,{"$f":"IF(K725=\" \",\" \",ROWS($K$5:K725))","v":721},{"$f":"DICTIONARY!M749","v":"Landlord"},{"$f":"DICTIONARY!O749","v":"जागीरदार"},"जागीरदार",{"$f":"DICTIONARY!P749","v":"OCCUPATIONS AND PROFESSION (व्यवसाय और पेशा )"},"जागीरदार","जागीरदार"]
[null,null,null,null,null,null,null,null,null,{"$f":"IF(K726=\" \",\" \",ROWS($K$5:K726))","v":722},{"$f":"DICTIONARY!M750","v":"Pedler"},{"$f":"DICTIONARY!O750","v":"फेरीवाला"},"फेरीवाला",{"$f":"DICTIONARY!P750","v":"OCCUPATIONS AND PROFESSION (व्यवसाय और पेशा )"},"फेरीवाला","फेरीवाला"]
[null,null,null,null,null,null,null,null,null,{"$f":"IF(K727=\" \",\" \",ROWS($K$5:K727))","v":723},{"$f":"DICTIONARY!M751","v":"Procurer"},{"$f":"DICTIONARY!O751","v":"दलाल"},"दलाल",{"$f":"DICTIONARY!P751","v":"OCCUPATIONS AND PROFESSION (व्यवसाय और पेशा )"},"दलाल","दलाल"]
[null,null,null,null,null,null,null,null,null,{"$f":"IF(K728=\" \",\" \",ROWS($K$5:K728))","v":724},{"$f":"DICTIONARY!M752","v":"Quake"},{"$f":"DICTIONARY!O752","v":"नीमहकीम"},"नीमहकीम",{"$f":"DICTIONARY!P752","v":"OCCUPATIONS AND PROFESSION (व्यवसाय और पेशा )"},"नीमहकीम","नीमहकीम"]
[null,null,null,null,null,null,null,null,null,{"$f":"IF(K729=\" \",\" \",ROWS($K$5:K729))","v":725},{"$f":"DICTIONARY!M753","v":"Sheperd"},{"$f":"DICTIONARY!O753","v":"गडरिया"},"गडरिया",{"$f":"DICTIONARY!P753","v":"OCCUPATIONS AND PROFESSION (व्यवसाय और पेशा )"},"गडरिया","गडरिया"]
[null,null,null,null,null,null,null,null,null,{"$f":"IF(K730=\" \",\" \",ROWS($K$5:K730))","v":726},{"$f":"DICTIONARY!M754","v":"Photographer"},{"$f":"DICTIONARY!O754","v":"फोटोग्राफर"},"फोटोग्राफर",{"$f":"DICTIONARY!P754","v":"OCCUPATIONS AND PROFESSION (व्यवसाय और पेशा )"},"फोटोग्राफर","फोटोग्राफर"]
[null,null,null,null,null,null,null,null,null,{"$f":"IF(K731=\" \",\" \",ROWS($K$5:K731))","v":727},{"$f":"DICTIONARY!M755","v":"Retailor"},{"$f":"DICTIONARY!O755","v":"खुदरा व्यापारी"},"खुदरा व्यापारी",{"$f":"DICTIONARY!P755","v":"OCCUPATIONS AND PROFESSION (व्यवसाय और पेशा )"},"खुदरा व्यापारी","खुदरा व्यापारी"]
[null,null,null,null,null,null,null,null,null,{"$f":"IF(K732=\" \",\" \",ROWS($K$5:K732))","v":728},{"$f":"DICTIONARY!M756","v":"Darner"},{"$f":"DICTIONARY!O756","v":"रफ्फुगर"},"रफ्फुगर",{"$f":"DICTIONARY!P756","v":"OCCUPATIONS AND PROFESSION (व्यवसाय और पेशा )"},"रफ्फुगर","रफ्फुगर"]
[null,null,null,null,null,null,null,null,null,{"$f":"IF(K733=\" \",\" \",ROWS($K$5:K733))","v":729},{"$f":"DICTIONARY!M757","v":"Artisian"},{"$f":"DICTIONARY!O757","v":"कारीगर"},"कारीगर",{"$f":"DICTIONARY!P757","v":"OCCUPATIONS AND PROFESSION (व्यवसाय और पेशा )"},"कारीगर","कारीगर"]
[null,null,null,null,null,null,null,null,null,{"$f":"IF(K734=\" \",\" \",ROWS($K$5:K734))","v":730},{"$f":"DICTIONARY!M758","v":"Bankrupt"},{"$f":"DICTIONARY!O758","v":"दिवालिया"},"दिवालिया",{"$f":"DICTIONARY!P758","v":"OCCUPATIONS AND PROFESSION (व्यवसाय और पेशा )"},"दिवालिया","दिवालिया"]
[null,null,null,null,null,null,null,null,null,{"$f":"IF(K735=\" \",\" \",ROWS($K$5:K735))","v":731},{"$f":"DICTIONARY!M759","v":"Wide"},{"$f":"DICTIONARY!O759","v":"विस्तृत"},"विस्तृत",{"$f":"DICTIONARY!P759","v":0},"विस्तृत","विस्तृत"]
[null,null,null,null,null,null,null,null,null,{"$f":"IF(K736=\" \",\" \",ROWS($K$5:K736))","v":732},{"$f":"DICTIONARY!M760","v":"Toss"},{"$f":"DICTIONARY!O760","v":"उछालना"},"उछालना",{"$f":"DICTIONARY!P760","v":0},"उछालना","उछालना"]
[null,null,null,null,null,null,null,null,null,{"$f":"IF(K737=\" \",\" \",ROWS($K$5:K737))","v":733},{"$f":"DICTIONARY!M761","v":"Clocasia"},{"$f":"DICTIONARY!O761","v":"कचालू"},"कचालू",{"$f":"DICTIONARY!P761","v":"VEGETABLES ( सब्जियां )"},"कचालू","कचालू"]
[null,null,null,null,null,null,null,null,null,{"$f":"IF(K738=\" \",\" \",ROWS($K$5:K738))","v":734},{"$f":"DICTIONARY!M762","v":"Fenugreek"},{"$f":"DICTIONARY!O762","v":"मैथी"},"मैथी",{"$f":"DICTIONARY!P762","v":"VEGETABLES ( सब्जियां )"},"मैथी","मैथी"]
[null,null,null,null,null,null,null,null,null,{"$f":"IF(K739=\" \",\" \",ROWS($K$5:K739))","v":735},{"$f":"DICTIONARY!M763","v":"Gourd"},{"$f":"DICTIONARY!O763","v":"कद्दू,घीया"},"कद्दू,घीया",{"$f":"DICTIONARY!P763","v":"VEGETABLES ( सब्जियां )"},"कद्दू,घीया","कद्दू,घीया"]
[null,null,null,null,null,null,null,null,null,{"$f":"IF(K740=\" \",\" \",ROWS($K$5:K740))","v":736},{"$f":"DICTIONARY!M764","v":"Noisy"},{"$f":"DICTIONARY!O764","v":"शोरगुल से भरा"},"शोरगुल से भरा",{"$f":"DICTIONARY!P764","v":0},"शोरगुल से भरा","शोरगुल से भरा"]
[null,null,null,null,null,null,null,null,null,{"$f":"IF(K741=\" \",\" \",ROWS($K$5:K741))","v":737},{"$f":"DICTIONARY!M765","v":"Spinch"},{"$f":"DICTIONARY!O765","v":"पालक"},"पालक",{"$f":"DICTIONARY!P765","v":"VEGETABLES ( सब्जियां )"},"पालक","पालक"]
[null,null,null,null,null,null,null,null,null,{"$f":"IF(K742=\" \",\" \",ROWS($K$5:K742))","v":738},{"$f":"DICTIONARY!M766","v":"Luffa"},{"$f":"DICTIONARY!O766","v":"घीया तोरि"},"घीया तोरि",{"$f":"DICTIONARY!P766","v":"VEGETABLES ( सब्जियां )"},"घीया तोरि","घीया तोरि"]
[null,null,null,null,null,null,null,null,null,{"$f":"IF(K743=\" \",\" \",ROWS($K$5:K743))","v":739},{"$f":"DICTIONARY!M767","v":"Jack Fruit"},{"$f":"DICTIONARY!O767","v":"कटहल"},"कटहल",{"$f":"DICTIONARY!P767","v":"VEGETABLES ( सब्जियां )"},"कटहल","कटहल"]
[null,null,null,null,null,null,null,null,null,{"$f":"IF(K744=\" \",\" \",ROWS($K$5:K744))","v":740},{"$f":"DICTIONARY!M768","v":"Bunny"},{"$f":"DICTIONARY!O768","v":"खरगोश"},"खरगोश",{"$f":"DICTIONARY!P768","v":"ANIMALS ( पशु )"},"खरगोश","खरगोश"]
[null,null,null,null,null,null,null,null,null,{"$f":"IF(K745=\" \",\" \",ROWS($K$5:K745))","v":741},{"$f":"DICTIONARY!M769","v":"Burrow"},{"$f":"DICTIONARY!O769","v":"बिल,सुरंग"},"बिल,सुरंग",{"$f":"DICTIONARY!P769","v":0},"बिल,सुरंग","बिल,सुरंग"]
[null,null,null,null,null,null,null,null,null,{"$f":"IF(K746=\" \",\" \",ROWS($K$5:K746))","v":742},{"$f":"DICTIONARY!M770","v":"Lettuce"},{"$f":"DICTIONARY!O770","v":"सलाद"},"सलाद",{"$f":"DICTIONARY!P770","v":"food and drink ( खाद्य और पेय )"},"सलाद","सलाद"]
[null,null,null,null,null,null,null,null,null,{"$f":"IF(K747=\" \",\" \",ROWS($K$5:K747))","v":743},{"$f":"DICTIONARY!M771","v":"Daisy"},{"$f":"DICTIONARY!O771","v":"गुलबहार"},"गुलबहार",{"$f":"DICTIONARY!P771","v":"flowers ( फूलो के नाम )"},"गुलबहार","गुलबहार"]
[null,null,null,null,null,null,null,null,null,{"$f":"IF(K748=\" \",\" \",ROWS($K$5:K748))","v":744},{"$f":"DICTIONARY!M772","v":"Kennel"},{"$f":"DICTIONARY!O772","v":"कुत्तो का घर"},"कुत्तो का घर",{"$f":"DICTIONARY!P772","v":0},"कुत्तो का घर","कुत्तो का घर"]
[null,null,null,null,null,null,null,null,null,{"$f":"IF(K749=\" \",\" \",ROWS($K$5:K749))","v":745},{"$f":"DICTIONARY!M773","v":"Erythrinin"},{"$f":"DICTIONARY!O773","v":"पारिजात"},"पारिजात",{"$f":"DICTIONARY!P773","v":"flowers ( फूलो के नाम )"},"पारिजात","पारिजात"]
[null,null,null,null,null,null,null,null,null,{"$f":"IF(K750=\" \",\" \",ROWS($K$5:K750))","v":746},{"$f":"DICTIONARY!M774","v":"Hiptage"},{"$f":"DICTIONARY!O774","v":"माधवी पुष्प"},"माधवी पुष्प",{"$f":"DICTIONARY!P774","v":"flowers ( फूलो के नाम )"},"माधवी पुष्प","माधवी पुष्प"]
[null,null,null,null,null,null,null,null,null,{"$f":"IF(K751=\" \",\" \",ROWS($K$5:K751))","v":747},{"$f":"DICTIONARY!M775","v":"Hole"},{"$f":"DICTIONARY!O775","v":"बिल"},"बिल",{"$f":"DICTIONARY!P775","v":0},"बिल","बिल"]
[null,null,null,null,null,null,null,null,null,{"$f":"IF(K752=\" \",\" \",ROWS($K$5:K752))","v":748},{"$f":"DICTIONARY!M776","v":"River Bank"},{"$f":"DICTIONARY!O776","v":"नदी के किनारे"},"नदी के किनारे",{"$f":"DICTIONARY!P776","v":0},"नदी के किनारे","नदी के किनारे"]
[null,null,null,null,null,null,null,null,null,{"$f":"IF(K753=\" \",\" \",ROWS($K$5:K753))","v":749},{"$f":"DICTIONARY!M777","v":"Little"},{"$f":"DICTIONARY!O777","v":"छोटी"},"छोटी",{"$f":"DICTIONARY!P777","v":0},"छोटी","छोटी"]
[null,null,null,null,null,null,null,null,null,{"$f":"IF(K754=\" \",\" \",ROWS($K$5:K754))","v":750},{"$f":"DICTIONARY!M778","v":"Bird"},{"$f":"DICTIONARY!O778","v":"पक्षी"},"पक्षी",{"$f":"DICTIONARY!P778","v":"BIRDS  ( पक्षियों के नाम  )"},"पक्षी","पक्षी"]
[null,null,null,null,null,null,null,null,null,{"$f":"IF(K755=\" \",\" \",ROWS($K$5:K755))","v":751},{"$f":"DICTIONARY!M779","v":"Nest"},{"$f":"DICTIONARY!O779","v":"घोंसला"},"घोंसला",{"$f":"DICTIONARY!P779","v":0},"घोंसला","घोंसला"]
[null,null,null,null,null,null,null,null,null,{"$f":"IF(K756=\" \",\" \",ROWS($K$5:K756))","v":752},{"$f":"DICTIONARY!M780","v":"Glad"},{"$f":"DICTIONARY!O780","v":"प्रसन्न"},"प्रसन्न",{"$f":"DICTIONARY!P780","v":0},"प्रसन्न","प्रसन्न"]
[null,null,null,null,null,null,null,null,null,{"$f":"IF(K757=\" \",\" \",ROWS($K$5:K757))","v":753},{"$f":"DICTIONARY!M781","v":"Poppy"},{"$f":"DICTIONARY!O781","v":"पोस्ता के फूल"},"पोस्ता के फूल",{"$f":"DICTIONARY!P781","v":"flowers ( फूलो के नाम )"},"पोस्ता के फूल","पोस्ता के फूल"]
[null,null,null,null,null,null,null,null,null,{"$f":"IF(K758=\" \",\" \",ROWS($K$5:K758))","v":754},{"$f":"DICTIONARY!M782","v":"Prickly Pear"},{"$f":"DICTIONARY!O782","v":"नागफनी"},"नागफनी",{"$f":"DICTIONARY!P782","v":"flowers ( फूलो के नाम )"},"नागफनी","नागफनी"]
[null,null,null,null,null,null,null,null,null,{"$f":"IF(K759=\" \",\" \",ROWS($K$5:K759))","v":755},{"$f":"DICTIONARY!M783","v":"Best"},{"$f":"DICTIONARY!O783","v":"सबसे अच्छा"},"सबसे अच्छा",{"$f":"DICTIONARY!P783","v":0},"सबसे अच्छा","सबसे अच्छा"]
[null,null,null,null,null,null,null,null,null,{"$f":"IF(K760=\" \",\" \",ROWS($K$5:K760))","v":756},{"$f":"DICTIONARY!M784","v":"Sun Flower"},{"$f":"DICTIONARY!O784","v":"सूर्यमुखी"},"सूर्यमुखी",{"$f":"DICTIONARY!P784","v":"flowers ( फूलो के नाम )"},"सूर्यमुखी","सूर्यमुखी"]
[null,null,null,null,null,null,null,null,null,{"$f":"IF(K761=\" \",\" \",ROWS($K$5:K761))","v":757},{"$f":"DICTIONARY!M785","v":"Eldest"},{"$f":"DICTIONARY!O785","v":"सबसे बड़ा "},"सबसे बड़ा ",{"$f":"DICTIONARY!P785","v":0},"सबसे बड़ा ","सबसे बड़ा "]
[null,null,null,null,null,null,null,null,null,{"$f":"IF(K762=\" \",\" \",ROWS($K$5:K762))","v":758},{"$f":"DICTIONARY!M786","v":"Founder"},{"$f":"DICTIONARY!O786","v":"संस्थापक"},"संस्थापक",{"$f":"DICTIONARY!P786","v":0},"संस्थापक","संस्थापक"]
[null,null,null,null,null,null,null,null,null,{"$f":"IF(K763=\" \",\" \",ROWS($K$5:K763))","v":759},{"$f":"DICTIONARY!M787","v":"Brave"},{"$f":"DICTIONARY!O787","v":"बहादुर,वीर"},"बहादुर,वीर",{"$f":"DICTIONARY!P787","v":0},"बहादुर,वीर","बहादुर,वीर"]
[null,null,null,null,null,null,null,null,null,{"$f":"IF(K764=\" \",\" \",ROWS($K$5:K764))","v":760},{"$f":"DICTIONARY!M788","v":"Touch-Me-Not"},{"$f":"DICTIONARY!O788","v":"छुई-मुई"},"छुई-मुई",{"$f":"DICTIONARY!P788","v":"flowers ( फूलो के नाम )"},"छुई-मुई","छुई-मुई"]
[null,null,null,null,null,null,null,null,null,{"$f":"IF(K765=\" \",\" \",ROWS($K$5:K765))","v":761},{"$f":"DICTIONARY!M789","v":"Yam"},{"$f":"DICTIONARY!O789","v":"कचालू"},"कचालू",{"$f":"DICTIONARY!P789","v":"VEGETABLES ( सब्जियां )"},"कचालू","कचालू"]
[null,null,null,null,null,null,null,null,null,{"$f":"IF(K766=\" \",\" \",ROWS($K$5:K766))","v":762},{"$f":"DICTIONARY!M790","v":"Right From"},{"$f":"DICTIONARY!O790","v":"शुरू से ही   "},"शुरू से ही   ",{"$f":"DICTIONARY!P790","v":0},"शुरू से ही   ","शुरू से ही   "]
[null,null,null,null,null,null,null,null,null,{"$f":"IF(K767=\" \",\" \",ROWS($K$5:K767))","v":763},{"$f":"DICTIONARY!M791","v":"Boyhood"},{"$f":"DICTIONARY!O791","v":"लड़कपन"},"लड़कपन",{"$f":"DICTIONARY!P791","v":0},"लड़कपन","लड़कपन"]
[null,null,null,null,null,null,null,null,null,{"$f":"IF(K768=\" \",\" \",ROWS($K$5:K768))","v":764},{"$f":"DICTIONARY!M792","v":"Courtier"},{"$f":"DICTIONARY!O792","v":"दरबारी"},"दरबारी",{"$f":"DICTIONARY!P792","v":"OCCUPATIONS AND PROFESSION (व्यवसाय और पेशा )"},"दरबारी","दरबारी"]
[null,null,null,null,null,null,null,null,null,{"$f":"IF(K769=\" \",\" \",ROWS($K$5:K769))","v":765},{"$f":"DICTIONARY!M793","v":"Qualities"},{"$f":"DICTIONARY!O793","v":"विशेषताए,गुण"},"विशेषताए,गुण",{"$f":"DICTIONARY!P793","v":0},"विशेषताए,गुण","विशेषताए,गुण"]
[null,null,null,null,null,null,null,null,null,{"$f":"IF(K770=\" \",\" \",ROWS($K$5:K770))","v":766},{"$f":"DICTIONARY!M794","v":"Horse Riding"},{"$f":"DICTIONARY!O794","v":"गुड़सवारी"},"गुड़सवारी",{"$f":"DICTIONARY!P794","v":0},"गुड़सवारी","गुड़सवारी"]
[null,null,null,null,null,null,null,null,null,{"$f":"IF(K771=\" \",\" \",ROWS($K$5:K771))","v":767},{"$f":"DICTIONARY!M795","v":"Proud Of"},{"$f":"DICTIONARY!O795","v":"गर्व करना"},"गर्व करना",{"$f":"DICTIONARY!P795","v":0},"गर्व करना","गर्व करना"]
[null,null,null,null,null,null,null,null,null,{"$f":"IF(K772=\" \",\" \",ROWS($K$5:K772))","v":768},{"$f":"DICTIONARY!M796","v":"Weaponary"},{"$f":"DICTIONARY!O796","v":"हथियार बाज़ी"},"हथियार बाज़ी",{"$f":"DICTIONARY!P796","v":0},"हथियार बाज़ी","हथियार बाज़ी"]
[null,null,null,null,null,null,null,null,null,{"$f":"IF(K773=\" \",\" \",ROWS($K$5:K773))","v":769},{"$f":"DICTIONARY!M797","v":"Warfare"},{"$f":"DICTIONARY!O797","v":"युद्ध कला"},"युद्ध कला",{"$f":"DICTIONARY!P797","v":0},{"$f":"M773","v":"युद्ध कला"},{"$f":"L773","v":"युद्ध कला"}]
[null,null,null,null,null,null,null,null,null,{"$f":"IF(K774=\" \",\" \",ROWS($K$5:K774))","v":770},{"$f":"DICTIONARY!M798","v":"Tactic"},{"$f":"DICTIONARY!O798","v":"चाल,रणनीतिया"},{"$f":"L774","v":"चाल,रणनीतिया"},{"$f":"DICTIONARY!P798","v":0},"चाल,रणनीतिया","चाल,रणनीतिया"]
[null,null,null,null,null,null,null,null,null,{"$f":"IF(K775=\" \",\" \",ROWS($K$5:K775))","v":771},{"$f":"DICTIONARY!M799","v":"Black-Berry"},{"$f":"DICTIONARY!O799","v":"जामुन"},"जामुन",{"$f":"DICTIONARY!P799","v":"FRUITS ( फलों के नाम )"},"जामुन","जामुन"]
[null,null,null,null,null,null,null,null,null,{"$f":"IF(K776=\" \",\" \",ROWS($K$5:K776))","v":772},{"$f":"DICTIONARY!M800","v":"Gravia"},{"$f":"DICTIONARY!O800","v":"फालसा"},"फालसा",{"$f":"DICTIONARY!P800","v":"FRUITS ( फलों के नाम )"},"फालसा","फालसा"]
[null,null,null,null,null,null,null,null,null,{"$f":"IF(K777=\" \",\" \",ROWS($K$5:K777))","v":773},{"$f":"DICTIONARY!M801","v":"Entire"},{"$f":"DICTIONARY!O801","v":"समस्त"},"समस्त",{"$f":"DICTIONARY!P801","v":0},"समस्त","समस्त"]
[null,null,null,null,null,null,null,null,null,{"$f":"IF(K778=\" \",\" \",ROWS($K$5:K778))","v":774},{"$f":"DICTIONARY!M802","v":"Royal"},{"$f":"DICTIONARY!O802","v":"शाही"},"शाही",{"$f":"DICTIONARY!P802","v":0},"शाही","शाही"]
[null,null,null,null,null,null,null,null,null,{"$f":"IF(K779=\" \",\" \",ROWS($K$5:K779))","v":775},{"$f":"DICTIONARY!M803","v":"Fight"},{"$f":"DICTIONARY!O803","v":"युद्ध करना"},"युद्ध करना",{"$f":"DICTIONARY!P803","v":0},"युद्ध करना","युद्ध करना"]
[null,null,null,null,null,null,null,null,null,{"$f":"IF(K780=\" \",\" \",ROWS($K$5:K780))","v":776},{"$f":"DICTIONARY!M804","v":"Lychee"},{"$f":"DICTIONARY!O804","v":"लीची"},"लीची",{"$f":"DICTIONARY!P804","v":"FRUITS ( फलों के नाम )"},"लीची","लीची"]
[null,null,null,null,null,null,null,null,null,{"$f":"IF(K781=\" \",\" \",ROWS($K$5:K781))","v":777},{"$f":"DICTIONARY!M805","v":"Somehow"},{"$f":"DICTIONARY!O805","v":"जैसे-तैसे"},"जैसे-तैसे",{"$f":"DICTIONARY!P805","v":0},"जैसे-तैसे","जैसे-तैसे"]
[null,null,null,null,null,null,null,null,null,{"$f":"IF(K782=\" \",\" \",ROWS($K$5:K782))","v":778},{"$f":"DICTIONARY!M806","v":"Appointed"},{"$f":"DICTIONARY!O806","v":"नियुक्त किया"},"नियुक्त किया",{"$f":"DICTIONARY!P806","v":0},"नियुक्त किया","नियुक्त किया"]
[null,null,null,null,null,null,null,null,null,{"$f":"IF(K783=\" \",\" \",ROWS($K$5:K783))","v":779},{"$f":"DICTIONARY!M807","v":"Successor"},{"$f":"DICTIONARY!O807","v":"उतराधिकारी"},"उतराधिकारी",{"$f":"DICTIONARY!P807","v":0},"उतराधिकारी","उतराधिकारी"]
[null,null,null,null,null,null,null,null,null,{"$f":"IF(K784=\" \",\" \",ROWS($K$5:K784))","v":780},{"$f":"DICTIONARY!M808","v":"Senior"},{"$f":"DICTIONARY!O808","v":"वरिष्ट"},"वरिष्ट",{"$f":"DICTIONARY!P808","v":0},"वरिष्ट","वरिष्ट"]
[null,null,null,null,null,null,null,null,null,{"$f":"IF(K785=\" \",\" \",ROWS($K$5:K785))","v":781},{"$f":"DICTIONARY!M809","v":"Nobles"},{"$f":"DICTIONARY!O809","v":"सरदार,नायक"},"सरदार,नायक",{"$f":"DICTIONARY!P809","v":0},"सरदार,नायक","सरदार,नायक"]
[null,null,null,null,null,null,null,null,null,{"$f":"IF(K786=\" \",\" \",ROWS($K$5:K786))","v":782},{"$f":"DICTIONARY!M810","v":"Accept"},{"$f":"DICTIONARY!O810","v":"स्वीकार करना"},"स्वीकार करना",{"$f":"DICTIONARY!P810","v":0},"स्वीकार करना","स्वीकार करना"]
[null,null,null,null,null,null,null,null,null,{"$f":"IF(K787=\" \",\" \",ROWS($K$5:K787))","v":783},{"$f":"DICTIONARY!M811","v":"Crowned"},{"$f":"DICTIONARY!O811","v":"राजा घोषित किया"},"राजा घोषित किया",{"$f":"DICTIONARY!P811","v":0},"राजा घोषित किया","राजा घोषित किया"]
[null,null,null,null,null,null,null,null,null,{"$f":"IF(K788=\" \",\" \",ROWS($K$5:K788))","v":784},{"$f":"DICTIONARY!M812","v":"Next"},{"$f":"DICTIONARY!O812","v":"अगला"},"अगला",{"$f":"DICTIONARY!P812","v":0},"अगला","अगला"]
[null,null,null,null,null,null,null,null,null,{"$f":"IF(K789=\" \",\" \",ROWS($K$5:K789))","v":785},{"$f":"DICTIONARY!M813","v":"Malta"},{"$f":"DICTIONARY!O813","v":"माल्टा"},"माल्टा",{"$f":"DICTIONARY!P813","v":"FRUITS ( फलों के नाम )"},"माल्टा","माल्टा"]
[null,null,null,null,null,null,null,null,null,{"$f":"IF(K790=\" \",\" \",ROWS($K$5:K790))","v":786},{"$f":"DICTIONARY!M814","v":"Army General"},{"$f":"DICTIONARY!O814","v":"सेनापति"},"सेनापति",{"$f":"DICTIONARY!P814","v":"OCCUPATIONS AND PROFESSION (व्यवसाय और पेशा )"},"सेनापति","सेनापति"]
[null,null,null,null,null,null,null,null,null,{"$f":"IF(K791=\" \",\" \",ROWS($K$5:K791))","v":787},{"$f":"DICTIONARY!M815","v":"Larger"},{"$f":"DICTIONARY!O815","v":"अधिक बड़ी"},"अधिक बड़ी",{"$f":"DICTIONARY!P815","v":0},"अधिक बड़ी","अधिक बड़ी"]
[null,null,null,null,null,null,null,null,null,{"$f":"IF(K792=\" \",\" \",ROWS($K$5:K792))","v":788},{"$f":"DICTIONARY!M816","v":"Narrow"},{"$f":"DICTIONARY!O816","v":"संकरा"},"संकरा",{"$f":"DICTIONARY!P816","v":0},"संकरा","संकरा"]
[null,null,null,null,null,null,null,null,null,{"$f":"IF(K793=\" \",\" \",ROWS($K$5:K793))","v":789},{"$f":"DICTIONARY!M817","v":"Waternut"},{"$f":"DICTIONARY!O817","v":"सिघाड़ा"},"सिघाड़ा",{"$f":"DICTIONARY!P817","v":"FRUITS ( फलों के नाम )"},"सिघाड़ा","सिघाड़ा"]
[null,null,null,null,null,null,null,null,null,{"$f":"IF(K794=\" \",\" \",ROWS($K$5:K794))","v":790},{"$f":"DICTIONARY!M818","v":"Amaranthus"},{"$f":"DICTIONARY!O818","v":"चौलाई"},"चौलाई",{"$f":"DICTIONARY!P818","v":"VEGETABLES ( सब्जियां )"},"चौलाई","चौलाई"]
[null,null,null,null,null,null,null,null,null,{"$f":"IF(K795=\" \",\" \",ROWS($K$5:K795))","v":791},{"$f":"DICTIONARY!M819","v":"Bravely"},{"$f":"DICTIONARY!O819","v":"बहादुरीपूर्वक"},"बहादुरीपूर्वक",{"$f":"DICTIONARY!P819","v":0},"बहादुरीपूर्वक","बहादुरीपूर्वक"]
[null,null,null,null,null,null,null,null,null,{"$f":"IF(K796=\" \",\" \",ROWS($K$5:K796))","v":792},{"$f":"DICTIONARY!M820","v":"Parson"},{"$f":"DICTIONARY!O820","v":"पादरी"},"पादरी",{"$f":"DICTIONARY!P820","v":"OCCUPATIONS AND PROFESSION (व्यवसाय और पेशा )"},"पादरी","पादरी"]
[null,null,null,null,null,null,null,null,null,{"$f":"IF(K797=\" \",\" \",ROWS($K$5:K797))","v":793},{"$f":"DICTIONARY!M821","v":"Favourite"},{"$f":"DICTIONARY!O821","v":"सबसे ज्यादा पसंद"},"सबसे ज्यादा पसंद",{"$f":"DICTIONARY!P821","v":0},"सबसे ज्यादा पसंद","सबसे ज्यादा पसंद"]
[null,null,null,null,null,null,null,null,null,{"$f":"IF(K798=\" \",\" \",ROWS($K$5:K798))","v":794},{"$f":"DICTIONARY!M822","v":"Lost"},{"$f":"DICTIONARY!O822","v":"खोया हुआ"},"खोया हुआ",{"$f":"DICTIONARY!P822","v":0},"खोया हुआ","खोया हुआ"]
[null,null,null,null,null,null,null,null,null,{"$f":"IF(K799=\" \",\" \",ROWS($K$5:K799))","v":795},{"$f":"DICTIONARY!M823","v":"Territories"},{"$f":"DICTIONARY!O823","v":"राज्य"},"राज्य",{"$f":"DICTIONARY!P823","v":0},"राज्य","राज्य"]
[null,null,null,null,null,null,null,null,null,{"$f":"IF(K800=\" \",\" \",ROWS($K$5:K800))","v":796},{"$f":"DICTIONARY!M824","v":"Injuries"},{"$f":"DICTIONARY!O824","v":"चोट,घाव"},"चोट,घाव",{"$f":"DICTIONARY!P824","v":0},"चोट,घाव","चोट,घाव"]
[null,null,null,null,null,null,null,null,null,{"$f":"IF(K801=\" \",\" \",ROWS($K$5:K801))","v":797},{"$f":"DICTIONARY!M825","v":"Hunt"},{"$f":"DICTIONARY!O825","v":"शिकार करना"},"शिकार करना",{"$f":"DICTIONARY!P825","v":0},"शिकार करना","शिकार करना"]
[null,null,null,null,null,null,null,null,null,{"$f":"IF(K802=\" \",\" \",ROWS($K$5:K802))","v":798},{"$f":"DICTIONARY!M826","v":"Accident"},{"$f":"DICTIONARY!O826","v":"दुर्घटना"},"दुर्घटना",{"$f":"DICTIONARY!P826","v":0},"दुर्घटना","दुर्घटना"]
[null,null,null,null,null,null,null,null,null,{"$f":"IF(K803=\" \",\" \",ROWS($K$5:K803))","v":799},{"$f":"DICTIONARY!M827","v":"Glorify"},{"$f":"DICTIONARY!O827","v":"यशोगान करना"},"यशोगान करना",{"$f":"DICTIONARY!P827","v":0},"यशोगान करना","यशोगान करना"]
[null,null,null,null,null,null,null,null,null,{"$f":"IF(K804=\" \",\" \",ROWS($K$5:K804))","v":800},{"$f":"DICTIONARY!M828","v":"Legendary"},{"$f":"DICTIONARY!O828","v":"सुप्रसिद्ध,विख्यात"},"सुप्रसिद्ध,विख्यात",{"$f":"DICTIONARY!P828","v":0},"सुप्रसिद्ध,विख्यात","सुप्रसिद्ध,विख्यात"]
[null,null,null,null,null,null,null,null,null,{"$f":"IF(K805=\" \",\" \",ROWS($K$5:K805))","v":801},{"$f":"DICTIONARY!M829","v":"Free Of Cost"},{"$f":"DICTIONARY!O829","v":"निशुल्क"},"निशुल्क",{"$f":"DICTIONARY!P829","v":0},"निशुल्क","निशुल्क"]
[null,null,null,null,null,null,null,null,null,{"$f":"IF(K806=\" \",\" \",ROWS($K$5:K806))","v":802},{"$f":"DICTIONARY!M830","v":"Capital "},{"$f":"DICTIONARY!O830","v":"राजधानी"},"राजधानी",{"$f":"DICTIONARY!P830","v":0},"राजधानी","राजधानी"]
[null,null,null,null,null,null,null,null,null,{"$f":"IF(K807=\" \",\" \",ROWS($K$5:K807))","v":803},{"$f":"DICTIONARY!M831","v":"Construction"},{"$f":"DICTIONARY!O831","v":"निर्माण"},"निर्माण",{"$f":"DICTIONARY!P831","v":0},"निर्माण","निर्माण"]
[null,null,null,null,null,null,null,null,null,{"$f":"IF(K808=\" \",\" \",ROWS($K$5:K808))","v":804},{"$f":"DICTIONARY!M832","v":"Strusture"},{"$f":"DICTIONARY!O832","v":"भवन,इमारत"},"भवन,इमारत",{"$f":"DICTIONARY!P832","v":0},"भवन,इमारत","भवन,इमारत"]
[null,null,null,null,null,null,null,null,null,{"$f":"IF(K809=\" \",\" \",ROWS($K$5:K809))","v":805},{"$f":"DICTIONARY!M833","v":"Cauldron"},{"$f":"DICTIONARY!O833","v":"कड़ाई"},"कड़ाई",{"$f":"DICTIONARY!P833","v":0},"कड़ाई","कड़ाई"]
[null,null,null,null,null,null,null,null,null,{"$f":"IF(K810=\" \",\" \",ROWS($K$5:K810))","v":806},{"$f":"DICTIONARY!M834","v":"According To"},{"$f":"DICTIONARY!O834","v":"के अनुसार"},"के अनुसार",{"$f":"DICTIONARY!P834","v":0},"के अनुसार","के अनुसार"]
[null,null,null,null,null,null,null,null,null,{"$f":"IF(K811=\" \",\" \",ROWS($K$5:K811))","v":807},{"$f":"DICTIONARY!M835","v":"During"},{"$f":"DICTIONARY!O835","v":"के दौरान"},"के दौरान",{"$f":"DICTIONARY!P835","v":0},"के दौरान","के दौरान"]
[null,null,null,null,null,null,null,null,null,{"$f":"IF(K812=\" \",\" \",ROWS($K$5:K812))","v":808},{"$f":"DICTIONARY!M836","v":"Architect"},{"$f":"DICTIONARY!O836","v":"वास्तुशिल्पी"},"वास्तुशिल्पी",{"$f":"DICTIONARY!P836","v":"OCCUPATIONS AND PROFESSION (व्यवसाय और पेशा )"},"वास्तुशिल्पी","वास्तुशिल्पी"]
[null,null,null,null,null,null,null,null,null,{"$f":"IF(K813=\" \",\" \",ROWS($K$5:K813))","v":809},{"$f":"DICTIONARY!M837","v":"Flagon"},{"$f":"DICTIONARY!O837","v":"सुराही"},"सुराही",null,"सुराही","सुराही"]
[null,null,null,null,null,null,null,null,null,{"$f":"IF(K814=\" \",\" \",ROWS($K$5:K814))","v":810},{"$f":"DICTIONARY!M838","v":"Rampart"},{"$f":"DICTIONARY!O838","v":"परकोटा"},"परकोटा",{"$f":"DICTIONARY!P838","v":0},"परकोटा","परकोटा"]
[null,null,null,null,null,null,null,null,null,{"$f":"IF(K815=\" \",\" \",ROWS($K$5:K815))","v":811},{"$f":"DICTIONARY!M839","v":"Enter"},{"$f":"DICTIONARY!O839","v":"प्रवेश करना"},"प्रवेश करना",{"$f":"DICTIONARY!P839","v":0},"प्रवेश करना","प्रवेश करना"]
[null,null,null,null,null,null,null,null,null,{"$f":"IF(K816=\" \",\" \",ROWS($K$5:K816))","v":812},{"$f":"DICTIONARY!M840","v":"Spear"},{"$f":"DICTIONARY!O840","v":"भाला"},"भाला",{"$f":"DICTIONARY!P840","v":0},"भाला","भाला"]
[null,null,null,null,null,null,null,null,null,{"$f":"IF(K817=\" \",\" \",ROWS($K$5:K817))","v":813},{"$f":"DICTIONARY!M841","v":"Network"},{"$f":"DICTIONARY!O841","v":"जल, तंत्र"},"जल, तंत्र",{"$f":"DICTIONARY!P841","v":0},"जल, तंत्र","जल, तंत्र"]
[null,null,null,null,null,null,null,null,null,{"$f":"IF(K818=\" \",\" \",ROWS($K$5:K818))","v":814},{"$f":"DICTIONARY!M842","v":"Population"},{"$f":"DICTIONARY!O842","v":"जनसँख्या"},"जनसँख्या",{"$f":"DICTIONARY!P842","v":0},"जनसँख्या","जनसँख्या"]
[null,null,null,null,null,null,null,null,null,{"$f":"IF(K819=\" \",\" \",ROWS($K$5:K819))","v":815},{"$f":"DICTIONARY!M843","v":"Census"},{"$f":"DICTIONARY!O843","v":"जनगणना"},"जनगणना",{"$f":"DICTIONARY!P843","v":0},"जनगणना","जनगणना"]
[null,null,null,null,null,null,null,null,null,{"$f":"IF(K820=\" \",\" \",ROWS($K$5:K820))","v":816},{"$f":"DICTIONARY!M844","v":"Semi Arid"},{"$f":"DICTIONARY!O844","v":"अर्द्धशुष्क"},"अर्द्धशुष्क",{"$f":"DICTIONARY!P844","v":0},"अर्द्धशुष्क","अर्द्धशुष्क"]
[null,null,null,null,null,null,null,null,null,{"$f":"IF(K821=\" \",\" \",ROWS($K$5:K821))","v":817},{"$f":"DICTIONARY!M845","v":"Climate"},{"$f":"DICTIONARY!O845","v":"जलवायु"},"जलवायु",{"$f":"DICTIONARY!P845","v":0},"जलवायु","जलवायु"]
[null,null,null,null,null,null,null,null,null,{"$f":"IF(K822=\" \",\" \",ROWS($K$5:K822))","v":818},{"$f":"DICTIONARY!M846","v":"Rainfall"},{"$f":"DICTIONARY!O846","v":"वर्षा होना"},"वर्षा होना",{"$f":"DICTIONARY!P846","v":0},"वर्षा होना","वर्षा होना"]
[null,null,null,null,null,null,null,null,null,{"$f":"IF(K823=\" \",\" \",ROWS($K$5:K823))","v":819},{"$f":"DICTIONARY!M847","v":"Nit"},{"$f":"DICTIONARY!O847","v":"लीक"},"लीक",{"$f":"DICTIONARY!P847","v":"WORMS AND INSECTS ( कीट पतंगे )"},"लीक","लीक"]
[null,null,null,null,null,null,null,null,null,{"$f":"IF(K824=\" \",\" \",ROWS($K$5:K824))","v":820},{"$f":"DICTIONARY!M848","v":"Magpie"},{"$f":"DICTIONARY!O848","v":"नीलकंठ"},"नीलकंठ",{"$f":"DICTIONARY!P848","v":"BIRDS  ( पक्षियों के नाम  )"},"नीलकंठ","नीलकंठ"]
[null,null,null,null,null,null,null,null,null,{"$f":"IF(K825=\" \",\" \",ROWS($K$5:K825))","v":821},{"$f":"DICTIONARY!M849","v":"Tourist"},{"$f":"DICTIONARY!O849","v":"पर्यटक"},"पर्यटक",{"$f":"DICTIONARY!P849","v":0},"पर्यटक","पर्यटक"]
[null,null,null,null,null,null,null,null,null,{"$f":"IF(K826=\" \",\" \",ROWS($K$5:K826))","v":822},{"$f":"DICTIONARY!M850","v":"Museum"},{"$f":"DICTIONARY!O850","v":"संग्रहालय"},"संग्रहालय",{"$f":"DICTIONARY!P850","v":0},"संग्रहालय","संग्रहालय"]
[null,null,null,null,null,null,null,null,null,{"$f":"IF(K827=\" \",\" \",ROWS($K$5:K827))","v":823},{"$f":"DICTIONARY!M851","v":"State"},{"$f":"DICTIONARY!O851","v":"राज्य,प्रदेश"},"राज्य,प्रदेश",{"$f":"DICTIONARY!P851","v":0},"राज्य,प्रदेश","राज्य,प्रदेश"]
[null,null,null,null,null,null,null,null,null,{"$f":"IF(K828=\" \",\" \",ROWS($K$5:K828))","v":824},{"$f":"DICTIONARY!M852","v":"Government"},{"$f":"DICTIONARY!O852","v":"सरकार"},"सरकार",{"$f":"DICTIONARY!P852","v":0},"सरकार","सरकार"]
[null,null,null,null,null,null,null,null,null,{"$f":"IF(K829=\" \",\" \",ROWS($K$5:K829))","v":825},{"$f":"DICTIONARY!M853","v":"Heron"},{"$f":"DICTIONARY!O853","v":"बगुला"},"बगुला",{"$f":"DICTIONARY!P853","v":"BIRDS  ( पक्षियों के नाम  )"},"बगुला","बगुला"]
[null,null,null,null,null,null,null,null,null,{"$f":"IF(K830=\" \",\" \",ROWS($K$5:K830))","v":826},{"$f":"DICTIONARY!M854","v":"Stork"},{"$f":"DICTIONARY!O854","v":"सारस"},"सारस",{"$f":"DICTIONARY!P854","v":"BIRDS  ( पक्षियों के नाम  )"},"सारस","सारस"]
[null,null,null,null,null,null,null,null,null,{"$f":"IF(K831=\" \",\" \",ROWS($K$5:K831))","v":827},{"$f":"DICTIONARY!M855","v":"Secretariat"},{"$f":"DICTIONARY!O855","v":"सचिवालय"},"सचिवालय",{"$f":"DICTIONARY!P855","v":0},"सचिवालय","सचिवालय"]
[null,null,null,null,null,null,null,null,null,{"$f":"IF(K832=\" \",\" \",ROWS($K$5:K832))","v":828},{"$f":"DICTIONARY!M856","v":"Raven"},{"$f":"DICTIONARY!O856","v":"पहाड़ी कौवा"},"पहाड़ी कौवा",{"$f":"DICTIONARY!P856","v":"BIRDS  ( पक्षियों के नाम  )"},"पहाड़ी कौवा","पहाड़ी कौवा"]
[null,null,null,null,null,null,null,null,null,{"$f":"IF(K833=\" \",\" \",ROWS($K$5:K833))","v":829},{"$f":"DICTIONARY!M857","v":"Weaver-Bird"},{"$f":"DICTIONARY!O857","v":"बया"},"बया",{"$f":"DICTIONARY!P857","v":"BIRDS  ( पक्षियों के नाम  )"},"बया","बया"]
[null,null,null,null,null,null,null,null,null,{"$f":"IF(K834=\" \",\" \",ROWS($K$5:K834))","v":830},{"$f":"DICTIONARY!M858","v":"Administrative"},{"$f":"DICTIONARY!O858","v":"प्रशासनिक"},"प्रशासनिक",{"$f":"DICTIONARY!P858","v":0},"प्रशासनिक","प्रशासनिक"]
[null,null,null,null,null,null,null,null,null,{"$f":"IF(K835=\" \",\" \",ROWS($K$5:K835))","v":831},{"$f":"DICTIONARY!M859","v":"Woodpecker"},{"$f":"DICTIONARY!O859","v":"कठफोड़वा"},"कठफोड़वा",{"$f":"DICTIONARY!P859","v":"BIRDS  ( पक्षियों के नाम  )"},"कठफोड़वा","कठफोड़वा"]
[null,null,null,null,null,null,null,null,null,{"$f":"IF(K836=\" \",\" \",ROWS($K$5:K836))","v":832},{"$f":"DICTIONARY!M860","v":"Representative"},{"$f":"DICTIONARY!O860","v":"प्रतिनिधि"},"प्रतिनिधि",{"$f":"DICTIONARY!P860","v":0},"प्रतिनिधि","प्रतिनिधि"]
[null,null,null,null,null,null,null,null,null,{"$f":"IF(K837=\" \",\" \",ROWS($K$5:K837))","v":833},{"$f":"DICTIONARY!M861","v":"Municipal Corporation"},{"$f":"DICTIONARY!O861","v":"नगर निगम"},"नगर निगम",{"$f":"DICTIONARY!P861","v":0},{"$f":"M837","v":"नगर निगम"},{"$f":"L837","v":"नगर निगम"}]
[null,null,null,null,null,null,null,null,null,{"$f":"IF(K838=\" \",\" \",ROWS($K$5:K838))","v":834},{"$f":"DICTIONARY!M862","v":"Responsible"},{"$f":"DICTIONARY!O862","v":"जिम्मेदार"},{"$f":"L838","v":"जिम्मेदार"},{"$f":"DICTIONARY!P862","v":0},"जिम्मेदार","जिम्मेदार"]
[null,null,null,null,null,null,null,null,null,{"$f":"IF(K839=\" \",\" \",ROWS($K$5:K839))","v":835},{"$f":"DICTIONARY!M863","v":"Civic"},{"$f":"DICTIONARY!O863","v":"नगर का"},"नगर का",{"$f":"DICTIONARY!P863","v":0},"नगर का","नगर का"]
[null,null,null,null,null,null,null,null,null,{"$f":"IF(K840=\" \",\" \",ROWS($K$5:K840))","v":836},{"$f":"DICTIONARY!M864","v":"Infrastructure"},{"$f":"DICTIONARY!O864","v":"आवश्यक आधार रूप गटक"},"आवश्यक आधार रूप गटक",{"$f":"DICTIONARY!P864","v":0},"आवश्यक आधार रूप गटक","आवश्यक आधार रूप गटक"]
[null,null,null,null,null,null,null,null,null,{"$f":"IF(K841=\" \",\" \",ROWS($K$5:K841))","v":837},{"$f":"DICTIONARY!M865","v":"Carring Out"},{"$f":"DICTIONARY!O865","v":"कार्य पूरा करना"},"कार्य पूरा करना",{"$f":"DICTIONARY!P865","v":0},"कार्य पूरा करना","कार्य पूरा करना"]
[null,null,null,null,null,null,null,null,null,{"$f":"IF(K842=\" \",\" \",ROWS($K$5:K842))","v":838},{"$f":"DICTIONARY!M866","v":"Chimpanzee"},{"$f":"DICTIONARY!O866","v":"वनमानुष"},"वनमानुष",{"$f":"DICTIONARY!P866","v":"ANIMALS ( पशु )"},"वनमानुष","वनमानुष"]
[null,null,null,null,null,null,null,null,null,{"$f":"IF(K843=\" \",\" \",ROWS($K$5:K843))","v":839},{"$f":"DICTIONARY!M867","v":"Mayor"},{"$f":"DICTIONARY!O867","v":"नगर प्रमुख"},"नगर प्रमुख",{"$f":"DICTIONARY!P867","v":0},"नगर प्रमुख","नगर प्रमुख"]
[null,null,null,null,null,null,null,null,null,{"$f":"IF(K844=\" \",\" \",ROWS($K$5:K844))","v":840},{"$f":"DICTIONARY!M868","v":"Deputy Mayor"},{"$f":"DICTIONARY!O868","v":"नगर उपप्रमुख"},"नगर उपप्रमुख",{"$f":"DICTIONARY!P868","v":0},"नगर उपप्रमुख","नगर उपप्रमुख"]
[null,null,null,null,null,null,null,null,null,{"$f":"IF(K845=\" \",\" \",ROWS($K$5:K845))","v":841},{"$f":"DICTIONARY!M869","v":"Development"},{"$f":"DICTIONARY!O869","v":"विकास"},"विकास",{"$f":"DICTIONARY!P869","v":0},"विकास","विकास"]
[null,null,null,null,null,null,null,null,null,{"$f":"IF(K846=\" \",\" \",ROWS($K$5:K846))","v":842},{"$f":"DICTIONARY!M870","v":"Authority"},{"$f":"DICTIONARY!O870","v":"प्राधिकरण"},"प्राधिकरण",{"$f":"DICTIONARY!P870","v":0},"प्राधिकरण","प्राधिकरण"]
[null,null,null,null,null,null,null,null,null,{"$f":"IF(K847=\" \",\" \",ROWS($K$5:K847))","v":843},{"$f":"DICTIONARY!M871","v":"Nodal"},{"$f":"DICTIONARY!O871","v":"जोड़ने वाला"},"जोड़ने वाला",{"$f":"DICTIONARY!P871","v":0},"जोड़ने वाला","जोड़ने वाला"]
[null,null,null,null,null,null,null,null,null,{"$f":"IF(K848=\" \",\" \",ROWS($K$5:K848))","v":844},{"$f":"DICTIONARY!M872","v":"Ewe"},{"$f":"DICTIONARY!O872","v":"मेढ़ी"},"मेढ़ी",{"$f":"DICTIONARY!P872","v":"ANIMALS ( पशु )"},"मेढ़ी","मेढ़ी"]
[null,null,null,null,null,null,null,null,null,{"$f":"IF(K849=\" \",\" \",ROWS($K$5:K849))","v":845},{"$f":"DICTIONARY!M873","v":"Sustainable"},{"$f":"DICTIONARY!O873","v":"दीर्घकालिक"},"दीर्घकालिक",{"$f":"DICTIONARY!P873","v":0},"दीर्घकालिक","दीर्घकालिक"]
[null,null,null,null,null,null,null,null,null,{"$f":"IF(K850=\" \",\" \",ROWS($K$5:K850))","v":846},{"$f":"DICTIONARY!M874","v":"Hippopptamus"},{"$f":"DICTIONARY!O874","v":"दरियाई घोडा"},"दरियाई घोडा",{"$f":"DICTIONARY!P874","v":"ANIMALS ( पशु )"},"दरियाई घोडा","दरियाई घोडा"]
[null,null,null,null,null,null,null,null,null,{"$f":"IF(K851=\" \",\" \",ROWS($K$5:K851))","v":847},{"$f":"DICTIONARY!M875","v":"Ensure"},{"$f":"DICTIONARY!O875","v":"निश्चित कर लेना"},"निश्चित कर लेना",{"$f":"DICTIONARY!P875","v":0},"निश्चित कर लेना","निश्चित कर लेना"]
[null,null,null,null,null,null,null,null,null,{"$f":"IF(K852=\" \",\" \",ROWS($K$5:K852))","v":848},{"$f":"DICTIONARY!M876","v":"Security"},{"$f":"DICTIONARY!O876","v":"सुरक्षा"},"सुरक्षा",{"$f":"DICTIONARY!P876","v":0},"सुरक्षा","सुरक्षा"]
[null,null,null,null,null,null,null,null,null,{"$f":"IF(K853=\" \",\" \",ROWS($K$5:K853))","v":849},{"$f":"DICTIONARY!M877","v":"Education"},{"$f":"DICTIONARY!O877","v":"शिक्षा"},"शिक्षा",{"$f":"DICTIONARY!P877","v":"SCHOOL RELATIVE  ( विद्यालय सम्बन्धी  )"},"शिक्षा","शिक्षा"]
[null,null,null,null,null,null,null,null,null,{"$f":"IF(K854=\" \",\" \",ROWS($K$5:K854))","v":850},{"$f":"DICTIONARY!M878","v":"Facility"},{"$f":"DICTIONARY!O878","v":"सुविधा"},"सुविधा",{"$f":"DICTIONARY!P878","v":0},"सुविधा","सुविधा"]
[null,null,null,null,null,null,null,null,null,{"$f":"IF(K855=\" \",\" \",ROWS($K$5:K855))","v":851},{"$f":"DICTIONARY!M879","v":"Gem"},{"$f":"DICTIONARY!O879","v":"मणि,रत्न"},"मणि,रत्न",{"$f":"DICTIONARY!P879","v":0},"मणि,रत्न","मणि,रत्न"]
[null,null,null,null,null,null,null,null,null,{"$f":"IF(K856=\" \",\" \",ROWS($K$5:K856))","v":852},{"$f":"DICTIONARY!M880","v":"Hyena"},{"$f":"DICTIONARY!O880","v":"लकड़बग्गा"},"लकड़बग्गा",{"$f":"DICTIONARY!P880","v":"ANIMALS ( पशु )"},"लकड़बग्गा","लकड़बग्गा"]
[null,null,null,null,null,null,null,null,null,{"$f":"IF(K857=\" \",\" \",ROWS($K$5:K857))","v":853},{"$f":"DICTIONARY!M881","v":"Industrial"},{"$f":"DICTIONARY!O881","v":"औद्योगिक"},"औद्योगिक",{"$f":"DICTIONARY!P881","v":0},"औद्योगिक","औद्योगिक"]
[null,null,null,null,null,null,null,null,null,{"$f":"IF(K858=\" \",\" \",ROWS($K$5:K858))","v":854},{"$f":"DICTIONARY!M882","v":"Metro"},{"$f":"DICTIONARY!O882","v":"मेट्रो रेल"},"मेट्रो रेल",{"$f":"DICTIONARY!P882","v":0},"मेट्रो रेल","मेट्रो रेल"]
[null,null,null,null,null,null,null,null,null,{"$f":"IF(K859=\" \",\" \",ROWS($K$5:K859))","v":855},{"$f":"DICTIONARY!M883","v":"Latest"},{"$f":"DICTIONARY!O883","v":"नवीनतम"},"नवीनतम",{"$f":"DICTIONARY!P883","v":0},"नवीनतम","नवीनतम"]
[null,null,null,null,null,null,null,null,null,{"$f":"IF(K860=\" \",\" \",ROWS($K$5:K860))","v":856},{"$f":"DICTIONARY!M884","v":"Hog"},{"$f":"DICTIONARY!O884","v":"सूअर"},"सूअर",{"$f":"DICTIONARY!P884","v":"ANIMALS ( पशु )"},"सूअर","सूअर"]
[null,null,null,null,null,null,null,null,null,{"$f":"IF(K861=\" \",\" \",ROWS($K$5:K861))","v":857},{"$f":"DICTIONARY!M885","v":"Dictionary"},{"$f":"DICTIONARY!O885","v":"शब्दकोष"},"शब्दकोष",{"$f":"DICTIONARY!P885","v":0},"शब्दकोष","शब्दकोष"]
[null,null,null,null,null,null,null,null,null,{"$f":"IF(K862=\" \",\" \",ROWS($K$5:K862))","v":858},{"$f":"DICTIONARY!M886","v":"Bookshop"},{"$f":"DICTIONARY!O886","v":"पुस्तक की दुकान"},"पुस्तक की दुकान",{"$f":"DICTIONARY!P886","v":0},"पुस्तक की दुकान","पुस्तक की दुकान"]
[null,null,null,null,null,null,null,null,null,{"$f":"IF(K863=\" \",\" \",ROWS($K$5:K863))","v":859},{"$f":"DICTIONARY!M887","v":"Rat"},{"$f":"DICTIONARY!O887","v":"चूहा"},"चूहा",{"$f":"DICTIONARY!P887","v":"ANIMALS ( पशु )"},"चूहा","चूहा"]
[null,null,null,null,null,null,null,null,null,{"$f":"IF(K864=\" \",\" \",ROWS($K$5:K864))","v":860},{"$f":"DICTIONARY!M888","v":"Pointed"},{"$f":"DICTIONARY!O888","v":"इशारा किया"},"इशारा किया",{"$f":"DICTIONARY!P888","v":0},"इशारा किया","इशारा किया"]
[null,null,null,null,null,null,null,null,null,{"$f":"IF(K865=\" \",\" \",ROWS($K$5:K865))","v":861},{"$f":"DICTIONARY!M889","v":"Group"},{"$f":"DICTIONARY!O889","v":"समूह"},"समूह",{"$f":"DICTIONARY!P889","v":0},"समूह","समूह"]
[null,null,null,null,null,null,null,null,null,{"$f":"IF(K866=\" \",\" \",ROWS($K$5:K866))","v":862},{"$f":"DICTIONARY!M890","v":"Stag"},{"$f":"DICTIONARY!O890","v":"बारहसिंगा"},"बारहसिंगा",{"$f":"DICTIONARY!P890","v":"ANIMALS ( पशु )"},"बारहसिंगा","बारहसिंगा"]
[null,null,null,null,null,null,null,null,null,{"$f":"IF(K867=\" \",\" \",ROWS($K$5:K867))","v":863},{"$f":"DICTIONARY!M891","v":"Voice"},{"$f":"DICTIONARY!O891","v":"आवाज"},"आवाज",{"$f":"DICTIONARY!P891","v":0},"आवाज","आवाज"]
[null,null,null,null,null,null,null,null,null,{"$f":"IF(K868=\" \",\" \",ROWS($K$5:K868))","v":864},{"$f":"DICTIONARY!M892","v":"Fire Engine"},{"$f":"DICTIONARY!O892","v":"दमकल"},"दमकल",{"$f":"DICTIONARY!P892","v":0},"दमकल","दमकल"]
[null,null,null,null,null,null,null,null,null,{"$f":"IF(K869=\" \",\" \",ROWS($K$5:K869))","v":865},{"$f":"DICTIONARY!M893","v":"Ox"},{"$f":"DICTIONARY!O893","v":"बैल"},"बैल",{"$f":"DICTIONARY!P893","v":"ANIMALS ( पशु )"},"बैल","बैल"]
[null,null,null,null,null,null,null,null,null,{"$f":"IF(K870=\" \",\" \",ROWS($K$5:K870))","v":866},{"$f":"DICTIONARY!M894","v":"Put Out"},{"$f":"DICTIONARY!O894","v":"बुझाना"},"बुझाना",{"$f":"DICTIONARY!P894","v":0},"बुझाना","बुझाना"]
[null,null,null,null,null,null,null,null,null,{"$f":"IF(K871=\" \",\" \",ROWS($K$5:K871))","v":867},{"$f":"DICTIONARY!M895","v":"Fireman"},{"$f":"DICTIONARY!O895","v":"आग बुझाना"},"आग बुझाना",{"$f":"DICTIONARY!P895","v":0},"आग बुझाना","आग बुझाना"]
[null,null,null,null,null,null,null,null,null,{"$f":"IF(K872=\" \",\" \",ROWS($K$5:K872))","v":868},{"$f":"DICTIONARY!M896","v":"Most"},{"$f":"DICTIONARY!O896","v":"अधिकांश"},"अधिकांश",{"$f":"DICTIONARY!P896","v":0},"अधिकांश","अधिकांश"]
[null,null,null,null,null,null,null,null,null,{"$f":"IF(K873=\" \",\" \",ROWS($K$5:K873))","v":869},{"$f":"DICTIONARY!M897","v":"Furniture"},{"$f":"DICTIONARY!O897","v":"लकड़ी से निर्मित वस्तुए"},"लकड़ी से निर्मित वस्तुए",{"$f":"DICTIONARY!P897","v":0},"लकड़ी से निर्मित वस्तुए","लकड़ी से निर्मित वस्तुए"]
[null,null,null,null,null,null,null,null,null,{"$f":"IF(K874=\" \",\" \",ROWS($K$5:K874))","v":870},{"$f":"DICTIONARY!M898","v":"Musk-Deer"},{"$f":"DICTIONARY!O898","v":"कस्तूरी हिरन"},"कस्तूरी हिरन",{"$f":"DICTIONARY!P898","v":"ANIMALS ( पशु )"},"कस्तूरी हिरन","कस्तूरी हिरन"]
[null,null,null,null,null,null,null,null,null,{"$f":"IF(K875=\" \",\" \",ROWS($K$5:K875))","v":871},{"$f":"DICTIONARY!M899","v":"Fire Brigade "},{"$f":"DICTIONARY!O899","v":"अग्निशमन दल"},"अग्निशमन दल",{"$f":"DICTIONARY!P899","v":0},"अग्निशमन दल","अग्निशमन दल"]
[null,null,null,null,null,null,null,null,null,{"$f":"IF(K876=\" \",\" \",ROWS($K$5:K876))","v":872},{"$f":"DICTIONARY!M900","v":"Fire Brigade Officer"},{"$f":"DICTIONARY!O900","v":"अग्निशमन दल अधिकारी"},"अग्निशमन दल अधिकारी",{"$f":"DICTIONARY!P900","v":0},"अग्निशमन दल अधिकारी","अग्निशमन दल अधिकारी"]
[null,null,null,null,null,null,null,null,null,{"$f":"IF(K877=\" \",\" \",ROWS($K$5:K877))","v":873},{"$f":"DICTIONARY!M901","v":"Matchstick"},{"$f":"DICTIONARY!O901","v":"तीली"},"तीली",{"$f":"DICTIONARY!P901","v":0},"तीली","तीली"]
[null,null,null,null,null,null,null,null,null,{"$f":"IF(K878=\" \",\" \",ROWS($K$5:K878))","v":874},{"$f":"DICTIONARY!M902","v":"Spark"},{"$f":"DICTIONARY!O902","v":"चिंगारी"},"चिंगारी",{"$f":"DICTIONARY!P902","v":0},"चिंगारी","चिंगारी"]
[null,null,null,null,null,null,null,null,null,{"$f":"IF(K879=\" \",\" \",ROWS($K$5:K879))","v":875},{"$f":"DICTIONARY!M903","v":"Firewood Stove"},{"$f":"DICTIONARY!O903","v":"लकड़ी जलने का चूल्हा"},"लकड़ी जलने का चूल्हा",{"$f":"DICTIONARY!P903","v":0},"लकड़ी जलने का चूल्हा","लकड़ी जलने का चूल्हा"]
[null,null,null,null,null,null,null,null,null,{"$f":"IF(K880=\" \",\" \",ROWS($K$5:K880))","v":876},{"$f":"DICTIONARY!M904","v":"Cigarette"},{"$f":"DICTIONARY!O904","v":"सिगरेट"},"सिगरेट",{"$f":"DICTIONARY!P904","v":0},"सिगरेट","सिगरेट"]
[null,null,null,null,null,null,null,null,null,{"$f":"IF(K881=\" \",\" \",ROWS($K$5:K881))","v":877},{"$f":"DICTIONARY!M905","v":"Short Circuit"},{"$f":"DICTIONARY!O905","v":"लघु पथन"},"लघु पथन",{"$f":"DICTIONARY!P905","v":0},"लघु पथन","लघु पथन"]
[null,null,null,null,null,null,null,null,null,{"$f":"IF(K882=\" \",\" \",ROWS($K$5:K882))","v":878},{"$f":"DICTIONARY!M906","v":"Zebu"},{"$f":"DICTIONARY!O906","v":"सांड"},"सांड",{"$f":"DICTIONARY!P906","v":"ANIMALS ( पशु )"},"सांड","सांड"]
[null,null,null,null,null,null,null,null,null,{"$f":"IF(K883=\" \",\" \",ROWS($K$5:K883))","v":879},{"$f":"DICTIONARY!M907","v":"Electric Wire"},{"$f":"DICTIONARY!O907","v":"विद्दुत तार"},"विद्दुत तार",{"$f":"DICTIONARY!P907","v":0},"विद्दुत तार","विद्दुत तार"]
[null,null,null,null,null,null,null,null,null,{"$f":"IF(K884=\" \",\" \",ROWS($K$5:K884))","v":880},{"$f":"DICTIONARY!M908","v":"Equipments"},{"$f":"DICTIONARY!O908","v":"उपकरण"},"उपकरण",{"$f":"DICTIONARY!P908","v":0},"उपकरण","उपकरण"]
[null,null,null,null,null,null,null,null,null,{"$f":"IF(K885=\" \",\" \",ROWS($K$5:K885))","v":881},{"$f":"DICTIONARY!M909","v":"Appliance"},{"$f":"DICTIONARY!O909","v":"यन्त्र"},"यन्त्र",{"$f":"DICTIONARY!P909","v":0},"यन्त्र","यन्त्र"]
[null,null,null,null,null,null,null,null,null,{"$f":"IF(K886=\" \",\" \",ROWS($K$5:K886))","v":882},{"$f":"DICTIONARY!M910","v":"Nearness"},{"$f":"DICTIONARY!O910","v":"सामीप्य"},"सामीप्य",{"$f":"DICTIONARY!P910","v":0},"सामीप्य","सामीप्य"]
[null,null,null,null,null,null,null,null,null,{"$f":"IF(K887=\" \",\" \",ROWS($K$5:K887))","v":883},{"$f":"DICTIONARY!M911","v":"Crackers"},{"$f":"DICTIONARY!O911","v":"पटाखे"},"पटाखे",{"$f":"DICTIONARY!P911","v":0},"पटाखे","पटाखे"]
[null,null,null,null,null,null,null,null,null,{"$f":"IF(K888=\" \",\" \",ROWS($K$5:K888))","v":884},{"$f":"DICTIONARY!M912","v":"Major"},{"$f":"DICTIONARY!O912","v":"मुख्य,बड़ा"},"मुख्य,बड़ा",{"$f":"DICTIONARY!P912","v":0},"मुख्य,बड़ा","मुख्य,बड़ा"]
[null,null,null,null,null,null,null,null,null,{"$f":"IF(K889=\" \",\" \",ROWS($K$5:K889))","v":885},{"$f":"DICTIONARY!M913","v":"Swine"},{"$f":"DICTIONARY!O913","v":"शुकरी"},"शुकरी",{"$f":"DICTIONARY!P913","v":"ANIMALS ( पशु )"},"शुकरी","शुकरी"]
[null,null,null,null,null,null,null,null,null,{"$f":"IF(K890=\" \",\" \",ROWS($K$5:K890))","v":886},{"$f":"DICTIONARY!M914","v":"Standard"},{"$f":"DICTIONARY!O914","v":"मानक,स्तर"},"मानक,स्तर",{"$f":"DICTIONARY!P914","v":0},"मानक,स्तर","मानक,स्तर"]
[null,null,null,null,null,null,null,null,null,{"$f":"IF(K891=\" \",\" \",ROWS($K$5:K891))","v":887},{"$f":"DICTIONARY!M915","v":"Condition"},{"$f":"DICTIONARY!O915","v":"स्थिति,दशा,हालत"},"स्थिति,दशा,हालत",{"$f":"DICTIONARY!P915","v":0},"स्थिति,दशा,हालत","स्थिति,दशा,हालत"]
[null,null,null,null,null,null,null,null,null,{"$f":"IF(K892=\" \",\" \",ROWS($K$5:K892))","v":888},{"$f":"DICTIONARY!M916","v":"Highly"},{"$f":"DICTIONARY!O916","v":"अत्यधिक"},"अत्यधिक",{"$f":"DICTIONARY!P916","v":0},"अत्यधिक","अत्यधिक"]
[null,null,null,null,null,null,null,null,null,{"$f":"IF(K893=\" \",\" \",ROWS($K$5:K893))","v":889},{"$f":"DICTIONARY!M917","v":"Inflammable"},{"$f":"DICTIONARY!O917","v":"ज्वलनशील"},"ज्वलनशील",{"$f":"DICTIONARY!P917","v":0},"ज्वलनशील","ज्वलनशील"]
[null,null,null,null,null,null,null,null,null,{"$f":"IF(K894=\" \",\" \",ROWS($K$5:K894))","v":890},{"$f":"DICTIONARY!M918","v":"Fire Extinguisher"},{"$f":"DICTIONARY!O918","v":"अग्निशामक यन्त्र"},"अग्निशामक यन्त्र",{"$f":"DICTIONARY!P918","v":0},"अग्निशामक यन्त्र","अग्निशामक यन्त्र"]
[null,null,null,null,null,null,null,null,null,{"$f":"IF(K895=\" \",\" \",ROWS($K$5:K895))","v":891},{"$f":"DICTIONARY!M919","v":"Yak"},{"$f":"DICTIONARY!O919","v":"पर्वतीय बैल"},"पर्वतीय बैल",{"$f":"DICTIONARY!P919","v":"ANIMALS ( पशु )"},"पर्वतीय बैल","पर्वतीय बैल"]
[null,null,null,null,null,null,null,null,null,{"$f":"IF(K896=\" \",\" \",ROWS($K$5:K896))","v":892},{"$f":"DICTIONARY!M920","v":"Adjutant"},{"$f":"DICTIONARY!O920","v":"सारस"},"सारस",{"$f":"DICTIONARY!P920","v":"BIRDS  ( पक्षियों के नाम  )"},"सारस","सारस"]
[null,null,null,null,null,null,null,null,null,{"$f":"IF(K897=\" \",\" \",ROWS($K$5:K897))","v":893},{"$f":"DICTIONARY!M921","v":"Day "},{"$f":"DICTIONARY!O921","v":"दिन"},"दिन",{"$f":"DICTIONARY!P921","v":"DAYS OF A WEEK ( सप्ताह के दिन )"},"दिन","दिन"]
[null,null,null,null,null,null,null,null,null,{"$f":"IF(K898=\" \",\" \",ROWS($K$5:K898))","v":894},{"$f":"DICTIONARY!M922","v":"Folk"},{"$f":"DICTIONARY!O922","v":"लोक,जनसाधारण"},"लोक,जनसाधारण",{"$f":"DICTIONARY!P922","v":0},"लोक,जनसाधारण","लोक,जनसाधारण"]
[null,null,null,null,null,null,null,null,null,{"$f":"IF(K899=\" \",\" \",ROWS($K$5:K899))","v":895},{"$f":"DICTIONARY!M923","v":"Inviting"},{"$f":"DICTIONARY!O923","v":"मोहक,आकर्षक"},"मोहक,आकर्षक",{"$f":"DICTIONARY!P923","v":0},"मोहक,आकर्षक","मोहक,आकर्षक"]
[null,null,null,null,null,null,null,null,null,{"$f":"IF(K900=\" \",\" \",ROWS($K$5:K900))","v":896},{"$f":"DICTIONARY!M924","v":"Engaging"},{"$f":"DICTIONARY!O924","v":"ध्यानाकर्षक"},"ध्यानाकर्षक",{"$f":"DICTIONARY!P924","v":0},"ध्यानाकर्षक","ध्यानाकर्षक"]
[null,null,null,null,null,null,null,null,null,{"$f":"IF(K901=\" \",\" \",ROWS($K$5:K901))","v":897},{"$f":"DICTIONARY!M925","v":"Induce"},{"$f":"DICTIONARY!O925","v":"फुसलाना,उकसाना"},"फुसलाना,उकसाना",{"$f":"DICTIONARY!P925","v":0},{"$f":"M901","v":"फुसलाना,उकसाना"},{"$f":"L901","v":"फुसलाना,उकसाना"}]
[null,null,null,null,null,null,null,null,null,{"$f":"IF(K902=\" \",\" \",ROWS($K$5:K902))","v":898},{"$f":"DICTIONARY!M926","v":"Tap"},{"$f":"DICTIONARY!O926","v":"थपकी"},{"$f":"L902","v":"थपकी"},{"$f":"DICTIONARY!P926","v":0},"थपकी","थपकी"]
[null,null,null,null,null,null,null,null,null,{"$f":"IF(K903=\" \",\" \",ROWS($K$5:K903))","v":899},{"$f":"DICTIONARY!M927","v":"Along With"},{"$f":"DICTIONARY!O927","v":"के साथ"},"के साथ",{"$f":"DICTIONARY!P927","v":0},"के साथ","के साथ"]
[null,null,null,null,null,null,null,null,null,{"$f":"IF(K904=\" \",\" \",ROWS($K$5:K904))","v":900},{"$f":"DICTIONARY!M928","v":"Dancers"},{"$f":"DICTIONARY!O928","v":"नर्तक"},"नर्तक",{"$f":"DICTIONARY!P928","v":0},"नर्तक","नर्तक"]
[null,null,null,null,null,null,null,null,null,{"$f":"IF(K905=\" \",\" \",ROWS($K$5:K905))","v":901},{"$f":"DICTIONARY!M929","v":"Essentially"},{"$f":"DICTIONARY!O929","v":"मूलतः"},"मूलतः",{"$f":"DICTIONARY!P929","v":0},"मूलतः","मूलतः"]
[null,null,null,null,null,null,null,null,null,{"$f":"IF(K906=\" \",\" \",ROWS($K$5:K906))","v":902},{"$f":"DICTIONARY!M930","v":"Origin"},{"$f":"DICTIONARY!O930","v":"उत्पति"},"उत्पति",{"$f":"DICTIONARY!P930","v":0},"उत्पति","उत्पति"]
[null,null,null,null,null,null,null,null,null,{"$f":"IF(K907=\" \",\" \",ROWS($K$5:K907))","v":903},{"$f":"DICTIONARY!M931","v":"Rural"},{"$f":"DICTIONARY!O931","v":"ग्रामीण"},"ग्रामीण",{"$f":"DICTIONARY!P931","v":0},"ग्रामीण","ग्रामीण"]
[null,null,null,null,null,null,null,null,null,{"$f":"IF(K908=\" \",\" \",ROWS($K$5:K908))","v":904},{"$f":"DICTIONARY!M932","v":"Custom"},{"$f":"DICTIONARY!O932","v":"रीती-रिवाज"},"रीती-रिवाज",{"$f":"DICTIONARY!P932","v":0},"रीती-रिवाज","रीती-रिवाज"]
[null,null,null,null,null,null,null,null,null,{"$f":"IF(K909=\" \",\" \",ROWS($K$5:K909))","v":905},{"$f":"DICTIONARY!M933","v":"Cuckoo"},{"$f":"DICTIONARY!O933","v":"कोयल"},"कोयल",{"$f":"DICTIONARY!P933","v":"BIRDS  ( पक्षियों के नाम  )"},"कोयल","कोयल"]
[null,null,null,null,null,null,null,null,null,{"$f":"IF(K910=\" \",\" \",ROWS($K$5:K910))","v":906},{"$f":"DICTIONARY!M934","v":"Traditional"},{"$f":"DICTIONARY!O934","v":"पारम्परिक"},"पारम्परिक",{"$f":"DICTIONARY!P934","v":0},"पारम्परिक","पारम्परिक"]
[null,null,null,null,null,null,null,null,null,{"$f":"IF(K911=\" \",\" \",ROWS($K$5:K911))","v":907},{"$f":"DICTIONARY!M935","v":"Cygnet"},{"$f":"DICTIONARY!O935","v":"हंस शावक"},"हंस शावक",{"$f":"DICTIONARY!P935","v":"BIRDS  ( पक्षियों के नाम  )"},"हंस शावक","हंस शावक"]
[null,null,null,null,null,null,null,null,null,{"$f":"IF(K912=\" \",\" \",ROWS($K$5:K912))","v":908},{"$f":"DICTIONARY!M936","v":"Colourful"},{"$f":"DICTIONARY!O936","v":"रंगीन"},"रंगीन",{"$f":"DICTIONARY!P936","v":0},"रंगीन","रंगीन"]
[null,null,null,null,null,null,null,null,null,{"$f":"IF(K913=\" \",\" \",ROWS($K$5:K913))","v":909},{"$f":"DICTIONARY!M937","v":"Lively"},{"$f":"DICTIONARY!O937","v":"आनंददायक,सजीव जैसा"},"आनंददायक,सजीव जैसा",{"$f":"DICTIONARY!P937","v":0},"आनंददायक,सजीव जैसा","आनंददायक,सजीव जैसा"]
[null,null,null,null,null,null,null,null,null,{"$f":"IF(K914=\" \",\" \",ROWS($K$5:K914))","v":910},{"$f":"DICTIONARY!M938","v":"Significance"},{"$f":"DICTIONARY!O938","v":"महत्व"},"महत्व",{"$f":"DICTIONARY!P938","v":0},"महत्व","महत्व"]
[null,null,null,null,null,null,null,null,null,{"$f":"IF(K915=\" \",\" \",ROWS($K$5:K915))","v":911},{"$f":"DICTIONARY!M939","v":"Style"},{"$f":"DICTIONARY!O939","v":"शैली,ढंग"},"शैली,ढंग",{"$f":"DICTIONARY!P939","v":0},"शैली,ढंग","शैली,ढंग"]
[null,null,null,null,null,null,null,null,null,{"$f":"IF(K916=\" \",\" \",ROWS($K$5:K916))","v":912},{"$f":"DICTIONARY!M940","v":"Attractive"},{"$f":"DICTIONARY!O940","v":"आकर्षक"},"आकर्षक",{"$f":"DICTIONARY!P940","v":0},"आकर्षक","आकर्षक"]
[null,null,null,null,null,null,null,null,null,{"$f":"IF(K917=\" \",\" \",ROWS($K$5:K917))","v":913},{"$f":"DICTIONARY!M941","v":"Skilful"},{"$f":"DICTIONARY!O941","v":"कौशल दिखने वाला"},"कौशल दिखने वाला",{"$f":"DICTIONARY!P941","v":0},"कौशल दिखने वाला","कौशल दिखने वाला"]
[null,null,null,null,null,null,null,null,null,{"$f":"IF(K918=\" \",\" \",ROWS($K$5:K918))","v":914},{"$f":"DICTIONARY!M942","v":"Form"},{"$f":"DICTIONARY!O942","v":"रूप,प्रकार"},"रूप,प्रकार",{"$f":"DICTIONARY!P942","v":0},"रूप,प्रकार","रूप,प्रकार"]
[null,null,null,null,null,null,null,null,null,{"$f":"IF(K919=\" \",\" \",ROWS($K$5:K919))","v":915},{"$f":"DICTIONARY!M943","v":"Community"},{"$f":"DICTIONARY!O943","v":"सामुदायिक"},"सामुदायिक",{"$f":"DICTIONARY!P943","v":0},"सामुदायिक","सामुदायिक"]
[null,null,null,null,null,null,null,null,null,{"$f":"IF(K920=\" \",\" \",ROWS($K$5:K920))","v":916},{"$f":"DICTIONARY!M944","v":"Perform"},{"$f":"DICTIONARY!O944","v":"प्रस्तुत करना"},"प्रस्तुत करना",{"$f":"DICTIONARY!P944","v":0},"प्रस्तुत करना","प्रस्तुत करना"]
[null,null,null,null,null,null,null,null,null,{"$f":"IF(K921=\" \",\" \",ROWS($K$5:K921))","v":917},{"$f":"DICTIONARY!M945","v":"Auspicious"},{"$f":"DICTIONARY!O945","v":"मांगलिक,शुभ"},"मांगलिक,शुभ",{"$f":"DICTIONARY!P945","v":0},"मांगलिक,शुभ","मांगलिक,शुभ"]
[null,null,null,null,null,null,null,null,null,{"$f":"IF(K922=\" \",\" \",ROWS($K$5:K922))","v":918},{"$f":"DICTIONARY!M946","v":"Falcon"},{"$f":"DICTIONARY!O946","v":"बाज"},"बाज",{"$f":"DICTIONARY!P946","v":"BIRDS  ( पक्षियों के नाम  )"},"बाज","बाज"]
[null,null,null,null,null,null,null,null,null,{"$f":"IF(K923=\" \",\" \",ROWS($K$5:K923))","v":919},{"$f":"DICTIONARY!M947","v":"Goose"},{"$f":"DICTIONARY!O947","v":"बत्तख"},"बत्तख",{"$f":"DICTIONARY!P947","v":"BIRDS  ( पक्षियों के नाम  )"},"बत्तख","बत्तख"]
[null,null,null,null,null,null,null,null,null,{"$f":"IF(K924=\" \",\" \",ROWS($K$5:K924))","v":920},{"$f":"DICTIONARY!M948","v":"Gracefully"},{"$f":"DICTIONARY!O948","v":"मनोरम"},"मनोरम",{"$f":"DICTIONARY!P948","v":0},"मनोरम","मनोरम"]
[null,null,null,null,null,null,null,null,null,{"$f":"IF(K925=\" \",\" \",ROWS($K$5:K925))","v":921},{"$f":"DICTIONARY!M949","v":"Partridge"},{"$f":"DICTIONARY!O949","v":"तीतर"},"तीतर",{"$f":"DICTIONARY!P949","v":"BIRDS  ( पक्षियों के नाम  )"},"तीतर","तीतर"]
[null,null,null,null,null,null,null,null,null,{"$f":"IF(K926=\" \",\" \",ROWS($K$5:K926))","v":922},{"$f":"DICTIONARY!M950","v":"Circuler"},{"$f":"DICTIONARY!O950","v":"वृताकार"},"वृताकार",{"$f":"DICTIONARY!P950","v":0},"वृताकार","वृताकार"]
[null,null,null,null,null,null,null,null,null,{"$f":"IF(K927=\" \",\" \",ROWS($K$5:K927))","v":923},{"$f":"DICTIONARY!M951","v":"Display"},{"$f":"DICTIONARY!O951","v":"प्रदर्शन करते हे"},"प्रदर्शन करते हे",{"$f":"DICTIONARY!P951","v":0},"प्रदर्शन करते हे","प्रदर्शन करते हे"]
[null,null,null,null,null,null,null,null,null,{"$f":"IF(K928=\" \",\" \",ROWS($K$5:K928))","v":924},{"$f":"DICTIONARY!M952","v":"Spectacular"},{"$f":"DICTIONARY!O952","v":"शानदार एंव प्रभावी"},"शानदार एंव प्रभावी",{"$f":"DICTIONARY!P952","v":0},"शानदार एंव प्रभावी","शानदार एंव प्रभावी"]
[null,null,null,null,null,null,null,null,null,{"$f":"IF(K929=\" \",\" \",ROWS($K$5:K929))","v":925},{"$f":"DICTIONARY!M953","v":"Ancient"},{"$f":"DICTIONARY!O953","v":"प्राचीन"},"प्राचीन",{"$f":"DICTIONARY!P953","v":0},"प्राचीन","प्राचीन"]
[null,null,null,null,null,null,null,null,null,{"$f":"IF(K930=\" \",\" \",ROWS($K$5:K930))","v":926},{"$f":"DICTIONARY!M954","v":"Pheasant"},{"$f":"DICTIONARY!O954","v":"तीतर"},"तीतर",{"$f":"DICTIONARY!P954","v":"BIRDS  ( पक्षियों के नाम  )"},"तीतर","तीतर"]
[null,null,null,null,null,null,null,null,null,{"$f":"IF(K931=\" \",\" \",ROWS($K$5:K931))","v":927},{"$f":"DICTIONARY!M955","v":"Similar"},{"$f":"DICTIONARY!O955","v":"सामान"},"सामान",{"$f":"DICTIONARY!P955","v":0},"सामान","सामान"]
[null,null,null,null,null,null,null,null,null,{"$f":"IF(K932=\" \",\" \",ROWS($K$5:K932))","v":928},{"$f":"DICTIONARY!M956","v":"Serpant"},{"$f":"DICTIONARY!O956","v":"सर्प"},"सर्प",{"$f":"DICTIONARY!P956","v":0},"सर्प","सर्प"]
[null,null,null,null,null,null,null,null,null,{"$f":"IF(K933=\" \",\" \",ROWS($K$5:K933))","v":929},{"$f":"DICTIONARY!M957","v":"Posterity"},{"$f":"DICTIONARY!O957","v":"वशंज"},"वशंज",{"$f":"DICTIONARY!P957","v":"RELATIONS AND RELATIVES ( सम्बन्ध और सम्बन्धी )"},"वशंज","वशंज"]
[null,null,null,null,null,null,null,null,null,{"$f":"IF(K934=\" \",\" \",ROWS($K$5:K934))","v":930},{"$f":"DICTIONARY!M958","v":"Lover"},{"$f":"DICTIONARY!O958","v":"प्रेमी"},"प्रेमी",{"$f":"DICTIONARY!P958","v":"RELATIONS AND RELATIVES ( सम्बन्ध और सम्बन्धी )"},"प्रेमी","प्रेमी"]
[null,null,null,null,null,null,null,null,null,{"$f":"IF(K935=\" \",\" \",ROWS($K$5:K935))","v":931},{"$f":"DICTIONARY!M959","v":"Bean"},{"$f":"DICTIONARY!O959","v":"एक संगीत वाद्द्य"},"एक संगीत वाद्द्य",{"$f":"DICTIONARY!P959","v":0},"एक संगीत वाद्द्य","एक संगीत वाद्द्य"]
[null,null,null,null,null,null,null,null,null,{"$f":"IF(K936=\" \",\" \",ROWS($K$5:K936))","v":932},{"$f":"DICTIONARY!M960","v":"Cotton Seed"},{"$f":"DICTIONARY!O960","v":"बिनौले,कपास के बीज"},"बिनौले,कपास के बीज",{"$f":"DICTIONARY!P960","v":0},"बिनौले,कपास के बीज","बिनौले,कपास के बीज"]
[null,null,null,null,null,null,null,null,null,{"$f":"IF(K937=\" \",\" \",ROWS($K$5:K937))","v":933},{"$f":"DICTIONARY!M961","v":"Involves"},{"$f":"DICTIONARY!O961","v":"शामिल रहता हे"},"शामिल रहता हे",{"$f":"DICTIONARY!P961","v":0},"शामिल रहता हे","शामिल रहता हे"]
[null,null,null,null,null,null,null,null,null,{"$f":"IF(K938=\" \",\" \",ROWS($K$5:K938))","v":934},{"$f":"DICTIONARY!M962","v":"Brethren"},{"$f":"DICTIONARY!O962","v":"भाई-बंधू"},"भाई-बंधू",{"$f":"DICTIONARY!P962","v":"RELATIONS AND RELATIVES ( सम्बन्ध और सम्बन्धी )"},"भाई-बंधू","भाई-बंधू"]
[null,null,null,null,null,null,null,null,null,{"$f":"IF(K939=\" \",\" \",ROWS($K$5:K939))","v":935},{"$f":"DICTIONARY!M963","v":"Co-Wife"},{"$f":"DICTIONARY!O963","v":"सह पत्नी"},"सह पत्नी",{"$f":"DICTIONARY!P963","v":"RELATIONS AND RELATIVES ( सम्बन्ध और सम्बन्धी )"},"सह पत्नी","सह पत्नी"]
[null,null,null,null,null,null,null,null,null,{"$f":"IF(K940=\" \",\" \",ROWS($K$5:K940))","v":936},{"$f":"DICTIONARY!M964","v":"Twirl"},{"$f":"DICTIONARY!O964","v":"चक्कर लगाती"},"चक्कर लगाती",{"$f":"DICTIONARY!P964","v":0},"चक्कर लगाती","चक्कर लगाती"]
[null,null,null,null,null,null,null,null,null,{"$f":"IF(K941=\" \",\" \",ROWS($K$5:K941))","v":937},{"$f":"DICTIONARY!M965","v":"Edge"},{"$f":"DICTIONARY!O965","v":"धार"},"धार",{"$f":"DICTIONARY!P965","v":0},"धार","धार"]
[null,null,null,null,null,null,null,null,null,{"$f":"IF(K942=\" \",\" \",ROWS($K$5:K942))","v":938},{"$f":"DICTIONARY!M966","v":"Sword"},{"$f":"DICTIONARY!O966","v":"तलवार"},"तलवार",{"$f":"DICTIONARY!P966","v":0},"तलवार","तलवार"]
[null,null,null,null,null,null,null,null,null,{"$f":"IF(K943=\" \",\" \",ROWS($K$5:K943))","v":939},{"$f":"DICTIONARY!M967","v":"Tribal"},{"$f":"DICTIONARY!O967","v":"जनजातीय"},"जनजातीय",{"$f":"DICTIONARY!P967","v":0},"जनजातीय","जनजातीय"]
[null,null,null,null,null,null,null,null,null,{"$f":"IF(K944=\" \",\" \",ROWS($K$5:K944))","v":940},{"$f":"DICTIONARY!M968","v":"Festival"},{"$f":"DICTIONARY!O968","v":"त्यौहार"},"त्यौहार",{"$f":"DICTIONARY!P968","v":0},"त्यौहार","त्यौहार"]
[null,null,null,null,null,null,null,null,null,{"$f":"IF(K945=\" \",\" \",ROWS($K$5:K945))","v":941},{"$f":"DICTIONARY!M969","v":"Tunic"},{"$f":"DICTIONARY!O969","v":"घुटनों तक लम्बा चोगा"},"घुटनों तक लम्बा चोगा",{"$f":"DICTIONARY!P969","v":0},"घुटनों तक लम्बा चोगा","घुटनों तक लम्बा चोगा"]
[null,null,null,null,null,null,null,null,null,{"$f":"IF(K946=\" \",\" \",ROWS($K$5:K946))","v":942},{"$f":"DICTIONARY!M970","v":"Concubine"},{"$f":"DICTIONARY!O970","v":"रखैल"},"रखैल",{"$f":"DICTIONARY!P970","v":"RELATIONS AND RELATIVES ( सम्बन्ध और सम्बन्धी )"},"रखैल","रखैल"]
[null,null,null,null,null,null,null,null,null,{"$f":"IF(K947=\" \",\" \",ROWS($K$5:K947))","v":943},{"$f":"DICTIONARY!M971","v":"Geendad"},{"$f":"DICTIONARY!O971","v":"गीदड़"},"गीदड़",{"$f":"DICTIONARY!P971","v":"ANIMALS ( पशु )"},"गीदड़","गीदड़"]
[null,null,null,null,null,null,null,null,null,{"$f":"IF(K948=\" \",\" \",ROWS($K$5:K948))","v":944},{"$f":"DICTIONARY!M972","v":"Somewhat"},{"$f":"DICTIONARY!O972","v":"कुछ-कुछ"},"कुछ-कुछ",{"$f":"DICTIONARY!P972","v":0},"कुछ-कुछ","कुछ-कुछ"]
[null,null,null,null,null,null,null,null,null,{"$f":"IF(K949=\" \",\" \",ROWS($K$5:K949))","v":945},{"$f":"DICTIONARY!M973","v":"Musical"},{"$f":"DICTIONARY!O973","v":"संगीतमय"},"संगीतमय",{"$f":"DICTIONARY!P973","v":0},"संगीतमय","संगीतमय"]
[null,null,null,null,null,null,null,null,null,{"$f":"IF(K950=\" \",\" \",ROWS($K$5:K950))","v":946},{"$f":"DICTIONARY!M974","v":"Discs"},{"$f":"DICTIONARY!O974","v":"पतली,गोल,चपटी छालिया"},"पतली,गोल,चपटी छालिया",{"$f":"DICTIONARY!P974","v":0},"पतली,गोल,चपटी छालिया","पतली,गोल,चपटी छालिया"]
[null,null,null,null,null,null,null,null,null,{"$f":"IF(K951=\" \",\" \",ROWS($K$5:K951))","v":947},{"$f":"DICTIONARY!M975","v":"Accompanist"},{"$f":"DICTIONARY!O975","v":"संगीतकार"},"संगीतकार",{"$f":"DICTIONARY!P975","v":"OCCUPATIONS AND PROFESSION (व्यवसाय और पेशा )"},"संगीतकार","संगीतकार"]
[null,null,null,null,null,null,null,null,null,{"$f":"IF(K952=\" \",\" \",ROWS($K$5:K952))","v":948},{"$f":"DICTIONARY!M976","v":"Create"},{"$f":"DICTIONARY!O976","v":"उत्पन्न करना"},"उत्पन्न करना",{"$f":"DICTIONARY!P976","v":0},"उत्पन्न करना","उत्पन्न करना"]
[null,null,null,null,null,null,null,null,null,{"$f":"IF(K953=\" \",\" \",ROWS($K$5:K953))","v":949},{"$f":"DICTIONARY!M977","v":"Teat"},{"$f":"DICTIONARY!O977","v":"स्तन"},"स्तन",{"$f":"DICTIONARY!P977","v":"PARTS OF BODY ( शरीर के अंग )"},"स्तन","स्तन"]
[null,null,null,null,null,null,null,null,null,{"$f":"IF(K954=\" \",\" \",ROWS($K$5:K954))","v":950},{"$f":"DICTIONARY!M978","v":"Rhythm"},{"$f":"DICTIONARY!O978","v":"लय"},"लय",{"$f":"DICTIONARY!P978","v":0},"लय","लय"]
[null,null,null,null,null,null,null,null,null,{"$f":"IF(K955=\" \",\" \",ROWS($K$5:K955))","v":951},{"$f":"DICTIONARY!M979","v":"Dramatic"},{"$f":"DICTIONARY!O979","v":"नाटकीय"},"नाटकीय",{"$f":"DICTIONARY!P979","v":0},"नाटकीय","नाटकीय"]
[null,null,null,null,null,null,null,null,null,{"$f":"IF(K956=\" \",\" \",ROWS($K$5:K956))","v":952},{"$f":"DICTIONARY!M980","v":"Troupe"},{"$f":"DICTIONARY!O980","v":"नर्तको का दल"},"नर्तको का दल",{"$f":"DICTIONARY!P980","v":0},"नर्तको का दल","नर्तको का दल"]
[null,null,null,null,null,null,null,null,null,{"$f":"IF(K957=\" \",\" \",ROWS($K$5:K957))","v":953},{"$f":"DICTIONARY!M981","v":"Performance"},{"$f":"DICTIONARY!O981","v":"प्रस्तुति"},"प्रस्तुति",{"$f":"DICTIONARY!P981","v":0},"प्रस्तुति","प्रस्तुति"]
[null,null,null,null,null,null,null,null,null,{"$f":"IF(K958=\" \",\" \",ROWS($K$5:K958))","v":954},{"$f":"DICTIONARY!M982","v":"Functionaries"},{"$f":"DICTIONARY!O982","v":"छोटे-मोटे काम करने वाले"},"छोटे-मोटे काम करने वाले",{"$f":"DICTIONARY!P982","v":0},"छोटे-मोटे काम करने वाले","छोटे-मोटे काम करने वाले"]
[null,null,null,null,null,null,null,null,null,{"$f":"IF(K959=\" \",\" \",ROWS($K$5:K959))","v":955},{"$f":"DICTIONARY!M983","v":"Strict"},{"$f":"DICTIONARY!O983","v":"सख्त"},"सख्त",{"$f":"DICTIONARY!P983","v":0},"सख्त","सख्त"]
[null,null,null,null,null,null,null,null,null,{"$f":"IF(K960=\" \",\" \",ROWS($K$5:K960))","v":956},{"$f":"DICTIONARY!M984","v":"Regimen"},{"$f":"DICTIONARY!O984","v":"परहेज"},"परहेज",{"$f":"DICTIONARY!P984","v":0},"परहेज","परहेज"]
[null,null,null,null,null,null,null,null,null,{"$f":"IF(K961=\" \",\" \",ROWS($K$5:K961))","v":957},{"$f":"DICTIONARY!M985","v":"Enactment"},{"$f":"DICTIONARY!O985","v":"नाटक में नाट्य अभिनय"},"नाटक में नाट्य अभिनय",{"$f":"DICTIONARY!P985","v":0},"नाटक में नाट्य अभिनय","नाटक में नाट्य अभिनय"]
[null,null,null,null,null,null,null,null,null,{"$f":"IF(K962=\" \",\" \",ROWS($K$5:K962))","v":958},{"$f":"DICTIONARY!M986","v":"Various"},{"$f":"DICTIONARY!O986","v":"विविध,कई,अनेक"},"विविध,कई,अनेक",{"$f":"DICTIONARY!P986","v":0},"विविध,कई,अनेक","विविध,कई,अनेक"]
[null,null,null,null,null,null,null,null,null,{"$f":"IF(K963=\" \",\" \",ROWS($K$5:K963))","v":959},{"$f":"DICTIONARY!M987","v":"Sweat"},{"$f":"DICTIONARY!O987","v":"पसीना"},"पसीना",{"$f":"DICTIONARY!P987","v":"PARTS OF BODY ( शरीर के अंग )"},"पसीना","पसीना"]
[null,null,null,null,null,null,null,null,null,{"$f":"IF(K964=\" \",\" \",ROWS($K$5:K964))","v":960},{"$f":"DICTIONARY!M988","v":"Central"},{"$f":"DICTIONARY!O988","v":"बिच में केंद्रीय"},"बिच में केंद्रीय",{"$f":"DICTIONARY!P988","v":0},"बिच में केंद्रीय","बिच में केंद्रीय"]
[null,null,null,null,null,null,null,null,null,{"$f":"IF(K965=\" \",\" \",ROWS($K$5:K965))","v":961},{"$f":"DICTIONARY!M989","v":"Spot"},{"$f":"DICTIONARY!O989","v":"स्थान विशेष,जगह"},"स्थान विशेष,जगह",{"$f":"DICTIONARY!P989","v":0},{"$f":"M965","v":"स्थान विशेष,जगह"},{"$f":"L965","v":"स्थान विशेष,जगह"}]
[null,null,null,null,null,null,null,null,null,{"$f":"IF(K966=\" \",\" \",ROWS($K$5:K966))","v":962},{"$f":"DICTIONARY!M990","v":"Anus"},{"$f":"DICTIONARY!O990","v":"गुदा"},{"$f":"L966","v":"गुदा"},{"$f":"DICTIONARY!P990","v":"PARTS OF BODY ( शरीर के अंग )"},"गुदा","गुदा"]
[null,null,null,null,null,null,null,null,null,{"$f":"IF(K967=\" \",\" \",ROWS($K$5:K967))","v":963},{"$f":"DICTIONARY!M991","v":"Puppets"},{"$f":"DICTIONARY!O991","v":"कठपुतलिया"},"कठपुतलिया",{"$f":"DICTIONARY!P991","v":0},"कठपुतलिया","कठपुतलिया"]
[null,null,null,null,null,null,null,null,null,{"$f":"IF(K968=\" \",\" \",ROWS($K$5:K968))","v":964},{"$f":"DICTIONARY!M992","v":"Puppeteer"},{"$f":"DICTIONARY!O992","v":"कटपुतली कलाकार"},"कटपुतली कलाकार",{"$f":"DICTIONARY!P992","v":"OCCUPATIONS AND PROFESSION (व्यवसाय और पेशा )"},"कटपुतली कलाकार","कटपुतली कलाकार"]
[null,null,null,null,null,null,null,null,null,{"$f":"IF(K969=\" \",\" \",ROWS($K$5:K969))","v":965},{"$f":"DICTIONARY!M993","v":"Bladder"},{"$f":"DICTIONARY!O993","v":"मूत्राशय"},"मूत्राशय",{"$f":"DICTIONARY!P993","v":"PARTS OF BODY ( शरीर के अंग )"},"मूत्राशय","मूत्राशय"]
[null,null,null,null,null,null,null,null,null,{"$f":"IF(K970=\" \",\" \",ROWS($K$5:K970))","v":966},{"$f":"DICTIONARY!M994","v":"Tied"},{"$f":"DICTIONARY!O994","v":"बंधा हुआ"},"बंधा हुआ",{"$f":"DICTIONARY!P994","v":0},"बंधा हुआ","बंधा हुआ"]
[null,null,null,null,null,null,null,null,null,{"$f":"IF(K971=\" \",\" \",ROWS($K$5:K971))","v":967},{"$f":"DICTIONARY!M995","v":"Word"},{"$f":"DICTIONARY!O995","v":"शब्द"},"शब्द",{"$f":"DICTIONARY!P995","v":0},"शब्द","शब्द"]
[null,null,null,null,null,null,null,null,null,{"$f":"IF(K972=\" \",\" \",ROWS($K$5:K972))","v":968},{"$f":"DICTIONARY!M996","v":"Forever"},{"$f":"DICTIONARY!O996","v":"सदा के लिए"},"सदा के लिए",{"$f":"DICTIONARY!P996","v":0},"सदा के लिए","सदा के लिए"]
[null,null,null,null,null,null,null,null,null,{"$f":"IF(K973=\" \",\" \",ROWS($K$5:K973))","v":969},{"$f":"DICTIONARY!M997","v":"Loin"},{"$f":"DICTIONARY!O997","v":"कमर"},"कमर",{"$f":"DICTIONARY!P997","v":"PARTS OF BODY ( शरीर के अंग )"},"कमर","कमर"]
[null,null,null,null,null,null,null,null,null,{"$f":"IF(K974=\" \",\" \",ROWS($K$5:K974))","v":970},{"$f":"DICTIONARY!M998","v":"Ever"},{"$f":"DICTIONARY!O998","v":"कभी भी"},"कभी भी",{"$f":"DICTIONARY!P998","v":0},"कभी भी","कभी भी"]
[null,null,null,null,null,null,null,null,null,{"$f":"IF(K975=\" \",\" \",ROWS($K$5:K975))","v":971},{"$f":"DICTIONARY!M999","v":"Dead"},{"$f":"DICTIONARY!O999","v":"मृत,निर्जीव"},"मृत,निर्जीव",{"$f":"DICTIONARY!P999","v":0},"मृत,निर्जीव","मृत,निर्जीव"]
[null,null,null,null,null,null,null,null,null,{"$f":"IF(K976=\" \",\" \",ROWS($K$5:K976))","v":972},{"$f":"DICTIONARY!M1000","v":"Careless"},{"$f":"DICTIONARY!O1000","v":"बिना सोचे-समझे"},"बिना सोचे-समझे",{"$f":"DICTIONARY!P1000","v":0},"बिना सोचे-समझे","बिना सोचे-समझे"]
[null,null,null,null,null,null,null,null,null,{"$f":"IF(K977=\" \",\" \",ROWS($K$5:K977))","v":973},{"$f":"DICTIONARY!M1001","v":"Eye Lid"},{"$f":"DICTIONARY!O1001","v":"पलक"},"पलक",{"$f":"DICTIONARY!P1001","v":"PARTS OF BODY ( शरीर के अंग )"},"पलक","पलक"]
[null,null,null,null,null,null,null,null,null,{"$f":"IF(K978=\" \",\" \",ROWS($K$5:K978))","v":974},{"$f":"DICTIONARY!M1002","v":"Grief"},{"$f":"DICTIONARY!O1002","v":"दुःख,संताप"},"दुःख,संताप",{"$f":"DICTIONARY!P1002","v":0},"दुःख,संताप","दुःख,संताप"]
[null,null,null,null,null,null,null,null,null,{"$f":"IF(K979=\" \",\" \",ROWS($K$5:K979))","v":975},{"$f":"DICTIONARY!M1003","v":"Heart"},{"$f":"DICTIONARY!O1003","v":"मन,हर्दय"},"मन,हर्दय",{"$f":"DICTIONARY!P1003","v":"PARTS OF BODY ( शरीर के अंग )"},"मन,हर्दय","मन,हर्दय"]
[null,null,null,null,null,null,null,null,null,{"$f":"IF(K980=\" \",\" \",ROWS($K$5:K980))","v":976},{"$f":"DICTIONARY!M1004","v":"Optimist"},{"$f":"DICTIONARY!O1004","v":"आशावादी"},"आशावादी",{"$f":"DICTIONARY!P1004","v":0},"आशावादी","आशावादी"]
[null,null,null,null,null,null,null,null,null,{"$f":"IF(K981=\" \",\" \",ROWS($K$5:K981))","v":977},{"$f":"DICTIONARY!M1005","v":"Times"},{"$f":"DICTIONARY!O1005","v":"बार"},"बार",{"$f":"DICTIONARY!P1005","v":0},"बार","बार"]
[null,null,null,null,null,null,null,null,null,{"$f":"IF(K982=\" \",\" \",ROWS($K$5:K982))","v":978},{"$f":"DICTIONARY!M1006","v":"Depart"},{"$f":"DICTIONARY!O1006","v":"से हट जाना"},"से हट जाना",{"$f":"DICTIONARY!P1006","v":0},"से हट जाना","से हट जाना"]
[null,null,null,null,null,null,null,null,null,{"$f":"IF(K983=\" \",\" \",ROWS($K$5:K983))","v":979},{"$f":"DICTIONARY!M1007","v":"Sadder"},{"$f":"DICTIONARY!O1007","v":"अधिक दुखी"},"अधिक दुखी",{"$f":"DICTIONARY!P1007","v":0},"अधिक दुखी","अधिक दुखी"]
[null,null,null,null,null,null,null,null,null,{"$f":"IF(K984=\" \",\" \",ROWS($K$5:K984))","v":980},{"$f":"DICTIONARY!M1008","v":"Happier"},{"$f":"DICTIONARY!O1008","v":"अधिक खुश"},"अधिक खुश",{"$f":"DICTIONARY!P1008","v":0},"अधिक खुश","अधिक खुश"]
[null,null,null,null,null,null,null,null,null,{"$f":"IF(K985=\" \",\" \",ROWS($K$5:K985))","v":981},{"$f":"DICTIONARY!M1009","v":"Pessimist"},{"$f":"DICTIONARY!O1009","v":"निराशावादी"},"निराशावादी",{"$f":"DICTIONARY!P1009","v":0},"निराशावादी","निराशावादी"]
[null,null,null,null,null,null,null,null,null,{"$f":"IF(K986=\" \",\" \",ROWS($K$5:K986))","v":982},{"$f":"DICTIONARY!M1010","v":"Power"},{"$f":"DICTIONARY!O1010","v":"नियन्त्रण"},"नियन्त्रण",{"$f":"DICTIONARY!P1010","v":0},"नियन्त्रण","नियन्त्रण"]
[null,null,null,null,null,null,null,null,null,{"$f":"IF(K987=\" \",\" \",ROWS($K$5:K987))","v":983},{"$f":"DICTIONARY!M1011","v":"Victor"},{"$f":"DICTIONARY!O1011","v":"विजेता"},"विजेता",{"$f":"DICTIONARY!P1011","v":0},"विजेता","विजेता"]
[null,null,null,null,null,null,null,null,null,{"$f":"IF(K988=\" \",\" \",ROWS($K$5:K988))","v":984},{"$f":"DICTIONARY!M1012","v":"Better"},{"$f":"DICTIONARY!O1012","v":"अधिक अच्छा"},"अधिक अच्छा",{"$f":"DICTIONARY!P1012","v":0},"अधिक अच्छा","अधिक अच्छा"]
[null,null,null,null,null,null,null,null,null,{"$f":"IF(K989=\" \",\" \",ROWS($K$5:K989))","v":985},{"$f":"DICTIONARY!M1013","v":"Drive"},{"$f":"DICTIONARY!O1013","v":"वाहन  चलाना"},"वाहन  चलाना",{"$f":"DICTIONARY!P1013","v":0},"वाहन  चलाना","वाहन  चलाना"]
[null,null,null,null,null,null,null,null,null,{"$f":"IF(K990=\" \",\" \",ROWS($K$5:K990))","v":986},{"$f":"DICTIONARY!M1014","v":"Vehicle"},{"$f":"DICTIONARY!O1014","v":"वाहन"},"वाहन",{"$f":"DICTIONARY!P1014","v":0},"वाहन","वाहन"]
[null,null,null,null,null,null,null,null,null,{"$f":"IF(K991=\" \",\" \",ROWS($K$5:K991))","v":987},{"$f":"DICTIONARY!M1015","v":"Across"},{"$f":"DICTIONARY!O1015","v":"उस पार"},"उस पार",{"$f":"DICTIONARY!P1015","v":0},"उस पार","उस पार"]
[null,null,null,null,null,null,null,null,null,{"$f":"IF(K992=\" \",\" \",ROWS($K$5:K992))","v":988},{"$f":"DICTIONARY!M1016","v":"Comfort"},{"$f":"DICTIONARY!O1016","v":"आराम"},"आराम",{"$f":"DICTIONARY!P1016","v":0},"आराम","आराम"]
[null,null,null,null,null,null,null,null,null,{"$f":"IF(K993=\" \",\" \",ROWS($K$5:K993))","v":989},{"$f":"DICTIONARY!M1017","v":"Wrap"},{"$f":"DICTIONARY!O1017","v":"लपेटना"},"लपेटना",{"$f":"DICTIONARY!P1017","v":0},"लपेटना","लपेटना"]
[null,null,null,null,null,null,null,null,null,{"$f":"IF(K994=\" \",\" \",ROWS($K$5:K994))","v":990},{"$f":"DICTIONARY!M1018","v":"Etc"},{"$f":"DICTIONARY!O1018","v":"आदि"},"आदि",{"$f":"DICTIONARY!P1018","v":0},"आदि","आदि"]
[null,null,null,null,null,null,null,null,null,{"$f":"IF(K995=\" \",\" \",ROWS($K$5:K995))","v":991},{"$f":"DICTIONARY!M1019","v":"Slow"},{"$f":"DICTIONARY!O1019","v":"धीमा"},"धीमा",{"$f":"DICTIONARY!P1019","v":0},"धीमा","धीमा"]
[null,null,null,null,null,null,null,null,null,{"$f":"IF(K996=\" \",\" \",ROWS($K$5:K996))","v":992},{"$f":"DICTIONARY!M1020","v":"Bullock Cart"},{"$f":"DICTIONARY!O1020","v":"बैलगाड़ी"},"बैलगाड़ी",{"$f":"DICTIONARY!P1020","v":0},"बैलगाड़ी","बैलगाड़ी"]
[null,null,null,null,null,null,null,null,null,{"$f":"IF(K997=\" \",\" \",ROWS($K$5:K997))","v":993},{"$f":"DICTIONARY!M1021","v":"Horse Carriage"},{"$f":"DICTIONARY!O1021","v":"घोड़ागाड़ी"},"घोड़ागाड़ी",{"$f":"DICTIONARY!P1021","v":0},"घोड़ागाड़ी","घोड़ागाड़ी"]
[null,null,null,null,null,null,null,null,null,{"$f":"IF(K998=\" \",\" \",ROWS($K$5:K998))","v":994},{"$f":"DICTIONARY!M1022","v":"Risky"},{"$f":"DICTIONARY!O1022","v":"जोखिम भरा"},"जोखिम भरा",{"$f":"DICTIONARY!P1022","v":0},"जोखिम भरा","जोखिम भरा"]
[null,null,null,null,null,null,null,null,null,{"$f":"IF(K999=\" \",\" \",ROWS($K$5:K999))","v":995},{"$f":"DICTIONARY!M1023","v":"Hurry"},{"$f":"DICTIONARY!O1023","v":"शीघ्रता,जल्दबाजी"},"शीघ्रता,जल्दबाजी",{"$f":"DICTIONARY!P1023","v":0},"शीघ्रता,जल्दबाजी","शीघ्रता,जल्दबाजी"]
[null,null,null,null,null,null,null,null,null,{"$f":"IF(K1000=\" \",\" \",ROWS($K$5:K1000))","v":996},{"$f":"DICTIONARY!M1024","v":"Ignore"},{"$f":"DICTIONARY!O1024","v":"ध्यान न देना"},"ध्यान न देना",{"$f":"DICTIONARY!P1024","v":0},"ध्यान न देना","ध्यान न देना"]
[null,null,null,null,null,null,null,null,null,{"$f":"IF(K1001=\" \",\" \",ROWS($K$5:K1001))","v":997},{"$f":"DICTIONARY!M1025","v":"Cause"},{"$f":"DICTIONARY!O1025","v":"कारण बनना"},"कारण बनना",{"$f":"DICTIONARY!P1025","v":0},"कारण बनना","कारण बनना"]
[null,null,null,null,null,null,null,null,null,{"$f":"IF(K1002=\" \",\" \",ROWS($K$5:K1002))","v":998},{"$f":"DICTIONARY!M1026","v":"A Lot Of"},{"$f":"DICTIONARY!O1026","v":" बहुत सारे"}," बहुत सारे",{"$f":"DICTIONARY!P1026","v":0}," बहुत सारे"," बहुत सारे"]
[null,null,null,null,null,null,null,null,null,{"$f":"IF(K1003=\" \",\" \",ROWS($K$5:K1003))","v":999},{"$f":"DICTIONARY!M1027","v":"Avoid"},{"$f":"DICTIONARY!O1027","v":"बचना"},"बचना",{"$f":"DICTIONARY!P1027","v":0},"बचना","बचना"]
[null,null,null,null,null,null,null,null,null,{"$f":"IF(K1004=\" \",\" \",ROWS($K$5:K1004))","v":1000},{"$f":"DICTIONARY!M1028","v":"Obey"},{"$f":"DICTIONARY!O1028","v":"पालन करना"},"पालन करना",{"$f":"DICTIONARY!P1028","v":0},"पालन करना","पालन करना"]
[null,null,null,null,null,null,null,null,null,{"$f":"IF(K1005=\" \",\" \",ROWS($K$5:K1005))","v":1001},{"$f":"DICTIONARY!M1029","v":"Follow"},{"$f":"DICTIONARY!O1029","v":"पालन करना"},"पालन करना",{"$f":"DICTIONARY!P1029","v":0},"पालन करना","पालन करना"]
[null,null,null,null,null,null,null,null,null,{"$f":"IF(K1006=\" \",\" \",ROWS($K$5:K1006))","v":1002},{"$f":"DICTIONARY!M1030","v":"Pure"},{"$f":"DICTIONARY!O1030","v":"शुध्द"},"शुध्द",{"$f":"DICTIONARY!P1030","v":0},"शुध्द","शुध्द"]
[null,null,null,null,null,null,null,null,null,{"$f":"IF(K1007=\" \",\" \",ROWS($K$5:K1007))","v":1003},{"$f":"DICTIONARY!M1031","v":"Turn"},{"$f":"DICTIONARY!O1031","v":"घूमना,मुड़ना"},"घूमना,मुड़ना",{"$f":"DICTIONARY!P1031","v":0},"घूमना,मुड़ना","घूमना,मुड़ना"]
[null,null,null,null,null,null,null,null,null,{"$f":"IF(K1008=\" \",\" \",ROWS($K$5:K1008))","v":1004},{"$f":"DICTIONARY!M1032","v":"Adulterated"},{"$f":"DICTIONARY!O1032","v":"अशुद्ध"},"अशुद्ध",{"$f":"DICTIONARY!P1032","v":0},"अशुद्ध","अशुद्ध"]
[null,null,null,null,null,null,null,null,null,{"$f":"IF(K1009=\" \",\" \",ROWS($K$5:K1009))","v":1005},{"$f":"DICTIONARY!M1033","v":"Cross"},{"$f":"DICTIONARY!O1033","v":"पार करना'"},"पार करना'",{"$f":"DICTIONARY!P1033","v":0},"पार करना'","पार करना'"]
[null,null,null,null,null,null,null,null,null,{"$f":"IF(K1010=\" \",\" \",ROWS($K$5:K1010))","v":1006},{"$f":"DICTIONARY!M1034","v":"Clear"},{"$f":"DICTIONARY!O1034","v":"साफ,खाली"},"साफ,खाली",{"$f":"DICTIONARY!P1034","v":0},"साफ,खाली","साफ,खाली"]
[null,null,null,null,null,null,null,null,null,{"$f":"IF(K1011=\" \",\" \",ROWS($K$5:K1011))","v":1007},{"$f":"DICTIONARY!M1035","v":"Straight"},{"$f":"DICTIONARY!O1035","v":"सीधा"},"सीधा",{"$f":"DICTIONARY!P1035","v":0},"सीधा","सीधा"]
[null,null,null,null,null,null,null,null,null,{"$f":"IF(K1012=\" \",\" \",ROWS($K$5:K1012))","v":1008},{"$f":"DICTIONARY!M1036","v":"Angle"},{"$f":"DICTIONARY!O1036","v":"तिरछा"},"तिरछा",{"$f":"DICTIONARY!P1036","v":0},"तिरछा","तिरछा"]
[null,null,null,null,null,null,null,null,null,{"$f":"IF(K1013=\" \",\" \",ROWS($K$5:K1013))","v":1009},{"$f":"DICTIONARY!M1037","v":"Calmly"},{"$f":"DICTIONARY!O1037","v":"शांतिपूर्वक"},"शांतिपूर्वक",{"$f":"DICTIONARY!P1037","v":0},"शांतिपूर्वक","शांतिपूर्वक"]
[null,null,null,null,null,null,null,null,null,{"$f":"IF(K1014=\" \",\" \",ROWS($K$5:K1014))","v":1010},{"$f":"DICTIONARY!M1038","v":"Watch Out"},{"$f":"DICTIONARY!O1038","v":"सावधनी से देखो"},"सावधनी से देखो",{"$f":"DICTIONARY!P1038","v":0},"सावधनी से देखो","सावधनी से देखो"]
[null,null,null,null,null,null,null,null,null,{"$f":"IF(K1015=\" \",\" \",ROWS($K$5:K1015))","v":1011},{"$f":"DICTIONARY!M1039","v":"Strip"},{"$f":"DICTIONARY!O1039","v":"धारी"},"धारी",{"$f":"DICTIONARY!P1039","v":0},"धारी","धारी"]
[null,null,null,null,null,null,null,null,null,{"$f":"IF(K1016=\" \",\" \",ROWS($K$5:K1016))","v":1012},{"$f":"DICTIONARY!M1040","v":"Safer"},{"$f":"DICTIONARY!O1040","v":"अधिक सुरक्षित"},"अधिक सुरक्षित",{"$f":"DICTIONARY!P1040","v":0},"अधिक सुरक्षित","अधिक सुरक्षित"]
[null,null,null,null,null,null,null,null,null,{"$f":"IF(K1017=\" \",\" \",ROWS($K$5:K1017))","v":1013},{"$f":"DICTIONARY!M1041","v":"Go By"},{"$f":"DICTIONARY!O1041","v":"के अनुसार चलना"},"के अनुसार चलना",{"$f":"DICTIONARY!P1041","v":0},"के अनुसार चलना","के अनुसार चलना"]
[null,null,null,null,null,null,null,null,null,{"$f":"IF(K1018=\" \",\" \",ROWS($K$5:K1018))","v":1014},{"$f":"DICTIONARY!M1042","v":"Traffic"},{"$f":"DICTIONARY!O1042","v":"यातायात"},"यातायात",{"$f":"DICTIONARY!P1042","v":0},"यातायात","यातायात"]
[null,null,null,null,null,null,null,null,null,{"$f":"IF(K1019=\" \",\" \",ROWS($K$5:K1019))","v":1015},{"$f":"DICTIONARY!M1043","v":"Ready"},{"$f":"DICTIONARY!O1043","v":"तैयार"},"तैयार",{"$f":"DICTIONARY!P1043","v":0},"तैयार","तैयार"]
[null,null,null,null,null,null,null,null,null,{"$f":"IF(K1020=\" \",\" \",ROWS($K$5:K1020))","v":1016},{"$f":"DICTIONARY!M1044","v":"Blow Horn"},{"$f":"DICTIONARY!O1044","v":"हॉर्न बजाना"},"हॉर्न बजाना",{"$f":"DICTIONARY!P1044","v":0},"हॉर्न बजाना","हॉर्न बजाना"]
[null,null,null,null,null,null,null,null,null,{"$f":"IF(K1021=\" \",\" \",ROWS($K$5:K1021))","v":1017},{"$f":"DICTIONARY!M1045","v":"Disturb"},{"$f":"DICTIONARY!O1045","v":"दखल देना"},"दखल देना",{"$f":"DICTIONARY!P1045","v":0},"दखल देना","दखल देना"]
[null,null,null,null,null,null,null,null,null,{"$f":"IF(K1022=\" \",\" \",ROWS($K$5:K1022))","v":1018},{"$f":"DICTIONARY!M1046","v":"Pollution"},{"$f":"DICTIONARY!O1046","v":"प्रदुषण"},"प्रदुषण",{"$f":"DICTIONARY!P1046","v":0},"प्रदुषण","प्रदुषण"]
[null,null,null,null,null,null,null,null,null,{"$f":"IF(K1023=\" \",\" \",ROWS($K$5:K1023))","v":1019},{"$f":"DICTIONARY!M1047","v":"Reasonable"},{"$f":"DICTIONARY!O1047","v":"उचित"},"उचित",{"$f":"DICTIONARY!P1047","v":0},"उचित","उचित"]
[null,null,null,null,null,null,null,null,null,{"$f":"IF(K1024=\" \",\" \",ROWS($K$5:K1024))","v":1020},{"$f":"DICTIONARY!M1048","v":"Uncontrollable "},{"$f":"DICTIONARY!O1048","v":"अनियंत्रित"},"अनियंत्रित",{"$f":"DICTIONARY!P1048","v":0},"अनियंत्रित","अनियंत्रित"]
[null,null,null,null,null,null,null,null,null,{"$f":"IF(K1025=\" \",\" \",ROWS($K$5:K1025))","v":1021},{"$f":"DICTIONARY!M1049","v":"Dangerous"},{"$f":"DICTIONARY!O1049","v":"खतरनाक"},"खतरनाक",{"$f":"DICTIONARY!P1049","v":0},"खतरनाक","खतरनाक"]
[null,null,null,null,null,null,null,null,null,{"$f":"IF(K1026=\" \",\" \",ROWS($K$5:K1026))","v":1022},{"$f":"DICTIONARY!M1050","v":"Dwarf"},{"$f":"DICTIONARY!O1050","v":"बोना"},"बोना",{"$f":"DICTIONARY!P1050","v":0},"बोना","बोना"]
[null,null,null,null,null,null,null,null,null,{"$f":"IF(K1027=\" \",\" \",ROWS($K$5:K1027))","v":1023},{"$f":"DICTIONARY!M1051","v":"Faith"},{"$f":"DICTIONARY!O1051","v":"विश्वाशी"},"विश्वाशी",{"$f":"DICTIONARY!P1051","v":0},"विश्वाशी","विश्वाशी"]
[null,null,null,null,null,null,null,null,null,{"$f":"IF(K1028=\" \",\" \",ROWS($K$5:K1028))","v":1024},{"$f":"DICTIONARY!M1052","v":"Crossroad"},{"$f":"DICTIONARY!O1052","v":"चोराहा"},"चोराहा",{"$f":"DICTIONARY!P1052","v":0},"चोराहा","चोराहा"]
[null,null,null,null,null,null,null,null,null,{"$f":"IF(K1029=\" \",\" \",ROWS($K$5:K1029))","v":1025},{"$f":"DICTIONARY!M1053","v":"Control"},{"$f":"DICTIONARY!O1053","v":"नियन्त्रण"},"नियन्त्रण",{"$f":"DICTIONARY!P1053","v":0},{"$f":"M1029","v":"नियन्त्रण"},{"$f":"L1029","v":"नियन्त्रण"}]
[null,null,null,null,null,null,null,null,null,{"$f":"IF(K1030=\" \",\" \",ROWS($K$5:K1030))","v":1026},{"$f":"DICTIONARY!M1054","v":"Barren"},{"$f":"DICTIONARY!O1054","v":"बंजर"},{"$f":"L1030","v":"बंजर"},{"$f":"DICTIONARY!P1054","v":0},"बंजर","बंजर"]
[null,null,null,null,null,null,null,null,null,{"$f":"IF(K1031=\" \",\" \",ROWS($K$5:K1031))","v":1027},{"$f":"DICTIONARY!M1055","v":"Mistake"},{"$f":"DICTIONARY!O1055","v":"गलती"},"गलती",{"$f":"DICTIONARY!P1055","v":0},"गलती","गलती"]
[null,null,null,null,null,null,null,null,null,{"$f":"IF(K1032=\" \",\" \",ROWS($K$5:K1032))","v":1028},{"$f":"DICTIONARY!M1056","v":"Wet"},{"$f":"DICTIONARY!O1056","v":"गीला"},"गीला",{"$f":"DICTIONARY!P1056","v":0},"गीला","गीला"]
[null,null,null,null,null,null,null,null,null,{"$f":"IF(K1033=\" \",\" \",ROWS($K$5:K1033))","v":1029},{"$f":"DICTIONARY!M1057","v":"Slippery"},{"$f":"DICTIONARY!O1057","v":"फिसलन"},"फिसलन",{"$f":"DICTIONARY!P1057","v":0},"फिसलन","फिसलन"]
[null,null,null,null,null,null,null,null,null,{"$f":"IF(K1034=\" \",\" \",ROWS($K$5:K1034))","v":1030},{"$f":"DICTIONARY!M1058","v":"Take "},{"$f":"DICTIONARY!O1058","v":"लेना"},"लेना",{"$f":"DICTIONARY!P1058","v":0},"लेना","लेना"]
[null,null,null,null,null,null,null,null,null,{"$f":"IF(K1035=\" \",\" \",ROWS($K$5:K1035))","v":1031},{"$f":"DICTIONARY!M1059","v":"Rush"},{"$f":"DICTIONARY!O1059","v":"दोड़ना"},"दोड़ना",{"$f":"DICTIONARY!P1059","v":0},"दोड़ना","दोड़ना"]
[null,null,null,null,null,null,null,null,null,{"$f":"IF(K1036=\" \",\" \",ROWS($K$5:K1036))","v":1032},{"$f":"DICTIONARY!M1060","v":"Chance"},{"$f":"DICTIONARY!O1060","v":"अवसर"},"अवसर",{"$f":"DICTIONARY!P1060","v":0},"अवसर","अवसर"]
[null,null,null,null,null,null,null,null,null,{"$f":"IF(K1037=\" \",\" \",ROWS($K$5:K1037))","v":1033},{"$f":"DICTIONARY!M1061","v":"Adhoc"},{"$f":"DICTIONARY!O1061","v":"तथार्थ"},"तथार्थ",{"$f":"DICTIONARY!P1061","v":0},"तथार्थ","तथार्थ"]
[null,null,null,null,null,null,null,null,null,{"$f":"IF(K1038=\" \",\" \",ROWS($K$5:K1038))","v":1034},{"$f":"DICTIONARY!M1062","v":"Until"},{"$f":"DICTIONARY!O1062","v":"जबतक"},"जबतक",{"$f":"DICTIONARY!P1062","v":0},"जबतक","जबतक"]
[null,null,null,null,null,null,null,null,null,{"$f":"IF(K1039=\" \",\" \",ROWS($K$5:K1039))","v":1035},{"$f":"DICTIONARY!M1063","v":"Get Off"},{"$f":"DICTIONARY!O1063","v":"उतरना"},"उतरना",{"$f":"DICTIONARY!P1063","v":0},"उतरना","उतरना"]
[null,null,null,null,null,null,null,null,null,{"$f":"IF(K1040=\" \",\" \",ROWS($K$5:K1040))","v":1036},{"$f":"DICTIONARY!M1064","v":"Move Off"},{"$f":"DICTIONARY!O1064","v":"चल पड़ना"},"चल पड़ना",{"$f":"DICTIONARY!P1064","v":0},"चल पड़ना","चल पड़ना"]
[null,null,null,null,null,null,null,null,null,{"$f":"IF(K1041=\" \",\" \",ROWS($K$5:K1041))","v":1037},{"$f":"DICTIONARY!M1065","v":"Admistration"},{"$f":"DICTIONARY!O1065","v":"प्रशासन"},"प्रशासन",{"$f":"DICTIONARY!P1065","v":0},"प्रशासन","प्रशासन"]
[null,null,null,null,null,null,null,null,null,{"$f":"IF(K1042=\" \",\" \",ROWS($K$5:K1042))","v":1038},{"$f":"DICTIONARY!M1066","v":"Loyal"},{"$f":"DICTIONARY!O1066","v":"शाही"},"शाही",{"$f":"DICTIONARY!P1066","v":0},"शाही","शाही"]
[null,null,null,null,null,null,null,null,null,{"$f":"IF(K1043=\" \",\" \",ROWS($K$5:K1043))","v":1039},{"$f":"DICTIONARY!M1067","v":"Maid"},{"$f":"DICTIONARY!O1067","v":"नोकरानी"},"नोकरानी",{"$f":"DICTIONARY!P1067","v":"OCCUPATIONS AND PROFESSION (व्यवसाय और पेशा )"},"नोकरानी","नोकरानी"]
[null,null,null,null,null,null,null,null,null,{"$f":"IF(K1044=\" \",\" \",ROWS($K$5:K1044))","v":1040},{"$f":"DICTIONARY!M1068","v":"Jauhar"},{"$f":"DICTIONARY!O1068","v":"जोहर"},"जोहर",{"$f":"DICTIONARY!P1068","v":0},"जोहर","जोहर"]
[null,null,null,null,null,null,null,null,null,{"$f":"IF(K1045=\" \",\" \",ROWS($K$5:K1045))","v":1041},{"$f":"DICTIONARY!M1069","v":"Faithful"},{"$f":"DICTIONARY!O1069","v":"विश्वासी"},"विश्वासी",{"$f":"DICTIONARY!P1069","v":0},"विश्वासी","विश्वासी"]
[null,null,null,null,null,null,null,null,null,{"$f":"IF(K1046=\" \",\" \",ROWS($K$5:K1046))","v":1042},{"$f":"DICTIONARY!M1070","v":"Acting"},{"$f":"DICTIONARY!O1070","v":"कार्यकारी"},"कार्यकारी",{"$f":"DICTIONARY!P1070","v":0},"कार्यकारी","कार्यकारी"]
[null,null,null,null,null,null,null,null,null,{"$f":"IF(K1047=\" \",\" \",ROWS($K$5:K1047))","v":1043},{"$f":"DICTIONARY!M1071","v":"Lord"},{"$f":"DICTIONARY!O1071","v":"भगवन"},"भगवन",{"$f":"DICTIONARY!P1071","v":0},"भगवन","भगवन"]
[null,null,null,null,null,null,null,null,null,{"$f":"IF(K1048=\" \",\" \",ROWS($K$5:K1048))","v":1044},{"$f":"DICTIONARY!M1072","v":"Future "},{"$f":"DICTIONARY!O1072","v":"भावी"},"भावी",{"$f":"DICTIONARY!P1072","v":0},"भावी","भावी"]
[null,null,null,null,null,null,null,null,null,{"$f":"IF(K1049=\" \",\" \",ROWS($K$5:K1049))","v":1045},{"$f":"DICTIONARY!M1073","v":"Care"},{"$f":"DICTIONARY!O1073","v":"देखभाल करना"},"देखभाल करना",{"$f":"DICTIONARY!P1073","v":0},"देखभाल करना","देखभाल करना"]
[null,null,null,null,null,null,null,null,null,{"$f":"IF(K1050=\" \",\" \",ROWS($K$5:K1050))","v":1046},{"$f":"DICTIONARY!M1074","v":"Hereafter"},{"$f":"DICTIONARY!O1074","v":"अब से आगे "},"अब से आगे ",{"$f":"DICTIONARY!P1074","v":0},"अब से आगे ","अब से आगे "]
[null,null,null,null,null,null,null,null,null,{"$f":"IF(K1051=\" \",\" \",ROWS($K$5:K1051))","v":1047},{"$f":"DICTIONARY!M1075","v":"Allotment"},{"$f":"DICTIONARY!O1075","v":"बाँट"},"बाँट",{"$f":"DICTIONARY!P1075","v":0},"बाँट","बाँट"]
[null,null,null,null,null,null,null,null,null,{"$f":"IF(K1052=\" \",\" \",ROWS($K$5:K1052))","v":1048},{"$f":"DICTIONARY!M1076","v":"Great"},{"$f":"DICTIONARY!O1076","v":"महान"},"महान",{"$f":"DICTIONARY!P1076","v":0},"महान","महान"]
[null,null,null,null,null,null,null,null,null,{"$f":"IF(K1053=\" \",\" \",ROWS($K$5:K1053))","v":1049},{"$f":"DICTIONARY!M1077","v":"Alien"},{"$f":"DICTIONARY!O1077","v":"अन्य विदेशी"},"अन्य विदेशी",{"$f":"DICTIONARY!P1077","v":0},"अन्य विदेशी","अन्य विदेशी"]
[null,null,null,null,null,null,null,null,null,{"$f":"IF(K1054=\" \",\" \",ROWS($K$5:K1054))","v":1050},{"$f":"DICTIONARY!M1078","v":"Sobbingly"},{"$f":"DICTIONARY!O1078","v":"सिसकते हुए"},"सिसकते हुए",{"$f":"DICTIONARY!P1078","v":0},"सिसकते हुए","सिसकते हुए"]
[null,null,null,null,null,null,null,null,null,{"$f":"IF(K1055=\" \",\" \",ROWS($K$5:K1055))","v":1051},{"$f":"DICTIONARY!M1079","v":"Agreement"},{"$f":"DICTIONARY!O1079","v":"करार"},"करार",{"$f":"DICTIONARY!P1079","v":0},"करार","करार"]
[null,null,null,null,null,null,null,null,null,{"$f":"IF(K1056=\" \",\" \",ROWS($K$5:K1056))","v":1052},{"$f":"DICTIONARY!M1080","v":"Unworthy"},{"$f":"DICTIONARY!O1080","v":"अयोग्य"},"अयोग्य",{"$f":"DICTIONARY!P1080","v":0},"अयोग्य","अयोग्य"]
[null,null,null,null,null,null,null,null,null,{"$f":"IF(K1057=\" \",\" \",ROWS($K$5:K1057))","v":1053},{"$f":"DICTIONARY!M1081","v":"Allegation"},{"$f":"DICTIONARY!O1081","v":"आरोप"},"आरोप",{"$f":"DICTIONARY!P1081","v":0},"आरोप","आरोप"]
[null,null,null,null,null,null,null,null,null,{"$f":"IF(K1058=\" \",\" \",ROWS($K$5:K1058))","v":1054},{"$f":"DICTIONARY!M1082","v":"Unpopular"},{"$f":"DICTIONARY!O1082","v":"अप्रिय"},"अप्रिय",{"$f":"DICTIONARY!P1082","v":0},"अप्रिय","अप्रिय"]
[null,null,null,null,null,null,null,null,null,{"$f":"IF(K1059=\" \",\" \",ROWS($K$5:K1059))","v":1055},{"$f":"DICTIONARY!M1083","v":"High-Spirited"},{"$f":"DICTIONARY!O1083","v":"अति-उत्साही"},"अति-उत्साही",{"$f":"DICTIONARY!P1083","v":0},"अति-उत्साही","अति-उत्साही"]
[null,null,null,null,null,null,null,null,null,{"$f":"IF(K1060=\" \",\" \",ROWS($K$5:K1060))","v":1056},{"$f":"DICTIONARY!M1084","v":"Tolerate"},{"$f":"DICTIONARY!O1084","v":"सहन करना"},"सहन करना",{"$f":"DICTIONARY!P1084","v":0},"सहन करना","सहन करना"]
[null,null,null,null,null,null,null,null,null,{"$f":"IF(K1061=\" \",\" \",ROWS($K$5:K1061))","v":1057},{"$f":"DICTIONARY!M1085","v":"Cruelity"},{"$f":"DICTIONARY!O1085","v":"क्रूरता"},"क्रूरता",{"$f":"DICTIONARY!P1085","v":0},"क्रूरता","क्रूरता"]
[null,null,null,null,null,null,null,null,null,{"$f":"IF(K1062=\" \",\" \",ROWS($K$5:K1062))","v":1058},{"$f":"DICTIONARY!M1086","v":"Insolence"},{"$f":"DICTIONARY!O1086","v":"दुर्व्यवहार"},"दुर्व्यवहार",{"$f":"DICTIONARY!P1086","v":0},"दुर्व्यवहार","दुर्व्यवहार"]
[null,null,null,null,null,null,null,null,null,{"$f":"IF(K1063=\" \",\" \",ROWS($K$5:K1063))","v":1059},{"$f":"DICTIONARY!M1087","v":"Injustice"},{"$f":"DICTIONARY!O1087","v":"अन्याय"},"अन्याय",{"$f":"DICTIONARY!P1087","v":0},"अन्याय","अन्याय"]
[null,null,null,null,null,null,null,null,null,{"$f":"IF(K1064=\" \",\" \",ROWS($K$5:K1064))","v":1060},{"$f":"DICTIONARY!M1088","v":"Minority"},{"$f":"DICTIONARY!O1088","v":"अवयस्क,नाबालिग"},"अवयस्क,नाबालिग",{"$f":"DICTIONARY!P1088","v":0},"अवयस्क,नाबालिग","अवयस्क,नाबालिग"]
[null,null,null,null,null,null,null,null,null,{"$f":"IF(K1065=\" \",\" \",ROWS($K$5:K1065))","v":1061},{"$f":"DICTIONARY!M1089","v":"Ambitious"},{"$f":"DICTIONARY!O1089","v":"मह्तावाकांक्षी"},"मह्तावाकांक्षी",{"$f":"DICTIONARY!P1089","v":0},"मह्तावाकांक्षी","मह्तावाकांक्षी"]
[null,null,null,null,null,null,null,null,null,{"$f":"IF(K1066=\" \",\" \",ROWS($K$5:K1066))","v":1062},{"$f":"DICTIONARY!M1090","v":"Cunning"},{"$f":"DICTIONARY!O1090","v":"धूर्त एंव चालक"},"धूर्त एंव चालक",{"$f":"DICTIONARY!P1090","v":0},"धूर्त एंव चालक","धूर्त एंव चालक"]
[null,null,null,null,null,null,null,null,null,{"$f":"IF(K1067=\" \",\" \",ROWS($K$5:K1067))","v":1063},{"$f":"DICTIONARY!M1091","v":"Throne"},{"$f":"DICTIONARY!O1091","v":"सिंहासन,राजगद्दी"},"सिंहासन,राजगद्दी",{"$f":"DICTIONARY!P1091","v":0},"सिंहासन,राजगद्दी","सिंहासन,राजगद्दी"]
[null,null,null,null,null,null,null,null,null,{"$f":"IF(K1068=\" \",\" \",ROWS($K$5:K1068))","v":1064},{"$f":"DICTIONARY!M1092","v":"Noble"},{"$f":"DICTIONARY!O1092","v":"कुलीन"},"कुलीन",{"$f":"DICTIONARY!P1092","v":0},"कुलीन","कुलीन"]
[null,null,null,null,null,null,null,null,null,{"$f":"IF(K1069=\" \",\" \",ROWS($K$5:K1069))","v":1065},{"$f":"DICTIONARY!M1093","v":"Amount"},{"$f":"DICTIONARY!O1093","v":"राशी"},"राशी",{"$f":"DICTIONARY!P1093","v":0},"राशी","राशी"]
[null,null,null,null,null,null,null,null,null,{"$f":"IF(K1070=\" \",\" \",ROWS($K$5:K1070))","v":1066},{"$f":"DICTIONARY!M1094","v":"Just"},{"$f":"DICTIONARY!O1094","v":"अभी-अभी"},"अभी-अभी",{"$f":"DICTIONARY!P1094","v":0},"अभी-अभी","अभी-अभी"]
[null,null,null,null,null,null,null,null,null,{"$f":"IF(K1071=\" \",\" \",ROWS($K$5:K1071))","v":1067},{"$f":"DICTIONARY!M1095","v":"Appended"},{"$f":"DICTIONARY!O1095","v":"सलग्न"},"सलग्न",{"$f":"DICTIONARY!P1095","v":0},"सलग्न","सलग्न"]
[null,null,null,null,null,null,null,null,null,{"$f":"IF(K1072=\" \",\" \",ROWS($K$5:K1072))","v":1068},{"$f":"DICTIONARY!M1096","v":"Suddenly"},{"$f":"DICTIONARY!O1096","v":"अचानक"},"अचानक",{"$f":"DICTIONARY!P1096","v":0},"अचानक","अचानक"]
[null,null,null,null,null,null,null,null,null,{"$f":"IF(K1073=\" \",\" \",ROWS($K$5:K1073))","v":1069},{"$f":"DICTIONARY!M1097","v":"Uproar"},{"$f":"DICTIONARY!O1097","v":"कोलाहल"},"कोलाहल",{"$f":"DICTIONARY!P1097","v":0},"कोलाहल","कोलाहल"]
[null,null,null,null,null,null,null,null,null,{"$f":"IF(K1074=\" \",\" \",ROWS($K$5:K1074))","v":1070},{"$f":"DICTIONARY!M1098","v":"Qaurter"},{"$f":"DICTIONARY!O1098","v":"आवास,घर'"},"आवास,घर'",{"$f":"DICTIONARY!P1098","v":0},"आवास,घर'","आवास,घर'"]
[null,null,null,null,null,null,null,null,null,{"$f":"IF(K1075=\" \",\" \",ROWS($K$5:K1075))","v":1071},{"$f":"DICTIONARY!M1099","v":"Maid-Servent"},{"$f":"DICTIONARY!O1099","v":"नौकरानी"},"नौकरानी",{"$f":"DICTIONARY!P1099","v":"OCCUPATIONS AND PROFESSION (व्यवसाय और पेशा )"},"नौकरानी","नौकरानी"]
[null,null,null,null,null,null,null,null,null,{"$f":"IF(K1076=\" \",\" \",ROWS($K$5:K1076))","v":1072},{"$f":"DICTIONARY!M1100","v":"Anxiously"},{"$f":"DICTIONARY!O1100","v":"चिंतिंत होकर"},"चिंतिंत होकर",{"$f":"DICTIONARY!P1100","v":0},"चिंतिंत होकर","चिंतिंत होकर"]
[null,null,null,null,null,null,null,null,null,{"$f":"IF(K1077=\" \",\" \",ROWS($K$5:K1077))","v":1073},{"$f":"DICTIONARY!M1101","v":"Eager"},{"$f":"DICTIONARY!O1101","v":"आतुर"},"आतुर",{"$f":"DICTIONARY!P1101","v":0},"आतुर","आतुर"]
[null,null,null,null,null,null,null,null,null,{"$f":"IF(K1078=\" \",\" \",ROWS($K$5:K1078))","v":1074},{"$f":"DICTIONARY!M1102","v":"Seige"},{"$f":"DICTIONARY!O1102","v":"कब्ज़ा करना"},"कब्ज़ा करना",{"$f":"DICTIONARY!P1102","v":0},"कब्ज़ा करना","कब्ज़ा करना"]
[null,null,null,null,null,null,null,null,null,{"$f":"IF(K1079=\" \",\" \",ROWS($K$5:K1079))","v":1075},{"$f":"DICTIONARY!M1103","v":"Permanently"},{"$f":"DICTIONARY!O1103","v":"स्थायी रूप से"},"स्थायी रूप से",{"$f":"DICTIONARY!P1103","v":0},"स्थायी रूप से","स्थायी रूप से"]
[null,null,null,null,null,null,null,null,null,{"$f":"IF(K1080=\" \",\" \",ROWS($K$5:K1080))","v":1076},{"$f":"DICTIONARY!M1104","v":"Murder"},{"$f":"DICTIONARY!O1104","v":"ह्त्या करना"},"ह्त्या करना",{"$f":"DICTIONARY!P1104","v":0},"ह्त्या करना","ह्त्या करना"]
[null,null,null,null,null,null,null,null,null,{"$f":"IF(K1081=\" \",\" \",ROWS($K$5:K1081))","v":1077},{"$f":"DICTIONARY!M1105","v":"Moment "},{"$f":"DICTIONARY!O1105","v":"पल,क्षण"},"पल,क्षण",{"$f":"DICTIONARY!P1105","v":0},"पल,क्षण","पल,क्षण"]
[null,null,null,null,null,null,null,null,null,{"$f":"IF(K1082=\" \",\" \",ROWS($K$5:K1082))","v":1078},{"$f":"DICTIONARY!M1106","v":"Hid"},{"$f":"DICTIONARY!O1106","v":"छिपा दिया"},"छिपा दिया",{"$f":"DICTIONARY!P1106","v":0},"छिपा दिया","छिपा दिया"]
[null,null,null,null,null,null,null,null,null,{"$f":"IF(K1083=\" \",\" \",ROWS($K$5:K1083))","v":1079},{"$f":"DICTIONARY!M1107","v":"Bushes"},{"$f":"DICTIONARY!O1107","v":"झाडिया"},"झाडिया",{"$f":"DICTIONARY!P1107","v":0},"झाडिया","झाडिया"]
[null,null,null,null,null,null,null,null,null,{"$f":"IF(K1084=\" \",\" \",ROWS($K$5:K1084))","v":1080},{"$f":"DICTIONARY!M1108","v":"Apartment"},{"$f":"DICTIONARY!O1108","v":"महल का एक भाग"},"महल का एक भाग",{"$f":"DICTIONARY!P1108","v":0},"महल का एक भाग","महल का एक भाग"]
[null,null,null,null,null,null,null,null,null,{"$f":"IF(K1085=\" \",\" \",ROWS($K$5:K1085))","v":1081},{"$f":"DICTIONARY!M1109","v":"Thundered"},{"$f":"DICTIONARY!O1109","v":"धमकाया,गरज कर बोला"},"धमकाया,गरज कर बोला",{"$f":"DICTIONARY!P1109","v":0},"धमकाया,गरज कर बोला","धमकाया,गरज कर बोला"]
[null,null,null,null,null,null,null,null,null,{"$f":"IF(K1086=\" \",\" \",ROWS($K$5:K1086))","v":1082},{"$f":"DICTIONARY!M1110","v":"Painful"},{"$f":"DICTIONARY!O1110","v":"टीस,दुःख भरे"},"टीस,दुःख भरे",{"$f":"DICTIONARY!P1110","v":0},"टीस,दुःख भरे","टीस,दुःख भरे"]
[null,null,null,null,null,null,null,null,null,{"$f":"IF(K1087=\" \",\" \",ROWS($K$5:K1087))","v":1083},{"$f":"DICTIONARY!M1111","v":"Arrest"},{"$f":"DICTIONARY!O1111","v":"बंदी करना"},"बंदी करना",{"$f":"DICTIONARY!P1111","v":0},"बंदी करना","बंदी करना"]
[null,null,null,null,null,null,null,null,null,{"$f":"IF(K1088=\" \",\" \",ROWS($K$5:K1088))","v":1084},{"$f":"DICTIONARY!M1112","v":"Witnessed"},{"$f":"DICTIONARY!O1112","v":"घटना की साक्षी बनी"},"घटना की साक्षी बनी",{"$f":"DICTIONARY!P1112","v":0},"घटना की साक्षी बनी","घटना की साक्षी बनी"]
[null,null,null,null,null,null,null,null,null,{"$f":"IF(K1089=\" \",\" \",ROWS($K$5:K1089))","v":1085},{"$f":"DICTIONARY!M1113","v":"Assemble"},{"$f":"DICTIONARY!O1113","v":"जोड़ना,समवेत होना"},"जोड़ना,समवेत होना",{"$f":"DICTIONARY!P1113","v":0},"जोड़ना,समवेत होना","जोड़ना,समवेत होना"]
[null,null,null,null,null,null,null,null,null,{"$f":"IF(K1090=\" \",\" \",ROWS($K$5:K1090))","v":1086},{"$f":"DICTIONARY!M1114","v":"Thrust"},{"$f":"DICTIONARY!O1114","v":"घोंप दिया"},"घोंप दिया",{"$f":"DICTIONARY!P1114","v":0},"घोंप दिया","घोंप दिया"]
[null,null,null,null,null,null,null,null,null,{"$f":"IF(K1091=\" \",\" \",ROWS($K$5:K1091))","v":1087},{"$f":"DICTIONARY!M1115","v":"Mercilessly"},{"$f":"DICTIONARY!O1115","v":"निर्दयता,बेरहम होकर"},"निर्दयता,बेरहम होकर",{"$f":"DICTIONARY!P1115","v":0},"निर्दयता,बेरहम होकर","निर्दयता,बेरहम होकर"]
[null,null,null,null,null,null,null,null,null,{"$f":"IF(K1092=\" \",\" \",ROWS($K$5:K1092))","v":1088},{"$f":"DICTIONARY!M1116","v":"Tender"},{"$f":"DICTIONARY!O1116","v":"कोमल,नाजुक"},"कोमल,नाजुक",{"$f":"DICTIONARY!P1116","v":0},"कोमल,नाजुक","कोमल,नाजुक"]
[null,null,null,null,null,null,null,null,null,{"$f":"IF(K1093=\" \",\" \",ROWS($K$5:K1093))","v":1089},{"$f":"DICTIONARY!M1117","v":"Feeling"},{"$f":"DICTIONARY!O1117","v":"मनोभाव"},"मनोभाव",{"$f":"DICTIONARY!P1117","v":0},{"$f":"M1093","v":"मनोभाव"},{"$f":"L1093","v":"मनोभाव"}]
[null,null,null,null,null,null,null,null,null,{"$f":"IF(K1094=\" \",\" \",ROWS($K$5:K1094))","v":1090},{"$f":"DICTIONARY!M1118","v":"Sacrifice"},{"$f":"DICTIONARY!O1118","v":"बलिदान कर दिया"},{"$f":"L1094","v":"बलिदान कर दिया"},{"$f":"DICTIONARY!P1118","v":0},"बलिदान कर दिया","बलिदान कर दिया"]
[null,null,null,null,null,null,null,null,null,{"$f":"IF(K1095=\" \",\" \",ROWS($K$5:K1095))","v":1091},{"$f":"DICTIONARY!M1119","v":"Stay"},{"$f":"DICTIONARY!O1119","v":"ठहरना"},"ठहरना",{"$f":"DICTIONARY!P1119","v":0},"ठहरना","ठहरना"]
[null,null,null,null,null,null,null,null,null,{"$f":"IF(K1096=\" \",\" \",ROWS($K$5:K1096))","v":1092},{"$f":"DICTIONARY!M1120","v":"To Mourn "},{"$f":"DICTIONARY!O1120","v":"शोक मनाना"},"शोक मनाना",{"$f":"DICTIONARY!P1120","v":0},"शोक मनाना","शोक मनाना"]
[null,null,null,null,null,null,null,null,null,{"$f":"IF(K1097=\" \",\" \",ROWS($K$5:K1097))","v":1093},{"$f":"DICTIONARY!M1121","v":"Left"},{"$f":"DICTIONARY!O1121","v":"निकला"},"निकला",{"$f":"DICTIONARY!P1121","v":0},"निकला","निकला"]
[null,null,null,null,null,null,null,null,null,{"$f":"IF(K1098=\" \",\" \",ROWS($K$5:K1098))","v":1094},{"$f":"DICTIONARY!M1122","v":"Hall"},{"$f":"DICTIONARY!O1122","v":"कक्ष"},"कक्ष",{"$f":"DICTIONARY!P1122","v":0},"कक्ष","कक्ष"]
[null,null,null,null,null,null,null,null,null,{"$f":"IF(K1099=\" \",\" \",ROWS($K$5:K1099))","v":1095},{"$f":"DICTIONARY!M1123","v":"Assent"},{"$f":"DICTIONARY!O1123","v":"अनुमति"},"अनुमति",{"$f":"DICTIONARY!P1123","v":0},"अनुमति","अनुमति"]
[null,null,null,null,null,null,null,null,null,{"$f":"IF(K1100=\" \",\" \",ROWS($K$5:K1100))","v":1096},{"$f":"DICTIONARY!M1124","v":"Audit"},{"$f":"DICTIONARY!O1124","v":"लेखा परीक्षा"},"लेखा परीक्षा",{"$f":"DICTIONARY!P1124","v":0},"लेखा परीक्षा","लेखा परीक्षा"]
[null,null,null,null,null,null,null,null,null,{"$f":"IF(K1101=\" \",\" \",ROWS($K$5:K1101))","v":1097},{"$f":"DICTIONARY!M1125","v":"Unlettered"},{"$f":"DICTIONARY!O1125","v":"निरक्षर,अनपढ़"},"निरक्षर,अनपढ़",{"$f":"DICTIONARY!P1125","v":0},"निरक्षर,अनपढ़","निरक्षर,अनपढ़"]
[null,null,null,null,null,null,null,null,null,{"$f":"IF(K1102=\" \",\" \",ROWS($K$5:K1102))","v":1098},{"$f":"DICTIONARY!M1126","v":"Motherland"},{"$f":"DICTIONARY!O1126","v":"मातृभूमि"},"मातृभूमि",{"$f":"DICTIONARY!P1126","v":0},"मातृभूमि","मातृभूमि"]
[null,null,null,null,null,null,null,null,null,{"$f":"IF(K1103=\" \",\" \",ROWS($K$5:K1103))","v":1099},{"$f":"DICTIONARY!M1127","v":"Neighbour"},{"$f":"DICTIONARY!O1127","v":"पडोसी"},"पडोसी",{"$f":"DICTIONARY!P1127","v":0},"पडोसी","पडोसी"]
[null,null,null,null,null,null,null,null,null,{"$f":"IF(K1104=\" \",\" \",ROWS($K$5:K1104))","v":1100},{"$f":"DICTIONARY!M1128","v":"Boundary"},{"$f":"DICTIONARY!O1128","v":"सीमा"},"सीमा",{"$f":"DICTIONARY!P1128","v":0},"सीमा","सीमा"]
[null,null,null,null,null,null,null,null,null,{"$f":"IF(K1105=\" \",\" \",ROWS($K$5:K1105))","v":1101},{"$f":"DICTIONARY!M1129","v":"Visit"},{"$f":"DICTIONARY!O1129","v":"देखना"},"देखना",{"$f":"DICTIONARY!P1129","v":0},"देखना","देखना"]
[null,null,null,null,null,null,null,null,null,{"$f":"IF(K1106=\" \",\" \",ROWS($K$5:K1106))","v":1102},{"$f":"DICTIONARY!M1130","v":"Demonstration"},{"$f":"DICTIONARY!O1130","v":"प्रदर्शन"},"प्रदर्शन",{"$f":"DICTIONARY!P1130","v":0},"प्रदर्शन","प्रदर्शन"]
[null,null,null,null,null,null,null,null,null,{"$f":"IF(K1107=\" \",\" \",ROWS($K$5:K1107))","v":1103},{"$f":"DICTIONARY!M1131","v":"Receives"},{"$f":"DICTIONARY!O1131","v":"प्राप्त करना"},"प्राप्त करना",{"$f":"DICTIONARY!P1131","v":0},"प्राप्त करना","प्राप्त करना"]
[null,null,null,null,null,null,null,null,null,{"$f":"IF(K1108=\" \",\" \",ROWS($K$5:K1108))","v":1104},{"$f":"DICTIONARY!M1132","v":"Board"},{"$f":"DICTIONARY!O1132","v":"मंडली,बोर्ड"},"मंडली,बोर्ड",{"$f":"DICTIONARY!P1132","v":0},"मंडली,बोर्ड","मंडली,बोर्ड"]
[null,null,null,null,null,null,null,null,null,{"$f":"IF(K1109=\" \",\" \",ROWS($K$5:K1109))","v":1105},{"$f":"DICTIONARY!M1133","v":"Not At All"},{"$f":"DICTIONARY!O1133","v":"बिलकुल नहीं"},"बिलकुल नहीं",{"$f":"DICTIONARY!P1133","v":0},"बिलकुल नहीं","बिलकुल नहीं"]
[null,null,null,null,null,null,null,null,null,{"$f":"IF(K1110=\" \",\" \",ROWS($K$5:K1110))","v":1106},{"$f":"DICTIONARY!M1134","v":"Pleasure"},{"$f":"DICTIONARY!O1134","v":"ख़ुशी"},"ख़ुशी",{"$f":"DICTIONARY!P1134","v":0},"ख़ुशी","ख़ुशी"]
[null,null,null,null,null,null,null,null,null,{"$f":"IF(K1111=\" \",\" \",ROWS($K$5:K1111))","v":1107},{"$f":"DICTIONARY!M1135","v":"In Fact"},{"$f":"DICTIONARY!O1135","v":"सचमुच"},"सचमुच",{"$f":"DICTIONARY!P1135","v":0},"सचमुच","सचमुच"]
[null,null,null,null,null,null,null,null,null,{"$f":"IF(K1112=\" \",\" \",ROWS($K$5:K1112))","v":1108},{"$f":"DICTIONARY!M1136","v":"Really"},{"$f":"DICTIONARY!O1136","v":"वास्तव में"},"वास्तव में",{"$f":"DICTIONARY!P1136","v":0},"वास्तव में","वास्तव में"]
[null,null,null,null,null,null,null,null,null,{"$f":"IF(K1113=\" \",\" \",ROWS($K$5:K1113))","v":1109},{"$f":"DICTIONARY!M1137","v":"Benefit"},{"$f":"DICTIONARY!O1137","v":"लाभ"},"लाभ",{"$f":"DICTIONARY!P1137","v":0},"लाभ","लाभ"]
[null,null,null,null,null,null,null,null,null,{"$f":"IF(K1114=\" \",\" \",ROWS($K$5:K1114))","v":1110},{"$f":"DICTIONARY!M1138","v":"Certainly"},{"$f":"DICTIONARY!O1138","v":"सचमुच"},"सचमुच",{"$f":"DICTIONARY!P1138","v":0},"सचमुच","सचमुच"]
[null,null,null,null,null,null,null,null,null,{"$f":"IF(K1115=\" \",\" \",ROWS($K$5:K1115))","v":1111},{"$f":"DICTIONARY!M1139","v":"Grains"},{"$f":"DICTIONARY!O1139","v":"अनाज"},"अनाज",{"$f":"DICTIONARY!P1139","v":0},"अनाज","अनाज"]
[null,null,null,null,null,null,null,null,null,{"$f":"IF(K1116=\" \",\" \",ROWS($K$5:K1116))","v":1112},{"$f":"DICTIONARY!M1140","v":"Base"},{"$f":"DICTIONARY!O1140","v":"आधार"},"आधार",{"$f":"DICTIONARY!P1140","v":0},"आधार","आधार"]
[null,null,null,null,null,null,null,null,null,{"$f":"IF(K1117=\" \",\" \",ROWS($K$5:K1117))","v":1113},{"$f":"DICTIONARY!M1141","v":"Transistors"},{"$f":"DICTIONARY!O1141","v":"कम्प्यूटर के अवयव"},"कम्प्यूटर के अवयव",{"$f":"DICTIONARY!P1141","v":0},"कम्प्यूटर के अवयव","कम्प्यूटर के अवयव"]
[null,null,null,null,null,null,null,null,null,{"$f":"IF(K1118=\" \",\" \",ROWS($K$5:K1118))","v":1114},{"$f":"DICTIONARY!M1142","v":"Microchip"},{"$f":"DICTIONARY!O1142","v":"सूक्ष्म चिप"},"सूक्ष्म चिप",{"$f":"DICTIONARY!P1142","v":0},"सूक्ष्म चिप","सूक्ष्म चिप"]
[null,null,null,null,null,null,null,null,null,{"$f":"IF(K1119=\" \",\" \",ROWS($K$5:K1119))","v":1115},{"$f":"DICTIONARY!M1143","v":"Interesting"},{"$f":"DICTIONARY!O1143","v":"रुचिकर"},"रुचिकर",{"$f":"DICTIONARY!P1143","v":0},"रुचिकर","रुचिकर"]
[null,null,null,null,null,null,null,null,null,{"$f":"IF(K1120=\" \",\" \",ROWS($K$5:K1120))","v":1116},{"$f":"DICTIONARY!M1144","v":"Invented"},{"$f":"DICTIONARY!O1144","v":"खोज की"},"खोज की",{"$f":"DICTIONARY!P1144","v":0},"खोज की","खोज की"]
[null,null,null,null,null,null,null,null,null,{"$f":"IF(K1121=\" \",\" \",ROWS($K$5:K1121))","v":1117},{"$f":"DICTIONARY!M1145","v":"Calculator"},{"$f":"DICTIONARY!O1145","v":"गणक"},"गणक",{"$f":"DICTIONARY!P1145","v":0},"गणक","गणक"]
[null,null,null,null,null,null,null,null,null,{"$f":"IF(K1122=\" \",\" \",ROWS($K$5:K1122))","v":1118},{"$f":"DICTIONARY!M1146","v":"Machine"},{"$f":"DICTIONARY!O1146","v":"मशीन"},"मशीन",{"$f":"DICTIONARY!P1146","v":0},"मशीन","मशीन"]
[null,null,null,null,null,null,null,null,null,{"$f":"IF(K1123=\" \",\" \",ROWS($K$5:K1123))","v":1119},{"$f":"DICTIONARY!M1147","v":"Addition"},{"$f":"DICTIONARY!O1147","v":"जोड़"},"जोड़",{"$f":"DICTIONARY!P1147","v":0},"जोड़","जोड़"]
[null,null,null,null,null,null,null,null,null,{"$f":"IF(K1124=\" \",\" \",ROWS($K$5:K1124))","v":1120},{"$f":"DICTIONARY!M1148","v":"Subtraction"},{"$f":"DICTIONARY!O1148","v":"बाकी"},"बाकी",{"$f":"DICTIONARY!P1148","v":0},"बाकी","बाकी"]
[null,null,null,null,null,null,null,null,null,{"$f":"IF(K1125=\" \",\" \",ROWS($K$5:K1125))","v":1121},{"$f":"DICTIONARY!M1149","v":"Multiplication"},{"$f":"DICTIONARY!O1149","v":"गुना"},"गुना",{"$f":"DICTIONARY!P1149","v":0},"गुना","गुना"]
[null,null,null,null,null,null,null,null,null,{"$f":"IF(K1126=\" \",\" \",ROWS($K$5:K1126))","v":1122},{"$f":"DICTIONARY!M1150","v":"Division"},{"$f":"DICTIONARY!O1150","v":"भाग"},"भाग",{"$f":"DICTIONARY!P1150","v":0},"भाग","भाग"]
[null,null,null,null,null,null,null,null,null,{"$f":"IF(K1127=\" \",\" \",ROWS($K$5:K1127))","v":1123},{"$f":"DICTIONARY!M1151","v":"Broadcasting"},{"$f":"DICTIONARY!O1151","v":"प्रसारण"},"प्रसारण",{"$f":"DICTIONARY!P1151","v":0},"प्रसारण","प्रसारण"]
[null,null,null,null,null,null,null,null,null,{"$f":"IF(K1128=\" \",\" \",ROWS($K$5:K1128))","v":1124},{"$f":"DICTIONARY!M1152","v":"Accurately"},{"$f":"DICTIONARY!O1152","v":"त्रुटिरहित,ठीक-ठीक"},"त्रुटिरहित,ठीक-ठीक",{"$f":"DICTIONARY!P1152","v":0},"त्रुटिरहित,ठीक-ठीक","त्रुटिरहित,ठीक-ठीक"]
[null,null,null,null,null,null,null,null,null,{"$f":"IF(K1129=\" \",\" \",ROWS($K$5:K1129))","v":1125},{"$f":"DICTIONARY!M1153","v":"Listen"},{"$f":"DICTIONARY!O1153","v":"सुनना"},"सुनना",{"$f":"DICTIONARY!P1153","v":0},"सुनना","सुनना"]
[null,null,null,null,null,null,null,null,null,{"$f":"IF(K1130=\" \",\" \",ROWS($K$5:K1130))","v":1126},{"$f":"DICTIONARY!M1154","v":"Idea"},{"$f":"DICTIONARY!O1154","v":"विचार"},"विचार",{"$f":"DICTIONARY!P1154","v":0},"विचार","विचार"]
[null,null,null,null,null,null,null,null,null,{"$f":"IF(K1131=\" \",\" \",ROWS($K$5:K1131))","v":1127},{"$f":"DICTIONARY!M1155","v":"Russians"},{"$f":"DICTIONARY!O1155","v":"रुसी"},"रुसी",{"$f":"DICTIONARY!P1155","v":0},"रुसी","रुसी"]
[null,null,null,null,null,null,null,null,null,{"$f":"IF(K1132=\" \",\" \",ROWS($K$5:K1132))","v":1128},{"$f":"DICTIONARY!M1156","v":"Electric"},{"$f":"DICTIONARY!O1156","v":"बिजली"},"बिजली",{"$f":"DICTIONARY!P1156","v":0},"बिजली","बिजली"]
[null,null,null,null,null,null,null,null,null,{"$f":"IF(K1133=\" \",\" \",ROWS($K$5:K1133))","v":1129},{"$f":"DICTIONARY!M1157","v":"University"},{"$f":"DICTIONARY!O1157","v":"विश्व विद्यालय"},"विश्व विद्यालय",{"$f":"DICTIONARY!P1157","v":0},"विश्व विद्यालय","विश्व विद्यालय"]
[null,null,null,null,null,null,null,null,null,{"$f":"IF(K1134=\" \",\" \",ROWS($K$5:K1134))","v":1130},{"$f":"DICTIONARY!M1158","v":"Usa"},{"$f":"DICTIONARY!O1158","v":"सयुंक्त राज्य अमेरिका"},"सयुंक्त राज्य अमेरिका",{"$f":"DICTIONARY!P1158","v":0},"सयुंक्त राज्य अमेरिका","सयुंक्त राज्य अमेरिका"]
[null,null,null,null,null,null,null,null,null,{"$f":"IF(K1135=\" \",\" \",ROWS($K$5:K1135))","v":1131},{"$f":"DICTIONARY!M1159","v":"Huge"},{"$f":"DICTIONARY!O1159","v":"बड़ा"},"बड़ा",{"$f":"DICTIONARY!P1159","v":0},"बड़ा","बड़ा"]
[null,null,null,null,null,null,null,null,null,{"$f":"IF(K1136=\" \",\" \",ROWS($K$5:K1136))","v":1132},{"$f":"DICTIONARY!M1160","v":"Different"},{"$f":"DICTIONARY!O1160","v":"भिन्न भिन्न"},"भिन्न भिन्न",{"$f":"DICTIONARY!P1160","v":0},"भिन्न भिन्न","भिन्न भिन्न"]
[null,null,null,null,null,null,null,null,null,{"$f":"IF(K1137=\" \",\" \",ROWS($K$5:K1137))","v":1133},{"$f":"DICTIONARY!M1161","v":"Size"},{"$f":"DICTIONARY!O1161","v":"आकार"},"आकार",{"$f":"DICTIONARY!P1161","v":0},"आकार","आकार"]
[null,null,null,null,null,null,null,null,null,{"$f":"IF(K1138=\" \",\" \",ROWS($K$5:K1138))","v":1134},{"$f":"DICTIONARY!M1162","v":"Since Then"},{"$f":"DICTIONARY!O1162","v":"टैब से ही"},"टैब से ही",{"$f":"DICTIONARY!P1162","v":0},"टैब से ही","टैब से ही"]
[null,null,null,null,null,null,null,null,null,{"$f":"IF(K1139=\" \",\" \",ROWS($K$5:K1139))","v":1135},{"$f":"DICTIONARY!M1163","v":"Information"},{"$f":"DICTIONARY!O1163","v":"तब से ही"},"तब से ही",{"$f":"DICTIONARY!P1163","v":0},"तब से ही","तब से ही"]
[null,null,null,null,null,null,null,null,null,{"$f":"IF(K1140=\" \",\" \",ROWS($K$5:K1140))","v":1136},{"$f":"DICTIONARY!M1164","v":"Reservation"},{"$f":"DICTIONARY!O1164","v":"आरक्षण"},"आरक्षण",{"$f":"DICTIONARY!P1164","v":0},"आरक्षण","आरक्षण"]
[null,null,null,null,null,null,null,null,null,{"$f":"IF(K1141=\" \",\" \",ROWS($K$5:K1141))","v":1137},{"$f":"DICTIONARY!M1165","v":"Account"},{"$f":"DICTIONARY!O1165","v":"खाता"},"खाता",{"$f":"DICTIONARY!P1165","v":0},"खाता","खाता"]
[null,null,null,null,null,null,null,null,null,{"$f":"IF(K1142=\" \",\" \",ROWS($K$5:K1142))","v":1138},{"$f":"DICTIONARY!M1166","v":"Easily"},{"$f":"DICTIONARY!O1166","v":"आसानी से"},"आसानी से",{"$f":"DICTIONARY!P1166","v":0},"आसानी से","आसानी से"]
[null,null,null,null,null,null,null,null,null,{"$f":"IF(K1143=\" \",\" \",ROWS($K$5:K1143))","v":1139},{"$f":"DICTIONARY!M1167","v":"Helpful"},{"$f":"DICTIONARY!O1167","v":"मददगार"},"मददगार",{"$f":"DICTIONARY!P1167","v":0},"मददगार","मददगार"]
[null,null,null,null,null,null,null,null,null,{"$f":"IF(K1144=\" \",\" \",ROWS($K$5:K1144))","v":1140},{"$f":"DICTIONARY!M1168","v":"Provide"},{"$f":"DICTIONARY!O1168","v":"देना"},"देना",{"$f":"DICTIONARY!P1168","v":0},"देना","देना"]
[null,null,null,null,null,null,null,null,null,{"$f":"IF(K1145=\" \",\" \",ROWS($K$5:K1145))","v":1141},{"$f":"DICTIONARY!M1169","v":"Pass On"},{"$f":"DICTIONARY!O1169","v":"गुजरना"},"गुजरना",{"$f":"DICTIONARY!P1169","v":0},"गुजरना","गुजरना"]
[null,null,null,null,null,null,null,null,null,{"$f":"IF(K1146=\" \",\" \",ROWS($K$5:K1146))","v":1142},{"$f":"DICTIONARY!M1170","v":"Vote"},{"$f":"DICTIONARY!O1170","v":"मत"},"मत",{"$f":"DICTIONARY!P1170","v":0},"मत","मत"]
[null,null,null,null,null,null,null,null,null,{"$f":"IF(K1147=\" \",\" \",ROWS($K$5:K1147))","v":1143},{"$f":"DICTIONARY!M1171","v":"Election"},{"$f":"DICTIONARY!O1171","v":"चुनाव"},"चुनाव",{"$f":"DICTIONARY!P1171","v":0},"चुनाव","चुनाव"]
[null,null,null,null,null,null,null,null,null,{"$f":"IF(K1148=\" \",\" \",ROWS($K$5:K1148))","v":1144},{"$f":"DICTIONARY!M1172","v":"Replaced"},{"$f":"DICTIONARY!O1172","v":"बदलना"},"बदलना",{"$f":"DICTIONARY!P1172","v":0},"बदलना","बदलना"]
[null,null,null,null,null,null,null,null,null,{"$f":"IF(K1149=\" \",\" \",ROWS($K$5:K1149))","v":1145},{"$f":"DICTIONARY!M1173","v":"Belive"},{"$f":"DICTIONARY!O1173","v":"विश्वास करना"},"विश्वास करना",{"$f":"DICTIONARY!P1173","v":0},"विश्वास करना","विश्वास करना"]
[null,null,null,null,null,null,null,null,null,{"$f":"IF(K1150=\" \",\" \",ROWS($K$5:K1150))","v":1146},{"$f":"DICTIONARY!M1174","v":"Push"},{"$f":"DICTIONARY!O1174","v":"धकेलना"},"धकेलना",{"$f":"DICTIONARY!P1174","v":0},"धकेलना","धकेलना"]
[null,null,null,null,null,null,null,null,null,{"$f":"IF(K1151=\" \",\" \",ROWS($K$5:K1151))","v":1147},{"$f":"DICTIONARY!M1175","v":"Fault"},{"$f":"DICTIONARY!O1175","v":"गलती"},"गलती",{"$f":"DICTIONARY!P1175","v":0},"गलती","गलती"]
[null,null,null,null,null,null,null,null,null,{"$f":"IF(K1152=\" \",\" \",ROWS($K$5:K1152))","v":1148},{"$f":"DICTIONARY!M1176","v":"Substitute"},{"$f":"DICTIONARY!O1176","v":"विकल्प"},"विकल्प",{"$f":"DICTIONARY!P1176","v":0},"विकल्प","विकल्प"]
[null,null,null,null,null,null,null,null,null,{"$f":"IF(K1153=\" \",\" \",ROWS($K$5:K1153))","v":1149},{"$f":"DICTIONARY!M1177","v":"Certificate"},{"$f":"DICTIONARY!O1177","v":"प्रमाणपत्र"},"प्रमाणपत्र",{"$f":"DICTIONARY!P1177","v":0},"प्रमाणपत्र","प्रमाणपत्र"]
[null,null,null,null,null,null,null,null,null,{"$f":"IF(K1154=\" \",\" \",ROWS($K$5:K1154))","v":1150},{"$f":"DICTIONARY!M1178","v":"Chief Justice"},{"$f":"DICTIONARY!O1178","v":"मुख्य न्यायाधिपति"},"मुख्य न्यायाधिपति",{"$f":"DICTIONARY!P1178","v":0},"मुख्य न्यायाधिपति","मुख्य न्यायाधिपति"]
[null,null,null,null,null,null,null,null,null,{"$f":"IF(K1155=\" \",\" \",ROWS($K$5:K1155))","v":1151},{"$f":"DICTIONARY!M1179","v":"Feel"},{"$f":"DICTIONARY!O1179","v":"महसूस करना"},"महसूस करना",{"$f":"DICTIONARY!P1179","v":0},"महसूस करना","महसूस करना"]
[null,null,null,null,null,null,null,null,null,{"$f":"IF(K1156=\" \",\" \",ROWS($K$5:K1156))","v":1152},{"$f":"DICTIONARY!M1180","v":"Clause"},{"$f":"DICTIONARY!O1180","v":"धारा"},"धारा",{"$f":"DICTIONARY!P1180","v":0},"धारा","धारा"]
[null,null,null,null,null,null,null,null,null,{"$f":"IF(K1157=\" \",\" \",ROWS($K$5:K1157))","v":1153},{"$f":"DICTIONARY!M1181","v":"Common Sense"},{"$f":"DICTIONARY!O1181","v":"व्यावहारिक ज्ञान"},"व्यावहारिक ज्ञान",{"$f":"DICTIONARY!P1181","v":0},{"$f":"M1157","v":"व्यावहारिक ज्ञान"},{"$f":"L1157","v":"व्यावहारिक ज्ञान"}]
[null,null,null,null,null,null,null,null,null,{"$f":"IF(K1158=\" \",\" \",ROWS($K$5:K1158))","v":1154},{"$f":"DICTIONARY!M1182","v":"Code"},{"$f":"DICTIONARY!O1182","v":"संहिता"},{"$f":"L1158","v":"संहिता"},{"$f":"DICTIONARY!P1182","v":0},"संहिता","संहिता"]
[null,null,null,null,null,null,null,null,null,{"$f":"IF(K1159=\" \",\" \",ROWS($K$5:K1159))","v":1155},{"$f":"DICTIONARY!M1183","v":"Clarification"},{"$f":"DICTIONARY!O1183","v":"स्पष्टीकरण"},"स्पष्टीकरण",{"$f":"DICTIONARY!P1183","v":"SCHOOL RELATIVE  ( विद्यालय सम्बन्धी  )"},"स्पष्टीकरण","स्पष्टीकरण"]
[null,null,null,null,null,null,null,null,null,{"$f":"IF(K1160=\" \",\" \",ROWS($K$5:K1160))","v":1156},{"$f":"DICTIONARY!M1184","v":"Learn"},{"$f":"DICTIONARY!O1184","v":"सीखना"},"सीखना",{"$f":"DICTIONARY!P1184","v":0},"सीखना","सीखना"]
[null,null,null,null,null,null,null,null,null,{"$f":"IF(K1161=\" \",\" \",ROWS($K$5:K1161))","v":1157},{"$f":"DICTIONARY!M1185","v":"Committee"},{"$f":"DICTIONARY!O1185","v":"समिति"},"समिति",{"$f":"DICTIONARY!P1185","v":0},"समिति","समिति"]
[null,null,null,null,null,null,null,null,null,{"$f":"IF(K1162=\" \",\" \",ROWS($K$5:K1162))","v":1158},{"$f":"DICTIONARY!M1186","v":"Contact"},{"$f":"DICTIONARY!O1186","v":"सम्पर्क"},"सम्पर्क",{"$f":"DICTIONARY!P1186","v":"SCHOOL RELATIVE  ( विद्यालय सम्बन्धी  )"},"सम्पर्क","सम्पर्क"]
[null,null,null,null,null,null,null,null,null,{"$f":"IF(K1163=\" \",\" \",ROWS($K$5:K1163))","v":1159},{"$f":"DICTIONARY!M1187","v":"Overtake"},{"$f":"DICTIONARY!O1187","v":"आगे निकलना"},"आगे निकलना",{"$f":"DICTIONARY!P1187","v":0},"आगे निकलना","आगे निकलना"]
[null,null,null,null,null,null,null,null,null,{"$f":"IF(K1164=\" \",\" \",ROWS($K$5:K1164))","v":1160},{"$f":"DICTIONARY!M1188","v":"Contempt"},{"$f":"DICTIONARY!O1188","v":"अवमानना"},"अवमानना",{"$f":"DICTIONARY!P1188","v":0},"अवमानना","अवमानना"]
[null,null,null,null,null,null,null,null,null,{"$f":"IF(K1165=\" \",\" \",ROWS($K$5:K1165))","v":1161},{"$f":"DICTIONARY!M1189","v":"Anywere"},{"$f":"DICTIONARY!O1189","v":"कही भी"},"कही भी",{"$f":"DICTIONARY!P1189","v":0},"कही भी","कही भी"]
[null,null,null,null,null,null,null,null,null,{"$f":"IF(K1166=\" \",\" \",ROWS($K$5:K1166))","v":1162},{"$f":"DICTIONARY!M1190","v":"Vacation"},{"$f":"DICTIONARY!O1190","v":"अवकाश"},"अवकाश",{"$f":"DICTIONARY!P1190","v":0},"अवकाश","अवकाश"]
[null,null,null,null,null,null,null,null,null,{"$f":"IF(K1167=\" \",\" \",ROWS($K$5:K1167))","v":1163},{"$f":"DICTIONARY!M1191","v":"Contex"},{"$f":"DICTIONARY!O1191","v":"सन्दर्भ,प्रसंग"},"सन्दर्भ,प्रसंग",{"$f":"DICTIONARY!P1191","v":0},"सन्दर्भ,प्रसंग","सन्दर्भ,प्रसंग"]
[null,null,null,null,null,null,null,null,null,{"$f":"IF(K1168=\" \",\" \",ROWS($K$5:K1168))","v":1164},{"$f":"DICTIONARY!M1192","v":"Holidays"},{"$f":"DICTIONARY!O1192","v":"अवकाश"},"अवकाश",{"$f":"DICTIONARY!P1192","v":"SCHOOL RELATIVE  ( विद्यालय सम्बन्धी  )"},"अवकाश","अवकाश"]
[null,null,null,null,null,null,null,null,null,{"$f":"IF(K1169=\" \",\" \",ROWS($K$5:K1169))","v":1165},{"$f":"DICTIONARY!M1193","v":"Suggested"},{"$f":"DICTIONARY!O1193","v":"सुझाव दिया"},"सुझाव दिया",{"$f":"DICTIONARY!P1193","v":0},"सुझाव दिया","सुझाव दिया"]
[null,null,null,null,null,null,null,null,null,{"$f":"IF(K1170=\" \",\" \",ROWS($K$5:K1170))","v":1166},{"$f":"DICTIONARY!M1194","v":"Complaint"},{"$f":"DICTIONARY!O1194","v":"शिकायत"},"शिकायत",{"$f":"DICTIONARY!P1194","v":0},"शिकायत","शिकायत"]
[null,null,null,null,null,null,null,null,null,{"$f":"IF(K1171=\" \",\" \",ROWS($K$5:K1171))","v":1167},{"$f":"DICTIONARY!M1195","v":"Hobby"},{"$f":"DICTIONARY!O1195","v":"आदत"},"आदत",{"$f":"DICTIONARY!P1195","v":0},"आदत","आदत"]
[null,null,null,null,null,null,null,null,null,{"$f":"IF(K1172=\" \",\" \",ROWS($K$5:K1172))","v":1168},{"$f":"DICTIONARY!M1196","v":"Delighted"},{"$f":"DICTIONARY!O1196","v":"प्रसन्न हुई"},"प्रसन्न हुई",{"$f":"DICTIONARY!P1196","v":0},"प्रसन्न हुई","प्रसन्न हुई"]
[null,null,null,null,null,null,null,null,null,{"$f":"IF(K1173=\" \",\" \",ROWS($K$5:K1173))","v":1169},{"$f":"DICTIONARY!M1197","v":"Earn"},{"$f":"DICTIONARY!O1197","v":"कमाना"},"कमाना",{"$f":"DICTIONARY!P1197","v":0},"कमाना","कमाना"]
[null,null,null,null,null,null,null,null,null,{"$f":"IF(K1174=\" \",\" \",ROWS($K$5:K1174))","v":1170},{"$f":"DICTIONARY!M1198","v":"Controversy"},{"$f":"DICTIONARY!O1198","v":"प्रतिवाद,वाद"},"प्रतिवाद,वाद",{"$f":"DICTIONARY!P1198","v":0},"प्रतिवाद,वाद","प्रतिवाद,वाद"]
[null,null,null,null,null,null,null,null,null,{"$f":"IF(K1175=\" \",\" \",ROWS($K$5:K1175))","v":1171},{"$f":"DICTIONARY!M1199","v":"Deposit"},{"$f":"DICTIONARY!O1199","v":"जमा कराओ"},"जमा कराओ",{"$f":"DICTIONARY!P1199","v":0},"जमा कराओ","जमा कराओ"]
[null,null,null,null,null,null,null,null,null,{"$f":"IF(K1176=\" \",\" \",ROWS($K$5:K1176))","v":1172},{"$f":"DICTIONARY!M1200","v":"Application Form"},{"$f":"DICTIONARY!O1200","v":"आवेदन पत्र"},"आवेदन पत्र",{"$f":"DICTIONARY!P1200","v":"SCHOOL RELATIVE  ( विद्यालय सम्बन्धी  )"},"आवेदन पत्र","आवेदन पत्र"]
[null,null,null,null,null,null,null,null,null,{"$f":"IF(K1177=\" \",\" \",ROWS($K$5:K1177))","v":1173},{"$f":"DICTIONARY!M1201","v":"Photograph"},{"$f":"DICTIONARY!O1201","v":"फोटो"},"फोटो",{"$f":"DICTIONARY!P1201","v":0},"फोटो","फोटो"]
[null,null,null,null,null,null,null,null,null,{"$f":"IF(K1178=\" \",\" \",ROWS($K$5:K1178))","v":1174},{"$f":"DICTIONARY!M1202","v":"Entries"},{"$f":"DICTIONARY!O1202","v":"प्रवेश"},"प्रवेश",{"$f":"DICTIONARY!P1202","v":"SCHOOL RELATIVE  ( विद्यालय सम्बन्धी  )"},"प्रवेश","प्रवेश"]
[null,null,null,null,null,null,null,null,null,{"$f":"IF(K1179=\" \",\" \",ROWS($K$5:K1179))","v":1175},{"$f":"DICTIONARY!M1203","v":"Head Clerk"},{"$f":"DICTIONARY!O1203","v":"मुख्य बाबु"},"मुख्य बाबु",{"$f":"DICTIONARY!P1203","v":"OCCUPATIONS AND PROFESSION (व्यवसाय और पेशा )"},"मुख्य बाबु","मुख्य बाबु"]
[null,null,null,null,null,null,null,null,null,{"$f":"IF(K1180=\" \",\" \",ROWS($K$5:K1180))","v":1176},{"$f":"DICTIONARY!M1204","v":"Specimen"},{"$f":"DICTIONARY!O1204","v":"विशेष प्रति"},"विशेष प्रति",{"$f":"DICTIONARY!P1204","v":0},"विशेष प्रति","विशेष प्रति"]
[null,null,null,null,null,null,null,null,null,{"$f":"IF(K1181=\" \",\" \",ROWS($K$5:K1181))","v":1177},{"$f":"DICTIONARY!M1205","v":"Signature"},{"$f":"DICTIONARY!O1205","v":"हस्ताक्षर"},"हस्ताक्षर",{"$f":"DICTIONARY!P1205","v":0},"हस्ताक्षर","हस्ताक्षर"]
[null,null,null,null,null,null,null,null,null,{"$f":"IF(K1182=\" \",\" \",ROWS($K$5:K1182))","v":1178},{"$f":"DICTIONARY!M1206","v":"Copyright"},{"$f":"DICTIONARY!O1206","v":"प्रकाशनाधिकार"},"प्रकाशनाधिकार",{"$f":"DICTIONARY!P1206","v":"OCCUPATIONS AND PROFESSION (व्यवसाय और पेशा )"},"प्रकाशनाधिकार","प्रकाशनाधिकार"]
[null,null,null,null,null,null,null,null,null,{"$f":"IF(K1183=\" \",\" \",ROWS($K$5:K1183))","v":1179},{"$f":"DICTIONARY!M1207","v":"Pay-In-Slip"},{"$f":"DICTIONARY!O1207","v":"वेतन पर्ची"},"वेतन पर्ची",{"$f":"DICTIONARY!P1207","v":0},"वेतन पर्ची","वेतन पर्ची"]
[null,null,null,null,null,null,null,null,null,{"$f":"IF(K1184=\" \",\" \",ROWS($K$5:K1184))","v":1180},{"$f":"DICTIONARY!M1208","v":"Handed"},{"$f":"DICTIONARY!O1208","v":"कार्यभार देना"},"कार्यभार देना",{"$f":"DICTIONARY!P1208","v":0},"कार्यभार देना","कार्यभार देना"]
[null,null,null,null,null,null,null,null,null,{"$f":"IF(K1185=\" \",\" \",ROWS($K$5:K1185))","v":1181},{"$f":"DICTIONARY!M1209","v":"Council Of State"},{"$f":"DICTIONARY!O1209","v":"राज्यपरिषद"},"राज्यपरिषद",{"$f":"DICTIONARY!P1209","v":0},"राज्यपरिषद","राज्यपरिषद"]
[null,null,null,null,null,null,null,null,null,{"$f":"IF(K1186=\" \",\" \",ROWS($K$5:K1186))","v":1182},{"$f":"DICTIONARY!M1210","v":"Corrupt"},{"$f":"DICTIONARY!O1210","v":"भ्रष्ट"},"भ्रष्ट",{"$f":"DICTIONARY!P1210","v":0},"भ्रष्ट","भ्रष्ट"]
[null,null,null,null,null,null,null,null,null,{"$f":"IF(K1187=\" \",\" \",ROWS($K$5:K1187))","v":1183},{"$f":"DICTIONARY!M1211","v":"Whenever"},{"$f":"DICTIONARY!O1211","v":"जबतक"},"जबतक",{"$f":"DICTIONARY!P1211","v":0},"जबतक","जबतक"]
[null,null,null,null,null,null,null,null,null,{"$f":"IF(K1188=\" \",\" \",ROWS($K$5:K1188))","v":1184},{"$f":"DICTIONARY!M1212","v":"Safe"},{"$f":"DICTIONARY!O1212","v":"सुरक्षित"},"सुरक्षित",{"$f":"DICTIONARY!P1212","v":0},"सुरक्षित","सुरक्षित"]
[null,null,null,null,null,null,null,null,null,{"$f":"IF(K1189=\" \",\" \",ROWS($K$5:K1189))","v":1185},{"$f":"DICTIONARY!M1213","v":"Grow"},{"$f":"DICTIONARY!O1213","v":"उगाना"},"उगाना",{"$f":"DICTIONARY!P1213","v":0},"उगाना","उगाना"]
[null,null,null,null,null,null,null,null,null,{"$f":"IF(K1190=\" \",\" \",ROWS($K$5:K1190))","v":1186},{"$f":"DICTIONARY!M1214","v":"Corruption"},{"$f":"DICTIONARY!O1214","v":"भ्रस्टाचार"},"भ्रस्टाचार",{"$f":"DICTIONARY!P1214","v":0},"भ्रस्टाचार","भ्रस्टाचार"]
[null,null,null,null,null,null,null,null,null,{"$f":"IF(K1191=\" \",\" \",ROWS($K$5:K1191))","v":1187},{"$f":"DICTIONARY!M1215","v":"Withdraw"},{"$f":"DICTIONARY!O1215","v":"निकलना"},"निकलना",{"$f":"DICTIONARY!P1215","v":0},"निकलना","निकलना"]
[null,null,null,null,null,null,null,null,null,{"$f":"IF(K1192=\" \",\" \",ROWS($K$5:K1192))","v":1188},{"$f":"DICTIONARY!M1216","v":"Needs"},{"$f":"DICTIONARY!O1216","v":"आवशयकता"},"आवशयकता",{"$f":"DICTIONARY!P1216","v":0},"आवशयकता","आवशयकता"]
[null,null,null,null,null,null,null,null,null,{"$f":"IF(K1193=\" \",\" \",ROWS($K$5:K1193))","v":1189},{"$f":"DICTIONARY!M1217","v":"Diplomacy"},{"$f":"DICTIONARY!O1217","v":"राजनय,कूटनीति"},"राजनय,कूटनीति",{"$f":"DICTIONARY!P1217","v":0},"राजनय,कूटनीति","राजनय,कूटनीति"]
[null,null,null,null,null,null,null,null,null,{"$f":"IF(K1194=\" \",\" \",ROWS($K$5:K1194))","v":1190},{"$f":"DICTIONARY!M1218","v":"Foil"},{"$f":"DICTIONARY!O1218","v":"चमकदार कागज"},"चमकदार कागज",{"$f":"DICTIONARY!P1218","v":0},"चमकदार कागज","चमकदार कागज"]
[null,null,null,null,null,null,null,null,null,{"$f":"IF(K1195=\" \",\" \",ROWS($K$5:K1195))","v":1191},{"$f":"DICTIONARY!M1219","v":"Criminal"},{"$f":"DICTIONARY!O1219","v":"अपराधी"},"अपराधी",{"$f":"DICTIONARY!P1219","v":0},"अपराधी","अपराधी"]
[null,null,null,null,null,null,null,null,null,{"$f":"IF(K1196=\" \",\" \",ROWS($K$5:K1196))","v":1192},{"$f":"DICTIONARY!M1220","v":"Monsoon"},{"$f":"DICTIONARY!O1220","v":"मानसून"},"मानसून",{"$f":"DICTIONARY!P1220","v":0},"मानसून","मानसून"]
[null,null,null,null,null,null,null,null,null,{"$f":"IF(K1197=\" \",\" \",ROWS($K$5:K1197))","v":1193},{"$f":"DICTIONARY!M1221","v":"Defence"},{"$f":"DICTIONARY!O1221","v":"प्रतिरक्षा"},"प्रतिरक्षा",{"$f":"DICTIONARY!P1221","v":0},"प्रतिरक्षा","प्रतिरक्षा"]
[null,null,null,null,null,null,null,null,null,{"$f":"IF(K1198=\" \",\" \",ROWS($K$5:K1198))","v":1194},{"$f":"DICTIONARY!M1222","v":"Corn"},{"$f":"DICTIONARY!O1222","v":"अनाज"},"अनाज",{"$f":"DICTIONARY!P1222","v":0},"अनाज","अनाज"]
[null,null,null,null,null,null,null,null,null,{"$f":"IF(K1199=\" \",\" \",ROWS($K$5:K1199))","v":1195},{"$f":"DICTIONARY!M1223","v":"Treat"},{"$f":"DICTIONARY!O1223","v":"उपचार"},"उपचार",{"$f":"DICTIONARY!P1223","v":0},"उपचार","उपचार"]
[null,null,null,null,null,null,null,null,null,{"$f":"IF(K1200=\" \",\" \",ROWS($K$5:K1200))","v":1196},{"$f":"DICTIONARY!M1224","v":"Demand"},{"$f":"DICTIONARY!O1224","v":"मांग"},"मांग",{"$f":"DICTIONARY!P1224","v":0},"मांग","मांग"]
[null,null,null,null,null,null,null,null,null,{"$f":"IF(K1201=\" \",\" \",ROWS($K$5:K1201))","v":1197},{"$f":"DICTIONARY!M1225","v":"Arrows"},{"$f":"DICTIONARY!O1225","v":"तीर"},"तीर",{"$f":"DICTIONARY!P1225","v":0},"तीर","तीर"]
[null,null,null,null,null,null,null,null,null,{"$f":"IF(K1202=\" \",\" \",ROWS($K$5:K1202))","v":1198},{"$f":"DICTIONARY!M1226","v":"Lanes"},{"$f":"DICTIONARY!O1226","v":"गलियां"},"गलियां",{"$f":"DICTIONARY!P1226","v":0},"गलियां","गलियां"]
[null,null,null,null,null,null,null,null,null,{"$f":"IF(K1203=\" \",\" \",ROWS($K$5:K1203))","v":1199},{"$f":"DICTIONARY!M1227","v":"District"},{"$f":"DICTIONARY!O1227","v":"जिला"},"जिला",{"$f":"DICTIONARY!P1227","v":0},"जिला","जिला"]
[null,null,null,null,null,null,null,null,null,{"$f":"IF(K1204=\" \",\" \",ROWS($K$5:K1204))","v":1200},{"$f":"DICTIONARY!M1228","v":"Religious"},{"$f":"DICTIONARY!O1228","v":"धार्मिक"},"धार्मिक",{"$f":"DICTIONARY!P1228","v":0},"धार्मिक","धार्मिक"]
[null,null,null,null,null,null,null,null,null,{"$f":"IF(K1205=\" \",\" \",ROWS($K$5:K1205))","v":1201},{"$f":"DICTIONARY!M1229","v":"Aback"},{"$f":"DICTIONARY!O1229","v":"पीछे,पीछे की और"},"पीछे,पीछे की और",{"$f":"DICTIONARY!P1229","v":0},"पीछे,पीछे की और","पीछे,पीछे की और"]
[null,null,null,null,null,null,null,null,null,{"$f":"IF(K1206=\" \",\" \",ROWS($K$5:K1206))","v":1202},{"$f":"DICTIONARY!M1230","v":"Abaction"},{"$f":"DICTIONARY!O1230","v":"पशुओ की चोरी"},"पशुओ की चोरी",{"$f":"DICTIONARY!P1230","v":0},"पशुओ की चोरी","पशुओ की चोरी"]
[null,null,null,null,null,null,null,null,null,{"$f":"IF(K1207=\" \",\" \",ROWS($K$5:K1207))","v":1203},{"$f":"DICTIONARY!M1231","v":"Abactor"},{"$f":"DICTIONARY!O1231","v":"पशु चोर"},"पशु चोर",{"$f":"DICTIONARY!P1231","v":0},"पशु चोर","पशु चोर"]
[null,null,null,null,null,null,null,null,null,{"$f":"IF(K1208=\" \",\" \",ROWS($K$5:K1208))","v":1204},{"$f":"DICTIONARY!M1232","v":"Abacus"},{"$f":"DICTIONARY!O1232","v":"गिनती यन्त्र"},"गिनती यन्त्र",{"$f":"DICTIONARY!P1232","v":0},"गिनती यन्त्र","गिनती यन्त्र"]
[null,null,null,null,null,null,null,null,null,{"$f":"IF(K1209=\" \",\" \",ROWS($K$5:K1209))","v":1205},{"$f":"DICTIONARY!M1233","v":"Abandon"},{"$f":"DICTIONARY!O1233","v":"छोड़ देना"},"छोड़ देना",{"$f":"DICTIONARY!P1233","v":0},"छोड़ देना","छोड़ देना"]
[null,null,null,null,null,null,null,null,null,{"$f":"IF(K1210=\" \",\" \",ROWS($K$5:K1210))","v":1206},{"$f":"DICTIONARY!M1234","v":"Abase"},{"$f":"DICTIONARY!O1234","v":"बेकदर करना"},"बेकदर करना",{"$f":"DICTIONARY!P1234","v":0},"बेकदर करना","बेकदर करना"]
[null,null,null,null,null,null,null,null,null,{"$f":"IF(K1211=\" \",\" \",ROWS($K$5:K1211))","v":1207},{"$f":"DICTIONARY!M1235","v":"Ability"},{"$f":"DICTIONARY!O1235","v":"योग्यता"},"योग्यता",{"$f":"DICTIONARY!P1235","v":"SCHOOL RELATIVE  ( विद्यालय सम्बन्धी  )"},"योग्यता","योग्यता"]
[null,null,null,null,null,null,null,null,null,{"$f":"IF(K1212=\" \",\" \",ROWS($K$5:K1212))","v":1208},{"$f":"DICTIONARY!M1236","v":"Abject"},{"$f":"DICTIONARY!O1236","v":"नीच"},"नीच",{"$f":"DICTIONARY!P1236","v":0},"नीच","नीच"]
[null,null,null,null,null,null,null,null,null,{"$f":"IF(K1213=\" \",\" \",ROWS($K$5:K1213))","v":1209},{"$f":"DICTIONARY!M1237","v":"Abate"},{"$f":"DICTIONARY!O1237","v":"कम करना"},"कम करना",{"$f":"DICTIONARY!P1237","v":0},"कम करना","कम करना"]
[null,null,null,null,null,null,null,null,null,{"$f":"IF(K1214=\" \",\" \",ROWS($K$5:K1214))","v":1210},{"$f":"DICTIONARY!M1238","v":"Abatement"},{"$f":"DICTIONARY!O1238","v":"कमी"},"कमी",{"$f":"DICTIONARY!P1238","v":0},"कमी","कमी"]
[null,null,null,null,null,null,null,null,null,{"$f":"IF(K1215=\" \",\" \",ROWS($K$5:K1215))","v":1211},{"$f":"DICTIONARY!M1239","v":"Abba"},{"$f":"DICTIONARY!O1239","v":"पापा"},"पापा",{"$f":"DICTIONARY!P1239","v":"RELATIONS AND RELATIVES ( सम्बन्ध और सम्बन्धी )"},"पापा","पापा"]
[null,null,null,null,null,null,null,null,null,{"$f":"IF(K1216=\" \",\" \",ROWS($K$5:K1216))","v":1212},{"$f":"DICTIONARY!M1240","v":"Abbess"},{"$f":"DICTIONARY!O1240","v":"मह्न्तीं"},"मह्न्तीं","OCCUPATIONS AND PROFESSION (व्यवसाय और पेशा )","मह्न्तीं","मह्न्तीं"]
[null,null,null,null,null,null,null,null,null,{"$f":"IF(K1217=\" \",\" \",ROWS($K$5:K1217))","v":1213},{"$f":"DICTIONARY!M1241","v":"Abbey"},{"$f":"DICTIONARY!O1241","v":"मठ"},"मठ",{"$f":"DICTIONARY!P1241","v":0},"मठ","मठ"]
[null,null,null,null,null,null,null,null,null,{"$f":"IF(K1218=\" \",\" \",ROWS($K$5:K1218))","v":1214},{"$f":"DICTIONARY!M1242","v":"Abbot"},{"$f":"DICTIONARY!O1242","v":"मेहनत"},"मेहनत",{"$f":"DICTIONARY!P1242","v":0},"मेहनत","मेहनत"]
[null,null,null,null,null,null,null,null,null,{"$f":"IF(K1219=\" \",\" \",ROWS($K$5:K1219))","v":1215},{"$f":"DICTIONARY!M1243","v":"Abbreviate"},{"$f":"DICTIONARY!O1243","v":"छोटा रूप"},"छोटा रूप",{"$f":"DICTIONARY!P1243","v":0},"छोटा रूप","छोटा रूप"]
[null,null,null,null,null,null,null,null,null,{"$f":"IF(K1220=\" \",\" \",ROWS($K$5:K1220))","v":1216},{"$f":"DICTIONARY!M1244","v":"Abdicate"},{"$f":"DICTIONARY!O1244","v":"राज्य या पद छोड़ना"},"राज्य या पद छोड़ना",{"$f":"DICTIONARY!P1244","v":0},"राज्य या पद छोड़ना","राज्य या पद छोड़ना"]
[null,null,null,null,null,null,null,null,null,{"$f":"IF(K1221=\" \",\" \",ROWS($K$5:K1221))","v":1217},{"$f":"DICTIONARY!M1245","v":"Depty"},{"$f":"DICTIONARY!O1245","v":"उप"},"उप",{"$f":"DICTIONARY!P1245","v":"PARTS OF BODY ( शरीर के अंग )"},{"$f":"M1221","v":"उप"},{"$f":"L1221","v":"उप"}]
[null,null,null,null,null,null,null,null,null,{"$f":"IF(K1222=\" \",\" \",ROWS($K$5:K1222))","v":1218},{"$f":"DICTIONARY!M1246","v":"Abduct"},{"$f":"DICTIONARY!O1246","v":"भगा ले जाने "},{"$f":"L1222","v":"भगा ले जाने "},{"$f":"DICTIONARY!P1246","v":0},"भगा ले जाने ","भगा ले जाने "]
[null,null,null,null,null,null,null,null,null,{"$f":"IF(K1223=\" \",\" \",ROWS($K$5:K1223))","v":1219},{"$f":"DICTIONARY!M1247","v":"Abductor"},{"$f":"DICTIONARY!O1247","v":"भगा ले जाने वाला"},"भगा ले जाने वाला",{"$f":"DICTIONARY!P1247","v":0},"भगा ले जाने वाला","भगा ले जाने वाला"]
[null,null,null,null,null,null,null,null,null,{"$f":"IF(K1224=\" \",\" \",ROWS($K$5:K1224))","v":1220},{"$f":"DICTIONARY!M1248","v":"Abhorrent"},{"$f":"DICTIONARY!O1248","v":"घिनोना"},"घिनोना",{"$f":"DICTIONARY!P1248","v":0},"घिनोना","घिनोना"]
[null,null,null,null,null,null,null,null,null,{"$f":"IF(K1225=\" \",\" \",ROWS($K$5:K1225))","v":1221},{"$f":"DICTIONARY!M1249","v":"Abhore"},{"$f":"DICTIONARY!O1249","v":"घ्रणा"},"घ्रणा",{"$f":"DICTIONARY!P1249","v":0},"घ्रणा","घ्रणा"]
[null,null,null,null,null,null,null,null,null,{"$f":"IF(K1226=\" \",\" \",ROWS($K$5:K1226))","v":1222},{"$f":"DICTIONARY!M1250","v":"Abjactly"},{"$f":"DICTIONARY!O1250","v":"निचता से"},"निचता से",{"$f":"DICTIONARY!P1250","v":0},"निचता से","निचता से"]
[null,null,null,null,null,null,null,null,null,{"$f":"IF(K1227=\" \",\" \",ROWS($K$5:K1227))","v":1223},{"$f":"DICTIONARY!M1251","v":"Abjure"},{"$f":"DICTIONARY!O1251","v":"कसम खाकर छोड़ना"},"कसम खाकर छोड़ना",{"$f":"DICTIONARY!P1251","v":0},"कसम खाकर छोड़ना","कसम खाकर छोड़ना"]
[null,null,null,null,null,null,null,null,null,{"$f":"IF(K1228=\" \",\" \",ROWS($K$5:K1228))","v":1224},{"$f":"DICTIONARY!M1252","v":"Ablaze"},{"$f":"DICTIONARY!O1252","v":"जलता हुआ"},"जलता हुआ",{"$f":"DICTIONARY!P1252","v":0},"जलता हुआ","जलता हुआ"]
[null,null,null,null,null,null,null,null,null,{"$f":"IF(K1229=\" \",\" \",ROWS($K$5:K1229))","v":1225},{"$f":"DICTIONARY!M1253","v":"Able"},{"$f":"DICTIONARY!O1253","v":"योग्य ,लायक"},"योग्य ,लायक",{"$f":"DICTIONARY!P1253","v":0},"योग्य ,लायक","योग्य ,लायक"]
[null,null,null,null,null,null,null,null,null,{"$f":"IF(K1230=\" \",\" \",ROWS($K$5:K1230))","v":1226},{"$f":"DICTIONARY!M1254","v":"Able- Bodiet"},{"$f":"DICTIONARY!O1254","v":"मजबूत"},"मजबूत",{"$f":"DICTIONARY!P1254","v":0},"मजबूत","मजबूत"]
[null,null,null,null,null,null,null,null,null,{"$f":"IF(K1231=\" \",\" \",ROWS($K$5:K1231))","v":1227},{"$f":"DICTIONARY!M1255","v":"Ably"},{"$f":"DICTIONARY!O1255","v":"योग्यता से"},"योग्यता से",{"$f":"DICTIONARY!P1255","v":0},"योग्यता से","योग्यता से"]
[null,null,null,null,null,null,null,null,null,{"$f":"IF(K1232=\" \",\" \",ROWS($K$5:K1232))","v":1228},{"$f":"DICTIONARY!M1256","v":"Abloom"},{"$f":"DICTIONARY!O1256","v":"खिला  हुआ"},"खिला  हुआ",{"$f":"DICTIONARY!P1256","v":0},"खिला  हुआ","खिला  हुआ"]
[null,null,null,null,null,null,null,null,null,{"$f":"IF(K1233=\" \",\" \",ROWS($K$5:K1233))","v":1229},{"$f":"DICTIONARY!M1257","v":"Ablush"},{"$f":"DICTIONARY!O1257","v":"लज्जित"},"लज्जित",{"$f":"DICTIONARY!P1257","v":0},"लज्जित","लज्जित"]
[null,null,null,null,null,null,null,null,null,{"$f":"IF(K1234=\" \",\" \",ROWS($K$5:K1234))","v":1230},{"$f":"DICTIONARY!M1258","v":"Ablution"},{"$f":"DICTIONARY!O1258","v":"तीर्थ  स्थान"},"तीर्थ  स्थान",{"$f":"DICTIONARY!P1258","v":0},"तीर्थ  स्थान","तीर्थ  स्थान"]
[null,null,null,null,null,null,null,null,null,{"$f":"IF(K1235=\" \",\" \",ROWS($K$5:K1235))","v":1231},{"$f":"DICTIONARY!M1259","v":"Abnormal"},{"$f":"DICTIONARY!O1259","v":"असाधारण"},"असाधारण",{"$f":"DICTIONARY!P1259","v":0},"असाधारण","असाधारण"]
[null,null,null,null,null,null,null,null,null,{"$f":"IF(K1236=\" \",\" \",ROWS($K$5:K1236))","v":1232},{"$f":"DICTIONARY!M1260","v":"Aboard"},{"$f":"DICTIONARY!O1260","v":"जहाज या  गाड़ी  पर"},"जहाज या  गाड़ी  पर",{"$f":"DICTIONARY!P1260","v":0},"जहाज या  गाड़ी  पर","जहाज या  गाड़ी  पर"]
[null,null,null,null,null,null,null,null,null,{"$f":"IF(K1237=\" \",\" \",ROWS($K$5:K1237))","v":1233},{"$f":"DICTIONARY!M1261","v":"Abode"},{"$f":"DICTIONARY!O1261","v":"घर"},"घर",{"$f":"DICTIONARY!P1261","v":0},"घर","घर"]
[null,null,null,null,null,null,null,null,null,{"$f":"IF(K1238=\" \",\" \",ROWS($K$5:K1238))","v":1234},{"$f":"DICTIONARY!M1262","v":"Abolish"},{"$f":"DICTIONARY!O1262","v":"तोडना , मिठाना"},"तोडना , मिठाना",{"$f":"DICTIONARY!P1262","v":0},"तोडना , मिठाना","तोडना , मिठाना"]
[null,null,null,null,null,null,null,null,null,{"$f":"IF(K1239=\" \",\" \",ROWS($K$5:K1239))","v":1235},{"$f":"DICTIONARY!M1263","v":"Abolition"},{"$f":"DICTIONARY!O1263","v":"समाधि"},"समाधि",{"$f":"DICTIONARY!P1263","v":0},"समाधि","समाधि"]
[null,null,null,null,null,null,null,null,null,{"$f":"IF(K1240=\" \",\" \",ROWS($K$5:K1240))","v":1236},{"$f":"DICTIONARY!M1264","v":"Abominable"},{"$f":"DICTIONARY!O1264","v":"घिनोना"},"घिनोना",{"$f":"DICTIONARY!P1264","v":0},"घिनोना","घिनोना"]
[null,null,null,null,null,null,null,null,null,{"$f":"IF(K1241=\" \",\" \",ROWS($K$5:K1241))","v":1237},{"$f":"DICTIONARY!M1265","v":"Aboriginal"},{"$f":"DICTIONARY!O1265","v":"आदिम , आदिवासी"},"आदिम , आदिवासी",{"$f":"DICTIONARY!P1265","v":0},"आदिम , आदिवासी","आदिम , आदिवासी"]
[null,null,null,null,null,null,null,null,null,{"$f":"IF(K1242=\" \",\" \",ROWS($K$5:K1242))","v":1238},{"$f":"DICTIONARY!M1266","v":"Aborigines"},{"$f":"DICTIONARY!O1266","v":"आदिवासी"},"आदिवासी",{"$f":"DICTIONARY!P1266","v":0},"आदिवासी","आदिवासी"]
[null,null,null,null,null,null,null,null,null,{"$f":"IF(K1243=\" \",\" \",ROWS($K$5:K1243))","v":1239},{"$f":"DICTIONARY!M1267","v":"Abortion"},{"$f":"DICTIONARY!O1267","v":"ग्रभपात"},"ग्रभपात",{"$f":"DICTIONARY!P1267","v":0},"ग्रभपात","ग्रभपात"]
[null,null,null,null,null,null,null,null,null,{"$f":"IF(K1244=\" \",\" \",ROWS($K$5:K1244))","v":1240},{"$f":"DICTIONARY!M1268","v":"Abound"},{"$f":"DICTIONARY!O1268","v":"पर्याप्त"},"पर्याप्त",{"$f":"DICTIONARY!P1268","v":0},"पर्याप्त","पर्याप्त"]
[null,null,null,null,null,null,null,null,null,{"$f":"IF(K1245=\" \",\" \",ROWS($K$5:K1245))","v":1241},{"$f":"DICTIONARY!M1269","v":"Deprive"},{"$f":"DICTIONARY!O1269","v":"वंचित"},"वंचित",{"$f":"DICTIONARY!P1269","v":0},"वंचित","वंचित"]
[null,null,null,null,null,null,null,null,null,{"$f":"IF(K1246=\" \",\" \",ROWS($K$5:K1246))","v":1242},{"$f":"DICTIONARY!M1270","v":"Defarmation"},{"$f":"DICTIONARY!O1270","v":"मानहानि"},"मानहानि",{"$f":"DICTIONARY!P1270","v":0},"मानहानि","मानहानि"]
[null,null,null,null,null,null,null,null,null,{"$f":"IF(K1247=\" \",\" \",ROWS($K$5:K1247))","v":1243},{"$f":"DICTIONARY!M1271","v":"Above-Board"},{"$f":"DICTIONARY!O1271","v":"प्रकट , खुला"},"प्रकट , खुला",{"$f":"DICTIONARY!P1271","v":0},"प्रकट , खुला","प्रकट , खुला"]
[null,null,null,null,null,null,null,null,null,{"$f":"IF(K1248=\" \",\" \",ROWS($K$5:K1248))","v":1244},{"$f":"DICTIONARY!M1272","v":"Abreast"},{"$f":"DICTIONARY!O1272","v":"साथ-साथ  पास-पास"},"साथ-साथ  पास-पास",{"$f":"DICTIONARY!P1272","v":0},"साथ-साथ  पास-पास","साथ-साथ  पास-पास"]
[null,null,null,null,null,null,null,null,null,{"$f":"IF(K1249=\" \",\" \",ROWS($K$5:K1249))","v":1245},{"$f":"DICTIONARY!M1273","v":"Abribge"},{"$f":"DICTIONARY!O1273","v":"छोटा  करना"},"छोटा  करना",{"$f":"DICTIONARY!P1273","v":0},"छोटा  करना","छोटा  करना"]
[null,null,null,null,null,null,null,null,null,{"$f":"IF(K1250=\" \",\" \",ROWS($K$5:K1250))","v":1246},{"$f":"DICTIONARY!M1274","v":"Abridged"},{"$f":"DICTIONARY!O1274","v":"घर या देश से बाहर"},"घर या देश से बाहर",{"$f":"DICTIONARY!P1274","v":0},"घर या देश से बाहर","घर या देश से बाहर"]
[null,null,null,null,null,null,null,null,null,{"$f":"IF(K1251=\" \",\" \",ROWS($K$5:K1251))","v":1247},{"$f":"DICTIONARY!M1275","v":"Abroad"},{"$f":"DICTIONARY!O1275","v":"घर या देश से बाहर"},"घर या देश से बाहर",{"$f":"DICTIONARY!P1275","v":0},"घर या देश से बाहर","घर या देश से बाहर"]
[null,null,null,null,null,null,null,null,null,{"$f":"IF(K1252=\" \",\" \",ROWS($K$5:K1252))","v":1248},{"$f":"DICTIONARY!M1276","v":"Abrupt"},{"$f":"DICTIONARY!O1276","v":"आकस्मिक"},"आकस्मिक",{"$f":"DICTIONARY!P1276","v":0},"आकस्मिक","आकस्मिक"]
[null,null,null,null,null,null,null,null,null,{"$f":"IF(K1253=\" \",\" \",ROWS($K$5:K1253))","v":1249},{"$f":"DICTIONARY!M1277","v":"Abscess"},{"$f":"DICTIONARY!O1277","v":"मवाद  भरा फोड़ा"},"मवाद  भरा फोड़ा",{"$f":"DICTIONARY!P1277","v":0},"मवाद  भरा फोड़ा","मवाद  भरा फोड़ा"]
[null,null,null,null,null,null,null,null,null,{"$f":"IF(K1254=\" \",\" \",ROWS($K$5:K1254))","v":1250},{"$f":"DICTIONARY!M1278","v":"Abscond"},{"$f":"DICTIONARY!O1278","v":"चुपके से भाग जाना"},"चुपके से भाग जाना",{"$f":"DICTIONARY!P1278","v":0},"चुपके से भाग जाना","चुपके से भाग जाना"]
[null,null,null,null,null,null,null,null,null,{"$f":"IF(K1255=\" \",\" \",ROWS($K$5:K1255))","v":1251},{"$f":"DICTIONARY!M1279","v":"Absence"},{"$f":"DICTIONARY!O1279","v":"गैर हाजिर"},"गैर हाजिर",{"$f":"DICTIONARY!P1279","v":"SCHOOL RELATIVE  ( विद्यालय सम्बन्धी  )"},"गैर हाजिर","गैर हाजिर"]
[null,null,null,null,null,null,null,null,null,{"$f":"IF(K1256=\" \",\" \",ROWS($K$5:K1256))","v":1252},{"$f":"DICTIONARY!M1280","v":"Discovery"},{"$f":"DICTIONARY!O1280","v":"खोज"},"खोज",{"$f":"DICTIONARY!P1280","v":0},"खोज","खोज"]
[null,null,null,null,null,null,null,null,null,{"$f":"IF(K1257=\" \",\" \",ROWS($K$5:K1257))","v":1253},{"$f":"DICTIONARY!M1281","v":"Absentminded"},{"$f":"DICTIONARY!O1281","v":"बेखबर"},"बेखबर",{"$f":"DICTIONARY!P1281","v":0},"बेखबर","बेखबर"]
[null,null,null,null,null,null,null,null,null,{"$f":"IF(K1258=\" \",\" \",ROWS($K$5:K1258))","v":1254},{"$f":"DICTIONARY!M1282","v":"Distribution"},{"$f":"DICTIONARY!O1282","v":"वितरण"},"वितरण",{"$f":"DICTIONARY!P1282","v":0},"वितरण","वितरण"]
[null,null,null,null,null,null,null,null,null,{"$f":"IF(K1259=\" \",\" \",ROWS($K$5:K1259))","v":1255},{"$f":"DICTIONARY!M1283","v":"Absolutely"},{"$f":"DICTIONARY!O1283","v":"पुर्णतः"},"पुर्णतः",{"$f":"DICTIONARY!P1283","v":0},"पुर्णतः","पुर्णतः"]
[null,null,null,null,null,null,null,null,null,{"$f":"IF(K1260=\" \",\" \",ROWS($K$5:K1260))","v":1256},{"$f":"DICTIONARY!M1284","v":"Absord"},{"$f":"DICTIONARY!O1284","v":"सोखना"},"सोखना",{"$f":"DICTIONARY!P1284","v":0},"सोखना","सोखना"]
[null,null,null,null,null,null,null,null,null,{"$f":"IF(K1261=\" \",\" \",ROWS($K$5:K1261))","v":1257},{"$f":"DICTIONARY!M1285","v":"Absorbed"},{"$f":"DICTIONARY!O1285","v":"सोखा"},"सोखा",{"$f":"DICTIONARY!P1285","v":0},"सोखा","सोखा"]
[null,null,null,null,null,null,null,null,null,{"$f":"IF(K1262=\" \",\" \",ROWS($K$5:K1262))","v":1258},{"$f":"DICTIONARY!M1286","v":"Abstain"},{"$f":"DICTIONARY!O1286","v":"परहेजकरना"},"परहेजकरना",{"$f":"DICTIONARY!P1286","v":0},"परहेजकरना","परहेजकरना"]
[null,null,null,null,null,null,null,null,null,{"$f":"IF(K1263=\" \",\" \",ROWS($K$5:K1263))","v":1259},{"$f":"DICTIONARY!M1287","v":"Abstinent"},{"$f":"DICTIONARY!O1287","v":"संयमी"},"संयमी",{"$f":"DICTIONARY!P1287","v":0},"संयमी","संयमी"]
[null,null,null,null,null,null,null,null,null,{"$f":"IF(K1264=\" \",\" \",ROWS($K$5:K1264))","v":1260},{"$f":"DICTIONARY!M1288","v":"Domicile"},{"$f":"DICTIONARY!O1288","v":"अधिवास"},"अधिवास",{"$f":"DICTIONARY!P1288","v":0},"अधिवास","अधिवास"]
[null,null,null,null,null,null,null,null,null,{"$f":"IF(K1265=\" \",\" \",ROWS($K$5:K1265))","v":1261},{"$f":"DICTIONARY!M1289","v":"Abstract"},{"$f":"DICTIONARY!O1289","v":"निराकार"},"निराकार",{"$f":"DICTIONARY!P1289","v":0},"निराकार","निराकार"]
[null,null,null,null,null,null,null,null,null,{"$f":"IF(K1266=\" \",\" \",ROWS($K$5:K1266))","v":1262},{"$f":"DICTIONARY!M1290","v":"Dispute"},{"$f":"DICTIONARY!O1290","v":"विवाद"},"विवाद",{"$f":"DICTIONARY!P1290","v":0},"विवाद","विवाद"]
[null,null,null,null,null,null,null,null,null,{"$f":"IF(K1267=\" \",\" \",ROWS($K$5:K1267))","v":1263},{"$f":"DICTIONARY!M1291","v":"Inhabitants"},{"$f":"DICTIONARY!O1291","v":"निवासी"},"निवासी",{"$f":"DICTIONARY!P1291","v":0},"निवासी","निवासी"]
[null,null,null,null,null,null,null,null,null,{"$f":"IF(K1268=\" \",\" \",ROWS($K$5:K1268))","v":1264},{"$f":"DICTIONARY!M1292","v":"Dinner"},{"$f":"DICTIONARY!O1292","v":"शाम का भोजन"},"शाम का भोजन",{"$f":"DICTIONARY!P1292","v":0},"शाम का भोजन","शाम का भोजन"]
[null,null,null,null,null,null,null,null,null,{"$f":"IF(K1269=\" \",\" \",ROWS($K$5:K1269))","v":1265},{"$f":"DICTIONARY!M1293","v":"Discussion"},{"$f":"DICTIONARY!O1293","v":"चर्चा"},"चर्चा",{"$f":"DICTIONARY!P1293","v":0},"चर्चा","चर्चा"]
[null,null,null,null,null,null,null,null,null,{"$f":"IF(K1270=\" \",\" \",ROWS($K$5:K1270))","v":1266},{"$f":"DICTIONARY!M1294","v":"Emotional"},{"$f":"DICTIONARY!O1294","v":"भावुक"},"भावुक",{"$f":"DICTIONARY!P1294","v":0},"भावुक","भावुक"]
[null,null,null,null,null,null,null,null,null,{"$f":"IF(K1271=\" \",\" \",ROWS($K$5:K1271))","v":1267},{"$f":"DICTIONARY!M1295","v":"Stress"},{"$f":"DICTIONARY!O1295","v":"तनाव"},"तनाव",{"$f":"DICTIONARY!P1295","v":0},"तनाव","तनाव"]
[null,null,null,null,null,null,null,null,null,{"$f":"IF(K1272=\" \",\" \",ROWS($K$5:K1272))","v":1268},{"$f":"DICTIONARY!M1296","v":"Protect"},{"$f":"DICTIONARY!O1296","v":"रक्षा करना"},"रक्षा करना",{"$f":"DICTIONARY!P1296","v":0},"रक्षा करना","रक्षा करना"]
[null,null,null,null,null,null,null,null,null,{"$f":"IF(K1273=\" \",\" \",ROWS($K$5:K1273))","v":1269},{"$f":"DICTIONARY!M1297","v":"Earned"},{"$f":"DICTIONARY!O1297","v":"कमाया"},"कमाया",{"$f":"DICTIONARY!P1297","v":0},"कमाया","कमाया"]
[null,null,null,null,null,null,null,null,null,{"$f":"IF(K1274=\" \",\" \",ROWS($K$5:K1274))","v":1270},{"$f":"DICTIONARY!M1298","v":"Effort"},{"$f":"DICTIONARY!O1298","v":"प्रयास"},"प्रयास",{"$f":"DICTIONARY!P1298","v":0},"प्रयास","प्रयास"]
[null,null,null,null,null,null,null,null,null,{"$f":"IF(K1275=\" \",\" \",ROWS($K$5:K1275))","v":1271},{"$f":"DICTIONARY!M1299","v":"Tooth"},{"$f":"DICTIONARY!O1299","v":"दन्त"},"दन्त",{"$f":"DICTIONARY!P1299","v":0},"दन्त","दन्त"]
[null,null,null,null,null,null,null,null,null,{"$f":"IF(K1276=\" \",\" \",ROWS($K$5:K1276))","v":1272},{"$f":"DICTIONARY!M1300","v":"Eatable"},{"$f":"DICTIONARY!O1300","v":"खाने योग्य"},"खाने योग्य",{"$f":"DICTIONARY!P1300","v":0},"खाने योग्य","खाने योग्य"]
[null,null,null,null,null,null,null,null,null,{"$f":"IF(K1277=\" \",\" \",ROWS($K$5:K1277))","v":1273},{"$f":"DICTIONARY!M1301","v":"Structure"},{"$f":"DICTIONARY!O1301","v":"सरंचना"},"सरंचना",{"$f":"DICTIONARY!P1301","v":0},"सरंचना","सरंचना"]
[null,null,null,null,null,null,null,null,null,{"$f":"IF(K1278=\" \",\" \",ROWS($K$5:K1278))","v":1274},{"$f":"DICTIONARY!M1302","v":"Election Commissioner"},{"$f":"DICTIONARY!O1302","v":"निर्वाचन आयुक्त"},"निर्वाचन आयुक्त",{"$f":"DICTIONARY!P1302","v":0},"निर्वाचन आयुक्त","निर्वाचन आयुक्त"]
[null,null,null,null,null,null,null,null,null,{"$f":"IF(K1279=\" \",\" \",ROWS($K$5:K1279))","v":1275},{"$f":"DICTIONARY!M1303","v":"Emergency"},{"$f":"DICTIONARY!O1303","v":"आपात"},"आपात",{"$f":"DICTIONARY!P1303","v":0},"आपात","आपात"]
[null,null,null,null,null,null,null,null,null,{"$f":"IF(K1280=\" \",\" \",ROWS($K$5:K1280))","v":1276},{"$f":"DICTIONARY!M1304","v":"Estimate"},{"$f":"DICTIONARY!O1304","v":"अनुमान"},"अनुमान",{"$f":"DICTIONARY!P1304","v":0},"अनुमान","अनुमान"]
[null,null,null,null,null,null,null,null,null,{"$f":"IF(K1281=\" \",\" \",ROWS($K$5:K1281))","v":1277},{"$f":"DICTIONARY!M1305","v":"Export Duty"},{"$f":"DICTIONARY!O1305","v":"निर्यात शुल्क"},"निर्यात शुल्क",{"$f":"DICTIONARY!P1305","v":0},"निर्यात शुल्क","निर्यात शुल्क"]
[null,null,null,null,null,null,null,null,null,{"$f":"IF(K1282=\" \",\" \",ROWS($K$5:K1282))","v":1278},{"$f":"DICTIONARY!M1306","v":"Estate"},{"$f":"DICTIONARY!O1306","v":"सम्पदा"},"सम्पदा",{"$f":"DICTIONARY!P1306","v":0},"सम्पदा","सम्पदा"]
[null,null,null,null,null,null,null,null,null,{"$f":"IF(K1283=\" \",\" \",ROWS($K$5:K1283))","v":1279},{"$f":"DICTIONARY!M1307","v":"Place"},{"$f":"DICTIONARY!O1307","v":"स्थान विशेष,जगह"},"स्थान विशेष,जगह",{"$f":"DICTIONARY!P1307","v":0},"स्थान विशेष,जगह","स्थान विशेष,जगह"]
[null,null,null,null,null,null,null,null,null,{"$f":"IF(K1284=\" \",\" \",ROWS($K$5:K1284))","v":1280},{"$f":"DICTIONARY!M1308","v":"Expenditure"},{"$f":"DICTIONARY!O1308","v":"खर्च"},"खर्च",{"$f":"DICTIONARY!P1308","v":0},"खर्च","खर्च"]
[null,null,null,null,null,null,null,null,null,{"$f":"IF(K1285=\" \",\" \",ROWS($K$5:K1285))","v":1281},{"$f":"DICTIONARY!M1309","v":"Finance"},{"$f":"DICTIONARY!O1309","v":"वित्त"},"वित्त",{"$f":"DICTIONARY!P1309","v":0},{"$f":"M1285","v":"वित्त"},{"$f":"L1285","v":"वित्त"}]
[null,null,null,null,null,null,null,null,null,{"$f":"IF(K1286=\" \",\" \",ROWS($K$5:K1286))","v":1282},{"$f":"DICTIONARY!M1310","v":"Nut Shell"},{"$f":"DICTIONARY!O1310","v":"छिलका"},{"$f":"L1286","v":"छिलका"},{"$f":"DICTIONARY!P1310","v":0},"छिलका","छिलका"]
[null,null,null,null,null,null,null,null,null,{"$f":"IF(K1287=\" \",\" \",ROWS($K$5:K1287))","v":1283},{"$f":"DICTIONARY!M1311","v":"Leftover"},{"$f":"DICTIONARY!O1311","v":"झूठा"},"झूठा",{"$f":"DICTIONARY!P1311","v":0},"झूठा","झूठा"]
[null,null,null,null,null,null,null,null,null,{"$f":"IF(K1288=\" \",\" \",ROWS($K$5:K1288))","v":1284},{"$f":"DICTIONARY!M1312","v":"Citizen"},{"$f":"DICTIONARY!O1312","v":"नागरिक"},"नागरिक",{"$f":"DICTIONARY!P1312","v":0},"नागरिक","नागरिक"]
[null,null,null,null,null,null,null,null,null,{"$f":"IF(K1289=\" \",\" \",ROWS($K$5:K1289))","v":1285},{"$f":"DICTIONARY!M1313","v":"Forbidden"},{"$f":"DICTIONARY!O1313","v":"निषिद्ध"},"निषिद्ध",{"$f":"DICTIONARY!P1313","v":0},"निषिद्ध","निषिद्ध"]
[null,null,null,null,null,null,null,null,null,{"$f":"IF(K1290=\" \",\" \",ROWS($K$5:K1290))","v":1286},{"$f":"DICTIONARY!M1314","v":"City"},{"$f":"DICTIONARY!O1314","v":"शहर"},"शहर",{"$f":"DICTIONARY!P1314","v":0},"शहर","शहर"]
[null,null,null,null,null,null,null,null,null,{"$f":"IF(K1291=\" \",\" \",ROWS($K$5:K1291))","v":1287},{"$f":"DICTIONARY!M1315","v":"Quality"},{"$f":"DICTIONARY!O1315","v":"गुणवत्ता"},"गुणवत्ता",{"$f":"DICTIONARY!P1315","v":0},"गुणवत्ता","गुणवत्ता"]
[null,null,null,null,null,null,null,null,null,{"$f":"IF(K1292=\" \",\" \",ROWS($K$5:K1292))","v":1288},{"$f":"DICTIONARY!M1316","v":"Wife"},{"$f":"DICTIONARY!O1316","v":"पत्नी"},"पत्नी",{"$f":"DICTIONARY!P1316","v":"RELATIONS AND RELATIVES ( सम्बन्ध और सम्बन्धी )"},"पत्नी","पत्नी"]
[null,null,null,null,null,null,null,null,null,{"$f":"IF(K1293=\" \",\" \",ROWS($K$5:K1293))","v":1289},{"$f":"DICTIONARY!M1317","v":"Force"},{"$f":"DICTIONARY!O1317","v":"बल"},"बल",{"$f":"DICTIONARY!P1317","v":0},"बल","बल"]
[null,null,null,null,null,null,null,null,null,{"$f":"IF(K1294=\" \",\" \",ROWS($K$5:K1294))","v":1290},{"$f":"DICTIONARY!M1318","v":"Freedom"},{"$f":"DICTIONARY!O1318","v":"आजादी"},"आजादी",{"$f":"DICTIONARY!P1318","v":0},"आजादी","आजादी"]
[null,null,null,null,null,null,null,null,null,{"$f":"IF(K1295=\" \",\" \",ROWS($K$5:K1295))","v":1291},{"$f":"DICTIONARY!M1319","v":"Territory"},{"$f":"DICTIONARY!O1319","v":"क्षेत्र"},"क्षेत्र",{"$f":"DICTIONARY!P1319","v":0},"क्षेत्र","क्षेत्र"]
[null,null,null,null,null,null,null,null,null,{"$f":"IF(K1296=\" \",\" \",ROWS($K$5:K1296))","v":1292},{"$f":"DICTIONARY!M1320","v":"Injury"},{"$f":"DICTIONARY!O1320","v":"चोट"},"चोट",{"$f":"DICTIONARY!P1320","v":0},"चोट","चोट"]
[null,null,null,null,null,null,null,null,null,{"$f":"IF(K1297=\" \",\" \",ROWS($K$5:K1297))","v":1293},{"$f":"DICTIONARY!M1321","v":"Direction"},{"$f":"DICTIONARY!O1321","v":"दिशा"},"दिशा",{"$f":"DICTIONARY!P1321","v":0},"दिशा","दिशा"]
[null,null,null,null,null,null,null,null,null,{"$f":"IF(K1298=\" \",\" \",ROWS($K$5:K1298))","v":1294},{"$f":"DICTIONARY!M1322","v":"Fund"},{"$f":"DICTIONARY!O1322","v":"निधि"},"निधि",{"$f":"DICTIONARY!P1322","v":0},"निधि","निधि"]
[null,null,null,null,null,null,null,null,null,{"$f":"IF(K1299=\" \",\" \",ROWS($K$5:K1299))","v":1295},{"$f":"DICTIONARY!M1323","v":"Part"},{"$f":"DICTIONARY!O1323","v":"भाग"},"भाग",{"$f":"DICTIONARY!P1323","v":0},"भाग","भाग"]
[null,null,null,null,null,null,null,null,null,{"$f":"IF(K1300=\" \",\" \",ROWS($K$5:K1300))","v":1296},{"$f":"DICTIONARY!M1324","v":"Duty"},{"$f":"DICTIONARY!O1324","v":"कर्तव्य"},"कर्तव्य",{"$f":"DICTIONARY!P1324","v":0},"कर्तव्य","कर्तव्य"]
[null,null,null,null,null,null,null,null,null,{"$f":"IF(K1301=\" \",\" \",ROWS($K$5:K1301))","v":1297},{"$f":"DICTIONARY!M1325","v":"Agency"},{"$f":"DICTIONARY!O1325","v":"एजेंसी"},"एजेंसी",{"$f":"DICTIONARY!P1325","v":0},"एजेंसी","एजेंसी"]
[null,null,null,null,null,null,null,null,null,{"$f":"IF(K1302=\" \",\" \",ROWS($K$5:K1302))","v":1298},{"$f":"DICTIONARY!M1326","v":"Jewellery"},{"$f":"DICTIONARY!O1326","v":"आभूषण"},"आभूषण",{"$f":"DICTIONARY!P1326","v":0},"आभूषण","आभूषण"]
[null,null,null,null,null,null,null,null,null,{"$f":"IF(K1303=\" \",\" \",ROWS($K$5:K1303))","v":1299},{"$f":"DICTIONARY!M1327","v":"Gratuity"},{"$f":"DICTIONARY!O1327","v":"उपदान"},"उपदान",{"$f":"DICTIONARY!P1327","v":0},"उपदान","उपदान"]
[null,null,null,null,null,null,null,null,null,{"$f":"IF(K1304=\" \",\" \",ROWS($K$5:K1304))","v":1300},{"$f":"DICTIONARY!M1328","v":"Guidance"},{"$f":"DICTIONARY!O1328","v":"मार्गदर्शन"},"मार्गदर्शन",{"$f":"DICTIONARY!P1328","v":0},"मार्गदर्शन","मार्गदर्शन"]
[null,null,null,null,null,null,null,null,null,{"$f":"IF(K1305=\" \",\" \",ROWS($K$5:K1305))","v":1301},{"$f":"DICTIONARY!M1329","v":"Custem"},{"$f":"DICTIONARY!O1329","v":"रिवाज"},"रिवाज",{"$f":"DICTIONARY!P1329","v":0},"रिवाज","रिवाज"]
[null,null,null,null,null,null,null,null,null,{"$f":"IF(K1306=\" \",\" \",ROWS($K$5:K1306))","v":1302},{"$f":"DICTIONARY!M1330","v":"Tradition"},{"$f":"DICTIONARY!O1330","v":"परम्परा"},"परम्परा",{"$f":"DICTIONARY!P1330","v":0},"परम्परा","परम्परा"]
[null,null,null,null,null,null,null,null,null,{"$f":"IF(K1307=\" \",\" \",ROWS($K$5:K1307))","v":1303},{"$f":"DICTIONARY!M1331","v":"Event"},{"$f":"DICTIONARY!O1331","v":"घटना"},"घटना",{"$f":"DICTIONARY!P1331","v":0},"घटना","घटना"]
[null,null,null,null,null,null,null,null,null,{"$f":"IF(K1308=\" \",\" \",ROWS($K$5:K1308))","v":1304},{"$f":"DICTIONARY!M1332","v":"Occasion"},{"$f":"DICTIONARY!O1332","v":"अवसर"},"अवसर",{"$f":"DICTIONARY!P1332","v":0},"अवसर","अवसर"]
[null,null,null,null,null,null,null,null,null,{"$f":"IF(K1309=\" \",\" \",ROWS($K$5:K1309))","v":1305},{"$f":"DICTIONARY!M1333","v":"House Of People"},{"$f":"DICTIONARY!O1333","v":"लोकसभा"},"लोकसभा",{"$f":"DICTIONARY!P1333","v":0},"लोकसभा","लोकसभा"]
[null,null,null,null,null,null,null,null,null,{"$f":"IF(K1310=\" \",\" \",ROWS($K$5:K1310))","v":1306},{"$f":"DICTIONARY!M1334","v":"Movement"},{"$f":"DICTIONARY!O1334","v":"क्षण"},"क्षण",{"$f":"DICTIONARY!P1334","v":0},"क्षण","क्षण"]
[null,null,null,null,null,null,null,null,null,{"$f":"IF(K1311=\" \",\" \",ROWS($K$5:K1311))","v":1307},{"$f":"DICTIONARY!M1335","v":"Costume"},{"$f":"DICTIONARY!O1335","v":"वेशभूषा"},"वेशभूषा",{"$f":"DICTIONARY!P1335","v":0},"वेशभूषा","वेशभूषा"]
[null,null,null,null,null,null,null,null,null,{"$f":"IF(K1312=\" \",\" \",ROWS($K$5:K1312))","v":1308},{"$f":"DICTIONARY!M1336","v":"Guaratee"},{"$f":"DICTIONARY!O1336","v":"प्रत्याभूति"},"प्रत्याभूति",{"$f":"DICTIONARY!P1336","v":0},"प्रत्याभूति","प्रत्याभूति"]
[null,null,null,null,null,null,null,null,null,{"$f":"IF(K1313=\" \",\" \",ROWS($K$5:K1313))","v":1309},{"$f":"DICTIONARY!M1337","v":"Involve"},{"$f":"DICTIONARY!O1337","v":"शामिल करना"},"शामिल करना",{"$f":"DICTIONARY!P1337","v":0},"शामिल करना","शामिल करना"]
[null,null,null,null,null,null,null,null,null,{"$f":"IF(K1314=\" \",\" \",ROWS($K$5:K1314))","v":1310},{"$f":"DICTIONARY!M1338","v":"Stick"},{"$f":"DICTIONARY!O1338","v":"छड़ी"},"छड़ी",{"$f":"DICTIONARY!P1338","v":0},"छड़ी","छड़ी"]
[null,null,null,null,null,null,null,null,null,{"$f":"IF(K1315=\" \",\" \",ROWS($K$5:K1315))","v":1311},{"$f":"DICTIONARY!M1339","v":"Episode"},{"$f":"DICTIONARY!O1339","v":"घटनाक्रम"},"घटनाक्रम",{"$f":"DICTIONARY!P1339","v":0},"घटनाक्रम","घटनाक्रम"]
[null,null,null,null,null,null,null,null,null,{"$f":"IF(K1316=\" \",\" \",ROWS($K$5:K1316))","v":1312},{"$f":"DICTIONARY!M1340","v":"Deity"},{"$f":"DICTIONARY!O1340","v":"देवी"},"देवी",{"$f":"DICTIONARY!P1340","v":0},"देवी","देवी"]
[null,null,null,null,null,null,null,null,null,{"$f":"IF(K1317=\" \",\" \",ROWS($K$5:K1317))","v":1313},{"$f":"DICTIONARY!M1341","v":"Puppet"},{"$f":"DICTIONARY!O1341","v":"पुतली"},"पुतली",{"$f":"DICTIONARY!P1341","v":0},"पुतली","पुतली"]
[null,null,null,null,null,null,null,null,null,{"$f":"IF(K1318=\" \",\" \",ROWS($K$5:K1318))","v":1314},{"$f":"DICTIONARY!M1342","v":"Memory"},{"$f":"DICTIONARY!O1342","v":"याद"},"याद",{"$f":"DICTIONARY!P1342","v":0},"याद","याद"]
[null,null,null,null,null,null,null,null,null,{"$f":"IF(K1319=\" \",\" \",ROWS($K$5:K1319))","v":1315},{"$f":"DICTIONARY!M1343","v":"Impeachment"},{"$f":"DICTIONARY!O1343","v":"महाभियाग"},"महाभियाग",{"$f":"DICTIONARY!P1343","v":0},"महाभियाग","महाभियाग"]
[null,null,null,null,null,null,null,null,null,{"$f":"IF(K1320=\" \",\" \",ROWS($K$5:K1320))","v":1316},{"$f":"DICTIONARY!M1344","v":"Industry"},{"$f":"DICTIONARY!O1344","v":"उद्द्योग"},"उद्द्योग",{"$f":"DICTIONARY!P1344","v":0},"उद्द्योग","उद्द्योग"]
[null,null,null,null,null,null,null,null,null,{"$f":"IF(K1321=\" \",\" \",ROWS($K$5:K1321))","v":1317},{"$f":"DICTIONARY!M1345","v":"Inquiry"},{"$f":"DICTIONARY!O1345","v":"जाँच"},"जाँच",{"$f":"DICTIONARY!P1345","v":0},"जाँच","जाँच"]
[null,null,null,null,null,null,null,null,null,{"$f":"IF(K1322=\" \",\" \",ROWS($K$5:K1322))","v":1318},{"$f":"DICTIONARY!M1346","v":"Institude"},{"$f":"DICTIONARY!O1346","v":"संस्था"},"संस्था",{"$f":"DICTIONARY!P1346","v":0},"संस्था","संस्था"]
[null,null,null,null,null,null,null,null,null,{"$f":"IF(K1323=\" \",\" \",ROWS($K$5:K1323))","v":1319},{"$f":"DICTIONARY!M1347","v":"Afternoon"},{"$f":"DICTIONARY!O1347","v":"दोपहर"},"दोपहर",{"$f":"DICTIONARY!P1347","v":0},"दोपहर","दोपहर"]
[null,null,null,null,null,null,null,null,null,{"$f":"IF(K1324=\" \",\" \",ROWS($K$5:K1324))","v":1320},{"$f":"DICTIONARY!M1348","v":"Interst"},{"$f":"DICTIONARY!O1348","v":"ब्याज"},"ब्याज",{"$f":"DICTIONARY!P1348","v":0},"ब्याज","ब्याज"]
[null,null,null,null,null,null,null,null,null,{"$f":"IF(K1325=\" \",\" \",ROWS($K$5:K1325))","v":1321},{"$f":"DICTIONARY!M1349","v":"Pedestrain"},{"$f":"DICTIONARY!O1349","v":"पेदल यात्री"},"पेदल यात्री",{"$f":"DICTIONARY!P1349","v":0},"पेदल यात्री","पेदल यात्री"]
[null,null,null,null,null,null,null,null,null,{"$f":"IF(K1326=\" \",\" \",ROWS($K$5:K1326))","v":1322},{"$f":"DICTIONARY!M1350","v":"Pavement"},{"$f":"DICTIONARY!O1350","v":"फूटपाथ"},"फूटपाथ",{"$f":"DICTIONARY!P1350","v":0},"फूटपाथ","फूटपाथ"]
[null,null,null,null,null,null,null,null,null,{"$f":"IF(K1327=\" \",\" \",ROWS($K$5:K1327))","v":1323},{"$f":"DICTIONARY!M1351","v":"Rule"},{"$f":"DICTIONARY!O1351","v":"नियम"},"नियम",{"$f":"DICTIONARY!P1351","v":0},"नियम","नियम"]
[null,null,null,null,null,null,null,null,null,{"$f":"IF(K1328=\" \",\" \",ROWS($K$5:K1328))","v":1324},{"$f":"DICTIONARY!M1352","v":"Signal"},{"$f":"DICTIONARY!O1352","v":"संकेत"},"संकेत",{"$f":"DICTIONARY!P1352","v":0},"संकेत","संकेत"]
[null,null,null,null,null,null,null,null,null,{"$f":"IF(K1329=\" \",\" \",ROWS($K$5:K1329))","v":1325},{"$f":"DICTIONARY!M1353","v":"Influence"},{"$f":"DICTIONARY!O1353","v":"प्रभाव"},"प्रभाव",{"$f":"DICTIONARY!P1353","v":0},"प्रभाव","प्रभाव"]
[null,null,null,null,null,null,null,null,null,{"$f":"IF(K1330=\" \",\" \",ROWS($K$5:K1330))","v":1326},{"$f":"DICTIONARY!M1354","v":"Maid Servant"},{"$f":"DICTIONARY!O1354","v":"नोकरानी"},"नोकरानी",{"$f":"DICTIONARY!P1354","v":0},"नोकरानी","नोकरानी"]
[null,null,null,null,null,null,null,null,null,{"$f":"IF(K1331=\" \",\" \",ROWS($K$5:K1331))","v":1327},{"$f":"DICTIONARY!M1355","v":"Inspection"},{"$f":"DICTIONARY!O1355","v":"निरीक्षण"},"निरीक्षण",{"$f":"DICTIONARY!P1355","v":0},"निरीक्षण","निरीक्षण"]
[null,null,null,null,null,null,null,null,null,{"$f":"IF(K1332=\" \",\" \",ROWS($K$5:K1332))","v":1328},{"$f":"DICTIONARY!M1356","v":"Bush"},{"$f":"DICTIONARY!O1356","v":"झाड़ी"},"झाड़ी",{"$f":"DICTIONARY!P1356","v":0},"झाड़ी","झाड़ी"]
[null,null,null,null,null,null,null,null,null,{"$f":"IF(K1333=\" \",\" \",ROWS($K$5:K1333))","v":1329},{"$f":"DICTIONARY!M1357","v":"Insurance"},{"$f":"DICTIONARY!O1357","v":"बीमा"},"बीमा",{"$f":"DICTIONARY!P1357","v":0},"बीमा","बीमा"]
[null,null,null,null,null,null,null,null,null,{"$f":"IF(K1334=\" \",\" \",ROWS($K$5:K1334))","v":1330},{"$f":"DICTIONARY!M1358","v":"Ineligible"},{"$f":"DICTIONARY!O1358","v":"अयोग्य"},"अयोग्य",{"$f":"DICTIONARY!P1358","v":0},"अयोग्य","अयोग्य"]
[null,null,null,null,null,null,null,null,null,{"$f":"IF(K1335=\" \",\" \",ROWS($K$5:K1335))","v":1331},{"$f":"DICTIONARY!M1359","v":"Invalid"},{"$f":"DICTIONARY!O1359","v":"अमान्य"},"अमान्य",{"$f":"DICTIONARY!P1359","v":0},"अमान्य","अमान्य"]
[null,null,null,null,null,null,null,null,null,{"$f":"IF(K1336=\" \",\" \",ROWS($K$5:K1336))","v":1332},{"$f":"DICTIONARY!M1360","v":"Investigation"},{"$f":"DICTIONARY!O1360","v":"अनुसन्धान"},"अनुसन्धान",{"$f":"DICTIONARY!P1360","v":0},"अनुसन्धान","अनुसन्धान"]
[null,null,null,null,null,null,null,null,null,{"$f":"IF(K1337=\" \",\" \",ROWS($K$5:K1337))","v":1333},{"$f":"DICTIONARY!M1361","v":"Judgement"},{"$f":"DICTIONARY!O1361","v":"निर्णय"},"निर्णय",{"$f":"DICTIONARY!P1361","v":0},"निर्णय","निर्णय"]
[null,null,null,null,null,null,null,null,null,{"$f":"IF(K1338=\" \",\" \",ROWS($K$5:K1338))","v":1334},{"$f":"DICTIONARY!M1362","v":"Message"},{"$f":"DICTIONARY!O1362","v":"सन्देश"},"सन्देश",{"$f":"DICTIONARY!P1362","v":0},"सन्देश","सन्देश"]
[null,null,null,null,null,null,null,null,null,{"$f":"IF(K1339=\" \",\" \",ROWS($K$5:K1339))","v":1335},{"$f":"DICTIONARY!M1363","v":"Holiday"},{"$f":"DICTIONARY!O1363","v":"छुट्टी"},"छुट्टी",{"$f":"DICTIONARY!P1363","v":0},"छुट्टी","छुट्टी"]
[null,null,null,null,null,null,null,null,null,{"$f":"IF(K1340=\" \",\" \",ROWS($K$5:K1340))","v":1336},{"$f":"DICTIONARY!M1364","v":"Labour"},{"$f":"DICTIONARY!O1364","v":"श्रम"},"श्रम",{"$f":"DICTIONARY!P1364","v":0},"श्रम","श्रम"]
[null,null,null,null,null,null,null,null,null,{"$f":"IF(K1341=\" \",\" \",ROWS($K$5:K1341))","v":1337},{"$f":"DICTIONARY!M1365","v":"Entry"},{"$f":"DICTIONARY!O1365","v":"प्रवेश"},"प्रवेश",{"$f":"DICTIONARY!P1365","v":"SCHOOL RELATIVE  ( विद्यालय सम्बन्धी  )"},"प्रवेश","प्रवेश"]
[null,null,null,null,null,null,null,null,null,{"$f":"IF(K1342=\" \",\" \",ROWS($K$5:K1342))","v":1338},{"$f":"DICTIONARY!M1366","v":"Companion"},{"$f":"DICTIONARY!O1366","v":"साथी"},"साथी",{"$f":"DICTIONARY!P1366","v":0},"साथी","साथी"]
[null,null,null,null,null,null,null,null,null,{"$f":"IF(K1343=\" \",\" \",ROWS($K$5:K1343))","v":1339},{"$f":"DICTIONARY!M1367","v":"Ankle"},{"$f":"DICTIONARY!O1367","v":"टखना"},"टखना",{"$f":"DICTIONARY!P1367","v":"PARTS OF BODY ( शरीर के अंग )"},"टखना","टखना"]
[null,null,null,null,null,null,null,null,null,{"$f":"IF(K1344=\" \",\" \",ROWS($K$5:K1344))","v":1340},{"$f":"DICTIONARY!M1368","v":"Armpit"},{"$f":"DICTIONARY!O1368","v":"बगल"},"बगल",{"$f":"DICTIONARY!P1368","v":"PARTS OF BODY ( शरीर के अंग )"},"बगल","बगल"]
[null,null,null,null,null,null,null,null,null,{"$f":"IF(K1345=\" \",\" \",ROWS($K$5:K1345))","v":1341},{"$f":"DICTIONARY!M1369","v":"Legel"},{"$f":"DICTIONARY!O1369","v":"विधिसम्मत"},"विधिसम्मत",{"$f":"DICTIONARY!P1369","v":0},"विधिसम्मत","विधिसम्मत"]
[null,null,null,null,null,null,null,null,null,{"$f":"IF(K1346=\" \",\" \",ROWS($K$5:K1346))","v":1342},{"$f":"DICTIONARY!M1370","v":"Beard"},{"$f":"DICTIONARY!O1370","v":"दाढ़ी"},"दाढ़ी","OCCUPATIONS AND PROFESSION (व्यवसाय और पेशा )","दाढ़ी","दाढ़ी"]
[null,null,null,null,null,null,null,null,null,{"$f":"IF(K1347=\" \",\" \",ROWS($K$5:K1347))","v":1343},{"$f":"DICTIONARY!M1371","v":"Land Revenue"},{"$f":"DICTIONARY!O1371","v":"भू अभिलेख"},"भू अभिलेख",{"$f":"DICTIONARY!P1371","v":0},"भू अभिलेख","भू अभिलेख"]
[null,null,null,null,null,null,null,null,null,{"$f":"IF(K1348=\" \",\" \",ROWS($K$5:K1348))","v":1344},{"$f":"DICTIONARY!M1372","v":"Brain"},{"$f":"DICTIONARY!O1372","v":"दिमाग"},"दिमाग",{"$f":"DICTIONARY!P1372","v":"PARTS OF BODY ( शरीर के अंग )"},"दिमाग","दिमाग"]
[null,null,null,null,null,null,null,null,null,{"$f":"IF(K1349=\" \",\" \",ROWS($K$5:K1349))","v":1345},{"$f":"DICTIONARY!M1373","v":"Elbow"},{"$f":"DICTIONARY!O1373","v":"कोहनी"},"कोहनी",{"$f":"DICTIONARY!P1373","v":0},{"$f":"M1349","v":"कोहनी"},{"$f":"L1349","v":"कोहनी"}]
[null,null,null,null,null,null,null,null,null,{"$f":"IF(K1350=\" \",\" \",ROWS($K$5:K1350))","v":1346},{"$f":"DICTIONARY!M1374","v":"Eyeball"},{"$f":"DICTIONARY!O1374","v":"आँख की पुतली"},{"$f":"L1350","v":"आँख की पुतली"},{"$f":"DICTIONARY!P1374","v":"PARTS OF BODY ( शरीर के अंग )"},"आँख की पुतली","आँख की पुतली"]
[null,null,null,null,null,null,null,null,null,{"$f":"IF(K1351=\" \",\" \",ROWS($K$5:K1351))","v":1347},{"$f":"DICTIONARY!M1375","v":"Eyelid"},{"$f":"DICTIONARY!O1375","v":"पलक"},"पलक",{"$f":"DICTIONARY!P1375","v":"PARTS OF BODY ( शरीर के अंग )"},"पलक","पलक"]
[null,null,null,null,null,null,null,null,null,{"$f":"IF(K1352=\" \",\" \",ROWS($K$5:K1352))","v":1348},{"$f":"DICTIONARY!M1376","v":"Forehead"},{"$f":"DICTIONARY!O1376","v":"माथा"},"माथा",{"$f":"DICTIONARY!P1376","v":"PARTS OF BODY ( शरीर के अंग )"},"माथा","माथा"]
[null,null,null,null,null,null,null,null,null,{"$f":"IF(K1353=\" \",\" \",ROWS($K$5:K1353))","v":1349},{"$f":"DICTIONARY!M1377","v":"Levy"},{"$f":"DICTIONARY!O1377","v":"आरोपण"},"आरोपण",{"$f":"DICTIONARY!P1377","v":0},"आरोपण","आरोपण"]
[null,null,null,null,null,null,null,null,null,{"$f":"IF(K1354=\" \",\" \",ROWS($K$5:K1354))","v":1350},{"$f":"DICTIONARY!M1378","v":"Legislative Assembly"},{"$f":"DICTIONARY!O1378","v":"विधान सभा"},"विधान सभा",{"$f":"DICTIONARY!P1378","v":0},"विधान सभा","विधान सभा"]
[null,null,null,null,null,null,null,null,null,{"$f":"IF(K1355=\" \",\" \",ROWS($K$5:K1355))","v":1351},{"$f":"DICTIONARY!M1379","v":"Legislative Council"},{"$f":"DICTIONARY!O1379","v":"विधान परिषद"},"विधान परिषद",{"$f":"DICTIONARY!P1379","v":0},"विधान परिषद","विधान परिषद"]
[null,null,null,null,null,null,null,null,null,{"$f":"IF(K1356=\" \",\" \",ROWS($K$5:K1356))","v":1352},{"$f":"DICTIONARY!M1380","v":"Joint"},{"$f":"DICTIONARY!O1380","v":"जोड़"},"जोड़",{"$f":"DICTIONARY!P1380","v":0},"जोड़","जोड़"]
[null,null,null,null,null,null,null,null,null,{"$f":"IF(K1357=\" \",\" \",ROWS($K$5:K1357))","v":1353},{"$f":"DICTIONARY!M1381","v":"Lung"},{"$f":"DICTIONARY!O1381","v":"फेफेड़े"},"फेफेड़े",{"$f":"DICTIONARY!P1381","v":"PARTS OF BODY ( शरीर के अंग )"},"फेफेड़े","फेफेड़े"]
[null,null,null,null,null,null,null,null,null,{"$f":"IF(K1358=\" \",\" \",ROWS($K$5:K1358))","v":1354},{"$f":"DICTIONARY!M1382","v":"Liberty"},{"$f":"DICTIONARY!O1382","v":"आजादी"},"आजादी",{"$f":"DICTIONARY!P1382","v":0},"आजादी","आजादी"]
[null,null,null,null,null,null,null,null,null,{"$f":"IF(K1359=\" \",\" \",ROWS($K$5:K1359))","v":1355},{"$f":"DICTIONARY!M1383","v":"Rib "},{"$f":"DICTIONARY!O1383","v":"पसली"},"पसली",{"$f":"DICTIONARY!P1383","v":0},"पसली","पसली"]
[null,null,null,null,null,null,null,null,null,{"$f":"IF(K1360=\" \",\" \",ROWS($K$5:K1360))","v":1356},{"$f":"DICTIONARY!M1384","v":"Licence"},{"$f":"DICTIONARY!O1384","v":"अनुज्ञप्ति"},"अनुज्ञप्ति",{"$f":"DICTIONARY!P1384","v":0},"अनुज्ञप्ति","अनुज्ञप्ति"]
[null,null,null,null,null,null,null,null,null,{"$f":"IF(K1361=\" \",\" \",ROWS($K$5:K1361))","v":1357},{"$f":"DICTIONARY!M1385","v":"Limitation"},{"$f":"DICTIONARY!O1385","v":"परिसीमा"},"परिसीमा",{"$f":"DICTIONARY!P1385","v":0},"परिसीमा","परिसीमा"]
[null,null,null,null,null,null,null,null,null,{"$f":"IF(K1362=\" \",\" \",ROWS($K$5:K1362))","v":1358},{"$f":"DICTIONARY!M1386","v":"Throat"},{"$f":"DICTIONARY!O1386","v":"गला"},"गला",{"$f":"DICTIONARY!P1386","v":"PARTS OF BODY ( शरीर के अंग )"},"गला","गला"]
[null,null,null,null,null,null,null,null,null,{"$f":"IF(K1363=\" \",\" \",ROWS($K$5:K1363))","v":1359},{"$f":"DICTIONARY!M1387","v":"Toe"},{"$f":"DICTIONARY!O1387","v":"पैर की अंगूठा"},"पैर की अंगूठा",{"$f":"DICTIONARY!P1387","v":"PARTS OF BODY ( शरीर के अंग )"},"पैर की अंगूठा","पैर की अंगूठा"]
[null,null,null,null,null,null,null,null,null,{"$f":"IF(K1364=\" \",\" \",ROWS($K$5:K1364))","v":1360},{"$f":"DICTIONARY!M1388","v":"Loan"},{"$f":"DICTIONARY!O1388","v":"उधार ऋण"},"उधार ऋण",{"$f":"DICTIONARY!P1388","v":0},"उधार ऋण","उधार ऋण"]
[null,null,null,null,null,null,null,null,null,{"$f":"IF(K1365=\" \",\" \",ROWS($K$5:K1365))","v":1361},{"$f":"DICTIONARY!M1389","v":"Wrist"},{"$f":"DICTIONARY!O1389","v":"कलाई"},"कलाई",{"$f":"DICTIONARY!P1389","v":"PARTS OF BODY ( शरीर के अंग )"},"कलाई","कलाई"]
[null,null,null,null,null,null,null,null,null,{"$f":"IF(K1366=\" \",\" \",ROWS($K$5:K1366))","v":1362},{"$f":"DICTIONARY!M1390","v":"Lockup"},{"$f":"DICTIONARY!O1390","v":"बंदीखाना"},"बंदीखाना",{"$f":"DICTIONARY!P1390","v":0},"बंदीखाना","बंदीखाना"]
[null,null,null,null,null,null,null,null,null,{"$f":"IF(K1367=\" \",\" \",ROWS($K$5:K1367))","v":1363},{"$f":"DICTIONARY!M1391","v":"Barber"},{"$f":"DICTIONARY!O1391","v":"नाइ"},"नाइ",{"$f":"DICTIONARY!P1391","v":"OCCUPATIONS AND PROFESSION (व्यवसाय और पेशा )"},"नाइ","नाइ"]
[null,null,null,null,null,null,null,null,null,{"$f":"IF(K1368=\" \",\" \",ROWS($K$5:K1368))","v":1364},{"$f":"DICTIONARY!M1392","v":"Blacksmith"},{"$f":"DICTIONARY!O1392","v":"लुहार"},"लुहार",{"$f":"DICTIONARY!P1392","v":"OCCUPATIONS AND PROFESSION (व्यवसाय और पेशा )"},"लुहार","लुहार"]
[null,null,null,null,null,null,null,null,null,{"$f":"IF(K1369=\" \",\" \",ROWS($K$5:K1369))","v":1365},{"$f":"DICTIONARY!M1393","v":"Maintainace"},{"$f":"DICTIONARY!O1393","v":"रखरखाव"},"रखरखाव",{"$f":"DICTIONARY!P1393","v":0},"रखरखाव","रखरखाव"]
[null,null,null,null,null,null,null,null,null,{"$f":"IF(K1370=\" \",\" \",ROWS($K$5:K1370))","v":1366},{"$f":"DICTIONARY!M1394","v":"Carpenter"},{"$f":"DICTIONARY!O1394","v":"खाती"},"खाती",{"$f":"DICTIONARY!P1394","v":"OCCUPATIONS AND PROFESSION (व्यवसाय और पेशा )"},"खाती","खाती"]
[null,null,null,null,null,null,null,null,null,{"$f":"IF(K1371=\" \",\" \",ROWS($K$5:K1371))","v":1367},{"$f":"DICTIONARY!M1395","v":"Clerk"},{"$f":"DICTIONARY!O1395","v":"बाबु"},"बाबु",{"$f":"DICTIONARY!P1395","v":"OCCUPATIONS AND PROFESSION (व्यवसाय और पेशा )"},"बाबु","बाबु"]
[null,null,null,null,null,null,null,null,null,{"$f":"IF(K1372=\" \",\" \",ROWS($K$5:K1372))","v":1368},{"$f":"DICTIONARY!M1396","v":"Contractor"},{"$f":"DICTIONARY!O1396","v":"ठेकेदार"},"ठेकेदार",{"$f":"DICTIONARY!P1396","v":"OCCUPATIONS AND PROFESSION (व्यवसाय और पेशा )"},"ठेकेदार","ठेकेदार"]
[null,null,null,null,null,null,null,null,null,{"$f":"IF(K1373=\" \",\" \",ROWS($K$5:K1373))","v":1369},{"$f":"DICTIONARY!M1397","v":"Migration"},{"$f":"DICTIONARY!O1397","v":"प्रवजन"},"प्रवजन",{"$f":"DICTIONARY!P1397","v":0},"प्रवजन","प्रवजन"]
[null,null,null,null,null,null,null,null,null,{"$f":"IF(K1374=\" \",\" \",ROWS($K$5:K1374))","v":1370},{"$f":"DICTIONARY!M1398","v":"Coolie"},{"$f":"DICTIONARY!O1398","v":"कुली"},"कुली",{"$f":"DICTIONARY!P1398","v":"OCCUPATIONS AND PROFESSION (व्यवसाय और पेशा )"},"कुली","कुली"]
[null,null,null,null,null,null,null,null,null,{"$f":"IF(K1375=\" \",\" \",ROWS($K$5:K1375))","v":1371},{"$f":"DICTIONARY!M1399","v":"Mining"},{"$f":"DICTIONARY!O1399","v":"खनिज"},"खनिज",{"$f":"DICTIONARY!P1399","v":0},"खनिज","खनिज"]
[null,null,null,null,null,null,null,null,null,{"$f":"IF(K1376=\" \",\" \",ROWS($K$5:K1376))","v":1372},{"$f":"DICTIONARY!M1400","v":"Memorial"},{"$f":"DICTIONARY!O1400","v":"स्मारक"},"स्मारक",{"$f":"DICTIONARY!P1400","v":0},"स्मारक","स्मारक"]
[null,null,null,null,null,null,null,null,null,{"$f":"IF(K1377=\" \",\" \",ROWS($K$5:K1377))","v":1373},{"$f":"DICTIONARY!M1401","v":"Memo"},{"$f":"DICTIONARY!O1401","v":"स्मृतिपत्र"},"स्मृतिपत्र",{"$f":"DICTIONARY!P1401","v":0},"स्मृतिपत्र","स्मृतिपत्र"]
[null,null,null,null,null,null,null,null,null,{"$f":"IF(K1378=\" \",\" \",ROWS($K$5:K1378))","v":1374},{"$f":"DICTIONARY!M1402","v":"Editor"},{"$f":"DICTIONARY!O1402","v":"प्रकाशक"},"प्रकाशक",{"$f":"DICTIONARY!P1402","v":"OCCUPATIONS AND PROFESSION (व्यवसाय और पेशा )"},"प्रकाशक","प्रकाशक"]
[null,null,null,null,null,null,null,null,null,{"$f":"IF(K1379=\" \",\" \",ROWS($K$5:K1379))","v":1375},{"$f":"DICTIONARY!M1403","v":"Engineer"},{"$f":"DICTIONARY!O1403","v":"अभियंता"},"अभियंता",{"$f":"DICTIONARY!P1403","v":"OCCUPATIONS AND PROFESSION (व्यवसाय और पेशा )"},"अभियंता","अभियंता"]
[null,null,null,null,null,null,null,null,null,{"$f":"IF(K1380=\" \",\" \",ROWS($K$5:K1380))","v":1376},{"$f":"DICTIONARY!M1404","v":"Memorandum"},{"$f":"DICTIONARY!O1404","v":"ज्ञापन"},"ज्ञापन",{"$f":"DICTIONARY!P1404","v":0},"ज्ञापन","ज्ञापन"]
[null,null,null,null,null,null,null,null,null,{"$f":"IF(K1381=\" \",\" \",ROWS($K$5:K1381))","v":1377},{"$f":"DICTIONARY!M1405","v":"Member"},{"$f":"DICTIONARY!O1405","v":"सदस्य"},"सदस्य",{"$f":"DICTIONARY!P1405","v":0},"सदस्य","सदस्य"]
[null,null,null,null,null,null,null,null,null,{"$f":"IF(K1382=\" \",\" \",ROWS($K$5:K1382))","v":1378},{"$f":"DICTIONARY!M1406","v":"Majority"},{"$f":"DICTIONARY!O1406","v":"बहुमत"},"बहुमत",{"$f":"DICTIONARY!P1406","v":0},"बहुमत","बहुमत"]
[null,null,null,null,null,null,null,null,null,{"$f":"IF(K1383=\" \",\" \",ROWS($K$5:K1383))","v":1379},{"$f":"DICTIONARY!M1407","v":"Goldsmith"},{"$f":"DICTIONARY!O1407","v":"सुनार"},"सुनार",{"$f":"DICTIONARY!P1407","v":"OCCUPATIONS AND PROFESSION (व्यवसाय और पेशा )"},"सुनार","सुनार"]
[null,null,null,null,null,null,null,null,null,{"$f":"IF(K1384=\" \",\" \",ROWS($K$5:K1384))","v":1380},{"$f":"DICTIONARY!M1408","v":"Hawker"},{"$f":"DICTIONARY!O1408","v":"फेरीवाला"},"फेरीवाला",{"$f":"DICTIONARY!P1408","v":"OCCUPATIONS AND PROFESSION (व्यवसाय और पेशा )"},"फेरीवाला","फेरीवाला"]
[null,null,null,null,null,null,null,null,null,{"$f":"IF(K1385=\" \",\" \",ROWS($K$5:K1385))","v":1381},{"$f":"DICTIONARY!M1409","v":"Inspector"},{"$f":"DICTIONARY!O1409","v":"निरीक्षक"},"निरीक्षक",{"$f":"DICTIONARY!P1409","v":"OCCUPATIONS AND PROFESSION (व्यवसाय और पेशा )"},"निरीक्षक","निरीक्षक"]
[null,null,null,null,null,null,null,null,null,{"$f":"IF(K1386=\" \",\" \",ROWS($K$5:K1386))","v":1382},{"$f":"DICTIONARY!M1410","v":"Jeweller"},{"$f":"DICTIONARY!O1410","v":"जोहरी"},"जोहरी",{"$f":"DICTIONARY!P1410","v":"OCCUPATIONS AND PROFESSION (व्यवसाय और पेशा )"},"जोहरी","जोहरी"]
[null,null,null,null,null,null,null,null,null,{"$f":"IF(K1387=\" \",\" \",ROWS($K$5:K1387))","v":1383},{"$f":"DICTIONARY!M1411","v":"Mandamus"},{"$f":"DICTIONARY!O1411","v":"परमादेश"},"परमादेश",{"$f":"DICTIONARY!P1411","v":0},"परमादेश","परमादेश"]
[null,null,null,null,null,null,null,null,null,{"$f":"IF(K1388=\" \",\" \",ROWS($K$5:K1388))","v":1384},{"$f":"DICTIONARY!M1412","v":"Merchant"},{"$f":"DICTIONARY!O1412","v":"व्यापारी"},"व्यापारी",{"$f":"DICTIONARY!P1412","v":"OCCUPATIONS AND PROFESSION (व्यवसाय और पेशा )"},"व्यापारी","व्यापारी"]
[null,null,null,null,null,null,null,null,null,{"$f":"IF(K1389=\" \",\" \",ROWS($K$5:K1389))","v":1385},{"$f":"DICTIONARY!M1413","v":"Manufafacture"},{"$f":"DICTIONARY!O1413","v":"निर्माण"},"निर्माण",{"$f":"DICTIONARY!P1413","v":0},"निर्माण","निर्माण"]
[null,null,null,null,null,null,null,null,null,{"$f":"IF(K1390=\" \",\" \",ROWS($K$5:K1390))","v":1386},{"$f":"DICTIONARY!M1414","v":"Painter"},{"$f":"DICTIONARY!O1414","v":"चित्रकार"},"चित्रकार",{"$f":"DICTIONARY!P1414","v":"OCCUPATIONS AND PROFESSION (व्यवसाय और पेशा )"},"चित्रकार","चित्रकार"]
[null,null,null,null,null,null,null,null,null,{"$f":"IF(K1391=\" \",\" \",ROWS($K$5:K1391))","v":1387},{"$f":"DICTIONARY!M1415","v":"Police"},{"$f":"DICTIONARY!O1415","v":"पुलिस"},"पुलिस",{"$f":"DICTIONARY!P1415","v":"OCCUPATIONS AND PROFESSION (व्यवसाय और पेशा )"},"पुलिस","पुलिस"]
[null,null,null,null,null,null,null,null,null,{"$f":"IF(K1392=\" \",\" \",ROWS($K$5:K1392))","v":1388},{"$f":"DICTIONARY!M1416","v":"Policeman"},{"$f":"DICTIONARY!O1416","v":"सिपाही"},"सिपाही",{"$f":"DICTIONARY!P1416","v":"OCCUPATIONS AND PROFESSION (व्यवसाय और पेशा )"},"सिपाही","सिपाही"]
[null,null,null,null,null,null,null,null,null,{"$f":"IF(K1393=\" \",\" \",ROWS($K$5:K1393))","v":1389},{"$f":"DICTIONARY!M1417","v":"Postman"},{"$f":"DICTIONARY!O1417","v":"डाकिया"},"डाकिया",{"$f":"DICTIONARY!P1417","v":"OCCUPATIONS AND PROFESSION (व्यवसाय और पेशा )"},"डाकिया","डाकिया"]
[null,null,null,null,null,null,null,null,null,{"$f":"IF(K1394=\" \",\" \",ROWS($K$5:K1394))","v":1390},{"$f":"DICTIONARY!M1418","v":"Morality"},{"$f":"DICTIONARY!O1418","v":"सदाचार"},"सदाचार",{"$f":"DICTIONARY!P1418","v":0},"सदाचार","सदाचार"]
[null,null,null,null,null,null,null,null,null,{"$f":"IF(K1395=\" \",\" \",ROWS($K$5:K1395))","v":1391},{"$f":"DICTIONARY!M1419","v":"Shopkeeper"},{"$f":"DICTIONARY!O1419","v":"दुकानदार"},"दुकानदार",{"$f":"DICTIONARY!P1419","v":"OCCUPATIONS AND PROFESSION (व्यवसाय और पेशा )"},"दुकानदार","दुकानदार"]
[null,null,null,null,null,null,null,null,null,{"$f":"IF(K1396=\" \",\" \",ROWS($K$5:K1396))","v":1392},{"$f":"DICTIONARY!M1420","v":"Modification"},{"$f":"DICTIONARY!O1420","v":"रूपभेद सुधार"},"रूपभेद सुधार",{"$f":"DICTIONARY!P1420","v":0},"रूपभेद सुधार","रूपभेद सुधार"]
[null,null,null,null,null,null,null,null,null,{"$f":"IF(K1397=\" \",\" \",ROWS($K$5:K1397))","v":1393},{"$f":"DICTIONARY!M1421","v":"Occupations"},{"$f":"DICTIONARY!O1421","v":"व्यवसाय"},"व्यवसाय",{"$f":"DICTIONARY!P1421","v":"OCCUPATIONS AND PROFESSION (व्यवसाय और पेशा )"},"व्यवसाय","व्यवसाय"]
[null,null,null,null,null,null,null,null,null,{"$f":"IF(K1398=\" \",\" \",ROWS($K$5:K1398))","v":1394},{"$f":"DICTIONARY!M1422","v":"Motion Of Confidnece"},{"$f":"DICTIONARY!O1422","v":"विश्वाश प्रस्ताव"},"विश्वाश प्रस्ताव",{"$f":"DICTIONARY!P1422","v":0},"विश्वाश प्रस्ताव","विश्वाश प्रस्ताव"]
[null,null,null,null,null,null,null,null,null,{"$f":"IF(K1399=\" \",\" \",ROWS($K$5:K1399))","v":1395},{"$f":"DICTIONARY!M1423","v":"Behaviour"},{"$f":"DICTIONARY!O1423","v":"व्यवहार"},"व्यवहार",{"$f":"DICTIONARY!P1423","v":0},"व्यवहार","व्यवहार"]
[null,null,null,null,null,null,null,null,null,{"$f":"IF(K1400=\" \",\" \",ROWS($K$5:K1400))","v":1396},{"$f":"DICTIONARY!M1424","v":"Washerman"},{"$f":"DICTIONARY!O1424","v":"धोबी"},"धोबी",{"$f":"DICTIONARY!P1424","v":"OCCUPATIONS AND PROFESSION (व्यवसाय और पेशा )"},"धोबी","धोबी"]
[null,null,null,null,null,null,null,null,null,{"$f":"IF(K1401=\" \",\" \",ROWS($K$5:K1401))","v":1397},{"$f":"DICTIONARY!M1425","v":"Watchmen"},{"$f":"DICTIONARY!O1425","v":"चोकीदार"},"चोकीदार",{"$f":"DICTIONARY!P1425","v":"OCCUPATIONS AND PROFESSION (व्यवसाय और पेशा )"},"चोकीदार","चोकीदार"]
[null,null,null,null,null,null,null,null,null,{"$f":"IF(K1402=\" \",\" \",ROWS($K$5:K1402))","v":1398},{"$f":"DICTIONARY!M1426","v":"Writer"},{"$f":"DICTIONARY!O1426","v":"लेखक"},"लेखक",{"$f":"DICTIONARY!P1426","v":"OCCUPATIONS AND PROFESSION (व्यवसाय और पेशा )"},"लेखक","लेखक"]
[null,null,null,null,null,null,null,null,null,{"$f":"IF(K1403=\" \",\" \",ROWS($K$5:K1403))","v":1399},{"$f":"DICTIONARY!M1427","v":"Bull"},{"$f":"DICTIONARY!O1427","v":"सांड"},"सांड",{"$f":"DICTIONARY!P1427","v":"ANIMALS ( पशु )"},"सांड","सांड"]
[null,null,null,null,null,null,null,null,null,{"$f":"IF(K1404=\" \",\" \",ROWS($K$5:K1404))","v":1400},{"$f":"DICTIONARY!M1428","v":"Bitch"},{"$f":"DICTIONARY!O1428","v":"कुतिया"},"कुतिया",{"$f":"DICTIONARY!P1428","v":"ANIMALS ( पशु )"},"कुतिया","कुतिया"]
[null,null,null,null,null,null,null,null,null,{"$f":"IF(K1405=\" \",\" \",ROWS($K$5:K1405))","v":1401},{"$f":"DICTIONARY!M1429","v":"Leopard"},{"$f":"DICTIONARY!O1429","v":"तेंदुवा"},"तेंदुवा",{"$f":"DICTIONARY!P1429","v":"ANIMALS ( पशु )"},"तेंदुवा","तेंदुवा"]
[null,null,null,null,null,null,null,null,null,{"$f":"IF(K1406=\" \",\" \",ROWS($K$5:K1406))","v":1402},{"$f":"DICTIONARY!M1430","v":"Spotted"},{"$f":"DICTIONARY!O1430","v":"देखा या पाया"},"देखा या पाया",{"$f":"DICTIONARY!P1430","v":0},"देखा या पाया","देखा या पाया"]
[null,null,null,null,null,null,null,null,null,{"$f":"IF(K1407=\" \",\" \",ROWS($K$5:K1407))","v":1403},{"$f":"DICTIONARY!M1431","v":"Junk Shop"},{"$f":"DICTIONARY!O1431","v":"कबाड़ी की दुकान"},"कबाड़ी की दुकान",{"$f":"DICTIONARY!P1431","v":"OCCUPATIONS AND PROFESSION (व्यवसाय और पेशा )"},"कबाड़ी की दुकान","कबाड़ी की दुकान"]
[null,null,null,null,null,null,null,null,null,{"$f":"IF(K1408=\" \",\" \",ROWS($K$5:K1408))","v":1404},{"$f":"DICTIONARY!M1432","v":"Money Bill"},{"$f":"DICTIONARY!O1432","v":"धन विधेयक"},"धन विधेयक",{"$f":"DICTIONARY!P1432","v":0},"धन विधेयक","धन विधेयक"]
[null,null,null,null,null,null,null,null,null,{"$f":"IF(K1409=\" \",\" \",ROWS($K$5:K1409))","v":1405},{"$f":"DICTIONARY!M1433","v":"Cheap"},{"$f":"DICTIONARY!O1433","v":"सस्ती"},"सस्ती",{"$f":"DICTIONARY!P1433","v":0},"सस्ती","सस्ती"]
[null,null,null,null,null,null,null,null,null,{"$f":"IF(K1410=\" \",\" \",ROWS($K$5:K1410))","v":1406},{"$f":"DICTIONARY!M1434","v":"Expensive"},{"$f":"DICTIONARY!O1434","v":"महंगा"},"महंगा",{"$f":"DICTIONARY!P1434","v":0},"महंगा","महंगा"]
[null,null,null,null,null,null,null,null,null,{"$f":"IF(K1411=\" \",\" \",ROWS($K$5:K1411))","v":1407},{"$f":"DICTIONARY!M1435","v":"Oak"},{"$f":"DICTIONARY!O1435","v":"सह बलूत वृक्ष"},"सह बलूत वृक्ष",{"$f":"DICTIONARY!P1435","v":0},"सह बलूत वृक्ष","सह बलूत वृक्ष"]
[null,null,null,null,null,null,null,null,null,{"$f":"IF(K1412=\" \",\" \",ROWS($K$5:K1412))","v":1408},{"$f":"DICTIONARY!M1436","v":"Roll-Top"},{"$f":"DICTIONARY!O1436","v":"लपेट सतह"},"लपेट सतह",{"$f":"DICTIONARY!P1436","v":0},"लपेट सतह","लपेट सतह"]
[null,null,null,null,null,null,null,null,null,{"$f":"IF(K1413=\" \",\" \",ROWS($K$5:K1413))","v":1409},{"$f":"DICTIONARY!M1437","v":"Roll-Top Desk"},{"$f":"DICTIONARY!O1437","v":"लपेट सतह वाली मेज"},"लपेट सतह वाली मेज",{"$f":"DICTIONARY!P1437","v":0},{"$f":"M1413","v":"लपेट सतह वाली मेज"},{"$f":"L1413","v":"लपेट सतह वाली मेज"}]
[null,null,null,null,null,null,null,null,null,{"$f":"IF(K1414=\" \",\" \",ROWS($K$5:K1414))","v":1410},{"$f":"DICTIONARY!M1438","v":"Several"},{"$f":"DICTIONARY!O1438","v":"कहीं"},{"$f":"L1414","v":"कहीं"},{"$f":"DICTIONARY!P1438","v":0},"कहीं","कहीं"]
[null,null,null,null,null,null,null,null,null,{"$f":"IF(K1415=\" \",\" \",ROWS($K$5:K1415))","v":1411},{"$f":"DICTIONARY!M1439","v":"Obligation"},{"$f":"DICTIONARY!O1439","v":"आभार"},"आभार",{"$f":"DICTIONARY!P1439","v":0},"आभार","आभार"]
[null,null,null,null,null,null,null,null,null,{"$f":"IF(K1416=\" \",\" \",ROWS($K$5:K1416))","v":1412},{"$f":"DICTIONARY!M1440","v":"Clumsily"},{"$f":"DICTIONARY!O1440","v":"भद्दे तरीके से"},"भद्दे तरीके से",{"$f":"DICTIONARY!P1440","v":0},"भद्दे तरीके से","भद्दे तरीके से"]
[null,null,null,null,null,null,null,null,null,{"$f":"IF(K1417=\" \",\" \",ROWS($K$5:K1417))","v":1413},{"$f":"DICTIONARY!M1441","v":"Mended"},{"$f":"DICTIONARY!O1441","v":"मरम्मत की"},"मरम्मत की",{"$f":"DICTIONARY!P1441","v":0},"मरम्मत की","मरम्मत की"]
[null,null,null,null,null,null,null,null,null,{"$f":"IF(K1418=\" \",\" \",ROWS($K$5:K1418))","v":1414},{"$f":"DICTIONARY!M1442","v":"Opinion"},{"$f":"DICTIONARY!O1442","v":"अभिप्राय राय"},"अभिप्राय राय",{"$f":"DICTIONARY!P1442","v":0},"अभिप्राय राय","अभिप्राय राय"]
[null,null,null,null,null,null,null,null,null,{"$f":"IF(K1419=\" \",\" \",ROWS($K$5:K1419))","v":1415},{"$f":"DICTIONARY!M1443","v":"Newspaper"},{"$f":"DICTIONARY!O1443","v":"समाचार पत्र"},"समाचार पत्र",{"$f":"DICTIONARY!P1443","v":0},"समाचार पत्र","समाचार पत्र"]
[null,null,null,null,null,null,null,null,null,{"$f":"IF(K1420=\" \",\" \",ROWS($K$5:K1420))","v":1416},{"$f":"DICTIONARY!M1444","v":"Restore"},{"$f":"DICTIONARY!O1444","v":"पुनः लाना"},"पुनः लाना",{"$f":"DICTIONARY!P1444","v":0},"पुनः लाना","पुनः लाना"]
[null,null,null,null,null,null,null,null,null,{"$f":"IF(K1421=\" \",\" \",ROWS($K$5:K1421))","v":1417},{"$f":"DICTIONARY!M1445","v":"Risk"},{"$f":"DICTIONARY!O1445","v":"जोखिम भरा"},"जोखिम भरा",{"$f":"DICTIONARY!P1445","v":0},"जोखिम भरा","जोखिम भरा"]
[null,null,null,null,null,null,null,null,null,{"$f":"IF(K1422=\" \",\" \",ROWS($K$5:K1422))","v":1418},{"$f":"DICTIONARY!M1446","v":"Challenge"},{"$f":"DICTIONARY!O1446","v":"चुनोती"},"चुनोती",{"$f":"DICTIONARY!P1446","v":0},"चुनोती","चुनोती"]
[null,null,null,null,null,null,null,null,null,{"$f":"IF(K1423=\" \",\" \",ROWS($K$5:K1423))","v":1419},{"$f":"DICTIONARY!M1447","v":"Nomination"},{"$f":"DICTIONARY!O1447","v":"नाम निर्देशन"},"नाम निर्देशन",{"$f":"DICTIONARY!P1447","v":0},"नाम निर्देशन","नाम निर्देशन"]
[null,null,null,null,null,null,null,null,null,{"$f":"IF(K1424=\" \",\" \",ROWS($K$5:K1424))","v":1420},{"$f":"DICTIONARY!M1448","v":"Workroom"},{"$f":"DICTIONARY!O1448","v":"कार्य कक्ष"},"कार्य कक्ष",{"$f":"DICTIONARY!P1448","v":0},"कार्य कक्ष","कार्य कक्ष"]
[null,null,null,null,null,null,null,null,null,{"$f":"IF(K1425=\" \",\" \",ROWS($K$5:K1425))","v":1421},{"$f":"DICTIONARY!M1449","v":"Garage"},{"$f":"DICTIONARY!O1449","v":"वाहन कक्ष"},"वाहन कक्ष",{"$f":"DICTIONARY!P1449","v":0},"वाहन कक्ष","वाहन कक्ष"]
[null,null,null,null,null,null,null,null,null,{"$f":"IF(K1426=\" \",\" \",ROWS($K$5:K1426))","v":1422},{"$f":"DICTIONARY!M1450","v":"Remove"},{"$f":"DICTIONARY!O1450","v":"हटाना"},"हटाना",{"$f":"DICTIONARY!P1450","v":0},"हटाना","हटाना"]
[null,null,null,null,null,null,null,null,null,{"$f":"IF(K1427=\" \",\" \",ROWS($K$5:K1427))","v":1423},{"$f":"DICTIONARY!M1451","v":"Completely"},{"$f":"DICTIONARY!O1451","v":"पूरी तरह से"},"पूरी तरह से",{"$f":"DICTIONARY!P1451","v":0},"पूरी तरह से","पूरी तरह से"]
[null,null,null,null,null,null,null,null,null,{"$f":"IF(K1428=\" \",\" \",ROWS($K$5:K1428))","v":1424},{"$f":"DICTIONARY!M1452","v":"Naval"},{"$f":"DICTIONARY!O1452","v":"नौसेना"},"नौसेना",{"$f":"DICTIONARY!P1452","v":0},"नौसेना","नौसेना"]
[null,null,null,null,null,null,null,null,null,{"$f":"IF(K1429=\" \",\" \",ROWS($K$5:K1429))","v":1425},{"$f":"DICTIONARY!M1453","v":"Notification"},{"$f":"DICTIONARY!O1453","v":"अधिसूचना"},"अधिसूचना",{"$f":"DICTIONARY!P1453","v":0},"अधिसूचना","अधिसूचना"]
[null,null,null,null,null,null,null,null,null,{"$f":"IF(K1430=\" \",\" \",ROWS($K$5:K1430))","v":1426},{"$f":"DICTIONARY!M1454","v":"Organization"},{"$f":"DICTIONARY!O1454","v":"संगटन"},"संगटन",{"$f":"DICTIONARY!P1454","v":0},"संगटन","संगटन"]
[null,null,null,null,null,null,null,null,null,{"$f":"IF(K1431=\" \",\" \",ROWS($K$5:K1431))","v":1427},{"$f":"DICTIONARY!M1455","v":"Parliament"},{"$f":"DICTIONARY!O1455","v":"संसद"},"संसद",{"$f":"DICTIONARY!P1455","v":0},"संसद","संसद"]
[null,null,null,null,null,null,null,null,null,{"$f":"IF(K1432=\" \",\" \",ROWS($K$5:K1432))","v":1428},{"$f":"DICTIONARY!M1456","v":"Partership"},{"$f":"DICTIONARY!O1456","v":"भागिता"},"भागिता",{"$f":"DICTIONARY!P1456","v":0},"भागिता","भागिता"]
[null,null,null,null,null,null,null,null,null,{"$f":"IF(K1433=\" \",\" \",ROWS($K$5:K1433))","v":1429},{"$f":"DICTIONARY!M1457","v":"Passport"},{"$f":"DICTIONARY!O1457","v":"पारपत्र"},"पारपत्र",{"$f":"DICTIONARY!P1457","v":0},"पारपत्र","पारपत्र"]
[null,null,null,null,null,null,null,null,null,{"$f":"IF(K1434=\" \",\" \",ROWS($K$5:K1434))","v":1430},{"$f":"DICTIONARY!M1458","v":"Pension"},{"$f":"DICTIONARY!O1458","v":"निवृत वेतन"},"निवृत वेतन",{"$f":"DICTIONARY!P1458","v":0},"निवृत वेतन","निवृत वेतन"]
[null,null,null,null,null,null,null,null,null,{"$f":"IF(K1435=\" \",\" \",ROWS($K$5:K1435))","v":1431},{"$f":"DICTIONARY!M1459","v":"Penalty"},{"$f":"DICTIONARY!O1459","v":"दंड"},"दंड",{"$f":"DICTIONARY!P1459","v":0},"दंड","दंड"]
[null,null,null,null,null,null,null,null,null,{"$f":"IF(K1436=\" \",\" \",ROWS($K$5:K1436))","v":1432},{"$f":"DICTIONARY!M1460","v":"Pending"},{"$f":"DICTIONARY!O1460","v":"लंबित"},"लंबित",{"$f":"DICTIONARY!P1460","v":0},"लंबित","लंबित"]
[null,null,null,null,null,null,null,null,null,{"$f":"IF(K1437=\" \",\" \",ROWS($K$5:K1437))","v":1433},{"$f":"DICTIONARY!M1461","v":"Preamble"},{"$f":"DICTIONARY!O1461","v":"प्रस्तावना"},"प्रस्तावना",{"$f":"DICTIONARY!P1461","v":0},"प्रस्तावना","प्रस्तावना"]
[null,null,null,null,null,null,null,null,null,{"$f":"IF(K1438=\" \",\" \",ROWS($K$5:K1438))","v":1434},{"$f":"DICTIONARY!M1462","v":"Privileges"},{"$f":"DICTIONARY!O1462","v":"विशेषाधिकार"},"विशेषाधिकार",{"$f":"DICTIONARY!P1462","v":0},"विशेषाधिकार","विशेषाधिकार"]
[null,null,null,null,null,null,null,null,null,{"$f":"IF(K1439=\" \",\" \",ROWS($K$5:K1439))","v":1435},{"$f":"DICTIONARY!M1463","v":"Black Board"},{"$f":"DICTIONARY!O1463","v":"श्यामपट"},"श्यामपट",{"$f":"DICTIONARY!P1463","v":"SCHOOL RELATIVE  ( विद्यालय सम्बन्धी  )"},"श्यामपट","श्यामपट"]
[null,null,null,null,null,null,null,null,null,{"$f":"IF(K1440=\" \",\" \",ROWS($K$5:K1440))","v":1436},{"$f":"DICTIONARY!M1464","v":"Process"},{"$f":"DICTIONARY!O1464","v":"विधान"},"विधान",{"$f":"DICTIONARY!P1464","v":0},"विधान","विधान"]
[null,null,null,null,null,null,null,null,null,{"$f":"IF(K1441=\" \",\" \",ROWS($K$5:K1441))","v":1437},{"$f":"DICTIONARY!M1465","v":"Proclamation"},{"$f":"DICTIONARY!O1465","v":"घोषणा"},"घोषणा",{"$f":"DICTIONARY!P1465","v":0},"घोषणा","घोषणा"]
[null,null,null,null,null,null,null,null,null,{"$f":"IF(K1442=\" \",\" \",ROWS($K$5:K1442))","v":1438},{"$f":"DICTIONARY!M1466","v":"Prohibited"},{"$f":"DICTIONARY!O1466","v":"मनाही"},"मनाही",{"$f":"DICTIONARY!P1466","v":0},"मनाही","मनाही"]
[null,null,null,null,null,null,null,null,null,{"$f":"IF(K1443=\" \",\" \",ROWS($K$5:K1443))","v":1439},{"$f":"DICTIONARY!M1467","v":"Prohibition"},{"$f":"DICTIONARY!O1467","v":"निषेध"},"निषेध",{"$f":"DICTIONARY!P1467","v":0},"निषेध","निषेध"]
[null,null,null,null,null,null,null,null,null,{"$f":"IF(K1444=\" \",\" \",ROWS($K$5:K1444))","v":1440},{"$f":"DICTIONARY!M1468","v":"Proposal"},{"$f":"DICTIONARY!O1468","v":"प्रस्ताव"},"प्रस्ताव",{"$f":"DICTIONARY!P1468","v":0},"प्रस्ताव","प्रस्ताव"]
[null,null,null,null,null,null,null,null,null,{"$f":"IF(K1445=\" \",\" \",ROWS($K$5:K1445))","v":1441},{"$f":"DICTIONARY!M1469","v":"Publication"},{"$f":"DICTIONARY!O1469","v":"प्रकाशन"},"प्रकाशन",{"$f":"DICTIONARY!P1469","v":0},"प्रकाशन","प्रकाशन"]
[null,null,null,null,null,null,null,null,null,{"$f":"IF(K1446=\" \",\" \",ROWS($K$5:K1446))","v":1442},{"$f":"DICTIONARY!M1470","v":"Qualification"},{"$f":"DICTIONARY!O1470","v":"योग्यता"},"योग्यता",{"$f":"DICTIONARY!P1470","v":"SCHOOL RELATIVE  ( विद्यालय सम्बन्धी  )"},"योग्यता","योग्यता"]
[null,null,null,null,null,null,null,null,null,{"$f":"IF(K1447=\" \",\" \",ROWS($K$5:K1447))","v":1443},{"$f":"DICTIONARY!M1471","v":"Quarantine"},{"$f":"DICTIONARY!O1471","v":"निरोधा"},"निरोधा",{"$f":"DICTIONARY!P1471","v":0},"निरोधा","निरोधा"]
[null,null,null,null,null,null,null,null,null,{"$f":"IF(K1448=\" \",\" \",ROWS($K$5:K1448))","v":1444},{"$f":"DICTIONARY!M1472","v":"Recruitment"},{"$f":"DICTIONARY!O1472","v":"भर्ती"},"भर्ती",{"$f":"DICTIONARY!P1472","v":0},"भर्ती","भर्ती"]
[null,null,null,null,null,null,null,null,null,{"$f":"IF(K1449=\" \",\" \",ROWS($K$5:K1449))","v":1445},{"$f":"DICTIONARY!M1473","v":"Head Master"},{"$f":"DICTIONARY!O1473","v":"प्रधानाध्यापक"},"प्रधानाध्यापक",{"$f":"DICTIONARY!P1473","v":"SCHOOL RELATIVE  ( विद्यालय सम्बन्धी  )"},"प्रधानाध्यापक","प्रधानाध्यापक"]
[null,null,null,null,null,null,null,null,null,{"$f":"IF(K1450=\" \",\" \",ROWS($K$5:K1450))","v":1446},{"$f":"DICTIONARY!M1474","v":"Region"},{"$f":"DICTIONARY!O1474","v":"क्षेत्र"},"क्षेत्र",{"$f":"DICTIONARY!P1474","v":0},"क्षेत्र","क्षेत्र"]
[null,null,null,null,null,null,null,null,null,{"$f":"IF(K1451=\" \",\" \",ROWS($K$5:K1451))","v":1447},{"$f":"DICTIONARY!M1475","v":"Chapter"},{"$f":"DICTIONARY!O1475","v":"अध्याय"},"अध्याय",{"$f":"DICTIONARY!P1475","v":"SCHOOL RELATIVE  ( विद्यालय सम्बन्धी  )"},"अध्याय","अध्याय"]
[null,null,null,null,null,null,null,null,null,{"$f":"IF(K1452=\" \",\" \",ROWS($K$5:K1452))","v":1448},{"$f":"DICTIONARY!M1476","v":"Vacancy"},{"$f":"DICTIONARY!O1476","v":"रिक्ति"},"रिक्ति",{"$f":"DICTIONARY!P1476","v":"SCHOOL RELATIVE  ( विद्यालय सम्बन्धी  )"},"रिक्ति","रिक्ति"]
[null,null,null,null,null,null,null,null,null,{"$f":"IF(K1453=\" \",\" \",ROWS($K$5:K1453))","v":1449},{"$f":"DICTIONARY!M1477","v":"Validity"},{"$f":"DICTIONARY!O1477","v":"मान्यता"},"मान्यता",{"$f":"DICTIONARY!P1477","v":"SCHOOL RELATIVE  ( विद्यालय सम्बन्धी  )"},"मान्यता","मान्यता"]
[null,null,null,null,null,null,null,null,null,{"$f":"IF(K1454=\" \",\" \",ROWS($K$5:K1454))","v":1450},{"$f":"DICTIONARY!M1478","v":"Vocation"},{"$f":"DICTIONARY!O1478","v":"व्यवसाय"},"व्यवसाय",{"$f":"DICTIONARY!P1478","v":0},"व्यवसाय","व्यवसाय"]
[null,null,null,null,null,null,null,null,null,{"$f":"IF(K1455=\" \",\" \",ROWS($K$5:K1455))","v":1451},{"$f":"DICTIONARY!M1479","v":"Writ"},{"$f":"DICTIONARY!O1479","v":"लेख आदेश"},"लेख आदेश",{"$f":"DICTIONARY!P1479","v":0},"लेख आदेश","लेख आदेश"]
[null,null,null,null,null,null,null,null,null,{"$f":"IF(K1456=\" \",\" \",ROWS($K$5:K1456))","v":1452},{"$f":"DICTIONARY!M1480","v":"Warranty"},{"$f":"DICTIONARY!O1480","v":"मरम्मत की "},"मरम्मत की ",{"$f":"DICTIONARY!P1480","v":0},"मरम्मत की ","मरम्मत की "]
[null,null,null,null,null,null,null,null,null,{"$f":"IF(K1457=\" \",\" \",ROWS($K$5:K1457))","v":1453},{"$f":"DICTIONARY!M1481","v":"Wage"},{"$f":"DICTIONARY!O1481","v":"मजदूरी"},"मजदूरी",{"$f":"DICTIONARY!P1481","v":0},"मजदूरी","मजदूरी"]
[null,null,null,null,null,null,null,null,null,{"$f":"IF(K1458=\" \",\" \",ROWS($K$5:K1458))","v":1454},{"$f":"DICTIONARY!M1482","v":"Violation"},{"$f":"DICTIONARY!O1482","v":"अतिक्रमण"},"अतिक्रमण",{"$f":"DICTIONARY!P1482","v":0},"अतिक्रमण","अतिक्रमण"]
[null,null,null,null,null,null,null,null,null,{"$f":"IF(K1459=\" \",\" \",ROWS($K$5:K1459))","v":1455},{"$f":"DICTIONARY!M1483","v":"Voter"},{"$f":"DICTIONARY!O1483","v":"मतदाता"},"मतदाता",{"$f":"DICTIONARY!P1483","v":0},"मतदाता","मतदाता"]
[null,null,null,null,null,null,null,null,null,{"$f":"IF(K1460=\" \",\" \",ROWS($K$5:K1460))","v":1456},{"$f":"DICTIONARY!M1484","v":"Unity"},{"$f":"DICTIONARY!O1484","v":"एकता"},"एकता",{"$f":"DICTIONARY!P1484","v":0},"एकता","एकता"]
[null,null,null,null,null,null,null,null,null,{"$f":"IF(K1461=\" \",\" \",ROWS($K$5:K1461))","v":1457},{"$f":"DICTIONARY!M1485","v":"Union"},{"$f":"DICTIONARY!O1485","v":"संघ"},"संघ",{"$f":"DICTIONARY!P1485","v":0},"संघ","संघ"]
[null,null,null,null,null,null,null,null,null,{"$f":"IF(K1462=\" \",\" \",ROWS($K$5:K1462))","v":1458},{"$f":"DICTIONARY!M1486","v":" Tax"},{"$f":"DICTIONARY!O1486","v":"कर"},"कर",{"$f":"DICTIONARY!P1486","v":0},"कर","कर"]
[null,null,null,null,null,null,null,null,null,{"$f":"IF(K1463=\" \",\" \",ROWS($K$5:K1463))","v":1459},{"$f":"DICTIONARY!M1487","v":"Session"},{"$f":"DICTIONARY!O1487","v":"सत्र"},"सत्र",{"$f":"DICTIONARY!P1487","v":0},"सत्र","सत्र"]
[null,null,null,null,null,null,null,null,null,{"$f":"IF(K1464=\" \",\" \",ROWS($K$5:K1464))","v":1460},{"$f":"DICTIONARY!M1488","v":"Service Charge"},{"$f":"DICTIONARY!O1488","v":"सेवाभार"},"सेवाभार",{"$f":"DICTIONARY!P1488","v":0},"सेवाभार","सेवाभार"]
[null,null,null,null,null,null,null,null,null,{"$f":"IF(K1465=\" \",\" \",ROWS($K$5:K1465))","v":1461},{"$f":"DICTIONARY!M1489","v":"Magazine"},{"$f":"DICTIONARY!O1489","v":"पत्रिका"},"पत्रिका",{"$f":"DICTIONARY!P1489","v":"SCHOOL RELATIVE  ( विद्यालय सम्बन्धी  )"},"पत्रिका","पत्रिका"]
[null,null,null,null,null,null,null,null,null,{"$f":"IF(K1466=\" \",\" \",ROWS($K$5:K1466))","v":1462},{"$f":"DICTIONARY!M1490","v":"Relevant"},{"$f":"DICTIONARY!O1490","v":"सुसंगत"},"सुसंगत",{"$f":"DICTIONARY!P1490","v":0},"सुसंगत","सुसंगत"]
[null,null,null,null,null,null,null,null,null,{"$f":"IF(K1467=\" \",\" \",ROWS($K$5:K1467))","v":1463},{"$f":"DICTIONARY!M1491","v":"Transition"},{"$f":"DICTIONARY!O1491","v":"सक्रमण"},"सक्रमण",{"$f":"DICTIONARY!P1491","v":0},"सक्रमण","सक्रमण"]
[null,null,null,null,null,null,null,null,null,{"$f":"IF(K1468=\" \",\" \",ROWS($K$5:K1468))","v":1464},{"$f":"DICTIONARY!M1492","v":"Tribe"},{"$f":"DICTIONARY!O1492","v":"जनजाति"},"जनजाति",{"$f":"DICTIONARY!P1492","v":0},"जनजाति","जनजाति"]
[null,null,null,null,null,null,null,null,null,{"$f":"IF(K1469=\" \",\" \",ROWS($K$5:K1469))","v":1465},{"$f":"DICTIONARY!M1493","v":"Training"},{"$f":"DICTIONARY!O1493","v":"प्रक्षिशन"},"प्रक्षिशन",{"$f":"DICTIONARY!P1493","v":0},"प्रक्षिशन","प्रक्षिशन"]
[null,null,null,null,null,null,null,null,null,{"$f":"IF(K1470=\" \",\" \",ROWS($K$5:K1470))","v":1466},{"$f":"DICTIONARY!M1494","v":"Butterfly"},{"$f":"DICTIONARY!O1494","v":"तितली"},"तितली",{"$f":"DICTIONARY!P1494","v":"WORMS AND INSECTS ( कीट पतंगे )"},"तितली","तितली"]
[null,null,null,null,null,null,null,null,null,{"$f":"IF(K1471=\" \",\" \",ROWS($K$5:K1471))","v":1467},{"$f":"DICTIONARY!M1495","v":"Bee"},{"$f":"DICTIONARY!O1495","v":"मधुमक्खी"},"मधुमक्खी",{"$f":"DICTIONARY!P1495","v":"WORMS AND INSECTS ( कीट पतंगे )"},"मधुमक्खी","मधुमक्खी"]
[null,null,null,null,null,null,null,null,null,{"$f":"IF(K1472=\" \",\" \",ROWS($K$5:K1472))","v":1468},{"$f":"DICTIONARY!M1496","v":"Sale"},{"$f":"DICTIONARY!O1496","v":"विक्रय"},"विक्रय",{"$f":"DICTIONARY!P1496","v":0},"विक्रय","विक्रय"]
[null,null,null,null,null,null,null,null,null,{"$f":"IF(K1473=\" \",\" \",ROWS($K$5:K1473))","v":1469},{"$f":"DICTIONARY!M1497","v":"Fire Fly"},{"$f":"DICTIONARY!O1497","v":"जुगनू"},"जुगनू",{"$f":"DICTIONARY!P1497","v":"WORMS AND INSECTS ( कीट पतंगे )"},"जुगनू","जुगनू"]
[null,null,null,null,null,null,null,null,null,{"$f":"IF(K1474=\" \",\" \",ROWS($K$5:K1474))","v":1470},{"$f":"DICTIONARY!M1498","v":"Insect"},{"$f":"DICTIONARY!O1498","v":"कीड़ा"},"कीड़ा",{"$f":"DICTIONARY!P1498","v":"WORMS AND INSECTS ( कीट पतंगे )"},"कीड़ा","कीड़ा"]
[null,null,null,null,null,null,null,null,null,{"$f":"IF(K1475=\" \",\" \",ROWS($K$5:K1475))","v":1471},{"$f":"DICTIONARY!M1499","v":"Wasp"},{"$f":"DICTIONARY!O1499","v":"बर्रे"},"बर्रे",{"$f":"DICTIONARY!P1499","v":"WORMS AND INSECTS ( कीट पतंगे )"},"बर्रे","बर्रे"]
[null,null,null,null,null,null,null,null,null,{"$f":"IF(K1476=\" \",\" \",ROWS($K$5:K1476))","v":1472},{"$f":"DICTIONARY!M1500","v":"Ant"},{"$f":"DICTIONARY!O1500","v":"चींटी"},"चींटी",{"$f":"DICTIONARY!P1500","v":"WORMS AND INSECTS ( कीट पतंगे )"},"चींटी","चींटी"]
[null,null,null,null,null,null,null,null,null,{"$f":"IF(K1477=\" \",\" \",ROWS($K$5:K1477))","v":1473},{"$f":"DICTIONARY!M1501","v":"Hornet"},{"$f":"DICTIONARY!O1501","v":"भँवरा"},"भँवरा",{"$f":"DICTIONARY!P1501","v":"WORMS AND INSECTS ( कीट पतंगे )"},{"$f":"M1477","v":"भँवरा"},{"$f":"L1477","v":"भँवरा"}]
[null,null,null,null,null,null,null,null,null,{"$f":"IF(K1478=\" \",\" \",ROWS($K$5:K1478))","v":1474},{"$f":"DICTIONARY!M1502","v":"Locust"},{"$f":"DICTIONARY!O1502","v":"टिड्डा"},{"$f":"L1478","v":"टिड्डा"},{"$f":"DICTIONARY!P1502","v":"WORMS AND INSECTS ( कीट पतंगे )"},"टिड्डा","टिड्डा"]
[null,null,null,null,null,null,null,null,null,{"$f":"IF(K1479=\" \",\" \",ROWS($K$5:K1479))","v":1475},{"$f":"DICTIONARY!M1503","v":"Bug"},{"$f":"DICTIONARY!O1503","v":"खटमल"},"खटमल",{"$f":"DICTIONARY!P1503","v":"WORMS AND INSECTS ( कीट पतंगे )"},"खटमल","खटमल"]
[null,null,null,null,null,null,null,null,null,{"$f":"IF(K1480=\" \",\" \",ROWS($K$5:K1480))","v":1476},{"$f":"DICTIONARY!M1504","v":"Spider"},{"$f":"DICTIONARY!O1504","v":"मकड़ी"},"मकड़ी",{"$f":"DICTIONARY!P1504","v":"WORMS AND INSECTS ( कीट पतंगे )"},"मकड़ी","मकड़ी"]
[null,null,null,null,null,null,null,null,null,{"$f":"IF(K1481=\" \",\" \",ROWS($K$5:K1481))","v":1477},{"$f":"DICTIONARY!M1505","v":"Leech"},{"$f":"DICTIONARY!O1505","v":"जोंक"},"जोंक",{"$f":"DICTIONARY!P1505","v":"WORMS AND INSECTS ( कीट पतंगे )"},"जोंक","जोंक"]
[null,null,null,null,null,null,null,null,null,{"$f":"IF(K1482=\" \",\" \",ROWS($K$5:K1482))","v":1478},{"$f":"DICTIONARY!M1506","v":"Black Bee"},{"$f":"DICTIONARY!O1506","v":"भोंरा"},"भोंरा",{"$f":"DICTIONARY!P1506","v":"WORMS AND INSECTS ( कीट पतंगे )"},"भोंरा","भोंरा"]
[null,null,null,null,null,null,null,null,null,{"$f":"IF(K1483=\" \",\" \",ROWS($K$5:K1483))","v":1479},{"$f":"DICTIONARY!M1507","v":"Louse"},{"$f":"DICTIONARY!O1507","v":"जू"},"जू",{"$f":"DICTIONARY!P1507","v":"WORMS AND INSECTS ( कीट पतंगे )"},"जू","जू"]
[null,null,null,null,null,null,null,null,null,{"$f":"IF(K1484=\" \",\" \",ROWS($K$5:K1484))","v":1480},{"$f":"DICTIONARY!M1508","v":"Oyester"},{"$f":"DICTIONARY!O1508","v":"सीप"},"सीप",{"$f":"DICTIONARY!P1508","v":"WORMS AND INSECTS ( कीट पतंगे )"},"सीप","सीप"]
[null,null,null,null,null,null,null,null,null,{"$f":"IF(K1485=\" \",\" \",ROWS($K$5:K1485))","v":1481},{"$f":"DICTIONARY!M1509","v":"Review"},{"$f":"DICTIONARY!O1509","v":"पुनरावलोकन"},"पुनरावलोकन",{"$f":"DICTIONARY!P1509","v":0},"पुनरावलोकन","पुनरावलोकन"]
[null,null,null,null,null,null,null,null,null,{"$f":"IF(K1486=\" \",\" \",ROWS($K$5:K1486))","v":1482},{"$f":"DICTIONARY!M1510","v":"Earth Worm"},{"$f":"DICTIONARY!O1510","v":"केचुआ"},"केचुआ",{"$f":"DICTIONARY!P1510","v":"WORMS AND INSECTS ( कीट पतंगे )"},"केचुआ","केचुआ"]
[null,null,null,null,null,null,null,null,null,{"$f":"IF(K1487=\" \",\" \",ROWS($K$5:K1487))","v":1483},{"$f":"DICTIONARY!M1511","v":"Conch"},{"$f":"DICTIONARY!O1511","v":"शंख"},"शंख",{"$f":"DICTIONARY!P1511","v":"WORMS AND INSECTS ( कीट पतंगे )"},"शंख","शंख"]
[null,null,null,null,null,null,null,null,null,{"$f":"IF(K1488=\" \",\" \",ROWS($K$5:K1488))","v":1484},{"$f":"DICTIONARY!M1512","v":"Snail"},{"$f":"DICTIONARY!O1512","v":"घोंघा"},"घोंघा",{"$f":"DICTIONARY!P1512","v":"WORMS AND INSECTS ( कीट पतंगे )"},"घोंघा","घोंघा"]
[null,null,null,null,null,null,null,null,null,{"$f":"IF(K1489=\" \",\" \",ROWS($K$5:K1489))","v":1485},{"$f":"DICTIONARY!M1513","v":"Silk Worm"},{"$f":"DICTIONARY!O1513","v":"रेशम कीट"},"रेशम कीट",{"$f":"DICTIONARY!P1513","v":"WORMS AND INSECTS ( कीट पतंगे )"},"रेशम कीट","रेशम कीट"]
[null,null,null,null,null,null,null,null,null,{"$f":"IF(K1490=\" \",\" \",ROWS($K$5:K1490))","v":1486},{"$f":"DICTIONARY!M1514","v":"Cockroach"},{"$f":"DICTIONARY!O1514","v":"तिलचट्टा"},"तिलचट्टा",{"$f":"DICTIONARY!P1514","v":"WORMS AND INSECTS ( कीट पतंगे )"},"तिलचट्टा","तिलचट्टा"]
[null,null,null,null,null,null,null,null,null,{"$f":"IF(K1491=\" \",\" \",ROWS($K$5:K1491))","v":1487},{"$f":"DICTIONARY!M1515","v":"Mosquito"},{"$f":"DICTIONARY!O1515","v":"मच्छर"},"मच्छर",{"$f":"DICTIONARY!P1515","v":"WORMS AND INSECTS ( कीट पतंगे )"},"मच्छर","मच्छर"]
[null,null,null,null,null,null,null,null,null,{"$f":"IF(K1492=\" \",\" \",ROWS($K$5:K1492))","v":1488},{"$f":"DICTIONARY!M1516","v":"Gnat"},{"$f":"DICTIONARY!O1516","v":"मच्छर"},"मच्छर",{"$f":"DICTIONARY!P1516","v":"WORMS AND INSECTS ( कीट पतंगे )"},"मच्छर","मच्छर"]
[null,null,null,null,null,null,null,null,null,{"$f":"IF(K1493=\" \",\" \",ROWS($K$5:K1493))","v":1489},{"$f":"DICTIONARY!M1517","v":"Restrication"},{"$f":"DICTIONARY!O1517","v":"निर्बन्धन"},"निर्बन्धन",{"$f":"DICTIONARY!P1517","v":0},"निर्बन्धन","निर्बन्धन"]
[null,null,null,null,null,null,null,null,null,{"$f":"IF(K1494=\" \",\" \",ROWS($K$5:K1494))","v":1490},{"$f":"DICTIONARY!M1518","v":"Beetle"},{"$f":"DICTIONARY!O1518","v":"गुबरैला"},"गुबरैला",{"$f":"DICTIONARY!P1518","v":"WORMS AND INSECTS ( कीट पतंगे )"},"गुबरैला","गुबरैला"]
[null,null,null,null,null,null,null,null,null,{"$f":"IF(K1495=\" \",\" \",ROWS($K$5:K1495))","v":1491},{"$f":"DICTIONARY!M1519","v":"White Ant"},{"$f":"DICTIONARY!O1519","v":"दीमक"},"दीमक",{"$f":"DICTIONARY!P1519","v":"WORMS AND INSECTS ( कीट पतंगे )"},"दीमक","दीमक"]
[null,null,null,null,null,null,null,null,null,{"$f":"IF(K1496=\" \",\" \",ROWS($K$5:K1496))","v":1492},{"$f":"DICTIONARY!M1520","v":"Grass Hopper"},{"$f":"DICTIONARY!O1520","v":"पतंगा"},"पतंगा",{"$f":"DICTIONARY!P1520","v":"WORMS AND INSECTS ( कीट पतंगे )"},"पतंगा","पतंगा"]
[null,null,null,null,null,null,null,null,null,{"$f":"IF(K1497=\" \",\" \",ROWS($K$5:K1497))","v":1493},{"$f":"DICTIONARY!M1521","v":"Lizard"},{"$f":"DICTIONARY!O1521","v":"छिपकली"},"छिपकली",{"$f":"DICTIONARY!P1521","v":"WORMS AND INSECTS ( कीट पतंगे )"},"छिपकली","छिपकली"]
[null,null,null,null,null,null,null,null,null,{"$f":"IF(K1498=\" \",\" \",ROWS($K$5:K1498))","v":1494},{"$f":"DICTIONARY!M1522","v":"Hive"},{"$f":"DICTIONARY!O1522","v":"शहद का छत्ता"},"शहद का छत्ता",{"$f":"DICTIONARY!P1522","v":"WORMS AND INSECTS ( कीट पतंगे )"},"शहद का छत्ता","शहद का छत्ता"]
[null,null,null,null,null,null,null,null,null,{"$f":"IF(K1499=\" \",\" \",ROWS($K$5:K1499))","v":1495},{"$f":"DICTIONARY!M1523","v":"Tax Export"},{"$f":"DICTIONARY!O1523","v":"निर्यात कर"},"निर्यात कर",{"$f":"DICTIONARY!P1523","v":0},"निर्यात कर","निर्यात कर"]
[null,null,null,null,null,null,null,null,null,{"$f":"IF(K1500=\" \",\" \",ROWS($K$5:K1500))","v":1496},{"$f":"DICTIONARY!M1524","v":"Tax Sales"},{"$f":"DICTIONARY!O1524","v":"विक्रय कर"},"विक्रय कर",{"$f":"DICTIONARY!P1524","v":0},"विक्रय कर","विक्रय कर"]
[null,null,null,null,null,null,null,null,null,{"$f":"IF(K1501=\" \",\" \",ROWS($K$5:K1501))","v":1497},{"$f":"DICTIONARY!M1525","v":"Milk"},{"$f":"DICTIONARY!O1525","v":"दूध"},"दूध",{"$f":"DICTIONARY!P1525","v":"food and drink ( खाद्य और पेय )"},"दूध","दूध"]
[null,null,null,null,null,null,null,null,null,{"$f":"IF(K1502=\" \",\" \",ROWS($K$5:K1502))","v":1498},{"$f":"DICTIONARY!M1526","v":"Buttermilk"},{"$f":"DICTIONARY!O1526","v":"छाछ"},"छाछ",{"$f":"DICTIONARY!P1526","v":"food and drink ( खाद्य और पेय )"},"छाछ","छाछ"]
[null,null,null,null,null,null,null,null,null,{"$f":"IF(K1503=\" \",\" \",ROWS($K$5:K1503))","v":1499},{"$f":"DICTIONARY!M1527","v":"Curd"},{"$f":"DICTIONARY!O1527","v":"दही"},"दही",{"$f":"DICTIONARY!P1527","v":"food and drink ( खाद्य और पेय )"},"दही","दही"]
[null,null,null,null,null,null,null,null,null,{"$f":"IF(K1504=\" \",\" \",ROWS($K$5:K1504))","v":1500},{"$f":"DICTIONARY!M1528","v":"Butter"},{"$f":"DICTIONARY!O1528","v":"मक्खन"},"मक्खन",{"$f":"DICTIONARY!P1528","v":"food and drink ( खाद्य और पेय )"},"मक्खन","मक्खन"]
[null,null,null,null,null,null,null,null,null,{"$f":"IF(K1505=\" \",\" \",ROWS($K$5:K1505))","v":1501},{"$f":"DICTIONARY!M1529","v":"Ghee"},{"$f":"DICTIONARY!O1529","v":"घी"},"घी",{"$f":"DICTIONARY!P1529","v":"food and drink ( खाद्य और पेय )"},"घी","घी"]
[null,null,null,null,null,null,null,null,null,{"$f":"IF(K1506=\" \",\" \",ROWS($K$5:K1506))","v":1502},{"$f":"DICTIONARY!M1530","v":"Cream"},{"$f":"DICTIONARY!O1530","v":"मलाई"},"मलाई",{"$f":"DICTIONARY!P1530","v":"food and drink ( खाद्य और पेय )"},"मलाई","मलाई"]
[null,null,null,null,null,null,null,null,null,{"$f":"IF(K1507=\" \",\" \",ROWS($K$5:K1507))","v":1503},{"$f":"DICTIONARY!M1531","v":"Bread"},{"$f":"DICTIONARY!O1531","v":"रोटी"},"रोटी",{"$f":"DICTIONARY!P1531","v":"food and drink ( खाद्य और पेय )"},"रोटी","रोटी"]
[null,null,null,null,null,null,null,null,null,{"$f":"IF(K1508=\" \",\" \",ROWS($K$5:K1508))","v":1504},{"$f":"DICTIONARY!M1532","v":"Pulses"},{"$f":"DICTIONARY!O1532","v":"दाल"},"दाल",{"$f":"DICTIONARY!P1532","v":"food and drink ( खाद्य और पेय )"},"दाल","दाल"]
[null,null,null,null,null,null,null,null,null,{"$f":"IF(K1509=\" \",\" \",ROWS($K$5:K1509))","v":1505},{"$f":"DICTIONARY!M1533","v":"Soup"},{"$f":"DICTIONARY!O1533","v":"रसा"},"रसा",{"$f":"DICTIONARY!P1533","v":"food and drink ( खाद्य और पेय )"},"रसा","रसा"]
[null,null,null,null,null,null,null,null,null,{"$f":"IF(K1510=\" \",\" \",ROWS($K$5:K1510))","v":1506},{"$f":"DICTIONARY!M1534","v":"Suffrage"},{"$f":"DICTIONARY!O1534","v":"मताधिकार"},"मताधिकार",{"$f":"DICTIONARY!P1534","v":0},"मताधिकार","मताधिकार"]
[null,null,null,null,null,null,null,null,null,{"$f":"IF(K1511=\" \",\" \",ROWS($K$5:K1511))","v":1507},{"$f":"DICTIONARY!M1535","v":"Curry"},{"$f":"DICTIONARY!O1535","v":"तरकारी"},"तरकारी",{"$f":"DICTIONARY!P1535","v":"food and drink ( खाद्य और पेय )"},"तरकारी","तरकारी"]
[null,null,null,null,null,null,null,null,null,{"$f":"IF(K1512=\" \",\" \",ROWS($K$5:K1512))","v":1508},{"$f":"DICTIONARY!M1536","v":"Beef"},{"$f":"DICTIONARY!O1536","v":"गोमांस"},"गोमांस",{"$f":"DICTIONARY!P1536","v":"food and drink ( खाद्य और पेय )"},"गोमांस","गोमांस"]
[null,null,null,null,null,null,null,null,null,{"$f":"IF(K1513=\" \",\" \",ROWS($K$5:K1513))","v":1509},{"$f":"DICTIONARY!M1537","v":"Mutton"},{"$f":"DICTIONARY!O1537","v":"भेड़ का मांस"},"भेड़ का मांस",{"$f":"DICTIONARY!P1537","v":"food and drink ( खाद्य और पेय )"},"भेड़ का मांस","भेड़ का मांस"]
[null,null,null,null,null,null,null,null,null,{"$f":"IF(K1514=\" \",\" \",ROWS($K$5:K1514))","v":1510},{"$f":"DICTIONARY!M1538","v":"Meat"},{"$f":"DICTIONARY!O1538","v":"मांस"},"मांस",{"$f":"DICTIONARY!P1538","v":"food and drink ( खाद्य और पेय )"},"मांस","मांस"]
[null,null,null,null,null,null,null,null,null,{"$f":"IF(K1515=\" \",\" \",ROWS($K$5:K1515))","v":1511},{"$f":"DICTIONARY!M1539","v":"Pork"},{"$f":"DICTIONARY!O1539","v":"सूअर का मांस"},"सूअर का मांस",{"$f":"DICTIONARY!P1539","v":"food and drink ( खाद्य और पेय )"},"सूअर का मांस","सूअर का मांस"]
[null,null,null,null,null,null,null,null,null,{"$f":"IF(K1516=\" \",\" \",ROWS($K$5:K1516))","v":1512},{"$f":"DICTIONARY!M1540","v":"Venison"},{"$f":"DICTIONARY!O1540","v":"हिरन का मांस"},"हिरन का मांस",{"$f":"DICTIONARY!P1540","v":"food and drink ( खाद्य और पेय )"},"हिरन का मांस","हिरन का मांस"]
[null,null,null,null,null,null,null,null,null,{"$f":"IF(K1517=\" \",\" \",ROWS($K$5:K1517))","v":1513},{"$f":"DICTIONARY!M1541","v":"Soveregin"},{"$f":"DICTIONARY!O1541","v":"प्रभु"},"प्रभु",{"$f":"DICTIONARY!P1541","v":0},"प्रभु","प्रभु"]
[null,null,null,null,null,null,null,null,null,{"$f":"IF(K1518=\" \",\" \",ROWS($K$5:K1518))","v":1514},{"$f":"DICTIONARY!M1542","v":"Cheese"},{"$f":"DICTIONARY!O1542","v":"पनीर"},"पनीर",{"$f":"DICTIONARY!P1542","v":"food and drink ( खाद्य और पेय )"},"पनीर","पनीर"]
[null,null,null,null,null,null,null,null,null,{"$f":"IF(K1519=\" \",\" \",ROWS($K$5:K1519))","v":1515},{"$f":"DICTIONARY!M1543","v":"Sugar"},{"$f":"DICTIONARY!O1543","v":"शक्कर"},"शक्कर",{"$f":"DICTIONARY!P1543","v":"food and drink ( खाद्य और पेय )"},"शक्कर","शक्कर"]
[null,null,null,null,null,null,null,null,null,{"$f":"IF(K1520=\" \",\" \",ROWS($K$5:K1520))","v":1516},{"$f":"DICTIONARY!M1544","v":"Honey"},{"$f":"DICTIONARY!O1544","v":"शहद "},"शहद ",{"$f":"DICTIONARY!P1544","v":"food and drink ( खाद्य और पेय )"},"शहद ","शहद "]
[null,null,null,null,null,null,null,null,null,{"$f":"IF(K1521=\" \",\" \",ROWS($K$5:K1521))","v":1517},{"$f":"DICTIONARY!M1545","v":"Sugar Candy"},{"$f":"DICTIONARY!O1545","v":"मिश्री"},"मिश्री",{"$f":"DICTIONARY!P1545","v":"food and drink ( खाद्य और पेय )"},"मिश्री","मिश्री"]
[null,null,null,null,null,null,null,null,null,{"$f":"IF(K1522=\" \",\" \",ROWS($K$5:K1522))","v":1518},{"$f":"DICTIONARY!M1546","v":"Arrowroot"},{"$f":"DICTIONARY!O1546","v":"आरारोट"},"आरारोट",{"$f":"DICTIONARY!P1546","v":"food and drink ( खाद्य और पेय )"},"आरारोट","आरारोट"]
[null,null,null,null,null,null,null,null,null,{"$f":"IF(K1523=\" \",\" \",ROWS($K$5:K1523))","v":1519},{"$f":"DICTIONARY!M1547","v":"State List"},{"$f":"DICTIONARY!O1547","v":"राज्य सूचि"},"राज्य सूचि",{"$f":"DICTIONARY!P1547","v":0},"राज्य सूचि","राज्य सूचि"]
[null,null,null,null,null,null,null,null,null,{"$f":"IF(K1524=\" \",\" \",ROWS($K$5:K1524))","v":1520},{"$f":"DICTIONARY!M1548","v":"Staff"},{"$f":"DICTIONARY!O1548","v":"कर्मचारी वृन्द"},"कर्मचारी वृन्द",{"$f":"DICTIONARY!P1548","v":"SCHOOL RELATIVE  ( विद्यालय सम्बन्धी  )"},"कर्मचारी वृन्द","कर्मचारी वृन्द"]
[null,null,null,null,null,null,null,null,null,{"$f":"IF(K1525=\" \",\" \",ROWS($K$5:K1525))","v":1521},{"$f":"DICTIONARY!M1549","v":"Jam"},{"$f":"DICTIONARY!O1549","v":"मुररब्बा"},"मुररब्बा",{"$f":"DICTIONARY!P1549","v":"food and drink ( खाद्य और पेय )"},"मुररब्बा","मुररब्बा"]
[null,null,null,null,null,null,null,null,null,{"$f":"IF(K1526=\" \",\" \",ROWS($K$5:K1526))","v":1522},{"$f":"DICTIONARY!M1550","v":"Jaily"},{"$f":"DICTIONARY!O1550","v":"जेलों"},"जेलों",{"$f":"DICTIONARY!P1550","v":"food and drink ( खाद्य और पेय )"},"जेलों","जेलों"]
[null,null,null,null,null,null,null,null,null,{"$f":"IF(K1527=\" \",\" \",ROWS($K$5:K1527))","v":1523},{"$f":"DICTIONARY!M1551","v":"Transfer"},{"$f":"DICTIONARY!O1551","v":"स्थानान्तरण"},"स्थानान्तरण",{"$f":"DICTIONARY!P1551","v":"SCHOOL RELATIVE  ( विद्यालय सम्बन्धी  )"},"स्थानान्तरण","स्थानान्तरण"]
[null,null,null,null,null,null,null,null,null,{"$f":"IF(K1528=\" \",\" \",ROWS($K$5:K1528))","v":1524},{"$f":"DICTIONARY!M1552","v":"Oil"},{"$f":"DICTIONARY!O1552","v":"तेल"},"तेल",{"$f":"DICTIONARY!P1552","v":"food and drink ( खाद्य और पेय )"},"तेल","तेल"]
[null,null,null,null,null,null,null,null,null,{"$f":"IF(K1529=\" \",\" \",ROWS($K$5:K1529))","v":1525},{"$f":"DICTIONARY!M1553","v":"Tea"},{"$f":"DICTIONARY!O1553","v":"चाय"},"चाय",{"$f":"DICTIONARY!P1553","v":"food and drink ( खाद्य और पेय )"},"चाय","चाय"]
[null,null,null,null,null,null,null,null,null,{"$f":"IF(K1530=\" \",\" \",ROWS($K$5:K1530))","v":1526},{"$f":"DICTIONARY!M1554","v":"Egg"},{"$f":"DICTIONARY!O1554","v":"अंडा"},"अंडा",{"$f":"DICTIONARY!P1554","v":"food and drink ( खाद्य और पेय )"},"अंडा","अंडा"]
[null,null,null,null,null,null,null,null,null,{"$f":"IF(K1531=\" \",\" \",ROWS($K$5:K1531))","v":1527},{"$f":"DICTIONARY!M1555","v":"Mustard Oil"},{"$f":"DICTIONARY!O1555","v":"सरसों का तेल"},"सरसों का तेल",{"$f":"DICTIONARY!P1555","v":"food and drink ( खाद्य और पेय )"},"सरसों का तेल","सरसों का तेल"]
[null,null,null,null,null,null,null,null,null,{"$f":"IF(K1532=\" \",\" \",ROWS($K$5:K1532))","v":1528},{"$f":"DICTIONARY!M1556","v":"Sauce"},{"$f":"DICTIONARY!O1556","v":"चटनी"},"चटनी",{"$f":"DICTIONARY!P1556","v":"food and drink ( खाद्य और पेय )"},"चटनी","चटनी"]
[null,null,null,null,null,null,null,null,null,{"$f":"IF(K1533=\" \",\" \",ROWS($K$5:K1533))","v":1529},{"$f":"DICTIONARY!M1557","v":"Feast"},{"$f":"DICTIONARY!O1557","v":"भोज"},"भोज",{"$f":"DICTIONARY!P1557","v":"food and drink ( खाद्य और पेय )"},"भोज","भोज"]
[null,null,null,null,null,null,null,null,null,{"$f":"IF(K1534=\" \",\" \",ROWS($K$5:K1534))","v":1530},{"$f":"DICTIONARY!M1558","v":"Coffee"},{"$f":"DICTIONARY!O1558","v":"कॉफ़ी"},"कॉफ़ी",{"$f":"DICTIONARY!P1558","v":"food and drink ( खाद्य और पेय )"},"कॉफ़ी","कॉफ़ी"]
[null,null,null,null,null,null,null,null,null,{"$f":"IF(K1535=\" \",\" \",ROWS($K$5:K1535))","v":1531},{"$f":"DICTIONARY!M1559","v":"Syrup"},{"$f":"DICTIONARY!O1559","v":"शरबत"},"शरबत",{"$f":"DICTIONARY!P1559","v":"food and drink ( खाद्य और पेय )"},"शरबत","शरबत"]
[null,null,null,null,null,null,null,null,null,{"$f":"IF(K1536=\" \",\" \",ROWS($K$5:K1536))","v":1532},{"$f":"DICTIONARY!M1560","v":"Tolls"},{"$f":"DICTIONARY!O1560","v":"पथकर"},"पथकर",{"$f":"DICTIONARY!P1560","v":0},"पथकर","पथकर"]
[null,null,null,null,null,null,null,null,null,{"$f":"IF(K1537=\" \",\" \",ROWS($K$5:K1537))","v":1533},{"$f":"DICTIONARY!M1561","v":"Lotus"},{"$f":"DICTIONARY!O1561","v":"कमल"},"कमल",{"$f":"DICTIONARY!P1561","v":"flowers ( फूलो के नाम )"},"कमल","कमल"]
[null,null,null,null,null,null,null,null,null,{"$f":"IF(K1538=\" \",\" \",ROWS($K$5:K1538))","v":1534},{"$f":"DICTIONARY!M1562","v":"Rose"},{"$f":"DICTIONARY!O1562","v":"गुलाब"},"गुलाब",{"$f":"DICTIONARY!P1562","v":"flowers ( फूलो के नाम )"},"गुलाब","गुलाब"]
[null,null,null,null,null,null,null,null,null,{"$f":"IF(K1539=\" \",\" \",ROWS($K$5:K1539))","v":1535},{"$f":"DICTIONARY!M1563","v":"Chameli"},{"$f":"DICTIONARY!O1563","v":"चमेली"},"चमेली",{"$f":"DICTIONARY!P1563","v":"flowers ( फूलो के नाम )"},"चमेली","चमेली"]
[null,null,null,null,null,null,null,null,null,{"$f":"IF(K1540=\" \",\" \",ROWS($K$5:K1540))","v":1536},{"$f":"DICTIONARY!M1564","v":"Magnolia"},{"$f":"DICTIONARY!O1564","v":"चंपा"},"चंपा",{"$f":"DICTIONARY!P1564","v":"flowers ( फूलो के नाम )"},"चंपा","चंपा"]
[null,null,null,null,null,null,null,null,null,{"$f":"IF(K1541=\" \",\" \",ROWS($K$5:K1541))","v":1537},{"$f":"DICTIONARY!M1565","v":"Night Jesmine"},{"$f":"DICTIONARY!O1565","v":"हरसिंगार"},"हरसिंगार",{"$f":"DICTIONARY!P1565","v":"flowers ( फूलो के नाम )"},{"$f":"M1541","v":"हरसिंगार"},{"$f":"L1541","v":"हरसिंगार"}]
[null,null,null,null,null,null,null,null,null,{"$f":"IF(K1542=\" \",\" \",ROWS($K$5:K1542))","v":1538},{"$f":"DICTIONARY!M1566","v":"Tulip"},{"$f":"DICTIONARY!O1566","v":"मल्लिका"},{"$f":"L1542","v":"मल्लिका"},{"$f":"DICTIONARY!P1566","v":"flowers ( फूलो के नाम )"},"मल्लिका","मल्लिका"]
[null,null,null,null,null,null,null,null,null,{"$f":"IF(K1543=\" \",\" \",ROWS($K$5:K1543))","v":1539},{"$f":"DICTIONARY!M1567","v":"Tribunal"},{"$f":"DICTIONARY!O1567","v":"न्यायाधिकरण"},"न्यायाधिकरण",{"$f":"DICTIONARY!P1567","v":0},"न्यायाधिकरण","न्यायाधिकरण"]
[null,null,null,null,null,null,null,null,null,{"$f":"IF(K1544=\" \",\" \",ROWS($K$5:K1544))","v":1540},{"$f":"DICTIONARY!M1568","v":"Lily"},{"$f":"DICTIONARY!O1568","v":"कुमुद"},"कुमुद",{"$f":"DICTIONARY!P1568","v":"flowers ( फूलो के नाम )"},"कुमुद","कुमुद"]
[null,null,null,null,null,null,null,null,null,{"$f":"IF(K1545=\" \",\" \",ROWS($K$5:K1545))","v":1541},{"$f":"DICTIONARY!M1569","v":"Murraya"},{"$f":"DICTIONARY!O1569","v":"कामिनी"},"कामिनी",{"$f":"DICTIONARY!P1569","v":"flowers ( फूलो के नाम )"},"कामिनी","कामिनी"]
[null,null,null,null,null,null,null,null,null,{"$f":"IF(K1546=\" \",\" \",ROWS($K$5:K1546))","v":1542},{"$f":"DICTIONARY!M1570","v":"Bud"},{"$f":"DICTIONARY!O1570","v":"कली"},"कली",{"$f":"DICTIONARY!P1570","v":"flowers ( फूलो के नाम )"},"कली","कली"]
[null,null,null,null,null,null,null,null,null,{"$f":"IF(K1547=\" \",\" \",ROWS($K$5:K1547))","v":1543},{"$f":"DICTIONARY!M1571","v":"Garland"},{"$f":"DICTIONARY!O1571","v":"माला"},"माला",{"$f":"DICTIONARY!P1571","v":"flowers ( फूलो के नाम )"},"माला","माला"]
[null,null,null,null,null,null,null,null,null,{"$f":"IF(K1548=\" \",\" \",ROWS($K$5:K1548))","v":1544},{"$f":"DICTIONARY!M1572","v":"Marigold"},{"$f":"DICTIONARY!O1572","v":"गेंदा"},"गेंदा",{"$f":"DICTIONARY!P1572","v":"flowers ( फूलो के नाम )"},"गेंदा","गेंदा"]
[null,null,null,null,null,null,null,null,null,{"$f":"IF(K1549=\" \",\" \",ROWS($K$5:K1549))","v":1545},{"$f":"DICTIONARY!M1573","v":"Myrtle"},{"$f":"DICTIONARY!O1573","v":"मेहंदी"},"मेहंदी",{"$f":"DICTIONARY!P1573","v":"flowers ( फूलो के नाम )"},"मेहंदी","मेहंदी"]
[null,null,null,null,null,null,null,null,null,{"$f":"IF(K1550=\" \",\" \",ROWS($K$5:K1550))","v":1546},{"$f":"DICTIONARY!M1574","v":"Oleander"},{"$f":"DICTIONARY!O1574","v":"कनेर"},"कनेर",{"$f":"DICTIONARY!P1574","v":"flowers ( फूलो के नाम )"},"कनेर","कनेर"]
[null,null,null,null,null,null,null,null,null,{"$f":"IF(K1551=\" \",\" \",ROWS($K$5:K1551))","v":1547},{"$f":"DICTIONARY!M1575","v":"Jesmine"},{"$f":"DICTIONARY!O1575","v":"जूही"},"जूही",{"$f":"DICTIONARY!P1575","v":"flowers ( फूलो के नाम )"},"जूही","जूही"]
[null,null,null,null,null,null,null,null,null,{"$f":"IF(K1552=\" \",\" \",ROWS($K$5:K1552))","v":1548},{"$f":"DICTIONARY!M1576","v":"Nightqueen"},{"$f":"DICTIONARY!O1576","v":"रजनीगंधा"},"रजनीगंधा",{"$f":"DICTIONARY!P1576","v":"flowers ( फूलो के नाम )"},"रजनीगंधा","रजनीगंधा"]
[null,null,null,null,null,null,null,null,null,{"$f":"IF(K1553=\" \",\" \",ROWS($K$5:K1553))","v":1549},{"$f":"DICTIONARY!M1577","v":"Sunflower"},{"$f":"DICTIONARY!O1577","v":"सूर्यमुखी"},"सूर्यमुखी",{"$f":"DICTIONARY!P1577","v":"flowers ( फूलो के नाम )"},"सूर्यमुखी","सूर्यमुखी"]
[null,null,null,null,null,null,null,null,null,{"$f":"IF(K1554=\" \",\" \",ROWS($K$5:K1554))","v":1550},{"$f":"DICTIONARY!M1578","v":"Stramonium"},{"$f":"DICTIONARY!O1578","v":"धतुरा"},"धतुरा",{"$f":"DICTIONARY!P1578","v":"flowers ( फूलो के नाम )"},"धतुरा","धतुरा"]
[null,null,null,null,null,null,null,null,null,{"$f":"IF(K1555=\" \",\" \",ROWS($K$5:K1555))","v":1551},{"$f":"DICTIONARY!M1579","v":"Balsam"},{"$f":"DICTIONARY!O1579","v":"गुलमेहंदी"},"गुलमेहंदी",{"$f":"DICTIONARY!P1579","v":"flowers ( फूलो के नाम )"},"गुलमेहंदी","गुलमेहंदी"]
[null,null,null,null,null,null,null,null,null,{"$f":"IF(K1556=\" \",\" \",ROWS($K$5:K1556))","v":1552},{"$f":"DICTIONARY!M1580","v":"Petal"},{"$f":"DICTIONARY!O1580","v":"पंखुड़ी"},"पंखुड़ी",{"$f":"DICTIONARY!P1580","v":"flowers ( फूलो के नाम )"},"पंखुड़ी","पंखुड़ी"]
[null,null,null,null,null,null,null,null,null,{"$f":"IF(K1557=\" \",\" \",ROWS($K$5:K1557))","v":1553},{"$f":"DICTIONARY!M1581","v":"Deep"},{"$f":"DICTIONARY!O1581","v":"गाढ़ा"},"गाढ़ा",{"$f":"DICTIONARY!P1581","v":"Colours  ( रंगों के नाम )"},"गाढ़ा","गाढ़ा"]
[null,null,null,null,null,null,null,null,null,{"$f":"IF(K1558=\" \",\" \",ROWS($K$5:K1558))","v":1554},{"$f":"DICTIONARY!M1582","v":"Golden"},{"$f":"DICTIONARY!O1582","v":"सुनहरी"},"सुनहरी",{"$f":"DICTIONARY!P1582","v":"Colours  ( रंगों के नाम )"},"सुनहरी","सुनहरी"]
[null,null,null,null,null,null,null,null,null,{"$f":"IF(K1559=\" \",\" \",ROWS($K$5:K1559))","v":1555},{"$f":"DICTIONARY!M1583","v":"Subordinate"},{"$f":"DICTIONARY!O1583","v":"अधीनस्थ"},"अधीनस्थ",{"$f":"DICTIONARY!P1583","v":0},"अधीनस्थ","अधीनस्थ"]
[null,null,null,null,null,null,null,null,null,{"$f":"IF(K1560=\" \",\" \",ROWS($K$5:K1560))","v":1556},{"$f":"DICTIONARY!M1584","v":"Bright"},{"$f":"DICTIONARY!O1584","v":"चमकीला"},"चमकीला",{"$f":"DICTIONARY!P1584","v":"Colours  ( रंगों के नाम )"},"चमकीला","चमकीला"]
[null,null,null,null,null,null,null,null,null,{"$f":"IF(K1561=\" \",\" \",ROWS($K$5:K1561))","v":1557},{"$f":"DICTIONARY!M1585","v":"Fast Colour"},{"$f":"DICTIONARY!O1585","v":"पक्का रँग"},"पक्का रँग",{"$f":"DICTIONARY!P1585","v":"Colours  ( रंगों के नाम )"},"पक्का रँग","पक्का रँग"]
[null,null,null,null,null,null,null,null,null,{"$f":"IF(K1562=\" \",\" \",ROWS($K$5:K1562))","v":1558},{"$f":"DICTIONARY!M1586","v":"Colour"},{"$f":"DICTIONARY!O1586","v":"रँग"},"रँग",{"$f":"DICTIONARY!P1586","v":"Colours  ( रंगों के नाम )"},"रँग","रँग"]
[null,null,null,null,null,null,null,null,null,{"$f":"IF(K1563=\" \",\" \",ROWS($K$5:K1563))","v":1559},{"$f":"DICTIONARY!M1587","v":"Pink"},{"$f":"DICTIONARY!O1587","v":"गुलाबी"},"गुलाबी",{"$f":"DICTIONARY!P1587","v":"Colours  ( रंगों के नाम )"},"गुलाबी","गुलाबी"]
[null,null,null,null,null,null,null,null,null,{"$f":"IF(K1564=\" \",\" \",ROWS($K$5:K1564))","v":1560},{"$f":"DICTIONARY!M1588","v":"Grey"},{"$f":"DICTIONARY!O1588","v":"धूसर"},"धूसर",{"$f":"DICTIONARY!P1588","v":"Colours  ( रंगों के नाम )"},"धूसर","धूसर"]
[null,null,null,null,null,null,null,null,null,{"$f":"IF(K1565=\" \",\" \",ROWS($K$5:K1565))","v":1561},{"$f":"DICTIONARY!M1589","v":"Blue"},{"$f":"DICTIONARY!O1589","v":"नीला"},"नीला",{"$f":"DICTIONARY!P1589","v":"Colours  ( रंगों के नाम )"},"नीला","नीला"]
[null,null,null,null,null,null,null,null,null,{"$f":"IF(K1566=\" \",\" \",ROWS($K$5:K1566))","v":1562},{"$f":"DICTIONARY!M1590","v":"Red"},{"$f":"DICTIONARY!O1590","v":"लाल"},"लाल",{"$f":"DICTIONARY!P1590","v":"Colours  ( रंगों के नाम )"},"लाल","लाल"]
[null,null,null,null,null,null,null,null,null,{"$f":"IF(K1567=\" \",\" \",ROWS($K$5:K1567))","v":1563},{"$f":"DICTIONARY!M1591","v":"White"},{"$f":"DICTIONARY!O1591","v":"सफ़ेद"},"सफ़ेद",{"$f":"DICTIONARY!P1591","v":"Colours  ( रंगों के नाम )"},"सफ़ेद","सफ़ेद"]
[null,null,null,null,null,null,null,null,null,{"$f":"IF(K1568=\" \",\" \",ROWS($K$5:K1568))","v":1564},{"$f":"DICTIONARY!M1592","v":"Azure"},{"$f":"DICTIONARY!O1592","v":"आसमानी"},"आसमानी",{"$f":"DICTIONARY!P1592","v":"Colours  ( रंगों के नाम )"},"आसमानी","आसमानी"]
[null,null,null,null,null,null,null,null,null,{"$f":"IF(K1569=\" \",\" \",ROWS($K$5:K1569))","v":1565},{"$f":"DICTIONARY!M1593","v":"Purple"},{"$f":"DICTIONARY!O1593","v":"जामुनी रँग"},"जामुनी रँग",{"$f":"DICTIONARY!P1593","v":"Colours  ( रंगों के नाम )"},"जामुनी रँग","जामुनी रँग"]
[null,null,null,null,null,null,null,null,null,{"$f":"IF(K1570=\" \",\" \",ROWS($K$5:K1570))","v":1566},{"$f":"DICTIONARY!M1594","v":"Crimson"},{"$f":"DICTIONARY!O1594","v":"गहरा लाल"},"गहरा लाल",{"$f":"DICTIONARY!P1594","v":"Colours  ( रंगों के नाम )"},"गहरा लाल","गहरा लाल"]
[null,null,null,null,null,null,null,null,null,{"$f":"IF(K1571=\" \",\" \",ROWS($K$5:K1571))","v":1567},{"$f":"DICTIONARY!M1595","v":"Yellow"},{"$f":"DICTIONARY!O1595","v":"पीला"},"पीला",{"$f":"DICTIONARY!P1595","v":"Colours  ( रंगों के नाम )"},"पीला","पीला"]
[null,null,null,null,null,null,null,null,null,{"$f":"IF(K1572=\" \",\" \",ROWS($K$5:K1572))","v":1568},{"$f":"DICTIONARY!M1596","v":"Violet"},{"$f":"DICTIONARY!O1596","v":"बैगनी"},"बैगनी",{"$f":"DICTIONARY!P1596","v":"Colours  ( रंगों के नाम )"},"बैगनी","बैगनी"]
[null,null,null,null,null,null,null,null,null,{"$f":"IF(K1573=\" \",\" \",ROWS($K$5:K1573))","v":1569},{"$f":"DICTIONARY!M1597","v":"Pale"},{"$f":"DICTIONARY!O1597","v":"फीका"},"फीका",{"$f":"DICTIONARY!P1597","v":"Colours  ( रंगों के नाम )"},"फीका","फीका"]
[null,null,null,null,null,null,null,null,null,{"$f":"IF(K1574=\" \",\" \",ROWS($K$5:K1574))","v":1570},{"$f":"DICTIONARY!M1598","v":"Brown"},{"$f":"DICTIONARY!O1598","v":"भूरा"},"भूरा",{"$f":"DICTIONARY!P1598","v":"Colours  ( रंगों के नाम )"},"भूरा","भूरा"]
[null,null,null,null,null,null,null,null,null,{"$f":"IF(K1575=\" \",\" \",ROWS($K$5:K1575))","v":1571},{"$f":"DICTIONARY!M1599","v":"Green"},{"$f":"DICTIONARY!O1599","v":"हरा"},"हरा",{"$f":"DICTIONARY!P1599","v":"Colours  ( रंगों के नाम )"},"हरा","हरा"]
[null,null,null,null,null,null,null,null,null,{"$f":"IF(K1576=\" \",\" \",ROWS($K$5:K1576))","v":1572},{"$f":"DICTIONARY!M1600","v":"Indigo"},{"$f":"DICTIONARY!O1600","v":"नीला"},"नीला",{"$f":"DICTIONARY!P1600","v":"Colours  ( रंगों के नाम )"},"नीला","नीला"]
[null,null,null,null,null,null,null,null,null,{"$f":"IF(K1577=\" \",\" \",ROWS($K$5:K1577))","v":1573},{"$f":"DICTIONARY!M1601","v":"Black"},{"$f":"DICTIONARY!O1601","v":"काला"},"काला",{"$f":"DICTIONARY!P1601","v":"Colours  ( रंगों के नाम )"},"काला","काला"]
[null,null,null,null,null,null,null,null,null,{"$f":"IF(K1578=\" \",\" \",ROWS($K$5:K1578))","v":1574},{"$f":"DICTIONARY!M1602","v":"Order"},{"$f":"DICTIONARY!O1602","v":"आदेश"},"आदेश",{"$f":"DICTIONARY!P1602","v":"SCHOOL RELATIVE  ( विद्यालय सम्बन्धी  )"},"आदेश","आदेश"]
[null,null,null,null,null,null,null,null,null,{"$f":"IF(K1579=\" \",\" \",ROWS($K$5:K1579))","v":1575},{"$f":"DICTIONARY!M1603","v":"Razor"},{"$f":"DICTIONARY!O1603","v":"ब्लेड"},"ब्लेड",{"$f":"DICTIONARY!P1603","v":"TOOLS ( औजार )"},"ब्लेड","ब्लेड"]
[null,null,null,null,null,null,null,null,null,{"$f":"IF(K1580=\" \",\" \",ROWS($K$5:K1580))","v":1576},{"$f":"DICTIONARY!M1604","v":"Lower House"},{"$f":"DICTIONARY!O1604","v":"निम्न सदन"},"निम्न सदन",{"$f":"DICTIONARY!P1604","v":0},"निम्न सदन","निम्न सदन"]
[null,null,null,null,null,null,null,null,null,{"$f":"IF(K1581=\" \",\" \",ROWS($K$5:K1581))","v":1577},{"$f":"DICTIONARY!M1605","v":"Needle"},{"$f":"DICTIONARY!O1605","v":"सुई"},"सुई",{"$f":"DICTIONARY!P1605","v":"TOOLS ( औजार )"},"सुई","सुई"]
[null,null,null,null,null,null,null,null,null,{"$f":"IF(K1582=\" \",\" \",ROWS($K$5:K1582))","v":1578},{"$f":"DICTIONARY!M1606","v":"Sickle"},{"$f":"DICTIONARY!O1606","v":"हंसिया"},"हंसिया",{"$f":"DICTIONARY!P1606","v":"TOOLS ( औजार )"},"हंसिया","हंसिया"]
[null,null,null,null,null,null,null,null,null,{"$f":"IF(K1583=\" \",\" \",ROWS($K$5:K1583))","v":1579},{"$f":"DICTIONARY!M1607","v":"Spade"},{"$f":"DICTIONARY!O1607","v":"कुदाल"},"कुदाल",{"$f":"DICTIONARY!P1607","v":"TOOLS ( औजार )"},"कुदाल","कुदाल"]
[null,null,null,null,null,null,null,null,null,{"$f":"IF(K1584=\" \",\" \",ROWS($K$5:K1584))","v":1580},{"$f":"DICTIONARY!M1608","v":"Crowbar"},{"$f":"DICTIONARY!O1608","v":"सब्ब्ले"},"सब्ब्ले",{"$f":"DICTIONARY!P1608","v":"TOOLS ( औजार )"},"सब्ब्ले","सब्ब्ले"]
[null,null,null,null,null,null,null,null,null,{"$f":"IF(K1585=\" \",\" \",ROWS($K$5:K1585))","v":1581},{"$f":"DICTIONARY!M1609","v":"Warp"},{"$f":"DICTIONARY!O1609","v":"ताना"},"ताना",{"$f":"DICTIONARY!P1609","v":"TOOLS ( औजार )"},"ताना","ताना"]
[null,null,null,null,null,null,null,null,null,{"$f":"IF(K1586=\" \",\" \",ROWS($K$5:K1586))","v":1582},{"$f":"DICTIONARY!M1610","v":"Scissors"},{"$f":"DICTIONARY!O1610","v":"केंची"},"केंची",{"$f":"DICTIONARY!P1610","v":"TOOLS ( औजार )"},"केंची","केंची"]
[null,null,null,null,null,null,null,null,null,{"$f":"IF(K1587=\" \",\" \",ROWS($K$5:K1587))","v":1583},{"$f":"DICTIONARY!M1611","v":"Bill Hook"},{"$f":"DICTIONARY!O1611","v":"कटारी"},"कटारी",{"$f":"DICTIONARY!P1611","v":"TOOLS ( औजार )"},"कटारी","कटारी"]
[null,null,null,null,null,null,null,null,null,{"$f":"IF(K1588=\" \",\" \",ROWS($K$5:K1588))","v":1584},{"$f":"DICTIONARY!M1612","v":"File"},{"$f":"DICTIONARY!O1612","v":"रेती"},"रेती",{"$f":"DICTIONARY!P1612","v":"TOOLS ( औजार )"},"रेती","रेती"]
[null,null,null,null,null,null,null,null,null,{"$f":"IF(K1589=\" \",\" \",ROWS($K$5:K1589))","v":1585},{"$f":"DICTIONARY!M1613","v":"Auger"},{"$f":"DICTIONARY!O1613","v":"गिरमिट"},"गिरमिट",{"$f":"DICTIONARY!P1613","v":"TOOLS ( औजार )"},"गिरमिट","गिरमिट"]
[null,null,null,null,null,null,null,null,null,{"$f":"IF(K1590=\" \",\" \",ROWS($K$5:K1590))","v":1586},{"$f":"DICTIONARY!M1614","v":"Lunacy"},{"$f":"DICTIONARY!O1614","v":"उन्माद"},"उन्माद",{"$f":"DICTIONARY!P1614","v":0},"उन्माद","उन्माद"]
[null,null,null,null,null,null,null,null,null,{"$f":"IF(K1591=\" \",\" \",ROWS($K$5:K1591))","v":1587},{"$f":"DICTIONARY!M1615","v":"Saw"},{"$f":"DICTIONARY!O1615","v":"आरी"},"आरी",{"$f":"DICTIONARY!P1615","v":"TOOLS ( औजार )"},"आरी","आरी"]
[null,null,null,null,null,null,null,null,null,{"$f":"IF(K1592=\" \",\" \",ROWS($K$5:K1592))","v":1588},{"$f":"DICTIONARY!M1616","v":"Pick Axe"},{"$f":"DICTIONARY!O1616","v":"गैंती"},"गैंती",{"$f":"DICTIONARY!P1616","v":"TOOLS ( औजार )"},"गैंती","गैंती"]
[null,null,null,null,null,null,null,null,null,{"$f":"IF(K1593=\" \",\" \",ROWS($K$5:K1593))","v":1589},{"$f":"DICTIONARY!M1617","v":"Lunatic"},{"$f":"DICTIONARY!O1617","v":"उन्मत"},"उन्मत",{"$f":"DICTIONARY!P1617","v":0},"उन्मत","उन्मत"]
[null,null,null,null,null,null,null,null,null,{"$f":"IF(K1594=\" \",\" \",ROWS($K$5:K1594))","v":1590},{"$f":"DICTIONARY!M1618","v":"Punch"},{"$f":"DICTIONARY!O1618","v":"छेनी"},"छेनी",{"$f":"DICTIONARY!P1618","v":"TOOLS ( औजार )"},"छेनी","छेनी"]
[null,null,null,null,null,null,null,null,null,{"$f":"IF(K1595=\" \",\" \",ROWS($K$5:K1595))","v":1591},{"$f":"DICTIONARY!M1619","v":"Hammer"},{"$f":"DICTIONARY!O1619","v":"हथोडा"},"हथोडा",{"$f":"DICTIONARY!P1619","v":"TOOLS ( औजार )"},"हथोडा","हथोडा"]
[null,null,null,null,null,null,null,null,null,{"$f":"IF(K1596=\" \",\" \",ROWS($K$5:K1596))","v":1592},{"$f":"DICTIONARY!M1620","v":"Anvil"},{"$f":"DICTIONARY!O1620","v":"निहाई"},"निहाई",{"$f":"DICTIONARY!P1620","v":"TOOLS ( औजार )"},"निहाई","निहाई"]
[null,null,null,null,null,null,null,null,null,{"$f":"IF(K1597=\" \",\" \",ROWS($K$5:K1597))","v":1593},{"$f":"DICTIONARY!M1621","v":"Spindle"},{"$f":"DICTIONARY!O1621","v":"तकला"},"तकला",{"$f":"DICTIONARY!P1621","v":"TOOLS ( औजार )"},"तकला","तकला"]
[null,null,null,null,null,null,null,null,null,{"$f":"IF(K1598=\" \",\" \",ROWS($K$5:K1598))","v":1594},{"$f":"DICTIONARY!M1622","v":"Loom"},{"$f":"DICTIONARY!O1622","v":"करघा"},"करघा",{"$f":"DICTIONARY!P1622","v":"TOOLS ( औजार )"},"करघा","करघा"]
[null,null,null,null,null,null,null,null,null,{"$f":"IF(K1599=\" \",\" \",ROWS($K$5:K1599))","v":1595},{"$f":"DICTIONARY!M1623","v":"Local"},{"$f":"DICTIONARY!O1623","v":"स्थानीय"},"स्थानीय",{"$f":"DICTIONARY!P1623","v":0},"स्थानीय","स्थानीय"]
[null,null,null,null,null,null,null,null,null,{"$f":"IF(K1600=\" \",\" \",ROWS($K$5:K1600))","v":1596},{"$f":"DICTIONARY!M1624","v":"Pincers"},{"$f":"DICTIONARY!O1624","v":"संडासी"},"संडासी",{"$f":"DICTIONARY!P1624","v":"TOOLS ( औजार )"},"संडासी","संडासी"]
[null,null,null,null,null,null,null,null,null,{"$f":"IF(K1601=\" \",\" \",ROWS($K$5:K1601))","v":1597},{"$f":"DICTIONARY!M1625","v":"Chisel"},{"$f":"DICTIONARY!O1625","v":"बटालि"},"बटालि",{"$f":"DICTIONARY!P1625","v":"TOOLS ( औजार )"},"बटालि","बटालि"]
[null,null,null,null,null,null,null,null,null,{"$f":"IF(K1602=\" \",\" \",ROWS($K$5:K1602))","v":1598},{"$f":"DICTIONARY!M1626","v":"Tongs"},{"$f":"DICTIONARY!O1626","v":"चिमटा"},"चिमटा",{"$f":"DICTIONARY!P1626","v":"TOOLS ( औजार )"},"चिमटा","चिमटा"]
[null,null,null,null,null,null,null,null,null,{"$f":"IF(K1603=\" \",\" \",ROWS($K$5:K1603))","v":1599},{"$f":"DICTIONARY!M1627","v":"Livelihood"},{"$f":"DICTIONARY!O1627","v":"जीविका"},"जीविका",{"$f":"DICTIONARY!P1627","v":0},"जीविका","जीविका"]
[null,null,null,null,null,null,null,null,null,{"$f":"IF(K1604=\" \",\" \",ROWS($K$5:K1604))","v":1600},{"$f":"DICTIONARY!M1628","v":"Woof"},{"$f":"DICTIONARY!O1628","v":"ताना भरनी"},"ताना भरनी",{"$f":"DICTIONARY!P1628","v":"TOOLS ( औजार )"},"ताना भरनी","ताना भरनी"]
[null,null,null,null,null,null,null,null,null,{"$f":"IF(K1605=\" \",\" \",ROWS($K$5:K1605))","v":1601},{"$f":"DICTIONARY!M1629","v":"Kiln"},{"$f":"DICTIONARY!O1629","v":"भट्टी"},"भट्टी",{"$f":"DICTIONARY!P1629","v":"TOOLS ( औजार )"},{"$f":"M1605","v":"भट्टी"},{"$f":"L1605","v":"भट्टी"}]
[null,null,null,null,null,null,null,null,null,{"$f":"IF(K1606=\" \",\" \",ROWS($K$5:K1606))","v":1602},{"$f":"DICTIONARY!M1630","v":"Mallet"},{"$f":"DICTIONARY!O1630","v":"मुंगरी"},{"$f":"L1606","v":"मुंगरी"},{"$f":"DICTIONARY!P1630","v":"TOOLS ( औजार )"},"मुंगरी","मुंगरी"]
[null,null,null,null,null,null,null,null,null,{"$f":"IF(K1607=\" \",\" \",ROWS($K$5:K1607))","v":1603},{"$f":"DICTIONARY!M1631","v":"Trowel"},{"$f":"DICTIONARY!O1631","v":"करणी"},"करणी",{"$f":"DICTIONARY!P1631","v":"TOOLS ( औजार )"},"करणी","करणी"]
[null,null,null,null,null,null,null,null,null,{"$f":"IF(K1608=\" \",\" \",ROWS($K$5:K1608))","v":1604},{"$f":"DICTIONARY!M1632","v":"Awl"},{"$f":"DICTIONARY!O1632","v":"सुआ"},"सुआ",{"$f":"DICTIONARY!P1632","v":"TOOLS ( औजार )"},"सुआ","सुआ"]
[null,null,null,null,null,null,null,null,null,{"$f":"IF(K1609=\" \",\" \",ROWS($K$5:K1609))","v":1605},{"$f":"DICTIONARY!M1633","v":"Forgo"},{"$f":"DICTIONARY!O1633","v":"भट्टी"},"भट्टी",{"$f":"DICTIONARY!P1633","v":"TOOLS ( औजार )"},"भट्टी","भट्टी"]
[null,null,null,null,null,null,null,null,null,{"$f":"IF(K1610=\" \",\" \",ROWS($K$5:K1610))","v":1606},{"$f":"DICTIONARY!M1634","v":"Reel"},{"$f":"DICTIONARY!O1634","v":"फिरकी"},"फिरकी",{"$f":"DICTIONARY!P1634","v":"TOOLS ( औजार )"},"फिरकी","फिरकी"]
[null,null,null,null,null,null,null,null,null,{"$f":"IF(K1611=\" \",\" \",ROWS($K$5:K1611))","v":1607},{"$f":"DICTIONARY!M1635","v":"Frontiers"},{"$f":"DICTIONARY!O1635","v":"सीमांत"},"सीमांत",{"$f":"DICTIONARY!P1635","v":0},"सीमांत","सीमांत"]
[null,null,null,null,null,null,null,null,null,{"$f":"IF(K1612=\" \",\" \",ROWS($K$5:K1612))","v":1608},{"$f":"DICTIONARY!M1636","v":"Shuttle"},{"$f":"DICTIONARY!O1636","v":"तुरी"},"तुरी",{"$f":"DICTIONARY!P1636","v":"TOOLS ( औजार )"},"तुरी","तुरी"]
[null,null,null,null,null,null,null,null,null,{"$f":"IF(K1613=\" \",\" \",ROWS($K$5:K1613))","v":1609},{"$f":"DICTIONARY!M1637","v":"Lathe"},{"$f":"DICTIONARY!O1637","v":"कुंद',खराद"},"कुंद',खराद",{"$f":"DICTIONARY!P1637","v":"TOOLS ( औजार )"},"कुंद',खराद","कुंद',खराद"]
[null,null,null,null,null,null,null,null,null,{"$f":"IF(K1614=\" \",\" \",ROWS($K$5:K1614))","v":1610},{"$f":"DICTIONARY!M1638","v":"Goad"},{"$f":"DICTIONARY!O1638","v":"अंकुश"},"अंकुश",{"$f":"DICTIONARY!P1638","v":"TOOLS ( औजार )"},"अंकुश","अंकुश"]
[null,null,null,null,null,null,null,null,null,{"$f":"IF(K1615=\" \",\" \",ROWS($K$5:K1615))","v":1611},{"$f":"DICTIONARY!M1639","v":"Hoe"},{"$f":"DICTIONARY!O1639","v":"खुरपी"},"खुरपी",{"$f":"DICTIONARY!P1639","v":"TOOLS ( औजार )"},"खुरपी","खुरपी"]
[null,null,null,null,null,null,null,null,null,{"$f":"IF(K1616=\" \",\" \",ROWS($K$5:K1616))","v":1612},{"$f":"DICTIONARY!M1640","v":"Harrow"},{"$f":"DICTIONARY!O1640","v":"पाटा"},"पाटा",{"$f":"DICTIONARY!P1640","v":"TOOLS ( औजार )"},"पाटा","पाटा"]
[null,null,null,null,null,null,null,null,null,{"$f":"IF(K1617=\" \",\" \",ROWS($K$5:K1617))","v":1613},{"$f":"DICTIONARY!M1641","v":"Extend"},{"$f":"DICTIONARY!O1641","v":"फेलाना, आगे बढ़ाना"},"फेलाना, आगे बढ़ाना",{"$f":"DICTIONARY!P1641","v":0},"फेलाना, आगे बढ़ाना","फेलाना, आगे बढ़ाना"]
[null,null,null,null,null,null,null,null,null,{"$f":"IF(K1618=\" \",\" \",ROWS($K$5:K1618))","v":1614},{"$f":"DICTIONARY!M1642","v":"Tennis"},{"$f":"DICTIONARY!O1642","v":"टेनिस"},"टेनिस",{"$f":"DICTIONARY!P1642","v":"GAMES AND SPORTS ( खेल - कूद )"},"टेनिस","टेनिस"]
[null,null,null,null,null,null,null,null,null,{"$f":"IF(K1619=\" \",\" \",ROWS($K$5:K1619))","v":1615},{"$f":"DICTIONARY!M1643","v":"Sports"},{"$f":"DICTIONARY!O1643","v":"खेल कूद"},"खेल कूद",{"$f":"DICTIONARY!P1643","v":"GAMES AND SPORTS ( खेल - कूद )"},"खेल कूद","खेल कूद"]
[null,null,null,null,null,null,null,null,null,{"$f":"IF(K1620=\" \",\" \",ROWS($K$5:K1620))","v":1616},{"$f":"DICTIONARY!M1644","v":"Cricket"},{"$f":"DICTIONARY!O1644","v":"क्रिकेट"},"क्रिकेट",{"$f":"DICTIONARY!P1644","v":"GAMES AND SPORTS ( खेल - कूद )"},"क्रिकेट","क्रिकेट"]
[null,null,null,null,null,null,null,null,null,{"$f":"IF(K1621=\" \",\" \",ROWS($K$5:K1621))","v":1617},{"$f":"DICTIONARY!M1645","v":"Bat"},{"$f":"DICTIONARY!O1645","v":"बल्ला"},"बल्ला",{"$f":"DICTIONARY!P1645","v":"GAMES AND SPORTS ( खेल - कूद )"},"बल्ला","बल्ला"]
[null,null,null,null,null,null,null,null,null,{"$f":"IF(K1622=\" \",\" \",ROWS($K$5:K1622))","v":1618},{"$f":"DICTIONARY!M1646","v":"Foot Ball"},{"$f":"DICTIONARY!O1646","v":"फुटबॉल"},"फुटबॉल",{"$f":"DICTIONARY!P1646","v":"GAMES AND SPORTS ( खेल - कूद )"},"फुटबॉल","फुटबॉल"]
[null,null,null,null,null,null,null,null,null,{"$f":"IF(K1623=\" \",\" \",ROWS($K$5:K1623))","v":1619},{"$f":"DICTIONARY!M1647","v":"Hockey"},{"$f":"DICTIONARY!O1647","v":"हॉकी"},"हॉकी",{"$f":"DICTIONARY!P1647","v":"GAMES AND SPORTS ( खेल - कूद )"},"हॉकी","हॉकी"]
[null,null,null,null,null,null,null,null,null,{"$f":"IF(K1624=\" \",\" \",ROWS($K$5:K1624))","v":1620},{"$f":"DICTIONARY!M1648","v":"Volley Ball"},{"$f":"DICTIONARY!O1648","v":"बालीबाल"},"बालीबाल",{"$f":"DICTIONARY!P1648","v":"GAMES AND SPORTS ( खेल - कूद )"},"बालीबाल","बालीबाल"]
[null,null,null,null,null,null,null,null,null,{"$f":"IF(K1625=\" \",\" \",ROWS($K$5:K1625))","v":1621},{"$f":"DICTIONARY!M1649","v":"Ha Do Do"},{"$f":"DICTIONARY!O1649","v":"कब्बडी"},"कब्बडी",{"$f":"DICTIONARY!P1649","v":"GAMES AND SPORTS ( खेल - कूद )"},"कब्बडी","कब्बडी"]
[null,null,null,null,null,null,null,null,null,{"$f":"IF(K1626=\" \",\" \",ROWS($K$5:K1626))","v":1622},{"$f":"DICTIONARY!M1650","v":"Grant"},{"$f":"DICTIONARY!O1650","v":"अनुदान,देना"},"अनुदान,देना",{"$f":"DICTIONARY!P1650","v":"GAMES AND SPORTS ( खेल - कूद )"},"अनुदान,देना","अनुदान,देना"]
[null,null,null,null,null,null,null,null,null,{"$f":"IF(K1627=\" \",\" \",ROWS($K$5:K1627))","v":1623},{"$f":"DICTIONARY!M1651","v":"Player"},{"$f":"DICTIONARY!O1651","v":"खिलाडी"},"खिलाडी",{"$f":"DICTIONARY!P1651","v":"GAMES AND SPORTS ( खेल - कूद )"},"खिलाडी","खिलाडी"]
[null,null,null,null,null,null,null,null,null,{"$f":"IF(K1628=\" \",\" \",ROWS($K$5:K1628))","v":1624},{"$f":"DICTIONARY!M1652","v":"Play Ground"},{"$f":"DICTIONARY!O1652","v":"खेल मैदान"},"खेल मैदान",{"$f":"DICTIONARY!P1652","v":"GAMES AND SPORTS ( खेल - कूद )"},"खेल मैदान","खेल मैदान"]
[null,null,null,null,null,null,null,null,null,{"$f":"IF(K1629=\" \",\" \",ROWS($K$5:K1629))","v":1625},{"$f":"DICTIONARY!M1653","v":"Race"},{"$f":"DICTIONARY!O1653","v":"दौड़"},"दौड़",{"$f":"DICTIONARY!P1653","v":"GAMES AND SPORTS ( खेल - कूद )"},"दौड़","दौड़"]
[null,null,null,null,null,null,null,null,null,{"$f":"IF(K1630=\" \",\" \",ROWS($K$5:K1630))","v":1626},{"$f":"DICTIONARY!M1654","v":"Wrestling"},{"$f":"DICTIONARY!O1654","v":"कुश्ती"},"कुश्ती",{"$f":"DICTIONARY!P1654","v":"GAMES AND SPORTS ( खेल - कूद )"},"कुश्ती","कुश्ती"]
[null,null,null,null,null,null,null,null,null,{"$f":"IF(K1631=\" \",\" \",ROWS($K$5:K1631))","v":1627},{"$f":"DICTIONARY!M1655","v":"Boat Race"},{"$f":"DICTIONARY!O1655","v":"नौकादौड़"},"नौकादौड़",{"$f":"DICTIONARY!P1655","v":"GAMES AND SPORTS ( खेल - कूद )"},"नौकादौड़","नौकादौड़"]
[null,null,null,null,null,null,null,null,null,{"$f":"IF(K1632=\" \",\" \",ROWS($K$5:K1632))","v":1628},{"$f":"DICTIONARY!M1656","v":"Ludo"},{"$f":"DICTIONARY!O1656","v":"लूडो"},"लूडो",{"$f":"DICTIONARY!P1656","v":"GAMES AND SPORTS ( खेल - कूद )"},"लूडो","लूडो"]
[null,null,null,null,null,null,null,null,null,{"$f":"IF(K1633=\" \",\" \",ROWS($K$5:K1633))","v":1629},{"$f":"DICTIONARY!M1657","v":"Chess"},{"$f":"DICTIONARY!O1657","v":"शतरंज"},"शतरंज",{"$f":"DICTIONARY!P1657","v":"GAMES AND SPORTS ( खेल - कूद )"},"शतरंज","शतरंज"]
[null,null,null,null,null,null,null,null,null,{"$f":"IF(K1634=\" \",\" \",ROWS($K$5:K1634))","v":1630},{"$f":"DICTIONARY!M1658","v":"Cards"},{"$f":"DICTIONARY!O1658","v":"तास"},"तास",{"$f":"DICTIONARY!P1658","v":"GAMES AND SPORTS ( खेल - कूद )"},"तास","तास"]
[null,null,null,null,null,null,null,null,null,{"$f":"IF(K1635=\" \",\" \",ROWS($K$5:K1635))","v":1631},{"$f":"DICTIONARY!M1659","v":"Dice"},{"$f":"DICTIONARY!O1659","v":"पासा"},"पासा",{"$f":"DICTIONARY!P1659","v":"GAMES AND SPORTS ( खेल - कूद )"},"पासा","पासा"]
[null,null,null,null,null,null,null,null,null,{"$f":"IF(K1636=\" \",\" \",ROWS($K$5:K1636))","v":1632},{"$f":"DICTIONARY!M1660","v":"Carrom"},{"$f":"DICTIONARY!O1660","v":"केर्रम"},"केर्रम",{"$f":"DICTIONARY!P1660","v":"GAMES AND SPORTS ( खेल - कूद )"},"केर्रम","केर्रम"]
[null,null,null,null,null,null,null,null,null,{"$f":"IF(K1637=\" \",\" \",ROWS($K$5:K1637))","v":1633},{"$f":"DICTIONARY!M1661","v":"Dumble"},{"$f":"DICTIONARY!O1661","v":"दम्ब्ले"},"दम्ब्ले",{"$f":"DICTIONARY!P1661","v":"GAMES AND SPORTS ( खेल - कूद )"},"दम्ब्ले","दम्ब्ले"]
[null,null,null,null,null,null,null,null,null,{"$f":"IF(K1638=\" \",\" \",ROWS($K$5:K1638))","v":1634},{"$f":"DICTIONARY!M1662","v":"Future Market"},{"$f":"DICTIONARY!O1662","v":"वायदाबाजार"},"वायदाबाजार",{"$f":"DICTIONARY!P1662","v":0},"वायदाबाजार","वायदाबाजार"]
[null,null,null,null,null,null,null,null,null,{"$f":"IF(K1639=\" \",\" \",ROWS($K$5:K1639))","v":1635},{"$f":"DICTIONARY!M1663","v":"Top"},{"$f":"DICTIONARY!O1663","v":"लट्टू"},"लट्टू",{"$f":"DICTIONARY!P1663","v":"GAMES AND SPORTS ( खेल - कूद )"},"लट्टू","लट्टू"]
[null,null,null,null,null,null,null,null,null,{"$f":"IF(K1640=\" \",\" \",ROWS($K$5:K1640))","v":1636},{"$f":"DICTIONARY!M1664","v":"Hide-And-Seek"},{"$f":"DICTIONARY!O1664","v":"लुकाछिपी"},"लुकाछिपी",{"$f":"DICTIONARY!P1664","v":"GAMES AND SPORTS ( खेल - कूद )"},"लुकाछिपी","लुकाछिपी"]
[null,null,null,null,null,null,null,null,null,{"$f":"IF(K1641=\" \",\" \",ROWS($K$5:K1641))","v":1637},{"$f":"DICTIONARY!M1665","v":"Outdoor Games"},{"$f":"DICTIONARY!O1665","v":"बाहर खेले जाने वाले खेल"},"बाहर खेले जाने वाले खेल",{"$f":"DICTIONARY!P1665","v":"GAMES AND SPORTS ( खेल - कूद )"},"बाहर खेले जाने वाले खेल","बाहर खेले जाने वाले खेल"]
[null,null,null,null,null,null,null,null,null,{"$f":"IF(K1642=\" \",\" \",ROWS($K$5:K1642))","v":1638},{"$f":"DICTIONARY!M1666","v":"Indore Games"},{"$f":"DICTIONARY!O1666","v":"अन्दर खेले जाने वाले खेल"},"अन्दर खेले जाने वाले खेल",{"$f":"DICTIONARY!P1666","v":"GAMES AND SPORTS ( खेल - कूद )"},"अन्दर खेले जाने वाले खेल","अन्दर खेले जाने वाले खेल"]
[null,null,null,null,null,null,null,null,null,{"$f":"IF(K1643=\" \",\" \",ROWS($K$5:K1643))","v":1639},{"$f":"DICTIONARY!M1667","v":" President"},{"$f":"DICTIONARY!O1667","v":"राष्ट्रपति"},"राष्ट्रपति",{"$f":"DICTIONARY!P1667","v":"GOVERNMENT ( सरकारी )"},"राष्ट्रपति","राष्ट्रपति"]
[null,null,null,null,null,null,null,null,null,{"$f":"IF(K1644=\" \",\" \",ROWS($K$5:K1644))","v":1640},{"$f":"DICTIONARY!M1668","v":"Prime Minister"},{"$f":"DICTIONARY!O1668","v":"प्रधानमंत्री"},"प्रधानमंत्री",{"$f":"DICTIONARY!P1668","v":"GOVERNMENT ( सरकारी )"},"प्रधानमंत्री","प्रधानमंत्री"]
[null,null,null,null,null,null,null,null,null,{"$f":"IF(K1645=\" \",\" \",ROWS($K$5:K1645))","v":1641},{"$f":"DICTIONARY!M1669","v":"Governor"},{"$f":"DICTIONARY!O1669","v":"राज्यपाल"},"राज्यपाल",{"$f":"DICTIONARY!P1669","v":"GOVERNMENT ( सरकारी )"},"राज्यपाल","राज्यपाल"]
[null,null,null,null,null,null,null,null,null,{"$f":"IF(K1646=\" \",\" \",ROWS($K$5:K1646))","v":1642},{"$f":"DICTIONARY!M1670","v":"King"},{"$f":"DICTIONARY!O1670","v":"राजा"},"राजा",{"$f":"DICTIONARY!P1670","v":"GOVERNMENT ( सरकारी )"},"राजा","राजा"]
[null,null,null,null,null,null,null,null,null,{"$f":"IF(K1647=\" \",\" \",ROWS($K$5:K1647))","v":1643},{"$f":"DICTIONARY!M1671","v":"Rular"},{"$f":"DICTIONARY!O1671","v":"शासक"},"शासक",{"$f":"DICTIONARY!P1671","v":"GOVERNMENT ( सरकारी )"},"शासक","शासक"]
[null,null,null,null,null,null,null,null,null,{"$f":"IF(K1648=\" \",\" \",ROWS($K$5:K1648))","v":1644},{"$f":"DICTIONARY!M1672","v":"Chief Minister"},{"$f":"DICTIONARY!O1672","v":"मुख्यमंत्री"},"मुख्यमंत्री",{"$f":"DICTIONARY!P1672","v":"GOVERNMENT ( सरकारी )"},"मुख्यमंत्री","मुख्यमंत्री"]
[null,null,null,null,null,null,null,null,null,{"$f":"IF(K1649=\" \",\" \",ROWS($K$5:K1649))","v":1645},{"$f":"DICTIONARY!M1673","v":"Queen"},{"$f":"DICTIONARY!O1673","v":"रानी"},"रानी",{"$f":"DICTIONARY!P1673","v":"GOVERNMENT ( सरकारी )"},"रानी","रानी"]
[null,null,null,null,null,null,null,null,null,{"$f":"IF(K1650=\" \",\" \",ROWS($K$5:K1650))","v":1646},{"$f":"DICTIONARY!M1674","v":"Prince"},{"$f":"DICTIONARY!O1674","v":"राजकुमार"},"राजकुमार",{"$f":"DICTIONARY!P1674","v":"GOVERNMENT ( सरकारी )"},"राजकुमार","राजकुमार"]
[null,null,null,null,null,null,null,null,null,{"$f":"IF(K1651=\" \",\" \",ROWS($K$5:K1651))","v":1647},{"$f":"DICTIONARY!M1675","v":"Princess"},{"$f":"DICTIONARY!O1675","v":"राजकुमारी"},"राजकुमारी",{"$f":"DICTIONARY!P1675","v":"GOVERNMENT ( सरकारी )"},"राजकुमारी","राजकुमारी"]
[null,null,null,null,null,null,null,null,null,{"$f":"IF(K1652=\" \",\" \",ROWS($K$5:K1652))","v":1648},{"$f":"DICTIONARY!M1676","v":"Subject"},{"$f":"DICTIONARY!O1676","v":"प्रजा"},"प्रजा",{"$f":"DICTIONARY!P1676","v":"GOVERNMENT ( सरकारी )"},"प्रजा","प्रजा"]
[null,null,null,null,null,null,null,null,null,{"$f":"IF(K1653=\" \",\" \",ROWS($K$5:K1653))","v":1649},{"$f":"DICTIONARY!M1677","v":"Minister"},{"$f":"DICTIONARY!O1677","v":"मंत्री"},"मंत्री",{"$f":"DICTIONARY!P1677","v":"GOVERNMENT ( सरकारी )"},"मंत्री","मंत्री"]
[null,null,null,null,null,null,null,null,null,{"$f":"IF(K1654=\" \",\" \",ROWS($K$5:K1654))","v":1650},{"$f":"DICTIONARY!M1678","v":" Secretary"},{"$f":"DICTIONARY!O1678","v":"सचिव"},"सचिव",{"$f":"DICTIONARY!P1678","v":"GOVERNMENT ( सरकारी )"},"सचिव","सचिव"]
[null,null,null,null,null,null,null,null,null,{"$f":"IF(K1655=\" \",\" \",ROWS($K$5:K1655))","v":1651},{"$f":"DICTIONARY!M1679","v":"Democracy"},{"$f":"DICTIONARY!O1679","v":"प्रजातंत्र"},"प्रजातंत्र",{"$f":"DICTIONARY!P1679","v":"GOVERNMENT ( सरकारी )"},"प्रजातंत्र","प्रजातंत्र"]
[null,null,null,null,null,null,null,null,null,{"$f":"IF(K1656=\" \",\" \",ROWS($K$5:K1656))","v":1652},{"$f":"DICTIONARY!M1680","v":" Steel"},{"$f":"DICTIONARY!O1680","v":"इस्पात"},"इस्पात",{"$f":"DICTIONARY!P1680","v":"METALS AND MINERALS ( धातु और द्रव्य )"},"इस्पात","इस्पात"]
[null,null,null,null,null,null,null,null,null,{"$f":"IF(K1657=\" \",\" \",ROWS($K$5:K1657))","v":1653},{"$f":"DICTIONARY!M1681","v":"Gold"},{"$f":"DICTIONARY!O1681","v":"सोना"},"सोना",{"$f":"DICTIONARY!P1681","v":"METALS AND MINERALS ( धातु और द्रव्य )"},"सोना","सोना"]
[null,null,null,null,null,null,null,null,null,{"$f":"IF(K1658=\" \",\" \",ROWS($K$5:K1658))","v":1654},{"$f":"DICTIONARY!M1682","v":"Silver"},{"$f":"DICTIONARY!O1682","v":"चांदी"},"चांदी",{"$f":"DICTIONARY!P1682","v":"METALS AND MINERALS ( धातु और द्रव्य )"},"चांदी","चांदी"]
[null,null,null,null,null,null,null,null,null,{"$f":"IF(K1659=\" \",\" \",ROWS($K$5:K1659))","v":1655},{"$f":"DICTIONARY!M1683","v":"Iron"},{"$f":"DICTIONARY!O1683","v":"लोहा"},"लोहा",{"$f":"DICTIONARY!P1683","v":"METALS AND MINERALS ( धातु और द्रव्य )"},"लोहा","लोहा"]
[null,null,null,null,null,null,null,null,null,{"$f":"IF(K1660=\" \",\" \",ROWS($K$5:K1660))","v":1656},{"$f":"DICTIONARY!M1684","v":" Lead"},{"$f":"DICTIONARY!O1684","v":"सीसा"},"सीसा",{"$f":"DICTIONARY!P1684","v":"METALS AND MINERALS ( धातु और द्रव्य )"},"सीसा","सीसा"]
[null,null,null,null,null,null,null,null,null,{"$f":"IF(K1661=\" \",\" \",ROWS($K$5:K1661))","v":1657},{"$f":"DICTIONARY!M1685","v":"Zinc"},{"$f":"DICTIONARY!O1685","v":"जस्ता"},"जस्ता",{"$f":"DICTIONARY!P1685","v":"METALS AND MINERALS ( धातु और द्रव्य )"},"जस्ता","जस्ता"]
[null,null,null,null,null,null,null,null,null,{"$f":"IF(K1662=\" \",\" \",ROWS($K$5:K1662))","v":1658},{"$f":"DICTIONARY!M1686","v":"Mica"},{"$f":"DICTIONARY!O1686","v":"अभ्रक"},"अभ्रक",{"$f":"DICTIONARY!P1686","v":"METALS AND MINERALS ( धातु और द्रव्य )"},"अभ्रक","अभ्रक"]
[null,null,null,null,null,null,null,null,null,{"$f":"IF(K1663=\" \",\" \",ROWS($K$5:K1663))","v":1659},{"$f":"DICTIONARY!M1687","v":"Coal"},{"$f":"DICTIONARY!O1687","v":"कोयला"},"कोयला",{"$f":"DICTIONARY!P1687","v":"METALS AND MINERALS ( धातु और द्रव्य )"},"कोयला","कोयला"]
[null,null,null,null,null,null,null,null,null,{"$f":"IF(K1664=\" \",\" \",ROWS($K$5:K1664))","v":1660},{"$f":"DICTIONARY!M1688","v":"Tin"},{"$f":"DICTIONARY!O1688","v":"टिन"},"टिन",{"$f":"DICTIONARY!P1688","v":"METALS AND MINERALS ( धातु और द्रव्य )"},"टिन","टिन"]
[null,null,null,null,null,null,null,null,null,{"$f":"IF(K1665=\" \",\" \",ROWS($K$5:K1665))","v":1661},{"$f":"DICTIONARY!M1689","v":"Brass"},{"$f":"DICTIONARY!O1689","v":"पीतल"},"पीतल",{"$f":"DICTIONARY!P1689","v":"METALS AND MINERALS ( धातु और द्रव्य )"},"पीतल","पीतल"]
[null,null,null,null,null,null,null,null,null,{"$f":"IF(K1666=\" \",\" \",ROWS($K$5:K1666))","v":1662},{"$f":"DICTIONARY!M1690","v":" Salt"},{"$f":"DICTIONARY!O1690","v":"नमक"},"नमक",{"$f":"DICTIONARY!P1690","v":"METALS AND MINERALS ( धातु और द्रव्य )"},"नमक","नमक"]
[null,null,null,null,null,null,null,null,null,{"$f":"IF(K1667=\" \",\" \",ROWS($K$5:K1667))","v":1663},{"$f":"DICTIONARY!M1691","v":"Charcoal"},{"$f":"DICTIONARY!O1691","v":"काष्ठ कोयला"},"काष्ठ कोयला",{"$f":"DICTIONARY!P1691","v":"METALS AND MINERALS ( धातु और द्रव्य )"},"काष्ठ कोयला","काष्ठ कोयला"]
[null,null,null,null,null,null,null,null,null,{"$f":"IF(K1668=\" \",\" \",ROWS($K$5:K1668))","v":1664},{"$f":"DICTIONARY!M1692","v":" Alum"},{"$f":"DICTIONARY!O1692","v":"फिटकरी"},"फिटकरी",{"$f":"DICTIONARY!P1692","v":"METALS AND MINERALS ( धातु और द्रव्य )"},"फिटकरी","फिटकरी"]
[null,null,null,null,null,null,null,null,null,{"$f":"IF(K1669=\" \",\" \",ROWS($K$5:K1669))","v":1665},{"$f":"DICTIONARY!M1693","v":" Sulphur"},{"$f":"DICTIONARY!O1693","v":"गंधक"},"गंधक",{"$f":"DICTIONARY!P1693","v":"METALS AND MINERALS ( धातु और द्रव्य )"},{"$f":"M1669","v":"गंधक"},{"$f":"L1669","v":"गंधक"}]
[null,null,null,null,null,null,null,null,null,{"$f":"IF(K1670=\" \",\" \",ROWS($K$5:K1670))","v":1666},{"$f":"DICTIONARY!M1694","v":"Copper"},{"$f":"DICTIONARY!O1694","v":"ताम्बा"},{"$f":"L1670","v":"ताम्बा"},{"$f":"DICTIONARY!P1694","v":"METALS AND MINERALS ( धातु और द्रव्य )"},"ताम्बा","ताम्बा"]
[null,null,null,null,null,null,null,null,null,{"$f":"IF(K1671=\" \",\" \",ROWS($K$5:K1671))","v":1667},{"$f":"DICTIONARY!M1695","v":" Lime"},{"$f":"DICTIONARY!O1695","v":"चूना"},"चूना",{"$f":"DICTIONARY!P1695","v":"METALS AND MINERALS ( धातु और द्रव्य )"},"चूना","चूना"]
[null,null,null,null,null,null,null,null,null,{"$f":"IF(K1672=\" \",\" \",ROWS($K$5:K1672))","v":1668},{"$f":"DICTIONARY!M1696","v":" Stone"},{"$f":"DICTIONARY!O1696","v":"पत्थर"},"पत्थर",{"$f":"DICTIONARY!P1696","v":"METALS AND MINERALS ( धातु और द्रव्य )"},"पत्थर","पत्थर"]
[null,null,null,null,null,null,null,null,null,{"$f":"IF(K1673=\" \",\" \",ROWS($K$5:K1673))","v":1669},{"$f":"DICTIONARY!M1697","v":"Mine"},{"$f":"DICTIONARY!O1697","v":"खान"},"खान",{"$f":"DICTIONARY!P1697","v":"METALS AND MINERALS ( धातु और द्रव्य )"},"खान","खान"]
[null,null,null,null,null,null,null,null,null,{"$f":"IF(K1674=\" \",\" \",ROWS($K$5:K1674))","v":1670},{"$f":"DICTIONARY!M1698","v":"Metal"},{"$f":"DICTIONARY!O1698","v":"धातु"},"धातु",{"$f":"DICTIONARY!P1698","v":"METALS AND MINERALS ( धातु और द्रव्य )"},"धातु","धातु"]
[null,null,null,null,null,null,null,null,null,{"$f":"IF(K1675=\" \",\" \",ROWS($K$5:K1675))","v":1671},{"$f":"DICTIONARY!M1699","v":"Bell-Metal"},{"$f":"DICTIONARY!O1699","v":"कांसा"},"कांसा",{"$f":"DICTIONARY!P1699","v":"METALS AND MINERALS ( धातु और द्रव्य )"},"कांसा","कांसा"]
[null,null,null,null,null,null,null,null,null,{"$f":"IF(K1676=\" \",\" \",ROWS($K$5:K1676))","v":1672},{"$f":"DICTIONARY!M1700","v":"Sand"},{"$f":"DICTIONARY!O1700","v":"रेत"},"रेत",{"$f":"DICTIONARY!P1700","v":"METALS AND MINERALS ( धातु और द्रव्य )"},"रेत","रेत"]
[null,null,null,null,null,null,null,null,null,{"$f":"IF(K1677=\" \",\" \",ROWS($K$5:K1677))","v":1673},{"$f":"DICTIONARY!M1701","v":"Emerlad"},{"$f":"DICTIONARY!O1701","v":"मरकत मणि"},"मरकत मणि",{"$f":"DICTIONARY!P1701","v":"METALS AND MINERALS ( धातु और द्रव्य )"},"मरकत मणि","मरकत मणि"]
[null,null,null,null,null,null,null,null,null,{"$f":"IF(K1678=\" \",\" \",ROWS($K$5:K1678))","v":1674},{"$f":"DICTIONARY!M1702","v":"Ruby"},{"$f":"DICTIONARY!O1702","v":"लाल"},"लाल",{"$f":"DICTIONARY!P1702","v":"METALS AND MINERALS ( धातु और द्रव्य )"},"लाल","लाल"]
[null,null,null,null,null,null,null,null,null,{"$f":"IF(K1679=\" \",\" \",ROWS($K$5:K1679))","v":1675},{"$f":"DICTIONARY!M1703","v":"Minerals"},{"$f":"DICTIONARY!O1703","v":"खनिज"},"खनिज",{"$f":"DICTIONARY!P1703","v":"METALS AND MINERALS ( धातु और द्रव्य )"},"खनिज","खनिज"]
[null,null,null,null,null,null,null,null,null,{"$f":"IF(K1680=\" \",\" \",ROWS($K$5:K1680))","v":1676},{"$f":"DICTIONARY!M1704","v":"Borax"},{"$f":"DICTIONARY!O1704","v":"सोहागा"},"सोहागा",{"$f":"DICTIONARY!P1704","v":"METALS AND MINERALS ( धातु और द्रव्य )"},"सोहागा","सोहागा"]
[null,null,null,null,null,null,null,null,null,{"$f":"IF(K1681=\" \",\" \",ROWS($K$5:K1681))","v":1677},{"$f":"DICTIONARY!M1705","v":"Marble"},{"$f":"DICTIONARY!O1705","v":"संगमरमर"},"संगमरमर",{"$f":"DICTIONARY!P1705","v":"METALS AND MINERALS ( धातु और द्रव्य )"},"संगमरमर","संगमरमर"]
[null,null,null,null,null,null,null,null,null,{"$f":"IF(K1682=\" \",\" \",ROWS($K$5:K1682))","v":1678},{"$f":"DICTIONARY!M1706","v":"Flint"},{"$f":"DICTIONARY!O1706","v":"चकमक पत्थर"},"चकमक पत्थर",{"$f":"DICTIONARY!P1706","v":"METALS AND MINERALS ( धातु और द्रव्य )"},"चकमक पत्थर","चकमक पत्थर"]
[null,null,null,null,null,null,null,null,null,{"$f":"IF(K1683=\" \",\" \",ROWS($K$5:K1683))","v":1679},{"$f":"DICTIONARY!M1707","v":"Glass"},{"$f":"DICTIONARY!O1707","v":"कांच"},"कांच",{"$f":"DICTIONARY!P1707","v":"METALS AND MINERALS ( धातु और द्रव्य )"},"कांच","कांच"]
[null,null,null,null,null,null,null,null,null,{"$f":"IF(K1684=\" \",\" \",ROWS($K$5:K1684))","v":1680},{"$f":"DICTIONARY!M1708","v":"Blue Vitriol"},{"$f":"DICTIONARY!O1708","v":"तूतिया"},"तूतिया",{"$f":"DICTIONARY!P1708","v":"METALS AND MINERALS ( धातु और द्रव्य )"},"तूतिया","तूतिया"]
[null,null,null,null,null,null,null,null,null,{"$f":"IF(K1685=\" \",\" \",ROWS($K$5:K1685))","v":1681},{"$f":"DICTIONARY!M1709","v":"Crystal"},{"$f":"DICTIONARY!O1709","v":"स्फटिक"},"स्फटिक",{"$f":"DICTIONARY!P1709","v":"METALS AND MINERALS ( धातु और द्रव्य )"},"स्फटिक","स्फटिक"]
[null,null,null,null,null,null,null,null,null,{"$f":"IF(K1686=\" \",\" \",ROWS($K$5:K1686))","v":1682},{"$f":"DICTIONARY!M1710","v":"Green Vitriol"},{"$f":"DICTIONARY!O1710","v":"हिराकन"},"हिराकन",{"$f":"DICTIONARY!P1710","v":"METALS AND MINERALS ( धातु और द्रव्य )"},"हिराकन","हिराकन"]
[null,null,null,null,null,null,null,null,null,{"$f":"IF(K1687=\" \",\" \",ROWS($K$5:K1687))","v":1683},{"$f":"DICTIONARY!M1711","v":"Magnet"},{"$f":"DICTIONARY!O1711","v":"चुम्बक"},"चुम्बक",{"$f":"DICTIONARY!P1711","v":"METALS AND MINERALS ( धातु और द्रव्य )"},"चुम्बक","चुम्बक"]
[null,null,null,null,null,null,null,null,null,{"$f":"IF(K1688=\" \",\" \",ROWS($K$5:K1688))","v":1684},{"$f":"DICTIONARY!M1712","v":"Coral"},{"$f":"DICTIONARY!O1712","v":"मूंगा"},"मूंगा",{"$f":"DICTIONARY!P1712","v":"METALS AND MINERALS ( धातु और द्रव्य )"},"मूंगा","मूंगा"]
[null,null,null,null,null,null,null,null,null,{"$f":"IF(K1689=\" \",\" \",ROWS($K$5:K1689))","v":1685},{"$f":"DICTIONARY!M1713","v":"Chalk"},{"$f":"DICTIONARY!O1713","v":"खड़िया"},"खड़िया",{"$f":"DICTIONARY!P1713","v":"METALS AND MINERALS ( धातु और द्रव्य )"},"खड़िया","खड़िया"]
[null,null,null,null,null,null,null,null,null,{"$f":"IF(K1690=\" \",\" \",ROWS($K$5:K1690))","v":1686},{"$f":"DICTIONARY!M1714","v":"Diamond"},{"$f":"DICTIONARY!O1714","v":"हीरा"},"हीरा",{"$f":"DICTIONARY!P1714","v":"METALS AND MINERALS ( धातु और द्रव्य )"},"हीरा","हीरा"]
[null,null,null,null,null,null,null,null,null,{"$f":"IF(K1691=\" \",\" \",ROWS($K$5:K1691))","v":1687},{"$f":"DICTIONARY!M1715","v":"Mercury"},{"$f":"DICTIONARY!O1715","v":"पारा"},"पारा",{"$f":"DICTIONARY!P1715","v":"METALS AND MINERALS ( धातु और द्रव्य )"},"पारा","पारा"]
[null,null,null,null,null,null,null,null,null,{"$f":"IF(K1692=\" \",\" \",ROWS($K$5:K1692))","v":1688},{"$f":"DICTIONARY!M1716","v":"Necklace"},{"$f":"DICTIONARY!O1716","v":"हार"},"हार",{"$f":"DICTIONARY!P1716","v":"ORNAMENTS ( आभूषण )"},"हार","हार"]
[null,null,null,null,null,null,null,null,null,{"$f":"IF(K1693=\" \",\" \",ROWS($K$5:K1693))","v":1689},{"$f":"DICTIONARY!M1717","v":"Bracelet"},{"$f":"DICTIONARY!O1717","v":"कंगन"},"कंगन",{"$f":"DICTIONARY!P1717","v":"ORNAMENTS ( आभूषण )"},"कंगन","कंगन"]
[null,null,null,null,null,null,null,null,null,{"$f":"IF(K1694=\" \",\" \",ROWS($K$5:K1694))","v":1690},{"$f":"DICTIONARY!M1718","v":"Armlet"},{"$f":"DICTIONARY!O1718","v":"बाजूबंद"},"बाजूबंद",{"$f":"DICTIONARY!P1718","v":"ORNAMENTS ( आभूषण )"},"बाजूबंद","बाजूबंद"]
[null,null,null,null,null,null,null,null,null,{"$f":"IF(K1695=\" \",\" \",ROWS($K$5:K1695))","v":1691},{"$f":"DICTIONARY!M1719","v":"Ring"},{"$f":"DICTIONARY!O1719","v":"अंगूठी"},"अंगूठी",{"$f":"DICTIONARY!P1719","v":"ORNAMENTS ( आभूषण )"},"अंगूठी","अंगूठी"]
[null,null,null,null,null,null,null,null,null,{"$f":"IF(K1696=\" \",\" \",ROWS($K$5:K1696))","v":1692},{"$f":"DICTIONARY!M1720","v":"Crown"},{"$f":"DICTIONARY!O1720","v":"मुकुट"},"मुकुट",{"$f":"DICTIONARY!P1720","v":"ORNAMENTS ( आभूषण )"},"मुकुट","मुकुट"]
[null,null,null,null,null,null,null,null,null,{"$f":"IF(K1697=\" \",\" \",ROWS($K$5:K1697))","v":1693},{"$f":"DICTIONARY!M1721","v":"Ear-Ring"},{"$f":"DICTIONARY!O1721","v":"कान की बाली"},"कान की बाली",{"$f":"DICTIONARY!P1721","v":"ORNAMENTS ( आभूषण )"},"कान की बाली","कान की बाली"]
[null,null,null,null,null,null,null,null,null,{"$f":"IF(K1698=\" \",\" \",ROWS($K$5:K1698))","v":1694},{"$f":"DICTIONARY!M1722","v":"Conch-Bangle"},{"$f":"DICTIONARY!O1722","v":"शंख की चूड़ी"},"शंख की चूड़ी",{"$f":"DICTIONARY!P1722","v":"ORNAMENTS ( आभूषण )"},"शंख की चूड़ी","शंख की चूड़ी"]
[null,null,null,null,null,null,null,null,null,{"$f":"IF(K1699=\" \",\" \",ROWS($K$5:K1699))","v":1695},{"$f":"DICTIONARY!M1723","v":"Anklet"},{"$f":"DICTIONARY!O1723","v":"पैर का गहना"},"पैर का गहना",{"$f":"DICTIONARY!P1723","v":"ORNAMENTS ( आभूषण )"},"पैर का गहना","पैर का गहना"]
[null,null,null,null,null,null,null,null,null,{"$f":"IF(K1700=\" \",\" \",ROWS($K$5:K1700))","v":1696},{"$f":"DICTIONARY!M1724","v":"Nose-Ring"},{"$f":"DICTIONARY!O1724","v":"नथ"},"नथ",{"$f":"DICTIONARY!P1724","v":"ORNAMENTS ( आभूषण )"},"नथ","नथ"]
[null,null,null,null,null,null,null,null,null,{"$f":"IF(K1701=\" \",\" \",ROWS($K$5:K1701))","v":1697},{"$f":"DICTIONARY!M1725","v":"Bangles"},{"$f":"DICTIONARY!O1725","v":"चूड़ी"},"चूड़ी",{"$f":"DICTIONARY!P1725","v":"ORNAMENTS ( आभूषण )"},"चूड़ी","चूड़ी"]
[null,null,null,null,null,null,null,null,null,{"$f":"IF(K1702=\" \",\" \",ROWS($K$5:K1702))","v":1698},{"$f":"DICTIONARY!M1726","v":"Pendant"},{"$f":"DICTIONARY!O1726","v":"झुमका"},"झुमका",{"$f":"DICTIONARY!P1726","v":"ORNAMENTS ( आभूषण )"},"झुमका","झुमका"]
[null,null,null,null,null,null,null,null,null,{"$f":"IF(K1703=\" \",\" \",ROWS($K$5:K1703))","v":1699},{"$f":"DICTIONARY!M1727","v":"Wrist-Chain"},{"$f":"DICTIONARY!O1727","v":"कमरबंध"},"कमरबंध",{"$f":"DICTIONARY!P1727","v":"ORNAMENTS ( आभूषण )"},"कमरबंध","कमरबंध"]
[null,null,null,null,null,null,null,null,null,{"$f":"IF(K1704=\" \",\" \",ROWS($K$5:K1704))","v":1700},{"$f":"DICTIONARY!M1728","v":"Gram"},{"$f":"DICTIONARY!O1728","v":"चना"},"चना",{"$f":"DICTIONARY!P1728","v":"CORNS AND SPICES ( अन्न और मसाले )"},"चना","चना"]
[null,null,null,null,null,null,null,null,null,{"$f":"IF(K1705=\" \",\" \",ROWS($K$5:K1705))","v":1701},{"$f":"DICTIONARY!M1729","v":"Cassia"},{"$f":"DICTIONARY!O1729","v":"तेजपात"},"तेजपात",{"$f":"DICTIONARY!P1729","v":"CORNS AND SPICES ( अन्न और मसाले )"},"तेजपात","तेजपात"]
[null,null,null,null,null,null,null,null,null,{"$f":"IF(K1706=\" \",\" \",ROWS($K$5:K1706))","v":1702},{"$f":"DICTIONARY!M1730","v":"Pea"},{"$f":"DICTIONARY!O1730","v":"मटर"},"मटर",{"$f":"DICTIONARY!P1730","v":"CORNS AND SPICES ( अन्न और मसाले )"},"मटर","मटर"]
[null,null,null,null,null,null,null,null,null,{"$f":"IF(K1707=\" \",\" \",ROWS($K$5:K1707))","v":1703},{"$f":"DICTIONARY!M1731","v":"Bamboo Camphor"},{"$f":"DICTIONARY!O1731","v":"वंशलोचन"},"वंशलोचन",{"$f":"DICTIONARY!P1731","v":"CORNS AND SPICES ( अन्न और मसाले )"},"वंशलोचन","वंशलोचन"]
[null,null,null,null,null,null,null,null,null,{"$f":"IF(K1708=\" \",\" \",ROWS($K$5:K1708))","v":1704},{"$f":"DICTIONARY!M1732","v":"Salt Petre"},{"$f":"DICTIONARY!O1732","v":"शोरा"},"शोरा",{"$f":"DICTIONARY!P1732","v":"CORNS AND SPICES ( अन्न और मसाले )"},"शोरा","शोरा"]
[null,null,null,null,null,null,null,null,null,{"$f":"IF(K1709=\" \",\" \",ROWS($K$5:K1709))","v":1705},{"$f":"DICTIONARY!M1733","v":"Gall-Nut"},{"$f":"DICTIONARY!O1733","v":"माजूफल"},"माजूफल",{"$f":"DICTIONARY!P1733","v":"CORNS AND SPICES ( अन्न और मसाले )"},"माजूफल","माजूफल"]
[null,null,null,null,null,null,null,null,null,{"$f":"IF(K1710=\" \",\" \",ROWS($K$5:K1710))","v":1706},{"$f":"DICTIONARY!M1734","v":"Long-Peeper"},{"$f":"DICTIONARY!O1734","v":"पीपल"},"पीपल",{"$f":"DICTIONARY!P1734","v":"CORNS AND SPICES ( अन्न और मसाले )"},"पीपल","पीपल"]
[null,null,null,null,null,null,null,null,null,{"$f":"IF(K1711=\" \",\" \",ROWS($K$5:K1711))","v":1707},{"$f":"DICTIONARY!M1735","v":"Rock-Salt"},{"$f":"DICTIONARY!O1735","v":"सेंधा नमक"},"सेंधा नमक",{"$f":"DICTIONARY!P1735","v":"CORNS AND SPICES ( अन्न और मसाले )"},"सेंधा नमक","सेंधा नमक"]
[null,null,null,null,null,null,null,null,null,{"$f":"IF(K1712=\" \",\" \",ROWS($K$5:K1712))","v":1708},{"$f":"DICTIONARY!M1736","v":"Lentil"},{"$f":"DICTIONARY!O1736","v":"मसूर"},"मसूर",{"$f":"DICTIONARY!P1736","v":"CORNS AND SPICES ( अन्न और मसाले )"},"मसूर","मसूर"]
[null,null,null,null,null,null,null,null,null,{"$f":"IF(K1713=\" \",\" \",ROWS($K$5:K1713))","v":1709},{"$f":"DICTIONARY!M1737","v":"Seed"},{"$f":"DICTIONARY!O1737","v":"बीज"},"बीज",{"$f":"DICTIONARY!P1737","v":"CORNS AND SPICES ( अन्न और मसाले )"},"बीज","बीज"]
[null,null,null,null,null,null,null,null,null,{"$f":"IF(K1714=\" \",\" \",ROWS($K$5:K1714))","v":1710},{"$f":"DICTIONARY!M1738","v":"Senna"},{"$f":"DICTIONARY!O1738","v":"सनाय"},"सनाय",{"$f":"DICTIONARY!P1738","v":"CORNS AND SPICES ( अन्न और मसाले )"},"सनाय","सनाय"]
[null,null,null,null,null,null,null,null,null,{"$f":"IF(K1715=\" \",\" \",ROWS($K$5:K1715))","v":1711},{"$f":"DICTIONARY!M1739","v":"Alum"},{"$f":"DICTIONARY!O1739","v":"फिटकरी"},"फिटकरी",{"$f":"DICTIONARY!P1739","v":"CORNS AND SPICES ( अन्न और मसाले )"},"फिटकरी","फिटकरी"]
[null,null,null,null,null,null,null,null,null,{"$f":"IF(K1716=\" \",\" \",ROWS($K$5:K1716))","v":1712},{"$f":"DICTIONARY!M1740","v":"Cubed"},{"$f":"DICTIONARY!O1740","v":"कबाबचीनी"},"कबाबचीनी",{"$f":"DICTIONARY!P1740","v":"CORNS AND SPICES ( अन्न और मसाले )"},"कबाबचीनी","कबाबचीनी"]
[null,null,null,null,null,null,null,null,null,{"$f":"IF(K1717=\" \",\" \",ROWS($K$5:K1717))","v":1713},{"$f":"DICTIONARY!M1741","v":"Musk"},{"$f":"DICTIONARY!O1741","v":"कस्तूरी"},"कस्तूरी",{"$f":"DICTIONARY!P1741","v":"CORNS AND SPICES ( अन्न और मसाले )"},"कस्तूरी","कस्तूरी"]
[null,null,null,null,null,null,null,null,null,{"$f":"IF(K1718=\" \",\" \",ROWS($K$5:K1718))","v":1714},{"$f":"DICTIONARY!M1742","v":"Yeast"},{"$f":"DICTIONARY!O1742","v":"खमीर"},"खमीर",{"$f":"DICTIONARY!P1742","v":"CORNS AND SPICES ( अन्न और मसाले )"},"खमीर","खमीर"]
[null,null,null,null,null,null,null,null,null,{"$f":"IF(K1719=\" \",\" \",ROWS($K$5:K1719))","v":1715},{"$f":"DICTIONARY!M1743","v":"Ruddle"},{"$f":"DICTIONARY!O1743","v":"गेरू"},"गेरू",{"$f":"DICTIONARY!P1743","v":"CORNS AND SPICES ( अन्न और मसाले )"},"गेरू","गेरू"]
[null,null,null,null,null,null,null,null,null,{"$f":"IF(K1720=\" \",\" \",ROWS($K$5:K1720))","v":1716},{"$f":"DICTIONARY!M1744","v":"Sandal"},{"$f":"DICTIONARY!O1744","v":"चन्दन"},"चन्दन",{"$f":"DICTIONARY!P1744","v":"CORNS AND SPICES ( अन्न और मसाले )"},"चन्दन","चन्दन"]
[null,null,null,null,null,null,null,null,null,{"$f":"IF(K1721=\" \",\" \",ROWS($K$5:K1721))","v":1717},{"$f":"DICTIONARY!M1745","v":"Sago"},{"$f":"DICTIONARY!O1745","v":"साबूदाना"},"साबूदाना",{"$f":"DICTIONARY!P1745","v":"CORNS AND SPICES ( अन्न और मसाले )"},"साबूदाना","साबूदाना"]
[null,null,null,null,null,null,null,null,null,{"$f":"IF(K1722=\" \",\" \",ROWS($K$5:K1722))","v":1718},{"$f":"DICTIONARY!M1746","v":"Poppy-Seed"},{"$f":"DICTIONARY!O1746","v":"पोस्ता"},"पोस्ता",{"$f":"DICTIONARY!P1746","v":"CORNS AND SPICES ( अन्न और मसाले )"},"पोस्ता","पोस्ता"]
[null,null,null,null,null,null,null,null,null,{"$f":"IF(K1723=\" \",\" \",ROWS($K$5:K1723))","v":1719},{"$f":"DICTIONARY!M1747","v":"Maize"},{"$f":"DICTIONARY!O1747","v":"मक्का"},"मक्का",{"$f":"DICTIONARY!P1747","v":"CORNS AND SPICES ( अन्न और मसाले )"},"मक्का","मक्का"]
[null,null,null,null,null,null,null,null,null,{"$f":"IF(K1724=\" \",\" \",ROWS($K$5:K1724))","v":1720},{"$f":"DICTIONARY!M1748","v":"Pulse"},{"$f":"DICTIONARY!O1748","v":"दाल"},"दाल",{"$f":"DICTIONARY!P1748","v":"CORNS AND SPICES ( अन्न और मसाले )"},"दाल","दाल"]
[null,null,null,null,null,null,null,null,null,{"$f":"IF(K1725=\" \",\" \",ROWS($K$5:K1725))","v":1721},{"$f":"DICTIONARY!M1749","v":"Rice"},{"$f":"DICTIONARY!O1749","v":"चावल"},"चावल",{"$f":"DICTIONARY!P1749","v":"CORNS AND SPICES ( अन्न और मसाले )"},"चावल","चावल"]
[null,null,null,null,null,null,null,null,null,{"$f":"IF(K1726=\" \",\" \",ROWS($K$5:K1726))","v":1722},{"$f":"DICTIONARY!M1750","v":"Black Peeper"},{"$f":"DICTIONARY!O1750","v":"काली मिर्च"},"काली मिर्च",{"$f":"DICTIONARY!P1750","v":"CORNS AND SPICES ( अन्न और मसाले )"},"काली मिर्च","काली मिर्च"]
[null,null,null,null,null,null,null,null,null,{"$f":"IF(K1727=\" \",\" \",ROWS($K$5:K1727))","v":1723},{"$f":"DICTIONARY!M1751","v":"Paddy"},{"$f":"DICTIONARY!O1751","v":"धान"},"धान",{"$f":"DICTIONARY!P1751","v":"CORNS AND SPICES ( अन्न और मसाले )"},"धान","धान"]
[null,null,null,null,null,null,null,null,null,{"$f":"IF(K1728=\" \",\" \",ROWS($K$5:K1728))","v":1724},{"$f":"DICTIONARY!M1752","v":"Bonezin"},{"$f":"DICTIONARY!O1752","v":"लोबान"},"लोबान",{"$f":"DICTIONARY!P1752","v":"CORNS AND SPICES ( अन्न और मसाले )"},"लोबान","लोबान"]
[null,null,null,null,null,null,null,null,null,{"$f":"IF(K1729=\" \",\" \",ROWS($K$5:K1729))","v":1725},{"$f":"DICTIONARY!M1753","v":"Barley"},{"$f":"DICTIONARY!O1753","v":"जौ"},"जौ",{"$f":"DICTIONARY!P1753","v":"CORNS AND SPICES ( अन्न और मसाले )"},"जौ","जौ"]
[null,null,null,null,null,null,null,null,null,{"$f":"IF(K1730=\" \",\" \",ROWS($K$5:K1730))","v":1726},{"$f":"DICTIONARY!M1754","v":"Flour"},{"$f":"DICTIONARY!O1754","v":"आटा"},"आटा",{"$f":"DICTIONARY!P1754","v":"CORNS AND SPICES ( अन्न और मसाले )"},"आटा","आटा"]
[null,null,null,null,null,null,null,null,null,{"$f":"IF(K1731=\" \",\" \",ROWS($K$5:K1731))","v":1727},{"$f":"DICTIONARY!M1755","v":"Clove"},{"$f":"DICTIONARY!O1755","v":"लोंग"},"लोंग",{"$f":"DICTIONARY!P1755","v":"CORNS AND SPICES ( अन्न और मसाले )"},"लोंग","लोंग"]
[null,null,null,null,null,null,null,null,null,{"$f":"IF(K1732=\" \",\" \",ROWS($K$5:K1732))","v":1728},{"$f":"DICTIONARY!M1756","v":"Pigeon Pea"},{"$f":"DICTIONARY!O1756","v":"अरहर"},"अरहर",{"$f":"DICTIONARY!P1756","v":"CORNS AND SPICES ( अन्न और मसाले )"},"अरहर","अरहर"]
[null,null,null,null,null,null,null,null,null,{"$f":"IF(K1733=\" \",\" \",ROWS($K$5:K1733))","v":1729},{"$f":"DICTIONARY!M1757","v":"Saffron"},{"$f":"DICTIONARY!O1757","v":"केशर"},"केशर",{"$f":"DICTIONARY!P1757","v":"CORNS AND SPICES ( अन्न और मसाले )"},{"$f":"M1733","v":"केशर"},{"$f":"L1733","v":"केशर"}]
[null,null,null,null,null,null,null,null,null,{"$f":"IF(K1734=\" \",\" \",ROWS($K$5:K1734))","v":1730},{"$f":"DICTIONARY!M1758","v":" Garlic"},{"$f":"DICTIONARY!O1758","v":"लहसुन"},{"$f":"L1734","v":"लहसुन"},{"$f":"DICTIONARY!P1758","v":"CORNS AND SPICES ( अन्न और मसाले )"},"लहसुन","लहसुन"]
[null,null,null,null,null,null,null,null,null,{"$f":"IF(K1735=\" \",\" \",ROWS($K$5:K1735))","v":1731},{"$f":"DICTIONARY!M1759","v":"Nutmeg"},{"$f":"DICTIONARY!O1759","v":"जायफल"},"जायफल",{"$f":"DICTIONARY!P1759","v":"CORNS AND SPICES ( अन्न और मसाले )"},"जायफल","जायफल"]
[null,null,null,null,null,null,null,null,null,{"$f":"IF(K1736=\" \",\" \",ROWS($K$5:K1736))","v":1732},{"$f":"DICTIONARY!M1760","v":"Mace"},{"$f":"DICTIONARY!O1760","v":"जावित्री"},"जावित्री",{"$f":"DICTIONARY!P1760","v":"CORNS AND SPICES ( अन्न और मसाले )"},"जावित्री","जावित्री"]
[null,null,null,null,null,null,null,null,null,{"$f":"IF(K1737=\" \",\" \",ROWS($K$5:K1737))","v":1733},{"$f":"DICTIONARY!M1761","v":"Arsenic"},{"$f":"DICTIONARY!O1761","v":"संखिया"},"संखिया",{"$f":"DICTIONARY!P1761","v":"CORNS AND SPICES ( अन्न और मसाले )"},"संखिया","संखिया"]
[null,null,null,null,null,null,null,null,null,{"$f":"IF(K1738=\" \",\" \",ROWS($K$5:K1738))","v":1734},{"$f":"DICTIONARY!M1762","v":"Corinder"},{"$f":"DICTIONARY!O1762","v":"धनिया"},"धनिया",{"$f":"DICTIONARY!P1762","v":"CORNS AND SPICES ( अन्न और मसाले )"},"धनिया","धनिया"]
[null,null,null,null,null,null,null,null,null,{"$f":"IF(K1739=\" \",\" \",ROWS($K$5:K1739))","v":1735},{"$f":"DICTIONARY!M1763","v":"Salt"},{"$f":"DICTIONARY!O1763","v":"नमक"},"नमक",{"$f":"DICTIONARY!P1763","v":"CORNS AND SPICES ( अन्न और मसाले )"},"नमक","नमक"]
[null,null,null,null,null,null,null,null,null,{"$f":"IF(K1740=\" \",\" \",ROWS($K$5:K1740))","v":1736},{"$f":"DICTIONARY!M1764","v":"Ginger"},{"$f":"DICTIONARY!O1764","v":"अदरक"},"अदरक",{"$f":"DICTIONARY!P1764","v":"CORNS AND SPICES ( अन्न और मसाले )"},"अदरक","अदरक"]
[null,null,null,null,null,null,null,null,null,{"$f":"IF(K1741=\" \",\" \",ROWS($K$5:K1741))","v":1737},{"$f":"DICTIONARY!M1765","v":"Tamarid"},{"$f":"DICTIONARY!O1765","v":"इमली"},"इमली",{"$f":"DICTIONARY!P1765","v":"CORNS AND SPICES ( अन्न और मसाले )"},"इमली","इमली"]
[null,null,null,null,null,null,null,null,null,{"$f":"IF(K1742=\" \",\" \",ROWS($K$5:K1742))","v":1738},{"$f":"DICTIONARY!M1766","v":"Camphor"},{"$f":"DICTIONARY!O1766","v":"कपूर"},"कपूर",{"$f":"DICTIONARY!P1766","v":"CORNS AND SPICES ( अन्न और मसाले )"},"कपूर","कपूर"]
[null,null,null,null,null,null,null,null,null,{"$f":"IF(K1743=\" \",\" \",ROWS($K$5:K1743))","v":1739},{"$f":"DICTIONARY!M1767","v":"Parsley"},{"$f":"DICTIONARY!O1767","v":"अजवायन"},"अजवायन",{"$f":"DICTIONARY!P1767","v":"CORNS AND SPICES ( अन्न और मसाले )"},"अजवायन","अजवायन"]
[null,null,null,null,null,null,null,null,null,{"$f":"IF(K1744=\" \",\" \",ROWS($K$5:K1744))","v":1740},{"$f":"DICTIONARY!M1768","v":"Sesame"},{"$f":"DICTIONARY!O1768","v":"तिल"},"तिल",{"$f":"DICTIONARY!P1768","v":"CORNS AND SPICES ( अन्न और मसाले )"},"तिल","तिल"]
[null,null,null,null,null,null,null,null,null,{"$f":"IF(K1745=\" \",\" \",ROWS($K$5:K1745))","v":1741},{"$f":"DICTIONARY!M1769","v":"Oat"},{"$f":"DICTIONARY!O1769","v":"जई"},"जई",{"$f":"DICTIONARY!P1769","v":"CORNS AND SPICES ( अन्न और मसाले )"},"जई","जई"]
[null,null,null,null,null,null,null,null,null,{"$f":"IF(K1746=\" \",\" \",ROWS($K$5:K1746))","v":1742},{"$f":"DICTIONARY!M1770","v":"Caster Seed"},{"$f":"DICTIONARY!O1770","v":"अरंडी"},"अरंडी",{"$f":"DICTIONARY!P1770","v":"CORNS AND SPICES ( अन्न और मसाले )"},"अरंडी","अरंडी"]
[null,null,null,null,null,null,null,null,null,{"$f":"IF(K1747=\" \",\" \",ROWS($K$5:K1747))","v":1743},{"$f":"DICTIONARY!M1771","v":"Red Seed"},{"$f":"DICTIONARY!O1771","v":"राई"},"राई",{"$f":"DICTIONARY!P1771","v":"CORNS AND SPICES ( अन्न और मसाले )"},"राई","राई"]
[null,null,null,null,null,null,null,null,null,{"$f":"IF(K1748=\" \",\" \",ROWS($K$5:K1748))","v":1744},{"$f":"DICTIONARY!M1772","v":"Turmeric"},{"$f":"DICTIONARY!O1772","v":"हल्दी"},"हल्दी",{"$f":"DICTIONARY!P1772","v":"CORNS AND SPICES ( अन्न और मसाले )"},"हल्दी","हल्दी"]
[null,null,null,null,null,null,null,null,null,{"$f":"IF(K1749=\" \",\" \",ROWS($K$5:K1749))","v":1745},{"$f":"DICTIONARY!M1773","v":"Mustard Seed"},{"$f":"DICTIONARY!O1773","v":"सरसों"},"सरसों",{"$f":"DICTIONARY!P1773","v":"CORNS AND SPICES ( अन्न और मसाले )"},"सरसों","सरसों"]
[null,null,null,null,null,null,null,null,null,{"$f":"IF(K1750=\" \",\" \",ROWS($K$5:K1750))","v":1746},{"$f":"DICTIONARY!M1774","v":"Chilli"},{"$f":"DICTIONARY!O1774","v":"मिर्च"},"मिर्च",{"$f":"DICTIONARY!P1774","v":"CORNS AND SPICES ( अन्न और मसाले )"},"मिर्च","मिर्च"]
[null,null,null,null,null,null,null,null,null,{"$f":"IF(K1751=\" \",\" \",ROWS($K$5:K1751))","v":1747},{"$f":"DICTIONARY!M1775","v":" Clove"},{"$f":"DICTIONARY!O1775","v":"लोंग"},"लोंग",{"$f":"DICTIONARY!P1775","v":"CORNS AND SPICES ( अन्न और मसाले )"},"लोंग","लोंग"]
[null,null,null,null,null,null,null,null,null,{"$f":"IF(K1752=\" \",\" \",ROWS($K$5:K1752))","v":1748},{"$f":"DICTIONARY!M1776","v":"Aniseed"},{"$f":"DICTIONARY!O1776","v":"सौंफ"},"सौंफ",{"$f":"DICTIONARY!P1776","v":"CORNS AND SPICES ( अन्न और मसाले )"},"सौंफ","सौंफ"]
[null,null,null,null,null,null,null,null,null,{"$f":"IF(K1753=\" \",\" \",ROWS($K$5:K1753))","v":1749},{"$f":"DICTIONARY!M1777","v":"Cumin Seed"},{"$f":"DICTIONARY!O1777","v":"जीरा"},"जीरा",{"$f":"DICTIONARY!P1777","v":"CORNS AND SPICES ( अन्न और मसाले )"},"जीरा","जीरा"]
[null,null,null,null,null,null,null,null,null,{"$f":"IF(K1754=\" \",\" \",ROWS($K$5:K1754))","v":1750},{"$f":"DICTIONARY!M1778","v":"Cardamom"},{"$f":"DICTIONARY!O1778","v":"इलायची"},"इलायची",{"$f":"DICTIONARY!P1778","v":"CORNS AND SPICES ( अन्न और मसाले )"},"इलायची","इलायची"]
[null,null,null,null,null,null,null,null,null,{"$f":"IF(K1755=\" \",\" \",ROWS($K$5:K1755))","v":1751},{"$f":"DICTIONARY!M1779","v":"Asafoetida"},{"$f":"DICTIONARY!O1779","v":"हिंग"},"हिंग",{"$f":"DICTIONARY!P1779","v":"CORNS AND SPICES ( अन्न और मसाले )"},"हिंग","हिंग"]
[null,null,null,null,null,null,null,null,null,{"$f":"IF(K1756=\" \",\" \",ROWS($K$5:K1756))","v":1752},{"$f":"DICTIONARY!M1780","v":"Aloe"},{"$f":"DICTIONARY!O1780","v":"मुसब्बर"},"मुसब्बर",{"$f":"DICTIONARY!P1780","v":"CORNS AND SPICES ( अन्न और मसाले )"},"मुसब्बर","मुसब्बर"]
[null,null,null,null,null,null,null,null,null,{"$f":"IF(K1757=\" \",\" \",ROWS($K$5:K1757))","v":1753},{"$f":"DICTIONARY!M1781","v":" Pepper"},{"$f":"DICTIONARY!O1781","v":"काली मिर्च"},"काली मिर्च",{"$f":"DICTIONARY!P1781","v":"CORNS AND SPICES ( अन्न और मसाले )"},"काली मिर्च","काली मिर्च"]
[null,null,null,null,null,null,null,null,null,{"$f":"IF(K1758=\" \",\" \",ROWS($K$5:K1758))","v":1754},{"$f":"DICTIONARY!M1782","v":"Cinnabar"},{"$f":"DICTIONARY!O1782","v":"सिन्दूर"},"सिन्दूर",{"$f":"DICTIONARY!P1782","v":"CORNS AND SPICES ( अन्न और मसाले )"},"सिन्दूर","सिन्दूर"]
[null,null,null,null,null,null,null,null,null,{"$f":"IF(K1759=\" \",\" \",ROWS($K$5:K1759))","v":1755},{"$f":"DICTIONARY!M1783","v":"Cloud"},{"$f":"DICTIONARY!O1783","v":"बादल"},"बादल",{"$f":"DICTIONARY!P1783","v":"NATURAL OBJECTS ( प्राकतिक वस्तुएं )"},"बादल","बादल"]
[null,null,null,null,null,null,null,null,null,{"$f":"IF(K1760=\" \",\" \",ROWS($K$5:K1760))","v":1756},{"$f":"DICTIONARY!M1784","v":"Rain"},{"$f":"DICTIONARY!O1784","v":"वर्षा"},"वर्षा",{"$f":"DICTIONARY!P1784","v":"NATURAL OBJECTS ( प्राकतिक वस्तुएं )"},"वर्षा","वर्षा"]
[null,null,null,null,null,null,null,null,null,{"$f":"IF(K1761=\" \",\" \",ROWS($K$5:K1761))","v":1757},{"$f":"DICTIONARY!M1785","v":"Sun"},{"$f":"DICTIONARY!O1785","v":"सूर्य"},"सूर्य",{"$f":"DICTIONARY!P1785","v":"NATURAL OBJECTS ( प्राकतिक वस्तुएं )"},"सूर्य","सूर्य"]
[null,null,null,null,null,null,null,null,null,{"$f":"IF(K1762=\" \",\" \",ROWS($K$5:K1762))","v":1758},{"$f":"DICTIONARY!M1786","v":"Moon"},{"$f":"DICTIONARY!O1786","v":"चन्द्रमा"},"चन्द्रमा",{"$f":"DICTIONARY!P1786","v":"NATURAL OBJECTS ( प्राकतिक वस्तुएं )"},"चन्द्रमा","चन्द्रमा"]
[null,null,null,null,null,null,null,null,null,{"$f":"IF(K1763=\" \",\" \",ROWS($K$5:K1763))","v":1759},{"$f":"DICTIONARY!M1787","v":"Earth"},{"$f":"DICTIONARY!O1787","v":"पृथ्वी"},"पृथ्वी",{"$f":"DICTIONARY!P1787","v":"NATURAL OBJECTS ( प्राकतिक वस्तुएं )"},"पृथ्वी","पृथ्वी"]
[null,null,null,null,null,null,null,null,null,{"$f":"IF(K1764=\" \",\" \",ROWS($K$5:K1764))","v":1760},{"$f":"DICTIONARY!M1788","v":"Sky"},{"$f":"DICTIONARY!O1788","v":"आकाश"},"आकाश",{"$f":"DICTIONARY!P1788","v":"NATURAL OBJECTS ( प्राकतिक वस्तुएं )"},"आकाश","आकाश"]
[null,null,null,null,null,null,null,null,null,{"$f":"IF(K1765=\" \",\" \",ROWS($K$5:K1765))","v":1761},{"$f":"DICTIONARY!M1789","v":"Wind"},{"$f":"DICTIONARY!O1789","v":"हवा"},"हवा",{"$f":"DICTIONARY!P1789","v":"NATURAL OBJECTS ( प्राकतिक वस्तुएं )"},"हवा","हवा"]
[null,null,null,null,null,null,null,null,null,{"$f":"IF(K1766=\" \",\" \",ROWS($K$5:K1766))","v":1762},{"$f":"DICTIONARY!M1790","v":"Plains"},{"$f":"DICTIONARY!O1790","v":"समतल मैदान"},"समतल मैदान",{"$f":"DICTIONARY!P1790","v":"NATURAL OBJECTS ( प्राकतिक वस्तुएं )"},"समतल मैदान","समतल मैदान"]
[null,null,null,null,null,null,null,null,null,{"$f":"IF(K1767=\" \",\" \",ROWS($K$5:K1767))","v":1763},{"$f":"DICTIONARY!M1791","v":" Valley"},{"$f":"DICTIONARY!O1791","v":"घाटी"},"घाटी",{"$f":"DICTIONARY!P1791","v":"NATURAL OBJECTS ( प्राकतिक वस्तुएं )"},"घाटी","घाटी"]
[null,null,null,null,null,null,null,null,null,{"$f":"IF(K1768=\" \",\" \",ROWS($K$5:K1768))","v":1764},{"$f":"DICTIONARY!M1792","v":"Mist"},{"$f":"DICTIONARY!O1792","v":"कोहरा"},"कोहरा",{"$f":"DICTIONARY!P1792","v":"NATURAL OBJECTS ( प्राकतिक वस्तुएं )"},"कोहरा","कोहरा"]
[null,null,null,null,null,null,null,null,null,{"$f":"IF(K1769=\" \",\" \",ROWS($K$5:K1769))","v":1765},{"$f":"DICTIONARY!M1793","v":"Snow"},{"$f":"DICTIONARY!O1793","v":"बर्फ"},"बर्फ",{"$f":"DICTIONARY!P1793","v":"NATURAL OBJECTS ( प्राकतिक वस्तुएं )"},"बर्फ","बर्फ"]
[null,null,null,null,null,null,null,null,null,{"$f":"IF(K1770=\" \",\" \",ROWS($K$5:K1770))","v":1766},{"$f":"DICTIONARY!M1794","v":"Dew"},{"$f":"DICTIONARY!O1794","v":"ओंस"},"ओंस",{"$f":"DICTIONARY!P1794","v":"NATURAL OBJECTS ( प्राकतिक वस्तुएं )"},"ओंस","ओंस"]
[null,null,null,null,null,null,null,null,null,{"$f":"IF(K1771=\" \",\" \",ROWS($K$5:K1771))","v":1767},{"$f":"DICTIONARY!M1795","v":"Vapour"},{"$f":"DICTIONARY!O1795","v":"भाप"},"भाप",{"$f":"DICTIONARY!P1795","v":"NATURAL OBJECTS ( प्राकतिक वस्तुएं )"},"भाप","भाप"]
[null,null,null,null,null,null,null,null,null,{"$f":"IF(K1772=\" \",\" \",ROWS($K$5:K1772))","v":1768},{"$f":"DICTIONARY!M1796","v":"Thunder"},{"$f":"DICTIONARY!O1796","v":"गरज"},"गरज",{"$f":"DICTIONARY!P1796","v":"NATURAL OBJECTS ( प्राकतिक वस्तुएं )"},"गरज","गरज"]
[null,null,null,null,null,null,null,null,null,{"$f":"IF(K1773=\" \",\" \",ROWS($K$5:K1773))","v":1769},{"$f":"DICTIONARY!M1797","v":" Light"},{"$f":"DICTIONARY!O1797","v":"प्रकाश"},"प्रकाश",{"$f":"DICTIONARY!P1797","v":"NATURAL OBJECTS ( प्राकतिक वस्तुएं )"},"प्रकाश","प्रकाश"]
[null,null,null,null,null,null,null,null,null,{"$f":"IF(K1774=\" \",\" \",ROWS($K$5:K1774))","v":1770},{"$f":"DICTIONARY!M1798","v":"Darkness"},{"$f":"DICTIONARY!O1798","v":"अँधेरा"},"अँधेरा",{"$f":"DICTIONARY!P1798","v":"NATURAL OBJECTS ( प्राकतिक वस्तुएं )"},"अँधेरा","अँधेरा"]
[null,null,null,null,null,null,null,null,null,{"$f":"IF(K1775=\" \",\" \",ROWS($K$5:K1775))","v":1771},{"$f":"DICTIONARY!M1799","v":"Air"},{"$f":"DICTIONARY!O1799","v":"हवा"},"हवा",{"$f":"DICTIONARY!P1799","v":"NATURAL OBJECTS ( प्राकतिक वस्तुएं )"},"हवा","हवा"]
[null,null,null,null,null,null,null,null,null,{"$f":"IF(K1776=\" \",\" \",ROWS($K$5:K1776))","v":1772},{"$f":"DICTIONARY!M1800","v":"Star"},{"$f":"DICTIONARY!O1800","v":"तारे"},"तारे",{"$f":"DICTIONARY!P1800","v":"NATURAL OBJECTS ( प्राकतिक वस्तुएं )"},"तारे","तारे"]
[null,null,null,null,null,null,null,null,null,{"$f":"IF(K1777=\" \",\" \",ROWS($K$5:K1777))","v":1773},{"$f":"DICTIONARY!M1801","v":"Water"},{"$f":"DICTIONARY!O1801","v":"पानी"},"पानी",{"$f":"DICTIONARY!P1801","v":"NATURAL OBJECTS ( प्राकतिक वस्तुएं )"},"पानी","पानी"]
[null,null,null,null,null,null,null,null,null,{"$f":"IF(K1778=\" \",\" \",ROWS($K$5:K1778))","v":1774},{"$f":"DICTIONARY!M1802","v":"Ice"},{"$f":"DICTIONARY!O1802","v":"बर्फ"},"बर्फ",{"$f":"DICTIONARY!P1802","v":"NATURAL OBJECTS ( प्राकतिक वस्तुएं )"},"बर्फ","बर्फ"]
[null,null,null,null,null,null,null,null,null,{"$f":"IF(K1779=\" \",\" \",ROWS($K$5:K1779))","v":1775},{"$f":"DICTIONARY!M1803","v":"Fog"},{"$f":"DICTIONARY!O1803","v":"धुंवा"},"धुंवा",{"$f":"DICTIONARY!P1803","v":"NATURAL OBJECTS ( प्राकतिक वस्तुएं )"},"धुंवा","धुंवा"]
[null,null,null,null,null,null,null,null,null,{"$f":"IF(K1780=\" \",\" \",ROWS($K$5:K1780))","v":1776},{"$f":"DICTIONARY!M1804","v":" Hill"},{"$f":"DICTIONARY!O1804","v":"पहाड़ी"},"पहाड़ी",{"$f":"DICTIONARY!P1804","v":"NATURAL OBJECTS ( प्राकतिक वस्तुएं )"},"पहाड़ी","पहाड़ी"]
[null,null,null,null,null,null,null,null,null,{"$f":"IF(K1781=\" \",\" \",ROWS($K$5:K1781))","v":1777},{"$f":"DICTIONARY!M1805","v":"Moutain"},{"$f":"DICTIONARY!O1805","v":"पर्वत"},"पर्वत",{"$f":"DICTIONARY!P1805","v":"NATURAL OBJECTS ( प्राकतिक वस्तुएं )"},"पर्वत","पर्वत"]
[null,null,null,null,null,null,null,null,null,{"$f":"IF(K1782=\" \",\" \",ROWS($K$5:K1782))","v":1778},{"$f":"DICTIONARY!M1806","v":" Cave"},{"$f":"DICTIONARY!O1806","v":"गुफा"},"गुफा",{"$f":"DICTIONARY!P1806","v":"NATURAL OBJECTS ( प्राकतिक वस्तुएं )"},"गुफा","गुफा"]
[null,null,null,null,null,null,null,null,null,{"$f":"IF(K1783=\" \",\" \",ROWS($K$5:K1783))","v":1779},{"$f":"DICTIONARY!M1807","v":"Stone"},{"$f":"DICTIONARY!O1807","v":"पत्थर"},"पत्थर",{"$f":"DICTIONARY!P1807","v":"NATURAL OBJECTS ( प्राकतिक वस्तुएं )"},"पत्थर","पत्थर"]
[null,null,null,null,null,null,null,null,null,{"$f":"IF(K1784=\" \",\" \",ROWS($K$5:K1784))","v":1780},{"$f":"DICTIONARY!M1808","v":" Grass"},{"$f":"DICTIONARY!O1808","v":"घास"},"घास",{"$f":"DICTIONARY!P1808","v":"NATURAL OBJECTS ( प्राकतिक वस्तुएं )"},"घास","घास"]
[null,null,null,null,null,null,null,null,null,{"$f":"IF(K1785=\" \",\" \",ROWS($K$5:K1785))","v":1781},{"$f":"DICTIONARY!M1809","v":"Field"},{"$f":"DICTIONARY!O1809","v":"खेत"},"खेत",{"$f":"DICTIONARY!P1809","v":"NATURAL OBJECTS ( प्राकतिक वस्तुएं )"},"खेत","खेत"]
[null,null,null,null,null,null,null,null,null,{"$f":"IF(K1786=\" \",\" \",ROWS($K$5:K1786))","v":1782},{"$f":"DICTIONARY!M1810","v":" Mud"},{"$f":"DICTIONARY!O1810","v":"कीचड़"},"कीचड़",{"$f":"DICTIONARY!P1810","v":"NATURAL OBJECTS ( प्राकतिक वस्तुएं )"},"कीचड़","कीचड़"]
[null,null,null,null,null,null,null,null,null,{"$f":"IF(K1787=\" \",\" \",ROWS($K$5:K1787))","v":1783},{"$f":"DICTIONARY!M1811","v":"Pasture-Land"},{"$f":"DICTIONARY!O1811","v":"चारागाह"},"चारागाह",{"$f":"DICTIONARY!P1811","v":"NATURAL OBJECTS ( प्राकतिक वस्तुएं )"},"चारागाह","चारागाह"]
[null,null,null,null,null,null,null,null,null,{"$f":"IF(K1788=\" \",\" \",ROWS($K$5:K1788))","v":1784},{"$f":"DICTIONARY!M1812","v":"Lightining"},{"$f":"DICTIONARY!O1812","v":"बिजली कोंधना"},"बिजली कोंधना",{"$f":"DICTIONARY!P1812","v":"NATURAL OBJECTS ( प्राकतिक वस्तुएं )"},"बिजली कोंधना","बिजली कोंधना"]
[null,null,null,null,null,null,null,null,null,{"$f":"IF(K1789=\" \",\" \",ROWS($K$5:K1789))","v":1785},{"$f":"DICTIONARY!M1813","v":"Shower"},{"$f":"DICTIONARY!O1813","v":"बोछार"},"बोछार",{"$f":"DICTIONARY!P1813","v":"NATURAL OBJECTS ( प्राकतिक वस्तुएं )"},"बोछार","बोछार"]
[null,null,null,null,null,null,null,null,null,{"$f":"IF(K1790=\" \",\" \",ROWS($K$5:K1790))","v":1786},{"$f":"DICTIONARY!M1814","v":"Hailstorm"},{"$f":"DICTIONARY!O1814","v":"ओले गिरना"},"ओले गिरना",{"$f":"DICTIONARY!P1814","v":"NATURAL OBJECTS ( प्राकतिक वस्तुएं )"},"ओले गिरना","ओले गिरना"]
[null,null,null,null,null,null,null,null,null,{"$f":"IF(K1791=\" \",\" \",ROWS($K$5:K1791))","v":1787},{"$f":"DICTIONARY!M1815","v":"Storm"},{"$f":"DICTIONARY!O1815","v":"आंधी"},"आंधी",{"$f":"DICTIONARY!P1815","v":"NATURAL OBJECTS ( प्राकतिक वस्तुएं )"},"आंधी","आंधी"]
[null,null,null,null,null,null,null,null,null,{"$f":"IF(K1792=\" \",\" \",ROWS($K$5:K1792))","v":1788},{"$f":"DICTIONARY!M1816","v":"Cyclone"},{"$f":"DICTIONARY!O1816","v":"चक्रवात"},"चक्रवात",{"$f":"DICTIONARY!P1816","v":"NATURAL OBJECTS ( प्राकतिक वस्तुएं )"},"चक्रवात","चक्रवात"]
[null,null,null,null,null,null,null,null,null,{"$f":"IF(K1793=\" \",\" \",ROWS($K$5:K1793))","v":1789},{"$f":"DICTIONARY!M1817","v":" Wave"},{"$f":"DICTIONARY!O1817","v":"लहर"},"लहर",{"$f":"DICTIONARY!P1817","v":"NATURAL OBJECTS ( प्राकतिक वस्तुएं )"},"लहर","लहर"]
[null,null,null,null,null,null,null,null,null,{"$f":"IF(K1794=\" \",\" \",ROWS($K$5:K1794))","v":1790},{"$f":"DICTIONARY!M1818","v":"Current"},{"$f":"DICTIONARY!O1818","v":"प्रवाह"},"प्रवाह",{"$f":"DICTIONARY!P1818","v":"NATURAL OBJECTS ( प्राकतिक वस्तुएं )"},"प्रवाह","प्रवाह"]
[null,null,null,null,null,null,null,null,null,{"$f":"IF(K1795=\" \",\" \",ROWS($K$5:K1795))","v":1791},{"$f":"DICTIONARY!M1819","v":"Flow-Tide"},{"$f":"DICTIONARY!O1819","v":"ज्वार"},"ज्वार",{"$f":"DICTIONARY!P1819","v":"NATURAL OBJECTS ( प्राकतिक वस्तुएं )"},"ज्वार","ज्वार"]
[null,null,null,null,null,null,null,null,null,{"$f":"IF(K1796=\" \",\" \",ROWS($K$5:K1796))","v":1792},{"$f":"DICTIONARY!M1820","v":"Ebb-Tide"},{"$f":"DICTIONARY!O1820","v":"भाटा"},"भाटा",{"$f":"DICTIONARY!P1820","v":"NATURAL OBJECTS ( प्राकतिक वस्तुएं )"},"भाटा","भाटा"]
[null,null,null,null,null,null,null,null,null,{"$f":"IF(K1797=\" \",\" \",ROWS($K$5:K1797))","v":1793},{"$f":"DICTIONARY!M1821","v":"Meteor"},{"$f":"DICTIONARY!O1821","v":"उल्का"},"उल्का",{"$f":"DICTIONARY!P1821","v":"NATURAL OBJECTS ( प्राकतिक वस्तुएं )"},{"$f":"M1797","v":"उल्का"},{"$f":"L1797","v":"उल्का"}]
[null,null,null,null,null,null,null,null,null,{"$f":"IF(K1798=\" \",\" \",ROWS($K$5:K1798))","v":1794},{"$f":"DICTIONARY!M1822","v":" Volcano"},{"$f":"DICTIONARY!O1822","v":"ज्वालामुखी"},{"$f":"L1798","v":"ज्वालामुखी"},{"$f":"DICTIONARY!P1822","v":"NATURAL OBJECTS ( प्राकतिक वस्तुएं )"},"ज्वालामुखी","ज्वालामुखी"]
[null,null,null,null,null,null,null,null,null,{"$f":"IF(K1799=\" \",\" \",ROWS($K$5:K1799))","v":1795},{"$f":"DICTIONARY!M1823","v":" Island"},{"$f":"DICTIONARY!O1823","v":"द्वीप"},"द्वीप",{"$f":"DICTIONARY!P1823","v":"NATURAL OBJECTS ( प्राकतिक वस्तुएं )"},"द्वीप","द्वीप"]
[null,null,null,null,null,null,null,null,null,{"$f":"IF(K1800=\" \",\" \",ROWS($K$5:K1800))","v":1796},{"$f":"DICTIONARY!M1824","v":"Delta"},{"$f":"DICTIONARY!O1824","v":"नदी का मुहाना"},"नदी का मुहाना",{"$f":"DICTIONARY!P1824","v":"NATURAL OBJECTS ( प्राकतिक वस्तुएं )"},"नदी का मुहाना","नदी का मुहाना"]
[null,null,null,null,null,null,null,null,null,{"$f":"IF(K1801=\" \",\" \",ROWS($K$5:K1801))","v":1797},{"$f":"DICTIONARY!M1825","v":"Peninsula"},{"$f":"DICTIONARY!O1825","v":"प्रायद्वीप"},"प्रायद्वीप",{"$f":"DICTIONARY!P1825","v":"NATURAL OBJECTS ( प्राकतिक वस्तुएं )"},"प्रायद्वीप","प्रायद्वीप"]
[null,null,null,null,null,null,null,null,null,{"$f":"IF(K1802=\" \",\" \",ROWS($K$5:K1802))","v":1798},{"$f":"DICTIONARY!M1826","v":" Archipelago"},{"$f":"DICTIONARY!O1826","v":"द्वीपपुन्ज"},"द्वीपपुन्ज",{"$f":"DICTIONARY!P1826","v":"NATURAL OBJECTS ( प्राकतिक वस्तुएं )"},"द्वीपपुन्ज","द्वीपपुन्ज"]
[null,null,null,null,null,null,null,null,null,{"$f":"IF(K1803=\" \",\" \",ROWS($K$5:K1803))","v":1799},{"$f":"DICTIONARY!M1827","v":" Spring"},{"$f":"DICTIONARY!O1827","v":"जलस्रोत"},"जलस्रोत",{"$f":"DICTIONARY!P1827","v":"NATURAL OBJECTS ( प्राकतिक वस्तुएं )"},"जलस्रोत","जलस्रोत"]
[null,null,null,null,null,null,null,null,null,{"$f":"IF(K1804=\" \",\" \",ROWS($K$5:K1804))","v":1800},{"$f":"DICTIONARY!M1828","v":" Hail"},{"$f":"DICTIONARY!O1828","v":"ओला"},"ओला",{"$f":"DICTIONARY!P1828","v":"NATURAL OBJECTS ( प्राकतिक वस्तुएं )"},"ओला","ओला"]
[null,null,null,null,null,null,null,null,null,{"$f":"IF(K1805=\" \",\" \",ROWS($K$5:K1805))","v":1801},{"$f":"DICTIONARY!M1829","v":"Breeze"},{"$f":"DICTIONARY!O1829","v":"समीर"},"समीर",{"$f":"DICTIONARY!P1829","v":"NATURAL OBJECTS ( प्राकतिक वस्तुएं )"},"समीर","समीर"]
[null,null,null,null,null,null,null,null,null,{"$f":"IF(K1806=\" \",\" \",ROWS($K$5:K1806))","v":1802},{"$f":"DICTIONARY!M1830","v":" Sea"},{"$f":"DICTIONARY!O1830","v":"समुन्द्र"},"समुन्द्र",{"$f":"DICTIONARY!P1830","v":"NATURAL OBJECTS ( प्राकतिक वस्तुएं )"},"समुन्द्र","समुन्द्र"]
[null,null,null,null,null,null,null,null,null,{"$f":"IF(K1807=\" \",\" \",ROWS($K$5:K1807))","v":1803},{"$f":"DICTIONARY!M1831","v":" River"},{"$f":"DICTIONARY!O1831","v":"नदी"},"नदी",{"$f":"DICTIONARY!P1831","v":"NATURAL OBJECTS ( प्राकतिक वस्तुएं )"},"नदी","नदी"]
[null,null,null,null,null,null,null,null,null,{"$f":"IF(K1808=\" \",\" \",ROWS($K$5:K1808))","v":1804},{"$f":"DICTIONARY!M1832","v":"Forest"},{"$f":"DICTIONARY!O1832","v":"जंगल"},"जंगल",{"$f":"DICTIONARY!P1832","v":"NATURAL OBJECTS ( प्राकतिक वस्तुएं )"},"जंगल","जंगल"]
[null,null,null,null,null,null,null,null,null,{"$f":"IF(K1809=\" \",\" \",ROWS($K$5:K1809))","v":1805},{"$f":"DICTIONARY!M1833","v":" Lake"},{"$f":"DICTIONARY!O1833","v":"झील"},"झील",{"$f":"DICTIONARY!P1833","v":"NATURAL OBJECTS ( प्राकतिक वस्तुएं )"},"झील","झील"]
[null,null,null,null,null,null,null,null,null,{"$f":"IF(K1810=\" \",\" \",ROWS($K$5:K1810))","v":1806},{"$f":"DICTIONARY!M1834","v":"Flood"},{"$f":"DICTIONARY!O1834","v":"बाढ़"},"बाढ़",{"$f":"DICTIONARY!P1834","v":"NATURAL OBJECTS ( प्राकतिक वस्तुएं )"},"बाढ़","बाढ़"]
[null,null,null,null,null,null,null,null,null,{"$f":"IF(K1811=\" \",\" \",ROWS($K$5:K1811))","v":1807},{"$f":"DICTIONARY!M1835","v":"Dust"},{"$f":"DICTIONARY!O1835","v":"धूल"},"धूल",{"$f":"DICTIONARY!P1835","v":"NATURAL OBJECTS ( प्राकतिक वस्तुएं )"},"धूल","धूल"]
[null,null,null,null,null,null,null,null,null,{"$f":"IF(K1812=\" \",\" \",ROWS($K$5:K1812))","v":1808},{"$f":"DICTIONARY!M1836","v":" Sand"},{"$f":"DICTIONARY!O1836","v":"धूल"},"धूल",{"$f":"DICTIONARY!P1836","v":"NATURAL OBJECTS ( प्राकतिक वस्तुएं )"},"धूल","धूल"]
[null,null,null,null,null,null,null,null,null,{"$f":"IF(K1813=\" \",\" \",ROWS($K$5:K1813))","v":1809},{"$f":"DICTIONARY!M1837","v":" Desert"},{"$f":"DICTIONARY!O1837","v":"रेगिस्तान"},"रेगिस्तान",{"$f":"DICTIONARY!P1837","v":"NATURAL OBJECTS ( प्राकतिक वस्तुएं )"},"रेगिस्तान","रेगिस्तान"]
[null,null,null,null,null,null,null,null,null,{"$f":"IF(K1814=\" \",\" \",ROWS($K$5:K1814))","v":1810},{"$f":"DICTIONARY!M1838","v":"Oasis"},{"$f":"DICTIONARY!O1838","v":"मरूद्यान"},"मरूद्यान",{"$f":"DICTIONARY!P1838","v":"NATURAL OBJECTS ( प्राकतिक वस्तुएं )"},"मरूद्यान","मरूद्यान"]
[null,null,null,null,null,null,null,null,null,{"$f":"IF(K1815=\" \",\" \",ROWS($K$5:K1815))","v":1811},{"$f":"DICTIONARY!M1839","v":"Fire"},{"$f":"DICTIONARY!O1839","v":"आग"},"आग",{"$f":"DICTIONARY!P1839","v":"NATURAL OBJECTS ( प्राकतिक वस्तुएं )"},"आग","आग"]
[null,null,null,null,null,null,null,null,null,{"$f":"IF(K1816=\" \",\" \",ROWS($K$5:K1816))","v":1812},{"$f":"DICTIONARY!M1840","v":"Sunlight"},{"$f":"DICTIONARY!O1840","v":"सूर्यकिरण"},"सूर्यकिरण",{"$f":"DICTIONARY!P1840","v":"NATURAL OBJECTS ( प्राकतिक वस्तुएं )"},"सूर्यकिरण","सूर्यकिरण"]
[null,null,null,null,null,null,null,null,null,{"$f":"IF(K1817=\" \",\" \",ROWS($K$5:K1817))","v":1813},{"$f":"DICTIONARY!M1841","v":"Comet"},{"$f":"DICTIONARY!O1841","v":"पुच्छलतारा"},"पुच्छलतारा",{"$f":"DICTIONARY!P1841","v":"NATURAL OBJECTS ( प्राकतिक वस्तुएं )"},"पुच्छलतारा","पुच्छलतारा"]
[null,null,null,null,null,null,null,null,null,{"$f":"IF(K1818=\" \",\" \",ROWS($K$5:K1818))","v":1814},{"$f":"DICTIONARY!M1842","v":"Strait"},{"$f":"DICTIONARY!O1842","v":"जलडमरूमध्य"},"जलडमरूमध्य",{"$f":"DICTIONARY!P1842","v":"NATURAL OBJECTS ( प्राकतिक वस्तुएं )"},"जलडमरूमध्य","जलडमरूमध्य"]
[null,null,null,null,null,null,null,null,null,{"$f":"IF(K1819=\" \",\" \",ROWS($K$5:K1819))","v":1815},{"$f":"DICTIONARY!M1843","v":" Fountain"},{"$f":"DICTIONARY!O1843","v":"झरना"},"झरना",{"$f":"DICTIONARY!P1843","v":"NATURAL OBJECTS ( प्राकतिक वस्तुएं )"},"झरना","झरना"]
[null,null,null,null,null,null,null,null,null,{"$f":"IF(K1820=\" \",\" \",ROWS($K$5:K1820))","v":1816},{"$f":"DICTIONARY!M1844","v":" Water-Fall"},{"$f":"DICTIONARY!O1844","v":"जल प्रपात"},"जल प्रपात",{"$f":"DICTIONARY!P1844","v":"NATURAL OBJECTS ( प्राकतिक वस्तुएं )"},"जल प्रपात","जल प्रपात"]
[null,null,null,null,null,null,null,null,null,{"$f":"IF(K1821=\" \",\" \",ROWS($K$5:K1821))","v":1817},{"$f":"DICTIONARY!M1845","v":"Gulf"},{"$f":"DICTIONARY!O1845","v":"खाड़ी"},"खाड़ी",{"$f":"DICTIONARY!P1845","v":"NATURAL OBJECTS ( प्राकतिक वस्तुएं )"},"खाड़ी","खाड़ी"]
[null,null,null,null,null,null,null,null,null,{"$f":"IF(K1822=\" \",\" \",ROWS($K$5:K1822))","v":1818},{"$f":"DICTIONARY!M1846","v":" Ocean"},{"$f":"DICTIONARY!O1846","v":"महासागर"},"महासागर",{"$f":"DICTIONARY!P1846","v":"NATURAL OBJECTS ( प्राकतिक वस्तुएं )"},"महासागर","महासागर"]
[null,null,null,null,null,null,null,null,null,{"$f":"IF(K1823=\" \",\" \",ROWS($K$5:K1823))","v":1819},{"$f":"DICTIONARY!M1847","v":"Sound"},{"$f":"DICTIONARY!O1847","v":"आवाज"},"आवाज",{"$f":"DICTIONARY!P1847","v":"NATURAL OBJECTS ( प्राकतिक वस्तुएं )"},"आवाज","आवाज"]
[null,null,null,null,null,null,null,null,null,{"$f":"IF(K1824=\" \",\" \",ROWS($K$5:K1824))","v":1820},{"$f":"DICTIONARY!M1848","v":"Moonlight"},{"$f":"DICTIONARY!O1848","v":"चन्द्र रश्मि"},"चन्द्र रश्मि",{"$f":"DICTIONARY!P1848","v":"NATURAL OBJECTS ( प्राकतिक वस्तुएं )"},"चन्द्र रश्मि","चन्द्र रश्मि"]
[null,null,null,null,null,null,null,null,null,{"$f":"IF(K1825=\" \",\" \",ROWS($K$5:K1825))","v":1821},{"$f":"DICTIONARY!M1849","v":"Sunshine"},{"$f":"DICTIONARY!O1849","v":"धुप"},"धुप",{"$f":"DICTIONARY!P1849","v":"NATURAL OBJECTS ( प्राकतिक वस्तुएं )"},"धुप","धुप"]
[null,null,null,null,null,null,null,null,null,{"$f":"IF(K1826=\" \",\" \",ROWS($K$5:K1826))","v":1822},{"$f":"DICTIONARY!M1850","v":"Cosmos"},{"$f":"DICTIONARY!O1850","v":"ब्रह्माण्ड"},"ब्रह्माण्ड",{"$f":"DICTIONARY!P1850","v":"NATURAL OBJECTS ( प्राकतिक वस्तुएं )"},"ब्रह्माण्ड","ब्रह्माण्ड"]
[null,null,null,null,null,null,null,null,null,{"$f":"IF(K1827=\" \",\" \",ROWS($K$5:K1827))","v":1823},{"$f":"DICTIONARY!M1851","v":"Universe"},{"$f":"DICTIONARY!O1851","v":"ब्रह्माण्ड"},"ब्रह्माण्ड",{"$f":"DICTIONARY!P1851","v":"NATURAL OBJECTS ( प्राकतिक वस्तुएं )"},"ब्रह्माण्ड","ब्रह्माण्ड"]
[null,null,null,null,null,null,null,null,null,{"$f":"IF(K1828=\" \",\" \",ROWS($K$5:K1828))","v":1824},{"$f":"DICTIONARY!M1852","v":"Coast"},{"$f":"DICTIONARY!O1852","v":"समुद्रतट"},"समुद्रतट",{"$f":"DICTIONARY!P1852","v":"NATURAL OBJECTS ( प्राकतिक वस्तुएं )"},"समुद्रतट","समुद्रतट"]
[null,null,null,null,null,null,null,null,null,{"$f":"IF(K1829=\" \",\" \",ROWS($K$5:K1829))","v":1825},{"$f":"DICTIONARY!M1853","v":"Shore"},{"$f":"DICTIONARY!O1853","v":"समुन्द्रतीर"},"समुन्द्रतीर",{"$f":"DICTIONARY!P1853","v":"NATURAL OBJECTS ( प्राकतिक वस्तुएं )"},"समुन्द्रतीर","समुन्द्रतीर"]
[null,null,null,null,null,null,null,null,null,{"$f":"IF(K1830=\" \",\" \",ROWS($K$5:K1830))","v":1826},{"$f":"DICTIONARY!M1854","v":" Bank"},{"$f":"DICTIONARY!O1854","v":"किनारा"},"किनारा",{"$f":"DICTIONARY!P1854","v":"NATURAL OBJECTS ( प्राकतिक वस्तुएं )"},"किनारा","किनारा"]
[null,null,null,null,null,null,null,null,null,{"$f":"IF(K1831=\" \",\" \",ROWS($K$5:K1831))","v":1827},{"$f":"DICTIONARY!M1855","v":" Planet"},{"$f":"DICTIONARY!O1855","v":"ग्रह"},"ग्रह",{"$f":"DICTIONARY!P1855","v":"NATURAL OBJECTS ( प्राकतिक वस्तुएं )"},"ग्रह","ग्रह"]
[null,null,null,null,null,null,null,null,null,{"$f":"IF(K1832=\" \",\" \",ROWS($K$5:K1832))","v":1828},{"$f":"DICTIONARY!M1856","v":"Satelite"},{"$f":"DICTIONARY!O1856","v":"उपग्रह"},"उपग्रह",{"$f":"DICTIONARY!P1856","v":"NATURAL OBJECTS ( प्राकतिक वस्तुएं )"},"उपग्रह","उपग्रह"]
[null,null,null,null,null,null,null,null,null,{"$f":"IF(K1833=\" \",\" \",ROWS($K$5:K1833))","v":1829},{"$f":"DICTIONARY!M1857","v":"Eclipse"},{"$f":"DICTIONARY!O1857","v":"ग्रहण"},"ग्रहण",{"$f":"DICTIONARY!P1857","v":"NATURAL OBJECTS ( प्राकतिक वस्तुएं )"},"ग्रहण","ग्रहण"]
[null,null,null,null,null,null,null,null,null,{"$f":"IF(K1834=\" \",\" \",ROWS($K$5:K1834))","v":1830},{"$f":"DICTIONARY!M1858","v":"Solar Eclipse"},{"$f":"DICTIONARY!O1858","v":"सूर्यग्रहण"},"सूर्यग्रहण",{"$f":"DICTIONARY!P1858","v":"NATURAL OBJECTS ( प्राकतिक वस्तुएं )"},"सूर्यग्रहण","सूर्यग्रहण"]
[null,null,null,null,null,null,null,null,null,{"$f":"IF(K1835=\" \",\" \",ROWS($K$5:K1835))","v":1831},{"$f":"DICTIONARY!M1859","v":"Lunar Eclipse"},{"$f":"DICTIONARY!O1859","v":"चंद्रग्रहण"},"चंद्रग्रहण",{"$f":"DICTIONARY!P1859","v":"NATURAL OBJECTS ( प्राकतिक वस्तुएं )"},"चंद्रग्रहण","चंद्रग्रहण"]
[null,null,null,null,null,null,null,null,null,{"$f":"IF(K1836=\" \",\" \",ROWS($K$5:K1836))","v":1832},{"$f":"DICTIONARY!M1860","v":"Milky-Way"},{"$f":"DICTIONARY!O1860","v":"आकाशगंगा"},"आकाशगंगा",{"$f":"DICTIONARY!P1860","v":"NATURAL OBJECTS ( प्राकतिक वस्तुएं )"},"आकाशगंगा","आकाशगंगा"]
[null,null,null,null,null,null,null,null,null,{"$f":"IF(K1837=\" \",\" \",ROWS($K$5:K1837))","v":1833},{"$f":"DICTIONARY!M1861","v":"Galaxy"},{"$f":"DICTIONARY!O1861","v":"आकाशगंगा"},"आकाशगंगा",{"$f":"DICTIONARY!P1861","v":"NATURAL OBJECTS ( प्राकतिक वस्तुएं )"},"आकाशगंगा","आकाशगंगा"]
[null,null,null,null,null,null,null,null,null,{"$f":"IF(K1838=\" \",\" \",ROWS($K$5:K1838))","v":1834},{"$f":"DICTIONARY!M1862","v":"Earthquake"},{"$f":"DICTIONARY!O1862","v":"भूकंप"},"भूकंप",{"$f":"DICTIONARY!P1862","v":"NATURAL OBJECTS ( प्राकतिक वस्तुएं )"},"भूकंप","भूकंप"]
[null,null,null,null,null,null,null,null,null,{"$f":"IF(K1839=\" \",\" \",ROWS($K$5:K1839))","v":1835},{"$f":"DICTIONARY!M1863","v":"January"},{"$f":"DICTIONARY!O1863","v":"जनवरी"},"जनवरी",{"$f":"DICTIONARY!P1863","v":"MONTH OF A YEAR ( वर्ष के माह )"},"जनवरी","जनवरी"]
[null,null,null,null,null,null,null,null,null,{"$f":"IF(K1840=\" \",\" \",ROWS($K$5:K1840))","v":1836},{"$f":"DICTIONARY!M1864","v":"February"},{"$f":"DICTIONARY!O1864","v":"फरवरी"},"फरवरी",{"$f":"DICTIONARY!P1864","v":"MONTH OF A YEAR ( वर्ष के माह )"},"फरवरी","फरवरी"]
[null,null,null,null,null,null,null,null,null,{"$f":"IF(K1841=\" \",\" \",ROWS($K$5:K1841))","v":1837},{"$f":"DICTIONARY!M1865","v":" March"},{"$f":"DICTIONARY!O1865","v":"मार्च"},"मार्च",{"$f":"DICTIONARY!P1865","v":"MONTH OF A YEAR ( वर्ष के माह )"},"मार्च","मार्च"]
[null,null,null,null,null,null,null,null,null,{"$f":"IF(K1842=\" \",\" \",ROWS($K$5:K1842))","v":1838},{"$f":"DICTIONARY!M1866","v":"April"},{"$f":"DICTIONARY!O1866","v":"अप्रैल"},"अप्रैल",{"$f":"DICTIONARY!P1866","v":"MONTH OF A YEAR ( वर्ष के माह )"},"अप्रैल","अप्रैल"]
[null,null,null,null,null,null,null,null,null,{"$f":"IF(K1843=\" \",\" \",ROWS($K$5:K1843))","v":1839},{"$f":"DICTIONARY!M1867","v":"May"},{"$f":"DICTIONARY!O1867","v":"मई"},"मई",{"$f":"DICTIONARY!P1867","v":"MONTH OF A YEAR ( वर्ष के माह )"},"मई","मई"]
[null,null,null,null,null,null,null,null,null,{"$f":"IF(K1844=\" \",\" \",ROWS($K$5:K1844))","v":1840},{"$f":"DICTIONARY!M1868","v":"June"},{"$f":"DICTIONARY!O1868","v":"जून"},"जून",{"$f":"DICTIONARY!P1868","v":"MONTH OF A YEAR ( वर्ष के माह )"},"जून","जून"]
[null,null,null,null,null,null,null,null,null,{"$f":"IF(K1845=\" \",\" \",ROWS($K$5:K1845))","v":1841},{"$f":"DICTIONARY!M1869","v":"July"},{"$f":"DICTIONARY!O1869","v":"जुलाई"},"जुलाई",{"$f":"DICTIONARY!P1869","v":"MONTH OF A YEAR ( वर्ष के माह )"},"जुलाई","जुलाई"]
[null,null,null,null,null,null,null,null,null,{"$f":"IF(K1846=\" \",\" \",ROWS($K$5:K1846))","v":1842},{"$f":"DICTIONARY!M1870","v":"August"},{"$f":"DICTIONARY!O1870","v":"अगस्त"},"अगस्त",{"$f":"DICTIONARY!P1870","v":"MONTH OF A YEAR ( वर्ष के माह )"},"अगस्त","अगस्त"]
[null,null,null,null,null,null,null,null,null,{"$f":"IF(K1847=\" \",\" \",ROWS($K$5:K1847))","v":1843},{"$f":"DICTIONARY!M1871","v":"September"},{"$f":"DICTIONARY!O1871","v":"सितम्बर"},"सितम्बर",{"$f":"DICTIONARY!P1871","v":"MONTH OF A YEAR ( वर्ष के माह )"},"सितम्बर","सितम्बर"]
[null,null,null,null,null,null,null,null,null,{"$f":"IF(K1848=\" \",\" \",ROWS($K$5:K1848))","v":1844},{"$f":"DICTIONARY!M1872","v":"Octomber"},{"$f":"DICTIONARY!O1872","v":"अक्तूबर"},"अक्तूबर",{"$f":"DICTIONARY!P1872","v":"MONTH OF A YEAR ( वर्ष के माह )"},"अक्तूबर","अक्तूबर"]
[null,null,null,null,null,null,null,null,null,{"$f":"IF(K1849=\" \",\" \",ROWS($K$5:K1849))","v":1845},{"$f":"DICTIONARY!M1873","v":"November"},{"$f":"DICTIONARY!O1873","v":"नवम्बर"},"नवम्बर",{"$f":"DICTIONARY!P1873","v":"MONTH OF A YEAR ( वर्ष के माह )"},"नवम्बर","नवम्बर"]
[null,null,null,null,null,null,null,null,null,{"$f":"IF(K1850=\" \",\" \",ROWS($K$5:K1850))","v":1846},{"$f":"DICTIONARY!M1874","v":"December"},{"$f":"DICTIONARY!O1874","v":"दिसम्बर"},"दिसम्बर",{"$f":"DICTIONARY!P1874","v":"MONTH OF A YEAR ( वर्ष के माह )"},"दिसम्बर","दिसम्बर"]
[null,null,null,null,null,null,null,null,null,{"$f":"IF(K1851=\" \",\" \",ROWS($K$5:K1851))","v":1847},{"$f":"DICTIONARY!M1875","v":" Month"},{"$f":"DICTIONARY!O1875","v":"महिना"},"महिना",{"$f":"DICTIONARY!P1875","v":"MONTH OF A YEAR ( वर्ष के माह )"},"महिना","महिना"]
[null,null,null,null,null,null,null,null,null,{"$f":"IF(K1852=\" \",\" \",ROWS($K$5:K1852))","v":1848},{"$f":"DICTIONARY!M1876","v":" Year"},{"$f":"DICTIONARY!O1876","v":"वर्ष"},"वर्ष",{"$f":"DICTIONARY!P1876","v":"MONTH OF A YEAR ( वर्ष के माह )"},"वर्ष","वर्ष"]
[null,null,null,null,null,null,null,null,null,{"$f":"IF(K1853=\" \",\" \",ROWS($K$5:K1853))","v":1849},{"$f":"DICTIONARY!M1877","v":"Zodiac Sign"},{"$f":"DICTIONARY!O1877","v":"राशी"},"राशी",{"$f":"DICTIONARY!P1877","v":"ZODIAC SIGNS ( राशियाँ )"},"राशी","राशी"]
[null,null,null,null,null,null,null,null,null,{"$f":"IF(K1854=\" \",\" \",ROWS($K$5:K1854))","v":1850},{"$f":"DICTIONARY!M1878","v":"Aries"},{"$f":"DICTIONARY!O1878","v":"मेष"},"मेष",{"$f":"DICTIONARY!P1878","v":"ZODIAC SIGNS ( राशियाँ )"},"मेष","मेष"]
[null,null,null,null,null,null,null,null,null,{"$f":"IF(K1855=\" \",\" \",ROWS($K$5:K1855))","v":1851},{"$f":"DICTIONARY!M1879","v":"Taurus"},{"$f":"DICTIONARY!O1879","v":"वर्ष"},"वर्ष",{"$f":"DICTIONARY!P1879","v":"ZODIAC SIGNS ( राशियाँ )"},"वर्ष","वर्ष"]
[null,null,null,null,null,null,null,null,null,{"$f":"IF(K1856=\" \",\" \",ROWS($K$5:K1856))","v":1852},{"$f":"DICTIONARY!M1880","v":"Taurus"},{"$f":"DICTIONARY!O1880","v":"मिथुन"},"मिथुन",{"$f":"DICTIONARY!P1880","v":"ZODIAC SIGNS ( राशियाँ )"},"मिथुन","मिथुन"]
[null,null,null,null,null,null,null,null,null,{"$f":"IF(K1857=\" \",\" \",ROWS($K$5:K1857))","v":1853},{"$f":"DICTIONARY!M1881","v":"Gemini"},{"$f":"DICTIONARY!O1881","v":"कर्क"},"कर्क",{"$f":"DICTIONARY!P1881","v":"ZODIAC SIGNS ( राशियाँ )"},"कर्क","कर्क"]
[null,null,null,null,null,null,null,null,null,{"$f":"IF(K1858=\" \",\" \",ROWS($K$5:K1858))","v":1854},{"$f":"DICTIONARY!M1882","v":" Crab"},{"$f":"DICTIONARY!O1882","v":"सिंह"},"सिंह",{"$f":"DICTIONARY!P1882","v":"ZODIAC SIGNS ( राशियाँ )"},"सिंह","सिंह"]
[null,null,null,null,null,null,null,null,null,{"$f":"IF(K1859=\" \",\" \",ROWS($K$5:K1859))","v":1855},{"$f":"DICTIONARY!M1883","v":"Leo"},{"$f":"DICTIONARY!O1883","v":"कन्या"},"कन्या",{"$f":"DICTIONARY!P1883","v":"ZODIAC SIGNS ( राशियाँ )"},"कन्या","कन्या"]
[null,null,null,null,null,null,null,null,null,{"$f":"IF(K1860=\" \",\" \",ROWS($K$5:K1860))","v":1856},{"$f":"DICTIONARY!M1884","v":"Virgo"},{"$f":"DICTIONARY!O1884","v":"तुला"},"तुला",{"$f":"DICTIONARY!P1884","v":"ZODIAC SIGNS ( राशियाँ )"},"तुला","तुला"]
[null,null,null,null,null,null,null,null,null,{"$f":"IF(K1861=\" \",\" \",ROWS($K$5:K1861))","v":1857},{"$f":"DICTIONARY!M1885","v":"Libra"},{"$f":"DICTIONARY!O1885","v":"वर्श्चिक"},"वर्श्चिक",{"$f":"DICTIONARY!P1885","v":"ZODIAC SIGNS ( राशियाँ )"},{"$f":"M1861","v":"वर्श्चिक"},{"$f":"L1861","v":"वर्श्चिक"}]
[null,null,null,null,null,null,null,null,null,{"$f":"IF(K1862=\" \",\" \",ROWS($K$5:K1862))","v":1858},{"$f":"DICTIONARY!M1886","v":"Scorpio"},{"$f":"DICTIONARY!O1886","v":"धनु"},{"$f":"L1862","v":"धनु"},{"$f":"DICTIONARY!P1886","v":"ZODIAC SIGNS ( राशियाँ )"},"धनु","धनु"]
[null,null,null,null,null,null,null,null,null,{"$f":"IF(K1863=\" \",\" \",ROWS($K$5:K1863))","v":1859},{"$f":"DICTIONARY!M1887","v":"Sagittarius"},{"$f":"DICTIONARY!O1887","v":"मकर"},"मकर",{"$f":"DICTIONARY!P1887","v":"ZODIAC SIGNS ( राशियाँ )"},"मकर","मकर"]
[null,null,null,null,null,null,null,null,null,{"$f":"IF(K1864=\" \",\" \",ROWS($K$5:K1864))","v":1860},{"$f":"DICTIONARY!M1888","v":"Capricom"},{"$f":"DICTIONARY!O1888","v":"कुम्भ"},"कुम्भ",{"$f":"DICTIONARY!P1888","v":"ZODIAC SIGNS ( राशियाँ )"},"कुम्भ","कुम्भ"]
[null,null,null,null,null,null,null,null,null,{"$f":"IF(K1865=\" \",\" \",ROWS($K$5:K1865))","v":1861},{"$f":"DICTIONARY!M1889","v":"Aquarius"},{"$f":"DICTIONARY!O1889","v":"मीन"},"मीन",{"$f":"DICTIONARY!P1889","v":"ZODIAC SIGNS ( राशियाँ )"},"मीन","मीन"]
[null,null,null,null,null,null,null,null,null,{"$f":"IF(K1866=\" \",\" \",ROWS($K$5:K1866))","v":1862},{"$f":"DICTIONARY!M1890","v":"Pisces"},{"$f":"DICTIONARY!O1890","v":"ग्रह"},"ग्रह","ZODIAC SIGNS ( राशियाँ )","ग्रह","ग्रह"]
[null,null,null,null,null,null,null,null,null,{"$f":"IF(K1867=\" \",\" \",ROWS($K$5:K1867))","v":1863},{"$f":"DICTIONARY!M1891","v":"One"},{"$f":"DICTIONARY!O1891","v":"एक"},"एक",{"$f":"DICTIONARY!P1891","v":"COUNTINGS ( गिनती )"},"एक","एक"]
[null,null,null,null,null,null,null,null,null,{"$f":"IF(K1868=\" \",\" \",ROWS($K$5:K1868))","v":1864},{"$f":"DICTIONARY!M1892","v":"Two"},{"$f":"DICTIONARY!O1892","v":"दो"},"दो",{"$f":"DICTIONARY!P1892","v":"COUNTINGS ( गिनती )"},"दो","दो"]
[null,null,null,null,null,null,null,null,null,{"$f":"IF(K1869=\" \",\" \",ROWS($K$5:K1869))","v":1865},{"$f":"DICTIONARY!M1893","v":"Three"},{"$f":"DICTIONARY!O1893","v":"तीन"},"तीन",{"$f":"DICTIONARY!P1893","v":"COUNTINGS ( गिनती )"},"तीन","तीन"]
[null,null,null,null,null,null,null,null,null,{"$f":"IF(K1870=\" \",\" \",ROWS($K$5:K1870))","v":1866},{"$f":"DICTIONARY!M1894","v":"Four"},{"$f":"DICTIONARY!O1894","v":"चार"},"चार",{"$f":"DICTIONARY!P1894","v":"COUNTINGS ( गिनती )"},"चार","चार"]
[null,null,null,null,null,null,null,null,null,{"$f":"IF(K1871=\" \",\" \",ROWS($K$5:K1871))","v":1867},{"$f":"DICTIONARY!M1895","v":"Five"},{"$f":"DICTIONARY!O1895","v":"पांच"},"पांच",{"$f":"DICTIONARY!P1895","v":"COUNTINGS ( गिनती )"},"पांच","पांच"]
[null,null,null,null,null,null,null,null,null,{"$f":"IF(K1872=\" \",\" \",ROWS($K$5:K1872))","v":1868},{"$f":"DICTIONARY!M1896","v":"Six"},{"$f":"DICTIONARY!O1896","v":"छह"},"छह",{"$f":"DICTIONARY!P1896","v":"COUNTINGS ( गिनती )"},"छह","छह"]
[null,null,null,null,null,null,null,null,null,{"$f":"IF(K1873=\" \",\" \",ROWS($K$5:K1873))","v":1869},{"$f":"DICTIONARY!M1897","v":"Seven"},{"$f":"DICTIONARY!O1897","v":"सात"},"सात",{"$f":"DICTIONARY!P1897","v":"COUNTINGS ( गिनती )"},"सात","सात"]
[null,null,null,null,null,null,null,null,null,{"$f":"IF(K1874=\" \",\" \",ROWS($K$5:K1874))","v":1870},{"$f":"DICTIONARY!M1898","v":"Eight"},{"$f":"DICTIONARY!O1898","v":"आठ"},"आठ",{"$f":"DICTIONARY!P1898","v":"COUNTINGS ( गिनती )"},"आठ","आठ"]
[null,null,null,null,null,null,null,null,null,{"$f":"IF(K1875=\" \",\" \",ROWS($K$5:K1875))","v":1871},{"$f":"DICTIONARY!M1899","v":"Nine"},{"$f":"DICTIONARY!O1899","v":"नों"},"नों",{"$f":"DICTIONARY!P1899","v":"COUNTINGS ( गिनती )"},"नों","नों"]
[null,null,null,null,null,null,null,null,null,{"$f":"IF(K1876=\" \",\" \",ROWS($K$5:K1876))","v":1872},{"$f":"DICTIONARY!M1900","v":"Ten"},{"$f":"DICTIONARY!O1900","v":"दस"},"दस",{"$f":"DICTIONARY!P1900","v":"COUNTINGS ( गिनती )"},"दस","दस"]
[null,null,null,null,null,null,null,null,null,{"$f":"IF(K1877=\" \",\" \",ROWS($K$5:K1877))","v":1873},{"$f":"DICTIONARY!M1901","v":"Eleven"},{"$f":"DICTIONARY!O1901","v":"ग्यारह"},"ग्यारह",{"$f":"DICTIONARY!P1901","v":"COUNTINGS ( गिनती )"},"ग्यारह","ग्यारह"]
[null,null,null,null,null,null,null,null,null,{"$f":"IF(K1878=\" \",\" \",ROWS($K$5:K1878))","v":1874},{"$f":"DICTIONARY!M1902","v":"Twelve"},{"$f":"DICTIONARY!O1902","v":"बारह"},"बारह",{"$f":"DICTIONARY!P1902","v":"COUNTINGS ( गिनती )"},"बारह","बारह"]
[null,null,null,null,null,null,null,null,null,{"$f":"IF(K1879=\" \",\" \",ROWS($K$5:K1879))","v":1875},{"$f":"DICTIONARY!M1903","v":"Thirteen"},{"$f":"DICTIONARY!O1903","v":"तेरह"},"तेरह",{"$f":"DICTIONARY!P1903","v":"COUNTINGS ( गिनती )"},"तेरह","तेरह"]
[null,null,null,null,null,null,null,null,null,{"$f":"IF(K1880=\" \",\" \",ROWS($K$5:K1880))","v":1876},{"$f":"DICTIONARY!M1904","v":"Fourteen"},{"$f":"DICTIONARY!O1904","v":"चोदह"},"चोदह",{"$f":"DICTIONARY!P1904","v":"COUNTINGS ( गिनती )"},"चोदह","चोदह"]
[null,null,null,null,null,null,null,null,null,{"$f":"IF(K1881=\" \",\" \",ROWS($K$5:K1881))","v":1877},{"$f":"DICTIONARY!M1905","v":"Fifteen"},{"$f":"DICTIONARY!O1905","v":"पंद्रह"},"पंद्रह",{"$f":"DICTIONARY!P1905","v":"COUNTINGS ( गिनती )"},"पंद्रह","पंद्रह"]
[null,null,null,null,null,null,null,null,null,{"$f":"IF(K1882=\" \",\" \",ROWS($K$5:K1882))","v":1878},{"$f":"DICTIONARY!M1906","v":"Sixteen"},{"$f":"DICTIONARY!O1906","v":"सोलह"},"सोलह",{"$f":"DICTIONARY!P1906","v":"COUNTINGS ( गिनती )"},"सोलह","सोलह"]
[null,null,null,null,null,null,null,null,null,{"$f":"IF(K1883=\" \",\" \",ROWS($K$5:K1883))","v":1879},{"$f":"DICTIONARY!M1907","v":"Seventeen"},{"$f":"DICTIONARY!O1907","v":"सत्रह"},"सत्रह",{"$f":"DICTIONARY!P1907","v":"COUNTINGS ( गिनती )"},"सत्रह","सत्रह"]
[null,null,null,null,null,null,null,null,null,{"$f":"IF(K1884=\" \",\" \",ROWS($K$5:K1884))","v":1880},{"$f":"DICTIONARY!M1908","v":"Eighteen"},{"$f":"DICTIONARY!O1908","v":"अठारह"},"अठारह",{"$f":"DICTIONARY!P1908","v":"COUNTINGS ( गिनती )"},"अठारह","अठारह"]
[null,null,null,null,null,null,null,null,null,{"$f":"IF(K1885=\" \",\" \",ROWS($K$5:K1885))","v":1881},{"$f":"DICTIONARY!M1909","v":"Nineteen"},{"$f":"DICTIONARY!O1909","v":"उन्नीस"},"उन्नीस",{"$f":"DICTIONARY!P1909","v":"COUNTINGS ( गिनती )"},"उन्नीस","उन्नीस"]
[null,null,null,null,null,null,null,null,null,{"$f":"IF(K1886=\" \",\" \",ROWS($K$5:K1886))","v":1882},{"$f":"DICTIONARY!M1910","v":"Twenty"},{"$f":"DICTIONARY!O1910","v":"बीस"},"बीस",{"$f":"DICTIONARY!P1910","v":"COUNTINGS ( गिनती )"},"बीस","बीस"]
[null,null,null,null,null,null,null,null,null,{"$f":"IF(K1887=\" \",\" \",ROWS($K$5:K1887))","v":1883},{"$f":"DICTIONARY!M1911","v":"Twenty One"},{"$f":"DICTIONARY!O1911","v":"इक्कीस"},"इक्कीस",{"$f":"DICTIONARY!P1911","v":"COUNTINGS ( गिनती )"},"इक्कीस","इक्कीस"]
[null,null,null,null,null,null,null,null,null,{"$f":"IF(K1888=\" \",\" \",ROWS($K$5:K1888))","v":1884},{"$f":"DICTIONARY!M1912","v":"Twenty Two"},{"$f":"DICTIONARY!O1912","v":"बाईस"},"बाईस",{"$f":"DICTIONARY!P1912","v":"COUNTINGS ( गिनती )"},"बाईस","बाईस"]
[null,null,null,null,null,null,null,null,null,{"$f":"IF(K1889=\" \",\" \",ROWS($K$5:K1889))","v":1885},{"$f":"DICTIONARY!M1913","v":"Twenty Three"},{"$f":"DICTIONARY!O1913","v":"तेईस"},"तेईस",{"$f":"DICTIONARY!P1913","v":"COUNTINGS ( गिनती )"},"तेईस","तेईस"]
[null,null,null,null,null,null,null,null,null,{"$f":"IF(K1890=\" \",\" \",ROWS($K$5:K1890))","v":1886},{"$f":"DICTIONARY!M1914","v":"Twenty Four"},{"$f":"DICTIONARY!O1914","v":"चोईस"},"चोईस",{"$f":"DICTIONARY!P1914","v":"COUNTINGS ( गिनती )"},"चोईस","चोईस"]
[null,null,null,null,null,null,null,null,null,{"$f":"IF(K1891=\" \",\" \",ROWS($K$5:K1891))","v":1887},{"$f":"DICTIONARY!M1915","v":"Twenty Five"},{"$f":"DICTIONARY!O1915","v":"पच्चीस"},"पच्चीस",{"$f":"DICTIONARY!P1915","v":"COUNTINGS ( गिनती )"},"पच्चीस","पच्चीस"]
[null,null,null,null,null,null,null,null,null,{"$f":"IF(K1892=\" \",\" \",ROWS($K$5:K1892))","v":1888},{"$f":"DICTIONARY!M1916","v":"Twenty Six"},{"$f":"DICTIONARY!O1916","v":"छब्बीस"},"छब्बीस",{"$f":"DICTIONARY!P1916","v":"COUNTINGS ( गिनती )"},"छब्बीस","छब्बीस"]
[null,null,null,null,null,null,null,null,null,{"$f":"IF(K1893=\" \",\" \",ROWS($K$5:K1893))","v":1889},{"$f":"DICTIONARY!M1917","v":"Twenty Seven"},{"$f":"DICTIONARY!O1917","v":"सताईस"},"सताईस",{"$f":"DICTIONARY!P1917","v":"COUNTINGS ( गिनती )"},"सताईस","सताईस"]
[null,null,null,null,null,null,null,null,null,{"$f":"IF(K1894=\" \",\" \",ROWS($K$5:K1894))","v":1890},{"$f":"DICTIONARY!M1918","v":"Twenty Eight"},{"$f":"DICTIONARY!O1918","v":"अठाईस"},"अठाईस",{"$f":"DICTIONARY!P1918","v":"COUNTINGS ( गिनती )"},"अठाईस","अठाईस"]
[null,null,null,null,null,null,null,null,null,{"$f":"IF(K1895=\" \",\" \",ROWS($K$5:K1895))","v":1891},{"$f":"DICTIONARY!M1919","v":"Twenty Nine"},{"$f":"DICTIONARY!O1919","v":"उनतीस"},"उनतीस",{"$f":"DICTIONARY!P1919","v":"COUNTINGS ( गिनती )"},"उनतीस","उनतीस"]
[null,null,null,null,null,null,null,null,null,{"$f":"IF(K1896=\" \",\" \",ROWS($K$5:K1896))","v":1892},{"$f":"DICTIONARY!M1920","v":"Thirty"},{"$f":"DICTIONARY!O1920","v":"तीस"},"तीस",{"$f":"DICTIONARY!P1920","v":"COUNTINGS ( गिनती )"},"तीस","तीस"]
[null,null,null,null,null,null,null,null,null,{"$f":"IF(K1897=\" \",\" \",ROWS($K$5:K1897))","v":1893},{"$f":"DICTIONARY!M1921","v":"Thirty One"},{"$f":"DICTIONARY!O1921","v":"इकतीस"},"इकतीस",{"$f":"DICTIONARY!P1921","v":"COUNTINGS ( गिनती )"},"इकतीस","इकतीस"]
[null,null,null,null,null,null,null,null,null,{"$f":"IF(K1898=\" \",\" \",ROWS($K$5:K1898))","v":1894},{"$f":"DICTIONARY!M1922","v":"Thirty Two"},{"$f":"DICTIONARY!O1922","v":"बत्तीस"},"बत्तीस",{"$f":"DICTIONARY!P1922","v":"COUNTINGS ( गिनती )"},"बत्तीस","बत्तीस"]
[null,null,null,null,null,null,null,null,null,{"$f":"IF(K1899=\" \",\" \",ROWS($K$5:K1899))","v":1895},{"$f":"DICTIONARY!M1923","v":"Thirty Three"},{"$f":"DICTIONARY!O1923","v":"तेंतीस"},"तेंतीस",{"$f":"DICTIONARY!P1923","v":"COUNTINGS ( गिनती )"},"तेंतीस","तेंतीस"]
[null,null,null,null,null,null,null,null,null,{"$f":"IF(K1900=\" \",\" \",ROWS($K$5:K1900))","v":1896},{"$f":"DICTIONARY!M1924","v":"Thirty Four"},{"$f":"DICTIONARY!O1924","v":"चोंतीस"},"चोंतीस",{"$f":"DICTIONARY!P1924","v":"COUNTINGS ( गिनती )"},"चोंतीस","चोंतीस"]
[null,null,null,null,null,null,null,null,null,{"$f":"IF(K1901=\" \",\" \",ROWS($K$5:K1901))","v":1897},{"$f":"DICTIONARY!M1925","v":"Thirty Five"},{"$f":"DICTIONARY!O1925","v":"पैंतीस"},"पैंतीस",{"$f":"DICTIONARY!P1925","v":"COUNTINGS ( गिनती )"},"पैंतीस","पैंतीस"]
[null,null,null,null,null,null,null,null,null,{"$f":"IF(K1902=\" \",\" \",ROWS($K$5:K1902))","v":1898},{"$f":"DICTIONARY!M1926","v":"Thirty Six"},{"$f":"DICTIONARY!O1926","v":"छत्तीस"},"छत्तीस",{"$f":"DICTIONARY!P1926","v":"COUNTINGS ( गिनती )"},"छत्तीस","छत्तीस"]
[null,null,null,null,null,null,null,null,null,{"$f":"IF(K1903=\" \",\" \",ROWS($K$5:K1903))","v":1899},{"$f":"DICTIONARY!M1927","v":"Thirty Seven"},{"$f":"DICTIONARY!O1927","v":"सेंतीस"},"सेंतीस",{"$f":"DICTIONARY!P1927","v":"COUNTINGS ( गिनती )"},"सेंतीस","सेंतीस"]
[null,null,null,null,null,null,null,null,null,{"$f":"IF(K1904=\" \",\" \",ROWS($K$5:K1904))","v":1900},{"$f":"DICTIONARY!M1928","v":"Thirty Eight"},{"$f":"DICTIONARY!O1928","v":"अडतीस"},"अडतीस",{"$f":"DICTIONARY!P1928","v":"COUNTINGS ( गिनती )"},"अडतीस","अडतीस"]
[null,null,null,null,null,null,null,null,null,{"$f":"IF(K1905=\" \",\" \",ROWS($K$5:K1905))","v":1901},{"$f":"DICTIONARY!M1929","v":"Thirty Nine"},{"$f":"DICTIONARY!O1929","v":"उनचालीस"},"उनचालीस",{"$f":"DICTIONARY!P1929","v":"COUNTINGS ( गिनती )"},"उनचालीस","उनचालीस"]
[null,null,null,null,null,null,null,null,null,{"$f":"IF(K1906=\" \",\" \",ROWS($K$5:K1906))","v":1902},{"$f":"DICTIONARY!M1930","v":"Forty"},{"$f":"DICTIONARY!O1930","v":"चालीस"},"चालीस",{"$f":"DICTIONARY!P1930","v":"COUNTINGS ( गिनती )"},"चालीस","चालीस"]
[null,null,null,null,null,null,null,null,null,{"$f":"IF(K1907=\" \",\" \",ROWS($K$5:K1907))","v":1903},{"$f":"DICTIONARY!M1931","v":"Forty One"},{"$f":"DICTIONARY!O1931","v":"इकतालीस"},"इकतालीस",{"$f":"DICTIONARY!P1931","v":"COUNTINGS ( गिनती )"},"इकतालीस","इकतालीस"]
[null,null,null,null,null,null,null,null,null,{"$f":"IF(K1908=\" \",\" \",ROWS($K$5:K1908))","v":1904},{"$f":"DICTIONARY!M1932","v":"Forty Two"},{"$f":"DICTIONARY!O1932","v":"बयालीस"},"बयालीस",{"$f":"DICTIONARY!P1932","v":"COUNTINGS ( गिनती )"},"बयालीस","बयालीस"]
[null,null,null,null,null,null,null,null,null,{"$f":"IF(K1909=\" \",\" \",ROWS($K$5:K1909))","v":1905},{"$f":"DICTIONARY!M1933","v":"Forty Three"},{"$f":"DICTIONARY!O1933","v":"तेयालीस"},"तेयालीस",{"$f":"DICTIONARY!P1933","v":"COUNTINGS ( गिनती )"},"तेयालीस","तेयालीस"]
[null,null,null,null,null,null,null,null,null,{"$f":"IF(K1910=\" \",\" \",ROWS($K$5:K1910))","v":1906},{"$f":"DICTIONARY!M1934","v":"Forty Four"},{"$f":"DICTIONARY!O1934","v":"चवालीस"},"चवालीस",{"$f":"DICTIONARY!P1934","v":"COUNTINGS ( गिनती )"},"चवालीस","चवालीस"]
[null,null,null,null,null,null,null,null,null,{"$f":"IF(K1911=\" \",\" \",ROWS($K$5:K1911))","v":1907},{"$f":"DICTIONARY!M1935","v":"Forty Five"},{"$f":"DICTIONARY!O1935","v":"पैंतालीस"},"पैंतालीस",{"$f":"DICTIONARY!P1935","v":"COUNTINGS ( गिनती )"},"पैंतालीस","पैंतालीस"]
[null,null,null,null,null,null,null,null,null,{"$f":"IF(K1912=\" \",\" \",ROWS($K$5:K1912))","v":1908},{"$f":"DICTIONARY!M1936","v":"Forty Six"},{"$f":"DICTIONARY!O1936","v":"छियालीस"},"छियालीस",{"$f":"DICTIONARY!P1936","v":"COUNTINGS ( गिनती )"},"छियालीस","छियालीस"]
[null,null,null,null,null,null,null,null,null,{"$f":"IF(K1913=\" \",\" \",ROWS($K$5:K1913))","v":1909},{"$f":"DICTIONARY!M1937","v":"Forty Seven"},{"$f":"DICTIONARY!O1937","v":"सेंतालीस"},"सेंतालीस",{"$f":"DICTIONARY!P1937","v":"COUNTINGS ( गिनती )"},"सेंतालीस","सेंतालीस"]
[null,null,null,null,null,null,null,null,null,{"$f":"IF(K1914=\" \",\" \",ROWS($K$5:K1914))","v":1910},{"$f":"DICTIONARY!M1938","v":"Forty Eight"},{"$f":"DICTIONARY!O1938","v":"अड़तालीस"},"अड़तालीस",{"$f":"DICTIONARY!P1938","v":"COUNTINGS ( गिनती )"},"अड़तालीस","अड़तालीस"]
[null,null,null,null,null,null,null,null,null,{"$f":"IF(K1915=\" \",\" \",ROWS($K$5:K1915))","v":1911},{"$f":"DICTIONARY!M1939","v":"Forty Nine"},{"$f":"DICTIONARY!O1939","v":"उनचास"},"उनचास",{"$f":"DICTIONARY!P1939","v":"COUNTINGS ( गिनती )"},"उनचास","उनचास"]
[null,null,null,null,null,null,null,null,null,{"$f":"IF(K1916=\" \",\" \",ROWS($K$5:K1916))","v":1912},{"$f":"DICTIONARY!M1940","v":"Fifty"},{"$f":"DICTIONARY!O1940","v":"पचास"},"पचास",{"$f":"DICTIONARY!P1940","v":"COUNTINGS ( गिनती )"},"पचास","पचास"]
[null,null,null,null,null,null,null,null,null,{"$f":"IF(K1917=\" \",\" \",ROWS($K$5:K1917))","v":1913},{"$f":"DICTIONARY!M1941","v":"Fifty One"},{"$f":"DICTIONARY!O1941","v":"इक्यावन"},"इक्यावन",{"$f":"DICTIONARY!P1941","v":"COUNTINGS ( गिनती )"},"इक्यावन","इक्यावन"]
[null,null,null,null,null,null,null,null,null,{"$f":"IF(K1918=\" \",\" \",ROWS($K$5:K1918))","v":1914},{"$f":"DICTIONARY!M1942","v":"Fifty Two"},{"$f":"DICTIONARY!O1942","v":"बावन"},"बावन",{"$f":"DICTIONARY!P1942","v":"COUNTINGS ( गिनती )"},"बावन","बावन"]
[null,null,null,null,null,null,null,null,null,{"$f":"IF(K1919=\" \",\" \",ROWS($K$5:K1919))","v":1915},{"$f":"DICTIONARY!M1943","v":"Fifty Three"},{"$f":"DICTIONARY!O1943","v":"तिरेपन"},"तिरेपन",{"$f":"DICTIONARY!P1943","v":"COUNTINGS ( गिनती )"},"तिरेपन","तिरेपन"]
[null,null,null,null,null,null,null,null,null,{"$f":"IF(K1920=\" \",\" \",ROWS($K$5:K1920))","v":1916},{"$f":"DICTIONARY!M1944","v":"Fifty Four"},{"$f":"DICTIONARY!O1944","v":"चौवन"},"चौवन",{"$f":"DICTIONARY!P1944","v":"COUNTINGS ( गिनती )"},"चौवन","चौवन"]
[null,null,null,null,null,null,null,null,null,{"$f":"IF(K1921=\" \",\" \",ROWS($K$5:K1921))","v":1917},{"$f":"DICTIONARY!M1945","v":"Fifty Five"},{"$f":"DICTIONARY!O1945","v":"पचपन"},"पचपन",{"$f":"DICTIONARY!P1945","v":"COUNTINGS ( गिनती )"},"पचपन","पचपन"]
[null,null,null,null,null,null,null,null,null,{"$f":"IF(K1922=\" \",\" \",ROWS($K$5:K1922))","v":1918},{"$f":"DICTIONARY!M1946","v":"Fifty Six"},{"$f":"DICTIONARY!O1946","v":"छपन"},"छपन",{"$f":"DICTIONARY!P1946","v":"COUNTINGS ( गिनती )"},"छपन","छपन"]
[null,null,null,null,null,null,null,null,null,{"$f":"IF(K1923=\" \",\" \",ROWS($K$5:K1923))","v":1919},{"$f":"DICTIONARY!M1947","v":"Fifty Seven"},{"$f":"DICTIONARY!O1947","v":"सतावन"},"सतावन",{"$f":"DICTIONARY!P1947","v":"COUNTINGS ( गिनती )"},"सतावन","सतावन"]
[null,null,null,null,null,null,null,null,null,{"$f":"IF(K1924=\" \",\" \",ROWS($K$5:K1924))","v":1920},{"$f":"DICTIONARY!M1948","v":"Fifty Eight"},{"$f":"DICTIONARY!O1948","v":"अठावन"},"अठावन",{"$f":"DICTIONARY!P1948","v":"COUNTINGS ( गिनती )"},"अठावन","अठावन"]
[null,null,null,null,null,null,null,null,null,{"$f":"IF(K1925=\" \",\" \",ROWS($K$5:K1925))","v":1921},{"$f":"DICTIONARY!M1949","v":"Fifty Nine"},{"$f":"DICTIONARY!O1949","v":"उन्सठ"},"उन्सठ",{"$f":"DICTIONARY!P1949","v":"COUNTINGS ( गिनती )"},{"$f":"M1925","v":"उन्सठ"},{"$f":"L1925","v":"उन्सठ"}]
[null,null,null,null,null,null,null,null,null,{"$f":"IF(K1926=\" \",\" \",ROWS($K$5:K1926))","v":1922},{"$f":"DICTIONARY!M1950","v":"Sixty"},{"$f":"DICTIONARY!O1950","v":"साठ"},{"$f":"L1926","v":"साठ"},{"$f":"DICTIONARY!P1950","v":"COUNTINGS ( गिनती )"},"साठ","साठ"]
[null,null,null,null,null,null,null,null,null,{"$f":"IF(K1927=\" \",\" \",ROWS($K$5:K1927))","v":1923},{"$f":"DICTIONARY!M1951","v":"Sixty One"},{"$f":"DICTIONARY!O1951","v":"इकसठ"},"इकसठ",{"$f":"DICTIONARY!P1951","v":"COUNTINGS ( गिनती )"},"इकसठ","इकसठ"]
[null,null,null,null,null,null,null,null,null,{"$f":"IF(K1928=\" \",\" \",ROWS($K$5:K1928))","v":1924},{"$f":"DICTIONARY!M1952","v":"Sixty Two"},{"$f":"DICTIONARY!O1952","v":"बासठ"},"बासठ",{"$f":"DICTIONARY!P1952","v":"COUNTINGS ( गिनती )"},"बासठ","बासठ"]
[null,null,null,null,null,null,null,null,null,{"$f":"IF(K1929=\" \",\" \",ROWS($K$5:K1929))","v":1925},{"$f":"DICTIONARY!M1953","v":"Sixty Three"},{"$f":"DICTIONARY!O1953","v":"तिरेसठ"},"तिरेसठ",{"$f":"DICTIONARY!P1953","v":"COUNTINGS ( गिनती )"},"तिरेसठ","तिरेसठ"]
[null,null,null,null,null,null,null,null,null,{"$f":"IF(K1930=\" \",\" \",ROWS($K$5:K1930))","v":1926},{"$f":"DICTIONARY!M1954","v":"Sixty Four"},{"$f":"DICTIONARY!O1954","v":"चोसठ"},"चोसठ",{"$f":"DICTIONARY!P1954","v":"COUNTINGS ( गिनती )"},"चोसठ","चोसठ"]
[null,null,null,null,null,null,null,null,null,{"$f":"IF(K1931=\" \",\" \",ROWS($K$5:K1931))","v":1927},{"$f":"DICTIONARY!M1955","v":"Sixty Five"},{"$f":"DICTIONARY!O1955","v":"पेंसठ"},"पेंसठ",{"$f":"DICTIONARY!P1955","v":"COUNTINGS ( गिनती )"},"पेंसठ","पेंसठ"]
[null,null,null,null,null,null,null,null,null,{"$f":"IF(K1932=\" \",\" \",ROWS($K$5:K1932))","v":1928},{"$f":"DICTIONARY!M1956","v":"Sixty Six"},{"$f":"DICTIONARY!O1956","v":"छियासठ"},"छियासठ",{"$f":"DICTIONARY!P1956","v":"COUNTINGS ( गिनती )"},"छियासठ","छियासठ"]
[null,null,null,null,null,null,null,null,null,{"$f":"IF(K1933=\" \",\" \",ROWS($K$5:K1933))","v":1929},{"$f":"DICTIONARY!M1957","v":"Sixty Seven"},{"$f":"DICTIONARY!O1957","v":"सडसठ"},"सडसठ",{"$f":"DICTIONARY!P1957","v":"COUNTINGS ( गिनती )"},"सडसठ","सडसठ"]
[null,null,null,null,null,null,null,null,null,{"$f":"IF(K1934=\" \",\" \",ROWS($K$5:K1934))","v":1930},{"$f":"DICTIONARY!M1958","v":"Sixty Eight"},{"$f":"DICTIONARY!O1958","v":"अडसठ"},"अडसठ",{"$f":"DICTIONARY!P1958","v":"COUNTINGS ( गिनती )"},"अडसठ","अडसठ"]
[null,null,null,null,null,null,null,null,null,{"$f":"IF(K1935=\" \",\" \",ROWS($K$5:K1935))","v":1931},{"$f":"DICTIONARY!M1959","v":"Sixty Nine"},{"$f":"DICTIONARY!O1959","v":"उनहत्तर"},"उनहत्तर",{"$f":"DICTIONARY!P1959","v":"COUNTINGS ( गिनती )"},"उनहत्तर","उनहत्तर"]
[null,null,null,null,null,null,null,null,null,{"$f":"IF(K1936=\" \",\" \",ROWS($K$5:K1936))","v":1932},{"$f":"DICTIONARY!M1960","v":"Seventy"},{"$f":"DICTIONARY!O1960","v":"सत्तर"},"सत्तर",{"$f":"DICTIONARY!P1960","v":"COUNTINGS ( गिनती )"},"सत्तर","सत्तर"]
[null,null,null,null,null,null,null,null,null,{"$f":"IF(K1937=\" \",\" \",ROWS($K$5:K1937))","v":1933},{"$f":"DICTIONARY!M1961","v":"Seventy One"},{"$f":"DICTIONARY!O1961","v":"इकहत्तर"},"इकहत्तर",{"$f":"DICTIONARY!P1961","v":"COUNTINGS ( गिनती )"},"इकहत्तर","इकहत्तर"]
[null,null,null,null,null,null,null,null,null,{"$f":"IF(K1938=\" \",\" \",ROWS($K$5:K1938))","v":1934},{"$f":"DICTIONARY!M1962","v":"Seventy Two"},{"$f":"DICTIONARY!O1962","v":"बहेतर"},"बहेतर",{"$f":"DICTIONARY!P1962","v":"COUNTINGS ( गिनती )"},"बहेतर","बहेतर"]
[null,null,null,null,null,null,null,null,null,{"$f":"IF(K1939=\" \",\" \",ROWS($K$5:K1939))","v":1935},{"$f":"DICTIONARY!M1963","v":"Seventy Three"},{"$f":"DICTIONARY!O1963","v":"तिहेत्तर"},"तिहेत्तर",{"$f":"DICTIONARY!P1963","v":"COUNTINGS ( गिनती )"},"तिहेत्तर","तिहेत्तर"]
[null,null,null,null,null,null,null,null,null,{"$f":"IF(K1940=\" \",\" \",ROWS($K$5:K1940))","v":1936},{"$f":"DICTIONARY!M1964","v":"Seventy Four"},{"$f":"DICTIONARY!O1964","v":"चोहत्टर"},"चोहत्टर",{"$f":"DICTIONARY!P1964","v":"COUNTINGS ( गिनती )"},"चोहत्टर","चोहत्टर"]
[null,null,null,null,null,null,null,null,null,{"$f":"IF(K1941=\" \",\" \",ROWS($K$5:K1941))","v":1937},{"$f":"DICTIONARY!M1965","v":"Seventy Five"},{"$f":"DICTIONARY!O1965","v":"पचहत्तर"},"पचहत्तर",{"$f":"DICTIONARY!P1965","v":"COUNTINGS ( गिनती )"},"पचहत्तर","पचहत्तर"]
[null,null,null,null,null,null,null,null,null,{"$f":"IF(K1942=\" \",\" \",ROWS($K$5:K1942))","v":1938},{"$f":"DICTIONARY!M1966","v":"Seventy Six"},{"$f":"DICTIONARY!O1966","v":"छिहत्तर"},"छिहत्तर",{"$f":"DICTIONARY!P1966","v":"COUNTINGS ( गिनती )"},"छिहत्तर","छिहत्तर"]
[null,null,null,null,null,null,null,null,null,{"$f":"IF(K1943=\" \",\" \",ROWS($K$5:K1943))","v":1939},{"$f":"DICTIONARY!M1967","v":"Seventy Seven"},{"$f":"DICTIONARY!O1967","v":"सतहत्तर"},"सतहत्तर",{"$f":"DICTIONARY!P1967","v":"COUNTINGS ( गिनती )"},"सतहत्तर","सतहत्तर"]
[null,null,null,null,null,null,null,null,null,{"$f":"IF(K1944=\" \",\" \",ROWS($K$5:K1944))","v":1940},{"$f":"DICTIONARY!M1968","v":"Seventy Eight"},{"$f":"DICTIONARY!O1968","v":"अठहत्तर"},"अठहत्तर",{"$f":"DICTIONARY!P1968","v":"COUNTINGS ( गिनती )"},"अठहत्तर","अठहत्तर"]
[null,null,null,null,null,null,null,null,null,{"$f":"IF(K1945=\" \",\" \",ROWS($K$5:K1945))","v":1941},{"$f":"DICTIONARY!M1969","v":"Seventy Nine"},{"$f":"DICTIONARY!O1969","v":"उनासी"},"उनासी",{"$f":"DICTIONARY!P1969","v":"COUNTINGS ( गिनती )"},"उनासी","उनासी"]
[null,null,null,null,null,null,null,null,null,{"$f":"IF(K1946=\" \",\" \",ROWS($K$5:K1946))","v":1942},{"$f":"DICTIONARY!M1970","v":"Eighty"},{"$f":"DICTIONARY!O1970","v":"अस्सी"},"अस्सी",{"$f":"DICTIONARY!P1970","v":"COUNTINGS ( गिनती )"},"अस्सी","अस्सी"]
[null,null,null,null,null,null,null,null,null,{"$f":"IF(K1947=\" \",\" \",ROWS($K$5:K1947))","v":1943},{"$f":"DICTIONARY!M1971","v":"Eighty One"},{"$f":"DICTIONARY!O1971","v":"इकासी"},"इकासी",{"$f":"DICTIONARY!P1971","v":"COUNTINGS ( गिनती )"},"इकासी","इकासी"]
[null,null,null,null,null,null,null,null,null,{"$f":"IF(K1948=\" \",\" \",ROWS($K$5:K1948))","v":1944},{"$f":"DICTIONARY!M1972","v":"Eighty Two"},{"$f":"DICTIONARY!O1972","v":"बयासी"},"बयासी",{"$f":"DICTIONARY!P1972","v":"COUNTINGS ( गिनती )"},"बयासी","बयासी"]
[null,null,null,null,null,null,null,null,null,{"$f":"IF(K1949=\" \",\" \",ROWS($K$5:K1949))","v":1945},{"$f":"DICTIONARY!M1973","v":"Eighty Three"},{"$f":"DICTIONARY!O1973","v":"तिरासी"},"तिरासी",{"$f":"DICTIONARY!P1973","v":"COUNTINGS ( गिनती )"},"तिरासी","तिरासी"]
[null,null,null,null,null,null,null,null,null,{"$f":"IF(K1950=\" \",\" \",ROWS($K$5:K1950))","v":1946},{"$f":"DICTIONARY!M1974","v":"Eighty Four"},{"$f":"DICTIONARY!O1974","v":"चोरासी"},"चोरासी",{"$f":"DICTIONARY!P1974","v":"COUNTINGS ( गिनती )"},"चोरासी","चोरासी"]
[null,null,null,null,null,null,null,null,null,{"$f":"IF(K1951=\" \",\" \",ROWS($K$5:K1951))","v":1947},{"$f":"DICTIONARY!M1975","v":"Eighty Five"},{"$f":"DICTIONARY!O1975","v":"पचासी"},"पचासी",{"$f":"DICTIONARY!P1975","v":"COUNTINGS ( गिनती )"},"पचासी","पचासी"]
[null,null,null,null,null,null,null,null,null,{"$f":"IF(K1952=\" \",\" \",ROWS($K$5:K1952))","v":1948},{"$f":"DICTIONARY!M1976","v":"Eighty Six"},{"$f":"DICTIONARY!O1976","v":"छियासी"},"छियासी",{"$f":"DICTIONARY!P1976","v":"COUNTINGS ( गिनती )"},"छियासी","छियासी"]
[null,null,null,null,null,null,null,null,null,{"$f":"IF(K1953=\" \",\" \",ROWS($K$5:K1953))","v":1949},{"$f":"DICTIONARY!M1977","v":"Eighty Seven"},{"$f":"DICTIONARY!O1977","v":"सतासी"},"सतासी",{"$f":"DICTIONARY!P1977","v":"COUNTINGS ( गिनती )"},"सतासी","सतासी"]
[null,null,null,null,null,null,null,null,null,{"$f":"IF(K1954=\" \",\" \",ROWS($K$5:K1954))","v":1950},{"$f":"DICTIONARY!M1978","v":"Eighty Eight"},{"$f":"DICTIONARY!O1978","v":"अठासी"},"अठासी",{"$f":"DICTIONARY!P1978","v":"COUNTINGS ( गिनती )"},"अठासी","अठासी"]
[null,null,null,null,null,null,null,null,null,{"$f":"IF(K1955=\" \",\" \",ROWS($K$5:K1955))","v":1951},{"$f":"DICTIONARY!M1979","v":"Eighty Nine"},{"$f":"DICTIONARY!O1979","v":"नवासी"},"नवासी",{"$f":"DICTIONARY!P1979","v":"COUNTINGS ( गिनती )"},"नवासी","नवासी"]
[null,null,null,null,null,null,null,null,null,{"$f":"IF(K1956=\" \",\" \",ROWS($K$5:K1956))","v":1952},{"$f":"DICTIONARY!M1980","v":"Ninty"},{"$f":"DICTIONARY!O1980","v":"नब्बे"},"नब्बे",{"$f":"DICTIONARY!P1980","v":"COUNTINGS ( गिनती )"},"नब्बे","नब्बे"]
[null,null,null,null,null,null,null,null,null,{"$f":"IF(K1957=\" \",\" \",ROWS($K$5:K1957))","v":1953},{"$f":"DICTIONARY!M1981","v":"Ninety One"},{"$f":"DICTIONARY!O1981","v":"इक्यानवे"},"इक्यानवे",{"$f":"DICTIONARY!P1981","v":"COUNTINGS ( गिनती )"},"इक्यानवे","इक्यानवे"]
[null,null,null,null,null,null,null,null,null,{"$f":"IF(K1958=\" \",\" \",ROWS($K$5:K1958))","v":1954},{"$f":"DICTIONARY!M1982","v":"Ninety  Two"},{"$f":"DICTIONARY!O1982","v":"बरानवे"},"बरानवे",{"$f":"DICTIONARY!P1982","v":"COUNTINGS ( गिनती )"},"बरानवे","बरानवे"]
[null,null,null,null,null,null,null,null,null,{"$f":"IF(K1959=\" \",\" \",ROWS($K$5:K1959))","v":1955},{"$f":"DICTIONARY!M1983","v":"Ninety  Three"},{"$f":"DICTIONARY!O1983","v":"तिरानवे"},"तिरानवे",{"$f":"DICTIONARY!P1983","v":"COUNTINGS ( गिनती )"},"तिरानवे","तिरानवे"]
[null,null,null,null,null,null,null,null,null,{"$f":"IF(K1960=\" \",\" \",ROWS($K$5:K1960))","v":1956},{"$f":"DICTIONARY!M1984","v":"Ninety  Four"},{"$f":"DICTIONARY!O1984","v":"चोरानवे"},"चोरानवे",{"$f":"DICTIONARY!P1984","v":"COUNTINGS ( गिनती )"},"चोरानवे","चोरानवे"]
[null,null,null,null,null,null,null,null,null,{"$f":"IF(K1961=\" \",\" \",ROWS($K$5:K1961))","v":1957},{"$f":"DICTIONARY!M1985","v":"Ninety  Five"},{"$f":"DICTIONARY!O1985","v":"पचानवे"},"पचानवे",{"$f":"DICTIONARY!P1985","v":"COUNTINGS ( गिनती )"},"पचानवे","पचानवे"]
[null,null,null,null,null,null,null,null,null,{"$f":"IF(K1962=\" \",\" \",ROWS($K$5:K1962))","v":1958},{"$f":"DICTIONARY!M1986","v":"Ninety  Six"},{"$f":"DICTIONARY!O1986","v":"छियानवे"},"छियानवे",{"$f":"DICTIONARY!P1986","v":"COUNTINGS ( गिनती )"},"छियानवे","छियानवे"]
[null,null,null,null,null,null,null,null,null,{"$f":"IF(K1963=\" \",\" \",ROWS($K$5:K1963))","v":1959},{"$f":"DICTIONARY!M1987","v":"Ninety  Seven"},{"$f":"DICTIONARY!O1987","v":"सतानवे"},"सतानवे",{"$f":"DICTIONARY!P1987","v":"COUNTINGS ( गिनती )"},"सतानवे","सतानवे"]
[null,null,null,null,null,null,null,null,null,{"$f":"IF(K1964=\" \",\" \",ROWS($K$5:K1964))","v":1960},{"$f":"DICTIONARY!M1988","v":"Ninety  Eight"},{"$f":"DICTIONARY!O1988","v":"अठानवे"},"अठानवे",{"$f":"DICTIONARY!P1988","v":"COUNTINGS ( गिनती )"},"अठानवे","अठानवे"]
[null,null,null,null,null,null,null,null,null,{"$f":"IF(K1965=\" \",\" \",ROWS($K$5:K1965))","v":1961},{"$f":"DICTIONARY!M1989","v":"Ninety  Nine"},{"$f":"DICTIONARY!O1989","v":"निन्यानवे"},"निन्यानवे",{"$f":"DICTIONARY!P1989","v":"COUNTINGS ( गिनती )"},"निन्यानवे","निन्यानवे"]
[null,null,null,null,null,null,null,null,null,{"$f":"IF(K1966=\" \",\" \",ROWS($K$5:K1966))","v":1962},{"$f":"DICTIONARY!M1990","v":"Hundred"},{"$f":"DICTIONARY!O1990","v":"सौं"},"सौं",{"$f":"DICTIONARY!P1990","v":"COUNTINGS ( गिनती )"},"सौं","सौं"]
[null,null,null,null,null,null,null,null,null,{"$f":"IF(K1967=\" \",\" \",ROWS($K$5:K1967))","v":1963},{"$f":"DICTIONARY!M1991","v":"Million"},{"$f":"DICTIONARY!O1991","v":"दस लाख"},"दस लाख",{"$f":"DICTIONARY!P1991","v":"COUNTINGS ( गिनती )"},"दस लाख","दस लाख"]
[null,null,null,null,null,null,null,null,null,{"$f":"IF(K1968=\" \",\" \",ROWS($K$5:K1968))","v":1964},{"$f":"DICTIONARY!M1992","v":"Billion"},{"$f":"DICTIONARY!O1992","v":"दस करोड़"},"दस करोड़",{"$f":"DICTIONARY!P1992","v":"COUNTINGS ( गिनती )"},"दस करोड़","दस करोड़"]
[null,null,null,null,null,null,null,null,null,{"$f":"IF(K1969=\" \",\" \",ROWS($K$5:K1969))","v":1965},{"$f":"DICTIONARY!M1993","v":"Thousand"},{"$f":"DICTIONARY!O1993","v":"हजार"},"हजार",{"$f":"DICTIONARY!P1993","v":"COUNTINGS ( गिनती )"},"हजार","हजार"]
[null,null,null,null,null,null,null,null,null,{"$f":"IF(K1970=\" \",\" \",ROWS($K$5:K1970))","v":1966},{"$f":"DICTIONARY!M1994","v":"Index"},{"$f":"DICTIONARY!O1994","v":"संकेत"},"संकेत",{"$f":"DICTIONARY!P1994","v":0},"संकेत","संकेत"]
[null,null,null,null,null,null,null,null,null,{"$f":"IF(K1971=\" \",\" \",ROWS($K$5:K1971))","v":1967},{"$f":"DICTIONARY!M1995","v":"Fish"},{"$f":"DICTIONARY!O1995","v":"मछली"},"मछली",{"$f":"DICTIONARY!P1995","v":"REPTILES AND FISHES ( सरीसर्प और मछली )"},"मछली","मछली"]
[null,null,null,null,null,null,null,null,null,{"$f":"IF(K1972=\" \",\" \",ROWS($K$5:K1972))","v":1968},{"$f":"DICTIONARY!M1996","v":"Frog"},{"$f":"DICTIONARY!O1996","v":"मेंढक"},"मेंढक",{"$f":"DICTIONARY!P1996","v":"REPTILES AND FISHES ( सरीसर्प और मछली )"},"मेंढक","मेंढक"]
[null,null,null,null,null,null,null,null,null,{"$f":"IF(K1973=\" \",\" \",ROWS($K$5:K1973))","v":1969},{"$f":"DICTIONARY!M1997","v":"Fry"},{"$f":"DICTIONARY!O1997","v":"एक प्रकार' की मछली"},"एक प्रकार' की मछली",{"$f":"DICTIONARY!P1997","v":"REPTILES AND FISHES ( सरीसर्प और मछली )"},"एक प्रकार' की मछली","एक प्रकार' की मछली"]
[null,null,null,null,null,null,null,null,null,{"$f":"IF(K1974=\" \",\" \",ROWS($K$5:K1974))","v":1970},{"$f":"DICTIONARY!M1998","v":"Carp"},{"$f":"DICTIONARY!O1998","v":"कतला"},"कतला",{"$f":"DICTIONARY!P1998","v":"REPTILES AND FISHES ( सरीसर्प और मछली )"},"कतला","कतला"]
[null,null,null,null,null,null,null,null,null,{"$f":"IF(K1975=\" \",\" \",ROWS($K$5:K1975))","v":1971},{"$f":"DICTIONARY!M1999","v":"Whale"},{"$f":"DICTIONARY!O1999","v":"बड़ी' मछली"},"बड़ी' मछली",{"$f":"DICTIONARY!P1999","v":"REPTILES AND FISHES ( सरीसर्प और मछली )"},"बड़ी' मछली","बड़ी' मछली"]
[null,null,null,null,null,null,null,null,null,{"$f":"IF(K1976=\" \",\" \",ROWS($K$5:K1976))","v":1972},{"$f":"DICTIONARY!M2000","v":"Cod"},{"$f":"DICTIONARY!O2000","v":"कोड मछली"},"कोड मछली",{"$f":"DICTIONARY!P2000","v":"REPTILES AND FISHES ( सरीसर्प और मछली )"},"कोड मछली","कोड मछली"]
[null,null,null,null,null,null,null,null,null,{"$f":"IF(K1977=\" \",\" \",ROWS($K$5:K1977))","v":1973},{"$f":"DICTIONARY!M2001","v":"Salmon"},{"$f":"DICTIONARY!O2001","v":"रोहू"},"रोहू",{"$f":"DICTIONARY!P2001","v":"REPTILES AND FISHES ( सरीसर्प और मछली )"},"रोहू","रोहू"]
[null,null,null,null,null,null,null,null,null,{"$f":"IF(K1978=\" \",\" \",ROWS($K$5:K1978))","v":1974},{"$f":"DICTIONARY!M2002","v":"Crocodile"},{"$f":"DICTIONARY!O2002","v":"मगरमच्छ"},"मगरमच्छ",{"$f":"DICTIONARY!P2002","v":"REPTILES AND FISHES ( सरीसर्प और मछली )"},"मगरमच्छ","मगरमच्छ"]
[null,null,null,null,null,null,null,null,null,{"$f":"IF(K1979=\" \",\" \",ROWS($K$5:K1979))","v":1975},{"$f":"DICTIONARY!M2003","v":"Tortoise"},{"$f":"DICTIONARY!O2003","v":"कछुआ"},"कछुआ",{"$f":"DICTIONARY!P2003","v":"REPTILES AND FISHES ( सरीसर्प और मछली )"},"कछुआ","कछुआ"]
[null,null,null,null,null,null,null,null,null,{"$f":"IF(K1980=\" \",\" \",ROWS($K$5:K1980))","v":1976},{"$f":"DICTIONARY!M2004","v":"Hilsa Fish"},{"$f":"DICTIONARY!O2004","v":"हिलसा फिश"},"हिलसा फिश",{"$f":"DICTIONARY!P2004","v":"REPTILES AND FISHES ( सरीसर्प और मछली )"},"हिलसा फिश","हिलसा फिश"]
[null,null,null,null,null,null,null,null,null,{"$f":"IF(K1981=\" \",\" \",ROWS($K$5:K1981))","v":1977},{"$f":"DICTIONARY!M2005","v":"Climbing Fish"},{"$f":"DICTIONARY!O2005","v":"कोई मछली"},"कोई मछली",{"$f":"DICTIONARY!P2005","v":"REPTILES AND FISHES ( सरीसर्प और मछली )"},"कोई मछली","कोई मछली"]
[null,null,null,null,null,null,null,null,null,{"$f":"IF(K1982=\" \",\" \",ROWS($K$5:K1982))","v":1978},{"$f":"DICTIONARY!M2006","v":"Mango Fish"},{"$f":"DICTIONARY!O2006","v":"तपसे मछली"},"तपसे मछली",{"$f":"DICTIONARY!P2006","v":"REPTILES AND FISHES ( सरीसर्प और मछली )"},"तपसे मछली","तपसे मछली"]
[null,null,null,null,null,null,null,null,null,{"$f":"IF(K1983=\" \",\" \",ROWS($K$5:K1983))","v":1979},{"$f":"DICTIONARY!M2007","v":"Cobra"},{"$f":"DICTIONARY!O2007","v":"काला नाग"},"काला नाग",{"$f":"DICTIONARY!P2007","v":"REPTILES AND FISHES ( सरीसर्प और मछली )"},"काला नाग","काला नाग"]
[null,null,null,null,null,null,null,null,null,{"$f":"IF(K1984=\" \",\" \",ROWS($K$5:K1984))","v":1980},{"$f":"DICTIONARY!M2008","v":"Crab"},{"$f":"DICTIONARY!O2008","v":"केकड़ा"},"केकड़ा",{"$f":"DICTIONARY!P2008","v":"REPTILES AND FISHES ( सरीसर्प और मछली )"},"केकड़ा","केकड़ा"]
[null,null,null,null,null,null,null,null,null,{"$f":"IF(K1985=\" \",\" \",ROWS($K$5:K1985))","v":1981},{"$f":"DICTIONARY!M2009","v":"Reptile"},{"$f":"DICTIONARY!O2009","v":"सरीसर्प"},"सरीसर्प",{"$f":"DICTIONARY!P2009","v":"REPTILES AND FISHES ( सरीसर्प और मछली )"},"सरीसर्प","सरीसर्प"]
[null,null,null,null,null,null,null,null,null,{"$f":"IF(K1986=\" \",\" \",ROWS($K$5:K1986))","v":1982},{"$f":"DICTIONARY!M2010","v":"Snake"},{"$f":"DICTIONARY!O2010","v":"सांप"},"सांप",{"$f":"DICTIONARY!P2010","v":"REPTILES AND FISHES ( सरीसर्प और मछली )"},"सांप","सांप"]
[null,null,null,null,null,null,null,null,null,{"$f":"IF(K1987=\" \",\" \",ROWS($K$5:K1987))","v":1983},{"$f":"DICTIONARY!M2011","v":"Pupil"},{"$f":"DICTIONARY!O2011","v":"पुतली"},"पुतली",{"$f":"DICTIONARY!P2011","v":"PARTS OF BODY ( शरीर के अंग )"},"पुतली","पुतली"]
[null,null,null,null,null,null,null,null,null,{"$f":"IF(K1988=\" \",\" \",ROWS($K$5:K1988))","v":1984},{"$f":"DICTIONARY!M2012","v":"Eye-Lash"},{"$f":"DICTIONARY!O2012","v":"आंख के बाल"},"आंख के बाल",{"$f":"DICTIONARY!P2012","v":"PARTS OF BODY ( शरीर के अंग )"},"आंख के बाल","आंख के बाल"]
[null,null,null,null,null,null,null,null,null,{"$f":"IF(K1989=\" \",\" \",ROWS($K$5:K1989))","v":1985},{"$f":"DICTIONARY!M2013","v":"Moustache"},{"$f":"DICTIONARY!O2013","v":"मूंछ"},"मूंछ",{"$f":"DICTIONARY!P2013","v":"PARTS OF BODY ( शरीर के अंग )"},{"$f":"M1989","v":"मूंछ"},{"$f":"L1989","v":"मूंछ"}]
[null,null,null,null,null,null,null,null,null,{"$f":"IF(K1990=\" \",\" \",ROWS($K$5:K1990))","v":1986},{"$f":"DICTIONARY!M2014","v":"Tear"},{"$f":"DICTIONARY!O2014","v":"आंसू"},{"$f":"L1990","v":"आंसू"},{"$f":"DICTIONARY!P2014","v":"PARTS OF BODY ( शरीर के अंग )"},"आंसू","आंसू"]
[null,null,null,null,null,null,null,null,null,{"$f":"IF(K1991=\" \",\" \",ROWS($K$5:K1991))","v":1987},{"$f":"DICTIONARY!M2015","v":"Eye-Ball"},{"$f":"DICTIONARY!O2015","v":"नेत्र-गोलक"},"नेत्र-गोलक",{"$f":"DICTIONARY!P2015","v":"PARTS OF BODY ( शरीर के अंग )"},"नेत्र-गोलक","नेत्र-गोलक"]
[null,null,null,null,null,null,null,null,null,{"$f":"IF(K1992=\" \",\" \",ROWS($K$5:K1992))","v":1988},{"$f":"DICTIONARY!M2016","v":"Fore-Finger"},{"$f":"DICTIONARY!O2016","v":"तर्ज़नी"},"तर्ज़नी",{"$f":"DICTIONARY!P2016","v":"PARTS OF BODY ( शरीर के अंग )"},"तर्ज़नी","तर्ज़नी"]
[null,null,null,null,null,null,null,null,null,{"$f":"IF(K1993=\" \",\" \",ROWS($K$5:K1993))","v":1989},{"$f":"DICTIONARY!M2017","v":"Palm"},{"$f":"DICTIONARY!O2017","v":"पंजा"},"पंजा",{"$f":"DICTIONARY!P2017","v":"PARTS OF BODY ( शरीर के अंग )"},"पंजा","पंजा"]
[null,null,null,null,null,null,null,null,null,{"$f":"IF(K1994=\" \",\" \",ROWS($K$5:K1994))","v":1990},{"$f":"DICTIONARY!M2018","v":"Middle-Finger"},{"$f":"DICTIONARY!O2018","v":"बीच की अंगुली (मध्यमा)"},"बीच की अंगुली (मध्यमा)",{"$f":"DICTIONARY!P2018","v":"PARTS OF BODY ( शरीर के अंग )"},"बीच की अंगुली (मध्यमा)","बीच की अंगुली (मध्यमा)"]
[null,null,null,null,null,null,null,null,null,{"$f":"IF(K1995=\" \",\" \",ROWS($K$5:K1995))","v":1991},{"$f":"DICTIONARY!M2019","v":"Ring-Finger"},{"$f":"DICTIONARY!O2019","v":"अनामिका"},"अनामिका",{"$f":"DICTIONARY!P2019","v":"PARTS OF BODY ( शरीर के अंग )"},"अनामिका","अनामिका"]
[null,null,null,null,null,null,null,null,null,{"$f":"IF(K1996=\" \",\" \",ROWS($K$5:K1996))","v":1992},{"$f":"DICTIONARY!M2020","v":"Little-Finger"},{"$f":"DICTIONARY!O2020","v":"छोटी अंगुली(कनिष्ठा)"},"छोटी अंगुली(कनिष्ठा)",{"$f":"DICTIONARY!P2020","v":"PARTS OF BODY ( शरीर के अंग )"},"छोटी अंगुली(कनिष्ठा)","छोटी अंगुली(कनिष्ठा)"]
[null,null,null,null,null,null,null,null,null,{"$f":"IF(K1997=\" \",\" \",ROWS($K$5:K1997))","v":1993},{"$f":"DICTIONARY!M2021","v":"Palate"},{"$f":"DICTIONARY!O2021","v":"तालू"},"तालू",{"$f":"DICTIONARY!P2021","v":"PARTS OF BODY ( शरीर के अंग )"},"तालू","तालू"]
[null,null,null,null,null,null,null,null,null,{"$f":"IF(K1998=\" \",\" \",ROWS($K$5:K1998))","v":1994},{"$f":"DICTIONARY!M2022","v":"Nostril"},{"$f":"DICTIONARY!O2022","v":"नासारंध्र"},"नासारंध्र",{"$f":"DICTIONARY!P2022","v":"PARTS OF BODY ( शरीर के अंग )"},"नासारंध्र","नासारंध्र"]
[null,null,null,null,null,null,null,null,null,{"$f":"IF(K1999=\" \",\" \",ROWS($K$5:K1999))","v":1995},{"$f":"DICTIONARY!M2023","v":"Jaw"},{"$f":"DICTIONARY!O2023","v":"जबड़ा"},"जबड़ा",{"$f":"DICTIONARY!P2023","v":"PARTS OF BODY ( शरीर के अंग )"},"जबड़ा","जबड़ा"]
[null,null,null,null,null,null,null,null,null,{"$f":"IF(K2000=\" \",\" \",ROWS($K$5:K2000))","v":1996},{"$f":"DICTIONARY!M2024","v":"Spine"},{"$f":"DICTIONARY!O2024","v":"रीढ़"},"रीढ़",{"$f":"DICTIONARY!P2024","v":"PARTS OF BODY ( शरीर के अंग )"},"रीढ़","रीढ़"]
[null,null,null,null,null,null,null,null,null,{"$f":"IF(K2001=\" \",\" \",ROWS($K$5:K2001))","v":1997},{"$f":"DICTIONARY!M2025","v":"Back"},{"$f":"DICTIONARY!O2025","v":"पीठ"},"पीठ",{"$f":"DICTIONARY!P2025","v":"PARTS OF BODY ( शरीर के अंग )"},"पीठ","पीठ"]
[null,null,null,null,null,null,null,null,null,{"$f":"IF(K2002=\" \",\" \",ROWS($K$5:K2002))","v":1998},{"$f":"DICTIONARY!M2026","v":"Bowel"},{"$f":"DICTIONARY!O2026","v":"पेट"},"पेट",{"$f":"DICTIONARY!P2026","v":"PARTS OF BODY ( शरीर के अंग )"},"पेट","पेट"]
[null,null,null,null,null,null,null,null,null,{"$f":"IF(K2003=\" \",\" \",ROWS($K$5:K2003))","v":1999},{"$f":"DICTIONARY!M2027","v":"Belly"},{"$f":"DICTIONARY!O2027","v":"पेट"},"पेट",{"$f":"DICTIONARY!P2027","v":"PARTS OF BODY ( शरीर के अंग )"},"पेट","पेट"]
[null,null,null,null,null,null,null,null,null,{"$f":"IF(K2004=\" \",\" \",ROWS($K$5:K2004))","v":2000},{"$f":"DICTIONARY!M2028","v":"Abdomen"},{"$f":"DICTIONARY!O2028","v":"उदर"},"उदर",{"$f":"DICTIONARY!P2028","v":"PARTS OF BODY ( शरीर के अंग )"},"उदर","उदर"]
[null,null,null,null,null,null,null,null,null,{"$f":"IF(K2005=\" \",\" \",ROWS($K$5:K2005))","v":2001},{"$f":"DICTIONARY!M2029","v":"Navel"},{"$f":"DICTIONARY!O2029","v":"नाभि"},"नाभि",{"$f":"DICTIONARY!P2029","v":"PARTS OF BODY ( शरीर के अंग )"},"नाभि","नाभि"]
[null,null,null,null,null,null,null,null,null,{"$f":"IF(K2006=\" \",\" \",ROWS($K$5:K2006))","v":2002},{"$f":"DICTIONARY!M2030","v":" Sole"},{"$f":"DICTIONARY!O2030","v":"तलवा"},"तलवा",{"$f":"DICTIONARY!P2030","v":"PARTS OF BODY ( शरीर के अंग )"},"तलवा","तलवा"]
[null,null,null,null,null,null,null,null,null,{"$f":"IF(K2007=\" \",\" \",ROWS($K$5:K2007))","v":2003},{"$f":"DICTIONARY!M2031","v":"Flesh"},{"$f":"DICTIONARY!O2031","v":"मांस"},"मांस",{"$f":"DICTIONARY!P2031","v":"PARTS OF BODY ( शरीर के अंग )"},"मांस","मांस"]
[null,null,null,null,null,null,null,null,null,{"$f":"IF(K2008=\" \",\" \",ROWS($K$5:K2008))","v":2004},{"$f":"DICTIONARY!M2032","v":"Bone"},{"$f":"DICTIONARY!O2032","v":"हड्डी"},"हड्डी",{"$f":"DICTIONARY!P2032","v":"PARTS OF BODY ( शरीर के अंग )"},"हड्डी","हड्डी"]
[null,null,null,null,null,null,null,null,null,{"$f":"IF(K2009=\" \",\" \",ROWS($K$5:K2009))","v":2005},{"$f":"DICTIONARY!M2033","v":"Stool"},{"$f":"DICTIONARY!O2033","v":"मल"},"मल",{"$f":"DICTIONARY!P2033","v":"PARTS OF BODY ( शरीर के अंग )"},"मल","मल"]
[null,null,null,null,null,null,null,null,null,{"$f":"IF(K2010=\" \",\" \",ROWS($K$5:K2010))","v":2006},{"$f":"DICTIONARY!M2034","v":"Urine"},{"$f":"DICTIONARY!O2034","v":"मूत्र"},"मूत्र",{"$f":"DICTIONARY!P2034","v":"PARTS OF BODY ( शरीर के अंग )"},"मूत्र","मूत्र"]
[null,null,null,null,null,null,null,null,null,{"$f":"IF(K2011=\" \",\" \",ROWS($K$5:K2011))","v":2007},{"$f":"DICTIONARY!M2035","v":"Saliva"},{"$f":"DICTIONARY!O2035","v":"लार"},"लार",{"$f":"DICTIONARY!P2035","v":"PARTS OF BODY ( शरीर के अंग )"},"लार","लार"]
[null,null,null,null,null,null,null,null,null,{"$f":"IF(K2012=\" \",\" \",ROWS($K$5:K2012))","v":2008},{"$f":"DICTIONARY!M2036","v":"Marrow"},{"$f":"DICTIONARY!O2036","v":"मज्जा"},"मज्जा",{"$f":"DICTIONARY!P2036","v":"PARTS OF BODY ( शरीर के अंग )"},"मज्जा","मज्जा"]
[null,null,null,null,null,null,null,null,null,{"$f":"IF(K2013=\" \",\" \",ROWS($K$5:K2013))","v":2009},{"$f":"DICTIONARY!M2037","v":"Skull"},{"$f":"DICTIONARY!O2037","v":"खोपड़ी"},"खोपड़ी",{"$f":"DICTIONARY!P2037","v":"PARTS OF BODY ( शरीर के अंग )"},"खोपड़ी","खोपड़ी"]
[null,null,null,null,null,null,null,null,null,{"$f":"IF(K2014=\" \",\" \",ROWS($K$5:K2014))","v":2010},{"$f":"DICTIONARY!M2038","v":"Skeleton"},{"$f":"DICTIONARY!O2038","v":"कंकाल"},"कंकाल",{"$f":"DICTIONARY!P2038","v":"PARTS OF BODY ( शरीर के अंग )"},"कंकाल","कंकाल"]
[null,null,null,null,null,null,null,null,null,{"$f":"IF(K2015=\" \",\" \",ROWS($K$5:K2015))","v":2011},{"$f":"DICTIONARY!M2039","v":"Lungs"},{"$f":"DICTIONARY!O2039","v":"फेफड़े"},"फेफड़े",{"$f":"DICTIONARY!P2039","v":"PARTS OF BODY ( शरीर के अंग )"},"फेफड़े","फेफड़े"]
[null,null,null,null,null,null,null,null,null,{"$f":"IF(K2016=\" \",\" \",ROWS($K$5:K2016))","v":2012},{"$f":"DICTIONARY!M2040","v":"Limbs"},{"$f":"DICTIONARY!O2040","v":"अंग-प्रत्यंग"},"अंग-प्रत्यंग",{"$f":"DICTIONARY!P2040","v":"PARTS OF BODY ( शरीर के अंग )"},"अंग-प्रत्यंग","अंग-प्रत्यंग"]
[null,null,null,null,null,null,null,null,null,{"$f":"IF(K2017=\" \",\" \",ROWS($K$5:K2017))","v":2013},{"$f":"DICTIONARY!M2041","v":"Liver"},{"$f":"DICTIONARY!O2041","v":"यकृत,जिगर"},"यकृत,जिगर",{"$f":"DICTIONARY!P2041","v":"PARTS OF BODY ( शरीर के अंग )"},"यकृत,जिगर","यकृत,जिगर"]
[null,null,null,null,null,null,null,null,null,{"$f":"IF(K2018=\" \",\" \",ROWS($K$5:K2018))","v":2014},{"$f":"DICTIONARY!M2042","v":"Spleen"},{"$f":"DICTIONARY!O2042","v":"प्लीहा"},"प्लीहा",{"$f":"DICTIONARY!P2042","v":"PARTS OF BODY ( शरीर के अंग )"},"प्लीहा","प्लीहा"]
[null,null,null,null,null,null,null,null,null,{"$f":"IF(K2019=\" \",\" \",ROWS($K$5:K2019))","v":2015},{"$f":"DICTIONARY!M2043","v":" Vein"},{"$f":"DICTIONARY!O2043","v":"शिरा"},"शिरा",{"$f":"DICTIONARY!P2043","v":"PARTS OF BODY ( शरीर के अंग )"},"शिरा","शिरा"]
[null,null,null,null,null,null,null,null,null,{"$f":"IF(K2020=\" \",\" \",ROWS($K$5:K2020))","v":2016},{"$f":"DICTIONARY!M2044","v":"Role"},{"$f":"DICTIONARY!O2044","v":"मछली का अंडा"},"मछली का अंडा",{"$f":"DICTIONARY!P2044","v":"LIMBS OF ANIMAL ( जीव जंतुओं के अंग प्रत्यंग )"},"मछली का अंडा","मछली का अंडा"]
[null,null,null,null,null,null,null,null,null,{"$f":"IF(K2021=\" \",\" \",ROWS($K$5:K2021))","v":2017},{"$f":"DICTIONARY!M2045","v":"Fin"},{"$f":"DICTIONARY!O2045","v":"मछली के पंख"},"मछली के पंख",{"$f":"DICTIONARY!P2045","v":"LIMBS OF ANIMAL ( जीव जंतुओं के अंग प्रत्यंग )"},"मछली के पंख","मछली के पंख"]
[null,null,null,null,null,null,null,null,null,{"$f":"IF(K2022=\" \",\" \",ROWS($K$5:K2022))","v":2018},{"$f":"DICTIONARY!M2046","v":"Scale"},{"$f":"DICTIONARY!O2046","v":"मछली का छिलका"},"मछली का छिलका",{"$f":"DICTIONARY!P2046","v":"LIMBS OF ANIMAL ( जीव जंतुओं के अंग प्रत्यंग )"},"मछली का छिलका","मछली का छिलका"]
[null,null,null,null,null,null,null,null,null,{"$f":"IF(K2023=\" \",\" \",ROWS($K$5:K2023))","v":2019},{"$f":"DICTIONARY!M2047","v":"Feather"},{"$f":"DICTIONARY!O2047","v":"पंख"},"पंख",{"$f":"DICTIONARY!P2047","v":"LIMBS OF ANIMAL ( जीव जंतुओं के अंग प्रत्यंग )"},"पंख","पंख"]
[null,null,null,null,null,null,null,null,null,{"$f":"IF(K2024=\" \",\" \",ROWS($K$5:K2024))","v":2020},{"$f":"DICTIONARY!M2048","v":"Slough"},{"$f":"DICTIONARY!O2048","v":"खोल"},"खोल",{"$f":"DICTIONARY!P2048","v":"LIMBS OF ANIMAL ( जीव जंतुओं के अंग प्रत्यंग )"},"खोल","खोल"]
[null,null,null,null,null,null,null,null,null,{"$f":"IF(K2025=\" \",\" \",ROWS($K$5:K2025))","v":2021},{"$f":"DICTIONARY!M2049","v":"Udder"},{"$f":"DICTIONARY!O2049","v":"थन"},"थन",{"$f":"DICTIONARY!P2049","v":"LIMBS OF ANIMAL ( जीव जंतुओं के अंग प्रत्यंग )"},"थन","थन"]
[null,null,null,null,null,null,null,null,null,{"$f":"IF(K2026=\" \",\" \",ROWS($K$5:K2026))","v":2022},{"$f":"DICTIONARY!M2050","v":"Wing"},{"$f":"DICTIONARY!O2050","v":"डैना"},"डैना",{"$f":"DICTIONARY!P2050","v":"LIMBS OF ANIMAL ( जीव जंतुओं के अंग प्रत्यंग )"},"डैना","डैना"]
[null,null,null,null,null,null,null,null,null,{"$f":"IF(K2027=\" \",\" \",ROWS($K$5:K2027))","v":2023},{"$f":"DICTIONARY!M2051","v":"Bill"},{"$f":"DICTIONARY!O2051","v":"चोंच"},"चोंच",{"$f":"DICTIONARY!P2051","v":"LIMBS OF ANIMAL ( जीव जंतुओं के अंग प्रत्यंग )"},"चोंच","चोंच"]
[null,null,null,null,null,null,null,null,null,{"$f":"IF(K2028=\" \",\" \",ROWS($K$5:K2028))","v":2024},{"$f":"DICTIONARY!M2052","v":"Talon"},{"$f":"DICTIONARY!O2052","v":"शिकारी पक्षी का नाखुन ,पंजा"},"शिकारी पक्षी का नाखुन ,पंजा",{"$f":"DICTIONARY!P2052","v":"LIMBS OF ANIMAL ( जीव जंतुओं के अंग प्रत्यंग )"},"शिकारी पक्षी का नाखुन ,पंजा","शिकारी पक्षी का नाखुन ,पंजा"]
[null,null,null,null,null,null,null,null,null,{"$f":"IF(K2029=\" \",\" \",ROWS($K$5:K2029))","v":2025},{"$f":"DICTIONARY!M2053","v":"Paw"},{"$f":"DICTIONARY!O2053","v":"पंजा"},"पंजा",{"$f":"DICTIONARY!P2053","v":"LIMBS OF ANIMAL ( जीव जंतुओं के अंग प्रत्यंग )"},"पंजा","पंजा"]
[null,null,null,null,null,null,null,null,null,{"$f":"IF(K2030=\" \",\" \",ROWS($K$5:K2030))","v":2026},{"$f":"DICTIONARY!M2054","v":" Tail"},{"$f":"DICTIONARY!O2054","v":"पूंछ,दुम"},"पूंछ,दुम",{"$f":"DICTIONARY!P2054","v":"LIMBS OF ANIMAL ( जीव जंतुओं के अंग प्रत्यंग )"},"पूंछ,दुम","पूंछ,दुम"]
[null,null,null,null,null,null,null,null,null,{"$f":"IF(K2031=\" \",\" \",ROWS($K$5:K2031))","v":2027},{"$f":"DICTIONARY!M2055","v":"Claw"},{"$f":"DICTIONARY!O2055","v":"पशु का नाखुन"},"पशु का नाखुन",{"$f":"DICTIONARY!P2055","v":"LIMBS OF ANIMAL ( जीव जंतुओं के अंग प्रत्यंग )"},"पशु का नाखुन","पशु का नाखुन"]
[null,null,null,null,null,null,null,null,null,{"$f":"IF(K2032=\" \",\" \",ROWS($K$5:K2032))","v":2028},{"$f":"DICTIONARY!M2056","v":" Mane"},{"$f":"DICTIONARY!O2056","v":"सिंह-केशर"},"सिंह-केशर",{"$f":"DICTIONARY!P2056","v":"LIMBS OF ANIMAL ( जीव जंतुओं के अंग प्रत्यंग )"},"सिंह-केशर","सिंह-केशर"]
[null,null,null,null,null,null,null,null,null,{"$f":"IF(K2033=\" \",\" \",ROWS($K$5:K2033))","v":2029},{"$f":"DICTIONARY!M2057","v":" Hide"},{"$f":"DICTIONARY!O2057","v":"चमडा"},"चमडा",{"$f":"DICTIONARY!P2057","v":"LIMBS OF ANIMAL ( जीव जंतुओं के अंग प्रत्यंग )"},"चमडा","चमडा"]
[null,null,null,null,null,null,null,null,null,{"$f":"IF(K2034=\" \",\" \",ROWS($K$5:K2034))","v":2030},{"$f":"DICTIONARY!M2058","v":"String"},{"$f":"DICTIONARY!O2058","v":"डंक"},"डंक",{"$f":"DICTIONARY!P2058","v":"LIMBS OF ANIMAL ( जीव जंतुओं के अंग प्रत्यंग )"},"डंक","डंक"]
[null,null,null,null,null,null,null,null,null,{"$f":"IF(K2035=\" \",\" \",ROWS($K$5:K2035))","v":2031},{"$f":"DICTIONARY!M2059","v":"Fur"},{"$f":"DICTIONARY!O2059","v":"कोमल रोम"},"कोमल रोम",{"$f":"DICTIONARY!P2059","v":"LIMBS OF ANIMAL ( जीव जंतुओं के अंग प्रत्यंग )"},"कोमल रोम","कोमल रोम"]
[null,null,null,null,null,null,null,null,null,{"$f":"IF(K2036=\" \",\" \",ROWS($K$5:K2036))","v":2032},{"$f":"DICTIONARY!M2060","v":"Tusk"},{"$f":"DICTIONARY!O2060","v":"हाथी दन्त"},"हाथी दन्त",{"$f":"DICTIONARY!P2060","v":"LIMBS OF ANIMAL ( जीव जंतुओं के अंग प्रत्यंग )"},"हाथी दन्त","हाथी दन्त"]
[null,null,null,null,null,null,null,null,null,{"$f":"IF(K2037=\" \",\" \",ROWS($K$5:K2037))","v":2033},{"$f":"DICTIONARY!M2061","v":" Trunk"},{"$f":"DICTIONARY!O2061","v":"हाथी की सूंड"},"हाथी की सूंड",{"$f":"DICTIONARY!P2061","v":"LIMBS OF ANIMAL ( जीव जंतुओं के अंग प्रत्यंग )"},"हाथी की सूंड","हाथी की सूंड"]
[null,null,null,null,null,null,null,null,null,{"$f":"IF(K2038=\" \",\" \",ROWS($K$5:K2038))","v":2034},{"$f":"DICTIONARY!M2062","v":"Hoof"},{"$f":"DICTIONARY!O2062","v":"खुर"},"खुर",{"$f":"DICTIONARY!P2062","v":"LIMBS OF ANIMAL ( जीव जंतुओं के अंग प्रत्यंग )"},"खुर","खुर"]
[null,null,null,null,null,null,null,null,null,{"$f":"IF(K2039=\" \",\" \",ROWS($K$5:K2039))","v":2035},{"$f":"DICTIONARY!M2063","v":" Horn"},{"$f":"DICTIONARY!O2063","v":"सींग"},"सींग",{"$f":"DICTIONARY!P2063","v":"LIMBS OF ANIMAL ( जीव जंतुओं के अंग प्रत्यंग )"},"सींग","सींग"]
[null,null,null,null,null,null,null,null,null,{"$f":"IF(K2040=\" \",\" \",ROWS($K$5:K2040))","v":2036},{"$f":"DICTIONARY!M2064","v":"Uncle"},{"$f":"DICTIONARY!O2064","v":"ताऊ,काका,मामा,फूफा,मौसा"},"ताऊ,काका,मामा,फूफा,मौसा",{"$f":"DICTIONARY!P2064","v":"RELATIONS AND RELATIVES ( सम्बन्ध और सम्बन्धी )"},"ताऊ,काका,मामा,फूफा,मौसा","ताऊ,काका,मामा,फूफा,मौसा"]
[null,null,null,null,null,null,null,null,null,{"$f":"IF(K2041=\" \",\" \",ROWS($K$5:K2041))","v":2037},{"$f":"DICTIONARY!M2065","v":"Aunt"},{"$f":"DICTIONARY!O2065","v":"ताई,काकी,मामी,मौसी,बुआ"},"ताई,काकी,मामी,मौसी,बुआ",{"$f":"DICTIONARY!P2065","v":"RELATIONS AND RELATIVES ( सम्बन्ध और सम्बन्धी )"},"ताई,काकी,मामी,मौसी,बुआ","ताई,काकी,मामी,मौसी,बुआ"]
[null,null,null,null,null,null,null,null,null,{"$f":"IF(K2042=\" \",\" \",ROWS($K$5:K2042))","v":2038},{"$f":"DICTIONARY!M2066","v":"Brother-In Law"},{"$f":"DICTIONARY!O2066","v":"साला,बहनोई,साढू-भाई,जेठ,देवर"},"साला,बहनोई,साढू-भाई,जेठ,देवर",{"$f":"DICTIONARY!P2066","v":"RELATIONS AND RELATIVES ( सम्बन्ध और सम्बन्धी )"},"साला,बहनोई,साढू-भाई,जेठ,देवर","साला,बहनोई,साढू-भाई,जेठ,देवर"]
[null,null,null,null,null,null,null,null,null,{"$f":"IF(K2043=\" \",\" \",ROWS($K$5:K2043))","v":2039},{"$f":"DICTIONARY!M2067","v":"Sister-In Law"},{"$f":"DICTIONARY!O2067","v":"साली,भाभी,ननद,जेठानी,देवरानी"},"साली,भाभी,ननद,जेठानी,देवरानी",{"$f":"DICTIONARY!P2067","v":"RELATIONS AND RELATIVES ( सम्बन्ध और सम्बन्धी )"},"साली,भाभी,ननद,जेठानी,देवरानी","साली,भाभी,ननद,जेठानी,देवरानी"]
[null,null,null,null,null,null,null,null,null,{"$f":"IF(K2044=\" \",\" \",ROWS($K$5:K2044))","v":2040},{"$f":"DICTIONARY!M2068","v":"Nephew"},{"$f":"DICTIONARY!O2068","v":"भांजा,भतीजा"},"भांजा,भतीजा",{"$f":"DICTIONARY!P2068","v":"RELATIONS AND RELATIVES ( सम्बन्ध और सम्बन्धी )"},"भांजा,भतीजा","भांजा,भतीजा"]
[null,null,null,null,null,null,null,null,null,{"$f":"IF(K2045=\" \",\" \",ROWS($K$5:K2045))","v":2041},{"$f":"DICTIONARY!M2069","v":"Niece"},{"$f":"DICTIONARY!O2069","v":"भांजी,भतीजी"},"भांजी,भतीजी",{"$f":"DICTIONARY!P2069","v":"RELATIONS AND RELATIVES ( सम्बन्ध और सम्बन्धी )"},"भांजी,भतीजी","भांजी,भतीजी"]
[null,null,null,null,null,null,null,null,null,{"$f":"IF(K2046=\" \",\" \",ROWS($K$5:K2046))","v":2042},{"$f":"DICTIONARY!M2070","v":"Cousin"},{"$f":"DICTIONARY!O2070","v":"चचेरा,ममेरा,फुफेरा,मौसेरा,भाई-बहन"},"चचेरा,ममेरा,फुफेरा,मौसेरा,भाई-बहन",{"$f":"DICTIONARY!P2070","v":"RELATIONS AND RELATIVES ( सम्बन्ध और सम्बन्धी )"},"चचेरा,ममेरा,फुफेरा,मौसेरा,भाई-बहन","चचेरा,ममेरा,फुफेरा,मौसेरा,भाई-बहन"]
[null,null,null,null,null,null,null,null,null,{"$f":"IF(K2047=\" \",\" \",ROWS($K$5:K2047))","v":2043},{"$f":"DICTIONARY!M2071","v":"Bridegroom"},{"$f":"DICTIONARY!O2071","v":"वार,दूल्हा"},"वार,दूल्हा",{"$f":"DICTIONARY!P2071","v":"RELATIONS AND RELATIVES ( सम्बन्ध और सम्बन्धी )"},"वार,दूल्हा","वार,दूल्हा"]
[null,null,null,null,null,null,null,null,null,{"$f":"IF(K2048=\" \",\" \",ROWS($K$5:K2048))","v":2044},{"$f":"DICTIONARY!M2072","v":"Bride"},{"$f":"DICTIONARY!O2072","v":"दुल्हन"},"दुल्हन",{"$f":"DICTIONARY!P2072","v":"RELATIONS AND RELATIVES ( सम्बन्ध और सम्बन्धी )"},"दुल्हन","दुल्हन"]
[null,null,null,null,null,null,null,null,null,{"$f":"IF(K2049=\" \",\" \",ROWS($K$5:K2049))","v":2045},{"$f":"DICTIONARY!M2073","v":"Daughter-In-Law"},{"$f":"DICTIONARY!O2073","v":"पुत्रवधू"},"पुत्रवधू",{"$f":"DICTIONARY!P2073","v":"RELATIONS AND RELATIVES ( सम्बन्ध और सम्बन्धी )"},"पुत्रवधू","पुत्रवधू"]
[null,null,null,null,null,null,null,null,null,{"$f":"IF(K2050=\" \",\" \",ROWS($K$5:K2050))","v":2046},{"$f":"DICTIONARY!M2074","v":"Couple"},{"$f":"DICTIONARY!O2074","v":"दम्पति,जोड़ा"},"दम्पति,जोड़ा",{"$f":"DICTIONARY!P2074","v":"RELATIONS AND RELATIVES ( सम्बन्ध और सम्बन्धी )"},"दम्पति,जोड़ा","दम्पति,जोड़ा"]
[null,null,null,null,null,null,null,null,null,{"$f":"IF(K2051=\" \",\" \",ROWS($K$5:K2051))","v":2047},{"$f":"DICTIONARY!M2075","v":"Adopted Son"},{"$f":"DICTIONARY!O2075","v":"पालित पुत्र"},"पालित पुत्र",{"$f":"DICTIONARY!P2075","v":"RELATIONS AND RELATIVES ( सम्बन्ध और सम्बन्धी )"},"पालित पुत्र","पालित पुत्र"]
[null,null,null,null,null,null,null,null,null,{"$f":"IF(K2052=\" \",\" \",ROWS($K$5:K2052))","v":2048},{"$f":"DICTIONARY!M2076","v":"Infant"},{"$f":"DICTIONARY!O2076","v":"छोटा शिशु"},"छोटा शिशु",{"$f":"DICTIONARY!P2076","v":"RELATIONS AND RELATIVES ( सम्बन्ध और सम्बन्धी )"},"छोटा शिशु","छोटा शिशु"]
[null,null,null,null,null,null,null,null,null,{"$f":"IF(K2053=\" \",\" \",ROWS($K$5:K2053))","v":2049},{"$f":"DICTIONARY!M2077","v":"Baby"},{"$f":"DICTIONARY!O2077","v":"शिशु"},"शिशु",{"$f":"DICTIONARY!P2077","v":"RELATIONS AND RELATIVES ( सम्बन्ध और सम्बन्धी )"},{"$f":"M2053","v":"शिशु"},{"$f":"L2053","v":"शिशु"}]
[null,null,null,null,null,null,null,null,null,{"$f":"IF(K2054=\" \",\" \",ROWS($K$5:K2054))","v":2050},{"$f":"DICTIONARY!M2078","v":"Fore-Fathers"},{"$f":"DICTIONARY!O2078","v":"पूर्वज"},{"$f":"L2054","v":"पूर्वज"},{"$f":"DICTIONARY!P2078","v":"RELATIONS AND RELATIVES ( सम्बन्ध और सम्बन्धी )"},"पूर्वज","पूर्वज"]
[null,null,null,null,null,null,null,null,null,{"$f":"IF(K2055=\" \",\" \",ROWS($K$5:K2055))","v":2051},{"$f":"DICTIONARY!M2079","v":"Kinsman"},{"$f":"DICTIONARY!O2079","v":"रक्त-सम्बन्धी"},"रक्त-सम्बन्धी",{"$f":"DICTIONARY!P2079","v":"RELATIONS AND RELATIVES ( सम्बन्ध और सम्बन्धी )"},"रक्त-सम्बन्धी","रक्त-सम्बन्धी"]
[null,null,null,null,null,null,null,null,null,{"$f":"IF(K2056=\" \",\" \",ROWS($K$5:K2056))","v":2052},{"$f":"DICTIONARY!M2080","v":"Grand-Son"},{"$f":"DICTIONARY!O2080","v":"नाती,पौत्र(पोता)"},"नाती,पौत्र(पोता)",{"$f":"DICTIONARY!P2080","v":"RELATIONS AND RELATIVES ( सम्बन्ध और सम्बन्धी )"},"नाती,पौत्र(पोता)","नाती,पौत्र(पोता)"]
[null,null,null,null,null,null,null,null,null,{"$f":"IF(K2057=\" \",\" \",ROWS($K$5:K2057))","v":2053},{"$f":"DICTIONARY!M2081","v":"Grand-Daughter"},{"$f":"DICTIONARY!O2081","v":"धेवती,पौत्री(पोती)"},"धेवती,पौत्री(पोती)",{"$f":"DICTIONARY!P2081","v":"RELATIONS AND RELATIVES ( सम्बन्ध और सम्बन्धी )"},"धेवती,पौत्री(पोती)","धेवती,पौत्री(पोती)"]
[null,null,null,null,null,null,null,null,null,{"$f":"IF(K2058=\" \",\" \",ROWS($K$5:K2058))","v":2054},{"$f":"DICTIONARY!M2082","v":"Child"},{"$f":"DICTIONARY!O2082","v":"बच्चा"},"बच्चा",{"$f":"DICTIONARY!P2082","v":"RELATIONS AND RELATIVES ( सम्बन्ध और सम्बन्धी )"},"बच्चा","बच्चा"]
[null,null,null,null,null,null,null,null,null,{"$f":"IF(K2059=\" \",\" \",ROWS($K$5:K2059))","v":2055},{"$f":"DICTIONARY!M2083","v":"Sir"},{"$f":"DICTIONARY!O2083","v":"महाशय,श्रीमान"},"महाशय,श्रीमान",{"$f":"DICTIONARY!P2083","v":"RELATIONS AND RELATIVES ( सम्बन्ध और सम्बन्धी )"},"महाशय,श्रीमान","महाशय,श्रीमान"]
[null,null,null,null,null,null,null,null,null,{"$f":"IF(K2060=\" \",\" \",ROWS($K$5:K2060))","v":2056},{"$f":"DICTIONARY!M2084","v":"Madam"},{"$f":"DICTIONARY!O2084","v":"महाशया,मैडम"},"महाशया,मैडम",{"$f":"DICTIONARY!P2084","v":"RELATIONS AND RELATIVES ( सम्बन्ध और सम्बन्धी )"},"महाशया,मैडम","महाशया,मैडम"]
[null,null,null,null,null,null,null,null,null,{"$f":"IF(K2061=\" \",\" \",ROWS($K$5:K2061))","v":2057},{"$f":"DICTIONARY!M2085","v":"Female"},{"$f":"DICTIONARY!O2085","v":"महिला"},"महिला",{"$f":"DICTIONARY!P2085","v":"RELATIONS AND RELATIVES ( सम्बन्ध और सम्बन्धी )"},"महिला","महिला"]
[null,null,null,null,null,null,null,null,null,{"$f":"IF(K2062=\" \",\" \",ROWS($K$5:K2062))","v":2058},{"$f":"DICTIONARY!M2086","v":"Male"},{"$f":"DICTIONARY!O2086","v":"पुरुष"},"पुरुष",{"$f":"DICTIONARY!P2086","v":"RELATIONS AND RELATIVES ( सम्बन्ध और सम्बन्धी )"},"पुरुष","पुरुष"]
[null,null,null,null,null,null,null,null,null,{"$f":"IF(K2063=\" \",\" \",ROWS($K$5:K2063))","v":2059},{"$f":"DICTIONARY!M2087","v":"Master"},{"$f":"DICTIONARY!O2087","v":"मालिक,कुंवारा"},"मालिक,कुंवारा",{"$f":"DICTIONARY!P2087","v":"RELATIONS AND RELATIVES ( सम्बन्ध और सम्बन्धी )"},"मालिक,कुंवारा","मालिक,कुंवारा"]
[null,null,null,null,null,null,null,null,null,{"$f":"IF(K2064=\" \",\" \",ROWS($K$5:K2064))","v":2060},{"$f":"DICTIONARY!M2088","v":"Servent"},{"$f":"DICTIONARY!O2088","v":"नौकर"},"नौकर",{"$f":"DICTIONARY!P2088","v":"RELATIONS AND RELATIVES ( सम्बन्ध और सम्बन्धी )"},"नौकर","नौकर"]
[null,null,null,null,null,null,null,null,null,{"$f":"IF(K2065=\" \",\" \",ROWS($K$5:K2065))","v":2061},{"$f":"DICTIONARY!M2089","v":"Gentleman"},{"$f":"DICTIONARY!O2089","v":"सज्जन व्यक्ति"},"सज्जन व्यक्ति",{"$f":"DICTIONARY!P2089","v":"RELATIONS AND RELATIVES ( सम्बन्ध और सम्बन्धी )"},"सज्जन व्यक्ति","सज्जन व्यक्ति"]
[null,null,null,null,null,null,null,null,null,{"$f":"IF(K2066=\" \",\" \",ROWS($K$5:K2066))","v":2062},{"$f":"DICTIONARY!M2090","v":"Lady"},{"$f":"DICTIONARY!O2090","v":"महिला"},"महिला",{"$f":"DICTIONARY!P2090","v":"RELATIONS AND RELATIVES ( सम्बन्ध और सम्बन्धी )"},"महिला","महिला"]
[null,null,null,null,null,null,null,null,null,{"$f":"IF(K2067=\" \",\" \",ROWS($K$5:K2067))","v":2063},{"$f":"DICTIONARY!M2091","v":"Admission"},{"$f":"DICTIONARY!O2091","v":"प्रवेश"},"प्रवेश",{"$f":"DICTIONARY!P2091","v":"SCHOOL RELATIVE  ( विद्यालय सम्बन्धी  )"},"प्रवेश","प्रवेश"]
[null,null,null,null,null,null,null,null,null,{"$f":"IF(K2068=\" \",\" \",ROWS($K$5:K2068))","v":2064},{"$f":"DICTIONARY!M2092","v":"Class"},{"$f":"DICTIONARY!O2092","v":"कक्षा,श्रेणी"},"कक्षा,श्रेणी",{"$f":"DICTIONARY!P2092","v":"SCHOOL RELATIVE  ( विद्यालय सम्बन्धी  )"},"कक्षा,श्रेणी","कक्षा,श्रेणी"]
[null,null,null,null,null,null,null,null,null,{"$f":"IF(K2069=\" \",\" \",ROWS($K$5:K2069))","v":2065},{"$f":"DICTIONARY!M2093","v":" School"},{"$f":"DICTIONARY!O2093","v":"विद्यालय"},"विद्यालय",{"$f":"DICTIONARY!P2093","v":"SCHOOL RELATIVE  ( विद्यालय सम्बन्धी  )"},"विद्यालय","विद्यालय"]
[null,null,null,null,null,null,null,null,null,{"$f":"IF(K2070=\" \",\" \",ROWS($K$5:K2070))","v":2066},{"$f":"DICTIONARY!M2094","v":"Teacher"},{"$f":"DICTIONARY!O2094","v":"शिक्षक"},"शिक्षक",{"$f":"DICTIONARY!P2094","v":"SCHOOL RELATIVE  ( विद्यालय सम्बन्धी  )"},"शिक्षक","शिक्षक"]
[null,null,null,null,null,null,null,null,null,{"$f":"IF(K2071=\" \",\" \",ROWS($K$5:K2071))","v":2067},{"$f":"DICTIONARY!M2095","v":"Eraser"},{"$f":"DICTIONARY!O2095","v":"रबर"},"रबर",{"$f":"DICTIONARY!P2095","v":"SCHOOL RELATIVE  ( विद्यालय सम्बन्धी  )"},"रबर","रबर"]
[null,null,null,null,null,null,null,null,null,{"$f":"IF(K2072=\" \",\" \",ROWS($K$5:K2072))","v":2068},{"$f":"DICTIONARY!M2096","v":"Table"},{"$f":"DICTIONARY!O2096","v":"मेज"},"मेज",{"$f":"DICTIONARY!P2096","v":"SCHOOL RELATIVE  ( विद्यालय सम्बन्धी  )"},"मेज","मेज"]
[null,null,null,null,null,null,null,null,null,{"$f":"IF(K2073=\" \",\" \",ROWS($K$5:K2073))","v":2069},{"$f":"DICTIONARY!M2097","v":"Pen"},{"$f":"DICTIONARY!O2097","v":"कलम"},"कलम",{"$f":"DICTIONARY!P2097","v":"SCHOOL RELATIVE  ( विद्यालय सम्बन्धी  )"},"कलम","कलम"]
[null,null,null,null,null,null,null,null,null,{"$f":"IF(K2074=\" \",\" \",ROWS($K$5:K2074))","v":2070},{"$f":"DICTIONARY!M2098","v":"Desk"},{"$f":"DICTIONARY!O2098","v":"डेस्क"},"डेस्क",{"$f":"DICTIONARY!P2098","v":"SCHOOL RELATIVE  ( विद्यालय सम्बन्धी  )"},"डेस्क","डेस्क"]
[null,null,null,null,null,null,null,null,null,{"$f":"IF(K2075=\" \",\" \",ROWS($K$5:K2075))","v":2071},{"$f":"DICTIONARY!M2099","v":"Pencil"},{"$f":"DICTIONARY!O2099","v":"पेंसिल"},"पेंसिल",{"$f":"DICTIONARY!P2099","v":"SCHOOL RELATIVE  ( विद्यालय सम्बन्धी  )"},"पेंसिल","पेंसिल"]
[null,null,null,null,null,null,null,null,null,{"$f":"IF(K2076=\" \",\" \",ROWS($K$5:K2076))","v":2072},{"$f":"DICTIONARY!M2100","v":"Chair"},{"$f":"DICTIONARY!O2100","v":"कुर्सी"},"कुर्सी",{"$f":"DICTIONARY!P2100","v":"SCHOOL RELATIVE  ( विद्यालय सम्बन्धी  )"},"कुर्सी","कुर्सी"]
[null,null,null,null,null,null,null,null,null,{"$f":"IF(K2077=\" \",\" \",ROWS($K$5:K2077))","v":2073},{"$f":"DICTIONARY!M2101","v":"Clock"},{"$f":"DICTIONARY!O2101","v":"घड़ी"},"घड़ी",{"$f":"DICTIONARY!P2101","v":"SCHOOL RELATIVE  ( विद्यालय सम्बन्धी  )"},"घड़ी","घड़ी"]
[null,null,null,null,null,null,null,null,null,{"$f":"IF(K2078=\" \",\" \",ROWS($K$5:K2078))","v":2074},{"$f":"DICTIONARY!M2102","v":"Slate"},{"$f":"DICTIONARY!O2102","v":"पट्टिका,स्लेट"},"पट्टिका,स्लेट",{"$f":"DICTIONARY!P2102","v":"SCHOOL RELATIVE  ( विद्यालय सम्बन्धी  )"},"पट्टिका,स्लेट","पट्टिका,स्लेट"]
[null,null,null,null,null,null,null,null,null,{"$f":"IF(K2079=\" \",\" \",ROWS($K$5:K2079))","v":2075},{"$f":"DICTIONARY!M2103","v":"Bell"},{"$f":"DICTIONARY!O2103","v":"घंटी"},"घंटी",{"$f":"DICTIONARY!P2103","v":"SCHOOL RELATIVE  ( विद्यालय सम्बन्धी  )"},"घंटी","घंटी"]
[null,null,null,null,null,null,null,null,null,{"$f":"IF(K2080=\" \",\" \",ROWS($K$5:K2080))","v":2076},{"$f":"DICTIONARY!M2104","v":"Black-Board"},{"$f":"DICTIONARY!O2104","v":"श्याम-पट्ट"},"श्याम-पट्ट",{"$f":"DICTIONARY!P2104","v":"SCHOOL RELATIVE  ( विद्यालय सम्बन्धी  )"},"श्याम-पट्ट","श्याम-पट्ट"]
[null,null,null,null,null,null,null,null,null,{"$f":"IF(K2081=\" \",\" \",ROWS($K$5:K2081))","v":2077},{"$f":"DICTIONARY!M2105","v":"Copy-Book"},{"$f":"DICTIONARY!O2105","v":"खाता"},"खाता",{"$f":"DICTIONARY!P2105","v":"SCHOOL RELATIVE  ( विद्यालय सम्बन्धी  )"},"खाता","खाता"]
[null,null,null,null,null,null,null,null,null,{"$f":"IF(K2082=\" \",\" \",ROWS($K$5:K2082))","v":2078},{"$f":"DICTIONARY!M2106","v":" Paper"},{"$f":"DICTIONARY!O2106","v":"कागज"},"कागज",{"$f":"DICTIONARY!P2106","v":"SCHOOL RELATIVE  ( विद्यालय सम्बन्धी  )"},"कागज","कागज"]
[null,null,null,null,null,null,null,null,null,{"$f":"IF(K2083=\" \",\" \",ROWS($K$5:K2083))","v":2079},{"$f":"DICTIONARY!M2107","v":" Chalk"},{"$f":"DICTIONARY!O2107","v":"खल्ली"},"खल्ली",{"$f":"DICTIONARY!P2107","v":"SCHOOL RELATIVE  ( विद्यालय सम्बन्धी  )"},"खल्ली","खल्ली"]
[null,null,null,null,null,null,null,null,null,{"$f":"IF(K2084=\" \",\" \",ROWS($K$5:K2084))","v":2080},{"$f":"DICTIONARY!M2108","v":"Ink"},{"$f":"DICTIONARY!O2108","v":"स्याही"},"स्याही",{"$f":"DICTIONARY!P2108","v":"SCHOOL RELATIVE  ( विद्यालय सम्बन्धी  )"},"स्याही","स्याही"]
[null,null,null,null,null,null,null,null,null,{"$f":"IF(K2085=\" \",\" \",ROWS($K$5:K2085))","v":2081},{"$f":"DICTIONARY!M2109","v":"Inkpot"},{"$f":"DICTIONARY!O2109","v":"दवात"},"दवात",{"$f":"DICTIONARY!P2109","v":"SCHOOL RELATIVE  ( विद्यालय सम्बन्धी  )"},"दवात","दवात"]
[null,null,null,null,null,null,null,null,null,{"$f":"IF(K2086=\" \",\" \",ROWS($K$5:K2086))","v":2082},{"$f":"DICTIONARY!M2110","v":"Page"},{"$f":"DICTIONARY!O2110","v":"प्रष्ट"},"प्रष्ट",{"$f":"DICTIONARY!P2110","v":"SCHOOL RELATIVE  ( विद्यालय सम्बन्धी  )"},"प्रष्ट","प्रष्ट"]
[null,null,null,null,null,null,null,null,null,{"$f":"IF(K2087=\" \",\" \",ROWS($K$5:K2087))","v":2083},{"$f":"DICTIONARY!M2111","v":"Duster"},{"$f":"DICTIONARY!O2111","v":"झाडन"},"झाडन",{"$f":"DICTIONARY!P2111","v":"SCHOOL RELATIVE  ( विद्यालय सम्बन्धी  )"},"झाडन","झाडन"]
[null,null,null,null,null,null,null,null,null,{"$f":"IF(K2088=\" \",\" \",ROWS($K$5:K2088))","v":2084},{"$f":"DICTIONARY!M2112","v":" Map"},{"$f":"DICTIONARY!O2112","v":"मानचित्र"},"मानचित्र",{"$f":"DICTIONARY!P2112","v":"SCHOOL RELATIVE  ( विद्यालय सम्बन्धी  )"},"मानचित्र","मानचित्र"]
[null,null,null,null,null,null,null,null,null,{"$f":"IF(K2089=\" \",\" \",ROWS($K$5:K2089))","v":2085},{"$f":"DICTIONARY!M2113","v":"Cover"},{"$f":"DICTIONARY!O2113","v":"आवरण"},"आवरण",{"$f":"DICTIONARY!P2113","v":"SCHOOL RELATIVE  ( विद्यालय सम्बन्धी  )"},"आवरण","आवरण"]
[null,null,null,null,null,null,null,null,null,{"$f":"IF(K2090=\" \",\" \",ROWS($K$5:K2090))","v":2086},{"$f":"DICTIONARY!M2114","v":" Globe"},{"$f":"DICTIONARY!O2114","v":"ग्लोब"},"ग्लोब",{"$f":"DICTIONARY!P2114","v":"SCHOOL RELATIVE  ( विद्यालय सम्बन्धी  )"},"ग्लोब","ग्लोब"]
[null,null,null,null,null,null,null,null,null,{"$f":"IF(K2091=\" \",\" \",ROWS($K$5:K2091))","v":2087},{"$f":"DICTIONARY!M2115","v":"Answer"},{"$f":"DICTIONARY!O2115","v":"उत्तर"},"उत्तर",{"$f":"DICTIONARY!P2115","v":"SCHOOL RELATIVE  ( विद्यालय सम्बन्धी  )"},"उत्तर","उत्तर"]
[null,null,null,null,null,null,null,null,null,{"$f":"IF(K2092=\" \",\" \",ROWS($K$5:K2092))","v":2088},{"$f":"DICTIONARY!M2116","v":"Answer-Paper"},{"$f":"DICTIONARY!O2116","v":"उत्तर-पत्रक"},"उत्तर-पत्रक",{"$f":"DICTIONARY!P2116","v":"SCHOOL RELATIVE  ( विद्यालय सम्बन्धी  )"},"उत्तर-पत्रक","उत्तर-पत्रक"]
[null,null,null,null,null,null,null,null,null,{"$f":"IF(K2093=\" \",\" \",ROWS($K$5:K2093))","v":2089},{"$f":"DICTIONARY!M2117","v":"Principal"},{"$f":"DICTIONARY!O2117","v":"प्राधानाचार्य"},"प्राधानाचार्य",{"$f":"DICTIONARY!P2117","v":"SCHOOL RELATIVE  ( विद्यालय सम्बन्धी  )"},"प्राधानाचार्य","प्राधानाचार्य"]
[null,null,null,null,null,null,null,null,null,{"$f":"IF(K2094=\" \",\" \",ROWS($K$5:K2094))","v":2090},{"$f":"DICTIONARY!M2118","v":"Headmaster"},{"$f":"DICTIONARY!O2118","v":"प्रधानाध्यापक"},"प्रधानाध्यापक",{"$f":"DICTIONARY!P2118","v":"SCHOOL RELATIVE  ( विद्यालय सम्बन्धी  )"},"प्रधानाध्यापक","प्रधानाध्यापक"]
[null,null,null,null,null,null,null,null,null,{"$f":"IF(K2095=\" \",\" \",ROWS($K$5:K2095))","v":2091},{"$f":"DICTIONARY!M2119","v":" Lesson"},{"$f":"DICTIONARY!O2119","v":"पाठ"},"पाठ",{"$f":"DICTIONARY!P2119","v":"SCHOOL RELATIVE  ( विद्यालय सम्बन्धी  )"},"पाठ","पाठ"]
[null,null,null,null,null,null,null,null,null,{"$f":"IF(K2096=\" \",\" \",ROWS($K$5:K2096))","v":2092},{"$f":"DICTIONARY!M2120","v":"Prose"},{"$f":"DICTIONARY!O2120","v":"गद्य"},"गद्य",{"$f":"DICTIONARY!P2120","v":"SCHOOL RELATIVE  ( विद्यालय सम्बन्धी  )"},"गद्य","गद्य"]
[null,null,null,null,null,null,null,null,null,{"$f":"IF(K2097=\" \",\" \",ROWS($K$5:K2097))","v":2093},{"$f":"DICTIONARY!M2121","v":"Poetry"},{"$f":"DICTIONARY!O2121","v":"पद्य,कविता"},"पद्य,कविता",{"$f":"DICTIONARY!P2121","v":"SCHOOL RELATIVE  ( विद्यालय सम्बन्धी  )"},"पद्य,कविता","पद्य,कविता"]
[null,null,null,null,null,null,null,null,null,{"$f":"IF(K2098=\" \",\" \",ROWS($K$5:K2098))","v":2094},{"$f":"DICTIONARY!M2122","v":"Professor"},{"$f":"DICTIONARY!O2122","v":"प्राध्यापक"},"प्राध्यापक",{"$f":"DICTIONARY!P2122","v":"SCHOOL RELATIVE  ( विद्यालय सम्बन्धी  )"},"प्राध्यापक","प्राध्यापक"]
[null,null,null,null,null,null,null,null,null,{"$f":"IF(K2099=\" \",\" \",ROWS($K$5:K2099))","v":2095},{"$f":"DICTIONARY!M2123","v":"Fee"},{"$f":"DICTIONARY!O2123","v":"शुल्क"},"शुल्क",{"$f":"DICTIONARY!P2123","v":"SCHOOL RELATIVE  ( विद्यालय सम्बन्धी  )"},"शुल्क","शुल्क"]
[null,null,null,null,null,null,null,null,null,{"$f":"IF(K2100=\" \",\" \",ROWS($K$5:K2100))","v":2096},{"$f":"DICTIONARY!M2124","v":"Private Tutor"},{"$f":"DICTIONARY!O2124","v":"ग्रह-शिक्षक"},"ग्रह-शिक्षक",{"$f":"DICTIONARY!P2124","v":"SCHOOL RELATIVE  ( विद्यालय सम्बन्धी  )"},"ग्रह-शिक्षक","ग्रह-शिक्षक"]
[null,null,null,null,null,null,null,null,null,{"$f":"IF(K2101=\" \",\" \",ROWS($K$5:K2101))","v":2097},{"$f":"DICTIONARY!M2125","v":"Fine"},{"$f":"DICTIONARY!O2125","v":"जुर्माना"},"जुर्माना",{"$f":"DICTIONARY!P2125","v":"SCHOOL RELATIVE  ( विद्यालय सम्बन्धी  )"},"जुर्माना","जुर्माना"]
[null,null,null,null,null,null,null,null,null,{"$f":"IF(K2102=\" \",\" \",ROWS($K$5:K2102))","v":2098},{"$f":"DICTIONARY!M2126","v":"Examination"},{"$f":"DICTIONARY!O2126","v":"परीक्षा"},"परीक्षा",{"$f":"DICTIONARY!P2126","v":"SCHOOL RELATIVE  ( विद्यालय सम्बन्धी  )"},"परीक्षा","परीक्षा"]
[null,null,null,null,null,null,null,null,null,{"$f":"IF(K2103=\" \",\" \",ROWS($K$5:K2103))","v":2099},{"$f":"DICTIONARY!M2127","v":"Prize"},{"$f":"DICTIONARY!O2127","v":"पुरष्कार"},"पुरष्कार",{"$f":"DICTIONARY!P2127","v":"SCHOOL RELATIVE  ( विद्यालय सम्बन्धी  )"},"पुरष्कार","पुरष्कार"]
[null,null,null,null,null,null,null,null,null,{"$f":"IF(K2104=\" \",\" \",ROWS($K$5:K2104))","v":2100},{"$f":"DICTIONARY!M2128","v":" Medal"},{"$f":"DICTIONARY!O2128","v":"पदक"},"पदक",{"$f":"DICTIONARY!P2128","v":"SCHOOL RELATIVE  ( विद्यालय सम्बन्धी  )"},"पदक","पदक"]
[null,null,null,null,null,null,null,null,null,{"$f":"IF(K2105=\" \",\" \",ROWS($K$5:K2105))","v":2101},{"$f":"DICTIONARY!M2129","v":"Examiner"},{"$f":"DICTIONARY!O2129","v":"परीक्षक"},"परीक्षक",{"$f":"DICTIONARY!P2129","v":"SCHOOL RELATIVE  ( विद्यालय सम्बन्धी  )"},"परीक्षक","परीक्षक"]
[null,null,null,null,null,null,null,null,null,{"$f":"IF(K2106=\" \",\" \",ROWS($K$5:K2106))","v":2102},{"$f":"DICTIONARY!M2130","v":"Examinee"},{"$f":"DICTIONARY!O2130","v":"परीक्षार्थी"},"परीक्षार्थी",{"$f":"DICTIONARY!P2130","v":"SCHOOL RELATIVE  ( विद्यालय सम्बन्धी  )"},"परीक्षार्थी","परीक्षार्थी"]
[null,null,null,null,null,null,null,null,null,{"$f":"IF(K2107=\" \",\" \",ROWS($K$5:K2107))","v":2103},{"$f":"DICTIONARY!M2131","v":"Scholarship"},{"$f":"DICTIONARY!O2131","v":"छात्रावृति"},"छात्रावृति",{"$f":"DICTIONARY!P2131","v":"SCHOOL RELATIVE  ( विद्यालय सम्बन्धी  )"},"छात्रावृति","छात्रावृति"]
[null,null,null,null,null,null,null,null,null,{"$f":"IF(K2108=\" \",\" \",ROWS($K$5:K2108))","v":2104},{"$f":"DICTIONARY!M2132","v":"Absent"},{"$f":"DICTIONARY!O2132","v":"अनुपस्थित"},"अनुपस्थित",{"$f":"DICTIONARY!P2132","v":"SCHOOL RELATIVE  ( विद्यालय सम्बन्धी  )"},"अनुपस्थित","अनुपस्थित"]
[null,null,null,null,null,null,null,null,null,{"$f":"IF(K2109=\" \",\" \",ROWS($K$5:K2109))","v":2105},{"$f":"DICTIONARY!M2133","v":"Present"},{"$f":"DICTIONARY!O2133","v":"उपस्थित"},"उपस्थित",{"$f":"DICTIONARY!P2133","v":"SCHOOL RELATIVE  ( विद्यालय सम्बन्धी  )"},"उपस्थित","उपस्थित"]
[null,null,null,null,null,null,null,null,null,{"$f":"IF(K2110=\" \",\" \",ROWS($K$5:K2110))","v":2106},{"$f":"DICTIONARY!M2134","v":"Question"},{"$f":"DICTIONARY!O2134","v":"प्रश्न"},"प्रश्न",{"$f":"DICTIONARY!P2134","v":"SCHOOL RELATIVE  ( विद्यालय सम्बन्धी  )"},"प्रश्न","प्रश्न"]
[null,null,null,null,null,null,null,null,null,{"$f":"IF(K2111=\" \",\" \",ROWS($K$5:K2111))","v":2107},{"$f":"DICTIONARY!M2135","v":"Attendance"},{"$f":"DICTIONARY!O2135","v":"उपस्थिति"},"उपस्थिति",{"$f":"DICTIONARY!P2135","v":"SCHOOL RELATIVE  ( विद्यालय सम्बन्धी  )"},"उपस्थिति","उपस्थिति"]
[null,null,null,null,null,null,null,null,null,{"$f":"IF(K2112=\" \",\" \",ROWS($K$5:K2112))","v":2108},{"$f":"DICTIONARY!M2136","v":"School Magazine"},{"$f":"DICTIONARY!O2136","v":"विद्यालय पत्रिका"},"विद्यालय पत्रिका",{"$f":"DICTIONARY!P2136","v":"SCHOOL RELATIVE  ( विद्यालय सम्बन्धी  )"},"विद्यालय पत्रिका","विद्यालय पत्रिका"]
[null,null,null,null,null,null,null,null,null,{"$f":"IF(K2113=\" \",\" \",ROWS($K$5:K2113))","v":2109},{"$f":"DICTIONARY!M2137","v":"Question-Paper"},{"$f":"DICTIONARY!O2137","v":"प्रश्न-पत्र"},"प्रश्न-पत्र",{"$f":"DICTIONARY!P2137","v":"SCHOOL RELATIVE  ( विद्यालय सम्बन्धी  )"},"प्रश्न-पत्र","प्रश्न-पत्र"]
[null,null,null,null,null,null,null,null,null,{"$f":"IF(K2114=\" \",\" \",ROWS($K$5:K2114))","v":2110},{"$f":"DICTIONARY!M2138","v":"Derawing Book"},{"$f":"DICTIONARY!O2138","v":"चित्रांकन-पुस्तिका"},"चित्रांकन-पुस्तिका",{"$f":"DICTIONARY!P2138","v":"SCHOOL RELATIVE  ( विद्यालय सम्बन्धी  )"},"चित्रांकन-पुस्तिका","चित्रांकन-पुस्तिका"]
[null,null,null,null,null,null,null,null,null,{"$f":"IF(K2115=\" \",\" \",ROWS($K$5:K2115))","v":2111},{"$f":"DICTIONARY!M2139","v":"Grammar"},{"$f":"DICTIONARY!O2139","v":"व्याकरण"},"व्याकरण",{"$f":"DICTIONARY!P2139","v":"SCHOOL RELATIVE  ( विद्यालय सम्बन्धी  )"},"व्याकरण","व्याकरण"]
[null,null,null,null,null,null,null,null,null,{"$f":"IF(K2116=\" \",\" \",ROWS($K$5:K2116))","v":2112},{"$f":"DICTIONARY!M2140","v":"Playground"},{"$f":"DICTIONARY!O2140","v":"खेल का मैदान"},"खेल का मैदान",{"$f":"DICTIONARY!P2140","v":"SCHOOL RELATIVE  ( विद्यालय सम्बन्धी  )"},"खेल का मैदान","खेल का मैदान"]
[null,null,null,null,null,null,null,null,null,{"$f":"IF(K2117=\" \",\" \",ROWS($K$5:K2117))","v":2113},{"$f":"DICTIONARY!M2141","v":"Handwriting"},{"$f":"DICTIONARY!O2141","v":"हस्तलिपि"},"हस्तलिपि",{"$f":"DICTIONARY!P2141","v":"SCHOOL RELATIVE  ( विद्यालय सम्बन्धी  )"},{"$f":"M2117","v":"हस्तलिपि"},{"$f":"L2117","v":"हस्तलिपि"}]
[null,null,null,null,null,null,null,null,null,{"$f":"IF(K2118=\" \",\" \",ROWS($K$5:K2118))","v":2114},{"$f":"DICTIONARY!M2142","v":"Sum"},{"$f":"DICTIONARY!O2142","v":"अंक,गणित,सवाल"},{"$f":"L2118","v":"अंक,गणित,सवाल"},{"$f":"DICTIONARY!P2142","v":"SCHOOL RELATIVE  ( विद्यालय सम्बन्धी  )"},"अंक,गणित,सवाल","अंक,गणित,सवाल"]
[null,null,null,null,null,null,null,null,null,{"$f":"IF(K2119=\" \",\" \",ROWS($K$5:K2119))","v":2115},{"$f":"DICTIONARY!M2143","v":"Mole"},{"$f":"DICTIONARY!O2143","v":"छछूंदर"},"छछूंदर",{"$f":"DICTIONARY!P2143","v":"ANIMALS ( पशु )"},"छछूंदर","छछूंदर"]
[null,null,null,null,null,null,null,null,null,{"$f":"IF(K2120=\" \",\" \",ROWS($K$5:K2120))","v":2116},{"$f":"DICTIONARY!M2144","v":"Pony"},{"$f":"DICTIONARY!O2144","v":"टट्टू,छोटा घोडा"},"टट्टू,छोटा घोडा",{"$f":"DICTIONARY!P2144","v":"ANIMALS ( पशु )"},"टट्टू,छोटा घोडा","टट्टू,छोटा घोडा"]
[null,null,null,null,null,null,null,null,null,{"$f":"IF(K2121=\" \",\" \",ROWS($K$5:K2121))","v":2117},{"$f":"DICTIONARY!M2145","v":"Cattle"},{"$f":"DICTIONARY!O2145","v":"गाय,भेंश,बिल्ली आदि"},"गाय,भेंश,बिल्ली आदि",{"$f":"DICTIONARY!P2145","v":"ANIMALS ( पशु )"},"गाय,भेंश,बिल्ली आदि","गाय,भेंश,बिल्ली आदि"]
[null,null,null,null,null,null,null,null,null,{"$f":"IF(K2122=\" \",\" \",ROWS($K$5:K2122))","v":2118},{"$f":"DICTIONARY!M2146","v":"Porcupine"},{"$f":"DICTIONARY!O2146","v":"साहिल"},"साहिल",{"$f":"DICTIONARY!P2146","v":"ANIMALS ( पशु )"},"साहिल","साहिल"]
[null,null,null,null,null,null,null,null,null,{"$f":"IF(K2123=\" \",\" \",ROWS($K$5:K2123))","v":2119},{"$f":"DICTIONARY!M2147","v":"Beast"},{"$f":"DICTIONARY!O2147","v":"बनैला पशु"},"बनैला पशु",{"$f":"DICTIONARY!P2147","v":"ANIMALS ( पशु )"},"बनैला पशु","बनैला पशु"]
[null,null,null,null,null,null,null,null,null,{"$f":"IF(K2124=\" \",\" \",ROWS($K$5:K2124))","v":2120},{"$f":"DICTIONARY!M2148","v":"Orangeoutang"},{"$f":"DICTIONARY!O2148","v":"वनमानुष"},"वनमानुष",{"$f":"DICTIONARY!P2148","v":"ANIMALS ( पशु )"},"वनमानुष","वनमानुष"]
[null,null,null,null,null,null,null,null,null,{"$f":"IF(K2125=\" \",\" \",ROWS($K$5:K2125))","v":2121},{"$f":"DICTIONARY!M2149","v":"Langur"},{"$f":"DICTIONARY!O2149","v":"लंगूर"},"लंगूर",{"$f":"DICTIONARY!P2149","v":"ANIMALS ( पशु )"},"लंगूर","लंगूर"]
[null,null,null,null,null,null,null,null,null,{"$f":"IF(K2126=\" \",\" \",ROWS($K$5:K2126))","v":2122},{"$f":"DICTIONARY!M2150","v":"Guerilla"},{"$f":"DICTIONARY!O2150","v":"गोरिला"},"गोरिला",{"$f":"DICTIONARY!P2150","v":"ANIMALS ( पशु )"},"गोरिला","गोरिला"]
[null,null,null,null,null,null,null,null,null,{"$f":"IF(K2127=\" \",\" \",ROWS($K$5:K2127))","v":2123},{"$f":"DICTIONARY!M2151","v":"Mule"},{"$f":"DICTIONARY!O2151","v":"खच्चर"},"खच्चर",{"$f":"DICTIONARY!P2151","v":"ANIMALS ( पशु )"},"खच्चर","खच्चर"]
[null,null,null,null,null,null,null,null,null,{"$f":"IF(K2128=\" \",\" \",ROWS($K$5:K2128))","v":2124},{"$f":"DICTIONARY!M2152","v":"Weasel"},{"$f":"DICTIONARY!O2152","v":"नेवला"},"नेवला",{"$f":"DICTIONARY!P2152","v":"ANIMALS ( पशु )"},"नेवला","नेवला"]
[null,null,null,null,null,null,null,null,null,{"$f":"IF(K2129=\" \",\" \",ROWS($K$5:K2129))","v":2125},{"$f":"DICTIONARY!M2153","v":"Otter"},{"$f":"DICTIONARY!O2153","v":"ऊदबिलाव"},"ऊदबिलाव",{"$f":"DICTIONARY!P2153","v":"ANIMALS ( पशु )"},"ऊदबिलाव","ऊदबिलाव"]
[null,null,null,null,null,null,null,null,null,{"$f":"IF(K2130=\" \",\" \",ROWS($K$5:K2130))","v":2126},{"$f":"DICTIONARY!M2154","v":"Hippopotamus"},{"$f":"DICTIONARY!O2154","v":"दरियाई घोडा"},"दरियाई घोडा",{"$f":"DICTIONARY!P2154","v":"ANIMALS ( पशु )"},"दरियाई घोडा","दरियाई घोडा"]
[null,null,null,null,null,null,null,null,null,{"$f":"IF(K2131=\" \",\" \",ROWS($K$5:K2131))","v":2127},{"$f":"DICTIONARY!M2155","v":"Sea-Horse"},{"$f":"DICTIONARY!O2155","v":"समुद्री-घोडा"},"समुद्री-घोडा",{"$f":"DICTIONARY!P2155","v":"ANIMALS ( पशु )"},"समुद्री-घोडा","समुद्री-घोडा"]
[null,null,null,null,null,null,null,null,null,{"$f":"IF(K2132=\" \",\" \",ROWS($K$5:K2132))","v":2128},{"$f":"DICTIONARY!M2156","v":"Rhinoceros"},{"$f":"DICTIONARY!O2156","v":"गैंडा"},"गैंडा",{"$f":"DICTIONARY!P2156","v":"ANIMALS ( पशु )"},"गैंडा","गैंडा"]
[null,null,null,null,null,null,null,null,null,{"$f":"IF(K2133=\" \",\" \",ROWS($K$5:K2133))","v":2129},{"$f":"DICTIONARY!M2157","v":"Boar"},{"$f":"DICTIONARY!O2157","v":"बनैला सूअर"},"बनैला सूअर",{"$f":"DICTIONARY!P2157","v":"ANIMALS ( पशु )"},"बनैला सूअर","बनैला सूअर"]
[null,null,null,null,null,null,null,null,null,{"$f":"IF(K2134=\" \",\" \",ROWS($K$5:K2134))","v":2130},{"$f":"DICTIONARY!M2158","v":"Squirrel"},{"$f":"DICTIONARY!O2158","v":"गिलहरी"},"गिलहरी",{"$f":"DICTIONARY!P2158","v":"ANIMALS ( पशु )"},"गिलहरी","गिलहरी"]
[null,null,null,null,null,null,null,null,null,{"$f":"IF(K2135=\" \",\" \",ROWS($K$5:K2135))","v":2131},{"$f":"DICTIONARY!M2159","v":"Tailor"},{"$f":"DICTIONARY!O2159","v":"दर्जी"},"दर्जी",{"$f":"DICTIONARY!P2159","v":"OCCUPATIONS AND PROFESSION (व्यवसाय और पेशा )"},"दर्जी","दर्जी"]
[null,null,null,null,null,null,null,null,null,{"$f":"IF(K2136=\" \",\" \",ROWS($K$5:K2136))","v":2132},{"$f":"DICTIONARY!M2160","v":"Sweeper"},{"$f":"DICTIONARY!O2160","v":"मेहतर"},"मेहतर",{"$f":"DICTIONARY!P2160","v":"OCCUPATIONS AND PROFESSION (व्यवसाय और पेशा )"},"मेहतर","मेहतर"]
[null,null,null,null,null,null,null,null,null,{"$f":"IF(K2137=\" \",\" \",ROWS($K$5:K2137))","v":2133},{"$f":"DICTIONARY!M2161","v":"Student"},{"$f":"DICTIONARY!O2161","v":"विद्यार्थी"},"विद्यार्थी",{"$f":"DICTIONARY!P2161","v":"OCCUPATIONS AND PROFESSION (व्यवसाय और पेशा )"},"विद्यार्थी","विद्यार्थी"]
[null,null,null,null,null,null,null,null,null,{"$f":"IF(K2138=\" \",\" \",ROWS($K$5:K2138))","v":2134},{"$f":"DICTIONARY!M2162","v":"Potter"},{"$f":"DICTIONARY!O2162","v":"कुम्हार"},"कुम्हार",{"$f":"DICTIONARY!P2162","v":"OCCUPATIONS AND PROFESSION (व्यवसाय और पेशा )"},"कुम्हार","कुम्हार"]
[null,null,null,null,null,null,null,null,null,{"$f":"IF(K2139=\" \",\" \",ROWS($K$5:K2139))","v":2135},{"$f":"DICTIONARY!M2163","v":"Poet"},{"$f":"DICTIONARY!O2163","v":"कवी"},"कवी",{"$f":"DICTIONARY!P2163","v":"OCCUPATIONS AND PROFESSION (व्यवसाय और पेशा )"},"कवी","कवी"]
[null,null,null,null,null,null,null,null,null,{"$f":"IF(K2140=\" \",\" \",ROWS($K$5:K2140))","v":2136},{"$f":"DICTIONARY!M2164","v":"Novelist"},{"$f":"DICTIONARY!O2164","v":"उपन्यासकार"},"उपन्यासकार",{"$f":"DICTIONARY!P2164","v":"OCCUPATIONS AND PROFESSION (व्यवसाय और पेशा )"},"उपन्यासकार","उपन्यासकार"]
[null,null,null,null,null,null,null,null,null,{"$f":"IF(K2141=\" \",\" \",ROWS($K$5:K2141))","v":2137},{"$f":"DICTIONARY!M2165","v":"Orater"},{"$f":"DICTIONARY!O2165","v":"वक्ता"},"वक्ता",{"$f":"DICTIONARY!P2165","v":"OCCUPATIONS AND PROFESSION (व्यवसाय और पेशा )"},"वक्ता","वक्ता"]
[null,null,null,null,null,null,null,null,null,{"$f":"IF(K2142=\" \",\" \",ROWS($K$5:K2142))","v":2138},{"$f":"DICTIONARY!M2166","v":"Grocer"},{"$f":"DICTIONARY!O2166","v":"बनिया"},"बनिया",{"$f":"DICTIONARY!P2166","v":"OCCUPATIONS AND PROFESSION (व्यवसाय और पेशा )"},"बनिया","बनिया"]
[null,null,null,null,null,null,null,null,null,{"$f":"IF(K2143=\" \",\" \",ROWS($K$5:K2143))","v":2139},{"$f":"DICTIONARY!M2167","v":"Cowherd"},{"$f":"DICTIONARY!O2167","v":"चरवाहा"},"चरवाहा",{"$f":"DICTIONARY!P2167","v":"OCCUPATIONS AND PROFESSION (व्यवसाय और पेशा )"},"चरवाहा","चरवाहा"]
[null,null,null,null,null,null,null,null,null,{"$f":"IF(K2144=\" \",\" \",ROWS($K$5:K2144))","v":2140},{"$f":"DICTIONARY!M2168","v":"Shoe-Maker"},{"$f":"DICTIONARY!O2168","v":"मोची"},"मोची",{"$f":"DICTIONARY!P2168","v":"OCCUPATIONS AND PROFESSION (व्यवसाय और पेशा )"},"मोची","मोची"]
[null,null,null,null,null,null,null,null,null,{"$f":"IF(K2145=\" \",\" \",ROWS($K$5:K2145))","v":2141},{"$f":"DICTIONARY!M2169","v":"Reader"},{"$f":"DICTIONARY!O2169","v":"पाठक"},"पाठक",{"$f":"DICTIONARY!P2169","v":"OCCUPATIONS AND PROFESSION (व्यवसाय और पेशा )"},"पाठक","पाठक"]
[null,null,null,null,null,null,null,null,null,{"$f":"IF(K2146=\" \",\" \",ROWS($K$5:K2146))","v":2142},{"$f":"DICTIONARY!M2170","v":"Author"},{"$f":"DICTIONARY!O2170","v":"ग्रंथकार"},"ग्रंथकार",{"$f":"DICTIONARY!P2170","v":"OCCUPATIONS AND PROFESSION (व्यवसाय और पेशा )"},"ग्रंथकार","ग्रंथकार"]
[null,null,null,null,null,null,null,null,null,{"$f":"IF(K2147=\" \",\" \",ROWS($K$5:K2147))","v":2143},{"$f":"DICTIONARY!M2171","v":"Priest"},{"$f":"DICTIONARY!O2171","v":"पुरोहित"},"पुरोहित",{"$f":"DICTIONARY!P2171","v":"OCCUPATIONS AND PROFESSION (व्यवसाय और पेशा )"},"पुरोहित","पुरोहित"]
[null,null,null,null,null,null,null,null,null,{"$f":"IF(K2148=\" \",\" \",ROWS($K$5:K2148))","v":2144},{"$f":"DICTIONARY!M2172","v":"Oilman"},{"$f":"DICTIONARY!O2172","v":"तेली"},"तेली",{"$f":"DICTIONARY!P2172","v":"OCCUPATIONS AND PROFESSION (व्यवसाय और पेशा )"},"तेली","तेली"]
[null,null,null,null,null,null,null,null,null,{"$f":"IF(K2149=\" \",\" \",ROWS($K$5:K2149))","v":2145},{"$f":"DICTIONARY!M2173","v":"Fisherman"},{"$f":"DICTIONARY!O2173","v":"मछुआ"},"मछुआ",{"$f":"DICTIONARY!P2173","v":"OCCUPATIONS AND PROFESSION (व्यवसाय और पेशा )"},"मछुआ","मछुआ"]
[null,null,null,null,null,null,null,null,null,{"$f":"IF(K2150=\" \",\" \",ROWS($K$5:K2150))","v":2146},{"$f":"DICTIONARY!M2174","v":"Shepherd"},{"$f":"DICTIONARY!O2174","v":"गडरिया,भेड़ चराने वाला"},"गडरिया,भेड़ चराने वाला",{"$f":"DICTIONARY!P2174","v":"OCCUPATIONS AND PROFESSION (व्यवसाय और पेशा )"},"गडरिया,भेड़ चराने वाला","गडरिया,भेड़ चराने वाला"]
[null,null,null,null,null,null,null,null,null,{"$f":"IF(K2151=\" \",\" \",ROWS($K$5:K2151))","v":2147},{"$f":"DICTIONARY!M2175","v":"Cowboy"},{"$f":"DICTIONARY!O2175","v":"चरवाहा"},"चरवाहा",{"$f":"DICTIONARY!P2175","v":"OCCUPATIONS AND PROFESSION (व्यवसाय और पेशा )"},"चरवाहा","चरवाहा"]
[null,null,null,null,null,null,null,null,null,{"$f":"IF(K2152=\" \",\" \",ROWS($K$5:K2152))","v":2148},{"$f":"DICTIONARY!M2176","v":"Butcher"},{"$f":"DICTIONARY!O2176","v":"कसाई"},"कसाई",{"$f":"DICTIONARY!P2176","v":"OCCUPATIONS AND PROFESSION (व्यवसाय और पेशा )"},"कसाई","कसाई"]
[null,null,null,null,null,null,null,null,null,{"$f":"IF(K2153=\" \",\" \",ROWS($K$5:K2153))","v":2149},{"$f":"DICTIONARY!M2177","v":"Shoe-Shine"},{"$f":"DICTIONARY!O2177","v":"जूता पोलिश करने वाला"},"जूता पोलिश करने वाला",{"$f":"DICTIONARY!P2177","v":"OCCUPATIONS AND PROFESSION (व्यवसाय और पेशा )"},"जूता पोलिश करने वाला","जूता पोलिश करने वाला"]
[null,null,null,null,null,null,null,null,null,{"$f":"IF(K2154=\" \",\" \",ROWS($K$5:K2154))","v":2150},{"$f":"DICTIONARY!M2178","v":"Coachman"},{"$f":"DICTIONARY!O2178","v":"गाड़ीवान"},"गाड़ीवान",{"$f":"DICTIONARY!P2178","v":"OCCUPATIONS AND PROFESSION (व्यवसाय और पेशा )"},"गाड़ीवान","गाड़ीवान"]
[null,null,null,null,null,null,null,null,null,{"$f":"IF(K2155=\" \",\" \",ROWS($K$5:K2155))","v":2151},{"$f":"DICTIONARY!M2179","v":"Carter"},{"$f":"DICTIONARY!O2179","v":"गाड़ीवान"},"गाड़ीवान",{"$f":"DICTIONARY!P2179","v":"OCCUPATIONS AND PROFESSION (व्यवसाय और पेशा )"},"गाड़ीवान","गाड़ीवान"]
[null,null,null,null,null,null,null,null,null,{"$f":"IF(K2156=\" \",\" \",ROWS($K$5:K2156))","v":2152},{"$f":"DICTIONARY!M2180","v":"Confectioner"},{"$f":"DICTIONARY!O2180","v":"हलवाई"},"हलवाई",{"$f":"DICTIONARY!P2180","v":"OCCUPATIONS AND PROFESSION (व्यवसाय और पेशा )"},"हलवाई","हलवाई"]
[null,null,null,null,null,null,null,null,null,{"$f":"IF(K2157=\" \",\" \",ROWS($K$5:K2157))","v":2153},{"$f":"DICTIONARY!M2181","v":"Farmer"},{"$f":"DICTIONARY!O2181","v":"किसान"},"किसान",{"$f":"DICTIONARY!P2181","v":"OCCUPATIONS AND PROFESSION (व्यवसाय और पेशा )"},"किसान","किसान"]
[null,null,null,null,null,null,null,null,null,{"$f":"IF(K2158=\" \",\" \",ROWS($K$5:K2158))","v":2154},{"$f":"DICTIONARY!M2182","v":"Book-Binder"},{"$f":"DICTIONARY!O2182","v":"दफ्तरी,जिल्साद"},"दफ्तरी,जिल्साद",{"$f":"DICTIONARY!P2182","v":"OCCUPATIONS AND PROFESSION (व्यवसाय और पेशा )"},"दफ्तरी,जिल्साद","दफ्तरी,जिल्साद"]
[null,null,null,null,null,null,null,null,null,{"$f":"IF(K2159=\" \",\" \",ROWS($K$5:K2159))","v":2155},{"$f":"DICTIONARY!M2183","v":"Thief"},{"$f":"DICTIONARY!O2183","v":"चोर"},"चोर",{"$f":"DICTIONARY!P2183","v":"OCCUPATIONS AND PROFESSION (व्यवसाय और पेशा )"},"चोर","चोर"]
[null,null,null,null,null,null,null,null,null,{"$f":"IF(K2160=\" \",\" \",ROWS($K$5:K2160))","v":2156},{"$f":"DICTIONARY!M2184","v":"Robber"},{"$f":"DICTIONARY!O2184","v":"डाकू"},"डाकू",{"$f":"DICTIONARY!P2184","v":"OCCUPATIONS AND PROFESSION (व्यवसाय और पेशा )"},"डाकू","डाकू"]
[null,null,null,null,null,null,null,null,null,{"$f":"IF(K2161=\" \",\" \",ROWS($K$5:K2161))","v":2157},{"$f":"DICTIONARY!M2185","v":"Producer"},{"$f":"DICTIONARY!O2185","v":"सूत्रधार"},"सूत्रधार",{"$f":"DICTIONARY!P2185","v":"OCCUPATIONS AND PROFESSION (व्यवसाय और पेशा )"},"सूत्रधार","सूत्रधार"]
[null,null,null,null,null,null,null,null,null,{"$f":"IF(K2162=\" \",\" \",ROWS($K$5:K2162))","v":2158},{"$f":"DICTIONARY!M2186","v":" Actor"},{"$f":"DICTIONARY!O2186","v":"अभिनेता"},"अभिनेता",{"$f":"DICTIONARY!P2186","v":"OCCUPATIONS AND PROFESSION (व्यवसाय और पेशा )"},"अभिनेता","अभिनेता"]
[null,null,null,null,null,null,null,null,null,{"$f":"IF(K2163=\" \",\" \",ROWS($K$5:K2163))","v":2159},{"$f":"DICTIONARY!M2187","v":"Gardener"},{"$f":"DICTIONARY!O2187","v":"माली"},"माली",{"$f":"DICTIONARY!P2187","v":"OCCUPATIONS AND PROFESSION (व्यवसाय और पेशा )"},"माली","माली"]
[null,null,null,null,null,null,null,null,null,{"$f":"IF(K2164=\" \",\" \",ROWS($K$5:K2164))","v":2160},{"$f":"DICTIONARY!M2188","v":"Constable"},{"$f":"DICTIONARY!O2188","v":"सिपाही,पहरेदार"},"सिपाही,पहरेदार",{"$f":"DICTIONARY!P2188","v":"OCCUPATIONS AND PROFESSION (व्यवसाय और पेशा )"},"सिपाही,पहरेदार","सिपाही,पहरेदार"]
[null,null,null,null,null,null,null,null,null,{"$f":"IF(K2165=\" \",\" \",ROWS($K$5:K2165))","v":2161},{"$f":"DICTIONARY!M2189","v":"Dancer"},{"$f":"DICTIONARY!O2189","v":"नर्तक"},"नर्तक",{"$f":"DICTIONARY!P2189","v":"OCCUPATIONS AND PROFESSION (व्यवसाय और पेशा )"},"नर्तक","नर्तक"]
[null,null,null,null,null,null,null,null,null,{"$f":"IF(K2166=\" \",\" \",ROWS($K$5:K2166))","v":2162},{"$f":"DICTIONARY!M2190","v":" Singer"},{"$f":"DICTIONARY!O2190","v":"गायक"},"गायक",{"$f":"DICTIONARY!P2190","v":"OCCUPATIONS AND PROFESSION (व्यवसाय और पेशा )"},"गायक","गायक"]
[null,null,null,null,null,null,null,null,null,{"$f":"IF(K2167=\" \",\" \",ROWS($K$5:K2167))","v":2163},{"$f":"DICTIONARY!M2191","v":"Astronomer"},{"$f":"DICTIONARY!O2191","v":"ज्योतिष-वैज्ञानिक"},"ज्योतिष-वैज्ञानिक",{"$f":"DICTIONARY!P2191","v":"OCCUPATIONS AND PROFESSION (व्यवसाय और पेशा )"},"ज्योतिष-वैज्ञानिक","ज्योतिष-वैज्ञानिक"]
[null,null,null,null,null,null,null,null,null,{"$f":"IF(K2168=\" \",\" \",ROWS($K$5:K2168))","v":2164},{"$f":"DICTIONARY!M2192","v":"Printer"},{"$f":"DICTIONARY!O2192","v":"मुद्रक"},"मुद्रक",{"$f":"DICTIONARY!P2192","v":"OCCUPATIONS AND PROFESSION (व्यवसाय और पेशा )"},"मुद्रक","मुद्रक"]
[null,null,null,null,null,null,null,null,null,{"$f":"IF(K2169=\" \",\" \",ROWS($K$5:K2169))","v":2165},{"$f":"DICTIONARY!M2193","v":"Publisher"},{"$f":"DICTIONARY!O2193","v":"पुस्तक-प्रकाशक"},"पुस्तक-प्रकाशक",{"$f":"DICTIONARY!P2193","v":"OCCUPATIONS AND PROFESSION (व्यवसाय और पेशा )"},"पुस्तक-प्रकाशक","पुस्तक-प्रकाशक"]
[null,null,null,null,null,null,null,null,null,{"$f":"IF(K2170=\" \",\" \",ROWS($K$5:K2170))","v":2166},{"$f":"DICTIONARY!M2194","v":"Fowler"},{"$f":"DICTIONARY!O2194","v":"व्याध"},"व्याध",{"$f":"DICTIONARY!P2194","v":"OCCUPATIONS AND PROFESSION (व्यवसाय और पेशा )"},"व्याध","व्याध"]
[null,null,null,null,null,null,null,null,null,{"$f":"IF(K2171=\" \",\" \",ROWS($K$5:K2171))","v":2167},{"$f":"DICTIONARY!M2195","v":"Proprietor"},{"$f":"DICTIONARY!O2195","v":"स्वत्वा-धिकारी,मालिक"},"स्वत्वा-धिकारी,मालिक",{"$f":"DICTIONARY!P2195","v":"OCCUPATIONS AND PROFESSION (व्यवसाय और पेशा )"},"स्वत्वा-धिकारी,मालिक","स्वत्वा-धिकारी,मालिक"]
[null,null,null,null,null,null,null,null,null,{"$f":"IF(K2172=\" \",\" \",ROWS($K$5:K2172))","v":2168},{"$f":"DICTIONARY!M2196","v":"Broker"},{"$f":"DICTIONARY!O2196","v":"दलाल"},"दलाल",{"$f":"DICTIONARY!P2196","v":"OCCUPATIONS AND PROFESSION (व्यवसाय और पेशा )"},"दलाल","दलाल"]
[null,null,null,null,null,null,null,null,null,{"$f":"IF(K2173=\" \",\" \",ROWS($K$5:K2173))","v":2169},{"$f":"DICTIONARY!M2197","v":"Cook"},{"$f":"DICTIONARY!O2197","v":"रसोइया,पाचक"},"रसोइया,पाचक",{"$f":"DICTIONARY!P2197","v":"OCCUPATIONS AND PROFESSION (व्यवसाय और पेशा )"},"रसोइया,पाचक","रसोइया,पाचक"]
[null,null,null,null,null,null,null,null,null,{"$f":"IF(K2174=\" \",\" \",ROWS($K$5:K2174))","v":2170},{"$f":"DICTIONARY!M2198","v":"Editer"},{"$f":"DICTIONARY!O2198","v":"सम्पादक"},"सम्पादक",{"$f":"DICTIONARY!P2198","v":"OCCUPATIONS AND PROFESSION (व्यवसाय और पेशा )"},"सम्पादक","सम्पादक"]
[null,null,null,null,null,null,null,null,null,{"$f":"IF(K2175=\" \",\" \",ROWS($K$5:K2175))","v":2171},{"$f":"DICTIONARY!M2199","v":"Porter"},{"$f":"DICTIONARY!O2199","v":"भोटिया,भारवाहक,कुली"},"भोटिया,भारवाहक,कुली",{"$f":"DICTIONARY!P2199","v":"OCCUPATIONS AND PROFESSION (व्यवसाय और पेशा )"},"भोटिया,भारवाहक,कुली","भोटिया,भारवाहक,कुली"]
[null,null,null,null,null,null,null,null,null,{"$f":"IF(K2176=\" \",\" \",ROWS($K$5:K2176))","v":2172},{"$f":"DICTIONARY!M2200","v":"Scholar"},{"$f":"DICTIONARY!O2200","v":"पंडित,विद्वान्"},"पंडित,विद्वान्",{"$f":"DICTIONARY!P2200","v":"OCCUPATIONS AND PROFESSION (व्यवसाय और पेशा )"},"पंडित,विद्वान्","पंडित,विद्वान्"]
[null,null,null,null,null,null,null,null,null,{"$f":"IF(K2177=\" \",\" \",ROWS($K$5:K2177))","v":2173},{"$f":"DICTIONARY!M2201","v":"Director"},{"$f":"DICTIONARY!O2201","v":"परिचालक,निर्देशक"},"परिचालक,निर्देशक",{"$f":"DICTIONARY!P2201","v":"OCCUPATIONS AND PROFESSION (व्यवसाय और पेशा )"},"परिचालक,निर्देशक","परिचालक,निर्देशक"]
[null,null,null,null,null,null,null,null,null,{"$f":"IF(K2178=\" \",\" \",ROWS($K$5:K2178))","v":2174},{"$f":"DICTIONARY!M2202","v":"Stationer"},{"$f":"DICTIONARY!O2202","v":"लेखन सामग्री विक्रेता"},"लेखन सामग्री विक्रेता",{"$f":"DICTIONARY!P2202","v":"OCCUPATIONS AND PROFESSION (व्यवसाय और पेशा )"},"लेखन सामग्री विक्रेता","लेखन सामग्री विक्रेता"]
[null,null,null,null,null,null,null,null,null,{"$f":"IF(K2179=\" \",\" \",ROWS($K$5:K2179))","v":2175},{"$f":"DICTIONARY!M2203","v":"Manager"},{"$f":"DICTIONARY!O2203","v":"व्यवस्थापक"},"व्यवस्थापक",{"$f":"DICTIONARY!P2203","v":"OCCUPATIONS AND PROFESSION (व्यवसाय और पेशा )"},"व्यवस्थापक","व्यवस्थापक"]
[null,null,null,null,null,null,null,null,null,{"$f":"IF(K2180=\" \",\" \",ROWS($K$5:K2180))","v":2176},{"$f":"DICTIONARY!M2204","v":"Book-Seller"},{"$f":"DICTIONARY!O2204","v":"पुस्तक-विक्रेता"},"पुस्तक-विक्रेता",{"$f":"DICTIONARY!P2204","v":"OCCUPATIONS AND PROFESSION (व्यवसाय और पेशा )"},"पुस्तक-विक्रेता","पुस्तक-विक्रेता"]
[null,null,null,null,null,null,null,null,null,{"$f":"IF(K2181=\" \",\" \",ROWS($K$5:K2181))","v":2177},{"$f":"DICTIONARY!M2205","v":"Labourer"},{"$f":"DICTIONARY!O2205","v":"मजदुर"},"मजदुर",{"$f":"DICTIONARY!P2205","v":"OCCUPATIONS AND PROFESSION (व्यवसाय और पेशा )"},{"$f":"M2181","v":"मजदुर"},{"$f":"L2181","v":"मजदुर"}]
[null,null,null,null,null,null,null,null,null,{"$f":"IF(K2182=\" \",\" \",ROWS($K$5:K2182))","v":2178},{"$f":"DICTIONARY!M2206","v":" Trader"},{"$f":"DICTIONARY!O2206","v":"व्यापारी"},{"$f":"L2182","v":"व्यापारी"},{"$f":"DICTIONARY!P2206","v":"OCCUPATIONS AND PROFESSION (व्यवसाय और पेशा )"},"व्यापारी","व्यापारी"]
[null,null,null,null,null,null,null,null,null,{"$f":"IF(K2183=\" \",\" \",ROWS($K$5:K2183))","v":2179},{"$f":"DICTIONARY!M2207","v":"Physician"},{"$f":"DICTIONARY!O2207","v":"चिकित्सक"},"चिकित्सक",{"$f":"DICTIONARY!P2207","v":"OCCUPATIONS AND PROFESSION (व्यवसाय और पेशा )"},"चिकित्सक","चिकित्सक"]
[null,null,null,null,null,null,null,null,null,{"$f":"IF(K2184=\" \",\" \",ROWS($K$5:K2184))","v":2180},{"$f":"DICTIONARY!M2208","v":"Advocate"},{"$f":"DICTIONARY!O2208","v":"वकील"},"वकील",{"$f":"DICTIONARY!P2208","v":"OCCUPATIONS AND PROFESSION (व्यवसाय और पेशा )"},"वकील","वकील"]
[null,null,null,null,null,null,null,null,null,{"$f":"IF(K2185=\" \",\" \",ROWS($K$5:K2185))","v":2181},{"$f":"DICTIONARY!M2209","v":"Disciple"},{"$f":"DICTIONARY!O2209","v":"शिष्य"},"शिष्य",{"$f":"DICTIONARY!P2209","v":"OCCUPATIONS AND PROFESSION (व्यवसाय और पेशा )"},"शिष्य","शिष्य"]
[null,null,null,null,null,null,null,null,null,{"$f":"IF(K2186=\" \",\" \",ROWS($K$5:K2186))","v":2182},{"$f":"DICTIONARY!M2210","v":"Groom"},{"$f":"DICTIONARY!O2210","v":"साइस"},"साइस",{"$f":"DICTIONARY!P2210","v":"OCCUPATIONS AND PROFESSION (व्यवसाय और पेशा )"},"साइस","साइस"]
[null,null,null,null,null,null,null,null,null,{"$f":"IF(K2187=\" \",\" \",ROWS($K$5:K2187))","v":2183},{"$f":"DICTIONARY!M2211","v":"Matchmaker"},{"$f":"DICTIONARY!O2211","v":"अगुआ(विवाह सम्बन्ध करने वाला"},"अगुआ(विवाह सम्बन्ध करने वाला",{"$f":"DICTIONARY!P2211","v":"OCCUPATIONS AND PROFESSION (व्यवसाय और पेशा )"},"अगुआ(विवाह सम्बन्ध करने वाला","अगुआ(विवाह सम्बन्ध करने वाला"]
[null,null,null,null,null,null,null,null,null,{"$f":"IF(K2188=\" \",\" \",ROWS($K$5:K2188))","v":2184},{"$f":"DICTIONARY!M2212","v":"Weaver"},{"$f":"DICTIONARY!O2212","v":"बुनकर"},"बुनकर",{"$f":"DICTIONARY!P2212","v":"OCCUPATIONS AND PROFESSION (व्यवसाय और पेशा )"},"बुनकर","बुनकर"]
[null,null,null,null,null,null,null,null,null,{"$f":"IF(K2189=\" \",\" \",ROWS($K$5:K2189))","v":2185},{"$f":"DICTIONARY!M2213","v":"Palmist"},{"$f":"DICTIONARY!O2213","v":"सामुद्रविद,हस्तरेखाविद"},"सामुद्रविद,हस्तरेखाविद",{"$f":"DICTIONARY!P2213","v":"OCCUPATIONS AND PROFESSION (व्यवसाय और पेशा )"},"सामुद्रविद,हस्तरेखाविद","सामुद्रविद,हस्तरेखाविद"]
[null,null,null,null,null,null,null,null,null,{"$f":"IF(K2190=\" \",\" \",ROWS($K$5:K2190))","v":2186},{"$f":"DICTIONARY!M2214","v":"Mason"},{"$f":"DICTIONARY!O2214","v":"राजमिस्त्री"},"राजमिस्त्री",{"$f":"DICTIONARY!P2214","v":"OCCUPATIONS AND PROFESSION (व्यवसाय और पेशा )"},"राजमिस्त्री","राजमिस्त्री"]
[null,null,null,null,null,null,null,null,null,{"$f":"IF(K2191=\" \",\" \",ROWS($K$5:K2191))","v":2187},{"$f":"DICTIONARY!M2215","v":"Cashier"},{"$f":"DICTIONARY!O2215","v":"रोकडिया,खजांची"},"रोकडिया,खजांची",{"$f":"DICTIONARY!P2215","v":"OCCUPATIONS AND PROFESSION (व्यवसाय और पेशा )"},"रोकडिया,खजांची","रोकडिया,खजांची"]
[null,null,null,null,null,null,null,null,null,{"$f":"IF(K2192=\" \",\" \",ROWS($K$5:K2192))","v":2188},{"$f":"DICTIONARY!M2216","v":"Juggler"},{"$f":"DICTIONARY!O2216","v":"बाज़ीगर"},"बाज़ीगर",{"$f":"DICTIONARY!P2216","v":"OCCUPATIONS AND PROFESSION (व्यवसाय और पेशा )"},"बाज़ीगर","बाज़ीगर"]
[null,null,null,null,null,null,null,null,null,{"$f":"IF(K2193=\" \",\" \",ROWS($K$5:K2193))","v":2189},{"$f":"DICTIONARY!M2217","v":"Shell-Cutter"},{"$f":"DICTIONARY!O2217","v":"शंख काटने वाला"},"शंख काटने वाला",{"$f":"DICTIONARY!P2217","v":"OCCUPATIONS AND PROFESSION (व्यवसाय और पेशा )"},"शंख काटने वाला","शंख काटने वाला"]
[null,null,null,null,null,null,null,null,null,{"$f":"IF(K2194=\" \",\" \",ROWS($K$5:K2194))","v":2190},{"$f":"DICTIONARY!M2218","v":"Banker"},{"$f":"DICTIONARY!O2218","v":"महाजन"},"महाजन",{"$f":"DICTIONARY!P2218","v":"OCCUPATIONS AND PROFESSION (व्यवसाय और पेशा )"},"महाजन","महाजन"]
[null,null,null,null,null,null,null,null,null,{"$f":"IF(K2195=\" \",\" \",ROWS($K$5:K2195))","v":2191},{"$f":"DICTIONARY!M2219","v":"Money-Lender"},{"$f":"DICTIONARY!O2219","v":"महाजन"},"महाजन",{"$f":"DICTIONARY!P2219","v":"OCCUPATIONS AND PROFESSION (व्यवसाय और पेशा )"},"महाजन","महाजन"]
[null,null,null,null,null,null,null,null,null,{"$f":"IF(K2196=\" \",\" \",ROWS($K$5:K2196))","v":2192},{"$f":"DICTIONARY!M2220","v":" Nurse"},{"$f":"DICTIONARY!O2220","v":"दाइ"},"दाइ",{"$f":"DICTIONARY!P2220","v":"OCCUPATIONS AND PROFESSION (व्यवसाय और पेशा )"},"दाइ","दाइ"]
[null,null,null,null,null,null,null,null,null,{"$f":"IF(K2197=\" \",\" \",ROWS($K$5:K2197))","v":2193},{"$f":"DICTIONARY!M2221","v":"Usurer"},{"$f":"DICTIONARY!O2221","v":"सूदखोर"},"सूदखोर",{"$f":"DICTIONARY!P2221","v":"OCCUPATIONS AND PROFESSION (व्यवसाय और पेशा )"},"सूदखोर","सूदखोर"]
[null,null,null,null,null,null,null,null,null,{"$f":"IF(K2198=\" \",\" \",ROWS($K$5:K2198))","v":2194},{"$f":"DICTIONARY!M2222","v":"Gate-Keeper"},{"$f":"DICTIONARY!O2222","v":"द्वाररक्षक,द्वारपाल"},"द्वाररक्षक,द्वारपाल",{"$f":"DICTIONARY!P2222","v":"OCCUPATIONS AND PROFESSION (व्यवसाय और पेशा )"},"द्वाररक्षक,द्वारपाल","द्वाररक्षक,द्वारपाल"]
[null,null,null,null,null,null,null,null,null,{"$f":"IF(K2199=\" \",\" \",ROWS($K$5:K2199))","v":2195},{"$f":"DICTIONARY!M2223","v":"Compositor"},{"$f":"DICTIONARY!O2223","v":"अक्षर्योजक"},"अक्षर्योजक",{"$f":"DICTIONARY!P2223","v":"OCCUPATIONS AND PROFESSION (व्यवसाय और पेशा )"},"अक्षर्योजक","अक्षर्योजक"]
[null,null,null,null,null,null,null,null,null,{"$f":"IF(K2200=\" \",\" \",ROWS($K$5:K2200))","v":2196},{"$f":"DICTIONARY!M2224","v":"Surveyor"},{"$f":"DICTIONARY!O2224","v":"सर्वेयर,अमिन,पैमाइश करनेवाला"},"सर्वेयर,अमिन,पैमाइश करनेवाला",{"$f":"DICTIONARY!P2224","v":"OCCUPATIONS AND PROFESSION (व्यवसाय और पेशा )"},"सर्वेयर,अमिन,पैमाइश करनेवाला","सर्वेयर,अमिन,पैमाइश करनेवाला"]
[null,null,null,null,null,null,null,null,null,{"$f":"IF(K2201=\" \",\" \",ROWS($K$5:K2201))","v":2197},{"$f":"DICTIONARY!M2225","v":"Baker"},{"$f":"DICTIONARY!O2225","v":"नानबाई,रोतिओ बनाने वाला"},"नानबाई,रोतिओ बनाने वाला",{"$f":"DICTIONARY!P2225","v":"OCCUPATIONS AND PROFESSION (व्यवसाय और पेशा )"},"नानबाई,रोतिओ बनाने वाला","नानबाई,रोतिओ बनाने वाला"]
[null,null,null,null,null,null,null,null,null,{"$f":"IF(K2202=\" \",\" \",ROWS($K$5:K2202))","v":2198},{"$f":"DICTIONARY!M2226","v":"Sculptor"},{"$f":"DICTIONARY!O2226","v":"मूर्तिकार"},"मूर्तिकार",{"$f":"DICTIONARY!P2226","v":"OCCUPATIONS AND PROFESSION (व्यवसाय और पेशा )"},"मूर्तिकार","मूर्तिकार"]
[null,null,null,null,null,null,null,null,null,{"$f":"IF(K2203=\" \",\" \",ROWS($K$5:K2203))","v":2199},{"$f":"DICTIONARY!M2227","v":"Cobbler"},{"$f":"DICTIONARY!O2227","v":"जूता बनाने वाला"},"जूता बनाने वाला",{"$f":"DICTIONARY!P2227","v":"OCCUPATIONS AND PROFESSION (व्यवसाय और पेशा )"},"जूता बनाने वाला","जूता बनाने वाला"]
[null,null,null,null,null,null,null,null,null,{"$f":"IF(K2204=\" \",\" \",ROWS($K$5:K2204))","v":2200},{"$f":"DICTIONARY!M2228","v":" Druggist"},{"$f":"DICTIONARY!O2228","v":"औषधि विक्रेता"},"औषधि विक्रेता",{"$f":"DICTIONARY!P2228","v":"OCCUPATIONS AND PROFESSION (व्यवसाय और पेशा )"},"औषधि विक्रेता","औषधि विक्रेता"]
[null,null,null,null,null,null,null,null,null,{"$f":"IF(K2205=\" \",\" \",ROWS($K$5:K2205))","v":2201},{"$f":"DICTIONARY!M2229","v":"Post,Mail"},{"$f":"DICTIONARY!O2229","v":"डाक"},"डाक",{"$f":"DICTIONARY!P2229","v":"POST AND TELEGRAPHS ( डाक एंव तार )"},"डाक","डाक"]
[null,null,null,null,null,null,null,null,null,{"$f":"IF(K2206=\" \",\" \",ROWS($K$5:K2206))","v":2202},{"$f":"DICTIONARY!M2230","v":"Stamp"},{"$f":"DICTIONARY!O2230","v":"टिकट"},"टिकट",{"$f":"DICTIONARY!P2230","v":"POST AND TELEGRAPHS ( डाक एंव तार )"},"टिकट","टिकट"]
[null,null,null,null,null,null,null,null,null,{"$f":"IF(K2207=\" \",\" \",ROWS($K$5:K2207))","v":2203},{"$f":"DICTIONARY!M2231","v":"Telephone"},{"$f":"DICTIONARY!O2231","v":"दूरभाष"},"दूरभाष",{"$f":"DICTIONARY!P2231","v":"POST AND TELEGRAPHS ( डाक एंव तार )"},"दूरभाष","दूरभाष"]
[null,null,null,null,null,null,null,null,null,{"$f":"IF(K2208=\" \",\" \",ROWS($K$5:K2208))","v":2204},{"$f":"DICTIONARY!M2232","v":"Registration"},{"$f":"DICTIONARY!O2232","v":"रजिस्ट्री,पंजीकरण"},"रजिस्ट्री,पंजीकरण",{"$f":"DICTIONARY!P2232","v":"POST AND TELEGRAPHS ( डाक एंव तार )"},"रजिस्ट्री,पंजीकरण","रजिस्ट्री,पंजीकरण"]
[null,null,null,null,null,null,null,null,null,{"$f":"IF(K2209=\" \",\" \",ROWS($K$5:K2209))","v":2205},{"$f":"DICTIONARY!M2233","v":"Telegraph"},{"$f":"DICTIONARY!O2233","v":"टेलीग्राफ,टार यन्त्र"},"टेलीग्राफ,टार यन्त्र",{"$f":"DICTIONARY!P2233","v":"POST AND TELEGRAPHS ( डाक एंव तार )"},"टेलीग्राफ,टार यन्त्र","टेलीग्राफ,टार यन्त्र"]
[null,null,null,null,null,null,null,null,null,{"$f":"IF(K2210=\" \",\" \",ROWS($K$5:K2210))","v":2206},{"$f":"DICTIONARY!M2234","v":"Post-Office"},{"$f":"DICTIONARY!O2234","v":"डाक-घर"},"डाक-घर",{"$f":"DICTIONARY!P2234","v":"POST AND TELEGRAPHS ( डाक एंव तार )"},"डाक-घर","डाक-घर"]
[null,null,null,null,null,null,null,null,null,{"$f":"IF(K2211=\" \",\" \",ROWS($K$5:K2211))","v":2207},{"$f":"DICTIONARY!M2235","v":"Letter"},{"$f":"DICTIONARY!O2235","v":"चिठ्ठी,पत्र"},"चिठ्ठी,पत्र",{"$f":"DICTIONARY!P2235","v":"POST AND TELEGRAPHS ( डाक एंव तार )"},"चिठ्ठी,पत्र","चिठ्ठी,पत्र"]
[null,null,null,null,null,null,null,null,null,{"$f":"IF(K2212=\" \",\" \",ROWS($K$5:K2212))","v":2208},{"$f":"DICTIONARY!M2236","v":" Receipt"},{"$f":"DICTIONARY!O2236","v":"रसीद"},"रसीद",{"$f":"DICTIONARY!P2236","v":"POST AND TELEGRAPHS ( डाक एंव तार )"},"रसीद","रसीद"]
[null,null,null,null,null,null,null,null,null,{"$f":"IF(K2213=\" \",\" \",ROWS($K$5:K2213))","v":2209},{"$f":"DICTIONARY!M2237","v":"Letter-Box"},{"$f":"DICTIONARY!O2237","v":"पत्र-मंजूषा"},"पत्र-मंजूषा",{"$f":"DICTIONARY!P2237","v":"POST AND TELEGRAPHS ( डाक एंव तार )"},"पत्र-मंजूषा","पत्र-मंजूषा"]
[null,null,null,null,null,null,null,null,null,{"$f":"IF(K2214=\" \",\" \",ROWS($K$5:K2214))","v":2210},{"$f":"DICTIONARY!M2238","v":"Air-Mail"},{"$f":"DICTIONARY!O2238","v":"विमान-डाक"},"विमान-डाक",{"$f":"DICTIONARY!P2238","v":"POST AND TELEGRAPHS ( डाक एंव तार )"},"विमान-डाक","विमान-डाक"]
[null,null,null,null,null,null,null,null,null,{"$f":"IF(K2215=\" \",\" \",ROWS($K$5:K2215))","v":2211},{"$f":"DICTIONARY!M2239","v":"Address"},{"$f":"DICTIONARY!O2239","v":"पता"},"पता",{"$f":"DICTIONARY!P2239","v":"POST AND TELEGRAPHS ( डाक एंव तार )"},"पता","पता"]
[null,null,null,null,null,null,null,null,null,{"$f":"IF(K2216=\" \",\" \",ROWS($K$5:K2216))","v":2212},{"$f":"DICTIONARY!M2240","v":"Addresses"},{"$f":"DICTIONARY!O2240","v":"प्रापक"},"प्रापक",{"$f":"DICTIONARY!P2240","v":"POST AND TELEGRAPHS ( डाक एंव तार )"},"प्रापक","प्रापक"]
[null,null,null,null,null,null,null,null,null,{"$f":"IF(K2217=\" \",\" \",ROWS($K$5:K2217))","v":2213},{"$f":"DICTIONARY!M2241","v":"Post-Card"},{"$f":"DICTIONARY!O2241","v":"ख़त"},"ख़त",{"$f":"DICTIONARY!P2241","v":"POST AND TELEGRAPHS ( डाक एंव तार )"},"ख़त","ख़त"]
[null,null,null,null,null,null,null,null,null,{"$f":"IF(K2218=\" \",\" \",ROWS($K$5:K2218))","v":2214},{"$f":"DICTIONARY!M2242","v":"Envelope"},{"$f":"DICTIONARY!O2242","v":"लिफाफा"},"लिफाफा",{"$f":"DICTIONARY!P2242","v":"POST AND TELEGRAPHS ( डाक एंव तार )"},"लिफाफा","लिफाफा"]
[null,null,null,null,null,null,null,null,null,{"$f":"IF(K2219=\" \",\" \",ROWS($K$5:K2219))","v":2215},{"$f":"DICTIONARY!M2243","v":"Postage-Stamp"},{"$f":"DICTIONARY!O2243","v":"डाक-टिकट"},"डाक-टिकट",{"$f":"DICTIONARY!P2243","v":"POST AND TELEGRAPHS ( डाक एंव तार )"},"डाक-टिकट","डाक-टिकट"]
[null,null,null,null,null,null,null,null,null,{"$f":"IF(K2220=\" \",\" \",ROWS($K$5:K2220))","v":2216},{"$f":"DICTIONARY!M2244","v":"Postage"},{"$f":"DICTIONARY!O2244","v":"डाकखर्च"},"डाकखर्च",{"$f":"DICTIONARY!P2244","v":"POST AND TELEGRAPHS ( डाक एंव तार )"},"डाकखर्च","डाकखर्च"]
[null,null,null,null,null,null,null,null,null,{"$f":"IF(K2221=\" \",\" \",ROWS($K$5:K2221))","v":2217},{"$f":"DICTIONARY!M2245","v":"Parcel"},{"$f":"DICTIONARY!O2245","v":"पार्सल"},"पार्सल",{"$f":"DICTIONARY!P2245","v":"POST AND TELEGRAPHS ( डाक एंव तार )"},"पार्सल","पार्सल"]
[null,null,null,null,null,null,null,null,null,{"$f":"IF(K2222=\" \",\" \",ROWS($K$5:K2222))","v":2218},{"$f":"DICTIONARY!M2246","v":"Money-Order"},{"$f":"DICTIONARY!O2246","v":"मनीआर्डर"},"मनीआर्डर",{"$f":"DICTIONARY!P2246","v":"POST AND TELEGRAPHS ( डाक एंव तार )"},"मनीआर्डर","मनीआर्डर"]
[null,null,null,null,null,null,null,null,null,{"$f":"IF(K2223=\" \",\" \",ROWS($K$5:K2223))","v":2219},{"$f":"DICTIONARY!M2247","v":"Payee"},{"$f":"DICTIONARY!O2247","v":"रूपया पानेवाला"},"रूपया पानेवाला",{"$f":"DICTIONARY!P2247","v":"POST AND TELEGRAPHS ( डाक एंव तार )"},"रूपया पानेवाला","रूपया पानेवाला"]
[null,null,null,null,null,null,null,null,null,{"$f":"IF(K2224=\" \",\" \",ROWS($K$5:K2224))","v":2220},{"$f":"DICTIONARY!M2248","v":"Remitter"},{"$f":"DICTIONARY!O2248","v":"रूपया भेजने वाला"},"रूपया भेजने वाला",{"$f":"DICTIONARY!P2248","v":"POST AND TELEGRAPHS ( डाक एंव तार )"},"रूपया भेजने वाला","रूपया भेजने वाला"]
[null,null,null,null,null,null,null,null,null,{"$f":"IF(K2225=\" \",\" \",ROWS($K$5:K2225))","v":2221},{"$f":"DICTIONARY!M2249","v":"Sender"},{"$f":"DICTIONARY!O2249","v":"प्रेषक"},"प्रेषक",{"$f":"DICTIONARY!P2249","v":"POST AND TELEGRAPHS ( डाक एंव तार )"},"प्रेषक","प्रेषक"]
[null,null,null,null,null,null,null,null,null,{"$f":"IF(K2226=\" \",\" \",ROWS($K$5:K2226))","v":2222},{"$f":"DICTIONARY!M2250","v":"Revenue-Stamp"},{"$f":"DICTIONARY!O2250","v":"रसीदी-टिकट"},"रसीदी-टिकट",{"$f":"DICTIONARY!P2250","v":"POST AND TELEGRAPHS ( डाक एंव तार )"},"रसीदी-टिकट","रसीदी-टिकट"]
[null,null,null,null,null,null,null,null,null,{"$f":"IF(K2227=\" \",\" \",ROWS($K$5:K2227))","v":2223},{"$f":"DICTIONARY!M2251","v":"Runner"},{"$f":"DICTIONARY!O2251","v":"हरकारा"},"हरकारा",{"$f":"DICTIONARY!P2251","v":"POST AND TELEGRAPHS ( डाक एंव तार )"},"हरकारा","हरकारा"]
[null,null,null,null,null,null,null,null,null,{"$f":"IF(K2228=\" \",\" \",ROWS($K$5:K2228))","v":2224},{"$f":"DICTIONARY!M2252","v":"Wireless"},{"$f":"DICTIONARY!O2252","v":"बेतार"},"बेतार",{"$f":"DICTIONARY!P2252","v":"POST AND TELEGRAPHS ( डाक एंव तार )"},"बेतार","बेतार"]
[null,null,null,null,null,null,null,null,null,{"$f":"IF(K2229=\" \",\" \",ROWS($K$5:K2229))","v":2225},{"$f":"DICTIONARY!M2253","v":"Post-Master"},{"$f":"DICTIONARY!O2253","v":"पोस्ट-मास्टर"},"पोस्ट-मास्टर",{"$f":"DICTIONARY!P2253","v":"POST AND TELEGRAPHS ( डाक एंव तार )"},"पोस्ट-मास्टर","पोस्ट-मास्टर"]
[null,null,null,null,null,null,null,null,null,{"$f":"IF(K2230=\" \",\" \",ROWS($K$5:K2230))","v":2226},{"$f":"DICTIONARY!M2254","v":"Post-Man"},{"$f":"DICTIONARY!O2254","v":"डाकिया"},"डाकिया",{"$f":"DICTIONARY!P2254","v":"POST AND TELEGRAPHS ( डाक एंव तार )"},"डाकिया","डाकिया"]
[null,null,null,null,null,null,null,null,null,{"$f":"IF(K2231=\" \",\" \",ROWS($K$5:K2231))","v":2227},{"$f":"DICTIONARY!M2255","v":"Book-Post"},{"$f":"DICTIONARY!O2255","v":"बुक-पोस्ट"},"बुक-पोस्ट",{"$f":"DICTIONARY!P2255","v":"POST AND TELEGRAPHS ( डाक एंव तार )"},"बुक-पोस्ट","बुक-पोस्ट"]
[null,null,null,null,null,null,null,null,null,{"$f":"IF(K2232=\" \",\" \",ROWS($K$5:K2232))","v":2228},{"$f":"DICTIONARY!M2256","v":"Trunk-Call"},{"$f":"DICTIONARY!O2256","v":"ट्रंककॉल"},"ट्रंककॉल",{"$f":"DICTIONARY!P2256","v":"POST AND TELEGRAPHS ( डाक एंव तार )"},"ट्रंककॉल","ट्रंककॉल"]
[null,null,null,null,null,null,null,null,null,{"$f":"IF(K2233=\" \",\" \",ROWS($K$5:K2233))","v":2229},{"$f":"DICTIONARY!M2257","v":"Telegram"},{"$f":"DICTIONARY!O2257","v":"टेलीग्राम,तार"},"टेलीग्राम,तार",{"$f":"DICTIONARY!P2257","v":"POST AND TELEGRAPHS ( डाक एंव तार )"},"टेलीग्राम,तार","टेलीग्राम,तार"]
[null,null,null,null,null,null,null,null,null,{"$f":"IF(K2234=\" \",\" \",ROWS($K$5:K2234))","v":2230},{"$f":"DICTIONARY!M2258","v":"Wireless-Telegram"},{"$f":"DICTIONARY!O2258","v":"बेतारका तार"},"बेतारका तार",{"$f":"DICTIONARY!P2258","v":"POST AND TELEGRAPHS ( डाक एंव तार )"},"बेतारका तार","बेतारका तार"]
[null,null,null,null,null,null,null,null,null,{"$f":"IF(K2235=\" \",\" \",ROWS($K$5:K2235))","v":2231},{"$f":"DICTIONARY!M2259","v":"Dress"},{"$f":"DICTIONARY!O2259","v":"पोशाक"},"पोशाक",{"$f":"DICTIONARY!P2259","v":"DRESS ( गणवेश )"},"पोशाक","पोशाक"]
[null,null,null,null,null,null,null,null,null,{"$f":"IF(K2236=\" \",\" \",ROWS($K$5:K2236))","v":2232},{"$f":"DICTIONARY!M2260","v":"Cloth"},{"$f":"DICTIONARY!O2260","v":"कपड़ा"},"कपड़ा",{"$f":"DICTIONARY!P2260","v":"DRESS ( गणवेश )"},"कपड़ा","कपड़ा"]
[null,null,null,null,null,null,null,null,null,{"$f":"IF(K2237=\" \",\" \",ROWS($K$5:K2237))","v":2233},{"$f":"DICTIONARY!M2261","v":"Cap"},{"$f":"DICTIONARY!O2261","v":"टोपी"},"टोपी",{"$f":"DICTIONARY!P2261","v":"DRESS ( गणवेश )"},"टोपी","टोपी"]
[null,null,null,null,null,null,null,null,null,{"$f":"IF(K2238=\" \",\" \",ROWS($K$5:K2238))","v":2234},{"$f":"DICTIONARY!M2262","v":"Hat"},{"$f":"DICTIONARY!O2262","v":"टॉप"},"टॉप",{"$f":"DICTIONARY!P2262","v":"DRESS ( गणवेश )"},"टॉप","टॉप"]
[null,null,null,null,null,null,null,null,null,{"$f":"IF(K2239=\" \",\" \",ROWS($K$5:K2239))","v":2235},{"$f":"DICTIONARY!M2263","v":"Shirt"},{"$f":"DICTIONARY!O2263","v":"कुर्ता,कमीज"},"कुर्ता,कमीज",{"$f":"DICTIONARY!P2263","v":"DRESS ( गणवेश )"},"कुर्ता,कमीज","कुर्ता,कमीज"]
[null,null,null,null,null,null,null,null,null,{"$f":"IF(K2240=\" \",\" \",ROWS($K$5:K2240))","v":2236},{"$f":"DICTIONARY!M2264","v":"Frock"},{"$f":"DICTIONARY!O2264","v":"फ्राक"},"फ्राक",{"$f":"DICTIONARY!P2264","v":"DRESS ( गणवेश )"},"फ्राक","फ्राक"]
[null,null,null,null,null,null,null,null,null,{"$f":"IF(K2241=\" \",\" \",ROWS($K$5:K2241))","v":2237},{"$f":"DICTIONARY!M2265","v":"Coat"},{"$f":"DICTIONARY!O2265","v":"कोट"},"कोट",{"$f":"DICTIONARY!P2265","v":"DRESS ( गणवेश )"},"कोट","कोट"]
[null,null,null,null,null,null,null,null,null,{"$f":"IF(K2242=\" \",\" \",ROWS($K$5:K2242))","v":2238},{"$f":"DICTIONARY!M2266","v":"Sari"},{"$f":"DICTIONARY!O2266","v":"साड़ी"},"साड़ी",{"$f":"DICTIONARY!P2266","v":"DRESS ( गणवेश )"},"साड़ी","साड़ी"]
[null,null,null,null,null,null,null,null,null,{"$f":"IF(K2243=\" \",\" \",ROWS($K$5:K2243))","v":2239},{"$f":"DICTIONARY!M2267","v":"Dhoti"},{"$f":"DICTIONARY!O2267","v":"धोती"},"धोती",{"$f":"DICTIONARY!P2267","v":"DRESS ( गणवेश )"},"धोती","धोती"]
[null,null,null,null,null,null,null,null,null,{"$f":"IF(K2244=\" \",\" \",ROWS($K$5:K2244))","v":2240},{"$f":"DICTIONARY!M2268","v":"Gown"},{"$f":"DICTIONARY!O2268","v":"गाउन"},"गाउन",{"$f":"DICTIONARY!P2268","v":"DRESS ( गणवेश )"},"गाउन","गाउन"]
[null,null,null,null,null,null,null,null,null,{"$f":"IF(K2245=\" \",\" \",ROWS($K$5:K2245))","v":2241},{"$f":"DICTIONARY!M2269","v":"Skirt"},{"$f":"DICTIONARY!O2269","v":"ओढ़नी"},"ओढ़नी",{"$f":"DICTIONARY!P2269","v":"DRESS ( गणवेश )"},{"$f":"M2245","v":"ओढ़नी"},{"$f":"L2245","v":"ओढ़नी"}]
[null,null,null,null,null,null,null,null,null,{"$f":"IF(K2246=\" \",\" \",ROWS($K$5:K2246))","v":2242},{"$f":"DICTIONARY!M2270","v":"Scarf"},{"$f":"DICTIONARY!O2270","v":"ओढनी"},{"$f":"L2246","v":"ओढनी"},{"$f":"DICTIONARY!P2270","v":"DRESS ( गणवेश )"},"ओढनी","ओढनी"]
[null,null,null,null,null,null,null,null,null,{"$f":"IF(K2247=\" \",\" \",ROWS($K$5:K2247))","v":2243},{"$f":"DICTIONARY!M2271","v":"Wrapper"},{"$f":"DICTIONARY!O2271","v":"ओढ़ने का कपड़ा(चादर)"},"ओढ़ने का कपड़ा(चादर)",{"$f":"DICTIONARY!P2271","v":"DRESS ( गणवेश )"},"ओढ़ने का कपड़ा(चादर)","ओढ़ने का कपड़ा(चादर)"]
[null,null,null,null,null,null,null,null,null,{"$f":"IF(K2248=\" \",\" \",ROWS($K$5:K2248))","v":2244},{"$f":"DICTIONARY!M2272","v":"Baniyan"},{"$f":"DICTIONARY!O2272","v":"बनियन,गंजी"},"बनियन,गंजी",{"$f":"DICTIONARY!P2272","v":"DRESS ( गणवेश )"},"बनियन,गंजी","बनियन,गंजी"]
[null,null,null,null,null,null,null,null,null,{"$f":"IF(K2249=\" \",\" \",ROWS($K$5:K2249))","v":2245},{"$f":"DICTIONARY!M2273","v":"Tape"},{"$f":"DICTIONARY!O2273","v":"फीता"},"फीता",{"$f":"DICTIONARY!P2273","v":"DRESS ( गणवेश )"},"फीता","फीता"]
[null,null,null,null,null,null,null,null,null,{"$f":"IF(K2250=\" \",\" \",ROWS($K$5:K2250))","v":2246},{"$f":"DICTIONARY!M2274","v":"Gloves"},{"$f":"DICTIONARY!O2274","v":"दस्ताना"},"दस्ताना",{"$f":"DICTIONARY!P2274","v":"DRESS ( गणवेश )"},"दस्ताना","दस्ताना"]
[null,null,null,null,null,null,null,null,null,{"$f":"IF(K2251=\" \",\" \",ROWS($K$5:K2251))","v":2247},{"$f":"DICTIONARY!M2275","v":"Pocket"},{"$f":"DICTIONARY!O2275","v":"जेब"},"जेब",{"$f":"DICTIONARY!P2275","v":"DRESS ( गणवेश )"},"जेब","जेब"]
[null,null,null,null,null,null,null,null,null,{"$f":"IF(K2252=\" \",\" \",ROWS($K$5:K2252))","v":2248},{"$f":"DICTIONARY!M2276","v":"Button"},{"$f":"DICTIONARY!O2276","v":"बटन"},"बटन",{"$f":"DICTIONARY!P2276","v":"DRESS ( गणवेश )"},"बटन","बटन"]
[null,null,null,null,null,null,null,null,null,{"$f":"IF(K2253=\" \",\" \",ROWS($K$5:K2253))","v":2249},{"$f":"DICTIONARY!M2277","v":"Shorts"},{"$f":"DICTIONARY!O2277","v":"हाफ पेन्ट"},"हाफ पेन्ट",{"$f":"DICTIONARY!P2277","v":"DRESS ( गणवेश )"},"हाफ पेन्ट","हाफ पेन्ट"]
[null,null,null,null,null,null,null,null,null,{"$f":"IF(K2254=\" \",\" \",ROWS($K$5:K2254))","v":2250},{"$f":"DICTIONARY!M2278","v":"Shocks"},{"$f":"DICTIONARY!O2278","v":"मोज़े"},"मोज़े",{"$f":"DICTIONARY!P2278","v":"DRESS ( गणवेश )"},"मोज़े","मोज़े"]
[null,null,null,null,null,null,null,null,null,{"$f":"IF(K2255=\" \",\" \",ROWS($K$5:K2255))","v":2251},{"$f":"DICTIONARY!M2279","v":"Shoe"},{"$f":"DICTIONARY!O2279","v":"जूता"},"जूता",{"$f":"DICTIONARY!P2279","v":"DRESS ( गणवेश )"},"जूता","जूता"]
[null,null,null,null,null,null,null,null,null,{"$f":"IF(K2256=\" \",\" \",ROWS($K$5:K2256))","v":2252},{"$f":"DICTIONARY!M2280","v":"Spectacles"},{"$f":"DICTIONARY!O2280","v":"चश्मा"},"चश्मा",{"$f":"DICTIONARY!P2280","v":"DRESS ( गणवेश )"},"चश्मा","चश्मा"]
[null,null,null,null,null,null,null,null,null,{"$f":"IF(K2257=\" \",\" \",ROWS($K$5:K2257))","v":2253},{"$f":"DICTIONARY!M2281","v":"Slippers"},{"$f":"DICTIONARY!O2281","v":"चप्पल"},"चप्पल",{"$f":"DICTIONARY!P2281","v":"DRESS ( गणवेश )"},"चप्पल","चप्पल"]
[null,null,null,null,null,null,null,null,null,{"$f":"IF(K2258=\" \",\" \",ROWS($K$5:K2258))","v":2254},{"$f":"DICTIONARY!M2282","v":"Umbrella"},{"$f":"DICTIONARY!O2282","v":"छाता"},"छाता",{"$f":"DICTIONARY!P2282","v":"DRESS ( गणवेश )"},"छाता","छाता"]
[null,null,null,null,null,null,null,null,null,{"$f":"IF(K2259=\" \",\" \",ROWS($K$5:K2259))","v":2255},{"$f":"DICTIONARY!M2283","v":"Belt"},{"$f":"DICTIONARY!O2283","v":"पट्टा,कमरबंद"},"पट्टा,कमरबंद",{"$f":"DICTIONARY!P2283","v":"DRESS ( गणवेश )"},"पट्टा,कमरबंद","पट्टा,कमरबंद"]
[null,null,null,null,null,null,null,null,null,{"$f":"IF(K2260=\" \",\" \",ROWS($K$5:K2260))","v":2256},{"$f":"DICTIONARY!M2284","v":"Hair-Pin"},{"$f":"DICTIONARY!O2284","v":"बाल का काँटा"},"बाल का काँटा",{"$f":"DICTIONARY!P2284","v":"DRESS ( गणवेश )"},"बाल का काँटा","बाल का काँटा"]
[null,null,null,null,null,null,null,null,null,{"$f":"IF(K2261=\" \",\" \",ROWS($K$5:K2261))","v":2257},{"$f":"DICTIONARY!M2285","v":"Pantaloon"},{"$f":"DICTIONARY!O2285","v":"छोटा पेंट,पतलून"},"छोटा पेंट,पतलून",{"$f":"DICTIONARY!P2285","v":"DRESS ( गणवेश )"},"छोटा पेंट,पतलून","छोटा पेंट,पतलून"]
[null,null,null,null,null,null,null,null,null,{"$f":"IF(K2262=\" \",\" \",ROWS($K$5:K2262))","v":2258},{"$f":"DICTIONARY!M2286","v":"Turban"},{"$f":"DICTIONARY!O2286","v":"पगड़ी"},"पगड़ी",{"$f":"DICTIONARY!P2286","v":"DRESS ( गणवेश )"},"पगड़ी","पगड़ी"]
[null,null,null,null,null,null,null,null,null,{"$f":"IF(K2263=\" \",\" \",ROWS($K$5:K2263))","v":2259},{"$f":"DICTIONARY!M2287","v":"Blouse"},{"$f":"DICTIONARY!O2287","v":"ब्लाउज,कुर्ती,चोली"},"ब्लाउज,कुर्ती,चोली",{"$f":"DICTIONARY!P2287","v":"DRESS ( गणवेश )"},"ब्लाउज,कुर्ती,चोली","ब्लाउज,कुर्ती,चोली"]
[null,null,null,null,null,null,null,null,null,{"$f":"IF(K2264=\" \",\" \",ROWS($K$5:K2264))","v":2260},{"$f":"DICTIONARY!M2288","v":"Tiara"},{"$f":"DICTIONARY!O2288","v":"सर का भूषण"},"सर का भूषण",{"$f":"DICTIONARY!P2288","v":"DRESS ( गणवेश )"},"सर का भूषण","सर का भूषण"]
[null,null,null,null,null,null,null,null,null,{"$f":"IF(K2265=\" \",\" \",ROWS($K$5:K2265))","v":2261},{"$f":"DICTIONARY!M2289","v":"Wooden-Sandal"},{"$f":"DICTIONARY!O2289","v":"खडाऊ"},"खडाऊ",{"$f":"DICTIONARY!P2289","v":"DRESS ( गणवेश )"},"खडाऊ","खडाऊ"]
[null,null,null,null,null,null,null,null,null,{"$f":"IF(K2266=\" \",\" \",ROWS($K$5:K2266))","v":2262},{"$f":"DICTIONARY!M2290","v":"Trousers"},{"$f":"DICTIONARY!O2290","v":"पायजामा"},"पायजामा",{"$f":"DICTIONARY!P2290","v":"DRESS ( गणवेश )"},"पायजामा","पायजामा"]
[null,null,null,null,null,null,null,null,null,{"$f":"IF(K2267=\" \",\" \",ROWS($K$5:K2267))","v":2263},{"$f":"DICTIONARY!M2291","v":"I"},{"$f":"DICTIONARY!O2291","v":"मै"},"मै",{"$f":"DICTIONARY!P2291","v":"PRONOUNS ( सर्वनाम )"},"मै","मै"]
[null,null,null,null,null,null,null,null,null,{"$f":"IF(K2268=\" \",\" \",ROWS($K$5:K2268))","v":2264},{"$f":"DICTIONARY!M2292","v":"We"},{"$f":"DICTIONARY!O2292","v":"हम"},"हम",{"$f":"DICTIONARY!P2292","v":"PRONOUNS ( सर्वनाम )"},"हम","हम"]
[null,null,null,null,null,null,null,null,null,{"$f":"IF(K2269=\" \",\" \",ROWS($K$5:K2269))","v":2265},{"$f":"DICTIONARY!M2293","v":"Our,Ours"},{"$f":"DICTIONARY!O2293","v":"हमारा"},"हमारा",{"$f":"DICTIONARY!P2293","v":"PRONOUNS ( सर्वनाम )"},"हमारा","हमारा"]
[null,null,null,null,null,null,null,null,null,{"$f":"IF(K2270=\" \",\" \",ROWS($K$5:K2270))","v":2266},{"$f":"DICTIONARY!M2294","v":"My,Mine"},{"$f":"DICTIONARY!O2294","v":"मेरा"},"मेरा",{"$f":"DICTIONARY!P2294","v":"PRONOUNS ( सर्वनाम )"},"मेरा","मेरा"]
[null,null,null,null,null,null,null,null,null,{"$f":"IF(K2271=\" \",\" \",ROWS($K$5:K2271))","v":2267},{"$f":"DICTIONARY!M2295","v":"Whom"},{"$f":"DICTIONARY!O2295","v":"किसको,जिनको,किनको"},"किसको,जिनको,किनको",{"$f":"DICTIONARY!P2295","v":"PRONOUNS ( सर्वनाम )"},"किसको,जिनको,किनको","किसको,जिनको,किनको"]
[null,null,null,null,null,null,null,null,null,{"$f":"IF(K2272=\" \",\" \",ROWS($K$5:K2272))","v":2268},{"$f":"DICTIONARY!M2296","v":"Whose"},{"$f":"DICTIONARY!O2296","v":"जिसका,किनका"},"जिसका,किनका",{"$f":"DICTIONARY!P2296","v":"PRONOUNS ( सर्वनाम )"},"जिसका,किनका","जिसका,किनका"]
[null,null,null,null,null,null,null,null,null,{"$f":"IF(K2273=\" \",\" \",ROWS($K$5:K2273))","v":2269},{"$f":"DICTIONARY!M2297","v":"It"},{"$f":"DICTIONARY!O2297","v":"यह"},"यह",{"$f":"DICTIONARY!P2297","v":"PRONOUNS ( सर्वनाम )"},"यह","यह"]
[null,null,null,null,null,null,null,null,null,{"$f":"IF(K2274=\" \",\" \",ROWS($K$5:K2274))","v":2270},{"$f":"DICTIONARY!M2298","v":"You"},{"$f":"DICTIONARY!O2298","v":"तुम,आप"},"तुम,आप",{"$f":"DICTIONARY!P2298","v":"PRONOUNS ( सर्वनाम )"},"तुम,आप","तुम,आप"]
[null,null,null,null,null,null,null,null,null,{"$f":"IF(K2275=\" \",\" \",ROWS($K$5:K2275))","v":2271},{"$f":"DICTIONARY!M2299","v":"Your,Yours"},{"$f":"DICTIONARY!O2299","v":"तुम्हारा,आपका"},"तुम्हारा,आपका",{"$f":"DICTIONARY!P2299","v":"PRONOUNS ( सर्वनाम )"},"तुम्हारा,आपका","तुम्हारा,आपका"]
[null,null,null,null,null,null,null,null,null,{"$f":"IF(K2276=\" \",\" \",ROWS($K$5:K2276))","v":2272},{"$f":"DICTIONARY!M2300","v":"Us"},{"$f":"DICTIONARY!O2300","v":"हमको,हमें"},"हमको,हमें",{"$f":"DICTIONARY!P2300","v":"PRONOUNS ( सर्वनाम )"},"हमको,हमें","हमको,हमें"]
[null,null,null,null,null,null,null,null,null,{"$f":"IF(K2277=\" \",\" \",ROWS($K$5:K2277))","v":2273},{"$f":"DICTIONARY!M2301","v":"Me"},{"$f":"DICTIONARY!O2301","v":"मुझेको"},"मुझेको",{"$f":"DICTIONARY!P2301","v":"PRONOUNS ( सर्वनाम )"},"मुझेको","मुझेको"]
[null,null,null,null,null,null,null,null,null,{"$f":"IF(K2278=\" \",\" \",ROWS($K$5:K2278))","v":2274},{"$f":"DICTIONARY!M2302","v":" Herself"},{"$f":"DICTIONARY!O2302","v":"वह स्वंय(स्त्री)"},"वह स्वंय(स्त्री)",{"$f":"DICTIONARY!P2302","v":"PRONOUNS ( सर्वनाम )"},"वह स्वंय(स्त्री)","वह स्वंय(स्त्री)"]
[null,null,null,null,null,null,null,null,null,{"$f":"IF(K2279=\" \",\" \",ROWS($K$5:K2279))","v":2275},{"$f":"DICTIONARY!M2303","v":"Himself"},{"$f":"DICTIONARY!O2303","v":"वह स्वंय(पुरुष)"},"वह स्वंय(पुरुष)",{"$f":"DICTIONARY!P2303","v":"PRONOUNS ( सर्वनाम )"},"वह स्वंय(पुरुष)","वह स्वंय(पुरुष)"]
[null,null,null,null,null,null,null,null,null,{"$f":"IF(K2280=\" \",\" \",ROWS($K$5:K2280))","v":2276},{"$f":"DICTIONARY!M2304","v":"This"},{"$f":"DICTIONARY!O2304","v":"यह"},"यह",{"$f":"DICTIONARY!P2304","v":"PRONOUNS ( सर्वनाम )"},"यह","यह"]
[null,null,null,null,null,null,null,null,null,{"$f":"IF(K2281=\" \",\" \",ROWS($K$5:K2281))","v":2277},{"$f":"DICTIONARY!M2305","v":" That"},{"$f":"DICTIONARY!O2305","v":"वह"},"वह",{"$f":"DICTIONARY!P2305","v":"PRONOUNS ( सर्वनाम )"},"वह","वह"]
[null,null,null,null,null,null,null,null,null,{"$f":"IF(K2282=\" \",\" \",ROWS($K$5:K2282))","v":2278},{"$f":"DICTIONARY!M2306","v":"Its"},{"$f":"DICTIONARY!O2306","v":"इसका"},"इसका",{"$f":"DICTIONARY!P2306","v":"PRONOUNS ( सर्वनाम )"},"इसका","इसका"]
[null,null,null,null,null,null,null,null,null,{"$f":"IF(K2283=\" \",\" \",ROWS($K$5:K2283))","v":2279},{"$f":"DICTIONARY!M2307","v":"Who"},{"$f":"DICTIONARY!O2307","v":"कौन"},"कौन",{"$f":"DICTIONARY!P2307","v":"PRONOUNS ( सर्वनाम )"},"कौन","कौन"]
[null,null,null,null,null,null,null,null,null,{"$f":"IF(K2284=\" \",\" \",ROWS($K$5:K2284))","v":2280},{"$f":"DICTIONARY!M2308","v":"Their"},{"$f":"DICTIONARY!O2308","v":"उनका"},"उनका",{"$f":"DICTIONARY!P2308","v":"PRONOUNS ( सर्वनाम )"},"उनका","उनका"]
[null,null,null,null,null,null,null,null,null,{"$f":"IF(K2285=\" \",\" \",ROWS($K$5:K2285))","v":2281},{"$f":"DICTIONARY!M2309","v":"Yourself"},{"$f":"DICTIONARY!O2309","v":"तुम स्वंय"},"तुम स्वंय",{"$f":"DICTIONARY!P2309","v":"PRONOUNS ( सर्वनाम )"},"तुम स्वंय","तुम स्वंय"]
[null,null,null,null,null,null,null,null,null,{"$f":"IF(K2286=\" \",\" \",ROWS($K$5:K2286))","v":2282},{"$f":"DICTIONARY!M2310","v":"Myself"},{"$f":"DICTIONARY!O2310","v":"में स्वमं"},"में स्वमं",{"$f":"DICTIONARY!P2310","v":"PRONOUNS ( सर्वनाम )"},"में स्वमं","में स्वमं"]
[null,null,null,null,null,null,null,null,null,{"$f":"IF(K2287=\" \",\" \",ROWS($K$5:K2287))","v":2283},{"$f":"DICTIONARY!M2311","v":"He"},{"$f":"DICTIONARY!O2311","v":"वह(पुरुष)"},"वह(पुरुष)",{"$f":"DICTIONARY!P2311","v":"PRONOUNS ( सर्वनाम )"},"वह(पुरुष)","वह(पुरुष)"]
[null,null,null,null,null,null,null,null,null,{"$f":"IF(K2288=\" \",\" \",ROWS($K$5:K2288))","v":2284},{"$f":"DICTIONARY!M2312","v":"She"},{"$f":"DICTIONARY!O2312","v":"वह(स्त्री)"},"वह(स्त्री)",{"$f":"DICTIONARY!P2312","v":"PRONOUNS ( सर्वनाम )"},"वह(स्त्री)","वह(स्त्री)"]
[null,null,null,null,null,null,null,null,null,{"$f":"IF(K2289=\" \",\" \",ROWS($K$5:K2289))","v":2285},{"$f":"DICTIONARY!M2313","v":"These"},{"$f":"DICTIONARY!O2313","v":"ये"},"ये",{"$f":"DICTIONARY!P2313","v":"PRONOUNS ( सर्वनाम )"},"ये","ये"]
[null,null,null,null,null,null,null,null,null,{"$f":"IF(K2290=\" \",\" \",ROWS($K$5:K2290))","v":2286},{"$f":"DICTIONARY!M2314","v":"Those"},{"$f":"DICTIONARY!O2314","v":"वे"},"वे",{"$f":"DICTIONARY!P2314","v":"PRONOUNS ( सर्वनाम )"},"वे","वे"]
[null,null,null,null,null,null,null,null,null,{"$f":"IF(K2291=\" \",\" \",ROWS($K$5:K2291))","v":2287},{"$f":"DICTIONARY!M2315","v":"What"},{"$f":"DICTIONARY!O2315","v":"क्या"},"क्या",{"$f":"DICTIONARY!P2315","v":"PRONOUNS ( सर्वनाम )"},"क्या","क्या"]
[null,null,null,null,null,null,null,null,null,{"$f":"IF(K2292=\" \",\" \",ROWS($K$5:K2292))","v":2288},{"$f":"DICTIONARY!M2316","v":"Him"},{"$f":"DICTIONARY!O2316","v":"उसको,उनको"},"उसको,उनको",{"$f":"DICTIONARY!P2316","v":"PRONOUNS ( सर्वनाम )"},"उसको,उनको","उसको,उनको"]
[null,null,null,null,null,null,null,null,null,{"$f":"IF(K2293=\" \",\" \",ROWS($K$5:K2293))","v":2289},{"$f":"DICTIONARY!M2317","v":"Which"},{"$f":"DICTIONARY!O2317","v":"कौन"},"कौन",{"$f":"DICTIONARY!P2317","v":"PRONOUNS ( सर्वनाम )"},"कौन","कौन"]
[null,null,null,null,null,null,null,null,null,{"$f":"IF(K2294=\" \",\" \",ROWS($K$5:K2294))","v":2290},{"$f":"DICTIONARY!M2318","v":"  Why"},{"$f":"DICTIONARY!O2318","v":"क्यों"},"क्यों",{"$f":"DICTIONARY!P2318","v":"PRONOUNS ( सर्वनाम )"},"क्यों","क्यों"]
[null,null,null,null,null,null,null,null,null,{"$f":"IF(K2295=\" \",\" \",ROWS($K$5:K2295))","v":2291},{"$f":"DICTIONARY!M2319","v":"His"},{"$f":"DICTIONARY!O2319","v":"उसका,उनका"},"उसका,उनका",{"$f":"DICTIONARY!P2319","v":"PRONOUNS ( सर्वनाम )"},"उसका,उनका","उसका,उनका"]
[null,null,null,null,null,null,null,null,null,{"$f":"IF(K2296=\" \",\" \",ROWS($K$5:K2296))","v":2292},{"$f":"DICTIONARY!M2320","v":"Herself"},{"$f":"DICTIONARY!O2320","v":"उसका स्वंय"},"उसका स्वंय",{"$f":"DICTIONARY!P2320","v":"PRONOUNS ( सर्वनाम )"},"उसका स्वंय","उसका स्वंय"]
[null,null,null,null,null,null,null,null,null,{"$f":"IF(K2297=\" \",\" \",ROWS($K$5:K2297))","v":2293},{"$f":"DICTIONARY!M2321","v":" Here"},{"$f":"DICTIONARY!O2321","v":"यहाँ"},"यहाँ",{"$f":"DICTIONARY!P2321","v":"PRONOUNS ( सर्वनाम )"},"यहाँ","यहाँ"]
[null,null,null,null,null,null,null,null,null,{"$f":"IF(K2298=\" \",\" \",ROWS($K$5:K2298))","v":2294},{"$f":"DICTIONARY!M2322","v":" There"},{"$f":"DICTIONARY!O2322","v":"वहाँ"},"वहाँ",{"$f":"DICTIONARY!P2322","v":"PRONOUNS ( सर्वनाम )"},"वहाँ","वहाँ"]
[null,null,null,null,null,null,null,null,null,{"$f":"IF(K2299=\" \",\" \",ROWS($K$5:K2299))","v":2295},{"$f":"DICTIONARY!M2323","v":"Them"},{"$f":"DICTIONARY!O2323","v":"उनको"},"उनको",{"$f":"DICTIONARY!P2323","v":"PRONOUNS ( सर्वनाम )"},"उनको","उनको"]
[null,null,null,null,null,null,null,null,null,{"$f":"IF(K2300=\" \",\" \",ROWS($K$5:K2300))","v":2296},{"$f":"DICTIONARY!M2324","v":"Battle"},{"$f":"DICTIONARY!O2324","v":"युद्ध"},"युद्ध",{"$f":"DICTIONARY!P2324","v":"WAR AND WEAPONS ( युद्द्ध एँव हथियार )"},"युद्ध","युद्ध"]
[null,null,null,null,null,null,null,null,null,{"$f":"IF(K2301=\" \",\" \",ROWS($K$5:K2301))","v":2297},{"$f":"DICTIONARY!M2325","v":"War"},{"$f":"DICTIONARY!O2325","v":"संग्राम"},"संग्राम",{"$f":"DICTIONARY!P2325","v":"WAR AND WEAPONS ( युद्द्ध एँव हथियार )"},"संग्राम","संग्राम"]
[null,null,null,null,null,null,null,null,null,{"$f":"IF(K2302=\" \",\" \",ROWS($K$5:K2302))","v":2298},{"$f":"DICTIONARY!M2326","v":"World-War"},{"$f":"DICTIONARY!O2326","v":"विश्वयुद्ध"},"विश्वयुद्ध",{"$f":"DICTIONARY!P2326","v":"WAR AND WEAPONS ( युद्द्ध एँव हथियार )"},"विश्वयुद्ध","विश्वयुद्ध"]
[null,null,null,null,null,null,null,null,null,{"$f":"IF(K2303=\" \",\" \",ROWS($K$5:K2303))","v":2299},{"$f":"DICTIONARY!M2327","v":"Battle-Field"},{"$f":"DICTIONARY!O2327","v":"युद्ध क्षेत्र"},"युद्ध क्षेत्र",{"$f":"DICTIONARY!P2327","v":"WAR AND WEAPONS ( युद्द्ध एँव हथियार )"},"युद्ध क्षेत्र","युद्ध क्षेत्र"]
[null,null,null,null,null,null,null,null,null,{"$f":"IF(K2304=\" \",\" \",ROWS($K$5:K2304))","v":2300},{"$f":"DICTIONARY!M2328","v":"Gun"},{"$f":"DICTIONARY!O2328","v":"बन्दुक"},"बन्दुक",{"$f":"DICTIONARY!P2328","v":"WAR AND WEAPONS ( युद्द्ध एँव हथियार )"},"बन्दुक","बन्दुक"]
[null,null,null,null,null,null,null,null,null,{"$f":"IF(K2305=\" \",\" \",ROWS($K$5:K2305))","v":2301},{"$f":"DICTIONARY!M2329","v":"Gunpowder"},{"$f":"DICTIONARY!O2329","v":"बारूद"},"बारूद",{"$f":"DICTIONARY!P2329","v":"WAR AND WEAPONS ( युद्द्ध एँव हथियार )"},"बारूद","बारूद"]
[null,null,null,null,null,null,null,null,null,{"$f":"IF(K2306=\" \",\" \",ROWS($K$5:K2306))","v":2302},{"$f":"DICTIONARY!M2330","v":"Bow"},{"$f":"DICTIONARY!O2330","v":"धनुष"},"धनुष",{"$f":"DICTIONARY!P2330","v":"WAR AND WEAPONS ( युद्द्ध एँव हथियार )"},"धनुष","धनुष"]
[null,null,null,null,null,null,null,null,null,{"$f":"IF(K2307=\" \",\" \",ROWS($K$5:K2307))","v":2303},{"$f":"DICTIONARY!M2331","v":"Arrow"},{"$f":"DICTIONARY!O2331","v":"तीर"},"तीर",{"$f":"DICTIONARY!P2331","v":"WAR AND WEAPONS ( युद्द्ध एँव हथियार )"},"तीर","तीर"]
[null,null,null,null,null,null,null,null,null,{"$f":"IF(K2308=\" \",\" \",ROWS($K$5:K2308))","v":2304},{"$f":"DICTIONARY!M2332","v":"Bullet"},{"$f":"DICTIONARY!O2332","v":"गोली"},"गोली",{"$f":"DICTIONARY!P2332","v":"WAR AND WEAPONS ( युद्द्ध एँव हथियार )"},"गोली","गोली"]
[null,null,null,null,null,null,null,null,null,{"$f":"IF(K2309=\" \",\" \",ROWS($K$5:K2309))","v":2305},{"$f":"DICTIONARY!M2333","v":"Shell"},{"$f":"DICTIONARY!O2333","v":"गोला"},"गोला",{"$f":"DICTIONARY!P2333","v":"WAR AND WEAPONS ( युद्द्ध एँव हथियार )"},{"$f":"M2309","v":"गोला"},{"$f":"L2309","v":"गोला"}]
[null,null,null,null,null,null,null,null,null,{"$f":"IF(K2310=\" \",\" \",ROWS($K$5:K2310))","v":2306},{"$f":"DICTIONARY!M2334","v":"Camp"},{"$f":"DICTIONARY!O2334","v":"शिविर"},{"$f":"L2310","v":"शिविर"},{"$f":"DICTIONARY!P2334","v":"WAR AND WEAPONS ( युद्द्ध एँव हथियार )"},"शिविर","शिविर"]
[null,null,null,null,null,null,null,null,null,{"$f":"IF(K2311=\" \",\" \",ROWS($K$5:K2311))","v":2307},{"$f":"DICTIONARY!M2335","v":"Tent"},{"$f":"DICTIONARY!O2335","v":"तम्बू"},"तम्बू",{"$f":"DICTIONARY!P2335","v":"WAR AND WEAPONS ( युद्द्ध एँव हथियार )"},"तम्बू","तम्बू"]
[null,null,null,null,null,null,null,null,null,{"$f":"IF(K2312=\" \",\" \",ROWS($K$5:K2312))","v":2308},{"$f":"DICTIONARY!M2336","v":"Fort"},{"$f":"DICTIONARY!O2336","v":"किला"},"किला",{"$f":"DICTIONARY!P2336","v":"WAR AND WEAPONS ( युद्द्ध एँव हथियार )"},"किला","किला"]
[null,null,null,null,null,null,null,null,null,{"$f":"IF(K2313=\" \",\" \",ROWS($K$5:K2313))","v":2309},{"$f":"DICTIONARY!M2337","v":" Cannon"},{"$f":"DICTIONARY!O2337","v":"कमान,तोप"},"कमान,तोप",{"$f":"DICTIONARY!P2337","v":"WAR AND WEAPONS ( युद्द्ध एँव हथियार )"},"कमान,तोप","कमान,तोप"]
[null,null,null,null,null,null,null,null,null,{"$f":"IF(K2314=\" \",\" \",ROWS($K$5:K2314))","v":2310},{"$f":"DICTIONARY!M2338","v":"Bomb"},{"$f":"DICTIONARY!O2338","v":"बम"},"बम",{"$f":"DICTIONARY!P2338","v":"WAR AND WEAPONS ( युद्द्ध एँव हथियार )"},"बम","बम"]
[null,null,null,null,null,null,null,null,null,{"$f":"IF(K2315=\" \",\" \",ROWS($K$5:K2315))","v":2311},{"$f":"DICTIONARY!M2339","v":"Arms"},{"$f":"DICTIONARY!O2339","v":"अस्त्र-शस्त्र"},"अस्त्र-शस्त्र",{"$f":"DICTIONARY!P2339","v":"WAR AND WEAPONS ( युद्द्ध एँव हथियार )"},"अस्त्र-शस्त्र","अस्त्र-शस्त्र"]
[null,null,null,null,null,null,null,null,null,{"$f":"IF(K2316=\" \",\" \",ROWS($K$5:K2316))","v":2312},{"$f":"DICTIONARY!M2340","v":"Flag"},{"$f":"DICTIONARY!O2340","v":"झंडा"},"झंडा",{"$f":"DICTIONARY!P2340","v":"WAR AND WEAPONS ( युद्द्ध एँव हथियार )"},"झंडा","झंडा"]
[null,null,null,null,null,null,null,null,null,{"$f":"IF(K2317=\" \",\" \",ROWS($K$5:K2317))","v":2313},{"$f":"DICTIONARY!M2341","v":"Club"},{"$f":"DICTIONARY!O2341","v":"गदा"},"गदा",{"$f":"DICTIONARY!P2341","v":"WAR AND WEAPONS ( युद्द्ध एँव हथियार )"},"गदा","गदा"]
[null,null,null,null,null,null,null,null,null,{"$f":"IF(K2318=\" \",\" \",ROWS($K$5:K2318))","v":2314},{"$f":"DICTIONARY!M2342","v":"Lance"},{"$f":"DICTIONARY!O2342","v":"बरछा"},"बरछा",{"$f":"DICTIONARY!P2342","v":"WAR AND WEAPONS ( युद्द्ध एँव हथियार )"},"बरछा","बरछा"]
[null,null,null,null,null,null,null,null,null,{"$f":"IF(K2319=\" \",\" \",ROWS($K$5:K2319))","v":2315},{"$f":"DICTIONARY!M2343","v":"Warrior"},{"$f":"DICTIONARY!O2343","v":"योधा"},"योधा",{"$f":"DICTIONARY!P2343","v":"WAR AND WEAPONS ( युद्द्ध एँव हथियार )"},"योधा","योधा"]
[null,null,null,null,null,null,null,null,null,{"$f":"IF(K2320=\" \",\" \",ROWS($K$5:K2320))","v":2316},{"$f":"DICTIONARY!M2344","v":"Treaty"},{"$f":"DICTIONARY!O2344","v":"संधि"},"संधि",{"$f":"DICTIONARY!P2344","v":"WAR AND WEAPONS ( युद्द्ध एँव हथियार )"},"संधि","संधि"]
[null,null,null,null,null,null,null,null,null,{"$f":"IF(K2321=\" \",\" \",ROWS($K$5:K2321))","v":2317},{"$f":"DICTIONARY!M2345","v":"Quiver"},{"$f":"DICTIONARY!O2345","v":"तुणीर"},"तुणीर",{"$f":"DICTIONARY!P2345","v":"WAR AND WEAPONS ( युद्द्ध एँव हथियार )"},"तुणीर","तुणीर"]
[null,null,null,null,null,null,null,null,null,{"$f":"IF(K2322=\" \",\" \",ROWS($K$5:K2322))","v":2318},{"$f":"DICTIONARY!M2346","v":"Victory"},{"$f":"DICTIONARY!O2346","v":"विजय"},"विजय",{"$f":"DICTIONARY!P2346","v":"WAR AND WEAPONS ( युद्द्ध एँव हथियार )"},"विजय","विजय"]
[null,null,null,null,null,null,null,null,null,{"$f":"IF(K2323=\" \",\" \",ROWS($K$5:K2323))","v":2319},{"$f":"DICTIONARY!M2347","v":"Defeat"},{"$f":"DICTIONARY!O2347","v":"हार"},"हार",{"$f":"DICTIONARY!P2347","v":"WAR AND WEAPONS ( युद्द्ध एँव हथियार )"},"हार","हार"]
[null,null,null,null,null,null,null,null,null,{"$f":"IF(K2324=\" \",\" \",ROWS($K$5:K2324))","v":2320},{"$f":"DICTIONARY!M2348","v":"Shield"},{"$f":"DICTIONARY!O2348","v":"ढल"},"ढल",{"$f":"DICTIONARY!P2348","v":"WAR AND WEAPONS ( युद्द्ध एँव हथियार )"},"ढल","ढल"]
[null,null,null,null,null,null,null,null,null,{"$f":"IF(K2325=\" \",\" \",ROWS($K$5:K2325))","v":2321},{"$f":"DICTIONARY!M2349","v":"Dagger"},{"$f":"DICTIONARY!O2349","v":"छुरा"},"छुरा",{"$f":"DICTIONARY!P2349","v":"WAR AND WEAPONS ( युद्द्ध एँव हथियार )"},"छुरा","छुरा"]
[null,null,null,null,null,null,null,null,null,{"$f":"IF(K2326=\" \",\" \",ROWS($K$5:K2326))","v":2322},{"$f":"DICTIONARY!M2350","v":"Weapon"},{"$f":"DICTIONARY!O2350","v":"अस्त्र"},"अस्त्र",{"$f":"DICTIONARY!P2350","v":"WAR AND WEAPONS ( युद्द्ध एँव हथियार )"},"अस्त्र","अस्त्र"]
[null,null,null,null,null,null,null,null,null,{"$f":"IF(K2327=\" \",\" \",ROWS($K$5:K2327))","v":2323},{"$f":"DICTIONARY!M2351","v":"Bayonet"},{"$f":"DICTIONARY!O2351","v":"संगीन"},"संगीन",{"$f":"DICTIONARY!P2351","v":"WAR AND WEAPONS ( युद्द्ध एँव हथियार )"},"संगीन","संगीन"]
[null,null,null,null,null,null,null,null,null,{"$f":"IF(K2328=\" \",\" \",ROWS($K$5:K2328))","v":2324},{"$f":"DICTIONARY!M2352","v":"Soldier"},{"$f":"DICTIONARY!O2352","v":"सैनिक"},"सैनिक",{"$f":"DICTIONARY!P2352","v":"WAR AND WEAPONS ( युद्द्ध एँव हथियार )"},"सैनिक","सैनिक"]
[null,null,null,null,null,null,null,null,null,{"$f":"IF(K2329=\" \",\" \",ROWS($K$5:K2329))","v":2325},{"$f":"DICTIONARY!M2353","v":"Helmet"},{"$f":"DICTIONARY!O2353","v":"शिर्धारण"},"शिर्धारण",{"$f":"DICTIONARY!P2353","v":"WAR AND WEAPONS ( युद्द्ध एँव हथियार )"},"शिर्धारण","शिर्धारण"]
[null,null,null,null,null,null,null,null,null,{"$f":"IF(K2330=\" \",\" \",ROWS($K$5:K2330))","v":2326},{"$f":"DICTIONARY!M2354","v":"Regiment"},{"$f":"DICTIONARY!O2354","v":"पलटन"},"पलटन",{"$f":"DICTIONARY!P2354","v":"WAR AND WEAPONS ( युद्द्ध एँव हथियार )"},"पलटन","पलटन"]
[null,null,null,null,null,null,null,null,null,{"$f":"IF(K2331=\" \",\" \",ROWS($K$5:K2331))","v":2327},{"$f":"DICTIONARY!M2355","v":"Army"},{"$f":"DICTIONARY!O2355","v":"सेना"},"सेना",{"$f":"DICTIONARY!P2355","v":"WAR AND WEAPONS ( युद्द्ध एँव हथियार )"},"सेना","सेना"]
[null,null,null,null,null,null,null,null,null,{"$f":"IF(K2332=\" \",\" \",ROWS($K$5:K2332))","v":2328},{"$f":"DICTIONARY!M2356","v":"Siege"},{"$f":"DICTIONARY!O2356","v":"अवरोध"},"अवरोध",{"$f":"DICTIONARY!P2356","v":"WAR AND WEAPONS ( युद्द्ध एँव हथियार )"},"अवरोध","अवरोध"]
[null,null,null,null,null,null,null,null,null,{"$f":"IF(K2333=\" \",\" \",ROWS($K$5:K2333))","v":2329},{"$f":"DICTIONARY!M2357","v":"Navy"},{"$f":"DICTIONARY!O2357","v":"नौसेना"},"नौसेना",{"$f":"DICTIONARY!P2357","v":"WAR AND WEAPONS ( युद्द्ध एँव हथियार )"},"नौसेना","नौसेना"]
[null,null,null,null,null,null,null,null,null,{"$f":"IF(K2334=\" \",\" \",ROWS($K$5:K2334))","v":2330},{"$f":"DICTIONARY!M2358","v":"Captain"},{"$f":"DICTIONARY!O2358","v":"नायक"},"नायक",{"$f":"DICTIONARY!P2358","v":"WAR AND WEAPONS ( युद्द्ध एँव हथियार )"},"नायक","नायक"]
[null,null,null,null,null,null,null,null,null,{"$f":"IF(K2335=\" \",\" \",ROWS($K$5:K2335))","v":2331},{"$f":"DICTIONARY!M2359","v":"Attack"},{"$f":"DICTIONARY!O2359","v":"आक्रमण"},"आक्रमण",{"$f":"DICTIONARY!P2359","v":"WAR AND WEAPONS ( युद्द्ध एँव हथियार )"},"आक्रमण","आक्रमण"]
[null,null,null,null,null,null,null,null,null,{"$f":"IF(K2336=\" \",\" \",ROWS($K$5:K2336))","v":2332},{"$f":"DICTIONARY!M2360","v":"Fighter-Plane"},{"$f":"DICTIONARY!O2360","v":"जंगी जहाज"},"जंगी जहाज",{"$f":"DICTIONARY!P2360","v":"WAR AND WEAPONS ( युद्द्ध एँव हथियार )"},"जंगी जहाज","जंगी जहाज"]
[null,null,null,null,null,null,null,null,null,{"$f":"IF(K2337=\" \",\" \",ROWS($K$5:K2337))","v":2333},{"$f":"DICTIONARY!M2361","v":"Bomber"},{"$f":"DICTIONARY!O2361","v":"बमवर्षक"},"बमवर्षक",{"$f":"DICTIONARY!P2361","v":"WAR AND WEAPONS ( युद्द्ध एँव हथियार )"},"बमवर्षक","बमवर्षक"]
[null,null,null,null,null,null,null,null,null,{"$f":"IF(K2338=\" \",\" \",ROWS($K$5:K2338))","v":2334},{"$f":"DICTIONARY!M2362","v":"Atombomb"},{"$f":"DICTIONARY!O2362","v":"परमाणु बम"},"परमाणु बम",{"$f":"DICTIONARY!P2362","v":"WAR AND WEAPONS ( युद्द्ध एँव हथियार )"},"परमाणु बम","परमाणु बम"]
[null,null,null,null,null,null,null,null,null,{"$f":"IF(K2339=\" \",\" \",ROWS($K$5:K2339))","v":2335},{"$f":"DICTIONARY!M2363","v":"Tank"},{"$f":"DICTIONARY!O2363","v":"टैक"},"टैक",{"$f":"DICTIONARY!P2363","v":"WAR AND WEAPONS ( युद्द्ध एँव हथियार )"},"टैक","टैक"]
[null,null,null,null,null,null,null,null,null,{"$f":"IF(K2340=\" \",\" \",ROWS($K$5:K2340))","v":2336},{"$f":"DICTIONARY!M2364","v":"Wounded"},{"$f":"DICTIONARY!O2364","v":"घायल"},"घायल",{"$f":"DICTIONARY!P2364","v":"WAR AND WEAPONS ( युद्द्ध एँव हथियार )"},"घायल","घायल"]
[null,null,null,null,null,null,null,null,null,{"$f":"IF(K2341=\" \",\" \",ROWS($K$5:K2341))","v":2337},{"$f":"DICTIONARY!M2365","v":"March"},{"$f":"DICTIONARY!O2365","v":"अभियान"},"अभियान",{"$f":"DICTIONARY!P2365","v":"WAR AND WEAPONS ( युद्द्ध एँव हथियार )"},"अभियान","अभियान"]
[null,null,null,null,null,null,null,null,null,{"$f":"IF(K2342=\" \",\" \",ROWS($K$5:K2342))","v":2338},{"$f":"DICTIONARY!M2366","v":"Admiral"},{"$f":"DICTIONARY!O2366","v":"नौसेनापति"},"नौसेनापति",{"$f":"DICTIONARY!P2366","v":"WAR AND WEAPONS ( युद्द्ध एँव हथियार )"},"नौसेनापति","नौसेनापति"]
[null,null,null,null,null,null,null,null,null,{"$f":"IF(K2343=\" \",\" \",ROWS($K$5:K2343))","v":2339},{"$f":"DICTIONARY!M2367","v":"Commander"},{"$f":"DICTIONARY!O2367","v":"सेनापति"},"सेनापति",{"$f":"DICTIONARY!P2367","v":"WAR AND WEAPONS ( युद्द्ध एँव हथियार )"},"सेनापति","सेनापति"]
[null,null,null,null,null,null,null,null,null,{"$f":"IF(K2344=\" \",\" \",ROWS($K$5:K2344))","v":2340},{"$f":"DICTIONARY!M2368","v":"Pistol"},{"$f":"DICTIONARY!O2368","v":"पिस्तौल"},"पिस्तौल",{"$f":"DICTIONARY!P2368","v":"WAR AND WEAPONS ( युद्द्ध एँव हथियार )"},"पिस्तौल","पिस्तौल"]
[null,null,null,null,null,null,null,null,null,{"$f":"IF(K2345=\" \",\" \",ROWS($K$5:K2345))","v":2341},{"$f":"DICTIONARY!M2369","v":"Rifle"},{"$f":"DICTIONARY!O2369","v":"रायफल"},"रायफल",{"$f":"DICTIONARY!P2369","v":"WAR AND WEAPONS ( युद्द्ध एँव हथियार )"},"रायफल","रायफल"]
[null,null,null,null,null,null,null,null,null,{"$f":"IF(K2346=\" \",\" \",ROWS($K$5:K2346))","v":2342},{"$f":"DICTIONARY!M2370","v":"Air-Raid"},{"$f":"DICTIONARY!O2370","v":"विमान से हमला"},"विमान से हमला",{"$f":"DICTIONARY!P2370","v":"WAR AND WEAPONS ( युद्द्ध एँव हथियार )"},"विमान से हमला","विमान से हमला"]
[null,null,null,null,null,null,null,null,null,{"$f":"IF(K2347=\" \",\" \",ROWS($K$5:K2347))","v":2343},{"$f":"DICTIONARY!M2371","v":"Warship"},{"$f":"DICTIONARY!O2371","v":"युद्ध तोप"},"युद्ध तोप",{"$f":"DICTIONARY!P2371","v":"WAR AND WEAPONS ( युद्द्ध एँव हथियार )"},"युद्ध तोप","युद्ध तोप"]
[null,null,null,null,null,null,null,null,null,{"$f":"IF(K2348=\" \",\" \",ROWS($K$5:K2348))","v":2344},{"$f":"DICTIONARY!M2372","v":"Revolver"},{"$f":"DICTIONARY!O2372","v":"रिवोल्वर"},"रिवोल्वर",{"$f":"DICTIONARY!P2372","v":"WAR AND WEAPONS ( युद्द्ध एँव हथियार )"},"रिवोल्वर","रिवोल्वर"]
[null,null,null,null,null,null,null,null,null,{"$f":"IF(K2349=\" \",\" \",ROWS($K$5:K2349))","v":2345},{"$f":"DICTIONARY!M2373","v":"Colonel"},{"$f":"DICTIONARY!O2373","v":"कर्नल"},"कर्नल",{"$f":"DICTIONARY!P2373","v":"WAR AND WEAPONS ( युद्द्ध एँव हथियार )"},"कर्नल","कर्नल"]
[null,null,null,null,null,null,null,null,null,{"$f":"IF(K2350=\" \",\" \",ROWS($K$5:K2350))","v":2346},{"$f":"DICTIONARY!M2374","v":"Ask"},{"$f":"DICTIONARY!O2374","v":"पूछना"},"पूछना",{"$f":"DICTIONARY!P2374","v":"VERBS ( क्रियाए )"},"पूछना","पूछना"]
[null,null,null,null,null,null,null,null,null,{"$f":"IF(K2351=\" \",\" \",ROWS($K$5:K2351))","v":2347},{"$f":"DICTIONARY!M2375","v":"Awake"},{"$f":"DICTIONARY!O2375","v":"जागना"},"जागना",{"$f":"DICTIONARY!P2375","v":"VERBS ( क्रियाए )"},"जागना","जागना"]
[null,null,null,null,null,null,null,null,null,{"$f":"IF(K2352=\" \",\" \",ROWS($K$5:K2352))","v":2348},{"$f":"DICTIONARY!M2376","v":"Be"},{"$f":"DICTIONARY!O2376","v":"होना"},"होना",{"$f":"DICTIONARY!P2376","v":"VERBS ( क्रियाए )"},"होना","होना"]
[null,null,null,null,null,null,null,null,null,{"$f":"IF(K2353=\" \",\" \",ROWS($K$5:K2353))","v":2349},{"$f":"DICTIONARY!M2377","v":"Beat"},{"$f":"DICTIONARY!O2377","v":"मारना"},"मारना",{"$f":"DICTIONARY!P2377","v":"VERBS ( क्रियाए )"},"मारना","मारना"]
[null,null,null,null,null,null,null,null,null,{"$f":"IF(K2354=\" \",\" \",ROWS($K$5:K2354))","v":2350},{"$f":"DICTIONARY!M2378","v":"Bite"},{"$f":"DICTIONARY!O2378","v":"काटना"},"काटना",{"$f":"DICTIONARY!P2378","v":"VERBS ( क्रियाए )"},"काटना","काटना"]
[null,null,null,null,null,null,null,null,null,{"$f":"IF(K2355=\" \",\" \",ROWS($K$5:K2355))","v":2351},{"$f":"DICTIONARY!M2379","v":"Blow"},{"$f":"DICTIONARY!O2379","v":"हवा चलना"},"हवा चलना",{"$f":"DICTIONARY!P2379","v":"VERBS ( क्रियाए )"},"हवा चलना","हवा चलना"]
[null,null,null,null,null,null,null,null,null,{"$f":"IF(K2356=\" \",\" \",ROWS($K$5:K2356))","v":2352},{"$f":"DICTIONARY!M2380","v":"Bring"},{"$f":"DICTIONARY!O2380","v":"लाना"},"लाना",{"$f":"DICTIONARY!P2380","v":"VERBS ( क्रियाए )"},"लाना","लाना"]
[null,null,null,null,null,null,null,null,null,{"$f":"IF(K2357=\" \",\" \",ROWS($K$5:K2357))","v":2353},{"$f":"DICTIONARY!M2381","v":"Burn"},{"$f":"DICTIONARY!O2381","v":"जलना"},"जलना",{"$f":"DICTIONARY!P2381","v":"VERBS ( क्रियाए )"},"जलना","जलना"]
[null,null,null,null,null,null,null,null,null,{"$f":"IF(K2358=\" \",\" \",ROWS($K$5:K2358))","v":2354},{"$f":"DICTIONARY!M2382","v":" Buy"},{"$f":"DICTIONARY!O2382","v":"खरीदना"},"खरीदना",{"$f":"DICTIONARY!P2382","v":"VERBS ( क्रियाए )"},"खरीदना","खरीदना"]
[null,null,null,null,null,null,null,null,null,{"$f":"IF(K2359=\" \",\" \",ROWS($K$5:K2359))","v":2355},{"$f":"DICTIONARY!M2383","v":"Call"},{"$f":"DICTIONARY!O2383","v":"पुकारना,बुलाना"},"पुकारना,बुलाना",{"$f":"DICTIONARY!P2383","v":"VERBS ( क्रियाए )"},"पुकारना,बुलाना","पुकारना,बुलाना"]
[null,null,null,null,null,null,null,null,null,{"$f":"IF(K2360=\" \",\" \",ROWS($K$5:K2360))","v":2356},{"$f":"DICTIONARY!M2384","v":"Can"},{"$f":"DICTIONARY!O2384","v":"सकना"},"सकना",{"$f":"DICTIONARY!P2384","v":"VERBS ( क्रियाए )"},"सकना","सकना"]
[null,null,null,null,null,null,null,null,null,{"$f":"IF(K2361=\" \",\" \",ROWS($K$5:K2361))","v":2357},{"$f":"DICTIONARY!M2385","v":"Carry"},{"$f":"DICTIONARY!O2385","v":"ले जाना"},"ले जाना",{"$f":"DICTIONARY!P2385","v":"VERBS ( क्रियाए )"},"ले जाना","ले जाना"]
[null,null,null,null,null,null,null,null,null,{"$f":"IF(K2362=\" \",\" \",ROWS($K$5:K2362))","v":2358},{"$f":"DICTIONARY!M2386","v":"Catch"},{"$f":"DICTIONARY!O2386","v":"पकड़ना"},"पकड़ना",{"$f":"DICTIONARY!P2386","v":"VERBS ( क्रियाए )"},"पकड़ना","पकड़ना"]
[null,null,null,null,null,null,null,null,null,{"$f":"IF(K2363=\" \",\" \",ROWS($K$5:K2363))","v":2359},{"$f":"DICTIONARY!M2387","v":"Come"},{"$f":"DICTIONARY!O2387","v":"आना"},"आना",{"$f":"DICTIONARY!P2387","v":"VERBS ( क्रियाए )"},"आना","आना"]
[null,null,null,null,null,null,null,null,null,{"$f":"IF(K2364=\" \",\" \",ROWS($K$5:K2364))","v":2360},{"$f":"DICTIONARY!M2388","v":"Cry"},{"$f":"DICTIONARY!O2388","v":"चिल्लाना"},"चिल्लाना",{"$f":"DICTIONARY!P2388","v":"VERBS ( क्रियाए )"},"चिल्लाना","चिल्लाना"]
[null,null,null,null,null,null,null,null,null,{"$f":"IF(K2365=\" \",\" \",ROWS($K$5:K2365))","v":2361},{"$f":"DICTIONARY!M2389","v":"Cut"},{"$f":"DICTIONARY!O2389","v":"काटना"},"काटना",{"$f":"DICTIONARY!P2389","v":"VERBS ( क्रियाए )"},"काटना","काटना"]
[null,null,null,null,null,null,null,null,null,{"$f":"IF(K2366=\" \",\" \",ROWS($K$5:K2366))","v":2362},{"$f":"DICTIONARY!M2390","v":" Dance"},{"$f":"DICTIONARY!O2390","v":"नाचना"},"नाचना",{"$f":"DICTIONARY!P2390","v":"VERBS ( क्रियाए )"},"नाचना","नाचना"]
[null,null,null,null,null,null,null,null,null,{"$f":"IF(K2367=\" \",\" \",ROWS($K$5:K2367))","v":2363},{"$f":"DICTIONARY!M2391","v":"Die"},{"$f":"DICTIONARY!O2391","v":"मरना"},"मरना",{"$f":"DICTIONARY!P2391","v":"VERBS ( क्रियाए )"},"मरना","मरना"]
[null,null,null,null,null,null,null,null,null,{"$f":"IF(K2368=\" \",\" \",ROWS($K$5:K2368))","v":2364},{"$f":"DICTIONARY!M2392","v":"Do"},{"$f":"DICTIONARY!O2392","v":"करना"},"करना",{"$f":"DICTIONARY!P2392","v":"VERBS ( क्रियाए )"},"करना","करना"]
[null,null,null,null,null,null,null,null,null,{"$f":"IF(K2369=\" \",\" \",ROWS($K$5:K2369))","v":2365},{"$f":"DICTIONARY!M2393","v":"Draw"},{"$f":"DICTIONARY!O2393","v":"खींचना"},"खींचना",{"$f":"DICTIONARY!P2393","v":"VERBS ( क्रियाए )"},"खींचना","खींचना"]
[null,null,null,null,null,null,null,null,null,{"$f":"IF(K2370=\" \",\" \",ROWS($K$5:K2370))","v":2366},{"$f":"DICTIONARY!M2394","v":"Eat"},{"$f":"DICTIONARY!O2394","v":"खाना"},"खाना",{"$f":"DICTIONARY!P2394","v":"VERBS ( क्रियाए )"},"खाना","खाना"]
[null,null,null,null,null,null,null,null,null,{"$f":"IF(K2371=\" \",\" \",ROWS($K$5:K2371))","v":2367},{"$f":"DICTIONARY!M2395","v":"Fall"},{"$f":"DICTIONARY!O2395","v":"गिरना"},"गिरना",{"$f":"DICTIONARY!P2395","v":"VERBS ( क्रियाए )"},"गिरना","गिरना"]
[null,null,null,null,null,null,null,null,null,{"$f":"IF(K2372=\" \",\" \",ROWS($K$5:K2372))","v":2368},{"$f":"DICTIONARY!M2396","v":"Fear"},{"$f":"DICTIONARY!O2396","v":"डरना"},"डरना",{"$f":"DICTIONARY!P2396","v":"VERBS ( क्रियाए )"},"डरना","डरना"]
[null,null,null,null,null,null,null,null,null,{"$f":"IF(K2373=\" \",\" \",ROWS($K$5:K2373))","v":2369},{"$f":"DICTIONARY!M2397","v":"Feed"},{"$f":"DICTIONARY!O2397","v":"खिलाना"},"खिलाना",{"$f":"DICTIONARY!P2397","v":"VERBS ( क्रियाए )"},{"$f":"M2373","v":"खिलाना"},{"$f":"L2373","v":"खिलाना"}]
[null,null,null,null,null,null,null,null,null,{"$f":"IF(K2374=\" \",\" \",ROWS($K$5:K2374))","v":2370},{"$f":"DICTIONARY!M2398","v":"Flow"},{"$f":"DICTIONARY!O2398","v":"बहना"},{"$f":"L2374","v":"बहना"},{"$f":"DICTIONARY!P2398","v":"VERBS ( क्रियाए )"},"बहना","बहना"]
[null,null,null,null,null,null,null,null,null,{"$f":"IF(K2375=\" \",\" \",ROWS($K$5:K2375))","v":2371},{"$f":"DICTIONARY!M2399","v":"Fly"},{"$f":"DICTIONARY!O2399","v":"उड़ना"},"उड़ना",{"$f":"DICTIONARY!P2399","v":"VERBS ( क्रियाए )"},"उड़ना","उड़ना"]
[null,null,null,null,null,null,null,null,null,{"$f":"IF(K2376=\" \",\" \",ROWS($K$5:K2376))","v":2372},{"$f":"DICTIONARY!M2400","v":"Forget"},{"$f":"DICTIONARY!O2400","v":"भूलना"},"भूलना",{"$f":"DICTIONARY!P2400","v":"VERBS ( क्रियाए )"},"भूलना","भूलना"]
[null,null,null,null,null,null,null,null,null,{"$f":"IF(K2377=\" \",\" \",ROWS($K$5:K2377))","v":2373},{"$f":"DICTIONARY!M2401","v":"Forgive"},{"$f":"DICTIONARY!O2401","v":"क्षमा मांगना"},"क्षमा मांगना",{"$f":"DICTIONARY!P2401","v":"VERBS ( क्रियाए )"},"क्षमा मांगना","क्षमा मांगना"]
[null,null,null,null,null,null,null,null,null,{"$f":"IF(K2378=\" \",\" \",ROWS($K$5:K2378))","v":2374},{"$f":"DICTIONARY!M2402","v":"Get"},{"$f":"DICTIONARY!O2402","v":"पाना"},"पाना",{"$f":"DICTIONARY!P2402","v":"VERBS ( क्रियाए )"},"पाना","पाना"]
[null,null,null,null,null,null,null,null,null,{"$f":"IF(K2379=\" \",\" \",ROWS($K$5:K2379))","v":2375},{"$f":"DICTIONARY!M2403","v":"Give"},{"$f":"DICTIONARY!O2403","v":"देना"},"देना",{"$f":"DICTIONARY!P2403","v":"VERBS ( क्रियाए )"},"देना","देना"]
[null,null,null,null,null,null,null,null,null,{"$f":"IF(K2380=\" \",\" \",ROWS($K$5:K2380))","v":2376},{"$f":"DICTIONARY!M2404","v":"Go"},{"$f":"DICTIONARY!O2404","v":"जाना"},"जाना",{"$f":"DICTIONARY!P2404","v":"VERBS ( क्रियाए )"},"जाना","जाना"]
[null,null,null,null,null,null,null,null,null,{"$f":"IF(K2381=\" \",\" \",ROWS($K$5:K2381))","v":2377},{"$f":"DICTIONARY!M2405","v":"Hate"},{"$f":"DICTIONARY!O2405","v":"नफरत करना"},"नफरत करना",{"$f":"DICTIONARY!P2405","v":"VERBS ( क्रियाए )"},"नफरत करना","नफरत करना"]
[null,null,null,null,null,null,null,null,null,{"$f":"IF(K2382=\" \",\" \",ROWS($K$5:K2382))","v":2378},{"$f":"DICTIONARY!M2406","v":"Hear"},{"$f":"DICTIONARY!O2406","v":"सुनना"},"सुनना",{"$f":"DICTIONARY!P2406","v":"VERBS ( क्रियाए )"},"सुनना","सुनना"]
[null,null,null,null,null,null,null,null,null,{"$f":"IF(K2383=\" \",\" \",ROWS($K$5:K2383))","v":2379},{"$f":"DICTIONARY!M2407","v":"Hide"},{"$f":"DICTIONARY!O2407","v":"छिपाना"},"छिपाना",{"$f":"DICTIONARY!P2407","v":"VERBS ( क्रियाए )"},"छिपाना","छिपाना"]
[null,null,null,null,null,null,null,null,null,{"$f":"IF(K2384=\" \",\" \",ROWS($K$5:K2384))","v":2380},{"$f":"DICTIONARY!M2408","v":"Hit"},{"$f":"DICTIONARY!O2408","v":"चोट मारना"},"चोट मारना",{"$f":"DICTIONARY!P2408","v":"VERBS ( क्रियाए )"},"चोट मारना","चोट मारना"]
[null,null,null,null,null,null,null,null,null,{"$f":"IF(K2385=\" \",\" \",ROWS($K$5:K2385))","v":2381},{"$f":"DICTIONARY!M2409","v":"Hope"},{"$f":"DICTIONARY!O2409","v":"आशा करना"},"आशा करना",{"$f":"DICTIONARY!P2409","v":"VERBS ( क्रियाए )"},"आशा करना","आशा करना"]
[null,null,null,null,null,null,null,null,null,{"$f":"IF(K2386=\" \",\" \",ROWS($K$5:K2386))","v":2382},{"$f":"DICTIONARY!M2410","v":"Jump"},{"$f":"DICTIONARY!O2410","v":"कूदना"},"कूदना",{"$f":"DICTIONARY!P2410","v":"VERBS ( क्रियाए )"},"कूदना","कूदना"]
[null,null,null,null,null,null,null,null,null,{"$f":"IF(K2387=\" \",\" \",ROWS($K$5:K2387))","v":2383},{"$f":"DICTIONARY!M2411","v":"Keep"},{"$f":"DICTIONARY!O2411","v":"रखना"},"रखना",{"$f":"DICTIONARY!P2411","v":"VERBS ( क्रियाए )"},"रखना","रखना"]
[null,null,null,null,null,null,null,null,null,{"$f":"IF(K2388=\" \",\" \",ROWS($K$5:K2388))","v":2384},{"$f":"DICTIONARY!M2412","v":"Know"},{"$f":"DICTIONARY!O2412","v":"जानना"},"जानना",{"$f":"DICTIONARY!P2412","v":"VERBS ( क्रियाए )"},"जानना","जानना"]
[null,null,null,null,null,null,null,null,null,{"$f":"IF(K2389=\" \",\" \",ROWS($K$5:K2389))","v":2385},{"$f":"DICTIONARY!M2413","v":"Laugh"},{"$f":"DICTIONARY!O2413","v":"हसंना"},"हसंना",{"$f":"DICTIONARY!P2413","v":"VERBS ( क्रियाए )"},"हसंना","हसंना"]
[null,null,null,null,null,null,null,null,null,{"$f":"IF(K2390=\" \",\" \",ROWS($K$5:K2390))","v":2386},{"$f":"DICTIONARY!M2414","v":"Leave"},{"$f":"DICTIONARY!O2414","v":"छोड़ना"},"छोड़ना",{"$f":"DICTIONARY!P2414","v":"VERBS ( क्रियाए )"},"छोड़ना","छोड़ना"]
[null,null,null,null,null,null,null,null,null,{"$f":"IF(K2391=\" \",\" \",ROWS($K$5:K2391))","v":2387},{"$f":"DICTIONARY!M2415","v":"Lie"},{"$f":"DICTIONARY!O2415","v":"झूठ बोलना"},"झूठ बोलना",{"$f":"DICTIONARY!P2415","v":"VERBS ( क्रियाए )"},"झूठ बोलना","झूठ बोलना"]
[null,null,null,null,null,null,null,null,null,{"$f":"IF(K2392=\" \",\" \",ROWS($K$5:K2392))","v":2388},{"$f":"DICTIONARY!M2416","v":"Light"},{"$f":"DICTIONARY!O2416","v":"प्रकाशित करना"},"प्रकाशित करना",{"$f":"DICTIONARY!P2416","v":"VERBS ( क्रियाए )"},"प्रकाशित करना","प्रकाशित करना"]
[null,null,null,null,null,null,null,null,null,{"$f":"IF(K2393=\" \",\" \",ROWS($K$5:K2393))","v":2389},{"$f":"DICTIONARY!M2417","v":"Live"},{"$f":"DICTIONARY!O2417","v":"रहना"},"रहना",{"$f":"DICTIONARY!P2417","v":"VERBS ( क्रियाए )"},"रहना","रहना"]
[null,null,null,null,null,null,null,null,null,{"$f":"IF(K2394=\" \",\" \",ROWS($K$5:K2394))","v":2390},{"$f":"DICTIONARY!M2418","v":"Love"},{"$f":"DICTIONARY!O2418","v":"प्रेम करना"},"प्रेम करना",{"$f":"DICTIONARY!P2418","v":"VERBS ( क्रियाए )"},"प्रेम करना","प्रेम करना"]
[null,null,null,null,null,null,null,null,null,{"$f":"IF(K2395=\" \",\" \",ROWS($K$5:K2395))","v":2391},{"$f":"DICTIONARY!M2419","v":"Make"},{"$f":"DICTIONARY!O2419","v":"बनाना"},"बनाना",{"$f":"DICTIONARY!P2419","v":"VERBS ( क्रियाए )"},"बनाना","बनाना"]
[null,null,null,null,null,null,null,null,null,{"$f":"IF(K2396=\" \",\" \",ROWS($K$5:K2396))","v":2392},{"$f":"DICTIONARY!M2420","v":"Move"},{"$f":"DICTIONARY!O2420","v":"हिलना"},"हिलना",{"$f":"DICTIONARY!P2420","v":"VERBS ( क्रियाए )"},"हिलना","हिलना"]
[null,null,null,null,null,null,null,null,null,{"$f":"IF(K2397=\" \",\" \",ROWS($K$5:K2397))","v":2393},{"$f":"DICTIONARY!M2421","v":" Pay"},{"$f":"DICTIONARY!O2421","v":"देना"},"देना",{"$f":"DICTIONARY!P2421","v":"VERBS ( क्रियाए )"},"देना","देना"]
[null,null,null,null,null,null,null,null,null,{"$f":"IF(K2398=\" \",\" \",ROWS($K$5:K2398))","v":2394},{"$f":"DICTIONARY!M2422","v":"Play"},{"$f":"DICTIONARY!O2422","v":"खेलना"},"खेलना",{"$f":"DICTIONARY!P2422","v":"VERBS ( क्रियाए )"},"खेलना","खेलना"]
[null,null,null,null,null,null,null,null,null,{"$f":"IF(K2399=\" \",\" \",ROWS($K$5:K2399))","v":2395},{"$f":"DICTIONARY!M2423","v":"Plough"},{"$f":"DICTIONARY!O2423","v":"हाल जोतना"},"हाल जोतना",{"$f":"DICTIONARY!P2423","v":"VERBS ( क्रियाए )"},"हाल जोतना","हाल जोतना"]
[null,null,null,null,null,null,null,null,null,{"$f":"IF(K2400=\" \",\" \",ROWS($K$5:K2400))","v":2396},{"$f":"DICTIONARY!M2424","v":"Pull"},{"$f":"DICTIONARY!O2424","v":"खींचना"},"खींचना",{"$f":"DICTIONARY!P2424","v":"VERBS ( क्रियाए )"},"खींचना","खींचना"]
[null,null,null,null,null,null,null,null,null,{"$f":"IF(K2401=\" \",\" \",ROWS($K$5:K2401))","v":2397},{"$f":"DICTIONARY!M2425","v":"Read"},{"$f":"DICTIONARY!O2425","v":"पढना"},"पढना",{"$f":"DICTIONARY!P2425","v":"VERBS ( क्रियाए )"},"पढना","पढना"]
[null,null,null,null,null,null,null,null,null,{"$f":"IF(K2402=\" \",\" \",ROWS($K$5:K2402))","v":2398},{"$f":"DICTIONARY!M2426","v":" Ring"},{"$f":"DICTIONARY!O2426","v":"बजाना"},"बजाना",{"$f":"DICTIONARY!P2426","v":"VERBS ( क्रियाए )"},"बजाना","बजाना"]
[null,null,null,null,null,null,null,null,null,{"$f":"IF(K2403=\" \",\" \",ROWS($K$5:K2403))","v":2399},{"$f":"DICTIONARY!M2427","v":"Lockdown"},{"$f":"DICTIONARY!O2427","v":"आपातकालीन बंध"},"आपातकालीन बंध",{"$f":"DICTIONARY!P2427","v":0},"आपातकालीन बंध","आपातकालीन बंध"]
[null,null,null,null,null,null,null,null,null,{"$f":"IF(K2404=\" \",\" \",ROWS($K$5:K2404))","v":2400},{"$f":"DICTIONARY!M2428","v":" Rise"},{"$f":"DICTIONARY!O2428","v":"उठाना"},"उठाना",{"$f":"DICTIONARY!P2428","v":"VERBS ( क्रियाए )"},"उठाना","उठाना"]
[null,null,null,null,null,null,null,null,null,{"$f":"IF(K2405=\" \",\" \",ROWS($K$5:K2405))","v":2401},{"$f":"DICTIONARY!M2429","v":"Roar"},{"$f":"DICTIONARY!O2429","v":"दहाड़ना"},"दहाड़ना",{"$f":"DICTIONARY!P2429","v":"VERBS ( क्रियाए )"},"दहाड़ना","दहाड़ना"]
[null,null,null,null,null,null,null,null,null,{"$f":"IF(K2406=\" \",\" \",ROWS($K$5:K2406))","v":2402},{"$f":"DICTIONARY!M2430","v":"Run"},{"$f":"DICTIONARY!O2430","v":"दोड़ना"},"दोड़ना",{"$f":"DICTIONARY!P2430","v":"VERBS ( क्रियाए )"},"दोड़ना","दोड़ना"]
[null,null,null,null,null,null,null,null,null,{"$f":"IF(K2407=\" \",\" \",ROWS($K$5:K2407))","v":2403},{"$f":"DICTIONARY!M2431","v":"See"},{"$f":"DICTIONARY!O2431","v":"देखना"},"देखना",{"$f":"DICTIONARY!P2431","v":"VERBS ( क्रियाए )"},"देखना","देखना"]
[null,null,null,null,null,null,null,null,null,{"$f":"IF(K2408=\" \",\" \",ROWS($K$5:K2408))","v":2404},{"$f":"DICTIONARY!M2432","v":"Seek"},{"$f":"DICTIONARY!O2432","v":"खोजना'"},"खोजना'",{"$f":"DICTIONARY!P2432","v":"VERBS ( क्रियाए )"},"खोजना'","खोजना'"]
[null,null,null,null,null,null,null,null,null,{"$f":"IF(K2409=\" \",\" \",ROWS($K$5:K2409))","v":2405},{"$f":"DICTIONARY!M2433","v":"Sell"},{"$f":"DICTIONARY!O2433","v":"बेचना"},"बेचना",{"$f":"DICTIONARY!P2433","v":"VERBS ( क्रियाए )"},"बेचना","बेचना"]
[null,null,null,null,null,null,null,null,null,{"$f":"IF(K2410=\" \",\" \",ROWS($K$5:K2410))","v":2406},{"$f":"DICTIONARY!M2434","v":"Send"},{"$f":"DICTIONARY!O2434","v":"भेजना"},"भेजना",{"$f":"DICTIONARY!P2434","v":"VERBS ( क्रियाए )"},"भेजना","भेजना"]
[null,null,null,null,null,null,null,null,null,{"$f":"IF(K2411=\" \",\" \",ROWS($K$5:K2411))","v":2407},{"$f":"DICTIONARY!M2435","v":"Show"},{"$f":"DICTIONARY!O2435","v":"दिखाना"},"दिखाना",{"$f":"DICTIONARY!P2435","v":"VERBS ( क्रियाए )"},"दिखाना","दिखाना"]
[null,null,null,null,null,null,null,null,null,{"$f":"IF(K2412=\" \",\" \",ROWS($K$5:K2412))","v":2408},{"$f":"DICTIONARY!M2436","v":" Sing"},{"$f":"DICTIONARY!O2436","v":"गाना"},"गाना",{"$f":"DICTIONARY!P2436","v":"VERBS ( क्रियाए )"},"गाना","गाना"]
[null,null,null,null,null,null,null,null,null,{"$f":"IF(K2413=\" \",\" \",ROWS($K$5:K2413))","v":2409},{"$f":"DICTIONARY!M2437","v":"Sink"},{"$f":"DICTIONARY!O2437","v":"डूबना"},"डूबना",{"$f":"DICTIONARY!P2437","v":"VERBS ( क्रियाए )"},"डूबना","डूबना"]
[null,null,null,null,null,null,null,null,null,{"$f":"IF(K2414=\" \",\" \",ROWS($K$5:K2414))","v":2410},{"$f":"DICTIONARY!M2438","v":"Sit"},{"$f":"DICTIONARY!O2438","v":"बैठना"},"बैठना",{"$f":"DICTIONARY!P2438","v":"VERBS ( क्रियाए )"},"बैठना","बैठना"]
[null,null,null,null,null,null,null,null,null,{"$f":"IF(K2415=\" \",\" \",ROWS($K$5:K2415))","v":2411},{"$f":"DICTIONARY!M2439","v":"Sleep"},{"$f":"DICTIONARY!O2439","v":"सोना"},"सोना",{"$f":"DICTIONARY!P2439","v":"VERBS ( क्रियाए )"},"सोना","सोना"]
[null,null,null,null,null,null,null,null,null,{"$f":"IF(K2416=\" \",\" \",ROWS($K$5:K2416))","v":2412},{"$f":"DICTIONARY!M2440","v":"Spend"},{"$f":"DICTIONARY!O2440","v":"बिताना"},"बिताना",{"$f":"DICTIONARY!P2440","v":"VERBS ( क्रियाए )"},"बिताना","बिताना"]
[null,null,null,null,null,null,null,null,null,{"$f":"IF(K2417=\" \",\" \",ROWS($K$5:K2417))","v":2413},{"$f":"DICTIONARY!M2441","v":" Steal"},{"$f":"DICTIONARY!O2441","v":"चुराना"},"चुराना",{"$f":"DICTIONARY!P2441","v":"VERBS ( क्रियाए )"},"चुराना","चुराना"]
[null,null,null,null,null,null,null,null,null,{"$f":"IF(K2418=\" \",\" \",ROWS($K$5:K2418))","v":2414},{"$f":"DICTIONARY!M2442","v":"Swim"},{"$f":"DICTIONARY!O2442","v":"तैरना"},"तैरना",{"$f":"DICTIONARY!P2442","v":"VERBS ( क्रियाए )"},"तैरना","तैरना"]
[null,null,null,null,null,null,null,null,null,{"$f":"IF(K2419=\" \",\" \",ROWS($K$5:K2419))","v":2415},{"$f":"DICTIONARY!M2443","v":"Take"},{"$f":"DICTIONARY!O2443","v":"लेना"},"लेना",{"$f":"DICTIONARY!P2443","v":"VERBS ( क्रियाए )"},"लेना","लेना"]
[null,null,null,null,null,null,null,null,null,{"$f":"IF(K2420=\" \",\" \",ROWS($K$5:K2420))","v":2416},{"$f":"DICTIONARY!M2444","v":"Talk"},{"$f":"DICTIONARY!O2444","v":"बताना"},"बताना",{"$f":"DICTIONARY!P2444","v":"VERBS ( क्रियाए )"},"बताना","बताना"]
[null,null,null,null,null,null,null,null,null,{"$f":"IF(K2421=\" \",\" \",ROWS($K$5:K2421))","v":2417},{"$f":"DICTIONARY!M2445","v":"Teach"},{"$f":"DICTIONARY!O2445","v":"पढाना"},"पढाना",{"$f":"DICTIONARY!P2445","v":"VERBS ( क्रियाए )"},"पढाना","पढाना"]
[null,null,null,null,null,null,null,null,null,{"$f":"IF(K2422=\" \",\" \",ROWS($K$5:K2422))","v":2418},{"$f":"DICTIONARY!M2446","v":"Tell"},{"$f":"DICTIONARY!O2446","v":"कहना,बताना"},"कहना,बताना",{"$f":"DICTIONARY!P2446","v":"VERBS ( क्रियाए )"},"कहना,बताना","कहना,बताना"]
[null,null,null,null,null,null,null,null,null,{"$f":"IF(K2423=\" \",\" \",ROWS($K$5:K2423))","v":2419},{"$f":"DICTIONARY!M2447","v":"Told"},{"$f":"DICTIONARY!O2447","v":"बताया"},"बताया",{"$f":"DICTIONARY!P2447","v":"VERBS ( क्रियाए )"},"बताया","बताया"]
[null,null,null,null,null,null,null,null,null,{"$f":"IF(K2424=\" \",\" \",ROWS($K$5:K2424))","v":2420},{"$f":"DICTIONARY!M2448","v":"Think"},{"$f":"DICTIONARY!O2448","v":"सोचना"},"सोचना",{"$f":"DICTIONARY!P2448","v":"VERBS ( क्रियाए )"},"सोचना","सोचना"]
[null,null,null,null,null,null,null,null,null,{"$f":"IF(K2425=\" \",\" \",ROWS($K$5:K2425))","v":2421},{"$f":"DICTIONARY!M2449","v":"Throw"},{"$f":"DICTIONARY!O2449","v":"फेंकना"},"फेंकना",{"$f":"DICTIONARY!P2449","v":"VERBS ( क्रियाए )"},"फेंकना","फेंकना"]
[null,null,null,null,null,null,null,null,null,{"$f":"IF(K2426=\" \",\" \",ROWS($K$5:K2426))","v":2422},{"$f":"DICTIONARY!M2450","v":"Walk"},{"$f":"DICTIONARY!O2450","v":"चलना"},"चलना",{"$f":"DICTIONARY!P2450","v":"VERBS ( क्रियाए )"},"चलना","चलना"]
[null,null,null,null,null,null,null,null,null,{"$f":"IF(K2427=\" \",\" \",ROWS($K$5:K2427))","v":2423},{"$f":"DICTIONARY!M2451","v":"Want"},{"$f":"DICTIONARY!O2451","v":"चाहना"},"चाहना",{"$f":"DICTIONARY!P2451","v":"VERBS ( क्रियाए )"},"चाहना","चाहना"]
[null,null,null,null,null,null,null,null,null,{"$f":"IF(K2428=\" \",\" \",ROWS($K$5:K2428))","v":2424},{"$f":"DICTIONARY!M2452","v":"Weep"},{"$f":"DICTIONARY!O2452","v":"रोना"},"रोना",{"$f":"DICTIONARY!P2452","v":"VERBS ( क्रियाए )"},"रोना","रोना"]
[null,null,null,null,null,null,null,null,null,{"$f":"IF(K2429=\" \",\" \",ROWS($K$5:K2429))","v":2425},{"$f":"DICTIONARY!M2453","v":"Wish"},{"$f":"DICTIONARY!O2453","v":"इच्छा करना"},"इच्छा करना",{"$f":"DICTIONARY!P2453","v":"VERBS ( क्रियाए )"},"इच्छा करना","इच्छा करना"]
[null,null,null,null,null,null,null,null,null,{"$f":"IF(K2430=\" \",\" \",ROWS($K$5:K2430))","v":2426},{"$f":"DICTIONARY!M2454","v":"Work"},{"$f":"DICTIONARY!O2454","v":"कार्य करना"},"कार्य करना",{"$f":"DICTIONARY!P2454","v":"VERBS ( क्रियाए )"},"कार्य करना","कार्य करना"]
[null,null,null,null,null,null,null,null,null,{"$f":"IF(K2431=\" \",\" \",ROWS($K$5:K2431))","v":2427},{"$f":"DICTIONARY!M2455","v":"Worship"},{"$f":"DICTIONARY!O2455","v":"पुजा करना"},"पुजा करना",{"$f":"DICTIONARY!P2455","v":"VERBS ( क्रियाए )"},"पुजा करना","पुजा करना"]
[null,null,null,null,null,null,null,null,null,{"$f":"IF(K2432=\" \",\" \",ROWS($K$5:K2432))","v":2428},{"$f":"DICTIONARY!M2456","v":"Write"},{"$f":"DICTIONARY!O2456","v":"लिखना"},"लिखना",{"$f":"DICTIONARY!P2456","v":"VERBS ( क्रियाए )"},"लिखना","लिखना"]
[null,null,null,null,null,null,null,null,null,{"$f":"IF(K2433=\" \",\" \",ROWS($K$5:K2433))","v":2429},{"$f":"DICTIONARY!M2457","v":"North"},{"$f":"DICTIONARY!O2457","v":"उत्तर"},"उत्तर","DIRECTIONS ( दिशाएँ )","उत्तर","उत्तर"]
[null,null,null,null,null,null,null,null,null,{"$f":"IF(K2434=\" \",\" \",ROWS($K$5:K2434))","v":2430},{"$f":"DICTIONARY!M2458","v":"South"},{"$f":"DICTIONARY!O2458","v":"दक्षिण"},"दक्षिण","DIRECTIONS ( दिशाएँ )","दक्षिण","दक्षिण"]
[null,null,null,null,null,null,null,null,null,{"$f":"IF(K2435=\" \",\" \",ROWS($K$5:K2435))","v":2431},{"$f":"DICTIONARY!M2459","v":"East"},{"$f":"DICTIONARY!O2459","v":"पूर्व"},"पूर्व","DIRECTIONS ( दिशाएँ )","पूर्व","पूर्व"]
[null,null,null,null,null,null,null,null,null,{"$f":"IF(K2436=\" \",\" \",ROWS($K$5:K2436))","v":2432},{"$f":"DICTIONARY!M2460","v":"West"},{"$f":"DICTIONARY!O2460","v":"पश्चिम"},"पश्चिम","DIRECTIONS ( दिशाएँ )","पश्चिम","पश्चिम"]
[null,null,null,null,null,null,null,null,null,{"$f":"IF(K2437=\" \",\" \",ROWS($K$5:K2437))","v":2433},{"$f":"DICTIONARY!M2461","v":"Pot"},{"$f":"DICTIONARY!O2461","v":"बर्तन"},"बर्तन",{"$f":"DICTIONARY!P2463","v":"HOUSE HOLD ARTICLES ( गृह - सामग्री )"},{"$f":"M2437","v":"बर्तन"},{"$f":"L2437","v":"बर्तन"}]
[null,null,null,null,null,null,null,null,null,{"$f":"IF(K2438=\" \",\" \",ROWS($K$5:K2438))","v":2434},{"$f":"DICTIONARY!M2462","v":"Pitcher"},{"$f":"DICTIONARY!O2462","v":"घड़ा"},{"$f":"L2438","v":"घड़ा"},{"$f":"DICTIONARY!P2464","v":"HOUSE HOLD ARTICLES ( गृह - सामग्री )"},"घड़ा","घड़ा"]
[null,null,null,null,null,null,null,null,null,{"$f":"IF(K2439=\" \",\" \",ROWS($K$5:K2439))","v":2435},{"$f":"DICTIONARY!M2463","v":"Napkin"},{"$f":"DICTIONARY!O2463","v":"छोटा अंगोछा"},"छोटा अंगोछा",{"$f":"DICTIONARY!P2465","v":"HOUSE HOLD ARTICLES ( गृह - सामग्री )"},"छोटा अंगोछा","छोटा अंगोछा"]
[null,null,null,null,null,null,null,null,null,{"$f":"IF(K2440=\" \",\" \",ROWS($K$5:K2440))","v":2436},{"$f":"DICTIONARY!M2464","v":" Bed"},{"$f":"DICTIONARY!O2464","v":"बिस्तर"},"बिस्तर",{"$f":"DICTIONARY!P2466","v":"HOUSE HOLD ARTICLES ( गृह - सामग्री )"},"बिस्तर","बिस्तर"]
[null,null,null,null,null,null,null,null,null,{"$f":"IF(K2441=\" \",\" \",ROWS($K$5:K2441))","v":2437},{"$f":"DICTIONARY!M2465","v":"Pillow-Case"},{"$f":"DICTIONARY!O2465","v":"तकिये का गिलाफ"},"तकिये का गिलाफ",{"$f":"DICTIONARY!P2467","v":"HOUSE HOLD ARTICLES ( गृह - सामग्री )"},"तकिये का गिलाफ","तकिये का गिलाफ"]
[null,null,null,null,null,null,null,null,null,{"$f":"IF(K2442=\" \",\" \",ROWS($K$5:K2442))","v":2438},{"$f":"DICTIONARY!M2466","v":"Bed-Sheet"},{"$f":"DICTIONARY!O2466","v":"चादर"},"चादर",{"$f":"DICTIONARY!P2468","v":"HOUSE HOLD ARTICLES ( गृह - सामग्री )"},"चादर","चादर"]
[null,null,null,null,null,null,null,null,null,{"$f":"IF(K2443=\" \",\" \",ROWS($K$5:K2443))","v":2439},{"$f":"DICTIONARY!M2467","v":"Couch Cot"},{"$f":"DICTIONARY!O2467","v":"तख्तपोश"},"तख्तपोश",{"$f":"DICTIONARY!P2469","v":"HOUSE HOLD ARTICLES ( गृह - सामग्री )"},"तख्तपोश","तख्तपोश"]
[null,null,null,null,null,null,null,null,null,{"$f":"IF(K2444=\" \",\" \",ROWS($K$5:K2444))","v":2440},{"$f":"DICTIONARY!M2468","v":"Mat"},{"$f":"DICTIONARY!O2468","v":"चटाई"},"चटाई",{"$f":"DICTIONARY!P2470","v":"HOUSE HOLD ARTICLES ( गृह - सामग्री )"},"चटाई","चटाई"]
[null,null,null,null,null,null,null,null,null,{"$f":"IF(K2445=\" \",\" \",ROWS($K$5:K2445))","v":2441},{"$f":"DICTIONARY!M2469","v":"Pan"},{"$f":"DICTIONARY!O2469","v":"कड़ाई"},"कड़ाई",{"$f":"DICTIONARY!P2471","v":"HOUSE HOLD ARTICLES ( गृह - सामग्री )"},"कड़ाई","कड़ाई"]
[null,null,null,null,null,null,null,null,null,{"$f":"IF(K2446=\" \",\" \",ROWS($K$5:K2446))","v":2442},{"$f":"DICTIONARY!M2470","v":"Jug"},{"$f":"DICTIONARY!O2470","v":"जलदान"},"जलदान",{"$f":"DICTIONARY!P2472","v":"HOUSE HOLD ARTICLES ( गृह - सामग्री )"},"जलदान","जलदान"]
[null,null,null,null,null,null,null,null,null,{"$f":"IF(K2447=\" \",\" \",ROWS($K$5:K2447))","v":2443},{"$f":"DICTIONARY!M2471","v":"Jar"},{"$f":"DICTIONARY!O2471","v":"घड़ा"},"घड़ा",{"$f":"DICTIONARY!P2473","v":"HOUSE HOLD ARTICLES ( गृह - सामग्री )"},"घड़ा","घड़ा"]
[null,null,null,null,null,null,null,null,null,{"$f":"IF(K2448=\" \",\" \",ROWS($K$5:K2448))","v":2444},{"$f":"DICTIONARY!M2472","v":"Towel"},{"$f":"DICTIONARY!O2472","v":"तोलिया"},"तोलिया",{"$f":"DICTIONARY!P2474","v":"HOUSE HOLD ARTICLES ( गृह - सामग्री )"},"तोलिया","तोलिया"]
[null,null,null,null,null,null,null,null,null,{"$f":"IF(K2449=\" \",\" \",ROWS($K$5:K2449))","v":2445},{"$f":"DICTIONARY!M2473","v":"Bucket"},{"$f":"DICTIONARY!O2473","v":"बाल्टी"},"बाल्टी",{"$f":"DICTIONARY!P2475","v":"HOUSE HOLD ARTICLES ( गृह - सामग्री )"},"बाल्टी","बाल्टी"]
[null,null,null,null,null,null,null,null,null,{"$f":"IF(K2450=\" \",\" \",ROWS($K$5:K2450))","v":2446},{"$f":"DICTIONARY!M2474","v":"Utencil"},{"$f":"DICTIONARY!O2474","v":"बर्तन"},"बर्तन",{"$f":"DICTIONARY!P2476","v":"HOUSE HOLD ARTICLES ( गृह - सामग्री )"},"बर्तन","बर्तन"]
[null,null,null,null,null,null,null,null,null,{"$f":"IF(K2451=\" \",\" \",ROWS($K$5:K2451))","v":2447},{"$f":"DICTIONARY!M2475","v":"Dish/Saucer"},{"$f":"DICTIONARY!O2475","v":"रकाबी,थाली"},"रकाबी,थाली",{"$f":"DICTIONARY!P2477","v":"HOUSE HOLD ARTICLES ( गृह - सामग्री )"},"रकाबी,थाली","रकाबी,थाली"]
[null,null,null,null,null,null,null,null,null,{"$f":"IF(K2452=\" \",\" \",ROWS($K$5:K2452))","v":2448},{"$f":"DICTIONARY!M2476","v":" Lamp"},{"$f":"DICTIONARY!O2476","v":"दीया"},"दीया",{"$f":"DICTIONARY!P2478","v":"HOUSE HOLD ARTICLES ( गृह - सामग्री )"},"दीया","दीया"]
[null,null,null,null,null,null,null,null,null,{"$f":"IF(K2453=\" \",\" \",ROWS($K$5:K2453))","v":2449},{"$f":"DICTIONARY!M2477","v":"Lampstand"},{"$f":"DICTIONARY!O2477","v":"दीवट"},"दीवट",{"$f":"DICTIONARY!P2479","v":"HOUSE HOLD ARTICLES ( गृह - सामग्री )"},"दीवट","दीवट"]
[null,null,null,null,null,null,null,null,null,{"$f":"IF(K2454=\" \",\" \",ROWS($K$5:K2454))","v":2450},{"$f":"DICTIONARY!M2478","v":"Wick"},{"$f":"DICTIONARY!O2478","v":"बाती"},"बाती",{"$f":"DICTIONARY!P2480","v":"HOUSE HOLD ARTICLES ( गृह - सामग्री )"},"बाती","बाती"]
[null,null,null,null,null,null,null,null,null,{"$f":"IF(K2455=\" \",\" \",ROWS($K$5:K2455))","v":2451},{"$f":"DICTIONARY!M2479","v":"Plate"},{"$f":"DICTIONARY!O2479","v":"थाली"},"थाली",{"$f":"DICTIONARY!P2481","v":"HOUSE HOLD ARTICLES ( गृह - सामग्री )"},"थाली","थाली"]
[null,null,null,null,null,null,null,null,null,{"$f":"IF(K2456=\" \",\" \",ROWS($K$5:K2456))","v":2452},{"$f":"DICTIONARY!M2480","v":"Cup"},{"$f":"DICTIONARY!O2480","v":"कप"},"कप",{"$f":"DICTIONARY!P2482","v":"HOUSE HOLD ARTICLES ( गृह - सामग्री )"},"कप","कप"]
[null,null,null,null,null,null,null,null,null,{"$f":"IF(K2457=\" \",\" \",ROWS($K$5:K2457))","v":2453},{"$f":"DICTIONARY!M2481","v":"Box"},{"$f":"DICTIONARY!O2481","v":"बक्सा"},"बक्सा",{"$f":"DICTIONARY!P2483","v":"HOUSE HOLD ARTICLES ( गृह - सामग्री )"},"बक्सा","बक्सा"]
[null,null,null,null,null,null,null,null,null,{"$f":"IF(K2458=\" \",\" \",ROWS($K$5:K2458))","v":2454},{"$f":"DICTIONARY!M2482","v":"Candle"},{"$f":"DICTIONARY!O2482","v":"मोमबत्ती"},"मोमबत्ती",{"$f":"DICTIONARY!P2484","v":"HOUSE HOLD ARTICLES ( गृह - सामग्री )"},"मोमबत्ती","मोमबत्ती"]
[null,null,null,null,null,null,null,null,null,{"$f":"IF(K2459=\" \",\" \",ROWS($K$5:K2459))","v":2455},{"$f":"DICTIONARY!M2483","v":"Quilt"},{"$f":"DICTIONARY!O2483","v":"रजाई"},"रजाई",{"$f":"DICTIONARY!P2485","v":"HOUSE HOLD ARTICLES ( गृह - सामग्री )"},"रजाई","रजाई"]
[null,null,null,null,null,null,null,null,null,{"$f":"IF(K2460=\" \",\" \",ROWS($K$5:K2460))","v":2456},{"$f":"DICTIONARY!M2484","v":"Mosquito-Curtain"},{"$f":"DICTIONARY!O2484","v":"मसहरी"},"मसहरी",{"$f":"DICTIONARY!P2486","v":"HOUSE HOLD ARTICLES ( गृह - सामग्री )"},"मसहरी","मसहरी"]
[null,null,null,null,null,null,null,null,null,{"$f":"IF(K2461=\" \",\" \",ROWS($K$5:K2461))","v":2457},{"$f":"DICTIONARY!M2485","v":"Almirah"},{"$f":"DICTIONARY!O2485","v":"अलमारी"},"अलमारी",{"$f":"DICTIONARY!P2487","v":"HOUSE HOLD ARTICLES ( गृह - सामग्री )"},"अलमारी","अलमारी"]
[null,null,null,null,null,null,null,null,null,{"$f":"IF(K2462=\" \",\" \",ROWS($K$5:K2462))","v":2458},{"$f":"DICTIONARY!M2486","v":"Blanket"},{"$f":"DICTIONARY!O2486","v":"कम्बल"},"कम्बल",{"$f":"DICTIONARY!P2488","v":"HOUSE HOLD ARTICLES ( गृह - सामग्री )"},"कम्बल","कम्बल"]
[null,null,null,null,null,null,null,null,null,{"$f":"IF(K2463=\" \",\" \",ROWS($K$5:K2463))","v":2459},{"$f":"DICTIONARY!M2487","v":"Mattress"},{"$f":"DICTIONARY!O2487","v":"गद्दा"},"गद्दा",{"$f":"DICTIONARY!P2489","v":"HOUSE HOLD ARTICLES ( गृह - सामग्री )"},"गद्दा","गद्दा"]
[null,null,null,null,null,null,null,null,null,{"$f":"IF(K2464=\" \",\" \",ROWS($K$5:K2464))","v":2460},{"$f":"DICTIONARY!M2488","v":"Mosquito-Net"},{"$f":"DICTIONARY!O2488","v":"मसहरी"},"मसहरी",{"$f":"DICTIONARY!P2490","v":"HOUSE HOLD ARTICLES ( गृह - सामग्री )"},"मसहरी","मसहरी"]
[null,null,null,null,null,null,null,null,null,{"$f":"IF(K2465=\" \",\" \",ROWS($K$5:K2465))","v":2461},{"$f":"DICTIONARY!M2489","v":"Carpet"},{"$f":"DICTIONARY!O2489","v":"गलीचा"},"गलीचा",{"$f":"DICTIONARY!P2491","v":"HOUSE HOLD ARTICLES ( गृह - सामग्री )"},"गलीचा","गलीचा"]
[null,null,null,null,null,null,null,null,null,{"$f":"IF(K2466=\" \",\" \",ROWS($K$5:K2466))","v":2462},{"$f":"DICTIONARY!M2490","v":"  Trunk"},{"$f":"DICTIONARY!O2490","v":"बड़ा संदूक"},"बड़ा संदूक",{"$f":"DICTIONARY!P2492","v":"HOUSE HOLD ARTICLES ( गृह - सामग्री )"},"बड़ा संदूक","बड़ा संदूक"]
[null,null,null,null,null,null,null,null,null,{"$f":"IF(K2467=\" \",\" \",ROWS($K$5:K2467))","v":2463},{"$f":"DICTIONARY!M2491","v":"Chest"},{"$f":"DICTIONARY!O2491","v":"तिजोरी"},"तिजोरी",{"$f":"DICTIONARY!P2493","v":"HOUSE HOLD ARTICLES ( गृह - सामग्री )"},"तिजोरी","तिजोरी"]
[null,null,null,null,null,null,null,null,null,{"$f":"IF(K2468=\" \",\" \",ROWS($K$5:K2468))","v":2464},{"$f":"DICTIONARY!M2492","v":"Screen"},{"$f":"DICTIONARY!O2492","v":"पर्दा"},"पर्दा",{"$f":"DICTIONARY!P2494","v":"HOUSE HOLD ARTICLES ( गृह - सामग्री )"},"पर्दा","पर्दा"]
[null,null,null,null,null,null,null,null,null,{"$f":"IF(K2469=\" \",\" \",ROWS($K$5:K2469))","v":2465},{"$f":"DICTIONARY!M2493","v":"Iron-Chest"},{"$f":"DICTIONARY!O2493","v":"लोहे की तिजोरी"},"लोहे की तिजोरी",{"$f":"DICTIONARY!P2495","v":"HOUSE HOLD ARTICLES ( गृह - सामग्री )"},"लोहे की तिजोरी","लोहे की तिजोरी"]
[null,null,null,null,null,null,null,null,null,{"$f":"IF(K2470=\" \",\" \",ROWS($K$5:K2470))","v":2466},{"$f":"DICTIONARY!M2494","v":"Iron-Safe"},{"$f":"DICTIONARY!O2494","v":"लोहे की तिजोरी"},"लोहे की तिजोरी",{"$f":"DICTIONARY!P2496","v":"HOUSE HOLD ARTICLES ( गृह - सामग्री )"},"लोहे की तिजोरी","लोहे की तिजोरी"]
[null,null,null,null,null,null,null,null,null,{"$f":"IF(K2471=\" \",\" \",ROWS($K$5:K2471))","v":2467},{"$f":"DICTIONARY!M2495","v":" Glass"},{"$f":"DICTIONARY!O2495","v":"गिलास"},"गिलास",{"$f":"DICTIONARY!P2497","v":"HOUSE HOLD ARTICLES ( गृह - सामग्री )"},"गिलास","गिलास"]
[null,null,null,null,null,null,null,null,null,{"$f":"IF(K2472=\" \",\" \",ROWS($K$5:K2472))","v":2468},{"$f":"DICTIONARY!M2496","v":"Spoon"},{"$f":"DICTIONARY!O2496","v":"चम्मच"},"चम्मच",{"$f":"DICTIONARY!P2498","v":"HOUSE HOLD ARTICLES ( गृह - सामग्री )"},"चम्मच","चम्मच"]
[null,null,null,null,null,null,null,null,null,{"$f":"IF(K2473=\" \",\" \",ROWS($K$5:K2473))","v":2469},{"$f":"DICTIONARY!M2497","v":"Hardware"},{"$f":"DICTIONARY!O2497","v":"लोहे की वस्तुए"},"लोहे की वस्तुए",{"$f":"DICTIONARY!P2499","v":"HOUSE HOLD ARTICLES ( गृह - सामग्री )"},"लोहे की वस्तुए","लोहे की वस्तुए"]
[null,null,null,null,null,null,null,null,null,{"$f":"IF(K2474=\" \",\" \",ROWS($K$5:K2474))","v":2470},{"$f":"DICTIONARY!M2498","v":"Kettle"},{"$f":"DICTIONARY!O2498","v":"केतली"},"केतली",{"$f":"DICTIONARY!P2500","v":"HOUSE HOLD ARTICLES ( गृह - सामग्री )"},"केतली","केतली"]
[null,null,null,null,null,null,null,null,null,{"$f":"IF(K2475=\" \",\" \",ROWS($K$5:K2475))","v":2471},{"$f":"DICTIONARY!M2499","v":"Soap"},{"$f":"DICTIONARY!O2499","v":"साबुन"},"साबुन",{"$f":"DICTIONARY!P2501","v":"HOUSE HOLD ARTICLES ( गृह - सामग्री )"},"साबुन","साबुन"]
[null,null,null,null,null,null,null,null,null,{"$f":"IF(K2476=\" \",\" \",ROWS($K$5:K2476))","v":2472},{"$f":"DICTIONARY!M2500","v":"Brass-Ware"},{"$f":"DICTIONARY!O2500","v":"पीतल के बर्तन"},"पीतल के बर्तन",{"$f":"DICTIONARY!P2502","v":"HOUSE HOLD ARTICLES ( गृह - सामग्री )"},"पीतल के बर्तन","पीतल के बर्तन"]
[null,null,null,null,null,null,null,null,null,{"$f":"IF(K2477=\" \",\" \",ROWS($K$5:K2477))","v":2473},{"$f":"DICTIONARY!M2501","v":"Match-Box"},{"$f":"DICTIONARY!O2501","v":"माचिस"},"माचिस",{"$f":"DICTIONARY!P2503","v":"HOUSE HOLD ARTICLES ( गृह - सामग्री )"},"माचिस","माचिस"]
[null,null,null,null,null,null,null,null,null,{"$f":"IF(K2478=\" \",\" \",ROWS($K$5:K2478))","v":2474},{"$f":"DICTIONARY!M2502","v":"Shelf"},{"$f":"DICTIONARY!O2502","v":"तांड"},"तांड",{"$f":"DICTIONARY!P2504","v":"HOUSE HOLD ARTICLES ( गृह - सामग्री )"},"तांड","तांड"]
[null,null,null,null,null,null,null,null,null,{"$f":"IF(K2479=\" \",\" \",ROWS($K$5:K2479))","v":2475},{"$f":"DICTIONARY!M2503","v":"Lantern"},{"$f":"DICTIONARY!O2503","v":"लालटेन"},"लालटेन",{"$f":"DICTIONARY!P2505","v":"HOUSE HOLD ARTICLES ( गृह - सामग्री )"},"लालटेन","लालटेन"]
[null,null,null,null,null,null,null,null,null,{"$f":"IF(K2480=\" \",\" \",ROWS($K$5:K2480))","v":2476},{"$f":"DICTIONARY!M2504","v":"Torch"},{"$f":"DICTIONARY!O2504","v":"बैटरी"},"बैटरी",{"$f":"DICTIONARY!P2506","v":"HOUSE HOLD ARTICLES ( गृह - सामग्री )"},"बैटरी","बैटरी"]
[null,null,null,null,null,null,null,null,null,{"$f":"IF(K2481=\" \",\" \",ROWS($K$5:K2481))","v":2477},{"$f":"DICTIONARY!M2505","v":"Drawer"},{"$f":"DICTIONARY!O2505","v":"दराज"},"दराज",{"$f":"DICTIONARY!P2507","v":"HOUSE HOLD ARTICLES ( गृह - सामग्री )"},"दराज","दराज"]
[null,null,null,null,null,null,null,null,null,{"$f":"IF(K2482=\" \",\" \",ROWS($K$5:K2482))","v":2478},{"$f":"DICTIONARY!M2506","v":" Phial"},{"$f":"DICTIONARY!O2506","v":"शीशी"},"शीशी",{"$f":"DICTIONARY!P2508","v":"HOUSE HOLD ARTICLES ( गृह - सामग्री )"},"शीशी","शीशी"]
[null,null,null,null,null,null,null,null,null,{"$f":"IF(K2483=\" \",\" \",ROWS($K$5:K2483))","v":2479},{"$f":"DICTIONARY!M2507","v":"Key"},{"$f":"DICTIONARY!O2507","v":"चाबी"},"चाबी",{"$f":"DICTIONARY!P2509","v":"HOUSE HOLD ARTICLES ( गृह - सामग्री )"},"चाबी","चाबी"]
[null,null,null,null,null,null,null,null,null,{"$f":"IF(K2484=\" \",\" \",ROWS($K$5:K2484))","v":2480},{"$f":"DICTIONARY!M2508","v":"Broom"},{"$f":"DICTIONARY!O2508","v":"झाड़ू"},"झाड़ू",{"$f":"DICTIONARY!P2510","v":"HOUSE HOLD ARTICLES ( गृह - सामग्री )"},"झाड़ू","झाड़ू"]
[null,null,null,null,null,null,null,null,null,{"$f":"IF(K2485=\" \",\" \",ROWS($K$5:K2485))","v":2481},{"$f":"DICTIONARY!M2509","v":"Bottle"},{"$f":"DICTIONARY!O2509","v":"बोतल"},"बोतल",{"$f":"DICTIONARY!P2511","v":"HOUSE HOLD ARTICLES ( गृह - सामग्री )"},"बोतल","बोतल"]
[null,null,null,null,null,null,null,null,null,{"$f":"IF(K2486=\" \",\" \",ROWS($K$5:K2486))","v":2482},{"$f":"DICTIONARY!M2510","v":"Knife"},{"$f":"DICTIONARY!O2510","v":"चाकू"},"चाकू",{"$f":"DICTIONARY!P2512","v":"HOUSE HOLD ARTICLES ( गृह - सामग्री )"},"चाकू","चाकू"]
[null,null,null,null,null,null,null,null,null,{"$f":"IF(K2487=\" \",\" \",ROWS($K$5:K2487))","v":2483},{"$f":"DICTIONARY!M2511","v":"Basket"},{"$f":"DICTIONARY!O2511","v":"टोकरी"},"टोकरी",{"$f":"DICTIONARY!P2513","v":"HOUSE HOLD ARTICLES ( गृह - सामग्री )"},"टोकरी","टोकरी"]
[null,null,null,null,null,null,null,null,null,{"$f":"IF(K2488=\" \",\" \",ROWS($K$5:K2488))","v":2484},{"$f":"DICTIONARY!M2512","v":"Spitton"},{"$f":"DICTIONARY!O2512","v":"पीकदान"},"पीकदान",{"$f":"DICTIONARY!P2514","v":"HOUSE HOLD ARTICLES ( गृह - सामग्री )"},"पीकदान","पीकदान"]
[null,null,null,null,null,null,null,null,null,{"$f":"IF(K2489=\" \",\" \",ROWS($K$5:K2489))","v":2485},{"$f":"DICTIONARY!M2513","v":"Flower-Vase"},{"$f":"DICTIONARY!O2513","v":"फूलदानी"},"फूलदानी",{"$f":"DICTIONARY!P2515","v":"HOUSE HOLD ARTICLES ( गृह - सामग्री )"},"फूलदानी","फूलदानी"]
[null,null,null,null,null,null,null,null,null,{"$f":"IF(K2490=\" \",\" \",ROWS($K$5:K2490))","v":2486},{"$f":"DICTIONARY!M2514","v":"Picture"},{"$f":"DICTIONARY!O2514","v":"तस्वीर"},"तस्वीर",{"$f":"DICTIONARY!P2516","v":"HOUSE HOLD ARTICLES ( गृह - सामग्री )"},"तस्वीर","तस्वीर"]
[null,null,null,null,null,null,null,null,null,{"$f":"IF(K2491=\" \",\" \",ROWS($K$5:K2491))","v":2487},{"$f":"DICTIONARY!M2515","v":"Brush"},{"$f":"DICTIONARY!O2515","v":"ब्रश"},"ब्रश",{"$f":"DICTIONARY!P2517","v":"HOUSE HOLD ARTICLES ( गृह - सामग्री )"},"ब्रश","ब्रश"]
[null,null,null,null,null,null,null,null,null,{"$f":"IF(K2492=\" \",\" \",ROWS($K$5:K2492))","v":2488},{"$f":"DICTIONARY!M2516","v":"Glass-Ware"},{"$f":"DICTIONARY!O2516","v":"शीशे के बर्तन"},"शीशे के बर्तन",{"$f":"DICTIONARY!P2518","v":"HOUSE HOLD ARTICLES ( गृह - सामग्री )"},"शीशे के बर्तन","शीशे के बर्तन"]
[null,null,null,null,null,null,null,null,null,{"$f":"IF(K2493=\" \",\" \",ROWS($K$5:K2493))","v":2489},{"$f":"DICTIONARY!M2517","v":"Easy-Chair"},{"$f":"DICTIONARY!O2517","v":"आराम कुर्सी"},"आराम कुर्सी",{"$f":"DICTIONARY!P2519","v":"HOUSE HOLD ARTICLES ( गृह - सामग्री )"},"आराम कुर्सी","आराम कुर्सी"]
[null,null,null,null,null,null,null,null,null,{"$f":"IF(K2494=\" \",\" \",ROWS($K$5:K2494))","v":2490},{"$f":"DICTIONARY!M2518","v":"Doll"},{"$f":"DICTIONARY!O2518","v":"गुडिया"},"गुडिया",{"$f":"DICTIONARY!P2520","v":"HOUSE HOLD ARTICLES ( गृह - सामग्री )"},"गुडिया","गुडिया"]
[null,null,null,null,null,null,null,null,null,{"$f":"IF(K2495=\" \",\" \",ROWS($K$5:K2495))","v":2491},{"$f":"DICTIONARY!M2519","v":"Cradle"},{"$f":"DICTIONARY!O2519","v":"झुला"},"झुला",{"$f":"DICTIONARY!P2521","v":"HOUSE HOLD ARTICLES ( गृह - सामग्री )"},"झुला","झुला"]
[null,null,null,null,null,null,null,null,null,{"$f":"IF(K2496=\" \",\" \",ROWS($K$5:K2496))","v":2492},{"$f":"DICTIONARY!M2520","v":"China-Ware"},{"$f":"DICTIONARY!O2520","v":"चीनी मिटटी के बर्तन"},"चीनी मिटटी के बर्तन",{"$f":"DICTIONARY!P2522","v":"HOUSE HOLD ARTICLES ( गृह - सामग्री )"},"चीनी मिटटी के बर्तन","चीनी मिटटी के बर्तन"]
[null,null,null,null,null,null,null,null,null,{"$f":"IF(K2497=\" \",\" \",ROWS($K$5:K2497))","v":2493},{"$f":"DICTIONARY!M2521","v":"Handkerchief"},{"$f":"DICTIONARY!O2521","v":"रुमाल"},"रुमाल",{"$f":"DICTIONARY!P2523","v":"HOUSE HOLD ARTICLES ( गृह - सामग्री )"},"रुमाल","रुमाल"]
[null,null,null,null,null,null,null,null,null,{"$f":"IF(K2498=\" \",\" \",ROWS($K$5:K2498))","v":2494},{"$f":"DICTIONARY!M2522","v":"Toy"},{"$f":"DICTIONARY!O2522","v":"खिलौना"},"खिलौना",{"$f":"DICTIONARY!P2524","v":"HOUSE HOLD ARTICLES ( गृह - सामग्री )"},"खिलौना","खिलौना"]
[null,null,null,null,null,null,null,null,null,{"$f":"IF(K2499=\" \",\" \",ROWS($K$5:K2499))","v":2495},{"$f":"DICTIONARY!M2523","v":"Fan"},{"$f":"DICTIONARY!O2523","v":"पंखा"},"पंखा",{"$f":"DICTIONARY!P2525","v":"HOUSE HOLD ARTICLES ( गृह - सामग्री )"},"पंखा","पंखा"]
[null,null,null,null,null,null,null,null,null,{"$f":"IF(K2500=\" \",\" \",ROWS($K$5:K2500))","v":2496},{"$f":"DICTIONARY!M2524","v":"Mirror"},{"$f":"DICTIONARY!O2524","v":"आईना"},"आईना",{"$f":"DICTIONARY!P2526","v":"HOUSE HOLD ARTICLES ( गृह - सामग्री )"},"आईना","आईना"]
[null,null,null,null,null,null,null,null,null,{"$f":"IF(K2501=\" \",\" \",ROWS($K$5:K2501))","v":2497},{"$f":"DICTIONARY!M2525","v":"Axe"},{"$f":"DICTIONARY!O2525","v":"कुल्हाड़ी"},"कुल्हाड़ी",{"$f":"DICTIONARY!P2527","v":"HOUSE HOLD ARTICLES ( गृह - सामग्री )"},{"$f":"M2501","v":"कुल्हाड़ी"},{"$f":"L2501","v":"कुल्हाड़ी"}]
[null,null,null,null,null,null,null,null,null,{"$f":"IF(K2502=\" \",\" \",ROWS($K$5:K2502))","v":2498},{"$f":"DICTIONARY!M2526","v":"Tool"},{"$f":"DICTIONARY!O2526","v":"स्टूल"},{"$f":"L2502","v":"स्टूल"},"HOUSE HOLD ARTICLES ( गृह - सामग्री )","स्टूल","स्टूल"]
[null,null,null,null,null,null,null,null,null,{"$f":"IF(K2503=\" \",\" \",ROWS($K$5:K2503))","v":2499},{"$f":"DICTIONARY!M2527","v":"Comb"},{"$f":"DICTIONARY!O2527","v":"कंघा"},"कंघा","HOUSE HOLD ARTICLES ( गृह - सामग्री )","कंघा","कंघा"]
[null,null,null,null,null,null,null,null,null,{"$f":"IF(K2504=\" \",\" \",ROWS($K$5:K2504))","v":2500},{"$f":"DICTIONARY!M2528","v":"North-East"},{"$f":"DICTIONARY!O2528","v":"उत्तर-पूर्व, ईशान"},"उत्तर-पूर्व, ईशान",{"$f":"DICTIONARY!P2530","v":"DIRECTIONS ( दिशाएँ )"},"उत्तर-पूर्व, ईशान","उत्तर-पूर्व, ईशान"]
[null,null,null,null,null,null,null,null,null,{"$f":"IF(K2505=\" \",\" \",ROWS($K$5:K2505))","v":2501},{"$f":"DICTIONARY!M2529","v":"South-East"},{"$f":"DICTIONARY!O2529","v":"दक्षिण-पूर्व , आग्नेय"},"दक्षिण-पूर्व , आग्नेय",{"$f":"DICTIONARY!P2531","v":"DIRECTIONS ( दिशाएँ )"},"दक्षिण-पूर्व , आग्नेय","दक्षिण-पूर्व , आग्नेय"]
[null,null,null,null,null,null,null,null,null,{"$f":"IF(K2506=\" \",\" \",ROWS($K$5:K2506))","v":2502},{"$f":"DICTIONARY!M2530","v":"North-West"},{"$f":"DICTIONARY!O2530","v":"उत्तर-पश्चिम , वायव्य"},"उत्तर-पश्चिम , वायव्य","DIRECTIONS ( दिशाएँ )","उत्तर-पश्चिम , वायव्य","उत्तर-पश्चिम , वायव्य"]
[null,null,null,null,null,null,null,null,null,{"$f":"IF(K2507=\" \",\" \",ROWS($K$5:K2507))","v":2503},{"$f":"DICTIONARY!M2531","v":"South-West"},{"$f":"DICTIONARY!O2531","v":"दक्षिण-पश्चिम , नेत्रेतव्य"},"दक्षिण-पश्चिम , नेत्रेतव्य","DIRECTIONS ( दिशाएँ )","दक्षिण-पश्चिम , नेत्रेतव्य","दक्षिण-पश्चिम , नेत्रेतव्य"]
[null,null,null,null,null,null,null,null,null,{"$f":"IF(K2508=\" \",\" \",ROWS($K$5:K2508))","v":2504},{"$f":"DICTIONARY!M2532","v":"Summer"},{"$f":"DICTIONARY!O2532","v":"गर्मी"},"गर्मी",{"$f":"DICTIONARY!P2534","v":"SEASONS ( र्ऋतुएँ )"},"गर्मी","गर्मी"]
[null,null,null,null,null,null,null,null,null,{"$f":"IF(K2509=\" \",\" \",ROWS($K$5:K2509))","v":2505},{"$f":"DICTIONARY!M2533","v":"Rainy"},{"$f":"DICTIONARY!O2533","v":"वर्षा"},"वर्षा",{"$f":"DICTIONARY!P2535","v":"SEASONS ( र्ऋतुएँ )"},"वर्षा","वर्षा"]
[null,null,null,null,null,null,null,null,null,{"$f":"IF(K2510=\" \",\" \",ROWS($K$5:K2510))","v":2506},{"$f":"DICTIONARY!M2534","v":"Winter"},{"$f":"DICTIONARY!O2534","v":"सर्दी"},"सर्दी",{"$f":"DICTIONARY!P2536","v":"SEASONS ( र्ऋतुएँ )"},"सर्दी","सर्दी"]
[null,null,null,null,null,null,null,null,null,{"$f":"IF(K2511=\" \",\" \",ROWS($K$5:K2511))","v":2507},{"$f":"DICTIONARY!M2535","v":"Autumn"},{"$f":"DICTIONARY!O2535","v":"शरद"},"शरद","SEASONS ( र्ऋतुएँ )","शरद","शरद"]
[null,null,null,null,null,null,null,null,null,{"$f":"IF(K2512=\" \",\" \",ROWS($K$5:K2512))","v":2508},{"$f":"DICTIONARY!M2536","v":"  Spring"},{"$f":"DICTIONARY!O2536","v":"वसंत"},"वसंत","SEASONS ( र्ऋतुएँ )","वसंत","वसंत"]
[null,null,null,null,null,null,null,null,null,{"$f":"IF(K2513=\" \",\" \",ROWS($K$5:K2513))","v":2509},{"$f":"DICTIONARY!M2537","v":"Dawn"},{"$f":"DICTIONARY!O2537","v":"उषाकाल"},"उषाकाल",{"$f":"DICTIONARY!P2539","v":"DIVISIONS OF TIME ( समय का विभाजन  )"},"उषाकाल","उषाकाल"]
[null,null,null,null,null,null,null,null,null,{"$f":"IF(K2514=\" \",\" \",ROWS($K$5:K2514))","v":2510},{"$f":"DICTIONARY!M2538","v":"Sunrise"},{"$f":"DICTIONARY!O2538","v":"सूर्योदय"},"सूर्योदय",{"$f":"DICTIONARY!P2540","v":"DIVISIONS OF TIME ( समय का विभाजन  )"},"सूर्योदय","सूर्योदय"]
[null,null,null,null,null,null,null,null,null,{"$f":"IF(K2515=\" \",\" \",ROWS($K$5:K2515))","v":2511},{"$f":"DICTIONARY!M2539","v":"Morning"},{"$f":"DICTIONARY!O2539","v":"सुबह"},"सुबह",{"$f":"DICTIONARY!P2541","v":"DIVISIONS OF TIME ( समय का विभाजन  )"},"सुबह","सुबह"]
[null,null,null,null,null,null,null,null,null,{"$f":"IF(K2516=\" \",\" \",ROWS($K$5:K2516))","v":2512},{"$f":"DICTIONARY!M2540","v":"Day"},{"$f":"DICTIONARY!O2540","v":"दिन"},"दिन",{"$f":"DICTIONARY!P2542","v":"DIVISIONS OF TIME ( समय का विभाजन  )"},"दिन","दिन"]
[null,null,null,null,null,null,null,null,null,{"$f":"IF(K2517=\" \",\" \",ROWS($K$5:K2517))","v":2513},{"$f":"DICTIONARY!M2541","v":"Forenoon"},{"$f":"DICTIONARY!O2541","v":"पूर्वान्ह"},"पूर्वान्ह",{"$f":"DICTIONARY!P2543","v":"DIVISIONS OF TIME ( समय का विभाजन  )"},"पूर्वान्ह","पूर्वान्ह"]
[null,null,null,null,null,null,null,null,null,{"$f":"IF(K2518=\" \",\" \",ROWS($K$5:K2518))","v":2514},{"$f":"DICTIONARY!M2542","v":"Noon"},{"$f":"DICTIONARY!O2542","v":"दोपहर"},"दोपहर",{"$f":"DICTIONARY!P2544","v":"DIVISIONS OF TIME ( समय का विभाजन  )"},"दोपहर","दोपहर"]
[null,null,null,null,null,null,null,null,null,{"$f":"IF(K2519=\" \",\" \",ROWS($K$5:K2519))","v":2515},{"$f":"DICTIONARY!M2543","v":"Mid-Day"},{"$f":"DICTIONARY!O2543","v":"अपराहन"},"अपराहन",{"$f":"DICTIONARY!P2545","v":"DIVISIONS OF TIME ( समय का विभाजन  )"},"अपराहन","अपराहन"]
[null,null,null,null,null,null,null,null,null,{"$f":"IF(K2520=\" \",\" \",ROWS($K$5:K2520))","v":2516},{"$f":"DICTIONARY!M2544","v":"Sunset"},{"$f":"DICTIONARY!O2544","v":"सूर्यास्त"},"सूर्यास्त",{"$f":"DICTIONARY!P2546","v":"DIVISIONS OF TIME ( समय का विभाजन  )"},"सूर्यास्त","सूर्यास्त"]
[null,null,null,null,null,null,null,null,null,{"$f":"IF(K2521=\" \",\" \",ROWS($K$5:K2521))","v":2517},{"$f":"DICTIONARY!M2545","v":"Dusk"},{"$f":"DICTIONARY!O2545","v":"गोधुली"},"गोधुली",{"$f":"DICTIONARY!P2547","v":"DIVISIONS OF TIME ( समय का विभाजन  )"},"गोधुली","गोधुली"]
[null,null,null,null,null,null,null,null,null,{"$f":"IF(K2522=\" \",\" \",ROWS($K$5:K2522))","v":2518},{"$f":"DICTIONARY!M2546","v":"Twilight"},{"$f":"DICTIONARY!O2546","v":"गोधुली"},"गोधुली",{"$f":"DICTIONARY!P2548","v":"DIVISIONS OF TIME ( समय का विभाजन  )"},"गोधुली","गोधुली"]
[null,null,null,null,null,null,null,null,null,{"$f":"IF(K2523=\" \",\" \",ROWS($K$5:K2523))","v":2519},{"$f":"DICTIONARY!M2547","v":"Day Before Yesterday"},{"$f":"DICTIONARY!O2547","v":"परसों बिता हुआ"},"परसों बिता हुआ",{"$f":"DICTIONARY!P2549","v":"DIVISIONS OF TIME ( समय का विभाजन  )"},"परसों बिता हुआ","परसों बिता हुआ"]
[null,null,null,null,null,null,null,null,null,{"$f":"IF(K2524=\" \",\" \",ROWS($K$5:K2524))","v":2520},{"$f":"DICTIONARY!M2548","v":"Yesterday"},{"$f":"DICTIONARY!O2548","v":"कल बिता हुआ"},"कल बिता हुआ",{"$f":"DICTIONARY!P2550","v":"DIVISIONS OF TIME ( समय का विभाजन  )"},"कल बिता हुआ","कल बिता हुआ"]
[null,null,null,null,null,null,null,null,null,{"$f":"IF(K2525=\" \",\" \",ROWS($K$5:K2525))","v":2521},{"$f":"DICTIONARY!M2549","v":"Day After Tomorrow"},{"$f":"DICTIONARY!O2549","v":"परसों आनेवाला"},"परसों आनेवाला",{"$f":"DICTIONARY!P2551","v":"DIVISIONS OF TIME ( समय का विभाजन  )"},"परसों आनेवाला","परसों आनेवाला"]
[null,null,null,null,null,null,null,null,null,{"$f":"IF(K2526=\" \",\" \",ROWS($K$5:K2526))","v":2522},{"$f":"DICTIONARY!M2550","v":"Moment"},{"$f":"DICTIONARY!O2550","v":"क्षण"},"क्षण",{"$f":"DICTIONARY!P2552","v":"DIVISIONS OF TIME ( समय का विभाजन  )"},"क्षण","क्षण"]
[null,null,null,null,null,null,null,null,null,{"$f":"IF(K2527=\" \",\" \",ROWS($K$5:K2527))","v":2523},{"$f":"DICTIONARY!M2551","v":"Second"},{"$f":"DICTIONARY!O2551","v":"सेकेण्ड"},"सेकेण्ड",{"$f":"DICTIONARY!P2553","v":"DIVISIONS OF TIME ( समय का विभाजन  )"},"सेकेण्ड","सेकेण्ड"]
[null,null,null,null,null,null,null,null,null,{"$f":"IF(K2528=\" \",\" \",ROWS($K$5:K2528))","v":2524},{"$f":"DICTIONARY!M2552","v":"Minute"},{"$f":"DICTIONARY!O2552","v":"मिनट"},"मिनट",{"$f":"DICTIONARY!P2554","v":"DIVISIONS OF TIME ( समय का विभाजन  )"},"मिनट","मिनट"]
[null,null,null,null,null,null,null,null,null,{"$f":"IF(K2529=\" \",\" \",ROWS($K$5:K2529))","v":2525},{"$f":"DICTIONARY!M2553","v":"Hour"},{"$f":"DICTIONARY!O2553","v":"घंटा"},"घंटा",{"$f":"DICTIONARY!P2555","v":"DIVISIONS OF TIME ( समय का विभाजन  )"},"घंटा","घंटा"]
[null,null,null,null,null,null,null,null,null,{"$f":"IF(K2530=\" \",\" \",ROWS($K$5:K2530))","v":2526},{"$f":"DICTIONARY!M2554","v":"Week"},{"$f":"DICTIONARY!O2554","v":"सप्ताह"},"सप्ताह",{"$f":"DICTIONARY!P2556","v":"DIVISIONS OF TIME ( समय का विभाजन  )"},"सप्ताह","सप्ताह"]
[null,null,null,null,null,null,null,null,null,{"$f":"IF(K2531=\" \",\" \",ROWS($K$5:K2531))","v":2527},{"$f":"DICTIONARY!M2555","v":"Month"},{"$f":"DICTIONARY!O2555","v":"माह"},"माह",{"$f":"DICTIONARY!P2557","v":"DIVISIONS OF TIME ( समय का विभाजन  )"},"माह","माह"]
[null,null,null,null,null,null,null,null,null,{"$f":"IF(K2532=\" \",\" \",ROWS($K$5:K2532))","v":2528},{"$f":"DICTIONARY!M2556","v":"Year"},{"$f":"DICTIONARY!O2556","v":"वर्षा"},"वर्षा",{"$f":"DICTIONARY!P2558","v":"DIVISIONS OF TIME ( समय का विभाजन  )"},"वर्षा","वर्षा"]
[null,null,null,null,null,null,null,null,null,{"$f":"IF(K2533=\" \",\" \",ROWS($K$5:K2533))","v":2529},{"$f":"DICTIONARY!M2557","v":"Half-Yearly"},{"$f":"DICTIONARY!O2557","v":"अर्द्धवार्षिक"},"अर्द्धवार्षिक",{"$f":"DICTIONARY!P2559","v":"DIVISIONS OF TIME ( समय का विभाजन  )"},"अर्द्धवार्षिक","अर्द्धवार्षिक"]
[null,null,null,null,null,null,null,null,null,{"$f":"IF(K2534=\" \",\" \",ROWS($K$5:K2534))","v":2530},{"$f":"DICTIONARY!M2558","v":"Evening"},{"$f":"DICTIONARY!O2558","v":"शाम"},"शाम",{"$f":"DICTIONARY!P2560","v":"DIVISIONS OF TIME ( समय का विभाजन  )"},"शाम","शाम"]
[null,null,null,null,null,null,null,null,null,{"$f":"IF(K2535=\" \",\" \",ROWS($K$5:K2535))","v":2531},{"$f":"DICTIONARY!M2559","v":"Night"},{"$f":"DICTIONARY!O2559","v":"रात"},"रात",{"$f":"DICTIONARY!P2561","v":"DIVISIONS OF TIME ( समय का विभाजन  )"},"रात","रात"]
[null,null,null,null,null,null,null,null,null,{"$f":"IF(K2536=\" \",\" \",ROWS($K$5:K2536))","v":2532},{"$f":"DICTIONARY!M2560","v":"Mid-Night"},{"$f":"DICTIONARY!O2560","v":"मध्यरात्रि"},"मध्यरात्रि",{"$f":"DICTIONARY!P2562","v":"DIVISIONS OF TIME ( समय का विभाजन  )"},"मध्यरात्रि","मध्यरात्रि"]
[null,null,null,null,null,null,null,null,null,{"$f":"IF(K2537=\" \",\" \",ROWS($K$5:K2537))","v":2533},{"$f":"DICTIONARY!M2561","v":"Today"},{"$f":"DICTIONARY!O2561","v":"आज"},"आज",{"$f":"DICTIONARY!P2563","v":"DIVISIONS OF TIME ( समय का विभाजन  )"},"आज","आज"]
[null,null,null,null,null,null,null,null,null,{"$f":"IF(K2538=\" \",\" \",ROWS($K$5:K2538))","v":2534},{"$f":"DICTIONARY!M2562","v":"Tomorrow"},{"$f":"DICTIONARY!O2562","v":"कल आनेवाला"},"कल आनेवाला",{"$f":"DICTIONARY!P2564","v":"DIVISIONS OF TIME ( समय का विभाजन  )"},"कल आनेवाला","कल आनेवाला"]
[null,null,null,null,null,null,null,null,null,{"$f":"IF(K2539=\" \",\" \",ROWS($K$5:K2539))","v":2535},{"$f":"DICTIONARY!M2563","v":"Tonight"},{"$f":"DICTIONARY!O2563","v":"आजरात"},"आजरात",{"$f":"DICTIONARY!P2565","v":"DIVISIONS OF TIME ( समय का विभाजन  )"},"आजरात","आजरात"]
[null,null,null,null,null,null,null,null,null,{"$f":"IF(K2540=\" \",\" \",ROWS($K$5:K2540))","v":2536},{"$f":"DICTIONARY!M2564","v":"Last Night"},{"$f":"DICTIONARY!O2564","v":"पिछली रत"},"पिछली रत",{"$f":"DICTIONARY!P2566","v":"DIVISIONS OF TIME ( समय का विभाजन  )"},"पिछली रत","पिछली रत"]
[null,null,null,null,null,null,null,null,null,{"$f":"IF(K2541=\" \",\" \",ROWS($K$5:K2541))","v":2537},{"$f":"DICTIONARY!M2565","v":"Age"},{"$f":"DICTIONARY!O2565","v":"युग"},"युग",{"$f":"DICTIONARY!P2567","v":"DIVISIONS OF TIME ( समय का विभाजन  )"},"युग","युग"]
[null,null,null,null,null,null,null,null,null,{"$f":"IF(K2542=\" \",\" \",ROWS($K$5:K2542))","v":2538},{"$f":"DICTIONARY!M2566","v":"Century"},{"$f":"DICTIONARY!O2566","v":"शताब्दी"},"शताब्दी",{"$f":"DICTIONARY!P2568","v":"DIVISIONS OF TIME ( समय का विभाजन  )"},"शताब्दी","शताब्दी"]
[null,null,null,null,null,null,null,null,null,{"$f":"IF(K2543=\" \",\" \",ROWS($K$5:K2543))","v":2539},{"$f":"DICTIONARY!M2567","v":"Era"},{"$f":"DICTIONARY!O2567","v":"युग,संवत"},"युग,संवत",{"$f":"DICTIONARY!P2569","v":"DIVISIONS OF TIME ( समय का विभाजन  )"},"युग,संवत","युग,संवत"]
[null,null,null,null,null,null,null,null,null,{"$f":"IF(K2544=\" \",\" \",ROWS($K$5:K2544))","v":2540},{"$f":"DICTIONARY!M2568","v":"Birthday"},{"$f":"DICTIONARY!O2568","v":"जन्मदिन"},"जन्मदिन",{"$f":"DICTIONARY!P2570","v":"DIVISIONS OF TIME ( समय का विभाजन  )"},"जन्मदिन","जन्मदिन"]
[null,null,null,null,null,null,null,null,null,{"$f":"IF(K2545=\" \",\" \",ROWS($K$5:K2545))","v":2541},{"$f":"DICTIONARY!M2569","v":"Anniversary"},{"$f":"DICTIONARY!O2569","v":"वार्षिकोत्सव"},"वार्षिकोत्सव",{"$f":"DICTIONARY!P2571","v":"DIVISIONS OF TIME ( समय का विभाजन  )"},"वार्षिकोत्सव","वार्षिकोत्सव"]
[null,null,null,null,null,null,null,null,null,{"$f":"IF(K2546=\" \",\" \",ROWS($K$5:K2546))","v":2542},{"$f":"DICTIONARY!M2570","v":"Centenary"},{"$f":"DICTIONARY!O2570","v":"शताब्दी"},"शताब्दी",{"$f":"DICTIONARY!P2572","v":"DIVISIONS OF TIME ( समय का विभाजन  )"},"शताब्दी","शताब्दी"]
[null,null,null,null,null,null,null,null,null,{"$f":"IF(K2547=\" \",\" \",ROWS($K$5:K2547))","v":2543},{"$f":"DICTIONARY!M2571","v":"Ultimo"},{"$f":"DICTIONARY!O2571","v":"गत माह"},"गत माह",{"$f":"DICTIONARY!P2573","v":"DIVISIONS OF TIME ( समय का विभाजन  )"},"गत माह","गत माह"]
[null,null,null,null,null,null,null,null,null,{"$f":"IF(K2548=\" \",\" \",ROWS($K$5:K2548))","v":2544},{"$f":"DICTIONARY!M2572","v":"Proximo"},{"$f":"DICTIONARY!O2572","v":"आगामी माह"},"आगामी माह",{"$f":"DICTIONARY!P2574","v":"DIVISIONS OF TIME ( समय का विभाजन  )"},"आगामी माह","आगामी माह"]
[null,null,null,null,null,null,null,null,null,{"$f":"IF(K2549=\" \",\" \",ROWS($K$5:K2549))","v":2545},{"$f":"DICTIONARY!M2573","v":"Next-Day"},{"$f":"DICTIONARY!O2573","v":"अगला दिन"},"अगला दिन",{"$f":"DICTIONARY!P2575","v":"DIVISIONS OF TIME ( समय का विभाजन  )"},"अगला दिन","अगला दिन"]
[null,null,null,null,null,null,null,null,null,{"$f":"IF(K2550=\" \",\" \",ROWS($K$5:K2550))","v":2546},{"$f":"DICTIONARY!M2574","v":"The Other Day"},{"$f":"DICTIONARY!O2574","v":"अन्य दिन"},"अन्य दिन",{"$f":"DICTIONARY!P2576","v":"DIVISIONS OF TIME ( समय का विभाजन  )"},"अन्य दिन","अन्य दिन"]
[null,null,null,null,null,null,null,null,null,{"$f":"IF(K2551=\" \",\" \",ROWS($K$5:K2551))","v":2547},{"$f":"DICTIONARY!M2575","v":" Up"},{"$f":"DICTIONARY!O2575","v":"उपर"},"उपर",{"$f":"DICTIONARY!P2577","v":"DIVISIONS OF TIME ( समय का विभाजन  )"},"उपर","उपर"]
[null,null,null,null,null,null,null,null,null,{"$f":"IF(K2552=\" \",\" \",ROWS($K$5:K2552))","v":2548},{"$f":"DICTIONARY!M2576","v":" Down"},{"$f":"DICTIONARY!O2576","v":"निचे"},"निचे",{"$f":"DICTIONARY!P2578","v":"DIVISIONS OF TIME ( समय का विभाजन  )"},"निचे","निचे"]
[null,null,null,null,null,null,null,null,null,{"$f":"IF(K2553=\" \",\" \",ROWS($K$5:K2553))","v":2549},{"$f":"DICTIONARY!M2577","v":" In"},{"$f":"DICTIONARY!O2577","v":"अंदर"},"अंदर",{"$f":"DICTIONARY!P2579","v":"DIVISIONS OF TIME ( समय का विभाजन  )"},"अंदर","अंदर"]
[null,null,null,null,null,null,null,null,null,{"$f":"IF(K2554=\" \",\" \",ROWS($K$5:K2554))","v":2550},{"$f":"DICTIONARY!M2578","v":"Side"},{"$f":"DICTIONARY!O2578","v":"बगल"},"बगल",{"$f":"DICTIONARY!P2580","v":"DIVISIONS OF TIME ( समय का विभाजन  )"},"बगल","बगल"]
[null,null,null,null,null,null,null,null,null,{"$f":"IF(K2555=\" \",\" \",ROWS($K$5:K2555))","v":2551},{"$f":"DICTIONARY!M2579","v":" Near"},{"$f":"DICTIONARY!O2579","v":"पास"},"पास",{"$f":"DICTIONARY!P2581","v":"DIVISIONS OF TIME ( समय का विभाजन  )"},"पास","पास"]
[null,null,null,null,null,null,null,null,null,{"$f":"IF(K2556=\" \",\" \",ROWS($K$5:K2556))","v":2552},{"$f":"DICTIONARY!M2580","v":" Far"},{"$f":"DICTIONARY!O2580","v":"दूर"},"दूर","DIVISIONS OF TIME ( समय का विभाजन  )","दूर","दूर"]
[null,null,null,null,null,null,null,null,null,{"$f":"IF(K2557=\" \",\" \",ROWS($K$5:K2557))","v":2553},{"$f":"DICTIONARY!M2581","v":" Out"},{"$f":"DICTIONARY!O2581","v":"बाहर"},"बाहर","DIVISIONS OF TIME ( समय का विभाजन  )","बाहर","बाहर"]
[null,null,null,null,null,null,null,null,null,{"$f":"IF(K2558=\" \",\" \",ROWS($K$5:K2558))","v":2554},{"$f":"DICTIONARY!M2582","v":"Home"},{"$f":"DICTIONARY!O2582","v":"घर"},"घर",{"$f":"DICTIONARY!P2584","v":"BUILDING AND THEIR PARTS ( इमारते एंव उनके भाग )"},"घर","घर"]
[null,null,null,null,null,null,null,null,null,{"$f":"IF(K2559=\" \",\" \",ROWS($K$5:K2559))","v":2555},{"$f":"DICTIONARY!M2583","v":"Hamlet"},{"$f":"DICTIONARY!O2583","v":"छोटा पुरवा"},"छोटा पुरवा",{"$f":"DICTIONARY!P2585","v":"BUILDING AND THEIR PARTS ( इमारते एंव उनके भाग )"},"छोटा पुरवा","छोटा पुरवा"]
[null,null,null,null,null,null,null,null,null,{"$f":"IF(K2560=\" \",\" \",ROWS($K$5:K2560))","v":2556},{"$f":"DICTIONARY!M2584","v":"Wall"},{"$f":"DICTIONARY!O2584","v":"दीवार"},"दीवार",{"$f":"DICTIONARY!P2586","v":"BUILDING AND THEIR PARTS ( इमारते एंव उनके भाग )"},"दीवार","दीवार"]
[null,null,null,null,null,null,null,null,null,{"$f":"IF(K2561=\" \",\" \",ROWS($K$5:K2561))","v":2557},{"$f":"DICTIONARY!M2585","v":"Hook"},{"$f":"DICTIONARY!O2585","v":"अगरी"},"अगरी",{"$f":"DICTIONARY!P2587","v":"BUILDING AND THEIR PARTS ( इमारते एंव उनके भाग )"},"अगरी","अगरी"]
[null,null,null,null,null,null,null,null,null,{"$f":"IF(K2562=\" \",\" \",ROWS($K$5:K2562))","v":2558},{"$f":"DICTIONARY!M2586","v":"Room"},{"$f":"DICTIONARY!O2586","v":"कमरा"},"कमरा",{"$f":"DICTIONARY!P2588","v":"BUILDING AND THEIR PARTS ( इमारते एंव उनके भाग )"},"कमरा","कमरा"]
[null,null,null,null,null,null,null,null,null,{"$f":"IF(K2563=\" \",\" \",ROWS($K$5:K2563))","v":2559},{"$f":"DICTIONARY!M2587","v":"Nail"},{"$f":"DICTIONARY!O2587","v":"कील"},"कील",{"$f":"DICTIONARY!P2589","v":"BUILDING AND THEIR PARTS ( इमारते एंव उनके भाग )"},"कील","कील"]
[null,null,null,null,null,null,null,null,null,{"$f":"IF(K2564=\" \",\" \",ROWS($K$5:K2564))","v":2560},{"$f":"DICTIONARY!M2588","v":"House"},{"$f":"DICTIONARY!O2588","v":"मकान"},"मकान",{"$f":"DICTIONARY!P2590","v":"BUILDING AND THEIR PARTS ( इमारते एंव उनके भाग )"},"मकान","मकान"]
[null,null,null,null,null,null,null,null,null,{"$f":"IF(K2565=\" \",\" \",ROWS($K$5:K2565))","v":2561},{"$f":"DICTIONARY!M2589","v":"Palace"},{"$f":"DICTIONARY!O2589","v":"महल"},"महल",{"$f":"DICTIONARY!P2591","v":"BUILDING AND THEIR PARTS ( इमारते एंव उनके भाग )"},{"$f":"M2565","v":"महल"},{"$f":"L2565","v":"महल"}]
[null,null,null,null,null,null,null,null,null,{"$f":"IF(K2566=\" \",\" \",ROWS($K$5:K2566))","v":2562},{"$f":"DICTIONARY!M2590","v":"Girder"},{"$f":"DICTIONARY!O2590","v":"शहतीर"},{"$f":"L2566","v":"शहतीर"},{"$f":"DICTIONARY!P2592","v":"BUILDING AND THEIR PARTS ( इमारते एंव उनके भाग )"},"शहतीर","शहतीर"]
[null,null,null,null,null,null,null,null,null,{"$f":"IF(K2567=\" \",\" \",ROWS($K$5:K2567))","v":2563},{"$f":"DICTIONARY!M2591","v":"Gutter"},{"$f":"DICTIONARY!O2591","v":"पनाला"},"पनाला",{"$f":"DICTIONARY!P2593","v":"BUILDING AND THEIR PARTS ( इमारते एंव उनके भाग )"},"पनाला","पनाला"]
[null,null,null,null,null,null,null,null,null,{"$f":"IF(K2568=\" \",\" \",ROWS($K$5:K2568))","v":2564},{"$f":"DICTIONARY!M2592","v":"Coal-Tar"},{"$f":"DICTIONARY!O2592","v":"अलकतरा"},"अलकतरा",{"$f":"DICTIONARY!P2594","v":"BUILDING AND THEIR PARTS ( इमारते एंव उनके भाग )"},"अलकतरा","अलकतरा"]
[null,null,null,null,null,null,null,null,null,{"$f":"IF(K2569=\" \",\" \",ROWS($K$5:K2569))","v":2565},{"$f":"DICTIONARY!M2593","v":"Foundation"},{"$f":"DICTIONARY!O2593","v":"नींव"},"नींव",{"$f":"DICTIONARY!P2595","v":"BUILDING AND THEIR PARTS ( इमारते एंव उनके भाग )"},"नींव","नींव"]
[null,null,null,null,null,null,null,null,null,{"$f":"IF(K2570=\" \",\" \",ROWS($K$5:K2570))","v":2566},{"$f":"DICTIONARY!M2594","v":"Fountain"},{"$f":"DICTIONARY!O2594","v":"फव्वारा"},"फव्वारा",{"$f":"DICTIONARY!P2596","v":"BUILDING AND THEIR PARTS ( इमारते एंव उनके भाग )"},"फव्वारा","फव्वारा"]
[null,null,null,null,null,null,null,null,null,{"$f":"IF(K2571=\" \",\" \",ROWS($K$5:K2571))","v":2567},{"$f":"DICTIONARY!M2595","v":"Peg"},{"$f":"DICTIONARY!O2595","v":"खूंटी"},"खूंटी",{"$f":"DICTIONARY!P2597","v":"BUILDING AND THEIR PARTS ( इमारते एंव उनके भाग )"},"खूंटी","खूंटी"]
[null,null,null,null,null,null,null,null,null,{"$f":"IF(K2572=\" \",\" \",ROWS($K$5:K2572))","v":2568},{"$f":"DICTIONARY!M2596","v":"Pipe"},{"$f":"DICTIONARY!O2596","v":"नल"},"नल",{"$f":"DICTIONARY!P2598","v":"BUILDING AND THEIR PARTS ( इमारते एंव उनके भाग )"},"नल","नल"]
[null,null,null,null,null,null,null,null,null,{"$f":"IF(K2573=\" \",\" \",ROWS($K$5:K2573))","v":2569},{"$f":"DICTIONARY!M2597","v":"Water Pipe"},{"$f":"DICTIONARY!O2597","v":"जलकल"},"जलकल",{"$f":"DICTIONARY!P2599","v":"BUILDING AND THEIR PARTS ( इमारते एंव उनके भाग )"},"जलकल","जलकल"]
[null,null,null,null,null,null,null,null,null,{"$f":"IF(K2574=\" \",\" \",ROWS($K$5:K2574))","v":2570},{"$f":"DICTIONARY!M2598","v":"Screw"},{"$f":"DICTIONARY!O2598","v":"पेच"},"पेच",{"$f":"DICTIONARY!P2600","v":"BUILDING AND THEIR PARTS ( इमारते एंव उनके भाग )"},"पेच","पेच"]
[null,null,null,null,null,null,null,null,null,{"$f":"IF(K2575=\" \",\" \",ROWS($K$5:K2575))","v":2571},{"$f":"DICTIONARY!M2599","v":"Storey"},{"$f":"DICTIONARY!O2599","v":"मंजिल"},"मंजिल",{"$f":"DICTIONARY!P2601","v":"BUILDING AND THEIR PARTS ( इमारते एंव उनके भाग )"},"मंजिल","मंजिल"]
[null,null,null,null,null,null,null,null,null,{"$f":"IF(K2576=\" \",\" \",ROWS($K$5:K2576))","v":2572},{"$f":"DICTIONARY!M2600","v":"Portico"},{"$f":"DICTIONARY!O2600","v":"बरसाती"},"बरसाती",{"$f":"DICTIONARY!P2602","v":"BUILDING AND THEIR PARTS ( इमारते एंव उनके भाग )"},"बरसाती","बरसाती"]
[null,null,null,null,null,null,null,null,null,{"$f":"IF(K2577=\" \",\" \",ROWS($K$5:K2577))","v":2573},{"$f":"DICTIONARY!M2601","v":"Mud"},{"$f":"DICTIONARY!O2601","v":"कीचड़"},"कीचड़",{"$f":"DICTIONARY!P2603","v":"BUILDING AND THEIR PARTS ( इमारते एंव उनके भाग )"},"कीचड़","कीचड़"]
[null,null,null,null,null,null,null,null,null,{"$f":"IF(K2578=\" \",\" \",ROWS($K$5:K2578))","v":2574},{"$f":"DICTIONARY!M2602","v":"Lime"},{"$f":"DICTIONARY!O2602","v":"चुना"},"चुना",{"$f":"DICTIONARY!P2604","v":"BUILDING AND THEIR PARTS ( इमारते एंव उनके भाग )"},"चुना","चुना"]
[null,null,null,null,null,null,null,null,null,{"$f":"IF(K2579=\" \",\" \",ROWS($K$5:K2579))","v":2575},{"$f":"DICTIONARY!M2603","v":"Hermitage"},{"$f":"DICTIONARY!O2603","v":"साधूकुटी"},"साधूकुटी",{"$f":"DICTIONARY!P2605","v":"BUILDING AND THEIR PARTS ( इमारते एंव उनके भाग )"},"साधूकुटी","साधूकुटी"]
[null,null,null,null,null,null,null,null,null,{"$f":"IF(K2580=\" \",\" \",ROWS($K$5:K2580))","v":2576},{"$f":"DICTIONARY!M2604","v":"Ladder"},{"$f":"DICTIONARY!O2604","v":"सीड़ी"},"सीड़ी",{"$f":"DICTIONARY!P2606","v":"BUILDING AND THEIR PARTS ( इमारते एंव उनके भाग )"},"सीड़ी","सीड़ी"]
[null,null,null,null,null,null,null,null,null,{"$f":"IF(K2581=\" \",\" \",ROWS($K$5:K2581))","v":2577},{"$f":"DICTIONARY!M2605","v":"  Sand"},{"$f":"DICTIONARY!O2605","v":"धुल"},"धुल",{"$f":"DICTIONARY!P2607","v":"BUILDING AND THEIR PARTS ( इमारते एंव उनके भाग )"},"धुल","धुल"]
[null,null,null,null,null,null,null,null,null,{"$f":"IF(K2582=\" \",\" \",ROWS($K$5:K2582))","v":2578},{"$f":"DICTIONARY!M2606","v":"Cement"},{"$f":"DICTIONARY!O2606","v":"सीमेंट"},"सीमेंट",{"$f":"DICTIONARY!P2608","v":"BUILDING AND THEIR PARTS ( इमारते एंव उनके भाग )"},"सीमेंट","सीमेंट"]
[null,null,null,null,null,null,null,null,null,{"$f":"IF(K2583=\" \",\" \",ROWS($K$5:K2583))","v":2579},{"$f":"DICTIONARY!M2607","v":"Rubbish"},{"$f":"DICTIONARY!O2607","v":"कूड़ा"},"कूड़ा",{"$f":"DICTIONARY!P2609","v":"BUILDING AND THEIR PARTS ( इमारते एंव उनके भाग )"},"कूड़ा","कूड़ा"]
[null,null,null,null,null,null,null,null,null,{"$f":"IF(K2584=\" \",\" \",ROWS($K$5:K2584))","v":2580},{"$f":"DICTIONARY!M2608","v":"Bed-Room"},{"$f":"DICTIONARY!O2608","v":"सोने का कमरा"},"सोने का कमरा",{"$f":"DICTIONARY!P2610","v":"BUILDING AND THEIR PARTS ( इमारते एंव उनके भाग )"},"सोने का कमरा","सोने का कमरा"]
[null,null,null,null,null,null,null,null,null,{"$f":"IF(K2585=\" \",\" \",ROWS($K$5:K2585))","v":2581},{"$f":"DICTIONARY!M2609","v":"Reading Room"},{"$f":"DICTIONARY!O2609","v":"पढने का कमरा"},"पढने का कमरा",{"$f":"DICTIONARY!P2611","v":"BUILDING AND THEIR PARTS ( इमारते एंव उनके भाग )"},"पढने का कमरा","पढने का कमरा"]
[null,null,null,null,null,null,null,null,null,{"$f":"IF(K2586=\" \",\" \",ROWS($K$5:K2586))","v":2582},{"$f":"DICTIONARY!M2610","v":"Dining Room"},{"$f":"DICTIONARY!O2610","v":"भोजन कक्ष"},"भोजन कक्ष",{"$f":"DICTIONARY!P2612","v":"BUILDING AND THEIR PARTS ( इमारते एंव उनके भाग )"},"भोजन कक्ष","भोजन कक्ष"]
[null,null,null,null,null,null,null,null,null,{"$f":"IF(K2587=\" \",\" \",ROWS($K$5:K2587))","v":2583},{"$f":"DICTIONARY!M2611","v":"Staircase"},{"$f":"DICTIONARY!O2611","v":"सीढी"},"सीढी",{"$f":"DICTIONARY!P2613","v":"BUILDING AND THEIR PARTS ( इमारते एंव उनके भाग )"},"सीढी","सीढी"]
[null,null,null,null,null,null,null,null,null,{"$f":"IF(K2588=\" \",\" \",ROWS($K$5:K2588))","v":2584},{"$f":"DICTIONARY!M2612","v":" Shutter"},{"$f":"DICTIONARY!O2612","v":"किवाड़"},"किवाड़",{"$f":"DICTIONARY!P2614","v":"BUILDING AND THEIR PARTS ( इमारते एंव उनके भाग )"},"किवाड़","किवाड़"]
[null,null,null,null,null,null,null,null,null,{"$f":"IF(K2589=\" \",\" \",ROWS($K$5:K2589))","v":2585},{"$f":"DICTIONARY!M2613","v":"Platform"},{"$f":"DICTIONARY!O2613","v":"चबूतरा"},"चबूतरा",{"$f":"DICTIONARY!P2615","v":"BUILDING AND THEIR PARTS ( इमारते एंव उनके भाग )"},"चबूतरा","चबूतरा"]
[null,null,null,null,null,null,null,null,null,{"$f":"IF(K2590=\" \",\" \",ROWS($K$5:K2590))","v":2586},{"$f":"DICTIONARY!M2614","v":"School"},{"$f":"DICTIONARY!O2614","v":"विद्यालय"},"विद्यालय",{"$f":"DICTIONARY!P2616","v":"BUILDING AND THEIR PARTS ( इमारते एंव उनके भाग )"},"विद्यालय","विद्यालय"]
[null,null,null,null,null,null,null,null,null,{"$f":"IF(K2591=\" \",\" \",ROWS($K$5:K2591))","v":2587},{"$f":"DICTIONARY!M2615","v":"Building"},{"$f":"DICTIONARY!O2615","v":"इमारत"},"इमारत",{"$f":"DICTIONARY!P2617","v":"BUILDING AND THEIR PARTS ( इमारते एंव उनके भाग )"},"इमारत","इमारत"]
[null,null,null,null,null,null,null,null,null,{"$f":"IF(K2592=\" \",\" \",ROWS($K$5:K2592))","v":2588},{"$f":"DICTIONARY!M2616","v":"Drawing Room"},{"$f":"DICTIONARY!O2616","v":"बैठक"},"बैठक",{"$f":"DICTIONARY!P2618","v":"BUILDING AND THEIR PARTS ( इमारते एंव उनके भाग )"},"बैठक","बैठक"]
[null,null,null,null,null,null,null,null,null,{"$f":"IF(K2593=\" \",\" \",ROWS($K$5:K2593))","v":2589},{"$f":"DICTIONARY!M2617","v":" Office"},{"$f":"DICTIONARY!O2617","v":"कार्यालय"},"कार्यालय",{"$f":"DICTIONARY!P2619","v":"BUILDING AND THEIR PARTS ( इमारते एंव उनके भाग )"},"कार्यालय","कार्यालय"]
[null,null,null,null,null,null,null,null,null,{"$f":"IF(K2594=\" \",\" \",ROWS($K$5:K2594))","v":2590},{"$f":"DICTIONARY!M2618","v":"Temple"},{"$f":"DICTIONARY!O2618","v":"मंदिर"},"मंदिर",{"$f":"DICTIONARY!P2620","v":"BUILDING AND THEIR PARTS ( इमारते एंव उनके भाग )"},"मंदिर","मंदिर"]
[null,null,null,null,null,null,null,null,null,{"$f":"IF(K2595=\" \",\" \",ROWS($K$5:K2595))","v":2591},{"$f":"DICTIONARY!M2619","v":"Mosque"},{"$f":"DICTIONARY!O2619","v":"मस्जिद"},"मस्जिद",{"$f":"DICTIONARY!P2621","v":"BUILDING AND THEIR PARTS ( इमारते एंव उनके भाग )"},"मस्जिद","मस्जिद"]
[null,null,null,null,null,null,null,null,null,{"$f":"IF(K2596=\" \",\" \",ROWS($K$5:K2596))","v":2592},{"$f":"DICTIONARY!M2620","v":"Minaret"},{"$f":"DICTIONARY!O2620","v":"मस्जिद की मीनार"},"मस्जिद की मीनार",{"$f":"DICTIONARY!P2622","v":"BUILDING AND THEIR PARTS ( इमारते एंव उनके भाग )"},"मस्जिद की मीनार","मस्जिद की मीनार"]
[null,null,null,null,null,null,null,null,null,{"$f":"IF(K2597=\" \",\" \",ROWS($K$5:K2597))","v":2593},{"$f":"DICTIONARY!M2621","v":"Church"},{"$f":"DICTIONARY!O2621","v":"गिरजाघर"},"गिरजाघर",{"$f":"DICTIONARY!P2623","v":"BUILDING AND THEIR PARTS ( इमारते एंव उनके भाग )"},"गिरजाघर","गिरजाघर"]
[null,null,null,null,null,null,null,null,null,{"$f":"IF(K2598=\" \",\" \",ROWS($K$5:K2598))","v":2594},{"$f":"DICTIONARY!M2622","v":"Vault"},{"$f":"DICTIONARY!O2622","v":"गुम्बद"},"गुम्बद",{"$f":"DICTIONARY!P2624","v":"BUILDING AND THEIR PARTS ( इमारते एंव उनके भाग )"},"गुम्बद","गुम्बद"]
[null,null,null,null,null,null,null,null,null,{"$f":"IF(K2599=\" \",\" \",ROWS($K$5:K2599))","v":2595},{"$f":"DICTIONARY!M2623","v":"Parlour"},{"$f":"DICTIONARY!O2623","v":"बैठक"},"बैठक",{"$f":"DICTIONARY!P2625","v":"BUILDING AND THEIR PARTS ( इमारते एंव उनके भाग )"},"बैठक","बैठक"]
[null,null,null,null,null,null,null,null,null,{"$f":"IF(K2600=\" \",\" \",ROWS($K$5:K2600))","v":2596},{"$f":"DICTIONARY!M2624","v":"Stable"},{"$f":"DICTIONARY!O2624","v":"अस्तबल"},"अस्तबल",{"$f":"DICTIONARY!P2626","v":"BUILDING AND THEIR PARTS ( इमारते एंव उनके भाग )"},"अस्तबल","अस्तबल"]
[null,null,null,null,null,null,null,null,null,{"$f":"IF(K2601=\" \",\" \",ROWS($K$5:K2601))","v":2597},{"$f":"DICTIONARY!M2625","v":"Cowshed"},{"$f":"DICTIONARY!O2625","v":"गोशाला"},"गोशाला",{"$f":"DICTIONARY!P2627","v":"BUILDING AND THEIR PARTS ( इमारते एंव उनके भाग )"},"गोशाला","गोशाला"]
[null,null,null,null,null,null,null,null,null,{"$f":"IF(K2602=\" \",\" \",ROWS($K$5:K2602))","v":2598},{"$f":"DICTIONARY!M2626","v":" Arch"},{"$f":"DICTIONARY!O2626","v":"मेहराब"},"मेहराब",{"$f":"DICTIONARY!P2628","v":"BUILDING AND THEIR PARTS ( इमारते एंव उनके भाग )"},"मेहराब","मेहराब"]
[null,null,null,null,null,null,null,null,null,{"$f":"IF(K2603=\" \",\" \",ROWS($K$5:K2603))","v":2599},{"$f":"DICTIONARY!M2627","v":"Step"},{"$f":"DICTIONARY!O2627","v":"सीढी का डंडा"},"सीढी का डंडा",{"$f":"DICTIONARY!P2629","v":"BUILDING AND THEIR PARTS ( इमारते एंव उनके भाग )"},"सीढी का डंडा","सीढी का डंडा"]
[null,null,null,null,null,null,null,null,null,{"$f":"IF(K2604=\" \",\" \",ROWS($K$5:K2604))","v":2600},{"$f":"DICTIONARY!M2628","v":"Tile"},{"$f":"DICTIONARY!O2628","v":"खपरैल"},"खपरैल",{"$f":"DICTIONARY!P2630","v":"BUILDING AND THEIR PARTS ( इमारते एंव उनके भाग )"},"खपरैल","खपरैल"]
[null,null,null,null,null,null,null,null,null,{"$f":"IF(K2605=\" \",\" \",ROWS($K$5:K2605))","v":2601},{"$f":"DICTIONARY!M2629","v":"Hut"},{"$f":"DICTIONARY!O2629","v":"झोपड़ी"},"झोपड़ी",{"$f":"DICTIONARY!P2631","v":"BUILDING AND THEIR PARTS ( इमारते एंव उनके भाग )"},"झोपड़ी","झोपड़ी"]
[null,null,null,null,null,null,null,null,null,{"$f":"IF(K2606=\" \",\" \",ROWS($K$5:K2606))","v":2602},{"$f":"DICTIONARY!M2630","v":"Paint"},{"$f":"DICTIONARY!O2630","v":"रँग"},"रँग",{"$f":"DICTIONARY!P2632","v":"BUILDING AND THEIR PARTS ( इमारते एंव उनके भाग )"},"रँग","रँग"]
[null,null,null,null,null,null,null,null,null,{"$f":"IF(K2607=\" \",\" \",ROWS($K$5:K2607))","v":2603},{"$f":"DICTIONARY!M2631","v":"Cottage"},{"$f":"DICTIONARY!O2631","v":"कोठी"},"कोठी",{"$f":"DICTIONARY!P2633","v":"BUILDING AND THEIR PARTS ( इमारते एंव उनके भाग )"},"कोठी","कोठी"]
[null,null,null,null,null,null,null,null,null,{"$f":"IF(K2608=\" \",\" \",ROWS($K$5:K2608))","v":2604},{"$f":"DICTIONARY!M2632","v":"Tiled Hut"},{"$f":"DICTIONARY!O2632","v":"खपरैल की झोंपड़ी"},"खपरैल की झोंपड़ी",{"$f":"DICTIONARY!P2634","v":"BUILDING AND THEIR PARTS ( इमारते एंव उनके भाग )"},"खपरैल की झोंपड़ी","खपरैल की झोंपड़ी"]
[null,null,null,null,null,null,null,null,null,{"$f":"IF(K2609=\" \",\" \",ROWS($K$5:K2609))","v":2605},{"$f":"DICTIONARY!M2633","v":"Shop"},{"$f":"DICTIONARY!O2633","v":"दुकान"},"दुकान",{"$f":"DICTIONARY!P2635","v":"BUILDING AND THEIR PARTS ( इमारते एंव उनके भाग )"},"दुकान","दुकान"]
[null,null,null,null,null,null,null,null,null,{"$f":"IF(K2610=\" \",\" \",ROWS($K$5:K2610))","v":2606},{"$f":"DICTIONARY!M2634","v":"Store Room"},{"$f":"DICTIONARY!O2634","v":"भंडार"},"भंडार",{"$f":"DICTIONARY!P2636","v":"BUILDING AND THEIR PARTS ( इमारते एंव उनके भाग )"},"भंडार","भंडार"]
[null,null,null,null,null,null,null,null,null,{"$f":"IF(K2611=\" \",\" \",ROWS($K$5:K2611))","v":2607},{"$f":"DICTIONARY!M2635","v":" Urinal"},{"$f":"DICTIONARY!O2635","v":"पेशाब घर"},"पेशाब घर",{"$f":"DICTIONARY!P2637","v":"BUILDING AND THEIR PARTS ( इमारते एंव उनके भाग )"},"पेशाब घर","पेशाब घर"]
[null,null,null,null,null,null,null,null,null,{"$f":"IF(K2612=\" \",\" \",ROWS($K$5:K2612))","v":2608},{"$f":"DICTIONARY!M2636","v":" Godown"},{"$f":"DICTIONARY!O2636","v":"गोदाम"},"गोदाम",{"$f":"DICTIONARY!P2638","v":"BUILDING AND THEIR PARTS ( इमारते एंव उनके भाग )"},"गोदाम","गोदाम"]
[null,null,null,null,null,null,null,null,null,{"$f":"IF(K2613=\" \",\" \",ROWS($K$5:K2613))","v":2609},{"$f":"DICTIONARY!M2637","v":"Privy"},{"$f":"DICTIONARY!O2637","v":"पायदान"},"पायदान",{"$f":"DICTIONARY!P2639","v":"BUILDING AND THEIR PARTS ( इमारते एंव उनके भाग )"},"पायदान","पायदान"]
[null,null,null,null,null,null,null,null,null,{"$f":"IF(K2614=\" \",\" \",ROWS($K$5:K2614))","v":2610},{"$f":"DICTIONARY!M2638","v":"Latrine"},{"$f":"DICTIONARY!O2638","v":"शोचालय"},"शोचालय",{"$f":"DICTIONARY!P2640","v":"BUILDING AND THEIR PARTS ( इमारते एंव उनके भाग )"},"शोचालय","शोचालय"]
[null,null,null,null,null,null,null,null,null,{"$f":"IF(K2615=\" \",\" \",ROWS($K$5:K2615))","v":2611},{"$f":"DICTIONARY!M2639","v":" Dispensary"},{"$f":"DICTIONARY!O2639","v":"औषधालय"},"औषधालय",{"$f":"DICTIONARY!P2641","v":"BUILDING AND THEIR PARTS ( इमारते एंव उनके भाग )"},"औषधालय","औषधालय"]
[null,null,null,null,null,null,null,null,null,{"$f":"IF(K2616=\" \",\" \",ROWS($K$5:K2616))","v":2612},{"$f":"DICTIONARY!M2640","v":"Bolt"},{"$f":"DICTIONARY!O2640","v":"सिटकनी"},"सिटकनी",{"$f":"DICTIONARY!P2642","v":"BUILDING AND THEIR PARTS ( इमारते एंव उनके भाग )"},"सिटकनी","सिटकनी"]
[null,null,null,null,null,null,null,null,null,{"$f":"IF(K2617=\" \",\" \",ROWS($K$5:K2617))","v":2613},{"$f":"DICTIONARY!M2641","v":" Rafter"},{"$f":"DICTIONARY!O2641","v":"कड़ी"},"कड़ी",{"$f":"DICTIONARY!P2643","v":"BUILDING AND THEIR PARTS ( इमारते एंव उनके भाग )"},"कड़ी","कड़ी"]
[null,null,null,null,null,null,null,null,null,{"$f":"IF(K2618=\" \",\" \",ROWS($K$5:K2618))","v":2614},{"$f":"DICTIONARY!M2642","v":"Collage"},{"$f":"DICTIONARY!O2642","v":"महाविद्यालय"},"महाविद्यालय",{"$f":"DICTIONARY!P2644","v":"BUILDING AND THEIR PARTS ( इमारते एंव उनके भाग )"},"महाविद्यालय","महाविद्यालय"]
[null,null,null,null,null,null,null,null,null,{"$f":"IF(K2619=\" \",\" \",ROWS($K$5:K2619))","v":2615},{"$f":"DICTIONARY!M2643","v":"Window"},{"$f":"DICTIONARY!O2643","v":"खिड़की"},"खिड़की",{"$f":"DICTIONARY!P2645","v":"BUILDING AND THEIR PARTS ( इमारते एंव उनके भाग )"},"खिड़की","खिड़की"]
[null,null,null,null,null,null,null,null,null,{"$f":"IF(K2620=\" \",\" \",ROWS($K$5:K2620))","v":2616},{"$f":"DICTIONARY!M2644","v":"Workshop"},{"$f":"DICTIONARY!O2644","v":"कारखाना"},"कारखाना",{"$f":"DICTIONARY!P2646","v":"BUILDING AND THEIR PARTS ( इमारते एंव उनके भाग )"},"कारखाना","कारखाना"]
[null,null,null,null,null,null,null,null,null,{"$f":"IF(K2621=\" \",\" \",ROWS($K$5:K2621))","v":2617},{"$f":"DICTIONARY!M2645","v":"Library"},{"$f":"DICTIONARY!O2645","v":"पुश्ताकालय"},"पुश्ताकालय",{"$f":"DICTIONARY!P2647","v":"BUILDING AND THEIR PARTS ( इमारते एंव उनके भाग )"},"पुश्ताकालय","पुश्ताकालय"]
[null,null,null,null,null,null,null,null,null,{"$f":"IF(K2622=\" \",\" \",ROWS($K$5:K2622))","v":2618},{"$f":"DICTIONARY!M2646","v":"Hotel"},{"$f":"DICTIONARY!O2646","v":"होटल"},"होटल",{"$f":"DICTIONARY!P2648","v":"BUILDING AND THEIR PARTS ( इमारते एंव उनके भाग )"},"होटल","होटल"]
[null,null,null,null,null,null,null,null,null,{"$f":"IF(K2623=\" \",\" \",ROWS($K$5:K2623))","v":2619},{"$f":"DICTIONARY!M2647","v":"Pillar"},{"$f":"DICTIONARY!O2647","v":"खम्बा"},"खम्बा",{"$f":"DICTIONARY!P2649","v":"BUILDING AND THEIR PARTS ( इमारते एंव उनके भाग )"},"खम्बा","खम्बा"]
[null,null,null,null,null,null,null,null,null,{"$f":"IF(K2624=\" \",\" \",ROWS($K$5:K2624))","v":2620},{"$f":"DICTIONARY!M2648","v":"Courtyard"},{"$f":"DICTIONARY!O2648","v":"आगन"},"आगन",{"$f":"DICTIONARY!P2650","v":"BUILDING AND THEIR PARTS ( इमारते एंव उनके भाग )"},"आगन","आगन"]
[null,null,null,null,null,null,null,null,null,{"$f":"IF(K2625=\" \",\" \",ROWS($K$5:K2625))","v":2621},{"$f":"DICTIONARY!M2649","v":" Door"},{"$f":"DICTIONARY!O2649","v":"दरवाजा"},"दरवाजा",{"$f":"DICTIONARY!P2651","v":"BUILDING AND THEIR PARTS ( इमारते एंव उनके भाग )"},"दरवाजा","दरवाजा"]
[null,null,null,null,null,null,null,null,null,{"$f":"IF(K2626=\" \",\" \",ROWS($K$5:K2626))","v":2622},{"$f":"DICTIONARY!M2650","v":"Drain"},{"$f":"DICTIONARY!O2650","v":"नाली"},"नाली",{"$f":"DICTIONARY!P2652","v":"BUILDING AND THEIR PARTS ( इमारते एंव उनके भाग )"},"नाली","नाली"]
[null,null,null,null,null,null,null,null,null,{"$f":"IF(K2627=\" \",\" \",ROWS($K$5:K2627))","v":2623},{"$f":"DICTIONARY!M2651","v":" Plaster"},{"$f":"DICTIONARY!O2651","v":"पलस्टर"},"पलस्टर",{"$f":"DICTIONARY!P2653","v":"BUILDING AND THEIR PARTS ( इमारते एंव उनके भाग )"},"पलस्टर","पलस्टर"]
[null,null,null,null,null,null,null,null,null,{"$f":"IF(K2628=\" \",\" \",ROWS($K$5:K2628))","v":2624},{"$f":"DICTIONARY!M2652","v":"Door"},{"$f":"DICTIONARY!O2652","v":"दरवाजा"},"दरवाजा",{"$f":"DICTIONARY!P2654","v":"BUILDING AND THEIR PARTS ( इमारते एंव उनके भाग )"},"दरवाजा","दरवाजा"]
[null,null,null,null,null,null,null,null,null,{"$f":"IF(K2629=\" \",\" \",ROWS($K$5:K2629))","v":2625},{"$f":"DICTIONARY!M2653","v":"Door-Sill"},{"$f":"DICTIONARY!O2653","v":"दहलीज"},"दहलीज",{"$f":"DICTIONARY!P2655","v":"BUILDING AND THEIR PARTS ( इमारते एंव उनके भाग )"},{"$f":"M2629","v":"दहलीज"},{"$f":"L2629","v":"दहलीज"}]
[null,null,null,null,null,null,null,null,null,{"$f":"IF(K2630=\" \",\" \",ROWS($K$5:K2630))","v":2626},{"$f":"DICTIONARY!M2654","v":"Shutter"},{"$f":"DICTIONARY!O2654","v":"शटर"},{"$f":"L2630","v":"शटर"},{"$f":"DICTIONARY!P2656","v":"BUILDING AND THEIR PARTS ( इमारते एंव उनके भाग )"},"शटर","शटर"]
[null,null,null,null,null,null,null,null,null,{"$f":"IF(K2631=\" \",\" \",ROWS($K$5:K2631))","v":2627},{"$f":"DICTIONARY!M2655","v":"Beam"},{"$f":"DICTIONARY!O2655","v":"धारण"},"धारण",{"$f":"DICTIONARY!P2657","v":"BUILDING AND THEIR PARTS ( इमारते एंव उनके भाग )"},"धारण","धारण"]
[null,null,null,null,null,null,null,null,null,{"$f":"IF(K2632=\" \",\" \",ROWS($K$5:K2632))","v":2628},{"$f":"DICTIONARY!M2656","v":"Hospital"},{"$f":"DICTIONARY!O2656","v":"अस्पताल"},"अस्पताल",{"$f":"DICTIONARY!P2658","v":"BUILDING AND THEIR PARTS ( इमारते एंव उनके भाग )"},"अस्पताल","अस्पताल"]
[null,null,null,null,null,null,null,null,null,{"$f":"IF(K2633=\" \",\" \",ROWS($K$5:K2633))","v":2629},{"$f":"DICTIONARY!M2657","v":"Lattice"},{"$f":"DICTIONARY!O2657","v":"पत्थर की झाली"},"पत्थर की झाली",{"$f":"DICTIONARY!P2659","v":"BUILDING AND THEIR PARTS ( इमारते एंव उनके भाग )"},"पत्थर की झाली","पत्थर की झाली"]
[null,null,null,null,null,null,null,null,null,{"$f":"IF(K2634=\" \",\" \",ROWS($K$5:K2634))","v":2630},{"$f":"DICTIONARY!M2658","v":"Post"},{"$f":"DICTIONARY!O2658","v":"खूंटी"},"खूंटी",{"$f":"DICTIONARY!P2660","v":"BUILDING AND THEIR PARTS ( इमारते एंव उनके भाग )"},"खूंटी","खूंटी"]
[null,null,null,null,null,null,null,null,null,{"$f":"IF(K2635=\" \",\" \",ROWS($K$5:K2635))","v":2631},{"$f":"DICTIONARY!M2659","v":"Inn"},{"$f":"DICTIONARY!O2659","v":"सराय"},"सराय",{"$f":"DICTIONARY!P2661","v":"BUILDING AND THEIR PARTS ( इमारते एंव उनके भाग )"},"सराय","सराय"]
[null,null,null,null,null,null,null,null,null,{"$f":"IF(K2636=\" \",\" \",ROWS($K$5:K2636))","v":2632},{"$f":"DICTIONARY!M2660","v":"Latch"},{"$f":"DICTIONARY!O2660","v":"सांकल"},"सांकल",{"$f":"DICTIONARY!P2662","v":"SCHOOL RELATIVE  ( विद्यालय सम्बन्धी  )"},"सांकल","सांकल"]
[null,null,null,null,null,null,null,null,null,{"$f":"IF(K2637=\" \",\" \",ROWS($K$5:K2637))","v":2633},{"$f":"DICTIONARY!M2661","v":"Urinal"},{"$f":"DICTIONARY!O2661","v":"पेशाबघर"},"पेशाबघर",{"$f":"DICTIONARY!P2663","v":"BUILDING AND THEIR PARTS ( इमारते एंव उनके भाग )"},"पेशाबघर","पेशाबघर"]
[null,null,null,null,null,null,null,null,null,{"$f":"IF(K2638=\" \",\" \",ROWS($K$5:K2638))","v":2634},{"$f":"DICTIONARY!M2662","v":"Solution"},{"$f":"DICTIONARY!O2662","v":"हल,समाधान"},"हल,समाधान",{"$f":"DICTIONARY!P2664","v":"BUILDING AND THEIR PARTS ( इमारते एंव उनके भाग )"},"हल,समाधान","हल,समाधान"]
[null,null,null,null,null,null,null,null,null,{"$f":"IF(K2639=\" \",\" \",ROWS($K$5:K2639))","v":2635},{"$f":"DICTIONARY!M2663","v":"First-Flore"},{"$f":"DICTIONARY!O2663","v":"एक्ताल्ला"},"एक्ताल्ला",{"$f":"DICTIONARY!P2665","v":"BUILDING AND THEIR PARTS ( इमारते एंव उनके भाग )"},"एक्ताल्ला","एक्ताल्ला"]
[null,null,null,null,null,null,null,null,null,{"$f":"IF(K2640=\" \",\" \",ROWS($K$5:K2640))","v":2636},{"$f":"DICTIONARY!M2664","v":"Roof"},{"$f":"DICTIONARY!O2664","v":"छत"},"छत",{"$f":"DICTIONARY!P2666","v":"BUILDING AND THEIR PARTS ( इमारते एंव उनके भाग )"},"छत","छत"]
[null,null,null,null,null,null,null,null,null,{"$f":"IF(K2641=\" \",\" \",ROWS($K$5:K2641))","v":2637},{"$f":"DICTIONARY!M2665","v":"Bar"},{"$f":"DICTIONARY!O2665","v":"लिहे की छड"},"लिहे की छड",{"$f":"DICTIONARY!P2667","v":"BUILDING AND THEIR PARTS ( इमारते एंव उनके भाग )"},"लिहे की छड","लिहे की छड"]
[null,null,null,null,null,null,null,null,null,{"$f":"IF(K2642=\" \",\" \",ROWS($K$5:K2642))","v":2638},{"$f":"DICTIONARY!M2666","v":"Floor"},{"$f":"DICTIONARY!O2666","v":"आगन"},"आगन",{"$f":"DICTIONARY!P2668","v":"BUILDING AND THEIR PARTS ( इमारते एंव उनके भाग )"},"आगन","आगन"]
[null,null,null,null,null,null,null,null,null,{"$f":"IF(K2643=\" \",\" \",ROWS($K$5:K2643))","v":2639},{"$f":"DICTIONARY!M2667","v":"White-Wash"},{"$f":"DICTIONARY!O2667","v":"सफ़ेदी"},"सफ़ेदी",{"$f":"DICTIONARY!P2669","v":"BUILDING AND THEIR PARTS ( इमारते एंव उनके भाग )"},"सफ़ेदी","सफ़ेदी"]
[null,null,null,null,null,null,null,null,null,{"$f":"IF(K2644=\" \",\" \",ROWS($K$5:K2644))","v":2640},{"$f":"DICTIONARY!M2668","v":"Celling"},{"$f":"DICTIONARY!O2668","v":"छत"},"छत",{"$f":"DICTIONARY!P2670","v":"BUILDING AND THEIR PARTS ( इमारते एंव उनके भाग )"},"छत","छत"]
[null,null,null,null,null,null,null,null,null,{"$f":"IF(K2645=\" \",\" \",ROWS($K$5:K2645))","v":2641},{"$f":"DICTIONARY!M2669","v":"Gravel"},{"$f":"DICTIONARY!O2669","v":"कांकड़"},"कांकड़",{"$f":"DICTIONARY!P2671","v":"BUILDING AND THEIR PARTS ( इमारते एंव उनके भाग )"},"कांकड़","कांकड़"]
[null,null,null,null,null,null,null,null,null,{"$f":"IF(K2646=\" \",\" \",ROWS($K$5:K2646))","v":2642},{"$f":"DICTIONARY!M2670","v":"Garden"},{"$f":"DICTIONARY!O2670","v":"बगीचा"},"बगीचा",{"$f":"DICTIONARY!P2672","v":"BUILDING AND THEIR PARTS ( इमारते एंव उनके भाग )"},"बगीचा","बगीचा"]
[null,null,null,null,null,null,null,null,null,{"$f":"IF(K2647=\" \",\" \",ROWS($K$5:K2647))","v":2643},{"$f":"DICTIONARY!M2671","v":"Brick"},{"$f":"DICTIONARY!O2671","v":"ईंट"},"ईंट",{"$f":"DICTIONARY!P2673","v":"BUILDING AND THEIR PARTS ( इमारते एंव उनके भाग )"},"ईंट","ईंट"]
[null,null,null,null,null,null,null,null,null,{"$f":"IF(K2648=\" \",\" \",ROWS($K$5:K2648))","v":2644},{"$f":"DICTIONARY!M2672","v":"Grating"},{"$f":"DICTIONARY!O2672","v":"जाली"},"जाली",{"$f":"DICTIONARY!P2674","v":"BUILDING AND THEIR PARTS ( इमारते एंव उनके भाग )"},"जाली","जाली"]
[null,null,null,null,null,null,null,null,null,{"$f":"IF(K2649=\" \",\" \",ROWS($K$5:K2649))","v":2645},{"$f":"DICTIONARY!M2673","v":"Ground-Floor"},{"$f":"DICTIONARY!O2673","v":"भूतल"},"भूतल",{"$f":"DICTIONARY!P2675","v":"BUILDING AND THEIR PARTS ( इमारते एंव उनके भाग )"},"भूतल","भूतल"]
[null,null,null,null,null,null,null,null,null,{"$f":"IF(K2650=\" \",\" \",ROWS($K$5:K2650))","v":2646},{"$f":"DICTIONARY!M2674","v":"Bathroom"},{"$f":"DICTIONARY!O2674","v":"स्नानघर"},"स्नानघर",{"$f":"DICTIONARY!P2676","v":"BUILDING AND THEIR PARTS ( इमारते एंव उनके भाग )"},"स्नानघर","स्नानघर"]
[null,null,null,null,null,null,null,null,null,{"$f":"IF(K2651=\" \",\" \",ROWS($K$5:K2651))","v":2647},{"$f":"DICTIONARY!M2675","v":"Gate"},{"$f":"DICTIONARY!O2675","v":"फाटक"},"फाटक",{"$f":"DICTIONARY!P2677","v":"BUILDING AND THEIR PARTS ( इमारते एंव उनके भाग )"},"फाटक","फाटक"]
[null,null,null,null,null,null,null,null,null,{"$f":"IF(K2652=\" \",\" \",ROWS($K$5:K2652))","v":2648},{"$f":"DICTIONARY!M2676","v":"Sash"},{"$f":"DICTIONARY!O2676","v":"सदसी"},"सदसी",{"$f":"DICTIONARY!P2678","v":"BUILDING AND THEIR PARTS ( इमारते एंव उनके भाग )"},"सदसी","सदसी"]
[null,null,null,null,null,null,null,null,null,{"$f":"IF(K2653=\" \",\" \",ROWS($K$5:K2653))","v":2649},{"$f":"DICTIONARY!M2677","v":"Rafter"},{"$f":"DICTIONARY!O2677","v":"घंनो"},"घंनो",{"$f":"DICTIONARY!P2679","v":"BUILDING AND THEIR PARTS ( इमारते एंव उनके भाग )"},"घंनो","घंनो"]
[null,null,null,null,null,null,null,null,null,{"$f":"IF(K2654=\" \",\" \",ROWS($K$5:K2654))","v":2650},{"$f":"DICTIONARY!M2678","v":"Niche"},{"$f":"DICTIONARY!O2678","v":"तास्त्र"},"तास्त्र",{"$f":"DICTIONARY!P2680","v":"BUILDING AND THEIR PARTS ( इमारते एंव उनके भाग )"},"तास्त्र","तास्त्र"]
[null,null,null,null,null,null,null,null,null,{"$f":"IF(K2655=\" \",\" \",ROWS($K$5:K2655))","v":2651},{"$f":"DICTIONARY!M2679","v":"Compound"},{"$f":"DICTIONARY!O2679","v":"आँगन"},"आँगन",{"$f":"DICTIONARY!P2681","v":"BUILDING AND THEIR PARTS ( इमारते एंव उनके भाग )"},"आँगन","आँगन"]
[null,null,null,null,null,null,null,null,null,{"$f":"IF(K2656=\" \",\" \",ROWS($K$5:K2656))","v":2652},{"$f":"DICTIONARY!M2680","v":"Arch"},{"$f":"DICTIONARY!O2680","v":"खिलन"},"खिलन",{"$f":"DICTIONARY!P2682","v":"BUILDING AND THEIR PARTS ( इमारते एंव उनके भाग )"},"खिलन","खिलन"]
[null,null,null,null,null,null,null,null,null,{"$f":"IF(K2657=\" \",\" \",ROWS($K$5:K2657))","v":2653},{"$f":"DICTIONARY!M2681","v":"Hinge"},{"$f":"DICTIONARY!O2681","v":"कब्ज़ा"},"कब्ज़ा",{"$f":"DICTIONARY!P2683","v":"BUILDING AND THEIR PARTS ( इमारते एंव उनके भाग )"},"कब्ज़ा","कब्ज़ा"]
[null,null,null,null,null,null,null,null,null,{"$f":"IF(K2658=\" \",\" \",ROWS($K$5:K2658))","v":2654},{"$f":"DICTIONARY!M2682","v":"Rail"},{"$f":"DICTIONARY!O2682","v":"छड"},"छड",{"$f":"DICTIONARY!P2684","v":"BUILDING AND THEIR PARTS ( इमारते एंव उनके भाग )"},"छड","छड"]
[null,null,null,null,null,null,null,null,null,{"$f":"IF(K2659=\" \",\" \",ROWS($K$5:K2659))","v":2655},{"$f":"DICTIONARY!M2683","v":"Treshhold"},{"$f":"DICTIONARY!O2683","v":"चौखट"},"चौखट","BUILDING AND THEIR PARTS ( इमारते एंव उनके भाग )","चौखट","चौखट"]
[null,null,null,null,null,null,null,null,null,{"$f":"IF(K2660=\" \",\" \",ROWS($K$5:K2660))","v":2656},{"$f":"DICTIONARY!M2684","v":"Shed"},{"$f":"DICTIONARY!O2684","v":"छप्पर"},"छप्पर","BUILDING AND THEIR PARTS ( इमारते एंव उनके भाग )","छप्पर","छप्पर"]
[null,null,null,null,null,null,null,null,null,{"$f":"IF(K2661=\" \",\" \",ROWS($K$5:K2661))","v":2657},{"$f":"DICTIONARY!M2685","v":"Puppy"},{"$f":"DICTIONARY!O2685","v":"कुत्ते का बच्चा ( पिल्ला )"},"कुत्ते का बच्चा ( पिल्ला )",{"$f":"DICTIONARY!P2687","v":"YOUNG ONES OF ANIMALS ( जानवरों के बच्चे )"},"कुत्ते का बच्चा ( पिल्ला )","कुत्ते का बच्चा ( पिल्ला )"]
[null,null,null,null,null,null,null,null,null,{"$f":"IF(K2662=\" \",\" \",ROWS($K$5:K2662))","v":2658},{"$f":"DICTIONARY!M2686","v":"Calf"},{"$f":"DICTIONARY!O2686","v":"बछड़ा"},"बछड़ा",{"$f":"DICTIONARY!P2688","v":"YOUNG ONES OF ANIMALS ( जानवरों के बच्चे )"},"बछड़ा","बछड़ा"]
[null,null,null,null,null,null,null,null,null,{"$f":"IF(K2663=\" \",\" \",ROWS($K$5:K2663))","v":2659},{"$f":"DICTIONARY!M2687","v":"Kid"},{"$f":"DICTIONARY!O2687","v":"बकरी का बच्चा"},"बकरी का बच्चा",{"$f":"DICTIONARY!P2689","v":"YOUNG ONES OF ANIMALS ( जानवरों के बच्चे )"},"बकरी का बच्चा","बकरी का बच्चा"]
[null,null,null,null,null,null,null,null,null,{"$f":"IF(K2664=\" \",\" \",ROWS($K$5:K2664))","v":2660},{"$f":"DICTIONARY!M2688","v":"Kitten"},{"$f":"DICTIONARY!O2688","v":"बिल्ली का बच्चा"},"बिल्ली का बच्चा",{"$f":"DICTIONARY!P2690","v":"YOUNG ONES OF ANIMALS ( जानवरों के बच्चे )"},"बिल्ली का बच्चा","बिल्ली का बच्चा"]
[null,null,null,null,null,null,null,null,null,{"$f":"IF(K2665=\" \",\" \",ROWS($K$5:K2665))","v":2661},{"$f":"DICTIONARY!M2689","v":"Fawn"},{"$f":"DICTIONARY!O2689","v":"हरिन-शावक ( मृगशावक )"},"हरिन-शावक ( मृगशावक )",{"$f":"DICTIONARY!P2691","v":"YOUNG ONES OF ANIMALS ( जानवरों के बच्चे )"},"हरिन-शावक ( मृगशावक )","हरिन-शावक ( मृगशावक )"]
[null,null,null,null,null,null,null,null,null,{"$f":"IF(K2666=\" \",\" \",ROWS($K$5:K2666))","v":2662},{"$f":"DICTIONARY!M2690","v":"Lamp"},{"$f":"DICTIONARY!O2690","v":"भेड़ का बच्चा"},"भेड़ का बच्चा",{"$f":"DICTIONARY!P2692","v":"YOUNG ONES OF ANIMALS ( जानवरों के बच्चे )"},"भेड़ का बच्चा","भेड़ का बच्चा"]
[null,null,null,null,null,null,null,null,null,{"$f":"IF(K2667=\" \",\" \",ROWS($K$5:K2667))","v":2663},{"$f":"DICTIONARY!M2691","v":"Gosling"},{"$f":"DICTIONARY!O2691","v":"राजहंस का बच्चा"},"राजहंस का बच्चा",{"$f":"DICTIONARY!P2693","v":"YOUNG ONES OF ANIMALS ( जानवरों के बच्चे )"},"राजहंस का बच्चा","राजहंस का बच्चा"]
[null,null,null,null,null,null,null,null,null,{"$f":"IF(K2668=\" \",\" \",ROWS($K$5:K2668))","v":2664},{"$f":"DICTIONARY!M2692","v":"Colt"},{"$f":"DICTIONARY!O2692","v":"घोड़े का बच्चा"},"घोड़े का बच्चा",{"$f":"DICTIONARY!P2694","v":"YOUNG ONES OF ANIMALS ( जानवरों के बच्चे )"},"घोड़े का बच्चा","घोड़े का बच्चा"]
[null,null,null,null,null,null,null,null,null,{"$f":"IF(K2669=\" \",\" \",ROWS($K$5:K2669))","v":2665},{"$f":"DICTIONARY!M2693","v":"Duckling"},{"$f":"DICTIONARY!O2693","v":"हंस का बच्चा"},"हंस का बच्चा",{"$f":"DICTIONARY!P2695","v":"YOUNG ONES OF ANIMALS ( जानवरों के बच्चे )"},"हंस का बच्चा","हंस का बच्चा"]
[null,null,null,null,null,null,null,null,null,{"$f":"IF(K2670=\" \",\" \",ROWS($K$5:K2670))","v":2666},{"$f":"DICTIONARY!M2694","v":"Chicken"},{"$f":"DICTIONARY!O2694","v":"मुर्गी का बच्चा"},"मुर्गी का बच्चा",{"$f":"DICTIONARY!P2696","v":"YOUNG ONES OF ANIMALS ( जानवरों के बच्चे )"},"मुर्गी का बच्चा","मुर्गी का बच्चा"]
[null,null,null,null,null,null,null,null,null,{"$f":"IF(K2671=\" \",\" \",ROWS($K$5:K2671))","v":2667},{"$f":"DICTIONARY!M2695","v":"Pig"},{"$f":"DICTIONARY!O2695","v":"सूअर का बच्चा"},"सूअर का बच्चा","YOUNG ONES OF ANIMALS ( जानवरों के बच्चे )","सूअर का बच्चा","सूअर का बच्चा"]
[null,null,null,null,null,null,null,null,null,{"$f":"IF(K2672=\" \",\" \",ROWS($K$5:K2672))","v":2668},{"$f":"DICTIONARY!M2696","v":"Cub"},{"$f":"DICTIONARY!O2696","v":"सिंह या बाघ का बच्चा"},"सिंह या बाघ का बच्चा","YOUNG ONES OF ANIMALS ( जानवरों के बच्चे )","सिंह या बाघ का बच्चा","सिंह या बाघ का बच्चा"]
[null,null,null,null,null,null,null,null,null,{"$f":"IF(K2673=\" \",\" \",ROWS($K$5:K2673))","v":2669},{"$f":"DICTIONARY!M2697","v":"Lowing"},{"$f":"DICTIONARY!O2697","v":"गाय की आवाज"},"गाय की आवाज",{"$f":"DICTIONARY!P2699","v":"CRIES OF ANIMALS ( पशु-पक्षियों की बोली )"},"गाय की आवाज","गाय की आवाज"]
[null,null,null,null,null,null,null,null,null,{"$f":"IF(K2674=\" \",\" \",ROWS($K$5:K2674))","v":2670},{"$f":"DICTIONARY!M2698","v":"Bellowing"},{"$f":"DICTIONARY!O2698","v":"डकारना,सांड की आवाज"},"डकारना,सांड की आवाज",{"$f":"DICTIONARY!P2700","v":"CRIES OF ANIMALS ( पशु-पक्षियों की बोली )"},"डकारना,सांड की आवाज","डकारना,सांड की आवाज"]
[null,null,null,null,null,null,null,null,null,{"$f":"IF(K2675=\" \",\" \",ROWS($K$5:K2675))","v":2671},{"$f":"DICTIONARY!M2699","v":"Mewing"},{"$f":"DICTIONARY!O2699","v":"बिल्ली की बोली"},"बिल्ली की बोली",{"$f":"DICTIONARY!P2701","v":"CRIES OF ANIMALS ( पशु-पक्षियों की बोली )"},"बिल्ली की बोली","बिल्ली की बोली"]
[null,null,null,null,null,null,null,null,null,{"$f":"IF(K2676=\" \",\" \",ROWS($K$5:K2676))","v":2672},{"$f":"DICTIONARY!M2700","v":"Braying"},{"$f":"DICTIONARY!O2700","v":"गधे का रेंकना"},"गधे का रेंकना",{"$f":"DICTIONARY!P2702","v":"CRIES OF ANIMALS ( पशु-पक्षियों की बोली )"},"गधे का रेंकना","गधे का रेंकना"]
[null,null,null,null,null,null,null,null,null,{"$f":"IF(K2677=\" \",\" \",ROWS($K$5:K2677))","v":2673},{"$f":"DICTIONARY!M2701","v":"Bleating"},{"$f":"DICTIONARY!O2701","v":"भेड़ का मिमियाना"},"भेड़ का मिमियाना",{"$f":"DICTIONARY!P2703","v":"CRIES OF ANIMALS ( पशु-पक्षियों की बोली )"},"भेड़ का मिमियाना","भेड़ का मिमियाना"]
[null,null,null,null,null,null,null,null,null,{"$f":"IF(K2678=\" \",\" \",ROWS($K$5:K2678))","v":2674},{"$f":"DICTIONARY!M2702","v":"Howling"},{"$f":"DICTIONARY!O2702","v":"सियार की बोली"},"सियार की बोली",{"$f":"DICTIONARY!P2704","v":"CRIES OF ANIMALS ( पशु-पक्षियों की बोली )"},"सियार की बोली","सियार की बोली"]
[null,null,null,null,null,null,null,null,null,{"$f":"IF(K2679=\" \",\" \",ROWS($K$5:K2679))","v":2675},{"$f":"DICTIONARY!M2703","v":"Barking"},{"$f":"DICTIONARY!O2703","v":"कुत्ते का भोंकना"},"कुत्ते का भोंकना",{"$f":"DICTIONARY!P2705","v":"CRIES OF ANIMALS ( पशु-पक्षियों की बोली )"},"कुत्ते का भोंकना","कुत्ते का भोंकना"]
[null,null,null,null,null,null,null,null,null,{"$f":"IF(K2680=\" \",\" \",ROWS($K$5:K2680))","v":2676},{"$f":"DICTIONARY!M2704","v":"Neighing"},{"$f":"DICTIONARY!O2704","v":"घोड़े का हिनहिनाना"},"घोड़े का हिनहिनाना",{"$f":"DICTIONARY!P2706","v":"CRIES OF ANIMALS ( पशु-पक्षियों की बोली )"},"घोड़े का हिनहिनाना","घोड़े का हिनहिनाना"]
[null,null,null,null,null,null,null,null,null,{"$f":"IF(K2681=\" \",\" \",ROWS($K$5:K2681))","v":2677},{"$f":"DICTIONARY!M2705","v":"Cawing"},{"$f":"DICTIONARY!O2705","v":"कौवे की आवाज,काँव-काँव"},"कौवे की आवाज,काँव-काँव",{"$f":"DICTIONARY!P2707","v":"CRIES OF ANIMALS ( पशु-पक्षियों की बोली )"},"कौवे की आवाज,काँव-काँव","कौवे की आवाज,काँव-काँव"]
[null,null,null,null,null,null,null,null,null,{"$f":"IF(K2682=\" \",\" \",ROWS($K$5:K2682))","v":2678},{"$f":"DICTIONARY!M2706","v":"Crowing"},{"$f":"DICTIONARY!O2706","v":"मुर्गे की बोली,बांग देना"},"मुर्गे की बोली,बांग देना",{"$f":"DICTIONARY!P2708","v":"CRIES OF ANIMALS ( पशु-पक्षियों की बोली )"},"मुर्गे की बोली,बांग देना","मुर्गे की बोली,बांग देना"]
[null,null,null,null,null,null,null,null,null,{"$f":"IF(K2683=\" \",\" \",ROWS($K$5:K2683))","v":2679},{"$f":"DICTIONARY!M2707","v":"Quacking"},{"$f":"DICTIONARY!O2707","v":"बत्तख की बोली"},"बत्तख की बोली",{"$f":"DICTIONARY!P2709","v":"CRIES OF ANIMALS ( पशु-पक्षियों की बोली )"},"बत्तख की बोली","बत्तख की बोली"]
[null,null,null,null,null,null,null,null,null,{"$f":"IF(K2684=\" \",\" \",ROWS($K$5:K2684))","v":2680},{"$f":"DICTIONARY!M2708","v":"Cooing"},{"$f":"DICTIONARY!O2708","v":"गुटरगू"},"गुटरगू",{"$f":"DICTIONARY!P2710","v":"CRIES OF ANIMALS ( पशु-पक्षियों की बोली )"},"गुटरगू","गुटरगू"]
[null,null,null,null,null,null,null,null,null,{"$f":"IF(K2685=\" \",\" \",ROWS($K$5:K2685))","v":2681},{"$f":"DICTIONARY!M2709","v":"Croacking"},{"$f":"DICTIONARY!O2709","v":"मेंढक का टर्राना"},"मेंढक का टर्राना",{"$f":"DICTIONARY!P2711","v":"CRIES OF ANIMALS ( पशु-पक्षियों की बोली )"},"मेंढक का टर्राना","मेंढक का टर्राना"]
[null,null,null,null,null,null,null,null,null,{"$f":"IF(K2686=\" \",\" \",ROWS($K$5:K2686))","v":2682},{"$f":"DICTIONARY!M2710","v":"Hissing"},{"$f":"DICTIONARY!O2710","v":"सांप की फुंफकार"},"सांप की फुंफकार",{"$f":"DICTIONARY!P2712","v":"CRIES OF ANIMALS ( पशु-पक्षियों की बोली )"},"सांप की फुंफकार","सांप की फुंफकार"]
[null,null,null,null,null,null,null,null,null,{"$f":"IF(K2687=\" \",\" \",ROWS($K$5:K2687))","v":2683},{"$f":"DICTIONARY!M2711","v":"Roaring"},{"$f":"DICTIONARY!O2711","v":"सिंह की दहाड़,मेघ तथा समुद्र का गर्जन"},"सिंह की दहाड़,मेघ तथा समुद्र का गर्जन",{"$f":"DICTIONARY!P2713","v":"CRIES OF ANIMALS ( पशु-पक्षियों की बोली )"},"सिंह की दहाड़,मेघ तथा समुद्र का गर्जन","सिंह की दहाड़,मेघ तथा समुद्र का गर्जन"]
[null,null,null,null,null,null,null,null,null,{"$f":"IF(K2688=\" \",\" \",ROWS($K$5:K2688))","v":2684},{"$f":"DICTIONARY!M2712","v":"Growling"},{"$f":"DICTIONARY!O2712","v":"बाघ,भालू का गर्जन "},"बाघ,भालू का गर्जन ",{"$f":"DICTIONARY!P2714","v":"CRIES OF ANIMALS ( पशु-पक्षियों की बोली )"},"बाघ,भालू का गर्जन ","बाघ,भालू का गर्जन "]
[null,null,null,null,null,null,null,null,null,{"$f":"IF(K2689=\" \",\" \",ROWS($K$5:K2689))","v":2685},{"$f":"DICTIONARY!M2713","v":"Hummimg"},{"$f":"DICTIONARY!O2713","v":"मक्खियों का भिनभिनाना"},"मक्खियों का भिनभिनाना","CRIES OF ANIMALS ( पशु-पक्षियों की बोली )","मक्खियों का भिनभिनाना","मक्खियों का भिनभिनाना"]
[null,null,null,null,null,null,null,null,null,{"$f":"IF(K2690=\" \",\" \",ROWS($K$5:K2690))","v":2686},{"$f":"DICTIONARY!M2714","v":"Cacking"},{"$f":"DICTIONARY!O2714","v":"राजहंस की बोली"},"राजहंस की बोली","CRIES OF ANIMALS ( पशु-पक्षियों की बोली )","राजहंस की बोली","राजहंस की बोली"]
[null,null,null,null,null,null,null,null,null,{"$f":"IF(K2691=\" \",\" \",ROWS($K$5:K2691))","v":2687},{"$f":"DICTIONARY!M2715","v":"Plantain"},{"$f":"DICTIONARY!O2715","v":"केला"},"केला",{"$f":"DICTIONARY!P2717","v":"FRUITS NAME ( फलो के नाम )"},"केला","केला"]
[null,null,null,null,null,null,null,null,null,{"$f":"IF(K2692=\" \",\" \",ROWS($K$5:K2692))","v":2688},{"$f":"DICTIONARY!M2716","v":"Lichi"},{"$f":"DICTIONARY!O2716","v":"लीची"},"लीची",{"$f":"DICTIONARY!P2718","v":"FRUITS NAME ( फलो के नाम )"},"लीची","लीची"]
[null,null,null,null,null,null,null,null,null,{"$f":"IF(K2693=\" \",\" \",ROWS($K$5:K2693))","v":2689},{"$f":"DICTIONARY!M2717","v":"Pistachio"},{"$f":"DICTIONARY!O2717","v":"पिस्ता"},"पिस्ता",{"$f":"DICTIONARY!P2719","v":"FRUITS NAME ( फलो के नाम )"},{"$f":"M2693","v":"पिस्ता"},{"$f":"L2693","v":"पिस्ता"}]
[null,null,null,null,null,null,null,null,null,{"$f":"IF(K2694=\" \",\" \",ROWS($K$5:K2694))","v":2690},{"$f":"DICTIONARY!M2718","v":"Green Cconut"},{"$f":"DICTIONARY!O2718","v":"कच्चा नारियल"},{"$f":"L2694","v":"कच्चा नारियल"},{"$f":"DICTIONARY!P2720","v":"FRUITS NAME ( फलो के नाम )"},"कच्चा नारियल","कच्चा नारियल"]
[null,null,null,null,null,null,null,null,null,{"$f":"IF(K2695=\" \",\" \",ROWS($K$5:K2695))","v":2691},{"$f":"DICTIONARY!M2719","v":"Plum"},{"$f":"DICTIONARY!O2719","v":"बेर"},"बेर",{"$f":"DICTIONARY!P2721","v":"FRUITS NAME ( फलो के नाम )"},"बेर","बेर"]
[null,null,null,null,null,null,null,null,null,{"$f":"IF(K2696=\" \",\" \",ROWS($K$5:K2696))","v":2692},{"$f":"DICTIONARY!M2720","v":"Blackberry"},{"$f":"DICTIONARY!O2720","v":"जामुन"},"जामुन",{"$f":"DICTIONARY!P2722","v":"FRUITS NAME ( फलो के नाम )"},"जामुन","जामुन"]
[null,null,null,null,null,null,null,null,null,{"$f":"IF(K2697=\" \",\" \",ROWS($K$5:K2697))","v":2693},{"$f":"DICTIONARY!M2721","v":"Date"},{"$f":"DICTIONARY!O2721","v":"खजूर"},"खजूर",{"$f":"DICTIONARY!P2723","v":"FRUITS NAME ( फलो के नाम )"},"खजूर","खजूर"]
[null,null,null,null,null,null,null,null,null,{"$f":"IF(K2698=\" \",\" \",ROWS($K$5:K2698))","v":2694},{"$f":"DICTIONARY!M2722","v":"Cucumber"},{"$f":"DICTIONARY!O2722","v":"खीरा"},"खीरा",{"$f":"DICTIONARY!P2724","v":"FRUITS NAME ( फलो के नाम )"},"खीरा","खीरा"]
[null,null,null,null,null,null,null,null,null,{"$f":"IF(K2699=\" \",\" \",ROWS($K$5:K2699))","v":2695},{"$f":"DICTIONARY!M2723","v":"Castard-Apple"},{"$f":"DICTIONARY!O2723","v":"शरीफा"},"शरीफा",{"$f":"DICTIONARY!P2725","v":"FRUITS NAME ( फलो के नाम )"},"शरीफा","शरीफा"]
[null,null,null,null,null,null,null,null,null,{"$f":"IF(K2700=\" \",\" \",ROWS($K$5:K2700))","v":2696},{"$f":"DICTIONARY!M2724","v":"Pomegranate "},{"$f":"DICTIONARY!O2724","v":"अनार"},"अनार",{"$f":"DICTIONARY!P2726","v":"FRUITS NAME ( फलो के नाम )"},"अनार","अनार"]
[null,null,null,null,null,null,null,null,null,{"$f":"IF(K2701=\" \",\" \",ROWS($K$5:K2701))","v":2697},{"$f":"DICTIONARY!M2725","v":"Almond"},{"$f":"DICTIONARY!O2725","v":"बादाम"},"बादाम",{"$f":"DICTIONARY!P2727","v":"FRUITS NAME ( फलो के नाम )"},"बादाम","बादाम"]
[null,null,null,null,null,null,null,null,null,{"$f":"IF(K2702=\" \",\" \",ROWS($K$5:K2702))","v":2698},{"$f":"DICTIONARY!M2726","v":"Guava"},{"$f":"DICTIONARY!O2726","v":"अमरुद"},"अमरुद",{"$f":"DICTIONARY!P2728","v":"FRUITS NAME ( फलो के नाम )"},"अमरुद","अमरुद"]
[null,null,null,null,null,null,null,null,null,{"$f":"IF(K2703=\" \",\" \",ROWS($K$5:K2703))","v":2699},{"$f":"DICTIONARY!M2727","v":"Olive"},{"$f":"DICTIONARY!O2727","v":"जैतून"},"जैतून",{"$f":"DICTIONARY!P2729","v":"FRUITS NAME ( फलो के नाम )"},"जैतून","जैतून"]
[null,null,null,null,null,null,null,null,null,{"$f":"IF(K2704=\" \",\" \",ROWS($K$5:K2704))","v":2700},{"$f":"DICTIONARY!M2728","v":"Tamarind"},{"$f":"DICTIONARY!O2728","v":"इमली"},"इमली",{"$f":"DICTIONARY!P2730","v":"FRUITS NAME ( फलो के नाम )"},"इमली","इमली"]
[null,null,null,null,null,null,null,null,null,{"$f":"IF(K2705=\" \",\" \",ROWS($K$5:K2705))","v":2701},{"$f":"DICTIONARY!M2729","v":"Raisin"},{"$f":"DICTIONARY!O2729","v":"किशमिश,मुनक्का"},"किशमिश,मुनक्का",{"$f":"DICTIONARY!P2731","v":"FRUITS NAME ( फलो के नाम )"},"किशमिश,मुनक्का","किशमिश,मुनक्का"]
[null,null,null,null,null,null,null,null,null,{"$f":"IF(K2706=\" \",\" \",ROWS($K$5:K2706))","v":2702},{"$f":"DICTIONARY!M2730","v":"Jackkfruit"},{"$f":"DICTIONARY!O2730","v":"कटहल"},"कटहल",{"$f":"DICTIONARY!P2732","v":"FRUITS NAME ( फलो के नाम )"},"कटहल","कटहल"]
[null,null,null,null,null,null,null,null,null,{"$f":"IF(K2707=\" \",\" \",ROWS($K$5:K2707))","v":2703},{"$f":"DICTIONARY!M2731","v":"Gooseberry"},{"$f":"DICTIONARY!O2731","v":"टिपारी"},"टिपारी",{"$f":"DICTIONARY!P2733","v":"FRUITS NAME ( फलो के नाम )"},"टिपारी","टिपारी"]
[null,null,null,null,null,null,null,null,null,{"$f":"IF(K2708=\" \",\" \",ROWS($K$5:K2708))","v":2704},{"$f":"DICTIONARY!M2732","v":"Stone-Apple"},{"$f":"DICTIONARY!O2732","v":"कैथबेल"},"कैथबेल",{"$f":"DICTIONARY!P2734","v":"FRUITS NAME ( फलो के नाम )"},"कैथबेल","कैथबेल"]
[null,null,null,null,null,null,null,null,null,{"$f":"IF(K2709=\" \",\" \",ROWS($K$5:K2709))","v":2705},{"$f":"DICTIONARY!M2733","v":"Groundnut"},{"$f":"DICTIONARY!O2733","v":"मूंगफली"},"मूंगफली",{"$f":"DICTIONARY!P2735","v":"FRUITS NAME ( फलो के नाम )"},"मूंगफली","मूंगफली"]
[null,null,null,null,null,null,null,null,null,{"$f":"IF(K2710=\" \",\" \",ROWS($K$5:K2710))","v":2706},{"$f":"DICTIONARY!M2734","v":"Watermelon"},{"$f":"DICTIONARY!O2734","v":"तरबूज"},"तरबूज",{"$f":"DICTIONARY!P2736","v":"FRUITS NAME ( फलो के नाम )"},"तरबूज","तरबूज"]
[null,null,null,null,null,null,null,null,null,{"$f":"IF(K2711=\" \",\" \",ROWS($K$5:K2711))","v":2707},{"$f":"DICTIONARY!M2735","v":"Melon"},{"$f":"DICTIONARY!O2735","v":"ककड़ी"},"ककड़ी",{"$f":"DICTIONARY!P2737","v":"FRUITS NAME ( फलो के नाम )"},"ककड़ी","ककड़ी"]
[null,null,null,null,null,null,null,null,null,{"$f":"IF(K2712=\" \",\" \",ROWS($K$5:K2712))","v":2708},{"$f":"DICTIONARY!M2736","v":"Hogplum"},{"$f":"DICTIONARY!O2736","v":"अमडा"},"अमडा",{"$f":"DICTIONARY!P2738","v":"FRUITS NAME ( फलो के नाम )"},"अमडा","अमडा"]
[null,null,null,null,null,null,null,null,null,{"$f":"IF(K2713=\" \",\" \",ROWS($K$5:K2713))","v":2709},{"$f":"DICTIONARY!M2737","v":"Roseberry"},{"$f":"DICTIONARY!O2737","v":"गुलाब जामुन"},"गुलाब जामुन",{"$f":"DICTIONARY!P2739","v":"FRUITS NAME ( फलो के नाम )"},"गुलाब जामुन","गुलाब जामुन"]
[null,null,null,null,null,null,null,null,null,{"$f":"IF(K2714=\" \",\" \",ROWS($K$5:K2714))","v":2710},{"$f":"DICTIONARY!M2738","v":"Muskmelon"},{"$f":"DICTIONARY!O2738","v":"खरबूजा"},"खरबूजा",{"$f":"DICTIONARY!P2740","v":"FRUITS NAME ( फलो के नाम )"},"खरबूजा","खरबूजा"]
[null,null,null,null,null,null,null,null,null,{"$f":"IF(K2715=\" \",\" \",ROWS($K$5:K2715))","v":2711},{"$f":"DICTIONARY!M2739","v":"Star-Apple"},{"$f":"DICTIONARY!O2739","v":"जमरूल"},"जमरूल","FRUITS NAME ( फलो के नाम )","जमरूल","जमरूल"]
[null,null,null,null,null,null,null,null,null,{"$f":"IF(K2716=\" \",\" \",ROWS($K$5:K2716))","v":2712},{"$f":"DICTIONARY!M2740","v":"Palmyra"},{"$f":"DICTIONARY!O2740","v":"ताड"},"ताड","FRUITS NAME ( फलो के नाम )","ताड","ताड"]
[null,null,null,null,null,null,null,null,null,{"$f":"IF(K2717=\" \",\" \",ROWS($K$5:K2717))","v":2713},{"$f":"DICTIONARY!M2741","v":"Tree"},{"$f":"DICTIONARY!O2741","v":"पेड़"},"पेड़",{"$f":"DICTIONARY!P2743","v":"TREES AND PLANTS ( पेड़,पौधे )"},"पेड़","पेड़"]
[null,null,null,null,null,null,null,null,null,{"$f":"IF(K2718=\" \",\" \",ROWS($K$5:K2718))","v":2714},{"$f":"DICTIONARY!M2742","v":"Plant"},{"$f":"DICTIONARY!O2742","v":"पौधे"},"पौधे",{"$f":"DICTIONARY!P2744","v":"TREES AND PLANTS ( पेड़,पौधे )"},"पौधे","पौधे"]
[null,null,null,null,null,null,null,null,null,{"$f":"IF(K2719=\" \",\" \",ROWS($K$5:K2719))","v":2715},{"$f":"DICTIONARY!M2743","v":"Sal-Tree"},{"$f":"DICTIONARY!O2743","v":"साल वृक्ष"},"साल वृक्ष",{"$f":"DICTIONARY!P2745","v":"TREES AND PLANTS ( पेड़,पौधे )"},"साल वृक्ष","साल वृक्ष"]
[null,null,null,null,null,null,null,null,null,{"$f":"IF(K2720=\" \",\" \",ROWS($K$5:K2720))","v":2716},{"$f":"DICTIONARY!M2744","v":"Teak-Tree"},{"$f":"DICTIONARY!O2744","v":"सागवान का पेड़"},"सागवान का पेड़",{"$f":"DICTIONARY!P2746","v":"TREES AND PLANTS ( पेड़,पौधे )"},"सागवान का पेड़","सागवान का पेड़"]
[null,null,null,null,null,null,null,null,null,{"$f":"IF(K2721=\" \",\" \",ROWS($K$5:K2721))","v":2717},{"$f":"DICTIONARY!M2745","v":"Bamboo"},{"$f":"DICTIONARY!O2745","v":"बांस"},"बांस",{"$f":"DICTIONARY!P2747","v":"TREES AND PLANTS ( पेड़,पौधे )"},"बांस","बांस"]
[null,null,null,null,null,null,null,null,null,{"$f":"IF(K2722=\" \",\" \",ROWS($K$5:K2722))","v":2718},{"$f":"DICTIONARY!M2746","v":"Jackfruit-Tree"},{"$f":"DICTIONARY!O2746","v":"कटहल का पेड़"},"कटहल का पेड़",{"$f":"DICTIONARY!P2748","v":"TREES AND PLANTS ( पेड़,पौधे )"},"कटहल का पेड़","कटहल का पेड़"]
[null,null,null,null,null,null,null,null,null,{"$f":"IF(K2723=\" \",\" \",ROWS($K$5:K2723))","v":2719},{"$f":"DICTIONARY!M2747","v":"Tamarind-Tree"},{"$f":"DICTIONARY!O2747","v":"इमली का पेड़"},"इमली का पेड़",{"$f":"DICTIONARY!P2749","v":"TREES AND PLANTS ( पेड़,पौधे )"},"इमली का पेड़","इमली का पेड़"]
[null,null,null,null,null,null,null,null,null,{"$f":"IF(K2724=\" \",\" \",ROWS($K$5:K2724))","v":2720},{"$f":"DICTIONARY!M2748","v":"Thorn"},{"$f":"DICTIONARY!O2748","v":"काँटा"},"काँटा",{"$f":"DICTIONARY!P2750","v":"TREES AND PLANTS ( पेड़,पौधे )"},"काँटा","काँटा"]
[null,null,null,null,null,null,null,null,null,{"$f":"IF(K2725=\" \",\" \",ROWS($K$5:K2725))","v":2721},{"$f":"DICTIONARY!M2749","v":"Weed"},{"$f":"DICTIONARY!O2749","v":"अन्वाछित पौधे"},"अन्वाछित पौधे",{"$f":"DICTIONARY!P2751","v":"TREES AND PLANTS ( पेड़,पौधे )"},"अन्वाछित पौधे","अन्वाछित पौधे"]
[null,null,null,null,null,null,null,null,null,{"$f":"IF(K2726=\" \",\" \",ROWS($K$5:K2726))","v":2722},{"$f":"DICTIONARY!M2750","v":"Coconut-Tree"},{"$f":"DICTIONARY!O2750","v":"नारियल का पेड़"},"नारियल का पेड़",{"$f":"DICTIONARY!P2752","v":"TREES AND PLANTS ( पेड़,पौधे )"},"नारियल का पेड़","नारियल का पेड़"]
[null,null,null,null,null,null,null,null,null,{"$f":"IF(K2727=\" \",\" \",ROWS($K$5:K2727))","v":2723},{"$f":"DICTIONARY!M2751","v":"Acacia-Tree"},{"$f":"DICTIONARY!O2751","v":"बाबुल का पेड़"},"बाबुल का पेड़",{"$f":"DICTIONARY!P2753","v":"TREES AND PLANTS ( पेड़,पौधे )"},"बाबुल का पेड़","बाबुल का पेड़"]
[null,null,null,null,null,null,null,null,null,{"$f":"IF(K2728=\" \",\" \",ROWS($K$5:K2728))","v":2724},{"$f":"DICTIONARY!M2752","v":"Palmyra-Tree"},{"$f":"DICTIONARY!O2752","v":"ताड-वृक्ष"},"ताड-वृक्ष",{"$f":"DICTIONARY!P2754","v":"TREES AND PLANTS ( पेड़,पौधे )"},"ताड-वृक्ष","ताड-वृक्ष"]
[null,null,null,null,null,null,null,null,null,{"$f":"IF(K2729=\" \",\" \",ROWS($K$5:K2729))","v":2725},{"$f":"DICTIONARY!M2753","v":"Date-Tree"},{"$f":"DICTIONARY!O2753","v":"खजूर-वृक्ष"},"खजूर-वृक्ष",{"$f":"DICTIONARY!P2755","v":"TREES AND PLANTS ( पेड़,पौधे )"},"खजूर-वृक्ष","खजूर-वृक्ष"]
[null,null,null,null,null,null,null,null,null,{"$f":"IF(K2730=\" \",\" \",ROWS($K$5:K2730))","v":2726},{"$f":"DICTIONARY!M2754","v":"Batelnut-Tree"},{"$f":"DICTIONARY!O2754","v":"सुपारी का पेड़"},"सुपारी का पेड़",{"$f":"DICTIONARY!P2756","v":"TREES AND PLANTS ( पेड़,पौधे )"},"सुपारी का पेड़","सुपारी का पेड़"]
[null,null,null,null,null,null,null,null,null,{"$f":"IF(K2731=\" \",\" \",ROWS($K$5:K2731))","v":2727},{"$f":"DICTIONARY!M2755","v":"Guava-Tree"},{"$f":"DICTIONARY!O2755","v":"अमरुद का पेड़"},"अमरुद का पेड़",{"$f":"DICTIONARY!P2757","v":"TREES AND PLANTS ( पेड़,पौधे )"},"अमरुद का पेड़","अमरुद का पेड़"]
[null,null,null,null,null,null,null,null,null,{"$f":"IF(K2732=\" \",\" \",ROWS($K$5:K2732))","v":2728},{"$f":"DICTIONARY!M2756","v":"Banian-Tree"},{"$f":"DICTIONARY!O2756","v":"वाट-वृक्ष"},"वाट-वृक्ष",{"$f":"DICTIONARY!P2758","v":"TREES AND PLANTS ( पेड़,पौधे )"},"वाट-वृक्ष","वाट-वृक्ष"]
[null,null,null,null,null,null,null,null,null,{"$f":"IF(K2733=\" \",\" \",ROWS($K$5:K2733))","v":2729},{"$f":"DICTIONARY!M2757","v":"Peepul-Tree"},{"$f":"DICTIONARY!O2757","v":"पीपल का पेड़"},"पीपल का पेड़",{"$f":"DICTIONARY!P2759","v":"TREES AND PLANTS ( पेड़,पौधे )"},"पीपल का पेड़","पीपल का पेड़"]
[null,null,null,null,null,null,null,null,null,{"$f":"IF(K2734=\" \",\" \",ROWS($K$5:K2734))","v":2730},{"$f":"DICTIONARY!M2758","v":"Hemp"},{"$f":"DICTIONARY!O2758","v":"गांजा,भांग"},"गांजा,भांग",{"$f":"DICTIONARY!P2760","v":"TREES AND PLANTS ( पेड़,पौधे )"},"गांजा,भांग","गांजा,भांग"]
[null,null,null,null,null,null,null,null,null,{"$f":"IF(K2735=\" \",\" \",ROWS($K$5:K2735))","v":2731},{"$f":"DICTIONARY!M2759","v":"Silk-Cotton Tree"},{"$f":"DICTIONARY!O2759","v":"सेमल का पेड़"},"सेमल का पेड़",{"$f":"DICTIONARY!P2761","v":"TREES AND PLANTS ( पेड़,पौधे )"},"सेमल का पेड़","सेमल का पेड़"]
[null,null,null,null,null,null,null,null,null,{"$f":"IF(K2736=\" \",\" \",ROWS($K$5:K2736))","v":2732},{"$f":"DICTIONARY!M2760","v":"Pine-Tree"},{"$f":"DICTIONARY!O2760","v":"देवदारु का पेड़"},"देवदारु का पेड़",{"$f":"DICTIONARY!P2762","v":"TREES AND PLANTS ( पेड़,पौधे )"},"देवदारु का पेड़","देवदारु का पेड़"]
[null,null,null,null,null,null,null,null,null,{"$f":"IF(K2737=\" \",\" \",ROWS($K$5:K2737))","v":2733},{"$f":"DICTIONARY!M2761","v":"Sandal-Tree"},{"$f":"DICTIONARY!O2761","v":"चन्दन का पेड़ "},"चन्दन का पेड़ ",{"$f":"DICTIONARY!P2763","v":"TREES AND PLANTS ( पेड़,पौधे )"},"चन्दन का पेड़ ","चन्दन का पेड़ "]
[null,null,null,null,null,null,null,null,null,{"$f":"IF(K2738=\" \",\" \",ROWS($K$5:K2738))","v":2734},{"$f":"DICTIONARY!M2762","v":"Fig-Tree"},{"$f":"DICTIONARY!O2762","v":"गुलर का पेड़,अंजीर का पेड़"},"गुलर का पेड़,अंजीर का पेड़",{"$f":"DICTIONARY!P2764","v":"TREES AND PLANTS ( पेड़,पौधे )"},"गुलर का पेड़,अंजीर का पेड़","गुलर का पेड़,अंजीर का पेड़"]
[null,null,null,null,null,null,null,null,null,{"$f":"IF(K2739=\" \",\" \",ROWS($K$5:K2739))","v":2735},{"$f":"DICTIONARY!M2763","v":"Leaf"},{"$f":"DICTIONARY!O2763","v":"पत्ता"},"पत्ता",{"$f":"DICTIONARY!P2765","v":"TREES AND PLANTS ( पेड़,पौधे )"},"पत्ता","पत्ता"]
[null,null,null,null,null,null,null,null,null,{"$f":"IF(K2740=\" \",\" \",ROWS($K$5:K2740))","v":2736},{"$f":"DICTIONARY!M2764","v":"Parasite"},{"$f":"DICTIONARY!O2764","v":"परजीवी लता"},"परजीवी लता",{"$f":"DICTIONARY!P2766","v":"TREES AND PLANTS ( पेड़,पौधे )"},"परजीवी लता","परजीवी लता"]
[null,null,null,null,null,null,null,null,null,{"$f":"IF(K2741=\" \",\" \",ROWS($K$5:K2741))","v":2737},{"$f":"DICTIONARY!M2765","v":"Tea-Plant"},{"$f":"DICTIONARY!O2765","v":"चाय का पौधा"},"चाय का पौधा",{"$f":"DICTIONARY!P2767","v":"TREES AND PLANTS ( पेड़,पौधे )"},"चाय का पौधा","चाय का पौधा"]
[null,null,null,null,null,null,null,null,null,{"$f":"IF(K2742=\" \",\" \",ROWS($K$5:K2742))","v":2738},{"$f":"DICTIONARY!M2766","v":"Flax-Plant"},{"$f":"DICTIONARY!O2766","v":"सनई का पौधा"},"सनई का पौधा",{"$f":"DICTIONARY!P2768","v":"TREES AND PLANTS ( पेड़,पौधे )"},"सनई का पौधा","सनई का पौधा"]
[null,null,null,null,null,null,null,null,null,{"$f":"IF(K2743=\" \",\" \",ROWS($K$5:K2743))","v":2739},{"$f":"DICTIONARY!M2767","v":"Cane-Plant"},{"$f":"DICTIONARY!O2767","v":"बेंत का पौधा"},"बेंत का पौधा",{"$f":"DICTIONARY!P2769","v":"TREES AND PLANTS ( पेड़,पौधे )"},"बेंत का पौधा","बेंत का पौधा"]
[null,null,null,null,null,null,null,null,null,{"$f":"IF(K2744=\" \",\" \",ROWS($K$5:K2744))","v":2740},{"$f":"DICTIONARY!M2768","v":"Mango-Tree"},{"$f":"DICTIONARY!O2768","v":"आम का पेड़"},"आम का पेड़",{"$f":"DICTIONARY!P2770","v":"TREES AND PLANTS ( पेड़,पौधे )"},"आम का पेड़","आम का पेड़"]
[null,null,null,null,null,null,null,null,null,{"$f":"IF(K2745=\" \",\" \",ROWS($K$5:K2745))","v":2741},{"$f":"DICTIONARY!M2769","v":"Creeper"},{"$f":"DICTIONARY!O2769","v":"लता"},"लता",{"$f":"DICTIONARY!P2771","v":"TREES AND PLANTS ( पेड़,पौधे )"},"लता","लता"]
[null,null,null,null,null,null,null,null,null,{"$f":"IF(K2746=\" \",\" \",ROWS($K$5:K2746))","v":2742},{"$f":"DICTIONARY!M2770","v":"Shrub"},{"$f":"DICTIONARY!O2770","v":"गुल्म"},"गुल्म",{"$f":"DICTIONARY!P2772","v":"TREES AND PLANTS ( पेड़,पौधे )"},"गुल्म","गुल्म"]
[null,null,null,null,null,null,null,null,null,{"$f":"IF(K2747=\" \",\" \",ROWS($K$5:K2747))","v":2743},{"$f":"DICTIONARY!M2771","v":"Grass"},{"$f":"DICTIONARY!O2771","v":"घास"},"घास",{"$f":"DICTIONARY!P2773","v":"TREES AND PLANTS ( पेड़,पौधे )"},"घास","घास"]
[null,null,null,null,null,null,null,null,null,{"$f":"IF(K2748=\" \",\" \",ROWS($K$5:K2748))","v":2744},{"$f":"DICTIONARY!M2772","v":" Root"},{"$f":"DICTIONARY!O2772","v":"जड़"},"जड़",{"$f":"DICTIONARY!P2774","v":"TREES AND PLANTS ( पेड़,पौधे )"},"जड़","जड़"]
[null,null,null,null,null,null,null,null,null,{"$f":"IF(K2749=\" \",\" \",ROWS($K$5:K2749))","v":2745},{"$f":"DICTIONARY!M2773","v":"Banana-Plant"},{"$f":"DICTIONARY!O2773","v":"केले का पौधा"},"केले का पौधा",{"$f":"DICTIONARY!P2775","v":"TREES AND PLANTS ( पेड़,पौधे )"},"केले का पौधा","केले का पौधा"]
[null,null,null,null,null,null,null,null,null,{"$f":"IF(K2750=\" \",\" \",ROWS($K$5:K2750))","v":2746},{"$f":"DICTIONARY!M2774","v":"Jute-Plant'"},{"$f":"DICTIONARY!O2774","v":"पटसन का पौधा"},"पटसन का पौधा",{"$f":"DICTIONARY!P2776","v":"TREES AND PLANTS ( पेड़,पौधे )"},"पटसन का पौधा","पटसन का पौधा"]
[null,null,null,null,null,null,null,null,null,{"$f":"IF(K2751=\" \",\" \",ROWS($K$5:K2751))","v":2747},{"$f":"DICTIONARY!M2775","v":"Sugarcane"},{"$f":"DICTIONARY!O2775","v":"गन्ना"},"गन्ना",{"$f":"DICTIONARY!P2777","v":"TREES AND PLANTS ( पेड़,पौधे )"},"गन्ना","गन्ना"]
[null,null,null,null,null,null,null,null,null,{"$f":"IF(K2752=\" \",\" \",ROWS($K$5:K2752))","v":2748},{"$f":"DICTIONARY!M2776","v":"Grapevine"},{"$f":"DICTIONARY!O2776","v":"अंगूर की लता"},"अंगूर की लता",{"$f":"DICTIONARY!P2778","v":"TREES AND PLANTS ( पेड़,पौधे )"},"अंगूर की लता","अंगूर की लता"]
[null,null,null,null,null,null,null,null,null,{"$f":"IF(K2753=\" \",\" \",ROWS($K$5:K2753))","v":2749},{"$f":"DICTIONARY!M2777","v":"Castor-Oil Plant"},{"$f":"DICTIONARY!O2777","v":"रेंडी (अंडी) का पौधा"},"रेंडी (अंडी) का पौधा",{"$f":"DICTIONARY!P2779","v":"TREES AND PLANTS ( पेड़,पौधे )"},"रेंडी (अंडी) का पौधा","रेंडी (अंडी) का पौधा"]
[null,null,null,null,null,null,null,null,null,{"$f":"IF(K2754=\" \",\" \",ROWS($K$5:K2754))","v":2750},{"$f":"DICTIONARY!M2778","v":"Paddy Plant"},{"$f":"DICTIONARY!O2778","v":"धान का पौधा "},"धान का पौधा ",{"$f":"DICTIONARY!P2780","v":"TREES AND PLANTS ( पेड़,पौधे )"},"धान का पौधा ","धान का पौधा "]
[null,null,null,null,null,null,null,null,null,{"$f":"IF(K2755=\" \",\" \",ROWS($K$5:K2755))","v":2751},{"$f":"DICTIONARY!M2779","v":"Cotton-Plant"},{"$f":"DICTIONARY!O2779","v":"कपास का पौधा"},"कपास का पौधा",{"$f":"DICTIONARY!P2781","v":"TREES AND PLANTS ( पेड़,पौधे )"},"कपास का पौधा","कपास का पौधा"]
[null,null,null,null,null,null,null,null,null,{"$f":"IF(K2756=\" \",\" \",ROWS($K$5:K2756))","v":2752},{"$f":"DICTIONARY!M2780","v":"Branch"},{"$f":"DICTIONARY!O2780","v":"टहनी,शाखा,डाल"},"टहनी,शाखा,डाल",{"$f":"DICTIONARY!P2782","v":"TREES AND PLANTS ( पेड़,पौधे )"},"टहनी,शाखा,डाल","टहनी,शाखा,डाल"]
[null,null,null,null,null,null,null,null,null,{"$f":"IF(K2757=\" \",\" \",ROWS($K$5:K2757))","v":2753},{"$f":"DICTIONARY!M2781","v":"Stem"},{"$f":"DICTIONARY!O2781","v":"डंठल"},"डंठल",{"$f":"DICTIONARY!P2783","v":"TREES AND PLANTS ( पेड़,पौधे )"},{"$f":"M2757","v":"डंठल"},{"$f":"L2757","v":"डंठल"}]
[null,null,null,null,null,null,null,null,null,{"$f":"IF(K2758=\" \",\" \",ROWS($K$5:K2758))","v":2754},{"$f":"DICTIONARY!M2782","v":"Trunk"},{"$f":"DICTIONARY!O2782","v":"तना"},{"$f":"L2758","v":"तना"},{"$f":"DICTIONARY!P2784","v":"TREES AND PLANTS ( पेड़,पौधे )"},"तना","तना"]
[null,null,null,null,null,null,null,null,null,{"$f":"IF(K2759=\" \",\" \",ROWS($K$5:K2759))","v":2755},{"$f":"DICTIONARY!M2783","v":"Water-Hyacinth"},{"$f":"DICTIONARY!O2783","v":"जलकुंभी"},"जलकुंभी",{"$f":"DICTIONARY!P2785","v":"TREES AND PLANTS ( पेड़,पौधे )"},"जलकुंभी","जलकुंभी"]
[null,null,null,null,null,null,null,null,null,{"$f":"IF(K2760=\" \",\" \",ROWS($K$5:K2760))","v":2756},{"$f":"DICTIONARY!M2784","v":"Nettle"},{"$f":"DICTIONARY!O2784","v":"बिछुटी"},"बिछुटी",{"$f":"DICTIONARY!P2786","v":"TREES AND PLANTS ( पेड़,पौधे )"},"बिछुटी","बिछुटी"]
[null,null,null,null,null,null,null,null,null,{"$f":"IF(K2761=\" \",\" \",ROWS($K$5:K2761))","v":2757},{"$f":"DICTIONARY!M2785","v":"Bark"},{"$f":"DICTIONARY!O2785","v":"छाल"},"छाल",{"$f":"DICTIONARY!P2787","v":"TREES AND PLANTS ( पेड़,पौधे )"},"छाल","छाल"]
[null,null,null,null,null,null,null,null,null,{"$f":"IF(K2762=\" \",\" \",ROWS($K$5:K2762))","v":2758},{"$f":"DICTIONARY!M2786","v":"Mushroom"},{"$f":"DICTIONARY!O2786","v":"कुकुरमुत्ता"},"कुकुरमुत्ता",{"$f":"DICTIONARY!P2788","v":"TREES AND PLANTS ( पेड़,पौधे )"},"कुकुरमुत्ता","कुकुरमुत्ता"]
[null,null,null,null,null,null,null,null,null,{"$f":"IF(K2763=\" \",\" \",ROWS($K$5:K2763))","v":2759},{"$f":"DICTIONARY!M2787","v":" Opium"},{"$f":"DICTIONARY!O2787","v":"अफीम"},"अफीम","TREES AND PLANTS ( पेड़,पौधे )","अफीम","अफीम"]
[null,null,null,null,null,null,null,null,null,{"$f":"IF(K2764=\" \",\" \",ROWS($K$5:K2764))","v":2760},{"$f":"DICTIONARY!M2788","v":"Reeds"},{"$f":"DICTIONARY!O2788","v":"नरकट,खागडा"},"नरकट,खागडा","TREES AND PLANTS ( पेड़,पौधे )","नरकट,खागडा","नरकट,खागडा"]
[null,null,null,null,null,null,null,null,null,{"$f":"IF(K2765=\" \",\" \",ROWS($K$5:K2765))","v":2761},{"$f":"DICTIONARY!M2789","v":"Phial"},{"$f":"DICTIONARY!O2789","v":"शीशी"},"शीशी",{"$f":"DICTIONARY!P2791","v":"MEDICINES AND HOSPTALS ( औषध और चिकित्सालय संबधी)"},"शीशी","शीशी"]
[null,null,null,null,null,null,null,null,null,{"$f":"IF(K2766=\" \",\" \",ROWS($K$5:K2766))","v":2762},{"$f":"DICTIONARY!M2790","v":" Bandage"},{"$f":"DICTIONARY!O2790","v":"पट्टी"},"पट्टी",{"$f":"DICTIONARY!P2792","v":"MEDICINES AND HOSPTALS ( औषध और चिकित्सालय संबधी)"},"पट्टी","पट्टी"]
[null,null,null,null,null,null,null,null,null,{"$f":"IF(K2767=\" \",\" \",ROWS($K$5:K2767))","v":2763},{"$f":"DICTIONARY!M2791","v":" Powder"},{"$f":"DICTIONARY!O2791","v":"चूर्ण"},"चूर्ण",{"$f":"DICTIONARY!P2793","v":"MEDICINES AND HOSPTALS ( औषध और चिकित्सालय संबधी)"},"चूर्ण","चूर्ण"]
[null,null,null,null,null,null,null,null,null,{"$f":"IF(K2768=\" \",\" \",ROWS($K$5:K2768))","v":2764},{"$f":"DICTIONARY!M2792","v":" Tablet"},{"$f":"DICTIONARY!O2792","v":"टिकिया"},"टिकिया",{"$f":"DICTIONARY!P2794","v":"MEDICINES AND HOSPTALS ( औषध और चिकित्सालय संबधी)"},"टिकिया","टिकिया"]
[null,null,null,null,null,null,null,null,null,{"$f":"IF(K2769=\" \",\" \",ROWS($K$5:K2769))","v":2765},{"$f":"DICTIONARY!M2793","v":" Mark"},{"$f":"DICTIONARY!O2793","v":"दाग"},"दाग",{"$f":"DICTIONARY!P2795","v":"MEDICINES AND HOSPTALS ( औषध और चिकित्सालय संबधी)"},"दाग","दाग"]
[null,null,null,null,null,null,null,null,null,{"$f":"IF(K2770=\" \",\" \",ROWS($K$5:K2770))","v":2766},{"$f":"DICTIONARY!M2794","v":" Drug"},{"$f":"DICTIONARY!O2794","v":"औषध"},"औषध",{"$f":"DICTIONARY!P2796","v":"MEDICINES AND HOSPTALS ( औषध और चिकित्सालय संबधी)"},"औषध","औषध"]
[null,null,null,null,null,null,null,null,null,{"$f":"IF(K2771=\" \",\" \",ROWS($K$5:K2771))","v":2767},{"$f":"DICTIONARY!M2795","v":" Dose"},{"$f":"DICTIONARY!O2795","v":"खुराक"},"खुराक",{"$f":"DICTIONARY!P2797","v":"MEDICINES AND HOSPTALS ( औषध और चिकित्सालय संबधी)"},"खुराक","खुराक"]
[null,null,null,null,null,null,null,null,null,{"$f":"IF(K2772=\" \",\" \",ROWS($K$5:K2772))","v":2768},{"$f":"DICTIONARY!M2796","v":" Diet"},{"$f":"DICTIONARY!O2796","v":"पथ्य"},"पथ्य",{"$f":"DICTIONARY!P2798","v":"MEDICINES AND HOSPTALS ( औषध और चिकित्सालय संबधी)"},"पथ्य","पथ्य"]
[null,null,null,null,null,null,null,null,null,{"$f":"IF(K2773=\" \",\" \",ROWS($K$5:K2773))","v":2769},{"$f":"DICTIONARY!M2797","v":" Fomentation"},{"$f":"DICTIONARY!O2797","v":"सेक"},"सेक",{"$f":"DICTIONARY!P2799","v":"MEDICINES AND HOSPTALS ( औषध और चिकित्सालय संबधी)"},"सेक","सेक"]
[null,null,null,null,null,null,null,null,null,{"$f":"IF(K2774=\" \",\" \",ROWS($K$5:K2774))","v":2770},{"$f":"DICTIONARY!M2798","v":" Ointment"},{"$f":"DICTIONARY!O2798","v":"मरहम"},"मरहम",{"$f":"DICTIONARY!P2800","v":"MEDICINES AND HOSPTALS ( औषध और चिकित्सालय संबधी)"},"मरहम","मरहम"]
[null,null,null,null,null,null,null,null,null,{"$f":"IF(K2775=\" \",\" \",ROWS($K$5:K2775))","v":2771},{"$f":"DICTIONARY!M2799","v":"Surgery"},{"$f":"DICTIONARY!O2799","v":"शल्यचिकित्सा"},"शल्यचिकित्सा",{"$f":"DICTIONARY!P2801","v":"MEDICINES AND HOSPTALS ( औषध और चिकित्सालय संबधी)"},"शल्यचिकित्सा","शल्यचिकित्सा"]
[null,null,null,null,null,null,null,null,null,{"$f":"IF(K2776=\" \",\" \",ROWS($K$5:K2776))","v":2772},{"$f":"DICTIONARY!M2800","v":"Homeopathy"},{"$f":"DICTIONARY!O2800","v":"होमिओपैथी"},"होमिओपैथी",{"$f":"DICTIONARY!P2802","v":"MEDICINES AND HOSPTALS ( औषध और चिकित्सालय संबधी)"},"होमिओपैथी","होमिओपैथी"]
[null,null,null,null,null,null,null,null,null,{"$f":"IF(K2777=\" \",\" \",ROWS($K$5:K2777))","v":2773},{"$f":"DICTIONARY!M2801","v":"Surgen"},{"$f":"DICTIONARY!O2801","v":"शल्यचिकित्सक"},"शल्यचिकित्सक",{"$f":"DICTIONARY!P2803","v":"MEDICINES AND HOSPTALS ( औषध और चिकित्सालय संबधी)"},"शल्यचिकित्सक","शल्यचिकित्सक"]
[null,null,null,null,null,null,null,null,null,{"$f":"IF(K2778=\" \",\" \",ROWS($K$5:K2778))","v":2774},{"$f":"DICTIONARY!M2802","v":"Doctor"},{"$f":"DICTIONARY!O2802","v":"चिकित्सक"},"चिकित्सक",{"$f":"DICTIONARY!P2804","v":"MEDICINES AND HOSPTALS ( औषध और चिकित्सालय संबधी)"},"चिकित्सक","चिकित्सक"]
[null,null,null,null,null,null,null,null,null,{"$f":"IF(K2779=\" \",\" \",ROWS($K$5:K2779))","v":2775},{"$f":"DICTIONARY!M2803","v":"Dispensary"},{"$f":"DICTIONARY!O2803","v":"दवाखाना"},"दवाखाना",{"$f":"DICTIONARY!P2805","v":"MEDICINES AND HOSPTALS ( औषध और चिकित्सालय संबधी)"},"दवाखाना","दवाखाना"]
[null,null,null,null,null,null,null,null,null,{"$f":"IF(K2780=\" \",\" \",ROWS($K$5:K2780))","v":2776},{"$f":"DICTIONARY!M2804","v":"Symptom"},{"$f":"DICTIONARY!O2804","v":"लक्षण"},"लक्षण",{"$f":"DICTIONARY!P2806","v":"MEDICINES AND HOSPTALS ( औषध और चिकित्सालय संबधी)"},"लक्षण","लक्षण"]
[null,null,null,null,null,null,null,null,null,{"$f":"IF(K2781=\" \",\" \",ROWS($K$5:K2781))","v":2777},{"$f":"DICTIONARY!M2805","v":"Dentist"},{"$f":"DICTIONARY!O2805","v":"दन्तचिकित्सक"},"दन्तचिकित्सक",{"$f":"DICTIONARY!P2807","v":"MEDICINES AND HOSPTALS ( औषध और चिकित्सालय संबधी)"},"दन्तचिकित्सक","दन्तचिकित्सक"]
[null,null,null,null,null,null,null,null,null,{"$f":"IF(K2782=\" \",\" \",ROWS($K$5:K2782))","v":2778},{"$f":"DICTIONARY!M2806","v":"Allopathy"},{"$f":"DICTIONARY!O2806","v":"एलोपैथी"},"एलोपैथी",{"$f":"DICTIONARY!P2808","v":"MEDICINES AND HOSPTALS ( औषध और चिकित्सालय संबधी)"},"एलोपैथी","एलोपैथी"]
[null,null,null,null,null,null,null,null,null,{"$f":"IF(K2783=\" \",\" \",ROWS($K$5:K2783))","v":2779},{"$f":"DICTIONARY!M2807","v":"Naturopathy"},{"$f":"DICTIONARY!O2807","v":"प्राकतिक चिकित्सा"},"प्राकतिक चिकित्सा",{"$f":"DICTIONARY!P2809","v":"MEDICINES AND HOSPTALS ( औषध और चिकित्सालय संबधी)"},"प्राकतिक चिकित्सा","प्राकतिक चिकित्सा"]
[null,null,null,null,null,null,null,null,null,{"$f":"IF(K2784=\" \",\" \",ROWS($K$5:K2784))","v":2780},{"$f":"DICTIONARY!M2808","v":"Compounder"},{"$f":"DICTIONARY!O2808","v":"परिचारक"},"परिचारक",{"$f":"DICTIONARY!P2810","v":"MEDICINES AND HOSPTALS ( औषध और चिकित्सालय संबधी)"},"परिचारक","परिचारक"]
[null,null,null,null,null,null,null,null,null,{"$f":"IF(K2785=\" \",\" \",ROWS($K$5:K2785))","v":2781},{"$f":"DICTIONARY!M2809","v":"Treatment"},{"$f":"DICTIONARY!O2809","v":"उपचार"},"उपचार",{"$f":"DICTIONARY!P2811","v":"MEDICINES AND HOSPTALS ( औषध और चिकित्सालय संबधी)"},"उपचार","उपचार"]
[null,null,null,null,null,null,null,null,null,{"$f":"IF(K2786=\" \",\" \",ROWS($K$5:K2786))","v":2782},{"$f":"DICTIONARY!M2810","v":"Stethoscope"},{"$f":"DICTIONARY!O2810","v":"परि-स्त्रावक"},"परि-स्त्रावक",{"$f":"DICTIONARY!P2812","v":"MEDICINES AND HOSPTALS ( औषध और चिकित्सालय संबधी)"},"परि-स्त्रावक","परि-स्त्रावक"]
[null,null,null,null,null,null,null,null,null,{"$f":"IF(K2787=\" \",\" \",ROWS($K$5:K2787))","v":2783},{"$f":"DICTIONARY!M2811","v":"Physisian"},{"$f":"DICTIONARY!O2811","v":"वैद्य,चिकित्सक"},"वैद्य,चिकित्सक",{"$f":"DICTIONARY!P2813","v":"MEDICINES AND HOSPTALS ( औषध और चिकित्सालय संबधी)"},"वैद्य,चिकित्सक","वैद्य,चिकित्सक"]
[null,null,null,null,null,null,null,null,null,{"$f":"IF(K2788=\" \",\" \",ROWS($K$5:K2788))","v":2784},{"$f":"DICTIONARY!M2812","v":"Patient"},{"$f":"DICTIONARY!O2812","v":"मरीज"},"मरीज",{"$f":"DICTIONARY!P2814","v":"MEDICINES AND HOSPTALS ( औषध और चिकित्सालय संबधी)"},"मरीज","मरीज"]
[null,null,null,null,null,null,null,null,null,{"$f":"IF(K2789=\" \",\" \",ROWS($K$5:K2789))","v":2785},{"$f":"DICTIONARY!M2813","v":"Thermometer"},{"$f":"DICTIONARY!O2813","v":"तापमापी"},"तापमापी",{"$f":"DICTIONARY!P2815","v":"MEDICINES AND HOSPTALS ( औषध और चिकित्सालय संबधी)"},"तापमापी","तापमापी"]
[null,null,null,null,null,null,null,null,null,{"$f":"IF(K2790=\" \",\" \",ROWS($K$5:K2790))","v":2786},{"$f":"DICTIONARY!M2814","v":"Midwife"},{"$f":"DICTIONARY!O2814","v":"धात्री,दाई"},"धात्री,दाई","MEDICINES AND HOSPTALS ( औषध और चिकित्सालय संबधी)","धात्री,दाई","धात्री,दाई"]
[null,null,null,null,null,null,null,null,null,{"$f":"IF(K2791=\" \",\" \",ROWS($K$5:K2791))","v":2787},{"$f":"DICTIONARY!M2815","v":"Nurse"},{"$f":"DICTIONARY!O2815","v":"परिचारिका"},"परिचारिका","MEDICINES AND HOSPTALS ( औषध और चिकित्सालय संबधी)","परिचारिका","परिचारिका"]
[null,null,null,null,null,null,null,null,null,{"$f":"IF(K2792=\" \",\" \",ROWS($K$5:K2792))","v":2788},{"$f":"DICTIONARY!M2816","v":"Indian"},{"$f":"DICTIONARY!O2816","v":"भारतीय"},"भारतीय",{"$f":"DICTIONARY!P2818","v":"NATIONS AND LANGUAGES ( वासी और देश )"},"भारतीय","भारतीय"]
[null,null,null,null,null,null,null,null,null,{"$f":"IF(K2793=\" \",\" \",ROWS($K$5:K2793))","v":2789},{"$f":"DICTIONARY!M2817","v":"American"},{"$f":"DICTIONARY!O2817","v":"अमेरिकी"},"अमेरिकी",{"$f":"DICTIONARY!P2819","v":"NATIONS AND LANGUAGES ( वासी और देश )"},"अमेरिकी","अमेरिकी"]
[null,null,null,null,null,null,null,null,null,{"$f":"IF(K2794=\" \",\" \",ROWS($K$5:K2794))","v":2790},{"$f":"DICTIONARY!M2818","v":"Negro"},{"$f":"DICTIONARY!O2818","v":"नीग्रो"},"नीग्रो",{"$f":"DICTIONARY!P2820","v":"NATIONS AND LANGUAGES ( वासी और देश )"},"नीग्रो","नीग्रो"]
[null,null,null,null,null,null,null,null,null,{"$f":"IF(K2795=\" \",\" \",ROWS($K$5:K2795))","v":2791},{"$f":"DICTIONARY!M2819","v":" Chinese"},{"$f":"DICTIONARY!O2819","v":"चीनी"},"चीनी",{"$f":"DICTIONARY!P2821","v":"NATIONS AND LANGUAGES ( वासी और देश )"},"चीनी","चीनी"]
[null,null,null,null,null,null,null,null,null,{"$f":"IF(K2796=\" \",\" \",ROWS($K$5:K2796))","v":2792},{"$f":"DICTIONARY!M2820","v":" Russian"},{"$f":"DICTIONARY!O2820","v":"रूसी"},"रूसी",{"$f":"DICTIONARY!P2822","v":"NATIONS AND LANGUAGES ( वासी और देश )"},"रूसी","रूसी"]
[null,null,null,null,null,null,null,null,null,{"$f":"IF(K2797=\" \",\" \",ROWS($K$5:K2797))","v":2793},{"$f":"DICTIONARY!M2821","v":"Ceylonese"},{"$f":"DICTIONARY!O2821","v":"सिंहली"},"सिंहली",{"$f":"DICTIONARY!P2823","v":"NATIONS AND LANGUAGES ( वासी और देश )"},"सिंहली","सिंहली"]
[null,null,null,null,null,null,null,null,null,{"$f":"IF(K2798=\" \",\" \",ROWS($K$5:K2798))","v":2794},{"$f":"DICTIONARY!M2822","v":" French"},{"$f":"DICTIONARY!O2822","v":"फ़्रांसिसी"},"फ़्रांसिसी",{"$f":"DICTIONARY!P2824","v":"NATIONS AND LANGUAGES ( वासी और देश )"},"फ़्रांसिसी","फ़्रांसिसी"]
[null,null,null,null,null,null,null,null,null,{"$f":"IF(K2799=\" \",\" \",ROWS($K$5:K2799))","v":2795},{"$f":"DICTIONARY!M2823","v":"Christian"},{"$f":"DICTIONARY!O2823","v":"ईसाई"},"ईसाई",{"$f":"DICTIONARY!P2825","v":"NATIONS AND LANGUAGES ( वासी और देश )"},"ईसाई","ईसाई"]
[null,null,null,null,null,null,null,null,null,{"$f":"IF(K2800=\" \",\" \",ROWS($K$5:K2800))","v":2796},{"$f":"DICTIONARY!M2824","v":"Spanish"},{"$f":"DICTIONARY!O2824","v":"स्पेनवासी"},"स्पेनवासी",{"$f":"DICTIONARY!P2826","v":"NATIONS AND LANGUAGES ( वासी और देश )"},"स्पेनवासी","स्पेनवासी"]
[null,null,null,null,null,null,null,null,null,{"$f":"IF(K2801=\" \",\" \",ROWS($K$5:K2801))","v":2797},{"$f":"DICTIONARY!M2825","v":"Englishman"},{"$f":"DICTIONARY!O2825","v":"अंग्रेज़"},"अंग्रेज़",{"$f":"DICTIONARY!P2827","v":"NATIONS AND LANGUAGES ( वासी और देश )"},"अंग्रेज़","अंग्रेज़"]
[null,null,null,null,null,null,null,null,null,{"$f":"IF(K2802=\" \",\" \",ROWS($K$5:K2802))","v":2798},{"$f":"DICTIONARY!M2826","v":"Australian"},{"$f":"DICTIONARY!O2826","v":"ऑस्ट्रेलियावासी"},"ऑस्ट्रेलियावासी",{"$f":"DICTIONARY!P2828","v":"NATIONS AND LANGUAGES ( वासी और देश )"},"ऑस्ट्रेलियावासी","ऑस्ट्रेलियावासी"]
[null,null,null,null,null,null,null,null,null,{"$f":"IF(K2803=\" \",\" \",ROWS($K$5:K2803))","v":2799},{"$f":"DICTIONARY!M2827","v":" German"},{"$f":"DICTIONARY!O2827","v":"जर्मनवासी"},"जर्मनवासी",{"$f":"DICTIONARY!P2829","v":"NATIONS AND LANGUAGES ( वासी और देश )"},"जर्मनवासी","जर्मनवासी"]
[null,null,null,null,null,null,null,null,null,{"$f":"IF(K2804=\" \",\" \",ROWS($K$5:K2804))","v":2800},{"$f":"DICTIONARY!M2828","v":"Roman"},{"$f":"DICTIONARY!O2828","v":"रोमन भाषा,रोमवासी"},"रोमन भाषा,रोमवासी",{"$f":"DICTIONARY!P2830","v":"NATIONS AND LANGUAGES ( वासी और देश )"},"रोमन भाषा,रोमवासी","रोमन भाषा,रोमवासी"]
[null,null,null,null,null,null,null,null,null,{"$f":"IF(K2805=\" \",\" \",ROWS($K$5:K2805))","v":2801},{"$f":"DICTIONARY!M2829","v":"Buddhist"},{"$f":"DICTIONARY!O2829","v":"बौध्द"},"बौध्द",{"$f":"DICTIONARY!P2831","v":"NATIONS AND LANGUAGES ( वासी और देश )"},"बौध्द","बौध्द"]
[null,null,null,null,null,null,null,null,null,{"$f":"IF(K2806=\" \",\" \",ROWS($K$5:K2806))","v":2802},{"$f":"DICTIONARY!M2830","v":"Muslim"},{"$f":"DICTIONARY!O2830","v":"मुस्लमान"},"मुस्लमान",{"$f":"DICTIONARY!P2832","v":"NATIONS AND LANGUAGES ( वासी और देश )"},"मुस्लमान","मुस्लमान"]
[null,null,null,null,null,null,null,null,null,{"$f":"IF(K2807=\" \",\" \",ROWS($K$5:K2807))","v":2803},{"$f":"DICTIONARY!M2831","v":"Hindu"},{"$f":"DICTIONARY!O2831","v":"हिन्दू"},"हिन्दू",{"$f":"DICTIONARY!P2833","v":"NATIONS AND LANGUAGES ( वासी और देश )"},"हिन्दू","हिन्दू"]
[null,null,null,null,null,null,null,null,null,{"$f":"IF(K2808=\" \",\" \",ROWS($K$5:K2808))","v":2804},{"$f":"DICTIONARY!M2832","v":" Japanese"},{"$f":"DICTIONARY!O2832","v":"जापानी"},"जापानी",{"$f":"DICTIONARY!P2834","v":"NATIONS AND LANGUAGES ( वासी और देश )"},"जापानी","जापानी"]
[null,null,null,null,null,null,null,null,null,{"$f":"IF(K2809=\" \",\" \",ROWS($K$5:K2809))","v":2805},{"$f":"DICTIONARY!M2833","v":"European"},{"$f":"DICTIONARY!O2833","v":"यूरोपीय"},"यूरोपीय",{"$f":"DICTIONARY!P2835","v":"NATIONS AND LANGUAGES ( वासी और देश )"},"यूरोपीय","यूरोपीय"]
[null,null,null,null,null,null,null,null,null,{"$f":"IF(K2810=\" \",\" \",ROWS($K$5:K2810))","v":2806},{"$f":"DICTIONARY!M2834","v":"Persian"},{"$f":"DICTIONARY!O2834","v":"फारसवासी,फारसी"},"फारसवासी,फारसी",{"$f":"DICTIONARY!P2836","v":"NATIONS AND LANGUAGES ( वासी और देश )"},"फारसवासी,फारसी","फारसवासी,फारसी"]
[null,null,null,null,null,null,null,null,null,{"$f":"IF(K2811=\" \",\" \",ROWS($K$5:K2811))","v":2807},{"$f":"DICTIONARY!M2835","v":"Arabian"},{"$f":"DICTIONARY!O2835","v":"अरबवासी"},"अरबवासी","NATIONS AND LANGUAGES ( वासी और देश )","अरबवासी","अरबवासी"]
[null,null,null,null,null,null,null,null,null,{"$f":"IF(K2812=\" \",\" \",ROWS($K$5:K2812))","v":2808},{"$f":"DICTIONARY!M2836","v":" Burmese"},{"$f":"DICTIONARY!O2836","v":"बमावासी"},"बमावासी","NATIONS AND LANGUAGES ( वासी और देश )","बमावासी","बमावासी"]
[null,null,null,null,null,null,null,null,null,{"$f":"IF(K2813=\" \",\" \",ROWS($K$5:K2813))","v":2809},{"$f":"DICTIONARY!M2837","v":" Music"},{"$f":"DICTIONARY!O2837","v":"संगीत"},"संगीत",{"$f":"DICTIONARY!P2839","v":"MUSIC ( संगीत )"},"संगीत","संगीत"]
[null,null,null,null,null,null,null,null,null,{"$f":"IF(K2814=\" \",\" \",ROWS($K$5:K2814))","v":2810},{"$f":"DICTIONARY!M2838","v":"Audience"},{"$f":"DICTIONARY!O2838","v":"श्रोता"},"श्रोता",{"$f":"DICTIONARY!P2840","v":"MUSIC ( संगीत )"},"श्रोता","श्रोता"]
[null,null,null,null,null,null,null,null,null,{"$f":"IF(K2815=\" \",\" \",ROWS($K$5:K2815))","v":2811},{"$f":"DICTIONARY!M2839","v":"Tune"},{"$f":"DICTIONARY!O2839","v":"स्वर"},"स्वर",{"$f":"DICTIONARY!P2841","v":"MUSIC ( संगीत )"},"स्वर","स्वर"]
[null,null,null,null,null,null,null,null,null,{"$f":"IF(K2816=\" \",\" \",ROWS($K$5:K2816))","v":2812},{"$f":"DICTIONARY!M2840","v":"Song"},{"$f":"DICTIONARY!O2840","v":"गाना"},"गाना",{"$f":"DICTIONARY!P2842","v":"MUSIC ( संगीत )"},"गाना","गाना"]
[null,null,null,null,null,null,null,null,null,{"$f":"IF(K2817=\" \",\" \",ROWS($K$5:K2817))","v":2813},{"$f":"DICTIONARY!M2841","v":"Melody"},{"$f":"DICTIONARY!O2841","v":"लय,मधुर राग"},"लय,मधुर राग",{"$f":"DICTIONARY!P2843","v":"MUSIC ( संगीत )"},"लय,मधुर राग","लय,मधुर राग"]
[null,null,null,null,null,null,null,null,null,{"$f":"IF(K2818=\" \",\" \",ROWS($K$5:K2818))","v":2814},{"$f":"DICTIONARY!M2842","v":"Dance"},{"$f":"DICTIONARY!O2842","v":"नाच"},"नाच",{"$f":"DICTIONARY!P2844","v":"MUSIC ( संगीत )"},"नाच","नाच"]
[null,null,null,null,null,null,null,null,null,{"$f":"IF(K2819=\" \",\" \",ROWS($K$5:K2819))","v":2815},{"$f":"DICTIONARY!M2843","v":"Chorus"},{"$f":"DICTIONARY!O2843","v":"समवेत गायन,सहगान"},"समवेत गायन,सहगान",{"$f":"DICTIONARY!P2845","v":"MUSIC ( संगीत )"},"समवेत गायन,सहगान","समवेत गायन,सहगान"]
[null,null,null,null,null,null,null,null,null,{"$f":"IF(K2820=\" \",\" \",ROWS($K$5:K2820))","v":2816},{"$f":"DICTIONARY!M2844","v":"Sing"},{"$f":"DICTIONARY!O2844","v":"गाना"},"गाना",{"$f":"DICTIONARY!P2846","v":"MUSIC ( संगीत )"},"गाना","गाना"]
[null,null,null,null,null,null,null,null,null,{"$f":"IF(K2821=\" \",\" \",ROWS($K$5:K2821))","v":2817},{"$f":"DICTIONARY!M2845","v":"Stage"},{"$f":"DICTIONARY!O2845","v":"रंगमंच"},"रंगमंच",{"$f":"DICTIONARY!P2847","v":"MUSIC ( संगीत )"},{"$f":"M2821","v":"रंगमंच"},{"$f":"L2821","v":"रंगमंच"}]
[null,null,null,null,null,null,null,null,null,{"$f":"IF(K2822=\" \",\" \",ROWS($K$5:K2822))","v":2818},{"$f":"DICTIONARY!M2846","v":"Horn"},{"$f":"DICTIONARY!O2846","v":"सींग"},{"$f":"L2822","v":"सींग"},{"$f":"DICTIONARY!P2848","v":"MUSIC ( संगीत )"},"सींग","सींग"]
[null,null,null,null,null,null,null,null,null,{"$f":"IF(K2823=\" \",\" \",ROWS($K$5:K2823))","v":2819},{"$f":"DICTIONARY!M2847","v":"Tuba"},{"$f":"DICTIONARY!O2847","v":"बांसुरी"},"बांसुरी",{"$f":"DICTIONARY!P2849","v":"MUSIC ( संगीत )"},"बांसुरी","बांसुरी"]
[null,null,null,null,null,null,null,null,null,{"$f":"IF(K2824=\" \",\" \",ROWS($K$5:K2824))","v":2820},{"$f":"DICTIONARY!M2848","v":"Actress"},{"$f":"DICTIONARY!O2848","v":"अभिनेत्री"},"अभिनेत्री",{"$f":"DICTIONARY!P2850","v":"MUSIC ( संगीत )"},"अभिनेत्री","अभिनेत्री"]
[null,null,null,null,null,null,null,null,null,{"$f":"IF(K2825=\" \",\" \",ROWS($K$5:K2825))","v":2821},{"$f":"DICTIONARY!M2849","v":"Actor"},{"$f":"DICTIONARY!O2849","v":"अभिनेता"},"अभिनेता",{"$f":"DICTIONARY!P2851","v":"MUSIC ( संगीत )"},"अभिनेता","अभिनेता"]
[null,null,null,null,null,null,null,null,null,{"$f":"IF(K2826=\" \",\" \",ROWS($K$5:K2826))","v":2822},{"$f":"DICTIONARY!M2850","v":"Songster"},{"$f":"DICTIONARY!O2850","v":"गायक"},"गायक",{"$f":"DICTIONARY!P2852","v":"MUSIC ( संगीत )"},"गायक","गायक"]
[null,null,null,null,null,null,null,null,null,{"$f":"IF(K2827=\" \",\" \",ROWS($K$5:K2827))","v":2823},{"$f":"DICTIONARY!M2851","v":"Scene"},{"$f":"DICTIONARY!O2851","v":"दृश्य"},"दृश्य",{"$f":"DICTIONARY!P2853","v":"MUSIC ( संगीत )"},"दृश्य","दृश्य"]
[null,null,null,null,null,null,null,null,null,{"$f":"IF(K2828=\" \",\" \",ROWS($K$5:K2828))","v":2824},{"$f":"DICTIONARY!M2852","v":"Theatre"},{"$f":"DICTIONARY!O2852","v":"रंगशाला"},"रंगशाला",{"$f":"DICTIONARY!P2854","v":"MUSIC ( संगीत )"},"रंगशाला","रंगशाला"]
[null,null,null,null,null,null,null,null,null,{"$f":"IF(K2829=\" \",\" \",ROWS($K$5:K2829))","v":2825},{"$f":"DICTIONARY!M2853","v":"Drama"},{"$f":"DICTIONARY!O2853","v":"नाटक"},"नाटक",{"$f":"DICTIONARY!P2855","v":"MUSIC ( संगीत )"},"नाटक","नाटक"]
[null,null,null,null,null,null,null,null,null,{"$f":"IF(K2830=\" \",\" \",ROWS($K$5:K2830))","v":2826},{"$f":"DICTIONARY!M2854","v":"Bugle"},{"$f":"DICTIONARY!O2854","v":"रणसिंगा,बिगुल"},"रणसिंगा,बिगुल",{"$f":"DICTIONARY!P2856","v":"MUSIC ( संगीत )"},"रणसिंगा,बिगुल","रणसिंगा,बिगुल"]
[null,null,null,null,null,null,null,null,null,{"$f":"IF(K2831=\" \",\" \",ROWS($K$5:K2831))","v":2827},{"$f":"DICTIONARY!M2855","v":"Drum"},{"$f":"DICTIONARY!O2855","v":"ढाक,ढोल"},"ढाक,ढोल",{"$f":"DICTIONARY!P2857","v":"MUSIC ( संगीत )"},"ढाक,ढोल","ढाक,ढोल"]
[null,null,null,null,null,null,null,null,null,{"$f":"IF(K2832=\" \",\" \",ROWS($K$5:K2832))","v":2828},{"$f":"DICTIONARY!M2856","v":"Trumpet"},{"$f":"DICTIONARY!O2856","v":"भेरी"},"भेरी",{"$f":"DICTIONARY!P2858","v":"MUSIC ( संगीत )"},"भेरी","भेरी"]
[null,null,null,null,null,null,null,null,null,{"$f":"IF(K2833=\" \",\" \",ROWS($K$5:K2833))","v":2829},{"$f":"DICTIONARY!M2857","v":"Singer"},{"$f":"DICTIONARY!O2857","v":"गायक"},"गायक",{"$f":"DICTIONARY!P2859","v":"MUSIC ( संगीत )"},"गायक","गायक"]
[null,null,null,null,null,null,null,null,null,{"$f":"IF(K2834=\" \",\" \",ROWS($K$5:K2834))","v":2830},{"$f":"DICTIONARY!M2858","v":"Gramophone"},{"$f":"DICTIONARY!O2858","v":"ग्रामोफोन"},"ग्रामोफोन",{"$f":"DICTIONARY!P2860","v":"MUSIC ( संगीत )"},"ग्रामोफोन","ग्रामोफोन"]
[null,null,null,null,null,null,null,null,null,{"$f":"IF(K2835=\" \",\" \",ROWS($K$5:K2835))","v":2831},{"$f":"DICTIONARY!M2859","v":"Bagpipe"},{"$f":"DICTIONARY!O2859","v":"मशकबीन"},"मशकबीन",{"$f":"DICTIONARY!P2861","v":"MUSIC ( संगीत )"},"मशकबीन","मशकबीन"]
[null,null,null,null,null,null,null,null,null,{"$f":"IF(K2836=\" \",\" \",ROWS($K$5:K2836))","v":2832},{"$f":"DICTIONARY!M2860","v":"Sarengi"},{"$f":"DICTIONARY!O2860","v":"सारंगी"},"सारंगी",{"$f":"DICTIONARY!P2862","v":"MUSIC ( संगीत )"},"सारंगी","सारंगी"]
[null,null,null,null,null,null,null,null,null,{"$f":"IF(K2837=\" \",\" \",ROWS($K$5:K2837))","v":2833},{"$f":"DICTIONARY!M2861","v":"Cymbal"},{"$f":"DICTIONARY!O2861","v":"करताल"},"करताल",{"$f":"DICTIONARY!P2863","v":"MUSIC ( संगीत )"},"करताल","करताल"]
[null,null,null,null,null,null,null,null,null,{"$f":"IF(K2838=\" \",\" \",ROWS($K$5:K2838))","v":2834},{"$f":"DICTIONARY!M2862","v":"Kettle-Drum"},{"$f":"DICTIONARY!O2862","v":"नगाड़ा"},"नगाड़ा",{"$f":"DICTIONARY!P2864","v":"MUSIC ( संगीत )"},"नगाड़ा","नगाड़ा"]
[null,null,null,null,null,null,null,null,null,{"$f":"IF(K2839=\" \",\" \",ROWS($K$5:K2839))","v":2835},{"$f":"DICTIONARY!M2863","v":"Cineme"},{"$f":"DICTIONARY!O2863","v":"सिनेमा,चलचित्र"},"सिनेमा,चलचित्र",{"$f":"DICTIONARY!P2865","v":"MUSIC ( संगीत )"},"सिनेमा,चलचित्र","सिनेमा,चलचित्र"]
[null,null,null,null,null,null,null,null,null,{"$f":"IF(K2840=\" \",\" \",ROWS($K$5:K2840))","v":2836},{"$f":"DICTIONARY!M2864","v":"Dance-Drama"},{"$f":"DICTIONARY!O2864","v":"नृत्यनाटक"},"नृत्यनाटक",{"$f":"DICTIONARY!P2866","v":"MUSIC ( संगीत )"},"नृत्यनाटक","नृत्यनाटक"]
[null,null,null,null,null,null,null,null,null,{"$f":"IF(K2841=\" \",\" \",ROWS($K$5:K2841))","v":2837},{"$f":"DICTIONARY!M2865","v":"Dulcimer"},{"$f":"DICTIONARY!O2865","v":"सितार"},"सितार",{"$f":"DICTIONARY!P2867","v":"MUSIC ( संगीत )"},"सितार","सितार"]
[null,null,null,null,null,null,null,null,null,{"$f":"IF(K2842=\" \",\" \",ROWS($K$5:K2842))","v":2838},{"$f":"DICTIONARY!M2866","v":"Harp"},{"$f":"DICTIONARY!O2866","v":"वीणा"},"वीणा",{"$f":"DICTIONARY!P2868","v":"MUSIC ( संगीत )"},"वीणा","वीणा"]
[null,null,null,null,null,null,null,null,null,{"$f":"IF(K2843=\" \",\" \",ROWS($K$5:K2843))","v":2839},{"$f":"DICTIONARY!M2867","v":"Harmonium"},{"$f":"DICTIONARY!O2867","v":"हारमोनियम"},"हारमोनियम",{"$f":"DICTIONARY!P2869","v":"MUSIC ( संगीत )"},"हारमोनियम","हारमोनियम"]
[null,null,null,null,null,null,null,null,null,{"$f":"IF(K2844=\" \",\" \",ROWS($K$5:K2844))","v":2840},{"$f":"DICTIONARY!M2868","v":"Swarode"},{"$f":"DICTIONARY!O2868","v":"सरोद"},"सरोद",{"$f":"DICTIONARY!P2870","v":"MUSIC ( संगीत )"},"सरोद","सरोद"]
[null,null,null,null,null,null,null,null,null,{"$f":"IF(K2845=\" \",\" \",ROWS($K$5:K2845))","v":2841},{"$f":"DICTIONARY!M2869","v":"Monochord"},{"$f":"DICTIONARY!O2869","v":"इकतारा"},"इकतारा",{"$f":"DICTIONARY!P2871","v":"MUSIC ( संगीत )"},"इकतारा","इकतारा"]
[null,null,null,null,null,null,null,null,null,{"$f":"IF(K2846=\" \",\" \",ROWS($K$5:K2846))","v":2842},{"$f":"DICTIONARY!M2870","v":"Piano"},{"$f":"DICTIONARY!O2870","v":"पियानो"},"पियानो",{"$f":"DICTIONARY!P2872","v":"MUSIC ( संगीत )"},"पियानो","पियानो"]
[null,null,null,null,null,null,null,null,null,{"$f":"IF(K2847=\" \",\" \",ROWS($K$5:K2847))","v":2843},{"$f":"DICTIONARY!M2871","v":"Tanpura"},{"$f":"DICTIONARY!O2871","v":"तानपुरा"},"तानपुरा",{"$f":"DICTIONARY!P2873","v":"MUSIC ( संगीत )"},"तानपुरा","तानपुरा"]
[null,null,null,null,null,null,null,null,null,{"$f":"IF(K2848=\" \",\" \",ROWS($K$5:K2848))","v":2844},{"$f":"DICTIONARY!M2872","v":"Flute"},{"$f":"DICTIONARY!O2872","v":"बांसुरी"},"बांसुरी",{"$f":"DICTIONARY!P2874","v":"MUSIC ( संगीत )"},"बांसुरी","बांसुरी"]
[null,null,null,null,null,null,null,null,null,{"$f":"IF(K2849=\" \",\" \",ROWS($K$5:K2849))","v":2845},{"$f":"DICTIONARY!M2873","v":"Esraj"},{"$f":"DICTIONARY!O2873","v":"इसराज"},"इसराज",{"$f":"DICTIONARY!P2875","v":"MUSIC ( संगीत )"},"इसराज","इसराज"]
[null,null,null,null,null,null,null,null,null,{"$f":"IF(K2850=\" \",\" \",ROWS($K$5:K2850))","v":2846},{"$f":"DICTIONARY!M2874","v":"Tabor"},{"$f":"DICTIONARY!O2874","v":"तबला"},"तबला",{"$f":"DICTIONARY!P2876","v":"MUSIC ( संगीत )"},"तबला","तबला"]
[null,null,null,null,null,null,null,null,null,{"$f":"IF(K2851=\" \",\" \",ROWS($K$5:K2851))","v":2847},{"$f":"DICTIONARY!M2875","v":"Guitar"},{"$f":"DICTIONARY!O2875","v":"गिटार"},"गिटार","MUSIC ( संगीत )","गिटार","गिटार"]
[null,null,null,null,null,null,null,null,null,{"$f":"IF(K2852=\" \",\" \",ROWS($K$5:K2852))","v":2848},{"$f":"DICTIONARY!M2876","v":"Violin"},{"$f":"DICTIONARY!O2876","v":"वायलिन"},"वायलिन","MUSIC ( संगीत )","वायलिन","वायलिन"]
[null,null,null,null,null,null,null,null,null,{"$f":"IF(K2853=\" \",\" \",ROWS($K$5:K2853))","v":2849},{"$f":"DICTIONARY!M2877","v":"Meeting"},{"$f":"DICTIONARY!O2877","v":"सभा,बैठक"},"सभा,बैठक",{"$f":"DICTIONARY!P2879","v":"ABOUT MEETING ( सभा सम्बन्धी )"},"सभा,बैठक","सभा,बैठक"]
[null,null,null,null,null,null,null,null,null,{"$f":"IF(K2854=\" \",\" \",ROWS($K$5:K2854))","v":2850},{"$f":"DICTIONARY!M2878","v":"Speaker"},{"$f":"DICTIONARY!O2878","v":"वक्ता"},"वक्ता",{"$f":"DICTIONARY!P2880","v":"ABOUT MEETING ( सभा सम्बन्धी )"},"वक्ता","वक्ता"]
[null,null,null,null,null,null,null,null,null,{"$f":"IF(K2855=\" \",\" \",ROWS($K$5:K2855))","v":2851},{"$f":"DICTIONARY!M2879","v":"Lecturer"},{"$f":"DICTIONARY!O2879","v":"प्रवक्ता"},"प्रवक्ता",{"$f":"DICTIONARY!P2881","v":"ABOUT MEETING ( सभा सम्बन्धी )"},"प्रवक्ता","प्रवक्ता"]
[null,null,null,null,null,null,null,null,null,{"$f":"IF(K2856=\" \",\" \",ROWS($K$5:K2856))","v":2852},{"$f":"DICTIONARY!M2880","v":"President"},{"$f":"DICTIONARY!O2880","v":"सभापति,अध्यक्ष"},"सभापति,अध्यक्ष",{"$f":"DICTIONARY!P2882","v":"ABOUT MEETING ( सभा सम्बन्धी )"},"सभापति,अध्यक्ष","सभापति,अध्यक्ष"]
[null,null,null,null,null,null,null,null,null,{"$f":"IF(K2857=\" \",\" \",ROWS($K$5:K2857))","v":2853},{"$f":"DICTIONARY!M2881","v":"Secretary"},{"$f":"DICTIONARY!O2881","v":"सचिव"},"सचिव",{"$f":"DICTIONARY!P2883","v":"ABOUT MEETING ( सभा सम्बन्धी )"},"सचिव","सचिव"]
[null,null,null,null,null,null,null,null,null,{"$f":"IF(K2858=\" \",\" \",ROWS($K$5:K2858))","v":2854},{"$f":"DICTIONARY!M2882","v":"Resolution"},{"$f":"DICTIONARY!O2882","v":"प्रस्ताव"},"प्रस्ताव",{"$f":"DICTIONARY!P2884","v":"ABOUT MEETING ( सभा सम्बन्धी )"},"प्रस्ताव","प्रस्ताव"]
[null,null,null,null,null,null,null,null,null,{"$f":"IF(K2859=\" \",\" \",ROWS($K$5:K2859))","v":2855},{"$f":"DICTIONARY!M2883","v":"Chief-Guest"},{"$f":"DICTIONARY!O2883","v":"मुख्य-अथिति"},"मुख्य-अथिति",{"$f":"DICTIONARY!P2885","v":"ABOUT MEETING ( सभा सम्बन्धी )"},"मुख्य-अथिति","मुख्य-अथिति"]
[null,null,null,null,null,null,null,null,null,{"$f":"IF(K2860=\" \",\" \",ROWS($K$5:K2860))","v":2856},{"$f":"DICTIONARY!M2884","v":"Support"},{"$f":"DICTIONARY!O2884","v":"समर्थन"},"समर्थन",{"$f":"DICTIONARY!P2886","v":"ABOUT MEETING ( सभा सम्बन्धी )"},"समर्थन","समर्थन"]
[null,null,null,null,null,null,null,null,null,{"$f":"IF(K2861=\" \",\" \",ROWS($K$5:K2861))","v":2857},{"$f":"DICTIONARY!M2885","v":"Election-Meeting"},{"$f":"DICTIONARY!O2885","v":"निर्वाचन-सभा"},"निर्वाचन-सभा",{"$f":"DICTIONARY!P2887","v":"ABOUT MEETING ( सभा सम्बन्धी )"},"निर्वाचन-सभा","निर्वाचन-सभा"]
[null,null,null,null,null,null,null,null,null,{"$f":"IF(K2862=\" \",\" \",ROWS($K$5:K2862))","v":2858},{"$f":"DICTIONARY!M2886","v":"Public-Meeting"},{"$f":"DICTIONARY!O2886","v":"जनसभा"},"जनसभा",{"$f":"DICTIONARY!P2888","v":"ABOUT MEETING ( सभा सम्बन्धी )"},"जनसभा","जनसभा"]
[null,null,null,null,null,null,null,null,null,{"$f":"IF(K2863=\" \",\" \",ROWS($K$5:K2863))","v":2859},{"$f":"DICTIONARY!M2887","v":"Quorum"},{"$f":"DICTIONARY!O2887","v":"कोरम,आवश्यक उपस्थिति"},"कोरम,आवश्यक उपस्थिति",{"$f":"DICTIONARY!P2889","v":"ABOUT MEETING ( सभा सम्बन्धी )"},"कोरम,आवश्यक उपस्थिति","कोरम,आवश्यक उपस्थिति"]
[null,null,null,null,null,null,null,null,null,{"$f":"IF(K2864=\" \",\" \",ROWS($K$5:K2864))","v":2860},{"$f":"DICTIONARY!M2888","v":"Association"},{"$f":"DICTIONARY!O2888","v":"समिति"},"समिति",{"$f":"DICTIONARY!P2890","v":"ABOUT MEETING ( सभा सम्बन्धी )"},"समिति","समिति"]
[null,null,null,null,null,null,null,null,null,{"$f":"IF(K2865=\" \",\" \",ROWS($K$5:K2865))","v":2861},{"$f":"DICTIONARY!M2889","v":"Procession"},{"$f":"DICTIONARY!O2889","v":"जुलूस"},"जुलूस",{"$f":"DICTIONARY!P2891","v":"ABOUT MEETING ( सभा सम्बन्धी )"},"जुलूस","जुलूस"]
[null,null,null,null,null,null,null,null,null,{"$f":"IF(K2866=\" \",\" \",ROWS($K$5:K2866))","v":2862},{"$f":"DICTIONARY!M2890","v":"Condolence Meeting"},{"$f":"DICTIONARY!O2890","v":"शोक-सभा"},"शोक-सभा",{"$f":"DICTIONARY!P2892","v":"ABOUT MEETING ( सभा सम्बन्धी )"},"शोक-सभा","शोक-सभा"]
[null,null,null,null,null,null,null,null,null,{"$f":"IF(K2867=\" \",\" \",ROWS($K$5:K2867))","v":2863},{"$f":"DICTIONARY!M2891","v":"Gathering"},{"$f":"DICTIONARY!O2891","v":"जनसमावेश"},"जनसमावेश","ABOUT MEETING ( सभा सम्बन्धी )","जनसमावेश","जनसमावेश"]
[null,null,null,null,null,null,null,null,null,{"$f":"IF(K2868=\" \",\" \",ROWS($K$5:K2868))","v":2864},{"$f":"DICTIONARY!M2892","v":"Public"},{"$f":"DICTIONARY!O2892","v":"जनसाधारण"},"जनसाधारण","ABOUT MEETING ( सभा सम्बन्धी )","जनसाधारण","जनसाधारण"]
[null,null,null,null,null,null,null,null,null,{"$f":"IF(K2869=\" \",\" \",ROWS($K$5:K2869))","v":2865},{"$f":"DICTIONARY!M2893","v":"Aeroplane"},{"$f":"DICTIONARY!O2893","v":"विमनापोत,वायुयान,हवाई जहाज"},"विमनापोत,वायुयान,हवाई जहाज",{"$f":"DICTIONARY!P2895","v":"CONVEYANCE ( वाहन-सवारी )"},"विमनापोत,वायुयान,हवाई जहाज","विमनापोत,वायुयान,हवाई जहाज"]
[null,null,null,null,null,null,null,null,null,{"$f":"IF(K2870=\" \",\" \",ROWS($K$5:K2870))","v":2866},{"$f":"DICTIONARY!M2894","v":"Airport"},{"$f":"DICTIONARY!O2894","v":"हवाई अड्डा"},"हवाई अड्डा",{"$f":"DICTIONARY!P2896","v":"CONVEYANCE ( वाहन-सवारी )"},"हवाई अड्डा","हवाई अड्डा"]
[null,null,null,null,null,null,null,null,null,{"$f":"IF(K2871=\" \",\" \",ROWS($K$5:K2871))","v":2867},{"$f":"DICTIONARY!M2895","v":"Pilot"},{"$f":"DICTIONARY!O2895","v":"विमानचालक"},"विमानचालक",{"$f":"DICTIONARY!P2897","v":"CONVEYANCE ( वाहन-सवारी )"},"विमानचालक","विमानचालक"]
[null,null,null,null,null,null,null,null,null,{"$f":"IF(K2872=\" \",\" \",ROWS($K$5:K2872))","v":2868},{"$f":"DICTIONARY!M2896","v":"Ship"},{"$f":"DICTIONARY!O2896","v":"पानी का जहाज,जलयान"},"पानी का जहाज,जलयान",{"$f":"DICTIONARY!P2898","v":"CONVEYANCE ( वाहन-सवारी )"},"पानी का जहाज,जलयान","पानी का जहाज,जलयान"]
[null,null,null,null,null,null,null,null,null,{"$f":"IF(K2873=\" \",\" \",ROWS($K$5:K2873))","v":2869},{"$f":"DICTIONARY!M2897","v":"Ship-Of-War"},{"$f":"DICTIONARY!O2897","v":"जंगी-जहाज ,युध्दपोत"},"जंगी-जहाज ,युध्दपोत",{"$f":"DICTIONARY!P2899","v":"CONVEYANCE ( वाहन-सवारी )"},"जंगी-जहाज ,युध्दपोत","जंगी-जहाज ,युध्दपोत"]
[null,null,null,null,null,null,null,null,null,{"$f":"IF(K2874=\" \",\" \",ROWS($K$5:K2874))","v":2870},{"$f":"DICTIONARY!M2898","v":"Ferry-Boat"},{"$f":"DICTIONARY!O2898","v":"पार करने वाली नाव"},"पार करने वाली नाव",{"$f":"DICTIONARY!P2900","v":"CONVEYANCE ( वाहन-सवारी )"},"पार करने वाली नाव","पार करने वाली नाव"]
[null,null,null,null,null,null,null,null,null,{"$f":"IF(K2875=\" \",\" \",ROWS($K$5:K2875))","v":2871},{"$f":"DICTIONARY!M2899","v":"Boat"},{"$f":"DICTIONARY!O2899","v":"नाव"},"नाव",{"$f":"DICTIONARY!P2901","v":"CONVEYANCE ( वाहन-सवारी )"},"नाव","नाव"]
[null,null,null,null,null,null,null,null,null,{"$f":"IF(K2876=\" \",\" \",ROWS($K$5:K2876))","v":2872},{"$f":"DICTIONARY!M2900","v":"Steamer"},{"$f":"DICTIONARY!O2900","v":"स्टीमर"},"स्टीमर",{"$f":"DICTIONARY!P2902","v":"CONVEYANCE ( वाहन-सवारी )"},"स्टीमर","स्टीमर"]
[null,null,null,null,null,null,null,null,null,{"$f":"IF(K2877=\" \",\" \",ROWS($K$5:K2877))","v":2873},{"$f":"DICTIONARY!M2901","v":"Green-Boat"},{"$f":"DICTIONARY!O2901","v":"प्रमोद-नौका"},"प्रमोद-नौका",{"$f":"DICTIONARY!P2903","v":"CONVEYANCE ( वाहन-सवारी )"},"प्रमोद-नौका","प्रमोद-नौका"]
[null,null,null,null,null,null,null,null,null,{"$f":"IF(K2878=\" \",\" \",ROWS($K$5:K2878))","v":2874},{"$f":"DICTIONARY!M2902","v":"Cart"},{"$f":"DICTIONARY!O2902","v":"बैलगाड़ी"},"बैलगाड़ी",{"$f":"DICTIONARY!P2904","v":"CONVEYANCE ( वाहन-सवारी )"},"बैलगाड़ी","बैलगाड़ी"]
[null,null,null,null,null,null,null,null,null,{"$f":"IF(K2879=\" \",\" \",ROWS($K$5:K2879))","v":2875},{"$f":"DICTIONARY!M2903","v":"Coach"},{"$f":"DICTIONARY!O2903","v":"घोड़ागाड़ी"},"घोड़ागाड़ी",{"$f":"DICTIONARY!P2905","v":"CONVEYANCE ( वाहन-सवारी )"},"घोड़ागाड़ी","घोड़ागाड़ी"]
[null,null,null,null,null,null,null,null,null,{"$f":"IF(K2880=\" \",\" \",ROWS($K$5:K2880))","v":2876},{"$f":"DICTIONARY!M2904","v":"Bicycle"},{"$f":"DICTIONARY!O2904","v":"साईंकिल"},"साईंकिल",{"$f":"DICTIONARY!P2906","v":"CONVEYANCE ( वाहन-सवारी )"},"साईंकिल","साईंकिल"]
[null,null,null,null,null,null,null,null,null,{"$f":"IF(K2881=\" \",\" \",ROWS($K$5:K2881))","v":2877},{"$f":"DICTIONARY!M2905","v":"Rickshaw"},{"$f":"DICTIONARY!O2905","v":"रिक्शा"},"रिक्शा",{"$f":"DICTIONARY!P2907","v":"CONVEYANCE ( वाहन-सवारी )"},"रिक्शा","रिक्शा"]
[null,null,null,null,null,null,null,null,null,{"$f":"IF(K2882=\" \",\" \",ROWS($K$5:K2882))","v":2878},{"$f":"DICTIONARY!M2906","v":"Motor-Car"},{"$f":"DICTIONARY!O2906","v":"मोटर"},"मोटर",{"$f":"DICTIONARY!P2908","v":"CONVEYANCE ( वाहन-सवारी )"},"मोटर","मोटर"]
[null,null,null,null,null,null,null,null,null,{"$f":"IF(K2883=\" \",\" \",ROWS($K$5:K2883))","v":2879},{"$f":"DICTIONARY!M2907","v":"Driver"},{"$f":"DICTIONARY!O2907","v":"चालक"},"चालक",{"$f":"DICTIONARY!P2909","v":"CONVEYANCE ( वाहन-सवारी )"},"चालक","चालक"]
[null,null,null,null,null,null,null,null,null,{"$f":"IF(K2884=\" \",\" \",ROWS($K$5:K2884))","v":2880},{"$f":"DICTIONARY!M2908","v":"Passenger"},{"$f":"DICTIONARY!O2908","v":"यात्री,सवारी"},"यात्री,सवारी",{"$f":"DICTIONARY!P2910","v":"CONVEYANCE ( वाहन-सवारी )"},"यात्री,सवारी","यात्री,सवारी"]
[null,null,null,null,null,null,null,null,null,{"$f":"IF(K2885=\" \",\" \",ROWS($K$5:K2885))","v":2881},{"$f":"DICTIONARY!M2909","v":"Wagon"},{"$f":"DICTIONARY!O2909","v":"मालगाड़ी का डब्बा"},"मालगाड़ी का डब्बा",{"$f":"DICTIONARY!P2911","v":"CONVEYANCE ( वाहन-सवारी )"},{"$f":"M2885","v":"मालगाड़ी का डब्बा"},{"$f":"L2885","v":"मालगाड़ी का डब्बा"}]
[null,null,null,null,null,null,null,null,null,{"$f":"IF(K2886=\" \",\" \",ROWS($K$5:K2886))","v":2882},{"$f":"DICTIONARY!M2910","v":"Bus"},{"$f":"DICTIONARY!O2910","v":"बस"},{"$f":"L2886","v":"बस"},{"$f":"DICTIONARY!P2912","v":"CONVEYANCE ( वाहन-सवारी )"},"बस","बस"]
[null,null,null,null,null,null,null,null,null,{"$f":"IF(K2887=\" \",\" \",ROWS($K$5:K2887))","v":2883},{"$f":"DICTIONARY!M2911","v":"Train"},{"$f":"DICTIONARY!O2911","v":"रेलगाड़ी"},"रेलगाड़ी",{"$f":"DICTIONARY!P2913","v":"CONVEYANCE ( वाहन-सवारी )"},"रेलगाड़ी","रेलगाड़ी"]
[null,null,null,null,null,null,null,null,null,{"$f":"IF(K2888=\" \",\" \",ROWS($K$5:K2888))","v":2884},{"$f":"DICTIONARY!M2912","v":"Palanquin"},{"$f":"DICTIONARY!O2912","v":"पालकी"},"पालकी",{"$f":"DICTIONARY!P2914","v":"CONVEYANCE ( वाहन-सवारी )"},"पालकी","पालकी"]
[null,null,null,null,null,null,null,null,null,{"$f":"IF(K2889=\" \",\" \",ROWS($K$5:K2889))","v":2885},{"$f":"DICTIONARY!M2913","v":" Cabin"},{"$f":"DICTIONARY!O2913","v":"जहाज की कोठरी"},"जहाज की कोठरी",{"$f":"DICTIONARY!P2915","v":"CONVEYANCE ( वाहन-सवारी )"},"जहाज की कोठरी","जहाज की कोठरी"]
[null,null,null,null,null,null,null,null,null,{"$f":"IF(K2890=\" \",\" \",ROWS($K$5:K2890))","v":2886},{"$f":"DICTIONARY!M2914","v":"Sailor"},{"$f":"DICTIONARY!O2914","v":"नाविक"},"नाविक",{"$f":"DICTIONARY!P2916","v":"CONVEYANCE ( वाहन-सवारी )"},"नाविक","नाविक"]
[null,null,null,null,null,null,null,null,null,{"$f":"IF(K2891=\" \",\" \",ROWS($K$5:K2891))","v":2887},{"$f":"DICTIONARY!M2915","v":"Deck"},{"$f":"DICTIONARY!O2915","v":"जहाज की छत"},"जहाज की छत",{"$f":"DICTIONARY!P2917","v":"CONVEYANCE ( वाहन-सवारी )"},"जहाज की छत","जहाज की छत"]
[null,null,null,null,null,null,null,null,null,{"$f":"IF(K2892=\" \",\" \",ROWS($K$5:K2892))","v":2888},{"$f":"DICTIONARY!M2916","v":"Tandem"},{"$f":"DICTIONARY!O2916","v":"टमटम"},"टमटम",{"$f":"DICTIONARY!P2918","v":"CONVEYANCE ( वाहन-सवारी )"},"टमटम","टमटम"]
[null,null,null,null,null,null,null,null,null,{"$f":"IF(K2893=\" \",\" \",ROWS($K$5:K2893))","v":2889},{"$f":"DICTIONARY!M2917","v":"Car"},{"$f":"DICTIONARY!O2917","v":"कार"},"कार",{"$f":"DICTIONARY!P2919","v":"CONVEYANCE ( वाहन-सवारी )"},"कार","कार"]
[null,null,null,null,null,null,null,null,null,{"$f":"IF(K2894=\" \",\" \",ROWS($K$5:K2894))","v":2890},{"$f":"DICTIONARY!M2918","v":"Carriage"},{"$f":"DICTIONARY!O2918","v":"गाड़ी"},"गाड़ी",{"$f":"DICTIONARY!P2920","v":"CONVEYANCE ( वाहन-सवारी )"},"गाड़ी","गाड़ी"]
[null,null,null,null,null,null,null,null,null,{"$f":"IF(K2895=\" \",\" \",ROWS($K$5:K2895))","v":2891},{"$f":"DICTIONARY!M2919","v":"Omnibus"},{"$f":"DICTIONARY!O2919","v":"बस"},"बस",{"$f":"DICTIONARY!P2921","v":"CONVEYANCE ( वाहन-सवारी )"},"बस","बस"]
[null,null,null,null,null,null,null,null,null,{"$f":"IF(K2896=\" \",\" \",ROWS($K$5:K2896))","v":2892},{"$f":"DICTIONARY!M2920","v":"Chariot"},{"$f":"DICTIONARY!O2920","v":"रथ"},"रथ",{"$f":"DICTIONARY!P2922","v":"CONVEYANCE ( वाहन-सवारी )"},"रथ","रथ"]
[null,null,null,null,null,null,null,null,null,{"$f":"IF(K2897=\" \",\" \",ROWS($K$5:K2897))","v":2893},{"$f":"DICTIONARY!M2921","v":"Taxi"},{"$f":"DICTIONARY!O2921","v":"भाडा गाड़ी"},"भाडा गाड़ी",{"$f":"DICTIONARY!P2923","v":"CONVEYANCE ( वाहन-सवारी )"},"भाडा गाड़ी","भाडा गाड़ी"]
[null,null,null,null,null,null,null,null,null,{"$f":"IF(K2898=\" \",\" \",ROWS($K$5:K2898))","v":2894},{"$f":"DICTIONARY!M2922","v":"Cabin"},{"$f":"DICTIONARY!O2922","v":"भाडा गाड़ी"},"भाडा गाड़ी",{"$f":"DICTIONARY!P2924","v":"CONVEYANCE ( वाहन-सवारी )"},"भाडा गाड़ी","भाडा गाड़ी"]
[null,null,null,null,null,null,null,null,null,{"$f":"IF(K2899=\" \",\" \",ROWS($K$5:K2899))","v":2895},{"$f":"DICTIONARY!M2923","v":"Troolley"},{"$f":"DICTIONARY!O2923","v":"ठेला"},"ठेला",{"$f":"DICTIONARY!P2925","v":"CONVEYANCE ( वाहन-सवारी )"},"ठेला","ठेला"]
[null,null,null,null,null,null,null,null,null,{"$f":"IF(K2900=\" \",\" \",ROWS($K$5:K2900))","v":2896},{"$f":"DICTIONARY!M2924","v":"Harbour"},{"$f":"DICTIONARY!O2924","v":"बंदरगाह"},"बंदरगाह",{"$f":"DICTIONARY!P2926","v":"CONVEYANCE ( वाहन-सवारी )"},"बंदरगाह","बंदरगाह"]
[null,null,null,null,null,null,null,null,null,{"$f":"IF(K2901=\" \",\" \",ROWS($K$5:K2901))","v":2897},{"$f":"DICTIONARY!M2925","v":"Anchor"},{"$f":"DICTIONARY!O2925","v":"लंगर"},"लंगर",{"$f":"DICTIONARY!P2927","v":"CONVEYANCE ( वाहन-सवारी )"},"लंगर","लंगर"]
[null,null,null,null,null,null,null,null,null,{"$f":"IF(K2902=\" \",\" \",ROWS($K$5:K2902))","v":2898},{"$f":"DICTIONARY!M2926","v":"Boatman"},{"$f":"DICTIONARY!O2926","v":"नाविक"},"नाविक",{"$f":"DICTIONARY!P2928","v":"CONVEYANCE ( वाहन-सवारी )"},"नाविक","नाविक"]
[null,null,null,null,null,null,null,null,null,{"$f":"IF(K2903=\" \",\" \",ROWS($K$5:K2903))","v":2899},{"$f":"DICTIONARY!M2927","v":"Tram-Car"},{"$f":"DICTIONARY!O2927","v":"ट्रामगाड़ी"},"ट्रामगाड़ी",{"$f":"DICTIONARY!P2929","v":"CONVEYANCE ( वाहन-सवारी )"},"ट्रामगाड़ी","ट्रामगाड़ी"]
[null,null,null,null,null,null,null,null,null,{"$f":"IF(K2904=\" \",\" \",ROWS($K$5:K2904))","v":2900},{"$f":"DICTIONARY!M2928","v":"Mast"},{"$f":"DICTIONARY!O2928","v":"मस्तूल"},"मस्तूल",{"$f":"DICTIONARY!P2930","v":"CONVEYANCE ( वाहन-सवारी )"},"मस्तूल","मस्तूल"]
[null,null,null,null,null,null,null,null,null,{"$f":"IF(K2905=\" \",\" \",ROWS($K$5:K2905))","v":2901},{"$f":"DICTIONARY!M2929","v":" Oar"},{"$f":"DICTIONARY!O2929","v":"पतवार"},"पतवार",{"$f":"DICTIONARY!P2931","v":"CONVEYANCE ( वाहन-सवारी )"},"पतवार","पतवार"]
[null,null,null,null,null,null,null,null,null,{"$f":"IF(K2906=\" \",\" \",ROWS($K$5:K2906))","v":2902},{"$f":"DICTIONARY!M2930","v":"Paddle"},{"$f":"DICTIONARY!O2930","v":"चप्पू"},"चप्पू",{"$f":"DICTIONARY!P2932","v":"CONVEYANCE ( वाहन-सवारी )"},"चप्पू","चप्पू"]
[null,null,null,null,null,null,null,null,null,{"$f":"IF(K2907=\" \",\" \",ROWS($K$5:K2907))","v":2903},{"$f":"DICTIONARY!M2931","v":"Helm"},{"$f":"DICTIONARY!O2931","v":"पतवार"},"पतवार",{"$f":"DICTIONARY!P2933","v":"CONVEYANCE ( वाहन-सवारी )"},"पतवार","पतवार"]
[null,null,null,null,null,null,null,null,null,{"$f":"IF(K2908=\" \",\" \",ROWS($K$5:K2908))","v":2904},{"$f":"DICTIONARY!M2932","v":"Sail"},{"$f":"DICTIONARY!O2932","v":"पाल"},"पाल",{"$f":"DICTIONARY!P2934","v":"CONVEYANCE ( वाहन-सवारी )"},"पाल","पाल"]
[null,null,null,null,null,null,null,null,null,{"$f":"IF(K2909=\" \",\" \",ROWS($K$5:K2909))","v":2905},{"$f":"DICTIONARY!M2933","v":"Goods-Train"},{"$f":"DICTIONARY!O2933","v":"मालगाड़ी "},"मालगाड़ी ",{"$f":"DICTIONARY!P2935","v":"CONVEYANCE ( वाहन-सवारी )"},"मालगाड़ी ","मालगाड़ी "]
[null,null,null,null,null,null,null,null,null,{"$f":"IF(K2910=\" \",\" \",ROWS($K$5:K2910))","v":2906},{"$f":"DICTIONARY!M2934","v":"Duble-Decker Bus"},{"$f":"DICTIONARY!O2934","v":"दोतल्ला बस"},"दोतल्ला बस",{"$f":"DICTIONARY!P2936","v":"CONVEYANCE ( वाहन-सवारी )"},"दोतल्ला बस","दोतल्ला बस"]
[null,null,null,null,null,null,null,null,null,{"$f":"IF(K2911=\" \",\" \",ROWS($K$5:K2911))","v":2907},{"$f":"DICTIONARY!M2935","v":"Lorry"},{"$f":"DICTIONARY!O2935","v":"लारी"},"लारी",{"$f":"DICTIONARY!P2937","v":"CONVEYANCE ( वाहन-सवारी )"},"लारी","लारी"]
[null,null,null,null,null,null,null,null,null,{"$f":"IF(K2912=\" \",\" \",ROWS($K$5:K2912))","v":2908},{"$f":"DICTIONARY!M2936","v":"Bridge"},{"$f":"DICTIONARY!O2936","v":"पुल"},"पुल",{"$f":"DICTIONARY!P2938","v":"CONVEYANCE ( वाहन-सवारी )"},"पुल","पुल"]
[null,null,null,null,null,null,null,null,null,{"$f":"IF(K2913=\" \",\" \",ROWS($K$5:K2913))","v":2909},{"$f":"DICTIONARY!M2937","v":"Culvert"},{"$f":"DICTIONARY!O2937","v":"पुलिया"},"पुलिया",{"$f":"DICTIONARY!P2939","v":"CONVEYANCE ( वाहन-सवारी )"},"पुलिया","पुलिया"]
[null,null,null,null,null,null,null,null,null,{"$f":"IF(K2914=\" \",\" \",ROWS($K$5:K2914))","v":2910},{"$f":"DICTIONARY!M2938","v":"Lane"},{"$f":"DICTIONARY!O2938","v":"गली"},"गली",{"$f":"DICTIONARY!P2940","v":"CONVEYANCE ( वाहन-सवारी )"},"गली","गली"]
[null,null,null,null,null,null,null,null,null,{"$f":"IF(K2915=\" \",\" \",ROWS($K$5:K2915))","v":2911},{"$f":"DICTIONARY!M2939","v":"Briddle"},{"$f":"DICTIONARY!O2939","v":"लगाम"},"लगाम",{"$f":"DICTIONARY!P2941","v":"CONVEYANCE ( वाहन-सवारी )"},"लगाम","लगाम"]
[null,null,null,null,null,null,null,null,null,{"$f":"IF(K2916=\" \",\" \",ROWS($K$5:K2916))","v":2912},{"$f":"DICTIONARY!M2940","v":"Wheel"},{"$f":"DICTIONARY!O2940","v":"पहिया"},"पहिया",{"$f":"DICTIONARY!P2942","v":"CONVEYANCE ( वाहन-सवारी )"},"पहिया","पहिया"]
[null,null,null,null,null,null,null,null,null,{"$f":"IF(K2917=\" \",\" \",ROWS($K$5:K2917))","v":2913},{"$f":"DICTIONARY!M2941","v":"Road"},{"$f":"DICTIONARY!O2941","v":"रास्ता,सड़क"},"रास्ता,सड़क",{"$f":"DICTIONARY!P2943","v":"CONVEYANCE ( वाहन-सवारी )"},"रास्ता,सड़क","रास्ता,सड़क"]
[null,null,null,null,null,null,null,null,null,{"$f":"IF(K2918=\" \",\" \",ROWS($K$5:K2918))","v":2914},{"$f":"DICTIONARY!M2942","v":"Litter"},{"$f":"DICTIONARY!O2942","v":"डोली"},"डोली",{"$f":"DICTIONARY!P2944","v":"CONVEYANCE ( वाहन-सवारी )"},"डोली","डोली"]
[null,null,null,null,null,null,null,null,null,{"$f":"IF(K2919=\" \",\" \",ROWS($K$5:K2919))","v":2915},{"$f":"DICTIONARY!M2943","v":"Bearer"},{"$f":"DICTIONARY!O2943","v":"वाहक"},"वाहक",{"$f":"DICTIONARY!P2945","v":"CONVEYANCE ( वाहन-सवारी )"},"वाहक","वाहक"]
[null,null,null,null,null,null,null,null,null,{"$f":"IF(K2920=\" \",\" \",ROWS($K$5:K2920))","v":2916},{"$f":"DICTIONARY!M2944","v":"Whip"},{"$f":"DICTIONARY!O2944","v":"चाबुक"},"चाबुक","CONVEYANCE ( वाहन-सवारी )","चाबुक","चाबुक"]
[null,null,null,null,null,null,null,null,null,{"$f":"IF(K2921=\" \",\" \",ROWS($K$5:K2921))","v":2917},{"$f":"DICTIONARY!M2945","v":"Street"},{"$f":"DICTIONARY!O2945","v":"रास्ता,गली"},"रास्ता,गली","CONVEYANCE ( वाहन-सवारी )","रास्ता,गली","रास्ता,गली"]
[null,null,null,null,null,null,null,null,null,{"$f":"IF(K2922=\" \",\" \",ROWS($K$5:K2922))","v":2918},{"$f":"DICTIONARY!M2946","v":"Trade"},{"$f":"DICTIONARY!O2946","v":"व्यापार"},"व्यापार",{"$f":"DICTIONARY!P2948","v":"TRADE AND COMMERCE ( वाणिज्य-व्यवसाय )"},"व्यापार","व्यापार"]
[null,null,null,null,null,null,null,null,null,{"$f":"IF(K2923=\" \",\" \",ROWS($K$5:K2923))","v":2919},{"$f":"DICTIONARY!M2947","v":"Goods"},{"$f":"DICTIONARY!O2947","v":"माल"},"माल",{"$f":"DICTIONARY!P2949","v":"TRADE AND COMMERCE ( वाणिज्य-व्यवसाय )"},"माल","माल"]
[null,null,null,null,null,null,null,null,null,{"$f":"IF(K2924=\" \",\" \",ROWS($K$5:K2924))","v":2920},{"$f":"DICTIONARY!M2948","v":"Import"},{"$f":"DICTIONARY!O2948","v":"आयात"},"आयात",{"$f":"DICTIONARY!P2950","v":"TRADE AND COMMERCE ( वाणिज्य-व्यवसाय )"},"आयात","आयात"]
[null,null,null,null,null,null,null,null,null,{"$f":"IF(K2925=\" \",\" \",ROWS($K$5:K2925))","v":2921},{"$f":"DICTIONARY!M2949","v":"Market"},{"$f":"DICTIONARY!O2949","v":"बाजार"},"बाजार",{"$f":"DICTIONARY!P2951","v":"TRADE AND COMMERCE ( वाणिज्य-व्यवसाय )"},"बाजार","बाजार"]
[null,null,null,null,null,null,null,null,null,{"$f":"IF(K2926=\" \",\" \",ROWS($K$5:K2926))","v":2922},{"$f":"DICTIONARY!M2950","v":" Commerce"},{"$f":"DICTIONARY!O2950","v":"व्यवसाय"},"व्यवसाय",{"$f":"DICTIONARY!P2952","v":"TRADE AND COMMERCE ( वाणिज्य-व्यवसाय )"},"व्यवसाय","व्यवसाय"]
[null,null,null,null,null,null,null,null,null,{"$f":"IF(K2927=\" \",\" \",ROWS($K$5:K2927))","v":2923},{"$f":"DICTIONARY!M2951","v":"Pay"},{"$f":"DICTIONARY!O2951","v":"वेतन"},"वेतन",{"$f":"DICTIONARY!P2953","v":"TRADE AND COMMERCE ( वाणिज्य-व्यवसाय )"},"वेतन","वेतन"]
[null,null,null,null,null,null,null,null,null,{"$f":"IF(K2928=\" \",\" \",ROWS($K$5:K2928))","v":2924},{"$f":"DICTIONARY!M2952","v":"Exchange"},{"$f":"DICTIONARY!O2952","v":"विनिमय"},"विनिमय",{"$f":"DICTIONARY!P2954","v":"TRADE AND COMMERCE ( वाणिज्य-व्यवसाय )"},"विनिमय","विनिमय"]
[null,null,null,null,null,null,null,null,null,{"$f":"IF(K2929=\" \",\" \",ROWS($K$5:K2929))","v":2925},{"$f":"DICTIONARY!M2953","v":"Office"},{"$f":"DICTIONARY!O2953","v":"कार्यालय"},"कार्यालय",{"$f":"DICTIONARY!P2955","v":"TRADE AND COMMERCE ( वाणिज्य-व्यवसाय )"},"कार्यालय","कार्यालय"]
[null,null,null,null,null,null,null,null,null,{"$f":"IF(K2930=\" \",\" \",ROWS($K$5:K2930))","v":2926},{"$f":"DICTIONARY!M2954","v":" Fair"},{"$f":"DICTIONARY!O2954","v":"हाट,मेला"},"हाट,मेला",{"$f":"DICTIONARY!P2956","v":"TRADE AND COMMERCE ( वाणिज्य-व्यवसाय )"},"हाट,मेला","हाट,मेला"]
[null,null,null,null,null,null,null,null,null,{"$f":"IF(K2931=\" \",\" \",ROWS($K$5:K2931))","v":2927},{"$f":"DICTIONARY!M2955","v":"Expense"},{"$f":"DICTIONARY!O2955","v":"व्यय"},"व्यय",{"$f":"DICTIONARY!P2957","v":"TRADE AND COMMERCE ( वाणिज्य-व्यवसाय )"},"व्यय","व्यय"]
[null,null,null,null,null,null,null,null,null,{"$f":"IF(K2932=\" \",\" \",ROWS($K$5:K2932))","v":2928},{"$f":"DICTIONARY!M2956","v":"Income"},{"$f":"DICTIONARY!O2956","v":"आय"},"आय",{"$f":"DICTIONARY!P2958","v":"TRADE AND COMMERCE ( वाणिज्य-व्यवसाय )"},"आय","आय"]
[null,null,null,null,null,null,null,null,null,{"$f":"IF(K2933=\" \",\" \",ROWS($K$5:K2933))","v":2929},{"$f":"DICTIONARY!M2957","v":"Purchase"},{"$f":"DICTIONARY!O2957","v":"खरीद"},"खरीद",{"$f":"DICTIONARY!P2959","v":"TRADE AND COMMERCE ( वाणिज्य-व्यवसाय )"},"खरीद","खरीद"]
[null,null,null,null,null,null,null,null,null,{"$f":"IF(K2934=\" \",\" \",ROWS($K$5:K2934))","v":2930},{"$f":"DICTIONARY!M2958","v":"Saie"},{"$f":"DICTIONARY!O2958","v":"विक्रय"},"विक्रय",{"$f":"DICTIONARY!P2960","v":"TRADE AND COMMERCE ( वाणिज्य-व्यवसाय )"},"विक्रय","विक्रय"]
[null,null,null,null,null,null,null,null,null,{"$f":"IF(K2935=\" \",\" \",ROWS($K$5:K2935))","v":2931},{"$f":"DICTIONARY!M2959","v":"Due"},{"$f":"DICTIONARY!O2959","v":"पावना"},"पावना",{"$f":"DICTIONARY!P2961","v":"TRADE AND COMMERCE ( वाणिज्य-व्यवसाय )"},"पावना","पावना"]
[null,null,null,null,null,null,null,null,null,{"$f":"IF(K2936=\" \",\" \",ROWS($K$5:K2936))","v":2932},{"$f":"DICTIONARY!M2960","v":"Baiance"},{"$f":"DICTIONARY!O2960","v":"शेष"},"शेष",{"$f":"DICTIONARY!P2962","v":"TRADE AND COMMERCE ( वाणिज्य-व्यवसाय )"},"शेष","शेष"]
[null,null,null,null,null,null,null,null,null,{"$f":"IF(K2937=\" \",\" \",ROWS($K$5:K2937))","v":2933},{"$f":"DICTIONARY!M2961","v":"Export"},{"$f":"DICTIONARY!O2961","v":"निर्यात"},"निर्यात",{"$f":"DICTIONARY!P2963","v":"TRADE AND COMMERCE ( वाणिज्य-व्यवसाय )"},"निर्यात","निर्यात"]
[null,null,null,null,null,null,null,null,null,{"$f":"IF(K2938=\" \",\" \",ROWS($K$5:K2938))","v":2934},{"$f":"DICTIONARY!M2962","v":"Profit"},{"$f":"DICTIONARY!O2962","v":"लाभ"},"लाभ",{"$f":"DICTIONARY!P2964","v":"TRADE AND COMMERCE ( वाणिज्य-व्यवसाय )"},"लाभ","लाभ"]
[null,null,null,null,null,null,null,null,null,{"$f":"IF(K2939=\" \",\" \",ROWS($K$5:K2939))","v":2935},{"$f":"DICTIONARY!M2963","v":"List"},{"$f":"DICTIONARY!O2963","v":"तालिका"},"तालिका",{"$f":"DICTIONARY!P2965","v":"TRADE AND COMMERCE ( वाणिज्य-व्यवसाय )"},"तालिका","तालिका"]
[null,null,null,null,null,null,null,null,null,{"$f":"IF(K2940=\" \",\" \",ROWS($K$5:K2940))","v":2936},{"$f":"DICTIONARY!M2964","v":"Loss"},{"$f":"DICTIONARY!O2964","v":"क्षति,हानि"},"क्षति,हानि",{"$f":"DICTIONARY!P2966","v":"TRADE AND COMMERCE ( वाणिज्य-व्यवसाय )"},"क्षति,हानि","क्षति,हानि"]
[null,null,null,null,null,null,null,null,null,{"$f":"IF(K2941=\" \",\" \",ROWS($K$5:K2941))","v":2937},{"$f":"DICTIONARY!M2965","v":"Cost"},{"$f":"DICTIONARY!O2965","v":"खर्च,दाम,मूल्य"},"खर्च,दाम,मूल्य",{"$f":"DICTIONARY!P2967","v":"TRADE AND COMMERCE ( वाणिज्य-व्यवसाय )"},"खर्च,दाम,मूल्य","खर्च,दाम,मूल्य"]
[null,null,null,null,null,null,null,null,null,{"$f":"IF(K2942=\" \",\" \",ROWS($K$5:K2942))","v":2938},{"$f":"DICTIONARY!M2966","v":"Factory"},{"$f":"DICTIONARY!O2966","v":"कारखाना"},"कारखाना",{"$f":"DICTIONARY!P2968","v":"TRADE AND COMMERCE ( वाणिज्य-व्यवसाय )"},"कारखाना","कारखाना"]
[null,null,null,null,null,null,null,null,null,{"$f":"IF(K2943=\" \",\" \",ROWS($K$5:K2943))","v":2939},{"$f":"DICTIONARY!M2967","v":"Invoice"},{"$f":"DICTIONARY!O2967","v":"चालान"},"चालान",{"$f":"DICTIONARY!P2969","v":"TRADE AND COMMERCE ( वाणिज्य-व्यवसाय )"},"चालान","चालान"]
[null,null,null,null,null,null,null,null,null,{"$f":"IF(K2944=\" \",\" \",ROWS($K$5:K2944))","v":2940},{"$f":"DICTIONARY!M2968","v":"Contract"},{"$f":"DICTIONARY!O2968","v":"चूक्त,ठेका,अनुबंध"},"चूक्त,ठेका,अनुबंध",{"$f":"DICTIONARY!P2970","v":"TRADE AND COMMERCE ( वाणिज्य-व्यवसाय )"},"चूक्त,ठेका,अनुबंध","चूक्त,ठेका,अनुबंध"]
[null,null,null,null,null,null,null,null,null,{"$f":"IF(K2945=\" \",\" \",ROWS($K$5:K2945))","v":2941},{"$f":"DICTIONARY!M2969","v":"Barter"},{"$f":"DICTIONARY!O2969","v":"वस्तु,विनिमय"},"वस्तु,विनिमय",{"$f":"DICTIONARY!P2971","v":"TRADE AND COMMERCE ( वाणिज्य-व्यवसाय )"},"वस्तु,विनिमय","वस्तु,विनिमय"]
[null,null,null,null,null,null,null,null,null,{"$f":"IF(K2946=\" \",\" \",ROWS($K$5:K2946))","v":2942},{"$f":"DICTIONARY!M2970","v":"Wages"},{"$f":"DICTIONARY!O2970","v":"मजदूरी"},"मजदूरी",{"$f":"DICTIONARY!P2972","v":"TRADE AND COMMERCE ( वाणिज्य-व्यवसाय )"},"मजदूरी","मजदूरी"]
[null,null,null,null,null,null,null,null,null,{"$f":"IF(K2947=\" \",\" \",ROWS($K$5:K2947))","v":2943},{"$f":"DICTIONARY!M2971","v":"Capital"},{"$f":"DICTIONARY!O2971","v":"मूलधन"},"मूलधन",{"$f":"DICTIONARY!P2973","v":"TRADE AND COMMERCE ( वाणिज्य-व्यवसाय )"},"मूलधन","मूलधन"]
[null,null,null,null,null,null,null,null,null,{"$f":"IF(K2948=\" \",\" \",ROWS($K$5:K2948))","v":2944},{"$f":"DICTIONARY!M2972","v":"Liability"},{"$f":"DICTIONARY!O2972","v":"देय,ऋण"},"देय,ऋण",{"$f":"DICTIONARY!P2974","v":"TRADE AND COMMERCE ( वाणिज्य-व्यवसाय )"},"देय,ऋण","देय,ऋण"]
[null,null,null,null,null,null,null,null,null,{"$f":"IF(K2949=\" \",\" \",ROWS($K$5:K2949))","v":2945},{"$f":"DICTIONARY!M2973","v":"Sampie"},{"$f":"DICTIONARY!O2973","v":"नमूना"},"नमूना",{"$f":"DICTIONARY!P2975","v":"TRADE AND COMMERCE ( वाणिज्य-व्यवसाय )"},{"$f":"M2949","v":"नमूना"},{"$f":"L2949","v":"नमूना"}]
[null,null,null,null,null,null,null,null,null,{"$f":"IF(K2950=\" \",\" \",ROWS($K$5:K2950))","v":2946},{"$f":"DICTIONARY!M2974","v":"Cash-Money"},{"$f":"DICTIONARY!O2974","v":"नगद"},{"$f":"L2950","v":"नगद"},{"$f":"DICTIONARY!P2976","v":"TRADE AND COMMERCE ( वाणिज्य-व्यवसाय )"},"नगद","नगद"]
[null,null,null,null,null,null,null,null,null,{"$f":"IF(K2951=\" \",\" \",ROWS($K$5:K2951))","v":2947},{"$f":"DICTIONARY!M2975","v":"Advance"},{"$f":"DICTIONARY!O2975","v":"रूपया"},"रूपया",{"$f":"DICTIONARY!P2977","v":"TRADE AND COMMERCE ( वाणिज्य-व्यवसाय )"},"रूपया","रूपया"]
[null,null,null,null,null,null,null,null,null,{"$f":"IF(K2952=\" \",\" \",ROWS($K$5:K2952))","v":2948},{"$f":"DICTIONARY!M2976","v":"Cash-Book"},{"$f":"DICTIONARY!O2976","v":"अग्रिम"},"अग्रिम",{"$f":"DICTIONARY!P2978","v":"TRADE AND COMMERCE ( वाणिज्य-व्यवसाय )"},"अग्रिम","अग्रिम"]
[null,null,null,null,null,null,null,null,null,{"$f":"IF(K2953=\" \",\" \",ROWS($K$5:K2953))","v":2949},{"$f":"DICTIONARY!M2977","v":"Credit"},{"$f":"DICTIONARY!O2977","v":"रोकड़"},"रोकड़",{"$f":"DICTIONARY!P2979","v":"TRADE AND COMMERCE ( वाणिज्य-व्यवसाय )"},"रोकड़","रोकड़"]
[null,null,null,null,null,null,null,null,null,{"$f":"IF(K2954=\" \",\" \",ROWS($K$5:K2954))","v":2950},{"$f":"DICTIONARY!M2978","v":"Ledger"},{"$f":"DICTIONARY!O2978","v":"उधार"},"उधार",{"$f":"DICTIONARY!P2980","v":"TRADE AND COMMERCE ( वाणिज्य-व्यवसाय )"},"उधार","उधार"]
[null,null,null,null,null,null,null,null,null,{"$f":"IF(K2955=\" \",\" \",ROWS($K$5:K2955))","v":2951},{"$f":"DICTIONARY!M2979","v":"Godown"},{"$f":"DICTIONARY!O2979","v":"लेजर"},"लेजर",{"$f":"DICTIONARY!P2981","v":"TRADE AND COMMERCE ( वाणिज्य-व्यवसाय )"},"लेजर","लेजर"]
[null,null,null,null,null,null,null,null,null,{"$f":"IF(K2956=\" \",\" \",ROWS($K$5:K2956))","v":2952},{"$f":"DICTIONARY!M2980","v":"Store"},{"$f":"DICTIONARY!O2980","v":"गोदाम"},"गोदाम",{"$f":"DICTIONARY!P2982","v":"TRADE AND COMMERCE ( वाणिज्य-व्यवसाय )"},"गोदाम","गोदाम"]
[null,null,null,null,null,null,null,null,null,{"$f":"IF(K2957=\" \",\" \",ROWS($K$5:K2957))","v":2953},{"$f":"DICTIONARY!M2981","v":"Trader"},{"$f":"DICTIONARY!O2981","v":"गोदाम"},"गोदाम",{"$f":"DICTIONARY!P2983","v":"TRADE AND COMMERCE ( वाणिज्य-व्यवसाय )"},"गोदाम","गोदाम"]
[null,null,null,null,null,null,null,null,null,{"$f":"IF(K2958=\" \",\" \",ROWS($K$5:K2958))","v":2954},{"$f":"DICTIONARY!M2982","v":" Agent"},{"$f":"DICTIONARY!O2982","v":"व्यवसायी"},"व्यवसायी",{"$f":"DICTIONARY!P2984","v":"TRADE AND COMMERCE ( वाणिज्य-व्यवसाय )"},"व्यवसायी","व्यवसायी"]
[null,null,null,null,null,null,null,null,null,{"$f":"IF(K2959=\" \",\" \",ROWS($K$5:K2959))","v":2955},{"$f":"DICTIONARY!M2983","v":"Custom-House"},{"$f":"DICTIONARY!O2983","v":"आढतिया"},"आढतिया",{"$f":"DICTIONARY!P2985","v":"TRADE AND COMMERCE ( वाणिज्य-व्यवसाय )"},"आढतिया","आढतिया"]
[null,null,null,null,null,null,null,null,null,{"$f":"IF(K2960=\" \",\" \",ROWS($K$5:K2960))","v":2956},{"$f":"DICTIONARY!M2984","v":"Petty Expenses"},{"$f":"DICTIONARY!O2984","v":"सीमा-शुल्क भवन"},"सीमा-शुल्क भवन",{"$f":"DICTIONARY!P2986","v":"TRADE AND COMMERCE ( वाणिज्य-व्यवसाय )"},"सीमा-शुल्क भवन","सीमा-शुल्क भवन"]
[null,null,null,null,null,null,null,null,null,{"$f":"IF(K2961=\" \",\" \",ROWS($K$5:K2961))","v":2957},{"$f":"DICTIONARY!M2985","v":"Partner"},{"$f":"DICTIONARY!O2985","v":"मामूली खर्च"},"मामूली खर्च",{"$f":"DICTIONARY!P2987","v":"TRADE AND COMMERCE ( वाणिज्य-व्यवसाय )"},"मामूली खर्च","मामूली खर्च"]
[null,null,null,null,null,null,null,null,null,{"$f":"IF(K2962=\" \",\" \",ROWS($K$5:K2962))","v":2958},{"$f":"DICTIONARY!M2986","v":"Porterage"},{"$f":"DICTIONARY!O2986","v":"भागीदार"},"भागीदार",{"$f":"DICTIONARY!P2988","v":"TRADE AND COMMERCE ( वाणिज्य-व्यवसाय )"},"भागीदार","भागीदार"]
[null,null,null,null,null,null,null,null,null,{"$f":"IF(K2963=\" \",\" \",ROWS($K$5:K2963))","v":2959},{"$f":"DICTIONARY!M2987","v":"Retailer"},{"$f":"DICTIONARY!O2987","v":"मोटिया का भाड़ा कुली की मजदूरी  "},"मोटिया का भाड़ा कुली की मजदूरी  ",{"$f":"DICTIONARY!P2989","v":"TRADE AND COMMERCE ( वाणिज्य-व्यवसाय )"},"मोटिया का भाड़ा कुली की मजदूरी  ","मोटिया का भाड़ा कुली की मजदूरी  "]
[null,null,null,null,null,null,null,null,null,{"$f":"IF(K2964=\" \",\" \",ROWS($K$5:K2964))","v":2960},{"$f":"DICTIONARY!M2988","v":"Duties"},{"$f":"DICTIONARY!O2988","v":"खुदरा विक्रेता "},"खुदरा विक्रेता ",{"$f":"DICTIONARY!P2990","v":"TRADE AND COMMERCE ( वाणिज्य-व्यवसाय )"},"खुदरा विक्रेता ","खुदरा विक्रेता "]
[null,null,null,null,null,null,null,null,null,{"$f":"IF(K2965=\" \",\" \",ROWS($K$5:K2965))","v":2961},{"$f":"DICTIONARY!M2989","v":"Delivery"},{"$f":"DICTIONARY!O2989","v":"वितरण  "},"वितरण  ",{"$f":"DICTIONARY!P2991","v":"TRADE AND COMMERCE ( वाणिज्य-व्यवसाय )"},"वितरण  ","वितरण  "]
[null,null,null,null,null,null,null,null,null,{"$f":"IF(K2966=\" \",\" \",ROWS($K$5:K2966))","v":2962},{"$f":"DICTIONARY!M2990","v":"Release"},{"$f":"DICTIONARY!O2990","v":"निकासी "},"निकासी ",{"$f":"DICTIONARY!P2992","v":"TRADE AND COMMERCE ( वाणिज्य-व्यवसाय )"},"निकासी ","निकासी "]
[null,null,null,null,null,null,null,null,null,{"$f":"IF(K2967=\" \",\" \",ROWS($K$5:K2967))","v":2963},{"$f":"DICTIONARY!M2991","v":"Accounts"},{"$f":"DICTIONARY!O2991","v":"हिसाबलेखा "},"हिसाबलेखा ",{"$f":"DICTIONARY!P2993","v":"TRADE AND COMMERCE ( वाणिज्य-व्यवसाय )"},"हिसाबलेखा ","हिसाबलेखा "]
[null,null,null,null,null,null,null,null,null,{"$f":"IF(K2968=\" \",\" \",ROWS($K$5:K2968))","v":2964},{"$f":"DICTIONARY!M2992","v":" Cheque"},{"$f":"DICTIONARY!O2992","v":"हुण्डी "},"हुण्डी ",{"$f":"DICTIONARY!P2994","v":"TRADE AND COMMERCE ( वाणिज्य-व्यवसाय )"},"हुण्डी ","हुण्डी "]
[null,null,null,null,null,null,null,null,null,{"$f":"IF(K2969=\" \",\" \",ROWS($K$5:K2969))","v":2965},{"$f":"DICTIONARY!M2993","v":"Through"},{"$f":"DICTIONARY!O2993","v":"मार्फ़त "},"मार्फ़त ",{"$f":"DICTIONARY!P2995","v":"TRADE AND COMMERCE ( वाणिज्य-व्यवसाय )"},"मार्फ़त ","मार्फ़त "]
[null,null,null,null,null,null,null,null,null,{"$f":"IF(K2970=\" \",\" \",ROWS($K$5:K2970))","v":2966},{"$f":"DICTIONARY!M2994","v":"Interest"},{"$f":"DICTIONARY!O2994","v":"सूद ब्याज "},"सूद ब्याज ",{"$f":"DICTIONARY!P2996","v":"TRADE AND COMMERCE ( वाणिज्य-व्यवसाय )"},"सूद ब्याज ","सूद ब्याज "]
[null,null,null,null,null,null,null,null,null,{"$f":"IF(K2971=\" \",\" \",ROWS($K$5:K2971))","v":2967},{"$f":"DICTIONARY!M2995","v":"Discount"},{"$f":"DICTIONARY!O2995","v":"बट्टा,छुट"},"बट्टा,छुट",{"$f":"DICTIONARY!P2997","v":"TRADE AND COMMERCE ( वाणिज्य-व्यवसाय )"},"बट्टा,छुट","बट्टा,छुट"]
[null,null,null,null,null,null,null,null,null,{"$f":"IF(K2972=\" \",\" \",ROWS($K$5:K2972))","v":2968},{"$f":"DICTIONARY!M2996","v":"Wholesale-Dealer"},{"$f":"DICTIONARY!O2996","v":"थोक-विक्रेता"},"थोक-विक्रेता",{"$f":"DICTIONARY!P2998","v":"LAW AND COURT ( कानून और अदालत )"},"थोक-विक्रेता","थोक-विक्रेता"]
[null,null,null,null,null,null,null,null,null,{"$f":"IF(K2973=\" \",\" \",ROWS($K$5:K2973))","v":2969},{"$f":"DICTIONARY!M2997","v":"Receipt"},{"$f":"DICTIONARY!O2997","v":"रसीद"},"रसीद",{"$f":"DICTIONARY!P2999","v":"LAW AND COURT ( कानून और अदालत )"},"रसीद","रसीद"]
[null,null,null,null,null,null,null,null,null,{"$f":"IF(K2974=\" \",\" \",ROWS($K$5:K2974))","v":2970},{"$f":"DICTIONARY!M2998","v":" Law"},{"$f":"DICTIONARY!O2998","v":"कानून "},"कानून ",{"$f":"DICTIONARY!P3000","v":"LAW AND COURT ( कानून और अदालत )"},"कानून ","कानून "]
[null,null,null,null,null,null,null,null,null,{"$f":"IF(K2975=\" \",\" \",ROWS($K$5:K2975))","v":2971},{"$f":"DICTIONARY!M2999","v":"Case,Suit"},{"$f":"DICTIONARY!O2999","v":"मुक़दमा"},"मुक़दमा",{"$f":"DICTIONARY!P3001","v":"LAW AND COURT ( कानून और अदालत )"},"मुक़दमा","मुक़दमा"]
[null,null,null,null,null,null,null,null,null,{"$f":"IF(K2976=\" \",\" \",ROWS($K$5:K2976))","v":2972},{"$f":"DICTIONARY!M3000","v":"Warrant"},{"$f":"DICTIONARY!O3000","v":"वारंट,परवाना"},"वारंट,परवाना",{"$f":"DICTIONARY!P3002","v":"LAW AND COURT ( कानून और अदालत )"},"वारंट,परवाना","वारंट,परवाना"]
[null,null,null,null,null,null,null,null,null,{"$f":"IF(K2977=\" \",\" \",ROWS($K$5:K2977))","v":2973},{"$f":"DICTIONARY!M3001","v":"Summons"},{"$f":"DICTIONARY!O3001","v":"समन"},"समन",{"$f":"DICTIONARY!P3003","v":"LAW AND COURT ( कानून और अदालत )"},"समन","समन"]
[null,null,null,null,null,null,null,null,null,{"$f":"IF(K2978=\" \",\" \",ROWS($K$5:K2978))","v":2974},{"$f":"DICTIONARY!M3002","v":"Court"},{"$f":"DICTIONARY!O3002","v":"अदालत"},"अदालत",{"$f":"DICTIONARY!P3004","v":"LAW AND COURT ( कानून और अदालत )"},"अदालत","अदालत"]
[null,null,null,null,null,null,null,null,null,{"$f":"IF(K2979=\" \",\" \",ROWS($K$5:K2979))","v":2975},{"$f":"DICTIONARY!M3003","v":"Jail"},{"$f":"DICTIONARY!O3003","v":"जेल,कारागार"},"जेल,कारागार",{"$f":"DICTIONARY!P3005","v":"LAW AND COURT ( कानून और अदालत )"},"जेल,कारागार","जेल,कारागार"]
[null,null,null,null,null,null,null,null,null,{"$f":"IF(K2980=\" \",\" \",ROWS($K$5:K2980))","v":2976},{"$f":"DICTIONARY!M3004","v":"Lock-Up"},{"$f":"DICTIONARY!O3004","v":"जेल की कोठरी"},"जेल की कोठरी",{"$f":"DICTIONARY!P3006","v":"LAW AND COURT ( कानून और अदालत )"},"जेल की कोठरी","जेल की कोठरी"]
[null,null,null,null,null,null,null,null,null,{"$f":"IF(K2981=\" \",\" \",ROWS($K$5:K2981))","v":2977},{"$f":"DICTIONARY!M3005","v":"Hand,Cuff"},{"$f":"DICTIONARY!O3005","v":"हथकड़ी"},"हथकड़ी",{"$f":"DICTIONARY!P3007","v":"LAW AND COURT ( कानून और अदालत )"},"हथकड़ी","हथकड़ी"]
[null,null,null,null,null,null,null,null,null,{"$f":"IF(K2982=\" \",\" \",ROWS($K$5:K2982))","v":2978},{"$f":"DICTIONARY!M3006","v":"Appeal"},{"$f":"DICTIONARY!O3006","v":"अपील"},"अपील",{"$f":"DICTIONARY!P3008","v":"LAW AND COURT ( कानून और अदालत )"},"अपील","अपील"]
[null,null,null,null,null,null,null,null,null,{"$f":"IF(K2983=\" \",\" \",ROWS($K$5:K2983))","v":2979},{"$f":"DICTIONARY!M3007","v":"Accused"},{"$f":"DICTIONARY!O3007","v":"आसामी,मुद्दालेह,अभियोगी"},"आसामी,मुद्दालेह,अभियोगी",{"$f":"DICTIONARY!P3009","v":"LAW AND COURT ( कानून और अदालत )"},"आसामी,मुद्दालेह,अभियोगी","आसामी,मुद्दालेह,अभियोगी"]
[null,null,null,null,null,null,null,null,null,{"$f":"IF(K2984=\" \",\" \",ROWS($K$5:K2984))","v":2980},{"$f":"DICTIONARY!M3008","v":"Judgment"},{"$f":"DICTIONARY!O3008","v":"फैसला"},"फैसला",{"$f":"DICTIONARY!P3010","v":"LAW AND COURT ( कानून और अदालत )"},"फैसला","फैसला"]
[null,null,null,null,null,null,null,null,null,{"$f":"IF(K2985=\" \",\" \",ROWS($K$5:K2985))","v":2981},{"$f":"DICTIONARY!M3009","v":"Witness"},{"$f":"DICTIONARY!O3009","v":"साक्षी,गवाह"},"साक्षी,गवाह",{"$f":"DICTIONARY!P3011","v":"LAW AND COURT ( कानून और अदालत )"},"साक्षी,गवाह","साक्षी,गवाह"]
[null,null,null,null,null,null,null,null,null,{"$f":"IF(K2986=\" \",\" \",ROWS($K$5:K2986))","v":2982},{"$f":"DICTIONARY!M3010","v":"Judge"},{"$f":"DICTIONARY!O3010","v":"न्यायधीश"},"न्यायधीश",{"$f":"DICTIONARY!P3012","v":"LAW AND COURT ( कानून और अदालत )"},"न्यायधीश","न्यायधीश"]
[null,null,null,null,null,null,null,null,null,{"$f":"IF(K2987=\" \",\" \",ROWS($K$5:K2987))","v":2983},{"$f":"DICTIONARY!M3011","v":"Trial"},{"$f":"DICTIONARY!O3011","v":"विचार"},"विचार",{"$f":"DICTIONARY!P3013","v":"LAW AND COURT ( कानून और अदालत )"},"विचार","विचार"]
[null,null,null,null,null,null,null,null,null,{"$f":"IF(K2988=\" \",\" \",ROWS($K$5:K2988))","v":2984},{"$f":"DICTIONARY!M3012","v":"Theft"},{"$f":"DICTIONARY!O3012","v":"चोरी"},"चोरी",{"$f":"DICTIONARY!P3014","v":"LAW AND COURT ( कानून और अदालत )"},"चोरी","चोरी"]
[null,null,null,null,null,null,null,null,null,{"$f":"IF(K2989=\" \",\" \",ROWS($K$5:K2989))","v":2985},{"$f":"DICTIONARY!M3013","v":"Dacoity"},{"$f":"DICTIONARY!O3013","v":"डकैती"},"डकैती",{"$f":"DICTIONARY!P3015","v":"LAW AND COURT ( कानून और अदालत )"},"डकैती","डकैती"]
[null,null,null,null,null,null,null,null,null,{"$f":"IF(K2990=\" \",\" \",ROWS($K$5:K2990))","v":2986},{"$f":"DICTIONARY!M3014","v":"Sentence"},{"$f":"DICTIONARY!O3014","v":"दंडाज्ञा"},"दंडाज्ञा",{"$f":"DICTIONARY!P3016","v":"LAW AND COURT ( कानून और अदालत )"},"दंडाज्ञा","दंडाज्ञा"]
[null,null,null,null,null,null,null,null,null,{"$f":"IF(K2991=\" \",\" \",ROWS($K$5:K2991))","v":2987},{"$f":"DICTIONARY!M3015","v":"Prisoner"},{"$f":"DICTIONARY!O3015","v":"बंदी,कैदी"},"बंदी,कैदी",{"$f":"DICTIONARY!P3017","v":"LAW AND COURT ( कानून और अदालत )"},"बंदी,कैदी","बंदी,कैदी"]
[null,null,null,null,null,null,null,null,null,{"$f":"IF(K2992=\" \",\" \",ROWS($K$5:K2992))","v":2988},{"$f":"DICTIONARY!M3016","v":"Argument"},{"$f":"DICTIONARY!O3016","v":"जिरह,बहस,लड़ाई-झगडा"},"जिरह,बहस,लड़ाई-झगडा",{"$f":"DICTIONARY!P3018","v":"LAW AND COURT ( कानून और अदालत )"},"जिरह,बहस,लड़ाई-झगडा","जिरह,बहस,लड़ाई-झगडा"]
[null,null,null,null,null,null,null,null,null,{"$f":"IF(K2993=\" \",\" \",ROWS($K$5:K2993))","v":2989},{"$f":"DICTIONARY!M3017","v":"Evidence"},{"$f":"DICTIONARY!O3017","v":"गवाह,प्रमाण,सबुत"},"गवाह,प्रमाण,सबुत",{"$f":"DICTIONARY!P3019","v":"LAW AND COURT ( कानून और अदालत )"},"गवाह,प्रमाण,सबुत","गवाह,प्रमाण,सबुत"]
[null,null,null,null,null,null,null,null,null,{"$f":"IF(K2994=\" \",\" \",ROWS($K$5:K2994))","v":2990},{"$f":"DICTIONARY!M3018","v":" Bail"},{"$f":"DICTIONARY!O3018","v":"जमानत"},"जमानत",{"$f":"DICTIONARY!P3020","v":"LAW AND COURT ( कानून और अदालत )"},"जमानत","जमानत"]
[null,null,null,null,null,null,null,null,null,{"$f":"IF(K2995=\" \",\" \",ROWS($K$5:K2995))","v":2991},{"$f":"DICTIONARY!M3019","v":"Cilent"},{"$f":"DICTIONARY!O3019","v":"मुवक्किल"},"मुवक्किल",{"$f":"DICTIONARY!P3021","v":"LAW AND COURT ( कानून और अदालत )"},"मुवक्किल","मुवक्किल"]
[null,null,null,null,null,null,null,null,null,{"$f":"IF(K2996=\" \",\" \",ROWS($K$5:K2996))","v":2992},{"$f":"DICTIONARY!M3020","v":"Robbery"},{"$f":"DICTIONARY!O3020","v":"डकैती"},"डकैती",{"$f":"DICTIONARY!P3022","v":"LAW AND COURT ( कानून और अदालत )"},"डकैती","डकैती"]
[null,null,null,null,null,null,null,null,null,{"$f":"IF(K2997=\" \",\" \",ROWS($K$5:K2997))","v":2993},{"$f":"DICTIONARY!M3021","v":"Murderer"},{"$f":"DICTIONARY!O3021","v":"खुनी,हत्यारा"},"खुनी,हत्यारा",{"$f":"DICTIONARY!P3023","v":"LAW AND COURT ( कानून और अदालत )"},"खुनी,हत्यारा","खुनी,हत्यारा"]
[null,null,null,null,null,null,null,null,null,{"$f":"IF(K2998=\" \",\" \",ROWS($K$5:K2998))","v":2994},{"$f":"DICTIONARY!M3022","v":"Dock"},{"$f":"DICTIONARY!O3022","v":"कठगरा"},"कठगरा",{"$f":"DICTIONARY!P3024","v":"LAW AND COURT ( कानून और अदालत )"},"कठगरा","कठगरा"]
[null,null,null,null,null,null,null,null,null,{"$f":"IF(K2999=\" \",\" \",ROWS($K$5:K2999))","v":2995},{"$f":"DICTIONARY!M3023","v":"Dismiss"},{"$f":"DICTIONARY!O3023","v":"ख़ारिज करना"},"ख़ारिज करना",{"$f":"DICTIONARY!P3025","v":"LAW AND COURT ( कानून और अदालत )"},"ख़ारिज करना","ख़ारिज करना"]
[null,null,null,null,null,null,null,null,null,{"$f":"IF(K3000=\" \",\" \",ROWS($K$5:K3000))","v":2996},{"$f":"DICTIONARY!M3024","v":"Statement"},{"$f":"DICTIONARY!O3024","v":"बयान"},"बयान",{"$f":"DICTIONARY!P3026","v":"LAW AND COURT ( कानून और अदालत )"},"बयान","बयान"]
[null,null,null,null,null,null,null,null,null,{"$f":"IF(K3001=\" \",\" \",ROWS($K$5:K3001))","v":2997},{"$f":"DICTIONARY!M3025","v":"Pleader"},{"$f":"DICTIONARY!O3025","v":"वकील"},"वकील",{"$f":"DICTIONARY!P3027","v":"LAW AND COURT ( कानून और अदालत )"},"वकील","वकील"]
[null,null,null,null,null,null,null,null,null,{"$f":"IF(K3002=\" \",\" \",ROWS($K$5:K3002))","v":2998},{"$f":"DICTIONARY!M3026","v":"Document"},{"$f":"DICTIONARY!O3026","v":"अभिलेख"},"अभिलेख",{"$f":"DICTIONARY!P3028","v":"LAW AND COURT ( कानून और अदालत )"},"अभिलेख","अभिलेख"]
[null,null,null,null,null,null,null,null,null,{"$f":"IF(K3003=\" \",\" \",ROWS($K$5:K3003))","v":2999},{"$f":"DICTIONARY!M3027","v":"Jury"},{"$f":"DICTIONARY!O3027","v":"जूरी"},"जूरी",{"$f":"DICTIONARY!P3029","v":"LAW AND COURT ( कानून और अदालत )"},"जूरी","जूरी"]
[null,null,null,null,null,null,null,null,null,{"$f":"IF(K3004=\" \",\" \",ROWS($K$5:K3004))","v":3000},{"$f":"DICTIONARY!M3028","v":"Oath"},{"$f":"DICTIONARY!O3028","v":"शपथ"},"शपथ",{"$f":"DICTIONARY!P3030","v":"LAW AND COURT ( कानून और अदालत )"},"शपथ","शपथ"]
[null,null,null,null,null,null,null,null,null,{"$f":"IF(K3005=\" \",\" \",ROWS($K$5:K3005))","v":3001},{"$f":"DICTIONARY!M3029","v":"Bond"},{"$f":"DICTIONARY!O3029","v":"अनुबंध-पत्र"},"अनुबंध-पत्र",{"$f":"DICTIONARY!P3031","v":"LAW AND COURT ( कानून और अदालत )"},"अनुबंध-पत्र","अनुबंध-पत्र"]
[null,null,null,null,null,null,null,null,null,{"$f":"IF(K3006=\" \",\" \",ROWS($K$5:K3006))","v":3002},{"$f":"DICTIONARY!M3030","v":"Lease"},{"$f":"DICTIONARY!O3030","v":"पट्टा"},"पट्टा",{"$f":"DICTIONARY!P3032","v":"LAW AND COURT ( कानून और अदालत )"},"पट्टा","पट्टा"]
[null,null,null,null,null,null,null,null,null,{"$f":"IF(K3007=\" \",\" \",ROWS($K$5:K3007))","v":3003},{"$f":"DICTIONARY!M3031","v":"Mortgage"},{"$f":"DICTIONARY!O3031","v":"बंधक"},"बंधक",{"$f":"DICTIONARY!P3033","v":"LAW AND COURT ( कानून और अदालत )"},"बंधक","बंधक"]
[null,null,null,null,null,null,null,null,null,{"$f":"IF(K3008=\" \",\" \",ROWS($K$5:K3008))","v":3004},{"$f":"DICTIONARY!M3032","v":"Revenue"},{"$f":"DICTIONARY!O3032","v":"राजस्व"},"राजस्व",{"$f":"DICTIONARY!P3034","v":"LAW AND COURT ( कानून और अदालत )"},"राजस्व","राजस्व"]
[null,null,null,null,null,null,null,null,null,{"$f":"IF(K3009=\" \",\" \",ROWS($K$5:K3009))","v":3005},{"$f":"DICTIONARY!M3033","v":"Accuser"},{"$f":"DICTIONARY!O3033","v":"अभियोगकर्ता"},"अभियोगकर्ता",{"$f":"DICTIONARY!P3035","v":"LAW AND COURT ( कानून और अदालत )"},"अभियोगकर्ता","अभियोगकर्ता"]
[null,null,null,null,null,null,null,null,null,{"$f":"IF(K3010=\" \",\" \",ROWS($K$5:K3010))","v":3006},{"$f":"DICTIONARY!M3034","v":"Barrister"},{"$f":"DICTIONARY!O3034","v":"बारिस्टर"},"बारिस्टर",{"$f":"DICTIONARY!P3036","v":"LAW AND COURT ( कानून और अदालत )"},"बारिस्टर","बारिस्टर"]
[null,null,null,null,null,null,null,null,null,{"$f":"IF(K3011=\" \",\" \",ROWS($K$5:K3011))","v":3007},{"$f":"DICTIONARY!M3035","v":"Attorny"},{"$f":"DICTIONARY!O3035","v":"एटोनी"},"एटोनी",{"$f":"DICTIONARY!P3037","v":"LAW AND COURT ( कानून और अदालत )"},"एटोनी","एटोनी"]
[null,null,null,null,null,null,null,null,null,{"$f":"IF(K3012=\" \",\" \",ROWS($K$5:K3012))","v":3008},{"$f":"DICTIONARY!M3036","v":"Punishment"},{"$f":"DICTIONARY!O3036","v":"सजा"},"सजा",{"$f":"DICTIONARY!P3038","v":"LAW AND COURT ( कानून और अदालत )"},"सजा","सजा"]
[null,null,null,null,null,null,null,null,null,{"$f":"IF(K3013=\" \",\" \",ROWS($K$5:K3013))","v":3009},{"$f":"DICTIONARY!M3037","v":"Peon"},{"$f":"DICTIONARY!O3037","v":"चपरासी"},"चपरासी",{"$f":"DICTIONARY!P3039","v":"LAW AND COURT ( कानून और अदालत )"},{"$f":"M3013","v":"चपरासी"},{"$f":"L3013","v":"चपरासी"}]
[null,null,null,null,null,null,null,null,null,{"$f":"IF(K3014=\" \",\" \",ROWS($K$5:K3014))","v":3010},{"$f":"DICTIONARY!M3038","v":"Officer"},{"$f":"DICTIONARY!O3038","v":"अधिकारी"},{"$f":"L3014","v":"अधिकारी"},{"$f":"DICTIONARY!P3040","v":"LAW AND COURT ( कानून और अदालत )"},"अधिकारी","अधिकारी"]
[null,null,null,null,null,null,null,null,null,{"$f":"IF(K3015=\" \",\" \",ROWS($K$5:K3015))","v":3011},{"$f":"DICTIONARY!M3039","v":"High Court"},{"$f":"DICTIONARY!O3039","v":"उच्च -न्यायालय"},"उच्च -न्यायालय",{"$f":"DICTIONARY!P3041","v":"LAW AND COURT ( कानून और अदालत )"},"उच्च -न्यायालय","उच्च -न्यायालय"]
[null,null,null,null,null,null,null,null,null,{"$f":"IF(K3016=\" \",\" \",ROWS($K$5:K3016))","v":3012},{"$f":"DICTIONARY!M3040","v":"Supreme-Court"},{"$f":"DICTIONARY!O3040","v":"उच्चतम न्यायालय"},"उच्चतम न्यायालय",{"$f":"DICTIONARY!P3042","v":"LAW AND COURT ( कानून और अदालत )"},"उच्चतम न्यायालय","उच्चतम न्यायालय"]
[null,null,null,null,null,null,null,null,null,{"$f":"IF(K3017=\" \",\" \",ROWS($K$5:K3017))","v":3013},{"$f":"DICTIONARY!M3041","v":"Tax"},{"$f":"DICTIONARY!O3041","v":"कर"},"कर",{"$f":"DICTIONARY!P3043","v":"LAW AND COURT ( कानून और अदालत )"},"कर","कर"]
[null,null,null,null,null,null,null,null,null,{"$f":"IF(K3018=\" \",\" \",ROWS($K$5:K3018))","v":3014},{"$f":"DICTIONARY!M3042","v":"Income Tax"},{"$f":"DICTIONARY!O3042","v":"आयकर"},"आयकर",{"$f":"DICTIONARY!P3044","v":"LAW AND COURT ( कानून और अदालत )"},"आयकर","आयकर"]
[null,null,null,null,null,null,null,null,null,{"$f":"IF(K3019=\" \",\" \",ROWS($K$5:K3019))","v":3015},{"$f":"DICTIONARY!M3043","v":"Civil-Court"},{"$f":"DICTIONARY!O3043","v":"दीवानी अदालत"},"दीवानी अदालत",{"$f":"DICTIONARY!P3045","v":"LAW AND COURT ( कानून और अदालत )"},"दीवानी अदालत","दीवानी अदालत"]
[null,null,null,null,null,null,null,null,null,{"$f":"IF(K3020=\" \",\" \",ROWS($K$5:K3020))","v":3016},{"$f":"DICTIONARY!M3044","v":"Criminal-Court"},{"$f":"DICTIONARY!O3044","v":"फौजदारी अदालत"},"फौजदारी अदालत",{"$f":"DICTIONARY!P3046","v":"LAW AND COURT ( कानून और अदालत )"},"फौजदारी अदालत","फौजदारी अदालत"]
[null,null,null,null,null,null,null,null,null,{"$f":"IF(K3021=\" \",\" \",ROWS($K$5:K3021))","v":3017},{"$f":"DICTIONARY!M3045","v":"Hanging"},{"$f":"DICTIONARY!O3045","v":"फाँसी"},"फाँसी",{"$f":"DICTIONARY!P3047","v":"LAW AND COURT ( कानून और अदालत )"},"फाँसी","फाँसी"]
[null,null,null,null,null,null,null,null,null,{"$f":"IF(K3022=\" \",\" \",ROWS($K$5:K3022))","v":3018},{"$f":"DICTIONARY!M3046","v":"Imprisonment"},{"$f":"DICTIONARY!O3046","v":"कैदी"},"कैदी",{"$f":"DICTIONARY!P3048","v":"LAW AND COURT ( कानून और अदालत )"},"कैदी","कैदी"]
[null,null,null,null,null,null,null,null,null,{"$f":"IF(K3023=\" \",\" \",ROWS($K$5:K3023))","v":3019},{"$f":"DICTIONARY!M3047","v":"Rent"},{"$f":"DICTIONARY!O3047","v":"किराया"},"किराया",{"$f":"DICTIONARY!P3049","v":"LAW AND COURT ( कानून और अदालत )"},"किराया","किराया"]
[null,null,null,null,null,null,null,null,null,{"$f":"IF(K3024=\" \",\" \",ROWS($K$5:K3024))","v":3020},{"$f":"DICTIONARY!M3048","v":"Small-Causes-Court"},{"$f":"DICTIONARY!O3048","v":"निम्न अदालत"},"निम्न अदालत",{"$f":"DICTIONARY!P3050","v":"LAW AND COURT ( कानून और अदालत )"},"निम्न अदालत","निम्न अदालत"]
[null,null,null,null,null,null,null,null,null,{"$f":"IF(K3025=\" \",\" \",ROWS($K$5:K3025))","v":3021},{"$f":"DICTIONARY!M3049","v":" Lawyer"},{"$f":"DICTIONARY!O3049","v":"वकील"},"वकील",{"$f":"DICTIONARY!P3051","v":"LAW AND COURT ( कानून और अदालत )"},"वकील","वकील"]
[null,null,null,null,null,null,null,null,null,{"$f":"IF(K3026=\" \",\" \",ROWS($K$5:K3026))","v":3022},{"$f":"DICTIONARY!M3050","v":"Charge"},{"$f":"DICTIONARY!O3050","v":"अभियोग"},"अभियोग","LAW AND COURT ( कानून और अदालत )","अभियोग","अभियोग"]
[null,null,null,null,null,null,null,null,null,{"$f":"IF(K3027=\" \",\" \",ROWS($K$5:K3027))","v":3023},{"$f":"DICTIONARY!M3051","v":"Claim"},{"$f":"DICTIONARY!O3051","v":"दावा"},"दावा","LAW AND COURT ( कानून और अदालत )","दावा","दावा"]
[null,null,null,null,null,null,null,null,null,{"$f":"IF(K3028=\" \",\" \",ROWS($K$5:K3028))","v":3024},{"$f":"DICTIONARY!M3052","v":"Because"},{"$f":"DICTIONARY!O3052","v":"क्योंकि"},"क्योंकि",{"$f":"DICTIONARY!P3054","v":"CONJUNCTION ( सयोंजकअव्यव )"},"क्योंकि","क्योंकि"]
[null,null,null,null,null,null,null,null,null,{"$f":"IF(K3029=\" \",\" \",ROWS($K$5:K3029))","v":3025},{"$f":"DICTIONARY!M3053","v":" However"},{"$f":"DICTIONARY!O3053","v":"जैसे भी हो"},"जैसे भी हो",{"$f":"DICTIONARY!P3055","v":"CONJUNCTION ( सयोंजकअव्यव )"},"जैसे भी हो","जैसे भी हो"]
[null,null,null,null,null,null,null,null,null,{"$f":"IF(K3030=\" \",\" \",ROWS($K$5:K3030))","v":3026},{"$f":"DICTIONARY!M3054","v":"Accordingly"},{"$f":"DICTIONARY!O3054","v":"इसी के अनुसार"},"इसी के अनुसार",{"$f":"DICTIONARY!P3056","v":"CONJUNCTION ( सयोंजकअव्यव )"},"इसी के अनुसार","इसी के अनुसार"]
[null,null,null,null,null,null,null,null,null,{"$f":"IF(K3031=\" \",\" \",ROWS($K$5:K3031))","v":3027},{"$f":"DICTIONARY!M3055","v":"Therefore"},{"$f":"DICTIONARY!O3055","v":"अतएव,अत:"},"अतएव,अत:",{"$f":"DICTIONARY!P3057","v":"CONJUNCTION ( सयोंजकअव्यव )"},"अतएव,अत:","अतएव,अत:"]
[null,null,null,null,null,null,null,null,null,{"$f":"IF(K3032=\" \",\" \",ROWS($K$5:K3032))","v":3028},{"$f":"DICTIONARY!M3056","v":"Either-Or"},{"$f":"DICTIONARY!O3056","v":"या-तो"},"या-तो",{"$f":"DICTIONARY!P3058","v":"CONJUNCTION ( सयोंजकअव्यव )"},"या-तो","या-तो"]
[null,null,null,null,null,null,null,null,null,{"$f":"IF(K3033=\" \",\" \",ROWS($K$5:K3033))","v":3029},{"$f":"DICTIONARY!M3057","v":"Neither-Nor"},{"$f":"DICTIONARY!O3057","v":"नहीं-तो"},"नहीं-तो",{"$f":"DICTIONARY!P3059","v":"CONJUNCTION ( सयोंजकअव्यव )"},"नहीं-तो","नहीं-तो"]
[null,null,null,null,null,null,null,null,null,{"$f":"IF(K3034=\" \",\" \",ROWS($K$5:K3034))","v":3030},{"$f":"DICTIONARY!M3058","v":"And"},{"$f":"DICTIONARY!O3058","v":"और"},"और",{"$f":"DICTIONARY!P3060","v":"CONJUNCTION ( सयोंजकअव्यव )"},"और","और"]
[null,null,null,null,null,null,null,null,null,{"$f":"IF(K3035=\" \",\" \",ROWS($K$5:K3035))","v":3031},{"$f":"DICTIONARY!M3059","v":"If"},{"$f":"DICTIONARY!O3059","v":"यदि"},"यदि",{"$f":"DICTIONARY!P3061","v":"CONJUNCTION ( सयोंजकअव्यव )"},"यदि","यदि"]
[null,null,null,null,null,null,null,null,null,{"$f":"IF(K3036=\" \",\" \",ROWS($K$5:K3036))","v":3032},{"$f":"DICTIONARY!M3060","v":" So"},{"$f":"DICTIONARY!O3060","v":"उस प्रकार"},"उस प्रकार",{"$f":"DICTIONARY!P3062","v":"CONJUNCTION ( सयोंजकअव्यव )"},"उस प्रकार","उस प्रकार"]
[null,null,null,null,null,null,null,null,null,{"$f":"IF(K3037=\" \",\" \",ROWS($K$5:K3037))","v":3033},{"$f":"DICTIONARY!M3061","v":"Or"},{"$f":"DICTIONARY!O3061","v":"अथवा"},"अथवा",{"$f":"DICTIONARY!P3063","v":"CONJUNCTION ( सयोंजकअव्यव )"},"अथवा","अथवा"]
[null,null,null,null,null,null,null,null,null,{"$f":"IF(K3038=\" \",\" \",ROWS($K$5:K3038))","v":3034},{"$f":"DICTIONARY!M3062","v":"Also"},{"$f":"DICTIONARY!O3062","v":"और भी,भी"},"और भी,भी",{"$f":"DICTIONARY!P3064","v":"CONJUNCTION ( सयोंजकअव्यव )"},"और भी,भी","और भी,भी"]
[null,null,null,null,null,null,null,null,null,{"$f":"IF(K3039=\" \",\" \",ROWS($K$5:K3039))","v":3035},{"$f":"DICTIONARY!M3063","v":"Else"},{"$f":"DICTIONARY!O3063","v":"नहीं तो,अन्यथा"},"नहीं तो,अन्यथा",{"$f":"DICTIONARY!P3065","v":"CONJUNCTION ( सयोंजकअव्यव )"},"नहीं तो,अन्यथा","नहीं तो,अन्यथा"]
[null,null,null,null,null,null,null,null,null,{"$f":"IF(K3040=\" \",\" \",ROWS($K$5:K3040))","v":3036},{"$f":"DICTIONARY!M3064","v":"Than"},{"$f":"DICTIONARY!O3064","v":"अपेक्षा"},"अपेक्षा",{"$f":"DICTIONARY!P3066","v":"CONJUNCTION ( सयोंजकअव्यव )"},"अपेक्षा","अपेक्षा"]
[null,null,null,null,null,null,null,null,null,{"$f":"IF(K3041=\" \",\" \",ROWS($K$5:K3041))","v":3037},{"$f":"DICTIONARY!M3065","v":"That"},{"$f":"DICTIONARY!O3065","v":"वह"},"वह",{"$f":"DICTIONARY!P3067","v":"CONJUNCTION ( सयोंजकअव्यव )"},"वह","वह"]
[null,null,null,null,null,null,null,null,null,{"$f":"IF(K3042=\" \",\" \",ROWS($K$5:K3042))","v":3038},{"$f":"DICTIONARY!M3066","v":" Then"},{"$f":"DICTIONARY!O3066","v":"तब"},"तब",{"$f":"DICTIONARY!P3068","v":"CONJUNCTION ( सयोंजकअव्यव )"},"तब","तब"]
[null,null,null,null,null,null,null,null,null,{"$f":"IF(K3043=\" \",\" \",ROWS($K$5:K3043))","v":3039},{"$f":"DICTIONARY!M3067","v":" When"},{"$f":"DICTIONARY!O3067","v":"जब"},"जब",{"$f":"DICTIONARY!P3069","v":"CONJUNCTION ( सयोंजकअव्यव )"},"जब","जब"]
[null,null,null,null,null,null,null,null,null,{"$f":"IF(K3044=\" \",\" \",ROWS($K$5:K3044))","v":3040},{"$f":"DICTIONARY!M3068","v":" As"},{"$f":"DICTIONARY!O3068","v":"जैसे"},"जैसे",{"$f":"DICTIONARY!P3070","v":"CONJUNCTION ( सयोंजकअव्यव )"},"जैसे","जैसे"]
[null,null,null,null,null,null,null,null,null,{"$f":"IF(K3045=\" \",\" \",ROWS($K$5:K3045))","v":3041},{"$f":"DICTIONARY!M3069","v":"Yet"},{"$f":"DICTIONARY!O3069","v":"तथापि"},"तथापि",{"$f":"DICTIONARY!P3071","v":"CONJUNCTION ( सयोंजकअव्यव )"},"तथापि","तथापि"]
[null,null,null,null,null,null,null,null,null,{"$f":"IF(K3046=\" \",\" \",ROWS($K$5:K3046))","v":3042},{"$f":"DICTIONARY!M3070","v":"But"},{"$f":"DICTIONARY!O3070","v":"परन्तु,किन्तु"},"परन्तु,किन्तु",{"$f":"DICTIONARY!P3072","v":"CONJUNCTION ( सयोंजकअव्यव )"},"परन्तु,किन्तु","परन्तु,किन्तु"]
[null,null,null,null,null,null,null,null,null,{"$f":"IF(K3047=\" \",\" \",ROWS($K$5:K3047))","v":3043},{"$f":"DICTIONARY!M3071","v":" For"},{"$f":"DICTIONARY!O3071","v":"कारण,लिये"},"कारण,लिये",{"$f":"DICTIONARY!P3073","v":"CONJUNCTION ( सयोंजकअव्यव )"},"कारण,लिये","कारण,लिये"]
[null,null,null,null,null,null,null,null,null,{"$f":"IF(K3048=\" \",\" \",ROWS($K$5:K3048))","v":3044},{"$f":"DICTIONARY!M3072","v":"While"},{"$f":"DICTIONARY!O3072","v":"जबकि"},"जबकि",{"$f":"DICTIONARY!P3074","v":"CONJUNCTION ( सयोंजकअव्यव )"},"जबकि","जबकि"]
[null,null,null,null,null,null,null,null,null,{"$f":"IF(K3049=\" \",\" \",ROWS($K$5:K3049))","v":3045},{"$f":"DICTIONARY!M3073","v":"Lest"},{"$f":"DICTIONARY!O3073","v":"पीछे ऐसा न हो"},"पीछे ऐसा न हो",{"$f":"DICTIONARY!P3075","v":"CONJUNCTION ( सयोंजकअव्यव )"},"पीछे ऐसा न हो","पीछे ऐसा न हो"]
[null,null,null,null,null,null,null,null,null,{"$f":"IF(K3050=\" \",\" \",ROWS($K$5:K3050))","v":3046},{"$f":"DICTIONARY!M3074","v":"Although"},{"$f":"DICTIONARY!O3074","v":"यद्यपि"},"यद्यपि",{"$f":"DICTIONARY!P3076","v":"CONJUNCTION ( सयोंजकअव्यव )"},"यद्यपि","यद्यपि"]
[null,null,null,null,null,null,null,null,null,{"$f":"IF(K3051=\" \",\" \",ROWS($K$5:K3051))","v":3047},{"$f":"DICTIONARY!M3075","v":"Though"},{"$f":"DICTIONARY!O3075","v":"यद्यपि"},"यद्यपि","CONJUNCTION ( सयोंजकअव्यव )","यद्यपि","यद्यपि"]
[null,null,null,null,null,null,null,null,null,{"$f":"IF(K3052=\" \",\" \",ROWS($K$5:K3052))","v":3048},{"$f":"DICTIONARY!M3076","v":"Since"},{"$f":"DICTIONARY!O3076","v":"इसलिए"},"इसलिए","CONJUNCTION ( सयोंजकअव्यव )","इसलिए","इसलिए"]
[null,null,null,null,null,null,null,null,null,{"$f":"IF(K3053=\" \",\" \",ROWS($K$5:K3053))","v":3049},{"$f":"DICTIONARY!M3077","v":"Yes"},{"$f":"DICTIONARY!O3077","v":"हाँ"},"हाँ",{"$f":"DICTIONARY!P3079","v":"ADVERB ( क्रिया-विशेषण )"},"हाँ","हाँ"]
[null,null,null,null,null,null,null,null,null,{"$f":"IF(K3054=\" \",\" \",ROWS($K$5:K3054))","v":3050},{"$f":"DICTIONARY!M3078","v":"No"},{"$f":"DICTIONARY!O3078","v":"नहीं"},"नहीं",{"$f":"DICTIONARY!P3080","v":"ADVERB ( क्रिया-विशेषण )"},"नहीं","नहीं"]
[null,null,null,null,null,null,null,null,null,{"$f":"IF(K3055=\" \",\" \",ROWS($K$5:K3055))","v":3051},{"$f":"DICTIONARY!M3079","v":"Then"},{"$f":"DICTIONARY!O3079","v":"तब"},"तब",{"$f":"DICTIONARY!P3081","v":"ADVERB ( क्रिया-विशेषण )"},"तब","तब"]
[null,null,null,null,null,null,null,null,null,{"$f":"IF(K3056=\" \",\" \",ROWS($K$5:K3056))","v":3052},{"$f":"DICTIONARY!M3080","v":"  In"},{"$f":"DICTIONARY!O3080","v":"भीतर"},"भीतर",{"$f":"DICTIONARY!P3082","v":"ADVERB ( क्रिया-विशेषण )"},"भीतर","भीतर"]
[null,null,null,null,null,null,null,null,null,{"$f":"IF(K3057=\" \",\" \",ROWS($K$5:K3057))","v":3053},{"$f":"DICTIONARY!M3081","v":"Here"},{"$f":"DICTIONARY!O3081","v":"यहाँ"},"यहाँ",{"$f":"DICTIONARY!P3083","v":"ADVERB ( क्रिया-विशेषण )"},"यहाँ","यहाँ"]
[null,null,null,null,null,null,null,null,null,{"$f":"IF(K3058=\" \",\" \",ROWS($K$5:K3058))","v":3054},{"$f":"DICTIONARY!M3082","v":"There"},{"$f":"DICTIONARY!O3082","v":"वहाँ"},"वहाँ",{"$f":"DICTIONARY!P3084","v":"ADVERB ( क्रिया-विशेषण )"},"वहाँ","वहाँ"]
[null,null,null,null,null,null,null,null,null,{"$f":"IF(K3059=\" \",\" \",ROWS($K$5:K3059))","v":3055},{"$f":"DICTIONARY!M3083","v":"Late"},{"$f":"DICTIONARY!O3083","v":"देरी से"},"देरी से",{"$f":"DICTIONARY!P3085","v":"ADVERB ( क्रिया-विशेषण )"},"देरी से","देरी से"]
[null,null,null,null,null,null,null,null,null,{"$f":"IF(K3060=\" \",\" \",ROWS($K$5:K3060))","v":3056},{"$f":"DICTIONARY!M3084","v":"Quickly"},{"$f":"DICTIONARY!O3084","v":"शिघ्रातिशिग्र"},"शिघ्रातिशिग्र",{"$f":"DICTIONARY!P3086","v":"ADVERB ( क्रिया-विशेषण )"},"शिघ्रातिशिग्र","शिघ्रातिशिग्र"]
[null,null,null,null,null,null,null,null,null,{"$f":"IF(K3061=\" \",\" \",ROWS($K$5:K3061))","v":3057},{"$f":"DICTIONARY!M3085","v":"Gently"},{"$f":"DICTIONARY!O3085","v":"भद्रता से,सभ्यता से"},"भद्रता से,सभ्यता से",{"$f":"DICTIONARY!P3087","v":"ADVERB ( क्रिया-विशेषण )"},"भद्रता से,सभ्यता से","भद्रता से,सभ्यता से"]
[null,null,null,null,null,null,null,null,null,{"$f":"IF(K3062=\" \",\" \",ROWS($K$5:K3062))","v":3058},{"$f":"DICTIONARY!M3086","v":"Early"},{"$f":"DICTIONARY!O3086","v":"सुबह-सुबह"},"सुबह-सुबह",{"$f":"DICTIONARY!P3088","v":"ADVERB ( क्रिया-विशेषण )"},"सुबह-सुबह","सुबह-सुबह"]
[null,null,null,null,null,null,null,null,null,{"$f":"IF(K3063=\" \",\" \",ROWS($K$5:K3063))","v":3059},{"$f":"DICTIONARY!M3087","v":"Softly"},{"$f":"DICTIONARY!O3087","v":"नम्रतापूर्वक,नरमी से"},"नम्रतापूर्वक,नरमी से",{"$f":"DICTIONARY!P3089","v":"ADVERB ( क्रिया-विशेषण )"},"नम्रतापूर्वक,नरमी से","नम्रतापूर्वक,नरमी से"]
[null,null,null,null,null,null,null,null,null,{"$f":"IF(K3064=\" \",\" \",ROWS($K$5:K3064))","v":3060},{"$f":"DICTIONARY!M3088","v":"Nicely"},{"$f":"DICTIONARY!O3088","v":"सुन्दर ढंग से"},"सुन्दर ढंग से",{"$f":"DICTIONARY!P3090","v":"ADVERB ( क्रिया-विशेषण )"},"सुन्दर ढंग से","सुन्दर ढंग से"]
[null,null,null,null,null,null,null,null,null,{"$f":"IF(K3065=\" \",\" \",ROWS($K$5:K3065))","v":3061},{"$f":"DICTIONARY!M3089","v":"Out"},{"$f":"DICTIONARY!O3089","v":"बाहर"},"बाहर",{"$f":"DICTIONARY!P3091","v":"ADVERB ( क्रिया-विशेषण )"},"बाहर","बाहर"]
[null,null,null,null,null,null,null,null,null,{"$f":"IF(K3066=\" \",\" \",ROWS($K$5:K3066))","v":3062},{"$f":"DICTIONARY!M3090","v":"Why"},{"$f":"DICTIONARY!O3090","v":"क्योंकि"},"क्योंकि",{"$f":"DICTIONARY!P3092","v":"ADVERB ( क्रिया-विशेषण )"},"क्योंकि","क्योंकि"]
[null,null,null,null,null,null,null,null,null,{"$f":"IF(K3067=\" \",\" \",ROWS($K$5:K3067))","v":3063},{"$f":"DICTIONARY!M3091","v":"However"},{"$f":"DICTIONARY!O3091","v":"केसे"},"केसे",{"$f":"DICTIONARY!P3093","v":"ADVERB ( क्रिया-विशेषण )"},"केसे","केसे"]
[null,null,null,null,null,null,null,null,null,{"$f":"IF(K3068=\" \",\" \",ROWS($K$5:K3068))","v":3064},{"$f":"DICTIONARY!M3092","v":"Up"},{"$f":"DICTIONARY!O3092","v":"ऊपर"},"ऊपर",{"$f":"DICTIONARY!P3094","v":"ADVERB ( क्रिया-विशेषण )"},"ऊपर","ऊपर"]
[null,null,null,null,null,null,null,null,null,{"$f":"IF(K3069=\" \",\" \",ROWS($K$5:K3069))","v":3065},{"$f":"DICTIONARY!M3093","v":"Down"},{"$f":"DICTIONARY!O3093","v":"निचे"},"निचे",{"$f":"DICTIONARY!P3095","v":"ADVERB ( क्रिया-विशेषण )"},"निचे","निचे"]
[null,null,null,null,null,null,null,null,null,{"$f":"IF(K3070=\" \",\" \",ROWS($K$5:K3070))","v":3066},{"$f":"DICTIONARY!M3094","v":"As"},{"$f":"DICTIONARY!O3094","v":"जैसा"},"जैसा",{"$f":"DICTIONARY!P3096","v":"ADVERB ( क्रिया-विशेषण )"},"जैसा","जैसा"]
[null,null,null,null,null,null,null,null,null,{"$f":"IF(K3071=\" \",\" \",ROWS($K$5:K3071))","v":3067},{"$f":"DICTIONARY!M3095","v":"So"},{"$f":"DICTIONARY!O3095","v":"तैसा"},"तैसा",{"$f":"DICTIONARY!P3097","v":"ADVERB ( क्रिया-विशेषण )"},"तैसा","तैसा"]
[null,null,null,null,null,null,null,null,null,{"$f":"IF(K3072=\" \",\" \",ROWS($K$5:K3072))","v":3068},{"$f":"DICTIONARY!M3096","v":"Ago"},{"$f":"DICTIONARY!O3096","v":"पहले"},"पहले",{"$f":"DICTIONARY!P3098","v":"ADVERB ( क्रिया-विशेषण )"},"पहले","पहले"]
[null,null,null,null,null,null,null,null,null,{"$f":"IF(K3073=\" \",\" \",ROWS($K$5:K3073))","v":3069},{"$f":"DICTIONARY!M3097","v":"Again"},{"$f":"DICTIONARY!O3097","v":"फिर से"},"फिर से",{"$f":"DICTIONARY!P3099","v":"ADVERB ( क्रिया-विशेषण )"},"फिर से","फिर से"]
[null,null,null,null,null,null,null,null,null,{"$f":"IF(K3074=\" \",\" \",ROWS($K$5:K3074))","v":3070},{"$f":"DICTIONARY!M3098","v":"Brightly"},{"$f":"DICTIONARY!O3098","v":"उज्जवल रूप से"},"उज्जवल रूप से",{"$f":"DICTIONARY!P3100","v":"ADVERB ( क्रिया-विशेषण )"},"उज्जवल रूप से","उज्जवल रूप से"]
[null,null,null,null,null,null,null,null,null,{"$f":"IF(K3075=\" \",\" \",ROWS($K$5:K3075))","v":3071},{"$f":"DICTIONARY!M3099","v":"Sweetly"},{"$f":"DICTIONARY!O3099","v":"मधुरतापूर्वक"},"मधुरतापूर्वक",{"$f":"DICTIONARY!P3101","v":"ADVERB ( क्रिया-विशेषण )"},"मधुरतापूर्वक","मधुरतापूर्वक"]
[null,null,null,null,null,null,null,null,null,{"$f":"IF(K3076=\" \",\" \",ROWS($K$5:K3076))","v":3072},{"$f":"DICTIONARY!M3100","v":"More"},{"$f":"DICTIONARY!O3100","v":"और भी,ज्यादा,अधिक"},"और भी,ज्यादा,अधिक",{"$f":"DICTIONARY!P3102","v":"ADVERB ( क्रिया-विशेषण )"},"और भी,ज्यादा,अधिक","और भी,ज्यादा,अधिक"]
[null,null,null,null,null,null,null,null,null,{"$f":"IF(K3077=\" \",\" \",ROWS($K$5:K3077))","v":3073},{"$f":"DICTIONARY!M3101","v":"Far"},{"$f":"DICTIONARY!O3101","v":"दूर"},"दूर",{"$f":"DICTIONARY!P3103","v":"ADVERB ( क्रिया-विशेषण )"},{"$f":"M3077","v":"दूर"},{"$f":"L3077","v":"दूर"}]
[null,null,null,null,null,null,null,null,null,{"$f":"IF(K3078=\" \",\" \",ROWS($K$5:K3078))","v":3074},{"$f":"DICTIONARY!M3102","v":"Soon"},{"$f":"DICTIONARY!O3102","v":"जल्दी,शीघ्र"},{"$f":"L3078","v":"जल्दी,शीघ्र"},{"$f":"DICTIONARY!P3104","v":"ADVERB ( क्रिया-विशेषण )"},"जल्दी,शीघ्र","जल्दी,शीघ्र"]
[null,null,null,null,null,null,null,null,null,{"$f":"IF(K3079=\" \",\" \",ROWS($K$5:K3079))","v":3075},{"$f":"DICTIONARY!M3103","v":"Slowly"},{"$f":"DICTIONARY!O3103","v":"धीरे-धीरे"},"धीरे-धीरे",{"$f":"DICTIONARY!P3105","v":"ADVERB ( क्रिया-विशेषण )"},"धीरे-धीरे","धीरे-धीरे"]
[null,null,null,null,null,null,null,null,null,{"$f":"IF(K3080=\" \",\" \",ROWS($K$5:K3080))","v":3076},{"$f":"DICTIONARY!M3104","v":"Fast"},{"$f":"DICTIONARY!O3104","v":"तेज,जल्दी-जल्दी"},"तेज,जल्दी-जल्दी",{"$f":"DICTIONARY!P3106","v":"ADVERB ( क्रिया-विशेषण )"},"तेज,जल्दी-जल्दी","तेज,जल्दी-जल्दी"]
[null,null,null,null,null,null,null,null,null,{"$f":"IF(K3081=\" \",\" \",ROWS($K$5:K3081))","v":3077},{"$f":"DICTIONARY!M3105","v":"Almost"},{"$f":"DICTIONARY!O3105","v":"प्राय:"},"प्राय:",{"$f":"DICTIONARY!P3107","v":"ADVERB ( क्रिया-विशेषण )"},"प्राय:","प्राय:"]
[null,null,null,null,null,null,null,null,null,{"$f":"IF(K3082=\" \",\" \",ROWS($K$5:K3082))","v":3078},{"$f":"DICTIONARY!M3106","v":"Gladly"},{"$f":"DICTIONARY!O3106","v":"सानन्द,आनंद के साथ"},"सानन्द,आनंद के साथ",{"$f":"DICTIONARY!P3108","v":"ADVERB ( क्रिया-विशेषण )"},"सानन्द,आनंद के साथ","सानन्द,आनंद के साथ"]
[null,null,null,null,null,null,null,null,null,{"$f":"IF(K3083=\" \",\" \",ROWS($K$5:K3083))","v":3079},{"$f":"DICTIONARY!M3107","v":"Attentively"},{"$f":"DICTIONARY!O3107","v":"ध्यान लगाकर ,एकाग्रता से,ध्यान से"},"ध्यान लगाकर ,एकाग्रता से,ध्यान से",{"$f":"DICTIONARY!P3109","v":"ADVERB ( क्रिया-विशेषण )"},"ध्यान लगाकर ,एकाग्रता से,ध्यान से","ध्यान लगाकर ,एकाग्रता से,ध्यान से"]
[null,null,null,null,null,null,null,null,null,{"$f":"IF(K3084=\" \",\" \",ROWS($K$5:K3084))","v":3080},{"$f":"DICTIONARY!M3108","v":"Possibly"},{"$f":"DICTIONARY!O3108","v":"संभवत:"},"संभवत:",{"$f":"DICTIONARY!P3110","v":"ADVERB ( क्रिया-विशेषण )"},"संभवत:","संभवत:"]
[null,null,null,null,null,null,null,null,null,{"$f":"IF(K3085=\" \",\" \",ROWS($K$5:K3085))","v":3081},{"$f":"DICTIONARY!M3109","v":" After"},{"$f":"DICTIONARY!O3109","v":"बाद में"},"बाद में",{"$f":"DICTIONARY!P3111","v":"ADVERB ( क्रिया-विशेषण )"},"बाद में","बाद में"]
[null,null,null,null,null,null,null,null,null,{"$f":"IF(K3086=\" \",\" \",ROWS($K$5:K3086))","v":3082},{"$f":"DICTIONARY!M3110","v":" Before"},{"$f":"DICTIONARY!O3110","v":"पहले"},"पहले",{"$f":"DICTIONARY!P3112","v":"ADVERB ( क्रिया-विशेषण )"},"पहले","पहले"]
[null,null,null,null,null,null,null,null,null,{"$f":"IF(K3087=\" \",\" \",ROWS($K$5:K3087))","v":3083},{"$f":"DICTIONARY!M3111","v":"Daily"},{"$f":"DICTIONARY!O3111","v":"नित्य,दैनिक"},"नित्य,दैनिक",{"$f":"DICTIONARY!P3113","v":"ADVERB ( क्रिया-विशेषण )"},"नित्य,दैनिक","नित्य,दैनिक"]
[null,null,null,null,null,null,null,null,null,{"$f":"IF(K3088=\" \",\" \",ROWS($K$5:K3088))","v":3084},{"$f":"DICTIONARY!M3112","v":"Near"},{"$f":"DICTIONARY!O3112","v":"पास"},"पास",{"$f":"DICTIONARY!P3114","v":"ADVERB ( क्रिया-विशेषण )"},"पास","पास"]
[null,null,null,null,null,null,null,null,null,{"$f":"IF(K3089=\" \",\" \",ROWS($K$5:K3089))","v":3085},{"$f":"DICTIONARY!M3113","v":"Only"},{"$f":"DICTIONARY!O3113","v":"केवल,सिर्फ"},"केवल,सिर्फ",{"$f":"DICTIONARY!P3115","v":"ADVERB ( क्रिया-विशेषण )"},"केवल,सिर्फ","केवल,सिर्फ"]
[null,null,null,null,null,null,null,null,null,{"$f":"IF(K3090=\" \",\" \",ROWS($K$5:K3090))","v":3086},{"$f":"DICTIONARY!M3114","v":"When"},{"$f":"DICTIONARY!O3114","v":"कब"},"कब",{"$f":"DICTIONARY!P3116","v":"ADVERB ( क्रिया-विशेषण )"},"कब","कब"]
[null,null,null,null,null,null,null,null,null,{"$f":"IF(K3091=\" \",\" \",ROWS($K$5:K3091))","v":3087},{"$f":"DICTIONARY!M3115","v":"Monthly"},{"$f":"DICTIONARY!O3115","v":"मासिक,माहवारी"},"मासिक,माहवारी",{"$f":"DICTIONARY!P3117","v":"ADVERB ( क्रिया-विशेषण )"},"मासिक,माहवारी","मासिक,माहवारी"]
[null,null,null,null,null,null,null,null,null,{"$f":"IF(K3092=\" \",\" \",ROWS($K$5:K3092))","v":3088},{"$f":"DICTIONARY!M3116","v":"Never"},{"$f":"DICTIONARY!O3116","v":"कभी नहीं"},"कभी नहीं",{"$f":"DICTIONARY!P3118","v":"ADVERB ( क्रिया-विशेषण )"},"कभी नहीं","कभी नहीं"]
[null,null,null,null,null,null,null,null,null,{"$f":"IF(K3093=\" \",\" \",ROWS($K$5:K3093))","v":3089},{"$f":"DICTIONARY!M3117","v":"Once"},{"$f":"DICTIONARY!O3117","v":"एक बार"},"एक बार",{"$f":"DICTIONARY!P3119","v":"ADVERB ( क्रिया-विशेषण )"},"एक बार","एक बार"]
[null,null,null,null,null,null,null,null,null,{"$f":"IF(K3094=\" \",\" \",ROWS($K$5:K3094))","v":3090},{"$f":"DICTIONARY!M3118","v":"Sometimes"},{"$f":"DICTIONARY!O3118","v":"कभी,कभी"},"कभी,कभी",{"$f":"DICTIONARY!P3120","v":"ADVERB ( क्रिया-विशेषण )"},"कभी,कभी","कभी,कभी"]
[null,null,null,null,null,null,null,null,null,{"$f":"IF(K3095=\" \",\" \",ROWS($K$5:K3095))","v":3091},{"$f":"DICTIONARY!M3119","v":"Where"},{"$f":"DICTIONARY!O3119","v":"कहाँ"},"कहाँ",{"$f":"DICTIONARY!P3121","v":"ADVERB ( क्रिया-विशेषण )"},"कहाँ","कहाँ"]
[null,null,null,null,null,null,null,null,null,{"$f":"IF(K3096=\" \",\" \",ROWS($K$5:K3096))","v":3092},{"$f":"DICTIONARY!M3120","v":"Often"},{"$f":"DICTIONARY!O3120","v":"प्राय:"},"प्राय:",{"$f":"DICTIONARY!P3122","v":"ADVERB ( क्रिया-विशेषण )"},"प्राय:","प्राय:"]
[null,null,null,null,null,null,null,null,null,{"$f":"IF(K3097=\" \",\" \",ROWS($K$5:K3097))","v":3093},{"$f":"DICTIONARY!M3121","v":"Thus"},{"$f":"DICTIONARY!O3121","v":"इस प्रकार"},"इस प्रकार","ADVERB ( क्रिया-विशेषण )","इस प्रकार","इस प्रकार"]
[null,null,null,null,null,null,null,null,null,{"$f":"IF(K3098=\" \",\" \",ROWS($K$5:K3098))","v":3094},{"$f":"DICTIONARY!M3122","v":"Always"},{"$f":"DICTIONARY!O3122","v":"सदा,सर्वदा"},"सदा,सर्वदा","ADVERB ( क्रिया-विशेषण )","सदा,सर्वदा","सदा,सर्वदा"]
[null,null,null,null,null,null,null,null,null,{"$f":"IF(K3099=\" \",\" \",ROWS($K$5:K3099))","v":3095},{"$f":"DICTIONARY!M3123","v":"O"},{"$f":"DICTIONARY!O3123","v":"ओह!"},"ओह!",{"$f":"DICTIONARY!P3125","v":"INTERJECTION ( विस्मयादिबोधक अव्यव )"},"ओह!","ओह!"]
[null,null,null,null,null,null,null,null,null,{"$f":"IF(K3100=\" \",\" \",ROWS($K$5:K3100))","v":3096},{"$f":"DICTIONARY!M3124","v":"Hello"},{"$f":"DICTIONARY!O3124","v":"हेलो,सुनिए तो"},"हेलो,सुनिए तो",{"$f":"DICTIONARY!P3126","v":"INTERJECTION ( विस्मयादिबोधक अव्यव )"},"हेलो,सुनिए तो","हेलो,सुनिए तो"]
[null,null,null,null,null,null,null,null,null,{"$f":"IF(K3101=\" \",\" \",ROWS($K$5:K3101))","v":3097},{"$f":"DICTIONARY!M3125","v":"Fie"},{"$f":"DICTIONARY!O3125","v":"छी: ! छी: !"},"छी: ! छी: !",{"$f":"DICTIONARY!P3127","v":"INTERJECTION ( विस्मयादिबोधक अव्यव )"},"छी: ! छी: !","छी: ! छी: !"]
[null,null,null,null,null,null,null,null,null,{"$f":"IF(K3102=\" \",\" \",ROWS($K$5:K3102))","v":3098},{"$f":"DICTIONARY!M3126","v":"Alas"},{"$f":"DICTIONARY!O3126","v":"हाय! हाय!"},"हाय! हाय!",{"$f":"DICTIONARY!P3128","v":"INTERJECTION ( विस्मयादिबोधक अव्यव )"},"हाय! हाय!","हाय! हाय!"]
[null,null,null,null,null,null,null,null,null,{"$f":"IF(K3103=\" \",\" \",ROWS($K$5:K3103))","v":3099},{"$f":"DICTIONARY!M3127","v":"Pooh"},{"$f":"DICTIONARY!O3127","v":"हटो?"},"हटो?",{"$f":"DICTIONARY!P3129","v":"INTERJECTION ( विस्मयादिबोधक अव्यव )"},"हटो?","हटो?"]
[null,null,null,null,null,null,null,null,null,{"$f":"IF(K3104=\" \",\" \",ROWS($K$5:K3104))","v":3100},{"$f":"DICTIONARY!M3128","v":"Hush"},{"$f":"DICTIONARY!O3128","v":"चुप रहो"},"चुप रहो",{"$f":"DICTIONARY!P3130","v":"INTERJECTION ( विस्मयादिबोधक अव्यव )"},"चुप रहो","चुप रहो"]
[null,null,null,null,null,null,null,null,null,{"$f":"IF(K3105=\" \",\" \",ROWS($K$5:K3105))","v":3101},{"$f":"DICTIONARY!M3129","v":"Oh"},{"$f":"DICTIONARY!O3129","v":"हाय! अरे!"},"हाय! अरे!",{"$f":"DICTIONARY!P3131","v":"INTERJECTION ( विस्मयादिबोधक अव्यव )"},"हाय! अरे!","हाय! अरे!"]
[null,null,null,null,null,null,null,null,null,{"$f":"IF(K3106=\" \",\" \",ROWS($K$5:K3106))","v":3102},{"$f":"DICTIONARY!M3130","v":"Good-Bye"},{"$f":"DICTIONARY!O3130","v":"अलविदा"},"अलविदा",{"$f":"DICTIONARY!P3132","v":"INTERJECTION ( विस्मयादिबोधक अव्यव )"},"अलविदा","अलविदा"]
[null,null,null,null,null,null,null,null,null,{"$f":"IF(K3107=\" \",\" \",ROWS($K$5:K3107))","v":3103},{"$f":"DICTIONARY!M3131","v":"Bravo"},{"$f":"DICTIONARY!O3131","v":"वाह! वाह!"},"वाह! वाह!","INTERJECTION ( विस्मयादिबोधक अव्यव )","वाह! वाह!","वाह! वाह!"]
[null,null,null,null,null,null,null,null,null,{"$f":"IF(K3108=\" \",\" \",ROWS($K$5:K3108))","v":3104},{"$f":"DICTIONARY!M3132","v":"Hurrah"},{"$f":"DICTIONARY!O3132","v":"शाबाश"},"शाबाश","INTERJECTION ( विस्मयादिबोधक अव्यव )","शाबाश","शाबाश"]
[null,null,null,null,null,null,null,null,null,{"$f":"IF(K3109=\" \",\" \",ROWS($K$5:K3109))","v":3105},{"$f":"DICTIONARY!M3133","v":"Big"},{"$f":"DICTIONARY!O3133","v":"बड़ा"},"बड़ा",{"$f":"DICTIONARY!P3135","v":"ADJECTIVES ( विशेषण )"},"बड़ा","बड़ा"]
[null,null,null,null,null,null,null,null,null,{"$f":"IF(K3110=\" \",\" \",ROWS($K$5:K3110))","v":3106},{"$f":"DICTIONARY!M3134","v":"Soft"},{"$f":"DICTIONARY!O3134","v":"नरम"},"नरम",{"$f":"DICTIONARY!P3136","v":"ADJECTIVES ( विशेषण )"},"नरम","नरम"]
[null,null,null,null,null,null,null,null,null,{"$f":"IF(K3111=\" \",\" \",ROWS($K$5:K3111))","v":3107},{"$f":"DICTIONARY!M3135","v":"Hot"},{"$f":"DICTIONARY!O3135","v":"गरम"},"गरम",{"$f":"DICTIONARY!P3137","v":"ADJECTIVES ( विशेषण )"},"गरम","गरम"]
[null,null,null,null,null,null,null,null,null,{"$f":"IF(K3112=\" \",\" \",ROWS($K$5:K3112))","v":3108},{"$f":"DICTIONARY!M3136","v":"Cold"},{"$f":"DICTIONARY!O3136","v":"ठंडा"},"ठंडा",{"$f":"DICTIONARY!P3138","v":"ADJECTIVES ( विशेषण )"},"ठंडा","ठंडा"]
[null,null,null,null,null,null,null,null,null,{"$f":"IF(K3113=\" \",\" \",ROWS($K$5:K3113))","v":3109},{"$f":"DICTIONARY!M3137","v":"Clean"},{"$f":"DICTIONARY!O3137","v":"स्वच्छ"},"स्वच्छ",{"$f":"DICTIONARY!P3139","v":"ADJECTIVES ( विशेषण )"},"स्वच्छ","स्वच्छ"]
[null,null,null,null,null,null,null,null,null,{"$f":"IF(K3114=\" \",\" \",ROWS($K$5:K3114))","v":3110},{"$f":"DICTIONARY!M3138","v":"Dirty"},{"$f":"DICTIONARY!O3138","v":"गन्दा"},"गन्दा",{"$f":"DICTIONARY!P3140","v":"ADJECTIVES ( विशेषण )"},"गन्दा","गन्दा"]
[null,null,null,null,null,null,null,null,null,{"$f":"IF(K3115=\" \",\" \",ROWS($K$5:K3115))","v":3111},{"$f":"DICTIONARY!M3139","v":"Strong"},{"$f":"DICTIONARY!O3139","v":"बलवान"},"बलवान",{"$f":"DICTIONARY!P3141","v":"ADJECTIVES ( विशेषण )"},"बलवान","बलवान"]
[null,null,null,null,null,null,null,null,null,{"$f":"IF(K3116=\" \",\" \",ROWS($K$5:K3116))","v":3112},{"$f":"DICTIONARY!M3140","v":"Weak"},{"$f":"DICTIONARY!O3140","v":"कमजोर"},"कमजोर",{"$f":"DICTIONARY!P3142","v":"ADJECTIVES ( विशेषण )"},"कमजोर","कमजोर"]
[null,null,null,null,null,null,null,null,null,{"$f":"IF(K3117=\" \",\" \",ROWS($K$5:K3117))","v":3113},{"$f":"DICTIONARY!M3141","v":"Stupid"},{"$f":"DICTIONARY!O3141","v":"मुर्ख"},"मुर्ख",{"$f":"DICTIONARY!P3143","v":"ADJECTIVES ( विशेषण )"},"मुर्ख","मुर्ख"]
[null,null,null,null,null,null,null,null,null,{"$f":"IF(K3118=\" \",\" \",ROWS($K$5:K3118))","v":3114},{"$f":"DICTIONARY!M3142","v":"Clever"},{"$f":"DICTIONARY!O3142","v":"चतुर"},"चतुर",{"$f":"DICTIONARY!P3144","v":"ADJECTIVES ( विशेषण )"},"चतुर","चतुर"]
[null,null,null,null,null,null,null,null,null,{"$f":"IF(K3119=\" \",\" \",ROWS($K$5:K3119))","v":3115},{"$f":"DICTIONARY!M3143","v":"Beautiful"},{"$f":"DICTIONARY!O3143","v":"सुन्दर "},"सुन्दर ",{"$f":"DICTIONARY!P3145","v":"ADJECTIVES ( विशेषण )"},"सुन्दर ","सुन्दर "]
[null,null,null,null,null,null,null,null,null,{"$f":"IF(K3120=\" \",\" \",ROWS($K$5:K3120))","v":3116},{"$f":"DICTIONARY!M3144","v":"Small"},{"$f":"DICTIONARY!O3144","v":"छोटा"},"छोटा",{"$f":"DICTIONARY!P3146","v":"ADJECTIVES ( विशेषण )"},"छोटा","छोटा"]
[null,null,null,null,null,null,null,null,null,{"$f":"IF(K3121=\" \",\" \",ROWS($K$5:K3121))","v":3117},{"$f":"DICTIONARY!M3145","v":"Tall"},{"$f":"DICTIONARY!O3145","v":"लम्बा"},"लम्बा",{"$f":"DICTIONARY!P3147","v":"ADJECTIVES ( विशेषण )"},"लम्बा","लम्बा"]
[null,null,null,null,null,null,null,null,null,{"$f":"IF(K3122=\" \",\" \",ROWS($K$5:K3122))","v":3118},{"$f":"DICTIONARY!M3146","v":"Short"},{"$f":"DICTIONARY!O3146","v":"नाटा"},"नाटा",{"$f":"DICTIONARY!P3148","v":"ADJECTIVES ( विशेषण )"},"नाटा","नाटा"]
[null,null,null,null,null,null,null,null,null,{"$f":"IF(K3123=\" \",\" \",ROWS($K$5:K3123))","v":3119},{"$f":"DICTIONARY!M3147","v":"Good"},{"$f":"DICTIONARY!O3147","v":"अच्छा"},"अच्छा",{"$f":"DICTIONARY!P3149","v":"ADJECTIVES ( विशेषण )"},"अच्छा","अच्छा"]
[null,null,null,null,null,null,null,null,null,{"$f":"IF(K3124=\" \",\" \",ROWS($K$5:K3124))","v":3120},{"$f":"DICTIONARY!M3148","v":"Bad"},{"$f":"DICTIONARY!O3148","v":"बुरा"},"बुरा",{"$f":"DICTIONARY!P3150","v":"ADJECTIVES ( विशेषण )"},"बुरा","बुरा"]
[null,null,null,null,null,null,null,null,null,{"$f":"IF(K3125=\" \",\" \",ROWS($K$5:K3125))","v":3121},{"$f":"DICTIONARY!M3149","v":"High"},{"$f":"DICTIONARY!O3149","v":"ऊँचा"},"ऊँचा",{"$f":"DICTIONARY!P3151","v":"ADJECTIVES ( विशेषण )"},"ऊँचा","ऊँचा"]
[null,null,null,null,null,null,null,null,null,{"$f":"IF(K3126=\" \",\" \",ROWS($K$5:K3126))","v":3122},{"$f":"DICTIONARY!M3150","v":"Low"},{"$f":"DICTIONARY!O3150","v":"नीचा"},"नीचा",{"$f":"DICTIONARY!P3152","v":"ADJECTIVES ( विशेषण )"},"नीचा","नीचा"]
[null,null,null,null,null,null,null,null,null,{"$f":"IF(K3127=\" \",\" \",ROWS($K$5:K3127))","v":3123},{"$f":"DICTIONARY!M3151","v":" True"},{"$f":"DICTIONARY!O3151","v":"सत्य"},"सत्य",{"$f":"DICTIONARY!P3153","v":"ADJECTIVES ( विशेषण )"},"सत्य","सत्य"]
[null,null,null,null,null,null,null,null,null,{"$f":"IF(K3128=\" \",\" \",ROWS($K$5:K3128))","v":3124},{"$f":"DICTIONARY!M3152","v":" False"},{"$f":"DICTIONARY!O3152","v":"झूठ"},"झूठ",{"$f":"DICTIONARY!P3154","v":"ADJECTIVES ( विशेषण )"},"झूठ","झूठ"]
[null,null,null,null,null,null,null,null,null,{"$f":"IF(K3129=\" \",\" \",ROWS($K$5:K3129))","v":3125},{"$f":"DICTIONARY!M3153","v":"New"},{"$f":"DICTIONARY!O3153","v":"नया "},"नया ",{"$f":"DICTIONARY!P3155","v":"ADJECTIVES ( विशेषण )"},"नया ","नया "]
[null,null,null,null,null,null,null,null,null,{"$f":"IF(K3130=\" \",\" \",ROWS($K$5:K3130))","v":3126},{"$f":"DICTIONARY!M3154","v":"Old"},{"$f":"DICTIONARY!O3154","v":"पुराना"},"पुराना",{"$f":"DICTIONARY!P3156","v":"ADJECTIVES ( विशेषण )"},"पुराना","पुराना"]
[null,null,null,null,null,null,null,null,null,{"$f":"IF(K3131=\" \",\" \",ROWS($K$5:K3131))","v":3127},{"$f":"DICTIONARY!M3155","v":"Hard"},{"$f":"DICTIONARY!O3155","v":"कडा,कठोर"},"कडा,कठोर",{"$f":"DICTIONARY!P3157","v":"ADJECTIVES ( विशेषण )"},"कडा,कठोर","कडा,कठोर"]
[null,null,null,null,null,null,null,null,null,{"$f":"IF(K3132=\" \",\" \",ROWS($K$5:K3132))","v":3128},{"$f":"DICTIONARY!M3156","v":"Ugly"},{"$f":"DICTIONARY!O3156","v":"कुरूप,बदसूरत"},"कुरूप,बदसूरत",{"$f":"DICTIONARY!P3158","v":"ADJECTIVES ( विशेषण )"},"कुरूप,बदसूरत","कुरूप,बदसूरत"]
[null,null,null,null,null,null,null,null,null,{"$f":"IF(K3133=\" \",\" \",ROWS($K$5:K3133))","v":3129},{"$f":"DICTIONARY!M3157","v":"Well"},{"$f":"DICTIONARY!O3157","v":"स्वस्थ,अच्छा"},"स्वस्थ,अच्छा",{"$f":"DICTIONARY!P3159","v":"ADJECTIVES ( विशेषण )"},"स्वस्थ,अच्छा","स्वस्थ,अच्छा"]
[null,null,null,null,null,null,null,null,null,{"$f":"IF(K3134=\" \",\" \",ROWS($K$5:K3134))","v":3130},{"$f":"DICTIONARY!M3158","v":"Rich"},{"$f":"DICTIONARY!O3158","v":"धनी,अमीर"},"धनी,अमीर",{"$f":"DICTIONARY!P3160","v":"ADJECTIVES ( विशेषण )"},"धनी,अमीर","धनी,अमीर"]
[null,null,null,null,null,null,null,null,null,{"$f":"IF(K3135=\" \",\" \",ROWS($K$5:K3135))","v":3131},{"$f":"DICTIONARY!M3159","v":"Poor"},{"$f":"DICTIONARY!O3159","v":"गरीब"},"गरीब",{"$f":"DICTIONARY!P3161","v":"ADJECTIVES ( विशेषण )"},"गरीब","गरीब"]
[null,null,null,null,null,null,null,null,null,{"$f":"IF(K3136=\" \",\" \",ROWS($K$5:K3136))","v":3132},{"$f":"DICTIONARY!M3160","v":"Kind"},{"$f":"DICTIONARY!O3160","v":"दयालु"},"दयालु",{"$f":"DICTIONARY!P3162","v":"ADJECTIVES ( विशेषण )"},"दयालु","दयालु"]
[null,null,null,null,null,null,null,null,null,{"$f":"IF(K3137=\" \",\" \",ROWS($K$5:K3137))","v":3133},{"$f":"DICTIONARY!M3161","v":"Cruel"},{"$f":"DICTIONARY!O3161","v":"निष्ठुर"},"निष्ठुर",{"$f":"DICTIONARY!P3163","v":"ADJECTIVES ( विशेषण )"},"निष्ठुर","निष्ठुर"]
[null,null,null,null,null,null,null,null,null,{"$f":"IF(K3138=\" \",\" \",ROWS($K$5:K3138))","v":3134},{"$f":"DICTIONARY!M3162","v":"Sweet"},{"$f":"DICTIONARY!O3162","v":"मीठा"},"मीठा",{"$f":"DICTIONARY!P3164","v":"ADJECTIVES ( विशेषण )"},"मीठा","मीठा"]
[null,null,null,null,null,null,null,null,null,{"$f":"IF(K3139=\" \",\" \",ROWS($K$5:K3139))","v":3135},{"$f":"DICTIONARY!M3163","v":"Lame"},{"$f":"DICTIONARY!O3163","v":"लंगड़ा"},"लंगड़ा",{"$f":"DICTIONARY!P3165","v":"ADJECTIVES ( विशेषण )"},"लंगड़ा","लंगड़ा"]
[null,null,null,null,null,null,null,null,null,{"$f":"IF(K3140=\" \",\" \",ROWS($K$5:K3140))","v":3136},{"$f":"DICTIONARY!M3164","v":"Deaf"},{"$f":"DICTIONARY!O3164","v":"बहरा"},"बहरा",{"$f":"DICTIONARY!P3166","v":"ADJECTIVES ( विशेषण )"},"बहरा","बहरा"]
[null,null,null,null,null,null,null,null,null,{"$f":"IF(K3141=\" \",\" \",ROWS($K$5:K3141))","v":3137},{"$f":"DICTIONARY!M3165","v":"Dumb"},{"$f":"DICTIONARY!O3165","v":"मूक,गूँगा"},"मूक,गूँगा",{"$f":"DICTIONARY!P3167","v":"ADJECTIVES ( विशेषण )"},{"$f":"M3141","v":"मूक,गूँगा"},{"$f":"L3141","v":"मूक,गूँगा"}]
[null,null,null,null,null,null,null,null,null,{"$f":"IF(K3142=\" \",\" \",ROWS($K$5:K3142))","v":3138},{"$f":"DICTIONARY!M3166","v":"Blind"},{"$f":"DICTIONARY!O3166","v":"अँधा"},{"$f":"L3142","v":"अँधा"},{"$f":"DICTIONARY!P3168","v":"ADJECTIVES ( विशेषण )"},"अँधा","अँधा"]
[null,null,null,null,null,null,null,null,null,{"$f":"IF(K3143=\" \",\" \",ROWS($K$5:K3143))","v":3139},{"$f":"DICTIONARY!M3167","v":"Bold"},{"$f":"DICTIONARY!O3167","v":"साहसी"},"साहसी",{"$f":"DICTIONARY!P3169","v":"ADJECTIVES ( विशेषण )"},"साहसी","साहसी"]
[null,null,null,null,null,null,null,null,null,{"$f":"IF(K3144=\" \",\" \",ROWS($K$5:K3144))","v":3140},{"$f":"DICTIONARY!M3168","v":"Timid"},{"$f":"DICTIONARY!O3168","v":"डरपोक"},"डरपोक",{"$f":"DICTIONARY!P3170","v":"ADJECTIVES ( विशेषण )"},"डरपोक","डरपोक"]
[null,null,null,null,null,null,null,null,null,{"$f":"IF(K3145=\" \",\" \",ROWS($K$5:K3145))","v":3141},{"$f":"DICTIONARY!M3169","v":"Happy"},{"$f":"DICTIONARY!O3169","v":"सुखी"},"सुखी",{"$f":"DICTIONARY!P3171","v":"ADJECTIVES ( विशेषण )"},"सुखी","सुखी"]
[null,null,null,null,null,null,null,null,null,{"$f":"IF(K3146=\" \",\" \",ROWS($K$5:K3146))","v":3142},{"$f":"DICTIONARY!M3170","v":" Idle"},{"$f":"DICTIONARY!O3170","v":"आलसी"},"आलसी",{"$f":"DICTIONARY!P3172","v":"ADJECTIVES ( विशेषण )"},"आलसी","आलसी"]
[null,null,null,null,null,null,null,null,null,{"$f":"IF(K3147=\" \",\" \",ROWS($K$5:K3147))","v":3143},{"$f":"DICTIONARY!M3171","v":"Busy"},{"$f":"DICTIONARY!O3171","v":"व्यस्त"},"व्यस्त",{"$f":"DICTIONARY!P3173","v":"ADJECTIVES ( विशेषण )"},"व्यस्त","व्यस्त"]
[null,null,null,null,null,null,null,null,null,{"$f":"IF(K3148=\" \",\" \",ROWS($K$5:K3148))","v":3144},{"$f":"DICTIONARY!M3172","v":"Foolish"},{"$f":"DICTIONARY!O3172","v":"मुर्ख"},"मुर्ख",{"$f":"DICTIONARY!P3174","v":"ADJECTIVES ( विशेषण )"},"मुर्ख","मुर्ख"]
[null,null,null,null,null,null,null,null,null,{"$f":"IF(K3149=\" \",\" \",ROWS($K$5:K3149))","v":3145},{"$f":"DICTIONARY!M3173","v":"Wise"},{"$f":"DICTIONARY!O3173","v":"ज्ञानी"},"ज्ञानी",{"$f":"DICTIONARY!P3175","v":"ADJECTIVES ( विशेषण )"},"ज्ञानी","ज्ञानी"]
[null,null,null,null,null,null,null,null,null,{"$f":"IF(K3150=\" \",\" \",ROWS($K$5:K3150))","v":3146},{"$f":"DICTIONARY!M3174","v":"Fat"},{"$f":"DICTIONARY!O3174","v":"मोटा"},"मोटा",{"$f":"DICTIONARY!P3176","v":"ADJECTIVES ( विशेषण )"},"मोटा","मोटा"]
[null,null,null,null,null,null,null,null,null,{"$f":"IF(K3151=\" \",\" \",ROWS($K$5:K3151))","v":3147},{"$f":"DICTIONARY!M3175","v":"Thin"},{"$f":"DICTIONARY!O3175","v":"कमजोर,दुबला-पतला"},"कमजोर,दुबला-पतला",{"$f":"DICTIONARY!P3177","v":"ADJECTIVES ( विशेषण )"},"कमजोर,दुबला-पतला","कमजोर,दुबला-पतला"]
[null,null,null,null,null,null,null,null,null,{"$f":"IF(K3152=\" \",\" \",ROWS($K$5:K3152))","v":3148},{"$f":"DICTIONARY!M3176","v":"Pet"},{"$f":"DICTIONARY!O3176","v":"पालतू"},"पालतू",{"$f":"DICTIONARY!P3178","v":"ADJECTIVES ( विशेषण )"},"पालतू","पालतू"]
[null,null,null,null,null,null,null,null,null,{"$f":"IF(K3153=\" \",\" \",ROWS($K$5:K3153))","v":3149},{"$f":"DICTIONARY!M3177","v":"Sad"},{"$f":"DICTIONARY!O3177","v":"दुखी,उदास"},"दुखी,उदास",{"$f":"DICTIONARY!P3179","v":"ADJECTIVES ( विशेषण )"},"दुखी,उदास","दुखी,उदास"]
[null,null,null,null,null,null,null,null,null,{"$f":"IF(K3154=\" \",\" \",ROWS($K$5:K3154))","v":3150},{"$f":"DICTIONARY!M3178","v":"Sharp"},{"$f":"DICTIONARY!O3178","v":"तीक्ष्ण,तीखा"},"तीक्ष्ण,तीखा",{"$f":"DICTIONARY!P3180","v":"ADJECTIVES ( विशेषण )"},"तीक्ष्ण,तीखा","तीक्ष्ण,तीखा"]
[null,null,null,null,null,null,null,null,null,{"$f":"IF(K3155=\" \",\" \",ROWS($K$5:K3155))","v":3151},{"$f":"DICTIONARY!M3179","v":"Blunt"},{"$f":"DICTIONARY!O3179","v":"भोथा"},"भोथा",{"$f":"DICTIONARY!P3181","v":"ADJECTIVES ( विशेषण )"},"भोथा","भोथा"]
[null,null,null,null,null,null,null,null,null,{"$f":"IF(K3156=\" \",\" \",ROWS($K$5:K3156))","v":3152},{"$f":"DICTIONARY!M3180","v":"Ill"},{"$f":"DICTIONARY!O3180","v":"अस्वस्थ"},"अस्वस्थ",{"$f":"DICTIONARY!P3182","v":"ADJECTIVES ( विशेषण )"},"अस्वस्थ","अस्वस्थ"]
[null,null,null,null,null,null,null,null,null,{"$f":"IF(K3157=\" \",\" \",ROWS($K$5:K3157))","v":3153},{"$f":"DICTIONARY!M3181","v":"Calm"},{"$f":"DICTIONARY!O3181","v":"शांत"},"शांत","ADJECTIVES ( विशेषण )","शांत","शांत"]
[null,null,null,null,null,null,null,null,null,{"$f":"IF(K3158=\" \",\" \",ROWS($K$5:K3158))","v":3154},{"$f":"DICTIONARY!M3182","v":"Naughty"},{"$f":"DICTIONARY!O3182","v":"शरारती,शैतान"},"शरारती,शैतान","ADJECTIVES ( विशेषण )","शरारती,शैतान","शरारती,शैतान"]
[null,null,null,null,null,null,null,null,null,{"$f":"IF(K3159=\" \",\" \",ROWS($K$5:K3159))","v":3155},{"$f":"DICTIONARY!M3183","v":"To"},{"$f":"DICTIONARY!O3183","v":"प्रति,प्राप्तकर्ता"},"प्रति,प्राप्तकर्ता",{"$f":"DICTIONARY!P3185","v":"PREPOSITIONS ( सम्बन्धवाचक अव्यव )"},"प्रति,प्राप्तकर्ता","प्रति,प्राप्तकर्ता"]
[null,null,null,null,null,null,null,null,null,{"$f":"IF(K3160=\" \",\" \",ROWS($K$5:K3160))","v":3156},{"$f":"DICTIONARY!M3184","v":"At"},{"$f":"DICTIONARY!O3184","v":"पर"},"पर",{"$f":"DICTIONARY!P3186","v":"PREPOSITIONS ( सम्बन्धवाचक अव्यव )"},"पर","पर"]
[null,null,null,null,null,null,null,null,null,{"$f":"IF(K3161=\" \",\" \",ROWS($K$5:K3161))","v":3157},{"$f":"DICTIONARY!M3185","v":"In"},{"$f":"DICTIONARY!O3185","v":"भीतर"},"भीतर",{"$f":"DICTIONARY!P3187","v":"PREPOSITIONS ( सम्बन्धवाचक अव्यव )"},"भीतर","भीतर"]
[null,null,null,null,null,null,null,null,null,{"$f":"IF(K3162=\" \",\" \",ROWS($K$5:K3162))","v":3158},{"$f":"DICTIONARY!M3186","v":" By"},{"$f":"DICTIONARY!O3186","v":"द्वारा"},"द्वारा",{"$f":"DICTIONARY!P3188","v":"PREPOSITIONS ( सम्बन्धवाचक अव्यव )"},"द्वारा","द्वारा"]
[null,null,null,null,null,null,null,null,null,{"$f":"IF(K3163=\" \",\" \",ROWS($K$5:K3163))","v":3159},{"$f":"DICTIONARY!M3187","v":"Of"},{"$f":"DICTIONARY!O3187","v":"का,के,की"},"का,के,की",{"$f":"DICTIONARY!P3189","v":"PREPOSITIONS ( सम्बन्धवाचक अव्यव )"},"का,के,की","का,के,की"]
[null,null,null,null,null,null,null,null,null,{"$f":"IF(K3164=\" \",\" \",ROWS($K$5:K3164))","v":3160},{"$f":"DICTIONARY!M3188","v":"On"},{"$f":"DICTIONARY!O3188","v":"ऊपर"},"ऊपर",{"$f":"DICTIONARY!P3190","v":"PREPOSITIONS ( सम्बन्धवाचक अव्यव )"},"ऊपर","ऊपर"]
[null,null,null,null,null,null,null,null,null,{"$f":"IF(K3165=\" \",\" \",ROWS($K$5:K3165))","v":3161},{"$f":"DICTIONARY!M3189","v":"Above"},{"$f":"DICTIONARY!O3189","v":"ऊपर"},"ऊपर",{"$f":"DICTIONARY!P3191","v":"PREPOSITIONS ( सम्बन्धवाचक अव्यव )"},"ऊपर","ऊपर"]
[null,null,null,null,null,null,null,null,null,{"$f":"IF(K3166=\" \",\" \",ROWS($K$5:K3166))","v":3162},{"$f":"DICTIONARY!M3190","v":"Within"},{"$f":"DICTIONARY!O3190","v":"भीतर"},"भीतर",{"$f":"DICTIONARY!P3192","v":"PREPOSITIONS ( सम्बन्धवाचक अव्यव )"},"भीतर","भीतर"]
[null,null,null,null,null,null,null,null,null,{"$f":"IF(K3167=\" \",\" \",ROWS($K$5:K3167))","v":3163},{"$f":"DICTIONARY!M3191","v":"For"},{"$f":"DICTIONARY!O3191","v":"के लिए"},"के लिए",{"$f":"DICTIONARY!P3193","v":"PREPOSITIONS ( सम्बन्धवाचक अव्यव )"},"के लिए","के लिए"]
[null,null,null,null,null,null,null,null,null,{"$f":"IF(K3168=\" \",\" \",ROWS($K$5:K3168))","v":3164},{"$f":"DICTIONARY!M3192","v":"Under"},{"$f":"DICTIONARY!O3192","v":"नीचे"},"नीचे",{"$f":"DICTIONARY!P3194","v":"PREPOSITIONS ( सम्बन्धवाचक अव्यव )"},"नीचे","नीचे"]
[null,null,null,null,null,null,null,null,null,{"$f":"IF(K3169=\" \",\" \",ROWS($K$5:K3169))","v":3165},{"$f":"DICTIONARY!M3193","v":"Into"},{"$f":"DICTIONARY!O3193","v":"मध्य में,में"},"मध्य में,में",{"$f":"DICTIONARY!P3195","v":"PREPOSITIONS ( सम्बन्धवाचक अव्यव )"},"मध्य में,में","मध्य में,में"]
[null,null,null,null,null,null,null,null,null,{"$f":"IF(K3170=\" \",\" \",ROWS($K$5:K3170))","v":3166},{"$f":"DICTIONARY!M3194","v":"After"},{"$f":"DICTIONARY!O3194","v":"बाद में"},"बाद में",{"$f":"DICTIONARY!P3196","v":"PREPOSITIONS ( सम्बन्धवाचक अव्यव )"},"बाद में","बाद में"]
[null,null,null,null,null,null,null,null,null,{"$f":"IF(K3171=\" \",\" \",ROWS($K$5:K3171))","v":3167},{"$f":"DICTIONARY!M3195","v":"From"},{"$f":"DICTIONARY!O3195","v":"से,प्रेषक"},"से,प्रेषक",{"$f":"DICTIONARY!P3197","v":"PREPOSITIONS ( सम्बन्धवाचक अव्यव )"},"से,प्रेषक","से,प्रेषक"]
[null,null,null,null,null,null,null,null,null,{"$f":"IF(K3172=\" \",\" \",ROWS($K$5:K3172))","v":3168},{"$f":"DICTIONARY!M3196","v":"Except"},{"$f":"DICTIONARY!O3196","v":"छोड़कर"},"छोड़कर",{"$f":"DICTIONARY!P3198","v":"PREPOSITIONS ( सम्बन्धवाचक अव्यव )"},"छोड़कर","छोड़कर"]
[null,null,null,null,null,null,null,null,null,{"$f":"IF(K3173=\" \",\" \",ROWS($K$5:K3173))","v":3169},{"$f":"DICTIONARY!M3197","v":"Without"},{"$f":"DICTIONARY!O3197","v":"अलावा,सिवाय"},"अलावा,सिवाय",{"$f":"DICTIONARY!P3199","v":"PREPOSITIONS ( सम्बन्धवाचक अव्यव )"},"अलावा,सिवाय","अलावा,सिवाय"]
[null,null,null,null,null,null,null,null,null,{"$f":"IF(K3174=\" \",\" \",ROWS($K$5:K3174))","v":3170},{"$f":"DICTIONARY!M3198","v":"Against"},{"$f":"DICTIONARY!O3198","v":"विरुध्द"},"विरुध्द",{"$f":"DICTIONARY!P3200","v":"PREPOSITIONS ( सम्बन्धवाचक अव्यव )"},"विरुध्द","विरुध्द"]
[null,null,null,null,null,null,null,null,null,{"$f":"IF(K3175=\" \",\" \",ROWS($K$5:K3175))","v":3171},{"$f":"DICTIONARY!M3199","v":"Below"},{"$f":"DICTIONARY!O3199","v":"नीचे"},"नीचे",{"$f":"DICTIONARY!P3201","v":"PREPOSITIONS ( सम्बन्धवाचक अव्यव )"},"नीचे","नीचे"]
[null,null,null,null,null,null,null,null,null,{"$f":"IF(K3176=\" \",\" \",ROWS($K$5:K3176))","v":3172},{"$f":"DICTIONARY!M3200","v":"Round"},{"$f":"DICTIONARY!O3200","v":"चारो ओर,चतुर्दिक"},"चारो ओर,चतुर्दिक",{"$f":"DICTIONARY!P3202","v":"PREPOSITIONS ( सम्बन्धवाचक अव्यव )"},"चारो ओर,चतुर्दिक","चारो ओर,चतुर्दिक"]
[null,null,null,null,null,null,null,null,null,{"$f":"IF(K3177=\" \",\" \",ROWS($K$5:K3177))","v":3173},{"$f":"DICTIONARY!M3201","v":"Till"},{"$f":"DICTIONARY!O3201","v":"तक"},"तक",{"$f":"DICTIONARY!P3203","v":"PREPOSITIONS ( सम्बन्धवाचक अव्यव )"},"तक","तक"]
[null,null,null,null,null,null,null,null,null,{"$f":"IF(K3178=\" \",\" \",ROWS($K$5:K3178))","v":3174},{"$f":"DICTIONARY!M3202","v":"With"},{"$f":"DICTIONARY!O3202","v":"साथ में"},"साथ में",{"$f":"DICTIONARY!P3204","v":"PREPOSITIONS ( सम्बन्धवाचक अव्यव )"},"साथ में","साथ में"]
[null,null,null,null,null,null,null,null,null,{"$f":"IF(K3179=\" \",\" \",ROWS($K$5:K3179))","v":3175},{"$f":"DICTIONARY!M3203","v":"Over"},{"$f":"DICTIONARY!O3203","v":"ऊपर से"},"ऊपर से",{"$f":"DICTIONARY!P3205","v":"PREPOSITIONS ( सम्बन्धवाचक अव्यव )"},"ऊपर से","ऊपर से"]
[null,null,null,null,null,null,null,null,null,{"$f":"IF(K3180=\" \",\" \",ROWS($K$5:K3180))","v":3176},{"$f":"DICTIONARY!M3204","v":"About"},{"$f":"DICTIONARY!O3204","v":"प्राय:"},"प्राय:",{"$f":"DICTIONARY!P3206","v":"PREPOSITIONS ( सम्बन्धवाचक अव्यव )"},"प्राय:","प्राय:"]
[null,null,null,null,null,null,null,null,null,{"$f":"IF(K3181=\" \",\" \",ROWS($K$5:K3181))","v":3177},{"$f":"DICTIONARY!M3205","v":"Before"},{"$f":"DICTIONARY!O3205","v":"पहले,सामने"},"पहले,सामने",{"$f":"DICTIONARY!P3207","v":"PREPOSITIONS ( सम्बन्धवाचक अव्यव )"},"पहले,सामने","पहले,सामने"]
[null,null,null,null,null,null,null,null,null,{"$f":"IF(K3182=\" \",\" \",ROWS($K$5:K3182))","v":3178},{"$f":"DICTIONARY!M3206","v":"Along"},{"$f":"DICTIONARY!O3206","v":"मध्य"},"मध्य","PREPOSITIONS ( सम्बन्धवाचक अव्यव )","मध्य","मध्य"]
[null,null,null,null,null,null,null,null,null,{"$f":"IF(K3183=\" \",\" \",ROWS($K$5:K3183))","v":3179},{"$f":"DICTIONARY!M3207","v":"Among"},{"$f":"DICTIONARY!O3207","v":"मध्य"},"मध्य","PREPOSITIONS ( सम्बन्धवाचक अव्यव )","मध्य","मध्य"]
[null,null,null,null,null,null,null,null,null,{"$f":"IF(K3184=\" \",\" \",ROWS($K$5:K3184))","v":3180},{"$f":"DICTIONARY!M3208","v":"Fever"},{"$f":"DICTIONARY!O3208","v":"बुखार,ज्वर"},"बुखार,ज्वर",{"$f":"DICTIONARY!P3210","v":"DISEASES ( बीमारियाँ )"},"बुखार,ज्वर","बुखार,ज्वर"]
[null,null,null,null,null,null,null,null,null,{"$f":"IF(K3185=\" \",\" \",ROWS($K$5:K3185))","v":3181},{"$f":"DICTIONARY!M3209","v":"Ague"},{"$f":"DICTIONARY!O3209","v":"क्म्पज्वर,शीतज्वर"},"क्म्पज्वर,शीतज्वर",{"$f":"DICTIONARY!P3211","v":"DISEASES ( बीमारियाँ )"},"क्म्पज्वर,शीतज्वर","क्म्पज्वर,शीतज्वर"]
[null,null,null,null,null,null,null,null,null,{"$f":"IF(K3186=\" \",\" \",ROWS($K$5:K3186))","v":3182},{"$f":"DICTIONARY!M3210","v":"Malaria"},{"$f":"DICTIONARY!O3210","v":"मलेरिया"},"मलेरिया",{"$f":"DICTIONARY!P3212","v":"DISEASES ( बीमारियाँ )"},"मलेरिया","मलेरिया"]
[null,null,null,null,null,null,null,null,null,{"$f":"IF(K3187=\" \",\" \",ROWS($K$5:K3187))","v":3183},{"$f":"DICTIONARY!M3211","v":"Tyohoid"},{"$f":"DICTIONARY!O3211","v":"मियादी बुखार"},"मियादी बुखार",{"$f":"DICTIONARY!P3213","v":"DISEASES ( बीमारियाँ )"},"मियादी बुखार","मियादी बुखार"]
[null,null,null,null,null,null,null,null,null,{"$f":"IF(K3188=\" \",\" \",ROWS($K$5:K3188))","v":3184},{"$f":"DICTIONARY!M3212","v":"Cholera"},{"$f":"DICTIONARY!O3212","v":"हैजा"},"हैजा",{"$f":"DICTIONARY!P3214","v":"DISEASES ( बीमारियाँ )"},"हैजा","हैजा"]
[null,null,null,null,null,null,null,null,null,{"$f":"IF(K3189=\" \",\" \",ROWS($K$5:K3189))","v":3185},{"$f":"DICTIONARY!M3213","v":"Cough"},{"$f":"DICTIONARY!O3213","v":"खाँसी"},"खाँसी",{"$f":"DICTIONARY!P3215","v":"DISEASES ( बीमारियाँ )"},"खाँसी","खाँसी"]
[null,null,null,null,null,null,null,null,null,{"$f":"IF(K3190=\" \",\" \",ROWS($K$5:K3190))","v":3186},{"$f":"DICTIONARY!M3214","v":"Piles"},{"$f":"DICTIONARY!O3214","v":"सर्दी"},"सर्दी",{"$f":"DICTIONARY!P3216","v":"DISEASES ( बीमारियाँ )"},"सर्दी","सर्दी"]
[null,null,null,null,null,null,null,null,null,{"$f":"IF(K3191=\" \",\" \",ROWS($K$5:K3191))","v":3187},{"$f":"DICTIONARY!M3215","v":"Dyspesia"},{"$f":"DICTIONARY!O3215","v":"अर्श,बवासीर"},"अर्श,बवासीर",{"$f":"DICTIONARY!P3217","v":"DISEASES ( बीमारियाँ )"},"अर्श,बवासीर","अर्श,बवासीर"]
[null,null,null,null,null,null,null,null,null,{"$f":"IF(K3192=\" \",\" \",ROWS($K$5:K3192))","v":3188},{"$f":"DICTIONARY!M3216","v":"Small-Pox"},{"$f":"DICTIONARY!O3216","v":"अजीर्ण"},"अजीर्ण",{"$f":"DICTIONARY!P3218","v":"DISEASES ( बीमारियाँ )"},"अजीर्ण","अजीर्ण"]
[null,null,null,null,null,null,null,null,null,{"$f":"IF(K3193=\" \",\" \",ROWS($K$5:K3193))","v":3189},{"$f":"DICTIONARY!M3217","v":"Blood-Dysentery"},{"$f":"DICTIONARY!O3217","v":"चेचक-शीतला"},"चेचक-शीतला",{"$f":"DICTIONARY!P3219","v":"DISEASES ( बीमारियाँ )"},"चेचक-शीतला","चेचक-शीतला"]
[null,null,null,null,null,null,null,null,null,{"$f":"IF(K3194=\" \",\" \",ROWS($K$5:K3194))","v":3190},{"$f":"DICTIONARY!M3218","v":"Influenza"},{"$f":"DICTIONARY!O3218","v":"रक्तामाशय,रक्तातिसार"},"रक्तामाशय,रक्तातिसार",{"$f":"DICTIONARY!P3220","v":"DISEASES ( बीमारियाँ )"},"रक्तामाशय,रक्तातिसार","रक्तामाशय,रक्तातिसार"]
[null,null,null,null,null,null,null,null,null,{"$f":"IF(K3195=\" \",\" \",ROWS($K$5:K3195))","v":3191},{"$f":"DICTIONARY!M3219","v":"Pus"},{"$f":"DICTIONARY!O3219","v":"इन्फ्लुएंजा"},"इन्फ्लुएंजा",{"$f":"DICTIONARY!P3221","v":"DISEASES ( बीमारियाँ )"},"इन्फ्लुएंजा","इन्फ्लुएंजा"]
[null,null,null,null,null,null,null,null,null,{"$f":"IF(K3196=\" \",\" \",ROWS($K$5:K3196))","v":3192},{"$f":"DICTIONARY!M3220","v":"Dysentery"},{"$f":"DICTIONARY!O3220","v":"पेचिश"},"पेचिश",{"$f":"DICTIONARY!P3222","v":"DISEASES ( बीमारियाँ )"},"पेचिश","पेचिश"]
[null,null,null,null,null,null,null,null,null,{"$f":"IF(K3197=\" \",\" \",ROWS($K$5:K3197))","v":3193},{"$f":"DICTIONARY!M3221","v":"Vomitting"},{"$f":"DICTIONARY!O3221","v":"उल्टी,कै,मन"},"उल्टी,कै,मन",{"$f":"DICTIONARY!P3223","v":"DISEASES ( बीमारियाँ )"},"उल्टी,कै,मन","उल्टी,कै,मन"]
[null,null,null,null,null,null,null,null,null,{"$f":"IF(K3198=\" \",\" \",ROWS($K$5:K3198))","v":3194},{"$f":"DICTIONARY!M3222","v":"Measles"},{"$f":"DICTIONARY!O3222","v":"खसरा,शीतला"},"खसरा,शीतला",{"$f":"DICTIONARY!P3224","v":"DISEASES ( बीमारियाँ )"},"खसरा,शीतला","खसरा,शीतला"]
[null,null,null,null,null,null,null,null,null,{"$f":"IF(K3199=\" \",\" \",ROWS($K$5:K3199))","v":3195},{"$f":"DICTIONARY!M3223","v":"Boil"},{"$f":"DICTIONARY!O3223","v":"फोड़ा"},"फोड़ा",{"$f":"DICTIONARY!P3225","v":"DISEASES ( बीमारियाँ )"},"फोड़ा","फोड़ा"]
[null,null,null,null,null,null,null,null,null,{"$f":"IF(K3200=\" \",\" \",ROWS($K$5:K3200))","v":3196},{"$f":"DICTIONARY!M3224","v":"Ring-Worm"},{"$f":"DICTIONARY!O3224","v":"दाद,दिनाय"},"दाद,दिनाय",{"$f":"DICTIONARY!P3226","v":"DISEASES ( बीमारियाँ )"},"दाद,दिनाय","दाद,दिनाय"]
[null,null,null,null,null,null,null,null,null,{"$f":"IF(K3201=\" \",\" \",ROWS($K$5:K3201))","v":3197},{"$f":"DICTIONARY!M3225","v":"Asthma"},{"$f":"DICTIONARY!O3225","v":"शूल"},"शूल",{"$f":"DICTIONARY!P3227","v":"DISEASES ( बीमारियाँ )"},"शूल","शूल"]
[null,null,null,null,null,null,null,null,null,{"$f":"IF(K3202=\" \",\" \",ROWS($K$5:K3202))","v":3198},{"$f":"DICTIONARY!M3226","v":"Wound"},{"$f":"DICTIONARY!O3226","v":"घाव"},"घाव",{"$f":"DICTIONARY!P3228","v":"DISEASES ( बीमारियाँ )"},"घाव","घाव"]
[null,null,null,null,null,null,null,null,null,{"$f":"IF(K3203=\" \",\" \",ROWS($K$5:K3203))","v":3199},{"$f":"DICTIONARY!M3227","v":"Hurt"},{"$f":"DICTIONARY!O3227","v":"चोट"},"चोट",{"$f":"DICTIONARY!P3229","v":"DISEASES ( बीमारियाँ )"},"चोट","चोट"]
[null,null,null,null,null,null,null,null,null,{"$f":"IF(K3204=\" \",\" \",ROWS($K$5:K3204))","v":3200},{"$f":"DICTIONARY!M3228","v":"Chicken-Pox"},{"$f":"DICTIONARY!O3228","v":"छोटी चेचक"},"छोटी चेचक",{"$f":"DICTIONARY!P3230","v":"DISEASES ( बीमारियाँ )"},"छोटी चेचक","छोटी चेचक"]
[null,null,null,null,null,null,null,null,null,{"$f":"IF(K3205=\" \",\" \",ROWS($K$5:K3205))","v":3201},{"$f":"DICTIONARY!M3229","v":"Pthisis"},{"$f":"DICTIONARY!O3229","v":"क्षयरोग,यक्ष्मा"},"क्षयरोग,यक्ष्मा",{"$f":"DICTIONARY!P3231","v":"DISEASES ( बीमारियाँ )"},{"$f":"M3205","v":"क्षयरोग,यक्ष्मा"},{"$f":"L3205","v":"क्षयरोग,यक्ष्मा"}]
[null,null,null,null,null,null,null,null,null,{"$f":"IF(K3206=\" \",\" \",ROWS($K$5:K3206))","v":3202},{"$f":"DICTIONARY!M3230","v":"Headache"},{"$f":"DICTIONARY!O3230","v":"सिरदर्द"},{"$f":"L3206","v":"सिरदर्द"},{"$f":"DICTIONARY!P3232","v":"DISEASES ( बीमारियाँ )"},"सिरदर्द","सिरदर्द"]
[null,null,null,null,null,null,null,null,null,{"$f":"IF(K3207=\" \",\" \",ROWS($K$5:K3207))","v":3203},{"$f":"DICTIONARY!M3231","v":"Hysteria"},{"$f":"DICTIONARY!O3231","v":"उन्माद"},"उन्माद",{"$f":"DICTIONARY!P3233","v":"DISEASES ( बीमारियाँ )"},"उन्माद","उन्माद"]
[null,null,null,null,null,null,null,null,null,{"$f":"IF(K3208=\" \",\" \",ROWS($K$5:K3208))","v":3204},{"$f":"DICTIONARY!M3232","v":"Paralysis"},{"$f":"DICTIONARY!O3232","v":"पक्षाघात"},"पक्षाघात",{"$f":"DICTIONARY!P3234","v":"DISEASES ( बीमारियाँ )"},"पक्षाघात","पक्षाघात"]
[null,null,null,null,null,null,null,null,null,{"$f":"IF(K3209=\" \",\" \",ROWS($K$5:K3209))","v":3205},{"$f":"DICTIONARY!M3233","v":"Nettle-Rash"},{"$f":"DICTIONARY!O3233","v":"पित्ती"},"पित्ती",{"$f":"DICTIONARY!P3235","v":"DISEASES ( बीमारियाँ )"},"पित्ती","पित्ती"]
[null,null,null,null,null,null,null,null,null,{"$f":"IF(K3210=\" \",\" \",ROWS($K$5:K3210))","v":3206},{"$f":"DICTIONARY!M3234","v":"Diabetes"},{"$f":"DICTIONARY!O3234","v":"बहुमूत्र"},"बहुमूत्र",{"$f":"DICTIONARY!P3236","v":"DISEASES ( बीमारियाँ )"},"बहुमूत्र","बहुमूत्र"]
[null,null,null,null,null,null,null,null,null,{"$f":"IF(K3211=\" \",\" \",ROWS($K$5:K3211))","v":3207},{"$f":"DICTIONARY!M3235","v":"Suicide"},{"$f":"DICTIONARY!O3235","v":"आत्महत्या"},"आत्महत्या",{"$f":"DICTIONARY!P3237","v":"DISEASES ( बीमारियाँ )"},"आत्महत्या","आत्महत्या"]
[null,null,null,null,null,null,null,null,null,{"$f":"IF(K3212=\" \",\" \",ROWS($K$5:K3212))","v":3208},{"$f":"DICTIONARY!M3236","v":"Gout"},{"$f":"DICTIONARY!O3236","v":"वात रोग,गठिया"},"वात रोग,गठिया",{"$f":"DICTIONARY!P3238","v":"DISEASES ( बीमारियाँ )"},"वात रोग,गठिया","वात रोग,गठिया"]
[null,null,null,null,null,null,null,null,null,{"$f":"IF(K3213=\" \",\" \",ROWS($K$5:K3213))","v":3209},{"$f":"DICTIONARY!M3237","v":"Leprosy"},{"$f":"DICTIONARY!O3237","v":"कुष्ट,कोढ़"},"कुष्ट,कोढ़",{"$f":"DICTIONARY!P3239","v":"DISEASES ( बीमारियाँ )"},"कुष्ट,कोढ़","कुष्ट,कोढ़"]
[null,null,null,null,null,null,null,null,null,{"$f":"IF(K3214=\" \",\" \",ROWS($K$5:K3214))","v":3210},{"$f":"DICTIONARY!M3238","v":"Blood-Pressure(Bp)"},{"$f":"DICTIONARY!O3238","v":"रक्तचाप"},"रक्तचाप",{"$f":"DICTIONARY!P3240","v":"DISEASES ( बीमारियाँ )"},"रक्तचाप","रक्तचाप"]
[null,null,null,null,null,null,null,null,null,{"$f":"IF(K3215=\" \",\" \",ROWS($K$5:K3215))","v":3211},{"$f":"DICTIONARY!M3239","v":"Sunstroke"},{"$f":"DICTIONARY!O3239","v":"लू लगना"},"लू लगना",{"$f":"DICTIONARY!P3241","v":"DISEASES ( बीमारियाँ )"},"लू लगना","लू लगना"]
[null,null,null,null,null,null,null,null,null,{"$f":"IF(K3216=\" \",\" \",ROWS($K$5:K3216))","v":3212},{"$f":"DICTIONARY!M3240","v":"Tytanus"},{"$f":"DICTIONARY!O3240","v":"धनुंष्टकार"},"धनुंष्टकार",{"$f":"DICTIONARY!P3242","v":"DISEASES ( बीमारियाँ )"},"धनुंष्टकार","धनुंष्टकार"]
[null,null,null,null,null,null,null,null,null,{"$f":"IF(K3217=\" \",\" \",ROWS($K$5:K3217))","v":3213},{"$f":"DICTIONARY!M3241","v":"Worm"},{"$f":"DICTIONARY!O3241","v":"कृमि"},"कृमि",{"$f":"DICTIONARY!P3243","v":"DISEASES ( बीमारियाँ )"},"कृमि","कृमि"]
[null,null,null,null,null,null,null,null,null,{"$f":"IF(K3218=\" \",\" \",ROWS($K$5:K3218))","v":3214},{"$f":"DICTIONARY!M3242","v":"Constipation"},{"$f":"DICTIONARY!O3242","v":"कब्जियत,कोष्ठ्बध्द्ता"},"कब्जियत,कोष्ठ्बध्द्ता",{"$f":"DICTIONARY!P3244","v":"DISEASES ( बीमारियाँ )"},"कब्जियत,कोष्ठ्बध्द्ता","कब्जियत,कोष्ठ्बध्द्ता"]
[null,null,null,null,null,null,null,null,null,{"$f":"IF(K3219=\" \",\" \",ROWS($K$5:K3219))","v":3215},{"$f":"DICTIONARY!M3243","v":"Skin-Disease"},{"$f":"DICTIONARY!O3243","v":"चर्मरोग"},"चर्मरोग",{"$f":"DICTIONARY!P3245","v":"DISEASES ( बीमारियाँ )"},"चर्मरोग","चर्मरोग"]
[null,null,null,null,null,null,null,null,null,{"$f":"IF(K3220=\" \",\" \",ROWS($K$5:K3220))","v":3216},{"$f":"DICTIONARY!M3244","v":"Thrombosis"},{"$f":"DICTIONARY!O3244","v":"सन्यासरोग"},"सन्यासरोग",{"$f":"DICTIONARY!P3246","v":"DISEASES ( बीमारियाँ )"},"सन्यासरोग","सन्यासरोग"]
[null,null,null,null,null,null,null,null,null,{"$f":"IF(K3221=\" \",\" \",ROWS($K$5:K3221))","v":3217},{"$f":"DICTIONARY!M3245","v":"Anaemia"},{"$f":"DICTIONARY!O3245","v":"रक्ताल्पता,सुखारोग"},"रक्ताल्पता,सुखारोग",{"$f":"DICTIONARY!P3247","v":"DISEASES ( बीमारियाँ )"},"रक्ताल्पता,सुखारोग","रक्ताल्पता,सुखारोग"]
[null,null,null,null,null,null,null,null,null,{"$f":"IF(K3222=\" \",\" \",ROWS($K$5:K3222))","v":3218},{"$f":"DICTIONARY!M3246","v":"Epidemic"},{"$f":"DICTIONARY!O3246","v":"महामारी"},"महामारी",{"$f":"DICTIONARY!P3248","v":"DISEASES ( बीमारियाँ )"},"महामारी","महामारी"]
[null,null,null,null,null,null,null,null,null,{"$f":"IF(K3223=\" \",\" \",ROWS($K$5:K3223))","v":3219},{"$f":"DICTIONARY!M3247","v":"Acidity"},{"$f":"DICTIONARY!O3247","v":"अम्लरोग"},"अम्लरोग","DISEASES ( बीमारियाँ )","अम्लरोग","अम्लरोग"]
[null,null,null,null,null,null,null,null,null,{"$f":"IF(K3224=\" \",\" \",ROWS($K$5:K3224))","v":3220},{"$f":"DICTIONARY!M3248","v":"Ulcer"},{"$f":"DICTIONARY!O3248","v":"फोड़ा,व्रण"},"फोड़ा,व्रण","DISEASES ( बीमारियाँ )","फोड़ा,व्रण","फोड़ा,व्रण"]
[null,null,null,null,null,null,null,null,null,{"$f":"IF(K3225=\" \",\" \",ROWS($K$5:K3225))","v":3221},{"$f":"DICTIONARY!M3249","v":"Chinese"},{"$f":"DICTIONARY!O3249","v":"चीनी"},"चीनी",{"$f":"DICTIONARY!P3251","v":"MODERN FOREIGN LANGUAGES ( आधुनिक विदेशी भाषाए )"},"चीनी","चीनी"]
[null,null,null,null,null,null,null,null,null,{"$f":"IF(K3226=\" \",\" \",ROWS($K$5:K3226))","v":3222},{"$f":"DICTIONARY!M3250","v":"Japanese"},{"$f":"DICTIONARY!O3250","v":"जापानी"},"जापानी",{"$f":"DICTIONARY!P3252","v":"MODERN FOREIGN LANGUAGES ( आधुनिक विदेशी भाषाए )"},"जापानी","जापानी"]
[null,null,null,null,null,null,null,null,null,{"$f":"IF(K3227=\" \",\" \",ROWS($K$5:K3227))","v":3223},{"$f":"DICTIONARY!M3251","v":"Russian"},{"$f":"DICTIONARY!O3251","v":"रूसी"},"रूसी",{"$f":"DICTIONARY!P3253","v":"MODERN FOREIGN LANGUAGES ( आधुनिक विदेशी भाषाए )"},"रूसी","रूसी"]
[null,null,null,null,null,null,null,null,null,{"$f":"IF(K3228=\" \",\" \",ROWS($K$5:K3228))","v":3224},{"$f":"DICTIONARY!M3252","v":"English"},{"$f":"DICTIONARY!O3252","v":"अंग्रेजी"},"अंग्रेजी",{"$f":"DICTIONARY!P3254","v":"MODERN FOREIGN LANGUAGES ( आधुनिक विदेशी भाषाए )"},"अंग्रेजी","अंग्रेजी"]
[null,null,null,null,null,null,null,null,null,{"$f":"IF(K3229=\" \",\" \",ROWS($K$5:K3229))","v":3225},{"$f":"DICTIONARY!M3253","v":"German"},{"$f":"DICTIONARY!O3253","v":"जर्मन"},"जर्मन",{"$f":"DICTIONARY!P3255","v":"MODERN FOREIGN LANGUAGES ( आधुनिक विदेशी भाषाए )"},"जर्मन","जर्मन"]
[null,null,null,null,null,null,null,null,null,{"$f":"IF(K3230=\" \",\" \",ROWS($K$5:K3230))","v":3226},{"$f":"DICTIONARY!M3254","v":"French"},{"$f":"DICTIONARY!O3254","v":"फ्रेंच"},"फ्रेंच",{"$f":"DICTIONARY!P3256","v":"MODERN FOREIGN LANGUAGES ( आधुनिक विदेशी भाषाए )"},"फ्रेंच","फ्रेंच"]
[null,null,null,null,null,null,null,null,null,{"$f":"IF(K3231=\" \",\" \",ROWS($K$5:K3231))","v":3227},{"$f":"DICTIONARY!M3255","v":"Literature Or Art"},{"$f":"DICTIONARY!O3255","v":"साहित्य"},"साहित्य",{"$f":"DICTIONARY!P3257","v":"MODERN FOREIGN LANGUAGES ( आधुनिक विदेशी भाषाए )"},"साहित्य","साहित्य"]
[null,null,null,null,null,null,null,null,null,{"$f":"IF(K3232=\" \",\" \",ROWS($K$5:K3232))","v":3228},{"$f":"DICTIONARY!M3256","v":"Italian"},{"$f":"DICTIONARY!O3256","v":"इटालवी"},"इटालवी",{"$f":"DICTIONARY!P3258","v":"MODERN FOREIGN LANGUAGES ( आधुनिक विदेशी भाषाए )"},"इटालवी","इटालवी"]
[null,null,null,null,null,null,null,null,null,{"$f":"IF(K3233=\" \",\" \",ROWS($K$5:K3233))","v":3229},{"$f":"DICTIONARY!M3257","v":"Hebrew"},{"$f":"DICTIONARY!O3257","v":"यहूदी"},"यहूदी",{"$f":"DICTIONARY!P3259","v":"MODERN FOREIGN LANGUAGES ( आधुनिक विदेशी भाषाए )"},"यहूदी","यहूदी"]
[null,null,null,null,null,null,null,null,null,{"$f":"IF(K3234=\" \",\" \",ROWS($K$5:K3234))","v":3230},{"$f":"DICTIONARY!M3258","v":"Burmese"},{"$f":"DICTIONARY!O3258","v":"बर्मी"},"बर्मी",{"$f":"DICTIONARY!P3260","v":"MODERN FOREIGN LANGUAGES ( आधुनिक विदेशी भाषाए )"},"बर्मी","बर्मी"]
[null,null,null,null,null,null,null,null,null,{"$f":"IF(K3235=\" \",\" \",ROWS($K$5:K3235))","v":3231},{"$f":"DICTIONARY!M3259","v":"Music"},{"$f":"DICTIONARY!O3259","v":"संगीत"},"संगीत",{"$f":"DICTIONARY!P3261","v":"MODERN FOREIGN LANGUAGES ( आधुनिक विदेशी भाषाए )"},"संगीत","संगीत"]
[null,null,null,null,null,null,null,null,null,{"$f":"IF(K3236=\" \",\" \",ROWS($K$5:K3236))","v":3232},{"$f":"DICTIONARY!M3260","v":"Ethics"},{"$f":"DICTIONARY!O3260","v":"चरित्र या नीतिशास्त्र"},"चरित्र या नीतिशास्त्र",{"$f":"DICTIONARY!P3262","v":"MODERN FOREIGN LANGUAGES ( आधुनिक विदेशी भाषाए )"},"चरित्र या नीतिशास्त्र","चरित्र या नीतिशास्त्र"]
[null,null,null,null,null,null,null,null,null,{"$f":"IF(K3237=\" \",\" \",ROWS($K$5:K3237))","v":3233},{"$f":"DICTIONARY!M3261","v":" Theology"},{"$f":"DICTIONARY!O3261","v":"परमेश्वर अस्तित्व विज्ञान"},"परमेश्वर अस्तित्व विज्ञान",{"$f":"DICTIONARY!P3263","v":"MODERN FOREIGN LANGUAGES ( आधुनिक विदेशी भाषाए )"},"परमेश्वर अस्तित्व विज्ञान","परमेश्वर अस्तित्व विज्ञान"]
[null,null,null,null,null,null,null,null,null,{"$f":"IF(K3238=\" \",\" \",ROWS($K$5:K3238))","v":3234},{"$f":"DICTIONARY!M3262","v":"Religion"},{"$f":"DICTIONARY!O3262","v":"धर्मशास्त्र"},"धर्मशास्त्र",{"$f":"DICTIONARY!P3264","v":"MODERN FOREIGN LANGUAGES ( आधुनिक विदेशी भाषाए )"},"धर्मशास्त्र","धर्मशास्त्र"]
[null,null,null,null,null,null,null,null,null,{"$f":"IF(K3239=\" \",\" \",ROWS($K$5:K3239))","v":3235},{"$f":"DICTIONARY!M3263","v":"Sociology"},{"$f":"DICTIONARY!O3263","v":"समाज-शास्त्र"},"समाज-शास्त्र",{"$f":"DICTIONARY!P3265","v":"MODERN FOREIGN LANGUAGES ( आधुनिक विदेशी भाषाए )"},"समाज-शास्त्र","समाज-शास्त्र"]
[null,null,null,null,null,null,null,null,null,{"$f":"IF(K3240=\" \",\" \",ROWS($K$5:K3240))","v":3236},{"$f":"DICTIONARY!M3264","v":" History"},{"$f":"DICTIONARY!O3264","v":"इतिहास"},"इतिहास",{"$f":"DICTIONARY!P3266","v":"MODERN FOREIGN LANGUAGES ( आधुनिक विदेशी भाषाए )"},"इतिहास","इतिहास"]
[null,null,null,null,null,null,null,null,null,{"$f":"IF(K3241=\" \",\" \",ROWS($K$5:K3241))","v":3237},{"$f":"DICTIONARY!M3265","v":"Aesthetics"},{"$f":"DICTIONARY!O3265","v":"सौन्दर्य-शास्त्र"},"सौन्दर्य-शास्त्र",{"$f":"DICTIONARY!P3267","v":"MODERN FOREIGN LANGUAGES ( आधुनिक विदेशी भाषाए )"},"सौन्दर्य-शास्त्र","सौन्दर्य-शास्त्र"]
[null,null,null,null,null,null,null,null,null,{"$f":"IF(K3242=\" \",\" \",ROWS($K$5:K3242))","v":3238},{"$f":"DICTIONARY!M3266","v":"Philology"},{"$f":"DICTIONARY!O3266","v":"भाषा-विज्ञान"},"भाषा-विज्ञान",{"$f":"DICTIONARY!P3268","v":"MODERN FOREIGN LANGUAGES ( आधुनिक विदेशी भाषाए )"},"भाषा-विज्ञान","भाषा-विज्ञान"]
[null,null,null,null,null,null,null,null,null,{"$f":"IF(K3243=\" \",\" \",ROWS($K$5:K3243))","v":3239},{"$f":"DICTIONARY!M3267","v":"Grammer"},{"$f":"DICTIONARY!O3267","v":"व्याकरणशास्त्र"},"व्याकरणशास्त्र",{"$f":"DICTIONARY!P3269","v":"MODERN FOREIGN LANGUAGES ( आधुनिक विदेशी भाषाए )"},"व्याकरणशास्त्र","व्याकरणशास्त्र"]
[null,null,null,null,null,null,null,null,null,{"$f":"IF(K3244=\" \",\" \",ROWS($K$5:K3244))","v":3240},{"$f":"DICTIONARY!M3268","v":"Lexicography"},{"$f":"DICTIONARY!O3268","v":"कोष-निर्माण शास्त्र"},"कोष-निर्माण शास्त्र",{"$f":"DICTIONARY!P3270","v":"MODERN FOREIGN LANGUAGES ( आधुनिक विदेशी भाषाए )"},"कोष-निर्माण शास्त्र","कोष-निर्माण शास्त्र"]
[null,null,null,null,null,null,null,null,null,{"$f":"IF(K3245=\" \",\" \",ROWS($K$5:K3245))","v":3241},{"$f":"DICTIONARY!M3269","v":"Prosody"},{"$f":"DICTIONARY!O3269","v":"छंद-शास्त्र"},"छंद-शास्त्र",{"$f":"DICTIONARY!P3271","v":"INDIAN HISTORY AND CULTURE ( भारतीय इतिहास और कल्चर )"},"छंद-शास्त्र","छंद-शास्त्र"]
[null,null,null,null,null,null,null,null,null,{"$f":"IF(K3246=\" \",\" \",ROWS($K$5:K3246))","v":3242},{"$f":"DICTIONARY!M3270","v":"Rhetoric"},{"$f":"DICTIONARY!O3270","v":"अलंकारशास्त्र"},"अलंकारशास्त्र",{"$f":"DICTIONARY!P3272","v":"INDIAN HISTORY AND CULTURE ( भारतीय इतिहास और कल्चर )"},"अलंकारशास्त्र","अलंकारशास्त्र"]
[null,null,null,null,null,null,null,null,null,{"$f":"IF(K3247=\" \",\" \",ROWS($K$5:K3247))","v":3243},{"$f":"DICTIONARY!M3271","v":"Economics"},{"$f":"DICTIONARY!O3271","v":"अर्थशास्त्र"},"अर्थशास्त्र",{"$f":"DICTIONARY!P3273","v":"INDIAN HISTORY AND CULTURE ( भारतीय इतिहास और कल्चर )"},"अर्थशास्त्र","अर्थशास्त्र"]
[null,null,null,null,null,null,null,null,null,{"$f":"IF(K3248=\" \",\" \",ROWS($K$5:K3248))","v":3244},{"$f":"DICTIONARY!M3272","v":" Logic"},{"$f":"DICTIONARY!O3272","v":"तर्कशास्त्र"},"तर्कशास्त्र",{"$f":"DICTIONARY!P3274","v":"INDIAN HISTORY AND CULTURE ( भारतीय इतिहास और कल्चर )"},"तर्कशास्त्र","तर्कशास्त्र"]
[null,null,null,null,null,null,null,null,null,{"$f":"IF(K3249=\" \",\" \",ROWS($K$5:K3249))","v":3245},{"$f":"DICTIONARY!M3273","v":"Law"},{"$f":"DICTIONARY!O3273","v":"कानून"},"कानून",{"$f":"DICTIONARY!P3275","v":"INDIAN HISTORY AND CULTURE ( भारतीय इतिहास और कल्चर )"},"कानून","कानून"]
[null,null,null,null,null,null,null,null,null,{"$f":"IF(K3250=\" \",\" \",ROWS($K$5:K3250))","v":3246},{"$f":"DICTIONARY!M3274","v":"Indology"},{"$f":"DICTIONARY!O3274","v":"भारतीय साहित्य और शास्त्र"},"भारतीय साहित्य और शास्त्र",{"$f":"DICTIONARY!P3276","v":"INDIAN HISTORY AND CULTURE ( भारतीय इतिहास और कल्चर )"},"भारतीय साहित्य और शास्त्र","भारतीय साहित्य और शास्त्र"]
[null,null,null,null,null,null,null,null,null,{"$f":"IF(K3251=\" \",\" \",ROWS($K$5:K3251))","v":3247},{"$f":"DICTIONARY!M3275","v":" Geography"},{"$f":"DICTIONARY!O3275","v":"भूगोल"},"भूगोल",{"$f":"DICTIONARY!P3277","v":"INDIAN HISTORY AND CULTURE ( भारतीय इतिहास और कल्चर )"},"भूगोल","भूगोल"]
[null,null,null,null,null,null,null,null,null,{"$f":"IF(K3252=\" \",\" \",ROWS($K$5:K3252))","v":3248},{"$f":"DICTIONARY!M3276","v":"Politics"},{"$f":"DICTIONARY!O3276","v":"राजनीतिशास्त्र"},"राजनीतिशास्त्र",{"$f":"DICTIONARY!P3278","v":"INDIAN HISTORY AND CULTURE ( भारतीय इतिहास और कल्चर )"},"राजनीतिशास्त्र","राजनीतिशास्त्र"]
[null,null,null,null,null,null,null,null,null,{"$f":"IF(K3253=\" \",\" \",ROWS($K$5:K3253))","v":3249},{"$f":"DICTIONARY!M3277","v":"Drawing And Painting"},{"$f":"DICTIONARY!O3277","v":"चित्रकारी"},"चित्रकारी",{"$f":"DICTIONARY!P3279","v":"INDIAN HISTORY AND CULTURE ( भारतीय इतिहास और कल्चर )"},"चित्रकारी","चित्रकारी"]
[null,null,null,null,null,null,null,null,null,{"$f":"IF(K3254=\" \",\" \",ROWS($K$5:K3254))","v":3250},{"$f":"DICTIONARY!M3278","v":"Sculpture"},{"$f":"DICTIONARY!O3278","v":"मूर्तिकला"},"मूर्तिकला",{"$f":"DICTIONARY!P3280","v":"INDIAN HISTORY AND CULTURE ( भारतीय इतिहास और कल्चर )"},"मूर्तिकला","मूर्तिकला"]
[null,null,null,null,null,null,null,null,null,{"$f":"IF(K3255=\" \",\" \",ROWS($K$5:K3255))","v":3251},{"$f":"DICTIONARY!M3279","v":"Psychology"},{"$f":"DICTIONARY!O3279","v":"मनोविज्ञान"},"मनोविज्ञान",{"$f":"DICTIONARY!P3281","v":"INDIAN HISTORY AND CULTURE ( भारतीय इतिहास और कल्चर )"},"मनोविज्ञान","मनोविज्ञान"]
[null,null,null,null,null,null,null,null,null,{"$f":"IF(K3256=\" \",\" \",ROWS($K$5:K3256))","v":3252},{"$f":"DICTIONARY!M3280","v":" Philosophy"},{"$f":"DICTIONARY!O3280","v":"दर्शनशास्त्र"},"दर्शनशास्त्र","INDIAN HISTORY AND CULTURE ( भारतीय इतिहास और कल्चर )","दर्शनशास्त्र","दर्शनशास्त्र"]
[null,null,null,null,null,null,null,null,null,{"$f":"IF(K3257=\" \",\" \",ROWS($K$5:K3257))","v":3253},{"$f":"DICTIONARY!M3281","v":"Pedagogy"},{"$f":"DICTIONARY!O3281","v":"शिक्षणशास्त्र"},"शिक्षणशास्त्र","INDIAN HISTORY AND CULTURE ( भारतीय इतिहास और कल्चर )","शिक्षणशास्त्र","शिक्षणशास्त्र"]
[null,null,null,null,null,null,null,null,null,{"$f":"IF(K3258=\" \",\" \",ROWS($K$5:K3258))","v":3254},{"$f":"DICTIONARY!M3282","v":"Heavens "},{"$f":"DICTIONARY!O3282","v":"नभमंडल "},"नभमंडल ",{"$f":"DICTIONARY!P3284","v":"SOME GEOGRAPHICAL TERMS ( कुछ भौगोलिक शब्द )"},"नभमंडल ","नभमंडल "]
[null,null,null,null,null,null,null,null,null,{"$f":"IF(K3259=\" \",\" \",ROWS($K$5:K3259))","v":3255},{"$f":"DICTIONARY!M3283","v":"Zenith"},{"$f":"DICTIONARY!O3283","v":"आकाश का उत्तम स्थान"},"आकाश का उत्तम स्थान",{"$f":"DICTIONARY!P3285","v":"SOME GEOGRAPHICAL TERMS ( कुछ भौगोलिक शब्द )"},"आकाश का उत्तम स्थान","आकाश का उत्तम स्थान"]
[null,null,null,null,null,null,null,null,null,{"$f":"IF(K3260=\" \",\" \",ROWS($K$5:K3260))","v":3256},{"$f":"DICTIONARY!M3284","v":"Hill"},{"$f":"DICTIONARY!O3284","v":"पहाड़ी"},"पहाड़ी",{"$f":"DICTIONARY!P3286","v":"SOME GEOGRAPHICAL TERMS ( कुछ भौगोलिक शब्द )"},"पहाड़ी","पहाड़ी"]
[null,null,null,null,null,null,null,null,null,{"$f":"IF(K3261=\" \",\" \",ROWS($K$5:K3261))","v":3257},{"$f":"DICTIONARY!M3285","v":"Chain"},{"$f":"DICTIONARY!O3285","v":"पर्वत श्रेणी"},"पर्वत श्रेणी",{"$f":"DICTIONARY!P3287","v":"SOME GEOGRAPHICAL TERMS ( कुछ भौगोलिक शब्द )"},"पर्वत श्रेणी","पर्वत श्रेणी"]
[null,null,null,null,null,null,null,null,null,{"$f":"IF(K3262=\" \",\" \",ROWS($K$5:K3262))","v":3258},{"$f":"DICTIONARY!M3286","v":"Peak"},{"$f":"DICTIONARY!O3286","v":"पर्वत शिखर"},"पर्वत शिखर",{"$f":"DICTIONARY!P3288","v":"SOME GEOGRAPHICAL TERMS ( कुछ भौगोलिक शब्द )"},"पर्वत शिखर","पर्वत शिखर"]
[null,null,null,null,null,null,null,null,null,{"$f":"IF(K3263=\" \",\" \",ROWS($K$5:K3263))","v":3259},{"$f":"DICTIONARY!M3287","v":"Map"},{"$f":"DICTIONARY!O3287","v":"भू-चित्र"},"भू-चित्र",{"$f":"DICTIONARY!P3289","v":"SOME GEOGRAPHICAL TERMS ( कुछ भौगोलिक शब्द )"},"भू-चित्र","भू-चित्र"]
[null,null,null,null,null,null,null,null,null,{"$f":"IF(K3264=\" \",\" \",ROWS($K$5:K3264))","v":3260},{"$f":"DICTIONARY!M3288","v":"Globe"},{"$f":"DICTIONARY!O3288","v":"भूमंडल"},"भूमंडल",{"$f":"DICTIONARY!P3290","v":"SOME GEOGRAPHICAL TERMS ( कुछ भौगोलिक शब्द )"},"भूमंडल","भूमंडल"]
[null,null,null,null,null,null,null,null,null,{"$f":"IF(K3265=\" \",\" \",ROWS($K$5:K3265))","v":3261},{"$f":"DICTIONARY!M3289","v":"Horizon "},{"$f":"DICTIONARY!O3289","v":"क्षितिज"},"क्षितिज",{"$f":"DICTIONARY!P3291","v":"SOME GEOGRAPHICAL TERMS ( कुछ भौगोलिक शब्द )"},"क्षितिज","क्षितिज"]
[null,null,null,null,null,null,null,null,null,{"$f":"IF(K3266=\" \",\" \",ROWS($K$5:K3266))","v":3262},{"$f":"DICTIONARY!M3290","v":"Continent"},{"$f":"DICTIONARY!O3290","v":"महाद्वीप"},"महाद्वीप",{"$f":"DICTIONARY!P3292","v":"SOME GEOGRAPHICAL TERMS ( कुछ भौगोलिक शब्द )"},"महाद्वीप","महाद्वीप"]
[null,null,null,null,null,null,null,null,null,{"$f":"IF(K3267=\" \",\" \",ROWS($K$5:K3267))","v":3263},{"$f":"DICTIONARY!M3291","v":"Country"},{"$f":"DICTIONARY!O3291","v":"देश"},"देश",{"$f":"DICTIONARY!P3293","v":"SOME GEOGRAPHICAL TERMS ( कुछ भौगोलिक शब्द )"},"देश","देश"]
[null,null,null,null,null,null,null,null,null,{"$f":"IF(K3268=\" \",\" \",ROWS($K$5:K3268))","v":3264},{"$f":"DICTIONARY!M3292","v":"Mountain"},{"$f":"DICTIONARY!O3292","v":"पहाड़"},"पहाड़",{"$f":"DICTIONARY!P3294","v":"SOME GEOGRAPHICAL TERMS ( कुछ भौगोलिक शब्द )"},"पहाड़","पहाड़"]
[null,null,null,null,null,null,null,null,null,{"$f":"IF(K3269=\" \",\" \",ROWS($K$5:K3269))","v":3265},{"$f":"DICTIONARY!M3293","v":"Rock Or Cliff"},{"$f":"DICTIONARY!O3293","v":"चट्टान"},"चट्टान",{"$f":"DICTIONARY!P3295","v":"SOME GEOGRAPHICAL TERMS ( कुछ भौगोलिक शब्द )"},{"$f":"M3269","v":"चट्टान"},{"$f":"L3269","v":"चट्टान"}]
[null,null,null,null,null,null,null,null,null,{"$f":"IF(K3270=\" \",\" \",ROWS($K$5:K3270))","v":3266},{"$f":"DICTIONARY!M3294","v":"Ravine"},{"$f":"DICTIONARY!O3294","v":"कन्दरा"},{"$f":"L3270","v":"कन्दरा"},{"$f":"DICTIONARY!P3296","v":"SOME GEOGRAPHICAL TERMS ( कुछ भौगोलिक शब्द )"},"कन्दरा","कन्दरा"]
[null,null,null,null,null,null,null,null,null,{"$f":"IF(K3271=\" \",\" \",ROWS($K$5:K3271))","v":3267},{"$f":"DICTIONARY!M3295","v":"Cave"},{"$f":"DICTIONARY!O3295","v":"गुफा"},"गुफा",{"$f":"DICTIONARY!P3297","v":"SOME GEOGRAPHICAL TERMS ( कुछ भौगोलिक शब्द )"},"गुफा","गुफा"]
[null,null,null,null,null,null,null,null,null,{"$f":"IF(K3272=\" \",\" \",ROWS($K$5:K3272))","v":3268},{"$f":"DICTIONARY!M3296","v":"Pass"},{"$f":"DICTIONARY!O3296","v":"दर्रा"},"दर्रा",{"$f":"DICTIONARY!P3298","v":"SOME GEOGRAPHICAL TERMS ( कुछ भौगोलिक शब्द )"},"दर्रा","दर्रा"]
[null,null,null,null,null,null,null,null,null,{"$f":"IF(K3273=\" \",\" \",ROWS($K$5:K3273))","v":3269},{"$f":"DICTIONARY!M3297","v":"Spring"},{"$f":"DICTIONARY!O3297","v":"स्त्रोता( जल का )"},"स्त्रोता( जल का )",{"$f":"DICTIONARY!P3299","v":"SOME GEOGRAPHICAL TERMS ( कुछ भौगोलिक शब्द )"},"स्त्रोता( जल का )","स्त्रोता( जल का )"]
[null,null,null,null,null,null,null,null,null,{"$f":"IF(K3274=\" \",\" \",ROWS($K$5:K3274))","v":3270},{"$f":"DICTIONARY!M3298","v":"Plateau"},{"$f":"DICTIONARY!O3298","v":"पठार"},"पठार",{"$f":"DICTIONARY!P3300","v":"SOME GEOGRAPHICAL TERMS ( कुछ भौगोलिक शब्द )"},"पठार","पठार"]
[null,null,null,null,null,null,null,null,null,{"$f":"IF(K3275=\" \",\" \",ROWS($K$5:K3275))","v":3271},{"$f":"DICTIONARY!M3299","v":" Plain"},{"$f":"DICTIONARY!O3299","v":"मैदान"},"मैदान",{"$f":"DICTIONARY!P3301","v":"SOME GEOGRAPHICAL TERMS ( कुछ भौगोलिक शब्द )"},"मैदान","मैदान"]
[null,null,null,null,null,null,null,null,null,{"$f":"IF(K3276=\" \",\" \",ROWS($K$5:K3276))","v":3272},{"$f":"DICTIONARY!M3300","v":"Table Land"},{"$f":"DICTIONARY!O3300","v":"चौरस भूमि"},"चौरस भूमि",{"$f":"DICTIONARY!P3302","v":"SOME GEOGRAPHICAL TERMS ( कुछ भौगोलिक शब्द )"},"चौरस भूमि","चौरस भूमि"]
[null,null,null,null,null,null,null,null,null,{"$f":"IF(K3277=\" \",\" \",ROWS($K$5:K3277))","v":3273},{"$f":"DICTIONARY!M3301","v":"Volcano"},{"$f":"DICTIONARY!O3301","v":"ज्वालामुखी पर्वत"},"ज्वालामुखी पर्वत",{"$f":"DICTIONARY!P3303","v":"SOME GEOGRAPHICAL TERMS ( कुछ भौगोलिक शब्द )"},"ज्वालामुखी पर्वत","ज्वालामुखी पर्वत"]
[null,null,null,null,null,null,null,null,null,{"$f":"IF(K3278=\" \",\" \",ROWS($K$5:K3278))","v":3274},{"$f":"DICTIONARY!M3302","v":"Crator"},{"$f":"DICTIONARY!O3302","v":"ज्वालामुखी पर्वत का मुख"},"ज्वालामुखी पर्वत का मुख",{"$f":"DICTIONARY!P3304","v":"SOME GEOGRAPHICAL TERMS ( कुछ भौगोलिक शब्द )"},"ज्वालामुखी पर्वत का मुख","ज्वालामुखी पर्वत का मुख"]
[null,null,null,null,null,null,null,null,null,{"$f":"IF(K3279=\" \",\" \",ROWS($K$5:K3279))","v":3275},{"$f":"DICTIONARY!M3303","v":"Water-Fall"},{"$f":"DICTIONARY!O3303","v":"जलप्रपात"},"जलप्रपात",{"$f":"DICTIONARY!P3305","v":"SOME GEOGRAPHICAL TERMS ( कुछ भौगोलिक शब्द )"},"जलप्रपात","जलप्रपात"]
[null,null,null,null,null,null,null,null,null,{"$f":"IF(K3280=\" \",\" \",ROWS($K$5:K3280))","v":3276},{"$f":"DICTIONARY!M3304","v":"Lake"},{"$f":"DICTIONARY!O3304","v":"झील"},"झील",{"$f":"DICTIONARY!P3306","v":"SOME GEOGRAPHICAL TERMS ( कुछ भौगोलिक शब्द )"},"झील","झील"]
[null,null,null,null,null,null,null,null,null,{"$f":"IF(K3281=\" \",\" \",ROWS($K$5:K3281))","v":3277},{"$f":"DICTIONARY!M3305","v":"Earth,S Crust"},{"$f":"DICTIONARY!O3305","v":"भू-पटल"},"भू-पटल",{"$f":"DICTIONARY!P3307","v":"SOME GEOGRAPHICAL TERMS ( कुछ भौगोलिक शब्द )"},"भू-पटल","भू-पटल"]
[null,null,null,null,null,null,null,null,null,{"$f":"IF(K3282=\" \",\" \",ROWS($K$5:K3282))","v":3278},{"$f":"DICTIONARY!M3306","v":"Earth Quake"},{"$f":"DICTIONARY!O3306","v":"भूकंप"},"भूकंप",{"$f":"DICTIONARY!P3308","v":"SOME GEOGRAPHICAL TERMS ( कुछ भौगोलिक शब्द )"},"भूकंप","भूकंप"]
[null,null,null,null,null,null,null,null,null,{"$f":"IF(K3283=\" \",\" \",ROWS($K$5:K3283))","v":3279},{"$f":"DICTIONARY!M3307","v":"River"},{"$f":"DICTIONARY!O3307","v":"नदी"},"नदी",{"$f":"DICTIONARY!P3309","v":"SOME GEOGRAPHICAL TERMS ( कुछ भौगोलिक शब्द )"},"नदी","नदी"]
[null,null,null,null,null,null,null,null,null,{"$f":"IF(K3284=\" \",\" \",ROWS($K$5:K3284))","v":3280},{"$f":"DICTIONARY!M3308","v":"Source"},{"$f":"DICTIONARY!O3308","v":"उदगम"},"उदगम",{"$f":"DICTIONARY!P3310","v":"SOME GEOGRAPHICAL TERMS ( कुछ भौगोलिक शब्द )"},"उदगम","उदगम"]
[null,null,null,null,null,null,null,null,null,{"$f":"IF(K3285=\" \",\" \",ROWS($K$5:K3285))","v":3281},{"$f":"DICTIONARY!M3309","v":"Bed"},{"$f":"DICTIONARY!O3309","v":"नदी-तल"},"नदी-तल",{"$f":"DICTIONARY!P3311","v":"SOME GEOGRAPHICAL TERMS ( कुछ भौगोलिक शब्द )"},"नदी-तल","नदी-तल"]
[null,null,null,null,null,null,null,null,null,{"$f":"IF(K3286=\" \",\" \",ROWS($K$5:K3286))","v":3282},{"$f":"DICTIONARY!M3310","v":"Bay Or Gulf"},{"$f":"DICTIONARY!O3310","v":"खाड़ी"},"खाड़ी",{"$f":"DICTIONARY!P3312","v":"SOME GEOGRAPHICAL TERMS ( कुछ भौगोलिक शब्द )"},"खाड़ी","खाड़ी"]
[null,null,null,null,null,null,null,null,null,{"$f":"IF(K3287=\" \",\" \",ROWS($K$5:K3287))","v":3283},{"$f":"DICTIONARY!M3311","v":"Ocean"},{"$f":"DICTIONARY!O3311","v":"महासागर"},"महासागर",{"$f":"DICTIONARY!P3313","v":"SOME GEOGRAPHICAL TERMS ( कुछ भौगोलिक शब्द )"},"महासागर","महासागर"]
[null,null,null,null,null,null,null,null,null,{"$f":"IF(K3288=\" \",\" \",ROWS($K$5:K3288))","v":3284},{"$f":"DICTIONARY!M3312","v":"  Wave"},{"$f":"DICTIONARY!O3312","v":"लहर"},"लहर",{"$f":"DICTIONARY!P3314","v":"SOME GEOGRAPHICAL TERMS ( कुछ भौगोलिक शब्द )"},"लहर","लहर"]
[null,null,null,null,null,null,null,null,null,{"$f":"IF(K3289=\" \",\" \",ROWS($K$5:K3289))","v":3285},{"$f":"DICTIONARY!M3313","v":"Island"},{"$f":"DICTIONARY!O3313","v":"द्वीप"},"द्वीप",{"$f":"DICTIONARY!P3315","v":"SOME GEOGRAPHICAL TERMS ( कुछ भौगोलिक शब्द )"},"द्वीप","द्वीप"]
[null,null,null,null,null,null,null,null,null,{"$f":"IF(K3290=\" \",\" \",ROWS($K$5:K3290))","v":3286},{"$f":"DICTIONARY!M3314","v":"Archipelago"},{"$f":"DICTIONARY!O3314","v":"द्वीपसमूह"},"द्वीपसमूह",{"$f":"DICTIONARY!P3316","v":"SOME GEOGRAPHICAL TERMS ( कुछ भौगोलिक शब्द )"},"द्वीपसमूह","द्वीपसमूह"]
[null,null,null,null,null,null,null,null,null,{"$f":"IF(K3291=\" \",\" \",ROWS($K$5:K3291))","v":3287},{"$f":"DICTIONARY!M3315","v":"Bank"},{"$f":"DICTIONARY!O3315","v":"नदी-तट"},"नदी-तट",{"$f":"DICTIONARY!P3317","v":"SOME GEOGRAPHICAL TERMS ( कुछ भौगोलिक शब्द )"},"नदी-तट","नदी-तट"]
[null,null,null,null,null,null,null,null,null,{"$f":"IF(K3292=\" \",\" \",ROWS($K$5:K3292))","v":3288},{"$f":"DICTIONARY!M3316","v":"Basin"},{"$f":"DICTIONARY!O3316","v":"जलाशय"},"जलाशय",{"$f":"DICTIONARY!P3318","v":"SOME GEOGRAPHICAL TERMS ( कुछ भौगोलिक शब्द )"},"जलाशय","जलाशय"]
[null,null,null,null,null,null,null,null,null,{"$f":"IF(K3293=\" \",\" \",ROWS($K$5:K3293))","v":3289},{"$f":"DICTIONARY!M3317","v":"Valley"},{"$f":"DICTIONARY!O3317","v":"घाटी"},"घाटी",{"$f":"DICTIONARY!P3319","v":"SOME GEOGRAPHICAL TERMS ( कुछ भौगोलिक शब्द )"},"घाटी","घाटी"]
[null,null,null,null,null,null,null,null,null,{"$f":"IF(K3294=\" \",\" \",ROWS($K$5:K3294))","v":3290},{"$f":"DICTIONARY!M3318","v":"Tributary"},{"$f":"DICTIONARY!O3318","v":"सहायक नदी"},"सहायक नदी",{"$f":"DICTIONARY!P3320","v":"SOME GEOGRAPHICAL TERMS ( कुछ भौगोलिक शब्द )"},"सहायक नदी","सहायक नदी"]
[null,null,null,null,null,null,null,null,null,{"$f":"IF(K3295=\" \",\" \",ROWS($K$5:K3295))","v":3291},{"$f":"DICTIONARY!M3319","v":"Mouth"},{"$f":"DICTIONARY!O3319","v":"मुहाना"},"मुहाना",{"$f":"DICTIONARY!P3321","v":"SOME GEOGRAPHICAL TERMS ( कुछ भौगोलिक शब्द )"},"मुहाना","मुहाना"]
[null,null,null,null,null,null,null,null,null,{"$f":"IF(K3296=\" \",\" \",ROWS($K$5:K3296))","v":3292},{"$f":"DICTIONARY!M3320","v":"Surface"},{"$f":"DICTIONARY!O3320","v":"नदी का सतह"},"नदी का सतह","SOME GEOGRAPHICAL TERMS ( कुछ भौगोलिक शब्द )","नदी का सतह","नदी का सतह"]
[null,null,null,null,null,null,null,null,null,{"$f":"IF(K3297=\" \",\" \",ROWS($K$5:K3297))","v":3293},{"$f":"DICTIONARY!M3321","v":"Sea"},{"$f":"DICTIONARY!O3321","v":"समुद्र"},"समुद्र","SOME GEOGRAPHICAL TERMS ( कुछ भौगोलिक शब्द )","समुद्र","समुद्र"]
[null,null,null,null,null,null,null,null,null,{"$f":"IF(K3298=\" \",\" \",ROWS($K$5:K3298))","v":3294},{"$f":"DICTIONARY!M3322","v":"Book-Craft"},{"$f":"DICTIONARY!O3322","v":"जिल्दसाजी"},"जिल्दसाजी",{"$f":"DICTIONARY!P3324","v":"SPINNIG AND WEAVING ( घूर्णन और बुनना )"},"जिल्दसाजी","जिल्दसाजी"]
[null,null,null,null,null,null,null,null,null,{"$f":"IF(K3299=\" \",\" \",ROWS($K$5:K3299))","v":3295},{"$f":"DICTIONARY!M3323","v":"Commerce"},{"$f":"DICTIONARY!O3323","v":"वाणिज्य-शास्त्र"},"वाणिज्य-शास्त्र",{"$f":"DICTIONARY!P3325","v":"SPINNIG AND WEAVING ( घूर्णन और बुनना )"},"वाणिज्य-शास्त्र","वाणिज्य-शास्त्र"]
[null,null,null,null,null,null,null,null,null,{"$f":"IF(K3300=\" \",\" \",ROWS($K$5:K3300))","v":3296},{"$f":"DICTIONARY!M3324","v":"Craft"},{"$f":"DICTIONARY!O3324","v":"शिल्प-विज्ञान"},"शिल्प-विज्ञान",{"$f":"DICTIONARY!P3326","v":"SPINNIG AND WEAVING ( घूर्णन और बुनना )"},"शिल्प-विज्ञान","शिल्प-विज्ञान"]
[null,null,null,null,null,null,null,null,null,{"$f":"IF(K3301=\" \",\" \",ROWS($K$5:K3301))","v":3297},{"$f":"DICTIONARY!M3325","v":"Wood-Craft"},{"$f":"DICTIONARY!O3325","v":"काष्ठकला"},"काष्ठकला",{"$f":"DICTIONARY!P3327","v":"SPINNIG AND WEAVING ( घूर्णन और बुनना )"},"काष्ठकला","काष्ठकला"]
[null,null,null,null,null,null,null,null,null,{"$f":"IF(K3302=\" \",\" \",ROWS($K$5:K3302))","v":3298},{"$f":"DICTIONARY!M3326","v":"Aeronautics"},{"$f":"DICTIONARY!O3326","v":"वायुशास्त्र"},"वायुशास्त्र",{"$f":"DICTIONARY!P3328","v":"SPINNIG AND WEAVING ( घूर्णन और बुनना )"},"वायुशास्त्र","वायुशास्त्र"]
[null,null,null,null,null,null,null,null,null,{"$f":"IF(K3303=\" \",\" \",ROWS($K$5:K3303))","v":3299},{"$f":"DICTIONARY!M3327","v":"Aerodynamics"},{"$f":"DICTIONARY!O3327","v":"वायु-गति"},"वायु-गति","SPINNIG AND WEAVING ( घूर्णन और बुनना )","वायु-गति","वायु-गति"]
[null,null,null,null,null,null,null,null,null,{"$f":"IF(K3304=\" \",\" \",ROWS($K$5:K3304))","v":3300},{"$f":"DICTIONARY!M3328","v":" Science"},{"$f":"DICTIONARY!O3328","v":"विज्ञान"},"विज्ञान","SPINNIG AND WEAVING ( घूर्णन और बुनना )","विज्ञान","विज्ञान"]
[null,null,null,null,null,null,null,null,null,{"$f":"IF(K3305=\" \",\" \",ROWS($K$5:K3305))","v":3301},{"$f":"DICTIONARY!M3329","v":" Physics"},{"$f":"DICTIONARY!O3329","v":"भौतिकशास्त्र"},"भौतिकशास्त्र","SPINNIG AND WEAVING ( घूर्णन और बुनना )","भौतिकशास्त्र","भौतिकशास्त्र"]
[null,null,null,null,null,null,null,null,null,{"$f":"IF(K3306=\" \",\" \",ROWS($K$5:K3306))","v":3302},{"$f":"DICTIONARY!M3330","v":"Board Of Revenue"},{"$f":"DICTIONARY!O3330","v":"बोर्ड ऑफ़ रिवेन्यू"},"बोर्ड ऑफ़ रिवेन्यू",{"$f":"DICTIONARY!P3332","v":"OFFICERS OF THE REVENUE COURT( माल अदालत के अधिकारी )"},"बोर्ड ऑफ़ रिवेन्यू","बोर्ड ऑफ़ रिवेन्यू"]
[null,null,null,null,null,null,null,null,null,{"$f":"IF(K3307=\" \",\" \",ROWS($K$5:K3307))","v":3303},{"$f":"DICTIONARY!M3331","v":"Commissioner"},{"$f":"DICTIONARY!O3331","v":"आयुक्त"},"आयुक्त",{"$f":"DICTIONARY!P3333","v":"OFFICERS OF THE REVENUE COURT( माल अदालत के अधिकारी )"},"आयुक्त","आयुक्त"]
[null,null,null,null,null,null,null,null,null,{"$f":"IF(K3308=\" \",\" \",ROWS($K$5:K3308))","v":3304},{"$f":"DICTIONARY!M3332","v":"Collecter"},{"$f":"DICTIONARY!O3332","v":"जिलाधीश"},"जिलाधीश",{"$f":"DICTIONARY!P3334","v":"OFFICERS OF THE REVENUE COURT( माल अदालत के अधिकारी )"},"जिलाधीश","जिलाधीश"]
[null,null,null,null,null,null,null,null,null,{"$f":"IF(K3309=\" \",\" \",ROWS($K$5:K3309))","v":3305},{"$f":"DICTIONARY!M3333","v":"Additional Collector"},{"$f":"DICTIONARY!O3333","v":"अतिरिक्त जिलाधीश"},"अतिरिक्त जिलाधीश",{"$f":"DICTIONARY!P3335","v":"OFFICERS OF THE REVENUE COURT( माल अदालत के अधिकारी )"},"अतिरिक्त जिलाधीश","अतिरिक्त जिलाधीश"]
[null,null,null,null,null,null,null,null,null,{"$f":"IF(K3310=\" \",\" \",ROWS($K$5:K3310))","v":3306},{"$f":"DICTIONARY!M3334","v":"Assistant Collector"},{"$f":"DICTIONARY!O3334","v":"सहायक जिलाधीश"},"सहायक जिलाधीश",{"$f":"DICTIONARY!P3336","v":"OFFICERS OF THE REVENUE COURT( माल अदालत के अधिकारी )"},"सहायक जिलाधीश","सहायक जिलाधीश"]
[null,null,null,null,null,null,null,null,null,{"$f":"IF(K3311=\" \",\" \",ROWS($K$5:K3311))","v":3307},{"$f":"DICTIONARY!M3335","v":"Deputy Collector"},{"$f":"DICTIONARY!O3335","v":"उप जिलाधीश"},"उप जिलाधीश",{"$f":"DICTIONARY!P3337","v":"OFFICERS OF THE REVENUE COURT( माल अदालत के अधिकारी )"},"उप जिलाधीश","उप जिलाधीश"]
[null,null,null,null,null,null,null,null,null,{"$f":"IF(K3312=\" \",\" \",ROWS($K$5:K3312))","v":3308},{"$f":"DICTIONARY!M3336","v":"Sub Divisional"},{"$f":"DICTIONARY!O3336","v":"परगनाधीश"},"परगनाधीश",{"$f":"DICTIONARY!P3338","v":"OFFICERS OF THE REVENUE COURT( माल अदालत के अधिकारी )"},"परगनाधीश","परगनाधीश"]
[null,null,null,null,null,null,null,null,null,{"$f":"IF(K3313=\" \",\" \",ROWS($K$5:K3313))","v":3309},{"$f":"DICTIONARY!M3337","v":"Tehsildar"},{"$f":"DICTIONARY!O3337","v":"तहसीलदार"},"तहसीलदार","OFFICERS OF THE REVENUE COURT( माल अदालत के अधिकारी )","तहसीलदार","तहसीलदार"]
[null,null,null,null,null,null,null,null,null,{"$f":"IF(K3314=\" \",\" \",ROWS($K$5:K3314))","v":3310},{"$f":"DICTIONARY!M3338","v":"Naib Tehsildar"},{"$f":"DICTIONARY!O3338","v":"नायब तहसीलदार"},"नायब तहसीलदार","OFFICERS OF THE REVENUE COURT( माल अदालत के अधिकारी )","नायब तहसीलदार","नायब तहसीलदार"]
[null,null,null,null,null,null,null,null,null,{"$f":"IF(K3315=\" \",\" \",ROWS($K$5:K3315))","v":3311},{"$f":"DICTIONARY!M3339","v":"Coin"},{"$f":"DICTIONARY!O3339","v":"मुद्रा"},"मुद्रा",{"$f":"DICTIONARY!P3341","v":"COIN,WEIGHT AND MEASUREMENT ( सिक्का,वजन और माप )"},"मुद्रा","मुद्रा"]
[null,null,null,null,null,null,null,null,null,{"$f":"IF(K3316=\" \",\" \",ROWS($K$5:K3316))","v":3312},{"$f":"DICTIONARY!M3340","v":"Rouble"},{"$f":"DICTIONARY!O3340","v":"रूसी मुद्रा"},"रूसी मुद्रा",{"$f":"DICTIONARY!P3342","v":"COIN,WEIGHT AND MEASUREMENT ( सिक्का,वजन और माप )"},"रूसी मुद्रा","रूसी मुद्रा"]
[null,null,null,null,null,null,null,null,null,{"$f":"IF(K3317=\" \",\" \",ROWS($K$5:K3317))","v":3313},{"$f":"DICTIONARY!M3341","v":"Paisa"},{"$f":"DICTIONARY!O3341","v":"पैसा"},"पैसा",{"$f":"DICTIONARY!P3343","v":"COIN,WEIGHT AND MEASUREMENT ( सिक्का,वजन और माप )"},"पैसा","पैसा"]
[null,null,null,null,null,null,null,null,null,{"$f":"IF(K3318=\" \",\" \",ROWS($K$5:K3318))","v":3314},{"$f":"DICTIONARY!M3342","v":"Rupee "},{"$f":"DICTIONARY!O3342","v":"रूपया"},"रूपया",{"$f":"DICTIONARY!P3344","v":"COIN,WEIGHT AND MEASUREMENT ( सिक्का,वजन और माप )"},"रूपया","रूपया"]
[null,null,null,null,null,null,null,null,null,{"$f":"IF(K3319=\" \",\" \",ROWS($K$5:K3319))","v":3315},{"$f":"DICTIONARY!M3343","v":"Mark"},{"$f":"DICTIONARY!O3343","v":"जर्मन मुद्रा"},"जर्मन मुद्रा",{"$f":"DICTIONARY!P3345","v":"COIN,WEIGHT AND MEASUREMENT ( सिक्का,वजन और माप )"},"जर्मन मुद्रा","जर्मन मुद्रा"]
[null,null,null,null,null,null,null,null,null,{"$f":"IF(K3320=\" \",\" \",ROWS($K$5:K3320))","v":3316},{"$f":"DICTIONARY!M3344","v":"Currency Note"},{"$f":"DICTIONARY!O3344","v":"नोट"},"नोट",{"$f":"DICTIONARY!P3346","v":"COIN,WEIGHT AND MEASUREMENT ( सिक्का,वजन और माप )"},"नोट","नोट"]
[null,null,null,null,null,null,null,null,null,{"$f":"IF(K3321=\" \",\" \",ROWS($K$5:K3321))","v":3317},{"$f":"DICTIONARY!M3345","v":"Small-Coin"},{"$f":"DICTIONARY!O3345","v":"खुदरा "},"खुदरा ",{"$f":"DICTIONARY!P3347","v":"COIN,WEIGHT AND MEASUREMENT ( सिक्का,वजन और माप )"},"खुदरा ","खुदरा "]
[null,null,null,null,null,null,null,null,null,{"$f":"IF(K3322=\" \",\" \",ROWS($K$5:K3322))","v":3318},{"$f":"DICTIONARY!M3346","v":"Change"},{"$f":"DICTIONARY!O3346","v":"खुदरा,रेजगारी"},"खुदरा,रेजगारी",{"$f":"DICTIONARY!P3348","v":"COIN,WEIGHT AND MEASUREMENT ( सिक्का,वजन और माप )"},"खुदरा,रेजगारी","खुदरा,रेजगारी"]
[null,null,null,null,null,null,null,null,null,{"$f":"IF(K3323=\" \",\" \",ROWS($K$5:K3323))","v":3319},{"$f":"DICTIONARY!M3347","v":"Quarter-Rupee"},{"$f":"DICTIONARY!O3347","v":"चवन्नी"},"चवन्नी",{"$f":"DICTIONARY!P3349","v":"COIN,WEIGHT AND MEASUREMENT ( सिक्का,वजन और माप )"},"चवन्नी","चवन्नी"]
[null,null,null,null,null,null,null,null,null,{"$f":"IF(K3324=\" \",\" \",ROWS($K$5:K3324))","v":3320},{"$f":"DICTIONARY!M3348","v":"Half-Rupee"},{"$f":"DICTIONARY!O3348","v":"अठन्नी"},"अठन्नी",{"$f":"DICTIONARY!P3350","v":"COIN,WEIGHT AND MEASUREMENT ( सिक्का,वजन और माप )"},"अठन्नी","अठन्नी"]
[null,null,null,null,null,null,null,null,null,{"$f":"IF(K3325=\" \",\" \",ROWS($K$5:K3325))","v":3321},{"$f":"DICTIONARY!M3349","v":"Pound"},{"$f":"DICTIONARY!O3349","v":"पौंड"},"पौंड",{"$f":"DICTIONARY!P3351","v":"COIN,WEIGHT AND MEASUREMENT ( सिक्का,वजन और माप )"},"पौंड","पौंड"]
[null,null,null,null,null,null,null,null,null,{"$f":"IF(K3326=\" \",\" \",ROWS($K$5:K3326))","v":3322},{"$f":"DICTIONARY!M3350","v":"Measurement"},{"$f":"DICTIONARY!O3350","v":"माप"},"माप",{"$f":"DICTIONARY!P3352","v":"COIN,WEIGHT AND MEASUREMENT ( सिक्का,वजन और माप )"},"माप","माप"]
[null,null,null,null,null,null,null,null,null,{"$f":"IF(K3327=\" \",\" \",ROWS($K$5:K3327))","v":3323},{"$f":"DICTIONARY!M3351","v":"Dimension"},{"$f":"DICTIONARY!O3351","v":"परिमाप"},"परिमाप",{"$f":"DICTIONARY!P3353","v":"COIN,WEIGHT AND MEASUREMENT ( सिक्का,वजन और माप )"},"परिमाप","परिमाप"]
[null,null,null,null,null,null,null,null,null,{"$f":"IF(K3328=\" \",\" \",ROWS($K$5:K3328))","v":3324},{"$f":"DICTIONARY!M3352","v":"Area"},{"$f":"DICTIONARY!O3352","v":"क्षेत्रफल"},"क्षेत्रफल",{"$f":"DICTIONARY!P3354","v":"COIN,WEIGHT AND MEASUREMENT ( सिक्का,वजन और माप )"},"क्षेत्रफल","क्षेत्रफल"]
[null,null,null,null,null,null,null,null,null,{"$f":"IF(K3329=\" \",\" \",ROWS($K$5:K3329))","v":3325},{"$f":"DICTIONARY!M3353","v":"Cubit"},{"$f":"DICTIONARY!O3353","v":"लम्बाई"},"लम्बाई",{"$f":"DICTIONARY!P3355","v":"COIN,WEIGHT AND MEASUREMENT ( सिक्का,वजन और माप )"},"लम्बाई","लम्बाई"]
[null,null,null,null,null,null,null,null,null,{"$f":"IF(K3330=\" \",\" \",ROWS($K$5:K3330))","v":3326},{"$f":"DICTIONARY!M3354","v":"Breadth"},{"$f":"DICTIONARY!O3354","v":"चौड़ाई"},"चौड़ाई",{"$f":"DICTIONARY!P3356","v":"COIN,WEIGHT AND MEASUREMENT ( सिक्का,वजन और माप )"},"चौड़ाई","चौड़ाई"]
[null,null,null,null,null,null,null,null,null,{"$f":"IF(K3331=\" \",\" \",ROWS($K$5:K3331))","v":3327},{"$f":"DICTIONARY!M3355","v":"Thickness"},{"$f":"DICTIONARY!O3355","v":"मोटाई"},"मोटाई",{"$f":"DICTIONARY!P3357","v":"COIN,WEIGHT AND MEASUREMENT ( सिक्का,वजन और माप )"},"मोटाई","मोटाई"]
[null,null,null,null,null,null,null,null,null,{"$f":"IF(K3332=\" \",\" \",ROWS($K$5:K3332))","v":3328},{"$f":"DICTIONARY!M3356","v":"Height"},{"$f":"DICTIONARY!O3356","v":"ऊँचाई"},"ऊँचाई",{"$f":"DICTIONARY!P3358","v":"COIN,WEIGHT AND MEASUREMENT ( सिक्का,वजन और माप )"},"ऊँचाई","ऊँचाई"]
[null,null,null,null,null,null,null,null,null,{"$f":"IF(K3333=\" \",\" \",ROWS($K$5:K3333))","v":3329},{"$f":"DICTIONARY!M3357","v":"Foot"},{"$f":"DICTIONARY!O3357","v":"फुट"},"फुट",{"$f":"DICTIONARY!P3359","v":"COIN,WEIGHT AND MEASUREMENT ( सिक्का,वजन और माप )"},{"$f":"M3333","v":"फुट"},{"$f":"L3333","v":"फुट"}]
[null,null,null,null,null,null,null,null,null,{"$f":"IF(K3334=\" \",\" \",ROWS($K$5:K3334))","v":3330},{"$f":"DICTIONARY!M3358","v":"Mile"},{"$f":"DICTIONARY!O3358","v":"मील"},{"$f":"L3334","v":"मील"},{"$f":"DICTIONARY!P3360","v":"COIN,WEIGHT AND MEASUREMENT ( सिक्का,वजन और माप )"},"मील","मील"]
[null,null,null,null,null,null,null,null,null,{"$f":"IF(K3335=\" \",\" \",ROWS($K$5:K3335))","v":3331},{"$f":"DICTIONARY!M3359","v":"Yard"},{"$f":"DICTIONARY!O3359","v":"यार्ड"},"यार्ड",{"$f":"DICTIONARY!P3361","v":"COIN,WEIGHT AND MEASUREMENT ( सिक्का,वजन और माप )"},"यार्ड","यार्ड"]
[null,null,null,null,null,null,null,null,null,{"$f":"IF(K3336=\" \",\" \",ROWS($K$5:K3336))","v":3332},{"$f":"DICTIONARY!M3360","v":"Kilogram"},{"$f":"DICTIONARY!O3360","v":"गज"},"गज",{"$f":"DICTIONARY!P3362","v":"COIN,WEIGHT AND MEASUREMENT ( सिक्का,वजन और माप )"},"गज","गज"]
[null,null,null,null,null,null,null,null,null,{"$f":"IF(K3337=\" \",\" \",ROWS($K$5:K3337))","v":3333},{"$f":"DICTIONARY!M3361","v":"Quintal"},{"$f":"DICTIONARY!O3361","v":"किलोग्राम"},"किलोग्राम",{"$f":"DICTIONARY!P3363","v":"COIN,WEIGHT AND MEASUREMENT ( सिक्का,वजन और माप )"},"किलोग्राम","किलोग्राम"]
[null,null,null,null,null,null,null,null,null,{"$f":"IF(K3338=\" \",\" \",ROWS($K$5:K3338))","v":3334},{"$f":"DICTIONARY!M3362","v":"Metre"},{"$f":"DICTIONARY!O3362","v":"क्विण्टल,सौ किलो"},"क्विण्टल,सौ किलो",{"$f":"DICTIONARY!P3364","v":"COIN,WEIGHT AND MEASUREMENT ( सिक्का,वजन और माप )"},"क्विण्टल,सौ किलो","क्विण्टल,सौ किलो"]
[null,null,null,null,null,null,null,null,null,{"$f":"IF(K3339=\" \",\" \",ROWS($K$5:K3339))","v":3335},{"$f":"DICTIONARY!M3363","v":"Litre"},{"$f":"DICTIONARY!O3363","v":"मीटर"},"मीटर",{"$f":"DICTIONARY!P3365","v":"COIN,WEIGHT AND MEASUREMENT ( सिक्का,वजन और माप )"},"मीटर","मीटर"]
[null,null,null,null,null,null,null,null,null,{"$f":"IF(K3340=\" \",\" \",ROWS($K$5:K3340))","v":3336},{"$f":"DICTIONARY!M3364","v":"Balance"},{"$f":"DICTIONARY!O3364","v":"लीटर"},"लीटर",{"$f":"DICTIONARY!P3366","v":"COIN,WEIGHT AND MEASUREMENT ( सिक्का,वजन और माप )"},"लीटर","लीटर"]
[null,null,null,null,null,null,null,null,null,{"$f":"IF(K3341=\" \",\" \",ROWS($K$5:K3341))","v":3337},{"$f":"DICTIONARY!M3365","v":"Weight"},{"$f":"DICTIONARY!O3365","v":"तराजू"},"तराजू",{"$f":"DICTIONARY!P3367","v":"COIN,WEIGHT AND MEASUREMENT ( सिक्का,वजन और माप )"},"तराजू","तराजू"]
[null,null,null,null,null,null,null,null,null,{"$f":"IF(K3342=\" \",\" \",ROWS($K$5:K3342))","v":3338},{"$f":"DICTIONARY!M3366","v":"Shilling"},{"$f":"DICTIONARY!O3366","v":"वजन"},"वजन",{"$f":"DICTIONARY!P3368","v":"COIN,WEIGHT AND MEASUREMENT ( सिक्का,वजन और माप )"},"वजन","वजन"]
[null,null,null,null,null,null,null,null,null,{"$f":"IF(K3343=\" \",\" \",ROWS($K$5:K3343))","v":3339},{"$f":"DICTIONARY!M3367","v":"Penny"},{"$f":"DICTIONARY!O3367","v":"शिलिंग"},"शिलिंग",{"$f":"DICTIONARY!P3369","v":"COIN,WEIGHT AND MEASUREMENT ( सिक्का,वजन और माप )"},"शिलिंग","शिलिंग"]
[null,null,null,null,null,null,null,null,null,{"$f":"IF(K3344=\" \",\" \",ROWS($K$5:K3344))","v":3340},{"$f":"DICTIONARY!M3368","v":"Yen"},{"$f":"DICTIONARY!O3368","v":"पेनी"},"पेनी",{"$f":"DICTIONARY!P3370","v":"COIN,WEIGHT AND MEASUREMENT ( सिक्का,वजन और माप )"},"पेनी","पेनी"]
[null,null,null,null,null,null,null,null,null,{"$f":"IF(K3345=\" \",\" \",ROWS($K$5:K3345))","v":3341},{"$f":"DICTIONARY!M3369","v":"Kyates"},{"$f":"DICTIONARY!O3369","v":"जापानी मुद्रा"},"जापानी मुद्रा",{"$f":"DICTIONARY!P3371","v":"COIN,WEIGHT AND MEASUREMENT ( सिक्का,वजन और माप )"},"जापानी मुद्रा","जापानी मुद्रा"]
[null,null,null,null,null,null,null,null,null,{"$f":"IF(K3346=\" \",\" \",ROWS($K$5:K3346))","v":3342},{"$f":"DICTIONARY!M3370","v":"Dollar"},{"$f":"DICTIONARY!O3370","v":"डॉलर"},"डॉलर",{"$f":"DICTIONARY!P3372","v":"COIN,WEIGHT AND MEASUREMENT ( सिक्का,वजन और माप )"},"डॉलर","डॉलर"]
[null,null,null,null,null,null,null,null,null,{"$f":"IF(K3347=\" \",\" \",ROWS($K$5:K3347))","v":3343},{"$f":"DICTIONARY!M3371","v":"Farthing"},{"$f":"DICTIONARY!O3371","v":"फार्दिंग"},"फार्दिंग",{"$f":"DICTIONARY!P3373","v":"COIN,WEIGHT AND MEASUREMENT ( सिक्का,वजन और माप )"},"फार्दिंग","फार्दिंग"]
[null,null,null,null,null,null,null,null,null,{"$f":"IF(K3348=\" \",\" \",ROWS($K$5:K3348))","v":3344},{"$f":"DICTIONARY!M3372","v":"Guinea"},{"$f":"DICTIONARY!O3372","v":"गिनी"},"गिनी",{"$f":"DICTIONARY!P3374","v":"COIN,WEIGHT AND MEASUREMENT ( सिक्का,वजन और माप )"},"गिनी","गिनी"]
[null,null,null,null,null,null,null,null,null,{"$f":"IF(K3349=\" \",\" \",ROWS($K$5:K3349))","v":3345},{"$f":"DICTIONARY!M3373","v":" Crown"},{"$f":"DICTIONARY!O3373","v":"क्राउन"},"क्राउन","COIN,WEIGHT AND MEASUREMENT ( सिक्का,वजन और माप )","क्राउन","क्राउन"]
[null,null,null,null,null,null,null,null,null,{"$f":"IF(K3350=\" \",\" \",ROWS($K$5:K3350))","v":3346},{"$f":"DICTIONARY!M3374","v":"Sovereign"},{"$f":"DICTIONARY!O3374","v":"एक पौंड की स्वर्णमुद्रा"},"एक पौंड की स्वर्णमुद्रा","COIN,WEIGHT AND MEASUREMENT ( सिक्का,वजन और माप )","एक पौंड की स्वर्णमुद्रा","एक पौंड की स्वर्णमुद्रा"]
[null,null,null,null,null,null,null,null,null,{"$f":"IF(K3351=\" \",\" \",ROWS($K$5:K3351))","v":3347},{"$f":"DICTIONARY!M3375","v":"Arithmetic"},{"$f":"DICTIONARY!O3375","v":"अंक-गणित"},"अंक-गणित",{"$f":"DICTIONARY!P3377","v":"BRANCHES OF LEARNING ( विविध-विद्याए )"},"अंक-गणित","अंक-गणित"]
[null,null,null,null,null,null,null,null,null,{"$f":"IF(K3352=\" \",\" \",ROWS($K$5:K3352))","v":3348},{"$f":"DICTIONARY!M3376","v":"Geometry"},{"$f":"DICTIONARY!O3376","v":"ज्यामिति/रेखागणित"},"ज्यामिति/रेखागणित",{"$f":"DICTIONARY!P3378","v":"BRANCHES OF LEARNING ( विविध-विद्याए )"},"ज्यामिति/रेखागणित","ज्यामिति/रेखागणित"]
[null,null,null,null,null,null,null,null,null,{"$f":"IF(K3353=\" \",\" \",ROWS($K$5:K3353))","v":3349},{"$f":"DICTIONARY!M3377","v":"Algebra"},{"$f":"DICTIONARY!O3377","v":"बीजगणित"},"बीजगणित",{"$f":"DICTIONARY!P3379","v":"BRANCHES OF LEARNING ( विविध-विद्याए )"},"बीजगणित","बीजगणित"]
[null,null,null,null,null,null,null,null,null,{"$f":"IF(K3354=\" \",\" \",ROWS($K$5:K3354))","v":3350},{"$f":"DICTIONARY!M3378","v":"Science"},{"$f":"DICTIONARY!O3378","v":"विज्ञानं"},"विज्ञानं",{"$f":"DICTIONARY!P3380","v":"BRANCHES OF LEARNING ( विविध-विद्याए )"},"विज्ञानं","विज्ञानं"]
[null,null,null,null,null,null,null,null,null,{"$f":"IF(K3355=\" \",\" \",ROWS($K$5:K3355))","v":3351},{"$f":"DICTIONARY!M3379","v":"Art"},{"$f":"DICTIONARY!O3379","v":"शिल्पकला"},"शिल्पकला",{"$f":"DICTIONARY!P3381","v":"BRANCHES OF LEARNING ( विविध-विद्याए )"},"शिल्पकला","शिल्पकला"]
[null,null,null,null,null,null,null,null,null,{"$f":"IF(K3356=\" \",\" \",ROWS($K$5:K3356))","v":3352},{"$f":"DICTIONARY!M3380","v":"Logic"},{"$f":"DICTIONARY!O3380","v":"तर्कशास्त्र"},"तर्कशास्त्र",{"$f":"DICTIONARY!P3382","v":"BRANCHES OF LEARNING ( विविध-विद्याए )"},"तर्कशास्त्र","तर्कशास्त्र"]
[null,null,null,null,null,null,null,null,null,{"$f":"IF(K3357=\" \",\" \",ROWS($K$5:K3357))","v":3353},{"$f":"DICTIONARY!M3381","v":"Trigonometry"},{"$f":"DICTIONARY!O3381","v":"त्रिकोणमिति"},"त्रिकोणमिति",{"$f":"DICTIONARY!P3383","v":"BRANCHES OF LEARNING ( विविध-विद्याए )"},"त्रिकोणमिति","त्रिकोणमिति"]
[null,null,null,null,null,null,null,null,null,{"$f":"IF(K3358=\" \",\" \",ROWS($K$5:K3358))","v":3354},{"$f":"DICTIONARY!M3382","v":"Mathematics"},{"$f":"DICTIONARY!O3382","v":"गणित"},"गणित",{"$f":"DICTIONARY!P3384","v":"BRANCHES OF LEARNING ( विविध-विद्याए )"},"गणित","गणित"]
[null,null,null,null,null,null,null,null,null,{"$f":"IF(K3359=\" \",\" \",ROWS($K$5:K3359))","v":3355},{"$f":"DICTIONARY!M3383","v":"Theology"},{"$f":"DICTIONARY!O3383","v":"धर्मशास्त्र"},"धर्मशास्त्र",{"$f":"DICTIONARY!P3385","v":"BRANCHES OF LEARNING ( विविध-विद्याए )"},"धर्मशास्त्र","धर्मशास्त्र"]
[null,null,null,null,null,null,null,null,null,{"$f":"IF(K3360=\" \",\" \",ROWS($K$5:K3360))","v":3356},{"$f":"DICTIONARY!M3384","v":"Philosophy"},{"$f":"DICTIONARY!O3384","v":"दर्शनशास्त्र"},"दर्शनशास्त्र",{"$f":"DICTIONARY!P3386","v":"BRANCHES OF LEARNING ( विविध-विद्याए )"},"दर्शनशास्त्र","दर्शनशास्त्र"]
[null,null,null,null,null,null,null,null,null,{"$f":"IF(K3361=\" \",\" \",ROWS($K$5:K3361))","v":3357},{"$f":"DICTIONARY!M3385","v":"Chemistry"},{"$f":"DICTIONARY!O3385","v":"रसायन-शास्त्र"},"रसायन-शास्त्र",{"$f":"DICTIONARY!P3387","v":"BRANCHES OF LEARNING ( विविध-विद्याए )"},"रसायन-शास्त्र","रसायन-शास्त्र"]
[null,null,null,null,null,null,null,null,null,{"$f":"IF(K3362=\" \",\" \",ROWS($K$5:K3362))","v":3358},{"$f":"DICTIONARY!M3386","v":"Zoology"},{"$f":"DICTIONARY!O3386","v":"प्राणी-शास्त्र"},"प्राणी-शास्त्र",{"$f":"DICTIONARY!P3388","v":"BRANCHES OF LEARNING ( विविध-विद्याए )"},"प्राणी-शास्त्र","प्राणी-शास्त्र"]
[null,null,null,null,null,null,null,null,null,{"$f":"IF(K3363=\" \",\" \",ROWS($K$5:K3363))","v":3359},{"$f":"DICTIONARY!M3387","v":"Botany"},{"$f":"DICTIONARY!O3387","v":"वनस्पति-विज्ञान"},"वनस्पति-विज्ञान",{"$f":"DICTIONARY!P3389","v":"BRANCHES OF LEARNING ( विविध-विद्याए )"},"वनस्पति-विज्ञान","वनस्पति-विज्ञान"]
[null,null,null,null,null,null,null,null,null,{"$f":"IF(K3364=\" \",\" \",ROWS($K$5:K3364))","v":3360},{"$f":"DICTIONARY!M3388","v":"Literature"},{"$f":"DICTIONARY!O3388","v":"साहित्य"},"साहित्य",{"$f":"DICTIONARY!P3390","v":"BRANCHES OF LEARNING ( विविध-विद्याए )"},"साहित्य","साहित्य"]
[null,null,null,null,null,null,null,null,null,{"$f":"IF(K3365=\" \",\" \",ROWS($K$5:K3365))","v":3361},{"$f":"DICTIONARY!M3389","v":"History"},{"$f":"DICTIONARY!O3389","v":"इतिहास"},"इतिहास",{"$f":"DICTIONARY!P3391","v":"BRANCHES OF LEARNING ( विविध-विद्याए )"},"इतिहास","इतिहास"]
[null,null,null,null,null,null,null,null,null,{"$f":"IF(K3366=\" \",\" \",ROWS($K$5:K3366))","v":3362},{"$f":"DICTIONARY!M3390","v":"Physics"},{"$f":"DICTIONARY!O3390","v":"पदार्थविद्या,भौतिकी-विज्ञान"},"पदार्थविद्या,भौतिकी-विज्ञान",{"$f":"DICTIONARY!P3392","v":"BRANCHES OF LEARNING ( विविध-विद्याए )"},"पदार्थविद्या,भौतिकी-विज्ञान","पदार्थविद्या,भौतिकी-विज्ञान"]
[null,null,null,null,null,null,null,null,null,{"$f":"IF(K3367=\" \",\" \",ROWS($K$5:K3367))","v":3363},{"$f":"DICTIONARY!M3391","v":"Agriculture"},{"$f":"DICTIONARY!O3391","v":"कृषि-शास्त्र"},"कृषि-शास्त्र",{"$f":"DICTIONARY!P3393","v":"BRANCHES OF LEARNING ( विविध-विद्याए )"},"कृषि-शास्त्र","कृषि-शास्त्र"]
[null,null,null,null,null,null,null,null,null,{"$f":"IF(K3368=\" \",\" \",ROWS($K$5:K3368))","v":3364},{"$f":"DICTIONARY!M3392","v":"Geography"},{"$f":"DICTIONARY!O3392","v":"भूगोल"},"भूगोल",{"$f":"DICTIONARY!P3394","v":"BRANCHES OF LEARNING ( विविध-विद्याए )"},"भूगोल","भूगोल"]
[null,null,null,null,null,null,null,null,null,{"$f":"IF(K3369=\" \",\" \",ROWS($K$5:K3369))","v":3365},{"$f":"DICTIONARY!M3393","v":"Biology"},{"$f":"DICTIONARY!O3393","v":"जीव-विज्ञान"},"जीव-विज्ञान","BRANCHES OF LEARNING ( विविध-विद्याए )","जीव-विज्ञान","जीव-विज्ञान"]
[null,null,null,null,null,null,null,null,null,{"$f":"IF(K3370=\" \",\" \",ROWS($K$5:K3370))","v":3366},{"$f":"DICTIONARY!M3394","v":"Hygiene"},{"$f":"DICTIONARY!O3394","v":"स्वास्थ्य-विज्ञानं"},"स्वास्थ्य-विज्ञानं","BRANCHES OF LEARNING ( विविध-विद्याए )","स्वास्थ्य-विज्ञानं","स्वास्थ्य-विज्ञानं"]
[null,null,null,null,null,null,null,null,null,{"$f":"IF(K3371=\" \",\" \",ROWS($K$5:K3371))","v":3367},{"$f":"DICTIONARY!M3395","v":"A Man'S Only Support"},{"$f":"DICTIONARY!O3395","v":"अधें की लकड़ी"},"अधें की लकड़ी",{"$f":"DICTIONARY!P3397","v":"IDIOMS ( मुहावरे )"},"अधें की लकड़ी","अधें की लकड़ी"]
[null,null,null,null,null,null,null,null,null,{"$f":"IF(K3372=\" \",\" \",ROWS($K$5:K3372))","v":3368},{"$f":"DICTIONARY!M3396","v":"To Hesitate"},{"$f":"DICTIONARY!O3396","v":"अगर मगर करना"},"अगर मगर करना",{"$f":"DICTIONARY!P3398","v":"IDIOMS ( मुहावरे )"},"अगर मगर करना","अगर मगर करना"]
[null,null,null,null,null,null,null,null,null,{"$f":"IF(K3373=\" \",\" \",ROWS($K$5:K3373))","v":3369},{"$f":"DICTIONARY!M3397","v":"Prosperity"},{"$f":"DICTIONARY!O3397","v":"अच्छे दिन"},"अच्छे दिन",{"$f":"DICTIONARY!P3399","v":"IDIOMS ( मुहावरे )"},"अच्छे दिन","अच्छे दिन"]
[null,null,null,null,null,null,null,null,null,{"$f":"IF(K3374=\" \",\" \",ROWS($K$5:K3374))","v":3370},{"$f":"DICTIONARY!M3398","v":"To Think Of The Consequence"},{"$f":"DICTIONARY!O3398","v":"आगा पीछा सोचना"},"आगा पीछा सोचना",{"$f":"DICTIONARY!P3400","v":"IDIOMS ( मुहावरे )"},"आगा पीछा सोचना","आगा पीछा सोचना"]
[null,null,null,null,null,null,null,null,null,{"$f":"IF(K3375=\" \",\" \",ROWS($K$5:K3375))","v":3371},{"$f":"DICTIONARY!M3399","v":"To Rebuke"},{"$f":"DICTIONARY!O3399","v":"आड़े हाथों लेना"},"आड़े हाथों लेना",{"$f":"DICTIONARY!P3401","v":"IDIOMS ( मुहावरे )"},"आड़े हाथों लेना","आड़े हाथों लेना"]
[null,null,null,null,null,null,null,null,null,{"$f":"IF(K3376=\" \",\" \",ROWS($K$5:K3376))","v":3372},{"$f":"DICTIONARY!M3400","v":"To Do The Impossible"},{"$f":"DICTIONARY!O3400","v":"आसमान के तारे' तोडना"},"आसमान के तारे' तोडना",{"$f":"DICTIONARY!P3402","v":"IDIOMS ( मुहावरे )"},"आसमान के तारे' तोडना","आसमान के तारे' तोडना"]
[null,null,null,null,null,null,null,null,null,{"$f":"IF(K3377=\" \",\" \",ROWS($K$5:K3377))","v":3373},{"$f":"DICTIONARY!M3401","v":"To Make A Hasty Retreat"},{"$f":"DICTIONARY!O3401","v":"उलटे पांव लोटना"},"उलटे पांव लोटना",{"$f":"DICTIONARY!P3403","v":"IDIOMS ( मुहावरे )"},"उलटे पांव लोटना","उलटे पांव लोटना"]
[null,null,null,null,null,null,null,null,null,{"$f":"IF(K3378=\" \",\" \",ROWS($K$5:K3378))","v":3374},{"$f":"DICTIONARY!M3402","v":"A Reversed State"},{"$f":"DICTIONARY!O3402","v":"उल्टी गंगा बहना"},"उल्टी गंगा बहना",{"$f":"DICTIONARY!P3404","v":"IDIOMS ( मुहावरे )"},"उल्टी गंगा बहना","उल्टी गंगा बहना"]
[null,null,null,null,null,null,null,null,null,{"$f":"IF(K3379=\" \",\" \",ROWS($K$5:K3379))","v":3375},{"$f":"DICTIONARY!M3403","v":"Killing To Birds With One Stone"},{"$f":"DICTIONARY!O3403","v":"एक पंथ दो काज"},"एक पंथ दो काज",{"$f":"DICTIONARY!P3405","v":"IDIOMS ( मुहावरे )"},"एक पंथ दो काज","एक पंथ दो काज"]
[null,null,null,null,null,null,null,null,null,{"$f":"IF(K3380=\" \",\" \",ROWS($K$5:K3380))","v":3376},{"$f":"DICTIONARY!M3404","v":"To Grid Up The Loins"},{"$f":"DICTIONARY!O3404","v":"कमर कसना"},"कमर कसना",{"$f":"DICTIONARY!P3406","v":"IDIOMS ( मुहावरे )"},"कमर कसना","कमर कसना"]
[null,null,null,null,null,null,null,null,null,{"$f":"IF(K3381=\" \",\" \",ROWS($K$5:K3381))","v":3377},{"$f":"DICTIONARY!M3405","v":"A Child'S Play"},{"$f":"DICTIONARY!O3405","v":"गुडिया का खेल"},"गुडिया का खेल",{"$f":"DICTIONARY!P3407","v":"IDIOMS ( मुहावरे )"},"गुडिया का खेल","गुडिया का खेल"]
[null,null,null,null,null,null,null,null,null,{"$f":"IF(K3382=\" \",\" \",ROWS($K$5:K3382))","v":3378},{"$f":"DICTIONARY!M3406","v":"To Harass"},{"$f":"DICTIONARY!O3406","v":"नाकों चने चबवाना"},"नाकों चने चबवाना",{"$f":"DICTIONARY!P3408","v":"IDIOMS ( मुहावरे )"},"नाकों चने चबवाना","नाकों चने चबवाना"]
[null,null,null,null,null,null,null,null,null,{"$f":"IF(K3383=\" \",\" \",ROWS($K$5:K3383))","v":3379},{"$f":"DICTIONARY!M3407","v":"To Give A Slip"},{"$f":"DICTIONARY!O3407","v":"चकमा देना"},"चकमा देना",{"$f":"DICTIONARY!P3409","v":"IDIOMS ( मुहावरे )"},"चकमा देना","चकमा देना"]
[null,null,null,null,null,null,null,null,null,{"$f":"IF(K3384=\" \",\" \",ROWS($K$5:K3384))","v":3380},{"$f":"DICTIONARY!M3408","v":"To Flatter,To Cajole"},{"$f":"DICTIONARY!O3408","v":"चिकनी चुपड़ी बात करना"},"चिकनी चुपड़ी बात करना",{"$f":"DICTIONARY!P3410","v":"IDIOMS ( मुहावरे )"},"चिकनी चुपड़ी बात करना","चिकनी चुपड़ी बात करना"]
[null,null,null,null,null,null,null,null,null,{"$f":"IF(K3385=\" \",\" \",ROWS($K$5:K3385))","v":3381},{"$f":"DICTIONARY!M3409","v":"To Be In Great Difficulty"},{"$f":"DICTIONARY!O3409","v":"छठी का दूध यद् दिलाना"},"छठी का दूध यद् दिलाना",{"$f":"DICTIONARY!P3411","v":"IDIOMS ( मुहावरे )"},"छठी का दूध यद् दिलाना","छठी का दूध यद् दिलाना"]
[null,null,null,null,null,null,null,null,null,{"$f":"IF(K3386=\" \",\" \",ROWS($K$5:K3386))","v":3382},{"$f":"DICTIONARY!M3410","v":"To Stake'S Own Life"},{"$f":"DICTIONARY!O3410","v":"जान पे खेलना"},"जान पे खेलना",{"$f":"DICTIONARY!P3412","v":"IDIOMS ( मुहावरे )"},"जान पे खेलना","जान पे खेलना"]
[null,null,null,null,null,null,null,null,null,{"$f":"IF(K3387=\" \",\" \",ROWS($K$5:K3387))","v":3383},{"$f":"DICTIONARY!M3411","v":"To Leek The Feet"},{"$f":"DICTIONARY!O3411","v":"तलवे चाटना"},"तलवे चाटना",{"$f":"DICTIONARY!P3413","v":"IDIOMS ( मुहावरे )"},"तलवे चाटना","तलवे चाटना"]
[null,null,null,null,null,null,null,null,null,{"$f":"IF(K3388=\" \",\" \",ROWS($K$5:K3388))","v":3384},{"$f":"DICTIONARY!M3412","v":"To Get Rid Of"},{"$f":"DICTIONARY!O3412","v":"पल्ला झाड़ना"},"पल्ला झाड़ना",{"$f":"DICTIONARY!P3414","v":"IDIOMS ( मुहावरे )"},"पल्ला झाड़ना","पल्ला झाड़ना"]
[null,null,null,null,null,null,null,null,null,{"$f":"IF(K3389=\" \",\" \",ROWS($K$5:K3389))","v":3385},{"$f":"DICTIONARY!M3413","v":"To Be Bewildered"},{"$f":"DICTIONARY!O3413","v":"हक्का बक्का रहना"},"हक्का बक्का रहना",{"$f":"DICTIONARY!P3415","v":"IDIOMS ( मुहावरे )"},"हक्का बक्का रहना","हक्का बक्का रहना"]
[null,null,null,null,null,null,null,null,null,{"$f":"IF(K3390=\" \",\" \",ROWS($K$5:K3390))","v":3386},{"$f":"DICTIONARY!M3414","v":"Red Handed"},{"$f":"DICTIONARY!O3414","v":"रँगे हाथ"},"रँगे हाथ",{"$f":"DICTIONARY!P3416","v":"MEDICINES AND HOSPTALS ( औषध और चिकित्सालय संबधी)"},"रँगे हाथ","रँगे हाथ"]
[null,null,null,null,null,null,null,null,null,{"$f":"IF(K3391=\" \",\" \",ROWS($K$5:K3391))","v":3387},{"$f":"DICTIONARY!M3415","v":"Pandora'S Box"},{"$f":"DICTIONARY!O3415","v":"भानुमती का पिटारा"},"भानुमती का पिटारा",{"$f":"DICTIONARY!P3417","v":"MEDICINES AND HOSPTALS ( औषध और चिकित्सालय संबधी)"},"भानुमती का पिटारा","भानुमती का पिटारा"]
[null,null,null,null,null,null,null,null,null,{"$f":"IF(K3392=\" \",\" \",ROWS($K$5:K3392))","v":3388},{"$f":"DICTIONARY!M3416","v":"Allopathic Medicine"},{"$f":"DICTIONARY!O3416","v":"डॉक्टरी दवा"},"डॉक्टरी दवा",{"$f":"DICTIONARY!P3418","v":"MEDICINES AND HOSPTALS ( औषध और चिकित्सालय संबधी)"},"डॉक्टरी दवा","डॉक्टरी दवा"]
[null,null,null,null,null,null,null,null,null,{"$f":"IF(K3393=\" \",\" \",ROWS($K$5:K3393))","v":3389},{"$f":"DICTIONARY!M3417","v":"Quinine"},{"$f":"DICTIONARY!O3417","v":"मलेरिया ज्वरनाशक कड़वी दवा"},"मलेरिया ज्वरनाशक कड़वी दवा",{"$f":"DICTIONARY!P3419","v":"MEDICINES AND HOSPTALS ( औषध और चिकित्सालय संबधी)"},"मलेरिया ज्वरनाशक कड़वी दवा","मलेरिया ज्वरनाशक कड़वी दवा"]
[null,null,null,null,null,null,null,null,null,{"$f":"IF(K3394=\" \",\" \",ROWS($K$5:K3394))","v":3390},{"$f":"DICTIONARY!M3418","v":"Arnica"},{"$f":"DICTIONARY!O3418","v":"ज्वरनाशक होम्योपैथिक दवा"},"ज्वरनाशक होम्योपैथिक दवा",{"$f":"DICTIONARY!P3420","v":"MEDICINES AND HOSPTALS ( औषध और चिकित्सालय संबधी)"},"ज्वरनाशक होम्योपैथिक दवा","ज्वरनाशक होम्योपैथिक दवा"]
[null,null,null,null,null,null,null,null,null,{"$f":"IF(K3395=\" \",\" \",ROWS($K$5:K3395))","v":3391},{"$f":"DICTIONARY!M3419","v":"Spirit"},{"$f":"DICTIONARY!O3419","v":"एक प्रकार की दवा जो चोट पार लगाई जाती है "},"एक प्रकार की दवा जो चोट पार लगाई जाती है ",{"$f":"DICTIONARY!P3421","v":"MEDICINES AND HOSPTALS ( औषध और चिकित्सालय संबधी)"},"एक प्रकार की दवा जो चोट पार लगाई जाती है ","एक प्रकार की दवा जो चोट पार लगाई जाती है "]
[null,null,null,null,null,null,null,null,null,{"$f":"IF(K3396=\" \",\" \",ROWS($K$5:K3396))","v":3392},{"$f":"DICTIONARY!M3420","v":"Cinchona"},{"$f":"DICTIONARY!O3420","v":"नीम का पेड़"},"नीम का पेड़",{"$f":"DICTIONARY!P3422","v":"MEDICINES AND HOSPTALS ( औषध और चिकित्सालय संबधी)"},"नीम का पेड़","नीम का पेड़"]
[null,null,null,null,null,null,null,null,null,{"$f":"IF(K3397=\" \",\" \",ROWS($K$5:K3397))","v":3393},{"$f":"DICTIONARY!M3421","v":"Lotion"},{"$f":"DICTIONARY!O3421","v":"आंख में छोड़ने वाली दवा"},"आंख में छोड़ने वाली दवा",{"$f":"DICTIONARY!P3423","v":"MEDICINES AND HOSPTALS ( औषध और चिकित्सालय संबधी)"},{"$f":"M3397","v":"आंख में छोड़ने वाली दवा"},{"$f":"L3397","v":"आंख में छोड़ने वाली दवा"}]
[null,null,null,null,null,null,null,null,null,{"$f":"IF(K3398=\" \",\" \",ROWS($K$5:K3398))","v":3394},{"$f":"DICTIONARY!M3422","v":"Cocaine"},{"$f":"DICTIONARY!O3422","v":"किसी अंग को बेसुध करने की दवा"},{"$f":"L3398","v":"किसी अंग को बेसुध करने की दवा"},{"$f":"DICTIONARY!P3424","v":"MEDICINES AND HOSPTALS ( औषध और चिकित्सालय संबधी)"},"किसी अंग को बेसुध करने की दवा","किसी अंग को बेसुध करने की दवा"]
[null,null,null,null,null,null,null,null,null,{"$f":"IF(K3399=\" \",\" \",ROWS($K$5:K3399))","v":3395},{"$f":"DICTIONARY!M3423","v":"Decoction"},{"$f":"DICTIONARY!O3423","v":"काढ़ा"},"काढ़ा",{"$f":"DICTIONARY!P3425","v":"MEDICINES AND HOSPTALS ( औषध और चिकित्सालय संबधी)"},"काढ़ा","काढ़ा"]
[null,null,null,null,null,null,null,null,null,{"$f":"IF(K3400=\" \",\" \",ROWS($K$5:K3400))","v":3396},{"$f":"DICTIONARY!M3424","v":"Opium"},{"$f":"DICTIONARY!O3424","v":"अफीम"},"अफीम",{"$f":"DICTIONARY!P3426","v":"MEDICINES AND HOSPTALS ( औषध और चिकित्सालय संबधी)"},"अफीम","अफीम"]
[null,null,null,null,null,null,null,null,null,{"$f":"IF(K3401=\" \",\" \",ROWS($K$5:K3401))","v":3397},{"$f":"DICTIONARY!M3425","v":"Injection"},{"$f":"DICTIONARY!O3425","v":"शरीर में पिचकारी द्वारा पहुँचाने की दवा"},"शरीर में पिचकारी द्वारा पहुँचाने की दवा",{"$f":"DICTIONARY!P3427","v":"MEDICINES AND HOSPTALS ( औषध और चिकित्सालय संबधी)"},"शरीर में पिचकारी द्वारा पहुँचाने की दवा","शरीर में पिचकारी द्वारा पहुँचाने की दवा"]
[null,null,null,null,null,null,null,null,null,{"$f":"IF(K3402=\" \",\" \",ROWS($K$5:K3402))","v":3398},{"$f":"DICTIONARY!M3426","v":"Ozoena"},{"$f":"DICTIONARY!O3426","v":"पीनस"},"पीनस",{"$f":"DICTIONARY!P3428","v":"MEDICINES AND HOSPTALS ( औषध और चिकित्सालय संबधी)"},"पीनस","पीनस"]
[null,null,null,null,null,null,null,null,null,{"$f":"IF(K3403=\" \",\" \",ROWS($K$5:K3403))","v":3399},{"$f":"DICTIONARY!M3427","v":"Chemist"},{"$f":"DICTIONARY!O3427","v":"रसायनी"},"रसायनी",{"$f":"DICTIONARY!P3429","v":"MEDICINES AND HOSPTALS ( औषध और चिकित्सालय संबधी)"},"रसायनी","रसायनी"]
[null,null,null,null,null,null,null,null,null,{"$f":"IF(K3404=\" \",\" \",ROWS($K$5:K3404))","v":3400},{"$f":"DICTIONARY!M3428","v":"Druggist"},{"$f":"DICTIONARY!O3428","v":"दवा बेचने वाला"},"दवा बेचने वाला",{"$f":"DICTIONARY!P3430","v":"MEDICINES AND HOSPTALS ( औषध और चिकित्सालय संबधी)"},"दवा बेचने वाला","दवा बेचने वाला"]
[null,null,null,null,null,null,null,null,null,{"$f":"IF(K3405=\" \",\" \",ROWS($K$5:K3405))","v":3401},{"$f":"DICTIONARY!M3429","v":"Sulphur"},{"$f":"DICTIONARY!O3429","v":"गंधक"},"गंधक",{"$f":"DICTIONARY!P3431","v":"MEDICINES AND HOSPTALS ( औषध और चिकित्सालय संबधी)"},"गंधक","गंधक"]
[null,null,null,null,null,null,null,null,null,{"$f":"IF(K3406=\" \",\" \",ROWS($K$5:K3406))","v":3402},{"$f":"DICTIONARY!M3430","v":"Trional"},{"$f":"DICTIONARY!O3430","v":"नशा करने वाला पदार्थ"},"नशा करने वाला पदार्थ",{"$f":"DICTIONARY!P3432","v":"MEDICINES AND HOSPTALS ( औषध और चिकित्सालय संबधी)"},"नशा करने वाला पदार्थ","नशा करने वाला पदार्थ"]
[null,null,null,null,null,null,null,null,null,{"$f":"IF(K3407=\" \",\" \",ROWS($K$5:K3407))","v":3403},{"$f":"DICTIONARY!M3431","v":"Snuff"},{"$f":"DICTIONARY!O3431","v":"सुंघनी"},"सुंघनी",{"$f":"DICTIONARY!P3433","v":"MEDICINES AND HOSPTALS ( औषध और चिकित्सालय संबधी)"},"सुंघनी","सुंघनी"]
[null,null,null,null,null,null,null,null,null,{"$f":"IF(K3408=\" \",\" \",ROWS($K$5:K3408))","v":3404},{"$f":"DICTIONARY!M3432","v":"Ayurvedic Medicine"},{"$f":"DICTIONARY!O3432","v":"आयुर्वेदिक औषधि"},"आयुर्वेदिक औषधि",{"$f":"DICTIONARY!P3434","v":"MEDICINES AND HOSPTALS ( औषध और चिकित्सालय संबधी)"},"आयुर्वेदिक औषधि","आयुर्वेदिक औषधि"]
[null,null,null,null,null,null,null,null,null,{"$f":"IF(K3409=\" \",\" \",ROWS($K$5:K3409))","v":3405},{"$f":"DICTIONARY!M3433","v":"Phosphorus"},{"$f":"DICTIONARY!O3433","v":"एक तुरंत जलने वाली दवा जिससे दियासलाई बनती है"},"एक तुरंत जलने वाली दवा जिससे दियासलाई बनती है",{"$f":"DICTIONARY!P3435","v":"MEDICINES AND HOSPTALS ( औषध और चिकित्सालय संबधी)"},"एक तुरंत जलने वाली दवा जिससे दियासलाई बनती है","एक तुरंत जलने वाली दवा जिससे दियासलाई बनती है"]
[null,null,null,null,null,null,null,null,null,{"$f":"IF(K3410=\" \",\" \",ROWS($K$5:K3410))","v":3406},{"$f":"DICTIONARY!M3434","v":"Distilled Water"},{"$f":"DICTIONARY!O3434","v":"आसुत जल"},"आसुत जल",{"$f":"DICTIONARY!P3436","v":"MEDICINES AND HOSPTALS ( औषध और चिकित्सालय संबधी)"},"आसुत जल","आसुत जल"]
[null,null,null,null,null,null,null,null,null,{"$f":"IF(K3411=\" \",\" \",ROWS($K$5:K3411))","v":3407},{"$f":"DICTIONARY!M3435","v":"Caustics-Soda"},{"$f":"DICTIONARY!O3435","v":"साबुन आदि बनाने का एक पदार्थ"},"साबुन आदि बनाने का एक पदार्थ",{"$f":"DICTIONARY!P3437","v":"MEDICINES AND HOSPTALS ( औषध और चिकित्सालय संबधी)"},"साबुन आदि बनाने का एक पदार्थ","साबुन आदि बनाने का एक पदार्थ"]
[null,null,null,null,null,null,null,null,null,{"$f":"IF(K3412=\" \",\" \",ROWS($K$5:K3412))","v":3408},{"$f":"DICTIONARY!M3436","v":"Poultice"},{"$f":"DICTIONARY!O3436","v":"फोड़े आदि पार लगने का एक पदार्थ"},"फोड़े आदि पार लगने का एक पदार्थ",{"$f":"DICTIONARY!P3438","v":"MEDICINES AND HOSPTALS ( औषध और चिकित्सालय संबधी)"},"फोड़े आदि पार लगने का एक पदार्थ","फोड़े आदि पार लगने का एक पदार्थ"]
[null,null,null,null,null,null,null,null,null,{"$f":"IF(K3413=\" \",\" \",ROWS($K$5:K3413))","v":3409},{"$f":"DICTIONARY!M3437","v":"Fumigation"},{"$f":"DICTIONARY!O3437","v":"धुनी देना,बफारा देना"},"धुनी देना,बफारा देना",{"$f":"DICTIONARY!P3439","v":"MEDICINES AND HOSPTALS ( औषध और चिकित्सालय संबधी)"},"धुनी देना,बफारा देना","धुनी देना,बफारा देना"]
[null,null,null,null,null,null,null,null,null,{"$f":"IF(K3414=\" \",\" \",ROWS($K$5:K3414))","v":3410},{"$f":"DICTIONARY!M3438","v":"Boric Acid"},{"$f":"DICTIONARY!O3438","v":"एक प्रकार की दवा जिससे सेंक किया जता है"},"एक प्रकार की दवा जिससे सेंक किया जता है",{"$f":"DICTIONARY!P3440","v":"MEDICINES AND HOSPTALS ( औषध और चिकित्सालय संबधी)"},"एक प्रकार की दवा जिससे सेंक किया जता है","एक प्रकार की दवा जिससे सेंक किया जता है"]
[null,null,null,null,null,null,null,null,null,{"$f":"IF(K3415=\" \",\" \",ROWS($K$5:K3415))","v":3411},{"$f":"DICTIONARY!M3439","v":"Mixture"},{"$f":"DICTIONARY!O3439","v":"दवाओ को मिलाकर बनाई पिने की तरल औषधि"},"दवाओ को मिलाकर बनाई पिने की तरल औषधि",{"$f":"DICTIONARY!P3441","v":"MEDICINES AND HOSPTALS ( औषध और चिकित्सालय संबधी)"},"दवाओ को मिलाकर बनाई पिने की तरल औषधि","दवाओ को मिलाकर बनाई पिने की तरल औषधि"]
[null,null,null,null,null,null,null,null,null,{"$f":"IF(K3416=\" \",\" \",ROWS($K$5:K3416))","v":3412},{"$f":"DICTIONARY!M3440","v":"Plaster"},{"$f":"DICTIONARY!O3440","v":"लेप"},"लेप",{"$f":"DICTIONARY!P3442","v":"MEDICINES AND HOSPTALS ( औषध और चिकित्सालय संबधी)"},"लेप","लेप"]
[null,null,null,null,null,null,null,null,null,{"$f":"IF(K3417=\" \",\" \",ROWS($K$5:K3417))","v":3413},{"$f":"DICTIONARY!M3441","v":"Diet"},{"$f":"DICTIONARY!O3441","v":"पथ्य,आहार"},"पथ्य,आहार",{"$f":"DICTIONARY!P3443","v":"MEDICINES AND HOSPTALS ( औषध और चिकित्सालय संबधी)"},"पथ्य,आहार","पथ्य,आहार"]
[null,null,null,null,null,null,null,null,null,{"$f":"IF(K3418=\" \",\" \",ROWS($K$5:K3418))","v":3414},{"$f":"DICTIONARY!M3442","v":"Bryonia"},{"$f":"DICTIONARY!O3442","v":"सर्दी,खांसी नाशक"},"सर्दी,खांसी नाशक",{"$f":"DICTIONARY!P3444","v":"MEDICINES AND HOSPTALS ( औषध और चिकित्सालय संबधी)"},"सर्दी,खांसी नाशक","सर्दी,खांसी नाशक"]
[null,null,null,null,null,null,null,null,null,{"$f":"IF(K3419=\" \",\" \",ROWS($K$5:K3419))","v":3415},{"$f":"DICTIONARY!M3443","v":"Tablet"},{"$f":"DICTIONARY!O3443","v":"टिकिया"},"टिकिया",{"$f":"DICTIONARY!P3445","v":"MEDICINES AND HOSPTALS ( औषध और चिकित्सालय संबधी)"},"टिकिया","टिकिया"]
[null,null,null,null,null,null,null,null,null,{"$f":"IF(K3420=\" \",\" \",ROWS($K$5:K3420))","v":3416},{"$f":"DICTIONARY!M3444","v":"Homoeopathic Medicine"},{"$f":"DICTIONARY!O3444","v":"होम्योपेथिक दवा"},"होम्योपेथिक दवा",{"$f":"DICTIONARY!P3446","v":"MEDICINES AND HOSPTALS ( औषध और चिकित्सालय संबधी)"},"होम्योपेथिक दवा","होम्योपेथिक दवा"]
[null,null,null,null,null,null,null,null,null,{"$f":"IF(K3421=\" \",\" \",ROWS($K$5:K3421))","v":3417},{"$f":"DICTIONARY!M3445","v":"Soda-Water"},{"$f":"DICTIONARY!O3445","v":"खार मिलाया हुआ खारा पानी"},"खार मिलाया हुआ खारा पानी",{"$f":"DICTIONARY!P3447","v":"MEDICINES AND HOSPTALS ( औषध और चिकित्सालय संबधी)"},"खार मिलाया हुआ खारा पानी","खार मिलाया हुआ खारा पानी"]
[null,null,null,null,null,null,null,null,null,{"$f":"IF(K3422=\" \",\" \",ROWS($K$5:K3422))","v":3418},{"$f":"DICTIONARY!M3446","v":"Powder"},{"$f":"DICTIONARY!O3446","v":"बुकनी,चूर्ण"},"बुकनी,चूर्ण",{"$f":"DICTIONARY!P3448","v":"MEDICINES AND HOSPTALS ( औषध और चिकित्सालय संबधी)"},"बुकनी,चूर्ण","बुकनी,चूर्ण"]
[null,null,null,null,null,null,null,null,null,{"$f":"IF(K3423=\" \",\" \",ROWS($K$5:K3423))","v":3419},{"$f":"DICTIONARY!M3447","v":"Dose"},{"$f":"DICTIONARY!O3447","v":"दवा की खुराक या मात्रा"},"दवा की खुराक या मात्रा",{"$f":"DICTIONARY!P3449","v":"MEDICINES AND HOSPTALS ( औषध और चिकित्सालय संबधी)"},"दवा की खुराक या मात्रा","दवा की खुराक या मात्रा"]
[null,null,null,null,null,null,null,null,null,{"$f":"IF(K3424=\" \",\" \",ROWS($K$5:K3424))","v":3420},{"$f":"DICTIONARY!M3448","v":"Laxative"},{"$f":"DICTIONARY!O3448","v":"विरेचिक दवा,जुलाब"},"विरेचिक दवा,जुलाब",{"$f":"DICTIONARY!P3450","v":"MEDICINES AND HOSPTALS ( औषध और चिकित्सालय संबधी)"},"विरेचिक दवा,जुलाब","विरेचिक दवा,जुलाब"]
[null,null,null,null,null,null,null,null,null,{"$f":"IF(K3425=\" \",\" \",ROWS($K$5:K3425))","v":3421},{"$f":"DICTIONARY!M3449","v":"Drug"},{"$f":"DICTIONARY!O3449","v":"दवा"},"दवा",{"$f":"DICTIONARY!P3451","v":"MEDICINES AND HOSPTALS ( औषध और चिकित्सालय संबधी)"},"दवा","दवा"]
[null,null,null,null,null,null,null,null,null,{"$f":"IF(K3426=\" \",\" \",ROWS($K$5:K3426))","v":3422},{"$f":"DICTIONARY!M3450","v":"Operation"},{"$f":"DICTIONARY!O3450","v":"चीर-फाड़ करना"},"चीर-फाड़ करना",{"$f":"DICTIONARY!P3452","v":"MEDICINES AND HOSPTALS ( औषध और चिकित्सालय संबधी)"},"चीर-फाड़ करना","चीर-फाड़ करना"]
[null,null,null,null,null,null,null,null,null,{"$f":"IF(K3427=\" \",\" \",ROWS($K$5:K3427))","v":3423},{"$f":"DICTIONARY!M3451","v":"Lancet"},{"$f":"DICTIONARY!O3451","v":"नश्तर"},"नश्तर",{"$f":"DICTIONARY!P3453","v":"MEDICINES AND HOSPTALS ( औषध और चिकित्सालय संबधी)"},"नश्तर","नश्तर"]
[null,null,null,null,null,null,null,null,null,{"$f":"IF(K3428=\" \",\" \",ROWS($K$5:K3428))","v":3424},{"$f":"DICTIONARY!M3452","v":"Tincture"},{"$f":"DICTIONARY!O3452","v":"अर्क"},"अर्क",{"$f":"DICTIONARY!P3454","v":"MEDICINES AND HOSPTALS ( औषध और चिकित्सालय संबधी)"},"अर्क","अर्क"]
[null,null,null,null,null,null,null,null,null,{"$f":"IF(K3429=\" \",\" \",ROWS($K$5:K3429))","v":3425},{"$f":"DICTIONARY!M3453","v":"Emetic"},{"$f":"DICTIONARY!O3453","v":"कै कराने वाली दवा"},"कै कराने वाली दवा",{"$f":"DICTIONARY!P3455","v":"MEDICINES AND HOSPTALS ( औषध और चिकित्सालय संबधी)"},"कै कराने वाली दवा","कै कराने वाली दवा"]
[null,null,null,null,null,null,null,null,null,{"$f":"IF(K3430=\" \",\" \",ROWS($K$5:K3430))","v":3426},{"$f":"DICTIONARY!M3454","v":"Fomentation"},{"$f":"DICTIONARY!O3454","v":"सेंक"},"सेंक",{"$f":"DICTIONARY!P3456","v":"MEDICINES AND HOSPTALS ( औषध और चिकित्सालय संबधी)"},"सेंक","सेंक"]
[null,null,null,null,null,null,null,null,null,{"$f":"IF(K3431=\" \",\" \",ROWS($K$5:K3431))","v":3427},{"$f":"DICTIONARY!M3455","v":"Nux-Vomica"},{"$f":"DICTIONARY!O3455","v":"कुचला"},"कुचला",{"$f":"DICTIONARY!P3457","v":"MEDICINES AND HOSPTALS ( औषध और चिकित्सालय संबधी)"},"कुचला","कुचला"]
[null,null,null,null,null,null,null,null,null,{"$f":"IF(K3432=\" \",\" \",ROWS($K$5:K3432))","v":3428},{"$f":"DICTIONARY!M3456","v":"Tonic"},{"$f":"DICTIONARY!O3456","v":"पुष्टई,ताकत की दवा"},"पुष्टई,ताकत की दवा",{"$f":"DICTIONARY!P3458","v":"MEDICINES AND HOSPTALS ( औषध और चिकित्सालय संबधी)"},"पुष्टई,ताकत की दवा","पुष्टई,ताकत की दवा"]
[null,null,null,null,null,null,null,null,null,{"$f":"IF(K3433=\" \",\" \",ROWS($K$5:K3433))","v":3429},{"$f":"DICTIONARY!M3457","v":"Jalap"},{"$f":"DICTIONARY!O3457","v":"दस्त करना की दवा"},"दस्त करना की दवा",{"$f":"DICTIONARY!P3459","v":"MEDICINES AND HOSPTALS ( औषध और चिकित्सालय संबधी)"},"दस्त करना की दवा","दस्त करना की दवा"]
[null,null,null,null,null,null,null,null,null,{"$f":"IF(K3434=\" \",\" \",ROWS($K$5:K3434))","v":3430},{"$f":"DICTIONARY!M3458","v":"Toth Powder"},{"$f":"DICTIONARY!O3458","v":"दन्त मंजन"},"दन्त मंजन",{"$f":"DICTIONARY!P3460","v":"MEDICINES AND HOSPTALS ( औषध और चिकित्सालय संबधी)"},"दन्त मंजन","दन्त मंजन"]
[null,null,null,null,null,null,null,null,null,{"$f":"IF(K3435=\" \",\" \",ROWS($K$5:K3435))","v":3431},{"$f":"DICTIONARY!M3459","v":"Caustics"},{"$f":"DICTIONARY!O3459","v":"तेल जलाने वाली दवा"},"तेल जलाने वाली दवा",{"$f":"DICTIONARY!P3461","v":"MEDICINES AND HOSPTALS ( औषध और चिकित्सालय संबधी)"},"तेल जलाने वाली दवा","तेल जलाने वाली दवा"]
[null,null,null,null,null,null,null,null,null,{"$f":"IF(K3436=\" \",\" \",ROWS($K$5:K3436))","v":3432},{"$f":"DICTIONARY!M3460","v":"Ointment"},{"$f":"DICTIONARY!O3460","v":"मलहम"},"मलहम",{"$f":"DICTIONARY!P3462","v":"MEDICINES AND HOSPTALS ( औषध और चिकित्सालय संबधी)"},"मलहम","मलहम"]
[null,null,null,null,null,null,null,null,null,{"$f":"IF(K3437=\" \",\" \",ROWS($K$5:K3437))","v":3433},{"$f":"DICTIONARY!M3461","v":"Gargle"},{"$f":"DICTIONARY!O3461","v":"कुल्ला करने के लिए तरल औषधि"},"कुल्ला करने के लिए तरल औषधि",{"$f":"DICTIONARY!P3463","v":"MEDICINES AND HOSPTALS ( औषध और चिकित्सालय संबधी)"},"कुल्ला करने के लिए तरल औषधि","कुल्ला करने के लिए तरल औषधि"]
[null,null,null,null,null,null,null,null,null,{"$f":"IF(K3438=\" \",\" \",ROWS($K$5:K3438))","v":3434},{"$f":"DICTIONARY!M3462","v":"Purgative"},{"$f":"DICTIONARY!O3462","v":"जुलाब"},"जुलाब",{"$f":"DICTIONARY!P3464","v":"MEDICINES AND HOSPTALS ( औषध और चिकित्सालय संबधी)"},"जुलाब","जुलाब"]
[null,null,null,null,null,null,null,null,null,{"$f":"IF(K3439=\" \",\" \",ROWS($K$5:K3439))","v":3435},{"$f":"DICTIONARY!M3463","v":"Bandage"},{"$f":"DICTIONARY!O3463","v":"पट्टी,पट्टी से बांधना"},"पट्टी,पट्टी से बांधना",{"$f":"DICTIONARY!P3465","v":"MEDICINES AND HOSPTALS ( औषध और चिकित्सालय संबधी)"},"पट्टी,पट्टी से बांधना","पट्टी,पट्टी से बांधना"]
[null,null,null,null,null,null,null,null,null,{"$f":"IF(K3440=\" \",\" \",ROWS($K$5:K3440))","v":3436},{"$f":"DICTIONARY!M3464","v":"Vaccination"},{"$f":"DICTIONARY!O3464","v":"टीकाकरण"},"टीकाकरण","MEDICINES AND HOSPTALS ( औषध और चिकित्सालय संबधी)","टीकाकरण","टीकाकरण"]
[null,null,null,null,null,null,null,null,null,{"$f":"IF(K3441=\" \",\" \",ROWS($K$5:K3441))","v":3437},{"$f":"DICTIONARY!M3465","v":"Castro-Oil"},{"$f":"DICTIONARY!O3465","v":"रेंडी का तेल"},"रेंडी का तेल","MEDICINES AND HOSPTALS ( औषध और चिकित्सालय संबधी)","रेंडी का तेल","रेंडी का तेल"]
[null,null,null,null,null,null,null,null,null,{"$f":"IF(K3442=\" \",\" \",ROWS($K$5:K3442))","v":3438},{"$f":"DICTIONARY!M3466","v":"Absolute"},{"$f":"DICTIONARY!O3466","v":"पूर्ण"},"पूर्ण",{"$f":"DICTIONARY!P3468","v":"DIFFERENT IN SPELLING AND MEANING ( युग्म शब्द )"},"पूर्ण","पूर्ण"]
[null,null,null,null,null,null,null,null,null,{"$f":"IF(K3443=\" \",\" \",ROWS($K$5:K3443))","v":3439},{"$f":"DICTIONARY!M3467","v":"Obsolete"},{"$f":"DICTIONARY!O3467","v":"अप्रचलित"},"अप्रचलित",{"$f":"DICTIONARY!P3469","v":"DIFFERENT IN SPELLING AND MEANING ( युग्म शब्द )"},"अप्रचलित","अप्रचलित"]
[null,null,null,null,null,null,null,null,null,{"$f":"IF(K3444=\" \",\" \",ROWS($K$5:K3444))","v":3440},{"$f":"DICTIONARY!M3468","v":"Bail"},{"$f":"DICTIONARY!O3468","v":"जमानत"},"जमानत",{"$f":"DICTIONARY!P3470","v":"DIFFERENT IN SPELLING AND MEANING ( युग्म शब्द )"},"जमानत","जमानत"]
[null,null,null,null,null,null,null,null,null,{"$f":"IF(K3445=\" \",\" \",ROWS($K$5:K3445))","v":3441},{"$f":"DICTIONARY!M3469","v":"Bale"},{"$f":"DICTIONARY!O3469","v":"सामान का गट्ठर"},"सामान का गट्ठर",{"$f":"DICTIONARY!P3471","v":"DIFFERENT IN SPELLING AND MEANING ( युग्म शब्द )"},"सामान का गट्ठर","सामान का गट्ठर"]
[null,null,null,null,null,null,null,null,null,{"$f":"IF(K3446=\" \",\" \",ROWS($K$5:K3446))","v":3442},{"$f":"DICTIONARY!M3470","v":"Waive"},{"$f":"DICTIONARY!O3470","v":"त्यागना,छोड़ देना"},"त्यागना,छोड़ देना",{"$f":"DICTIONARY!P3472","v":"DIFFERENT IN SPELLING AND MEANING ( युग्म शब्द )"},"त्यागना,छोड़ देना","त्यागना,छोड़ देना"]
[null,null,null,null,null,null,null,null,null,{"$f":"IF(K3447=\" \",\" \",ROWS($K$5:K3447))","v":3443},{"$f":"DICTIONARY!M3471","v":"Wave"},{"$f":"DICTIONARY!O3471","v":"हिलाना-डुलाना,तरंग"},"हिलाना-डुलाना,तरंग",{"$f":"DICTIONARY!P3473","v":"DIFFERENT IN SPELLING AND MEANING ( युग्म शब्द )"},"हिलाना-डुलाना,तरंग","हिलाना-डुलाना,तरंग"]
[null,null,null,null,null,null,null,null,null,{"$f":"IF(K3448=\" \",\" \",ROWS($K$5:K3448))","v":3444},{"$f":"DICTIONARY!M3472","v":"Altar"},{"$f":"DICTIONARY!O3472","v":"वेदी"},"वेदी",{"$f":"DICTIONARY!P3474","v":"DIFFERENT IN SPELLING AND MEANING ( युग्म शब्द )"},"वेदी","वेदी"]
[null,null,null,null,null,null,null,null,null,{"$f":"IF(K3449=\" \",\" \",ROWS($K$5:K3449))","v":3445},{"$f":"DICTIONARY!M3473","v":"Alter"},{"$f":"DICTIONARY!O3473","v":"परिवर्तन करना"},"परिवर्तन करना",{"$f":"DICTIONARY!P3475","v":"DIFFERENT IN SPELLING AND MEANING ( युग्म शब्द )"},"परिवर्तन करना","परिवर्तन करना"]
[null,null,null,null,null,null,null,null,null,{"$f":"IF(K3450=\" \",\" \",ROWS($K$5:K3450))","v":3446},{"$f":"DICTIONARY!M3474","v":"Aught"},{"$f":"DICTIONARY!O3474","v":"कोई चीज़"},"कोई चीज़",{"$f":"DICTIONARY!P3476","v":"DIFFERENT IN SPELLING AND MEANING ( युग्म शब्द )"},"कोई चीज़","कोई चीज़"]
[null,null,null,null,null,null,null,null,null,{"$f":"IF(K3451=\" \",\" \",ROWS($K$5:K3451))","v":3447},{"$f":"DICTIONARY!M3475","v":"Ought"},{"$f":"DICTIONARY!O3475","v":"चाहिए"},"चाहिए",{"$f":"DICTIONARY!P3477","v":"DIFFERENT IN SPELLING AND MEANING ( युग्म शब्द )"},"चाहिए","चाहिए"]
[null,null,null,null,null,null,null,null,null,{"$f":"IF(K3452=\" \",\" \",ROWS($K$5:K3452))","v":3448},{"$f":"DICTIONARY!M3476","v":"Buy"},{"$f":"DICTIONARY!O3476","v":"मोल लेना"},"मोल लेना",{"$f":"DICTIONARY!P3478","v":"DIFFERENT IN SPELLING AND MEANING ( युग्म शब्द )"},"मोल लेना","मोल लेना"]
[null,null,null,null,null,null,null,null,null,{"$f":"IF(K3453=\" \",\" \",ROWS($K$5:K3453))","v":3449},{"$f":"DICTIONARY!M3477","v":"By"},{"$f":"DICTIONARY!O3477","v":"से,द्वारा निकट"},"से,द्वारा निकट",{"$f":"DICTIONARY!P3479","v":"DIFFERENT IN SPELLING AND MEANING ( युग्म शब्द )"},"से,द्वारा निकट","से,द्वारा निकट"]
[null,null,null,null,null,null,null,null,null,{"$f":"IF(K3454=\" \",\" \",ROWS($K$5:K3454))","v":3450},{"$f":"DICTIONARY!M3478","v":"Course"},{"$f":"DICTIONARY!O3478","v":"रास्ता,अग्रगति"},"रास्ता,अग्रगति",{"$f":"DICTIONARY!P3480","v":"DIFFERENT IN SPELLING AND MEANING ( युग्म शब्द )"},"रास्ता,अग्रगति","रास्ता,अग्रगति"]
[null,null,null,null,null,null,null,null,null,{"$f":"IF(K3455=\" \",\" \",ROWS($K$5:K3455))","v":3451},{"$f":"DICTIONARY!M3479","v":"Coarse"},{"$f":"DICTIONARY!O3479","v":"भद्दा,मोटा"},"भद्दा,मोटा",{"$f":"DICTIONARY!P3481","v":"DIFFERENT IN SPELLING AND MEANING ( युग्म शब्द )"},"भद्दा,मोटा","भद्दा,मोटा"]
[null,null,null,null,null,null,null,null,null,{"$f":"IF(K3456=\" \",\" \",ROWS($K$5:K3456))","v":3452},{"$f":"DICTIONARY!M3480","v":"Calender"},{"$f":"DICTIONARY!O3480","v":"इस्त्री"},"इस्त्री",{"$f":"DICTIONARY!P3482","v":"DIFFERENT IN SPELLING AND MEANING ( युग्म शब्द )"},"इस्त्री","इस्त्री"]
[null,null,null,null,null,null,null,null,null,{"$f":"IF(K3457=\" \",\" \",ROWS($K$5:K3457))","v":3453},{"$f":"DICTIONARY!M3481","v":"Calendar"},{"$f":"DICTIONARY!O3481","v":"पंचाग"},"पंचाग",{"$f":"DICTIONARY!P3483","v":"DIFFERENT IN SPELLING AND MEANING ( युग्म शब्द )"},"पंचाग","पंचाग"]
[null,null,null,null,null,null,null,null,null,{"$f":"IF(K3458=\" \",\" \",ROWS($K$5:K3458))","v":3454},{"$f":"DICTIONARY!M3482","v":"Cast"},{"$f":"DICTIONARY!O3482","v":"फेंकना"},"फेंकना",{"$f":"DICTIONARY!P3484","v":"DIFFERENT IN SPELLING AND MEANING ( युग्म शब्द )"},"फेंकना","फेंकना"]
[null,null,null,null,null,null,null,null,null,{"$f":"IF(K3459=\" \",\" \",ROWS($K$5:K3459))","v":3455},{"$f":"DICTIONARY!M3483","v":"Caste"},{"$f":"DICTIONARY!O3483","v":"जाति"},"जाति",{"$f":"DICTIONARY!P3485","v":"DIFFERENT IN SPELLING AND MEANING ( युग्म शब्द )"},"जाति","जाति"]
[null,null,null,null,null,null,null,null,null,{"$f":"IF(K3460=\" \",\" \",ROWS($K$5:K3460))","v":3456},{"$f":"DICTIONARY!M3484","v":"Borne"},{"$f":"DICTIONARY!O3484","v":"ले आया गया"},"ले आया गया",{"$f":"DICTIONARY!P3486","v":"DIFFERENT IN SPELLING AND MEANING ( युग्म शब्द )"},"ले आया गया","ले आया गया"]
[null,null,null,null,null,null,null,null,null,{"$f":"IF(K3461=\" \",\" \",ROWS($K$5:K3461))","v":3457},{"$f":"DICTIONARY!M3485","v":"Born"},{"$f":"DICTIONARY!O3485","v":"जना,जन्मा"},"जना,जन्मा",{"$f":"DICTIONARY!P3487","v":"DIFFERENT IN SPELLING AND MEANING ( युग्म शब्द )"},{"$f":"M3461","v":"जना,जन्मा"},{"$f":"L3461","v":"जना,जन्मा"}]
[null,null,null,null,null,null,null,null,null,{"$f":"IF(K3462=\" \",\" \",ROWS($K$5:K3462))","v":3458},{"$f":"DICTIONARY!M3486","v":"Ceiling"},{"$f":"DICTIONARY!O3486","v":"छत का नीचेका ( भीतरी ) हिस्सा"},{"$f":"L3462","v":"छत का नीचेका ( भीतरी ) हिस्सा"},{"$f":"DICTIONARY!P3488","v":"DIFFERENT IN SPELLING AND MEANING ( युग्म शब्द )"},"छत का नीचेका ( भीतरी ) हिस्सा","छत का नीचेका ( भीतरी ) हिस्सा"]
[null,null,null,null,null,null,null,null,null,{"$f":"IF(K3463=\" \",\" \",ROWS($K$5:K3463))","v":3459},{"$f":"DICTIONARY!M3487","v":"Sealing"},{"$f":"DICTIONARY!O3487","v":"मुहर से बंद किया रोकना"},"मुहर से बंद किया रोकना",{"$f":"DICTIONARY!P3489","v":"DIFFERENT IN SPELLING AND MEANING ( युग्म शब्द )"},"मुहर से बंद किया रोकना","मुहर से बंद किया रोकना"]
[null,null,null,null,null,null,null,null,null,{"$f":"IF(K3464=\" \",\" \",ROWS($K$5:K3464))","v":3460},{"$f":"DICTIONARY!M3488","v":"Cite"},{"$f":"DICTIONARY!O3488","v":"दृष्टान्त देना"},"दृष्टान्त देना",{"$f":"DICTIONARY!P3490","v":"DIFFERENT IN SPELLING AND MEANING ( युग्म शब्द )"},"दृष्टान्त देना","दृष्टान्त देना"]
[null,null,null,null,null,null,null,null,null,{"$f":"IF(K3465=\" \",\" \",ROWS($K$5:K3465))","v":3461},{"$f":"DICTIONARY!M3489","v":"Sight"},{"$f":"DICTIONARY!O3489","v":"दृष्टि,नजर"},"दृष्टि,नजर",{"$f":"DICTIONARY!P3491","v":"DIFFERENT IN SPELLING AND MEANING ( युग्म शब्द )"},"दृष्टि,नजर","दृष्टि,नजर"]
[null,null,null,null,null,null,null,null,null,{"$f":"IF(K3466=\" \",\" \",ROWS($K$5:K3466))","v":3462},{"$f":"DICTIONARY!M3490","v":"Draft"},{"$f":"DICTIONARY!O3490","v":"नक्शा"},"नक्शा",{"$f":"DICTIONARY!P3492","v":"DIFFERENT IN SPELLING AND MEANING ( युग्म शब्द )"},"नक्शा","नक्शा"]
[null,null,null,null,null,null,null,null,null,{"$f":"IF(K3467=\" \",\" \",ROWS($K$5:K3467))","v":3463},{"$f":"DICTIONARY!M3491","v":"Draught"},{"$f":"DICTIONARY!O3491","v":"खिंचाव"},"खिंचाव",{"$f":"DICTIONARY!P3493","v":"DIFFERENT IN SPELLING AND MEANING ( युग्म शब्द )"},"खिंचाव","खिंचाव"]
[null,null,null,null,null,null,null,null,null,{"$f":"IF(K3468=\" \",\" \",ROWS($K$5:K3468))","v":3464},{"$f":"DICTIONARY!M3492","v":"Compliment"},{"$f":"DICTIONARY!O3492","v":"अभिनन्दन,प्रशंसा"},"अभिनन्दन,प्रशंसा",{"$f":"DICTIONARY!P3494","v":"DIFFERENT IN SPELLING AND MEANING ( युग्म शब्द )"},"अभिनन्दन,प्रशंसा","अभिनन्दन,प्रशंसा"]
[null,null,null,null,null,null,null,null,null,{"$f":"IF(K3469=\" \",\" \",ROWS($K$5:K3469))","v":3465},{"$f":"DICTIONARY!M3493","v":"Complement"},{"$f":"DICTIONARY!O3493","v":"परिपूरक"},"परिपूरक",{"$f":"DICTIONARY!P3495","v":"DIFFERENT IN SPELLING AND MEANING ( युग्म शब्द )"},"परिपूरक","परिपूरक"]
[null,null,null,null,null,null,null,null,null,{"$f":"IF(K3470=\" \",\" \",ROWS($K$5:K3470))","v":3466},{"$f":"DICTIONARY!M3494","v":"Cemetery"},{"$f":"DICTIONARY!O3494","v":"मुर्दा गाड़ने की जगह,समाधि"},"मुर्दा गाड़ने की जगह,समाधि",{"$f":"DICTIONARY!P3496","v":"DIFFERENT IN SPELLING AND MEANING ( युग्म शब्द )"},"मुर्दा गाड़ने की जगह,समाधि","मुर्दा गाड़ने की जगह,समाधि"]
[null,null,null,null,null,null,null,null,null,{"$f":"IF(K3471=\" \",\" \",ROWS($K$5:K3471))","v":3467},{"$f":"DICTIONARY!M3495","v":"Symmetry"},{"$f":"DICTIONARY!O3495","v":"अंगो की समानता"},"अंगो की समानता",{"$f":"DICTIONARY!P3497","v":"DIFFERENT IN SPELLING AND MEANING ( युग्म शब्द )"},"अंगो की समानता","अंगो की समानता"]
[null,null,null,null,null,null,null,null,null,{"$f":"IF(K3472=\" \",\" \",ROWS($K$5:K3472))","v":3468},{"$f":"DICTIONARY!M3496","v":"Extant"},{"$f":"DICTIONARY!O3496","v":"वर्तमान"},"वर्तमान",{"$f":"DICTIONARY!P3498","v":"DIFFERENT IN SPELLING AND MEANING ( युग्म शब्द )"},"वर्तमान","वर्तमान"]
[null,null,null,null,null,null,null,null,null,{"$f":"IF(K3473=\" \",\" \",ROWS($K$5:K3473))","v":3469},{"$f":"DICTIONARY!M3497","v":"Extent"},{"$f":"DICTIONARY!O3497","v":"विस्तार"},"विस्तार",{"$f":"DICTIONARY!P3499","v":"DIFFERENT IN SPELLING AND MEANING ( युग्म शब्द )"},"विस्तार","विस्तार"]
[null,null,null,null,null,null,null,null,null,{"$f":"IF(K3474=\" \",\" \",ROWS($K$5:K3474))","v":3470},{"$f":"DICTIONARY!M3498","v":"Confidant"},{"$f":"DICTIONARY!O3498","v":"विश्वास,जिसे गुप्त बाते बताई जा सके"},"विश्वास,जिसे गुप्त बाते बताई जा सके",{"$f":"DICTIONARY!P3500","v":"DIFFERENT IN SPELLING AND MEANING ( युग्म शब्द )"},"विश्वास,जिसे गुप्त बाते बताई जा सके","विश्वास,जिसे गुप्त बाते बताई जा सके"]
[null,null,null,null,null,null,null,null,null,{"$f":"IF(K3475=\" \",\" \",ROWS($K$5:K3475))","v":3471},{"$f":"DICTIONARY!M3499","v":"Confident"},{"$f":"DICTIONARY!O3499","v":"पूरा विश्वस्त"},"पूरा विश्वस्त",{"$f":"DICTIONARY!P3501","v":"DIFFERENT IN SPELLING AND MEANING ( युग्म शब्द )"},"पूरा विश्वस्त","पूरा विश्वस्त"]
[null,null,null,null,null,null,null,null,null,{"$f":"IF(K3476=\" \",\" \",ROWS($K$5:K3476))","v":3472},{"$f":"DICTIONARY!M3500","v":"Adapt"},{"$f":"DICTIONARY!O3500","v":"दक्ष,प्रवीण"},"दक्ष,प्रवीण",{"$f":"DICTIONARY!P3502","v":"DIFFERENT IN SPELLING AND MEANING ( युग्म शब्द )"},"दक्ष,प्रवीण","दक्ष,प्रवीण"]
[null,null,null,null,null,null,null,null,null,{"$f":"IF(K3477=\" \",\" \",ROWS($K$5:K3477))","v":3473},{"$f":"DICTIONARY!M3501","v":"Adopt"},{"$f":"DICTIONARY!O3501","v":"ग्रहण करना"},"ग्रहण करना",{"$f":"DICTIONARY!P3503","v":"DIFFERENT IN SPELLING AND MEANING ( युग्म शब्द )"},"ग्रहण करना","ग्रहण करना"]
[null,null,null,null,null,null,null,null,null,{"$f":"IF(K3478=\" \",\" \",ROWS($K$5:K3478))","v":3474},{"$f":"DICTIONARY!M3502","v":"Corporal"},{"$f":"DICTIONARY!O3502","v":"शरीर सम्बन्धी,पैदल सेना का छोटा अफसर"},"शरीर सम्बन्धी,पैदल सेना का छोटा अफसर",{"$f":"DICTIONARY!P3504","v":"DIFFERENT IN SPELLING AND MEANING ( युग्म शब्द )"},"शरीर सम्बन्धी,पैदल सेना का छोटा अफसर","शरीर सम्बन्धी,पैदल सेना का छोटा अफसर"]
[null,null,null,null,null,null,null,null,null,{"$f":"IF(K3479=\" \",\" \",ROWS($K$5:K3479))","v":3475},{"$f":"DICTIONARY!M3503","v":"Corporeal"},{"$f":"DICTIONARY!O3503","v":"भैतिक,शारीरिक"},"भैतिक,शारीरिक",{"$f":"DICTIONARY!P3505","v":"DIFFERENT IN SPELLING AND MEANING ( युग्म शब्द )"},"भैतिक,शारीरिक","भैतिक,शारीरिक"]
[null,null,null,null,null,null,null,null,null,{"$f":"IF(K3480=\" \",\" \",ROWS($K$5:K3480))","v":3476},{"$f":"DICTIONARY!M3504","v":"Apposite"},{"$f":"DICTIONARY!O3504","v":"उपयोगी,योग्य"},"उपयोगी,योग्य",{"$f":"DICTIONARY!P3506","v":"DIFFERENT IN SPELLING AND MEANING ( युग्म शब्द )"},"उपयोगी,योग्य","उपयोगी,योग्य"]
[null,null,null,null,null,null,null,null,null,{"$f":"IF(K3481=\" \",\" \",ROWS($K$5:K3481))","v":3477},{"$f":"DICTIONARY!M3505","v":"Opposite"},{"$f":"DICTIONARY!O3505","v":"विपरीत,विरुध्द"},"विपरीत,विरुध्द",{"$f":"DICTIONARY!P3507","v":"DIFFERENT IN SPELLING AND MEANING ( युग्म शब्द )"},"विपरीत,विरुध्द","विपरीत,विरुध्द"]
[null,null,null,null,null,null,null,null,null,{"$f":"IF(K3482=\" \",\" \",ROWS($K$5:K3482))","v":3478},{"$f":"DICTIONARY!M3506","v":"Council"},{"$f":"DICTIONARY!O3506","v":"परिषद,मंत्रणा सभा परामर्श"},"परिषद,मंत्रणा सभा परामर्श",{"$f":"DICTIONARY!P3508","v":"DIFFERENT IN SPELLING AND MEANING ( युग्म शब्द )"},"परिषद,मंत्रणा सभा परामर्श","परिषद,मंत्रणा सभा परामर्श"]
[null,null,null,null,null,null,null,null,null,{"$f":"IF(K3483=\" \",\" \",ROWS($K$5:K3483))","v":3479},{"$f":"DICTIONARY!M3507","v":"Counsel"},{"$f":"DICTIONARY!O3507","v":"सहाल"},"सहाल",{"$f":"DICTIONARY!P3509","v":"DIFFERENT IN SPELLING AND MEANING ( युग्म शब्द )"},"सहाल","सहाल"]
[null,null,null,null,null,null,null,null,null,{"$f":"IF(K3484=\" \",\" \",ROWS($K$5:K3484))","v":3480},{"$f":"DICTIONARY!M3508","v":"Decent"},{"$f":"DICTIONARY!O3508","v":"उचित,योग्य सुन्दर"},"उचित,योग्य सुन्दर",{"$f":"DICTIONARY!P3510","v":"DIFFERENT IN SPELLING AND MEANING ( युग्म शब्द )"},"उचित,योग्य सुन्दर","उचित,योग्य सुन्दर"]
[null,null,null,null,null,null,null,null,null,{"$f":"IF(K3485=\" \",\" \",ROWS($K$5:K3485))","v":3481},{"$f":"DICTIONARY!M3509","v":"Descent"},{"$f":"DICTIONARY!O3509","v":"अधोगमन,अवरोह,पतन"},"अधोगमन,अवरोह,पतन",{"$f":"DICTIONARY!P3511","v":"DIFFERENT IN SPELLING AND MEANING ( युग्म शब्द )"},"अधोगमन,अवरोह,पतन","अधोगमन,अवरोह,पतन"]
[null,null,null,null,null,null,null,null,null,{"$f":"IF(K3486=\" \",\" \",ROWS($K$5:K3486))","v":3482},{"$f":"DICTIONARY!M3510","v":"Cheque"},{"$f":"DICTIONARY!O3510","v":"चेक,हुण्डी,रुक्का"},"चेक,हुण्डी,रुक्का",{"$f":"DICTIONARY!P3512","v":"DIFFERENT IN SPELLING AND MEANING ( युग्म शब्द )"},"चेक,हुण्डी,रुक्का","चेक,हुण्डी,रुक्का"]
[null,null,null,null,null,null,null,null,null,{"$f":"IF(K3487=\" \",\" \",ROWS($K$5:K3487))","v":3483},{"$f":"DICTIONARY!M3511","v":"Check"},{"$f":"DICTIONARY!O3511","v":"रोकना"},"रोकना",{"$f":"DICTIONARY!P3513","v":"DIFFERENT IN SPELLING AND MEANING ( युग्म शब्द )"},"रोकना","रोकना"]
[null,null,null,null,null,null,null,null,null,{"$f":"IF(K3488=\" \",\" \",ROWS($K$5:K3488))","v":3484},{"$f":"DICTIONARY!M3512","v":"Canvass"},{"$f":"DICTIONARY!O3512","v":"खोज,वोट या सम्मति"},"खोज,वोट या सम्मति",{"$f":"DICTIONARY!P3514","v":"DIFFERENT IN SPELLING AND MEANING ( युग्म शब्द )"},"खोज,वोट या सम्मति","खोज,वोट या सम्मति"]
[null,null,null,null,null,null,null,null,null,{"$f":"IF(K3489=\" \",\" \",ROWS($K$5:K3489))","v":3485},{"$f":"DICTIONARY!M3513","v":"Canvas"},{"$f":"DICTIONARY!O3513","v":"विलायती टाट,तिरपाल"},"विलायती टाट,तिरपाल",{"$f":"DICTIONARY!P3515","v":"DIFFERENT IN SPELLING AND MEANING ( युग्म शब्द )"},"विलायती टाट,तिरपाल","विलायती टाट,तिरपाल"]
[null,null,null,null,null,null,null,null,null,{"$f":"IF(K3490=\" \",\" \",ROWS($K$5:K3490))","v":3486},{"$f":"DICTIONARY!M3514","v":"Consensus"},{"$f":"DICTIONARY!O3514","v":"मतैक्य,एकमत"},"मतैक्य,एकमत",{"$f":"DICTIONARY!P3516","v":"DIFFERENT IN SPELLING AND MEANING ( युग्म शब्द )"},"मतैक्य,एकमत","मतैक्य,एकमत"]
[null,null,null,null,null,null,null,null,null,{"$f":"IF(K3491=\" \",\" \",ROWS($K$5:K3491))","v":3487},{"$f":"DICTIONARY!M3515","v":"Conscientious"},{"$f":"DICTIONARY!O3515","v":"धर्मभीरु,धर्मात्मा"},"धर्मभीरु,धर्मात्मा",{"$f":"DICTIONARY!P3517","v":"DIFFERENT IN SPELLING AND MEANING ( युग्म शब्द )"},"धर्मभीरु,धर्मात्मा","धर्मभीरु,धर्मात्मा"]
[null,null,null,null,null,null,null,null,null,{"$f":"IF(K3492=\" \",\" \",ROWS($K$5:K3492))","v":3488},{"$f":"DICTIONARY!M3516","v":"Canon"},{"$f":"DICTIONARY!O3516","v":"कानून,नियम"},"कानून,नियम",{"$f":"DICTIONARY!P3518","v":"DIFFERENT IN SPELLING AND MEANING ( युग्म शब्द )"},"कानून,नियम","कानून,नियम"]
[null,null,null,null,null,null,null,null,null,{"$f":"IF(K3493=\" \",\" \",ROWS($K$5:K3493))","v":3489},{"$f":"DICTIONARY!M3517","v":"Cannon"},{"$f":"DICTIONARY!O3517","v":"तोप,बन्दुक"},"तोप,बन्दुक",{"$f":"DICTIONARY!P3519","v":"DIFFERENT IN SPELLING AND MEANING ( युग्म शब्द )"},"तोप,बन्दुक","तोप,बन्दुक"]
[null,null,null,null,null,null,null,null,null,{"$f":"IF(K3494=\" \",\" \",ROWS($K$5:K3494))","v":3490},{"$f":"DICTIONARY!M3518","v":"Advise"},{"$f":"DICTIONARY!O3518","v":"सलाह देना"},"सलाह देना",{"$f":"DICTIONARY!P3520","v":"DIFFERENT IN SPELLING AND MEANING ( युग्म शब्द )"},"सलाह देना","सलाह देना"]
[null,null,null,null,null,null,null,null,null,{"$f":"IF(K3495=\" \",\" \",ROWS($K$5:K3495))","v":3491},{"$f":"DICTIONARY!M3519","v":"Advice"},{"$f":"DICTIONARY!O3519","v":"सलाह "},"सलाह ",{"$f":"DICTIONARY!P3521","v":"DIFFERENT IN SPELLING AND MEANING ( युग्म शब्द )"},"सलाह ","सलाह "]
[null,null,null,null,null,null,null,null,null,{"$f":"IF(K3496=\" \",\" \",ROWS($K$5:K3496))","v":3492},{"$f":"DICTIONARY!M3520","v":"Vain"},{"$f":"DICTIONARY!O3520","v":"निष्फल,व्यर्थ,घमंडी"},"निष्फल,व्यर्थ,घमंडी",{"$f":"DICTIONARY!P3522","v":"DIFFERENT IN SPELLING AND MEANING ( युग्म शब्द )"},"निष्फल,व्यर्थ,घमंडी","निष्फल,व्यर्थ,घमंडी"]
[null,null,null,null,null,null,null,null,null,{"$f":"IF(K3497=\" \",\" \",ROWS($K$5:K3497))","v":3493},{"$f":"DICTIONARY!M3521","v":"Vein"},{"$f":"DICTIONARY!O3521","v":"नस,नाडी,रँग"},"नस,नाडी,रँग",{"$f":"DICTIONARY!P3523","v":"DIFFERENT IN SPELLING AND MEANING ( युग्म शब्द )"},"नस,नाडी,रँग","नस,नाडी,रँग"]
[null,null,null,null,null,null,null,null,null,{"$f":"IF(K3498=\" \",\" \",ROWS($K$5:K3498))","v":3494},{"$f":"DICTIONARY!M3522","v":"Access"},{"$f":"DICTIONARY!O3522","v":"पहुँच,( किसी के पास )"},"पहुँच,( किसी के पास )",{"$f":"DICTIONARY!P3524","v":"DIFFERENT IN SPELLING AND MEANING ( युग्म शब्द )"},"पहुँच,( किसी के पास )","पहुँच,( किसी के पास )"]
[null,null,null,null,null,null,null,null,null,{"$f":"IF(K3499=\" \",\" \",ROWS($K$5:K3499))","v":3495},{"$f":"DICTIONARY!M3523","v":"Excess"},{"$f":"DICTIONARY!O3523","v":"अधिकता,अतिरेक"},"अधिकता,अतिरेक",{"$f":"DICTIONARY!P3525","v":"DIFFERENT IN SPELLING AND MEANING ( युग्म शब्द )"},"अधिकता,अतिरेक","अधिकता,अतिरेक"]
[null,null,null,null,null,null,null,null,null,{"$f":"IF(K3500=\" \",\" \",ROWS($K$5:K3500))","v":3496},{"$f":"DICTIONARY!M3524","v":"Affect"},{"$f":"DICTIONARY!O3524","v":"प्रभाव डालना"},"प्रभाव डालना",{"$f":"DICTIONARY!P3526","v":"DIFFERENT IN SPELLING AND MEANING ( युग्म शब्द )"},"प्रभाव डालना","प्रभाव डालना"]
[null,null,null,null,null,null,null,null,null,{"$f":"IF(K3501=\" \",\" \",ROWS($K$5:K3501))","v":3497},{"$f":"DICTIONARY!M3525","v":"Effect"},{"$f":"DICTIONARY!O3525","v":"फल"},"फल",{"$f":"DICTIONARY!P3527","v":"DIFFERENT IN SPELLING AND MEANING ( युग्म शब्द )"},"फल","फल"]
[null,null,null,null,null,null,null,null,null,{"$f":"IF(K3502=\" \",\" \",ROWS($K$5:K3502))","v":3498},{"$f":"DICTIONARY!M3526","v":"Deference"},{"$f":"DICTIONARY!O3526","v":"विलम्ब"},"विलम्ब",{"$f":"DICTIONARY!P3528","v":"DIFFERENT IN SPELLING AND MEANING ( युग्म शब्द )"},"विलम्ब","विलम्ब"]
[null,null,null,null,null,null,null,null,null,{"$f":"IF(K3503=\" \",\" \",ROWS($K$5:K3503))","v":3499},{"$f":"DICTIONARY!M3527","v":"Difference"},{"$f":"DICTIONARY!O3527","v":"भेद"},"भेद",{"$f":"DICTIONARY!P3529","v":"DIFFERENT IN SPELLING AND MEANING ( युग्म शब्द )"},"भेद","भेद"]
[null,null,null,null,null,null,null,null,null,{"$f":"IF(K3504=\" \",\" \",ROWS($K$5:K3504))","v":3500},{"$f":"DICTIONARY!M3528","v":"Dessert"},{"$f":"DICTIONARY!O3528","v":"भोजन के बाद परोसे हुए फल या मिठाई"},"भोजन के बाद परोसे हुए फल या मिठाई",{"$f":"DICTIONARY!P3530","v":"DIFFERENT IN SPELLING AND MEANING ( युग्म शब्द )"},"भोजन के बाद परोसे हुए फल या मिठाई","भोजन के बाद परोसे हुए फल या मिठाई"]
[null,null,null,null,null,null,null,null,null,{"$f":"IF(K3505=\" \",\" \",ROWS($K$5:K3505))","v":3501},{"$f":"DICTIONARY!M3529","v":"Desert"},{"$f":"DICTIONARY!O3529","v":"मरुस्थल"},"मरुस्थल",{"$f":"DICTIONARY!P3531","v":"DIFFERENT IN SPELLING AND MEANING ( युग्म शब्द )"},"मरुस्थल","मरुस्थल"]
[null,null,null,null,null,null,null,null,null,{"$f":"IF(K3506=\" \",\" \",ROWS($K$5:K3506))","v":3502},{"$f":"DICTIONARY!M3530","v":"Humane"},{"$f":"DICTIONARY!O3530","v":"दयालु"},"दयालु",{"$f":"DICTIONARY!P3532","v":"DIFFERENT IN SPELLING AND MEANING ( युग्म शब्द )"},"दयालु","दयालु"]
[null,null,null,null,null,null,null,null,null,{"$f":"IF(K3507=\" \",\" \",ROWS($K$5:K3507))","v":3503},{"$f":"DICTIONARY!M3531","v":"Human"},{"$f":"DICTIONARY!O3531","v":"मनुष्य"},"मनुष्य",{"$f":"DICTIONARY!P3533","v":"DIFFERENT IN SPELLING AND MEANING ( युग्म शब्द )"},"मनुष्य","मनुष्य"]
[null,null,null,null,null,null,null,null,null,{"$f":"IF(K3508=\" \",\" \",ROWS($K$5:K3508))","v":3504},{"$f":"DICTIONARY!M3532","v":"Diverse"},{"$f":"DICTIONARY!O3532","v":"विभिन्न विविध"},"विभिन्न विविध",{"$f":"DICTIONARY!P3534","v":"DIFFERENT IN SPELLING AND MEANING ( युग्म शब्द )"},"विभिन्न विविध","विभिन्न विविध"]
[null,null,null,null,null,null,null,null,null,{"$f":"IF(K3509=\" \",\" \",ROWS($K$5:K3509))","v":3505},{"$f":"DICTIONARY!M3533","v":"Diverge"},{"$f":"DICTIONARY!O3533","v":"भिन्न होना"},"भिन्न होना",{"$f":"DICTIONARY!P3535","v":"DIFFERENT IN SPELLING AND MEANING ( युग्म शब्द )"},"भिन्न होना","भिन्न होना"]
[null,null,null,null,null,null,null,null,null,{"$f":"IF(K3510=\" \",\" \",ROWS($K$5:K3510))","v":3506},{"$f":"DICTIONARY!M3534","v":"Idle"},{"$f":"DICTIONARY!O3534","v":"आलसी"},"आलसी",{"$f":"DICTIONARY!P3536","v":"DIFFERENT IN SPELLING AND MEANING ( युग्म शब्द )"},"आलसी","आलसी"]
[null,null,null,null,null,null,null,null,null,{"$f":"IF(K3511=\" \",\" \",ROWS($K$5:K3511))","v":3507},{"$f":"DICTIONARY!M3535","v":"Idyl"},{"$f":"DICTIONARY!O3535","v":"वर्णात्मक कविता का एक प्रकार"},"वर्णात्मक कविता का एक प्रकार",{"$f":"DICTIONARY!P3537","v":"DIFFERENT IN SPELLING AND MEANING ( युग्म शब्द )"},"वर्णात्मक कविता का एक प्रकार","वर्णात्मक कविता का एक प्रकार"]
[null,null,null,null,null,null,null,null,null,{"$f":"IF(K3512=\" \",\" \",ROWS($K$5:K3512))","v":3508},{"$f":"DICTIONARY!M3536","v":"Fare"},{"$f":"DICTIONARY!O3536","v":"खाद्य"},"खाद्य",{"$f":"DICTIONARY!P3538","v":"DIFFERENT IN SPELLING AND MEANING ( युग्म शब्द )"},"खाद्य","खाद्य"]
[null,null,null,null,null,null,null,null,null,{"$f":"IF(K3513=\" \",\" \",ROWS($K$5:K3513))","v":3509},{"$f":"DICTIONARY!M3537","v":"Fair"},{"$f":"DICTIONARY!O3537","v":"सुन्दर"},"सुन्दर",{"$f":"DICTIONARY!P3539","v":"DIFFERENT IN SPELLING AND MEANING ( युग्म शब्द )"},"सुन्दर","सुन्दर"]
[null,null,null,null,null,null,null,null,null,{"$f":"IF(K3514=\" \",\" \",ROWS($K$5:K3514))","v":3510},{"$f":"DICTIONARY!M3538","v":"Gambol"},{"$f":"DICTIONARY!O3538","v":"खेलकूद"},"खेलकूद",{"$f":"DICTIONARY!P3540","v":"DIFFERENT IN SPELLING AND MEANING ( युग्म शब्द )"},"खेलकूद","खेलकूद"]
[null,null,null,null,null,null,null,null,null,{"$f":"IF(K3515=\" \",\" \",ROWS($K$5:K3515))","v":3511},{"$f":"DICTIONARY!M3539","v":"Gamble"},{"$f":"DICTIONARY!O3539","v":"जुआ खेलना"},"जुआ खेलना",{"$f":"DICTIONARY!P3541","v":"DIFFERENT IN SPELLING AND MEANING ( युग्म शब्द )"},"जुआ खेलना","जुआ खेलना"]
[null,null,null,null,null,null,null,null,null,{"$f":"IF(K3516=\" \",\" \",ROWS($K$5:K3516))","v":3512},{"$f":"DICTIONARY!M3540","v":"Eligible"},{"$f":"DICTIONARY!O3540","v":"चुनने योग्य,ग्रहणीय"},"चुनने योग्य,ग्रहणीय",{"$f":"DICTIONARY!P3542","v":"DIFFERENT IN SPELLING AND MEANING ( युग्म शब्द )"},"चुनने योग्य,ग्रहणीय","चुनने योग्य,ग्रहणीय"]
[null,null,null,null,null,null,null,null,null,{"$f":"IF(K3517=\" \",\" \",ROWS($K$5:K3517))","v":3513},{"$f":"DICTIONARY!M3541","v":"Lllegible"},{"$f":"DICTIONARY!O3541","v":"जो पढ़ा न जा सके "},"जो पढ़ा न जा सके ",{"$f":"DICTIONARY!P3543","v":"DIFFERENT IN SPELLING AND MEANING ( युग्म शब्द )"},"जो पढ़ा न जा सके ","जो पढ़ा न जा सके "]
[null,null,null,null,null,null,null,null,null,{"$f":"IF(K3518=\" \",\" \",ROWS($K$5:K3518))","v":3514},{"$f":"DICTIONARY!M3542","v":"Exercice"},{"$f":"DICTIONARY!O3542","v":"हांक ले जाना"},"हांक ले जाना",{"$f":"DICTIONARY!P3544","v":"DIFFERENT IN SPELLING AND MEANING ( युग्म शब्द )"},"हांक ले जाना","हांक ले जाना"]
[null,null,null,null,null,null,null,null,null,{"$f":"IF(K3519=\" \",\" \",ROWS($K$5:K3519))","v":3515},{"$f":"DICTIONARY!M3543","v":"Exercise"},{"$f":"DICTIONARY!O3543","v":"व्यायाम,अभ्यास"},"व्यायाम,अभ्यास",{"$f":"DICTIONARY!P3545","v":"DIFFERENT IN SPELLING AND MEANING ( युग्म शब्द )"},"व्यायाम,अभ्यास","व्यायाम,अभ्यास"]
[null,null,null,null,null,null,null,null,null,{"$f":"IF(K3520=\" \",\" \",ROWS($K$5:K3520))","v":3516},{"$f":"DICTIONARY!M3544","v":"Mettle"},{"$f":"DICTIONARY!O3544","v":"स्वभाव,पौरुष,शूरता"},"स्वभाव,पौरुष,शूरता",{"$f":"DICTIONARY!P3546","v":"DIFFERENT IN SPELLING AND MEANING ( युग्म शब्द )"},"स्वभाव,पौरुष,शूरता","स्वभाव,पौरुष,शूरता"]
[null,null,null,null,null,null,null,null,null,{"$f":"IF(K3521=\" \",\" \",ROWS($K$5:K3521))","v":3517},{"$f":"DICTIONARY!M3545","v":" Metal"},{"$f":"DICTIONARY!O3545","v":"धातु जैसे सोना,ताँबा"},"धातु जैसे सोना,ताँबा",{"$f":"DICTIONARY!P3547","v":"DIFFERENT IN SPELLING AND MEANING ( युग्म शब्द )"},"धातु जैसे सोना,ताँबा","धातु जैसे सोना,ताँबा"]
[null,null,null,null,null,null,null,null,null,{"$f":"IF(K3522=\" \",\" \",ROWS($K$5:K3522))","v":3518},{"$f":"DICTIONARY!M3546","v":"Faint"},{"$f":"DICTIONARY!O3546","v":"धुंधला"},"धुंधला",{"$f":"DICTIONARY!P3548","v":"DIFFERENT IN SPELLING AND MEANING ( युग्म शब्द )"},"धुंधला","धुंधला"]
[null,null,null,null,null,null,null,null,null,{"$f":"IF(K3523=\" \",\" \",ROWS($K$5:K3523))","v":3519},{"$f":"DICTIONARY!M3547","v":" Soar"},{"$f":"DICTIONARY!O3547","v":"ऊँचे पर चढ़ना"},"ऊँचे पर चढ़ना",{"$f":"DICTIONARY!P3549","v":"DIFFERENT IN SPELLING AND MEANING ( युग्म शब्द )"},"ऊँचे पर चढ़ना","ऊँचे पर चढ़ना"]
[null,null,null,null,null,null,null,null,null,{"$f":"IF(K3524=\" \",\" \",ROWS($K$5:K3524))","v":3520},{"$f":"DICTIONARY!M3548","v":"Soar"},{"$f":"DICTIONARY!O3548","v":"दुःख,क्लेश"},"दुःख,क्लेश",{"$f":"DICTIONARY!P3550","v":"DIFFERENT IN SPELLING AND MEANING ( युग्म शब्द )"},"दुःख,क्लेश","दुःख,क्लेश"]
[null,null,null,null,null,null,null,null,null,{"$f":"IF(K3525=\" \",\" \",ROWS($K$5:K3525))","v":3521},{"$f":"DICTIONARY!M3549","v":"Hale"},{"$f":"DICTIONARY!O3549","v":"तंदुरुस्त"},"तंदुरुस्त",{"$f":"DICTIONARY!P3551","v":"DIFFERENT IN SPELLING AND MEANING ( युग्म शब्द )"},{"$f":"M3525","v":"तंदुरुस्त"},{"$f":"L3525","v":"तंदुरुस्त"}]
[null,null,null,null,null,null,null,null,null,{"$f":"IF(K3526=\" \",\" \",ROWS($K$5:K3526))","v":3522},{"$f":"DICTIONARY!M3550","v":"Hail"},{"$f":"DICTIONARY!O3550","v":"जय-जयकार"},{"$f":"L3526","v":"जय-जयकार"},{"$f":"DICTIONARY!P3552","v":"DIFFERENT IN SPELLING AND MEANING ( युग्म शब्द )"},"जय-जयकार","जय-जयकार"]
[null,null,null,null,null,null,null,null,null,{"$f":"IF(K3527=\" \",\" \",ROWS($K$5:K3527))","v":3523},{"$f":"DICTIONARY!M3551","v":"Meddle"},{"$f":"DICTIONARY!O3551","v":"हस्तक्षेप"},"हस्तक्षेप",{"$f":"DICTIONARY!P3553","v":"DIFFERENT IN SPELLING AND MEANING ( युग्म शब्द )"},"हस्तक्षेप","हस्तक्षेप"]
[null,null,null,null,null,null,null,null,null,{"$f":"IF(K3528=\" \",\" \",ROWS($K$5:K3528))","v":3524},{"$f":"DICTIONARY!M3552","v":"Medal"},{"$f":"DICTIONARY!O3552","v":"पदक,तगमा"},"पदक,तगमा",{"$f":"DICTIONARY!P3554","v":"DIFFERENT IN SPELLING AND MEANING ( युग्म शब्द )"},"पदक,तगमा","पदक,तगमा"]
[null,null,null,null,null,null,null,null,null,{"$f":"IF(K3529=\" \",\" \",ROWS($K$5:K3529))","v":3525},{"$f":"DICTIONARY!M3553","v":"Persued"},{"$f":"DICTIONARY!O3553","v":"पीछा किया"},"पीछा किया",{"$f":"DICTIONARY!P3555","v":"DIFFERENT IN SPELLING AND MEANING ( युग्म शब्द )"},"पीछा किया","पीछा किया"]
[null,null,null,null,null,null,null,null,null,{"$f":"IF(K3530=\" \",\" \",ROWS($K$5:K3530))","v":3526},{"$f":"DICTIONARY!M3554","v":"Hoard"},{"$f":"DICTIONARY!O3554","v":"संचय करना"},"संचय करना",{"$f":"DICTIONARY!P3556","v":"DIFFERENT IN SPELLING AND MEANING ( युग्म शब्द )"},"संचय करना","संचय करना"]
[null,null,null,null,null,null,null,null,null,{"$f":"IF(K3531=\" \",\" \",ROWS($K$5:K3531))","v":3527},{"$f":"DICTIONARY!M3555","v":"Horde"},{"$f":"DICTIONARY!O3555","v":"देश-देशांतर में फिरने वाली जाति ( खानाबदोश )"},"देश-देशांतर में फिरने वाली जाति ( खानाबदोश )",{"$f":"DICTIONARY!P3557","v":"DIFFERENT IN SPELLING AND MEANING ( युग्म शब्द )"},"देश-देशांतर में फिरने वाली जाति ( खानाबदोश )","देश-देशांतर में फिरने वाली जाति ( खानाबदोश )"]
[null,null,null,null,null,null,null,null,null,{"$f":"IF(K3532=\" \",\" \",ROWS($K$5:K3532))","v":3528},{"$f":"DICTIONARY!M3556","v":"Lead"},{"$f":"DICTIONARY!O3556","v":"सीसा,रांगा"},"सीसा,रांगा",{"$f":"DICTIONARY!P3558","v":"DIFFERENT IN SPELLING AND MEANING ( युग्म शब्द )"},"सीसा,रांगा","सीसा,रांगा"]
[null,null,null,null,null,null,null,null,null,{"$f":"IF(K3533=\" \",\" \",ROWS($K$5:K3533))","v":3529},{"$f":"DICTIONARY!M3557","v":"Led"},{"$f":"DICTIONARY!O3557","v":"चलाया था,पाठ-प्रदर्शन"},"चलाया था,पाठ-प्रदर्शन",{"$f":"DICTIONARY!P3559","v":"DIFFERENT IN SPELLING AND MEANING ( युग्म शब्द )"},"चलाया था,पाठ-प्रदर्शन","चलाया था,पाठ-प्रदर्शन"]
[null,null,null,null,null,null,null,null,null,{"$f":"IF(K3534=\" \",\" \",ROWS($K$5:K3534))","v":3530},{"$f":"DICTIONARY!M3558","v":"Personal"},{"$f":"DICTIONARY!O3558","v":"मनुष्य सम्बन्धी ,व्यक्तिगत"},"मनुष्य सम्बन्धी ,व्यक्तिगत",{"$f":"DICTIONARY!P3560","v":"DIFFERENT IN SPELLING AND MEANING ( युग्म शब्द )"},"मनुष्य सम्बन्धी ,व्यक्तिगत","मनुष्य सम्बन्धी ,व्यक्तिगत"]
[null,null,null,null,null,null,null,null,null,{"$f":"IF(K3535=\" \",\" \",ROWS($K$5:K3535))","v":3531},{"$f":"DICTIONARY!M3559","v":"Personnel"},{"$f":"DICTIONARY!O3559","v":"किसी एक कार्य में काम करने वाले"},"किसी एक कार्य में काम करने वाले",{"$f":"DICTIONARY!P3561","v":"DIFFERENT IN SPELLING AND MEANING ( युग्म शब्द )"},"किसी एक कार्य में काम करने वाले","किसी एक कार्य में काम करने वाले"]
[null,null,null,null,null,null,null,null,null,{"$f":"IF(K3536=\" \",\" \",ROWS($K$5:K3536))","v":3532},{"$f":"DICTIONARY!M3560","v":"Liar"},{"$f":"DICTIONARY!O3560","v":"मिथ्यावादी,झूठ बोलने वाला"},"मिथ्यावादी,झूठ बोलने वाला",{"$f":"DICTIONARY!P3562","v":"DIFFERENT IN SPELLING AND MEANING ( युग्म शब्द )"},"मिथ्यावादी,झूठ बोलने वाला","मिथ्यावादी,झूठ बोलने वाला"]
[null,null,null,null,null,null,null,null,null,{"$f":"IF(K3537=\" \",\" \",ROWS($K$5:K3537))","v":3533},{"$f":"DICTIONARY!M3561","v":"Lawyer"},{"$f":"DICTIONARY!O3561","v":"वकील,मुखतार,कानून जानने वाला"},"वकील,मुखतार,कानून जानने वाला",{"$f":"DICTIONARY!P3563","v":"DIFFERENT IN SPELLING AND MEANING ( युग्म शब्द )"},"वकील,मुखतार,कानून जानने वाला","वकील,मुखतार,कानून जानने वाला"]
[null,null,null,null,null,null,null,null,null,{"$f":"IF(K3538=\" \",\" \",ROWS($K$5:K3538))","v":3534},{"$f":"DICTIONARY!M3562","v":"Feign"},{"$f":"DICTIONARY!O3562","v":"बहाना करना"},"बहाना करना",{"$f":"DICTIONARY!P3564","v":"DIFFERENT IN SPELLING AND MEANING ( युग्म शब्द )"},"बहाना करना","बहाना करना"]
[null,null,null,null,null,null,null,null,null,{"$f":"IF(K3539=\" \",\" \",ROWS($K$5:K3539))","v":3535},{"$f":"DICTIONARY!M3563","v":"Lightening"},{"$f":"DICTIONARY!O3563","v":"हल्का करना"},"हल्का करना",{"$f":"DICTIONARY!P3565","v":"DIFFERENT IN SPELLING AND MEANING ( युग्म शब्द )"},"हल्का करना","हल्का करना"]
[null,null,null,null,null,null,null,null,null,{"$f":"IF(K3540=\" \",\" \",ROWS($K$5:K3540))","v":3536},{"$f":"DICTIONARY!M3564","v":"Lightning"},{"$f":"DICTIONARY!O3564","v":"आकाश की बिजली"},"आकाश की बिजली",{"$f":"DICTIONARY!P3566","v":"DIFFERENT IN SPELLING AND MEANING ( युग्म शब्द )"},"आकाश की बिजली","आकाश की बिजली"]
[null,null,null,null,null,null,null,null,null,{"$f":"IF(K3541=\" \",\" \",ROWS($K$5:K3541))","v":3537},{"$f":"DICTIONARY!M3565","v":"Immerge"},{"$f":"DICTIONARY!O3565","v":"तरल पदार्थ में डूबना"},"तरल पदार्थ में डूबना",{"$f":"DICTIONARY!P3567","v":"DIFFERENT IN SPELLING AND MEANING ( युग्म शब्द )"},"तरल पदार्थ में डूबना","तरल पदार्थ में डूबना"]
[null,null,null,null,null,null,null,null,null,{"$f":"IF(K3542=\" \",\" \",ROWS($K$5:K3542))","v":3538},{"$f":"DICTIONARY!M3566","v":"Emerge"},{"$f":"DICTIONARY!O3566","v":"प्रकट होना"},"प्रकट होना",{"$f":"DICTIONARY!P3568","v":"DIFFERENT IN SPELLING AND MEANING ( युग्म शब्द )"},"प्रकट होना","प्रकट होना"]
[null,null,null,null,null,null,null,null,null,{"$f":"IF(K3543=\" \",\" \",ROWS($K$5:K3543))","v":3539},{"$f":"DICTIONARY!M3567","v":"Main"},{"$f":"DICTIONARY!O3567","v":"प्रधान,मुख्य,महासागर"},"प्रधान,मुख्य,महासागर",{"$f":"DICTIONARY!P3569","v":"DIFFERENT IN SPELLING AND MEANING ( युग्म शब्द )"},"प्रधान,मुख्य,महासागर","प्रधान,मुख्य,महासागर"]
[null,null,null,null,null,null,null,null,null,{"$f":"IF(K3544=\" \",\" \",ROWS($K$5:K3544))","v":3540},{"$f":"DICTIONARY!M3568","v":"Mane"},{"$f":"DICTIONARY!O3568","v":"सिंह,घोड़े आदि जानवरों की गर्दन पार लम्बे बाल करना"},"सिंह,घोड़े आदि जानवरों की गर्दन पार लम्बे बाल करना",{"$f":"DICTIONARY!P3570","v":"DIFFERENT IN SPELLING AND MEANING ( युग्म शब्द )"},"सिंह,घोड़े आदि जानवरों की गर्दन पार लम्बे बाल करना","सिंह,घोड़े आदि जानवरों की गर्दन पार लम्बे बाल करना"]
[null,null,null,null,null,null,null,null,null,{"$f":"IF(K3545=\" \",\" \",ROWS($K$5:K3545))","v":3541},{"$f":"DICTIONARY!M3569","v":"Pray"},{"$f":"DICTIONARY!O3569","v":"प्राथना करना,विनती करना"},"प्राथना करना,विनती करना",{"$f":"DICTIONARY!P3571","v":"DIFFERENT IN SPELLING AND MEANING ( युग्म शब्द )"},"प्राथना करना,विनती करना","प्राथना करना,विनती करना"]
[null,null,null,null,null,null,null,null,null,{"$f":"IF(K3546=\" \",\" \",ROWS($K$5:K3546))","v":3542},{"$f":"DICTIONARY!M3570","v":"Prey"},{"$f":"DICTIONARY!O3570","v":"शिकार"},"शिकार",{"$f":"DICTIONARY!P3572","v":"DIFFERENT IN SPELLING AND MEANING ( युग्म शब्द )"},"शिकार","शिकार"]
[null,null,null,null,null,null,null,null,null,{"$f":"IF(K3547=\" \",\" \",ROWS($K$5:K3547))","v":3543},{"$f":"DICTIONARY!M3571","v":"Irruption"},{"$f":"DICTIONARY!O3571","v":"एकाकक आक्रमण,चढाई"},"एकाकक आक्रमण,चढाई",{"$f":"DICTIONARY!P3573","v":"DIFFERENT IN SPELLING AND MEANING ( युग्म शब्द )"},"एकाकक आक्रमण,चढाई","एकाकक आक्रमण,चढाई"]
[null,null,null,null,null,null,null,null,null,{"$f":"IF(K3548=\" \",\" \",ROWS($K$5:K3548))","v":3544},{"$f":"DICTIONARY!M3572","v":"Eruption"},{"$f":"DICTIONARY!O3572","v":"वेग के साथ तोड़ना ,धडाका"},"वेग के साथ तोड़ना ,धडाका",{"$f":"DICTIONARY!P3574","v":"DIFFERENT IN SPELLING AND MEANING ( युग्म शब्द )"},"वेग के साथ तोड़ना ,धडाका","वेग के साथ तोड़ना ,धडाका"]
[null,null,null,null,null,null,null,null,null,{"$f":"IF(K3549=\" \",\" \",ROWS($K$5:K3549))","v":3545},{"$f":"DICTIONARY!M3573","v":"Tail"},{"$f":"DICTIONARY!O3573","v":"पूँछ,दुम"},"पूँछ,दुम",{"$f":"DICTIONARY!P3575","v":"DIFFERENT IN SPELLING AND MEANING ( युग्म शब्द )"},"पूँछ,दुम","पूँछ,दुम"]
[null,null,null,null,null,null,null,null,null,{"$f":"IF(K3550=\" \",\" \",ROWS($K$5:K3550))","v":3546},{"$f":"DICTIONARY!M3574","v":"Tale"},{"$f":"DICTIONARY!O3574","v":"कहानी"},"कहानी",{"$f":"DICTIONARY!P3576","v":"DIFFERENT IN SPELLING AND MEANING ( युग्म शब्द )"},"कहानी","कहानी"]
[null,null,null,null,null,null,null,null,null,{"$f":"IF(K3551=\" \",\" \",ROWS($K$5:K3551))","v":3547},{"$f":"DICTIONARY!M3575","v":"Minor"},{"$f":"DICTIONARY!O3575","v":"अल्प,छोटा,तुच्छ"},"अल्प,छोटा,तुच्छ",{"$f":"DICTIONARY!P3577","v":"DIFFERENT IN SPELLING AND MEANING ( युग्म शब्द )"},"अल्प,छोटा,तुच्छ","अल्प,छोटा,तुच्छ"]
[null,null,null,null,null,null,null,null,null,{"$f":"IF(K3552=\" \",\" \",ROWS($K$5:K3552))","v":3548},{"$f":"DICTIONARY!M3576","v":"Miner"},{"$f":"DICTIONARY!O3576","v":"खान खोदने वाला"},"खान खोदने वाला",{"$f":"DICTIONARY!P3578","v":"DIFFERENT IN SPELLING AND MEANING ( युग्म शब्द )"},"खान खोदने वाला","खान खोदने वाला"]
[null,null,null,null,null,null,null,null,null,{"$f":"IF(K3553=\" \",\" \",ROWS($K$5:K3553))","v":3549},{"$f":"DICTIONARY!M3577","v":"Funereal"},{"$f":"DICTIONARY!O3577","v":"उदास,शोकमय"},"उदास,शोकमय",{"$f":"DICTIONARY!P3579","v":"DIFFERENT IN SPELLING AND MEANING ( युग्म शब्द )"},"उदास,शोकमय","उदास,शोकमय"]
[null,null,null,null,null,null,null,null,null,{"$f":"IF(K3554=\" \",\" \",ROWS($K$5:K3554))","v":3550},{"$f":"DICTIONARY!M3578","v":"Funeral"},{"$f":"DICTIONARY!O3578","v":"शव-दाह,समाधि,दफ़न"},"शव-दाह,समाधि,दफ़न",{"$f":"DICTIONARY!P3580","v":"DIFFERENT IN SPELLING AND MEANING ( युग्म शब्द )"},"शव-दाह,समाधि,दफ़न","शव-दाह,समाधि,दफ़न"]
[null,null,null,null,null,null,null,null,null,{"$f":"IF(K3555=\" \",\" \",ROWS($K$5:K3555))","v":3551},{"$f":"DICTIONARY!M3579","v":"Agent"},{"$f":"DICTIONARY!O3579","v":"दलाल"},"दलाल",{"$f":"DICTIONARY!P3581","v":"DIFFERENT IN SPELLING AND MEANING ( युग्म शब्द )"},"दलाल","दलाल"]
[null,null,null,null,null,null,null,null,null,{"$f":"IF(K3556=\" \",\" \",ROWS($K$5:K3556))","v":3552},{"$f":"DICTIONARY!M3580","v":"Sole"},{"$f":"DICTIONARY!O3580","v":"तलवा,जूते का तल्ला "},"तलवा,जूते का तल्ला ",{"$f":"DICTIONARY!P3582","v":"DIFFERENT IN SPELLING AND MEANING ( युग्म शब्द )"},"तलवा,जूते का तल्ला ","तलवा,जूते का तल्ला "]
[null,null,null,null,null,null,null,null,null,{"$f":"IF(K3557=\" \",\" \",ROWS($K$5:K3557))","v":3553},{"$f":"DICTIONARY!M3581","v":"Soul"},{"$f":"DICTIONARY!O3581","v":"आत्मा"},"आत्मा",{"$f":"DICTIONARY!P3583","v":"DIFFERENT IN SPELLING AND MEANING ( युग्म शब्द )"},"आत्मा","आत्मा"]
[null,null,null,null,null,null,null,null,null,{"$f":"IF(K3558=\" \",\" \",ROWS($K$5:K3558))","v":3554},{"$f":"DICTIONARY!M3582","v":"Lose"},{"$f":"DICTIONARY!O3582","v":"खोना,चूकना,गंवाना"},"खोना,चूकना,गंवाना",{"$f":"DICTIONARY!P3584","v":"DIFFERENT IN SPELLING AND MEANING ( युग्म शब्द )"},"खोना,चूकना,गंवाना","खोना,चूकना,गंवाना"]
[null,null,null,null,null,null,null,null,null,{"$f":"IF(K3559=\" \",\" \",ROWS($K$5:K3559))","v":3555},{"$f":"DICTIONARY!M3583","v":"Loose"},{"$f":"DICTIONARY!O3583","v":"ढीला करना ,भ्रष्ट"},"ढीला करना ,भ्रष्ट",{"$f":"DICTIONARY!P3585","v":"DIFFERENT IN SPELLING AND MEANING ( युग्म शब्द )"},"ढीला करना ,भ्रष्ट","ढीला करना ,भ्रष्ट"]
[null,null,null,null,null,null,null,null,null,{"$f":"IF(K3560=\" \",\" \",ROWS($K$5:K3560))","v":3556},{"$f":"DICTIONARY!M3584","v":"Steal"},{"$f":"DICTIONARY!O3584","v":"चुराना,चोरी करना"},"चुराना,चोरी करना",{"$f":"DICTIONARY!P3586","v":"DIFFERENT IN SPELLING AND MEANING ( युग्म शब्द )"},"चुराना,चोरी करना","चुराना,चोरी करना"]
[null,null,null,null,null,null,null,null,null,{"$f":"IF(K3561=\" \",\" \",ROWS($K$5:K3561))","v":3557},{"$f":"DICTIONARY!M3585","v":"Steel"},{"$f":"DICTIONARY!O3585","v":"फौलाद ,इस्पात"},"फौलाद ,इस्पात",{"$f":"DICTIONARY!P3587","v":"DIFFERENT IN SPELLING AND MEANING ( युग्म शब्द )"},"फौलाद ,इस्पात","फौलाद ,इस्पात"]
[null,null,null,null,null,null,null,null,null,{"$f":"IF(K3562=\" \",\" \",ROWS($K$5:K3562))","v":3558},{"$f":"DICTIONARY!M3586","v":"Peace"},{"$f":"DICTIONARY!O3586","v":"शांति"},"शांति",{"$f":"DICTIONARY!P3588","v":"DIFFERENT IN SPELLING AND MEANING ( युग्म शब्द )"},"शांति","शांति"]
[null,null,null,null,null,null,null,null,null,{"$f":"IF(K3563=\" \",\" \",ROWS($K$5:K3563))","v":3559},{"$f":"DICTIONARY!M3587","v":"Piece"},{"$f":"DICTIONARY!O3587","v":"टुकड़ा,खण्ड,अंश"},"टुकड़ा,खण्ड,अंश",{"$f":"DICTIONARY!P3589","v":"DIFFERENT IN SPELLING AND MEANING ( युग्म शब्द )"},"टुकड़ा,खण्ड,अंश","टुकड़ा,खण्ड,अंश"]
[null,null,null,null,null,null,null,null,null,{"$f":"IF(K3564=\" \",\" \",ROWS($K$5:K3564))","v":3560},{"$f":"DICTIONARY!M3588","v":"Hue"},{"$f":"DICTIONARY!O3588","v":"वर्ण,रँग,चिल्लाहट"},"वर्ण,रँग,चिल्लाहट",{"$f":"DICTIONARY!P3590","v":"DIFFERENT IN SPELLING AND MEANING ( युग्म शब्द )"},"वर्ण,रँग,चिल्लाहट","वर्ण,रँग,चिल्लाहट"]
[null,null,null,null,null,null,null,null,null,{"$f":"IF(K3565=\" \",\" \",ROWS($K$5:K3565))","v":3561},{"$f":"DICTIONARY!M3589","v":"Hew"},{"$f":"DICTIONARY!O3589","v":"कुल्हाड़ी इत्यादि से काटना"},"कुल्हाड़ी इत्यादि से काटना",{"$f":"DICTIONARY!P3591","v":"DIFFERENT IN SPELLING AND MEANING ( युग्म शब्द )"},"कुल्हाड़ी इत्यादि से काटना","कुल्हाड़ी इत्यादि से काटना"]
[null,null,null,null,null,null,null,null,null,{"$f":"IF(K3566=\" \",\" \",ROWS($K$5:K3566))","v":3562},{"$f":"DICTIONARY!M3590","v":"Physic"},{"$f":"DICTIONARY!O3590","v":"औषधि,दवा"},"औषधि,दवा",{"$f":"DICTIONARY!P3592","v":"DIFFERENT IN SPELLING AND MEANING ( युग्म शब्द )"},"औषधि,दवा","औषधि,दवा"]
[null,null,null,null,null,null,null,null,null,{"$f":"IF(K3567=\" \",\" \",ROWS($K$5:K3567))","v":3563},{"$f":"DICTIONARY!M3591","v":"Physique"},{"$f":"DICTIONARY!O3591","v":"शरीर की बनावट डील-डौल"},"शरीर की बनावट डील-डौल",{"$f":"DICTIONARY!P3593","v":"DIFFERENT IN SPELLING AND MEANING ( युग्म शब्द )"},"शरीर की बनावट डील-डौल","शरीर की बनावट डील-डौल"]
[null,null,null,null,null,null,null,null,null,{"$f":"IF(K3568=\" \",\" \",ROWS($K$5:K3568))","v":3564},{"$f":"DICTIONARY!M3592","v":"Plain"},{"$f":"DICTIONARY!O3592","v":"समतल भूमि,साधारण,सादा"},"समतल भूमि,साधारण,सादा",{"$f":"DICTIONARY!P3594","v":"DIFFERENT IN SPELLING AND MEANING ( युग्म शब्द )"},"समतल भूमि,साधारण,सादा","समतल भूमि,साधारण,सादा"]
[null,null,null,null,null,null,null,null,null,{"$f":"IF(K3569=\" \",\" \",ROWS($K$5:K3569))","v":3565},{"$f":"DICTIONARY!M3593","v":"Plane"},{"$f":"DICTIONARY!O3593","v":"धरातल,बहुधा ठोस"},"धरातल,बहुधा ठोस",{"$f":"DICTIONARY!P3595","v":"DIFFERENT IN SPELLING AND MEANING ( युग्म शब्द )"},"धरातल,बहुधा ठोस","धरातल,बहुधा ठोस"]
[null,null,null,null,null,null,null,null,null,{"$f":"IF(K3570=\" \",\" \",ROWS($K$5:K3570))","v":3566},{"$f":"DICTIONARY!M3594","v":"Pole"},{"$f":"DICTIONARY!O3594","v":"डंडा,बल्ला"},"डंडा,बल्ला",{"$f":"DICTIONARY!P3596","v":"DIFFERENT IN SPELLING AND MEANING ( युग्म शब्द )"},"डंडा,बल्ला","डंडा,बल्ला"]
[null,null,null,null,null,null,null,null,null,{"$f":"IF(K3571=\" \",\" \",ROWS($K$5:K3571))","v":3567},{"$f":"DICTIONARY!M3595","v":"Poll"},{"$f":"DICTIONARY!O3595","v":"चुनाव में मत देना ,चुनाव स्थान"},"चुनाव में मत देना ,चुनाव स्थान",{"$f":"DICTIONARY!P3597","v":"DIFFERENT IN SPELLING AND MEANING ( युग्म शब्द )"},"चुनाव में मत देना ,चुनाव स्थान","चुनाव में मत देना ,चुनाव स्थान"]
[null,null,null,null,null,null,null,null,null,{"$f":"IF(K3572=\" \",\" \",ROWS($K$5:K3572))","v":3568},{"$f":"DICTIONARY!M3596","v":"Yoke"},{"$f":"DICTIONARY!O3596","v":"जुआ जो बैलो के कंधो पर रखा जाता है"},"जुआ जो बैलो के कंधो पर रखा जाता है",{"$f":"DICTIONARY!P3598","v":"DIFFERENT IN SPELLING AND MEANING ( युग्म शब्द )"},"जुआ जो बैलो के कंधो पर रखा जाता है","जुआ जो बैलो के कंधो पर रखा जाता है"]
[null,null,null,null,null,null,null,null,null,{"$f":"IF(K3573=\" \",\" \",ROWS($K$5:K3573))","v":3569},{"$f":"DICTIONARY!M3597","v":"Yolk"},{"$f":"DICTIONARY!O3597","v":"अंडे का पीला भाग"},"अंडे का पीला भाग",{"$f":"DICTIONARY!P3599","v":"DIFFERENT IN SPELLING AND MEANING ( युग्म शब्द )"},"अंडे का पीला भाग","अंडे का पीला भाग"]
[null,null,null,null,null,null,null,null,null,{"$f":"IF(K3574=\" \",\" \",ROWS($K$5:K3574))","v":3570},{"$f":"DICTIONARY!M3598","v":"Vale"},{"$f":"DICTIONARY!O3598","v":"खड्ड,घटी,दर्रा"},"खड्ड,घटी,दर्रा",{"$f":"DICTIONARY!P3600","v":"DIFFERENT IN SPELLING AND MEANING ( युग्म शब्द )"},"खड्ड,घटी,दर्रा","खड्ड,घटी,दर्रा"]
[null,null,null,null,null,null,null,null,null,{"$f":"IF(K3575=\" \",\" \",ROWS($K$5:K3575))","v":3571},{"$f":"DICTIONARY!M3599","v":"Veil"},{"$f":"DICTIONARY!O3599","v":"घूँघट,पर्दा"},"घूँघट,पर्दा",{"$f":"DICTIONARY!P3601","v":"DIFFERENT IN SPELLING AND MEANING ( युग्म शब्द )"},"घूँघट,पर्दा","घूँघट,पर्दा"]
[null,null,null,null,null,null,null,null,null,{"$f":"IF(K3576=\" \",\" \",ROWS($K$5:K3576))","v":3572},{"$f":"DICTIONARY!M3600","v":"Oar"},{"$f":"DICTIONARY!O3600","v":"नाव खेने की डांड,पतवार"},"नाव खेने की डांड,पतवार",{"$f":"DICTIONARY!P3602","v":"DIFFERENT IN SPELLING AND MEANING ( युग्म शब्द )"},"नाव खेने की डांड,पतवार","नाव खेने की डांड,पतवार"]
[null,null,null,null,null,null,null,null,null,{"$f":"IF(K3577=\" \",\" \",ROWS($K$5:K3577))","v":3573},{"$f":"DICTIONARY!M3601","v":"Ore"},{"$f":"DICTIONARY!O3601","v":"खान से निकली हुई कच्ची धातु"},"खान से निकली हुई कच्ची धातु",{"$f":"DICTIONARY!P3603","v":"DIFFERENT IN SPELLING AND MEANING ( युग्म शब्द )"},"खान से निकली हुई कच्ची धातु","खान से निकली हुई कच्ची धातु"]
[null,null,null,null,null,null,null,null,null,{"$f":"IF(K3578=\" \",\" \",ROWS($K$5:K3578))","v":3574},{"$f":"DICTIONARY!M3602","v":"Pepper"},{"$f":"DICTIONARY!O3602","v":"गोल मिर्च,कलि मिर्च"},"गोल मिर्च,कलि मिर्च",{"$f":"DICTIONARY!P3604","v":"DIFFERENT IN SPELLING AND MEANING ( युग्म शब्द )"},"गोल मिर्च,कलि मिर्च","गोल मिर्च,कलि मिर्च"]
[null,null,null,null,null,null,null,null,null,{"$f":"IF(K3579=\" \",\" \",ROWS($K$5:K3579))","v":3575},{"$f":"DICTIONARY!M3603","v":"Paper"},{"$f":"DICTIONARY!O3603","v":"कागज,समाचार-पत्र"},"कागज,समाचार-पत्र",{"$f":"DICTIONARY!P3605","v":"DIFFERENT IN SPELLING AND MEANING ( युग्म शब्द )"},"कागज,समाचार-पत्र","कागज,समाचार-पत्र"]
[null,null,null,null,null,null,null,null,null,{"$f":"IF(K3580=\" \",\" \",ROWS($K$5:K3580))","v":3576},{"$f":"DICTIONARY!M3604","v":"Route"},{"$f":"DICTIONARY!O3604","v":"रास्ता,मार्ग"},"रास्ता,मार्ग",{"$f":"DICTIONARY!P3606","v":"DIFFERENT IN SPELLING AND MEANING ( युग्म शब्द )"},"रास्ता,मार्ग","रास्ता,मार्ग"]
[null,null,null,null,null,null,null,null,null,{"$f":"IF(K3581=\" \",\" \",ROWS($K$5:K3581))","v":3577},{"$f":"DICTIONARY!M3605","v":"Root"},{"$f":"DICTIONARY!O3605","v":"पेड़ की जड़,उत्पति का मूल"},"पेड़ की जड़,उत्पति का मूल",{"$f":"DICTIONARY!P3607","v":"DIFFERENT IN SPELLING AND MEANING ( युग्म शब्द )"},"पेड़ की जड़,उत्पति का मूल","पेड़ की जड़,उत्पति का मूल"]
[null,null,null,null,null,null,null,null,null,{"$f":"IF(K3582=\" \",\" \",ROWS($K$5:K3582))","v":3578},{"$f":"DICTIONARY!M3606","v":"Lessen"},{"$f":"DICTIONARY!O3606","v":"कम होना,कम करना"},"कम होना,कम करना",{"$f":"DICTIONARY!P3608","v":"DIFFERENT IN SPELLING AND MEANING ( युग्म शब्द )"},"कम होना,कम करना","कम होना,कम करना"]
[null,null,null,null,null,null,null,null,null,{"$f":"IF(K3583=\" \",\" \",ROWS($K$5:K3583))","v":3579},{"$f":"DICTIONARY!M3607","v":"Lesson"},{"$f":"DICTIONARY!O3607","v":"पाठ,उपदेश,शिक्षा"},"पाठ,उपदेश,शिक्षा",{"$f":"DICTIONARY!P3609","v":"DIFFERENT IN SPELLING AND MEANING ( युग्म शब्द )"},"पाठ,उपदेश,शिक्षा","पाठ,उपदेश,शिक्षा"]
[null,null,null,null,null,null,null,null,null,{"$f":"IF(K3584=\" \",\" \",ROWS($K$5:K3584))","v":3580},{"$f":"DICTIONARY!M3608","v":"Heal"},{"$f":"DICTIONARY!O3608","v":"आरोग्य करना,चंगा करना"},"आरोग्य करना,चंगा करना",{"$f":"DICTIONARY!P3610","v":"DIFFERENT IN SPELLING AND MEANING ( युग्म शब्द )"},"आरोग्य करना,चंगा करना","आरोग्य करना,चंगा करना"]
[null,null,null,null,null,null,null,null,null,{"$f":"IF(K3585=\" \",\" \",ROWS($K$5:K3585))","v":3581},{"$f":"DICTIONARY!M3609","v":"Heel"},{"$f":"DICTIONARY!O3609","v":"पैर की एडी"},"पैर की एडी",{"$f":"DICTIONARY!P3611","v":"DIFFERENT IN SPELLING AND MEANING ( युग्म शब्द )"},"पैर की एडी","पैर की एडी"]
[null,null,null,null,null,null,null,null,null,{"$f":"IF(K3586=\" \",\" \",ROWS($K$5:K3586))","v":3582},{"$f":"DICTIONARY!M3610","v":"Rote"},{"$f":"DICTIONARY!O3610","v":"अर्थ के ऊपर ध्यान ना देकर केवल आवृति"},"अर्थ के ऊपर ध्यान ना देकर केवल आवृति",{"$f":"DICTIONARY!P3612","v":"DIFFERENT IN SPELLING AND MEANING ( युग्म शब्द )"},"अर्थ के ऊपर ध्यान ना देकर केवल आवृति","अर्थ के ऊपर ध्यान ना देकर केवल आवृति"]
[null,null,null,null,null,null,null,null,null,{"$f":"IF(K3587=\" \",\" \",ROWS($K$5:K3587))","v":3583},{"$f":"DICTIONARY!M3611","v":"Wrote"},{"$f":"DICTIONARY!O3611","v":"लिखा,लिखा था"},"लिखा,लिखा था",{"$f":"DICTIONARY!P3613","v":"DIFFERENT IN SPELLING AND MEANING ( युग्म शब्द )"},"लिखा,लिखा था","लिखा,लिखा था"]
[null,null,null,null,null,null,null,null,null,{"$f":"IF(K3588=\" \",\" \",ROWS($K$5:K3588))","v":3584},{"$f":"DICTIONARY!M3612","v":"Cellar"},{"$f":"DICTIONARY!O3612","v":"तहखान,गुफा"},"तहखान,गुफा",{"$f":"DICTIONARY!P3614","v":"DIFFERENT IN SPELLING AND MEANING ( युग्म शब्द )"},"तहखान,गुफा","तहखान,गुफा"]
[null,null,null,null,null,null,null,null,null,{"$f":"IF(K3589=\" \",\" \",ROWS($K$5:K3589))","v":3585},{"$f":"DICTIONARY!M3613","v":"Seller"},{"$f":"DICTIONARY!O3613","v":"विक्रेता,बेचने वाला"},"विक्रेता,बेचने वाला",{"$f":"DICTIONARY!P3615","v":"DIFFERENT IN SPELLING AND MEANING ( युग्म शब्द )"},{"$f":"M3589","v":"विक्रेता,बेचने वाला"},{"$f":"L3589","v":"विक्रेता,बेचने वाला"}]
[null,null,null,null,null,null,null,null,null,{"$f":"IF(K3590=\" \",\" \",ROWS($K$5:K3590))","v":3586},{"$f":"DICTIONARY!M3614","v":" Stationery"},{"$f":"DICTIONARY!O3614","v":"कागज,कलम,स्याही आदि लिखने की सामग्री"},{"$f":"L3590","v":"कागज,कलम,स्याही आदि लिखने की सामग्री"},{"$f":"DICTIONARY!P3616","v":"DIFFERENT IN SPELLING AND MEANING ( युग्म शब्द )"},"कागज,कलम,स्याही आदि लिखने की सामग्री","कागज,कलम,स्याही आदि लिखने की सामग्री"]
[null,null,null,null,null,null,null,null,null,{"$f":"IF(K3591=\" \",\" \",ROWS($K$5:K3591))","v":3587},{"$f":"DICTIONARY!M3615","v":"Stationary"},{"$f":"DICTIONARY!O3615","v":"स्थिर,अचल"},"स्थिर,अचल",{"$f":"DICTIONARY!P3617","v":"DIFFERENT IN SPELLING AND MEANING ( युग्म शब्द )"},"स्थिर,अचल","स्थिर,अचल"]
[null,null,null,null,null,null,null,null,null,{"$f":"IF(K3592=\" \",\" \",ROWS($K$5:K3592))","v":3588},{"$f":"DICTIONARY!M3616","v":"Suit"},{"$f":"DICTIONARY!O3616","v":"योग्य,फिट,एक ही स्थान से बनी हुई पोशक का जोड़ा"},"योग्य,फिट,एक ही स्थान से बनी हुई पोशक का जोड़ा",{"$f":"DICTIONARY!P3618","v":"DIFFERENT IN SPELLING AND MEANING ( युग्म शब्द )"},"योग्य,फिट,एक ही स्थान से बनी हुई पोशक का जोड़ा","योग्य,फिट,एक ही स्थान से बनी हुई पोशक का जोड़ा"]
[null,null,null,null,null,null,null,null,null,{"$f":"IF(K3593=\" \",\" \",ROWS($K$5:K3593))","v":3589},{"$f":"DICTIONARY!M3617","v":"Suite"},{"$f":"DICTIONARY!O3617","v":"नौकर-चाकर,अनुचर"},"नौकर-चाकर,अनुचर",{"$f":"DICTIONARY!P3619","v":"DIFFERENT IN SPELLING AND MEANING ( युग्म शब्द )"},"नौकर-चाकर,अनुचर","नौकर-चाकर,अनुचर"]
[null,null,null,null,null,null,null,null,null,{"$f":"IF(K3594=\" \",\" \",ROWS($K$5:K3594))","v":3590},{"$f":"DICTIONARY!M3618","v":"Loath"},{"$f":"DICTIONARY!O3618","v":"अनिच्छुक,नाराज"},"अनिच्छुक,नाराज",{"$f":"DICTIONARY!P3620","v":"DIFFERENT IN SPELLING AND MEANING ( युग्म शब्द )"},"अनिच्छुक,नाराज","अनिच्छुक,नाराज"]
[null,null,null,null,null,null,null,null,null,{"$f":"IF(K3595=\" \",\" \",ROWS($K$5:K3595))","v":3591},{"$f":"DICTIONARY!M3619","v":"Loathe"},{"$f":"DICTIONARY!O3619","v":"घृणा करना"},"घृणा करना",{"$f":"DICTIONARY!P3621","v":"DIFFERENT IN SPELLING AND MEANING ( युग्म शब्द )"},"घृणा करना","घृणा करना"]
[null,null,null,null,null,null,null,null,null,{"$f":"IF(K3596=\" \",\" \",ROWS($K$5:K3596))","v":3592},{"$f":"DICTIONARY!M3620","v":"Temper"},{"$f":"DICTIONARY!O3620","v":"स्वभाव ,मिजाज"},"स्वभाव ,मिजाज",{"$f":"DICTIONARY!P3622","v":"DIFFERENT IN SPELLING AND MEANING ( युग्म शब्द )"},"स्वभाव ,मिजाज","स्वभाव ,मिजाज"]
[null,null,null,null,null,null,null,null,null,{"$f":"IF(K3597=\" \",\" \",ROWS($K$5:K3597))","v":3593},{"$f":"DICTIONARY!M3621","v":"Tamper"},{"$f":"DICTIONARY!O3621","v":"हाथ डालना,हस्तक्षेप"},"हाथ डालना,हस्तक्षेप",{"$f":"DICTIONARY!P3623","v":"DIFFERENT IN SPELLING AND MEANING ( युग्म शब्द )"},"हाथ डालना,हस्तक्षेप","हाथ डालना,हस्तक्षेप"]
[null,null,null,null,null,null,null,null,null,{"$f":"IF(K3598=\" \",\" \",ROWS($K$5:K3598))","v":3594},{"$f":"DICTIONARY!M3622","v":" Quite"},{"$f":"DICTIONARY!O3622","v":"पूर्ण रूप से"},"पूर्ण रूप से","DIFFERENT IN SPELLING AND MEANING ( युग्म शब्द )","पूर्ण रूप से","पूर्ण रूप से"]
[null,null,null,null,null,null,null,null,null,{"$f":"IF(K3599=\" \",\" \",ROWS($K$5:K3599))","v":3595},{"$f":"DICTIONARY!M3623","v":"Quite"},{"$f":"DICTIONARY!O3623","v":"शांत"},"शांत","DIFFERENT IN SPELLING AND MEANING ( युग्म शब्द )","शांत","शांत"]
[null,null,null,null,null,null,null,null,null,{"$f":"IF(K3600=\" \",\" \",ROWS($K$5:K3600))","v":3596},{"$f":"DICTIONARY!M3624","v":" A Crowd Of Men"},{"$f":"DICTIONARY!O3624","v":"जनसमूह.भीड़"},"जनसमूह.भीड़",{"$f":"DICTIONARY!P3626","v":"COLLECTION OF THINGS ( दलसूचक शब्द )"},"जनसमूह.भीड़","जनसमूह.भीड़"]
[null,null,null,null,null,null,null,null,null,{"$f":"IF(K3601=\" \",\" \",ROWS($K$5:K3601))","v":3597},{"$f":"DICTIONARY!M3625","v":"A Bunch Of Plantains"},{"$f":"DICTIONARY!O3625","v":"केले का घांद"},"केले का घांद",{"$f":"DICTIONARY!P3627","v":"COLLECTION OF THINGS ( दलसूचक शब्द )"},"केले का घांद","केले का घांद"]
[null,null,null,null,null,null,null,null,null,{"$f":"IF(K3602=\" \",\" \",ROWS($K$5:K3602))","v":3598},{"$f":"DICTIONARY!M3626","v":"A Swarm Of Flies Or Bees"},{"$f":"DICTIONARY!O3626","v":"मधुमख्खी का झुण्ड"},"मधुमख्खी का झुण्ड",{"$f":"DICTIONARY!P3628","v":"COLLECTION OF THINGS ( दलसूचक शब्द )"},"मधुमख्खी का झुण्ड","मधुमख्खी का झुण्ड"]
[null,null,null,null,null,null,null,null,null,{"$f":"IF(K3603=\" \",\" \",ROWS($K$5:K3603))","v":3599},{"$f":"DICTIONARY!M3627","v":"A Range Of Mountains"},{"$f":"DICTIONARY!O3627","v":"पर्वतश्रेणी"},"पर्वतश्रेणी",{"$f":"DICTIONARY!P3629","v":"COLLECTION OF THINGS ( दलसूचक शब्द )"},"पर्वतश्रेणी","पर्वतश्रेणी"]
[null,null,null,null,null,null,null,null,null,{"$f":"IF(K3604=\" \",\" \",ROWS($K$5:K3604))","v":3600},{"$f":"DICTIONARY!M3628","v":"A Group Of Island"},{"$f":"DICTIONARY!O3628","v":"द्वीप समूह"},"द्वीप समूह",{"$f":"DICTIONARY!P3630","v":"COLLECTION OF THINGS ( दलसूचक शब्द )"},"द्वीप समूह","द्वीप समूह"]
[null,null,null,null,null,null,null,null,null,{"$f":"IF(K3605=\" \",\" \",ROWS($K$5:K3605))","v":3601},{"$f":"DICTIONARY!M3629","v":"A Group Of Boys"},{"$f":"DICTIONARY!O3629","v":"बालक दल"},"बालक दल",{"$f":"DICTIONARY!P3631","v":"COLLECTION OF THINGS ( दलसूचक शब्द )"},"बालक दल","बालक दल"]
[null,null,null,null,null,null,null,null,null,{"$f":"IF(K3606=\" \",\" \",ROWS($K$5:K3606))","v":3602},{"$f":"DICTIONARY!M3630","v":"A Flight Of Birds"},{"$f":"DICTIONARY!O3630","v":"खग वृन्द"},"खग वृन्द",{"$f":"DICTIONARY!P3632","v":"COLLECTION OF THINGS ( दलसूचक शब्द )"},"खग वृन्द","खग वृन्द"]
[null,null,null,null,null,null,null,null,null,{"$f":"IF(K3607=\" \",\" \",ROWS($K$5:K3607))","v":3603},{"$f":"DICTIONARY!M3631","v":"A Gange Of Dacoits"},{"$f":"DICTIONARY!O3631","v":"डाकुओ का गिरोह"},"डाकुओ का गिरोह",{"$f":"DICTIONARY!P3633","v":"COLLECTION OF THINGS ( दलसूचक शब्द )"},"डाकुओ का गिरोह","डाकुओ का गिरोह"]
[null,null,null,null,null,null,null,null,null,{"$f":"IF(K3608=\" \",\" \",ROWS($K$5:K3608))","v":3604},{"$f":"DICTIONARY!M3632","v":"A Galaxy Of Stars"},{"$f":"DICTIONARY!O3632","v":"तारामंडल"},"तारामंडल",{"$f":"DICTIONARY!P3634","v":"COLLECTION OF THINGS ( दलसूचक शब्द )"},"तारामंडल","तारामंडल"]
[null,null,null,null,null,null,null,null,null,{"$f":"IF(K3609=\" \",\" \",ROWS($K$5:K3609))","v":3605},{"$f":"DICTIONARY!M3633","v":"A Herd Of Cows"},{"$f":"DICTIONARY!O3633","v":"गौवृन्द"},"गौवृन्द",{"$f":"DICTIONARY!P3635","v":"COLLECTION OF THINGS ( दलसूचक शब्द )"},"गौवृन्द","गौवृन्द"]
[null,null,null,null,null,null,null,null,null,{"$f":"IF(K3610=\" \",\" \",ROWS($K$5:K3610))","v":3606},{"$f":"DICTIONARY!M3634","v":" A Bounch Of Keys"},{"$f":"DICTIONARY!O3634","v":"चाबियों का गुच्चा"},"चाबियों का गुच्चा",{"$f":"DICTIONARY!P3636","v":"COLLECTION OF THINGS ( दलसूचक शब्द )"},"चाबियों का गुच्चा","चाबियों का गुच्चा"]
[null,null,null,null,null,null,null,null,null,{"$f":"IF(K3611=\" \",\" \",ROWS($K$5:K3611))","v":3607},{"$f":"DICTIONARY!M3635","v":"A Bundle Of Sticks"},{"$f":"DICTIONARY!O3635","v":"गठ्ठा"},"गठ्ठा",{"$f":"DICTIONARY!P3637","v":"COLLECTION OF THINGS ( दलसूचक शब्द )"},"गठ्ठा","गठ्ठा"]
[null,null,null,null,null,null,null,null,null,{"$f":"IF(K3612=\" \",\" \",ROWS($K$5:K3612))","v":3608},{"$f":"DICTIONARY!M3636","v":"A Nest Of Aunts"},{"$f":"DICTIONARY!O3636","v":"चीटियों का झुण्ड"},"चीटियों का झुण्ड",{"$f":"DICTIONARY!P3638","v":"COLLECTION OF THINGS ( दलसूचक शब्द )"},"चीटियों का झुण्ड","चीटियों का झुण्ड"]
[null,null,null,null,null,null,null,null,null,{"$f":"IF(K3613=\" \",\" \",ROWS($K$5:K3613))","v":3609},{"$f":"DICTIONARY!M3637","v":"A Flock Of Sheeps"},{"$f":"DICTIONARY!O3637","v":"भेड़ो का झुण्ड"},"भेड़ो का झुण्ड",{"$f":"DICTIONARY!P3639","v":"COLLECTION OF THINGS ( दलसूचक शब्द )"},"भेड़ो का झुण्ड","भेड़ो का झुण्ड"]
[null,null,null,null,null,null,null,null,null,{"$f":"IF(K3614=\" \",\" \",ROWS($K$5:K3614))","v":3610},{"$f":"DICTIONARY!M3638","v":"A Shoal Of Fish"},{"$f":"DICTIONARY!O3638","v":"मछलियों का झुण्ड"},"मछलियों का झुण्ड","COLLECTION OF THINGS ( दलसूचक शब्द )","मछलियों का झुण्ड","मछलियों का झुण्ड"]
[null,null,null,null,null,null,null,null,null,{"$f":"IF(K3615=\" \",\" \",ROWS($K$5:K3615))","v":3611},{"$f":"DICTIONARY!M3639","v":"A Drove Of Buffalos"},{"$f":"DICTIONARY!O3639","v":"भैंसों का झुण्ड"},"भैंसों का झुण्ड","COLLECTION OF THINGS ( दलसूचक शब्द )","भैंसों का झुण्ड","भैंसों का झुण्ड"]
[null,null,null,null,null,null,null,null,null,{"$f":"IF(K3616=\" \",\" \",ROWS($K$5:K3616))","v":3612},{"$f":"DICTIONARY!M3640","v":"A Herd Of Deers"},{"$f":"DICTIONARY!O3640","v":"हिरनों का झुण्ड"},"हिरनों का झुण्ड","COLLECTION OF THINGS ( दलसूचक शब्द )","हिरनों का झुण्ड","हिरनों का झुण्ड"]