{"text_format":"1","workbook":"xlsx","n_sheets":5,"sheets":["ENABLE MACRO","HOW TO USE","SHALA DARPAN DATA",".","letter of consent"],"not_rendered":{"charts":0,"images":4,"macros":1,"external_links":1,"defined_names":1,"comments":0,"pivot_tables":0},"unopened":[],"bounds":{"document_bytes":16777216,"sheet_cells":100000,"rows_first":2000,"rows_last":500,"rows_between":2000,"halvings":0,"cell_chars":16384,"cell_head_chars":4096},"cells_cut":0,"cells_raw":0,"read":"whole","date_system":"1900"}

{"sheet":"ENABLE MACRO","index":0,"n_rows":67,"n_cols":4,"rows_kept":67,"cut":false,"hidden":false,"merged":[[0,0,1,22],[3,0,3,22],[5,0,5,22],[44,0,45,22]]}
["Ravi Jakhar +918696666604"]
[]
[]
["Please Enable Macro "]
[]
["Macro को Enable करने के लिए जेसे ही आप सॉफ्टवेयर Open करेगे उपर एक Security Warning दिखाई देगी उसमे Options में Enable This Content करना है! "]
[]
[]
[]
[]
[]
[]
[]
[]
[]
[]
[]
[]
[]
[]
[]
[]
[]
[]
[]
[]
[]
[]
[]
[]
[]
[]
[]
[]
[]
[]
[]
[]
[]
[]
[]
[]
[]
[]
["अगर आपने Macro Enable  (Enable This Content) कर लिया है तो START पर OK करें !"]
[]
[]
[]
[]
[]
[]
[]
[]
[]
[]
[]
[]
[]
[]
[]
[]
[null,"CETOGARY",null,"TYPE"]
[null,"PRIMARY",null,"Headmaster"]
[null,"UPPER PRIMARY",null,"Headmaster"]
[null,"SECONDARY",null,"Headmaster"]
[null,"SR.SECONDARY",null,"Principal"]
[null,"select",null,"select Category"]

{"sheet":"HOW TO USE","index":1,"n_rows":39,"n_cols":22,"rows_kept":39,"cut":false,"hidden":false,"merged":[[0,24,39,24],[2,1,2,23],[3,1,3,23],[4,1,4,23],[5,1,5,23],[6,1,6,23],[7,1,7,23],[8,1,8,23],[22,1,22,6],[22,7,22,15],[22,16,22,23],[32,7,32,15],[32,16,32,23],[0,0,39,0],[0,1,1,23],[9,1,9,23],[10,1,10,23],[11,1,11,23],[12,1,12,23],[20,1,20,23],[34,1,34,23],[36,5,36,19],[38,1,39,23],[25,1,25,23],[27,1,27,6],[27,7,27,15],[27,16,27,23],[30,1,30,23],[32,1,32,6]]}
[null,"Ravi Jakhar +918696666604"]
[]
[null,"सहमति पत्र निकालने हेतु दिशा निर्देश "]
[null,"1. यह WORKBOOK केवल कम्प्युटर/लेपटॉप में ही काम करेगी !"]
[null,"2. इस WORKBOOK से सभी कक्षाओ के सहमति पत्र बड़ी आसानी से निकलेंगे !"]
[null,"3. इसमें आपको केवल शाला दर्पण से डाउनलोड मेन्यु से स्टूडेंट डिटेल डेटा को डाउनलोड करके पुरे डेटा को कोपी करके SHALA DARPAN DATA वाली नीली sheet में PASTE करना है "]
[null,"4. उसके बाद letter of consent  (लाल रंग की ) sheet में सत्र का चयन करना है !"]
[null,"5.उसके बाद letter of consent (लाल रंग की ) sheet में पीले रंग के कोलम में तीन अलग अलग विद्यार्थियों के स्कॉलर रजिस्टर न० लिखने है ! और PRINT बटन पर ok करके सभी विद्यार्थियो के सहमति पत्र प्रिंट  करने है !"]
[null,"6.प्रिंट A4 कागज पर निकलेगा !"]
[null,"7. SHALA DARPAN sheet में एक बार डेटा PASTE करने के बाद कोलम और row के साथ छेड़छाड़ नही करनी है "]
[null,"8. जिस दिनांक से आपको सहमति लेनी है उस दिनांक को letter of consent sheet में पीले रंग के दिनांक कोलम में लिखे !"]
[null,"9. किसी भी सहायता के लिए सम्पर्क करें +918696666604 "]
[]
[]
[]
[]
[]
[]
[]
[]
[null,"जिला और राज्य स्तरीय प्रतियोगिता हेतु सॉफ्टवेयर को डाउनलोड करने के लिए निचे दिए गये LINK पर OK करें "]
[]
[null,{"$f":"B28","v":"https://rajsevak.com/"},null,null,null,null,null,"https://ravijakhar7.weebly.com/",null,null,null,null,null,null,null,null,{"$f":"Q28","v":"https://rajsevak.com/"}]
[]
[]
[null,"रास्ट्रीय स्तरीय शिविर और प्रतियोगिता हेतु सॉफ्टवेयर को डाउनलोड करने के लिए निचे दिए गये LINK पर OK करें "]
[]
[null,{"$f":"B33","v":"https://rajsevak.com/"},null,null,null,null,null,"https://ravijakhar7.weebly.com/",null,null,null,null,null,null,null,null,{"$f":"B28","v":"https://rajsevak.com/"}]
[]
[]
[null,"शिक्षा विभाग से सबंधित विभिन्न प्रपत्र एव सॉफ्टवेयर को डाउनलोड करने के लिए निचे दिए गये वेबसाइट पर OK करें "]
[]
[null,{"$f":"B38","v":"https://rajsevak.com/"},null,null,null,null,null,"https://ravijakhar7.weebly.com/",null,null,null,null,null,null,null,null,{"$f":"V38","v":"https://rajsevak.com/"}]
[]
[null,"किसी भी सहायता के लिए सम्पर्क करें     RAVI JAKHAR "]
[]
[null,null,null,null,null,"+918696666604"]
[null,{"$f":"B39","v":"https://rajsevak.com/"},null,null,null,null,null,null,null,null,null,{"$f":"H33","v":"https://ravijakhar7.weebly.com/"},null,null,null,null,null,null,null,null,null,{"$f":"B38","v":"https://rajsevak.com/"}]
[null,"https://rajsevak.com/"]

{"sheet":"SHALA DARPAN DATA","index":2,"n_rows":0,"n_cols":0,"rows_kept":0,"cut":false,"hidden":false,"merged":[]}

{"sheet":".","index":3,"n_rows":5000,"n_cols":26,"rows_kept":2250,"cut":true,"hidden":true,"merged":[],"bounds":{"rows_first":1000,"rows_last":250,"rows_between":1000,"halvings":1}}
[{"$f":"'SHALA DARPAN DATA'!C1","v":0},{"$f":"'SHALA DARPAN DATA'!A1","v":0},{"$f":"'SHALA DARPAN DATA'!B1","v":0},{"$f":"'SHALA DARPAN DATA'!D1","v":0},{"$f":"'SHALA DARPAN DATA'!J1","v":0},{"$f":"'SHALA DARPAN DATA'!T1","v":0},{"$f":"'SHALA DARPAN DATA'!V1","v":0},{"$f":"'SHALA DARPAN DATA'!K1","v":0},{"$f":"'SHALA DARPAN DATA'!E1","v":0},{"$f":"'SHALA DARPAN DATA'!G1","v":0},{"$f":"'SHALA DARPAN DATA'!H1","v":0},{"$f":"'SHALA DARPAN DATA'!W1","v":0},{"$f":"'SHALA DARPAN DATA'!R1","v":0},{"$f":"'SHALA DARPAN DATA'!S1","v":0},{"$f":"'SHALA DARPAN DATA'!O1","v":0},0,0,0,0,0,0,0,0,0,0,0]
[{"$f":"'SHALA DARPAN DATA'!C2","v":0},{"$f":"'SHALA DARPAN DATA'!A2","v":0},{"$f":"'SHALA DARPAN DATA'!B2","v":0},{"$f":"'SHALA DARPAN DATA'!D2","v":0},{"$f":"'SHALA DARPAN DATA'!J2","v":0},{"$f":"'SHALA DARPAN DATA'!T2","v":0},{"$f":"'SHALA DARPAN DATA'!V2","v":0},{"$f":"'SHALA DARPAN DATA'!K2","v":0},{"$f":"'SHALA DARPAN DATA'!E2","v":0},{"$f":"'SHALA DARPAN DATA'!G2","v":0},{"$f":"'SHALA DARPAN DATA'!H2","v":0},{"$f":"'SHALA DARPAN DATA'!W2","v":0},{"$f":"'SHALA DARPAN DATA'!R2","v":0},{"$f":"'SHALA DARPAN DATA'!S2","v":0},{"$f":"'SHALA DARPAN DATA'!O2","v":0},0,0,0,0,0,0,0,0,0,0,0]
[{"$f":"'SHALA DARPAN DATA'!C3","v":0},{"$f":"'SHALA DARPAN DATA'!A3","v":0},{"$f":"'SHALA DARPAN DATA'!B3","v":0},{"$f":"'SHALA DARPAN DATA'!D3","v":0},{"$f":"'SHALA DARPAN DATA'!J3","v":0},{"$f":"'SHALA DARPAN DATA'!T3","v":0},{"$f":"'SHALA DARPAN DATA'!V3","v":0},{"$f":"'SHALA DARPAN DATA'!K3","v":0},{"$f":"'SHALA DARPAN DATA'!E3","v":0},{"$f":"'SHALA DARPAN DATA'!G3","v":0},{"$f":"'SHALA DARPAN DATA'!H3","v":0},{"$f":"'SHALA DARPAN DATA'!W3","v":0},{"$f":"'SHALA DARPAN DATA'!R3","v":0},{"$f":"'SHALA DARPAN DATA'!S3","v":0},{"$f":"'SHALA DARPAN DATA'!O3","v":0},0,0,0,0,0,0,0,0,0,0,0]
[{"$f":"'SHALA DARPAN DATA'!C4","v":0},{"$f":"'SHALA DARPAN DATA'!A4","v":0},{"$f":"'SHALA DARPAN DATA'!B4","v":0},{"$f":"'SHALA DARPAN DATA'!D4","v":0},{"$f":"'SHALA DARPAN DATA'!J4","v":0},{"$f":"'SHALA DARPAN DATA'!T4","v":0},{"$f":"'SHALA DARPAN DATA'!V4","v":0},{"$f":"'SHALA DARPAN DATA'!K4","v":0},{"$f":"'SHALA DARPAN DATA'!E4","v":0},{"$f":"'SHALA DARPAN DATA'!G4","v":0},{"$f":"'SHALA DARPAN DATA'!H4","v":0},{"$f":"'SHALA DARPAN DATA'!W4","v":0},{"$f":"'SHALA DARPAN DATA'!R4","v":0},{"$f":"'SHALA DARPAN DATA'!S4","v":0},{"$f":"'SHALA DARPAN DATA'!O4","v":0},0,0,0,0,0,0,0,0,0,0,0]
[{"$f":"'SHALA DARPAN DATA'!C5","v":0},{"$f":"'SHALA DARPAN DATA'!A5","v":0},{"$f":"'SHALA DARPAN DATA'!B5","v":0},{"$f":"'SHALA DARPAN DATA'!D5","v":0},{"$f":"'SHALA DARPAN DATA'!J5","v":0},{"$f":"'SHALA DARPAN DATA'!T5","v":0},{"$f":"'SHALA DARPAN DATA'!V5","v":0},{"$f":"'SHALA DARPAN DATA'!K5","v":0},{"$f":"'SHALA DARPAN DATA'!E5","v":0},{"$f":"'SHALA DARPAN DATA'!G5","v":0},{"$f":"'SHALA DARPAN DATA'!H5","v":0},{"$f":"'SHALA DARPAN DATA'!W5","v":0},{"$f":"'SHALA DARPAN DATA'!R5","v":0},{"$f":"'SHALA DARPAN DATA'!S5","v":0},{"$f":"'SHALA DARPAN DATA'!O5","v":0},0,0,0,0,0,0,0,0,0,0,0]
[{"$f":"'SHALA DARPAN DATA'!C6","v":0},{"$f":"'SHALA DARPAN DATA'!A6","v":0},{"$f":"'SHALA DARPAN DATA'!B6","v":0},{"$f":"'SHALA DARPAN DATA'!D6","v":0},{"$f":"'SHALA DARPAN DATA'!J6","v":0},{"$f":"'SHALA DARPAN DATA'!T6","v":0},{"$f":"'SHALA DARPAN DATA'!V6","v":0},{"$f":"'SHALA DARPAN DATA'!K6","v":0},{"$f":"'SHALA DARPAN DATA'!E6","v":0},{"$f":"'SHALA DARPAN DATA'!G6","v":0},{"$f":"'SHALA DARPAN DATA'!H6","v":0},{"$f":"'SHALA DARPAN DATA'!W6","v":0},{"$f":"'SHALA DARPAN DATA'!R6","v":0},{"$f":"'SHALA DARPAN DATA'!S6","v":0},{"$f":"'SHALA DARPAN DATA'!O6","v":0},0,0,0,0,0,0,0,0,0,0,0]
[{"$f":"'SHALA DARPAN DATA'!C7","v":0},{"$f":"'SHALA DARPAN DATA'!A7","v":0},{"$f":"'SHALA DARPAN DATA'!B7","v":0},{"$f":"'SHALA DARPAN DATA'!D7","v":0},{"$f":"'SHALA DARPAN DATA'!J7","v":0},{"$f":"'SHALA DARPAN DATA'!T7","v":0},{"$f":"'SHALA DARPAN DATA'!V7","v":0},{"$f":"'SHALA DARPAN DATA'!K7","v":0},{"$f":"'SHALA DARPAN DATA'!E7","v":0},{"$f":"'SHALA DARPAN DATA'!G7","v":0},{"$f":"'SHALA DARPAN DATA'!H7","v":0},{"$f":"'SHALA DARPAN DATA'!W7","v":0},{"$f":"'SHALA DARPAN DATA'!R7","v":0},{"$f":"'SHALA DARPAN DATA'!S7","v":0},{"$f":"'SHALA DARPAN DATA'!O7","v":0},0,0,0,0,0,0,0,0,0,0,0]
[{"$f":"'SHALA DARPAN DATA'!C8","v":0},{"$f":"'SHALA DARPAN DATA'!A8","v":0},{"$f":"'SHALA DARPAN DATA'!B8","v":0},{"$f":"'SHALA DARPAN DATA'!D8","v":0},{"$f":"'SHALA DARPAN DATA'!J8","v":0},{"$f":"'SHALA DARPAN DATA'!T8","v":0},{"$f":"'SHALA DARPAN DATA'!V8","v":0},{"$f":"'SHALA DARPAN DATA'!K8","v":0},{"$f":"'SHALA DARPAN DATA'!E8","v":0},{"$f":"'SHALA DARPAN DATA'!G8","v":0},{"$f":"'SHALA DARPAN DATA'!H8","v":0},{"$f":"'SHALA DARPAN DATA'!W8","v":0},{"$f":"'SHALA DARPAN DATA'!R8","v":0},{"$f":"'SHALA DARPAN DATA'!S8","v":0},{"$f":"'SHALA DARPAN DATA'!O8","v":0},0,0,0,0,0,0,0,0,0,0,0]
[{"$f":"'SHALA DARPAN DATA'!C9","v":0},{"$f":"'SHALA DARPAN DATA'!A9","v":0},{"$f":"'SHALA DARPAN DATA'!B9","v":0},{"$f":"'SHALA DARPAN DATA'!D9","v":0},{"$f":"'SHALA DARPAN DATA'!J9","v":0},{"$f":"'SHALA DARPAN DATA'!T9","v":0},{"$f":"'SHALA DARPAN DATA'!V9","v":0},{"$f":"'SHALA DARPAN DATA'!K9","v":0},{"$f":"'SHALA DARPAN DATA'!E9","v":0},{"$f":"'SHALA DARPAN DATA'!G9","v":0},{"$f":"'SHALA DARPAN DATA'!H9","v":0},{"$f":"'SHALA DARPAN DATA'!W9","v":0},{"$f":"'SHALA DARPAN DATA'!R9","v":0},{"$f":"'SHALA DARPAN DATA'!S9","v":0},{"$f":"'SHALA DARPAN DATA'!O9","v":0},0,0,0,0,0,0,0,0,0,0,0]
[{"$f":"'SHALA DARPAN DATA'!C10","v":0},{"$f":"'SHALA DARPAN DATA'!A10","v":0},{"$f":"'SHALA DARPAN DATA'!B10","v":0},{"$f":"'SHALA DARPAN DATA'!D10","v":0},{"$f":"'SHALA DARPAN DATA'!J10","v":0},{"$f":"'SHALA DARPAN DATA'!T10","v":0},{"$f":"'SHALA DARPAN DATA'!V10","v":0},{"$f":"'SHALA DARPAN DATA'!K10","v":0},{"$f":"'SHALA DARPAN DATA'!E10","v":0},{"$f":"'SHALA DARPAN DATA'!G10","v":0},{"$f":"'SHALA DARPAN DATA'!H10","v":0},{"$f":"'SHALA DARPAN DATA'!W10","v":0},{"$f":"'SHALA DARPAN DATA'!R10","v":0},{"$f":"'SHALA DARPAN DATA'!S10","v":0},{"$f":"'SHALA DARPAN DATA'!O10","v":0},0,0,0,0,0,0,0,0,0,0,0]
[{"$f":"'SHALA DARPAN DATA'!C11","v":0},{"$f":"'SHALA DARPAN DATA'!A11","v":0},{"$f":"'SHALA DARPAN DATA'!B11","v":0},{"$f":"'SHALA DARPAN DATA'!D11","v":0},{"$f":"'SHALA DARPAN DATA'!J11","v":0},{"$f":"'SHALA DARPAN DATA'!T11","v":0},{"$f":"'SHALA DARPAN DATA'!V11","v":0},{"$f":"'SHALA DARPAN DATA'!K11","v":0},{"$f":"'SHALA DARPAN DATA'!E11","v":0},{"$f":"'SHALA DARPAN DATA'!G11","v":0},{"$f":"'SHALA DARPAN DATA'!H11","v":0},{"$f":"'SHALA DARPAN DATA'!W11","v":0},{"$f":"'SHALA DARPAN DATA'!R11","v":0},{"$f":"'SHALA DARPAN DATA'!S11","v":0},{"$f":"'SHALA DARPAN DATA'!O11","v":0},0,0,0,0,0,0,0,0,0,0,0]
[{"$f":"'SHALA DARPAN DATA'!C12","v":0},{"$f":"'SHALA DARPAN DATA'!A12","v":0},{"$f":"'SHALA DARPAN DATA'!B12","v":0},{"$f":"'SHALA DARPAN DATA'!D12","v":0},{"$f":"'SHALA DARPAN DATA'!J12","v":0},{"$f":"'SHALA DARPAN DATA'!T12","v":0},{"$f":"'SHALA DARPAN DATA'!V12","v":0},{"$f":"'SHALA DARPAN DATA'!K12","v":0},{"$f":"'SHALA DARPAN DATA'!E12","v":0},{"$f":"'SHALA DARPAN DATA'!G12","v":0},{"$f":"'SHALA DARPAN DATA'!H12","v":0},{"$f":"'SHALA DARPAN DATA'!W12","v":0},{"$f":"'SHALA DARPAN DATA'!R12","v":0},{"$f":"'SHALA DARPAN DATA'!S12","v":0},{"$f":"'SHALA DARPAN DATA'!O12","v":0},0,0,0,0,0,0,0,0,0,0,0]
[{"$f":"'SHALA DARPAN DATA'!C13","v":0},{"$f":"'SHALA DARPAN DATA'!A13","v":0},{"$f":"'SHALA DARPAN DATA'!B13","v":0},{"$f":"'SHALA DARPAN DATA'!D13","v":0},{"$f":"'SHALA DARPAN DATA'!J13","v":0},{"$f":"'SHALA DARPAN DATA'!T13","v":0},{"$f":"'SHALA DARPAN DATA'!V13","v":0},{"$f":"'SHALA DARPAN DATA'!K13","v":0},{"$f":"'SHALA DARPAN DATA'!E13","v":0},{"$f":"'SHALA DARPAN DATA'!G13","v":0},{"$f":"'SHALA DARPAN DATA'!H13","v":0},{"$f":"'SHALA DARPAN DATA'!W13","v":0},{"$f":"'SHALA DARPAN DATA'!R13","v":0},{"$f":"'SHALA DARPAN DATA'!S13","v":0},{"$f":"'SHALA DARPAN DATA'!O13","v":0},0,0,0,0,0,0,0,0,0,0,0]
[{"$f":"'SHALA DARPAN DATA'!C14","v":0},{"$f":"'SHALA DARPAN DATA'!A14","v":0},{"$f":"'SHALA DARPAN DATA'!B14","v":0},{"$f":"'SHALA DARPAN DATA'!D14","v":0},{"$f":"'SHALA DARPAN DATA'!J14","v":0},{"$f":"'SHALA DARPAN DATA'!T14","v":0},{"$f":"'SHALA DARPAN DATA'!V14","v":0},{"$f":"'SHALA DARPAN DATA'!K14","v":0},{"$f":"'SHALA DARPAN DATA'!E14","v":0},{"$f":"'SHALA DARPAN DATA'!G14","v":0},{"$f":"'SHALA DARPAN DATA'!H14","v":0},{"$f":"'SHALA DARPAN DATA'!W14","v":0},{"$f":"'SHALA DARPAN DATA'!R14","v":0},{"$f":"'SHALA DARPAN DATA'!S14","v":0},{"$f":"'SHALA DARPAN DATA'!O14","v":0},0,0,0,0,0,0,0,0,0,0,0]
[{"$f":"'SHALA DARPAN DATA'!C15","v":0},{"$f":"'SHALA DARPAN DATA'!A15","v":0},{"$f":"'SHALA DARPAN DATA'!B15","v":0},{"$f":"'SHALA DARPAN DATA'!D15","v":0},{"$f":"'SHALA DARPAN DATA'!J15","v":0},{"$f":"'SHALA DARPAN DATA'!T15","v":0},{"$f":"'SHALA DARPAN DATA'!V15","v":0},{"$f":"'SHALA DARPAN DATA'!K15","v":0},{"$f":"'SHALA DARPAN DATA'!E15","v":0},{"$f":"'SHALA DARPAN DATA'!G15","v":0},{"$f":"'SHALA DARPAN DATA'!H15","v":0},{"$f":"'SHALA DARPAN DATA'!W15","v":0},{"$f":"'SHALA DARPAN DATA'!R15","v":0},{"$f":"'SHALA DARPAN DATA'!S15","v":0},{"$f":"'SHALA DARPAN DATA'!O15","v":0},0,0,0,0,0,0,0,0,0,0,0]
[{"$f":"'SHALA DARPAN DATA'!C16","v":0},{"$f":"'SHALA DARPAN DATA'!A16","v":0},{"$f":"'SHALA DARPAN DATA'!B16","v":0},{"$f":"'SHALA DARPAN DATA'!D16","v":0},{"$f":"'SHALA DARPAN DATA'!J16","v":0},{"$f":"'SHALA DARPAN DATA'!T16","v":0},{"$f":"'SHALA DARPAN DATA'!V16","v":0},{"$f":"'SHALA DARPAN DATA'!K16","v":0},{"$f":"'SHALA DARPAN DATA'!E16","v":0},{"$f":"'SHALA DARPAN DATA'!G16","v":0},{"$f":"'SHALA DARPAN DATA'!H16","v":0},{"$f":"'SHALA DARPAN DATA'!W16","v":0},{"$f":"'SHALA DARPAN DATA'!R16","v":0},{"$f":"'SHALA DARPAN DATA'!S16","v":0},{"$f":"'SHALA DARPAN DATA'!O16","v":0},0,0,0,0,0,0,0,0,0,0,0]
[{"$f":"'SHALA DARPAN DATA'!C17","v":0},{"$f":"'SHALA DARPAN DATA'!A17","v":0},{"$f":"'SHALA DARPAN DATA'!B17","v":0},{"$f":"'SHALA DARPAN DATA'!D17","v":0},{"$f":"'SHALA DARPAN DATA'!J17","v":0},{"$f":"'SHALA DARPAN DATA'!T17","v":0},{"$f":"'SHALA DARPAN DATA'!V17","v":0},{"$f":"'SHALA DARPAN DATA'!K17","v":0},{"$f":"'SHALA DARPAN DATA'!E17","v":0},{"$f":"'SHALA DARPAN DATA'!G17","v":0},{"$f":"'SHALA DARPAN DATA'!H17","v":0},{"$f":"'SHALA DARPAN DATA'!W17","v":0},{"$f":"'SHALA DARPAN DATA'!R17","v":0},{"$f":"'SHALA DARPAN DATA'!S17","v":0},{"$f":"'SHALA DARPAN DATA'!O17","v":0},0,0,0,0,0,0,0,0,0,0,0]
[{"$f":"'SHALA DARPAN DATA'!C18","v":0},{"$f":"'SHALA DARPAN DATA'!A18","v":0},{"$f":"'SHALA DARPAN DATA'!B18","v":0},{"$f":"'SHALA DARPAN DATA'!D18","v":0},{"$f":"'SHALA DARPAN DATA'!J18","v":0},{"$f":"'SHALA DARPAN DATA'!T18","v":0},{"$f":"'SHALA DARPAN DATA'!V18","v":0},{"$f":"'SHALA DARPAN DATA'!K18","v":0},{"$f":"'SHALA DARPAN DATA'!E18","v":0},{"$f":"'SHALA DARPAN DATA'!G18","v":0},{"$f":"'SHALA DARPAN DATA'!H18","v":0},{"$f":"'SHALA DARPAN DATA'!W18","v":0},{"$f":"'SHALA DARPAN DATA'!R18","v":0},{"$f":"'SHALA DARPAN DATA'!S18","v":0},{"$f":"'SHALA DARPAN DATA'!O18","v":0},0,0,0,0,0,0,0,0,0,0,0]
[{"$f":"'SHALA DARPAN DATA'!C19","v":0},{"$f":"'SHALA DARPAN DATA'!A19","v":0},{"$f":"'SHALA DARPAN DATA'!B19","v":0},{"$f":"'SHALA DARPAN DATA'!D19","v":0},{"$f":"'SHALA DARPAN DATA'!J19","v":0},{"$f":"'SHALA DARPAN DATA'!T19","v":0},{"$f":"'SHALA DARPAN DATA'!V19","v":0},{"$f":"'SHALA DARPAN DATA'!K19","v":0},{"$f":"'SHALA DARPAN DATA'!E19","v":0},{"$f":"'SHALA DARPAN DATA'!G19","v":0},{"$f":"'SHALA DARPAN DATA'!H19","v":0},{"$f":"'SHALA DARPAN DATA'!W19","v":0},{"$f":"'SHALA DARPAN DATA'!R19","v":0},{"$f":"'SHALA DARPAN DATA'!S19","v":0},{"$f":"'SHALA DARPAN DATA'!O19","v":0},0,0,0,0,0,0,0,0,0,0,0]
[{"$f":"'SHALA DARPAN DATA'!C20","v":0},{"$f":"'SHALA DARPAN DATA'!A20","v":0},{"$f":"'SHALA DARPAN DATA'!B20","v":0},{"$f":"'SHALA DARPAN DATA'!D20","v":0},{"$f":"'SHALA DARPAN DATA'!J20","v":0},{"$f":"'SHALA DARPAN DATA'!T20","v":0},{"$f":"'SHALA DARPAN DATA'!V20","v":0},{"$f":"'SHALA DARPAN DATA'!K20","v":0},{"$f":"'SHALA DARPAN DATA'!E20","v":0},{"$f":"'SHALA DARPAN DATA'!G20","v":0},{"$f":"'SHALA DARPAN DATA'!H20","v":0},{"$f":"'SHALA DARPAN DATA'!W20","v":0},{"$f":"'SHALA DARPAN DATA'!R20","v":0},{"$f":"'SHALA DARPAN DATA'!S20","v":0},{"$f":"'SHALA DARPAN DATA'!O20","v":0},0,0,0,0,0,0,0,0,0,0,0]
[{"$f":"'SHALA DARPAN DATA'!C21","v":0},{"$f":"'SHALA DARPAN DATA'!A21","v":0},{"$f":"'SHALA DARPAN DATA'!B21","v":0},{"$f":"'SHALA DARPAN DATA'!D21","v":0},{"$f":"'SHALA DARPAN DATA'!J21","v":0},{"$f":"'SHALA DARPAN DATA'!T21","v":0},{"$f":"'SHALA DARPAN DATA'!V21","v":0},{"$f":"'SHALA DARPAN DATA'!K21","v":0},{"$f":"'SHALA DARPAN DATA'!E21","v":0},{"$f":"'SHALA DARPAN DATA'!G21","v":0},{"$f":"'SHALA DARPAN DATA'!H21","v":0},{"$f":"'SHALA DARPAN DATA'!W21","v":0},{"$f":"'SHALA DARPAN DATA'!R21","v":0},{"$f":"'SHALA DARPAN DATA'!S21","v":0},{"$f":"'SHALA DARPAN DATA'!O21","v":0},0,0,0,0,0,0,0,0,0,0,0]
[{"$f":"'SHALA DARPAN DATA'!C22","v":0},{"$f":"'SHALA DARPAN DATA'!A22","v":0},{"$f":"'SHALA DARPAN DATA'!B22","v":0},{"$f":"'SHALA DARPAN DATA'!D22","v":0},{"$f":"'SHALA DARPAN DATA'!J22","v":0},{"$f":"'SHALA DARPAN DATA'!T22","v":0},{"$f":"'SHALA DARPAN DATA'!V22","v":0},{"$f":"'SHALA DARPAN DATA'!K22","v":0},{"$f":"'SHALA DARPAN DATA'!E22","v":0},{"$f":"'SHALA DARPAN DATA'!G22","v":0},{"$f":"'SHALA DARPAN DATA'!H22","v":0},{"$f":"'SHALA DARPAN DATA'!W22","v":0},{"$f":"'SHALA DARPAN DATA'!R22","v":0},{"$f":"'SHALA DARPAN DATA'!S22","v":0},{"$f":"'SHALA DARPAN DATA'!O22","v":0},0,0,0,0,0,0,0,0,0,0,0]
[{"$f":"'SHALA DARPAN DATA'!C23","v":0},{"$f":"'SHALA DARPAN DATA'!A23","v":0},{"$f":"'SHALA DARPAN DATA'!B23","v":0},{"$f":"'SHALA DARPAN DATA'!D23","v":0},{"$f":"'SHALA DARPAN DATA'!J23","v":0},{"$f":"'SHALA DARPAN DATA'!T23","v":0},{"$f":"'SHALA DARPAN DATA'!V23","v":0},{"$f":"'SHALA DARPAN DATA'!K23","v":0},{"$f":"'SHALA DARPAN DATA'!E23","v":0},{"$f":"'SHALA DARPAN DATA'!G23","v":0},{"$f":"'SHALA DARPAN DATA'!H23","v":0},{"$f":"'SHALA DARPAN DATA'!W23","v":0},{"$f":"'SHALA DARPAN DATA'!R23","v":0},{"$f":"'SHALA DARPAN DATA'!S23","v":0},{"$f":"'SHALA DARPAN DATA'!O23","v":0},0,0,0,0,0,0,0,0,0,0,0]
[{"$f":"'SHALA DARPAN DATA'!C24","v":0},{"$f":"'SHALA DARPAN DATA'!A24","v":0},{"$f":"'SHALA DARPAN DATA'!B24","v":0},{"$f":"'SHALA DARPAN DATA'!D24","v":0},{"$f":"'SHALA DARPAN DATA'!J24","v":0},{"$f":"'SHALA DARPAN DATA'!T24","v":0},{"$f":"'SHALA DARPAN DATA'!V24","v":0},{"$f":"'SHALA DARPAN DATA'!K24","v":0},{"$f":"'SHALA DARPAN DATA'!E24","v":0},{"$f":"'SHALA DARPAN DATA'!G24","v":0},{"$f":"'SHALA DARPAN DATA'!H24","v":0},{"$f":"'SHALA DARPAN DATA'!W24","v":0},{"$f":"'SHALA DARPAN DATA'!R24","v":0},{"$f":"'SHALA DARPAN DATA'!S24","v":0},{"$f":"'SHALA DARPAN DATA'!O24","v":0},0,0,0,0,0,0,0,0,0,0,0]
[{"$f":"'SHALA DARPAN DATA'!C25","v":0},{"$f":"'SHALA DARPAN DATA'!A25","v":0},{"$f":"'SHALA DARPAN DATA'!B25","v":0},{"$f":"'SHALA DARPAN DATA'!D25","v":0},{"$f":"'SHALA DARPAN DATA'!J25","v":0},{"$f":"'SHALA DARPAN DATA'!T25","v":0},{"$f":"'SHALA DARPAN DATA'!V25","v":0},{"$f":"'SHALA DARPAN DATA'!K25","v":0},{"$f":"'SHALA DARPAN DATA'!E25","v":0},{"$f":"'SHALA DARPAN DATA'!G25","v":0},{"$f":"'SHALA DARPAN DATA'!H25","v":0},{"$f":"'SHALA DARPAN DATA'!W25","v":0},{"$f":"'SHALA DARPAN DATA'!R25","v":0},{"$f":"'SHALA DARPAN DATA'!S25","v":0},{"$f":"'SHALA DARPAN DATA'!O25","v":0},0,0,0,0,0,0,0,0,0,0,0]
[{"$f":"'SHALA DARPAN DATA'!C26","v":0},{"$f":"'SHALA DARPAN DATA'!A26","v":0},{"$f":"'SHALA DARPAN DATA'!B26","v":0},{"$f":"'SHALA DARPAN DATA'!D26","v":0},{"$f":"'SHALA DARPAN DATA'!J26","v":0},{"$f":"'SHALA DARPAN DATA'!T26","v":0},{"$f":"'SHALA DARPAN DATA'!V26","v":0},{"$f":"'SHALA DARPAN DATA'!K26","v":0},{"$f":"'SHALA DARPAN DATA'!E26","v":0},{"$f":"'SHALA DARPAN DATA'!G26","v":0},{"$f":"'SHALA DARPAN DATA'!H26","v":0},{"$f":"'SHALA DARPAN DATA'!W26","v":0},{"$f":"'SHALA DARPAN DATA'!R26","v":0},{"$f":"'SHALA DARPAN DATA'!S26","v":0},{"$f":"'SHALA DARPAN DATA'!O26","v":0},0,0,0,0,0,0,0,0,0,0,0]
[{"$f":"'SHALA DARPAN DATA'!C27","v":0},{"$f":"'SHALA DARPAN DATA'!A27","v":0},{"$f":"'SHALA DARPAN DATA'!B27","v":0},{"$f":"'SHALA DARPAN DATA'!D27","v":0},{"$f":"'SHALA DARPAN DATA'!J27","v":0},{"$f":"'SHALA DARPAN DATA'!T27","v":0},{"$f":"'SHALA DARPAN DATA'!V27","v":0},{"$f":"'SHALA DARPAN DATA'!K27","v":0},{"$f":"'SHALA DARPAN DATA'!E27","v":0},{"$f":"'SHALA DARPAN DATA'!G27","v":0},{"$f":"'SHALA DARPAN DATA'!H27","v":0},{"$f":"'SHALA DARPAN DATA'!W27","v":0},{"$f":"'SHALA DARPAN DATA'!R27","v":0},{"$f":"'SHALA DARPAN DATA'!S27","v":0},{"$f":"'SHALA DARPAN DATA'!O27","v":0},0,0,0,0,0,0,0,0,0,0,0]
[{"$f":"'SHALA DARPAN DATA'!C28","v":0},{"$f":"'SHALA DARPAN DATA'!A28","v":0},{"$f":"'SHALA DARPAN DATA'!B28","v":0},{"$f":"'SHALA DARPAN DATA'!D28","v":0},{"$f":"'SHALA DARPAN DATA'!J28","v":0},{"$f":"'SHALA DARPAN DATA'!T28","v":0},{"$f":"'SHALA DARPAN DATA'!V28","v":0},{"$f":"'SHALA DARPAN DATA'!K28","v":0},{"$f":"'SHALA DARPAN DATA'!E28","v":0},{"$f":"'SHALA DARPAN DATA'!G28","v":0},{"$f":"'SHALA DARPAN DATA'!H28","v":0},{"$f":"'SHALA DARPAN DATA'!W28","v":0},{"$f":"'SHALA DARPAN DATA'!R28","v":0},{"$f":"'SHALA DARPAN DATA'!S28","v":0},{"$f":"'SHALA DARPAN DATA'!O28","v":0},0,0,0,0,0,0,0,0,0,0,0]
[{"$f":"'SHALA DARPAN DATA'!C29","v":0},{"$f":"'SHALA DARPAN DATA'!A29","v":0},{"$f":"'SHALA DARPAN DATA'!B29","v":0},{"$f":"'SHALA DARPAN DATA'!D29","v":0},{"$f":"'SHALA DARPAN DATA'!J29","v":0},{"$f":"'SHALA DARPAN DATA'!T29","v":0},{"$f":"'SHALA DARPAN DATA'!V29","v":0},{"$f":"'SHALA DARPAN DATA'!K29","v":0},{"$f":"'SHALA DARPAN DATA'!E29","v":0},{"$f":"'SHALA DARPAN DATA'!G29","v":0},{"$f":"'SHALA DARPAN DATA'!H29","v":0},{"$f":"'SHALA DARPAN DATA'!W29","v":0},{"$f":"'SHALA DARPAN DATA'!R29","v":0},{"$f":"'SHALA DARPAN DATA'!S29","v":0},{"$f":"'SHALA DARPAN DATA'!O29","v":0},0,0,0,0,0,0,0,0,0,0,0]
[{"$f":"'SHALA DARPAN DATA'!C30","v":0},{"$f":"'SHALA DARPAN DATA'!A30","v":0},{"$f":"'SHALA DARPAN DATA'!B30","v":0},{"$f":"'SHALA DARPAN DATA'!D30","v":0},{"$f":"'SHALA DARPAN DATA'!J30","v":0},{"$f":"'SHALA DARPAN DATA'!T30","v":0},{"$f":"'SHALA DARPAN DATA'!V30","v":0},{"$f":"'SHALA DARPAN DATA'!K30","v":0},{"$f":"'SHALA DARPAN DATA'!E30","v":0},{"$f":"'SHALA DARPAN DATA'!G30","v":0},{"$f":"'SHALA DARPAN DATA'!H30","v":0},{"$f":"'SHALA DARPAN DATA'!W30","v":0},{"$f":"'SHALA DARPAN DATA'!R30","v":0},{"$f":"'SHALA DARPAN DATA'!S30","v":0},{"$f":"'SHALA DARPAN DATA'!O30","v":0},0,0,0,0,0,0,0,0,0,0,0]
[{"$f":"'SHALA DARPAN DATA'!C31","v":0},{"$f":"'SHALA DARPAN DATA'!A31","v":0},{"$f":"'SHALA DARPAN DATA'!B31","v":0},{"$f":"'SHALA DARPAN DATA'!D31","v":0},{"$f":"'SHALA DARPAN DATA'!J31","v":0},{"$f":"'SHALA DARPAN DATA'!T31","v":0},{"$f":"'SHALA DARPAN DATA'!V31","v":0},{"$f":"'SHALA DARPAN DATA'!K31","v":0},{"$f":"'SHALA DARPAN DATA'!E31","v":0},{"$f":"'SHALA DARPAN DATA'!G31","v":0},{"$f":"'SHALA DARPAN DATA'!H31","v":0},{"$f":"'SHALA DARPAN DATA'!W31","v":0},{"$f":"'SHALA DARPAN DATA'!R31","v":0},{"$f":"'SHALA DARPAN DATA'!S31","v":0},{"$f":"'SHALA DARPAN DATA'!O31","v":0},0,0,0,0,0,0,0,0,0,0,0]
[{"$f":"'SHALA DARPAN DATA'!C32","v":0},{"$f":"'SHALA DARPAN DATA'!A32","v":0},{"$f":"'SHALA DARPAN DATA'!B32","v":0},{"$f":"'SHALA DARPAN DATA'!D32","v":0},{"$f":"'SHALA DARPAN DATA'!J32","v":0},{"$f":"'SHALA DARPAN DATA'!T32","v":0},{"$f":"'SHALA DARPAN DATA'!V32","v":0},{"$f":"'SHALA DARPAN DATA'!K32","v":0},{"$f":"'SHALA DARPAN DATA'!E32","v":0},{"$f":"'SHALA DARPAN DATA'!G32","v":0},{"$f":"'SHALA DARPAN DATA'!H32","v":0},{"$f":"'SHALA DARPAN DATA'!W32","v":0},{"$f":"'SHALA DARPAN DATA'!R32","v":0},{"$f":"'SHALA DARPAN DATA'!S32","v":0},{"$f":"'SHALA DARPAN DATA'!O32","v":0},0,0,0,0,0,0,0,0,0,0,0]
[{"$f":"'SHALA DARPAN DATA'!C33","v":0},{"$f":"'SHALA DARPAN DATA'!A33","v":0},{"$f":"'SHALA DARPAN DATA'!B33","v":0},{"$f":"'SHALA DARPAN DATA'!D33","v":0},{"$f":"'SHALA DARPAN DATA'!J33","v":0},{"$f":"'SHALA DARPAN DATA'!T33","v":0},{"$f":"'SHALA DARPAN DATA'!V33","v":0},{"$f":"'SHALA DARPAN DATA'!K33","v":0},{"$f":"'SHALA DARPAN DATA'!E33","v":0},{"$f":"'SHALA DARPAN DATA'!G33","v":0},{"$f":"'SHALA DARPAN DATA'!H33","v":0},{"$f":"'SHALA DARPAN DATA'!W33","v":0},{"$f":"'SHALA DARPAN DATA'!R33","v":0},{"$f":"'SHALA DARPAN DATA'!S33","v":0},{"$f":"'SHALA DARPAN DATA'!O33","v":0},0,0,0,0,0,0,0,0,0,0,0]
[{"$f":"'SHALA DARPAN DATA'!C34","v":0},{"$f":"'SHALA DARPAN DATA'!A34","v":0},{"$f":"'SHALA DARPAN DATA'!B34","v":0},{"$f":"'SHALA DARPAN DATA'!D34","v":0},{"$f":"'SHALA DARPAN DATA'!J34","v":0},{"$f":"'SHALA DARPAN DATA'!T34","v":0},{"$f":"'SHALA DARPAN DATA'!V34","v":0},{"$f":"'SHALA DARPAN DATA'!K34","v":0},{"$f":"'SHALA DARPAN DATA'!E34","v":0},{"$f":"'SHALA DARPAN DATA'!G34","v":0},{"$f":"'SHALA DARPAN DATA'!H34","v":0},{"$f":"'SHALA DARPAN DATA'!W34","v":0},{"$f":"'SHALA DARPAN DATA'!R34","v":0},{"$f":"'SHALA DARPAN DATA'!S34","v":0},{"$f":"'SHALA DARPAN DATA'!O34","v":0},0,0,0,0,0,0,0,0,0,0,0]
[{"$f":"'SHALA DARPAN DATA'!C35","v":0},{"$f":"'SHALA DARPAN DATA'!A35","v":0},{"$f":"'SHALA DARPAN DATA'!B35","v":0},{"$f":"'SHALA DARPAN DATA'!D35","v":0},{"$f":"'SHALA DARPAN DATA'!J35","v":0},{"$f":"'SHALA DARPAN DATA'!T35","v":0},{"$f":"'SHALA DARPAN DATA'!V35","v":0},{"$f":"'SHALA DARPAN DATA'!K35","v":0},{"$f":"'SHALA DARPAN DATA'!E35","v":0},{"$f":"'SHALA DARPAN DATA'!G35","v":0},{"$f":"'SHALA DARPAN DATA'!H35","v":0},{"$f":"'SHALA DARPAN DATA'!W35","v":0},{"$f":"'SHALA DARPAN DATA'!R35","v":0},{"$f":"'SHALA DARPAN DATA'!S35","v":0},{"$f":"'SHALA DARPAN DATA'!O35","v":0},0,0,0,0,0,0,0,0,0,0,0]
[{"$f":"'SHALA DARPAN DATA'!C36","v":0},{"$f":"'SHALA DARPAN DATA'!A36","v":0},{"$f":"'SHALA DARPAN DATA'!B36","v":0},{"$f":"'SHALA DARPAN DATA'!D36","v":0},{"$f":"'SHALA DARPAN DATA'!J36","v":0},{"$f":"'SHALA DARPAN DATA'!T36","v":0},{"$f":"'SHALA DARPAN DATA'!V36","v":0},{"$f":"'SHALA DARPAN DATA'!K36","v":0},{"$f":"'SHALA DARPAN DATA'!E36","v":0},{"$f":"'SHALA DARPAN DATA'!G36","v":0},{"$f":"'SHALA DARPAN DATA'!H36","v":0},{"$f":"'SHALA DARPAN DATA'!W36","v":0},{"$f":"'SHALA DARPAN DATA'!R36","v":0},{"$f":"'SHALA DARPAN DATA'!S36","v":0},{"$f":"'SHALA DARPAN DATA'!O36","v":0},0,0,0,0,0,0,0,0,0,0,0]
[{"$f":"'SHALA DARPAN DATA'!C37","v":0},{"$f":"'SHALA DARPAN DATA'!A37","v":0},{"$f":"'SHALA DARPAN DATA'!B37","v":0},{"$f":"'SHALA DARPAN DATA'!D37","v":0},{"$f":"'SHALA DARPAN DATA'!J37","v":0},{"$f":"'SHALA DARPAN DATA'!T37","v":0},{"$f":"'SHALA DARPAN DATA'!V37","v":0},{"$f":"'SHALA DARPAN DATA'!K37","v":0},{"$f":"'SHALA DARPAN DATA'!E37","v":0},{"$f":"'SHALA DARPAN DATA'!G37","v":0},{"$f":"'SHALA DARPAN DATA'!H37","v":0},{"$f":"'SHALA DARPAN DATA'!W37","v":0},{"$f":"'SHALA DARPAN DATA'!R37","v":0},{"$f":"'SHALA DARPAN DATA'!S37","v":0},{"$f":"'SHALA DARPAN DATA'!O37","v":0},0,0,0,0,0,0,0,0,0,0,0]
[{"$f":"'SHALA DARPAN DATA'!C38","v":0},{"$f":"'SHALA DARPAN DATA'!A38","v":0},{"$f":"'SHALA DARPAN DATA'!B38","v":0},{"$f":"'SHALA DARPAN DATA'!D38","v":0},{"$f":"'SHALA DARPAN DATA'!J38","v":0},{"$f":"'SHALA DARPAN DATA'!T38","v":0},{"$f":"'SHALA DARPAN DATA'!V38","v":0},{"$f":"'SHALA DARPAN DATA'!K38","v":0},{"$f":"'SHALA DARPAN DATA'!E38","v":0},{"$f":"'SHALA DARPAN DATA'!G38","v":0},{"$f":"'SHALA DARPAN DATA'!H38","v":0},{"$f":"'SHALA DARPAN DATA'!W38","v":0},{"$f":"'SHALA DARPAN DATA'!R38","v":0},{"$f":"'SHALA DARPAN DATA'!S38","v":0},{"$f":"'SHALA DARPAN DATA'!O38","v":0},0,0,0,0,0,0,0,0,0,0,0]
[{"$f":"'SHALA DARPAN DATA'!C39","v":0},{"$f":"'SHALA DARPAN DATA'!A39","v":0},{"$f":"'SHALA DARPAN DATA'!B39","v":0},{"$f":"'SHALA DARPAN DATA'!D39","v":0},{"$f":"'SHALA DARPAN DATA'!J39","v":0},{"$f":"'SHALA DARPAN DATA'!T39","v":0},{"$f":"'SHALA DARPAN DATA'!V39","v":0},{"$f":"'SHALA DARPAN DATA'!K39","v":0},{"$f":"'SHALA DARPAN DATA'!E39","v":0},{"$f":"'SHALA DARPAN DATA'!G39","v":0},{"$f":"'SHALA DARPAN DATA'!H39","v":0},{"$f":"'SHALA DARPAN DATA'!W39","v":0},{"$f":"'SHALA DARPAN DATA'!R39","v":0},{"$f":"'SHALA DARPAN DATA'!S39","v":0},{"$f":"'SHALA DARPAN DATA'!O39","v":0},0,0,0,0,0,0,0,0,0,0,0]
[{"$f":"'SHALA DARPAN DATA'!C40","v":0},{"$f":"'SHALA DARPAN DATA'!A40","v":0},{"$f":"'SHALA DARPAN DATA'!B40","v":0},{"$f":"'SHALA DARPAN DATA'!D40","v":0},{"$f":"'SHALA DARPAN DATA'!J40","v":0},{"$f":"'SHALA DARPAN DATA'!T40","v":0},{"$f":"'SHALA DARPAN DATA'!V40","v":0},{"$f":"'SHALA DARPAN DATA'!K40","v":0},{"$f":"'SHALA DARPAN DATA'!E40","v":0},{"$f":"'SHALA DARPAN DATA'!G40","v":0},{"$f":"'SHALA DARPAN DATA'!H40","v":0},{"$f":"'SHALA DARPAN DATA'!W40","v":0},{"$f":"'SHALA DARPAN DATA'!R40","v":0},{"$f":"'SHALA DARPAN DATA'!S40","v":0},{"$f":"'SHALA DARPAN DATA'!O40","v":0},0,0,0,0,0,0,0,0,0,0,0]
[{"$f":"'SHALA DARPAN DATA'!C41","v":0},{"$f":"'SHALA DARPAN DATA'!A41","v":0},{"$f":"'SHALA DARPAN DATA'!B41","v":0},{"$f":"'SHALA DARPAN DATA'!D41","v":0},{"$f":"'SHALA DARPAN DATA'!J41","v":0},{"$f":"'SHALA DARPAN DATA'!T41","v":0},{"$f":"'SHALA DARPAN DATA'!V41","v":0},{"$f":"'SHALA DARPAN DATA'!K41","v":0},{"$f":"'SHALA DARPAN DATA'!E41","v":0},{"$f":"'SHALA DARPAN DATA'!G41","v":0},{"$f":"'SHALA DARPAN DATA'!H41","v":0},{"$f":"'SHALA DARPAN DATA'!W41","v":0},{"$f":"'SHALA DARPAN DATA'!R41","v":0},{"$f":"'SHALA DARPAN DATA'!S41","v":0},{"$f":"'SHALA DARPAN DATA'!O41","v":0},0,0,0,0,0,0,0,0,0,0,0]
[{"$f":"'SHALA DARPAN DATA'!C42","v":0},{"$f":"'SHALA DARPAN DATA'!A42","v":0},{"$f":"'SHALA DARPAN DATA'!B42","v":0},{"$f":"'SHALA DARPAN DATA'!D42","v":0},{"$f":"'SHALA DARPAN DATA'!J42","v":0},{"$f":"'SHALA DARPAN DATA'!T42","v":0},{"$f":"'SHALA DARPAN DATA'!V42","v":0},{"$f":"'SHALA DARPAN DATA'!K42","v":0},{"$f":"'SHALA DARPAN DATA'!E42","v":0},{"$f":"'SHALA DARPAN DATA'!G42","v":0},{"$f":"'SHALA DARPAN DATA'!H42","v":0},{"$f":"'SHALA DARPAN DATA'!W42","v":0},{"$f":"'SHALA DARPAN DATA'!R42","v":0},{"$f":"'SHALA DARPAN DATA'!S42","v":0},{"$f":"'SHALA DARPAN DATA'!O42","v":0},0,0,0,0,0,0,0,0,0,0,0]
[{"$f":"'SHALA DARPAN DATA'!C43","v":0},{"$f":"'SHALA DARPAN DATA'!A43","v":0},{"$f":"'SHALA DARPAN DATA'!B43","v":0},{"$f":"'SHALA DARPAN DATA'!D43","v":0},{"$f":"'SHALA DARPAN DATA'!J43","v":0},{"$f":"'SHALA DARPAN DATA'!T43","v":0},{"$f":"'SHALA DARPAN DATA'!V43","v":0},{"$f":"'SHALA DARPAN DATA'!K43","v":0},{"$f":"'SHALA DARPAN DATA'!E43","v":0},{"$f":"'SHALA DARPAN DATA'!G43","v":0},{"$f":"'SHALA DARPAN DATA'!H43","v":0},{"$f":"'SHALA DARPAN DATA'!W43","v":0},{"$f":"'SHALA DARPAN DATA'!R43","v":0},{"$f":"'SHALA DARPAN DATA'!S43","v":0},{"$f":"'SHALA DARPAN DATA'!O43","v":0},0,0,0,0,0,0,0,0,0,0,0]
[{"$f":"'SHALA DARPAN DATA'!C44","v":0},{"$f":"'SHALA DARPAN DATA'!A44","v":0},{"$f":"'SHALA DARPAN DATA'!B44","v":0},{"$f":"'SHALA DARPAN DATA'!D44","v":0},{"$f":"'SHALA DARPAN DATA'!J44","v":0},{"$f":"'SHALA DARPAN DATA'!T44","v":0},{"$f":"'SHALA DARPAN DATA'!V44","v":0},{"$f":"'SHALA DARPAN DATA'!K44","v":0},{"$f":"'SHALA DARPAN DATA'!E44","v":0},{"$f":"'SHALA DARPAN DATA'!G44","v":0},{"$f":"'SHALA DARPAN DATA'!H44","v":0},{"$f":"'SHALA DARPAN DATA'!W44","v":0},{"$f":"'SHALA DARPAN DATA'!R44","v":0},{"$f":"'SHALA DARPAN DATA'!S44","v":0},{"$f":"'SHALA DARPAN DATA'!O44","v":0},0,0,0,0,0,0,0,0,0,0,0]
[{"$f":"'SHALA DARPAN DATA'!C45","v":0},{"$f":"'SHALA DARPAN DATA'!A45","v":0},{"$f":"'SHALA DARPAN DATA'!B45","v":0},{"$f":"'SHALA DARPAN DATA'!D45","v":0},{"$f":"'SHALA DARPAN DATA'!J45","v":0},{"$f":"'SHALA DARPAN DATA'!T45","v":0},{"$f":"'SHALA DARPAN DATA'!V45","v":0},{"$f":"'SHALA DARPAN DATA'!K45","v":0},{"$f":"'SHALA DARPAN DATA'!E45","v":0},{"$f":"'SHALA DARPAN DATA'!G45","v":0},{"$f":"'SHALA DARPAN DATA'!H45","v":0},{"$f":"'SHALA DARPAN DATA'!W45","v":0},{"$f":"'SHALA DARPAN DATA'!R45","v":0},{"$f":"'SHALA DARPAN DATA'!S45","v":0},{"$f":"'SHALA DARPAN DATA'!O45","v":0},0,0,0,0,0,0,0,0,0,0,0]
[{"$f":"'SHALA DARPAN DATA'!C46","v":0},{"$f":"'SHALA DARPAN DATA'!A46","v":0},{"$f":"'SHALA DARPAN DATA'!B46","v":0},{"$f":"'SHALA DARPAN DATA'!D46","v":0},{"$f":"'SHALA DARPAN DATA'!J46","v":0},{"$f":"'SHALA DARPAN DATA'!T46","v":0},{"$f":"'SHALA DARPAN DATA'!V46","v":0},{"$f":"'SHALA DARPAN DATA'!K46","v":0},{"$f":"'SHALA DARPAN DATA'!E46","v":0},{"$f":"'SHALA DARPAN DATA'!G46","v":0},{"$f":"'SHALA DARPAN DATA'!H46","v":0},{"$f":"'SHALA DARPAN DATA'!W46","v":0},{"$f":"'SHALA DARPAN DATA'!R46","v":0},{"$f":"'SHALA DARPAN DATA'!S46","v":0},{"$f":"'SHALA DARPAN DATA'!O46","v":0},0,0,0,0,0,0,0,0,0,0,0]
[{"$f":"'SHALA DARPAN DATA'!C47","v":0},{"$f":"'SHALA DARPAN DATA'!A47","v":0},{"$f":"'SHALA DARPAN DATA'!B47","v":0},{"$f":"'SHALA DARPAN DATA'!D47","v":0},{"$f":"'SHALA DARPAN DATA'!J47","v":0},{"$f":"'SHALA DARPAN DATA'!T47","v":0},{"$f":"'SHALA DARPAN DATA'!V47","v":0},{"$f":"'SHALA DARPAN DATA'!K47","v":0},{"$f":"'SHALA DARPAN DATA'!E47","v":0},{"$f":"'SHALA DARPAN DATA'!G47","v":0},{"$f":"'SHALA DARPAN DATA'!H47","v":0},{"$f":"'SHALA DARPAN DATA'!W47","v":0},{"$f":"'SHALA DARPAN DATA'!R47","v":0},{"$f":"'SHALA DARPAN DATA'!S47","v":0},{"$f":"'SHALA DARPAN DATA'!O47","v":0},0,0,0,0,0,0,0,0,0,0,0]
[{"$f":"'SHALA DARPAN DATA'!C48","v":0},{"$f":"'SHALA DARPAN DATA'!A48","v":0},{"$f":"'SHALA DARPAN DATA'!B48","v":0},{"$f":"'SHALA DARPAN DATA'!D48","v":0},{"$f":"'SHALA DARPAN DATA'!J48","v":0},{"$f":"'SHALA DARPAN DATA'!T48","v":0},{"$f":"'SHALA DARPAN DATA'!V48","v":0},{"$f":"'SHALA DARPAN DATA'!K48","v":0},{"$f":"'SHALA DARPAN DATA'!E48","v":0},{"$f":"'SHALA DARPAN DATA'!G48","v":0},{"$f":"'SHALA DARPAN DATA'!H48","v":0},{"$f":"'SHALA DARPAN DATA'!W48","v":0},{"$f":"'SHALA DARPAN DATA'!R48","v":0},{"$f":"'SHALA DARPAN DATA'!S48","v":0},{"$f":"'SHALA DARPAN DATA'!O48","v":0},0,0,0,0,0,0,0,0,0,0,0]
[{"$f":"'SHALA DARPAN DATA'!C49","v":0},{"$f":"'SHALA DARPAN DATA'!A49","v":0},{"$f":"'SHALA DARPAN DATA'!B49","v":0},{"$f":"'SHALA DARPAN DATA'!D49","v":0},{"$f":"'SHALA DARPAN DATA'!J49","v":0},{"$f":"'SHALA DARPAN DATA'!T49","v":0},{"$f":"'SHALA DARPAN DATA'!V49","v":0},{"$f":"'SHALA DARPAN DATA'!K49","v":0},{"$f":"'SHALA DARPAN DATA'!E49","v":0},{"$f":"'SHALA DARPAN DATA'!G49","v":0},{"$f":"'SHALA DARPAN DATA'!H49","v":0},{"$f":"'SHALA DARPAN DATA'!W49","v":0},{"$f":"'SHALA DARPAN DATA'!R49","v":0},{"$f":"'SHALA DARPAN DATA'!S49","v":0},{"$f":"'SHALA DARPAN DATA'!O49","v":0},0,0,0,0,0,0,0,0,0,0,0]
[{"$f":"'SHALA DARPAN DATA'!C50","v":0},{"$f":"'SHALA DARPAN DATA'!A50","v":0},{"$f":"'SHALA DARPAN DATA'!B50","v":0},{"$f":"'SHALA DARPAN DATA'!D50","v":0},{"$f":"'SHALA DARPAN DATA'!J50","v":0},{"$f":"'SHALA DARPAN DATA'!T50","v":0},{"$f":"'SHALA DARPAN DATA'!V50","v":0},{"$f":"'SHALA DARPAN DATA'!K50","v":0},{"$f":"'SHALA DARPAN DATA'!E50","v":0},{"$f":"'SHALA DARPAN DATA'!G50","v":0},{"$f":"'SHALA DARPAN DATA'!H50","v":0},{"$f":"'SHALA DARPAN DATA'!W50","v":0},{"$f":"'SHALA DARPAN DATA'!R50","v":0},{"$f":"'SHALA DARPAN DATA'!S50","v":0},{"$f":"'SHALA DARPAN DATA'!O50","v":0},0,0,0,0,0,0,0,0,0,0,0]
[{"$f":"'SHALA DARPAN DATA'!C51","v":0},{"$f":"'SHALA DARPAN DATA'!A51","v":0},{"$f":"'SHALA DARPAN DATA'!B51","v":0},{"$f":"'SHALA DARPAN DATA'!D51","v":0},{"$f":"'SHALA DARPAN DATA'!J51","v":0},{"$f":"'SHALA DARPAN DATA'!T51","v":0},{"$f":"'SHALA DARPAN DATA'!V51","v":0},{"$f":"'SHALA DARPAN DATA'!K51","v":0},{"$f":"'SHALA DARPAN DATA'!E51","v":0},{"$f":"'SHALA DARPAN DATA'!G51","v":0},{"$f":"'SHALA DARPAN DATA'!H51","v":0},{"$f":"'SHALA DARPAN DATA'!W51","v":0},{"$f":"'SHALA DARPAN DATA'!R51","v":0},{"$f":"'SHALA DARPAN DATA'!S51","v":0},{"$f":"'SHALA DARPAN DATA'!O51","v":0},0,0,0,0,0,0,0,0,0,0,0]
[{"$f":"'SHALA DARPAN DATA'!C52","v":0},{"$f":"'SHALA DARPAN DATA'!A52","v":0},{"$f":"'SHALA DARPAN DATA'!B52","v":0},{"$f":"'SHALA DARPAN DATA'!D52","v":0},{"$f":"'SHALA DARPAN DATA'!J52","v":0},{"$f":"'SHALA DARPAN DATA'!T52","v":0},{"$f":"'SHALA DARPAN DATA'!V52","v":0},{"$f":"'SHALA DARPAN DATA'!K52","v":0},{"$f":"'SHALA DARPAN DATA'!E52","v":0},{"$f":"'SHALA DARPAN DATA'!G52","v":0},{"$f":"'SHALA DARPAN DATA'!H52","v":0},{"$f":"'SHALA DARPAN DATA'!W52","v":0},{"$f":"'SHALA DARPAN DATA'!R52","v":0},{"$f":"'SHALA DARPAN DATA'!S52","v":0},{"$f":"'SHALA DARPAN DATA'!O52","v":0},0,0,0,0,0,0,0,0,0,0,0]
[{"$f":"'SHALA DARPAN DATA'!C53","v":0},{"$f":"'SHALA DARPAN DATA'!A53","v":0},{"$f":"'SHALA DARPAN DATA'!B53","v":0},{"$f":"'SHALA DARPAN DATA'!D53","v":0},{"$f":"'SHALA DARPAN DATA'!J53","v":0},{"$f":"'SHALA DARPAN DATA'!T53","v":0},{"$f":"'SHALA DARPAN DATA'!V53","v":0},{"$f":"'SHALA DARPAN DATA'!K53","v":0},{"$f":"'SHALA DARPAN DATA'!E53","v":0},{"$f":"'SHALA DARPAN DATA'!G53","v":0},{"$f":"'SHALA DARPAN DATA'!H53","v":0},{"$f":"'SHALA DARPAN DATA'!W53","v":0},{"$f":"'SHALA DARPAN DATA'!R53","v":0},{"$f":"'SHALA DARPAN DATA'!S53","v":0},{"$f":"'SHALA DARPAN DATA'!O53","v":0},0,0,0,0,0,0,0,0,0,0,0]
[{"$f":"'SHALA DARPAN DATA'!C54","v":0},{"$f":"'SHALA DARPAN DATA'!A54","v":0},{"$f":"'SHALA DARPAN DATA'!B54","v":0},{"$f":"'SHALA DARPAN DATA'!D54","v":0},{"$f":"'SHALA DARPAN DATA'!J54","v":0},{"$f":"'SHALA DARPAN DATA'!T54","v":0},{"$f":"'SHALA DARPAN DATA'!V54","v":0},{"$f":"'SHALA DARPAN DATA'!K54","v":0},{"$f":"'SHALA DARPAN DATA'!E54","v":0},{"$f":"'SHALA DARPAN DATA'!G54","v":0},{"$f":"'SHALA DARPAN DATA'!H54","v":0},{"$f":"'SHALA DARPAN DATA'!W54","v":0},{"$f":"'SHALA DARPAN DATA'!R54","v":0},{"$f":"'SHALA DARPAN DATA'!S54","v":0},{"$f":"'SHALA DARPAN DATA'!O54","v":0},0,0,0,0,0,0,0,0,0,0,0]
[{"$f":"'SHALA DARPAN DATA'!C55","v":0},{"$f":"'SHALA DARPAN DATA'!A55","v":0},{"$f":"'SHALA DARPAN DATA'!B55","v":0},{"$f":"'SHALA DARPAN DATA'!D55","v":0},{"$f":"'SHALA DARPAN DATA'!J55","v":0},{"$f":"'SHALA DARPAN DATA'!T55","v":0},{"$f":"'SHALA DARPAN DATA'!V55","v":0},{"$f":"'SHALA DARPAN DATA'!K55","v":0},{"$f":"'SHALA DARPAN DATA'!E55","v":0},{"$f":"'SHALA DARPAN DATA'!G55","v":0},{"$f":"'SHALA DARPAN DATA'!H55","v":0},{"$f":"'SHALA DARPAN DATA'!W55","v":0},{"$f":"'SHALA DARPAN DATA'!R55","v":0},{"$f":"'SHALA DARPAN DATA'!S55","v":0},{"$f":"'SHALA DARPAN DATA'!O55","v":0},0,0,0,0,0,0,0,0,0,0,0]
[{"$f":"'SHALA DARPAN DATA'!C56","v":0},{"$f":"'SHALA DARPAN DATA'!A56","v":0},{"$f":"'SHALA DARPAN DATA'!B56","v":0},{"$f":"'SHALA DARPAN DATA'!D56","v":0},{"$f":"'SHALA DARPAN DATA'!J56","v":0},{"$f":"'SHALA DARPAN DATA'!T56","v":0},{"$f":"'SHALA DARPAN DATA'!V56","v":0},{"$f":"'SHALA DARPAN DATA'!K56","v":0},{"$f":"'SHALA DARPAN DATA'!E56","v":0},{"$f":"'SHALA DARPAN DATA'!G56","v":0},{"$f":"'SHALA DARPAN DATA'!H56","v":0},{"$f":"'SHALA DARPAN DATA'!W56","v":0},{"$f":"'SHALA DARPAN DATA'!R56","v":0},{"$f":"'SHALA DARPAN DATA'!S56","v":0},{"$f":"'SHALA DARPAN DATA'!O56","v":0},0,0,0,0,0,0,0,0,0,0,0]
[{"$f":"'SHALA DARPAN DATA'!C57","v":0},{"$f":"'SHALA DARPAN DATA'!A57","v":0},{"$f":"'SHALA DARPAN DATA'!B57","v":0},{"$f":"'SHALA DARPAN DATA'!D57","v":0},{"$f":"'SHALA DARPAN DATA'!J57","v":0},{"$f":"'SHALA DARPAN DATA'!T57","v":0},{"$f":"'SHALA DARPAN DATA'!V57","v":0},{"$f":"'SHALA DARPAN DATA'!K57","v":0},{"$f":"'SHALA DARPAN DATA'!E57","v":0},{"$f":"'SHALA DARPAN DATA'!G57","v":0},{"$f":"'SHALA DARPAN DATA'!H57","v":0},{"$f":"'SHALA DARPAN DATA'!W57","v":0},{"$f":"'SHALA DARPAN DATA'!R57","v":0},{"$f":"'SHALA DARPAN DATA'!S57","v":0},{"$f":"'SHALA DARPAN DATA'!O57","v":0},0,0,0,0,0,0,0,0,0,0,0]
[{"$f":"'SHALA DARPAN DATA'!C58","v":0},{"$f":"'SHALA DARPAN DATA'!A58","v":0},{"$f":"'SHALA DARPAN DATA'!B58","v":0},{"$f":"'SHALA DARPAN DATA'!D58","v":0},{"$f":"'SHALA DARPAN DATA'!J58","v":0},{"$f":"'SHALA DARPAN DATA'!T58","v":0},{"$f":"'SHALA DARPAN DATA'!V58","v":0},{"$f":"'SHALA DARPAN DATA'!K58","v":0},{"$f":"'SHALA DARPAN DATA'!E58","v":0},{"$f":"'SHALA DARPAN DATA'!G58","v":0},{"$f":"'SHALA DARPAN DATA'!H58","v":0},{"$f":"'SHALA DARPAN DATA'!W58","v":0},{"$f":"'SHALA DARPAN DATA'!R58","v":0},{"$f":"'SHALA DARPAN DATA'!S58","v":0},{"$f":"'SHALA DARPAN DATA'!O58","v":0},0,0,0,0,0,0,0,0,0,0,0]
[{"$f":"'SHALA DARPAN DATA'!C59","v":0},{"$f":"'SHALA DARPAN DATA'!A59","v":0},{"$f":"'SHALA DARPAN DATA'!B59","v":0},{"$f":"'SHALA DARPAN DATA'!D59","v":0},{"$f":"'SHALA DARPAN DATA'!J59","v":0},{"$f":"'SHALA DARPAN DATA'!T59","v":0},{"$f":"'SHALA DARPAN DATA'!V59","v":0},{"$f":"'SHALA DARPAN DATA'!K59","v":0},{"$f":"'SHALA DARPAN DATA'!E59","v":0},{"$f":"'SHALA DARPAN DATA'!G59","v":0},{"$f":"'SHALA DARPAN DATA'!H59","v":0},{"$f":"'SHALA DARPAN DATA'!W59","v":0},{"$f":"'SHALA DARPAN DATA'!R59","v":0},{"$f":"'SHALA DARPAN DATA'!S59","v":0},{"$f":"'SHALA DARPAN DATA'!O59","v":0},0,0,0,0,0,0,0,0,0,0,0]
[{"$f":"'SHALA DARPAN DATA'!C60","v":0},{"$f":"'SHALA DARPAN DATA'!A60","v":0},{"$f":"'SHALA DARPAN DATA'!B60","v":0},{"$f":"'SHALA DARPAN DATA'!D60","v":0},{"$f":"'SHALA DARPAN DATA'!J60","v":0},{"$f":"'SHALA DARPAN DATA'!T60","v":0},{"$f":"'SHALA DARPAN DATA'!V60","v":0},{"$f":"'SHALA DARPAN DATA'!K60","v":0},{"$f":"'SHALA DARPAN DATA'!E60","v":0},{"$f":"'SHALA DARPAN DATA'!G60","v":0},{"$f":"'SHALA DARPAN DATA'!H60","v":0},{"$f":"'SHALA DARPAN DATA'!W60","v":0},{"$f":"'SHALA DARPAN DATA'!R60","v":0},{"$f":"'SHALA DARPAN DATA'!S60","v":0},{"$f":"'SHALA DARPAN DATA'!O60","v":0},0,0,0,0,0,0,0,0,0,0,0]
[{"$f":"'SHALA DARPAN DATA'!C61","v":0},{"$f":"'SHALA DARPAN DATA'!A61","v":0},{"$f":"'SHALA DARPAN DATA'!B61","v":0},{"$f":"'SHALA DARPAN DATA'!D61","v":0},{"$f":"'SHALA DARPAN DATA'!J61","v":0},{"$f":"'SHALA DARPAN DATA'!T61","v":0},{"$f":"'SHALA DARPAN DATA'!V61","v":0},{"$f":"'SHALA DARPAN DATA'!K61","v":0},{"$f":"'SHALA DARPAN DATA'!E61","v":0},{"$f":"'SHALA DARPAN DATA'!G61","v":0},{"$f":"'SHALA DARPAN DATA'!H61","v":0},{"$f":"'SHALA DARPAN DATA'!W61","v":0},{"$f":"'SHALA DARPAN DATA'!R61","v":0},{"$f":"'SHALA DARPAN DATA'!S61","v":0},{"$f":"'SHALA DARPAN DATA'!O61","v":0},0,0,0,0,0,0,0,0,0,0,0]
[{"$f":"'SHALA DARPAN DATA'!C62","v":0},{"$f":"'SHALA DARPAN DATA'!A62","v":0},{"$f":"'SHALA DARPAN DATA'!B62","v":0},{"$f":"'SHALA DARPAN DATA'!D62","v":0},{"$f":"'SHALA DARPAN DATA'!J62","v":0},{"$f":"'SHALA DARPAN DATA'!T62","v":0},{"$f":"'SHALA DARPAN DATA'!V62","v":0},{"$f":"'SHALA DARPAN DATA'!K62","v":0},{"$f":"'SHALA DARPAN DATA'!E62","v":0},{"$f":"'SHALA DARPAN DATA'!G62","v":0},{"$f":"'SHALA DARPAN DATA'!H62","v":0},{"$f":"'SHALA DARPAN DATA'!W62","v":0},{"$f":"'SHALA DARPAN DATA'!R62","v":0},{"$f":"'SHALA DARPAN DATA'!S62","v":0},{"$f":"'SHALA DARPAN DATA'!O62","v":0},0,0,0,0,0,0,0,0,0,0,0]
[{"$f":"'SHALA DARPAN DATA'!C63","v":0},{"$f":"'SHALA DARPAN DATA'!A63","v":0},{"$f":"'SHALA DARPAN DATA'!B63","v":0},{"$f":"'SHALA DARPAN DATA'!D63","v":0},{"$f":"'SHALA DARPAN DATA'!J63","v":0},{"$f":"'SHALA DARPAN DATA'!T63","v":0},{"$f":"'SHALA DARPAN DATA'!V63","v":0},{"$f":"'SHALA DARPAN DATA'!K63","v":0},{"$f":"'SHALA DARPAN DATA'!E63","v":0},{"$f":"'SHALA DARPAN DATA'!G63","v":0},{"$f":"'SHALA DARPAN DATA'!H63","v":0},{"$f":"'SHALA DARPAN DATA'!W63","v":0},{"$f":"'SHALA DARPAN DATA'!R63","v":0},{"$f":"'SHALA DARPAN DATA'!S63","v":0},{"$f":"'SHALA DARPAN DATA'!O63","v":0},0,0,0,0,0,0,0,0,0,0,0]
[{"$f":"'SHALA DARPAN DATA'!C64","v":0},{"$f":"'SHALA DARPAN DATA'!A64","v":0},{"$f":"'SHALA DARPAN DATA'!B64","v":0},{"$f":"'SHALA DARPAN DATA'!D64","v":0},{"$f":"'SHALA DARPAN DATA'!J64","v":0},{"$f":"'SHALA DARPAN DATA'!T64","v":0},{"$f":"'SHALA DARPAN DATA'!V64","v":0},{"$f":"'SHALA DARPAN DATA'!K64","v":0},{"$f":"'SHALA DARPAN DATA'!E64","v":0},{"$f":"'SHALA DARPAN DATA'!G64","v":0},{"$f":"'SHALA DARPAN DATA'!H64","v":0},{"$f":"'SHALA DARPAN DATA'!W64","v":0},{"$f":"'SHALA DARPAN DATA'!R64","v":0},{"$f":"'SHALA DARPAN DATA'!S64","v":0},{"$f":"'SHALA DARPAN DATA'!O64","v":0},0,0,0,0,0,0,0,0,0,0,0]
[{"$f":"'SHALA DARPAN DATA'!C65","v":0},{"$f":"'SHALA DARPAN DATA'!A65","v":0},{"$f":"'SHALA DARPAN DATA'!B65","v":0},{"$f":"'SHALA DARPAN DATA'!D65","v":0},{"$f":"'SHALA DARPAN DATA'!J65","v":0},{"$f":"'SHALA DARPAN DATA'!T65","v":0},{"$f":"'SHALA DARPAN DATA'!V65","v":0},{"$f":"'SHALA DARPAN DATA'!K65","v":0},{"$f":"'SHALA DARPAN DATA'!E65","v":0},{"$f":"'SHALA DARPAN DATA'!G65","v":0},{"$f":"'SHALA DARPAN DATA'!H65","v":0},{"$f":"'SHALA DARPAN DATA'!W65","v":0},{"$f":"'SHALA DARPAN DATA'!R65","v":0},{"$f":"'SHALA DARPAN DATA'!S65","v":0},{"$f":"'SHALA DARPAN DATA'!O65","v":0},0,0,0,0,0,0,0,0,0,0,0]
[{"$f":"'SHALA DARPAN DATA'!C66","v":0},{"$f":"'SHALA DARPAN DATA'!A66","v":0},{"$f":"'SHALA DARPAN DATA'!B66","v":0},{"$f":"'SHALA DARPAN DATA'!D66","v":0},{"$f":"'SHALA DARPAN DATA'!J66","v":0},{"$f":"'SHALA DARPAN DATA'!T66","v":0},{"$f":"'SHALA DARPAN DATA'!V66","v":0},{"$f":"'SHALA DARPAN DATA'!K66","v":0},{"$f":"'SHALA DARPAN DATA'!E66","v":0},{"$f":"'SHALA DARPAN DATA'!G66","v":0},{"$f":"'SHALA DARPAN DATA'!H66","v":0},{"$f":"'SHALA DARPAN DATA'!W66","v":0},{"$f":"'SHALA DARPAN DATA'!R66","v":0},{"$f":"'SHALA DARPAN DATA'!S66","v":0},{"$f":"'SHALA DARPAN DATA'!O66","v":0},0,0,0,0,0,0,0,0,0,0,0]
[{"$f":"'SHALA DARPAN DATA'!C67","v":0},{"$f":"'SHALA DARPAN DATA'!A67","v":0},{"$f":"'SHALA DARPAN DATA'!B67","v":0},{"$f":"'SHALA DARPAN DATA'!D67","v":0},{"$f":"'SHALA DARPAN DATA'!J67","v":0},{"$f":"'SHALA DARPAN DATA'!T67","v":0},{"$f":"'SHALA DARPAN DATA'!V67","v":0},{"$f":"'SHALA DARPAN DATA'!K67","v":0},{"$f":"'SHALA DARPAN DATA'!E67","v":0},{"$f":"'SHALA DARPAN DATA'!G67","v":0},{"$f":"'SHALA DARPAN DATA'!H67","v":0},{"$f":"'SHALA DARPAN DATA'!W67","v":0},{"$f":"'SHALA DARPAN DATA'!R67","v":0},{"$f":"'SHALA DARPAN DATA'!S67","v":0},{"$f":"'SHALA DARPAN DATA'!O67","v":0},0,0,0,0,0,0,0,0,0,0,0]
[{"$f":"'SHALA DARPAN DATA'!C68","v":0},{"$f":"'SHALA DARPAN DATA'!A68","v":0},{"$f":"'SHALA DARPAN DATA'!B68","v":0},{"$f":"'SHALA DARPAN DATA'!D68","v":0},{"$f":"'SHALA DARPAN DATA'!J68","v":0},{"$f":"'SHALA DARPAN DATA'!T68","v":0},{"$f":"'SHALA DARPAN DATA'!V68","v":0},{"$f":"'SHALA DARPAN DATA'!K68","v":0},{"$f":"'SHALA DARPAN DATA'!E68","v":0},{"$f":"'SHALA DARPAN DATA'!G68","v":0},{"$f":"'SHALA DARPAN DATA'!H68","v":0},{"$f":"'SHALA DARPAN DATA'!W68","v":0},{"$f":"'SHALA DARPAN DATA'!R68","v":0},{"$f":"'SHALA DARPAN DATA'!S68","v":0},{"$f":"'SHALA DARPAN DATA'!O68","v":0},0,0,0,0,0,0,0,0,0,0,0]
[{"$f":"'SHALA DARPAN DATA'!C69","v":0},{"$f":"'SHALA DARPAN DATA'!A69","v":0},{"$f":"'SHALA DARPAN DATA'!B69","v":0},{"$f":"'SHALA DARPAN DATA'!D69","v":0},{"$f":"'SHALA DARPAN DATA'!J69","v":0},{"$f":"'SHALA DARPAN DATA'!T69","v":0},{"$f":"'SHALA DARPAN DATA'!V69","v":0},{"$f":"'SHALA DARPAN DATA'!K69","v":0},{"$f":"'SHALA DARPAN DATA'!E69","v":0},{"$f":"'SHALA DARPAN DATA'!G69","v":0},{"$f":"'SHALA DARPAN DATA'!H69","v":0},{"$f":"'SHALA DARPAN DATA'!W69","v":0},{"$f":"'SHALA DARPAN DATA'!R69","v":0},{"$f":"'SHALA DARPAN DATA'!S69","v":0},{"$f":"'SHALA DARPAN DATA'!O69","v":0},0,0,0,0,0,0,0,0,0,0,0]
[{"$f":"'SHALA DARPAN DATA'!C70","v":0},{"$f":"'SHALA DARPAN DATA'!A70","v":0},{"$f":"'SHALA DARPAN DATA'!B70","v":0},{"$f":"'SHALA DARPAN DATA'!D70","v":0},{"$f":"'SHALA DARPAN DATA'!J70","v":0},{"$f":"'SHALA DARPAN DATA'!T70","v":0},{"$f":"'SHALA DARPAN DATA'!V70","v":0},{"$f":"'SHALA DARPAN DATA'!K70","v":0},{"$f":"'SHALA DARPAN DATA'!E70","v":0},{"$f":"'SHALA DARPAN DATA'!G70","v":0},{"$f":"'SHALA DARPAN DATA'!H70","v":0},{"$f":"'SHALA DARPAN DATA'!W70","v":0},{"$f":"'SHALA DARPAN DATA'!R70","v":0},{"$f":"'SHALA DARPAN DATA'!S70","v":0},{"$f":"'SHALA DARPAN DATA'!O70","v":0},0,0,0,0,0,0,0,0,0,0,0]
[{"$f":"'SHALA DARPAN DATA'!C71","v":0},{"$f":"'SHALA DARPAN DATA'!A71","v":0},{"$f":"'SHALA DARPAN DATA'!B71","v":0},{"$f":"'SHALA DARPAN DATA'!D71","v":0},{"$f":"'SHALA DARPAN DATA'!J71","v":0},{"$f":"'SHALA DARPAN DATA'!T71","v":0},{"$f":"'SHALA DARPAN DATA'!V71","v":0},{"$f":"'SHALA DARPAN DATA'!K71","v":0},{"$f":"'SHALA DARPAN DATA'!E71","v":0},{"$f":"'SHALA DARPAN DATA'!G71","v":0},{"$f":"'SHALA DARPAN DATA'!H71","v":0},{"$f":"'SHALA DARPAN DATA'!W71","v":0},{"$f":"'SHALA DARPAN DATA'!R71","v":0},{"$f":"'SHALA DARPAN DATA'!S71","v":0},{"$f":"'SHALA DARPAN DATA'!O71","v":0},0,0,0,0,0,0,0,0,0,0,0]
[{"$f":"'SHALA DARPAN DATA'!C72","v":0},{"$f":"'SHALA DARPAN DATA'!A72","v":0},{"$f":"'SHALA DARPAN DATA'!B72","v":0},{"$f":"'SHALA DARPAN DATA'!D72","v":0},{"$f":"'SHALA DARPAN DATA'!J72","v":0},{"$f":"'SHALA DARPAN DATA'!T72","v":0},{"$f":"'SHALA DARPAN DATA'!V72","v":0},{"$f":"'SHALA DARPAN DATA'!K72","v":0},{"$f":"'SHALA DARPAN DATA'!E72","v":0},{"$f":"'SHALA DARPAN DATA'!G72","v":0},{"$f":"'SHALA DARPAN DATA'!H72","v":0},{"$f":"'SHALA DARPAN DATA'!W72","v":0},{"$f":"'SHALA DARPAN DATA'!R72","v":0},{"$f":"'SHALA DARPAN DATA'!S72","v":0},{"$f":"'SHALA DARPAN DATA'!O72","v":0},0,0,0,0,0,0,0,0,0,0,0]
[{"$f":"'SHALA DARPAN DATA'!C73","v":0},{"$f":"'SHALA DARPAN DATA'!A73","v":0},{"$f":"'SHALA DARPAN DATA'!B73","v":0},{"$f":"'SHALA DARPAN DATA'!D73","v":0},{"$f":"'SHALA DARPAN DATA'!J73","v":0},{"$f":"'SHALA DARPAN DATA'!T73","v":0},{"$f":"'SHALA DARPAN DATA'!V73","v":0},{"$f":"'SHALA DARPAN DATA'!K73","v":0},{"$f":"'SHALA DARPAN DATA'!E73","v":0},{"$f":"'SHALA DARPAN DATA'!G73","v":0},{"$f":"'SHALA DARPAN DATA'!H73","v":0},{"$f":"'SHALA DARPAN DATA'!W73","v":0},{"$f":"'SHALA DARPAN DATA'!R73","v":0},{"$f":"'SHALA DARPAN DATA'!S73","v":0},{"$f":"'SHALA DARPAN DATA'!O73","v":0},0,0,0,0,0,0,0,0,0,0,0]
[{"$f":"'SHALA DARPAN DATA'!C74","v":0},{"$f":"'SHALA DARPAN DATA'!A74","v":0},{"$f":"'SHALA DARPAN DATA'!B74","v":0},{"$f":"'SHALA DARPAN DATA'!D74","v":0},{"$f":"'SHALA DARPAN DATA'!J74","v":0},{"$f":"'SHALA DARPAN DATA'!T74","v":0},{"$f":"'SHALA DARPAN DATA'!V74","v":0},{"$f":"'SHALA DARPAN DATA'!K74","v":0},{"$f":"'SHALA DARPAN DATA'!E74","v":0},{"$f":"'SHALA DARPAN DATA'!G74","v":0},{"$f":"'SHALA DARPAN DATA'!H74","v":0},{"$f":"'SHALA DARPAN DATA'!W74","v":0},{"$f":"'SHALA DARPAN DATA'!R74","v":0},{"$f":"'SHALA DARPAN DATA'!S74","v":0},{"$f":"'SHALA DARPAN DATA'!O74","v":0},0,0,0,0,0,0,0,0,0,0,0]
[{"$f":"'SHALA DARPAN DATA'!C75","v":0},{"$f":"'SHALA DARPAN DATA'!A75","v":0},{"$f":"'SHALA DARPAN DATA'!B75","v":0},{"$f":"'SHALA DARPAN DATA'!D75","v":0},{"$f":"'SHALA DARPAN DATA'!J75","v":0},{"$f":"'SHALA DARPAN DATA'!T75","v":0},{"$f":"'SHALA DARPAN DATA'!V75","v":0},{"$f":"'SHALA DARPAN DATA'!K75","v":0},{"$f":"'SHALA DARPAN DATA'!E75","v":0},{"$f":"'SHALA DARPAN DATA'!G75","v":0},{"$f":"'SHALA DARPAN DATA'!H75","v":0},{"$f":"'SHALA DARPAN DATA'!W75","v":0},{"$f":"'SHALA DARPAN DATA'!R75","v":0},{"$f":"'SHALA DARPAN DATA'!S75","v":0},{"$f":"'SHALA DARPAN DATA'!O75","v":0},0,0,0,0,0,0,0,0,0,0,0]
[{"$f":"'SHALA DARPAN DATA'!C76","v":0},{"$f":"'SHALA DARPAN DATA'!A76","v":0},{"$f":"'SHALA DARPAN DATA'!B76","v":0},{"$f":"'SHALA DARPAN DATA'!D76","v":0},{"$f":"'SHALA DARPAN DATA'!J76","v":0},{"$f":"'SHALA DARPAN DATA'!T76","v":0},{"$f":"'SHALA DARPAN DATA'!V76","v":0},{"$f":"'SHALA DARPAN DATA'!K76","v":0},{"$f":"'SHALA DARPAN DATA'!E76","v":0},{"$f":"'SHALA DARPAN DATA'!G76","v":0},{"$f":"'SHALA DARPAN DATA'!H76","v":0},{"$f":"'SHALA DARPAN DATA'!W76","v":0},{"$f":"'SHALA DARPAN DATA'!R76","v":0},{"$f":"'SHALA DARPAN DATA'!S76","v":0},{"$f":"'SHALA DARPAN DATA'!O76","v":0},0,0,0,0,0,0,0,0,0,0,0]
[{"$f":"'SHALA DARPAN DATA'!C77","v":0},{"$f":"'SHALA DARPAN DATA'!A77","v":0},{"$f":"'SHALA DARPAN DATA'!B77","v":0},{"$f":"'SHALA DARPAN DATA'!D77","v":0},{"$f":"'SHALA DARPAN DATA'!J77","v":0},{"$f":"'SHALA DARPAN DATA'!T77","v":0},{"$f":"'SHALA DARPAN DATA'!V77","v":0},{"$f":"'SHALA DARPAN DATA'!K77","v":0},{"$f":"'SHALA DARPAN DATA'!E77","v":0},{"$f":"'SHALA DARPAN DATA'!G77","v":0},{"$f":"'SHALA DARPAN DATA'!H77","v":0},{"$f":"'SHALA DARPAN DATA'!W77","v":0},{"$f":"'SHALA DARPAN DATA'!R77","v":0},{"$f":"'SHALA DARPAN DATA'!S77","v":0},{"$f":"'SHALA DARPAN DATA'!O77","v":0},0,0,0,0,0,0,0,0,0,0,0]
[{"$f":"'SHALA DARPAN DATA'!C78","v":0},{"$f":"'SHALA DARPAN DATA'!A78","v":0},{"$f":"'SHALA DARPAN DATA'!B78","v":0},{"$f":"'SHALA DARPAN DATA'!D78","v":0},{"$f":"'SHALA DARPAN DATA'!J78","v":0},{"$f":"'SHALA DARPAN DATA'!T78","v":0},{"$f":"'SHALA DARPAN DATA'!V78","v":0},{"$f":"'SHALA DARPAN DATA'!K78","v":0},{"$f":"'SHALA DARPAN DATA'!E78","v":0},{"$f":"'SHALA DARPAN DATA'!G78","v":0},{"$f":"'SHALA DARPAN DATA'!H78","v":0},{"$f":"'SHALA DARPAN DATA'!W78","v":0},{"$f":"'SHALA DARPAN DATA'!R78","v":0},{"$f":"'SHALA DARPAN DATA'!S78","v":0},{"$f":"'SHALA DARPAN DATA'!O78","v":0},0,0,0,0,0,0,0,0,0,0,0]
[{"$f":"'SHALA DARPAN DATA'!C79","v":0},{"$f":"'SHALA DARPAN DATA'!A79","v":0},{"$f":"'SHALA DARPAN DATA'!B79","v":0},{"$f":"'SHALA DARPAN DATA'!D79","v":0},{"$f":"'SHALA DARPAN DATA'!J79","v":0},{"$f":"'SHALA DARPAN DATA'!T79","v":0},{"$f":"'SHALA DARPAN DATA'!V79","v":0},{"$f":"'SHALA DARPAN DATA'!K79","v":0},{"$f":"'SHALA DARPAN DATA'!E79","v":0},{"$f":"'SHALA DARPAN DATA'!G79","v":0},{"$f":"'SHALA DARPAN DATA'!H79","v":0},{"$f":"'SHALA DARPAN DATA'!W79","v":0},{"$f":"'SHALA DARPAN DATA'!R79","v":0},{"$f":"'SHALA DARPAN DATA'!S79","v":0},{"$f":"'SHALA DARPAN DATA'!O79","v":0},0,0,0,0,0,0,0,0,0,0,0]
[{"$f":"'SHALA DARPAN DATA'!C80","v":0},{"$f":"'SHALA DARPAN DATA'!A80","v":0},{"$f":"'SHALA DARPAN DATA'!B80","v":0},{"$f":"'SHALA DARPAN DATA'!D80","v":0},{"$f":"'SHALA DARPAN DATA'!J80","v":0},{"$f":"'SHALA DARPAN DATA'!T80","v":0},{"$f":"'SHALA DARPAN DATA'!V80","v":0},{"$f":"'SHALA DARPAN DATA'!K80","v":0},{"$f":"'SHALA DARPAN DATA'!E80","v":0},{"$f":"'SHALA DARPAN DATA'!G80","v":0},{"$f":"'SHALA DARPAN DATA'!H80","v":0},{"$f":"'SHALA DARPAN DATA'!W80","v":0},{"$f":"'SHALA DARPAN DATA'!R80","v":0},{"$f":"'SHALA DARPAN DATA'!S80","v":0},{"$f":"'SHALA DARPAN DATA'!O80","v":0},0,0,0,0,0,0,0,0,0,0,0]
[{"$f":"'SHALA DARPAN DATA'!C81","v":0},{"$f":"'SHALA DARPAN DATA'!A81","v":0},{"$f":"'SHALA DARPAN DATA'!B81","v":0},{"$f":"'SHALA DARPAN DATA'!D81","v":0},{"$f":"'SHALA DARPAN DATA'!J81","v":0},{"$f":"'SHALA DARPAN DATA'!T81","v":0},{"$f":"'SHALA DARPAN DATA'!V81","v":0},{"$f":"'SHALA DARPAN DATA'!K81","v":0},{"$f":"'SHALA DARPAN DATA'!E81","v":0},{"$f":"'SHALA DARPAN DATA'!G81","v":0},{"$f":"'SHALA DARPAN DATA'!H81","v":0},{"$f":"'SHALA DARPAN DATA'!W81","v":0},{"$f":"'SHALA DARPAN DATA'!R81","v":0},{"$f":"'SHALA DARPAN DATA'!S81","v":0},{"$f":"'SHALA DARPAN DATA'!O81","v":0},0,0,0,0,0,0,0,0,0,0,0]
[{"$f":"'SHALA DARPAN DATA'!C82","v":0},{"$f":"'SHALA DARPAN DATA'!A82","v":0},{"$f":"'SHALA DARPAN DATA'!B82","v":0},{"$f":"'SHALA DARPAN DATA'!D82","v":0},{"$f":"'SHALA DARPAN DATA'!J82","v":0},{"$f":"'SHALA DARPAN DATA'!T82","v":0},{"$f":"'SHALA DARPAN DATA'!V82","v":0},{"$f":"'SHALA DARPAN DATA'!K82","v":0},{"$f":"'SHALA DARPAN DATA'!E82","v":0},{"$f":"'SHALA DARPAN DATA'!G82","v":0},{"$f":"'SHALA DARPAN DATA'!H82","v":0},{"$f":"'SHALA DARPAN DATA'!W82","v":0},{"$f":"'SHALA DARPAN DATA'!R82","v":0},{"$f":"'SHALA DARPAN DATA'!S82","v":0},{"$f":"'SHALA DARPAN DATA'!O82","v":0},0,0,0,0,0,0,0,0,0,0,0]
[{"$f":"'SHALA DARPAN DATA'!C83","v":0},{"$f":"'SHALA DARPAN DATA'!A83","v":0},{"$f":"'SHALA DARPAN DATA'!B83","v":0},{"$f":"'SHALA DARPAN DATA'!D83","v":0},{"$f":"'SHALA DARPAN DATA'!J83","v":0},{"$f":"'SHALA DARPAN DATA'!T83","v":0},{"$f":"'SHALA DARPAN DATA'!V83","v":0},{"$f":"'SHALA DARPAN DATA'!K83","v":0},{"$f":"'SHALA DARPAN DATA'!E83","v":0},{"$f":"'SHALA DARPAN DATA'!G83","v":0},{"$f":"'SHALA DARPAN DATA'!H83","v":0},{"$f":"'SHALA DARPAN DATA'!W83","v":0},{"$f":"'SHALA DARPAN DATA'!R83","v":0},{"$f":"'SHALA DARPAN DATA'!S83","v":0},{"$f":"'SHALA DARPAN DATA'!O83","v":0},0,0,0,0,0,0,0,0,0,0,0]
[{"$f":"'SHALA DARPAN DATA'!C84","v":0},{"$f":"'SHALA DARPAN DATA'!A84","v":0},{"$f":"'SHALA DARPAN DATA'!B84","v":0},{"$f":"'SHALA DARPAN DATA'!D84","v":0},{"$f":"'SHALA DARPAN DATA'!J84","v":0},{"$f":"'SHALA DARPAN DATA'!T84","v":0},{"$f":"'SHALA DARPAN DATA'!V84","v":0},{"$f":"'SHALA DARPAN DATA'!K84","v":0},{"$f":"'SHALA DARPAN DATA'!E84","v":0},{"$f":"'SHALA DARPAN DATA'!G84","v":0},{"$f":"'SHALA DARPAN DATA'!H84","v":0},{"$f":"'SHALA DARPAN DATA'!W84","v":0},{"$f":"'SHALA DARPAN DATA'!R84","v":0},{"$f":"'SHALA DARPAN DATA'!S84","v":0},{"$f":"'SHALA DARPAN DATA'!O84","v":0},0,0,0,0,0,0,0,0,0,0,0]
[{"$f":"'SHALA DARPAN DATA'!C85","v":0},{"$f":"'SHALA DARPAN DATA'!A85","v":0},{"$f":"'SHALA DARPAN DATA'!B85","v":0},{"$f":"'SHALA DARPAN DATA'!D85","v":0},{"$f":"'SHALA DARPAN DATA'!J85","v":0},{"$f":"'SHALA DARPAN DATA'!T85","v":0},{"$f":"'SHALA DARPAN DATA'!V85","v":0},{"$f":"'SHALA DARPAN DATA'!K85","v":0},{"$f":"'SHALA DARPAN DATA'!E85","v":0},{"$f":"'SHALA DARPAN DATA'!G85","v":0},{"$f":"'SHALA DARPAN DATA'!H85","v":0},{"$f":"'SHALA DARPAN DATA'!W85","v":0},{"$f":"'SHALA DARPAN DATA'!R85","v":0},{"$f":"'SHALA DARPAN DATA'!S85","v":0},{"$f":"'SHALA DARPAN DATA'!O85","v":0},0,0,0,0,0,0,0,0,0,0,0]
[{"$f":"'SHALA DARPAN DATA'!C86","v":0},{"$f":"'SHALA DARPAN DATA'!A86","v":0},{"$f":"'SHALA DARPAN DATA'!B86","v":0},{"$f":"'SHALA DARPAN DATA'!D86","v":0},{"$f":"'SHALA DARPAN DATA'!J86","v":0},{"$f":"'SHALA DARPAN DATA'!T86","v":0},{"$f":"'SHALA DARPAN DATA'!V86","v":0},{"$f":"'SHALA DARPAN DATA'!K86","v":0},{"$f":"'SHALA DARPAN DATA'!E86","v":0},{"$f":"'SHALA DARPAN DATA'!G86","v":0},{"$f":"'SHALA DARPAN DATA'!H86","v":0},{"$f":"'SHALA DARPAN DATA'!W86","v":0},{"$f":"'SHALA DARPAN DATA'!R86","v":0},{"$f":"'SHALA DARPAN DATA'!S86","v":0},{"$f":"'SHALA DARPAN DATA'!O86","v":0},0,0,0,0,0,0,0,0,0,0,0]
[{"$f":"'SHALA DARPAN DATA'!C87","v":0},{"$f":"'SHALA DARPAN DATA'!A87","v":0},{"$f":"'SHALA DARPAN DATA'!B87","v":0},{"$f":"'SHALA DARPAN DATA'!D87","v":0},{"$f":"'SHALA DARPAN DATA'!J87","v":0},{"$f":"'SHALA DARPAN DATA'!T87","v":0},{"$f":"'SHALA DARPAN DATA'!V87","v":0},{"$f":"'SHALA DARPAN DATA'!K87","v":0},{"$f":"'SHALA DARPAN DATA'!E87","v":0},{"$f":"'SHALA DARPAN DATA'!G87","v":0},{"$f":"'SHALA DARPAN DATA'!H87","v":0},{"$f":"'SHALA DARPAN DATA'!W87","v":0},{"$f":"'SHALA DARPAN DATA'!R87","v":0},{"$f":"'SHALA DARPAN DATA'!S87","v":0},{"$f":"'SHALA DARPAN DATA'!O87","v":0},0,0,0,0,0,0,0,0,0,0,0]
[{"$f":"'SHALA DARPAN DATA'!C88","v":0},{"$f":"'SHALA DARPAN DATA'!A88","v":0},{"$f":"'SHALA DARPAN DATA'!B88","v":0},{"$f":"'SHALA DARPAN DATA'!D88","v":0},{"$f":"'SHALA DARPAN DATA'!J88","v":0},{"$f":"'SHALA DARPAN DATA'!T88","v":0},{"$f":"'SHALA DARPAN DATA'!V88","v":0},{"$f":"'SHALA DARPAN DATA'!K88","v":0},{"$f":"'SHALA DARPAN DATA'!E88","v":0},{"$f":"'SHALA DARPAN DATA'!G88","v":0},{"$f":"'SHALA DARPAN DATA'!H88","v":0},{"$f":"'SHALA DARPAN DATA'!W88","v":0},{"$f":"'SHALA DARPAN DATA'!R88","v":0},{"$f":"'SHALA DARPAN DATA'!S88","v":0},{"$f":"'SHALA DARPAN DATA'!O88","v":0},0,0,0,0,0,0,0,0,0,0,0]
[{"$f":"'SHALA DARPAN DATA'!C89","v":0},{"$f":"'SHALA DARPAN DATA'!A89","v":0},{"$f":"'SHALA DARPAN DATA'!B89","v":0},{"$f":"'SHALA DARPAN DATA'!D89","v":0},{"$f":"'SHALA DARPAN DATA'!J89","v":0},{"$f":"'SHALA DARPAN DATA'!T89","v":0},{"$f":"'SHALA DARPAN DATA'!V89","v":0},{"$f":"'SHALA DARPAN DATA'!K89","v":0},{"$f":"'SHALA DARPAN DATA'!E89","v":0},{"$f":"'SHALA DARPAN DATA'!G89","v":0},{"$f":"'SHALA DARPAN DATA'!H89","v":0},{"$f":"'SHALA DARPAN DATA'!W89","v":0},{"$f":"'SHALA DARPAN DATA'!R89","v":0},{"$f":"'SHALA DARPAN DATA'!S89","v":0},{"$f":"'SHALA DARPAN DATA'!O89","v":0},0,0,0,0,0,0,0,0,0,0,0]
[{"$f":"'SHALA DARPAN DATA'!C90","v":0},{"$f":"'SHALA DARPAN DATA'!A90","v":0},{"$f":"'SHALA DARPAN DATA'!B90","v":0},{"$f":"'SHALA DARPAN DATA'!D90","v":0},{"$f":"'SHALA DARPAN DATA'!J90","v":0},{"$f":"'SHALA DARPAN DATA'!T90","v":0},{"$f":"'SHALA DARPAN DATA'!V90","v":0},{"$f":"'SHALA DARPAN DATA'!K90","v":0},{"$f":"'SHALA DARPAN DATA'!E90","v":0},{"$f":"'SHALA DARPAN DATA'!G90","v":0},{"$f":"'SHALA DARPAN DATA'!H90","v":0},{"$f":"'SHALA DARPAN DATA'!W90","v":0},{"$f":"'SHALA DARPAN DATA'!R90","v":0},{"$f":"'SHALA DARPAN DATA'!S90","v":0},{"$f":"'SHALA DARPAN DATA'!O90","v":0},0,0,0,0,0,0,0,0,0,0,0]
[{"$f":"'SHALA DARPAN DATA'!C91","v":0},{"$f":"'SHALA DARPAN DATA'!A91","v":0},{"$f":"'SHALA DARPAN DATA'!B91","v":0},{"$f":"'SHALA DARPAN DATA'!D91","v":0},{"$f":"'SHALA DARPAN DATA'!J91","v":0},{"$f":"'SHALA DARPAN DATA'!T91","v":0},{"$f":"'SHALA DARPAN DATA'!V91","v":0},{"$f":"'SHALA DARPAN DATA'!K91","v":0},{"$f":"'SHALA DARPAN DATA'!E91","v":0},{"$f":"'SHALA DARPAN DATA'!G91","v":0},{"$f":"'SHALA DARPAN DATA'!H91","v":0},{"$f":"'SHALA DARPAN DATA'!W91","v":0},{"$f":"'SHALA DARPAN DATA'!R91","v":0},{"$f":"'SHALA DARPAN DATA'!S91","v":0},{"$f":"'SHALA DARPAN DATA'!O91","v":0},0,0,0,0,0,0,0,0,0,0,0]
[{"$f":"'SHALA DARPAN DATA'!C92","v":0},{"$f":"'SHALA DARPAN DATA'!A92","v":0},{"$f":"'SHALA DARPAN DATA'!B92","v":0},{"$f":"'SHALA DARPAN DATA'!D92","v":0},{"$f":"'SHALA DARPAN DATA'!J92","v":0},{"$f":"'SHALA DARPAN DATA'!T92","v":0},{"$f":"'SHALA DARPAN DATA'!V92","v":0},{"$f":"'SHALA DARPAN DATA'!K92","v":0},{"$f":"'SHALA DARPAN DATA'!E92","v":0},{"$f":"'SHALA DARPAN DATA'!G92","v":0},{"$f":"'SHALA DARPAN DATA'!H92","v":0},{"$f":"'SHALA DARPAN DATA'!W92","v":0},{"$f":"'SHALA DARPAN DATA'!R92","v":0},{"$f":"'SHALA DARPAN DATA'!S92","v":0},{"$f":"'SHALA DARPAN DATA'!O92","v":0},0,0,0,0,0,0,0,0,0,0,0]
[{"$f":"'SHALA DARPAN DATA'!C93","v":0},{"$f":"'SHALA DARPAN DATA'!A93","v":0},{"$f":"'SHALA DARPAN DATA'!B93","v":0},{"$f":"'SHALA DARPAN DATA'!D93","v":0},{"$f":"'SHALA DARPAN DATA'!J93","v":0},{"$f":"'SHALA DARPAN DATA'!T93","v":0},{"$f":"'SHALA DARPAN DATA'!V93","v":0},{"$f":"'SHALA DARPAN DATA'!K93","v":0},{"$f":"'SHALA DARPAN DATA'!E93","v":0},{"$f":"'SHALA DARPAN DATA'!G93","v":0},{"$f":"'SHALA DARPAN DATA'!H93","v":0},{"$f":"'SHALA DARPAN DATA'!W93","v":0},{"$f":"'SHALA DARPAN DATA'!R93","v":0},{"$f":"'SHALA DARPAN DATA'!S93","v":0},{"$f":"'SHALA DARPAN DATA'!O93","v":0},0,0,0,0,0,0,0,0,0,0,0]
[{"$f":"'SHALA DARPAN DATA'!C94","v":0},{"$f":"'SHALA DARPAN DATA'!A94","v":0},{"$f":"'SHALA DARPAN DATA'!B94","v":0},{"$f":"'SHALA DARPAN DATA'!D94","v":0},{"$f":"'SHALA DARPAN DATA'!J94","v":0},{"$f":"'SHALA DARPAN DATA'!T94","v":0},{"$f":"'SHALA DARPAN DATA'!V94","v":0},{"$f":"'SHALA DARPAN DATA'!K94","v":0},{"$f":"'SHALA DARPAN DATA'!E94","v":0},{"$f":"'SHALA DARPAN DATA'!G94","v":0},{"$f":"'SHALA DARPAN DATA'!H94","v":0},{"$f":"'SHALA DARPAN DATA'!W94","v":0},{"$f":"'SHALA DARPAN DATA'!R94","v":0},{"$f":"'SHALA DARPAN DATA'!S94","v":0},{"$f":"'SHALA DARPAN DATA'!O94","v":0},0,0,0,0,0,0,0,0,0,0,0]
[{"$f":"'SHALA DARPAN DATA'!C95","v":0},{"$f":"'SHALA DARPAN DATA'!A95","v":0},{"$f":"'SHALA DARPAN DATA'!B95","v":0},{"$f":"'SHALA DARPAN DATA'!D95","v":0},{"$f":"'SHALA DARPAN DATA'!J95","v":0},{"$f":"'SHALA DARPAN DATA'!T95","v":0},{"$f":"'SHALA DARPAN DATA'!V95","v":0},{"$f":"'SHALA DARPAN DATA'!K95","v":0},{"$f":"'SHALA DARPAN DATA'!E95","v":0},{"$f":"'SHALA DARPAN DATA'!G95","v":0},{"$f":"'SHALA DARPAN DATA'!H95","v":0},{"$f":"'SHALA DARPAN DATA'!W95","v":0},{"$f":"'SHALA DARPAN DATA'!R95","v":0},{"$f":"'SHALA DARPAN DATA'!S95","v":0},{"$f":"'SHALA DARPAN DATA'!O95","v":0},0,0,0,0,0,0,0,0,0,0,0]
[{"$f":"'SHALA DARPAN DATA'!C96","v":0},{"$f":"'SHALA DARPAN DATA'!A96","v":0},{"$f":"'SHALA DARPAN DATA'!B96","v":0},{"$f":"'SHALA DARPAN DATA'!D96","v":0},{"$f":"'SHALA DARPAN DATA'!J96","v":0},{"$f":"'SHALA DARPAN DATA'!T96","v":0},{"$f":"'SHALA DARPAN DATA'!V96","v":0},{"$f":"'SHALA DARPAN DATA'!K96","v":0},{"$f":"'SHALA DARPAN DATA'!E96","v":0},{"$f":"'SHALA DARPAN DATA'!G96","v":0},{"$f":"'SHALA DARPAN DATA'!H96","v":0},{"$f":"'SHALA DARPAN DATA'!W96","v":0},{"$f":"'SHALA DARPAN DATA'!R96","v":0},{"$f":"'SHALA DARPAN DATA'!S96","v":0},{"$f":"'SHALA DARPAN DATA'!O96","v":0},0,0,0,0,0,0,0,0,0,0,0]
[{"$f":"'SHALA DARPAN DATA'!C97","v":0},{"$f":"'SHALA DARPAN DATA'!A97","v":0},{"$f":"'SHALA DARPAN DATA'!B97","v":0},{"$f":"'SHALA DARPAN DATA'!D97","v":0},{"$f":"'SHALA DARPAN DATA'!J97","v":0},{"$f":"'SHALA DARPAN DATA'!T97","v":0},{"$f":"'SHALA DARPAN DATA'!V97","v":0},{"$f":"'SHALA DARPAN DATA'!K97","v":0},{"$f":"'SHALA DARPAN DATA'!E97","v":0},{"$f":"'SHALA DARPAN DATA'!G97","v":0},{"$f":"'SHALA DARPAN DATA'!H97","v":0},{"$f":"'SHALA DARPAN DATA'!W97","v":0},{"$f":"'SHALA DARPAN DATA'!R97","v":0},{"$f":"'SHALA DARPAN DATA'!S97","v":0},{"$f":"'SHALA DARPAN DATA'!O97","v":0},0,0,0,0,0,0,0,0,0,0,0]
[{"$f":"'SHALA DARPAN DATA'!C98","v":0},{"$f":"'SHALA DARPAN DATA'!A98","v":0},{"$f":"'SHALA DARPAN DATA'!B98","v":0},{"$f":"'SHALA DARPAN DATA'!D98","v":0},{"$f":"'SHALA DARPAN DATA'!J98","v":0},{"$f":"'SHALA DARPAN DATA'!T98","v":0},{"$f":"'SHALA DARPAN DATA'!V98","v":0},{"$f":"'SHALA DARPAN DATA'!K98","v":0},{"$f":"'SHALA DARPAN DATA'!E98","v":0},{"$f":"'SHALA DARPAN DATA'!G98","v":0},{"$f":"'SHALA DARPAN DATA'!H98","v":0},{"$f":"'SHALA DARPAN DATA'!W98","v":0},{"$f":"'SHALA DARPAN DATA'!R98","v":0},{"$f":"'SHALA DARPAN DATA'!S98","v":0},{"$f":"'SHALA DARPAN DATA'!O98","v":0},0,0,0,0,0,0,0,0,0,0,0]
[{"$f":"'SHALA DARPAN DATA'!C99","v":0},{"$f":"'SHALA DARPAN DATA'!A99","v":0},{"$f":"'SHALA DARPAN DATA'!B99","v":0},{"$f":"'SHALA DARPAN DATA'!D99","v":0},{"$f":"'SHALA DARPAN DATA'!J99","v":0},{"$f":"'SHALA DARPAN DATA'!T99","v":0},{"$f":"'SHALA DARPAN DATA'!V99","v":0},{"$f":"'SHALA DARPAN DATA'!K99","v":0},{"$f":"'SHALA DARPAN DATA'!E99","v":0},{"$f":"'SHALA DARPAN DATA'!G99","v":0},{"$f":"'SHALA DARPAN DATA'!H99","v":0},{"$f":"'SHALA DARPAN DATA'!W99","v":0},{"$f":"'SHALA DARPAN DATA'!R99","v":0},{"$f":"'SHALA DARPAN DATA'!S99","v":0},{"$f":"'SHALA DARPAN DATA'!O99","v":0},0,0,0,0,0,0,0,0,0,0,0]
[{"$f":"'SHALA DARPAN DATA'!C100","v":0},{"$f":"'SHALA DARPAN DATA'!A100","v":0},{"$f":"'SHALA DARPAN DATA'!B100","v":0},{"$f":"'SHALA DARPAN DATA'!D100","v":0},{"$f":"'SHALA DARPAN DATA'!J100","v":0},{"$f":"'SHALA DARPAN DATA'!T100","v":0},{"$f":"'SHALA DARPAN DATA'!V100","v":0},{"$f":"'SHALA DARPAN DATA'!K100","v":0},{"$f":"'SHALA DARPAN DATA'!E100","v":0},{"$f":"'SHALA DARPAN DATA'!G100","v":0},{"$f":"'SHALA DARPAN DATA'!H100","v":0},{"$f":"'SHALA DARPAN DATA'!W100","v":0},{"$f":"'SHALA DARPAN DATA'!R100","v":0},{"$f":"'SHALA DARPAN DATA'!S100","v":0},{"$f":"'SHALA DARPAN DATA'!O100","v":0},0,0,0,0,0,0,0,0,0,0,0]
[{"$f":"'SHALA DARPAN DATA'!C101","v":0},{"$f":"'SHALA DARPAN DATA'!A101","v":0},{"$f":"'SHALA DARPAN DATA'!B101","v":0},{"$f":"'SHALA DARPAN DATA'!D101","v":0},{"$f":"'SHALA DARPAN DATA'!J101","v":0},{"$f":"'SHALA DARPAN DATA'!T101","v":0},{"$f":"'SHALA DARPAN DATA'!V101","v":0},{"$f":"'SHALA DARPAN DATA'!K101","v":0},{"$f":"'SHALA DARPAN DATA'!E101","v":0},{"$f":"'SHALA DARPAN DATA'!G101","v":0},{"$f":"'SHALA DARPAN DATA'!H101","v":0},{"$f":"'SHALA DARPAN DATA'!W101","v":0},{"$f":"'SHALA DARPAN DATA'!R101","v":0},{"$f":"'SHALA DARPAN DATA'!S101","v":0},{"$f":"'SHALA DARPAN DATA'!O101","v":0},0,0,0,0,0,0,0,0,0,0,0]
[{"$f":"'SHALA DARPAN DATA'!C102","v":0},{"$f":"'SHALA DARPAN DATA'!A102","v":0},{"$f":"'SHALA DARPAN DATA'!B102","v":0},{"$f":"'SHALA DARPAN DATA'!D102","v":0},{"$f":"'SHALA DARPAN DATA'!J102","v":0},{"$f":"'SHALA DARPAN DATA'!T102","v":0},{"$f":"'SHALA DARPAN DATA'!V102","v":0},{"$f":"'SHALA DARPAN DATA'!K102","v":0},{"$f":"'SHALA DARPAN DATA'!E102","v":0},{"$f":"'SHALA DARPAN DATA'!G102","v":0},{"$f":"'SHALA DARPAN DATA'!H102","v":0},{"$f":"'SHALA DARPAN DATA'!W102","v":0},{"$f":"'SHALA DARPAN DATA'!R102","v":0},{"$f":"'SHALA DARPAN DATA'!S102","v":0},{"$f":"'SHALA DARPAN DATA'!O102","v":0},0,0,0,0,0,0,0,0,0,0,0]
[{"$f":"'SHALA DARPAN DATA'!C103","v":0},{"$f":"'SHALA DARPAN DATA'!A103","v":0},{"$f":"'SHALA DARPAN DATA'!B103","v":0},{"$f":"'SHALA DARPAN DATA'!D103","v":0},{"$f":"'SHALA DARPAN DATA'!J103","v":0},{"$f":"'SHALA DARPAN DATA'!T103","v":0},{"$f":"'SHALA DARPAN DATA'!V103","v":0},{"$f":"'SHALA DARPAN DATA'!K103","v":0},{"$f":"'SHALA DARPAN DATA'!E103","v":0},{"$f":"'SHALA DARPAN DATA'!G103","v":0},{"$f":"'SHALA DARPAN DATA'!H103","v":0},{"$f":"'SHALA DARPAN DATA'!W103","v":0},{"$f":"'SHALA DARPAN DATA'!R103","v":0},{"$f":"'SHALA DARPAN DATA'!S103","v":0},{"$f":"'SHALA DARPAN DATA'!O103","v":0},0,0,0,0,0,0,0,0,0,0,0]
[{"$f":"'SHALA DARPAN DATA'!C104","v":0},{"$f":"'SHALA DARPAN DATA'!A104","v":0},{"$f":"'SHALA DARPAN DATA'!B104","v":0},{"$f":"'SHALA DARPAN DATA'!D104","v":0},{"$f":"'SHALA DARPAN DATA'!J104","v":0},{"$f":"'SHALA DARPAN DATA'!T104","v":0},{"$f":"'SHALA DARPAN DATA'!V104","v":0},{"$f":"'SHALA DARPAN DATA'!K104","v":0},{"$f":"'SHALA DARPAN DATA'!E104","v":0},{"$f":"'SHALA DARPAN DATA'!G104","v":0},{"$f":"'SHALA DARPAN DATA'!H104","v":0},{"$f":"'SHALA DARPAN DATA'!W104","v":0},{"$f":"'SHALA DARPAN DATA'!R104","v":0},{"$f":"'SHALA DARPAN DATA'!S104","v":0},{"$f":"'SHALA DARPAN DATA'!O104","v":0},0,0,0,0,0,0,0,0,0,0,0]
[{"$f":"'SHALA DARPAN DATA'!C105","v":0},{"$f":"'SHALA DARPAN DATA'!A105","v":0},{"$f":"'SHALA DARPAN DATA'!B105","v":0},{"$f":"'SHALA DARPAN DATA'!D105","v":0},{"$f":"'SHALA DARPAN DATA'!J105","v":0},{"$f":"'SHALA DARPAN DATA'!T105","v":0},{"$f":"'SHALA DARPAN DATA'!V105","v":0},{"$f":"'SHALA DARPAN DATA'!K105","v":0},{"$f":"'SHALA DARPAN DATA'!E105","v":0},{"$f":"'SHALA DARPAN DATA'!G105","v":0},{"$f":"'SHALA DARPAN DATA'!H105","v":0},{"$f":"'SHALA DARPAN DATA'!W105","v":0},{"$f":"'SHALA DARPAN DATA'!R105","v":0},{"$f":"'SHALA DARPAN DATA'!S105","v":0},{"$f":"'SHALA DARPAN DATA'!O105","v":0},0,0,0,0,0,0,0,0,0,0,0]
[{"$f":"'SHALA DARPAN DATA'!C106","v":0},{"$f":"'SHALA DARPAN DATA'!A106","v":0},{"$f":"'SHALA DARPAN DATA'!B106","v":0},{"$f":"'SHALA DARPAN DATA'!D106","v":0},{"$f":"'SHALA DARPAN DATA'!J106","v":0},{"$f":"'SHALA DARPAN DATA'!T106","v":0},{"$f":"'SHALA DARPAN DATA'!V106","v":0},{"$f":"'SHALA DARPAN DATA'!K106","v":0},{"$f":"'SHALA DARPAN DATA'!E106","v":0},{"$f":"'SHALA DARPAN DATA'!G106","v":0},{"$f":"'SHALA DARPAN DATA'!H106","v":0},{"$f":"'SHALA DARPAN DATA'!W106","v":0},{"$f":"'SHALA DARPAN DATA'!R106","v":0},{"$f":"'SHALA DARPAN DATA'!S106","v":0},{"$f":"'SHALA DARPAN DATA'!O106","v":0},0,0,0,0,0,0,0,0,0,0,0]
[{"$f":"'SHALA DARPAN DATA'!C107","v":0},{"$f":"'SHALA DARPAN DATA'!A107","v":0},{"$f":"'SHALA DARPAN DATA'!B107","v":0},{"$f":"'SHALA DARPAN DATA'!D107","v":0},{"$f":"'SHALA DARPAN DATA'!J107","v":0},{"$f":"'SHALA DARPAN DATA'!T107","v":0},{"$f":"'SHALA DARPAN DATA'!V107","v":0},{"$f":"'SHALA DARPAN DATA'!K107","v":0},{"$f":"'SHALA DARPAN DATA'!E107","v":0},{"$f":"'SHALA DARPAN DATA'!G107","v":0},{"$f":"'SHALA DARPAN DATA'!H107","v":0},{"$f":"'SHALA DARPAN DATA'!W107","v":0},{"$f":"'SHALA DARPAN DATA'!R107","v":0},{"$f":"'SHALA DARPAN DATA'!S107","v":0},{"$f":"'SHALA DARPAN DATA'!O107","v":0},0,0,0,0,0,0,0,0,0,0,0]
[{"$f":"'SHALA DARPAN DATA'!C108","v":0},{"$f":"'SHALA DARPAN DATA'!A108","v":0},{"$f":"'SHALA DARPAN DATA'!B108","v":0},{"$f":"'SHALA DARPAN DATA'!D108","v":0},{"$f":"'SHALA DARPAN DATA'!J108","v":0},{"$f":"'SHALA DARPAN DATA'!T108","v":0},{"$f":"'SHALA DARPAN DATA'!V108","v":0},{"$f":"'SHALA DARPAN DATA'!K108","v":0},{"$f":"'SHALA DARPAN DATA'!E108","v":0},{"$f":"'SHALA DARPAN DATA'!G108","v":0},{"$f":"'SHALA DARPAN DATA'!H108","v":0},{"$f":"'SHALA DARPAN DATA'!W108","v":0},{"$f":"'SHALA DARPAN DATA'!R108","v":0},{"$f":"'SHALA DARPAN DATA'!S108","v":0},{"$f":"'SHALA DARPAN DATA'!O108","v":0},0,0,0,0,0,0,0,0,0,0,0]
[{"$f":"'SHALA DARPAN DATA'!C109","v":0},{"$f":"'SHALA DARPAN DATA'!A109","v":0},{"$f":"'SHALA DARPAN DATA'!B109","v":0},{"$f":"'SHALA DARPAN DATA'!D109","v":0},{"$f":"'SHALA DARPAN DATA'!J109","v":0},{"$f":"'SHALA DARPAN DATA'!T109","v":0},{"$f":"'SHALA DARPAN DATA'!V109","v":0},{"$f":"'SHALA DARPAN DATA'!K109","v":0},{"$f":"'SHALA DARPAN DATA'!E109","v":0},{"$f":"'SHALA DARPAN DATA'!G109","v":0},{"$f":"'SHALA DARPAN DATA'!H109","v":0},{"$f":"'SHALA DARPAN DATA'!W109","v":0},{"$f":"'SHALA DARPAN DATA'!R109","v":0},{"$f":"'SHALA DARPAN DATA'!S109","v":0},{"$f":"'SHALA DARPAN DATA'!O109","v":0},0,0,0,0,0,0,0,0,0,0,0]
[{"$f":"'SHALA DARPAN DATA'!C110","v":0},{"$f":"'SHALA DARPAN DATA'!A110","v":0},{"$f":"'SHALA DARPAN DATA'!B110","v":0},{"$f":"'SHALA DARPAN DATA'!D110","v":0},{"$f":"'SHALA DARPAN DATA'!J110","v":0},{"$f":"'SHALA DARPAN DATA'!T110","v":0},{"$f":"'SHALA DARPAN DATA'!V110","v":0},{"$f":"'SHALA DARPAN DATA'!K110","v":0},{"$f":"'SHALA DARPAN DATA'!E110","v":0},{"$f":"'SHALA DARPAN DATA'!G110","v":0},{"$f":"'SHALA DARPAN DATA'!H110","v":0},{"$f":"'SHALA DARPAN DATA'!W110","v":0},{"$f":"'SHALA DARPAN DATA'!R110","v":0},{"$f":"'SHALA DARPAN DATA'!S110","v":0},{"$f":"'SHALA DARPAN DATA'!O110","v":0},0,0,0,0,0,0,0,0,0,0,0]
[{"$f":"'SHALA DARPAN DATA'!C111","v":0},{"$f":"'SHALA DARPAN DATA'!A111","v":0},{"$f":"'SHALA DARPAN DATA'!B111","v":0},{"$f":"'SHALA DARPAN DATA'!D111","v":0},{"$f":"'SHALA DARPAN DATA'!J111","v":0},{"$f":"'SHALA DARPAN DATA'!T111","v":0},{"$f":"'SHALA DARPAN DATA'!V111","v":0},{"$f":"'SHALA DARPAN DATA'!K111","v":0},{"$f":"'SHALA DARPAN DATA'!E111","v":0},{"$f":"'SHALA DARPAN DATA'!G111","v":0},{"$f":"'SHALA DARPAN DATA'!H111","v":0},{"$f":"'SHALA DARPAN DATA'!W111","v":0},{"$f":"'SHALA DARPAN DATA'!R111","v":0},{"$f":"'SHALA DARPAN DATA'!S111","v":0},{"$f":"'SHALA DARPAN DATA'!O111","v":0},0,0,0,0,0,0,0,0,0,0,0]
[{"$f":"'SHALA DARPAN DATA'!C112","v":0},{"$f":"'SHALA DARPAN DATA'!A112","v":0},{"$f":"'SHALA DARPAN DATA'!B112","v":0},{"$f":"'SHALA DARPAN DATA'!D112","v":0},{"$f":"'SHALA DARPAN DATA'!J112","v":0},{"$f":"'SHALA DARPAN DATA'!T112","v":0},{"$f":"'SHALA DARPAN DATA'!V112","v":0},{"$f":"'SHALA DARPAN DATA'!K112","v":0},{"$f":"'SHALA DARPAN DATA'!E112","v":0},{"$f":"'SHALA DARPAN DATA'!G112","v":0},{"$f":"'SHALA DARPAN DATA'!H112","v":0},{"$f":"'SHALA DARPAN DATA'!W112","v":0},{"$f":"'SHALA DARPAN DATA'!R112","v":0},{"$f":"'SHALA DARPAN DATA'!S112","v":0},{"$f":"'SHALA DARPAN DATA'!O112","v":0},0,0,0,0,0,0,0,0,0,0,0]
[{"$f":"'SHALA DARPAN DATA'!C113","v":0},{"$f":"'SHALA DARPAN DATA'!A113","v":0},{"$f":"'SHALA DARPAN DATA'!B113","v":0},{"$f":"'SHALA DARPAN DATA'!D113","v":0},{"$f":"'SHALA DARPAN DATA'!J113","v":0},{"$f":"'SHALA DARPAN DATA'!T113","v":0},{"$f":"'SHALA DARPAN DATA'!V113","v":0},{"$f":"'SHALA DARPAN DATA'!K113","v":0},{"$f":"'SHALA DARPAN DATA'!E113","v":0},{"$f":"'SHALA DARPAN DATA'!G113","v":0},{"$f":"'SHALA DARPAN DATA'!H113","v":0},{"$f":"'SHALA DARPAN DATA'!W113","v":0},{"$f":"'SHALA DARPAN DATA'!R113","v":0},{"$f":"'SHALA DARPAN DATA'!S113","v":0},{"$f":"'SHALA DARPAN DATA'!O113","v":0},0,0,0,0,0,0,0,0,0,0,0]
[{"$f":"'SHALA DARPAN DATA'!C114","v":0},{"$f":"'SHALA DARPAN DATA'!A114","v":0},{"$f":"'SHALA DARPAN DATA'!B114","v":0},{"$f":"'SHALA DARPAN DATA'!D114","v":0},{"$f":"'SHALA DARPAN DATA'!J114","v":0},{"$f":"'SHALA DARPAN DATA'!T114","v":0},{"$f":"'SHALA DARPAN DATA'!V114","v":0},{"$f":"'SHALA DARPAN DATA'!K114","v":0},{"$f":"'SHALA DARPAN DATA'!E114","v":0},{"$f":"'SHALA DARPAN DATA'!G114","v":0},{"$f":"'SHALA DARPAN DATA'!H114","v":0},{"$f":"'SHALA DARPAN DATA'!W114","v":0},{"$f":"'SHALA DARPAN DATA'!R114","v":0},{"$f":"'SHALA DARPAN DATA'!S114","v":0},{"$f":"'SHALA DARPAN DATA'!O114","v":0},0,0,0,0,0,0,0,0,0,0,0]
[{"$f":"'SHALA DARPAN DATA'!C115","v":0},{"$f":"'SHALA DARPAN DATA'!A115","v":0},{"$f":"'SHALA DARPAN DATA'!B115","v":0},{"$f":"'SHALA DARPAN DATA'!D115","v":0},{"$f":"'SHALA DARPAN DATA'!J115","v":0},{"$f":"'SHALA DARPAN DATA'!T115","v":0},{"$f":"'SHALA DARPAN DATA'!V115","v":0},{"$f":"'SHALA DARPAN DATA'!K115","v":0},{"$f":"'SHALA DARPAN DATA'!E115","v":0},{"$f":"'SHALA DARPAN DATA'!G115","v":0},{"$f":"'SHALA DARPAN DATA'!H115","v":0},{"$f":"'SHALA DARPAN DATA'!W115","v":0},{"$f":"'SHALA DARPAN DATA'!R115","v":0},{"$f":"'SHALA DARPAN DATA'!S115","v":0},{"$f":"'SHALA DARPAN DATA'!O115","v":0},0,0,0,0,0,0,0,0,0,0,0]
[{"$f":"'SHALA DARPAN DATA'!C116","v":0},{"$f":"'SHALA DARPAN DATA'!A116","v":0},{"$f":"'SHALA DARPAN DATA'!B116","v":0},{"$f":"'SHALA DARPAN DATA'!D116","v":0},{"$f":"'SHALA DARPAN DATA'!J116","v":0},{"$f":"'SHALA DARPAN DATA'!T116","v":0},{"$f":"'SHALA DARPAN DATA'!V116","v":0},{"$f":"'SHALA DARPAN DATA'!K116","v":0},{"$f":"'SHALA DARPAN DATA'!E116","v":0},{"$f":"'SHALA DARPAN DATA'!G116","v":0},{"$f":"'SHALA DARPAN DATA'!H116","v":0},{"$f":"'SHALA DARPAN DATA'!W116","v":0},{"$f":"'SHALA DARPAN DATA'!R116","v":0},{"$f":"'SHALA DARPAN DATA'!S116","v":0},{"$f":"'SHALA DARPAN DATA'!O116","v":0},0,0,0,0,0,0,0,0,0,0,0]
[{"$f":"'SHALA DARPAN DATA'!C117","v":0},{"$f":"'SHALA DARPAN DATA'!A117","v":0},{"$f":"'SHALA DARPAN DATA'!B117","v":0},{"$f":"'SHALA DARPAN DATA'!D117","v":0},{"$f":"'SHALA DARPAN DATA'!J117","v":0},{"$f":"'SHALA DARPAN DATA'!T117","v":0},{"$f":"'SHALA DARPAN DATA'!V117","v":0},{"$f":"'SHALA DARPAN DATA'!K117","v":0},{"$f":"'SHALA DARPAN DATA'!E117","v":0},{"$f":"'SHALA DARPAN DATA'!G117","v":0},{"$f":"'SHALA DARPAN DATA'!H117","v":0},{"$f":"'SHALA DARPAN DATA'!W117","v":0},{"$f":"'SHALA DARPAN DATA'!R117","v":0},{"$f":"'SHALA DARPAN DATA'!S117","v":0},{"$f":"'SHALA DARPAN DATA'!O117","v":0},0,0,0,0,0,0,0,0,0,0,0]
[{"$f":"'SHALA DARPAN DATA'!C118","v":0},{"$f":"'SHALA DARPAN DATA'!A118","v":0},{"$f":"'SHALA DARPAN DATA'!B118","v":0},{"$f":"'SHALA DARPAN DATA'!D118","v":0},{"$f":"'SHALA DARPAN DATA'!J118","v":0},{"$f":"'SHALA DARPAN DATA'!T118","v":0},{"$f":"'SHALA DARPAN DATA'!V118","v":0},{"$f":"'SHALA DARPAN DATA'!K118","v":0},{"$f":"'SHALA DARPAN DATA'!E118","v":0},{"$f":"'SHALA DARPAN DATA'!G118","v":0},{"$f":"'SHALA DARPAN DATA'!H118","v":0},{"$f":"'SHALA DARPAN DATA'!W118","v":0},{"$f":"'SHALA DARPAN DATA'!R118","v":0},{"$f":"'SHALA DARPAN DATA'!S118","v":0},{"$f":"'SHALA DARPAN DATA'!O118","v":0},0,0,0,0,0,0,0,0,0,0,0]
[{"$f":"'SHALA DARPAN DATA'!C119","v":0},{"$f":"'SHALA DARPAN DATA'!A119","v":0},{"$f":"'SHALA DARPAN DATA'!B119","v":0},{"$f":"'SHALA DARPAN DATA'!D119","v":0},{"$f":"'SHALA DARPAN DATA'!J119","v":0},{"$f":"'SHALA DARPAN DATA'!T119","v":0},{"$f":"'SHALA DARPAN DATA'!V119","v":0},{"$f":"'SHALA DARPAN DATA'!K119","v":0},{"$f":"'SHALA DARPAN DATA'!E119","v":0},{"$f":"'SHALA DARPAN DATA'!G119","v":0},{"$f":"'SHALA DARPAN DATA'!H119","v":0},{"$f":"'SHALA DARPAN DATA'!W119","v":0},{"$f":"'SHALA DARPAN DATA'!R119","v":0},{"$f":"'SHALA DARPAN DATA'!S119","v":0},{"$f":"'SHALA DARPAN DATA'!O119","v":0},0,0,0,0,0,0,0,0,0,0,0]
[{"$f":"'SHALA DARPAN DATA'!C120","v":0},{"$f":"'SHALA DARPAN DATA'!A120","v":0},{"$f":"'SHALA DARPAN DATA'!B120","v":0},{"$f":"'SHALA DARPAN DATA'!D120","v":0},{"$f":"'SHALA DARPAN DATA'!J120","v":0},{"$f":"'SHALA DARPAN DATA'!T120","v":0},{"$f":"'SHALA DARPAN DATA'!V120","v":0},{"$f":"'SHALA DARPAN DATA'!K120","v":0},{"$f":"'SHALA DARPAN DATA'!E120","v":0},{"$f":"'SHALA DARPAN DATA'!G120","v":0},{"$f":"'SHALA DARPAN DATA'!H120","v":0},{"$f":"'SHALA DARPAN DATA'!W120","v":0},{"$f":"'SHALA DARPAN DATA'!R120","v":0},{"$f":"'SHALA DARPAN DATA'!S120","v":0},{"$f":"'SHALA DARPAN DATA'!O120","v":0},0,0,0,0,0,0,0,0,0,0,0]
[{"$f":"'SHALA DARPAN DATA'!C121","v":0},{"$f":"'SHALA DARPAN DATA'!A121","v":0},{"$f":"'SHALA DARPAN DATA'!B121","v":0},{"$f":"'SHALA DARPAN DATA'!D121","v":0},{"$f":"'SHALA DARPAN DATA'!J121","v":0},{"$f":"'SHALA DARPAN DATA'!T121","v":0},{"$f":"'SHALA DARPAN DATA'!V121","v":0},{"$f":"'SHALA DARPAN DATA'!K121","v":0},{"$f":"'SHALA DARPAN DATA'!E121","v":0},{"$f":"'SHALA DARPAN DATA'!G121","v":0},{"$f":"'SHALA DARPAN DATA'!H121","v":0},{"$f":"'SHALA DARPAN DATA'!W121","v":0},{"$f":"'SHALA DARPAN DATA'!R121","v":0},{"$f":"'SHALA DARPAN DATA'!S121","v":0},{"$f":"'SHALA DARPAN DATA'!O121","v":0},0,0,0,0,0,0,0,0,0,0,0]
[{"$f":"'SHALA DARPAN DATA'!C122","v":0},{"$f":"'SHALA DARPAN DATA'!A122","v":0},{"$f":"'SHALA DARPAN DATA'!B122","v":0},{"$f":"'SHALA DARPAN DATA'!D122","v":0},{"$f":"'SHALA DARPAN DATA'!J122","v":0},{"$f":"'SHALA DARPAN DATA'!T122","v":0},{"$f":"'SHALA DARPAN DATA'!V122","v":0},{"$f":"'SHALA DARPAN DATA'!K122","v":0},{"$f":"'SHALA DARPAN DATA'!E122","v":0},{"$f":"'SHALA DARPAN DATA'!G122","v":0},{"$f":"'SHALA DARPAN DATA'!H122","v":0},{"$f":"'SHALA DARPAN DATA'!W122","v":0},{"$f":"'SHALA DARPAN DATA'!R122","v":0},{"$f":"'SHALA DARPAN DATA'!S122","v":0},{"$f":"'SHALA DARPAN DATA'!O122","v":0},0,0,0,0,0,0,0,0,0,0,0]
[{"$f":"'SHALA DARPAN DATA'!C123","v":0},{"$f":"'SHALA DARPAN DATA'!A123","v":0},{"$f":"'SHALA DARPAN DATA'!B123","v":0},{"$f":"'SHALA DARPAN DATA'!D123","v":0},{"$f":"'SHALA DARPAN DATA'!J123","v":0},{"$f":"'SHALA DARPAN DATA'!T123","v":0},{"$f":"'SHALA DARPAN DATA'!V123","v":0},{"$f":"'SHALA DARPAN DATA'!K123","v":0},{"$f":"'SHALA DARPAN DATA'!E123","v":0},{"$f":"'SHALA DARPAN DATA'!G123","v":0},{"$f":"'SHALA DARPAN DATA'!H123","v":0},{"$f":"'SHALA DARPAN DATA'!W123","v":0},{"$f":"'SHALA DARPAN DATA'!R123","v":0},{"$f":"'SHALA DARPAN DATA'!S123","v":0},{"$f":"'SHALA DARPAN DATA'!O123","v":0},0,0,0,0,0,0,0,0,0,0,0]
[{"$f":"'SHALA DARPAN DATA'!C124","v":0},{"$f":"'SHALA DARPAN DATA'!A124","v":0},{"$f":"'SHALA DARPAN DATA'!B124","v":0},{"$f":"'SHALA DARPAN DATA'!D124","v":0},{"$f":"'SHALA DARPAN DATA'!J124","v":0},{"$f":"'SHALA DARPAN DATA'!T124","v":0},{"$f":"'SHALA DARPAN DATA'!V124","v":0},{"$f":"'SHALA DARPAN DATA'!K124","v":0},{"$f":"'SHALA DARPAN DATA'!E124","v":0},{"$f":"'SHALA DARPAN DATA'!G124","v":0},{"$f":"'SHALA DARPAN DATA'!H124","v":0},{"$f":"'SHALA DARPAN DATA'!W124","v":0},{"$f":"'SHALA DARPAN DATA'!R124","v":0},{"$f":"'SHALA DARPAN DATA'!S124","v":0},{"$f":"'SHALA DARPAN DATA'!O124","v":0},0,0,0,0,0,0,0,0,0,0,0]
[{"$f":"'SHALA DARPAN DATA'!C125","v":0},{"$f":"'SHALA DARPAN DATA'!A125","v":0},{"$f":"'SHALA DARPAN DATA'!B125","v":0},{"$f":"'SHALA DARPAN DATA'!D125","v":0},{"$f":"'SHALA DARPAN DATA'!J125","v":0},{"$f":"'SHALA DARPAN DATA'!T125","v":0},{"$f":"'SHALA DARPAN DATA'!V125","v":0},{"$f":"'SHALA DARPAN DATA'!K125","v":0},{"$f":"'SHALA DARPAN DATA'!E125","v":0},{"$f":"'SHALA DARPAN DATA'!G125","v":0},{"$f":"'SHALA DARPAN DATA'!H125","v":0},{"$f":"'SHALA DARPAN DATA'!W125","v":0},{"$f":"'SHALA DARPAN DATA'!R125","v":0},{"$f":"'SHALA DARPAN DATA'!S125","v":0},{"$f":"'SHALA DARPAN DATA'!O125","v":0},0,0,0,0,0,0,0,0,0,0,0]
[{"$f":"'SHALA DARPAN DATA'!C126","v":0},{"$f":"'SHALA DARPAN DATA'!A126","v":0},{"$f":"'SHALA DARPAN DATA'!B126","v":0},{"$f":"'SHALA DARPAN DATA'!D126","v":0},{"$f":"'SHALA DARPAN DATA'!J126","v":0},{"$f":"'SHALA DARPAN DATA'!T126","v":0},{"$f":"'SHALA DARPAN DATA'!V126","v":0},{"$f":"'SHALA DARPAN DATA'!K126","v":0},{"$f":"'SHALA DARPAN DATA'!E126","v":0},{"$f":"'SHALA DARPAN DATA'!G126","v":0},{"$f":"'SHALA DARPAN DATA'!H126","v":0},{"$f":"'SHALA DARPAN DATA'!W126","v":0},{"$f":"'SHALA DARPAN DATA'!R126","v":0},{"$f":"'SHALA DARPAN DATA'!S126","v":0},{"$f":"'SHALA DARPAN DATA'!O126","v":0},0,0,0,0,0,0,0,0,0,0,0]
[{"$f":"'SHALA DARPAN DATA'!C127","v":0},{"$f":"'SHALA DARPAN DATA'!A127","v":0},{"$f":"'SHALA DARPAN DATA'!B127","v":0},{"$f":"'SHALA DARPAN DATA'!D127","v":0},{"$f":"'SHALA DARPAN DATA'!J127","v":0},{"$f":"'SHALA DARPAN DATA'!T127","v":0},{"$f":"'SHALA DARPAN DATA'!V127","v":0},{"$f":"'SHALA DARPAN DATA'!K127","v":0},{"$f":"'SHALA DARPAN DATA'!E127","v":0},{"$f":"'SHALA DARPAN DATA'!G127","v":0},{"$f":"'SHALA DARPAN DATA'!H127","v":0},{"$f":"'SHALA DARPAN DATA'!W127","v":0},{"$f":"'SHALA DARPAN DATA'!R127","v":0},{"$f":"'SHALA DARPAN DATA'!S127","v":0},{"$f":"'SHALA DARPAN DATA'!O127","v":0},0,0,0,0,0,0,0,0,0,0,0]
[{"$f":"'SHALA DARPAN DATA'!C128","v":0},{"$f":"'SHALA DARPAN DATA'!A128","v":0},{"$f":"'SHALA DARPAN DATA'!B128","v":0},{"$f":"'SHALA DARPAN DATA'!D128","v":0},{"$f":"'SHALA DARPAN DATA'!J128","v":0},{"$f":"'SHALA DARPAN DATA'!T128","v":0},{"$f":"'SHALA DARPAN DATA'!V128","v":0},{"$f":"'SHALA DARPAN DATA'!K128","v":0},{"$f":"'SHALA DARPAN DATA'!E128","v":0},{"$f":"'SHALA DARPAN DATA'!G128","v":0},{"$f":"'SHALA DARPAN DATA'!H128","v":0},{"$f":"'SHALA DARPAN DATA'!W128","v":0},{"$f":"'SHALA DARPAN DATA'!R128","v":0},{"$f":"'SHALA DARPAN DATA'!S128","v":0},{"$f":"'SHALA DARPAN DATA'!O128","v":0},0,0,0,0,0,0,0,0,0,0,0]
[{"$f":"'SHALA DARPAN DATA'!C129","v":0},{"$f":"'SHALA DARPAN DATA'!A129","v":0},{"$f":"'SHALA DARPAN DATA'!B129","v":0},{"$f":"'SHALA DARPAN DATA'!D129","v":0},{"$f":"'SHALA DARPAN DATA'!J129","v":0},{"$f":"'SHALA DARPAN DATA'!T129","v":0},{"$f":"'SHALA DARPAN DATA'!V129","v":0},{"$f":"'SHALA DARPAN DATA'!K129","v":0},{"$f":"'SHALA DARPAN DATA'!E129","v":0},{"$f":"'SHALA DARPAN DATA'!G129","v":0},{"$f":"'SHALA DARPAN DATA'!H129","v":0},{"$f":"'SHALA DARPAN DATA'!W129","v":0},{"$f":"'SHALA DARPAN DATA'!R129","v":0},{"$f":"'SHALA DARPAN DATA'!S129","v":0},{"$f":"'SHALA DARPAN DATA'!O129","v":0},0,0,0,0,0,0,0,0,0,0,0]
[{"$f":"'SHALA DARPAN DATA'!C130","v":0},{"$f":"'SHALA DARPAN DATA'!A130","v":0},{"$f":"'SHALA DARPAN DATA'!B130","v":0},{"$f":"'SHALA DARPAN DATA'!D130","v":0},{"$f":"'SHALA DARPAN DATA'!J130","v":0},{"$f":"'SHALA DARPAN DATA'!T130","v":0},{"$f":"'SHALA DARPAN DATA'!V130","v":0},{"$f":"'SHALA DARPAN DATA'!K130","v":0},{"$f":"'SHALA DARPAN DATA'!E130","v":0},{"$f":"'SHALA DARPAN DATA'!G130","v":0},{"$f":"'SHALA DARPAN DATA'!H130","v":0},{"$f":"'SHALA DARPAN DATA'!W130","v":0},{"$f":"'SHALA DARPAN DATA'!R130","v":0},{"$f":"'SHALA DARPAN DATA'!S130","v":0},{"$f":"'SHALA DARPAN DATA'!O130","v":0},0,0,0,0,0,0,0,0,0,0,0]
[{"$f":"'SHALA DARPAN DATA'!C131","v":0},{"$f":"'SHALA DARPAN DATA'!A131","v":0},{"$f":"'SHALA DARPAN DATA'!B131","v":0},{"$f":"'SHALA DARPAN DATA'!D131","v":0},{"$f":"'SHALA DARPAN DATA'!J131","v":0},{"$f":"'SHALA DARPAN DATA'!T131","v":0},{"$f":"'SHALA DARPAN DATA'!V131","v":0},{"$f":"'SHALA DARPAN DATA'!K131","v":0},{"$f":"'SHALA DARPAN DATA'!E131","v":0},{"$f":"'SHALA DARPAN DATA'!G131","v":0},{"$f":"'SHALA DARPAN DATA'!H131","v":0},{"$f":"'SHALA DARPAN DATA'!W131","v":0},{"$f":"'SHALA DARPAN DATA'!R131","v":0},{"$f":"'SHALA DARPAN DATA'!S131","v":0},{"$f":"'SHALA DARPAN DATA'!O131","v":0},0,0,0,0,0,0,0,0,0,0,0]
[{"$f":"'SHALA DARPAN DATA'!C132","v":0},{"$f":"'SHALA DARPAN DATA'!A132","v":0},{"$f":"'SHALA DARPAN DATA'!B132","v":0},{"$f":"'SHALA DARPAN DATA'!D132","v":0},{"$f":"'SHALA DARPAN DATA'!J132","v":0},{"$f":"'SHALA DARPAN DATA'!T132","v":0},{"$f":"'SHALA DARPAN DATA'!V132","v":0},{"$f":"'SHALA DARPAN DATA'!K132","v":0},{"$f":"'SHALA DARPAN DATA'!E132","v":0},{"$f":"'SHALA DARPAN DATA'!G132","v":0},{"$f":"'SHALA DARPAN DATA'!H132","v":0},{"$f":"'SHALA DARPAN DATA'!W132","v":0},{"$f":"'SHALA DARPAN DATA'!R132","v":0},{"$f":"'SHALA DARPAN DATA'!S132","v":0},{"$f":"'SHALA DARPAN DATA'!O132","v":0},0,0,0,0,0,0,0,0,0,0,0]
[{"$f":"'SHALA DARPAN DATA'!C133","v":0},{"$f":"'SHALA DARPAN DATA'!A133","v":0},{"$f":"'SHALA DARPAN DATA'!B133","v":0},{"$f":"'SHALA DARPAN DATA'!D133","v":0},{"$f":"'SHALA DARPAN DATA'!J133","v":0},{"$f":"'SHALA DARPAN DATA'!T133","v":0},{"$f":"'SHALA DARPAN DATA'!V133","v":0},{"$f":"'SHALA DARPAN DATA'!K133","v":0},{"$f":"'SHALA DARPAN DATA'!E133","v":0},{"$f":"'SHALA DARPAN DATA'!G133","v":0},{"$f":"'SHALA DARPAN DATA'!H133","v":0},{"$f":"'SHALA DARPAN DATA'!W133","v":0},{"$f":"'SHALA DARPAN DATA'!R133","v":0},{"$f":"'SHALA DARPAN DATA'!S133","v":0},{"$f":"'SHALA DARPAN DATA'!O133","v":0},0,0,0,0,0,0,0,0,0,0,0]
[{"$f":"'SHALA DARPAN DATA'!C134","v":0},{"$f":"'SHALA DARPAN DATA'!A134","v":0},{"$f":"'SHALA DARPAN DATA'!B134","v":0},{"$f":"'SHALA DARPAN DATA'!D134","v":0},{"$f":"'SHALA DARPAN DATA'!J134","v":0},{"$f":"'SHALA DARPAN DATA'!T134","v":0},{"$f":"'SHALA DARPAN DATA'!V134","v":0},{"$f":"'SHALA DARPAN DATA'!K134","v":0},{"$f":"'SHALA DARPAN DATA'!E134","v":0},{"$f":"'SHALA DARPAN DATA'!G134","v":0},{"$f":"'SHALA DARPAN DATA'!H134","v":0},{"$f":"'SHALA DARPAN DATA'!W134","v":0},{"$f":"'SHALA DARPAN DATA'!R134","v":0},{"$f":"'SHALA DARPAN DATA'!S134","v":0},{"$f":"'SHALA DARPAN DATA'!O134","v":0},0,0,0,0,0,0,0,0,0,0,0]
[{"$f":"'SHALA DARPAN DATA'!C135","v":0},{"$f":"'SHALA DARPAN DATA'!A135","v":0},{"$f":"'SHALA DARPAN DATA'!B135","v":0},{"$f":"'SHALA DARPAN DATA'!D135","v":0},{"$f":"'SHALA DARPAN DATA'!J135","v":0},{"$f":"'SHALA DARPAN DATA'!T135","v":0},{"$f":"'SHALA DARPAN DATA'!V135","v":0},{"$f":"'SHALA DARPAN DATA'!K135","v":0},{"$f":"'SHALA DARPAN DATA'!E135","v":0},{"$f":"'SHALA DARPAN DATA'!G135","v":0},{"$f":"'SHALA DARPAN DATA'!H135","v":0},{"$f":"'SHALA DARPAN DATA'!W135","v":0},{"$f":"'SHALA DARPAN DATA'!R135","v":0},{"$f":"'SHALA DARPAN DATA'!S135","v":0},{"$f":"'SHALA DARPAN DATA'!O135","v":0},0,0,0,0,0,0,0,0,0,0,0]
[{"$f":"'SHALA DARPAN DATA'!C136","v":0},{"$f":"'SHALA DARPAN DATA'!A136","v":0},{"$f":"'SHALA DARPAN DATA'!B136","v":0},{"$f":"'SHALA DARPAN DATA'!D136","v":0},{"$f":"'SHALA DARPAN DATA'!J136","v":0},{"$f":"'SHALA DARPAN DATA'!T136","v":0},{"$f":"'SHALA DARPAN DATA'!V136","v":0},{"$f":"'SHALA DARPAN DATA'!K136","v":0},{"$f":"'SHALA DARPAN DATA'!E136","v":0},{"$f":"'SHALA DARPAN DATA'!G136","v":0},{"$f":"'SHALA DARPAN DATA'!H136","v":0},{"$f":"'SHALA DARPAN DATA'!W136","v":0},{"$f":"'SHALA DARPAN DATA'!R136","v":0},{"$f":"'SHALA DARPAN DATA'!S136","v":0},{"$f":"'SHALA DARPAN DATA'!O136","v":0},0,0,0,0,0,0,0,0,0,0,0]
[{"$f":"'SHALA DARPAN DATA'!C137","v":0},{"$f":"'SHALA DARPAN DATA'!A137","v":0},{"$f":"'SHALA DARPAN DATA'!B137","v":0},{"$f":"'SHALA DARPAN DATA'!D137","v":0},{"$f":"'SHALA DARPAN DATA'!J137","v":0},{"$f":"'SHALA DARPAN DATA'!T137","v":0},{"$f":"'SHALA DARPAN DATA'!V137","v":0},{"$f":"'SHALA DARPAN DATA'!K137","v":0},{"$f":"'SHALA DARPAN DATA'!E137","v":0},{"$f":"'SHALA DARPAN DATA'!G137","v":0},{"$f":"'SHALA DARPAN DATA'!H137","v":0},{"$f":"'SHALA DARPAN DATA'!W137","v":0},{"$f":"'SHALA DARPAN DATA'!R137","v":0},{"$f":"'SHALA DARPAN DATA'!S137","v":0},{"$f":"'SHALA DARPAN DATA'!O137","v":0},0,0,0,0,0,0,0,0,0,0,0]
[{"$f":"'SHALA DARPAN DATA'!C138","v":0},{"$f":"'SHALA DARPAN DATA'!A138","v":0},{"$f":"'SHALA DARPAN DATA'!B138","v":0},{"$f":"'SHALA DARPAN DATA'!D138","v":0},{"$f":"'SHALA DARPAN DATA'!J138","v":0},{"$f":"'SHALA DARPAN DATA'!T138","v":0},{"$f":"'SHALA DARPAN DATA'!V138","v":0},{"$f":"'SHALA DARPAN DATA'!K138","v":0},{"$f":"'SHALA DARPAN DATA'!E138","v":0},{"$f":"'SHALA DARPAN DATA'!G138","v":0},{"$f":"'SHALA DARPAN DATA'!H138","v":0},{"$f":"'SHALA DARPAN DATA'!W138","v":0},{"$f":"'SHALA DARPAN DATA'!R138","v":0},{"$f":"'SHALA DARPAN DATA'!S138","v":0},{"$f":"'SHALA DARPAN DATA'!O138","v":0},0,0,0,0,0,0,0,0,0,0,0]
[{"$f":"'SHALA DARPAN DATA'!C139","v":0},{"$f":"'SHALA DARPAN DATA'!A139","v":0},{"$f":"'SHALA DARPAN DATA'!B139","v":0},{"$f":"'SHALA DARPAN DATA'!D139","v":0},{"$f":"'SHALA DARPAN DATA'!J139","v":0},{"$f":"'SHALA DARPAN DATA'!T139","v":0},{"$f":"'SHALA DARPAN DATA'!V139","v":0},{"$f":"'SHALA DARPAN DATA'!K139","v":0},{"$f":"'SHALA DARPAN DATA'!E139","v":0},{"$f":"'SHALA DARPAN DATA'!G139","v":0},{"$f":"'SHALA DARPAN DATA'!H139","v":0},{"$f":"'SHALA DARPAN DATA'!W139","v":0},{"$f":"'SHALA DARPAN DATA'!R139","v":0},{"$f":"'SHALA DARPAN DATA'!S139","v":0},{"$f":"'SHALA DARPAN DATA'!O139","v":0},0,0,0,0,0,0,0,0,0,0,0]
[{"$f":"'SHALA DARPAN DATA'!C140","v":0},{"$f":"'SHALA DARPAN DATA'!A140","v":0},{"$f":"'SHALA DARPAN DATA'!B140","v":0},{"$f":"'SHALA DARPAN DATA'!D140","v":0},{"$f":"'SHALA DARPAN DATA'!J140","v":0},{"$f":"'SHALA DARPAN DATA'!T140","v":0},{"$f":"'SHALA DARPAN DATA'!V140","v":0},{"$f":"'SHALA DARPAN DATA'!K140","v":0},{"$f":"'SHALA DARPAN DATA'!E140","v":0},{"$f":"'SHALA DARPAN DATA'!G140","v":0},{"$f":"'SHALA DARPAN DATA'!H140","v":0},{"$f":"'SHALA DARPAN DATA'!W140","v":0},{"$f":"'SHALA DARPAN DATA'!R140","v":0},{"$f":"'SHALA DARPAN DATA'!S140","v":0},{"$f":"'SHALA DARPAN DATA'!O140","v":0},0,0,0,0,0,0,0,0,0,0,0]
[{"$f":"'SHALA DARPAN DATA'!C141","v":0},{"$f":"'SHALA DARPAN DATA'!A141","v":0},{"$f":"'SHALA DARPAN DATA'!B141","v":0},{"$f":"'SHALA DARPAN DATA'!D141","v":0},{"$f":"'SHALA DARPAN DATA'!J141","v":0},{"$f":"'SHALA DARPAN DATA'!T141","v":0},{"$f":"'SHALA DARPAN DATA'!V141","v":0},{"$f":"'SHALA DARPAN DATA'!K141","v":0},{"$f":"'SHALA DARPAN DATA'!E141","v":0},{"$f":"'SHALA DARPAN DATA'!G141","v":0},{"$f":"'SHALA DARPAN DATA'!H141","v":0},{"$f":"'SHALA DARPAN DATA'!W141","v":0},{"$f":"'SHALA DARPAN DATA'!R141","v":0},{"$f":"'SHALA DARPAN DATA'!S141","v":0},{"$f":"'SHALA DARPAN DATA'!O141","v":0},0,0,0,0,0,0,0,0,0,0,0]
[{"$f":"'SHALA DARPAN DATA'!C142","v":0},{"$f":"'SHALA DARPAN DATA'!A142","v":0},{"$f":"'SHALA DARPAN DATA'!B142","v":0},{"$f":"'SHALA DARPAN DATA'!D142","v":0},{"$f":"'SHALA DARPAN DATA'!J142","v":0},{"$f":"'SHALA DARPAN DATA'!T142","v":0},{"$f":"'SHALA DARPAN DATA'!V142","v":0},{"$f":"'SHALA DARPAN DATA'!K142","v":0},{"$f":"'SHALA DARPAN DATA'!E142","v":0},{"$f":"'SHALA DARPAN DATA'!G142","v":0},{"$f":"'SHALA DARPAN DATA'!H142","v":0},{"$f":"'SHALA DARPAN DATA'!W142","v":0},{"$f":"'SHALA DARPAN DATA'!R142","v":0},{"$f":"'SHALA DARPAN DATA'!S142","v":0},{"$f":"'SHALA DARPAN DATA'!O142","v":0},0,0,0,0,0,0,0,0,0,0,0]
[{"$f":"'SHALA DARPAN DATA'!C143","v":0},{"$f":"'SHALA DARPAN DATA'!A143","v":0},{"$f":"'SHALA DARPAN DATA'!B143","v":0},{"$f":"'SHALA DARPAN DATA'!D143","v":0},{"$f":"'SHALA DARPAN DATA'!J143","v":0},{"$f":"'SHALA DARPAN DATA'!T143","v":0},{"$f":"'SHALA DARPAN DATA'!V143","v":0},{"$f":"'SHALA DARPAN DATA'!K143","v":0},{"$f":"'SHALA DARPAN DATA'!E143","v":0},{"$f":"'SHALA DARPAN DATA'!G143","v":0},{"$f":"'SHALA DARPAN DATA'!H143","v":0},{"$f":"'SHALA DARPAN DATA'!W143","v":0},{"$f":"'SHALA DARPAN DATA'!R143","v":0},{"$f":"'SHALA DARPAN DATA'!S143","v":0},{"$f":"'SHALA DARPAN DATA'!O143","v":0},0,0,0,0,0,0,0,0,0,0,0]
[{"$f":"'SHALA DARPAN DATA'!C144","v":0},{"$f":"'SHALA DARPAN DATA'!A144","v":0},{"$f":"'SHALA DARPAN DATA'!B144","v":0},{"$f":"'SHALA DARPAN DATA'!D144","v":0},{"$f":"'SHALA DARPAN DATA'!J144","v":0},{"$f":"'SHALA DARPAN DATA'!T144","v":0},{"$f":"'SHALA DARPAN DATA'!V144","v":0},{"$f":"'SHALA DARPAN DATA'!K144","v":0},{"$f":"'SHALA DARPAN DATA'!E144","v":0},{"$f":"'SHALA DARPAN DATA'!G144","v":0},{"$f":"'SHALA DARPAN DATA'!H144","v":0},{"$f":"'SHALA DARPAN DATA'!W144","v":0},{"$f":"'SHALA DARPAN DATA'!R144","v":0},{"$f":"'SHALA DARPAN DATA'!S144","v":0},{"$f":"'SHALA DARPAN DATA'!O144","v":0},0,0,0,0,0,0,0,0,0,0,0]
[{"$f":"'SHALA DARPAN DATA'!C145","v":0},{"$f":"'SHALA DARPAN DATA'!A145","v":0},{"$f":"'SHALA DARPAN DATA'!B145","v":0},{"$f":"'SHALA DARPAN DATA'!D145","v":0},{"$f":"'SHALA DARPAN DATA'!J145","v":0},{"$f":"'SHALA DARPAN DATA'!T145","v":0},{"$f":"'SHALA DARPAN DATA'!V145","v":0},{"$f":"'SHALA DARPAN DATA'!K145","v":0},{"$f":"'SHALA DARPAN DATA'!E145","v":0},{"$f":"'SHALA DARPAN DATA'!G145","v":0},{"$f":"'SHALA DARPAN DATA'!H145","v":0},{"$f":"'SHALA DARPAN DATA'!W145","v":0},{"$f":"'SHALA DARPAN DATA'!R145","v":0},{"$f":"'SHALA DARPAN DATA'!S145","v":0},{"$f":"'SHALA DARPAN DATA'!O145","v":0},0,0,0,0,0,0,0,0,0,0,0]
[{"$f":"'SHALA DARPAN DATA'!C146","v":0},{"$f":"'SHALA DARPAN DATA'!A146","v":0},{"$f":"'SHALA DARPAN DATA'!B146","v":0},{"$f":"'SHALA DARPAN DATA'!D146","v":0},{"$f":"'SHALA DARPAN DATA'!J146","v":0},{"$f":"'SHALA DARPAN DATA'!T146","v":0},{"$f":"'SHALA DARPAN DATA'!V146","v":0},{"$f":"'SHALA DARPAN DATA'!K146","v":0},{"$f":"'SHALA DARPAN DATA'!E146","v":0},{"$f":"'SHALA DARPAN DATA'!G146","v":0},{"$f":"'SHALA DARPAN DATA'!H146","v":0},{"$f":"'SHALA DARPAN DATA'!W146","v":0},{"$f":"'SHALA DARPAN DATA'!R146","v":0},{"$f":"'SHALA DARPAN DATA'!S146","v":0},{"$f":"'SHALA DARPAN DATA'!O146","v":0},0,0,0,0,0,0,0,0,0,0,0]
[{"$f":"'SHALA DARPAN DATA'!C147","v":0},{"$f":"'SHALA DARPAN DATA'!A147","v":0},{"$f":"'SHALA DARPAN DATA'!B147","v":0},{"$f":"'SHALA DARPAN DATA'!D147","v":0},{"$f":"'SHALA DARPAN DATA'!J147","v":0},{"$f":"'SHALA DARPAN DATA'!T147","v":0},{"$f":"'SHALA DARPAN DATA'!V147","v":0},{"$f":"'SHALA DARPAN DATA'!K147","v":0},{"$f":"'SHALA DARPAN DATA'!E147","v":0},{"$f":"'SHALA DARPAN DATA'!G147","v":0},{"$f":"'SHALA DARPAN DATA'!H147","v":0},{"$f":"'SHALA DARPAN DATA'!W147","v":0},{"$f":"'SHALA DARPAN DATA'!R147","v":0},{"$f":"'SHALA DARPAN DATA'!S147","v":0},{"$f":"'SHALA DARPAN DATA'!O147","v":0},0,0,0,0,0,0,0,0,0,0,0]
[{"$f":"'SHALA DARPAN DATA'!C148","v":0},{"$f":"'SHALA DARPAN DATA'!A148","v":0},{"$f":"'SHALA DARPAN DATA'!B148","v":0},{"$f":"'SHALA DARPAN DATA'!D148","v":0},{"$f":"'SHALA DARPAN DATA'!J148","v":0},{"$f":"'SHALA DARPAN DATA'!T148","v":0},{"$f":"'SHALA DARPAN DATA'!V148","v":0},{"$f":"'SHALA DARPAN DATA'!K148","v":0},{"$f":"'SHALA DARPAN DATA'!E148","v":0},{"$f":"'SHALA DARPAN DATA'!G148","v":0},{"$f":"'SHALA DARPAN DATA'!H148","v":0},{"$f":"'SHALA DARPAN DATA'!W148","v":0},{"$f":"'SHALA DARPAN DATA'!R148","v":0},{"$f":"'SHALA DARPAN DATA'!S148","v":0},{"$f":"'SHALA DARPAN DATA'!O148","v":0},0,0,0,0,0,0,0,0,0,0,0]
[{"$f":"'SHALA DARPAN DATA'!C149","v":0},{"$f":"'SHALA DARPAN DATA'!A149","v":0},{"$f":"'SHALA DARPAN DATA'!B149","v":0},{"$f":"'SHALA DARPAN DATA'!D149","v":0},{"$f":"'SHALA DARPAN DATA'!J149","v":0},{"$f":"'SHALA DARPAN DATA'!T149","v":0},{"$f":"'SHALA DARPAN DATA'!V149","v":0},{"$f":"'SHALA DARPAN DATA'!K149","v":0},{"$f":"'SHALA DARPAN DATA'!E149","v":0},{"$f":"'SHALA DARPAN DATA'!G149","v":0},{"$f":"'SHALA DARPAN DATA'!H149","v":0},{"$f":"'SHALA DARPAN DATA'!W149","v":0},{"$f":"'SHALA DARPAN DATA'!R149","v":0},{"$f":"'SHALA DARPAN DATA'!S149","v":0},{"$f":"'SHALA DARPAN DATA'!O149","v":0},0,0,0,0,0,0,0,0,0,0,0]
[{"$f":"'SHALA DARPAN DATA'!C150","v":0},{"$f":"'SHALA DARPAN DATA'!A150","v":0},{"$f":"'SHALA DARPAN DATA'!B150","v":0},{"$f":"'SHALA DARPAN DATA'!D150","v":0},{"$f":"'SHALA DARPAN DATA'!J150","v":0},{"$f":"'SHALA DARPAN DATA'!T150","v":0},{"$f":"'SHALA DARPAN DATA'!V150","v":0},{"$f":"'SHALA DARPAN DATA'!K150","v":0},{"$f":"'SHALA DARPAN DATA'!E150","v":0},{"$f":"'SHALA DARPAN DATA'!G150","v":0},{"$f":"'SHALA DARPAN DATA'!H150","v":0},{"$f":"'SHALA DARPAN DATA'!W150","v":0},{"$f":"'SHALA DARPAN DATA'!R150","v":0},{"$f":"'SHALA DARPAN DATA'!S150","v":0},{"$f":"'SHALA DARPAN DATA'!O150","v":0},0,0,0,0,0,0,0,0,0,0,0]
[{"$f":"'SHALA DARPAN DATA'!C151","v":0},{"$f":"'SHALA DARPAN DATA'!A151","v":0},{"$f":"'SHALA DARPAN DATA'!B151","v":0},{"$f":"'SHALA DARPAN DATA'!D151","v":0},{"$f":"'SHALA DARPAN DATA'!J151","v":0},{"$f":"'SHALA DARPAN DATA'!T151","v":0},{"$f":"'SHALA DARPAN DATA'!V151","v":0},{"$f":"'SHALA DARPAN DATA'!K151","v":0},{"$f":"'SHALA DARPAN DATA'!E151","v":0},{"$f":"'SHALA DARPAN DATA'!G151","v":0},{"$f":"'SHALA DARPAN DATA'!H151","v":0},{"$f":"'SHALA DARPAN DATA'!W151","v":0},{"$f":"'SHALA DARPAN DATA'!R151","v":0},{"$f":"'SHALA DARPAN DATA'!S151","v":0},{"$f":"'SHALA DARPAN DATA'!O151","v":0},0,0,0,0,0,0,0,0,0,0,0]
[{"$f":"'SHALA DARPAN DATA'!C152","v":0},{"$f":"'SHALA DARPAN DATA'!A152","v":0},{"$f":"'SHALA DARPAN DATA'!B152","v":0},{"$f":"'SHALA DARPAN DATA'!D152","v":0},{"$f":"'SHALA DARPAN DATA'!J152","v":0},{"$f":"'SHALA DARPAN DATA'!T152","v":0},{"$f":"'SHALA DARPAN DATA'!V152","v":0},{"$f":"'SHALA DARPAN DATA'!K152","v":0},{"$f":"'SHALA DARPAN DATA'!E152","v":0},{"$f":"'SHALA DARPAN DATA'!G152","v":0},{"$f":"'SHALA DARPAN DATA'!H152","v":0},{"$f":"'SHALA DARPAN DATA'!W152","v":0},{"$f":"'SHALA DARPAN DATA'!R152","v":0},{"$f":"'SHALA DARPAN DATA'!S152","v":0},{"$f":"'SHALA DARPAN DATA'!O152","v":0},0,0,0,0,0,0,0,0,0,0,0]
[{"$f":"'SHALA DARPAN DATA'!C153","v":0},{"$f":"'SHALA DARPAN DATA'!A153","v":0},{"$f":"'SHALA DARPAN DATA'!B153","v":0},{"$f":"'SHALA DARPAN DATA'!D153","v":0},{"$f":"'SHALA DARPAN DATA'!J153","v":0},{"$f":"'SHALA DARPAN DATA'!T153","v":0},{"$f":"'SHALA DARPAN DATA'!V153","v":0},{"$f":"'SHALA DARPAN DATA'!K153","v":0},{"$f":"'SHALA DARPAN DATA'!E153","v":0},{"$f":"'SHALA DARPAN DATA'!G153","v":0},{"$f":"'SHALA DARPAN DATA'!H153","v":0},{"$f":"'SHALA DARPAN DATA'!W153","v":0},{"$f":"'SHALA DARPAN DATA'!R153","v":0},{"$f":"'SHALA DARPAN DATA'!S153","v":0},{"$f":"'SHALA DARPAN DATA'!O153","v":0},0,0,0,0,0,0,0,0,0,0,0]
[{"$f":"'SHALA DARPAN DATA'!C154","v":0},{"$f":"'SHALA DARPAN DATA'!A154","v":0},{"$f":"'SHALA DARPAN DATA'!B154","v":0},{"$f":"'SHALA DARPAN DATA'!D154","v":0},{"$f":"'SHALA DARPAN DATA'!J154","v":0},{"$f":"'SHALA DARPAN DATA'!T154","v":0},{"$f":"'SHALA DARPAN DATA'!V154","v":0},{"$f":"'SHALA DARPAN DATA'!K154","v":0},{"$f":"'SHALA DARPAN DATA'!E154","v":0},{"$f":"'SHALA DARPAN DATA'!G154","v":0},{"$f":"'SHALA DARPAN DATA'!H154","v":0},{"$f":"'SHALA DARPAN DATA'!W154","v":0},{"$f":"'SHALA DARPAN DATA'!R154","v":0},{"$f":"'SHALA DARPAN DATA'!S154","v":0},{"$f":"'SHALA DARPAN DATA'!O154","v":0},0,0,0,0,0,0,0,0,0,0,0]
[{"$f":"'SHALA DARPAN DATA'!C155","v":0},{"$f":"'SHALA DARPAN DATA'!A155","v":0},{"$f":"'SHALA DARPAN DATA'!B155","v":0},{"$f":"'SHALA DARPAN DATA'!D155","v":0},{"$f":"'SHALA DARPAN DATA'!J155","v":0},{"$f":"'SHALA DARPAN DATA'!T155","v":0},{"$f":"'SHALA DARPAN DATA'!V155","v":0},{"$f":"'SHALA DARPAN DATA'!K155","v":0},{"$f":"'SHALA DARPAN DATA'!E155","v":0},{"$f":"'SHALA DARPAN DATA'!G155","v":0},{"$f":"'SHALA DARPAN DATA'!H155","v":0},{"$f":"'SHALA DARPAN DATA'!W155","v":0},{"$f":"'SHALA DARPAN DATA'!R155","v":0},{"$f":"'SHALA DARPAN DATA'!S155","v":0},{"$f":"'SHALA DARPAN DATA'!O155","v":0},0,0,0,0,0,0,0,0,0,0,0]
[{"$f":"'SHALA DARPAN DATA'!C156","v":0},{"$f":"'SHALA DARPAN DATA'!A156","v":0},{"$f":"'SHALA DARPAN DATA'!B156","v":0},{"$f":"'SHALA DARPAN DATA'!D156","v":0},{"$f":"'SHALA DARPAN DATA'!J156","v":0},{"$f":"'SHALA DARPAN DATA'!T156","v":0},{"$f":"'SHALA DARPAN DATA'!V156","v":0},{"$f":"'SHALA DARPAN DATA'!K156","v":0},{"$f":"'SHALA DARPAN DATA'!E156","v":0},{"$f":"'SHALA DARPAN DATA'!G156","v":0},{"$f":"'SHALA DARPAN DATA'!H156","v":0},{"$f":"'SHALA DARPAN DATA'!W156","v":0},{"$f":"'SHALA DARPAN DATA'!R156","v":0},{"$f":"'SHALA DARPAN DATA'!S156","v":0},{"$f":"'SHALA DARPAN DATA'!O156","v":0},0,0,0,0,0,0,0,0,0,0,0]
[{"$f":"'SHALA DARPAN DATA'!C157","v":0},{"$f":"'SHALA DARPAN DATA'!A157","v":0},{"$f":"'SHALA DARPAN DATA'!B157","v":0},{"$f":"'SHALA DARPAN DATA'!D157","v":0},{"$f":"'SHALA DARPAN DATA'!J157","v":0},{"$f":"'SHALA DARPAN DATA'!T157","v":0},{"$f":"'SHALA DARPAN DATA'!V157","v":0},{"$f":"'SHALA DARPAN DATA'!K157","v":0},{"$f":"'SHALA DARPAN DATA'!E157","v":0},{"$f":"'SHALA DARPAN DATA'!G157","v":0},{"$f":"'SHALA DARPAN DATA'!H157","v":0},{"$f":"'SHALA DARPAN DATA'!W157","v":0},{"$f":"'SHALA DARPAN DATA'!R157","v":0},{"$f":"'SHALA DARPAN DATA'!S157","v":0},{"$f":"'SHALA DARPAN DATA'!O157","v":0},0,0,0,0,0,0,0,0,0,0,0]
[{"$f":"'SHALA DARPAN DATA'!C158","v":0},{"$f":"'SHALA DARPAN DATA'!A158","v":0},{"$f":"'SHALA DARPAN DATA'!B158","v":0},{"$f":"'SHALA DARPAN DATA'!D158","v":0},{"$f":"'SHALA DARPAN DATA'!J158","v":0},{"$f":"'SHALA DARPAN DATA'!T158","v":0},{"$f":"'SHALA DARPAN DATA'!V158","v":0},{"$f":"'SHALA DARPAN DATA'!K158","v":0},{"$f":"'SHALA DARPAN DATA'!E158","v":0},{"$f":"'SHALA DARPAN DATA'!G158","v":0},{"$f":"'SHALA DARPAN DATA'!H158","v":0},{"$f":"'SHALA DARPAN DATA'!W158","v":0},{"$f":"'SHALA DARPAN DATA'!R158","v":0},{"$f":"'SHALA DARPAN DATA'!S158","v":0},{"$f":"'SHALA DARPAN DATA'!O158","v":0},0,0,0,0,0,0,0,0,0,0,0]
[{"$f":"'SHALA DARPAN DATA'!C159","v":0},{"$f":"'SHALA DARPAN DATA'!A159","v":0},{"$f":"'SHALA DARPAN DATA'!B159","v":0},{"$f":"'SHALA DARPAN DATA'!D159","v":0},{"$f":"'SHALA DARPAN DATA'!J159","v":0},{"$f":"'SHALA DARPAN DATA'!T159","v":0},{"$f":"'SHALA DARPAN DATA'!V159","v":0},{"$f":"'SHALA DARPAN DATA'!K159","v":0},{"$f":"'SHALA DARPAN DATA'!E159","v":0},{"$f":"'SHALA DARPAN DATA'!G159","v":0},{"$f":"'SHALA DARPAN DATA'!H159","v":0},{"$f":"'SHALA DARPAN DATA'!W159","v":0},{"$f":"'SHALA DARPAN DATA'!R159","v":0},{"$f":"'SHALA DARPAN DATA'!S159","v":0},{"$f":"'SHALA DARPAN DATA'!O159","v":0},0,0,0,0,0,0,0,0,0,0,0]
[{"$f":"'SHALA DARPAN DATA'!C160","v":0},{"$f":"'SHALA DARPAN DATA'!A160","v":0},{"$f":"'SHALA DARPAN DATA'!B160","v":0},{"$f":"'SHALA DARPAN DATA'!D160","v":0},{"$f":"'SHALA DARPAN DATA'!J160","v":0},{"$f":"'SHALA DARPAN DATA'!T160","v":0},{"$f":"'SHALA DARPAN DATA'!V160","v":0},{"$f":"'SHALA DARPAN DATA'!K160","v":0},{"$f":"'SHALA DARPAN DATA'!E160","v":0},{"$f":"'SHALA DARPAN DATA'!G160","v":0},{"$f":"'SHALA DARPAN DATA'!H160","v":0},{"$f":"'SHALA DARPAN DATA'!W160","v":0},{"$f":"'SHALA DARPAN DATA'!R160","v":0},{"$f":"'SHALA DARPAN DATA'!S160","v":0},{"$f":"'SHALA DARPAN DATA'!O160","v":0},0,0,0,0,0,0,0,0,0,0,0]
[{"$f":"'SHALA DARPAN DATA'!C161","v":0},{"$f":"'SHALA DARPAN DATA'!A161","v":0},{"$f":"'SHALA DARPAN DATA'!B161","v":0},{"$f":"'SHALA DARPAN DATA'!D161","v":0},{"$f":"'SHALA DARPAN DATA'!J161","v":0},{"$f":"'SHALA DARPAN DATA'!T161","v":0},{"$f":"'SHALA DARPAN DATA'!V161","v":0},{"$f":"'SHALA DARPAN DATA'!K161","v":0},{"$f":"'SHALA DARPAN DATA'!E161","v":0},{"$f":"'SHALA DARPAN DATA'!G161","v":0},{"$f":"'SHALA DARPAN DATA'!H161","v":0},{"$f":"'SHALA DARPAN DATA'!W161","v":0},{"$f":"'SHALA DARPAN DATA'!R161","v":0},{"$f":"'SHALA DARPAN DATA'!S161","v":0},{"$f":"'SHALA DARPAN DATA'!O161","v":0},0,0,0,0,0,0,0,0,0,0,0]
[{"$f":"'SHALA DARPAN DATA'!C162","v":0},{"$f":"'SHALA DARPAN DATA'!A162","v":0},{"$f":"'SHALA DARPAN DATA'!B162","v":0},{"$f":"'SHALA DARPAN DATA'!D162","v":0},{"$f":"'SHALA DARPAN DATA'!J162","v":0},{"$f":"'SHALA DARPAN DATA'!T162","v":0},{"$f":"'SHALA DARPAN DATA'!V162","v":0},{"$f":"'SHALA DARPAN DATA'!K162","v":0},{"$f":"'SHALA DARPAN DATA'!E162","v":0},{"$f":"'SHALA DARPAN DATA'!G162","v":0},{"$f":"'SHALA DARPAN DATA'!H162","v":0},{"$f":"'SHALA DARPAN DATA'!W162","v":0},{"$f":"'SHALA DARPAN DATA'!R162","v":0},{"$f":"'SHALA DARPAN DATA'!S162","v":0},{"$f":"'SHALA DARPAN DATA'!O162","v":0},0,0,0,0,0,0,0,0,0,0,0]
[{"$f":"'SHALA DARPAN DATA'!C163","v":0},{"$f":"'SHALA DARPAN DATA'!A163","v":0},{"$f":"'SHALA DARPAN DATA'!B163","v":0},{"$f":"'SHALA DARPAN DATA'!D163","v":0},{"$f":"'SHALA DARPAN DATA'!J163","v":0},{"$f":"'SHALA DARPAN DATA'!T163","v":0},{"$f":"'SHALA DARPAN DATA'!V163","v":0},{"$f":"'SHALA DARPAN DATA'!K163","v":0},{"$f":"'SHALA DARPAN DATA'!E163","v":0},{"$f":"'SHALA DARPAN DATA'!G163","v":0},{"$f":"'SHALA DARPAN DATA'!H163","v":0},{"$f":"'SHALA DARPAN DATA'!W163","v":0},{"$f":"'SHALA DARPAN DATA'!R163","v":0},{"$f":"'SHALA DARPAN DATA'!S163","v":0},{"$f":"'SHALA DARPAN DATA'!O163","v":0},0,0,0,0,0,0,0,0,0,0,0]
[{"$f":"'SHALA DARPAN DATA'!C164","v":0},{"$f":"'SHALA DARPAN DATA'!A164","v":0},{"$f":"'SHALA DARPAN DATA'!B164","v":0},{"$f":"'SHALA DARPAN DATA'!D164","v":0},{"$f":"'SHALA DARPAN DATA'!J164","v":0},{"$f":"'SHALA DARPAN DATA'!T164","v":0},{"$f":"'SHALA DARPAN DATA'!V164","v":0},{"$f":"'SHALA DARPAN DATA'!K164","v":0},{"$f":"'SHALA DARPAN DATA'!E164","v":0},{"$f":"'SHALA DARPAN DATA'!G164","v":0},{"$f":"'SHALA DARPAN DATA'!H164","v":0},{"$f":"'SHALA DARPAN DATA'!W164","v":0},{"$f":"'SHALA DARPAN DATA'!R164","v":0},{"$f":"'SHALA DARPAN DATA'!S164","v":0},{"$f":"'SHALA DARPAN DATA'!O164","v":0},0,0,0,0,0,0,0,0,0,0,0]
[{"$f":"'SHALA DARPAN DATA'!C165","v":0},{"$f":"'SHALA DARPAN DATA'!A165","v":0},{"$f":"'SHALA DARPAN DATA'!B165","v":0},{"$f":"'SHALA DARPAN DATA'!D165","v":0},{"$f":"'SHALA DARPAN DATA'!J165","v":0},{"$f":"'SHALA DARPAN DATA'!T165","v":0},{"$f":"'SHALA DARPAN DATA'!V165","v":0},{"$f":"'SHALA DARPAN DATA'!K165","v":0},{"$f":"'SHALA DARPAN DATA'!E165","v":0},{"$f":"'SHALA DARPAN DATA'!G165","v":0},{"$f":"'SHALA DARPAN DATA'!H165","v":0},{"$f":"'SHALA DARPAN DATA'!W165","v":0},{"$f":"'SHALA DARPAN DATA'!R165","v":0},{"$f":"'SHALA DARPAN DATA'!S165","v":0},{"$f":"'SHALA DARPAN DATA'!O165","v":0},0,0,0,0,0,0,0,0,0,0,0]
[{"$f":"'SHALA DARPAN DATA'!C166","v":0},{"$f":"'SHALA DARPAN DATA'!A166","v":0},{"$f":"'SHALA DARPAN DATA'!B166","v":0},{"$f":"'SHALA DARPAN DATA'!D166","v":0},{"$f":"'SHALA DARPAN DATA'!J166","v":0},{"$f":"'SHALA DARPAN DATA'!T166","v":0},{"$f":"'SHALA DARPAN DATA'!V166","v":0},{"$f":"'SHALA DARPAN DATA'!K166","v":0},{"$f":"'SHALA DARPAN DATA'!E166","v":0},{"$f":"'SHALA DARPAN DATA'!G166","v":0},{"$f":"'SHALA DARPAN DATA'!H166","v":0},{"$f":"'SHALA DARPAN DATA'!W166","v":0},{"$f":"'SHALA DARPAN DATA'!R166","v":0},{"$f":"'SHALA DARPAN DATA'!S166","v":0},{"$f":"'SHALA DARPAN DATA'!O166","v":0},0,0,0,0,0,0,0,0,0,0,0]
[{"$f":"'SHALA DARPAN DATA'!C167","v":0},{"$f":"'SHALA DARPAN DATA'!A167","v":0},{"$f":"'SHALA DARPAN DATA'!B167","v":0},{"$f":"'SHALA DARPAN DATA'!D167","v":0},{"$f":"'SHALA DARPAN DATA'!J167","v":0},{"$f":"'SHALA DARPAN DATA'!T167","v":0},{"$f":"'SHALA DARPAN DATA'!V167","v":0},{"$f":"'SHALA DARPAN DATA'!K167","v":0},{"$f":"'SHALA DARPAN DATA'!E167","v":0},{"$f":"'SHALA DARPAN DATA'!G167","v":0},{"$f":"'SHALA DARPAN DATA'!H167","v":0},{"$f":"'SHALA DARPAN DATA'!W167","v":0},{"$f":"'SHALA DARPAN DATA'!R167","v":0},{"$f":"'SHALA DARPAN DATA'!S167","v":0},{"$f":"'SHALA DARPAN DATA'!O167","v":0},0,0,0,0,0,0,0,0,0,0,0]
[{"$f":"'SHALA DARPAN DATA'!C168","v":0},{"$f":"'SHALA DARPAN DATA'!A168","v":0},{"$f":"'SHALA DARPAN DATA'!B168","v":0},{"$f":"'SHALA DARPAN DATA'!D168","v":0},{"$f":"'SHALA DARPAN DATA'!J168","v":0},{"$f":"'SHALA DARPAN DATA'!T168","v":0},{"$f":"'SHALA DARPAN DATA'!V168","v":0},{"$f":"'SHALA DARPAN DATA'!K168","v":0},{"$f":"'SHALA DARPAN DATA'!E168","v":0},{"$f":"'SHALA DARPAN DATA'!G168","v":0},{"$f":"'SHALA DARPAN DATA'!H168","v":0},{"$f":"'SHALA DARPAN DATA'!W168","v":0},{"$f":"'SHALA DARPAN DATA'!R168","v":0},{"$f":"'SHALA DARPAN DATA'!S168","v":0},{"$f":"'SHALA DARPAN DATA'!O168","v":0},0,0,0,0,0,0,0,0,0,0,0]
[{"$f":"'SHALA DARPAN DATA'!C169","v":0},{"$f":"'SHALA DARPAN DATA'!A169","v":0},{"$f":"'SHALA DARPAN DATA'!B169","v":0},{"$f":"'SHALA DARPAN DATA'!D169","v":0},{"$f":"'SHALA DARPAN DATA'!J169","v":0},{"$f":"'SHALA DARPAN DATA'!T169","v":0},{"$f":"'SHALA DARPAN DATA'!V169","v":0},{"$f":"'SHALA DARPAN DATA'!K169","v":0},{"$f":"'SHALA DARPAN DATA'!E169","v":0},{"$f":"'SHALA DARPAN DATA'!G169","v":0},{"$f":"'SHALA DARPAN DATA'!H169","v":0},{"$f":"'SHALA DARPAN DATA'!W169","v":0},{"$f":"'SHALA DARPAN DATA'!R169","v":0},{"$f":"'SHALA DARPAN DATA'!S169","v":0},{"$f":"'SHALA DARPAN DATA'!O169","v":0},0,0,0,0,0,0,0,0,0,0,0]
[{"$f":"'SHALA DARPAN DATA'!C170","v":0},{"$f":"'SHALA DARPAN DATA'!A170","v":0},{"$f":"'SHALA DARPAN DATA'!B170","v":0},{"$f":"'SHALA DARPAN DATA'!D170","v":0},{"$f":"'SHALA DARPAN DATA'!J170","v":0},{"$f":"'SHALA DARPAN DATA'!T170","v":0},{"$f":"'SHALA DARPAN DATA'!V170","v":0},{"$f":"'SHALA DARPAN DATA'!K170","v":0},{"$f":"'SHALA DARPAN DATA'!E170","v":0},{"$f":"'SHALA DARPAN DATA'!G170","v":0},{"$f":"'SHALA DARPAN DATA'!H170","v":0},{"$f":"'SHALA DARPAN DATA'!W170","v":0},{"$f":"'SHALA DARPAN DATA'!R170","v":0},{"$f":"'SHALA DARPAN DATA'!S170","v":0},{"$f":"'SHALA DARPAN DATA'!O170","v":0},0,0,0,0,0,0,0,0,0,0,0]
[{"$f":"'SHALA DARPAN DATA'!C171","v":0},{"$f":"'SHALA DARPAN DATA'!A171","v":0},{"$f":"'SHALA DARPAN DATA'!B171","v":0},{"$f":"'SHALA DARPAN DATA'!D171","v":0},{"$f":"'SHALA DARPAN DATA'!J171","v":0},{"$f":"'SHALA DARPAN DATA'!T171","v":0},{"$f":"'SHALA DARPAN DATA'!V171","v":0},{"$f":"'SHALA DARPAN DATA'!K171","v":0},{"$f":"'SHALA DARPAN DATA'!E171","v":0},{"$f":"'SHALA DARPAN DATA'!G171","v":0},{"$f":"'SHALA DARPAN DATA'!H171","v":0},{"$f":"'SHALA DARPAN DATA'!W171","v":0},{"$f":"'SHALA DARPAN DATA'!R171","v":0},{"$f":"'SHALA DARPAN DATA'!S171","v":0},{"$f":"'SHALA DARPAN DATA'!O171","v":0},0,0,0,0,0,0,0,0,0,0,0]
[{"$f":"'SHALA DARPAN DATA'!C172","v":0},{"$f":"'SHALA DARPAN DATA'!A172","v":0},{"$f":"'SHALA DARPAN DATA'!B172","v":0},{"$f":"'SHALA DARPAN DATA'!D172","v":0},{"$f":"'SHALA DARPAN DATA'!J172","v":0},{"$f":"'SHALA DARPAN DATA'!T172","v":0},{"$f":"'SHALA DARPAN DATA'!V172","v":0},{"$f":"'SHALA DARPAN DATA'!K172","v":0},{"$f":"'SHALA DARPAN DATA'!E172","v":0},{"$f":"'SHALA DARPAN DATA'!G172","v":0},{"$f":"'SHALA DARPAN DATA'!H172","v":0},{"$f":"'SHALA DARPAN DATA'!W172","v":0},{"$f":"'SHALA DARPAN DATA'!R172","v":0},{"$f":"'SHALA DARPAN DATA'!S172","v":0},{"$f":"'SHALA DARPAN DATA'!O172","v":0},0,0,0,0,0,0,0,0,0,0,0]
[{"$f":"'SHALA DARPAN DATA'!C173","v":0},{"$f":"'SHALA DARPAN DATA'!A173","v":0},{"$f":"'SHALA DARPAN DATA'!B173","v":0},{"$f":"'SHALA DARPAN DATA'!D173","v":0},{"$f":"'SHALA DARPAN DATA'!J173","v":0},{"$f":"'SHALA DARPAN DATA'!T173","v":0},{"$f":"'SHALA DARPAN DATA'!V173","v":0},{"$f":"'SHALA DARPAN DATA'!K173","v":0},{"$f":"'SHALA DARPAN DATA'!E173","v":0},{"$f":"'SHALA DARPAN DATA'!G173","v":0},{"$f":"'SHALA DARPAN DATA'!H173","v":0},{"$f":"'SHALA DARPAN DATA'!W173","v":0},{"$f":"'SHALA DARPAN DATA'!R173","v":0},{"$f":"'SHALA DARPAN DATA'!S173","v":0},{"$f":"'SHALA DARPAN DATA'!O173","v":0},0,0,0,0,0,0,0,0,0,0,0]
[{"$f":"'SHALA DARPAN DATA'!C174","v":0},{"$f":"'SHALA DARPAN DATA'!A174","v":0},{"$f":"'SHALA DARPAN DATA'!B174","v":0},{"$f":"'SHALA DARPAN DATA'!D174","v":0},{"$f":"'SHALA DARPAN DATA'!J174","v":0},{"$f":"'SHALA DARPAN DATA'!T174","v":0},{"$f":"'SHALA DARPAN DATA'!V174","v":0},{"$f":"'SHALA DARPAN DATA'!K174","v":0},{"$f":"'SHALA DARPAN DATA'!E174","v":0},{"$f":"'SHALA DARPAN DATA'!G174","v":0},{"$f":"'SHALA DARPAN DATA'!H174","v":0},{"$f":"'SHALA DARPAN DATA'!W174","v":0},{"$f":"'SHALA DARPAN DATA'!R174","v":0},{"$f":"'SHALA DARPAN DATA'!S174","v":0},{"$f":"'SHALA DARPAN DATA'!O174","v":0},0,0,0,0,0,0,0,0,0,0,0]
[{"$f":"'SHALA DARPAN DATA'!C175","v":0},{"$f":"'SHALA DARPAN DATA'!A175","v":0},{"$f":"'SHALA DARPAN DATA'!B175","v":0},{"$f":"'SHALA DARPAN DATA'!D175","v":0},{"$f":"'SHALA DARPAN DATA'!J175","v":0},{"$f":"'SHALA DARPAN DATA'!T175","v":0},{"$f":"'SHALA DARPAN DATA'!V175","v":0},{"$f":"'SHALA DARPAN DATA'!K175","v":0},{"$f":"'SHALA DARPAN DATA'!E175","v":0},{"$f":"'SHALA DARPAN DATA'!G175","v":0},{"$f":"'SHALA DARPAN DATA'!H175","v":0},{"$f":"'SHALA DARPAN DATA'!W175","v":0},{"$f":"'SHALA DARPAN DATA'!R175","v":0},{"$f":"'SHALA DARPAN DATA'!S175","v":0},{"$f":"'SHALA DARPAN DATA'!O175","v":0},0,0,0,0,0,0,0,0,0,0,0]
[{"$f":"'SHALA DARPAN DATA'!C176","v":0},{"$f":"'SHALA DARPAN DATA'!A176","v":0},{"$f":"'SHALA DARPAN DATA'!B176","v":0},{"$f":"'SHALA DARPAN DATA'!D176","v":0},{"$f":"'SHALA DARPAN DATA'!J176","v":0},{"$f":"'SHALA DARPAN DATA'!T176","v":0},{"$f":"'SHALA DARPAN DATA'!V176","v":0},{"$f":"'SHALA DARPAN DATA'!K176","v":0},{"$f":"'SHALA DARPAN DATA'!E176","v":0},{"$f":"'SHALA DARPAN DATA'!G176","v":0},{"$f":"'SHALA DARPAN DATA'!H176","v":0},{"$f":"'SHALA DARPAN DATA'!W176","v":0},{"$f":"'SHALA DARPAN DATA'!R176","v":0},{"$f":"'SHALA DARPAN DATA'!S176","v":0},{"$f":"'SHALA DARPAN DATA'!O176","v":0},0,0,0,0,0,0,0,0,0,0,0]
[{"$f":"'SHALA DARPAN DATA'!C177","v":0},{"$f":"'SHALA DARPAN DATA'!A177","v":0},{"$f":"'SHALA DARPAN DATA'!B177","v":0},{"$f":"'SHALA DARPAN DATA'!D177","v":0},{"$f":"'SHALA DARPAN DATA'!J177","v":0},{"$f":"'SHALA DARPAN DATA'!T177","v":0},{"$f":"'SHALA DARPAN DATA'!V177","v":0},{"$f":"'SHALA DARPAN DATA'!K177","v":0},{"$f":"'SHALA DARPAN DATA'!E177","v":0},{"$f":"'SHALA DARPAN DATA'!G177","v":0},{"$f":"'SHALA DARPAN DATA'!H177","v":0},{"$f":"'SHALA DARPAN DATA'!W177","v":0},{"$f":"'SHALA DARPAN DATA'!R177","v":0},{"$f":"'SHALA DARPAN DATA'!S177","v":0},{"$f":"'SHALA DARPAN DATA'!O177","v":0},0,0,0,0,0,0,0,0,0,0,0]
[{"$f":"'SHALA DARPAN DATA'!C178","v":0},{"$f":"'SHALA DARPAN DATA'!A178","v":0},{"$f":"'SHALA DARPAN DATA'!B178","v":0},{"$f":"'SHALA DARPAN DATA'!D178","v":0},{"$f":"'SHALA DARPAN DATA'!J178","v":0},{"$f":"'SHALA DARPAN DATA'!T178","v":0},{"$f":"'SHALA DARPAN DATA'!V178","v":0},{"$f":"'SHALA DARPAN DATA'!K178","v":0},{"$f":"'SHALA DARPAN DATA'!E178","v":0},{"$f":"'SHALA DARPAN DATA'!G178","v":0},{"$f":"'SHALA DARPAN DATA'!H178","v":0},{"$f":"'SHALA DARPAN DATA'!W178","v":0},{"$f":"'SHALA DARPAN DATA'!R178","v":0},{"$f":"'SHALA DARPAN DATA'!S178","v":0},{"$f":"'SHALA DARPAN DATA'!O178","v":0},0,0,0,0,0,0,0,0,0,0,0]
[{"$f":"'SHALA DARPAN DATA'!C179","v":0},{"$f":"'SHALA DARPAN DATA'!A179","v":0},{"$f":"'SHALA DARPAN DATA'!B179","v":0},{"$f":"'SHALA DARPAN DATA'!D179","v":0},{"$f":"'SHALA DARPAN DATA'!J179","v":0},{"$f":"'SHALA DARPAN DATA'!T179","v":0},{"$f":"'SHALA DARPAN DATA'!V179","v":0},{"$f":"'SHALA DARPAN DATA'!K179","v":0},{"$f":"'SHALA DARPAN DATA'!E179","v":0},{"$f":"'SHALA DARPAN DATA'!G179","v":0},{"$f":"'SHALA DARPAN DATA'!H179","v":0},{"$f":"'SHALA DARPAN DATA'!W179","v":0},{"$f":"'SHALA DARPAN DATA'!R179","v":0},{"$f":"'SHALA DARPAN DATA'!S179","v":0},{"$f":"'SHALA DARPAN DATA'!O179","v":0},0,0,0,0,0,0,0,0,0,0,0]
[{"$f":"'SHALA DARPAN DATA'!C180","v":0},{"$f":"'SHALA DARPAN DATA'!A180","v":0},{"$f":"'SHALA DARPAN DATA'!B180","v":0},{"$f":"'SHALA DARPAN DATA'!D180","v":0},{"$f":"'SHALA DARPAN DATA'!J180","v":0},{"$f":"'SHALA DARPAN DATA'!T180","v":0},{"$f":"'SHALA DARPAN DATA'!V180","v":0},{"$f":"'SHALA DARPAN DATA'!K180","v":0},{"$f":"'SHALA DARPAN DATA'!E180","v":0},{"$f":"'SHALA DARPAN DATA'!G180","v":0},{"$f":"'SHALA DARPAN DATA'!H180","v":0},{"$f":"'SHALA DARPAN DATA'!W180","v":0},{"$f":"'SHALA DARPAN DATA'!R180","v":0},{"$f":"'SHALA DARPAN DATA'!S180","v":0},{"$f":"'SHALA DARPAN DATA'!O180","v":0},0,0,0,0,0,0,0,0,0,0,0]
[{"$f":"'SHALA DARPAN DATA'!C181","v":0},{"$f":"'SHALA DARPAN DATA'!A181","v":0},{"$f":"'SHALA DARPAN DATA'!B181","v":0},{"$f":"'SHALA DARPAN DATA'!D181","v":0},{"$f":"'SHALA DARPAN DATA'!J181","v":0},{"$f":"'SHALA DARPAN DATA'!T181","v":0},{"$f":"'SHALA DARPAN DATA'!V181","v":0},{"$f":"'SHALA DARPAN DATA'!K181","v":0},{"$f":"'SHALA DARPAN DATA'!E181","v":0},{"$f":"'SHALA DARPAN DATA'!G181","v":0},{"$f":"'SHALA DARPAN DATA'!H181","v":0},{"$f":"'SHALA DARPAN DATA'!W181","v":0},{"$f":"'SHALA DARPAN DATA'!R181","v":0},{"$f":"'SHALA DARPAN DATA'!S181","v":0},{"$f":"'SHALA DARPAN DATA'!O181","v":0},0,0,0,0,0,0,0,0,0,0,0]
[{"$f":"'SHALA DARPAN DATA'!C182","v":0},{"$f":"'SHALA DARPAN DATA'!A182","v":0},{"$f":"'SHALA DARPAN DATA'!B182","v":0},{"$f":"'SHALA DARPAN DATA'!D182","v":0},{"$f":"'SHALA DARPAN DATA'!J182","v":0},{"$f":"'SHALA DARPAN DATA'!T182","v":0},{"$f":"'SHALA DARPAN DATA'!V182","v":0},{"$f":"'SHALA DARPAN DATA'!K182","v":0},{"$f":"'SHALA DARPAN DATA'!E182","v":0},{"$f":"'SHALA DARPAN DATA'!G182","v":0},{"$f":"'SHALA DARPAN DATA'!H182","v":0},{"$f":"'SHALA DARPAN DATA'!W182","v":0},{"$f":"'SHALA DARPAN DATA'!R182","v":0},{"$f":"'SHALA DARPAN DATA'!S182","v":0},{"$f":"'SHALA DARPAN DATA'!O182","v":0},0,0,0,0,0,0,0,0,0,0,0]
[{"$f":"'SHALA DARPAN DATA'!C183","v":0},{"$f":"'SHALA DARPAN DATA'!A183","v":0},{"$f":"'SHALA DARPAN DATA'!B183","v":0},{"$f":"'SHALA DARPAN DATA'!D183","v":0},{"$f":"'SHALA DARPAN DATA'!J183","v":0},{"$f":"'SHALA DARPAN DATA'!T183","v":0},{"$f":"'SHALA DARPAN DATA'!V183","v":0},{"$f":"'SHALA DARPAN DATA'!K183","v":0},{"$f":"'SHALA DARPAN DATA'!E183","v":0},{"$f":"'SHALA DARPAN DATA'!G183","v":0},{"$f":"'SHALA DARPAN DATA'!H183","v":0},{"$f":"'SHALA DARPAN DATA'!W183","v":0},{"$f":"'SHALA DARPAN DATA'!R183","v":0},{"$f":"'SHALA DARPAN DATA'!S183","v":0},{"$f":"'SHALA DARPAN DATA'!O183","v":0},0,0,0,0,0,0,0,0,0,0,0]
[{"$f":"'SHALA DARPAN DATA'!C184","v":0},{"$f":"'SHALA DARPAN DATA'!A184","v":0},{"$f":"'SHALA DARPAN DATA'!B184","v":0},{"$f":"'SHALA DARPAN DATA'!D184","v":0},{"$f":"'SHALA DARPAN DATA'!J184","v":0},{"$f":"'SHALA DARPAN DATA'!T184","v":0},{"$f":"'SHALA DARPAN DATA'!V184","v":0},{"$f":"'SHALA DARPAN DATA'!K184","v":0},{"$f":"'SHALA DARPAN DATA'!E184","v":0},{"$f":"'SHALA DARPAN DATA'!G184","v":0},{"$f":"'SHALA DARPAN DATA'!H184","v":0},{"$f":"'SHALA DARPAN DATA'!W184","v":0},{"$f":"'SHALA DARPAN DATA'!R184","v":0},{"$f":"'SHALA DARPAN DATA'!S184","v":0},{"$f":"'SHALA DARPAN DATA'!O184","v":0},0,0,0,0,0,0,0,0,0,0,0]
[{"$f":"'SHALA DARPAN DATA'!C185","v":0},{"$f":"'SHALA DARPAN DATA'!A185","v":0},{"$f":"'SHALA DARPAN DATA'!B185","v":0},{"$f":"'SHALA DARPAN DATA'!D185","v":0},{"$f":"'SHALA DARPAN DATA'!J185","v":0},{"$f":"'SHALA DARPAN DATA'!T185","v":0},{"$f":"'SHALA DARPAN DATA'!V185","v":0},{"$f":"'SHALA DARPAN DATA'!K185","v":0},{"$f":"'SHALA DARPAN DATA'!E185","v":0},{"$f":"'SHALA DARPAN DATA'!G185","v":0},{"$f":"'SHALA DARPAN DATA'!H185","v":0},{"$f":"'SHALA DARPAN DATA'!W185","v":0},{"$f":"'SHALA DARPAN DATA'!R185","v":0},{"$f":"'SHALA DARPAN DATA'!S185","v":0},{"$f":"'SHALA DARPAN DATA'!O185","v":0},0,0,0,0,0,0,0,0,0,0,0]
[{"$f":"'SHALA DARPAN DATA'!C186","v":0},{"$f":"'SHALA DARPAN DATA'!A186","v":0},{"$f":"'SHALA DARPAN DATA'!B186","v":0},{"$f":"'SHALA DARPAN DATA'!D186","v":0},{"$f":"'SHALA DARPAN DATA'!J186","v":0},{"$f":"'SHALA DARPAN DATA'!T186","v":0},{"$f":"'SHALA DARPAN DATA'!V186","v":0},{"$f":"'SHALA DARPAN DATA'!K186","v":0},{"$f":"'SHALA DARPAN DATA'!E186","v":0},{"$f":"'SHALA DARPAN DATA'!G186","v":0},{"$f":"'SHALA DARPAN DATA'!H186","v":0},{"$f":"'SHALA DARPAN DATA'!W186","v":0},{"$f":"'SHALA DARPAN DATA'!R186","v":0},{"$f":"'SHALA DARPAN DATA'!S186","v":0},{"$f":"'SHALA DARPAN DATA'!O186","v":0},0,0,0,0,0,0,0,0,0,0,0]
[{"$f":"'SHALA DARPAN DATA'!C187","v":0},{"$f":"'SHALA DARPAN DATA'!A187","v":0},{"$f":"'SHALA DARPAN DATA'!B187","v":0},{"$f":"'SHALA DARPAN DATA'!D187","v":0},{"$f":"'SHALA DARPAN DATA'!J187","v":0},{"$f":"'SHALA DARPAN DATA'!T187","v":0},{"$f":"'SHALA DARPAN DATA'!V187","v":0},{"$f":"'SHALA DARPAN DATA'!K187","v":0},{"$f":"'SHALA DARPAN DATA'!E187","v":0},{"$f":"'SHALA DARPAN DATA'!G187","v":0},{"$f":"'SHALA DARPAN DATA'!H187","v":0},{"$f":"'SHALA DARPAN DATA'!W187","v":0},{"$f":"'SHALA DARPAN DATA'!R187","v":0},{"$f":"'SHALA DARPAN DATA'!S187","v":0},{"$f":"'SHALA DARPAN DATA'!O187","v":0},0,0,0,0,0,0,0,0,0,0,0]
[{"$f":"'SHALA DARPAN DATA'!C188","v":0},{"$f":"'SHALA DARPAN DATA'!A188","v":0},{"$f":"'SHALA DARPAN DATA'!B188","v":0},{"$f":"'SHALA DARPAN DATA'!D188","v":0},{"$f":"'SHALA DARPAN DATA'!J188","v":0},{"$f":"'SHALA DARPAN DATA'!T188","v":0},{"$f":"'SHALA DARPAN DATA'!V188","v":0},{"$f":"'SHALA DARPAN DATA'!K188","v":0},{"$f":"'SHALA DARPAN DATA'!E188","v":0},{"$f":"'SHALA DARPAN DATA'!G188","v":0},{"$f":"'SHALA DARPAN DATA'!H188","v":0},{"$f":"'SHALA DARPAN DATA'!W188","v":0},{"$f":"'SHALA DARPAN DATA'!R188","v":0},{"$f":"'SHALA DARPAN DATA'!S188","v":0},{"$f":"'SHALA DARPAN DATA'!O188","v":0},0,0,0,0,0,0,0,0,0,0,0]
[{"$f":"'SHALA DARPAN DATA'!C189","v":0},{"$f":"'SHALA DARPAN DATA'!A189","v":0},{"$f":"'SHALA DARPAN DATA'!B189","v":0},{"$f":"'SHALA DARPAN DATA'!D189","v":0},{"$f":"'SHALA DARPAN DATA'!J189","v":0},{"$f":"'SHALA DARPAN DATA'!T189","v":0},{"$f":"'SHALA DARPAN DATA'!V189","v":0},{"$f":"'SHALA DARPAN DATA'!K189","v":0},{"$f":"'SHALA DARPAN DATA'!E189","v":0},{"$f":"'SHALA DARPAN DATA'!G189","v":0},{"$f":"'SHALA DARPAN DATA'!H189","v":0},{"$f":"'SHALA DARPAN DATA'!W189","v":0},{"$f":"'SHALA DARPAN DATA'!R189","v":0},{"$f":"'SHALA DARPAN DATA'!S189","v":0},{"$f":"'SHALA DARPAN DATA'!O189","v":0},0,0,0,0,0,0,0,0,0,0,0]
[{"$f":"'SHALA DARPAN DATA'!C190","v":0},{"$f":"'SHALA DARPAN DATA'!A190","v":0},{"$f":"'SHALA DARPAN DATA'!B190","v":0},{"$f":"'SHALA DARPAN DATA'!D190","v":0},{"$f":"'SHALA DARPAN DATA'!J190","v":0},{"$f":"'SHALA DARPAN DATA'!T190","v":0},{"$f":"'SHALA DARPAN DATA'!V190","v":0},{"$f":"'SHALA DARPAN DATA'!K190","v":0},{"$f":"'SHALA DARPAN DATA'!E190","v":0},{"$f":"'SHALA DARPAN DATA'!G190","v":0},{"$f":"'SHALA DARPAN DATA'!H190","v":0},{"$f":"'SHALA DARPAN DATA'!W190","v":0},{"$f":"'SHALA DARPAN DATA'!R190","v":0},{"$f":"'SHALA DARPAN DATA'!S190","v":0},{"$f":"'SHALA DARPAN DATA'!O190","v":0},0,0,0,0,0,0,0,0,0,0,0]
[{"$f":"'SHALA DARPAN DATA'!C191","v":0},{"$f":"'SHALA DARPAN DATA'!A191","v":0},{"$f":"'SHALA DARPAN DATA'!B191","v":0},{"$f":"'SHALA DARPAN DATA'!D191","v":0},{"$f":"'SHALA DARPAN DATA'!J191","v":0},{"$f":"'SHALA DARPAN DATA'!T191","v":0},{"$f":"'SHALA DARPAN DATA'!V191","v":0},{"$f":"'SHALA DARPAN DATA'!K191","v":0},{"$f":"'SHALA DARPAN DATA'!E191","v":0},{"$f":"'SHALA DARPAN DATA'!G191","v":0},{"$f":"'SHALA DARPAN DATA'!H191","v":0},{"$f":"'SHALA DARPAN DATA'!W191","v":0},{"$f":"'SHALA DARPAN DATA'!R191","v":0},{"$f":"'SHALA DARPAN DATA'!S191","v":0},{"$f":"'SHALA DARPAN DATA'!O191","v":0},0,0,0,0,0,0,0,0,0,0,0]
[{"$f":"'SHALA DARPAN DATA'!C192","v":0},{"$f":"'SHALA DARPAN DATA'!A192","v":0},{"$f":"'SHALA DARPAN DATA'!B192","v":0},{"$f":"'SHALA DARPAN DATA'!D192","v":0},{"$f":"'SHALA DARPAN DATA'!J192","v":0},{"$f":"'SHALA DARPAN DATA'!T192","v":0},{"$f":"'SHALA DARPAN DATA'!V192","v":0},{"$f":"'SHALA DARPAN DATA'!K192","v":0},{"$f":"'SHALA DARPAN DATA'!E192","v":0},{"$f":"'SHALA DARPAN DATA'!G192","v":0},{"$f":"'SHALA DARPAN DATA'!H192","v":0},{"$f":"'SHALA DARPAN DATA'!W192","v":0},{"$f":"'SHALA DARPAN DATA'!R192","v":0},{"$f":"'SHALA DARPAN DATA'!S192","v":0},{"$f":"'SHALA DARPAN DATA'!O192","v":0},0,0,0,0,0,0,0,0,0,0,0]
[{"$f":"'SHALA DARPAN DATA'!C193","v":0},{"$f":"'SHALA DARPAN DATA'!A193","v":0},{"$f":"'SHALA DARPAN DATA'!B193","v":0},{"$f":"'SHALA DARPAN DATA'!D193","v":0},{"$f":"'SHALA DARPAN DATA'!J193","v":0},{"$f":"'SHALA DARPAN DATA'!T193","v":0},{"$f":"'SHALA DARPAN DATA'!V193","v":0},{"$f":"'SHALA DARPAN DATA'!K193","v":0},{"$f":"'SHALA DARPAN DATA'!E193","v":0},{"$f":"'SHALA DARPAN DATA'!G193","v":0},{"$f":"'SHALA DARPAN DATA'!H193","v":0},{"$f":"'SHALA DARPAN DATA'!W193","v":0},{"$f":"'SHALA DARPAN DATA'!R193","v":0},{"$f":"'SHALA DARPAN DATA'!S193","v":0},{"$f":"'SHALA DARPAN DATA'!O193","v":0},0,0,0,0,0,0,0,0,0,0,0]
[{"$f":"'SHALA DARPAN DATA'!C194","v":0},{"$f":"'SHALA DARPAN DATA'!A194","v":0},{"$f":"'SHALA DARPAN DATA'!B194","v":0},{"$f":"'SHALA DARPAN DATA'!D194","v":0},{"$f":"'SHALA DARPAN DATA'!J194","v":0},{"$f":"'SHALA DARPAN DATA'!T194","v":0},{"$f":"'SHALA DARPAN DATA'!V194","v":0},{"$f":"'SHALA DARPAN DATA'!K194","v":0},{"$f":"'SHALA DARPAN DATA'!E194","v":0},{"$f":"'SHALA DARPAN DATA'!G194","v":0},{"$f":"'SHALA DARPAN DATA'!H194","v":0},{"$f":"'SHALA DARPAN DATA'!W194","v":0},{"$f":"'SHALA DARPAN DATA'!R194","v":0},{"$f":"'SHALA DARPAN DATA'!S194","v":0},{"$f":"'SHALA DARPAN DATA'!O194","v":0},0,0,0,0,0,0,0,0,0,0,0]
[{"$f":"'SHALA DARPAN DATA'!C195","v":0},{"$f":"'SHALA DARPAN DATA'!A195","v":0},{"$f":"'SHALA DARPAN DATA'!B195","v":0},{"$f":"'SHALA DARPAN DATA'!D195","v":0},{"$f":"'SHALA DARPAN DATA'!J195","v":0},{"$f":"'SHALA DARPAN DATA'!T195","v":0},{"$f":"'SHALA DARPAN DATA'!V195","v":0},{"$f":"'SHALA DARPAN DATA'!K195","v":0},{"$f":"'SHALA DARPAN DATA'!E195","v":0},{"$f":"'SHALA DARPAN DATA'!G195","v":0},{"$f":"'SHALA DARPAN DATA'!H195","v":0},{"$f":"'SHALA DARPAN DATA'!W195","v":0},{"$f":"'SHALA DARPAN DATA'!R195","v":0},{"$f":"'SHALA DARPAN DATA'!S195","v":0},{"$f":"'SHALA DARPAN DATA'!O195","v":0},0,0,0,0,0,0,0,0,0,0,0]
[{"$f":"'SHALA DARPAN DATA'!C196","v":0},{"$f":"'SHALA DARPAN DATA'!A196","v":0},{"$f":"'SHALA DARPAN DATA'!B196","v":0},{"$f":"'SHALA DARPAN DATA'!D196","v":0},{"$f":"'SHALA DARPAN DATA'!J196","v":0},{"$f":"'SHALA DARPAN DATA'!T196","v":0},{"$f":"'SHALA DARPAN DATA'!V196","v":0},{"$f":"'SHALA DARPAN DATA'!K196","v":0},{"$f":"'SHALA DARPAN DATA'!E196","v":0},{"$f":"'SHALA DARPAN DATA'!G196","v":0},{"$f":"'SHALA DARPAN DATA'!H196","v":0},{"$f":"'SHALA DARPAN DATA'!W196","v":0},{"$f":"'SHALA DARPAN DATA'!R196","v":0},{"$f":"'SHALA DARPAN DATA'!S196","v":0},{"$f":"'SHALA DARPAN DATA'!O196","v":0},0,0,0,0,0,0,0,0,0,0,0]
[{"$f":"'SHALA DARPAN DATA'!C197","v":0},{"$f":"'SHALA DARPAN DATA'!A197","v":0},{"$f":"'SHALA DARPAN DATA'!B197","v":0},{"$f":"'SHALA DARPAN DATA'!D197","v":0},{"$f":"'SHALA DARPAN DATA'!J197","v":0},{"$f":"'SHALA DARPAN DATA'!T197","v":0},{"$f":"'SHALA DARPAN DATA'!V197","v":0},{"$f":"'SHALA DARPAN DATA'!K197","v":0},{"$f":"'SHALA DARPAN DATA'!E197","v":0},{"$f":"'SHALA DARPAN DATA'!G197","v":0},{"$f":"'SHALA DARPAN DATA'!H197","v":0},{"$f":"'SHALA DARPAN DATA'!W197","v":0},{"$f":"'SHALA DARPAN DATA'!R197","v":0},{"$f":"'SHALA DARPAN DATA'!S197","v":0},{"$f":"'SHALA DARPAN DATA'!O197","v":0},0,0,0,0,0,0,0,0,0,0,0]
[{"$f":"'SHALA DARPAN DATA'!C198","v":0},{"$f":"'SHALA DARPAN DATA'!A198","v":0},{"$f":"'SHALA DARPAN DATA'!B198","v":0},{"$f":"'SHALA DARPAN DATA'!D198","v":0},{"$f":"'SHALA DARPAN DATA'!J198","v":0},{"$f":"'SHALA DARPAN DATA'!T198","v":0},{"$f":"'SHALA DARPAN DATA'!V198","v":0},{"$f":"'SHALA DARPAN DATA'!K198","v":0},{"$f":"'SHALA DARPAN DATA'!E198","v":0},{"$f":"'SHALA DARPAN DATA'!G198","v":0},{"$f":"'SHALA DARPAN DATA'!H198","v":0},{"$f":"'SHALA DARPAN DATA'!W198","v":0},{"$f":"'SHALA DARPAN DATA'!R198","v":0},{"$f":"'SHALA DARPAN DATA'!S198","v":0},{"$f":"'SHALA DARPAN DATA'!O198","v":0},0,0,0,0,0,0,0,0,0,0,0]
[{"$f":"'SHALA DARPAN DATA'!C199","v":0},{"$f":"'SHALA DARPAN DATA'!A199","v":0},{"$f":"'SHALA DARPAN DATA'!B199","v":0},{"$f":"'SHALA DARPAN DATA'!D199","v":0},{"$f":"'SHALA DARPAN DATA'!J199","v":0},{"$f":"'SHALA DARPAN DATA'!T199","v":0},{"$f":"'SHALA DARPAN DATA'!V199","v":0},{"$f":"'SHALA DARPAN DATA'!K199","v":0},{"$f":"'SHALA DARPAN DATA'!E199","v":0},{"$f":"'SHALA DARPAN DATA'!G199","v":0},{"$f":"'SHALA DARPAN DATA'!H199","v":0},{"$f":"'SHALA DARPAN DATA'!W199","v":0},{"$f":"'SHALA DARPAN DATA'!R199","v":0},{"$f":"'SHALA DARPAN DATA'!S199","v":0},{"$f":"'SHALA DARPAN DATA'!O199","v":0},0,0,0,0,0,0,0,0,0,0,0]
[{"$f":"'SHALA DARPAN DATA'!C200","v":0},{"$f":"'SHALA DARPAN DATA'!A200","v":0},{"$f":"'SHALA DARPAN DATA'!B200","v":0},{"$f":"'SHALA DARPAN DATA'!D200","v":0},{"$f":"'SHALA DARPAN DATA'!J200","v":0},{"$f":"'SHALA DARPAN DATA'!T200","v":0},{"$f":"'SHALA DARPAN DATA'!V200","v":0},{"$f":"'SHALA DARPAN DATA'!K200","v":0},{"$f":"'SHALA DARPAN DATA'!E200","v":0},{"$f":"'SHALA DARPAN DATA'!G200","v":0},{"$f":"'SHALA DARPAN DATA'!H200","v":0},{"$f":"'SHALA DARPAN DATA'!W200","v":0},{"$f":"'SHALA DARPAN DATA'!R200","v":0},{"$f":"'SHALA DARPAN DATA'!S200","v":0},{"$f":"'SHALA DARPAN DATA'!O200","v":0},0,0,0,0,0,0,0,0,0,0,0]
[{"$f":"'SHALA DARPAN DATA'!C201","v":0},{"$f":"'SHALA DARPAN DATA'!A201","v":0},{"$f":"'SHALA DARPAN DATA'!B201","v":0},{"$f":"'SHALA DARPAN DATA'!D201","v":0},{"$f":"'SHALA DARPAN DATA'!J201","v":0},{"$f":"'SHALA DARPAN DATA'!T201","v":0},{"$f":"'SHALA DARPAN DATA'!V201","v":0},{"$f":"'SHALA DARPAN DATA'!K201","v":0},{"$f":"'SHALA DARPAN DATA'!E201","v":0},{"$f":"'SHALA DARPAN DATA'!G201","v":0},{"$f":"'SHALA DARPAN DATA'!H201","v":0},{"$f":"'SHALA DARPAN DATA'!W201","v":0},{"$f":"'SHALA DARPAN DATA'!R201","v":0},{"$f":"'SHALA DARPAN DATA'!S201","v":0},{"$f":"'SHALA DARPAN DATA'!O201","v":0},0,0,0,0,0,0,0,0,0,0,0]
[{"$f":"'SHALA DARPAN DATA'!C202","v":0},{"$f":"'SHALA DARPAN DATA'!A202","v":0},{"$f":"'SHALA DARPAN DATA'!B202","v":0},{"$f":"'SHALA DARPAN DATA'!D202","v":0},{"$f":"'SHALA DARPAN DATA'!J202","v":0},{"$f":"'SHALA DARPAN DATA'!T202","v":0},{"$f":"'SHALA DARPAN DATA'!V202","v":0},{"$f":"'SHALA DARPAN DATA'!K202","v":0},{"$f":"'SHALA DARPAN DATA'!E202","v":0},{"$f":"'SHALA DARPAN DATA'!G202","v":0},{"$f":"'SHALA DARPAN DATA'!H202","v":0},{"$f":"'SHALA DARPAN DATA'!W202","v":0},{"$f":"'SHALA DARPAN DATA'!R202","v":0},{"$f":"'SHALA DARPAN DATA'!S202","v":0},{"$f":"'SHALA DARPAN DATA'!O202","v":0},0,0,0,0,0,0,0,0,0,0,0]
[{"$f":"'SHALA DARPAN DATA'!C203","v":0},{"$f":"'SHALA DARPAN DATA'!A203","v":0},{"$f":"'SHALA DARPAN DATA'!B203","v":0},{"$f":"'SHALA DARPAN DATA'!D203","v":0},{"$f":"'SHALA DARPAN DATA'!J203","v":0},{"$f":"'SHALA DARPAN DATA'!T203","v":0},{"$f":"'SHALA DARPAN DATA'!V203","v":0},{"$f":"'SHALA DARPAN DATA'!K203","v":0},{"$f":"'SHALA DARPAN DATA'!E203","v":0},{"$f":"'SHALA DARPAN DATA'!G203","v":0},{"$f":"'SHALA DARPAN DATA'!H203","v":0},{"$f":"'SHALA DARPAN DATA'!W203","v":0},{"$f":"'SHALA DARPAN DATA'!R203","v":0},{"$f":"'SHALA DARPAN DATA'!S203","v":0},{"$f":"'SHALA DARPAN DATA'!O203","v":0},0,0,0,0,0,0,0,0,0,0,0]
[{"$f":"'SHALA DARPAN DATA'!C204","v":0},{"$f":"'SHALA DARPAN DATA'!A204","v":0},{"$f":"'SHALA DARPAN DATA'!B204","v":0},{"$f":"'SHALA DARPAN DATA'!D204","v":0},{"$f":"'SHALA DARPAN DATA'!J204","v":0},{"$f":"'SHALA DARPAN DATA'!T204","v":0},{"$f":"'SHALA DARPAN DATA'!V204","v":0},{"$f":"'SHALA DARPAN DATA'!K204","v":0},{"$f":"'SHALA DARPAN DATA'!E204","v":0},{"$f":"'SHALA DARPAN DATA'!G204","v":0},{"$f":"'SHALA DARPAN DATA'!H204","v":0},{"$f":"'SHALA DARPAN DATA'!W204","v":0},{"$f":"'SHALA DARPAN DATA'!R204","v":0},{"$f":"'SHALA DARPAN DATA'!S204","v":0},{"$f":"'SHALA DARPAN DATA'!O204","v":0},0,0,0,0,0,0,0,0,0,0,0]
[{"$f":"'SHALA DARPAN DATA'!C205","v":0},{"$f":"'SHALA DARPAN DATA'!A205","v":0},{"$f":"'SHALA DARPAN DATA'!B205","v":0},{"$f":"'SHALA DARPAN DATA'!D205","v":0},{"$f":"'SHALA DARPAN DATA'!J205","v":0},{"$f":"'SHALA DARPAN DATA'!T205","v":0},{"$f":"'SHALA DARPAN DATA'!V205","v":0},{"$f":"'SHALA DARPAN DATA'!K205","v":0},{"$f":"'SHALA DARPAN DATA'!E205","v":0},{"$f":"'SHALA DARPAN DATA'!G205","v":0},{"$f":"'SHALA DARPAN DATA'!H205","v":0},{"$f":"'SHALA DARPAN DATA'!W205","v":0},{"$f":"'SHALA DARPAN DATA'!R205","v":0},{"$f":"'SHALA DARPAN DATA'!S205","v":0},{"$f":"'SHALA DARPAN DATA'!O205","v":0},0,0,0,0,0,0,0,0,0,0,0]
[{"$f":"'SHALA DARPAN DATA'!C206","v":0},{"$f":"'SHALA DARPAN DATA'!A206","v":0},{"$f":"'SHALA DARPAN DATA'!B206","v":0},{"$f":"'SHALA DARPAN DATA'!D206","v":0},{"$f":"'SHALA DARPAN DATA'!J206","v":0},{"$f":"'SHALA DARPAN DATA'!T206","v":0},{"$f":"'SHALA DARPAN DATA'!V206","v":0},{"$f":"'SHALA DARPAN DATA'!K206","v":0},{"$f":"'SHALA DARPAN DATA'!E206","v":0},{"$f":"'SHALA DARPAN DATA'!G206","v":0},{"$f":"'SHALA DARPAN DATA'!H206","v":0},{"$f":"'SHALA DARPAN DATA'!W206","v":0},{"$f":"'SHALA DARPAN DATA'!R206","v":0},{"$f":"'SHALA DARPAN DATA'!S206","v":0},{"$f":"'SHALA DARPAN DATA'!O206","v":0},0,0,0,0,0,0,0,0,0,0,0]
[{"$f":"'SHALA DARPAN DATA'!C207","v":0},{"$f":"'SHALA DARPAN DATA'!A207","v":0},{"$f":"'SHALA DARPAN DATA'!B207","v":0},{"$f":"'SHALA DARPAN DATA'!D207","v":0},{"$f":"'SHALA DARPAN DATA'!J207","v":0},{"$f":"'SHALA DARPAN DATA'!T207","v":0},{"$f":"'SHALA DARPAN DATA'!V207","v":0},{"$f":"'SHALA DARPAN DATA'!K207","v":0},{"$f":"'SHALA DARPAN DATA'!E207","v":0},{"$f":"'SHALA DARPAN DATA'!G207","v":0},{"$f":"'SHALA DARPAN DATA'!H207","v":0},{"$f":"'SHALA DARPAN DATA'!W207","v":0},{"$f":"'SHALA DARPAN DATA'!R207","v":0},{"$f":"'SHALA DARPAN DATA'!S207","v":0},{"$f":"'SHALA DARPAN DATA'!O207","v":0},0,0,0,0,0,0,0,0,0,0,0]
[{"$f":"'SHALA DARPAN DATA'!C208","v":0},{"$f":"'SHALA DARPAN DATA'!A208","v":0},{"$f":"'SHALA DARPAN DATA'!B208","v":0},{"$f":"'SHALA DARPAN DATA'!D208","v":0},{"$f":"'SHALA DARPAN DATA'!J208","v":0},{"$f":"'SHALA DARPAN DATA'!T208","v":0},{"$f":"'SHALA DARPAN DATA'!V208","v":0},{"$f":"'SHALA DARPAN DATA'!K208","v":0},{"$f":"'SHALA DARPAN DATA'!E208","v":0},{"$f":"'SHALA DARPAN DATA'!G208","v":0},{"$f":"'SHALA DARPAN DATA'!H208","v":0},{"$f":"'SHALA DARPAN DATA'!W208","v":0},{"$f":"'SHALA DARPAN DATA'!R208","v":0},{"$f":"'SHALA DARPAN DATA'!S208","v":0},{"$f":"'SHALA DARPAN DATA'!O208","v":0},0,0,0,0,0,0,0,0,0,0,0]
[{"$f":"'SHALA DARPAN DATA'!C209","v":0},{"$f":"'SHALA DARPAN DATA'!A209","v":0},{"$f":"'SHALA DARPAN DATA'!B209","v":0},{"$f":"'SHALA DARPAN DATA'!D209","v":0},{"$f":"'SHALA DARPAN DATA'!J209","v":0},{"$f":"'SHALA DARPAN DATA'!T209","v":0},{"$f":"'SHALA DARPAN DATA'!V209","v":0},{"$f":"'SHALA DARPAN DATA'!K209","v":0},{"$f":"'SHALA DARPAN DATA'!E209","v":0},{"$f":"'SHALA DARPAN DATA'!G209","v":0},{"$f":"'SHALA DARPAN DATA'!H209","v":0},{"$f":"'SHALA DARPAN DATA'!W209","v":0},{"$f":"'SHALA DARPAN DATA'!R209","v":0},{"$f":"'SHALA DARPAN DATA'!S209","v":0},{"$f":"'SHALA DARPAN DATA'!O209","v":0},0,0,0,0,0,0,0,0,0,0,0]
[{"$f":"'SHALA DARPAN DATA'!C210","v":0},{"$f":"'SHALA DARPAN DATA'!A210","v":0},{"$f":"'SHALA DARPAN DATA'!B210","v":0},{"$f":"'SHALA DARPAN DATA'!D210","v":0},{"$f":"'SHALA DARPAN DATA'!J210","v":0},{"$f":"'SHALA DARPAN DATA'!T210","v":0},{"$f":"'SHALA DARPAN DATA'!V210","v":0},{"$f":"'SHALA DARPAN DATA'!K210","v":0},{"$f":"'SHALA DARPAN DATA'!E210","v":0},{"$f":"'SHALA DARPAN DATA'!G210","v":0},{"$f":"'SHALA DARPAN DATA'!H210","v":0},{"$f":"'SHALA DARPAN DATA'!W210","v":0},{"$f":"'SHALA DARPAN DATA'!R210","v":0},{"$f":"'SHALA DARPAN DATA'!S210","v":0},{"$f":"'SHALA DARPAN DATA'!O210","v":0},0,0,0,0,0,0,0,0,0,0,0]
[{"$f":"'SHALA DARPAN DATA'!C211","v":0},{"$f":"'SHALA DARPAN DATA'!A211","v":0},{"$f":"'SHALA DARPAN DATA'!B211","v":0},{"$f":"'SHALA DARPAN DATA'!D211","v":0},{"$f":"'SHALA DARPAN DATA'!J211","v":0},{"$f":"'SHALA DARPAN DATA'!T211","v":0},{"$f":"'SHALA DARPAN DATA'!V211","v":0},{"$f":"'SHALA DARPAN DATA'!K211","v":0},{"$f":"'SHALA DARPAN DATA'!E211","v":0},{"$f":"'SHALA DARPAN DATA'!G211","v":0},{"$f":"'SHALA DARPAN DATA'!H211","v":0},{"$f":"'SHALA DARPAN DATA'!W211","v":0},{"$f":"'SHALA DARPAN DATA'!R211","v":0},{"$f":"'SHALA DARPAN DATA'!S211","v":0},{"$f":"'SHALA DARPAN DATA'!O211","v":0},0,0,0,0,0,0,0,0,0,0,0]
[{"$f":"'SHALA DARPAN DATA'!C212","v":0},{"$f":"'SHALA DARPAN DATA'!A212","v":0},{"$f":"'SHALA DARPAN DATA'!B212","v":0},{"$f":"'SHALA DARPAN DATA'!D212","v":0},{"$f":"'SHALA DARPAN DATA'!J212","v":0},{"$f":"'SHALA DARPAN DATA'!T212","v":0},{"$f":"'SHALA DARPAN DATA'!V212","v":0},{"$f":"'SHALA DARPAN DATA'!K212","v":0},{"$f":"'SHALA DARPAN DATA'!E212","v":0},{"$f":"'SHALA DARPAN DATA'!G212","v":0},{"$f":"'SHALA DARPAN DATA'!H212","v":0},{"$f":"'SHALA DARPAN DATA'!W212","v":0},{"$f":"'SHALA DARPAN DATA'!R212","v":0},{"$f":"'SHALA DARPAN DATA'!S212","v":0},{"$f":"'SHALA DARPAN DATA'!O212","v":0},0,0,0,0,0,0,0,0,0,0,0]
[{"$f":"'SHALA DARPAN DATA'!C213","v":0},{"$f":"'SHALA DARPAN DATA'!A213","v":0},{"$f":"'SHALA DARPAN DATA'!B213","v":0},{"$f":"'SHALA DARPAN DATA'!D213","v":0},{"$f":"'SHALA DARPAN DATA'!J213","v":0},{"$f":"'SHALA DARPAN DATA'!T213","v":0},{"$f":"'SHALA DARPAN DATA'!V213","v":0},{"$f":"'SHALA DARPAN DATA'!K213","v":0},{"$f":"'SHALA DARPAN DATA'!E213","v":0},{"$f":"'SHALA DARPAN DATA'!G213","v":0},{"$f":"'SHALA DARPAN DATA'!H213","v":0},{"$f":"'SHALA DARPAN DATA'!W213","v":0},{"$f":"'SHALA DARPAN DATA'!R213","v":0},{"$f":"'SHALA DARPAN DATA'!S213","v":0},{"$f":"'SHALA DARPAN DATA'!O213","v":0},0,0,0,0,0,0,0,0,0,0,0]
[{"$f":"'SHALA DARPAN DATA'!C214","v":0},{"$f":"'SHALA DARPAN DATA'!A214","v":0},{"$f":"'SHALA DARPAN DATA'!B214","v":0},{"$f":"'SHALA DARPAN DATA'!D214","v":0},{"$f":"'SHALA DARPAN DATA'!J214","v":0},{"$f":"'SHALA DARPAN DATA'!T214","v":0},{"$f":"'SHALA DARPAN DATA'!V214","v":0},{"$f":"'SHALA DARPAN DATA'!K214","v":0},{"$f":"'SHALA DARPAN DATA'!E214","v":0},{"$f":"'SHALA DARPAN DATA'!G214","v":0},{"$f":"'SHALA DARPAN DATA'!H214","v":0},{"$f":"'SHALA DARPAN DATA'!W214","v":0},{"$f":"'SHALA DARPAN DATA'!R214","v":0},{"$f":"'SHALA DARPAN DATA'!S214","v":0},{"$f":"'SHALA DARPAN DATA'!O214","v":0},0,0,0,0,0,0,0,0,0,0,0]
[{"$f":"'SHALA DARPAN DATA'!C215","v":0},{"$f":"'SHALA DARPAN DATA'!A215","v":0},{"$f":"'SHALA DARPAN DATA'!B215","v":0},{"$f":"'SHALA DARPAN DATA'!D215","v":0},{"$f":"'SHALA DARPAN DATA'!J215","v":0},{"$f":"'SHALA DARPAN DATA'!T215","v":0},{"$f":"'SHALA DARPAN DATA'!V215","v":0},{"$f":"'SHALA DARPAN DATA'!K215","v":0},{"$f":"'SHALA DARPAN DATA'!E215","v":0},{"$f":"'SHALA DARPAN DATA'!G215","v":0},{"$f":"'SHALA DARPAN DATA'!H215","v":0},{"$f":"'SHALA DARPAN DATA'!W215","v":0},{"$f":"'SHALA DARPAN DATA'!R215","v":0},{"$f":"'SHALA DARPAN DATA'!S215","v":0},{"$f":"'SHALA DARPAN DATA'!O215","v":0},0,0,0,0,0,0,0,0,0,0,0]
[{"$f":"'SHALA DARPAN DATA'!C216","v":0},{"$f":"'SHALA DARPAN DATA'!A216","v":0},{"$f":"'SHALA DARPAN DATA'!B216","v":0},{"$f":"'SHALA DARPAN DATA'!D216","v":0},{"$f":"'SHALA DARPAN DATA'!J216","v":0},{"$f":"'SHALA DARPAN DATA'!T216","v":0},{"$f":"'SHALA DARPAN DATA'!V216","v":0},{"$f":"'SHALA DARPAN DATA'!K216","v":0},{"$f":"'SHALA DARPAN DATA'!E216","v":0},{"$f":"'SHALA DARPAN DATA'!G216","v":0},{"$f":"'SHALA DARPAN DATA'!H216","v":0},{"$f":"'SHALA DARPAN DATA'!W216","v":0},{"$f":"'SHALA DARPAN DATA'!R216","v":0},{"$f":"'SHALA DARPAN DATA'!S216","v":0},{"$f":"'SHALA DARPAN DATA'!O216","v":0},0,0,0,0,0,0,0,0,0,0,0]
[{"$f":"'SHALA DARPAN DATA'!C217","v":0},{"$f":"'SHALA DARPAN DATA'!A217","v":0},{"$f":"'SHALA DARPAN DATA'!B217","v":0},{"$f":"'SHALA DARPAN DATA'!D217","v":0},{"$f":"'SHALA DARPAN DATA'!J217","v":0},{"$f":"'SHALA DARPAN DATA'!T217","v":0},{"$f":"'SHALA DARPAN DATA'!V217","v":0},{"$f":"'SHALA DARPAN DATA'!K217","v":0},{"$f":"'SHALA DARPAN DATA'!E217","v":0},{"$f":"'SHALA DARPAN DATA'!G217","v":0},{"$f":"'SHALA DARPAN DATA'!H217","v":0},{"$f":"'SHALA DARPAN DATA'!W217","v":0},{"$f":"'SHALA DARPAN DATA'!R217","v":0},{"$f":"'SHALA DARPAN DATA'!S217","v":0},{"$f":"'SHALA DARPAN DATA'!O217","v":0},0,0,0,0,0,0,0,0,0,0,0]
[{"$f":"'SHALA DARPAN DATA'!C218","v":0},{"$f":"'SHALA DARPAN DATA'!A218","v":0},{"$f":"'SHALA DARPAN DATA'!B218","v":0},{"$f":"'SHALA DARPAN DATA'!D218","v":0},{"$f":"'SHALA DARPAN DATA'!J218","v":0},{"$f":"'SHALA DARPAN DATA'!T218","v":0},{"$f":"'SHALA DARPAN DATA'!V218","v":0},{"$f":"'SHALA DARPAN DATA'!K218","v":0},{"$f":"'SHALA DARPAN DATA'!E218","v":0},{"$f":"'SHALA DARPAN DATA'!G218","v":0},{"$f":"'SHALA DARPAN DATA'!H218","v":0},{"$f":"'SHALA DARPAN DATA'!W218","v":0},{"$f":"'SHALA DARPAN DATA'!R218","v":0},{"$f":"'SHALA DARPAN DATA'!S218","v":0},{"$f":"'SHALA DARPAN DATA'!O218","v":0},0,0,0,0,0,0,0,0,0,0,0]
[{"$f":"'SHALA DARPAN DATA'!C219","v":0},{"$f":"'SHALA DARPAN DATA'!A219","v":0},{"$f":"'SHALA DARPAN DATA'!B219","v":0},{"$f":"'SHALA DARPAN DATA'!D219","v":0},{"$f":"'SHALA DARPAN DATA'!J219","v":0},{"$f":"'SHALA DARPAN DATA'!T219","v":0},{"$f":"'SHALA DARPAN DATA'!V219","v":0},{"$f":"'SHALA DARPAN DATA'!K219","v":0},{"$f":"'SHALA DARPAN DATA'!E219","v":0},{"$f":"'SHALA DARPAN DATA'!G219","v":0},{"$f":"'SHALA DARPAN DATA'!H219","v":0},{"$f":"'SHALA DARPAN DATA'!W219","v":0},{"$f":"'SHALA DARPAN DATA'!R219","v":0},{"$f":"'SHALA DARPAN DATA'!S219","v":0},{"$f":"'SHALA DARPAN DATA'!O219","v":0},0,0,0,0,0,0,0,0,0,0,0]
[{"$f":"'SHALA DARPAN DATA'!C220","v":0},{"$f":"'SHALA DARPAN DATA'!A220","v":0},{"$f":"'SHALA DARPAN DATA'!B220","v":0},{"$f":"'SHALA DARPAN DATA'!D220","v":0},{"$f":"'SHALA DARPAN DATA'!J220","v":0},{"$f":"'SHALA DARPAN DATA'!T220","v":0},{"$f":"'SHALA DARPAN DATA'!V220","v":0},{"$f":"'SHALA DARPAN DATA'!K220","v":0},{"$f":"'SHALA DARPAN DATA'!E220","v":0},{"$f":"'SHALA DARPAN DATA'!G220","v":0},{"$f":"'SHALA DARPAN DATA'!H220","v":0},{"$f":"'SHALA DARPAN DATA'!W220","v":0},{"$f":"'SHALA DARPAN DATA'!R220","v":0},{"$f":"'SHALA DARPAN DATA'!S220","v":0},{"$f":"'SHALA DARPAN DATA'!O220","v":0},0,0,0,0,0,0,0,0,0,0,0]
[{"$f":"'SHALA DARPAN DATA'!C221","v":0},{"$f":"'SHALA DARPAN DATA'!A221","v":0},{"$f":"'SHALA DARPAN DATA'!B221","v":0},{"$f":"'SHALA DARPAN DATA'!D221","v":0},{"$f":"'SHALA DARPAN DATA'!J221","v":0},{"$f":"'SHALA DARPAN DATA'!T221","v":0},{"$f":"'SHALA DARPAN DATA'!V221","v":0},{"$f":"'SHALA DARPAN DATA'!K221","v":0},{"$f":"'SHALA DARPAN DATA'!E221","v":0},{"$f":"'SHALA DARPAN DATA'!G221","v":0},{"$f":"'SHALA DARPAN DATA'!H221","v":0},{"$f":"'SHALA DARPAN DATA'!W221","v":0},{"$f":"'SHALA DARPAN DATA'!R221","v":0},{"$f":"'SHALA DARPAN DATA'!S221","v":0},{"$f":"'SHALA DARPAN DATA'!O221","v":0},0,0,0,0,0,0,0,0,0,0,0]
[{"$f":"'SHALA DARPAN DATA'!C222","v":0},{"$f":"'SHALA DARPAN DATA'!A222","v":0},{"$f":"'SHALA DARPAN DATA'!B222","v":0},{"$f":"'SHALA DARPAN DATA'!D222","v":0},{"$f":"'SHALA DARPAN DATA'!J222","v":0},{"$f":"'SHALA DARPAN DATA'!T222","v":0},{"$f":"'SHALA DARPAN DATA'!V222","v":0},{"$f":"'SHALA DARPAN DATA'!K222","v":0},{"$f":"'SHALA DARPAN DATA'!E222","v":0},{"$f":"'SHALA DARPAN DATA'!G222","v":0},{"$f":"'SHALA DARPAN DATA'!H222","v":0},{"$f":"'SHALA DARPAN DATA'!W222","v":0},{"$f":"'SHALA DARPAN DATA'!R222","v":0},{"$f":"'SHALA DARPAN DATA'!S222","v":0},{"$f":"'SHALA DARPAN DATA'!O222","v":0},0,0,0,0,0,0,0,0,0,0,0]
[{"$f":"'SHALA DARPAN DATA'!C223","v":0},{"$f":"'SHALA DARPAN DATA'!A223","v":0},{"$f":"'SHALA DARPAN DATA'!B223","v":0},{"$f":"'SHALA DARPAN DATA'!D223","v":0},{"$f":"'SHALA DARPAN DATA'!J223","v":0},{"$f":"'SHALA DARPAN DATA'!T223","v":0},{"$f":"'SHALA DARPAN DATA'!V223","v":0},{"$f":"'SHALA DARPAN DATA'!K223","v":0},{"$f":"'SHALA DARPAN DATA'!E223","v":0},{"$f":"'SHALA DARPAN DATA'!G223","v":0},{"$f":"'SHALA DARPAN DATA'!H223","v":0},{"$f":"'SHALA DARPAN DATA'!W223","v":0},{"$f":"'SHALA DARPAN DATA'!R223","v":0},{"$f":"'SHALA DARPAN DATA'!S223","v":0},{"$f":"'SHALA DARPAN DATA'!O223","v":0},0,0,0,0,0,0,0,0,0,0,0]
[{"$f":"'SHALA DARPAN DATA'!C224","v":0},{"$f":"'SHALA DARPAN DATA'!A224","v":0},{"$f":"'SHALA DARPAN DATA'!B224","v":0},{"$f":"'SHALA DARPAN DATA'!D224","v":0},{"$f":"'SHALA DARPAN DATA'!J224","v":0},{"$f":"'SHALA DARPAN DATA'!T224","v":0},{"$f":"'SHALA DARPAN DATA'!V224","v":0},{"$f":"'SHALA DARPAN DATA'!K224","v":0},{"$f":"'SHALA DARPAN DATA'!E224","v":0},{"$f":"'SHALA DARPAN DATA'!G224","v":0},{"$f":"'SHALA DARPAN DATA'!H224","v":0},{"$f":"'SHALA DARPAN DATA'!W224","v":0},{"$f":"'SHALA DARPAN DATA'!R224","v":0},{"$f":"'SHALA DARPAN DATA'!S224","v":0},{"$f":"'SHALA DARPAN DATA'!O224","v":0},0,0,0,0,0,0,0,0,0,0,0]
[{"$f":"'SHALA DARPAN DATA'!C225","v":0},{"$f":"'SHALA DARPAN DATA'!A225","v":0},{"$f":"'SHALA DARPAN DATA'!B225","v":0},{"$f":"'SHALA DARPAN DATA'!D225","v":0},{"$f":"'SHALA DARPAN DATA'!J225","v":0},{"$f":"'SHALA DARPAN DATA'!T225","v":0},{"$f":"'SHALA DARPAN DATA'!V225","v":0},{"$f":"'SHALA DARPAN DATA'!K225","v":0},{"$f":"'SHALA DARPAN DATA'!E225","v":0},{"$f":"'SHALA DARPAN DATA'!G225","v":0},{"$f":"'SHALA DARPAN DATA'!H225","v":0},{"$f":"'SHALA DARPAN DATA'!W225","v":0},{"$f":"'SHALA DARPAN DATA'!R225","v":0},{"$f":"'SHALA DARPAN DATA'!S225","v":0},{"$f":"'SHALA DARPAN DATA'!O225","v":0},0,0,0,0,0,0,0,0,0,0,0]
[{"$f":"'SHALA DARPAN DATA'!C226","v":0},{"$f":"'SHALA DARPAN DATA'!A226","v":0},{"$f":"'SHALA DARPAN DATA'!B226","v":0},{"$f":"'SHALA DARPAN DATA'!D226","v":0},{"$f":"'SHALA DARPAN DATA'!J226","v":0},{"$f":"'SHALA DARPAN DATA'!T226","v":0},{"$f":"'SHALA DARPAN DATA'!V226","v":0},{"$f":"'SHALA DARPAN DATA'!K226","v":0},{"$f":"'SHALA DARPAN DATA'!E226","v":0},{"$f":"'SHALA DARPAN DATA'!G226","v":0},{"$f":"'SHALA DARPAN DATA'!H226","v":0},{"$f":"'SHALA DARPAN DATA'!W226","v":0},{"$f":"'SHALA DARPAN DATA'!R226","v":0},{"$f":"'SHALA DARPAN DATA'!S226","v":0},{"$f":"'SHALA DARPAN DATA'!O226","v":0},0,0,0,0,0,0,0,0,0,0,0]
[{"$f":"'SHALA DARPAN DATA'!C227","v":0},{"$f":"'SHALA DARPAN DATA'!A227","v":0},{"$f":"'SHALA DARPAN DATA'!B227","v":0},{"$f":"'SHALA DARPAN DATA'!D227","v":0},{"$f":"'SHALA DARPAN DATA'!J227","v":0},{"$f":"'SHALA DARPAN DATA'!T227","v":0},{"$f":"'SHALA DARPAN DATA'!V227","v":0},{"$f":"'SHALA DARPAN DATA'!K227","v":0},{"$f":"'SHALA DARPAN DATA'!E227","v":0},{"$f":"'SHALA DARPAN DATA'!G227","v":0},{"$f":"'SHALA DARPAN DATA'!H227","v":0},{"$f":"'SHALA DARPAN DATA'!W227","v":0},{"$f":"'SHALA DARPAN DATA'!R227","v":0},{"$f":"'SHALA DARPAN DATA'!S227","v":0},{"$f":"'SHALA DARPAN DATA'!O227","v":0},0,0,0,0,0,0,0,0,0,0,0]
[{"$f":"'SHALA DARPAN DATA'!C228","v":0},{"$f":"'SHALA DARPAN DATA'!A228","v":0},{"$f":"'SHALA DARPAN DATA'!B228","v":0},{"$f":"'SHALA DARPAN DATA'!D228","v":0},{"$f":"'SHALA DARPAN DATA'!J228","v":0},{"$f":"'SHALA DARPAN DATA'!T228","v":0},{"$f":"'SHALA DARPAN DATA'!V228","v":0},{"$f":"'SHALA DARPAN DATA'!K228","v":0},{"$f":"'SHALA DARPAN DATA'!E228","v":0},{"$f":"'SHALA DARPAN DATA'!G228","v":0},{"$f":"'SHALA DARPAN DATA'!H228","v":0},{"$f":"'SHALA DARPAN DATA'!W228","v":0},{"$f":"'SHALA DARPAN DATA'!R228","v":0},{"$f":"'SHALA DARPAN DATA'!S228","v":0},{"$f":"'SHALA DARPAN DATA'!O228","v":0},0,0,0,0,0,0,0,0,0,0,0]
[{"$f":"'SHALA DARPAN DATA'!C229","v":0},{"$f":"'SHALA DARPAN DATA'!A229","v":0},{"$f":"'SHALA DARPAN DATA'!B229","v":0},{"$f":"'SHALA DARPAN DATA'!D229","v":0},{"$f":"'SHALA DARPAN DATA'!J229","v":0},{"$f":"'SHALA DARPAN DATA'!T229","v":0},{"$f":"'SHALA DARPAN DATA'!V229","v":0},{"$f":"'SHALA DARPAN DATA'!K229","v":0},{"$f":"'SHALA DARPAN DATA'!E229","v":0},{"$f":"'SHALA DARPAN DATA'!G229","v":0},{"$f":"'SHALA DARPAN DATA'!H229","v":0},{"$f":"'SHALA DARPAN DATA'!W229","v":0},{"$f":"'SHALA DARPAN DATA'!R229","v":0},{"$f":"'SHALA DARPAN DATA'!S229","v":0},{"$f":"'SHALA DARPAN DATA'!O229","v":0},0,0,0,0,0,0,0,0,0,0,0]
[{"$f":"'SHALA DARPAN DATA'!C230","v":0},{"$f":"'SHALA DARPAN DATA'!A230","v":0},{"$f":"'SHALA DARPAN DATA'!B230","v":0},{"$f":"'SHALA DARPAN DATA'!D230","v":0},{"$f":"'SHALA DARPAN DATA'!J230","v":0},{"$f":"'SHALA DARPAN DATA'!T230","v":0},{"$f":"'SHALA DARPAN DATA'!V230","v":0},{"$f":"'SHALA DARPAN DATA'!K230","v":0},{"$f":"'SHALA DARPAN DATA'!E230","v":0},{"$f":"'SHALA DARPAN DATA'!G230","v":0},{"$f":"'SHALA DARPAN DATA'!H230","v":0},{"$f":"'SHALA DARPAN DATA'!W230","v":0},{"$f":"'SHALA DARPAN DATA'!R230","v":0},{"$f":"'SHALA DARPAN DATA'!S230","v":0},{"$f":"'SHALA DARPAN DATA'!O230","v":0},0,0,0,0,0,0,0,0,0,0,0]
[{"$f":"'SHALA DARPAN DATA'!C231","v":0},{"$f":"'SHALA DARPAN DATA'!A231","v":0},{"$f":"'SHALA DARPAN DATA'!B231","v":0},{"$f":"'SHALA DARPAN DATA'!D231","v":0},{"$f":"'SHALA DARPAN DATA'!J231","v":0},{"$f":"'SHALA DARPAN DATA'!T231","v":0},{"$f":"'SHALA DARPAN DATA'!V231","v":0},{"$f":"'SHALA DARPAN DATA'!K231","v":0},{"$f":"'SHALA DARPAN DATA'!E231","v":0},{"$f":"'SHALA DARPAN DATA'!G231","v":0},{"$f":"'SHALA DARPAN DATA'!H231","v":0},{"$f":"'SHALA DARPAN DATA'!W231","v":0},{"$f":"'SHALA DARPAN DATA'!R231","v":0},{"$f":"'SHALA DARPAN DATA'!S231","v":0},{"$f":"'SHALA DARPAN DATA'!O231","v":0},0,0,0,0,0,0,0,0,0,0,0]
[{"$f":"'SHALA DARPAN DATA'!C232","v":0},{"$f":"'SHALA DARPAN DATA'!A232","v":0},{"$f":"'SHALA DARPAN DATA'!B232","v":0},{"$f":"'SHALA DARPAN DATA'!D232","v":0},{"$f":"'SHALA DARPAN DATA'!J232","v":0},{"$f":"'SHALA DARPAN DATA'!T232","v":0},{"$f":"'SHALA DARPAN DATA'!V232","v":0},{"$f":"'SHALA DARPAN DATA'!K232","v":0},{"$f":"'SHALA DARPAN DATA'!E232","v":0},{"$f":"'SHALA DARPAN DATA'!G232","v":0},{"$f":"'SHALA DARPAN DATA'!H232","v":0},{"$f":"'SHALA DARPAN DATA'!W232","v":0},{"$f":"'SHALA DARPAN DATA'!R232","v":0},{"$f":"'SHALA DARPAN DATA'!S232","v":0},{"$f":"'SHALA DARPAN DATA'!O232","v":0},0,0,0,0,0,0,0,0,0,0,0]
[{"$f":"'SHALA DARPAN DATA'!C233","v":0},{"$f":"'SHALA DARPAN DATA'!A233","v":0},{"$f":"'SHALA DARPAN DATA'!B233","v":0},{"$f":"'SHALA DARPAN DATA'!D233","v":0},{"$f":"'SHALA DARPAN DATA'!J233","v":0},{"$f":"'SHALA DARPAN DATA'!T233","v":0},{"$f":"'SHALA DARPAN DATA'!V233","v":0},{"$f":"'SHALA DARPAN DATA'!K233","v":0},{"$f":"'SHALA DARPAN DATA'!E233","v":0},{"$f":"'SHALA DARPAN DATA'!G233","v":0},{"$f":"'SHALA DARPAN DATA'!H233","v":0},{"$f":"'SHALA DARPAN DATA'!W233","v":0},{"$f":"'SHALA DARPAN DATA'!R233","v":0},{"$f":"'SHALA DARPAN DATA'!S233","v":0},{"$f":"'SHALA DARPAN DATA'!O233","v":0},0,0,0,0,0,0,0,0,0,0,0]
[{"$f":"'SHALA DARPAN DATA'!C234","v":0},{"$f":"'SHALA DARPAN DATA'!A234","v":0},{"$f":"'SHALA DARPAN DATA'!B234","v":0},{"$f":"'SHALA DARPAN DATA'!D234","v":0},{"$f":"'SHALA DARPAN DATA'!J234","v":0},{"$f":"'SHALA DARPAN DATA'!T234","v":0},{"$f":"'SHALA DARPAN DATA'!V234","v":0},{"$f":"'SHALA DARPAN DATA'!K234","v":0},{"$f":"'SHALA DARPAN DATA'!E234","v":0},{"$f":"'SHALA DARPAN DATA'!G234","v":0},{"$f":"'SHALA DARPAN DATA'!H234","v":0},{"$f":"'SHALA DARPAN DATA'!W234","v":0},{"$f":"'SHALA DARPAN DATA'!R234","v":0},{"$f":"'SHALA DARPAN DATA'!S234","v":0},{"$f":"'SHALA DARPAN DATA'!O234","v":0},0,0,0,0,0,0,0,0,0,0,0]
[{"$f":"'SHALA DARPAN DATA'!C235","v":0},{"$f":"'SHALA DARPAN DATA'!A235","v":0},{"$f":"'SHALA DARPAN DATA'!B235","v":0},{"$f":"'SHALA DARPAN DATA'!D235","v":0},{"$f":"'SHALA DARPAN DATA'!J235","v":0},{"$f":"'SHALA DARPAN DATA'!T235","v":0},{"$f":"'SHALA DARPAN DATA'!V235","v":0},{"$f":"'SHALA DARPAN DATA'!K235","v":0},{"$f":"'SHALA DARPAN DATA'!E235","v":0},{"$f":"'SHALA DARPAN DATA'!G235","v":0},{"$f":"'SHALA DARPAN DATA'!H235","v":0},{"$f":"'SHALA DARPAN DATA'!W235","v":0},{"$f":"'SHALA DARPAN DATA'!R235","v":0},{"$f":"'SHALA DARPAN DATA'!S235","v":0},{"$f":"'SHALA DARPAN DATA'!O235","v":0},0,0,0,0,0,0,0,0,0,0,0]
[{"$f":"'SHALA DARPAN DATA'!C236","v":0},{"$f":"'SHALA DARPAN DATA'!A236","v":0},{"$f":"'SHALA DARPAN DATA'!B236","v":0},{"$f":"'SHALA DARPAN DATA'!D236","v":0},{"$f":"'SHALA DARPAN DATA'!J236","v":0},{"$f":"'SHALA DARPAN DATA'!T236","v":0},{"$f":"'SHALA DARPAN DATA'!V236","v":0},{"$f":"'SHALA DARPAN DATA'!K236","v":0},{"$f":"'SHALA DARPAN DATA'!E236","v":0},{"$f":"'SHALA DARPAN DATA'!G236","v":0},{"$f":"'SHALA DARPAN DATA'!H236","v":0},{"$f":"'SHALA DARPAN DATA'!W236","v":0},{"$f":"'SHALA DARPAN DATA'!R236","v":0},{"$f":"'SHALA DARPAN DATA'!S236","v":0},{"$f":"'SHALA DARPAN DATA'!O236","v":0},0,0,0,0,0,0,0,0,0,0,0]
[{"$f":"'SHALA DARPAN DATA'!C237","v":0},{"$f":"'SHALA DARPAN DATA'!A237","v":0},{"$f":"'SHALA DARPAN DATA'!B237","v":0},{"$f":"'SHALA DARPAN DATA'!D237","v":0},{"$f":"'SHALA DARPAN DATA'!J237","v":0},{"$f":"'SHALA DARPAN DATA'!T237","v":0},{"$f":"'SHALA DARPAN DATA'!V237","v":0},{"$f":"'SHALA DARPAN DATA'!K237","v":0},{"$f":"'SHALA DARPAN DATA'!E237","v":0},{"$f":"'SHALA DARPAN DATA'!G237","v":0},{"$f":"'SHALA DARPAN DATA'!H237","v":0},{"$f":"'SHALA DARPAN DATA'!W237","v":0},{"$f":"'SHALA DARPAN DATA'!R237","v":0},{"$f":"'SHALA DARPAN DATA'!S237","v":0},{"$f":"'SHALA DARPAN DATA'!O237","v":0},0,0,0,0,0,0,0,0,0,0,0]
[{"$f":"'SHALA DARPAN DATA'!C238","v":0},{"$f":"'SHALA DARPAN DATA'!A238","v":0},{"$f":"'SHALA DARPAN DATA'!B238","v":0},{"$f":"'SHALA DARPAN DATA'!D238","v":0},{"$f":"'SHALA DARPAN DATA'!J238","v":0},{"$f":"'SHALA DARPAN DATA'!T238","v":0},{"$f":"'SHALA DARPAN DATA'!V238","v":0},{"$f":"'SHALA DARPAN DATA'!K238","v":0},{"$f":"'SHALA DARPAN DATA'!E238","v":0},{"$f":"'SHALA DARPAN DATA'!G238","v":0},{"$f":"'SHALA DARPAN DATA'!H238","v":0},{"$f":"'SHALA DARPAN DATA'!W238","v":0},{"$f":"'SHALA DARPAN DATA'!R238","v":0},{"$f":"'SHALA DARPAN DATA'!S238","v":0},{"$f":"'SHALA DARPAN DATA'!O238","v":0},0,0,0,0,0,0,0,0,0,0,0]
[{"$f":"'SHALA DARPAN DATA'!C239","v":0},{"$f":"'SHALA DARPAN DATA'!A239","v":0},{"$f":"'SHALA DARPAN DATA'!B239","v":0},{"$f":"'SHALA DARPAN DATA'!D239","v":0},{"$f":"'SHALA DARPAN DATA'!J239","v":0},{"$f":"'SHALA DARPAN DATA'!T239","v":0},{"$f":"'SHALA DARPAN DATA'!V239","v":0},{"$f":"'SHALA DARPAN DATA'!K239","v":0},{"$f":"'SHALA DARPAN DATA'!E239","v":0},{"$f":"'SHALA DARPAN DATA'!G239","v":0},{"$f":"'SHALA DARPAN DATA'!H239","v":0},{"$f":"'SHALA DARPAN DATA'!W239","v":0},{"$f":"'SHALA DARPAN DATA'!R239","v":0},{"$f":"'SHALA DARPAN DATA'!S239","v":0},{"$f":"'SHALA DARPAN DATA'!O239","v":0},0,0,0,0,0,0,0,0,0,0,0]
[{"$f":"'SHALA DARPAN DATA'!C240","v":0},{"$f":"'SHALA DARPAN DATA'!A240","v":0},{"$f":"'SHALA DARPAN DATA'!B240","v":0},{"$f":"'SHALA DARPAN DATA'!D240","v":0},{"$f":"'SHALA DARPAN DATA'!J240","v":0},{"$f":"'SHALA DARPAN DATA'!T240","v":0},{"$f":"'SHALA DARPAN DATA'!V240","v":0},{"$f":"'SHALA DARPAN DATA'!K240","v":0},{"$f":"'SHALA DARPAN DATA'!E240","v":0},{"$f":"'SHALA DARPAN DATA'!G240","v":0},{"$f":"'SHALA DARPAN DATA'!H240","v":0},{"$f":"'SHALA DARPAN DATA'!W240","v":0},{"$f":"'SHALA DARPAN DATA'!R240","v":0},{"$f":"'SHALA DARPAN DATA'!S240","v":0},{"$f":"'SHALA DARPAN DATA'!O240","v":0},0,0,0,0,0,0,0,0,0,0,0]
[{"$f":"'SHALA DARPAN DATA'!C241","v":0},{"$f":"'SHALA DARPAN DATA'!A241","v":0},{"$f":"'SHALA DARPAN DATA'!B241","v":0},{"$f":"'SHALA DARPAN DATA'!D241","v":0},{"$f":"'SHALA DARPAN DATA'!J241","v":0},{"$f":"'SHALA DARPAN DATA'!T241","v":0},{"$f":"'SHALA DARPAN DATA'!V241","v":0},{"$f":"'SHALA DARPAN DATA'!K241","v":0},{"$f":"'SHALA DARPAN DATA'!E241","v":0},{"$f":"'SHALA DARPAN DATA'!G241","v":0},{"$f":"'SHALA DARPAN DATA'!H241","v":0},{"$f":"'SHALA DARPAN DATA'!W241","v":0},{"$f":"'SHALA DARPAN DATA'!R241","v":0},{"$f":"'SHALA DARPAN DATA'!S241","v":0},{"$f":"'SHALA DARPAN DATA'!O241","v":0},0,0,0,0,0,0,0,0,0,0,0]
[{"$f":"'SHALA DARPAN DATA'!C242","v":0},{"$f":"'SHALA DARPAN DATA'!A242","v":0},{"$f":"'SHALA DARPAN DATA'!B242","v":0},{"$f":"'SHALA DARPAN DATA'!D242","v":0},{"$f":"'SHALA DARPAN DATA'!J242","v":0},{"$f":"'SHALA DARPAN DATA'!T242","v":0},{"$f":"'SHALA DARPAN DATA'!V242","v":0},{"$f":"'SHALA DARPAN DATA'!K242","v":0},{"$f":"'SHALA DARPAN DATA'!E242","v":0},{"$f":"'SHALA DARPAN DATA'!G242","v":0},{"$f":"'SHALA DARPAN DATA'!H242","v":0},{"$f":"'SHALA DARPAN DATA'!W242","v":0},{"$f":"'SHALA DARPAN DATA'!R242","v":0},{"$f":"'SHALA DARPAN DATA'!S242","v":0},{"$f":"'SHALA DARPAN DATA'!O242","v":0},0,0,0,0,0,0,0,0,0,0,0]
[{"$f":"'SHALA DARPAN DATA'!C243","v":0},{"$f":"'SHALA DARPAN DATA'!A243","v":0},{"$f":"'SHALA DARPAN DATA'!B243","v":0},{"$f":"'SHALA DARPAN DATA'!D243","v":0},{"$f":"'SHALA DARPAN DATA'!J243","v":0},{"$f":"'SHALA DARPAN DATA'!T243","v":0},{"$f":"'SHALA DARPAN DATA'!V243","v":0},{"$f":"'SHALA DARPAN DATA'!K243","v":0},{"$f":"'SHALA DARPAN DATA'!E243","v":0},{"$f":"'SHALA DARPAN DATA'!G243","v":0},{"$f":"'SHALA DARPAN DATA'!H243","v":0},{"$f":"'SHALA DARPAN DATA'!W243","v":0},{"$f":"'SHALA DARPAN DATA'!R243","v":0},{"$f":"'SHALA DARPAN DATA'!S243","v":0},{"$f":"'SHALA DARPAN DATA'!O243","v":0},0,0,0,0,0,0,0,0,0,0,0]
[{"$f":"'SHALA DARPAN DATA'!C244","v":0},{"$f":"'SHALA DARPAN DATA'!A244","v":0},{"$f":"'SHALA DARPAN DATA'!B244","v":0},{"$f":"'SHALA DARPAN DATA'!D244","v":0},{"$f":"'SHALA DARPAN DATA'!J244","v":0},{"$f":"'SHALA DARPAN DATA'!T244","v":0},{"$f":"'SHALA DARPAN DATA'!V244","v":0},{"$f":"'SHALA DARPAN DATA'!K244","v":0},{"$f":"'SHALA DARPAN DATA'!E244","v":0},{"$f":"'SHALA DARPAN DATA'!G244","v":0},{"$f":"'SHALA DARPAN DATA'!H244","v":0},{"$f":"'SHALA DARPAN DATA'!W244","v":0},{"$f":"'SHALA DARPAN DATA'!R244","v":0},{"$f":"'SHALA DARPAN DATA'!S244","v":0},{"$f":"'SHALA DARPAN DATA'!O244","v":0},0,0,0,0,0,0,0,0,0,0,0]
[{"$f":"'SHALA DARPAN DATA'!C245","v":0},{"$f":"'SHALA DARPAN DATA'!A245","v":0},{"$f":"'SHALA DARPAN DATA'!B245","v":0},{"$f":"'SHALA DARPAN DATA'!D245","v":0},{"$f":"'SHALA DARPAN DATA'!J245","v":0},{"$f":"'SHALA DARPAN DATA'!T245","v":0},{"$f":"'SHALA DARPAN DATA'!V245","v":0},{"$f":"'SHALA DARPAN DATA'!K245","v":0},{"$f":"'SHALA DARPAN DATA'!E245","v":0},{"$f":"'SHALA DARPAN DATA'!G245","v":0},{"$f":"'SHALA DARPAN DATA'!H245","v":0},{"$f":"'SHALA DARPAN DATA'!W245","v":0},{"$f":"'SHALA DARPAN DATA'!R245","v":0},{"$f":"'SHALA DARPAN DATA'!S245","v":0},{"$f":"'SHALA DARPAN DATA'!O245","v":0},0,0,0,0,0,0,0,0,0,0,0]
[{"$f":"'SHALA DARPAN DATA'!C246","v":0},{"$f":"'SHALA DARPAN DATA'!A246","v":0},{"$f":"'SHALA DARPAN DATA'!B246","v":0},{"$f":"'SHALA DARPAN DATA'!D246","v":0},{"$f":"'SHALA DARPAN DATA'!J246","v":0},{"$f":"'SHALA DARPAN DATA'!T246","v":0},{"$f":"'SHALA DARPAN DATA'!V246","v":0},{"$f":"'SHALA DARPAN DATA'!K246","v":0},{"$f":"'SHALA DARPAN DATA'!E246","v":0},{"$f":"'SHALA DARPAN DATA'!G246","v":0},{"$f":"'SHALA DARPAN DATA'!H246","v":0},{"$f":"'SHALA DARPAN DATA'!W246","v":0},{"$f":"'SHALA DARPAN DATA'!R246","v":0},{"$f":"'SHALA DARPAN DATA'!S246","v":0},{"$f":"'SHALA DARPAN DATA'!O246","v":0},0,0,0,0,0,0,0,0,0,0,0]
[{"$f":"'SHALA DARPAN DATA'!C247","v":0},{"$f":"'SHALA DARPAN DATA'!A247","v":0},{"$f":"'SHALA DARPAN DATA'!B247","v":0},{"$f":"'SHALA DARPAN DATA'!D247","v":0},{"$f":"'SHALA DARPAN DATA'!J247","v":0},{"$f":"'SHALA DARPAN DATA'!T247","v":0},{"$f":"'SHALA DARPAN DATA'!V247","v":0},{"$f":"'SHALA DARPAN DATA'!K247","v":0},{"$f":"'SHALA DARPAN DATA'!E247","v":0},{"$f":"'SHALA DARPAN DATA'!G247","v":0},{"$f":"'SHALA DARPAN DATA'!H247","v":0},{"$f":"'SHALA DARPAN DATA'!W247","v":0},{"$f":"'SHALA DARPAN DATA'!R247","v":0},{"$f":"'SHALA DARPAN DATA'!S247","v":0},{"$f":"'SHALA DARPAN DATA'!O247","v":0},0,0,0,0,0,0,0,0,0,0,0]
[{"$f":"'SHALA DARPAN DATA'!C248","v":0},{"$f":"'SHALA DARPAN DATA'!A248","v":0},{"$f":"'SHALA DARPAN DATA'!B248","v":0},{"$f":"'SHALA DARPAN DATA'!D248","v":0},{"$f":"'SHALA DARPAN DATA'!J248","v":0},{"$f":"'SHALA DARPAN DATA'!T248","v":0},{"$f":"'SHALA DARPAN DATA'!V248","v":0},{"$f":"'SHALA DARPAN DATA'!K248","v":0},{"$f":"'SHALA DARPAN DATA'!E248","v":0},{"$f":"'SHALA DARPAN DATA'!G248","v":0},{"$f":"'SHALA DARPAN DATA'!H248","v":0},{"$f":"'SHALA DARPAN DATA'!W248","v":0},{"$f":"'SHALA DARPAN DATA'!R248","v":0},{"$f":"'SHALA DARPAN DATA'!S248","v":0},{"$f":"'SHALA DARPAN DATA'!O248","v":0},0,0,0,0,0,0,0,0,0,0,0]
[{"$f":"'SHALA DARPAN DATA'!C249","v":0},{"$f":"'SHALA DARPAN DATA'!A249","v":0},{"$f":"'SHALA DARPAN DATA'!B249","v":0},{"$f":"'SHALA DARPAN DATA'!D249","v":0},{"$f":"'SHALA DARPAN DATA'!J249","v":0},{"$f":"'SHALA DARPAN DATA'!T249","v":0},{"$f":"'SHALA DARPAN DATA'!V249","v":0},{"$f":"'SHALA DARPAN DATA'!K249","v":0},{"$f":"'SHALA DARPAN DATA'!E249","v":0},{"$f":"'SHALA DARPAN DATA'!G249","v":0},{"$f":"'SHALA DARPAN DATA'!H249","v":0},{"$f":"'SHALA DARPAN DATA'!W249","v":0},{"$f":"'SHALA DARPAN DATA'!R249","v":0},{"$f":"'SHALA DARPAN DATA'!S249","v":0},{"$f":"'SHALA DARPAN DATA'!O249","v":0},0,0,0,0,0,0,0,0,0,0,0]
[{"$f":"'SHALA DARPAN DATA'!C250","v":0},{"$f":"'SHALA DARPAN DATA'!A250","v":0},{"$f":"'SHALA DARPAN DATA'!B250","v":0},{"$f":"'SHALA DARPAN DATA'!D250","v":0},{"$f":"'SHALA DARPAN DATA'!J250","v":0},{"$f":"'SHALA DARPAN DATA'!T250","v":0},{"$f":"'SHALA DARPAN DATA'!V250","v":0},{"$f":"'SHALA DARPAN DATA'!K250","v":0},{"$f":"'SHALA DARPAN DATA'!E250","v":0},{"$f":"'SHALA DARPAN DATA'!G250","v":0},{"$f":"'SHALA DARPAN DATA'!H250","v":0},{"$f":"'SHALA DARPAN DATA'!W250","v":0},{"$f":"'SHALA DARPAN DATA'!R250","v":0},{"$f":"'SHALA DARPAN DATA'!S250","v":0},{"$f":"'SHALA DARPAN DATA'!O250","v":0},0,0,0,0,0,0,0,0,0,0,0]
[{"$f":"'SHALA DARPAN DATA'!C251","v":0},{"$f":"'SHALA DARPAN DATA'!A251","v":0},{"$f":"'SHALA DARPAN DATA'!B251","v":0},{"$f":"'SHALA DARPAN DATA'!D251","v":0},{"$f":"'SHALA DARPAN DATA'!J251","v":0},{"$f":"'SHALA DARPAN DATA'!T251","v":0},{"$f":"'SHALA DARPAN DATA'!V251","v":0},{"$f":"'SHALA DARPAN DATA'!K251","v":0},{"$f":"'SHALA DARPAN DATA'!E251","v":0},{"$f":"'SHALA DARPAN DATA'!G251","v":0},{"$f":"'SHALA DARPAN DATA'!H251","v":0},{"$f":"'SHALA DARPAN DATA'!W251","v":0},{"$f":"'SHALA DARPAN DATA'!R251","v":0},{"$f":"'SHALA DARPAN DATA'!S251","v":0},{"$f":"'SHALA DARPAN DATA'!O251","v":0},0,0,0,0,0,0,0,0,0,0,0]
[{"$f":"'SHALA DARPAN DATA'!C252","v":0},{"$f":"'SHALA DARPAN DATA'!A252","v":0},{"$f":"'SHALA DARPAN DATA'!B252","v":0},{"$f":"'SHALA DARPAN DATA'!D252","v":0},{"$f":"'SHALA DARPAN DATA'!J252","v":0},{"$f":"'SHALA DARPAN DATA'!T252","v":0},{"$f":"'SHALA DARPAN DATA'!V252","v":0},{"$f":"'SHALA DARPAN DATA'!K252","v":0},{"$f":"'SHALA DARPAN DATA'!E252","v":0},{"$f":"'SHALA DARPAN DATA'!G252","v":0},{"$f":"'SHALA DARPAN DATA'!H252","v":0},{"$f":"'SHALA DARPAN DATA'!W252","v":0},{"$f":"'SHALA DARPAN DATA'!R252","v":0},{"$f":"'SHALA DARPAN DATA'!S252","v":0},{"$f":"'SHALA DARPAN DATA'!O252","v":0},0,0,0,0,0,0,0,0,0,0,0]
[{"$f":"'SHALA DARPAN DATA'!C253","v":0},{"$f":"'SHALA DARPAN DATA'!A253","v":0},{"$f":"'SHALA DARPAN DATA'!B253","v":0},{"$f":"'SHALA DARPAN DATA'!D253","v":0},{"$f":"'SHALA DARPAN DATA'!J253","v":0},{"$f":"'SHALA DARPAN DATA'!T253","v":0},{"$f":"'SHALA DARPAN DATA'!V253","v":0},{"$f":"'SHALA DARPAN DATA'!K253","v":0},{"$f":"'SHALA DARPAN DATA'!E253","v":0},{"$f":"'SHALA DARPAN DATA'!G253","v":0},{"$f":"'SHALA DARPAN DATA'!H253","v":0},{"$f":"'SHALA DARPAN DATA'!W253","v":0},{"$f":"'SHALA DARPAN DATA'!R253","v":0},{"$f":"'SHALA DARPAN DATA'!S253","v":0},{"$f":"'SHALA DARPAN DATA'!O253","v":0},0,0,0,0,0,0,0,0,0,0,0]
[{"$f":"'SHALA DARPAN DATA'!C254","v":0},{"$f":"'SHALA DARPAN DATA'!A254","v":0},{"$f":"'SHALA DARPAN DATA'!B254","v":0},{"$f":"'SHALA DARPAN DATA'!D254","v":0},{"$f":"'SHALA DARPAN DATA'!J254","v":0},{"$f":"'SHALA DARPAN DATA'!T254","v":0},{"$f":"'SHALA DARPAN DATA'!V254","v":0},{"$f":"'SHALA DARPAN DATA'!K254","v":0},{"$f":"'SHALA DARPAN DATA'!E254","v":0},{"$f":"'SHALA DARPAN DATA'!G254","v":0},{"$f":"'SHALA DARPAN DATA'!H254","v":0},{"$f":"'SHALA DARPAN DATA'!W254","v":0},{"$f":"'SHALA DARPAN DATA'!R254","v":0},{"$f":"'SHALA DARPAN DATA'!S254","v":0},{"$f":"'SHALA DARPAN DATA'!O254","v":0},0,0,0,0,0,0,0,0,0,0,0]
[{"$f":"'SHALA DARPAN DATA'!C255","v":0},{"$f":"'SHALA DARPAN DATA'!A255","v":0},{"$f":"'SHALA DARPAN DATA'!B255","v":0},{"$f":"'SHALA DARPAN DATA'!D255","v":0},{"$f":"'SHALA DARPAN DATA'!J255","v":0},{"$f":"'SHALA DARPAN DATA'!T255","v":0},{"$f":"'SHALA DARPAN DATA'!V255","v":0},{"$f":"'SHALA DARPAN DATA'!K255","v":0},{"$f":"'SHALA DARPAN DATA'!E255","v":0},{"$f":"'SHALA DARPAN DATA'!G255","v":0},{"$f":"'SHALA DARPAN DATA'!H255","v":0},{"$f":"'SHALA DARPAN DATA'!W255","v":0},{"$f":"'SHALA DARPAN DATA'!R255","v":0},{"$f":"'SHALA DARPAN DATA'!S255","v":0},{"$f":"'SHALA DARPAN DATA'!O255","v":0},0,0,0,0,0,0,0,0,0,0,0]
[{"$f":"'SHALA DARPAN DATA'!C256","v":0},{"$f":"'SHALA DARPAN DATA'!A256","v":0},{"$f":"'SHALA DARPAN DATA'!B256","v":0},{"$f":"'SHALA DARPAN DATA'!D256","v":0},{"$f":"'SHALA DARPAN DATA'!J256","v":0},{"$f":"'SHALA DARPAN DATA'!T256","v":0},{"$f":"'SHALA DARPAN DATA'!V256","v":0},{"$f":"'SHALA DARPAN DATA'!K256","v":0},{"$f":"'SHALA DARPAN DATA'!E256","v":0},{"$f":"'SHALA DARPAN DATA'!G256","v":0},{"$f":"'SHALA DARPAN DATA'!H256","v":0},{"$f":"'SHALA DARPAN DATA'!W256","v":0},{"$f":"'SHALA DARPAN DATA'!R256","v":0},{"$f":"'SHALA DARPAN DATA'!S256","v":0},{"$f":"'SHALA DARPAN DATA'!O256","v":0},0,0,0,0,0,0,0,0,0,0,0]
[{"$f":"'SHALA DARPAN DATA'!C257","v":0},{"$f":"'SHALA DARPAN DATA'!A257","v":0},{"$f":"'SHALA DARPAN DATA'!B257","v":0},{"$f":"'SHALA DARPAN DATA'!D257","v":0},{"$f":"'SHALA DARPAN DATA'!J257","v":0},{"$f":"'SHALA DARPAN DATA'!T257","v":0},{"$f":"'SHALA DARPAN DATA'!V257","v":0},{"$f":"'SHALA DARPAN DATA'!K257","v":0},{"$f":"'SHALA DARPAN DATA'!E257","v":0},{"$f":"'SHALA DARPAN DATA'!G257","v":0},{"$f":"'SHALA DARPAN DATA'!H257","v":0},{"$f":"'SHALA DARPAN DATA'!W257","v":0},{"$f":"'SHALA DARPAN DATA'!R257","v":0},{"$f":"'SHALA DARPAN DATA'!S257","v":0},{"$f":"'SHALA DARPAN DATA'!O257","v":0},0,0,0,0,0,0,0,0,0,0,0]
[{"$f":"'SHALA DARPAN DATA'!C258","v":0},{"$f":"'SHALA DARPAN DATA'!A258","v":0},{"$f":"'SHALA DARPAN DATA'!B258","v":0},{"$f":"'SHALA DARPAN DATA'!D258","v":0},{"$f":"'SHALA DARPAN DATA'!J258","v":0},{"$f":"'SHALA DARPAN DATA'!T258","v":0},{"$f":"'SHALA DARPAN DATA'!V258","v":0},{"$f":"'SHALA DARPAN DATA'!K258","v":0},{"$f":"'SHALA DARPAN DATA'!E258","v":0},{"$f":"'SHALA DARPAN DATA'!G258","v":0},{"$f":"'SHALA DARPAN DATA'!H258","v":0},{"$f":"'SHALA DARPAN DATA'!W258","v":0},{"$f":"'SHALA DARPAN DATA'!R258","v":0},{"$f":"'SHALA DARPAN DATA'!S258","v":0},{"$f":"'SHALA DARPAN DATA'!O258","v":0},0,0,0,0,0,0,0,0,0,0,0]
[{"$f":"'SHALA DARPAN DATA'!C259","v":0},{"$f":"'SHALA DARPAN DATA'!A259","v":0},{"$f":"'SHALA DARPAN DATA'!B259","v":0},{"$f":"'SHALA DARPAN DATA'!D259","v":0},{"$f":"'SHALA DARPAN DATA'!J259","v":0},{"$f":"'SHALA DARPAN DATA'!T259","v":0},{"$f":"'SHALA DARPAN DATA'!V259","v":0},{"$f":"'SHALA DARPAN DATA'!K259","v":0},{"$f":"'SHALA DARPAN DATA'!E259","v":0},{"$f":"'SHALA DARPAN DATA'!G259","v":0},{"$f":"'SHALA DARPAN DATA'!H259","v":0},{"$f":"'SHALA DARPAN DATA'!W259","v":0},{"$f":"'SHALA DARPAN DATA'!R259","v":0},{"$f":"'SHALA DARPAN DATA'!S259","v":0},{"$f":"'SHALA DARPAN DATA'!O259","v":0},0,0,0,0,0,0,0,0,0,0,0]
[{"$f":"'SHALA DARPAN DATA'!C260","v":0},{"$f":"'SHALA DARPAN DATA'!A260","v":0},{"$f":"'SHALA DARPAN DATA'!B260","v":0},{"$f":"'SHALA DARPAN DATA'!D260","v":0},{"$f":"'SHALA DARPAN DATA'!J260","v":0},{"$f":"'SHALA DARPAN DATA'!T260","v":0},{"$f":"'SHALA DARPAN DATA'!V260","v":0},{"$f":"'SHALA DARPAN DATA'!K260","v":0},{"$f":"'SHALA DARPAN DATA'!E260","v":0},{"$f":"'SHALA DARPAN DATA'!G260","v":0},{"$f":"'SHALA DARPAN DATA'!H260","v":0},{"$f":"'SHALA DARPAN DATA'!W260","v":0},{"$f":"'SHALA DARPAN DATA'!R260","v":0},{"$f":"'SHALA DARPAN DATA'!S260","v":0},{"$f":"'SHALA DARPAN DATA'!O260","v":0},0,0,0,0,0,0,0,0,0,0,0]
[{"$f":"'SHALA DARPAN DATA'!C261","v":0},{"$f":"'SHALA DARPAN DATA'!A261","v":0},{"$f":"'SHALA DARPAN DATA'!B261","v":0},{"$f":"'SHALA DARPAN DATA'!D261","v":0},{"$f":"'SHALA DARPAN DATA'!J261","v":0},{"$f":"'SHALA DARPAN DATA'!T261","v":0},{"$f":"'SHALA DARPAN DATA'!V261","v":0},{"$f":"'SHALA DARPAN DATA'!K261","v":0},{"$f":"'SHALA DARPAN DATA'!E261","v":0},{"$f":"'SHALA DARPAN DATA'!G261","v":0},{"$f":"'SHALA DARPAN DATA'!H261","v":0},{"$f":"'SHALA DARPAN DATA'!W261","v":0},{"$f":"'SHALA DARPAN DATA'!R261","v":0},{"$f":"'SHALA DARPAN DATA'!S261","v":0},{"$f":"'SHALA DARPAN DATA'!O261","v":0},0,0,0,0,0,0,0,0,0,0,0]
[{"$f":"'SHALA DARPAN DATA'!C262","v":0},{"$f":"'SHALA DARPAN DATA'!A262","v":0},{"$f":"'SHALA DARPAN DATA'!B262","v":0},{"$f":"'SHALA DARPAN DATA'!D262","v":0},{"$f":"'SHALA DARPAN DATA'!J262","v":0},{"$f":"'SHALA DARPAN DATA'!T262","v":0},{"$f":"'SHALA DARPAN DATA'!V262","v":0},{"$f":"'SHALA DARPAN DATA'!K262","v":0},{"$f":"'SHALA DARPAN DATA'!E262","v":0},{"$f":"'SHALA DARPAN DATA'!G262","v":0},{"$f":"'SHALA DARPAN DATA'!H262","v":0},{"$f":"'SHALA DARPAN DATA'!W262","v":0},{"$f":"'SHALA DARPAN DATA'!R262","v":0},{"$f":"'SHALA DARPAN DATA'!S262","v":0},{"$f":"'SHALA DARPAN DATA'!O262","v":0},0,0,0,0,0,0,0,0,0,0,0]
[{"$f":"'SHALA DARPAN DATA'!C263","v":0},{"$f":"'SHALA DARPAN DATA'!A263","v":0},{"$f":"'SHALA DARPAN DATA'!B263","v":0},{"$f":"'SHALA DARPAN DATA'!D263","v":0},{"$f":"'SHALA DARPAN DATA'!J263","v":0},{"$f":"'SHALA DARPAN DATA'!T263","v":0},{"$f":"'SHALA DARPAN DATA'!V263","v":0},{"$f":"'SHALA DARPAN DATA'!K263","v":0},{"$f":"'SHALA DARPAN DATA'!E263","v":0},{"$f":"'SHALA DARPAN DATA'!G263","v":0},{"$f":"'SHALA DARPAN DATA'!H263","v":0},{"$f":"'SHALA DARPAN DATA'!W263","v":0},{"$f":"'SHALA DARPAN DATA'!R263","v":0},{"$f":"'SHALA DARPAN DATA'!S263","v":0},{"$f":"'SHALA DARPAN DATA'!O263","v":0},0,0,0,0,0,0,0,0,0,0,0]
[{"$f":"'SHALA DARPAN DATA'!C264","v":0},{"$f":"'SHALA DARPAN DATA'!A264","v":0},{"$f":"'SHALA DARPAN DATA'!B264","v":0},{"$f":"'SHALA DARPAN DATA'!D264","v":0},{"$f":"'SHALA DARPAN DATA'!J264","v":0},{"$f":"'SHALA DARPAN DATA'!T264","v":0},{"$f":"'SHALA DARPAN DATA'!V264","v":0},{"$f":"'SHALA DARPAN DATA'!K264","v":0},{"$f":"'SHALA DARPAN DATA'!E264","v":0},{"$f":"'SHALA DARPAN DATA'!G264","v":0},{"$f":"'SHALA DARPAN DATA'!H264","v":0},{"$f":"'SHALA DARPAN DATA'!W264","v":0},{"$f":"'SHALA DARPAN DATA'!R264","v":0},{"$f":"'SHALA DARPAN DATA'!S264","v":0},{"$f":"'SHALA DARPAN DATA'!O264","v":0},0,0,0,0,0,0,0,0,0,0,0]
[{"$f":"'SHALA DARPAN DATA'!C265","v":0},{"$f":"'SHALA DARPAN DATA'!A265","v":0},{"$f":"'SHALA DARPAN DATA'!B265","v":0},{"$f":"'SHALA DARPAN DATA'!D265","v":0},{"$f":"'SHALA DARPAN DATA'!J265","v":0},{"$f":"'SHALA DARPAN DATA'!T265","v":0},{"$f":"'SHALA DARPAN DATA'!V265","v":0},{"$f":"'SHALA DARPAN DATA'!K265","v":0},{"$f":"'SHALA DARPAN DATA'!E265","v":0},{"$f":"'SHALA DARPAN DATA'!G265","v":0},{"$f":"'SHALA DARPAN DATA'!H265","v":0},{"$f":"'SHALA DARPAN DATA'!W265","v":0},{"$f":"'SHALA DARPAN DATA'!R265","v":0},{"$f":"'SHALA DARPAN DATA'!S265","v":0},{"$f":"'SHALA DARPAN DATA'!O265","v":0},0,0,0,0,0,0,0,0,0,0,0]
[{"$f":"'SHALA DARPAN DATA'!C266","v":0},{"$f":"'SHALA DARPAN DATA'!A266","v":0},{"$f":"'SHALA DARPAN DATA'!B266","v":0},{"$f":"'SHALA DARPAN DATA'!D266","v":0},{"$f":"'SHALA DARPAN DATA'!J266","v":0},{"$f":"'SHALA DARPAN DATA'!T266","v":0},{"$f":"'SHALA DARPAN DATA'!V266","v":0},{"$f":"'SHALA DARPAN DATA'!K266","v":0},{"$f":"'SHALA DARPAN DATA'!E266","v":0},{"$f":"'SHALA DARPAN DATA'!G266","v":0},{"$f":"'SHALA DARPAN DATA'!H266","v":0},{"$f":"'SHALA DARPAN DATA'!W266","v":0},{"$f":"'SHALA DARPAN DATA'!R266","v":0},{"$f":"'SHALA DARPAN DATA'!S266","v":0},{"$f":"'SHALA DARPAN DATA'!O266","v":0},0,0,0,0,0,0,0,0,0,0,0]
[{"$f":"'SHALA DARPAN DATA'!C267","v":0},{"$f":"'SHALA DARPAN DATA'!A267","v":0},{"$f":"'SHALA DARPAN DATA'!B267","v":0},{"$f":"'SHALA DARPAN DATA'!D267","v":0},{"$f":"'SHALA DARPAN DATA'!J267","v":0},{"$f":"'SHALA DARPAN DATA'!T267","v":0},{"$f":"'SHALA DARPAN DATA'!V267","v":0},{"$f":"'SHALA DARPAN DATA'!K267","v":0},{"$f":"'SHALA DARPAN DATA'!E267","v":0},{"$f":"'SHALA DARPAN DATA'!G267","v":0},{"$f":"'SHALA DARPAN DATA'!H267","v":0},{"$f":"'SHALA DARPAN DATA'!W267","v":0},{"$f":"'SHALA DARPAN DATA'!R267","v":0},{"$f":"'SHALA DARPAN DATA'!S267","v":0},{"$f":"'SHALA DARPAN DATA'!O267","v":0},0,0,0,0,0,0,0,0,0,0,0]
[{"$f":"'SHALA DARPAN DATA'!C268","v":0},{"$f":"'SHALA DARPAN DATA'!A268","v":0},{"$f":"'SHALA DARPAN DATA'!B268","v":0},{"$f":"'SHALA DARPAN DATA'!D268","v":0},{"$f":"'SHALA DARPAN DATA'!J268","v":0},{"$f":"'SHALA DARPAN DATA'!T268","v":0},{"$f":"'SHALA DARPAN DATA'!V268","v":0},{"$f":"'SHALA DARPAN DATA'!K268","v":0},{"$f":"'SHALA DARPAN DATA'!E268","v":0},{"$f":"'SHALA DARPAN DATA'!G268","v":0},{"$f":"'SHALA DARPAN DATA'!H268","v":0},{"$f":"'SHALA DARPAN DATA'!W268","v":0},{"$f":"'SHALA DARPAN DATA'!R268","v":0},{"$f":"'SHALA DARPAN DATA'!S268","v":0},{"$f":"'SHALA DARPAN DATA'!O268","v":0},0,0,0,0,0,0,0,0,0,0,0]
[{"$f":"'SHALA DARPAN DATA'!C269","v":0},{"$f":"'SHALA DARPAN DATA'!A269","v":0},{"$f":"'SHALA DARPAN DATA'!B269","v":0},{"$f":"'SHALA DARPAN DATA'!D269","v":0},{"$f":"'SHALA DARPAN DATA'!J269","v":0},{"$f":"'SHALA DARPAN DATA'!T269","v":0},{"$f":"'SHALA DARPAN DATA'!V269","v":0},{"$f":"'SHALA DARPAN DATA'!K269","v":0},{"$f":"'SHALA DARPAN DATA'!E269","v":0},{"$f":"'SHALA DARPAN DATA'!G269","v":0},{"$f":"'SHALA DARPAN DATA'!H269","v":0},{"$f":"'SHALA DARPAN DATA'!W269","v":0},{"$f":"'SHALA DARPAN DATA'!R269","v":0},{"$f":"'SHALA DARPAN DATA'!S269","v":0},{"$f":"'SHALA DARPAN DATA'!O269","v":0},0,0,0,0,0,0,0,0,0,0,0]
[{"$f":"'SHALA DARPAN DATA'!C270","v":0},{"$f":"'SHALA DARPAN DATA'!A270","v":0},{"$f":"'SHALA DARPAN DATA'!B270","v":0},{"$f":"'SHALA DARPAN DATA'!D270","v":0},{"$f":"'SHALA DARPAN DATA'!J270","v":0},{"$f":"'SHALA DARPAN DATA'!T270","v":0},{"$f":"'SHALA DARPAN DATA'!V270","v":0},{"$f":"'SHALA DARPAN DATA'!K270","v":0},{"$f":"'SHALA DARPAN DATA'!E270","v":0},{"$f":"'SHALA DARPAN DATA'!G270","v":0},{"$f":"'SHALA DARPAN DATA'!H270","v":0},{"$f":"'SHALA DARPAN DATA'!W270","v":0},{"$f":"'SHALA DARPAN DATA'!R270","v":0},{"$f":"'SHALA DARPAN DATA'!S270","v":0},{"$f":"'SHALA DARPAN DATA'!O270","v":0},0,0,0,0,0,0,0,0,0,0,0]
[{"$f":"'SHALA DARPAN DATA'!C271","v":0},{"$f":"'SHALA DARPAN DATA'!A271","v":0},{"$f":"'SHALA DARPAN DATA'!B271","v":0},{"$f":"'SHALA DARPAN DATA'!D271","v":0},{"$f":"'SHALA DARPAN DATA'!J271","v":0},{"$f":"'SHALA DARPAN DATA'!T271","v":0},{"$f":"'SHALA DARPAN DATA'!V271","v":0},{"$f":"'SHALA DARPAN DATA'!K271","v":0},{"$f":"'SHALA DARPAN DATA'!E271","v":0},{"$f":"'SHALA DARPAN DATA'!G271","v":0},{"$f":"'SHALA DARPAN DATA'!H271","v":0},{"$f":"'SHALA DARPAN DATA'!W271","v":0},{"$f":"'SHALA DARPAN DATA'!R271","v":0},{"$f":"'SHALA DARPAN DATA'!S271","v":0},{"$f":"'SHALA DARPAN DATA'!O271","v":0},0,0,0,0,0,0,0,0,0,0,0]
[{"$f":"'SHALA DARPAN DATA'!C272","v":0},{"$f":"'SHALA DARPAN DATA'!A272","v":0},{"$f":"'SHALA DARPAN DATA'!B272","v":0},{"$f":"'SHALA DARPAN DATA'!D272","v":0},{"$f":"'SHALA DARPAN DATA'!J272","v":0},{"$f":"'SHALA DARPAN DATA'!T272","v":0},{"$f":"'SHALA DARPAN DATA'!V272","v":0},{"$f":"'SHALA DARPAN DATA'!K272","v":0},{"$f":"'SHALA DARPAN DATA'!E272","v":0},{"$f":"'SHALA DARPAN DATA'!G272","v":0},{"$f":"'SHALA DARPAN DATA'!H272","v":0},{"$f":"'SHALA DARPAN DATA'!W272","v":0},{"$f":"'SHALA DARPAN DATA'!R272","v":0},{"$f":"'SHALA DARPAN DATA'!S272","v":0},{"$f":"'SHALA DARPAN DATA'!O272","v":0},0,0,0,0,0,0,0,0,0,0,0]
[{"$f":"'SHALA DARPAN DATA'!C273","v":0},{"$f":"'SHALA DARPAN DATA'!A273","v":0},{"$f":"'SHALA DARPAN DATA'!B273","v":0},{"$f":"'SHALA DARPAN DATA'!D273","v":0},{"$f":"'SHALA DARPAN DATA'!J273","v":0},{"$f":"'SHALA DARPAN DATA'!T273","v":0},{"$f":"'SHALA DARPAN DATA'!V273","v":0},{"$f":"'SHALA DARPAN DATA'!K273","v":0},{"$f":"'SHALA DARPAN DATA'!E273","v":0},{"$f":"'SHALA DARPAN DATA'!G273","v":0},{"$f":"'SHALA DARPAN DATA'!H273","v":0},{"$f":"'SHALA DARPAN DATA'!W273","v":0},{"$f":"'SHALA DARPAN DATA'!R273","v":0},{"$f":"'SHALA DARPAN DATA'!S273","v":0},{"$f":"'SHALA DARPAN DATA'!O273","v":0},0,0,0,0,0,0,0,0,0,0,0]
[{"$f":"'SHALA DARPAN DATA'!C274","v":0},{"$f":"'SHALA DARPAN DATA'!A274","v":0},{"$f":"'SHALA DARPAN DATA'!B274","v":0},{"$f":"'SHALA DARPAN DATA'!D274","v":0},{"$f":"'SHALA DARPAN DATA'!J274","v":0},{"$f":"'SHALA DARPAN DATA'!T274","v":0},{"$f":"'SHALA DARPAN DATA'!V274","v":0},{"$f":"'SHALA DARPAN DATA'!K274","v":0},{"$f":"'SHALA DARPAN DATA'!E274","v":0},{"$f":"'SHALA DARPAN DATA'!G274","v":0},{"$f":"'SHALA DARPAN DATA'!H274","v":0},{"$f":"'SHALA DARPAN DATA'!W274","v":0},{"$f":"'SHALA DARPAN DATA'!R274","v":0},{"$f":"'SHALA DARPAN DATA'!S274","v":0},{"$f":"'SHALA DARPAN DATA'!O274","v":0},0,0,0,0,0,0,0,0,0,0,0]
[{"$f":"'SHALA DARPAN DATA'!C275","v":0},{"$f":"'SHALA DARPAN DATA'!A275","v":0},{"$f":"'SHALA DARPAN DATA'!B275","v":0},{"$f":"'SHALA DARPAN DATA'!D275","v":0},{"$f":"'SHALA DARPAN DATA'!J275","v":0},{"$f":"'SHALA DARPAN DATA'!T275","v":0},{"$f":"'SHALA DARPAN DATA'!V275","v":0},{"$f":"'SHALA DARPAN DATA'!K275","v":0},{"$f":"'SHALA DARPAN DATA'!E275","v":0},{"$f":"'SHALA DARPAN DATA'!G275","v":0},{"$f":"'SHALA DARPAN DATA'!H275","v":0},{"$f":"'SHALA DARPAN DATA'!W275","v":0},{"$f":"'SHALA DARPAN DATA'!R275","v":0},{"$f":"'SHALA DARPAN DATA'!S275","v":0},{"$f":"'SHALA DARPAN DATA'!O275","v":0},0,0,0,0,0,0,0,0,0,0,0]
[{"$f":"'SHALA DARPAN DATA'!C276","v":0},{"$f":"'SHALA DARPAN DATA'!A276","v":0},{"$f":"'SHALA DARPAN DATA'!B276","v":0},{"$f":"'SHALA DARPAN DATA'!D276","v":0},{"$f":"'SHALA DARPAN DATA'!J276","v":0},{"$f":"'SHALA DARPAN DATA'!T276","v":0},{"$f":"'SHALA DARPAN DATA'!V276","v":0},{"$f":"'SHALA DARPAN DATA'!K276","v":0},{"$f":"'SHALA DARPAN DATA'!E276","v":0},{"$f":"'SHALA DARPAN DATA'!G276","v":0},{"$f":"'SHALA DARPAN DATA'!H276","v":0},{"$f":"'SHALA DARPAN DATA'!W276","v":0},{"$f":"'SHALA DARPAN DATA'!R276","v":0},{"$f":"'SHALA DARPAN DATA'!S276","v":0},{"$f":"'SHALA DARPAN DATA'!O276","v":0},0,0,0,0,0,0,0,0,0,0,0]
[{"$f":"'SHALA DARPAN DATA'!C277","v":0},{"$f":"'SHALA DARPAN DATA'!A277","v":0},{"$f":"'SHALA DARPAN DATA'!B277","v":0},{"$f":"'SHALA DARPAN DATA'!D277","v":0},{"$f":"'SHALA DARPAN DATA'!J277","v":0},{"$f":"'SHALA DARPAN DATA'!T277","v":0},{"$f":"'SHALA DARPAN DATA'!V277","v":0},{"$f":"'SHALA DARPAN DATA'!K277","v":0},{"$f":"'SHALA DARPAN DATA'!E277","v":0},{"$f":"'SHALA DARPAN DATA'!G277","v":0},{"$f":"'SHALA DARPAN DATA'!H277","v":0},{"$f":"'SHALA DARPAN DATA'!W277","v":0},{"$f":"'SHALA DARPAN DATA'!R277","v":0},{"$f":"'SHALA DARPAN DATA'!S277","v":0},{"$f":"'SHALA DARPAN DATA'!O277","v":0},0,0,0,0,0,0,0,0,0,0,0]
[{"$f":"'SHALA DARPAN DATA'!C278","v":0},{"$f":"'SHALA DARPAN DATA'!A278","v":0},{"$f":"'SHALA DARPAN DATA'!B278","v":0},{"$f":"'SHALA DARPAN DATA'!D278","v":0},{"$f":"'SHALA DARPAN DATA'!J278","v":0},{"$f":"'SHALA DARPAN DATA'!T278","v":0},{"$f":"'SHALA DARPAN DATA'!V278","v":0},{"$f":"'SHALA DARPAN DATA'!K278","v":0},{"$f":"'SHALA DARPAN DATA'!E278","v":0},{"$f":"'SHALA DARPAN DATA'!G278","v":0},{"$f":"'SHALA DARPAN DATA'!H278","v":0},{"$f":"'SHALA DARPAN DATA'!W278","v":0},{"$f":"'SHALA DARPAN DATA'!R278","v":0},{"$f":"'SHALA DARPAN DATA'!S278","v":0},{"$f":"'SHALA DARPAN DATA'!O278","v":0},0,0,0,0,0,0,0,0,0,0,0]
[{"$f":"'SHALA DARPAN DATA'!C279","v":0},{"$f":"'SHALA DARPAN DATA'!A279","v":0},{"$f":"'SHALA DARPAN DATA'!B279","v":0},{"$f":"'SHALA DARPAN DATA'!D279","v":0},{"$f":"'SHALA DARPAN DATA'!J279","v":0},{"$f":"'SHALA DARPAN DATA'!T279","v":0},{"$f":"'SHALA DARPAN DATA'!V279","v":0},{"$f":"'SHALA DARPAN DATA'!K279","v":0},{"$f":"'SHALA DARPAN DATA'!E279","v":0},{"$f":"'SHALA DARPAN DATA'!G279","v":0},{"$f":"'SHALA DARPAN DATA'!H279","v":0},{"$f":"'SHALA DARPAN DATA'!W279","v":0},{"$f":"'SHALA DARPAN DATA'!R279","v":0},{"$f":"'SHALA DARPAN DATA'!S279","v":0},{"$f":"'SHALA DARPAN DATA'!O279","v":0},0,0,0,0,0,0,0,0,0,0,0]
[{"$f":"'SHALA DARPAN DATA'!C280","v":0},{"$f":"'SHALA DARPAN DATA'!A280","v":0},{"$f":"'SHALA DARPAN DATA'!B280","v":0},{"$f":"'SHALA DARPAN DATA'!D280","v":0},{"$f":"'SHALA DARPAN DATA'!J280","v":0},{"$f":"'SHALA DARPAN DATA'!T280","v":0},{"$f":"'SHALA DARPAN DATA'!V280","v":0},{"$f":"'SHALA DARPAN DATA'!K280","v":0},{"$f":"'SHALA DARPAN DATA'!E280","v":0},{"$f":"'SHALA DARPAN DATA'!G280","v":0},{"$f":"'SHALA DARPAN DATA'!H280","v":0},{"$f":"'SHALA DARPAN DATA'!W280","v":0},{"$f":"'SHALA DARPAN DATA'!R280","v":0},{"$f":"'SHALA DARPAN DATA'!S280","v":0},{"$f":"'SHALA DARPAN DATA'!O280","v":0},0,0,0,0,0,0,0,0,0,0,0]
[{"$f":"'SHALA DARPAN DATA'!C281","v":0},{"$f":"'SHALA DARPAN DATA'!A281","v":0},{"$f":"'SHALA DARPAN DATA'!B281","v":0},{"$f":"'SHALA DARPAN DATA'!D281","v":0},{"$f":"'SHALA DARPAN DATA'!J281","v":0},{"$f":"'SHALA DARPAN DATA'!T281","v":0},{"$f":"'SHALA DARPAN DATA'!V281","v":0},{"$f":"'SHALA DARPAN DATA'!K281","v":0},{"$f":"'SHALA DARPAN DATA'!E281","v":0},{"$f":"'SHALA DARPAN DATA'!G281","v":0},{"$f":"'SHALA DARPAN DATA'!H281","v":0},{"$f":"'SHALA DARPAN DATA'!W281","v":0},{"$f":"'SHALA DARPAN DATA'!R281","v":0},{"$f":"'SHALA DARPAN DATA'!S281","v":0},{"$f":"'SHALA DARPAN DATA'!O281","v":0},0,0,0,0,0,0,0,0,0,0,0]
[{"$f":"'SHALA DARPAN DATA'!C282","v":0},{"$f":"'SHALA DARPAN DATA'!A282","v":0},{"$f":"'SHALA DARPAN DATA'!B282","v":0},{"$f":"'SHALA DARPAN DATA'!D282","v":0},{"$f":"'SHALA DARPAN DATA'!J282","v":0},{"$f":"'SHALA DARPAN DATA'!T282","v":0},{"$f":"'SHALA DARPAN DATA'!V282","v":0},{"$f":"'SHALA DARPAN DATA'!K282","v":0},{"$f":"'SHALA DARPAN DATA'!E282","v":0},{"$f":"'SHALA DARPAN DATA'!G282","v":0},{"$f":"'SHALA DARPAN DATA'!H282","v":0},{"$f":"'SHALA DARPAN DATA'!W282","v":0},{"$f":"'SHALA DARPAN DATA'!R282","v":0},{"$f":"'SHALA DARPAN DATA'!S282","v":0},{"$f":"'SHALA DARPAN DATA'!O282","v":0},0,0,0,0,0,0,0,0,0,0,0]
[{"$f":"'SHALA DARPAN DATA'!C283","v":0},{"$f":"'SHALA DARPAN DATA'!A283","v":0},{"$f":"'SHALA DARPAN DATA'!B283","v":0},{"$f":"'SHALA DARPAN DATA'!D283","v":0},{"$f":"'SHALA DARPAN DATA'!J283","v":0},{"$f":"'SHALA DARPAN DATA'!T283","v":0},{"$f":"'SHALA DARPAN DATA'!V283","v":0},{"$f":"'SHALA DARPAN DATA'!K283","v":0},{"$f":"'SHALA DARPAN DATA'!E283","v":0},{"$f":"'SHALA DARPAN DATA'!G283","v":0},{"$f":"'SHALA DARPAN DATA'!H283","v":0},{"$f":"'SHALA DARPAN DATA'!W283","v":0},{"$f":"'SHALA DARPAN DATA'!R283","v":0},{"$f":"'SHALA DARPAN DATA'!S283","v":0},{"$f":"'SHALA DARPAN DATA'!O283","v":0},0,0,0,0,0,0,0,0,0,0,0]
[{"$f":"'SHALA DARPAN DATA'!C284","v":0},{"$f":"'SHALA DARPAN DATA'!A284","v":0},{"$f":"'SHALA DARPAN DATA'!B284","v":0},{"$f":"'SHALA DARPAN DATA'!D284","v":0},{"$f":"'SHALA DARPAN DATA'!J284","v":0},{"$f":"'SHALA DARPAN DATA'!T284","v":0},{"$f":"'SHALA DARPAN DATA'!V284","v":0},{"$f":"'SHALA DARPAN DATA'!K284","v":0},{"$f":"'SHALA DARPAN DATA'!E284","v":0},{"$f":"'SHALA DARPAN DATA'!G284","v":0},{"$f":"'SHALA DARPAN DATA'!H284","v":0},{"$f":"'SHALA DARPAN DATA'!W284","v":0},{"$f":"'SHALA DARPAN DATA'!R284","v":0},{"$f":"'SHALA DARPAN DATA'!S284","v":0},{"$f":"'SHALA DARPAN DATA'!O284","v":0},0,0,0,0,0,0,0,0,0,0,0]
[{"$f":"'SHALA DARPAN DATA'!C285","v":0},{"$f":"'SHALA DARPAN DATA'!A285","v":0},{"$f":"'SHALA DARPAN DATA'!B285","v":0},{"$f":"'SHALA DARPAN DATA'!D285","v":0},{"$f":"'SHALA DARPAN DATA'!J285","v":0},{"$f":"'SHALA DARPAN DATA'!T285","v":0},{"$f":"'SHALA DARPAN DATA'!V285","v":0},{"$f":"'SHALA DARPAN DATA'!K285","v":0},{"$f":"'SHALA DARPAN DATA'!E285","v":0},{"$f":"'SHALA DARPAN DATA'!G285","v":0},{"$f":"'SHALA DARPAN DATA'!H285","v":0},{"$f":"'SHALA DARPAN DATA'!W285","v":0},{"$f":"'SHALA DARPAN DATA'!R285","v":0},{"$f":"'SHALA DARPAN DATA'!S285","v":0},{"$f":"'SHALA DARPAN DATA'!O285","v":0},0,0,0,0,0,0,0,0,0,0,0]
[{"$f":"'SHALA DARPAN DATA'!C286","v":0},{"$f":"'SHALA DARPAN DATA'!A286","v":0},{"$f":"'SHALA DARPAN DATA'!B286","v":0},{"$f":"'SHALA DARPAN DATA'!D286","v":0},{"$f":"'SHALA DARPAN DATA'!J286","v":0},{"$f":"'SHALA DARPAN DATA'!T286","v":0},{"$f":"'SHALA DARPAN DATA'!V286","v":0},{"$f":"'SHALA DARPAN DATA'!K286","v":0},{"$f":"'SHALA DARPAN DATA'!E286","v":0},{"$f":"'SHALA DARPAN DATA'!G286","v":0},{"$f":"'SHALA DARPAN DATA'!H286","v":0},{"$f":"'SHALA DARPAN DATA'!W286","v":0},{"$f":"'SHALA DARPAN DATA'!R286","v":0},{"$f":"'SHALA DARPAN DATA'!S286","v":0},{"$f":"'SHALA DARPAN DATA'!O286","v":0},0,0,0,0,0,0,0,0,0,0,0]
[{"$f":"'SHALA DARPAN DATA'!C287","v":0},{"$f":"'SHALA DARPAN DATA'!A287","v":0},{"$f":"'SHALA DARPAN DATA'!B287","v":0},{"$f":"'SHALA DARPAN DATA'!D287","v":0},{"$f":"'SHALA DARPAN DATA'!J287","v":0},{"$f":"'SHALA DARPAN DATA'!T287","v":0},{"$f":"'SHALA DARPAN DATA'!V287","v":0},{"$f":"'SHALA DARPAN DATA'!K287","v":0},{"$f":"'SHALA DARPAN DATA'!E287","v":0},{"$f":"'SHALA DARPAN DATA'!G287","v":0},{"$f":"'SHALA DARPAN DATA'!H287","v":0},{"$f":"'SHALA DARPAN DATA'!W287","v":0},{"$f":"'SHALA DARPAN DATA'!R287","v":0},{"$f":"'SHALA DARPAN DATA'!S287","v":0},{"$f":"'SHALA DARPAN DATA'!O287","v":0},0,0,0,0,0,0,0,0,0,0,0]
[{"$f":"'SHALA DARPAN DATA'!C288","v":0},{"$f":"'SHALA DARPAN DATA'!A288","v":0},{"$f":"'SHALA DARPAN DATA'!B288","v":0},{"$f":"'SHALA DARPAN DATA'!D288","v":0},{"$f":"'SHALA DARPAN DATA'!J288","v":0},{"$f":"'SHALA DARPAN DATA'!T288","v":0},{"$f":"'SHALA DARPAN DATA'!V288","v":0},{"$f":"'SHALA DARPAN DATA'!K288","v":0},{"$f":"'SHALA DARPAN DATA'!E288","v":0},{"$f":"'SHALA DARPAN DATA'!G288","v":0},{"$f":"'SHALA DARPAN DATA'!H288","v":0},{"$f":"'SHALA DARPAN DATA'!W288","v":0},{"$f":"'SHALA DARPAN DATA'!R288","v":0},{"$f":"'SHALA DARPAN DATA'!S288","v":0},{"$f":"'SHALA DARPAN DATA'!O288","v":0},0,0,0,0,0,0,0,0,0,0,0]
[{"$f":"'SHALA DARPAN DATA'!C289","v":0},{"$f":"'SHALA DARPAN DATA'!A289","v":0},{"$f":"'SHALA DARPAN DATA'!B289","v":0},{"$f":"'SHALA DARPAN DATA'!D289","v":0},{"$f":"'SHALA DARPAN DATA'!J289","v":0},{"$f":"'SHALA DARPAN DATA'!T289","v":0},{"$f":"'SHALA DARPAN DATA'!V289","v":0},{"$f":"'SHALA DARPAN DATA'!K289","v":0},{"$f":"'SHALA DARPAN DATA'!E289","v":0},{"$f":"'SHALA DARPAN DATA'!G289","v":0},{"$f":"'SHALA DARPAN DATA'!H289","v":0},{"$f":"'SHALA DARPAN DATA'!W289","v":0},{"$f":"'SHALA DARPAN DATA'!R289","v":0},{"$f":"'SHALA DARPAN DATA'!S289","v":0},{"$f":"'SHALA DARPAN DATA'!O289","v":0},0,0,0,0,0,0,0,0,0,0,0]
[{"$f":"'SHALA DARPAN DATA'!C290","v":0},{"$f":"'SHALA DARPAN DATA'!A290","v":0},{"$f":"'SHALA DARPAN DATA'!B290","v":0},{"$f":"'SHALA DARPAN DATA'!D290","v":0},{"$f":"'SHALA DARPAN DATA'!J290","v":0},{"$f":"'SHALA DARPAN DATA'!T290","v":0},{"$f":"'SHALA DARPAN DATA'!V290","v":0},{"$f":"'SHALA DARPAN DATA'!K290","v":0},{"$f":"'SHALA DARPAN DATA'!E290","v":0},{"$f":"'SHALA DARPAN DATA'!G290","v":0},{"$f":"'SHALA DARPAN DATA'!H290","v":0},{"$f":"'SHALA DARPAN DATA'!W290","v":0},{"$f":"'SHALA DARPAN DATA'!R290","v":0},{"$f":"'SHALA DARPAN DATA'!S290","v":0},{"$f":"'SHALA DARPAN DATA'!O290","v":0},0,0,0,0,0,0,0,0,0,0,0]
[{"$f":"'SHALA DARPAN DATA'!C291","v":0},{"$f":"'SHALA DARPAN DATA'!A291","v":0},{"$f":"'SHALA DARPAN DATA'!B291","v":0},{"$f":"'SHALA DARPAN DATA'!D291","v":0},{"$f":"'SHALA DARPAN DATA'!J291","v":0},{"$f":"'SHALA DARPAN DATA'!T291","v":0},{"$f":"'SHALA DARPAN DATA'!V291","v":0},{"$f":"'SHALA DARPAN DATA'!K291","v":0},{"$f":"'SHALA DARPAN DATA'!E291","v":0},{"$f":"'SHALA DARPAN DATA'!G291","v":0},{"$f":"'SHALA DARPAN DATA'!H291","v":0},{"$f":"'SHALA DARPAN DATA'!W291","v":0},{"$f":"'SHALA DARPAN DATA'!R291","v":0},{"$f":"'SHALA DARPAN DATA'!S291","v":0},{"$f":"'SHALA DARPAN DATA'!O291","v":0},0,0,0,0,0,0,0,0,0,0,0]
[{"$f":"'SHALA DARPAN DATA'!C292","v":0},{"$f":"'SHALA DARPAN DATA'!A292","v":0},{"$f":"'SHALA DARPAN DATA'!B292","v":0},{"$f":"'SHALA DARPAN DATA'!D292","v":0},{"$f":"'SHALA DARPAN DATA'!J292","v":0},{"$f":"'SHALA DARPAN DATA'!T292","v":0},{"$f":"'SHALA DARPAN DATA'!V292","v":0},{"$f":"'SHALA DARPAN DATA'!K292","v":0},{"$f":"'SHALA DARPAN DATA'!E292","v":0},{"$f":"'SHALA DARPAN DATA'!G292","v":0},{"$f":"'SHALA DARPAN DATA'!H292","v":0},{"$f":"'SHALA DARPAN DATA'!W292","v":0},{"$f":"'SHALA DARPAN DATA'!R292","v":0},{"$f":"'SHALA DARPAN DATA'!S292","v":0},{"$f":"'SHALA DARPAN DATA'!O292","v":0},0,0,0,0,0,0,0,0,0,0,0]
[{"$f":"'SHALA DARPAN DATA'!C293","v":0},{"$f":"'SHALA DARPAN DATA'!A293","v":0},{"$f":"'SHALA DARPAN DATA'!B293","v":0},{"$f":"'SHALA DARPAN DATA'!D293","v":0},{"$f":"'SHALA DARPAN DATA'!J293","v":0},{"$f":"'SHALA DARPAN DATA'!T293","v":0},{"$f":"'SHALA DARPAN DATA'!V293","v":0},{"$f":"'SHALA DARPAN DATA'!K293","v":0},{"$f":"'SHALA DARPAN DATA'!E293","v":0},{"$f":"'SHALA DARPAN DATA'!G293","v":0},{"$f":"'SHALA DARPAN DATA'!H293","v":0},{"$f":"'SHALA DARPAN DATA'!W293","v":0},{"$f":"'SHALA DARPAN DATA'!R293","v":0},{"$f":"'SHALA DARPAN DATA'!S293","v":0},{"$f":"'SHALA DARPAN DATA'!O293","v":0},0,0,0,0,0,0,0,0,0,0,0]
[{"$f":"'SHALA DARPAN DATA'!C294","v":0},{"$f":"'SHALA DARPAN DATA'!A294","v":0},{"$f":"'SHALA DARPAN DATA'!B294","v":0},{"$f":"'SHALA DARPAN DATA'!D294","v":0},{"$f":"'SHALA DARPAN DATA'!J294","v":0},{"$f":"'SHALA DARPAN DATA'!T294","v":0},{"$f":"'SHALA DARPAN DATA'!V294","v":0},{"$f":"'SHALA DARPAN DATA'!K294","v":0},{"$f":"'SHALA DARPAN DATA'!E294","v":0},{"$f":"'SHALA DARPAN DATA'!G294","v":0},{"$f":"'SHALA DARPAN DATA'!H294","v":0},{"$f":"'SHALA DARPAN DATA'!W294","v":0},{"$f":"'SHALA DARPAN DATA'!R294","v":0},{"$f":"'SHALA DARPAN DATA'!S294","v":0},{"$f":"'SHALA DARPAN DATA'!O294","v":0},0,0,0,0,0,0,0,0,0,0,0]
[{"$f":"'SHALA DARPAN DATA'!C295","v":0},{"$f":"'SHALA DARPAN DATA'!A295","v":0},{"$f":"'SHALA DARPAN DATA'!B295","v":0},{"$f":"'SHALA DARPAN DATA'!D295","v":0},{"$f":"'SHALA DARPAN DATA'!J295","v":0},{"$f":"'SHALA DARPAN DATA'!T295","v":0},{"$f":"'SHALA DARPAN DATA'!V295","v":0},{"$f":"'SHALA DARPAN DATA'!K295","v":0},{"$f":"'SHALA DARPAN DATA'!E295","v":0},{"$f":"'SHALA DARPAN DATA'!G295","v":0},{"$f":"'SHALA DARPAN DATA'!H295","v":0},{"$f":"'SHALA DARPAN DATA'!W295","v":0},{"$f":"'SHALA DARPAN DATA'!R295","v":0},{"$f":"'SHALA DARPAN DATA'!S295","v":0},{"$f":"'SHALA DARPAN DATA'!O295","v":0},0,0,0,0,0,0,0,0,0,0,0]
[{"$f":"'SHALA DARPAN DATA'!C296","v":0},{"$f":"'SHALA DARPAN DATA'!A296","v":0},{"$f":"'SHALA DARPAN DATA'!B296","v":0},{"$f":"'SHALA DARPAN DATA'!D296","v":0},{"$f":"'SHALA DARPAN DATA'!J296","v":0},{"$f":"'SHALA DARPAN DATA'!T296","v":0},{"$f":"'SHALA DARPAN DATA'!V296","v":0},{"$f":"'SHALA DARPAN DATA'!K296","v":0},{"$f":"'SHALA DARPAN DATA'!E296","v":0},{"$f":"'SHALA DARPAN DATA'!G296","v":0},{"$f":"'SHALA DARPAN DATA'!H296","v":0},{"$f":"'SHALA DARPAN DATA'!W296","v":0},{"$f":"'SHALA DARPAN DATA'!R296","v":0},{"$f":"'SHALA DARPAN DATA'!S296","v":0},{"$f":"'SHALA DARPAN DATA'!O296","v":0},0,0,0,0,0,0,0,0,0,0,0]
[{"$f":"'SHALA DARPAN DATA'!C297","v":0},{"$f":"'SHALA DARPAN DATA'!A297","v":0},{"$f":"'SHALA DARPAN DATA'!B297","v":0},{"$f":"'SHALA DARPAN DATA'!D297","v":0},{"$f":"'SHALA DARPAN DATA'!J297","v":0},{"$f":"'SHALA DARPAN DATA'!T297","v":0},{"$f":"'SHALA DARPAN DATA'!V297","v":0},{"$f":"'SHALA DARPAN DATA'!K297","v":0},{"$f":"'SHALA DARPAN DATA'!E297","v":0},{"$f":"'SHALA DARPAN DATA'!G297","v":0},{"$f":"'SHALA DARPAN DATA'!H297","v":0},{"$f":"'SHALA DARPAN DATA'!W297","v":0},{"$f":"'SHALA DARPAN DATA'!R297","v":0},{"$f":"'SHALA DARPAN DATA'!S297","v":0},{"$f":"'SHALA DARPAN DATA'!O297","v":0},0,0,0,0,0,0,0,0,0,0,0]
[{"$f":"'SHALA DARPAN DATA'!C298","v":0},{"$f":"'SHALA DARPAN DATA'!A298","v":0},{"$f":"'SHALA DARPAN DATA'!B298","v":0},{"$f":"'SHALA DARPAN DATA'!D298","v":0},{"$f":"'SHALA DARPAN DATA'!J298","v":0},{"$f":"'SHALA DARPAN DATA'!T298","v":0},{"$f":"'SHALA DARPAN DATA'!V298","v":0},{"$f":"'SHALA DARPAN DATA'!K298","v":0},{"$f":"'SHALA DARPAN DATA'!E298","v":0},{"$f":"'SHALA DARPAN DATA'!G298","v":0},{"$f":"'SHALA DARPAN DATA'!H298","v":0},{"$f":"'SHALA DARPAN DATA'!W298","v":0},{"$f":"'SHALA DARPAN DATA'!R298","v":0},{"$f":"'SHALA DARPAN DATA'!S298","v":0},{"$f":"'SHALA DARPAN DATA'!O298","v":0},0,0,0,0,0,0,0,0,0,0,0]
[{"$f":"'SHALA DARPAN DATA'!C299","v":0},{"$f":"'SHALA DARPAN DATA'!A299","v":0},{"$f":"'SHALA DARPAN DATA'!B299","v":0},{"$f":"'SHALA DARPAN DATA'!D299","v":0},{"$f":"'SHALA DARPAN DATA'!J299","v":0},{"$f":"'SHALA DARPAN DATA'!T299","v":0},{"$f":"'SHALA DARPAN DATA'!V299","v":0},{"$f":"'SHALA DARPAN DATA'!K299","v":0},{"$f":"'SHALA DARPAN DATA'!E299","v":0},{"$f":"'SHALA DARPAN DATA'!G299","v":0},{"$f":"'SHALA DARPAN DATA'!H299","v":0},{"$f":"'SHALA DARPAN DATA'!W299","v":0},{"$f":"'SHALA DARPAN DATA'!R299","v":0},{"$f":"'SHALA DARPAN DATA'!S299","v":0},{"$f":"'SHALA DARPAN DATA'!O299","v":0},0,0,0,0,0,0,0,0,0,0,0]
[{"$f":"'SHALA DARPAN DATA'!C300","v":0},{"$f":"'SHALA DARPAN DATA'!A300","v":0},{"$f":"'SHALA DARPAN DATA'!B300","v":0},{"$f":"'SHALA DARPAN DATA'!D300","v":0},{"$f":"'SHALA DARPAN DATA'!J300","v":0},{"$f":"'SHALA DARPAN DATA'!T300","v":0},{"$f":"'SHALA DARPAN DATA'!V300","v":0},{"$f":"'SHALA DARPAN DATA'!K300","v":0},{"$f":"'SHALA DARPAN DATA'!E300","v":0},{"$f":"'SHALA DARPAN DATA'!G300","v":0},{"$f":"'SHALA DARPAN DATA'!H300","v":0},{"$f":"'SHALA DARPAN DATA'!W300","v":0},{"$f":"'SHALA DARPAN DATA'!R300","v":0},{"$f":"'SHALA DARPAN DATA'!S300","v":0},{"$f":"'SHALA DARPAN DATA'!O300","v":0},0,0,0,0,0,0,0,0,0,0,0]
[{"$f":"'SHALA DARPAN DATA'!C301","v":0},{"$f":"'SHALA DARPAN DATA'!A301","v":0},{"$f":"'SHALA DARPAN DATA'!B301","v":0},{"$f":"'SHALA DARPAN DATA'!D301","v":0},{"$f":"'SHALA DARPAN DATA'!J301","v":0},{"$f":"'SHALA DARPAN DATA'!T301","v":0},{"$f":"'SHALA DARPAN DATA'!V301","v":0},{"$f":"'SHALA DARPAN DATA'!K301","v":0},{"$f":"'SHALA DARPAN DATA'!E301","v":0},{"$f":"'SHALA DARPAN DATA'!G301","v":0},{"$f":"'SHALA DARPAN DATA'!H301","v":0},{"$f":"'SHALA DARPAN DATA'!W301","v":0},{"$f":"'SHALA DARPAN DATA'!R301","v":0},{"$f":"'SHALA DARPAN DATA'!S301","v":0},{"$f":"'SHALA DARPAN DATA'!O301","v":0},0,0,0,0,0,0,0,0,0,0,0]
[{"$f":"'SHALA DARPAN DATA'!C302","v":0},{"$f":"'SHALA DARPAN DATA'!A302","v":0},{"$f":"'SHALA DARPAN DATA'!B302","v":0},{"$f":"'SHALA DARPAN DATA'!D302","v":0},{"$f":"'SHALA DARPAN DATA'!J302","v":0},{"$f":"'SHALA DARPAN DATA'!T302","v":0},{"$f":"'SHALA DARPAN DATA'!V302","v":0},{"$f":"'SHALA DARPAN DATA'!K302","v":0},{"$f":"'SHALA DARPAN DATA'!E302","v":0},{"$f":"'SHALA DARPAN DATA'!G302","v":0},{"$f":"'SHALA DARPAN DATA'!H302","v":0},{"$f":"'SHALA DARPAN DATA'!W302","v":0},{"$f":"'SHALA DARPAN DATA'!R302","v":0},{"$f":"'SHALA DARPAN DATA'!S302","v":0},{"$f":"'SHALA DARPAN DATA'!O302","v":0},0,0,0,0,0,0,0,0,0,0,0]
[{"$f":"'SHALA DARPAN DATA'!C303","v":0},{"$f":"'SHALA DARPAN DATA'!A303","v":0},{"$f":"'SHALA DARPAN DATA'!B303","v":0},{"$f":"'SHALA DARPAN DATA'!D303","v":0},{"$f":"'SHALA DARPAN DATA'!J303","v":0},{"$f":"'SHALA DARPAN DATA'!T303","v":0},{"$f":"'SHALA DARPAN DATA'!V303","v":0},{"$f":"'SHALA DARPAN DATA'!K303","v":0},{"$f":"'SHALA DARPAN DATA'!E303","v":0},{"$f":"'SHALA DARPAN DATA'!G303","v":0},{"$f":"'SHALA DARPAN DATA'!H303","v":0},{"$f":"'SHALA DARPAN DATA'!W303","v":0},{"$f":"'SHALA DARPAN DATA'!R303","v":0},{"$f":"'SHALA DARPAN DATA'!S303","v":0},{"$f":"'SHALA DARPAN DATA'!O303","v":0},0,0,0,0,0,0,0,0,0,0,0]
[{"$f":"'SHALA DARPAN DATA'!C304","v":0},{"$f":"'SHALA DARPAN DATA'!A304","v":0},{"$f":"'SHALA DARPAN DATA'!B304","v":0},{"$f":"'SHALA DARPAN DATA'!D304","v":0},{"$f":"'SHALA DARPAN DATA'!J304","v":0},{"$f":"'SHALA DARPAN DATA'!T304","v":0},{"$f":"'SHALA DARPAN DATA'!V304","v":0},{"$f":"'SHALA DARPAN DATA'!K304","v":0},{"$f":"'SHALA DARPAN DATA'!E304","v":0},{"$f":"'SHALA DARPAN DATA'!G304","v":0},{"$f":"'SHALA DARPAN DATA'!H304","v":0},{"$f":"'SHALA DARPAN DATA'!W304","v":0},{"$f":"'SHALA DARPAN DATA'!R304","v":0},{"$f":"'SHALA DARPAN DATA'!S304","v":0},{"$f":"'SHALA DARPAN DATA'!O304","v":0},0,0,0,0,0,0,0,0,0,0,0]
[{"$f":"'SHALA DARPAN DATA'!C305","v":0},{"$f":"'SHALA DARPAN DATA'!A305","v":0},{"$f":"'SHALA DARPAN DATA'!B305","v":0},{"$f":"'SHALA DARPAN DATA'!D305","v":0},{"$f":"'SHALA DARPAN DATA'!J305","v":0},{"$f":"'SHALA DARPAN DATA'!T305","v":0},{"$f":"'SHALA DARPAN DATA'!V305","v":0},{"$f":"'SHALA DARPAN DATA'!K305","v":0},{"$f":"'SHALA DARPAN DATA'!E305","v":0},{"$f":"'SHALA DARPAN DATA'!G305","v":0},{"$f":"'SHALA DARPAN DATA'!H305","v":0},{"$f":"'SHALA DARPAN DATA'!W305","v":0},{"$f":"'SHALA DARPAN DATA'!R305","v":0},{"$f":"'SHALA DARPAN DATA'!S305","v":0},{"$f":"'SHALA DARPAN DATA'!O305","v":0},0,0,0,0,0,0,0,0,0,0,0]
[{"$f":"'SHALA DARPAN DATA'!C306","v":0},{"$f":"'SHALA DARPAN DATA'!A306","v":0},{"$f":"'SHALA DARPAN DATA'!B306","v":0},{"$f":"'SHALA DARPAN DATA'!D306","v":0},{"$f":"'SHALA DARPAN DATA'!J306","v":0},{"$f":"'SHALA DARPAN DATA'!T306","v":0},{"$f":"'SHALA DARPAN DATA'!V306","v":0},{"$f":"'SHALA DARPAN DATA'!K306","v":0},{"$f":"'SHALA DARPAN DATA'!E306","v":0},{"$f":"'SHALA DARPAN DATA'!G306","v":0},{"$f":"'SHALA DARPAN DATA'!H306","v":0},{"$f":"'SHALA DARPAN DATA'!W306","v":0},{"$f":"'SHALA DARPAN DATA'!R306","v":0},{"$f":"'SHALA DARPAN DATA'!S306","v":0},{"$f":"'SHALA DARPAN DATA'!O306","v":0},0,0,0,0,0,0,0,0,0,0,0]
[{"$f":"'SHALA DARPAN DATA'!C307","v":0},{"$f":"'SHALA DARPAN DATA'!A307","v":0},{"$f":"'SHALA DARPAN DATA'!B307","v":0},{"$f":"'SHALA DARPAN DATA'!D307","v":0},{"$f":"'SHALA DARPAN DATA'!J307","v":0},{"$f":"'SHALA DARPAN DATA'!T307","v":0},{"$f":"'SHALA DARPAN DATA'!V307","v":0},{"$f":"'SHALA DARPAN DATA'!K307","v":0},{"$f":"'SHALA DARPAN DATA'!E307","v":0},{"$f":"'SHALA DARPAN DATA'!G307","v":0},{"$f":"'SHALA DARPAN DATA'!H307","v":0},{"$f":"'SHALA DARPAN DATA'!W307","v":0},{"$f":"'SHALA DARPAN DATA'!R307","v":0},{"$f":"'SHALA DARPAN DATA'!S307","v":0},{"$f":"'SHALA DARPAN DATA'!O307","v":0},0,0,0,0,0,0,0,0,0,0,0]
[{"$f":"'SHALA DARPAN DATA'!C308","v":0},{"$f":"'SHALA DARPAN DATA'!A308","v":0},{"$f":"'SHALA DARPAN DATA'!B308","v":0},{"$f":"'SHALA DARPAN DATA'!D308","v":0},{"$f":"'SHALA DARPAN DATA'!J308","v":0},{"$f":"'SHALA DARPAN DATA'!T308","v":0},{"$f":"'SHALA DARPAN DATA'!V308","v":0},{"$f":"'SHALA DARPAN DATA'!K308","v":0},{"$f":"'SHALA DARPAN DATA'!E308","v":0},{"$f":"'SHALA DARPAN DATA'!G308","v":0},{"$f":"'SHALA DARPAN DATA'!H308","v":0},{"$f":"'SHALA DARPAN DATA'!W308","v":0},{"$f":"'SHALA DARPAN DATA'!R308","v":0},{"$f":"'SHALA DARPAN DATA'!S308","v":0},{"$f":"'SHALA DARPAN DATA'!O308","v":0},0,0,0,0,0,0,0,0,0,0,0]
[{"$f":"'SHALA DARPAN DATA'!C309","v":0},{"$f":"'SHALA DARPAN DATA'!A309","v":0},{"$f":"'SHALA DARPAN DATA'!B309","v":0},{"$f":"'SHALA DARPAN DATA'!D309","v":0},{"$f":"'SHALA DARPAN DATA'!J309","v":0},{"$f":"'SHALA DARPAN DATA'!T309","v":0},{"$f":"'SHALA DARPAN DATA'!V309","v":0},{"$f":"'SHALA DARPAN DATA'!K309","v":0},{"$f":"'SHALA DARPAN DATA'!E309","v":0},{"$f":"'SHALA DARPAN DATA'!G309","v":0},{"$f":"'SHALA DARPAN DATA'!H309","v":0},{"$f":"'SHALA DARPAN DATA'!W309","v":0},{"$f":"'SHALA DARPAN DATA'!R309","v":0},{"$f":"'SHALA DARPAN DATA'!S309","v":0},{"$f":"'SHALA DARPAN DATA'!O309","v":0},0,0,0,0,0,0,0,0,0,0,0]
[{"$f":"'SHALA DARPAN DATA'!C310","v":0},{"$f":"'SHALA DARPAN DATA'!A310","v":0},{"$f":"'SHALA DARPAN DATA'!B310","v":0},{"$f":"'SHALA DARPAN DATA'!D310","v":0},{"$f":"'SHALA DARPAN DATA'!J310","v":0},{"$f":"'SHALA DARPAN DATA'!T310","v":0},{"$f":"'SHALA DARPAN DATA'!V310","v":0},{"$f":"'SHALA DARPAN DATA'!K310","v":0},{"$f":"'SHALA DARPAN DATA'!E310","v":0},{"$f":"'SHALA DARPAN DATA'!G310","v":0},{"$f":"'SHALA DARPAN DATA'!H310","v":0},{"$f":"'SHALA DARPAN DATA'!W310","v":0},{"$f":"'SHALA DARPAN DATA'!R310","v":0},{"$f":"'SHALA DARPAN DATA'!S310","v":0},{"$f":"'SHALA DARPAN DATA'!O310","v":0},0,0,0,0,0,0,0,0,0,0,0]
[{"$f":"'SHALA DARPAN DATA'!C311","v":0},{"$f":"'SHALA DARPAN DATA'!A311","v":0},{"$f":"'SHALA DARPAN DATA'!B311","v":0},{"$f":"'SHALA DARPAN DATA'!D311","v":0},{"$f":"'SHALA DARPAN DATA'!J311","v":0},{"$f":"'SHALA DARPAN DATA'!T311","v":0},{"$f":"'SHALA DARPAN DATA'!V311","v":0},{"$f":"'SHALA DARPAN DATA'!K311","v":0},{"$f":"'SHALA DARPAN DATA'!E311","v":0},{"$f":"'SHALA DARPAN DATA'!G311","v":0},{"$f":"'SHALA DARPAN DATA'!H311","v":0},{"$f":"'SHALA DARPAN DATA'!W311","v":0},{"$f":"'SHALA DARPAN DATA'!R311","v":0},{"$f":"'SHALA DARPAN DATA'!S311","v":0},{"$f":"'SHALA DARPAN DATA'!O311","v":0},0,0,0,0,0,0,0,0,0,0,0]
[{"$f":"'SHALA DARPAN DATA'!C312","v":0},{"$f":"'SHALA DARPAN DATA'!A312","v":0},{"$f":"'SHALA DARPAN DATA'!B312","v":0},{"$f":"'SHALA DARPAN DATA'!D312","v":0},{"$f":"'SHALA DARPAN DATA'!J312","v":0},{"$f":"'SHALA DARPAN DATA'!T312","v":0},{"$f":"'SHALA DARPAN DATA'!V312","v":0},{"$f":"'SHALA DARPAN DATA'!K312","v":0},{"$f":"'SHALA DARPAN DATA'!E312","v":0},{"$f":"'SHALA DARPAN DATA'!G312","v":0},{"$f":"'SHALA DARPAN DATA'!H312","v":0},{"$f":"'SHALA DARPAN DATA'!W312","v":0},{"$f":"'SHALA DARPAN DATA'!R312","v":0},{"$f":"'SHALA DARPAN DATA'!S312","v":0},{"$f":"'SHALA DARPAN DATA'!O312","v":0},0,0,0,0,0,0,0,0,0,0,0]
[{"$f":"'SHALA DARPAN DATA'!C313","v":0},{"$f":"'SHALA DARPAN DATA'!A313","v":0},{"$f":"'SHALA DARPAN DATA'!B313","v":0},{"$f":"'SHALA DARPAN DATA'!D313","v":0},{"$f":"'SHALA DARPAN DATA'!J313","v":0},{"$f":"'SHALA DARPAN DATA'!T313","v":0},{"$f":"'SHALA DARPAN DATA'!V313","v":0},{"$f":"'SHALA DARPAN DATA'!K313","v":0},{"$f":"'SHALA DARPAN DATA'!E313","v":0},{"$f":"'SHALA DARPAN DATA'!G313","v":0},{"$f":"'SHALA DARPAN DATA'!H313","v":0},{"$f":"'SHALA DARPAN DATA'!W313","v":0},{"$f":"'SHALA DARPAN DATA'!R313","v":0},{"$f":"'SHALA DARPAN DATA'!S313","v":0},{"$f":"'SHALA DARPAN DATA'!O313","v":0},0,0,0,0,0,0,0,0,0,0,0]
[{"$f":"'SHALA DARPAN DATA'!C314","v":0},{"$f":"'SHALA DARPAN DATA'!A314","v":0},{"$f":"'SHALA DARPAN DATA'!B314","v":0},{"$f":"'SHALA DARPAN DATA'!D314","v":0},{"$f":"'SHALA DARPAN DATA'!J314","v":0},{"$f":"'SHALA DARPAN DATA'!T314","v":0},{"$f":"'SHALA DARPAN DATA'!V314","v":0},{"$f":"'SHALA DARPAN DATA'!K314","v":0},{"$f":"'SHALA DARPAN DATA'!E314","v":0},{"$f":"'SHALA DARPAN DATA'!G314","v":0},{"$f":"'SHALA DARPAN DATA'!H314","v":0},{"$f":"'SHALA DARPAN DATA'!W314","v":0},{"$f":"'SHALA DARPAN DATA'!R314","v":0},{"$f":"'SHALA DARPAN DATA'!S314","v":0},{"$f":"'SHALA DARPAN DATA'!O314","v":0},0,0,0,0,0,0,0,0,0,0,0]
[{"$f":"'SHALA DARPAN DATA'!C315","v":0},{"$f":"'SHALA DARPAN DATA'!A315","v":0},{"$f":"'SHALA DARPAN DATA'!B315","v":0},{"$f":"'SHALA DARPAN DATA'!D315","v":0},{"$f":"'SHALA DARPAN DATA'!J315","v":0},{"$f":"'SHALA DARPAN DATA'!T315","v":0},{"$f":"'SHALA DARPAN DATA'!V315","v":0},{"$f":"'SHALA DARPAN DATA'!K315","v":0},{"$f":"'SHALA DARPAN DATA'!E315","v":0},{"$f":"'SHALA DARPAN DATA'!G315","v":0},{"$f":"'SHALA DARPAN DATA'!H315","v":0},{"$f":"'SHALA DARPAN DATA'!W315","v":0},{"$f":"'SHALA DARPAN DATA'!R315","v":0},{"$f":"'SHALA DARPAN DATA'!S315","v":0},{"$f":"'SHALA DARPAN DATA'!O315","v":0},0,0,0,0,0,0,0,0,0,0,0]
[{"$f":"'SHALA DARPAN DATA'!C316","v":0},{"$f":"'SHALA DARPAN DATA'!A316","v":0},{"$f":"'SHALA DARPAN DATA'!B316","v":0},{"$f":"'SHALA DARPAN DATA'!D316","v":0},{"$f":"'SHALA DARPAN DATA'!J316","v":0},{"$f":"'SHALA DARPAN DATA'!T316","v":0},{"$f":"'SHALA DARPAN DATA'!V316","v":0},{"$f":"'SHALA DARPAN DATA'!K316","v":0},{"$f":"'SHALA DARPAN DATA'!E316","v":0},{"$f":"'SHALA DARPAN DATA'!G316","v":0},{"$f":"'SHALA DARPAN DATA'!H316","v":0},{"$f":"'SHALA DARPAN DATA'!W316","v":0},{"$f":"'SHALA DARPAN DATA'!R316","v":0},{"$f":"'SHALA DARPAN DATA'!S316","v":0},{"$f":"'SHALA DARPAN DATA'!O316","v":0},0,0,0,0,0,0,0,0,0,0,0]
[{"$f":"'SHALA DARPAN DATA'!C317","v":0},{"$f":"'SHALA DARPAN DATA'!A317","v":0},{"$f":"'SHALA DARPAN DATA'!B317","v":0},{"$f":"'SHALA DARPAN DATA'!D317","v":0},{"$f":"'SHALA DARPAN DATA'!J317","v":0},{"$f":"'SHALA DARPAN DATA'!T317","v":0},{"$f":"'SHALA DARPAN DATA'!V317","v":0},{"$f":"'SHALA DARPAN DATA'!K317","v":0},{"$f":"'SHALA DARPAN DATA'!E317","v":0},{"$f":"'SHALA DARPAN DATA'!G317","v":0},{"$f":"'SHALA DARPAN DATA'!H317","v":0},{"$f":"'SHALA DARPAN DATA'!W317","v":0},{"$f":"'SHALA DARPAN DATA'!R317","v":0},{"$f":"'SHALA DARPAN DATA'!S317","v":0},{"$f":"'SHALA DARPAN DATA'!O317","v":0},0,0,0,0,0,0,0,0,0,0,0]
[{"$f":"'SHALA DARPAN DATA'!C318","v":0},{"$f":"'SHALA DARPAN DATA'!A318","v":0},{"$f":"'SHALA DARPAN DATA'!B318","v":0},{"$f":"'SHALA DARPAN DATA'!D318","v":0},{"$f":"'SHALA DARPAN DATA'!J318","v":0},{"$f":"'SHALA DARPAN DATA'!T318","v":0},{"$f":"'SHALA DARPAN DATA'!V318","v":0},{"$f":"'SHALA DARPAN DATA'!K318","v":0},{"$f":"'SHALA DARPAN DATA'!E318","v":0},{"$f":"'SHALA DARPAN DATA'!G318","v":0},{"$f":"'SHALA DARPAN DATA'!H318","v":0},{"$f":"'SHALA DARPAN DATA'!W318","v":0},{"$f":"'SHALA DARPAN DATA'!R318","v":0},{"$f":"'SHALA DARPAN DATA'!S318","v":0},{"$f":"'SHALA DARPAN DATA'!O318","v":0},0,0,0,0,0,0,0,0,0,0,0]
[{"$f":"'SHALA DARPAN DATA'!C319","v":0},{"$f":"'SHALA DARPAN DATA'!A319","v":0},{"$f":"'SHALA DARPAN DATA'!B319","v":0},{"$f":"'SHALA DARPAN DATA'!D319","v":0},{"$f":"'SHALA DARPAN DATA'!J319","v":0},{"$f":"'SHALA DARPAN DATA'!T319","v":0},{"$f":"'SHALA DARPAN DATA'!V319","v":0},{"$f":"'SHALA DARPAN DATA'!K319","v":0},{"$f":"'SHALA DARPAN DATA'!E319","v":0},{"$f":"'SHALA DARPAN DATA'!G319","v":0},{"$f":"'SHALA DARPAN DATA'!H319","v":0},{"$f":"'SHALA DARPAN DATA'!W319","v":0},{"$f":"'SHALA DARPAN DATA'!R319","v":0},{"$f":"'SHALA DARPAN DATA'!S319","v":0},{"$f":"'SHALA DARPAN DATA'!O319","v":0},0,0,0,0,0,0,0,0,0,0,0]
[{"$f":"'SHALA DARPAN DATA'!C320","v":0},{"$f":"'SHALA DARPAN DATA'!A320","v":0},{"$f":"'SHALA DARPAN DATA'!B320","v":0},{"$f":"'SHALA DARPAN DATA'!D320","v":0},{"$f":"'SHALA DARPAN DATA'!J320","v":0},{"$f":"'SHALA DARPAN DATA'!T320","v":0},{"$f":"'SHALA DARPAN DATA'!V320","v":0},{"$f":"'SHALA DARPAN DATA'!K320","v":0},{"$f":"'SHALA DARPAN DATA'!E320","v":0},{"$f":"'SHALA DARPAN DATA'!G320","v":0},{"$f":"'SHALA DARPAN DATA'!H320","v":0},{"$f":"'SHALA DARPAN DATA'!W320","v":0},{"$f":"'SHALA DARPAN DATA'!R320","v":0},{"$f":"'SHALA DARPAN DATA'!S320","v":0},{"$f":"'SHALA DARPAN DATA'!O320","v":0},0,0,0,0,0,0,0,0,0,0,0]
[{"$f":"'SHALA DARPAN DATA'!C321","v":0},{"$f":"'SHALA DARPAN DATA'!A321","v":0},{"$f":"'SHALA DARPAN DATA'!B321","v":0},{"$f":"'SHALA DARPAN DATA'!D321","v":0},{"$f":"'SHALA DARPAN DATA'!J321","v":0},{"$f":"'SHALA DARPAN DATA'!T321","v":0},{"$f":"'SHALA DARPAN DATA'!V321","v":0},{"$f":"'SHALA DARPAN DATA'!K321","v":0},{"$f":"'SHALA DARPAN DATA'!E321","v":0},{"$f":"'SHALA DARPAN DATA'!G321","v":0},{"$f":"'SHALA DARPAN DATA'!H321","v":0},{"$f":"'SHALA DARPAN DATA'!W321","v":0},{"$f":"'SHALA DARPAN DATA'!R321","v":0},{"$f":"'SHALA DARPAN DATA'!S321","v":0},{"$f":"'SHALA DARPAN DATA'!O321","v":0},0,0,0,0,0,0,0,0,0,0,0]
[{"$f":"'SHALA DARPAN DATA'!C322","v":0},{"$f":"'SHALA DARPAN DATA'!A322","v":0},{"$f":"'SHALA DARPAN DATA'!B322","v":0},{"$f":"'SHALA DARPAN DATA'!D322","v":0},{"$f":"'SHALA DARPAN DATA'!J322","v":0},{"$f":"'SHALA DARPAN DATA'!T322","v":0},{"$f":"'SHALA DARPAN DATA'!V322","v":0},{"$f":"'SHALA DARPAN DATA'!K322","v":0},{"$f":"'SHALA DARPAN DATA'!E322","v":0},{"$f":"'SHALA DARPAN DATA'!G322","v":0},{"$f":"'SHALA DARPAN DATA'!H322","v":0},{"$f":"'SHALA DARPAN DATA'!W322","v":0},{"$f":"'SHALA DARPAN DATA'!R322","v":0},{"$f":"'SHALA DARPAN DATA'!S322","v":0},{"$f":"'SHALA DARPAN DATA'!O322","v":0},0,0,0,0,0,0,0,0,0,0,0]
[{"$f":"'SHALA DARPAN DATA'!C323","v":0},{"$f":"'SHALA DARPAN DATA'!A323","v":0},{"$f":"'SHALA DARPAN DATA'!B323","v":0},{"$f":"'SHALA DARPAN DATA'!D323","v":0},{"$f":"'SHALA DARPAN DATA'!J323","v":0},{"$f":"'SHALA DARPAN DATA'!T323","v":0},{"$f":"'SHALA DARPAN DATA'!V323","v":0},{"$f":"'SHALA DARPAN DATA'!K323","v":0},{"$f":"'SHALA DARPAN DATA'!E323","v":0},{"$f":"'SHALA DARPAN DATA'!G323","v":0},{"$f":"'SHALA DARPAN DATA'!H323","v":0},{"$f":"'SHALA DARPAN DATA'!W323","v":0},{"$f":"'SHALA DARPAN DATA'!R323","v":0},{"$f":"'SHALA DARPAN DATA'!S323","v":0},{"$f":"'SHALA DARPAN DATA'!O323","v":0},0,0,0,0,0,0,0,0,0,0,0]
[{"$f":"'SHALA DARPAN DATA'!C324","v":0},{"$f":"'SHALA DARPAN DATA'!A324","v":0},{"$f":"'SHALA DARPAN DATA'!B324","v":0},{"$f":"'SHALA DARPAN DATA'!D324","v":0},{"$f":"'SHALA DARPAN DATA'!J324","v":0},{"$f":"'SHALA DARPAN DATA'!T324","v":0},{"$f":"'SHALA DARPAN DATA'!V324","v":0},{"$f":"'SHALA DARPAN DATA'!K324","v":0},{"$f":"'SHALA DARPAN DATA'!E324","v":0},{"$f":"'SHALA DARPAN DATA'!G324","v":0},{"$f":"'SHALA DARPAN DATA'!H324","v":0},{"$f":"'SHALA DARPAN DATA'!W324","v":0},{"$f":"'SHALA DARPAN DATA'!R324","v":0},{"$f":"'SHALA DARPAN DATA'!S324","v":0},{"$f":"'SHALA DARPAN DATA'!O324","v":0},0,0,0,0,0,0,0,0,0,0,0]
[{"$f":"'SHALA DARPAN DATA'!C325","v":0},{"$f":"'SHALA DARPAN DATA'!A325","v":0},{"$f":"'SHALA DARPAN DATA'!B325","v":0},{"$f":"'SHALA DARPAN DATA'!D325","v":0},{"$f":"'SHALA DARPAN DATA'!J325","v":0},{"$f":"'SHALA DARPAN DATA'!T325","v":0},{"$f":"'SHALA DARPAN DATA'!V325","v":0},{"$f":"'SHALA DARPAN DATA'!K325","v":0},{"$f":"'SHALA DARPAN DATA'!E325","v":0},{"$f":"'SHALA DARPAN DATA'!G325","v":0},{"$f":"'SHALA DARPAN DATA'!H325","v":0},{"$f":"'SHALA DARPAN DATA'!W325","v":0},{"$f":"'SHALA DARPAN DATA'!R325","v":0},{"$f":"'SHALA DARPAN DATA'!S325","v":0},{"$f":"'SHALA DARPAN DATA'!O325","v":0},0,0,0,0,0,0,0,0,0,0,0]
[{"$f":"'SHALA DARPAN DATA'!C326","v":0},{"$f":"'SHALA DARPAN DATA'!A326","v":0},{"$f":"'SHALA DARPAN DATA'!B326","v":0},{"$f":"'SHALA DARPAN DATA'!D326","v":0},{"$f":"'SHALA DARPAN DATA'!J326","v":0},{"$f":"'SHALA DARPAN DATA'!T326","v":0},{"$f":"'SHALA DARPAN DATA'!V326","v":0},{"$f":"'SHALA DARPAN DATA'!K326","v":0},{"$f":"'SHALA DARPAN DATA'!E326","v":0},{"$f":"'SHALA DARPAN DATA'!G326","v":0},{"$f":"'SHALA DARPAN DATA'!H326","v":0},{"$f":"'SHALA DARPAN DATA'!W326","v":0},{"$f":"'SHALA DARPAN DATA'!R326","v":0},{"$f":"'SHALA DARPAN DATA'!S326","v":0},{"$f":"'SHALA DARPAN DATA'!O326","v":0},0,0,0,0,0,0,0,0,0,0,0]
[{"$f":"'SHALA DARPAN DATA'!C327","v":0},{"$f":"'SHALA DARPAN DATA'!A327","v":0},{"$f":"'SHALA DARPAN DATA'!B327","v":0},{"$f":"'SHALA DARPAN DATA'!D327","v":0},{"$f":"'SHALA DARPAN DATA'!J327","v":0},{"$f":"'SHALA DARPAN DATA'!T327","v":0},{"$f":"'SHALA DARPAN DATA'!V327","v":0},{"$f":"'SHALA DARPAN DATA'!K327","v":0},{"$f":"'SHALA DARPAN DATA'!E327","v":0},{"$f":"'SHALA DARPAN DATA'!G327","v":0},{"$f":"'SHALA DARPAN DATA'!H327","v":0},{"$f":"'SHALA DARPAN DATA'!W327","v":0},{"$f":"'SHALA DARPAN DATA'!R327","v":0},{"$f":"'SHALA DARPAN DATA'!S327","v":0},{"$f":"'SHALA DARPAN DATA'!O327","v":0},0,0,0,0,0,0,0,0,0,0,0]
[{"$f":"'SHALA DARPAN DATA'!C328","v":0},{"$f":"'SHALA DARPAN DATA'!A328","v":0},{"$f":"'SHALA DARPAN DATA'!B328","v":0},{"$f":"'SHALA DARPAN DATA'!D328","v":0},{"$f":"'SHALA DARPAN DATA'!J328","v":0},{"$f":"'SHALA DARPAN DATA'!T328","v":0},{"$f":"'SHALA DARPAN DATA'!V328","v":0},{"$f":"'SHALA DARPAN DATA'!K328","v":0},{"$f":"'SHALA DARPAN DATA'!E328","v":0},{"$f":"'SHALA DARPAN DATA'!G328","v":0},{"$f":"'SHALA DARPAN DATA'!H328","v":0},{"$f":"'SHALA DARPAN DATA'!W328","v":0},{"$f":"'SHALA DARPAN DATA'!R328","v":0},{"$f":"'SHALA DARPAN DATA'!S328","v":0},{"$f":"'SHALA DARPAN DATA'!O328","v":0},0,0,0,0,0,0,0,0,0,0,0]
[{"$f":"'SHALA DARPAN DATA'!C329","v":0},{"$f":"'SHALA DARPAN DATA'!A329","v":0},{"$f":"'SHALA DARPAN DATA'!B329","v":0},{"$f":"'SHALA DARPAN DATA'!D329","v":0},{"$f":"'SHALA DARPAN DATA'!J329","v":0},{"$f":"'SHALA DARPAN DATA'!T329","v":0},{"$f":"'SHALA DARPAN DATA'!V329","v":0},{"$f":"'SHALA DARPAN DATA'!K329","v":0},{"$f":"'SHALA DARPAN DATA'!E329","v":0},{"$f":"'SHALA DARPAN DATA'!G329","v":0},{"$f":"'SHALA DARPAN DATA'!H329","v":0},{"$f":"'SHALA DARPAN DATA'!W329","v":0},{"$f":"'SHALA DARPAN DATA'!R329","v":0},{"$f":"'SHALA DARPAN DATA'!S329","v":0},{"$f":"'SHALA DARPAN DATA'!O329","v":0},0,0,0,0,0,0,0,0,0,0,0]
[{"$f":"'SHALA DARPAN DATA'!C330","v":0},{"$f":"'SHALA DARPAN DATA'!A330","v":0},{"$f":"'SHALA DARPAN DATA'!B330","v":0},{"$f":"'SHALA DARPAN DATA'!D330","v":0},{"$f":"'SHALA DARPAN DATA'!J330","v":0},{"$f":"'SHALA DARPAN DATA'!T330","v":0},{"$f":"'SHALA DARPAN DATA'!V330","v":0},{"$f":"'SHALA DARPAN DATA'!K330","v":0},{"$f":"'SHALA DARPAN DATA'!E330","v":0},{"$f":"'SHALA DARPAN DATA'!G330","v":0},{"$f":"'SHALA DARPAN DATA'!H330","v":0},{"$f":"'SHALA DARPAN DATA'!W330","v":0},{"$f":"'SHALA DARPAN DATA'!R330","v":0},{"$f":"'SHALA DARPAN DATA'!S330","v":0},{"$f":"'SHALA DARPAN DATA'!O330","v":0},0,0,0,0,0,0,0,0,0,0,0]
[{"$f":"'SHALA DARPAN DATA'!C331","v":0},{"$f":"'SHALA DARPAN DATA'!A331","v":0},{"$f":"'SHALA DARPAN DATA'!B331","v":0},{"$f":"'SHALA DARPAN DATA'!D331","v":0},{"$f":"'SHALA DARPAN DATA'!J331","v":0},{"$f":"'SHALA DARPAN DATA'!T331","v":0},{"$f":"'SHALA DARPAN DATA'!V331","v":0},{"$f":"'SHALA DARPAN DATA'!K331","v":0},{"$f":"'SHALA DARPAN DATA'!E331","v":0},{"$f":"'SHALA DARPAN DATA'!G331","v":0},{"$f":"'SHALA DARPAN DATA'!H331","v":0},{"$f":"'SHALA DARPAN DATA'!W331","v":0},{"$f":"'SHALA DARPAN DATA'!R331","v":0},{"$f":"'SHALA DARPAN DATA'!S331","v":0},{"$f":"'SHALA DARPAN DATA'!O331","v":0},0,0,0,0,0,0,0,0,0,0,0]
[{"$f":"'SHALA DARPAN DATA'!C332","v":0},{"$f":"'SHALA DARPAN DATA'!A332","v":0},{"$f":"'SHALA DARPAN DATA'!B332","v":0},{"$f":"'SHALA DARPAN DATA'!D332","v":0},{"$f":"'SHALA DARPAN DATA'!J332","v":0},{"$f":"'SHALA DARPAN DATA'!T332","v":0},{"$f":"'SHALA DARPAN DATA'!V332","v":0},{"$f":"'SHALA DARPAN DATA'!K332","v":0},{"$f":"'SHALA DARPAN DATA'!E332","v":0},{"$f":"'SHALA DARPAN DATA'!G332","v":0},{"$f":"'SHALA DARPAN DATA'!H332","v":0},{"$f":"'SHALA DARPAN DATA'!W332","v":0},{"$f":"'SHALA DARPAN DATA'!R332","v":0},{"$f":"'SHALA DARPAN DATA'!S332","v":0},{"$f":"'SHALA DARPAN DATA'!O332","v":0},0,0,0,0,0,0,0,0,0,0,0]
[{"$f":"'SHALA DARPAN DATA'!C333","v":0},{"$f":"'SHALA DARPAN DATA'!A333","v":0},{"$f":"'SHALA DARPAN DATA'!B333","v":0},{"$f":"'SHALA DARPAN DATA'!D333","v":0},{"$f":"'SHALA DARPAN DATA'!J333","v":0},{"$f":"'SHALA DARPAN DATA'!T333","v":0},{"$f":"'SHALA DARPAN DATA'!V333","v":0},{"$f":"'SHALA DARPAN DATA'!K333","v":0},{"$f":"'SHALA DARPAN DATA'!E333","v":0},{"$f":"'SHALA DARPAN DATA'!G333","v":0},{"$f":"'SHALA DARPAN DATA'!H333","v":0},{"$f":"'SHALA DARPAN DATA'!W333","v":0},{"$f":"'SHALA DARPAN DATA'!R333","v":0},{"$f":"'SHALA DARPAN DATA'!S333","v":0},{"$f":"'SHALA DARPAN DATA'!O333","v":0},0,0,0,0,0,0,0,0,0,0,0]
[{"$f":"'SHALA DARPAN DATA'!C334","v":0},{"$f":"'SHALA DARPAN DATA'!A334","v":0},{"$f":"'SHALA DARPAN DATA'!B334","v":0},{"$f":"'SHALA DARPAN DATA'!D334","v":0},{"$f":"'SHALA DARPAN DATA'!J334","v":0},{"$f":"'SHALA DARPAN DATA'!T334","v":0},{"$f":"'SHALA DARPAN DATA'!V334","v":0},{"$f":"'SHALA DARPAN DATA'!K334","v":0},{"$f":"'SHALA DARPAN DATA'!E334","v":0},{"$f":"'SHALA DARPAN DATA'!G334","v":0},{"$f":"'SHALA DARPAN DATA'!H334","v":0},{"$f":"'SHALA DARPAN DATA'!W334","v":0},{"$f":"'SHALA DARPAN DATA'!R334","v":0},{"$f":"'SHALA DARPAN DATA'!S334","v":0},{"$f":"'SHALA DARPAN DATA'!O334","v":0},0,0,0,0,0,0,0,0,0,0,0]
[{"$f":"'SHALA DARPAN DATA'!C335","v":0},{"$f":"'SHALA DARPAN DATA'!A335","v":0},{"$f":"'SHALA DARPAN DATA'!B335","v":0},{"$f":"'SHALA DARPAN DATA'!D335","v":0},{"$f":"'SHALA DARPAN DATA'!J335","v":0},{"$f":"'SHALA DARPAN DATA'!T335","v":0},{"$f":"'SHALA DARPAN DATA'!V335","v":0},{"$f":"'SHALA DARPAN DATA'!K335","v":0},{"$f":"'SHALA DARPAN DATA'!E335","v":0},{"$f":"'SHALA DARPAN DATA'!G335","v":0},{"$f":"'SHALA DARPAN DATA'!H335","v":0},{"$f":"'SHALA DARPAN DATA'!W335","v":0},{"$f":"'SHALA DARPAN DATA'!R335","v":0},{"$f":"'SHALA DARPAN DATA'!S335","v":0},{"$f":"'SHALA DARPAN DATA'!O335","v":0},0,0,0,0,0,0,0,0,0,0,0]
[{"$f":"'SHALA DARPAN DATA'!C336","v":0},{"$f":"'SHALA DARPAN DATA'!A336","v":0},{"$f":"'SHALA DARPAN DATA'!B336","v":0},{"$f":"'SHALA DARPAN DATA'!D336","v":0},{"$f":"'SHALA DARPAN DATA'!J336","v":0},{"$f":"'SHALA DARPAN DATA'!T336","v":0},{"$f":"'SHALA DARPAN DATA'!V336","v":0},{"$f":"'SHALA DARPAN DATA'!K336","v":0},{"$f":"'SHALA DARPAN DATA'!E336","v":0},{"$f":"'SHALA DARPAN DATA'!G336","v":0},{"$f":"'SHALA DARPAN DATA'!H336","v":0},{"$f":"'SHALA DARPAN DATA'!W336","v":0},{"$f":"'SHALA DARPAN DATA'!R336","v":0},{"$f":"'SHALA DARPAN DATA'!S336","v":0},{"$f":"'SHALA DARPAN DATA'!O336","v":0},0,0,0,0,0,0,0,0,0,0,0]
[{"$f":"'SHALA DARPAN DATA'!C337","v":0},{"$f":"'SHALA DARPAN DATA'!A337","v":0},{"$f":"'SHALA DARPAN DATA'!B337","v":0},{"$f":"'SHALA DARPAN DATA'!D337","v":0},{"$f":"'SHALA DARPAN DATA'!J337","v":0},{"$f":"'SHALA DARPAN DATA'!T337","v":0},{"$f":"'SHALA DARPAN DATA'!V337","v":0},{"$f":"'SHALA DARPAN DATA'!K337","v":0},{"$f":"'SHALA DARPAN DATA'!E337","v":0},{"$f":"'SHALA DARPAN DATA'!G337","v":0},{"$f":"'SHALA DARPAN DATA'!H337","v":0},{"$f":"'SHALA DARPAN DATA'!W337","v":0},{"$f":"'SHALA DARPAN DATA'!R337","v":0},{"$f":"'SHALA DARPAN DATA'!S337","v":0},{"$f":"'SHALA DARPAN DATA'!O337","v":0},0,0,0,0,0,0,0,0,0,0,0]
[{"$f":"'SHALA DARPAN DATA'!C338","v":0},{"$f":"'SHALA DARPAN DATA'!A338","v":0},{"$f":"'SHALA DARPAN DATA'!B338","v":0},{"$f":"'SHALA DARPAN DATA'!D338","v":0},{"$f":"'SHALA DARPAN DATA'!J338","v":0},{"$f":"'SHALA DARPAN DATA'!T338","v":0},{"$f":"'SHALA DARPAN DATA'!V338","v":0},{"$f":"'SHALA DARPAN DATA'!K338","v":0},{"$f":"'SHALA DARPAN DATA'!E338","v":0},{"$f":"'SHALA DARPAN DATA'!G338","v":0},{"$f":"'SHALA DARPAN DATA'!H338","v":0},{"$f":"'SHALA DARPAN DATA'!W338","v":0},{"$f":"'SHALA DARPAN DATA'!R338","v":0},{"$f":"'SHALA DARPAN DATA'!S338","v":0},{"$f":"'SHALA DARPAN DATA'!O338","v":0},0,0,0,0,0,0,0,0,0,0,0]
[{"$f":"'SHALA DARPAN DATA'!C339","v":0},{"$f":"'SHALA DARPAN DATA'!A339","v":0},{"$f":"'SHALA DARPAN DATA'!B339","v":0},{"$f":"'SHALA DARPAN DATA'!D339","v":0},{"$f":"'SHALA DARPAN DATA'!J339","v":0},{"$f":"'SHALA DARPAN DATA'!T339","v":0},{"$f":"'SHALA DARPAN DATA'!V339","v":0},{"$f":"'SHALA DARPAN DATA'!K339","v":0},{"$f":"'SHALA DARPAN DATA'!E339","v":0},{"$f":"'SHALA DARPAN DATA'!G339","v":0},{"$f":"'SHALA DARPAN DATA'!H339","v":0},{"$f":"'SHALA DARPAN DATA'!W339","v":0},{"$f":"'SHALA DARPAN DATA'!R339","v":0},{"$f":"'SHALA DARPAN DATA'!S339","v":0},{"$f":"'SHALA DARPAN DATA'!O339","v":0},0,0,0,0,0,0,0,0,0,0,0]
[{"$f":"'SHALA DARPAN DATA'!C340","v":0},{"$f":"'SHALA DARPAN DATA'!A340","v":0},{"$f":"'SHALA DARPAN DATA'!B340","v":0},{"$f":"'SHALA DARPAN DATA'!D340","v":0},{"$f":"'SHALA DARPAN DATA'!J340","v":0},{"$f":"'SHALA DARPAN DATA'!T340","v":0},{"$f":"'SHALA DARPAN DATA'!V340","v":0},{"$f":"'SHALA DARPAN DATA'!K340","v":0},{"$f":"'SHALA DARPAN DATA'!E340","v":0},{"$f":"'SHALA DARPAN DATA'!G340","v":0},{"$f":"'SHALA DARPAN DATA'!H340","v":0},{"$f":"'SHALA DARPAN DATA'!W340","v":0},{"$f":"'SHALA DARPAN DATA'!R340","v":0},{"$f":"'SHALA DARPAN DATA'!S340","v":0},{"$f":"'SHALA DARPAN DATA'!O340","v":0},0,0,0,0,0,0,0,0,0,0,0]
[{"$f":"'SHALA DARPAN DATA'!C341","v":0},{"$f":"'SHALA DARPAN DATA'!A341","v":0},{"$f":"'SHALA DARPAN DATA'!B341","v":0},{"$f":"'SHALA DARPAN DATA'!D341","v":0},{"$f":"'SHALA DARPAN DATA'!J341","v":0},{"$f":"'SHALA DARPAN DATA'!T341","v":0},{"$f":"'SHALA DARPAN DATA'!V341","v":0},{"$f":"'SHALA DARPAN DATA'!K341","v":0},{"$f":"'SHALA DARPAN DATA'!E341","v":0},{"$f":"'SHALA DARPAN DATA'!G341","v":0},{"$f":"'SHALA DARPAN DATA'!H341","v":0},{"$f":"'SHALA DARPAN DATA'!W341","v":0},{"$f":"'SHALA DARPAN DATA'!R341","v":0},{"$f":"'SHALA DARPAN DATA'!S341","v":0},{"$f":"'SHALA DARPAN DATA'!O341","v":0},0,0,0,0,0,0,0,0,0,0,0]
[{"$f":"'SHALA DARPAN DATA'!C342","v":0},{"$f":"'SHALA DARPAN DATA'!A342","v":0},{"$f":"'SHALA DARPAN DATA'!B342","v":0},{"$f":"'SHALA DARPAN DATA'!D342","v":0},{"$f":"'SHALA DARPAN DATA'!J342","v":0},{"$f":"'SHALA DARPAN DATA'!T342","v":0},{"$f":"'SHALA DARPAN DATA'!V342","v":0},{"$f":"'SHALA DARPAN DATA'!K342","v":0},{"$f":"'SHALA DARPAN DATA'!E342","v":0},{"$f":"'SHALA DARPAN DATA'!G342","v":0},{"$f":"'SHALA DARPAN DATA'!H342","v":0},{"$f":"'SHALA DARPAN DATA'!W342","v":0},{"$f":"'SHALA DARPAN DATA'!R342","v":0},{"$f":"'SHALA DARPAN DATA'!S342","v":0},{"$f":"'SHALA DARPAN DATA'!O342","v":0},0,0,0,0,0,0,0,0,0,0,0]
[{"$f":"'SHALA DARPAN DATA'!C343","v":0},{"$f":"'SHALA DARPAN DATA'!A343","v":0},{"$f":"'SHALA DARPAN DATA'!B343","v":0},{"$f":"'SHALA DARPAN DATA'!D343","v":0},{"$f":"'SHALA DARPAN DATA'!J343","v":0},{"$f":"'SHALA DARPAN DATA'!T343","v":0},{"$f":"'SHALA DARPAN DATA'!V343","v":0},{"$f":"'SHALA DARPAN DATA'!K343","v":0},{"$f":"'SHALA DARPAN DATA'!E343","v":0},{"$f":"'SHALA DARPAN DATA'!G343","v":0},{"$f":"'SHALA DARPAN DATA'!H343","v":0},{"$f":"'SHALA DARPAN DATA'!W343","v":0},{"$f":"'SHALA DARPAN DATA'!R343","v":0},{"$f":"'SHALA DARPAN DATA'!S343","v":0},{"$f":"'SHALA DARPAN DATA'!O343","v":0},0,0,0,0,0,0,0,0,0,0,0]
[{"$f":"'SHALA DARPAN DATA'!C344","v":0},{"$f":"'SHALA DARPAN DATA'!A344","v":0},{"$f":"'SHALA DARPAN DATA'!B344","v":0},{"$f":"'SHALA DARPAN DATA'!D344","v":0},{"$f":"'SHALA DARPAN DATA'!J344","v":0},{"$f":"'SHALA DARPAN DATA'!T344","v":0},{"$f":"'SHALA DARPAN DATA'!V344","v":0},{"$f":"'SHALA DARPAN DATA'!K344","v":0},{"$f":"'SHALA DARPAN DATA'!E344","v":0},{"$f":"'SHALA DARPAN DATA'!G344","v":0},{"$f":"'SHALA DARPAN DATA'!H344","v":0},{"$f":"'SHALA DARPAN DATA'!W344","v":0},{"$f":"'SHALA DARPAN DATA'!R344","v":0},{"$f":"'SHALA DARPAN DATA'!S344","v":0},{"$f":"'SHALA DARPAN DATA'!O344","v":0},0,0,0,0,0,0,0,0,0,0,0]
[{"$f":"'SHALA DARPAN DATA'!C345","v":0},{"$f":"'SHALA DARPAN DATA'!A345","v":0},{"$f":"'SHALA DARPAN DATA'!B345","v":0},{"$f":"'SHALA DARPAN DATA'!D345","v":0},{"$f":"'SHALA DARPAN DATA'!J345","v":0},{"$f":"'SHALA DARPAN DATA'!T345","v":0},{"$f":"'SHALA DARPAN DATA'!V345","v":0},{"$f":"'SHALA DARPAN DATA'!K345","v":0},{"$f":"'SHALA DARPAN DATA'!E345","v":0},{"$f":"'SHALA DARPAN DATA'!G345","v":0},{"$f":"'SHALA DARPAN DATA'!H345","v":0},{"$f":"'SHALA DARPAN DATA'!W345","v":0},{"$f":"'SHALA DARPAN DATA'!R345","v":0},{"$f":"'SHALA DARPAN DATA'!S345","v":0},{"$f":"'SHALA DARPAN DATA'!O345","v":0},0,0,0,0,0,0,0,0,0,0,0]
[{"$f":"'SHALA DARPAN DATA'!C346","v":0},{"$f":"'SHALA DARPAN DATA'!A346","v":0},{"$f":"'SHALA DARPAN DATA'!B346","v":0},{"$f":"'SHALA DARPAN DATA'!D346","v":0},{"$f":"'SHALA DARPAN DATA'!J346","v":0},{"$f":"'SHALA DARPAN DATA'!T346","v":0},{"$f":"'SHALA DARPAN DATA'!V346","v":0},{"$f":"'SHALA DARPAN DATA'!K346","v":0},{"$f":"'SHALA DARPAN DATA'!E346","v":0},{"$f":"'SHALA DARPAN DATA'!G346","v":0},{"$f":"'SHALA DARPAN DATA'!H346","v":0},{"$f":"'SHALA DARPAN DATA'!W346","v":0},{"$f":"'SHALA DARPAN DATA'!R346","v":0},{"$f":"'SHALA DARPAN DATA'!S346","v":0},{"$f":"'SHALA DARPAN DATA'!O346","v":0},0,0,0,0,0,0,0,0,0,0,0]
[{"$f":"'SHALA DARPAN DATA'!C347","v":0},{"$f":"'SHALA DARPAN DATA'!A347","v":0},{"$f":"'SHALA DARPAN DATA'!B347","v":0},{"$f":"'SHALA DARPAN DATA'!D347","v":0},{"$f":"'SHALA DARPAN DATA'!J347","v":0},{"$f":"'SHALA DARPAN DATA'!T347","v":0},{"$f":"'SHALA DARPAN DATA'!V347","v":0},{"$f":"'SHALA DARPAN DATA'!K347","v":0},{"$f":"'SHALA DARPAN DATA'!E347","v":0},{"$f":"'SHALA DARPAN DATA'!G347","v":0},{"$f":"'SHALA DARPAN DATA'!H347","v":0},{"$f":"'SHALA DARPAN DATA'!W347","v":0},{"$f":"'SHALA DARPAN DATA'!R347","v":0},{"$f":"'SHALA DARPAN DATA'!S347","v":0},{"$f":"'SHALA DARPAN DATA'!O347","v":0},0,0,0,0,0,0,0,0,0,0,0]
[{"$f":"'SHALA DARPAN DATA'!C348","v":0},{"$f":"'SHALA DARPAN DATA'!A348","v":0},{"$f":"'SHALA DARPAN DATA'!B348","v":0},{"$f":"'SHALA DARPAN DATA'!D348","v":0},{"$f":"'SHALA DARPAN DATA'!J348","v":0},{"$f":"'SHALA DARPAN DATA'!T348","v":0},{"$f":"'SHALA DARPAN DATA'!V348","v":0},{"$f":"'SHALA DARPAN DATA'!K348","v":0},{"$f":"'SHALA DARPAN DATA'!E348","v":0},{"$f":"'SHALA DARPAN DATA'!G348","v":0},{"$f":"'SHALA DARPAN DATA'!H348","v":0},{"$f":"'SHALA DARPAN DATA'!W348","v":0},{"$f":"'SHALA DARPAN DATA'!R348","v":0},{"$f":"'SHALA DARPAN DATA'!S348","v":0},{"$f":"'SHALA DARPAN DATA'!O348","v":0},0,0,0,0,0,0,0,0,0,0,0]
[{"$f":"'SHALA DARPAN DATA'!C349","v":0},{"$f":"'SHALA DARPAN DATA'!A349","v":0},{"$f":"'SHALA DARPAN DATA'!B349","v":0},{"$f":"'SHALA DARPAN DATA'!D349","v":0},{"$f":"'SHALA DARPAN DATA'!J349","v":0},{"$f":"'SHALA DARPAN DATA'!T349","v":0},{"$f":"'SHALA DARPAN DATA'!V349","v":0},{"$f":"'SHALA DARPAN DATA'!K349","v":0},{"$f":"'SHALA DARPAN DATA'!E349","v":0},{"$f":"'SHALA DARPAN DATA'!G349","v":0},{"$f":"'SHALA DARPAN DATA'!H349","v":0},{"$f":"'SHALA DARPAN DATA'!W349","v":0},{"$f":"'SHALA DARPAN DATA'!R349","v":0},{"$f":"'SHALA DARPAN DATA'!S349","v":0},{"$f":"'SHALA DARPAN DATA'!O349","v":0},0,0,0,0,0,0,0,0,0,0,0]
[{"$f":"'SHALA DARPAN DATA'!C350","v":0},{"$f":"'SHALA DARPAN DATA'!A350","v":0},{"$f":"'SHALA DARPAN DATA'!B350","v":0},{"$f":"'SHALA DARPAN DATA'!D350","v":0},{"$f":"'SHALA DARPAN DATA'!J350","v":0},{"$f":"'SHALA DARPAN DATA'!T350","v":0},{"$f":"'SHALA DARPAN DATA'!V350","v":0},{"$f":"'SHALA DARPAN DATA'!K350","v":0},{"$f":"'SHALA DARPAN DATA'!E350","v":0},{"$f":"'SHALA DARPAN DATA'!G350","v":0},{"$f":"'SHALA DARPAN DATA'!H350","v":0},{"$f":"'SHALA DARPAN DATA'!W350","v":0},{"$f":"'SHALA DARPAN DATA'!R350","v":0},{"$f":"'SHALA DARPAN DATA'!S350","v":0},{"$f":"'SHALA DARPAN DATA'!O350","v":0},0,0,0,0,0,0,0,0,0,0,0]
[{"$f":"'SHALA DARPAN DATA'!C351","v":0},{"$f":"'SHALA DARPAN DATA'!A351","v":0},{"$f":"'SHALA DARPAN DATA'!B351","v":0},{"$f":"'SHALA DARPAN DATA'!D351","v":0},{"$f":"'SHALA DARPAN DATA'!J351","v":0},{"$f":"'SHALA DARPAN DATA'!T351","v":0},{"$f":"'SHALA DARPAN DATA'!V351","v":0},{"$f":"'SHALA DARPAN DATA'!K351","v":0},{"$f":"'SHALA DARPAN DATA'!E351","v":0},{"$f":"'SHALA DARPAN DATA'!G351","v":0},{"$f":"'SHALA DARPAN DATA'!H351","v":0},{"$f":"'SHALA DARPAN DATA'!W351","v":0},{"$f":"'SHALA DARPAN DATA'!R351","v":0},{"$f":"'SHALA DARPAN DATA'!S351","v":0},{"$f":"'SHALA DARPAN DATA'!O351","v":0},0,0,0,0,0,0,0,0,0,0,0]
[{"$f":"'SHALA DARPAN DATA'!C352","v":0},{"$f":"'SHALA DARPAN DATA'!A352","v":0},{"$f":"'SHALA DARPAN DATA'!B352","v":0},{"$f":"'SHALA DARPAN DATA'!D352","v":0},{"$f":"'SHALA DARPAN DATA'!J352","v":0},{"$f":"'SHALA DARPAN DATA'!T352","v":0},{"$f":"'SHALA DARPAN DATA'!V352","v":0},{"$f":"'SHALA DARPAN DATA'!K352","v":0},{"$f":"'SHALA DARPAN DATA'!E352","v":0},{"$f":"'SHALA DARPAN DATA'!G352","v":0},{"$f":"'SHALA DARPAN DATA'!H352","v":0},{"$f":"'SHALA DARPAN DATA'!W352","v":0},{"$f":"'SHALA DARPAN DATA'!R352","v":0},{"$f":"'SHALA DARPAN DATA'!S352","v":0},{"$f":"'SHALA DARPAN DATA'!O352","v":0},0,0,0,0,0,0,0,0,0,0,0]
[{"$f":"'SHALA DARPAN DATA'!C353","v":0},{"$f":"'SHALA DARPAN DATA'!A353","v":0},{"$f":"'SHALA DARPAN DATA'!B353","v":0},{"$f":"'SHALA DARPAN DATA'!D353","v":0},{"$f":"'SHALA DARPAN DATA'!J353","v":0},{"$f":"'SHALA DARPAN DATA'!T353","v":0},{"$f":"'SHALA DARPAN DATA'!V353","v":0},{"$f":"'SHALA DARPAN DATA'!K353","v":0},{"$f":"'SHALA DARPAN DATA'!E353","v":0},{"$f":"'SHALA DARPAN DATA'!G353","v":0},{"$f":"'SHALA DARPAN DATA'!H353","v":0},{"$f":"'SHALA DARPAN DATA'!W353","v":0},{"$f":"'SHALA DARPAN DATA'!R353","v":0},{"$f":"'SHALA DARPAN DATA'!S353","v":0},{"$f":"'SHALA DARPAN DATA'!O353","v":0},0,0,0,0,0,0,0,0,0,0,0]
[{"$f":"'SHALA DARPAN DATA'!C354","v":0},{"$f":"'SHALA DARPAN DATA'!A354","v":0},{"$f":"'SHALA DARPAN DATA'!B354","v":0},{"$f":"'SHALA DARPAN DATA'!D354","v":0},{"$f":"'SHALA DARPAN DATA'!J354","v":0},{"$f":"'SHALA DARPAN DATA'!T354","v":0},{"$f":"'SHALA DARPAN DATA'!V354","v":0},{"$f":"'SHALA DARPAN DATA'!K354","v":0},{"$f":"'SHALA DARPAN DATA'!E354","v":0},{"$f":"'SHALA DARPAN DATA'!G354","v":0},{"$f":"'SHALA DARPAN DATA'!H354","v":0},{"$f":"'SHALA DARPAN DATA'!W354","v":0},{"$f":"'SHALA DARPAN DATA'!R354","v":0},{"$f":"'SHALA DARPAN DATA'!S354","v":0},{"$f":"'SHALA DARPAN DATA'!O354","v":0},0,0,0,0,0,0,0,0,0,0,0]
[{"$f":"'SHALA DARPAN DATA'!C355","v":0},{"$f":"'SHALA DARPAN DATA'!A355","v":0},{"$f":"'SHALA DARPAN DATA'!B355","v":0},{"$f":"'SHALA DARPAN DATA'!D355","v":0},{"$f":"'SHALA DARPAN DATA'!J355","v":0},{"$f":"'SHALA DARPAN DATA'!T355","v":0},{"$f":"'SHALA DARPAN DATA'!V355","v":0},{"$f":"'SHALA DARPAN DATA'!K355","v":0},{"$f":"'SHALA DARPAN DATA'!E355","v":0},{"$f":"'SHALA DARPAN DATA'!G355","v":0},{"$f":"'SHALA DARPAN DATA'!H355","v":0},{"$f":"'SHALA DARPAN DATA'!W355","v":0},{"$f":"'SHALA DARPAN DATA'!R355","v":0},{"$f":"'SHALA DARPAN DATA'!S355","v":0},{"$f":"'SHALA DARPAN DATA'!O355","v":0},0,0,0,0,0,0,0,0,0,0,0]
[{"$f":"'SHALA DARPAN DATA'!C356","v":0},{"$f":"'SHALA DARPAN DATA'!A356","v":0},{"$f":"'SHALA DARPAN DATA'!B356","v":0},{"$f":"'SHALA DARPAN DATA'!D356","v":0},{"$f":"'SHALA DARPAN DATA'!J356","v":0},{"$f":"'SHALA DARPAN DATA'!T356","v":0},{"$f":"'SHALA DARPAN DATA'!V356","v":0},{"$f":"'SHALA DARPAN DATA'!K356","v":0},{"$f":"'SHALA DARPAN DATA'!E356","v":0},{"$f":"'SHALA DARPAN DATA'!G356","v":0},{"$f":"'SHALA DARPAN DATA'!H356","v":0},{"$f":"'SHALA DARPAN DATA'!W356","v":0},{"$f":"'SHALA DARPAN DATA'!R356","v":0},{"$f":"'SHALA DARPAN DATA'!S356","v":0},{"$f":"'SHALA DARPAN DATA'!O356","v":0},0,0,0,0,0,0,0,0,0,0,0]
[{"$f":"'SHALA DARPAN DATA'!C357","v":0},{"$f":"'SHALA DARPAN DATA'!A357","v":0},{"$f":"'SHALA DARPAN DATA'!B357","v":0},{"$f":"'SHALA DARPAN DATA'!D357","v":0},{"$f":"'SHALA DARPAN DATA'!J357","v":0},{"$f":"'SHALA DARPAN DATA'!T357","v":0},{"$f":"'SHALA DARPAN DATA'!V357","v":0},{"$f":"'SHALA DARPAN DATA'!K357","v":0},{"$f":"'SHALA DARPAN DATA'!E357","v":0},{"$f":"'SHALA DARPAN DATA'!G357","v":0},{"$f":"'SHALA DARPAN DATA'!H357","v":0},{"$f":"'SHALA DARPAN DATA'!W357","v":0},{"$f":"'SHALA DARPAN DATA'!R357","v":0},{"$f":"'SHALA DARPAN DATA'!S357","v":0},{"$f":"'SHALA DARPAN DATA'!O357","v":0},0,0,0,0,0,0,0,0,0,0,0]
[{"$f":"'SHALA DARPAN DATA'!C358","v":0},{"$f":"'SHALA DARPAN DATA'!A358","v":0},{"$f":"'SHALA DARPAN DATA'!B358","v":0},{"$f":"'SHALA DARPAN DATA'!D358","v":0},{"$f":"'SHALA DARPAN DATA'!J358","v":0},{"$f":"'SHALA DARPAN DATA'!T358","v":0},{"$f":"'SHALA DARPAN DATA'!V358","v":0},{"$f":"'SHALA DARPAN DATA'!K358","v":0},{"$f":"'SHALA DARPAN DATA'!E358","v":0},{"$f":"'SHALA DARPAN DATA'!G358","v":0},{"$f":"'SHALA DARPAN DATA'!H358","v":0},{"$f":"'SHALA DARPAN DATA'!W358","v":0},{"$f":"'SHALA DARPAN DATA'!R358","v":0},{"$f":"'SHALA DARPAN DATA'!S358","v":0},{"$f":"'SHALA DARPAN DATA'!O358","v":0},0,0,0,0,0,0,0,0,0,0,0]
[{"$f":"'SHALA DARPAN DATA'!C359","v":0},{"$f":"'SHALA DARPAN DATA'!A359","v":0},{"$f":"'SHALA DARPAN DATA'!B359","v":0},{"$f":"'SHALA DARPAN DATA'!D359","v":0},{"$f":"'SHALA DARPAN DATA'!J359","v":0},{"$f":"'SHALA DARPAN DATA'!T359","v":0},{"$f":"'SHALA DARPAN DATA'!V359","v":0},{"$f":"'SHALA DARPAN DATA'!K359","v":0},{"$f":"'SHALA DARPAN DATA'!E359","v":0},{"$f":"'SHALA DARPAN DATA'!G359","v":0},{"$f":"'SHALA DARPAN DATA'!H359","v":0},{"$f":"'SHALA DARPAN DATA'!W359","v":0},{"$f":"'SHALA DARPAN DATA'!R359","v":0},{"$f":"'SHALA DARPAN DATA'!S359","v":0},{"$f":"'SHALA DARPAN DATA'!O359","v":0},0,0,0,0,0,0,0,0,0,0,0]
[{"$f":"'SHALA DARPAN DATA'!C360","v":0},{"$f":"'SHALA DARPAN DATA'!A360","v":0},{"$f":"'SHALA DARPAN DATA'!B360","v":0},{"$f":"'SHALA DARPAN DATA'!D360","v":0},{"$f":"'SHALA DARPAN DATA'!J360","v":0},{"$f":"'SHALA DARPAN DATA'!T360","v":0},{"$f":"'SHALA DARPAN DATA'!V360","v":0},{"$f":"'SHALA DARPAN DATA'!K360","v":0},{"$f":"'SHALA DARPAN DATA'!E360","v":0},{"$f":"'SHALA DARPAN DATA'!G360","v":0},{"$f":"'SHALA DARPAN DATA'!H360","v":0},{"$f":"'SHALA DARPAN DATA'!W360","v":0},{"$f":"'SHALA DARPAN DATA'!R360","v":0},{"$f":"'SHALA DARPAN DATA'!S360","v":0},{"$f":"'SHALA DARPAN DATA'!O360","v":0},0,0,0,0,0,0,0,0,0,0,0]
[{"$f":"'SHALA DARPAN DATA'!C361","v":0},{"$f":"'SHALA DARPAN DATA'!A361","v":0},{"$f":"'SHALA DARPAN DATA'!B361","v":0},{"$f":"'SHALA DARPAN DATA'!D361","v":0},{"$f":"'SHALA DARPAN DATA'!J361","v":0},{"$f":"'SHALA DARPAN DATA'!T361","v":0},{"$f":"'SHALA DARPAN DATA'!V361","v":0},{"$f":"'SHALA DARPAN DATA'!K361","v":0},{"$f":"'SHALA DARPAN DATA'!E361","v":0},{"$f":"'SHALA DARPAN DATA'!G361","v":0},{"$f":"'SHALA DARPAN DATA'!H361","v":0},{"$f":"'SHALA DARPAN DATA'!W361","v":0},{"$f":"'SHALA DARPAN DATA'!R361","v":0},{"$f":"'SHALA DARPAN DATA'!S361","v":0},{"$f":"'SHALA DARPAN DATA'!O361","v":0},0,0,0,0,0,0,0,0,0,0,0]
[{"$f":"'SHALA DARPAN DATA'!C362","v":0},{"$f":"'SHALA DARPAN DATA'!A362","v":0},{"$f":"'SHALA DARPAN DATA'!B362","v":0},{"$f":"'SHALA DARPAN DATA'!D362","v":0},{"$f":"'SHALA DARPAN DATA'!J362","v":0},{"$f":"'SHALA DARPAN DATA'!T362","v":0},{"$f":"'SHALA DARPAN DATA'!V362","v":0},{"$f":"'SHALA DARPAN DATA'!K362","v":0},{"$f":"'SHALA DARPAN DATA'!E362","v":0},{"$f":"'SHALA DARPAN DATA'!G362","v":0},{"$f":"'SHALA DARPAN DATA'!H362","v":0},{"$f":"'SHALA DARPAN DATA'!W362","v":0},{"$f":"'SHALA DARPAN DATA'!R362","v":0},{"$f":"'SHALA DARPAN DATA'!S362","v":0},{"$f":"'SHALA DARPAN DATA'!O362","v":0},0,0,0,0,0,0,0,0,0,0,0]
[{"$f":"'SHALA DARPAN DATA'!C363","v":0},{"$f":"'SHALA DARPAN DATA'!A363","v":0},{"$f":"'SHALA DARPAN DATA'!B363","v":0},{"$f":"'SHALA DARPAN DATA'!D363","v":0},{"$f":"'SHALA DARPAN DATA'!J363","v":0},{"$f":"'SHALA DARPAN DATA'!T363","v":0},{"$f":"'SHALA DARPAN DATA'!V363","v":0},{"$f":"'SHALA DARPAN DATA'!K363","v":0},{"$f":"'SHALA DARPAN DATA'!E363","v":0},{"$f":"'SHALA DARPAN DATA'!G363","v":0},{"$f":"'SHALA DARPAN DATA'!H363","v":0},{"$f":"'SHALA DARPAN DATA'!W363","v":0},{"$f":"'SHALA DARPAN DATA'!R363","v":0},{"$f":"'SHALA DARPAN DATA'!S363","v":0},{"$f":"'SHALA DARPAN DATA'!O363","v":0},0,0,0,0,0,0,0,0,0,0,0]
[{"$f":"'SHALA DARPAN DATA'!C364","v":0},{"$f":"'SHALA DARPAN DATA'!A364","v":0},{"$f":"'SHALA DARPAN DATA'!B364","v":0},{"$f":"'SHALA DARPAN DATA'!D364","v":0},{"$f":"'SHALA DARPAN DATA'!J364","v":0},{"$f":"'SHALA DARPAN DATA'!T364","v":0},{"$f":"'SHALA DARPAN DATA'!V364","v":0},{"$f":"'SHALA DARPAN DATA'!K364","v":0},{"$f":"'SHALA DARPAN DATA'!E364","v":0},{"$f":"'SHALA DARPAN DATA'!G364","v":0},{"$f":"'SHALA DARPAN DATA'!H364","v":0},{"$f":"'SHALA DARPAN DATA'!W364","v":0},{"$f":"'SHALA DARPAN DATA'!R364","v":0},{"$f":"'SHALA DARPAN DATA'!S364","v":0},{"$f":"'SHALA DARPAN DATA'!O364","v":0},0,0,0,0,0,0,0,0,0,0,0]
[{"$f":"'SHALA DARPAN DATA'!C365","v":0},{"$f":"'SHALA DARPAN DATA'!A365","v":0},{"$f":"'SHALA DARPAN DATA'!B365","v":0},{"$f":"'SHALA DARPAN DATA'!D365","v":0},{"$f":"'SHALA DARPAN DATA'!J365","v":0},{"$f":"'SHALA DARPAN DATA'!T365","v":0},{"$f":"'SHALA DARPAN DATA'!V365","v":0},{"$f":"'SHALA DARPAN DATA'!K365","v":0},{"$f":"'SHALA DARPAN DATA'!E365","v":0},{"$f":"'SHALA DARPAN DATA'!G365","v":0},{"$f":"'SHALA DARPAN DATA'!H365","v":0},{"$f":"'SHALA DARPAN DATA'!W365","v":0},{"$f":"'SHALA DARPAN DATA'!R365","v":0},{"$f":"'SHALA DARPAN DATA'!S365","v":0},{"$f":"'SHALA DARPAN DATA'!O365","v":0},0,0,0,0,0,0,0,0,0,0,0]
[{"$f":"'SHALA DARPAN DATA'!C366","v":0},{"$f":"'SHALA DARPAN DATA'!A366","v":0},{"$f":"'SHALA DARPAN DATA'!B366","v":0},{"$f":"'SHALA DARPAN DATA'!D366","v":0},{"$f":"'SHALA DARPAN DATA'!J366","v":0},{"$f":"'SHALA DARPAN DATA'!T366","v":0},{"$f":"'SHALA DARPAN DATA'!V366","v":0},{"$f":"'SHALA DARPAN DATA'!K366","v":0},{"$f":"'SHALA DARPAN DATA'!E366","v":0},{"$f":"'SHALA DARPAN DATA'!G366","v":0},{"$f":"'SHALA DARPAN DATA'!H366","v":0},{"$f":"'SHALA DARPAN DATA'!W366","v":0},{"$f":"'SHALA DARPAN DATA'!R366","v":0},{"$f":"'SHALA DARPAN DATA'!S366","v":0},{"$f":"'SHALA DARPAN DATA'!O366","v":0},0,0,0,0,0,0,0,0,0,0,0]
[{"$f":"'SHALA DARPAN DATA'!C367","v":0},{"$f":"'SHALA DARPAN DATA'!A367","v":0},{"$f":"'SHALA DARPAN DATA'!B367","v":0},{"$f":"'SHALA DARPAN DATA'!D367","v":0},{"$f":"'SHALA DARPAN DATA'!J367","v":0},{"$f":"'SHALA DARPAN DATA'!T367","v":0},{"$f":"'SHALA DARPAN DATA'!V367","v":0},{"$f":"'SHALA DARPAN DATA'!K367","v":0},{"$f":"'SHALA DARPAN DATA'!E367","v":0},{"$f":"'SHALA DARPAN DATA'!G367","v":0},{"$f":"'SHALA DARPAN DATA'!H367","v":0},{"$f":"'SHALA DARPAN DATA'!W367","v":0},{"$f":"'SHALA DARPAN DATA'!R367","v":0},{"$f":"'SHALA DARPAN DATA'!S367","v":0},{"$f":"'SHALA DARPAN DATA'!O367","v":0},0,0,0,0,0,0,0,0,0,0,0]
[{"$f":"'SHALA DARPAN DATA'!C368","v":0},{"$f":"'SHALA DARPAN DATA'!A368","v":0},{"$f":"'SHALA DARPAN DATA'!B368","v":0},{"$f":"'SHALA DARPAN DATA'!D368","v":0},{"$f":"'SHALA DARPAN DATA'!J368","v":0},{"$f":"'SHALA DARPAN DATA'!T368","v":0},{"$f":"'SHALA DARPAN DATA'!V368","v":0},{"$f":"'SHALA DARPAN DATA'!K368","v":0},{"$f":"'SHALA DARPAN DATA'!E368","v":0},{"$f":"'SHALA DARPAN DATA'!G368","v":0},{"$f":"'SHALA DARPAN DATA'!H368","v":0},{"$f":"'SHALA DARPAN DATA'!W368","v":0},{"$f":"'SHALA DARPAN DATA'!R368","v":0},{"$f":"'SHALA DARPAN DATA'!S368","v":0},{"$f":"'SHALA DARPAN DATA'!O368","v":0},0,0,0,0,0,0,0,0,0,0,0]
[{"$f":"'SHALA DARPAN DATA'!C369","v":0},{"$f":"'SHALA DARPAN DATA'!A369","v":0},{"$f":"'SHALA DARPAN DATA'!B369","v":0},{"$f":"'SHALA DARPAN DATA'!D369","v":0},{"$f":"'SHALA DARPAN DATA'!J369","v":0},{"$f":"'SHALA DARPAN DATA'!T369","v":0},{"$f":"'SHALA DARPAN DATA'!V369","v":0},{"$f":"'SHALA DARPAN DATA'!K369","v":0},{"$f":"'SHALA DARPAN DATA'!E369","v":0},{"$f":"'SHALA DARPAN DATA'!G369","v":0},{"$f":"'SHALA DARPAN DATA'!H369","v":0},{"$f":"'SHALA DARPAN DATA'!W369","v":0},{"$f":"'SHALA DARPAN DATA'!R369","v":0},{"$f":"'SHALA DARPAN DATA'!S369","v":0},{"$f":"'SHALA DARPAN DATA'!O369","v":0},0,0,0,0,0,0,0,0,0,0,0]
[{"$f":"'SHALA DARPAN DATA'!C370","v":0},{"$f":"'SHALA DARPAN DATA'!A370","v":0},{"$f":"'SHALA DARPAN DATA'!B370","v":0},{"$f":"'SHALA DARPAN DATA'!D370","v":0},{"$f":"'SHALA DARPAN DATA'!J370","v":0},{"$f":"'SHALA DARPAN DATA'!T370","v":0},{"$f":"'SHALA DARPAN DATA'!V370","v":0},{"$f":"'SHALA DARPAN DATA'!K370","v":0},{"$f":"'SHALA DARPAN DATA'!E370","v":0},{"$f":"'SHALA DARPAN DATA'!G370","v":0},{"$f":"'SHALA DARPAN DATA'!H370","v":0},{"$f":"'SHALA DARPAN DATA'!W370","v":0},{"$f":"'SHALA DARPAN DATA'!R370","v":0},{"$f":"'SHALA DARPAN DATA'!S370","v":0},{"$f":"'SHALA DARPAN DATA'!O370","v":0},0,0,0,0,0,0,0,0,0,0,0]
[{"$f":"'SHALA DARPAN DATA'!C371","v":0},{"$f":"'SHALA DARPAN DATA'!A371","v":0},{"$f":"'SHALA DARPAN DATA'!B371","v":0},{"$f":"'SHALA DARPAN DATA'!D371","v":0},{"$f":"'SHALA DARPAN DATA'!J371","v":0},{"$f":"'SHALA DARPAN DATA'!T371","v":0},{"$f":"'SHALA DARPAN DATA'!V371","v":0},{"$f":"'SHALA DARPAN DATA'!K371","v":0},{"$f":"'SHALA DARPAN DATA'!E371","v":0},{"$f":"'SHALA DARPAN DATA'!G371","v":0},{"$f":"'SHALA DARPAN DATA'!H371","v":0},{"$f":"'SHALA DARPAN DATA'!W371","v":0},{"$f":"'SHALA DARPAN DATA'!R371","v":0},{"$f":"'SHALA DARPAN DATA'!S371","v":0},{"$f":"'SHALA DARPAN DATA'!O371","v":0},0,0,0,0,0,0,0,0,0,0,0]
[{"$f":"'SHALA DARPAN DATA'!C372","v":0},{"$f":"'SHALA DARPAN DATA'!A372","v":0},{"$f":"'SHALA DARPAN DATA'!B372","v":0},{"$f":"'SHALA DARPAN DATA'!D372","v":0},{"$f":"'SHALA DARPAN DATA'!J372","v":0},{"$f":"'SHALA DARPAN DATA'!T372","v":0},{"$f":"'SHALA DARPAN DATA'!V372","v":0},{"$f":"'SHALA DARPAN DATA'!K372","v":0},{"$f":"'SHALA DARPAN DATA'!E372","v":0},{"$f":"'SHALA DARPAN DATA'!G372","v":0},{"$f":"'SHALA DARPAN DATA'!H372","v":0},{"$f":"'SHALA DARPAN DATA'!W372","v":0},{"$f":"'SHALA DARPAN DATA'!R372","v":0},{"$f":"'SHALA DARPAN DATA'!S372","v":0},{"$f":"'SHALA DARPAN DATA'!O372","v":0},0,0,0,0,0,0,0,0,0,0,0]
[{"$f":"'SHALA DARPAN DATA'!C373","v":0},{"$f":"'SHALA DARPAN DATA'!A373","v":0},{"$f":"'SHALA DARPAN DATA'!B373","v":0},{"$f":"'SHALA DARPAN DATA'!D373","v":0},{"$f":"'SHALA DARPAN DATA'!J373","v":0},{"$f":"'SHALA DARPAN DATA'!T373","v":0},{"$f":"'SHALA DARPAN DATA'!V373","v":0},{"$f":"'SHALA DARPAN DATA'!K373","v":0},{"$f":"'SHALA DARPAN DATA'!E373","v":0},{"$f":"'SHALA DARPAN DATA'!G373","v":0},{"$f":"'SHALA DARPAN DATA'!H373","v":0},{"$f":"'SHALA DARPAN DATA'!W373","v":0},{"$f":"'SHALA DARPAN DATA'!R373","v":0},{"$f":"'SHALA DARPAN DATA'!S373","v":0},{"$f":"'SHALA DARPAN DATA'!O373","v":0},0,0,0,0,0,0,0,0,0,0,0]
[{"$f":"'SHALA DARPAN DATA'!C374","v":0},{"$f":"'SHALA DARPAN DATA'!A374","v":0},{"$f":"'SHALA DARPAN DATA'!B374","v":0},{"$f":"'SHALA DARPAN DATA'!D374","v":0},{"$f":"'SHALA DARPAN DATA'!J374","v":0},{"$f":"'SHALA DARPAN DATA'!T374","v":0},{"$f":"'SHALA DARPAN DATA'!V374","v":0},{"$f":"'SHALA DARPAN DATA'!K374","v":0},{"$f":"'SHALA DARPAN DATA'!E374","v":0},{"$f":"'SHALA DARPAN DATA'!G374","v":0},{"$f":"'SHALA DARPAN DATA'!H374","v":0},{"$f":"'SHALA DARPAN DATA'!W374","v":0},{"$f":"'SHALA DARPAN DATA'!R374","v":0},{"$f":"'SHALA DARPAN DATA'!S374","v":0},{"$f":"'SHALA DARPAN DATA'!O374","v":0},0,0,0,0,0,0,0,0,0,0,0]
[{"$f":"'SHALA DARPAN DATA'!C375","v":0},{"$f":"'SHALA DARPAN DATA'!A375","v":0},{"$f":"'SHALA DARPAN DATA'!B375","v":0},{"$f":"'SHALA DARPAN DATA'!D375","v":0},{"$f":"'SHALA DARPAN DATA'!J375","v":0},{"$f":"'SHALA DARPAN DATA'!T375","v":0},{"$f":"'SHALA DARPAN DATA'!V375","v":0},{"$f":"'SHALA DARPAN DATA'!K375","v":0},{"$f":"'SHALA DARPAN DATA'!E375","v":0},{"$f":"'SHALA DARPAN DATA'!G375","v":0},{"$f":"'SHALA DARPAN DATA'!H375","v":0},{"$f":"'SHALA DARPAN DATA'!W375","v":0},{"$f":"'SHALA DARPAN DATA'!R375","v":0},{"$f":"'SHALA DARPAN DATA'!S375","v":0},{"$f":"'SHALA DARPAN DATA'!O375","v":0},0,0,0,0,0,0,0,0,0,0,0]
[{"$f":"'SHALA DARPAN DATA'!C376","v":0},{"$f":"'SHALA DARPAN DATA'!A376","v":0},{"$f":"'SHALA DARPAN DATA'!B376","v":0},{"$f":"'SHALA DARPAN DATA'!D376","v":0},{"$f":"'SHALA DARPAN DATA'!J376","v":0},{"$f":"'SHALA DARPAN DATA'!T376","v":0},{"$f":"'SHALA DARPAN DATA'!V376","v":0},{"$f":"'SHALA DARPAN DATA'!K376","v":0},{"$f":"'SHALA DARPAN DATA'!E376","v":0},{"$f":"'SHALA DARPAN DATA'!G376","v":0},{"$f":"'SHALA DARPAN DATA'!H376","v":0},{"$f":"'SHALA DARPAN DATA'!W376","v":0},{"$f":"'SHALA DARPAN DATA'!R376","v":0},{"$f":"'SHALA DARPAN DATA'!S376","v":0},{"$f":"'SHALA DARPAN DATA'!O376","v":0},0,0,0,0,0,0,0,0,0,0,0]
[{"$f":"'SHALA DARPAN DATA'!C377","v":0},{"$f":"'SHALA DARPAN DATA'!A377","v":0},{"$f":"'SHALA DARPAN DATA'!B377","v":0},{"$f":"'SHALA DARPAN DATA'!D377","v":0},{"$f":"'SHALA DARPAN DATA'!J377","v":0},{"$f":"'SHALA DARPAN DATA'!T377","v":0},{"$f":"'SHALA DARPAN DATA'!V377","v":0},{"$f":"'SHALA DARPAN DATA'!K377","v":0},{"$f":"'SHALA DARPAN DATA'!E377","v":0},{"$f":"'SHALA DARPAN DATA'!G377","v":0},{"$f":"'SHALA DARPAN DATA'!H377","v":0},{"$f":"'SHALA DARPAN DATA'!W377","v":0},{"$f":"'SHALA DARPAN DATA'!R377","v":0},{"$f":"'SHALA DARPAN DATA'!S377","v":0},{"$f":"'SHALA DARPAN DATA'!O377","v":0},0,0,0,0,0,0,0,0,0,0,0]
[{"$f":"'SHALA DARPAN DATA'!C378","v":0},{"$f":"'SHALA DARPAN DATA'!A378","v":0},{"$f":"'SHALA DARPAN DATA'!B378","v":0},{"$f":"'SHALA DARPAN DATA'!D378","v":0},{"$f":"'SHALA DARPAN DATA'!J378","v":0},{"$f":"'SHALA DARPAN DATA'!T378","v":0},{"$f":"'SHALA DARPAN DATA'!V378","v":0},{"$f":"'SHALA DARPAN DATA'!K378","v":0},{"$f":"'SHALA DARPAN DATA'!E378","v":0},{"$f":"'SHALA DARPAN DATA'!G378","v":0},{"$f":"'SHALA DARPAN DATA'!H378","v":0},{"$f":"'SHALA DARPAN DATA'!W378","v":0},{"$f":"'SHALA DARPAN DATA'!R378","v":0},{"$f":"'SHALA DARPAN DATA'!S378","v":0},{"$f":"'SHALA DARPAN DATA'!O378","v":0},0,0,0,0,0,0,0,0,0,0,0]
[{"$f":"'SHALA DARPAN DATA'!C379","v":0},{"$f":"'SHALA DARPAN DATA'!A379","v":0},{"$f":"'SHALA DARPAN DATA'!B379","v":0},{"$f":"'SHALA DARPAN DATA'!D379","v":0},{"$f":"'SHALA DARPAN DATA'!J379","v":0},{"$f":"'SHALA DARPAN DATA'!T379","v":0},{"$f":"'SHALA DARPAN DATA'!V379","v":0},{"$f":"'SHALA DARPAN DATA'!K379","v":0},{"$f":"'SHALA DARPAN DATA'!E379","v":0},{"$f":"'SHALA DARPAN DATA'!G379","v":0},{"$f":"'SHALA DARPAN DATA'!H379","v":0},{"$f":"'SHALA DARPAN DATA'!W379","v":0},{"$f":"'SHALA DARPAN DATA'!R379","v":0},{"$f":"'SHALA DARPAN DATA'!S379","v":0},{"$f":"'SHALA DARPAN DATA'!O379","v":0},0,0,0,0,0,0,0,0,0,0,0]
[{"$f":"'SHALA DARPAN DATA'!C380","v":0},{"$f":"'SHALA DARPAN DATA'!A380","v":0},{"$f":"'SHALA DARPAN DATA'!B380","v":0},{"$f":"'SHALA DARPAN DATA'!D380","v":0},{"$f":"'SHALA DARPAN DATA'!J380","v":0},{"$f":"'SHALA DARPAN DATA'!T380","v":0},{"$f":"'SHALA DARPAN DATA'!V380","v":0},{"$f":"'SHALA DARPAN DATA'!K380","v":0},{"$f":"'SHALA DARPAN DATA'!E380","v":0},{"$f":"'SHALA DARPAN DATA'!G380","v":0},{"$f":"'SHALA DARPAN DATA'!H380","v":0},{"$f":"'SHALA DARPAN DATA'!W380","v":0},{"$f":"'SHALA DARPAN DATA'!R380","v":0},{"$f":"'SHALA DARPAN DATA'!S380","v":0},{"$f":"'SHALA DARPAN DATA'!O380","v":0},0,0,0,0,0,0,0,0,0,0,0]
[{"$f":"'SHALA DARPAN DATA'!C381","v":0},{"$f":"'SHALA DARPAN DATA'!A381","v":0},{"$f":"'SHALA DARPAN DATA'!B381","v":0},{"$f":"'SHALA DARPAN DATA'!D381","v":0},{"$f":"'SHALA DARPAN DATA'!J381","v":0},{"$f":"'SHALA DARPAN DATA'!T381","v":0},{"$f":"'SHALA DARPAN DATA'!V381","v":0},{"$f":"'SHALA DARPAN DATA'!K381","v":0},{"$f":"'SHALA DARPAN DATA'!E381","v":0},{"$f":"'SHALA DARPAN DATA'!G381","v":0},{"$f":"'SHALA DARPAN DATA'!H381","v":0},{"$f":"'SHALA DARPAN DATA'!W381","v":0},{"$f":"'SHALA DARPAN DATA'!R381","v":0},{"$f":"'SHALA DARPAN DATA'!S381","v":0},{"$f":"'SHALA DARPAN DATA'!O381","v":0},0,0,0,0,0,0,0,0,0,0,0]
[{"$f":"'SHALA DARPAN DATA'!C382","v":0},{"$f":"'SHALA DARPAN DATA'!A382","v":0},{"$f":"'SHALA DARPAN DATA'!B382","v":0},{"$f":"'SHALA DARPAN DATA'!D382","v":0},{"$f":"'SHALA DARPAN DATA'!J382","v":0},{"$f":"'SHALA DARPAN DATA'!T382","v":0},{"$f":"'SHALA DARPAN DATA'!V382","v":0},{"$f":"'SHALA DARPAN DATA'!K382","v":0},{"$f":"'SHALA DARPAN DATA'!E382","v":0},{"$f":"'SHALA DARPAN DATA'!G382","v":0},{"$f":"'SHALA DARPAN DATA'!H382","v":0},{"$f":"'SHALA DARPAN DATA'!W382","v":0},{"$f":"'SHALA DARPAN DATA'!R382","v":0},{"$f":"'SHALA DARPAN DATA'!S382","v":0},{"$f":"'SHALA DARPAN DATA'!O382","v":0},0,0,0,0,0,0,0,0,0,0,0]
[{"$f":"'SHALA DARPAN DATA'!C383","v":0},{"$f":"'SHALA DARPAN DATA'!A383","v":0},{"$f":"'SHALA DARPAN DATA'!B383","v":0},{"$f":"'SHALA DARPAN DATA'!D383","v":0},{"$f":"'SHALA DARPAN DATA'!J383","v":0},{"$f":"'SHALA DARPAN DATA'!T383","v":0},{"$f":"'SHALA DARPAN DATA'!V383","v":0},{"$f":"'SHALA DARPAN DATA'!K383","v":0},{"$f":"'SHALA DARPAN DATA'!E383","v":0},{"$f":"'SHALA DARPAN DATA'!G383","v":0},{"$f":"'SHALA DARPAN DATA'!H383","v":0},{"$f":"'SHALA DARPAN DATA'!W383","v":0},{"$f":"'SHALA DARPAN DATA'!R383","v":0},{"$f":"'SHALA DARPAN DATA'!S383","v":0},{"$f":"'SHALA DARPAN DATA'!O383","v":0},0,0,0,0,0,0,0,0,0,0,0]
[{"$f":"'SHALA DARPAN DATA'!C384","v":0},{"$f":"'SHALA DARPAN DATA'!A384","v":0},{"$f":"'SHALA DARPAN DATA'!B384","v":0},{"$f":"'SHALA DARPAN DATA'!D384","v":0},{"$f":"'SHALA DARPAN DATA'!J384","v":0},{"$f":"'SHALA DARPAN DATA'!T384","v":0},{"$f":"'SHALA DARPAN DATA'!V384","v":0},{"$f":"'SHALA DARPAN DATA'!K384","v":0},{"$f":"'SHALA DARPAN DATA'!E384","v":0},{"$f":"'SHALA DARPAN DATA'!G384","v":0},{"$f":"'SHALA DARPAN DATA'!H384","v":0},{"$f":"'SHALA DARPAN DATA'!W384","v":0},{"$f":"'SHALA DARPAN DATA'!R384","v":0},{"$f":"'SHALA DARPAN DATA'!S384","v":0},{"$f":"'SHALA DARPAN DATA'!O384","v":0},0,0,0,0,0,0,0,0,0,0,0]
[{"$f":"'SHALA DARPAN DATA'!C385","v":0},{"$f":"'SHALA DARPAN DATA'!A385","v":0},{"$f":"'SHALA DARPAN DATA'!B385","v":0},{"$f":"'SHALA DARPAN DATA'!D385","v":0},{"$f":"'SHALA DARPAN DATA'!J385","v":0},{"$f":"'SHALA DARPAN DATA'!T385","v":0},{"$f":"'SHALA DARPAN DATA'!V385","v":0},{"$f":"'SHALA DARPAN DATA'!K385","v":0},{"$f":"'SHALA DARPAN DATA'!E385","v":0},{"$f":"'SHALA DARPAN DATA'!G385","v":0},{"$f":"'SHALA DARPAN DATA'!H385","v":0},{"$f":"'SHALA DARPAN DATA'!W385","v":0},{"$f":"'SHALA DARPAN DATA'!R385","v":0},{"$f":"'SHALA DARPAN DATA'!S385","v":0},{"$f":"'SHALA DARPAN DATA'!O385","v":0},0,0,0,0,0,0,0,0,0,0,0]
[{"$f":"'SHALA DARPAN DATA'!C386","v":0},{"$f":"'SHALA DARPAN DATA'!A386","v":0},{"$f":"'SHALA DARPAN DATA'!B386","v":0},{"$f":"'SHALA DARPAN DATA'!D386","v":0},{"$f":"'SHALA DARPAN DATA'!J386","v":0},{"$f":"'SHALA DARPAN DATA'!T386","v":0},{"$f":"'SHALA DARPAN DATA'!V386","v":0},{"$f":"'SHALA DARPAN DATA'!K386","v":0},{"$f":"'SHALA DARPAN DATA'!E386","v":0},{"$f":"'SHALA DARPAN DATA'!G386","v":0},{"$f":"'SHALA DARPAN DATA'!H386","v":0},{"$f":"'SHALA DARPAN DATA'!W386","v":0},{"$f":"'SHALA DARPAN DATA'!R386","v":0},{"$f":"'SHALA DARPAN DATA'!S386","v":0},{"$f":"'SHALA DARPAN DATA'!O386","v":0},0,0,0,0,0,0,0,0,0,0,0]
[{"$f":"'SHALA DARPAN DATA'!C387","v":0},{"$f":"'SHALA DARPAN DATA'!A387","v":0},{"$f":"'SHALA DARPAN DATA'!B387","v":0},{"$f":"'SHALA DARPAN DATA'!D387","v":0},{"$f":"'SHALA DARPAN DATA'!J387","v":0},{"$f":"'SHALA DARPAN DATA'!T387","v":0},{"$f":"'SHALA DARPAN DATA'!V387","v":0},{"$f":"'SHALA DARPAN DATA'!K387","v":0},{"$f":"'SHALA DARPAN DATA'!E387","v":0},{"$f":"'SHALA DARPAN DATA'!G387","v":0},{"$f":"'SHALA DARPAN DATA'!H387","v":0},{"$f":"'SHALA DARPAN DATA'!W387","v":0},{"$f":"'SHALA DARPAN DATA'!R387","v":0},{"$f":"'SHALA DARPAN DATA'!S387","v":0},{"$f":"'SHALA DARPAN DATA'!O387","v":0},0,0,0,0,0,0,0,0,0,0,0]
[{"$f":"'SHALA DARPAN DATA'!C388","v":0},{"$f":"'SHALA DARPAN DATA'!A388","v":0},{"$f":"'SHALA DARPAN DATA'!B388","v":0},{"$f":"'SHALA DARPAN DATA'!D388","v":0},{"$f":"'SHALA DARPAN DATA'!J388","v":0},{"$f":"'SHALA DARPAN DATA'!T388","v":0},{"$f":"'SHALA DARPAN DATA'!V388","v":0},{"$f":"'SHALA DARPAN DATA'!K388","v":0},{"$f":"'SHALA DARPAN DATA'!E388","v":0},{"$f":"'SHALA DARPAN DATA'!G388","v":0},{"$f":"'SHALA DARPAN DATA'!H388","v":0},{"$f":"'SHALA DARPAN DATA'!W388","v":0},{"$f":"'SHALA DARPAN DATA'!R388","v":0},{"$f":"'SHALA DARPAN DATA'!S388","v":0},{"$f":"'SHALA DARPAN DATA'!O388","v":0},0,0,0,0,0,0,0,0,0,0,0]
[{"$f":"'SHALA DARPAN DATA'!C389","v":0},{"$f":"'SHALA DARPAN DATA'!A389","v":0},{"$f":"'SHALA DARPAN DATA'!B389","v":0},{"$f":"'SHALA DARPAN DATA'!D389","v":0},{"$f":"'SHALA DARPAN DATA'!J389","v":0},{"$f":"'SHALA DARPAN DATA'!T389","v":0},{"$f":"'SHALA DARPAN DATA'!V389","v":0},{"$f":"'SHALA DARPAN DATA'!K389","v":0},{"$f":"'SHALA DARPAN DATA'!E389","v":0},{"$f":"'SHALA DARPAN DATA'!G389","v":0},{"$f":"'SHALA DARPAN DATA'!H389","v":0},{"$f":"'SHALA DARPAN DATA'!W389","v":0},{"$f":"'SHALA DARPAN DATA'!R389","v":0},{"$f":"'SHALA DARPAN DATA'!S389","v":0},{"$f":"'SHALA DARPAN DATA'!O389","v":0},0,0,0,0,0,0,0,0,0,0,0]
[{"$f":"'SHALA DARPAN DATA'!C390","v":0},{"$f":"'SHALA DARPAN DATA'!A390","v":0},{"$f":"'SHALA DARPAN DATA'!B390","v":0},{"$f":"'SHALA DARPAN DATA'!D390","v":0},{"$f":"'SHALA DARPAN DATA'!J390","v":0},{"$f":"'SHALA DARPAN DATA'!T390","v":0},{"$f":"'SHALA DARPAN DATA'!V390","v":0},{"$f":"'SHALA DARPAN DATA'!K390","v":0},{"$f":"'SHALA DARPAN DATA'!E390","v":0},{"$f":"'SHALA DARPAN DATA'!G390","v":0},{"$f":"'SHALA DARPAN DATA'!H390","v":0},{"$f":"'SHALA DARPAN DATA'!W390","v":0},{"$f":"'SHALA DARPAN DATA'!R390","v":0},{"$f":"'SHALA DARPAN DATA'!S390","v":0},{"$f":"'SHALA DARPAN DATA'!O390","v":0},0,0,0,0,0,0,0,0,0,0,0]
[{"$f":"'SHALA DARPAN DATA'!C391","v":0},{"$f":"'SHALA DARPAN DATA'!A391","v":0},{"$f":"'SHALA DARPAN DATA'!B391","v":0},{"$f":"'SHALA DARPAN DATA'!D391","v":0},{"$f":"'SHALA DARPAN DATA'!J391","v":0},{"$f":"'SHALA DARPAN DATA'!T391","v":0},{"$f":"'SHALA DARPAN DATA'!V391","v":0},{"$f":"'SHALA DARPAN DATA'!K391","v":0},{"$f":"'SHALA DARPAN DATA'!E391","v":0},{"$f":"'SHALA DARPAN DATA'!G391","v":0},{"$f":"'SHALA DARPAN DATA'!H391","v":0},{"$f":"'SHALA DARPAN DATA'!W391","v":0},{"$f":"'SHALA DARPAN DATA'!R391","v":0},{"$f":"'SHALA DARPAN DATA'!S391","v":0},{"$f":"'SHALA DARPAN DATA'!O391","v":0},0,0,0,0,0,0,0,0,0,0,0]
[{"$f":"'SHALA DARPAN DATA'!C392","v":0},{"$f":"'SHALA DARPAN DATA'!A392","v":0},{"$f":"'SHALA DARPAN DATA'!B392","v":0},{"$f":"'SHALA DARPAN DATA'!D392","v":0},{"$f":"'SHALA DARPAN DATA'!J392","v":0},{"$f":"'SHALA DARPAN DATA'!T392","v":0},{"$f":"'SHALA DARPAN DATA'!V392","v":0},{"$f":"'SHALA DARPAN DATA'!K392","v":0},{"$f":"'SHALA DARPAN DATA'!E392","v":0},{"$f":"'SHALA DARPAN DATA'!G392","v":0},{"$f":"'SHALA DARPAN DATA'!H392","v":0},{"$f":"'SHALA DARPAN DATA'!W392","v":0},{"$f":"'SHALA DARPAN DATA'!R392","v":0},{"$f":"'SHALA DARPAN DATA'!S392","v":0},{"$f":"'SHALA DARPAN DATA'!O392","v":0},0,0,0,0,0,0,0,0,0,0,0]
[{"$f":"'SHALA DARPAN DATA'!C393","v":0},{"$f":"'SHALA DARPAN DATA'!A393","v":0},{"$f":"'SHALA DARPAN DATA'!B393","v":0},{"$f":"'SHALA DARPAN DATA'!D393","v":0},{"$f":"'SHALA DARPAN DATA'!J393","v":0},{"$f":"'SHALA DARPAN DATA'!T393","v":0},{"$f":"'SHALA DARPAN DATA'!V393","v":0},{"$f":"'SHALA DARPAN DATA'!K393","v":0},{"$f":"'SHALA DARPAN DATA'!E393","v":0},{"$f":"'SHALA DARPAN DATA'!G393","v":0},{"$f":"'SHALA DARPAN DATA'!H393","v":0},{"$f":"'SHALA DARPAN DATA'!W393","v":0},{"$f":"'SHALA DARPAN DATA'!R393","v":0},{"$f":"'SHALA DARPAN DATA'!S393","v":0},{"$f":"'SHALA DARPAN DATA'!O393","v":0},0,0,0,0,0,0,0,0,0,0,0]
[{"$f":"'SHALA DARPAN DATA'!C394","v":0},{"$f":"'SHALA DARPAN DATA'!A394","v":0},{"$f":"'SHALA DARPAN DATA'!B394","v":0},{"$f":"'SHALA DARPAN DATA'!D394","v":0},{"$f":"'SHALA DARPAN DATA'!J394","v":0},{"$f":"'SHALA DARPAN DATA'!T394","v":0},{"$f":"'SHALA DARPAN DATA'!V394","v":0},{"$f":"'SHALA DARPAN DATA'!K394","v":0},{"$f":"'SHALA DARPAN DATA'!E394","v":0},{"$f":"'SHALA DARPAN DATA'!G394","v":0},{"$f":"'SHALA DARPAN DATA'!H394","v":0},{"$f":"'SHALA DARPAN DATA'!W394","v":0},{"$f":"'SHALA DARPAN DATA'!R394","v":0},{"$f":"'SHALA DARPAN DATA'!S394","v":0},{"$f":"'SHALA DARPAN DATA'!O394","v":0},0,0,0,0,0,0,0,0,0,0,0]
[{"$f":"'SHALA DARPAN DATA'!C395","v":0},{"$f":"'SHALA DARPAN DATA'!A395","v":0},{"$f":"'SHALA DARPAN DATA'!B395","v":0},{"$f":"'SHALA DARPAN DATA'!D395","v":0},{"$f":"'SHALA DARPAN DATA'!J395","v":0},{"$f":"'SHALA DARPAN DATA'!T395","v":0},{"$f":"'SHALA DARPAN DATA'!V395","v":0},{"$f":"'SHALA DARPAN DATA'!K395","v":0},{"$f":"'SHALA DARPAN DATA'!E395","v":0},{"$f":"'SHALA DARPAN DATA'!G395","v":0},{"$f":"'SHALA DARPAN DATA'!H395","v":0},{"$f":"'SHALA DARPAN DATA'!W395","v":0},{"$f":"'SHALA DARPAN DATA'!R395","v":0},{"$f":"'SHALA DARPAN DATA'!S395","v":0},{"$f":"'SHALA DARPAN DATA'!O395","v":0},0,0,0,0,0,0,0,0,0,0,0]
[{"$f":"'SHALA DARPAN DATA'!C396","v":0},{"$f":"'SHALA DARPAN DATA'!A396","v":0},{"$f":"'SHALA DARPAN DATA'!B396","v":0},{"$f":"'SHALA DARPAN DATA'!D396","v":0},{"$f":"'SHALA DARPAN DATA'!J396","v":0},{"$f":"'SHALA DARPAN DATA'!T396","v":0},{"$f":"'SHALA DARPAN DATA'!V396","v":0},{"$f":"'SHALA DARPAN DATA'!K396","v":0},{"$f":"'SHALA DARPAN DATA'!E396","v":0},{"$f":"'SHALA DARPAN DATA'!G396","v":0},{"$f":"'SHALA DARPAN DATA'!H396","v":0},{"$f":"'SHALA DARPAN DATA'!W396","v":0},{"$f":"'SHALA DARPAN DATA'!R396","v":0},{"$f":"'SHALA DARPAN DATA'!S396","v":0},{"$f":"'SHALA DARPAN DATA'!O396","v":0},0,0,0,0,0,0,0,0,0,0,0]
[{"$f":"'SHALA DARPAN DATA'!C397","v":0},{"$f":"'SHALA DARPAN DATA'!A397","v":0},{"$f":"'SHALA DARPAN DATA'!B397","v":0},{"$f":"'SHALA DARPAN DATA'!D397","v":0},{"$f":"'SHALA DARPAN DATA'!J397","v":0},{"$f":"'SHALA DARPAN DATA'!T397","v":0},{"$f":"'SHALA DARPAN DATA'!V397","v":0},{"$f":"'SHALA DARPAN DATA'!K397","v":0},{"$f":"'SHALA DARPAN DATA'!E397","v":0},{"$f":"'SHALA DARPAN DATA'!G397","v":0},{"$f":"'SHALA DARPAN DATA'!H397","v":0},{"$f":"'SHALA DARPAN DATA'!W397","v":0},{"$f":"'SHALA DARPAN DATA'!R397","v":0},{"$f":"'SHALA DARPAN DATA'!S397","v":0},{"$f":"'SHALA DARPAN DATA'!O397","v":0},0,0,0,0,0,0,0,0,0,0,0]
[{"$f":"'SHALA DARPAN DATA'!C398","v":0},{"$f":"'SHALA DARPAN DATA'!A398","v":0},{"$f":"'SHALA DARPAN DATA'!B398","v":0},{"$f":"'SHALA DARPAN DATA'!D398","v":0},{"$f":"'SHALA DARPAN DATA'!J398","v":0},{"$f":"'SHALA DARPAN DATA'!T398","v":0},{"$f":"'SHALA DARPAN DATA'!V398","v":0},{"$f":"'SHALA DARPAN DATA'!K398","v":0},{"$f":"'SHALA DARPAN DATA'!E398","v":0},{"$f":"'SHALA DARPAN DATA'!G398","v":0},{"$f":"'SHALA DARPAN DATA'!H398","v":0},{"$f":"'SHALA DARPAN DATA'!W398","v":0},{"$f":"'SHALA DARPAN DATA'!R398","v":0},{"$f":"'SHALA DARPAN DATA'!S398","v":0},{"$f":"'SHALA DARPAN DATA'!O398","v":0},0,0,0,0,0,0,0,0,0,0,0]
[{"$f":"'SHALA DARPAN DATA'!C399","v":0},{"$f":"'SHALA DARPAN DATA'!A399","v":0},{"$f":"'SHALA DARPAN DATA'!B399","v":0},{"$f":"'SHALA DARPAN DATA'!D399","v":0},{"$f":"'SHALA DARPAN DATA'!J399","v":0},{"$f":"'SHALA DARPAN DATA'!T399","v":0},{"$f":"'SHALA DARPAN DATA'!V399","v":0},{"$f":"'SHALA DARPAN DATA'!K399","v":0},{"$f":"'SHALA DARPAN DATA'!E399","v":0},{"$f":"'SHALA DARPAN DATA'!G399","v":0},{"$f":"'SHALA DARPAN DATA'!H399","v":0},{"$f":"'SHALA DARPAN DATA'!W399","v":0},{"$f":"'SHALA DARPAN DATA'!R399","v":0},{"$f":"'SHALA DARPAN DATA'!S399","v":0},{"$f":"'SHALA DARPAN DATA'!O399","v":0},0,0,0,0,0,0,0,0,0,0,0]
[{"$f":"'SHALA DARPAN DATA'!C400","v":0},{"$f":"'SHALA DARPAN DATA'!A400","v":0},{"$f":"'SHALA DARPAN DATA'!B400","v":0},{"$f":"'SHALA DARPAN DATA'!D400","v":0},{"$f":"'SHALA DARPAN DATA'!J400","v":0},{"$f":"'SHALA DARPAN DATA'!T400","v":0},{"$f":"'SHALA DARPAN DATA'!V400","v":0},{"$f":"'SHALA DARPAN DATA'!K400","v":0},{"$f":"'SHALA DARPAN DATA'!E400","v":0},{"$f":"'SHALA DARPAN DATA'!G400","v":0},{"$f":"'SHALA DARPAN DATA'!H400","v":0},{"$f":"'SHALA DARPAN DATA'!W400","v":0},{"$f":"'SHALA DARPAN DATA'!R400","v":0},{"$f":"'SHALA DARPAN DATA'!S400","v":0},{"$f":"'SHALA DARPAN DATA'!O400","v":0},0,0,0,0,0,0,0,0,0,0,0]
[{"$f":"'SHALA DARPAN DATA'!C401","v":0},{"$f":"'SHALA DARPAN DATA'!A401","v":0},{"$f":"'SHALA DARPAN DATA'!B401","v":0},{"$f":"'SHALA DARPAN DATA'!D401","v":0},{"$f":"'SHALA DARPAN DATA'!J401","v":0},{"$f":"'SHALA DARPAN DATA'!T401","v":0},{"$f":"'SHALA DARPAN DATA'!V401","v":0},{"$f":"'SHALA DARPAN DATA'!K401","v":0},{"$f":"'SHALA DARPAN DATA'!E401","v":0},{"$f":"'SHALA DARPAN DATA'!G401","v":0},{"$f":"'SHALA DARPAN DATA'!H401","v":0},{"$f":"'SHALA DARPAN DATA'!W401","v":0},{"$f":"'SHALA DARPAN DATA'!R401","v":0},{"$f":"'SHALA DARPAN DATA'!S401","v":0},{"$f":"'SHALA DARPAN DATA'!O401","v":0},0,0,0,0,0,0,0,0,0,0,0]
[{"$f":"'SHALA DARPAN DATA'!C402","v":0},{"$f":"'SHALA DARPAN DATA'!A402","v":0},{"$f":"'SHALA DARPAN DATA'!B402","v":0},{"$f":"'SHALA DARPAN DATA'!D402","v":0},{"$f":"'SHALA DARPAN DATA'!J402","v":0},{"$f":"'SHALA DARPAN DATA'!T402","v":0},{"$f":"'SHALA DARPAN DATA'!V402","v":0},{"$f":"'SHALA DARPAN DATA'!K402","v":0},{"$f":"'SHALA DARPAN DATA'!E402","v":0},{"$f":"'SHALA DARPAN DATA'!G402","v":0},{"$f":"'SHALA DARPAN DATA'!H402","v":0},{"$f":"'SHALA DARPAN DATA'!W402","v":0},{"$f":"'SHALA DARPAN DATA'!R402","v":0},{"$f":"'SHALA DARPAN DATA'!S402","v":0},{"$f":"'SHALA DARPAN DATA'!O402","v":0},0,0,0,0,0,0,0,0,0,0,0]
[{"$f":"'SHALA DARPAN DATA'!C403","v":0},{"$f":"'SHALA DARPAN DATA'!A403","v":0},{"$f":"'SHALA DARPAN DATA'!B403","v":0},{"$f":"'SHALA DARPAN DATA'!D403","v":0},{"$f":"'SHALA DARPAN DATA'!J403","v":0},{"$f":"'SHALA DARPAN DATA'!T403","v":0},{"$f":"'SHALA DARPAN DATA'!V403","v":0},{"$f":"'SHALA DARPAN DATA'!K403","v":0},{"$f":"'SHALA DARPAN DATA'!E403","v":0},{"$f":"'SHALA DARPAN DATA'!G403","v":0},{"$f":"'SHALA DARPAN DATA'!H403","v":0},{"$f":"'SHALA DARPAN DATA'!W403","v":0},{"$f":"'SHALA DARPAN DATA'!R403","v":0},{"$f":"'SHALA DARPAN DATA'!S403","v":0},{"$f":"'SHALA DARPAN DATA'!O403","v":0},0,0,0,0,0,0,0,0,0,0,0]
[{"$f":"'SHALA DARPAN DATA'!C404","v":0},{"$f":"'SHALA DARPAN DATA'!A404","v":0},{"$f":"'SHALA DARPAN DATA'!B404","v":0},{"$f":"'SHALA DARPAN DATA'!D404","v":0},{"$f":"'SHALA DARPAN DATA'!J404","v":0},{"$f":"'SHALA DARPAN DATA'!T404","v":0},{"$f":"'SHALA DARPAN DATA'!V404","v":0},{"$f":"'SHALA DARPAN DATA'!K404","v":0},{"$f":"'SHALA DARPAN DATA'!E404","v":0},{"$f":"'SHALA DARPAN DATA'!G404","v":0},{"$f":"'SHALA DARPAN DATA'!H404","v":0},{"$f":"'SHALA DARPAN DATA'!W404","v":0},{"$f":"'SHALA DARPAN DATA'!R404","v":0},{"$f":"'SHALA DARPAN DATA'!S404","v":0},{"$f":"'SHALA DARPAN DATA'!O404","v":0},0,0,0,0,0,0,0,0,0,0,0]
[{"$f":"'SHALA DARPAN DATA'!C405","v":0},{"$f":"'SHALA DARPAN DATA'!A405","v":0},{"$f":"'SHALA DARPAN DATA'!B405","v":0},{"$f":"'SHALA DARPAN DATA'!D405","v":0},{"$f":"'SHALA DARPAN DATA'!J405","v":0},{"$f":"'SHALA DARPAN DATA'!T405","v":0},{"$f":"'SHALA DARPAN DATA'!V405","v":0},{"$f":"'SHALA DARPAN DATA'!K405","v":0},{"$f":"'SHALA DARPAN DATA'!E405","v":0},{"$f":"'SHALA DARPAN DATA'!G405","v":0},{"$f":"'SHALA DARPAN DATA'!H405","v":0},{"$f":"'SHALA DARPAN DATA'!W405","v":0},{"$f":"'SHALA DARPAN DATA'!R405","v":0},{"$f":"'SHALA DARPAN DATA'!S405","v":0},{"$f":"'SHALA DARPAN DATA'!O405","v":0},0,0,0,0,0,0,0,0,0,0,0]
[{"$f":"'SHALA DARPAN DATA'!C406","v":0},{"$f":"'SHALA DARPAN DATA'!A406","v":0},{"$f":"'SHALA DARPAN DATA'!B406","v":0},{"$f":"'SHALA DARPAN DATA'!D406","v":0},{"$f":"'SHALA DARPAN DATA'!J406","v":0},{"$f":"'SHALA DARPAN DATA'!T406","v":0},{"$f":"'SHALA DARPAN DATA'!V406","v":0},{"$f":"'SHALA DARPAN DATA'!K406","v":0},{"$f":"'SHALA DARPAN DATA'!E406","v":0},{"$f":"'SHALA DARPAN DATA'!G406","v":0},{"$f":"'SHALA DARPAN DATA'!H406","v":0},{"$f":"'SHALA DARPAN DATA'!W406","v":0},{"$f":"'SHALA DARPAN DATA'!R406","v":0},{"$f":"'SHALA DARPAN DATA'!S406","v":0},{"$f":"'SHALA DARPAN DATA'!O406","v":0},0,0,0,0,0,0,0,0,0,0,0]
[{"$f":"'SHALA DARPAN DATA'!C407","v":0},{"$f":"'SHALA DARPAN DATA'!A407","v":0},{"$f":"'SHALA DARPAN DATA'!B407","v":0},{"$f":"'SHALA DARPAN DATA'!D407","v":0},{"$f":"'SHALA DARPAN DATA'!J407","v":0},{"$f":"'SHALA DARPAN DATA'!T407","v":0},{"$f":"'SHALA DARPAN DATA'!V407","v":0},{"$f":"'SHALA DARPAN DATA'!K407","v":0},{"$f":"'SHALA DARPAN DATA'!E407","v":0},{"$f":"'SHALA DARPAN DATA'!G407","v":0},{"$f":"'SHALA DARPAN DATA'!H407","v":0},{"$f":"'SHALA DARPAN DATA'!W407","v":0},{"$f":"'SHALA DARPAN DATA'!R407","v":0},{"$f":"'SHALA DARPAN DATA'!S407","v":0},{"$f":"'SHALA DARPAN DATA'!O407","v":0},0,0,0,0,0,0,0,0,0,0,0]
[{"$f":"'SHALA DARPAN DATA'!C408","v":0},{"$f":"'SHALA DARPAN DATA'!A408","v":0},{"$f":"'SHALA DARPAN DATA'!B408","v":0},{"$f":"'SHALA DARPAN DATA'!D408","v":0},{"$f":"'SHALA DARPAN DATA'!J408","v":0},{"$f":"'SHALA DARPAN DATA'!T408","v":0},{"$f":"'SHALA DARPAN DATA'!V408","v":0},{"$f":"'SHALA DARPAN DATA'!K408","v":0},{"$f":"'SHALA DARPAN DATA'!E408","v":0},{"$f":"'SHALA DARPAN DATA'!G408","v":0},{"$f":"'SHALA DARPAN DATA'!H408","v":0},{"$f":"'SHALA DARPAN DATA'!W408","v":0},{"$f":"'SHALA DARPAN DATA'!R408","v":0},{"$f":"'SHALA DARPAN DATA'!S408","v":0},{"$f":"'SHALA DARPAN DATA'!O408","v":0},0,0,0,0,0,0,0,0,0,0,0]
[{"$f":"'SHALA DARPAN DATA'!C409","v":0},{"$f":"'SHALA DARPAN DATA'!A409","v":0},{"$f":"'SHALA DARPAN DATA'!B409","v":0},{"$f":"'SHALA DARPAN DATA'!D409","v":0},{"$f":"'SHALA DARPAN DATA'!J409","v":0},{"$f":"'SHALA DARPAN DATA'!T409","v":0},{"$f":"'SHALA DARPAN DATA'!V409","v":0},{"$f":"'SHALA DARPAN DATA'!K409","v":0},{"$f":"'SHALA DARPAN DATA'!E409","v":0},{"$f":"'SHALA DARPAN DATA'!G409","v":0},{"$f":"'SHALA DARPAN DATA'!H409","v":0},{"$f":"'SHALA DARPAN DATA'!W409","v":0},{"$f":"'SHALA DARPAN DATA'!R409","v":0},{"$f":"'SHALA DARPAN DATA'!S409","v":0},{"$f":"'SHALA DARPAN DATA'!O409","v":0},0,0,0,0,0,0,0,0,0,0,0]
[{"$f":"'SHALA DARPAN DATA'!C410","v":0},{"$f":"'SHALA DARPAN DATA'!A410","v":0},{"$f":"'SHALA DARPAN DATA'!B410","v":0},{"$f":"'SHALA DARPAN DATA'!D410","v":0},{"$f":"'SHALA DARPAN DATA'!J410","v":0},{"$f":"'SHALA DARPAN DATA'!T410","v":0},{"$f":"'SHALA DARPAN DATA'!V410","v":0},{"$f":"'SHALA DARPAN DATA'!K410","v":0},{"$f":"'SHALA DARPAN DATA'!E410","v":0},{"$f":"'SHALA DARPAN DATA'!G410","v":0},{"$f":"'SHALA DARPAN DATA'!H410","v":0},{"$f":"'SHALA DARPAN DATA'!W410","v":0},{"$f":"'SHALA DARPAN DATA'!R410","v":0},{"$f":"'SHALA DARPAN DATA'!S410","v":0},{"$f":"'SHALA DARPAN DATA'!O410","v":0},0,0,0,0,0,0,0,0,0,0,0]
[{"$f":"'SHALA DARPAN DATA'!C411","v":0},{"$f":"'SHALA DARPAN DATA'!A411","v":0},{"$f":"'SHALA DARPAN DATA'!B411","v":0},{"$f":"'SHALA DARPAN DATA'!D411","v":0},{"$f":"'SHALA DARPAN DATA'!J411","v":0},{"$f":"'SHALA DARPAN DATA'!T411","v":0},{"$f":"'SHALA DARPAN DATA'!V411","v":0},{"$f":"'SHALA DARPAN DATA'!K411","v":0},{"$f":"'SHALA DARPAN DATA'!E411","v":0},{"$f":"'SHALA DARPAN DATA'!G411","v":0},{"$f":"'SHALA DARPAN DATA'!H411","v":0},{"$f":"'SHALA DARPAN DATA'!W411","v":0},{"$f":"'SHALA DARPAN DATA'!R411","v":0},{"$f":"'SHALA DARPAN DATA'!S411","v":0},{"$f":"'SHALA DARPAN DATA'!O411","v":0},0,0,0,0,0,0,0,0,0,0,0]
[{"$f":"'SHALA DARPAN DATA'!C412","v":0},{"$f":"'SHALA DARPAN DATA'!A412","v":0},{"$f":"'SHALA DARPAN DATA'!B412","v":0},{"$f":"'SHALA DARPAN DATA'!D412","v":0},{"$f":"'SHALA DARPAN DATA'!J412","v":0},{"$f":"'SHALA DARPAN DATA'!T412","v":0},{"$f":"'SHALA DARPAN DATA'!V412","v":0},{"$f":"'SHALA DARPAN DATA'!K412","v":0},{"$f":"'SHALA DARPAN DATA'!E412","v":0},{"$f":"'SHALA DARPAN DATA'!G412","v":0},{"$f":"'SHALA DARPAN DATA'!H412","v":0},{"$f":"'SHALA DARPAN DATA'!W412","v":0},{"$f":"'SHALA DARPAN DATA'!R412","v":0},{"$f":"'SHALA DARPAN DATA'!S412","v":0},{"$f":"'SHALA DARPAN DATA'!O412","v":0},0,0,0,0,0,0,0,0,0,0,0]
[{"$f":"'SHALA DARPAN DATA'!C413","v":0},{"$f":"'SHALA DARPAN DATA'!A413","v":0},{"$f":"'SHALA DARPAN DATA'!B413","v":0},{"$f":"'SHALA DARPAN DATA'!D413","v":0},{"$f":"'SHALA DARPAN DATA'!J413","v":0},{"$f":"'SHALA DARPAN DATA'!T413","v":0},{"$f":"'SHALA DARPAN DATA'!V413","v":0},{"$f":"'SHALA DARPAN DATA'!K413","v":0},{"$f":"'SHALA DARPAN DATA'!E413","v":0},{"$f":"'SHALA DARPAN DATA'!G413","v":0},{"$f":"'SHALA DARPAN DATA'!H413","v":0},{"$f":"'SHALA DARPAN DATA'!W413","v":0},{"$f":"'SHALA DARPAN DATA'!R413","v":0},{"$f":"'SHALA DARPAN DATA'!S413","v":0},{"$f":"'SHALA DARPAN DATA'!O413","v":0},0,0,0,0,0,0,0,0,0,0,0]
[{"$f":"'SHALA DARPAN DATA'!C414","v":0},{"$f":"'SHALA DARPAN DATA'!A414","v":0},{"$f":"'SHALA DARPAN DATA'!B414","v":0},{"$f":"'SHALA DARPAN DATA'!D414","v":0},{"$f":"'SHALA DARPAN DATA'!J414","v":0},{"$f":"'SHALA DARPAN DATA'!T414","v":0},{"$f":"'SHALA DARPAN DATA'!V414","v":0},{"$f":"'SHALA DARPAN DATA'!K414","v":0},{"$f":"'SHALA DARPAN DATA'!E414","v":0},{"$f":"'SHALA DARPAN DATA'!G414","v":0},{"$f":"'SHALA DARPAN DATA'!H414","v":0},{"$f":"'SHALA DARPAN DATA'!W414","v":0},{"$f":"'SHALA DARPAN DATA'!R414","v":0},{"$f":"'SHALA DARPAN DATA'!S414","v":0},{"$f":"'SHALA DARPAN DATA'!O414","v":0},0,0,0,0,0,0,0,0,0,0,0]
[{"$f":"'SHALA DARPAN DATA'!C415","v":0},{"$f":"'SHALA DARPAN DATA'!A415","v":0},{"$f":"'SHALA DARPAN DATA'!B415","v":0},{"$f":"'SHALA DARPAN DATA'!D415","v":0},{"$f":"'SHALA DARPAN DATA'!J415","v":0},{"$f":"'SHALA DARPAN DATA'!T415","v":0},{"$f":"'SHALA DARPAN DATA'!V415","v":0},{"$f":"'SHALA DARPAN DATA'!K415","v":0},{"$f":"'SHALA DARPAN DATA'!E415","v":0},{"$f":"'SHALA DARPAN DATA'!G415","v":0},{"$f":"'SHALA DARPAN DATA'!H415","v":0},{"$f":"'SHALA DARPAN DATA'!W415","v":0},{"$f":"'SHALA DARPAN DATA'!R415","v":0},{"$f":"'SHALA DARPAN DATA'!S415","v":0},{"$f":"'SHALA DARPAN DATA'!O415","v":0},0,0,0,0,0,0,0,0,0,0,0]
[{"$f":"'SHALA DARPAN DATA'!C416","v":0},{"$f":"'SHALA DARPAN DATA'!A416","v":0},{"$f":"'SHALA DARPAN DATA'!B416","v":0},{"$f":"'SHALA DARPAN DATA'!D416","v":0},{"$f":"'SHALA DARPAN DATA'!J416","v":0},{"$f":"'SHALA DARPAN DATA'!T416","v":0},{"$f":"'SHALA DARPAN DATA'!V416","v":0},{"$f":"'SHALA DARPAN DATA'!K416","v":0},{"$f":"'SHALA DARPAN DATA'!E416","v":0},{"$f":"'SHALA DARPAN DATA'!G416","v":0},{"$f":"'SHALA DARPAN DATA'!H416","v":0},{"$f":"'SHALA DARPAN DATA'!W416","v":0},{"$f":"'SHALA DARPAN DATA'!R416","v":0},{"$f":"'SHALA DARPAN DATA'!S416","v":0},{"$f":"'SHALA DARPAN DATA'!O416","v":0},0,0,0,0,0,0,0,0,0,0,0]
[{"$f":"'SHALA DARPAN DATA'!C417","v":0},{"$f":"'SHALA DARPAN DATA'!A417","v":0},{"$f":"'SHALA DARPAN DATA'!B417","v":0},{"$f":"'SHALA DARPAN DATA'!D417","v":0},{"$f":"'SHALA DARPAN DATA'!J417","v":0},{"$f":"'SHALA DARPAN DATA'!T417","v":0},{"$f":"'SHALA DARPAN DATA'!V417","v":0},{"$f":"'SHALA DARPAN DATA'!K417","v":0},{"$f":"'SHALA DARPAN DATA'!E417","v":0},{"$f":"'SHALA DARPAN DATA'!G417","v":0},{"$f":"'SHALA DARPAN DATA'!H417","v":0},{"$f":"'SHALA DARPAN DATA'!W417","v":0},{"$f":"'SHALA DARPAN DATA'!R417","v":0},{"$f":"'SHALA DARPAN DATA'!S417","v":0},{"$f":"'SHALA DARPAN DATA'!O417","v":0},0,0,0,0,0,0,0,0,0,0,0]
[{"$f":"'SHALA DARPAN DATA'!C418","v":0},{"$f":"'SHALA DARPAN DATA'!A418","v":0},{"$f":"'SHALA DARPAN DATA'!B418","v":0},{"$f":"'SHALA DARPAN DATA'!D418","v":0},{"$f":"'SHALA DARPAN DATA'!J418","v":0},{"$f":"'SHALA DARPAN DATA'!T418","v":0},{"$f":"'SHALA DARPAN DATA'!V418","v":0},{"$f":"'SHALA DARPAN DATA'!K418","v":0},{"$f":"'SHALA DARPAN DATA'!E418","v":0},{"$f":"'SHALA DARPAN DATA'!G418","v":0},{"$f":"'SHALA DARPAN DATA'!H418","v":0},{"$f":"'SHALA DARPAN DATA'!W418","v":0},{"$f":"'SHALA DARPAN DATA'!R418","v":0},{"$f":"'SHALA DARPAN DATA'!S418","v":0},{"$f":"'SHALA DARPAN DATA'!O418","v":0},0,0,0,0,0,0,0,0,0,0,0]
[{"$f":"'SHALA DARPAN DATA'!C419","v":0},{"$f":"'SHALA DARPAN DATA'!A419","v":0},{"$f":"'SHALA DARPAN DATA'!B419","v":0},{"$f":"'SHALA DARPAN DATA'!D419","v":0},{"$f":"'SHALA DARPAN DATA'!J419","v":0},{"$f":"'SHALA DARPAN DATA'!T419","v":0},{"$f":"'SHALA DARPAN DATA'!V419","v":0},{"$f":"'SHALA DARPAN DATA'!K419","v":0},{"$f":"'SHALA DARPAN DATA'!E419","v":0},{"$f":"'SHALA DARPAN DATA'!G419","v":0},{"$f":"'SHALA DARPAN DATA'!H419","v":0},{"$f":"'SHALA DARPAN DATA'!W419","v":0},{"$f":"'SHALA DARPAN DATA'!R419","v":0},{"$f":"'SHALA DARPAN DATA'!S419","v":0},{"$f":"'SHALA DARPAN DATA'!O419","v":0},0,0,0,0,0,0,0,0,0,0,0]
[{"$f":"'SHALA DARPAN DATA'!C420","v":0},{"$f":"'SHALA DARPAN DATA'!A420","v":0},{"$f":"'SHALA DARPAN DATA'!B420","v":0},{"$f":"'SHALA DARPAN DATA'!D420","v":0},{"$f":"'SHALA DARPAN DATA'!J420","v":0},{"$f":"'SHALA DARPAN DATA'!T420","v":0},{"$f":"'SHALA DARPAN DATA'!V420","v":0},{"$f":"'SHALA DARPAN DATA'!K420","v":0},{"$f":"'SHALA DARPAN DATA'!E420","v":0},{"$f":"'SHALA DARPAN DATA'!G420","v":0},{"$f":"'SHALA DARPAN DATA'!H420","v":0},{"$f":"'SHALA DARPAN DATA'!W420","v":0},{"$f":"'SHALA DARPAN DATA'!R420","v":0},{"$f":"'SHALA DARPAN DATA'!S420","v":0},{"$f":"'SHALA DARPAN DATA'!O420","v":0},0,0,0,0,0,0,0,0,0,0,0]
[{"$f":"'SHALA DARPAN DATA'!C421","v":0},{"$f":"'SHALA DARPAN DATA'!A421","v":0},{"$f":"'SHALA DARPAN DATA'!B421","v":0},{"$f":"'SHALA DARPAN DATA'!D421","v":0},{"$f":"'SHALA DARPAN DATA'!J421","v":0},{"$f":"'SHALA DARPAN DATA'!T421","v":0},{"$f":"'SHALA DARPAN DATA'!V421","v":0},{"$f":"'SHALA DARPAN DATA'!K421","v":0},{"$f":"'SHALA DARPAN DATA'!E421","v":0},{"$f":"'SHALA DARPAN DATA'!G421","v":0},{"$f":"'SHALA DARPAN DATA'!H421","v":0},{"$f":"'SHALA DARPAN DATA'!W421","v":0},{"$f":"'SHALA DARPAN DATA'!R421","v":0},{"$f":"'SHALA DARPAN DATA'!S421","v":0},{"$f":"'SHALA DARPAN DATA'!O421","v":0},0,0,0,0,0,0,0,0,0,0,0]
[{"$f":"'SHALA DARPAN DATA'!C422","v":0},{"$f":"'SHALA DARPAN DATA'!A422","v":0},{"$f":"'SHALA DARPAN DATA'!B422","v":0},{"$f":"'SHALA DARPAN DATA'!D422","v":0},{"$f":"'SHALA DARPAN DATA'!J422","v":0},{"$f":"'SHALA DARPAN DATA'!T422","v":0},{"$f":"'SHALA DARPAN DATA'!V422","v":0},{"$f":"'SHALA DARPAN DATA'!K422","v":0},{"$f":"'SHALA DARPAN DATA'!E422","v":0},{"$f":"'SHALA DARPAN DATA'!G422","v":0},{"$f":"'SHALA DARPAN DATA'!H422","v":0},{"$f":"'SHALA DARPAN DATA'!W422","v":0},{"$f":"'SHALA DARPAN DATA'!R422","v":0},{"$f":"'SHALA DARPAN DATA'!S422","v":0},{"$f":"'SHALA DARPAN DATA'!O422","v":0},0,0,0,0,0,0,0,0,0,0,0]
[{"$f":"'SHALA DARPAN DATA'!C423","v":0},{"$f":"'SHALA DARPAN DATA'!A423","v":0},{"$f":"'SHALA DARPAN DATA'!B423","v":0},{"$f":"'SHALA DARPAN DATA'!D423","v":0},{"$f":"'SHALA DARPAN DATA'!J423","v":0},{"$f":"'SHALA DARPAN DATA'!T423","v":0},{"$f":"'SHALA DARPAN DATA'!V423","v":0},{"$f":"'SHALA DARPAN DATA'!K423","v":0},{"$f":"'SHALA DARPAN DATA'!E423","v":0},{"$f":"'SHALA DARPAN DATA'!G423","v":0},{"$f":"'SHALA DARPAN DATA'!H423","v":0},{"$f":"'SHALA DARPAN DATA'!W423","v":0},{"$f":"'SHALA DARPAN DATA'!R423","v":0},{"$f":"'SHALA DARPAN DATA'!S423","v":0},{"$f":"'SHALA DARPAN DATA'!O423","v":0},0,0,0,0,0,0,0,0,0,0,0]
[{"$f":"'SHALA DARPAN DATA'!C424","v":0},{"$f":"'SHALA DARPAN DATA'!A424","v":0},{"$f":"'SHALA DARPAN DATA'!B424","v":0},{"$f":"'SHALA DARPAN DATA'!D424","v":0},{"$f":"'SHALA DARPAN DATA'!J424","v":0},{"$f":"'SHALA DARPAN DATA'!T424","v":0},{"$f":"'SHALA DARPAN DATA'!V424","v":0},{"$f":"'SHALA DARPAN DATA'!K424","v":0},{"$f":"'SHALA DARPAN DATA'!E424","v":0},{"$f":"'SHALA DARPAN DATA'!G424","v":0},{"$f":"'SHALA DARPAN DATA'!H424","v":0},{"$f":"'SHALA DARPAN DATA'!W424","v":0},{"$f":"'SHALA DARPAN DATA'!R424","v":0},{"$f":"'SHALA DARPAN DATA'!S424","v":0},{"$f":"'SHALA DARPAN DATA'!O424","v":0},0,0,0,0,0,0,0,0,0,0,0]
[{"$f":"'SHALA DARPAN DATA'!C425","v":0},{"$f":"'SHALA DARPAN DATA'!A425","v":0},{"$f":"'SHALA DARPAN DATA'!B425","v":0},{"$f":"'SHALA DARPAN DATA'!D425","v":0},{"$f":"'SHALA DARPAN DATA'!J425","v":0},{"$f":"'SHALA DARPAN DATA'!T425","v":0},{"$f":"'SHALA DARPAN DATA'!V425","v":0},{"$f":"'SHALA DARPAN DATA'!K425","v":0},{"$f":"'SHALA DARPAN DATA'!E425","v":0},{"$f":"'SHALA DARPAN DATA'!G425","v":0},{"$f":"'SHALA DARPAN DATA'!H425","v":0},{"$f":"'SHALA DARPAN DATA'!W425","v":0},{"$f":"'SHALA DARPAN DATA'!R425","v":0},{"$f":"'SHALA DARPAN DATA'!S425","v":0},{"$f":"'SHALA DARPAN DATA'!O425","v":0},0,0,0,0,0,0,0,0,0,0,0]
[{"$f":"'SHALA DARPAN DATA'!C426","v":0},{"$f":"'SHALA DARPAN DATA'!A426","v":0},{"$f":"'SHALA DARPAN DATA'!B426","v":0},{"$f":"'SHALA DARPAN DATA'!D426","v":0},{"$f":"'SHALA DARPAN DATA'!J426","v":0},{"$f":"'SHALA DARPAN DATA'!T426","v":0},{"$f":"'SHALA DARPAN DATA'!V426","v":0},{"$f":"'SHALA DARPAN DATA'!K426","v":0},{"$f":"'SHALA DARPAN DATA'!E426","v":0},{"$f":"'SHALA DARPAN DATA'!G426","v":0},{"$f":"'SHALA DARPAN DATA'!H426","v":0},{"$f":"'SHALA DARPAN DATA'!W426","v":0},{"$f":"'SHALA DARPAN DATA'!R426","v":0},{"$f":"'SHALA DARPAN DATA'!S426","v":0},{"$f":"'SHALA DARPAN DATA'!O426","v":0},0,0,0,0,0,0,0,0,0,0,0]
[{"$f":"'SHALA DARPAN DATA'!C427","v":0},{"$f":"'SHALA DARPAN DATA'!A427","v":0},{"$f":"'SHALA DARPAN DATA'!B427","v":0},{"$f":"'SHALA DARPAN DATA'!D427","v":0},{"$f":"'SHALA DARPAN DATA'!J427","v":0},{"$f":"'SHALA DARPAN DATA'!T427","v":0},{"$f":"'SHALA DARPAN DATA'!V427","v":0},{"$f":"'SHALA DARPAN DATA'!K427","v":0},{"$f":"'SHALA DARPAN DATA'!E427","v":0},{"$f":"'SHALA DARPAN DATA'!G427","v":0},{"$f":"'SHALA DARPAN DATA'!H427","v":0},{"$f":"'SHALA DARPAN DATA'!W427","v":0},{"$f":"'SHALA DARPAN DATA'!R427","v":0},{"$f":"'SHALA DARPAN DATA'!S427","v":0},{"$f":"'SHALA DARPAN DATA'!O427","v":0},0,0,0,0,0,0,0,0,0,0,0]
[{"$f":"'SHALA DARPAN DATA'!C428","v":0},{"$f":"'SHALA DARPAN DATA'!A428","v":0},{"$f":"'SHALA DARPAN DATA'!B428","v":0},{"$f":"'SHALA DARPAN DATA'!D428","v":0},{"$f":"'SHALA DARPAN DATA'!J428","v":0},{"$f":"'SHALA DARPAN DATA'!T428","v":0},{"$f":"'SHALA DARPAN DATA'!V428","v":0},{"$f":"'SHALA DARPAN DATA'!K428","v":0},{"$f":"'SHALA DARPAN DATA'!E428","v":0},{"$f":"'SHALA DARPAN DATA'!G428","v":0},{"$f":"'SHALA DARPAN DATA'!H428","v":0},{"$f":"'SHALA DARPAN DATA'!W428","v":0},{"$f":"'SHALA DARPAN DATA'!R428","v":0},{"$f":"'SHALA DARPAN DATA'!S428","v":0},{"$f":"'SHALA DARPAN DATA'!O428","v":0},0,0,0,0,0,0,0,0,0,0,0]
[{"$f":"'SHALA DARPAN DATA'!C429","v":0},{"$f":"'SHALA DARPAN DATA'!A429","v":0},{"$f":"'SHALA DARPAN DATA'!B429","v":0},{"$f":"'SHALA DARPAN DATA'!D429","v":0},{"$f":"'SHALA DARPAN DATA'!J429","v":0},{"$f":"'SHALA DARPAN DATA'!T429","v":0},{"$f":"'SHALA DARPAN DATA'!V429","v":0},{"$f":"'SHALA DARPAN DATA'!K429","v":0},{"$f":"'SHALA DARPAN DATA'!E429","v":0},{"$f":"'SHALA DARPAN DATA'!G429","v":0},{"$f":"'SHALA DARPAN DATA'!H429","v":0},{"$f":"'SHALA DARPAN DATA'!W429","v":0},{"$f":"'SHALA DARPAN DATA'!R429","v":0},{"$f":"'SHALA DARPAN DATA'!S429","v":0},{"$f":"'SHALA DARPAN DATA'!O429","v":0},0,0,0,0,0,0,0,0,0,0,0]
[{"$f":"'SHALA DARPAN DATA'!C430","v":0},{"$f":"'SHALA DARPAN DATA'!A430","v":0},{"$f":"'SHALA DARPAN DATA'!B430","v":0},{"$f":"'SHALA DARPAN DATA'!D430","v":0},{"$f":"'SHALA DARPAN DATA'!J430","v":0},{"$f":"'SHALA DARPAN DATA'!T430","v":0},{"$f":"'SHALA DARPAN DATA'!V430","v":0},{"$f":"'SHALA DARPAN DATA'!K430","v":0},{"$f":"'SHALA DARPAN DATA'!E430","v":0},{"$f":"'SHALA DARPAN DATA'!G430","v":0},{"$f":"'SHALA DARPAN DATA'!H430","v":0},{"$f":"'SHALA DARPAN DATA'!W430","v":0},{"$f":"'SHALA DARPAN DATA'!R430","v":0},{"$f":"'SHALA DARPAN DATA'!S430","v":0},{"$f":"'SHALA DARPAN DATA'!O430","v":0},0,0,0,0,0,0,0,0,0,0,0]
[{"$f":"'SHALA DARPAN DATA'!C431","v":0},{"$f":"'SHALA DARPAN DATA'!A431","v":0},{"$f":"'SHALA DARPAN DATA'!B431","v":0},{"$f":"'SHALA DARPAN DATA'!D431","v":0},{"$f":"'SHALA DARPAN DATA'!J431","v":0},{"$f":"'SHALA DARPAN DATA'!T431","v":0},{"$f":"'SHALA DARPAN DATA'!V431","v":0},{"$f":"'SHALA DARPAN DATA'!K431","v":0},{"$f":"'SHALA DARPAN DATA'!E431","v":0},{"$f":"'SHALA DARPAN DATA'!G431","v":0},{"$f":"'SHALA DARPAN DATA'!H431","v":0},{"$f":"'SHALA DARPAN DATA'!W431","v":0},{"$f":"'SHALA DARPAN DATA'!R431","v":0},{"$f":"'SHALA DARPAN DATA'!S431","v":0},{"$f":"'SHALA DARPAN DATA'!O431","v":0},0,0,0,0,0,0,0,0,0,0,0]
[{"$f":"'SHALA DARPAN DATA'!C432","v":0},{"$f":"'SHALA DARPAN DATA'!A432","v":0},{"$f":"'SHALA DARPAN DATA'!B432","v":0},{"$f":"'SHALA DARPAN DATA'!D432","v":0},{"$f":"'SHALA DARPAN DATA'!J432","v":0},{"$f":"'SHALA DARPAN DATA'!T432","v":0},{"$f":"'SHALA DARPAN DATA'!V432","v":0},{"$f":"'SHALA DARPAN DATA'!K432","v":0},{"$f":"'SHALA DARPAN DATA'!E432","v":0},{"$f":"'SHALA DARPAN DATA'!G432","v":0},{"$f":"'SHALA DARPAN DATA'!H432","v":0},{"$f":"'SHALA DARPAN DATA'!W432","v":0},{"$f":"'SHALA DARPAN DATA'!R432","v":0},{"$f":"'SHALA DARPAN DATA'!S432","v":0},{"$f":"'SHALA DARPAN DATA'!O432","v":0},0,0,0,0,0,0,0,0,0,0,0]
[{"$f":"'SHALA DARPAN DATA'!C433","v":0},{"$f":"'SHALA DARPAN DATA'!A433","v":0},{"$f":"'SHALA DARPAN DATA'!B433","v":0},{"$f":"'SHALA DARPAN DATA'!D433","v":0},{"$f":"'SHALA DARPAN DATA'!J433","v":0},{"$f":"'SHALA DARPAN DATA'!T433","v":0},{"$f":"'SHALA DARPAN DATA'!V433","v":0},{"$f":"'SHALA DARPAN DATA'!K433","v":0},{"$f":"'SHALA DARPAN DATA'!E433","v":0},{"$f":"'SHALA DARPAN DATA'!G433","v":0},{"$f":"'SHALA DARPAN DATA'!H433","v":0},{"$f":"'SHALA DARPAN DATA'!W433","v":0},{"$f":"'SHALA DARPAN DATA'!R433","v":0},{"$f":"'SHALA DARPAN DATA'!S433","v":0},{"$f":"'SHALA DARPAN DATA'!O433","v":0},0,0,0,0,0,0,0,0,0,0,0]
[{"$f":"'SHALA DARPAN DATA'!C434","v":0},{"$f":"'SHALA DARPAN DATA'!A434","v":0},{"$f":"'SHALA DARPAN DATA'!B434","v":0},{"$f":"'SHALA DARPAN DATA'!D434","v":0},{"$f":"'SHALA DARPAN DATA'!J434","v":0},{"$f":"'SHALA DARPAN DATA'!T434","v":0},{"$f":"'SHALA DARPAN DATA'!V434","v":0},{"$f":"'SHALA DARPAN DATA'!K434","v":0},{"$f":"'SHALA DARPAN DATA'!E434","v":0},{"$f":"'SHALA DARPAN DATA'!G434","v":0},{"$f":"'SHALA DARPAN DATA'!H434","v":0},{"$f":"'SHALA DARPAN DATA'!W434","v":0},{"$f":"'SHALA DARPAN DATA'!R434","v":0},{"$f":"'SHALA DARPAN DATA'!S434","v":0},{"$f":"'SHALA DARPAN DATA'!O434","v":0},0,0,0,0,0,0,0,0,0,0,0]
[{"$f":"'SHALA DARPAN DATA'!C435","v":0},{"$f":"'SHALA DARPAN DATA'!A435","v":0},{"$f":"'SHALA DARPAN DATA'!B435","v":0},{"$f":"'SHALA DARPAN DATA'!D435","v":0},{"$f":"'SHALA DARPAN DATA'!J435","v":0},{"$f":"'SHALA DARPAN DATA'!T435","v":0},{"$f":"'SHALA DARPAN DATA'!V435","v":0},{"$f":"'SHALA DARPAN DATA'!K435","v":0},{"$f":"'SHALA DARPAN DATA'!E435","v":0},{"$f":"'SHALA DARPAN DATA'!G435","v":0},{"$f":"'SHALA DARPAN DATA'!H435","v":0},{"$f":"'SHALA DARPAN DATA'!W435","v":0},{"$f":"'SHALA DARPAN DATA'!R435","v":0},{"$f":"'SHALA DARPAN DATA'!S435","v":0},{"$f":"'SHALA DARPAN DATA'!O435","v":0},0,0,0,0,0,0,0,0,0,0,0]
[{"$f":"'SHALA DARPAN DATA'!C436","v":0},{"$f":"'SHALA DARPAN DATA'!A436","v":0},{"$f":"'SHALA DARPAN DATA'!B436","v":0},{"$f":"'SHALA DARPAN DATA'!D436","v":0},{"$f":"'SHALA DARPAN DATA'!J436","v":0},{"$f":"'SHALA DARPAN DATA'!T436","v":0},{"$f":"'SHALA DARPAN DATA'!V436","v":0},{"$f":"'SHALA DARPAN DATA'!K436","v":0},{"$f":"'SHALA DARPAN DATA'!E436","v":0},{"$f":"'SHALA DARPAN DATA'!G436","v":0},{"$f":"'SHALA DARPAN DATA'!H436","v":0},{"$f":"'SHALA DARPAN DATA'!W436","v":0},{"$f":"'SHALA DARPAN DATA'!R436","v":0},{"$f":"'SHALA DARPAN DATA'!S436","v":0},{"$f":"'SHALA DARPAN DATA'!O436","v":0},0,0,0,0,0,0,0,0,0,0,0]
[{"$f":"'SHALA DARPAN DATA'!C437","v":0},{"$f":"'SHALA DARPAN DATA'!A437","v":0},{"$f":"'SHALA DARPAN DATA'!B437","v":0},{"$f":"'SHALA DARPAN DATA'!D437","v":0},{"$f":"'SHALA DARPAN DATA'!J437","v":0},{"$f":"'SHALA DARPAN DATA'!T437","v":0},{"$f":"'SHALA DARPAN DATA'!V437","v":0},{"$f":"'SHALA DARPAN DATA'!K437","v":0},{"$f":"'SHALA DARPAN DATA'!E437","v":0},{"$f":"'SHALA DARPAN DATA'!G437","v":0},{"$f":"'SHALA DARPAN DATA'!H437","v":0},{"$f":"'SHALA DARPAN DATA'!W437","v":0},{"$f":"'SHALA DARPAN DATA'!R437","v":0},{"$f":"'SHALA DARPAN DATA'!S437","v":0},{"$f":"'SHALA DARPAN DATA'!O437","v":0},0,0,0,0,0,0,0,0,0,0,0]
[{"$f":"'SHALA DARPAN DATA'!C438","v":0},{"$f":"'SHALA DARPAN DATA'!A438","v":0},{"$f":"'SHALA DARPAN DATA'!B438","v":0},{"$f":"'SHALA DARPAN DATA'!D438","v":0},{"$f":"'SHALA DARPAN DATA'!J438","v":0},{"$f":"'SHALA DARPAN DATA'!T438","v":0},{"$f":"'SHALA DARPAN DATA'!V438","v":0},{"$f":"'SHALA DARPAN DATA'!K438","v":0},{"$f":"'SHALA DARPAN DATA'!E438","v":0},{"$f":"'SHALA DARPAN DATA'!G438","v":0},{"$f":"'SHALA DARPAN DATA'!H438","v":0},{"$f":"'SHALA DARPAN DATA'!W438","v":0},{"$f":"'SHALA DARPAN DATA'!R438","v":0},{"$f":"'SHALA DARPAN DATA'!S438","v":0},{"$f":"'SHALA DARPAN DATA'!O438","v":0},0,0,0,0,0,0,0,0,0,0,0]
[{"$f":"'SHALA DARPAN DATA'!C439","v":0},{"$f":"'SHALA DARPAN DATA'!A439","v":0},{"$f":"'SHALA DARPAN DATA'!B439","v":0},{"$f":"'SHALA DARPAN DATA'!D439","v":0},{"$f":"'SHALA DARPAN DATA'!J439","v":0},{"$f":"'SHALA DARPAN DATA'!T439","v":0},{"$f":"'SHALA DARPAN DATA'!V439","v":0},{"$f":"'SHALA DARPAN DATA'!K439","v":0},{"$f":"'SHALA DARPAN DATA'!E439","v":0},{"$f":"'SHALA DARPAN DATA'!G439","v":0},{"$f":"'SHALA DARPAN DATA'!H439","v":0},{"$f":"'SHALA DARPAN DATA'!W439","v":0},{"$f":"'SHALA DARPAN DATA'!R439","v":0},{"$f":"'SHALA DARPAN DATA'!S439","v":0},{"$f":"'SHALA DARPAN DATA'!O439","v":0},0,0,0,0,0,0,0,0,0,0,0]
[{"$f":"'SHALA DARPAN DATA'!C440","v":0},{"$f":"'SHALA DARPAN DATA'!A440","v":0},{"$f":"'SHALA DARPAN DATA'!B440","v":0},{"$f":"'SHALA DARPAN DATA'!D440","v":0},{"$f":"'SHALA DARPAN DATA'!J440","v":0},{"$f":"'SHALA DARPAN DATA'!T440","v":0},{"$f":"'SHALA DARPAN DATA'!V440","v":0},{"$f":"'SHALA DARPAN DATA'!K440","v":0},{"$f":"'SHALA DARPAN DATA'!E440","v":0},{"$f":"'SHALA DARPAN DATA'!G440","v":0},{"$f":"'SHALA DARPAN DATA'!H440","v":0},{"$f":"'SHALA DARPAN DATA'!W440","v":0},{"$f":"'SHALA DARPAN DATA'!R440","v":0},{"$f":"'SHALA DARPAN DATA'!S440","v":0},{"$f":"'SHALA DARPAN DATA'!O440","v":0},0,0,0,0,0,0,0,0,0,0,0]
[{"$f":"'SHALA DARPAN DATA'!C441","v":0},{"$f":"'SHALA DARPAN DATA'!A441","v":0},{"$f":"'SHALA DARPAN DATA'!B441","v":0},{"$f":"'SHALA DARPAN DATA'!D441","v":0},{"$f":"'SHALA DARPAN DATA'!J441","v":0},{"$f":"'SHALA DARPAN DATA'!T441","v":0},{"$f":"'SHALA DARPAN DATA'!V441","v":0},{"$f":"'SHALA DARPAN DATA'!K441","v":0},{"$f":"'SHALA DARPAN DATA'!E441","v":0},{"$f":"'SHALA DARPAN DATA'!G441","v":0},{"$f":"'SHALA DARPAN DATA'!H441","v":0},{"$f":"'SHALA DARPAN DATA'!W441","v":0},{"$f":"'SHALA DARPAN DATA'!R441","v":0},{"$f":"'SHALA DARPAN DATA'!S441","v":0},{"$f":"'SHALA DARPAN DATA'!O441","v":0},0,0,0,0,0,0,0,0,0,0,0]
[{"$f":"'SHALA DARPAN DATA'!C442","v":0},{"$f":"'SHALA DARPAN DATA'!A442","v":0},{"$f":"'SHALA DARPAN DATA'!B442","v":0},{"$f":"'SHALA DARPAN DATA'!D442","v":0},{"$f":"'SHALA DARPAN DATA'!J442","v":0},{"$f":"'SHALA DARPAN DATA'!T442","v":0},{"$f":"'SHALA DARPAN DATA'!V442","v":0},{"$f":"'SHALA DARPAN DATA'!K442","v":0},{"$f":"'SHALA DARPAN DATA'!E442","v":0},{"$f":"'SHALA DARPAN DATA'!G442","v":0},{"$f":"'SHALA DARPAN DATA'!H442","v":0},{"$f":"'SHALA DARPAN DATA'!W442","v":0},{"$f":"'SHALA DARPAN DATA'!R442","v":0},{"$f":"'SHALA DARPAN DATA'!S442","v":0},{"$f":"'SHALA DARPAN DATA'!O442","v":0},0,0,0,0,0,0,0,0,0,0,0]
[{"$f":"'SHALA DARPAN DATA'!C443","v":0},{"$f":"'SHALA DARPAN DATA'!A443","v":0},{"$f":"'SHALA DARPAN DATA'!B443","v":0},{"$f":"'SHALA DARPAN DATA'!D443","v":0},{"$f":"'SHALA DARPAN DATA'!J443","v":0},{"$f":"'SHALA DARPAN DATA'!T443","v":0},{"$f":"'SHALA DARPAN DATA'!V443","v":0},{"$f":"'SHALA DARPAN DATA'!K443","v":0},{"$f":"'SHALA DARPAN DATA'!E443","v":0},{"$f":"'SHALA DARPAN DATA'!G443","v":0},{"$f":"'SHALA DARPAN DATA'!H443","v":0},{"$f":"'SHALA DARPAN DATA'!W443","v":0},{"$f":"'SHALA DARPAN DATA'!R443","v":0},{"$f":"'SHALA DARPAN DATA'!S443","v":0},{"$f":"'SHALA DARPAN DATA'!O443","v":0},0,0,0,0,0,0,0,0,0,0,0]
[{"$f":"'SHALA DARPAN DATA'!C444","v":0},{"$f":"'SHALA DARPAN DATA'!A444","v":0},{"$f":"'SHALA DARPAN DATA'!B444","v":0},{"$f":"'SHALA DARPAN DATA'!D444","v":0},{"$f":"'SHALA DARPAN DATA'!J444","v":0},{"$f":"'SHALA DARPAN DATA'!T444","v":0},{"$f":"'SHALA DARPAN DATA'!V444","v":0},{"$f":"'SHALA DARPAN DATA'!K444","v":0},{"$f":"'SHALA DARPAN DATA'!E444","v":0},{"$f":"'SHALA DARPAN DATA'!G444","v":0},{"$f":"'SHALA DARPAN DATA'!H444","v":0},{"$f":"'SHALA DARPAN DATA'!W444","v":0},{"$f":"'SHALA DARPAN DATA'!R444","v":0},{"$f":"'SHALA DARPAN DATA'!S444","v":0},{"$f":"'SHALA DARPAN DATA'!O444","v":0},0,0,0,0,0,0,0,0,0,0,0]
[{"$f":"'SHALA DARPAN DATA'!C445","v":0},{"$f":"'SHALA DARPAN DATA'!A445","v":0},{"$f":"'SHALA DARPAN DATA'!B445","v":0},{"$f":"'SHALA DARPAN DATA'!D445","v":0},{"$f":"'SHALA DARPAN DATA'!J445","v":0},{"$f":"'SHALA DARPAN DATA'!T445","v":0},{"$f":"'SHALA DARPAN DATA'!V445","v":0},{"$f":"'SHALA DARPAN DATA'!K445","v":0},{"$f":"'SHALA DARPAN DATA'!E445","v":0},{"$f":"'SHALA DARPAN DATA'!G445","v":0},{"$f":"'SHALA DARPAN DATA'!H445","v":0},{"$f":"'SHALA DARPAN DATA'!W445","v":0},{"$f":"'SHALA DARPAN DATA'!R445","v":0},{"$f":"'SHALA DARPAN DATA'!S445","v":0},{"$f":"'SHALA DARPAN DATA'!O445","v":0},0,0,0,0,0,0,0,0,0,0,0]
[{"$f":"'SHALA DARPAN DATA'!C446","v":0},{"$f":"'SHALA DARPAN DATA'!A446","v":0},{"$f":"'SHALA DARPAN DATA'!B446","v":0},{"$f":"'SHALA DARPAN DATA'!D446","v":0},{"$f":"'SHALA DARPAN DATA'!J446","v":0},{"$f":"'SHALA DARPAN DATA'!T446","v":0},{"$f":"'SHALA DARPAN DATA'!V446","v":0},{"$f":"'SHALA DARPAN DATA'!K446","v":0},{"$f":"'SHALA DARPAN DATA'!E446","v":0},{"$f":"'SHALA DARPAN DATA'!G446","v":0},{"$f":"'SHALA DARPAN DATA'!H446","v":0},{"$f":"'SHALA DARPAN DATA'!W446","v":0},{"$f":"'SHALA DARPAN DATA'!R446","v":0},{"$f":"'SHALA DARPAN DATA'!S446","v":0},{"$f":"'SHALA DARPAN DATA'!O446","v":0},0,0,0,0,0,0,0,0,0,0,0]
[{"$f":"'SHALA DARPAN DATA'!C447","v":0},{"$f":"'SHALA DARPAN DATA'!A447","v":0},{"$f":"'SHALA DARPAN DATA'!B447","v":0},{"$f":"'SHALA DARPAN DATA'!D447","v":0},{"$f":"'SHALA DARPAN DATA'!J447","v":0},{"$f":"'SHALA DARPAN DATA'!T447","v":0},{"$f":"'SHALA DARPAN DATA'!V447","v":0},{"$f":"'SHALA DARPAN DATA'!K447","v":0},{"$f":"'SHALA DARPAN DATA'!E447","v":0},{"$f":"'SHALA DARPAN DATA'!G447","v":0},{"$f":"'SHALA DARPAN DATA'!H447","v":0},{"$f":"'SHALA DARPAN DATA'!W447","v":0},{"$f":"'SHALA DARPAN DATA'!R447","v":0},{"$f":"'SHALA DARPAN DATA'!S447","v":0},{"$f":"'SHALA DARPAN DATA'!O447","v":0},0,0,0,0,0,0,0,0,0,0,0]
[{"$f":"'SHALA DARPAN DATA'!C448","v":0},{"$f":"'SHALA DARPAN DATA'!A448","v":0},{"$f":"'SHALA DARPAN DATA'!B448","v":0},{"$f":"'SHALA DARPAN DATA'!D448","v":0},{"$f":"'SHALA DARPAN DATA'!J448","v":0},{"$f":"'SHALA DARPAN DATA'!T448","v":0},{"$f":"'SHALA DARPAN DATA'!V448","v":0},{"$f":"'SHALA DARPAN DATA'!K448","v":0},{"$f":"'SHALA DARPAN DATA'!E448","v":0},{"$f":"'SHALA DARPAN DATA'!G448","v":0},{"$f":"'SHALA DARPAN DATA'!H448","v":0},{"$f":"'SHALA DARPAN DATA'!W448","v":0},{"$f":"'SHALA DARPAN DATA'!R448","v":0},{"$f":"'SHALA DARPAN DATA'!S448","v":0},{"$f":"'SHALA DARPAN DATA'!O448","v":0},0,0,0,0,0,0,0,0,0,0,0]
[{"$f":"'SHALA DARPAN DATA'!C449","v":0},{"$f":"'SHALA DARPAN DATA'!A449","v":0},{"$f":"'SHALA DARPAN DATA'!B449","v":0},{"$f":"'SHALA DARPAN DATA'!D449","v":0},{"$f":"'SHALA DARPAN DATA'!J449","v":0},{"$f":"'SHALA DARPAN DATA'!T449","v":0},{"$f":"'SHALA DARPAN DATA'!V449","v":0},{"$f":"'SHALA DARPAN DATA'!K449","v":0},{"$f":"'SHALA DARPAN DATA'!E449","v":0},{"$f":"'SHALA DARPAN DATA'!G449","v":0},{"$f":"'SHALA DARPAN DATA'!H449","v":0},{"$f":"'SHALA DARPAN DATA'!W449","v":0},{"$f":"'SHALA DARPAN DATA'!R449","v":0},{"$f":"'SHALA DARPAN DATA'!S449","v":0},{"$f":"'SHALA DARPAN DATA'!O449","v":0},0,0,0,0,0,0,0,0,0,0,0]
[{"$f":"'SHALA DARPAN DATA'!C450","v":0},{"$f":"'SHALA DARPAN DATA'!A450","v":0},{"$f":"'SHALA DARPAN DATA'!B450","v":0},{"$f":"'SHALA DARPAN DATA'!D450","v":0},{"$f":"'SHALA DARPAN DATA'!J450","v":0},{"$f":"'SHALA DARPAN DATA'!T450","v":0},{"$f":"'SHALA DARPAN DATA'!V450","v":0},{"$f":"'SHALA DARPAN DATA'!K450","v":0},{"$f":"'SHALA DARPAN DATA'!E450","v":0},{"$f":"'SHALA DARPAN DATA'!G450","v":0},{"$f":"'SHALA DARPAN DATA'!H450","v":0},{"$f":"'SHALA DARPAN DATA'!W450","v":0},{"$f":"'SHALA DARPAN DATA'!R450","v":0},{"$f":"'SHALA DARPAN DATA'!S450","v":0},{"$f":"'SHALA DARPAN DATA'!O450","v":0},0,0,0,0,0,0,0,0,0,0,0]
[{"$f":"'SHALA DARPAN DATA'!C451","v":0},{"$f":"'SHALA DARPAN DATA'!A451","v":0},{"$f":"'SHALA DARPAN DATA'!B451","v":0},{"$f":"'SHALA DARPAN DATA'!D451","v":0},{"$f":"'SHALA DARPAN DATA'!J451","v":0},{"$f":"'SHALA DARPAN DATA'!T451","v":0},{"$f":"'SHALA DARPAN DATA'!V451","v":0},{"$f":"'SHALA DARPAN DATA'!K451","v":0},{"$f":"'SHALA DARPAN DATA'!E451","v":0},{"$f":"'SHALA DARPAN DATA'!G451","v":0},{"$f":"'SHALA DARPAN DATA'!H451","v":0},{"$f":"'SHALA DARPAN DATA'!W451","v":0},{"$f":"'SHALA DARPAN DATA'!R451","v":0},{"$f":"'SHALA DARPAN DATA'!S451","v":0},{"$f":"'SHALA DARPAN DATA'!O451","v":0},0,0,0,0,0,0,0,0,0,0,0]
[{"$f":"'SHALA DARPAN DATA'!C452","v":0},{"$f":"'SHALA DARPAN DATA'!A452","v":0},{"$f":"'SHALA DARPAN DATA'!B452","v":0},{"$f":"'SHALA DARPAN DATA'!D452","v":0},{"$f":"'SHALA DARPAN DATA'!J452","v":0},{"$f":"'SHALA DARPAN DATA'!T452","v":0},{"$f":"'SHALA DARPAN DATA'!V452","v":0},{"$f":"'SHALA DARPAN DATA'!K452","v":0},{"$f":"'SHALA DARPAN DATA'!E452","v":0},{"$f":"'SHALA DARPAN DATA'!G452","v":0},{"$f":"'SHALA DARPAN DATA'!H452","v":0},{"$f":"'SHALA DARPAN DATA'!W452","v":0},{"$f":"'SHALA DARPAN DATA'!R452","v":0},{"$f":"'SHALA DARPAN DATA'!S452","v":0},{"$f":"'SHALA DARPAN DATA'!O452","v":0},0,0,0,0,0,0,0,0,0,0,0]
[{"$f":"'SHALA DARPAN DATA'!C453","v":0},{"$f":"'SHALA DARPAN DATA'!A453","v":0},{"$f":"'SHALA DARPAN DATA'!B453","v":0},{"$f":"'SHALA DARPAN DATA'!D453","v":0},{"$f":"'SHALA DARPAN DATA'!J453","v":0},{"$f":"'SHALA DARPAN DATA'!T453","v":0},{"$f":"'SHALA DARPAN DATA'!V453","v":0},{"$f":"'SHALA DARPAN DATA'!K453","v":0},{"$f":"'SHALA DARPAN DATA'!E453","v":0},{"$f":"'SHALA DARPAN DATA'!G453","v":0},{"$f":"'SHALA DARPAN DATA'!H453","v":0},{"$f":"'SHALA DARPAN DATA'!W453","v":0},{"$f":"'SHALA DARPAN DATA'!R453","v":0},{"$f":"'SHALA DARPAN DATA'!S453","v":0},{"$f":"'SHALA DARPAN DATA'!O453","v":0},0,0,0,0,0,0,0,0,0,0,0]
[{"$f":"'SHALA DARPAN DATA'!C454","v":0},{"$f":"'SHALA DARPAN DATA'!A454","v":0},{"$f":"'SHALA DARPAN DATA'!B454","v":0},{"$f":"'SHALA DARPAN DATA'!D454","v":0},{"$f":"'SHALA DARPAN DATA'!J454","v":0},{"$f":"'SHALA DARPAN DATA'!T454","v":0},{"$f":"'SHALA DARPAN DATA'!V454","v":0},{"$f":"'SHALA DARPAN DATA'!K454","v":0},{"$f":"'SHALA DARPAN DATA'!E454","v":0},{"$f":"'SHALA DARPAN DATA'!G454","v":0},{"$f":"'SHALA DARPAN DATA'!H454","v":0},{"$f":"'SHALA DARPAN DATA'!W454","v":0},{"$f":"'SHALA DARPAN DATA'!R454","v":0},{"$f":"'SHALA DARPAN DATA'!S454","v":0},{"$f":"'SHALA DARPAN DATA'!O454","v":0},0,0,0,0,0,0,0,0,0,0,0]
[{"$f":"'SHALA DARPAN DATA'!C455","v":0},{"$f":"'SHALA DARPAN DATA'!A455","v":0},{"$f":"'SHALA DARPAN DATA'!B455","v":0},{"$f":"'SHALA DARPAN DATA'!D455","v":0},{"$f":"'SHALA DARPAN DATA'!J455","v":0},{"$f":"'SHALA DARPAN DATA'!T455","v":0},{"$f":"'SHALA DARPAN DATA'!V455","v":0},{"$f":"'SHALA DARPAN DATA'!K455","v":0},{"$f":"'SHALA DARPAN DATA'!E455","v":0},{"$f":"'SHALA DARPAN DATA'!G455","v":0},{"$f":"'SHALA DARPAN DATA'!H455","v":0},{"$f":"'SHALA DARPAN DATA'!W455","v":0},{"$f":"'SHALA DARPAN DATA'!R455","v":0},{"$f":"'SHALA DARPAN DATA'!S455","v":0},{"$f":"'SHALA DARPAN DATA'!O455","v":0},0,0,0,0,0,0,0,0,0,0,0]
[{"$f":"'SHALA DARPAN DATA'!C456","v":0},{"$f":"'SHALA DARPAN DATA'!A456","v":0},{"$f":"'SHALA DARPAN DATA'!B456","v":0},{"$f":"'SHALA DARPAN DATA'!D456","v":0},{"$f":"'SHALA DARPAN DATA'!J456","v":0},{"$f":"'SHALA DARPAN DATA'!T456","v":0},{"$f":"'SHALA DARPAN DATA'!V456","v":0},{"$f":"'SHALA DARPAN DATA'!K456","v":0},{"$f":"'SHALA DARPAN DATA'!E456","v":0},{"$f":"'SHALA DARPAN DATA'!G456","v":0},{"$f":"'SHALA DARPAN DATA'!H456","v":0},{"$f":"'SHALA DARPAN DATA'!W456","v":0},{"$f":"'SHALA DARPAN DATA'!R456","v":0},{"$f":"'SHALA DARPAN DATA'!S456","v":0},{"$f":"'SHALA DARPAN DATA'!O456","v":0},0,0,0,0,0,0,0,0,0,0,0]
[{"$f":"'SHALA DARPAN DATA'!C457","v":0},{"$f":"'SHALA DARPAN DATA'!A457","v":0},{"$f":"'SHALA DARPAN DATA'!B457","v":0},{"$f":"'SHALA DARPAN DATA'!D457","v":0},{"$f":"'SHALA DARPAN DATA'!J457","v":0},{"$f":"'SHALA DARPAN DATA'!T457","v":0},{"$f":"'SHALA DARPAN DATA'!V457","v":0},{"$f":"'SHALA DARPAN DATA'!K457","v":0},{"$f":"'SHALA DARPAN DATA'!E457","v":0},{"$f":"'SHALA DARPAN DATA'!G457","v":0},{"$f":"'SHALA DARPAN DATA'!H457","v":0},{"$f":"'SHALA DARPAN DATA'!W457","v":0},{"$f":"'SHALA DARPAN DATA'!R457","v":0},{"$f":"'SHALA DARPAN DATA'!S457","v":0},{"$f":"'SHALA DARPAN DATA'!O457","v":0},0,0,0,0,0,0,0,0,0,0,0]
[{"$f":"'SHALA DARPAN DATA'!C458","v":0},{"$f":"'SHALA DARPAN DATA'!A458","v":0},{"$f":"'SHALA DARPAN DATA'!B458","v":0},{"$f":"'SHALA DARPAN DATA'!D458","v":0},{"$f":"'SHALA DARPAN DATA'!J458","v":0},{"$f":"'SHALA DARPAN DATA'!T458","v":0},{"$f":"'SHALA DARPAN DATA'!V458","v":0},{"$f":"'SHALA DARPAN DATA'!K458","v":0},{"$f":"'SHALA DARPAN DATA'!E458","v":0},{"$f":"'SHALA DARPAN DATA'!G458","v":0},{"$f":"'SHALA DARPAN DATA'!H458","v":0},{"$f":"'SHALA DARPAN DATA'!W458","v":0},{"$f":"'SHALA DARPAN DATA'!R458","v":0},{"$f":"'SHALA DARPAN DATA'!S458","v":0},{"$f":"'SHALA DARPAN DATA'!O458","v":0},0,0,0,0,0,0,0,0,0,0,0]
[{"$f":"'SHALA DARPAN DATA'!C459","v":0},{"$f":"'SHALA DARPAN DATA'!A459","v":0},{"$f":"'SHALA DARPAN DATA'!B459","v":0},{"$f":"'SHALA DARPAN DATA'!D459","v":0},{"$f":"'SHALA DARPAN DATA'!J459","v":0},{"$f":"'SHALA DARPAN DATA'!T459","v":0},{"$f":"'SHALA DARPAN DATA'!V459","v":0},{"$f":"'SHALA DARPAN DATA'!K459","v":0},{"$f":"'SHALA DARPAN DATA'!E459","v":0},{"$f":"'SHALA DARPAN DATA'!G459","v":0},{"$f":"'SHALA DARPAN DATA'!H459","v":0},{"$f":"'SHALA DARPAN DATA'!W459","v":0},{"$f":"'SHALA DARPAN DATA'!R459","v":0},{"$f":"'SHALA DARPAN DATA'!S459","v":0},{"$f":"'SHALA DARPAN DATA'!O459","v":0},0,0,0,0,0,0,0,0,0,0,0]
[{"$f":"'SHALA DARPAN DATA'!C460","v":0},{"$f":"'SHALA DARPAN DATA'!A460","v":0},{"$f":"'SHALA DARPAN DATA'!B460","v":0},{"$f":"'SHALA DARPAN DATA'!D460","v":0},{"$f":"'SHALA DARPAN DATA'!J460","v":0},{"$f":"'SHALA DARPAN DATA'!T460","v":0},{"$f":"'SHALA DARPAN DATA'!V460","v":0},{"$f":"'SHALA DARPAN DATA'!K460","v":0},{"$f":"'SHALA DARPAN DATA'!E460","v":0},{"$f":"'SHALA DARPAN DATA'!G460","v":0},{"$f":"'SHALA DARPAN DATA'!H460","v":0},{"$f":"'SHALA DARPAN DATA'!W460","v":0},{"$f":"'SHALA DARPAN DATA'!R460","v":0},{"$f":"'SHALA DARPAN DATA'!S460","v":0},{"$f":"'SHALA DARPAN DATA'!O460","v":0},0,0,0,0,0,0,0,0,0,0,0]
[{"$f":"'SHALA DARPAN DATA'!C461","v":0},{"$f":"'SHALA DARPAN DATA'!A461","v":0},{"$f":"'SHALA DARPAN DATA'!B461","v":0},{"$f":"'SHALA DARPAN DATA'!D461","v":0},{"$f":"'SHALA DARPAN DATA'!J461","v":0},{"$f":"'SHALA DARPAN DATA'!T461","v":0},{"$f":"'SHALA DARPAN DATA'!V461","v":0},{"$f":"'SHALA DARPAN DATA'!K461","v":0},{"$f":"'SHALA DARPAN DATA'!E461","v":0},{"$f":"'SHALA DARPAN DATA'!G461","v":0},{"$f":"'SHALA DARPAN DATA'!H461","v":0},{"$f":"'SHALA DARPAN DATA'!W461","v":0},{"$f":"'SHALA DARPAN DATA'!R461","v":0},{"$f":"'SHALA DARPAN DATA'!S461","v":0},{"$f":"'SHALA DARPAN DATA'!O461","v":0},0,0,0,0,0,0,0,0,0,0,0]
[{"$f":"'SHALA DARPAN DATA'!C462","v":0},{"$f":"'SHALA DARPAN DATA'!A462","v":0},{"$f":"'SHALA DARPAN DATA'!B462","v":0},{"$f":"'SHALA DARPAN DATA'!D462","v":0},{"$f":"'SHALA DARPAN DATA'!J462","v":0},{"$f":"'SHALA DARPAN DATA'!T462","v":0},{"$f":"'SHALA DARPAN DATA'!V462","v":0},{"$f":"'SHALA DARPAN DATA'!K462","v":0},{"$f":"'SHALA DARPAN DATA'!E462","v":0},{"$f":"'SHALA DARPAN DATA'!G462","v":0},{"$f":"'SHALA DARPAN DATA'!H462","v":0},{"$f":"'SHALA DARPAN DATA'!W462","v":0},{"$f":"'SHALA DARPAN DATA'!R462","v":0},{"$f":"'SHALA DARPAN DATA'!S462","v":0},{"$f":"'SHALA DARPAN DATA'!O462","v":0},0,0,0,0,0,0,0,0,0,0,0]
[{"$f":"'SHALA DARPAN DATA'!C463","v":0},{"$f":"'SHALA DARPAN DATA'!A463","v":0},{"$f":"'SHALA DARPAN DATA'!B463","v":0},{"$f":"'SHALA DARPAN DATA'!D463","v":0},{"$f":"'SHALA DARPAN DATA'!J463","v":0},{"$f":"'SHALA DARPAN DATA'!T463","v":0},{"$f":"'SHALA DARPAN DATA'!V463","v":0},{"$f":"'SHALA DARPAN DATA'!K463","v":0},{"$f":"'SHALA DARPAN DATA'!E463","v":0},{"$f":"'SHALA DARPAN DATA'!G463","v":0},{"$f":"'SHALA DARPAN DATA'!H463","v":0},{"$f":"'SHALA DARPAN DATA'!W463","v":0},{"$f":"'SHALA DARPAN DATA'!R463","v":0},{"$f":"'SHALA DARPAN DATA'!S463","v":0},{"$f":"'SHALA DARPAN DATA'!O463","v":0},0,0,0,0,0,0,0,0,0,0,0]
[{"$f":"'SHALA DARPAN DATA'!C464","v":0},{"$f":"'SHALA DARPAN DATA'!A464","v":0},{"$f":"'SHALA DARPAN DATA'!B464","v":0},{"$f":"'SHALA DARPAN DATA'!D464","v":0},{"$f":"'SHALA DARPAN DATA'!J464","v":0},{"$f":"'SHALA DARPAN DATA'!T464","v":0},{"$f":"'SHALA DARPAN DATA'!V464","v":0},{"$f":"'SHALA DARPAN DATA'!K464","v":0},{"$f":"'SHALA DARPAN DATA'!E464","v":0},{"$f":"'SHALA DARPAN DATA'!G464","v":0},{"$f":"'SHALA DARPAN DATA'!H464","v":0},{"$f":"'SHALA DARPAN DATA'!W464","v":0},{"$f":"'SHALA DARPAN DATA'!R464","v":0},{"$f":"'SHALA DARPAN DATA'!S464","v":0},{"$f":"'SHALA DARPAN DATA'!O464","v":0},0,0,0,0,0,0,0,0,0,0,0]
[{"$f":"'SHALA DARPAN DATA'!C465","v":0},{"$f":"'SHALA DARPAN DATA'!A465","v":0},{"$f":"'SHALA DARPAN DATA'!B465","v":0},{"$f":"'SHALA DARPAN DATA'!D465","v":0},{"$f":"'SHALA DARPAN DATA'!J465","v":0},{"$f":"'SHALA DARPAN DATA'!T465","v":0},{"$f":"'SHALA DARPAN DATA'!V465","v":0},{"$f":"'SHALA DARPAN DATA'!K465","v":0},{"$f":"'SHALA DARPAN DATA'!E465","v":0},{"$f":"'SHALA DARPAN DATA'!G465","v":0},{"$f":"'SHALA DARPAN DATA'!H465","v":0},{"$f":"'SHALA DARPAN DATA'!W465","v":0},{"$f":"'SHALA DARPAN DATA'!R465","v":0},{"$f":"'SHALA DARPAN DATA'!S465","v":0},{"$f":"'SHALA DARPAN DATA'!O465","v":0},0,0,0,0,0,0,0,0,0,0,0]
[{"$f":"'SHALA DARPAN DATA'!C466","v":0},{"$f":"'SHALA DARPAN DATA'!A466","v":0},{"$f":"'SHALA DARPAN DATA'!B466","v":0},{"$f":"'SHALA DARPAN DATA'!D466","v":0},{"$f":"'SHALA DARPAN DATA'!J466","v":0},{"$f":"'SHALA DARPAN DATA'!T466","v":0},{"$f":"'SHALA DARPAN DATA'!V466","v":0},{"$f":"'SHALA DARPAN DATA'!K466","v":0},{"$f":"'SHALA DARPAN DATA'!E466","v":0},{"$f":"'SHALA DARPAN DATA'!G466","v":0},{"$f":"'SHALA DARPAN DATA'!H466","v":0},{"$f":"'SHALA DARPAN DATA'!W466","v":0},{"$f":"'SHALA DARPAN DATA'!R466","v":0},{"$f":"'SHALA DARPAN DATA'!S466","v":0},{"$f":"'SHALA DARPAN DATA'!O466","v":0},0,0,0,0,0,0,0,0,0,0,0]
[{"$f":"'SHALA DARPAN DATA'!C467","v":0},{"$f":"'SHALA DARPAN DATA'!A467","v":0},{"$f":"'SHALA DARPAN DATA'!B467","v":0},{"$f":"'SHALA DARPAN DATA'!D467","v":0},{"$f":"'SHALA DARPAN DATA'!J467","v":0},{"$f":"'SHALA DARPAN DATA'!T467","v":0},{"$f":"'SHALA DARPAN DATA'!V467","v":0},{"$f":"'SHALA DARPAN DATA'!K467","v":0},{"$f":"'SHALA DARPAN DATA'!E467","v":0},{"$f":"'SHALA DARPAN DATA'!G467","v":0},{"$f":"'SHALA DARPAN DATA'!H467","v":0},{"$f":"'SHALA DARPAN DATA'!W467","v":0},{"$f":"'SHALA DARPAN DATA'!R467","v":0},{"$f":"'SHALA DARPAN DATA'!S467","v":0},{"$f":"'SHALA DARPAN DATA'!O467","v":0},0,0,0,0,0,0,0,0,0,0,0]
[{"$f":"'SHALA DARPAN DATA'!C468","v":0},{"$f":"'SHALA DARPAN DATA'!A468","v":0},{"$f":"'SHALA DARPAN DATA'!B468","v":0},{"$f":"'SHALA DARPAN DATA'!D468","v":0},{"$f":"'SHALA DARPAN DATA'!J468","v":0},{"$f":"'SHALA DARPAN DATA'!T468","v":0},{"$f":"'SHALA DARPAN DATA'!V468","v":0},{"$f":"'SHALA DARPAN DATA'!K468","v":0},{"$f":"'SHALA DARPAN DATA'!E468","v":0},{"$f":"'SHALA DARPAN DATA'!G468","v":0},{"$f":"'SHALA DARPAN DATA'!H468","v":0},{"$f":"'SHALA DARPAN DATA'!W468","v":0},{"$f":"'SHALA DARPAN DATA'!R468","v":0},{"$f":"'SHALA DARPAN DATA'!S468","v":0},{"$f":"'SHALA DARPAN DATA'!O468","v":0},0,0,0,0,0,0,0,0,0,0,0]
[{"$f":"'SHALA DARPAN DATA'!C469","v":0},{"$f":"'SHALA DARPAN DATA'!A469","v":0},{"$f":"'SHALA DARPAN DATA'!B469","v":0},{"$f":"'SHALA DARPAN DATA'!D469","v":0},{"$f":"'SHALA DARPAN DATA'!J469","v":0},{"$f":"'SHALA DARPAN DATA'!T469","v":0},{"$f":"'SHALA DARPAN DATA'!V469","v":0},{"$f":"'SHALA DARPAN DATA'!K469","v":0},{"$f":"'SHALA DARPAN DATA'!E469","v":0},{"$f":"'SHALA DARPAN DATA'!G469","v":0},{"$f":"'SHALA DARPAN DATA'!H469","v":0},{"$f":"'SHALA DARPAN DATA'!W469","v":0},{"$f":"'SHALA DARPAN DATA'!R469","v":0},{"$f":"'SHALA DARPAN DATA'!S469","v":0},{"$f":"'SHALA DARPAN DATA'!O469","v":0},0,0,0,0,0,0,0,0,0,0,0]
[{"$f":"'SHALA DARPAN DATA'!C470","v":0},{"$f":"'SHALA DARPAN DATA'!A470","v":0},{"$f":"'SHALA DARPAN DATA'!B470","v":0},{"$f":"'SHALA DARPAN DATA'!D470","v":0},{"$f":"'SHALA DARPAN DATA'!J470","v":0},{"$f":"'SHALA DARPAN DATA'!T470","v":0},{"$f":"'SHALA DARPAN DATA'!V470","v":0},{"$f":"'SHALA DARPAN DATA'!K470","v":0},{"$f":"'SHALA DARPAN DATA'!E470","v":0},{"$f":"'SHALA DARPAN DATA'!G470","v":0},{"$f":"'SHALA DARPAN DATA'!H470","v":0},{"$f":"'SHALA DARPAN DATA'!W470","v":0},{"$f":"'SHALA DARPAN DATA'!R470","v":0},{"$f":"'SHALA DARPAN DATA'!S470","v":0},{"$f":"'SHALA DARPAN DATA'!O470","v":0},0,0,0,0,0,0,0,0,0,0,0]
[{"$f":"'SHALA DARPAN DATA'!C471","v":0},{"$f":"'SHALA DARPAN DATA'!A471","v":0},{"$f":"'SHALA DARPAN DATA'!B471","v":0},{"$f":"'SHALA DARPAN DATA'!D471","v":0},{"$f":"'SHALA DARPAN DATA'!J471","v":0},{"$f":"'SHALA DARPAN DATA'!T471","v":0},{"$f":"'SHALA DARPAN DATA'!V471","v":0},{"$f":"'SHALA DARPAN DATA'!K471","v":0},{"$f":"'SHALA DARPAN DATA'!E471","v":0},{"$f":"'SHALA DARPAN DATA'!G471","v":0},{"$f":"'SHALA DARPAN DATA'!H471","v":0},{"$f":"'SHALA DARPAN DATA'!W471","v":0},{"$f":"'SHALA DARPAN DATA'!R471","v":0},{"$f":"'SHALA DARPAN DATA'!S471","v":0},{"$f":"'SHALA DARPAN DATA'!O471","v":0},0,0,0,0,0,0,0,0,0,0,0]
[{"$f":"'SHALA DARPAN DATA'!C472","v":0},{"$f":"'SHALA DARPAN DATA'!A472","v":0},{"$f":"'SHALA DARPAN DATA'!B472","v":0},{"$f":"'SHALA DARPAN DATA'!D472","v":0},{"$f":"'SHALA DARPAN DATA'!J472","v":0},{"$f":"'SHALA DARPAN DATA'!T472","v":0},{"$f":"'SHALA DARPAN DATA'!V472","v":0},{"$f":"'SHALA DARPAN DATA'!K472","v":0},{"$f":"'SHALA DARPAN DATA'!E472","v":0},{"$f":"'SHALA DARPAN DATA'!G472","v":0},{"$f":"'SHALA DARPAN DATA'!H472","v":0},{"$f":"'SHALA DARPAN DATA'!W472","v":0},{"$f":"'SHALA DARPAN DATA'!R472","v":0},{"$f":"'SHALA DARPAN DATA'!S472","v":0},{"$f":"'SHALA DARPAN DATA'!O472","v":0},0,0,0,0,0,0,0,0,0,0,0]
[{"$f":"'SHALA DARPAN DATA'!C473","v":0},{"$f":"'SHALA DARPAN DATA'!A473","v":0},{"$f":"'SHALA DARPAN DATA'!B473","v":0},{"$f":"'SHALA DARPAN DATA'!D473","v":0},{"$f":"'SHALA DARPAN DATA'!J473","v":0},{"$f":"'SHALA DARPAN DATA'!T473","v":0},{"$f":"'SHALA DARPAN DATA'!V473","v":0},{"$f":"'SHALA DARPAN DATA'!K473","v":0},{"$f":"'SHALA DARPAN DATA'!E473","v":0},{"$f":"'SHALA DARPAN DATA'!G473","v":0},{"$f":"'SHALA DARPAN DATA'!H473","v":0},{"$f":"'SHALA DARPAN DATA'!W473","v":0},{"$f":"'SHALA DARPAN DATA'!R473","v":0},{"$f":"'SHALA DARPAN DATA'!S473","v":0},{"$f":"'SHALA DARPAN DATA'!O473","v":0},0,0,0,0,0,0,0,0,0,0,0]
[{"$f":"'SHALA DARPAN DATA'!C474","v":0},{"$f":"'SHALA DARPAN DATA'!A474","v":0},{"$f":"'SHALA DARPAN DATA'!B474","v":0},{"$f":"'SHALA DARPAN DATA'!D474","v":0},{"$f":"'SHALA DARPAN DATA'!J474","v":0},{"$f":"'SHALA DARPAN DATA'!T474","v":0},{"$f":"'SHALA DARPAN DATA'!V474","v":0},{"$f":"'SHALA DARPAN DATA'!K474","v":0},{"$f":"'SHALA DARPAN DATA'!E474","v":0},{"$f":"'SHALA DARPAN DATA'!G474","v":0},{"$f":"'SHALA DARPAN DATA'!H474","v":0},{"$f":"'SHALA DARPAN DATA'!W474","v":0},{"$f":"'SHALA DARPAN DATA'!R474","v":0},{"$f":"'SHALA DARPAN DATA'!S474","v":0},{"$f":"'SHALA DARPAN DATA'!O474","v":0},0,0,0,0,0,0,0,0,0,0,0]
[{"$f":"'SHALA DARPAN DATA'!C475","v":0},{"$f":"'SHALA DARPAN DATA'!A475","v":0},{"$f":"'SHALA DARPAN DATA'!B475","v":0},{"$f":"'SHALA DARPAN DATA'!D475","v":0},{"$f":"'SHALA DARPAN DATA'!J475","v":0},{"$f":"'SHALA DARPAN DATA'!T475","v":0},{"$f":"'SHALA DARPAN DATA'!V475","v":0},{"$f":"'SHALA DARPAN DATA'!K475","v":0},{"$f":"'SHALA DARPAN DATA'!E475","v":0},{"$f":"'SHALA DARPAN DATA'!G475","v":0},{"$f":"'SHALA DARPAN DATA'!H475","v":0},{"$f":"'SHALA DARPAN DATA'!W475","v":0},{"$f":"'SHALA DARPAN DATA'!R475","v":0},{"$f":"'SHALA DARPAN DATA'!S475","v":0},{"$f":"'SHALA DARPAN DATA'!O475","v":0},0,0,0,0,0,0,0,0,0,0,0]
[{"$f":"'SHALA DARPAN DATA'!C476","v":0},{"$f":"'SHALA DARPAN DATA'!A476","v":0},{"$f":"'SHALA DARPAN DATA'!B476","v":0},{"$f":"'SHALA DARPAN DATA'!D476","v":0},{"$f":"'SHALA DARPAN DATA'!J476","v":0},{"$f":"'SHALA DARPAN DATA'!T476","v":0},{"$f":"'SHALA DARPAN DATA'!V476","v":0},{"$f":"'SHALA DARPAN DATA'!K476","v":0},{"$f":"'SHALA DARPAN DATA'!E476","v":0},{"$f":"'SHALA DARPAN DATA'!G476","v":0},{"$f":"'SHALA DARPAN DATA'!H476","v":0},{"$f":"'SHALA DARPAN DATA'!W476","v":0},{"$f":"'SHALA DARPAN DATA'!R476","v":0},{"$f":"'SHALA DARPAN DATA'!S476","v":0},{"$f":"'SHALA DARPAN DATA'!O476","v":0},0,0,0,0,0,0,0,0,0,0,0]
[{"$f":"'SHALA DARPAN DATA'!C477","v":0},{"$f":"'SHALA DARPAN DATA'!A477","v":0},{"$f":"'SHALA DARPAN DATA'!B477","v":0},{"$f":"'SHALA DARPAN DATA'!D477","v":0},{"$f":"'SHALA DARPAN DATA'!J477","v":0},{"$f":"'SHALA DARPAN DATA'!T477","v":0},{"$f":"'SHALA DARPAN DATA'!V477","v":0},{"$f":"'SHALA DARPAN DATA'!K477","v":0},{"$f":"'SHALA DARPAN DATA'!E477","v":0},{"$f":"'SHALA DARPAN DATA'!G477","v":0},{"$f":"'SHALA DARPAN DATA'!H477","v":0},{"$f":"'SHALA DARPAN DATA'!W477","v":0},{"$f":"'SHALA DARPAN DATA'!R477","v":0},{"$f":"'SHALA DARPAN DATA'!S477","v":0},{"$f":"'SHALA DARPAN DATA'!O477","v":0},0,0,0,0,0,0,0,0,0,0,0]
[{"$f":"'SHALA DARPAN DATA'!C478","v":0},{"$f":"'SHALA DARPAN DATA'!A478","v":0},{"$f":"'SHALA DARPAN DATA'!B478","v":0},{"$f":"'SHALA DARPAN DATA'!D478","v":0},{"$f":"'SHALA DARPAN DATA'!J478","v":0},{"$f":"'SHALA DARPAN DATA'!T478","v":0},{"$f":"'SHALA DARPAN DATA'!V478","v":0},{"$f":"'SHALA DARPAN DATA'!K478","v":0},{"$f":"'SHALA DARPAN DATA'!E478","v":0},{"$f":"'SHALA DARPAN DATA'!G478","v":0},{"$f":"'SHALA DARPAN DATA'!H478","v":0},{"$f":"'SHALA DARPAN DATA'!W478","v":0},{"$f":"'SHALA DARPAN DATA'!R478","v":0},{"$f":"'SHALA DARPAN DATA'!S478","v":0},{"$f":"'SHALA DARPAN DATA'!O478","v":0},0,0,0,0,0,0,0,0,0,0,0]
[{"$f":"'SHALA DARPAN DATA'!C479","v":0},{"$f":"'SHALA DARPAN DATA'!A479","v":0},{"$f":"'SHALA DARPAN DATA'!B479","v":0},{"$f":"'SHALA DARPAN DATA'!D479","v":0},{"$f":"'SHALA DARPAN DATA'!J479","v":0},{"$f":"'SHALA DARPAN DATA'!T479","v":0},{"$f":"'SHALA DARPAN DATA'!V479","v":0},{"$f":"'SHALA DARPAN DATA'!K479","v":0},{"$f":"'SHALA DARPAN DATA'!E479","v":0},{"$f":"'SHALA DARPAN DATA'!G479","v":0},{"$f":"'SHALA DARPAN DATA'!H479","v":0},{"$f":"'SHALA DARPAN DATA'!W479","v":0},{"$f":"'SHALA DARPAN DATA'!R479","v":0},{"$f":"'SHALA DARPAN DATA'!S479","v":0},{"$f":"'SHALA DARPAN DATA'!O479","v":0},0,0,0,0,0,0,0,0,0,0,0]
[{"$f":"'SHALA DARPAN DATA'!C480","v":0},{"$f":"'SHALA DARPAN DATA'!A480","v":0},{"$f":"'SHALA DARPAN DATA'!B480","v":0},{"$f":"'SHALA DARPAN DATA'!D480","v":0},{"$f":"'SHALA DARPAN DATA'!J480","v":0},{"$f":"'SHALA DARPAN DATA'!T480","v":0},{"$f":"'SHALA DARPAN DATA'!V480","v":0},{"$f":"'SHALA DARPAN DATA'!K480","v":0},{"$f":"'SHALA DARPAN DATA'!E480","v":0},{"$f":"'SHALA DARPAN DATA'!G480","v":0},{"$f":"'SHALA DARPAN DATA'!H480","v":0},{"$f":"'SHALA DARPAN DATA'!W480","v":0},{"$f":"'SHALA DARPAN DATA'!R480","v":0},{"$f":"'SHALA DARPAN DATA'!S480","v":0},{"$f":"'SHALA DARPAN DATA'!O480","v":0},0,0,0,0,0,0,0,0,0,0,0]
[{"$f":"'SHALA DARPAN DATA'!C481","v":0},{"$f":"'SHALA DARPAN DATA'!A481","v":0},{"$f":"'SHALA DARPAN DATA'!B481","v":0},{"$f":"'SHALA DARPAN DATA'!D481","v":0},{"$f":"'SHALA DARPAN DATA'!J481","v":0},{"$f":"'SHALA DARPAN DATA'!T481","v":0},{"$f":"'SHALA DARPAN DATA'!V481","v":0},{"$f":"'SHALA DARPAN DATA'!K481","v":0},{"$f":"'SHALA DARPAN DATA'!E481","v":0},{"$f":"'SHALA DARPAN DATA'!G481","v":0},{"$f":"'SHALA DARPAN DATA'!H481","v":0},{"$f":"'SHALA DARPAN DATA'!W481","v":0},{"$f":"'SHALA DARPAN DATA'!R481","v":0},{"$f":"'SHALA DARPAN DATA'!S481","v":0},{"$f":"'SHALA DARPAN DATA'!O481","v":0},0,0,0,0,0,0,0,0,0,0,0]
[{"$f":"'SHALA DARPAN DATA'!C482","v":0},{"$f":"'SHALA DARPAN DATA'!A482","v":0},{"$f":"'SHALA DARPAN DATA'!B482","v":0},{"$f":"'SHALA DARPAN DATA'!D482","v":0},{"$f":"'SHALA DARPAN DATA'!J482","v":0},{"$f":"'SHALA DARPAN DATA'!T482","v":0},{"$f":"'SHALA DARPAN DATA'!V482","v":0},{"$f":"'SHALA DARPAN DATA'!K482","v":0},{"$f":"'SHALA DARPAN DATA'!E482","v":0},{"$f":"'SHALA DARPAN DATA'!G482","v":0},{"$f":"'SHALA DARPAN DATA'!H482","v":0},{"$f":"'SHALA DARPAN DATA'!W482","v":0},{"$f":"'SHALA DARPAN DATA'!R482","v":0},{"$f":"'SHALA DARPAN DATA'!S482","v":0},{"$f":"'SHALA DARPAN DATA'!O482","v":0},0,0,0,0,0,0,0,0,0,0,0]
[{"$f":"'SHALA DARPAN DATA'!C483","v":0},{"$f":"'SHALA DARPAN DATA'!A483","v":0},{"$f":"'SHALA DARPAN DATA'!B483","v":0},{"$f":"'SHALA DARPAN DATA'!D483","v":0},{"$f":"'SHALA DARPAN DATA'!J483","v":0},{"$f":"'SHALA DARPAN DATA'!T483","v":0},{"$f":"'SHALA DARPAN DATA'!V483","v":0},{"$f":"'SHALA DARPAN DATA'!K483","v":0},{"$f":"'SHALA DARPAN DATA'!E483","v":0},{"$f":"'SHALA DARPAN DATA'!G483","v":0},{"$f":"'SHALA DARPAN DATA'!H483","v":0},{"$f":"'SHALA DARPAN DATA'!W483","v":0},{"$f":"'SHALA DARPAN DATA'!R483","v":0},{"$f":"'SHALA DARPAN DATA'!S483","v":0},{"$f":"'SHALA DARPAN DATA'!O483","v":0},0,0,0,0,0,0,0,0,0,0,0]
[{"$f":"'SHALA DARPAN DATA'!C484","v":0},{"$f":"'SHALA DARPAN DATA'!A484","v":0},{"$f":"'SHALA DARPAN DATA'!B484","v":0},{"$f":"'SHALA DARPAN DATA'!D484","v":0},{"$f":"'SHALA DARPAN DATA'!J484","v":0},{"$f":"'SHALA DARPAN DATA'!T484","v":0},{"$f":"'SHALA DARPAN DATA'!V484","v":0},{"$f":"'SHALA DARPAN DATA'!K484","v":0},{"$f":"'SHALA DARPAN DATA'!E484","v":0},{"$f":"'SHALA DARPAN DATA'!G484","v":0},{"$f":"'SHALA DARPAN DATA'!H484","v":0},{"$f":"'SHALA DARPAN DATA'!W484","v":0},{"$f":"'SHALA DARPAN DATA'!R484","v":0},{"$f":"'SHALA DARPAN DATA'!S484","v":0},{"$f":"'SHALA DARPAN DATA'!O484","v":0},0,0,0,0,0,0,0,0,0,0,0]
[{"$f":"'SHALA DARPAN DATA'!C485","v":0},{"$f":"'SHALA DARPAN DATA'!A485","v":0},{"$f":"'SHALA DARPAN DATA'!B485","v":0},{"$f":"'SHALA DARPAN DATA'!D485","v":0},{"$f":"'SHALA DARPAN DATA'!J485","v":0},{"$f":"'SHALA DARPAN DATA'!T485","v":0},{"$f":"'SHALA DARPAN DATA'!V485","v":0},{"$f":"'SHALA DARPAN DATA'!K485","v":0},{"$f":"'SHALA DARPAN DATA'!E485","v":0},{"$f":"'SHALA DARPAN DATA'!G485","v":0},{"$f":"'SHALA DARPAN DATA'!H485","v":0},{"$f":"'SHALA DARPAN DATA'!W485","v":0},{"$f":"'SHALA DARPAN DATA'!R485","v":0},{"$f":"'SHALA DARPAN DATA'!S485","v":0},{"$f":"'SHALA DARPAN DATA'!O485","v":0},0,0,0,0,0,0,0,0,0,0,0]
[{"$f":"'SHALA DARPAN DATA'!C486","v":0},{"$f":"'SHALA DARPAN DATA'!A486","v":0},{"$f":"'SHALA DARPAN DATA'!B486","v":0},{"$f":"'SHALA DARPAN DATA'!D486","v":0},{"$f":"'SHALA DARPAN DATA'!J486","v":0},{"$f":"'SHALA DARPAN DATA'!T486","v":0},{"$f":"'SHALA DARPAN DATA'!V486","v":0},{"$f":"'SHALA DARPAN DATA'!K486","v":0},{"$f":"'SHALA DARPAN DATA'!E486","v":0},{"$f":"'SHALA DARPAN DATA'!G486","v":0},{"$f":"'SHALA DARPAN DATA'!H486","v":0},{"$f":"'SHALA DARPAN DATA'!W486","v":0},{"$f":"'SHALA DARPAN DATA'!R486","v":0},{"$f":"'SHALA DARPAN DATA'!S486","v":0},{"$f":"'SHALA DARPAN DATA'!O486","v":0},0,0,0,0,0,0,0,0,0,0,0]
[{"$f":"'SHALA DARPAN DATA'!C487","v":0},{"$f":"'SHALA DARPAN DATA'!A487","v":0},{"$f":"'SHALA DARPAN DATA'!B487","v":0},{"$f":"'SHALA DARPAN DATA'!D487","v":0},{"$f":"'SHALA DARPAN DATA'!J487","v":0},{"$f":"'SHALA DARPAN DATA'!T487","v":0},{"$f":"'SHALA DARPAN DATA'!V487","v":0},{"$f":"'SHALA DARPAN DATA'!K487","v":0},{"$f":"'SHALA DARPAN DATA'!E487","v":0},{"$f":"'SHALA DARPAN DATA'!G487","v":0},{"$f":"'SHALA DARPAN DATA'!H487","v":0},{"$f":"'SHALA DARPAN DATA'!W487","v":0},{"$f":"'SHALA DARPAN DATA'!R487","v":0},{"$f":"'SHALA DARPAN DATA'!S487","v":0},{"$f":"'SHALA DARPAN DATA'!O487","v":0},0,0,0,0,0,0,0,0,0,0,0]
[{"$f":"'SHALA DARPAN DATA'!C488","v":0},{"$f":"'SHALA DARPAN DATA'!A488","v":0},{"$f":"'SHALA DARPAN DATA'!B488","v":0},{"$f":"'SHALA DARPAN DATA'!D488","v":0},{"$f":"'SHALA DARPAN DATA'!J488","v":0},{"$f":"'SHALA DARPAN DATA'!T488","v":0},{"$f":"'SHALA DARPAN DATA'!V488","v":0},{"$f":"'SHALA DARPAN DATA'!K488","v":0},{"$f":"'SHALA DARPAN DATA'!E488","v":0},{"$f":"'SHALA DARPAN DATA'!G488","v":0},{"$f":"'SHALA DARPAN DATA'!H488","v":0},{"$f":"'SHALA DARPAN DATA'!W488","v":0},{"$f":"'SHALA DARPAN DATA'!R488","v":0},{"$f":"'SHALA DARPAN DATA'!S488","v":0},{"$f":"'SHALA DARPAN DATA'!O488","v":0},0,0,0,0,0,0,0,0,0,0,0]
[{"$f":"'SHALA DARPAN DATA'!C489","v":0},{"$f":"'SHALA DARPAN DATA'!A489","v":0},{"$f":"'SHALA DARPAN DATA'!B489","v":0},{"$f":"'SHALA DARPAN DATA'!D489","v":0},{"$f":"'SHALA DARPAN DATA'!J489","v":0},{"$f":"'SHALA DARPAN DATA'!T489","v":0},{"$f":"'SHALA DARPAN DATA'!V489","v":0},{"$f":"'SHALA DARPAN DATA'!K489","v":0},{"$f":"'SHALA DARPAN DATA'!E489","v":0},{"$f":"'SHALA DARPAN DATA'!G489","v":0},{"$f":"'SHALA DARPAN DATA'!H489","v":0},{"$f":"'SHALA DARPAN DATA'!W489","v":0},{"$f":"'SHALA DARPAN DATA'!R489","v":0},{"$f":"'SHALA DARPAN DATA'!S489","v":0},{"$f":"'SHALA DARPAN DATA'!O489","v":0},0,0,0,0,0,0,0,0,0,0,0]
[{"$f":"'SHALA DARPAN DATA'!C490","v":0},{"$f":"'SHALA DARPAN DATA'!A490","v":0},{"$f":"'SHALA DARPAN DATA'!B490","v":0},{"$f":"'SHALA DARPAN DATA'!D490","v":0},{"$f":"'SHALA DARPAN DATA'!J490","v":0},{"$f":"'SHALA DARPAN DATA'!T490","v":0},{"$f":"'SHALA DARPAN DATA'!V490","v":0},{"$f":"'SHALA DARPAN DATA'!K490","v":0},{"$f":"'SHALA DARPAN DATA'!E490","v":0},{"$f":"'SHALA DARPAN DATA'!G490","v":0},{"$f":"'SHALA DARPAN DATA'!H490","v":0},{"$f":"'SHALA DARPAN DATA'!W490","v":0},{"$f":"'SHALA DARPAN DATA'!R490","v":0},{"$f":"'SHALA DARPAN DATA'!S490","v":0},{"$f":"'SHALA DARPAN DATA'!O490","v":0},0,0,0,0,0,0,0,0,0,0,0]
[{"$f":"'SHALA DARPAN DATA'!C491","v":0},{"$f":"'SHALA DARPAN DATA'!A491","v":0},{"$f":"'SHALA DARPAN DATA'!B491","v":0},{"$f":"'SHALA DARPAN DATA'!D491","v":0},{"$f":"'SHALA DARPAN DATA'!J491","v":0},{"$f":"'SHALA DARPAN DATA'!T491","v":0},{"$f":"'SHALA DARPAN DATA'!V491","v":0},{"$f":"'SHALA DARPAN DATA'!K491","v":0},{"$f":"'SHALA DARPAN DATA'!E491","v":0},{"$f":"'SHALA DARPAN DATA'!G491","v":0},{"$f":"'SHALA DARPAN DATA'!H491","v":0},{"$f":"'SHALA DARPAN DATA'!W491","v":0},{"$f":"'SHALA DARPAN DATA'!R491","v":0},{"$f":"'SHALA DARPAN DATA'!S491","v":0},{"$f":"'SHALA DARPAN DATA'!O491","v":0},0,0,0,0,0,0,0,0,0,0,0]
[{"$f":"'SHALA DARPAN DATA'!C492","v":0},{"$f":"'SHALA DARPAN DATA'!A492","v":0},{"$f":"'SHALA DARPAN DATA'!B492","v":0},{"$f":"'SHALA DARPAN DATA'!D492","v":0},{"$f":"'SHALA DARPAN DATA'!J492","v":0},{"$f":"'SHALA DARPAN DATA'!T492","v":0},{"$f":"'SHALA DARPAN DATA'!V492","v":0},{"$f":"'SHALA DARPAN DATA'!K492","v":0},{"$f":"'SHALA DARPAN DATA'!E492","v":0},{"$f":"'SHALA DARPAN DATA'!G492","v":0},{"$f":"'SHALA DARPAN DATA'!H492","v":0},{"$f":"'SHALA DARPAN DATA'!W492","v":0},{"$f":"'SHALA DARPAN DATA'!R492","v":0},{"$f":"'SHALA DARPAN DATA'!S492","v":0},{"$f":"'SHALA DARPAN DATA'!O492","v":0},0,0,0,0,0,0,0,0,0,0,0]
[{"$f":"'SHALA DARPAN DATA'!C493","v":0},{"$f":"'SHALA DARPAN DATA'!A493","v":0},{"$f":"'SHALA DARPAN DATA'!B493","v":0},{"$f":"'SHALA DARPAN DATA'!D493","v":0},{"$f":"'SHALA DARPAN DATA'!J493","v":0},{"$f":"'SHALA DARPAN DATA'!T493","v":0},{"$f":"'SHALA DARPAN DATA'!V493","v":0},{"$f":"'SHALA DARPAN DATA'!K493","v":0},{"$f":"'SHALA DARPAN DATA'!E493","v":0},{"$f":"'SHALA DARPAN DATA'!G493","v":0},{"$f":"'SHALA DARPAN DATA'!H493","v":0},{"$f":"'SHALA DARPAN DATA'!W493","v":0},{"$f":"'SHALA DARPAN DATA'!R493","v":0},{"$f":"'SHALA DARPAN DATA'!S493","v":0},{"$f":"'SHALA DARPAN DATA'!O493","v":0},0,0,0,0,0,0,0,0,0,0,0]
[{"$f":"'SHALA DARPAN DATA'!C494","v":0},{"$f":"'SHALA DARPAN DATA'!A494","v":0},{"$f":"'SHALA DARPAN DATA'!B494","v":0},{"$f":"'SHALA DARPAN DATA'!D494","v":0},{"$f":"'SHALA DARPAN DATA'!J494","v":0},{"$f":"'SHALA DARPAN DATA'!T494","v":0},{"$f":"'SHALA DARPAN DATA'!V494","v":0},{"$f":"'SHALA DARPAN DATA'!K494","v":0},{"$f":"'SHALA DARPAN DATA'!E494","v":0},{"$f":"'SHALA DARPAN DATA'!G494","v":0},{"$f":"'SHALA DARPAN DATA'!H494","v":0},{"$f":"'SHALA DARPAN DATA'!W494","v":0},{"$f":"'SHALA DARPAN DATA'!R494","v":0},{"$f":"'SHALA DARPAN DATA'!S494","v":0},{"$f":"'SHALA DARPAN DATA'!O494","v":0},0,0,0,0,0,0,0,0,0,0,0]
[{"$f":"'SHALA DARPAN DATA'!C495","v":0},{"$f":"'SHALA DARPAN DATA'!A495","v":0},{"$f":"'SHALA DARPAN DATA'!B495","v":0},{"$f":"'SHALA DARPAN DATA'!D495","v":0},{"$f":"'SHALA DARPAN DATA'!J495","v":0},{"$f":"'SHALA DARPAN DATA'!T495","v":0},{"$f":"'SHALA DARPAN DATA'!V495","v":0},{"$f":"'SHALA DARPAN DATA'!K495","v":0},{"$f":"'SHALA DARPAN DATA'!E495","v":0},{"$f":"'SHALA DARPAN DATA'!G495","v":0},{"$f":"'SHALA DARPAN DATA'!H495","v":0},{"$f":"'SHALA DARPAN DATA'!W495","v":0},{"$f":"'SHALA DARPAN DATA'!R495","v":0},{"$f":"'SHALA DARPAN DATA'!S495","v":0},{"$f":"'SHALA DARPAN DATA'!O495","v":0},0,0,0,0,0,0,0,0,0,0,0]
[{"$f":"'SHALA DARPAN DATA'!C496","v":0},{"$f":"'SHALA DARPAN DATA'!A496","v":0},{"$f":"'SHALA DARPAN DATA'!B496","v":0},{"$f":"'SHALA DARPAN DATA'!D496","v":0},{"$f":"'SHALA DARPAN DATA'!J496","v":0},{"$f":"'SHALA DARPAN DATA'!T496","v":0},{"$f":"'SHALA DARPAN DATA'!V496","v":0},{"$f":"'SHALA DARPAN DATA'!K496","v":0},{"$f":"'SHALA DARPAN DATA'!E496","v":0},{"$f":"'SHALA DARPAN DATA'!G496","v":0},{"$f":"'SHALA DARPAN DATA'!H496","v":0},{"$f":"'SHALA DARPAN DATA'!W496","v":0},{"$f":"'SHALA DARPAN DATA'!R496","v":0},{"$f":"'SHALA DARPAN DATA'!S496","v":0},{"$f":"'SHALA DARPAN DATA'!O496","v":0},0,0,0,0,0,0,0,0,0,0,0]
[{"$f":"'SHALA DARPAN DATA'!C497","v":0},{"$f":"'SHALA DARPAN DATA'!A497","v":0},{"$f":"'SHALA DARPAN DATA'!B497","v":0},{"$f":"'SHALA DARPAN DATA'!D497","v":0},{"$f":"'SHALA DARPAN DATA'!J497","v":0},{"$f":"'SHALA DARPAN DATA'!T497","v":0},{"$f":"'SHALA DARPAN DATA'!V497","v":0},{"$f":"'SHALA DARPAN DATA'!K497","v":0},{"$f":"'SHALA DARPAN DATA'!E497","v":0},{"$f":"'SHALA DARPAN DATA'!G497","v":0},{"$f":"'SHALA DARPAN DATA'!H497","v":0},{"$f":"'SHALA DARPAN DATA'!W497","v":0},{"$f":"'SHALA DARPAN DATA'!R497","v":0},{"$f":"'SHALA DARPAN DATA'!S497","v":0},{"$f":"'SHALA DARPAN DATA'!O497","v":0},0,0,0,0,0,0,0,0,0,0,0]
[{"$f":"'SHALA DARPAN DATA'!C498","v":0},{"$f":"'SHALA DARPAN DATA'!A498","v":0},{"$f":"'SHALA DARPAN DATA'!B498","v":0},{"$f":"'SHALA DARPAN DATA'!D498","v":0},{"$f":"'SHALA DARPAN DATA'!J498","v":0},{"$f":"'SHALA DARPAN DATA'!T498","v":0},{"$f":"'SHALA DARPAN DATA'!V498","v":0},{"$f":"'SHALA DARPAN DATA'!K498","v":0},{"$f":"'SHALA DARPAN DATA'!E498","v":0},{"$f":"'SHALA DARPAN DATA'!G498","v":0},{"$f":"'SHALA DARPAN DATA'!H498","v":0},{"$f":"'SHALA DARPAN DATA'!W498","v":0},{"$f":"'SHALA DARPAN DATA'!R498","v":0},{"$f":"'SHALA DARPAN DATA'!S498","v":0},{"$f":"'SHALA DARPAN DATA'!O498","v":0},0,0,0,0,0,0,0,0,0,0,0]
[{"$f":"'SHALA DARPAN DATA'!C499","v":0},{"$f":"'SHALA DARPAN DATA'!A499","v":0},{"$f":"'SHALA DARPAN DATA'!B499","v":0},{"$f":"'SHALA DARPAN DATA'!D499","v":0},{"$f":"'SHALA DARPAN DATA'!J499","v":0},{"$f":"'SHALA DARPAN DATA'!T499","v":0},{"$f":"'SHALA DARPAN DATA'!V499","v":0},{"$f":"'SHALA DARPAN DATA'!K499","v":0},{"$f":"'SHALA DARPAN DATA'!E499","v":0},{"$f":"'SHALA DARPAN DATA'!G499","v":0},{"$f":"'SHALA DARPAN DATA'!H499","v":0},{"$f":"'SHALA DARPAN DATA'!W499","v":0},{"$f":"'SHALA DARPAN DATA'!R499","v":0},{"$f":"'SHALA DARPAN DATA'!S499","v":0},{"$f":"'SHALA DARPAN DATA'!O499","v":0},0,0,0,0,0,0,0,0,0,0,0]
[{"$f":"'SHALA DARPAN DATA'!C500","v":0},{"$f":"'SHALA DARPAN DATA'!A500","v":0},{"$f":"'SHALA DARPAN DATA'!B500","v":0},{"$f":"'SHALA DARPAN DATA'!D500","v":0},{"$f":"'SHALA DARPAN DATA'!J500","v":0},{"$f":"'SHALA DARPAN DATA'!T500","v":0},{"$f":"'SHALA DARPAN DATA'!V500","v":0},{"$f":"'SHALA DARPAN DATA'!K500","v":0},{"$f":"'SHALA DARPAN DATA'!E500","v":0},{"$f":"'SHALA DARPAN DATA'!G500","v":0},{"$f":"'SHALA DARPAN DATA'!H500","v":0},{"$f":"'SHALA DARPAN DATA'!W500","v":0},{"$f":"'SHALA DARPAN DATA'!R500","v":0},{"$f":"'SHALA DARPAN DATA'!S500","v":0},{"$f":"'SHALA DARPAN DATA'!O500","v":0},0,0,0,0,0,0,0,0,0,0,0]
[{"$f":"'SHALA DARPAN DATA'!C501","v":0},{"$f":"'SHALA DARPAN DATA'!A501","v":0},{"$f":"'SHALA DARPAN DATA'!B501","v":0},{"$f":"'SHALA DARPAN DATA'!D501","v":0},{"$f":"'SHALA DARPAN DATA'!J501","v":0},{"$f":"'SHALA DARPAN DATA'!T501","v":0},{"$f":"'SHALA DARPAN DATA'!V501","v":0},{"$f":"'SHALA DARPAN DATA'!K501","v":0},{"$f":"'SHALA DARPAN DATA'!E501","v":0},{"$f":"'SHALA DARPAN DATA'!G501","v":0},{"$f":"'SHALA DARPAN DATA'!H501","v":0},{"$f":"'SHALA DARPAN DATA'!W501","v":0},{"$f":"'SHALA DARPAN DATA'!R501","v":0},{"$f":"'SHALA DARPAN DATA'!S501","v":0},{"$f":"'SHALA DARPAN DATA'!O501","v":0},0,0,0,0,0,0,0,0,0,0,0]
[{"$f":"'SHALA DARPAN DATA'!C502","v":0},{"$f":"'SHALA DARPAN DATA'!A502","v":0},{"$f":"'SHALA DARPAN DATA'!B502","v":0},{"$f":"'SHALA DARPAN DATA'!D502","v":0},{"$f":"'SHALA DARPAN DATA'!J502","v":0},{"$f":"'SHALA DARPAN DATA'!T502","v":0},{"$f":"'SHALA DARPAN DATA'!V502","v":0},{"$f":"'SHALA DARPAN DATA'!K502","v":0},{"$f":"'SHALA DARPAN DATA'!E502","v":0},{"$f":"'SHALA DARPAN DATA'!G502","v":0},{"$f":"'SHALA DARPAN DATA'!H502","v":0},{"$f":"'SHALA DARPAN DATA'!W502","v":0},{"$f":"'SHALA DARPAN DATA'!R502","v":0},{"$f":"'SHALA DARPAN DATA'!S502","v":0},{"$f":"'SHALA DARPAN DATA'!O502","v":0},0,0,0,0,0,0,0,0,0,0,0]
[{"$f":"'SHALA DARPAN DATA'!C503","v":0},{"$f":"'SHALA DARPAN DATA'!A503","v":0},{"$f":"'SHALA DARPAN DATA'!B503","v":0},{"$f":"'SHALA DARPAN DATA'!D503","v":0},{"$f":"'SHALA DARPAN DATA'!J503","v":0},{"$f":"'SHALA DARPAN DATA'!T503","v":0},{"$f":"'SHALA DARPAN DATA'!V503","v":0},{"$f":"'SHALA DARPAN DATA'!K503","v":0},{"$f":"'SHALA DARPAN DATA'!E503","v":0},{"$f":"'SHALA DARPAN DATA'!G503","v":0},{"$f":"'SHALA DARPAN DATA'!H503","v":0},{"$f":"'SHALA DARPAN DATA'!W503","v":0},{"$f":"'SHALA DARPAN DATA'!R503","v":0},{"$f":"'SHALA DARPAN DATA'!S503","v":0},{"$f":"'SHALA DARPAN DATA'!O503","v":0},0,0,0,0,0,0,0,0,0,0,0]
[{"$f":"'SHALA DARPAN DATA'!C504","v":0},{"$f":"'SHALA DARPAN DATA'!A504","v":0},{"$f":"'SHALA DARPAN DATA'!B504","v":0},{"$f":"'SHALA DARPAN DATA'!D504","v":0},{"$f":"'SHALA DARPAN DATA'!J504","v":0},{"$f":"'SHALA DARPAN DATA'!T504","v":0},{"$f":"'SHALA DARPAN DATA'!V504","v":0},{"$f":"'SHALA DARPAN DATA'!K504","v":0},{"$f":"'SHALA DARPAN DATA'!E504","v":0},{"$f":"'SHALA DARPAN DATA'!G504","v":0},{"$f":"'SHALA DARPAN DATA'!H504","v":0},{"$f":"'SHALA DARPAN DATA'!W504","v":0},{"$f":"'SHALA DARPAN DATA'!R504","v":0},{"$f":"'SHALA DARPAN DATA'!S504","v":0},{"$f":"'SHALA DARPAN DATA'!O504","v":0},0,0,0,0,0,0,0,0,0,0,0]
[{"$f":"'SHALA DARPAN DATA'!C505","v":0},{"$f":"'SHALA DARPAN DATA'!A505","v":0},{"$f":"'SHALA DARPAN DATA'!B505","v":0},{"$f":"'SHALA DARPAN DATA'!D505","v":0},{"$f":"'SHALA DARPAN DATA'!J505","v":0},{"$f":"'SHALA DARPAN DATA'!T505","v":0},{"$f":"'SHALA DARPAN DATA'!V505","v":0},{"$f":"'SHALA DARPAN DATA'!K505","v":0},{"$f":"'SHALA DARPAN DATA'!E505","v":0},{"$f":"'SHALA DARPAN DATA'!G505","v":0},{"$f":"'SHALA DARPAN DATA'!H505","v":0},{"$f":"'SHALA DARPAN DATA'!W505","v":0},{"$f":"'SHALA DARPAN DATA'!R505","v":0},{"$f":"'SHALA DARPAN DATA'!S505","v":0},{"$f":"'SHALA DARPAN DATA'!O505","v":0},0,0,0,0,0,0,0,0,0,0,0]
[{"$f":"'SHALA DARPAN DATA'!C506","v":0},{"$f":"'SHALA DARPAN DATA'!A506","v":0},{"$f":"'SHALA DARPAN DATA'!B506","v":0},{"$f":"'SHALA DARPAN DATA'!D506","v":0},{"$f":"'SHALA DARPAN DATA'!J506","v":0},{"$f":"'SHALA DARPAN DATA'!T506","v":0},{"$f":"'SHALA DARPAN DATA'!V506","v":0},{"$f":"'SHALA DARPAN DATA'!K506","v":0},{"$f":"'SHALA DARPAN DATA'!E506","v":0},{"$f":"'SHALA DARPAN DATA'!G506","v":0},{"$f":"'SHALA DARPAN DATA'!H506","v":0},{"$f":"'SHALA DARPAN DATA'!W506","v":0},{"$f":"'SHALA DARPAN DATA'!R506","v":0},{"$f":"'SHALA DARPAN DATA'!S506","v":0},{"$f":"'SHALA DARPAN DATA'!O506","v":0},0,0,0,0,0,0,0,0,0,0,0]
[{"$f":"'SHALA DARPAN DATA'!C507","v":0},{"$f":"'SHALA DARPAN DATA'!A507","v":0},{"$f":"'SHALA DARPAN DATA'!B507","v":0},{"$f":"'SHALA DARPAN DATA'!D507","v":0},{"$f":"'SHALA DARPAN DATA'!J507","v":0},{"$f":"'SHALA DARPAN DATA'!T507","v":0},{"$f":"'SHALA DARPAN DATA'!V507","v":0},{"$f":"'SHALA DARPAN DATA'!K507","v":0},{"$f":"'SHALA DARPAN DATA'!E507","v":0},{"$f":"'SHALA DARPAN DATA'!G507","v":0},{"$f":"'SHALA DARPAN DATA'!H507","v":0},{"$f":"'SHALA DARPAN DATA'!W507","v":0},{"$f":"'SHALA DARPAN DATA'!R507","v":0},{"$f":"'SHALA DARPAN DATA'!S507","v":0},{"$f":"'SHALA DARPAN DATA'!O507","v":0},0,0,0,0,0,0,0,0,0,0,0]
[{"$f":"'SHALA DARPAN DATA'!C508","v":0},{"$f":"'SHALA DARPAN DATA'!A508","v":0},{"$f":"'SHALA DARPAN DATA'!B508","v":0},{"$f":"'SHALA DARPAN DATA'!D508","v":0},{"$f":"'SHALA DARPAN DATA'!J508","v":0},{"$f":"'SHALA DARPAN DATA'!T508","v":0},{"$f":"'SHALA DARPAN DATA'!V508","v":0},{"$f":"'SHALA DARPAN DATA'!K508","v":0},{"$f":"'SHALA DARPAN DATA'!E508","v":0},{"$f":"'SHALA DARPAN DATA'!G508","v":0},{"$f":"'SHALA DARPAN DATA'!H508","v":0},{"$f":"'SHALA DARPAN DATA'!W508","v":0},{"$f":"'SHALA DARPAN DATA'!R508","v":0},{"$f":"'SHALA DARPAN DATA'!S508","v":0},{"$f":"'SHALA DARPAN DATA'!O508","v":0},0,0,0,0,0,0,0,0,0,0,0]
[{"$f":"'SHALA DARPAN DATA'!C509","v":0},{"$f":"'SHALA DARPAN DATA'!A509","v":0},{"$f":"'SHALA DARPAN DATA'!B509","v":0},{"$f":"'SHALA DARPAN DATA'!D509","v":0},{"$f":"'SHALA DARPAN DATA'!J509","v":0},{"$f":"'SHALA DARPAN DATA'!T509","v":0},{"$f":"'SHALA DARPAN DATA'!V509","v":0},{"$f":"'SHALA DARPAN DATA'!K509","v":0},{"$f":"'SHALA DARPAN DATA'!E509","v":0},{"$f":"'SHALA DARPAN DATA'!G509","v":0},{"$f":"'SHALA DARPAN DATA'!H509","v":0},{"$f":"'SHALA DARPAN DATA'!W509","v":0},{"$f":"'SHALA DARPAN DATA'!R509","v":0},{"$f":"'SHALA DARPAN DATA'!S509","v":0},{"$f":"'SHALA DARPAN DATA'!O509","v":0},0,0,0,0,0,0,0,0,0,0,0]
[{"$f":"'SHALA DARPAN DATA'!C510","v":0},{"$f":"'SHALA DARPAN DATA'!A510","v":0},{"$f":"'SHALA DARPAN DATA'!B510","v":0},{"$f":"'SHALA DARPAN DATA'!D510","v":0},{"$f":"'SHALA DARPAN DATA'!J510","v":0},{"$f":"'SHALA DARPAN DATA'!T510","v":0},{"$f":"'SHALA DARPAN DATA'!V510","v":0},{"$f":"'SHALA DARPAN DATA'!K510","v":0},{"$f":"'SHALA DARPAN DATA'!E510","v":0},{"$f":"'SHALA DARPAN DATA'!G510","v":0},{"$f":"'SHALA DARPAN DATA'!H510","v":0},{"$f":"'SHALA DARPAN DATA'!W510","v":0},{"$f":"'SHALA DARPAN DATA'!R510","v":0},{"$f":"'SHALA DARPAN DATA'!S510","v":0},{"$f":"'SHALA DARPAN DATA'!O510","v":0},0,0,0,0,0,0,0,0,0,0,0]
[{"$f":"'SHALA DARPAN DATA'!C511","v":0},{"$f":"'SHALA DARPAN DATA'!A511","v":0},{"$f":"'SHALA DARPAN DATA'!B511","v":0},{"$f":"'SHALA DARPAN DATA'!D511","v":0},{"$f":"'SHALA DARPAN DATA'!J511","v":0},{"$f":"'SHALA DARPAN DATA'!T511","v":0},{"$f":"'SHALA DARPAN DATA'!V511","v":0},{"$f":"'SHALA DARPAN DATA'!K511","v":0},{"$f":"'SHALA DARPAN DATA'!E511","v":0},{"$f":"'SHALA DARPAN DATA'!G511","v":0},{"$f":"'SHALA DARPAN DATA'!H511","v":0},{"$f":"'SHALA DARPAN DATA'!W511","v":0},{"$f":"'SHALA DARPAN DATA'!R511","v":0},{"$f":"'SHALA DARPAN DATA'!S511","v":0},{"$f":"'SHALA DARPAN DATA'!O511","v":0},0,0,0,0,0,0,0,0,0,0,0]
[{"$f":"'SHALA DARPAN DATA'!C512","v":0},{"$f":"'SHALA DARPAN DATA'!A512","v":0},{"$f":"'SHALA DARPAN DATA'!B512","v":0},{"$f":"'SHALA DARPAN DATA'!D512","v":0},{"$f":"'SHALA DARPAN DATA'!J512","v":0},{"$f":"'SHALA DARPAN DATA'!T512","v":0},{"$f":"'SHALA DARPAN DATA'!V512","v":0},{"$f":"'SHALA DARPAN DATA'!K512","v":0},{"$f":"'SHALA DARPAN DATA'!E512","v":0},{"$f":"'SHALA DARPAN DATA'!G512","v":0},{"$f":"'SHALA DARPAN DATA'!H512","v":0},{"$f":"'SHALA DARPAN DATA'!W512","v":0},{"$f":"'SHALA DARPAN DATA'!R512","v":0},{"$f":"'SHALA DARPAN DATA'!S512","v":0},{"$f":"'SHALA DARPAN DATA'!O512","v":0},0,0,0,0,0,0,0,0,0,0,0]
[{"$f":"'SHALA DARPAN DATA'!C513","v":0},{"$f":"'SHALA DARPAN DATA'!A513","v":0},{"$f":"'SHALA DARPAN DATA'!B513","v":0},{"$f":"'SHALA DARPAN DATA'!D513","v":0},{"$f":"'SHALA DARPAN DATA'!J513","v":0},{"$f":"'SHALA DARPAN DATA'!T513","v":0},{"$f":"'SHALA DARPAN DATA'!V513","v":0},{"$f":"'SHALA DARPAN DATA'!K513","v":0},{"$f":"'SHALA DARPAN DATA'!E513","v":0},{"$f":"'SHALA DARPAN DATA'!G513","v":0},{"$f":"'SHALA DARPAN DATA'!H513","v":0},{"$f":"'SHALA DARPAN DATA'!W513","v":0},{"$f":"'SHALA DARPAN DATA'!R513","v":0},{"$f":"'SHALA DARPAN DATA'!S513","v":0},{"$f":"'SHALA DARPAN DATA'!O513","v":0},0,0,0,0,0,0,0,0,0,0,0]
[{"$f":"'SHALA DARPAN DATA'!C514","v":0},{"$f":"'SHALA DARPAN DATA'!A514","v":0},{"$f":"'SHALA DARPAN DATA'!B514","v":0},{"$f":"'SHALA DARPAN DATA'!D514","v":0},{"$f":"'SHALA DARPAN DATA'!J514","v":0},{"$f":"'SHALA DARPAN DATA'!T514","v":0},{"$f":"'SHALA DARPAN DATA'!V514","v":0},{"$f":"'SHALA DARPAN DATA'!K514","v":0},{"$f":"'SHALA DARPAN DATA'!E514","v":0},{"$f":"'SHALA DARPAN DATA'!G514","v":0},{"$f":"'SHALA DARPAN DATA'!H514","v":0},{"$f":"'SHALA DARPAN DATA'!W514","v":0},{"$f":"'SHALA DARPAN DATA'!R514","v":0},{"$f":"'SHALA DARPAN DATA'!S514","v":0},{"$f":"'SHALA DARPAN DATA'!O514","v":0},0,0,0,0,0,0,0,0,0,0,0]
[{"$f":"'SHALA DARPAN DATA'!C515","v":0},{"$f":"'SHALA DARPAN DATA'!A515","v":0},{"$f":"'SHALA DARPAN DATA'!B515","v":0},{"$f":"'SHALA DARPAN DATA'!D515","v":0},{"$f":"'SHALA DARPAN DATA'!J515","v":0},{"$f":"'SHALA DARPAN DATA'!T515","v":0},{"$f":"'SHALA DARPAN DATA'!V515","v":0},{"$f":"'SHALA DARPAN DATA'!K515","v":0},{"$f":"'SHALA DARPAN DATA'!E515","v":0},{"$f":"'SHALA DARPAN DATA'!G515","v":0},{"$f":"'SHALA DARPAN DATA'!H515","v":0},{"$f":"'SHALA DARPAN DATA'!W515","v":0},{"$f":"'SHALA DARPAN DATA'!R515","v":0},{"$f":"'SHALA DARPAN DATA'!S515","v":0},{"$f":"'SHALA DARPAN DATA'!O515","v":0},0,0,0,0,0,0,0,0,0,0,0]
[{"$f":"'SHALA DARPAN DATA'!C516","v":0},{"$f":"'SHALA DARPAN DATA'!A516","v":0},{"$f":"'SHALA DARPAN DATA'!B516","v":0},{"$f":"'SHALA DARPAN DATA'!D516","v":0},{"$f":"'SHALA DARPAN DATA'!J516","v":0},{"$f":"'SHALA DARPAN DATA'!T516","v":0},{"$f":"'SHALA DARPAN DATA'!V516","v":0},{"$f":"'SHALA DARPAN DATA'!K516","v":0},{"$f":"'SHALA DARPAN DATA'!E516","v":0},{"$f":"'SHALA DARPAN DATA'!G516","v":0},{"$f":"'SHALA DARPAN DATA'!H516","v":0},{"$f":"'SHALA DARPAN DATA'!W516","v":0},{"$f":"'SHALA DARPAN DATA'!R516","v":0},{"$f":"'SHALA DARPAN DATA'!S516","v":0},{"$f":"'SHALA DARPAN DATA'!O516","v":0},0,0,0,0,0,0,0,0,0,0,0]
[{"$f":"'SHALA DARPAN DATA'!C517","v":0},{"$f":"'SHALA DARPAN DATA'!A517","v":0},{"$f":"'SHALA DARPAN DATA'!B517","v":0},{"$f":"'SHALA DARPAN DATA'!D517","v":0},{"$f":"'SHALA DARPAN DATA'!J517","v":0},{"$f":"'SHALA DARPAN DATA'!T517","v":0},{"$f":"'SHALA DARPAN DATA'!V517","v":0},{"$f":"'SHALA DARPAN DATA'!K517","v":0},{"$f":"'SHALA DARPAN DATA'!E517","v":0},{"$f":"'SHALA DARPAN DATA'!G517","v":0},{"$f":"'SHALA DARPAN DATA'!H517","v":0},{"$f":"'SHALA DARPAN DATA'!W517","v":0},{"$f":"'SHALA DARPAN DATA'!R517","v":0},{"$f":"'SHALA DARPAN DATA'!S517","v":0},{"$f":"'SHALA DARPAN DATA'!O517","v":0},0,0,0,0,0,0,0,0,0,0,0]
[{"$f":"'SHALA DARPAN DATA'!C518","v":0},{"$f":"'SHALA DARPAN DATA'!A518","v":0},{"$f":"'SHALA DARPAN DATA'!B518","v":0},{"$f":"'SHALA DARPAN DATA'!D518","v":0},{"$f":"'SHALA DARPAN DATA'!J518","v":0},{"$f":"'SHALA DARPAN DATA'!T518","v":0},{"$f":"'SHALA DARPAN DATA'!V518","v":0},{"$f":"'SHALA DARPAN DATA'!K518","v":0},{"$f":"'SHALA DARPAN DATA'!E518","v":0},{"$f":"'SHALA DARPAN DATA'!G518","v":0},{"$f":"'SHALA DARPAN DATA'!H518","v":0},{"$f":"'SHALA DARPAN DATA'!W518","v":0},{"$f":"'SHALA DARPAN DATA'!R518","v":0},{"$f":"'SHALA DARPAN DATA'!S518","v":0},{"$f":"'SHALA DARPAN DATA'!O518","v":0},0,0,0,0,0,0,0,0,0,0,0]
[{"$f":"'SHALA DARPAN DATA'!C519","v":0},{"$f":"'SHALA DARPAN DATA'!A519","v":0},{"$f":"'SHALA DARPAN DATA'!B519","v":0},{"$f":"'SHALA DARPAN DATA'!D519","v":0},{"$f":"'SHALA DARPAN DATA'!J519","v":0},{"$f":"'SHALA DARPAN DATA'!T519","v":0},{"$f":"'SHALA DARPAN DATA'!V519","v":0},{"$f":"'SHALA DARPAN DATA'!K519","v":0},{"$f":"'SHALA DARPAN DATA'!E519","v":0},{"$f":"'SHALA DARPAN DATA'!G519","v":0},{"$f":"'SHALA DARPAN DATA'!H519","v":0},{"$f":"'SHALA DARPAN DATA'!W519","v":0},{"$f":"'SHALA DARPAN DATA'!R519","v":0},{"$f":"'SHALA DARPAN DATA'!S519","v":0},{"$f":"'SHALA DARPAN DATA'!O519","v":0},0,0,0,0,0,0,0,0,0,0,0]
[{"$f":"'SHALA DARPAN DATA'!C520","v":0},{"$f":"'SHALA DARPAN DATA'!A520","v":0},{"$f":"'SHALA DARPAN DATA'!B520","v":0},{"$f":"'SHALA DARPAN DATA'!D520","v":0},{"$f":"'SHALA DARPAN DATA'!J520","v":0},{"$f":"'SHALA DARPAN DATA'!T520","v":0},{"$f":"'SHALA DARPAN DATA'!V520","v":0},{"$f":"'SHALA DARPAN DATA'!K520","v":0},{"$f":"'SHALA DARPAN DATA'!E520","v":0},{"$f":"'SHALA DARPAN DATA'!G520","v":0},{"$f":"'SHALA DARPAN DATA'!H520","v":0},{"$f":"'SHALA DARPAN DATA'!W520","v":0},{"$f":"'SHALA DARPAN DATA'!R520","v":0},{"$f":"'SHALA DARPAN DATA'!S520","v":0},{"$f":"'SHALA DARPAN DATA'!O520","v":0},0,0,0,0,0,0,0,0,0,0,0]
[{"$f":"'SHALA DARPAN DATA'!C521","v":0},{"$f":"'SHALA DARPAN DATA'!A521","v":0},{"$f":"'SHALA DARPAN DATA'!B521","v":0},{"$f":"'SHALA DARPAN DATA'!D521","v":0},{"$f":"'SHALA DARPAN DATA'!J521","v":0},{"$f":"'SHALA DARPAN DATA'!T521","v":0},{"$f":"'SHALA DARPAN DATA'!V521","v":0},{"$f":"'SHALA DARPAN DATA'!K521","v":0},{"$f":"'SHALA DARPAN DATA'!E521","v":0},{"$f":"'SHALA DARPAN DATA'!G521","v":0},{"$f":"'SHALA DARPAN DATA'!H521","v":0},{"$f":"'SHALA DARPAN DATA'!W521","v":0},{"$f":"'SHALA DARPAN DATA'!R521","v":0},{"$f":"'SHALA DARPAN DATA'!S521","v":0},{"$f":"'SHALA DARPAN DATA'!O521","v":0},0,0,0,0,0,0,0,0,0,0,0]
[{"$f":"'SHALA DARPAN DATA'!C522","v":0},{"$f":"'SHALA DARPAN DATA'!A522","v":0},{"$f":"'SHALA DARPAN DATA'!B522","v":0},{"$f":"'SHALA DARPAN DATA'!D522","v":0},{"$f":"'SHALA DARPAN DATA'!J522","v":0},{"$f":"'SHALA DARPAN DATA'!T522","v":0},{"$f":"'SHALA DARPAN DATA'!V522","v":0},{"$f":"'SHALA DARPAN DATA'!K522","v":0},{"$f":"'SHALA DARPAN DATA'!E522","v":0},{"$f":"'SHALA DARPAN DATA'!G522","v":0},{"$f":"'SHALA DARPAN DATA'!H522","v":0},{"$f":"'SHALA DARPAN DATA'!W522","v":0},{"$f":"'SHALA DARPAN DATA'!R522","v":0},{"$f":"'SHALA DARPAN DATA'!S522","v":0},{"$f":"'SHALA DARPAN DATA'!O522","v":0},0,0,0,0,0,0,0,0,0,0,0]
[{"$f":"'SHALA DARPAN DATA'!C523","v":0},{"$f":"'SHALA DARPAN DATA'!A523","v":0},{"$f":"'SHALA DARPAN DATA'!B523","v":0},{"$f":"'SHALA DARPAN DATA'!D523","v":0},{"$f":"'SHALA DARPAN DATA'!J523","v":0},{"$f":"'SHALA DARPAN DATA'!T523","v":0},{"$f":"'SHALA DARPAN DATA'!V523","v":0},{"$f":"'SHALA DARPAN DATA'!K523","v":0},{"$f":"'SHALA DARPAN DATA'!E523","v":0},{"$f":"'SHALA DARPAN DATA'!G523","v":0},{"$f":"'SHALA DARPAN DATA'!H523","v":0},{"$f":"'SHALA DARPAN DATA'!W523","v":0},{"$f":"'SHALA DARPAN DATA'!R523","v":0},{"$f":"'SHALA DARPAN DATA'!S523","v":0},{"$f":"'SHALA DARPAN DATA'!O523","v":0},0,0,0,0,0,0,0,0,0,0,0]
[{"$f":"'SHALA DARPAN DATA'!C524","v":0},{"$f":"'SHALA DARPAN DATA'!A524","v":0},{"$f":"'SHALA DARPAN DATA'!B524","v":0},{"$f":"'SHALA DARPAN DATA'!D524","v":0},{"$f":"'SHALA DARPAN DATA'!J524","v":0},{"$f":"'SHALA DARPAN DATA'!T524","v":0},{"$f":"'SHALA DARPAN DATA'!V524","v":0},{"$f":"'SHALA DARPAN DATA'!K524","v":0},{"$f":"'SHALA DARPAN DATA'!E524","v":0},{"$f":"'SHALA DARPAN DATA'!G524","v":0},{"$f":"'SHALA DARPAN DATA'!H524","v":0},{"$f":"'SHALA DARPAN DATA'!W524","v":0},{"$f":"'SHALA DARPAN DATA'!R524","v":0},{"$f":"'SHALA DARPAN DATA'!S524","v":0},{"$f":"'SHALA DARPAN DATA'!O524","v":0},0,0,0,0,0,0,0,0,0,0,0]
[{"$f":"'SHALA DARPAN DATA'!C525","v":0},{"$f":"'SHALA DARPAN DATA'!A525","v":0},{"$f":"'SHALA DARPAN DATA'!B525","v":0},{"$f":"'SHALA DARPAN DATA'!D525","v":0},{"$f":"'SHALA DARPAN DATA'!J525","v":0},{"$f":"'SHALA DARPAN DATA'!T525","v":0},{"$f":"'SHALA DARPAN DATA'!V525","v":0},{"$f":"'SHALA DARPAN DATA'!K525","v":0},{"$f":"'SHALA DARPAN DATA'!E525","v":0},{"$f":"'SHALA DARPAN DATA'!G525","v":0},{"$f":"'SHALA DARPAN DATA'!H525","v":0},{"$f":"'SHALA DARPAN DATA'!W525","v":0},{"$f":"'SHALA DARPAN DATA'!R525","v":0},{"$f":"'SHALA DARPAN DATA'!S525","v":0},{"$f":"'SHALA DARPAN DATA'!O525","v":0},0,0,0,0,0,0,0,0,0,0,0]
[{"$f":"'SHALA DARPAN DATA'!C526","v":0},{"$f":"'SHALA DARPAN DATA'!A526","v":0},{"$f":"'SHALA DARPAN DATA'!B526","v":0},{"$f":"'SHALA DARPAN DATA'!D526","v":0},{"$f":"'SHALA DARPAN DATA'!J526","v":0},{"$f":"'SHALA DARPAN DATA'!T526","v":0},{"$f":"'SHALA DARPAN DATA'!V526","v":0},{"$f":"'SHALA DARPAN DATA'!K526","v":0},{"$f":"'SHALA DARPAN DATA'!E526","v":0},{"$f":"'SHALA DARPAN DATA'!G526","v":0},{"$f":"'SHALA DARPAN DATA'!H526","v":0},{"$f":"'SHALA DARPAN DATA'!W526","v":0},{"$f":"'SHALA DARPAN DATA'!R526","v":0},{"$f":"'SHALA DARPAN DATA'!S526","v":0},{"$f":"'SHALA DARPAN DATA'!O526","v":0},0,0,0,0,0,0,0,0,0,0,0]
[{"$f":"'SHALA DARPAN DATA'!C527","v":0},{"$f":"'SHALA DARPAN DATA'!A527","v":0},{"$f":"'SHALA DARPAN DATA'!B527","v":0},{"$f":"'SHALA DARPAN DATA'!D527","v":0},{"$f":"'SHALA DARPAN DATA'!J527","v":0},{"$f":"'SHALA DARPAN DATA'!T527","v":0},{"$f":"'SHALA DARPAN DATA'!V527","v":0},{"$f":"'SHALA DARPAN DATA'!K527","v":0},{"$f":"'SHALA DARPAN DATA'!E527","v":0},{"$f":"'SHALA DARPAN DATA'!G527","v":0},{"$f":"'SHALA DARPAN DATA'!H527","v":0},{"$f":"'SHALA DARPAN DATA'!W527","v":0},{"$f":"'SHALA DARPAN DATA'!R527","v":0},{"$f":"'SHALA DARPAN DATA'!S527","v":0},{"$f":"'SHALA DARPAN DATA'!O527","v":0},0,0,0,0,0,0,0,0,0,0,0]
[{"$f":"'SHALA DARPAN DATA'!C528","v":0},{"$f":"'SHALA DARPAN DATA'!A528","v":0},{"$f":"'SHALA DARPAN DATA'!B528","v":0},{"$f":"'SHALA DARPAN DATA'!D528","v":0},{"$f":"'SHALA DARPAN DATA'!J528","v":0},{"$f":"'SHALA DARPAN DATA'!T528","v":0},{"$f":"'SHALA DARPAN DATA'!V528","v":0},{"$f":"'SHALA DARPAN DATA'!K528","v":0},{"$f":"'SHALA DARPAN DATA'!E528","v":0},{"$f":"'SHALA DARPAN DATA'!G528","v":0},{"$f":"'SHALA DARPAN DATA'!H528","v":0},{"$f":"'SHALA DARPAN DATA'!W528","v":0},{"$f":"'SHALA DARPAN DATA'!R528","v":0},{"$f":"'SHALA DARPAN DATA'!S528","v":0},{"$f":"'SHALA DARPAN DATA'!O528","v":0},0,0,0,0,0,0,0,0,0,0,0]
[{"$f":"'SHALA DARPAN DATA'!C529","v":0},{"$f":"'SHALA DARPAN DATA'!A529","v":0},{"$f":"'SHALA DARPAN DATA'!B529","v":0},{"$f":"'SHALA DARPAN DATA'!D529","v":0},{"$f":"'SHALA DARPAN DATA'!J529","v":0},{"$f":"'SHALA DARPAN DATA'!T529","v":0},{"$f":"'SHALA DARPAN DATA'!V529","v":0},{"$f":"'SHALA DARPAN DATA'!K529","v":0},{"$f":"'SHALA DARPAN DATA'!E529","v":0},{"$f":"'SHALA DARPAN DATA'!G529","v":0},{"$f":"'SHALA DARPAN DATA'!H529","v":0},{"$f":"'SHALA DARPAN DATA'!W529","v":0},{"$f":"'SHALA DARPAN DATA'!R529","v":0},{"$f":"'SHALA DARPAN DATA'!S529","v":0},{"$f":"'SHALA DARPAN DATA'!O529","v":0},0,0,0,0,0,0,0,0,0,0,0]
[{"$f":"'SHALA DARPAN DATA'!C530","v":0},{"$f":"'SHALA DARPAN DATA'!A530","v":0},{"$f":"'SHALA DARPAN DATA'!B530","v":0},{"$f":"'SHALA DARPAN DATA'!D530","v":0},{"$f":"'SHALA DARPAN DATA'!J530","v":0},{"$f":"'SHALA DARPAN DATA'!T530","v":0},{"$f":"'SHALA DARPAN DATA'!V530","v":0},{"$f":"'SHALA DARPAN DATA'!K530","v":0},{"$f":"'SHALA DARPAN DATA'!E530","v":0},{"$f":"'SHALA DARPAN DATA'!G530","v":0},{"$f":"'SHALA DARPAN DATA'!H530","v":0},{"$f":"'SHALA DARPAN DATA'!W530","v":0},{"$f":"'SHALA DARPAN DATA'!R530","v":0},{"$f":"'SHALA DARPAN DATA'!S530","v":0},{"$f":"'SHALA DARPAN DATA'!O530","v":0},0,0,0,0,0,0,0,0,0,0,0]
[{"$f":"'SHALA DARPAN DATA'!C531","v":0},{"$f":"'SHALA DARPAN DATA'!A531","v":0},{"$f":"'SHALA DARPAN DATA'!B531","v":0},{"$f":"'SHALA DARPAN DATA'!D531","v":0},{"$f":"'SHALA DARPAN DATA'!J531","v":0},{"$f":"'SHALA DARPAN DATA'!T531","v":0},{"$f":"'SHALA DARPAN DATA'!V531","v":0},{"$f":"'SHALA DARPAN DATA'!K531","v":0},{"$f":"'SHALA DARPAN DATA'!E531","v":0},{"$f":"'SHALA DARPAN DATA'!G531","v":0},{"$f":"'SHALA DARPAN DATA'!H531","v":0},{"$f":"'SHALA DARPAN DATA'!W531","v":0},{"$f":"'SHALA DARPAN DATA'!R531","v":0},{"$f":"'SHALA DARPAN DATA'!S531","v":0},{"$f":"'SHALA DARPAN DATA'!O531","v":0},0,0,0,0,0,0,0,0,0,0,0]
[{"$f":"'SHALA DARPAN DATA'!C532","v":0},{"$f":"'SHALA DARPAN DATA'!A532","v":0},{"$f":"'SHALA DARPAN DATA'!B532","v":0},{"$f":"'SHALA DARPAN DATA'!D532","v":0},{"$f":"'SHALA DARPAN DATA'!J532","v":0},{"$f":"'SHALA DARPAN DATA'!T532","v":0},{"$f":"'SHALA DARPAN DATA'!V532","v":0},{"$f":"'SHALA DARPAN DATA'!K532","v":0},{"$f":"'SHALA DARPAN DATA'!E532","v":0},{"$f":"'SHALA DARPAN DATA'!G532","v":0},{"$f":"'SHALA DARPAN DATA'!H532","v":0},{"$f":"'SHALA DARPAN DATA'!W532","v":0},{"$f":"'SHALA DARPAN DATA'!R532","v":0},{"$f":"'SHALA DARPAN DATA'!S532","v":0},{"$f":"'SHALA DARPAN DATA'!O532","v":0},0,0,0,0,0,0,0,0,0,0,0]
[{"$f":"'SHALA DARPAN DATA'!C533","v":0},{"$f":"'SHALA DARPAN DATA'!A533","v":0},{"$f":"'SHALA DARPAN DATA'!B533","v":0},{"$f":"'SHALA DARPAN DATA'!D533","v":0},{"$f":"'SHALA DARPAN DATA'!J533","v":0},{"$f":"'SHALA DARPAN DATA'!T533","v":0},{"$f":"'SHALA DARPAN DATA'!V533","v":0},{"$f":"'SHALA DARPAN DATA'!K533","v":0},{"$f":"'SHALA DARPAN DATA'!E533","v":0},{"$f":"'SHALA DARPAN DATA'!G533","v":0},{"$f":"'SHALA DARPAN DATA'!H533","v":0},{"$f":"'SHALA DARPAN DATA'!W533","v":0},{"$f":"'SHALA DARPAN DATA'!R533","v":0},{"$f":"'SHALA DARPAN DATA'!S533","v":0},{"$f":"'SHALA DARPAN DATA'!O533","v":0},0,0,0,0,0,0,0,0,0,0,0]
[{"$f":"'SHALA DARPAN DATA'!C534","v":0},{"$f":"'SHALA DARPAN DATA'!A534","v":0},{"$f":"'SHALA DARPAN DATA'!B534","v":0},{"$f":"'SHALA DARPAN DATA'!D534","v":0},{"$f":"'SHALA DARPAN DATA'!J534","v":0},{"$f":"'SHALA DARPAN DATA'!T534","v":0},{"$f":"'SHALA DARPAN DATA'!V534","v":0},{"$f":"'SHALA DARPAN DATA'!K534","v":0},{"$f":"'SHALA DARPAN DATA'!E534","v":0},{"$f":"'SHALA DARPAN DATA'!G534","v":0},{"$f":"'SHALA DARPAN DATA'!H534","v":0},{"$f":"'SHALA DARPAN DATA'!W534","v":0},{"$f":"'SHALA DARPAN DATA'!R534","v":0},{"$f":"'SHALA DARPAN DATA'!S534","v":0},{"$f":"'SHALA DARPAN DATA'!O534","v":0},0,0,0,0,0,0,0,0,0,0,0]
[{"$f":"'SHALA DARPAN DATA'!C535","v":0},{"$f":"'SHALA DARPAN DATA'!A535","v":0},{"$f":"'SHALA DARPAN DATA'!B535","v":0},{"$f":"'SHALA DARPAN DATA'!D535","v":0},{"$f":"'SHALA DARPAN DATA'!J535","v":0},{"$f":"'SHALA DARPAN DATA'!T535","v":0},{"$f":"'SHALA DARPAN DATA'!V535","v":0},{"$f":"'SHALA DARPAN DATA'!K535","v":0},{"$f":"'SHALA DARPAN DATA'!E535","v":0},{"$f":"'SHALA DARPAN DATA'!G535","v":0},{"$f":"'SHALA DARPAN DATA'!H535","v":0},{"$f":"'SHALA DARPAN DATA'!W535","v":0},{"$f":"'SHALA DARPAN DATA'!R535","v":0},{"$f":"'SHALA DARPAN DATA'!S535","v":0},{"$f":"'SHALA DARPAN DATA'!O535","v":0},0,0,0,0,0,0,0,0,0,0,0]
[{"$f":"'SHALA DARPAN DATA'!C536","v":0},{"$f":"'SHALA DARPAN DATA'!A536","v":0},{"$f":"'SHALA DARPAN DATA'!B536","v":0},{"$f":"'SHALA DARPAN DATA'!D536","v":0},{"$f":"'SHALA DARPAN DATA'!J536","v":0},{"$f":"'SHALA DARPAN DATA'!T536","v":0},{"$f":"'SHALA DARPAN DATA'!V536","v":0},{"$f":"'SHALA DARPAN DATA'!K536","v":0},{"$f":"'SHALA DARPAN DATA'!E536","v":0},{"$f":"'SHALA DARPAN DATA'!G536","v":0},{"$f":"'SHALA DARPAN DATA'!H536","v":0},{"$f":"'SHALA DARPAN DATA'!W536","v":0},{"$f":"'SHALA DARPAN DATA'!R536","v":0},{"$f":"'SHALA DARPAN DATA'!S536","v":0},{"$f":"'SHALA DARPAN DATA'!O536","v":0},0,0,0,0,0,0,0,0,0,0,0]
[{"$f":"'SHALA DARPAN DATA'!C537","v":0},{"$f":"'SHALA DARPAN DATA'!A537","v":0},{"$f":"'SHALA DARPAN DATA'!B537","v":0},{"$f":"'SHALA DARPAN DATA'!D537","v":0},{"$f":"'SHALA DARPAN DATA'!J537","v":0},{"$f":"'SHALA DARPAN DATA'!T537","v":0},{"$f":"'SHALA DARPAN DATA'!V537","v":0},{"$f":"'SHALA DARPAN DATA'!K537","v":0},{"$f":"'SHALA DARPAN DATA'!E537","v":0},{"$f":"'SHALA DARPAN DATA'!G537","v":0},{"$f":"'SHALA DARPAN DATA'!H537","v":0},{"$f":"'SHALA DARPAN DATA'!W537","v":0},{"$f":"'SHALA DARPAN DATA'!R537","v":0},{"$f":"'SHALA DARPAN DATA'!S537","v":0},{"$f":"'SHALA DARPAN DATA'!O537","v":0},0,0,0,0,0,0,0,0,0,0,0]
[{"$f":"'SHALA DARPAN DATA'!C538","v":0},{"$f":"'SHALA DARPAN DATA'!A538","v":0},{"$f":"'SHALA DARPAN DATA'!B538","v":0},{"$f":"'SHALA DARPAN DATA'!D538","v":0},{"$f":"'SHALA DARPAN DATA'!J538","v":0},{"$f":"'SHALA DARPAN DATA'!T538","v":0},{"$f":"'SHALA DARPAN DATA'!V538","v":0},{"$f":"'SHALA DARPAN DATA'!K538","v":0},{"$f":"'SHALA DARPAN DATA'!E538","v":0},{"$f":"'SHALA DARPAN DATA'!G538","v":0},{"$f":"'SHALA DARPAN DATA'!H538","v":0},{"$f":"'SHALA DARPAN DATA'!W538","v":0},{"$f":"'SHALA DARPAN DATA'!R538","v":0},{"$f":"'SHALA DARPAN DATA'!S538","v":0},{"$f":"'SHALA DARPAN DATA'!O538","v":0},0,0,0,0,0,0,0,0,0,0,0]
[{"$f":"'SHALA DARPAN DATA'!C539","v":0},{"$f":"'SHALA DARPAN DATA'!A539","v":0},{"$f":"'SHALA DARPAN DATA'!B539","v":0},{"$f":"'SHALA DARPAN DATA'!D539","v":0},{"$f":"'SHALA DARPAN DATA'!J539","v":0},{"$f":"'SHALA DARPAN DATA'!T539","v":0},{"$f":"'SHALA DARPAN DATA'!V539","v":0},{"$f":"'SHALA DARPAN DATA'!K539","v":0},{"$f":"'SHALA DARPAN DATA'!E539","v":0},{"$f":"'SHALA DARPAN DATA'!G539","v":0},{"$f":"'SHALA DARPAN DATA'!H539","v":0},{"$f":"'SHALA DARPAN DATA'!W539","v":0},{"$f":"'SHALA DARPAN DATA'!R539","v":0},{"$f":"'SHALA DARPAN DATA'!S539","v":0},{"$f":"'SHALA DARPAN DATA'!O539","v":0},0,0,0,0,0,0,0,0,0,0,0]
[{"$f":"'SHALA DARPAN DATA'!C540","v":0},{"$f":"'SHALA DARPAN DATA'!A540","v":0},{"$f":"'SHALA DARPAN DATA'!B540","v":0},{"$f":"'SHALA DARPAN DATA'!D540","v":0},{"$f":"'SHALA DARPAN DATA'!J540","v":0},{"$f":"'SHALA DARPAN DATA'!T540","v":0},{"$f":"'SHALA DARPAN DATA'!V540","v":0},{"$f":"'SHALA DARPAN DATA'!K540","v":0},{"$f":"'SHALA DARPAN DATA'!E540","v":0},{"$f":"'SHALA DARPAN DATA'!G540","v":0},{"$f":"'SHALA DARPAN DATA'!H540","v":0},{"$f":"'SHALA DARPAN DATA'!W540","v":0},{"$f":"'SHALA DARPAN DATA'!R540","v":0},{"$f":"'SHALA DARPAN DATA'!S540","v":0},{"$f":"'SHALA DARPAN DATA'!O540","v":0},0,0,0,0,0,0,0,0,0,0,0]
[{"$f":"'SHALA DARPAN DATA'!C541","v":0},{"$f":"'SHALA DARPAN DATA'!A541","v":0},{"$f":"'SHALA DARPAN DATA'!B541","v":0},{"$f":"'SHALA DARPAN DATA'!D541","v":0},{"$f":"'SHALA DARPAN DATA'!J541","v":0},{"$f":"'SHALA DARPAN DATA'!T541","v":0},{"$f":"'SHALA DARPAN DATA'!V541","v":0},{"$f":"'SHALA DARPAN DATA'!K541","v":0},{"$f":"'SHALA DARPAN DATA'!E541","v":0},{"$f":"'SHALA DARPAN DATA'!G541","v":0},{"$f":"'SHALA DARPAN DATA'!H541","v":0},{"$f":"'SHALA DARPAN DATA'!W541","v":0},{"$f":"'SHALA DARPAN DATA'!R541","v":0},{"$f":"'SHALA DARPAN DATA'!S541","v":0},{"$f":"'SHALA DARPAN DATA'!O541","v":0},0,0,0,0,0,0,0,0,0,0,0]
[{"$f":"'SHALA DARPAN DATA'!C542","v":0},{"$f":"'SHALA DARPAN DATA'!A542","v":0},{"$f":"'SHALA DARPAN DATA'!B542","v":0},{"$f":"'SHALA DARPAN DATA'!D542","v":0},{"$f":"'SHALA DARPAN DATA'!J542","v":0},{"$f":"'SHALA DARPAN DATA'!T542","v":0},{"$f":"'SHALA DARPAN DATA'!V542","v":0},{"$f":"'SHALA DARPAN DATA'!K542","v":0},{"$f":"'SHALA DARPAN DATA'!E542","v":0},{"$f":"'SHALA DARPAN DATA'!G542","v":0},{"$f":"'SHALA DARPAN DATA'!H542","v":0},{"$f":"'SHALA DARPAN DATA'!W542","v":0},{"$f":"'SHALA DARPAN DATA'!R542","v":0},{"$f":"'SHALA DARPAN DATA'!S542","v":0},{"$f":"'SHALA DARPAN DATA'!O542","v":0},0,0,0,0,0,0,0,0,0,0,0]
[{"$f":"'SHALA DARPAN DATA'!C543","v":0},{"$f":"'SHALA DARPAN DATA'!A543","v":0},{"$f":"'SHALA DARPAN DATA'!B543","v":0},{"$f":"'SHALA DARPAN DATA'!D543","v":0},{"$f":"'SHALA DARPAN DATA'!J543","v":0},{"$f":"'SHALA DARPAN DATA'!T543","v":0},{"$f":"'SHALA DARPAN DATA'!V543","v":0},{"$f":"'SHALA DARPAN DATA'!K543","v":0},{"$f":"'SHALA DARPAN DATA'!E543","v":0},{"$f":"'SHALA DARPAN DATA'!G543","v":0},{"$f":"'SHALA DARPAN DATA'!H543","v":0},{"$f":"'SHALA DARPAN DATA'!W543","v":0},{"$f":"'SHALA DARPAN DATA'!R543","v":0},{"$f":"'SHALA DARPAN DATA'!S543","v":0},{"$f":"'SHALA DARPAN DATA'!O543","v":0},0,0,0,0,0,0,0,0,0,0,0]
[{"$f":"'SHALA DARPAN DATA'!C544","v":0},{"$f":"'SHALA DARPAN DATA'!A544","v":0},{"$f":"'SHALA DARPAN DATA'!B544","v":0},{"$f":"'SHALA DARPAN DATA'!D544","v":0},{"$f":"'SHALA DARPAN DATA'!J544","v":0},{"$f":"'SHALA DARPAN DATA'!T544","v":0},{"$f":"'SHALA DARPAN DATA'!V544","v":0},{"$f":"'SHALA DARPAN DATA'!K544","v":0},{"$f":"'SHALA DARPAN DATA'!E544","v":0},{"$f":"'SHALA DARPAN DATA'!G544","v":0},{"$f":"'SHALA DARPAN DATA'!H544","v":0},{"$f":"'SHALA DARPAN DATA'!W544","v":0},{"$f":"'SHALA DARPAN DATA'!R544","v":0},{"$f":"'SHALA DARPAN DATA'!S544","v":0},{"$f":"'SHALA DARPAN DATA'!O544","v":0},0,0,0,0,0,0,0,0,0,0,0]
[{"$f":"'SHALA DARPAN DATA'!C545","v":0},{"$f":"'SHALA DARPAN DATA'!A545","v":0},{"$f":"'SHALA DARPAN DATA'!B545","v":0},{"$f":"'SHALA DARPAN DATA'!D545","v":0},{"$f":"'SHALA DARPAN DATA'!J545","v":0},{"$f":"'SHALA DARPAN DATA'!T545","v":0},{"$f":"'SHALA DARPAN DATA'!V545","v":0},{"$f":"'SHALA DARPAN DATA'!K545","v":0},{"$f":"'SHALA DARPAN DATA'!E545","v":0},{"$f":"'SHALA DARPAN DATA'!G545","v":0},{"$f":"'SHALA DARPAN DATA'!H545","v":0},{"$f":"'SHALA DARPAN DATA'!W545","v":0},{"$f":"'SHALA DARPAN DATA'!R545","v":0},{"$f":"'SHALA DARPAN DATA'!S545","v":0},{"$f":"'SHALA DARPAN DATA'!O545","v":0},0,0,0,0,0,0,0,0,0,0,0]
[{"$f":"'SHALA DARPAN DATA'!C546","v":0},{"$f":"'SHALA DARPAN DATA'!A546","v":0},{"$f":"'SHALA DARPAN DATA'!B546","v":0},{"$f":"'SHALA DARPAN DATA'!D546","v":0},{"$f":"'SHALA DARPAN DATA'!J546","v":0},{"$f":"'SHALA DARPAN DATA'!T546","v":0},{"$f":"'SHALA DARPAN DATA'!V546","v":0},{"$f":"'SHALA DARPAN DATA'!K546","v":0},{"$f":"'SHALA DARPAN DATA'!E546","v":0},{"$f":"'SHALA DARPAN DATA'!G546","v":0},{"$f":"'SHALA DARPAN DATA'!H546","v":0},{"$f":"'SHALA DARPAN DATA'!W546","v":0},{"$f":"'SHALA DARPAN DATA'!R546","v":0},{"$f":"'SHALA DARPAN DATA'!S546","v":0},{"$f":"'SHALA DARPAN DATA'!O546","v":0},0,0,0,0,0,0,0,0,0,0,0]
[{"$f":"'SHALA DARPAN DATA'!C547","v":0},{"$f":"'SHALA DARPAN DATA'!A547","v":0},{"$f":"'SHALA DARPAN DATA'!B547","v":0},{"$f":"'SHALA DARPAN DATA'!D547","v":0},{"$f":"'SHALA DARPAN DATA'!J547","v":0},{"$f":"'SHALA DARPAN DATA'!T547","v":0},{"$f":"'SHALA DARPAN DATA'!V547","v":0},{"$f":"'SHALA DARPAN DATA'!K547","v":0},{"$f":"'SHALA DARPAN DATA'!E547","v":0},{"$f":"'SHALA DARPAN DATA'!G547","v":0},{"$f":"'SHALA DARPAN DATA'!H547","v":0},{"$f":"'SHALA DARPAN DATA'!W547","v":0},{"$f":"'SHALA DARPAN DATA'!R547","v":0},{"$f":"'SHALA DARPAN DATA'!S547","v":0},{"$f":"'SHALA DARPAN DATA'!O547","v":0},0,0,0,0,0,0,0,0,0,0,0]
[{"$f":"'SHALA DARPAN DATA'!C548","v":0},{"$f":"'SHALA DARPAN DATA'!A548","v":0},{"$f":"'SHALA DARPAN DATA'!B548","v":0},{"$f":"'SHALA DARPAN DATA'!D548","v":0},{"$f":"'SHALA DARPAN DATA'!J548","v":0},{"$f":"'SHALA DARPAN DATA'!T548","v":0},{"$f":"'SHALA DARPAN DATA'!V548","v":0},{"$f":"'SHALA DARPAN DATA'!K548","v":0},{"$f":"'SHALA DARPAN DATA'!E548","v":0},{"$f":"'SHALA DARPAN DATA'!G548","v":0},{"$f":"'SHALA DARPAN DATA'!H548","v":0},{"$f":"'SHALA DARPAN DATA'!W548","v":0},{"$f":"'SHALA DARPAN DATA'!R548","v":0},{"$f":"'SHALA DARPAN DATA'!S548","v":0},{"$f":"'SHALA DARPAN DATA'!O548","v":0},0,0,0,0,0,0,0,0,0,0,0]
[{"$f":"'SHALA DARPAN DATA'!C549","v":0},{"$f":"'SHALA DARPAN DATA'!A549","v":0},{"$f":"'SHALA DARPAN DATA'!B549","v":0},{"$f":"'SHALA DARPAN DATA'!D549","v":0},{"$f":"'SHALA DARPAN DATA'!J549","v":0},{"$f":"'SHALA DARPAN DATA'!T549","v":0},{"$f":"'SHALA DARPAN DATA'!V549","v":0},{"$f":"'SHALA DARPAN DATA'!K549","v":0},{"$f":"'SHALA DARPAN DATA'!E549","v":0},{"$f":"'SHALA DARPAN DATA'!G549","v":0},{"$f":"'SHALA DARPAN DATA'!H549","v":0},{"$f":"'SHALA DARPAN DATA'!W549","v":0},{"$f":"'SHALA DARPAN DATA'!R549","v":0},{"$f":"'SHALA DARPAN DATA'!S549","v":0},{"$f":"'SHALA DARPAN DATA'!O549","v":0},0,0,0,0,0,0,0,0,0,0,0]
[{"$f":"'SHALA DARPAN DATA'!C550","v":0},{"$f":"'SHALA DARPAN DATA'!A550","v":0},{"$f":"'SHALA DARPAN DATA'!B550","v":0},{"$f":"'SHALA DARPAN DATA'!D550","v":0},{"$f":"'SHALA DARPAN DATA'!J550","v":0},{"$f":"'SHALA DARPAN DATA'!T550","v":0},{"$f":"'SHALA DARPAN DATA'!V550","v":0},{"$f":"'SHALA DARPAN DATA'!K550","v":0},{"$f":"'SHALA DARPAN DATA'!E550","v":0},{"$f":"'SHALA DARPAN DATA'!G550","v":0},{"$f":"'SHALA DARPAN DATA'!H550","v":0},{"$f":"'SHALA DARPAN DATA'!W550","v":0},{"$f":"'SHALA DARPAN DATA'!R550","v":0},{"$f":"'SHALA DARPAN DATA'!S550","v":0},{"$f":"'SHALA DARPAN DATA'!O550","v":0},0,0,0,0,0,0,0,0,0,0,0]
[{"$f":"'SHALA DARPAN DATA'!C551","v":0},{"$f":"'SHALA DARPAN DATA'!A551","v":0},{"$f":"'SHALA DARPAN DATA'!B551","v":0},{"$f":"'SHALA DARPAN DATA'!D551","v":0},{"$f":"'SHALA DARPAN DATA'!J551","v":0},{"$f":"'SHALA DARPAN DATA'!T551","v":0},{"$f":"'SHALA DARPAN DATA'!V551","v":0},{"$f":"'SHALA DARPAN DATA'!K551","v":0},{"$f":"'SHALA DARPAN DATA'!E551","v":0},{"$f":"'SHALA DARPAN DATA'!G551","v":0},{"$f":"'SHALA DARPAN DATA'!H551","v":0},{"$f":"'SHALA DARPAN DATA'!W551","v":0},{"$f":"'SHALA DARPAN DATA'!R551","v":0},{"$f":"'SHALA DARPAN DATA'!S551","v":0},{"$f":"'SHALA DARPAN DATA'!O551","v":0},0,0,0,0,0,0,0,0,0,0,0]
[{"$f":"'SHALA DARPAN DATA'!C552","v":0},{"$f":"'SHALA DARPAN DATA'!A552","v":0},{"$f":"'SHALA DARPAN DATA'!B552","v":0},{"$f":"'SHALA DARPAN DATA'!D552","v":0},{"$f":"'SHALA DARPAN DATA'!J552","v":0},{"$f":"'SHALA DARPAN DATA'!T552","v":0},{"$f":"'SHALA DARPAN DATA'!V552","v":0},{"$f":"'SHALA DARPAN DATA'!K552","v":0},{"$f":"'SHALA DARPAN DATA'!E552","v":0},{"$f":"'SHALA DARPAN DATA'!G552","v":0},{"$f":"'SHALA DARPAN DATA'!H552","v":0},{"$f":"'SHALA DARPAN DATA'!W552","v":0},{"$f":"'SHALA DARPAN DATA'!R552","v":0},{"$f":"'SHALA DARPAN DATA'!S552","v":0},{"$f":"'SHALA DARPAN DATA'!O552","v":0},0,0,0,0,0,0,0,0,0,0,0]
[{"$f":"'SHALA DARPAN DATA'!C553","v":0},{"$f":"'SHALA DARPAN DATA'!A553","v":0},{"$f":"'SHALA DARPAN DATA'!B553","v":0},{"$f":"'SHALA DARPAN DATA'!D553","v":0},{"$f":"'SHALA DARPAN DATA'!J553","v":0},{"$f":"'SHALA DARPAN DATA'!T553","v":0},{"$f":"'SHALA DARPAN DATA'!V553","v":0},{"$f":"'SHALA DARPAN DATA'!K553","v":0},{"$f":"'SHALA DARPAN DATA'!E553","v":0},{"$f":"'SHALA DARPAN DATA'!G553","v":0},{"$f":"'SHALA DARPAN DATA'!H553","v":0},{"$f":"'SHALA DARPAN DATA'!W553","v":0},{"$f":"'SHALA DARPAN DATA'!R553","v":0},{"$f":"'SHALA DARPAN DATA'!S553","v":0},{"$f":"'SHALA DARPAN DATA'!O553","v":0},0,0,0,0,0,0,0,0,0,0,0]
[{"$f":"'SHALA DARPAN DATA'!C554","v":0},{"$f":"'SHALA DARPAN DATA'!A554","v":0},{"$f":"'SHALA DARPAN DATA'!B554","v":0},{"$f":"'SHALA DARPAN DATA'!D554","v":0},{"$f":"'SHALA DARPAN DATA'!J554","v":0},{"$f":"'SHALA DARPAN DATA'!T554","v":0},{"$f":"'SHALA DARPAN DATA'!V554","v":0},{"$f":"'SHALA DARPAN DATA'!K554","v":0},{"$f":"'SHALA DARPAN DATA'!E554","v":0},{"$f":"'SHALA DARPAN DATA'!G554","v":0},{"$f":"'SHALA DARPAN DATA'!H554","v":0},{"$f":"'SHALA DARPAN DATA'!W554","v":0},{"$f":"'SHALA DARPAN DATA'!R554","v":0},{"$f":"'SHALA DARPAN DATA'!S554","v":0},{"$f":"'SHALA DARPAN DATA'!O554","v":0},0,0,0,0,0,0,0,0,0,0,0]
[{"$f":"'SHALA DARPAN DATA'!C555","v":0},{"$f":"'SHALA DARPAN DATA'!A555","v":0},{"$f":"'SHALA DARPAN DATA'!B555","v":0},{"$f":"'SHALA DARPAN DATA'!D555","v":0},{"$f":"'SHALA DARPAN DATA'!J555","v":0},{"$f":"'SHALA DARPAN DATA'!T555","v":0},{"$f":"'SHALA DARPAN DATA'!V555","v":0},{"$f":"'SHALA DARPAN DATA'!K555","v":0},{"$f":"'SHALA DARPAN DATA'!E555","v":0},{"$f":"'SHALA DARPAN DATA'!G555","v":0},{"$f":"'SHALA DARPAN DATA'!H555","v":0},{"$f":"'SHALA DARPAN DATA'!W555","v":0},{"$f":"'SHALA DARPAN DATA'!R555","v":0},{"$f":"'SHALA DARPAN DATA'!S555","v":0},{"$f":"'SHALA DARPAN DATA'!O555","v":0},0,0,0,0,0,0,0,0,0,0,0]
[{"$f":"'SHALA DARPAN DATA'!C556","v":0},{"$f":"'SHALA DARPAN DATA'!A556","v":0},{"$f":"'SHALA DARPAN DATA'!B556","v":0},{"$f":"'SHALA DARPAN DATA'!D556","v":0},{"$f":"'SHALA DARPAN DATA'!J556","v":0},{"$f":"'SHALA DARPAN DATA'!T556","v":0},{"$f":"'SHALA DARPAN DATA'!V556","v":0},{"$f":"'SHALA DARPAN DATA'!K556","v":0},{"$f":"'SHALA DARPAN DATA'!E556","v":0},{"$f":"'SHALA DARPAN DATA'!G556","v":0},{"$f":"'SHALA DARPAN DATA'!H556","v":0},{"$f":"'SHALA DARPAN DATA'!W556","v":0},{"$f":"'SHALA DARPAN DATA'!R556","v":0},{"$f":"'SHALA DARPAN DATA'!S556","v":0},{"$f":"'SHALA DARPAN DATA'!O556","v":0},0,0,0,0,0,0,0,0,0,0,0]
[{"$f":"'SHALA DARPAN DATA'!C557","v":0},{"$f":"'SHALA DARPAN DATA'!A557","v":0},{"$f":"'SHALA DARPAN DATA'!B557","v":0},{"$f":"'SHALA DARPAN DATA'!D557","v":0},{"$f":"'SHALA DARPAN DATA'!J557","v":0},{"$f":"'SHALA DARPAN DATA'!T557","v":0},{"$f":"'SHALA DARPAN DATA'!V557","v":0},{"$f":"'SHALA DARPAN DATA'!K557","v":0},{"$f":"'SHALA DARPAN DATA'!E557","v":0},{"$f":"'SHALA DARPAN DATA'!G557","v":0},{"$f":"'SHALA DARPAN DATA'!H557","v":0},{"$f":"'SHALA DARPAN DATA'!W557","v":0},{"$f":"'SHALA DARPAN DATA'!R557","v":0},{"$f":"'SHALA DARPAN DATA'!S557","v":0},{"$f":"'SHALA DARPAN DATA'!O557","v":0},0,0,0,0,0,0,0,0,0,0,0]
[{"$f":"'SHALA DARPAN DATA'!C558","v":0},{"$f":"'SHALA DARPAN DATA'!A558","v":0},{"$f":"'SHALA DARPAN DATA'!B558","v":0},{"$f":"'SHALA DARPAN DATA'!D558","v":0},{"$f":"'SHALA DARPAN DATA'!J558","v":0},{"$f":"'SHALA DARPAN DATA'!T558","v":0},{"$f":"'SHALA DARPAN DATA'!V558","v":0},{"$f":"'SHALA DARPAN DATA'!K558","v":0},{"$f":"'SHALA DARPAN DATA'!E558","v":0},{"$f":"'SHALA DARPAN DATA'!G558","v":0},{"$f":"'SHALA DARPAN DATA'!H558","v":0},{"$f":"'SHALA DARPAN DATA'!W558","v":0},{"$f":"'SHALA DARPAN DATA'!R558","v":0},{"$f":"'SHALA DARPAN DATA'!S558","v":0},{"$f":"'SHALA DARPAN DATA'!O558","v":0},0,0,0,0,0,0,0,0,0,0,0]
[{"$f":"'SHALA DARPAN DATA'!C559","v":0},{"$f":"'SHALA DARPAN DATA'!A559","v":0},{"$f":"'SHALA DARPAN DATA'!B559","v":0},{"$f":"'SHALA DARPAN DATA'!D559","v":0},{"$f":"'SHALA DARPAN DATA'!J559","v":0},{"$f":"'SHALA DARPAN DATA'!T559","v":0},{"$f":"'SHALA DARPAN DATA'!V559","v":0},{"$f":"'SHALA DARPAN DATA'!K559","v":0},{"$f":"'SHALA DARPAN DATA'!E559","v":0},{"$f":"'SHALA DARPAN DATA'!G559","v":0},{"$f":"'SHALA DARPAN DATA'!H559","v":0},{"$f":"'SHALA DARPAN DATA'!W559","v":0},{"$f":"'SHALA DARPAN DATA'!R559","v":0},{"$f":"'SHALA DARPAN DATA'!S559","v":0},{"$f":"'SHALA DARPAN DATA'!O559","v":0},0,0,0,0,0,0,0,0,0,0,0]
[{"$f":"'SHALA DARPAN DATA'!C560","v":0},{"$f":"'SHALA DARPAN DATA'!A560","v":0},{"$f":"'SHALA DARPAN DATA'!B560","v":0},{"$f":"'SHALA DARPAN DATA'!D560","v":0},{"$f":"'SHALA DARPAN DATA'!J560","v":0},{"$f":"'SHALA DARPAN DATA'!T560","v":0},{"$f":"'SHALA DARPAN DATA'!V560","v":0},{"$f":"'SHALA DARPAN DATA'!K560","v":0},{"$f":"'SHALA DARPAN DATA'!E560","v":0},{"$f":"'SHALA DARPAN DATA'!G560","v":0},{"$f":"'SHALA DARPAN DATA'!H560","v":0},{"$f":"'SHALA DARPAN DATA'!W560","v":0},{"$f":"'SHALA DARPAN DATA'!R560","v":0},{"$f":"'SHALA DARPAN DATA'!S560","v":0},{"$f":"'SHALA DARPAN DATA'!O560","v":0},0,0,0,0,0,0,0,0,0,0,0]
[{"$f":"'SHALA DARPAN DATA'!C561","v":0},{"$f":"'SHALA DARPAN DATA'!A561","v":0},{"$f":"'SHALA DARPAN DATA'!B561","v":0},{"$f":"'SHALA DARPAN DATA'!D561","v":0},{"$f":"'SHALA DARPAN DATA'!J561","v":0},{"$f":"'SHALA DARPAN DATA'!T561","v":0},{"$f":"'SHALA DARPAN DATA'!V561","v":0},{"$f":"'SHALA DARPAN DATA'!K561","v":0},{"$f":"'SHALA DARPAN DATA'!E561","v":0},{"$f":"'SHALA DARPAN DATA'!G561","v":0},{"$f":"'SHALA DARPAN DATA'!H561","v":0},{"$f":"'SHALA DARPAN DATA'!W561","v":0},{"$f":"'SHALA DARPAN DATA'!R561","v":0},{"$f":"'SHALA DARPAN DATA'!S561","v":0},{"$f":"'SHALA DARPAN DATA'!O561","v":0},0,0,0,0,0,0,0,0,0,0,0]
[{"$f":"'SHALA DARPAN DATA'!C562","v":0},{"$f":"'SHALA DARPAN DATA'!A562","v":0},{"$f":"'SHALA DARPAN DATA'!B562","v":0},{"$f":"'SHALA DARPAN DATA'!D562","v":0},{"$f":"'SHALA DARPAN DATA'!J562","v":0},{"$f":"'SHALA DARPAN DATA'!T562","v":0},{"$f":"'SHALA DARPAN DATA'!V562","v":0},{"$f":"'SHALA DARPAN DATA'!K562","v":0},{"$f":"'SHALA DARPAN DATA'!E562","v":0},{"$f":"'SHALA DARPAN DATA'!G562","v":0},{"$f":"'SHALA DARPAN DATA'!H562","v":0},{"$f":"'SHALA DARPAN DATA'!W562","v":0},{"$f":"'SHALA DARPAN DATA'!R562","v":0},{"$f":"'SHALA DARPAN DATA'!S562","v":0},{"$f":"'SHALA DARPAN DATA'!O562","v":0},0,0,0,0,0,0,0,0,0,0,0]
[{"$f":"'SHALA DARPAN DATA'!C563","v":0},{"$f":"'SHALA DARPAN DATA'!A563","v":0},{"$f":"'SHALA DARPAN DATA'!B563","v":0},{"$f":"'SHALA DARPAN DATA'!D563","v":0},{"$f":"'SHALA DARPAN DATA'!J563","v":0},{"$f":"'SHALA DARPAN DATA'!T563","v":0},{"$f":"'SHALA DARPAN DATA'!V563","v":0},{"$f":"'SHALA DARPAN DATA'!K563","v":0},{"$f":"'SHALA DARPAN DATA'!E563","v":0},{"$f":"'SHALA DARPAN DATA'!G563","v":0},{"$f":"'SHALA DARPAN DATA'!H563","v":0},{"$f":"'SHALA DARPAN DATA'!W563","v":0},{"$f":"'SHALA DARPAN DATA'!R563","v":0},{"$f":"'SHALA DARPAN DATA'!S563","v":0},{"$f":"'SHALA DARPAN DATA'!O563","v":0},0,0,0,0,0,0,0,0,0,0,0]
[{"$f":"'SHALA DARPAN DATA'!C564","v":0},{"$f":"'SHALA DARPAN DATA'!A564","v":0},{"$f":"'SHALA DARPAN DATA'!B564","v":0},{"$f":"'SHALA DARPAN DATA'!D564","v":0},{"$f":"'SHALA DARPAN DATA'!J564","v":0},{"$f":"'SHALA DARPAN DATA'!T564","v":0},{"$f":"'SHALA DARPAN DATA'!V564","v":0},{"$f":"'SHALA DARPAN DATA'!K564","v":0},{"$f":"'SHALA DARPAN DATA'!E564","v":0},{"$f":"'SHALA DARPAN DATA'!G564","v":0},{"$f":"'SHALA DARPAN DATA'!H564","v":0},{"$f":"'SHALA DARPAN DATA'!W564","v":0},{"$f":"'SHALA DARPAN DATA'!R564","v":0},{"$f":"'SHALA DARPAN DATA'!S564","v":0},{"$f":"'SHALA DARPAN DATA'!O564","v":0},0,0,0,0,0,0,0,0,0,0,0]
[{"$f":"'SHALA DARPAN DATA'!C565","v":0},{"$f":"'SHALA DARPAN DATA'!A565","v":0},{"$f":"'SHALA DARPAN DATA'!B565","v":0},{"$f":"'SHALA DARPAN DATA'!D565","v":0},{"$f":"'SHALA DARPAN DATA'!J565","v":0},{"$f":"'SHALA DARPAN DATA'!T565","v":0},{"$f":"'SHALA DARPAN DATA'!V565","v":0},{"$f":"'SHALA DARPAN DATA'!K565","v":0},{"$f":"'SHALA DARPAN DATA'!E565","v":0},{"$f":"'SHALA DARPAN DATA'!G565","v":0},{"$f":"'SHALA DARPAN DATA'!H565","v":0},{"$f":"'SHALA DARPAN DATA'!W565","v":0},{"$f":"'SHALA DARPAN DATA'!R565","v":0},{"$f":"'SHALA DARPAN DATA'!S565","v":0},{"$f":"'SHALA DARPAN DATA'!O565","v":0},0,0,0,0,0,0,0,0,0,0,0]
[{"$f":"'SHALA DARPAN DATA'!C566","v":0},{"$f":"'SHALA DARPAN DATA'!A566","v":0},{"$f":"'SHALA DARPAN DATA'!B566","v":0},{"$f":"'SHALA DARPAN DATA'!D566","v":0},{"$f":"'SHALA DARPAN DATA'!J566","v":0},{"$f":"'SHALA DARPAN DATA'!T566","v":0},{"$f":"'SHALA DARPAN DATA'!V566","v":0},{"$f":"'SHALA DARPAN DATA'!K566","v":0},{"$f":"'SHALA DARPAN DATA'!E566","v":0},{"$f":"'SHALA DARPAN DATA'!G566","v":0},{"$f":"'SHALA DARPAN DATA'!H566","v":0},{"$f":"'SHALA DARPAN DATA'!W566","v":0},{"$f":"'SHALA DARPAN DATA'!R566","v":0},{"$f":"'SHALA DARPAN DATA'!S566","v":0},{"$f":"'SHALA DARPAN DATA'!O566","v":0},0,0,0,0,0,0,0,0,0,0,0]
[{"$f":"'SHALA DARPAN DATA'!C567","v":0},{"$f":"'SHALA DARPAN DATA'!A567","v":0},{"$f":"'SHALA DARPAN DATA'!B567","v":0},{"$f":"'SHALA DARPAN DATA'!D567","v":0},{"$f":"'SHALA DARPAN DATA'!J567","v":0},{"$f":"'SHALA DARPAN DATA'!T567","v":0},{"$f":"'SHALA DARPAN DATA'!V567","v":0},{"$f":"'SHALA DARPAN DATA'!K567","v":0},{"$f":"'SHALA DARPAN DATA'!E567","v":0},{"$f":"'SHALA DARPAN DATA'!G567","v":0},{"$f":"'SHALA DARPAN DATA'!H567","v":0},{"$f":"'SHALA DARPAN DATA'!W567","v":0},{"$f":"'SHALA DARPAN DATA'!R567","v":0},{"$f":"'SHALA DARPAN DATA'!S567","v":0},{"$f":"'SHALA DARPAN DATA'!O567","v":0},0,0,0,0,0,0,0,0,0,0,0]
[{"$f":"'SHALA DARPAN DATA'!C568","v":0},{"$f":"'SHALA DARPAN DATA'!A568","v":0},{"$f":"'SHALA DARPAN DATA'!B568","v":0},{"$f":"'SHALA DARPAN DATA'!D568","v":0},{"$f":"'SHALA DARPAN DATA'!J568","v":0},{"$f":"'SHALA DARPAN DATA'!T568","v":0},{"$f":"'SHALA DARPAN DATA'!V568","v":0},{"$f":"'SHALA DARPAN DATA'!K568","v":0},{"$f":"'SHALA DARPAN DATA'!E568","v":0},{"$f":"'SHALA DARPAN DATA'!G568","v":0},{"$f":"'SHALA DARPAN DATA'!H568","v":0},{"$f":"'SHALA DARPAN DATA'!W568","v":0},{"$f":"'SHALA DARPAN DATA'!R568","v":0},{"$f":"'SHALA DARPAN DATA'!S568","v":0},{"$f":"'SHALA DARPAN DATA'!O568","v":0},0,0,0,0,0,0,0,0,0,0,0]
[{"$f":"'SHALA DARPAN DATA'!C569","v":0},{"$f":"'SHALA DARPAN DATA'!A569","v":0},{"$f":"'SHALA DARPAN DATA'!B569","v":0},{"$f":"'SHALA DARPAN DATA'!D569","v":0},{"$f":"'SHALA DARPAN DATA'!J569","v":0},{"$f":"'SHALA DARPAN DATA'!T569","v":0},{"$f":"'SHALA DARPAN DATA'!V569","v":0},{"$f":"'SHALA DARPAN DATA'!K569","v":0},{"$f":"'SHALA DARPAN DATA'!E569","v":0},{"$f":"'SHALA DARPAN DATA'!G569","v":0},{"$f":"'SHALA DARPAN DATA'!H569","v":0},{"$f":"'SHALA DARPAN DATA'!W569","v":0},{"$f":"'SHALA DARPAN DATA'!R569","v":0},{"$f":"'SHALA DARPAN DATA'!S569","v":0},{"$f":"'SHALA DARPAN DATA'!O569","v":0},0,0,0,0,0,0,0,0,0,0,0]
[{"$f":"'SHALA DARPAN DATA'!C570","v":0},{"$f":"'SHALA DARPAN DATA'!A570","v":0},{"$f":"'SHALA DARPAN DATA'!B570","v":0},{"$f":"'SHALA DARPAN DATA'!D570","v":0},{"$f":"'SHALA DARPAN DATA'!J570","v":0},{"$f":"'SHALA DARPAN DATA'!T570","v":0},{"$f":"'SHALA DARPAN DATA'!V570","v":0},{"$f":"'SHALA DARPAN DATA'!K570","v":0},{"$f":"'SHALA DARPAN DATA'!E570","v":0},{"$f":"'SHALA DARPAN DATA'!G570","v":0},{"$f":"'SHALA DARPAN DATA'!H570","v":0},{"$f":"'SHALA DARPAN DATA'!W570","v":0},{"$f":"'SHALA DARPAN DATA'!R570","v":0},{"$f":"'SHALA DARPAN DATA'!S570","v":0},{"$f":"'SHALA DARPAN DATA'!O570","v":0},0,0,0,0,0,0,0,0,0,0,0]
[{"$f":"'SHALA DARPAN DATA'!C571","v":0},{"$f":"'SHALA DARPAN DATA'!A571","v":0},{"$f":"'SHALA DARPAN DATA'!B571","v":0},{"$f":"'SHALA DARPAN DATA'!D571","v":0},{"$f":"'SHALA DARPAN DATA'!J571","v":0},{"$f":"'SHALA DARPAN DATA'!T571","v":0},{"$f":"'SHALA DARPAN DATA'!V571","v":0},{"$f":"'SHALA DARPAN DATA'!K571","v":0},{"$f":"'SHALA DARPAN DATA'!E571","v":0},{"$f":"'SHALA DARPAN DATA'!G571","v":0},{"$f":"'SHALA DARPAN DATA'!H571","v":0},{"$f":"'SHALA DARPAN DATA'!W571","v":0},{"$f":"'SHALA DARPAN DATA'!R571","v":0},{"$f":"'SHALA DARPAN DATA'!S571","v":0},{"$f":"'SHALA DARPAN DATA'!O571","v":0},0,0,0,0,0,0,0,0,0,0,0]
[{"$f":"'SHALA DARPAN DATA'!C572","v":0},{"$f":"'SHALA DARPAN DATA'!A572","v":0},{"$f":"'SHALA DARPAN DATA'!B572","v":0},{"$f":"'SHALA DARPAN DATA'!D572","v":0},{"$f":"'SHALA DARPAN DATA'!J572","v":0},{"$f":"'SHALA DARPAN DATA'!T572","v":0},{"$f":"'SHALA DARPAN DATA'!V572","v":0},{"$f":"'SHALA DARPAN DATA'!K572","v":0},{"$f":"'SHALA DARPAN DATA'!E572","v":0},{"$f":"'SHALA DARPAN DATA'!G572","v":0},{"$f":"'SHALA DARPAN DATA'!H572","v":0},{"$f":"'SHALA DARPAN DATA'!W572","v":0},{"$f":"'SHALA DARPAN DATA'!R572","v":0},{"$f":"'SHALA DARPAN DATA'!S572","v":0},{"$f":"'SHALA DARPAN DATA'!O572","v":0},0,0,0,0,0,0,0,0,0,0,0]
[{"$f":"'SHALA DARPAN DATA'!C573","v":0},{"$f":"'SHALA DARPAN DATA'!A573","v":0},{"$f":"'SHALA DARPAN DATA'!B573","v":0},{"$f":"'SHALA DARPAN DATA'!D573","v":0},{"$f":"'SHALA DARPAN DATA'!J573","v":0},{"$f":"'SHALA DARPAN DATA'!T573","v":0},{"$f":"'SHALA DARPAN DATA'!V573","v":0},{"$f":"'SHALA DARPAN DATA'!K573","v":0},{"$f":"'SHALA DARPAN DATA'!E573","v":0},{"$f":"'SHALA DARPAN DATA'!G573","v":0},{"$f":"'SHALA DARPAN DATA'!H573","v":0},{"$f":"'SHALA DARPAN DATA'!W573","v":0},{"$f":"'SHALA DARPAN DATA'!R573","v":0},{"$f":"'SHALA DARPAN DATA'!S573","v":0},{"$f":"'SHALA DARPAN DATA'!O573","v":0},0,0,0,0,0,0,0,0,0,0,0]
[{"$f":"'SHALA DARPAN DATA'!C574","v":0},{"$f":"'SHALA DARPAN DATA'!A574","v":0},{"$f":"'SHALA DARPAN DATA'!B574","v":0},{"$f":"'SHALA DARPAN DATA'!D574","v":0},{"$f":"'SHALA DARPAN DATA'!J574","v":0},{"$f":"'SHALA DARPAN DATA'!T574","v":0},{"$f":"'SHALA DARPAN DATA'!V574","v":0},{"$f":"'SHALA DARPAN DATA'!K574","v":0},{"$f":"'SHALA DARPAN DATA'!E574","v":0},{"$f":"'SHALA DARPAN DATA'!G574","v":0},{"$f":"'SHALA DARPAN DATA'!H574","v":0},{"$f":"'SHALA DARPAN DATA'!W574","v":0},{"$f":"'SHALA DARPAN DATA'!R574","v":0},{"$f":"'SHALA DARPAN DATA'!S574","v":0},{"$f":"'SHALA DARPAN DATA'!O574","v":0},0,0,0,0,0,0,0,0,0,0,0]
[{"$f":"'SHALA DARPAN DATA'!C575","v":0},{"$f":"'SHALA DARPAN DATA'!A575","v":0},{"$f":"'SHALA DARPAN DATA'!B575","v":0},{"$f":"'SHALA DARPAN DATA'!D575","v":0},{"$f":"'SHALA DARPAN DATA'!J575","v":0},{"$f":"'SHALA DARPAN DATA'!T575","v":0},{"$f":"'SHALA DARPAN DATA'!V575","v":0},{"$f":"'SHALA DARPAN DATA'!K575","v":0},{"$f":"'SHALA DARPAN DATA'!E575","v":0},{"$f":"'SHALA DARPAN DATA'!G575","v":0},{"$f":"'SHALA DARPAN DATA'!H575","v":0},{"$f":"'SHALA DARPAN DATA'!W575","v":0},{"$f":"'SHALA DARPAN DATA'!R575","v":0},{"$f":"'SHALA DARPAN DATA'!S575","v":0},{"$f":"'SHALA DARPAN DATA'!O575","v":0},0,0,0,0,0,0,0,0,0,0,0]
[{"$f":"'SHALA DARPAN DATA'!C576","v":0},{"$f":"'SHALA DARPAN DATA'!A576","v":0},{"$f":"'SHALA DARPAN DATA'!B576","v":0},{"$f":"'SHALA DARPAN DATA'!D576","v":0},{"$f":"'SHALA DARPAN DATA'!J576","v":0},{"$f":"'SHALA DARPAN DATA'!T576","v":0},{"$f":"'SHALA DARPAN DATA'!V576","v":0},{"$f":"'SHALA DARPAN DATA'!K576","v":0},{"$f":"'SHALA DARPAN DATA'!E576","v":0},{"$f":"'SHALA DARPAN DATA'!G576","v":0},{"$f":"'SHALA DARPAN DATA'!H576","v":0},{"$f":"'SHALA DARPAN DATA'!W576","v":0},{"$f":"'SHALA DARPAN DATA'!R576","v":0},{"$f":"'SHALA DARPAN DATA'!S576","v":0},{"$f":"'SHALA DARPAN DATA'!O576","v":0},0,0,0,0,0,0,0,0,0,0,0]
[{"$f":"'SHALA DARPAN DATA'!C577","v":0},{"$f":"'SHALA DARPAN DATA'!A577","v":0},{"$f":"'SHALA DARPAN DATA'!B577","v":0},{"$f":"'SHALA DARPAN DATA'!D577","v":0},{"$f":"'SHALA DARPAN DATA'!J577","v":0},{"$f":"'SHALA DARPAN DATA'!T577","v":0},{"$f":"'SHALA DARPAN DATA'!V577","v":0},{"$f":"'SHALA DARPAN DATA'!K577","v":0},{"$f":"'SHALA DARPAN DATA'!E577","v":0},{"$f":"'SHALA DARPAN DATA'!G577","v":0},{"$f":"'SHALA DARPAN DATA'!H577","v":0},{"$f":"'SHALA DARPAN DATA'!W577","v":0},{"$f":"'SHALA DARPAN DATA'!R577","v":0},{"$f":"'SHALA DARPAN DATA'!S577","v":0},{"$f":"'SHALA DARPAN DATA'!O577","v":0},0,0,0,0,0,0,0,0,0,0,0]
[{"$f":"'SHALA DARPAN DATA'!C578","v":0},{"$f":"'SHALA DARPAN DATA'!A578","v":0},{"$f":"'SHALA DARPAN DATA'!B578","v":0},{"$f":"'SHALA DARPAN DATA'!D578","v":0},{"$f":"'SHALA DARPAN DATA'!J578","v":0},{"$f":"'SHALA DARPAN DATA'!T578","v":0},{"$f":"'SHALA DARPAN DATA'!V578","v":0},{"$f":"'SHALA DARPAN DATA'!K578","v":0},{"$f":"'SHALA DARPAN DATA'!E578","v":0},{"$f":"'SHALA DARPAN DATA'!G578","v":0},{"$f":"'SHALA DARPAN DATA'!H578","v":0},{"$f":"'SHALA DARPAN DATA'!W578","v":0},{"$f":"'SHALA DARPAN DATA'!R578","v":0},{"$f":"'SHALA DARPAN DATA'!S578","v":0},{"$f":"'SHALA DARPAN DATA'!O578","v":0},0,0,0,0,0,0,0,0,0,0,0]
[{"$f":"'SHALA DARPAN DATA'!C579","v":0},{"$f":"'SHALA DARPAN DATA'!A579","v":0},{"$f":"'SHALA DARPAN DATA'!B579","v":0},{"$f":"'SHALA DARPAN DATA'!D579","v":0},{"$f":"'SHALA DARPAN DATA'!J579","v":0},{"$f":"'SHALA DARPAN DATA'!T579","v":0},{"$f":"'SHALA DARPAN DATA'!V579","v":0},{"$f":"'SHALA DARPAN DATA'!K579","v":0},{"$f":"'SHALA DARPAN DATA'!E579","v":0},{"$f":"'SHALA DARPAN DATA'!G579","v":0},{"$f":"'SHALA DARPAN DATA'!H579","v":0},{"$f":"'SHALA DARPAN DATA'!W579","v":0},{"$f":"'SHALA DARPAN DATA'!R579","v":0},{"$f":"'SHALA DARPAN DATA'!S579","v":0},{"$f":"'SHALA DARPAN DATA'!O579","v":0},0,0,0,0,0,0,0,0,0,0,0]
[{"$f":"'SHALA DARPAN DATA'!C580","v":0},{"$f":"'SHALA DARPAN DATA'!A580","v":0},{"$f":"'SHALA DARPAN DATA'!B580","v":0},{"$f":"'SHALA DARPAN DATA'!D580","v":0},{"$f":"'SHALA DARPAN DATA'!J580","v":0},{"$f":"'SHALA DARPAN DATA'!T580","v":0},{"$f":"'SHALA DARPAN DATA'!V580","v":0},{"$f":"'SHALA DARPAN DATA'!K580","v":0},{"$f":"'SHALA DARPAN DATA'!E580","v":0},{"$f":"'SHALA DARPAN DATA'!G580","v":0},{"$f":"'SHALA DARPAN DATA'!H580","v":0},{"$f":"'SHALA DARPAN DATA'!W580","v":0},{"$f":"'SHALA DARPAN DATA'!R580","v":0},{"$f":"'SHALA DARPAN DATA'!S580","v":0},{"$f":"'SHALA DARPAN DATA'!O580","v":0},0,0,0,0,0,0,0,0,0,0,0]
[{"$f":"'SHALA DARPAN DATA'!C581","v":0},{"$f":"'SHALA DARPAN DATA'!A581","v":0},{"$f":"'SHALA DARPAN DATA'!B581","v":0},{"$f":"'SHALA DARPAN DATA'!D581","v":0},{"$f":"'SHALA DARPAN DATA'!J581","v":0},{"$f":"'SHALA DARPAN DATA'!T581","v":0},{"$f":"'SHALA DARPAN DATA'!V581","v":0},{"$f":"'SHALA DARPAN DATA'!K581","v":0},{"$f":"'SHALA DARPAN DATA'!E581","v":0},{"$f":"'SHALA DARPAN DATA'!G581","v":0},{"$f":"'SHALA DARPAN DATA'!H581","v":0},{"$f":"'SHALA DARPAN DATA'!W581","v":0},{"$f":"'SHALA DARPAN DATA'!R581","v":0},{"$f":"'SHALA DARPAN DATA'!S581","v":0},{"$f":"'SHALA DARPAN DATA'!O581","v":0},0,0,0,0,0,0,0,0,0,0,0]
[{"$f":"'SHALA DARPAN DATA'!C582","v":0},{"$f":"'SHALA DARPAN DATA'!A582","v":0},{"$f":"'SHALA DARPAN DATA'!B582","v":0},{"$f":"'SHALA DARPAN DATA'!D582","v":0},{"$f":"'SHALA DARPAN DATA'!J582","v":0},{"$f":"'SHALA DARPAN DATA'!T582","v":0},{"$f":"'SHALA DARPAN DATA'!V582","v":0},{"$f":"'SHALA DARPAN DATA'!K582","v":0},{"$f":"'SHALA DARPAN DATA'!E582","v":0},{"$f":"'SHALA DARPAN DATA'!G582","v":0},{"$f":"'SHALA DARPAN DATA'!H582","v":0},{"$f":"'SHALA DARPAN DATA'!W582","v":0},{"$f":"'SHALA DARPAN DATA'!R582","v":0},{"$f":"'SHALA DARPAN DATA'!S582","v":0},{"$f":"'SHALA DARPAN DATA'!O582","v":0},0,0,0,0,0,0,0,0,0,0,0]
[{"$f":"'SHALA DARPAN DATA'!C583","v":0},{"$f":"'SHALA DARPAN DATA'!A583","v":0},{"$f":"'SHALA DARPAN DATA'!B583","v":0},{"$f":"'SHALA DARPAN DATA'!D583","v":0},{"$f":"'SHALA DARPAN DATA'!J583","v":0},{"$f":"'SHALA DARPAN DATA'!T583","v":0},{"$f":"'SHALA DARPAN DATA'!V583","v":0},{"$f":"'SHALA DARPAN DATA'!K583","v":0},{"$f":"'SHALA DARPAN DATA'!E583","v":0},{"$f":"'SHALA DARPAN DATA'!G583","v":0},{"$f":"'SHALA DARPAN DATA'!H583","v":0},{"$f":"'SHALA DARPAN DATA'!W583","v":0},{"$f":"'SHALA DARPAN DATA'!R583","v":0},{"$f":"'SHALA DARPAN DATA'!S583","v":0},{"$f":"'SHALA DARPAN DATA'!O583","v":0},0,0,0,0,0,0,0,0,0,0,0]
[{"$f":"'SHALA DARPAN DATA'!C584","v":0},{"$f":"'SHALA DARPAN DATA'!A584","v":0},{"$f":"'SHALA DARPAN DATA'!B584","v":0},{"$f":"'SHALA DARPAN DATA'!D584","v":0},{"$f":"'SHALA DARPAN DATA'!J584","v":0},{"$f":"'SHALA DARPAN DATA'!T584","v":0},{"$f":"'SHALA DARPAN DATA'!V584","v":0},{"$f":"'SHALA DARPAN DATA'!K584","v":0},{"$f":"'SHALA DARPAN DATA'!E584","v":0},{"$f":"'SHALA DARPAN DATA'!G584","v":0},{"$f":"'SHALA DARPAN DATA'!H584","v":0},{"$f":"'SHALA DARPAN DATA'!W584","v":0},{"$f":"'SHALA DARPAN DATA'!R584","v":0},{"$f":"'SHALA DARPAN DATA'!S584","v":0},{"$f":"'SHALA DARPAN DATA'!O584","v":0},0,0,0,0,0,0,0,0,0,0,0]
[{"$f":"'SHALA DARPAN DATA'!C585","v":0},{"$f":"'SHALA DARPAN DATA'!A585","v":0},{"$f":"'SHALA DARPAN DATA'!B585","v":0},{"$f":"'SHALA DARPAN DATA'!D585","v":0},{"$f":"'SHALA DARPAN DATA'!J585","v":0},{"$f":"'SHALA DARPAN DATA'!T585","v":0},{"$f":"'SHALA DARPAN DATA'!V585","v":0},{"$f":"'SHALA DARPAN DATA'!K585","v":0},{"$f":"'SHALA DARPAN DATA'!E585","v":0},{"$f":"'SHALA DARPAN DATA'!G585","v":0},{"$f":"'SHALA DARPAN DATA'!H585","v":0},{"$f":"'SHALA DARPAN DATA'!W585","v":0},{"$f":"'SHALA DARPAN DATA'!R585","v":0},{"$f":"'SHALA DARPAN DATA'!S585","v":0},{"$f":"'SHALA DARPAN DATA'!O585","v":0},0,0,0,0,0,0,0,0,0,0,0]
[{"$f":"'SHALA DARPAN DATA'!C586","v":0},{"$f":"'SHALA DARPAN DATA'!A586","v":0},{"$f":"'SHALA DARPAN DATA'!B586","v":0},{"$f":"'SHALA DARPAN DATA'!D586","v":0},{"$f":"'SHALA DARPAN DATA'!J586","v":0},{"$f":"'SHALA DARPAN DATA'!T586","v":0},{"$f":"'SHALA DARPAN DATA'!V586","v":0},{"$f":"'SHALA DARPAN DATA'!K586","v":0},{"$f":"'SHALA DARPAN DATA'!E586","v":0},{"$f":"'SHALA DARPAN DATA'!G586","v":0},{"$f":"'SHALA DARPAN DATA'!H586","v":0},{"$f":"'SHALA DARPAN DATA'!W586","v":0},{"$f":"'SHALA DARPAN DATA'!R586","v":0},{"$f":"'SHALA DARPAN DATA'!S586","v":0},{"$f":"'SHALA DARPAN DATA'!O586","v":0},0,0,0,0,0,0,0,0,0,0,0]
[{"$f":"'SHALA DARPAN DATA'!C587","v":0},{"$f":"'SHALA DARPAN DATA'!A587","v":0},{"$f":"'SHALA DARPAN DATA'!B587","v":0},{"$f":"'SHALA DARPAN DATA'!D587","v":0},{"$f":"'SHALA DARPAN DATA'!J587","v":0},{"$f":"'SHALA DARPAN DATA'!T587","v":0},{"$f":"'SHALA DARPAN DATA'!V587","v":0},{"$f":"'SHALA DARPAN DATA'!K587","v":0},{"$f":"'SHALA DARPAN DATA'!E587","v":0},{"$f":"'SHALA DARPAN DATA'!G587","v":0},{"$f":"'SHALA DARPAN DATA'!H587","v":0},{"$f":"'SHALA DARPAN DATA'!W587","v":0},{"$f":"'SHALA DARPAN DATA'!R587","v":0},{"$f":"'SHALA DARPAN DATA'!S587","v":0},{"$f":"'SHALA DARPAN DATA'!O587","v":0},0,0,0,0,0,0,0,0,0,0,0]
[{"$f":"'SHALA DARPAN DATA'!C588","v":0},{"$f":"'SHALA DARPAN DATA'!A588","v":0},{"$f":"'SHALA DARPAN DATA'!B588","v":0},{"$f":"'SHALA DARPAN DATA'!D588","v":0},{"$f":"'SHALA DARPAN DATA'!J588","v":0},{"$f":"'SHALA DARPAN DATA'!T588","v":0},{"$f":"'SHALA DARPAN DATA'!V588","v":0},{"$f":"'SHALA DARPAN DATA'!K588","v":0},{"$f":"'SHALA DARPAN DATA'!E588","v":0},{"$f":"'SHALA DARPAN DATA'!G588","v":0},{"$f":"'SHALA DARPAN DATA'!H588","v":0},{"$f":"'SHALA DARPAN DATA'!W588","v":0},{"$f":"'SHALA DARPAN DATA'!R588","v":0},{"$f":"'SHALA DARPAN DATA'!S588","v":0},{"$f":"'SHALA DARPAN DATA'!O588","v":0},0,0,0,0,0,0,0,0,0,0,0]
[{"$f":"'SHALA DARPAN DATA'!C589","v":0},{"$f":"'SHALA DARPAN DATA'!A589","v":0},{"$f":"'SHALA DARPAN DATA'!B589","v":0},{"$f":"'SHALA DARPAN DATA'!D589","v":0},{"$f":"'SHALA DARPAN DATA'!J589","v":0},{"$f":"'SHALA DARPAN DATA'!T589","v":0},{"$f":"'SHALA DARPAN DATA'!V589","v":0},{"$f":"'SHALA DARPAN DATA'!K589","v":0},{"$f":"'SHALA DARPAN DATA'!E589","v":0},{"$f":"'SHALA DARPAN DATA'!G589","v":0},{"$f":"'SHALA DARPAN DATA'!H589","v":0},{"$f":"'SHALA DARPAN DATA'!W589","v":0},{"$f":"'SHALA DARPAN DATA'!R589","v":0},{"$f":"'SHALA DARPAN DATA'!S589","v":0},{"$f":"'SHALA DARPAN DATA'!O589","v":0},0,0,0,0,0,0,0,0,0,0,0]
[{"$f":"'SHALA DARPAN DATA'!C590","v":0},{"$f":"'SHALA DARPAN DATA'!A590","v":0},{"$f":"'SHALA DARPAN DATA'!B590","v":0},{"$f":"'SHALA DARPAN DATA'!D590","v":0},{"$f":"'SHALA DARPAN DATA'!J590","v":0},{"$f":"'SHALA DARPAN DATA'!T590","v":0},{"$f":"'SHALA DARPAN DATA'!V590","v":0},{"$f":"'SHALA DARPAN DATA'!K590","v":0},{"$f":"'SHALA DARPAN DATA'!E590","v":0},{"$f":"'SHALA DARPAN DATA'!G590","v":0},{"$f":"'SHALA DARPAN DATA'!H590","v":0},{"$f":"'SHALA DARPAN DATA'!W590","v":0},{"$f":"'SHALA DARPAN DATA'!R590","v":0},{"$f":"'SHALA DARPAN DATA'!S590","v":0},{"$f":"'SHALA DARPAN DATA'!O590","v":0},0,0,0,0,0,0,0,0,0,0,0]
[{"$f":"'SHALA DARPAN DATA'!C591","v":0},{"$f":"'SHALA DARPAN DATA'!A591","v":0},{"$f":"'SHALA DARPAN DATA'!B591","v":0},{"$f":"'SHALA DARPAN DATA'!D591","v":0},{"$f":"'SHALA DARPAN DATA'!J591","v":0},{"$f":"'SHALA DARPAN DATA'!T591","v":0},{"$f":"'SHALA DARPAN DATA'!V591","v":0},{"$f":"'SHALA DARPAN DATA'!K591","v":0},{"$f":"'SHALA DARPAN DATA'!E591","v":0},{"$f":"'SHALA DARPAN DATA'!G591","v":0},{"$f":"'SHALA DARPAN DATA'!H591","v":0},{"$f":"'SHALA DARPAN DATA'!W591","v":0},{"$f":"'SHALA DARPAN DATA'!R591","v":0},{"$f":"'SHALA DARPAN DATA'!S591","v":0},{"$f":"'SHALA DARPAN DATA'!O591","v":0},0,0,0,0,0,0,0,0,0,0,0]
[{"$f":"'SHALA DARPAN DATA'!C592","v":0},{"$f":"'SHALA DARPAN DATA'!A592","v":0},{"$f":"'SHALA DARPAN DATA'!B592","v":0},{"$f":"'SHALA DARPAN DATA'!D592","v":0},{"$f":"'SHALA DARPAN DATA'!J592","v":0},{"$f":"'SHALA DARPAN DATA'!T592","v":0},{"$f":"'SHALA DARPAN DATA'!V592","v":0},{"$f":"'SHALA DARPAN DATA'!K592","v":0},{"$f":"'SHALA DARPAN DATA'!E592","v":0},{"$f":"'SHALA DARPAN DATA'!G592","v":0},{"$f":"'SHALA DARPAN DATA'!H592","v":0},{"$f":"'SHALA DARPAN DATA'!W592","v":0},{"$f":"'SHALA DARPAN DATA'!R592","v":0},{"$f":"'SHALA DARPAN DATA'!S592","v":0},{"$f":"'SHALA DARPAN DATA'!O592","v":0},0,0,0,0,0,0,0,0,0,0,0]
[{"$f":"'SHALA DARPAN DATA'!C593","v":0},{"$f":"'SHALA DARPAN DATA'!A593","v":0},{"$f":"'SHALA DARPAN DATA'!B593","v":0},{"$f":"'SHALA DARPAN DATA'!D593","v":0},{"$f":"'SHALA DARPAN DATA'!J593","v":0},{"$f":"'SHALA DARPAN DATA'!T593","v":0},{"$f":"'SHALA DARPAN DATA'!V593","v":0},{"$f":"'SHALA DARPAN DATA'!K593","v":0},{"$f":"'SHALA DARPAN DATA'!E593","v":0},{"$f":"'SHALA DARPAN DATA'!G593","v":0},{"$f":"'SHALA DARPAN DATA'!H593","v":0},{"$f":"'SHALA DARPAN DATA'!W593","v":0},{"$f":"'SHALA DARPAN DATA'!R593","v":0},{"$f":"'SHALA DARPAN DATA'!S593","v":0},{"$f":"'SHALA DARPAN DATA'!O593","v":0},0,0,0,0,0,0,0,0,0,0,0]
[{"$f":"'SHALA DARPAN DATA'!C594","v":0},{"$f":"'SHALA DARPAN DATA'!A594","v":0},{"$f":"'SHALA DARPAN DATA'!B594","v":0},{"$f":"'SHALA DARPAN DATA'!D594","v":0},{"$f":"'SHALA DARPAN DATA'!J594","v":0},{"$f":"'SHALA DARPAN DATA'!T594","v":0},{"$f":"'SHALA DARPAN DATA'!V594","v":0},{"$f":"'SHALA DARPAN DATA'!K594","v":0},{"$f":"'SHALA DARPAN DATA'!E594","v":0},{"$f":"'SHALA DARPAN DATA'!G594","v":0},{"$f":"'SHALA DARPAN DATA'!H594","v":0},{"$f":"'SHALA DARPAN DATA'!W594","v":0},{"$f":"'SHALA DARPAN DATA'!R594","v":0},{"$f":"'SHALA DARPAN DATA'!S594","v":0},{"$f":"'SHALA DARPAN DATA'!O594","v":0},0,0,0,0,0,0,0,0,0,0,0]
[{"$f":"'SHALA DARPAN DATA'!C595","v":0},{"$f":"'SHALA DARPAN DATA'!A595","v":0},{"$f":"'SHALA DARPAN DATA'!B595","v":0},{"$f":"'SHALA DARPAN DATA'!D595","v":0},{"$f":"'SHALA DARPAN DATA'!J595","v":0},{"$f":"'SHALA DARPAN DATA'!T595","v":0},{"$f":"'SHALA DARPAN DATA'!V595","v":0},{"$f":"'SHALA DARPAN DATA'!K595","v":0},{"$f":"'SHALA DARPAN DATA'!E595","v":0},{"$f":"'SHALA DARPAN DATA'!G595","v":0},{"$f":"'SHALA DARPAN DATA'!H595","v":0},{"$f":"'SHALA DARPAN DATA'!W595","v":0},{"$f":"'SHALA DARPAN DATA'!R595","v":0},{"$f":"'SHALA DARPAN DATA'!S595","v":0},{"$f":"'SHALA DARPAN DATA'!O595","v":0},0,0,0,0,0,0,0,0,0,0,0]
[{"$f":"'SHALA DARPAN DATA'!C596","v":0},{"$f":"'SHALA DARPAN DATA'!A596","v":0},{"$f":"'SHALA DARPAN DATA'!B596","v":0},{"$f":"'SHALA DARPAN DATA'!D596","v":0},{"$f":"'SHALA DARPAN DATA'!J596","v":0},{"$f":"'SHALA DARPAN DATA'!T596","v":0},{"$f":"'SHALA DARPAN DATA'!V596","v":0},{"$f":"'SHALA DARPAN DATA'!K596","v":0},{"$f":"'SHALA DARPAN DATA'!E596","v":0},{"$f":"'SHALA DARPAN DATA'!G596","v":0},{"$f":"'SHALA DARPAN DATA'!H596","v":0},{"$f":"'SHALA DARPAN DATA'!W596","v":0},{"$f":"'SHALA DARPAN DATA'!R596","v":0},{"$f":"'SHALA DARPAN DATA'!S596","v":0},{"$f":"'SHALA DARPAN DATA'!O596","v":0},0,0,0,0,0,0,0,0,0,0,0]
[{"$f":"'SHALA DARPAN DATA'!C597","v":0},{"$f":"'SHALA DARPAN DATA'!A597","v":0},{"$f":"'SHALA DARPAN DATA'!B597","v":0},{"$f":"'SHALA DARPAN DATA'!D597","v":0},{"$f":"'SHALA DARPAN DATA'!J597","v":0},{"$f":"'SHALA DARPAN DATA'!T597","v":0},{"$f":"'SHALA DARPAN DATA'!V597","v":0},{"$f":"'SHALA DARPAN DATA'!K597","v":0},{"$f":"'SHALA DARPAN DATA'!E597","v":0},{"$f":"'SHALA DARPAN DATA'!G597","v":0},{"$f":"'SHALA DARPAN DATA'!H597","v":0},{"$f":"'SHALA DARPAN DATA'!W597","v":0},{"$f":"'SHALA DARPAN DATA'!R597","v":0},{"$f":"'SHALA DARPAN DATA'!S597","v":0},{"$f":"'SHALA DARPAN DATA'!O597","v":0},0,0,0,0,0,0,0,0,0,0,0]
[{"$f":"'SHALA DARPAN DATA'!C598","v":0},{"$f":"'SHALA DARPAN DATA'!A598","v":0},{"$f":"'SHALA DARPAN DATA'!B598","v":0},{"$f":"'SHALA DARPAN DATA'!D598","v":0},{"$f":"'SHALA DARPAN DATA'!J598","v":0},{"$f":"'SHALA DARPAN DATA'!T598","v":0},{"$f":"'SHALA DARPAN DATA'!V598","v":0},{"$f":"'SHALA DARPAN DATA'!K598","v":0},{"$f":"'SHALA DARPAN DATA'!E598","v":0},{"$f":"'SHALA DARPAN DATA'!G598","v":0},{"$f":"'SHALA DARPAN DATA'!H598","v":0},{"$f":"'SHALA DARPAN DATA'!W598","v":0},{"$f":"'SHALA DARPAN DATA'!R598","v":0},{"$f":"'SHALA DARPAN DATA'!S598","v":0},{"$f":"'SHALA DARPAN DATA'!O598","v":0},0,0,0,0,0,0,0,0,0,0,0]
[{"$f":"'SHALA DARPAN DATA'!C599","v":0},{"$f":"'SHALA DARPAN DATA'!A599","v":0},{"$f":"'SHALA DARPAN DATA'!B599","v":0},{"$f":"'SHALA DARPAN DATA'!D599","v":0},{"$f":"'SHALA DARPAN DATA'!J599","v":0},{"$f":"'SHALA DARPAN DATA'!T599","v":0},{"$f":"'SHALA DARPAN DATA'!V599","v":0},{"$f":"'SHALA DARPAN DATA'!K599","v":0},{"$f":"'SHALA DARPAN DATA'!E599","v":0},{"$f":"'SHALA DARPAN DATA'!G599","v":0},{"$f":"'SHALA DARPAN DATA'!H599","v":0},{"$f":"'SHALA DARPAN DATA'!W599","v":0},{"$f":"'SHALA DARPAN DATA'!R599","v":0},{"$f":"'SHALA DARPAN DATA'!S599","v":0},{"$f":"'SHALA DARPAN DATA'!O599","v":0},0,0,0,0,0,0,0,0,0,0,0]
[{"$f":"'SHALA DARPAN DATA'!C600","v":0},{"$f":"'SHALA DARPAN DATA'!A600","v":0},{"$f":"'SHALA DARPAN DATA'!B600","v":0},{"$f":"'SHALA DARPAN DATA'!D600","v":0},{"$f":"'SHALA DARPAN DATA'!J600","v":0},{"$f":"'SHALA DARPAN DATA'!T600","v":0},{"$f":"'SHALA DARPAN DATA'!V600","v":0},{"$f":"'SHALA DARPAN DATA'!K600","v":0},{"$f":"'SHALA DARPAN DATA'!E600","v":0},{"$f":"'SHALA DARPAN DATA'!G600","v":0},{"$f":"'SHALA DARPAN DATA'!H600","v":0},{"$f":"'SHALA DARPAN DATA'!W600","v":0},{"$f":"'SHALA DARPAN DATA'!R600","v":0},{"$f":"'SHALA DARPAN DATA'!S600","v":0},{"$f":"'SHALA DARPAN DATA'!O600","v":0},0,0,0,0,0,0,0,0,0,0,0]
[{"$f":"'SHALA DARPAN DATA'!C601","v":0},{"$f":"'SHALA DARPAN DATA'!A601","v":0},{"$f":"'SHALA DARPAN DATA'!B601","v":0},{"$f":"'SHALA DARPAN DATA'!D601","v":0},{"$f":"'SHALA DARPAN DATA'!J601","v":0},{"$f":"'SHALA DARPAN DATA'!T601","v":0},{"$f":"'SHALA DARPAN DATA'!V601","v":0},{"$f":"'SHALA DARPAN DATA'!K601","v":0},{"$f":"'SHALA DARPAN DATA'!E601","v":0},{"$f":"'SHALA DARPAN DATA'!G601","v":0},{"$f":"'SHALA DARPAN DATA'!H601","v":0},{"$f":"'SHALA DARPAN DATA'!W601","v":0},{"$f":"'SHALA DARPAN DATA'!R601","v":0},{"$f":"'SHALA DARPAN DATA'!S601","v":0},{"$f":"'SHALA DARPAN DATA'!O601","v":0},0,0,0,0,0,0,0,0,0,0,0]
[{"$f":"'SHALA DARPAN DATA'!C602","v":0},{"$f":"'SHALA DARPAN DATA'!A602","v":0},{"$f":"'SHALA DARPAN DATA'!B602","v":0},{"$f":"'SHALA DARPAN DATA'!D602","v":0},{"$f":"'SHALA DARPAN DATA'!J602","v":0},{"$f":"'SHALA DARPAN DATA'!T602","v":0},{"$f":"'SHALA DARPAN DATA'!V602","v":0},{"$f":"'SHALA DARPAN DATA'!K602","v":0},{"$f":"'SHALA DARPAN DATA'!E602","v":0},{"$f":"'SHALA DARPAN DATA'!G602","v":0},{"$f":"'SHALA DARPAN DATA'!H602","v":0},{"$f":"'SHALA DARPAN DATA'!W602","v":0},{"$f":"'SHALA DARPAN DATA'!R602","v":0},{"$f":"'SHALA DARPAN DATA'!S602","v":0},{"$f":"'SHALA DARPAN DATA'!O602","v":0},0,0,0,0,0,0,0,0,0,0,0]
[{"$f":"'SHALA DARPAN DATA'!C603","v":0},{"$f":"'SHALA DARPAN DATA'!A603","v":0},{"$f":"'SHALA DARPAN DATA'!B603","v":0},{"$f":"'SHALA DARPAN DATA'!D603","v":0},{"$f":"'SHALA DARPAN DATA'!J603","v":0},{"$f":"'SHALA DARPAN DATA'!T603","v":0},{"$f":"'SHALA DARPAN DATA'!V603","v":0},{"$f":"'SHALA DARPAN DATA'!K603","v":0},{"$f":"'SHALA DARPAN DATA'!E603","v":0},{"$f":"'SHALA DARPAN DATA'!G603","v":0},{"$f":"'SHALA DARPAN DATA'!H603","v":0},{"$f":"'SHALA DARPAN DATA'!W603","v":0},{"$f":"'SHALA DARPAN DATA'!R603","v":0},{"$f":"'SHALA DARPAN DATA'!S603","v":0},{"$f":"'SHALA DARPAN DATA'!O603","v":0},0,0,0,0,0,0,0,0,0,0,0]
[{"$f":"'SHALA DARPAN DATA'!C604","v":0},{"$f":"'SHALA DARPAN DATA'!A604","v":0},{"$f":"'SHALA DARPAN DATA'!B604","v":0},{"$f":"'SHALA DARPAN DATA'!D604","v":0},{"$f":"'SHALA DARPAN DATA'!J604","v":0},{"$f":"'SHALA DARPAN DATA'!T604","v":0},{"$f":"'SHALA DARPAN DATA'!V604","v":0},{"$f":"'SHALA DARPAN DATA'!K604","v":0},{"$f":"'SHALA DARPAN DATA'!E604","v":0},{"$f":"'SHALA DARPAN DATA'!G604","v":0},{"$f":"'SHALA DARPAN DATA'!H604","v":0},{"$f":"'SHALA DARPAN DATA'!W604","v":0},{"$f":"'SHALA DARPAN DATA'!R604","v":0},{"$f":"'SHALA DARPAN DATA'!S604","v":0},{"$f":"'SHALA DARPAN DATA'!O604","v":0},0,0,0,0,0,0,0,0,0,0,0]
[{"$f":"'SHALA DARPAN DATA'!C605","v":0},{"$f":"'SHALA DARPAN DATA'!A605","v":0},{"$f":"'SHALA DARPAN DATA'!B605","v":0},{"$f":"'SHALA DARPAN DATA'!D605","v":0},{"$f":"'SHALA DARPAN DATA'!J605","v":0},{"$f":"'SHALA DARPAN DATA'!T605","v":0},{"$f":"'SHALA DARPAN DATA'!V605","v":0},{"$f":"'SHALA DARPAN DATA'!K605","v":0},{"$f":"'SHALA DARPAN DATA'!E605","v":0},{"$f":"'SHALA DARPAN DATA'!G605","v":0},{"$f":"'SHALA DARPAN DATA'!H605","v":0},{"$f":"'SHALA DARPAN DATA'!W605","v":0},{"$f":"'SHALA DARPAN DATA'!R605","v":0},{"$f":"'SHALA DARPAN DATA'!S605","v":0},{"$f":"'SHALA DARPAN DATA'!O605","v":0},0,0,0,0,0,0,0,0,0,0,0]
[{"$f":"'SHALA DARPAN DATA'!C606","v":0},{"$f":"'SHALA DARPAN DATA'!A606","v":0},{"$f":"'SHALA DARPAN DATA'!B606","v":0},{"$f":"'SHALA DARPAN DATA'!D606","v":0},{"$f":"'SHALA DARPAN DATA'!J606","v":0},{"$f":"'SHALA DARPAN DATA'!T606","v":0},{"$f":"'SHALA DARPAN DATA'!V606","v":0},{"$f":"'SHALA DARPAN DATA'!K606","v":0},{"$f":"'SHALA DARPAN DATA'!E606","v":0},{"$f":"'SHALA DARPAN DATA'!G606","v":0},{"$f":"'SHALA DARPAN DATA'!H606","v":0},{"$f":"'SHALA DARPAN DATA'!W606","v":0},{"$f":"'SHALA DARPAN DATA'!R606","v":0},{"$f":"'SHALA DARPAN DATA'!S606","v":0},{"$f":"'SHALA DARPAN DATA'!O606","v":0},0,0,0,0,0,0,0,0,0,0,0]
[{"$f":"'SHALA DARPAN DATA'!C607","v":0},{"$f":"'SHALA DARPAN DATA'!A607","v":0},{"$f":"'SHALA DARPAN DATA'!B607","v":0},{"$f":"'SHALA DARPAN DATA'!D607","v":0},{"$f":"'SHALA DARPAN DATA'!J607","v":0},{"$f":"'SHALA DARPAN DATA'!T607","v":0},{"$f":"'SHALA DARPAN DATA'!V607","v":0},{"$f":"'SHALA DARPAN DATA'!K607","v":0},{"$f":"'SHALA DARPAN DATA'!E607","v":0},{"$f":"'SHALA DARPAN DATA'!G607","v":0},{"$f":"'SHALA DARPAN DATA'!H607","v":0},{"$f":"'SHALA DARPAN DATA'!W607","v":0},{"$f":"'SHALA DARPAN DATA'!R607","v":0},{"$f":"'SHALA DARPAN DATA'!S607","v":0},{"$f":"'SHALA DARPAN DATA'!O607","v":0},0,0,0,0,0,0,0,0,0,0,0]
[{"$f":"'SHALA DARPAN DATA'!C608","v":0},{"$f":"'SHALA DARPAN DATA'!A608","v":0},{"$f":"'SHALA DARPAN DATA'!B608","v":0},{"$f":"'SHALA DARPAN DATA'!D608","v":0},{"$f":"'SHALA DARPAN DATA'!J608","v":0},{"$f":"'SHALA DARPAN DATA'!T608","v":0},{"$f":"'SHALA DARPAN DATA'!V608","v":0},{"$f":"'SHALA DARPAN DATA'!K608","v":0},{"$f":"'SHALA DARPAN DATA'!E608","v":0},{"$f":"'SHALA DARPAN DATA'!G608","v":0},{"$f":"'SHALA DARPAN DATA'!H608","v":0},{"$f":"'SHALA DARPAN DATA'!W608","v":0},{"$f":"'SHALA DARPAN DATA'!R608","v":0},{"$f":"'SHALA DARPAN DATA'!S608","v":0},{"$f":"'SHALA DARPAN DATA'!O608","v":0},0,0,0,0,0,0,0,0,0,0,0]
[{"$f":"'SHALA DARPAN DATA'!C609","v":0},{"$f":"'SHALA DARPAN DATA'!A609","v":0},{"$f":"'SHALA DARPAN DATA'!B609","v":0},{"$f":"'SHALA DARPAN DATA'!D609","v":0},{"$f":"'SHALA DARPAN DATA'!J609","v":0},{"$f":"'SHALA DARPAN DATA'!T609","v":0},{"$f":"'SHALA DARPAN DATA'!V609","v":0},{"$f":"'SHALA DARPAN DATA'!K609","v":0},{"$f":"'SHALA DARPAN DATA'!E609","v":0},{"$f":"'SHALA DARPAN DATA'!G609","v":0},{"$f":"'SHALA DARPAN DATA'!H609","v":0},{"$f":"'SHALA DARPAN DATA'!W609","v":0},{"$f":"'SHALA DARPAN DATA'!R609","v":0},{"$f":"'SHALA DARPAN DATA'!S609","v":0},{"$f":"'SHALA DARPAN DATA'!O609","v":0},0,0,0,0,0,0,0,0,0,0,0]
[{"$f":"'SHALA DARPAN DATA'!C610","v":0},{"$f":"'SHALA DARPAN DATA'!A610","v":0},{"$f":"'SHALA DARPAN DATA'!B610","v":0},{"$f":"'SHALA DARPAN DATA'!D610","v":0},{"$f":"'SHALA DARPAN DATA'!J610","v":0},{"$f":"'SHALA DARPAN DATA'!T610","v":0},{"$f":"'SHALA DARPAN DATA'!V610","v":0},{"$f":"'SHALA DARPAN DATA'!K610","v":0},{"$f":"'SHALA DARPAN DATA'!E610","v":0},{"$f":"'SHALA DARPAN DATA'!G610","v":0},{"$f":"'SHALA DARPAN DATA'!H610","v":0},{"$f":"'SHALA DARPAN DATA'!W610","v":0},{"$f":"'SHALA DARPAN DATA'!R610","v":0},{"$f":"'SHALA DARPAN DATA'!S610","v":0},{"$f":"'SHALA DARPAN DATA'!O610","v":0},0,0,0,0,0,0,0,0,0,0,0]
[{"$f":"'SHALA DARPAN DATA'!C611","v":0},{"$f":"'SHALA DARPAN DATA'!A611","v":0},{"$f":"'SHALA DARPAN DATA'!B611","v":0},{"$f":"'SHALA DARPAN DATA'!D611","v":0},{"$f":"'SHALA DARPAN DATA'!J611","v":0},{"$f":"'SHALA DARPAN DATA'!T611","v":0},{"$f":"'SHALA DARPAN DATA'!V611","v":0},{"$f":"'SHALA DARPAN DATA'!K611","v":0},{"$f":"'SHALA DARPAN DATA'!E611","v":0},{"$f":"'SHALA DARPAN DATA'!G611","v":0},{"$f":"'SHALA DARPAN DATA'!H611","v":0},{"$f":"'SHALA DARPAN DATA'!W611","v":0},{"$f":"'SHALA DARPAN DATA'!R611","v":0},{"$f":"'SHALA DARPAN DATA'!S611","v":0},{"$f":"'SHALA DARPAN DATA'!O611","v":0},0,0,0,0,0,0,0,0,0,0,0]
[{"$f":"'SHALA DARPAN DATA'!C612","v":0},{"$f":"'SHALA DARPAN DATA'!A612","v":0},{"$f":"'SHALA DARPAN DATA'!B612","v":0},{"$f":"'SHALA DARPAN DATA'!D612","v":0},{"$f":"'SHALA DARPAN DATA'!J612","v":0},{"$f":"'SHALA DARPAN DATA'!T612","v":0},{"$f":"'SHALA DARPAN DATA'!V612","v":0},{"$f":"'SHALA DARPAN DATA'!K612","v":0},{"$f":"'SHALA DARPAN DATA'!E612","v":0},{"$f":"'SHALA DARPAN DATA'!G612","v":0},{"$f":"'SHALA DARPAN DATA'!H612","v":0},{"$f":"'SHALA DARPAN DATA'!W612","v":0},{"$f":"'SHALA DARPAN DATA'!R612","v":0},{"$f":"'SHALA DARPAN DATA'!S612","v":0},{"$f":"'SHALA DARPAN DATA'!O612","v":0},0,0,0,0,0,0,0,0,0,0,0]
[{"$f":"'SHALA DARPAN DATA'!C613","v":0},{"$f":"'SHALA DARPAN DATA'!A613","v":0},{"$f":"'SHALA DARPAN DATA'!B613","v":0},{"$f":"'SHALA DARPAN DATA'!D613","v":0},{"$f":"'SHALA DARPAN DATA'!J613","v":0},{"$f":"'SHALA DARPAN DATA'!T613","v":0},{"$f":"'SHALA DARPAN DATA'!V613","v":0},{"$f":"'SHALA DARPAN DATA'!K613","v":0},{"$f":"'SHALA DARPAN DATA'!E613","v":0},{"$f":"'SHALA DARPAN DATA'!G613","v":0},{"$f":"'SHALA DARPAN DATA'!H613","v":0},{"$f":"'SHALA DARPAN DATA'!W613","v":0},{"$f":"'SHALA DARPAN DATA'!R613","v":0},{"$f":"'SHALA DARPAN DATA'!S613","v":0},{"$f":"'SHALA DARPAN DATA'!O613","v":0},0,0,0,0,0,0,0,0,0,0,0]
[{"$f":"'SHALA DARPAN DATA'!C614","v":0},{"$f":"'SHALA DARPAN DATA'!A614","v":0},{"$f":"'SHALA DARPAN DATA'!B614","v":0},{"$f":"'SHALA DARPAN DATA'!D614","v":0},{"$f":"'SHALA DARPAN DATA'!J614","v":0},{"$f":"'SHALA DARPAN DATA'!T614","v":0},{"$f":"'SHALA DARPAN DATA'!V614","v":0},{"$f":"'SHALA DARPAN DATA'!K614","v":0},{"$f":"'SHALA DARPAN DATA'!E614","v":0},{"$f":"'SHALA DARPAN DATA'!G614","v":0},{"$f":"'SHALA DARPAN DATA'!H614","v":0},{"$f":"'SHALA DARPAN DATA'!W614","v":0},{"$f":"'SHALA DARPAN DATA'!R614","v":0},{"$f":"'SHALA DARPAN DATA'!S614","v":0},{"$f":"'SHALA DARPAN DATA'!O614","v":0},0,0,0,0,0,0,0,0,0,0,0]
[{"$f":"'SHALA DARPAN DATA'!C615","v":0},{"$f":"'SHALA DARPAN DATA'!A615","v":0},{"$f":"'SHALA DARPAN DATA'!B615","v":0},{"$f":"'SHALA DARPAN DATA'!D615","v":0},{"$f":"'SHALA DARPAN DATA'!J615","v":0},{"$f":"'SHALA DARPAN DATA'!T615","v":0},{"$f":"'SHALA DARPAN DATA'!V615","v":0},{"$f":"'SHALA DARPAN DATA'!K615","v":0},{"$f":"'SHALA DARPAN DATA'!E615","v":0},{"$f":"'SHALA DARPAN DATA'!G615","v":0},{"$f":"'SHALA DARPAN DATA'!H615","v":0},{"$f":"'SHALA DARPAN DATA'!W615","v":0},{"$f":"'SHALA DARPAN DATA'!R615","v":0},{"$f":"'SHALA DARPAN DATA'!S615","v":0},{"$f":"'SHALA DARPAN DATA'!O615","v":0},0,0,0,0,0,0,0,0,0,0,0]
[{"$f":"'SHALA DARPAN DATA'!C616","v":0},{"$f":"'SHALA DARPAN DATA'!A616","v":0},{"$f":"'SHALA DARPAN DATA'!B616","v":0},{"$f":"'SHALA DARPAN DATA'!D616","v":0},{"$f":"'SHALA DARPAN DATA'!J616","v":0},{"$f":"'SHALA DARPAN DATA'!T616","v":0},{"$f":"'SHALA DARPAN DATA'!V616","v":0},{"$f":"'SHALA DARPAN DATA'!K616","v":0},{"$f":"'SHALA DARPAN DATA'!E616","v":0},{"$f":"'SHALA DARPAN DATA'!G616","v":0},{"$f":"'SHALA DARPAN DATA'!H616","v":0},{"$f":"'SHALA DARPAN DATA'!W616","v":0},{"$f":"'SHALA DARPAN DATA'!R616","v":0},{"$f":"'SHALA DARPAN DATA'!S616","v":0},{"$f":"'SHALA DARPAN DATA'!O616","v":0},0,0,0,0,0,0,0,0,0,0,0]
[{"$f":"'SHALA DARPAN DATA'!C617","v":0},{"$f":"'SHALA DARPAN DATA'!A617","v":0},{"$f":"'SHALA DARPAN DATA'!B617","v":0},{"$f":"'SHALA DARPAN DATA'!D617","v":0},{"$f":"'SHALA DARPAN DATA'!J617","v":0},{"$f":"'SHALA DARPAN DATA'!T617","v":0},{"$f":"'SHALA DARPAN DATA'!V617","v":0},{"$f":"'SHALA DARPAN DATA'!K617","v":0},{"$f":"'SHALA DARPAN DATA'!E617","v":0},{"$f":"'SHALA DARPAN DATA'!G617","v":0},{"$f":"'SHALA DARPAN DATA'!H617","v":0},{"$f":"'SHALA DARPAN DATA'!W617","v":0},{"$f":"'SHALA DARPAN DATA'!R617","v":0},{"$f":"'SHALA DARPAN DATA'!S617","v":0},{"$f":"'SHALA DARPAN DATA'!O617","v":0},0,0,0,0,0,0,0,0,0,0,0]
[{"$f":"'SHALA DARPAN DATA'!C618","v":0},{"$f":"'SHALA DARPAN DATA'!A618","v":0},{"$f":"'SHALA DARPAN DATA'!B618","v":0},{"$f":"'SHALA DARPAN DATA'!D618","v":0},{"$f":"'SHALA DARPAN DATA'!J618","v":0},{"$f":"'SHALA DARPAN DATA'!T618","v":0},{"$f":"'SHALA DARPAN DATA'!V618","v":0},{"$f":"'SHALA DARPAN DATA'!K618","v":0},{"$f":"'SHALA DARPAN DATA'!E618","v":0},{"$f":"'SHALA DARPAN DATA'!G618","v":0},{"$f":"'SHALA DARPAN DATA'!H618","v":0},{"$f":"'SHALA DARPAN DATA'!W618","v":0},{"$f":"'SHALA DARPAN DATA'!R618","v":0},{"$f":"'SHALA DARPAN DATA'!S618","v":0},{"$f":"'SHALA DARPAN DATA'!O618","v":0},0,0,0,0,0,0,0,0,0,0,0]
[{"$f":"'SHALA DARPAN DATA'!C619","v":0},{"$f":"'SHALA DARPAN DATA'!A619","v":0},{"$f":"'SHALA DARPAN DATA'!B619","v":0},{"$f":"'SHALA DARPAN DATA'!D619","v":0},{"$f":"'SHALA DARPAN DATA'!J619","v":0},{"$f":"'SHALA DARPAN DATA'!T619","v":0},{"$f":"'SHALA DARPAN DATA'!V619","v":0},{"$f":"'SHALA DARPAN DATA'!K619","v":0},{"$f":"'SHALA DARPAN DATA'!E619","v":0},{"$f":"'SHALA DARPAN DATA'!G619","v":0},{"$f":"'SHALA DARPAN DATA'!H619","v":0},{"$f":"'SHALA DARPAN DATA'!W619","v":0},{"$f":"'SHALA DARPAN DATA'!R619","v":0},{"$f":"'SHALA DARPAN DATA'!S619","v":0},{"$f":"'SHALA DARPAN DATA'!O619","v":0},0,0,0,0,0,0,0,0,0,0,0]
[{"$f":"'SHALA DARPAN DATA'!C620","v":0},{"$f":"'SHALA DARPAN DATA'!A620","v":0},{"$f":"'SHALA DARPAN DATA'!B620","v":0},{"$f":"'SHALA DARPAN DATA'!D620","v":0},{"$f":"'SHALA DARPAN DATA'!J620","v":0},{"$f":"'SHALA DARPAN DATA'!T620","v":0},{"$f":"'SHALA DARPAN DATA'!V620","v":0},{"$f":"'SHALA DARPAN DATA'!K620","v":0},{"$f":"'SHALA DARPAN DATA'!E620","v":0},{"$f":"'SHALA DARPAN DATA'!G620","v":0},{"$f":"'SHALA DARPAN DATA'!H620","v":0},{"$f":"'SHALA DARPAN DATA'!W620","v":0},{"$f":"'SHALA DARPAN DATA'!R620","v":0},{"$f":"'SHALA DARPAN DATA'!S620","v":0},{"$f":"'SHALA DARPAN DATA'!O620","v":0},0,0,0,0,0,0,0,0,0,0,0]
[{"$f":"'SHALA DARPAN DATA'!C621","v":0},{"$f":"'SHALA DARPAN DATA'!A621","v":0},{"$f":"'SHALA DARPAN DATA'!B621","v":0},{"$f":"'SHALA DARPAN DATA'!D621","v":0},{"$f":"'SHALA DARPAN DATA'!J621","v":0},{"$f":"'SHALA DARPAN DATA'!T621","v":0},{"$f":"'SHALA DARPAN DATA'!V621","v":0},{"$f":"'SHALA DARPAN DATA'!K621","v":0},{"$f":"'SHALA DARPAN DATA'!E621","v":0},{"$f":"'SHALA DARPAN DATA'!G621","v":0},{"$f":"'SHALA DARPAN DATA'!H621","v":0},{"$f":"'SHALA DARPAN DATA'!W621","v":0},{"$f":"'SHALA DARPAN DATA'!R621","v":0},{"$f":"'SHALA DARPAN DATA'!S621","v":0},{"$f":"'SHALA DARPAN DATA'!O621","v":0},0,0,0,0,0,0,0,0,0,0,0]
[{"$f":"'SHALA DARPAN DATA'!C622","v":0},{"$f":"'SHALA DARPAN DATA'!A622","v":0},{"$f":"'SHALA DARPAN DATA'!B622","v":0},{"$f":"'SHALA DARPAN DATA'!D622","v":0},{"$f":"'SHALA DARPAN DATA'!J622","v":0},{"$f":"'SHALA DARPAN DATA'!T622","v":0},{"$f":"'SHALA DARPAN DATA'!V622","v":0},{"$f":"'SHALA DARPAN DATA'!K622","v":0},{"$f":"'SHALA DARPAN DATA'!E622","v":0},{"$f":"'SHALA DARPAN DATA'!G622","v":0},{"$f":"'SHALA DARPAN DATA'!H622","v":0},{"$f":"'SHALA DARPAN DATA'!W622","v":0},{"$f":"'SHALA DARPAN DATA'!R622","v":0},{"$f":"'SHALA DARPAN DATA'!S622","v":0},{"$f":"'SHALA DARPAN DATA'!O622","v":0},0,0,0,0,0,0,0,0,0,0,0]
[{"$f":"'SHALA DARPAN DATA'!C623","v":0},{"$f":"'SHALA DARPAN DATA'!A623","v":0},{"$f":"'SHALA DARPAN DATA'!B623","v":0},{"$f":"'SHALA DARPAN DATA'!D623","v":0},{"$f":"'SHALA DARPAN DATA'!J623","v":0},{"$f":"'SHALA DARPAN DATA'!T623","v":0},{"$f":"'SHALA DARPAN DATA'!V623","v":0},{"$f":"'SHALA DARPAN DATA'!K623","v":0},{"$f":"'SHALA DARPAN DATA'!E623","v":0},{"$f":"'SHALA DARPAN DATA'!G623","v":0},{"$f":"'SHALA DARPAN DATA'!H623","v":0},{"$f":"'SHALA DARPAN DATA'!W623","v":0},{"$f":"'SHALA DARPAN DATA'!R623","v":0},{"$f":"'SHALA DARPAN DATA'!S623","v":0},{"$f":"'SHALA DARPAN DATA'!O623","v":0},0,0,0,0,0,0,0,0,0,0,0]
[{"$f":"'SHALA DARPAN DATA'!C624","v":0},{"$f":"'SHALA DARPAN DATA'!A624","v":0},{"$f":"'SHALA DARPAN DATA'!B624","v":0},{"$f":"'SHALA DARPAN DATA'!D624","v":0},{"$f":"'SHALA DARPAN DATA'!J624","v":0},{"$f":"'SHALA DARPAN DATA'!T624","v":0},{"$f":"'SHALA DARPAN DATA'!V624","v":0},{"$f":"'SHALA DARPAN DATA'!K624","v":0},{"$f":"'SHALA DARPAN DATA'!E624","v":0},{"$f":"'SHALA DARPAN DATA'!G624","v":0},{"$f":"'SHALA DARPAN DATA'!H624","v":0},{"$f":"'SHALA DARPAN DATA'!W624","v":0},{"$f":"'SHALA DARPAN DATA'!R624","v":0},{"$f":"'SHALA DARPAN DATA'!S624","v":0},{"$f":"'SHALA DARPAN DATA'!O624","v":0},0,0,0,0,0,0,0,0,0,0,0]
[{"$f":"'SHALA DARPAN DATA'!C625","v":0},{"$f":"'SHALA DARPAN DATA'!A625","v":0},{"$f":"'SHALA DARPAN DATA'!B625","v":0},{"$f":"'SHALA DARPAN DATA'!D625","v":0},{"$f":"'SHALA DARPAN DATA'!J625","v":0},{"$f":"'SHALA DARPAN DATA'!T625","v":0},{"$f":"'SHALA DARPAN DATA'!V625","v":0},{"$f":"'SHALA DARPAN DATA'!K625","v":0},{"$f":"'SHALA DARPAN DATA'!E625","v":0},{"$f":"'SHALA DARPAN DATA'!G625","v":0},{"$f":"'SHALA DARPAN DATA'!H625","v":0},{"$f":"'SHALA DARPAN DATA'!W625","v":0},{"$f":"'SHALA DARPAN DATA'!R625","v":0},{"$f":"'SHALA DARPAN DATA'!S625","v":0},{"$f":"'SHALA DARPAN DATA'!O625","v":0},0,0,0,0,0,0,0,0,0,0,0]
[{"$f":"'SHALA DARPAN DATA'!C626","v":0},{"$f":"'SHALA DARPAN DATA'!A626","v":0},{"$f":"'SHALA DARPAN DATA'!B626","v":0},{"$f":"'SHALA DARPAN DATA'!D626","v":0},{"$f":"'SHALA DARPAN DATA'!J626","v":0},{"$f":"'SHALA DARPAN DATA'!T626","v":0},{"$f":"'SHALA DARPAN DATA'!V626","v":0},{"$f":"'SHALA DARPAN DATA'!K626","v":0},{"$f":"'SHALA DARPAN DATA'!E626","v":0},{"$f":"'SHALA DARPAN DATA'!G626","v":0},{"$f":"'SHALA DARPAN DATA'!H626","v":0},{"$f":"'SHALA DARPAN DATA'!W626","v":0},{"$f":"'SHALA DARPAN DATA'!R626","v":0},{"$f":"'SHALA DARPAN DATA'!S626","v":0},{"$f":"'SHALA DARPAN DATA'!O626","v":0},0,0,0,0,0,0,0,0,0,0,0]
[{"$f":"'SHALA DARPAN DATA'!C627","v":0},{"$f":"'SHALA DARPAN DATA'!A627","v":0},{"$f":"'SHALA DARPAN DATA'!B627","v":0},{"$f":"'SHALA DARPAN DATA'!D627","v":0},{"$f":"'SHALA DARPAN DATA'!J627","v":0},{"$f":"'SHALA DARPAN DATA'!T627","v":0},{"$f":"'SHALA DARPAN DATA'!V627","v":0},{"$f":"'SHALA DARPAN DATA'!K627","v":0},{"$f":"'SHALA DARPAN DATA'!E627","v":0},{"$f":"'SHALA DARPAN DATA'!G627","v":0},{"$f":"'SHALA DARPAN DATA'!H627","v":0},{"$f":"'SHALA DARPAN DATA'!W627","v":0},{"$f":"'SHALA DARPAN DATA'!R627","v":0},{"$f":"'SHALA DARPAN DATA'!S627","v":0},{"$f":"'SHALA DARPAN DATA'!O627","v":0},0,0,0,0,0,0,0,0,0,0,0]
[{"$f":"'SHALA DARPAN DATA'!C628","v":0},{"$f":"'SHALA DARPAN DATA'!A628","v":0},{"$f":"'SHALA DARPAN DATA'!B628","v":0},{"$f":"'SHALA DARPAN DATA'!D628","v":0},{"$f":"'SHALA DARPAN DATA'!J628","v":0},{"$f":"'SHALA DARPAN DATA'!T628","v":0},{"$f":"'SHALA DARPAN DATA'!V628","v":0},{"$f":"'SHALA DARPAN DATA'!K628","v":0},{"$f":"'SHALA DARPAN DATA'!E628","v":0},{"$f":"'SHALA DARPAN DATA'!G628","v":0},{"$f":"'SHALA DARPAN DATA'!H628","v":0},{"$f":"'SHALA DARPAN DATA'!W628","v":0},{"$f":"'SHALA DARPAN DATA'!R628","v":0},{"$f":"'SHALA DARPAN DATA'!S628","v":0},{"$f":"'SHALA DARPAN DATA'!O628","v":0},0,0,0,0,0,0,0,0,0,0,0]
[{"$f":"'SHALA DARPAN DATA'!C629","v":0},{"$f":"'SHALA DARPAN DATA'!A629","v":0},{"$f":"'SHALA DARPAN DATA'!B629","v":0},{"$f":"'SHALA DARPAN DATA'!D629","v":0},{"$f":"'SHALA DARPAN DATA'!J629","v":0},{"$f":"'SHALA DARPAN DATA'!T629","v":0},{"$f":"'SHALA DARPAN DATA'!V629","v":0},{"$f":"'SHALA DARPAN DATA'!K629","v":0},{"$f":"'SHALA DARPAN DATA'!E629","v":0},{"$f":"'SHALA DARPAN DATA'!G629","v":0},{"$f":"'SHALA DARPAN DATA'!H629","v":0},{"$f":"'SHALA DARPAN DATA'!W629","v":0},{"$f":"'SHALA DARPAN DATA'!R629","v":0},{"$f":"'SHALA DARPAN DATA'!S629","v":0},{"$f":"'SHALA DARPAN DATA'!O629","v":0},0,0,0,0,0,0,0,0,0,0,0]
[{"$f":"'SHALA DARPAN DATA'!C630","v":0},{"$f":"'SHALA DARPAN DATA'!A630","v":0},{"$f":"'SHALA DARPAN DATA'!B630","v":0},{"$f":"'SHALA DARPAN DATA'!D630","v":0},{"$f":"'SHALA DARPAN DATA'!J630","v":0},{"$f":"'SHALA DARPAN DATA'!T630","v":0},{"$f":"'SHALA DARPAN DATA'!V630","v":0},{"$f":"'SHALA DARPAN DATA'!K630","v":0},{"$f":"'SHALA DARPAN DATA'!E630","v":0},{"$f":"'SHALA DARPAN DATA'!G630","v":0},{"$f":"'SHALA DARPAN DATA'!H630","v":0},{"$f":"'SHALA DARPAN DATA'!W630","v":0},{"$f":"'SHALA DARPAN DATA'!R630","v":0},{"$f":"'SHALA DARPAN DATA'!S630","v":0},{"$f":"'SHALA DARPAN DATA'!O630","v":0},0,0,0,0,0,0,0,0,0,0,0]
[{"$f":"'SHALA DARPAN DATA'!C631","v":0},{"$f":"'SHALA DARPAN DATA'!A631","v":0},{"$f":"'SHALA DARPAN DATA'!B631","v":0},{"$f":"'SHALA DARPAN DATA'!D631","v":0},{"$f":"'SHALA DARPAN DATA'!J631","v":0},{"$f":"'SHALA DARPAN DATA'!T631","v":0},{"$f":"'SHALA DARPAN DATA'!V631","v":0},{"$f":"'SHALA DARPAN DATA'!K631","v":0},{"$f":"'SHALA DARPAN DATA'!E631","v":0},{"$f":"'SHALA DARPAN DATA'!G631","v":0},{"$f":"'SHALA DARPAN DATA'!H631","v":0},{"$f":"'SHALA DARPAN DATA'!W631","v":0},{"$f":"'SHALA DARPAN DATA'!R631","v":0},{"$f":"'SHALA DARPAN DATA'!S631","v":0},{"$f":"'SHALA DARPAN DATA'!O631","v":0},0,0,0,0,0,0,0,0,0,0,0]
[{"$f":"'SHALA DARPAN DATA'!C632","v":0},{"$f":"'SHALA DARPAN DATA'!A632","v":0},{"$f":"'SHALA DARPAN DATA'!B632","v":0},{"$f":"'SHALA DARPAN DATA'!D632","v":0},{"$f":"'SHALA DARPAN DATA'!J632","v":0},{"$f":"'SHALA DARPAN DATA'!T632","v":0},{"$f":"'SHALA DARPAN DATA'!V632","v":0},{"$f":"'SHALA DARPAN DATA'!K632","v":0},{"$f":"'SHALA DARPAN DATA'!E632","v":0},{"$f":"'SHALA DARPAN DATA'!G632","v":0},{"$f":"'SHALA DARPAN DATA'!H632","v":0},{"$f":"'SHALA DARPAN DATA'!W632","v":0},{"$f":"'SHALA DARPAN DATA'!R632","v":0},{"$f":"'SHALA DARPAN DATA'!S632","v":0},{"$f":"'SHALA DARPAN DATA'!O632","v":0},0,0,0,0,0,0,0,0,0,0,0]
[{"$f":"'SHALA DARPAN DATA'!C633","v":0},{"$f":"'SHALA DARPAN DATA'!A633","v":0},{"$f":"'SHALA DARPAN DATA'!B633","v":0},{"$f":"'SHALA DARPAN DATA'!D633","v":0},{"$f":"'SHALA DARPAN DATA'!J633","v":0},{"$f":"'SHALA DARPAN DATA'!T633","v":0},{"$f":"'SHALA DARPAN DATA'!V633","v":0},{"$f":"'SHALA DARPAN DATA'!K633","v":0},{"$f":"'SHALA DARPAN DATA'!E633","v":0},{"$f":"'SHALA DARPAN DATA'!G633","v":0},{"$f":"'SHALA DARPAN DATA'!H633","v":0},{"$f":"'SHALA DARPAN DATA'!W633","v":0},{"$f":"'SHALA DARPAN DATA'!R633","v":0},{"$f":"'SHALA DARPAN DATA'!S633","v":0},{"$f":"'SHALA DARPAN DATA'!O633","v":0},0,0,0,0,0,0,0,0,0,0,0]
[{"$f":"'SHALA DARPAN DATA'!C634","v":0},{"$f":"'SHALA DARPAN DATA'!A634","v":0},{"$f":"'SHALA DARPAN DATA'!B634","v":0},{"$f":"'SHALA DARPAN DATA'!D634","v":0},{"$f":"'SHALA DARPAN DATA'!J634","v":0},{"$f":"'SHALA DARPAN DATA'!T634","v":0},{"$f":"'SHALA DARPAN DATA'!V634","v":0},{"$f":"'SHALA DARPAN DATA'!K634","v":0},{"$f":"'SHALA DARPAN DATA'!E634","v":0},{"$f":"'SHALA DARPAN DATA'!G634","v":0},{"$f":"'SHALA DARPAN DATA'!H634","v":0},{"$f":"'SHALA DARPAN DATA'!W634","v":0},{"$f":"'SHALA DARPAN DATA'!R634","v":0},{"$f":"'SHALA DARPAN DATA'!S634","v":0},{"$f":"'SHALA DARPAN DATA'!O634","v":0},0,0,0,0,0,0,0,0,0,0,0]
[{"$f":"'SHALA DARPAN DATA'!C635","v":0},{"$f":"'SHALA DARPAN DATA'!A635","v":0},{"$f":"'SHALA DARPAN DATA'!B635","v":0},{"$f":"'SHALA DARPAN DATA'!D635","v":0},{"$f":"'SHALA DARPAN DATA'!J635","v":0},{"$f":"'SHALA DARPAN DATA'!T635","v":0},{"$f":"'SHALA DARPAN DATA'!V635","v":0},{"$f":"'SHALA DARPAN DATA'!K635","v":0},{"$f":"'SHALA DARPAN DATA'!E635","v":0},{"$f":"'SHALA DARPAN DATA'!G635","v":0},{"$f":"'SHALA DARPAN DATA'!H635","v":0},{"$f":"'SHALA DARPAN DATA'!W635","v":0},{"$f":"'SHALA DARPAN DATA'!R635","v":0},{"$f":"'SHALA DARPAN DATA'!S635","v":0},{"$f":"'SHALA DARPAN DATA'!O635","v":0},0,0,0,0,0,0,0,0,0,0,0]
[{"$f":"'SHALA DARPAN DATA'!C636","v":0},{"$f":"'SHALA DARPAN DATA'!A636","v":0},{"$f":"'SHALA DARPAN DATA'!B636","v":0},{"$f":"'SHALA DARPAN DATA'!D636","v":0},{"$f":"'SHALA DARPAN DATA'!J636","v":0},{"$f":"'SHALA DARPAN DATA'!T636","v":0},{"$f":"'SHALA DARPAN DATA'!V636","v":0},{"$f":"'SHALA DARPAN DATA'!K636","v":0},{"$f":"'SHALA DARPAN DATA'!E636","v":0},{"$f":"'SHALA DARPAN DATA'!G636","v":0},{"$f":"'SHALA DARPAN DATA'!H636","v":0},{"$f":"'SHALA DARPAN DATA'!W636","v":0},{"$f":"'SHALA DARPAN DATA'!R636","v":0},{"$f":"'SHALA DARPAN DATA'!S636","v":0},{"$f":"'SHALA DARPAN DATA'!O636","v":0},0,0,0,0,0,0,0,0,0,0,0]
[{"$f":"'SHALA DARPAN DATA'!C637","v":0},{"$f":"'SHALA DARPAN DATA'!A637","v":0},{"$f":"'SHALA DARPAN DATA'!B637","v":0},{"$f":"'SHALA DARPAN DATA'!D637","v":0},{"$f":"'SHALA DARPAN DATA'!J637","v":0},{"$f":"'SHALA DARPAN DATA'!T637","v":0},{"$f":"'SHALA DARPAN DATA'!V637","v":0},{"$f":"'SHALA DARPAN DATA'!K637","v":0},{"$f":"'SHALA DARPAN DATA'!E637","v":0},{"$f":"'SHALA DARPAN DATA'!G637","v":0},{"$f":"'SHALA DARPAN DATA'!H637","v":0},{"$f":"'SHALA DARPAN DATA'!W637","v":0},{"$f":"'SHALA DARPAN DATA'!R637","v":0},{"$f":"'SHALA DARPAN DATA'!S637","v":0},{"$f":"'SHALA DARPAN DATA'!O637","v":0},0,0,0,0,0,0,0,0,0,0,0]
[{"$f":"'SHALA DARPAN DATA'!C638","v":0},{"$f":"'SHALA DARPAN DATA'!A638","v":0},{"$f":"'SHALA DARPAN DATA'!B638","v":0},{"$f":"'SHALA DARPAN DATA'!D638","v":0},{"$f":"'SHALA DARPAN DATA'!J638","v":0},{"$f":"'SHALA DARPAN DATA'!T638","v":0},{"$f":"'SHALA DARPAN DATA'!V638","v":0},{"$f":"'SHALA DARPAN DATA'!K638","v":0},{"$f":"'SHALA DARPAN DATA'!E638","v":0},{"$f":"'SHALA DARPAN DATA'!G638","v":0},{"$f":"'SHALA DARPAN DATA'!H638","v":0},{"$f":"'SHALA DARPAN DATA'!W638","v":0},{"$f":"'SHALA DARPAN DATA'!R638","v":0},{"$f":"'SHALA DARPAN DATA'!S638","v":0},{"$f":"'SHALA DARPAN DATA'!O638","v":0},0,0,0,0,0,0,0,0,0,0,0]
[{"$f":"'SHALA DARPAN DATA'!C639","v":0},{"$f":"'SHALA DARPAN DATA'!A639","v":0},{"$f":"'SHALA DARPAN DATA'!B639","v":0},{"$f":"'SHALA DARPAN DATA'!D639","v":0},{"$f":"'SHALA DARPAN DATA'!J639","v":0},{"$f":"'SHALA DARPAN DATA'!T639","v":0},{"$f":"'SHALA DARPAN DATA'!V639","v":0},{"$f":"'SHALA DARPAN DATA'!K639","v":0},{"$f":"'SHALA DARPAN DATA'!E639","v":0},{"$f":"'SHALA DARPAN DATA'!G639","v":0},{"$f":"'SHALA DARPAN DATA'!H639","v":0},{"$f":"'SHALA DARPAN DATA'!W639","v":0},{"$f":"'SHALA DARPAN DATA'!R639","v":0},{"$f":"'SHALA DARPAN DATA'!S639","v":0},{"$f":"'SHALA DARPAN DATA'!O639","v":0},0,0,0,0,0,0,0,0,0,0,0]
[{"$f":"'SHALA DARPAN DATA'!C640","v":0},{"$f":"'SHALA DARPAN DATA'!A640","v":0},{"$f":"'SHALA DARPAN DATA'!B640","v":0},{"$f":"'SHALA DARPAN DATA'!D640","v":0},{"$f":"'SHALA DARPAN DATA'!J640","v":0},{"$f":"'SHALA DARPAN DATA'!T640","v":0},{"$f":"'SHALA DARPAN DATA'!V640","v":0},{"$f":"'SHALA DARPAN DATA'!K640","v":0},{"$f":"'SHALA DARPAN DATA'!E640","v":0},{"$f":"'SHALA DARPAN DATA'!G640","v":0},{"$f":"'SHALA DARPAN DATA'!H640","v":0},{"$f":"'SHALA DARPAN DATA'!W640","v":0},{"$f":"'SHALA DARPAN DATA'!R640","v":0},{"$f":"'SHALA DARPAN DATA'!S640","v":0},{"$f":"'SHALA DARPAN DATA'!O640","v":0},0,0,0,0,0,0,0,0,0,0,0]
[{"$f":"'SHALA DARPAN DATA'!C641","v":0},{"$f":"'SHALA DARPAN DATA'!A641","v":0},{"$f":"'SHALA DARPAN DATA'!B641","v":0},{"$f":"'SHALA DARPAN DATA'!D641","v":0},{"$f":"'SHALA DARPAN DATA'!J641","v":0},{"$f":"'SHALA DARPAN DATA'!T641","v":0},{"$f":"'SHALA DARPAN DATA'!V641","v":0},{"$f":"'SHALA DARPAN DATA'!K641","v":0},{"$f":"'SHALA DARPAN DATA'!E641","v":0},{"$f":"'SHALA DARPAN DATA'!G641","v":0},{"$f":"'SHALA DARPAN DATA'!H641","v":0},{"$f":"'SHALA DARPAN DATA'!W641","v":0},{"$f":"'SHALA DARPAN DATA'!R641","v":0},{"$f":"'SHALA DARPAN DATA'!S641","v":0},{"$f":"'SHALA DARPAN DATA'!O641","v":0},0,0,0,0,0,0,0,0,0,0,0]
[{"$f":"'SHALA DARPAN DATA'!C642","v":0},{"$f":"'SHALA DARPAN DATA'!A642","v":0},{"$f":"'SHALA DARPAN DATA'!B642","v":0},{"$f":"'SHALA DARPAN DATA'!D642","v":0},{"$f":"'SHALA DARPAN DATA'!J642","v":0},{"$f":"'SHALA DARPAN DATA'!T642","v":0},{"$f":"'SHALA DARPAN DATA'!V642","v":0},{"$f":"'SHALA DARPAN DATA'!K642","v":0},{"$f":"'SHALA DARPAN DATA'!E642","v":0},{"$f":"'SHALA DARPAN DATA'!G642","v":0},{"$f":"'SHALA DARPAN DATA'!H642","v":0},{"$f":"'SHALA DARPAN DATA'!W642","v":0},{"$f":"'SHALA DARPAN DATA'!R642","v":0},{"$f":"'SHALA DARPAN DATA'!S642","v":0},{"$f":"'SHALA DARPAN DATA'!O642","v":0},0,0,0,0,0,0,0,0,0,0,0]
[{"$f":"'SHALA DARPAN DATA'!C643","v":0},{"$f":"'SHALA DARPAN DATA'!A643","v":0},{"$f":"'SHALA DARPAN DATA'!B643","v":0},{"$f":"'SHALA DARPAN DATA'!D643","v":0},{"$f":"'SHALA DARPAN DATA'!J643","v":0},{"$f":"'SHALA DARPAN DATA'!T643","v":0},{"$f":"'SHALA DARPAN DATA'!V643","v":0},{"$f":"'SHALA DARPAN DATA'!K643","v":0},{"$f":"'SHALA DARPAN DATA'!E643","v":0},{"$f":"'SHALA DARPAN DATA'!G643","v":0},{"$f":"'SHALA DARPAN DATA'!H643","v":0},{"$f":"'SHALA DARPAN DATA'!W643","v":0},{"$f":"'SHALA DARPAN DATA'!R643","v":0},{"$f":"'SHALA DARPAN DATA'!S643","v":0},{"$f":"'SHALA DARPAN DATA'!O643","v":0},0,0,0,0,0,0,0,0,0,0,0]
[{"$f":"'SHALA DARPAN DATA'!C644","v":0},{"$f":"'SHALA DARPAN DATA'!A644","v":0},{"$f":"'SHALA DARPAN DATA'!B644","v":0},{"$f":"'SHALA DARPAN DATA'!D644","v":0},{"$f":"'SHALA DARPAN DATA'!J644","v":0},{"$f":"'SHALA DARPAN DATA'!T644","v":0},{"$f":"'SHALA DARPAN DATA'!V644","v":0},{"$f":"'SHALA DARPAN DATA'!K644","v":0},{"$f":"'SHALA DARPAN DATA'!E644","v":0},{"$f":"'SHALA DARPAN DATA'!G644","v":0},{"$f":"'SHALA DARPAN DATA'!H644","v":0},{"$f":"'SHALA DARPAN DATA'!W644","v":0},{"$f":"'SHALA DARPAN DATA'!R644","v":0},{"$f":"'SHALA DARPAN DATA'!S644","v":0},{"$f":"'SHALA DARPAN DATA'!O644","v":0},0,0,0,0,0,0,0,0,0,0,0]
[{"$f":"'SHALA DARPAN DATA'!C645","v":0},{"$f":"'SHALA DARPAN DATA'!A645","v":0},{"$f":"'SHALA DARPAN DATA'!B645","v":0},{"$f":"'SHALA DARPAN DATA'!D645","v":0},{"$f":"'SHALA DARPAN DATA'!J645","v":0},{"$f":"'SHALA DARPAN DATA'!T645","v":0},{"$f":"'SHALA DARPAN DATA'!V645","v":0},{"$f":"'SHALA DARPAN DATA'!K645","v":0},{"$f":"'SHALA DARPAN DATA'!E645","v":0},{"$f":"'SHALA DARPAN DATA'!G645","v":0},{"$f":"'SHALA DARPAN DATA'!H645","v":0},{"$f":"'SHALA DARPAN DATA'!W645","v":0},{"$f":"'SHALA DARPAN DATA'!R645","v":0},{"$f":"'SHALA DARPAN DATA'!S645","v":0},{"$f":"'SHALA DARPAN DATA'!O645","v":0},0,0,0,0,0,0,0,0,0,0,0]
[{"$f":"'SHALA DARPAN DATA'!C646","v":0},{"$f":"'SHALA DARPAN DATA'!A646","v":0},{"$f":"'SHALA DARPAN DATA'!B646","v":0},{"$f":"'SHALA DARPAN DATA'!D646","v":0},{"$f":"'SHALA DARPAN DATA'!J646","v":0},{"$f":"'SHALA DARPAN DATA'!T646","v":0},{"$f":"'SHALA DARPAN DATA'!V646","v":0},{"$f":"'SHALA DARPAN DATA'!K646","v":0},{"$f":"'SHALA DARPAN DATA'!E646","v":0},{"$f":"'SHALA DARPAN DATA'!G646","v":0},{"$f":"'SHALA DARPAN DATA'!H646","v":0},{"$f":"'SHALA DARPAN DATA'!W646","v":0},{"$f":"'SHALA DARPAN DATA'!R646","v":0},{"$f":"'SHALA DARPAN DATA'!S646","v":0},{"$f":"'SHALA DARPAN DATA'!O646","v":0},0,0,0,0,0,0,0,0,0,0,0]
[{"$f":"'SHALA DARPAN DATA'!C647","v":0},{"$f":"'SHALA DARPAN DATA'!A647","v":0},{"$f":"'SHALA DARPAN DATA'!B647","v":0},{"$f":"'SHALA DARPAN DATA'!D647","v":0},{"$f":"'SHALA DARPAN DATA'!J647","v":0},{"$f":"'SHALA DARPAN DATA'!T647","v":0},{"$f":"'SHALA DARPAN DATA'!V647","v":0},{"$f":"'SHALA DARPAN DATA'!K647","v":0},{"$f":"'SHALA DARPAN DATA'!E647","v":0},{"$f":"'SHALA DARPAN DATA'!G647","v":0},{"$f":"'SHALA DARPAN DATA'!H647","v":0},{"$f":"'SHALA DARPAN DATA'!W647","v":0},{"$f":"'SHALA DARPAN DATA'!R647","v":0},{"$f":"'SHALA DARPAN DATA'!S647","v":0},{"$f":"'SHALA DARPAN DATA'!O647","v":0},0,0,0,0,0,0,0,0,0,0,0]
[{"$f":"'SHALA DARPAN DATA'!C648","v":0},{"$f":"'SHALA DARPAN DATA'!A648","v":0},{"$f":"'SHALA DARPAN DATA'!B648","v":0},{"$f":"'SHALA DARPAN DATA'!D648","v":0},{"$f":"'SHALA DARPAN DATA'!J648","v":0},{"$f":"'SHALA DARPAN DATA'!T648","v":0},{"$f":"'SHALA DARPAN DATA'!V648","v":0},{"$f":"'SHALA DARPAN DATA'!K648","v":0},{"$f":"'SHALA DARPAN DATA'!E648","v":0},{"$f":"'SHALA DARPAN DATA'!G648","v":0},{"$f":"'SHALA DARPAN DATA'!H648","v":0},{"$f":"'SHALA DARPAN DATA'!W648","v":0},{"$f":"'SHALA DARPAN DATA'!R648","v":0},{"$f":"'SHALA DARPAN DATA'!S648","v":0},{"$f":"'SHALA DARPAN DATA'!O648","v":0},0,0,0,0,0,0,0,0,0,0,0]
[{"$f":"'SHALA DARPAN DATA'!C649","v":0},{"$f":"'SHALA DARPAN DATA'!A649","v":0},{"$f":"'SHALA DARPAN DATA'!B649","v":0},{"$f":"'SHALA DARPAN DATA'!D649","v":0},{"$f":"'SHALA DARPAN DATA'!J649","v":0},{"$f":"'SHALA DARPAN DATA'!T649","v":0},{"$f":"'SHALA DARPAN DATA'!V649","v":0},{"$f":"'SHALA DARPAN DATA'!K649","v":0},{"$f":"'SHALA DARPAN DATA'!E649","v":0},{"$f":"'SHALA DARPAN DATA'!G649","v":0},{"$f":"'SHALA DARPAN DATA'!H649","v":0},{"$f":"'SHALA DARPAN DATA'!W649","v":0},{"$f":"'SHALA DARPAN DATA'!R649","v":0},{"$f":"'SHALA DARPAN DATA'!S649","v":0},{"$f":"'SHALA DARPAN DATA'!O649","v":0},0,0,0,0,0,0,0,0,0,0,0]
[{"$f":"'SHALA DARPAN DATA'!C650","v":0},{"$f":"'SHALA DARPAN DATA'!A650","v":0},{"$f":"'SHALA DARPAN DATA'!B650","v":0},{"$f":"'SHALA DARPAN DATA'!D650","v":0},{"$f":"'SHALA DARPAN DATA'!J650","v":0},{"$f":"'SHALA DARPAN DATA'!T650","v":0},{"$f":"'SHALA DARPAN DATA'!V650","v":0},{"$f":"'SHALA DARPAN DATA'!K650","v":0},{"$f":"'SHALA DARPAN DATA'!E650","v":0},{"$f":"'SHALA DARPAN DATA'!G650","v":0},{"$f":"'SHALA DARPAN DATA'!H650","v":0},{"$f":"'SHALA DARPAN DATA'!W650","v":0},{"$f":"'SHALA DARPAN DATA'!R650","v":0},{"$f":"'SHALA DARPAN DATA'!S650","v":0},{"$f":"'SHALA DARPAN DATA'!O650","v":0},0,0,0,0,0,0,0,0,0,0,0]
[{"$f":"'SHALA DARPAN DATA'!C651","v":0},{"$f":"'SHALA DARPAN DATA'!A651","v":0},{"$f":"'SHALA DARPAN DATA'!B651","v":0},{"$f":"'SHALA DARPAN DATA'!D651","v":0},{"$f":"'SHALA DARPAN DATA'!J651","v":0},{"$f":"'SHALA DARPAN DATA'!T651","v":0},{"$f":"'SHALA DARPAN DATA'!V651","v":0},{"$f":"'SHALA DARPAN DATA'!K651","v":0},{"$f":"'SHALA DARPAN DATA'!E651","v":0},{"$f":"'SHALA DARPAN DATA'!G651","v":0},{"$f":"'SHALA DARPAN DATA'!H651","v":0},{"$f":"'SHALA DARPAN DATA'!W651","v":0},{"$f":"'SHALA DARPAN DATA'!R651","v":0},{"$f":"'SHALA DARPAN DATA'!S651","v":0},{"$f":"'SHALA DARPAN DATA'!O651","v":0},0,0,0,0,0,0,0,0,0,0,0]
[{"$f":"'SHALA DARPAN DATA'!C652","v":0},{"$f":"'SHALA DARPAN DATA'!A652","v":0},{"$f":"'SHALA DARPAN DATA'!B652","v":0},{"$f":"'SHALA DARPAN DATA'!D652","v":0},{"$f":"'SHALA DARPAN DATA'!J652","v":0},{"$f":"'SHALA DARPAN DATA'!T652","v":0},{"$f":"'SHALA DARPAN DATA'!V652","v":0},{"$f":"'SHALA DARPAN DATA'!K652","v":0},{"$f":"'SHALA DARPAN DATA'!E652","v":0},{"$f":"'SHALA DARPAN DATA'!G652","v":0},{"$f":"'SHALA DARPAN DATA'!H652","v":0},{"$f":"'SHALA DARPAN DATA'!W652","v":0},{"$f":"'SHALA DARPAN DATA'!R652","v":0},{"$f":"'SHALA DARPAN DATA'!S652","v":0},{"$f":"'SHALA DARPAN DATA'!O652","v":0},0,0,0,0,0,0,0,0,0,0,0]
[{"$f":"'SHALA DARPAN DATA'!C653","v":0},{"$f":"'SHALA DARPAN DATA'!A653","v":0},{"$f":"'SHALA DARPAN DATA'!B653","v":0},{"$f":"'SHALA DARPAN DATA'!D653","v":0},{"$f":"'SHALA DARPAN DATA'!J653","v":0},{"$f":"'SHALA DARPAN DATA'!T653","v":0},{"$f":"'SHALA DARPAN DATA'!V653","v":0},{"$f":"'SHALA DARPAN DATA'!K653","v":0},{"$f":"'SHALA DARPAN DATA'!E653","v":0},{"$f":"'SHALA DARPAN DATA'!G653","v":0},{"$f":"'SHALA DARPAN DATA'!H653","v":0},{"$f":"'SHALA DARPAN DATA'!W653","v":0},{"$f":"'SHALA DARPAN DATA'!R653","v":0},{"$f":"'SHALA DARPAN DATA'!S653","v":0},{"$f":"'SHALA DARPAN DATA'!O653","v":0},0,0,0,0,0,0,0,0,0,0,0]
[{"$f":"'SHALA DARPAN DATA'!C654","v":0},{"$f":"'SHALA DARPAN DATA'!A654","v":0},{"$f":"'SHALA DARPAN DATA'!B654","v":0},{"$f":"'SHALA DARPAN DATA'!D654","v":0},{"$f":"'SHALA DARPAN DATA'!J654","v":0},{"$f":"'SHALA DARPAN DATA'!T654","v":0},{"$f":"'SHALA DARPAN DATA'!V654","v":0},{"$f":"'SHALA DARPAN DATA'!K654","v":0},{"$f":"'SHALA DARPAN DATA'!E654","v":0},{"$f":"'SHALA DARPAN DATA'!G654","v":0},{"$f":"'SHALA DARPAN DATA'!H654","v":0},{"$f":"'SHALA DARPAN DATA'!W654","v":0},{"$f":"'SHALA DARPAN DATA'!R654","v":0},{"$f":"'SHALA DARPAN DATA'!S654","v":0},{"$f":"'SHALA DARPAN DATA'!O654","v":0},0,0,0,0,0,0,0,0,0,0,0]
[{"$f":"'SHALA DARPAN DATA'!C655","v":0},{"$f":"'SHALA DARPAN DATA'!A655","v":0},{"$f":"'SHALA DARPAN DATA'!B655","v":0},{"$f":"'SHALA DARPAN DATA'!D655","v":0},{"$f":"'SHALA DARPAN DATA'!J655","v":0},{"$f":"'SHALA DARPAN DATA'!T655","v":0},{"$f":"'SHALA DARPAN DATA'!V655","v":0},{"$f":"'SHALA DARPAN DATA'!K655","v":0},{"$f":"'SHALA DARPAN DATA'!E655","v":0},{"$f":"'SHALA DARPAN DATA'!G655","v":0},{"$f":"'SHALA DARPAN DATA'!H655","v":0},{"$f":"'SHALA DARPAN DATA'!W655","v":0},{"$f":"'SHALA DARPAN DATA'!R655","v":0},{"$f":"'SHALA DARPAN DATA'!S655","v":0},{"$f":"'SHALA DARPAN DATA'!O655","v":0},0,0,0,0,0,0,0,0,0,0,0]
[{"$f":"'SHALA DARPAN DATA'!C656","v":0},{"$f":"'SHALA DARPAN DATA'!A656","v":0},{"$f":"'SHALA DARPAN DATA'!B656","v":0},{"$f":"'SHALA DARPAN DATA'!D656","v":0},{"$f":"'SHALA DARPAN DATA'!J656","v":0},{"$f":"'SHALA DARPAN DATA'!T656","v":0},{"$f":"'SHALA DARPAN DATA'!V656","v":0},{"$f":"'SHALA DARPAN DATA'!K656","v":0},{"$f":"'SHALA DARPAN DATA'!E656","v":0},{"$f":"'SHALA DARPAN DATA'!G656","v":0},{"$f":"'SHALA DARPAN DATA'!H656","v":0},{"$f":"'SHALA DARPAN DATA'!W656","v":0},{"$f":"'SHALA DARPAN DATA'!R656","v":0},{"$f":"'SHALA DARPAN DATA'!S656","v":0},{"$f":"'SHALA DARPAN DATA'!O656","v":0},0,0,0,0,0,0,0,0,0,0,0]
[{"$f":"'SHALA DARPAN DATA'!C657","v":0},{"$f":"'SHALA DARPAN DATA'!A657","v":0},{"$f":"'SHALA DARPAN DATA'!B657","v":0},{"$f":"'SHALA DARPAN DATA'!D657","v":0},{"$f":"'SHALA DARPAN DATA'!J657","v":0},{"$f":"'SHALA DARPAN DATA'!T657","v":0},{"$f":"'SHALA DARPAN DATA'!V657","v":0},{"$f":"'SHALA DARPAN DATA'!K657","v":0},{"$f":"'SHALA DARPAN DATA'!E657","v":0},{"$f":"'SHALA DARPAN DATA'!G657","v":0},{"$f":"'SHALA DARPAN DATA'!H657","v":0},{"$f":"'SHALA DARPAN DATA'!W657","v":0},{"$f":"'SHALA DARPAN DATA'!R657","v":0},{"$f":"'SHALA DARPAN DATA'!S657","v":0},{"$f":"'SHALA DARPAN DATA'!O657","v":0},0,0,0,0,0,0,0,0,0,0,0]
[{"$f":"'SHALA DARPAN DATA'!C658","v":0},{"$f":"'SHALA DARPAN DATA'!A658","v":0},{"$f":"'SHALA DARPAN DATA'!B658","v":0},{"$f":"'SHALA DARPAN DATA'!D658","v":0},{"$f":"'SHALA DARPAN DATA'!J658","v":0},{"$f":"'SHALA DARPAN DATA'!T658","v":0},{"$f":"'SHALA DARPAN DATA'!V658","v":0},{"$f":"'SHALA DARPAN DATA'!K658","v":0},{"$f":"'SHALA DARPAN DATA'!E658","v":0},{"$f":"'SHALA DARPAN DATA'!G658","v":0},{"$f":"'SHALA DARPAN DATA'!H658","v":0},{"$f":"'SHALA DARPAN DATA'!W658","v":0},{"$f":"'SHALA DARPAN DATA'!R658","v":0},{"$f":"'SHALA DARPAN DATA'!S658","v":0},{"$f":"'SHALA DARPAN DATA'!O658","v":0},0,0,0,0,0,0,0,0,0,0,0]
[{"$f":"'SHALA DARPAN DATA'!C659","v":0},{"$f":"'SHALA DARPAN DATA'!A659","v":0},{"$f":"'SHALA DARPAN DATA'!B659","v":0},{"$f":"'SHALA DARPAN DATA'!D659","v":0},{"$f":"'SHALA DARPAN DATA'!J659","v":0},{"$f":"'SHALA DARPAN DATA'!T659","v":0},{"$f":"'SHALA DARPAN DATA'!V659","v":0},{"$f":"'SHALA DARPAN DATA'!K659","v":0},{"$f":"'SHALA DARPAN DATA'!E659","v":0},{"$f":"'SHALA DARPAN DATA'!G659","v":0},{"$f":"'SHALA DARPAN DATA'!H659","v":0},{"$f":"'SHALA DARPAN DATA'!W659","v":0},{"$f":"'SHALA DARPAN DATA'!R659","v":0},{"$f":"'SHALA DARPAN DATA'!S659","v":0},{"$f":"'SHALA DARPAN DATA'!O659","v":0},0,0,0,0,0,0,0,0,0,0,0]
[{"$f":"'SHALA DARPAN DATA'!C660","v":0},{"$f":"'SHALA DARPAN DATA'!A660","v":0},{"$f":"'SHALA DARPAN DATA'!B660","v":0},{"$f":"'SHALA DARPAN DATA'!D660","v":0},{"$f":"'SHALA DARPAN DATA'!J660","v":0},{"$f":"'SHALA DARPAN DATA'!T660","v":0},{"$f":"'SHALA DARPAN DATA'!V660","v":0},{"$f":"'SHALA DARPAN DATA'!K660","v":0},{"$f":"'SHALA DARPAN DATA'!E660","v":0},{"$f":"'SHALA DARPAN DATA'!G660","v":0},{"$f":"'SHALA DARPAN DATA'!H660","v":0},{"$f":"'SHALA DARPAN DATA'!W660","v":0},{"$f":"'SHALA DARPAN DATA'!R660","v":0},{"$f":"'SHALA DARPAN DATA'!S660","v":0},{"$f":"'SHALA DARPAN DATA'!O660","v":0},0,0,0,0,0,0,0,0,0,0,0]
[{"$f":"'SHALA DARPAN DATA'!C661","v":0},{"$f":"'SHALA DARPAN DATA'!A661","v":0},{"$f":"'SHALA DARPAN DATA'!B661","v":0},{"$f":"'SHALA DARPAN DATA'!D661","v":0},{"$f":"'SHALA DARPAN DATA'!J661","v":0},{"$f":"'SHALA DARPAN DATA'!T661","v":0},{"$f":"'SHALA DARPAN DATA'!V661","v":0},{"$f":"'SHALA DARPAN DATA'!K661","v":0},{"$f":"'SHALA DARPAN DATA'!E661","v":0},{"$f":"'SHALA DARPAN DATA'!G661","v":0},{"$f":"'SHALA DARPAN DATA'!H661","v":0},{"$f":"'SHALA DARPAN DATA'!W661","v":0},{"$f":"'SHALA DARPAN DATA'!R661","v":0},{"$f":"'SHALA DARPAN DATA'!S661","v":0},{"$f":"'SHALA DARPAN DATA'!O661","v":0},0,0,0,0,0,0,0,0,0,0,0]
[{"$f":"'SHALA DARPAN DATA'!C662","v":0},{"$f":"'SHALA DARPAN DATA'!A662","v":0},{"$f":"'SHALA DARPAN DATA'!B662","v":0},{"$f":"'SHALA DARPAN DATA'!D662","v":0},{"$f":"'SHALA DARPAN DATA'!J662","v":0},{"$f":"'SHALA DARPAN DATA'!T662","v":0},{"$f":"'SHALA DARPAN DATA'!V662","v":0},{"$f":"'SHALA DARPAN DATA'!K662","v":0},{"$f":"'SHALA DARPAN DATA'!E662","v":0},{"$f":"'SHALA DARPAN DATA'!G662","v":0},{"$f":"'SHALA DARPAN DATA'!H662","v":0},{"$f":"'SHALA DARPAN DATA'!W662","v":0},{"$f":"'SHALA DARPAN DATA'!R662","v":0},{"$f":"'SHALA DARPAN DATA'!S662","v":0},{"$f":"'SHALA DARPAN DATA'!O662","v":0},0,0,0,0,0,0,0,0,0,0,0]
[{"$f":"'SHALA DARPAN DATA'!C663","v":0},{"$f":"'SHALA DARPAN DATA'!A663","v":0},{"$f":"'SHALA DARPAN DATA'!B663","v":0},{"$f":"'SHALA DARPAN DATA'!D663","v":0},{"$f":"'SHALA DARPAN DATA'!J663","v":0},{"$f":"'SHALA DARPAN DATA'!T663","v":0},{"$f":"'SHALA DARPAN DATA'!V663","v":0},{"$f":"'SHALA DARPAN DATA'!K663","v":0},{"$f":"'SHALA DARPAN DATA'!E663","v":0},{"$f":"'SHALA DARPAN DATA'!G663","v":0},{"$f":"'SHALA DARPAN DATA'!H663","v":0},{"$f":"'SHALA DARPAN DATA'!W663","v":0},{"$f":"'SHALA DARPAN DATA'!R663","v":0},{"$f":"'SHALA DARPAN DATA'!S663","v":0},{"$f":"'SHALA DARPAN DATA'!O663","v":0},0,0,0,0,0,0,0,0,0,0,0]
[{"$f":"'SHALA DARPAN DATA'!C664","v":0},{"$f":"'SHALA DARPAN DATA'!A664","v":0},{"$f":"'SHALA DARPAN DATA'!B664","v":0},{"$f":"'SHALA DARPAN DATA'!D664","v":0},{"$f":"'SHALA DARPAN DATA'!J664","v":0},{"$f":"'SHALA DARPAN DATA'!T664","v":0},{"$f":"'SHALA DARPAN DATA'!V664","v":0},{"$f":"'SHALA DARPAN DATA'!K664","v":0},{"$f":"'SHALA DARPAN DATA'!E664","v":0},{"$f":"'SHALA DARPAN DATA'!G664","v":0},{"$f":"'SHALA DARPAN DATA'!H664","v":0},{"$f":"'SHALA DARPAN DATA'!W664","v":0},{"$f":"'SHALA DARPAN DATA'!R664","v":0},{"$f":"'SHALA DARPAN DATA'!S664","v":0},{"$f":"'SHALA DARPAN DATA'!O664","v":0},0,0,0,0,0,0,0,0,0,0,0]
[{"$f":"'SHALA DARPAN DATA'!C665","v":0},{"$f":"'SHALA DARPAN DATA'!A665","v":0},{"$f":"'SHALA DARPAN DATA'!B665","v":0},{"$f":"'SHALA DARPAN DATA'!D665","v":0},{"$f":"'SHALA DARPAN DATA'!J665","v":0},{"$f":"'SHALA DARPAN DATA'!T665","v":0},{"$f":"'SHALA DARPAN DATA'!V665","v":0},{"$f":"'SHALA DARPAN DATA'!K665","v":0},{"$f":"'SHALA DARPAN DATA'!E665","v":0},{"$f":"'SHALA DARPAN DATA'!G665","v":0},{"$f":"'SHALA DARPAN DATA'!H665","v":0},{"$f":"'SHALA DARPAN DATA'!W665","v":0},{"$f":"'SHALA DARPAN DATA'!R665","v":0},{"$f":"'SHALA DARPAN DATA'!S665","v":0},{"$f":"'SHALA DARPAN DATA'!O665","v":0},0,0,0,0,0,0,0,0,0,0,0]
[{"$f":"'SHALA DARPAN DATA'!C666","v":0},{"$f":"'SHALA DARPAN DATA'!A666","v":0},{"$f":"'SHALA DARPAN DATA'!B666","v":0},{"$f":"'SHALA DARPAN DATA'!D666","v":0},{"$f":"'SHALA DARPAN DATA'!J666","v":0},{"$f":"'SHALA DARPAN DATA'!T666","v":0},{"$f":"'SHALA DARPAN DATA'!V666","v":0},{"$f":"'SHALA DARPAN DATA'!K666","v":0},{"$f":"'SHALA DARPAN DATA'!E666","v":0},{"$f":"'SHALA DARPAN DATA'!G666","v":0},{"$f":"'SHALA DARPAN DATA'!H666","v":0},{"$f":"'SHALA DARPAN DATA'!W666","v":0},{"$f":"'SHALA DARPAN DATA'!R666","v":0},{"$f":"'SHALA DARPAN DATA'!S666","v":0},{"$f":"'SHALA DARPAN DATA'!O666","v":0},0,0,0,0,0,0,0,0,0,0,0]
[{"$f":"'SHALA DARPAN DATA'!C667","v":0},{"$f":"'SHALA DARPAN DATA'!A667","v":0},{"$f":"'SHALA DARPAN DATA'!B667","v":0},{"$f":"'SHALA DARPAN DATA'!D667","v":0},{"$f":"'SHALA DARPAN DATA'!J667","v":0},{"$f":"'SHALA DARPAN DATA'!T667","v":0},{"$f":"'SHALA DARPAN DATA'!V667","v":0},{"$f":"'SHALA DARPAN DATA'!K667","v":0},{"$f":"'SHALA DARPAN DATA'!E667","v":0},{"$f":"'SHALA DARPAN DATA'!G667","v":0},{"$f":"'SHALA DARPAN DATA'!H667","v":0},{"$f":"'SHALA DARPAN DATA'!W667","v":0},{"$f":"'SHALA DARPAN DATA'!R667","v":0},{"$f":"'SHALA DARPAN DATA'!S667","v":0},{"$f":"'SHALA DARPAN DATA'!O667","v":0},0,0,0,0,0,0,0,0,0,0,0]
[{"$f":"'SHALA DARPAN DATA'!C668","v":0},{"$f":"'SHALA DARPAN DATA'!A668","v":0},{"$f":"'SHALA DARPAN DATA'!B668","v":0},{"$f":"'SHALA DARPAN DATA'!D668","v":0},{"$f":"'SHALA DARPAN DATA'!J668","v":0},{"$f":"'SHALA DARPAN DATA'!T668","v":0},{"$f":"'SHALA DARPAN DATA'!V668","v":0},{"$f":"'SHALA DARPAN DATA'!K668","v":0},{"$f":"'SHALA DARPAN DATA'!E668","v":0},{"$f":"'SHALA DARPAN DATA'!G668","v":0},{"$f":"'SHALA DARPAN DATA'!H668","v":0},{"$f":"'SHALA DARPAN DATA'!W668","v":0},{"$f":"'SHALA DARPAN DATA'!R668","v":0},{"$f":"'SHALA DARPAN DATA'!S668","v":0},{"$f":"'SHALA DARPAN DATA'!O668","v":0},0,0,0,0,0,0,0,0,0,0,0]
[{"$f":"'SHALA DARPAN DATA'!C669","v":0},{"$f":"'SHALA DARPAN DATA'!A669","v":0},{"$f":"'SHALA DARPAN DATA'!B669","v":0},{"$f":"'SHALA DARPAN DATA'!D669","v":0},{"$f":"'SHALA DARPAN DATA'!J669","v":0},{"$f":"'SHALA DARPAN DATA'!T669","v":0},{"$f":"'SHALA DARPAN DATA'!V669","v":0},{"$f":"'SHALA DARPAN DATA'!K669","v":0},{"$f":"'SHALA DARPAN DATA'!E669","v":0},{"$f":"'SHALA DARPAN DATA'!G669","v":0},{"$f":"'SHALA DARPAN DATA'!H669","v":0},{"$f":"'SHALA DARPAN DATA'!W669","v":0},{"$f":"'SHALA DARPAN DATA'!R669","v":0},{"$f":"'SHALA DARPAN DATA'!S669","v":0},{"$f":"'SHALA DARPAN DATA'!O669","v":0},0,0,0,0,0,0,0,0,0,0,0]
[{"$f":"'SHALA DARPAN DATA'!C670","v":0},{"$f":"'SHALA DARPAN DATA'!A670","v":0},{"$f":"'SHALA DARPAN DATA'!B670","v":0},{"$f":"'SHALA DARPAN DATA'!D670","v":0},{"$f":"'SHALA DARPAN DATA'!J670","v":0},{"$f":"'SHALA DARPAN DATA'!T670","v":0},{"$f":"'SHALA DARPAN DATA'!V670","v":0},{"$f":"'SHALA DARPAN DATA'!K670","v":0},{"$f":"'SHALA DARPAN DATA'!E670","v":0},{"$f":"'SHALA DARPAN DATA'!G670","v":0},{"$f":"'SHALA DARPAN DATA'!H670","v":0},{"$f":"'SHALA DARPAN DATA'!W670","v":0},{"$f":"'SHALA DARPAN DATA'!R670","v":0},{"$f":"'SHALA DARPAN DATA'!S670","v":0},{"$f":"'SHALA DARPAN DATA'!O670","v":0},0,0,0,0,0,0,0,0,0,0,0]
[{"$f":"'SHALA DARPAN DATA'!C671","v":0},{"$f":"'SHALA DARPAN DATA'!A671","v":0},{"$f":"'SHALA DARPAN DATA'!B671","v":0},{"$f":"'SHALA DARPAN DATA'!D671","v":0},{"$f":"'SHALA DARPAN DATA'!J671","v":0},{"$f":"'SHALA DARPAN DATA'!T671","v":0},{"$f":"'SHALA DARPAN DATA'!V671","v":0},{"$f":"'SHALA DARPAN DATA'!K671","v":0},{"$f":"'SHALA DARPAN DATA'!E671","v":0},{"$f":"'SHALA DARPAN DATA'!G671","v":0},{"$f":"'SHALA DARPAN DATA'!H671","v":0},{"$f":"'SHALA DARPAN DATA'!W671","v":0},{"$f":"'SHALA DARPAN DATA'!R671","v":0},{"$f":"'SHALA DARPAN DATA'!S671","v":0},{"$f":"'SHALA DARPAN DATA'!O671","v":0},0,0,0,0,0,0,0,0,0,0,0]
[{"$f":"'SHALA DARPAN DATA'!C672","v":0},{"$f":"'SHALA DARPAN DATA'!A672","v":0},{"$f":"'SHALA DARPAN DATA'!B672","v":0},{"$f":"'SHALA DARPAN DATA'!D672","v":0},{"$f":"'SHALA DARPAN DATA'!J672","v":0},{"$f":"'SHALA DARPAN DATA'!T672","v":0},{"$f":"'SHALA DARPAN DATA'!V672","v":0},{"$f":"'SHALA DARPAN DATA'!K672","v":0},{"$f":"'SHALA DARPAN DATA'!E672","v":0},{"$f":"'SHALA DARPAN DATA'!G672","v":0},{"$f":"'SHALA DARPAN DATA'!H672","v":0},{"$f":"'SHALA DARPAN DATA'!W672","v":0},{"$f":"'SHALA DARPAN DATA'!R672","v":0},{"$f":"'SHALA DARPAN DATA'!S672","v":0},{"$f":"'SHALA DARPAN DATA'!O672","v":0},0,0,0,0,0,0,0,0,0,0,0]
[{"$f":"'SHALA DARPAN DATA'!C673","v":0},{"$f":"'SHALA DARPAN DATA'!A673","v":0},{"$f":"'SHALA DARPAN DATA'!B673","v":0},{"$f":"'SHALA DARPAN DATA'!D673","v":0},{"$f":"'SHALA DARPAN DATA'!J673","v":0},{"$f":"'SHALA DARPAN DATA'!T673","v":0},{"$f":"'SHALA DARPAN DATA'!V673","v":0},{"$f":"'SHALA DARPAN DATA'!K673","v":0},{"$f":"'SHALA DARPAN DATA'!E673","v":0},{"$f":"'SHALA DARPAN DATA'!G673","v":0},{"$f":"'SHALA DARPAN DATA'!H673","v":0},{"$f":"'SHALA DARPAN DATA'!W673","v":0},{"$f":"'SHALA DARPAN DATA'!R673","v":0},{"$f":"'SHALA DARPAN DATA'!S673","v":0},{"$f":"'SHALA DARPAN DATA'!O673","v":0},0,0,0,0,0,0,0,0,0,0,0]
[{"$f":"'SHALA DARPAN DATA'!C674","v":0},{"$f":"'SHALA DARPAN DATA'!A674","v":0},{"$f":"'SHALA DARPAN DATA'!B674","v":0},{"$f":"'SHALA DARPAN DATA'!D674","v":0},{"$f":"'SHALA DARPAN DATA'!J674","v":0},{"$f":"'SHALA DARPAN DATA'!T674","v":0},{"$f":"'SHALA DARPAN DATA'!V674","v":0},{"$f":"'SHALA DARPAN DATA'!K674","v":0},{"$f":"'SHALA DARPAN DATA'!E674","v":0},{"$f":"'SHALA DARPAN DATA'!G674","v":0},{"$f":"'SHALA DARPAN DATA'!H674","v":0},{"$f":"'SHALA DARPAN DATA'!W674","v":0},{"$f":"'SHALA DARPAN DATA'!R674","v":0},{"$f":"'SHALA DARPAN DATA'!S674","v":0},{"$f":"'SHALA DARPAN DATA'!O674","v":0},0,0,0,0,0,0,0,0,0,0,0]
[{"$f":"'SHALA DARPAN DATA'!C675","v":0},{"$f":"'SHALA DARPAN DATA'!A675","v":0},{"$f":"'SHALA DARPAN DATA'!B675","v":0},{"$f":"'SHALA DARPAN DATA'!D675","v":0},{"$f":"'SHALA DARPAN DATA'!J675","v":0},{"$f":"'SHALA DARPAN DATA'!T675","v":0},{"$f":"'SHALA DARPAN DATA'!V675","v":0},{"$f":"'SHALA DARPAN DATA'!K675","v":0},{"$f":"'SHALA DARPAN DATA'!E675","v":0},{"$f":"'SHALA DARPAN DATA'!G675","v":0},{"$f":"'SHALA DARPAN DATA'!H675","v":0},{"$f":"'SHALA DARPAN DATA'!W675","v":0},{"$f":"'SHALA DARPAN DATA'!R675","v":0},{"$f":"'SHALA DARPAN DATA'!S675","v":0},{"$f":"'SHALA DARPAN DATA'!O675","v":0},0,0,0,0,0,0,0,0,0,0,0]
[{"$f":"'SHALA DARPAN DATA'!C676","v":0},{"$f":"'SHALA DARPAN DATA'!A676","v":0},{"$f":"'SHALA DARPAN DATA'!B676","v":0},{"$f":"'SHALA DARPAN DATA'!D676","v":0},{"$f":"'SHALA DARPAN DATA'!J676","v":0},{"$f":"'SHALA DARPAN DATA'!T676","v":0},{"$f":"'SHALA DARPAN DATA'!V676","v":0},{"$f":"'SHALA DARPAN DATA'!K676","v":0},{"$f":"'SHALA DARPAN DATA'!E676","v":0},{"$f":"'SHALA DARPAN DATA'!G676","v":0},{"$f":"'SHALA DARPAN DATA'!H676","v":0},{"$f":"'SHALA DARPAN DATA'!W676","v":0},{"$f":"'SHALA DARPAN DATA'!R676","v":0},{"$f":"'SHALA DARPAN DATA'!S676","v":0},{"$f":"'SHALA DARPAN DATA'!O676","v":0},0,0,0,0,0,0,0,0,0,0,0]
[{"$f":"'SHALA DARPAN DATA'!C677","v":0},{"$f":"'SHALA DARPAN DATA'!A677","v":0},{"$f":"'SHALA DARPAN DATA'!B677","v":0},{"$f":"'SHALA DARPAN DATA'!D677","v":0},{"$f":"'SHALA DARPAN DATA'!J677","v":0},{"$f":"'SHALA DARPAN DATA'!T677","v":0},{"$f":"'SHALA DARPAN DATA'!V677","v":0},{"$f":"'SHALA DARPAN DATA'!K677","v":0},{"$f":"'SHALA DARPAN DATA'!E677","v":0},{"$f":"'SHALA DARPAN DATA'!G677","v":0},{"$f":"'SHALA DARPAN DATA'!H677","v":0},{"$f":"'SHALA DARPAN DATA'!W677","v":0},{"$f":"'SHALA DARPAN DATA'!R677","v":0},{"$f":"'SHALA DARPAN DATA'!S677","v":0},{"$f":"'SHALA DARPAN DATA'!O677","v":0},0,0,0,0,0,0,0,0,0,0,0]
[{"$f":"'SHALA DARPAN DATA'!C678","v":0},{"$f":"'SHALA DARPAN DATA'!A678","v":0},{"$f":"'SHALA DARPAN DATA'!B678","v":0},{"$f":"'SHALA DARPAN DATA'!D678","v":0},{"$f":"'SHALA DARPAN DATA'!J678","v":0},{"$f":"'SHALA DARPAN DATA'!T678","v":0},{"$f":"'SHALA DARPAN DATA'!V678","v":0},{"$f":"'SHALA DARPAN DATA'!K678","v":0},{"$f":"'SHALA DARPAN DATA'!E678","v":0},{"$f":"'SHALA DARPAN DATA'!G678","v":0},{"$f":"'SHALA DARPAN DATA'!H678","v":0},{"$f":"'SHALA DARPAN DATA'!W678","v":0},{"$f":"'SHALA DARPAN DATA'!R678","v":0},{"$f":"'SHALA DARPAN DATA'!S678","v":0},{"$f":"'SHALA DARPAN DATA'!O678","v":0},0,0,0,0,0,0,0,0,0,0,0]
[{"$f":"'SHALA DARPAN DATA'!C679","v":0},{"$f":"'SHALA DARPAN DATA'!A679","v":0},{"$f":"'SHALA DARPAN DATA'!B679","v":0},{"$f":"'SHALA DARPAN DATA'!D679","v":0},{"$f":"'SHALA DARPAN DATA'!J679","v":0},{"$f":"'SHALA DARPAN DATA'!T679","v":0},{"$f":"'SHALA DARPAN DATA'!V679","v":0},{"$f":"'SHALA DARPAN DATA'!K679","v":0},{"$f":"'SHALA DARPAN DATA'!E679","v":0},{"$f":"'SHALA DARPAN DATA'!G679","v":0},{"$f":"'SHALA DARPAN DATA'!H679","v":0},{"$f":"'SHALA DARPAN DATA'!W679","v":0},{"$f":"'SHALA DARPAN DATA'!R679","v":0},{"$f":"'SHALA DARPAN DATA'!S679","v":0},{"$f":"'SHALA DARPAN DATA'!O679","v":0},0,0,0,0,0,0,0,0,0,0,0]
[{"$f":"'SHALA DARPAN DATA'!C680","v":0},{"$f":"'SHALA DARPAN DATA'!A680","v":0},{"$f":"'SHALA DARPAN DATA'!B680","v":0},{"$f":"'SHALA DARPAN DATA'!D680","v":0},{"$f":"'SHALA DARPAN DATA'!J680","v":0},{"$f":"'SHALA DARPAN DATA'!T680","v":0},{"$f":"'SHALA DARPAN DATA'!V680","v":0},{"$f":"'SHALA DARPAN DATA'!K680","v":0},{"$f":"'SHALA DARPAN DATA'!E680","v":0},{"$f":"'SHALA DARPAN DATA'!G680","v":0},{"$f":"'SHALA DARPAN DATA'!H680","v":0},{"$f":"'SHALA DARPAN DATA'!W680","v":0},{"$f":"'SHALA DARPAN DATA'!R680","v":0},{"$f":"'SHALA DARPAN DATA'!S680","v":0},{"$f":"'SHALA DARPAN DATA'!O680","v":0},0,0,0,0,0,0,0,0,0,0,0]
[{"$f":"'SHALA DARPAN DATA'!C681","v":0},{"$f":"'SHALA DARPAN DATA'!A681","v":0},{"$f":"'SHALA DARPAN DATA'!B681","v":0},{"$f":"'SHALA DARPAN DATA'!D681","v":0},{"$f":"'SHALA DARPAN DATA'!J681","v":0},{"$f":"'SHALA DARPAN DATA'!T681","v":0},{"$f":"'SHALA DARPAN DATA'!V681","v":0},{"$f":"'SHALA DARPAN DATA'!K681","v":0},{"$f":"'SHALA DARPAN DATA'!E681","v":0},{"$f":"'SHALA DARPAN DATA'!G681","v":0},{"$f":"'SHALA DARPAN DATA'!H681","v":0},{"$f":"'SHALA DARPAN DATA'!W681","v":0},{"$f":"'SHALA DARPAN DATA'!R681","v":0},{"$f":"'SHALA DARPAN DATA'!S681","v":0},{"$f":"'SHALA DARPAN DATA'!O681","v":0},0,0,0,0,0,0,0,0,0,0,0]
[{"$f":"'SHALA DARPAN DATA'!C682","v":0},{"$f":"'SHALA DARPAN DATA'!A682","v":0},{"$f":"'SHALA DARPAN DATA'!B682","v":0},{"$f":"'SHALA DARPAN DATA'!D682","v":0},{"$f":"'SHALA DARPAN DATA'!J682","v":0},{"$f":"'SHALA DARPAN DATA'!T682","v":0},{"$f":"'SHALA DARPAN DATA'!V682","v":0},{"$f":"'SHALA DARPAN DATA'!K682","v":0},{"$f":"'SHALA DARPAN DATA'!E682","v":0},{"$f":"'SHALA DARPAN DATA'!G682","v":0},{"$f":"'SHALA DARPAN DATA'!H682","v":0},{"$f":"'SHALA DARPAN DATA'!W682","v":0},{"$f":"'SHALA DARPAN DATA'!R682","v":0},{"$f":"'SHALA DARPAN DATA'!S682","v":0},{"$f":"'SHALA DARPAN DATA'!O682","v":0},0,0,0,0,0,0,0,0,0,0,0]
[{"$f":"'SHALA DARPAN DATA'!C683","v":0},{"$f":"'SHALA DARPAN DATA'!A683","v":0},{"$f":"'SHALA DARPAN DATA'!B683","v":0},{"$f":"'SHALA DARPAN DATA'!D683","v":0},{"$f":"'SHALA DARPAN DATA'!J683","v":0},{"$f":"'SHALA DARPAN DATA'!T683","v":0},{"$f":"'SHALA DARPAN DATA'!V683","v":0},{"$f":"'SHALA DARPAN DATA'!K683","v":0},{"$f":"'SHALA DARPAN DATA'!E683","v":0},{"$f":"'SHALA DARPAN DATA'!G683","v":0},{"$f":"'SHALA DARPAN DATA'!H683","v":0},{"$f":"'SHALA DARPAN DATA'!W683","v":0},{"$f":"'SHALA DARPAN DATA'!R683","v":0},{"$f":"'SHALA DARPAN DATA'!S683","v":0},{"$f":"'SHALA DARPAN DATA'!O683","v":0},0,0,0,0,0,0,0,0,0,0,0]
[{"$f":"'SHALA DARPAN DATA'!C684","v":0},{"$f":"'SHALA DARPAN DATA'!A684","v":0},{"$f":"'SHALA DARPAN DATA'!B684","v":0},{"$f":"'SHALA DARPAN DATA'!D684","v":0},{"$f":"'SHALA DARPAN DATA'!J684","v":0},{"$f":"'SHALA DARPAN DATA'!T684","v":0},{"$f":"'SHALA DARPAN DATA'!V684","v":0},{"$f":"'SHALA DARPAN DATA'!K684","v":0},{"$f":"'SHALA DARPAN DATA'!E684","v":0},{"$f":"'SHALA DARPAN DATA'!G684","v":0},{"$f":"'SHALA DARPAN DATA'!H684","v":0},{"$f":"'SHALA DARPAN DATA'!W684","v":0},{"$f":"'SHALA DARPAN DATA'!R684","v":0},{"$f":"'SHALA DARPAN DATA'!S684","v":0},{"$f":"'SHALA DARPAN DATA'!O684","v":0},0,0,0,0,0,0,0,0,0,0,0]
[{"$f":"'SHALA DARPAN DATA'!C685","v":0},{"$f":"'SHALA DARPAN DATA'!A685","v":0},{"$f":"'SHALA DARPAN DATA'!B685","v":0},{"$f":"'SHALA DARPAN DATA'!D685","v":0},{"$f":"'SHALA DARPAN DATA'!J685","v":0},{"$f":"'SHALA DARPAN DATA'!T685","v":0},{"$f":"'SHALA DARPAN DATA'!V685","v":0},{"$f":"'SHALA DARPAN DATA'!K685","v":0},{"$f":"'SHALA DARPAN DATA'!E685","v":0},{"$f":"'SHALA DARPAN DATA'!G685","v":0},{"$f":"'SHALA DARPAN DATA'!H685","v":0},{"$f":"'SHALA DARPAN DATA'!W685","v":0},{"$f":"'SHALA DARPAN DATA'!R685","v":0},{"$f":"'SHALA DARPAN DATA'!S685","v":0},{"$f":"'SHALA DARPAN DATA'!O685","v":0},0,0,0,0,0,0,0,0,0,0,0]
[{"$f":"'SHALA DARPAN DATA'!C686","v":0},{"$f":"'SHALA DARPAN DATA'!A686","v":0},{"$f":"'SHALA DARPAN DATA'!B686","v":0},{"$f":"'SHALA DARPAN DATA'!D686","v":0},{"$f":"'SHALA DARPAN DATA'!J686","v":0},{"$f":"'SHALA DARPAN DATA'!T686","v":0},{"$f":"'SHALA DARPAN DATA'!V686","v":0},{"$f":"'SHALA DARPAN DATA'!K686","v":0},{"$f":"'SHALA DARPAN DATA'!E686","v":0},{"$f":"'SHALA DARPAN DATA'!G686","v":0},{"$f":"'SHALA DARPAN DATA'!H686","v":0},{"$f":"'SHALA DARPAN DATA'!W686","v":0},{"$f":"'SHALA DARPAN DATA'!R686","v":0},{"$f":"'SHALA DARPAN DATA'!S686","v":0},{"$f":"'SHALA DARPAN DATA'!O686","v":0},0,0,0,0,0,0,0,0,0,0,0]
[{"$f":"'SHALA DARPAN DATA'!C687","v":0},{"$f":"'SHALA DARPAN DATA'!A687","v":0},{"$f":"'SHALA DARPAN DATA'!B687","v":0},{"$f":"'SHALA DARPAN DATA'!D687","v":0},{"$f":"'SHALA DARPAN DATA'!J687","v":0},{"$f":"'SHALA DARPAN DATA'!T687","v":0},{"$f":"'SHALA DARPAN DATA'!V687","v":0},{"$f":"'SHALA DARPAN DATA'!K687","v":0},{"$f":"'SHALA DARPAN DATA'!E687","v":0},{"$f":"'SHALA DARPAN DATA'!G687","v":0},{"$f":"'SHALA DARPAN DATA'!H687","v":0},{"$f":"'SHALA DARPAN DATA'!W687","v":0},{"$f":"'SHALA DARPAN DATA'!R687","v":0},{"$f":"'SHALA DARPAN DATA'!S687","v":0},{"$f":"'SHALA DARPAN DATA'!O687","v":0},0,0,0,0,0,0,0,0,0,0,0]
[{"$f":"'SHALA DARPAN DATA'!C688","v":0},{"$f":"'SHALA DARPAN DATA'!A688","v":0},{"$f":"'SHALA DARPAN DATA'!B688","v":0},{"$f":"'SHALA DARPAN DATA'!D688","v":0},{"$f":"'SHALA DARPAN DATA'!J688","v":0},{"$f":"'SHALA DARPAN DATA'!T688","v":0},{"$f":"'SHALA DARPAN DATA'!V688","v":0},{"$f":"'SHALA DARPAN DATA'!K688","v":0},{"$f":"'SHALA DARPAN DATA'!E688","v":0},{"$f":"'SHALA DARPAN DATA'!G688","v":0},{"$f":"'SHALA DARPAN DATA'!H688","v":0},{"$f":"'SHALA DARPAN DATA'!W688","v":0},{"$f":"'SHALA DARPAN DATA'!R688","v":0},{"$f":"'SHALA DARPAN DATA'!S688","v":0},{"$f":"'SHALA DARPAN DATA'!O688","v":0},0,0,0,0,0,0,0,0,0,0,0]
[{"$f":"'SHALA DARPAN DATA'!C689","v":0},{"$f":"'SHALA DARPAN DATA'!A689","v":0},{"$f":"'SHALA DARPAN DATA'!B689","v":0},{"$f":"'SHALA DARPAN DATA'!D689","v":0},{"$f":"'SHALA DARPAN DATA'!J689","v":0},{"$f":"'SHALA DARPAN DATA'!T689","v":0},{"$f":"'SHALA DARPAN DATA'!V689","v":0},{"$f":"'SHALA DARPAN DATA'!K689","v":0},{"$f":"'SHALA DARPAN DATA'!E689","v":0},{"$f":"'SHALA DARPAN DATA'!G689","v":0},{"$f":"'SHALA DARPAN DATA'!H689","v":0},{"$f":"'SHALA DARPAN DATA'!W689","v":0},{"$f":"'SHALA DARPAN DATA'!R689","v":0},{"$f":"'SHALA DARPAN DATA'!S689","v":0},{"$f":"'SHALA DARPAN DATA'!O689","v":0},0,0,0,0,0,0,0,0,0,0,0]
[{"$f":"'SHALA DARPAN DATA'!C690","v":0},{"$f":"'SHALA DARPAN DATA'!A690","v":0},{"$f":"'SHALA DARPAN DATA'!B690","v":0},{"$f":"'SHALA DARPAN DATA'!D690","v":0},{"$f":"'SHALA DARPAN DATA'!J690","v":0},{"$f":"'SHALA DARPAN DATA'!T690","v":0},{"$f":"'SHALA DARPAN DATA'!V690","v":0},{"$f":"'SHALA DARPAN DATA'!K690","v":0},{"$f":"'SHALA DARPAN DATA'!E690","v":0},{"$f":"'SHALA DARPAN DATA'!G690","v":0},{"$f":"'SHALA DARPAN DATA'!H690","v":0},{"$f":"'SHALA DARPAN DATA'!W690","v":0},{"$f":"'SHALA DARPAN DATA'!R690","v":0},{"$f":"'SHALA DARPAN DATA'!S690","v":0},{"$f":"'SHALA DARPAN DATA'!O690","v":0},0,0,0,0,0,0,0,0,0,0,0]
[{"$f":"'SHALA DARPAN DATA'!C691","v":0},{"$f":"'SHALA DARPAN DATA'!A691","v":0},{"$f":"'SHALA DARPAN DATA'!B691","v":0},{"$f":"'SHALA DARPAN DATA'!D691","v":0},{"$f":"'SHALA DARPAN DATA'!J691","v":0},{"$f":"'SHALA DARPAN DATA'!T691","v":0},{"$f":"'SHALA DARPAN DATA'!V691","v":0},{"$f":"'SHALA DARPAN DATA'!K691","v":0},{"$f":"'SHALA DARPAN DATA'!E691","v":0},{"$f":"'SHALA DARPAN DATA'!G691","v":0},{"$f":"'SHALA DARPAN DATA'!H691","v":0},{"$f":"'SHALA DARPAN DATA'!W691","v":0},{"$f":"'SHALA DARPAN DATA'!R691","v":0},{"$f":"'SHALA DARPAN DATA'!S691","v":0},{"$f":"'SHALA DARPAN DATA'!O691","v":0},0,0,0,0,0,0,0,0,0,0,0]
[{"$f":"'SHALA DARPAN DATA'!C692","v":0},{"$f":"'SHALA DARPAN DATA'!A692","v":0},{"$f":"'SHALA DARPAN DATA'!B692","v":0},{"$f":"'SHALA DARPAN DATA'!D692","v":0},{"$f":"'SHALA DARPAN DATA'!J692","v":0},{"$f":"'SHALA DARPAN DATA'!T692","v":0},{"$f":"'SHALA DARPAN DATA'!V692","v":0},{"$f":"'SHALA DARPAN DATA'!K692","v":0},{"$f":"'SHALA DARPAN DATA'!E692","v":0},{"$f":"'SHALA DARPAN DATA'!G692","v":0},{"$f":"'SHALA DARPAN DATA'!H692","v":0},{"$f":"'SHALA DARPAN DATA'!W692","v":0},{"$f":"'SHALA DARPAN DATA'!R692","v":0},{"$f":"'SHALA DARPAN DATA'!S692","v":0},{"$f":"'SHALA DARPAN DATA'!O692","v":0},0,0,0,0,0,0,0,0,0,0,0]
[{"$f":"'SHALA DARPAN DATA'!C693","v":0},{"$f":"'SHALA DARPAN DATA'!A693","v":0},{"$f":"'SHALA DARPAN DATA'!B693","v":0},{"$f":"'SHALA DARPAN DATA'!D693","v":0},{"$f":"'SHALA DARPAN DATA'!J693","v":0},{"$f":"'SHALA DARPAN DATA'!T693","v":0},{"$f":"'SHALA DARPAN DATA'!V693","v":0},{"$f":"'SHALA DARPAN DATA'!K693","v":0},{"$f":"'SHALA DARPAN DATA'!E693","v":0},{"$f":"'SHALA DARPAN DATA'!G693","v":0},{"$f":"'SHALA DARPAN DATA'!H693","v":0},{"$f":"'SHALA DARPAN DATA'!W693","v":0},{"$f":"'SHALA DARPAN DATA'!R693","v":0},{"$f":"'SHALA DARPAN DATA'!S693","v":0},{"$f":"'SHALA DARPAN DATA'!O693","v":0},0,0,0,0,0,0,0,0,0,0,0]
[{"$f":"'SHALA DARPAN DATA'!C694","v":0},{"$f":"'SHALA DARPAN DATA'!A694","v":0},{"$f":"'SHALA DARPAN DATA'!B694","v":0},{"$f":"'SHALA DARPAN DATA'!D694","v":0},{"$f":"'SHALA DARPAN DATA'!J694","v":0},{"$f":"'SHALA DARPAN DATA'!T694","v":0},{"$f":"'SHALA DARPAN DATA'!V694","v":0},{"$f":"'SHALA DARPAN DATA'!K694","v":0},{"$f":"'SHALA DARPAN DATA'!E694","v":0},{"$f":"'SHALA DARPAN DATA'!G694","v":0},{"$f":"'SHALA DARPAN DATA'!H694","v":0},{"$f":"'SHALA DARPAN DATA'!W694","v":0},{"$f":"'SHALA DARPAN DATA'!R694","v":0},{"$f":"'SHALA DARPAN DATA'!S694","v":0},{"$f":"'SHALA DARPAN DATA'!O694","v":0},0,0,0,0,0,0,0,0,0,0,0]
[{"$f":"'SHALA DARPAN DATA'!C695","v":0},{"$f":"'SHALA DARPAN DATA'!A695","v":0},{"$f":"'SHALA DARPAN DATA'!B695","v":0},{"$f":"'SHALA DARPAN DATA'!D695","v":0},{"$f":"'SHALA DARPAN DATA'!J695","v":0},{"$f":"'SHALA DARPAN DATA'!T695","v":0},{"$f":"'SHALA DARPAN DATA'!V695","v":0},{"$f":"'SHALA DARPAN DATA'!K695","v":0},{"$f":"'SHALA DARPAN DATA'!E695","v":0},{"$f":"'SHALA DARPAN DATA'!G695","v":0},{"$f":"'SHALA DARPAN DATA'!H695","v":0},{"$f":"'SHALA DARPAN DATA'!W695","v":0},{"$f":"'SHALA DARPAN DATA'!R695","v":0},{"$f":"'SHALA DARPAN DATA'!S695","v":0},{"$f":"'SHALA DARPAN DATA'!O695","v":0},0,0,0,0,0,0,0,0,0,0,0]
[{"$f":"'SHALA DARPAN DATA'!C696","v":0},{"$f":"'SHALA DARPAN DATA'!A696","v":0},{"$f":"'SHALA DARPAN DATA'!B696","v":0},{"$f":"'SHALA DARPAN DATA'!D696","v":0},{"$f":"'SHALA DARPAN DATA'!J696","v":0},{"$f":"'SHALA DARPAN DATA'!T696","v":0},{"$f":"'SHALA DARPAN DATA'!V696","v":0},{"$f":"'SHALA DARPAN DATA'!K696","v":0},{"$f":"'SHALA DARPAN DATA'!E696","v":0},{"$f":"'SHALA DARPAN DATA'!G696","v":0},{"$f":"'SHALA DARPAN DATA'!H696","v":0},{"$f":"'SHALA DARPAN DATA'!W696","v":0},{"$f":"'SHALA DARPAN DATA'!R696","v":0},{"$f":"'SHALA DARPAN DATA'!S696","v":0},{"$f":"'SHALA DARPAN DATA'!O696","v":0},0,0,0,0,0,0,0,0,0,0,0]
[{"$f":"'SHALA DARPAN DATA'!C697","v":0},{"$f":"'SHALA DARPAN DATA'!A697","v":0},{"$f":"'SHALA DARPAN DATA'!B697","v":0},{"$f":"'SHALA DARPAN DATA'!D697","v":0},{"$f":"'SHALA DARPAN DATA'!J697","v":0},{"$f":"'SHALA DARPAN DATA'!T697","v":0},{"$f":"'SHALA DARPAN DATA'!V697","v":0},{"$f":"'SHALA DARPAN DATA'!K697","v":0},{"$f":"'SHALA DARPAN DATA'!E697","v":0},{"$f":"'SHALA DARPAN DATA'!G697","v":0},{"$f":"'SHALA DARPAN DATA'!H697","v":0},{"$f":"'SHALA DARPAN DATA'!W697","v":0},{"$f":"'SHALA DARPAN DATA'!R697","v":0},{"$f":"'SHALA DARPAN DATA'!S697","v":0},{"$f":"'SHALA DARPAN DATA'!O697","v":0},0,0,0,0,0,0,0,0,0,0,0]
[{"$f":"'SHALA DARPAN DATA'!C698","v":0},{"$f":"'SHALA DARPAN DATA'!A698","v":0},{"$f":"'SHALA DARPAN DATA'!B698","v":0},{"$f":"'SHALA DARPAN DATA'!D698","v":0},{"$f":"'SHALA DARPAN DATA'!J698","v":0},{"$f":"'SHALA DARPAN DATA'!T698","v":0},{"$f":"'SHALA DARPAN DATA'!V698","v":0},{"$f":"'SHALA DARPAN DATA'!K698","v":0},{"$f":"'SHALA DARPAN DATA'!E698","v":0},{"$f":"'SHALA DARPAN DATA'!G698","v":0},{"$f":"'SHALA DARPAN DATA'!H698","v":0},{"$f":"'SHALA DARPAN DATA'!W698","v":0},{"$f":"'SHALA DARPAN DATA'!R698","v":0},{"$f":"'SHALA DARPAN DATA'!S698","v":0},{"$f":"'SHALA DARPAN DATA'!O698","v":0},0,0,0,0,0,0,0,0,0,0,0]
[{"$f":"'SHALA DARPAN DATA'!C699","v":0},{"$f":"'SHALA DARPAN DATA'!A699","v":0},{"$f":"'SHALA DARPAN DATA'!B699","v":0},{"$f":"'SHALA DARPAN DATA'!D699","v":0},{"$f":"'SHALA DARPAN DATA'!J699","v":0},{"$f":"'SHALA DARPAN DATA'!T699","v":0},{"$f":"'SHALA DARPAN DATA'!V699","v":0},{"$f":"'SHALA DARPAN DATA'!K699","v":0},{"$f":"'SHALA DARPAN DATA'!E699","v":0},{"$f":"'SHALA DARPAN DATA'!G699","v":0},{"$f":"'SHALA DARPAN DATA'!H699","v":0},{"$f":"'SHALA DARPAN DATA'!W699","v":0},{"$f":"'SHALA DARPAN DATA'!R699","v":0},{"$f":"'SHALA DARPAN DATA'!S699","v":0},{"$f":"'SHALA DARPAN DATA'!O699","v":0},0,0,0,0,0,0,0,0,0,0,0]
[{"$f":"'SHALA DARPAN DATA'!C700","v":0},{"$f":"'SHALA DARPAN DATA'!A700","v":0},{"$f":"'SHALA DARPAN DATA'!B700","v":0},{"$f":"'SHALA DARPAN DATA'!D700","v":0},{"$f":"'SHALA DARPAN DATA'!J700","v":0},{"$f":"'SHALA DARPAN DATA'!T700","v":0},{"$f":"'SHALA DARPAN DATA'!V700","v":0},{"$f":"'SHALA DARPAN DATA'!K700","v":0},{"$f":"'SHALA DARPAN DATA'!E700","v":0},{"$f":"'SHALA DARPAN DATA'!G700","v":0},{"$f":"'SHALA DARPAN DATA'!H700","v":0},{"$f":"'SHALA DARPAN DATA'!W700","v":0},{"$f":"'SHALA DARPAN DATA'!R700","v":0},{"$f":"'SHALA DARPAN DATA'!S700","v":0},{"$f":"'SHALA DARPAN DATA'!O700","v":0},0,0,0,0,0,0,0,0,0,0,0]
[{"$f":"'SHALA DARPAN DATA'!C701","v":0},{"$f":"'SHALA DARPAN DATA'!A701","v":0},{"$f":"'SHALA DARPAN DATA'!B701","v":0},{"$f":"'SHALA DARPAN DATA'!D701","v":0},{"$f":"'SHALA DARPAN DATA'!J701","v":0},{"$f":"'SHALA DARPAN DATA'!T701","v":0},{"$f":"'SHALA DARPAN DATA'!V701","v":0},{"$f":"'SHALA DARPAN DATA'!K701","v":0},{"$f":"'SHALA DARPAN DATA'!E701","v":0},{"$f":"'SHALA DARPAN DATA'!G701","v":0},{"$f":"'SHALA DARPAN DATA'!H701","v":0},{"$f":"'SHALA DARPAN DATA'!W701","v":0},{"$f":"'SHALA DARPAN DATA'!R701","v":0},{"$f":"'SHALA DARPAN DATA'!S701","v":0},{"$f":"'SHALA DARPAN DATA'!O701","v":0},0,0,0,0,0,0,0,0,0,0,0]
[{"$f":"'SHALA DARPAN DATA'!C702","v":0},{"$f":"'SHALA DARPAN DATA'!A702","v":0},{"$f":"'SHALA DARPAN DATA'!B702","v":0},{"$f":"'SHALA DARPAN DATA'!D702","v":0},{"$f":"'SHALA DARPAN DATA'!J702","v":0},{"$f":"'SHALA DARPAN DATA'!T702","v":0},{"$f":"'SHALA DARPAN DATA'!V702","v":0},{"$f":"'SHALA DARPAN DATA'!K702","v":0},{"$f":"'SHALA DARPAN DATA'!E702","v":0},{"$f":"'SHALA DARPAN DATA'!G702","v":0},{"$f":"'SHALA DARPAN DATA'!H702","v":0},{"$f":"'SHALA DARPAN DATA'!W702","v":0},{"$f":"'SHALA DARPAN DATA'!R702","v":0},{"$f":"'SHALA DARPAN DATA'!S702","v":0},{"$f":"'SHALA DARPAN DATA'!O702","v":0},0,0,0,0,0,0,0,0,0,0,0]
[{"$f":"'SHALA DARPAN DATA'!C703","v":0},{"$f":"'SHALA DARPAN DATA'!A703","v":0},{"$f":"'SHALA DARPAN DATA'!B703","v":0},{"$f":"'SHALA DARPAN DATA'!D703","v":0},{"$f":"'SHALA DARPAN DATA'!J703","v":0},{"$f":"'SHALA DARPAN DATA'!T703","v":0},{"$f":"'SHALA DARPAN DATA'!V703","v":0},{"$f":"'SHALA DARPAN DATA'!K703","v":0},{"$f":"'SHALA DARPAN DATA'!E703","v":0},{"$f":"'SHALA DARPAN DATA'!G703","v":0},{"$f":"'SHALA DARPAN DATA'!H703","v":0},{"$f":"'SHALA DARPAN DATA'!W703","v":0},{"$f":"'SHALA DARPAN DATA'!R703","v":0},{"$f":"'SHALA DARPAN DATA'!S703","v":0},{"$f":"'SHALA DARPAN DATA'!O703","v":0},0,0,0,0,0,0,0,0,0,0,0]
[{"$f":"'SHALA DARPAN DATA'!C704","v":0},{"$f":"'SHALA DARPAN DATA'!A704","v":0},{"$f":"'SHALA DARPAN DATA'!B704","v":0},{"$f":"'SHALA DARPAN DATA'!D704","v":0},{"$f":"'SHALA DARPAN DATA'!J704","v":0},{"$f":"'SHALA DARPAN DATA'!T704","v":0},{"$f":"'SHALA DARPAN DATA'!V704","v":0},{"$f":"'SHALA DARPAN DATA'!K704","v":0},{"$f":"'SHALA DARPAN DATA'!E704","v":0},{"$f":"'SHALA DARPAN DATA'!G704","v":0},{"$f":"'SHALA DARPAN DATA'!H704","v":0},{"$f":"'SHALA DARPAN DATA'!W704","v":0},{"$f":"'SHALA DARPAN DATA'!R704","v":0},{"$f":"'SHALA DARPAN DATA'!S704","v":0},{"$f":"'SHALA DARPAN DATA'!O704","v":0},0,0,0,0,0,0,0,0,0,0,0]
[{"$f":"'SHALA DARPAN DATA'!C705","v":0},{"$f":"'SHALA DARPAN DATA'!A705","v":0},{"$f":"'SHALA DARPAN DATA'!B705","v":0},{"$f":"'SHALA DARPAN DATA'!D705","v":0},{"$f":"'SHALA DARPAN DATA'!J705","v":0},{"$f":"'SHALA DARPAN DATA'!T705","v":0},{"$f":"'SHALA DARPAN DATA'!V705","v":0},{"$f":"'SHALA DARPAN DATA'!K705","v":0},{"$f":"'SHALA DARPAN DATA'!E705","v":0},{"$f":"'SHALA DARPAN DATA'!G705","v":0},{"$f":"'SHALA DARPAN DATA'!H705","v":0},{"$f":"'SHALA DARPAN DATA'!W705","v":0},{"$f":"'SHALA DARPAN DATA'!R705","v":0},{"$f":"'SHALA DARPAN DATA'!S705","v":0},{"$f":"'SHALA DARPAN DATA'!O705","v":0},0,0,0,0,0,0,0,0,0,0,0]
[{"$f":"'SHALA DARPAN DATA'!C706","v":0},{"$f":"'SHALA DARPAN DATA'!A706","v":0},{"$f":"'SHALA DARPAN DATA'!B706","v":0},{"$f":"'SHALA DARPAN DATA'!D706","v":0},{"$f":"'SHALA DARPAN DATA'!J706","v":0},{"$f":"'SHALA DARPAN DATA'!T706","v":0},{"$f":"'SHALA DARPAN DATA'!V706","v":0},{"$f":"'SHALA DARPAN DATA'!K706","v":0},{"$f":"'SHALA DARPAN DATA'!E706","v":0},{"$f":"'SHALA DARPAN DATA'!G706","v":0},{"$f":"'SHALA DARPAN DATA'!H706","v":0},{"$f":"'SHALA DARPAN DATA'!W706","v":0},{"$f":"'SHALA DARPAN DATA'!R706","v":0},{"$f":"'SHALA DARPAN DATA'!S706","v":0},{"$f":"'SHALA DARPAN DATA'!O706","v":0},0,0,0,0,0,0,0,0,0,0,0]
[{"$f":"'SHALA DARPAN DATA'!C707","v":0},{"$f":"'SHALA DARPAN DATA'!A707","v":0},{"$f":"'SHALA DARPAN DATA'!B707","v":0},{"$f":"'SHALA DARPAN DATA'!D707","v":0},{"$f":"'SHALA DARPAN DATA'!J707","v":0},{"$f":"'SHALA DARPAN DATA'!T707","v":0},{"$f":"'SHALA DARPAN DATA'!V707","v":0},{"$f":"'SHALA DARPAN DATA'!K707","v":0},{"$f":"'SHALA DARPAN DATA'!E707","v":0},{"$f":"'SHALA DARPAN DATA'!G707","v":0},{"$f":"'SHALA DARPAN DATA'!H707","v":0},{"$f":"'SHALA DARPAN DATA'!W707","v":0},{"$f":"'SHALA DARPAN DATA'!R707","v":0},{"$f":"'SHALA DARPAN DATA'!S707","v":0},{"$f":"'SHALA DARPAN DATA'!O707","v":0},0,0,0,0,0,0,0,0,0,0,0]
[{"$f":"'SHALA DARPAN DATA'!C708","v":0},{"$f":"'SHALA DARPAN DATA'!A708","v":0},{"$f":"'SHALA DARPAN DATA'!B708","v":0},{"$f":"'SHALA DARPAN DATA'!D708","v":0},{"$f":"'SHALA DARPAN DATA'!J708","v":0},{"$f":"'SHALA DARPAN DATA'!T708","v":0},{"$f":"'SHALA DARPAN DATA'!V708","v":0},{"$f":"'SHALA DARPAN DATA'!K708","v":0},{"$f":"'SHALA DARPAN DATA'!E708","v":0},{"$f":"'SHALA DARPAN DATA'!G708","v":0},{"$f":"'SHALA DARPAN DATA'!H708","v":0},{"$f":"'SHALA DARPAN DATA'!W708","v":0},{"$f":"'SHALA DARPAN DATA'!R708","v":0},{"$f":"'SHALA DARPAN DATA'!S708","v":0},{"$f":"'SHALA DARPAN DATA'!O708","v":0},0,0,0,0,0,0,0,0,0,0,0]
[{"$f":"'SHALA DARPAN DATA'!C709","v":0},{"$f":"'SHALA DARPAN DATA'!A709","v":0},{"$f":"'SHALA DARPAN DATA'!B709","v":0},{"$f":"'SHALA DARPAN DATA'!D709","v":0},{"$f":"'SHALA DARPAN DATA'!J709","v":0},{"$f":"'SHALA DARPAN DATA'!T709","v":0},{"$f":"'SHALA DARPAN DATA'!V709","v":0},{"$f":"'SHALA DARPAN DATA'!K709","v":0},{"$f":"'SHALA DARPAN DATA'!E709","v":0},{"$f":"'SHALA DARPAN DATA'!G709","v":0},{"$f":"'SHALA DARPAN DATA'!H709","v":0},{"$f":"'SHALA DARPAN DATA'!W709","v":0},{"$f":"'SHALA DARPAN DATA'!R709","v":0},{"$f":"'SHALA DARPAN DATA'!S709","v":0},{"$f":"'SHALA DARPAN DATA'!O709","v":0},0,0,0,0,0,0,0,0,0,0,0]
[{"$f":"'SHALA DARPAN DATA'!C710","v":0},{"$f":"'SHALA DARPAN DATA'!A710","v":0},{"$f":"'SHALA DARPAN DATA'!B710","v":0},{"$f":"'SHALA DARPAN DATA'!D710","v":0},{"$f":"'SHALA DARPAN DATA'!J710","v":0},{"$f":"'SHALA DARPAN DATA'!T710","v":0},{"$f":"'SHALA DARPAN DATA'!V710","v":0},{"$f":"'SHALA DARPAN DATA'!K710","v":0},{"$f":"'SHALA DARPAN DATA'!E710","v":0},{"$f":"'SHALA DARPAN DATA'!G710","v":0},{"$f":"'SHALA DARPAN DATA'!H710","v":0},{"$f":"'SHALA DARPAN DATA'!W710","v":0},{"$f":"'SHALA DARPAN DATA'!R710","v":0},{"$f":"'SHALA DARPAN DATA'!S710","v":0},{"$f":"'SHALA DARPAN DATA'!O710","v":0},0,0,0,0,0,0,0,0,0,0,0]
[{"$f":"'SHALA DARPAN DATA'!C711","v":0},{"$f":"'SHALA DARPAN DATA'!A711","v":0},{"$f":"'SHALA DARPAN DATA'!B711","v":0},{"$f":"'SHALA DARPAN DATA'!D711","v":0},{"$f":"'SHALA DARPAN DATA'!J711","v":0},{"$f":"'SHALA DARPAN DATA'!T711","v":0},{"$f":"'SHALA DARPAN DATA'!V711","v":0},{"$f":"'SHALA DARPAN DATA'!K711","v":0},{"$f":"'SHALA DARPAN DATA'!E711","v":0},{"$f":"'SHALA DARPAN DATA'!G711","v":0},{"$f":"'SHALA DARPAN DATA'!H711","v":0},{"$f":"'SHALA DARPAN DATA'!W711","v":0},{"$f":"'SHALA DARPAN DATA'!R711","v":0},{"$f":"'SHALA DARPAN DATA'!S711","v":0},{"$f":"'SHALA DARPAN DATA'!O711","v":0},0,0,0,0,0,0,0,0,0,0,0]
[{"$f":"'SHALA DARPAN DATA'!C712","v":0},{"$f":"'SHALA DARPAN DATA'!A712","v":0},{"$f":"'SHALA DARPAN DATA'!B712","v":0},{"$f":"'SHALA DARPAN DATA'!D712","v":0},{"$f":"'SHALA DARPAN DATA'!J712","v":0},{"$f":"'SHALA DARPAN DATA'!T712","v":0},{"$f":"'SHALA DARPAN DATA'!V712","v":0},{"$f":"'SHALA DARPAN DATA'!K712","v":0},{"$f":"'SHALA DARPAN DATA'!E712","v":0},{"$f":"'SHALA DARPAN DATA'!G712","v":0},{"$f":"'SHALA DARPAN DATA'!H712","v":0},{"$f":"'SHALA DARPAN DATA'!W712","v":0},{"$f":"'SHALA DARPAN DATA'!R712","v":0},{"$f":"'SHALA DARPAN DATA'!S712","v":0},{"$f":"'SHALA DARPAN DATA'!O712","v":0},0,0,0,0,0,0,0,0,0,0,0]
[{"$f":"'SHALA DARPAN DATA'!C713","v":0},{"$f":"'SHALA DARPAN DATA'!A713","v":0},{"$f":"'SHALA DARPAN DATA'!B713","v":0},{"$f":"'SHALA DARPAN DATA'!D713","v":0},{"$f":"'SHALA DARPAN DATA'!J713","v":0},{"$f":"'SHALA DARPAN DATA'!T713","v":0},{"$f":"'SHALA DARPAN DATA'!V713","v":0},{"$f":"'SHALA DARPAN DATA'!K713","v":0},{"$f":"'SHALA DARPAN DATA'!E713","v":0},{"$f":"'SHALA DARPAN DATA'!G713","v":0},{"$f":"'SHALA DARPAN DATA'!H713","v":0},{"$f":"'SHALA DARPAN DATA'!W713","v":0},{"$f":"'SHALA DARPAN DATA'!R713","v":0},{"$f":"'SHALA DARPAN DATA'!S713","v":0},{"$f":"'SHALA DARPAN DATA'!O713","v":0},0,0,0,0,0,0,0,0,0,0,0]
[{"$f":"'SHALA DARPAN DATA'!C714","v":0},{"$f":"'SHALA DARPAN DATA'!A714","v":0},{"$f":"'SHALA DARPAN DATA'!B714","v":0},{"$f":"'SHALA DARPAN DATA'!D714","v":0},{"$f":"'SHALA DARPAN DATA'!J714","v":0},{"$f":"'SHALA DARPAN DATA'!T714","v":0},{"$f":"'SHALA DARPAN DATA'!V714","v":0},{"$f":"'SHALA DARPAN DATA'!K714","v":0},{"$f":"'SHALA DARPAN DATA'!E714","v":0},{"$f":"'SHALA DARPAN DATA'!G714","v":0},{"$f":"'SHALA DARPAN DATA'!H714","v":0},{"$f":"'SHALA DARPAN DATA'!W714","v":0},{"$f":"'SHALA DARPAN DATA'!R714","v":0},{"$f":"'SHALA DARPAN DATA'!S714","v":0},{"$f":"'SHALA DARPAN DATA'!O714","v":0},0,0,0,0,0,0,0,0,0,0,0]
[{"$f":"'SHALA DARPAN DATA'!C715","v":0},{"$f":"'SHALA DARPAN DATA'!A715","v":0},{"$f":"'SHALA DARPAN DATA'!B715","v":0},{"$f":"'SHALA DARPAN DATA'!D715","v":0},{"$f":"'SHALA DARPAN DATA'!J715","v":0},{"$f":"'SHALA DARPAN DATA'!T715","v":0},{"$f":"'SHALA DARPAN DATA'!V715","v":0},{"$f":"'SHALA DARPAN DATA'!K715","v":0},{"$f":"'SHALA DARPAN DATA'!E715","v":0},{"$f":"'SHALA DARPAN DATA'!G715","v":0},{"$f":"'SHALA DARPAN DATA'!H715","v":0},{"$f":"'SHALA DARPAN DATA'!W715","v":0},{"$f":"'SHALA DARPAN DATA'!R715","v":0},{"$f":"'SHALA DARPAN DATA'!S715","v":0},{"$f":"'SHALA DARPAN DATA'!O715","v":0},0,0,0,0,0,0,0,0,0,0,0]
[{"$f":"'SHALA DARPAN DATA'!C716","v":0},{"$f":"'SHALA DARPAN DATA'!A716","v":0},{"$f":"'SHALA DARPAN DATA'!B716","v":0},{"$f":"'SHALA DARPAN DATA'!D716","v":0},{"$f":"'SHALA DARPAN DATA'!J716","v":0},{"$f":"'SHALA DARPAN DATA'!T716","v":0},{"$f":"'SHALA DARPAN DATA'!V716","v":0},{"$f":"'SHALA DARPAN DATA'!K716","v":0},{"$f":"'SHALA DARPAN DATA'!E716","v":0},{"$f":"'SHALA DARPAN DATA'!G716","v":0},{"$f":"'SHALA DARPAN DATA'!H716","v":0},{"$f":"'SHALA DARPAN DATA'!W716","v":0},{"$f":"'SHALA DARPAN DATA'!R716","v":0},{"$f":"'SHALA DARPAN DATA'!S716","v":0},{"$f":"'SHALA DARPAN DATA'!O716","v":0},0,0,0,0,0,0,0,0,0,0,0]
[{"$f":"'SHALA DARPAN DATA'!C717","v":0},{"$f":"'SHALA DARPAN DATA'!A717","v":0},{"$f":"'SHALA DARPAN DATA'!B717","v":0},{"$f":"'SHALA DARPAN DATA'!D717","v":0},{"$f":"'SHALA DARPAN DATA'!J717","v":0},{"$f":"'SHALA DARPAN DATA'!T717","v":0},{"$f":"'SHALA DARPAN DATA'!V717","v":0},{"$f":"'SHALA DARPAN DATA'!K717","v":0},{"$f":"'SHALA DARPAN DATA'!E717","v":0},{"$f":"'SHALA DARPAN DATA'!G717","v":0},{"$f":"'SHALA DARPAN DATA'!H717","v":0},{"$f":"'SHALA DARPAN DATA'!W717","v":0},{"$f":"'SHALA DARPAN DATA'!R717","v":0},{"$f":"'SHALA DARPAN DATA'!S717","v":0},{"$f":"'SHALA DARPAN DATA'!O717","v":0},0,0,0,0,0,0,0,0,0,0,0]
[{"$f":"'SHALA DARPAN DATA'!C718","v":0},{"$f":"'SHALA DARPAN DATA'!A718","v":0},{"$f":"'SHALA DARPAN DATA'!B718","v":0},{"$f":"'SHALA DARPAN DATA'!D718","v":0},{"$f":"'SHALA DARPAN DATA'!J718","v":0},{"$f":"'SHALA DARPAN DATA'!T718","v":0},{"$f":"'SHALA DARPAN DATA'!V718","v":0},{"$f":"'SHALA DARPAN DATA'!K718","v":0},{"$f":"'SHALA DARPAN DATA'!E718","v":0},{"$f":"'SHALA DARPAN DATA'!G718","v":0},{"$f":"'SHALA DARPAN DATA'!H718","v":0},{"$f":"'SHALA DARPAN DATA'!W718","v":0},{"$f":"'SHALA DARPAN DATA'!R718","v":0},{"$f":"'SHALA DARPAN DATA'!S718","v":0},{"$f":"'SHALA DARPAN DATA'!O718","v":0},0,0,0,0,0,0,0,0,0,0,0]
[{"$f":"'SHALA DARPAN DATA'!C719","v":0},{"$f":"'SHALA DARPAN DATA'!A719","v":0},{"$f":"'SHALA DARPAN DATA'!B719","v":0},{"$f":"'SHALA DARPAN DATA'!D719","v":0},{"$f":"'SHALA DARPAN DATA'!J719","v":0},{"$f":"'SHALA DARPAN DATA'!T719","v":0},{"$f":"'SHALA DARPAN DATA'!V719","v":0},{"$f":"'SHALA DARPAN DATA'!K719","v":0},{"$f":"'SHALA DARPAN DATA'!E719","v":0},{"$f":"'SHALA DARPAN DATA'!G719","v":0},{"$f":"'SHALA DARPAN DATA'!H719","v":0},{"$f":"'SHALA DARPAN DATA'!W719","v":0},{"$f":"'SHALA DARPAN DATA'!R719","v":0},{"$f":"'SHALA DARPAN DATA'!S719","v":0},{"$f":"'SHALA DARPAN DATA'!O719","v":0},0,0,0,0,0,0,0,0,0,0,0]
[{"$f":"'SHALA DARPAN DATA'!C720","v":0},{"$f":"'SHALA DARPAN DATA'!A720","v":0},{"$f":"'SHALA DARPAN DATA'!B720","v":0},{"$f":"'SHALA DARPAN DATA'!D720","v":0},{"$f":"'SHALA DARPAN DATA'!J720","v":0},{"$f":"'SHALA DARPAN DATA'!T720","v":0},{"$f":"'SHALA DARPAN DATA'!V720","v":0},{"$f":"'SHALA DARPAN DATA'!K720","v":0},{"$f":"'SHALA DARPAN DATA'!E720","v":0},{"$f":"'SHALA DARPAN DATA'!G720","v":0},{"$f":"'SHALA DARPAN DATA'!H720","v":0},{"$f":"'SHALA DARPAN DATA'!W720","v":0},{"$f":"'SHALA DARPAN DATA'!R720","v":0},{"$f":"'SHALA DARPAN DATA'!S720","v":0},{"$f":"'SHALA DARPAN DATA'!O720","v":0},0,0,0,0,0,0,0,0,0,0,0]
[{"$f":"'SHALA DARPAN DATA'!C721","v":0},{"$f":"'SHALA DARPAN DATA'!A721","v":0},{"$f":"'SHALA DARPAN DATA'!B721","v":0},{"$f":"'SHALA DARPAN DATA'!D721","v":0},{"$f":"'SHALA DARPAN DATA'!J721","v":0},{"$f":"'SHALA DARPAN DATA'!T721","v":0},{"$f":"'SHALA DARPAN DATA'!V721","v":0},{"$f":"'SHALA DARPAN DATA'!K721","v":0},{"$f":"'SHALA DARPAN DATA'!E721","v":0},{"$f":"'SHALA DARPAN DATA'!G721","v":0},{"$f":"'SHALA DARPAN DATA'!H721","v":0},{"$f":"'SHALA DARPAN DATA'!W721","v":0},{"$f":"'SHALA DARPAN DATA'!R721","v":0},{"$f":"'SHALA DARPAN DATA'!S721","v":0},{"$f":"'SHALA DARPAN DATA'!O721","v":0},0,0,0,0,0,0,0,0,0,0,0]
[{"$f":"'SHALA DARPAN DATA'!C722","v":0},{"$f":"'SHALA DARPAN DATA'!A722","v":0},{"$f":"'SHALA DARPAN DATA'!B722","v":0},{"$f":"'SHALA DARPAN DATA'!D722","v":0},{"$f":"'SHALA DARPAN DATA'!J722","v":0},{"$f":"'SHALA DARPAN DATA'!T722","v":0},{"$f":"'SHALA DARPAN DATA'!V722","v":0},{"$f":"'SHALA DARPAN DATA'!K722","v":0},{"$f":"'SHALA DARPAN DATA'!E722","v":0},{"$f":"'SHALA DARPAN DATA'!G722","v":0},{"$f":"'SHALA DARPAN DATA'!H722","v":0},{"$f":"'SHALA DARPAN DATA'!W722","v":0},{"$f":"'SHALA DARPAN DATA'!R722","v":0},{"$f":"'SHALA DARPAN DATA'!S722","v":0},{"$f":"'SHALA DARPAN DATA'!O722","v":0},0,0,0,0,0,0,0,0,0,0,0]
[{"$f":"'SHALA DARPAN DATA'!C723","v":0},{"$f":"'SHALA DARPAN DATA'!A723","v":0},{"$f":"'SHALA DARPAN DATA'!B723","v":0},{"$f":"'SHALA DARPAN DATA'!D723","v":0},{"$f":"'SHALA DARPAN DATA'!J723","v":0},{"$f":"'SHALA DARPAN DATA'!T723","v":0},{"$f":"'SHALA DARPAN DATA'!V723","v":0},{"$f":"'SHALA DARPAN DATA'!K723","v":0},{"$f":"'SHALA DARPAN DATA'!E723","v":0},{"$f":"'SHALA DARPAN DATA'!G723","v":0},{"$f":"'SHALA DARPAN DATA'!H723","v":0},{"$f":"'SHALA DARPAN DATA'!W723","v":0},{"$f":"'SHALA DARPAN DATA'!R723","v":0},{"$f":"'SHALA DARPAN DATA'!S723","v":0},{"$f":"'SHALA DARPAN DATA'!O723","v":0},0,0,0,0,0,0,0,0,0,0,0]
[{"$f":"'SHALA DARPAN DATA'!C724","v":0},{"$f":"'SHALA DARPAN DATA'!A724","v":0},{"$f":"'SHALA DARPAN DATA'!B724","v":0},{"$f":"'SHALA DARPAN DATA'!D724","v":0},{"$f":"'SHALA DARPAN DATA'!J724","v":0},{"$f":"'SHALA DARPAN DATA'!T724","v":0},{"$f":"'SHALA DARPAN DATA'!V724","v":0},{"$f":"'SHALA DARPAN DATA'!K724","v":0},{"$f":"'SHALA DARPAN DATA'!E724","v":0},{"$f":"'SHALA DARPAN DATA'!G724","v":0},{"$f":"'SHALA DARPAN DATA'!H724","v":0},{"$f":"'SHALA DARPAN DATA'!W724","v":0},{"$f":"'SHALA DARPAN DATA'!R724","v":0},{"$f":"'SHALA DARPAN DATA'!S724","v":0},{"$f":"'SHALA DARPAN DATA'!O724","v":0},0,0,0,0,0,0,0,0,0,0,0]
[{"$f":"'SHALA DARPAN DATA'!C725","v":0},{"$f":"'SHALA DARPAN DATA'!A725","v":0},{"$f":"'SHALA DARPAN DATA'!B725","v":0},{"$f":"'SHALA DARPAN DATA'!D725","v":0},{"$f":"'SHALA DARPAN DATA'!J725","v":0},{"$f":"'SHALA DARPAN DATA'!T725","v":0},{"$f":"'SHALA DARPAN DATA'!V725","v":0},{"$f":"'SHALA DARPAN DATA'!K725","v":0},{"$f":"'SHALA DARPAN DATA'!E725","v":0},{"$f":"'SHALA DARPAN DATA'!G725","v":0},{"$f":"'SHALA DARPAN DATA'!H725","v":0},{"$f":"'SHALA DARPAN DATA'!W725","v":0},{"$f":"'SHALA DARPAN DATA'!R725","v":0},{"$f":"'SHALA DARPAN DATA'!S725","v":0},{"$f":"'SHALA DARPAN DATA'!O725","v":0},0,0,0,0,0,0,0,0,0,0,0]
[{"$f":"'SHALA DARPAN DATA'!C726","v":0},{"$f":"'SHALA DARPAN DATA'!A726","v":0},{"$f":"'SHALA DARPAN DATA'!B726","v":0},{"$f":"'SHALA DARPAN DATA'!D726","v":0},{"$f":"'SHALA DARPAN DATA'!J726","v":0},{"$f":"'SHALA DARPAN DATA'!T726","v":0},{"$f":"'SHALA DARPAN DATA'!V726","v":0},{"$f":"'SHALA DARPAN DATA'!K726","v":0},{"$f":"'SHALA DARPAN DATA'!E726","v":0},{"$f":"'SHALA DARPAN DATA'!G726","v":0},{"$f":"'SHALA DARPAN DATA'!H726","v":0},{"$f":"'SHALA DARPAN DATA'!W726","v":0},{"$f":"'SHALA DARPAN DATA'!R726","v":0},{"$f":"'SHALA DARPAN DATA'!S726","v":0},{"$f":"'SHALA DARPAN DATA'!O726","v":0},0,0,0,0,0,0,0,0,0,0,0]
[{"$f":"'SHALA DARPAN DATA'!C727","v":0},{"$f":"'SHALA DARPAN DATA'!A727","v":0},{"$f":"'SHALA DARPAN DATA'!B727","v":0},{"$f":"'SHALA DARPAN DATA'!D727","v":0},{"$f":"'SHALA DARPAN DATA'!J727","v":0},{"$f":"'SHALA DARPAN DATA'!T727","v":0},{"$f":"'SHALA DARPAN DATA'!V727","v":0},{"$f":"'SHALA DARPAN DATA'!K727","v":0},{"$f":"'SHALA DARPAN DATA'!E727","v":0},{"$f":"'SHALA DARPAN DATA'!G727","v":0},{"$f":"'SHALA DARPAN DATA'!H727","v":0},{"$f":"'SHALA DARPAN DATA'!W727","v":0},{"$f":"'SHALA DARPAN DATA'!R727","v":0},{"$f":"'SHALA DARPAN DATA'!S727","v":0},{"$f":"'SHALA DARPAN DATA'!O727","v":0},0,0,0,0,0,0,0,0,0,0,0]
[{"$f":"'SHALA DARPAN DATA'!C728","v":0},{"$f":"'SHALA DARPAN DATA'!A728","v":0},{"$f":"'SHALA DARPAN DATA'!B728","v":0},{"$f":"'SHALA DARPAN DATA'!D728","v":0},{"$f":"'SHALA DARPAN DATA'!J728","v":0},{"$f":"'SHALA DARPAN DATA'!T728","v":0},{"$f":"'SHALA DARPAN DATA'!V728","v":0},{"$f":"'SHALA DARPAN DATA'!K728","v":0},{"$f":"'SHALA DARPAN DATA'!E728","v":0},{"$f":"'SHALA DARPAN DATA'!G728","v":0},{"$f":"'SHALA DARPAN DATA'!H728","v":0},{"$f":"'SHALA DARPAN DATA'!W728","v":0},{"$f":"'SHALA DARPAN DATA'!R728","v":0},{"$f":"'SHALA DARPAN DATA'!S728","v":0},{"$f":"'SHALA DARPAN DATA'!O728","v":0},0,0,0,0,0,0,0,0,0,0,0]
[{"$f":"'SHALA DARPAN DATA'!C729","v":0},{"$f":"'SHALA DARPAN DATA'!A729","v":0},{"$f":"'SHALA DARPAN DATA'!B729","v":0},{"$f":"'SHALA DARPAN DATA'!D729","v":0},{"$f":"'SHALA DARPAN DATA'!J729","v":0},{"$f":"'SHALA DARPAN DATA'!T729","v":0},{"$f":"'SHALA DARPAN DATA'!V729","v":0},{"$f":"'SHALA DARPAN DATA'!K729","v":0},{"$f":"'SHALA DARPAN DATA'!E729","v":0},{"$f":"'SHALA DARPAN DATA'!G729","v":0},{"$f":"'SHALA DARPAN DATA'!H729","v":0},{"$f":"'SHALA DARPAN DATA'!W729","v":0},{"$f":"'SHALA DARPAN DATA'!R729","v":0},{"$f":"'SHALA DARPAN DATA'!S729","v":0},{"$f":"'SHALA DARPAN DATA'!O729","v":0},0,0,0,0,0,0,0,0,0,0,0]
[{"$f":"'SHALA DARPAN DATA'!C730","v":0},{"$f":"'SHALA DARPAN DATA'!A730","v":0},{"$f":"'SHALA DARPAN DATA'!B730","v":0},{"$f":"'SHALA DARPAN DATA'!D730","v":0},{"$f":"'SHALA DARPAN DATA'!J730","v":0},{"$f":"'SHALA DARPAN DATA'!T730","v":0},{"$f":"'SHALA DARPAN DATA'!V730","v":0},{"$f":"'SHALA DARPAN DATA'!K730","v":0},{"$f":"'SHALA DARPAN DATA'!E730","v":0},{"$f":"'SHALA DARPAN DATA'!G730","v":0},{"$f":"'SHALA DARPAN DATA'!H730","v":0},{"$f":"'SHALA DARPAN DATA'!W730","v":0},{"$f":"'SHALA DARPAN DATA'!R730","v":0},{"$f":"'SHALA DARPAN DATA'!S730","v":0},{"$f":"'SHALA DARPAN DATA'!O730","v":0},0,0,0,0,0,0,0,0,0,0,0]
[{"$f":"'SHALA DARPAN DATA'!C731","v":0},{"$f":"'SHALA DARPAN DATA'!A731","v":0},{"$f":"'SHALA DARPAN DATA'!B731","v":0},{"$f":"'SHALA DARPAN DATA'!D731","v":0},{"$f":"'SHALA DARPAN DATA'!J731","v":0},{"$f":"'SHALA DARPAN DATA'!T731","v":0},{"$f":"'SHALA DARPAN DATA'!V731","v":0},{"$f":"'SHALA DARPAN DATA'!K731","v":0},{"$f":"'SHALA DARPAN DATA'!E731","v":0},{"$f":"'SHALA DARPAN DATA'!G731","v":0},{"$f":"'SHALA DARPAN DATA'!H731","v":0},{"$f":"'SHALA DARPAN DATA'!W731","v":0},{"$f":"'SHALA DARPAN DATA'!R731","v":0},{"$f":"'SHALA DARPAN DATA'!S731","v":0},{"$f":"'SHALA DARPAN DATA'!O731","v":0},0,0,0,0,0,0,0,0,0,0,0]
[{"$f":"'SHALA DARPAN DATA'!C732","v":0},{"$f":"'SHALA DARPAN DATA'!A732","v":0},{"$f":"'SHALA DARPAN DATA'!B732","v":0},{"$f":"'SHALA DARPAN DATA'!D732","v":0},{"$f":"'SHALA DARPAN DATA'!J732","v":0},{"$f":"'SHALA DARPAN DATA'!T732","v":0},{"$f":"'SHALA DARPAN DATA'!V732","v":0},{"$f":"'SHALA DARPAN DATA'!K732","v":0},{"$f":"'SHALA DARPAN DATA'!E732","v":0},{"$f":"'SHALA DARPAN DATA'!G732","v":0},{"$f":"'SHALA DARPAN DATA'!H732","v":0},{"$f":"'SHALA DARPAN DATA'!W732","v":0},{"$f":"'SHALA DARPAN DATA'!R732","v":0},{"$f":"'SHALA DARPAN DATA'!S732","v":0},{"$f":"'SHALA DARPAN DATA'!O732","v":0},0,0,0,0,0,0,0,0,0,0,0]
[{"$f":"'SHALA DARPAN DATA'!C733","v":0},{"$f":"'SHALA DARPAN DATA'!A733","v":0},{"$f":"'SHALA DARPAN DATA'!B733","v":0},{"$f":"'SHALA DARPAN DATA'!D733","v":0},{"$f":"'SHALA DARPAN DATA'!J733","v":0},{"$f":"'SHALA DARPAN DATA'!T733","v":0},{"$f":"'SHALA DARPAN DATA'!V733","v":0},{"$f":"'SHALA DARPAN DATA'!K733","v":0},{"$f":"'SHALA DARPAN DATA'!E733","v":0},{"$f":"'SHALA DARPAN DATA'!G733","v":0},{"$f":"'SHALA DARPAN DATA'!H733","v":0},{"$f":"'SHALA DARPAN DATA'!W733","v":0},{"$f":"'SHALA DARPAN DATA'!R733","v":0},{"$f":"'SHALA DARPAN DATA'!S733","v":0},{"$f":"'SHALA DARPAN DATA'!O733","v":0},0,0,0,0,0,0,0,0,0,0,0]
[{"$f":"'SHALA DARPAN DATA'!C734","v":0},{"$f":"'SHALA DARPAN DATA'!A734","v":0},{"$f":"'SHALA DARPAN DATA'!B734","v":0},{"$f":"'SHALA DARPAN DATA'!D734","v":0},{"$f":"'SHALA DARPAN DATA'!J734","v":0},{"$f":"'SHALA DARPAN DATA'!T734","v":0},{"$f":"'SHALA DARPAN DATA'!V734","v":0},{"$f":"'SHALA DARPAN DATA'!K734","v":0},{"$f":"'SHALA DARPAN DATA'!E734","v":0},{"$f":"'SHALA DARPAN DATA'!G734","v":0},{"$f":"'SHALA DARPAN DATA'!H734","v":0},{"$f":"'SHALA DARPAN DATA'!W734","v":0},{"$f":"'SHALA DARPAN DATA'!R734","v":0},{"$f":"'SHALA DARPAN DATA'!S734","v":0},{"$f":"'SHALA DARPAN DATA'!O734","v":0},0,0,0,0,0,0,0,0,0,0,0]
[{"$f":"'SHALA DARPAN DATA'!C735","v":0},{"$f":"'SHALA DARPAN DATA'!A735","v":0},{"$f":"'SHALA DARPAN DATA'!B735","v":0},{"$f":"'SHALA DARPAN DATA'!D735","v":0},{"$f":"'SHALA DARPAN DATA'!J735","v":0},{"$f":"'SHALA DARPAN DATA'!T735","v":0},{"$f":"'SHALA DARPAN DATA'!V735","v":0},{"$f":"'SHALA DARPAN DATA'!K735","v":0},{"$f":"'SHALA DARPAN DATA'!E735","v":0},{"$f":"'SHALA DARPAN DATA'!G735","v":0},{"$f":"'SHALA DARPAN DATA'!H735","v":0},{"$f":"'SHALA DARPAN DATA'!W735","v":0},{"$f":"'SHALA DARPAN DATA'!R735","v":0},{"$f":"'SHALA DARPAN DATA'!S735","v":0},{"$f":"'SHALA DARPAN DATA'!O735","v":0},0,0,0,0,0,0,0,0,0,0,0]
[{"$f":"'SHALA DARPAN DATA'!C736","v":0},{"$f":"'SHALA DARPAN DATA'!A736","v":0},{"$f":"'SHALA DARPAN DATA'!B736","v":0},{"$f":"'SHALA DARPAN DATA'!D736","v":0},{"$f":"'SHALA DARPAN DATA'!J736","v":0},{"$f":"'SHALA DARPAN DATA'!T736","v":0},{"$f":"'SHALA DARPAN DATA'!V736","v":0},{"$f":"'SHALA DARPAN DATA'!K736","v":0},{"$f":"'SHALA DARPAN DATA'!E736","v":0},{"$f":"'SHALA DARPAN DATA'!G736","v":0},{"$f":"'SHALA DARPAN DATA'!H736","v":0},{"$f":"'SHALA DARPAN DATA'!W736","v":0},{"$f":"'SHALA DARPAN DATA'!R736","v":0},{"$f":"'SHALA DARPAN DATA'!S736","v":0},{"$f":"'SHALA DARPAN DATA'!O736","v":0},0,0,0,0,0,0,0,0,0,0,0]
[{"$f":"'SHALA DARPAN DATA'!C737","v":0},{"$f":"'SHALA DARPAN DATA'!A737","v":0},{"$f":"'SHALA DARPAN DATA'!B737","v":0},{"$f":"'SHALA DARPAN DATA'!D737","v":0},{"$f":"'SHALA DARPAN DATA'!J737","v":0},{"$f":"'SHALA DARPAN DATA'!T737","v":0},{"$f":"'SHALA DARPAN DATA'!V737","v":0},{"$f":"'SHALA DARPAN DATA'!K737","v":0},{"$f":"'SHALA DARPAN DATA'!E737","v":0},{"$f":"'SHALA DARPAN DATA'!G737","v":0},{"$f":"'SHALA DARPAN DATA'!H737","v":0},{"$f":"'SHALA DARPAN DATA'!W737","v":0},{"$f":"'SHALA DARPAN DATA'!R737","v":0},{"$f":"'SHALA DARPAN DATA'!S737","v":0},{"$f":"'SHALA DARPAN DATA'!O737","v":0},0,0,0,0,0,0,0,0,0,0,0]
[{"$f":"'SHALA DARPAN DATA'!C738","v":0},{"$f":"'SHALA DARPAN DATA'!A738","v":0},{"$f":"'SHALA DARPAN DATA'!B738","v":0},{"$f":"'SHALA DARPAN DATA'!D738","v":0},{"$f":"'SHALA DARPAN DATA'!J738","v":0},{"$f":"'SHALA DARPAN DATA'!T738","v":0},{"$f":"'SHALA DARPAN DATA'!V738","v":0},{"$f":"'SHALA DARPAN DATA'!K738","v":0},{"$f":"'SHALA DARPAN DATA'!E738","v":0},{"$f":"'SHALA DARPAN DATA'!G738","v":0},{"$f":"'SHALA DARPAN DATA'!H738","v":0},{"$f":"'SHALA DARPAN DATA'!W738","v":0},{"$f":"'SHALA DARPAN DATA'!R738","v":0},{"$f":"'SHALA DARPAN DATA'!S738","v":0},{"$f":"'SHALA DARPAN DATA'!O738","v":0},0,0,0,0,0,0,0,0,0,0,0]
[{"$f":"'SHALA DARPAN DATA'!C739","v":0},{"$f":"'SHALA DARPAN DATA'!A739","v":0},{"$f":"'SHALA DARPAN DATA'!B739","v":0},{"$f":"'SHALA DARPAN DATA'!D739","v":0},{"$f":"'SHALA DARPAN DATA'!J739","v":0},{"$f":"'SHALA DARPAN DATA'!T739","v":0},{"$f":"'SHALA DARPAN DATA'!V739","v":0},{"$f":"'SHALA DARPAN DATA'!K739","v":0},{"$f":"'SHALA DARPAN DATA'!E739","v":0},{"$f":"'SHALA DARPAN DATA'!G739","v":0},{"$f":"'SHALA DARPAN DATA'!H739","v":0},{"$f":"'SHALA DARPAN DATA'!W739","v":0},{"$f":"'SHALA DARPAN DATA'!R739","v":0},{"$f":"'SHALA DARPAN DATA'!S739","v":0},{"$f":"'SHALA DARPAN DATA'!O739","v":0},0,0,0,0,0,0,0,0,0,0,0]
[{"$f":"'SHALA DARPAN DATA'!C740","v":0},{"$f":"'SHALA DARPAN DATA'!A740","v":0},{"$f":"'SHALA DARPAN DATA'!B740","v":0},{"$f":"'SHALA DARPAN DATA'!D740","v":0},{"$f":"'SHALA DARPAN DATA'!J740","v":0},{"$f":"'SHALA DARPAN DATA'!T740","v":0},{"$f":"'SHALA DARPAN DATA'!V740","v":0},{"$f":"'SHALA DARPAN DATA'!K740","v":0},{"$f":"'SHALA DARPAN DATA'!E740","v":0},{"$f":"'SHALA DARPAN DATA'!G740","v":0},{"$f":"'SHALA DARPAN DATA'!H740","v":0},{"$f":"'SHALA DARPAN DATA'!W740","v":0},{"$f":"'SHALA DARPAN DATA'!R740","v":0},{"$f":"'SHALA DARPAN DATA'!S740","v":0},{"$f":"'SHALA DARPAN DATA'!O740","v":0},0,0,0,0,0,0,0,0,0,0,0]
[{"$f":"'SHALA DARPAN DATA'!C741","v":0},{"$f":"'SHALA DARPAN DATA'!A741","v":0},{"$f":"'SHALA DARPAN DATA'!B741","v":0},{"$f":"'SHALA DARPAN DATA'!D741","v":0},{"$f":"'SHALA DARPAN DATA'!J741","v":0},{"$f":"'SHALA DARPAN DATA'!T741","v":0},{"$f":"'SHALA DARPAN DATA'!V741","v":0},{"$f":"'SHALA DARPAN DATA'!K741","v":0},{"$f":"'SHALA DARPAN DATA'!E741","v":0},{"$f":"'SHALA DARPAN DATA'!G741","v":0},{"$f":"'SHALA DARPAN DATA'!H741","v":0},{"$f":"'SHALA DARPAN DATA'!W741","v":0},{"$f":"'SHALA DARPAN DATA'!R741","v":0},{"$f":"'SHALA DARPAN DATA'!S741","v":0},{"$f":"'SHALA DARPAN DATA'!O741","v":0},0,0,0,0,0,0,0,0,0,0,0]
[{"$f":"'SHALA DARPAN DATA'!C742","v":0},{"$f":"'SHALA DARPAN DATA'!A742","v":0},{"$f":"'SHALA DARPAN DATA'!B742","v":0},{"$f":"'SHALA DARPAN DATA'!D742","v":0},{"$f":"'SHALA DARPAN DATA'!J742","v":0},{"$f":"'SHALA DARPAN DATA'!T742","v":0},{"$f":"'SHALA DARPAN DATA'!V742","v":0},{"$f":"'SHALA DARPAN DATA'!K742","v":0},{"$f":"'SHALA DARPAN DATA'!E742","v":0},{"$f":"'SHALA DARPAN DATA'!G742","v":0},{"$f":"'SHALA DARPAN DATA'!H742","v":0},{"$f":"'SHALA DARPAN DATA'!W742","v":0},{"$f":"'SHALA DARPAN DATA'!R742","v":0},{"$f":"'SHALA DARPAN DATA'!S742","v":0},{"$f":"'SHALA DARPAN DATA'!O742","v":0},0,0,0,0,0,0,0,0,0,0,0]
[{"$f":"'SHALA DARPAN DATA'!C743","v":0},{"$f":"'SHALA DARPAN DATA'!A743","v":0},{"$f":"'SHALA DARPAN DATA'!B743","v":0},{"$f":"'SHALA DARPAN DATA'!D743","v":0},{"$f":"'SHALA DARPAN DATA'!J743","v":0},{"$f":"'SHALA DARPAN DATA'!T743","v":0},{"$f":"'SHALA DARPAN DATA'!V743","v":0},{"$f":"'SHALA DARPAN DATA'!K743","v":0},{"$f":"'SHALA DARPAN DATA'!E743","v":0},{"$f":"'SHALA DARPAN DATA'!G743","v":0},{"$f":"'SHALA DARPAN DATA'!H743","v":0},{"$f":"'SHALA DARPAN DATA'!W743","v":0},{"$f":"'SHALA DARPAN DATA'!R743","v":0},{"$f":"'SHALA DARPAN DATA'!S743","v":0},{"$f":"'SHALA DARPAN DATA'!O743","v":0},0,0,0,0,0,0,0,0,0,0,0]
[{"$f":"'SHALA DARPAN DATA'!C744","v":0},{"$f":"'SHALA DARPAN DATA'!A744","v":0},{"$f":"'SHALA DARPAN DATA'!B744","v":0},{"$f":"'SHALA DARPAN DATA'!D744","v":0},{"$f":"'SHALA DARPAN DATA'!J744","v":0},{"$f":"'SHALA DARPAN DATA'!T744","v":0},{"$f":"'SHALA DARPAN DATA'!V744","v":0},{"$f":"'SHALA DARPAN DATA'!K744","v":0},{"$f":"'SHALA DARPAN DATA'!E744","v":0},{"$f":"'SHALA DARPAN DATA'!G744","v":0},{"$f":"'SHALA DARPAN DATA'!H744","v":0},{"$f":"'SHALA DARPAN DATA'!W744","v":0},{"$f":"'SHALA DARPAN DATA'!R744","v":0},{"$f":"'SHALA DARPAN DATA'!S744","v":0},{"$f":"'SHALA DARPAN DATA'!O744","v":0},0,0,0,0,0,0,0,0,0,0,0]
[{"$f":"'SHALA DARPAN DATA'!C745","v":0},{"$f":"'SHALA DARPAN DATA'!A745","v":0},{"$f":"'SHALA DARPAN DATA'!B745","v":0},{"$f":"'SHALA DARPAN DATA'!D745","v":0},{"$f":"'SHALA DARPAN DATA'!J745","v":0},{"$f":"'SHALA DARPAN DATA'!T745","v":0},{"$f":"'SHALA DARPAN DATA'!V745","v":0},{"$f":"'SHALA DARPAN DATA'!K745","v":0},{"$f":"'SHALA DARPAN DATA'!E745","v":0},{"$f":"'SHALA DARPAN DATA'!G745","v":0},{"$f":"'SHALA DARPAN DATA'!H745","v":0},{"$f":"'SHALA DARPAN DATA'!W745","v":0},{"$f":"'SHALA DARPAN DATA'!R745","v":0},{"$f":"'SHALA DARPAN DATA'!S745","v":0},{"$f":"'SHALA DARPAN DATA'!O745","v":0},0,0,0,0,0,0,0,0,0,0,0]
[{"$f":"'SHALA DARPAN DATA'!C746","v":0},{"$f":"'SHALA DARPAN DATA'!A746","v":0},{"$f":"'SHALA DARPAN DATA'!B746","v":0},{"$f":"'SHALA DARPAN DATA'!D746","v":0},{"$f":"'SHALA DARPAN DATA'!J746","v":0},{"$f":"'SHALA DARPAN DATA'!T746","v":0},{"$f":"'SHALA DARPAN DATA'!V746","v":0},{"$f":"'SHALA DARPAN DATA'!K746","v":0},{"$f":"'SHALA DARPAN DATA'!E746","v":0},{"$f":"'SHALA DARPAN DATA'!G746","v":0},{"$f":"'SHALA DARPAN DATA'!H746","v":0},{"$f":"'SHALA DARPAN DATA'!W746","v":0},{"$f":"'SHALA DARPAN DATA'!R746","v":0},{"$f":"'SHALA DARPAN DATA'!S746","v":0},{"$f":"'SHALA DARPAN DATA'!O746","v":0},0,0,0,0,0,0,0,0,0,0,0]
[{"$f":"'SHALA DARPAN DATA'!C747","v":0},{"$f":"'SHALA DARPAN DATA'!A747","v":0},{"$f":"'SHALA DARPAN DATA'!B747","v":0},{"$f":"'SHALA DARPAN DATA'!D747","v":0},{"$f":"'SHALA DARPAN DATA'!J747","v":0},{"$f":"'SHALA DARPAN DATA'!T747","v":0},{"$f":"'SHALA DARPAN DATA'!V747","v":0},{"$f":"'SHALA DARPAN DATA'!K747","v":0},{"$f":"'SHALA DARPAN DATA'!E747","v":0},{"$f":"'SHALA DARPAN DATA'!G747","v":0},{"$f":"'SHALA DARPAN DATA'!H747","v":0},{"$f":"'SHALA DARPAN DATA'!W747","v":0},{"$f":"'SHALA DARPAN DATA'!R747","v":0},{"$f":"'SHALA DARPAN DATA'!S747","v":0},{"$f":"'SHALA DARPAN DATA'!O747","v":0},0,0,0,0,0,0,0,0,0,0,0]
[{"$f":"'SHALA DARPAN DATA'!C748","v":0},{"$f":"'SHALA DARPAN DATA'!A748","v":0},{"$f":"'SHALA DARPAN DATA'!B748","v":0},{"$f":"'SHALA DARPAN DATA'!D748","v":0},{"$f":"'SHALA DARPAN DATA'!J748","v":0},{"$f":"'SHALA DARPAN DATA'!T748","v":0},{"$f":"'SHALA DARPAN DATA'!V748","v":0},{"$f":"'SHALA DARPAN DATA'!K748","v":0},{"$f":"'SHALA DARPAN DATA'!E748","v":0},{"$f":"'SHALA DARPAN DATA'!G748","v":0},{"$f":"'SHALA DARPAN DATA'!H748","v":0},{"$f":"'SHALA DARPAN DATA'!W748","v":0},{"$f":"'SHALA DARPAN DATA'!R748","v":0},{"$f":"'SHALA DARPAN DATA'!S748","v":0},{"$f":"'SHALA DARPAN DATA'!O748","v":0},0,0,0,0,0,0,0,0,0,0,0]
[{"$f":"'SHALA DARPAN DATA'!C749","v":0},{"$f":"'SHALA DARPAN DATA'!A749","v":0},{"$f":"'SHALA DARPAN DATA'!B749","v":0},{"$f":"'SHALA DARPAN DATA'!D749","v":0},{"$f":"'SHALA DARPAN DATA'!J749","v":0},{"$f":"'SHALA DARPAN DATA'!T749","v":0},{"$f":"'SHALA DARPAN DATA'!V749","v":0},{"$f":"'SHALA DARPAN DATA'!K749","v":0},{"$f":"'SHALA DARPAN DATA'!E749","v":0},{"$f":"'SHALA DARPAN DATA'!G749","v":0},{"$f":"'SHALA DARPAN DATA'!H749","v":0},{"$f":"'SHALA DARPAN DATA'!W749","v":0},{"$f":"'SHALA DARPAN DATA'!R749","v":0},{"$f":"'SHALA DARPAN DATA'!S749","v":0},{"$f":"'SHALA DARPAN DATA'!O749","v":0},0,0,0,0,0,0,0,0,0,0,0]
[{"$f":"'SHALA DARPAN DATA'!C750","v":0},{"$f":"'SHALA DARPAN DATA'!A750","v":0},{"$f":"'SHALA DARPAN DATA'!B750","v":0},{"$f":"'SHALA DARPAN DATA'!D750","v":0},{"$f":"'SHALA DARPAN DATA'!J750","v":0},{"$f":"'SHALA DARPAN DATA'!T750","v":0},{"$f":"'SHALA DARPAN DATA'!V750","v":0},{"$f":"'SHALA DARPAN DATA'!K750","v":0},{"$f":"'SHALA DARPAN DATA'!E750","v":0},{"$f":"'SHALA DARPAN DATA'!G750","v":0},{"$f":"'SHALA DARPAN DATA'!H750","v":0},{"$f":"'SHALA DARPAN DATA'!W750","v":0},{"$f":"'SHALA DARPAN DATA'!R750","v":0},{"$f":"'SHALA DARPAN DATA'!S750","v":0},{"$f":"'SHALA DARPAN DATA'!O750","v":0},0,0,0,0,0,0,0,0,0,0,0]
[{"$f":"'SHALA DARPAN DATA'!C751","v":0},{"$f":"'SHALA DARPAN DATA'!A751","v":0},{"$f":"'SHALA DARPAN DATA'!B751","v":0},{"$f":"'SHALA DARPAN DATA'!D751","v":0},{"$f":"'SHALA DARPAN DATA'!J751","v":0},{"$f":"'SHALA DARPAN DATA'!T751","v":0},{"$f":"'SHALA DARPAN DATA'!V751","v":0},{"$f":"'SHALA DARPAN DATA'!K751","v":0},{"$f":"'SHALA DARPAN DATA'!E751","v":0},{"$f":"'SHALA DARPAN DATA'!G751","v":0},{"$f":"'SHALA DARPAN DATA'!H751","v":0},{"$f":"'SHALA DARPAN DATA'!W751","v":0},{"$f":"'SHALA DARPAN DATA'!R751","v":0},{"$f":"'SHALA DARPAN DATA'!S751","v":0},{"$f":"'SHALA DARPAN DATA'!O751","v":0},0,0,0,0,0,0,0,0,0,0,0]
[{"$f":"'SHALA DARPAN DATA'!C752","v":0},{"$f":"'SHALA DARPAN DATA'!A752","v":0},{"$f":"'SHALA DARPAN DATA'!B752","v":0},{"$f":"'SHALA DARPAN DATA'!D752","v":0},{"$f":"'SHALA DARPAN DATA'!J752","v":0},{"$f":"'SHALA DARPAN DATA'!T752","v":0},{"$f":"'SHALA DARPAN DATA'!V752","v":0},{"$f":"'SHALA DARPAN DATA'!K752","v":0},{"$f":"'SHALA DARPAN DATA'!E752","v":0},{"$f":"'SHALA DARPAN DATA'!G752","v":0},{"$f":"'SHALA DARPAN DATA'!H752","v":0},{"$f":"'SHALA DARPAN DATA'!W752","v":0},{"$f":"'SHALA DARPAN DATA'!R752","v":0},{"$f":"'SHALA DARPAN DATA'!S752","v":0},{"$f":"'SHALA DARPAN DATA'!O752","v":0},0,0,0,0,0,0,0,0,0,0,0]
[{"$f":"'SHALA DARPAN DATA'!C753","v":0},{"$f":"'SHALA DARPAN DATA'!A753","v":0},{"$f":"'SHALA DARPAN DATA'!B753","v":0},{"$f":"'SHALA DARPAN DATA'!D753","v":0},{"$f":"'SHALA DARPAN DATA'!J753","v":0},{"$f":"'SHALA DARPAN DATA'!T753","v":0},{"$f":"'SHALA DARPAN DATA'!V753","v":0},{"$f":"'SHALA DARPAN DATA'!K753","v":0},{"$f":"'SHALA DARPAN DATA'!E753","v":0},{"$f":"'SHALA DARPAN DATA'!G753","v":0},{"$f":"'SHALA DARPAN DATA'!H753","v":0},{"$f":"'SHALA DARPAN DATA'!W753","v":0},{"$f":"'SHALA DARPAN DATA'!R753","v":0},{"$f":"'SHALA DARPAN DATA'!S753","v":0},{"$f":"'SHALA DARPAN DATA'!O753","v":0},0,0,0,0,0,0,0,0,0,0,0]
[{"$f":"'SHALA DARPAN DATA'!C754","v":0},{"$f":"'SHALA DARPAN DATA'!A754","v":0},{"$f":"'SHALA DARPAN DATA'!B754","v":0},{"$f":"'SHALA DARPAN DATA'!D754","v":0},{"$f":"'SHALA DARPAN DATA'!J754","v":0},{"$f":"'SHALA DARPAN DATA'!T754","v":0},{"$f":"'SHALA DARPAN DATA'!V754","v":0},{"$f":"'SHALA DARPAN DATA'!K754","v":0},{"$f":"'SHALA DARPAN DATA'!E754","v":0},{"$f":"'SHALA DARPAN DATA'!G754","v":0},{"$f":"'SHALA DARPAN DATA'!H754","v":0},{"$f":"'SHALA DARPAN DATA'!W754","v":0},{"$f":"'SHALA DARPAN DATA'!R754","v":0},{"$f":"'SHALA DARPAN DATA'!S754","v":0},{"$f":"'SHALA DARPAN DATA'!O754","v":0},0,0,0,0,0,0,0,0,0,0,0]
[{"$f":"'SHALA DARPAN DATA'!C755","v":0},{"$f":"'SHALA DARPAN DATA'!A755","v":0},{"$f":"'SHALA DARPAN DATA'!B755","v":0},{"$f":"'SHALA DARPAN DATA'!D755","v":0},{"$f":"'SHALA DARPAN DATA'!J755","v":0},{"$f":"'SHALA DARPAN DATA'!T755","v":0},{"$f":"'SHALA DARPAN DATA'!V755","v":0},{"$f":"'SHALA DARPAN DATA'!K755","v":0},{"$f":"'SHALA DARPAN DATA'!E755","v":0},{"$f":"'SHALA DARPAN DATA'!G755","v":0},{"$f":"'SHALA DARPAN DATA'!H755","v":0},{"$f":"'SHALA DARPAN DATA'!W755","v":0},{"$f":"'SHALA DARPAN DATA'!R755","v":0},{"$f":"'SHALA DARPAN DATA'!S755","v":0},{"$f":"'SHALA DARPAN DATA'!O755","v":0},0,0,0,0,0,0,0,0,0,0,0]
[{"$f":"'SHALA DARPAN DATA'!C756","v":0},{"$f":"'SHALA DARPAN DATA'!A756","v":0},{"$f":"'SHALA DARPAN DATA'!B756","v":0},{"$f":"'SHALA DARPAN DATA'!D756","v":0},{"$f":"'SHALA DARPAN DATA'!J756","v":0},{"$f":"'SHALA DARPAN DATA'!T756","v":0},{"$f":"'SHALA DARPAN DATA'!V756","v":0},{"$f":"'SHALA DARPAN DATA'!K756","v":0},{"$f":"'SHALA DARPAN DATA'!E756","v":0},{"$f":"'SHALA DARPAN DATA'!G756","v":0},{"$f":"'SHALA DARPAN DATA'!H756","v":0},{"$f":"'SHALA DARPAN DATA'!W756","v":0},{"$f":"'SHALA DARPAN DATA'!R756","v":0},{"$f":"'SHALA DARPAN DATA'!S756","v":0},{"$f":"'SHALA DARPAN DATA'!O756","v":0},0,0,0,0,0,0,0,0,0,0,0]
[{"$f":"'SHALA DARPAN DATA'!C757","v":0},{"$f":"'SHALA DARPAN DATA'!A757","v":0},{"$f":"'SHALA DARPAN DATA'!B757","v":0},{"$f":"'SHALA DARPAN DATA'!D757","v":0},{"$f":"'SHALA DARPAN DATA'!J757","v":0},{"$f":"'SHALA DARPAN DATA'!T757","v":0},{"$f":"'SHALA DARPAN DATA'!V757","v":0},{"$f":"'SHALA DARPAN DATA'!K757","v":0},{"$f":"'SHALA DARPAN DATA'!E757","v":0},{"$f":"'SHALA DARPAN DATA'!G757","v":0},{"$f":"'SHALA DARPAN DATA'!H757","v":0},{"$f":"'SHALA DARPAN DATA'!W757","v":0},{"$f":"'SHALA DARPAN DATA'!R757","v":0},{"$f":"'SHALA DARPAN DATA'!S757","v":0},{"$f":"'SHALA DARPAN DATA'!O757","v":0},0,0,0,0,0,0,0,0,0,0,0]
[{"$f":"'SHALA DARPAN DATA'!C758","v":0},{"$f":"'SHALA DARPAN DATA'!A758","v":0},{"$f":"'SHALA DARPAN DATA'!B758","v":0},{"$f":"'SHALA DARPAN DATA'!D758","v":0},{"$f":"'SHALA DARPAN DATA'!J758","v":0},{"$f":"'SHALA DARPAN DATA'!T758","v":0},{"$f":"'SHALA DARPAN DATA'!V758","v":0},{"$f":"'SHALA DARPAN DATA'!K758","v":0},{"$f":"'SHALA DARPAN DATA'!E758","v":0},{"$f":"'SHALA DARPAN DATA'!G758","v":0},{"$f":"'SHALA DARPAN DATA'!H758","v":0},{"$f":"'SHALA DARPAN DATA'!W758","v":0},{"$f":"'SHALA DARPAN DATA'!R758","v":0},{"$f":"'SHALA DARPAN DATA'!S758","v":0},{"$f":"'SHALA DARPAN DATA'!O758","v":0},0,0,0,0,0,0,0,0,0,0,0]
[{"$f":"'SHALA DARPAN DATA'!C759","v":0},{"$f":"'SHALA DARPAN DATA'!A759","v":0},{"$f":"'SHALA DARPAN DATA'!B759","v":0},{"$f":"'SHALA DARPAN DATA'!D759","v":0},{"$f":"'SHALA DARPAN DATA'!J759","v":0},{"$f":"'SHALA DARPAN DATA'!T759","v":0},{"$f":"'SHALA DARPAN DATA'!V759","v":0},{"$f":"'SHALA DARPAN DATA'!K759","v":0},{"$f":"'SHALA DARPAN DATA'!E759","v":0},{"$f":"'SHALA DARPAN DATA'!G759","v":0},{"$f":"'SHALA DARPAN DATA'!H759","v":0},{"$f":"'SHALA DARPAN DATA'!W759","v":0},{"$f":"'SHALA DARPAN DATA'!R759","v":0},{"$f":"'SHALA DARPAN DATA'!S759","v":0},{"$f":"'SHALA DARPAN DATA'!O759","v":0},0,0,0,0,0,0,0,0,0,0,0]
[{"$f":"'SHALA DARPAN DATA'!C760","v":0},{"$f":"'SHALA DARPAN DATA'!A760","v":0},{"$f":"'SHALA DARPAN DATA'!B760","v":0},{"$f":"'SHALA DARPAN DATA'!D760","v":0},{"$f":"'SHALA DARPAN DATA'!J760","v":0},{"$f":"'SHALA DARPAN DATA'!T760","v":0},{"$f":"'SHALA DARPAN DATA'!V760","v":0},{"$f":"'SHALA DARPAN DATA'!K760","v":0},{"$f":"'SHALA DARPAN DATA'!E760","v":0},{"$f":"'SHALA DARPAN DATA'!G760","v":0},{"$f":"'SHALA DARPAN DATA'!H760","v":0},{"$f":"'SHALA DARPAN DATA'!W760","v":0},{"$f":"'SHALA DARPAN DATA'!R760","v":0},{"$f":"'SHALA DARPAN DATA'!S760","v":0},{"$f":"'SHALA DARPAN DATA'!O760","v":0},0,0,0,0,0,0,0,0,0,0,0]
[{"$f":"'SHALA DARPAN DATA'!C761","v":0},{"$f":"'SHALA DARPAN DATA'!A761","v":0},{"$f":"'SHALA DARPAN DATA'!B761","v":0},{"$f":"'SHALA DARPAN DATA'!D761","v":0},{"$f":"'SHALA DARPAN DATA'!J761","v":0},{"$f":"'SHALA DARPAN DATA'!T761","v":0},{"$f":"'SHALA DARPAN DATA'!V761","v":0},{"$f":"'SHALA DARPAN DATA'!K761","v":0},{"$f":"'SHALA DARPAN DATA'!E761","v":0},{"$f":"'SHALA DARPAN DATA'!G761","v":0},{"$f":"'SHALA DARPAN DATA'!H761","v":0},{"$f":"'SHALA DARPAN DATA'!W761","v":0},{"$f":"'SHALA DARPAN DATA'!R761","v":0},{"$f":"'SHALA DARPAN DATA'!S761","v":0},{"$f":"'SHALA DARPAN DATA'!O761","v":0},0,0,0,0,0,0,0,0,0,0,0]
[{"$f":"'SHALA DARPAN DATA'!C762","v":0},{"$f":"'SHALA DARPAN DATA'!A762","v":0},{"$f":"'SHALA DARPAN DATA'!B762","v":0},{"$f":"'SHALA DARPAN DATA'!D762","v":0},{"$f":"'SHALA DARPAN DATA'!J762","v":0},{"$f":"'SHALA DARPAN DATA'!T762","v":0},{"$f":"'SHALA DARPAN DATA'!V762","v":0},{"$f":"'SHALA DARPAN DATA'!K762","v":0},{"$f":"'SHALA DARPAN DATA'!E762","v":0},{"$f":"'SHALA DARPAN DATA'!G762","v":0},{"$f":"'SHALA DARPAN DATA'!H762","v":0},{"$f":"'SHALA DARPAN DATA'!W762","v":0},{"$f":"'SHALA DARPAN DATA'!R762","v":0},{"$f":"'SHALA DARPAN DATA'!S762","v":0},{"$f":"'SHALA DARPAN DATA'!O762","v":0},0,0,0,0,0,0,0,0,0,0,0]
[{"$f":"'SHALA DARPAN DATA'!C763","v":0},{"$f":"'SHALA DARPAN DATA'!A763","v":0},{"$f":"'SHALA DARPAN DATA'!B763","v":0},{"$f":"'SHALA DARPAN DATA'!D763","v":0},{"$f":"'SHALA DARPAN DATA'!J763","v":0},{"$f":"'SHALA DARPAN DATA'!T763","v":0},{"$f":"'SHALA DARPAN DATA'!V763","v":0},{"$f":"'SHALA DARPAN DATA'!K763","v":0},{"$f":"'SHALA DARPAN DATA'!E763","v":0},{"$f":"'SHALA DARPAN DATA'!G763","v":0},{"$f":"'SHALA DARPAN DATA'!H763","v":0},{"$f":"'SHALA DARPAN DATA'!W763","v":0},{"$f":"'SHALA DARPAN DATA'!R763","v":0},{"$f":"'SHALA DARPAN DATA'!S763","v":0},{"$f":"'SHALA DARPAN DATA'!O763","v":0},0,0,0,0,0,0,0,0,0,0,0]
[{"$f":"'SHALA DARPAN DATA'!C764","v":0},{"$f":"'SHALA DARPAN DATA'!A764","v":0},{"$f":"'SHALA DARPAN DATA'!B764","v":0},{"$f":"'SHALA DARPAN DATA'!D764","v":0},{"$f":"'SHALA DARPAN DATA'!J764","v":0},{"$f":"'SHALA DARPAN DATA'!T764","v":0},{"$f":"'SHALA DARPAN DATA'!V764","v":0},{"$f":"'SHALA DARPAN DATA'!K764","v":0},{"$f":"'SHALA DARPAN DATA'!E764","v":0},{"$f":"'SHALA DARPAN DATA'!G764","v":0},{"$f":"'SHALA DARPAN DATA'!H764","v":0},{"$f":"'SHALA DARPAN DATA'!W764","v":0},{"$f":"'SHALA DARPAN DATA'!R764","v":0},{"$f":"'SHALA DARPAN DATA'!S764","v":0},{"$f":"'SHALA DARPAN DATA'!O764","v":0},0,0,0,0,0,0,0,0,0,0,0]
[{"$f":"'SHALA DARPAN DATA'!C765","v":0},{"$f":"'SHALA DARPAN DATA'!A765","v":0},{"$f":"'SHALA DARPAN DATA'!B765","v":0},{"$f":"'SHALA DARPAN DATA'!D765","v":0},{"$f":"'SHALA DARPAN DATA'!J765","v":0},{"$f":"'SHALA DARPAN DATA'!T765","v":0},{"$f":"'SHALA DARPAN DATA'!V765","v":0},{"$f":"'SHALA DARPAN DATA'!K765","v":0},{"$f":"'SHALA DARPAN DATA'!E765","v":0},{"$f":"'SHALA DARPAN DATA'!G765","v":0},{"$f":"'SHALA DARPAN DATA'!H765","v":0},{"$f":"'SHALA DARPAN DATA'!W765","v":0},{"$f":"'SHALA DARPAN DATA'!R765","v":0},{"$f":"'SHALA DARPAN DATA'!S765","v":0},{"$f":"'SHALA DARPAN DATA'!O765","v":0},0,0,0,0,0,0,0,0,0,0,0]
[{"$f":"'SHALA DARPAN DATA'!C766","v":0},{"$f":"'SHALA DARPAN DATA'!A766","v":0},{"$f":"'SHALA DARPAN DATA'!B766","v":0},{"$f":"'SHALA DARPAN DATA'!D766","v":0},{"$f":"'SHALA DARPAN DATA'!J766","v":0},{"$f":"'SHALA DARPAN DATA'!T766","v":0},{"$f":"'SHALA DARPAN DATA'!V766","v":0},{"$f":"'SHALA DARPAN DATA'!K766","v":0},{"$f":"'SHALA DARPAN DATA'!E766","v":0},{"$f":"'SHALA DARPAN DATA'!G766","v":0},{"$f":"'SHALA DARPAN DATA'!H766","v":0},{"$f":"'SHALA DARPAN DATA'!W766","v":0},{"$f":"'SHALA DARPAN DATA'!R766","v":0},{"$f":"'SHALA DARPAN DATA'!S766","v":0},{"$f":"'SHALA DARPAN DATA'!O766","v":0},0,0,0,0,0,0,0,0,0,0,0]
[{"$f":"'SHALA DARPAN DATA'!C767","v":0},{"$f":"'SHALA DARPAN DATA'!A767","v":0},{"$f":"'SHALA DARPAN DATA'!B767","v":0},{"$f":"'SHALA DARPAN DATA'!D767","v":0},{"$f":"'SHALA DARPAN DATA'!J767","v":0},{"$f":"'SHALA DARPAN DATA'!T767","v":0},{"$f":"'SHALA DARPAN DATA'!V767","v":0},{"$f":"'SHALA DARPAN DATA'!K767","v":0},{"$f":"'SHALA DARPAN DATA'!E767","v":0},{"$f":"'SHALA DARPAN DATA'!G767","v":0},{"$f":"'SHALA DARPAN DATA'!H767","v":0},{"$f":"'SHALA DARPAN DATA'!W767","v":0},{"$f":"'SHALA DARPAN DATA'!R767","v":0},{"$f":"'SHALA DARPAN DATA'!S767","v":0},{"$f":"'SHALA DARPAN DATA'!O767","v":0},0,0,0,0,0,0,0,0,0,0,0]
[{"$f":"'SHALA DARPAN DATA'!C768","v":0},{"$f":"'SHALA DARPAN DATA'!A768","v":0},{"$f":"'SHALA DARPAN DATA'!B768","v":0},{"$f":"'SHALA DARPAN DATA'!D768","v":0},{"$f":"'SHALA DARPAN DATA'!J768","v":0},{"$f":"'SHALA DARPAN DATA'!T768","v":0},{"$f":"'SHALA DARPAN DATA'!V768","v":0},{"$f":"'SHALA DARPAN DATA'!K768","v":0},{"$f":"'SHALA DARPAN DATA'!E768","v":0},{"$f":"'SHALA DARPAN DATA'!G768","v":0},{"$f":"'SHALA DARPAN DATA'!H768","v":0},{"$f":"'SHALA DARPAN DATA'!W768","v":0},{"$f":"'SHALA DARPAN DATA'!R768","v":0},{"$f":"'SHALA DARPAN DATA'!S768","v":0},{"$f":"'SHALA DARPAN DATA'!O768","v":0},0,0,0,0,0,0,0,0,0,0,0]
[{"$f":"'SHALA DARPAN DATA'!C769","v":0},{"$f":"'SHALA DARPAN DATA'!A769","v":0},{"$f":"'SHALA DARPAN DATA'!B769","v":0},{"$f":"'SHALA DARPAN DATA'!D769","v":0},{"$f":"'SHALA DARPAN DATA'!J769","v":0},{"$f":"'SHALA DARPAN DATA'!T769","v":0},{"$f":"'SHALA DARPAN DATA'!V769","v":0},{"$f":"'SHALA DARPAN DATA'!K769","v":0},{"$f":"'SHALA DARPAN DATA'!E769","v":0},{"$f":"'SHALA DARPAN DATA'!G769","v":0},{"$f":"'SHALA DARPAN DATA'!H769","v":0},{"$f":"'SHALA DARPAN DATA'!W769","v":0},{"$f":"'SHALA DARPAN DATA'!R769","v":0},{"$f":"'SHALA DARPAN DATA'!S769","v":0},{"$f":"'SHALA DARPAN DATA'!O769","v":0},0,0,0,0,0,0,0,0,0,0,0]
[{"$f":"'SHALA DARPAN DATA'!C770","v":0},{"$f":"'SHALA DARPAN DATA'!A770","v":0},{"$f":"'SHALA DARPAN DATA'!B770","v":0},{"$f":"'SHALA DARPAN DATA'!D770","v":0},{"$f":"'SHALA DARPAN DATA'!J770","v":0},{"$f":"'SHALA DARPAN DATA'!T770","v":0},{"$f":"'SHALA DARPAN DATA'!V770","v":0},{"$f":"'SHALA DARPAN DATA'!K770","v":0},{"$f":"'SHALA DARPAN DATA'!E770","v":0},{"$f":"'SHALA DARPAN DATA'!G770","v":0},{"$f":"'SHALA DARPAN DATA'!H770","v":0},{"$f":"'SHALA DARPAN DATA'!W770","v":0},{"$f":"'SHALA DARPAN DATA'!R770","v":0},{"$f":"'SHALA DARPAN DATA'!S770","v":0},{"$f":"'SHALA DARPAN DATA'!O770","v":0},0,0,0,0,0,0,0,0,0,0,0]
[{"$f":"'SHALA DARPAN DATA'!C771","v":0},{"$f":"'SHALA DARPAN DATA'!A771","v":0},{"$f":"'SHALA DARPAN DATA'!B771","v":0},{"$f":"'SHALA DARPAN DATA'!D771","v":0},{"$f":"'SHALA DARPAN DATA'!J771","v":0},{"$f":"'SHALA DARPAN DATA'!T771","v":0},{"$f":"'SHALA DARPAN DATA'!V771","v":0},{"$f":"'SHALA DARPAN DATA'!K771","v":0},{"$f":"'SHALA DARPAN DATA'!E771","v":0},{"$f":"'SHALA DARPAN DATA'!G771","v":0},{"$f":"'SHALA DARPAN DATA'!H771","v":0},{"$f":"'SHALA DARPAN DATA'!W771","v":0},{"$f":"'SHALA DARPAN DATA'!R771","v":0},{"$f":"'SHALA DARPAN DATA'!S771","v":0},{"$f":"'SHALA DARPAN DATA'!O771","v":0},0,0,0,0,0,0,0,0,0,0,0]
[{"$f":"'SHALA DARPAN DATA'!C772","v":0},{"$f":"'SHALA DARPAN DATA'!A772","v":0},{"$f":"'SHALA DARPAN DATA'!B772","v":0},{"$f":"'SHALA DARPAN DATA'!D772","v":0},{"$f":"'SHALA DARPAN DATA'!J772","v":0},{"$f":"'SHALA DARPAN DATA'!T772","v":0},{"$f":"'SHALA DARPAN DATA'!V772","v":0},{"$f":"'SHALA DARPAN DATA'!K772","v":0},{"$f":"'SHALA DARPAN DATA'!E772","v":0},{"$f":"'SHALA DARPAN DATA'!G772","v":0},{"$f":"'SHALA DARPAN DATA'!H772","v":0},{"$f":"'SHALA DARPAN DATA'!W772","v":0},{"$f":"'SHALA DARPAN DATA'!R772","v":0},{"$f":"'SHALA DARPAN DATA'!S772","v":0},{"$f":"'SHALA DARPAN DATA'!O772","v":0},0,0,0,0,0,0,0,0,0,0,0]
[{"$f":"'SHALA DARPAN DATA'!C773","v":0},{"$f":"'SHALA DARPAN DATA'!A773","v":0},{"$f":"'SHALA DARPAN DATA'!B773","v":0},{"$f":"'SHALA DARPAN DATA'!D773","v":0},{"$f":"'SHALA DARPAN DATA'!J773","v":0},{"$f":"'SHALA DARPAN DATA'!T773","v":0},{"$f":"'SHALA DARPAN DATA'!V773","v":0},{"$f":"'SHALA DARPAN DATA'!K773","v":0},{"$f":"'SHALA DARPAN DATA'!E773","v":0},{"$f":"'SHALA DARPAN DATA'!G773","v":0},{"$f":"'SHALA DARPAN DATA'!H773","v":0},{"$f":"'SHALA DARPAN DATA'!W773","v":0},{"$f":"'SHALA DARPAN DATA'!R773","v":0},{"$f":"'SHALA DARPAN DATA'!S773","v":0},{"$f":"'SHALA DARPAN DATA'!O773","v":0},0,0,0,0,0,0,0,0,0,0,0]
[{"$f":"'SHALA DARPAN DATA'!C774","v":0},{"$f":"'SHALA DARPAN DATA'!A774","v":0},{"$f":"'SHALA DARPAN DATA'!B774","v":0},{"$f":"'SHALA DARPAN DATA'!D774","v":0},{"$f":"'SHALA DARPAN DATA'!J774","v":0},{"$f":"'SHALA DARPAN DATA'!T774","v":0},{"$f":"'SHALA DARPAN DATA'!V774","v":0},{"$f":"'SHALA DARPAN DATA'!K774","v":0},{"$f":"'SHALA DARPAN DATA'!E774","v":0},{"$f":"'SHALA DARPAN DATA'!G774","v":0},{"$f":"'SHALA DARPAN DATA'!H774","v":0},{"$f":"'SHALA DARPAN DATA'!W774","v":0},{"$f":"'SHALA DARPAN DATA'!R774","v":0},{"$f":"'SHALA DARPAN DATA'!S774","v":0},{"$f":"'SHALA DARPAN DATA'!O774","v":0},0,0,0,0,0,0,0,0,0,0,0]
[{"$f":"'SHALA DARPAN DATA'!C775","v":0},{"$f":"'SHALA DARPAN DATA'!A775","v":0},{"$f":"'SHALA DARPAN DATA'!B775","v":0},{"$f":"'SHALA DARPAN DATA'!D775","v":0},{"$f":"'SHALA DARPAN DATA'!J775","v":0},{"$f":"'SHALA DARPAN DATA'!T775","v":0},{"$f":"'SHALA DARPAN DATA'!V775","v":0},{"$f":"'SHALA DARPAN DATA'!K775","v":0},{"$f":"'SHALA DARPAN DATA'!E775","v":0},{"$f":"'SHALA DARPAN DATA'!G775","v":0},{"$f":"'SHALA DARPAN DATA'!H775","v":0},{"$f":"'SHALA DARPAN DATA'!W775","v":0},{"$f":"'SHALA DARPAN DATA'!R775","v":0},{"$f":"'SHALA DARPAN DATA'!S775","v":0},{"$f":"'SHALA DARPAN DATA'!O775","v":0},0,0,0,0,0,0,0,0,0,0,0]
[{"$f":"'SHALA DARPAN DATA'!C776","v":0},{"$f":"'SHALA DARPAN DATA'!A776","v":0},{"$f":"'SHALA DARPAN DATA'!B776","v":0},{"$f":"'SHALA DARPAN DATA'!D776","v":0},{"$f":"'SHALA DARPAN DATA'!J776","v":0},{"$f":"'SHALA DARPAN DATA'!T776","v":0},{"$f":"'SHALA DARPAN DATA'!V776","v":0},{"$f":"'SHALA DARPAN DATA'!K776","v":0},{"$f":"'SHALA DARPAN DATA'!E776","v":0},{"$f":"'SHALA DARPAN DATA'!G776","v":0},{"$f":"'SHALA DARPAN DATA'!H776","v":0},{"$f":"'SHALA DARPAN DATA'!W776","v":0},{"$f":"'SHALA DARPAN DATA'!R776","v":0},{"$f":"'SHALA DARPAN DATA'!S776","v":0},{"$f":"'SHALA DARPAN DATA'!O776","v":0},0,0,0,0,0,0,0,0,0,0,0]
[{"$f":"'SHALA DARPAN DATA'!C777","v":0},{"$f":"'SHALA DARPAN DATA'!A777","v":0},{"$f":"'SHALA DARPAN DATA'!B777","v":0},{"$f":"'SHALA DARPAN DATA'!D777","v":0},{"$f":"'SHALA DARPAN DATA'!J777","v":0},{"$f":"'SHALA DARPAN DATA'!T777","v":0},{"$f":"'SHALA DARPAN DATA'!V777","v":0},{"$f":"'SHALA DARPAN DATA'!K777","v":0},{"$f":"'SHALA DARPAN DATA'!E777","v":0},{"$f":"'SHALA DARPAN DATA'!G777","v":0},{"$f":"'SHALA DARPAN DATA'!H777","v":0},{"$f":"'SHALA DARPAN DATA'!W777","v":0},{"$f":"'SHALA DARPAN DATA'!R777","v":0},{"$f":"'SHALA DARPAN DATA'!S777","v":0},{"$f":"'SHALA DARPAN DATA'!O777","v":0},0,0,0,0,0,0,0,0,0,0,0]
[{"$f":"'SHALA DARPAN DATA'!C778","v":0},{"$f":"'SHALA DARPAN DATA'!A778","v":0},{"$f":"'SHALA DARPAN DATA'!B778","v":0},{"$f":"'SHALA DARPAN DATA'!D778","v":0},{"$f":"'SHALA DARPAN DATA'!J778","v":0},{"$f":"'SHALA DARPAN DATA'!T778","v":0},{"$f":"'SHALA DARPAN DATA'!V778","v":0},{"$f":"'SHALA DARPAN DATA'!K778","v":0},{"$f":"'SHALA DARPAN DATA'!E778","v":0},{"$f":"'SHALA DARPAN DATA'!G778","v":0},{"$f":"'SHALA DARPAN DATA'!H778","v":0},{"$f":"'SHALA DARPAN DATA'!W778","v":0},{"$f":"'SHALA DARPAN DATA'!R778","v":0},{"$f":"'SHALA DARPAN DATA'!S778","v":0},{"$f":"'SHALA DARPAN DATA'!O778","v":0},0,0,0,0,0,0,0,0,0,0,0]
[{"$f":"'SHALA DARPAN DATA'!C779","v":0},{"$f":"'SHALA DARPAN DATA'!A779","v":0},{"$f":"'SHALA DARPAN DATA'!B779","v":0},{"$f":"'SHALA DARPAN DATA'!D779","v":0},{"$f":"'SHALA DARPAN DATA'!J779","v":0},{"$f":"'SHALA DARPAN DATA'!T779","v":0},{"$f":"'SHALA DARPAN DATA'!V779","v":0},{"$f":"'SHALA DARPAN DATA'!K779","v":0},{"$f":"'SHALA DARPAN DATA'!E779","v":0},{"$f":"'SHALA DARPAN DATA'!G779","v":0},{"$f":"'SHALA DARPAN DATA'!H779","v":0},{"$f":"'SHALA DARPAN DATA'!W779","v":0},{"$f":"'SHALA DARPAN DATA'!R779","v":0},{"$f":"'SHALA DARPAN DATA'!S779","v":0},{"$f":"'SHALA DARPAN DATA'!O779","v":0},0,0,0,0,0,0,0,0,0,0,0]
[{"$f":"'SHALA DARPAN DATA'!C780","v":0},{"$f":"'SHALA DARPAN DATA'!A780","v":0},{"$f":"'SHALA DARPAN DATA'!B780","v":0},{"$f":"'SHALA DARPAN DATA'!D780","v":0},{"$f":"'SHALA DARPAN DATA'!J780","v":0},{"$f":"'SHALA DARPAN DATA'!T780","v":0},{"$f":"'SHALA DARPAN DATA'!V780","v":0},{"$f":"'SHALA DARPAN DATA'!K780","v":0},{"$f":"'SHALA DARPAN DATA'!E780","v":0},{"$f":"'SHALA DARPAN DATA'!G780","v":0},{"$f":"'SHALA DARPAN DATA'!H780","v":0},{"$f":"'SHALA DARPAN DATA'!W780","v":0},{"$f":"'SHALA DARPAN DATA'!R780","v":0},{"$f":"'SHALA DARPAN DATA'!S780","v":0},{"$f":"'SHALA DARPAN DATA'!O780","v":0},0,0,0,0,0,0,0,0,0,0,0]
[{"$f":"'SHALA DARPAN DATA'!C781","v":0},{"$f":"'SHALA DARPAN DATA'!A781","v":0},{"$f":"'SHALA DARPAN DATA'!B781","v":0},{"$f":"'SHALA DARPAN DATA'!D781","v":0},{"$f":"'SHALA DARPAN DATA'!J781","v":0},{"$f":"'SHALA DARPAN DATA'!T781","v":0},{"$f":"'SHALA DARPAN DATA'!V781","v":0},{"$f":"'SHALA DARPAN DATA'!K781","v":0},{"$f":"'SHALA DARPAN DATA'!E781","v":0},{"$f":"'SHALA DARPAN DATA'!G781","v":0},{"$f":"'SHALA DARPAN DATA'!H781","v":0},{"$f":"'SHALA DARPAN DATA'!W781","v":0},{"$f":"'SHALA DARPAN DATA'!R781","v":0},{"$f":"'SHALA DARPAN DATA'!S781","v":0},{"$f":"'SHALA DARPAN DATA'!O781","v":0},0,0,0,0,0,0,0,0,0,0,0]
[{"$f":"'SHALA DARPAN DATA'!C782","v":0},{"$f":"'SHALA DARPAN DATA'!A782","v":0},{"$f":"'SHALA DARPAN DATA'!B782","v":0},{"$f":"'SHALA DARPAN DATA'!D782","v":0},{"$f":"'SHALA DARPAN DATA'!J782","v":0},{"$f":"'SHALA DARPAN DATA'!T782","v":0},{"$f":"'SHALA DARPAN DATA'!V782","v":0},{"$f":"'SHALA DARPAN DATA'!K782","v":0},{"$f":"'SHALA DARPAN DATA'!E782","v":0},{"$f":"'SHALA DARPAN DATA'!G782","v":0},{"$f":"'SHALA DARPAN DATA'!H782","v":0},{"$f":"'SHALA DARPAN DATA'!W782","v":0},{"$f":"'SHALA DARPAN DATA'!R782","v":0},{"$f":"'SHALA DARPAN DATA'!S782","v":0},{"$f":"'SHALA DARPAN DATA'!O782","v":0},0,0,0,0,0,0,0,0,0,0,0]
[{"$f":"'SHALA DARPAN DATA'!C783","v":0},{"$f":"'SHALA DARPAN DATA'!A783","v":0},{"$f":"'SHALA DARPAN DATA'!B783","v":0},{"$f":"'SHALA DARPAN DATA'!D783","v":0},{"$f":"'SHALA DARPAN DATA'!J783","v":0},{"$f":"'SHALA DARPAN DATA'!T783","v":0},{"$f":"'SHALA DARPAN DATA'!V783","v":0},{"$f":"'SHALA DARPAN DATA'!K783","v":0},{"$f":"'SHALA DARPAN DATA'!E783","v":0},{"$f":"'SHALA DARPAN DATA'!G783","v":0},{"$f":"'SHALA DARPAN DATA'!H783","v":0},{"$f":"'SHALA DARPAN DATA'!W783","v":0},{"$f":"'SHALA DARPAN DATA'!R783","v":0},{"$f":"'SHALA DARPAN DATA'!S783","v":0},{"$f":"'SHALA DARPAN DATA'!O783","v":0},0,0,0,0,0,0,0,0,0,0,0]
[{"$f":"'SHALA DARPAN DATA'!C784","v":0},{"$f":"'SHALA DARPAN DATA'!A784","v":0},{"$f":"'SHALA DARPAN DATA'!B784","v":0},{"$f":"'SHALA DARPAN DATA'!D784","v":0},{"$f":"'SHALA DARPAN DATA'!J784","v":0},{"$f":"'SHALA DARPAN DATA'!T784","v":0},{"$f":"'SHALA DARPAN DATA'!V784","v":0},{"$f":"'SHALA DARPAN DATA'!K784","v":0},{"$f":"'SHALA DARPAN DATA'!E784","v":0},{"$f":"'SHALA DARPAN DATA'!G784","v":0},{"$f":"'SHALA DARPAN DATA'!H784","v":0},{"$f":"'SHALA DARPAN DATA'!W784","v":0},{"$f":"'SHALA DARPAN DATA'!R784","v":0},{"$f":"'SHALA DARPAN DATA'!S784","v":0},{"$f":"'SHALA DARPAN DATA'!O784","v":0},0,0,0,0,0,0,0,0,0,0,0]
[{"$f":"'SHALA DARPAN DATA'!C785","v":0},{"$f":"'SHALA DARPAN DATA'!A785","v":0},{"$f":"'SHALA DARPAN DATA'!B785","v":0},{"$f":"'SHALA DARPAN DATA'!D785","v":0},{"$f":"'SHALA DARPAN DATA'!J785","v":0},{"$f":"'SHALA DARPAN DATA'!T785","v":0},{"$f":"'SHALA DARPAN DATA'!V785","v":0},{"$f":"'SHALA DARPAN DATA'!K785","v":0},{"$f":"'SHALA DARPAN DATA'!E785","v":0},{"$f":"'SHALA DARPAN DATA'!G785","v":0},{"$f":"'SHALA DARPAN DATA'!H785","v":0},{"$f":"'SHALA DARPAN DATA'!W785","v":0},{"$f":"'SHALA DARPAN DATA'!R785","v":0},{"$f":"'SHALA DARPAN DATA'!S785","v":0},{"$f":"'SHALA DARPAN DATA'!O785","v":0},0,0,0,0,0,0,0,0,0,0,0]
[{"$f":"'SHALA DARPAN DATA'!C786","v":0},{"$f":"'SHALA DARPAN DATA'!A786","v":0},{"$f":"'SHALA DARPAN DATA'!B786","v":0},{"$f":"'SHALA DARPAN DATA'!D786","v":0},{"$f":"'SHALA DARPAN DATA'!J786","v":0},{"$f":"'SHALA DARPAN DATA'!T786","v":0},{"$f":"'SHALA DARPAN DATA'!V786","v":0},{"$f":"'SHALA DARPAN DATA'!K786","v":0},{"$f":"'SHALA DARPAN DATA'!E786","v":0},{"$f":"'SHALA DARPAN DATA'!G786","v":0},{"$f":"'SHALA DARPAN DATA'!H786","v":0},{"$f":"'SHALA DARPAN DATA'!W786","v":0},{"$f":"'SHALA DARPAN DATA'!R786","v":0},{"$f":"'SHALA DARPAN DATA'!S786","v":0},{"$f":"'SHALA DARPAN DATA'!O786","v":0},0,0,0,0,0,0,0,0,0,0,0]
[{"$f":"'SHALA DARPAN DATA'!C787","v":0},{"$f":"'SHALA DARPAN DATA'!A787","v":0},{"$f":"'SHALA DARPAN DATA'!B787","v":0},{"$f":"'SHALA DARPAN DATA'!D787","v":0},{"$f":"'SHALA DARPAN DATA'!J787","v":0},{"$f":"'SHALA DARPAN DATA'!T787","v":0},{"$f":"'SHALA DARPAN DATA'!V787","v":0},{"$f":"'SHALA DARPAN DATA'!K787","v":0},{"$f":"'SHALA DARPAN DATA'!E787","v":0},{"$f":"'SHALA DARPAN DATA'!G787","v":0},{"$f":"'SHALA DARPAN DATA'!H787","v":0},{"$f":"'SHALA DARPAN DATA'!W787","v":0},{"$f":"'SHALA DARPAN DATA'!R787","v":0},{"$f":"'SHALA DARPAN DATA'!S787","v":0},{"$f":"'SHALA DARPAN DATA'!O787","v":0},0,0,0,0,0,0,0,0,0,0,0]
[{"$f":"'SHALA DARPAN DATA'!C788","v":0},{"$f":"'SHALA DARPAN DATA'!A788","v":0},{"$f":"'SHALA DARPAN DATA'!B788","v":0},{"$f":"'SHALA DARPAN DATA'!D788","v":0},{"$f":"'SHALA DARPAN DATA'!J788","v":0},{"$f":"'SHALA DARPAN DATA'!T788","v":0},{"$f":"'SHALA DARPAN DATA'!V788","v":0},{"$f":"'SHALA DARPAN DATA'!K788","v":0},{"$f":"'SHALA DARPAN DATA'!E788","v":0},{"$f":"'SHALA DARPAN DATA'!G788","v":0},{"$f":"'SHALA DARPAN DATA'!H788","v":0},{"$f":"'SHALA DARPAN DATA'!W788","v":0},{"$f":"'SHALA DARPAN DATA'!R788","v":0},{"$f":"'SHALA DARPAN DATA'!S788","v":0},{"$f":"'SHALA DARPAN DATA'!O788","v":0},0,0,0,0,0,0,0,0,0,0,0]
[{"$f":"'SHALA DARPAN DATA'!C789","v":0},{"$f":"'SHALA DARPAN DATA'!A789","v":0},{"$f":"'SHALA DARPAN DATA'!B789","v":0},{"$f":"'SHALA DARPAN DATA'!D789","v":0},{"$f":"'SHALA DARPAN DATA'!J789","v":0},{"$f":"'SHALA DARPAN DATA'!T789","v":0},{"$f":"'SHALA DARPAN DATA'!V789","v":0},{"$f":"'SHALA DARPAN DATA'!K789","v":0},{"$f":"'SHALA DARPAN DATA'!E789","v":0},{"$f":"'SHALA DARPAN DATA'!G789","v":0},{"$f":"'SHALA DARPAN DATA'!H789","v":0},{"$f":"'SHALA DARPAN DATA'!W789","v":0},{"$f":"'SHALA DARPAN DATA'!R789","v":0},{"$f":"'SHALA DARPAN DATA'!S789","v":0},{"$f":"'SHALA DARPAN DATA'!O789","v":0},0,0,0,0,0,0,0,0,0,0,0]
[{"$f":"'SHALA DARPAN DATA'!C790","v":0},{"$f":"'SHALA DARPAN DATA'!A790","v":0},{"$f":"'SHALA DARPAN DATA'!B790","v":0},{"$f":"'SHALA DARPAN DATA'!D790","v":0},{"$f":"'SHALA DARPAN DATA'!J790","v":0},{"$f":"'SHALA DARPAN DATA'!T790","v":0},{"$f":"'SHALA DARPAN DATA'!V790","v":0},{"$f":"'SHALA DARPAN DATA'!K790","v":0},{"$f":"'SHALA DARPAN DATA'!E790","v":0},{"$f":"'SHALA DARPAN DATA'!G790","v":0},{"$f":"'SHALA DARPAN DATA'!H790","v":0},{"$f":"'SHALA DARPAN DATA'!W790","v":0},{"$f":"'SHALA DARPAN DATA'!R790","v":0},{"$f":"'SHALA DARPAN DATA'!S790","v":0},{"$f":"'SHALA DARPAN DATA'!O790","v":0},0,0,0,0,0,0,0,0,0,0,0]
[{"$f":"'SHALA DARPAN DATA'!C791","v":0},{"$f":"'SHALA DARPAN DATA'!A791","v":0},{"$f":"'SHALA DARPAN DATA'!B791","v":0},{"$f":"'SHALA DARPAN DATA'!D791","v":0},{"$f":"'SHALA DARPAN DATA'!J791","v":0},{"$f":"'SHALA DARPAN DATA'!T791","v":0},{"$f":"'SHALA DARPAN DATA'!V791","v":0},{"$f":"'SHALA DARPAN DATA'!K791","v":0},{"$f":"'SHALA DARPAN DATA'!E791","v":0},{"$f":"'SHALA DARPAN DATA'!G791","v":0},{"$f":"'SHALA DARPAN DATA'!H791","v":0},{"$f":"'SHALA DARPAN DATA'!W791","v":0},{"$f":"'SHALA DARPAN DATA'!R791","v":0},{"$f":"'SHALA DARPAN DATA'!S791","v":0},{"$f":"'SHALA DARPAN DATA'!O791","v":0},0,0,0,0,0,0,0,0,0,0,0]
[{"$f":"'SHALA DARPAN DATA'!C792","v":0},{"$f":"'SHALA DARPAN DATA'!A792","v":0},{"$f":"'SHALA DARPAN DATA'!B792","v":0},{"$f":"'SHALA DARPAN DATA'!D792","v":0},{"$f":"'SHALA DARPAN DATA'!J792","v":0},{"$f":"'SHALA DARPAN DATA'!T792","v":0},{"$f":"'SHALA DARPAN DATA'!V792","v":0},{"$f":"'SHALA DARPAN DATA'!K792","v":0},{"$f":"'SHALA DARPAN DATA'!E792","v":0},{"$f":"'SHALA DARPAN DATA'!G792","v":0},{"$f":"'SHALA DARPAN DATA'!H792","v":0},{"$f":"'SHALA DARPAN DATA'!W792","v":0},{"$f":"'SHALA DARPAN DATA'!R792","v":0},{"$f":"'SHALA DARPAN DATA'!S792","v":0},{"$f":"'SHALA DARPAN DATA'!O792","v":0},0,0,0,0,0,0,0,0,0,0,0]
[{"$f":"'SHALA DARPAN DATA'!C793","v":0},{"$f":"'SHALA DARPAN DATA'!A793","v":0},{"$f":"'SHALA DARPAN DATA'!B793","v":0},{"$f":"'SHALA DARPAN DATA'!D793","v":0},{"$f":"'SHALA DARPAN DATA'!J793","v":0},{"$f":"'SHALA DARPAN DATA'!T793","v":0},{"$f":"'SHALA DARPAN DATA'!V793","v":0},{"$f":"'SHALA DARPAN DATA'!K793","v":0},{"$f":"'SHALA DARPAN DATA'!E793","v":0},{"$f":"'SHALA DARPAN DATA'!G793","v":0},{"$f":"'SHALA DARPAN DATA'!H793","v":0},{"$f":"'SHALA DARPAN DATA'!W793","v":0},{"$f":"'SHALA DARPAN DATA'!R793","v":0},{"$f":"'SHALA DARPAN DATA'!S793","v":0},{"$f":"'SHALA DARPAN DATA'!O793","v":0},0,0,0,0,0,0,0,0,0,0,0]
[{"$f":"'SHALA DARPAN DATA'!C794","v":0},{"$f":"'SHALA DARPAN DATA'!A794","v":0},{"$f":"'SHALA DARPAN DATA'!B794","v":0},{"$f":"'SHALA DARPAN DATA'!D794","v":0},{"$f":"'SHALA DARPAN DATA'!J794","v":0},{"$f":"'SHALA DARPAN DATA'!T794","v":0},{"$f":"'SHALA DARPAN DATA'!V794","v":0},{"$f":"'SHALA DARPAN DATA'!K794","v":0},{"$f":"'SHALA DARPAN DATA'!E794","v":0},{"$f":"'SHALA DARPAN DATA'!G794","v":0},{"$f":"'SHALA DARPAN DATA'!H794","v":0},{"$f":"'SHALA DARPAN DATA'!W794","v":0},{"$f":"'SHALA DARPAN DATA'!R794","v":0},{"$f":"'SHALA DARPAN DATA'!S794","v":0},{"$f":"'SHALA DARPAN DATA'!O794","v":0},0,0,0,0,0,0,0,0,0,0,0]
[{"$f":"'SHALA DARPAN DATA'!C795","v":0},{"$f":"'SHALA DARPAN DATA'!A795","v":0},{"$f":"'SHALA DARPAN DATA'!B795","v":0},{"$f":"'SHALA DARPAN DATA'!D795","v":0},{"$f":"'SHALA DARPAN DATA'!J795","v":0},{"$f":"'SHALA DARPAN DATA'!T795","v":0},{"$f":"'SHALA DARPAN DATA'!V795","v":0},{"$f":"'SHALA DARPAN DATA'!K795","v":0},{"$f":"'SHALA DARPAN DATA'!E795","v":0},{"$f":"'SHALA DARPAN DATA'!G795","v":0},{"$f":"'SHALA DARPAN DATA'!H795","v":0},{"$f":"'SHALA DARPAN DATA'!W795","v":0},{"$f":"'SHALA DARPAN DATA'!R795","v":0},{"$f":"'SHALA DARPAN DATA'!S795","v":0},{"$f":"'SHALA DARPAN DATA'!O795","v":0},0,0,0,0,0,0,0,0,0,0,0]
[{"$f":"'SHALA DARPAN DATA'!C796","v":0},{"$f":"'SHALA DARPAN DATA'!A796","v":0},{"$f":"'SHALA DARPAN DATA'!B796","v":0},{"$f":"'SHALA DARPAN DATA'!D796","v":0},{"$f":"'SHALA DARPAN DATA'!J796","v":0},{"$f":"'SHALA DARPAN DATA'!T796","v":0},{"$f":"'SHALA DARPAN DATA'!V796","v":0},{"$f":"'SHALA DARPAN DATA'!K796","v":0},{"$f":"'SHALA DARPAN DATA'!E796","v":0},{"$f":"'SHALA DARPAN DATA'!G796","v":0},{"$f":"'SHALA DARPAN DATA'!H796","v":0},{"$f":"'SHALA DARPAN DATA'!W796","v":0},{"$f":"'SHALA DARPAN DATA'!R796","v":0},{"$f":"'SHALA DARPAN DATA'!S796","v":0},{"$f":"'SHALA DARPAN DATA'!O796","v":0},0,0,0,0,0,0,0,0,0,0,0]
[{"$f":"'SHALA DARPAN DATA'!C797","v":0},{"$f":"'SHALA DARPAN DATA'!A797","v":0},{"$f":"'SHALA DARPAN DATA'!B797","v":0},{"$f":"'SHALA DARPAN DATA'!D797","v":0},{"$f":"'SHALA DARPAN DATA'!J797","v":0},{"$f":"'SHALA DARPAN DATA'!T797","v":0},{"$f":"'SHALA DARPAN DATA'!V797","v":0},{"$f":"'SHALA DARPAN DATA'!K797","v":0},{"$f":"'SHALA DARPAN DATA'!E797","v":0},{"$f":"'SHALA DARPAN DATA'!G797","v":0},{"$f":"'SHALA DARPAN DATA'!H797","v":0},{"$f":"'SHALA DARPAN DATA'!W797","v":0},{"$f":"'SHALA DARPAN DATA'!R797","v":0},{"$f":"'SHALA DARPAN DATA'!S797","v":0},{"$f":"'SHALA DARPAN DATA'!O797","v":0},0,0,0,0,0,0,0,0,0,0,0]
[{"$f":"'SHALA DARPAN DATA'!C798","v":0},{"$f":"'SHALA DARPAN DATA'!A798","v":0},{"$f":"'SHALA DARPAN DATA'!B798","v":0},{"$f":"'SHALA DARPAN DATA'!D798","v":0},{"$f":"'SHALA DARPAN DATA'!J798","v":0},{"$f":"'SHALA DARPAN DATA'!T798","v":0},{"$f":"'SHALA DARPAN DATA'!V798","v":0},{"$f":"'SHALA DARPAN DATA'!K798","v":0},{"$f":"'SHALA DARPAN DATA'!E798","v":0},{"$f":"'SHALA DARPAN DATA'!G798","v":0},{"$f":"'SHALA DARPAN DATA'!H798","v":0},{"$f":"'SHALA DARPAN DATA'!W798","v":0},{"$f":"'SHALA DARPAN DATA'!R798","v":0},{"$f":"'SHALA DARPAN DATA'!S798","v":0},{"$f":"'SHALA DARPAN DATA'!O798","v":0},0,0,0,0,0,0,0,0,0,0,0]
[{"$f":"'SHALA DARPAN DATA'!C799","v":0},{"$f":"'SHALA DARPAN DATA'!A799","v":0},{"$f":"'SHALA DARPAN DATA'!B799","v":0},{"$f":"'SHALA DARPAN DATA'!D799","v":0},{"$f":"'SHALA DARPAN DATA'!J799","v":0},{"$f":"'SHALA DARPAN DATA'!T799","v":0},{"$f":"'SHALA DARPAN DATA'!V799","v":0},{"$f":"'SHALA DARPAN DATA'!K799","v":0},{"$f":"'SHALA DARPAN DATA'!E799","v":0},{"$f":"'SHALA DARPAN DATA'!G799","v":0},{"$f":"'SHALA DARPAN DATA'!H799","v":0},{"$f":"'SHALA DARPAN DATA'!W799","v":0},{"$f":"'SHALA DARPAN DATA'!R799","v":0},{"$f":"'SHALA DARPAN DATA'!S799","v":0},{"$f":"'SHALA DARPAN DATA'!O799","v":0},0,0,0,0,0,0,0,0,0,0,0]
[{"$f":"'SHALA DARPAN DATA'!C800","v":0},{"$f":"'SHALA DARPAN DATA'!A800","v":0},{"$f":"'SHALA DARPAN DATA'!B800","v":0},{"$f":"'SHALA DARPAN DATA'!D800","v":0},{"$f":"'SHALA DARPAN DATA'!J800","v":0},{"$f":"'SHALA DARPAN DATA'!T800","v":0},{"$f":"'SHALA DARPAN DATA'!V800","v":0},{"$f":"'SHALA DARPAN DATA'!K800","v":0},{"$f":"'SHALA DARPAN DATA'!E800","v":0},{"$f":"'SHALA DARPAN DATA'!G800","v":0},{"$f":"'SHALA DARPAN DATA'!H800","v":0},{"$f":"'SHALA DARPAN DATA'!W800","v":0},{"$f":"'SHALA DARPAN DATA'!R800","v":0},{"$f":"'SHALA DARPAN DATA'!S800","v":0},{"$f":"'SHALA DARPAN DATA'!O800","v":0},0,0,0,0,0,0,0,0,0,0,0]
[{"$f":"'SHALA DARPAN DATA'!C801","v":0},{"$f":"'SHALA DARPAN DATA'!A801","v":0},{"$f":"'SHALA DARPAN DATA'!B801","v":0},{"$f":"'SHALA DARPAN DATA'!D801","v":0},{"$f":"'SHALA DARPAN DATA'!J801","v":0},{"$f":"'SHALA DARPAN DATA'!T801","v":0},{"$f":"'SHALA DARPAN DATA'!V801","v":0},{"$f":"'SHALA DARPAN DATA'!K801","v":0},{"$f":"'SHALA DARPAN DATA'!E801","v":0},{"$f":"'SHALA DARPAN DATA'!G801","v":0},{"$f":"'SHALA DARPAN DATA'!H801","v":0},{"$f":"'SHALA DARPAN DATA'!W801","v":0},{"$f":"'SHALA DARPAN DATA'!R801","v":0},{"$f":"'SHALA DARPAN DATA'!S801","v":0},{"$f":"'SHALA DARPAN DATA'!O801","v":0},0,0,0,0,0,0,0,0,0,0,0]
[{"$f":"'SHALA DARPAN DATA'!C802","v":0},{"$f":"'SHALA DARPAN DATA'!A802","v":0},{"$f":"'SHALA DARPAN DATA'!B802","v":0},{"$f":"'SHALA DARPAN DATA'!D802","v":0},{"$f":"'SHALA DARPAN DATA'!J802","v":0},{"$f":"'SHALA DARPAN DATA'!T802","v":0},{"$f":"'SHALA DARPAN DATA'!V802","v":0},{"$f":"'SHALA DARPAN DATA'!K802","v":0},{"$f":"'SHALA DARPAN DATA'!E802","v":0},{"$f":"'SHALA DARPAN DATA'!G802","v":0},{"$f":"'SHALA DARPAN DATA'!H802","v":0},{"$f":"'SHALA DARPAN DATA'!W802","v":0},{"$f":"'SHALA DARPAN DATA'!R802","v":0},{"$f":"'SHALA DARPAN DATA'!S802","v":0},{"$f":"'SHALA DARPAN DATA'!O802","v":0},0,0,0,0,0,0,0,0,0,0,0]
[{"$f":"'SHALA DARPAN DATA'!C803","v":0},{"$f":"'SHALA DARPAN DATA'!A803","v":0},{"$f":"'SHALA DARPAN DATA'!B803","v":0},{"$f":"'SHALA DARPAN DATA'!D803","v":0},{"$f":"'SHALA DARPAN DATA'!J803","v":0},{"$f":"'SHALA DARPAN DATA'!T803","v":0},{"$f":"'SHALA DARPAN DATA'!V803","v":0},{"$f":"'SHALA DARPAN DATA'!K803","v":0},{"$f":"'SHALA DARPAN DATA'!E803","v":0},{"$f":"'SHALA DARPAN DATA'!G803","v":0},{"$f":"'SHALA DARPAN DATA'!H803","v":0},{"$f":"'SHALA DARPAN DATA'!W803","v":0},{"$f":"'SHALA DARPAN DATA'!R803","v":0},{"$f":"'SHALA DARPAN DATA'!S803","v":0},{"$f":"'SHALA DARPAN DATA'!O803","v":0},0,0,0,0,0,0,0,0,0,0,0]
[{"$f":"'SHALA DARPAN DATA'!C804","v":0},{"$f":"'SHALA DARPAN DATA'!A804","v":0},{"$f":"'SHALA DARPAN DATA'!B804","v":0},{"$f":"'SHALA DARPAN DATA'!D804","v":0},{"$f":"'SHALA DARPAN DATA'!J804","v":0},{"$f":"'SHALA DARPAN DATA'!T804","v":0},{"$f":"'SHALA DARPAN DATA'!V804","v":0},{"$f":"'SHALA DARPAN DATA'!K804","v":0},{"$f":"'SHALA DARPAN DATA'!E804","v":0},{"$f":"'SHALA DARPAN DATA'!G804","v":0},{"$f":"'SHALA DARPAN DATA'!H804","v":0},{"$f":"'SHALA DARPAN DATA'!W804","v":0},{"$f":"'SHALA DARPAN DATA'!R804","v":0},{"$f":"'SHALA DARPAN DATA'!S804","v":0},{"$f":"'SHALA DARPAN DATA'!O804","v":0},0,0,0,0,0,0,0,0,0,0,0]
[{"$f":"'SHALA DARPAN DATA'!C805","v":0},{"$f":"'SHALA DARPAN DATA'!A805","v":0},{"$f":"'SHALA DARPAN DATA'!B805","v":0},{"$f":"'SHALA DARPAN DATA'!D805","v":0},{"$f":"'SHALA DARPAN DATA'!J805","v":0},{"$f":"'SHALA DARPAN DATA'!T805","v":0},{"$f":"'SHALA DARPAN DATA'!V805","v":0},{"$f":"'SHALA DARPAN DATA'!K805","v":0},{"$f":"'SHALA DARPAN DATA'!E805","v":0},{"$f":"'SHALA DARPAN DATA'!G805","v":0},{"$f":"'SHALA DARPAN DATA'!H805","v":0},{"$f":"'SHALA DARPAN DATA'!W805","v":0},{"$f":"'SHALA DARPAN DATA'!R805","v":0},{"$f":"'SHALA DARPAN DATA'!S805","v":0},{"$f":"'SHALA DARPAN DATA'!O805","v":0},0,0,0,0,0,0,0,0,0,0,0]
[{"$f":"'SHALA DARPAN DATA'!C806","v":0},{"$f":"'SHALA DARPAN DATA'!A806","v":0},{"$f":"'SHALA DARPAN DATA'!B806","v":0},{"$f":"'SHALA DARPAN DATA'!D806","v":0},{"$f":"'SHALA DARPAN DATA'!J806","v":0},{"$f":"'SHALA DARPAN DATA'!T806","v":0},{"$f":"'SHALA DARPAN DATA'!V806","v":0},{"$f":"'SHALA DARPAN DATA'!K806","v":0},{"$f":"'SHALA DARPAN DATA'!E806","v":0},{"$f":"'SHALA DARPAN DATA'!G806","v":0},{"$f":"'SHALA DARPAN DATA'!H806","v":0},{"$f":"'SHALA DARPAN DATA'!W806","v":0},{"$f":"'SHALA DARPAN DATA'!R806","v":0},{"$f":"'SHALA DARPAN DATA'!S806","v":0},{"$f":"'SHALA DARPAN DATA'!O806","v":0},0,0,0,0,0,0,0,0,0,0,0]
[{"$f":"'SHALA DARPAN DATA'!C807","v":0},{"$f":"'SHALA DARPAN DATA'!A807","v":0},{"$f":"'SHALA DARPAN DATA'!B807","v":0},{"$f":"'SHALA DARPAN DATA'!D807","v":0},{"$f":"'SHALA DARPAN DATA'!J807","v":0},{"$f":"'SHALA DARPAN DATA'!T807","v":0},{"$f":"'SHALA DARPAN DATA'!V807","v":0},{"$f":"'SHALA DARPAN DATA'!K807","v":0},{"$f":"'SHALA DARPAN DATA'!E807","v":0},{"$f":"'SHALA DARPAN DATA'!G807","v":0},{"$f":"'SHALA DARPAN DATA'!H807","v":0},{"$f":"'SHALA DARPAN DATA'!W807","v":0},{"$f":"'SHALA DARPAN DATA'!R807","v":0},{"$f":"'SHALA DARPAN DATA'!S807","v":0},{"$f":"'SHALA DARPAN DATA'!O807","v":0},0,0,0,0,0,0,0,0,0,0,0]
[{"$f":"'SHALA DARPAN DATA'!C808","v":0},{"$f":"'SHALA DARPAN DATA'!A808","v":0},{"$f":"'SHALA DARPAN DATA'!B808","v":0},{"$f":"'SHALA DARPAN DATA'!D808","v":0},{"$f":"'SHALA DARPAN DATA'!J808","v":0},{"$f":"'SHALA DARPAN DATA'!T808","v":0},{"$f":"'SHALA DARPAN DATA'!V808","v":0},{"$f":"'SHALA DARPAN DATA'!K808","v":0},{"$f":"'SHALA DARPAN DATA'!E808","v":0},{"$f":"'SHALA DARPAN DATA'!G808","v":0},{"$f":"'SHALA DARPAN DATA'!H808","v":0},{"$f":"'SHALA DARPAN DATA'!W808","v":0},{"$f":"'SHALA DARPAN DATA'!R808","v":0},{"$f":"'SHALA DARPAN DATA'!S808","v":0},{"$f":"'SHALA DARPAN DATA'!O808","v":0},0,0,0,0,0,0,0,0,0,0,0]
[{"$f":"'SHALA DARPAN DATA'!C809","v":0},{"$f":"'SHALA DARPAN DATA'!A809","v":0},{"$f":"'SHALA DARPAN DATA'!B809","v":0},{"$f":"'SHALA DARPAN DATA'!D809","v":0},{"$f":"'SHALA DARPAN DATA'!J809","v":0},{"$f":"'SHALA DARPAN DATA'!T809","v":0},{"$f":"'SHALA DARPAN DATA'!V809","v":0},{"$f":"'SHALA DARPAN DATA'!K809","v":0},{"$f":"'SHALA DARPAN DATA'!E809","v":0},{"$f":"'SHALA DARPAN DATA'!G809","v":0},{"$f":"'SHALA DARPAN DATA'!H809","v":0},{"$f":"'SHALA DARPAN DATA'!W809","v":0},{"$f":"'SHALA DARPAN DATA'!R809","v":0},{"$f":"'SHALA DARPAN DATA'!S809","v":0},{"$f":"'SHALA DARPAN DATA'!O809","v":0},0,0,0,0,0,0,0,0,0,0,0]
[{"$f":"'SHALA DARPAN DATA'!C810","v":0},{"$f":"'SHALA DARPAN DATA'!A810","v":0},{"$f":"'SHALA DARPAN DATA'!B810","v":0},{"$f":"'SHALA DARPAN DATA'!D810","v":0},{"$f":"'SHALA DARPAN DATA'!J810","v":0},{"$f":"'SHALA DARPAN DATA'!T810","v":0},{"$f":"'SHALA DARPAN DATA'!V810","v":0},{"$f":"'SHALA DARPAN DATA'!K810","v":0},{"$f":"'SHALA DARPAN DATA'!E810","v":0},{"$f":"'SHALA DARPAN DATA'!G810","v":0},{"$f":"'SHALA DARPAN DATA'!H810","v":0},{"$f":"'SHALA DARPAN DATA'!W810","v":0},{"$f":"'SHALA DARPAN DATA'!R810","v":0},{"$f":"'SHALA DARPAN DATA'!S810","v":0},{"$f":"'SHALA DARPAN DATA'!O810","v":0},0,0,0,0,0,0,0,0,0,0,0]
[{"$f":"'SHALA DARPAN DATA'!C811","v":0},{"$f":"'SHALA DARPAN DATA'!A811","v":0},{"$f":"'SHALA DARPAN DATA'!B811","v":0},{"$f":"'SHALA DARPAN DATA'!D811","v":0},{"$f":"'SHALA DARPAN DATA'!J811","v":0},{"$f":"'SHALA DARPAN DATA'!T811","v":0},{"$f":"'SHALA DARPAN DATA'!V811","v":0},{"$f":"'SHALA DARPAN DATA'!K811","v":0},{"$f":"'SHALA DARPAN DATA'!E811","v":0},{"$f":"'SHALA DARPAN DATA'!G811","v":0},{"$f":"'SHALA DARPAN DATA'!H811","v":0},{"$f":"'SHALA DARPAN DATA'!W811","v":0},{"$f":"'SHALA DARPAN DATA'!R811","v":0},{"$f":"'SHALA DARPAN DATA'!S811","v":0},{"$f":"'SHALA DARPAN DATA'!O811","v":0},0,0,0,0,0,0,0,0,0,0,0]
[{"$f":"'SHALA DARPAN DATA'!C812","v":0},{"$f":"'SHALA DARPAN DATA'!A812","v":0},{"$f":"'SHALA DARPAN DATA'!B812","v":0},{"$f":"'SHALA DARPAN DATA'!D812","v":0},{"$f":"'SHALA DARPAN DATA'!J812","v":0},{"$f":"'SHALA DARPAN DATA'!T812","v":0},{"$f":"'SHALA DARPAN DATA'!V812","v":0},{"$f":"'SHALA DARPAN DATA'!K812","v":0},{"$f":"'SHALA DARPAN DATA'!E812","v":0},{"$f":"'SHALA DARPAN DATA'!G812","v":0},{"$f":"'SHALA DARPAN DATA'!H812","v":0},{"$f":"'SHALA DARPAN DATA'!W812","v":0},{"$f":"'SHALA DARPAN DATA'!R812","v":0},{"$f":"'SHALA DARPAN DATA'!S812","v":0},{"$f":"'SHALA DARPAN DATA'!O812","v":0},0,0,0,0,0,0,0,0,0,0,0]
[{"$f":"'SHALA DARPAN DATA'!C813","v":0},{"$f":"'SHALA DARPAN DATA'!A813","v":0},{"$f":"'SHALA DARPAN DATA'!B813","v":0},{"$f":"'SHALA DARPAN DATA'!D813","v":0},{"$f":"'SHALA DARPAN DATA'!J813","v":0},{"$f":"'SHALA DARPAN DATA'!T813","v":0},{"$f":"'SHALA DARPAN DATA'!V813","v":0},{"$f":"'SHALA DARPAN DATA'!K813","v":0},{"$f":"'SHALA DARPAN DATA'!E813","v":0},{"$f":"'SHALA DARPAN DATA'!G813","v":0},{"$f":"'SHALA DARPAN DATA'!H813","v":0},{"$f":"'SHALA DARPAN DATA'!W813","v":0},{"$f":"'SHALA DARPAN DATA'!R813","v":0},{"$f":"'SHALA DARPAN DATA'!S813","v":0},{"$f":"'SHALA DARPAN DATA'!O813","v":0},0,0,0,0,0,0,0,0,0,0,0]
[{"$f":"'SHALA DARPAN DATA'!C814","v":0},{"$f":"'SHALA DARPAN DATA'!A814","v":0},{"$f":"'SHALA DARPAN DATA'!B814","v":0},{"$f":"'SHALA DARPAN DATA'!D814","v":0},{"$f":"'SHALA DARPAN DATA'!J814","v":0},{"$f":"'SHALA DARPAN DATA'!T814","v":0},{"$f":"'SHALA DARPAN DATA'!V814","v":0},{"$f":"'SHALA DARPAN DATA'!K814","v":0},{"$f":"'SHALA DARPAN DATA'!E814","v":0},{"$f":"'SHALA DARPAN DATA'!G814","v":0},{"$f":"'SHALA DARPAN DATA'!H814","v":0},{"$f":"'SHALA DARPAN DATA'!W814","v":0},{"$f":"'SHALA DARPAN DATA'!R814","v":0},{"$f":"'SHALA DARPAN DATA'!S814","v":0},{"$f":"'SHALA DARPAN DATA'!O814","v":0},0,0,0,0,0,0,0,0,0,0,0]
[{"$f":"'SHALA DARPAN DATA'!C815","v":0},{"$f":"'SHALA DARPAN DATA'!A815","v":0},{"$f":"'SHALA DARPAN DATA'!B815","v":0},{"$f":"'SHALA DARPAN DATA'!D815","v":0},{"$f":"'SHALA DARPAN DATA'!J815","v":0},{"$f":"'SHALA DARPAN DATA'!T815","v":0},{"$f":"'SHALA DARPAN DATA'!V815","v":0},{"$f":"'SHALA DARPAN DATA'!K815","v":0},{"$f":"'SHALA DARPAN DATA'!E815","v":0},{"$f":"'SHALA DARPAN DATA'!G815","v":0},{"$f":"'SHALA DARPAN DATA'!H815","v":0},{"$f":"'SHALA DARPAN DATA'!W815","v":0},{"$f":"'SHALA DARPAN DATA'!R815","v":0},{"$f":"'SHALA DARPAN DATA'!S815","v":0},{"$f":"'SHALA DARPAN DATA'!O815","v":0},0,0,0,0,0,0,0,0,0,0,0]
[{"$f":"'SHALA DARPAN DATA'!C816","v":0},{"$f":"'SHALA DARPAN DATA'!A816","v":0},{"$f":"'SHALA DARPAN DATA'!B816","v":0},{"$f":"'SHALA DARPAN DATA'!D816","v":0},{"$f":"'SHALA DARPAN DATA'!J816","v":0},{"$f":"'SHALA DARPAN DATA'!T816","v":0},{"$f":"'SHALA DARPAN DATA'!V816","v":0},{"$f":"'SHALA DARPAN DATA'!K816","v":0},{"$f":"'SHALA DARPAN DATA'!E816","v":0},{"$f":"'SHALA DARPAN DATA'!G816","v":0},{"$f":"'SHALA DARPAN DATA'!H816","v":0},{"$f":"'SHALA DARPAN DATA'!W816","v":0},{"$f":"'SHALA DARPAN DATA'!R816","v":0},{"$f":"'SHALA DARPAN DATA'!S816","v":0},{"$f":"'SHALA DARPAN DATA'!O816","v":0},0,0,0,0,0,0,0,0,0,0,0]
[{"$f":"'SHALA DARPAN DATA'!C817","v":0},{"$f":"'SHALA DARPAN DATA'!A817","v":0},{"$f":"'SHALA DARPAN DATA'!B817","v":0},{"$f":"'SHALA DARPAN DATA'!D817","v":0},{"$f":"'SHALA DARPAN DATA'!J817","v":0},{"$f":"'SHALA DARPAN DATA'!T817","v":0},{"$f":"'SHALA DARPAN DATA'!V817","v":0},{"$f":"'SHALA DARPAN DATA'!K817","v":0},{"$f":"'SHALA DARPAN DATA'!E817","v":0},{"$f":"'SHALA DARPAN DATA'!G817","v":0},{"$f":"'SHALA DARPAN DATA'!H817","v":0},{"$f":"'SHALA DARPAN DATA'!W817","v":0},{"$f":"'SHALA DARPAN DATA'!R817","v":0},{"$f":"'SHALA DARPAN DATA'!S817","v":0},{"$f":"'SHALA DARPAN DATA'!O817","v":0},0,0,0,0,0,0,0,0,0,0,0]
[{"$f":"'SHALA DARPAN DATA'!C818","v":0},{"$f":"'SHALA DARPAN DATA'!A818","v":0},{"$f":"'SHALA DARPAN DATA'!B818","v":0},{"$f":"'SHALA DARPAN DATA'!D818","v":0},{"$f":"'SHALA DARPAN DATA'!J818","v":0},{"$f":"'SHALA DARPAN DATA'!T818","v":0},{"$f":"'SHALA DARPAN DATA'!V818","v":0},{"$f":"'SHALA DARPAN DATA'!K818","v":0},{"$f":"'SHALA DARPAN DATA'!E818","v":0},{"$f":"'SHALA DARPAN DATA'!G818","v":0},{"$f":"'SHALA DARPAN DATA'!H818","v":0},{"$f":"'SHALA DARPAN DATA'!W818","v":0},{"$f":"'SHALA DARPAN DATA'!R818","v":0},{"$f":"'SHALA DARPAN DATA'!S818","v":0},{"$f":"'SHALA DARPAN DATA'!O818","v":0},0,0,0,0,0,0,0,0,0,0,0]
[{"$f":"'SHALA DARPAN DATA'!C819","v":0},{"$f":"'SHALA DARPAN DATA'!A819","v":0},{"$f":"'SHALA DARPAN DATA'!B819","v":0},{"$f":"'SHALA DARPAN DATA'!D819","v":0},{"$f":"'SHALA DARPAN DATA'!J819","v":0},{"$f":"'SHALA DARPAN DATA'!T819","v":0},{"$f":"'SHALA DARPAN DATA'!V819","v":0},{"$f":"'SHALA DARPAN DATA'!K819","v":0},{"$f":"'SHALA DARPAN DATA'!E819","v":0},{"$f":"'SHALA DARPAN DATA'!G819","v":0},{"$f":"'SHALA DARPAN DATA'!H819","v":0},{"$f":"'SHALA DARPAN DATA'!W819","v":0},{"$f":"'SHALA DARPAN DATA'!R819","v":0},{"$f":"'SHALA DARPAN DATA'!S819","v":0},{"$f":"'SHALA DARPAN DATA'!O819","v":0},0,0,0,0,0,0,0,0,0,0,0]
[{"$f":"'SHALA DARPAN DATA'!C820","v":0},{"$f":"'SHALA DARPAN DATA'!A820","v":0},{"$f":"'SHALA DARPAN DATA'!B820","v":0},{"$f":"'SHALA DARPAN DATA'!D820","v":0},{"$f":"'SHALA DARPAN DATA'!J820","v":0},{"$f":"'SHALA DARPAN DATA'!T820","v":0},{"$f":"'SHALA DARPAN DATA'!V820","v":0},{"$f":"'SHALA DARPAN DATA'!K820","v":0},{"$f":"'SHALA DARPAN DATA'!E820","v":0},{"$f":"'SHALA DARPAN DATA'!G820","v":0},{"$f":"'SHALA DARPAN DATA'!H820","v":0},{"$f":"'SHALA DARPAN DATA'!W820","v":0},{"$f":"'SHALA DARPAN DATA'!R820","v":0},{"$f":"'SHALA DARPAN DATA'!S820","v":0},{"$f":"'SHALA DARPAN DATA'!O820","v":0},0,0,0,0,0,0,0,0,0,0,0]
[{"$f":"'SHALA DARPAN DATA'!C821","v":0},{"$f":"'SHALA DARPAN DATA'!A821","v":0},{"$f":"'SHALA DARPAN DATA'!B821","v":0},{"$f":"'SHALA DARPAN DATA'!D821","v":0},{"$f":"'SHALA DARPAN DATA'!J821","v":0},{"$f":"'SHALA DARPAN DATA'!T821","v":0},{"$f":"'SHALA DARPAN DATA'!V821","v":0},{"$f":"'SHALA DARPAN DATA'!K821","v":0},{"$f":"'SHALA DARPAN DATA'!E821","v":0},{"$f":"'SHALA DARPAN DATA'!G821","v":0},{"$f":"'SHALA DARPAN DATA'!H821","v":0},{"$f":"'SHALA DARPAN DATA'!W821","v":0},{"$f":"'SHALA DARPAN DATA'!R821","v":0},{"$f":"'SHALA DARPAN DATA'!S821","v":0},{"$f":"'SHALA DARPAN DATA'!O821","v":0},0,0,0,0,0,0,0,0,0,0,0]
[{"$f":"'SHALA DARPAN DATA'!C822","v":0},{"$f":"'SHALA DARPAN DATA'!A822","v":0},{"$f":"'SHALA DARPAN DATA'!B822","v":0},{"$f":"'SHALA DARPAN DATA'!D822","v":0},{"$f":"'SHALA DARPAN DATA'!J822","v":0},{"$f":"'SHALA DARPAN DATA'!T822","v":0},{"$f":"'SHALA DARPAN DATA'!V822","v":0},{"$f":"'SHALA DARPAN DATA'!K822","v":0},{"$f":"'SHALA DARPAN DATA'!E822","v":0},{"$f":"'SHALA DARPAN DATA'!G822","v":0},{"$f":"'SHALA DARPAN DATA'!H822","v":0},{"$f":"'SHALA DARPAN DATA'!W822","v":0},{"$f":"'SHALA DARPAN DATA'!R822","v":0},{"$f":"'SHALA DARPAN DATA'!S822","v":0},{"$f":"'SHALA DARPAN DATA'!O822","v":0},0,0,0,0,0,0,0,0,0,0,0]
[{"$f":"'SHALA DARPAN DATA'!C823","v":0},{"$f":"'SHALA DARPAN DATA'!A823","v":0},{"$f":"'SHALA DARPAN DATA'!B823","v":0},{"$f":"'SHALA DARPAN DATA'!D823","v":0},{"$f":"'SHALA DARPAN DATA'!J823","v":0},{"$f":"'SHALA DARPAN DATA'!T823","v":0},{"$f":"'SHALA DARPAN DATA'!V823","v":0},{"$f":"'SHALA DARPAN DATA'!K823","v":0},{"$f":"'SHALA DARPAN DATA'!E823","v":0},{"$f":"'SHALA DARPAN DATA'!G823","v":0},{"$f":"'SHALA DARPAN DATA'!H823","v":0},{"$f":"'SHALA DARPAN DATA'!W823","v":0},{"$f":"'SHALA DARPAN DATA'!R823","v":0},{"$f":"'SHALA DARPAN DATA'!S823","v":0},{"$f":"'SHALA DARPAN DATA'!O823","v":0},0,0,0,0,0,0,0,0,0,0,0]
[{"$f":"'SHALA DARPAN DATA'!C824","v":0},{"$f":"'SHALA DARPAN DATA'!A824","v":0},{"$f":"'SHALA DARPAN DATA'!B824","v":0},{"$f":"'SHALA DARPAN DATA'!D824","v":0},{"$f":"'SHALA DARPAN DATA'!J824","v":0},{"$f":"'SHALA DARPAN DATA'!T824","v":0},{"$f":"'SHALA DARPAN DATA'!V824","v":0},{"$f":"'SHALA DARPAN DATA'!K824","v":0},{"$f":"'SHALA DARPAN DATA'!E824","v":0},{"$f":"'SHALA DARPAN DATA'!G824","v":0},{"$f":"'SHALA DARPAN DATA'!H824","v":0},{"$f":"'SHALA DARPAN DATA'!W824","v":0},{"$f":"'SHALA DARPAN DATA'!R824","v":0},{"$f":"'SHALA DARPAN DATA'!S824","v":0},{"$f":"'SHALA DARPAN DATA'!O824","v":0},0,0,0,0,0,0,0,0,0,0,0]
[{"$f":"'SHALA DARPAN DATA'!C825","v":0},{"$f":"'SHALA DARPAN DATA'!A825","v":0},{"$f":"'SHALA DARPAN DATA'!B825","v":0},{"$f":"'SHALA DARPAN DATA'!D825","v":0},{"$f":"'SHALA DARPAN DATA'!J825","v":0},{"$f":"'SHALA DARPAN DATA'!T825","v":0},{"$f":"'SHALA DARPAN DATA'!V825","v":0},{"$f":"'SHALA DARPAN DATA'!K825","v":0},{"$f":"'SHALA DARPAN DATA'!E825","v":0},{"$f":"'SHALA DARPAN DATA'!G825","v":0},{"$f":"'SHALA DARPAN DATA'!H825","v":0},{"$f":"'SHALA DARPAN DATA'!W825","v":0},{"$f":"'SHALA DARPAN DATA'!R825","v":0},{"$f":"'SHALA DARPAN DATA'!S825","v":0},{"$f":"'SHALA DARPAN DATA'!O825","v":0},0,0,0,0,0,0,0,0,0,0,0]
[{"$f":"'SHALA DARPAN DATA'!C826","v":0},{"$f":"'SHALA DARPAN DATA'!A826","v":0},{"$f":"'SHALA DARPAN DATA'!B826","v":0},{"$f":"'SHALA DARPAN DATA'!D826","v":0},{"$f":"'SHALA DARPAN DATA'!J826","v":0},{"$f":"'SHALA DARPAN DATA'!T826","v":0},{"$f":"'SHALA DARPAN DATA'!V826","v":0},{"$f":"'SHALA DARPAN DATA'!K826","v":0},{"$f":"'SHALA DARPAN DATA'!E826","v":0},{"$f":"'SHALA DARPAN DATA'!G826","v":0},{"$f":"'SHALA DARPAN DATA'!H826","v":0},{"$f":"'SHALA DARPAN DATA'!W826","v":0},{"$f":"'SHALA DARPAN DATA'!R826","v":0},{"$f":"'SHALA DARPAN DATA'!S826","v":0},{"$f":"'SHALA DARPAN DATA'!O826","v":0},0,0,0,0,0,0,0,0,0,0,0]
[{"$f":"'SHALA DARPAN DATA'!C827","v":0},{"$f":"'SHALA DARPAN DATA'!A827","v":0},{"$f":"'SHALA DARPAN DATA'!B827","v":0},{"$f":"'SHALA DARPAN DATA'!D827","v":0},{"$f":"'SHALA DARPAN DATA'!J827","v":0},{"$f":"'SHALA DARPAN DATA'!T827","v":0},{"$f":"'SHALA DARPAN DATA'!V827","v":0},{"$f":"'SHALA DARPAN DATA'!K827","v":0},{"$f":"'SHALA DARPAN DATA'!E827","v":0},{"$f":"'SHALA DARPAN DATA'!G827","v":0},{"$f":"'SHALA DARPAN DATA'!H827","v":0},{"$f":"'SHALA DARPAN DATA'!W827","v":0},{"$f":"'SHALA DARPAN DATA'!R827","v":0},{"$f":"'SHALA DARPAN DATA'!S827","v":0},{"$f":"'SHALA DARPAN DATA'!O827","v":0},0,0,0,0,0,0,0,0,0,0,0]
[{"$f":"'SHALA DARPAN DATA'!C828","v":0},{"$f":"'SHALA DARPAN DATA'!A828","v":0},{"$f":"'SHALA DARPAN DATA'!B828","v":0},{"$f":"'SHALA DARPAN DATA'!D828","v":0},{"$f":"'SHALA DARPAN DATA'!J828","v":0},{"$f":"'SHALA DARPAN DATA'!T828","v":0},{"$f":"'SHALA DARPAN DATA'!V828","v":0},{"$f":"'SHALA DARPAN DATA'!K828","v":0},{"$f":"'SHALA DARPAN DATA'!E828","v":0},{"$f":"'SHALA DARPAN DATA'!G828","v":0},{"$f":"'SHALA DARPAN DATA'!H828","v":0},{"$f":"'SHALA DARPAN DATA'!W828","v":0},{"$f":"'SHALA DARPAN DATA'!R828","v":0},{"$f":"'SHALA DARPAN DATA'!S828","v":0},{"$f":"'SHALA DARPAN DATA'!O828","v":0},0,0,0,0,0,0,0,0,0,0,0]
[{"$f":"'SHALA DARPAN DATA'!C829","v":0},{"$f":"'SHALA DARPAN DATA'!A829","v":0},{"$f":"'SHALA DARPAN DATA'!B829","v":0},{"$f":"'SHALA DARPAN DATA'!D829","v":0},{"$f":"'SHALA DARPAN DATA'!J829","v":0},{"$f":"'SHALA DARPAN DATA'!T829","v":0},{"$f":"'SHALA DARPAN DATA'!V829","v":0},{"$f":"'SHALA DARPAN DATA'!K829","v":0},{"$f":"'SHALA DARPAN DATA'!E829","v":0},{"$f":"'SHALA DARPAN DATA'!G829","v":0},{"$f":"'SHALA DARPAN DATA'!H829","v":0},{"$f":"'SHALA DARPAN DATA'!W829","v":0},{"$f":"'SHALA DARPAN DATA'!R829","v":0},{"$f":"'SHALA DARPAN DATA'!S829","v":0},{"$f":"'SHALA DARPAN DATA'!O829","v":0},0,0,0,0,0,0,0,0,0,0,0]
[{"$f":"'SHALA DARPAN DATA'!C830","v":0},{"$f":"'SHALA DARPAN DATA'!A830","v":0},{"$f":"'SHALA DARPAN DATA'!B830","v":0},{"$f":"'SHALA DARPAN DATA'!D830","v":0},{"$f":"'SHALA DARPAN DATA'!J830","v":0},{"$f":"'SHALA DARPAN DATA'!T830","v":0},{"$f":"'SHALA DARPAN DATA'!V830","v":0},{"$f":"'SHALA DARPAN DATA'!K830","v":0},{"$f":"'SHALA DARPAN DATA'!E830","v":0},{"$f":"'SHALA DARPAN DATA'!G830","v":0},{"$f":"'SHALA DARPAN DATA'!H830","v":0},{"$f":"'SHALA DARPAN DATA'!W830","v":0},{"$f":"'SHALA DARPAN DATA'!R830","v":0},{"$f":"'SHALA DARPAN DATA'!S830","v":0},{"$f":"'SHALA DARPAN DATA'!O830","v":0},0,0,0,0,0,0,0,0,0,0,0]
[{"$f":"'SHALA DARPAN DATA'!C831","v":0},{"$f":"'SHALA DARPAN DATA'!A831","v":0},{"$f":"'SHALA DARPAN DATA'!B831","v":0},{"$f":"'SHALA DARPAN DATA'!D831","v":0},{"$f":"'SHALA DARPAN DATA'!J831","v":0},{"$f":"'SHALA DARPAN DATA'!T831","v":0},{"$f":"'SHALA DARPAN DATA'!V831","v":0},{"$f":"'SHALA DARPAN DATA'!K831","v":0},{"$f":"'SHALA DARPAN DATA'!E831","v":0},{"$f":"'SHALA DARPAN DATA'!G831","v":0},{"$f":"'SHALA DARPAN DATA'!H831","v":0},{"$f":"'SHALA DARPAN DATA'!W831","v":0},{"$f":"'SHALA DARPAN DATA'!R831","v":0},{"$f":"'SHALA DARPAN DATA'!S831","v":0},{"$f":"'SHALA DARPAN DATA'!O831","v":0},0,0,0,0,0,0,0,0,0,0,0]
[{"$f":"'SHALA DARPAN DATA'!C832","v":0},{"$f":"'SHALA DARPAN DATA'!A832","v":0},{"$f":"'SHALA DARPAN DATA'!B832","v":0},{"$f":"'SHALA DARPAN DATA'!D832","v":0},{"$f":"'SHALA DARPAN DATA'!J832","v":0},{"$f":"'SHALA DARPAN DATA'!T832","v":0},{"$f":"'SHALA DARPAN DATA'!V832","v":0},{"$f":"'SHALA DARPAN DATA'!K832","v":0},{"$f":"'SHALA DARPAN DATA'!E832","v":0},{"$f":"'SHALA DARPAN DATA'!G832","v":0},{"$f":"'SHALA DARPAN DATA'!H832","v":0},{"$f":"'SHALA DARPAN DATA'!W832","v":0},{"$f":"'SHALA DARPAN DATA'!R832","v":0},{"$f":"'SHALA DARPAN DATA'!S832","v":0},{"$f":"'SHALA DARPAN DATA'!O832","v":0},0,0,0,0,0,0,0,0,0,0,0]
[{"$f":"'SHALA DARPAN DATA'!C833","v":0},{"$f":"'SHALA DARPAN DATA'!A833","v":0},{"$f":"'SHALA DARPAN DATA'!B833","v":0},{"$f":"'SHALA DARPAN DATA'!D833","v":0},{"$f":"'SHALA DARPAN DATA'!J833","v":0},{"$f":"'SHALA DARPAN DATA'!T833","v":0},{"$f":"'SHALA DARPAN DATA'!V833","v":0},{"$f":"'SHALA DARPAN DATA'!K833","v":0},{"$f":"'SHALA DARPAN DATA'!E833","v":0},{"$f":"'SHALA DARPAN DATA'!G833","v":0},{"$f":"'SHALA DARPAN DATA'!H833","v":0},{"$f":"'SHALA DARPAN DATA'!W833","v":0},{"$f":"'SHALA DARPAN DATA'!R833","v":0},{"$f":"'SHALA DARPAN DATA'!S833","v":0},{"$f":"'SHALA DARPAN DATA'!O833","v":0},0,0,0,0,0,0,0,0,0,0,0]
[{"$f":"'SHALA DARPAN DATA'!C834","v":0},{"$f":"'SHALA DARPAN DATA'!A834","v":0},{"$f":"'SHALA DARPAN DATA'!B834","v":0},{"$f":"'SHALA DARPAN DATA'!D834","v":0},{"$f":"'SHALA DARPAN DATA'!J834","v":0},{"$f":"'SHALA DARPAN DATA'!T834","v":0},{"$f":"'SHALA DARPAN DATA'!V834","v":0},{"$f":"'SHALA DARPAN DATA'!K834","v":0},{"$f":"'SHALA DARPAN DATA'!E834","v":0},{"$f":"'SHALA DARPAN DATA'!G834","v":0},{"$f":"'SHALA DARPAN DATA'!H834","v":0},{"$f":"'SHALA DARPAN DATA'!W834","v":0},{"$f":"'SHALA DARPAN DATA'!R834","v":0},{"$f":"'SHALA DARPAN DATA'!S834","v":0},{"$f":"'SHALA DARPAN DATA'!O834","v":0},0,0,0,0,0,0,0,0,0,0,0]
[{"$f":"'SHALA DARPAN DATA'!C835","v":0},{"$f":"'SHALA DARPAN DATA'!A835","v":0},{"$f":"'SHALA DARPAN DATA'!B835","v":0},{"$f":"'SHALA DARPAN DATA'!D835","v":0},{"$f":"'SHALA DARPAN DATA'!J835","v":0},{"$f":"'SHALA DARPAN DATA'!T835","v":0},{"$f":"'SHALA DARPAN DATA'!V835","v":0},{"$f":"'SHALA DARPAN DATA'!K835","v":0},{"$f":"'SHALA DARPAN DATA'!E835","v":0},{"$f":"'SHALA DARPAN DATA'!G835","v":0},{"$f":"'SHALA DARPAN DATA'!H835","v":0},{"$f":"'SHALA DARPAN DATA'!W835","v":0},{"$f":"'SHALA DARPAN DATA'!R835","v":0},{"$f":"'SHALA DARPAN DATA'!S835","v":0},{"$f":"'SHALA DARPAN DATA'!O835","v":0},0,0,0,0,0,0,0,0,0,0,0]
[{"$f":"'SHALA DARPAN DATA'!C836","v":0},{"$f":"'SHALA DARPAN DATA'!A836","v":0},{"$f":"'SHALA DARPAN DATA'!B836","v":0},{"$f":"'SHALA DARPAN DATA'!D836","v":0},{"$f":"'SHALA DARPAN DATA'!J836","v":0},{"$f":"'SHALA DARPAN DATA'!T836","v":0},{"$f":"'SHALA DARPAN DATA'!V836","v":0},{"$f":"'SHALA DARPAN DATA'!K836","v":0},{"$f":"'SHALA DARPAN DATA'!E836","v":0},{"$f":"'SHALA DARPAN DATA'!G836","v":0},{"$f":"'SHALA DARPAN DATA'!H836","v":0},{"$f":"'SHALA DARPAN DATA'!W836","v":0},{"$f":"'SHALA DARPAN DATA'!R836","v":0},{"$f":"'SHALA DARPAN DATA'!S836","v":0},{"$f":"'SHALA DARPAN DATA'!O836","v":0},0,0,0,0,0,0,0,0,0,0,0]
[{"$f":"'SHALA DARPAN DATA'!C837","v":0},{"$f":"'SHALA DARPAN DATA'!A837","v":0},{"$f":"'SHALA DARPAN DATA'!B837","v":0},{"$f":"'SHALA DARPAN DATA'!D837","v":0},{"$f":"'SHALA DARPAN DATA'!J837","v":0},{"$f":"'SHALA DARPAN DATA'!T837","v":0},{"$f":"'SHALA DARPAN DATA'!V837","v":0},{"$f":"'SHALA DARPAN DATA'!K837","v":0},{"$f":"'SHALA DARPAN DATA'!E837","v":0},{"$f":"'SHALA DARPAN DATA'!G837","v":0},{"$f":"'SHALA DARPAN DATA'!H837","v":0},{"$f":"'SHALA DARPAN DATA'!W837","v":0},{"$f":"'SHALA DARPAN DATA'!R837","v":0},{"$f":"'SHALA DARPAN DATA'!S837","v":0},{"$f":"'SHALA DARPAN DATA'!O837","v":0},0,0,0,0,0,0,0,0,0,0,0]
[{"$f":"'SHALA DARPAN DATA'!C838","v":0},{"$f":"'SHALA DARPAN DATA'!A838","v":0},{"$f":"'SHALA DARPAN DATA'!B838","v":0},{"$f":"'SHALA DARPAN DATA'!D838","v":0},{"$f":"'SHALA DARPAN DATA'!J838","v":0},{"$f":"'SHALA DARPAN DATA'!T838","v":0},{"$f":"'SHALA DARPAN DATA'!V838","v":0},{"$f":"'SHALA DARPAN DATA'!K838","v":0},{"$f":"'SHALA DARPAN DATA'!E838","v":0},{"$f":"'SHALA DARPAN DATA'!G838","v":0},{"$f":"'SHALA DARPAN DATA'!H838","v":0},{"$f":"'SHALA DARPAN DATA'!W838","v":0},{"$f":"'SHALA DARPAN DATA'!R838","v":0},{"$f":"'SHALA DARPAN DATA'!S838","v":0},{"$f":"'SHALA DARPAN DATA'!O838","v":0},0,0,0,0,0,0,0,0,0,0,0]
[{"$f":"'SHALA DARPAN DATA'!C839","v":0},{"$f":"'SHALA DARPAN DATA'!A839","v":0},{"$f":"'SHALA DARPAN DATA'!B839","v":0},{"$f":"'SHALA DARPAN DATA'!D839","v":0},{"$f":"'SHALA DARPAN DATA'!J839","v":0},{"$f":"'SHALA DARPAN DATA'!T839","v":0},{"$f":"'SHALA DARPAN DATA'!V839","v":0},{"$f":"'SHALA DARPAN DATA'!K839","v":0},{"$f":"'SHALA DARPAN DATA'!E839","v":0},{"$f":"'SHALA DARPAN DATA'!G839","v":0},{"$f":"'SHALA DARPAN DATA'!H839","v":0},{"$f":"'SHALA DARPAN DATA'!W839","v":0},{"$f":"'SHALA DARPAN DATA'!R839","v":0},{"$f":"'SHALA DARPAN DATA'!S839","v":0},{"$f":"'SHALA DARPAN DATA'!O839","v":0},0,0,0,0,0,0,0,0,0,0,0]
[{"$f":"'SHALA DARPAN DATA'!C840","v":0},{"$f":"'SHALA DARPAN DATA'!A840","v":0},{"$f":"'SHALA DARPAN DATA'!B840","v":0},{"$f":"'SHALA DARPAN DATA'!D840","v":0},{"$f":"'SHALA DARPAN DATA'!J840","v":0},{"$f":"'SHALA DARPAN DATA'!T840","v":0},{"$f":"'SHALA DARPAN DATA'!V840","v":0},{"$f":"'SHALA DARPAN DATA'!K840","v":0},{"$f":"'SHALA DARPAN DATA'!E840","v":0},{"$f":"'SHALA DARPAN DATA'!G840","v":0},{"$f":"'SHALA DARPAN DATA'!H840","v":0},{"$f":"'SHALA DARPAN DATA'!W840","v":0},{"$f":"'SHALA DARPAN DATA'!R840","v":0},{"$f":"'SHALA DARPAN DATA'!S840","v":0},{"$f":"'SHALA DARPAN DATA'!O840","v":0},0,0,0,0,0,0,0,0,0,0,0]
[{"$f":"'SHALA DARPAN DATA'!C841","v":0},{"$f":"'SHALA DARPAN DATA'!A841","v":0},{"$f":"'SHALA DARPAN DATA'!B841","v":0},{"$f":"'SHALA DARPAN DATA'!D841","v":0},{"$f":"'SHALA DARPAN DATA'!J841","v":0},{"$f":"'SHALA DARPAN DATA'!T841","v":0},{"$f":"'SHALA DARPAN DATA'!V841","v":0},{"$f":"'SHALA DARPAN DATA'!K841","v":0},{"$f":"'SHALA DARPAN DATA'!E841","v":0},{"$f":"'SHALA DARPAN DATA'!G841","v":0},{"$f":"'SHALA DARPAN DATA'!H841","v":0},{"$f":"'SHALA DARPAN DATA'!W841","v":0},{"$f":"'SHALA DARPAN DATA'!R841","v":0},{"$f":"'SHALA DARPAN DATA'!S841","v":0},{"$f":"'SHALA DARPAN DATA'!O841","v":0},0,0,0,0,0,0,0,0,0,0,0]
[{"$f":"'SHALA DARPAN DATA'!C842","v":0},{"$f":"'SHALA DARPAN DATA'!A842","v":0},{"$f":"'SHALA DARPAN DATA'!B842","v":0},{"$f":"'SHALA DARPAN DATA'!D842","v":0},{"$f":"'SHALA DARPAN DATA'!J842","v":0},{"$f":"'SHALA DARPAN DATA'!T842","v":0},{"$f":"'SHALA DARPAN DATA'!V842","v":0},{"$f":"'SHALA DARPAN DATA'!K842","v":0},{"$f":"'SHALA DARPAN DATA'!E842","v":0},{"$f":"'SHALA DARPAN DATA'!G842","v":0},{"$f":"'SHALA DARPAN DATA'!H842","v":0},{"$f":"'SHALA DARPAN DATA'!W842","v":0},{"$f":"'SHALA DARPAN DATA'!R842","v":0},{"$f":"'SHALA DARPAN DATA'!S842","v":0},{"$f":"'SHALA DARPAN DATA'!O842","v":0},0,0,0,0,0,0,0,0,0,0,0]
[{"$f":"'SHALA DARPAN DATA'!C843","v":0},{"$f":"'SHALA DARPAN DATA'!A843","v":0},{"$f":"'SHALA DARPAN DATA'!B843","v":0},{"$f":"'SHALA DARPAN DATA'!D843","v":0},{"$f":"'SHALA DARPAN DATA'!J843","v":0},{"$f":"'SHALA DARPAN DATA'!T843","v":0},{"$f":"'SHALA DARPAN DATA'!V843","v":0},{"$f":"'SHALA DARPAN DATA'!K843","v":0},{"$f":"'SHALA DARPAN DATA'!E843","v":0},{"$f":"'SHALA DARPAN DATA'!G843","v":0},{"$f":"'SHALA DARPAN DATA'!H843","v":0},{"$f":"'SHALA DARPAN DATA'!W843","v":0},{"$f":"'SHALA DARPAN DATA'!R843","v":0},{"$f":"'SHALA DARPAN DATA'!S843","v":0},{"$f":"'SHALA DARPAN DATA'!O843","v":0},0,0,0,0,0,0,0,0,0,0,0]
[{"$f":"'SHALA DARPAN DATA'!C844","v":0},{"$f":"'SHALA DARPAN DATA'!A844","v":0},{"$f":"'SHALA DARPAN DATA'!B844","v":0},{"$f":"'SHALA DARPAN DATA'!D844","v":0},{"$f":"'SHALA DARPAN DATA'!J844","v":0},{"$f":"'SHALA DARPAN DATA'!T844","v":0},{"$f":"'SHALA DARPAN DATA'!V844","v":0},{"$f":"'SHALA DARPAN DATA'!K844","v":0},{"$f":"'SHALA DARPAN DATA'!E844","v":0},{"$f":"'SHALA DARPAN DATA'!G844","v":0},{"$f":"'SHALA DARPAN DATA'!H844","v":0},{"$f":"'SHALA DARPAN DATA'!W844","v":0},{"$f":"'SHALA DARPAN DATA'!R844","v":0},{"$f":"'SHALA DARPAN DATA'!S844","v":0},{"$f":"'SHALA DARPAN DATA'!O844","v":0},0,0,0,0,0,0,0,0,0,0,0]
[{"$f":"'SHALA DARPAN DATA'!C845","v":0},{"$f":"'SHALA DARPAN DATA'!A845","v":0},{"$f":"'SHALA DARPAN DATA'!B845","v":0},{"$f":"'SHALA DARPAN DATA'!D845","v":0},{"$f":"'SHALA DARPAN DATA'!J845","v":0},{"$f":"'SHALA DARPAN DATA'!T845","v":0},{"$f":"'SHALA DARPAN DATA'!V845","v":0},{"$f":"'SHALA DARPAN DATA'!K845","v":0},{"$f":"'SHALA DARPAN DATA'!E845","v":0},{"$f":"'SHALA DARPAN DATA'!G845","v":0},{"$f":"'SHALA DARPAN DATA'!H845","v":0},{"$f":"'SHALA DARPAN DATA'!W845","v":0},{"$f":"'SHALA DARPAN DATA'!R845","v":0},{"$f":"'SHALA DARPAN DATA'!S845","v":0},{"$f":"'SHALA DARPAN DATA'!O845","v":0},0,0,0,0,0,0,0,0,0,0,0]
[{"$f":"'SHALA DARPAN DATA'!C846","v":0},{"$f":"'SHALA DARPAN DATA'!A846","v":0},{"$f":"'SHALA DARPAN DATA'!B846","v":0},{"$f":"'SHALA DARPAN DATA'!D846","v":0},{"$f":"'SHALA DARPAN DATA'!J846","v":0},{"$f":"'SHALA DARPAN DATA'!T846","v":0},{"$f":"'SHALA DARPAN DATA'!V846","v":0},{"$f":"'SHALA DARPAN DATA'!K846","v":0},{"$f":"'SHALA DARPAN DATA'!E846","v":0},{"$f":"'SHALA DARPAN DATA'!G846","v":0},{"$f":"'SHALA DARPAN DATA'!H846","v":0},{"$f":"'SHALA DARPAN DATA'!W846","v":0},{"$f":"'SHALA DARPAN DATA'!R846","v":0},{"$f":"'SHALA DARPAN DATA'!S846","v":0},{"$f":"'SHALA DARPAN DATA'!O846","v":0},0,0,0,0,0,0,0,0,0,0,0]
[{"$f":"'SHALA DARPAN DATA'!C847","v":0},{"$f":"'SHALA DARPAN DATA'!A847","v":0},{"$f":"'SHALA DARPAN DATA'!B847","v":0},{"$f":"'SHALA DARPAN DATA'!D847","v":0},{"$f":"'SHALA DARPAN DATA'!J847","v":0},{"$f":"'SHALA DARPAN DATA'!T847","v":0},{"$f":"'SHALA DARPAN DATA'!V847","v":0},{"$f":"'SHALA DARPAN DATA'!K847","v":0},{"$f":"'SHALA DARPAN DATA'!E847","v":0},{"$f":"'SHALA DARPAN DATA'!G847","v":0},{"$f":"'SHALA DARPAN DATA'!H847","v":0},{"$f":"'SHALA DARPAN DATA'!W847","v":0},{"$f":"'SHALA DARPAN DATA'!R847","v":0},{"$f":"'SHALA DARPAN DATA'!S847","v":0},{"$f":"'SHALA DARPAN DATA'!O847","v":0},0,0,0,0,0,0,0,0,0,0,0]
[{"$f":"'SHALA DARPAN DATA'!C848","v":0},{"$f":"'SHALA DARPAN DATA'!A848","v":0},{"$f":"'SHALA DARPAN DATA'!B848","v":0},{"$f":"'SHALA DARPAN DATA'!D848","v":0},{"$f":"'SHALA DARPAN DATA'!J848","v":0},{"$f":"'SHALA DARPAN DATA'!T848","v":0},{"$f":"'SHALA DARPAN DATA'!V848","v":0},{"$f":"'SHALA DARPAN DATA'!K848","v":0},{"$f":"'SHALA DARPAN DATA'!E848","v":0},{"$f":"'SHALA DARPAN DATA'!G848","v":0},{"$f":"'SHALA DARPAN DATA'!H848","v":0},{"$f":"'SHALA DARPAN DATA'!W848","v":0},{"$f":"'SHALA DARPAN DATA'!R848","v":0},{"$f":"'SHALA DARPAN DATA'!S848","v":0},{"$f":"'SHALA DARPAN DATA'!O848","v":0},0,0,0,0,0,0,0,0,0,0,0]
[{"$f":"'SHALA DARPAN DATA'!C849","v":0},{"$f":"'SHALA DARPAN DATA'!A849","v":0},{"$f":"'SHALA DARPAN DATA'!B849","v":0},{"$f":"'SHALA DARPAN DATA'!D849","v":0},{"$f":"'SHALA DARPAN DATA'!J849","v":0},{"$f":"'SHALA DARPAN DATA'!T849","v":0},{"$f":"'SHALA DARPAN DATA'!V849","v":0},{"$f":"'SHALA DARPAN DATA'!K849","v":0},{"$f":"'SHALA DARPAN DATA'!E849","v":0},{"$f":"'SHALA DARPAN DATA'!G849","v":0},{"$f":"'SHALA DARPAN DATA'!H849","v":0},{"$f":"'SHALA DARPAN DATA'!W849","v":0},{"$f":"'SHALA DARPAN DATA'!R849","v":0},{"$f":"'SHALA DARPAN DATA'!S849","v":0},{"$f":"'SHALA DARPAN DATA'!O849","v":0},0,0,0,0,0,0,0,0,0,0,0]
[{"$f":"'SHALA DARPAN DATA'!C850","v":0},{"$f":"'SHALA DARPAN DATA'!A850","v":0},{"$f":"'SHALA DARPAN DATA'!B850","v":0},{"$f":"'SHALA DARPAN DATA'!D850","v":0},{"$f":"'SHALA DARPAN DATA'!J850","v":0},{"$f":"'SHALA DARPAN DATA'!T850","v":0},{"$f":"'SHALA DARPAN DATA'!V850","v":0},{"$f":"'SHALA DARPAN DATA'!K850","v":0},{"$f":"'SHALA DARPAN DATA'!E850","v":0},{"$f":"'SHALA DARPAN DATA'!G850","v":0},{"$f":"'SHALA DARPAN DATA'!H850","v":0},{"$f":"'SHALA DARPAN DATA'!W850","v":0},{"$f":"'SHALA DARPAN DATA'!R850","v":0},{"$f":"'SHALA DARPAN DATA'!S850","v":0},{"$f":"'SHALA DARPAN DATA'!O850","v":0},0,0,0,0,0,0,0,0,0,0,0]
[{"$f":"'SHALA DARPAN DATA'!C851","v":0},{"$f":"'SHALA DARPAN DATA'!A851","v":0},{"$f":"'SHALA DARPAN DATA'!B851","v":0},{"$f":"'SHALA DARPAN DATA'!D851","v":0},{"$f":"'SHALA DARPAN DATA'!J851","v":0},{"$f":"'SHALA DARPAN DATA'!T851","v":0},{"$f":"'SHALA DARPAN DATA'!V851","v":0},{"$f":"'SHALA DARPAN DATA'!K851","v":0},{"$f":"'SHALA DARPAN DATA'!E851","v":0},{"$f":"'SHALA DARPAN DATA'!G851","v":0},{"$f":"'SHALA DARPAN DATA'!H851","v":0},{"$f":"'SHALA DARPAN DATA'!W851","v":0},{"$f":"'SHALA DARPAN DATA'!R851","v":0},{"$f":"'SHALA DARPAN DATA'!S851","v":0},{"$f":"'SHALA DARPAN DATA'!O851","v":0},0,0,0,0,0,0,0,0,0,0,0]
[{"$f":"'SHALA DARPAN DATA'!C852","v":0},{"$f":"'SHALA DARPAN DATA'!A852","v":0},{"$f":"'SHALA DARPAN DATA'!B852","v":0},{"$f":"'SHALA DARPAN DATA'!D852","v":0},{"$f":"'SHALA DARPAN DATA'!J852","v":0},{"$f":"'SHALA DARPAN DATA'!T852","v":0},{"$f":"'SHALA DARPAN DATA'!V852","v":0},{"$f":"'SHALA DARPAN DATA'!K852","v":0},{"$f":"'SHALA DARPAN DATA'!E852","v":0},{"$f":"'SHALA DARPAN DATA'!G852","v":0},{"$f":"'SHALA DARPAN DATA'!H852","v":0},{"$f":"'SHALA DARPAN DATA'!W852","v":0},{"$f":"'SHALA DARPAN DATA'!R852","v":0},{"$f":"'SHALA DARPAN DATA'!S852","v":0},{"$f":"'SHALA DARPAN DATA'!O852","v":0},0,0,0,0,0,0,0,0,0,0,0]
[{"$f":"'SHALA DARPAN DATA'!C853","v":0},{"$f":"'SHALA DARPAN DATA'!A853","v":0},{"$f":"'SHALA DARPAN DATA'!B853","v":0},{"$f":"'SHALA DARPAN DATA'!D853","v":0},{"$f":"'SHALA DARPAN DATA'!J853","v":0},{"$f":"'SHALA DARPAN DATA'!T853","v":0},{"$f":"'SHALA DARPAN DATA'!V853","v":0},{"$f":"'SHALA DARPAN DATA'!K853","v":0},{"$f":"'SHALA DARPAN DATA'!E853","v":0},{"$f":"'SHALA DARPAN DATA'!G853","v":0},{"$f":"'SHALA DARPAN DATA'!H853","v":0},{"$f":"'SHALA DARPAN DATA'!W853","v":0},{"$f":"'SHALA DARPAN DATA'!R853","v":0},{"$f":"'SHALA DARPAN DATA'!S853","v":0},{"$f":"'SHALA DARPAN DATA'!O853","v":0},0,0,0,0,0,0,0,0,0,0,0]
[{"$f":"'SHALA DARPAN DATA'!C854","v":0},{"$f":"'SHALA DARPAN DATA'!A854","v":0},{"$f":"'SHALA DARPAN DATA'!B854","v":0},{"$f":"'SHALA DARPAN DATA'!D854","v":0},{"$f":"'SHALA DARPAN DATA'!J854","v":0},{"$f":"'SHALA DARPAN DATA'!T854","v":0},{"$f":"'SHALA DARPAN DATA'!V854","v":0},{"$f":"'SHALA DARPAN DATA'!K854","v":0},{"$f":"'SHALA DARPAN DATA'!E854","v":0},{"$f":"'SHALA DARPAN DATA'!G854","v":0},{"$f":"'SHALA DARPAN DATA'!H854","v":0},{"$f":"'SHALA DARPAN DATA'!W854","v":0},{"$f":"'SHALA DARPAN DATA'!R854","v":0},{"$f":"'SHALA DARPAN DATA'!S854","v":0},{"$f":"'SHALA DARPAN DATA'!O854","v":0},0,0,0,0,0,0,0,0,0,0,0]
[{"$f":"'SHALA DARPAN DATA'!C855","v":0},{"$f":"'SHALA DARPAN DATA'!A855","v":0},{"$f":"'SHALA DARPAN DATA'!B855","v":0},{"$f":"'SHALA DARPAN DATA'!D855","v":0},{"$f":"'SHALA DARPAN DATA'!J855","v":0},{"$f":"'SHALA DARPAN DATA'!T855","v":0},{"$f":"'SHALA DARPAN DATA'!V855","v":0},{"$f":"'SHALA DARPAN DATA'!K855","v":0},{"$f":"'SHALA DARPAN DATA'!E855","v":0},{"$f":"'SHALA DARPAN DATA'!G855","v":0},{"$f":"'SHALA DARPAN DATA'!H855","v":0},{"$f":"'SHALA DARPAN DATA'!W855","v":0},{"$f":"'SHALA DARPAN DATA'!R855","v":0},{"$f":"'SHALA DARPAN DATA'!S855","v":0},{"$f":"'SHALA DARPAN DATA'!O855","v":0},0,0,0,0,0,0,0,0,0,0,0]
[{"$f":"'SHALA DARPAN DATA'!C856","v":0},{"$f":"'SHALA DARPAN DATA'!A856","v":0},{"$f":"'SHALA DARPAN DATA'!B856","v":0},{"$f":"'SHALA DARPAN DATA'!D856","v":0},{"$f":"'SHALA DARPAN DATA'!J856","v":0},{"$f":"'SHALA DARPAN DATA'!T856","v":0},{"$f":"'SHALA DARPAN DATA'!V856","v":0},{"$f":"'SHALA DARPAN DATA'!K856","v":0},{"$f":"'SHALA DARPAN DATA'!E856","v":0},{"$f":"'SHALA DARPAN DATA'!G856","v":0},{"$f":"'SHALA DARPAN DATA'!H856","v":0},{"$f":"'SHALA DARPAN DATA'!W856","v":0},{"$f":"'SHALA DARPAN DATA'!R856","v":0},{"$f":"'SHALA DARPAN DATA'!S856","v":0},{"$f":"'SHALA DARPAN DATA'!O856","v":0},0,0,0,0,0,0,0,0,0,0,0]
[{"$f":"'SHALA DARPAN DATA'!C857","v":0},{"$f":"'SHALA DARPAN DATA'!A857","v":0},{"$f":"'SHALA DARPAN DATA'!B857","v":0},{"$f":"'SHALA DARPAN DATA'!D857","v":0},{"$f":"'SHALA DARPAN DATA'!J857","v":0},{"$f":"'SHALA DARPAN DATA'!T857","v":0},{"$f":"'SHALA DARPAN DATA'!V857","v":0},{"$f":"'SHALA DARPAN DATA'!K857","v":0},{"$f":"'SHALA DARPAN DATA'!E857","v":0},{"$f":"'SHALA DARPAN DATA'!G857","v":0},{"$f":"'SHALA DARPAN DATA'!H857","v":0},{"$f":"'SHALA DARPAN DATA'!W857","v":0},{"$f":"'SHALA DARPAN DATA'!R857","v":0},{"$f":"'SHALA DARPAN DATA'!S857","v":0},{"$f":"'SHALA DARPAN DATA'!O857","v":0},0,0,0,0,0,0,0,0,0,0,0]
[{"$f":"'SHALA DARPAN DATA'!C858","v":0},{"$f":"'SHALA DARPAN DATA'!A858","v":0},{"$f":"'SHALA DARPAN DATA'!B858","v":0},{"$f":"'SHALA DARPAN DATA'!D858","v":0},{"$f":"'SHALA DARPAN DATA'!J858","v":0},{"$f":"'SHALA DARPAN DATA'!T858","v":0},{"$f":"'SHALA DARPAN DATA'!V858","v":0},{"$f":"'SHALA DARPAN DATA'!K858","v":0},{"$f":"'SHALA DARPAN DATA'!E858","v":0},{"$f":"'SHALA DARPAN DATA'!G858","v":0},{"$f":"'SHALA DARPAN DATA'!H858","v":0},{"$f":"'SHALA DARPAN DATA'!W858","v":0},{"$f":"'SHALA DARPAN DATA'!R858","v":0},{"$f":"'SHALA DARPAN DATA'!S858","v":0},{"$f":"'SHALA DARPAN DATA'!O858","v":0},0,0,0,0,0,0,0,0,0,0,0]
[{"$f":"'SHALA DARPAN DATA'!C859","v":0},{"$f":"'SHALA DARPAN DATA'!A859","v":0},{"$f":"'SHALA DARPAN DATA'!B859","v":0},{"$f":"'SHALA DARPAN DATA'!D859","v":0},{"$f":"'SHALA DARPAN DATA'!J859","v":0},{"$f":"'SHALA DARPAN DATA'!T859","v":0},{"$f":"'SHALA DARPAN DATA'!V859","v":0},{"$f":"'SHALA DARPAN DATA'!K859","v":0},{"$f":"'SHALA DARPAN DATA'!E859","v":0},{"$f":"'SHALA DARPAN DATA'!G859","v":0},{"$f":"'SHALA DARPAN DATA'!H859","v":0},{"$f":"'SHALA DARPAN DATA'!W859","v":0},{"$f":"'SHALA DARPAN DATA'!R859","v":0},{"$f":"'SHALA DARPAN DATA'!S859","v":0},{"$f":"'SHALA DARPAN DATA'!O859","v":0},0,0,0,0,0,0,0,0,0,0,0]
[{"$f":"'SHALA DARPAN DATA'!C860","v":0},{"$f":"'SHALA DARPAN DATA'!A860","v":0},{"$f":"'SHALA DARPAN DATA'!B860","v":0},{"$f":"'SHALA DARPAN DATA'!D860","v":0},{"$f":"'SHALA DARPAN DATA'!J860","v":0},{"$f":"'SHALA DARPAN DATA'!T860","v":0},{"$f":"'SHALA DARPAN DATA'!V860","v":0},{"$f":"'SHALA DARPAN DATA'!K860","v":0},{"$f":"'SHALA DARPAN DATA'!E860","v":0},{"$f":"'SHALA DARPAN DATA'!G860","v":0},{"$f":"'SHALA DARPAN DATA'!H860","v":0},{"$f":"'SHALA DARPAN DATA'!W860","v":0},{"$f":"'SHALA DARPAN DATA'!R860","v":0},{"$f":"'SHALA DARPAN DATA'!S860","v":0},{"$f":"'SHALA DARPAN DATA'!O860","v":0},0,0,0,0,0,0,0,0,0,0,0]
[{"$f":"'SHALA DARPAN DATA'!C861","v":0},{"$f":"'SHALA DARPAN DATA'!A861","v":0},{"$f":"'SHALA DARPAN DATA'!B861","v":0},{"$f":"'SHALA DARPAN DATA'!D861","v":0},{"$f":"'SHALA DARPAN DATA'!J861","v":0},{"$f":"'SHALA DARPAN DATA'!T861","v":0},{"$f":"'SHALA DARPAN DATA'!V861","v":0},{"$f":"'SHALA DARPAN DATA'!K861","v":0},{"$f":"'SHALA DARPAN DATA'!E861","v":0},{"$f":"'SHALA DARPAN DATA'!G861","v":0},{"$f":"'SHALA DARPAN DATA'!H861","v":0},{"$f":"'SHALA DARPAN DATA'!W861","v":0},{"$f":"'SHALA DARPAN DATA'!R861","v":0},{"$f":"'SHALA DARPAN DATA'!S861","v":0},{"$f":"'SHALA DARPAN DATA'!O861","v":0},0,0,0,0,0,0,0,0,0,0,0]
[{"$f":"'SHALA DARPAN DATA'!C862","v":0},{"$f":"'SHALA DARPAN DATA'!A862","v":0},{"$f":"'SHALA DARPAN DATA'!B862","v":0},{"$f":"'SHALA DARPAN DATA'!D862","v":0},{"$f":"'SHALA DARPAN DATA'!J862","v":0},{"$f":"'SHALA DARPAN DATA'!T862","v":0},{"$f":"'SHALA DARPAN DATA'!V862","v":0},{"$f":"'SHALA DARPAN DATA'!K862","v":0},{"$f":"'SHALA DARPAN DATA'!E862","v":0},{"$f":"'SHALA DARPAN DATA'!G862","v":0},{"$f":"'SHALA DARPAN DATA'!H862","v":0},{"$f":"'SHALA DARPAN DATA'!W862","v":0},{"$f":"'SHALA DARPAN DATA'!R862","v":0},{"$f":"'SHALA DARPAN DATA'!S862","v":0},{"$f":"'SHALA DARPAN DATA'!O862","v":0},0,0,0,0,0,0,0,0,0,0,0]
[{"$f":"'SHALA DARPAN DATA'!C863","v":0},{"$f":"'SHALA DARPAN DATA'!A863","v":0},{"$f":"'SHALA DARPAN DATA'!B863","v":0},{"$f":"'SHALA DARPAN DATA'!D863","v":0},{"$f":"'SHALA DARPAN DATA'!J863","v":0},{"$f":"'SHALA DARPAN DATA'!T863","v":0},{"$f":"'SHALA DARPAN DATA'!V863","v":0},{"$f":"'SHALA DARPAN DATA'!K863","v":0},{"$f":"'SHALA DARPAN DATA'!E863","v":0},{"$f":"'SHALA DARPAN DATA'!G863","v":0},{"$f":"'SHALA DARPAN DATA'!H863","v":0},{"$f":"'SHALA DARPAN DATA'!W863","v":0},{"$f":"'SHALA DARPAN DATA'!R863","v":0},{"$f":"'SHALA DARPAN DATA'!S863","v":0},{"$f":"'SHALA DARPAN DATA'!O863","v":0},0,0,0,0,0,0,0,0,0,0,0]
[{"$f":"'SHALA DARPAN DATA'!C864","v":0},{"$f":"'SHALA DARPAN DATA'!A864","v":0},{"$f":"'SHALA DARPAN DATA'!B864","v":0},{"$f":"'SHALA DARPAN DATA'!D864","v":0},{"$f":"'SHALA DARPAN DATA'!J864","v":0},{"$f":"'SHALA DARPAN DATA'!T864","v":0},{"$f":"'SHALA DARPAN DATA'!V864","v":0},{"$f":"'SHALA DARPAN DATA'!K864","v":0},{"$f":"'SHALA DARPAN DATA'!E864","v":0},{"$f":"'SHALA DARPAN DATA'!G864","v":0},{"$f":"'SHALA DARPAN DATA'!H864","v":0},{"$f":"'SHALA DARPAN DATA'!W864","v":0},{"$f":"'SHALA DARPAN DATA'!R864","v":0},{"$f":"'SHALA DARPAN DATA'!S864","v":0},{"$f":"'SHALA DARPAN DATA'!O864","v":0},0,0,0,0,0,0,0,0,0,0,0]
[{"$f":"'SHALA DARPAN DATA'!C865","v":0},{"$f":"'SHALA DARPAN DATA'!A865","v":0},{"$f":"'SHALA DARPAN DATA'!B865","v":0},{"$f":"'SHALA DARPAN DATA'!D865","v":0},{"$f":"'SHALA DARPAN DATA'!J865","v":0},{"$f":"'SHALA DARPAN DATA'!T865","v":0},{"$f":"'SHALA DARPAN DATA'!V865","v":0},{"$f":"'SHALA DARPAN DATA'!K865","v":0},{"$f":"'SHALA DARPAN DATA'!E865","v":0},{"$f":"'SHALA DARPAN DATA'!G865","v":0},{"$f":"'SHALA DARPAN DATA'!H865","v":0},{"$f":"'SHALA DARPAN DATA'!W865","v":0},{"$f":"'SHALA DARPAN DATA'!R865","v":0},{"$f":"'SHALA DARPAN DATA'!S865","v":0},{"$f":"'SHALA DARPAN DATA'!O865","v":0},0,0,0,0,0,0,0,0,0,0,0]
[{"$f":"'SHALA DARPAN DATA'!C866","v":0},{"$f":"'SHALA DARPAN DATA'!A866","v":0},{"$f":"'SHALA DARPAN DATA'!B866","v":0},{"$f":"'SHALA DARPAN DATA'!D866","v":0},{"$f":"'SHALA DARPAN DATA'!J866","v":0},{"$f":"'SHALA DARPAN DATA'!T866","v":0},{"$f":"'SHALA DARPAN DATA'!V866","v":0},{"$f":"'SHALA DARPAN DATA'!K866","v":0},{"$f":"'SHALA DARPAN DATA'!E866","v":0},{"$f":"'SHALA DARPAN DATA'!G866","v":0},{"$f":"'SHALA DARPAN DATA'!H866","v":0},{"$f":"'SHALA DARPAN DATA'!W866","v":0},{"$f":"'SHALA DARPAN DATA'!R866","v":0},{"$f":"'SHALA DARPAN DATA'!S866","v":0},{"$f":"'SHALA DARPAN DATA'!O866","v":0},0,0,0,0,0,0,0,0,0,0,0]
[{"$f":"'SHALA DARPAN DATA'!C867","v":0},{"$f":"'SHALA DARPAN DATA'!A867","v":0},{"$f":"'SHALA DARPAN DATA'!B867","v":0},{"$f":"'SHALA DARPAN DATA'!D867","v":0},{"$f":"'SHALA DARPAN DATA'!J867","v":0},{"$f":"'SHALA DARPAN DATA'!T867","v":0},{"$f":"'SHALA DARPAN DATA'!V867","v":0},{"$f":"'SHALA DARPAN DATA'!K867","v":0},{"$f":"'SHALA DARPAN DATA'!E867","v":0},{"$f":"'SHALA DARPAN DATA'!G867","v":0},{"$f":"'SHALA DARPAN DATA'!H867","v":0},{"$f":"'SHALA DARPAN DATA'!W867","v":0},{"$f":"'SHALA DARPAN DATA'!R867","v":0},{"$f":"'SHALA DARPAN DATA'!S867","v":0},{"$f":"'SHALA DARPAN DATA'!O867","v":0},0,0,0,0,0,0,0,0,0,0,0]
[{"$f":"'SHALA DARPAN DATA'!C868","v":0},{"$f":"'SHALA DARPAN DATA'!A868","v":0},{"$f":"'SHALA DARPAN DATA'!B868","v":0},{"$f":"'SHALA DARPAN DATA'!D868","v":0},{"$f":"'SHALA DARPAN DATA'!J868","v":0},{"$f":"'SHALA DARPAN DATA'!T868","v":0},{"$f":"'SHALA DARPAN DATA'!V868","v":0},{"$f":"'SHALA DARPAN DATA'!K868","v":0},{"$f":"'SHALA DARPAN DATA'!E868","v":0},{"$f":"'SHALA DARPAN DATA'!G868","v":0},{"$f":"'SHALA DARPAN DATA'!H868","v":0},{"$f":"'SHALA DARPAN DATA'!W868","v":0},{"$f":"'SHALA DARPAN DATA'!R868","v":0},{"$f":"'SHALA DARPAN DATA'!S868","v":0},{"$f":"'SHALA DARPAN DATA'!O868","v":0},0,0,0,0,0,0,0,0,0,0,0]
[{"$f":"'SHALA DARPAN DATA'!C869","v":0},{"$f":"'SHALA DARPAN DATA'!A869","v":0},{"$f":"'SHALA DARPAN DATA'!B869","v":0},{"$f":"'SHALA DARPAN DATA'!D869","v":0},{"$f":"'SHALA DARPAN DATA'!J869","v":0},{"$f":"'SHALA DARPAN DATA'!T869","v":0},{"$f":"'SHALA DARPAN DATA'!V869","v":0},{"$f":"'SHALA DARPAN DATA'!K869","v":0},{"$f":"'SHALA DARPAN DATA'!E869","v":0},{"$f":"'SHALA DARPAN DATA'!G869","v":0},{"$f":"'SHALA DARPAN DATA'!H869","v":0},{"$f":"'SHALA DARPAN DATA'!W869","v":0},{"$f":"'SHALA DARPAN DATA'!R869","v":0},{"$f":"'SHALA DARPAN DATA'!S869","v":0},{"$f":"'SHALA DARPAN DATA'!O869","v":0},0,0,0,0,0,0,0,0,0,0,0]
[{"$f":"'SHALA DARPAN DATA'!C870","v":0},{"$f":"'SHALA DARPAN DATA'!A870","v":0},{"$f":"'SHALA DARPAN DATA'!B870","v":0},{"$f":"'SHALA DARPAN DATA'!D870","v":0},{"$f":"'SHALA DARPAN DATA'!J870","v":0},{"$f":"'SHALA DARPAN DATA'!T870","v":0},{"$f":"'SHALA DARPAN DATA'!V870","v":0},{"$f":"'SHALA DARPAN DATA'!K870","v":0},{"$f":"'SHALA DARPAN DATA'!E870","v":0},{"$f":"'SHALA DARPAN DATA'!G870","v":0},{"$f":"'SHALA DARPAN DATA'!H870","v":0},{"$f":"'SHALA DARPAN DATA'!W870","v":0},{"$f":"'SHALA DARPAN DATA'!R870","v":0},{"$f":"'SHALA DARPAN DATA'!S870","v":0},{"$f":"'SHALA DARPAN DATA'!O870","v":0},0,0,0,0,0,0,0,0,0,0,0]
[{"$f":"'SHALA DARPAN DATA'!C871","v":0},{"$f":"'SHALA DARPAN DATA'!A871","v":0},{"$f":"'SHALA DARPAN DATA'!B871","v":0},{"$f":"'SHALA DARPAN DATA'!D871","v":0},{"$f":"'SHALA DARPAN DATA'!J871","v":0},{"$f":"'SHALA DARPAN DATA'!T871","v":0},{"$f":"'SHALA DARPAN DATA'!V871","v":0},{"$f":"'SHALA DARPAN DATA'!K871","v":0},{"$f":"'SHALA DARPAN DATA'!E871","v":0},{"$f":"'SHALA DARPAN DATA'!G871","v":0},{"$f":"'SHALA DARPAN DATA'!H871","v":0},{"$f":"'SHALA DARPAN DATA'!W871","v":0},{"$f":"'SHALA DARPAN DATA'!R871","v":0},{"$f":"'SHALA DARPAN DATA'!S871","v":0},{"$f":"'SHALA DARPAN DATA'!O871","v":0},0,0,0,0,0,0,0,0,0,0,0]
[{"$f":"'SHALA DARPAN DATA'!C872","v":0},{"$f":"'SHALA DARPAN DATA'!A872","v":0},{"$f":"'SHALA DARPAN DATA'!B872","v":0},{"$f":"'SHALA DARPAN DATA'!D872","v":0},{"$f":"'SHALA DARPAN DATA'!J872","v":0},{"$f":"'SHALA DARPAN DATA'!T872","v":0},{"$f":"'SHALA DARPAN DATA'!V872","v":0},{"$f":"'SHALA DARPAN DATA'!K872","v":0},{"$f":"'SHALA DARPAN DATA'!E872","v":0},{"$f":"'SHALA DARPAN DATA'!G872","v":0},{"$f":"'SHALA DARPAN DATA'!H872","v":0},{"$f":"'SHALA DARPAN DATA'!W872","v":0},{"$f":"'SHALA DARPAN DATA'!R872","v":0},{"$f":"'SHALA DARPAN DATA'!S872","v":0},{"$f":"'SHALA DARPAN DATA'!O872","v":0},0,0,0,0,0,0,0,0,0,0,0]
[{"$f":"'SHALA DARPAN DATA'!C873","v":0},{"$f":"'SHALA DARPAN DATA'!A873","v":0},{"$f":"'SHALA DARPAN DATA'!B873","v":0},{"$f":"'SHALA DARPAN DATA'!D873","v":0},{"$f":"'SHALA DARPAN DATA'!J873","v":0},{"$f":"'SHALA DARPAN DATA'!T873","v":0},{"$f":"'SHALA DARPAN DATA'!V873","v":0},{"$f":"'SHALA DARPAN DATA'!K873","v":0},{"$f":"'SHALA DARPAN DATA'!E873","v":0},{"$f":"'SHALA DARPAN DATA'!G873","v":0},{"$f":"'SHALA DARPAN DATA'!H873","v":0},{"$f":"'SHALA DARPAN DATA'!W873","v":0},{"$f":"'SHALA DARPAN DATA'!R873","v":0},{"$f":"'SHALA DARPAN DATA'!S873","v":0},{"$f":"'SHALA DARPAN DATA'!O873","v":0},0,0,0,0,0,0,0,0,0,0,0]
[{"$f":"'SHALA DARPAN DATA'!C874","v":0},{"$f":"'SHALA DARPAN DATA'!A874","v":0},{"$f":"'SHALA DARPAN DATA'!B874","v":0},{"$f":"'SHALA DARPAN DATA'!D874","v":0},{"$f":"'SHALA DARPAN DATA'!J874","v":0},{"$f":"'SHALA DARPAN DATA'!T874","v":0},{"$f":"'SHALA DARPAN DATA'!V874","v":0},{"$f":"'SHALA DARPAN DATA'!K874","v":0},{"$f":"'SHALA DARPAN DATA'!E874","v":0},{"$f":"'SHALA DARPAN DATA'!G874","v":0},{"$f":"'SHALA DARPAN DATA'!H874","v":0},{"$f":"'SHALA DARPAN DATA'!W874","v":0},{"$f":"'SHALA DARPAN DATA'!R874","v":0},{"$f":"'SHALA DARPAN DATA'!S874","v":0},{"$f":"'SHALA DARPAN DATA'!O874","v":0},0,0,0,0,0,0,0,0,0,0,0]
[{"$f":"'SHALA DARPAN DATA'!C875","v":0},{"$f":"'SHALA DARPAN DATA'!A875","v":0},{"$f":"'SHALA DARPAN DATA'!B875","v":0},{"$f":"'SHALA DARPAN DATA'!D875","v":0},{"$f":"'SHALA DARPAN DATA'!J875","v":0},{"$f":"'SHALA DARPAN DATA'!T875","v":0},{"$f":"'SHALA DARPAN DATA'!V875","v":0},{"$f":"'SHALA DARPAN DATA'!K875","v":0},{"$f":"'SHALA DARPAN DATA'!E875","v":0},{"$f":"'SHALA DARPAN DATA'!G875","v":0},{"$f":"'SHALA DARPAN DATA'!H875","v":0},{"$f":"'SHALA DARPAN DATA'!W875","v":0},{"$f":"'SHALA DARPAN DATA'!R875","v":0},{"$f":"'SHALA DARPAN DATA'!S875","v":0},{"$f":"'SHALA DARPAN DATA'!O875","v":0},0,0,0,0,0,0,0,0,0,0,0]
[{"$f":"'SHALA DARPAN DATA'!C876","v":0},{"$f":"'SHALA DARPAN DATA'!A876","v":0},{"$f":"'SHALA DARPAN DATA'!B876","v":0},{"$f":"'SHALA DARPAN DATA'!D876","v":0},{"$f":"'SHALA DARPAN DATA'!J876","v":0},{"$f":"'SHALA DARPAN DATA'!T876","v":0},{"$f":"'SHALA DARPAN DATA'!V876","v":0},{"$f":"'SHALA DARPAN DATA'!K876","v":0},{"$f":"'SHALA DARPAN DATA'!E876","v":0},{"$f":"'SHALA DARPAN DATA'!G876","v":0},{"$f":"'SHALA DARPAN DATA'!H876","v":0},{"$f":"'SHALA DARPAN DATA'!W876","v":0},{"$f":"'SHALA DARPAN DATA'!R876","v":0},{"$f":"'SHALA DARPAN DATA'!S876","v":0},{"$f":"'SHALA DARPAN DATA'!O876","v":0},0,0,0,0,0,0,0,0,0,0,0]
[{"$f":"'SHALA DARPAN DATA'!C877","v":0},{"$f":"'SHALA DARPAN DATA'!A877","v":0},{"$f":"'SHALA DARPAN DATA'!B877","v":0},{"$f":"'SHALA DARPAN DATA'!D877","v":0},{"$f":"'SHALA DARPAN DATA'!J877","v":0},{"$f":"'SHALA DARPAN DATA'!T877","v":0},{"$f":"'SHALA DARPAN DATA'!V877","v":0},{"$f":"'SHALA DARPAN DATA'!K877","v":0},{"$f":"'SHALA DARPAN DATA'!E877","v":0},{"$f":"'SHALA DARPAN DATA'!G877","v":0},{"$f":"'SHALA DARPAN DATA'!H877","v":0},{"$f":"'SHALA DARPAN DATA'!W877","v":0},{"$f":"'SHALA DARPAN DATA'!R877","v":0},{"$f":"'SHALA DARPAN DATA'!S877","v":0},{"$f":"'SHALA DARPAN DATA'!O877","v":0},0,0,0,0,0,0,0,0,0,0,0]
[{"$f":"'SHALA DARPAN DATA'!C878","v":0},{"$f":"'SHALA DARPAN DATA'!A878","v":0},{"$f":"'SHALA DARPAN DATA'!B878","v":0},{"$f":"'SHALA DARPAN DATA'!D878","v":0},{"$f":"'SHALA DARPAN DATA'!J878","v":0},{"$f":"'SHALA DARPAN DATA'!T878","v":0},{"$f":"'SHALA DARPAN DATA'!V878","v":0},{"$f":"'SHALA DARPAN DATA'!K878","v":0},{"$f":"'SHALA DARPAN DATA'!E878","v":0},{"$f":"'SHALA DARPAN DATA'!G878","v":0},{"$f":"'SHALA DARPAN DATA'!H878","v":0},{"$f":"'SHALA DARPAN DATA'!W878","v":0},{"$f":"'SHALA DARPAN DATA'!R878","v":0},{"$f":"'SHALA DARPAN DATA'!S878","v":0},{"$f":"'SHALA DARPAN DATA'!O878","v":0},0,0,0,0,0,0,0,0,0,0,0]
[{"$f":"'SHALA DARPAN DATA'!C879","v":0},{"$f":"'SHALA DARPAN DATA'!A879","v":0},{"$f":"'SHALA DARPAN DATA'!B879","v":0},{"$f":"'SHALA DARPAN DATA'!D879","v":0},{"$f":"'SHALA DARPAN DATA'!J879","v":0},{"$f":"'SHALA DARPAN DATA'!T879","v":0},{"$f":"'SHALA DARPAN DATA'!V879","v":0},{"$f":"'SHALA DARPAN DATA'!K879","v":0},{"$f":"'SHALA DARPAN DATA'!E879","v":0},{"$f":"'SHALA DARPAN DATA'!G879","v":0},{"$f":"'SHALA DARPAN DATA'!H879","v":0},{"$f":"'SHALA DARPAN DATA'!W879","v":0},{"$f":"'SHALA DARPAN DATA'!R879","v":0},{"$f":"'SHALA DARPAN DATA'!S879","v":0},{"$f":"'SHALA DARPAN DATA'!O879","v":0},0,0,0,0,0,0,0,0,0,0,0]
[{"$f":"'SHALA DARPAN DATA'!C880","v":0},{"$f":"'SHALA DARPAN DATA'!A880","v":0},{"$f":"'SHALA DARPAN DATA'!B880","v":0},{"$f":"'SHALA DARPAN DATA'!D880","v":0},{"$f":"'SHALA DARPAN DATA'!J880","v":0},{"$f":"'SHALA DARPAN DATA'!T880","v":0},{"$f":"'SHALA DARPAN DATA'!V880","v":0},{"$f":"'SHALA DARPAN DATA'!K880","v":0},{"$f":"'SHALA DARPAN DATA'!E880","v":0},{"$f":"'SHALA DARPAN DATA'!G880","v":0},{"$f":"'SHALA DARPAN DATA'!H880","v":0},{"$f":"'SHALA DARPAN DATA'!W880","v":0},{"$f":"'SHALA DARPAN DATA'!R880","v":0},{"$f":"'SHALA DARPAN DATA'!S880","v":0},{"$f":"'SHALA DARPAN DATA'!O880","v":0},0,0,0,0,0,0,0,0,0,0,0]
[{"$f":"'SHALA DARPAN DATA'!C881","v":0},{"$f":"'SHALA DARPAN DATA'!A881","v":0},{"$f":"'SHALA DARPAN DATA'!B881","v":0},{"$f":"'SHALA DARPAN DATA'!D881","v":0},{"$f":"'SHALA DARPAN DATA'!J881","v":0},{"$f":"'SHALA DARPAN DATA'!T881","v":0},{"$f":"'SHALA DARPAN DATA'!V881","v":0},{"$f":"'SHALA DARPAN DATA'!K881","v":0},{"$f":"'SHALA DARPAN DATA'!E881","v":0},{"$f":"'SHALA DARPAN DATA'!G881","v":0},{"$f":"'SHALA DARPAN DATA'!H881","v":0},{"$f":"'SHALA DARPAN DATA'!W881","v":0},{"$f":"'SHALA DARPAN DATA'!R881","v":0},{"$f":"'SHALA DARPAN DATA'!S881","v":0},{"$f":"'SHALA DARPAN DATA'!O881","v":0},0,0,0,0,0,0,0,0,0,0,0]
[{"$f":"'SHALA DARPAN DATA'!C882","v":0},{"$f":"'SHALA DARPAN DATA'!A882","v":0},{"$f":"'SHALA DARPAN DATA'!B882","v":0},{"$f":"'SHALA DARPAN DATA'!D882","v":0},{"$f":"'SHALA DARPAN DATA'!J882","v":0},{"$f":"'SHALA DARPAN DATA'!T882","v":0},{"$f":"'SHALA DARPAN DATA'!V882","v":0},{"$f":"'SHALA DARPAN DATA'!K882","v":0},{"$f":"'SHALA DARPAN DATA'!E882","v":0},{"$f":"'SHALA DARPAN DATA'!G882","v":0},{"$f":"'SHALA DARPAN DATA'!H882","v":0},{"$f":"'SHALA DARPAN DATA'!W882","v":0},{"$f":"'SHALA DARPAN DATA'!R882","v":0},{"$f":"'SHALA DARPAN DATA'!S882","v":0},{"$f":"'SHALA DARPAN DATA'!O882","v":0},0,0,0,0,0,0,0,0,0,0,0]
[{"$f":"'SHALA DARPAN DATA'!C883","v":0},{"$f":"'SHALA DARPAN DATA'!A883","v":0},{"$f":"'SHALA DARPAN DATA'!B883","v":0},{"$f":"'SHALA DARPAN DATA'!D883","v":0},{"$f":"'SHALA DARPAN DATA'!J883","v":0},{"$f":"'SHALA DARPAN DATA'!T883","v":0},{"$f":"'SHALA DARPAN DATA'!V883","v":0},{"$f":"'SHALA DARPAN DATA'!K883","v":0},{"$f":"'SHALA DARPAN DATA'!E883","v":0},{"$f":"'SHALA DARPAN DATA'!G883","v":0},{"$f":"'SHALA DARPAN DATA'!H883","v":0},{"$f":"'SHALA DARPAN DATA'!W883","v":0},{"$f":"'SHALA DARPAN DATA'!R883","v":0},{"$f":"'SHALA DARPAN DATA'!S883","v":0},{"$f":"'SHALA DARPAN DATA'!O883","v":0},0,0,0,0,0,0,0,0,0,0,0]
[{"$f":"'SHALA DARPAN DATA'!C884","v":0},{"$f":"'SHALA DARPAN DATA'!A884","v":0},{"$f":"'SHALA DARPAN DATA'!B884","v":0},{"$f":"'SHALA DARPAN DATA'!D884","v":0},{"$f":"'SHALA DARPAN DATA'!J884","v":0},{"$f":"'SHALA DARPAN DATA'!T884","v":0},{"$f":"'SHALA DARPAN DATA'!V884","v":0},{"$f":"'SHALA DARPAN DATA'!K884","v":0},{"$f":"'SHALA DARPAN DATA'!E884","v":0},{"$f":"'SHALA DARPAN DATA'!G884","v":0},{"$f":"'SHALA DARPAN DATA'!H884","v":0},{"$f":"'SHALA DARPAN DATA'!W884","v":0},{"$f":"'SHALA DARPAN DATA'!R884","v":0},{"$f":"'SHALA DARPAN DATA'!S884","v":0},{"$f":"'SHALA DARPAN DATA'!O884","v":0},0,0,0,0,0,0,0,0,0,0,0]
[{"$f":"'SHALA DARPAN DATA'!C885","v":0},{"$f":"'SHALA DARPAN DATA'!A885","v":0},{"$f":"'SHALA DARPAN DATA'!B885","v":0},{"$f":"'SHALA DARPAN DATA'!D885","v":0},{"$f":"'SHALA DARPAN DATA'!J885","v":0},{"$f":"'SHALA DARPAN DATA'!T885","v":0},{"$f":"'SHALA DARPAN DATA'!V885","v":0},{"$f":"'SHALA DARPAN DATA'!K885","v":0},{"$f":"'SHALA DARPAN DATA'!E885","v":0},{"$f":"'SHALA DARPAN DATA'!G885","v":0},{"$f":"'SHALA DARPAN DATA'!H885","v":0},{"$f":"'SHALA DARPAN DATA'!W885","v":0},{"$f":"'SHALA DARPAN DATA'!R885","v":0},{"$f":"'SHALA DARPAN DATA'!S885","v":0},{"$f":"'SHALA DARPAN DATA'!O885","v":0},0,0,0,0,0,0,0,0,0,0,0]
[{"$f":"'SHALA DARPAN DATA'!C886","v":0},{"$f":"'SHALA DARPAN DATA'!A886","v":0},{"$f":"'SHALA DARPAN DATA'!B886","v":0},{"$f":"'SHALA DARPAN DATA'!D886","v":0},{"$f":"'SHALA DARPAN DATA'!J886","v":0},{"$f":"'SHALA DARPAN DATA'!T886","v":0},{"$f":"'SHALA DARPAN DATA'!V886","v":0},{"$f":"'SHALA DARPAN DATA'!K886","v":0},{"$f":"'SHALA DARPAN DATA'!E886","v":0},{"$f":"'SHALA DARPAN DATA'!G886","v":0},{"$f":"'SHALA DARPAN DATA'!H886","v":0},{"$f":"'SHALA DARPAN DATA'!W886","v":0},{"$f":"'SHALA DARPAN DATA'!R886","v":0},{"$f":"'SHALA DARPAN DATA'!S886","v":0},{"$f":"'SHALA DARPAN DATA'!O886","v":0},0,0,0,0,0,0,0,0,0,0,0]
[{"$f":"'SHALA DARPAN DATA'!C887","v":0},{"$f":"'SHALA DARPAN DATA'!A887","v":0},{"$f":"'SHALA DARPAN DATA'!B887","v":0},{"$f":"'SHALA DARPAN DATA'!D887","v":0},{"$f":"'SHALA DARPAN DATA'!J887","v":0},{"$f":"'SHALA DARPAN DATA'!T887","v":0},{"$f":"'SHALA DARPAN DATA'!V887","v":0},{"$f":"'SHALA DARPAN DATA'!K887","v":0},{"$f":"'SHALA DARPAN DATA'!E887","v":0},{"$f":"'SHALA DARPAN DATA'!G887","v":0},{"$f":"'SHALA DARPAN DATA'!H887","v":0},{"$f":"'SHALA DARPAN DATA'!W887","v":0},{"$f":"'SHALA DARPAN DATA'!R887","v":0},{"$f":"'SHALA DARPAN DATA'!S887","v":0},{"$f":"'SHALA DARPAN DATA'!O887","v":0},0,0,0,0,0,0,0,0,0,0,0]
[{"$f":"'SHALA DARPAN DATA'!C888","v":0},{"$f":"'SHALA DARPAN DATA'!A888","v":0},{"$f":"'SHALA DARPAN DATA'!B888","v":0},{"$f":"'SHALA DARPAN DATA'!D888","v":0},{"$f":"'SHALA DARPAN DATA'!J888","v":0},{"$f":"'SHALA DARPAN DATA'!T888","v":0},{"$f":"'SHALA DARPAN DATA'!V888","v":0},{"$f":"'SHALA DARPAN DATA'!K888","v":0},{"$f":"'SHALA DARPAN DATA'!E888","v":0},{"$f":"'SHALA DARPAN DATA'!G888","v":0},{"$f":"'SHALA DARPAN DATA'!H888","v":0},{"$f":"'SHALA DARPAN DATA'!W888","v":0},{"$f":"'SHALA DARPAN DATA'!R888","v":0},{"$f":"'SHALA DARPAN DATA'!S888","v":0},{"$f":"'SHALA DARPAN DATA'!O888","v":0},0,0,0,0,0,0,0,0,0,0,0]
[{"$f":"'SHALA DARPAN DATA'!C889","v":0},{"$f":"'SHALA DARPAN DATA'!A889","v":0},{"$f":"'SHALA DARPAN DATA'!B889","v":0},{"$f":"'SHALA DARPAN DATA'!D889","v":0},{"$f":"'SHALA DARPAN DATA'!J889","v":0},{"$f":"'SHALA DARPAN DATA'!T889","v":0},{"$f":"'SHALA DARPAN DATA'!V889","v":0},{"$f":"'SHALA DARPAN DATA'!K889","v":0},{"$f":"'SHALA DARPAN DATA'!E889","v":0},{"$f":"'SHALA DARPAN DATA'!G889","v":0},{"$f":"'SHALA DARPAN DATA'!H889","v":0},{"$f":"'SHALA DARPAN DATA'!W889","v":0},{"$f":"'SHALA DARPAN DATA'!R889","v":0},{"$f":"'SHALA DARPAN DATA'!S889","v":0},{"$f":"'SHALA DARPAN DATA'!O889","v":0},0,0,0,0,0,0,0,0,0,0,0]
[{"$f":"'SHALA DARPAN DATA'!C890","v":0},{"$f":"'SHALA DARPAN DATA'!A890","v":0},{"$f":"'SHALA DARPAN DATA'!B890","v":0},{"$f":"'SHALA DARPAN DATA'!D890","v":0},{"$f":"'SHALA DARPAN DATA'!J890","v":0},{"$f":"'SHALA DARPAN DATA'!T890","v":0},{"$f":"'SHALA DARPAN DATA'!V890","v":0},{"$f":"'SHALA DARPAN DATA'!K890","v":0},{"$f":"'SHALA DARPAN DATA'!E890","v":0},{"$f":"'SHALA DARPAN DATA'!G890","v":0},{"$f":"'SHALA DARPAN DATA'!H890","v":0},{"$f":"'SHALA DARPAN DATA'!W890","v":0},{"$f":"'SHALA DARPAN DATA'!R890","v":0},{"$f":"'SHALA DARPAN DATA'!S890","v":0},{"$f":"'SHALA DARPAN DATA'!O890","v":0},0,0,0,0,0,0,0,0,0,0,0]
[{"$f":"'SHALA DARPAN DATA'!C891","v":0},{"$f":"'SHALA DARPAN DATA'!A891","v":0},{"$f":"'SHALA DARPAN DATA'!B891","v":0},{"$f":"'SHALA DARPAN DATA'!D891","v":0},{"$f":"'SHALA DARPAN DATA'!J891","v":0},{"$f":"'SHALA DARPAN DATA'!T891","v":0},{"$f":"'SHALA DARPAN DATA'!V891","v":0},{"$f":"'SHALA DARPAN DATA'!K891","v":0},{"$f":"'SHALA DARPAN DATA'!E891","v":0},{"$f":"'SHALA DARPAN DATA'!G891","v":0},{"$f":"'SHALA DARPAN DATA'!H891","v":0},{"$f":"'SHALA DARPAN DATA'!W891","v":0},{"$f":"'SHALA DARPAN DATA'!R891","v":0},{"$f":"'SHALA DARPAN DATA'!S891","v":0},{"$f":"'SHALA DARPAN DATA'!O891","v":0},0,0,0,0,0,0,0,0,0,0,0]
[{"$f":"'SHALA DARPAN DATA'!C892","v":0},{"$f":"'SHALA DARPAN DATA'!A892","v":0},{"$f":"'SHALA DARPAN DATA'!B892","v":0},{"$f":"'SHALA DARPAN DATA'!D892","v":0},{"$f":"'SHALA DARPAN DATA'!J892","v":0},{"$f":"'SHALA DARPAN DATA'!T892","v":0},{"$f":"'SHALA DARPAN DATA'!V892","v":0},{"$f":"'SHALA DARPAN DATA'!K892","v":0},{"$f":"'SHALA DARPAN DATA'!E892","v":0},{"$f":"'SHALA DARPAN DATA'!G892","v":0},{"$f":"'SHALA DARPAN DATA'!H892","v":0},{"$f":"'SHALA DARPAN DATA'!W892","v":0},{"$f":"'SHALA DARPAN DATA'!R892","v":0},{"$f":"'SHALA DARPAN DATA'!S892","v":0},{"$f":"'SHALA DARPAN DATA'!O892","v":0},0,0,0,0,0,0,0,0,0,0,0]
[{"$f":"'SHALA DARPAN DATA'!C893","v":0},{"$f":"'SHALA DARPAN DATA'!A893","v":0},{"$f":"'SHALA DARPAN DATA'!B893","v":0},{"$f":"'SHALA DARPAN DATA'!D893","v":0},{"$f":"'SHALA DARPAN DATA'!J893","v":0},{"$f":"'SHALA DARPAN DATA'!T893","v":0},{"$f":"'SHALA DARPAN DATA'!V893","v":0},{"$f":"'SHALA DARPAN DATA'!K893","v":0},{"$f":"'SHALA DARPAN DATA'!E893","v":0},{"$f":"'SHALA DARPAN DATA'!G893","v":0},{"$f":"'SHALA DARPAN DATA'!H893","v":0},{"$f":"'SHALA DARPAN DATA'!W893","v":0},{"$f":"'SHALA DARPAN DATA'!R893","v":0},{"$f":"'SHALA DARPAN DATA'!S893","v":0},{"$f":"'SHALA DARPAN DATA'!O893","v":0},0,0,0,0,0,0,0,0,0,0,0]
[{"$f":"'SHALA DARPAN DATA'!C894","v":0},{"$f":"'SHALA DARPAN DATA'!A894","v":0},{"$f":"'SHALA DARPAN DATA'!B894","v":0},{"$f":"'SHALA DARPAN DATA'!D894","v":0},{"$f":"'SHALA DARPAN DATA'!J894","v":0},{"$f":"'SHALA DARPAN DATA'!T894","v":0},{"$f":"'SHALA DARPAN DATA'!V894","v":0},{"$f":"'SHALA DARPAN DATA'!K894","v":0},{"$f":"'SHALA DARPAN DATA'!E894","v":0},{"$f":"'SHALA DARPAN DATA'!G894","v":0},{"$f":"'SHALA DARPAN DATA'!H894","v":0},{"$f":"'SHALA DARPAN DATA'!W894","v":0},{"$f":"'SHALA DARPAN DATA'!R894","v":0},{"$f":"'SHALA DARPAN DATA'!S894","v":0},{"$f":"'SHALA DARPAN DATA'!O894","v":0},0,0,0,0,0,0,0,0,0,0,0]
[{"$f":"'SHALA DARPAN DATA'!C895","v":0},{"$f":"'SHALA DARPAN DATA'!A895","v":0},{"$f":"'SHALA DARPAN DATA'!B895","v":0},{"$f":"'SHALA DARPAN DATA'!D895","v":0},{"$f":"'SHALA DARPAN DATA'!J895","v":0},{"$f":"'SHALA DARPAN DATA'!T895","v":0},{"$f":"'SHALA DARPAN DATA'!V895","v":0},{"$f":"'SHALA DARPAN DATA'!K895","v":0},{"$f":"'SHALA DARPAN DATA'!E895","v":0},{"$f":"'SHALA DARPAN DATA'!G895","v":0},{"$f":"'SHALA DARPAN DATA'!H895","v":0},{"$f":"'SHALA DARPAN DATA'!W895","v":0},{"$f":"'SHALA DARPAN DATA'!R895","v":0},{"$f":"'SHALA DARPAN DATA'!S895","v":0},{"$f":"'SHALA DARPAN DATA'!O895","v":0},0,0,0,0,0,0,0,0,0,0,0]
[{"$f":"'SHALA DARPAN DATA'!C896","v":0},{"$f":"'SHALA DARPAN DATA'!A896","v":0},{"$f":"'SHALA DARPAN DATA'!B896","v":0},{"$f":"'SHALA DARPAN DATA'!D896","v":0},{"$f":"'SHALA DARPAN DATA'!J896","v":0},{"$f":"'SHALA DARPAN DATA'!T896","v":0},{"$f":"'SHALA DARPAN DATA'!V896","v":0},{"$f":"'SHALA DARPAN DATA'!K896","v":0},{"$f":"'SHALA DARPAN DATA'!E896","v":0},{"$f":"'SHALA DARPAN DATA'!G896","v":0},{"$f":"'SHALA DARPAN DATA'!H896","v":0},{"$f":"'SHALA DARPAN DATA'!W896","v":0},{"$f":"'SHALA DARPAN DATA'!R896","v":0},{"$f":"'SHALA DARPAN DATA'!S896","v":0},{"$f":"'SHALA DARPAN DATA'!O896","v":0},0,0,0,0,0,0,0,0,0,0,0]
[{"$f":"'SHALA DARPAN DATA'!C897","v":0},{"$f":"'SHALA DARPAN DATA'!A897","v":0},{"$f":"'SHALA DARPAN DATA'!B897","v":0},{"$f":"'SHALA DARPAN DATA'!D897","v":0},{"$f":"'SHALA DARPAN DATA'!J897","v":0},{"$f":"'SHALA DARPAN DATA'!T897","v":0},{"$f":"'SHALA DARPAN DATA'!V897","v":0},{"$f":"'SHALA DARPAN DATA'!K897","v":0},{"$f":"'SHALA DARPAN DATA'!E897","v":0},{"$f":"'SHALA DARPAN DATA'!G897","v":0},{"$f":"'SHALA DARPAN DATA'!H897","v":0},{"$f":"'SHALA DARPAN DATA'!W897","v":0},{"$f":"'SHALA DARPAN DATA'!R897","v":0},{"$f":"'SHALA DARPAN DATA'!S897","v":0},{"$f":"'SHALA DARPAN DATA'!O897","v":0},0,0,0,0,0,0,0,0,0,0,0]
[{"$f":"'SHALA DARPAN DATA'!C898","v":0},{"$f":"'SHALA DARPAN DATA'!A898","v":0},{"$f":"'SHALA DARPAN DATA'!B898","v":0},{"$f":"'SHALA DARPAN DATA'!D898","v":0},{"$f":"'SHALA DARPAN DATA'!J898","v":0},{"$f":"'SHALA DARPAN DATA'!T898","v":0},{"$f":"'SHALA DARPAN DATA'!V898","v":0},{"$f":"'SHALA DARPAN DATA'!K898","v":0},{"$f":"'SHALA DARPAN DATA'!E898","v":0},{"$f":"'SHALA DARPAN DATA'!G898","v":0},{"$f":"'SHALA DARPAN DATA'!H898","v":0},{"$f":"'SHALA DARPAN DATA'!W898","v":0},{"$f":"'SHALA DARPAN DATA'!R898","v":0},{"$f":"'SHALA DARPAN DATA'!S898","v":0},{"$f":"'SHALA DARPAN DATA'!O898","v":0},0,0,0,0,0,0,0,0,0,0,0]
[{"$f":"'SHALA DARPAN DATA'!C899","v":0},{"$f":"'SHALA DARPAN DATA'!A899","v":0},{"$f":"'SHALA DARPAN DATA'!B899","v":0},{"$f":"'SHALA DARPAN DATA'!D899","v":0},{"$f":"'SHALA DARPAN DATA'!J899","v":0},{"$f":"'SHALA DARPAN DATA'!T899","v":0},{"$f":"'SHALA DARPAN DATA'!V899","v":0},{"$f":"'SHALA DARPAN DATA'!K899","v":0},{"$f":"'SHALA DARPAN DATA'!E899","v":0},{"$f":"'SHALA DARPAN DATA'!G899","v":0},{"$f":"'SHALA DARPAN DATA'!H899","v":0},{"$f":"'SHALA DARPAN DATA'!W899","v":0},{"$f":"'SHALA DARPAN DATA'!R899","v":0},{"$f":"'SHALA DARPAN DATA'!S899","v":0},{"$f":"'SHALA DARPAN DATA'!O899","v":0},0,0,0,0,0,0,0,0,0,0,0]
[{"$f":"'SHALA DARPAN DATA'!C900","v":0},{"$f":"'SHALA DARPAN DATA'!A900","v":0},{"$f":"'SHALA DARPAN DATA'!B900","v":0},{"$f":"'SHALA DARPAN DATA'!D900","v":0},{"$f":"'SHALA DARPAN DATA'!J900","v":0},{"$f":"'SHALA DARPAN DATA'!T900","v":0},{"$f":"'SHALA DARPAN DATA'!V900","v":0},{"$f":"'SHALA DARPAN DATA'!K900","v":0},{"$f":"'SHALA DARPAN DATA'!E900","v":0},{"$f":"'SHALA DARPAN DATA'!G900","v":0},{"$f":"'SHALA DARPAN DATA'!H900","v":0},{"$f":"'SHALA DARPAN DATA'!W900","v":0},{"$f":"'SHALA DARPAN DATA'!R900","v":0},{"$f":"'SHALA DARPAN DATA'!S900","v":0},{"$f":"'SHALA DARPAN DATA'!O900","v":0},0,0,0,0,0,0,0,0,0,0,0]
[{"$f":"'SHALA DARPAN DATA'!C901","v":0},{"$f":"'SHALA DARPAN DATA'!A901","v":0},{"$f":"'SHALA DARPAN DATA'!B901","v":0},{"$f":"'SHALA DARPAN DATA'!D901","v":0},{"$f":"'SHALA DARPAN DATA'!J901","v":0},{"$f":"'SHALA DARPAN DATA'!T901","v":0},{"$f":"'SHALA DARPAN DATA'!V901","v":0},{"$f":"'SHALA DARPAN DATA'!K901","v":0},{"$f":"'SHALA DARPAN DATA'!E901","v":0},{"$f":"'SHALA DARPAN DATA'!G901","v":0},{"$f":"'SHALA DARPAN DATA'!H901","v":0},{"$f":"'SHALA DARPAN DATA'!W901","v":0},{"$f":"'SHALA DARPAN DATA'!R901","v":0},{"$f":"'SHALA DARPAN DATA'!S901","v":0},{"$f":"'SHALA DARPAN DATA'!O901","v":0},0,0,0,0,0,0,0,0,0,0,0]
[{"$f":"'SHALA DARPAN DATA'!C902","v":0},{"$f":"'SHALA DARPAN DATA'!A902","v":0},{"$f":"'SHALA DARPAN DATA'!B902","v":0},{"$f":"'SHALA DARPAN DATA'!D902","v":0},{"$f":"'SHALA DARPAN DATA'!J902","v":0},{"$f":"'SHALA DARPAN DATA'!T902","v":0},{"$f":"'SHALA DARPAN DATA'!V902","v":0},{"$f":"'SHALA DARPAN DATA'!K902","v":0},{"$f":"'SHALA DARPAN DATA'!E902","v":0},{"$f":"'SHALA DARPAN DATA'!G902","v":0},{"$f":"'SHALA DARPAN DATA'!H902","v":0},{"$f":"'SHALA DARPAN DATA'!W902","v":0},{"$f":"'SHALA DARPAN DATA'!R902","v":0},{"$f":"'SHALA DARPAN DATA'!S902","v":0},{"$f":"'SHALA DARPAN DATA'!O902","v":0},0,0,0,0,0,0,0,0,0,0,0]
[{"$f":"'SHALA DARPAN DATA'!C903","v":0},{"$f":"'SHALA DARPAN DATA'!A903","v":0},{"$f":"'SHALA DARPAN DATA'!B903","v":0},{"$f":"'SHALA DARPAN DATA'!D903","v":0},{"$f":"'SHALA DARPAN DATA'!J903","v":0},{"$f":"'SHALA DARPAN DATA'!T903","v":0},{"$f":"'SHALA DARPAN DATA'!V903","v":0},{"$f":"'SHALA DARPAN DATA'!K903","v":0},{"$f":"'SHALA DARPAN DATA'!E903","v":0},{"$f":"'SHALA DARPAN DATA'!G903","v":0},{"$f":"'SHALA DARPAN DATA'!H903","v":0},{"$f":"'SHALA DARPAN DATA'!W903","v":0},{"$f":"'SHALA DARPAN DATA'!R903","v":0},{"$f":"'SHALA DARPAN DATA'!S903","v":0},{"$f":"'SHALA DARPAN DATA'!O903","v":0},0,0,0,0,0,0,0,0,0,0,0]
[{"$f":"'SHALA DARPAN DATA'!C904","v":0},{"$f":"'SHALA DARPAN DATA'!A904","v":0},{"$f":"'SHALA DARPAN DATA'!B904","v":0},{"$f":"'SHALA DARPAN DATA'!D904","v":0},{"$f":"'SHALA DARPAN DATA'!J904","v":0},{"$f":"'SHALA DARPAN DATA'!T904","v":0},{"$f":"'SHALA DARPAN DATA'!V904","v":0},{"$f":"'SHALA DARPAN DATA'!K904","v":0},{"$f":"'SHALA DARPAN DATA'!E904","v":0},{"$f":"'SHALA DARPAN DATA'!G904","v":0},{"$f":"'SHALA DARPAN DATA'!H904","v":0},{"$f":"'SHALA DARPAN DATA'!W904","v":0},{"$f":"'SHALA DARPAN DATA'!R904","v":0},{"$f":"'SHALA DARPAN DATA'!S904","v":0},{"$f":"'SHALA DARPAN DATA'!O904","v":0},0,0,0,0,0,0,0,0,0,0,0]
[{"$f":"'SHALA DARPAN DATA'!C905","v":0},{"$f":"'SHALA DARPAN DATA'!A905","v":0},{"$f":"'SHALA DARPAN DATA'!B905","v":0},{"$f":"'SHALA DARPAN DATA'!D905","v":0},{"$f":"'SHALA DARPAN DATA'!J905","v":0},{"$f":"'SHALA DARPAN DATA'!T905","v":0},{"$f":"'SHALA DARPAN DATA'!V905","v":0},{"$f":"'SHALA DARPAN DATA'!K905","v":0},{"$f":"'SHALA DARPAN DATA'!E905","v":0},{"$f":"'SHALA DARPAN DATA'!G905","v":0},{"$f":"'SHALA DARPAN DATA'!H905","v":0},{"$f":"'SHALA DARPAN DATA'!W905","v":0},{"$f":"'SHALA DARPAN DATA'!R905","v":0},{"$f":"'SHALA DARPAN DATA'!S905","v":0},{"$f":"'SHALA DARPAN DATA'!O905","v":0},0,0,0,0,0,0,0,0,0,0,0]
[{"$f":"'SHALA DARPAN DATA'!C906","v":0},{"$f":"'SHALA DARPAN DATA'!A906","v":0},{"$f":"'SHALA DARPAN DATA'!B906","v":0},{"$f":"'SHALA DARPAN DATA'!D906","v":0},{"$f":"'SHALA DARPAN DATA'!J906","v":0},{"$f":"'SHALA DARPAN DATA'!T906","v":0},{"$f":"'SHALA DARPAN DATA'!V906","v":0},{"$f":"'SHALA DARPAN DATA'!K906","v":0},{"$f":"'SHALA DARPAN DATA'!E906","v":0},{"$f":"'SHALA DARPAN DATA'!G906","v":0},{"$f":"'SHALA DARPAN DATA'!H906","v":0},{"$f":"'SHALA DARPAN DATA'!W906","v":0},{"$f":"'SHALA DARPAN DATA'!R906","v":0},{"$f":"'SHALA DARPAN DATA'!S906","v":0},{"$f":"'SHALA DARPAN DATA'!O906","v":0},0,0,0,0,0,0,0,0,0,0,0]
[{"$f":"'SHALA DARPAN DATA'!C907","v":0},{"$f":"'SHALA DARPAN DATA'!A907","v":0},{"$f":"'SHALA DARPAN DATA'!B907","v":0},{"$f":"'SHALA DARPAN DATA'!D907","v":0},{"$f":"'SHALA DARPAN DATA'!J907","v":0},{"$f":"'SHALA DARPAN DATA'!T907","v":0},{"$f":"'SHALA DARPAN DATA'!V907","v":0},{"$f":"'SHALA DARPAN DATA'!K907","v":0},{"$f":"'SHALA DARPAN DATA'!E907","v":0},{"$f":"'SHALA DARPAN DATA'!G907","v":0},{"$f":"'SHALA DARPAN DATA'!H907","v":0},{"$f":"'SHALA DARPAN DATA'!W907","v":0},{"$f":"'SHALA DARPAN DATA'!R907","v":0},{"$f":"'SHALA DARPAN DATA'!S907","v":0},{"$f":"'SHALA DARPAN DATA'!O907","v":0},0,0,0,0,0,0,0,0,0,0,0]
[{"$f":"'SHALA DARPAN DATA'!C908","v":0},{"$f":"'SHALA DARPAN DATA'!A908","v":0},{"$f":"'SHALA DARPAN DATA'!B908","v":0},{"$f":"'SHALA DARPAN DATA'!D908","v":0},{"$f":"'SHALA DARPAN DATA'!J908","v":0},{"$f":"'SHALA DARPAN DATA'!T908","v":0},{"$f":"'SHALA DARPAN DATA'!V908","v":0},{"$f":"'SHALA DARPAN DATA'!K908","v":0},{"$f":"'SHALA DARPAN DATA'!E908","v":0},{"$f":"'SHALA DARPAN DATA'!G908","v":0},{"$f":"'SHALA DARPAN DATA'!H908","v":0},{"$f":"'SHALA DARPAN DATA'!W908","v":0},{"$f":"'SHALA DARPAN DATA'!R908","v":0},{"$f":"'SHALA DARPAN DATA'!S908","v":0},{"$f":"'SHALA DARPAN DATA'!O908","v":0},0,0,0,0,0,0,0,0,0,0,0]
[{"$f":"'SHALA DARPAN DATA'!C909","v":0},{"$f":"'SHALA DARPAN DATA'!A909","v":0},{"$f":"'SHALA DARPAN DATA'!B909","v":0},{"$f":"'SHALA DARPAN DATA'!D909","v":0},{"$f":"'SHALA DARPAN DATA'!J909","v":0},{"$f":"'SHALA DARPAN DATA'!T909","v":0},{"$f":"'SHALA DARPAN DATA'!V909","v":0},{"$f":"'SHALA DARPAN DATA'!K909","v":0},{"$f":"'SHALA DARPAN DATA'!E909","v":0},{"$f":"'SHALA DARPAN DATA'!G909","v":0},{"$f":"'SHALA DARPAN DATA'!H909","v":0},{"$f":"'SHALA DARPAN DATA'!W909","v":0},{"$f":"'SHALA DARPAN DATA'!R909","v":0},{"$f":"'SHALA DARPAN DATA'!S909","v":0},{"$f":"'SHALA DARPAN DATA'!O909","v":0},0,0,0,0,0,0,0,0,0,0,0]
[{"$f":"'SHALA DARPAN DATA'!C910","v":0},{"$f":"'SHALA DARPAN DATA'!A910","v":0},{"$f":"'SHALA DARPAN DATA'!B910","v":0},{"$f":"'SHALA DARPAN DATA'!D910","v":0},{"$f":"'SHALA DARPAN DATA'!J910","v":0},{"$f":"'SHALA DARPAN DATA'!T910","v":0},{"$f":"'SHALA DARPAN DATA'!V910","v":0},{"$f":"'SHALA DARPAN DATA'!K910","v":0},{"$f":"'SHALA DARPAN DATA'!E910","v":0},{"$f":"'SHALA DARPAN DATA'!G910","v":0},{"$f":"'SHALA DARPAN DATA'!H910","v":0},{"$f":"'SHALA DARPAN DATA'!W910","v":0},{"$f":"'SHALA DARPAN DATA'!R910","v":0},{"$f":"'SHALA DARPAN DATA'!S910","v":0},{"$f":"'SHALA DARPAN DATA'!O910","v":0},0,0,0,0,0,0,0,0,0,0,0]
[{"$f":"'SHALA DARPAN DATA'!C911","v":0},{"$f":"'SHALA DARPAN DATA'!A911","v":0},{"$f":"'SHALA DARPAN DATA'!B911","v":0},{"$f":"'SHALA DARPAN DATA'!D911","v":0},{"$f":"'SHALA DARPAN DATA'!J911","v":0},{"$f":"'SHALA DARPAN DATA'!T911","v":0},{"$f":"'SHALA DARPAN DATA'!V911","v":0},{"$f":"'SHALA DARPAN DATA'!K911","v":0},{"$f":"'SHALA DARPAN DATA'!E911","v":0},{"$f":"'SHALA DARPAN DATA'!G911","v":0},{"$f":"'SHALA DARPAN DATA'!H911","v":0},{"$f":"'SHALA DARPAN DATA'!W911","v":0},{"$f":"'SHALA DARPAN DATA'!R911","v":0},{"$f":"'SHALA DARPAN DATA'!S911","v":0},{"$f":"'SHALA DARPAN DATA'!O911","v":0},0,0,0,0,0,0,0,0,0,0,0]
[{"$f":"'SHALA DARPAN DATA'!C912","v":0},{"$f":"'SHALA DARPAN DATA'!A912","v":0},{"$f":"'SHALA DARPAN DATA'!B912","v":0},{"$f":"'SHALA DARPAN DATA'!D912","v":0},{"$f":"'SHALA DARPAN DATA'!J912","v":0},{"$f":"'SHALA DARPAN DATA'!T912","v":0},{"$f":"'SHALA DARPAN DATA'!V912","v":0},{"$f":"'SHALA DARPAN DATA'!K912","v":0},{"$f":"'SHALA DARPAN DATA'!E912","v":0},{"$f":"'SHALA DARPAN DATA'!G912","v":0},{"$f":"'SHALA DARPAN DATA'!H912","v":0},{"$f":"'SHALA DARPAN DATA'!W912","v":0},{"$f":"'SHALA DARPAN DATA'!R912","v":0},{"$f":"'SHALA DARPAN DATA'!S912","v":0},{"$f":"'SHALA DARPAN DATA'!O912","v":0},0,0,0,0,0,0,0,0,0,0,0]
[{"$f":"'SHALA DARPAN DATA'!C913","v":0},{"$f":"'SHALA DARPAN DATA'!A913","v":0},{"$f":"'SHALA DARPAN DATA'!B913","v":0},{"$f":"'SHALA DARPAN DATA'!D913","v":0},{"$f":"'SHALA DARPAN DATA'!J913","v":0},{"$f":"'SHALA DARPAN DATA'!T913","v":0},{"$f":"'SHALA DARPAN DATA'!V913","v":0},{"$f":"'SHALA DARPAN DATA'!K913","v":0},{"$f":"'SHALA DARPAN DATA'!E913","v":0},{"$f":"'SHALA DARPAN DATA'!G913","v":0},{"$f":"'SHALA DARPAN DATA'!H913","v":0},{"$f":"'SHALA DARPAN DATA'!W913","v":0},{"$f":"'SHALA DARPAN DATA'!R913","v":0},{"$f":"'SHALA DARPAN DATA'!S913","v":0},{"$f":"'SHALA DARPAN DATA'!O913","v":0},0,0,0,0,0,0,0,0,0,0,0]
[{"$f":"'SHALA DARPAN DATA'!C914","v":0},{"$f":"'SHALA DARPAN DATA'!A914","v":0},{"$f":"'SHALA DARPAN DATA'!B914","v":0},{"$f":"'SHALA DARPAN DATA'!D914","v":0},{"$f":"'SHALA DARPAN DATA'!J914","v":0},{"$f":"'SHALA DARPAN DATA'!T914","v":0},{"$f":"'SHALA DARPAN DATA'!V914","v":0},{"$f":"'SHALA DARPAN DATA'!K914","v":0},{"$f":"'SHALA DARPAN DATA'!E914","v":0},{"$f":"'SHALA DARPAN DATA'!G914","v":0},{"$f":"'SHALA DARPAN DATA'!H914","v":0},{"$f":"'SHALA DARPAN DATA'!W914","v":0},{"$f":"'SHALA DARPAN DATA'!R914","v":0},{"$f":"'SHALA DARPAN DATA'!S914","v":0},{"$f":"'SHALA DARPAN DATA'!O914","v":0},0,0,0,0,0,0,0,0,0,0,0]
[{"$f":"'SHALA DARPAN DATA'!C915","v":0},{"$f":"'SHALA DARPAN DATA'!A915","v":0},{"$f":"'SHALA DARPAN DATA'!B915","v":0},{"$f":"'SHALA DARPAN DATA'!D915","v":0},{"$f":"'SHALA DARPAN DATA'!J915","v":0},{"$f":"'SHALA DARPAN DATA'!T915","v":0},{"$f":"'SHALA DARPAN DATA'!V915","v":0},{"$f":"'SHALA DARPAN DATA'!K915","v":0},{"$f":"'SHALA DARPAN DATA'!E915","v":0},{"$f":"'SHALA DARPAN DATA'!G915","v":0},{"$f":"'SHALA DARPAN DATA'!H915","v":0},{"$f":"'SHALA DARPAN DATA'!W915","v":0},{"$f":"'SHALA DARPAN DATA'!R915","v":0},{"$f":"'SHALA DARPAN DATA'!S915","v":0},{"$f":"'SHALA DARPAN DATA'!O915","v":0},0,0,0,0,0,0,0,0,0,0,0]
[{"$f":"'SHALA DARPAN DATA'!C916","v":0},{"$f":"'SHALA DARPAN DATA'!A916","v":0},{"$f":"'SHALA DARPAN DATA'!B916","v":0},{"$f":"'SHALA DARPAN DATA'!D916","v":0},{"$f":"'SHALA DARPAN DATA'!J916","v":0},{"$f":"'SHALA DARPAN DATA'!T916","v":0},{"$f":"'SHALA DARPAN DATA'!V916","v":0},{"$f":"'SHALA DARPAN DATA'!K916","v":0},{"$f":"'SHALA DARPAN DATA'!E916","v":0},{"$f":"'SHALA DARPAN DATA'!G916","v":0},{"$f":"'SHALA DARPAN DATA'!H916","v":0},{"$f":"'SHALA DARPAN DATA'!W916","v":0},{"$f":"'SHALA DARPAN DATA'!R916","v":0},{"$f":"'SHALA DARPAN DATA'!S916","v":0},{"$f":"'SHALA DARPAN DATA'!O916","v":0},0,0,0,0,0,0,0,0,0,0,0]
[{"$f":"'SHALA DARPAN DATA'!C917","v":0},{"$f":"'SHALA DARPAN DATA'!A917","v":0},{"$f":"'SHALA DARPAN DATA'!B917","v":0},{"$f":"'SHALA DARPAN DATA'!D917","v":0},{"$f":"'SHALA DARPAN DATA'!J917","v":0},{"$f":"'SHALA DARPAN DATA'!T917","v":0},{"$f":"'SHALA DARPAN DATA'!V917","v":0},{"$f":"'SHALA DARPAN DATA'!K917","v":0},{"$f":"'SHALA DARPAN DATA'!E917","v":0},{"$f":"'SHALA DARPAN DATA'!G917","v":0},{"$f":"'SHALA DARPAN DATA'!H917","v":0},{"$f":"'SHALA DARPAN DATA'!W917","v":0},{"$f":"'SHALA DARPAN DATA'!R917","v":0},{"$f":"'SHALA DARPAN DATA'!S917","v":0},{"$f":"'SHALA DARPAN DATA'!O917","v":0},0,0,0,0,0,0,0,0,0,0,0]
[{"$f":"'SHALA DARPAN DATA'!C918","v":0},{"$f":"'SHALA DARPAN DATA'!A918","v":0},{"$f":"'SHALA DARPAN DATA'!B918","v":0},{"$f":"'SHALA DARPAN DATA'!D918","v":0},{"$f":"'SHALA DARPAN DATA'!J918","v":0},{"$f":"'SHALA DARPAN DATA'!T918","v":0},{"$f":"'SHALA DARPAN DATA'!V918","v":0},{"$f":"'SHALA DARPAN DATA'!K918","v":0},{"$f":"'SHALA DARPAN DATA'!E918","v":0},{"$f":"'SHALA DARPAN DATA'!G918","v":0},{"$f":"'SHALA DARPAN DATA'!H918","v":0},{"$f":"'SHALA DARPAN DATA'!W918","v":0},{"$f":"'SHALA DARPAN DATA'!R918","v":0},{"$f":"'SHALA DARPAN DATA'!S918","v":0},{"$f":"'SHALA DARPAN DATA'!O918","v":0},0,0,0,0,0,0,0,0,0,0,0]
[{"$f":"'SHALA DARPAN DATA'!C919","v":0},{"$f":"'SHALA DARPAN DATA'!A919","v":0},{"$f":"'SHALA DARPAN DATA'!B919","v":0},{"$f":"'SHALA DARPAN DATA'!D919","v":0},{"$f":"'SHALA DARPAN DATA'!J919","v":0},{"$f":"'SHALA DARPAN DATA'!T919","v":0},{"$f":"'SHALA DARPAN DATA'!V919","v":0},{"$f":"'SHALA DARPAN DATA'!K919","v":0},{"$f":"'SHALA DARPAN DATA'!E919","v":0},{"$f":"'SHALA DARPAN DATA'!G919","v":0},{"$f":"'SHALA DARPAN DATA'!H919","v":0},{"$f":"'SHALA DARPAN DATA'!W919","v":0},{"$f":"'SHALA DARPAN DATA'!R919","v":0},{"$f":"'SHALA DARPAN DATA'!S919","v":0},{"$f":"'SHALA DARPAN DATA'!O919","v":0},0,0,0,0,0,0,0,0,0,0,0]
[{"$f":"'SHALA DARPAN DATA'!C920","v":0},{"$f":"'SHALA DARPAN DATA'!A920","v":0},{"$f":"'SHALA DARPAN DATA'!B920","v":0},{"$f":"'SHALA DARPAN DATA'!D920","v":0},{"$f":"'SHALA DARPAN DATA'!J920","v":0},{"$f":"'SHALA DARPAN DATA'!T920","v":0},{"$f":"'SHALA DARPAN DATA'!V920","v":0},{"$f":"'SHALA DARPAN DATA'!K920","v":0},{"$f":"'SHALA DARPAN DATA'!E920","v":0},{"$f":"'SHALA DARPAN DATA'!G920","v":0},{"$f":"'SHALA DARPAN DATA'!H920","v":0},{"$f":"'SHALA DARPAN DATA'!W920","v":0},{"$f":"'SHALA DARPAN DATA'!R920","v":0},{"$f":"'SHALA DARPAN DATA'!S920","v":0},{"$f":"'SHALA DARPAN DATA'!O920","v":0},0,0,0,0,0,0,0,0,0,0,0]
[{"$f":"'SHALA DARPAN DATA'!C921","v":0},{"$f":"'SHALA DARPAN DATA'!A921","v":0},{"$f":"'SHALA DARPAN DATA'!B921","v":0},{"$f":"'SHALA DARPAN DATA'!D921","v":0},{"$f":"'SHALA DARPAN DATA'!J921","v":0},{"$f":"'SHALA DARPAN DATA'!T921","v":0},{"$f":"'SHALA DARPAN DATA'!V921","v":0},{"$f":"'SHALA DARPAN DATA'!K921","v":0},{"$f":"'SHALA DARPAN DATA'!E921","v":0},{"$f":"'SHALA DARPAN DATA'!G921","v":0},{"$f":"'SHALA DARPAN DATA'!H921","v":0},{"$f":"'SHALA DARPAN DATA'!W921","v":0},{"$f":"'SHALA DARPAN DATA'!R921","v":0},{"$f":"'SHALA DARPAN DATA'!S921","v":0},{"$f":"'SHALA DARPAN DATA'!O921","v":0},0,0,0,0,0,0,0,0,0,0,0]
[{"$f":"'SHALA DARPAN DATA'!C922","v":0},{"$f":"'SHALA DARPAN DATA'!A922","v":0},{"$f":"'SHALA DARPAN DATA'!B922","v":0},{"$f":"'SHALA DARPAN DATA'!D922","v":0},{"$f":"'SHALA DARPAN DATA'!J922","v":0},{"$f":"'SHALA DARPAN DATA'!T922","v":0},{"$f":"'SHALA DARPAN DATA'!V922","v":0},{"$f":"'SHALA DARPAN DATA'!K922","v":0},{"$f":"'SHALA DARPAN DATA'!E922","v":0},{"$f":"'SHALA DARPAN DATA'!G922","v":0},{"$f":"'SHALA DARPAN DATA'!H922","v":0},{"$f":"'SHALA DARPAN DATA'!W922","v":0},{"$f":"'SHALA DARPAN DATA'!R922","v":0},{"$f":"'SHALA DARPAN DATA'!S922","v":0},{"$f":"'SHALA DARPAN DATA'!O922","v":0},0,0,0,0,0,0,0,0,0,0,0]
[{"$f":"'SHALA DARPAN DATA'!C923","v":0},{"$f":"'SHALA DARPAN DATA'!A923","v":0},{"$f":"'SHALA DARPAN DATA'!B923","v":0},{"$f":"'SHALA DARPAN DATA'!D923","v":0},{"$f":"'SHALA DARPAN DATA'!J923","v":0},{"$f":"'SHALA DARPAN DATA'!T923","v":0},{"$f":"'SHALA DARPAN DATA'!V923","v":0},{"$f":"'SHALA DARPAN DATA'!K923","v":0},{"$f":"'SHALA DARPAN DATA'!E923","v":0},{"$f":"'SHALA DARPAN DATA'!G923","v":0},{"$f":"'SHALA DARPAN DATA'!H923","v":0},{"$f":"'SHALA DARPAN DATA'!W923","v":0},{"$f":"'SHALA DARPAN DATA'!R923","v":0},{"$f":"'SHALA DARPAN DATA'!S923","v":0},{"$f":"'SHALA DARPAN DATA'!O923","v":0},0,0,0,0,0,0,0,0,0,0,0]
[{"$f":"'SHALA DARPAN DATA'!C924","v":0},{"$f":"'SHALA DARPAN DATA'!A924","v":0},{"$f":"'SHALA DARPAN DATA'!B924","v":0},{"$f":"'SHALA DARPAN DATA'!D924","v":0},{"$f":"'SHALA DARPAN DATA'!J924","v":0},{"$f":"'SHALA DARPAN DATA'!T924","v":0},{"$f":"'SHALA DARPAN DATA'!V924","v":0},{"$f":"'SHALA DARPAN DATA'!K924","v":0},{"$f":"'SHALA DARPAN DATA'!E924","v":0},{"$f":"'SHALA DARPAN DATA'!G924","v":0},{"$f":"'SHALA DARPAN DATA'!H924","v":0},{"$f":"'SHALA DARPAN DATA'!W924","v":0},{"$f":"'SHALA DARPAN DATA'!R924","v":0},{"$f":"'SHALA DARPAN DATA'!S924","v":0},{"$f":"'SHALA DARPAN DATA'!O924","v":0},0,0,0,0,0,0,0,0,0,0,0]
[{"$f":"'SHALA DARPAN DATA'!C925","v":0},{"$f":"'SHALA DARPAN DATA'!A925","v":0},{"$f":"'SHALA DARPAN DATA'!B925","v":0},{"$f":"'SHALA DARPAN DATA'!D925","v":0},{"$f":"'SHALA DARPAN DATA'!J925","v":0},{"$f":"'SHALA DARPAN DATA'!T925","v":0},{"$f":"'SHALA DARPAN DATA'!V925","v":0},{"$f":"'SHALA DARPAN DATA'!K925","v":0},{"$f":"'SHALA DARPAN DATA'!E925","v":0},{"$f":"'SHALA DARPAN DATA'!G925","v":0},{"$f":"'SHALA DARPAN DATA'!H925","v":0},{"$f":"'SHALA DARPAN DATA'!W925","v":0},{"$f":"'SHALA DARPAN DATA'!R925","v":0},{"$f":"'SHALA DARPAN DATA'!S925","v":0},{"$f":"'SHALA DARPAN DATA'!O925","v":0},0,0,0,0,0,0,0,0,0,0,0]
[{"$f":"'SHALA DARPAN DATA'!C926","v":0},{"$f":"'SHALA DARPAN DATA'!A926","v":0},{"$f":"'SHALA DARPAN DATA'!B926","v":0},{"$f":"'SHALA DARPAN DATA'!D926","v":0},{"$f":"'SHALA DARPAN DATA'!J926","v":0},{"$f":"'SHALA DARPAN DATA'!T926","v":0},{"$f":"'SHALA DARPAN DATA'!V926","v":0},{"$f":"'SHALA DARPAN DATA'!K926","v":0},{"$f":"'SHALA DARPAN DATA'!E926","v":0},{"$f":"'SHALA DARPAN DATA'!G926","v":0},{"$f":"'SHALA DARPAN DATA'!H926","v":0},{"$f":"'SHALA DARPAN DATA'!W926","v":0},{"$f":"'SHALA DARPAN DATA'!R926","v":0},{"$f":"'SHALA DARPAN DATA'!S926","v":0},{"$f":"'SHALA DARPAN DATA'!O926","v":0},0,0,0,0,0,0,0,0,0,0,0]
[{"$f":"'SHALA DARPAN DATA'!C927","v":0},{"$f":"'SHALA DARPAN DATA'!A927","v":0},{"$f":"'SHALA DARPAN DATA'!B927","v":0},{"$f":"'SHALA DARPAN DATA'!D927","v":0},{"$f":"'SHALA DARPAN DATA'!J927","v":0},{"$f":"'SHALA DARPAN DATA'!T927","v":0},{"$f":"'SHALA DARPAN DATA'!V927","v":0},{"$f":"'SHALA DARPAN DATA'!K927","v":0},{"$f":"'SHALA DARPAN DATA'!E927","v":0},{"$f":"'SHALA DARPAN DATA'!G927","v":0},{"$f":"'SHALA DARPAN DATA'!H927","v":0},{"$f":"'SHALA DARPAN DATA'!W927","v":0},{"$f":"'SHALA DARPAN DATA'!R927","v":0},{"$f":"'SHALA DARPAN DATA'!S927","v":0},{"$f":"'SHALA DARPAN DATA'!O927","v":0},0,0,0,0,0,0,0,0,0,0,0]
[{"$f":"'SHALA DARPAN DATA'!C928","v":0},{"$f":"'SHALA DARPAN DATA'!A928","v":0},{"$f":"'SHALA DARPAN DATA'!B928","v":0},{"$f":"'SHALA DARPAN DATA'!D928","v":0},{"$f":"'SHALA DARPAN DATA'!J928","v":0},{"$f":"'SHALA DARPAN DATA'!T928","v":0},{"$f":"'SHALA DARPAN DATA'!V928","v":0},{"$f":"'SHALA DARPAN DATA'!K928","v":0},{"$f":"'SHALA DARPAN DATA'!E928","v":0},{"$f":"'SHALA DARPAN DATA'!G928","v":0},{"$f":"'SHALA DARPAN DATA'!H928","v":0},{"$f":"'SHALA DARPAN DATA'!W928","v":0},{"$f":"'SHALA DARPAN DATA'!R928","v":0},{"$f":"'SHALA DARPAN DATA'!S928","v":0},{"$f":"'SHALA DARPAN DATA'!O928","v":0},0,0,0,0,0,0,0,0,0,0,0]
[{"$f":"'SHALA DARPAN DATA'!C929","v":0},{"$f":"'SHALA DARPAN DATA'!A929","v":0},{"$f":"'SHALA DARPAN DATA'!B929","v":0},{"$f":"'SHALA DARPAN DATA'!D929","v":0},{"$f":"'SHALA DARPAN DATA'!J929","v":0},{"$f":"'SHALA DARPAN DATA'!T929","v":0},{"$f":"'SHALA DARPAN DATA'!V929","v":0},{"$f":"'SHALA DARPAN DATA'!K929","v":0},{"$f":"'SHALA DARPAN DATA'!E929","v":0},{"$f":"'SHALA DARPAN DATA'!G929","v":0},{"$f":"'SHALA DARPAN DATA'!H929","v":0},{"$f":"'SHALA DARPAN DATA'!W929","v":0},{"$f":"'SHALA DARPAN DATA'!R929","v":0},{"$f":"'SHALA DARPAN DATA'!S929","v":0},{"$f":"'SHALA DARPAN DATA'!O929","v":0},0,0,0,0,0,0,0,0,0,0,0]
[{"$f":"'SHALA DARPAN DATA'!C930","v":0},{"$f":"'SHALA DARPAN DATA'!A930","v":0},{"$f":"'SHALA DARPAN DATA'!B930","v":0},{"$f":"'SHALA DARPAN DATA'!D930","v":0},{"$f":"'SHALA DARPAN DATA'!J930","v":0},{"$f":"'SHALA DARPAN DATA'!T930","v":0},{"$f":"'SHALA DARPAN DATA'!V930","v":0},{"$f":"'SHALA DARPAN DATA'!K930","v":0},{"$f":"'SHALA DARPAN DATA'!E930","v":0},{"$f":"'SHALA DARPAN DATA'!G930","v":0},{"$f":"'SHALA DARPAN DATA'!H930","v":0},{"$f":"'SHALA DARPAN DATA'!W930","v":0},{"$f":"'SHALA DARPAN DATA'!R930","v":0},{"$f":"'SHALA DARPAN DATA'!S930","v":0},{"$f":"'SHALA DARPAN DATA'!O930","v":0},0,0,0,0,0,0,0,0,0,0,0]
[{"$f":"'SHALA DARPAN DATA'!C931","v":0},{"$f":"'SHALA DARPAN DATA'!A931","v":0},{"$f":"'SHALA DARPAN DATA'!B931","v":0},{"$f":"'SHALA DARPAN DATA'!D931","v":0},{"$f":"'SHALA DARPAN DATA'!J931","v":0},{"$f":"'SHALA DARPAN DATA'!T931","v":0},{"$f":"'SHALA DARPAN DATA'!V931","v":0},{"$f":"'SHALA DARPAN DATA'!K931","v":0},{"$f":"'SHALA DARPAN DATA'!E931","v":0},{"$f":"'SHALA DARPAN DATA'!G931","v":0},{"$f":"'SHALA DARPAN DATA'!H931","v":0},{"$f":"'SHALA DARPAN DATA'!W931","v":0},{"$f":"'SHALA DARPAN DATA'!R931","v":0},{"$f":"'SHALA DARPAN DATA'!S931","v":0},{"$f":"'SHALA DARPAN DATA'!O931","v":0},0,0,0,0,0,0,0,0,0,0,0]
[{"$f":"'SHALA DARPAN DATA'!C932","v":0},{"$f":"'SHALA DARPAN DATA'!A932","v":0},{"$f":"'SHALA DARPAN DATA'!B932","v":0},{"$f":"'SHALA DARPAN DATA'!D932","v":0},{"$f":"'SHALA DARPAN DATA'!J932","v":0},{"$f":"'SHALA DARPAN DATA'!T932","v":0},{"$f":"'SHALA DARPAN DATA'!V932","v":0},{"$f":"'SHALA DARPAN DATA'!K932","v":0},{"$f":"'SHALA DARPAN DATA'!E932","v":0},{"$f":"'SHALA DARPAN DATA'!G932","v":0},{"$f":"'SHALA DARPAN DATA'!H932","v":0},{"$f":"'SHALA DARPAN DATA'!W932","v":0},{"$f":"'SHALA DARPAN DATA'!R932","v":0},{"$f":"'SHALA DARPAN DATA'!S932","v":0},{"$f":"'SHALA DARPAN DATA'!O932","v":0},0,0,0,0,0,0,0,0,0,0,0]
[{"$f":"'SHALA DARPAN DATA'!C933","v":0},{"$f":"'SHALA DARPAN DATA'!A933","v":0},{"$f":"'SHALA DARPAN DATA'!B933","v":0},{"$f":"'SHALA DARPAN DATA'!D933","v":0},{"$f":"'SHALA DARPAN DATA'!J933","v":0},{"$f":"'SHALA DARPAN DATA'!T933","v":0},{"$f":"'SHALA DARPAN DATA'!V933","v":0},{"$f":"'SHALA DARPAN DATA'!K933","v":0},{"$f":"'SHALA DARPAN DATA'!E933","v":0},{"$f":"'SHALA DARPAN DATA'!G933","v":0},{"$f":"'SHALA DARPAN DATA'!H933","v":0},{"$f":"'SHALA DARPAN DATA'!W933","v":0},{"$f":"'SHALA DARPAN DATA'!R933","v":0},{"$f":"'SHALA DARPAN DATA'!S933","v":0},{"$f":"'SHALA DARPAN DATA'!O933","v":0},0,0,0,0,0,0,0,0,0,0,0]
[{"$f":"'SHALA DARPAN DATA'!C934","v":0},{"$f":"'SHALA DARPAN DATA'!A934","v":0},{"$f":"'SHALA DARPAN DATA'!B934","v":0},{"$f":"'SHALA DARPAN DATA'!D934","v":0},{"$f":"'SHALA DARPAN DATA'!J934","v":0},{"$f":"'SHALA DARPAN DATA'!T934","v":0},{"$f":"'SHALA DARPAN DATA'!V934","v":0},{"$f":"'SHALA DARPAN DATA'!K934","v":0},{"$f":"'SHALA DARPAN DATA'!E934","v":0},{"$f":"'SHALA DARPAN DATA'!G934","v":0},{"$f":"'SHALA DARPAN DATA'!H934","v":0},{"$f":"'SHALA DARPAN DATA'!W934","v":0},{"$f":"'SHALA DARPAN DATA'!R934","v":0},{"$f":"'SHALA DARPAN DATA'!S934","v":0},{"$f":"'SHALA DARPAN DATA'!O934","v":0},0,0,0,0,0,0,0,0,0,0,0]
[{"$f":"'SHALA DARPAN DATA'!C935","v":0},{"$f":"'SHALA DARPAN DATA'!A935","v":0},{"$f":"'SHALA DARPAN DATA'!B935","v":0},{"$f":"'SHALA DARPAN DATA'!D935","v":0},{"$f":"'SHALA DARPAN DATA'!J935","v":0},{"$f":"'SHALA DARPAN DATA'!T935","v":0},{"$f":"'SHALA DARPAN DATA'!V935","v":0},{"$f":"'SHALA DARPAN DATA'!K935","v":0},{"$f":"'SHALA DARPAN DATA'!E935","v":0},{"$f":"'SHALA DARPAN DATA'!G935","v":0},{"$f":"'SHALA DARPAN DATA'!H935","v":0},{"$f":"'SHALA DARPAN DATA'!W935","v":0},{"$f":"'SHALA DARPAN DATA'!R935","v":0},{"$f":"'SHALA DARPAN DATA'!S935","v":0},{"$f":"'SHALA DARPAN DATA'!O935","v":0},0,0,0,0,0,0,0,0,0,0,0]
[{"$f":"'SHALA DARPAN DATA'!C936","v":0},{"$f":"'SHALA DARPAN DATA'!A936","v":0},{"$f":"'SHALA DARPAN DATA'!B936","v":0},{"$f":"'SHALA DARPAN DATA'!D936","v":0},{"$f":"'SHALA DARPAN DATA'!J936","v":0},{"$f":"'SHALA DARPAN DATA'!T936","v":0},{"$f":"'SHALA DARPAN DATA'!V936","v":0},{"$f":"'SHALA DARPAN DATA'!K936","v":0},{"$f":"'SHALA DARPAN DATA'!E936","v":0},{"$f":"'SHALA DARPAN DATA'!G936","v":0},{"$f":"'SHALA DARPAN DATA'!H936","v":0},{"$f":"'SHALA DARPAN DATA'!W936","v":0},{"$f":"'SHALA DARPAN DATA'!R936","v":0},{"$f":"'SHALA DARPAN DATA'!S936","v":0},{"$f":"'SHALA DARPAN DATA'!O936","v":0},0,0,0,0,0,0,0,0,0,0,0]
[{"$f":"'SHALA DARPAN DATA'!C937","v":0},{"$f":"'SHALA DARPAN DATA'!A937","v":0},{"$f":"'SHALA DARPAN DATA'!B937","v":0},{"$f":"'SHALA DARPAN DATA'!D937","v":0},{"$f":"'SHALA DARPAN DATA'!J937","v":0},{"$f":"'SHALA DARPAN DATA'!T937","v":0},{"$f":"'SHALA DARPAN DATA'!V937","v":0},{"$f":"'SHALA DARPAN DATA'!K937","v":0},{"$f":"'SHALA DARPAN DATA'!E937","v":0},{"$f":"'SHALA DARPAN DATA'!G937","v":0},{"$f":"'SHALA DARPAN DATA'!H937","v":0},{"$f":"'SHALA DARPAN DATA'!W937","v":0},{"$f":"'SHALA DARPAN DATA'!R937","v":0},{"$f":"'SHALA DARPAN DATA'!S937","v":0},{"$f":"'SHALA DARPAN DATA'!O937","v":0},0,0,0,0,0,0,0,0,0,0,0]
[{"$f":"'SHALA DARPAN DATA'!C938","v":0},{"$f":"'SHALA DARPAN DATA'!A938","v":0},{"$f":"'SHALA DARPAN DATA'!B938","v":0},{"$f":"'SHALA DARPAN DATA'!D938","v":0},{"$f":"'SHALA DARPAN DATA'!J938","v":0},{"$f":"'SHALA DARPAN DATA'!T938","v":0},{"$f":"'SHALA DARPAN DATA'!V938","v":0},{"$f":"'SHALA DARPAN DATA'!K938","v":0},{"$f":"'SHALA DARPAN DATA'!E938","v":0},{"$f":"'SHALA DARPAN DATA'!G938","v":0},{"$f":"'SHALA DARPAN DATA'!H938","v":0},{"$f":"'SHALA DARPAN DATA'!W938","v":0},{"$f":"'SHALA DARPAN DATA'!R938","v":0},{"$f":"'SHALA DARPAN DATA'!S938","v":0},{"$f":"'SHALA DARPAN DATA'!O938","v":0},0,0,0,0,0,0,0,0,0,0,0]
[{"$f":"'SHALA DARPAN DATA'!C939","v":0},{"$f":"'SHALA DARPAN DATA'!A939","v":0},{"$f":"'SHALA DARPAN DATA'!B939","v":0},{"$f":"'SHALA DARPAN DATA'!D939","v":0},{"$f":"'SHALA DARPAN DATA'!J939","v":0},{"$f":"'SHALA DARPAN DATA'!T939","v":0},{"$f":"'SHALA DARPAN DATA'!V939","v":0},{"$f":"'SHALA DARPAN DATA'!K939","v":0},{"$f":"'SHALA DARPAN DATA'!E939","v":0},{"$f":"'SHALA DARPAN DATA'!G939","v":0},{"$f":"'SHALA DARPAN DATA'!H939","v":0},{"$f":"'SHALA DARPAN DATA'!W939","v":0},{"$f":"'SHALA DARPAN DATA'!R939","v":0},{"$f":"'SHALA DARPAN DATA'!S939","v":0},{"$f":"'SHALA DARPAN DATA'!O939","v":0},0,0,0,0,0,0,0,0,0,0,0]
[{"$f":"'SHALA DARPAN DATA'!C940","v":0},{"$f":"'SHALA DARPAN DATA'!A940","v":0},{"$f":"'SHALA DARPAN DATA'!B940","v":0},{"$f":"'SHALA DARPAN DATA'!D940","v":0},{"$f":"'SHALA DARPAN DATA'!J940","v":0},{"$f":"'SHALA DARPAN DATA'!T940","v":0},{"$f":"'SHALA DARPAN DATA'!V940","v":0},{"$f":"'SHALA DARPAN DATA'!K940","v":0},{"$f":"'SHALA DARPAN DATA'!E940","v":0},{"$f":"'SHALA DARPAN DATA'!G940","v":0},{"$f":"'SHALA DARPAN DATA'!H940","v":0},{"$f":"'SHALA DARPAN DATA'!W940","v":0},{"$f":"'SHALA DARPAN DATA'!R940","v":0},{"$f":"'SHALA DARPAN DATA'!S940","v":0},{"$f":"'SHALA DARPAN DATA'!O940","v":0},0,0,0,0,0,0,0,0,0,0,0]
[{"$f":"'SHALA DARPAN DATA'!C941","v":0},{"$f":"'SHALA DARPAN DATA'!A941","v":0},{"$f":"'SHALA DARPAN DATA'!B941","v":0},{"$f":"'SHALA DARPAN DATA'!D941","v":0},{"$f":"'SHALA DARPAN DATA'!J941","v":0},{"$f":"'SHALA DARPAN DATA'!T941","v":0},{"$f":"'SHALA DARPAN DATA'!V941","v":0},{"$f":"'SHALA DARPAN DATA'!K941","v":0},{"$f":"'SHALA DARPAN DATA'!E941","v":0},{"$f":"'SHALA DARPAN DATA'!G941","v":0},{"$f":"'SHALA DARPAN DATA'!H941","v":0},{"$f":"'SHALA DARPAN DATA'!W941","v":0},{"$f":"'SHALA DARPAN DATA'!R941","v":0},{"$f":"'SHALA DARPAN DATA'!S941","v":0},{"$f":"'SHALA DARPAN DATA'!O941","v":0},0,0,0,0,0,0,0,0,0,0,0]
[{"$f":"'SHALA DARPAN DATA'!C942","v":0},{"$f":"'SHALA DARPAN DATA'!A942","v":0},{"$f":"'SHALA DARPAN DATA'!B942","v":0},{"$f":"'SHALA DARPAN DATA'!D942","v":0},{"$f":"'SHALA DARPAN DATA'!J942","v":0},{"$f":"'SHALA DARPAN DATA'!T942","v":0},{"$f":"'SHALA DARPAN DATA'!V942","v":0},{"$f":"'SHALA DARPAN DATA'!K942","v":0},{"$f":"'SHALA DARPAN DATA'!E942","v":0},{"$f":"'SHALA DARPAN DATA'!G942","v":0},{"$f":"'SHALA DARPAN DATA'!H942","v":0},{"$f":"'SHALA DARPAN DATA'!W942","v":0},{"$f":"'SHALA DARPAN DATA'!R942","v":0},{"$f":"'SHALA DARPAN DATA'!S942","v":0},{"$f":"'SHALA DARPAN DATA'!O942","v":0},0,0,0,0,0,0,0,0,0,0,0]
[{"$f":"'SHALA DARPAN DATA'!C943","v":0},{"$f":"'SHALA DARPAN DATA'!A943","v":0},{"$f":"'SHALA DARPAN DATA'!B943","v":0},{"$f":"'SHALA DARPAN DATA'!D943","v":0},{"$f":"'SHALA DARPAN DATA'!J943","v":0},{"$f":"'SHALA DARPAN DATA'!T943","v":0},{"$f":"'SHALA DARPAN DATA'!V943","v":0},{"$f":"'SHALA DARPAN DATA'!K943","v":0},{"$f":"'SHALA DARPAN DATA'!E943","v":0},{"$f":"'SHALA DARPAN DATA'!G943","v":0},{"$f":"'SHALA DARPAN DATA'!H943","v":0},{"$f":"'SHALA DARPAN DATA'!W943","v":0},{"$f":"'SHALA DARPAN DATA'!R943","v":0},{"$f":"'SHALA DARPAN DATA'!S943","v":0},{"$f":"'SHALA DARPAN DATA'!O943","v":0},0,0,0,0,0,0,0,0,0,0,0]
[{"$f":"'SHALA DARPAN DATA'!C944","v":0},{"$f":"'SHALA DARPAN DATA'!A944","v":0},{"$f":"'SHALA DARPAN DATA'!B944","v":0},{"$f":"'SHALA DARPAN DATA'!D944","v":0},{"$f":"'SHALA DARPAN DATA'!J944","v":0},{"$f":"'SHALA DARPAN DATA'!T944","v":0},{"$f":"'SHALA DARPAN DATA'!V944","v":0},{"$f":"'SHALA DARPAN DATA'!K944","v":0},{"$f":"'SHALA DARPAN DATA'!E944","v":0},{"$f":"'SHALA DARPAN DATA'!G944","v":0},{"$f":"'SHALA DARPAN DATA'!H944","v":0},{"$f":"'SHALA DARPAN DATA'!W944","v":0},{"$f":"'SHALA DARPAN DATA'!R944","v":0},{"$f":"'SHALA DARPAN DATA'!S944","v":0},{"$f":"'SHALA DARPAN DATA'!O944","v":0},0,0,0,0,0,0,0,0,0,0,0]
[{"$f":"'SHALA DARPAN DATA'!C945","v":0},{"$f":"'SHALA DARPAN DATA'!A945","v":0},{"$f":"'SHALA DARPAN DATA'!B945","v":0},{"$f":"'SHALA DARPAN DATA'!D945","v":0},{"$f":"'SHALA DARPAN DATA'!J945","v":0},{"$f":"'SHALA DARPAN DATA'!T945","v":0},{"$f":"'SHALA DARPAN DATA'!V945","v":0},{"$f":"'SHALA DARPAN DATA'!K945","v":0},{"$f":"'SHALA DARPAN DATA'!E945","v":0},{"$f":"'SHALA DARPAN DATA'!G945","v":0},{"$f":"'SHALA DARPAN DATA'!H945","v":0},{"$f":"'SHALA DARPAN DATA'!W945","v":0},{"$f":"'SHALA DARPAN DATA'!R945","v":0},{"$f":"'SHALA DARPAN DATA'!S945","v":0},{"$f":"'SHALA DARPAN DATA'!O945","v":0},0,0,0,0,0,0,0,0,0,0,0]
[{"$f":"'SHALA DARPAN DATA'!C946","v":0},{"$f":"'SHALA DARPAN DATA'!A946","v":0},{"$f":"'SHALA DARPAN DATA'!B946","v":0},{"$f":"'SHALA DARPAN DATA'!D946","v":0},{"$f":"'SHALA DARPAN DATA'!J946","v":0},{"$f":"'SHALA DARPAN DATA'!T946","v":0},{"$f":"'SHALA DARPAN DATA'!V946","v":0},{"$f":"'SHALA DARPAN DATA'!K946","v":0},{"$f":"'SHALA DARPAN DATA'!E946","v":0},{"$f":"'SHALA DARPAN DATA'!G946","v":0},{"$f":"'SHALA DARPAN DATA'!H946","v":0},{"$f":"'SHALA DARPAN DATA'!W946","v":0},{"$f":"'SHALA DARPAN DATA'!R946","v":0},{"$f":"'SHALA DARPAN DATA'!S946","v":0},{"$f":"'SHALA DARPAN DATA'!O946","v":0},0,0,0,0,0,0,0,0,0,0,0]
[{"$f":"'SHALA DARPAN DATA'!C947","v":0},{"$f":"'SHALA DARPAN DATA'!A947","v":0},{"$f":"'SHALA DARPAN DATA'!B947","v":0},{"$f":"'SHALA DARPAN DATA'!D947","v":0},{"$f":"'SHALA DARPAN DATA'!J947","v":0},{"$f":"'SHALA DARPAN DATA'!T947","v":0},{"$f":"'SHALA DARPAN DATA'!V947","v":0},{"$f":"'SHALA DARPAN DATA'!K947","v":0},{"$f":"'SHALA DARPAN DATA'!E947","v":0},{"$f":"'SHALA DARPAN DATA'!G947","v":0},{"$f":"'SHALA DARPAN DATA'!H947","v":0},{"$f":"'SHALA DARPAN DATA'!W947","v":0},{"$f":"'SHALA DARPAN DATA'!R947","v":0},{"$f":"'SHALA DARPAN DATA'!S947","v":0},{"$f":"'SHALA DARPAN DATA'!O947","v":0},0,0,0,0,0,0,0,0,0,0,0]
[{"$f":"'SHALA DARPAN DATA'!C948","v":0},{"$f":"'SHALA DARPAN DATA'!A948","v":0},{"$f":"'SHALA DARPAN DATA'!B948","v":0},{"$f":"'SHALA DARPAN DATA'!D948","v":0},{"$f":"'SHALA DARPAN DATA'!J948","v":0},{"$f":"'SHALA DARPAN DATA'!T948","v":0},{"$f":"'SHALA DARPAN DATA'!V948","v":0},{"$f":"'SHALA DARPAN DATA'!K948","v":0},{"$f":"'SHALA DARPAN DATA'!E948","v":0},{"$f":"'SHALA DARPAN DATA'!G948","v":0},{"$f":"'SHALA DARPAN DATA'!H948","v":0},{"$f":"'SHALA DARPAN DATA'!W948","v":0},{"$f":"'SHALA DARPAN DATA'!R948","v":0},{"$f":"'SHALA DARPAN DATA'!S948","v":0},{"$f":"'SHALA DARPAN DATA'!O948","v":0},0,0,0,0,0,0,0,0,0,0,0]
[{"$f":"'SHALA DARPAN DATA'!C949","v":0},{"$f":"'SHALA DARPAN DATA'!A949","v":0},{"$f":"'SHALA DARPAN DATA'!B949","v":0},{"$f":"'SHALA DARPAN DATA'!D949","v":0},{"$f":"'SHALA DARPAN DATA'!J949","v":0},{"$f":"'SHALA DARPAN DATA'!T949","v":0},{"$f":"'SHALA DARPAN DATA'!V949","v":0},{"$f":"'SHALA DARPAN DATA'!K949","v":0},{"$f":"'SHALA DARPAN DATA'!E949","v":0},{"$f":"'SHALA DARPAN DATA'!G949","v":0},{"$f":"'SHALA DARPAN DATA'!H949","v":0},{"$f":"'SHALA DARPAN DATA'!W949","v":0},{"$f":"'SHALA DARPAN DATA'!R949","v":0},{"$f":"'SHALA DARPAN DATA'!S949","v":0},{"$f":"'SHALA DARPAN DATA'!O949","v":0},0,0,0,0,0,0,0,0,0,0,0]
[{"$f":"'SHALA DARPAN DATA'!C950","v":0},{"$f":"'SHALA DARPAN DATA'!A950","v":0},{"$f":"'SHALA DARPAN DATA'!B950","v":0},{"$f":"'SHALA DARPAN DATA'!D950","v":0},{"$f":"'SHALA DARPAN DATA'!J950","v":0},{"$f":"'SHALA DARPAN DATA'!T950","v":0},{"$f":"'SHALA DARPAN DATA'!V950","v":0},{"$f":"'SHALA DARPAN DATA'!K950","v":0},{"$f":"'SHALA DARPAN DATA'!E950","v":0},{"$f":"'SHALA DARPAN DATA'!G950","v":0},{"$f":"'SHALA DARPAN DATA'!H950","v":0},{"$f":"'SHALA DARPAN DATA'!W950","v":0},{"$f":"'SHALA DARPAN DATA'!R950","v":0},{"$f":"'SHALA DARPAN DATA'!S950","v":0},{"$f":"'SHALA DARPAN DATA'!O950","v":0},0,0,0,0,0,0,0,0,0,0,0]
[{"$f":"'SHALA DARPAN DATA'!C951","v":0},{"$f":"'SHALA DARPAN DATA'!A951","v":0},{"$f":"'SHALA DARPAN DATA'!B951","v":0},{"$f":"'SHALA DARPAN DATA'!D951","v":0},{"$f":"'SHALA DARPAN DATA'!J951","v":0},{"$f":"'SHALA DARPAN DATA'!T951","v":0},{"$f":"'SHALA DARPAN DATA'!V951","v":0},{"$f":"'SHALA DARPAN DATA'!K951","v":0},{"$f":"'SHALA DARPAN DATA'!E951","v":0},{"$f":"'SHALA DARPAN DATA'!G951","v":0},{"$f":"'SHALA DARPAN DATA'!H951","v":0},{"$f":"'SHALA DARPAN DATA'!W951","v":0},{"$f":"'SHALA DARPAN DATA'!R951","v":0},{"$f":"'SHALA DARPAN DATA'!S951","v":0},{"$f":"'SHALA DARPAN DATA'!O951","v":0},0,0,0,0,0,0,0,0,0,0,0]
[{"$f":"'SHALA DARPAN DATA'!C952","v":0},{"$f":"'SHALA DARPAN DATA'!A952","v":0},{"$f":"'SHALA DARPAN DATA'!B952","v":0},{"$f":"'SHALA DARPAN DATA'!D952","v":0},{"$f":"'SHALA DARPAN DATA'!J952","v":0},{"$f":"'SHALA DARPAN DATA'!T952","v":0},{"$f":"'SHALA DARPAN DATA'!V952","v":0},{"$f":"'SHALA DARPAN DATA'!K952","v":0},{"$f":"'SHALA DARPAN DATA'!E952","v":0},{"$f":"'SHALA DARPAN DATA'!G952","v":0},{"$f":"'SHALA DARPAN DATA'!H952","v":0},{"$f":"'SHALA DARPAN DATA'!W952","v":0},{"$f":"'SHALA DARPAN DATA'!R952","v":0},{"$f":"'SHALA DARPAN DATA'!S952","v":0},{"$f":"'SHALA DARPAN DATA'!O952","v":0},0,0,0,0,0,0,0,0,0,0,0]
[{"$f":"'SHALA DARPAN DATA'!C953","v":0},{"$f":"'SHALA DARPAN DATA'!A953","v":0},{"$f":"'SHALA DARPAN DATA'!B953","v":0},{"$f":"'SHALA DARPAN DATA'!D953","v":0},{"$f":"'SHALA DARPAN DATA'!J953","v":0},{"$f":"'SHALA DARPAN DATA'!T953","v":0},{"$f":"'SHALA DARPAN DATA'!V953","v":0},{"$f":"'SHALA DARPAN DATA'!K953","v":0},{"$f":"'SHALA DARPAN DATA'!E953","v":0},{"$f":"'SHALA DARPAN DATA'!G953","v":0},{"$f":"'SHALA DARPAN DATA'!H953","v":0},{"$f":"'SHALA DARPAN DATA'!W953","v":0},{"$f":"'SHALA DARPAN DATA'!R953","v":0},{"$f":"'SHALA DARPAN DATA'!S953","v":0},{"$f":"'SHALA DARPAN DATA'!O953","v":0},0,0,0,0,0,0,0,0,0,0,0]
[{"$f":"'SHALA DARPAN DATA'!C954","v":0},{"$f":"'SHALA DARPAN DATA'!A954","v":0},{"$f":"'SHALA DARPAN DATA'!B954","v":0},{"$f":"'SHALA DARPAN DATA'!D954","v":0},{"$f":"'SHALA DARPAN DATA'!J954","v":0},{"$f":"'SHALA DARPAN DATA'!T954","v":0},{"$f":"'SHALA DARPAN DATA'!V954","v":0},{"$f":"'SHALA DARPAN DATA'!K954","v":0},{"$f":"'SHALA DARPAN DATA'!E954","v":0},{"$f":"'SHALA DARPAN DATA'!G954","v":0},{"$f":"'SHALA DARPAN DATA'!H954","v":0},{"$f":"'SHALA DARPAN DATA'!W954","v":0},{"$f":"'SHALA DARPAN DATA'!R954","v":0},{"$f":"'SHALA DARPAN DATA'!S954","v":0},{"$f":"'SHALA DARPAN DATA'!O954","v":0},0,0,0,0,0,0,0,0,0,0,0]
[{"$f":"'SHALA DARPAN DATA'!C955","v":0},{"$f":"'SHALA DARPAN DATA'!A955","v":0},{"$f":"'SHALA DARPAN DATA'!B955","v":0},{"$f":"'SHALA DARPAN DATA'!D955","v":0},{"$f":"'SHALA DARPAN DATA'!J955","v":0},{"$f":"'SHALA DARPAN DATA'!T955","v":0},{"$f":"'SHALA DARPAN DATA'!V955","v":0},{"$f":"'SHALA DARPAN DATA'!K955","v":0},{"$f":"'SHALA DARPAN DATA'!E955","v":0},{"$f":"'SHALA DARPAN DATA'!G955","v":0},{"$f":"'SHALA DARPAN DATA'!H955","v":0},{"$f":"'SHALA DARPAN DATA'!W955","v":0},{"$f":"'SHALA DARPAN DATA'!R955","v":0},{"$f":"'SHALA DARPAN DATA'!S955","v":0},{"$f":"'SHALA DARPAN DATA'!O955","v":0},0,0,0,0,0,0,0,0,0,0,0]
[{"$f":"'SHALA DARPAN DATA'!C956","v":0},{"$f":"'SHALA DARPAN DATA'!A956","v":0},{"$f":"'SHALA DARPAN DATA'!B956","v":0},{"$f":"'SHALA DARPAN DATA'!D956","v":0},{"$f":"'SHALA DARPAN DATA'!J956","v":0},{"$f":"'SHALA DARPAN DATA'!T956","v":0},{"$f":"'SHALA DARPAN DATA'!V956","v":0},{"$f":"'SHALA DARPAN DATA'!K956","v":0},{"$f":"'SHALA DARPAN DATA'!E956","v":0},{"$f":"'SHALA DARPAN DATA'!G956","v":0},{"$f":"'SHALA DARPAN DATA'!H956","v":0},{"$f":"'SHALA DARPAN DATA'!W956","v":0},{"$f":"'SHALA DARPAN DATA'!R956","v":0},{"$f":"'SHALA DARPAN DATA'!S956","v":0},{"$f":"'SHALA DARPAN DATA'!O956","v":0},0,0,0,0,0,0,0,0,0,0,0]
[{"$f":"'SHALA DARPAN DATA'!C957","v":0},{"$f":"'SHALA DARPAN DATA'!A957","v":0},{"$f":"'SHALA DARPAN DATA'!B957","v":0},{"$f":"'SHALA DARPAN DATA'!D957","v":0},{"$f":"'SHALA DARPAN DATA'!J957","v":0},{"$f":"'SHALA DARPAN DATA'!T957","v":0},{"$f":"'SHALA DARPAN DATA'!V957","v":0},{"$f":"'SHALA DARPAN DATA'!K957","v":0},{"$f":"'SHALA DARPAN DATA'!E957","v":0},{"$f":"'SHALA DARPAN DATA'!G957","v":0},{"$f":"'SHALA DARPAN DATA'!H957","v":0},{"$f":"'SHALA DARPAN DATA'!W957","v":0},{"$f":"'SHALA DARPAN DATA'!R957","v":0},{"$f":"'SHALA DARPAN DATA'!S957","v":0},{"$f":"'SHALA DARPAN DATA'!O957","v":0},0,0,0,0,0,0,0,0,0,0,0]
[{"$f":"'SHALA DARPAN DATA'!C958","v":0},{"$f":"'SHALA DARPAN DATA'!A958","v":0},{"$f":"'SHALA DARPAN DATA'!B958","v":0},{"$f":"'SHALA DARPAN DATA'!D958","v":0},{"$f":"'SHALA DARPAN DATA'!J958","v":0},{"$f":"'SHALA DARPAN DATA'!T958","v":0},{"$f":"'SHALA DARPAN DATA'!V958","v":0},{"$f":"'SHALA DARPAN DATA'!K958","v":0},{"$f":"'SHALA DARPAN DATA'!E958","v":0},{"$f":"'SHALA DARPAN DATA'!G958","v":0},{"$f":"'SHALA DARPAN DATA'!H958","v":0},{"$f":"'SHALA DARPAN DATA'!W958","v":0},{"$f":"'SHALA DARPAN DATA'!R958","v":0},{"$f":"'SHALA DARPAN DATA'!S958","v":0},{"$f":"'SHALA DARPAN DATA'!O958","v":0},0,0,0,0,0,0,0,0,0,0,0]
[{"$f":"'SHALA DARPAN DATA'!C959","v":0},{"$f":"'SHALA DARPAN DATA'!A959","v":0},{"$f":"'SHALA DARPAN DATA'!B959","v":0},{"$f":"'SHALA DARPAN DATA'!D959","v":0},{"$f":"'SHALA DARPAN DATA'!J959","v":0},{"$f":"'SHALA DARPAN DATA'!T959","v":0},{"$f":"'SHALA DARPAN DATA'!V959","v":0},{"$f":"'SHALA DARPAN DATA'!K959","v":0},{"$f":"'SHALA DARPAN DATA'!E959","v":0},{"$f":"'SHALA DARPAN DATA'!G959","v":0},{"$f":"'SHALA DARPAN DATA'!H959","v":0},{"$f":"'SHALA DARPAN DATA'!W959","v":0},{"$f":"'SHALA DARPAN DATA'!R959","v":0},{"$f":"'SHALA DARPAN DATA'!S959","v":0},{"$f":"'SHALA DARPAN DATA'!O959","v":0},0,0,0,0,0,0,0,0,0,0,0]
[{"$f":"'SHALA DARPAN DATA'!C960","v":0},{"$f":"'SHALA DARPAN DATA'!A960","v":0},{"$f":"'SHALA DARPAN DATA'!B960","v":0},{"$f":"'SHALA DARPAN DATA'!D960","v":0},{"$f":"'SHALA DARPAN DATA'!J960","v":0},{"$f":"'SHALA DARPAN DATA'!T960","v":0},{"$f":"'SHALA DARPAN DATA'!V960","v":0},{"$f":"'SHALA DARPAN DATA'!K960","v":0},{"$f":"'SHALA DARPAN DATA'!E960","v":0},{"$f":"'SHALA DARPAN DATA'!G960","v":0},{"$f":"'SHALA DARPAN DATA'!H960","v":0},{"$f":"'SHALA DARPAN DATA'!W960","v":0},{"$f":"'SHALA DARPAN DATA'!R960","v":0},{"$f":"'SHALA DARPAN DATA'!S960","v":0},{"$f":"'SHALA DARPAN DATA'!O960","v":0},0,0,0,0,0,0,0,0,0,0,0]
[{"$f":"'SHALA DARPAN DATA'!C961","v":0},{"$f":"'SHALA DARPAN DATA'!A961","v":0},{"$f":"'SHALA DARPAN DATA'!B961","v":0},{"$f":"'SHALA DARPAN DATA'!D961","v":0},{"$f":"'SHALA DARPAN DATA'!J961","v":0},{"$f":"'SHALA DARPAN DATA'!T961","v":0},{"$f":"'SHALA DARPAN DATA'!V961","v":0},{"$f":"'SHALA DARPAN DATA'!K961","v":0},{"$f":"'SHALA DARPAN DATA'!E961","v":0},{"$f":"'SHALA DARPAN DATA'!G961","v":0},{"$f":"'SHALA DARPAN DATA'!H961","v":0},{"$f":"'SHALA DARPAN DATA'!W961","v":0},{"$f":"'SHALA DARPAN DATA'!R961","v":0},{"$f":"'SHALA DARPAN DATA'!S961","v":0},{"$f":"'SHALA DARPAN DATA'!O961","v":0},0,0,0,0,0,0,0,0,0,0,0]
[{"$f":"'SHALA DARPAN DATA'!C962","v":0},{"$f":"'SHALA DARPAN DATA'!A962","v":0},{"$f":"'SHALA DARPAN DATA'!B962","v":0},{"$f":"'SHALA DARPAN DATA'!D962","v":0},{"$f":"'SHALA DARPAN DATA'!J962","v":0},{"$f":"'SHALA DARPAN DATA'!T962","v":0},{"$f":"'SHALA DARPAN DATA'!V962","v":0},{"$f":"'SHALA DARPAN DATA'!K962","v":0},{"$f":"'SHALA DARPAN DATA'!E962","v":0},{"$f":"'SHALA DARPAN DATA'!G962","v":0},{"$f":"'SHALA DARPAN DATA'!H962","v":0},{"$f":"'SHALA DARPAN DATA'!W962","v":0},{"$f":"'SHALA DARPAN DATA'!R962","v":0},{"$f":"'SHALA DARPAN DATA'!S962","v":0},{"$f":"'SHALA DARPAN DATA'!O962","v":0},0,0,0,0,0,0,0,0,0,0,0]
[{"$f":"'SHALA DARPAN DATA'!C963","v":0},{"$f":"'SHALA DARPAN DATA'!A963","v":0},{"$f":"'SHALA DARPAN DATA'!B963","v":0},{"$f":"'SHALA DARPAN DATA'!D963","v":0},{"$f":"'SHALA DARPAN DATA'!J963","v":0},{"$f":"'SHALA DARPAN DATA'!T963","v":0},{"$f":"'SHALA DARPAN DATA'!V963","v":0},{"$f":"'SHALA DARPAN DATA'!K963","v":0},{"$f":"'SHALA DARPAN DATA'!E963","v":0},{"$f":"'SHALA DARPAN DATA'!G963","v":0},{"$f":"'SHALA DARPAN DATA'!H963","v":0},{"$f":"'SHALA DARPAN DATA'!W963","v":0},{"$f":"'SHALA DARPAN DATA'!R963","v":0},{"$f":"'SHALA DARPAN DATA'!S963","v":0},{"$f":"'SHALA DARPAN DATA'!O963","v":0},0,0,0,0,0,0,0,0,0,0,0]
[{"$f":"'SHALA DARPAN DATA'!C964","v":0},{"$f":"'SHALA DARPAN DATA'!A964","v":0},{"$f":"'SHALA DARPAN DATA'!B964","v":0},{"$f":"'SHALA DARPAN DATA'!D964","v":0},{"$f":"'SHALA DARPAN DATA'!J964","v":0},{"$f":"'SHALA DARPAN DATA'!T964","v":0},{"$f":"'SHALA DARPAN DATA'!V964","v":0},{"$f":"'SHALA DARPAN DATA'!K964","v":0},{"$f":"'SHALA DARPAN DATA'!E964","v":0},{"$f":"'SHALA DARPAN DATA'!G964","v":0},{"$f":"'SHALA DARPAN DATA'!H964","v":0},{"$f":"'SHALA DARPAN DATA'!W964","v":0},{"$f":"'SHALA DARPAN DATA'!R964","v":0},{"$f":"'SHALA DARPAN DATA'!S964","v":0},{"$f":"'SHALA DARPAN DATA'!O964","v":0},0,0,0,0,0,0,0,0,0,0,0]
[{"$f":"'SHALA DARPAN DATA'!C965","v":0},{"$f":"'SHALA DARPAN DATA'!A965","v":0},{"$f":"'SHALA DARPAN DATA'!B965","v":0},{"$f":"'SHALA DARPAN DATA'!D965","v":0},{"$f":"'SHALA DARPAN DATA'!J965","v":0},{"$f":"'SHALA DARPAN DATA'!T965","v":0},{"$f":"'SHALA DARPAN DATA'!V965","v":0},{"$f":"'SHALA DARPAN DATA'!K965","v":0},{"$f":"'SHALA DARPAN DATA'!E965","v":0},{"$f":"'SHALA DARPAN DATA'!G965","v":0},{"$f":"'SHALA DARPAN DATA'!H965","v":0},{"$f":"'SHALA DARPAN DATA'!W965","v":0},{"$f":"'SHALA DARPAN DATA'!R965","v":0},{"$f":"'SHALA DARPAN DATA'!S965","v":0},{"$f":"'SHALA DARPAN DATA'!O965","v":0},0,0,0,0,0,0,0,0,0,0,0]
[{"$f":"'SHALA DARPAN DATA'!C966","v":0},{"$f":"'SHALA DARPAN DATA'!A966","v":0},{"$f":"'SHALA DARPAN DATA'!B966","v":0},{"$f":"'SHALA DARPAN DATA'!D966","v":0},{"$f":"'SHALA DARPAN DATA'!J966","v":0},{"$f":"'SHALA DARPAN DATA'!T966","v":0},{"$f":"'SHALA DARPAN DATA'!V966","v":0},{"$f":"'SHALA DARPAN DATA'!K966","v":0},{"$f":"'SHALA DARPAN DATA'!E966","v":0},{"$f":"'SHALA DARPAN DATA'!G966","v":0},{"$f":"'SHALA DARPAN DATA'!H966","v":0},{"$f":"'SHALA DARPAN DATA'!W966","v":0},{"$f":"'SHALA DARPAN DATA'!R966","v":0},{"$f":"'SHALA DARPAN DATA'!S966","v":0},{"$f":"'SHALA DARPAN DATA'!O966","v":0},0,0,0,0,0,0,0,0,0,0,0]
[{"$f":"'SHALA DARPAN DATA'!C967","v":0},{"$f":"'SHALA DARPAN DATA'!A967","v":0},{"$f":"'SHALA DARPAN DATA'!B967","v":0},{"$f":"'SHALA DARPAN DATA'!D967","v":0},{"$f":"'SHALA DARPAN DATA'!J967","v":0},{"$f":"'SHALA DARPAN DATA'!T967","v":0},{"$f":"'SHALA DARPAN DATA'!V967","v":0},{"$f":"'SHALA DARPAN DATA'!K967","v":0},{"$f":"'SHALA DARPAN DATA'!E967","v":0},{"$f":"'SHALA DARPAN DATA'!G967","v":0},{"$f":"'SHALA DARPAN DATA'!H967","v":0},{"$f":"'SHALA DARPAN DATA'!W967","v":0},{"$f":"'SHALA DARPAN DATA'!R967","v":0},{"$f":"'SHALA DARPAN DATA'!S967","v":0},{"$f":"'SHALA DARPAN DATA'!O967","v":0},0,0,0,0,0,0,0,0,0,0,0]
[{"$f":"'SHALA DARPAN DATA'!C968","v":0},{"$f":"'SHALA DARPAN DATA'!A968","v":0},{"$f":"'SHALA DARPAN DATA'!B968","v":0},{"$f":"'SHALA DARPAN DATA'!D968","v":0},{"$f":"'SHALA DARPAN DATA'!J968","v":0},{"$f":"'SHALA DARPAN DATA'!T968","v":0},{"$f":"'SHALA DARPAN DATA'!V968","v":0},{"$f":"'SHALA DARPAN DATA'!K968","v":0},{"$f":"'SHALA DARPAN DATA'!E968","v":0},{"$f":"'SHALA DARPAN DATA'!G968","v":0},{"$f":"'SHALA DARPAN DATA'!H968","v":0},{"$f":"'SHALA DARPAN DATA'!W968","v":0},{"$f":"'SHALA DARPAN DATA'!R968","v":0},{"$f":"'SHALA DARPAN DATA'!S968","v":0},{"$f":"'SHALA DARPAN DATA'!O968","v":0},0,0,0,0,0,0,0,0,0,0,0]
[{"$f":"'SHALA DARPAN DATA'!C969","v":0},{"$f":"'SHALA DARPAN DATA'!A969","v":0},{"$f":"'SHALA DARPAN DATA'!B969","v":0},{"$f":"'SHALA DARPAN DATA'!D969","v":0},{"$f":"'SHALA DARPAN DATA'!J969","v":0},{"$f":"'SHALA DARPAN DATA'!T969","v":0},{"$f":"'SHALA DARPAN DATA'!V969","v":0},{"$f":"'SHALA DARPAN DATA'!K969","v":0},{"$f":"'SHALA DARPAN DATA'!E969","v":0},{"$f":"'SHALA DARPAN DATA'!G969","v":0},{"$f":"'SHALA DARPAN DATA'!H969","v":0},{"$f":"'SHALA DARPAN DATA'!W969","v":0},{"$f":"'SHALA DARPAN DATA'!R969","v":0},{"$f":"'SHALA DARPAN DATA'!S969","v":0},{"$f":"'SHALA DARPAN DATA'!O969","v":0},0,0,0,0,0,0,0,0,0,0,0]
[{"$f":"'SHALA DARPAN DATA'!C970","v":0},{"$f":"'SHALA DARPAN DATA'!A970","v":0},{"$f":"'SHALA DARPAN DATA'!B970","v":0},{"$f":"'SHALA DARPAN DATA'!D970","v":0},{"$f":"'SHALA DARPAN DATA'!J970","v":0},{"$f":"'SHALA DARPAN DATA'!T970","v":0},{"$f":"'SHALA DARPAN DATA'!V970","v":0},{"$f":"'SHALA DARPAN DATA'!K970","v":0},{"$f":"'SHALA DARPAN DATA'!E970","v":0},{"$f":"'SHALA DARPAN DATA'!G970","v":0},{"$f":"'SHALA DARPAN DATA'!H970","v":0},{"$f":"'SHALA DARPAN DATA'!W970","v":0},{"$f":"'SHALA DARPAN DATA'!R970","v":0},{"$f":"'SHALA DARPAN DATA'!S970","v":0},{"$f":"'SHALA DARPAN DATA'!O970","v":0},0,0,0,0,0,0,0,0,0,0,0]
[{"$f":"'SHALA DARPAN DATA'!C971","v":0},{"$f":"'SHALA DARPAN DATA'!A971","v":0},{"$f":"'SHALA DARPAN DATA'!B971","v":0},{"$f":"'SHALA DARPAN DATA'!D971","v":0},{"$f":"'SHALA DARPAN DATA'!J971","v":0},{"$f":"'SHALA DARPAN DATA'!T971","v":0},{"$f":"'SHALA DARPAN DATA'!V971","v":0},{"$f":"'SHALA DARPAN DATA'!K971","v":0},{"$f":"'SHALA DARPAN DATA'!E971","v":0},{"$f":"'SHALA DARPAN DATA'!G971","v":0},{"$f":"'SHALA DARPAN DATA'!H971","v":0},{"$f":"'SHALA DARPAN DATA'!W971","v":0},{"$f":"'SHALA DARPAN DATA'!R971","v":0},{"$f":"'SHALA DARPAN DATA'!S971","v":0},{"$f":"'SHALA DARPAN DATA'!O971","v":0},0,0,0,0,0,0,0,0,0,0,0]
[{"$f":"'SHALA DARPAN DATA'!C972","v":0},{"$f":"'SHALA DARPAN DATA'!A972","v":0},{"$f":"'SHALA DARPAN DATA'!B972","v":0},{"$f":"'SHALA DARPAN DATA'!D972","v":0},{"$f":"'SHALA DARPAN DATA'!J972","v":0},{"$f":"'SHALA DARPAN DATA'!T972","v":0},{"$f":"'SHALA DARPAN DATA'!V972","v":0},{"$f":"'SHALA DARPAN DATA'!K972","v":0},{"$f":"'SHALA DARPAN DATA'!E972","v":0},{"$f":"'SHALA DARPAN DATA'!G972","v":0},{"$f":"'SHALA DARPAN DATA'!H972","v":0},{"$f":"'SHALA DARPAN DATA'!W972","v":0},{"$f":"'SHALA DARPAN DATA'!R972","v":0},{"$f":"'SHALA DARPAN DATA'!S972","v":0},{"$f":"'SHALA DARPAN DATA'!O972","v":0},0,0,0,0,0,0,0,0,0,0,0]
[{"$f":"'SHALA DARPAN DATA'!C973","v":0},{"$f":"'SHALA DARPAN DATA'!A973","v":0},{"$f":"'SHALA DARPAN DATA'!B973","v":0},{"$f":"'SHALA DARPAN DATA'!D973","v":0},{"$f":"'SHALA DARPAN DATA'!J973","v":0},{"$f":"'SHALA DARPAN DATA'!T973","v":0},{"$f":"'SHALA DARPAN DATA'!V973","v":0},{"$f":"'SHALA DARPAN DATA'!K973","v":0},{"$f":"'SHALA DARPAN DATA'!E973","v":0},{"$f":"'SHALA DARPAN DATA'!G973","v":0},{"$f":"'SHALA DARPAN DATA'!H973","v":0},{"$f":"'SHALA DARPAN DATA'!W973","v":0},{"$f":"'SHALA DARPAN DATA'!R973","v":0},{"$f":"'SHALA DARPAN DATA'!S973","v":0},{"$f":"'SHALA DARPAN DATA'!O973","v":0},0,0,0,0,0,0,0,0,0,0,0]
[{"$f":"'SHALA DARPAN DATA'!C974","v":0},{"$f":"'SHALA DARPAN DATA'!A974","v":0},{"$f":"'SHALA DARPAN DATA'!B974","v":0},{"$f":"'SHALA DARPAN DATA'!D974","v":0},{"$f":"'SHALA DARPAN DATA'!J974","v":0},{"$f":"'SHALA DARPAN DATA'!T974","v":0},{"$f":"'SHALA DARPAN DATA'!V974","v":0},{"$f":"'SHALA DARPAN DATA'!K974","v":0},{"$f":"'SHALA DARPAN DATA'!E974","v":0},{"$f":"'SHALA DARPAN DATA'!G974","v":0},{"$f":"'SHALA DARPAN DATA'!H974","v":0},{"$f":"'SHALA DARPAN DATA'!W974","v":0},{"$f":"'SHALA DARPAN DATA'!R974","v":0},{"$f":"'SHALA DARPAN DATA'!S974","v":0},{"$f":"'SHALA DARPAN DATA'!O974","v":0},0,0,0,0,0,0,0,0,0,0,0]
[{"$f":"'SHALA DARPAN DATA'!C975","v":0},{"$f":"'SHALA DARPAN DATA'!A975","v":0},{"$f":"'SHALA DARPAN DATA'!B975","v":0},{"$f":"'SHALA DARPAN DATA'!D975","v":0},{"$f":"'SHALA DARPAN DATA'!J975","v":0},{"$f":"'SHALA DARPAN DATA'!T975","v":0},{"$f":"'SHALA DARPAN DATA'!V975","v":0},{"$f":"'SHALA DARPAN DATA'!K975","v":0},{"$f":"'SHALA DARPAN DATA'!E975","v":0},{"$f":"'SHALA DARPAN DATA'!G975","v":0},{"$f":"'SHALA DARPAN DATA'!H975","v":0},{"$f":"'SHALA DARPAN DATA'!W975","v":0},{"$f":"'SHALA DARPAN DATA'!R975","v":0},{"$f":"'SHALA DARPAN DATA'!S975","v":0},{"$f":"'SHALA DARPAN DATA'!O975","v":0},0,0,0,0,0,0,0,0,0,0,0]
[{"$f":"'SHALA DARPAN DATA'!C976","v":0},{"$f":"'SHALA DARPAN DATA'!A976","v":0},{"$f":"'SHALA DARPAN DATA'!B976","v":0},{"$f":"'SHALA DARPAN DATA'!D976","v":0},{"$f":"'SHALA DARPAN DATA'!J976","v":0},{"$f":"'SHALA DARPAN DATA'!T976","v":0},{"$f":"'SHALA DARPAN DATA'!V976","v":0},{"$f":"'SHALA DARPAN DATA'!K976","v":0},{"$f":"'SHALA DARPAN DATA'!E976","v":0},{"$f":"'SHALA DARPAN DATA'!G976","v":0},{"$f":"'SHALA DARPAN DATA'!H976","v":0},{"$f":"'SHALA DARPAN DATA'!W976","v":0},{"$f":"'SHALA DARPAN DATA'!R976","v":0},{"$f":"'SHALA DARPAN DATA'!S976","v":0},{"$f":"'SHALA DARPAN DATA'!O976","v":0},0,0,0,0,0,0,0,0,0,0,0]
[{"$f":"'SHALA DARPAN DATA'!C977","v":0},{"$f":"'SHALA DARPAN DATA'!A977","v":0},{"$f":"'SHALA DARPAN DATA'!B977","v":0},{"$f":"'SHALA DARPAN DATA'!D977","v":0},{"$f":"'SHALA DARPAN DATA'!J977","v":0},{"$f":"'SHALA DARPAN DATA'!T977","v":0},{"$f":"'SHALA DARPAN DATA'!V977","v":0},{"$f":"'SHALA DARPAN DATA'!K977","v":0},{"$f":"'SHALA DARPAN DATA'!E977","v":0},{"$f":"'SHALA DARPAN DATA'!G977","v":0},{"$f":"'SHALA DARPAN DATA'!H977","v":0},{"$f":"'SHALA DARPAN DATA'!W977","v":0},{"$f":"'SHALA DARPAN DATA'!R977","v":0},{"$f":"'SHALA DARPAN DATA'!S977","v":0},{"$f":"'SHALA DARPAN DATA'!O977","v":0},0,0,0,0,0,0,0,0,0,0,0]
[{"$f":"'SHALA DARPAN DATA'!C978","v":0},{"$f":"'SHALA DARPAN DATA'!A978","v":0},{"$f":"'SHALA DARPAN DATA'!B978","v":0},{"$f":"'SHALA DARPAN DATA'!D978","v":0},{"$f":"'SHALA DARPAN DATA'!J978","v":0},{"$f":"'SHALA DARPAN DATA'!T978","v":0},{"$f":"'SHALA DARPAN DATA'!V978","v":0},{"$f":"'SHALA DARPAN DATA'!K978","v":0},{"$f":"'SHALA DARPAN DATA'!E978","v":0},{"$f":"'SHALA DARPAN DATA'!G978","v":0},{"$f":"'SHALA DARPAN DATA'!H978","v":0},{"$f":"'SHALA DARPAN DATA'!W978","v":0},{"$f":"'SHALA DARPAN DATA'!R978","v":0},{"$f":"'SHALA DARPAN DATA'!S978","v":0},{"$f":"'SHALA DARPAN DATA'!O978","v":0},0,0,0,0,0,0,0,0,0,0,0]
[{"$f":"'SHALA DARPAN DATA'!C979","v":0},{"$f":"'SHALA DARPAN DATA'!A979","v":0},{"$f":"'SHALA DARPAN DATA'!B979","v":0},{"$f":"'SHALA DARPAN DATA'!D979","v":0},{"$f":"'SHALA DARPAN DATA'!J979","v":0},{"$f":"'SHALA DARPAN DATA'!T979","v":0},{"$f":"'SHALA DARPAN DATA'!V979","v":0},{"$f":"'SHALA DARPAN DATA'!K979","v":0},{"$f":"'SHALA DARPAN DATA'!E979","v":0},{"$f":"'SHALA DARPAN DATA'!G979","v":0},{"$f":"'SHALA DARPAN DATA'!H979","v":0},{"$f":"'SHALA DARPAN DATA'!W979","v":0},{"$f":"'SHALA DARPAN DATA'!R979","v":0},{"$f":"'SHALA DARPAN DATA'!S979","v":0},{"$f":"'SHALA DARPAN DATA'!O979","v":0},0,0,0,0,0,0,0,0,0,0,0]
[{"$f":"'SHALA DARPAN DATA'!C980","v":0},{"$f":"'SHALA DARPAN DATA'!A980","v":0},{"$f":"'SHALA DARPAN DATA'!B980","v":0},{"$f":"'SHALA DARPAN DATA'!D980","v":0},{"$f":"'SHALA DARPAN DATA'!J980","v":0},{"$f":"'SHALA DARPAN DATA'!T980","v":0},{"$f":"'SHALA DARPAN DATA'!V980","v":0},{"$f":"'SHALA DARPAN DATA'!K980","v":0},{"$f":"'SHALA DARPAN DATA'!E980","v":0},{"$f":"'SHALA DARPAN DATA'!G980","v":0},{"$f":"'SHALA DARPAN DATA'!H980","v":0},{"$f":"'SHALA DARPAN DATA'!W980","v":0},{"$f":"'SHALA DARPAN DATA'!R980","v":0},{"$f":"'SHALA DARPAN DATA'!S980","v":0},{"$f":"'SHALA DARPAN DATA'!O980","v":0},0,0,0,0,0,0,0,0,0,0,0]
[{"$f":"'SHALA DARPAN DATA'!C981","v":0},{"$f":"'SHALA DARPAN DATA'!A981","v":0},{"$f":"'SHALA DARPAN DATA'!B981","v":0},{"$f":"'SHALA DARPAN DATA'!D981","v":0},{"$f":"'SHALA DARPAN DATA'!J981","v":0},{"$f":"'SHALA DARPAN DATA'!T981","v":0},{"$f":"'SHALA DARPAN DATA'!V981","v":0},{"$f":"'SHALA DARPAN DATA'!K981","v":0},{"$f":"'SHALA DARPAN DATA'!E981","v":0},{"$f":"'SHALA DARPAN DATA'!G981","v":0},{"$f":"'SHALA DARPAN DATA'!H981","v":0},{"$f":"'SHALA DARPAN DATA'!W981","v":0},{"$f":"'SHALA DARPAN DATA'!R981","v":0},{"$f":"'SHALA DARPAN DATA'!S981","v":0},{"$f":"'SHALA DARPAN DATA'!O981","v":0},0,0,0,0,0,0,0,0,0,0,0]
[{"$f":"'SHALA DARPAN DATA'!C982","v":0},{"$f":"'SHALA DARPAN DATA'!A982","v":0},{"$f":"'SHALA DARPAN DATA'!B982","v":0},{"$f":"'SHALA DARPAN DATA'!D982","v":0},{"$f":"'SHALA DARPAN DATA'!J982","v":0},{"$f":"'SHALA DARPAN DATA'!T982","v":0},{"$f":"'SHALA DARPAN DATA'!V982","v":0},{"$f":"'SHALA DARPAN DATA'!K982","v":0},{"$f":"'SHALA DARPAN DATA'!E982","v":0},{"$f":"'SHALA DARPAN DATA'!G982","v":0},{"$f":"'SHALA DARPAN DATA'!H982","v":0},{"$f":"'SHALA DARPAN DATA'!W982","v":0},{"$f":"'SHALA DARPAN DATA'!R982","v":0},{"$f":"'SHALA DARPAN DATA'!S982","v":0},{"$f":"'SHALA DARPAN DATA'!O982","v":0},0,0,0,0,0,0,0,0,0,0,0]
[{"$f":"'SHALA DARPAN DATA'!C983","v":0},{"$f":"'SHALA DARPAN DATA'!A983","v":0},{"$f":"'SHALA DARPAN DATA'!B983","v":0},{"$f":"'SHALA DARPAN DATA'!D983","v":0},{"$f":"'SHALA DARPAN DATA'!J983","v":0},{"$f":"'SHALA DARPAN DATA'!T983","v":0},{"$f":"'SHALA DARPAN DATA'!V983","v":0},{"$f":"'SHALA DARPAN DATA'!K983","v":0},{"$f":"'SHALA DARPAN DATA'!E983","v":0},{"$f":"'SHALA DARPAN DATA'!G983","v":0},{"$f":"'SHALA DARPAN DATA'!H983","v":0},{"$f":"'SHALA DARPAN DATA'!W983","v":0},{"$f":"'SHALA DARPAN DATA'!R983","v":0},{"$f":"'SHALA DARPAN DATA'!S983","v":0},{"$f":"'SHALA DARPAN DATA'!O983","v":0},0,0,0,0,0,0,0,0,0,0,0]
[{"$f":"'SHALA DARPAN DATA'!C984","v":0},{"$f":"'SHALA DARPAN DATA'!A984","v":0},{"$f":"'SHALA DARPAN DATA'!B984","v":0},{"$f":"'SHALA DARPAN DATA'!D984","v":0},{"$f":"'SHALA DARPAN DATA'!J984","v":0},{"$f":"'SHALA DARPAN DATA'!T984","v":0},{"$f":"'SHALA DARPAN DATA'!V984","v":0},{"$f":"'SHALA DARPAN DATA'!K984","v":0},{"$f":"'SHALA DARPAN DATA'!E984","v":0},{"$f":"'SHALA DARPAN DATA'!G984","v":0},{"$f":"'SHALA DARPAN DATA'!H984","v":0},{"$f":"'SHALA DARPAN DATA'!W984","v":0},{"$f":"'SHALA DARPAN DATA'!R984","v":0},{"$f":"'SHALA DARPAN DATA'!S984","v":0},{"$f":"'SHALA DARPAN DATA'!O984","v":0},0,0,0,0,0,0,0,0,0,0,0]
[{"$f":"'SHALA DARPAN DATA'!C985","v":0},{"$f":"'SHALA DARPAN DATA'!A985","v":0},{"$f":"'SHALA DARPAN DATA'!B985","v":0},{"$f":"'SHALA DARPAN DATA'!D985","v":0},{"$f":"'SHALA DARPAN DATA'!J985","v":0},{"$f":"'SHALA DARPAN DATA'!T985","v":0},{"$f":"'SHALA DARPAN DATA'!V985","v":0},{"$f":"'SHALA DARPAN DATA'!K985","v":0},{"$f":"'SHALA DARPAN DATA'!E985","v":0},{"$f":"'SHALA DARPAN DATA'!G985","v":0},{"$f":"'SHALA DARPAN DATA'!H985","v":0},{"$f":"'SHALA DARPAN DATA'!W985","v":0},{"$f":"'SHALA DARPAN DATA'!R985","v":0},{"$f":"'SHALA DARPAN DATA'!S985","v":0},{"$f":"'SHALA DARPAN DATA'!O985","v":0},0,0,0,0,0,0,0,0,0,0,0]
[{"$f":"'SHALA DARPAN DATA'!C986","v":0},{"$f":"'SHALA DARPAN DATA'!A986","v":0},{"$f":"'SHALA DARPAN DATA'!B986","v":0},{"$f":"'SHALA DARPAN DATA'!D986","v":0},{"$f":"'SHALA DARPAN DATA'!J986","v":0},{"$f":"'SHALA DARPAN DATA'!T986","v":0},{"$f":"'SHALA DARPAN DATA'!V986","v":0},{"$f":"'SHALA DARPAN DATA'!K986","v":0},{"$f":"'SHALA DARPAN DATA'!E986","v":0},{"$f":"'SHALA DARPAN DATA'!G986","v":0},{"$f":"'SHALA DARPAN DATA'!H986","v":0},{"$f":"'SHALA DARPAN DATA'!W986","v":0},{"$f":"'SHALA DARPAN DATA'!R986","v":0},{"$f":"'SHALA DARPAN DATA'!S986","v":0},{"$f":"'SHALA DARPAN DATA'!O986","v":0},0,0,0,0,0,0,0,0,0,0,0]
[{"$f":"'SHALA DARPAN DATA'!C987","v":0},{"$f":"'SHALA DARPAN DATA'!A987","v":0},{"$f":"'SHALA DARPAN DATA'!B987","v":0},{"$f":"'SHALA DARPAN DATA'!D987","v":0},{"$f":"'SHALA DARPAN DATA'!J987","v":0},{"$f":"'SHALA DARPAN DATA'!T987","v":0},{"$f":"'SHALA DARPAN DATA'!V987","v":0},{"$f":"'SHALA DARPAN DATA'!K987","v":0},{"$f":"'SHALA DARPAN DATA'!E987","v":0},{"$f":"'SHALA DARPAN DATA'!G987","v":0},{"$f":"'SHALA DARPAN DATA'!H987","v":0},{"$f":"'SHALA DARPAN DATA'!W987","v":0},{"$f":"'SHALA DARPAN DATA'!R987","v":0},{"$f":"'SHALA DARPAN DATA'!S987","v":0},{"$f":"'SHALA DARPAN DATA'!O987","v":0},0,0,0,0,0,0,0,0,0,0,0]
[{"$f":"'SHALA DARPAN DATA'!C988","v":0},{"$f":"'SHALA DARPAN DATA'!A988","v":0},{"$f":"'SHALA DARPAN DATA'!B988","v":0},{"$f":"'SHALA DARPAN DATA'!D988","v":0},{"$f":"'SHALA DARPAN DATA'!J988","v":0},{"$f":"'SHALA DARPAN DATA'!T988","v":0},{"$f":"'SHALA DARPAN DATA'!V988","v":0},{"$f":"'SHALA DARPAN DATA'!K988","v":0},{"$f":"'SHALA DARPAN DATA'!E988","v":0},{"$f":"'SHALA DARPAN DATA'!G988","v":0},{"$f":"'SHALA DARPAN DATA'!H988","v":0},{"$f":"'SHALA DARPAN DATA'!W988","v":0},{"$f":"'SHALA DARPAN DATA'!R988","v":0},{"$f":"'SHALA DARPAN DATA'!S988","v":0},{"$f":"'SHALA DARPAN DATA'!O988","v":0},0,0,0,0,0,0,0,0,0,0,0]
[{"$f":"'SHALA DARPAN DATA'!C989","v":0},{"$f":"'SHALA DARPAN DATA'!A989","v":0},{"$f":"'SHALA DARPAN DATA'!B989","v":0},{"$f":"'SHALA DARPAN DATA'!D989","v":0},{"$f":"'SHALA DARPAN DATA'!J989","v":0},{"$f":"'SHALA DARPAN DATA'!T989","v":0},{"$f":"'SHALA DARPAN DATA'!V989","v":0},{"$f":"'SHALA DARPAN DATA'!K989","v":0},{"$f":"'SHALA DARPAN DATA'!E989","v":0},{"$f":"'SHALA DARPAN DATA'!G989","v":0},{"$f":"'SHALA DARPAN DATA'!H989","v":0},{"$f":"'SHALA DARPAN DATA'!W989","v":0},{"$f":"'SHALA DARPAN DATA'!R989","v":0},{"$f":"'SHALA DARPAN DATA'!S989","v":0},{"$f":"'SHALA DARPAN DATA'!O989","v":0},0,0,0,0,0,0,0,0,0,0,0]
[{"$f":"'SHALA DARPAN DATA'!C990","v":0},{"$f":"'SHALA DARPAN DATA'!A990","v":0},{"$f":"'SHALA DARPAN DATA'!B990","v":0},{"$f":"'SHALA DARPAN DATA'!D990","v":0},{"$f":"'SHALA DARPAN DATA'!J990","v":0},{"$f":"'SHALA DARPAN DATA'!T990","v":0},{"$f":"'SHALA DARPAN DATA'!V990","v":0},{"$f":"'SHALA DARPAN DATA'!K990","v":0},{"$f":"'SHALA DARPAN DATA'!E990","v":0},{"$f":"'SHALA DARPAN DATA'!G990","v":0},{"$f":"'SHALA DARPAN DATA'!H990","v":0},{"$f":"'SHALA DARPAN DATA'!W990","v":0},{"$f":"'SHALA DARPAN DATA'!R990","v":0},{"$f":"'SHALA DARPAN DATA'!S990","v":0},{"$f":"'SHALA DARPAN DATA'!O990","v":0},0,0,0,0,0,0,0,0,0,0,0]
[{"$f":"'SHALA DARPAN DATA'!C991","v":0},{"$f":"'SHALA DARPAN DATA'!A991","v":0},{"$f":"'SHALA DARPAN DATA'!B991","v":0},{"$f":"'SHALA DARPAN DATA'!D991","v":0},{"$f":"'SHALA DARPAN DATA'!J991","v":0},{"$f":"'SHALA DARPAN DATA'!T991","v":0},{"$f":"'SHALA DARPAN DATA'!V991","v":0},{"$f":"'SHALA DARPAN DATA'!K991","v":0},{"$f":"'SHALA DARPAN DATA'!E991","v":0},{"$f":"'SHALA DARPAN DATA'!G991","v":0},{"$f":"'SHALA DARPAN DATA'!H991","v":0},{"$f":"'SHALA DARPAN DATA'!W991","v":0},{"$f":"'SHALA DARPAN DATA'!R991","v":0},{"$f":"'SHALA DARPAN DATA'!S991","v":0},{"$f":"'SHALA DARPAN DATA'!O991","v":0},0,0,0,0,0,0,0,0,0,0,0]
[{"$f":"'SHALA DARPAN DATA'!C992","v":0},{"$f":"'SHALA DARPAN DATA'!A992","v":0},{"$f":"'SHALA DARPAN DATA'!B992","v":0},{"$f":"'SHALA DARPAN DATA'!D992","v":0},{"$f":"'SHALA DARPAN DATA'!J992","v":0},{"$f":"'SHALA DARPAN DATA'!T992","v":0},{"$f":"'SHALA DARPAN DATA'!V992","v":0},{"$f":"'SHALA DARPAN DATA'!K992","v":0},{"$f":"'SHALA DARPAN DATA'!E992","v":0},{"$f":"'SHALA DARPAN DATA'!G992","v":0},{"$f":"'SHALA DARPAN DATA'!H992","v":0},{"$f":"'SHALA DARPAN DATA'!W992","v":0},{"$f":"'SHALA DARPAN DATA'!R992","v":0},{"$f":"'SHALA DARPAN DATA'!S992","v":0},{"$f":"'SHALA DARPAN DATA'!O992","v":0},0,0,0,0,0,0,0,0,0,0,0]
[{"$f":"'SHALA DARPAN DATA'!C993","v":0},{"$f":"'SHALA DARPAN DATA'!A993","v":0},{"$f":"'SHALA DARPAN DATA'!B993","v":0},{"$f":"'SHALA DARPAN DATA'!D993","v":0},{"$f":"'SHALA DARPAN DATA'!J993","v":0},{"$f":"'SHALA DARPAN DATA'!T993","v":0},{"$f":"'SHALA DARPAN DATA'!V993","v":0},{"$f":"'SHALA DARPAN DATA'!K993","v":0},{"$f":"'SHALA DARPAN DATA'!E993","v":0},{"$f":"'SHALA DARPAN DATA'!G993","v":0},{"$f":"'SHALA DARPAN DATA'!H993","v":0},{"$f":"'SHALA DARPAN DATA'!W993","v":0},{"$f":"'SHALA DARPAN DATA'!R993","v":0},{"$f":"'SHALA DARPAN DATA'!S993","v":0},{"$f":"'SHALA DARPAN DATA'!O993","v":0},0,0,0,0,0,0,0,0,0,0,0]
[{"$f":"'SHALA DARPAN DATA'!C994","v":0},{"$f":"'SHALA DARPAN DATA'!A994","v":0},{"$f":"'SHALA DARPAN DATA'!B994","v":0},{"$f":"'SHALA DARPAN DATA'!D994","v":0},{"$f":"'SHALA DARPAN DATA'!J994","v":0},{"$f":"'SHALA DARPAN DATA'!T994","v":0},{"$f":"'SHALA DARPAN DATA'!V994","v":0},{"$f":"'SHALA DARPAN DATA'!K994","v":0},{"$f":"'SHALA DARPAN DATA'!E994","v":0},{"$f":"'SHALA DARPAN DATA'!G994","v":0},{"$f":"'SHALA DARPAN DATA'!H994","v":0},{"$f":"'SHALA DARPAN DATA'!W994","v":0},{"$f":"'SHALA DARPAN DATA'!R994","v":0},{"$f":"'SHALA DARPAN DATA'!S994","v":0},{"$f":"'SHALA DARPAN DATA'!O994","v":0},0,0,0,0,0,0,0,0,0,0,0]
[{"$f":"'SHALA DARPAN DATA'!C995","v":0},{"$f":"'SHALA DARPAN DATA'!A995","v":0},{"$f":"'SHALA DARPAN DATA'!B995","v":0},{"$f":"'SHALA DARPAN DATA'!D995","v":0},{"$f":"'SHALA DARPAN DATA'!J995","v":0},{"$f":"'SHALA DARPAN DATA'!T995","v":0},{"$f":"'SHALA DARPAN DATA'!V995","v":0},{"$f":"'SHALA DARPAN DATA'!K995","v":0},{"$f":"'SHALA DARPAN DATA'!E995","v":0},{"$f":"'SHALA DARPAN DATA'!G995","v":0},{"$f":"'SHALA DARPAN DATA'!H995","v":0},{"$f":"'SHALA DARPAN DATA'!W995","v":0},{"$f":"'SHALA DARPAN DATA'!R995","v":0},{"$f":"'SHALA DARPAN DATA'!S995","v":0},{"$f":"'SHALA DARPAN DATA'!O995","v":0},0,0,0,0,0,0,0,0,0,0,0]
[{"$f":"'SHALA DARPAN DATA'!C996","v":0},{"$f":"'SHALA DARPAN DATA'!A996","v":0},{"$f":"'SHALA DARPAN DATA'!B996","v":0},{"$f":"'SHALA DARPAN DATA'!D996","v":0},{"$f":"'SHALA DARPAN DATA'!J996","v":0},{"$f":"'SHALA DARPAN DATA'!T996","v":0},{"$f":"'SHALA DARPAN DATA'!V996","v":0},{"$f":"'SHALA DARPAN DATA'!K996","v":0},{"$f":"'SHALA DARPAN DATA'!E996","v":0},{"$f":"'SHALA DARPAN DATA'!G996","v":0},{"$f":"'SHALA DARPAN DATA'!H996","v":0},{"$f":"'SHALA DARPAN DATA'!W996","v":0},{"$f":"'SHALA DARPAN DATA'!R996","v":0},{"$f":"'SHALA DARPAN DATA'!S996","v":0},{"$f":"'SHALA DARPAN DATA'!O996","v":0},0,0,0,0,0,0,0,0,0,0,0]
[{"$f":"'SHALA DARPAN DATA'!C997","v":0},{"$f":"'SHALA DARPAN DATA'!A997","v":0},{"$f":"'SHALA DARPAN DATA'!B997","v":0},{"$f":"'SHALA DARPAN DATA'!D997","v":0},{"$f":"'SHALA DARPAN DATA'!J997","v":0},{"$f":"'SHALA DARPAN DATA'!T997","v":0},{"$f":"'SHALA DARPAN DATA'!V997","v":0},{"$f":"'SHALA DARPAN DATA'!K997","v":0},{"$f":"'SHALA DARPAN DATA'!E997","v":0},{"$f":"'SHALA DARPAN DATA'!G997","v":0},{"$f":"'SHALA DARPAN DATA'!H997","v":0},{"$f":"'SHALA DARPAN DATA'!W997","v":0},{"$f":"'SHALA DARPAN DATA'!R997","v":0},{"$f":"'SHALA DARPAN DATA'!S997","v":0},{"$f":"'SHALA DARPAN DATA'!O997","v":0},0,0,0,0,0,0,0,0,0,0,0]
[{"$f":"'SHALA DARPAN DATA'!C998","v":0},{"$f":"'SHALA DARPAN DATA'!A998","v":0},{"$f":"'SHALA DARPAN DATA'!B998","v":0},{"$f":"'SHALA DARPAN DATA'!D998","v":0},{"$f":"'SHALA DARPAN DATA'!J998","v":0},{"$f":"'SHALA DARPAN DATA'!T998","v":0},{"$f":"'SHALA DARPAN DATA'!V998","v":0},{"$f":"'SHALA DARPAN DATA'!K998","v":0},{"$f":"'SHALA DARPAN DATA'!E998","v":0},{"$f":"'SHALA DARPAN DATA'!G998","v":0},{"$f":"'SHALA DARPAN DATA'!H998","v":0},{"$f":"'SHALA DARPAN DATA'!W998","v":0},{"$f":"'SHALA DARPAN DATA'!R998","v":0},{"$f":"'SHALA DARPAN DATA'!S998","v":0},{"$f":"'SHALA DARPAN DATA'!O998","v":0},0,0,0,0,0,0,0,0,0,0,0]
[{"$f":"'SHALA DARPAN DATA'!C999","v":0},{"$f":"'SHALA DARPAN DATA'!A999","v":0},{"$f":"'SHALA DARPAN DATA'!B999","v":0},{"$f":"'SHALA DARPAN DATA'!D999","v":0},{"$f":"'SHALA DARPAN DATA'!J999","v":0},{"$f":"'SHALA DARPAN DATA'!T999","v":0},{"$f":"'SHALA DARPAN DATA'!V999","v":0},{"$f":"'SHALA DARPAN DATA'!K999","v":0},{"$f":"'SHALA DARPAN DATA'!E999","v":0},{"$f":"'SHALA DARPAN DATA'!G999","v":0},{"$f":"'SHALA DARPAN DATA'!H999","v":0},{"$f":"'SHALA DARPAN DATA'!W999","v":0},{"$f":"'SHALA DARPAN DATA'!R999","v":0},{"$f":"'SHALA DARPAN DATA'!S999","v":0},{"$f":"'SHALA DARPAN DATA'!O999","v":0},0,0,0,0,0,0,0,0,0,0,0]
[{"$f":"'SHALA DARPAN DATA'!C1000","v":0},{"$f":"'SHALA DARPAN DATA'!A1000","v":0},{"$f":"'SHALA DARPAN DATA'!B1000","v":0},{"$f":"'SHALA DARPAN DATA'!D1000","v":0},{"$f":"'SHALA DARPAN DATA'!J1000","v":0},{"$f":"'SHALA DARPAN DATA'!T1000","v":0},{"$f":"'SHALA DARPAN DATA'!V1000","v":0},{"$f":"'SHALA DARPAN DATA'!K1000","v":0},{"$f":"'SHALA DARPAN DATA'!E1000","v":0},{"$f":"'SHALA DARPAN DATA'!G1000","v":0},{"$f":"'SHALA DARPAN DATA'!H1000","v":0},{"$f":"'SHALA DARPAN DATA'!W1000","v":0},{"$f":"'SHALA DARPAN DATA'!R1000","v":0},{"$f":"'SHALA DARPAN DATA'!S1000","v":0},{"$f":"'SHALA DARPAN DATA'!O1000","v":0},0,0,0,0,0,0,0,0,0,0,0]
[{"$f":"'SHALA DARPAN DATA'!C1001","v":0},{"$f":"'SHALA DARPAN DATA'!A1001","v":0},{"$f":"'SHALA DARPAN DATA'!B1001","v":0},{"$f":"'SHALA DARPAN DATA'!D1001","v":0},{"$f":"'SHALA DARPAN DATA'!J1001","v":0},{"$f":"'SHALA DARPAN DATA'!T1001","v":0},{"$f":"'SHALA DARPAN DATA'!V1001","v":0},{"$f":"'SHALA DARPAN DATA'!K1001","v":0},{"$f":"'SHALA DARPAN DATA'!E1001","v":0},{"$f":"'SHALA DARPAN DATA'!G1001","v":0},{"$f":"'SHALA DARPAN DATA'!H1001","v":0},{"$f":"'SHALA DARPAN DATA'!W1001","v":0},{"$f":"'SHALA DARPAN DATA'!R1001","v":0},{"$f":"'SHALA DARPAN DATA'!S1001","v":0},{"$f":"'SHALA DARPAN DATA'!O1001","v":0},0,0,0,0,0,0,0,0,0,0,0]
[{"$f":"'SHALA DARPAN DATA'!C1006","v":0},{"$f":"'SHALA DARPAN DATA'!A1006","v":0},{"$f":"'SHALA DARPAN DATA'!B1006","v":0},{"$f":"'SHALA DARPAN DATA'!D1006","v":0},{"$f":"'SHALA DARPAN DATA'!J1006","v":0},{"$f":"'SHALA DARPAN DATA'!T1006","v":0},{"$f":"'SHALA DARPAN DATA'!V1006","v":0},{"$f":"'SHALA DARPAN DATA'!K1006","v":0},{"$f":"'SHALA DARPAN DATA'!E1006","v":0},{"$f":"'SHALA DARPAN DATA'!G1006","v":0},{"$f":"'SHALA DARPAN DATA'!H1006","v":0},{"$f":"'SHALA DARPAN DATA'!W1006","v":0},{"$f":"'SHALA DARPAN DATA'!R1006","v":0},{"$f":"'SHALA DARPAN DATA'!S1006","v":0},{"$f":"'SHALA DARPAN DATA'!O1006","v":0},0,0,0,0,0,0,0,0,0,0,0]
[{"$f":"'SHALA DARPAN DATA'!C1011","v":0},{"$f":"'SHALA DARPAN DATA'!A1011","v":0},{"$f":"'SHALA DARPAN DATA'!B1011","v":0},{"$f":"'SHALA DARPAN DATA'!D1011","v":0},{"$f":"'SHALA DARPAN DATA'!J1011","v":0},{"$f":"'SHALA DARPAN DATA'!T1011","v":0},{"$f":"'SHALA DARPAN DATA'!V1011","v":0},{"$f":"'SHALA DARPAN DATA'!K1011","v":0},{"$f":"'SHALA DARPAN DATA'!E1011","v":0},{"$f":"'SHALA DARPAN DATA'!G1011","v":0},{"$f":"'SHALA DARPAN DATA'!H1011","v":0},{"$f":"'SHALA DARPAN DATA'!W1011","v":0},{"$f":"'SHALA DARPAN DATA'!R1011","v":0},{"$f":"'SHALA DARPAN DATA'!S1011","v":0},{"$f":"'SHALA DARPAN DATA'!O1011","v":0},0,0,0,0,0,0,0,0,0,0,0]
[{"$f":"'SHALA DARPAN DATA'!C1012","v":0},{"$f":"'SHALA DARPAN DATA'!A1012","v":0},{"$f":"'SHALA DARPAN DATA'!B1012","v":0},{"$f":"'SHALA DARPAN DATA'!D1012","v":0},{"$f":"'SHALA DARPAN DATA'!J1012","v":0},{"$f":"'SHALA DARPAN DATA'!T1012","v":0},{"$f":"'SHALA DARPAN DATA'!V1012","v":0},{"$f":"'SHALA DARPAN DATA'!K1012","v":0},{"$f":"'SHALA DARPAN DATA'!E1012","v":0},{"$f":"'SHALA DARPAN DATA'!G1012","v":0},{"$f":"'SHALA DARPAN DATA'!H1012","v":0},{"$f":"'SHALA DARPAN DATA'!W1012","v":0},{"$f":"'SHALA DARPAN DATA'!R1012","v":0},{"$f":"'SHALA DARPAN DATA'!S1012","v":0},{"$f":"'SHALA DARPAN DATA'!O1012","v":0},0,0,0,0,0,0,0,0,0,0,0]
[{"$f":"'SHALA DARPAN DATA'!C1018","v":0},{"$f":"'SHALA DARPAN DATA'!A1018","v":0},{"$f":"'SHALA DARPAN DATA'!B1018","v":0},{"$f":"'SHALA DARPAN DATA'!D1018","v":0},{"$f":"'SHALA DARPAN DATA'!J1018","v":0},{"$f":"'SHALA DARPAN DATA'!T1018","v":0},{"$f":"'SHALA DARPAN DATA'!V1018","v":0},{"$f":"'SHALA DARPAN DATA'!K1018","v":0},{"$f":"'SHALA DARPAN DATA'!E1018","v":0},{"$f":"'SHALA DARPAN DATA'!G1018","v":0},{"$f":"'SHALA DARPAN DATA'!H1018","v":0},{"$f":"'SHALA DARPAN DATA'!W1018","v":0},{"$f":"'SHALA DARPAN DATA'!R1018","v":0},{"$f":"'SHALA DARPAN DATA'!S1018","v":0},{"$f":"'SHALA DARPAN DATA'!O1018","v":0},0,0,0,0,0,0,0,0,0,0,0]
[{"$f":"'SHALA DARPAN DATA'!C1021","v":0},{"$f":"'SHALA DARPAN DATA'!A1021","v":0},{"$f":"'SHALA DARPAN DATA'!B1021","v":0},{"$f":"'SHALA DARPAN DATA'!D1021","v":0},{"$f":"'SHALA DARPAN DATA'!J1021","v":0},{"$f":"'SHALA DARPAN DATA'!T1021","v":0},{"$f":"'SHALA DARPAN DATA'!V1021","v":0},{"$f":"'SHALA DARPAN DATA'!K1021","v":0},{"$f":"'SHALA DARPAN DATA'!E1021","v":0},{"$f":"'SHALA DARPAN DATA'!G1021","v":0},{"$f":"'SHALA DARPAN DATA'!H1021","v":0},{"$f":"'SHALA DARPAN DATA'!W1021","v":0},{"$f":"'SHALA DARPAN DATA'!R1021","v":0},{"$f":"'SHALA DARPAN DATA'!S1021","v":0},{"$f":"'SHALA DARPAN DATA'!O1021","v":0},0,0,0,0,0,0,0,0,0,0,0]
[{"$f":"'SHALA DARPAN DATA'!C1026","v":0},{"$f":"'SHALA DARPAN DATA'!A1026","v":0},{"$f":"'SHALA DARPAN DATA'!B1026","v":0},{"$f":"'SHALA DARPAN DATA'!D1026","v":0},{"$f":"'SHALA DARPAN DATA'!J1026","v":0},{"$f":"'SHALA DARPAN DATA'!T1026","v":0},{"$f":"'SHALA DARPAN DATA'!V1026","v":0},{"$f":"'SHALA DARPAN DATA'!K1026","v":0},{"$f":"'SHALA DARPAN DATA'!E1026","v":0},{"$f":"'SHALA DARPAN DATA'!G1026","v":0},{"$f":"'SHALA DARPAN DATA'!H1026","v":0},{"$f":"'SHALA DARPAN DATA'!W1026","v":0},{"$f":"'SHALA DARPAN DATA'!R1026","v":0},{"$f":"'SHALA DARPAN DATA'!S1026","v":0},{"$f":"'SHALA DARPAN DATA'!O1026","v":0},0,0,0,0,0,0,0,0,0,0,0]
[{"$f":"'SHALA DARPAN DATA'!C1027","v":0},{"$f":"'SHALA DARPAN DATA'!A1027","v":0},{"$f":"'SHALA DARPAN DATA'!B1027","v":0},{"$f":"'SHALA DARPAN DATA'!D1027","v":0},{"$f":"'SHALA DARPAN DATA'!J1027","v":0},{"$f":"'SHALA DARPAN DATA'!T1027","v":0},{"$f":"'SHALA DARPAN DATA'!V1027","v":0},{"$f":"'SHALA DARPAN DATA'!K1027","v":0},{"$f":"'SHALA DARPAN DATA'!E1027","v":0},{"$f":"'SHALA DARPAN DATA'!G1027","v":0},{"$f":"'SHALA DARPAN DATA'!H1027","v":0},{"$f":"'SHALA DARPAN DATA'!W1027","v":0},{"$f":"'SHALA DARPAN DATA'!R1027","v":0},{"$f":"'SHALA DARPAN DATA'!S1027","v":0},{"$f":"'SHALA DARPAN DATA'!O1027","v":0},0,0,0,0,0,0,0,0,0,0,0]
[{"$f":"'SHALA DARPAN DATA'!C1032","v":0},{"$f":"'SHALA DARPAN DATA'!A1032","v":0},{"$f":"'SHALA DARPAN DATA'!B1032","v":0},{"$f":"'SHALA DARPAN DATA'!D1032","v":0},{"$f":"'SHALA DARPAN DATA'!J1032","v":0},{"$f":"'SHALA DARPAN DATA'!T1032","v":0},{"$f":"'SHALA DARPAN DATA'!V1032","v":0},{"$f":"'SHALA DARPAN DATA'!K1032","v":0},{"$f":"'SHALA DARPAN DATA'!E1032","v":0},{"$f":"'SHALA DARPAN DATA'!G1032","v":0},{"$f":"'SHALA DARPAN DATA'!H1032","v":0},{"$f":"'SHALA DARPAN DATA'!W1032","v":0},{"$f":"'SHALA DARPAN DATA'!R1032","v":0},{"$f":"'SHALA DARPAN DATA'!S1032","v":0},{"$f":"'SHALA DARPAN DATA'!O1032","v":0},0,0,0,0,0,0,0,0,0,0,0]
[{"$f":"'SHALA DARPAN DATA'!C1036","v":0},{"$f":"'SHALA DARPAN DATA'!A1036","v":0},{"$f":"'SHALA DARPAN DATA'!B1036","v":0},{"$f":"'SHALA DARPAN DATA'!D1036","v":0},{"$f":"'SHALA DARPAN DATA'!J1036","v":0},{"$f":"'SHALA DARPAN DATA'!T1036","v":0},{"$f":"'SHALA DARPAN DATA'!V1036","v":0},{"$f":"'SHALA DARPAN DATA'!K1036","v":0},{"$f":"'SHALA DARPAN DATA'!E1036","v":0},{"$f":"'SHALA DARPAN DATA'!G1036","v":0},{"$f":"'SHALA DARPAN DATA'!H1036","v":0},{"$f":"'SHALA DARPAN DATA'!W1036","v":0},{"$f":"'SHALA DARPAN DATA'!R1036","v":0},{"$f":"'SHALA DARPAN DATA'!S1036","v":0},{"$f":"'SHALA DARPAN DATA'!O1036","v":0},0,0,0,0,0,0,0,0,0,0,0]
[{"$f":"'SHALA DARPAN DATA'!C1041","v":0},{"$f":"'SHALA DARPAN DATA'!A1041","v":0},{"$f":"'SHALA DARPAN DATA'!B1041","v":0},{"$f":"'SHALA DARPAN DATA'!D1041","v":0},{"$f":"'SHALA DARPAN DATA'!J1041","v":0},{"$f":"'SHALA DARPAN DATA'!T1041","v":0},{"$f":"'SHALA DARPAN DATA'!V1041","v":0},{"$f":"'SHALA DARPAN DATA'!K1041","v":0},{"$f":"'SHALA DARPAN DATA'!E1041","v":0},{"$f":"'SHALA DARPAN DATA'!G1041","v":0},{"$f":"'SHALA DARPAN DATA'!H1041","v":0},{"$f":"'SHALA DARPAN DATA'!W1041","v":0},{"$f":"'SHALA DARPAN DATA'!R1041","v":0},{"$f":"'SHALA DARPAN DATA'!S1041","v":0},{"$f":"'SHALA DARPAN DATA'!O1041","v":0},0,0,0,0,0,0,0,0,0,0,0]
[{"$f":"'SHALA DARPAN DATA'!C1042","v":0},{"$f":"'SHALA DARPAN DATA'!A1042","v":0},{"$f":"'SHALA DARPAN DATA'!B1042","v":0},{"$f":"'SHALA DARPAN DATA'!D1042","v":0},{"$f":"'SHALA DARPAN DATA'!J1042","v":0},{"$f":"'SHALA DARPAN DATA'!T1042","v":0},{"$f":"'SHALA DARPAN DATA'!V1042","v":0},{"$f":"'SHALA DARPAN DATA'!K1042","v":0},{"$f":"'SHALA DARPAN DATA'!E1042","v":0},{"$f":"'SHALA DARPAN DATA'!G1042","v":0},{"$f":"'SHALA DARPAN DATA'!H1042","v":0},{"$f":"'SHALA DARPAN DATA'!W1042","v":0},{"$f":"'SHALA DARPAN DATA'!R1042","v":0},{"$f":"'SHALA DARPAN DATA'!S1042","v":0},{"$f":"'SHALA DARPAN DATA'!O1042","v":0},0,0,0,0,0,0,0,0,0,0,0]
[{"$f":"'SHALA DARPAN DATA'!C1048","v":0},{"$f":"'SHALA DARPAN DATA'!A1048","v":0},{"$f":"'SHALA DARPAN DATA'!B1048","v":0},{"$f":"'SHALA DARPAN DATA'!D1048","v":0},{"$f":"'SHALA DARPAN DATA'!J1048","v":0},{"$f":"'SHALA DARPAN DATA'!T1048","v":0},{"$f":"'SHALA DARPAN DATA'!V1048","v":0},{"$f":"'SHALA DARPAN DATA'!K1048","v":0},{"$f":"'SHALA DARPAN DATA'!E1048","v":0},{"$f":"'SHALA DARPAN DATA'!G1048","v":0},{"$f":"'SHALA DARPAN DATA'!H1048","v":0},{"$f":"'SHALA DARPAN DATA'!W1048","v":0},{"$f":"'SHALA DARPAN DATA'!R1048","v":0},{"$f":"'SHALA DARPAN DATA'!S1048","v":0},{"$f":"'SHALA DARPAN DATA'!O1048","v":0},0,0,0,0,0,0,0,0,0,0,0]
[{"$f":"'SHALA DARPAN DATA'!C1051","v":0},{"$f":"'SHALA DARPAN DATA'!A1051","v":0},{"$f":"'SHALA DARPAN DATA'!B1051","v":0},{"$f":"'SHALA DARPAN DATA'!D1051","v":0},{"$f":"'SHALA DARPAN DATA'!J1051","v":0},{"$f":"'SHALA DARPAN DATA'!T1051","v":0},{"$f":"'SHALA DARPAN DATA'!V1051","v":0},{"$f":"'SHALA DARPAN DATA'!K1051","v":0},{"$f":"'SHALA DARPAN DATA'!E1051","v":0},{"$f":"'SHALA DARPAN DATA'!G1051","v":0},{"$f":"'SHALA DARPAN DATA'!H1051","v":0},{"$f":"'SHALA DARPAN DATA'!W1051","v":0},{"$f":"'SHALA DARPAN DATA'!R1051","v":0},{"$f":"'SHALA DARPAN DATA'!S1051","v":0},{"$f":"'SHALA DARPAN DATA'!O1051","v":0},0,0,0,0,0,0,0,0,0,0,0]
[{"$f":"'SHALA DARPAN DATA'!C1056","v":0},{"$f":"'SHALA DARPAN DATA'!A1056","v":0},{"$f":"'SHALA DARPAN DATA'!B1056","v":0},{"$f":"'SHALA DARPAN DATA'!D1056","v":0},{"$f":"'SHALA DARPAN DATA'!J1056","v":0},{"$f":"'SHALA DARPAN DATA'!T1056","v":0},{"$f":"'SHALA DARPAN DATA'!V1056","v":0},{"$f":"'SHALA DARPAN DATA'!K1056","v":0},{"$f":"'SHALA DARPAN DATA'!E1056","v":0},{"$f":"'SHALA DARPAN DATA'!G1056","v":0},{"$f":"'SHALA DARPAN DATA'!H1056","v":0},{"$f":"'SHALA DARPAN DATA'!W1056","v":0},{"$f":"'SHALA DARPAN DATA'!R1056","v":0},{"$f":"'SHALA DARPAN DATA'!S1056","v":0},{"$f":"'SHALA DARPAN DATA'!O1056","v":0},0,0,0,0,0,0,0,0,0,0,0]
[{"$f":"'SHALA DARPAN DATA'!C1057","v":0},{"$f":"'SHALA DARPAN DATA'!A1057","v":0},{"$f":"'SHALA DARPAN DATA'!B1057","v":0},{"$f":"'SHALA DARPAN DATA'!D1057","v":0},{"$f":"'SHALA DARPAN DATA'!J1057","v":0},{"$f":"'SHALA DARPAN DATA'!T1057","v":0},{"$f":"'SHALA DARPAN DATA'!V1057","v":0},{"$f":"'SHALA DARPAN DATA'!K1057","v":0},{"$f":"'SHALA DARPAN DATA'!E1057","v":0},{"$f":"'SHALA DARPAN DATA'!G1057","v":0},{"$f":"'SHALA DARPAN DATA'!H1057","v":0},{"$f":"'SHALA DARPAN DATA'!W1057","v":0},{"$f":"'SHALA DARPAN DATA'!R1057","v":0},{"$f":"'SHALA DARPAN DATA'!S1057","v":0},{"$f":"'SHALA DARPAN DATA'!O1057","v":0},0,0,0,0,0,0,0,0,0,0,0]
[{"$f":"'SHALA DARPAN DATA'!C1062","v":0},{"$f":"'SHALA DARPAN DATA'!A1062","v":0},{"$f":"'SHALA DARPAN DATA'!B1062","v":0},{"$f":"'SHALA DARPAN DATA'!D1062","v":0},{"$f":"'SHALA DARPAN DATA'!J1062","v":0},{"$f":"'SHALA DARPAN DATA'!T1062","v":0},{"$f":"'SHALA DARPAN DATA'!V1062","v":0},{"$f":"'SHALA DARPAN DATA'!K1062","v":0},{"$f":"'SHALA DARPAN DATA'!E1062","v":0},{"$f":"'SHALA DARPAN DATA'!G1062","v":0},{"$f":"'SHALA DARPAN DATA'!H1062","v":0},{"$f":"'SHALA DARPAN DATA'!W1062","v":0},{"$f":"'SHALA DARPAN DATA'!R1062","v":0},{"$f":"'SHALA DARPAN DATA'!S1062","v":0},{"$f":"'SHALA DARPAN DATA'!O1062","v":0},0,0,0,0,0,0,0,0,0,0,0]
[{"$f":"'SHALA DARPAN DATA'!C1066","v":0},{"$f":"'SHALA DARPAN DATA'!A1066","v":0},{"$f":"'SHALA DARPAN DATA'!B1066","v":0},{"$f":"'SHALA DARPAN DATA'!D1066","v":0},{"$f":"'SHALA DARPAN DATA'!J1066","v":0},{"$f":"'SHALA DARPAN DATA'!T1066","v":0},{"$f":"'SHALA DARPAN DATA'!V1066","v":0},{"$f":"'SHALA DARPAN DATA'!K1066","v":0},{"$f":"'SHALA DARPAN DATA'!E1066","v":0},{"$f":"'SHALA DARPAN DATA'!G1066","v":0},{"$f":"'SHALA DARPAN DATA'!H1066","v":0},{"$f":"'SHALA DARPAN DATA'!W1066","v":0},{"$f":"'SHALA DARPAN DATA'!R1066","v":0},{"$f":"'SHALA DARPAN DATA'!S1066","v":0},{"$f":"'SHALA DARPAN DATA'!O1066","v":0},0,0,0,0,0,0,0,0,0,0,0]
[{"$f":"'SHALA DARPAN DATA'!C1071","v":0},{"$f":"'SHALA DARPAN DATA'!A1071","v":0},{"$f":"'SHALA DARPAN DATA'!B1071","v":0},{"$f":"'SHALA DARPAN DATA'!D1071","v":0},{"$f":"'SHALA DARPAN DATA'!J1071","v":0},{"$f":"'SHALA DARPAN DATA'!T1071","v":0},{"$f":"'SHALA DARPAN DATA'!V1071","v":0},{"$f":"'SHALA DARPAN DATA'!K1071","v":0},{"$f":"'SHALA DARPAN DATA'!E1071","v":0},{"$f":"'SHALA DARPAN DATA'!G1071","v":0},{"$f":"'SHALA DARPAN DATA'!H1071","v":0},{"$f":"'SHALA DARPAN DATA'!W1071","v":0},{"$f":"'SHALA DARPAN DATA'!R1071","v":0},{"$f":"'SHALA DARPAN DATA'!S1071","v":0},{"$f":"'SHALA DARPAN DATA'!O1071","v":0},0,0,0,0,0,0,0,0,0,0,0]
[{"$f":"'SHALA DARPAN DATA'!C1072","v":0},{"$f":"'SHALA DARPAN DATA'!A1072","v":0},{"$f":"'SHALA DARPAN DATA'!B1072","v":0},{"$f":"'SHALA DARPAN DATA'!D1072","v":0},{"$f":"'SHALA DARPAN DATA'!J1072","v":0},{"$f":"'SHALA DARPAN DATA'!T1072","v":0},{"$f":"'SHALA DARPAN DATA'!V1072","v":0},{"$f":"'SHALA DARPAN DATA'!K1072","v":0},{"$f":"'SHALA DARPAN DATA'!E1072","v":0},{"$f":"'SHALA DARPAN DATA'!G1072","v":0},{"$f":"'SHALA DARPAN DATA'!H1072","v":0},{"$f":"'SHALA DARPAN DATA'!W1072","v":0},{"$f":"'SHALA DARPAN DATA'!R1072","v":0},{"$f":"'SHALA DARPAN DATA'!S1072","v":0},{"$f":"'SHALA DARPAN DATA'!O1072","v":0},0,0,0,0,0,0,0,0,0,0,0]
[{"$f":"'SHALA DARPAN DATA'!C1078","v":0},{"$f":"'SHALA DARPAN DATA'!A1078","v":0},{"$f":"'SHALA DARPAN DATA'!B1078","v":0},{"$f":"'SHALA DARPAN DATA'!D1078","v":0},{"$f":"'SHALA DARPAN DATA'!J1078","v":0},{"$f":"'SHALA DARPAN DATA'!T1078","v":0},{"$f":"'SHALA DARPAN DATA'!V1078","v":0},{"$f":"'SHALA DARPAN DATA'!K1078","v":0},{"$f":"'SHALA DARPAN DATA'!E1078","v":0},{"$f":"'SHALA DARPAN DATA'!G1078","v":0},{"$f":"'SHALA DARPAN DATA'!H1078","v":0},{"$f":"'SHALA DARPAN DATA'!W1078","v":0},{"$f":"'SHALA DARPAN DATA'!R1078","v":0},{"$f":"'SHALA DARPAN DATA'!S1078","v":0},{"$f":"'SHALA DARPAN DATA'!O1078","v":0},0,0,0,0,0,0,0,0,0,0,0]
[{"$f":"'SHALA DARPAN DATA'!C1081","v":0},{"$f":"'SHALA DARPAN DATA'!A1081","v":0},{"$f":"'SHALA DARPAN DATA'!B1081","v":0},{"$f":"'SHALA DARPAN DATA'!D1081","v":0},{"$f":"'SHALA DARPAN DATA'!J1081","v":0},{"$f":"'SHALA DARPAN DATA'!T1081","v":0},{"$f":"'SHALA DARPAN DATA'!V1081","v":0},{"$f":"'SHALA DARPAN DATA'!K1081","v":0},{"$f":"'SHALA DARPAN DATA'!E1081","v":0},{"$f":"'SHALA DARPAN DATA'!G1081","v":0},{"$f":"'SHALA DARPAN DATA'!H1081","v":0},{"$f":"'SHALA DARPAN DATA'!W1081","v":0},{"$f":"'SHALA DARPAN DATA'!R1081","v":0},{"$f":"'SHALA DARPAN DATA'!S1081","v":0},{"$f":"'SHALA DARPAN DATA'!O1081","v":0},0,0,0,0,0,0,0,0,0,0,0]
[{"$f":"'SHALA DARPAN DATA'!C1086","v":0},{"$f":"'SHALA DARPAN DATA'!A1086","v":0},{"$f":"'SHALA DARPAN DATA'!B1086","v":0},{"$f":"'SHALA DARPAN DATA'!D1086","v":0},{"$f":"'SHALA DARPAN DATA'!J1086","v":0},{"$f":"'SHALA DARPAN DATA'!T1086","v":0},{"$f":"'SHALA DARPAN DATA'!V1086","v":0},{"$f":"'SHALA DARPAN DATA'!K1086","v":0},{"$f":"'SHALA DARPAN DATA'!E1086","v":0},{"$f":"'SHALA DARPAN DATA'!G1086","v":0},{"$f":"'SHALA DARPAN DATA'!H1086","v":0},{"$f":"'SHALA DARPAN DATA'!W1086","v":0},{"$f":"'SHALA DARPAN DATA'!R1086","v":0},{"$f":"'SHALA DARPAN DATA'!S1086","v":0},{"$f":"'SHALA DARPAN DATA'!O1086","v":0},0,0,0,0,0,0,0,0,0,0,0]
[{"$f":"'SHALA DARPAN DATA'!C1087","v":0},{"$f":"'SHALA DARPAN DATA'!A1087","v":0},{"$f":"'SHALA DARPAN DATA'!B1087","v":0},{"$f":"'SHALA DARPAN DATA'!D1087","v":0},{"$f":"'SHALA DARPAN DATA'!J1087","v":0},{"$f":"'SHALA DARPAN DATA'!T1087","v":0},{"$f":"'SHALA DARPAN DATA'!V1087","v":0},{"$f":"'SHALA DARPAN DATA'!K1087","v":0},{"$f":"'SHALA DARPAN DATA'!E1087","v":0},{"$f":"'SHALA DARPAN DATA'!G1087","v":0},{"$f":"'SHALA DARPAN DATA'!H1087","v":0},{"$f":"'SHALA DARPAN DATA'!W1087","v":0},{"$f":"'SHALA DARPAN DATA'!R1087","v":0},{"$f":"'SHALA DARPAN DATA'!S1087","v":0},{"$f":"'SHALA DARPAN DATA'!O1087","v":0},0,0,0,0,0,0,0,0,0,0,0]
[{"$f":"'SHALA DARPAN DATA'!C1092","v":0},{"$f":"'SHALA DARPAN DATA'!A1092","v":0},{"$f":"'SHALA DARPAN DATA'!B1092","v":0},{"$f":"'SHALA DARPAN DATA'!D1092","v":0},{"$f":"'SHALA DARPAN DATA'!J1092","v":0},{"$f":"'SHALA DARPAN DATA'!T1092","v":0},{"$f":"'SHALA DARPAN DATA'!V1092","v":0},{"$f":"'SHALA DARPAN DATA'!K1092","v":0},{"$f":"'SHALA DARPAN DATA'!E1092","v":0},{"$f":"'SHALA DARPAN DATA'!G1092","v":0},{"$f":"'SHALA DARPAN DATA'!H1092","v":0},{"$f":"'SHALA DARPAN DATA'!W1092","v":0},{"$f":"'SHALA DARPAN DATA'!R1092","v":0},{"$f":"'SHALA DARPAN DATA'!S1092","v":0},{"$f":"'SHALA DARPAN DATA'!O1092","v":0},0,0,0,0,0,0,0,0,0,0,0]
[{"$f":"'SHALA DARPAN DATA'!C1096","v":0},{"$f":"'SHALA DARPAN DATA'!A1096","v":0},{"$f":"'SHALA DARPAN DATA'!B1096","v":0},{"$f":"'SHALA DARPAN DATA'!D1096","v":0},{"$f":"'SHALA DARPAN DATA'!J1096","v":0},{"$f":"'SHALA DARPAN DATA'!T1096","v":0},{"$f":"'SHALA DARPAN DATA'!V1096","v":0},{"$f":"'SHALA DARPAN DATA'!K1096","v":0},{"$f":"'SHALA DARPAN DATA'!E1096","v":0},{"$f":"'SHALA DARPAN DATA'!G1096","v":0},{"$f":"'SHALA DARPAN DATA'!H1096","v":0},{"$f":"'SHALA DARPAN DATA'!W1096","v":0},{"$f":"'SHALA DARPAN DATA'!R1096","v":0},{"$f":"'SHALA DARPAN DATA'!S1096","v":0},{"$f":"'SHALA DARPAN DATA'!O1096","v":0},0,0,0,0,0,0,0,0,0,0,0]
[{"$f":"'SHALA DARPAN DATA'!C1101","v":0},{"$f":"'SHALA DARPAN DATA'!A1101","v":0},{"$f":"'SHALA DARPAN DATA'!B1101","v":0},{"$f":"'SHALA DARPAN DATA'!D1101","v":0},{"$f":"'SHALA DARPAN DATA'!J1101","v":0},{"$f":"'SHALA DARPAN DATA'!T1101","v":0},{"$f":"'SHALA DARPAN DATA'!V1101","v":0},{"$f":"'SHALA DARPAN DATA'!K1101","v":0},{"$f":"'SHALA DARPAN DATA'!E1101","v":0},{"$f":"'SHALA DARPAN DATA'!G1101","v":0},{"$f":"'SHALA DARPAN DATA'!H1101","v":0},{"$f":"'SHALA DARPAN DATA'!W1101","v":0},{"$f":"'SHALA DARPAN DATA'!R1101","v":0},{"$f":"'SHALA DARPAN DATA'!S1101","v":0},{"$f":"'SHALA DARPAN DATA'!O1101","v":0},0,0,0,0,0,0,0,0,0,0,0]
[{"$f":"'SHALA DARPAN DATA'!C1102","v":0},{"$f":"'SHALA DARPAN DATA'!A1102","v":0},{"$f":"'SHALA DARPAN DATA'!B1102","v":0},{"$f":"'SHALA DARPAN DATA'!D1102","v":0},{"$f":"'SHALA DARPAN DATA'!J1102","v":0},{"$f":"'SHALA DARPAN DATA'!T1102","v":0},{"$f":"'SHALA DARPAN DATA'!V1102","v":0},{"$f":"'SHALA DARPAN DATA'!K1102","v":0},{"$f":"'SHALA DARPAN DATA'!E1102","v":0},{"$f":"'SHALA DARPAN DATA'!G1102","v":0},{"$f":"'SHALA DARPAN DATA'!H1102","v":0},{"$f":"'SHALA DARPAN DATA'!W1102","v":0},{"$f":"'SHALA DARPAN DATA'!R1102","v":0},{"$f":"'SHALA DARPAN DATA'!S1102","v":0},{"$f":"'SHALA DARPAN DATA'!O1102","v":0},0,0,0,0,0,0,0,0,0,0,0]
[{"$f":"'SHALA DARPAN DATA'!C1108","v":0},{"$f":"'SHALA DARPAN DATA'!A1108","v":0},{"$f":"'SHALA DARPAN DATA'!B1108","v":0},{"$f":"'SHALA DARPAN DATA'!D1108","v":0},{"$f":"'SHALA DARPAN DATA'!J1108","v":0},{"$f":"'SHALA DARPAN DATA'!T1108","v":0},{"$f":"'SHALA DARPAN DATA'!V1108","v":0},{"$f":"'SHALA DARPAN DATA'!K1108","v":0},{"$f":"'SHALA DARPAN DATA'!E1108","v":0},{"$f":"'SHALA DARPAN DATA'!G1108","v":0},{"$f":"'SHALA DARPAN DATA'!H1108","v":0},{"$f":"'SHALA DARPAN DATA'!W1108","v":0},{"$f":"'SHALA DARPAN DATA'!R1108","v":0},{"$f":"'SHALA DARPAN DATA'!S1108","v":0},{"$f":"'SHALA DARPAN DATA'!O1108","v":0},0,0,0,0,0,0,0,0,0,0,0]
[{"$f":"'SHALA DARPAN DATA'!C1111","v":0},{"$f":"'SHALA DARPAN DATA'!A1111","v":0},{"$f":"'SHALA DARPAN DATA'!B1111","v":0},{"$f":"'SHALA DARPAN DATA'!D1111","v":0},{"$f":"'SHALA DARPAN DATA'!J1111","v":0},{"$f":"'SHALA DARPAN DATA'!T1111","v":0},{"$f":"'SHALA DARPAN DATA'!V1111","v":0},{"$f":"'SHALA DARPAN DATA'!K1111","v":0},{"$f":"'SHALA DARPAN DATA'!E1111","v":0},{"$f":"'SHALA DARPAN DATA'!G1111","v":0},{"$f":"'SHALA DARPAN DATA'!H1111","v":0},{"$f":"'SHALA DARPAN DATA'!W1111","v":0},{"$f":"'SHALA DARPAN DATA'!R1111","v":0},{"$f":"'SHALA DARPAN DATA'!S1111","v":0},{"$f":"'SHALA DARPAN DATA'!O1111","v":0},0,0,0,0,0,0,0,0,0,0,0]
[{"$f":"'SHALA DARPAN DATA'!C1116","v":0},{"$f":"'SHALA DARPAN DATA'!A1116","v":0},{"$f":"'SHALA DARPAN DATA'!B1116","v":0},{"$f":"'SHALA DARPAN DATA'!D1116","v":0},{"$f":"'SHALA DARPAN DATA'!J1116","v":0},{"$f":"'SHALA DARPAN DATA'!T1116","v":0},{"$f":"'SHALA DARPAN DATA'!V1116","v":0},{"$f":"'SHALA DARPAN DATA'!K1116","v":0},{"$f":"'SHALA DARPAN DATA'!E1116","v":0},{"$f":"'SHALA DARPAN DATA'!G1116","v":0},{"$f":"'SHALA DARPAN DATA'!H1116","v":0},{"$f":"'SHALA DARPAN DATA'!W1116","v":0},{"$f":"'SHALA DARPAN DATA'!R1116","v":0},{"$f":"'SHALA DARPAN DATA'!S1116","v":0},{"$f":"'SHALA DARPAN DATA'!O1116","v":0},0,0,0,0,0,0,0,0,0,0,0]
[{"$f":"'SHALA DARPAN DATA'!C1117","v":0},{"$f":"'SHALA DARPAN DATA'!A1117","v":0},{"$f":"'SHALA DARPAN DATA'!B1117","v":0},{"$f":"'SHALA DARPAN DATA'!D1117","v":0},{"$f":"'SHALA DARPAN DATA'!J1117","v":0},{"$f":"'SHALA DARPAN DATA'!T1117","v":0},{"$f":"'SHALA DARPAN DATA'!V1117","v":0},{"$f":"'SHALA DARPAN DATA'!K1117","v":0},{"$f":"'SHALA DARPAN DATA'!E1117","v":0},{"$f":"'SHALA DARPAN DATA'!G1117","v":0},{"$f":"'SHALA DARPAN DATA'!H1117","v":0},{"$f":"'SHALA DARPAN DATA'!W1117","v":0},{"$f":"'SHALA DARPAN DATA'!R1117","v":0},{"$f":"'SHALA DARPAN DATA'!S1117","v":0},{"$f":"'SHALA DARPAN DATA'!O1117","v":0},0,0,0,0,0,0,0,0,0,0,0]
[{"$f":"'SHALA DARPAN DATA'!C1122","v":0},{"$f":"'SHALA DARPAN DATA'!A1122","v":0},{"$f":"'SHALA DARPAN DATA'!B1122","v":0},{"$f":"'SHALA DARPAN DATA'!D1122","v":0},{"$f":"'SHALA DARPAN DATA'!J1122","v":0},{"$f":"'SHALA DARPAN DATA'!T1122","v":0},{"$f":"'SHALA DARPAN DATA'!V1122","v":0},{"$f":"'SHALA DARPAN DATA'!K1122","v":0},{"$f":"'SHALA DARPAN DATA'!E1122","v":0},{"$f":"'SHALA DARPAN DATA'!G1122","v":0},{"$f":"'SHALA DARPAN DATA'!H1122","v":0},{"$f":"'SHALA DARPAN DATA'!W1122","v":0},{"$f":"'SHALA DARPAN DATA'!R1122","v":0},{"$f":"'SHALA DARPAN DATA'!S1122","v":0},{"$f":"'SHALA DARPAN DATA'!O1122","v":0},0,0,0,0,0,0,0,0,0,0,0]
[{"$f":"'SHALA DARPAN DATA'!C1126","v":0},{"$f":"'SHALA DARPAN DATA'!A1126","v":0},{"$f":"'SHALA DARPAN DATA'!B1126","v":0},{"$f":"'SHALA DARPAN DATA'!D1126","v":0},{"$f":"'SHALA DARPAN DATA'!J1126","v":0},{"$f":"'SHALA DARPAN DATA'!T1126","v":0},{"$f":"'SHALA DARPAN DATA'!V1126","v":0},{"$f":"'SHALA DARPAN DATA'!K1126","v":0},{"$f":"'SHALA DARPAN DATA'!E1126","v":0},{"$f":"'SHALA DARPAN DATA'!G1126","v":0},{"$f":"'SHALA DARPAN DATA'!H1126","v":0},{"$f":"'SHALA DARPAN DATA'!W1126","v":0},{"$f":"'SHALA DARPAN DATA'!R1126","v":0},{"$f":"'SHALA DARPAN DATA'!S1126","v":0},{"$f":"'SHALA DARPAN DATA'!O1126","v":0},0,0,0,0,0,0,0,0,0,0,0]
[{"$f":"'SHALA DARPAN DATA'!C1131","v":0},{"$f":"'SHALA DARPAN DATA'!A1131","v":0},{"$f":"'SHALA DARPAN DATA'!B1131","v":0},{"$f":"'SHALA DARPAN DATA'!D1131","v":0},{"$f":"'SHALA DARPAN DATA'!J1131","v":0},{"$f":"'SHALA DARPAN DATA'!T1131","v":0},{"$f":"'SHALA DARPAN DATA'!V1131","v":0},{"$f":"'SHALA DARPAN DATA'!K1131","v":0},{"$f":"'SHALA DARPAN DATA'!E1131","v":0},{"$f":"'SHALA DARPAN DATA'!G1131","v":0},{"$f":"'SHALA DARPAN DATA'!H1131","v":0},{"$f":"'SHALA DARPAN DATA'!W1131","v":0},{"$f":"'SHALA DARPAN DATA'!R1131","v":0},{"$f":"'SHALA DARPAN DATA'!S1131","v":0},{"$f":"'SHALA DARPAN DATA'!O1131","v":0},0,0,0,0,0,0,0,0,0,0,0]
[{"$f":"'SHALA DARPAN DATA'!C1132","v":0},{"$f":"'SHALA DARPAN DATA'!A1132","v":0},{"$f":"'SHALA DARPAN DATA'!B1132","v":0},{"$f":"'SHALA DARPAN DATA'!D1132","v":0},{"$f":"'SHALA DARPAN DATA'!J1132","v":0},{"$f":"'SHALA DARPAN DATA'!T1132","v":0},{"$f":"'SHALA DARPAN DATA'!V1132","v":0},{"$f":"'SHALA DARPAN DATA'!K1132","v":0},{"$f":"'SHALA DARPAN DATA'!E1132","v":0},{"$f":"'SHALA DARPAN DATA'!G1132","v":0},{"$f":"'SHALA DARPAN DATA'!H1132","v":0},{"$f":"'SHALA DARPAN DATA'!W1132","v":0},{"$f":"'SHALA DARPAN DATA'!R1132","v":0},{"$f":"'SHALA DARPAN DATA'!S1132","v":0},{"$f":"'SHALA DARPAN DATA'!O1132","v":0},0,0,0,0,0,0,0,0,0,0,0]
[{"$f":"'SHALA DARPAN DATA'!C1138","v":0},{"$f":"'SHALA DARPAN DATA'!A1138","v":0},{"$f":"'SHALA DARPAN DATA'!B1138","v":0},{"$f":"'SHALA DARPAN DATA'!D1138","v":0},{"$f":"'SHALA DARPAN DATA'!J1138","v":0},{"$f":"'SHALA DARPAN DATA'!T1138","v":0},{"$f":"'SHALA DARPAN DATA'!V1138","v":0},{"$f":"'SHALA DARPAN DATA'!K1138","v":0},{"$f":"'SHALA DARPAN DATA'!E1138","v":0},{"$f":"'SHALA DARPAN DATA'!G1138","v":0},{"$f":"'SHALA DARPAN DATA'!H1138","v":0},{"$f":"'SHALA DARPAN DATA'!W1138","v":0},{"$f":"'SHALA DARPAN DATA'!R1138","v":0},{"$f":"'SHALA DARPAN DATA'!S1138","v":0},{"$f":"'SHALA DARPAN DATA'!O1138","v":0},0,0,0,0,0,0,0,0,0,0,0]
[{"$f":"'SHALA DARPAN DATA'!C1141","v":0},{"$f":"'SHALA DARPAN DATA'!A1141","v":0},{"$f":"'SHALA DARPAN DATA'!B1141","v":0},{"$f":"'SHALA DARPAN DATA'!D1141","v":0},{"$f":"'SHALA DARPAN DATA'!J1141","v":0},{"$f":"'SHALA DARPAN DATA'!T1141","v":0},{"$f":"'SHALA DARPAN DATA'!V1141","v":0},{"$f":"'SHALA DARPAN DATA'!K1141","v":0},{"$f":"'SHALA DARPAN DATA'!E1141","v":0},{"$f":"'SHALA DARPAN DATA'!G1141","v":0},{"$f":"'SHALA DARPAN DATA'!H1141","v":0},{"$f":"'SHALA DARPAN DATA'!W1141","v":0},{"$f":"'SHALA DARPAN DATA'!R1141","v":0},{"$f":"'SHALA DARPAN DATA'!S1141","v":0},{"$f":"'SHALA DARPAN DATA'!O1141","v":0},0,0,0,0,0,0,0,0,0,0,0]
[{"$f":"'SHALA DARPAN DATA'!C1146","v":0},{"$f":"'SHALA DARPAN DATA'!A1146","v":0},{"$f":"'SHALA DARPAN DATA'!B1146","v":0},{"$f":"'SHALA DARPAN DATA'!D1146","v":0},{"$f":"'SHALA DARPAN DATA'!J1146","v":0},{"$f":"'SHALA DARPAN DATA'!T1146","v":0},{"$f":"'SHALA DARPAN DATA'!V1146","v":0},{"$f":"'SHALA DARPAN DATA'!K1146","v":0},{"$f":"'SHALA DARPAN DATA'!E1146","v":0},{"$f":"'SHALA DARPAN DATA'!G1146","v":0},{"$f":"'SHALA DARPAN DATA'!H1146","v":0},{"$f":"'SHALA DARPAN DATA'!W1146","v":0},{"$f":"'SHALA DARPAN DATA'!R1146","v":0},{"$f":"'SHALA DARPAN DATA'!S1146","v":0},{"$f":"'SHALA DARPAN DATA'!O1146","v":0},0,0,0,0,0,0,0,0,0,0,0]
[{"$f":"'SHALA DARPAN DATA'!C1147","v":0},{"$f":"'SHALA DARPAN DATA'!A1147","v":0},{"$f":"'SHALA DARPAN DATA'!B1147","v":0},{"$f":"'SHALA DARPAN DATA'!D1147","v":0},{"$f":"'SHALA DARPAN DATA'!J1147","v":0},{"$f":"'SHALA DARPAN DATA'!T1147","v":0},{"$f":"'SHALA DARPAN DATA'!V1147","v":0},{"$f":"'SHALA DARPAN DATA'!K1147","v":0},{"$f":"'SHALA DARPAN DATA'!E1147","v":0},{"$f":"'SHALA DARPAN DATA'!G1147","v":0},{"$f":"'SHALA DARPAN DATA'!H1147","v":0},{"$f":"'SHALA DARPAN DATA'!W1147","v":0},{"$f":"'SHALA DARPAN DATA'!R1147","v":0},{"$f":"'SHALA DARPAN DATA'!S1147","v":0},{"$f":"'SHALA DARPAN DATA'!O1147","v":0},0,0,0,0,0,0,0,0,0,0,0]
[{"$f":"'SHALA DARPAN DATA'!C1152","v":0},{"$f":"'SHALA DARPAN DATA'!A1152","v":0},{"$f":"'SHALA DARPAN DATA'!B1152","v":0},{"$f":"'SHALA DARPAN DATA'!D1152","v":0},{"$f":"'SHALA DARPAN DATA'!J1152","v":0},{"$f":"'SHALA DARPAN DATA'!T1152","v":0},{"$f":"'SHALA DARPAN DATA'!V1152","v":0},{"$f":"'SHALA DARPAN DATA'!K1152","v":0},{"$f":"'SHALA DARPAN DATA'!E1152","v":0},{"$f":"'SHALA DARPAN DATA'!G1152","v":0},{"$f":"'SHALA DARPAN DATA'!H1152","v":0},{"$f":"'SHALA DARPAN DATA'!W1152","v":0},{"$f":"'SHALA DARPAN DATA'!R1152","v":0},{"$f":"'SHALA DARPAN DATA'!S1152","v":0},{"$f":"'SHALA DARPAN DATA'!O1152","v":0},0,0,0,0,0,0,0,0,0,0,0]
[{"$f":"'SHALA DARPAN DATA'!C1156","v":0},{"$f":"'SHALA DARPAN DATA'!A1156","v":0},{"$f":"'SHALA DARPAN DATA'!B1156","v":0},{"$f":"'SHALA DARPAN DATA'!D1156","v":0},{"$f":"'SHALA DARPAN DATA'!J1156","v":0},{"$f":"'SHALA DARPAN DATA'!T1156","v":0},{"$f":"'SHALA DARPAN DATA'!V1156","v":0},{"$f":"'SHALA DARPAN DATA'!K1156","v":0},{"$f":"'SHALA DARPAN DATA'!E1156","v":0},{"$f":"'SHALA DARPAN DATA'!G1156","v":0},{"$f":"'SHALA DARPAN DATA'!H1156","v":0},{"$f":"'SHALA DARPAN DATA'!W1156","v":0},{"$f":"'SHALA DARPAN DATA'!R1156","v":0},{"$f":"'SHALA DARPAN DATA'!S1156","v":0},{"$f":"'SHALA DARPAN DATA'!O1156","v":0},0,0,0,0,0,0,0,0,0,0,0]
[{"$f":"'SHALA DARPAN DATA'!C1161","v":0},{"$f":"'SHALA DARPAN DATA'!A1161","v":0},{"$f":"'SHALA DARPAN DATA'!B1161","v":0},{"$f":"'SHALA DARPAN DATA'!D1161","v":0},{"$f":"'SHALA DARPAN DATA'!J1161","v":0},{"$f":"'SHALA DARPAN DATA'!T1161","v":0},{"$f":"'SHALA DARPAN DATA'!V1161","v":0},{"$f":"'SHALA DARPAN DATA'!K1161","v":0},{"$f":"'SHALA DARPAN DATA'!E1161","v":0},{"$f":"'SHALA DARPAN DATA'!G1161","v":0},{"$f":"'SHALA DARPAN DATA'!H1161","v":0},{"$f":"'SHALA DARPAN DATA'!W1161","v":0},{"$f":"'SHALA DARPAN DATA'!R1161","v":0},{"$f":"'SHALA DARPAN DATA'!S1161","v":0},{"$f":"'SHALA DARPAN DATA'!O1161","v":0},0,0,0,0,0,0,0,0,0,0,0]
[{"$f":"'SHALA DARPAN DATA'!C1162","v":0},{"$f":"'SHALA DARPAN DATA'!A1162","v":0},{"$f":"'SHALA DARPAN DATA'!B1162","v":0},{"$f":"'SHALA DARPAN DATA'!D1162","v":0},{"$f":"'SHALA DARPAN DATA'!J1162","v":0},{"$f":"'SHALA DARPAN DATA'!T1162","v":0},{"$f":"'SHALA DARPAN DATA'!V1162","v":0},{"$f":"'SHALA DARPAN DATA'!K1162","v":0},{"$f":"'SHALA DARPAN DATA'!E1162","v":0},{"$f":"'SHALA DARPAN DATA'!G1162","v":0},{"$f":"'SHALA DARPAN DATA'!H1162","v":0},{"$f":"'SHALA DARPAN DATA'!W1162","v":0},{"$f":"'SHALA DARPAN DATA'!R1162","v":0},{"$f":"'SHALA DARPAN DATA'!S1162","v":0},{"$f":"'SHALA DARPAN DATA'!O1162","v":0},0,0,0,0,0,0,0,0,0,0,0]
[{"$f":"'SHALA DARPAN DATA'!C1168","v":0},{"$f":"'SHALA DARPAN DATA'!A1168","v":0},{"$f":"'SHALA DARPAN DATA'!B1168","v":0},{"$f":"'SHALA DARPAN DATA'!D1168","v":0},{"$f":"'SHALA DARPAN DATA'!J1168","v":0},{"$f":"'SHALA DARPAN DATA'!T1168","v":0},{"$f":"'SHALA DARPAN DATA'!V1168","v":0},{"$f":"'SHALA DARPAN DATA'!K1168","v":0},{"$f":"'SHALA DARPAN DATA'!E1168","v":0},{"$f":"'SHALA DARPAN DATA'!G1168","v":0},{"$f":"'SHALA DARPAN DATA'!H1168","v":0},{"$f":"'SHALA DARPAN DATA'!W1168","v":0},{"$f":"'SHALA DARPAN DATA'!R1168","v":0},{"$f":"'SHALA DARPAN DATA'!S1168","v":0},{"$f":"'SHALA DARPAN DATA'!O1168","v":0},0,0,0,0,0,0,0,0,0,0,0]
[{"$f":"'SHALA DARPAN DATA'!C1171","v":0},{"$f":"'SHALA DARPAN DATA'!A1171","v":0},{"$f":"'SHALA DARPAN DATA'!B1171","v":0},{"$f":"'SHALA DARPAN DATA'!D1171","v":0},{"$f":"'SHALA DARPAN DATA'!J1171","v":0},{"$f":"'SHALA DARPAN DATA'!T1171","v":0},{"$f":"'SHALA DARPAN DATA'!V1171","v":0},{"$f":"'SHALA DARPAN DATA'!K1171","v":0},{"$f":"'SHALA DARPAN DATA'!E1171","v":0},{"$f":"'SHALA DARPAN DATA'!G1171","v":0},{"$f":"'SHALA DARPAN DATA'!H1171","v":0},{"$f":"'SHALA DARPAN DATA'!W1171","v":0},{"$f":"'SHALA DARPAN DATA'!R1171","v":0},{"$f":"'SHALA DARPAN DATA'!S1171","v":0},{"$f":"'SHALA DARPAN DATA'!O1171","v":0},0,0,0,0,0,0,0,0,0,0,0]
[{"$f":"'SHALA DARPAN DATA'!C1176","v":0},{"$f":"'SHALA DARPAN DATA'!A1176","v":0},{"$f":"'SHALA DARPAN DATA'!B1176","v":0},{"$f":"'SHALA DARPAN DATA'!D1176","v":0},{"$f":"'SHALA DARPAN DATA'!J1176","v":0},{"$f":"'SHALA DARPAN DATA'!T1176","v":0},{"$f":"'SHALA DARPAN DATA'!V1176","v":0},{"$f":"'SHALA DARPAN DATA'!K1176","v":0},{"$f":"'SHALA DARPAN DATA'!E1176","v":0},{"$f":"'SHALA DARPAN DATA'!G1176","v":0},{"$f":"'SHALA DARPAN DATA'!H1176","v":0},{"$f":"'SHALA DARPAN DATA'!W1176","v":0},{"$f":"'SHALA DARPAN DATA'!R1176","v":0},{"$f":"'SHALA DARPAN DATA'!S1176","v":0},{"$f":"'SHALA DARPAN DATA'!O1176","v":0},0,0,0,0,0,0,0,0,0,0,0]
[{"$f":"'SHALA DARPAN DATA'!C1177","v":0},{"$f":"'SHALA DARPAN DATA'!A1177","v":0},{"$f":"'SHALA DARPAN DATA'!B1177","v":0},{"$f":"'SHALA DARPAN DATA'!D1177","v":0},{"$f":"'SHALA DARPAN DATA'!J1177","v":0},{"$f":"'SHALA DARPAN DATA'!T1177","v":0},{"$f":"'SHALA DARPAN DATA'!V1177","v":0},{"$f":"'SHALA DARPAN DATA'!K1177","v":0},{"$f":"'SHALA DARPAN DATA'!E1177","v":0},{"$f":"'SHALA DARPAN DATA'!G1177","v":0},{"$f":"'SHALA DARPAN DATA'!H1177","v":0},{"$f":"'SHALA DARPAN DATA'!W1177","v":0},{"$f":"'SHALA DARPAN DATA'!R1177","v":0},{"$f":"'SHALA DARPAN DATA'!S1177","v":0},{"$f":"'SHALA DARPAN DATA'!O1177","v":0},0,0,0,0,0,0,0,0,0,0,0]
[{"$f":"'SHALA DARPAN DATA'!C1182","v":0},{"$f":"'SHALA DARPAN DATA'!A1182","v":0},{"$f":"'SHALA DARPAN DATA'!B1182","v":0},{"$f":"'SHALA DARPAN DATA'!D1182","v":0},{"$f":"'SHALA DARPAN DATA'!J1182","v":0},{"$f":"'SHALA DARPAN DATA'!T1182","v":0},{"$f":"'SHALA DARPAN DATA'!V1182","v":0},{"$f":"'SHALA DARPAN DATA'!K1182","v":0},{"$f":"'SHALA DARPAN DATA'!E1182","v":0},{"$f":"'SHALA DARPAN DATA'!G1182","v":0},{"$f":"'SHALA DARPAN DATA'!H1182","v":0},{"$f":"'SHALA DARPAN DATA'!W1182","v":0},{"$f":"'SHALA DARPAN DATA'!R1182","v":0},{"$f":"'SHALA DARPAN DATA'!S1182","v":0},{"$f":"'SHALA DARPAN DATA'!O1182","v":0},0,0,0,0,0,0,0,0,0,0,0]
[{"$f":"'SHALA DARPAN DATA'!C1186","v":0},{"$f":"'SHALA DARPAN DATA'!A1186","v":0},{"$f":"'SHALA DARPAN DATA'!B1186","v":0},{"$f":"'SHALA DARPAN DATA'!D1186","v":0},{"$f":"'SHALA DARPAN DATA'!J1186","v":0},{"$f":"'SHALA DARPAN DATA'!T1186","v":0},{"$f":"'SHALA DARPAN DATA'!V1186","v":0},{"$f":"'SHALA DARPAN DATA'!K1186","v":0},{"$f":"'SHALA DARPAN DATA'!E1186","v":0},{"$f":"'SHALA DARPAN DATA'!G1186","v":0},{"$f":"'SHALA DARPAN DATA'!H1186","v":0},{"$f":"'SHALA DARPAN DATA'!W1186","v":0},{"$f":"'SHALA DARPAN DATA'!R1186","v":0},{"$f":"'SHALA DARPAN DATA'!S1186","v":0},{"$f":"'SHALA DARPAN DATA'!O1186","v":0},0,0,0,0,0,0,0,0,0,0,0]
[{"$f":"'SHALA DARPAN DATA'!C1191","v":0},{"$f":"'SHALA DARPAN DATA'!A1191","v":0},{"$f":"'SHALA DARPAN DATA'!B1191","v":0},{"$f":"'SHALA DARPAN DATA'!D1191","v":0},{"$f":"'SHALA DARPAN DATA'!J1191","v":0},{"$f":"'SHALA DARPAN DATA'!T1191","v":0},{"$f":"'SHALA DARPAN DATA'!V1191","v":0},{"$f":"'SHALA DARPAN DATA'!K1191","v":0},{"$f":"'SHALA DARPAN DATA'!E1191","v":0},{"$f":"'SHALA DARPAN DATA'!G1191","v":0},{"$f":"'SHALA DARPAN DATA'!H1191","v":0},{"$f":"'SHALA DARPAN DATA'!W1191","v":0},{"$f":"'SHALA DARPAN DATA'!R1191","v":0},{"$f":"'SHALA DARPAN DATA'!S1191","v":0},{"$f":"'SHALA DARPAN DATA'!O1191","v":0},0,0,0,0,0,0,0,0,0,0,0]
[{"$f":"'SHALA DARPAN DATA'!C1192","v":0},{"$f":"'SHALA DARPAN DATA'!A1192","v":0},{"$f":"'SHALA DARPAN DATA'!B1192","v":0},{"$f":"'SHALA DARPAN DATA'!D1192","v":0},{"$f":"'SHALA DARPAN DATA'!J1192","v":0},{"$f":"'SHALA DARPAN DATA'!T1192","v":0},{"$f":"'SHALA DARPAN DATA'!V1192","v":0},{"$f":"'SHALA DARPAN DATA'!K1192","v":0},{"$f":"'SHALA DARPAN DATA'!E1192","v":0},{"$f":"'SHALA DARPAN DATA'!G1192","v":0},{"$f":"'SHALA DARPAN DATA'!H1192","v":0},{"$f":"'SHALA DARPAN DATA'!W1192","v":0},{"$f":"'SHALA DARPAN DATA'!R1192","v":0},{"$f":"'SHALA DARPAN DATA'!S1192","v":0},{"$f":"'SHALA DARPAN DATA'!O1192","v":0},0,0,0,0,0,0,0,0,0,0,0]
[{"$f":"'SHALA DARPAN DATA'!C1198","v":0},{"$f":"'SHALA DARPAN DATA'!A1198","v":0},{"$f":"'SHALA DARPAN DATA'!B1198","v":0},{"$f":"'SHALA DARPAN DATA'!D1198","v":0},{"$f":"'SHALA DARPAN DATA'!J1198","v":0},{"$f":"'SHALA DARPAN DATA'!T1198","v":0},{"$f":"'SHALA DARPAN DATA'!V1198","v":0},{"$f":"'SHALA DARPAN DATA'!K1198","v":0},{"$f":"'SHALA DARPAN DATA'!E1198","v":0},{"$f":"'SHALA DARPAN DATA'!G1198","v":0},{"$f":"'SHALA DARPAN DATA'!H1198","v":0},{"$f":"'SHALA DARPAN DATA'!W1198","v":0},{"$f":"'SHALA DARPAN DATA'!R1198","v":0},{"$f":"'SHALA DARPAN DATA'!S1198","v":0},{"$f":"'SHALA DARPAN DATA'!O1198","v":0},0,0,0,0,0,0,0,0,0,0,0]
[{"$f":"'SHALA DARPAN DATA'!C1201","v":0},{"$f":"'SHALA DARPAN DATA'!A1201","v":0},{"$f":"'SHALA DARPAN DATA'!B1201","v":0},{"$f":"'SHALA DARPAN DATA'!D1201","v":0},{"$f":"'SHALA DARPAN DATA'!J1201","v":0},{"$f":"'SHALA DARPAN DATA'!T1201","v":0},{"$f":"'SHALA DARPAN DATA'!V1201","v":0},{"$f":"'SHALA DARPAN DATA'!K1201","v":0},{"$f":"'SHALA DARPAN DATA'!E1201","v":0},{"$f":"'SHALA DARPAN DATA'!G1201","v":0},{"$f":"'SHALA DARPAN DATA'!H1201","v":0},{"$f":"'SHALA DARPAN DATA'!W1201","v":0},{"$f":"'SHALA DARPAN DATA'!R1201","v":0},{"$f":"'SHALA DARPAN DATA'!S1201","v":0},{"$f":"'SHALA DARPAN DATA'!O1201","v":0},0,0,0,0,0,0,0,0,0,0,0]
[{"$f":"'SHALA DARPAN DATA'!C1206","v":0},{"$f":"'SHALA DARPAN DATA'!A1206","v":0},{"$f":"'SHALA DARPAN DATA'!B1206","v":0},{"$f":"'SHALA DARPAN DATA'!D1206","v":0},{"$f":"'SHALA DARPAN DATA'!J1206","v":0},{"$f":"'SHALA DARPAN DATA'!T1206","v":0},{"$f":"'SHALA DARPAN DATA'!V1206","v":0},{"$f":"'SHALA DARPAN DATA'!K1206","v":0},{"$f":"'SHALA DARPAN DATA'!E1206","v":0},{"$f":"'SHALA DARPAN DATA'!G1206","v":0},{"$f":"'SHALA DARPAN DATA'!H1206","v":0},{"$f":"'SHALA DARPAN DATA'!W1206","v":0},{"$f":"'SHALA DARPAN DATA'!R1206","v":0},{"$f":"'SHALA DARPAN DATA'!S1206","v":0},{"$f":"'SHALA DARPAN DATA'!O1206","v":0},0,0,0,0,0,0,0,0,0,0,0]
[{"$f":"'SHALA DARPAN DATA'!C1207","v":0},{"$f":"'SHALA DARPAN DATA'!A1207","v":0},{"$f":"'SHALA DARPAN DATA'!B1207","v":0},{"$f":"'SHALA DARPAN DATA'!D1207","v":0},{"$f":"'SHALA DARPAN DATA'!J1207","v":0},{"$f":"'SHALA DARPAN DATA'!T1207","v":0},{"$f":"'SHALA DARPAN DATA'!V1207","v":0},{"$f":"'SHALA DARPAN DATA'!K1207","v":0},{"$f":"'SHALA DARPAN DATA'!E1207","v":0},{"$f":"'SHALA DARPAN DATA'!G1207","v":0},{"$f":"'SHALA DARPAN DATA'!H1207","v":0},{"$f":"'SHALA DARPAN DATA'!W1207","v":0},{"$f":"'SHALA DARPAN DATA'!R1207","v":0},{"$f":"'SHALA DARPAN DATA'!S1207","v":0},{"$f":"'SHALA DARPAN DATA'!O1207","v":0},0,0,0,0,0,0,0,0,0,0,0]
[{"$f":"'SHALA DARPAN DATA'!C1212","v":0},{"$f":"'SHALA DARPAN DATA'!A1212","v":0},{"$f":"'SHALA DARPAN DATA'!B1212","v":0},{"$f":"'SHALA DARPAN DATA'!D1212","v":0},{"$f":"'SHALA DARPAN DATA'!J1212","v":0},{"$f":"'SHALA DARPAN DATA'!T1212","v":0},{"$f":"'SHALA DARPAN DATA'!V1212","v":0},{"$f":"'SHALA DARPAN DATA'!K1212","v":0},{"$f":"'SHALA DARPAN DATA'!E1212","v":0},{"$f":"'SHALA DARPAN DATA'!G1212","v":0},{"$f":"'SHALA DARPAN DATA'!H1212","v":0},{"$f":"'SHALA DARPAN DATA'!W1212","v":0},{"$f":"'SHALA DARPAN DATA'!R1212","v":0},{"$f":"'SHALA DARPAN DATA'!S1212","v":0},{"$f":"'SHALA DARPAN DATA'!O1212","v":0},0,0,0,0,0,0,0,0,0,0,0]
[{"$f":"'SHALA DARPAN DATA'!C1216","v":0},{"$f":"'SHALA DARPAN DATA'!A1216","v":0},{"$f":"'SHALA DARPAN DATA'!B1216","v":0},{"$f":"'SHALA DARPAN DATA'!D1216","v":0},{"$f":"'SHALA DARPAN DATA'!J1216","v":0},{"$f":"'SHALA DARPAN DATA'!T1216","v":0},{"$f":"'SHALA DARPAN DATA'!V1216","v":0},{"$f":"'SHALA DARPAN DATA'!K1216","v":0},{"$f":"'SHALA DARPAN DATA'!E1216","v":0},{"$f":"'SHALA DARPAN DATA'!G1216","v":0},{"$f":"'SHALA DARPAN DATA'!H1216","v":0},{"$f":"'SHALA DARPAN DATA'!W1216","v":0},{"$f":"'SHALA DARPAN DATA'!R1216","v":0},{"$f":"'SHALA DARPAN DATA'!S1216","v":0},{"$f":"'SHALA DARPAN DATA'!O1216","v":0},0,0,0,0,0,0,0,0,0,0,0]
[{"$f":"'SHALA DARPAN DATA'!C1221","v":0},{"$f":"'SHALA DARPAN DATA'!A1221","v":0},{"$f":"'SHALA DARPAN DATA'!B1221","v":0},{"$f":"'SHALA DARPAN DATA'!D1221","v":0},{"$f":"'SHALA DARPAN DATA'!J1221","v":0},{"$f":"'SHALA DARPAN DATA'!T1221","v":0},{"$f":"'SHALA DARPAN DATA'!V1221","v":0},{"$f":"'SHALA DARPAN DATA'!K1221","v":0},{"$f":"'SHALA DARPAN DATA'!E1221","v":0},{"$f":"'SHALA DARPAN DATA'!G1221","v":0},{"$f":"'SHALA DARPAN DATA'!H1221","v":0},{"$f":"'SHALA DARPAN DATA'!W1221","v":0},{"$f":"'SHALA DARPAN DATA'!R1221","v":0},{"$f":"'SHALA DARPAN DATA'!S1221","v":0},{"$f":"'SHALA DARPAN DATA'!O1221","v":0},0,0,0,0,0,0,0,0,0,0,0]
[{"$f":"'SHALA DARPAN DATA'!C1222","v":0},{"$f":"'SHALA DARPAN DATA'!A1222","v":0},{"$f":"'SHALA DARPAN DATA'!B1222","v":0},{"$f":"'SHALA DARPAN DATA'!D1222","v":0},{"$f":"'SHALA DARPAN DATA'!J1222","v":0},{"$f":"'SHALA DARPAN DATA'!T1222","v":0},{"$f":"'SHALA DARPAN DATA'!V1222","v":0},{"$f":"'SHALA DARPAN DATA'!K1222","v":0},{"$f":"'SHALA DARPAN DATA'!E1222","v":0},{"$f":"'SHALA DARPAN DATA'!G1222","v":0},{"$f":"'SHALA DARPAN DATA'!H1222","v":0},{"$f":"'SHALA DARPAN DATA'!W1222","v":0},{"$f":"'SHALA DARPAN DATA'!R1222","v":0},{"$f":"'SHALA DARPAN DATA'!S1222","v":0},{"$f":"'SHALA DARPAN DATA'!O1222","v":0},0,0,0,0,0,0,0,0,0,0,0]
[{"$f":"'SHALA DARPAN DATA'!C1228","v":0},{"$f":"'SHALA DARPAN DATA'!A1228","v":0},{"$f":"'SHALA DARPAN DATA'!B1228","v":0},{"$f":"'SHALA DARPAN DATA'!D1228","v":0},{"$f":"'SHALA DARPAN DATA'!J1228","v":0},{"$f":"'SHALA DARPAN DATA'!T1228","v":0},{"$f":"'SHALA DARPAN DATA'!V1228","v":0},{"$f":"'SHALA DARPAN DATA'!K1228","v":0},{"$f":"'SHALA DARPAN DATA'!E1228","v":0},{"$f":"'SHALA DARPAN DATA'!G1228","v":0},{"$f":"'SHALA DARPAN DATA'!H1228","v":0},{"$f":"'SHALA DARPAN DATA'!W1228","v":0},{"$f":"'SHALA DARPAN DATA'!R1228","v":0},{"$f":"'SHALA DARPAN DATA'!S1228","v":0},{"$f":"'SHALA DARPAN DATA'!O1228","v":0},0,0,0,0,0,0,0,0,0,0,0]
[{"$f":"'SHALA DARPAN DATA'!C1231","v":0},{"$f":"'SHALA DARPAN DATA'!A1231","v":0},{"$f":"'SHALA DARPAN DATA'!B1231","v":0},{"$f":"'SHALA DARPAN DATA'!D1231","v":0},{"$f":"'SHALA DARPAN DATA'!J1231","v":0},{"$f":"'SHALA DARPAN DATA'!T1231","v":0},{"$f":"'SHALA DARPAN DATA'!V1231","v":0},{"$f":"'SHALA DARPAN DATA'!K1231","v":0},{"$f":"'SHALA DARPAN DATA'!E1231","v":0},{"$f":"'SHALA DARPAN DATA'!G1231","v":0},{"$f":"'SHALA DARPAN DATA'!H1231","v":0},{"$f":"'SHALA DARPAN DATA'!W1231","v":0},{"$f":"'SHALA DARPAN DATA'!R1231","v":0},{"$f":"'SHALA DARPAN DATA'!S1231","v":0},{"$f":"'SHALA DARPAN DATA'!O1231","v":0},0,0,0,0,0,0,0,0,0,0,0]
[{"$f":"'SHALA DARPAN DATA'!C1236","v":0},{"$f":"'SHALA DARPAN DATA'!A1236","v":0},{"$f":"'SHALA DARPAN DATA'!B1236","v":0},{"$f":"'SHALA DARPAN DATA'!D1236","v":0},{"$f":"'SHALA DARPAN DATA'!J1236","v":0},{"$f":"'SHALA DARPAN DATA'!T1236","v":0},{"$f":"'SHALA DARPAN DATA'!V1236","v":0},{"$f":"'SHALA DARPAN DATA'!K1236","v":0},{"$f":"'SHALA DARPAN DATA'!E1236","v":0},{"$f":"'SHALA DARPAN DATA'!G1236","v":0},{"$f":"'SHALA DARPAN DATA'!H1236","v":0},{"$f":"'SHALA DARPAN DATA'!W1236","v":0},{"$f":"'SHALA DARPAN DATA'!R1236","v":0},{"$f":"'SHALA DARPAN DATA'!S1236","v":0},{"$f":"'SHALA DARPAN DATA'!O1236","v":0},0,0,0,0,0,0,0,0,0,0,0]
[{"$f":"'SHALA DARPAN DATA'!C1237","v":0},{"$f":"'SHALA DARPAN DATA'!A1237","v":0},{"$f":"'SHALA DARPAN DATA'!B1237","v":0},{"$f":"'SHALA DARPAN DATA'!D1237","v":0},{"$f":"'SHALA DARPAN DATA'!J1237","v":0},{"$f":"'SHALA DARPAN DATA'!T1237","v":0},{"$f":"'SHALA DARPAN DATA'!V1237","v":0},{"$f":"'SHALA DARPAN DATA'!K1237","v":0},{"$f":"'SHALA DARPAN DATA'!E1237","v":0},{"$f":"'SHALA DARPAN DATA'!G1237","v":0},{"$f":"'SHALA DARPAN DATA'!H1237","v":0},{"$f":"'SHALA DARPAN DATA'!W1237","v":0},{"$f":"'SHALA DARPAN DATA'!R1237","v":0},{"$f":"'SHALA DARPAN DATA'!S1237","v":0},{"$f":"'SHALA DARPAN DATA'!O1237","v":0},0,0,0,0,0,0,0,0,0,0,0]
[{"$f":"'SHALA DARPAN DATA'!C1242","v":0},{"$f":"'SHALA DARPAN DATA'!A1242","v":0},{"$f":"'SHALA DARPAN DATA'!B1242","v":0},{"$f":"'SHALA DARPAN DATA'!D1242","v":0},{"$f":"'SHALA DARPAN DATA'!J1242","v":0},{"$f":"'SHALA DARPAN DATA'!T1242","v":0},{"$f":"'SHALA DARPAN DATA'!V1242","v":0},{"$f":"'SHALA DARPAN DATA'!K1242","v":0},{"$f":"'SHALA DARPAN DATA'!E1242","v":0},{"$f":"'SHALA DARPAN DATA'!G1242","v":0},{"$f":"'SHALA DARPAN DATA'!H1242","v":0},{"$f":"'SHALA DARPAN DATA'!W1242","v":0},{"$f":"'SHALA DARPAN DATA'!R1242","v":0},{"$f":"'SHALA DARPAN DATA'!S1242","v":0},{"$f":"'SHALA DARPAN DATA'!O1242","v":0},0,0,0,0,0,0,0,0,0,0,0]
[{"$f":"'SHALA DARPAN DATA'!C1246","v":0},{"$f":"'SHALA DARPAN DATA'!A1246","v":0},{"$f":"'SHALA DARPAN DATA'!B1246","v":0},{"$f":"'SHALA DARPAN DATA'!D1246","v":0},{"$f":"'SHALA DARPAN DATA'!J1246","v":0},{"$f":"'SHALA DARPAN DATA'!T1246","v":0},{"$f":"'SHALA DARPAN DATA'!V1246","v":0},{"$f":"'SHALA DARPAN DATA'!K1246","v":0},{"$f":"'SHALA DARPAN DATA'!E1246","v":0},{"$f":"'SHALA DARPAN DATA'!G1246","v":0},{"$f":"'SHALA DARPAN DATA'!H1246","v":0},{"$f":"'SHALA DARPAN DATA'!W1246","v":0},{"$f":"'SHALA DARPAN DATA'!R1246","v":0},{"$f":"'SHALA DARPAN DATA'!S1246","v":0},{"$f":"'SHALA DARPAN DATA'!O1246","v":0},0,0,0,0,0,0,0,0,0,0,0]
[{"$f":"'SHALA DARPAN DATA'!C1251","v":0},{"$f":"'SHALA DARPAN DATA'!A1251","v":0},{"$f":"'SHALA DARPAN DATA'!B1251","v":0},{"$f":"'SHALA DARPAN DATA'!D1251","v":0},{"$f":"'SHALA DARPAN DATA'!J1251","v":0},{"$f":"'SHALA DARPAN DATA'!T1251","v":0},{"$f":"'SHALA DARPAN DATA'!V1251","v":0},{"$f":"'SHALA DARPAN DATA'!K1251","v":0},{"$f":"'SHALA DARPAN DATA'!E1251","v":0},{"$f":"'SHALA DARPAN DATA'!G1251","v":0},{"$f":"'SHALA DARPAN DATA'!H1251","v":0},{"$f":"'SHALA DARPAN DATA'!W1251","v":0},{"$f":"'SHALA DARPAN DATA'!R1251","v":0},{"$f":"'SHALA DARPAN DATA'!S1251","v":0},{"$f":"'SHALA DARPAN DATA'!O1251","v":0},0,0,0,0,0,0,0,0,0,0,0]
[{"$f":"'SHALA DARPAN DATA'!C1252","v":0},{"$f":"'SHALA DARPAN DATA'!A1252","v":0},{"$f":"'SHALA DARPAN DATA'!B1252","v":0},{"$f":"'SHALA DARPAN DATA'!D1252","v":0},{"$f":"'SHALA DARPAN DATA'!J1252","v":0},{"$f":"'SHALA DARPAN DATA'!T1252","v":0},{"$f":"'SHALA DARPAN DATA'!V1252","v":0},{"$f":"'SHALA DARPAN DATA'!K1252","v":0},{"$f":"'SHALA DARPAN DATA'!E1252","v":0},{"$f":"'SHALA DARPAN DATA'!G1252","v":0},{"$f":"'SHALA DARPAN DATA'!H1252","v":0},{"$f":"'SHALA DARPAN DATA'!W1252","v":0},{"$f":"'SHALA DARPAN DATA'!R1252","v":0},{"$f":"'SHALA DARPAN DATA'!S1252","v":0},{"$f":"'SHALA DARPAN DATA'!O1252","v":0},0,0,0,0,0,0,0,0,0,0,0]
[{"$f":"'SHALA DARPAN DATA'!C1258","v":0},{"$f":"'SHALA DARPAN DATA'!A1258","v":0},{"$f":"'SHALA DARPAN DATA'!B1258","v":0},{"$f":"'SHALA DARPAN DATA'!D1258","v":0},{"$f":"'SHALA DARPAN DATA'!J1258","v":0},{"$f":"'SHALA DARPAN DATA'!T1258","v":0},{"$f":"'SHALA DARPAN DATA'!V1258","v":0},{"$f":"'SHALA DARPAN DATA'!K1258","v":0},{"$f":"'SHALA DARPAN DATA'!E1258","v":0},{"$f":"'SHALA DARPAN DATA'!G1258","v":0},{"$f":"'SHALA DARPAN DATA'!H1258","v":0},{"$f":"'SHALA DARPAN DATA'!W1258","v":0},{"$f":"'SHALA DARPAN DATA'!R1258","v":0},{"$f":"'SHALA DARPAN DATA'!S1258","v":0},{"$f":"'SHALA DARPAN DATA'!O1258","v":0},0,0,0,0,0,0,0,0,0,0,0]
[{"$f":"'SHALA DARPAN DATA'!C1261","v":0},{"$f":"'SHALA DARPAN DATA'!A1261","v":0},{"$f":"'SHALA DARPAN DATA'!B1261","v":0},{"$f":"'SHALA DARPAN DATA'!D1261","v":0},{"$f":"'SHALA DARPAN DATA'!J1261","v":0},{"$f":"'SHALA DARPAN DATA'!T1261","v":0},{"$f":"'SHALA DARPAN DATA'!V1261","v":0},{"$f":"'SHALA DARPAN DATA'!K1261","v":0},{"$f":"'SHALA DARPAN DATA'!E1261","v":0},{"$f":"'SHALA DARPAN DATA'!G1261","v":0},{"$f":"'SHALA DARPAN DATA'!H1261","v":0},{"$f":"'SHALA DARPAN DATA'!W1261","v":0},{"$f":"'SHALA DARPAN DATA'!R1261","v":0},{"$f":"'SHALA DARPAN DATA'!S1261","v":0},{"$f":"'SHALA DARPAN DATA'!O1261","v":0},0,0,0,0,0,0,0,0,0,0,0]
[{"$f":"'SHALA DARPAN DATA'!C1266","v":0},{"$f":"'SHALA DARPAN DATA'!A1266","v":0},{"$f":"'SHALA DARPAN DATA'!B1266","v":0},{"$f":"'SHALA DARPAN DATA'!D1266","v":0},{"$f":"'SHALA DARPAN DATA'!J1266","v":0},{"$f":"'SHALA DARPAN DATA'!T1266","v":0},{"$f":"'SHALA DARPAN DATA'!V1266","v":0},{"$f":"'SHALA DARPAN DATA'!K1266","v":0},{"$f":"'SHALA DARPAN DATA'!E1266","v":0},{"$f":"'SHALA DARPAN DATA'!G1266","v":0},{"$f":"'SHALA DARPAN DATA'!H1266","v":0},{"$f":"'SHALA DARPAN DATA'!W1266","v":0},{"$f":"'SHALA DARPAN DATA'!R1266","v":0},{"$f":"'SHALA DARPAN DATA'!S1266","v":0},{"$f":"'SHALA DARPAN DATA'!O1266","v":0},0,0,0,0,0,0,0,0,0,0,0]
[{"$f":"'SHALA DARPAN DATA'!C1267","v":0},{"$f":"'SHALA DARPAN DATA'!A1267","v":0},{"$f":"'SHALA DARPAN DATA'!B1267","v":0},{"$f":"'SHALA DARPAN DATA'!D1267","v":0},{"$f":"'SHALA DARPAN DATA'!J1267","v":0},{"$f":"'SHALA DARPAN DATA'!T1267","v":0},{"$f":"'SHALA DARPAN DATA'!V1267","v":0},{"$f":"'SHALA DARPAN DATA'!K1267","v":0},{"$f":"'SHALA DARPAN DATA'!E1267","v":0},{"$f":"'SHALA DARPAN DATA'!G1267","v":0},{"$f":"'SHALA DARPAN DATA'!H1267","v":0},{"$f":"'SHALA DARPAN DATA'!W1267","v":0},{"$f":"'SHALA DARPAN DATA'!R1267","v":0},{"$f":"'SHALA DARPAN DATA'!S1267","v":0},{"$f":"'SHALA DARPAN DATA'!O1267","v":0},0,0,0,0,0,0,0,0,0,0,0]
[{"$f":"'SHALA DARPAN DATA'!C1272","v":0},{"$f":"'SHALA DARPAN DATA'!A1272","v":0},{"$f":"'SHALA DARPAN DATA'!B1272","v":0},{"$f":"'SHALA DARPAN DATA'!D1272","v":0},{"$f":"'SHALA DARPAN DATA'!J1272","v":0},{"$f":"'SHALA DARPAN DATA'!T1272","v":0},{"$f":"'SHALA DARPAN DATA'!V1272","v":0},{"$f":"'SHALA DARPAN DATA'!K1272","v":0},{"$f":"'SHALA DARPAN DATA'!E1272","v":0},{"$f":"'SHALA DARPAN DATA'!G1272","v":0},{"$f":"'SHALA DARPAN DATA'!H1272","v":0},{"$f":"'SHALA DARPAN DATA'!W1272","v":0},{"$f":"'SHALA DARPAN DATA'!R1272","v":0},{"$f":"'SHALA DARPAN DATA'!S1272","v":0},{"$f":"'SHALA DARPAN DATA'!O1272","v":0},0,0,0,0,0,0,0,0,0,0,0]
[{"$f":"'SHALA DARPAN DATA'!C1276","v":0},{"$f":"'SHALA DARPAN DATA'!A1276","v":0},{"$f":"'SHALA DARPAN DATA'!B1276","v":0},{"$f":"'SHALA DARPAN DATA'!D1276","v":0},{"$f":"'SHALA DARPAN DATA'!J1276","v":0},{"$f":"'SHALA DARPAN DATA'!T1276","v":0},{"$f":"'SHALA DARPAN DATA'!V1276","v":0},{"$f":"'SHALA DARPAN DATA'!K1276","v":0},{"$f":"'SHALA DARPAN DATA'!E1276","v":0},{"$f":"'SHALA DARPAN DATA'!G1276","v":0},{"$f":"'SHALA DARPAN DATA'!H1276","v":0},{"$f":"'SHALA DARPAN DATA'!W1276","v":0},{"$f":"'SHALA DARPAN DATA'!R1276","v":0},{"$f":"'SHALA DARPAN DATA'!S1276","v":0},{"$f":"'SHALA DARPAN DATA'!O1276","v":0},0,0,0,0,0,0,0,0,0,0,0]
[{"$f":"'SHALA DARPAN DATA'!C1281","v":0},{"$f":"'SHALA DARPAN DATA'!A1281","v":0},{"$f":"'SHALA DARPAN DATA'!B1281","v":0},{"$f":"'SHALA DARPAN DATA'!D1281","v":0},{"$f":"'SHALA DARPAN DATA'!J1281","v":0},{"$f":"'SHALA DARPAN DATA'!T1281","v":0},{"$f":"'SHALA DARPAN DATA'!V1281","v":0},{"$f":"'SHALA DARPAN DATA'!K1281","v":0},{"$f":"'SHALA DARPAN DATA'!E1281","v":0},{"$f":"'SHALA DARPAN DATA'!G1281","v":0},{"$f":"'SHALA DARPAN DATA'!H1281","v":0},{"$f":"'SHALA DARPAN DATA'!W1281","v":0},{"$f":"'SHALA DARPAN DATA'!R1281","v":0},{"$f":"'SHALA DARPAN DATA'!S1281","v":0},{"$f":"'SHALA DARPAN DATA'!O1281","v":0},0,0,0,0,0,0,0,0,0,0,0]
[{"$f":"'SHALA DARPAN DATA'!C1282","v":0},{"$f":"'SHALA DARPAN DATA'!A1282","v":0},{"$f":"'SHALA DARPAN DATA'!B1282","v":0},{"$f":"'SHALA DARPAN DATA'!D1282","v":0},{"$f":"'SHALA DARPAN DATA'!J1282","v":0},{"$f":"'SHALA DARPAN DATA'!T1282","v":0},{"$f":"'SHALA DARPAN DATA'!V1282","v":0},{"$f":"'SHALA DARPAN DATA'!K1282","v":0},{"$f":"'SHALA DARPAN DATA'!E1282","v":0},{"$f":"'SHALA DARPAN DATA'!G1282","v":0},{"$f":"'SHALA DARPAN DATA'!H1282","v":0},{"$f":"'SHALA DARPAN DATA'!W1282","v":0},{"$f":"'SHALA DARPAN DATA'!R1282","v":0},{"$f":"'SHALA DARPAN DATA'!S1282","v":0},{"$f":"'SHALA DARPAN DATA'!O1282","v":0},0,0,0,0,0,0,0,0,0,0,0]
[{"$f":"'SHALA DARPAN DATA'!C1286","v":0},{"$f":"'SHALA DARPAN DATA'!A1286","v":0},{"$f":"'SHALA DARPAN DATA'!B1286","v":0},{"$f":"'SHALA DARPAN DATA'!D1286","v":0},{"$f":"'SHALA DARPAN DATA'!J1286","v":0},{"$f":"'SHALA DARPAN DATA'!T1286","v":0},{"$f":"'SHALA DARPAN DATA'!V1286","v":0},{"$f":"'SHALA DARPAN DATA'!K1286","v":0},{"$f":"'SHALA DARPAN DATA'!E1286","v":0},{"$f":"'SHALA DARPAN DATA'!G1286","v":0},{"$f":"'SHALA DARPAN DATA'!H1286","v":0},{"$f":"'SHALA DARPAN DATA'!W1286","v":0},{"$f":"'SHALA DARPAN DATA'!R1286","v":0},{"$f":"'SHALA DARPAN DATA'!S1286","v":0},{"$f":"'SHALA DARPAN DATA'!O1286","v":0},0,0,0,0,0,0,0,0,0,0,0]
[{"$f":"'SHALA DARPAN DATA'!C1291","v":0},{"$f":"'SHALA DARPAN DATA'!A1291","v":0},{"$f":"'SHALA DARPAN DATA'!B1291","v":0},{"$f":"'SHALA DARPAN DATA'!D1291","v":0},{"$f":"'SHALA DARPAN DATA'!J1291","v":0},{"$f":"'SHALA DARPAN DATA'!T1291","v":0},{"$f":"'SHALA DARPAN DATA'!V1291","v":0},{"$f":"'SHALA DARPAN DATA'!K1291","v":0},{"$f":"'SHALA DARPAN DATA'!E1291","v":0},{"$f":"'SHALA DARPAN DATA'!G1291","v":0},{"$f":"'SHALA DARPAN DATA'!H1291","v":0},{"$f":"'SHALA DARPAN DATA'!W1291","v":0},{"$f":"'SHALA DARPAN DATA'!R1291","v":0},{"$f":"'SHALA DARPAN DATA'!S1291","v":0},{"$f":"'SHALA DARPAN DATA'!O1291","v":0},0,0,0,0,0,0,0,0,0,0,0]
[{"$f":"'SHALA DARPAN DATA'!C1296","v":0},{"$f":"'SHALA DARPAN DATA'!A1296","v":0},{"$f":"'SHALA DARPAN DATA'!B1296","v":0},{"$f":"'SHALA DARPAN DATA'!D1296","v":0},{"$f":"'SHALA DARPAN DATA'!J1296","v":0},{"$f":"'SHALA DARPAN DATA'!T1296","v":0},{"$f":"'SHALA DARPAN DATA'!V1296","v":0},{"$f":"'SHALA DARPAN DATA'!K1296","v":0},{"$f":"'SHALA DARPAN DATA'!E1296","v":0},{"$f":"'SHALA DARPAN DATA'!G1296","v":0},{"$f":"'SHALA DARPAN DATA'!H1296","v":0},{"$f":"'SHALA DARPAN DATA'!W1296","v":0},{"$f":"'SHALA DARPAN DATA'!R1296","v":0},{"$f":"'SHALA DARPAN DATA'!S1296","v":0},{"$f":"'SHALA DARPAN DATA'!O1296","v":0},0,0,0,0,0,0,0,0,0,0,0]
[{"$f":"'SHALA DARPAN DATA'!C1297","v":0},{"$f":"'SHALA DARPAN DATA'!A1297","v":0},{"$f":"'SHALA DARPAN DATA'!B1297","v":0},{"$f":"'SHALA DARPAN DATA'!D1297","v":0},{"$f":"'SHALA DARPAN DATA'!J1297","v":0},{"$f":"'SHALA DARPAN DATA'!T1297","v":0},{"$f":"'SHALA DARPAN DATA'!V1297","v":0},{"$f":"'SHALA DARPAN DATA'!K1297","v":0},{"$f":"'SHALA DARPAN DATA'!E1297","v":0},{"$f":"'SHALA DARPAN DATA'!G1297","v":0},{"$f":"'SHALA DARPAN DATA'!H1297","v":0},{"$f":"'SHALA DARPAN DATA'!W1297","v":0},{"$f":"'SHALA DARPAN DATA'!R1297","v":0},{"$f":"'SHALA DARPAN DATA'!S1297","v":0},{"$f":"'SHALA DARPAN DATA'!O1297","v":0},0,0,0,0,0,0,0,0,0,0,0]
[{"$f":"'SHALA DARPAN DATA'!C1302","v":0},{"$f":"'SHALA DARPAN DATA'!A1302","v":0},{"$f":"'SHALA DARPAN DATA'!B1302","v":0},{"$f":"'SHALA DARPAN DATA'!D1302","v":0},{"$f":"'SHALA DARPAN DATA'!J1302","v":0},{"$f":"'SHALA DARPAN DATA'!T1302","v":0},{"$f":"'SHALA DARPAN DATA'!V1302","v":0},{"$f":"'SHALA DARPAN DATA'!K1302","v":0},{"$f":"'SHALA DARPAN DATA'!E1302","v":0},{"$f":"'SHALA DARPAN DATA'!G1302","v":0},{"$f":"'SHALA DARPAN DATA'!H1302","v":0},{"$f":"'SHALA DARPAN DATA'!W1302","v":0},{"$f":"'SHALA DARPAN DATA'!R1302","v":0},{"$f":"'SHALA DARPAN DATA'!S1302","v":0},{"$f":"'SHALA DARPAN DATA'!O1302","v":0},0,0,0,0,0,0,0,0,0,0,0]
[{"$f":"'SHALA DARPAN DATA'!C1306","v":0},{"$f":"'SHALA DARPAN DATA'!A1306","v":0},{"$f":"'SHALA DARPAN DATA'!B1306","v":0},{"$f":"'SHALA DARPAN DATA'!D1306","v":0},{"$f":"'SHALA DARPAN DATA'!J1306","v":0},{"$f":"'SHALA DARPAN DATA'!T1306","v":0},{"$f":"'SHALA DARPAN DATA'!V1306","v":0},{"$f":"'SHALA DARPAN DATA'!K1306","v":0},{"$f":"'SHALA DARPAN DATA'!E1306","v":0},{"$f":"'SHALA DARPAN DATA'!G1306","v":0},{"$f":"'SHALA DARPAN DATA'!H1306","v":0},{"$f":"'SHALA DARPAN DATA'!W1306","v":0},{"$f":"'SHALA DARPAN DATA'!R1306","v":0},{"$f":"'SHALA DARPAN DATA'!S1306","v":0},{"$f":"'SHALA DARPAN DATA'!O1306","v":0},0,0,0,0,0,0,0,0,0,0,0]
[{"$f":"'SHALA DARPAN DATA'!C1311","v":0},{"$f":"'SHALA DARPAN DATA'!A1311","v":0},{"$f":"'SHALA DARPAN DATA'!B1311","v":0},{"$f":"'SHALA DARPAN DATA'!D1311","v":0},{"$f":"'SHALA DARPAN DATA'!J1311","v":0},{"$f":"'SHALA DARPAN DATA'!T1311","v":0},{"$f":"'SHALA DARPAN DATA'!V1311","v":0},{"$f":"'SHALA DARPAN DATA'!K1311","v":0},{"$f":"'SHALA DARPAN DATA'!E1311","v":0},{"$f":"'SHALA DARPAN DATA'!G1311","v":0},{"$f":"'SHALA DARPAN DATA'!H1311","v":0},{"$f":"'SHALA DARPAN DATA'!W1311","v":0},{"$f":"'SHALA DARPAN DATA'!R1311","v":0},{"$f":"'SHALA DARPAN DATA'!S1311","v":0},{"$f":"'SHALA DARPAN DATA'!O1311","v":0},0,0,0,0,0,0,0,0,0,0,0]
[{"$f":"'SHALA DARPAN DATA'!C1312","v":0},{"$f":"'SHALA DARPAN DATA'!A1312","v":0},{"$f":"'SHALA DARPAN DATA'!B1312","v":0},{"$f":"'SHALA DARPAN DATA'!D1312","v":0},{"$f":"'SHALA DARPAN DATA'!J1312","v":0},{"$f":"'SHALA DARPAN DATA'!T1312","v":0},{"$f":"'SHALA DARPAN DATA'!V1312","v":0},{"$f":"'SHALA DARPAN DATA'!K1312","v":0},{"$f":"'SHALA DARPAN DATA'!E1312","v":0},{"$f":"'SHALA DARPAN DATA'!G1312","v":0},{"$f":"'SHALA DARPAN DATA'!H1312","v":0},{"$f":"'SHALA DARPAN DATA'!W1312","v":0},{"$f":"'SHALA DARPAN DATA'!R1312","v":0},{"$f":"'SHALA DARPAN DATA'!S1312","v":0},{"$f":"'SHALA DARPAN DATA'!O1312","v":0},0,0,0,0,0,0,0,0,0,0,0]
[{"$f":"'SHALA DARPAN DATA'!C1316","v":0},{"$f":"'SHALA DARPAN DATA'!A1316","v":0},{"$f":"'SHALA DARPAN DATA'!B1316","v":0},{"$f":"'SHALA DARPAN DATA'!D1316","v":0},{"$f":"'SHALA DARPAN DATA'!J1316","v":0},{"$f":"'SHALA DARPAN DATA'!T1316","v":0},{"$f":"'SHALA DARPAN DATA'!V1316","v":0},{"$f":"'SHALA DARPAN DATA'!K1316","v":0},{"$f":"'SHALA DARPAN DATA'!E1316","v":0},{"$f":"'SHALA DARPAN DATA'!G1316","v":0},{"$f":"'SHALA DARPAN DATA'!H1316","v":0},{"$f":"'SHALA DARPAN DATA'!W1316","v":0},{"$f":"'SHALA DARPAN DATA'!R1316","v":0},{"$f":"'SHALA DARPAN DATA'!S1316","v":0},{"$f":"'SHALA DARPAN DATA'!O1316","v":0},0,0,0,0,0,0,0,0,0,0,0]
[{"$f":"'SHALA DARPAN DATA'!C1321","v":0},{"$f":"'SHALA DARPAN DATA'!A1321","v":0},{"$f":"'SHALA DARPAN DATA'!B1321","v":0},{"$f":"'SHALA DARPAN DATA'!D1321","v":0},{"$f":"'SHALA DARPAN DATA'!J1321","v":0},{"$f":"'SHALA DARPAN DATA'!T1321","v":0},{"$f":"'SHALA DARPAN DATA'!V1321","v":0},{"$f":"'SHALA DARPAN DATA'!K1321","v":0},{"$f":"'SHALA DARPAN DATA'!E1321","v":0},{"$f":"'SHALA DARPAN DATA'!G1321","v":0},{"$f":"'SHALA DARPAN DATA'!H1321","v":0},{"$f":"'SHALA DARPAN DATA'!W1321","v":0},{"$f":"'SHALA DARPAN DATA'!R1321","v":0},{"$f":"'SHALA DARPAN DATA'!S1321","v":0},{"$f":"'SHALA DARPAN DATA'!O1321","v":0},0,0,0,0,0,0,0,0,0,0,0]
[{"$f":"'SHALA DARPAN DATA'!C1326","v":0},{"$f":"'SHALA DARPAN DATA'!A1326","v":0},{"$f":"'SHALA DARPAN DATA'!B1326","v":0},{"$f":"'SHALA DARPAN DATA'!D1326","v":0},{"$f":"'SHALA DARPAN DATA'!J1326","v":0},{"$f":"'SHALA DARPAN DATA'!T1326","v":0},{"$f":"'SHALA DARPAN DATA'!V1326","v":0},{"$f":"'SHALA DARPAN DATA'!K1326","v":0},{"$f":"'SHALA DARPAN DATA'!E1326","v":0},{"$f":"'SHALA DARPAN DATA'!G1326","v":0},{"$f":"'SHALA DARPAN DATA'!H1326","v":0},{"$f":"'SHALA DARPAN DATA'!W1326","v":0},{"$f":"'SHALA DARPAN DATA'!R1326","v":0},{"$f":"'SHALA DARPAN DATA'!S1326","v":0},{"$f":"'SHALA DARPAN DATA'!O1326","v":0},0,0,0,0,0,0,0,0,0,0,0]
[{"$f":"'SHALA DARPAN DATA'!C1327","v":0},{"$f":"'SHALA DARPAN DATA'!A1327","v":0},{"$f":"'SHALA DARPAN DATA'!B1327","v":0},{"$f":"'SHALA DARPAN DATA'!D1327","v":0},{"$f":"'SHALA DARPAN DATA'!J1327","v":0},{"$f":"'SHALA DARPAN DATA'!T1327","v":0},{"$f":"'SHALA DARPAN DATA'!V1327","v":0},{"$f":"'SHALA DARPAN DATA'!K1327","v":0},{"$f":"'SHALA DARPAN DATA'!E1327","v":0},{"$f":"'SHALA DARPAN DATA'!G1327","v":0},{"$f":"'SHALA DARPAN DATA'!H1327","v":0},{"$f":"'SHALA DARPAN DATA'!W1327","v":0},{"$f":"'SHALA DARPAN DATA'!R1327","v":0},{"$f":"'SHALA DARPAN DATA'!S1327","v":0},{"$f":"'SHALA DARPAN DATA'!O1327","v":0},0,0,0,0,0,0,0,0,0,0,0]
[{"$f":"'SHALA DARPAN DATA'!C1332","v":0},{"$f":"'SHALA DARPAN DATA'!A1332","v":0},{"$f":"'SHALA DARPAN DATA'!B1332","v":0},{"$f":"'SHALA DARPAN DATA'!D1332","v":0},{"$f":"'SHALA DARPAN DATA'!J1332","v":0},{"$f":"'SHALA DARPAN DATA'!T1332","v":0},{"$f":"'SHALA DARPAN DATA'!V1332","v":0},{"$f":"'SHALA DARPAN DATA'!K1332","v":0},{"$f":"'SHALA DARPAN DATA'!E1332","v":0},{"$f":"'SHALA DARPAN DATA'!G1332","v":0},{"$f":"'SHALA DARPAN DATA'!H1332","v":0},{"$f":"'SHALA DARPAN DATA'!W1332","v":0},{"$f":"'SHALA DARPAN DATA'!R1332","v":0},{"$f":"'SHALA DARPAN DATA'!S1332","v":0},{"$f":"'SHALA DARPAN DATA'!O1332","v":0},0,0,0,0,0,0,0,0,0,0,0]
[{"$f":"'SHALA DARPAN DATA'!C1336","v":0},{"$f":"'SHALA DARPAN DATA'!A1336","v":0},{"$f":"'SHALA DARPAN DATA'!B1336","v":0},{"$f":"'SHALA DARPAN DATA'!D1336","v":0},{"$f":"'SHALA DARPAN DATA'!J1336","v":0},{"$f":"'SHALA DARPAN DATA'!T1336","v":0},{"$f":"'SHALA DARPAN DATA'!V1336","v":0},{"$f":"'SHALA DARPAN DATA'!K1336","v":0},{"$f":"'SHALA DARPAN DATA'!E1336","v":0},{"$f":"'SHALA DARPAN DATA'!G1336","v":0},{"$f":"'SHALA DARPAN DATA'!H1336","v":0},{"$f":"'SHALA DARPAN DATA'!W1336","v":0},{"$f":"'SHALA DARPAN DATA'!R1336","v":0},{"$f":"'SHALA DARPAN DATA'!S1336","v":0},{"$f":"'SHALA DARPAN DATA'!O1336","v":0},0,0,0,0,0,0,0,0,0,0,0]
[{"$f":"'SHALA DARPAN DATA'!C1341","v":0},{"$f":"'SHALA DARPAN DATA'!A1341","v":0},{"$f":"'SHALA DARPAN DATA'!B1341","v":0},{"$f":"'SHALA DARPAN DATA'!D1341","v":0},{"$f":"'SHALA DARPAN DATA'!J1341","v":0},{"$f":"'SHALA DARPAN DATA'!T1341","v":0},{"$f":"'SHALA DARPAN DATA'!V1341","v":0},{"$f":"'SHALA DARPAN DATA'!K1341","v":0},{"$f":"'SHALA DARPAN DATA'!E1341","v":0},{"$f":"'SHALA DARPAN DATA'!G1341","v":0},{"$f":"'SHALA DARPAN DATA'!H1341","v":0},{"$f":"'SHALA DARPAN DATA'!W1341","v":0},{"$f":"'SHALA DARPAN DATA'!R1341","v":0},{"$f":"'SHALA DARPAN DATA'!S1341","v":0},{"$f":"'SHALA DARPAN DATA'!O1341","v":0},0,0,0,0,0,0,0,0,0,0,0]
[{"$f":"'SHALA DARPAN DATA'!C1342","v":0},{"$f":"'SHALA DARPAN DATA'!A1342","v":0},{"$f":"'SHALA DARPAN DATA'!B1342","v":0},{"$f":"'SHALA DARPAN DATA'!D1342","v":0},{"$f":"'SHALA DARPAN DATA'!J1342","v":0},{"$f":"'SHALA DARPAN DATA'!T1342","v":0},{"$f":"'SHALA DARPAN DATA'!V1342","v":0},{"$f":"'SHALA DARPAN DATA'!K1342","v":0},{"$f":"'SHALA DARPAN DATA'!E1342","v":0},{"$f":"'SHALA DARPAN DATA'!G1342","v":0},{"$f":"'SHALA DARPAN DATA'!H1342","v":0},{"$f":"'SHALA DARPAN DATA'!W1342","v":0},{"$f":"'SHALA DARPAN DATA'!R1342","v":0},{"$f":"'SHALA DARPAN DATA'!S1342","v":0},{"$f":"'SHALA DARPAN DATA'!O1342","v":0},0,0,0,0,0,0,0,0,0,0,0]
[{"$f":"'SHALA DARPAN DATA'!C1346","v":0},{"$f":"'SHALA DARPAN DATA'!A1346","v":0},{"$f":"'SHALA DARPAN DATA'!B1346","v":0},{"$f":"'SHALA DARPAN DATA'!D1346","v":0},{"$f":"'SHALA DARPAN DATA'!J1346","v":0},{"$f":"'SHALA DARPAN DATA'!T1346","v":0},{"$f":"'SHALA DARPAN DATA'!V1346","v":0},{"$f":"'SHALA DARPAN DATA'!K1346","v":0},{"$f":"'SHALA DARPAN DATA'!E1346","v":0},{"$f":"'SHALA DARPAN DATA'!G1346","v":0},{"$f":"'SHALA DARPAN DATA'!H1346","v":0},{"$f":"'SHALA DARPAN DATA'!W1346","v":0},{"$f":"'SHALA DARPAN DATA'!R1346","v":0},{"$f":"'SHALA DARPAN DATA'!S1346","v":0},{"$f":"'SHALA DARPAN DATA'!O1346","v":0},0,0,0,0,0,0,0,0,0,0,0]
[{"$f":"'SHALA DARPAN DATA'!C1351","v":0},{"$f":"'SHALA DARPAN DATA'!A1351","v":0},{"$f":"'SHALA DARPAN DATA'!B1351","v":0},{"$f":"'SHALA DARPAN DATA'!D1351","v":0},{"$f":"'SHALA DARPAN DATA'!J1351","v":0},{"$f":"'SHALA DARPAN DATA'!T1351","v":0},{"$f":"'SHALA DARPAN DATA'!V1351","v":0},{"$f":"'SHALA DARPAN DATA'!K1351","v":0},{"$f":"'SHALA DARPAN DATA'!E1351","v":0},{"$f":"'SHALA DARPAN DATA'!G1351","v":0},{"$f":"'SHALA DARPAN DATA'!H1351","v":0},{"$f":"'SHALA DARPAN DATA'!W1351","v":0},{"$f":"'SHALA DARPAN DATA'!R1351","v":0},{"$f":"'SHALA DARPAN DATA'!S1351","v":0},{"$f":"'SHALA DARPAN DATA'!O1351","v":0},0,0,0,0,0,0,0,0,0,0,0]
[{"$f":"'SHALA DARPAN DATA'!C1356","v":0},{"$f":"'SHALA DARPAN DATA'!A1356","v":0},{"$f":"'SHALA DARPAN DATA'!B1356","v":0},{"$f":"'SHALA DARPAN DATA'!D1356","v":0},{"$f":"'SHALA DARPAN DATA'!J1356","v":0},{"$f":"'SHALA DARPAN DATA'!T1356","v":0},{"$f":"'SHALA DARPAN DATA'!V1356","v":0},{"$f":"'SHALA DARPAN DATA'!K1356","v":0},{"$f":"'SHALA DARPAN DATA'!E1356","v":0},{"$f":"'SHALA DARPAN DATA'!G1356","v":0},{"$f":"'SHALA DARPAN DATA'!H1356","v":0},{"$f":"'SHALA DARPAN DATA'!W1356","v":0},{"$f":"'SHALA DARPAN DATA'!R1356","v":0},{"$f":"'SHALA DARPAN DATA'!S1356","v":0},{"$f":"'SHALA DARPAN DATA'!O1356","v":0},0,0,0,0,0,0,0,0,0,0,0]
[{"$f":"'SHALA DARPAN DATA'!C1357","v":0},{"$f":"'SHALA DARPAN DATA'!A1357","v":0},{"$f":"'SHALA DARPAN DATA'!B1357","v":0},{"$f":"'SHALA DARPAN DATA'!D1357","v":0},{"$f":"'SHALA DARPAN DATA'!J1357","v":0},{"$f":"'SHALA DARPAN DATA'!T1357","v":0},{"$f":"'SHALA DARPAN DATA'!V1357","v":0},{"$f":"'SHALA DARPAN DATA'!K1357","v":0},{"$f":"'SHALA DARPAN DATA'!E1357","v":0},{"$f":"'SHALA DARPAN DATA'!G1357","v":0},{"$f":"'SHALA DARPAN DATA'!H1357","v":0},{"$f":"'SHALA DARPAN DATA'!W1357","v":0},{"$f":"'SHALA DARPAN DATA'!R1357","v":0},{"$f":"'SHALA DARPAN DATA'!S1357","v":0},{"$f":"'SHALA DARPAN DATA'!O1357","v":0},0,0,0,0,0,0,0,0,0,0,0]
[{"$f":"'SHALA DARPAN DATA'!C1362","v":0},{"$f":"'SHALA DARPAN DATA'!A1362","v":0},{"$f":"'SHALA DARPAN DATA'!B1362","v":0},{"$f":"'SHALA DARPAN DATA'!D1362","v":0},{"$f":"'SHALA DARPAN DATA'!J1362","v":0},{"$f":"'SHALA DARPAN DATA'!T1362","v":0},{"$f":"'SHALA DARPAN DATA'!V1362","v":0},{"$f":"'SHALA DARPAN DATA'!K1362","v":0},{"$f":"'SHALA DARPAN DATA'!E1362","v":0},{"$f":"'SHALA DARPAN DATA'!G1362","v":0},{"$f":"'SHALA DARPAN DATA'!H1362","v":0},{"$f":"'SHALA DARPAN DATA'!W1362","v":0},{"$f":"'SHALA DARPAN DATA'!R1362","v":0},{"$f":"'SHALA DARPAN DATA'!S1362","v":0},{"$f":"'SHALA DARPAN DATA'!O1362","v":0},0,0,0,0,0,0,0,0,0,0,0]
[{"$f":"'SHALA DARPAN DATA'!C1366","v":0},{"$f":"'SHALA DARPAN DATA'!A1366","v":0},{"$f":"'SHALA DARPAN DATA'!B1366","v":0},{"$f":"'SHALA DARPAN DATA'!D1366","v":0},{"$f":"'SHALA DARPAN DATA'!J1366","v":0},{"$f":"'SHALA DARPAN DATA'!T1366","v":0},{"$f":"'SHALA DARPAN DATA'!V1366","v":0},{"$f":"'SHALA DARPAN DATA'!K1366","v":0},{"$f":"'SHALA DARPAN DATA'!E1366","v":0},{"$f":"'SHALA DARPAN DATA'!G1366","v":0},{"$f":"'SHALA DARPAN DATA'!H1366","v":0},{"$f":"'SHALA DARPAN DATA'!W1366","v":0},{"$f":"'SHALA DARPAN DATA'!R1366","v":0},{"$f":"'SHALA DARPAN DATA'!S1366","v":0},{"$f":"'SHALA DARPAN DATA'!O1366","v":0},0,0,0,0,0,0,0,0,0,0,0]
[{"$f":"'SHALA DARPAN DATA'!C1371","v":0},{"$f":"'SHALA DARPAN DATA'!A1371","v":0},{"$f":"'SHALA DARPAN DATA'!B1371","v":0},{"$f":"'SHALA DARPAN DATA'!D1371","v":0},{"$f":"'SHALA DARPAN DATA'!J1371","v":0},{"$f":"'SHALA DARPAN DATA'!T1371","v":0},{"$f":"'SHALA DARPAN DATA'!V1371","v":0},{"$f":"'SHALA DARPAN DATA'!K1371","v":0},{"$f":"'SHALA DARPAN DATA'!E1371","v":0},{"$f":"'SHALA DARPAN DATA'!G1371","v":0},{"$f":"'SHALA DARPAN DATA'!H1371","v":0},{"$f":"'SHALA DARPAN DATA'!W1371","v":0},{"$f":"'SHALA DARPAN DATA'!R1371","v":0},{"$f":"'SHALA DARPAN DATA'!S1371","v":0},{"$f":"'SHALA DARPAN DATA'!O1371","v":0},0,0,0,0,0,0,0,0,0,0,0]
[{"$f":"'SHALA DARPAN DATA'!C1372","v":0},{"$f":"'SHALA DARPAN DATA'!A1372","v":0},{"$f":"'SHALA DARPAN DATA'!B1372","v":0},{"$f":"'SHALA DARPAN DATA'!D1372","v":0},{"$f":"'SHALA DARPAN DATA'!J1372","v":0},{"$f":"'SHALA DARPAN DATA'!T1372","v":0},{"$f":"'SHALA DARPAN DATA'!V1372","v":0},{"$f":"'SHALA DARPAN DATA'!K1372","v":0},{"$f":"'SHALA DARPAN DATA'!E1372","v":0},{"$f":"'SHALA DARPAN DATA'!G1372","v":0},{"$f":"'SHALA DARPAN DATA'!H1372","v":0},{"$f":"'SHALA DARPAN DATA'!W1372","v":0},{"$f":"'SHALA DARPAN DATA'!R1372","v":0},{"$f":"'SHALA DARPAN DATA'!S1372","v":0},{"$f":"'SHALA DARPAN DATA'!O1372","v":0},0,0,0,0,0,0,0,0,0,0,0]
[{"$f":"'SHALA DARPAN DATA'!C1376","v":0},{"$f":"'SHALA DARPAN DATA'!A1376","v":0},{"$f":"'SHALA DARPAN DATA'!B1376","v":0},{"$f":"'SHALA DARPAN DATA'!D1376","v":0},{"$f":"'SHALA DARPAN DATA'!J1376","v":0},{"$f":"'SHALA DARPAN DATA'!T1376","v":0},{"$f":"'SHALA DARPAN DATA'!V1376","v":0},{"$f":"'SHALA DARPAN DATA'!K1376","v":0},{"$f":"'SHALA DARPAN DATA'!E1376","v":0},{"$f":"'SHALA DARPAN DATA'!G1376","v":0},{"$f":"'SHALA DARPAN DATA'!H1376","v":0},{"$f":"'SHALA DARPAN DATA'!W1376","v":0},{"$f":"'SHALA DARPAN DATA'!R1376","v":0},{"$f":"'SHALA DARPAN DATA'!S1376","v":0},{"$f":"'SHALA DARPAN DATA'!O1376","v":0},0,0,0,0,0,0,0,0,0,0,0]
[{"$f":"'SHALA DARPAN DATA'!C1381","v":0},{"$f":"'SHALA DARPAN DATA'!A1381","v":0},{"$f":"'SHALA DARPAN DATA'!B1381","v":0},{"$f":"'SHALA DARPAN DATA'!D1381","v":0},{"$f":"'SHALA DARPAN DATA'!J1381","v":0},{"$f":"'SHALA DARPAN DATA'!T1381","v":0},{"$f":"'SHALA DARPAN DATA'!V1381","v":0},{"$f":"'SHALA DARPAN DATA'!K1381","v":0},{"$f":"'SHALA DARPAN DATA'!E1381","v":0},{"$f":"'SHALA DARPAN DATA'!G1381","v":0},{"$f":"'SHALA DARPAN DATA'!H1381","v":0},{"$f":"'SHALA DARPAN DATA'!W1381","v":0},{"$f":"'SHALA DARPAN DATA'!R1381","v":0},{"$f":"'SHALA DARPAN DATA'!S1381","v":0},{"$f":"'SHALA DARPAN DATA'!O1381","v":0},0,0,0,0,0,0,0,0,0,0,0]
[{"$f":"'SHALA DARPAN DATA'!C1386","v":0},{"$f":"'SHALA DARPAN DATA'!A1386","v":0},{"$f":"'SHALA DARPAN DATA'!B1386","v":0},{"$f":"'SHALA DARPAN DATA'!D1386","v":0},{"$f":"'SHALA DARPAN DATA'!J1386","v":0},{"$f":"'SHALA DARPAN DATA'!T1386","v":0},{"$f":"'SHALA DARPAN DATA'!V1386","v":0},{"$f":"'SHALA DARPAN DATA'!K1386","v":0},{"$f":"'SHALA DARPAN DATA'!E1386","v":0},{"$f":"'SHALA DARPAN DATA'!G1386","v":0},{"$f":"'SHALA DARPAN DATA'!H1386","v":0},{"$f":"'SHALA DARPAN DATA'!W1386","v":0},{"$f":"'SHALA DARPAN DATA'!R1386","v":0},{"$f":"'SHALA DARPAN DATA'!S1386","v":0},{"$f":"'SHALA DARPAN DATA'!O1386","v":0},0,0,0,0,0,0,0,0,0,0,0]
[{"$f":"'SHALA DARPAN DATA'!C1387","v":0},{"$f":"'SHALA DARPAN DATA'!A1387","v":0},{"$f":"'SHALA DARPAN DATA'!B1387","v":0},{"$f":"'SHALA DARPAN DATA'!D1387","v":0},{"$f":"'SHALA DARPAN DATA'!J1387","v":0},{"$f":"'SHALA DARPAN DATA'!T1387","v":0},{"$f":"'SHALA DARPAN DATA'!V1387","v":0},{"$f":"'SHALA DARPAN DATA'!K1387","v":0},{"$f":"'SHALA DARPAN DATA'!E1387","v":0},{"$f":"'SHALA DARPAN DATA'!G1387","v":0},{"$f":"'SHALA DARPAN DATA'!H1387","v":0},{"$f":"'SHALA DARPAN DATA'!W1387","v":0},{"$f":"'SHALA DARPAN DATA'!R1387","v":0},{"$f":"'SHALA DARPAN DATA'!S1387","v":0},{"$f":"'SHALA DARPAN DATA'!O1387","v":0},0,0,0,0,0,0,0,0,0,0,0]
[{"$f":"'SHALA DARPAN DATA'!C1392","v":0},{"$f":"'SHALA DARPAN DATA'!A1392","v":0},{"$f":"'SHALA DARPAN DATA'!B1392","v":0},{"$f":"'SHALA DARPAN DATA'!D1392","v":0},{"$f":"'SHALA DARPAN DATA'!J1392","v":0},{"$f":"'SHALA DARPAN DATA'!T1392","v":0},{"$f":"'SHALA DARPAN DATA'!V1392","v":0},{"$f":"'SHALA DARPAN DATA'!K1392","v":0},{"$f":"'SHALA DARPAN DATA'!E1392","v":0},{"$f":"'SHALA DARPAN DATA'!G1392","v":0},{"$f":"'SHALA DARPAN DATA'!H1392","v":0},{"$f":"'SHALA DARPAN DATA'!W1392","v":0},{"$f":"'SHALA DARPAN DATA'!R1392","v":0},{"$f":"'SHALA DARPAN DATA'!S1392","v":0},{"$f":"'SHALA DARPAN DATA'!O1392","v":0},0,0,0,0,0,0,0,0,0,0,0]
[{"$f":"'SHALA DARPAN DATA'!C1396","v":0},{"$f":"'SHALA DARPAN DATA'!A1396","v":0},{"$f":"'SHALA DARPAN DATA'!B1396","v":0},{"$f":"'SHALA DARPAN DATA'!D1396","v":0},{"$f":"'SHALA DARPAN DATA'!J1396","v":0},{"$f":"'SHALA DARPAN DATA'!T1396","v":0},{"$f":"'SHALA DARPAN DATA'!V1396","v":0},{"$f":"'SHALA DARPAN DATA'!K1396","v":0},{"$f":"'SHALA DARPAN DATA'!E1396","v":0},{"$f":"'SHALA DARPAN DATA'!G1396","v":0},{"$f":"'SHALA DARPAN DATA'!H1396","v":0},{"$f":"'SHALA DARPAN DATA'!W1396","v":0},{"$f":"'SHALA DARPAN DATA'!R1396","v":0},{"$f":"'SHALA DARPAN DATA'!S1396","v":0},{"$f":"'SHALA DARPAN DATA'!O1396","v":0},0,0,0,0,0,0,0,0,0,0,0]
[{"$f":"'SHALA DARPAN DATA'!C1401","v":0},{"$f":"'SHALA DARPAN DATA'!A1401","v":0},{"$f":"'SHALA DARPAN DATA'!B1401","v":0},{"$f":"'SHALA DARPAN DATA'!D1401","v":0},{"$f":"'SHALA DARPAN DATA'!J1401","v":0},{"$f":"'SHALA DARPAN DATA'!T1401","v":0},{"$f":"'SHALA DARPAN DATA'!V1401","v":0},{"$f":"'SHALA DARPAN DATA'!K1401","v":0},{"$f":"'SHALA DARPAN DATA'!E1401","v":0},{"$f":"'SHALA DARPAN DATA'!G1401","v":0},{"$f":"'SHALA DARPAN DATA'!H1401","v":0},{"$f":"'SHALA DARPAN DATA'!W1401","v":0},{"$f":"'SHALA DARPAN DATA'!R1401","v":0},{"$f":"'SHALA DARPAN DATA'!S1401","v":0},{"$f":"'SHALA DARPAN DATA'!O1401","v":0},0,0,0,0,0,0,0,0,0,0,0]
[{"$f":"'SHALA DARPAN DATA'!C1402","v":0},{"$f":"'SHALA DARPAN DATA'!A1402","v":0},{"$f":"'SHALA DARPAN DATA'!B1402","v":0},{"$f":"'SHALA DARPAN DATA'!D1402","v":0},{"$f":"'SHALA DARPAN DATA'!J1402","v":0},{"$f":"'SHALA DARPAN DATA'!T1402","v":0},{"$f":"'SHALA DARPAN DATA'!V1402","v":0},{"$f":"'SHALA DARPAN DATA'!K1402","v":0},{"$f":"'SHALA DARPAN DATA'!E1402","v":0},{"$f":"'SHALA DARPAN DATA'!G1402","v":0},{"$f":"'SHALA DARPAN DATA'!H1402","v":0},{"$f":"'SHALA DARPAN DATA'!W1402","v":0},{"$f":"'SHALA DARPAN DATA'!R1402","v":0},{"$f":"'SHALA DARPAN DATA'!S1402","v":0},{"$f":"'SHALA DARPAN DATA'!O1402","v":0},0,0,0,0,0,0,0,0,0,0,0]
[{"$f":"'SHALA DARPAN DATA'!C1406","v":0},{"$f":"'SHALA DARPAN DATA'!A1406","v":0},{"$f":"'SHALA DARPAN DATA'!B1406","v":0},{"$f":"'SHALA DARPAN DATA'!D1406","v":0},{"$f":"'SHALA DARPAN DATA'!J1406","v":0},{"$f":"'SHALA DARPAN DATA'!T1406","v":0},{"$f":"'SHALA DARPAN DATA'!V1406","v":0},{"$f":"'SHALA DARPAN DATA'!K1406","v":0},{"$f":"'SHALA DARPAN DATA'!E1406","v":0},{"$f":"'SHALA DARPAN DATA'!G1406","v":0},{"$f":"'SHALA DARPAN DATA'!H1406","v":0},{"$f":"'SHALA DARPAN DATA'!W1406","v":0},{"$f":"'SHALA DARPAN DATA'!R1406","v":0},{"$f":"'SHALA DARPAN DATA'!S1406","v":0},{"$f":"'SHALA DARPAN DATA'!O1406","v":0},0,0,0,0,0,0,0,0,0,0,0]
[{"$f":"'SHALA DARPAN DATA'!C1411","v":0},{"$f":"'SHALA DARPAN DATA'!A1411","v":0},{"$f":"'SHALA DARPAN DATA'!B1411","v":0},{"$f":"'SHALA DARPAN DATA'!D1411","v":0},{"$f":"'SHALA DARPAN DATA'!J1411","v":0},{"$f":"'SHALA DARPAN DATA'!T1411","v":0},{"$f":"'SHALA DARPAN DATA'!V1411","v":0},{"$f":"'SHALA DARPAN DATA'!K1411","v":0},{"$f":"'SHALA DARPAN DATA'!E1411","v":0},{"$f":"'SHALA DARPAN DATA'!G1411","v":0},{"$f":"'SHALA DARPAN DATA'!H1411","v":0},{"$f":"'SHALA DARPAN DATA'!W1411","v":0},{"$f":"'SHALA DARPAN DATA'!R1411","v":0},{"$f":"'SHALA DARPAN DATA'!S1411","v":0},{"$f":"'SHALA DARPAN DATA'!O1411","v":0},0,0,0,0,0,0,0,0,0,0,0]
[{"$f":"'SHALA DARPAN DATA'!C1416","v":0},{"$f":"'SHALA DARPAN DATA'!A1416","v":0},{"$f":"'SHALA DARPAN DATA'!B1416","v":0},{"$f":"'SHALA DARPAN DATA'!D1416","v":0},{"$f":"'SHALA DARPAN DATA'!J1416","v":0},{"$f":"'SHALA DARPAN DATA'!T1416","v":0},{"$f":"'SHALA DARPAN DATA'!V1416","v":0},{"$f":"'SHALA DARPAN DATA'!K1416","v":0},{"$f":"'SHALA DARPAN DATA'!E1416","v":0},{"$f":"'SHALA DARPAN DATA'!G1416","v":0},{"$f":"'SHALA DARPAN DATA'!H1416","v":0},{"$f":"'SHALA DARPAN DATA'!W1416","v":0},{"$f":"'SHALA DARPAN DATA'!R1416","v":0},{"$f":"'SHALA DARPAN DATA'!S1416","v":0},{"$f":"'SHALA DARPAN DATA'!O1416","v":0},0,0,0,0,0,0,0,0,0,0,0]
[{"$f":"'SHALA DARPAN DATA'!C1417","v":0},{"$f":"'SHALA DARPAN DATA'!A1417","v":0},{"$f":"'SHALA DARPAN DATA'!B1417","v":0},{"$f":"'SHALA DARPAN DATA'!D1417","v":0},{"$f":"'SHALA DARPAN DATA'!J1417","v":0},{"$f":"'SHALA DARPAN DATA'!T1417","v":0},{"$f":"'SHALA DARPAN DATA'!V1417","v":0},{"$f":"'SHALA DARPAN DATA'!K1417","v":0},{"$f":"'SHALA DARPAN DATA'!E1417","v":0},{"$f":"'SHALA DARPAN DATA'!G1417","v":0},{"$f":"'SHALA DARPAN DATA'!H1417","v":0},{"$f":"'SHALA DARPAN DATA'!W1417","v":0},{"$f":"'SHALA DARPAN DATA'!R1417","v":0},{"$f":"'SHALA DARPAN DATA'!S1417","v":0},{"$f":"'SHALA DARPAN DATA'!O1417","v":0},0,0,0,0,0,0,0,0,0,0,0]
[{"$f":"'SHALA DARPAN DATA'!C1422","v":0},{"$f":"'SHALA DARPAN DATA'!A1422","v":0},{"$f":"'SHALA DARPAN DATA'!B1422","v":0},{"$f":"'SHALA DARPAN DATA'!D1422","v":0},{"$f":"'SHALA DARPAN DATA'!J1422","v":0},{"$f":"'SHALA DARPAN DATA'!T1422","v":0},{"$f":"'SHALA DARPAN DATA'!V1422","v":0},{"$f":"'SHALA DARPAN DATA'!K1422","v":0},{"$f":"'SHALA DARPAN DATA'!E1422","v":0},{"$f":"'SHALA DARPAN DATA'!G1422","v":0},{"$f":"'SHALA DARPAN DATA'!H1422","v":0},{"$f":"'SHALA DARPAN DATA'!W1422","v":0},{"$f":"'SHALA DARPAN DATA'!R1422","v":0},{"$f":"'SHALA DARPAN DATA'!S1422","v":0},{"$f":"'SHALA DARPAN DATA'!O1422","v":0},0,0,0,0,0,0,0,0,0,0,0]
[{"$f":"'SHALA DARPAN DATA'!C1426","v":0},{"$f":"'SHALA DARPAN DATA'!A1426","v":0},{"$f":"'SHALA DARPAN DATA'!B1426","v":0},{"$f":"'SHALA DARPAN DATA'!D1426","v":0},{"$f":"'SHALA DARPAN DATA'!J1426","v":0},{"$f":"'SHALA DARPAN DATA'!T1426","v":0},{"$f":"'SHALA DARPAN DATA'!V1426","v":0},{"$f":"'SHALA DARPAN DATA'!K1426","v":0},{"$f":"'SHALA DARPAN DATA'!E1426","v":0},{"$f":"'SHALA DARPAN DATA'!G1426","v":0},{"$f":"'SHALA DARPAN DATA'!H1426","v":0},{"$f":"'SHALA DARPAN DATA'!W1426","v":0},{"$f":"'SHALA DARPAN DATA'!R1426","v":0},{"$f":"'SHALA DARPAN DATA'!S1426","v":0},{"$f":"'SHALA DARPAN DATA'!O1426","v":0},0,0,0,0,0,0,0,0,0,0,0]
[{"$f":"'SHALA DARPAN DATA'!C1431","v":0},{"$f":"'SHALA DARPAN DATA'!A1431","v":0},{"$f":"'SHALA DARPAN DATA'!B1431","v":0},{"$f":"'SHALA DARPAN DATA'!D1431","v":0},{"$f":"'SHALA DARPAN DATA'!J1431","v":0},{"$f":"'SHALA DARPAN DATA'!T1431","v":0},{"$f":"'SHALA DARPAN DATA'!V1431","v":0},{"$f":"'SHALA DARPAN DATA'!K1431","v":0},{"$f":"'SHALA DARPAN DATA'!E1431","v":0},{"$f":"'SHALA DARPAN DATA'!G1431","v":0},{"$f":"'SHALA DARPAN DATA'!H1431","v":0},{"$f":"'SHALA DARPAN DATA'!W1431","v":0},{"$f":"'SHALA DARPAN DATA'!R1431","v":0},{"$f":"'SHALA DARPAN DATA'!S1431","v":0},{"$f":"'SHALA DARPAN DATA'!O1431","v":0},0,0,0,0,0,0,0,0,0,0,0]
[{"$f":"'SHALA DARPAN DATA'!C1432","v":0},{"$f":"'SHALA DARPAN DATA'!A1432","v":0},{"$f":"'SHALA DARPAN DATA'!B1432","v":0},{"$f":"'SHALA DARPAN DATA'!D1432","v":0},{"$f":"'SHALA DARPAN DATA'!J1432","v":0},{"$f":"'SHALA DARPAN DATA'!T1432","v":0},{"$f":"'SHALA DARPAN DATA'!V1432","v":0},{"$f":"'SHALA DARPAN DATA'!K1432","v":0},{"$f":"'SHALA DARPAN DATA'!E1432","v":0},{"$f":"'SHALA DARPAN DATA'!G1432","v":0},{"$f":"'SHALA DARPAN DATA'!H1432","v":0},{"$f":"'SHALA DARPAN DATA'!W1432","v":0},{"$f":"'SHALA DARPAN DATA'!R1432","v":0},{"$f":"'SHALA DARPAN DATA'!S1432","v":0},{"$f":"'SHALA DARPAN DATA'!O1432","v":0},0,0,0,0,0,0,0,0,0,0,0]
[{"$f":"'SHALA DARPAN DATA'!C1436","v":0},{"$f":"'SHALA DARPAN DATA'!A1436","v":0},{"$f":"'SHALA DARPAN DATA'!B1436","v":0},{"$f":"'SHALA DARPAN DATA'!D1436","v":0},{"$f":"'SHALA DARPAN DATA'!J1436","v":0},{"$f":"'SHALA DARPAN DATA'!T1436","v":0},{"$f":"'SHALA DARPAN DATA'!V1436","v":0},{"$f":"'SHALA DARPAN DATA'!K1436","v":0},{"$f":"'SHALA DARPAN DATA'!E1436","v":0},{"$f":"'SHALA DARPAN DATA'!G1436","v":0},{"$f":"'SHALA DARPAN DATA'!H1436","v":0},{"$f":"'SHALA DARPAN DATA'!W1436","v":0},{"$f":"'SHALA DARPAN DATA'!R1436","v":0},{"$f":"'SHALA DARPAN DATA'!S1436","v":0},{"$f":"'SHALA DARPAN DATA'!O1436","v":0},0,0,0,0,0,0,0,0,0,0,0]
[{"$f":"'SHALA DARPAN DATA'!C1441","v":0},{"$f":"'SHALA DARPAN DATA'!A1441","v":0},{"$f":"'SHALA DARPAN DATA'!B1441","v":0},{"$f":"'SHALA DARPAN DATA'!D1441","v":0},{"$f":"'SHALA DARPAN DATA'!J1441","v":0},{"$f":"'SHALA DARPAN DATA'!T1441","v":0},{"$f":"'SHALA DARPAN DATA'!V1441","v":0},{"$f":"'SHALA DARPAN DATA'!K1441","v":0},{"$f":"'SHALA DARPAN DATA'!E1441","v":0},{"$f":"'SHALA DARPAN DATA'!G1441","v":0},{"$f":"'SHALA DARPAN DATA'!H1441","v":0},{"$f":"'SHALA DARPAN DATA'!W1441","v":0},{"$f":"'SHALA DARPAN DATA'!R1441","v":0},{"$f":"'SHALA DARPAN DATA'!S1441","v":0},{"$f":"'SHALA DARPAN DATA'!O1441","v":0},0,0,0,0,0,0,0,0,0,0,0]
[{"$f":"'SHALA DARPAN DATA'!C1446","v":0},{"$f":"'SHALA DARPAN DATA'!A1446","v":0},{"$f":"'SHALA DARPAN DATA'!B1446","v":0},{"$f":"'SHALA DARPAN DATA'!D1446","v":0},{"$f":"'SHALA DARPAN DATA'!J1446","v":0},{"$f":"'SHALA DARPAN DATA'!T1446","v":0},{"$f":"'SHALA DARPAN DATA'!V1446","v":0},{"$f":"'SHALA DARPAN DATA'!K1446","v":0},{"$f":"'SHALA DARPAN DATA'!E1446","v":0},{"$f":"'SHALA DARPAN DATA'!G1446","v":0},{"$f":"'SHALA DARPAN DATA'!H1446","v":0},{"$f":"'SHALA DARPAN DATA'!W1446","v":0},{"$f":"'SHALA DARPAN DATA'!R1446","v":0},{"$f":"'SHALA DARPAN DATA'!S1446","v":0},{"$f":"'SHALA DARPAN DATA'!O1446","v":0},0,0,0,0,0,0,0,0,0,0,0]
[{"$f":"'SHALA DARPAN DATA'!C1447","v":0},{"$f":"'SHALA DARPAN DATA'!A1447","v":0},{"$f":"'SHALA DARPAN DATA'!B1447","v":0},{"$f":"'SHALA DARPAN DATA'!D1447","v":0},{"$f":"'SHALA DARPAN DATA'!J1447","v":0},{"$f":"'SHALA DARPAN DATA'!T1447","v":0},{"$f":"'SHALA DARPAN DATA'!V1447","v":0},{"$f":"'SHALA DARPAN DATA'!K1447","v":0},{"$f":"'SHALA DARPAN DATA'!E1447","v":0},{"$f":"'SHALA DARPAN DATA'!G1447","v":0},{"$f":"'SHALA DARPAN DATA'!H1447","v":0},{"$f":"'SHALA DARPAN DATA'!W1447","v":0},{"$f":"'SHALA DARPAN DATA'!R1447","v":0},{"$f":"'SHALA DARPAN DATA'!S1447","v":0},{"$f":"'SHALA DARPAN DATA'!O1447","v":0},0,0,0,0,0,0,0,0,0,0,0]
[{"$f":"'SHALA DARPAN DATA'!C1452","v":0},{"$f":"'SHALA DARPAN DATA'!A1452","v":0},{"$f":"'SHALA DARPAN DATA'!B1452","v":0},{"$f":"'SHALA DARPAN DATA'!D1452","v":0},{"$f":"'SHALA DARPAN DATA'!J1452","v":0},{"$f":"'SHALA DARPAN DATA'!T1452","v":0},{"$f":"'SHALA DARPAN DATA'!V1452","v":0},{"$f":"'SHALA DARPAN DATA'!K1452","v":0},{"$f":"'SHALA DARPAN DATA'!E1452","v":0},{"$f":"'SHALA DARPAN DATA'!G1452","v":0},{"$f":"'SHALA DARPAN DATA'!H1452","v":0},{"$f":"'SHALA DARPAN DATA'!W1452","v":0},{"$f":"'SHALA DARPAN DATA'!R1452","v":0},{"$f":"'SHALA DARPAN DATA'!S1452","v":0},{"$f":"'SHALA DARPAN DATA'!O1452","v":0},0,0,0,0,0,0,0,0,0,0,0]
[{"$f":"'SHALA DARPAN DATA'!C1456","v":0},{"$f":"'SHALA DARPAN DATA'!A1456","v":0},{"$f":"'SHALA DARPAN DATA'!B1456","v":0},{"$f":"'SHALA DARPAN DATA'!D1456","v":0},{"$f":"'SHALA DARPAN DATA'!J1456","v":0},{"$f":"'SHALA DARPAN DATA'!T1456","v":0},{"$f":"'SHALA DARPAN DATA'!V1456","v":0},{"$f":"'SHALA DARPAN DATA'!K1456","v":0},{"$f":"'SHALA DARPAN DATA'!E1456","v":0},{"$f":"'SHALA DARPAN DATA'!G1456","v":0},{"$f":"'SHALA DARPAN DATA'!H1456","v":0},{"$f":"'SHALA DARPAN DATA'!W1456","v":0},{"$f":"'SHALA DARPAN DATA'!R1456","v":0},{"$f":"'SHALA DARPAN DATA'!S1456","v":0},{"$f":"'SHALA DARPAN DATA'!O1456","v":0},0,0,0,0,0,0,0,0,0,0,0]
[{"$f":"'SHALA DARPAN DATA'!C1461","v":0},{"$f":"'SHALA DARPAN DATA'!A1461","v":0},{"$f":"'SHALA DARPAN DATA'!B1461","v":0},{"$f":"'SHALA DARPAN DATA'!D1461","v":0},{"$f":"'SHALA DARPAN DATA'!J1461","v":0},{"$f":"'SHALA DARPAN DATA'!T1461","v":0},{"$f":"'SHALA DARPAN DATA'!V1461","v":0},{"$f":"'SHALA DARPAN DATA'!K1461","v":0},{"$f":"'SHALA DARPAN DATA'!E1461","v":0},{"$f":"'SHALA DARPAN DATA'!G1461","v":0},{"$f":"'SHALA DARPAN DATA'!H1461","v":0},{"$f":"'SHALA DARPAN DATA'!W1461","v":0},{"$f":"'SHALA DARPAN DATA'!R1461","v":0},{"$f":"'SHALA DARPAN DATA'!S1461","v":0},{"$f":"'SHALA DARPAN DATA'!O1461","v":0},0,0,0,0,0,0,0,0,0,0,0]
[{"$f":"'SHALA DARPAN DATA'!C1462","v":0},{"$f":"'SHALA DARPAN DATA'!A1462","v":0},{"$f":"'SHALA DARPAN DATA'!B1462","v":0},{"$f":"'SHALA DARPAN DATA'!D1462","v":0},{"$f":"'SHALA DARPAN DATA'!J1462","v":0},{"$f":"'SHALA DARPAN DATA'!T1462","v":0},{"$f":"'SHALA DARPAN DATA'!V1462","v":0},{"$f":"'SHALA DARPAN DATA'!K1462","v":0},{"$f":"'SHALA DARPAN DATA'!E1462","v":0},{"$f":"'SHALA DARPAN DATA'!G1462","v":0},{"$f":"'SHALA DARPAN DATA'!H1462","v":0},{"$f":"'SHALA DARPAN DATA'!W1462","v":0},{"$f":"'SHALA DARPAN DATA'!R1462","v":0},{"$f":"'SHALA DARPAN DATA'!S1462","v":0},{"$f":"'SHALA DARPAN DATA'!O1462","v":0},0,0,0,0,0,0,0,0,0,0,0]
[{"$f":"'SHALA DARPAN DATA'!C1466","v":0},{"$f":"'SHALA DARPAN DATA'!A1466","v":0},{"$f":"'SHALA DARPAN DATA'!B1466","v":0},{"$f":"'SHALA DARPAN DATA'!D1466","v":0},{"$f":"'SHALA DARPAN DATA'!J1466","v":0},{"$f":"'SHALA DARPAN DATA'!T1466","v":0},{"$f":"'SHALA DARPAN DATA'!V1466","v":0},{"$f":"'SHALA DARPAN DATA'!K1466","v":0},{"$f":"'SHALA DARPAN DATA'!E1466","v":0},{"$f":"'SHALA DARPAN DATA'!G1466","v":0},{"$f":"'SHALA DARPAN DATA'!H1466","v":0},{"$f":"'SHALA DARPAN DATA'!W1466","v":0},{"$f":"'SHALA DARPAN DATA'!R1466","v":0},{"$f":"'SHALA DARPAN DATA'!S1466","v":0},{"$f":"'SHALA DARPAN DATA'!O1466","v":0},0,0,0,0,0,0,0,0,0,0,0]
[{"$f":"'SHALA DARPAN DATA'!C1471","v":0},{"$f":"'SHALA DARPAN DATA'!A1471","v":0},{"$f":"'SHALA DARPAN DATA'!B1471","v":0},{"$f":"'SHALA DARPAN DATA'!D1471","v":0},{"$f":"'SHALA DARPAN DATA'!J1471","v":0},{"$f":"'SHALA DARPAN DATA'!T1471","v":0},{"$f":"'SHALA DARPAN DATA'!V1471","v":0},{"$f":"'SHALA DARPAN DATA'!K1471","v":0},{"$f":"'SHALA DARPAN DATA'!E1471","v":0},{"$f":"'SHALA DARPAN DATA'!G1471","v":0},{"$f":"'SHALA DARPAN DATA'!H1471","v":0},{"$f":"'SHALA DARPAN DATA'!W1471","v":0},{"$f":"'SHALA DARPAN DATA'!R1471","v":0},{"$f":"'SHALA DARPAN DATA'!S1471","v":0},{"$f":"'SHALA DARPAN DATA'!O1471","v":0},0,0,0,0,0,0,0,0,0,0,0]
[{"$f":"'SHALA DARPAN DATA'!C1476","v":0},{"$f":"'SHALA DARPAN DATA'!A1476","v":0},{"$f":"'SHALA DARPAN DATA'!B1476","v":0},{"$f":"'SHALA DARPAN DATA'!D1476","v":0},{"$f":"'SHALA DARPAN DATA'!J1476","v":0},{"$f":"'SHALA DARPAN DATA'!T1476","v":0},{"$f":"'SHALA DARPAN DATA'!V1476","v":0},{"$f":"'SHALA DARPAN DATA'!K1476","v":0},{"$f":"'SHALA DARPAN DATA'!E1476","v":0},{"$f":"'SHALA DARPAN DATA'!G1476","v":0},{"$f":"'SHALA DARPAN DATA'!H1476","v":0},{"$f":"'SHALA DARPAN DATA'!W1476","v":0},{"$f":"'SHALA DARPAN DATA'!R1476","v":0},{"$f":"'SHALA DARPAN DATA'!S1476","v":0},{"$f":"'SHALA DARPAN DATA'!O1476","v":0},0,0,0,0,0,0,0,0,0,0,0]
[{"$f":"'SHALA DARPAN DATA'!C1477","v":0},{"$f":"'SHALA DARPAN DATA'!A1477","v":0},{"$f":"'SHALA DARPAN DATA'!B1477","v":0},{"$f":"'SHALA DARPAN DATA'!D1477","v":0},{"$f":"'SHALA DARPAN DATA'!J1477","v":0},{"$f":"'SHALA DARPAN DATA'!T1477","v":0},{"$f":"'SHALA DARPAN DATA'!V1477","v":0},{"$f":"'SHALA DARPAN DATA'!K1477","v":0},{"$f":"'SHALA DARPAN DATA'!E1477","v":0},{"$f":"'SHALA DARPAN DATA'!G1477","v":0},{"$f":"'SHALA DARPAN DATA'!H1477","v":0},{"$f":"'SHALA DARPAN DATA'!W1477","v":0},{"$f":"'SHALA DARPAN DATA'!R1477","v":0},{"$f":"'SHALA DARPAN DATA'!S1477","v":0},{"$f":"'SHALA DARPAN DATA'!O1477","v":0},0,0,0,0,0,0,0,0,0,0,0]
[{"$f":"'SHALA DARPAN DATA'!C1482","v":0},{"$f":"'SHALA DARPAN DATA'!A1482","v":0},{"$f":"'SHALA DARPAN DATA'!B1482","v":0},{"$f":"'SHALA DARPAN DATA'!D1482","v":0},{"$f":"'SHALA DARPAN DATA'!J1482","v":0},{"$f":"'SHALA DARPAN DATA'!T1482","v":0},{"$f":"'SHALA DARPAN DATA'!V1482","v":0},{"$f":"'SHALA DARPAN DATA'!K1482","v":0},{"$f":"'SHALA DARPAN DATA'!E1482","v":0},{"$f":"'SHALA DARPAN DATA'!G1482","v":0},{"$f":"'SHALA DARPAN DATA'!H1482","v":0},{"$f":"'SHALA DARPAN DATA'!W1482","v":0},{"$f":"'SHALA DARPAN DATA'!R1482","v":0},{"$f":"'SHALA DARPAN DATA'!S1482","v":0},{"$f":"'SHALA DARPAN DATA'!O1482","v":0},0,0,0,0,0,0,0,0,0,0,0]
[{"$f":"'SHALA DARPAN DATA'!C1486","v":0},{"$f":"'SHALA DARPAN DATA'!A1486","v":0},{"$f":"'SHALA DARPAN DATA'!B1486","v":0},{"$f":"'SHALA DARPAN DATA'!D1486","v":0},{"$f":"'SHALA DARPAN DATA'!J1486","v":0},{"$f":"'SHALA DARPAN DATA'!T1486","v":0},{"$f":"'SHALA DARPAN DATA'!V1486","v":0},{"$f":"'SHALA DARPAN DATA'!K1486","v":0},{"$f":"'SHALA DARPAN DATA'!E1486","v":0},{"$f":"'SHALA DARPAN DATA'!G1486","v":0},{"$f":"'SHALA DARPAN DATA'!H1486","v":0},{"$f":"'SHALA DARPAN DATA'!W1486","v":0},{"$f":"'SHALA DARPAN DATA'!R1486","v":0},{"$f":"'SHALA DARPAN DATA'!S1486","v":0},{"$f":"'SHALA DARPAN DATA'!O1486","v":0},0,0,0,0,0,0,0,0,0,0,0]
[{"$f":"'SHALA DARPAN DATA'!C1491","v":0},{"$f":"'SHALA DARPAN DATA'!A1491","v":0},{"$f":"'SHALA DARPAN DATA'!B1491","v":0},{"$f":"'SHALA DARPAN DATA'!D1491","v":0},{"$f":"'SHALA DARPAN DATA'!J1491","v":0},{"$f":"'SHALA DARPAN DATA'!T1491","v":0},{"$f":"'SHALA DARPAN DATA'!V1491","v":0},{"$f":"'SHALA DARPAN DATA'!K1491","v":0},{"$f":"'SHALA DARPAN DATA'!E1491","v":0},{"$f":"'SHALA DARPAN DATA'!G1491","v":0},{"$f":"'SHALA DARPAN DATA'!H1491","v":0},{"$f":"'SHALA DARPAN DATA'!W1491","v":0},{"$f":"'SHALA DARPAN DATA'!R1491","v":0},{"$f":"'SHALA DARPAN DATA'!S1491","v":0},{"$f":"'SHALA DARPAN DATA'!O1491","v":0},0,0,0,0,0,0,0,0,0,0,0]
[{"$f":"'SHALA DARPAN DATA'!C1492","v":0},{"$f":"'SHALA DARPAN DATA'!A1492","v":0},{"$f":"'SHALA DARPAN DATA'!B1492","v":0},{"$f":"'SHALA DARPAN DATA'!D1492","v":0},{"$f":"'SHALA DARPAN DATA'!J1492","v":0},{"$f":"'SHALA DARPAN DATA'!T1492","v":0},{"$f":"'SHALA DARPAN DATA'!V1492","v":0},{"$f":"'SHALA DARPAN DATA'!K1492","v":0},{"$f":"'SHALA DARPAN DATA'!E1492","v":0},{"$f":"'SHALA DARPAN DATA'!G1492","v":0},{"$f":"'SHALA DARPAN DATA'!H1492","v":0},{"$f":"'SHALA DARPAN DATA'!W1492","v":0},{"$f":"'SHALA DARPAN DATA'!R1492","v":0},{"$f":"'SHALA DARPAN DATA'!S1492","v":0},{"$f":"'SHALA DARPAN DATA'!O1492","v":0},0,0,0,0,0,0,0,0,0,0,0]
[{"$f":"'SHALA DARPAN DATA'!C1496","v":0},{"$f":"'SHALA DARPAN DATA'!A1496","v":0},{"$f":"'SHALA DARPAN DATA'!B1496","v":0},{"$f":"'SHALA DARPAN DATA'!D1496","v":0},{"$f":"'SHALA DARPAN DATA'!J1496","v":0},{"$f":"'SHALA DARPAN DATA'!T1496","v":0},{"$f":"'SHALA DARPAN DATA'!V1496","v":0},{"$f":"'SHALA DARPAN DATA'!K1496","v":0},{"$f":"'SHALA DARPAN DATA'!E1496","v":0},{"$f":"'SHALA DARPAN DATA'!G1496","v":0},{"$f":"'SHALA DARPAN DATA'!H1496","v":0},{"$f":"'SHALA DARPAN DATA'!W1496","v":0},{"$f":"'SHALA DARPAN DATA'!R1496","v":0},{"$f":"'SHALA DARPAN DATA'!S1496","v":0},{"$f":"'SHALA DARPAN DATA'!O1496","v":0},0,0,0,0,0,0,0,0,0,0,0]
[{"$f":"'SHALA DARPAN DATA'!C1501","v":0},{"$f":"'SHALA DARPAN DATA'!A1501","v":0},{"$f":"'SHALA DARPAN DATA'!B1501","v":0},{"$f":"'SHALA DARPAN DATA'!D1501","v":0},{"$f":"'SHALA DARPAN DATA'!J1501","v":0},{"$f":"'SHALA DARPAN DATA'!T1501","v":0},{"$f":"'SHALA DARPAN DATA'!V1501","v":0},{"$f":"'SHALA DARPAN DATA'!K1501","v":0},{"$f":"'SHALA DARPAN DATA'!E1501","v":0},{"$f":"'SHALA DARPAN DATA'!G1501","v":0},{"$f":"'SHALA DARPAN DATA'!H1501","v":0},{"$f":"'SHALA DARPAN DATA'!W1501","v":0},{"$f":"'SHALA DARPAN DATA'!R1501","v":0},{"$f":"'SHALA DARPAN DATA'!S1501","v":0},{"$f":"'SHALA DARPAN DATA'!O1501","v":0},0,0,0,0,0,0,0,0,0,0,0]
[{"$f":"'SHALA DARPAN DATA'!C1506","v":0},{"$f":"'SHALA DARPAN DATA'!A1506","v":0},{"$f":"'SHALA DARPAN DATA'!B1506","v":0},{"$f":"'SHALA DARPAN DATA'!D1506","v":0},{"$f":"'SHALA DARPAN DATA'!J1506","v":0},{"$f":"'SHALA DARPAN DATA'!T1506","v":0},{"$f":"'SHALA DARPAN DATA'!V1506","v":0},{"$f":"'SHALA DARPAN DATA'!K1506","v":0},{"$f":"'SHALA DARPAN DATA'!E1506","v":0},{"$f":"'SHALA DARPAN DATA'!G1506","v":0},{"$f":"'SHALA DARPAN DATA'!H1506","v":0},{"$f":"'SHALA DARPAN DATA'!W1506","v":0},{"$f":"'SHALA DARPAN DATA'!R1506","v":0},{"$f":"'SHALA DARPAN DATA'!S1506","v":0},{"$f":"'SHALA DARPAN DATA'!O1506","v":0},0,0,0,0,0,0,0,0,0,0,0]
[{"$f":"'SHALA DARPAN DATA'!C1507","v":0},{"$f":"'SHALA DARPAN DATA'!A1507","v":0},{"$f":"'SHALA DARPAN DATA'!B1507","v":0},{"$f":"'SHALA DARPAN DATA'!D1507","v":0},{"$f":"'SHALA DARPAN DATA'!J1507","v":0},{"$f":"'SHALA DARPAN DATA'!T1507","v":0},{"$f":"'SHALA DARPAN DATA'!V1507","v":0},{"$f":"'SHALA DARPAN DATA'!K1507","v":0},{"$f":"'SHALA DARPAN DATA'!E1507","v":0},{"$f":"'SHALA DARPAN DATA'!G1507","v":0},{"$f":"'SHALA DARPAN DATA'!H1507","v":0},{"$f":"'SHALA DARPAN DATA'!W1507","v":0},{"$f":"'SHALA DARPAN DATA'!R1507","v":0},{"$f":"'SHALA DARPAN DATA'!S1507","v":0},{"$f":"'SHALA DARPAN DATA'!O1507","v":0},0,0,0,0,0,0,0,0,0,0,0]
[{"$f":"'SHALA DARPAN DATA'!C1512","v":0},{"$f":"'SHALA DARPAN DATA'!A1512","v":0},{"$f":"'SHALA DARPAN DATA'!B1512","v":0},{"$f":"'SHALA DARPAN DATA'!D1512","v":0},{"$f":"'SHALA DARPAN DATA'!J1512","v":0},{"$f":"'SHALA DARPAN DATA'!T1512","v":0},{"$f":"'SHALA DARPAN DATA'!V1512","v":0},{"$f":"'SHALA DARPAN DATA'!K1512","v":0},{"$f":"'SHALA DARPAN DATA'!E1512","v":0},{"$f":"'SHALA DARPAN DATA'!G1512","v":0},{"$f":"'SHALA DARPAN DATA'!H1512","v":0},{"$f":"'SHALA DARPAN DATA'!W1512","v":0},{"$f":"'SHALA DARPAN DATA'!R1512","v":0},{"$f":"'SHALA DARPAN DATA'!S1512","v":0},{"$f":"'SHALA DARPAN DATA'!O1512","v":0},0,0,0,0,0,0,0,0,0,0,0]
[{"$f":"'SHALA DARPAN DATA'!C1516","v":0},{"$f":"'SHALA DARPAN DATA'!A1516","v":0},{"$f":"'SHALA DARPAN DATA'!B1516","v":0},{"$f":"'SHALA DARPAN DATA'!D1516","v":0},{"$f":"'SHALA DARPAN DATA'!J1516","v":0},{"$f":"'SHALA DARPAN DATA'!T1516","v":0},{"$f":"'SHALA DARPAN DATA'!V1516","v":0},{"$f":"'SHALA DARPAN DATA'!K1516","v":0},{"$f":"'SHALA DARPAN DATA'!E1516","v":0},{"$f":"'SHALA DARPAN DATA'!G1516","v":0},{"$f":"'SHALA DARPAN DATA'!H1516","v":0},{"$f":"'SHALA DARPAN DATA'!W1516","v":0},{"$f":"'SHALA DARPAN DATA'!R1516","v":0},{"$f":"'SHALA DARPAN DATA'!S1516","v":0},{"$f":"'SHALA DARPAN DATA'!O1516","v":0},0,0,0,0,0,0,0,0,0,0,0]
[{"$f":"'SHALA DARPAN DATA'!C1521","v":0},{"$f":"'SHALA DARPAN DATA'!A1521","v":0},{"$f":"'SHALA DARPAN DATA'!B1521","v":0},{"$f":"'SHALA DARPAN DATA'!D1521","v":0},{"$f":"'SHALA DARPAN DATA'!J1521","v":0},{"$f":"'SHALA DARPAN DATA'!T1521","v":0},{"$f":"'SHALA DARPAN DATA'!V1521","v":0},{"$f":"'SHALA DARPAN DATA'!K1521","v":0},{"$f":"'SHALA DARPAN DATA'!E1521","v":0},{"$f":"'SHALA DARPAN DATA'!G1521","v":0},{"$f":"'SHALA DARPAN DATA'!H1521","v":0},{"$f":"'SHALA DARPAN DATA'!W1521","v":0},{"$f":"'SHALA DARPAN DATA'!R1521","v":0},{"$f":"'SHALA DARPAN DATA'!S1521","v":0},{"$f":"'SHALA DARPAN DATA'!O1521","v":0},0,0,0,0,0,0,0,0,0,0,0]
[{"$f":"'SHALA DARPAN DATA'!C1522","v":0},{"$f":"'SHALA DARPAN DATA'!A1522","v":0},{"$f":"'SHALA DARPAN DATA'!B1522","v":0},{"$f":"'SHALA DARPAN DATA'!D1522","v":0},{"$f":"'SHALA DARPAN DATA'!J1522","v":0},{"$f":"'SHALA DARPAN DATA'!T1522","v":0},{"$f":"'SHALA DARPAN DATA'!V1522","v":0},{"$f":"'SHALA DARPAN DATA'!K1522","v":0},{"$f":"'SHALA DARPAN DATA'!E1522","v":0},{"$f":"'SHALA DARPAN DATA'!G1522","v":0},{"$f":"'SHALA DARPAN DATA'!H1522","v":0},{"$f":"'SHALA DARPAN DATA'!W1522","v":0},{"$f":"'SHALA DARPAN DATA'!R1522","v":0},{"$f":"'SHALA DARPAN DATA'!S1522","v":0},{"$f":"'SHALA DARPAN DATA'!O1522","v":0},0,0,0,0,0,0,0,0,0,0,0]
[{"$f":"'SHALA DARPAN DATA'!C1526","v":0},{"$f":"'SHALA DARPAN DATA'!A1526","v":0},{"$f":"'SHALA DARPAN DATA'!B1526","v":0},{"$f":"'SHALA DARPAN DATA'!D1526","v":0},{"$f":"'SHALA DARPAN DATA'!J1526","v":0},{"$f":"'SHALA DARPAN DATA'!T1526","v":0},{"$f":"'SHALA DARPAN DATA'!V1526","v":0},{"$f":"'SHALA DARPAN DATA'!K1526","v":0},{"$f":"'SHALA DARPAN DATA'!E1526","v":0},{"$f":"'SHALA DARPAN DATA'!G1526","v":0},{"$f":"'SHALA DARPAN DATA'!H1526","v":0},{"$f":"'SHALA DARPAN DATA'!W1526","v":0},{"$f":"'SHALA DARPAN DATA'!R1526","v":0},{"$f":"'SHALA DARPAN DATA'!S1526","v":0},{"$f":"'SHALA DARPAN DATA'!O1526","v":0},0,0,0,0,0,0,0,0,0,0,0]
[{"$f":"'SHALA DARPAN DATA'!C1531","v":0},{"$f":"'SHALA DARPAN DATA'!A1531","v":0},{"$f":"'SHALA DARPAN DATA'!B1531","v":0},{"$f":"'SHALA DARPAN DATA'!D1531","v":0},{"$f":"'SHALA DARPAN DATA'!J1531","v":0},{"$f":"'SHALA DARPAN DATA'!T1531","v":0},{"$f":"'SHALA DARPAN DATA'!V1531","v":0},{"$f":"'SHALA DARPAN DATA'!K1531","v":0},{"$f":"'SHALA DARPAN DATA'!E1531","v":0},{"$f":"'SHALA DARPAN DATA'!G1531","v":0},{"$f":"'SHALA DARPAN DATA'!H1531","v":0},{"$f":"'SHALA DARPAN DATA'!W1531","v":0},{"$f":"'SHALA DARPAN DATA'!R1531","v":0},{"$f":"'SHALA DARPAN DATA'!S1531","v":0},{"$f":"'SHALA DARPAN DATA'!O1531","v":0},0,0,0,0,0,0,0,0,0,0,0]
[{"$f":"'SHALA DARPAN DATA'!C1536","v":0},{"$f":"'SHALA DARPAN DATA'!A1536","v":0},{"$f":"'SHALA DARPAN DATA'!B1536","v":0},{"$f":"'SHALA DARPAN DATA'!D1536","v":0},{"$f":"'SHALA DARPAN DATA'!J1536","v":0},{"$f":"'SHALA DARPAN DATA'!T1536","v":0},{"$f":"'SHALA DARPAN DATA'!V1536","v":0},{"$f":"'SHALA DARPAN DATA'!K1536","v":0},{"$f":"'SHALA DARPAN DATA'!E1536","v":0},{"$f":"'SHALA DARPAN DATA'!G1536","v":0},{"$f":"'SHALA DARPAN DATA'!H1536","v":0},{"$f":"'SHALA DARPAN DATA'!W1536","v":0},{"$f":"'SHALA DARPAN DATA'!R1536","v":0},{"$f":"'SHALA DARPAN DATA'!S1536","v":0},{"$f":"'SHALA DARPAN DATA'!O1536","v":0},0,0,0,0,0,0,0,0,0,0,0]
[{"$f":"'SHALA DARPAN DATA'!C1537","v":0},{"$f":"'SHALA DARPAN DATA'!A1537","v":0},{"$f":"'SHALA DARPAN DATA'!B1537","v":0},{"$f":"'SHALA DARPAN DATA'!D1537","v":0},{"$f":"'SHALA DARPAN DATA'!J1537","v":0},{"$f":"'SHALA DARPAN DATA'!T1537","v":0},{"$f":"'SHALA DARPAN DATA'!V1537","v":0},{"$f":"'SHALA DARPAN DATA'!K1537","v":0},{"$f":"'SHALA DARPAN DATA'!E1537","v":0},{"$f":"'SHALA DARPAN DATA'!G1537","v":0},{"$f":"'SHALA DARPAN DATA'!H1537","v":0},{"$f":"'SHALA DARPAN DATA'!W1537","v":0},{"$f":"'SHALA DARPAN DATA'!R1537","v":0},{"$f":"'SHALA DARPAN DATA'!S1537","v":0},{"$f":"'SHALA DARPAN DATA'!O1537","v":0},0,0,0,0,0,0,0,0,0,0,0]
[{"$f":"'SHALA DARPAN DATA'!C1543","v":0},{"$f":"'SHALA DARPAN DATA'!A1543","v":0},{"$f":"'SHALA DARPAN DATA'!B1543","v":0},{"$f":"'SHALA DARPAN DATA'!D1543","v":0},{"$f":"'SHALA DARPAN DATA'!J1543","v":0},{"$f":"'SHALA DARPAN DATA'!T1543","v":0},{"$f":"'SHALA DARPAN DATA'!V1543","v":0},{"$f":"'SHALA DARPAN DATA'!K1543","v":0},{"$f":"'SHALA DARPAN DATA'!E1543","v":0},{"$f":"'SHALA DARPAN DATA'!G1543","v":0},{"$f":"'SHALA DARPAN DATA'!H1543","v":0},{"$f":"'SHALA DARPAN DATA'!W1543","v":0},{"$f":"'SHALA DARPAN DATA'!R1543","v":0},{"$f":"'SHALA DARPAN DATA'!S1543","v":0},{"$f":"'SHALA DARPAN DATA'!O1543","v":0},0,0,0,0,0,0,0,0,0,0,0]
[{"$f":"'SHALA DARPAN DATA'!C1546","v":0},{"$f":"'SHALA DARPAN DATA'!A1546","v":0},{"$f":"'SHALA DARPAN DATA'!B1546","v":0},{"$f":"'SHALA DARPAN DATA'!D1546","v":0},{"$f":"'SHALA DARPAN DATA'!J1546","v":0},{"$f":"'SHALA DARPAN DATA'!T1546","v":0},{"$f":"'SHALA DARPAN DATA'!V1546","v":0},{"$f":"'SHALA DARPAN DATA'!K1546","v":0},{"$f":"'SHALA DARPAN DATA'!E1546","v":0},{"$f":"'SHALA DARPAN DATA'!G1546","v":0},{"$f":"'SHALA DARPAN DATA'!H1546","v":0},{"$f":"'SHALA DARPAN DATA'!W1546","v":0},{"$f":"'SHALA DARPAN DATA'!R1546","v":0},{"$f":"'SHALA DARPAN DATA'!S1546","v":0},{"$f":"'SHALA DARPAN DATA'!O1546","v":0},0,0,0,0,0,0,0,0,0,0,0]
[{"$f":"'SHALA DARPAN DATA'!C1551","v":0},{"$f":"'SHALA DARPAN DATA'!A1551","v":0},{"$f":"'SHALA DARPAN DATA'!B1551","v":0},{"$f":"'SHALA DARPAN DATA'!D1551","v":0},{"$f":"'SHALA DARPAN DATA'!J1551","v":0},{"$f":"'SHALA DARPAN DATA'!T1551","v":0},{"$f":"'SHALA DARPAN DATA'!V1551","v":0},{"$f":"'SHALA DARPAN DATA'!K1551","v":0},{"$f":"'SHALA DARPAN DATA'!E1551","v":0},{"$f":"'SHALA DARPAN DATA'!G1551","v":0},{"$f":"'SHALA DARPAN DATA'!H1551","v":0},{"$f":"'SHALA DARPAN DATA'!W1551","v":0},{"$f":"'SHALA DARPAN DATA'!R1551","v":0},{"$f":"'SHALA DARPAN DATA'!S1551","v":0},{"$f":"'SHALA DARPAN DATA'!O1551","v":0},0,0,0,0,0,0,0,0,0,0,0]
[{"$f":"'SHALA DARPAN DATA'!C1552","v":0},{"$f":"'SHALA DARPAN DATA'!A1552","v":0},{"$f":"'SHALA DARPAN DATA'!B1552","v":0},{"$f":"'SHALA DARPAN DATA'!D1552","v":0},{"$f":"'SHALA DARPAN DATA'!J1552","v":0},{"$f":"'SHALA DARPAN DATA'!T1552","v":0},{"$f":"'SHALA DARPAN DATA'!V1552","v":0},{"$f":"'SHALA DARPAN DATA'!K1552","v":0},{"$f":"'SHALA DARPAN DATA'!E1552","v":0},{"$f":"'SHALA DARPAN DATA'!G1552","v":0},{"$f":"'SHALA DARPAN DATA'!H1552","v":0},{"$f":"'SHALA DARPAN DATA'!W1552","v":0},{"$f":"'SHALA DARPAN DATA'!R1552","v":0},{"$f":"'SHALA DARPAN DATA'!S1552","v":0},{"$f":"'SHALA DARPAN DATA'!O1552","v":0},0,0,0,0,0,0,0,0,0,0,0]
[{"$f":"'SHALA DARPAN DATA'!C1556","v":0},{"$f":"'SHALA DARPAN DATA'!A1556","v":0},{"$f":"'SHALA DARPAN DATA'!B1556","v":0},{"$f":"'SHALA DARPAN DATA'!D1556","v":0},{"$f":"'SHALA DARPAN DATA'!J1556","v":0},{"$f":"'SHALA DARPAN DATA'!T1556","v":0},{"$f":"'SHALA DARPAN DATA'!V1556","v":0},{"$f":"'SHALA DARPAN DATA'!K1556","v":0},{"$f":"'SHALA DARPAN DATA'!E1556","v":0},{"$f":"'SHALA DARPAN DATA'!G1556","v":0},{"$f":"'SHALA DARPAN DATA'!H1556","v":0},{"$f":"'SHALA DARPAN DATA'!W1556","v":0},{"$f":"'SHALA DARPAN DATA'!R1556","v":0},{"$f":"'SHALA DARPAN DATA'!S1556","v":0},{"$f":"'SHALA DARPAN DATA'!O1556","v":0},0,0,0,0,0,0,0,0,0,0,0]
[{"$f":"'SHALA DARPAN DATA'!C1561","v":0},{"$f":"'SHALA DARPAN DATA'!A1561","v":0},{"$f":"'SHALA DARPAN DATA'!B1561","v":0},{"$f":"'SHALA DARPAN DATA'!D1561","v":0},{"$f":"'SHALA DARPAN DATA'!J1561","v":0},{"$f":"'SHALA DARPAN DATA'!T1561","v":0},{"$f":"'SHALA DARPAN DATA'!V1561","v":0},{"$f":"'SHALA DARPAN DATA'!K1561","v":0},{"$f":"'SHALA DARPAN DATA'!E1561","v":0},{"$f":"'SHALA DARPAN DATA'!G1561","v":0},{"$f":"'SHALA DARPAN DATA'!H1561","v":0},{"$f":"'SHALA DARPAN DATA'!W1561","v":0},{"$f":"'SHALA DARPAN DATA'!R1561","v":0},{"$f":"'SHALA DARPAN DATA'!S1561","v":0},{"$f":"'SHALA DARPAN DATA'!O1561","v":0},0,0,0,0,0,0,0,0,0,0,0]
[{"$f":"'SHALA DARPAN DATA'!C1566","v":0},{"$f":"'SHALA DARPAN DATA'!A1566","v":0},{"$f":"'SHALA DARPAN DATA'!B1566","v":0},{"$f":"'SHALA DARPAN DATA'!D1566","v":0},{"$f":"'SHALA DARPAN DATA'!J1566","v":0},{"$f":"'SHALA DARPAN DATA'!T1566","v":0},{"$f":"'SHALA DARPAN DATA'!V1566","v":0},{"$f":"'SHALA DARPAN DATA'!K1566","v":0},{"$f":"'SHALA DARPAN DATA'!E1566","v":0},{"$f":"'SHALA DARPAN DATA'!G1566","v":0},{"$f":"'SHALA DARPAN DATA'!H1566","v":0},{"$f":"'SHALA DARPAN DATA'!W1566","v":0},{"$f":"'SHALA DARPAN DATA'!R1566","v":0},{"$f":"'SHALA DARPAN DATA'!S1566","v":0},{"$f":"'SHALA DARPAN DATA'!O1566","v":0},0,0,0,0,0,0,0,0,0,0,0]
[{"$f":"'SHALA DARPAN DATA'!C1567","v":0},{"$f":"'SHALA DARPAN DATA'!A1567","v":0},{"$f":"'SHALA DARPAN DATA'!B1567","v":0},{"$f":"'SHALA DARPAN DATA'!D1567","v":0},{"$f":"'SHALA DARPAN DATA'!J1567","v":0},{"$f":"'SHALA DARPAN DATA'!T1567","v":0},{"$f":"'SHALA DARPAN DATA'!V1567","v":0},{"$f":"'SHALA DARPAN DATA'!K1567","v":0},{"$f":"'SHALA DARPAN DATA'!E1567","v":0},{"$f":"'SHALA DARPAN DATA'!G1567","v":0},{"$f":"'SHALA DARPAN DATA'!H1567","v":0},{"$f":"'SHALA DARPAN DATA'!W1567","v":0},{"$f":"'SHALA DARPAN DATA'!R1567","v":0},{"$f":"'SHALA DARPAN DATA'!S1567","v":0},{"$f":"'SHALA DARPAN DATA'!O1567","v":0},0,0,0,0,0,0,0,0,0,0,0]
[{"$f":"'SHALA DARPAN DATA'!C1573","v":0},{"$f":"'SHALA DARPAN DATA'!A1573","v":0},{"$f":"'SHALA DARPAN DATA'!B1573","v":0},{"$f":"'SHALA DARPAN DATA'!D1573","v":0},{"$f":"'SHALA DARPAN DATA'!J1573","v":0},{"$f":"'SHALA DARPAN DATA'!T1573","v":0},{"$f":"'SHALA DARPAN DATA'!V1573","v":0},{"$f":"'SHALA DARPAN DATA'!K1573","v":0},{"$f":"'SHALA DARPAN DATA'!E1573","v":0},{"$f":"'SHALA DARPAN DATA'!G1573","v":0},{"$f":"'SHALA DARPAN DATA'!H1573","v":0},{"$f":"'SHALA DARPAN DATA'!W1573","v":0},{"$f":"'SHALA DARPAN DATA'!R1573","v":0},{"$f":"'SHALA DARPAN DATA'!S1573","v":0},{"$f":"'SHALA DARPAN DATA'!O1573","v":0},0,0,0,0,0,0,0,0,0,0,0]
[{"$f":"'SHALA DARPAN DATA'!C1576","v":0},{"$f":"'SHALA DARPAN DATA'!A1576","v":0},{"$f":"'SHALA DARPAN DATA'!B1576","v":0},{"$f":"'SHALA DARPAN DATA'!D1576","v":0},{"$f":"'SHALA DARPAN DATA'!J1576","v":0},{"$f":"'SHALA DARPAN DATA'!T1576","v":0},{"$f":"'SHALA DARPAN DATA'!V1576","v":0},{"$f":"'SHALA DARPAN DATA'!K1576","v":0},{"$f":"'SHALA DARPAN DATA'!E1576","v":0},{"$f":"'SHALA DARPAN DATA'!G1576","v":0},{"$f":"'SHALA DARPAN DATA'!H1576","v":0},{"$f":"'SHALA DARPAN DATA'!W1576","v":0},{"$f":"'SHALA DARPAN DATA'!R1576","v":0},{"$f":"'SHALA DARPAN DATA'!S1576","v":0},{"$f":"'SHALA DARPAN DATA'!O1576","v":0},0,0,0,0,0,0,0,0,0,0,0]
[{"$f":"'SHALA DARPAN DATA'!C1581","v":0},{"$f":"'SHALA DARPAN DATA'!A1581","v":0},{"$f":"'SHALA DARPAN DATA'!B1581","v":0},{"$f":"'SHALA DARPAN DATA'!D1581","v":0},{"$f":"'SHALA DARPAN DATA'!J1581","v":0},{"$f":"'SHALA DARPAN DATA'!T1581","v":0},{"$f":"'SHALA DARPAN DATA'!V1581","v":0},{"$f":"'SHALA DARPAN DATA'!K1581","v":0},{"$f":"'SHALA DARPAN DATA'!E1581","v":0},{"$f":"'SHALA DARPAN DATA'!G1581","v":0},{"$f":"'SHALA DARPAN DATA'!H1581","v":0},{"$f":"'SHALA DARPAN DATA'!W1581","v":0},{"$f":"'SHALA DARPAN DATA'!R1581","v":0},{"$f":"'SHALA DARPAN DATA'!S1581","v":0},{"$f":"'SHALA DARPAN DATA'!O1581","v":0},0,0,0,0,0,0,0,0,0,0,0]
[{"$f":"'SHALA DARPAN DATA'!C1582","v":0},{"$f":"'SHALA DARPAN DATA'!A1582","v":0},{"$f":"'SHALA DARPAN DATA'!B1582","v":0},{"$f":"'SHALA DARPAN DATA'!D1582","v":0},{"$f":"'SHALA DARPAN DATA'!J1582","v":0},{"$f":"'SHALA DARPAN DATA'!T1582","v":0},{"$f":"'SHALA DARPAN DATA'!V1582","v":0},{"$f":"'SHALA DARPAN DATA'!K1582","v":0},{"$f":"'SHALA DARPAN DATA'!E1582","v":0},{"$f":"'SHALA DARPAN DATA'!G1582","v":0},{"$f":"'SHALA DARPAN DATA'!H1582","v":0},{"$f":"'SHALA DARPAN DATA'!W1582","v":0},{"$f":"'SHALA DARPAN DATA'!R1582","v":0},{"$f":"'SHALA DARPAN DATA'!S1582","v":0},{"$f":"'SHALA DARPAN DATA'!O1582","v":0},0,0,0,0,0,0,0,0,0,0,0]
[{"$f":"'SHALA DARPAN DATA'!C1586","v":0},{"$f":"'SHALA DARPAN DATA'!A1586","v":0},{"$f":"'SHALA DARPAN DATA'!B1586","v":0},{"$f":"'SHALA DARPAN DATA'!D1586","v":0},{"$f":"'SHALA DARPAN DATA'!J1586","v":0},{"$f":"'SHALA DARPAN DATA'!T1586","v":0},{"$f":"'SHALA DARPAN DATA'!V1586","v":0},{"$f":"'SHALA DARPAN DATA'!K1586","v":0},{"$f":"'SHALA DARPAN DATA'!E1586","v":0},{"$f":"'SHALA DARPAN DATA'!G1586","v":0},{"$f":"'SHALA DARPAN DATA'!H1586","v":0},{"$f":"'SHALA DARPAN DATA'!W1586","v":0},{"$f":"'SHALA DARPAN DATA'!R1586","v":0},{"$f":"'SHALA DARPAN DATA'!S1586","v":0},{"$f":"'SHALA DARPAN DATA'!O1586","v":0},0,0,0,0,0,0,0,0,0,0,0]
[{"$f":"'SHALA DARPAN DATA'!C1591","v":0},{"$f":"'SHALA DARPAN DATA'!A1591","v":0},{"$f":"'SHALA DARPAN DATA'!B1591","v":0},{"$f":"'SHALA DARPAN DATA'!D1591","v":0},{"$f":"'SHALA DARPAN DATA'!J1591","v":0},{"$f":"'SHALA DARPAN DATA'!T1591","v":0},{"$f":"'SHALA DARPAN DATA'!V1591","v":0},{"$f":"'SHALA DARPAN DATA'!K1591","v":0},{"$f":"'SHALA DARPAN DATA'!E1591","v":0},{"$f":"'SHALA DARPAN DATA'!G1591","v":0},{"$f":"'SHALA DARPAN DATA'!H1591","v":0},{"$f":"'SHALA DARPAN DATA'!W1591","v":0},{"$f":"'SHALA DARPAN DATA'!R1591","v":0},{"$f":"'SHALA DARPAN DATA'!S1591","v":0},{"$f":"'SHALA DARPAN DATA'!O1591","v":0},0,0,0,0,0,0,0,0,0,0,0]
[{"$f":"'SHALA DARPAN DATA'!C1596","v":0},{"$f":"'SHALA DARPAN DATA'!A1596","v":0},{"$f":"'SHALA DARPAN DATA'!B1596","v":0},{"$f":"'SHALA DARPAN DATA'!D1596","v":0},{"$f":"'SHALA DARPAN DATA'!J1596","v":0},{"$f":"'SHALA DARPAN DATA'!T1596","v":0},{"$f":"'SHALA DARPAN DATA'!V1596","v":0},{"$f":"'SHALA DARPAN DATA'!K1596","v":0},{"$f":"'SHALA DARPAN DATA'!E1596","v":0},{"$f":"'SHALA DARPAN DATA'!G1596","v":0},{"$f":"'SHALA DARPAN DATA'!H1596","v":0},{"$f":"'SHALA DARPAN DATA'!W1596","v":0},{"$f":"'SHALA DARPAN DATA'!R1596","v":0},{"$f":"'SHALA DARPAN DATA'!S1596","v":0},{"$f":"'SHALA DARPAN DATA'!O1596","v":0},0,0,0,0,0,0,0,0,0,0,0]
[{"$f":"'SHALA DARPAN DATA'!C1597","v":0},{"$f":"'SHALA DARPAN DATA'!A1597","v":0},{"$f":"'SHALA DARPAN DATA'!B1597","v":0},{"$f":"'SHALA DARPAN DATA'!D1597","v":0},{"$f":"'SHALA DARPAN DATA'!J1597","v":0},{"$f":"'SHALA DARPAN DATA'!T1597","v":0},{"$f":"'SHALA DARPAN DATA'!V1597","v":0},{"$f":"'SHALA DARPAN DATA'!K1597","v":0},{"$f":"'SHALA DARPAN DATA'!E1597","v":0},{"$f":"'SHALA DARPAN DATA'!G1597","v":0},{"$f":"'SHALA DARPAN DATA'!H1597","v":0},{"$f":"'SHALA DARPAN DATA'!W1597","v":0},{"$f":"'SHALA DARPAN DATA'!R1597","v":0},{"$f":"'SHALA DARPAN DATA'!S1597","v":0},{"$f":"'SHALA DARPAN DATA'!O1597","v":0},0,0,0,0,0,0,0,0,0,0,0]
[{"$f":"'SHALA DARPAN DATA'!C1603","v":0},{"$f":"'SHALA DARPAN DATA'!A1603","v":0},{"$f":"'SHALA DARPAN DATA'!B1603","v":0},{"$f":"'SHALA DARPAN DATA'!D1603","v":0},{"$f":"'SHALA DARPAN DATA'!J1603","v":0},{"$f":"'SHALA DARPAN DATA'!T1603","v":0},{"$f":"'SHALA DARPAN DATA'!V1603","v":0},{"$f":"'SHALA DARPAN DATA'!K1603","v":0},{"$f":"'SHALA DARPAN DATA'!E1603","v":0},{"$f":"'SHALA DARPAN DATA'!G1603","v":0},{"$f":"'SHALA DARPAN DATA'!H1603","v":0},{"$f":"'SHALA DARPAN DATA'!W1603","v":0},{"$f":"'SHALA DARPAN DATA'!R1603","v":0},{"$f":"'SHALA DARPAN DATA'!S1603","v":0},{"$f":"'SHALA DARPAN DATA'!O1603","v":0},0,0,0,0,0,0,0,0,0,0,0]
[{"$f":"'SHALA DARPAN DATA'!C1606","v":0},{"$f":"'SHALA DARPAN DATA'!A1606","v":0},{"$f":"'SHALA DARPAN DATA'!B1606","v":0},{"$f":"'SHALA DARPAN DATA'!D1606","v":0},{"$f":"'SHALA DARPAN DATA'!J1606","v":0},{"$f":"'SHALA DARPAN DATA'!T1606","v":0},{"$f":"'SHALA DARPAN DATA'!V1606","v":0},{"$f":"'SHALA DARPAN DATA'!K1606","v":0},{"$f":"'SHALA DARPAN DATA'!E1606","v":0},{"$f":"'SHALA DARPAN DATA'!G1606","v":0},{"$f":"'SHALA DARPAN DATA'!H1606","v":0},{"$f":"'SHALA DARPAN DATA'!W1606","v":0},{"$f":"'SHALA DARPAN DATA'!R1606","v":0},{"$f":"'SHALA DARPAN DATA'!S1606","v":0},{"$f":"'SHALA DARPAN DATA'!O1606","v":0},0,0,0,0,0,0,0,0,0,0,0]
[{"$f":"'SHALA DARPAN DATA'!C1611","v":0},{"$f":"'SHALA DARPAN DATA'!A1611","v":0},{"$f":"'SHALA DARPAN DATA'!B1611","v":0},{"$f":"'SHALA DARPAN DATA'!D1611","v":0},{"$f":"'SHALA DARPAN DATA'!J1611","v":0},{"$f":"'SHALA DARPAN DATA'!T1611","v":0},{"$f":"'SHALA DARPAN DATA'!V1611","v":0},{"$f":"'SHALA DARPAN DATA'!K1611","v":0},{"$f":"'SHALA DARPAN DATA'!E1611","v":0},{"$f":"'SHALA DARPAN DATA'!G1611","v":0},{"$f":"'SHALA DARPAN DATA'!H1611","v":0},{"$f":"'SHALA DARPAN DATA'!W1611","v":0},{"$f":"'SHALA DARPAN DATA'!R1611","v":0},{"$f":"'SHALA DARPAN DATA'!S1611","v":0},{"$f":"'SHALA DARPAN DATA'!O1611","v":0},0,0,0,0,0,0,0,0,0,0,0]
[{"$f":"'SHALA DARPAN DATA'!C1612","v":0},{"$f":"'SHALA DARPAN DATA'!A1612","v":0},{"$f":"'SHALA DARPAN DATA'!B1612","v":0},{"$f":"'SHALA DARPAN DATA'!D1612","v":0},{"$f":"'SHALA DARPAN DATA'!J1612","v":0},{"$f":"'SHALA DARPAN DATA'!T1612","v":0},{"$f":"'SHALA DARPAN DATA'!V1612","v":0},{"$f":"'SHALA DARPAN DATA'!K1612","v":0},{"$f":"'SHALA DARPAN DATA'!E1612","v":0},{"$f":"'SHALA DARPAN DATA'!G1612","v":0},{"$f":"'SHALA DARPAN DATA'!H1612","v":0},{"$f":"'SHALA DARPAN DATA'!W1612","v":0},{"$f":"'SHALA DARPAN DATA'!R1612","v":0},{"$f":"'SHALA DARPAN DATA'!S1612","v":0},{"$f":"'SHALA DARPAN DATA'!O1612","v":0},0,0,0,0,0,0,0,0,0,0,0]
[{"$f":"'SHALA DARPAN DATA'!C1616","v":0},{"$f":"'SHALA DARPAN DATA'!A1616","v":0},{"$f":"'SHALA DARPAN DATA'!B1616","v":0},{"$f":"'SHALA DARPAN DATA'!D1616","v":0},{"$f":"'SHALA DARPAN DATA'!J1616","v":0},{"$f":"'SHALA DARPAN DATA'!T1616","v":0},{"$f":"'SHALA DARPAN DATA'!V1616","v":0},{"$f":"'SHALA DARPAN DATA'!K1616","v":0},{"$f":"'SHALA DARPAN DATA'!E1616","v":0},{"$f":"'SHALA DARPAN DATA'!G1616","v":0},{"$f":"'SHALA DARPAN DATA'!H1616","v":0},{"$f":"'SHALA DARPAN DATA'!W1616","v":0},{"$f":"'SHALA DARPAN DATA'!R1616","v":0},{"$f":"'SHALA DARPAN DATA'!S1616","v":0},{"$f":"'SHALA DARPAN DATA'!O1616","v":0},0,0,0,0,0,0,0,0,0,0,0]
[{"$f":"'SHALA DARPAN DATA'!C1621","v":0},{"$f":"'SHALA DARPAN DATA'!A1621","v":0},{"$f":"'SHALA DARPAN DATA'!B1621","v":0},{"$f":"'SHALA DARPAN DATA'!D1621","v":0},{"$f":"'SHALA DARPAN DATA'!J1621","v":0},{"$f":"'SHALA DARPAN DATA'!T1621","v":0},{"$f":"'SHALA DARPAN DATA'!V1621","v":0},{"$f":"'SHALA DARPAN DATA'!K1621","v":0},{"$f":"'SHALA DARPAN DATA'!E1621","v":0},{"$f":"'SHALA DARPAN DATA'!G1621","v":0},{"$f":"'SHALA DARPAN DATA'!H1621","v":0},{"$f":"'SHALA DARPAN DATA'!W1621","v":0},{"$f":"'SHALA DARPAN DATA'!R1621","v":0},{"$f":"'SHALA DARPAN DATA'!S1621","v":0},{"$f":"'SHALA DARPAN DATA'!O1621","v":0},0,0,0,0,0,0,0,0,0,0,0]
[{"$f":"'SHALA DARPAN DATA'!C1626","v":0},{"$f":"'SHALA DARPAN DATA'!A1626","v":0},{"$f":"'SHALA DARPAN DATA'!B1626","v":0},{"$f":"'SHALA DARPAN DATA'!D1626","v":0},{"$f":"'SHALA DARPAN DATA'!J1626","v":0},{"$f":"'SHALA DARPAN DATA'!T1626","v":0},{"$f":"'SHALA DARPAN DATA'!V1626","v":0},{"$f":"'SHALA DARPAN DATA'!K1626","v":0},{"$f":"'SHALA DARPAN DATA'!E1626","v":0},{"$f":"'SHALA DARPAN DATA'!G1626","v":0},{"$f":"'SHALA DARPAN DATA'!H1626","v":0},{"$f":"'SHALA DARPAN DATA'!W1626","v":0},{"$f":"'SHALA DARPAN DATA'!R1626","v":0},{"$f":"'SHALA DARPAN DATA'!S1626","v":0},{"$f":"'SHALA DARPAN DATA'!O1626","v":0},0,0,0,0,0,0,0,0,0,0,0]
[{"$f":"'SHALA DARPAN DATA'!C1627","v":0},{"$f":"'SHALA DARPAN DATA'!A1627","v":0},{"$f":"'SHALA DARPAN DATA'!B1627","v":0},{"$f":"'SHALA DARPAN DATA'!D1627","v":0},{"$f":"'SHALA DARPAN DATA'!J1627","v":0},{"$f":"'SHALA DARPAN DATA'!T1627","v":0},{"$f":"'SHALA DARPAN DATA'!V1627","v":0},{"$f":"'SHALA DARPAN DATA'!K1627","v":0},{"$f":"'SHALA DARPAN DATA'!E1627","v":0},{"$f":"'SHALA DARPAN DATA'!G1627","v":0},{"$f":"'SHALA DARPAN DATA'!H1627","v":0},{"$f":"'SHALA DARPAN DATA'!W1627","v":0},{"$f":"'SHALA DARPAN DATA'!R1627","v":0},{"$f":"'SHALA DARPAN DATA'!S1627","v":0},{"$f":"'SHALA DARPAN DATA'!O1627","v":0},0,0,0,0,0,0,0,0,0,0,0]
[{"$f":"'SHALA DARPAN DATA'!C1633","v":0},{"$f":"'SHALA DARPAN DATA'!A1633","v":0},{"$f":"'SHALA DARPAN DATA'!B1633","v":0},{"$f":"'SHALA DARPAN DATA'!D1633","v":0},{"$f":"'SHALA DARPAN DATA'!J1633","v":0},{"$f":"'SHALA DARPAN DATA'!T1633","v":0},{"$f":"'SHALA DARPAN DATA'!V1633","v":0},{"$f":"'SHALA DARPAN DATA'!K1633","v":0},{"$f":"'SHALA DARPAN DATA'!E1633","v":0},{"$f":"'SHALA DARPAN DATA'!G1633","v":0},{"$f":"'SHALA DARPAN DATA'!H1633","v":0},{"$f":"'SHALA DARPAN DATA'!W1633","v":0},{"$f":"'SHALA DARPAN DATA'!R1633","v":0},{"$f":"'SHALA DARPAN DATA'!S1633","v":0},{"$f":"'SHALA DARPAN DATA'!O1633","v":0},0,0,0,0,0,0,0,0,0,0,0]
[{"$f":"'SHALA DARPAN DATA'!C1636","v":0},{"$f":"'SHALA DARPAN DATA'!A1636","v":0},{"$f":"'SHALA DARPAN DATA'!B1636","v":0},{"$f":"'SHALA DARPAN DATA'!D1636","v":0},{"$f":"'SHALA DARPAN DATA'!J1636","v":0},{"$f":"'SHALA DARPAN DATA'!T1636","v":0},{"$f":"'SHALA DARPAN DATA'!V1636","v":0},{"$f":"'SHALA DARPAN DATA'!K1636","v":0},{"$f":"'SHALA DARPAN DATA'!E1636","v":0},{"$f":"'SHALA DARPAN DATA'!G1636","v":0},{"$f":"'SHALA DARPAN DATA'!H1636","v":0},{"$f":"'SHALA DARPAN DATA'!W1636","v":0},{"$f":"'SHALA DARPAN DATA'!R1636","v":0},{"$f":"'SHALA DARPAN DATA'!S1636","v":0},{"$f":"'SHALA DARPAN DATA'!O1636","v":0},0,0,0,0,0,0,0,0,0,0,0]
[{"$f":"'SHALA DARPAN DATA'!C1641","v":0},{"$f":"'SHALA DARPAN DATA'!A1641","v":0},{"$f":"'SHALA DARPAN DATA'!B1641","v":0},{"$f":"'SHALA DARPAN DATA'!D1641","v":0},{"$f":"'SHALA DARPAN DATA'!J1641","v":0},{"$f":"'SHALA DARPAN DATA'!T1641","v":0},{"$f":"'SHALA DARPAN DATA'!V1641","v":0},{"$f":"'SHALA DARPAN DATA'!K1641","v":0},{"$f":"'SHALA DARPAN DATA'!E1641","v":0},{"$f":"'SHALA DARPAN DATA'!G1641","v":0},{"$f":"'SHALA DARPAN DATA'!H1641","v":0},{"$f":"'SHALA DARPAN DATA'!W1641","v":0},{"$f":"'SHALA DARPAN DATA'!R1641","v":0},{"$f":"'SHALA DARPAN DATA'!S1641","v":0},{"$f":"'SHALA DARPAN DATA'!O1641","v":0},0,0,0,0,0,0,0,0,0,0,0]
[{"$f":"'SHALA DARPAN DATA'!C1642","v":0},{"$f":"'SHALA DARPAN DATA'!A1642","v":0},{"$f":"'SHALA DARPAN DATA'!B1642","v":0},{"$f":"'SHALA DARPAN DATA'!D1642","v":0},{"$f":"'SHALA DARPAN DATA'!J1642","v":0},{"$f":"'SHALA DARPAN DATA'!T1642","v":0},{"$f":"'SHALA DARPAN DATA'!V1642","v":0},{"$f":"'SHALA DARPAN DATA'!K1642","v":0},{"$f":"'SHALA DARPAN DATA'!E1642","v":0},{"$f":"'SHALA DARPAN DATA'!G1642","v":0},{"$f":"'SHALA DARPAN DATA'!H1642","v":0},{"$f":"'SHALA DARPAN DATA'!W1642","v":0},{"$f":"'SHALA DARPAN DATA'!R1642","v":0},{"$f":"'SHALA DARPAN DATA'!S1642","v":0},{"$f":"'SHALA DARPAN DATA'!O1642","v":0},0,0,0,0,0,0,0,0,0,0,0]
[{"$f":"'SHALA DARPAN DATA'!C1646","v":0},{"$f":"'SHALA DARPAN DATA'!A1646","v":0},{"$f":"'SHALA DARPAN DATA'!B1646","v":0},{"$f":"'SHALA DARPAN DATA'!D1646","v":0},{"$f":"'SHALA DARPAN DATA'!J1646","v":0},{"$f":"'SHALA DARPAN DATA'!T1646","v":0},{"$f":"'SHALA DARPAN DATA'!V1646","v":0},{"$f":"'SHALA DARPAN DATA'!K1646","v":0},{"$f":"'SHALA DARPAN DATA'!E1646","v":0},{"$f":"'SHALA DARPAN DATA'!G1646","v":0},{"$f":"'SHALA DARPAN DATA'!H1646","v":0},{"$f":"'SHALA DARPAN DATA'!W1646","v":0},{"$f":"'SHALA DARPAN DATA'!R1646","v":0},{"$f":"'SHALA DARPAN DATA'!S1646","v":0},{"$f":"'SHALA DARPAN DATA'!O1646","v":0},0,0,0,0,0,0,0,0,0,0,0]
[{"$f":"'SHALA DARPAN DATA'!C1651","v":0},{"$f":"'SHALA DARPAN DATA'!A1651","v":0},{"$f":"'SHALA DARPAN DATA'!B1651","v":0},{"$f":"'SHALA DARPAN DATA'!D1651","v":0},{"$f":"'SHALA DARPAN DATA'!J1651","v":0},{"$f":"'SHALA DARPAN DATA'!T1651","v":0},{"$f":"'SHALA DARPAN DATA'!V1651","v":0},{"$f":"'SHALA DARPAN DATA'!K1651","v":0},{"$f":"'SHALA DARPAN DATA'!E1651","v":0},{"$f":"'SHALA DARPAN DATA'!G1651","v":0},{"$f":"'SHALA DARPAN DATA'!H1651","v":0},{"$f":"'SHALA DARPAN DATA'!W1651","v":0},{"$f":"'SHALA DARPAN DATA'!R1651","v":0},{"$f":"'SHALA DARPAN DATA'!S1651","v":0},{"$f":"'SHALA DARPAN DATA'!O1651","v":0},0,0,0,0,0,0,0,0,0,0,0]
[{"$f":"'SHALA DARPAN DATA'!C1656","v":0},{"$f":"'SHALA DARPAN DATA'!A1656","v":0},{"$f":"'SHALA DARPAN DATA'!B1656","v":0},{"$f":"'SHALA DARPAN DATA'!D1656","v":0},{"$f":"'SHALA DARPAN DATA'!J1656","v":0},{"$f":"'SHALA DARPAN DATA'!T1656","v":0},{"$f":"'SHALA DARPAN DATA'!V1656","v":0},{"$f":"'SHALA DARPAN DATA'!K1656","v":0},{"$f":"'SHALA DARPAN DATA'!E1656","v":0},{"$f":"'SHALA DARPAN DATA'!G1656","v":0},{"$f":"'SHALA DARPAN DATA'!H1656","v":0},{"$f":"'SHALA DARPAN DATA'!W1656","v":0},{"$f":"'SHALA DARPAN DATA'!R1656","v":0},{"$f":"'SHALA DARPAN DATA'!S1656","v":0},{"$f":"'SHALA DARPAN DATA'!O1656","v":0},0,0,0,0,0,0,0,0,0,0,0]
[{"$f":"'SHALA DARPAN DATA'!C1657","v":0},{"$f":"'SHALA DARPAN DATA'!A1657","v":0},{"$f":"'SHALA DARPAN DATA'!B1657","v":0},{"$f":"'SHALA DARPAN DATA'!D1657","v":0},{"$f":"'SHALA DARPAN DATA'!J1657","v":0},{"$f":"'SHALA DARPAN DATA'!T1657","v":0},{"$f":"'SHALA DARPAN DATA'!V1657","v":0},{"$f":"'SHALA DARPAN DATA'!K1657","v":0},{"$f":"'SHALA DARPAN DATA'!E1657","v":0},{"$f":"'SHALA DARPAN DATA'!G1657","v":0},{"$f":"'SHALA DARPAN DATA'!H1657","v":0},{"$f":"'SHALA DARPAN DATA'!W1657","v":0},{"$f":"'SHALA DARPAN DATA'!R1657","v":0},{"$f":"'SHALA DARPAN DATA'!S1657","v":0},{"$f":"'SHALA DARPAN DATA'!O1657","v":0},0,0,0,0,0,0,0,0,0,0,0]
[{"$f":"'SHALA DARPAN DATA'!C1663","v":0},{"$f":"'SHALA DARPAN DATA'!A1663","v":0},{"$f":"'SHALA DARPAN DATA'!B1663","v":0},{"$f":"'SHALA DARPAN DATA'!D1663","v":0},{"$f":"'SHALA DARPAN DATA'!J1663","v":0},{"$f":"'SHALA DARPAN DATA'!T1663","v":0},{"$f":"'SHALA DARPAN DATA'!V1663","v":0},{"$f":"'SHALA DARPAN DATA'!K1663","v":0},{"$f":"'SHALA DARPAN DATA'!E1663","v":0},{"$f":"'SHALA DARPAN DATA'!G1663","v":0},{"$f":"'SHALA DARPAN DATA'!H1663","v":0},{"$f":"'SHALA DARPAN DATA'!W1663","v":0},{"$f":"'SHALA DARPAN DATA'!R1663","v":0},{"$f":"'SHALA DARPAN DATA'!S1663","v":0},{"$f":"'SHALA DARPAN DATA'!O1663","v":0},0,0,0,0,0,0,0,0,0,0,0]
[{"$f":"'SHALA DARPAN DATA'!C1666","v":0},{"$f":"'SHALA DARPAN DATA'!A1666","v":0},{"$f":"'SHALA DARPAN DATA'!B1666","v":0},{"$f":"'SHALA DARPAN DATA'!D1666","v":0},{"$f":"'SHALA DARPAN DATA'!J1666","v":0},{"$f":"'SHALA DARPAN DATA'!T1666","v":0},{"$f":"'SHALA DARPAN DATA'!V1666","v":0},{"$f":"'SHALA DARPAN DATA'!K1666","v":0},{"$f":"'SHALA DARPAN DATA'!E1666","v":0},{"$f":"'SHALA DARPAN DATA'!G1666","v":0},{"$f":"'SHALA DARPAN DATA'!H1666","v":0},{"$f":"'SHALA DARPAN DATA'!W1666","v":0},{"$f":"'SHALA DARPAN DATA'!R1666","v":0},{"$f":"'SHALA DARPAN DATA'!S1666","v":0},{"$f":"'SHALA DARPAN DATA'!O1666","v":0},0,0,0,0,0,0,0,0,0,0,0]
[{"$f":"'SHALA DARPAN DATA'!C1671","v":0},{"$f":"'SHALA DARPAN DATA'!A1671","v":0},{"$f":"'SHALA DARPAN DATA'!B1671","v":0},{"$f":"'SHALA DARPAN DATA'!D1671","v":0},{"$f":"'SHALA DARPAN DATA'!J1671","v":0},{"$f":"'SHALA DARPAN DATA'!T1671","v":0},{"$f":"'SHALA DARPAN DATA'!V1671","v":0},{"$f":"'SHALA DARPAN DATA'!K1671","v":0},{"$f":"'SHALA DARPAN DATA'!E1671","v":0},{"$f":"'SHALA DARPAN DATA'!G1671","v":0},{"$f":"'SHALA DARPAN DATA'!H1671","v":0},{"$f":"'SHALA DARPAN DATA'!W1671","v":0},{"$f":"'SHALA DARPAN DATA'!R1671","v":0},{"$f":"'SHALA DARPAN DATA'!S1671","v":0},{"$f":"'SHALA DARPAN DATA'!O1671","v":0},0,0,0,0,0,0,0,0,0,0,0]
[{"$f":"'SHALA DARPAN DATA'!C1672","v":0},{"$f":"'SHALA DARPAN DATA'!A1672","v":0},{"$f":"'SHALA DARPAN DATA'!B1672","v":0},{"$f":"'SHALA DARPAN DATA'!D1672","v":0},{"$f":"'SHALA DARPAN DATA'!J1672","v":0},{"$f":"'SHALA DARPAN DATA'!T1672","v":0},{"$f":"'SHALA DARPAN DATA'!V1672","v":0},{"$f":"'SHALA DARPAN DATA'!K1672","v":0},{"$f":"'SHALA DARPAN DATA'!E1672","v":0},{"$f":"'SHALA DARPAN DATA'!G1672","v":0},{"$f":"'SHALA DARPAN DATA'!H1672","v":0},{"$f":"'SHALA DARPAN DATA'!W1672","v":0},{"$f":"'SHALA DARPAN DATA'!R1672","v":0},{"$f":"'SHALA DARPAN DATA'!S1672","v":0},{"$f":"'SHALA DARPAN DATA'!O1672","v":0},0,0,0,0,0,0,0,0,0,0,0]
[{"$f":"'SHALA DARPAN DATA'!C1676","v":0},{"$f":"'SHALA DARPAN DATA'!A1676","v":0},{"$f":"'SHALA DARPAN DATA'!B1676","v":0},{"$f":"'SHALA DARPAN DATA'!D1676","v":0},{"$f":"'SHALA DARPAN DATA'!J1676","v":0},{"$f":"'SHALA DARPAN DATA'!T1676","v":0},{"$f":"'SHALA DARPAN DATA'!V1676","v":0},{"$f":"'SHALA DARPAN DATA'!K1676","v":0},{"$f":"'SHALA DARPAN DATA'!E1676","v":0},{"$f":"'SHALA DARPAN DATA'!G1676","v":0},{"$f":"'SHALA DARPAN DATA'!H1676","v":0},{"$f":"'SHALA DARPAN DATA'!W1676","v":0},{"$f":"'SHALA DARPAN DATA'!R1676","v":0},{"$f":"'SHALA DARPAN DATA'!S1676","v":0},{"$f":"'SHALA DARPAN DATA'!O1676","v":0},0,0,0,0,0,0,0,0,0,0,0]
[{"$f":"'SHALA DARPAN DATA'!C1681","v":0},{"$f":"'SHALA DARPAN DATA'!A1681","v":0},{"$f":"'SHALA DARPAN DATA'!B1681","v":0},{"$f":"'SHALA DARPAN DATA'!D1681","v":0},{"$f":"'SHALA DARPAN DATA'!J1681","v":0},{"$f":"'SHALA DARPAN DATA'!T1681","v":0},{"$f":"'SHALA DARPAN DATA'!V1681","v":0},{"$f":"'SHALA DARPAN DATA'!K1681","v":0},{"$f":"'SHALA DARPAN DATA'!E1681","v":0},{"$f":"'SHALA DARPAN DATA'!G1681","v":0},{"$f":"'SHALA DARPAN DATA'!H1681","v":0},{"$f":"'SHALA DARPAN DATA'!W1681","v":0},{"$f":"'SHALA DARPAN DATA'!R1681","v":0},{"$f":"'SHALA DARPAN DATA'!S1681","v":0},{"$f":"'SHALA DARPAN DATA'!O1681","v":0},0,0,0,0,0,0,0,0,0,0,0]
[{"$f":"'SHALA DARPAN DATA'!C1686","v":0},{"$f":"'SHALA DARPAN DATA'!A1686","v":0},{"$f":"'SHALA DARPAN DATA'!B1686","v":0},{"$f":"'SHALA DARPAN DATA'!D1686","v":0},{"$f":"'SHALA DARPAN DATA'!J1686","v":0},{"$f":"'SHALA DARPAN DATA'!T1686","v":0},{"$f":"'SHALA DARPAN DATA'!V1686","v":0},{"$f":"'SHALA DARPAN DATA'!K1686","v":0},{"$f":"'SHALA DARPAN DATA'!E1686","v":0},{"$f":"'SHALA DARPAN DATA'!G1686","v":0},{"$f":"'SHALA DARPAN DATA'!H1686","v":0},{"$f":"'SHALA DARPAN DATA'!W1686","v":0},{"$f":"'SHALA DARPAN DATA'!R1686","v":0},{"$f":"'SHALA DARPAN DATA'!S1686","v":0},{"$f":"'SHALA DARPAN DATA'!O1686","v":0},0,0,0,0,0,0,0,0,0,0,0]
[{"$f":"'SHALA DARPAN DATA'!C1687","v":0},{"$f":"'SHALA DARPAN DATA'!A1687","v":0},{"$f":"'SHALA DARPAN DATA'!B1687","v":0},{"$f":"'SHALA DARPAN DATA'!D1687","v":0},{"$f":"'SHALA DARPAN DATA'!J1687","v":0},{"$f":"'SHALA DARPAN DATA'!T1687","v":0},{"$f":"'SHALA DARPAN DATA'!V1687","v":0},{"$f":"'SHALA DARPAN DATA'!K1687","v":0},{"$f":"'SHALA DARPAN DATA'!E1687","v":0},{"$f":"'SHALA DARPAN DATA'!G1687","v":0},{"$f":"'SHALA DARPAN DATA'!H1687","v":0},{"$f":"'SHALA DARPAN DATA'!W1687","v":0},{"$f":"'SHALA DARPAN DATA'!R1687","v":0},{"$f":"'SHALA DARPAN DATA'!S1687","v":0},{"$f":"'SHALA DARPAN DATA'!O1687","v":0},0,0,0,0,0,0,0,0,0,0,0]
[{"$f":"'SHALA DARPAN DATA'!C1693","v":0},{"$f":"'SHALA DARPAN DATA'!A1693","v":0},{"$f":"'SHALA DARPAN DATA'!B1693","v":0},{"$f":"'SHALA DARPAN DATA'!D1693","v":0},{"$f":"'SHALA DARPAN DATA'!J1693","v":0},{"$f":"'SHALA DARPAN DATA'!T1693","v":0},{"$f":"'SHALA DARPAN DATA'!V1693","v":0},{"$f":"'SHALA DARPAN DATA'!K1693","v":0},{"$f":"'SHALA DARPAN DATA'!E1693","v":0},{"$f":"'SHALA DARPAN DATA'!G1693","v":0},{"$f":"'SHALA DARPAN DATA'!H1693","v":0},{"$f":"'SHALA DARPAN DATA'!W1693","v":0},{"$f":"'SHALA DARPAN DATA'!R1693","v":0},{"$f":"'SHALA DARPAN DATA'!S1693","v":0},{"$f":"'SHALA DARPAN DATA'!O1693","v":0},0,0,0,0,0,0,0,0,0,0,0]
[{"$f":"'SHALA DARPAN DATA'!C1696","v":0},{"$f":"'SHALA DARPAN DATA'!A1696","v":0},{"$f":"'SHALA DARPAN DATA'!B1696","v":0},{"$f":"'SHALA DARPAN DATA'!D1696","v":0},{"$f":"'SHALA DARPAN DATA'!J1696","v":0},{"$f":"'SHALA DARPAN DATA'!T1696","v":0},{"$f":"'SHALA DARPAN DATA'!V1696","v":0},{"$f":"'SHALA DARPAN DATA'!K1696","v":0},{"$f":"'SHALA DARPAN DATA'!E1696","v":0},{"$f":"'SHALA DARPAN DATA'!G1696","v":0},{"$f":"'SHALA DARPAN DATA'!H1696","v":0},{"$f":"'SHALA DARPAN DATA'!W1696","v":0},{"$f":"'SHALA DARPAN DATA'!R1696","v":0},{"$f":"'SHALA DARPAN DATA'!S1696","v":0},{"$f":"'SHALA DARPAN DATA'!O1696","v":0},0,0,0,0,0,0,0,0,0,0,0]
[{"$f":"'SHALA DARPAN DATA'!C1701","v":0},{"$f":"'SHALA DARPAN DATA'!A1701","v":0},{"$f":"'SHALA DARPAN DATA'!B1701","v":0},{"$f":"'SHALA DARPAN DATA'!D1701","v":0},{"$f":"'SHALA DARPAN DATA'!J1701","v":0},{"$f":"'SHALA DARPAN DATA'!T1701","v":0},{"$f":"'SHALA DARPAN DATA'!V1701","v":0},{"$f":"'SHALA DARPAN DATA'!K1701","v":0},{"$f":"'SHALA DARPAN DATA'!E1701","v":0},{"$f":"'SHALA DARPAN DATA'!G1701","v":0},{"$f":"'SHALA DARPAN DATA'!H1701","v":0},{"$f":"'SHALA DARPAN DATA'!W1701","v":0},{"$f":"'SHALA DARPAN DATA'!R1701","v":0},{"$f":"'SHALA DARPAN DATA'!S1701","v":0},{"$f":"'SHALA DARPAN DATA'!O1701","v":0},0,0,0,0,0,0,0,0,0,0,0]
[{"$f":"'SHALA DARPAN DATA'!C1702","v":0},{"$f":"'SHALA DARPAN DATA'!A1702","v":0},{"$f":"'SHALA DARPAN DATA'!B1702","v":0},{"$f":"'SHALA DARPAN DATA'!D1702","v":0},{"$f":"'SHALA DARPAN DATA'!J1702","v":0},{"$f":"'SHALA DARPAN DATA'!T1702","v":0},{"$f":"'SHALA DARPAN DATA'!V1702","v":0},{"$f":"'SHALA DARPAN DATA'!K1702","v":0},{"$f":"'SHALA DARPAN DATA'!E1702","v":0},{"$f":"'SHALA DARPAN DATA'!G1702","v":0},{"$f":"'SHALA DARPAN DATA'!H1702","v":0},{"$f":"'SHALA DARPAN DATA'!W1702","v":0},{"$f":"'SHALA DARPAN DATA'!R1702","v":0},{"$f":"'SHALA DARPAN DATA'!S1702","v":0},{"$f":"'SHALA DARPAN DATA'!O1702","v":0},0,0,0,0,0,0,0,0,0,0,0]
[{"$f":"'SHALA DARPAN DATA'!C1706","v":0},{"$f":"'SHALA DARPAN DATA'!A1706","v":0},{"$f":"'SHALA DARPAN DATA'!B1706","v":0},{"$f":"'SHALA DARPAN DATA'!D1706","v":0},{"$f":"'SHALA DARPAN DATA'!J1706","v":0},{"$f":"'SHALA DARPAN DATA'!T1706","v":0},{"$f":"'SHALA DARPAN DATA'!V1706","v":0},{"$f":"'SHALA DARPAN DATA'!K1706","v":0},{"$f":"'SHALA DARPAN DATA'!E1706","v":0},{"$f":"'SHALA DARPAN DATA'!G1706","v":0},{"$f":"'SHALA DARPAN DATA'!H1706","v":0},{"$f":"'SHALA DARPAN DATA'!W1706","v":0},{"$f":"'SHALA DARPAN DATA'!R1706","v":0},{"$f":"'SHALA DARPAN DATA'!S1706","v":0},{"$f":"'SHALA DARPAN DATA'!O1706","v":0},0,0,0,0,0,0,0,0,0,0,0]
[{"$f":"'SHALA DARPAN DATA'!C1711","v":0},{"$f":"'SHALA DARPAN DATA'!A1711","v":0},{"$f":"'SHALA DARPAN DATA'!B1711","v":0},{"$f":"'SHALA DARPAN DATA'!D1711","v":0},{"$f":"'SHALA DARPAN DATA'!J1711","v":0},{"$f":"'SHALA DARPAN DATA'!T1711","v":0},{"$f":"'SHALA DARPAN DATA'!V1711","v":0},{"$f":"'SHALA DARPAN DATA'!K1711","v":0},{"$f":"'SHALA DARPAN DATA'!E1711","v":0},{"$f":"'SHALA DARPAN DATA'!G1711","v":0},{"$f":"'SHALA DARPAN DATA'!H1711","v":0},{"$f":"'SHALA DARPAN DATA'!W1711","v":0},{"$f":"'SHALA DARPAN DATA'!R1711","v":0},{"$f":"'SHALA DARPAN DATA'!S1711","v":0},{"$f":"'SHALA DARPAN DATA'!O1711","v":0},0,0,0,0,0,0,0,0,0,0,0]
[{"$f":"'SHALA DARPAN DATA'!C1716","v":0},{"$f":"'SHALA DARPAN DATA'!A1716","v":0},{"$f":"'SHALA DARPAN DATA'!B1716","v":0},{"$f":"'SHALA DARPAN DATA'!D1716","v":0},{"$f":"'SHALA DARPAN DATA'!J1716","v":0},{"$f":"'SHALA DARPAN DATA'!T1716","v":0},{"$f":"'SHALA DARPAN DATA'!V1716","v":0},{"$f":"'SHALA DARPAN DATA'!K1716","v":0},{"$f":"'SHALA DARPAN DATA'!E1716","v":0},{"$f":"'SHALA DARPAN DATA'!G1716","v":0},{"$f":"'SHALA DARPAN DATA'!H1716","v":0},{"$f":"'SHALA DARPAN DATA'!W1716","v":0},{"$f":"'SHALA DARPAN DATA'!R1716","v":0},{"$f":"'SHALA DARPAN DATA'!S1716","v":0},{"$f":"'SHALA DARPAN DATA'!O1716","v":0},0,0,0,0,0,0,0,0,0,0,0]
[{"$f":"'SHALA DARPAN DATA'!C1717","v":0},{"$f":"'SHALA DARPAN DATA'!A1717","v":0},{"$f":"'SHALA DARPAN DATA'!B1717","v":0},{"$f":"'SHALA DARPAN DATA'!D1717","v":0},{"$f":"'SHALA DARPAN DATA'!J1717","v":0},{"$f":"'SHALA DARPAN DATA'!T1717","v":0},{"$f":"'SHALA DARPAN DATA'!V1717","v":0},{"$f":"'SHALA DARPAN DATA'!K1717","v":0},{"$f":"'SHALA DARPAN DATA'!E1717","v":0},{"$f":"'SHALA DARPAN DATA'!G1717","v":0},{"$f":"'SHALA DARPAN DATA'!H1717","v":0},{"$f":"'SHALA DARPAN DATA'!W1717","v":0},{"$f":"'SHALA DARPAN DATA'!R1717","v":0},{"$f":"'SHALA DARPAN DATA'!S1717","v":0},{"$f":"'SHALA DARPAN DATA'!O1717","v":0},0,0,0,0,0,0,0,0,0,0,0]
[{"$f":"'SHALA DARPAN DATA'!C1723","v":0},{"$f":"'SHALA DARPAN DATA'!A1723","v":0},{"$f":"'SHALA DARPAN DATA'!B1723","v":0},{"$f":"'SHALA DARPAN DATA'!D1723","v":0},{"$f":"'SHALA DARPAN DATA'!J1723","v":0},{"$f":"'SHALA DARPAN DATA'!T1723","v":0},{"$f":"'SHALA DARPAN DATA'!V1723","v":0},{"$f":"'SHALA DARPAN DATA'!K1723","v":0},{"$f":"'SHALA DARPAN DATA'!E1723","v":0},{"$f":"'SHALA DARPAN DATA'!G1723","v":0},{"$f":"'SHALA DARPAN DATA'!H1723","v":0},{"$f":"'SHALA DARPAN DATA'!W1723","v":0},{"$f":"'SHALA DARPAN DATA'!R1723","v":0},{"$f":"'SHALA DARPAN DATA'!S1723","v":0},{"$f":"'SHALA DARPAN DATA'!O1723","v":0},0,0,0,0,0,0,0,0,0,0,0]
[{"$f":"'SHALA DARPAN DATA'!C1726","v":0},{"$f":"'SHALA DARPAN DATA'!A1726","v":0},{"$f":"'SHALA DARPAN DATA'!B1726","v":0},{"$f":"'SHALA DARPAN DATA'!D1726","v":0},{"$f":"'SHALA DARPAN DATA'!J1726","v":0},{"$f":"'SHALA DARPAN DATA'!T1726","v":0},{"$f":"'SHALA DARPAN DATA'!V1726","v":0},{"$f":"'SHALA DARPAN DATA'!K1726","v":0},{"$f":"'SHALA DARPAN DATA'!E1726","v":0},{"$f":"'SHALA DARPAN DATA'!G1726","v":0},{"$f":"'SHALA DARPAN DATA'!H1726","v":0},{"$f":"'SHALA DARPAN DATA'!W1726","v":0},{"$f":"'SHALA DARPAN DATA'!R1726","v":0},{"$f":"'SHALA DARPAN DATA'!S1726","v":0},{"$f":"'SHALA DARPAN DATA'!O1726","v":0},0,0,0,0,0,0,0,0,0,0,0]
[{"$f":"'SHALA DARPAN DATA'!C1731","v":0},{"$f":"'SHALA DARPAN DATA'!A1731","v":0},{"$f":"'SHALA DARPAN DATA'!B1731","v":0},{"$f":"'SHALA DARPAN DATA'!D1731","v":0},{"$f":"'SHALA DARPAN DATA'!J1731","v":0},{"$f":"'SHALA DARPAN DATA'!T1731","v":0},{"$f":"'SHALA DARPAN DATA'!V1731","v":0},{"$f":"'SHALA DARPAN DATA'!K1731","v":0},{"$f":"'SHALA DARPAN DATA'!E1731","v":0},{"$f":"'SHALA DARPAN DATA'!G1731","v":0},{"$f":"'SHALA DARPAN DATA'!H1731","v":0},{"$f":"'SHALA DARPAN DATA'!W1731","v":0},{"$f":"'SHALA DARPAN DATA'!R1731","v":0},{"$f":"'SHALA DARPAN DATA'!S1731","v":0},{"$f":"'SHALA DARPAN DATA'!O1731","v":0},0,0,0,0,0,0,0,0,0,0,0]
[{"$f":"'SHALA DARPAN DATA'!C1732","v":0},{"$f":"'SHALA DARPAN DATA'!A1732","v":0},{"$f":"'SHALA DARPAN DATA'!B1732","v":0},{"$f":"'SHALA DARPAN DATA'!D1732","v":0},{"$f":"'SHALA DARPAN DATA'!J1732","v":0},{"$f":"'SHALA DARPAN DATA'!T1732","v":0},{"$f":"'SHALA DARPAN DATA'!V1732","v":0},{"$f":"'SHALA DARPAN DATA'!K1732","v":0},{"$f":"'SHALA DARPAN DATA'!E1732","v":0},{"$f":"'SHALA DARPAN DATA'!G1732","v":0},{"$f":"'SHALA DARPAN DATA'!H1732","v":0},{"$f":"'SHALA DARPAN DATA'!W1732","v":0},{"$f":"'SHALA DARPAN DATA'!R1732","v":0},{"$f":"'SHALA DARPAN DATA'!S1732","v":0},{"$f":"'SHALA DARPAN DATA'!O1732","v":0},0,0,0,0,0,0,0,0,0,0,0]
[{"$f":"'SHALA DARPAN DATA'!C1736","v":0},{"$f":"'SHALA DARPAN DATA'!A1736","v":0},{"$f":"'SHALA DARPAN DATA'!B1736","v":0},{"$f":"'SHALA DARPAN DATA'!D1736","v":0},{"$f":"'SHALA DARPAN DATA'!J1736","v":0},{"$f":"'SHALA DARPAN DATA'!T1736","v":0},{"$f":"'SHALA DARPAN DATA'!V1736","v":0},{"$f":"'SHALA DARPAN DATA'!K1736","v":0},{"$f":"'SHALA DARPAN DATA'!E1736","v":0},{"$f":"'SHALA DARPAN DATA'!G1736","v":0},{"$f":"'SHALA DARPAN DATA'!H1736","v":0},{"$f":"'SHALA DARPAN DATA'!W1736","v":0},{"$f":"'SHALA DARPAN DATA'!R1736","v":0},{"$f":"'SHALA DARPAN DATA'!S1736","v":0},{"$f":"'SHALA DARPAN DATA'!O1736","v":0},0,0,0,0,0,0,0,0,0,0,0]
[{"$f":"'SHALA DARPAN DATA'!C1741","v":0},{"$f":"'SHALA DARPAN DATA'!A1741","v":0},{"$f":"'SHALA DARPAN DATA'!B1741","v":0},{"$f":"'SHALA DARPAN DATA'!D1741","v":0},{"$f":"'SHALA DARPAN DATA'!J1741","v":0},{"$f":"'SHALA DARPAN DATA'!T1741","v":0},{"$f":"'SHALA DARPAN DATA'!V1741","v":0},{"$f":"'SHALA DARPAN DATA'!K1741","v":0},{"$f":"'SHALA DARPAN DATA'!E1741","v":0},{"$f":"'SHALA DARPAN DATA'!G1741","v":0},{"$f":"'SHALA DARPAN DATA'!H1741","v":0},{"$f":"'SHALA DARPAN DATA'!W1741","v":0},{"$f":"'SHALA DARPAN DATA'!R1741","v":0},{"$f":"'SHALA DARPAN DATA'!S1741","v":0},{"$f":"'SHALA DARPAN DATA'!O1741","v":0},0,0,0,0,0,0,0,0,0,0,0]
[{"$f":"'SHALA DARPAN DATA'!C1746","v":0},{"$f":"'SHALA DARPAN DATA'!A1746","v":0},{"$f":"'SHALA DARPAN DATA'!B1746","v":0},{"$f":"'SHALA DARPAN DATA'!D1746","v":0},{"$f":"'SHALA DARPAN DATA'!J1746","v":0},{"$f":"'SHALA DARPAN DATA'!T1746","v":0},{"$f":"'SHALA DARPAN DATA'!V1746","v":0},{"$f":"'SHALA DARPAN DATA'!K1746","v":0},{"$f":"'SHALA DARPAN DATA'!E1746","v":0},{"$f":"'SHALA DARPAN DATA'!G1746","v":0},{"$f":"'SHALA DARPAN DATA'!H1746","v":0},{"$f":"'SHALA DARPAN DATA'!W1746","v":0},{"$f":"'SHALA DARPAN DATA'!R1746","v":0},{"$f":"'SHALA DARPAN DATA'!S1746","v":0},{"$f":"'SHALA DARPAN DATA'!O1746","v":0},0,0,0,0,0,0,0,0,0,0,0]
[{"$f":"'SHALA DARPAN DATA'!C1747","v":0},{"$f":"'SHALA DARPAN DATA'!A1747","v":0},{"$f":"'SHALA DARPAN DATA'!B1747","v":0},{"$f":"'SHALA DARPAN DATA'!D1747","v":0},{"$f":"'SHALA DARPAN DATA'!J1747","v":0},{"$f":"'SHALA DARPAN DATA'!T1747","v":0},{"$f":"'SHALA DARPAN DATA'!V1747","v":0},{"$f":"'SHALA DARPAN DATA'!K1747","v":0},{"$f":"'SHALA DARPAN DATA'!E1747","v":0},{"$f":"'SHALA DARPAN DATA'!G1747","v":0},{"$f":"'SHALA DARPAN DATA'!H1747","v":0},{"$f":"'SHALA DARPAN DATA'!W1747","v":0},{"$f":"'SHALA DARPAN DATA'!R1747","v":0},{"$f":"'SHALA DARPAN DATA'!S1747","v":0},{"$f":"'SHALA DARPAN DATA'!O1747","v":0},0,0,0,0,0,0,0,0,0,0,0]
[{"$f":"'SHALA DARPAN DATA'!C1753","v":0},{"$f":"'SHALA DARPAN DATA'!A1753","v":0},{"$f":"'SHALA DARPAN DATA'!B1753","v":0},{"$f":"'SHALA DARPAN DATA'!D1753","v":0},{"$f":"'SHALA DARPAN DATA'!J1753","v":0},{"$f":"'SHALA DARPAN DATA'!T1753","v":0},{"$f":"'SHALA DARPAN DATA'!V1753","v":0},{"$f":"'SHALA DARPAN DATA'!K1753","v":0},{"$f":"'SHALA DARPAN DATA'!E1753","v":0},{"$f":"'SHALA DARPAN DATA'!G1753","v":0},{"$f":"'SHALA DARPAN DATA'!H1753","v":0},{"$f":"'SHALA DARPAN DATA'!W1753","v":0},{"$f":"'SHALA DARPAN DATA'!R1753","v":0},{"$f":"'SHALA DARPAN DATA'!S1753","v":0},{"$f":"'SHALA DARPAN DATA'!O1753","v":0},0,0,0,0,0,0,0,0,0,0,0]
[{"$f":"'SHALA DARPAN DATA'!C1756","v":0},{"$f":"'SHALA DARPAN DATA'!A1756","v":0},{"$f":"'SHALA DARPAN DATA'!B1756","v":0},{"$f":"'SHALA DARPAN DATA'!D1756","v":0},{"$f":"'SHALA DARPAN DATA'!J1756","v":0},{"$f":"'SHALA DARPAN DATA'!T1756","v":0},{"$f":"'SHALA DARPAN DATA'!V1756","v":0},{"$f":"'SHALA DARPAN DATA'!K1756","v":0},{"$f":"'SHALA DARPAN DATA'!E1756","v":0},{"$f":"'SHALA DARPAN DATA'!G1756","v":0},{"$f":"'SHALA DARPAN DATA'!H1756","v":0},{"$f":"'SHALA DARPAN DATA'!W1756","v":0},{"$f":"'SHALA DARPAN DATA'!R1756","v":0},{"$f":"'SHALA DARPAN DATA'!S1756","v":0},{"$f":"'SHALA DARPAN DATA'!O1756","v":0},0,0,0,0,0,0,0,0,0,0,0]
[{"$f":"'SHALA DARPAN DATA'!C1761","v":0},{"$f":"'SHALA DARPAN DATA'!A1761","v":0},{"$f":"'SHALA DARPAN DATA'!B1761","v":0},{"$f":"'SHALA DARPAN DATA'!D1761","v":0},{"$f":"'SHALA DARPAN DATA'!J1761","v":0},{"$f":"'SHALA DARPAN DATA'!T1761","v":0},{"$f":"'SHALA DARPAN DATA'!V1761","v":0},{"$f":"'SHALA DARPAN DATA'!K1761","v":0},{"$f":"'SHALA DARPAN DATA'!E1761","v":0},{"$f":"'SHALA DARPAN DATA'!G1761","v":0},{"$f":"'SHALA DARPAN DATA'!H1761","v":0},{"$f":"'SHALA DARPAN DATA'!W1761","v":0},{"$f":"'SHALA DARPAN DATA'!R1761","v":0},{"$f":"'SHALA DARPAN DATA'!S1761","v":0},{"$f":"'SHALA DARPAN DATA'!O1761","v":0},0,0,0,0,0,0,0,0,0,0,0]
[{"$f":"'SHALA DARPAN DATA'!C1762","v":0},{"$f":"'SHALA DARPAN DATA'!A1762","v":0},{"$f":"'SHALA DARPAN DATA'!B1762","v":0},{"$f":"'SHALA DARPAN DATA'!D1762","v":0},{"$f":"'SHALA DARPAN DATA'!J1762","v":0},{"$f":"'SHALA DARPAN DATA'!T1762","v":0},{"$f":"'SHALA DARPAN DATA'!V1762","v":0},{"$f":"'SHALA DARPAN DATA'!K1762","v":0},{"$f":"'SHALA DARPAN DATA'!E1762","v":0},{"$f":"'SHALA DARPAN DATA'!G1762","v":0},{"$f":"'SHALA DARPAN DATA'!H1762","v":0},{"$f":"'SHALA DARPAN DATA'!W1762","v":0},{"$f":"'SHALA DARPAN DATA'!R1762","v":0},{"$f":"'SHALA DARPAN DATA'!S1762","v":0},{"$f":"'SHALA DARPAN DATA'!O1762","v":0},0,0,0,0,0,0,0,0,0,0,0]
[{"$f":"'SHALA DARPAN DATA'!C1766","v":0},{"$f":"'SHALA DARPAN DATA'!A1766","v":0},{"$f":"'SHALA DARPAN DATA'!B1766","v":0},{"$f":"'SHALA DARPAN DATA'!D1766","v":0},{"$f":"'SHALA DARPAN DATA'!J1766","v":0},{"$f":"'SHALA DARPAN DATA'!T1766","v":0},{"$f":"'SHALA DARPAN DATA'!V1766","v":0},{"$f":"'SHALA DARPAN DATA'!K1766","v":0},{"$f":"'SHALA DARPAN DATA'!E1766","v":0},{"$f":"'SHALA DARPAN DATA'!G1766","v":0},{"$f":"'SHALA DARPAN DATA'!H1766","v":0},{"$f":"'SHALA DARPAN DATA'!W1766","v":0},{"$f":"'SHALA DARPAN DATA'!R1766","v":0},{"$f":"'SHALA DARPAN DATA'!S1766","v":0},{"$f":"'SHALA DARPAN DATA'!O1766","v":0},0,0,0,0,0,0,0,0,0,0,0]
[{"$f":"'SHALA DARPAN DATA'!C1771","v":0},{"$f":"'SHALA DARPAN DATA'!A1771","v":0},{"$f":"'SHALA DARPAN DATA'!B1771","v":0},{"$f":"'SHALA DARPAN DATA'!D1771","v":0},{"$f":"'SHALA DARPAN DATA'!J1771","v":0},{"$f":"'SHALA DARPAN DATA'!T1771","v":0},{"$f":"'SHALA DARPAN DATA'!V1771","v":0},{"$f":"'SHALA DARPAN DATA'!K1771","v":0},{"$f":"'SHALA DARPAN DATA'!E1771","v":0},{"$f":"'SHALA DARPAN DATA'!G1771","v":0},{"$f":"'SHALA DARPAN DATA'!H1771","v":0},{"$f":"'SHALA DARPAN DATA'!W1771","v":0},{"$f":"'SHALA DARPAN DATA'!R1771","v":0},{"$f":"'SHALA DARPAN DATA'!S1771","v":0},{"$f":"'SHALA DARPAN DATA'!O1771","v":0},0,0,0,0,0,0,0,0,0,0,0]
[{"$f":"'SHALA DARPAN DATA'!C1776","v":0},{"$f":"'SHALA DARPAN DATA'!A1776","v":0},{"$f":"'SHALA DARPAN DATA'!B1776","v":0},{"$f":"'SHALA DARPAN DATA'!D1776","v":0},{"$f":"'SHALA DARPAN DATA'!J1776","v":0},{"$f":"'SHALA DARPAN DATA'!T1776","v":0},{"$f":"'SHALA DARPAN DATA'!V1776","v":0},{"$f":"'SHALA DARPAN DATA'!K1776","v":0},{"$f":"'SHALA DARPAN DATA'!E1776","v":0},{"$f":"'SHALA DARPAN DATA'!G1776","v":0},{"$f":"'SHALA DARPAN DATA'!H1776","v":0},{"$f":"'SHALA DARPAN DATA'!W1776","v":0},{"$f":"'SHALA DARPAN DATA'!R1776","v":0},{"$f":"'SHALA DARPAN DATA'!S1776","v":0},{"$f":"'SHALA DARPAN DATA'!O1776","v":0},0,0,0,0,0,0,0,0,0,0,0]
[{"$f":"'SHALA DARPAN DATA'!C1777","v":0},{"$f":"'SHALA DARPAN DATA'!A1777","v":0},{"$f":"'SHALA DARPAN DATA'!B1777","v":0},{"$f":"'SHALA DARPAN DATA'!D1777","v":0},{"$f":"'SHALA DARPAN DATA'!J1777","v":0},{"$f":"'SHALA DARPAN DATA'!T1777","v":0},{"$f":"'SHALA DARPAN DATA'!V1777","v":0},{"$f":"'SHALA DARPAN DATA'!K1777","v":0},{"$f":"'SHALA DARPAN DATA'!E1777","v":0},{"$f":"'SHALA DARPAN DATA'!G1777","v":0},{"$f":"'SHALA DARPAN DATA'!H1777","v":0},{"$f":"'SHALA DARPAN DATA'!W1777","v":0},{"$f":"'SHALA DARPAN DATA'!R1777","v":0},{"$f":"'SHALA DARPAN DATA'!S1777","v":0},{"$f":"'SHALA DARPAN DATA'!O1777","v":0},0,0,0,0,0,0,0,0,0,0,0]
[{"$f":"'SHALA DARPAN DATA'!C1783","v":0},{"$f":"'SHALA DARPAN DATA'!A1783","v":0},{"$f":"'SHALA DARPAN DATA'!B1783","v":0},{"$f":"'SHALA DARPAN DATA'!D1783","v":0},{"$f":"'SHALA DARPAN DATA'!J1783","v":0},{"$f":"'SHALA DARPAN DATA'!T1783","v":0},{"$f":"'SHALA DARPAN DATA'!V1783","v":0},{"$f":"'SHALA DARPAN DATA'!K1783","v":0},{"$f":"'SHALA DARPAN DATA'!E1783","v":0},{"$f":"'SHALA DARPAN DATA'!G1783","v":0},{"$f":"'SHALA DARPAN DATA'!H1783","v":0},{"$f":"'SHALA DARPAN DATA'!W1783","v":0},{"$f":"'SHALA DARPAN DATA'!R1783","v":0},{"$f":"'SHALA DARPAN DATA'!S1783","v":0},{"$f":"'SHALA DARPAN DATA'!O1783","v":0},0,0,0,0,0,0,0,0,0,0,0]
[{"$f":"'SHALA DARPAN DATA'!C1786","v":0},{"$f":"'SHALA DARPAN DATA'!A1786","v":0},{"$f":"'SHALA DARPAN DATA'!B1786","v":0},{"$f":"'SHALA DARPAN DATA'!D1786","v":0},{"$f":"'SHALA DARPAN DATA'!J1786","v":0},{"$f":"'SHALA DARPAN DATA'!T1786","v":0},{"$f":"'SHALA DARPAN DATA'!V1786","v":0},{"$f":"'SHALA DARPAN DATA'!K1786","v":0},{"$f":"'SHALA DARPAN DATA'!E1786","v":0},{"$f":"'SHALA DARPAN DATA'!G1786","v":0},{"$f":"'SHALA DARPAN DATA'!H1786","v":0},{"$f":"'SHALA DARPAN DATA'!W1786","v":0},{"$f":"'SHALA DARPAN DATA'!R1786","v":0},{"$f":"'SHALA DARPAN DATA'!S1786","v":0},{"$f":"'SHALA DARPAN DATA'!O1786","v":0},0,0,0,0,0,0,0,0,0,0,0]
[{"$f":"'SHALA DARPAN DATA'!C1791","v":0},{"$f":"'SHALA DARPAN DATA'!A1791","v":0},{"$f":"'SHALA DARPAN DATA'!B1791","v":0},{"$f":"'SHALA DARPAN DATA'!D1791","v":0},{"$f":"'SHALA DARPAN DATA'!J1791","v":0},{"$f":"'SHALA DARPAN DATA'!T1791","v":0},{"$f":"'SHALA DARPAN DATA'!V1791","v":0},{"$f":"'SHALA DARPAN DATA'!K1791","v":0},{"$f":"'SHALA DARPAN DATA'!E1791","v":0},{"$f":"'SHALA DARPAN DATA'!G1791","v":0},{"$f":"'SHALA DARPAN DATA'!H1791","v":0},{"$f":"'SHALA DARPAN DATA'!W1791","v":0},{"$f":"'SHALA DARPAN DATA'!R1791","v":0},{"$f":"'SHALA DARPAN DATA'!S1791","v":0},{"$f":"'SHALA DARPAN DATA'!O1791","v":0},0,0,0,0,0,0,0,0,0,0,0]
[{"$f":"'SHALA DARPAN DATA'!C1792","v":0},{"$f":"'SHALA DARPAN DATA'!A1792","v":0},{"$f":"'SHALA DARPAN DATA'!B1792","v":0},{"$f":"'SHALA DARPAN DATA'!D1792","v":0},{"$f":"'SHALA DARPAN DATA'!J1792","v":0},{"$f":"'SHALA DARPAN DATA'!T1792","v":0},{"$f":"'SHALA DARPAN DATA'!V1792","v":0},{"$f":"'SHALA DARPAN DATA'!K1792","v":0},{"$f":"'SHALA DARPAN DATA'!E1792","v":0},{"$f":"'SHALA DARPAN DATA'!G1792","v":0},{"$f":"'SHALA DARPAN DATA'!H1792","v":0},{"$f":"'SHALA DARPAN DATA'!W1792","v":0},{"$f":"'SHALA DARPAN DATA'!R1792","v":0},{"$f":"'SHALA DARPAN DATA'!S1792","v":0},{"$f":"'SHALA DARPAN DATA'!O1792","v":0},0,0,0,0,0,0,0,0,0,0,0]
[{"$f":"'SHALA DARPAN DATA'!C1796","v":0},{"$f":"'SHALA DARPAN DATA'!A1796","v":0},{"$f":"'SHALA DARPAN DATA'!B1796","v":0},{"$f":"'SHALA DARPAN DATA'!D1796","v":0},{"$f":"'SHALA DARPAN DATA'!J1796","v":0},{"$f":"'SHALA DARPAN DATA'!T1796","v":0},{"$f":"'SHALA DARPAN DATA'!V1796","v":0},{"$f":"'SHALA DARPAN DATA'!K1796","v":0},{"$f":"'SHALA DARPAN DATA'!E1796","v":0},{"$f":"'SHALA DARPAN DATA'!G1796","v":0},{"$f":"'SHALA DARPAN DATA'!H1796","v":0},{"$f":"'SHALA DARPAN DATA'!W1796","v":0},{"$f":"'SHALA DARPAN DATA'!R1796","v":0},{"$f":"'SHALA DARPAN DATA'!S1796","v":0},{"$f":"'SHALA DARPAN DATA'!O1796","v":0},0,0,0,0,0,0,0,0,0,0,0]
[{"$f":"'SHALA DARPAN DATA'!C1801","v":0},{"$f":"'SHALA DARPAN DATA'!A1801","v":0},{"$f":"'SHALA DARPAN DATA'!B1801","v":0},{"$f":"'SHALA DARPAN DATA'!D1801","v":0},{"$f":"'SHALA DARPAN DATA'!J1801","v":0},{"$f":"'SHALA DARPAN DATA'!T1801","v":0},{"$f":"'SHALA DARPAN DATA'!V1801","v":0},{"$f":"'SHALA DARPAN DATA'!K1801","v":0},{"$f":"'SHALA DARPAN DATA'!E1801","v":0},{"$f":"'SHALA DARPAN DATA'!G1801","v":0},{"$f":"'SHALA DARPAN DATA'!H1801","v":0},{"$f":"'SHALA DARPAN DATA'!W1801","v":0},{"$f":"'SHALA DARPAN DATA'!R1801","v":0},{"$f":"'SHALA DARPAN DATA'!S1801","v":0},{"$f":"'SHALA DARPAN DATA'!O1801","v":0},0,0,0,0,0,0,0,0,0,0,0]
[{"$f":"'SHALA DARPAN DATA'!C1806","v":0},{"$f":"'SHALA DARPAN DATA'!A1806","v":0},{"$f":"'SHALA DARPAN DATA'!B1806","v":0},{"$f":"'SHALA DARPAN DATA'!D1806","v":0},{"$f":"'SHALA DARPAN DATA'!J1806","v":0},{"$f":"'SHALA DARPAN DATA'!T1806","v":0},{"$f":"'SHALA DARPAN DATA'!V1806","v":0},{"$f":"'SHALA DARPAN DATA'!K1806","v":0},{"$f":"'SHALA DARPAN DATA'!E1806","v":0},{"$f":"'SHALA DARPAN DATA'!G1806","v":0},{"$f":"'SHALA DARPAN DATA'!H1806","v":0},{"$f":"'SHALA DARPAN DATA'!W1806","v":0},{"$f":"'SHALA DARPAN DATA'!R1806","v":0},{"$f":"'SHALA DARPAN DATA'!S1806","v":0},{"$f":"'SHALA DARPAN DATA'!O1806","v":0},0,0,0,0,0,0,0,0,0,0,0]
[{"$f":"'SHALA DARPAN DATA'!C1807","v":0},{"$f":"'SHALA DARPAN DATA'!A1807","v":0},{"$f":"'SHALA DARPAN DATA'!B1807","v":0},{"$f":"'SHALA DARPAN DATA'!D1807","v":0},{"$f":"'SHALA DARPAN DATA'!J1807","v":0},{"$f":"'SHALA DARPAN DATA'!T1807","v":0},{"$f":"'SHALA DARPAN DATA'!V1807","v":0},{"$f":"'SHALA DARPAN DATA'!K1807","v":0},{"$f":"'SHALA DARPAN DATA'!E1807","v":0},{"$f":"'SHALA DARPAN DATA'!G1807","v":0},{"$f":"'SHALA DARPAN DATA'!H1807","v":0},{"$f":"'SHALA DARPAN DATA'!W1807","v":0},{"$f":"'SHALA DARPAN DATA'!R1807","v":0},{"$f":"'SHALA DARPAN DATA'!S1807","v":0},{"$f":"'SHALA DARPAN DATA'!O1807","v":0},0,0,0,0,0,0,0,0,0,0,0]
[{"$f":"'SHALA DARPAN DATA'!C1813","v":0},{"$f":"'SHALA DARPAN DATA'!A1813","v":0},{"$f":"'SHALA DARPAN DATA'!B1813","v":0},{"$f":"'SHALA DARPAN DATA'!D1813","v":0},{"$f":"'SHALA DARPAN DATA'!J1813","v":0},{"$f":"'SHALA DARPAN DATA'!T1813","v":0},{"$f":"'SHALA DARPAN DATA'!V1813","v":0},{"$f":"'SHALA DARPAN DATA'!K1813","v":0},{"$f":"'SHALA DARPAN DATA'!E1813","v":0},{"$f":"'SHALA DARPAN DATA'!G1813","v":0},{"$f":"'SHALA DARPAN DATA'!H1813","v":0},{"$f":"'SHALA DARPAN DATA'!W1813","v":0},{"$f":"'SHALA DARPAN DATA'!R1813","v":0},{"$f":"'SHALA DARPAN DATA'!S1813","v":0},{"$f":"'SHALA DARPAN DATA'!O1813","v":0},0,0,0,0,0,0,0,0,0,0,0]
[{"$f":"'SHALA DARPAN DATA'!C1816","v":0},{"$f":"'SHALA DARPAN DATA'!A1816","v":0},{"$f":"'SHALA DARPAN DATA'!B1816","v":0},{"$f":"'SHALA DARPAN DATA'!D1816","v":0},{"$f":"'SHALA DARPAN DATA'!J1816","v":0},{"$f":"'SHALA DARPAN DATA'!T1816","v":0},{"$f":"'SHALA DARPAN DATA'!V1816","v":0},{"$f":"'SHALA DARPAN DATA'!K1816","v":0},{"$f":"'SHALA DARPAN DATA'!E1816","v":0},{"$f":"'SHALA DARPAN DATA'!G1816","v":0},{"$f":"'SHALA DARPAN DATA'!H1816","v":0},{"$f":"'SHALA DARPAN DATA'!W1816","v":0},{"$f":"'SHALA DARPAN DATA'!R1816","v":0},{"$f":"'SHALA DARPAN DATA'!S1816","v":0},{"$f":"'SHALA DARPAN DATA'!O1816","v":0},0,0,0,0,0,0,0,0,0,0,0]
[{"$f":"'SHALA DARPAN DATA'!C1821","v":0},{"$f":"'SHALA DARPAN DATA'!A1821","v":0},{"$f":"'SHALA DARPAN DATA'!B1821","v":0},{"$f":"'SHALA DARPAN DATA'!D1821","v":0},{"$f":"'SHALA DARPAN DATA'!J1821","v":0},{"$f":"'SHALA DARPAN DATA'!T1821","v":0},{"$f":"'SHALA DARPAN DATA'!V1821","v":0},{"$f":"'SHALA DARPAN DATA'!K1821","v":0},{"$f":"'SHALA DARPAN DATA'!E1821","v":0},{"$f":"'SHALA DARPAN DATA'!G1821","v":0},{"$f":"'SHALA DARPAN DATA'!H1821","v":0},{"$f":"'SHALA DARPAN DATA'!W1821","v":0},{"$f":"'SHALA DARPAN DATA'!R1821","v":0},{"$f":"'SHALA DARPAN DATA'!S1821","v":0},{"$f":"'SHALA DARPAN DATA'!O1821","v":0},0,0,0,0,0,0,0,0,0,0,0]
[{"$f":"'SHALA DARPAN DATA'!C1822","v":0},{"$f":"'SHALA DARPAN DATA'!A1822","v":0},{"$f":"'SHALA DARPAN DATA'!B1822","v":0},{"$f":"'SHALA DARPAN DATA'!D1822","v":0},{"$f":"'SHALA DARPAN DATA'!J1822","v":0},{"$f":"'SHALA DARPAN DATA'!T1822","v":0},{"$f":"'SHALA DARPAN DATA'!V1822","v":0},{"$f":"'SHALA DARPAN DATA'!K1822","v":0},{"$f":"'SHALA DARPAN DATA'!E1822","v":0},{"$f":"'SHALA DARPAN DATA'!G1822","v":0},{"$f":"'SHALA DARPAN DATA'!H1822","v":0},{"$f":"'SHALA DARPAN DATA'!W1822","v":0},{"$f":"'SHALA DARPAN DATA'!R1822","v":0},{"$f":"'SHALA DARPAN DATA'!S1822","v":0},{"$f":"'SHALA DARPAN DATA'!O1822","v":0},0,0,0,0,0,0,0,0,0,0,0]
[{"$f":"'SHALA DARPAN DATA'!C1827","v":0},{"$f":"'SHALA DARPAN DATA'!A1827","v":0},{"$f":"'SHALA DARPAN DATA'!B1827","v":0},{"$f":"'SHALA DARPAN DATA'!D1827","v":0},{"$f":"'SHALA DARPAN DATA'!J1827","v":0},{"$f":"'SHALA DARPAN DATA'!T1827","v":0},{"$f":"'SHALA DARPAN DATA'!V1827","v":0},{"$f":"'SHALA DARPAN DATA'!K1827","v":0},{"$f":"'SHALA DARPAN DATA'!E1827","v":0},{"$f":"'SHALA DARPAN DATA'!G1827","v":0},{"$f":"'SHALA DARPAN DATA'!H1827","v":0},{"$f":"'SHALA DARPAN DATA'!W1827","v":0},{"$f":"'SHALA DARPAN DATA'!R1827","v":0},{"$f":"'SHALA DARPAN DATA'!S1827","v":0},{"$f":"'SHALA DARPAN DATA'!O1827","v":0},0,0,0,0,0,0,0,0,0,0,0]
[{"$f":"'SHALA DARPAN DATA'!C1831","v":0},{"$f":"'SHALA DARPAN DATA'!A1831","v":0},{"$f":"'SHALA DARPAN DATA'!B1831","v":0},{"$f":"'SHALA DARPAN DATA'!D1831","v":0},{"$f":"'SHALA DARPAN DATA'!J1831","v":0},{"$f":"'SHALA DARPAN DATA'!T1831","v":0},{"$f":"'SHALA DARPAN DATA'!V1831","v":0},{"$f":"'SHALA DARPAN DATA'!K1831","v":0},{"$f":"'SHALA DARPAN DATA'!E1831","v":0},{"$f":"'SHALA DARPAN DATA'!G1831","v":0},{"$f":"'SHALA DARPAN DATA'!H1831","v":0},{"$f":"'SHALA DARPAN DATA'!W1831","v":0},{"$f":"'SHALA DARPAN DATA'!R1831","v":0},{"$f":"'SHALA DARPAN DATA'!S1831","v":0},{"$f":"'SHALA DARPAN DATA'!O1831","v":0},0,0,0,0,0,0,0,0,0,0,0]
[{"$f":"'SHALA DARPAN DATA'!C1836","v":0},{"$f":"'SHALA DARPAN DATA'!A1836","v":0},{"$f":"'SHALA DARPAN DATA'!B1836","v":0},{"$f":"'SHALA DARPAN DATA'!D1836","v":0},{"$f":"'SHALA DARPAN DATA'!J1836","v":0},{"$f":"'SHALA DARPAN DATA'!T1836","v":0},{"$f":"'SHALA DARPAN DATA'!V1836","v":0},{"$f":"'SHALA DARPAN DATA'!K1836","v":0},{"$f":"'SHALA DARPAN DATA'!E1836","v":0},{"$f":"'SHALA DARPAN DATA'!G1836","v":0},{"$f":"'SHALA DARPAN DATA'!H1836","v":0},{"$f":"'SHALA DARPAN DATA'!W1836","v":0},{"$f":"'SHALA DARPAN DATA'!R1836","v":0},{"$f":"'SHALA DARPAN DATA'!S1836","v":0},{"$f":"'SHALA DARPAN DATA'!O1836","v":0},0,0,0,0,0,0,0,0,0,0,0]
[{"$f":"'SHALA DARPAN DATA'!C1837","v":0},{"$f":"'SHALA DARPAN DATA'!A1837","v":0},{"$f":"'SHALA DARPAN DATA'!B1837","v":0},{"$f":"'SHALA DARPAN DATA'!D1837","v":0},{"$f":"'SHALA DARPAN DATA'!J1837","v":0},{"$f":"'SHALA DARPAN DATA'!T1837","v":0},{"$f":"'SHALA DARPAN DATA'!V1837","v":0},{"$f":"'SHALA DARPAN DATA'!K1837","v":0},{"$f":"'SHALA DARPAN DATA'!E1837","v":0},{"$f":"'SHALA DARPAN DATA'!G1837","v":0},{"$f":"'SHALA DARPAN DATA'!H1837","v":0},{"$f":"'SHALA DARPAN DATA'!W1837","v":0},{"$f":"'SHALA DARPAN DATA'!R1837","v":0},{"$f":"'SHALA DARPAN DATA'!S1837","v":0},{"$f":"'SHALA DARPAN DATA'!O1837","v":0},0,0,0,0,0,0,0,0,0,0,0]
[{"$f":"'SHALA DARPAN DATA'!C1843","v":0},{"$f":"'SHALA DARPAN DATA'!A1843","v":0},{"$f":"'SHALA DARPAN DATA'!B1843","v":0},{"$f":"'SHALA DARPAN DATA'!D1843","v":0},{"$f":"'SHALA DARPAN DATA'!J1843","v":0},{"$f":"'SHALA DARPAN DATA'!T1843","v":0},{"$f":"'SHALA DARPAN DATA'!V1843","v":0},{"$f":"'SHALA DARPAN DATA'!K1843","v":0},{"$f":"'SHALA DARPAN DATA'!E1843","v":0},{"$f":"'SHALA DARPAN DATA'!G1843","v":0},{"$f":"'SHALA DARPAN DATA'!H1843","v":0},{"$f":"'SHALA DARPAN DATA'!W1843","v":0},{"$f":"'SHALA DARPAN DATA'!R1843","v":0},{"$f":"'SHALA DARPAN DATA'!S1843","v":0},{"$f":"'SHALA DARPAN DATA'!O1843","v":0},0,0,0,0,0,0,0,0,0,0,0]
[{"$f":"'SHALA DARPAN DATA'!C1846","v":0},{"$f":"'SHALA DARPAN DATA'!A1846","v":0},{"$f":"'SHALA DARPAN DATA'!B1846","v":0},{"$f":"'SHALA DARPAN DATA'!D1846","v":0},{"$f":"'SHALA DARPAN DATA'!J1846","v":0},{"$f":"'SHALA DARPAN DATA'!T1846","v":0},{"$f":"'SHALA DARPAN DATA'!V1846","v":0},{"$f":"'SHALA DARPAN DATA'!K1846","v":0},{"$f":"'SHALA DARPAN DATA'!E1846","v":0},{"$f":"'SHALA DARPAN DATA'!G1846","v":0},{"$f":"'SHALA DARPAN DATA'!H1846","v":0},{"$f":"'SHALA DARPAN DATA'!W1846","v":0},{"$f":"'SHALA DARPAN DATA'!R1846","v":0},{"$f":"'SHALA DARPAN DATA'!S1846","v":0},{"$f":"'SHALA DARPAN DATA'!O1846","v":0},0,0,0,0,0,0,0,0,0,0,0]
[{"$f":"'SHALA DARPAN DATA'!C1851","v":0},{"$f":"'SHALA DARPAN DATA'!A1851","v":0},{"$f":"'SHALA DARPAN DATA'!B1851","v":0},{"$f":"'SHALA DARPAN DATA'!D1851","v":0},{"$f":"'SHALA DARPAN DATA'!J1851","v":0},{"$f":"'SHALA DARPAN DATA'!T1851","v":0},{"$f":"'SHALA DARPAN DATA'!V1851","v":0},{"$f":"'SHALA DARPAN DATA'!K1851","v":0},{"$f":"'SHALA DARPAN DATA'!E1851","v":0},{"$f":"'SHALA DARPAN DATA'!G1851","v":0},{"$f":"'SHALA DARPAN DATA'!H1851","v":0},{"$f":"'SHALA DARPAN DATA'!W1851","v":0},{"$f":"'SHALA DARPAN DATA'!R1851","v":0},{"$f":"'SHALA DARPAN DATA'!S1851","v":0},{"$f":"'SHALA DARPAN DATA'!O1851","v":0},0,0,0,0,0,0,0,0,0,0,0]
[{"$f":"'SHALA DARPAN DATA'!C1852","v":0},{"$f":"'SHALA DARPAN DATA'!A1852","v":0},{"$f":"'SHALA DARPAN DATA'!B1852","v":0},{"$f":"'SHALA DARPAN DATA'!D1852","v":0},{"$f":"'SHALA DARPAN DATA'!J1852","v":0},{"$f":"'SHALA DARPAN DATA'!T1852","v":0},{"$f":"'SHALA DARPAN DATA'!V1852","v":0},{"$f":"'SHALA DARPAN DATA'!K1852","v":0},{"$f":"'SHALA DARPAN DATA'!E1852","v":0},{"$f":"'SHALA DARPAN DATA'!G1852","v":0},{"$f":"'SHALA DARPAN DATA'!H1852","v":0},{"$f":"'SHALA DARPAN DATA'!W1852","v":0},{"$f":"'SHALA DARPAN DATA'!R1852","v":0},{"$f":"'SHALA DARPAN DATA'!S1852","v":0},{"$f":"'SHALA DARPAN DATA'!O1852","v":0},0,0,0,0,0,0,0,0,0,0,0]
[{"$f":"'SHALA DARPAN DATA'!C1857","v":0},{"$f":"'SHALA DARPAN DATA'!A1857","v":0},{"$f":"'SHALA DARPAN DATA'!B1857","v":0},{"$f":"'SHALA DARPAN DATA'!D1857","v":0},{"$f":"'SHALA DARPAN DATA'!J1857","v":0},{"$f":"'SHALA DARPAN DATA'!T1857","v":0},{"$f":"'SHALA DARPAN DATA'!V1857","v":0},{"$f":"'SHALA DARPAN DATA'!K1857","v":0},{"$f":"'SHALA DARPAN DATA'!E1857","v":0},{"$f":"'SHALA DARPAN DATA'!G1857","v":0},{"$f":"'SHALA DARPAN DATA'!H1857","v":0},{"$f":"'SHALA DARPAN DATA'!W1857","v":0},{"$f":"'SHALA DARPAN DATA'!R1857","v":0},{"$f":"'SHALA DARPAN DATA'!S1857","v":0},{"$f":"'SHALA DARPAN DATA'!O1857","v":0},0,0,0,0,0,0,0,0,0,0,0]
[{"$f":"'SHALA DARPAN DATA'!C1861","v":0},{"$f":"'SHALA DARPAN DATA'!A1861","v":0},{"$f":"'SHALA DARPAN DATA'!B1861","v":0},{"$f":"'SHALA DARPAN DATA'!D1861","v":0},{"$f":"'SHALA DARPAN DATA'!J1861","v":0},{"$f":"'SHALA DARPAN DATA'!T1861","v":0},{"$f":"'SHALA DARPAN DATA'!V1861","v":0},{"$f":"'SHALA DARPAN DATA'!K1861","v":0},{"$f":"'SHALA DARPAN DATA'!E1861","v":0},{"$f":"'SHALA DARPAN DATA'!G1861","v":0},{"$f":"'SHALA DARPAN DATA'!H1861","v":0},{"$f":"'SHALA DARPAN DATA'!W1861","v":0},{"$f":"'SHALA DARPAN DATA'!R1861","v":0},{"$f":"'SHALA DARPAN DATA'!S1861","v":0},{"$f":"'SHALA DARPAN DATA'!O1861","v":0},0,0,0,0,0,0,0,0,0,0,0]
[{"$f":"'SHALA DARPAN DATA'!C1866","v":0},{"$f":"'SHALA DARPAN DATA'!A1866","v":0},{"$f":"'SHALA DARPAN DATA'!B1866","v":0},{"$f":"'SHALA DARPAN DATA'!D1866","v":0},{"$f":"'SHALA DARPAN DATA'!J1866","v":0},{"$f":"'SHALA DARPAN DATA'!T1866","v":0},{"$f":"'SHALA DARPAN DATA'!V1866","v":0},{"$f":"'SHALA DARPAN DATA'!K1866","v":0},{"$f":"'SHALA DARPAN DATA'!E1866","v":0},{"$f":"'SHALA DARPAN DATA'!G1866","v":0},{"$f":"'SHALA DARPAN DATA'!H1866","v":0},{"$f":"'SHALA DARPAN DATA'!W1866","v":0},{"$f":"'SHALA DARPAN DATA'!R1866","v":0},{"$f":"'SHALA DARPAN DATA'!S1866","v":0},{"$f":"'SHALA DARPAN DATA'!O1866","v":0},0,0,0,0,0,0,0,0,0,0,0]
[{"$f":"'SHALA DARPAN DATA'!C1867","v":0},{"$f":"'SHALA DARPAN DATA'!A1867","v":0},{"$f":"'SHALA DARPAN DATA'!B1867","v":0},{"$f":"'SHALA DARPAN DATA'!D1867","v":0},{"$f":"'SHALA DARPAN DATA'!J1867","v":0},{"$f":"'SHALA DARPAN DATA'!T1867","v":0},{"$f":"'SHALA DARPAN DATA'!V1867","v":0},{"$f":"'SHALA DARPAN DATA'!K1867","v":0},{"$f":"'SHALA DARPAN DATA'!E1867","v":0},{"$f":"'SHALA DARPAN DATA'!G1867","v":0},{"$f":"'SHALA DARPAN DATA'!H1867","v":0},{"$f":"'SHALA DARPAN DATA'!W1867","v":0},{"$f":"'SHALA DARPAN DATA'!R1867","v":0},{"$f":"'SHALA DARPAN DATA'!S1867","v":0},{"$f":"'SHALA DARPAN DATA'!O1867","v":0},0,0,0,0,0,0,0,0,0,0,0]
[{"$f":"'SHALA DARPAN DATA'!C1873","v":0},{"$f":"'SHALA DARPAN DATA'!A1873","v":0},{"$f":"'SHALA DARPAN DATA'!B1873","v":0},{"$f":"'SHALA DARPAN DATA'!D1873","v":0},{"$f":"'SHALA DARPAN DATA'!J1873","v":0},{"$f":"'SHALA DARPAN DATA'!T1873","v":0},{"$f":"'SHALA DARPAN DATA'!V1873","v":0},{"$f":"'SHALA DARPAN DATA'!K1873","v":0},{"$f":"'SHALA DARPAN DATA'!E1873","v":0},{"$f":"'SHALA DARPAN DATA'!G1873","v":0},{"$f":"'SHALA DARPAN DATA'!H1873","v":0},{"$f":"'SHALA DARPAN DATA'!W1873","v":0},{"$f":"'SHALA DARPAN DATA'!R1873","v":0},{"$f":"'SHALA DARPAN DATA'!S1873","v":0},{"$f":"'SHALA DARPAN DATA'!O1873","v":0},0,0,0,0,0,0,0,0,0,0,0]
[{"$f":"'SHALA DARPAN DATA'!C1876","v":0},{"$f":"'SHALA DARPAN DATA'!A1876","v":0},{"$f":"'SHALA DARPAN DATA'!B1876","v":0},{"$f":"'SHALA DARPAN DATA'!D1876","v":0},{"$f":"'SHALA DARPAN DATA'!J1876","v":0},{"$f":"'SHALA DARPAN DATA'!T1876","v":0},{"$f":"'SHALA DARPAN DATA'!V1876","v":0},{"$f":"'SHALA DARPAN DATA'!K1876","v":0},{"$f":"'SHALA DARPAN DATA'!E1876","v":0},{"$f":"'SHALA DARPAN DATA'!G1876","v":0},{"$f":"'SHALA DARPAN DATA'!H1876","v":0},{"$f":"'SHALA DARPAN DATA'!W1876","v":0},{"$f":"'SHALA DARPAN DATA'!R1876","v":0},{"$f":"'SHALA DARPAN DATA'!S1876","v":0},{"$f":"'SHALA DARPAN DATA'!O1876","v":0},0,0,0,0,0,0,0,0,0,0,0]
[{"$f":"'SHALA DARPAN DATA'!C1881","v":0},{"$f":"'SHALA DARPAN DATA'!A1881","v":0},{"$f":"'SHALA DARPAN DATA'!B1881","v":0},{"$f":"'SHALA DARPAN DATA'!D1881","v":0},{"$f":"'SHALA DARPAN DATA'!J1881","v":0},{"$f":"'SHALA DARPAN DATA'!T1881","v":0},{"$f":"'SHALA DARPAN DATA'!V1881","v":0},{"$f":"'SHALA DARPAN DATA'!K1881","v":0},{"$f":"'SHALA DARPAN DATA'!E1881","v":0},{"$f":"'SHALA DARPAN DATA'!G1881","v":0},{"$f":"'SHALA DARPAN DATA'!H1881","v":0},{"$f":"'SHALA DARPAN DATA'!W1881","v":0},{"$f":"'SHALA DARPAN DATA'!R1881","v":0},{"$f":"'SHALA DARPAN DATA'!S1881","v":0},{"$f":"'SHALA DARPAN DATA'!O1881","v":0},0,0,0,0,0,0,0,0,0,0,0]
[{"$f":"'SHALA DARPAN DATA'!C1882","v":0},{"$f":"'SHALA DARPAN DATA'!A1882","v":0},{"$f":"'SHALA DARPAN DATA'!B1882","v":0},{"$f":"'SHALA DARPAN DATA'!D1882","v":0},{"$f":"'SHALA DARPAN DATA'!J1882","v":0},{"$f":"'SHALA DARPAN DATA'!T1882","v":0},{"$f":"'SHALA DARPAN DATA'!V1882","v":0},{"$f":"'SHALA DARPAN DATA'!K1882","v":0},{"$f":"'SHALA DARPAN DATA'!E1882","v":0},{"$f":"'SHALA DARPAN DATA'!G1882","v":0},{"$f":"'SHALA DARPAN DATA'!H1882","v":0},{"$f":"'SHALA DARPAN DATA'!W1882","v":0},{"$f":"'SHALA DARPAN DATA'!R1882","v":0},{"$f":"'SHALA DARPAN DATA'!S1882","v":0},{"$f":"'SHALA DARPAN DATA'!O1882","v":0},0,0,0,0,0,0,0,0,0,0,0]
[{"$f":"'SHALA DARPAN DATA'!C1887","v":0},{"$f":"'SHALA DARPAN DATA'!A1887","v":0},{"$f":"'SHALA DARPAN DATA'!B1887","v":0},{"$f":"'SHALA DARPAN DATA'!D1887","v":0},{"$f":"'SHALA DARPAN DATA'!J1887","v":0},{"$f":"'SHALA DARPAN DATA'!T1887","v":0},{"$f":"'SHALA DARPAN DATA'!V1887","v":0},{"$f":"'SHALA DARPAN DATA'!K1887","v":0},{"$f":"'SHALA DARPAN DATA'!E1887","v":0},{"$f":"'SHALA DARPAN DATA'!G1887","v":0},{"$f":"'SHALA DARPAN DATA'!H1887","v":0},{"$f":"'SHALA DARPAN DATA'!W1887","v":0},{"$f":"'SHALA DARPAN DATA'!R1887","v":0},{"$f":"'SHALA DARPAN DATA'!S1887","v":0},{"$f":"'SHALA DARPAN DATA'!O1887","v":0},0,0,0,0,0,0,0,0,0,0,0]
[{"$f":"'SHALA DARPAN DATA'!C1891","v":0},{"$f":"'SHALA DARPAN DATA'!A1891","v":0},{"$f":"'SHALA DARPAN DATA'!B1891","v":0},{"$f":"'SHALA DARPAN DATA'!D1891","v":0},{"$f":"'SHALA DARPAN DATA'!J1891","v":0},{"$f":"'SHALA DARPAN DATA'!T1891","v":0},{"$f":"'SHALA DARPAN DATA'!V1891","v":0},{"$f":"'SHALA DARPAN DATA'!K1891","v":0},{"$f":"'SHALA DARPAN DATA'!E1891","v":0},{"$f":"'SHALA DARPAN DATA'!G1891","v":0},{"$f":"'SHALA DARPAN DATA'!H1891","v":0},{"$f":"'SHALA DARPAN DATA'!W1891","v":0},{"$f":"'SHALA DARPAN DATA'!R1891","v":0},{"$f":"'SHALA DARPAN DATA'!S1891","v":0},{"$f":"'SHALA DARPAN DATA'!O1891","v":0},0,0,0,0,0,0,0,0,0,0,0]
[{"$f":"'SHALA DARPAN DATA'!C1896","v":0},{"$f":"'SHALA DARPAN DATA'!A1896","v":0},{"$f":"'SHALA DARPAN DATA'!B1896","v":0},{"$f":"'SHALA DARPAN DATA'!D1896","v":0},{"$f":"'SHALA DARPAN DATA'!J1896","v":0},{"$f":"'SHALA DARPAN DATA'!T1896","v":0},{"$f":"'SHALA DARPAN DATA'!V1896","v":0},{"$f":"'SHALA DARPAN DATA'!K1896","v":0},{"$f":"'SHALA DARPAN DATA'!E1896","v":0},{"$f":"'SHALA DARPAN DATA'!G1896","v":0},{"$f":"'SHALA DARPAN DATA'!H1896","v":0},{"$f":"'SHALA DARPAN DATA'!W1896","v":0},{"$f":"'SHALA DARPAN DATA'!R1896","v":0},{"$f":"'SHALA DARPAN DATA'!S1896","v":0},{"$f":"'SHALA DARPAN DATA'!O1896","v":0},0,0,0,0,0,0,0,0,0,0,0]
[{"$f":"'SHALA DARPAN DATA'!C1897","v":0},{"$f":"'SHALA DARPAN DATA'!A1897","v":0},{"$f":"'SHALA DARPAN DATA'!B1897","v":0},{"$f":"'SHALA DARPAN DATA'!D1897","v":0},{"$f":"'SHALA DARPAN DATA'!J1897","v":0},{"$f":"'SHALA DARPAN DATA'!T1897","v":0},{"$f":"'SHALA DARPAN DATA'!V1897","v":0},{"$f":"'SHALA DARPAN DATA'!K1897","v":0},{"$f":"'SHALA DARPAN DATA'!E1897","v":0},{"$f":"'SHALA DARPAN DATA'!G1897","v":0},{"$f":"'SHALA DARPAN DATA'!H1897","v":0},{"$f":"'SHALA DARPAN DATA'!W1897","v":0},{"$f":"'SHALA DARPAN DATA'!R1897","v":0},{"$f":"'SHALA DARPAN DATA'!S1897","v":0},{"$f":"'SHALA DARPAN DATA'!O1897","v":0},0,0,0,0,0,0,0,0,0,0,0]
[{"$f":"'SHALA DARPAN DATA'!C1903","v":0},{"$f":"'SHALA DARPAN DATA'!A1903","v":0},{"$f":"'SHALA DARPAN DATA'!B1903","v":0},{"$f":"'SHALA DARPAN DATA'!D1903","v":0},{"$f":"'SHALA DARPAN DATA'!J1903","v":0},{"$f":"'SHALA DARPAN DATA'!T1903","v":0},{"$f":"'SHALA DARPAN DATA'!V1903","v":0},{"$f":"'SHALA DARPAN DATA'!K1903","v":0},{"$f":"'SHALA DARPAN DATA'!E1903","v":0},{"$f":"'SHALA DARPAN DATA'!G1903","v":0},{"$f":"'SHALA DARPAN DATA'!H1903","v":0},{"$f":"'SHALA DARPAN DATA'!W1903","v":0},{"$f":"'SHALA DARPAN DATA'!R1903","v":0},{"$f":"'SHALA DARPAN DATA'!S1903","v":0},{"$f":"'SHALA DARPAN DATA'!O1903","v":0},0,0,0,0,0,0,0,0,0,0,0]
[{"$f":"'SHALA DARPAN DATA'!C1906","v":0},{"$f":"'SHALA DARPAN DATA'!A1906","v":0},{"$f":"'SHALA DARPAN DATA'!B1906","v":0},{"$f":"'SHALA DARPAN DATA'!D1906","v":0},{"$f":"'SHALA DARPAN DATA'!J1906","v":0},{"$f":"'SHALA DARPAN DATA'!T1906","v":0},{"$f":"'SHALA DARPAN DATA'!V1906","v":0},{"$f":"'SHALA DARPAN DATA'!K1906","v":0},{"$f":"'SHALA DARPAN DATA'!E1906","v":0},{"$f":"'SHALA DARPAN DATA'!G1906","v":0},{"$f":"'SHALA DARPAN DATA'!H1906","v":0},{"$f":"'SHALA DARPAN DATA'!W1906","v":0},{"$f":"'SHALA DARPAN DATA'!R1906","v":0},{"$f":"'SHALA DARPAN DATA'!S1906","v":0},{"$f":"'SHALA DARPAN DATA'!O1906","v":0},0,0,0,0,0,0,0,0,0,0,0]
[{"$f":"'SHALA DARPAN DATA'!C1911","v":0},{"$f":"'SHALA DARPAN DATA'!A1911","v":0},{"$f":"'SHALA DARPAN DATA'!B1911","v":0},{"$f":"'SHALA DARPAN DATA'!D1911","v":0},{"$f":"'SHALA DARPAN DATA'!J1911","v":0},{"$f":"'SHALA DARPAN DATA'!T1911","v":0},{"$f":"'SHALA DARPAN DATA'!V1911","v":0},{"$f":"'SHALA DARPAN DATA'!K1911","v":0},{"$f":"'SHALA DARPAN DATA'!E1911","v":0},{"$f":"'SHALA DARPAN DATA'!G1911","v":0},{"$f":"'SHALA DARPAN DATA'!H1911","v":0},{"$f":"'SHALA DARPAN DATA'!W1911","v":0},{"$f":"'SHALA DARPAN DATA'!R1911","v":0},{"$f":"'SHALA DARPAN DATA'!S1911","v":0},{"$f":"'SHALA DARPAN DATA'!O1911","v":0},0,0,0,0,0,0,0,0,0,0,0]
[{"$f":"'SHALA DARPAN DATA'!C1912","v":0},{"$f":"'SHALA DARPAN DATA'!A1912","v":0},{"$f":"'SHALA DARPAN DATA'!B1912","v":0},{"$f":"'SHALA DARPAN DATA'!D1912","v":0},{"$f":"'SHALA DARPAN DATA'!J1912","v":0},{"$f":"'SHALA DARPAN DATA'!T1912","v":0},{"$f":"'SHALA DARPAN DATA'!V1912","v":0},{"$f":"'SHALA DARPAN DATA'!K1912","v":0},{"$f":"'SHALA DARPAN DATA'!E1912","v":0},{"$f":"'SHALA DARPAN DATA'!G1912","v":0},{"$f":"'SHALA DARPAN DATA'!H1912","v":0},{"$f":"'SHALA DARPAN DATA'!W1912","v":0},{"$f":"'SHALA DARPAN DATA'!R1912","v":0},{"$f":"'SHALA DARPAN DATA'!S1912","v":0},{"$f":"'SHALA DARPAN DATA'!O1912","v":0},0,0,0,0,0,0,0,0,0,0,0]
[{"$f":"'SHALA DARPAN DATA'!C1917","v":0},{"$f":"'SHALA DARPAN DATA'!A1917","v":0},{"$f":"'SHALA DARPAN DATA'!B1917","v":0},{"$f":"'SHALA DARPAN DATA'!D1917","v":0},{"$f":"'SHALA DARPAN DATA'!J1917","v":0},{"$f":"'SHALA DARPAN DATA'!T1917","v":0},{"$f":"'SHALA DARPAN DATA'!V1917","v":0},{"$f":"'SHALA DARPAN DATA'!K1917","v":0},{"$f":"'SHALA DARPAN DATA'!E1917","v":0},{"$f":"'SHALA DARPAN DATA'!G1917","v":0},{"$f":"'SHALA DARPAN DATA'!H1917","v":0},{"$f":"'SHALA DARPAN DATA'!W1917","v":0},{"$f":"'SHALA DARPAN DATA'!R1917","v":0},{"$f":"'SHALA DARPAN DATA'!S1917","v":0},{"$f":"'SHALA DARPAN DATA'!O1917","v":0},0,0,0,0,0,0,0,0,0,0,0]
[{"$f":"'SHALA DARPAN DATA'!C1921","v":0},{"$f":"'SHALA DARPAN DATA'!A1921","v":0},{"$f":"'SHALA DARPAN DATA'!B1921","v":0},{"$f":"'SHALA DARPAN DATA'!D1921","v":0},{"$f":"'SHALA DARPAN DATA'!J1921","v":0},{"$f":"'SHALA DARPAN DATA'!T1921","v":0},{"$f":"'SHALA DARPAN DATA'!V1921","v":0},{"$f":"'SHALA DARPAN DATA'!K1921","v":0},{"$f":"'SHALA DARPAN DATA'!E1921","v":0},{"$f":"'SHALA DARPAN DATA'!G1921","v":0},{"$f":"'SHALA DARPAN DATA'!H1921","v":0},{"$f":"'SHALA DARPAN DATA'!W1921","v":0},{"$f":"'SHALA DARPAN DATA'!R1921","v":0},{"$f":"'SHALA DARPAN DATA'!S1921","v":0},{"$f":"'SHALA DARPAN DATA'!O1921","v":0},0,0,0,0,0,0,0,0,0,0,0]
[{"$f":"'SHALA DARPAN DATA'!C1926","v":0},{"$f":"'SHALA DARPAN DATA'!A1926","v":0},{"$f":"'SHALA DARPAN DATA'!B1926","v":0},{"$f":"'SHALA DARPAN DATA'!D1926","v":0},{"$f":"'SHALA DARPAN DATA'!J1926","v":0},{"$f":"'SHALA DARPAN DATA'!T1926","v":0},{"$f":"'SHALA DARPAN DATA'!V1926","v":0},{"$f":"'SHALA DARPAN DATA'!K1926","v":0},{"$f":"'SHALA DARPAN DATA'!E1926","v":0},{"$f":"'SHALA DARPAN DATA'!G1926","v":0},{"$f":"'SHALA DARPAN DATA'!H1926","v":0},{"$f":"'SHALA DARPAN DATA'!W1926","v":0},{"$f":"'SHALA DARPAN DATA'!R1926","v":0},{"$f":"'SHALA DARPAN DATA'!S1926","v":0},{"$f":"'SHALA DARPAN DATA'!O1926","v":0},0,0,0,0,0,0,0,0,0,0,0]
[{"$f":"'SHALA DARPAN DATA'!C1927","v":0},{"$f":"'SHALA DARPAN DATA'!A1927","v":0},{"$f":"'SHALA DARPAN DATA'!B1927","v":0},{"$f":"'SHALA DARPAN DATA'!D1927","v":0},{"$f":"'SHALA DARPAN DATA'!J1927","v":0},{"$f":"'SHALA DARPAN DATA'!T1927","v":0},{"$f":"'SHALA DARPAN DATA'!V1927","v":0},{"$f":"'SHALA DARPAN DATA'!K1927","v":0},{"$f":"'SHALA DARPAN DATA'!E1927","v":0},{"$f":"'SHALA DARPAN DATA'!G1927","v":0},{"$f":"'SHALA DARPAN DATA'!H1927","v":0},{"$f":"'SHALA DARPAN DATA'!W1927","v":0},{"$f":"'SHALA DARPAN DATA'!R1927","v":0},{"$f":"'SHALA DARPAN DATA'!S1927","v":0},{"$f":"'SHALA DARPAN DATA'!O1927","v":0},0,0,0,0,0,0,0,0,0,0,0]
[{"$f":"'SHALA DARPAN DATA'!C1933","v":0},{"$f":"'SHALA DARPAN DATA'!A1933","v":0},{"$f":"'SHALA DARPAN DATA'!B1933","v":0},{"$f":"'SHALA DARPAN DATA'!D1933","v":0},{"$f":"'SHALA DARPAN DATA'!J1933","v":0},{"$f":"'SHALA DARPAN DATA'!T1933","v":0},{"$f":"'SHALA DARPAN DATA'!V1933","v":0},{"$f":"'SHALA DARPAN DATA'!K1933","v":0},{"$f":"'SHALA DARPAN DATA'!E1933","v":0},{"$f":"'SHALA DARPAN DATA'!G1933","v":0},{"$f":"'SHALA DARPAN DATA'!H1933","v":0},{"$f":"'SHALA DARPAN DATA'!W1933","v":0},{"$f":"'SHALA DARPAN DATA'!R1933","v":0},{"$f":"'SHALA DARPAN DATA'!S1933","v":0},{"$f":"'SHALA DARPAN DATA'!O1933","v":0},0,0,0,0,0,0,0,0,0,0,0]
[{"$f":"'SHALA DARPAN DATA'!C1936","v":0},{"$f":"'SHALA DARPAN DATA'!A1936","v":0},{"$f":"'SHALA DARPAN DATA'!B1936","v":0},{"$f":"'SHALA DARPAN DATA'!D1936","v":0},{"$f":"'SHALA DARPAN DATA'!J1936","v":0},{"$f":"'SHALA DARPAN DATA'!T1936","v":0},{"$f":"'SHALA DARPAN DATA'!V1936","v":0},{"$f":"'SHALA DARPAN DATA'!K1936","v":0},{"$f":"'SHALA DARPAN DATA'!E1936","v":0},{"$f":"'SHALA DARPAN DATA'!G1936","v":0},{"$f":"'SHALA DARPAN DATA'!H1936","v":0},{"$f":"'SHALA DARPAN DATA'!W1936","v":0},{"$f":"'SHALA DARPAN DATA'!R1936","v":0},{"$f":"'SHALA DARPAN DATA'!S1936","v":0},{"$f":"'SHALA DARPAN DATA'!O1936","v":0},0,0,0,0,0,0,0,0,0,0,0]
[{"$f":"'SHALA DARPAN DATA'!C1941","v":0},{"$f":"'SHALA DARPAN DATA'!A1941","v":0},{"$f":"'SHALA DARPAN DATA'!B1941","v":0},{"$f":"'SHALA DARPAN DATA'!D1941","v":0},{"$f":"'SHALA DARPAN DATA'!J1941","v":0},{"$f":"'SHALA DARPAN DATA'!T1941","v":0},{"$f":"'SHALA DARPAN DATA'!V1941","v":0},{"$f":"'SHALA DARPAN DATA'!K1941","v":0},{"$f":"'SHALA DARPAN DATA'!E1941","v":0},{"$f":"'SHALA DARPAN DATA'!G1941","v":0},{"$f":"'SHALA DARPAN DATA'!H1941","v":0},{"$f":"'SHALA DARPAN DATA'!W1941","v":0},{"$f":"'SHALA DARPAN DATA'!R1941","v":0},{"$f":"'SHALA DARPAN DATA'!S1941","v":0},{"$f":"'SHALA DARPAN DATA'!O1941","v":0},0,0,0,0,0,0,0,0,0,0,0]
[{"$f":"'SHALA DARPAN DATA'!C1942","v":0},{"$f":"'SHALA DARPAN DATA'!A1942","v":0},{"$f":"'SHALA DARPAN DATA'!B1942","v":0},{"$f":"'SHALA DARPAN DATA'!D1942","v":0},{"$f":"'SHALA DARPAN DATA'!J1942","v":0},{"$f":"'SHALA DARPAN DATA'!T1942","v":0},{"$f":"'SHALA DARPAN DATA'!V1942","v":0},{"$f":"'SHALA DARPAN DATA'!K1942","v":0},{"$f":"'SHALA DARPAN DATA'!E1942","v":0},{"$f":"'SHALA DARPAN DATA'!G1942","v":0},{"$f":"'SHALA DARPAN DATA'!H1942","v":0},{"$f":"'SHALA DARPAN DATA'!W1942","v":0},{"$f":"'SHALA DARPAN DATA'!R1942","v":0},{"$f":"'SHALA DARPAN DATA'!S1942","v":0},{"$f":"'SHALA DARPAN DATA'!O1942","v":0},0,0,0,0,0,0,0,0,0,0,0]
[{"$f":"'SHALA DARPAN DATA'!C1947","v":0},{"$f":"'SHALA DARPAN DATA'!A1947","v":0},{"$f":"'SHALA DARPAN DATA'!B1947","v":0},{"$f":"'SHALA DARPAN DATA'!D1947","v":0},{"$f":"'SHALA DARPAN DATA'!J1947","v":0},{"$f":"'SHALA DARPAN DATA'!T1947","v":0},{"$f":"'SHALA DARPAN DATA'!V1947","v":0},{"$f":"'SHALA DARPAN DATA'!K1947","v":0},{"$f":"'SHALA DARPAN DATA'!E1947","v":0},{"$f":"'SHALA DARPAN DATA'!G1947","v":0},{"$f":"'SHALA DARPAN DATA'!H1947","v":0},{"$f":"'SHALA DARPAN DATA'!W1947","v":0},{"$f":"'SHALA DARPAN DATA'!R1947","v":0},{"$f":"'SHALA DARPAN DATA'!S1947","v":0},{"$f":"'SHALA DARPAN DATA'!O1947","v":0},0,0,0,0,0,0,0,0,0,0,0]
[{"$f":"'SHALA DARPAN DATA'!C1951","v":0},{"$f":"'SHALA DARPAN DATA'!A1951","v":0},{"$f":"'SHALA DARPAN DATA'!B1951","v":0},{"$f":"'SHALA DARPAN DATA'!D1951","v":0},{"$f":"'SHALA DARPAN DATA'!J1951","v":0},{"$f":"'SHALA DARPAN DATA'!T1951","v":0},{"$f":"'SHALA DARPAN DATA'!V1951","v":0},{"$f":"'SHALA DARPAN DATA'!K1951","v":0},{"$f":"'SHALA DARPAN DATA'!E1951","v":0},{"$f":"'SHALA DARPAN DATA'!G1951","v":0},{"$f":"'SHALA DARPAN DATA'!H1951","v":0},{"$f":"'SHALA DARPAN DATA'!W1951","v":0},{"$f":"'SHALA DARPAN DATA'!R1951","v":0},{"$f":"'SHALA DARPAN DATA'!S1951","v":0},{"$f":"'SHALA DARPAN DATA'!O1951","v":0},0,0,0,0,0,0,0,0,0,0,0]
[{"$f":"'SHALA DARPAN DATA'!C1956","v":0},{"$f":"'SHALA DARPAN DATA'!A1956","v":0},{"$f":"'SHALA DARPAN DATA'!B1956","v":0},{"$f":"'SHALA DARPAN DATA'!D1956","v":0},{"$f":"'SHALA DARPAN DATA'!J1956","v":0},{"$f":"'SHALA DARPAN DATA'!T1956","v":0},{"$f":"'SHALA DARPAN DATA'!V1956","v":0},{"$f":"'SHALA DARPAN DATA'!K1956","v":0},{"$f":"'SHALA DARPAN DATA'!E1956","v":0},{"$f":"'SHALA DARPAN DATA'!G1956","v":0},{"$f":"'SHALA DARPAN DATA'!H1956","v":0},{"$f":"'SHALA DARPAN DATA'!W1956","v":0},{"$f":"'SHALA DARPAN DATA'!R1956","v":0},{"$f":"'SHALA DARPAN DATA'!S1956","v":0},{"$f":"'SHALA DARPAN DATA'!O1956","v":0},0,0,0,0,0,0,0,0,0,0,0]
[{"$f":"'SHALA DARPAN DATA'!C1957","v":0},{"$f":"'SHALA DARPAN DATA'!A1957","v":0},{"$f":"'SHALA DARPAN DATA'!B1957","v":0},{"$f":"'SHALA DARPAN DATA'!D1957","v":0},{"$f":"'SHALA DARPAN DATA'!J1957","v":0},{"$f":"'SHALA DARPAN DATA'!T1957","v":0},{"$f":"'SHALA DARPAN DATA'!V1957","v":0},{"$f":"'SHALA DARPAN DATA'!K1957","v":0},{"$f":"'SHALA DARPAN DATA'!E1957","v":0},{"$f":"'SHALA DARPAN DATA'!G1957","v":0},{"$f":"'SHALA DARPAN DATA'!H1957","v":0},{"$f":"'SHALA DARPAN DATA'!W1957","v":0},{"$f":"'SHALA DARPAN DATA'!R1957","v":0},{"$f":"'SHALA DARPAN DATA'!S1957","v":0},{"$f":"'SHALA DARPAN DATA'!O1957","v":0},0,0,0,0,0,0,0,0,0,0,0]
[{"$f":"'SHALA DARPAN DATA'!C1963","v":0},{"$f":"'SHALA DARPAN DATA'!A1963","v":0},{"$f":"'SHALA DARPAN DATA'!B1963","v":0},{"$f":"'SHALA DARPAN DATA'!D1963","v":0},{"$f":"'SHALA DARPAN DATA'!J1963","v":0},{"$f":"'SHALA DARPAN DATA'!T1963","v":0},{"$f":"'SHALA DARPAN DATA'!V1963","v":0},{"$f":"'SHALA DARPAN DATA'!K1963","v":0},{"$f":"'SHALA DARPAN DATA'!E1963","v":0},{"$f":"'SHALA DARPAN DATA'!G1963","v":0},{"$f":"'SHALA DARPAN DATA'!H1963","v":0},{"$f":"'SHALA DARPAN DATA'!W1963","v":0},{"$f":"'SHALA DARPAN DATA'!R1963","v":0},{"$f":"'SHALA DARPAN DATA'!S1963","v":0},{"$f":"'SHALA DARPAN DATA'!O1963","v":0},0,0,0,0,0,0,0,0,0,0,0]
[{"$f":"'SHALA DARPAN DATA'!C1966","v":0},{"$f":"'SHALA DARPAN DATA'!A1966","v":0},{"$f":"'SHALA DARPAN DATA'!B1966","v":0},{"$f":"'SHALA DARPAN DATA'!D1966","v":0},{"$f":"'SHALA DARPAN DATA'!J1966","v":0},{"$f":"'SHALA DARPAN DATA'!T1966","v":0},{"$f":"'SHALA DARPAN DATA'!V1966","v":0},{"$f":"'SHALA DARPAN DATA'!K1966","v":0},{"$f":"'SHALA DARPAN DATA'!E1966","v":0},{"$f":"'SHALA DARPAN DATA'!G1966","v":0},{"$f":"'SHALA DARPAN DATA'!H1966","v":0},{"$f":"'SHALA DARPAN DATA'!W1966","v":0},{"$f":"'SHALA DARPAN DATA'!R1966","v":0},{"$f":"'SHALA DARPAN DATA'!S1966","v":0},{"$f":"'SHALA DARPAN DATA'!O1966","v":0},0,0,0,0,0,0,0,0,0,0,0]
[{"$f":"'SHALA DARPAN DATA'!C1971","v":0},{"$f":"'SHALA DARPAN DATA'!A1971","v":0},{"$f":"'SHALA DARPAN DATA'!B1971","v":0},{"$f":"'SHALA DARPAN DATA'!D1971","v":0},{"$f":"'SHALA DARPAN DATA'!J1971","v":0},{"$f":"'SHALA DARPAN DATA'!T1971","v":0},{"$f":"'SHALA DARPAN DATA'!V1971","v":0},{"$f":"'SHALA DARPAN DATA'!K1971","v":0},{"$f":"'SHALA DARPAN DATA'!E1971","v":0},{"$f":"'SHALA DARPAN DATA'!G1971","v":0},{"$f":"'SHALA DARPAN DATA'!H1971","v":0},{"$f":"'SHALA DARPAN DATA'!W1971","v":0},{"$f":"'SHALA DARPAN DATA'!R1971","v":0},{"$f":"'SHALA DARPAN DATA'!S1971","v":0},{"$f":"'SHALA DARPAN DATA'!O1971","v":0},0,0,0,0,0,0,0,0,0,0,0]
[{"$f":"'SHALA DARPAN DATA'!C1972","v":0},{"$f":"'SHALA DARPAN DATA'!A1972","v":0},{"$f":"'SHALA DARPAN DATA'!B1972","v":0},{"$f":"'SHALA DARPAN DATA'!D1972","v":0},{"$f":"'SHALA DARPAN DATA'!J1972","v":0},{"$f":"'SHALA DARPAN DATA'!T1972","v":0},{"$f":"'SHALA DARPAN DATA'!V1972","v":0},{"$f":"'SHALA DARPAN DATA'!K1972","v":0},{"$f":"'SHALA DARPAN DATA'!E1972","v":0},{"$f":"'SHALA DARPAN DATA'!G1972","v":0},{"$f":"'SHALA DARPAN DATA'!H1972","v":0},{"$f":"'SHALA DARPAN DATA'!W1972","v":0},{"$f":"'SHALA DARPAN DATA'!R1972","v":0},{"$f":"'SHALA DARPAN DATA'!S1972","v":0},{"$f":"'SHALA DARPAN DATA'!O1972","v":0},0,0,0,0,0,0,0,0,0,0,0]
[{"$f":"'SHALA DARPAN DATA'!C1977","v":0},{"$f":"'SHALA DARPAN DATA'!A1977","v":0},{"$f":"'SHALA DARPAN DATA'!B1977","v":0},{"$f":"'SHALA DARPAN DATA'!D1977","v":0},{"$f":"'SHALA DARPAN DATA'!J1977","v":0},{"$f":"'SHALA DARPAN DATA'!T1977","v":0},{"$f":"'SHALA DARPAN DATA'!V1977","v":0},{"$f":"'SHALA DARPAN DATA'!K1977","v":0},{"$f":"'SHALA DARPAN DATA'!E1977","v":0},{"$f":"'SHALA DARPAN DATA'!G1977","v":0},{"$f":"'SHALA DARPAN DATA'!H1977","v":0},{"$f":"'SHALA DARPAN DATA'!W1977","v":0},{"$f":"'SHALA DARPAN DATA'!R1977","v":0},{"$f":"'SHALA DARPAN DATA'!S1977","v":0},{"$f":"'SHALA DARPAN DATA'!O1977","v":0},0,0,0,0,0,0,0,0,0,0,0]
[{"$f":"'SHALA DARPAN DATA'!C1981","v":0},{"$f":"'SHALA DARPAN DATA'!A1981","v":0},{"$f":"'SHALA DARPAN DATA'!B1981","v":0},{"$f":"'SHALA DARPAN DATA'!D1981","v":0},{"$f":"'SHALA DARPAN DATA'!J1981","v":0},{"$f":"'SHALA DARPAN DATA'!T1981","v":0},{"$f":"'SHALA DARPAN DATA'!V1981","v":0},{"$f":"'SHALA DARPAN DATA'!K1981","v":0},{"$f":"'SHALA DARPAN DATA'!E1981","v":0},{"$f":"'SHALA DARPAN DATA'!G1981","v":0},{"$f":"'SHALA DARPAN DATA'!H1981","v":0},{"$f":"'SHALA DARPAN DATA'!W1981","v":0},{"$f":"'SHALA DARPAN DATA'!R1981","v":0},{"$f":"'SHALA DARPAN DATA'!S1981","v":0},{"$f":"'SHALA DARPAN DATA'!O1981","v":0},0,0,0,0,0,0,0,0,0,0,0]
[{"$f":"'SHALA DARPAN DATA'!C1986","v":0},{"$f":"'SHALA DARPAN DATA'!A1986","v":0},{"$f":"'SHALA DARPAN DATA'!B1986","v":0},{"$f":"'SHALA DARPAN DATA'!D1986","v":0},{"$f":"'SHALA DARPAN DATA'!J1986","v":0},{"$f":"'SHALA DARPAN DATA'!T1986","v":0},{"$f":"'SHALA DARPAN DATA'!V1986","v":0},{"$f":"'SHALA DARPAN DATA'!K1986","v":0},{"$f":"'SHALA DARPAN DATA'!E1986","v":0},{"$f":"'SHALA DARPAN DATA'!G1986","v":0},{"$f":"'SHALA DARPAN DATA'!H1986","v":0},{"$f":"'SHALA DARPAN DATA'!W1986","v":0},{"$f":"'SHALA DARPAN DATA'!R1986","v":0},{"$f":"'SHALA DARPAN DATA'!S1986","v":0},{"$f":"'SHALA DARPAN DATA'!O1986","v":0},0,0,0,0,0,0,0,0,0,0,0]
[{"$f":"'SHALA DARPAN DATA'!C1987","v":0},{"$f":"'SHALA DARPAN DATA'!A1987","v":0},{"$f":"'SHALA DARPAN DATA'!B1987","v":0},{"$f":"'SHALA DARPAN DATA'!D1987","v":0},{"$f":"'SHALA DARPAN DATA'!J1987","v":0},{"$f":"'SHALA DARPAN DATA'!T1987","v":0},{"$f":"'SHALA DARPAN DATA'!V1987","v":0},{"$f":"'SHALA DARPAN DATA'!K1987","v":0},{"$f":"'SHALA DARPAN DATA'!E1987","v":0},{"$f":"'SHALA DARPAN DATA'!G1987","v":0},{"$f":"'SHALA DARPAN DATA'!H1987","v":0},{"$f":"'SHALA DARPAN DATA'!W1987","v":0},{"$f":"'SHALA DARPAN DATA'!R1987","v":0},{"$f":"'SHALA DARPAN DATA'!S1987","v":0},{"$f":"'SHALA DARPAN DATA'!O1987","v":0},0,0,0,0,0,0,0,0,0,0,0]
[{"$f":"'SHALA DARPAN DATA'!C1993","v":0},{"$f":"'SHALA DARPAN DATA'!A1993","v":0},{"$f":"'SHALA DARPAN DATA'!B1993","v":0},{"$f":"'SHALA DARPAN DATA'!D1993","v":0},{"$f":"'SHALA DARPAN DATA'!J1993","v":0},{"$f":"'SHALA DARPAN DATA'!T1993","v":0},{"$f":"'SHALA DARPAN DATA'!V1993","v":0},{"$f":"'SHALA DARPAN DATA'!K1993","v":0},{"$f":"'SHALA DARPAN DATA'!E1993","v":0},{"$f":"'SHALA DARPAN DATA'!G1993","v":0},{"$f":"'SHALA DARPAN DATA'!H1993","v":0},{"$f":"'SHALA DARPAN DATA'!W1993","v":0},{"$f":"'SHALA DARPAN DATA'!R1993","v":0},{"$f":"'SHALA DARPAN DATA'!S1993","v":0},{"$f":"'SHALA DARPAN DATA'!O1993","v":0},0,0,0,0,0,0,0,0,0,0,0]
[{"$f":"'SHALA DARPAN DATA'!C1996","v":0},{"$f":"'SHALA DARPAN DATA'!A1996","v":0},{"$f":"'SHALA DARPAN DATA'!B1996","v":0},{"$f":"'SHALA DARPAN DATA'!D1996","v":0},{"$f":"'SHALA DARPAN DATA'!J1996","v":0},{"$f":"'SHALA DARPAN DATA'!T1996","v":0},{"$f":"'SHALA DARPAN DATA'!V1996","v":0},{"$f":"'SHALA DARPAN DATA'!K1996","v":0},{"$f":"'SHALA DARPAN DATA'!E1996","v":0},{"$f":"'SHALA DARPAN DATA'!G1996","v":0},{"$f":"'SHALA DARPAN DATA'!H1996","v":0},{"$f":"'SHALA DARPAN DATA'!W1996","v":0},{"$f":"'SHALA DARPAN DATA'!R1996","v":0},{"$f":"'SHALA DARPAN DATA'!S1996","v":0},{"$f":"'SHALA DARPAN DATA'!O1996","v":0},0,0,0,0,0,0,0,0,0,0,0]
[{"$f":"'SHALA DARPAN DATA'!C2001","v":0},{"$f":"'SHALA DARPAN DATA'!A2001","v":0},{"$f":"'SHALA DARPAN DATA'!B2001","v":0},{"$f":"'SHALA DARPAN DATA'!D2001","v":0},{"$f":"'SHALA DARPAN DATA'!J2001","v":0},{"$f":"'SHALA DARPAN DATA'!T2001","v":0},{"$f":"'SHALA DARPAN DATA'!V2001","v":0},{"$f":"'SHALA DARPAN DATA'!K2001","v":0},{"$f":"'SHALA DARPAN DATA'!E2001","v":0},{"$f":"'SHALA DARPAN DATA'!G2001","v":0},{"$f":"'SHALA DARPAN DATA'!H2001","v":0},{"$f":"'SHALA DARPAN DATA'!W2001","v":0},{"$f":"'SHALA DARPAN DATA'!R2001","v":0},{"$f":"'SHALA DARPAN DATA'!S2001","v":0},{"$f":"'SHALA DARPAN DATA'!O2001","v":0},0,0,0,0,0,0,0,0,0,0,0]
[{"$f":"'SHALA DARPAN DATA'!C2002","v":0},{"$f":"'SHALA DARPAN DATA'!A2002","v":0},{"$f":"'SHALA DARPAN DATA'!B2002","v":0},{"$f":"'SHALA DARPAN DATA'!D2002","v":0},{"$f":"'SHALA DARPAN DATA'!J2002","v":0},{"$f":"'SHALA DARPAN DATA'!T2002","v":0},{"$f":"'SHALA DARPAN DATA'!V2002","v":0},{"$f":"'SHALA DARPAN DATA'!K2002","v":0},{"$f":"'SHALA DARPAN DATA'!E2002","v":0},{"$f":"'SHALA DARPAN DATA'!G2002","v":0},{"$f":"'SHALA DARPAN DATA'!H2002","v":0},{"$f":"'SHALA DARPAN DATA'!W2002","v":0},{"$f":"'SHALA DARPAN DATA'!R2002","v":0},{"$f":"'SHALA DARPAN DATA'!S2002","v":0},{"$f":"'SHALA DARPAN DATA'!O2002","v":0},0,0,0,0,0,0,0,0,0,0,0]
[{"$f":"'SHALA DARPAN DATA'!C2007","v":0},{"$f":"'SHALA DARPAN DATA'!A2007","v":0},{"$f":"'SHALA DARPAN DATA'!B2007","v":0},{"$f":"'SHALA DARPAN DATA'!D2007","v":0},{"$f":"'SHALA DARPAN DATA'!J2007","v":0},{"$f":"'SHALA DARPAN DATA'!T2007","v":0},{"$f":"'SHALA DARPAN DATA'!V2007","v":0},{"$f":"'SHALA DARPAN DATA'!K2007","v":0},{"$f":"'SHALA DARPAN DATA'!E2007","v":0},{"$f":"'SHALA DARPAN DATA'!G2007","v":0},{"$f":"'SHALA DARPAN DATA'!H2007","v":0},{"$f":"'SHALA DARPAN DATA'!W2007","v":0},{"$f":"'SHALA DARPAN DATA'!R2007","v":0},{"$f":"'SHALA DARPAN DATA'!S2007","v":0},{"$f":"'SHALA DARPAN DATA'!O2007","v":0},0,0,0,0,0,0,0,0,0,0,0]
[{"$f":"'SHALA DARPAN DATA'!C2011","v":0},{"$f":"'SHALA DARPAN DATA'!A2011","v":0},{"$f":"'SHALA DARPAN DATA'!B2011","v":0},{"$f":"'SHALA DARPAN DATA'!D2011","v":0},{"$f":"'SHALA DARPAN DATA'!J2011","v":0},{"$f":"'SHALA DARPAN DATA'!T2011","v":0},{"$f":"'SHALA DARPAN DATA'!V2011","v":0},{"$f":"'SHALA DARPAN DATA'!K2011","v":0},{"$f":"'SHALA DARPAN DATA'!E2011","v":0},{"$f":"'SHALA DARPAN DATA'!G2011","v":0},{"$f":"'SHALA DARPAN DATA'!H2011","v":0},{"$f":"'SHALA DARPAN DATA'!W2011","v":0},{"$f":"'SHALA DARPAN DATA'!R2011","v":0},{"$f":"'SHALA DARPAN DATA'!S2011","v":0},{"$f":"'SHALA DARPAN DATA'!O2011","v":0},0,0,0,0,0,0,0,0,0,0,0]
[{"$f":"'SHALA DARPAN DATA'!C2016","v":0},{"$f":"'SHALA DARPAN DATA'!A2016","v":0},{"$f":"'SHALA DARPAN DATA'!B2016","v":0},{"$f":"'SHALA DARPAN DATA'!D2016","v":0},{"$f":"'SHALA DARPAN DATA'!J2016","v":0},{"$f":"'SHALA DARPAN DATA'!T2016","v":0},{"$f":"'SHALA DARPAN DATA'!V2016","v":0},{"$f":"'SHALA DARPAN DATA'!K2016","v":0},{"$f":"'SHALA DARPAN DATA'!E2016","v":0},{"$f":"'SHALA DARPAN DATA'!G2016","v":0},{"$f":"'SHALA DARPAN DATA'!H2016","v":0},{"$f":"'SHALA DARPAN DATA'!W2016","v":0},{"$f":"'SHALA DARPAN DATA'!R2016","v":0},{"$f":"'SHALA DARPAN DATA'!S2016","v":0},{"$f":"'SHALA DARPAN DATA'!O2016","v":0},0,0,0,0,0,0,0,0,0,0,0]
[{"$f":"'SHALA DARPAN DATA'!C2017","v":0},{"$f":"'SHALA DARPAN DATA'!A2017","v":0},{"$f":"'SHALA DARPAN DATA'!B2017","v":0},{"$f":"'SHALA DARPAN DATA'!D2017","v":0},{"$f":"'SHALA DARPAN DATA'!J2017","v":0},{"$f":"'SHALA DARPAN DATA'!T2017","v":0},{"$f":"'SHALA DARPAN DATA'!V2017","v":0},{"$f":"'SHALA DARPAN DATA'!K2017","v":0},{"$f":"'SHALA DARPAN DATA'!E2017","v":0},{"$f":"'SHALA DARPAN DATA'!G2017","v":0},{"$f":"'SHALA DARPAN DATA'!H2017","v":0},{"$f":"'SHALA DARPAN DATA'!W2017","v":0},{"$f":"'SHALA DARPAN DATA'!R2017","v":0},{"$f":"'SHALA DARPAN DATA'!S2017","v":0},{"$f":"'SHALA DARPAN DATA'!O2017","v":0},0,0,0,0,0,0,0,0,0,0,0]
[{"$f":"'SHALA DARPAN DATA'!C2023","v":0},{"$f":"'SHALA DARPAN DATA'!A2023","v":0},{"$f":"'SHALA DARPAN DATA'!B2023","v":0},{"$f":"'SHALA DARPAN DATA'!D2023","v":0},{"$f":"'SHALA DARPAN DATA'!J2023","v":0},{"$f":"'SHALA DARPAN DATA'!T2023","v":0},{"$f":"'SHALA DARPAN DATA'!V2023","v":0},{"$f":"'SHALA DARPAN DATA'!K2023","v":0},{"$f":"'SHALA DARPAN DATA'!E2023","v":0},{"$f":"'SHALA DARPAN DATA'!G2023","v":0},{"$f":"'SHALA DARPAN DATA'!H2023","v":0},{"$f":"'SHALA DARPAN DATA'!W2023","v":0},{"$f":"'SHALA DARPAN DATA'!R2023","v":0},{"$f":"'SHALA DARPAN DATA'!S2023","v":0},{"$f":"'SHALA DARPAN DATA'!O2023","v":0},0,0,0,0,0,0,0,0,0,0,0]
[{"$f":"'SHALA DARPAN DATA'!C2026","v":0},{"$f":"'SHALA DARPAN DATA'!A2026","v":0},{"$f":"'SHALA DARPAN DATA'!B2026","v":0},{"$f":"'SHALA DARPAN DATA'!D2026","v":0},{"$f":"'SHALA DARPAN DATA'!J2026","v":0},{"$f":"'SHALA DARPAN DATA'!T2026","v":0},{"$f":"'SHALA DARPAN DATA'!V2026","v":0},{"$f":"'SHALA DARPAN DATA'!K2026","v":0},{"$f":"'SHALA DARPAN DATA'!E2026","v":0},{"$f":"'SHALA DARPAN DATA'!G2026","v":0},{"$f":"'SHALA DARPAN DATA'!H2026","v":0},{"$f":"'SHALA DARPAN DATA'!W2026","v":0},{"$f":"'SHALA DARPAN DATA'!R2026","v":0},{"$f":"'SHALA DARPAN DATA'!S2026","v":0},{"$f":"'SHALA DARPAN DATA'!O2026","v":0},0,0,0,0,0,0,0,0,0,0,0]
[{"$f":"'SHALA DARPAN DATA'!C2031","v":0},{"$f":"'SHALA DARPAN DATA'!A2031","v":0},{"$f":"'SHALA DARPAN DATA'!B2031","v":0},{"$f":"'SHALA DARPAN DATA'!D2031","v":0},{"$f":"'SHALA DARPAN DATA'!J2031","v":0},{"$f":"'SHALA DARPAN DATA'!T2031","v":0},{"$f":"'SHALA DARPAN DATA'!V2031","v":0},{"$f":"'SHALA DARPAN DATA'!K2031","v":0},{"$f":"'SHALA DARPAN DATA'!E2031","v":0},{"$f":"'SHALA DARPAN DATA'!G2031","v":0},{"$f":"'SHALA DARPAN DATA'!H2031","v":0},{"$f":"'SHALA DARPAN DATA'!W2031","v":0},{"$f":"'SHALA DARPAN DATA'!R2031","v":0},{"$f":"'SHALA DARPAN DATA'!S2031","v":0},{"$f":"'SHALA DARPAN DATA'!O2031","v":0},0,0,0,0,0,0,0,0,0,0,0]
[{"$f":"'SHALA DARPAN DATA'!C2032","v":0},{"$f":"'SHALA DARPAN DATA'!A2032","v":0},{"$f":"'SHALA DARPAN DATA'!B2032","v":0},{"$f":"'SHALA DARPAN DATA'!D2032","v":0},{"$f":"'SHALA DARPAN DATA'!J2032","v":0},{"$f":"'SHALA DARPAN DATA'!T2032","v":0},{"$f":"'SHALA DARPAN DATA'!V2032","v":0},{"$f":"'SHALA DARPAN DATA'!K2032","v":0},{"$f":"'SHALA DARPAN DATA'!E2032","v":0},{"$f":"'SHALA DARPAN DATA'!G2032","v":0},{"$f":"'SHALA DARPAN DATA'!H2032","v":0},{"$f":"'SHALA DARPAN DATA'!W2032","v":0},{"$f":"'SHALA DARPAN DATA'!R2032","v":0},{"$f":"'SHALA DARPAN DATA'!S2032","v":0},{"$f":"'SHALA DARPAN DATA'!O2032","v":0},0,0,0,0,0,0,0,0,0,0,0]
[{"$f":"'SHALA DARPAN DATA'!C2037","v":0},{"$f":"'SHALA DARPAN DATA'!A2037","v":0},{"$f":"'SHALA DARPAN DATA'!B2037","v":0},{"$f":"'SHALA DARPAN DATA'!D2037","v":0},{"$f":"'SHALA DARPAN DATA'!J2037","v":0},{"$f":"'SHALA DARPAN DATA'!T2037","v":0},{"$f":"'SHALA DARPAN DATA'!V2037","v":0},{"$f":"'SHALA DARPAN DATA'!K2037","v":0},{"$f":"'SHALA DARPAN DATA'!E2037","v":0},{"$f":"'SHALA DARPAN DATA'!G2037","v":0},{"$f":"'SHALA DARPAN DATA'!H2037","v":0},{"$f":"'SHALA DARPAN DATA'!W2037","v":0},{"$f":"'SHALA DARPAN DATA'!R2037","v":0},{"$f":"'SHALA DARPAN DATA'!S2037","v":0},{"$f":"'SHALA DARPAN DATA'!O2037","v":0},0,0,0,0,0,0,0,0,0,0,0]
[{"$f":"'SHALA DARPAN DATA'!C2041","v":0},{"$f":"'SHALA DARPAN DATA'!A2041","v":0},{"$f":"'SHALA DARPAN DATA'!B2041","v":0},{"$f":"'SHALA DARPAN DATA'!D2041","v":0},{"$f":"'SHALA DARPAN DATA'!J2041","v":0},{"$f":"'SHALA DARPAN DATA'!T2041","v":0},{"$f":"'SHALA DARPAN DATA'!V2041","v":0},{"$f":"'SHALA DARPAN DATA'!K2041","v":0},{"$f":"'SHALA DARPAN DATA'!E2041","v":0},{"$f":"'SHALA DARPAN DATA'!G2041","v":0},{"$f":"'SHALA DARPAN DATA'!H2041","v":0},{"$f":"'SHALA DARPAN DATA'!W2041","v":0},{"$f":"'SHALA DARPAN DATA'!R2041","v":0},{"$f":"'SHALA DARPAN DATA'!S2041","v":0},{"$f":"'SHALA DARPAN DATA'!O2041","v":0},0,0,0,0,0,0,0,0,0,0,0]
[{"$f":"'SHALA DARPAN DATA'!C2046","v":0},{"$f":"'SHALA DARPAN DATA'!A2046","v":0},{"$f":"'SHALA DARPAN DATA'!B2046","v":0},{"$f":"'SHALA DARPAN DATA'!D2046","v":0},{"$f":"'SHALA DARPAN DATA'!J2046","v":0},{"$f":"'SHALA DARPAN DATA'!T2046","v":0},{"$f":"'SHALA DARPAN DATA'!V2046","v":0},{"$f":"'SHALA DARPAN DATA'!K2046","v":0},{"$f":"'SHALA DARPAN DATA'!E2046","v":0},{"$f":"'SHALA DARPAN DATA'!G2046","v":0},{"$f":"'SHALA DARPAN DATA'!H2046","v":0},{"$f":"'SHALA DARPAN DATA'!W2046","v":0},{"$f":"'SHALA DARPAN DATA'!R2046","v":0},{"$f":"'SHALA DARPAN DATA'!S2046","v":0},{"$f":"'SHALA DARPAN DATA'!O2046","v":0},0,0,0,0,0,0,0,0,0,0,0]
[{"$f":"'SHALA DARPAN DATA'!C2047","v":0},{"$f":"'SHALA DARPAN DATA'!A2047","v":0},{"$f":"'SHALA DARPAN DATA'!B2047","v":0},{"$f":"'SHALA DARPAN DATA'!D2047","v":0},{"$f":"'SHALA DARPAN DATA'!J2047","v":0},{"$f":"'SHALA DARPAN DATA'!T2047","v":0},{"$f":"'SHALA DARPAN DATA'!V2047","v":0},{"$f":"'SHALA DARPAN DATA'!K2047","v":0},{"$f":"'SHALA DARPAN DATA'!E2047","v":0},{"$f":"'SHALA DARPAN DATA'!G2047","v":0},{"$f":"'SHALA DARPAN DATA'!H2047","v":0},{"$f":"'SHALA DARPAN DATA'!W2047","v":0},{"$f":"'SHALA DARPAN DATA'!R2047","v":0},{"$f":"'SHALA DARPAN DATA'!S2047","v":0},{"$f":"'SHALA DARPAN DATA'!O2047","v":0},0,0,0,0,0,0,0,0,0,0,0]
[{"$f":"'SHALA DARPAN DATA'!C2053","v":0},{"$f":"'SHALA DARPAN DATA'!A2053","v":0},{"$f":"'SHALA DARPAN DATA'!B2053","v":0},{"$f":"'SHALA DARPAN DATA'!D2053","v":0},{"$f":"'SHALA DARPAN DATA'!J2053","v":0},{"$f":"'SHALA DARPAN DATA'!T2053","v":0},{"$f":"'SHALA DARPAN DATA'!V2053","v":0},{"$f":"'SHALA DARPAN DATA'!K2053","v":0},{"$f":"'SHALA DARPAN DATA'!E2053","v":0},{"$f":"'SHALA DARPAN DATA'!G2053","v":0},{"$f":"'SHALA DARPAN DATA'!H2053","v":0},{"$f":"'SHALA DARPAN DATA'!W2053","v":0},{"$f":"'SHALA DARPAN DATA'!R2053","v":0},{"$f":"'SHALA DARPAN DATA'!S2053","v":0},{"$f":"'SHALA DARPAN DATA'!O2053","v":0},0,0,0,0,0,0,0,0,0,0,0]
[{"$f":"'SHALA DARPAN DATA'!C2056","v":0},{"$f":"'SHALA DARPAN DATA'!A2056","v":0},{"$f":"'SHALA DARPAN DATA'!B2056","v":0},{"$f":"'SHALA DARPAN DATA'!D2056","v":0},{"$f":"'SHALA DARPAN DATA'!J2056","v":0},{"$f":"'SHALA DARPAN DATA'!T2056","v":0},{"$f":"'SHALA DARPAN DATA'!V2056","v":0},{"$f":"'SHALA DARPAN DATA'!K2056","v":0},{"$f":"'SHALA DARPAN DATA'!E2056","v":0},{"$f":"'SHALA DARPAN DATA'!G2056","v":0},{"$f":"'SHALA DARPAN DATA'!H2056","v":0},{"$f":"'SHALA DARPAN DATA'!W2056","v":0},{"$f":"'SHALA DARPAN DATA'!R2056","v":0},{"$f":"'SHALA DARPAN DATA'!S2056","v":0},{"$f":"'SHALA DARPAN DATA'!O2056","v":0},0,0,0,0,0,0,0,0,0,0,0]
[{"$f":"'SHALA DARPAN DATA'!C2061","v":0},{"$f":"'SHALA DARPAN DATA'!A2061","v":0},{"$f":"'SHALA DARPAN DATA'!B2061","v":0},{"$f":"'SHALA DARPAN DATA'!D2061","v":0},{"$f":"'SHALA DARPAN DATA'!J2061","v":0},{"$f":"'SHALA DARPAN DATA'!T2061","v":0},{"$f":"'SHALA DARPAN DATA'!V2061","v":0},{"$f":"'SHALA DARPAN DATA'!K2061","v":0},{"$f":"'SHALA DARPAN DATA'!E2061","v":0},{"$f":"'SHALA DARPAN DATA'!G2061","v":0},{"$f":"'SHALA DARPAN DATA'!H2061","v":0},{"$f":"'SHALA DARPAN DATA'!W2061","v":0},{"$f":"'SHALA DARPAN DATA'!R2061","v":0},{"$f":"'SHALA DARPAN DATA'!S2061","v":0},{"$f":"'SHALA DARPAN DATA'!O2061","v":0},0,0,0,0,0,0,0,0,0,0,0]
[{"$f":"'SHALA DARPAN DATA'!C2062","v":0},{"$f":"'SHALA DARPAN DATA'!A2062","v":0},{"$f":"'SHALA DARPAN DATA'!B2062","v":0},{"$f":"'SHALA DARPAN DATA'!D2062","v":0},{"$f":"'SHALA DARPAN DATA'!J2062","v":0},{"$f":"'SHALA DARPAN DATA'!T2062","v":0},{"$f":"'SHALA DARPAN DATA'!V2062","v":0},{"$f":"'SHALA DARPAN DATA'!K2062","v":0},{"$f":"'SHALA DARPAN DATA'!E2062","v":0},{"$f":"'SHALA DARPAN DATA'!G2062","v":0},{"$f":"'SHALA DARPAN DATA'!H2062","v":0},{"$f":"'SHALA DARPAN DATA'!W2062","v":0},{"$f":"'SHALA DARPAN DATA'!R2062","v":0},{"$f":"'SHALA DARPAN DATA'!S2062","v":0},{"$f":"'SHALA DARPAN DATA'!O2062","v":0},0,0,0,0,0,0,0,0,0,0,0]
[{"$f":"'SHALA DARPAN DATA'!C2067","v":0},{"$f":"'SHALA DARPAN DATA'!A2067","v":0},{"$f":"'SHALA DARPAN DATA'!B2067","v":0},{"$f":"'SHALA DARPAN DATA'!D2067","v":0},{"$f":"'SHALA DARPAN DATA'!J2067","v":0},{"$f":"'SHALA DARPAN DATA'!T2067","v":0},{"$f":"'SHALA DARPAN DATA'!V2067","v":0},{"$f":"'SHALA DARPAN DATA'!K2067","v":0},{"$f":"'SHALA DARPAN DATA'!E2067","v":0},{"$f":"'SHALA DARPAN DATA'!G2067","v":0},{"$f":"'SHALA DARPAN DATA'!H2067","v":0},{"$f":"'SHALA DARPAN DATA'!W2067","v":0},{"$f":"'SHALA DARPAN DATA'!R2067","v":0},{"$f":"'SHALA DARPAN DATA'!S2067","v":0},{"$f":"'SHALA DARPAN DATA'!O2067","v":0},0,0,0,0,0,0,0,0,0,0,0]
[{"$f":"'SHALA DARPAN DATA'!C2071","v":0},{"$f":"'SHALA DARPAN DATA'!A2071","v":0},{"$f":"'SHALA DARPAN DATA'!B2071","v":0},{"$f":"'SHALA DARPAN DATA'!D2071","v":0},{"$f":"'SHALA DARPAN DATA'!J2071","v":0},{"$f":"'SHALA DARPAN DATA'!T2071","v":0},{"$f":"'SHALA DARPAN DATA'!V2071","v":0},{"$f":"'SHALA DARPAN DATA'!K2071","v":0},{"$f":"'SHALA DARPAN DATA'!E2071","v":0},{"$f":"'SHALA DARPAN DATA'!G2071","v":0},{"$f":"'SHALA DARPAN DATA'!H2071","v":0},{"$f":"'SHALA DARPAN DATA'!W2071","v":0},{"$f":"'SHALA DARPAN DATA'!R2071","v":0},{"$f":"'SHALA DARPAN DATA'!S2071","v":0},{"$f":"'SHALA DARPAN DATA'!O2071","v":0},0,0,0,0,0,0,0,0,0,0,0]
[{"$f":"'SHALA DARPAN DATA'!C2076","v":0},{"$f":"'SHALA DARPAN DATA'!A2076","v":0},{"$f":"'SHALA DARPAN DATA'!B2076","v":0},{"$f":"'SHALA DARPAN DATA'!D2076","v":0},{"$f":"'SHALA DARPAN DATA'!J2076","v":0},{"$f":"'SHALA DARPAN DATA'!T2076","v":0},{"$f":"'SHALA DARPAN DATA'!V2076","v":0},{"$f":"'SHALA DARPAN DATA'!K2076","v":0},{"$f":"'SHALA DARPAN DATA'!E2076","v":0},{"$f":"'SHALA DARPAN DATA'!G2076","v":0},{"$f":"'SHALA DARPAN DATA'!H2076","v":0},{"$f":"'SHALA DARPAN DATA'!W2076","v":0},{"$f":"'SHALA DARPAN DATA'!R2076","v":0},{"$f":"'SHALA DARPAN DATA'!S2076","v":0},{"$f":"'SHALA DARPAN DATA'!O2076","v":0},0,0,0,0,0,0,0,0,0,0,0]
[{"$f":"'SHALA DARPAN DATA'!C2077","v":0},{"$f":"'SHALA DARPAN DATA'!A2077","v":0},{"$f":"'SHALA DARPAN DATA'!B2077","v":0},{"$f":"'SHALA DARPAN DATA'!D2077","v":0},{"$f":"'SHALA DARPAN DATA'!J2077","v":0},{"$f":"'SHALA DARPAN DATA'!T2077","v":0},{"$f":"'SHALA DARPAN DATA'!V2077","v":0},{"$f":"'SHALA DARPAN DATA'!K2077","v":0},{"$f":"'SHALA DARPAN DATA'!E2077","v":0},{"$f":"'SHALA DARPAN DATA'!G2077","v":0},{"$f":"'SHALA DARPAN DATA'!H2077","v":0},{"$f":"'SHALA DARPAN DATA'!W2077","v":0},{"$f":"'SHALA DARPAN DATA'!R2077","v":0},{"$f":"'SHALA DARPAN DATA'!S2077","v":0},{"$f":"'SHALA DARPAN DATA'!O2077","v":0},0,0,0,0,0,0,0,0,0,0,0]
[{"$f":"'SHALA DARPAN DATA'!C2081","v":0},{"$f":"'SHALA DARPAN DATA'!A2081","v":0},{"$f":"'SHALA DARPAN DATA'!B2081","v":0},{"$f":"'SHALA DARPAN DATA'!D2081","v":0},{"$f":"'SHALA DARPAN DATA'!J2081","v":0},{"$f":"'SHALA DARPAN DATA'!T2081","v":0},{"$f":"'SHALA DARPAN DATA'!V2081","v":0},{"$f":"'SHALA DARPAN DATA'!K2081","v":0},{"$f":"'SHALA DARPAN DATA'!E2081","v":0},{"$f":"'SHALA DARPAN DATA'!G2081","v":0},{"$f":"'SHALA DARPAN DATA'!H2081","v":0},{"$f":"'SHALA DARPAN DATA'!W2081","v":0},{"$f":"'SHALA DARPAN DATA'!R2081","v":0},{"$f":"'SHALA DARPAN DATA'!S2081","v":0},{"$f":"'SHALA DARPAN DATA'!O2081","v":0},0,0,0,0,0,0,0,0,0,0,0]
[{"$f":"'SHALA DARPAN DATA'!C2086","v":0},{"$f":"'SHALA DARPAN DATA'!A2086","v":0},{"$f":"'SHALA DARPAN DATA'!B2086","v":0},{"$f":"'SHALA DARPAN DATA'!D2086","v":0},{"$f":"'SHALA DARPAN DATA'!J2086","v":0},{"$f":"'SHALA DARPAN DATA'!T2086","v":0},{"$f":"'SHALA DARPAN DATA'!V2086","v":0},{"$f":"'SHALA DARPAN DATA'!K2086","v":0},{"$f":"'SHALA DARPAN DATA'!E2086","v":0},{"$f":"'SHALA DARPAN DATA'!G2086","v":0},{"$f":"'SHALA DARPAN DATA'!H2086","v":0},{"$f":"'SHALA DARPAN DATA'!W2086","v":0},{"$f":"'SHALA DARPAN DATA'!R2086","v":0},{"$f":"'SHALA DARPAN DATA'!S2086","v":0},{"$f":"'SHALA DARPAN DATA'!O2086","v":0},0,0,0,0,0,0,0,0,0,0,0]
[{"$f":"'SHALA DARPAN DATA'!C2091","v":0},{"$f":"'SHALA DARPAN DATA'!A2091","v":0},{"$f":"'SHALA DARPAN DATA'!B2091","v":0},{"$f":"'SHALA DARPAN DATA'!D2091","v":0},{"$f":"'SHALA DARPAN DATA'!J2091","v":0},{"$f":"'SHALA DARPAN DATA'!T2091","v":0},{"$f":"'SHALA DARPAN DATA'!V2091","v":0},{"$f":"'SHALA DARPAN DATA'!K2091","v":0},{"$f":"'SHALA DARPAN DATA'!E2091","v":0},{"$f":"'SHALA DARPAN DATA'!G2091","v":0},{"$f":"'SHALA DARPAN DATA'!H2091","v":0},{"$f":"'SHALA DARPAN DATA'!W2091","v":0},{"$f":"'SHALA DARPAN DATA'!R2091","v":0},{"$f":"'SHALA DARPAN DATA'!S2091","v":0},{"$f":"'SHALA DARPAN DATA'!O2091","v":0},0,0,0,0,0,0,0,0,0,0,0]
[{"$f":"'SHALA DARPAN DATA'!C2092","v":0},{"$f":"'SHALA DARPAN DATA'!A2092","v":0},{"$f":"'SHALA DARPAN DATA'!B2092","v":0},{"$f":"'SHALA DARPAN DATA'!D2092","v":0},{"$f":"'SHALA DARPAN DATA'!J2092","v":0},{"$f":"'SHALA DARPAN DATA'!T2092","v":0},{"$f":"'SHALA DARPAN DATA'!V2092","v":0},{"$f":"'SHALA DARPAN DATA'!K2092","v":0},{"$f":"'SHALA DARPAN DATA'!E2092","v":0},{"$f":"'SHALA DARPAN DATA'!G2092","v":0},{"$f":"'SHALA DARPAN DATA'!H2092","v":0},{"$f":"'SHALA DARPAN DATA'!W2092","v":0},{"$f":"'SHALA DARPAN DATA'!R2092","v":0},{"$f":"'SHALA DARPAN DATA'!S2092","v":0},{"$f":"'SHALA DARPAN DATA'!O2092","v":0},0,0,0,0,0,0,0,0,0,0,0]
[{"$f":"'SHALA DARPAN DATA'!C2097","v":0},{"$f":"'SHALA DARPAN DATA'!A2097","v":0},{"$f":"'SHALA DARPAN DATA'!B2097","v":0},{"$f":"'SHALA DARPAN DATA'!D2097","v":0},{"$f":"'SHALA DARPAN DATA'!J2097","v":0},{"$f":"'SHALA DARPAN DATA'!T2097","v":0},{"$f":"'SHALA DARPAN DATA'!V2097","v":0},{"$f":"'SHALA DARPAN DATA'!K2097","v":0},{"$f":"'SHALA DARPAN DATA'!E2097","v":0},{"$f":"'SHALA DARPAN DATA'!G2097","v":0},{"$f":"'SHALA DARPAN DATA'!H2097","v":0},{"$f":"'SHALA DARPAN DATA'!W2097","v":0},{"$f":"'SHALA DARPAN DATA'!R2097","v":0},{"$f":"'SHALA DARPAN DATA'!S2097","v":0},{"$f":"'SHALA DARPAN DATA'!O2097","v":0},0,0,0,0,0,0,0,0,0,0,0]
[{"$f":"'SHALA DARPAN DATA'!C2101","v":0},{"$f":"'SHALA DARPAN DATA'!A2101","v":0},{"$f":"'SHALA DARPAN DATA'!B2101","v":0},{"$f":"'SHALA DARPAN DATA'!D2101","v":0},{"$f":"'SHALA DARPAN DATA'!J2101","v":0},{"$f":"'SHALA DARPAN DATA'!T2101","v":0},{"$f":"'SHALA DARPAN DATA'!V2101","v":0},{"$f":"'SHALA DARPAN DATA'!K2101","v":0},{"$f":"'SHALA DARPAN DATA'!E2101","v":0},{"$f":"'SHALA DARPAN DATA'!G2101","v":0},{"$f":"'SHALA DARPAN DATA'!H2101","v":0},{"$f":"'SHALA DARPAN DATA'!W2101","v":0},{"$f":"'SHALA DARPAN DATA'!R2101","v":0},{"$f":"'SHALA DARPAN DATA'!S2101","v":0},{"$f":"'SHALA DARPAN DATA'!O2101","v":0},0,0,0,0,0,0,0,0,0,0,0]
[{"$f":"'SHALA DARPAN DATA'!C2106","v":0},{"$f":"'SHALA DARPAN DATA'!A2106","v":0},{"$f":"'SHALA DARPAN DATA'!B2106","v":0},{"$f":"'SHALA DARPAN DATA'!D2106","v":0},{"$f":"'SHALA DARPAN DATA'!J2106","v":0},{"$f":"'SHALA DARPAN DATA'!T2106","v":0},{"$f":"'SHALA DARPAN DATA'!V2106","v":0},{"$f":"'SHALA DARPAN DATA'!K2106","v":0},{"$f":"'SHALA DARPAN DATA'!E2106","v":0},{"$f":"'SHALA DARPAN DATA'!G2106","v":0},{"$f":"'SHALA DARPAN DATA'!H2106","v":0},{"$f":"'SHALA DARPAN DATA'!W2106","v":0},{"$f":"'SHALA DARPAN DATA'!R2106","v":0},{"$f":"'SHALA DARPAN DATA'!S2106","v":0},{"$f":"'SHALA DARPAN DATA'!O2106","v":0},0,0,0,0,0,0,0,0,0,0,0]
[{"$f":"'SHALA DARPAN DATA'!C2107","v":0},{"$f":"'SHALA DARPAN DATA'!A2107","v":0},{"$f":"'SHALA DARPAN DATA'!B2107","v":0},{"$f":"'SHALA DARPAN DATA'!D2107","v":0},{"$f":"'SHALA DARPAN DATA'!J2107","v":0},{"$f":"'SHALA DARPAN DATA'!T2107","v":0},{"$f":"'SHALA DARPAN DATA'!V2107","v":0},{"$f":"'SHALA DARPAN DATA'!K2107","v":0},{"$f":"'SHALA DARPAN DATA'!E2107","v":0},{"$f":"'SHALA DARPAN DATA'!G2107","v":0},{"$f":"'SHALA DARPAN DATA'!H2107","v":0},{"$f":"'SHALA DARPAN DATA'!W2107","v":0},{"$f":"'SHALA DARPAN DATA'!R2107","v":0},{"$f":"'SHALA DARPAN DATA'!S2107","v":0},{"$f":"'SHALA DARPAN DATA'!O2107","v":0},0,0,0,0,0,0,0,0,0,0,0]
[{"$f":"'SHALA DARPAN DATA'!C2111","v":0},{"$f":"'SHALA DARPAN DATA'!A2111","v":0},{"$f":"'SHALA DARPAN DATA'!B2111","v":0},{"$f":"'SHALA DARPAN DATA'!D2111","v":0},{"$f":"'SHALA DARPAN DATA'!J2111","v":0},{"$f":"'SHALA DARPAN DATA'!T2111","v":0},{"$f":"'SHALA DARPAN DATA'!V2111","v":0},{"$f":"'SHALA DARPAN DATA'!K2111","v":0},{"$f":"'SHALA DARPAN DATA'!E2111","v":0},{"$f":"'SHALA DARPAN DATA'!G2111","v":0},{"$f":"'SHALA DARPAN DATA'!H2111","v":0},{"$f":"'SHALA DARPAN DATA'!W2111","v":0},{"$f":"'SHALA DARPAN DATA'!R2111","v":0},{"$f":"'SHALA DARPAN DATA'!S2111","v":0},{"$f":"'SHALA DARPAN DATA'!O2111","v":0},0,0,0,0,0,0,0,0,0,0,0]
[{"$f":"'SHALA DARPAN DATA'!C2116","v":0},{"$f":"'SHALA DARPAN DATA'!A2116","v":0},{"$f":"'SHALA DARPAN DATA'!B2116","v":0},{"$f":"'SHALA DARPAN DATA'!D2116","v":0},{"$f":"'SHALA DARPAN DATA'!J2116","v":0},{"$f":"'SHALA DARPAN DATA'!T2116","v":0},{"$f":"'SHALA DARPAN DATA'!V2116","v":0},{"$f":"'SHALA DARPAN DATA'!K2116","v":0},{"$f":"'SHALA DARPAN DATA'!E2116","v":0},{"$f":"'SHALA DARPAN DATA'!G2116","v":0},{"$f":"'SHALA DARPAN DATA'!H2116","v":0},{"$f":"'SHALA DARPAN DATA'!W2116","v":0},{"$f":"'SHALA DARPAN DATA'!R2116","v":0},{"$f":"'SHALA DARPAN DATA'!S2116","v":0},{"$f":"'SHALA DARPAN DATA'!O2116","v":0},0,0,0,0,0,0,0,0,0,0,0]
[{"$f":"'SHALA DARPAN DATA'!C2121","v":0},{"$f":"'SHALA DARPAN DATA'!A2121","v":0},{"$f":"'SHALA DARPAN DATA'!B2121","v":0},{"$f":"'SHALA DARPAN DATA'!D2121","v":0},{"$f":"'SHALA DARPAN DATA'!J2121","v":0},{"$f":"'SHALA DARPAN DATA'!T2121","v":0},{"$f":"'SHALA DARPAN DATA'!V2121","v":0},{"$f":"'SHALA DARPAN DATA'!K2121","v":0},{"$f":"'SHALA DARPAN DATA'!E2121","v":0},{"$f":"'SHALA DARPAN DATA'!G2121","v":0},{"$f":"'SHALA DARPAN DATA'!H2121","v":0},{"$f":"'SHALA DARPAN DATA'!W2121","v":0},{"$f":"'SHALA DARPAN DATA'!R2121","v":0},{"$f":"'SHALA DARPAN DATA'!S2121","v":0},{"$f":"'SHALA DARPAN DATA'!O2121","v":0},0,0,0,0,0,0,0,0,0,0,0]
[{"$f":"'SHALA DARPAN DATA'!C2122","v":0},{"$f":"'SHALA DARPAN DATA'!A2122","v":0},{"$f":"'SHALA DARPAN DATA'!B2122","v":0},{"$f":"'SHALA DARPAN DATA'!D2122","v":0},{"$f":"'SHALA DARPAN DATA'!J2122","v":0},{"$f":"'SHALA DARPAN DATA'!T2122","v":0},{"$f":"'SHALA DARPAN DATA'!V2122","v":0},{"$f":"'SHALA DARPAN DATA'!K2122","v":0},{"$f":"'SHALA DARPAN DATA'!E2122","v":0},{"$f":"'SHALA DARPAN DATA'!G2122","v":0},{"$f":"'SHALA DARPAN DATA'!H2122","v":0},{"$f":"'SHALA DARPAN DATA'!W2122","v":0},{"$f":"'SHALA DARPAN DATA'!R2122","v":0},{"$f":"'SHALA DARPAN DATA'!S2122","v":0},{"$f":"'SHALA DARPAN DATA'!O2122","v":0},0,0,0,0,0,0,0,0,0,0,0]
[{"$f":"'SHALA DARPAN DATA'!C2127","v":0},{"$f":"'SHALA DARPAN DATA'!A2127","v":0},{"$f":"'SHALA DARPAN DATA'!B2127","v":0},{"$f":"'SHALA DARPAN DATA'!D2127","v":0},{"$f":"'SHALA DARPAN DATA'!J2127","v":0},{"$f":"'SHALA DARPAN DATA'!T2127","v":0},{"$f":"'SHALA DARPAN DATA'!V2127","v":0},{"$f":"'SHALA DARPAN DATA'!K2127","v":0},{"$f":"'SHALA DARPAN DATA'!E2127","v":0},{"$f":"'SHALA DARPAN DATA'!G2127","v":0},{"$f":"'SHALA DARPAN DATA'!H2127","v":0},{"$f":"'SHALA DARPAN DATA'!W2127","v":0},{"$f":"'SHALA DARPAN DATA'!R2127","v":0},{"$f":"'SHALA DARPAN DATA'!S2127","v":0},{"$f":"'SHALA DARPAN DATA'!O2127","v":0},0,0,0,0,0,0,0,0,0,0,0]
[{"$f":"'SHALA DARPAN DATA'!C2131","v":0},{"$f":"'SHALA DARPAN DATA'!A2131","v":0},{"$f":"'SHALA DARPAN DATA'!B2131","v":0},{"$f":"'SHALA DARPAN DATA'!D2131","v":0},{"$f":"'SHALA DARPAN DATA'!J2131","v":0},{"$f":"'SHALA DARPAN DATA'!T2131","v":0},{"$f":"'SHALA DARPAN DATA'!V2131","v":0},{"$f":"'SHALA DARPAN DATA'!K2131","v":0},{"$f":"'SHALA DARPAN DATA'!E2131","v":0},{"$f":"'SHALA DARPAN DATA'!G2131","v":0},{"$f":"'SHALA DARPAN DATA'!H2131","v":0},{"$f":"'SHALA DARPAN DATA'!W2131","v":0},{"$f":"'SHALA DARPAN DATA'!R2131","v":0},{"$f":"'SHALA DARPAN DATA'!S2131","v":0},{"$f":"'SHALA DARPAN DATA'!O2131","v":0},0,0,0,0,0,0,0,0,0,0,0]
[{"$f":"'SHALA DARPAN DATA'!C2136","v":0},{"$f":"'SHALA DARPAN DATA'!A2136","v":0},{"$f":"'SHALA DARPAN DATA'!B2136","v":0},{"$f":"'SHALA DARPAN DATA'!D2136","v":0},{"$f":"'SHALA DARPAN DATA'!J2136","v":0},{"$f":"'SHALA DARPAN DATA'!T2136","v":0},{"$f":"'SHALA DARPAN DATA'!V2136","v":0},{"$f":"'SHALA DARPAN DATA'!K2136","v":0},{"$f":"'SHALA DARPAN DATA'!E2136","v":0},{"$f":"'SHALA DARPAN DATA'!G2136","v":0},{"$f":"'SHALA DARPAN DATA'!H2136","v":0},{"$f":"'SHALA DARPAN DATA'!W2136","v":0},{"$f":"'SHALA DARPAN DATA'!R2136","v":0},{"$f":"'SHALA DARPAN DATA'!S2136","v":0},{"$f":"'SHALA DARPAN DATA'!O2136","v":0},0,0,0,0,0,0,0,0,0,0,0]
[{"$f":"'SHALA DARPAN DATA'!C2137","v":0},{"$f":"'SHALA DARPAN DATA'!A2137","v":0},{"$f":"'SHALA DARPAN DATA'!B2137","v":0},{"$f":"'SHALA DARPAN DATA'!D2137","v":0},{"$f":"'SHALA DARPAN DATA'!J2137","v":0},{"$f":"'SHALA DARPAN DATA'!T2137","v":0},{"$f":"'SHALA DARPAN DATA'!V2137","v":0},{"$f":"'SHALA DARPAN DATA'!K2137","v":0},{"$f":"'SHALA DARPAN DATA'!E2137","v":0},{"$f":"'SHALA DARPAN DATA'!G2137","v":0},{"$f":"'SHALA DARPAN DATA'!H2137","v":0},{"$f":"'SHALA DARPAN DATA'!W2137","v":0},{"$f":"'SHALA DARPAN DATA'!R2137","v":0},{"$f":"'SHALA DARPAN DATA'!S2137","v":0},{"$f":"'SHALA DARPAN DATA'!O2137","v":0},0,0,0,0,0,0,0,0,0,0,0]
[{"$f":"'SHALA DARPAN DATA'!C2141","v":0},{"$f":"'SHALA DARPAN DATA'!A2141","v":0},{"$f":"'SHALA DARPAN DATA'!B2141","v":0},{"$f":"'SHALA DARPAN DATA'!D2141","v":0},{"$f":"'SHALA DARPAN DATA'!J2141","v":0},{"$f":"'SHALA DARPAN DATA'!T2141","v":0},{"$f":"'SHALA DARPAN DATA'!V2141","v":0},{"$f":"'SHALA DARPAN DATA'!K2141","v":0},{"$f":"'SHALA DARPAN DATA'!E2141","v":0},{"$f":"'SHALA DARPAN DATA'!G2141","v":0},{"$f":"'SHALA DARPAN DATA'!H2141","v":0},{"$f":"'SHALA DARPAN DATA'!W2141","v":0},{"$f":"'SHALA DARPAN DATA'!R2141","v":0},{"$f":"'SHALA DARPAN DATA'!S2141","v":0},{"$f":"'SHALA DARPAN DATA'!O2141","v":0},0,0,0,0,0,0,0,0,0,0,0]
[{"$f":"'SHALA DARPAN DATA'!C2146","v":0},{"$f":"'SHALA DARPAN DATA'!A2146","v":0},{"$f":"'SHALA DARPAN DATA'!B2146","v":0},{"$f":"'SHALA DARPAN DATA'!D2146","v":0},{"$f":"'SHALA DARPAN DATA'!J2146","v":0},{"$f":"'SHALA DARPAN DATA'!T2146","v":0},{"$f":"'SHALA DARPAN DATA'!V2146","v":0},{"$f":"'SHALA DARPAN DATA'!K2146","v":0},{"$f":"'SHALA DARPAN DATA'!E2146","v":0},{"$f":"'SHALA DARPAN DATA'!G2146","v":0},{"$f":"'SHALA DARPAN DATA'!H2146","v":0},{"$f":"'SHALA DARPAN DATA'!W2146","v":0},{"$f":"'SHALA DARPAN DATA'!R2146","v":0},{"$f":"'SHALA DARPAN DATA'!S2146","v":0},{"$f":"'SHALA DARPAN DATA'!O2146","v":0},0,0,0,0,0,0,0,0,0,0,0]
[{"$f":"'SHALA DARPAN DATA'!C2151","v":0},{"$f":"'SHALA DARPAN DATA'!A2151","v":0},{"$f":"'SHALA DARPAN DATA'!B2151","v":0},{"$f":"'SHALA DARPAN DATA'!D2151","v":0},{"$f":"'SHALA DARPAN DATA'!J2151","v":0},{"$f":"'SHALA DARPAN DATA'!T2151","v":0},{"$f":"'SHALA DARPAN DATA'!V2151","v":0},{"$f":"'SHALA DARPAN DATA'!K2151","v":0},{"$f":"'SHALA DARPAN DATA'!E2151","v":0},{"$f":"'SHALA DARPAN DATA'!G2151","v":0},{"$f":"'SHALA DARPAN DATA'!H2151","v":0},{"$f":"'SHALA DARPAN DATA'!W2151","v":0},{"$f":"'SHALA DARPAN DATA'!R2151","v":0},{"$f":"'SHALA DARPAN DATA'!S2151","v":0},{"$f":"'SHALA DARPAN DATA'!O2151","v":0},0,0,0,0,0,0,0,0,0,0,0]
[{"$f":"'SHALA DARPAN DATA'!C2152","v":0},{"$f":"'SHALA DARPAN DATA'!A2152","v":0},{"$f":"'SHALA DARPAN DATA'!B2152","v":0},{"$f":"'SHALA DARPAN DATA'!D2152","v":0},{"$f":"'SHALA DARPAN DATA'!J2152","v":0},{"$f":"'SHALA DARPAN DATA'!T2152","v":0},{"$f":"'SHALA DARPAN DATA'!V2152","v":0},{"$f":"'SHALA DARPAN DATA'!K2152","v":0},{"$f":"'SHALA DARPAN DATA'!E2152","v":0},{"$f":"'SHALA DARPAN DATA'!G2152","v":0},{"$f":"'SHALA DARPAN DATA'!H2152","v":0},{"$f":"'SHALA DARPAN DATA'!W2152","v":0},{"$f":"'SHALA DARPAN DATA'!R2152","v":0},{"$f":"'SHALA DARPAN DATA'!S2152","v":0},{"$f":"'SHALA DARPAN DATA'!O2152","v":0},0,0,0,0,0,0,0,0,0,0,0]
[{"$f":"'SHALA DARPAN DATA'!C2157","v":0},{"$f":"'SHALA DARPAN DATA'!A2157","v":0},{"$f":"'SHALA DARPAN DATA'!B2157","v":0},{"$f":"'SHALA DARPAN DATA'!D2157","v":0},{"$f":"'SHALA DARPAN DATA'!J2157","v":0},{"$f":"'SHALA DARPAN DATA'!T2157","v":0},{"$f":"'SHALA DARPAN DATA'!V2157","v":0},{"$f":"'SHALA DARPAN DATA'!K2157","v":0},{"$f":"'SHALA DARPAN DATA'!E2157","v":0},{"$f":"'SHALA DARPAN DATA'!G2157","v":0},{"$f":"'SHALA DARPAN DATA'!H2157","v":0},{"$f":"'SHALA DARPAN DATA'!W2157","v":0},{"$f":"'SHALA DARPAN DATA'!R2157","v":0},{"$f":"'SHALA DARPAN DATA'!S2157","v":0},{"$f":"'SHALA DARPAN DATA'!O2157","v":0},0,0,0,0,0,0,0,0,0,0,0]
[{"$f":"'SHALA DARPAN DATA'!C2161","v":0},{"$f":"'SHALA DARPAN DATA'!A2161","v":0},{"$f":"'SHALA DARPAN DATA'!B2161","v":0},{"$f":"'SHALA DARPAN DATA'!D2161","v":0},{"$f":"'SHALA DARPAN DATA'!J2161","v":0},{"$f":"'SHALA DARPAN DATA'!T2161","v":0},{"$f":"'SHALA DARPAN DATA'!V2161","v":0},{"$f":"'SHALA DARPAN DATA'!K2161","v":0},{"$f":"'SHALA DARPAN DATA'!E2161","v":0},{"$f":"'SHALA DARPAN DATA'!G2161","v":0},{"$f":"'SHALA DARPAN DATA'!H2161","v":0},{"$f":"'SHALA DARPAN DATA'!W2161","v":0},{"$f":"'SHALA DARPAN DATA'!R2161","v":0},{"$f":"'SHALA DARPAN DATA'!S2161","v":0},{"$f":"'SHALA DARPAN DATA'!O2161","v":0},0,0,0,0,0,0,0,0,0,0,0]
[{"$f":"'SHALA DARPAN DATA'!C2166","v":0},{"$f":"'SHALA DARPAN DATA'!A2166","v":0},{"$f":"'SHALA DARPAN DATA'!B2166","v":0},{"$f":"'SHALA DARPAN DATA'!D2166","v":0},{"$f":"'SHALA DARPAN DATA'!J2166","v":0},{"$f":"'SHALA DARPAN DATA'!T2166","v":0},{"$f":"'SHALA DARPAN DATA'!V2166","v":0},{"$f":"'SHALA DARPAN DATA'!K2166","v":0},{"$f":"'SHALA DARPAN DATA'!E2166","v":0},{"$f":"'SHALA DARPAN DATA'!G2166","v":0},{"$f":"'SHALA DARPAN DATA'!H2166","v":0},{"$f":"'SHALA DARPAN DATA'!W2166","v":0},{"$f":"'SHALA DARPAN DATA'!R2166","v":0},{"$f":"'SHALA DARPAN DATA'!S2166","v":0},{"$f":"'SHALA DARPAN DATA'!O2166","v":0},0,0,0,0,0,0,0,0,0,0,0]
[{"$f":"'SHALA DARPAN DATA'!C2167","v":0},{"$f":"'SHALA DARPAN DATA'!A2167","v":0},{"$f":"'SHALA DARPAN DATA'!B2167","v":0},{"$f":"'SHALA DARPAN DATA'!D2167","v":0},{"$f":"'SHALA DARPAN DATA'!J2167","v":0},{"$f":"'SHALA DARPAN DATA'!T2167","v":0},{"$f":"'SHALA DARPAN DATA'!V2167","v":0},{"$f":"'SHALA DARPAN DATA'!K2167","v":0},{"$f":"'SHALA DARPAN DATA'!E2167","v":0},{"$f":"'SHALA DARPAN DATA'!G2167","v":0},{"$f":"'SHALA DARPAN DATA'!H2167","v":0},{"$f":"'SHALA DARPAN DATA'!W2167","v":0},{"$f":"'SHALA DARPAN DATA'!R2167","v":0},{"$f":"'SHALA DARPAN DATA'!S2167","v":0},{"$f":"'SHALA DARPAN DATA'!O2167","v":0},0,0,0,0,0,0,0,0,0,0,0]
[{"$f":"'SHALA DARPAN DATA'!C2171","v":0},{"$f":"'SHALA DARPAN DATA'!A2171","v":0},{"$f":"'SHALA DARPAN DATA'!B2171","v":0},{"$f":"'SHALA DARPAN DATA'!D2171","v":0},{"$f":"'SHALA DARPAN DATA'!J2171","v":0},{"$f":"'SHALA DARPAN DATA'!T2171","v":0},{"$f":"'SHALA DARPAN DATA'!V2171","v":0},{"$f":"'SHALA DARPAN DATA'!K2171","v":0},{"$f":"'SHALA DARPAN DATA'!E2171","v":0},{"$f":"'SHALA DARPAN DATA'!G2171","v":0},{"$f":"'SHALA DARPAN DATA'!H2171","v":0},{"$f":"'SHALA DARPAN DATA'!W2171","v":0},{"$f":"'SHALA DARPAN DATA'!R2171","v":0},{"$f":"'SHALA DARPAN DATA'!S2171","v":0},{"$f":"'SHALA DARPAN DATA'!O2171","v":0},0,0,0,0,0,0,0,0,0,0,0]
[{"$f":"'SHALA DARPAN DATA'!C2176","v":0},{"$f":"'SHALA DARPAN DATA'!A2176","v":0},{"$f":"'SHALA DARPAN DATA'!B2176","v":0},{"$f":"'SHALA DARPAN DATA'!D2176","v":0},{"$f":"'SHALA DARPAN DATA'!J2176","v":0},{"$f":"'SHALA DARPAN DATA'!T2176","v":0},{"$f":"'SHALA DARPAN DATA'!V2176","v":0},{"$f":"'SHALA DARPAN DATA'!K2176","v":0},{"$f":"'SHALA DARPAN DATA'!E2176","v":0},{"$f":"'SHALA DARPAN DATA'!G2176","v":0},{"$f":"'SHALA DARPAN DATA'!H2176","v":0},{"$f":"'SHALA DARPAN DATA'!W2176","v":0},{"$f":"'SHALA DARPAN DATA'!R2176","v":0},{"$f":"'SHALA DARPAN DATA'!S2176","v":0},{"$f":"'SHALA DARPAN DATA'!O2176","v":0},0,0,0,0,0,0,0,0,0,0,0]
[{"$f":"'SHALA DARPAN DATA'!C2181","v":0},{"$f":"'SHALA DARPAN DATA'!A2181","v":0},{"$f":"'SHALA DARPAN DATA'!B2181","v":0},{"$f":"'SHALA DARPAN DATA'!D2181","v":0},{"$f":"'SHALA DARPAN DATA'!J2181","v":0},{"$f":"'SHALA DARPAN DATA'!T2181","v":0},{"$f":"'SHALA DARPAN DATA'!V2181","v":0},{"$f":"'SHALA DARPAN DATA'!K2181","v":0},{"$f":"'SHALA DARPAN DATA'!E2181","v":0},{"$f":"'SHALA DARPAN DATA'!G2181","v":0},{"$f":"'SHALA DARPAN DATA'!H2181","v":0},{"$f":"'SHALA DARPAN DATA'!W2181","v":0},{"$f":"'SHALA DARPAN DATA'!R2181","v":0},{"$f":"'SHALA DARPAN DATA'!S2181","v":0},{"$f":"'SHALA DARPAN DATA'!O2181","v":0},0,0,0,0,0,0,0,0,0,0,0]
[{"$f":"'SHALA DARPAN DATA'!C2182","v":0},{"$f":"'SHALA DARPAN DATA'!A2182","v":0},{"$f":"'SHALA DARPAN DATA'!B2182","v":0},{"$f":"'SHALA DARPAN DATA'!D2182","v":0},{"$f":"'SHALA DARPAN DATA'!J2182","v":0},{"$f":"'SHALA DARPAN DATA'!T2182","v":0},{"$f":"'SHALA DARPAN DATA'!V2182","v":0},{"$f":"'SHALA DARPAN DATA'!K2182","v":0},{"$f":"'SHALA DARPAN DATA'!E2182","v":0},{"$f":"'SHALA DARPAN DATA'!G2182","v":0},{"$f":"'SHALA DARPAN DATA'!H2182","v":0},{"$f":"'SHALA DARPAN DATA'!W2182","v":0},{"$f":"'SHALA DARPAN DATA'!R2182","v":0},{"$f":"'SHALA DARPAN DATA'!S2182","v":0},{"$f":"'SHALA DARPAN DATA'!O2182","v":0},0,0,0,0,0,0,0,0,0,0,0]
[{"$f":"'SHALA DARPAN DATA'!C2187","v":0},{"$f":"'SHALA DARPAN DATA'!A2187","v":0},{"$f":"'SHALA DARPAN DATA'!B2187","v":0},{"$f":"'SHALA DARPAN DATA'!D2187","v":0},{"$f":"'SHALA DARPAN DATA'!J2187","v":0},{"$f":"'SHALA DARPAN DATA'!T2187","v":0},{"$f":"'SHALA DARPAN DATA'!V2187","v":0},{"$f":"'SHALA DARPAN DATA'!K2187","v":0},{"$f":"'SHALA DARPAN DATA'!E2187","v":0},{"$f":"'SHALA DARPAN DATA'!G2187","v":0},{"$f":"'SHALA DARPAN DATA'!H2187","v":0},{"$f":"'SHALA DARPAN DATA'!W2187","v":0},{"$f":"'SHALA DARPAN DATA'!R2187","v":0},{"$f":"'SHALA DARPAN DATA'!S2187","v":0},{"$f":"'SHALA DARPAN DATA'!O2187","v":0},0,0,0,0,0,0,0,0,0,0,0]
[{"$f":"'SHALA DARPAN DATA'!C2191","v":0},{"$f":"'SHALA DARPAN DATA'!A2191","v":0},{"$f":"'SHALA DARPAN DATA'!B2191","v":0},{"$f":"'SHALA DARPAN DATA'!D2191","v":0},{"$f":"'SHALA DARPAN DATA'!J2191","v":0},{"$f":"'SHALA DARPAN DATA'!T2191","v":0},{"$f":"'SHALA DARPAN DATA'!V2191","v":0},{"$f":"'SHALA DARPAN DATA'!K2191","v":0},{"$f":"'SHALA DARPAN DATA'!E2191","v":0},{"$f":"'SHALA DARPAN DATA'!G2191","v":0},{"$f":"'SHALA DARPAN DATA'!H2191","v":0},{"$f":"'SHALA DARPAN DATA'!W2191","v":0},{"$f":"'SHALA DARPAN DATA'!R2191","v":0},{"$f":"'SHALA DARPAN DATA'!S2191","v":0},{"$f":"'SHALA DARPAN DATA'!O2191","v":0},0,0,0,0,0,0,0,0,0,0,0]
[{"$f":"'SHALA DARPAN DATA'!C2196","v":0},{"$f":"'SHALA DARPAN DATA'!A2196","v":0},{"$f":"'SHALA DARPAN DATA'!B2196","v":0},{"$f":"'SHALA DARPAN DATA'!D2196","v":0},{"$f":"'SHALA DARPAN DATA'!J2196","v":0},{"$f":"'SHALA DARPAN DATA'!T2196","v":0},{"$f":"'SHALA DARPAN DATA'!V2196","v":0},{"$f":"'SHALA DARPAN DATA'!K2196","v":0},{"$f":"'SHALA DARPAN DATA'!E2196","v":0},{"$f":"'SHALA DARPAN DATA'!G2196","v":0},{"$f":"'SHALA DARPAN DATA'!H2196","v":0},{"$f":"'SHALA DARPAN DATA'!W2196","v":0},{"$f":"'SHALA DARPAN DATA'!R2196","v":0},{"$f":"'SHALA DARPAN DATA'!S2196","v":0},{"$f":"'SHALA DARPAN DATA'!O2196","v":0},0,0,0,0,0,0,0,0,0,0,0]
[{"$f":"'SHALA DARPAN DATA'!C2197","v":0},{"$f":"'SHALA DARPAN DATA'!A2197","v":0},{"$f":"'SHALA DARPAN DATA'!B2197","v":0},{"$f":"'SHALA DARPAN DATA'!D2197","v":0},{"$f":"'SHALA DARPAN DATA'!J2197","v":0},{"$f":"'SHALA DARPAN DATA'!T2197","v":0},{"$f":"'SHALA DARPAN DATA'!V2197","v":0},{"$f":"'SHALA DARPAN DATA'!K2197","v":0},{"$f":"'SHALA DARPAN DATA'!E2197","v":0},{"$f":"'SHALA DARPAN DATA'!G2197","v":0},{"$f":"'SHALA DARPAN DATA'!H2197","v":0},{"$f":"'SHALA DARPAN DATA'!W2197","v":0},{"$f":"'SHALA DARPAN DATA'!R2197","v":0},{"$f":"'SHALA DARPAN DATA'!S2197","v":0},{"$f":"'SHALA DARPAN DATA'!O2197","v":0},0,0,0,0,0,0,0,0,0,0,0]
[{"$f":"'SHALA DARPAN DATA'!C2201","v":0},{"$f":"'SHALA DARPAN DATA'!A2201","v":0},{"$f":"'SHALA DARPAN DATA'!B2201","v":0},{"$f":"'SHALA DARPAN DATA'!D2201","v":0},{"$f":"'SHALA DARPAN DATA'!J2201","v":0},{"$f":"'SHALA DARPAN DATA'!T2201","v":0},{"$f":"'SHALA DARPAN DATA'!V2201","v":0},{"$f":"'SHALA DARPAN DATA'!K2201","v":0},{"$f":"'SHALA DARPAN DATA'!E2201","v":0},{"$f":"'SHALA DARPAN DATA'!G2201","v":0},{"$f":"'SHALA DARPAN DATA'!H2201","v":0},{"$f":"'SHALA DARPAN DATA'!W2201","v":0},{"$f":"'SHALA DARPAN DATA'!R2201","v":0},{"$f":"'SHALA DARPAN DATA'!S2201","v":0},{"$f":"'SHALA DARPAN DATA'!O2201","v":0},0,0,0,0,0,0,0,0,0,0,0]
[{"$f":"'SHALA DARPAN DATA'!C2206","v":0},{"$f":"'SHALA DARPAN DATA'!A2206","v":0},{"$f":"'SHALA DARPAN DATA'!B2206","v":0},{"$f":"'SHALA DARPAN DATA'!D2206","v":0},{"$f":"'SHALA DARPAN DATA'!J2206","v":0},{"$f":"'SHALA DARPAN DATA'!T2206","v":0},{"$f":"'SHALA DARPAN DATA'!V2206","v":0},{"$f":"'SHALA DARPAN DATA'!K2206","v":0},{"$f":"'SHALA DARPAN DATA'!E2206","v":0},{"$f":"'SHALA DARPAN DATA'!G2206","v":0},{"$f":"'SHALA DARPAN DATA'!H2206","v":0},{"$f":"'SHALA DARPAN DATA'!W2206","v":0},{"$f":"'SHALA DARPAN DATA'!R2206","v":0},{"$f":"'SHALA DARPAN DATA'!S2206","v":0},{"$f":"'SHALA DARPAN DATA'!O2206","v":0},0,0,0,0,0,0,0,0,0,0,0]
[{"$f":"'SHALA DARPAN DATA'!C2211","v":0},{"$f":"'SHALA DARPAN DATA'!A2211","v":0},{"$f":"'SHALA DARPAN DATA'!B2211","v":0},{"$f":"'SHALA DARPAN DATA'!D2211","v":0},{"$f":"'SHALA DARPAN DATA'!J2211","v":0},{"$f":"'SHALA DARPAN DATA'!T2211","v":0},{"$f":"'SHALA DARPAN DATA'!V2211","v":0},{"$f":"'SHALA DARPAN DATA'!K2211","v":0},{"$f":"'SHALA DARPAN DATA'!E2211","v":0},{"$f":"'SHALA DARPAN DATA'!G2211","v":0},{"$f":"'SHALA DARPAN DATA'!H2211","v":0},{"$f":"'SHALA DARPAN DATA'!W2211","v":0},{"$f":"'SHALA DARPAN DATA'!R2211","v":0},{"$f":"'SHALA DARPAN DATA'!S2211","v":0},{"$f":"'SHALA DARPAN DATA'!O2211","v":0},0,0,0,0,0,0,0,0,0,0,0]
[{"$f":"'SHALA DARPAN DATA'!C2212","v":0},{"$f":"'SHALA DARPAN DATA'!A2212","v":0},{"$f":"'SHALA DARPAN DATA'!B2212","v":0},{"$f":"'SHALA DARPAN DATA'!D2212","v":0},{"$f":"'SHALA DARPAN DATA'!J2212","v":0},{"$f":"'SHALA DARPAN DATA'!T2212","v":0},{"$f":"'SHALA DARPAN DATA'!V2212","v":0},{"$f":"'SHALA DARPAN DATA'!K2212","v":0},{"$f":"'SHALA DARPAN DATA'!E2212","v":0},{"$f":"'SHALA DARPAN DATA'!G2212","v":0},{"$f":"'SHALA DARPAN DATA'!H2212","v":0},{"$f":"'SHALA DARPAN DATA'!W2212","v":0},{"$f":"'SHALA DARPAN DATA'!R2212","v":0},{"$f":"'SHALA DARPAN DATA'!S2212","v":0},{"$f":"'SHALA DARPAN DATA'!O2212","v":0},0,0,0,0,0,0,0,0,0,0,0]
[{"$f":"'SHALA DARPAN DATA'!C2217","v":0},{"$f":"'SHALA DARPAN DATA'!A2217","v":0},{"$f":"'SHALA DARPAN DATA'!B2217","v":0},{"$f":"'SHALA DARPAN DATA'!D2217","v":0},{"$f":"'SHALA DARPAN DATA'!J2217","v":0},{"$f":"'SHALA DARPAN DATA'!T2217","v":0},{"$f":"'SHALA DARPAN DATA'!V2217","v":0},{"$f":"'SHALA DARPAN DATA'!K2217","v":0},{"$f":"'SHALA DARPAN DATA'!E2217","v":0},{"$f":"'SHALA DARPAN DATA'!G2217","v":0},{"$f":"'SHALA DARPAN DATA'!H2217","v":0},{"$f":"'SHALA DARPAN DATA'!W2217","v":0},{"$f":"'SHALA DARPAN DATA'!R2217","v":0},{"$f":"'SHALA DARPAN DATA'!S2217","v":0},{"$f":"'SHALA DARPAN DATA'!O2217","v":0},0,0,0,0,0,0,0,0,0,0,0]
[{"$f":"'SHALA DARPAN DATA'!C2221","v":0},{"$f":"'SHALA DARPAN DATA'!A2221","v":0},{"$f":"'SHALA DARPAN DATA'!B2221","v":0},{"$f":"'SHALA DARPAN DATA'!D2221","v":0},{"$f":"'SHALA DARPAN DATA'!J2221","v":0},{"$f":"'SHALA DARPAN DATA'!T2221","v":0},{"$f":"'SHALA DARPAN DATA'!V2221","v":0},{"$f":"'SHALA DARPAN DATA'!K2221","v":0},{"$f":"'SHALA DARPAN DATA'!E2221","v":0},{"$f":"'SHALA DARPAN DATA'!G2221","v":0},{"$f":"'SHALA DARPAN DATA'!H2221","v":0},{"$f":"'SHALA DARPAN DATA'!W2221","v":0},{"$f":"'SHALA DARPAN DATA'!R2221","v":0},{"$f":"'SHALA DARPAN DATA'!S2221","v":0},{"$f":"'SHALA DARPAN DATA'!O2221","v":0},0,0,0,0,0,0,0,0,0,0,0]
[{"$f":"'SHALA DARPAN DATA'!C2226","v":0},{"$f":"'SHALA DARPAN DATA'!A2226","v":0},{"$f":"'SHALA DARPAN DATA'!B2226","v":0},{"$f":"'SHALA DARPAN DATA'!D2226","v":0},{"$f":"'SHALA DARPAN DATA'!J2226","v":0},{"$f":"'SHALA DARPAN DATA'!T2226","v":0},{"$f":"'SHALA DARPAN DATA'!V2226","v":0},{"$f":"'SHALA DARPAN DATA'!K2226","v":0},{"$f":"'SHALA DARPAN DATA'!E2226","v":0},{"$f":"'SHALA DARPAN DATA'!G2226","v":0},{"$f":"'SHALA DARPAN DATA'!H2226","v":0},{"$f":"'SHALA DARPAN DATA'!W2226","v":0},{"$f":"'SHALA DARPAN DATA'!R2226","v":0},{"$f":"'SHALA DARPAN DATA'!S2226","v":0},{"$f":"'SHALA DARPAN DATA'!O2226","v":0},0,0,0,0,0,0,0,0,0,0,0]
[{"$f":"'SHALA DARPAN DATA'!C2227","v":0},{"$f":"'SHALA DARPAN DATA'!A2227","v":0},{"$f":"'SHALA DARPAN DATA'!B2227","v":0},{"$f":"'SHALA DARPAN DATA'!D2227","v":0},{"$f":"'SHALA DARPAN DATA'!J2227","v":0},{"$f":"'SHALA DARPAN DATA'!T2227","v":0},{"$f":"'SHALA DARPAN DATA'!V2227","v":0},{"$f":"'SHALA DARPAN DATA'!K2227","v":0},{"$f":"'SHALA DARPAN DATA'!E2227","v":0},{"$f":"'SHALA DARPAN DATA'!G2227","v":0},{"$f":"'SHALA DARPAN DATA'!H2227","v":0},{"$f":"'SHALA DARPAN DATA'!W2227","v":0},{"$f":"'SHALA DARPAN DATA'!R2227","v":0},{"$f":"'SHALA DARPAN DATA'!S2227","v":0},{"$f":"'SHALA DARPAN DATA'!O2227","v":0},0,0,0,0,0,0,0,0,0,0,0]
[{"$f":"'SHALA DARPAN DATA'!C2231","v":0},{"$f":"'SHALA DARPAN DATA'!A2231","v":0},{"$f":"'SHALA DARPAN DATA'!B2231","v":0},{"$f":"'SHALA DARPAN DATA'!D2231","v":0},{"$f":"'SHALA DARPAN DATA'!J2231","v":0},{"$f":"'SHALA DARPAN DATA'!T2231","v":0},{"$f":"'SHALA DARPAN DATA'!V2231","v":0},{"$f":"'SHALA DARPAN DATA'!K2231","v":0},{"$f":"'SHALA DARPAN DATA'!E2231","v":0},{"$f":"'SHALA DARPAN DATA'!G2231","v":0},{"$f":"'SHALA DARPAN DATA'!H2231","v":0},{"$f":"'SHALA DARPAN DATA'!W2231","v":0},{"$f":"'SHALA DARPAN DATA'!R2231","v":0},{"$f":"'SHALA DARPAN DATA'!S2231","v":0},{"$f":"'SHALA DARPAN DATA'!O2231","v":0},0,0,0,0,0,0,0,0,0,0,0]
[{"$f":"'SHALA DARPAN DATA'!C2236","v":0},{"$f":"'SHALA DARPAN DATA'!A2236","v":0},{"$f":"'SHALA DARPAN DATA'!B2236","v":0},{"$f":"'SHALA DARPAN DATA'!D2236","v":0},{"$f":"'SHALA DARPAN DATA'!J2236","v":0},{"$f":"'SHALA DARPAN DATA'!T2236","v":0},{"$f":"'SHALA DARPAN DATA'!V2236","v":0},{"$f":"'SHALA DARPAN DATA'!K2236","v":0},{"$f":"'SHALA DARPAN DATA'!E2236","v":0},{"$f":"'SHALA DARPAN DATA'!G2236","v":0},{"$f":"'SHALA DARPAN DATA'!H2236","v":0},{"$f":"'SHALA DARPAN DATA'!W2236","v":0},{"$f":"'SHALA DARPAN DATA'!R2236","v":0},{"$f":"'SHALA DARPAN DATA'!S2236","v":0},{"$f":"'SHALA DARPAN DATA'!O2236","v":0},0,0,0,0,0,0,0,0,0,0,0]
[{"$f":"'SHALA DARPAN DATA'!C2241","v":0},{"$f":"'SHALA DARPAN DATA'!A2241","v":0},{"$f":"'SHALA DARPAN DATA'!B2241","v":0},{"$f":"'SHALA DARPAN DATA'!D2241","v":0},{"$f":"'SHALA DARPAN DATA'!J2241","v":0},{"$f":"'SHALA DARPAN DATA'!T2241","v":0},{"$f":"'SHALA DARPAN DATA'!V2241","v":0},{"$f":"'SHALA DARPAN DATA'!K2241","v":0},{"$f":"'SHALA DARPAN DATA'!E2241","v":0},{"$f":"'SHALA DARPAN DATA'!G2241","v":0},{"$f":"'SHALA DARPAN DATA'!H2241","v":0},{"$f":"'SHALA DARPAN DATA'!W2241","v":0},{"$f":"'SHALA DARPAN DATA'!R2241","v":0},{"$f":"'SHALA DARPAN DATA'!S2241","v":0},{"$f":"'SHALA DARPAN DATA'!O2241","v":0},0,0,0,0,0,0,0,0,0,0,0]
[{"$f":"'SHALA DARPAN DATA'!C2242","v":0},{"$f":"'SHALA DARPAN DATA'!A2242","v":0},{"$f":"'SHALA DARPAN DATA'!B2242","v":0},{"$f":"'SHALA DARPAN DATA'!D2242","v":0},{"$f":"'SHALA DARPAN DATA'!J2242","v":0},{"$f":"'SHALA DARPAN DATA'!T2242","v":0},{"$f":"'SHALA DARPAN DATA'!V2242","v":0},{"$f":"'SHALA DARPAN DATA'!K2242","v":0},{"$f":"'SHALA DARPAN DATA'!E2242","v":0},{"$f":"'SHALA DARPAN DATA'!G2242","v":0},{"$f":"'SHALA DARPAN DATA'!H2242","v":0},{"$f":"'SHALA DARPAN DATA'!W2242","v":0},{"$f":"'SHALA DARPAN DATA'!R2242","v":0},{"$f":"'SHALA DARPAN DATA'!S2242","v":0},{"$f":"'SHALA DARPAN DATA'!O2242","v":0},0,0,0,0,0,0,0,0,0,0,0]
[{"$f":"'SHALA DARPAN DATA'!C2247","v":0},{"$f":"'SHALA DARPAN DATA'!A2247","v":0},{"$f":"'SHALA DARPAN DATA'!B2247","v":0},{"$f":"'SHALA DARPAN DATA'!D2247","v":0},{"$f":"'SHALA DARPAN DATA'!J2247","v":0},{"$f":"'SHALA DARPAN DATA'!T2247","v":0},{"$f":"'SHALA DARPAN DATA'!V2247","v":0},{"$f":"'SHALA DARPAN DATA'!K2247","v":0},{"$f":"'SHALA DARPAN DATA'!E2247","v":0},{"$f":"'SHALA DARPAN DATA'!G2247","v":0},{"$f":"'SHALA DARPAN DATA'!H2247","v":0},{"$f":"'SHALA DARPAN DATA'!W2247","v":0},{"$f":"'SHALA DARPAN DATA'!R2247","v":0},{"$f":"'SHALA DARPAN DATA'!S2247","v":0},{"$f":"'SHALA DARPAN DATA'!O2247","v":0},0,0,0,0,0,0,0,0,0,0,0]
[{"$f":"'SHALA DARPAN DATA'!C2251","v":0},{"$f":"'SHALA DARPAN DATA'!A2251","v":0},{"$f":"'SHALA DARPAN DATA'!B2251","v":0},{"$f":"'SHALA DARPAN DATA'!D2251","v":0},{"$f":"'SHALA DARPAN DATA'!J2251","v":0},{"$f":"'SHALA DARPAN DATA'!T2251","v":0},{"$f":"'SHALA DARPAN DATA'!V2251","v":0},{"$f":"'SHALA DARPAN DATA'!K2251","v":0},{"$f":"'SHALA DARPAN DATA'!E2251","v":0},{"$f":"'SHALA DARPAN DATA'!G2251","v":0},{"$f":"'SHALA DARPAN DATA'!H2251","v":0},{"$f":"'SHALA DARPAN DATA'!W2251","v":0},{"$f":"'SHALA DARPAN DATA'!R2251","v":0},{"$f":"'SHALA DARPAN DATA'!S2251","v":0},{"$f":"'SHALA DARPAN DATA'!O2251","v":0},0,0,0,0,0,0,0,0,0,0,0]
[{"$f":"'SHALA DARPAN DATA'!C2256","v":0},{"$f":"'SHALA DARPAN DATA'!A2256","v":0},{"$f":"'SHALA DARPAN DATA'!B2256","v":0},{"$f":"'SHALA DARPAN DATA'!D2256","v":0},{"$f":"'SHALA DARPAN DATA'!J2256","v":0},{"$f":"'SHALA DARPAN DATA'!T2256","v":0},{"$f":"'SHALA DARPAN DATA'!V2256","v":0},{"$f":"'SHALA DARPAN DATA'!K2256","v":0},{"$f":"'SHALA DARPAN DATA'!E2256","v":0},{"$f":"'SHALA DARPAN DATA'!G2256","v":0},{"$f":"'SHALA DARPAN DATA'!H2256","v":0},{"$f":"'SHALA DARPAN DATA'!W2256","v":0},{"$f":"'SHALA DARPAN DATA'!R2256","v":0},{"$f":"'SHALA DARPAN DATA'!S2256","v":0},{"$f":"'SHALA DARPAN DATA'!O2256","v":0},0,0,0,0,0,0,0,0,0,0,0]
[{"$f":"'SHALA DARPAN DATA'!C2257","v":0},{"$f":"'SHALA DARPAN DATA'!A2257","v":0},{"$f":"'SHALA DARPAN DATA'!B2257","v":0},{"$f":"'SHALA DARPAN DATA'!D2257","v":0},{"$f":"'SHALA DARPAN DATA'!J2257","v":0},{"$f":"'SHALA DARPAN DATA'!T2257","v":0},{"$f":"'SHALA DARPAN DATA'!V2257","v":0},{"$f":"'SHALA DARPAN DATA'!K2257","v":0},{"$f":"'SHALA DARPAN DATA'!E2257","v":0},{"$f":"'SHALA DARPAN DATA'!G2257","v":0},{"$f":"'SHALA DARPAN DATA'!H2257","v":0},{"$f":"'SHALA DARPAN DATA'!W2257","v":0},{"$f":"'SHALA DARPAN DATA'!R2257","v":0},{"$f":"'SHALA DARPAN DATA'!S2257","v":0},{"$f":"'SHALA DARPAN DATA'!O2257","v":0},0,0,0,0,0,0,0,0,0,0,0]
[{"$f":"'SHALA DARPAN DATA'!C2261","v":0},{"$f":"'SHALA DARPAN DATA'!A2261","v":0},{"$f":"'SHALA DARPAN DATA'!B2261","v":0},{"$f":"'SHALA DARPAN DATA'!D2261","v":0},{"$f":"'SHALA DARPAN DATA'!J2261","v":0},{"$f":"'SHALA DARPAN DATA'!T2261","v":0},{"$f":"'SHALA DARPAN DATA'!V2261","v":0},{"$f":"'SHALA DARPAN DATA'!K2261","v":0},{"$f":"'SHALA DARPAN DATA'!E2261","v":0},{"$f":"'SHALA DARPAN DATA'!G2261","v":0},{"$f":"'SHALA DARPAN DATA'!H2261","v":0},{"$f":"'SHALA DARPAN DATA'!W2261","v":0},{"$f":"'SHALA DARPAN DATA'!R2261","v":0},{"$f":"'SHALA DARPAN DATA'!S2261","v":0},{"$f":"'SHALA DARPAN DATA'!O2261","v":0},0,0,0,0,0,0,0,0,0,0,0]
[{"$f":"'SHALA DARPAN DATA'!C2266","v":0},{"$f":"'SHALA DARPAN DATA'!A2266","v":0},{"$f":"'SHALA DARPAN DATA'!B2266","v":0},{"$f":"'SHALA DARPAN DATA'!D2266","v":0},{"$f":"'SHALA DARPAN DATA'!J2266","v":0},{"$f":"'SHALA DARPAN DATA'!T2266","v":0},{"$f":"'SHALA DARPAN DATA'!V2266","v":0},{"$f":"'SHALA DARPAN DATA'!K2266","v":0},{"$f":"'SHALA DARPAN DATA'!E2266","v":0},{"$f":"'SHALA DARPAN DATA'!G2266","v":0},{"$f":"'SHALA DARPAN DATA'!H2266","v":0},{"$f":"'SHALA DARPAN DATA'!W2266","v":0},{"$f":"'SHALA DARPAN DATA'!R2266","v":0},{"$f":"'SHALA DARPAN DATA'!S2266","v":0},{"$f":"'SHALA DARPAN DATA'!O2266","v":0},0,0,0,0,0,0,0,0,0,0,0]
[{"$f":"'SHALA DARPAN DATA'!C2271","v":0},{"$f":"'SHALA DARPAN DATA'!A2271","v":0},{"$f":"'SHALA DARPAN DATA'!B2271","v":0},{"$f":"'SHALA DARPAN DATA'!D2271","v":0},{"$f":"'SHALA DARPAN DATA'!J2271","v":0},{"$f":"'SHALA DARPAN DATA'!T2271","v":0},{"$f":"'SHALA DARPAN DATA'!V2271","v":0},{"$f":"'SHALA DARPAN DATA'!K2271","v":0},{"$f":"'SHALA DARPAN DATA'!E2271","v":0},{"$f":"'SHALA DARPAN DATA'!G2271","v":0},{"$f":"'SHALA DARPAN DATA'!H2271","v":0},{"$f":"'SHALA DARPAN DATA'!W2271","v":0},{"$f":"'SHALA DARPAN DATA'!R2271","v":0},{"$f":"'SHALA DARPAN DATA'!S2271","v":0},{"$f":"'SHALA DARPAN DATA'!O2271","v":0},0,0,0,0,0,0,0,0,0,0,0]
[{"$f":"'SHALA DARPAN DATA'!C2272","v":0},{"$f":"'SHALA DARPAN DATA'!A2272","v":0},{"$f":"'SHALA DARPAN DATA'!B2272","v":0},{"$f":"'SHALA DARPAN DATA'!D2272","v":0},{"$f":"'SHALA DARPAN DATA'!J2272","v":0},{"$f":"'SHALA DARPAN DATA'!T2272","v":0},{"$f":"'SHALA DARPAN DATA'!V2272","v":0},{"$f":"'SHALA DARPAN DATA'!K2272","v":0},{"$f":"'SHALA DARPAN DATA'!E2272","v":0},{"$f":"'SHALA DARPAN DATA'!G2272","v":0},{"$f":"'SHALA DARPAN DATA'!H2272","v":0},{"$f":"'SHALA DARPAN DATA'!W2272","v":0},{"$f":"'SHALA DARPAN DATA'!R2272","v":0},{"$f":"'SHALA DARPAN DATA'!S2272","v":0},{"$f":"'SHALA DARPAN DATA'!O2272","v":0},0,0,0,0,0,0,0,0,0,0,0]
[{"$f":"'SHALA DARPAN DATA'!C2277","v":0},{"$f":"'SHALA DARPAN DATA'!A2277","v":0},{"$f":"'SHALA DARPAN DATA'!B2277","v":0},{"$f":"'SHALA DARPAN DATA'!D2277","v":0},{"$f":"'SHALA DARPAN DATA'!J2277","v":0},{"$f":"'SHALA DARPAN DATA'!T2277","v":0},{"$f":"'SHALA DARPAN DATA'!V2277","v":0},{"$f":"'SHALA DARPAN DATA'!K2277","v":0},{"$f":"'SHALA DARPAN DATA'!E2277","v":0},{"$f":"'SHALA DARPAN DATA'!G2277","v":0},{"$f":"'SHALA DARPAN DATA'!H2277","v":0},{"$f":"'SHALA DARPAN DATA'!W2277","v":0},{"$f":"'SHALA DARPAN DATA'!R2277","v":0},{"$f":"'SHALA DARPAN DATA'!S2277","v":0},{"$f":"'SHALA DARPAN DATA'!O2277","v":0},0,0,0,0,0,0,0,0,0,0,0]
[{"$f":"'SHALA DARPAN DATA'!C2281","v":0},{"$f":"'SHALA DARPAN DATA'!A2281","v":0},{"$f":"'SHALA DARPAN DATA'!B2281","v":0},{"$f":"'SHALA DARPAN DATA'!D2281","v":0},{"$f":"'SHALA DARPAN DATA'!J2281","v":0},{"$f":"'SHALA DARPAN DATA'!T2281","v":0},{"$f":"'SHALA DARPAN DATA'!V2281","v":0},{"$f":"'SHALA DARPAN DATA'!K2281","v":0},{"$f":"'SHALA DARPAN DATA'!E2281","v":0},{"$f":"'SHALA DARPAN DATA'!G2281","v":0},{"$f":"'SHALA DARPAN DATA'!H2281","v":0},{"$f":"'SHALA DARPAN DATA'!W2281","v":0},{"$f":"'SHALA DARPAN DATA'!R2281","v":0},{"$f":"'SHALA DARPAN DATA'!S2281","v":0},{"$f":"'SHALA DARPAN DATA'!O2281","v":0},0,0,0,0,0,0,0,0,0,0,0]
[{"$f":"'SHALA DARPAN DATA'!C2286","v":0},{"$f":"'SHALA DARPAN DATA'!A2286","v":0},{"$f":"'SHALA DARPAN DATA'!B2286","v":0},{"$f":"'SHALA DARPAN DATA'!D2286","v":0},{"$f":"'SHALA DARPAN DATA'!J2286","v":0},{"$f":"'SHALA DARPAN DATA'!T2286","v":0},{"$f":"'SHALA DARPAN DATA'!V2286","v":0},{"$f":"'SHALA DARPAN DATA'!K2286","v":0},{"$f":"'SHALA DARPAN DATA'!E2286","v":0},{"$f":"'SHALA DARPAN DATA'!G2286","v":0},{"$f":"'SHALA DARPAN DATA'!H2286","v":0},{"$f":"'SHALA DARPAN DATA'!W2286","v":0},{"$f":"'SHALA DARPAN DATA'!R2286","v":0},{"$f":"'SHALA DARPAN DATA'!S2286","v":0},{"$f":"'SHALA DARPAN DATA'!O2286","v":0},0,0,0,0,0,0,0,0,0,0,0]
[{"$f":"'SHALA DARPAN DATA'!C2287","v":0},{"$f":"'SHALA DARPAN DATA'!A2287","v":0},{"$f":"'SHALA DARPAN DATA'!B2287","v":0},{"$f":"'SHALA DARPAN DATA'!D2287","v":0},{"$f":"'SHALA DARPAN DATA'!J2287","v":0},{"$f":"'SHALA DARPAN DATA'!T2287","v":0},{"$f":"'SHALA DARPAN DATA'!V2287","v":0},{"$f":"'SHALA DARPAN DATA'!K2287","v":0},{"$f":"'SHALA DARPAN DATA'!E2287","v":0},{"$f":"'SHALA DARPAN DATA'!G2287","v":0},{"$f":"'SHALA DARPAN DATA'!H2287","v":0},{"$f":"'SHALA DARPAN DATA'!W2287","v":0},{"$f":"'SHALA DARPAN DATA'!R2287","v":0},{"$f":"'SHALA DARPAN DATA'!S2287","v":0},{"$f":"'SHALA DARPAN DATA'!O2287","v":0},0,0,0,0,0,0,0,0,0,0,0]
[{"$f":"'SHALA DARPAN DATA'!C2291","v":0},{"$f":"'SHALA DARPAN DATA'!A2291","v":0},{"$f":"'SHALA DARPAN DATA'!B2291","v":0},{"$f":"'SHALA DARPAN DATA'!D2291","v":0},{"$f":"'SHALA DARPAN DATA'!J2291","v":0},{"$f":"'SHALA DARPAN DATA'!T2291","v":0},{"$f":"'SHALA DARPAN DATA'!V2291","v":0},{"$f":"'SHALA DARPAN DATA'!K2291","v":0},{"$f":"'SHALA DARPAN DATA'!E2291","v":0},{"$f":"'SHALA DARPAN DATA'!G2291","v":0},{"$f":"'SHALA DARPAN DATA'!H2291","v":0},{"$f":"'SHALA DARPAN DATA'!W2291","v":0},{"$f":"'SHALA DARPAN DATA'!R2291","v":0},{"$f":"'SHALA DARPAN DATA'!S2291","v":0},{"$f":"'SHALA DARPAN DATA'!O2291","v":0},0,0,0,0,0,0,0,0,0,0,0]
[{"$f":"'SHALA DARPAN DATA'!C2296","v":0},{"$f":"'SHALA DARPAN DATA'!A2296","v":0},{"$f":"'SHALA DARPAN DATA'!B2296","v":0},{"$f":"'SHALA DARPAN DATA'!D2296","v":0},{"$f":"'SHALA DARPAN DATA'!J2296","v":0},{"$f":"'SHALA DARPAN DATA'!T2296","v":0},{"$f":"'SHALA DARPAN DATA'!V2296","v":0},{"$f":"'SHALA DARPAN DATA'!K2296","v":0},{"$f":"'SHALA DARPAN DATA'!E2296","v":0},{"$f":"'SHALA DARPAN DATA'!G2296","v":0},{"$f":"'SHALA DARPAN DATA'!H2296","v":0},{"$f":"'SHALA DARPAN DATA'!W2296","v":0},{"$f":"'SHALA DARPAN DATA'!R2296","v":0},{"$f":"'SHALA DARPAN DATA'!S2296","v":0},{"$f":"'SHALA DARPAN DATA'!O2296","v":0},0,0,0,0,0,0,0,0,0,0,0]
[{"$f":"'SHALA DARPAN DATA'!C2301","v":0},{"$f":"'SHALA DARPAN DATA'!A2301","v":0},{"$f":"'SHALA DARPAN DATA'!B2301","v":0},{"$f":"'SHALA DARPAN DATA'!D2301","v":0},{"$f":"'SHALA DARPAN DATA'!J2301","v":0},{"$f":"'SHALA DARPAN DATA'!T2301","v":0},{"$f":"'SHALA DARPAN DATA'!V2301","v":0},{"$f":"'SHALA DARPAN DATA'!K2301","v":0},{"$f":"'SHALA DARPAN DATA'!E2301","v":0},{"$f":"'SHALA DARPAN DATA'!G2301","v":0},{"$f":"'SHALA DARPAN DATA'!H2301","v":0},{"$f":"'SHALA DARPAN DATA'!W2301","v":0},{"$f":"'SHALA DARPAN DATA'!R2301","v":0},{"$f":"'SHALA DARPAN DATA'!S2301","v":0},{"$f":"'SHALA DARPAN DATA'!O2301","v":0},0,0,0,0,0,0,0,0,0,0,0]
[{"$f":"'SHALA DARPAN DATA'!C2302","v":0},{"$f":"'SHALA DARPAN DATA'!A2302","v":0},{"$f":"'SHALA DARPAN DATA'!B2302","v":0},{"$f":"'SHALA DARPAN DATA'!D2302","v":0},{"$f":"'SHALA DARPAN DATA'!J2302","v":0},{"$f":"'SHALA DARPAN DATA'!T2302","v":0},{"$f":"'SHALA DARPAN DATA'!V2302","v":0},{"$f":"'SHALA DARPAN DATA'!K2302","v":0},{"$f":"'SHALA DARPAN DATA'!E2302","v":0},{"$f":"'SHALA DARPAN DATA'!G2302","v":0},{"$f":"'SHALA DARPAN DATA'!H2302","v":0},{"$f":"'SHALA DARPAN DATA'!W2302","v":0},{"$f":"'SHALA DARPAN DATA'!R2302","v":0},{"$f":"'SHALA DARPAN DATA'!S2302","v":0},{"$f":"'SHALA DARPAN DATA'!O2302","v":0},0,0,0,0,0,0,0,0,0,0,0]
[{"$f":"'SHALA DARPAN DATA'!C2307","v":0},{"$f":"'SHALA DARPAN DATA'!A2307","v":0},{"$f":"'SHALA DARPAN DATA'!B2307","v":0},{"$f":"'SHALA DARPAN DATA'!D2307","v":0},{"$f":"'SHALA DARPAN DATA'!J2307","v":0},{"$f":"'SHALA DARPAN DATA'!T2307","v":0},{"$f":"'SHALA DARPAN DATA'!V2307","v":0},{"$f":"'SHALA DARPAN DATA'!K2307","v":0},{"$f":"'SHALA DARPAN DATA'!E2307","v":0},{"$f":"'SHALA DARPAN DATA'!G2307","v":0},{"$f":"'SHALA DARPAN DATA'!H2307","v":0},{"$f":"'SHALA DARPAN DATA'!W2307","v":0},{"$f":"'SHALA DARPAN DATA'!R2307","v":0},{"$f":"'SHALA DARPAN DATA'!S2307","v":0},{"$f":"'SHALA DARPAN DATA'!O2307","v":0},0,0,0,0,0,0,0,0,0,0,0]
[{"$f":"'SHALA DARPAN DATA'!C2311","v":0},{"$f":"'SHALA DARPAN DATA'!A2311","v":0},{"$f":"'SHALA DARPAN DATA'!B2311","v":0},{"$f":"'SHALA DARPAN DATA'!D2311","v":0},{"$f":"'SHALA DARPAN DATA'!J2311","v":0},{"$f":"'SHALA DARPAN DATA'!T2311","v":0},{"$f":"'SHALA DARPAN DATA'!V2311","v":0},{"$f":"'SHALA DARPAN DATA'!K2311","v":0},{"$f":"'SHALA DARPAN DATA'!E2311","v":0},{"$f":"'SHALA DARPAN DATA'!G2311","v":0},{"$f":"'SHALA DARPAN DATA'!H2311","v":0},{"$f":"'SHALA DARPAN DATA'!W2311","v":0},{"$f":"'SHALA DARPAN DATA'!R2311","v":0},{"$f":"'SHALA DARPAN DATA'!S2311","v":0},{"$f":"'SHALA DARPAN DATA'!O2311","v":0},0,0,0,0,0,0,0,0,0,0,0]
[{"$f":"'SHALA DARPAN DATA'!C2316","v":0},{"$f":"'SHALA DARPAN DATA'!A2316","v":0},{"$f":"'SHALA DARPAN DATA'!B2316","v":0},{"$f":"'SHALA DARPAN DATA'!D2316","v":0},{"$f":"'SHALA DARPAN DATA'!J2316","v":0},{"$f":"'SHALA DARPAN DATA'!T2316","v":0},{"$f":"'SHALA DARPAN DATA'!V2316","v":0},{"$f":"'SHALA DARPAN DATA'!K2316","v":0},{"$f":"'SHALA DARPAN DATA'!E2316","v":0},{"$f":"'SHALA DARPAN DATA'!G2316","v":0},{"$f":"'SHALA DARPAN DATA'!H2316","v":0},{"$f":"'SHALA DARPAN DATA'!W2316","v":0},{"$f":"'SHALA DARPAN DATA'!R2316","v":0},{"$f":"'SHALA DARPAN DATA'!S2316","v":0},{"$f":"'SHALA DARPAN DATA'!O2316","v":0},0,0,0,0,0,0,0,0,0,0,0]
[{"$f":"'SHALA DARPAN DATA'!C2317","v":0},{"$f":"'SHALA DARPAN DATA'!A2317","v":0},{"$f":"'SHALA DARPAN DATA'!B2317","v":0},{"$f":"'SHALA DARPAN DATA'!D2317","v":0},{"$f":"'SHALA DARPAN DATA'!J2317","v":0},{"$f":"'SHALA DARPAN DATA'!T2317","v":0},{"$f":"'SHALA DARPAN DATA'!V2317","v":0},{"$f":"'SHALA DARPAN DATA'!K2317","v":0},{"$f":"'SHALA DARPAN DATA'!E2317","v":0},{"$f":"'SHALA DARPAN DATA'!G2317","v":0},{"$f":"'SHALA DARPAN DATA'!H2317","v":0},{"$f":"'SHALA DARPAN DATA'!W2317","v":0},{"$f":"'SHALA DARPAN DATA'!R2317","v":0},{"$f":"'SHALA DARPAN DATA'!S2317","v":0},{"$f":"'SHALA DARPAN DATA'!O2317","v":0},0,0,0,0,0,0,0,0,0,0,0]
[{"$f":"'SHALA DARPAN DATA'!C2321","v":0},{"$f":"'SHALA DARPAN DATA'!A2321","v":0},{"$f":"'SHALA DARPAN DATA'!B2321","v":0},{"$f":"'SHALA DARPAN DATA'!D2321","v":0},{"$f":"'SHALA DARPAN DATA'!J2321","v":0},{"$f":"'SHALA DARPAN DATA'!T2321","v":0},{"$f":"'SHALA DARPAN DATA'!V2321","v":0},{"$f":"'SHALA DARPAN DATA'!K2321","v":0},{"$f":"'SHALA DARPAN DATA'!E2321","v":0},{"$f":"'SHALA DARPAN DATA'!G2321","v":0},{"$f":"'SHALA DARPAN DATA'!H2321","v":0},{"$f":"'SHALA DARPAN DATA'!W2321","v":0},{"$f":"'SHALA DARPAN DATA'!R2321","v":0},{"$f":"'SHALA DARPAN DATA'!S2321","v":0},{"$f":"'SHALA DARPAN DATA'!O2321","v":0},0,0,0,0,0,0,0,0,0,0,0]
[{"$f":"'SHALA DARPAN DATA'!C2326","v":0},{"$f":"'SHALA DARPAN DATA'!A2326","v":0},{"$f":"'SHALA DARPAN DATA'!B2326","v":0},{"$f":"'SHALA DARPAN DATA'!D2326","v":0},{"$f":"'SHALA DARPAN DATA'!J2326","v":0},{"$f":"'SHALA DARPAN DATA'!T2326","v":0},{"$f":"'SHALA DARPAN DATA'!V2326","v":0},{"$f":"'SHALA DARPAN DATA'!K2326","v":0},{"$f":"'SHALA DARPAN DATA'!E2326","v":0},{"$f":"'SHALA DARPAN DATA'!G2326","v":0},{"$f":"'SHALA DARPAN DATA'!H2326","v":0},{"$f":"'SHALA DARPAN DATA'!W2326","v":0},{"$f":"'SHALA DARPAN DATA'!R2326","v":0},{"$f":"'SHALA DARPAN DATA'!S2326","v":0},{"$f":"'SHALA DARPAN DATA'!O2326","v":0},0,0,0,0,0,0,0,0,0,0,0]
[{"$f":"'SHALA DARPAN DATA'!C2331","v":0},{"$f":"'SHALA DARPAN DATA'!A2331","v":0},{"$f":"'SHALA DARPAN DATA'!B2331","v":0},{"$f":"'SHALA DARPAN DATA'!D2331","v":0},{"$f":"'SHALA DARPAN DATA'!J2331","v":0},{"$f":"'SHALA DARPAN DATA'!T2331","v":0},{"$f":"'SHALA DARPAN DATA'!V2331","v":0},{"$f":"'SHALA DARPAN DATA'!K2331","v":0},{"$f":"'SHALA DARPAN DATA'!E2331","v":0},{"$f":"'SHALA DARPAN DATA'!G2331","v":0},{"$f":"'SHALA DARPAN DATA'!H2331","v":0},{"$f":"'SHALA DARPAN DATA'!W2331","v":0},{"$f":"'SHALA DARPAN DATA'!R2331","v":0},{"$f":"'SHALA DARPAN DATA'!S2331","v":0},{"$f":"'SHALA DARPAN DATA'!O2331","v":0},0,0,0,0,0,0,0,0,0,0,0]
[{"$f":"'SHALA DARPAN DATA'!C2332","v":0},{"$f":"'SHALA DARPAN DATA'!A2332","v":0},{"$f":"'SHALA DARPAN DATA'!B2332","v":0},{"$f":"'SHALA DARPAN DATA'!D2332","v":0},{"$f":"'SHALA DARPAN DATA'!J2332","v":0},{"$f":"'SHALA DARPAN DATA'!T2332","v":0},{"$f":"'SHALA DARPAN DATA'!V2332","v":0},{"$f":"'SHALA DARPAN DATA'!K2332","v":0},{"$f":"'SHALA DARPAN DATA'!E2332","v":0},{"$f":"'SHALA DARPAN DATA'!G2332","v":0},{"$f":"'SHALA DARPAN DATA'!H2332","v":0},{"$f":"'SHALA DARPAN DATA'!W2332","v":0},{"$f":"'SHALA DARPAN DATA'!R2332","v":0},{"$f":"'SHALA DARPAN DATA'!S2332","v":0},{"$f":"'SHALA DARPAN DATA'!O2332","v":0},0,0,0,0,0,0,0,0,0,0,0]
[{"$f":"'SHALA DARPAN DATA'!C2337","v":0},{"$f":"'SHALA DARPAN DATA'!A2337","v":0},{"$f":"'SHALA DARPAN DATA'!B2337","v":0},{"$f":"'SHALA DARPAN DATA'!D2337","v":0},{"$f":"'SHALA DARPAN DATA'!J2337","v":0},{"$f":"'SHALA DARPAN DATA'!T2337","v":0},{"$f":"'SHALA DARPAN DATA'!V2337","v":0},{"$f":"'SHALA DARPAN DATA'!K2337","v":0},{"$f":"'SHALA DARPAN DATA'!E2337","v":0},{"$f":"'SHALA DARPAN DATA'!G2337","v":0},{"$f":"'SHALA DARPAN DATA'!H2337","v":0},{"$f":"'SHALA DARPAN DATA'!W2337","v":0},{"$f":"'SHALA DARPAN DATA'!R2337","v":0},{"$f":"'SHALA DARPAN DATA'!S2337","v":0},{"$f":"'SHALA DARPAN DATA'!O2337","v":0},0,0,0,0,0,0,0,0,0,0,0]
[{"$f":"'SHALA DARPAN DATA'!C2341","v":0},{"$f":"'SHALA DARPAN DATA'!A2341","v":0},{"$f":"'SHALA DARPAN DATA'!B2341","v":0},{"$f":"'SHALA DARPAN DATA'!D2341","v":0},{"$f":"'SHALA DARPAN DATA'!J2341","v":0},{"$f":"'SHALA DARPAN DATA'!T2341","v":0},{"$f":"'SHALA DARPAN DATA'!V2341","v":0},{"$f":"'SHALA DARPAN DATA'!K2341","v":0},{"$f":"'SHALA DARPAN DATA'!E2341","v":0},{"$f":"'SHALA DARPAN DATA'!G2341","v":0},{"$f":"'SHALA DARPAN DATA'!H2341","v":0},{"$f":"'SHALA DARPAN DATA'!W2341","v":0},{"$f":"'SHALA DARPAN DATA'!R2341","v":0},{"$f":"'SHALA DARPAN DATA'!S2341","v":0},{"$f":"'SHALA DARPAN DATA'!O2341","v":0},0,0,0,0,0,0,0,0,0,0,0]
[{"$f":"'SHALA DARPAN DATA'!C2346","v":0},{"$f":"'SHALA DARPAN DATA'!A2346","v":0},{"$f":"'SHALA DARPAN DATA'!B2346","v":0},{"$f":"'SHALA DARPAN DATA'!D2346","v":0},{"$f":"'SHALA DARPAN DATA'!J2346","v":0},{"$f":"'SHALA DARPAN DATA'!T2346","v":0},{"$f":"'SHALA DARPAN DATA'!V2346","v":0},{"$f":"'SHALA DARPAN DATA'!K2346","v":0},{"$f":"'SHALA DARPAN DATA'!E2346","v":0},{"$f":"'SHALA DARPAN DATA'!G2346","v":0},{"$f":"'SHALA DARPAN DATA'!H2346","v":0},{"$f":"'SHALA DARPAN DATA'!W2346","v":0},{"$f":"'SHALA DARPAN DATA'!R2346","v":0},{"$f":"'SHALA DARPAN DATA'!S2346","v":0},{"$f":"'SHALA DARPAN DATA'!O2346","v":0},0,0,0,0,0,0,0,0,0,0,0]
[{"$f":"'SHALA DARPAN DATA'!C2347","v":0},{"$f":"'SHALA DARPAN DATA'!A2347","v":0},{"$f":"'SHALA DARPAN DATA'!B2347","v":0},{"$f":"'SHALA DARPAN DATA'!D2347","v":0},{"$f":"'SHALA DARPAN DATA'!J2347","v":0},{"$f":"'SHALA DARPAN DATA'!T2347","v":0},{"$f":"'SHALA DARPAN DATA'!V2347","v":0},{"$f":"'SHALA DARPAN DATA'!K2347","v":0},{"$f":"'SHALA DARPAN DATA'!E2347","v":0},{"$f":"'SHALA DARPAN DATA'!G2347","v":0},{"$f":"'SHALA DARPAN DATA'!H2347","v":0},{"$f":"'SHALA DARPAN DATA'!W2347","v":0},{"$f":"'SHALA DARPAN DATA'!R2347","v":0},{"$f":"'SHALA DARPAN DATA'!S2347","v":0},{"$f":"'SHALA DARPAN DATA'!O2347","v":0},0,0,0,0,0,0,0,0,0,0,0]
[{"$f":"'SHALA DARPAN DATA'!C2351","v":0},{"$f":"'SHALA DARPAN DATA'!A2351","v":0},{"$f":"'SHALA DARPAN DATA'!B2351","v":0},{"$f":"'SHALA DARPAN DATA'!D2351","v":0},{"$f":"'SHALA DARPAN DATA'!J2351","v":0},{"$f":"'SHALA DARPAN DATA'!T2351","v":0},{"$f":"'SHALA DARPAN DATA'!V2351","v":0},{"$f":"'SHALA DARPAN DATA'!K2351","v":0},{"$f":"'SHALA DARPAN DATA'!E2351","v":0},{"$f":"'SHALA DARPAN DATA'!G2351","v":0},{"$f":"'SHALA DARPAN DATA'!H2351","v":0},{"$f":"'SHALA DARPAN DATA'!W2351","v":0},{"$f":"'SHALA DARPAN DATA'!R2351","v":0},{"$f":"'SHALA DARPAN DATA'!S2351","v":0},{"$f":"'SHALA DARPAN DATA'!O2351","v":0},0,0,0,0,0,0,0,0,0,0,0]
[{"$f":"'SHALA DARPAN DATA'!C2356","v":0},{"$f":"'SHALA DARPAN DATA'!A2356","v":0},{"$f":"'SHALA DARPAN DATA'!B2356","v":0},{"$f":"'SHALA DARPAN DATA'!D2356","v":0},{"$f":"'SHALA DARPAN DATA'!J2356","v":0},{"$f":"'SHALA DARPAN DATA'!T2356","v":0},{"$f":"'SHALA DARPAN DATA'!V2356","v":0},{"$f":"'SHALA DARPAN DATA'!K2356","v":0},{"$f":"'SHALA DARPAN DATA'!E2356","v":0},{"$f":"'SHALA DARPAN DATA'!G2356","v":0},{"$f":"'SHALA DARPAN DATA'!H2356","v":0},{"$f":"'SHALA DARPAN DATA'!W2356","v":0},{"$f":"'SHALA DARPAN DATA'!R2356","v":0},{"$f":"'SHALA DARPAN DATA'!S2356","v":0},{"$f":"'SHALA DARPAN DATA'!O2356","v":0},0,0,0,0,0,0,0,0,0,0,0]
[{"$f":"'SHALA DARPAN DATA'!C2361","v":0},{"$f":"'SHALA DARPAN DATA'!A2361","v":0},{"$f":"'SHALA DARPAN DATA'!B2361","v":0},{"$f":"'SHALA DARPAN DATA'!D2361","v":0},{"$f":"'SHALA DARPAN DATA'!J2361","v":0},{"$f":"'SHALA DARPAN DATA'!T2361","v":0},{"$f":"'SHALA DARPAN DATA'!V2361","v":0},{"$f":"'SHALA DARPAN DATA'!K2361","v":0},{"$f":"'SHALA DARPAN DATA'!E2361","v":0},{"$f":"'SHALA DARPAN DATA'!G2361","v":0},{"$f":"'SHALA DARPAN DATA'!H2361","v":0},{"$f":"'SHALA DARPAN DATA'!W2361","v":0},{"$f":"'SHALA DARPAN DATA'!R2361","v":0},{"$f":"'SHALA DARPAN DATA'!S2361","v":0},{"$f":"'SHALA DARPAN DATA'!O2361","v":0},0,0,0,0,0,0,0,0,0,0,0]
[{"$f":"'SHALA DARPAN DATA'!C2362","v":0},{"$f":"'SHALA DARPAN DATA'!A2362","v":0},{"$f":"'SHALA DARPAN DATA'!B2362","v":0},{"$f":"'SHALA DARPAN DATA'!D2362","v":0},{"$f":"'SHALA DARPAN DATA'!J2362","v":0},{"$f":"'SHALA DARPAN DATA'!T2362","v":0},{"$f":"'SHALA DARPAN DATA'!V2362","v":0},{"$f":"'SHALA DARPAN DATA'!K2362","v":0},{"$f":"'SHALA DARPAN DATA'!E2362","v":0},{"$f":"'SHALA DARPAN DATA'!G2362","v":0},{"$f":"'SHALA DARPAN DATA'!H2362","v":0},{"$f":"'SHALA DARPAN DATA'!W2362","v":0},{"$f":"'SHALA DARPAN DATA'!R2362","v":0},{"$f":"'SHALA DARPAN DATA'!S2362","v":0},{"$f":"'SHALA DARPAN DATA'!O2362","v":0},0,0,0,0,0,0,0,0,0,0,0]
[{"$f":"'SHALA DARPAN DATA'!C2368","v":0},{"$f":"'SHALA DARPAN DATA'!A2368","v":0},{"$f":"'SHALA DARPAN DATA'!B2368","v":0},{"$f":"'SHALA DARPAN DATA'!D2368","v":0},{"$f":"'SHALA DARPAN DATA'!J2368","v":0},{"$f":"'SHALA DARPAN DATA'!T2368","v":0},{"$f":"'SHALA DARPAN DATA'!V2368","v":0},{"$f":"'SHALA DARPAN DATA'!K2368","v":0},{"$f":"'SHALA DARPAN DATA'!E2368","v":0},{"$f":"'SHALA DARPAN DATA'!G2368","v":0},{"$f":"'SHALA DARPAN DATA'!H2368","v":0},{"$f":"'SHALA DARPAN DATA'!W2368","v":0},{"$f":"'SHALA DARPAN DATA'!R2368","v":0},{"$f":"'SHALA DARPAN DATA'!S2368","v":0},{"$f":"'SHALA DARPAN DATA'!O2368","v":0},0,0,0,0,0,0,0,0,0,0,0]
[{"$f":"'SHALA DARPAN DATA'!C2371","v":0},{"$f":"'SHALA DARPAN DATA'!A2371","v":0},{"$f":"'SHALA DARPAN DATA'!B2371","v":0},{"$f":"'SHALA DARPAN DATA'!D2371","v":0},{"$f":"'SHALA DARPAN DATA'!J2371","v":0},{"$f":"'SHALA DARPAN DATA'!T2371","v":0},{"$f":"'SHALA DARPAN DATA'!V2371","v":0},{"$f":"'SHALA DARPAN DATA'!K2371","v":0},{"$f":"'SHALA DARPAN DATA'!E2371","v":0},{"$f":"'SHALA DARPAN DATA'!G2371","v":0},{"$f":"'SHALA DARPAN DATA'!H2371","v":0},{"$f":"'SHALA DARPAN DATA'!W2371","v":0},{"$f":"'SHALA DARPAN DATA'!R2371","v":0},{"$f":"'SHALA DARPAN DATA'!S2371","v":0},{"$f":"'SHALA DARPAN DATA'!O2371","v":0},0,0,0,0,0,0,0,0,0,0,0]
[{"$f":"'SHALA DARPAN DATA'!C2376","v":0},{"$f":"'SHALA DARPAN DATA'!A2376","v":0},{"$f":"'SHALA DARPAN DATA'!B2376","v":0},{"$f":"'SHALA DARPAN DATA'!D2376","v":0},{"$f":"'SHALA DARPAN DATA'!J2376","v":0},{"$f":"'SHALA DARPAN DATA'!T2376","v":0},{"$f":"'SHALA DARPAN DATA'!V2376","v":0},{"$f":"'SHALA DARPAN DATA'!K2376","v":0},{"$f":"'SHALA DARPAN DATA'!E2376","v":0},{"$f":"'SHALA DARPAN DATA'!G2376","v":0},{"$f":"'SHALA DARPAN DATA'!H2376","v":0},{"$f":"'SHALA DARPAN DATA'!W2376","v":0},{"$f":"'SHALA DARPAN DATA'!R2376","v":0},{"$f":"'SHALA DARPAN DATA'!S2376","v":0},{"$f":"'SHALA DARPAN DATA'!O2376","v":0},0,0,0,0,0,0,0,0,0,0,0]
[{"$f":"'SHALA DARPAN DATA'!C2377","v":0},{"$f":"'SHALA DARPAN DATA'!A2377","v":0},{"$f":"'SHALA DARPAN DATA'!B2377","v":0},{"$f":"'SHALA DARPAN DATA'!D2377","v":0},{"$f":"'SHALA DARPAN DATA'!J2377","v":0},{"$f":"'SHALA DARPAN DATA'!T2377","v":0},{"$f":"'SHALA DARPAN DATA'!V2377","v":0},{"$f":"'SHALA DARPAN DATA'!K2377","v":0},{"$f":"'SHALA DARPAN DATA'!E2377","v":0},{"$f":"'SHALA DARPAN DATA'!G2377","v":0},{"$f":"'SHALA DARPAN DATA'!H2377","v":0},{"$f":"'SHALA DARPAN DATA'!W2377","v":0},{"$f":"'SHALA DARPAN DATA'!R2377","v":0},{"$f":"'SHALA DARPAN DATA'!S2377","v":0},{"$f":"'SHALA DARPAN DATA'!O2377","v":0},0,0,0,0,0,0,0,0,0,0,0]
[{"$f":"'SHALA DARPAN DATA'!C2381","v":0},{"$f":"'SHALA DARPAN DATA'!A2381","v":0},{"$f":"'SHALA DARPAN DATA'!B2381","v":0},{"$f":"'SHALA DARPAN DATA'!D2381","v":0},{"$f":"'SHALA DARPAN DATA'!J2381","v":0},{"$f":"'SHALA DARPAN DATA'!T2381","v":0},{"$f":"'SHALA DARPAN DATA'!V2381","v":0},{"$f":"'SHALA DARPAN DATA'!K2381","v":0},{"$f":"'SHALA DARPAN DATA'!E2381","v":0},{"$f":"'SHALA DARPAN DATA'!G2381","v":0},{"$f":"'SHALA DARPAN DATA'!H2381","v":0},{"$f":"'SHALA DARPAN DATA'!W2381","v":0},{"$f":"'SHALA DARPAN DATA'!R2381","v":0},{"$f":"'SHALA DARPAN DATA'!S2381","v":0},{"$f":"'SHALA DARPAN DATA'!O2381","v":0},0,0,0,0,0,0,0,0,0,0,0]
[{"$f":"'SHALA DARPAN DATA'!C2386","v":0},{"$f":"'SHALA DARPAN DATA'!A2386","v":0},{"$f":"'SHALA DARPAN DATA'!B2386","v":0},{"$f":"'SHALA DARPAN DATA'!D2386","v":0},{"$f":"'SHALA DARPAN DATA'!J2386","v":0},{"$f":"'SHALA DARPAN DATA'!T2386","v":0},{"$f":"'SHALA DARPAN DATA'!V2386","v":0},{"$f":"'SHALA DARPAN DATA'!K2386","v":0},{"$f":"'SHALA DARPAN DATA'!E2386","v":0},{"$f":"'SHALA DARPAN DATA'!G2386","v":0},{"$f":"'SHALA DARPAN DATA'!H2386","v":0},{"$f":"'SHALA DARPAN DATA'!W2386","v":0},{"$f":"'SHALA DARPAN DATA'!R2386","v":0},{"$f":"'SHALA DARPAN DATA'!S2386","v":0},{"$f":"'SHALA DARPAN DATA'!O2386","v":0},0,0,0,0,0,0,0,0,0,0,0]
[{"$f":"'SHALA DARPAN DATA'!C2391","v":0},{"$f":"'SHALA DARPAN DATA'!A2391","v":0},{"$f":"'SHALA DARPAN DATA'!B2391","v":0},{"$f":"'SHALA DARPAN DATA'!D2391","v":0},{"$f":"'SHALA DARPAN DATA'!J2391","v":0},{"$f":"'SHALA DARPAN DATA'!T2391","v":0},{"$f":"'SHALA DARPAN DATA'!V2391","v":0},{"$f":"'SHALA DARPAN DATA'!K2391","v":0},{"$f":"'SHALA DARPAN DATA'!E2391","v":0},{"$f":"'SHALA DARPAN DATA'!G2391","v":0},{"$f":"'SHALA DARPAN DATA'!H2391","v":0},{"$f":"'SHALA DARPAN DATA'!W2391","v":0},{"$f":"'SHALA DARPAN DATA'!R2391","v":0},{"$f":"'SHALA DARPAN DATA'!S2391","v":0},{"$f":"'SHALA DARPAN DATA'!O2391","v":0},0,0,0,0,0,0,0,0,0,0,0]
[{"$f":"'SHALA DARPAN DATA'!C2392","v":0},{"$f":"'SHALA DARPAN DATA'!A2392","v":0},{"$f":"'SHALA DARPAN DATA'!B2392","v":0},{"$f":"'SHALA DARPAN DATA'!D2392","v":0},{"$f":"'SHALA DARPAN DATA'!J2392","v":0},{"$f":"'SHALA DARPAN DATA'!T2392","v":0},{"$f":"'SHALA DARPAN DATA'!V2392","v":0},{"$f":"'SHALA DARPAN DATA'!K2392","v":0},{"$f":"'SHALA DARPAN DATA'!E2392","v":0},{"$f":"'SHALA DARPAN DATA'!G2392","v":0},{"$f":"'SHALA DARPAN DATA'!H2392","v":0},{"$f":"'SHALA DARPAN DATA'!W2392","v":0},{"$f":"'SHALA DARPAN DATA'!R2392","v":0},{"$f":"'SHALA DARPAN DATA'!S2392","v":0},{"$f":"'SHALA DARPAN DATA'!O2392","v":0},0,0,0,0,0,0,0,0,0,0,0]
[{"$f":"'SHALA DARPAN DATA'!C2398","v":0},{"$f":"'SHALA DARPAN DATA'!A2398","v":0},{"$f":"'SHALA DARPAN DATA'!B2398","v":0},{"$f":"'SHALA DARPAN DATA'!D2398","v":0},{"$f":"'SHALA DARPAN DATA'!J2398","v":0},{"$f":"'SHALA DARPAN DATA'!T2398","v":0},{"$f":"'SHALA DARPAN DATA'!V2398","v":0},{"$f":"'SHALA DARPAN DATA'!K2398","v":0},{"$f":"'SHALA DARPAN DATA'!E2398","v":0},{"$f":"'SHALA DARPAN DATA'!G2398","v":0},{"$f":"'SHALA DARPAN DATA'!H2398","v":0},{"$f":"'SHALA DARPAN DATA'!W2398","v":0},{"$f":"'SHALA DARPAN DATA'!R2398","v":0},{"$f":"'SHALA DARPAN DATA'!S2398","v":0},{"$f":"'SHALA DARPAN DATA'!O2398","v":0},0,0,0,0,0,0,0,0,0,0,0]
[{"$f":"'SHALA DARPAN DATA'!C2401","v":0},{"$f":"'SHALA DARPAN DATA'!A2401","v":0},{"$f":"'SHALA DARPAN DATA'!B2401","v":0},{"$f":"'SHALA DARPAN DATA'!D2401","v":0},{"$f":"'SHALA DARPAN DATA'!J2401","v":0},{"$f":"'SHALA DARPAN DATA'!T2401","v":0},{"$f":"'SHALA DARPAN DATA'!V2401","v":0},{"$f":"'SHALA DARPAN DATA'!K2401","v":0},{"$f":"'SHALA DARPAN DATA'!E2401","v":0},{"$f":"'SHALA DARPAN DATA'!G2401","v":0},{"$f":"'SHALA DARPAN DATA'!H2401","v":0},{"$f":"'SHALA DARPAN DATA'!W2401","v":0},{"$f":"'SHALA DARPAN DATA'!R2401","v":0},{"$f":"'SHALA DARPAN DATA'!S2401","v":0},{"$f":"'SHALA DARPAN DATA'!O2401","v":0},0,0,0,0,0,0,0,0,0,0,0]
[{"$f":"'SHALA DARPAN DATA'!C2406","v":0},{"$f":"'SHALA DARPAN DATA'!A2406","v":0},{"$f":"'SHALA DARPAN DATA'!B2406","v":0},{"$f":"'SHALA DARPAN DATA'!D2406","v":0},{"$f":"'SHALA DARPAN DATA'!J2406","v":0},{"$f":"'SHALA DARPAN DATA'!T2406","v":0},{"$f":"'SHALA DARPAN DATA'!V2406","v":0},{"$f":"'SHALA DARPAN DATA'!K2406","v":0},{"$f":"'SHALA DARPAN DATA'!E2406","v":0},{"$f":"'SHALA DARPAN DATA'!G2406","v":0},{"$f":"'SHALA DARPAN DATA'!H2406","v":0},{"$f":"'SHALA DARPAN DATA'!W2406","v":0},{"$f":"'SHALA DARPAN DATA'!R2406","v":0},{"$f":"'SHALA DARPAN DATA'!S2406","v":0},{"$f":"'SHALA DARPAN DATA'!O2406","v":0},0,0,0,0,0,0,0,0,0,0,0]
[{"$f":"'SHALA DARPAN DATA'!C2407","v":0},{"$f":"'SHALA DARPAN DATA'!A2407","v":0},{"$f":"'SHALA DARPAN DATA'!B2407","v":0},{"$f":"'SHALA DARPAN DATA'!D2407","v":0},{"$f":"'SHALA DARPAN DATA'!J2407","v":0},{"$f":"'SHALA DARPAN DATA'!T2407","v":0},{"$f":"'SHALA DARPAN DATA'!V2407","v":0},{"$f":"'SHALA DARPAN DATA'!K2407","v":0},{"$f":"'SHALA DARPAN DATA'!E2407","v":0},{"$f":"'SHALA DARPAN DATA'!G2407","v":0},{"$f":"'SHALA DARPAN DATA'!H2407","v":0},{"$f":"'SHALA DARPAN DATA'!W2407","v":0},{"$f":"'SHALA DARPAN DATA'!R2407","v":0},{"$f":"'SHALA DARPAN DATA'!S2407","v":0},{"$f":"'SHALA DARPAN DATA'!O2407","v":0},0,0,0,0,0,0,0,0,0,0,0]
[{"$f":"'SHALA DARPAN DATA'!C2411","v":0},{"$f":"'SHALA DARPAN DATA'!A2411","v":0},{"$f":"'SHALA DARPAN DATA'!B2411","v":0},{"$f":"'SHALA DARPAN DATA'!D2411","v":0},{"$f":"'SHALA DARPAN DATA'!J2411","v":0},{"$f":"'SHALA DARPAN DATA'!T2411","v":0},{"$f":"'SHALA DARPAN DATA'!V2411","v":0},{"$f":"'SHALA DARPAN DATA'!K2411","v":0},{"$f":"'SHALA DARPAN DATA'!E2411","v":0},{"$f":"'SHALA DARPAN DATA'!G2411","v":0},{"$f":"'SHALA DARPAN DATA'!H2411","v":0},{"$f":"'SHALA DARPAN DATA'!W2411","v":0},{"$f":"'SHALA DARPAN DATA'!R2411","v":0},{"$f":"'SHALA DARPAN DATA'!S2411","v":0},{"$f":"'SHALA DARPAN DATA'!O2411","v":0},0,0,0,0,0,0,0,0,0,0,0]
[{"$f":"'SHALA DARPAN DATA'!C2416","v":0},{"$f":"'SHALA DARPAN DATA'!A2416","v":0},{"$f":"'SHALA DARPAN DATA'!B2416","v":0},{"$f":"'SHALA DARPAN DATA'!D2416","v":0},{"$f":"'SHALA DARPAN DATA'!J2416","v":0},{"$f":"'SHALA DARPAN DATA'!T2416","v":0},{"$f":"'SHALA DARPAN DATA'!V2416","v":0},{"$f":"'SHALA DARPAN DATA'!K2416","v":0},{"$f":"'SHALA DARPAN DATA'!E2416","v":0},{"$f":"'SHALA DARPAN DATA'!G2416","v":0},{"$f":"'SHALA DARPAN DATA'!H2416","v":0},{"$f":"'SHALA DARPAN DATA'!W2416","v":0},{"$f":"'SHALA DARPAN DATA'!R2416","v":0},{"$f":"'SHALA DARPAN DATA'!S2416","v":0},{"$f":"'SHALA DARPAN DATA'!O2416","v":0},0,0,0,0,0,0,0,0,0,0,0]
[{"$f":"'SHALA DARPAN DATA'!C2421","v":0},{"$f":"'SHALA DARPAN DATA'!A2421","v":0},{"$f":"'SHALA DARPAN DATA'!B2421","v":0},{"$f":"'SHALA DARPAN DATA'!D2421","v":0},{"$f":"'SHALA DARPAN DATA'!J2421","v":0},{"$f":"'SHALA DARPAN DATA'!T2421","v":0},{"$f":"'SHALA DARPAN DATA'!V2421","v":0},{"$f":"'SHALA DARPAN DATA'!K2421","v":0},{"$f":"'SHALA DARPAN DATA'!E2421","v":0},{"$f":"'SHALA DARPAN DATA'!G2421","v":0},{"$f":"'SHALA DARPAN DATA'!H2421","v":0},{"$f":"'SHALA DARPAN DATA'!W2421","v":0},{"$f":"'SHALA DARPAN DATA'!R2421","v":0},{"$f":"'SHALA DARPAN DATA'!S2421","v":0},{"$f":"'SHALA DARPAN DATA'!O2421","v":0},0,0,0,0,0,0,0,0,0,0,0]
[{"$f":"'SHALA DARPAN DATA'!C2422","v":0},{"$f":"'SHALA DARPAN DATA'!A2422","v":0},{"$f":"'SHALA DARPAN DATA'!B2422","v":0},{"$f":"'SHALA DARPAN DATA'!D2422","v":0},{"$f":"'SHALA DARPAN DATA'!J2422","v":0},{"$f":"'SHALA DARPAN DATA'!T2422","v":0},{"$f":"'SHALA DARPAN DATA'!V2422","v":0},{"$f":"'SHALA DARPAN DATA'!K2422","v":0},{"$f":"'SHALA DARPAN DATA'!E2422","v":0},{"$f":"'SHALA DARPAN DATA'!G2422","v":0},{"$f":"'SHALA DARPAN DATA'!H2422","v":0},{"$f":"'SHALA DARPAN DATA'!W2422","v":0},{"$f":"'SHALA DARPAN DATA'!R2422","v":0},{"$f":"'SHALA DARPAN DATA'!S2422","v":0},{"$f":"'SHALA DARPAN DATA'!O2422","v":0},0,0,0,0,0,0,0,0,0,0,0]
[{"$f":"'SHALA DARPAN DATA'!C2428","v":0},{"$f":"'SHALA DARPAN DATA'!A2428","v":0},{"$f":"'SHALA DARPAN DATA'!B2428","v":0},{"$f":"'SHALA DARPAN DATA'!D2428","v":0},{"$f":"'SHALA DARPAN DATA'!J2428","v":0},{"$f":"'SHALA DARPAN DATA'!T2428","v":0},{"$f":"'SHALA DARPAN DATA'!V2428","v":0},{"$f":"'SHALA DARPAN DATA'!K2428","v":0},{"$f":"'SHALA DARPAN DATA'!E2428","v":0},{"$f":"'SHALA DARPAN DATA'!G2428","v":0},{"$f":"'SHALA DARPAN DATA'!H2428","v":0},{"$f":"'SHALA DARPAN DATA'!W2428","v":0},{"$f":"'SHALA DARPAN DATA'!R2428","v":0},{"$f":"'SHALA DARPAN DATA'!S2428","v":0},{"$f":"'SHALA DARPAN DATA'!O2428","v":0},0,0,0,0,0,0,0,0,0,0,0]
[{"$f":"'SHALA DARPAN DATA'!C2431","v":0},{"$f":"'SHALA DARPAN DATA'!A2431","v":0},{"$f":"'SHALA DARPAN DATA'!B2431","v":0},{"$f":"'SHALA DARPAN DATA'!D2431","v":0},{"$f":"'SHALA DARPAN DATA'!J2431","v":0},{"$f":"'SHALA DARPAN DATA'!T2431","v":0},{"$f":"'SHALA DARPAN DATA'!V2431","v":0},{"$f":"'SHALA DARPAN DATA'!K2431","v":0},{"$f":"'SHALA DARPAN DATA'!E2431","v":0},{"$f":"'SHALA DARPAN DATA'!G2431","v":0},{"$f":"'SHALA DARPAN DATA'!H2431","v":0},{"$f":"'SHALA DARPAN DATA'!W2431","v":0},{"$f":"'SHALA DARPAN DATA'!R2431","v":0},{"$f":"'SHALA DARPAN DATA'!S2431","v":0},{"$f":"'SHALA DARPAN DATA'!O2431","v":0},0,0,0,0,0,0,0,0,0,0,0]
[{"$f":"'SHALA DARPAN DATA'!C2436","v":0},{"$f":"'SHALA DARPAN DATA'!A2436","v":0},{"$f":"'SHALA DARPAN DATA'!B2436","v":0},{"$f":"'SHALA DARPAN DATA'!D2436","v":0},{"$f":"'SHALA DARPAN DATA'!J2436","v":0},{"$f":"'SHALA DARPAN DATA'!T2436","v":0},{"$f":"'SHALA DARPAN DATA'!V2436","v":0},{"$f":"'SHALA DARPAN DATA'!K2436","v":0},{"$f":"'SHALA DARPAN DATA'!E2436","v":0},{"$f":"'SHALA DARPAN DATA'!G2436","v":0},{"$f":"'SHALA DARPAN DATA'!H2436","v":0},{"$f":"'SHALA DARPAN DATA'!W2436","v":0},{"$f":"'SHALA DARPAN DATA'!R2436","v":0},{"$f":"'SHALA DARPAN DATA'!S2436","v":0},{"$f":"'SHALA DARPAN DATA'!O2436","v":0},0,0,0,0,0,0,0,0,0,0,0]
[{"$f":"'SHALA DARPAN DATA'!C2437","v":0},{"$f":"'SHALA DARPAN DATA'!A2437","v":0},{"$f":"'SHALA DARPAN DATA'!B2437","v":0},{"$f":"'SHALA DARPAN DATA'!D2437","v":0},{"$f":"'SHALA DARPAN DATA'!J2437","v":0},{"$f":"'SHALA DARPAN DATA'!T2437","v":0},{"$f":"'SHALA DARPAN DATA'!V2437","v":0},{"$f":"'SHALA DARPAN DATA'!K2437","v":0},{"$f":"'SHALA DARPAN DATA'!E2437","v":0},{"$f":"'SHALA DARPAN DATA'!G2437","v":0},{"$f":"'SHALA DARPAN DATA'!H2437","v":0},{"$f":"'SHALA DARPAN DATA'!W2437","v":0},{"$f":"'SHALA DARPAN DATA'!R2437","v":0},{"$f":"'SHALA DARPAN DATA'!S2437","v":0},{"$f":"'SHALA DARPAN DATA'!O2437","v":0},0,0,0,0,0,0,0,0,0,0,0]
[{"$f":"'SHALA DARPAN DATA'!C2441","v":0},{"$f":"'SHALA DARPAN DATA'!A2441","v":0},{"$f":"'SHALA DARPAN DATA'!B2441","v":0},{"$f":"'SHALA DARPAN DATA'!D2441","v":0},{"$f":"'SHALA DARPAN DATA'!J2441","v":0},{"$f":"'SHALA DARPAN DATA'!T2441","v":0},{"$f":"'SHALA DARPAN DATA'!V2441","v":0},{"$f":"'SHALA DARPAN DATA'!K2441","v":0},{"$f":"'SHALA DARPAN DATA'!E2441","v":0},{"$f":"'SHALA DARPAN DATA'!G2441","v":0},{"$f":"'SHALA DARPAN DATA'!H2441","v":0},{"$f":"'SHALA DARPAN DATA'!W2441","v":0},{"$f":"'SHALA DARPAN DATA'!R2441","v":0},{"$f":"'SHALA DARPAN DATA'!S2441","v":0},{"$f":"'SHALA DARPAN DATA'!O2441","v":0},0,0,0,0,0,0,0,0,0,0,0]
[{"$f":"'SHALA DARPAN DATA'!C2446","v":0},{"$f":"'SHALA DARPAN DATA'!A2446","v":0},{"$f":"'SHALA DARPAN DATA'!B2446","v":0},{"$f":"'SHALA DARPAN DATA'!D2446","v":0},{"$f":"'SHALA DARPAN DATA'!J2446","v":0},{"$f":"'SHALA DARPAN DATA'!T2446","v":0},{"$f":"'SHALA DARPAN DATA'!V2446","v":0},{"$f":"'SHALA DARPAN DATA'!K2446","v":0},{"$f":"'SHALA DARPAN DATA'!E2446","v":0},{"$f":"'SHALA DARPAN DATA'!G2446","v":0},{"$f":"'SHALA DARPAN DATA'!H2446","v":0},{"$f":"'SHALA DARPAN DATA'!W2446","v":0},{"$f":"'SHALA DARPAN DATA'!R2446","v":0},{"$f":"'SHALA DARPAN DATA'!S2446","v":0},{"$f":"'SHALA DARPAN DATA'!O2446","v":0},0,0,0,0,0,0,0,0,0,0,0]
[{"$f":"'SHALA DARPAN DATA'!C2451","v":0},{"$f":"'SHALA DARPAN DATA'!A2451","v":0},{"$f":"'SHALA DARPAN DATA'!B2451","v":0},{"$f":"'SHALA DARPAN DATA'!D2451","v":0},{"$f":"'SHALA DARPAN DATA'!J2451","v":0},{"$f":"'SHALA DARPAN DATA'!T2451","v":0},{"$f":"'SHALA DARPAN DATA'!V2451","v":0},{"$f":"'SHALA DARPAN DATA'!K2451","v":0},{"$f":"'SHALA DARPAN DATA'!E2451","v":0},{"$f":"'SHALA DARPAN DATA'!G2451","v":0},{"$f":"'SHALA DARPAN DATA'!H2451","v":0},{"$f":"'SHALA DARPAN DATA'!W2451","v":0},{"$f":"'SHALA DARPAN DATA'!R2451","v":0},{"$f":"'SHALA DARPAN DATA'!S2451","v":0},{"$f":"'SHALA DARPAN DATA'!O2451","v":0},0,0,0,0,0,0,0,0,0,0,0]
[{"$f":"'SHALA DARPAN DATA'!C2452","v":0},{"$f":"'SHALA DARPAN DATA'!A2452","v":0},{"$f":"'SHALA DARPAN DATA'!B2452","v":0},{"$f":"'SHALA DARPAN DATA'!D2452","v":0},{"$f":"'SHALA DARPAN DATA'!J2452","v":0},{"$f":"'SHALA DARPAN DATA'!T2452","v":0},{"$f":"'SHALA DARPAN DATA'!V2452","v":0},{"$f":"'SHALA DARPAN DATA'!K2452","v":0},{"$f":"'SHALA DARPAN DATA'!E2452","v":0},{"$f":"'SHALA DARPAN DATA'!G2452","v":0},{"$f":"'SHALA DARPAN DATA'!H2452","v":0},{"$f":"'SHALA DARPAN DATA'!W2452","v":0},{"$f":"'SHALA DARPAN DATA'!R2452","v":0},{"$f":"'SHALA DARPAN DATA'!S2452","v":0},{"$f":"'SHALA DARPAN DATA'!O2452","v":0},0,0,0,0,0,0,0,0,0,0,0]
[{"$f":"'SHALA DARPAN DATA'!C2458","v":0},{"$f":"'SHALA DARPAN DATA'!A2458","v":0},{"$f":"'SHALA DARPAN DATA'!B2458","v":0},{"$f":"'SHALA DARPAN DATA'!D2458","v":0},{"$f":"'SHALA DARPAN DATA'!J2458","v":0},{"$f":"'SHALA DARPAN DATA'!T2458","v":0},{"$f":"'SHALA DARPAN DATA'!V2458","v":0},{"$f":"'SHALA DARPAN DATA'!K2458","v":0},{"$f":"'SHALA DARPAN DATA'!E2458","v":0},{"$f":"'SHALA DARPAN DATA'!G2458","v":0},{"$f":"'SHALA DARPAN DATA'!H2458","v":0},{"$f":"'SHALA DARPAN DATA'!W2458","v":0},{"$f":"'SHALA DARPAN DATA'!R2458","v":0},{"$f":"'SHALA DARPAN DATA'!S2458","v":0},{"$f":"'SHALA DARPAN DATA'!O2458","v":0},0,0,0,0,0,0,0,0,0,0,0]
[{"$f":"'SHALA DARPAN DATA'!C2461","v":0},{"$f":"'SHALA DARPAN DATA'!A2461","v":0},{"$f":"'SHALA DARPAN DATA'!B2461","v":0},{"$f":"'SHALA DARPAN DATA'!D2461","v":0},{"$f":"'SHALA DARPAN DATA'!J2461","v":0},{"$f":"'SHALA DARPAN DATA'!T2461","v":0},{"$f":"'SHALA DARPAN DATA'!V2461","v":0},{"$f":"'SHALA DARPAN DATA'!K2461","v":0},{"$f":"'SHALA DARPAN DATA'!E2461","v":0},{"$f":"'SHALA DARPAN DATA'!G2461","v":0},{"$f":"'SHALA DARPAN DATA'!H2461","v":0},{"$f":"'SHALA DARPAN DATA'!W2461","v":0},{"$f":"'SHALA DARPAN DATA'!R2461","v":0},{"$f":"'SHALA DARPAN DATA'!S2461","v":0},{"$f":"'SHALA DARPAN DATA'!O2461","v":0},0,0,0,0,0,0,0,0,0,0,0]
[{"$f":"'SHALA DARPAN DATA'!C2466","v":0},{"$f":"'SHALA DARPAN DATA'!A2466","v":0},{"$f":"'SHALA DARPAN DATA'!B2466","v":0},{"$f":"'SHALA DARPAN DATA'!D2466","v":0},{"$f":"'SHALA DARPAN DATA'!J2466","v":0},{"$f":"'SHALA DARPAN DATA'!T2466","v":0},{"$f":"'SHALA DARPAN DATA'!V2466","v":0},{"$f":"'SHALA DARPAN DATA'!K2466","v":0},{"$f":"'SHALA DARPAN DATA'!E2466","v":0},{"$f":"'SHALA DARPAN DATA'!G2466","v":0},{"$f":"'SHALA DARPAN DATA'!H2466","v":0},{"$f":"'SHALA DARPAN DATA'!W2466","v":0},{"$f":"'SHALA DARPAN DATA'!R2466","v":0},{"$f":"'SHALA DARPAN DATA'!S2466","v":0},{"$f":"'SHALA DARPAN DATA'!O2466","v":0},0,0,0,0,0,0,0,0,0,0,0]
[{"$f":"'SHALA DARPAN DATA'!C2467","v":0},{"$f":"'SHALA DARPAN DATA'!A2467","v":0},{"$f":"'SHALA DARPAN DATA'!B2467","v":0},{"$f":"'SHALA DARPAN DATA'!D2467","v":0},{"$f":"'SHALA DARPAN DATA'!J2467","v":0},{"$f":"'SHALA DARPAN DATA'!T2467","v":0},{"$f":"'SHALA DARPAN DATA'!V2467","v":0},{"$f":"'SHALA DARPAN DATA'!K2467","v":0},{"$f":"'SHALA DARPAN DATA'!E2467","v":0},{"$f":"'SHALA DARPAN DATA'!G2467","v":0},{"$f":"'SHALA DARPAN DATA'!H2467","v":0},{"$f":"'SHALA DARPAN DATA'!W2467","v":0},{"$f":"'SHALA DARPAN DATA'!R2467","v":0},{"$f":"'SHALA DARPAN DATA'!S2467","v":0},{"$f":"'SHALA DARPAN DATA'!O2467","v":0},0,0,0,0,0,0,0,0,0,0,0]
[{"$f":"'SHALA DARPAN DATA'!C2471","v":0},{"$f":"'SHALA DARPAN DATA'!A2471","v":0},{"$f":"'SHALA DARPAN DATA'!B2471","v":0},{"$f":"'SHALA DARPAN DATA'!D2471","v":0},{"$f":"'SHALA DARPAN DATA'!J2471","v":0},{"$f":"'SHALA DARPAN DATA'!T2471","v":0},{"$f":"'SHALA DARPAN DATA'!V2471","v":0},{"$f":"'SHALA DARPAN DATA'!K2471","v":0},{"$f":"'SHALA DARPAN DATA'!E2471","v":0},{"$f":"'SHALA DARPAN DATA'!G2471","v":0},{"$f":"'SHALA DARPAN DATA'!H2471","v":0},{"$f":"'SHALA DARPAN DATA'!W2471","v":0},{"$f":"'SHALA DARPAN DATA'!R2471","v":0},{"$f":"'SHALA DARPAN DATA'!S2471","v":0},{"$f":"'SHALA DARPAN DATA'!O2471","v":0},0,0,0,0,0,0,0,0,0,0,0]
[{"$f":"'SHALA DARPAN DATA'!C2476","v":0},{"$f":"'SHALA DARPAN DATA'!A2476","v":0},{"$f":"'SHALA DARPAN DATA'!B2476","v":0},{"$f":"'SHALA DARPAN DATA'!D2476","v":0},{"$f":"'SHALA DARPAN DATA'!J2476","v":0},{"$f":"'SHALA DARPAN DATA'!T2476","v":0},{"$f":"'SHALA DARPAN DATA'!V2476","v":0},{"$f":"'SHALA DARPAN DATA'!K2476","v":0},{"$f":"'SHALA DARPAN DATA'!E2476","v":0},{"$f":"'SHALA DARPAN DATA'!G2476","v":0},{"$f":"'SHALA DARPAN DATA'!H2476","v":0},{"$f":"'SHALA DARPAN DATA'!W2476","v":0},{"$f":"'SHALA DARPAN DATA'!R2476","v":0},{"$f":"'SHALA DARPAN DATA'!S2476","v":0},{"$f":"'SHALA DARPAN DATA'!O2476","v":0},0,0,0,0,0,0,0,0,0,0,0]
[{"$f":"'SHALA DARPAN DATA'!C2481","v":0},{"$f":"'SHALA DARPAN DATA'!A2481","v":0},{"$f":"'SHALA DARPAN DATA'!B2481","v":0},{"$f":"'SHALA DARPAN DATA'!D2481","v":0},{"$f":"'SHALA DARPAN DATA'!J2481","v":0},{"$f":"'SHALA DARPAN DATA'!T2481","v":0},{"$f":"'SHALA DARPAN DATA'!V2481","v":0},{"$f":"'SHALA DARPAN DATA'!K2481","v":0},{"$f":"'SHALA DARPAN DATA'!E2481","v":0},{"$f":"'SHALA DARPAN DATA'!G2481","v":0},{"$f":"'SHALA DARPAN DATA'!H2481","v":0},{"$f":"'SHALA DARPAN DATA'!W2481","v":0},{"$f":"'SHALA DARPAN DATA'!R2481","v":0},{"$f":"'SHALA DARPAN DATA'!S2481","v":0},{"$f":"'SHALA DARPAN DATA'!O2481","v":0},0,0,0,0,0,0,0,0,0,0,0]
[{"$f":"'SHALA DARPAN DATA'!C2482","v":0},{"$f":"'SHALA DARPAN DATA'!A2482","v":0},{"$f":"'SHALA DARPAN DATA'!B2482","v":0},{"$f":"'SHALA DARPAN DATA'!D2482","v":0},{"$f":"'SHALA DARPAN DATA'!J2482","v":0},{"$f":"'SHALA DARPAN DATA'!T2482","v":0},{"$f":"'SHALA DARPAN DATA'!V2482","v":0},{"$f":"'SHALA DARPAN DATA'!K2482","v":0},{"$f":"'SHALA DARPAN DATA'!E2482","v":0},{"$f":"'SHALA DARPAN DATA'!G2482","v":0},{"$f":"'SHALA DARPAN DATA'!H2482","v":0},{"$f":"'SHALA DARPAN DATA'!W2482","v":0},{"$f":"'SHALA DARPAN DATA'!R2482","v":0},{"$f":"'SHALA DARPAN DATA'!S2482","v":0},{"$f":"'SHALA DARPAN DATA'!O2482","v":0},0,0,0,0,0,0,0,0,0,0,0]
[{"$f":"'SHALA DARPAN DATA'!C2488","v":0},{"$f":"'SHALA DARPAN DATA'!A2488","v":0},{"$f":"'SHALA DARPAN DATA'!B2488","v":0},{"$f":"'SHALA DARPAN DATA'!D2488","v":0},{"$f":"'SHALA DARPAN DATA'!J2488","v":0},{"$f":"'SHALA DARPAN DATA'!T2488","v":0},{"$f":"'SHALA DARPAN DATA'!V2488","v":0},{"$f":"'SHALA DARPAN DATA'!K2488","v":0},{"$f":"'SHALA DARPAN DATA'!E2488","v":0},{"$f":"'SHALA DARPAN DATA'!G2488","v":0},{"$f":"'SHALA DARPAN DATA'!H2488","v":0},{"$f":"'SHALA DARPAN DATA'!W2488","v":0},{"$f":"'SHALA DARPAN DATA'!R2488","v":0},{"$f":"'SHALA DARPAN DATA'!S2488","v":0},{"$f":"'SHALA DARPAN DATA'!O2488","v":0},0,0,0,0,0,0,0,0,0,0,0]
[{"$f":"'SHALA DARPAN DATA'!C2491","v":0},{"$f":"'SHALA DARPAN DATA'!A2491","v":0},{"$f":"'SHALA DARPAN DATA'!B2491","v":0},{"$f":"'SHALA DARPAN DATA'!D2491","v":0},{"$f":"'SHALA DARPAN DATA'!J2491","v":0},{"$f":"'SHALA DARPAN DATA'!T2491","v":0},{"$f":"'SHALA DARPAN DATA'!V2491","v":0},{"$f":"'SHALA DARPAN DATA'!K2491","v":0},{"$f":"'SHALA DARPAN DATA'!E2491","v":0},{"$f":"'SHALA DARPAN DATA'!G2491","v":0},{"$f":"'SHALA DARPAN DATA'!H2491","v":0},{"$f":"'SHALA DARPAN DATA'!W2491","v":0},{"$f":"'SHALA DARPAN DATA'!R2491","v":0},{"$f":"'SHALA DARPAN DATA'!S2491","v":0},{"$f":"'SHALA DARPAN DATA'!O2491","v":0},0,0,0,0,0,0,0,0,0,0,0]
[{"$f":"'SHALA DARPAN DATA'!C2496","v":0},{"$f":"'SHALA DARPAN DATA'!A2496","v":0},{"$f":"'SHALA DARPAN DATA'!B2496","v":0},{"$f":"'SHALA DARPAN DATA'!D2496","v":0},{"$f":"'SHALA DARPAN DATA'!J2496","v":0},{"$f":"'SHALA DARPAN DATA'!T2496","v":0},{"$f":"'SHALA DARPAN DATA'!V2496","v":0},{"$f":"'SHALA DARPAN DATA'!K2496","v":0},{"$f":"'SHALA DARPAN DATA'!E2496","v":0},{"$f":"'SHALA DARPAN DATA'!G2496","v":0},{"$f":"'SHALA DARPAN DATA'!H2496","v":0},{"$f":"'SHALA DARPAN DATA'!W2496","v":0},{"$f":"'SHALA DARPAN DATA'!R2496","v":0},{"$f":"'SHALA DARPAN DATA'!S2496","v":0},{"$f":"'SHALA DARPAN DATA'!O2496","v":0},0,0,0,0,0,0,0,0,0,0,0]
[{"$f":"'SHALA DARPAN DATA'!C2497","v":0},{"$f":"'SHALA DARPAN DATA'!A2497","v":0},{"$f":"'SHALA DARPAN DATA'!B2497","v":0},{"$f":"'SHALA DARPAN DATA'!D2497","v":0},{"$f":"'SHALA DARPAN DATA'!J2497","v":0},{"$f":"'SHALA DARPAN DATA'!T2497","v":0},{"$f":"'SHALA DARPAN DATA'!V2497","v":0},{"$f":"'SHALA DARPAN DATA'!K2497","v":0},{"$f":"'SHALA DARPAN DATA'!E2497","v":0},{"$f":"'SHALA DARPAN DATA'!G2497","v":0},{"$f":"'SHALA DARPAN DATA'!H2497","v":0},{"$f":"'SHALA DARPAN DATA'!W2497","v":0},{"$f":"'SHALA DARPAN DATA'!R2497","v":0},{"$f":"'SHALA DARPAN DATA'!S2497","v":0},{"$f":"'SHALA DARPAN DATA'!O2497","v":0},0,0,0,0,0,0,0,0,0,0,0]
[{"$f":"'SHALA DARPAN DATA'!C2501","v":0},{"$f":"'SHALA DARPAN DATA'!A2501","v":0},{"$f":"'SHALA DARPAN DATA'!B2501","v":0},{"$f":"'SHALA DARPAN DATA'!D2501","v":0},{"$f":"'SHALA DARPAN DATA'!J2501","v":0},{"$f":"'SHALA DARPAN DATA'!T2501","v":0},{"$f":"'SHALA DARPAN DATA'!V2501","v":0},{"$f":"'SHALA DARPAN DATA'!K2501","v":0},{"$f":"'SHALA DARPAN DATA'!E2501","v":0},{"$f":"'SHALA DARPAN DATA'!G2501","v":0},{"$f":"'SHALA DARPAN DATA'!H2501","v":0},{"$f":"'SHALA DARPAN DATA'!W2501","v":0},{"$f":"'SHALA DARPAN DATA'!R2501","v":0},{"$f":"'SHALA DARPAN DATA'!S2501","v":0},{"$f":"'SHALA DARPAN DATA'!O2501","v":0},0,0,0,0,0,0,0,0,0,0,0]
[{"$f":"'SHALA DARPAN DATA'!C2506","v":0},{"$f":"'SHALA DARPAN DATA'!A2506","v":0},{"$f":"'SHALA DARPAN DATA'!B2506","v":0},{"$f":"'SHALA DARPAN DATA'!D2506","v":0},{"$f":"'SHALA DARPAN DATA'!J2506","v":0},{"$f":"'SHALA DARPAN DATA'!T2506","v":0},{"$f":"'SHALA DARPAN DATA'!V2506","v":0},{"$f":"'SHALA DARPAN DATA'!K2506","v":0},{"$f":"'SHALA DARPAN DATA'!E2506","v":0},{"$f":"'SHALA DARPAN DATA'!G2506","v":0},{"$f":"'SHALA DARPAN DATA'!H2506","v":0},{"$f":"'SHALA DARPAN DATA'!W2506","v":0},{"$f":"'SHALA DARPAN DATA'!R2506","v":0},{"$f":"'SHALA DARPAN DATA'!S2506","v":0},{"$f":"'SHALA DARPAN DATA'!O2506","v":0},0,0,0,0,0,0,0,0,0,0,0]
[{"$f":"'SHALA DARPAN DATA'!C2511","v":0},{"$f":"'SHALA DARPAN DATA'!A2511","v":0},{"$f":"'SHALA DARPAN DATA'!B2511","v":0},{"$f":"'SHALA DARPAN DATA'!D2511","v":0},{"$f":"'SHALA DARPAN DATA'!J2511","v":0},{"$f":"'SHALA DARPAN DATA'!T2511","v":0},{"$f":"'SHALA DARPAN DATA'!V2511","v":0},{"$f":"'SHALA DARPAN DATA'!K2511","v":0},{"$f":"'SHALA DARPAN DATA'!E2511","v":0},{"$f":"'SHALA DARPAN DATA'!G2511","v":0},{"$f":"'SHALA DARPAN DATA'!H2511","v":0},{"$f":"'SHALA DARPAN DATA'!W2511","v":0},{"$f":"'SHALA DARPAN DATA'!R2511","v":0},{"$f":"'SHALA DARPAN DATA'!S2511","v":0},{"$f":"'SHALA DARPAN DATA'!O2511","v":0},0,0,0,0,0,0,0,0,0,0,0]
[{"$f":"'SHALA DARPAN DATA'!C2512","v":0},{"$f":"'SHALA DARPAN DATA'!A2512","v":0},{"$f":"'SHALA DARPAN DATA'!B2512","v":0},{"$f":"'SHALA DARPAN DATA'!D2512","v":0},{"$f":"'SHALA DARPAN DATA'!J2512","v":0},{"$f":"'SHALA DARPAN DATA'!T2512","v":0},{"$f":"'SHALA DARPAN DATA'!V2512","v":0},{"$f":"'SHALA DARPAN DATA'!K2512","v":0},{"$f":"'SHALA DARPAN DATA'!E2512","v":0},{"$f":"'SHALA DARPAN DATA'!G2512","v":0},{"$f":"'SHALA DARPAN DATA'!H2512","v":0},{"$f":"'SHALA DARPAN DATA'!W2512","v":0},{"$f":"'SHALA DARPAN DATA'!R2512","v":0},{"$f":"'SHALA DARPAN DATA'!S2512","v":0},{"$f":"'SHALA DARPAN DATA'!O2512","v":0},0,0,0,0,0,0,0,0,0,0,0]
[{"$f":"'SHALA DARPAN DATA'!C2518","v":0},{"$f":"'SHALA DARPAN DATA'!A2518","v":0},{"$f":"'SHALA DARPAN DATA'!B2518","v":0},{"$f":"'SHALA DARPAN DATA'!D2518","v":0},{"$f":"'SHALA DARPAN DATA'!J2518","v":0},{"$f":"'SHALA DARPAN DATA'!T2518","v":0},{"$f":"'SHALA DARPAN DATA'!V2518","v":0},{"$f":"'SHALA DARPAN DATA'!K2518","v":0},{"$f":"'SHALA DARPAN DATA'!E2518","v":0},{"$f":"'SHALA DARPAN DATA'!G2518","v":0},{"$f":"'SHALA DARPAN DATA'!H2518","v":0},{"$f":"'SHALA DARPAN DATA'!W2518","v":0},{"$f":"'SHALA DARPAN DATA'!R2518","v":0},{"$f":"'SHALA DARPAN DATA'!S2518","v":0},{"$f":"'SHALA DARPAN DATA'!O2518","v":0},0,0,0,0,0,0,0,0,0,0,0]
[{"$f":"'SHALA DARPAN DATA'!C2521","v":0},{"$f":"'SHALA DARPAN DATA'!A2521","v":0},{"$f":"'SHALA DARPAN DATA'!B2521","v":0},{"$f":"'SHALA DARPAN DATA'!D2521","v":0},{"$f":"'SHALA DARPAN DATA'!J2521","v":0},{"$f":"'SHALA DARPAN DATA'!T2521","v":0},{"$f":"'SHALA DARPAN DATA'!V2521","v":0},{"$f":"'SHALA DARPAN DATA'!K2521","v":0},{"$f":"'SHALA DARPAN DATA'!E2521","v":0},{"$f":"'SHALA DARPAN DATA'!G2521","v":0},{"$f":"'SHALA DARPAN DATA'!H2521","v":0},{"$f":"'SHALA DARPAN DATA'!W2521","v":0},{"$f":"'SHALA DARPAN DATA'!R2521","v":0},{"$f":"'SHALA DARPAN DATA'!S2521","v":0},{"$f":"'SHALA DARPAN DATA'!O2521","v":0},0,0,0,0,0,0,0,0,0,0,0]
[{"$f":"'SHALA DARPAN DATA'!C2526","v":0},{"$f":"'SHALA DARPAN DATA'!A2526","v":0},{"$f":"'SHALA DARPAN DATA'!B2526","v":0},{"$f":"'SHALA DARPAN DATA'!D2526","v":0},{"$f":"'SHALA DARPAN DATA'!J2526","v":0},{"$f":"'SHALA DARPAN DATA'!T2526","v":0},{"$f":"'SHALA DARPAN DATA'!V2526","v":0},{"$f":"'SHALA DARPAN DATA'!K2526","v":0},{"$f":"'SHALA DARPAN DATA'!E2526","v":0},{"$f":"'SHALA DARPAN DATA'!G2526","v":0},{"$f":"'SHALA DARPAN DATA'!H2526","v":0},{"$f":"'SHALA DARPAN DATA'!W2526","v":0},{"$f":"'SHALA DARPAN DATA'!R2526","v":0},{"$f":"'SHALA DARPAN DATA'!S2526","v":0},{"$f":"'SHALA DARPAN DATA'!O2526","v":0},0,0,0,0,0,0,0,0,0,0,0]
[{"$f":"'SHALA DARPAN DATA'!C2527","v":0},{"$f":"'SHALA DARPAN DATA'!A2527","v":0},{"$f":"'SHALA DARPAN DATA'!B2527","v":0},{"$f":"'SHALA DARPAN DATA'!D2527","v":0},{"$f":"'SHALA DARPAN DATA'!J2527","v":0},{"$f":"'SHALA DARPAN DATA'!T2527","v":0},{"$f":"'SHALA DARPAN DATA'!V2527","v":0},{"$f":"'SHALA DARPAN DATA'!K2527","v":0},{"$f":"'SHALA DARPAN DATA'!E2527","v":0},{"$f":"'SHALA DARPAN DATA'!G2527","v":0},{"$f":"'SHALA DARPAN DATA'!H2527","v":0},{"$f":"'SHALA DARPAN DATA'!W2527","v":0},{"$f":"'SHALA DARPAN DATA'!R2527","v":0},{"$f":"'SHALA DARPAN DATA'!S2527","v":0},{"$f":"'SHALA DARPAN DATA'!O2527","v":0},0,0,0,0,0,0,0,0,0,0,0]
[{"$f":"'SHALA DARPAN DATA'!C2531","v":0},{"$f":"'SHALA DARPAN DATA'!A2531","v":0},{"$f":"'SHALA DARPAN DATA'!B2531","v":0},{"$f":"'SHALA DARPAN DATA'!D2531","v":0},{"$f":"'SHALA DARPAN DATA'!J2531","v":0},{"$f":"'SHALA DARPAN DATA'!T2531","v":0},{"$f":"'SHALA DARPAN DATA'!V2531","v":0},{"$f":"'SHALA DARPAN DATA'!K2531","v":0},{"$f":"'SHALA DARPAN DATA'!E2531","v":0},{"$f":"'SHALA DARPAN DATA'!G2531","v":0},{"$f":"'SHALA DARPAN DATA'!H2531","v":0},{"$f":"'SHALA DARPAN DATA'!W2531","v":0},{"$f":"'SHALA DARPAN DATA'!R2531","v":0},{"$f":"'SHALA DARPAN DATA'!S2531","v":0},{"$f":"'SHALA DARPAN DATA'!O2531","v":0},0,0,0,0,0,0,0,0,0,0,0]
[{"$f":"'SHALA DARPAN DATA'!C2536","v":0},{"$f":"'SHALA DARPAN DATA'!A2536","v":0},{"$f":"'SHALA DARPAN DATA'!B2536","v":0},{"$f":"'SHALA DARPAN DATA'!D2536","v":0},{"$f":"'SHALA DARPAN DATA'!J2536","v":0},{"$f":"'SHALA DARPAN DATA'!T2536","v":0},{"$f":"'SHALA DARPAN DATA'!V2536","v":0},{"$f":"'SHALA DARPAN DATA'!K2536","v":0},{"$f":"'SHALA DARPAN DATA'!E2536","v":0},{"$f":"'SHALA DARPAN DATA'!G2536","v":0},{"$f":"'SHALA DARPAN DATA'!H2536","v":0},{"$f":"'SHALA DARPAN DATA'!W2536","v":0},{"$f":"'SHALA DARPAN DATA'!R2536","v":0},{"$f":"'SHALA DARPAN DATA'!S2536","v":0},{"$f":"'SHALA DARPAN DATA'!O2536","v":0},0,0,0,0,0,0,0,0,0,0,0]
[{"$f":"'SHALA DARPAN DATA'!C2541","v":0},{"$f":"'SHALA DARPAN DATA'!A2541","v":0},{"$f":"'SHALA DARPAN DATA'!B2541","v":0},{"$f":"'SHALA DARPAN DATA'!D2541","v":0},{"$f":"'SHALA DARPAN DATA'!J2541","v":0},{"$f":"'SHALA DARPAN DATA'!T2541","v":0},{"$f":"'SHALA DARPAN DATA'!V2541","v":0},{"$f":"'SHALA DARPAN DATA'!K2541","v":0},{"$f":"'SHALA DARPAN DATA'!E2541","v":0},{"$f":"'SHALA DARPAN DATA'!G2541","v":0},{"$f":"'SHALA DARPAN DATA'!H2541","v":0},{"$f":"'SHALA DARPAN DATA'!W2541","v":0},{"$f":"'SHALA DARPAN DATA'!R2541","v":0},{"$f":"'SHALA DARPAN DATA'!S2541","v":0},{"$f":"'SHALA DARPAN DATA'!O2541","v":0},0,0,0,0,0,0,0,0,0,0,0]
[{"$f":"'SHALA DARPAN DATA'!C2542","v":0},{"$f":"'SHALA DARPAN DATA'!A2542","v":0},{"$f":"'SHALA DARPAN DATA'!B2542","v":0},{"$f":"'SHALA DARPAN DATA'!D2542","v":0},{"$f":"'SHALA DARPAN DATA'!J2542","v":0},{"$f":"'SHALA DARPAN DATA'!T2542","v":0},{"$f":"'SHALA DARPAN DATA'!V2542","v":0},{"$f":"'SHALA DARPAN DATA'!K2542","v":0},{"$f":"'SHALA DARPAN DATA'!E2542","v":0},{"$f":"'SHALA DARPAN DATA'!G2542","v":0},{"$f":"'SHALA DARPAN DATA'!H2542","v":0},{"$f":"'SHALA DARPAN DATA'!W2542","v":0},{"$f":"'SHALA DARPAN DATA'!R2542","v":0},{"$f":"'SHALA DARPAN DATA'!S2542","v":0},{"$f":"'SHALA DARPAN DATA'!O2542","v":0},0,0,0,0,0,0,0,0,0,0,0]
[{"$f":"'SHALA DARPAN DATA'!C2548","v":0},{"$f":"'SHALA DARPAN DATA'!A2548","v":0},{"$f":"'SHALA DARPAN DATA'!B2548","v":0},{"$f":"'SHALA DARPAN DATA'!D2548","v":0},{"$f":"'SHALA DARPAN DATA'!J2548","v":0},{"$f":"'SHALA DARPAN DATA'!T2548","v":0},{"$f":"'SHALA DARPAN DATA'!V2548","v":0},{"$f":"'SHALA DARPAN DATA'!K2548","v":0},{"$f":"'SHALA DARPAN DATA'!E2548","v":0},{"$f":"'SHALA DARPAN DATA'!G2548","v":0},{"$f":"'SHALA DARPAN DATA'!H2548","v":0},{"$f":"'SHALA DARPAN DATA'!W2548","v":0},{"$f":"'SHALA DARPAN DATA'!R2548","v":0},{"$f":"'SHALA DARPAN DATA'!S2548","v":0},{"$f":"'SHALA DARPAN DATA'!O2548","v":0},0,0,0,0,0,0,0,0,0,0,0]
[{"$f":"'SHALA DARPAN DATA'!C2551","v":0},{"$f":"'SHALA DARPAN DATA'!A2551","v":0},{"$f":"'SHALA DARPAN DATA'!B2551","v":0},{"$f":"'SHALA DARPAN DATA'!D2551","v":0},{"$f":"'SHALA DARPAN DATA'!J2551","v":0},{"$f":"'SHALA DARPAN DATA'!T2551","v":0},{"$f":"'SHALA DARPAN DATA'!V2551","v":0},{"$f":"'SHALA DARPAN DATA'!K2551","v":0},{"$f":"'SHALA DARPAN DATA'!E2551","v":0},{"$f":"'SHALA DARPAN DATA'!G2551","v":0},{"$f":"'SHALA DARPAN DATA'!H2551","v":0},{"$f":"'SHALA DARPAN DATA'!W2551","v":0},{"$f":"'SHALA DARPAN DATA'!R2551","v":0},{"$f":"'SHALA DARPAN DATA'!S2551","v":0},{"$f":"'SHALA DARPAN DATA'!O2551","v":0},0,0,0,0,0,0,0,0,0,0,0]
[{"$f":"'SHALA DARPAN DATA'!C2556","v":0},{"$f":"'SHALA DARPAN DATA'!A2556","v":0},{"$f":"'SHALA DARPAN DATA'!B2556","v":0},{"$f":"'SHALA DARPAN DATA'!D2556","v":0},{"$f":"'SHALA DARPAN DATA'!J2556","v":0},{"$f":"'SHALA DARPAN DATA'!T2556","v":0},{"$f":"'SHALA DARPAN DATA'!V2556","v":0},{"$f":"'SHALA DARPAN DATA'!K2556","v":0},{"$f":"'SHALA DARPAN DATA'!E2556","v":0},{"$f":"'SHALA DARPAN DATA'!G2556","v":0},{"$f":"'SHALA DARPAN DATA'!H2556","v":0},{"$f":"'SHALA DARPAN DATA'!W2556","v":0},{"$f":"'SHALA DARPAN DATA'!R2556","v":0},{"$f":"'SHALA DARPAN DATA'!S2556","v":0},{"$f":"'SHALA DARPAN DATA'!O2556","v":0},0,0,0,0,0,0,0,0,0,0,0]
[{"$f":"'SHALA DARPAN DATA'!C2557","v":0},{"$f":"'SHALA DARPAN DATA'!A2557","v":0},{"$f":"'SHALA DARPAN DATA'!B2557","v":0},{"$f":"'SHALA DARPAN DATA'!D2557","v":0},{"$f":"'SHALA DARPAN DATA'!J2557","v":0},{"$f":"'SHALA DARPAN DATA'!T2557","v":0},{"$f":"'SHALA DARPAN DATA'!V2557","v":0},{"$f":"'SHALA DARPAN DATA'!K2557","v":0},{"$f":"'SHALA DARPAN DATA'!E2557","v":0},{"$f":"'SHALA DARPAN DATA'!G2557","v":0},{"$f":"'SHALA DARPAN DATA'!H2557","v":0},{"$f":"'SHALA DARPAN DATA'!W2557","v":0},{"$f":"'SHALA DARPAN DATA'!R2557","v":0},{"$f":"'SHALA DARPAN DATA'!S2557","v":0},{"$f":"'SHALA DARPAN DATA'!O2557","v":0},0,0,0,0,0,0,0,0,0,0,0]
[{"$f":"'SHALA DARPAN DATA'!C2561","v":0},{"$f":"'SHALA DARPAN DATA'!A2561","v":0},{"$f":"'SHALA DARPAN DATA'!B2561","v":0},{"$f":"'SHALA DARPAN DATA'!D2561","v":0},{"$f":"'SHALA DARPAN DATA'!J2561","v":0},{"$f":"'SHALA DARPAN DATA'!T2561","v":0},{"$f":"'SHALA DARPAN DATA'!V2561","v":0},{"$f":"'SHALA DARPAN DATA'!K2561","v":0},{"$f":"'SHALA DARPAN DATA'!E2561","v":0},{"$f":"'SHALA DARPAN DATA'!G2561","v":0},{"$f":"'SHALA DARPAN DATA'!H2561","v":0},{"$f":"'SHALA DARPAN DATA'!W2561","v":0},{"$f":"'SHALA DARPAN DATA'!R2561","v":0},{"$f":"'SHALA DARPAN DATA'!S2561","v":0},{"$f":"'SHALA DARPAN DATA'!O2561","v":0},0,0,0,0,0,0,0,0,0,0,0]
[{"$f":"'SHALA DARPAN DATA'!C2566","v":0},{"$f":"'SHALA DARPAN DATA'!A2566","v":0},{"$f":"'SHALA DARPAN DATA'!B2566","v":0},{"$f":"'SHALA DARPAN DATA'!D2566","v":0},{"$f":"'SHALA DARPAN DATA'!J2566","v":0},{"$f":"'SHALA DARPAN DATA'!T2566","v":0},{"$f":"'SHALA DARPAN DATA'!V2566","v":0},{"$f":"'SHALA DARPAN DATA'!K2566","v":0},{"$f":"'SHALA DARPAN DATA'!E2566","v":0},{"$f":"'SHALA DARPAN DATA'!G2566","v":0},{"$f":"'SHALA DARPAN DATA'!H2566","v":0},{"$f":"'SHALA DARPAN DATA'!W2566","v":0},{"$f":"'SHALA DARPAN DATA'!R2566","v":0},{"$f":"'SHALA DARPAN DATA'!S2566","v":0},{"$f":"'SHALA DARPAN DATA'!O2566","v":0},0,0,0,0,0,0,0,0,0,0,0]
[{"$f":"'SHALA DARPAN DATA'!C2571","v":0},{"$f":"'SHALA DARPAN DATA'!A2571","v":0},{"$f":"'SHALA DARPAN DATA'!B2571","v":0},{"$f":"'SHALA DARPAN DATA'!D2571","v":0},{"$f":"'SHALA DARPAN DATA'!J2571","v":0},{"$f":"'SHALA DARPAN DATA'!T2571","v":0},{"$f":"'SHALA DARPAN DATA'!V2571","v":0},{"$f":"'SHALA DARPAN DATA'!K2571","v":0},{"$f":"'SHALA DARPAN DATA'!E2571","v":0},{"$f":"'SHALA DARPAN DATA'!G2571","v":0},{"$f":"'SHALA DARPAN DATA'!H2571","v":0},{"$f":"'SHALA DARPAN DATA'!W2571","v":0},{"$f":"'SHALA DARPAN DATA'!R2571","v":0},{"$f":"'SHALA DARPAN DATA'!S2571","v":0},{"$f":"'SHALA DARPAN DATA'!O2571","v":0},0,0,0,0,0,0,0,0,0,0,0]
[{"$f":"'SHALA DARPAN DATA'!C2572","v":0},{"$f":"'SHALA DARPAN DATA'!A2572","v":0},{"$f":"'SHALA DARPAN DATA'!B2572","v":0},{"$f":"'SHALA DARPAN DATA'!D2572","v":0},{"$f":"'SHALA DARPAN DATA'!J2572","v":0},{"$f":"'SHALA DARPAN DATA'!T2572","v":0},{"$f":"'SHALA DARPAN DATA'!V2572","v":0},{"$f":"'SHALA DARPAN DATA'!K2572","v":0},{"$f":"'SHALA DARPAN DATA'!E2572","v":0},{"$f":"'SHALA DARPAN DATA'!G2572","v":0},{"$f":"'SHALA DARPAN DATA'!H2572","v":0},{"$f":"'SHALA DARPAN DATA'!W2572","v":0},{"$f":"'SHALA DARPAN DATA'!R2572","v":0},{"$f":"'SHALA DARPAN DATA'!S2572","v":0},{"$f":"'SHALA DARPAN DATA'!O2572","v":0},0,0,0,0,0,0,0,0,0,0,0]
[{"$f":"'SHALA DARPAN DATA'!C2578","v":0},{"$f":"'SHALA DARPAN DATA'!A2578","v":0},{"$f":"'SHALA DARPAN DATA'!B2578","v":0},{"$f":"'SHALA DARPAN DATA'!D2578","v":0},{"$f":"'SHALA DARPAN DATA'!J2578","v":0},{"$f":"'SHALA DARPAN DATA'!T2578","v":0},{"$f":"'SHALA DARPAN DATA'!V2578","v":0},{"$f":"'SHALA DARPAN DATA'!K2578","v":0},{"$f":"'SHALA DARPAN DATA'!E2578","v":0},{"$f":"'SHALA DARPAN DATA'!G2578","v":0},{"$f":"'SHALA DARPAN DATA'!H2578","v":0},{"$f":"'SHALA DARPAN DATA'!W2578","v":0},{"$f":"'SHALA DARPAN DATA'!R2578","v":0},{"$f":"'SHALA DARPAN DATA'!S2578","v":0},{"$f":"'SHALA DARPAN DATA'!O2578","v":0},0,0,0,0,0,0,0,0,0,0,0]
[{"$f":"'SHALA DARPAN DATA'!C2581","v":0},{"$f":"'SHALA DARPAN DATA'!A2581","v":0},{"$f":"'SHALA DARPAN DATA'!B2581","v":0},{"$f":"'SHALA DARPAN DATA'!D2581","v":0},{"$f":"'SHALA DARPAN DATA'!J2581","v":0},{"$f":"'SHALA DARPAN DATA'!T2581","v":0},{"$f":"'SHALA DARPAN DATA'!V2581","v":0},{"$f":"'SHALA DARPAN DATA'!K2581","v":0},{"$f":"'SHALA DARPAN DATA'!E2581","v":0},{"$f":"'SHALA DARPAN DATA'!G2581","v":0},{"$f":"'SHALA DARPAN DATA'!H2581","v":0},{"$f":"'SHALA DARPAN DATA'!W2581","v":0},{"$f":"'SHALA DARPAN DATA'!R2581","v":0},{"$f":"'SHALA DARPAN DATA'!S2581","v":0},{"$f":"'SHALA DARPAN DATA'!O2581","v":0},0,0,0,0,0,0,0,0,0,0,0]
[{"$f":"'SHALA DARPAN DATA'!C2586","v":0},{"$f":"'SHALA DARPAN DATA'!A2586","v":0},{"$f":"'SHALA DARPAN DATA'!B2586","v":0},{"$f":"'SHALA DARPAN DATA'!D2586","v":0},{"$f":"'SHALA DARPAN DATA'!J2586","v":0},{"$f":"'SHALA DARPAN DATA'!T2586","v":0},{"$f":"'SHALA DARPAN DATA'!V2586","v":0},{"$f":"'SHALA DARPAN DATA'!K2586","v":0},{"$f":"'SHALA DARPAN DATA'!E2586","v":0},{"$f":"'SHALA DARPAN DATA'!G2586","v":0},{"$f":"'SHALA DARPAN DATA'!H2586","v":0},{"$f":"'SHALA DARPAN DATA'!W2586","v":0},{"$f":"'SHALA DARPAN DATA'!R2586","v":0},{"$f":"'SHALA DARPAN DATA'!S2586","v":0},{"$f":"'SHALA DARPAN DATA'!O2586","v":0},0,0,0,0,0,0,0,0,0,0,0]
[{"$f":"'SHALA DARPAN DATA'!C2587","v":0},{"$f":"'SHALA DARPAN DATA'!A2587","v":0},{"$f":"'SHALA DARPAN DATA'!B2587","v":0},{"$f":"'SHALA DARPAN DATA'!D2587","v":0},{"$f":"'SHALA DARPAN DATA'!J2587","v":0},{"$f":"'SHALA DARPAN DATA'!T2587","v":0},{"$f":"'SHALA DARPAN DATA'!V2587","v":0},{"$f":"'SHALA DARPAN DATA'!K2587","v":0},{"$f":"'SHALA DARPAN DATA'!E2587","v":0},{"$f":"'SHALA DARPAN DATA'!G2587","v":0},{"$f":"'SHALA DARPAN DATA'!H2587","v":0},{"$f":"'SHALA DARPAN DATA'!W2587","v":0},{"$f":"'SHALA DARPAN DATA'!R2587","v":0},{"$f":"'SHALA DARPAN DATA'!S2587","v":0},{"$f":"'SHALA DARPAN DATA'!O2587","v":0},0,0,0,0,0,0,0,0,0,0,0]
[{"$f":"'SHALA DARPAN DATA'!C2591","v":0},{"$f":"'SHALA DARPAN DATA'!A2591","v":0},{"$f":"'SHALA DARPAN DATA'!B2591","v":0},{"$f":"'SHALA DARPAN DATA'!D2591","v":0},{"$f":"'SHALA DARPAN DATA'!J2591","v":0},{"$f":"'SHALA DARPAN DATA'!T2591","v":0},{"$f":"'SHALA DARPAN DATA'!V2591","v":0},{"$f":"'SHALA DARPAN DATA'!K2591","v":0},{"$f":"'SHALA DARPAN DATA'!E2591","v":0},{"$f":"'SHALA DARPAN DATA'!G2591","v":0},{"$f":"'SHALA DARPAN DATA'!H2591","v":0},{"$f":"'SHALA DARPAN DATA'!W2591","v":0},{"$f":"'SHALA DARPAN DATA'!R2591","v":0},{"$f":"'SHALA DARPAN DATA'!S2591","v":0},{"$f":"'SHALA DARPAN DATA'!O2591","v":0},0,0,0,0,0,0,0,0,0,0,0]
[{"$f":"'SHALA DARPAN DATA'!C2596","v":0},{"$f":"'SHALA DARPAN DATA'!A2596","v":0},{"$f":"'SHALA DARPAN DATA'!B2596","v":0},{"$f":"'SHALA DARPAN DATA'!D2596","v":0},{"$f":"'SHALA DARPAN DATA'!J2596","v":0},{"$f":"'SHALA DARPAN DATA'!T2596","v":0},{"$f":"'SHALA DARPAN DATA'!V2596","v":0},{"$f":"'SHALA DARPAN DATA'!K2596","v":0},{"$f":"'SHALA DARPAN DATA'!E2596","v":0},{"$f":"'SHALA DARPAN DATA'!G2596","v":0},{"$f":"'SHALA DARPAN DATA'!H2596","v":0},{"$f":"'SHALA DARPAN DATA'!W2596","v":0},{"$f":"'SHALA DARPAN DATA'!R2596","v":0},{"$f":"'SHALA DARPAN DATA'!S2596","v":0},{"$f":"'SHALA DARPAN DATA'!O2596","v":0},0,0,0,0,0,0,0,0,0,0,0]
[{"$f":"'SHALA DARPAN DATA'!C2601","v":0},{"$f":"'SHALA DARPAN DATA'!A2601","v":0},{"$f":"'SHALA DARPAN DATA'!B2601","v":0},{"$f":"'SHALA DARPAN DATA'!D2601","v":0},{"$f":"'SHALA DARPAN DATA'!J2601","v":0},{"$f":"'SHALA DARPAN DATA'!T2601","v":0},{"$f":"'SHALA DARPAN DATA'!V2601","v":0},{"$f":"'SHALA DARPAN DATA'!K2601","v":0},{"$f":"'SHALA DARPAN DATA'!E2601","v":0},{"$f":"'SHALA DARPAN DATA'!G2601","v":0},{"$f":"'SHALA DARPAN DATA'!H2601","v":0},{"$f":"'SHALA DARPAN DATA'!W2601","v":0},{"$f":"'SHALA DARPAN DATA'!R2601","v":0},{"$f":"'SHALA DARPAN DATA'!S2601","v":0},{"$f":"'SHALA DARPAN DATA'!O2601","v":0},0,0,0,0,0,0,0,0,0,0,0]
[{"$f":"'SHALA DARPAN DATA'!C2602","v":0},{"$f":"'SHALA DARPAN DATA'!A2602","v":0},{"$f":"'SHALA DARPAN DATA'!B2602","v":0},{"$f":"'SHALA DARPAN DATA'!D2602","v":0},{"$f":"'SHALA DARPAN DATA'!J2602","v":0},{"$f":"'SHALA DARPAN DATA'!T2602","v":0},{"$f":"'SHALA DARPAN DATA'!V2602","v":0},{"$f":"'SHALA DARPAN DATA'!K2602","v":0},{"$f":"'SHALA DARPAN DATA'!E2602","v":0},{"$f":"'SHALA DARPAN DATA'!G2602","v":0},{"$f":"'SHALA DARPAN DATA'!H2602","v":0},{"$f":"'SHALA DARPAN DATA'!W2602","v":0},{"$f":"'SHALA DARPAN DATA'!R2602","v":0},{"$f":"'SHALA DARPAN DATA'!S2602","v":0},{"$f":"'SHALA DARPAN DATA'!O2602","v":0},0,0,0,0,0,0,0,0,0,0,0]
[{"$f":"'SHALA DARPAN DATA'!C2608","v":0},{"$f":"'SHALA DARPAN DATA'!A2608","v":0},{"$f":"'SHALA DARPAN DATA'!B2608","v":0},{"$f":"'SHALA DARPAN DATA'!D2608","v":0},{"$f":"'SHALA DARPAN DATA'!J2608","v":0},{"$f":"'SHALA DARPAN DATA'!T2608","v":0},{"$f":"'SHALA DARPAN DATA'!V2608","v":0},{"$f":"'SHALA DARPAN DATA'!K2608","v":0},{"$f":"'SHALA DARPAN DATA'!E2608","v":0},{"$f":"'SHALA DARPAN DATA'!G2608","v":0},{"$f":"'SHALA DARPAN DATA'!H2608","v":0},{"$f":"'SHALA DARPAN DATA'!W2608","v":0},{"$f":"'SHALA DARPAN DATA'!R2608","v":0},{"$f":"'SHALA DARPAN DATA'!S2608","v":0},{"$f":"'SHALA DARPAN DATA'!O2608","v":0},0,0,0,0,0,0,0,0,0,0,0]
[{"$f":"'SHALA DARPAN DATA'!C2611","v":0},{"$f":"'SHALA DARPAN DATA'!A2611","v":0},{"$f":"'SHALA DARPAN DATA'!B2611","v":0},{"$f":"'SHALA DARPAN DATA'!D2611","v":0},{"$f":"'SHALA DARPAN DATA'!J2611","v":0},{"$f":"'SHALA DARPAN DATA'!T2611","v":0},{"$f":"'SHALA DARPAN DATA'!V2611","v":0},{"$f":"'SHALA DARPAN DATA'!K2611","v":0},{"$f":"'SHALA DARPAN DATA'!E2611","v":0},{"$f":"'SHALA DARPAN DATA'!G2611","v":0},{"$f":"'SHALA DARPAN DATA'!H2611","v":0},{"$f":"'SHALA DARPAN DATA'!W2611","v":0},{"$f":"'SHALA DARPAN DATA'!R2611","v":0},{"$f":"'SHALA DARPAN DATA'!S2611","v":0},{"$f":"'SHALA DARPAN DATA'!O2611","v":0},0,0,0,0,0,0,0,0,0,0,0]
[{"$f":"'SHALA DARPAN DATA'!C2616","v":0},{"$f":"'SHALA DARPAN DATA'!A2616","v":0},{"$f":"'SHALA DARPAN DATA'!B2616","v":0},{"$f":"'SHALA DARPAN DATA'!D2616","v":0},{"$f":"'SHALA DARPAN DATA'!J2616","v":0},{"$f":"'SHALA DARPAN DATA'!T2616","v":0},{"$f":"'SHALA DARPAN DATA'!V2616","v":0},{"$f":"'SHALA DARPAN DATA'!K2616","v":0},{"$f":"'SHALA DARPAN DATA'!E2616","v":0},{"$f":"'SHALA DARPAN DATA'!G2616","v":0},{"$f":"'SHALA DARPAN DATA'!H2616","v":0},{"$f":"'SHALA DARPAN DATA'!W2616","v":0},{"$f":"'SHALA DARPAN DATA'!R2616","v":0},{"$f":"'SHALA DARPAN DATA'!S2616","v":0},{"$f":"'SHALA DARPAN DATA'!O2616","v":0},0,0,0,0,0,0,0,0,0,0,0]
[{"$f":"'SHALA DARPAN DATA'!C2617","v":0},{"$f":"'SHALA DARPAN DATA'!A2617","v":0},{"$f":"'SHALA DARPAN DATA'!B2617","v":0},{"$f":"'SHALA DARPAN DATA'!D2617","v":0},{"$f":"'SHALA DARPAN DATA'!J2617","v":0},{"$f":"'SHALA DARPAN DATA'!T2617","v":0},{"$f":"'SHALA DARPAN DATA'!V2617","v":0},{"$f":"'SHALA DARPAN DATA'!K2617","v":0},{"$f":"'SHALA DARPAN DATA'!E2617","v":0},{"$f":"'SHALA DARPAN DATA'!G2617","v":0},{"$f":"'SHALA DARPAN DATA'!H2617","v":0},{"$f":"'SHALA DARPAN DATA'!W2617","v":0},{"$f":"'SHALA DARPAN DATA'!R2617","v":0},{"$f":"'SHALA DARPAN DATA'!S2617","v":0},{"$f":"'SHALA DARPAN DATA'!O2617","v":0},0,0,0,0,0,0,0,0,0,0,0]
[{"$f":"'SHALA DARPAN DATA'!C2622","v":0},{"$f":"'SHALA DARPAN DATA'!A2622","v":0},{"$f":"'SHALA DARPAN DATA'!B2622","v":0},{"$f":"'SHALA DARPAN DATA'!D2622","v":0},{"$f":"'SHALA DARPAN DATA'!J2622","v":0},{"$f":"'SHALA DARPAN DATA'!T2622","v":0},{"$f":"'SHALA DARPAN DATA'!V2622","v":0},{"$f":"'SHALA DARPAN DATA'!K2622","v":0},{"$f":"'SHALA DARPAN DATA'!E2622","v":0},{"$f":"'SHALA DARPAN DATA'!G2622","v":0},{"$f":"'SHALA DARPAN DATA'!H2622","v":0},{"$f":"'SHALA DARPAN DATA'!W2622","v":0},{"$f":"'SHALA DARPAN DATA'!R2622","v":0},{"$f":"'SHALA DARPAN DATA'!S2622","v":0},{"$f":"'SHALA DARPAN DATA'!O2622","v":0},0,0,0,0,0,0,0,0,0,0,0]
[{"$f":"'SHALA DARPAN DATA'!C2626","v":0},{"$f":"'SHALA DARPAN DATA'!A2626","v":0},{"$f":"'SHALA DARPAN DATA'!B2626","v":0},{"$f":"'SHALA DARPAN DATA'!D2626","v":0},{"$f":"'SHALA DARPAN DATA'!J2626","v":0},{"$f":"'SHALA DARPAN DATA'!T2626","v":0},{"$f":"'SHALA DARPAN DATA'!V2626","v":0},{"$f":"'SHALA DARPAN DATA'!K2626","v":0},{"$f":"'SHALA DARPAN DATA'!E2626","v":0},{"$f":"'SHALA DARPAN DATA'!G2626","v":0},{"$f":"'SHALA DARPAN DATA'!H2626","v":0},{"$f":"'SHALA DARPAN DATA'!W2626","v":0},{"$f":"'SHALA DARPAN DATA'!R2626","v":0},{"$f":"'SHALA DARPAN DATA'!S2626","v":0},{"$f":"'SHALA DARPAN DATA'!O2626","v":0},0,0,0,0,0,0,0,0,0,0,0]
[{"$f":"'SHALA DARPAN DATA'!C2631","v":0},{"$f":"'SHALA DARPAN DATA'!A2631","v":0},{"$f":"'SHALA DARPAN DATA'!B2631","v":0},{"$f":"'SHALA DARPAN DATA'!D2631","v":0},{"$f":"'SHALA DARPAN DATA'!J2631","v":0},{"$f":"'SHALA DARPAN DATA'!T2631","v":0},{"$f":"'SHALA DARPAN DATA'!V2631","v":0},{"$f":"'SHALA DARPAN DATA'!K2631","v":0},{"$f":"'SHALA DARPAN DATA'!E2631","v":0},{"$f":"'SHALA DARPAN DATA'!G2631","v":0},{"$f":"'SHALA DARPAN DATA'!H2631","v":0},{"$f":"'SHALA DARPAN DATA'!W2631","v":0},{"$f":"'SHALA DARPAN DATA'!R2631","v":0},{"$f":"'SHALA DARPAN DATA'!S2631","v":0},{"$f":"'SHALA DARPAN DATA'!O2631","v":0},0,0,0,0,0,0,0,0,0,0,0]
[{"$f":"'SHALA DARPAN DATA'!C2632","v":0},{"$f":"'SHALA DARPAN DATA'!A2632","v":0},{"$f":"'SHALA DARPAN DATA'!B2632","v":0},{"$f":"'SHALA DARPAN DATA'!D2632","v":0},{"$f":"'SHALA DARPAN DATA'!J2632","v":0},{"$f":"'SHALA DARPAN DATA'!T2632","v":0},{"$f":"'SHALA DARPAN DATA'!V2632","v":0},{"$f":"'SHALA DARPAN DATA'!K2632","v":0},{"$f":"'SHALA DARPAN DATA'!E2632","v":0},{"$f":"'SHALA DARPAN DATA'!G2632","v":0},{"$f":"'SHALA DARPAN DATA'!H2632","v":0},{"$f":"'SHALA DARPAN DATA'!W2632","v":0},{"$f":"'SHALA DARPAN DATA'!R2632","v":0},{"$f":"'SHALA DARPAN DATA'!S2632","v":0},{"$f":"'SHALA DARPAN DATA'!O2632","v":0},0,0,0,0,0,0,0,0,0,0,0]
[{"$f":"'SHALA DARPAN DATA'!C2638","v":0},{"$f":"'SHALA DARPAN DATA'!A2638","v":0},{"$f":"'SHALA DARPAN DATA'!B2638","v":0},{"$f":"'SHALA DARPAN DATA'!D2638","v":0},{"$f":"'SHALA DARPAN DATA'!J2638","v":0},{"$f":"'SHALA DARPAN DATA'!T2638","v":0},{"$f":"'SHALA DARPAN DATA'!V2638","v":0},{"$f":"'SHALA DARPAN DATA'!K2638","v":0},{"$f":"'SHALA DARPAN DATA'!E2638","v":0},{"$f":"'SHALA DARPAN DATA'!G2638","v":0},{"$f":"'SHALA DARPAN DATA'!H2638","v":0},{"$f":"'SHALA DARPAN DATA'!W2638","v":0},{"$f":"'SHALA DARPAN DATA'!R2638","v":0},{"$f":"'SHALA DARPAN DATA'!S2638","v":0},{"$f":"'SHALA DARPAN DATA'!O2638","v":0},0,0,0,0,0,0,0,0,0,0,0]
[{"$f":"'SHALA DARPAN DATA'!C2641","v":0},{"$f":"'SHALA DARPAN DATA'!A2641","v":0},{"$f":"'SHALA DARPAN DATA'!B2641","v":0},{"$f":"'SHALA DARPAN DATA'!D2641","v":0},{"$f":"'SHALA DARPAN DATA'!J2641","v":0},{"$f":"'SHALA DARPAN DATA'!T2641","v":0},{"$f":"'SHALA DARPAN DATA'!V2641","v":0},{"$f":"'SHALA DARPAN DATA'!K2641","v":0},{"$f":"'SHALA DARPAN DATA'!E2641","v":0},{"$f":"'SHALA DARPAN DATA'!G2641","v":0},{"$f":"'SHALA DARPAN DATA'!H2641","v":0},{"$f":"'SHALA DARPAN DATA'!W2641","v":0},{"$f":"'SHALA DARPAN DATA'!R2641","v":0},{"$f":"'SHALA DARPAN DATA'!S2641","v":0},{"$f":"'SHALA DARPAN DATA'!O2641","v":0},0,0,0,0,0,0,0,0,0,0,0]
[{"$f":"'SHALA DARPAN DATA'!C2646","v":0},{"$f":"'SHALA DARPAN DATA'!A2646","v":0},{"$f":"'SHALA DARPAN DATA'!B2646","v":0},{"$f":"'SHALA DARPAN DATA'!D2646","v":0},{"$f":"'SHALA DARPAN DATA'!J2646","v":0},{"$f":"'SHALA DARPAN DATA'!T2646","v":0},{"$f":"'SHALA DARPAN DATA'!V2646","v":0},{"$f":"'SHALA DARPAN DATA'!K2646","v":0},{"$f":"'SHALA DARPAN DATA'!E2646","v":0},{"$f":"'SHALA DARPAN DATA'!G2646","v":0},{"$f":"'SHALA DARPAN DATA'!H2646","v":0},{"$f":"'SHALA DARPAN DATA'!W2646","v":0},{"$f":"'SHALA DARPAN DATA'!R2646","v":0},{"$f":"'SHALA DARPAN DATA'!S2646","v":0},{"$f":"'SHALA DARPAN DATA'!O2646","v":0},0,0,0,0,0,0,0,0,0,0,0]
[{"$f":"'SHALA DARPAN DATA'!C2647","v":0},{"$f":"'SHALA DARPAN DATA'!A2647","v":0},{"$f":"'SHALA DARPAN DATA'!B2647","v":0},{"$f":"'SHALA DARPAN DATA'!D2647","v":0},{"$f":"'SHALA DARPAN DATA'!J2647","v":0},{"$f":"'SHALA DARPAN DATA'!T2647","v":0},{"$f":"'SHALA DARPAN DATA'!V2647","v":0},{"$f":"'SHALA DARPAN DATA'!K2647","v":0},{"$f":"'SHALA DARPAN DATA'!E2647","v":0},{"$f":"'SHALA DARPAN DATA'!G2647","v":0},{"$f":"'SHALA DARPAN DATA'!H2647","v":0},{"$f":"'SHALA DARPAN DATA'!W2647","v":0},{"$f":"'SHALA DARPAN DATA'!R2647","v":0},{"$f":"'SHALA DARPAN DATA'!S2647","v":0},{"$f":"'SHALA DARPAN DATA'!O2647","v":0},0,0,0,0,0,0,0,0,0,0,0]
[{"$f":"'SHALA DARPAN DATA'!C2652","v":0},{"$f":"'SHALA DARPAN DATA'!A2652","v":0},{"$f":"'SHALA DARPAN DATA'!B2652","v":0},{"$f":"'SHALA DARPAN DATA'!D2652","v":0},{"$f":"'SHALA DARPAN DATA'!J2652","v":0},{"$f":"'SHALA DARPAN DATA'!T2652","v":0},{"$f":"'SHALA DARPAN DATA'!V2652","v":0},{"$f":"'SHALA DARPAN DATA'!K2652","v":0},{"$f":"'SHALA DARPAN DATA'!E2652","v":0},{"$f":"'SHALA DARPAN DATA'!G2652","v":0},{"$f":"'SHALA DARPAN DATA'!H2652","v":0},{"$f":"'SHALA DARPAN DATA'!W2652","v":0},{"$f":"'SHALA DARPAN DATA'!R2652","v":0},{"$f":"'SHALA DARPAN DATA'!S2652","v":0},{"$f":"'SHALA DARPAN DATA'!O2652","v":0},0,0,0,0,0,0,0,0,0,0,0]
[{"$f":"'SHALA DARPAN DATA'!C2656","v":0},{"$f":"'SHALA DARPAN DATA'!A2656","v":0},{"$f":"'SHALA DARPAN DATA'!B2656","v":0},{"$f":"'SHALA DARPAN DATA'!D2656","v":0},{"$f":"'SHALA DARPAN DATA'!J2656","v":0},{"$f":"'SHALA DARPAN DATA'!T2656","v":0},{"$f":"'SHALA DARPAN DATA'!V2656","v":0},{"$f":"'SHALA DARPAN DATA'!K2656","v":0},{"$f":"'SHALA DARPAN DATA'!E2656","v":0},{"$f":"'SHALA DARPAN DATA'!G2656","v":0},{"$f":"'SHALA DARPAN DATA'!H2656","v":0},{"$f":"'SHALA DARPAN DATA'!W2656","v":0},{"$f":"'SHALA DARPAN DATA'!R2656","v":0},{"$f":"'SHALA DARPAN DATA'!S2656","v":0},{"$f":"'SHALA DARPAN DATA'!O2656","v":0},0,0,0,0,0,0,0,0,0,0,0]
[{"$f":"'SHALA DARPAN DATA'!C2661","v":0},{"$f":"'SHALA DARPAN DATA'!A2661","v":0},{"$f":"'SHALA DARPAN DATA'!B2661","v":0},{"$f":"'SHALA DARPAN DATA'!D2661","v":0},{"$f":"'SHALA DARPAN DATA'!J2661","v":0},{"$f":"'SHALA DARPAN DATA'!T2661","v":0},{"$f":"'SHALA DARPAN DATA'!V2661","v":0},{"$f":"'SHALA DARPAN DATA'!K2661","v":0},{"$f":"'SHALA DARPAN DATA'!E2661","v":0},{"$f":"'SHALA DARPAN DATA'!G2661","v":0},{"$f":"'SHALA DARPAN DATA'!H2661","v":0},{"$f":"'SHALA DARPAN DATA'!W2661","v":0},{"$f":"'SHALA DARPAN DATA'!R2661","v":0},{"$f":"'SHALA DARPAN DATA'!S2661","v":0},{"$f":"'SHALA DARPAN DATA'!O2661","v":0},0,0,0,0,0,0,0,0,0,0,0]
[{"$f":"'SHALA DARPAN DATA'!C2662","v":0},{"$f":"'SHALA DARPAN DATA'!A2662","v":0},{"$f":"'SHALA DARPAN DATA'!B2662","v":0},{"$f":"'SHALA DARPAN DATA'!D2662","v":0},{"$f":"'SHALA DARPAN DATA'!J2662","v":0},{"$f":"'SHALA DARPAN DATA'!T2662","v":0},{"$f":"'SHALA DARPAN DATA'!V2662","v":0},{"$f":"'SHALA DARPAN DATA'!K2662","v":0},{"$f":"'SHALA DARPAN DATA'!E2662","v":0},{"$f":"'SHALA DARPAN DATA'!G2662","v":0},{"$f":"'SHALA DARPAN DATA'!H2662","v":0},{"$f":"'SHALA DARPAN DATA'!W2662","v":0},{"$f":"'SHALA DARPAN DATA'!R2662","v":0},{"$f":"'SHALA DARPAN DATA'!S2662","v":0},{"$f":"'SHALA DARPAN DATA'!O2662","v":0},0,0,0,0,0,0,0,0,0,0,0]
[{"$f":"'SHALA DARPAN DATA'!C2668","v":0},{"$f":"'SHALA DARPAN DATA'!A2668","v":0},{"$f":"'SHALA DARPAN DATA'!B2668","v":0},{"$f":"'SHALA DARPAN DATA'!D2668","v":0},{"$f":"'SHALA DARPAN DATA'!J2668","v":0},{"$f":"'SHALA DARPAN DATA'!T2668","v":0},{"$f":"'SHALA DARPAN DATA'!V2668","v":0},{"$f":"'SHALA DARPAN DATA'!K2668","v":0},{"$f":"'SHALA DARPAN DATA'!E2668","v":0},{"$f":"'SHALA DARPAN DATA'!G2668","v":0},{"$f":"'SHALA DARPAN DATA'!H2668","v":0},{"$f":"'SHALA DARPAN DATA'!W2668","v":0},{"$f":"'SHALA DARPAN DATA'!R2668","v":0},{"$f":"'SHALA DARPAN DATA'!S2668","v":0},{"$f":"'SHALA DARPAN DATA'!O2668","v":0},0,0,0,0,0,0,0,0,0,0,0]
[{"$f":"'SHALA DARPAN DATA'!C2671","v":0},{"$f":"'SHALA DARPAN DATA'!A2671","v":0},{"$f":"'SHALA DARPAN DATA'!B2671","v":0},{"$f":"'SHALA DARPAN DATA'!D2671","v":0},{"$f":"'SHALA DARPAN DATA'!J2671","v":0},{"$f":"'SHALA DARPAN DATA'!T2671","v":0},{"$f":"'SHALA DARPAN DATA'!V2671","v":0},{"$f":"'SHALA DARPAN DATA'!K2671","v":0},{"$f":"'SHALA DARPAN DATA'!E2671","v":0},{"$f":"'SHALA DARPAN DATA'!G2671","v":0},{"$f":"'SHALA DARPAN DATA'!H2671","v":0},{"$f":"'SHALA DARPAN DATA'!W2671","v":0},{"$f":"'SHALA DARPAN DATA'!R2671","v":0},{"$f":"'SHALA DARPAN DATA'!S2671","v":0},{"$f":"'SHALA DARPAN DATA'!O2671","v":0},0,0,0,0,0,0,0,0,0,0,0]
[{"$f":"'SHALA DARPAN DATA'!C2676","v":0},{"$f":"'SHALA DARPAN DATA'!A2676","v":0},{"$f":"'SHALA DARPAN DATA'!B2676","v":0},{"$f":"'SHALA DARPAN DATA'!D2676","v":0},{"$f":"'SHALA DARPAN DATA'!J2676","v":0},{"$f":"'SHALA DARPAN DATA'!T2676","v":0},{"$f":"'SHALA DARPAN DATA'!V2676","v":0},{"$f":"'SHALA DARPAN DATA'!K2676","v":0},{"$f":"'SHALA DARPAN DATA'!E2676","v":0},{"$f":"'SHALA DARPAN DATA'!G2676","v":0},{"$f":"'SHALA DARPAN DATA'!H2676","v":0},{"$f":"'SHALA DARPAN DATA'!W2676","v":0},{"$f":"'SHALA DARPAN DATA'!R2676","v":0},{"$f":"'SHALA DARPAN DATA'!S2676","v":0},{"$f":"'SHALA DARPAN DATA'!O2676","v":0},0,0,0,0,0,0,0,0,0,0,0]
[{"$f":"'SHALA DARPAN DATA'!C2677","v":0},{"$f":"'SHALA DARPAN DATA'!A2677","v":0},{"$f":"'SHALA DARPAN DATA'!B2677","v":0},{"$f":"'SHALA DARPAN DATA'!D2677","v":0},{"$f":"'SHALA DARPAN DATA'!J2677","v":0},{"$f":"'SHALA DARPAN DATA'!T2677","v":0},{"$f":"'SHALA DARPAN DATA'!V2677","v":0},{"$f":"'SHALA DARPAN DATA'!K2677","v":0},{"$f":"'SHALA DARPAN DATA'!E2677","v":0},{"$f":"'SHALA DARPAN DATA'!G2677","v":0},{"$f":"'SHALA DARPAN DATA'!H2677","v":0},{"$f":"'SHALA DARPAN DATA'!W2677","v":0},{"$f":"'SHALA DARPAN DATA'!R2677","v":0},{"$f":"'SHALA DARPAN DATA'!S2677","v":0},{"$f":"'SHALA DARPAN DATA'!O2677","v":0},0,0,0,0,0,0,0,0,0,0,0]
[{"$f":"'SHALA DARPAN DATA'!C2682","v":0},{"$f":"'SHALA DARPAN DATA'!A2682","v":0},{"$f":"'SHALA DARPAN DATA'!B2682","v":0},{"$f":"'SHALA DARPAN DATA'!D2682","v":0},{"$f":"'SHALA DARPAN DATA'!J2682","v":0},{"$f":"'SHALA DARPAN DATA'!T2682","v":0},{"$f":"'SHALA DARPAN DATA'!V2682","v":0},{"$f":"'SHALA DARPAN DATA'!K2682","v":0},{"$f":"'SHALA DARPAN DATA'!E2682","v":0},{"$f":"'SHALA DARPAN DATA'!G2682","v":0},{"$f":"'SHALA DARPAN DATA'!H2682","v":0},{"$f":"'SHALA DARPAN DATA'!W2682","v":0},{"$f":"'SHALA DARPAN DATA'!R2682","v":0},{"$f":"'SHALA DARPAN DATA'!S2682","v":0},{"$f":"'SHALA DARPAN DATA'!O2682","v":0},0,0,0,0,0,0,0,0,0,0,0]
[{"$f":"'SHALA DARPAN DATA'!C2686","v":0},{"$f":"'SHALA DARPAN DATA'!A2686","v":0},{"$f":"'SHALA DARPAN DATA'!B2686","v":0},{"$f":"'SHALA DARPAN DATA'!D2686","v":0},{"$f":"'SHALA DARPAN DATA'!J2686","v":0},{"$f":"'SHALA DARPAN DATA'!T2686","v":0},{"$f":"'SHALA DARPAN DATA'!V2686","v":0},{"$f":"'SHALA DARPAN DATA'!K2686","v":0},{"$f":"'SHALA DARPAN DATA'!E2686","v":0},{"$f":"'SHALA DARPAN DATA'!G2686","v":0},{"$f":"'SHALA DARPAN DATA'!H2686","v":0},{"$f":"'SHALA DARPAN DATA'!W2686","v":0},{"$f":"'SHALA DARPAN DATA'!R2686","v":0},{"$f":"'SHALA DARPAN DATA'!S2686","v":0},{"$f":"'SHALA DARPAN DATA'!O2686","v":0},0,0,0,0,0,0,0,0,0,0,0]
[{"$f":"'SHALA DARPAN DATA'!C2691","v":0},{"$f":"'SHALA DARPAN DATA'!A2691","v":0},{"$f":"'SHALA DARPAN DATA'!B2691","v":0},{"$f":"'SHALA DARPAN DATA'!D2691","v":0},{"$f":"'SHALA DARPAN DATA'!J2691","v":0},{"$f":"'SHALA DARPAN DATA'!T2691","v":0},{"$f":"'SHALA DARPAN DATA'!V2691","v":0},{"$f":"'SHALA DARPAN DATA'!K2691","v":0},{"$f":"'SHALA DARPAN DATA'!E2691","v":0},{"$f":"'SHALA DARPAN DATA'!G2691","v":0},{"$f":"'SHALA DARPAN DATA'!H2691","v":0},{"$f":"'SHALA DARPAN DATA'!W2691","v":0},{"$f":"'SHALA DARPAN DATA'!R2691","v":0},{"$f":"'SHALA DARPAN DATA'!S2691","v":0},{"$f":"'SHALA DARPAN DATA'!O2691","v":0},0,0,0,0,0,0,0,0,0,0,0]
[{"$f":"'SHALA DARPAN DATA'!C2692","v":0},{"$f":"'SHALA DARPAN DATA'!A2692","v":0},{"$f":"'SHALA DARPAN DATA'!B2692","v":0},{"$f":"'SHALA DARPAN DATA'!D2692","v":0},{"$f":"'SHALA DARPAN DATA'!J2692","v":0},{"$f":"'SHALA DARPAN DATA'!T2692","v":0},{"$f":"'SHALA DARPAN DATA'!V2692","v":0},{"$f":"'SHALA DARPAN DATA'!K2692","v":0},{"$f":"'SHALA DARPAN DATA'!E2692","v":0},{"$f":"'SHALA DARPAN DATA'!G2692","v":0},{"$f":"'SHALA DARPAN DATA'!H2692","v":0},{"$f":"'SHALA DARPAN DATA'!W2692","v":0},{"$f":"'SHALA DARPAN DATA'!R2692","v":0},{"$f":"'SHALA DARPAN DATA'!S2692","v":0},{"$f":"'SHALA DARPAN DATA'!O2692","v":0},0,0,0,0,0,0,0,0,0,0,0]
[{"$f":"'SHALA DARPAN DATA'!C2698","v":0},{"$f":"'SHALA DARPAN DATA'!A2698","v":0},{"$f":"'SHALA DARPAN DATA'!B2698","v":0},{"$f":"'SHALA DARPAN DATA'!D2698","v":0},{"$f":"'SHALA DARPAN DATA'!J2698","v":0},{"$f":"'SHALA DARPAN DATA'!T2698","v":0},{"$f":"'SHALA DARPAN DATA'!V2698","v":0},{"$f":"'SHALA DARPAN DATA'!K2698","v":0},{"$f":"'SHALA DARPAN DATA'!E2698","v":0},{"$f":"'SHALA DARPAN DATA'!G2698","v":0},{"$f":"'SHALA DARPAN DATA'!H2698","v":0},{"$f":"'SHALA DARPAN DATA'!W2698","v":0},{"$f":"'SHALA DARPAN DATA'!R2698","v":0},{"$f":"'SHALA DARPAN DATA'!S2698","v":0},{"$f":"'SHALA DARPAN DATA'!O2698","v":0},0,0,0,0,0,0,0,0,0,0,0]
[{"$f":"'SHALA DARPAN DATA'!C2701","v":0},{"$f":"'SHALA DARPAN DATA'!A2701","v":0},{"$f":"'SHALA DARPAN DATA'!B2701","v":0},{"$f":"'SHALA DARPAN DATA'!D2701","v":0},{"$f":"'SHALA DARPAN DATA'!J2701","v":0},{"$f":"'SHALA DARPAN DATA'!T2701","v":0},{"$f":"'SHALA DARPAN DATA'!V2701","v":0},{"$f":"'SHALA DARPAN DATA'!K2701","v":0},{"$f":"'SHALA DARPAN DATA'!E2701","v":0},{"$f":"'SHALA DARPAN DATA'!G2701","v":0},{"$f":"'SHALA DARPAN DATA'!H2701","v":0},{"$f":"'SHALA DARPAN DATA'!W2701","v":0},{"$f":"'SHALA DARPAN DATA'!R2701","v":0},{"$f":"'SHALA DARPAN DATA'!S2701","v":0},{"$f":"'SHALA DARPAN DATA'!O2701","v":0},0,0,0,0,0,0,0,0,0,0,0]
[{"$f":"'SHALA DARPAN DATA'!C2706","v":0},{"$f":"'SHALA DARPAN DATA'!A2706","v":0},{"$f":"'SHALA DARPAN DATA'!B2706","v":0},{"$f":"'SHALA DARPAN DATA'!D2706","v":0},{"$f":"'SHALA DARPAN DATA'!J2706","v":0},{"$f":"'SHALA DARPAN DATA'!T2706","v":0},{"$f":"'SHALA DARPAN DATA'!V2706","v":0},{"$f":"'SHALA DARPAN DATA'!K2706","v":0},{"$f":"'SHALA DARPAN DATA'!E2706","v":0},{"$f":"'SHALA DARPAN DATA'!G2706","v":0},{"$f":"'SHALA DARPAN DATA'!H2706","v":0},{"$f":"'SHALA DARPAN DATA'!W2706","v":0},{"$f":"'SHALA DARPAN DATA'!R2706","v":0},{"$f":"'SHALA DARPAN DATA'!S2706","v":0},{"$f":"'SHALA DARPAN DATA'!O2706","v":0},0,0,0,0,0,0,0,0,0,0,0]
[{"$f":"'SHALA DARPAN DATA'!C2707","v":0},{"$f":"'SHALA DARPAN DATA'!A2707","v":0},{"$f":"'SHALA DARPAN DATA'!B2707","v":0},{"$f":"'SHALA DARPAN DATA'!D2707","v":0},{"$f":"'SHALA DARPAN DATA'!J2707","v":0},{"$f":"'SHALA DARPAN DATA'!T2707","v":0},{"$f":"'SHALA DARPAN DATA'!V2707","v":0},{"$f":"'SHALA DARPAN DATA'!K2707","v":0},{"$f":"'SHALA DARPAN DATA'!E2707","v":0},{"$f":"'SHALA DARPAN DATA'!G2707","v":0},{"$f":"'SHALA DARPAN DATA'!H2707","v":0},{"$f":"'SHALA DARPAN DATA'!W2707","v":0},{"$f":"'SHALA DARPAN DATA'!R2707","v":0},{"$f":"'SHALA DARPAN DATA'!S2707","v":0},{"$f":"'SHALA DARPAN DATA'!O2707","v":0},0,0,0,0,0,0,0,0,0,0,0]
[{"$f":"'SHALA DARPAN DATA'!C2712","v":0},{"$f":"'SHALA DARPAN DATA'!A2712","v":0},{"$f":"'SHALA DARPAN DATA'!B2712","v":0},{"$f":"'SHALA DARPAN DATA'!D2712","v":0},{"$f":"'SHALA DARPAN DATA'!J2712","v":0},{"$f":"'SHALA DARPAN DATA'!T2712","v":0},{"$f":"'SHALA DARPAN DATA'!V2712","v":0},{"$f":"'SHALA DARPAN DATA'!K2712","v":0},{"$f":"'SHALA DARPAN DATA'!E2712","v":0},{"$f":"'SHALA DARPAN DATA'!G2712","v":0},{"$f":"'SHALA DARPAN DATA'!H2712","v":0},{"$f":"'SHALA DARPAN DATA'!W2712","v":0},{"$f":"'SHALA DARPAN DATA'!R2712","v":0},{"$f":"'SHALA DARPAN DATA'!S2712","v":0},{"$f":"'SHALA DARPAN DATA'!O2712","v":0},0,0,0,0,0,0,0,0,0,0,0]
[{"$f":"'SHALA DARPAN DATA'!C2716","v":0},{"$f":"'SHALA DARPAN DATA'!A2716","v":0},{"$f":"'SHALA DARPAN DATA'!B2716","v":0},{"$f":"'SHALA DARPAN DATA'!D2716","v":0},{"$f":"'SHALA DARPAN DATA'!J2716","v":0},{"$f":"'SHALA DARPAN DATA'!T2716","v":0},{"$f":"'SHALA DARPAN DATA'!V2716","v":0},{"$f":"'SHALA DARPAN DATA'!K2716","v":0},{"$f":"'SHALA DARPAN DATA'!E2716","v":0},{"$f":"'SHALA DARPAN DATA'!G2716","v":0},{"$f":"'SHALA DARPAN DATA'!H2716","v":0},{"$f":"'SHALA DARPAN DATA'!W2716","v":0},{"$f":"'SHALA DARPAN DATA'!R2716","v":0},{"$f":"'SHALA DARPAN DATA'!S2716","v":0},{"$f":"'SHALA DARPAN DATA'!O2716","v":0},0,0,0,0,0,0,0,0,0,0,0]
[{"$f":"'SHALA DARPAN DATA'!C2721","v":0},{"$f":"'SHALA DARPAN DATA'!A2721","v":0},{"$f":"'SHALA DARPAN DATA'!B2721","v":0},{"$f":"'SHALA DARPAN DATA'!D2721","v":0},{"$f":"'SHALA DARPAN DATA'!J2721","v":0},{"$f":"'SHALA DARPAN DATA'!T2721","v":0},{"$f":"'SHALA DARPAN DATA'!V2721","v":0},{"$f":"'SHALA DARPAN DATA'!K2721","v":0},{"$f":"'SHALA DARPAN DATA'!E2721","v":0},{"$f":"'SHALA DARPAN DATA'!G2721","v":0},{"$f":"'SHALA DARPAN DATA'!H2721","v":0},{"$f":"'SHALA DARPAN DATA'!W2721","v":0},{"$f":"'SHALA DARPAN DATA'!R2721","v":0},{"$f":"'SHALA DARPAN DATA'!S2721","v":0},{"$f":"'SHALA DARPAN DATA'!O2721","v":0},0,0,0,0,0,0,0,0,0,0,0]
[{"$f":"'SHALA DARPAN DATA'!C2722","v":0},{"$f":"'SHALA DARPAN DATA'!A2722","v":0},{"$f":"'SHALA DARPAN DATA'!B2722","v":0},{"$f":"'SHALA DARPAN DATA'!D2722","v":0},{"$f":"'SHALA DARPAN DATA'!J2722","v":0},{"$f":"'SHALA DARPAN DATA'!T2722","v":0},{"$f":"'SHALA DARPAN DATA'!V2722","v":0},{"$f":"'SHALA DARPAN DATA'!K2722","v":0},{"$f":"'SHALA DARPAN DATA'!E2722","v":0},{"$f":"'SHALA DARPAN DATA'!G2722","v":0},{"$f":"'SHALA DARPAN DATA'!H2722","v":0},{"$f":"'SHALA DARPAN DATA'!W2722","v":0},{"$f":"'SHALA DARPAN DATA'!R2722","v":0},{"$f":"'SHALA DARPAN DATA'!S2722","v":0},{"$f":"'SHALA DARPAN DATA'!O2722","v":0},0,0,0,0,0,0,0,0,0,0,0]
[{"$f":"'SHALA DARPAN DATA'!C2728","v":0},{"$f":"'SHALA DARPAN DATA'!A2728","v":0},{"$f":"'SHALA DARPAN DATA'!B2728","v":0},{"$f":"'SHALA DARPAN DATA'!D2728","v":0},{"$f":"'SHALA DARPAN DATA'!J2728","v":0},{"$f":"'SHALA DARPAN DATA'!T2728","v":0},{"$f":"'SHALA DARPAN DATA'!V2728","v":0},{"$f":"'SHALA DARPAN DATA'!K2728","v":0},{"$f":"'SHALA DARPAN DATA'!E2728","v":0},{"$f":"'SHALA DARPAN DATA'!G2728","v":0},{"$f":"'SHALA DARPAN DATA'!H2728","v":0},{"$f":"'SHALA DARPAN DATA'!W2728","v":0},{"$f":"'SHALA DARPAN DATA'!R2728","v":0},{"$f":"'SHALA DARPAN DATA'!S2728","v":0},{"$f":"'SHALA DARPAN DATA'!O2728","v":0},0,0,0,0,0,0,0,0,0,0,0]
[{"$f":"'SHALA DARPAN DATA'!C2731","v":0},{"$f":"'SHALA DARPAN DATA'!A2731","v":0},{"$f":"'SHALA DARPAN DATA'!B2731","v":0},{"$f":"'SHALA DARPAN DATA'!D2731","v":0},{"$f":"'SHALA DARPAN DATA'!J2731","v":0},{"$f":"'SHALA DARPAN DATA'!T2731","v":0},{"$f":"'SHALA DARPAN DATA'!V2731","v":0},{"$f":"'SHALA DARPAN DATA'!K2731","v":0},{"$f":"'SHALA DARPAN DATA'!E2731","v":0},{"$f":"'SHALA DARPAN DATA'!G2731","v":0},{"$f":"'SHALA DARPAN DATA'!H2731","v":0},{"$f":"'SHALA DARPAN DATA'!W2731","v":0},{"$f":"'SHALA DARPAN DATA'!R2731","v":0},{"$f":"'SHALA DARPAN DATA'!S2731","v":0},{"$f":"'SHALA DARPAN DATA'!O2731","v":0},0,0,0,0,0,0,0,0,0,0,0]
[{"$f":"'SHALA DARPAN DATA'!C2736","v":0},{"$f":"'SHALA DARPAN DATA'!A2736","v":0},{"$f":"'SHALA DARPAN DATA'!B2736","v":0},{"$f":"'SHALA DARPAN DATA'!D2736","v":0},{"$f":"'SHALA DARPAN DATA'!J2736","v":0},{"$f":"'SHALA DARPAN DATA'!T2736","v":0},{"$f":"'SHALA DARPAN DATA'!V2736","v":0},{"$f":"'SHALA DARPAN DATA'!K2736","v":0},{"$f":"'SHALA DARPAN DATA'!E2736","v":0},{"$f":"'SHALA DARPAN DATA'!G2736","v":0},{"$f":"'SHALA DARPAN DATA'!H2736","v":0},{"$f":"'SHALA DARPAN DATA'!W2736","v":0},{"$f":"'SHALA DARPAN DATA'!R2736","v":0},{"$f":"'SHALA DARPAN DATA'!S2736","v":0},{"$f":"'SHALA DARPAN DATA'!O2736","v":0},0,0,0,0,0,0,0,0,0,0,0]
[{"$f":"'SHALA DARPAN DATA'!C2737","v":0},{"$f":"'SHALA DARPAN DATA'!A2737","v":0},{"$f":"'SHALA DARPAN DATA'!B2737","v":0},{"$f":"'SHALA DARPAN DATA'!D2737","v":0},{"$f":"'SHALA DARPAN DATA'!J2737","v":0},{"$f":"'SHALA DARPAN DATA'!T2737","v":0},{"$f":"'SHALA DARPAN DATA'!V2737","v":0},{"$f":"'SHALA DARPAN DATA'!K2737","v":0},{"$f":"'SHALA DARPAN DATA'!E2737","v":0},{"$f":"'SHALA DARPAN DATA'!G2737","v":0},{"$f":"'SHALA DARPAN DATA'!H2737","v":0},{"$f":"'SHALA DARPAN DATA'!W2737","v":0},{"$f":"'SHALA DARPAN DATA'!R2737","v":0},{"$f":"'SHALA DARPAN DATA'!S2737","v":0},{"$f":"'SHALA DARPAN DATA'!O2737","v":0},0,0,0,0,0,0,0,0,0,0,0]
[{"$f":"'SHALA DARPAN DATA'!C2742","v":0},{"$f":"'SHALA DARPAN DATA'!A2742","v":0},{"$f":"'SHALA DARPAN DATA'!B2742","v":0},{"$f":"'SHALA DARPAN DATA'!D2742","v":0},{"$f":"'SHALA DARPAN DATA'!J2742","v":0},{"$f":"'SHALA DARPAN DATA'!T2742","v":0},{"$f":"'SHALA DARPAN DATA'!V2742","v":0},{"$f":"'SHALA DARPAN DATA'!K2742","v":0},{"$f":"'SHALA DARPAN DATA'!E2742","v":0},{"$f":"'SHALA DARPAN DATA'!G2742","v":0},{"$f":"'SHALA DARPAN DATA'!H2742","v":0},{"$f":"'SHALA DARPAN DATA'!W2742","v":0},{"$f":"'SHALA DARPAN DATA'!R2742","v":0},{"$f":"'SHALA DARPAN DATA'!S2742","v":0},{"$f":"'SHALA DARPAN DATA'!O2742","v":0},0,0,0,0,0,0,0,0,0,0,0]
[{"$f":"'SHALA DARPAN DATA'!C2746","v":0},{"$f":"'SHALA DARPAN DATA'!A2746","v":0},{"$f":"'SHALA DARPAN DATA'!B2746","v":0},{"$f":"'SHALA DARPAN DATA'!D2746","v":0},{"$f":"'SHALA DARPAN DATA'!J2746","v":0},{"$f":"'SHALA DARPAN DATA'!T2746","v":0},{"$f":"'SHALA DARPAN DATA'!V2746","v":0},{"$f":"'SHALA DARPAN DATA'!K2746","v":0},{"$f":"'SHALA DARPAN DATA'!E2746","v":0},{"$f":"'SHALA DARPAN DATA'!G2746","v":0},{"$f":"'SHALA DARPAN DATA'!H2746","v":0},{"$f":"'SHALA DARPAN DATA'!W2746","v":0},{"$f":"'SHALA DARPAN DATA'!R2746","v":0},{"$f":"'SHALA DARPAN DATA'!S2746","v":0},{"$f":"'SHALA DARPAN DATA'!O2746","v":0},0,0,0,0,0,0,0,0,0,0,0]
[{"$f":"'SHALA DARPAN DATA'!C2751","v":0},{"$f":"'SHALA DARPAN DATA'!A2751","v":0},{"$f":"'SHALA DARPAN DATA'!B2751","v":0},{"$f":"'SHALA DARPAN DATA'!D2751","v":0},{"$f":"'SHALA DARPAN DATA'!J2751","v":0},{"$f":"'SHALA DARPAN DATA'!T2751","v":0},{"$f":"'SHALA DARPAN DATA'!V2751","v":0},{"$f":"'SHALA DARPAN DATA'!K2751","v":0},{"$f":"'SHALA DARPAN DATA'!E2751","v":0},{"$f":"'SHALA DARPAN DATA'!G2751","v":0},{"$f":"'SHALA DARPAN DATA'!H2751","v":0},{"$f":"'SHALA DARPAN DATA'!W2751","v":0},{"$f":"'SHALA DARPAN DATA'!R2751","v":0},{"$f":"'SHALA DARPAN DATA'!S2751","v":0},{"$f":"'SHALA DARPAN DATA'!O2751","v":0},0,0,0,0,0,0,0,0,0,0,0]
[{"$f":"'SHALA DARPAN DATA'!C2752","v":0},{"$f":"'SHALA DARPAN DATA'!A2752","v":0},{"$f":"'SHALA DARPAN DATA'!B2752","v":0},{"$f":"'SHALA DARPAN DATA'!D2752","v":0},{"$f":"'SHALA DARPAN DATA'!J2752","v":0},{"$f":"'SHALA DARPAN DATA'!T2752","v":0},{"$f":"'SHALA DARPAN DATA'!V2752","v":0},{"$f":"'SHALA DARPAN DATA'!K2752","v":0},{"$f":"'SHALA DARPAN DATA'!E2752","v":0},{"$f":"'SHALA DARPAN DATA'!G2752","v":0},{"$f":"'SHALA DARPAN DATA'!H2752","v":0},{"$f":"'SHALA DARPAN DATA'!W2752","v":0},{"$f":"'SHALA DARPAN DATA'!R2752","v":0},{"$f":"'SHALA DARPAN DATA'!S2752","v":0},{"$f":"'SHALA DARPAN DATA'!O2752","v":0},0,0,0,0,0,0,0,0,0,0,0]
[{"$f":"'SHALA DARPAN DATA'!C2758","v":0},{"$f":"'SHALA DARPAN DATA'!A2758","v":0},{"$f":"'SHALA DARPAN DATA'!B2758","v":0},{"$f":"'SHALA DARPAN DATA'!D2758","v":0},{"$f":"'SHALA DARPAN DATA'!J2758","v":0},{"$f":"'SHALA DARPAN DATA'!T2758","v":0},{"$f":"'SHALA DARPAN DATA'!V2758","v":0},{"$f":"'SHALA DARPAN DATA'!K2758","v":0},{"$f":"'SHALA DARPAN DATA'!E2758","v":0},{"$f":"'SHALA DARPAN DATA'!G2758","v":0},{"$f":"'SHALA DARPAN DATA'!H2758","v":0},{"$f":"'SHALA DARPAN DATA'!W2758","v":0},{"$f":"'SHALA DARPAN DATA'!R2758","v":0},{"$f":"'SHALA DARPAN DATA'!S2758","v":0},{"$f":"'SHALA DARPAN DATA'!O2758","v":0},0,0,0,0,0,0,0,0,0,0,0]
[{"$f":"'SHALA DARPAN DATA'!C2761","v":0},{"$f":"'SHALA DARPAN DATA'!A2761","v":0},{"$f":"'SHALA DARPAN DATA'!B2761","v":0},{"$f":"'SHALA DARPAN DATA'!D2761","v":0},{"$f":"'SHALA DARPAN DATA'!J2761","v":0},{"$f":"'SHALA DARPAN DATA'!T2761","v":0},{"$f":"'SHALA DARPAN DATA'!V2761","v":0},{"$f":"'SHALA DARPAN DATA'!K2761","v":0},{"$f":"'SHALA DARPAN DATA'!E2761","v":0},{"$f":"'SHALA DARPAN DATA'!G2761","v":0},{"$f":"'SHALA DARPAN DATA'!H2761","v":0},{"$f":"'SHALA DARPAN DATA'!W2761","v":0},{"$f":"'SHALA DARPAN DATA'!R2761","v":0},{"$f":"'SHALA DARPAN DATA'!S2761","v":0},{"$f":"'SHALA DARPAN DATA'!O2761","v":0},0,0,0,0,0,0,0,0,0,0,0]
[{"$f":"'SHALA DARPAN DATA'!C2766","v":0},{"$f":"'SHALA DARPAN DATA'!A2766","v":0},{"$f":"'SHALA DARPAN DATA'!B2766","v":0},{"$f":"'SHALA DARPAN DATA'!D2766","v":0},{"$f":"'SHALA DARPAN DATA'!J2766","v":0},{"$f":"'SHALA DARPAN DATA'!T2766","v":0},{"$f":"'SHALA DARPAN DATA'!V2766","v":0},{"$f":"'SHALA DARPAN DATA'!K2766","v":0},{"$f":"'SHALA DARPAN DATA'!E2766","v":0},{"$f":"'SHALA DARPAN DATA'!G2766","v":0},{"$f":"'SHALA DARPAN DATA'!H2766","v":0},{"$f":"'SHALA DARPAN DATA'!W2766","v":0},{"$f":"'SHALA DARPAN DATA'!R2766","v":0},{"$f":"'SHALA DARPAN DATA'!S2766","v":0},{"$f":"'SHALA DARPAN DATA'!O2766","v":0},0,0,0,0,0,0,0,0,0,0,0]
[{"$f":"'SHALA DARPAN DATA'!C2767","v":0},{"$f":"'SHALA DARPAN DATA'!A2767","v":0},{"$f":"'SHALA DARPAN DATA'!B2767","v":0},{"$f":"'SHALA DARPAN DATA'!D2767","v":0},{"$f":"'SHALA DARPAN DATA'!J2767","v":0},{"$f":"'SHALA DARPAN DATA'!T2767","v":0},{"$f":"'SHALA DARPAN DATA'!V2767","v":0},{"$f":"'SHALA DARPAN DATA'!K2767","v":0},{"$f":"'SHALA DARPAN DATA'!E2767","v":0},{"$f":"'SHALA DARPAN DATA'!G2767","v":0},{"$f":"'SHALA DARPAN DATA'!H2767","v":0},{"$f":"'SHALA DARPAN DATA'!W2767","v":0},{"$f":"'SHALA DARPAN DATA'!R2767","v":0},{"$f":"'SHALA DARPAN DATA'!S2767","v":0},{"$f":"'SHALA DARPAN DATA'!O2767","v":0},0,0,0,0,0,0,0,0,0,0,0]
[{"$f":"'SHALA DARPAN DATA'!C2772","v":0},{"$f":"'SHALA DARPAN DATA'!A2772","v":0},{"$f":"'SHALA DARPAN DATA'!B2772","v":0},{"$f":"'SHALA DARPAN DATA'!D2772","v":0},{"$f":"'SHALA DARPAN DATA'!J2772","v":0},{"$f":"'SHALA DARPAN DATA'!T2772","v":0},{"$f":"'SHALA DARPAN DATA'!V2772","v":0},{"$f":"'SHALA DARPAN DATA'!K2772","v":0},{"$f":"'SHALA DARPAN DATA'!E2772","v":0},{"$f":"'SHALA DARPAN DATA'!G2772","v":0},{"$f":"'SHALA DARPAN DATA'!H2772","v":0},{"$f":"'SHALA DARPAN DATA'!W2772","v":0},{"$f":"'SHALA DARPAN DATA'!R2772","v":0},{"$f":"'SHALA DARPAN DATA'!S2772","v":0},{"$f":"'SHALA DARPAN DATA'!O2772","v":0},0,0,0,0,0,0,0,0,0,0,0]
[{"$f":"'SHALA DARPAN DATA'!C2776","v":0},{"$f":"'SHALA DARPAN DATA'!A2776","v":0},{"$f":"'SHALA DARPAN DATA'!B2776","v":0},{"$f":"'SHALA DARPAN DATA'!D2776","v":0},{"$f":"'SHALA DARPAN DATA'!J2776","v":0},{"$f":"'SHALA DARPAN DATA'!T2776","v":0},{"$f":"'SHALA DARPAN DATA'!V2776","v":0},{"$f":"'SHALA DARPAN DATA'!K2776","v":0},{"$f":"'SHALA DARPAN DATA'!E2776","v":0},{"$f":"'SHALA DARPAN DATA'!G2776","v":0},{"$f":"'SHALA DARPAN DATA'!H2776","v":0},{"$f":"'SHALA DARPAN DATA'!W2776","v":0},{"$f":"'SHALA DARPAN DATA'!R2776","v":0},{"$f":"'SHALA DARPAN DATA'!S2776","v":0},{"$f":"'SHALA DARPAN DATA'!O2776","v":0},0,0,0,0,0,0,0,0,0,0,0]
[{"$f":"'SHALA DARPAN DATA'!C2781","v":0},{"$f":"'SHALA DARPAN DATA'!A2781","v":0},{"$f":"'SHALA DARPAN DATA'!B2781","v":0},{"$f":"'SHALA DARPAN DATA'!D2781","v":0},{"$f":"'SHALA DARPAN DATA'!J2781","v":0},{"$f":"'SHALA DARPAN DATA'!T2781","v":0},{"$f":"'SHALA DARPAN DATA'!V2781","v":0},{"$f":"'SHALA DARPAN DATA'!K2781","v":0},{"$f":"'SHALA DARPAN DATA'!E2781","v":0},{"$f":"'SHALA DARPAN DATA'!G2781","v":0},{"$f":"'SHALA DARPAN DATA'!H2781","v":0},{"$f":"'SHALA DARPAN DATA'!W2781","v":0},{"$f":"'SHALA DARPAN DATA'!R2781","v":0},{"$f":"'SHALA DARPAN DATA'!S2781","v":0},{"$f":"'SHALA DARPAN DATA'!O2781","v":0},0,0,0,0,0,0,0,0,0,0,0]
[{"$f":"'SHALA DARPAN DATA'!C2782","v":0},{"$f":"'SHALA DARPAN DATA'!A2782","v":0},{"$f":"'SHALA DARPAN DATA'!B2782","v":0},{"$f":"'SHALA DARPAN DATA'!D2782","v":0},{"$f":"'SHALA DARPAN DATA'!J2782","v":0},{"$f":"'SHALA DARPAN DATA'!T2782","v":0},{"$f":"'SHALA DARPAN DATA'!V2782","v":0},{"$f":"'SHALA DARPAN DATA'!K2782","v":0},{"$f":"'SHALA DARPAN DATA'!E2782","v":0},{"$f":"'SHALA DARPAN DATA'!G2782","v":0},{"$f":"'SHALA DARPAN DATA'!H2782","v":0},{"$f":"'SHALA DARPAN DATA'!W2782","v":0},{"$f":"'SHALA DARPAN DATA'!R2782","v":0},{"$f":"'SHALA DARPAN DATA'!S2782","v":0},{"$f":"'SHALA DARPAN DATA'!O2782","v":0},0,0,0,0,0,0,0,0,0,0,0]
[{"$f":"'SHALA DARPAN DATA'!C2788","v":0},{"$f":"'SHALA DARPAN DATA'!A2788","v":0},{"$f":"'SHALA DARPAN DATA'!B2788","v":0},{"$f":"'SHALA DARPAN DATA'!D2788","v":0},{"$f":"'SHALA DARPAN DATA'!J2788","v":0},{"$f":"'SHALA DARPAN DATA'!T2788","v":0},{"$f":"'SHALA DARPAN DATA'!V2788","v":0},{"$f":"'SHALA DARPAN DATA'!K2788","v":0},{"$f":"'SHALA DARPAN DATA'!E2788","v":0},{"$f":"'SHALA DARPAN DATA'!G2788","v":0},{"$f":"'SHALA DARPAN DATA'!H2788","v":0},{"$f":"'SHALA DARPAN DATA'!W2788","v":0},{"$f":"'SHALA DARPAN DATA'!R2788","v":0},{"$f":"'SHALA DARPAN DATA'!S2788","v":0},{"$f":"'SHALA DARPAN DATA'!O2788","v":0},0,0,0,0,0,0,0,0,0,0,0]
[{"$f":"'SHALA DARPAN DATA'!C2791","v":0},{"$f":"'SHALA DARPAN DATA'!A2791","v":0},{"$f":"'SHALA DARPAN DATA'!B2791","v":0},{"$f":"'SHALA DARPAN DATA'!D2791","v":0},{"$f":"'SHALA DARPAN DATA'!J2791","v":0},{"$f":"'SHALA DARPAN DATA'!T2791","v":0},{"$f":"'SHALA DARPAN DATA'!V2791","v":0},{"$f":"'SHALA DARPAN DATA'!K2791","v":0},{"$f":"'SHALA DARPAN DATA'!E2791","v":0},{"$f":"'SHALA DARPAN DATA'!G2791","v":0},{"$f":"'SHALA DARPAN DATA'!H2791","v":0},{"$f":"'SHALA DARPAN DATA'!W2791","v":0},{"$f":"'SHALA DARPAN DATA'!R2791","v":0},{"$f":"'SHALA DARPAN DATA'!S2791","v":0},{"$f":"'SHALA DARPAN DATA'!O2791","v":0},0,0,0,0,0,0,0,0,0,0,0]
[{"$f":"'SHALA DARPAN DATA'!C2796","v":0},{"$f":"'SHALA DARPAN DATA'!A2796","v":0},{"$f":"'SHALA DARPAN DATA'!B2796","v":0},{"$f":"'SHALA DARPAN DATA'!D2796","v":0},{"$f":"'SHALA DARPAN DATA'!J2796","v":0},{"$f":"'SHALA DARPAN DATA'!T2796","v":0},{"$f":"'SHALA DARPAN DATA'!V2796","v":0},{"$f":"'SHALA DARPAN DATA'!K2796","v":0},{"$f":"'SHALA DARPAN DATA'!E2796","v":0},{"$f":"'SHALA DARPAN DATA'!G2796","v":0},{"$f":"'SHALA DARPAN DATA'!H2796","v":0},{"$f":"'SHALA DARPAN DATA'!W2796","v":0},{"$f":"'SHALA DARPAN DATA'!R2796","v":0},{"$f":"'SHALA DARPAN DATA'!S2796","v":0},{"$f":"'SHALA DARPAN DATA'!O2796","v":0},0,0,0,0,0,0,0,0,0,0,0]
[{"$f":"'SHALA DARPAN DATA'!C2797","v":0},{"$f":"'SHALA DARPAN DATA'!A2797","v":0},{"$f":"'SHALA DARPAN DATA'!B2797","v":0},{"$f":"'SHALA DARPAN DATA'!D2797","v":0},{"$f":"'SHALA DARPAN DATA'!J2797","v":0},{"$f":"'SHALA DARPAN DATA'!T2797","v":0},{"$f":"'SHALA DARPAN DATA'!V2797","v":0},{"$f":"'SHALA DARPAN DATA'!K2797","v":0},{"$f":"'SHALA DARPAN DATA'!E2797","v":0},{"$f":"'SHALA DARPAN DATA'!G2797","v":0},{"$f":"'SHALA DARPAN DATA'!H2797","v":0},{"$f":"'SHALA DARPAN DATA'!W2797","v":0},{"$f":"'SHALA DARPAN DATA'!R2797","v":0},{"$f":"'SHALA DARPAN DATA'!S2797","v":0},{"$f":"'SHALA DARPAN DATA'!O2797","v":0},0,0,0,0,0,0,0,0,0,0,0]
[{"$f":"'SHALA DARPAN DATA'!C2802","v":0},{"$f":"'SHALA DARPAN DATA'!A2802","v":0},{"$f":"'SHALA DARPAN DATA'!B2802","v":0},{"$f":"'SHALA DARPAN DATA'!D2802","v":0},{"$f":"'SHALA DARPAN DATA'!J2802","v":0},{"$f":"'SHALA DARPAN DATA'!T2802","v":0},{"$f":"'SHALA DARPAN DATA'!V2802","v":0},{"$f":"'SHALA DARPAN DATA'!K2802","v":0},{"$f":"'SHALA DARPAN DATA'!E2802","v":0},{"$f":"'SHALA DARPAN DATA'!G2802","v":0},{"$f":"'SHALA DARPAN DATA'!H2802","v":0},{"$f":"'SHALA DARPAN DATA'!W2802","v":0},{"$f":"'SHALA DARPAN DATA'!R2802","v":0},{"$f":"'SHALA DARPAN DATA'!S2802","v":0},{"$f":"'SHALA DARPAN DATA'!O2802","v":0},0,0,0,0,0,0,0,0,0,0,0]
[{"$f":"'SHALA DARPAN DATA'!C2806","v":0},{"$f":"'SHALA DARPAN DATA'!A2806","v":0},{"$f":"'SHALA DARPAN DATA'!B2806","v":0},{"$f":"'SHALA DARPAN DATA'!D2806","v":0},{"$f":"'SHALA DARPAN DATA'!J2806","v":0},{"$f":"'SHALA DARPAN DATA'!T2806","v":0},{"$f":"'SHALA DARPAN DATA'!V2806","v":0},{"$f":"'SHALA DARPAN DATA'!K2806","v":0},{"$f":"'SHALA DARPAN DATA'!E2806","v":0},{"$f":"'SHALA DARPAN DATA'!G2806","v":0},{"$f":"'SHALA DARPAN DATA'!H2806","v":0},{"$f":"'SHALA DARPAN DATA'!W2806","v":0},{"$f":"'SHALA DARPAN DATA'!R2806","v":0},{"$f":"'SHALA DARPAN DATA'!S2806","v":0},{"$f":"'SHALA DARPAN DATA'!O2806","v":0},0,0,0,0,0,0,0,0,0,0,0]
[{"$f":"'SHALA DARPAN DATA'!C2811","v":0},{"$f":"'SHALA DARPAN DATA'!A2811","v":0},{"$f":"'SHALA DARPAN DATA'!B2811","v":0},{"$f":"'SHALA DARPAN DATA'!D2811","v":0},{"$f":"'SHALA DARPAN DATA'!J2811","v":0},{"$f":"'SHALA DARPAN DATA'!T2811","v":0},{"$f":"'SHALA DARPAN DATA'!V2811","v":0},{"$f":"'SHALA DARPAN DATA'!K2811","v":0},{"$f":"'SHALA DARPAN DATA'!E2811","v":0},{"$f":"'SHALA DARPAN DATA'!G2811","v":0},{"$f":"'SHALA DARPAN DATA'!H2811","v":0},{"$f":"'SHALA DARPAN DATA'!W2811","v":0},{"$f":"'SHALA DARPAN DATA'!R2811","v":0},{"$f":"'SHALA DARPAN DATA'!S2811","v":0},{"$f":"'SHALA DARPAN DATA'!O2811","v":0},0,0,0,0,0,0,0,0,0,0,0]
[{"$f":"'SHALA DARPAN DATA'!C2812","v":0},{"$f":"'SHALA DARPAN DATA'!A2812","v":0},{"$f":"'SHALA DARPAN DATA'!B2812","v":0},{"$f":"'SHALA DARPAN DATA'!D2812","v":0},{"$f":"'SHALA DARPAN DATA'!J2812","v":0},{"$f":"'SHALA DARPAN DATA'!T2812","v":0},{"$f":"'SHALA DARPAN DATA'!V2812","v":0},{"$f":"'SHALA DARPAN DATA'!K2812","v":0},{"$f":"'SHALA DARPAN DATA'!E2812","v":0},{"$f":"'SHALA DARPAN DATA'!G2812","v":0},{"$f":"'SHALA DARPAN DATA'!H2812","v":0},{"$f":"'SHALA DARPAN DATA'!W2812","v":0},{"$f":"'SHALA DARPAN DATA'!R2812","v":0},{"$f":"'SHALA DARPAN DATA'!S2812","v":0},{"$f":"'SHALA DARPAN DATA'!O2812","v":0},0,0,0,0,0,0,0,0,0,0,0]
[{"$f":"'SHALA DARPAN DATA'!C2818","v":0},{"$f":"'SHALA DARPAN DATA'!A2818","v":0},{"$f":"'SHALA DARPAN DATA'!B2818","v":0},{"$f":"'SHALA DARPAN DATA'!D2818","v":0},{"$f":"'SHALA DARPAN DATA'!J2818","v":0},{"$f":"'SHALA DARPAN DATA'!T2818","v":0},{"$f":"'SHALA DARPAN DATA'!V2818","v":0},{"$f":"'SHALA DARPAN DATA'!K2818","v":0},{"$f":"'SHALA DARPAN DATA'!E2818","v":0},{"$f":"'SHALA DARPAN DATA'!G2818","v":0},{"$f":"'SHALA DARPAN DATA'!H2818","v":0},{"$f":"'SHALA DARPAN DATA'!W2818","v":0},{"$f":"'SHALA DARPAN DATA'!R2818","v":0},{"$f":"'SHALA DARPAN DATA'!S2818","v":0},{"$f":"'SHALA DARPAN DATA'!O2818","v":0},0,0,0,0,0,0,0,0,0,0,0]
[{"$f":"'SHALA DARPAN DATA'!C2821","v":0},{"$f":"'SHALA DARPAN DATA'!A2821","v":0},{"$f":"'SHALA DARPAN DATA'!B2821","v":0},{"$f":"'SHALA DARPAN DATA'!D2821","v":0},{"$f":"'SHALA DARPAN DATA'!J2821","v":0},{"$f":"'SHALA DARPAN DATA'!T2821","v":0},{"$f":"'SHALA DARPAN DATA'!V2821","v":0},{"$f":"'SHALA DARPAN DATA'!K2821","v":0},{"$f":"'SHALA DARPAN DATA'!E2821","v":0},{"$f":"'SHALA DARPAN DATA'!G2821","v":0},{"$f":"'SHALA DARPAN DATA'!H2821","v":0},{"$f":"'SHALA DARPAN DATA'!W2821","v":0},{"$f":"'SHALA DARPAN DATA'!R2821","v":0},{"$f":"'SHALA DARPAN DATA'!S2821","v":0},{"$f":"'SHALA DARPAN DATA'!O2821","v":0},0,0,0,0,0,0,0,0,0,0,0]
[{"$f":"'SHALA DARPAN DATA'!C2826","v":0},{"$f":"'SHALA DARPAN DATA'!A2826","v":0},{"$f":"'SHALA DARPAN DATA'!B2826","v":0},{"$f":"'SHALA DARPAN DATA'!D2826","v":0},{"$f":"'SHALA DARPAN DATA'!J2826","v":0},{"$f":"'SHALA DARPAN DATA'!T2826","v":0},{"$f":"'SHALA DARPAN DATA'!V2826","v":0},{"$f":"'SHALA DARPAN DATA'!K2826","v":0},{"$f":"'SHALA DARPAN DATA'!E2826","v":0},{"$f":"'SHALA DARPAN DATA'!G2826","v":0},{"$f":"'SHALA DARPAN DATA'!H2826","v":0},{"$f":"'SHALA DARPAN DATA'!W2826","v":0},{"$f":"'SHALA DARPAN DATA'!R2826","v":0},{"$f":"'SHALA DARPAN DATA'!S2826","v":0},{"$f":"'SHALA DARPAN DATA'!O2826","v":0},0,0,0,0,0,0,0,0,0,0,0]
[{"$f":"'SHALA DARPAN DATA'!C2827","v":0},{"$f":"'SHALA DARPAN DATA'!A2827","v":0},{"$f":"'SHALA DARPAN DATA'!B2827","v":0},{"$f":"'SHALA DARPAN DATA'!D2827","v":0},{"$f":"'SHALA DARPAN DATA'!J2827","v":0},{"$f":"'SHALA DARPAN DATA'!T2827","v":0},{"$f":"'SHALA DARPAN DATA'!V2827","v":0},{"$f":"'SHALA DARPAN DATA'!K2827","v":0},{"$f":"'SHALA DARPAN DATA'!E2827","v":0},{"$f":"'SHALA DARPAN DATA'!G2827","v":0},{"$f":"'SHALA DARPAN DATA'!H2827","v":0},{"$f":"'SHALA DARPAN DATA'!W2827","v":0},{"$f":"'SHALA DARPAN DATA'!R2827","v":0},{"$f":"'SHALA DARPAN DATA'!S2827","v":0},{"$f":"'SHALA DARPAN DATA'!O2827","v":0},0,0,0,0,0,0,0,0,0,0,0]
[{"$f":"'SHALA DARPAN DATA'!C2832","v":0},{"$f":"'SHALA DARPAN DATA'!A2832","v":0},{"$f":"'SHALA DARPAN DATA'!B2832","v":0},{"$f":"'SHALA DARPAN DATA'!D2832","v":0},{"$f":"'SHALA DARPAN DATA'!J2832","v":0},{"$f":"'SHALA DARPAN DATA'!T2832","v":0},{"$f":"'SHALA DARPAN DATA'!V2832","v":0},{"$f":"'SHALA DARPAN DATA'!K2832","v":0},{"$f":"'SHALA DARPAN DATA'!E2832","v":0},{"$f":"'SHALA DARPAN DATA'!G2832","v":0},{"$f":"'SHALA DARPAN DATA'!H2832","v":0},{"$f":"'SHALA DARPAN DATA'!W2832","v":0},{"$f":"'SHALA DARPAN DATA'!R2832","v":0},{"$f":"'SHALA DARPAN DATA'!S2832","v":0},{"$f":"'SHALA DARPAN DATA'!O2832","v":0},0,0,0,0,0,0,0,0,0,0,0]
[{"$f":"'SHALA DARPAN DATA'!C2836","v":0},{"$f":"'SHALA DARPAN DATA'!A2836","v":0},{"$f":"'SHALA DARPAN DATA'!B2836","v":0},{"$f":"'SHALA DARPAN DATA'!D2836","v":0},{"$f":"'SHALA DARPAN DATA'!J2836","v":0},{"$f":"'SHALA DARPAN DATA'!T2836","v":0},{"$f":"'SHALA DARPAN DATA'!V2836","v":0},{"$f":"'SHALA DARPAN DATA'!K2836","v":0},{"$f":"'SHALA DARPAN DATA'!E2836","v":0},{"$f":"'SHALA DARPAN DATA'!G2836","v":0},{"$f":"'SHALA DARPAN DATA'!H2836","v":0},{"$f":"'SHALA DARPAN DATA'!W2836","v":0},{"$f":"'SHALA DARPAN DATA'!R2836","v":0},{"$f":"'SHALA DARPAN DATA'!S2836","v":0},{"$f":"'SHALA DARPAN DATA'!O2836","v":0},0,0,0,0,0,0,0,0,0,0,0]
[{"$f":"'SHALA DARPAN DATA'!C2841","v":0},{"$f":"'SHALA DARPAN DATA'!A2841","v":0},{"$f":"'SHALA DARPAN DATA'!B2841","v":0},{"$f":"'SHALA DARPAN DATA'!D2841","v":0},{"$f":"'SHALA DARPAN DATA'!J2841","v":0},{"$f":"'SHALA DARPAN DATA'!T2841","v":0},{"$f":"'SHALA DARPAN DATA'!V2841","v":0},{"$f":"'SHALA DARPAN DATA'!K2841","v":0},{"$f":"'SHALA DARPAN DATA'!E2841","v":0},{"$f":"'SHALA DARPAN DATA'!G2841","v":0},{"$f":"'SHALA DARPAN DATA'!H2841","v":0},{"$f":"'SHALA DARPAN DATA'!W2841","v":0},{"$f":"'SHALA DARPAN DATA'!R2841","v":0},{"$f":"'SHALA DARPAN DATA'!S2841","v":0},{"$f":"'SHALA DARPAN DATA'!O2841","v":0},0,0,0,0,0,0,0,0,0,0,0]
[{"$f":"'SHALA DARPAN DATA'!C2842","v":0},{"$f":"'SHALA DARPAN DATA'!A2842","v":0},{"$f":"'SHALA DARPAN DATA'!B2842","v":0},{"$f":"'SHALA DARPAN DATA'!D2842","v":0},{"$f":"'SHALA DARPAN DATA'!J2842","v":0},{"$f":"'SHALA DARPAN DATA'!T2842","v":0},{"$f":"'SHALA DARPAN DATA'!V2842","v":0},{"$f":"'SHALA DARPAN DATA'!K2842","v":0},{"$f":"'SHALA DARPAN DATA'!E2842","v":0},{"$f":"'SHALA DARPAN DATA'!G2842","v":0},{"$f":"'SHALA DARPAN DATA'!H2842","v":0},{"$f":"'SHALA DARPAN DATA'!W2842","v":0},{"$f":"'SHALA DARPAN DATA'!R2842","v":0},{"$f":"'SHALA DARPAN DATA'!S2842","v":0},{"$f":"'SHALA DARPAN DATA'!O2842","v":0},0,0,0,0,0,0,0,0,0,0,0]
[{"$f":"'SHALA DARPAN DATA'!C2848","v":0},{"$f":"'SHALA DARPAN DATA'!A2848","v":0},{"$f":"'SHALA DARPAN DATA'!B2848","v":0},{"$f":"'SHALA DARPAN DATA'!D2848","v":0},{"$f":"'SHALA DARPAN DATA'!J2848","v":0},{"$f":"'SHALA DARPAN DATA'!T2848","v":0},{"$f":"'SHALA DARPAN DATA'!V2848","v":0},{"$f":"'SHALA DARPAN DATA'!K2848","v":0},{"$f":"'SHALA DARPAN DATA'!E2848","v":0},{"$f":"'SHALA DARPAN DATA'!G2848","v":0},{"$f":"'SHALA DARPAN DATA'!H2848","v":0},{"$f":"'SHALA DARPAN DATA'!W2848","v":0},{"$f":"'SHALA DARPAN DATA'!R2848","v":0},{"$f":"'SHALA DARPAN DATA'!S2848","v":0},{"$f":"'SHALA DARPAN DATA'!O2848","v":0},0,0,0,0,0,0,0,0,0,0,0]
[{"$f":"'SHALA DARPAN DATA'!C2851","v":0},{"$f":"'SHALA DARPAN DATA'!A2851","v":0},{"$f":"'SHALA DARPAN DATA'!B2851","v":0},{"$f":"'SHALA DARPAN DATA'!D2851","v":0},{"$f":"'SHALA DARPAN DATA'!J2851","v":0},{"$f":"'SHALA DARPAN DATA'!T2851","v":0},{"$f":"'SHALA DARPAN DATA'!V2851","v":0},{"$f":"'SHALA DARPAN DATA'!K2851","v":0},{"$f":"'SHALA DARPAN DATA'!E2851","v":0},{"$f":"'SHALA DARPAN DATA'!G2851","v":0},{"$f":"'SHALA DARPAN DATA'!H2851","v":0},{"$f":"'SHALA DARPAN DATA'!W2851","v":0},{"$f":"'SHALA DARPAN DATA'!R2851","v":0},{"$f":"'SHALA DARPAN DATA'!S2851","v":0},{"$f":"'SHALA DARPAN DATA'!O2851","v":0},0,0,0,0,0,0,0,0,0,0,0]
[{"$f":"'SHALA DARPAN DATA'!C2856","v":0},{"$f":"'SHALA DARPAN DATA'!A2856","v":0},{"$f":"'SHALA DARPAN DATA'!B2856","v":0},{"$f":"'SHALA DARPAN DATA'!D2856","v":0},{"$f":"'SHALA DARPAN DATA'!J2856","v":0},{"$f":"'SHALA DARPAN DATA'!T2856","v":0},{"$f":"'SHALA DARPAN DATA'!V2856","v":0},{"$f":"'SHALA DARPAN DATA'!K2856","v":0},{"$f":"'SHALA DARPAN DATA'!E2856","v":0},{"$f":"'SHALA DARPAN DATA'!G2856","v":0},{"$f":"'SHALA DARPAN DATA'!H2856","v":0},{"$f":"'SHALA DARPAN DATA'!W2856","v":0},{"$f":"'SHALA DARPAN DATA'!R2856","v":0},{"$f":"'SHALA DARPAN DATA'!S2856","v":0},{"$f":"'SHALA DARPAN DATA'!O2856","v":0},0,0,0,0,0,0,0,0,0,0,0]
[{"$f":"'SHALA DARPAN DATA'!C2857","v":0},{"$f":"'SHALA DARPAN DATA'!A2857","v":0},{"$f":"'SHALA DARPAN DATA'!B2857","v":0},{"$f":"'SHALA DARPAN DATA'!D2857","v":0},{"$f":"'SHALA DARPAN DATA'!J2857","v":0},{"$f":"'SHALA DARPAN DATA'!T2857","v":0},{"$f":"'SHALA DARPAN DATA'!V2857","v":0},{"$f":"'SHALA DARPAN DATA'!K2857","v":0},{"$f":"'SHALA DARPAN DATA'!E2857","v":0},{"$f":"'SHALA DARPAN DATA'!G2857","v":0},{"$f":"'SHALA DARPAN DATA'!H2857","v":0},{"$f":"'SHALA DARPAN DATA'!W2857","v":0},{"$f":"'SHALA DARPAN DATA'!R2857","v":0},{"$f":"'SHALA DARPAN DATA'!S2857","v":0},{"$f":"'SHALA DARPAN DATA'!O2857","v":0},0,0,0,0,0,0,0,0,0,0,0]
[{"$f":"'SHALA DARPAN DATA'!C2862","v":0},{"$f":"'SHALA DARPAN DATA'!A2862","v":0},{"$f":"'SHALA DARPAN DATA'!B2862","v":0},{"$f":"'SHALA DARPAN DATA'!D2862","v":0},{"$f":"'SHALA DARPAN DATA'!J2862","v":0},{"$f":"'SHALA DARPAN DATA'!T2862","v":0},{"$f":"'SHALA DARPAN DATA'!V2862","v":0},{"$f":"'SHALA DARPAN DATA'!K2862","v":0},{"$f":"'SHALA DARPAN DATA'!E2862","v":0},{"$f":"'SHALA DARPAN DATA'!G2862","v":0},{"$f":"'SHALA DARPAN DATA'!H2862","v":0},{"$f":"'SHALA DARPAN DATA'!W2862","v":0},{"$f":"'SHALA DARPAN DATA'!R2862","v":0},{"$f":"'SHALA DARPAN DATA'!S2862","v":0},{"$f":"'SHALA DARPAN DATA'!O2862","v":0},0,0,0,0,0,0,0,0,0,0,0]
[{"$f":"'SHALA DARPAN DATA'!C2866","v":0},{"$f":"'SHALA DARPAN DATA'!A2866","v":0},{"$f":"'SHALA DARPAN DATA'!B2866","v":0},{"$f":"'SHALA DARPAN DATA'!D2866","v":0},{"$f":"'SHALA DARPAN DATA'!J2866","v":0},{"$f":"'SHALA DARPAN DATA'!T2866","v":0},{"$f":"'SHALA DARPAN DATA'!V2866","v":0},{"$f":"'SHALA DARPAN DATA'!K2866","v":0},{"$f":"'SHALA DARPAN DATA'!E2866","v":0},{"$f":"'SHALA DARPAN DATA'!G2866","v":0},{"$f":"'SHALA DARPAN DATA'!H2866","v":0},{"$f":"'SHALA DARPAN DATA'!W2866","v":0},{"$f":"'SHALA DARPAN DATA'!R2866","v":0},{"$f":"'SHALA DARPAN DATA'!S2866","v":0},{"$f":"'SHALA DARPAN DATA'!O2866","v":0},0,0,0,0,0,0,0,0,0,0,0]
[{"$f":"'SHALA DARPAN DATA'!C2871","v":0},{"$f":"'SHALA DARPAN DATA'!A2871","v":0},{"$f":"'SHALA DARPAN DATA'!B2871","v":0},{"$f":"'SHALA DARPAN DATA'!D2871","v":0},{"$f":"'SHALA DARPAN DATA'!J2871","v":0},{"$f":"'SHALA DARPAN DATA'!T2871","v":0},{"$f":"'SHALA DARPAN DATA'!V2871","v":0},{"$f":"'SHALA DARPAN DATA'!K2871","v":0},{"$f":"'SHALA DARPAN DATA'!E2871","v":0},{"$f":"'SHALA DARPAN DATA'!G2871","v":0},{"$f":"'SHALA DARPAN DATA'!H2871","v":0},{"$f":"'SHALA DARPAN DATA'!W2871","v":0},{"$f":"'SHALA DARPAN DATA'!R2871","v":0},{"$f":"'SHALA DARPAN DATA'!S2871","v":0},{"$f":"'SHALA DARPAN DATA'!O2871","v":0},0,0,0,0,0,0,0,0,0,0,0]
[{"$f":"'SHALA DARPAN DATA'!C2872","v":0},{"$f":"'SHALA DARPAN DATA'!A2872","v":0},{"$f":"'SHALA DARPAN DATA'!B2872","v":0},{"$f":"'SHALA DARPAN DATA'!D2872","v":0},{"$f":"'SHALA DARPAN DATA'!J2872","v":0},{"$f":"'SHALA DARPAN DATA'!T2872","v":0},{"$f":"'SHALA DARPAN DATA'!V2872","v":0},{"$f":"'SHALA DARPAN DATA'!K2872","v":0},{"$f":"'SHALA DARPAN DATA'!E2872","v":0},{"$f":"'SHALA DARPAN DATA'!G2872","v":0},{"$f":"'SHALA DARPAN DATA'!H2872","v":0},{"$f":"'SHALA DARPAN DATA'!W2872","v":0},{"$f":"'SHALA DARPAN DATA'!R2872","v":0},{"$f":"'SHALA DARPAN DATA'!S2872","v":0},{"$f":"'SHALA DARPAN DATA'!O2872","v":0},0,0,0,0,0,0,0,0,0,0,0]
[{"$f":"'SHALA DARPAN DATA'!C2878","v":0},{"$f":"'SHALA DARPAN DATA'!A2878","v":0},{"$f":"'SHALA DARPAN DATA'!B2878","v":0},{"$f":"'SHALA DARPAN DATA'!D2878","v":0},{"$f":"'SHALA DARPAN DATA'!J2878","v":0},{"$f":"'SHALA DARPAN DATA'!T2878","v":0},{"$f":"'SHALA DARPAN DATA'!V2878","v":0},{"$f":"'SHALA DARPAN DATA'!K2878","v":0},{"$f":"'SHALA DARPAN DATA'!E2878","v":0},{"$f":"'SHALA DARPAN DATA'!G2878","v":0},{"$f":"'SHALA DARPAN DATA'!H2878","v":0},{"$f":"'SHALA DARPAN DATA'!W2878","v":0},{"$f":"'SHALA DARPAN DATA'!R2878","v":0},{"$f":"'SHALA DARPAN DATA'!S2878","v":0},{"$f":"'SHALA DARPAN DATA'!O2878","v":0},0,0,0,0,0,0,0,0,0,0,0]
[{"$f":"'SHALA DARPAN DATA'!C2881","v":0},{"$f":"'SHALA DARPAN DATA'!A2881","v":0},{"$f":"'SHALA DARPAN DATA'!B2881","v":0},{"$f":"'SHALA DARPAN DATA'!D2881","v":0},{"$f":"'SHALA DARPAN DATA'!J2881","v":0},{"$f":"'SHALA DARPAN DATA'!T2881","v":0},{"$f":"'SHALA DARPAN DATA'!V2881","v":0},{"$f":"'SHALA DARPAN DATA'!K2881","v":0},{"$f":"'SHALA DARPAN DATA'!E2881","v":0},{"$f":"'SHALA DARPAN DATA'!G2881","v":0},{"$f":"'SHALA DARPAN DATA'!H2881","v":0},{"$f":"'SHALA DARPAN DATA'!W2881","v":0},{"$f":"'SHALA DARPAN DATA'!R2881","v":0},{"$f":"'SHALA DARPAN DATA'!S2881","v":0},{"$f":"'SHALA DARPAN DATA'!O2881","v":0},0,0,0,0,0,0,0,0,0,0,0]
[{"$f":"'SHALA DARPAN DATA'!C2886","v":0},{"$f":"'SHALA DARPAN DATA'!A2886","v":0},{"$f":"'SHALA DARPAN DATA'!B2886","v":0},{"$f":"'SHALA DARPAN DATA'!D2886","v":0},{"$f":"'SHALA DARPAN DATA'!J2886","v":0},{"$f":"'SHALA DARPAN DATA'!T2886","v":0},{"$f":"'SHALA DARPAN DATA'!V2886","v":0},{"$f":"'SHALA DARPAN DATA'!K2886","v":0},{"$f":"'SHALA DARPAN DATA'!E2886","v":0},{"$f":"'SHALA DARPAN DATA'!G2886","v":0},{"$f":"'SHALA DARPAN DATA'!H2886","v":0},{"$f":"'SHALA DARPAN DATA'!W2886","v":0},{"$f":"'SHALA DARPAN DATA'!R2886","v":0},{"$f":"'SHALA DARPAN DATA'!S2886","v":0},{"$f":"'SHALA DARPAN DATA'!O2886","v":0},0,0,0,0,0,0,0,0,0,0,0]
[{"$f":"'SHALA DARPAN DATA'!C2887","v":0},{"$f":"'SHALA DARPAN DATA'!A2887","v":0},{"$f":"'SHALA DARPAN DATA'!B2887","v":0},{"$f":"'SHALA DARPAN DATA'!D2887","v":0},{"$f":"'SHALA DARPAN DATA'!J2887","v":0},{"$f":"'SHALA DARPAN DATA'!T2887","v":0},{"$f":"'SHALA DARPAN DATA'!V2887","v":0},{"$f":"'SHALA DARPAN DATA'!K2887","v":0},{"$f":"'SHALA DARPAN DATA'!E2887","v":0},{"$f":"'SHALA DARPAN DATA'!G2887","v":0},{"$f":"'SHALA DARPAN DATA'!H2887","v":0},{"$f":"'SHALA DARPAN DATA'!W2887","v":0},{"$f":"'SHALA DARPAN DATA'!R2887","v":0},{"$f":"'SHALA DARPAN DATA'!S2887","v":0},{"$f":"'SHALA DARPAN DATA'!O2887","v":0},0,0,0,0,0,0,0,0,0,0,0]
[{"$f":"'SHALA DARPAN DATA'!C2892","v":0},{"$f":"'SHALA DARPAN DATA'!A2892","v":0},{"$f":"'SHALA DARPAN DATA'!B2892","v":0},{"$f":"'SHALA DARPAN DATA'!D2892","v":0},{"$f":"'SHALA DARPAN DATA'!J2892","v":0},{"$f":"'SHALA DARPAN DATA'!T2892","v":0},{"$f":"'SHALA DARPAN DATA'!V2892","v":0},{"$f":"'SHALA DARPAN DATA'!K2892","v":0},{"$f":"'SHALA DARPAN DATA'!E2892","v":0},{"$f":"'SHALA DARPAN DATA'!G2892","v":0},{"$f":"'SHALA DARPAN DATA'!H2892","v":0},{"$f":"'SHALA DARPAN DATA'!W2892","v":0},{"$f":"'SHALA DARPAN DATA'!R2892","v":0},{"$f":"'SHALA DARPAN DATA'!S2892","v":0},{"$f":"'SHALA DARPAN DATA'!O2892","v":0},0,0,0,0,0,0,0,0,0,0,0]
[{"$f":"'SHALA DARPAN DATA'!C2896","v":0},{"$f":"'SHALA DARPAN DATA'!A2896","v":0},{"$f":"'SHALA DARPAN DATA'!B2896","v":0},{"$f":"'SHALA DARPAN DATA'!D2896","v":0},{"$f":"'SHALA DARPAN DATA'!J2896","v":0},{"$f":"'SHALA DARPAN DATA'!T2896","v":0},{"$f":"'SHALA DARPAN DATA'!V2896","v":0},{"$f":"'SHALA DARPAN DATA'!K2896","v":0},{"$f":"'SHALA DARPAN DATA'!E2896","v":0},{"$f":"'SHALA DARPAN DATA'!G2896","v":0},{"$f":"'SHALA DARPAN DATA'!H2896","v":0},{"$f":"'SHALA DARPAN DATA'!W2896","v":0},{"$f":"'SHALA DARPAN DATA'!R2896","v":0},{"$f":"'SHALA DARPAN DATA'!S2896","v":0},{"$f":"'SHALA DARPAN DATA'!O2896","v":0},0,0,0,0,0,0,0,0,0,0,0]
[{"$f":"'SHALA DARPAN DATA'!C2901","v":0},{"$f":"'SHALA DARPAN DATA'!A2901","v":0},{"$f":"'SHALA DARPAN DATA'!B2901","v":0},{"$f":"'SHALA DARPAN DATA'!D2901","v":0},{"$f":"'SHALA DARPAN DATA'!J2901","v":0},{"$f":"'SHALA DARPAN DATA'!T2901","v":0},{"$f":"'SHALA DARPAN DATA'!V2901","v":0},{"$f":"'SHALA DARPAN DATA'!K2901","v":0},{"$f":"'SHALA DARPAN DATA'!E2901","v":0},{"$f":"'SHALA DARPAN DATA'!G2901","v":0},{"$f":"'SHALA DARPAN DATA'!H2901","v":0},{"$f":"'SHALA DARPAN DATA'!W2901","v":0},{"$f":"'SHALA DARPAN DATA'!R2901","v":0},{"$f":"'SHALA DARPAN DATA'!S2901","v":0},{"$f":"'SHALA DARPAN DATA'!O2901","v":0},0,0,0,0,0,0,0,0,0,0,0]
[{"$f":"'SHALA DARPAN DATA'!C2902","v":0},{"$f":"'SHALA DARPAN DATA'!A2902","v":0},{"$f":"'SHALA DARPAN DATA'!B2902","v":0},{"$f":"'SHALA DARPAN DATA'!D2902","v":0},{"$f":"'SHALA DARPAN DATA'!J2902","v":0},{"$f":"'SHALA DARPAN DATA'!T2902","v":0},{"$f":"'SHALA DARPAN DATA'!V2902","v":0},{"$f":"'SHALA DARPAN DATA'!K2902","v":0},{"$f":"'SHALA DARPAN DATA'!E2902","v":0},{"$f":"'SHALA DARPAN DATA'!G2902","v":0},{"$f":"'SHALA DARPAN DATA'!H2902","v":0},{"$f":"'SHALA DARPAN DATA'!W2902","v":0},{"$f":"'SHALA DARPAN DATA'!R2902","v":0},{"$f":"'SHALA DARPAN DATA'!S2902","v":0},{"$f":"'SHALA DARPAN DATA'!O2902","v":0},0,0,0,0,0,0,0,0,0,0,0]
[{"$f":"'SHALA DARPAN DATA'!C2906","v":0},{"$f":"'SHALA DARPAN DATA'!A2906","v":0},{"$f":"'SHALA DARPAN DATA'!B2906","v":0},{"$f":"'SHALA DARPAN DATA'!D2906","v":0},{"$f":"'SHALA DARPAN DATA'!J2906","v":0},{"$f":"'SHALA DARPAN DATA'!T2906","v":0},{"$f":"'SHALA DARPAN DATA'!V2906","v":0},{"$f":"'SHALA DARPAN DATA'!K2906","v":0},{"$f":"'SHALA DARPAN DATA'!E2906","v":0},{"$f":"'SHALA DARPAN DATA'!G2906","v":0},{"$f":"'SHALA DARPAN DATA'!H2906","v":0},{"$f":"'SHALA DARPAN DATA'!W2906","v":0},{"$f":"'SHALA DARPAN DATA'!R2906","v":0},{"$f":"'SHALA DARPAN DATA'!S2906","v":0},{"$f":"'SHALA DARPAN DATA'!O2906","v":0},0,0,0,0,0,0,0,0,0,0,0]
[{"$f":"'SHALA DARPAN DATA'!C2911","v":0},{"$f":"'SHALA DARPAN DATA'!A2911","v":0},{"$f":"'SHALA DARPAN DATA'!B2911","v":0},{"$f":"'SHALA DARPAN DATA'!D2911","v":0},{"$f":"'SHALA DARPAN DATA'!J2911","v":0},{"$f":"'SHALA DARPAN DATA'!T2911","v":0},{"$f":"'SHALA DARPAN DATA'!V2911","v":0},{"$f":"'SHALA DARPAN DATA'!K2911","v":0},{"$f":"'SHALA DARPAN DATA'!E2911","v":0},{"$f":"'SHALA DARPAN DATA'!G2911","v":0},{"$f":"'SHALA DARPAN DATA'!H2911","v":0},{"$f":"'SHALA DARPAN DATA'!W2911","v":0},{"$f":"'SHALA DARPAN DATA'!R2911","v":0},{"$f":"'SHALA DARPAN DATA'!S2911","v":0},{"$f":"'SHALA DARPAN DATA'!O2911","v":0},0,0,0,0,0,0,0,0,0,0,0]
[{"$f":"'SHALA DARPAN DATA'!C2916","v":0},{"$f":"'SHALA DARPAN DATA'!A2916","v":0},{"$f":"'SHALA DARPAN DATA'!B2916","v":0},{"$f":"'SHALA DARPAN DATA'!D2916","v":0},{"$f":"'SHALA DARPAN DATA'!J2916","v":0},{"$f":"'SHALA DARPAN DATA'!T2916","v":0},{"$f":"'SHALA DARPAN DATA'!V2916","v":0},{"$f":"'SHALA DARPAN DATA'!K2916","v":0},{"$f":"'SHALA DARPAN DATA'!E2916","v":0},{"$f":"'SHALA DARPAN DATA'!G2916","v":0},{"$f":"'SHALA DARPAN DATA'!H2916","v":0},{"$f":"'SHALA DARPAN DATA'!W2916","v":0},{"$f":"'SHALA DARPAN DATA'!R2916","v":0},{"$f":"'SHALA DARPAN DATA'!S2916","v":0},{"$f":"'SHALA DARPAN DATA'!O2916","v":0},0,0,0,0,0,0,0,0,0,0,0]
[{"$f":"'SHALA DARPAN DATA'!C2917","v":0},{"$f":"'SHALA DARPAN DATA'!A2917","v":0},{"$f":"'SHALA DARPAN DATA'!B2917","v":0},{"$f":"'SHALA DARPAN DATA'!D2917","v":0},{"$f":"'SHALA DARPAN DATA'!J2917","v":0},{"$f":"'SHALA DARPAN DATA'!T2917","v":0},{"$f":"'SHALA DARPAN DATA'!V2917","v":0},{"$f":"'SHALA DARPAN DATA'!K2917","v":0},{"$f":"'SHALA DARPAN DATA'!E2917","v":0},{"$f":"'SHALA DARPAN DATA'!G2917","v":0},{"$f":"'SHALA DARPAN DATA'!H2917","v":0},{"$f":"'SHALA DARPAN DATA'!W2917","v":0},{"$f":"'SHALA DARPAN DATA'!R2917","v":0},{"$f":"'SHALA DARPAN DATA'!S2917","v":0},{"$f":"'SHALA DARPAN DATA'!O2917","v":0},0,0,0,0,0,0,0,0,0,0,0]
[{"$f":"'SHALA DARPAN DATA'!C2922","v":0},{"$f":"'SHALA DARPAN DATA'!A2922","v":0},{"$f":"'SHALA DARPAN DATA'!B2922","v":0},{"$f":"'SHALA DARPAN DATA'!D2922","v":0},{"$f":"'SHALA DARPAN DATA'!J2922","v":0},{"$f":"'SHALA DARPAN DATA'!T2922","v":0},{"$f":"'SHALA DARPAN DATA'!V2922","v":0},{"$f":"'SHALA DARPAN DATA'!K2922","v":0},{"$f":"'SHALA DARPAN DATA'!E2922","v":0},{"$f":"'SHALA DARPAN DATA'!G2922","v":0},{"$f":"'SHALA DARPAN DATA'!H2922","v":0},{"$f":"'SHALA DARPAN DATA'!W2922","v":0},{"$f":"'SHALA DARPAN DATA'!R2922","v":0},{"$f":"'SHALA DARPAN DATA'!S2922","v":0},{"$f":"'SHALA DARPAN DATA'!O2922","v":0},0,0,0,0,0,0,0,0,0,0,0]
[{"$f":"'SHALA DARPAN DATA'!C2926","v":0},{"$f":"'SHALA DARPAN DATA'!A2926","v":0},{"$f":"'SHALA DARPAN DATA'!B2926","v":0},{"$f":"'SHALA DARPAN DATA'!D2926","v":0},{"$f":"'SHALA DARPAN DATA'!J2926","v":0},{"$f":"'SHALA DARPAN DATA'!T2926","v":0},{"$f":"'SHALA DARPAN DATA'!V2926","v":0},{"$f":"'SHALA DARPAN DATA'!K2926","v":0},{"$f":"'SHALA DARPAN DATA'!E2926","v":0},{"$f":"'SHALA DARPAN DATA'!G2926","v":0},{"$f":"'SHALA DARPAN DATA'!H2926","v":0},{"$f":"'SHALA DARPAN DATA'!W2926","v":0},{"$f":"'SHALA DARPAN DATA'!R2926","v":0},{"$f":"'SHALA DARPAN DATA'!S2926","v":0},{"$f":"'SHALA DARPAN DATA'!O2926","v":0},0,0,0,0,0,0,0,0,0,0,0]
[{"$f":"'SHALA DARPAN DATA'!C2931","v":0},{"$f":"'SHALA DARPAN DATA'!A2931","v":0},{"$f":"'SHALA DARPAN DATA'!B2931","v":0},{"$f":"'SHALA DARPAN DATA'!D2931","v":0},{"$f":"'SHALA DARPAN DATA'!J2931","v":0},{"$f":"'SHALA DARPAN DATA'!T2931","v":0},{"$f":"'SHALA DARPAN DATA'!V2931","v":0},{"$f":"'SHALA DARPAN DATA'!K2931","v":0},{"$f":"'SHALA DARPAN DATA'!E2931","v":0},{"$f":"'SHALA DARPAN DATA'!G2931","v":0},{"$f":"'SHALA DARPAN DATA'!H2931","v":0},{"$f":"'SHALA DARPAN DATA'!W2931","v":0},{"$f":"'SHALA DARPAN DATA'!R2931","v":0},{"$f":"'SHALA DARPAN DATA'!S2931","v":0},{"$f":"'SHALA DARPAN DATA'!O2931","v":0},0,0,0,0,0,0,0,0,0,0,0]
[{"$f":"'SHALA DARPAN DATA'!C2932","v":0},{"$f":"'SHALA DARPAN DATA'!A2932","v":0},{"$f":"'SHALA DARPAN DATA'!B2932","v":0},{"$f":"'SHALA DARPAN DATA'!D2932","v":0},{"$f":"'SHALA DARPAN DATA'!J2932","v":0},{"$f":"'SHALA DARPAN DATA'!T2932","v":0},{"$f":"'SHALA DARPAN DATA'!V2932","v":0},{"$f":"'SHALA DARPAN DATA'!K2932","v":0},{"$f":"'SHALA DARPAN DATA'!E2932","v":0},{"$f":"'SHALA DARPAN DATA'!G2932","v":0},{"$f":"'SHALA DARPAN DATA'!H2932","v":0},{"$f":"'SHALA DARPAN DATA'!W2932","v":0},{"$f":"'SHALA DARPAN DATA'!R2932","v":0},{"$f":"'SHALA DARPAN DATA'!S2932","v":0},{"$f":"'SHALA DARPAN DATA'!O2932","v":0},0,0,0,0,0,0,0,0,0,0,0]
[{"$f":"'SHALA DARPAN DATA'!C2936","v":0},{"$f":"'SHALA DARPAN DATA'!A2936","v":0},{"$f":"'SHALA DARPAN DATA'!B2936","v":0},{"$f":"'SHALA DARPAN DATA'!D2936","v":0},{"$f":"'SHALA DARPAN DATA'!J2936","v":0},{"$f":"'SHALA DARPAN DATA'!T2936","v":0},{"$f":"'SHALA DARPAN DATA'!V2936","v":0},{"$f":"'SHALA DARPAN DATA'!K2936","v":0},{"$f":"'SHALA DARPAN DATA'!E2936","v":0},{"$f":"'SHALA DARPAN DATA'!G2936","v":0},{"$f":"'SHALA DARPAN DATA'!H2936","v":0},{"$f":"'SHALA DARPAN DATA'!W2936","v":0},{"$f":"'SHALA DARPAN DATA'!R2936","v":0},{"$f":"'SHALA DARPAN DATA'!S2936","v":0},{"$f":"'SHALA DARPAN DATA'!O2936","v":0},0,0,0,0,0,0,0,0,0,0,0]
[{"$f":"'SHALA DARPAN DATA'!C2941","v":0},{"$f":"'SHALA DARPAN DATA'!A2941","v":0},{"$f":"'SHALA DARPAN DATA'!B2941","v":0},{"$f":"'SHALA DARPAN DATA'!D2941","v":0},{"$f":"'SHALA DARPAN DATA'!J2941","v":0},{"$f":"'SHALA DARPAN DATA'!T2941","v":0},{"$f":"'SHALA DARPAN DATA'!V2941","v":0},{"$f":"'SHALA DARPAN DATA'!K2941","v":0},{"$f":"'SHALA DARPAN DATA'!E2941","v":0},{"$f":"'SHALA DARPAN DATA'!G2941","v":0},{"$f":"'SHALA DARPAN DATA'!H2941","v":0},{"$f":"'SHALA DARPAN DATA'!W2941","v":0},{"$f":"'SHALA DARPAN DATA'!R2941","v":0},{"$f":"'SHALA DARPAN DATA'!S2941","v":0},{"$f":"'SHALA DARPAN DATA'!O2941","v":0},0,0,0,0,0,0,0,0,0,0,0]
[{"$f":"'SHALA DARPAN DATA'!C2946","v":0},{"$f":"'SHALA DARPAN DATA'!A2946","v":0},{"$f":"'SHALA DARPAN DATA'!B2946","v":0},{"$f":"'SHALA DARPAN DATA'!D2946","v":0},{"$f":"'SHALA DARPAN DATA'!J2946","v":0},{"$f":"'SHALA DARPAN DATA'!T2946","v":0},{"$f":"'SHALA DARPAN DATA'!V2946","v":0},{"$f":"'SHALA DARPAN DATA'!K2946","v":0},{"$f":"'SHALA DARPAN DATA'!E2946","v":0},{"$f":"'SHALA DARPAN DATA'!G2946","v":0},{"$f":"'SHALA DARPAN DATA'!H2946","v":0},{"$f":"'SHALA DARPAN DATA'!W2946","v":0},{"$f":"'SHALA DARPAN DATA'!R2946","v":0},{"$f":"'SHALA DARPAN DATA'!S2946","v":0},{"$f":"'SHALA DARPAN DATA'!O2946","v":0},0,0,0,0,0,0,0,0,0,0,0]
[{"$f":"'SHALA DARPAN DATA'!C2947","v":0},{"$f":"'SHALA DARPAN DATA'!A2947","v":0},{"$f":"'SHALA DARPAN DATA'!B2947","v":0},{"$f":"'SHALA DARPAN DATA'!D2947","v":0},{"$f":"'SHALA DARPAN DATA'!J2947","v":0},{"$f":"'SHALA DARPAN DATA'!T2947","v":0},{"$f":"'SHALA DARPAN DATA'!V2947","v":0},{"$f":"'SHALA DARPAN DATA'!K2947","v":0},{"$f":"'SHALA DARPAN DATA'!E2947","v":0},{"$f":"'SHALA DARPAN DATA'!G2947","v":0},{"$f":"'SHALA DARPAN DATA'!H2947","v":0},{"$f":"'SHALA DARPAN DATA'!W2947","v":0},{"$f":"'SHALA DARPAN DATA'!R2947","v":0},{"$f":"'SHALA DARPAN DATA'!S2947","v":0},{"$f":"'SHALA DARPAN DATA'!O2947","v":0},0,0,0,0,0,0,0,0,0,0,0]
[{"$f":"'SHALA DARPAN DATA'!C2952","v":0},{"$f":"'SHALA DARPAN DATA'!A2952","v":0},{"$f":"'SHALA DARPAN DATA'!B2952","v":0},{"$f":"'SHALA DARPAN DATA'!D2952","v":0},{"$f":"'SHALA DARPAN DATA'!J2952","v":0},{"$f":"'SHALA DARPAN DATA'!T2952","v":0},{"$f":"'SHALA DARPAN DATA'!V2952","v":0},{"$f":"'SHALA DARPAN DATA'!K2952","v":0},{"$f":"'SHALA DARPAN DATA'!E2952","v":0},{"$f":"'SHALA DARPAN DATA'!G2952","v":0},{"$f":"'SHALA DARPAN DATA'!H2952","v":0},{"$f":"'SHALA DARPAN DATA'!W2952","v":0},{"$f":"'SHALA DARPAN DATA'!R2952","v":0},{"$f":"'SHALA DARPAN DATA'!S2952","v":0},{"$f":"'SHALA DARPAN DATA'!O2952","v":0},0,0,0,0,0,0,0,0,0,0,0]
[{"$f":"'SHALA DARPAN DATA'!C2956","v":0},{"$f":"'SHALA DARPAN DATA'!A2956","v":0},{"$f":"'SHALA DARPAN DATA'!B2956","v":0},{"$f":"'SHALA DARPAN DATA'!D2956","v":0},{"$f":"'SHALA DARPAN DATA'!J2956","v":0},{"$f":"'SHALA DARPAN DATA'!T2956","v":0},{"$f":"'SHALA DARPAN DATA'!V2956","v":0},{"$f":"'SHALA DARPAN DATA'!K2956","v":0},{"$f":"'SHALA DARPAN DATA'!E2956","v":0},{"$f":"'SHALA DARPAN DATA'!G2956","v":0},{"$f":"'SHALA DARPAN DATA'!H2956","v":0},{"$f":"'SHALA DARPAN DATA'!W2956","v":0},{"$f":"'SHALA DARPAN DATA'!R2956","v":0},{"$f":"'SHALA DARPAN DATA'!S2956","v":0},{"$f":"'SHALA DARPAN DATA'!O2956","v":0},0,0,0,0,0,0,0,0,0,0,0]
[{"$f":"'SHALA DARPAN DATA'!C2961","v":0},{"$f":"'SHALA DARPAN DATA'!A2961","v":0},{"$f":"'SHALA DARPAN DATA'!B2961","v":0},{"$f":"'SHALA DARPAN DATA'!D2961","v":0},{"$f":"'SHALA DARPAN DATA'!J2961","v":0},{"$f":"'SHALA DARPAN DATA'!T2961","v":0},{"$f":"'SHALA DARPAN DATA'!V2961","v":0},{"$f":"'SHALA DARPAN DATA'!K2961","v":0},{"$f":"'SHALA DARPAN DATA'!E2961","v":0},{"$f":"'SHALA DARPAN DATA'!G2961","v":0},{"$f":"'SHALA DARPAN DATA'!H2961","v":0},{"$f":"'SHALA DARPAN DATA'!W2961","v":0},{"$f":"'SHALA DARPAN DATA'!R2961","v":0},{"$f":"'SHALA DARPAN DATA'!S2961","v":0},{"$f":"'SHALA DARPAN DATA'!O2961","v":0},0,0,0,0,0,0,0,0,0,0,0]
[{"$f":"'SHALA DARPAN DATA'!C2962","v":0},{"$f":"'SHALA DARPAN DATA'!A2962","v":0},{"$f":"'SHALA DARPAN DATA'!B2962","v":0},{"$f":"'SHALA DARPAN DATA'!D2962","v":0},{"$f":"'SHALA DARPAN DATA'!J2962","v":0},{"$f":"'SHALA DARPAN DATA'!T2962","v":0},{"$f":"'SHALA DARPAN DATA'!V2962","v":0},{"$f":"'SHALA DARPAN DATA'!K2962","v":0},{"$f":"'SHALA DARPAN DATA'!E2962","v":0},{"$f":"'SHALA DARPAN DATA'!G2962","v":0},{"$f":"'SHALA DARPAN DATA'!H2962","v":0},{"$f":"'SHALA DARPAN DATA'!W2962","v":0},{"$f":"'SHALA DARPAN DATA'!R2962","v":0},{"$f":"'SHALA DARPAN DATA'!S2962","v":0},{"$f":"'SHALA DARPAN DATA'!O2962","v":0},0,0,0,0,0,0,0,0,0,0,0]
[{"$f":"'SHALA DARPAN DATA'!C2966","v":0},{"$f":"'SHALA DARPAN DATA'!A2966","v":0},{"$f":"'SHALA DARPAN DATA'!B2966","v":0},{"$f":"'SHALA DARPAN DATA'!D2966","v":0},{"$f":"'SHALA DARPAN DATA'!J2966","v":0},{"$f":"'SHALA DARPAN DATA'!T2966","v":0},{"$f":"'SHALA DARPAN DATA'!V2966","v":0},{"$f":"'SHALA DARPAN DATA'!K2966","v":0},{"$f":"'SHALA DARPAN DATA'!E2966","v":0},{"$f":"'SHALA DARPAN DATA'!G2966","v":0},{"$f":"'SHALA DARPAN DATA'!H2966","v":0},{"$f":"'SHALA DARPAN DATA'!W2966","v":0},{"$f":"'SHALA DARPAN DATA'!R2966","v":0},{"$f":"'SHALA DARPAN DATA'!S2966","v":0},{"$f":"'SHALA DARPAN DATA'!O2966","v":0},0,0,0,0,0,0,0,0,0,0,0]
[{"$f":"'SHALA DARPAN DATA'!C2971","v":0},{"$f":"'SHALA DARPAN DATA'!A2971","v":0},{"$f":"'SHALA DARPAN DATA'!B2971","v":0},{"$f":"'SHALA DARPAN DATA'!D2971","v":0},{"$f":"'SHALA DARPAN DATA'!J2971","v":0},{"$f":"'SHALA DARPAN DATA'!T2971","v":0},{"$f":"'SHALA DARPAN DATA'!V2971","v":0},{"$f":"'SHALA DARPAN DATA'!K2971","v":0},{"$f":"'SHALA DARPAN DATA'!E2971","v":0},{"$f":"'SHALA DARPAN DATA'!G2971","v":0},{"$f":"'SHALA DARPAN DATA'!H2971","v":0},{"$f":"'SHALA DARPAN DATA'!W2971","v":0},{"$f":"'SHALA DARPAN DATA'!R2971","v":0},{"$f":"'SHALA DARPAN DATA'!S2971","v":0},{"$f":"'SHALA DARPAN DATA'!O2971","v":0},0,0,0,0,0,0,0,0,0,0,0]
[{"$f":"'SHALA DARPAN DATA'!C2976","v":0},{"$f":"'SHALA DARPAN DATA'!A2976","v":0},{"$f":"'SHALA DARPAN DATA'!B2976","v":0},{"$f":"'SHALA DARPAN DATA'!D2976","v":0},{"$f":"'SHALA DARPAN DATA'!J2976","v":0},{"$f":"'SHALA DARPAN DATA'!T2976","v":0},{"$f":"'SHALA DARPAN DATA'!V2976","v":0},{"$f":"'SHALA DARPAN DATA'!K2976","v":0},{"$f":"'SHALA DARPAN DATA'!E2976","v":0},{"$f":"'SHALA DARPAN DATA'!G2976","v":0},{"$f":"'SHALA DARPAN DATA'!H2976","v":0},{"$f":"'SHALA DARPAN DATA'!W2976","v":0},{"$f":"'SHALA DARPAN DATA'!R2976","v":0},{"$f":"'SHALA DARPAN DATA'!S2976","v":0},{"$f":"'SHALA DARPAN DATA'!O2976","v":0},0,0,0,0,0,0,0,0,0,0,0]
[{"$f":"'SHALA DARPAN DATA'!C2977","v":0},{"$f":"'SHALA DARPAN DATA'!A2977","v":0},{"$f":"'SHALA DARPAN DATA'!B2977","v":0},{"$f":"'SHALA DARPAN DATA'!D2977","v":0},{"$f":"'SHALA DARPAN DATA'!J2977","v":0},{"$f":"'SHALA DARPAN DATA'!T2977","v":0},{"$f":"'SHALA DARPAN DATA'!V2977","v":0},{"$f":"'SHALA DARPAN DATA'!K2977","v":0},{"$f":"'SHALA DARPAN DATA'!E2977","v":0},{"$f":"'SHALA DARPAN DATA'!G2977","v":0},{"$f":"'SHALA DARPAN DATA'!H2977","v":0},{"$f":"'SHALA DARPAN DATA'!W2977","v":0},{"$f":"'SHALA DARPAN DATA'!R2977","v":0},{"$f":"'SHALA DARPAN DATA'!S2977","v":0},{"$f":"'SHALA DARPAN DATA'!O2977","v":0},0,0,0,0,0,0,0,0,0,0,0]
[{"$f":"'SHALA DARPAN DATA'!C2982","v":0},{"$f":"'SHALA DARPAN DATA'!A2982","v":0},{"$f":"'SHALA DARPAN DATA'!B2982","v":0},{"$f":"'SHALA DARPAN DATA'!D2982","v":0},{"$f":"'SHALA DARPAN DATA'!J2982","v":0},{"$f":"'SHALA DARPAN DATA'!T2982","v":0},{"$f":"'SHALA DARPAN DATA'!V2982","v":0},{"$f":"'SHALA DARPAN DATA'!K2982","v":0},{"$f":"'SHALA DARPAN DATA'!E2982","v":0},{"$f":"'SHALA DARPAN DATA'!G2982","v":0},{"$f":"'SHALA DARPAN DATA'!H2982","v":0},{"$f":"'SHALA DARPAN DATA'!W2982","v":0},{"$f":"'SHALA DARPAN DATA'!R2982","v":0},{"$f":"'SHALA DARPAN DATA'!S2982","v":0},{"$f":"'SHALA DARPAN DATA'!O2982","v":0},0,0,0,0,0,0,0,0,0,0,0]
[{"$f":"'SHALA DARPAN DATA'!C2986","v":0},{"$f":"'SHALA DARPAN DATA'!A2986","v":0},{"$f":"'SHALA DARPAN DATA'!B2986","v":0},{"$f":"'SHALA DARPAN DATA'!D2986","v":0},{"$f":"'SHALA DARPAN DATA'!J2986","v":0},{"$f":"'SHALA DARPAN DATA'!T2986","v":0},{"$f":"'SHALA DARPAN DATA'!V2986","v":0},{"$f":"'SHALA DARPAN DATA'!K2986","v":0},{"$f":"'SHALA DARPAN DATA'!E2986","v":0},{"$f":"'SHALA DARPAN DATA'!G2986","v":0},{"$f":"'SHALA DARPAN DATA'!H2986","v":0},{"$f":"'SHALA DARPAN DATA'!W2986","v":0},{"$f":"'SHALA DARPAN DATA'!R2986","v":0},{"$f":"'SHALA DARPAN DATA'!S2986","v":0},{"$f":"'SHALA DARPAN DATA'!O2986","v":0},0,0,0,0,0,0,0,0,0,0,0]
[{"$f":"'SHALA DARPAN DATA'!C2991","v":0},{"$f":"'SHALA DARPAN DATA'!A2991","v":0},{"$f":"'SHALA DARPAN DATA'!B2991","v":0},{"$f":"'SHALA DARPAN DATA'!D2991","v":0},{"$f":"'SHALA DARPAN DATA'!J2991","v":0},{"$f":"'SHALA DARPAN DATA'!T2991","v":0},{"$f":"'SHALA DARPAN DATA'!V2991","v":0},{"$f":"'SHALA DARPAN DATA'!K2991","v":0},{"$f":"'SHALA DARPAN DATA'!E2991","v":0},{"$f":"'SHALA DARPAN DATA'!G2991","v":0},{"$f":"'SHALA DARPAN DATA'!H2991","v":0},{"$f":"'SHALA DARPAN DATA'!W2991","v":0},{"$f":"'SHALA DARPAN DATA'!R2991","v":0},{"$f":"'SHALA DARPAN DATA'!S2991","v":0},{"$f":"'SHALA DARPAN DATA'!O2991","v":0},0,0,0,0,0,0,0,0,0,0,0]
[{"$f":"'SHALA DARPAN DATA'!C2992","v":0},{"$f":"'SHALA DARPAN DATA'!A2992","v":0},{"$f":"'SHALA DARPAN DATA'!B2992","v":0},{"$f":"'SHALA DARPAN DATA'!D2992","v":0},{"$f":"'SHALA DARPAN DATA'!J2992","v":0},{"$f":"'SHALA DARPAN DATA'!T2992","v":0},{"$f":"'SHALA DARPAN DATA'!V2992","v":0},{"$f":"'SHALA DARPAN DATA'!K2992","v":0},{"$f":"'SHALA DARPAN DATA'!E2992","v":0},{"$f":"'SHALA DARPAN DATA'!G2992","v":0},{"$f":"'SHALA DARPAN DATA'!H2992","v":0},{"$f":"'SHALA DARPAN DATA'!W2992","v":0},{"$f":"'SHALA DARPAN DATA'!R2992","v":0},{"$f":"'SHALA DARPAN DATA'!S2992","v":0},{"$f":"'SHALA DARPAN DATA'!O2992","v":0},0,0,0,0,0,0,0,0,0,0,0]
[{"$f":"'SHALA DARPAN DATA'!C2996","v":0},{"$f":"'SHALA DARPAN DATA'!A2996","v":0},{"$f":"'SHALA DARPAN DATA'!B2996","v":0},{"$f":"'SHALA DARPAN DATA'!D2996","v":0},{"$f":"'SHALA DARPAN DATA'!J2996","v":0},{"$f":"'SHALA DARPAN DATA'!T2996","v":0},{"$f":"'SHALA DARPAN DATA'!V2996","v":0},{"$f":"'SHALA DARPAN DATA'!K2996","v":0},{"$f":"'SHALA DARPAN DATA'!E2996","v":0},{"$f":"'SHALA DARPAN DATA'!G2996","v":0},{"$f":"'SHALA DARPAN DATA'!H2996","v":0},{"$f":"'SHALA DARPAN DATA'!W2996","v":0},{"$f":"'SHALA DARPAN DATA'!R2996","v":0},{"$f":"'SHALA DARPAN DATA'!S2996","v":0},{"$f":"'SHALA DARPAN DATA'!O2996","v":0},0,0,0,0,0,0,0,0,0,0,0]
[{"$f":"'SHALA DARPAN DATA'!C3001","v":0},{"$f":"'SHALA DARPAN DATA'!A3001","v":0},{"$f":"'SHALA DARPAN DATA'!B3001","v":0},{"$f":"'SHALA DARPAN DATA'!D3001","v":0},{"$f":"'SHALA DARPAN DATA'!J3001","v":0},{"$f":"'SHALA DARPAN DATA'!T3001","v":0},{"$f":"'SHALA DARPAN DATA'!V3001","v":0},{"$f":"'SHALA DARPAN DATA'!K3001","v":0},{"$f":"'SHALA DARPAN DATA'!E3001","v":0},{"$f":"'SHALA DARPAN DATA'!G3001","v":0},{"$f":"'SHALA DARPAN DATA'!H3001","v":0},{"$f":"'SHALA DARPAN DATA'!W3001","v":0},{"$f":"'SHALA DARPAN DATA'!R3001","v":0},{"$f":"'SHALA DARPAN DATA'!S3001","v":0},{"$f":"'SHALA DARPAN DATA'!O3001","v":0},0,0,0,0,0,0,0,0,0,0,0]
[{"$f":"'SHALA DARPAN DATA'!C3006","v":0},{"$f":"'SHALA DARPAN DATA'!A3006","v":0},{"$f":"'SHALA DARPAN DATA'!B3006","v":0},{"$f":"'SHALA DARPAN DATA'!D3006","v":0},{"$f":"'SHALA DARPAN DATA'!J3006","v":0},{"$f":"'SHALA DARPAN DATA'!T3006","v":0},{"$f":"'SHALA DARPAN DATA'!V3006","v":0},{"$f":"'SHALA DARPAN DATA'!K3006","v":0},{"$f":"'SHALA DARPAN DATA'!E3006","v":0},{"$f":"'SHALA DARPAN DATA'!G3006","v":0},{"$f":"'SHALA DARPAN DATA'!H3006","v":0},{"$f":"'SHALA DARPAN DATA'!W3006","v":0},{"$f":"'SHALA DARPAN DATA'!R3006","v":0},{"$f":"'SHALA DARPAN DATA'!S3006","v":0},{"$f":"'SHALA DARPAN DATA'!O3006","v":0},0,0,0,0,0,0,0,0,0,0,0]
[{"$f":"'SHALA DARPAN DATA'!C3007","v":0},{"$f":"'SHALA DARPAN DATA'!A3007","v":0},{"$f":"'SHALA DARPAN DATA'!B3007","v":0},{"$f":"'SHALA DARPAN DATA'!D3007","v":0},{"$f":"'SHALA DARPAN DATA'!J3007","v":0},{"$f":"'SHALA DARPAN DATA'!T3007","v":0},{"$f":"'SHALA DARPAN DATA'!V3007","v":0},{"$f":"'SHALA DARPAN DATA'!K3007","v":0},{"$f":"'SHALA DARPAN DATA'!E3007","v":0},{"$f":"'SHALA DARPAN DATA'!G3007","v":0},{"$f":"'SHALA DARPAN DATA'!H3007","v":0},{"$f":"'SHALA DARPAN DATA'!W3007","v":0},{"$f":"'SHALA DARPAN DATA'!R3007","v":0},{"$f":"'SHALA DARPAN DATA'!S3007","v":0},{"$f":"'SHALA DARPAN DATA'!O3007","v":0},0,0,0,0,0,0,0,0,0,0,0]
[{"$f":"'SHALA DARPAN DATA'!C3012","v":0},{"$f":"'SHALA DARPAN DATA'!A3012","v":0},{"$f":"'SHALA DARPAN DATA'!B3012","v":0},{"$f":"'SHALA DARPAN DATA'!D3012","v":0},{"$f":"'SHALA DARPAN DATA'!J3012","v":0},{"$f":"'SHALA DARPAN DATA'!T3012","v":0},{"$f":"'SHALA DARPAN DATA'!V3012","v":0},{"$f":"'SHALA DARPAN DATA'!K3012","v":0},{"$f":"'SHALA DARPAN DATA'!E3012","v":0},{"$f":"'SHALA DARPAN DATA'!G3012","v":0},{"$f":"'SHALA DARPAN DATA'!H3012","v":0},{"$f":"'SHALA DARPAN DATA'!W3012","v":0},{"$f":"'SHALA DARPAN DATA'!R3012","v":0},{"$f":"'SHALA DARPAN DATA'!S3012","v":0},{"$f":"'SHALA DARPAN DATA'!O3012","v":0},0,0,0,0,0,0,0,0,0,0,0]
[{"$f":"'SHALA DARPAN DATA'!C3016","v":0},{"$f":"'SHALA DARPAN DATA'!A3016","v":0},{"$f":"'SHALA DARPAN DATA'!B3016","v":0},{"$f":"'SHALA DARPAN DATA'!D3016","v":0},{"$f":"'SHALA DARPAN DATA'!J3016","v":0},{"$f":"'SHALA DARPAN DATA'!T3016","v":0},{"$f":"'SHALA DARPAN DATA'!V3016","v":0},{"$f":"'SHALA DARPAN DATA'!K3016","v":0},{"$f":"'SHALA DARPAN DATA'!E3016","v":0},{"$f":"'SHALA DARPAN DATA'!G3016","v":0},{"$f":"'SHALA DARPAN DATA'!H3016","v":0},{"$f":"'SHALA DARPAN DATA'!W3016","v":0},{"$f":"'SHALA DARPAN DATA'!R3016","v":0},{"$f":"'SHALA DARPAN DATA'!S3016","v":0},{"$f":"'SHALA DARPAN DATA'!O3016","v":0},0,0,0,0,0,0,0,0,0,0,0]
[{"$f":"'SHALA DARPAN DATA'!C3021","v":0},{"$f":"'SHALA DARPAN DATA'!A3021","v":0},{"$f":"'SHALA DARPAN DATA'!B3021","v":0},{"$f":"'SHALA DARPAN DATA'!D3021","v":0},{"$f":"'SHALA DARPAN DATA'!J3021","v":0},{"$f":"'SHALA DARPAN DATA'!T3021","v":0},{"$f":"'SHALA DARPAN DATA'!V3021","v":0},{"$f":"'SHALA DARPAN DATA'!K3021","v":0},{"$f":"'SHALA DARPAN DATA'!E3021","v":0},{"$f":"'SHALA DARPAN DATA'!G3021","v":0},{"$f":"'SHALA DARPAN DATA'!H3021","v":0},{"$f":"'SHALA DARPAN DATA'!W3021","v":0},{"$f":"'SHALA DARPAN DATA'!R3021","v":0},{"$f":"'SHALA DARPAN DATA'!S3021","v":0},{"$f":"'SHALA DARPAN DATA'!O3021","v":0},0,0,0,0,0,0,0,0,0,0,0]
[{"$f":"'SHALA DARPAN DATA'!C3022","v":0},{"$f":"'SHALA DARPAN DATA'!A3022","v":0},{"$f":"'SHALA DARPAN DATA'!B3022","v":0},{"$f":"'SHALA DARPAN DATA'!D3022","v":0},{"$f":"'SHALA DARPAN DATA'!J3022","v":0},{"$f":"'SHALA DARPAN DATA'!T3022","v":0},{"$f":"'SHALA DARPAN DATA'!V3022","v":0},{"$f":"'SHALA DARPAN DATA'!K3022","v":0},{"$f":"'SHALA DARPAN DATA'!E3022","v":0},{"$f":"'SHALA DARPAN DATA'!G3022","v":0},{"$f":"'SHALA DARPAN DATA'!H3022","v":0},{"$f":"'SHALA DARPAN DATA'!W3022","v":0},{"$f":"'SHALA DARPAN DATA'!R3022","v":0},{"$f":"'SHALA DARPAN DATA'!S3022","v":0},{"$f":"'SHALA DARPAN DATA'!O3022","v":0},0,0,0,0,0,0,0,0,0,0,0]
[{"$f":"'SHALA DARPAN DATA'!C3026","v":0},{"$f":"'SHALA DARPAN DATA'!A3026","v":0},{"$f":"'SHALA DARPAN DATA'!B3026","v":0},{"$f":"'SHALA DARPAN DATA'!D3026","v":0},{"$f":"'SHALA DARPAN DATA'!J3026","v":0},{"$f":"'SHALA DARPAN DATA'!T3026","v":0},{"$f":"'SHALA DARPAN DATA'!V3026","v":0},{"$f":"'SHALA DARPAN DATA'!K3026","v":0},{"$f":"'SHALA DARPAN DATA'!E3026","v":0},{"$f":"'SHALA DARPAN DATA'!G3026","v":0},{"$f":"'SHALA DARPAN DATA'!H3026","v":0},{"$f":"'SHALA DARPAN DATA'!W3026","v":0},{"$f":"'SHALA DARPAN DATA'!R3026","v":0},{"$f":"'SHALA DARPAN DATA'!S3026","v":0},{"$f":"'SHALA DARPAN DATA'!O3026","v":0},0,0,0,0,0,0,0,0,0,0,0]
[{"$f":"'SHALA DARPAN DATA'!C3031","v":0},{"$f":"'SHALA DARPAN DATA'!A3031","v":0},{"$f":"'SHALA DARPAN DATA'!B3031","v":0},{"$f":"'SHALA DARPAN DATA'!D3031","v":0},{"$f":"'SHALA DARPAN DATA'!J3031","v":0},{"$f":"'SHALA DARPAN DATA'!T3031","v":0},{"$f":"'SHALA DARPAN DATA'!V3031","v":0},{"$f":"'SHALA DARPAN DATA'!K3031","v":0},{"$f":"'SHALA DARPAN DATA'!E3031","v":0},{"$f":"'SHALA DARPAN DATA'!G3031","v":0},{"$f":"'SHALA DARPAN DATA'!H3031","v":0},{"$f":"'SHALA DARPAN DATA'!W3031","v":0},{"$f":"'SHALA DARPAN DATA'!R3031","v":0},{"$f":"'SHALA DARPAN DATA'!S3031","v":0},{"$f":"'SHALA DARPAN DATA'!O3031","v":0},0,0,0,0,0,0,0,0,0,0,0]
[{"$f":"'SHALA DARPAN DATA'!C3036","v":0},{"$f":"'SHALA DARPAN DATA'!A3036","v":0},{"$f":"'SHALA DARPAN DATA'!B3036","v":0},{"$f":"'SHALA DARPAN DATA'!D3036","v":0},{"$f":"'SHALA DARPAN DATA'!J3036","v":0},{"$f":"'SHALA DARPAN DATA'!T3036","v":0},{"$f":"'SHALA DARPAN DATA'!V3036","v":0},{"$f":"'SHALA DARPAN DATA'!K3036","v":0},{"$f":"'SHALA DARPAN DATA'!E3036","v":0},{"$f":"'SHALA DARPAN DATA'!G3036","v":0},{"$f":"'SHALA DARPAN DATA'!H3036","v":0},{"$f":"'SHALA DARPAN DATA'!W3036","v":0},{"$f":"'SHALA DARPAN DATA'!R3036","v":0},{"$f":"'SHALA DARPAN DATA'!S3036","v":0},{"$f":"'SHALA DARPAN DATA'!O3036","v":0},0,0,0,0,0,0,0,0,0,0,0]
[{"$f":"'SHALA DARPAN DATA'!C3037","v":0},{"$f":"'SHALA DARPAN DATA'!A3037","v":0},{"$f":"'SHALA DARPAN DATA'!B3037","v":0},{"$f":"'SHALA DARPAN DATA'!D3037","v":0},{"$f":"'SHALA DARPAN DATA'!J3037","v":0},{"$f":"'SHALA DARPAN DATA'!T3037","v":0},{"$f":"'SHALA DARPAN DATA'!V3037","v":0},{"$f":"'SHALA DARPAN DATA'!K3037","v":0},{"$f":"'SHALA DARPAN DATA'!E3037","v":0},{"$f":"'SHALA DARPAN DATA'!G3037","v":0},{"$f":"'SHALA DARPAN DATA'!H3037","v":0},{"$f":"'SHALA DARPAN DATA'!W3037","v":0},{"$f":"'SHALA DARPAN DATA'!R3037","v":0},{"$f":"'SHALA DARPAN DATA'!S3037","v":0},{"$f":"'SHALA DARPAN DATA'!O3037","v":0},0,0,0,0,0,0,0,0,0,0,0]
[{"$f":"'SHALA DARPAN DATA'!C3042","v":0},{"$f":"'SHALA DARPAN DATA'!A3042","v":0},{"$f":"'SHALA DARPAN DATA'!B3042","v":0},{"$f":"'SHALA DARPAN DATA'!D3042","v":0},{"$f":"'SHALA DARPAN DATA'!J3042","v":0},{"$f":"'SHALA DARPAN DATA'!T3042","v":0},{"$f":"'SHALA DARPAN DATA'!V3042","v":0},{"$f":"'SHALA DARPAN DATA'!K3042","v":0},{"$f":"'SHALA DARPAN DATA'!E3042","v":0},{"$f":"'SHALA DARPAN DATA'!G3042","v":0},{"$f":"'SHALA DARPAN DATA'!H3042","v":0},{"$f":"'SHALA DARPAN DATA'!W3042","v":0},{"$f":"'SHALA DARPAN DATA'!R3042","v":0},{"$f":"'SHALA DARPAN DATA'!S3042","v":0},{"$f":"'SHALA DARPAN DATA'!O3042","v":0},0,0,0,0,0,0,0,0,0,0,0]
[{"$f":"'SHALA DARPAN DATA'!C3046","v":0},{"$f":"'SHALA DARPAN DATA'!A3046","v":0},{"$f":"'SHALA DARPAN DATA'!B3046","v":0},{"$f":"'SHALA DARPAN DATA'!D3046","v":0},{"$f":"'SHALA DARPAN DATA'!J3046","v":0},{"$f":"'SHALA DARPAN DATA'!T3046","v":0},{"$f":"'SHALA DARPAN DATA'!V3046","v":0},{"$f":"'SHALA DARPAN DATA'!K3046","v":0},{"$f":"'SHALA DARPAN DATA'!E3046","v":0},{"$f":"'SHALA DARPAN DATA'!G3046","v":0},{"$f":"'SHALA DARPAN DATA'!H3046","v":0},{"$f":"'SHALA DARPAN DATA'!W3046","v":0},{"$f":"'SHALA DARPAN DATA'!R3046","v":0},{"$f":"'SHALA DARPAN DATA'!S3046","v":0},{"$f":"'SHALA DARPAN DATA'!O3046","v":0},0,0,0,0,0,0,0,0,0,0,0]
[{"$f":"'SHALA DARPAN DATA'!C3051","v":0},{"$f":"'SHALA DARPAN DATA'!A3051","v":0},{"$f":"'SHALA DARPAN DATA'!B3051","v":0},{"$f":"'SHALA DARPAN DATA'!D3051","v":0},{"$f":"'SHALA DARPAN DATA'!J3051","v":0},{"$f":"'SHALA DARPAN DATA'!T3051","v":0},{"$f":"'SHALA DARPAN DATA'!V3051","v":0},{"$f":"'SHALA DARPAN DATA'!K3051","v":0},{"$f":"'SHALA DARPAN DATA'!E3051","v":0},{"$f":"'SHALA DARPAN DATA'!G3051","v":0},{"$f":"'SHALA DARPAN DATA'!H3051","v":0},{"$f":"'SHALA DARPAN DATA'!W3051","v":0},{"$f":"'SHALA DARPAN DATA'!R3051","v":0},{"$f":"'SHALA DARPAN DATA'!S3051","v":0},{"$f":"'SHALA DARPAN DATA'!O3051","v":0},0,0,0,0,0,0,0,0,0,0,0]
[{"$f":"'SHALA DARPAN DATA'!C3052","v":0},{"$f":"'SHALA DARPAN DATA'!A3052","v":0},{"$f":"'SHALA DARPAN DATA'!B3052","v":0},{"$f":"'SHALA DARPAN DATA'!D3052","v":0},{"$f":"'SHALA DARPAN DATA'!J3052","v":0},{"$f":"'SHALA DARPAN DATA'!T3052","v":0},{"$f":"'SHALA DARPAN DATA'!V3052","v":0},{"$f":"'SHALA DARPAN DATA'!K3052","v":0},{"$f":"'SHALA DARPAN DATA'!E3052","v":0},{"$f":"'SHALA DARPAN DATA'!G3052","v":0},{"$f":"'SHALA DARPAN DATA'!H3052","v":0},{"$f":"'SHALA DARPAN DATA'!W3052","v":0},{"$f":"'SHALA DARPAN DATA'!R3052","v":0},{"$f":"'SHALA DARPAN DATA'!S3052","v":0},{"$f":"'SHALA DARPAN DATA'!O3052","v":0},0,0,0,0,0,0,0,0,0,0,0]
[{"$f":"'SHALA DARPAN DATA'!C3056","v":0},{"$f":"'SHALA DARPAN DATA'!A3056","v":0},{"$f":"'SHALA DARPAN DATA'!B3056","v":0},{"$f":"'SHALA DARPAN DATA'!D3056","v":0},{"$f":"'SHALA DARPAN DATA'!J3056","v":0},{"$f":"'SHALA DARPAN DATA'!T3056","v":0},{"$f":"'SHALA DARPAN DATA'!V3056","v":0},{"$f":"'SHALA DARPAN DATA'!K3056","v":0},{"$f":"'SHALA DARPAN DATA'!E3056","v":0},{"$f":"'SHALA DARPAN DATA'!G3056","v":0},{"$f":"'SHALA DARPAN DATA'!H3056","v":0},{"$f":"'SHALA DARPAN DATA'!W3056","v":0},{"$f":"'SHALA DARPAN DATA'!R3056","v":0},{"$f":"'SHALA DARPAN DATA'!S3056","v":0},{"$f":"'SHALA DARPAN DATA'!O3056","v":0},0,0,0,0,0,0,0,0,0,0,0]
[{"$f":"'SHALA DARPAN DATA'!C3061","v":0},{"$f":"'SHALA DARPAN DATA'!A3061","v":0},{"$f":"'SHALA DARPAN DATA'!B3061","v":0},{"$f":"'SHALA DARPAN DATA'!D3061","v":0},{"$f":"'SHALA DARPAN DATA'!J3061","v":0},{"$f":"'SHALA DARPAN DATA'!T3061","v":0},{"$f":"'SHALA DARPAN DATA'!V3061","v":0},{"$f":"'SHALA DARPAN DATA'!K3061","v":0},{"$f":"'SHALA DARPAN DATA'!E3061","v":0},{"$f":"'SHALA DARPAN DATA'!G3061","v":0},{"$f":"'SHALA DARPAN DATA'!H3061","v":0},{"$f":"'SHALA DARPAN DATA'!W3061","v":0},{"$f":"'SHALA DARPAN DATA'!R3061","v":0},{"$f":"'SHALA DARPAN DATA'!S3061","v":0},{"$f":"'SHALA DARPAN DATA'!O3061","v":0},0,0,0,0,0,0,0,0,0,0,0]
[{"$f":"'SHALA DARPAN DATA'!C3066","v":0},{"$f":"'SHALA DARPAN DATA'!A3066","v":0},{"$f":"'SHALA DARPAN DATA'!B3066","v":0},{"$f":"'SHALA DARPAN DATA'!D3066","v":0},{"$f":"'SHALA DARPAN DATA'!J3066","v":0},{"$f":"'SHALA DARPAN DATA'!T3066","v":0},{"$f":"'SHALA DARPAN DATA'!V3066","v":0},{"$f":"'SHALA DARPAN DATA'!K3066","v":0},{"$f":"'SHALA DARPAN DATA'!E3066","v":0},{"$f":"'SHALA DARPAN DATA'!G3066","v":0},{"$f":"'SHALA DARPAN DATA'!H3066","v":0},{"$f":"'SHALA DARPAN DATA'!W3066","v":0},{"$f":"'SHALA DARPAN DATA'!R3066","v":0},{"$f":"'SHALA DARPAN DATA'!S3066","v":0},{"$f":"'SHALA DARPAN DATA'!O3066","v":0},0,0,0,0,0,0,0,0,0,0,0]
[{"$f":"'SHALA DARPAN DATA'!C3067","v":0},{"$f":"'SHALA DARPAN DATA'!A3067","v":0},{"$f":"'SHALA DARPAN DATA'!B3067","v":0},{"$f":"'SHALA DARPAN DATA'!D3067","v":0},{"$f":"'SHALA DARPAN DATA'!J3067","v":0},{"$f":"'SHALA DARPAN DATA'!T3067","v":0},{"$f":"'SHALA DARPAN DATA'!V3067","v":0},{"$f":"'SHALA DARPAN DATA'!K3067","v":0},{"$f":"'SHALA DARPAN DATA'!E3067","v":0},{"$f":"'SHALA DARPAN DATA'!G3067","v":0},{"$f":"'SHALA DARPAN DATA'!H3067","v":0},{"$f":"'SHALA DARPAN DATA'!W3067","v":0},{"$f":"'SHALA DARPAN DATA'!R3067","v":0},{"$f":"'SHALA DARPAN DATA'!S3067","v":0},{"$f":"'SHALA DARPAN DATA'!O3067","v":0},0,0,0,0,0,0,0,0,0,0,0]
[{"$f":"'SHALA DARPAN DATA'!C3072","v":0},{"$f":"'SHALA DARPAN DATA'!A3072","v":0},{"$f":"'SHALA DARPAN DATA'!B3072","v":0},{"$f":"'SHALA DARPAN DATA'!D3072","v":0},{"$f":"'SHALA DARPAN DATA'!J3072","v":0},{"$f":"'SHALA DARPAN DATA'!T3072","v":0},{"$f":"'SHALA DARPAN DATA'!V3072","v":0},{"$f":"'SHALA DARPAN DATA'!K3072","v":0},{"$f":"'SHALA DARPAN DATA'!E3072","v":0},{"$f":"'SHALA DARPAN DATA'!G3072","v":0},{"$f":"'SHALA DARPAN DATA'!H3072","v":0},{"$f":"'SHALA DARPAN DATA'!W3072","v":0},{"$f":"'SHALA DARPAN DATA'!R3072","v":0},{"$f":"'SHALA DARPAN DATA'!S3072","v":0},{"$f":"'SHALA DARPAN DATA'!O3072","v":0},0,0,0,0,0,0,0,0,0,0,0]
[{"$f":"'SHALA DARPAN DATA'!C3076","v":0},{"$f":"'SHALA DARPAN DATA'!A3076","v":0},{"$f":"'SHALA DARPAN DATA'!B3076","v":0},{"$f":"'SHALA DARPAN DATA'!D3076","v":0},{"$f":"'SHALA DARPAN DATA'!J3076","v":0},{"$f":"'SHALA DARPAN DATA'!T3076","v":0},{"$f":"'SHALA DARPAN DATA'!V3076","v":0},{"$f":"'SHALA DARPAN DATA'!K3076","v":0},{"$f":"'SHALA DARPAN DATA'!E3076","v":0},{"$f":"'SHALA DARPAN DATA'!G3076","v":0},{"$f":"'SHALA DARPAN DATA'!H3076","v":0},{"$f":"'SHALA DARPAN DATA'!W3076","v":0},{"$f":"'SHALA DARPAN DATA'!R3076","v":0},{"$f":"'SHALA DARPAN DATA'!S3076","v":0},{"$f":"'SHALA DARPAN DATA'!O3076","v":0},0,0,0,0,0,0,0,0,0,0,0]
[{"$f":"'SHALA DARPAN DATA'!C3081","v":0},{"$f":"'SHALA DARPAN DATA'!A3081","v":0},{"$f":"'SHALA DARPAN DATA'!B3081","v":0},{"$f":"'SHALA DARPAN DATA'!D3081","v":0},{"$f":"'SHALA DARPAN DATA'!J3081","v":0},{"$f":"'SHALA DARPAN DATA'!T3081","v":0},{"$f":"'SHALA DARPAN DATA'!V3081","v":0},{"$f":"'SHALA DARPAN DATA'!K3081","v":0},{"$f":"'SHALA DARPAN DATA'!E3081","v":0},{"$f":"'SHALA DARPAN DATA'!G3081","v":0},{"$f":"'SHALA DARPAN DATA'!H3081","v":0},{"$f":"'SHALA DARPAN DATA'!W3081","v":0},{"$f":"'SHALA DARPAN DATA'!R3081","v":0},{"$f":"'SHALA DARPAN DATA'!S3081","v":0},{"$f":"'SHALA DARPAN DATA'!O3081","v":0},0,0,0,0,0,0,0,0,0,0,0]
[{"$f":"'SHALA DARPAN DATA'!C3082","v":0},{"$f":"'SHALA DARPAN DATA'!A3082","v":0},{"$f":"'SHALA DARPAN DATA'!B3082","v":0},{"$f":"'SHALA DARPAN DATA'!D3082","v":0},{"$f":"'SHALA DARPAN DATA'!J3082","v":0},{"$f":"'SHALA DARPAN DATA'!T3082","v":0},{"$f":"'SHALA DARPAN DATA'!V3082","v":0},{"$f":"'SHALA DARPAN DATA'!K3082","v":0},{"$f":"'SHALA DARPAN DATA'!E3082","v":0},{"$f":"'SHALA DARPAN DATA'!G3082","v":0},{"$f":"'SHALA DARPAN DATA'!H3082","v":0},{"$f":"'SHALA DARPAN DATA'!W3082","v":0},{"$f":"'SHALA DARPAN DATA'!R3082","v":0},{"$f":"'SHALA DARPAN DATA'!S3082","v":0},{"$f":"'SHALA DARPAN DATA'!O3082","v":0},0,0,0,0,0,0,0,0,0,0,0]
[{"$f":"'SHALA DARPAN DATA'!C3086","v":0},{"$f":"'SHALA DARPAN DATA'!A3086","v":0},{"$f":"'SHALA DARPAN DATA'!B3086","v":0},{"$f":"'SHALA DARPAN DATA'!D3086","v":0},{"$f":"'SHALA DARPAN DATA'!J3086","v":0},{"$f":"'SHALA DARPAN DATA'!T3086","v":0},{"$f":"'SHALA DARPAN DATA'!V3086","v":0},{"$f":"'SHALA DARPAN DATA'!K3086","v":0},{"$f":"'SHALA DARPAN DATA'!E3086","v":0},{"$f":"'SHALA DARPAN DATA'!G3086","v":0},{"$f":"'SHALA DARPAN DATA'!H3086","v":0},{"$f":"'SHALA DARPAN DATA'!W3086","v":0},{"$f":"'SHALA DARPAN DATA'!R3086","v":0},{"$f":"'SHALA DARPAN DATA'!S3086","v":0},{"$f":"'SHALA DARPAN DATA'!O3086","v":0},0,0,0,0,0,0,0,0,0,0,0]
[{"$f":"'SHALA DARPAN DATA'!C3091","v":0},{"$f":"'SHALA DARPAN DATA'!A3091","v":0},{"$f":"'SHALA DARPAN DATA'!B3091","v":0},{"$f":"'SHALA DARPAN DATA'!D3091","v":0},{"$f":"'SHALA DARPAN DATA'!J3091","v":0},{"$f":"'SHALA DARPAN DATA'!T3091","v":0},{"$f":"'SHALA DARPAN DATA'!V3091","v":0},{"$f":"'SHALA DARPAN DATA'!K3091","v":0},{"$f":"'SHALA DARPAN DATA'!E3091","v":0},{"$f":"'SHALA DARPAN DATA'!G3091","v":0},{"$f":"'SHALA DARPAN DATA'!H3091","v":0},{"$f":"'SHALA DARPAN DATA'!W3091","v":0},{"$f":"'SHALA DARPAN DATA'!R3091","v":0},{"$f":"'SHALA DARPAN DATA'!S3091","v":0},{"$f":"'SHALA DARPAN DATA'!O3091","v":0},0,0,0,0,0,0,0,0,0,0,0]
[{"$f":"'SHALA DARPAN DATA'!C3096","v":0},{"$f":"'SHALA DARPAN DATA'!A3096","v":0},{"$f":"'SHALA DARPAN DATA'!B3096","v":0},{"$f":"'SHALA DARPAN DATA'!D3096","v":0},{"$f":"'SHALA DARPAN DATA'!J3096","v":0},{"$f":"'SHALA DARPAN DATA'!T3096","v":0},{"$f":"'SHALA DARPAN DATA'!V3096","v":0},{"$f":"'SHALA DARPAN DATA'!K3096","v":0},{"$f":"'SHALA DARPAN DATA'!E3096","v":0},{"$f":"'SHALA DARPAN DATA'!G3096","v":0},{"$f":"'SHALA DARPAN DATA'!H3096","v":0},{"$f":"'SHALA DARPAN DATA'!W3096","v":0},{"$f":"'SHALA DARPAN DATA'!R3096","v":0},{"$f":"'SHALA DARPAN DATA'!S3096","v":0},{"$f":"'SHALA DARPAN DATA'!O3096","v":0},0,0,0,0,0,0,0,0,0,0,0]
[{"$f":"'SHALA DARPAN DATA'!C3097","v":0},{"$f":"'SHALA DARPAN DATA'!A3097","v":0},{"$f":"'SHALA DARPAN DATA'!B3097","v":0},{"$f":"'SHALA DARPAN DATA'!D3097","v":0},{"$f":"'SHALA DARPAN DATA'!J3097","v":0},{"$f":"'SHALA DARPAN DATA'!T3097","v":0},{"$f":"'SHALA DARPAN DATA'!V3097","v":0},{"$f":"'SHALA DARPAN DATA'!K3097","v":0},{"$f":"'SHALA DARPAN DATA'!E3097","v":0},{"$f":"'SHALA DARPAN DATA'!G3097","v":0},{"$f":"'SHALA DARPAN DATA'!H3097","v":0},{"$f":"'SHALA DARPAN DATA'!W3097","v":0},{"$f":"'SHALA DARPAN DATA'!R3097","v":0},{"$f":"'SHALA DARPAN DATA'!S3097","v":0},{"$f":"'SHALA DARPAN DATA'!O3097","v":0},0,0,0,0,0,0,0,0,0,0,0]
[{"$f":"'SHALA DARPAN DATA'!C3102","v":0},{"$f":"'SHALA DARPAN DATA'!A3102","v":0},{"$f":"'SHALA DARPAN DATA'!B3102","v":0},{"$f":"'SHALA DARPAN DATA'!D3102","v":0},{"$f":"'SHALA DARPAN DATA'!J3102","v":0},{"$f":"'SHALA DARPAN DATA'!T3102","v":0},{"$f":"'SHALA DARPAN DATA'!V3102","v":0},{"$f":"'SHALA DARPAN DATA'!K3102","v":0},{"$f":"'SHALA DARPAN DATA'!E3102","v":0},{"$f":"'SHALA DARPAN DATA'!G3102","v":0},{"$f":"'SHALA DARPAN DATA'!H3102","v":0},{"$f":"'SHALA DARPAN DATA'!W3102","v":0},{"$f":"'SHALA DARPAN DATA'!R3102","v":0},{"$f":"'SHALA DARPAN DATA'!S3102","v":0},{"$f":"'SHALA DARPAN DATA'!O3102","v":0},0,0,0,0,0,0,0,0,0,0,0]
[{"$f":"'SHALA DARPAN DATA'!C3106","v":0},{"$f":"'SHALA DARPAN DATA'!A3106","v":0},{"$f":"'SHALA DARPAN DATA'!B3106","v":0},{"$f":"'SHALA DARPAN DATA'!D3106","v":0},{"$f":"'SHALA DARPAN DATA'!J3106","v":0},{"$f":"'SHALA DARPAN DATA'!T3106","v":0},{"$f":"'SHALA DARPAN DATA'!V3106","v":0},{"$f":"'SHALA DARPAN DATA'!K3106","v":0},{"$f":"'SHALA DARPAN DATA'!E3106","v":0},{"$f":"'SHALA DARPAN DATA'!G3106","v":0},{"$f":"'SHALA DARPAN DATA'!H3106","v":0},{"$f":"'SHALA DARPAN DATA'!W3106","v":0},{"$f":"'SHALA DARPAN DATA'!R3106","v":0},{"$f":"'SHALA DARPAN DATA'!S3106","v":0},{"$f":"'SHALA DARPAN DATA'!O3106","v":0},0,0,0,0,0,0,0,0,0,0,0]
[{"$f":"'SHALA DARPAN DATA'!C3111","v":0},{"$f":"'SHALA DARPAN DATA'!A3111","v":0},{"$f":"'SHALA DARPAN DATA'!B3111","v":0},{"$f":"'SHALA DARPAN DATA'!D3111","v":0},{"$f":"'SHALA DARPAN DATA'!J3111","v":0},{"$f":"'SHALA DARPAN DATA'!T3111","v":0},{"$f":"'SHALA DARPAN DATA'!V3111","v":0},{"$f":"'SHALA DARPAN DATA'!K3111","v":0},{"$f":"'SHALA DARPAN DATA'!E3111","v":0},{"$f":"'SHALA DARPAN DATA'!G3111","v":0},{"$f":"'SHALA DARPAN DATA'!H3111","v":0},{"$f":"'SHALA DARPAN DATA'!W3111","v":0},{"$f":"'SHALA DARPAN DATA'!R3111","v":0},{"$f":"'SHALA DARPAN DATA'!S3111","v":0},{"$f":"'SHALA DARPAN DATA'!O3111","v":0},0,0,0,0,0,0,0,0,0,0,0]
[{"$f":"'SHALA DARPAN DATA'!C3112","v":0},{"$f":"'SHALA DARPAN DATA'!A3112","v":0},{"$f":"'SHALA DARPAN DATA'!B3112","v":0},{"$f":"'SHALA DARPAN DATA'!D3112","v":0},{"$f":"'SHALA DARPAN DATA'!J3112","v":0},{"$f":"'SHALA DARPAN DATA'!T3112","v":0},{"$f":"'SHALA DARPAN DATA'!V3112","v":0},{"$f":"'SHALA DARPAN DATA'!K3112","v":0},{"$f":"'SHALA DARPAN DATA'!E3112","v":0},{"$f":"'SHALA DARPAN DATA'!G3112","v":0},{"$f":"'SHALA DARPAN DATA'!H3112","v":0},{"$f":"'SHALA DARPAN DATA'!W3112","v":0},{"$f":"'SHALA DARPAN DATA'!R3112","v":0},{"$f":"'SHALA DARPAN DATA'!S3112","v":0},{"$f":"'SHALA DARPAN DATA'!O3112","v":0},0,0,0,0,0,0,0,0,0,0,0]
[{"$f":"'SHALA DARPAN DATA'!C3116","v":0},{"$f":"'SHALA DARPAN DATA'!A3116","v":0},{"$f":"'SHALA DARPAN DATA'!B3116","v":0},{"$f":"'SHALA DARPAN DATA'!D3116","v":0},{"$f":"'SHALA DARPAN DATA'!J3116","v":0},{"$f":"'SHALA DARPAN DATA'!T3116","v":0},{"$f":"'SHALA DARPAN DATA'!V3116","v":0},{"$f":"'SHALA DARPAN DATA'!K3116","v":0},{"$f":"'SHALA DARPAN DATA'!E3116","v":0},{"$f":"'SHALA DARPAN DATA'!G3116","v":0},{"$f":"'SHALA DARPAN DATA'!H3116","v":0},{"$f":"'SHALA DARPAN DATA'!W3116","v":0},{"$f":"'SHALA DARPAN DATA'!R3116","v":0},{"$f":"'SHALA DARPAN DATA'!S3116","v":0},{"$f":"'SHALA DARPAN DATA'!O3116","v":0},0,0,0,0,0,0,0,0,0,0,0]
[{"$f":"'SHALA DARPAN DATA'!C3121","v":0},{"$f":"'SHALA DARPAN DATA'!A3121","v":0},{"$f":"'SHALA DARPAN DATA'!B3121","v":0},{"$f":"'SHALA DARPAN DATA'!D3121","v":0},{"$f":"'SHALA DARPAN DATA'!J3121","v":0},{"$f":"'SHALA DARPAN DATA'!T3121","v":0},{"$f":"'SHALA DARPAN DATA'!V3121","v":0},{"$f":"'SHALA DARPAN DATA'!K3121","v":0},{"$f":"'SHALA DARPAN DATA'!E3121","v":0},{"$f":"'SHALA DARPAN DATA'!G3121","v":0},{"$f":"'SHALA DARPAN DATA'!H3121","v":0},{"$f":"'SHALA DARPAN DATA'!W3121","v":0},{"$f":"'SHALA DARPAN DATA'!R3121","v":0},{"$f":"'SHALA DARPAN DATA'!S3121","v":0},{"$f":"'SHALA DARPAN DATA'!O3121","v":0},0,0,0,0,0,0,0,0,0,0,0]
[{"$f":"'SHALA DARPAN DATA'!C3126","v":0},{"$f":"'SHALA DARPAN DATA'!A3126","v":0},{"$f":"'SHALA DARPAN DATA'!B3126","v":0},{"$f":"'SHALA DARPAN DATA'!D3126","v":0},{"$f":"'SHALA DARPAN DATA'!J3126","v":0},{"$f":"'SHALA DARPAN DATA'!T3126","v":0},{"$f":"'SHALA DARPAN DATA'!V3126","v":0},{"$f":"'SHALA DARPAN DATA'!K3126","v":0},{"$f":"'SHALA DARPAN DATA'!E3126","v":0},{"$f":"'SHALA DARPAN DATA'!G3126","v":0},{"$f":"'SHALA DARPAN DATA'!H3126","v":0},{"$f":"'SHALA DARPAN DATA'!W3126","v":0},{"$f":"'SHALA DARPAN DATA'!R3126","v":0},{"$f":"'SHALA DARPAN DATA'!S3126","v":0},{"$f":"'SHALA DARPAN DATA'!O3126","v":0},0,0,0,0,0,0,0,0,0,0,0]
[{"$f":"'SHALA DARPAN DATA'!C3127","v":0},{"$f":"'SHALA DARPAN DATA'!A3127","v":0},{"$f":"'SHALA DARPAN DATA'!B3127","v":0},{"$f":"'SHALA DARPAN DATA'!D3127","v":0},{"$f":"'SHALA DARPAN DATA'!J3127","v":0},{"$f":"'SHALA DARPAN DATA'!T3127","v":0},{"$f":"'SHALA DARPAN DATA'!V3127","v":0},{"$f":"'SHALA DARPAN DATA'!K3127","v":0},{"$f":"'SHALA DARPAN DATA'!E3127","v":0},{"$f":"'SHALA DARPAN DATA'!G3127","v":0},{"$f":"'SHALA DARPAN DATA'!H3127","v":0},{"$f":"'SHALA DARPAN DATA'!W3127","v":0},{"$f":"'SHALA DARPAN DATA'!R3127","v":0},{"$f":"'SHALA DARPAN DATA'!S3127","v":0},{"$f":"'SHALA DARPAN DATA'!O3127","v":0},0,0,0,0,0,0,0,0,0,0,0]
[{"$f":"'SHALA DARPAN DATA'!C3132","v":0},{"$f":"'SHALA DARPAN DATA'!A3132","v":0},{"$f":"'SHALA DARPAN DATA'!B3132","v":0},{"$f":"'SHALA DARPAN DATA'!D3132","v":0},{"$f":"'SHALA DARPAN DATA'!J3132","v":0},{"$f":"'SHALA DARPAN DATA'!T3132","v":0},{"$f":"'SHALA DARPAN DATA'!V3132","v":0},{"$f":"'SHALA DARPAN DATA'!K3132","v":0},{"$f":"'SHALA DARPAN DATA'!E3132","v":0},{"$f":"'SHALA DARPAN DATA'!G3132","v":0},{"$f":"'SHALA DARPAN DATA'!H3132","v":0},{"$f":"'SHALA DARPAN DATA'!W3132","v":0},{"$f":"'SHALA DARPAN DATA'!R3132","v":0},{"$f":"'SHALA DARPAN DATA'!S3132","v":0},{"$f":"'SHALA DARPAN DATA'!O3132","v":0},0,0,0,0,0,0,0,0,0,0,0]
[{"$f":"'SHALA DARPAN DATA'!C3136","v":0},{"$f":"'SHALA DARPAN DATA'!A3136","v":0},{"$f":"'SHALA DARPAN DATA'!B3136","v":0},{"$f":"'SHALA DARPAN DATA'!D3136","v":0},{"$f":"'SHALA DARPAN DATA'!J3136","v":0},{"$f":"'SHALA DARPAN DATA'!T3136","v":0},{"$f":"'SHALA DARPAN DATA'!V3136","v":0},{"$f":"'SHALA DARPAN DATA'!K3136","v":0},{"$f":"'SHALA DARPAN DATA'!E3136","v":0},{"$f":"'SHALA DARPAN DATA'!G3136","v":0},{"$f":"'SHALA DARPAN DATA'!H3136","v":0},{"$f":"'SHALA DARPAN DATA'!W3136","v":0},{"$f":"'SHALA DARPAN DATA'!R3136","v":0},{"$f":"'SHALA DARPAN DATA'!S3136","v":0},{"$f":"'SHALA DARPAN DATA'!O3136","v":0},0,0,0,0,0,0,0,0,0,0,0]
[{"$f":"'SHALA DARPAN DATA'!C3141","v":0},{"$f":"'SHALA DARPAN DATA'!A3141","v":0},{"$f":"'SHALA DARPAN DATA'!B3141","v":0},{"$f":"'SHALA DARPAN DATA'!D3141","v":0},{"$f":"'SHALA DARPAN DATA'!J3141","v":0},{"$f":"'SHALA DARPAN DATA'!T3141","v":0},{"$f":"'SHALA DARPAN DATA'!V3141","v":0},{"$f":"'SHALA DARPAN DATA'!K3141","v":0},{"$f":"'SHALA DARPAN DATA'!E3141","v":0},{"$f":"'SHALA DARPAN DATA'!G3141","v":0},{"$f":"'SHALA DARPAN DATA'!H3141","v":0},{"$f":"'SHALA DARPAN DATA'!W3141","v":0},{"$f":"'SHALA DARPAN DATA'!R3141","v":0},{"$f":"'SHALA DARPAN DATA'!S3141","v":0},{"$f":"'SHALA DARPAN DATA'!O3141","v":0},0,0,0,0,0,0,0,0,0,0,0]
[{"$f":"'SHALA DARPAN DATA'!C3142","v":0},{"$f":"'SHALA DARPAN DATA'!A3142","v":0},{"$f":"'SHALA DARPAN DATA'!B3142","v":0},{"$f":"'SHALA DARPAN DATA'!D3142","v":0},{"$f":"'SHALA DARPAN DATA'!J3142","v":0},{"$f":"'SHALA DARPAN DATA'!T3142","v":0},{"$f":"'SHALA DARPAN DATA'!V3142","v":0},{"$f":"'SHALA DARPAN DATA'!K3142","v":0},{"$f":"'SHALA DARPAN DATA'!E3142","v":0},{"$f":"'SHALA DARPAN DATA'!G3142","v":0},{"$f":"'SHALA DARPAN DATA'!H3142","v":0},{"$f":"'SHALA DARPAN DATA'!W3142","v":0},{"$f":"'SHALA DARPAN DATA'!R3142","v":0},{"$f":"'SHALA DARPAN DATA'!S3142","v":0},{"$f":"'SHALA DARPAN DATA'!O3142","v":0},0,0,0,0,0,0,0,0,0,0,0]
[{"$f":"'SHALA DARPAN DATA'!C3146","v":0},{"$f":"'SHALA DARPAN DATA'!A3146","v":0},{"$f":"'SHALA DARPAN DATA'!B3146","v":0},{"$f":"'SHALA DARPAN DATA'!D3146","v":0},{"$f":"'SHALA DARPAN DATA'!J3146","v":0},{"$f":"'SHALA DARPAN DATA'!T3146","v":0},{"$f":"'SHALA DARPAN DATA'!V3146","v":0},{"$f":"'SHALA DARPAN DATA'!K3146","v":0},{"$f":"'SHALA DARPAN DATA'!E3146","v":0},{"$f":"'SHALA DARPAN DATA'!G3146","v":0},{"$f":"'SHALA DARPAN DATA'!H3146","v":0},{"$f":"'SHALA DARPAN DATA'!W3146","v":0},{"$f":"'SHALA DARPAN DATA'!R3146","v":0},{"$f":"'SHALA DARPAN DATA'!S3146","v":0},{"$f":"'SHALA DARPAN DATA'!O3146","v":0},0,0,0,0,0,0,0,0,0,0,0]
[{"$f":"'SHALA DARPAN DATA'!C3151","v":0},{"$f":"'SHALA DARPAN DATA'!A3151","v":0},{"$f":"'SHALA DARPAN DATA'!B3151","v":0},{"$f":"'SHALA DARPAN DATA'!D3151","v":0},{"$f":"'SHALA DARPAN DATA'!J3151","v":0},{"$f":"'SHALA DARPAN DATA'!T3151","v":0},{"$f":"'SHALA DARPAN DATA'!V3151","v":0},{"$f":"'SHALA DARPAN DATA'!K3151","v":0},{"$f":"'SHALA DARPAN DATA'!E3151","v":0},{"$f":"'SHALA DARPAN DATA'!G3151","v":0},{"$f":"'SHALA DARPAN DATA'!H3151","v":0},{"$f":"'SHALA DARPAN DATA'!W3151","v":0},{"$f":"'SHALA DARPAN DATA'!R3151","v":0},{"$f":"'SHALA DARPAN DATA'!S3151","v":0},{"$f":"'SHALA DARPAN DATA'!O3151","v":0},0,0,0,0,0,0,0,0,0,0,0]
[{"$f":"'SHALA DARPAN DATA'!C3156","v":0},{"$f":"'SHALA DARPAN DATA'!A3156","v":0},{"$f":"'SHALA DARPAN DATA'!B3156","v":0},{"$f":"'SHALA DARPAN DATA'!D3156","v":0},{"$f":"'SHALA DARPAN DATA'!J3156","v":0},{"$f":"'SHALA DARPAN DATA'!T3156","v":0},{"$f":"'SHALA DARPAN DATA'!V3156","v":0},{"$f":"'SHALA DARPAN DATA'!K3156","v":0},{"$f":"'SHALA DARPAN DATA'!E3156","v":0},{"$f":"'SHALA DARPAN DATA'!G3156","v":0},{"$f":"'SHALA DARPAN DATA'!H3156","v":0},{"$f":"'SHALA DARPAN DATA'!W3156","v":0},{"$f":"'SHALA DARPAN DATA'!R3156","v":0},{"$f":"'SHALA DARPAN DATA'!S3156","v":0},{"$f":"'SHALA DARPAN DATA'!O3156","v":0},0,0,0,0,0,0,0,0,0,0,0]
[{"$f":"'SHALA DARPAN DATA'!C3157","v":0},{"$f":"'SHALA DARPAN DATA'!A3157","v":0},{"$f":"'SHALA DARPAN DATA'!B3157","v":0},{"$f":"'SHALA DARPAN DATA'!D3157","v":0},{"$f":"'SHALA DARPAN DATA'!J3157","v":0},{"$f":"'SHALA DARPAN DATA'!T3157","v":0},{"$f":"'SHALA DARPAN DATA'!V3157","v":0},{"$f":"'SHALA DARPAN DATA'!K3157","v":0},{"$f":"'SHALA DARPAN DATA'!E3157","v":0},{"$f":"'SHALA DARPAN DATA'!G3157","v":0},{"$f":"'SHALA DARPAN DATA'!H3157","v":0},{"$f":"'SHALA DARPAN DATA'!W3157","v":0},{"$f":"'SHALA DARPAN DATA'!R3157","v":0},{"$f":"'SHALA DARPAN DATA'!S3157","v":0},{"$f":"'SHALA DARPAN DATA'!O3157","v":0},0,0,0,0,0,0,0,0,0,0,0]
[{"$f":"'SHALA DARPAN DATA'!C3163","v":0},{"$f":"'SHALA DARPAN DATA'!A3163","v":0},{"$f":"'SHALA DARPAN DATA'!B3163","v":0},{"$f":"'SHALA DARPAN DATA'!D3163","v":0},{"$f":"'SHALA DARPAN DATA'!J3163","v":0},{"$f":"'SHALA DARPAN DATA'!T3163","v":0},{"$f":"'SHALA DARPAN DATA'!V3163","v":0},{"$f":"'SHALA DARPAN DATA'!K3163","v":0},{"$f":"'SHALA DARPAN DATA'!E3163","v":0},{"$f":"'SHALA DARPAN DATA'!G3163","v":0},{"$f":"'SHALA DARPAN DATA'!H3163","v":0},{"$f":"'SHALA DARPAN DATA'!W3163","v":0},{"$f":"'SHALA DARPAN DATA'!R3163","v":0},{"$f":"'SHALA DARPAN DATA'!S3163","v":0},{"$f":"'SHALA DARPAN DATA'!O3163","v":0},0,0,0,0,0,0,0,0,0,0,0]
[{"$f":"'SHALA DARPAN DATA'!C3166","v":0},{"$f":"'SHALA DARPAN DATA'!A3166","v":0},{"$f":"'SHALA DARPAN DATA'!B3166","v":0},{"$f":"'SHALA DARPAN DATA'!D3166","v":0},{"$f":"'SHALA DARPAN DATA'!J3166","v":0},{"$f":"'SHALA DARPAN DATA'!T3166","v":0},{"$f":"'SHALA DARPAN DATA'!V3166","v":0},{"$f":"'SHALA DARPAN DATA'!K3166","v":0},{"$f":"'SHALA DARPAN DATA'!E3166","v":0},{"$f":"'SHALA DARPAN DATA'!G3166","v":0},{"$f":"'SHALA DARPAN DATA'!H3166","v":0},{"$f":"'SHALA DARPAN DATA'!W3166","v":0},{"$f":"'SHALA DARPAN DATA'!R3166","v":0},{"$f":"'SHALA DARPAN DATA'!S3166","v":0},{"$f":"'SHALA DARPAN DATA'!O3166","v":0},0,0,0,0,0,0,0,0,0,0,0]
[{"$f":"'SHALA DARPAN DATA'!C3171","v":0},{"$f":"'SHALA DARPAN DATA'!A3171","v":0},{"$f":"'SHALA DARPAN DATA'!B3171","v":0},{"$f":"'SHALA DARPAN DATA'!D3171","v":0},{"$f":"'SHALA DARPAN DATA'!J3171","v":0},{"$f":"'SHALA DARPAN DATA'!T3171","v":0},{"$f":"'SHALA DARPAN DATA'!V3171","v":0},{"$f":"'SHALA DARPAN DATA'!K3171","v":0},{"$f":"'SHALA DARPAN DATA'!E3171","v":0},{"$f":"'SHALA DARPAN DATA'!G3171","v":0},{"$f":"'SHALA DARPAN DATA'!H3171","v":0},{"$f":"'SHALA DARPAN DATA'!W3171","v":0},{"$f":"'SHALA DARPAN DATA'!R3171","v":0},{"$f":"'SHALA DARPAN DATA'!S3171","v":0},{"$f":"'SHALA DARPAN DATA'!O3171","v":0},0,0,0,0,0,0,0,0,0,0,0]
[{"$f":"'SHALA DARPAN DATA'!C3172","v":0},{"$f":"'SHALA DARPAN DATA'!A3172","v":0},{"$f":"'SHALA DARPAN DATA'!B3172","v":0},{"$f":"'SHALA DARPAN DATA'!D3172","v":0},{"$f":"'SHALA DARPAN DATA'!J3172","v":0},{"$f":"'SHALA DARPAN DATA'!T3172","v":0},{"$f":"'SHALA DARPAN DATA'!V3172","v":0},{"$f":"'SHALA DARPAN DATA'!K3172","v":0},{"$f":"'SHALA DARPAN DATA'!E3172","v":0},{"$f":"'SHALA DARPAN DATA'!G3172","v":0},{"$f":"'SHALA DARPAN DATA'!H3172","v":0},{"$f":"'SHALA DARPAN DATA'!W3172","v":0},{"$f":"'SHALA DARPAN DATA'!R3172","v":0},{"$f":"'SHALA DARPAN DATA'!S3172","v":0},{"$f":"'SHALA DARPAN DATA'!O3172","v":0},0,0,0,0,0,0,0,0,0,0,0]
[{"$f":"'SHALA DARPAN DATA'!C3176","v":0},{"$f":"'SHALA DARPAN DATA'!A3176","v":0},{"$f":"'SHALA DARPAN DATA'!B3176","v":0},{"$f":"'SHALA DARPAN DATA'!D3176","v":0},{"$f":"'SHALA DARPAN DATA'!J3176","v":0},{"$f":"'SHALA DARPAN DATA'!T3176","v":0},{"$f":"'SHALA DARPAN DATA'!V3176","v":0},{"$f":"'SHALA DARPAN DATA'!K3176","v":0},{"$f":"'SHALA DARPAN DATA'!E3176","v":0},{"$f":"'SHALA DARPAN DATA'!G3176","v":0},{"$f":"'SHALA DARPAN DATA'!H3176","v":0},{"$f":"'SHALA DARPAN DATA'!W3176","v":0},{"$f":"'SHALA DARPAN DATA'!R3176","v":0},{"$f":"'SHALA DARPAN DATA'!S3176","v":0},{"$f":"'SHALA DARPAN DATA'!O3176","v":0},0,0,0,0,0,0,0,0,0,0,0]
[{"$f":"'SHALA DARPAN DATA'!C3181","v":0},{"$f":"'SHALA DARPAN DATA'!A3181","v":0},{"$f":"'SHALA DARPAN DATA'!B3181","v":0},{"$f":"'SHALA DARPAN DATA'!D3181","v":0},{"$f":"'SHALA DARPAN DATA'!J3181","v":0},{"$f":"'SHALA DARPAN DATA'!T3181","v":0},{"$f":"'SHALA DARPAN DATA'!V3181","v":0},{"$f":"'SHALA DARPAN DATA'!K3181","v":0},{"$f":"'SHALA DARPAN DATA'!E3181","v":0},{"$f":"'SHALA DARPAN DATA'!G3181","v":0},{"$f":"'SHALA DARPAN DATA'!H3181","v":0},{"$f":"'SHALA DARPAN DATA'!W3181","v":0},{"$f":"'SHALA DARPAN DATA'!R3181","v":0},{"$f":"'SHALA DARPAN DATA'!S3181","v":0},{"$f":"'SHALA DARPAN DATA'!O3181","v":0},0,0,0,0,0,0,0,0,0,0,0]
[{"$f":"'SHALA DARPAN DATA'!C3186","v":0},{"$f":"'SHALA DARPAN DATA'!A3186","v":0},{"$f":"'SHALA DARPAN DATA'!B3186","v":0},{"$f":"'SHALA DARPAN DATA'!D3186","v":0},{"$f":"'SHALA DARPAN DATA'!J3186","v":0},{"$f":"'SHALA DARPAN DATA'!T3186","v":0},{"$f":"'SHALA DARPAN DATA'!V3186","v":0},{"$f":"'SHALA DARPAN DATA'!K3186","v":0},{"$f":"'SHALA DARPAN DATA'!E3186","v":0},{"$f":"'SHALA DARPAN DATA'!G3186","v":0},{"$f":"'SHALA DARPAN DATA'!H3186","v":0},{"$f":"'SHALA DARPAN DATA'!W3186","v":0},{"$f":"'SHALA DARPAN DATA'!R3186","v":0},{"$f":"'SHALA DARPAN DATA'!S3186","v":0},{"$f":"'SHALA DARPAN DATA'!O3186","v":0},0,0,0,0,0,0,0,0,0,0,0]
[{"$f":"'SHALA DARPAN DATA'!C3187","v":0},{"$f":"'SHALA DARPAN DATA'!A3187","v":0},{"$f":"'SHALA DARPAN DATA'!B3187","v":0},{"$f":"'SHALA DARPAN DATA'!D3187","v":0},{"$f":"'SHALA DARPAN DATA'!J3187","v":0},{"$f":"'SHALA DARPAN DATA'!T3187","v":0},{"$f":"'SHALA DARPAN DATA'!V3187","v":0},{"$f":"'SHALA DARPAN DATA'!K3187","v":0},{"$f":"'SHALA DARPAN DATA'!E3187","v":0},{"$f":"'SHALA DARPAN DATA'!G3187","v":0},{"$f":"'SHALA DARPAN DATA'!H3187","v":0},{"$f":"'SHALA DARPAN DATA'!W3187","v":0},{"$f":"'SHALA DARPAN DATA'!R3187","v":0},{"$f":"'SHALA DARPAN DATA'!S3187","v":0},{"$f":"'SHALA DARPAN DATA'!O3187","v":0},0,0,0,0,0,0,0,0,0,0,0]
[{"$f":"'SHALA DARPAN DATA'!C3193","v":0},{"$f":"'SHALA DARPAN DATA'!A3193","v":0},{"$f":"'SHALA DARPAN DATA'!B3193","v":0},{"$f":"'SHALA DARPAN DATA'!D3193","v":0},{"$f":"'SHALA DARPAN DATA'!J3193","v":0},{"$f":"'SHALA DARPAN DATA'!T3193","v":0},{"$f":"'SHALA DARPAN DATA'!V3193","v":0},{"$f":"'SHALA DARPAN DATA'!K3193","v":0},{"$f":"'SHALA DARPAN DATA'!E3193","v":0},{"$f":"'SHALA DARPAN DATA'!G3193","v":0},{"$f":"'SHALA DARPAN DATA'!H3193","v":0},{"$f":"'SHALA DARPAN DATA'!W3193","v":0},{"$f":"'SHALA DARPAN DATA'!R3193","v":0},{"$f":"'SHALA DARPAN DATA'!S3193","v":0},{"$f":"'SHALA DARPAN DATA'!O3193","v":0},0,0,0,0,0,0,0,0,0,0,0]
[{"$f":"'SHALA DARPAN DATA'!C3196","v":0},{"$f":"'SHALA DARPAN DATA'!A3196","v":0},{"$f":"'SHALA DARPAN DATA'!B3196","v":0},{"$f":"'SHALA DARPAN DATA'!D3196","v":0},{"$f":"'SHALA DARPAN DATA'!J3196","v":0},{"$f":"'SHALA DARPAN DATA'!T3196","v":0},{"$f":"'SHALA DARPAN DATA'!V3196","v":0},{"$f":"'SHALA DARPAN DATA'!K3196","v":0},{"$f":"'SHALA DARPAN DATA'!E3196","v":0},{"$f":"'SHALA DARPAN DATA'!G3196","v":0},{"$f":"'SHALA DARPAN DATA'!H3196","v":0},{"$f":"'SHALA DARPAN DATA'!W3196","v":0},{"$f":"'SHALA DARPAN DATA'!R3196","v":0},{"$f":"'SHALA DARPAN DATA'!S3196","v":0},{"$f":"'SHALA DARPAN DATA'!O3196","v":0},0,0,0,0,0,0,0,0,0,0,0]
[{"$f":"'SHALA DARPAN DATA'!C3201","v":0},{"$f":"'SHALA DARPAN DATA'!A3201","v":0},{"$f":"'SHALA DARPAN DATA'!B3201","v":0},{"$f":"'SHALA DARPAN DATA'!D3201","v":0},{"$f":"'SHALA DARPAN DATA'!J3201","v":0},{"$f":"'SHALA DARPAN DATA'!T3201","v":0},{"$f":"'SHALA DARPAN DATA'!V3201","v":0},{"$f":"'SHALA DARPAN DATA'!K3201","v":0},{"$f":"'SHALA DARPAN DATA'!E3201","v":0},{"$f":"'SHALA DARPAN DATA'!G3201","v":0},{"$f":"'SHALA DARPAN DATA'!H3201","v":0},{"$f":"'SHALA DARPAN DATA'!W3201","v":0},{"$f":"'SHALA DARPAN DATA'!R3201","v":0},{"$f":"'SHALA DARPAN DATA'!S3201","v":0},{"$f":"'SHALA DARPAN DATA'!O3201","v":0},0,0,0,0,0,0,0,0,0,0,0]
[{"$f":"'SHALA DARPAN DATA'!C3202","v":0},{"$f":"'SHALA DARPAN DATA'!A3202","v":0},{"$f":"'SHALA DARPAN DATA'!B3202","v":0},{"$f":"'SHALA DARPAN DATA'!D3202","v":0},{"$f":"'SHALA DARPAN DATA'!J3202","v":0},{"$f":"'SHALA DARPAN DATA'!T3202","v":0},{"$f":"'SHALA DARPAN DATA'!V3202","v":0},{"$f":"'SHALA DARPAN DATA'!K3202","v":0},{"$f":"'SHALA DARPAN DATA'!E3202","v":0},{"$f":"'SHALA DARPAN DATA'!G3202","v":0},{"$f":"'SHALA DARPAN DATA'!H3202","v":0},{"$f":"'SHALA DARPAN DATA'!W3202","v":0},{"$f":"'SHALA DARPAN DATA'!R3202","v":0},{"$f":"'SHALA DARPAN DATA'!S3202","v":0},{"$f":"'SHALA DARPAN DATA'!O3202","v":0},0,0,0,0,0,0,0,0,0,0,0]
[{"$f":"'SHALA DARPAN DATA'!C3206","v":0},{"$f":"'SHALA DARPAN DATA'!A3206","v":0},{"$f":"'SHALA DARPAN DATA'!B3206","v":0},{"$f":"'SHALA DARPAN DATA'!D3206","v":0},{"$f":"'SHALA DARPAN DATA'!J3206","v":0},{"$f":"'SHALA DARPAN DATA'!T3206","v":0},{"$f":"'SHALA DARPAN DATA'!V3206","v":0},{"$f":"'SHALA DARPAN DATA'!K3206","v":0},{"$f":"'SHALA DARPAN DATA'!E3206","v":0},{"$f":"'SHALA DARPAN DATA'!G3206","v":0},{"$f":"'SHALA DARPAN DATA'!H3206","v":0},{"$f":"'SHALA DARPAN DATA'!W3206","v":0},{"$f":"'SHALA DARPAN DATA'!R3206","v":0},{"$f":"'SHALA DARPAN DATA'!S3206","v":0},{"$f":"'SHALA DARPAN DATA'!O3206","v":0},0,0,0,0,0,0,0,0,0,0,0]
[{"$f":"'SHALA DARPAN DATA'!C3211","v":0},{"$f":"'SHALA DARPAN DATA'!A3211","v":0},{"$f":"'SHALA DARPAN DATA'!B3211","v":0},{"$f":"'SHALA DARPAN DATA'!D3211","v":0},{"$f":"'SHALA DARPAN DATA'!J3211","v":0},{"$f":"'SHALA DARPAN DATA'!T3211","v":0},{"$f":"'SHALA DARPAN DATA'!V3211","v":0},{"$f":"'SHALA DARPAN DATA'!K3211","v":0},{"$f":"'SHALA DARPAN DATA'!E3211","v":0},{"$f":"'SHALA DARPAN DATA'!G3211","v":0},{"$f":"'SHALA DARPAN DATA'!H3211","v":0},{"$f":"'SHALA DARPAN DATA'!W3211","v":0},{"$f":"'SHALA DARPAN DATA'!R3211","v":0},{"$f":"'SHALA DARPAN DATA'!S3211","v":0},{"$f":"'SHALA DARPAN DATA'!O3211","v":0},0,0,0,0,0,0,0,0,0,0,0]
[{"$f":"'SHALA DARPAN DATA'!C3216","v":0},{"$f":"'SHALA DARPAN DATA'!A3216","v":0},{"$f":"'SHALA DARPAN DATA'!B3216","v":0},{"$f":"'SHALA DARPAN DATA'!D3216","v":0},{"$f":"'SHALA DARPAN DATA'!J3216","v":0},{"$f":"'SHALA DARPAN DATA'!T3216","v":0},{"$f":"'SHALA DARPAN DATA'!V3216","v":0},{"$f":"'SHALA DARPAN DATA'!K3216","v":0},{"$f":"'SHALA DARPAN DATA'!E3216","v":0},{"$f":"'SHALA DARPAN DATA'!G3216","v":0},{"$f":"'SHALA DARPAN DATA'!H3216","v":0},{"$f":"'SHALA DARPAN DATA'!W3216","v":0},{"$f":"'SHALA DARPAN DATA'!R3216","v":0},{"$f":"'SHALA DARPAN DATA'!S3216","v":0},{"$f":"'SHALA DARPAN DATA'!O3216","v":0},0,0,0,0,0,0,0,0,0,0,0]
[{"$f":"'SHALA DARPAN DATA'!C3217","v":0},{"$f":"'SHALA DARPAN DATA'!A3217","v":0},{"$f":"'SHALA DARPAN DATA'!B3217","v":0},{"$f":"'SHALA DARPAN DATA'!D3217","v":0},{"$f":"'SHALA DARPAN DATA'!J3217","v":0},{"$f":"'SHALA DARPAN DATA'!T3217","v":0},{"$f":"'SHALA DARPAN DATA'!V3217","v":0},{"$f":"'SHALA DARPAN DATA'!K3217","v":0},{"$f":"'SHALA DARPAN DATA'!E3217","v":0},{"$f":"'SHALA DARPAN DATA'!G3217","v":0},{"$f":"'SHALA DARPAN DATA'!H3217","v":0},{"$f":"'SHALA DARPAN DATA'!W3217","v":0},{"$f":"'SHALA DARPAN DATA'!R3217","v":0},{"$f":"'SHALA DARPAN DATA'!S3217","v":0},{"$f":"'SHALA DARPAN DATA'!O3217","v":0},0,0,0,0,0,0,0,0,0,0,0]
[{"$f":"'SHALA DARPAN DATA'!C3223","v":0},{"$f":"'SHALA DARPAN DATA'!A3223","v":0},{"$f":"'SHALA DARPAN DATA'!B3223","v":0},{"$f":"'SHALA DARPAN DATA'!D3223","v":0},{"$f":"'SHALA DARPAN DATA'!J3223","v":0},{"$f":"'SHALA DARPAN DATA'!T3223","v":0},{"$f":"'SHALA DARPAN DATA'!V3223","v":0},{"$f":"'SHALA DARPAN DATA'!K3223","v":0},{"$f":"'SHALA DARPAN DATA'!E3223","v":0},{"$f":"'SHALA DARPAN DATA'!G3223","v":0},{"$f":"'SHALA DARPAN DATA'!H3223","v":0},{"$f":"'SHALA DARPAN DATA'!W3223","v":0},{"$f":"'SHALA DARPAN DATA'!R3223","v":0},{"$f":"'SHALA DARPAN DATA'!S3223","v":0},{"$f":"'SHALA DARPAN DATA'!O3223","v":0},0,0,0,0,0,0,0,0,0,0,0]
[{"$f":"'SHALA DARPAN DATA'!C3226","v":0},{"$f":"'SHALA DARPAN DATA'!A3226","v":0},{"$f":"'SHALA DARPAN DATA'!B3226","v":0},{"$f":"'SHALA DARPAN DATA'!D3226","v":0},{"$f":"'SHALA DARPAN DATA'!J3226","v":0},{"$f":"'SHALA DARPAN DATA'!T3226","v":0},{"$f":"'SHALA DARPAN DATA'!V3226","v":0},{"$f":"'SHALA DARPAN DATA'!K3226","v":0},{"$f":"'SHALA DARPAN DATA'!E3226","v":0},{"$f":"'SHALA DARPAN DATA'!G3226","v":0},{"$f":"'SHALA DARPAN DATA'!H3226","v":0},{"$f":"'SHALA DARPAN DATA'!W3226","v":0},{"$f":"'SHALA DARPAN DATA'!R3226","v":0},{"$f":"'SHALA DARPAN DATA'!S3226","v":0},{"$f":"'SHALA DARPAN DATA'!O3226","v":0},0,0,0,0,0,0,0,0,0,0,0]
[{"$f":"'SHALA DARPAN DATA'!C3231","v":0},{"$f":"'SHALA DARPAN DATA'!A3231","v":0},{"$f":"'SHALA DARPAN DATA'!B3231","v":0},{"$f":"'SHALA DARPAN DATA'!D3231","v":0},{"$f":"'SHALA DARPAN DATA'!J3231","v":0},{"$f":"'SHALA DARPAN DATA'!T3231","v":0},{"$f":"'SHALA DARPAN DATA'!V3231","v":0},{"$f":"'SHALA DARPAN DATA'!K3231","v":0},{"$f":"'SHALA DARPAN DATA'!E3231","v":0},{"$f":"'SHALA DARPAN DATA'!G3231","v":0},{"$f":"'SHALA DARPAN DATA'!H3231","v":0},{"$f":"'SHALA DARPAN DATA'!W3231","v":0},{"$f":"'SHALA DARPAN DATA'!R3231","v":0},{"$f":"'SHALA DARPAN DATA'!S3231","v":0},{"$f":"'SHALA DARPAN DATA'!O3231","v":0},0,0,0,0,0,0,0,0,0,0,0]
[{"$f":"'SHALA DARPAN DATA'!C3232","v":0},{"$f":"'SHALA DARPAN DATA'!A3232","v":0},{"$f":"'SHALA DARPAN DATA'!B3232","v":0},{"$f":"'SHALA DARPAN DATA'!D3232","v":0},{"$f":"'SHALA DARPAN DATA'!J3232","v":0},{"$f":"'SHALA DARPAN DATA'!T3232","v":0},{"$f":"'SHALA DARPAN DATA'!V3232","v":0},{"$f":"'SHALA DARPAN DATA'!K3232","v":0},{"$f":"'SHALA DARPAN DATA'!E3232","v":0},{"$f":"'SHALA DARPAN DATA'!G3232","v":0},{"$f":"'SHALA DARPAN DATA'!H3232","v":0},{"$f":"'SHALA DARPAN DATA'!W3232","v":0},{"$f":"'SHALA DARPAN DATA'!R3232","v":0},{"$f":"'SHALA DARPAN DATA'!S3232","v":0},{"$f":"'SHALA DARPAN DATA'!O3232","v":0},0,0,0,0,0,0,0,0,0,0,0]
[{"$f":"'SHALA DARPAN DATA'!C3236","v":0},{"$f":"'SHALA DARPAN DATA'!A3236","v":0},{"$f":"'SHALA DARPAN DATA'!B3236","v":0},{"$f":"'SHALA DARPAN DATA'!D3236","v":0},{"$f":"'SHALA DARPAN DATA'!J3236","v":0},{"$f":"'SHALA DARPAN DATA'!T3236","v":0},{"$f":"'SHALA DARPAN DATA'!V3236","v":0},{"$f":"'SHALA DARPAN DATA'!K3236","v":0},{"$f":"'SHALA DARPAN DATA'!E3236","v":0},{"$f":"'SHALA DARPAN DATA'!G3236","v":0},{"$f":"'SHALA DARPAN DATA'!H3236","v":0},{"$f":"'SHALA DARPAN DATA'!W3236","v":0},{"$f":"'SHALA DARPAN DATA'!R3236","v":0},{"$f":"'SHALA DARPAN DATA'!S3236","v":0},{"$f":"'SHALA DARPAN DATA'!O3236","v":0},0,0,0,0,0,0,0,0,0,0,0]
[{"$f":"'SHALA DARPAN DATA'!C3241","v":0},{"$f":"'SHALA DARPAN DATA'!A3241","v":0},{"$f":"'SHALA DARPAN DATA'!B3241","v":0},{"$f":"'SHALA DARPAN DATA'!D3241","v":0},{"$f":"'SHALA DARPAN DATA'!J3241","v":0},{"$f":"'SHALA DARPAN DATA'!T3241","v":0},{"$f":"'SHALA DARPAN DATA'!V3241","v":0},{"$f":"'SHALA DARPAN DATA'!K3241","v":0},{"$f":"'SHALA DARPAN DATA'!E3241","v":0},{"$f":"'SHALA DARPAN DATA'!G3241","v":0},{"$f":"'SHALA DARPAN DATA'!H3241","v":0},{"$f":"'SHALA DARPAN DATA'!W3241","v":0},{"$f":"'SHALA DARPAN DATA'!R3241","v":0},{"$f":"'SHALA DARPAN DATA'!S3241","v":0},{"$f":"'SHALA DARPAN DATA'!O3241","v":0},0,0,0,0,0,0,0,0,0,0,0]
[{"$f":"'SHALA DARPAN DATA'!C3246","v":0},{"$f":"'SHALA DARPAN DATA'!A3246","v":0},{"$f":"'SHALA DARPAN DATA'!B3246","v":0},{"$f":"'SHALA DARPAN DATA'!D3246","v":0},{"$f":"'SHALA DARPAN DATA'!J3246","v":0},{"$f":"'SHALA DARPAN DATA'!T3246","v":0},{"$f":"'SHALA DARPAN DATA'!V3246","v":0},{"$f":"'SHALA DARPAN DATA'!K3246","v":0},{"$f":"'SHALA DARPAN DATA'!E3246","v":0},{"$f":"'SHALA DARPAN DATA'!G3246","v":0},{"$f":"'SHALA DARPAN DATA'!H3246","v":0},{"$f":"'SHALA DARPAN DATA'!W3246","v":0},{"$f":"'SHALA DARPAN DATA'!R3246","v":0},{"$f":"'SHALA DARPAN DATA'!S3246","v":0},{"$f":"'SHALA DARPAN DATA'!O3246","v":0},0,0,0,0,0,0,0,0,0,0,0]
[{"$f":"'SHALA DARPAN DATA'!C3247","v":0},{"$f":"'SHALA DARPAN DATA'!A3247","v":0},{"$f":"'SHALA DARPAN DATA'!B3247","v":0},{"$f":"'SHALA DARPAN DATA'!D3247","v":0},{"$f":"'SHALA DARPAN DATA'!J3247","v":0},{"$f":"'SHALA DARPAN DATA'!T3247","v":0},{"$f":"'SHALA DARPAN DATA'!V3247","v":0},{"$f":"'SHALA DARPAN DATA'!K3247","v":0},{"$f":"'SHALA DARPAN DATA'!E3247","v":0},{"$f":"'SHALA DARPAN DATA'!G3247","v":0},{"$f":"'SHALA DARPAN DATA'!H3247","v":0},{"$f":"'SHALA DARPAN DATA'!W3247","v":0},{"$f":"'SHALA DARPAN DATA'!R3247","v":0},{"$f":"'SHALA DARPAN DATA'!S3247","v":0},{"$f":"'SHALA DARPAN DATA'!O3247","v":0},0,0,0,0,0,0,0,0,0,0,0]
[{"$f":"'SHALA DARPAN DATA'!C3253","v":0},{"$f":"'SHALA DARPAN DATA'!A3253","v":0},{"$f":"'SHALA DARPAN DATA'!B3253","v":0},{"$f":"'SHALA DARPAN DATA'!D3253","v":0},{"$f":"'SHALA DARPAN DATA'!J3253","v":0},{"$f":"'SHALA DARPAN DATA'!T3253","v":0},{"$f":"'SHALA DARPAN DATA'!V3253","v":0},{"$f":"'SHALA DARPAN DATA'!K3253","v":0},{"$f":"'SHALA DARPAN DATA'!E3253","v":0},{"$f":"'SHALA DARPAN DATA'!G3253","v":0},{"$f":"'SHALA DARPAN DATA'!H3253","v":0},{"$f":"'SHALA DARPAN DATA'!W3253","v":0},{"$f":"'SHALA DARPAN DATA'!R3253","v":0},{"$f":"'SHALA DARPAN DATA'!S3253","v":0},{"$f":"'SHALA DARPAN DATA'!O3253","v":0},0,0,0,0,0,0,0,0,0,0,0]
[{"$f":"'SHALA DARPAN DATA'!C3256","v":0},{"$f":"'SHALA DARPAN DATA'!A3256","v":0},{"$f":"'SHALA DARPAN DATA'!B3256","v":0},{"$f":"'SHALA DARPAN DATA'!D3256","v":0},{"$f":"'SHALA DARPAN DATA'!J3256","v":0},{"$f":"'SHALA DARPAN DATA'!T3256","v":0},{"$f":"'SHALA DARPAN DATA'!V3256","v":0},{"$f":"'SHALA DARPAN DATA'!K3256","v":0},{"$f":"'SHALA DARPAN DATA'!E3256","v":0},{"$f":"'SHALA DARPAN DATA'!G3256","v":0},{"$f":"'SHALA DARPAN DATA'!H3256","v":0},{"$f":"'SHALA DARPAN DATA'!W3256","v":0},{"$f":"'SHALA DARPAN DATA'!R3256","v":0},{"$f":"'SHALA DARPAN DATA'!S3256","v":0},{"$f":"'SHALA DARPAN DATA'!O3256","v":0},0,0,0,0,0,0,0,0,0,0,0]
[{"$f":"'SHALA DARPAN DATA'!C3261","v":0},{"$f":"'SHALA DARPAN DATA'!A3261","v":0},{"$f":"'SHALA DARPAN DATA'!B3261","v":0},{"$f":"'SHALA DARPAN DATA'!D3261","v":0},{"$f":"'SHALA DARPAN DATA'!J3261","v":0},{"$f":"'SHALA DARPAN DATA'!T3261","v":0},{"$f":"'SHALA DARPAN DATA'!V3261","v":0},{"$f":"'SHALA DARPAN DATA'!K3261","v":0},{"$f":"'SHALA DARPAN DATA'!E3261","v":0},{"$f":"'SHALA DARPAN DATA'!G3261","v":0},{"$f":"'SHALA DARPAN DATA'!H3261","v":0},{"$f":"'SHALA DARPAN DATA'!W3261","v":0},{"$f":"'SHALA DARPAN DATA'!R3261","v":0},{"$f":"'SHALA DARPAN DATA'!S3261","v":0},{"$f":"'SHALA DARPAN DATA'!O3261","v":0},0,0,0,0,0,0,0,0,0,0,0]
[{"$f":"'SHALA DARPAN DATA'!C3262","v":0},{"$f":"'SHALA DARPAN DATA'!A3262","v":0},{"$f":"'SHALA DARPAN DATA'!B3262","v":0},{"$f":"'SHALA DARPAN DATA'!D3262","v":0},{"$f":"'SHALA DARPAN DATA'!J3262","v":0},{"$f":"'SHALA DARPAN DATA'!T3262","v":0},{"$f":"'SHALA DARPAN DATA'!V3262","v":0},{"$f":"'SHALA DARPAN DATA'!K3262","v":0},{"$f":"'SHALA DARPAN DATA'!E3262","v":0},{"$f":"'SHALA DARPAN DATA'!G3262","v":0},{"$f":"'SHALA DARPAN DATA'!H3262","v":0},{"$f":"'SHALA DARPAN DATA'!W3262","v":0},{"$f":"'SHALA DARPAN DATA'!R3262","v":0},{"$f":"'SHALA DARPAN DATA'!S3262","v":0},{"$f":"'SHALA DARPAN DATA'!O3262","v":0},0,0,0,0,0,0,0,0,0,0,0]
[{"$f":"'SHALA DARPAN DATA'!C3266","v":0},{"$f":"'SHALA DARPAN DATA'!A3266","v":0},{"$f":"'SHALA DARPAN DATA'!B3266","v":0},{"$f":"'SHALA DARPAN DATA'!D3266","v":0},{"$f":"'SHALA DARPAN DATA'!J3266","v":0},{"$f":"'SHALA DARPAN DATA'!T3266","v":0},{"$f":"'SHALA DARPAN DATA'!V3266","v":0},{"$f":"'SHALA DARPAN DATA'!K3266","v":0},{"$f":"'SHALA DARPAN DATA'!E3266","v":0},{"$f":"'SHALA DARPAN DATA'!G3266","v":0},{"$f":"'SHALA DARPAN DATA'!H3266","v":0},{"$f":"'SHALA DARPAN DATA'!W3266","v":0},{"$f":"'SHALA DARPAN DATA'!R3266","v":0},{"$f":"'SHALA DARPAN DATA'!S3266","v":0},{"$f":"'SHALA DARPAN DATA'!O3266","v":0},0,0,0,0,0,0,0,0,0,0,0]
[{"$f":"'SHALA DARPAN DATA'!C3271","v":0},{"$f":"'SHALA DARPAN DATA'!A3271","v":0},{"$f":"'SHALA DARPAN DATA'!B3271","v":0},{"$f":"'SHALA DARPAN DATA'!D3271","v":0},{"$f":"'SHALA DARPAN DATA'!J3271","v":0},{"$f":"'SHALA DARPAN DATA'!T3271","v":0},{"$f":"'SHALA DARPAN DATA'!V3271","v":0},{"$f":"'SHALA DARPAN DATA'!K3271","v":0},{"$f":"'SHALA DARPAN DATA'!E3271","v":0},{"$f":"'SHALA DARPAN DATA'!G3271","v":0},{"$f":"'SHALA DARPAN DATA'!H3271","v":0},{"$f":"'SHALA DARPAN DATA'!W3271","v":0},{"$f":"'SHALA DARPAN DATA'!R3271","v":0},{"$f":"'SHALA DARPAN DATA'!S3271","v":0},{"$f":"'SHALA DARPAN DATA'!O3271","v":0},0,0,0,0,0,0,0,0,0,0,0]
[{"$f":"'SHALA DARPAN DATA'!C3276","v":0},{"$f":"'SHALA DARPAN DATA'!A3276","v":0},{"$f":"'SHALA DARPAN DATA'!B3276","v":0},{"$f":"'SHALA DARPAN DATA'!D3276","v":0},{"$f":"'SHALA DARPAN DATA'!J3276","v":0},{"$f":"'SHALA DARPAN DATA'!T3276","v":0},{"$f":"'SHALA DARPAN DATA'!V3276","v":0},{"$f":"'SHALA DARPAN DATA'!K3276","v":0},{"$f":"'SHALA DARPAN DATA'!E3276","v":0},{"$f":"'SHALA DARPAN DATA'!G3276","v":0},{"$f":"'SHALA DARPAN DATA'!H3276","v":0},{"$f":"'SHALA DARPAN DATA'!W3276","v":0},{"$f":"'SHALA DARPAN DATA'!R3276","v":0},{"$f":"'SHALA DARPAN DATA'!S3276","v":0},{"$f":"'SHALA DARPAN DATA'!O3276","v":0},0,0,0,0,0,0,0,0,0,0,0]
[{"$f":"'SHALA DARPAN DATA'!C3277","v":0},{"$f":"'SHALA DARPAN DATA'!A3277","v":0},{"$f":"'SHALA DARPAN DATA'!B3277","v":0},{"$f":"'SHALA DARPAN DATA'!D3277","v":0},{"$f":"'SHALA DARPAN DATA'!J3277","v":0},{"$f":"'SHALA DARPAN DATA'!T3277","v":0},{"$f":"'SHALA DARPAN DATA'!V3277","v":0},{"$f":"'SHALA DARPAN DATA'!K3277","v":0},{"$f":"'SHALA DARPAN DATA'!E3277","v":0},{"$f":"'SHALA DARPAN DATA'!G3277","v":0},{"$f":"'SHALA DARPAN DATA'!H3277","v":0},{"$f":"'SHALA DARPAN DATA'!W3277","v":0},{"$f":"'SHALA DARPAN DATA'!R3277","v":0},{"$f":"'SHALA DARPAN DATA'!S3277","v":0},{"$f":"'SHALA DARPAN DATA'!O3277","v":0},0,0,0,0,0,0,0,0,0,0,0]
[{"$f":"'SHALA DARPAN DATA'!C3283","v":0},{"$f":"'SHALA DARPAN DATA'!A3283","v":0},{"$f":"'SHALA DARPAN DATA'!B3283","v":0},{"$f":"'SHALA DARPAN DATA'!D3283","v":0},{"$f":"'SHALA DARPAN DATA'!J3283","v":0},{"$f":"'SHALA DARPAN DATA'!T3283","v":0},{"$f":"'SHALA DARPAN DATA'!V3283","v":0},{"$f":"'SHALA DARPAN DATA'!K3283","v":0},{"$f":"'SHALA DARPAN DATA'!E3283","v":0},{"$f":"'SHALA DARPAN DATA'!G3283","v":0},{"$f":"'SHALA DARPAN DATA'!H3283","v":0},{"$f":"'SHALA DARPAN DATA'!W3283","v":0},{"$f":"'SHALA DARPAN DATA'!R3283","v":0},{"$f":"'SHALA DARPAN DATA'!S3283","v":0},{"$f":"'SHALA DARPAN DATA'!O3283","v":0},0,0,0,0,0,0,0,0,0,0,0]
[{"$f":"'SHALA DARPAN DATA'!C3286","v":0},{"$f":"'SHALA DARPAN DATA'!A3286","v":0},{"$f":"'SHALA DARPAN DATA'!B3286","v":0},{"$f":"'SHALA DARPAN DATA'!D3286","v":0},{"$f":"'SHALA DARPAN DATA'!J3286","v":0},{"$f":"'SHALA DARPAN DATA'!T3286","v":0},{"$f":"'SHALA DARPAN DATA'!V3286","v":0},{"$f":"'SHALA DARPAN DATA'!K3286","v":0},{"$f":"'SHALA DARPAN DATA'!E3286","v":0},{"$f":"'SHALA DARPAN DATA'!G3286","v":0},{"$f":"'SHALA DARPAN DATA'!H3286","v":0},{"$f":"'SHALA DARPAN DATA'!W3286","v":0},{"$f":"'SHALA DARPAN DATA'!R3286","v":0},{"$f":"'SHALA DARPAN DATA'!S3286","v":0},{"$f":"'SHALA DARPAN DATA'!O3286","v":0},0,0,0,0,0,0,0,0,0,0,0]
[{"$f":"'SHALA DARPAN DATA'!C3291","v":0},{"$f":"'SHALA DARPAN DATA'!A3291","v":0},{"$f":"'SHALA DARPAN DATA'!B3291","v":0},{"$f":"'SHALA DARPAN DATA'!D3291","v":0},{"$f":"'SHALA DARPAN DATA'!J3291","v":0},{"$f":"'SHALA DARPAN DATA'!T3291","v":0},{"$f":"'SHALA DARPAN DATA'!V3291","v":0},{"$f":"'SHALA DARPAN DATA'!K3291","v":0},{"$f":"'SHALA DARPAN DATA'!E3291","v":0},{"$f":"'SHALA DARPAN DATA'!G3291","v":0},{"$f":"'SHALA DARPAN DATA'!H3291","v":0},{"$f":"'SHALA DARPAN DATA'!W3291","v":0},{"$f":"'SHALA DARPAN DATA'!R3291","v":0},{"$f":"'SHALA DARPAN DATA'!S3291","v":0},{"$f":"'SHALA DARPAN DATA'!O3291","v":0},0,0,0,0,0,0,0,0,0,0,0]
[{"$f":"'SHALA DARPAN DATA'!C3292","v":0},{"$f":"'SHALA DARPAN DATA'!A3292","v":0},{"$f":"'SHALA DARPAN DATA'!B3292","v":0},{"$f":"'SHALA DARPAN DATA'!D3292","v":0},{"$f":"'SHALA DARPAN DATA'!J3292","v":0},{"$f":"'SHALA DARPAN DATA'!T3292","v":0},{"$f":"'SHALA DARPAN DATA'!V3292","v":0},{"$f":"'SHALA DARPAN DATA'!K3292","v":0},{"$f":"'SHALA DARPAN DATA'!E3292","v":0},{"$f":"'SHALA DARPAN DATA'!G3292","v":0},{"$f":"'SHALA DARPAN DATA'!H3292","v":0},{"$f":"'SHALA DARPAN DATA'!W3292","v":0},{"$f":"'SHALA DARPAN DATA'!R3292","v":0},{"$f":"'SHALA DARPAN DATA'!S3292","v":0},{"$f":"'SHALA DARPAN DATA'!O3292","v":0},0,0,0,0,0,0,0,0,0,0,0]
[{"$f":"'SHALA DARPAN DATA'!C3296","v":0},{"$f":"'SHALA DARPAN DATA'!A3296","v":0},{"$f":"'SHALA DARPAN DATA'!B3296","v":0},{"$f":"'SHALA DARPAN DATA'!D3296","v":0},{"$f":"'SHALA DARPAN DATA'!J3296","v":0},{"$f":"'SHALA DARPAN DATA'!T3296","v":0},{"$f":"'SHALA DARPAN DATA'!V3296","v":0},{"$f":"'SHALA DARPAN DATA'!K3296","v":0},{"$f":"'SHALA DARPAN DATA'!E3296","v":0},{"$f":"'SHALA DARPAN DATA'!G3296","v":0},{"$f":"'SHALA DARPAN DATA'!H3296","v":0},{"$f":"'SHALA DARPAN DATA'!W3296","v":0},{"$f":"'SHALA DARPAN DATA'!R3296","v":0},{"$f":"'SHALA DARPAN DATA'!S3296","v":0},{"$f":"'SHALA DARPAN DATA'!O3296","v":0},0,0,0,0,0,0,0,0,0,0,0]
[{"$f":"'SHALA DARPAN DATA'!C3301","v":0},{"$f":"'SHALA DARPAN DATA'!A3301","v":0},{"$f":"'SHALA DARPAN DATA'!B3301","v":0},{"$f":"'SHALA DARPAN DATA'!D3301","v":0},{"$f":"'SHALA DARPAN DATA'!J3301","v":0},{"$f":"'SHALA DARPAN DATA'!T3301","v":0},{"$f":"'SHALA DARPAN DATA'!V3301","v":0},{"$f":"'SHALA DARPAN DATA'!K3301","v":0},{"$f":"'SHALA DARPAN DATA'!E3301","v":0},{"$f":"'SHALA DARPAN DATA'!G3301","v":0},{"$f":"'SHALA DARPAN DATA'!H3301","v":0},{"$f":"'SHALA DARPAN DATA'!W3301","v":0},{"$f":"'SHALA DARPAN DATA'!R3301","v":0},{"$f":"'SHALA DARPAN DATA'!S3301","v":0},{"$f":"'SHALA DARPAN DATA'!O3301","v":0},0,0,0,0,0,0,0,0,0,0,0]
[{"$f":"'SHALA DARPAN DATA'!C3306","v":0},{"$f":"'SHALA DARPAN DATA'!A3306","v":0},{"$f":"'SHALA DARPAN DATA'!B3306","v":0},{"$f":"'SHALA DARPAN DATA'!D3306","v":0},{"$f":"'SHALA DARPAN DATA'!J3306","v":0},{"$f":"'SHALA DARPAN DATA'!T3306","v":0},{"$f":"'SHALA DARPAN DATA'!V3306","v":0},{"$f":"'SHALA DARPAN DATA'!K3306","v":0},{"$f":"'SHALA DARPAN DATA'!E3306","v":0},{"$f":"'SHALA DARPAN DATA'!G3306","v":0},{"$f":"'SHALA DARPAN DATA'!H3306","v":0},{"$f":"'SHALA DARPAN DATA'!W3306","v":0},{"$f":"'SHALA DARPAN DATA'!R3306","v":0},{"$f":"'SHALA DARPAN DATA'!S3306","v":0},{"$f":"'SHALA DARPAN DATA'!O3306","v":0},0,0,0,0,0,0,0,0,0,0,0]
[{"$f":"'SHALA DARPAN DATA'!C3307","v":0},{"$f":"'SHALA DARPAN DATA'!A3307","v":0},{"$f":"'SHALA DARPAN DATA'!B3307","v":0},{"$f":"'SHALA DARPAN DATA'!D3307","v":0},{"$f":"'SHALA DARPAN DATA'!J3307","v":0},{"$f":"'SHALA DARPAN DATA'!T3307","v":0},{"$f":"'SHALA DARPAN DATA'!V3307","v":0},{"$f":"'SHALA DARPAN DATA'!K3307","v":0},{"$f":"'SHALA DARPAN DATA'!E3307","v":0},{"$f":"'SHALA DARPAN DATA'!G3307","v":0},{"$f":"'SHALA DARPAN DATA'!H3307","v":0},{"$f":"'SHALA DARPAN DATA'!W3307","v":0},{"$f":"'SHALA DARPAN DATA'!R3307","v":0},{"$f":"'SHALA DARPAN DATA'!S3307","v":0},{"$f":"'SHALA DARPAN DATA'!O3307","v":0},0,0,0,0,0,0,0,0,0,0,0]
[{"$f":"'SHALA DARPAN DATA'!C3313","v":0},{"$f":"'SHALA DARPAN DATA'!A3313","v":0},{"$f":"'SHALA DARPAN DATA'!B3313","v":0},{"$f":"'SHALA DARPAN DATA'!D3313","v":0},{"$f":"'SHALA DARPAN DATA'!J3313","v":0},{"$f":"'SHALA DARPAN DATA'!T3313","v":0},{"$f":"'SHALA DARPAN DATA'!V3313","v":0},{"$f":"'SHALA DARPAN DATA'!K3313","v":0},{"$f":"'SHALA DARPAN DATA'!E3313","v":0},{"$f":"'SHALA DARPAN DATA'!G3313","v":0},{"$f":"'SHALA DARPAN DATA'!H3313","v":0},{"$f":"'SHALA DARPAN DATA'!W3313","v":0},{"$f":"'SHALA DARPAN DATA'!R3313","v":0},{"$f":"'SHALA DARPAN DATA'!S3313","v":0},{"$f":"'SHALA DARPAN DATA'!O3313","v":0},0,0,0,0,0,0,0,0,0,0,0]
[{"$f":"'SHALA DARPAN DATA'!C3316","v":0},{"$f":"'SHALA DARPAN DATA'!A3316","v":0},{"$f":"'SHALA DARPAN DATA'!B3316","v":0},{"$f":"'SHALA DARPAN DATA'!D3316","v":0},{"$f":"'SHALA DARPAN DATA'!J3316","v":0},{"$f":"'SHALA DARPAN DATA'!T3316","v":0},{"$f":"'SHALA DARPAN DATA'!V3316","v":0},{"$f":"'SHALA DARPAN DATA'!K3316","v":0},{"$f":"'SHALA DARPAN DATA'!E3316","v":0},{"$f":"'SHALA DARPAN DATA'!G3316","v":0},{"$f":"'SHALA DARPAN DATA'!H3316","v":0},{"$f":"'SHALA DARPAN DATA'!W3316","v":0},{"$f":"'SHALA DARPAN DATA'!R3316","v":0},{"$f":"'SHALA DARPAN DATA'!S3316","v":0},{"$f":"'SHALA DARPAN DATA'!O3316","v":0},0,0,0,0,0,0,0,0,0,0,0]
[{"$f":"'SHALA DARPAN DATA'!C3321","v":0},{"$f":"'SHALA DARPAN DATA'!A3321","v":0},{"$f":"'SHALA DARPAN DATA'!B3321","v":0},{"$f":"'SHALA DARPAN DATA'!D3321","v":0},{"$f":"'SHALA DARPAN DATA'!J3321","v":0},{"$f":"'SHALA DARPAN DATA'!T3321","v":0},{"$f":"'SHALA DARPAN DATA'!V3321","v":0},{"$f":"'SHALA DARPAN DATA'!K3321","v":0},{"$f":"'SHALA DARPAN DATA'!E3321","v":0},{"$f":"'SHALA DARPAN DATA'!G3321","v":0},{"$f":"'SHALA DARPAN DATA'!H3321","v":0},{"$f":"'SHALA DARPAN DATA'!W3321","v":0},{"$f":"'SHALA DARPAN DATA'!R3321","v":0},{"$f":"'SHALA DARPAN DATA'!S3321","v":0},{"$f":"'SHALA DARPAN DATA'!O3321","v":0},0,0,0,0,0,0,0,0,0,0,0]
[{"$f":"'SHALA DARPAN DATA'!C3322","v":0},{"$f":"'SHALA DARPAN DATA'!A3322","v":0},{"$f":"'SHALA DARPAN DATA'!B3322","v":0},{"$f":"'SHALA DARPAN DATA'!D3322","v":0},{"$f":"'SHALA DARPAN DATA'!J3322","v":0},{"$f":"'SHALA DARPAN DATA'!T3322","v":0},{"$f":"'SHALA DARPAN DATA'!V3322","v":0},{"$f":"'SHALA DARPAN DATA'!K3322","v":0},{"$f":"'SHALA DARPAN DATA'!E3322","v":0},{"$f":"'SHALA DARPAN DATA'!G3322","v":0},{"$f":"'SHALA DARPAN DATA'!H3322","v":0},{"$f":"'SHALA DARPAN DATA'!W3322","v":0},{"$f":"'SHALA DARPAN DATA'!R3322","v":0},{"$f":"'SHALA DARPAN DATA'!S3322","v":0},{"$f":"'SHALA DARPAN DATA'!O3322","v":0},0,0,0,0,0,0,0,0,0,0,0]
[{"$f":"'SHALA DARPAN DATA'!C3326","v":0},{"$f":"'SHALA DARPAN DATA'!A3326","v":0},{"$f":"'SHALA DARPAN DATA'!B3326","v":0},{"$f":"'SHALA DARPAN DATA'!D3326","v":0},{"$f":"'SHALA DARPAN DATA'!J3326","v":0},{"$f":"'SHALA DARPAN DATA'!T3326","v":0},{"$f":"'SHALA DARPAN DATA'!V3326","v":0},{"$f":"'SHALA DARPAN DATA'!K3326","v":0},{"$f":"'SHALA DARPAN DATA'!E3326","v":0},{"$f":"'SHALA DARPAN DATA'!G3326","v":0},{"$f":"'SHALA DARPAN DATA'!H3326","v":0},{"$f":"'SHALA DARPAN DATA'!W3326","v":0},{"$f":"'SHALA DARPAN DATA'!R3326","v":0},{"$f":"'SHALA DARPAN DATA'!S3326","v":0},{"$f":"'SHALA DARPAN DATA'!O3326","v":0},0,0,0,0,0,0,0,0,0,0,0]
[{"$f":"'SHALA DARPAN DATA'!C3331","v":0},{"$f":"'SHALA DARPAN DATA'!A3331","v":0},{"$f":"'SHALA DARPAN DATA'!B3331","v":0},{"$f":"'SHALA DARPAN DATA'!D3331","v":0},{"$f":"'SHALA DARPAN DATA'!J3331","v":0},{"$f":"'SHALA DARPAN DATA'!T3331","v":0},{"$f":"'SHALA DARPAN DATA'!V3331","v":0},{"$f":"'SHALA DARPAN DATA'!K3331","v":0},{"$f":"'SHALA DARPAN DATA'!E3331","v":0},{"$f":"'SHALA DARPAN DATA'!G3331","v":0},{"$f":"'SHALA DARPAN DATA'!H3331","v":0},{"$f":"'SHALA DARPAN DATA'!W3331","v":0},{"$f":"'SHALA DARPAN DATA'!R3331","v":0},{"$f":"'SHALA DARPAN DATA'!S3331","v":0},{"$f":"'SHALA DARPAN DATA'!O3331","v":0},0,0,0,0,0,0,0,0,0,0,0]
[{"$f":"'SHALA DARPAN DATA'!C3336","v":0},{"$f":"'SHALA DARPAN DATA'!A3336","v":0},{"$f":"'SHALA DARPAN DATA'!B3336","v":0},{"$f":"'SHALA DARPAN DATA'!D3336","v":0},{"$f":"'SHALA DARPAN DATA'!J3336","v":0},{"$f":"'SHALA DARPAN DATA'!T3336","v":0},{"$f":"'SHALA DARPAN DATA'!V3336","v":0},{"$f":"'SHALA DARPAN DATA'!K3336","v":0},{"$f":"'SHALA DARPAN DATA'!E3336","v":0},{"$f":"'SHALA DARPAN DATA'!G3336","v":0},{"$f":"'SHALA DARPAN DATA'!H3336","v":0},{"$f":"'SHALA DARPAN DATA'!W3336","v":0},{"$f":"'SHALA DARPAN DATA'!R3336","v":0},{"$f":"'SHALA DARPAN DATA'!S3336","v":0},{"$f":"'SHALA DARPAN DATA'!O3336","v":0},0,0,0,0,0,0,0,0,0,0,0]
[{"$f":"'SHALA DARPAN DATA'!C3337","v":0},{"$f":"'SHALA DARPAN DATA'!A3337","v":0},{"$f":"'SHALA DARPAN DATA'!B3337","v":0},{"$f":"'SHALA DARPAN DATA'!D3337","v":0},{"$f":"'SHALA DARPAN DATA'!J3337","v":0},{"$f":"'SHALA DARPAN DATA'!T3337","v":0},{"$f":"'SHALA DARPAN DATA'!V3337","v":0},{"$f":"'SHALA DARPAN DATA'!K3337","v":0},{"$f":"'SHALA DARPAN DATA'!E3337","v":0},{"$f":"'SHALA DARPAN DATA'!G3337","v":0},{"$f":"'SHALA DARPAN DATA'!H3337","v":0},{"$f":"'SHALA DARPAN DATA'!W3337","v":0},{"$f":"'SHALA DARPAN DATA'!R3337","v":0},{"$f":"'SHALA DARPAN DATA'!S3337","v":0},{"$f":"'SHALA DARPAN DATA'!O3337","v":0},0,0,0,0,0,0,0,0,0,0,0]
[{"$f":"'SHALA DARPAN DATA'!C3343","v":0},{"$f":"'SHALA DARPAN DATA'!A3343","v":0},{"$f":"'SHALA DARPAN DATA'!B3343","v":0},{"$f":"'SHALA DARPAN DATA'!D3343","v":0},{"$f":"'SHALA DARPAN DATA'!J3343","v":0},{"$f":"'SHALA DARPAN DATA'!T3343","v":0},{"$f":"'SHALA DARPAN DATA'!V3343","v":0},{"$f":"'SHALA DARPAN DATA'!K3343","v":0},{"$f":"'SHALA DARPAN DATA'!E3343","v":0},{"$f":"'SHALA DARPAN DATA'!G3343","v":0},{"$f":"'SHALA DARPAN DATA'!H3343","v":0},{"$f":"'SHALA DARPAN DATA'!W3343","v":0},{"$f":"'SHALA DARPAN DATA'!R3343","v":0},{"$f":"'SHALA DARPAN DATA'!S3343","v":0},{"$f":"'SHALA DARPAN DATA'!O3343","v":0},0,0,0,0,0,0,0,0,0,0,0]
[{"$f":"'SHALA DARPAN DATA'!C3346","v":0},{"$f":"'SHALA DARPAN DATA'!A3346","v":0},{"$f":"'SHALA DARPAN DATA'!B3346","v":0},{"$f":"'SHALA DARPAN DATA'!D3346","v":0},{"$f":"'SHALA DARPAN DATA'!J3346","v":0},{"$f":"'SHALA DARPAN DATA'!T3346","v":0},{"$f":"'SHALA DARPAN DATA'!V3346","v":0},{"$f":"'SHALA DARPAN DATA'!K3346","v":0},{"$f":"'SHALA DARPAN DATA'!E3346","v":0},{"$f":"'SHALA DARPAN DATA'!G3346","v":0},{"$f":"'SHALA DARPAN DATA'!H3346","v":0},{"$f":"'SHALA DARPAN DATA'!W3346","v":0},{"$f":"'SHALA DARPAN DATA'!R3346","v":0},{"$f":"'SHALA DARPAN DATA'!S3346","v":0},{"$f":"'SHALA DARPAN DATA'!O3346","v":0},0,0,0,0,0,0,0,0,0,0,0]
[{"$f":"'SHALA DARPAN DATA'!C3351","v":0},{"$f":"'SHALA DARPAN DATA'!A3351","v":0},{"$f":"'SHALA DARPAN DATA'!B3351","v":0},{"$f":"'SHALA DARPAN DATA'!D3351","v":0},{"$f":"'SHALA DARPAN DATA'!J3351","v":0},{"$f":"'SHALA DARPAN DATA'!T3351","v":0},{"$f":"'SHALA DARPAN DATA'!V3351","v":0},{"$f":"'SHALA DARPAN DATA'!K3351","v":0},{"$f":"'SHALA DARPAN DATA'!E3351","v":0},{"$f":"'SHALA DARPAN DATA'!G3351","v":0},{"$f":"'SHALA DARPAN DATA'!H3351","v":0},{"$f":"'SHALA DARPAN DATA'!W3351","v":0},{"$f":"'SHALA DARPAN DATA'!R3351","v":0},{"$f":"'SHALA DARPAN DATA'!S3351","v":0},{"$f":"'SHALA DARPAN DATA'!O3351","v":0},0,0,0,0,0,0,0,0,0,0,0]
[{"$f":"'SHALA DARPAN DATA'!C3352","v":0},{"$f":"'SHALA DARPAN DATA'!A3352","v":0},{"$f":"'SHALA DARPAN DATA'!B3352","v":0},{"$f":"'SHALA DARPAN DATA'!D3352","v":0},{"$f":"'SHALA DARPAN DATA'!J3352","v":0},{"$f":"'SHALA DARPAN DATA'!T3352","v":0},{"$f":"'SHALA DARPAN DATA'!V3352","v":0},{"$f":"'SHALA DARPAN DATA'!K3352","v":0},{"$f":"'SHALA DARPAN DATA'!E3352","v":0},{"$f":"'SHALA DARPAN DATA'!G3352","v":0},{"$f":"'SHALA DARPAN DATA'!H3352","v":0},{"$f":"'SHALA DARPAN DATA'!W3352","v":0},{"$f":"'SHALA DARPAN DATA'!R3352","v":0},{"$f":"'SHALA DARPAN DATA'!S3352","v":0},{"$f":"'SHALA DARPAN DATA'!O3352","v":0},0,0,0,0,0,0,0,0,0,0,0]
[{"$f":"'SHALA DARPAN DATA'!C3356","v":0},{"$f":"'SHALA DARPAN DATA'!A3356","v":0},{"$f":"'SHALA DARPAN DATA'!B3356","v":0},{"$f":"'SHALA DARPAN DATA'!D3356","v":0},{"$f":"'SHALA DARPAN DATA'!J3356","v":0},{"$f":"'SHALA DARPAN DATA'!T3356","v":0},{"$f":"'SHALA DARPAN DATA'!V3356","v":0},{"$f":"'SHALA DARPAN DATA'!K3356","v":0},{"$f":"'SHALA DARPAN DATA'!E3356","v":0},{"$f":"'SHALA DARPAN DATA'!G3356","v":0},{"$f":"'SHALA DARPAN DATA'!H3356","v":0},{"$f":"'SHALA DARPAN DATA'!W3356","v":0},{"$f":"'SHALA DARPAN DATA'!R3356","v":0},{"$f":"'SHALA DARPAN DATA'!S3356","v":0},{"$f":"'SHALA DARPAN DATA'!O3356","v":0},0,0,0,0,0,0,0,0,0,0,0]
[{"$f":"'SHALA DARPAN DATA'!C3361","v":0},{"$f":"'SHALA DARPAN DATA'!A3361","v":0},{"$f":"'SHALA DARPAN DATA'!B3361","v":0},{"$f":"'SHALA DARPAN DATA'!D3361","v":0},{"$f":"'SHALA DARPAN DATA'!J3361","v":0},{"$f":"'SHALA DARPAN DATA'!T3361","v":0},{"$f":"'SHALA DARPAN DATA'!V3361","v":0},{"$f":"'SHALA DARPAN DATA'!K3361","v":0},{"$f":"'SHALA DARPAN DATA'!E3361","v":0},{"$f":"'SHALA DARPAN DATA'!G3361","v":0},{"$f":"'SHALA DARPAN DATA'!H3361","v":0},{"$f":"'SHALA DARPAN DATA'!W3361","v":0},{"$f":"'SHALA DARPAN DATA'!R3361","v":0},{"$f":"'SHALA DARPAN DATA'!S3361","v":0},{"$f":"'SHALA DARPAN DATA'!O3361","v":0},0,0,0,0,0,0,0,0,0,0,0]
[{"$f":"'SHALA DARPAN DATA'!C3366","v":0},{"$f":"'SHALA DARPAN DATA'!A3366","v":0},{"$f":"'SHALA DARPAN DATA'!B3366","v":0},{"$f":"'SHALA DARPAN DATA'!D3366","v":0},{"$f":"'SHALA DARPAN DATA'!J3366","v":0},{"$f":"'SHALA DARPAN DATA'!T3366","v":0},{"$f":"'SHALA DARPAN DATA'!V3366","v":0},{"$f":"'SHALA DARPAN DATA'!K3366","v":0},{"$f":"'SHALA DARPAN DATA'!E3366","v":0},{"$f":"'SHALA DARPAN DATA'!G3366","v":0},{"$f":"'SHALA DARPAN DATA'!H3366","v":0},{"$f":"'SHALA DARPAN DATA'!W3366","v":0},{"$f":"'SHALA DARPAN DATA'!R3366","v":0},{"$f":"'SHALA DARPAN DATA'!S3366","v":0},{"$f":"'SHALA DARPAN DATA'!O3366","v":0},0,0,0,0,0,0,0,0,0,0,0]
[{"$f":"'SHALA DARPAN DATA'!C3367","v":0},{"$f":"'SHALA DARPAN DATA'!A3367","v":0},{"$f":"'SHALA DARPAN DATA'!B3367","v":0},{"$f":"'SHALA DARPAN DATA'!D3367","v":0},{"$f":"'SHALA DARPAN DATA'!J3367","v":0},{"$f":"'SHALA DARPAN DATA'!T3367","v":0},{"$f":"'SHALA DARPAN DATA'!V3367","v":0},{"$f":"'SHALA DARPAN DATA'!K3367","v":0},{"$f":"'SHALA DARPAN DATA'!E3367","v":0},{"$f":"'SHALA DARPAN DATA'!G3367","v":0},{"$f":"'SHALA DARPAN DATA'!H3367","v":0},{"$f":"'SHALA DARPAN DATA'!W3367","v":0},{"$f":"'SHALA DARPAN DATA'!R3367","v":0},{"$f":"'SHALA DARPAN DATA'!S3367","v":0},{"$f":"'SHALA DARPAN DATA'!O3367","v":0},0,0,0,0,0,0,0,0,0,0,0]
[{"$f":"'SHALA DARPAN DATA'!C3373","v":0},{"$f":"'SHALA DARPAN DATA'!A3373","v":0},{"$f":"'SHALA DARPAN DATA'!B3373","v":0},{"$f":"'SHALA DARPAN DATA'!D3373","v":0},{"$f":"'SHALA DARPAN DATA'!J3373","v":0},{"$f":"'SHALA DARPAN DATA'!T3373","v":0},{"$f":"'SHALA DARPAN DATA'!V3373","v":0},{"$f":"'SHALA DARPAN DATA'!K3373","v":0},{"$f":"'SHALA DARPAN DATA'!E3373","v":0},{"$f":"'SHALA DARPAN DATA'!G3373","v":0},{"$f":"'SHALA DARPAN DATA'!H3373","v":0},{"$f":"'SHALA DARPAN DATA'!W3373","v":0},{"$f":"'SHALA DARPAN DATA'!R3373","v":0},{"$f":"'SHALA DARPAN DATA'!S3373","v":0},{"$f":"'SHALA DARPAN DATA'!O3373","v":0},0,0,0,0,0,0,0,0,0,0,0]
[{"$f":"'SHALA DARPAN DATA'!C3376","v":0},{"$f":"'SHALA DARPAN DATA'!A3376","v":0},{"$f":"'SHALA DARPAN DATA'!B3376","v":0},{"$f":"'SHALA DARPAN DATA'!D3376","v":0},{"$f":"'SHALA DARPAN DATA'!J3376","v":0},{"$f":"'SHALA DARPAN DATA'!T3376","v":0},{"$f":"'SHALA DARPAN DATA'!V3376","v":0},{"$f":"'SHALA DARPAN DATA'!K3376","v":0},{"$f":"'SHALA DARPAN DATA'!E3376","v":0},{"$f":"'SHALA DARPAN DATA'!G3376","v":0},{"$f":"'SHALA DARPAN DATA'!H3376","v":0},{"$f":"'SHALA DARPAN DATA'!W3376","v":0},{"$f":"'SHALA DARPAN DATA'!R3376","v":0},{"$f":"'SHALA DARPAN DATA'!S3376","v":0},{"$f":"'SHALA DARPAN DATA'!O3376","v":0},0,0,0,0,0,0,0,0,0,0,0]
[{"$f":"'SHALA DARPAN DATA'!C3381","v":0},{"$f":"'SHALA DARPAN DATA'!A3381","v":0},{"$f":"'SHALA DARPAN DATA'!B3381","v":0},{"$f":"'SHALA DARPAN DATA'!D3381","v":0},{"$f":"'SHALA DARPAN DATA'!J3381","v":0},{"$f":"'SHALA DARPAN DATA'!T3381","v":0},{"$f":"'SHALA DARPAN DATA'!V3381","v":0},{"$f":"'SHALA DARPAN DATA'!K3381","v":0},{"$f":"'SHALA DARPAN DATA'!E3381","v":0},{"$f":"'SHALA DARPAN DATA'!G3381","v":0},{"$f":"'SHALA DARPAN DATA'!H3381","v":0},{"$f":"'SHALA DARPAN DATA'!W3381","v":0},{"$f":"'SHALA DARPAN DATA'!R3381","v":0},{"$f":"'SHALA DARPAN DATA'!S3381","v":0},{"$f":"'SHALA DARPAN DATA'!O3381","v":0},0,0,0,0,0,0,0,0,0,0,0]
[{"$f":"'SHALA DARPAN DATA'!C3382","v":0},{"$f":"'SHALA DARPAN DATA'!A3382","v":0},{"$f":"'SHALA DARPAN DATA'!B3382","v":0},{"$f":"'SHALA DARPAN DATA'!D3382","v":0},{"$f":"'SHALA DARPAN DATA'!J3382","v":0},{"$f":"'SHALA DARPAN DATA'!T3382","v":0},{"$f":"'SHALA DARPAN DATA'!V3382","v":0},{"$f":"'SHALA DARPAN DATA'!K3382","v":0},{"$f":"'SHALA DARPAN DATA'!E3382","v":0},{"$f":"'SHALA DARPAN DATA'!G3382","v":0},{"$f":"'SHALA DARPAN DATA'!H3382","v":0},{"$f":"'SHALA DARPAN DATA'!W3382","v":0},{"$f":"'SHALA DARPAN DATA'!R3382","v":0},{"$f":"'SHALA DARPAN DATA'!S3382","v":0},{"$f":"'SHALA DARPAN DATA'!O3382","v":0},0,0,0,0,0,0,0,0,0,0,0]
[{"$f":"'SHALA DARPAN DATA'!C3386","v":0},{"$f":"'SHALA DARPAN DATA'!A3386","v":0},{"$f":"'SHALA DARPAN DATA'!B3386","v":0},{"$f":"'SHALA DARPAN DATA'!D3386","v":0},{"$f":"'SHALA DARPAN DATA'!J3386","v":0},{"$f":"'SHALA DARPAN DATA'!T3386","v":0},{"$f":"'SHALA DARPAN DATA'!V3386","v":0},{"$f":"'SHALA DARPAN DATA'!K3386","v":0},{"$f":"'SHALA DARPAN DATA'!E3386","v":0},{"$f":"'SHALA DARPAN DATA'!G3386","v":0},{"$f":"'SHALA DARPAN DATA'!H3386","v":0},{"$f":"'SHALA DARPAN DATA'!W3386","v":0},{"$f":"'SHALA DARPAN DATA'!R3386","v":0},{"$f":"'SHALA DARPAN DATA'!S3386","v":0},{"$f":"'SHALA DARPAN DATA'!O3386","v":0},0,0,0,0,0,0,0,0,0,0,0]
[{"$f":"'SHALA DARPAN DATA'!C3391","v":0},{"$f":"'SHALA DARPAN DATA'!A3391","v":0},{"$f":"'SHALA DARPAN DATA'!B3391","v":0},{"$f":"'SHALA DARPAN DATA'!D3391","v":0},{"$f":"'SHALA DARPAN DATA'!J3391","v":0},{"$f":"'SHALA DARPAN DATA'!T3391","v":0},{"$f":"'SHALA DARPAN DATA'!V3391","v":0},{"$f":"'SHALA DARPAN DATA'!K3391","v":0},{"$f":"'SHALA DARPAN DATA'!E3391","v":0},{"$f":"'SHALA DARPAN DATA'!G3391","v":0},{"$f":"'SHALA DARPAN DATA'!H3391","v":0},{"$f":"'SHALA DARPAN DATA'!W3391","v":0},{"$f":"'SHALA DARPAN DATA'!R3391","v":0},{"$f":"'SHALA DARPAN DATA'!S3391","v":0},{"$f":"'SHALA DARPAN DATA'!O3391","v":0},0,0,0,0,0,0,0,0,0,0,0]
[{"$f":"'SHALA DARPAN DATA'!C3396","v":0},{"$f":"'SHALA DARPAN DATA'!A3396","v":0},{"$f":"'SHALA DARPAN DATA'!B3396","v":0},{"$f":"'SHALA DARPAN DATA'!D3396","v":0},{"$f":"'SHALA DARPAN DATA'!J3396","v":0},{"$f":"'SHALA DARPAN DATA'!T3396","v":0},{"$f":"'SHALA DARPAN DATA'!V3396","v":0},{"$f":"'SHALA DARPAN DATA'!K3396","v":0},{"$f":"'SHALA DARPAN DATA'!E3396","v":0},{"$f":"'SHALA DARPAN DATA'!G3396","v":0},{"$f":"'SHALA DARPAN DATA'!H3396","v":0},{"$f":"'SHALA DARPAN DATA'!W3396","v":0},{"$f":"'SHALA DARPAN DATA'!R3396","v":0},{"$f":"'SHALA DARPAN DATA'!S3396","v":0},{"$f":"'SHALA DARPAN DATA'!O3396","v":0},0,0,0,0,0,0,0,0,0,0,0]
[{"$f":"'SHALA DARPAN DATA'!C3397","v":0},{"$f":"'SHALA DARPAN DATA'!A3397","v":0},{"$f":"'SHALA DARPAN DATA'!B3397","v":0},{"$f":"'SHALA DARPAN DATA'!D3397","v":0},{"$f":"'SHALA DARPAN DATA'!J3397","v":0},{"$f":"'SHALA DARPAN DATA'!T3397","v":0},{"$f":"'SHALA DARPAN DATA'!V3397","v":0},{"$f":"'SHALA DARPAN DATA'!K3397","v":0},{"$f":"'SHALA DARPAN DATA'!E3397","v":0},{"$f":"'SHALA DARPAN DATA'!G3397","v":0},{"$f":"'SHALA DARPAN DATA'!H3397","v":0},{"$f":"'SHALA DARPAN DATA'!W3397","v":0},{"$f":"'SHALA DARPAN DATA'!R3397","v":0},{"$f":"'SHALA DARPAN DATA'!S3397","v":0},{"$f":"'SHALA DARPAN DATA'!O3397","v":0},0,0,0,0,0,0,0,0,0,0,0]
[{"$f":"'SHALA DARPAN DATA'!C3403","v":0},{"$f":"'SHALA DARPAN DATA'!A3403","v":0},{"$f":"'SHALA DARPAN DATA'!B3403","v":0},{"$f":"'SHALA DARPAN DATA'!D3403","v":0},{"$f":"'SHALA DARPAN DATA'!J3403","v":0},{"$f":"'SHALA DARPAN DATA'!T3403","v":0},{"$f":"'SHALA DARPAN DATA'!V3403","v":0},{"$f":"'SHALA DARPAN DATA'!K3403","v":0},{"$f":"'SHALA DARPAN DATA'!E3403","v":0},{"$f":"'SHALA DARPAN DATA'!G3403","v":0},{"$f":"'SHALA DARPAN DATA'!H3403","v":0},{"$f":"'SHALA DARPAN DATA'!W3403","v":0},{"$f":"'SHALA DARPAN DATA'!R3403","v":0},{"$f":"'SHALA DARPAN DATA'!S3403","v":0},{"$f":"'SHALA DARPAN DATA'!O3403","v":0},0,0,0,0,0,0,0,0,0,0,0]
[{"$f":"'SHALA DARPAN DATA'!C3406","v":0},{"$f":"'SHALA DARPAN DATA'!A3406","v":0},{"$f":"'SHALA DARPAN DATA'!B3406","v":0},{"$f":"'SHALA DARPAN DATA'!D3406","v":0},{"$f":"'SHALA DARPAN DATA'!J3406","v":0},{"$f":"'SHALA DARPAN DATA'!T3406","v":0},{"$f":"'SHALA DARPAN DATA'!V3406","v":0},{"$f":"'SHALA DARPAN DATA'!K3406","v":0},{"$f":"'SHALA DARPAN DATA'!E3406","v":0},{"$f":"'SHALA DARPAN DATA'!G3406","v":0},{"$f":"'SHALA DARPAN DATA'!H3406","v":0},{"$f":"'SHALA DARPAN DATA'!W3406","v":0},{"$f":"'SHALA DARPAN DATA'!R3406","v":0},{"$f":"'SHALA DARPAN DATA'!S3406","v":0},{"$f":"'SHALA DARPAN DATA'!O3406","v":0},0,0,0,0,0,0,0,0,0,0,0]
[{"$f":"'SHALA DARPAN DATA'!C3411","v":0},{"$f":"'SHALA DARPAN DATA'!A3411","v":0},{"$f":"'SHALA DARPAN DATA'!B3411","v":0},{"$f":"'SHALA DARPAN DATA'!D3411","v":0},{"$f":"'SHALA DARPAN DATA'!J3411","v":0},{"$f":"'SHALA DARPAN DATA'!T3411","v":0},{"$f":"'SHALA DARPAN DATA'!V3411","v":0},{"$f":"'SHALA DARPAN DATA'!K3411","v":0},{"$f":"'SHALA DARPAN DATA'!E3411","v":0},{"$f":"'SHALA DARPAN DATA'!G3411","v":0},{"$f":"'SHALA DARPAN DATA'!H3411","v":0},{"$f":"'SHALA DARPAN DATA'!W3411","v":0},{"$f":"'SHALA DARPAN DATA'!R3411","v":0},{"$f":"'SHALA DARPAN DATA'!S3411","v":0},{"$f":"'SHALA DARPAN DATA'!O3411","v":0},0,0,0,0,0,0,0,0,0,0,0]
[{"$f":"'SHALA DARPAN DATA'!C3412","v":0},{"$f":"'SHALA DARPAN DATA'!A3412","v":0},{"$f":"'SHALA DARPAN DATA'!B3412","v":0},{"$f":"'SHALA DARPAN DATA'!D3412","v":0},{"$f":"'SHALA DARPAN DATA'!J3412","v":0},{"$f":"'SHALA DARPAN DATA'!T3412","v":0},{"$f":"'SHALA DARPAN DATA'!V3412","v":0},{"$f":"'SHALA DARPAN DATA'!K3412","v":0},{"$f":"'SHALA DARPAN DATA'!E3412","v":0},{"$f":"'SHALA DARPAN DATA'!G3412","v":0},{"$f":"'SHALA DARPAN DATA'!H3412","v":0},{"$f":"'SHALA DARPAN DATA'!W3412","v":0},{"$f":"'SHALA DARPAN DATA'!R3412","v":0},{"$f":"'SHALA DARPAN DATA'!S3412","v":0},{"$f":"'SHALA DARPAN DATA'!O3412","v":0},0,0,0,0,0,0,0,0,0,0,0]
[{"$f":"'SHALA DARPAN DATA'!C3416","v":0},{"$f":"'SHALA DARPAN DATA'!A3416","v":0},{"$f":"'SHALA DARPAN DATA'!B3416","v":0},{"$f":"'SHALA DARPAN DATA'!D3416","v":0},{"$f":"'SHALA DARPAN DATA'!J3416","v":0},{"$f":"'SHALA DARPAN DATA'!T3416","v":0},{"$f":"'SHALA DARPAN DATA'!V3416","v":0},{"$f":"'SHALA DARPAN DATA'!K3416","v":0},{"$f":"'SHALA DARPAN DATA'!E3416","v":0},{"$f":"'SHALA DARPAN DATA'!G3416","v":0},{"$f":"'SHALA DARPAN DATA'!H3416","v":0},{"$f":"'SHALA DARPAN DATA'!W3416","v":0},{"$f":"'SHALA DARPAN DATA'!R3416","v":0},{"$f":"'SHALA DARPAN DATA'!S3416","v":0},{"$f":"'SHALA DARPAN DATA'!O3416","v":0},0,0,0,0,0,0,0,0,0,0,0]
[{"$f":"'SHALA DARPAN DATA'!C3421","v":0},{"$f":"'SHALA DARPAN DATA'!A3421","v":0},{"$f":"'SHALA DARPAN DATA'!B3421","v":0},{"$f":"'SHALA DARPAN DATA'!D3421","v":0},{"$f":"'SHALA DARPAN DATA'!J3421","v":0},{"$f":"'SHALA DARPAN DATA'!T3421","v":0},{"$f":"'SHALA DARPAN DATA'!V3421","v":0},{"$f":"'SHALA DARPAN DATA'!K3421","v":0},{"$f":"'SHALA DARPAN DATA'!E3421","v":0},{"$f":"'SHALA DARPAN DATA'!G3421","v":0},{"$f":"'SHALA DARPAN DATA'!H3421","v":0},{"$f":"'SHALA DARPAN DATA'!W3421","v":0},{"$f":"'SHALA DARPAN DATA'!R3421","v":0},{"$f":"'SHALA DARPAN DATA'!S3421","v":0},{"$f":"'SHALA DARPAN DATA'!O3421","v":0},0,0,0,0,0,0,0,0,0,0,0]
[{"$f":"'SHALA DARPAN DATA'!C3426","v":0},{"$f":"'SHALA DARPAN DATA'!A3426","v":0},{"$f":"'SHALA DARPAN DATA'!B3426","v":0},{"$f":"'SHALA DARPAN DATA'!D3426","v":0},{"$f":"'SHALA DARPAN DATA'!J3426","v":0},{"$f":"'SHALA DARPAN DATA'!T3426","v":0},{"$f":"'SHALA DARPAN DATA'!V3426","v":0},{"$f":"'SHALA DARPAN DATA'!K3426","v":0},{"$f":"'SHALA DARPAN DATA'!E3426","v":0},{"$f":"'SHALA DARPAN DATA'!G3426","v":0},{"$f":"'SHALA DARPAN DATA'!H3426","v":0},{"$f":"'SHALA DARPAN DATA'!W3426","v":0},{"$f":"'SHALA DARPAN DATA'!R3426","v":0},{"$f":"'SHALA DARPAN DATA'!S3426","v":0},{"$f":"'SHALA DARPAN DATA'!O3426","v":0},0,0,0,0,0,0,0,0,0,0,0]
[{"$f":"'SHALA DARPAN DATA'!C3427","v":0},{"$f":"'SHALA DARPAN DATA'!A3427","v":0},{"$f":"'SHALA DARPAN DATA'!B3427","v":0},{"$f":"'SHALA DARPAN DATA'!D3427","v":0},{"$f":"'SHALA DARPAN DATA'!J3427","v":0},{"$f":"'SHALA DARPAN DATA'!T3427","v":0},{"$f":"'SHALA DARPAN DATA'!V3427","v":0},{"$f":"'SHALA DARPAN DATA'!K3427","v":0},{"$f":"'SHALA DARPAN DATA'!E3427","v":0},{"$f":"'SHALA DARPAN DATA'!G3427","v":0},{"$f":"'SHALA DARPAN DATA'!H3427","v":0},{"$f":"'SHALA DARPAN DATA'!W3427","v":0},{"$f":"'SHALA DARPAN DATA'!R3427","v":0},{"$f":"'SHALA DARPAN DATA'!S3427","v":0},{"$f":"'SHALA DARPAN DATA'!O3427","v":0},0,0,0,0,0,0,0,0,0,0,0]
[{"$f":"'SHALA DARPAN DATA'!C3433","v":0},{"$f":"'SHALA DARPAN DATA'!A3433","v":0},{"$f":"'SHALA DARPAN DATA'!B3433","v":0},{"$f":"'SHALA DARPAN DATA'!D3433","v":0},{"$f":"'SHALA DARPAN DATA'!J3433","v":0},{"$f":"'SHALA DARPAN DATA'!T3433","v":0},{"$f":"'SHALA DARPAN DATA'!V3433","v":0},{"$f":"'SHALA DARPAN DATA'!K3433","v":0},{"$f":"'SHALA DARPAN DATA'!E3433","v":0},{"$f":"'SHALA DARPAN DATA'!G3433","v":0},{"$f":"'SHALA DARPAN DATA'!H3433","v":0},{"$f":"'SHALA DARPAN DATA'!W3433","v":0},{"$f":"'SHALA DARPAN DATA'!R3433","v":0},{"$f":"'SHALA DARPAN DATA'!S3433","v":0},{"$f":"'SHALA DARPAN DATA'!O3433","v":0},0,0,0,0,0,0,0,0,0,0,0]
[{"$f":"'SHALA DARPAN DATA'!C3436","v":0},{"$f":"'SHALA DARPAN DATA'!A3436","v":0},{"$f":"'SHALA DARPAN DATA'!B3436","v":0},{"$f":"'SHALA DARPAN DATA'!D3436","v":0},{"$f":"'SHALA DARPAN DATA'!J3436","v":0},{"$f":"'SHALA DARPAN DATA'!T3436","v":0},{"$f":"'SHALA DARPAN DATA'!V3436","v":0},{"$f":"'SHALA DARPAN DATA'!K3436","v":0},{"$f":"'SHALA DARPAN DATA'!E3436","v":0},{"$f":"'SHALA DARPAN DATA'!G3436","v":0},{"$f":"'SHALA DARPAN DATA'!H3436","v":0},{"$f":"'SHALA DARPAN DATA'!W3436","v":0},{"$f":"'SHALA DARPAN DATA'!R3436","v":0},{"$f":"'SHALA DARPAN DATA'!S3436","v":0},{"$f":"'SHALA DARPAN DATA'!O3436","v":0},0,0,0,0,0,0,0,0,0,0,0]
[{"$f":"'SHALA DARPAN DATA'!C3441","v":0},{"$f":"'SHALA DARPAN DATA'!A3441","v":0},{"$f":"'SHALA DARPAN DATA'!B3441","v":0},{"$f":"'SHALA DARPAN DATA'!D3441","v":0},{"$f":"'SHALA DARPAN DATA'!J3441","v":0},{"$f":"'SHALA DARPAN DATA'!T3441","v":0},{"$f":"'SHALA DARPAN DATA'!V3441","v":0},{"$f":"'SHALA DARPAN DATA'!K3441","v":0},{"$f":"'SHALA DARPAN DATA'!E3441","v":0},{"$f":"'SHALA DARPAN DATA'!G3441","v":0},{"$f":"'SHALA DARPAN DATA'!H3441","v":0},{"$f":"'SHALA DARPAN DATA'!W3441","v":0},{"$f":"'SHALA DARPAN DATA'!R3441","v":0},{"$f":"'SHALA DARPAN DATA'!S3441","v":0},{"$f":"'SHALA DARPAN DATA'!O3441","v":0},0,0,0,0,0,0,0,0,0,0,0]
[{"$f":"'SHALA DARPAN DATA'!C3442","v":0},{"$f":"'SHALA DARPAN DATA'!A3442","v":0},{"$f":"'SHALA DARPAN DATA'!B3442","v":0},{"$f":"'SHALA DARPAN DATA'!D3442","v":0},{"$f":"'SHALA DARPAN DATA'!J3442","v":0},{"$f":"'SHALA DARPAN DATA'!T3442","v":0},{"$f":"'SHALA DARPAN DATA'!V3442","v":0},{"$f":"'SHALA DARPAN DATA'!K3442","v":0},{"$f":"'SHALA DARPAN DATA'!E3442","v":0},{"$f":"'SHALA DARPAN DATA'!G3442","v":0},{"$f":"'SHALA DARPAN DATA'!H3442","v":0},{"$f":"'SHALA DARPAN DATA'!W3442","v":0},{"$f":"'SHALA DARPAN DATA'!R3442","v":0},{"$f":"'SHALA DARPAN DATA'!S3442","v":0},{"$f":"'SHALA DARPAN DATA'!O3442","v":0},0,0,0,0,0,0,0,0,0,0,0]
[{"$f":"'SHALA DARPAN DATA'!C3447","v":0},{"$f":"'SHALA DARPAN DATA'!A3447","v":0},{"$f":"'SHALA DARPAN DATA'!B3447","v":0},{"$f":"'SHALA DARPAN DATA'!D3447","v":0},{"$f":"'SHALA DARPAN DATA'!J3447","v":0},{"$f":"'SHALA DARPAN DATA'!T3447","v":0},{"$f":"'SHALA DARPAN DATA'!V3447","v":0},{"$f":"'SHALA DARPAN DATA'!K3447","v":0},{"$f":"'SHALA DARPAN DATA'!E3447","v":0},{"$f":"'SHALA DARPAN DATA'!G3447","v":0},{"$f":"'SHALA DARPAN DATA'!H3447","v":0},{"$f":"'SHALA DARPAN DATA'!W3447","v":0},{"$f":"'SHALA DARPAN DATA'!R3447","v":0},{"$f":"'SHALA DARPAN DATA'!S3447","v":0},{"$f":"'SHALA DARPAN DATA'!O3447","v":0},0,0,0,0,0,0,0,0,0,0,0]
[{"$f":"'SHALA DARPAN DATA'!C3451","v":0},{"$f":"'SHALA DARPAN DATA'!A3451","v":0},{"$f":"'SHALA DARPAN DATA'!B3451","v":0},{"$f":"'SHALA DARPAN DATA'!D3451","v":0},{"$f":"'SHALA DARPAN DATA'!J3451","v":0},{"$f":"'SHALA DARPAN DATA'!T3451","v":0},{"$f":"'SHALA DARPAN DATA'!V3451","v":0},{"$f":"'SHALA DARPAN DATA'!K3451","v":0},{"$f":"'SHALA DARPAN DATA'!E3451","v":0},{"$f":"'SHALA DARPAN DATA'!G3451","v":0},{"$f":"'SHALA DARPAN DATA'!H3451","v":0},{"$f":"'SHALA DARPAN DATA'!W3451","v":0},{"$f":"'SHALA DARPAN DATA'!R3451","v":0},{"$f":"'SHALA DARPAN DATA'!S3451","v":0},{"$f":"'SHALA DARPAN DATA'!O3451","v":0},0,0,0,0,0,0,0,0,0,0,0]
[{"$f":"'SHALA DARPAN DATA'!C3456","v":0},{"$f":"'SHALA DARPAN DATA'!A3456","v":0},{"$f":"'SHALA DARPAN DATA'!B3456","v":0},{"$f":"'SHALA DARPAN DATA'!D3456","v":0},{"$f":"'SHALA DARPAN DATA'!J3456","v":0},{"$f":"'SHALA DARPAN DATA'!T3456","v":0},{"$f":"'SHALA DARPAN DATA'!V3456","v":0},{"$f":"'SHALA DARPAN DATA'!K3456","v":0},{"$f":"'SHALA DARPAN DATA'!E3456","v":0},{"$f":"'SHALA DARPAN DATA'!G3456","v":0},{"$f":"'SHALA DARPAN DATA'!H3456","v":0},{"$f":"'SHALA DARPAN DATA'!W3456","v":0},{"$f":"'SHALA DARPAN DATA'!R3456","v":0},{"$f":"'SHALA DARPAN DATA'!S3456","v":0},{"$f":"'SHALA DARPAN DATA'!O3456","v":0},0,0,0,0,0,0,0,0,0,0,0]
[{"$f":"'SHALA DARPAN DATA'!C3457","v":0},{"$f":"'SHALA DARPAN DATA'!A3457","v":0},{"$f":"'SHALA DARPAN DATA'!B3457","v":0},{"$f":"'SHALA DARPAN DATA'!D3457","v":0},{"$f":"'SHALA DARPAN DATA'!J3457","v":0},{"$f":"'SHALA DARPAN DATA'!T3457","v":0},{"$f":"'SHALA DARPAN DATA'!V3457","v":0},{"$f":"'SHALA DARPAN DATA'!K3457","v":0},{"$f":"'SHALA DARPAN DATA'!E3457","v":0},{"$f":"'SHALA DARPAN DATA'!G3457","v":0},{"$f":"'SHALA DARPAN DATA'!H3457","v":0},{"$f":"'SHALA DARPAN DATA'!W3457","v":0},{"$f":"'SHALA DARPAN DATA'!R3457","v":0},{"$f":"'SHALA DARPAN DATA'!S3457","v":0},{"$f":"'SHALA DARPAN DATA'!O3457","v":0},0,0,0,0,0,0,0,0,0,0,0]
[{"$f":"'SHALA DARPAN DATA'!C3463","v":0},{"$f":"'SHALA DARPAN DATA'!A3463","v":0},{"$f":"'SHALA DARPAN DATA'!B3463","v":0},{"$f":"'SHALA DARPAN DATA'!D3463","v":0},{"$f":"'SHALA DARPAN DATA'!J3463","v":0},{"$f":"'SHALA DARPAN DATA'!T3463","v":0},{"$f":"'SHALA DARPAN DATA'!V3463","v":0},{"$f":"'SHALA DARPAN DATA'!K3463","v":0},{"$f":"'SHALA DARPAN DATA'!E3463","v":0},{"$f":"'SHALA DARPAN DATA'!G3463","v":0},{"$f":"'SHALA DARPAN DATA'!H3463","v":0},{"$f":"'SHALA DARPAN DATA'!W3463","v":0},{"$f":"'SHALA DARPAN DATA'!R3463","v":0},{"$f":"'SHALA DARPAN DATA'!S3463","v":0},{"$f":"'SHALA DARPAN DATA'!O3463","v":0},0,0,0,0,0,0,0,0,0,0,0]
[{"$f":"'SHALA DARPAN DATA'!C3466","v":0},{"$f":"'SHALA DARPAN DATA'!A3466","v":0},{"$f":"'SHALA DARPAN DATA'!B3466","v":0},{"$f":"'SHALA DARPAN DATA'!D3466","v":0},{"$f":"'SHALA DARPAN DATA'!J3466","v":0},{"$f":"'SHALA DARPAN DATA'!T3466","v":0},{"$f":"'SHALA DARPAN DATA'!V3466","v":0},{"$f":"'SHALA DARPAN DATA'!K3466","v":0},{"$f":"'SHALA DARPAN DATA'!E3466","v":0},{"$f":"'SHALA DARPAN DATA'!G3466","v":0},{"$f":"'SHALA DARPAN DATA'!H3466","v":0},{"$f":"'SHALA DARPAN DATA'!W3466","v":0},{"$f":"'SHALA DARPAN DATA'!R3466","v":0},{"$f":"'SHALA DARPAN DATA'!S3466","v":0},{"$f":"'SHALA DARPAN DATA'!O3466","v":0},0,0,0,0,0,0,0,0,0,0,0]
[{"$f":"'SHALA DARPAN DATA'!C3471","v":0},{"$f":"'SHALA DARPAN DATA'!A3471","v":0},{"$f":"'SHALA DARPAN DATA'!B3471","v":0},{"$f":"'SHALA DARPAN DATA'!D3471","v":0},{"$f":"'SHALA DARPAN DATA'!J3471","v":0},{"$f":"'SHALA DARPAN DATA'!T3471","v":0},{"$f":"'SHALA DARPAN DATA'!V3471","v":0},{"$f":"'SHALA DARPAN DATA'!K3471","v":0},{"$f":"'SHALA DARPAN DATA'!E3471","v":0},{"$f":"'SHALA DARPAN DATA'!G3471","v":0},{"$f":"'SHALA DARPAN DATA'!H3471","v":0},{"$f":"'SHALA DARPAN DATA'!W3471","v":0},{"$f":"'SHALA DARPAN DATA'!R3471","v":0},{"$f":"'SHALA DARPAN DATA'!S3471","v":0},{"$f":"'SHALA DARPAN DATA'!O3471","v":0},0,0,0,0,0,0,0,0,0,0,0]
[{"$f":"'SHALA DARPAN DATA'!C3472","v":0},{"$f":"'SHALA DARPAN DATA'!A3472","v":0},{"$f":"'SHALA DARPAN DATA'!B3472","v":0},{"$f":"'SHALA DARPAN DATA'!D3472","v":0},{"$f":"'SHALA DARPAN DATA'!J3472","v":0},{"$f":"'SHALA DARPAN DATA'!T3472","v":0},{"$f":"'SHALA DARPAN DATA'!V3472","v":0},{"$f":"'SHALA DARPAN DATA'!K3472","v":0},{"$f":"'SHALA DARPAN DATA'!E3472","v":0},{"$f":"'SHALA DARPAN DATA'!G3472","v":0},{"$f":"'SHALA DARPAN DATA'!H3472","v":0},{"$f":"'SHALA DARPAN DATA'!W3472","v":0},{"$f":"'SHALA DARPAN DATA'!R3472","v":0},{"$f":"'SHALA DARPAN DATA'!S3472","v":0},{"$f":"'SHALA DARPAN DATA'!O3472","v":0},0,0,0,0,0,0,0,0,0,0,0]
[{"$f":"'SHALA DARPAN DATA'!C3477","v":0},{"$f":"'SHALA DARPAN DATA'!A3477","v":0},{"$f":"'SHALA DARPAN DATA'!B3477","v":0},{"$f":"'SHALA DARPAN DATA'!D3477","v":0},{"$f":"'SHALA DARPAN DATA'!J3477","v":0},{"$f":"'SHALA DARPAN DATA'!T3477","v":0},{"$f":"'SHALA DARPAN DATA'!V3477","v":0},{"$f":"'SHALA DARPAN DATA'!K3477","v":0},{"$f":"'SHALA DARPAN DATA'!E3477","v":0},{"$f":"'SHALA DARPAN DATA'!G3477","v":0},{"$f":"'SHALA DARPAN DATA'!H3477","v":0},{"$f":"'SHALA DARPAN DATA'!W3477","v":0},{"$f":"'SHALA DARPAN DATA'!R3477","v":0},{"$f":"'SHALA DARPAN DATA'!S3477","v":0},{"$f":"'SHALA DARPAN DATA'!O3477","v":0},0,0,0,0,0,0,0,0,0,0,0]
[{"$f":"'SHALA DARPAN DATA'!C3481","v":0},{"$f":"'SHALA DARPAN DATA'!A3481","v":0},{"$f":"'SHALA DARPAN DATA'!B3481","v":0},{"$f":"'SHALA DARPAN DATA'!D3481","v":0},{"$f":"'SHALA DARPAN DATA'!J3481","v":0},{"$f":"'SHALA DARPAN DATA'!T3481","v":0},{"$f":"'SHALA DARPAN DATA'!V3481","v":0},{"$f":"'SHALA DARPAN DATA'!K3481","v":0},{"$f":"'SHALA DARPAN DATA'!E3481","v":0},{"$f":"'SHALA DARPAN DATA'!G3481","v":0},{"$f":"'SHALA DARPAN DATA'!H3481","v":0},{"$f":"'SHALA DARPAN DATA'!W3481","v":0},{"$f":"'SHALA DARPAN DATA'!R3481","v":0},{"$f":"'SHALA DARPAN DATA'!S3481","v":0},{"$f":"'SHALA DARPAN DATA'!O3481","v":0},0,0,0,0,0,0,0,0,0,0,0]
[{"$f":"'SHALA DARPAN DATA'!C3486","v":0},{"$f":"'SHALA DARPAN DATA'!A3486","v":0},{"$f":"'SHALA DARPAN DATA'!B3486","v":0},{"$f":"'SHALA DARPAN DATA'!D3486","v":0},{"$f":"'SHALA DARPAN DATA'!J3486","v":0},{"$f":"'SHALA DARPAN DATA'!T3486","v":0},{"$f":"'SHALA DARPAN DATA'!V3486","v":0},{"$f":"'SHALA DARPAN DATA'!K3486","v":0},{"$f":"'SHALA DARPAN DATA'!E3486","v":0},{"$f":"'SHALA DARPAN DATA'!G3486","v":0},{"$f":"'SHALA DARPAN DATA'!H3486","v":0},{"$f":"'SHALA DARPAN DATA'!W3486","v":0},{"$f":"'SHALA DARPAN DATA'!R3486","v":0},{"$f":"'SHALA DARPAN DATA'!S3486","v":0},{"$f":"'SHALA DARPAN DATA'!O3486","v":0},0,0,0,0,0,0,0,0,0,0,0]
[{"$f":"'SHALA DARPAN DATA'!C3487","v":0},{"$f":"'SHALA DARPAN DATA'!A3487","v":0},{"$f":"'SHALA DARPAN DATA'!B3487","v":0},{"$f":"'SHALA DARPAN DATA'!D3487","v":0},{"$f":"'SHALA DARPAN DATA'!J3487","v":0},{"$f":"'SHALA DARPAN DATA'!T3487","v":0},{"$f":"'SHALA DARPAN DATA'!V3487","v":0},{"$f":"'SHALA DARPAN DATA'!K3487","v":0},{"$f":"'SHALA DARPAN DATA'!E3487","v":0},{"$f":"'SHALA DARPAN DATA'!G3487","v":0},{"$f":"'SHALA DARPAN DATA'!H3487","v":0},{"$f":"'SHALA DARPAN DATA'!W3487","v":0},{"$f":"'SHALA DARPAN DATA'!R3487","v":0},{"$f":"'SHALA DARPAN DATA'!S3487","v":0},{"$f":"'SHALA DARPAN DATA'!O3487","v":0},0,0,0,0,0,0,0,0,0,0,0]
[{"$f":"'SHALA DARPAN DATA'!C3493","v":0},{"$f":"'SHALA DARPAN DATA'!A3493","v":0},{"$f":"'SHALA DARPAN DATA'!B3493","v":0},{"$f":"'SHALA DARPAN DATA'!D3493","v":0},{"$f":"'SHALA DARPAN DATA'!J3493","v":0},{"$f":"'SHALA DARPAN DATA'!T3493","v":0},{"$f":"'SHALA DARPAN DATA'!V3493","v":0},{"$f":"'SHALA DARPAN DATA'!K3493","v":0},{"$f":"'SHALA DARPAN DATA'!E3493","v":0},{"$f":"'SHALA DARPAN DATA'!G3493","v":0},{"$f":"'SHALA DARPAN DATA'!H3493","v":0},{"$f":"'SHALA DARPAN DATA'!W3493","v":0},{"$f":"'SHALA DARPAN DATA'!R3493","v":0},{"$f":"'SHALA DARPAN DATA'!S3493","v":0},{"$f":"'SHALA DARPAN DATA'!O3493","v":0},0,0,0,0,0,0,0,0,0,0,0]
[{"$f":"'SHALA DARPAN DATA'!C3496","v":0},{"$f":"'SHALA DARPAN DATA'!A3496","v":0},{"$f":"'SHALA DARPAN DATA'!B3496","v":0},{"$f":"'SHALA DARPAN DATA'!D3496","v":0},{"$f":"'SHALA DARPAN DATA'!J3496","v":0},{"$f":"'SHALA DARPAN DATA'!T3496","v":0},{"$f":"'SHALA DARPAN DATA'!V3496","v":0},{"$f":"'SHALA DARPAN DATA'!K3496","v":0},{"$f":"'SHALA DARPAN DATA'!E3496","v":0},{"$f":"'SHALA DARPAN DATA'!G3496","v":0},{"$f":"'SHALA DARPAN DATA'!H3496","v":0},{"$f":"'SHALA DARPAN DATA'!W3496","v":0},{"$f":"'SHALA DARPAN DATA'!R3496","v":0},{"$f":"'SHALA DARPAN DATA'!S3496","v":0},{"$f":"'SHALA DARPAN DATA'!O3496","v":0},0,0,0,0,0,0,0,0,0,0,0]
[{"$f":"'SHALA DARPAN DATA'!C3501","v":0},{"$f":"'SHALA DARPAN DATA'!A3501","v":0},{"$f":"'SHALA DARPAN DATA'!B3501","v":0},{"$f":"'SHALA DARPAN DATA'!D3501","v":0},{"$f":"'SHALA DARPAN DATA'!J3501","v":0},{"$f":"'SHALA DARPAN DATA'!T3501","v":0},{"$f":"'SHALA DARPAN DATA'!V3501","v":0},{"$f":"'SHALA DARPAN DATA'!K3501","v":0},{"$f":"'SHALA DARPAN DATA'!E3501","v":0},{"$f":"'SHALA DARPAN DATA'!G3501","v":0},{"$f":"'SHALA DARPAN DATA'!H3501","v":0},{"$f":"'SHALA DARPAN DATA'!W3501","v":0},{"$f":"'SHALA DARPAN DATA'!R3501","v":0},{"$f":"'SHALA DARPAN DATA'!S3501","v":0},{"$f":"'SHALA DARPAN DATA'!O3501","v":0},0,0,0,0,0,0,0,0,0,0,0]
[{"$f":"'SHALA DARPAN DATA'!C3502","v":0},{"$f":"'SHALA DARPAN DATA'!A3502","v":0},{"$f":"'SHALA DARPAN DATA'!B3502","v":0},{"$f":"'SHALA DARPAN DATA'!D3502","v":0},{"$f":"'SHALA DARPAN DATA'!J3502","v":0},{"$f":"'SHALA DARPAN DATA'!T3502","v":0},{"$f":"'SHALA DARPAN DATA'!V3502","v":0},{"$f":"'SHALA DARPAN DATA'!K3502","v":0},{"$f":"'SHALA DARPAN DATA'!E3502","v":0},{"$f":"'SHALA DARPAN DATA'!G3502","v":0},{"$f":"'SHALA DARPAN DATA'!H3502","v":0},{"$f":"'SHALA DARPAN DATA'!W3502","v":0},{"$f":"'SHALA DARPAN DATA'!R3502","v":0},{"$f":"'SHALA DARPAN DATA'!S3502","v":0},{"$f":"'SHALA DARPAN DATA'!O3502","v":0},0,0,0,0,0,0,0,0,0,0,0]
[{"$f":"'SHALA DARPAN DATA'!C3507","v":0},{"$f":"'SHALA DARPAN DATA'!A3507","v":0},{"$f":"'SHALA DARPAN DATA'!B3507","v":0},{"$f":"'SHALA DARPAN DATA'!D3507","v":0},{"$f":"'SHALA DARPAN DATA'!J3507","v":0},{"$f":"'SHALA DARPAN DATA'!T3507","v":0},{"$f":"'SHALA DARPAN DATA'!V3507","v":0},{"$f":"'SHALA DARPAN DATA'!K3507","v":0},{"$f":"'SHALA DARPAN DATA'!E3507","v":0},{"$f":"'SHALA DARPAN DATA'!G3507","v":0},{"$f":"'SHALA DARPAN DATA'!H3507","v":0},{"$f":"'SHALA DARPAN DATA'!W3507","v":0},{"$f":"'SHALA DARPAN DATA'!R3507","v":0},{"$f":"'SHALA DARPAN DATA'!S3507","v":0},{"$f":"'SHALA DARPAN DATA'!O3507","v":0},0,0,0,0,0,0,0,0,0,0,0]
[{"$f":"'SHALA DARPAN DATA'!C3511","v":0},{"$f":"'SHALA DARPAN DATA'!A3511","v":0},{"$f":"'SHALA DARPAN DATA'!B3511","v":0},{"$f":"'SHALA DARPAN DATA'!D3511","v":0},{"$f":"'SHALA DARPAN DATA'!J3511","v":0},{"$f":"'SHALA DARPAN DATA'!T3511","v":0},{"$f":"'SHALA DARPAN DATA'!V3511","v":0},{"$f":"'SHALA DARPAN DATA'!K3511","v":0},{"$f":"'SHALA DARPAN DATA'!E3511","v":0},{"$f":"'SHALA DARPAN DATA'!G3511","v":0},{"$f":"'SHALA DARPAN DATA'!H3511","v":0},{"$f":"'SHALA DARPAN DATA'!W3511","v":0},{"$f":"'SHALA DARPAN DATA'!R3511","v":0},{"$f":"'SHALA DARPAN DATA'!S3511","v":0},{"$f":"'SHALA DARPAN DATA'!O3511","v":0},0,0,0,0,0,0,0,0,0,0,0]
[{"$f":"'SHALA DARPAN DATA'!C3516","v":0},{"$f":"'SHALA DARPAN DATA'!A3516","v":0},{"$f":"'SHALA DARPAN DATA'!B3516","v":0},{"$f":"'SHALA DARPAN DATA'!D3516","v":0},{"$f":"'SHALA DARPAN DATA'!J3516","v":0},{"$f":"'SHALA DARPAN DATA'!T3516","v":0},{"$f":"'SHALA DARPAN DATA'!V3516","v":0},{"$f":"'SHALA DARPAN DATA'!K3516","v":0},{"$f":"'SHALA DARPAN DATA'!E3516","v":0},{"$f":"'SHALA DARPAN DATA'!G3516","v":0},{"$f":"'SHALA DARPAN DATA'!H3516","v":0},{"$f":"'SHALA DARPAN DATA'!W3516","v":0},{"$f":"'SHALA DARPAN DATA'!R3516","v":0},{"$f":"'SHALA DARPAN DATA'!S3516","v":0},{"$f":"'SHALA DARPAN DATA'!O3516","v":0},0,0,0,0,0,0,0,0,0,0,0]
[{"$f":"'SHALA DARPAN DATA'!C3517","v":0},{"$f":"'SHALA DARPAN DATA'!A3517","v":0},{"$f":"'SHALA DARPAN DATA'!B3517","v":0},{"$f":"'SHALA DARPAN DATA'!D3517","v":0},{"$f":"'SHALA DARPAN DATA'!J3517","v":0},{"$f":"'SHALA DARPAN DATA'!T3517","v":0},{"$f":"'SHALA DARPAN DATA'!V3517","v":0},{"$f":"'SHALA DARPAN DATA'!K3517","v":0},{"$f":"'SHALA DARPAN DATA'!E3517","v":0},{"$f":"'SHALA DARPAN DATA'!G3517","v":0},{"$f":"'SHALA DARPAN DATA'!H3517","v":0},{"$f":"'SHALA DARPAN DATA'!W3517","v":0},{"$f":"'SHALA DARPAN DATA'!R3517","v":0},{"$f":"'SHALA DARPAN DATA'!S3517","v":0},{"$f":"'SHALA DARPAN DATA'!O3517","v":0},0,0,0,0,0,0,0,0,0,0,0]
[{"$f":"'SHALA DARPAN DATA'!C3523","v":0},{"$f":"'SHALA DARPAN DATA'!A3523","v":0},{"$f":"'SHALA DARPAN DATA'!B3523","v":0},{"$f":"'SHALA DARPAN DATA'!D3523","v":0},{"$f":"'SHALA DARPAN DATA'!J3523","v":0},{"$f":"'SHALA DARPAN DATA'!T3523","v":0},{"$f":"'SHALA DARPAN DATA'!V3523","v":0},{"$f":"'SHALA DARPAN DATA'!K3523","v":0},{"$f":"'SHALA DARPAN DATA'!E3523","v":0},{"$f":"'SHALA DARPAN DATA'!G3523","v":0},{"$f":"'SHALA DARPAN DATA'!H3523","v":0},{"$f":"'SHALA DARPAN DATA'!W3523","v":0},{"$f":"'SHALA DARPAN DATA'!R3523","v":0},{"$f":"'SHALA DARPAN DATA'!S3523","v":0},{"$f":"'SHALA DARPAN DATA'!O3523","v":0},0,0,0,0,0,0,0,0,0,0,0]
[{"$f":"'SHALA DARPAN DATA'!C3526","v":0},{"$f":"'SHALA DARPAN DATA'!A3526","v":0},{"$f":"'SHALA DARPAN DATA'!B3526","v":0},{"$f":"'SHALA DARPAN DATA'!D3526","v":0},{"$f":"'SHALA DARPAN DATA'!J3526","v":0},{"$f":"'SHALA DARPAN DATA'!T3526","v":0},{"$f":"'SHALA DARPAN DATA'!V3526","v":0},{"$f":"'SHALA DARPAN DATA'!K3526","v":0},{"$f":"'SHALA DARPAN DATA'!E3526","v":0},{"$f":"'SHALA DARPAN DATA'!G3526","v":0},{"$f":"'SHALA DARPAN DATA'!H3526","v":0},{"$f":"'SHALA DARPAN DATA'!W3526","v":0},{"$f":"'SHALA DARPAN DATA'!R3526","v":0},{"$f":"'SHALA DARPAN DATA'!S3526","v":0},{"$f":"'SHALA DARPAN DATA'!O3526","v":0},0,0,0,0,0,0,0,0,0,0,0]
[{"$f":"'SHALA DARPAN DATA'!C3531","v":0},{"$f":"'SHALA DARPAN DATA'!A3531","v":0},{"$f":"'SHALA DARPAN DATA'!B3531","v":0},{"$f":"'SHALA DARPAN DATA'!D3531","v":0},{"$f":"'SHALA DARPAN DATA'!J3531","v":0},{"$f":"'SHALA DARPAN DATA'!T3531","v":0},{"$f":"'SHALA DARPAN DATA'!V3531","v":0},{"$f":"'SHALA DARPAN DATA'!K3531","v":0},{"$f":"'SHALA DARPAN DATA'!E3531","v":0},{"$f":"'SHALA DARPAN DATA'!G3531","v":0},{"$f":"'SHALA DARPAN DATA'!H3531","v":0},{"$f":"'SHALA DARPAN DATA'!W3531","v":0},{"$f":"'SHALA DARPAN DATA'!R3531","v":0},{"$f":"'SHALA DARPAN DATA'!S3531","v":0},{"$f":"'SHALA DARPAN DATA'!O3531","v":0},0,0,0,0,0,0,0,0,0,0,0]
[{"$f":"'SHALA DARPAN DATA'!C3532","v":0},{"$f":"'SHALA DARPAN DATA'!A3532","v":0},{"$f":"'SHALA DARPAN DATA'!B3532","v":0},{"$f":"'SHALA DARPAN DATA'!D3532","v":0},{"$f":"'SHALA DARPAN DATA'!J3532","v":0},{"$f":"'SHALA DARPAN DATA'!T3532","v":0},{"$f":"'SHALA DARPAN DATA'!V3532","v":0},{"$f":"'SHALA DARPAN DATA'!K3532","v":0},{"$f":"'SHALA DARPAN DATA'!E3532","v":0},{"$f":"'SHALA DARPAN DATA'!G3532","v":0},{"$f":"'SHALA DARPAN DATA'!H3532","v":0},{"$f":"'SHALA DARPAN DATA'!W3532","v":0},{"$f":"'SHALA DARPAN DATA'!R3532","v":0},{"$f":"'SHALA DARPAN DATA'!S3532","v":0},{"$f":"'SHALA DARPAN DATA'!O3532","v":0},0,0,0,0,0,0,0,0,0,0,0]
[{"$f":"'SHALA DARPAN DATA'!C3537","v":0},{"$f":"'SHALA DARPAN DATA'!A3537","v":0},{"$f":"'SHALA DARPAN DATA'!B3537","v":0},{"$f":"'SHALA DARPAN DATA'!D3537","v":0},{"$f":"'SHALA DARPAN DATA'!J3537","v":0},{"$f":"'SHALA DARPAN DATA'!T3537","v":0},{"$f":"'SHALA DARPAN DATA'!V3537","v":0},{"$f":"'SHALA DARPAN DATA'!K3537","v":0},{"$f":"'SHALA DARPAN DATA'!E3537","v":0},{"$f":"'SHALA DARPAN DATA'!G3537","v":0},{"$f":"'SHALA DARPAN DATA'!H3537","v":0},{"$f":"'SHALA DARPAN DATA'!W3537","v":0},{"$f":"'SHALA DARPAN DATA'!R3537","v":0},{"$f":"'SHALA DARPAN DATA'!S3537","v":0},{"$f":"'SHALA DARPAN DATA'!O3537","v":0},0,0,0,0,0,0,0,0,0,0,0]
[{"$f":"'SHALA DARPAN DATA'!C3541","v":0},{"$f":"'SHALA DARPAN DATA'!A3541","v":0},{"$f":"'SHALA DARPAN DATA'!B3541","v":0},{"$f":"'SHALA DARPAN DATA'!D3541","v":0},{"$f":"'SHALA DARPAN DATA'!J3541","v":0},{"$f":"'SHALA DARPAN DATA'!T3541","v":0},{"$f":"'SHALA DARPAN DATA'!V3541","v":0},{"$f":"'SHALA DARPAN DATA'!K3541","v":0},{"$f":"'SHALA DARPAN DATA'!E3541","v":0},{"$f":"'SHALA DARPAN DATA'!G3541","v":0},{"$f":"'SHALA DARPAN DATA'!H3541","v":0},{"$f":"'SHALA DARPAN DATA'!W3541","v":0},{"$f":"'SHALA DARPAN DATA'!R3541","v":0},{"$f":"'SHALA DARPAN DATA'!S3541","v":0},{"$f":"'SHALA DARPAN DATA'!O3541","v":0},0,0,0,0,0,0,0,0,0,0,0]
[{"$f":"'SHALA DARPAN DATA'!C3546","v":0},{"$f":"'SHALA DARPAN DATA'!A3546","v":0},{"$f":"'SHALA DARPAN DATA'!B3546","v":0},{"$f":"'SHALA DARPAN DATA'!D3546","v":0},{"$f":"'SHALA DARPAN DATA'!J3546","v":0},{"$f":"'SHALA DARPAN DATA'!T3546","v":0},{"$f":"'SHALA DARPAN DATA'!V3546","v":0},{"$f":"'SHALA DARPAN DATA'!K3546","v":0},{"$f":"'SHALA DARPAN DATA'!E3546","v":0},{"$f":"'SHALA DARPAN DATA'!G3546","v":0},{"$f":"'SHALA DARPAN DATA'!H3546","v":0},{"$f":"'SHALA DARPAN DATA'!W3546","v":0},{"$f":"'SHALA DARPAN DATA'!R3546","v":0},{"$f":"'SHALA DARPAN DATA'!S3546","v":0},{"$f":"'SHALA DARPAN DATA'!O3546","v":0},0,0,0,0,0,0,0,0,0,0,0]
[{"$f":"'SHALA DARPAN DATA'!C3547","v":0},{"$f":"'SHALA DARPAN DATA'!A3547","v":0},{"$f":"'SHALA DARPAN DATA'!B3547","v":0},{"$f":"'SHALA DARPAN DATA'!D3547","v":0},{"$f":"'SHALA DARPAN DATA'!J3547","v":0},{"$f":"'SHALA DARPAN DATA'!T3547","v":0},{"$f":"'SHALA DARPAN DATA'!V3547","v":0},{"$f":"'SHALA DARPAN DATA'!K3547","v":0},{"$f":"'SHALA DARPAN DATA'!E3547","v":0},{"$f":"'SHALA DARPAN DATA'!G3547","v":0},{"$f":"'SHALA DARPAN DATA'!H3547","v":0},{"$f":"'SHALA DARPAN DATA'!W3547","v":0},{"$f":"'SHALA DARPAN DATA'!R3547","v":0},{"$f":"'SHALA DARPAN DATA'!S3547","v":0},{"$f":"'SHALA DARPAN DATA'!O3547","v":0},0,0,0,0,0,0,0,0,0,0,0]
[{"$f":"'SHALA DARPAN DATA'!C3553","v":0},{"$f":"'SHALA DARPAN DATA'!A3553","v":0},{"$f":"'SHALA DARPAN DATA'!B3553","v":0},{"$f":"'SHALA DARPAN DATA'!D3553","v":0},{"$f":"'SHALA DARPAN DATA'!J3553","v":0},{"$f":"'SHALA DARPAN DATA'!T3553","v":0},{"$f":"'SHALA DARPAN DATA'!V3553","v":0},{"$f":"'SHALA DARPAN DATA'!K3553","v":0},{"$f":"'SHALA DARPAN DATA'!E3553","v":0},{"$f":"'SHALA DARPAN DATA'!G3553","v":0},{"$f":"'SHALA DARPAN DATA'!H3553","v":0},{"$f":"'SHALA DARPAN DATA'!W3553","v":0},{"$f":"'SHALA DARPAN DATA'!R3553","v":0},{"$f":"'SHALA DARPAN DATA'!S3553","v":0},{"$f":"'SHALA DARPAN DATA'!O3553","v":0},0,0,0,0,0,0,0,0,0,0,0]
[{"$f":"'SHALA DARPAN DATA'!C3556","v":0},{"$f":"'SHALA DARPAN DATA'!A3556","v":0},{"$f":"'SHALA DARPAN DATA'!B3556","v":0},{"$f":"'SHALA DARPAN DATA'!D3556","v":0},{"$f":"'SHALA DARPAN DATA'!J3556","v":0},{"$f":"'SHALA DARPAN DATA'!T3556","v":0},{"$f":"'SHALA DARPAN DATA'!V3556","v":0},{"$f":"'SHALA DARPAN DATA'!K3556","v":0},{"$f":"'SHALA DARPAN DATA'!E3556","v":0},{"$f":"'SHALA DARPAN DATA'!G3556","v":0},{"$f":"'SHALA DARPAN DATA'!H3556","v":0},{"$f":"'SHALA DARPAN DATA'!W3556","v":0},{"$f":"'SHALA DARPAN DATA'!R3556","v":0},{"$f":"'SHALA DARPAN DATA'!S3556","v":0},{"$f":"'SHALA DARPAN DATA'!O3556","v":0},0,0,0,0,0,0,0,0,0,0,0]
[{"$f":"'SHALA DARPAN DATA'!C3561","v":0},{"$f":"'SHALA DARPAN DATA'!A3561","v":0},{"$f":"'SHALA DARPAN DATA'!B3561","v":0},{"$f":"'SHALA DARPAN DATA'!D3561","v":0},{"$f":"'SHALA DARPAN DATA'!J3561","v":0},{"$f":"'SHALA DARPAN DATA'!T3561","v":0},{"$f":"'SHALA DARPAN DATA'!V3561","v":0},{"$f":"'SHALA DARPAN DATA'!K3561","v":0},{"$f":"'SHALA DARPAN DATA'!E3561","v":0},{"$f":"'SHALA DARPAN DATA'!G3561","v":0},{"$f":"'SHALA DARPAN DATA'!H3561","v":0},{"$f":"'SHALA DARPAN DATA'!W3561","v":0},{"$f":"'SHALA DARPAN DATA'!R3561","v":0},{"$f":"'SHALA DARPAN DATA'!S3561","v":0},{"$f":"'SHALA DARPAN DATA'!O3561","v":0},0,0,0,0,0,0,0,0,0,0,0]
[{"$f":"'SHALA DARPAN DATA'!C3562","v":0},{"$f":"'SHALA DARPAN DATA'!A3562","v":0},{"$f":"'SHALA DARPAN DATA'!B3562","v":0},{"$f":"'SHALA DARPAN DATA'!D3562","v":0},{"$f":"'SHALA DARPAN DATA'!J3562","v":0},{"$f":"'SHALA DARPAN DATA'!T3562","v":0},{"$f":"'SHALA DARPAN DATA'!V3562","v":0},{"$f":"'SHALA DARPAN DATA'!K3562","v":0},{"$f":"'SHALA DARPAN DATA'!E3562","v":0},{"$f":"'SHALA DARPAN DATA'!G3562","v":0},{"$f":"'SHALA DARPAN DATA'!H3562","v":0},{"$f":"'SHALA DARPAN DATA'!W3562","v":0},{"$f":"'SHALA DARPAN DATA'!R3562","v":0},{"$f":"'SHALA DARPAN DATA'!S3562","v":0},{"$f":"'SHALA DARPAN DATA'!O3562","v":0},0,0,0,0,0,0,0,0,0,0,0]
[{"$f":"'SHALA DARPAN DATA'!C3567","v":0},{"$f":"'SHALA DARPAN DATA'!A3567","v":0},{"$f":"'SHALA DARPAN DATA'!B3567","v":0},{"$f":"'SHALA DARPAN DATA'!D3567","v":0},{"$f":"'SHALA DARPAN DATA'!J3567","v":0},{"$f":"'SHALA DARPAN DATA'!T3567","v":0},{"$f":"'SHALA DARPAN DATA'!V3567","v":0},{"$f":"'SHALA DARPAN DATA'!K3567","v":0},{"$f":"'SHALA DARPAN DATA'!E3567","v":0},{"$f":"'SHALA DARPAN DATA'!G3567","v":0},{"$f":"'SHALA DARPAN DATA'!H3567","v":0},{"$f":"'SHALA DARPAN DATA'!W3567","v":0},{"$f":"'SHALA DARPAN DATA'!R3567","v":0},{"$f":"'SHALA DARPAN DATA'!S3567","v":0},{"$f":"'SHALA DARPAN DATA'!O3567","v":0},0,0,0,0,0,0,0,0,0,0,0]
[{"$f":"'SHALA DARPAN DATA'!C3571","v":0},{"$f":"'SHALA DARPAN DATA'!A3571","v":0},{"$f":"'SHALA DARPAN DATA'!B3571","v":0},{"$f":"'SHALA DARPAN DATA'!D3571","v":0},{"$f":"'SHALA DARPAN DATA'!J3571","v":0},{"$f":"'SHALA DARPAN DATA'!T3571","v":0},{"$f":"'SHALA DARPAN DATA'!V3571","v":0},{"$f":"'SHALA DARPAN DATA'!K3571","v":0},{"$f":"'SHALA DARPAN DATA'!E3571","v":0},{"$f":"'SHALA DARPAN DATA'!G3571","v":0},{"$f":"'SHALA DARPAN DATA'!H3571","v":0},{"$f":"'SHALA DARPAN DATA'!W3571","v":0},{"$f":"'SHALA DARPAN DATA'!R3571","v":0},{"$f":"'SHALA DARPAN DATA'!S3571","v":0},{"$f":"'SHALA DARPAN DATA'!O3571","v":0},0,0,0,0,0,0,0,0,0,0,0]
[{"$f":"'SHALA DARPAN DATA'!C3576","v":0},{"$f":"'SHALA DARPAN DATA'!A3576","v":0},{"$f":"'SHALA DARPAN DATA'!B3576","v":0},{"$f":"'SHALA DARPAN DATA'!D3576","v":0},{"$f":"'SHALA DARPAN DATA'!J3576","v":0},{"$f":"'SHALA DARPAN DATA'!T3576","v":0},{"$f":"'SHALA DARPAN DATA'!V3576","v":0},{"$f":"'SHALA DARPAN DATA'!K3576","v":0},{"$f":"'SHALA DARPAN DATA'!E3576","v":0},{"$f":"'SHALA DARPAN DATA'!G3576","v":0},{"$f":"'SHALA DARPAN DATA'!H3576","v":0},{"$f":"'SHALA DARPAN DATA'!W3576","v":0},{"$f":"'SHALA DARPAN DATA'!R3576","v":0},{"$f":"'SHALA DARPAN DATA'!S3576","v":0},{"$f":"'SHALA DARPAN DATA'!O3576","v":0},0,0,0,0,0,0,0,0,0,0,0]
[{"$f":"'SHALA DARPAN DATA'!C3577","v":0},{"$f":"'SHALA DARPAN DATA'!A3577","v":0},{"$f":"'SHALA DARPAN DATA'!B3577","v":0},{"$f":"'SHALA DARPAN DATA'!D3577","v":0},{"$f":"'SHALA DARPAN DATA'!J3577","v":0},{"$f":"'SHALA DARPAN DATA'!T3577","v":0},{"$f":"'SHALA DARPAN DATA'!V3577","v":0},{"$f":"'SHALA DARPAN DATA'!K3577","v":0},{"$f":"'SHALA DARPAN DATA'!E3577","v":0},{"$f":"'SHALA DARPAN DATA'!G3577","v":0},{"$f":"'SHALA DARPAN DATA'!H3577","v":0},{"$f":"'SHALA DARPAN DATA'!W3577","v":0},{"$f":"'SHALA DARPAN DATA'!R3577","v":0},{"$f":"'SHALA DARPAN DATA'!S3577","v":0},{"$f":"'SHALA DARPAN DATA'!O3577","v":0},0,0,0,0,0,0,0,0,0,0,0]
[{"$f":"'SHALA DARPAN DATA'!C3583","v":0},{"$f":"'SHALA DARPAN DATA'!A3583","v":0},{"$f":"'SHALA DARPAN DATA'!B3583","v":0},{"$f":"'SHALA DARPAN DATA'!D3583","v":0},{"$f":"'SHALA DARPAN DATA'!J3583","v":0},{"$f":"'SHALA DARPAN DATA'!T3583","v":0},{"$f":"'SHALA DARPAN DATA'!V3583","v":0},{"$f":"'SHALA DARPAN DATA'!K3583","v":0},{"$f":"'SHALA DARPAN DATA'!E3583","v":0},{"$f":"'SHALA DARPAN DATA'!G3583","v":0},{"$f":"'SHALA DARPAN DATA'!H3583","v":0},{"$f":"'SHALA DARPAN DATA'!W3583","v":0},{"$f":"'SHALA DARPAN DATA'!R3583","v":0},{"$f":"'SHALA DARPAN DATA'!S3583","v":0},{"$f":"'SHALA DARPAN DATA'!O3583","v":0},0,0,0,0,0,0,0,0,0,0,0]
[{"$f":"'SHALA DARPAN DATA'!C3586","v":0},{"$f":"'SHALA DARPAN DATA'!A3586","v":0},{"$f":"'SHALA DARPAN DATA'!B3586","v":0},{"$f":"'SHALA DARPAN DATA'!D3586","v":0},{"$f":"'SHALA DARPAN DATA'!J3586","v":0},{"$f":"'SHALA DARPAN DATA'!T3586","v":0},{"$f":"'SHALA DARPAN DATA'!V3586","v":0},{"$f":"'SHALA DARPAN DATA'!K3586","v":0},{"$f":"'SHALA DARPAN DATA'!E3586","v":0},{"$f":"'SHALA DARPAN DATA'!G3586","v":0},{"$f":"'SHALA DARPAN DATA'!H3586","v":0},{"$f":"'SHALA DARPAN DATA'!W3586","v":0},{"$f":"'SHALA DARPAN DATA'!R3586","v":0},{"$f":"'SHALA DARPAN DATA'!S3586","v":0},{"$f":"'SHALA DARPAN DATA'!O3586","v":0},0,0,0,0,0,0,0,0,0,0,0]
[{"$f":"'SHALA DARPAN DATA'!C3591","v":0},{"$f":"'SHALA DARPAN DATA'!A3591","v":0},{"$f":"'SHALA DARPAN DATA'!B3591","v":0},{"$f":"'SHALA DARPAN DATA'!D3591","v":0},{"$f":"'SHALA DARPAN DATA'!J3591","v":0},{"$f":"'SHALA DARPAN DATA'!T3591","v":0},{"$f":"'SHALA DARPAN DATA'!V3591","v":0},{"$f":"'SHALA DARPAN DATA'!K3591","v":0},{"$f":"'SHALA DARPAN DATA'!E3591","v":0},{"$f":"'SHALA DARPAN DATA'!G3591","v":0},{"$f":"'SHALA DARPAN DATA'!H3591","v":0},{"$f":"'SHALA DARPAN DATA'!W3591","v":0},{"$f":"'SHALA DARPAN DATA'!R3591","v":0},{"$f":"'SHALA DARPAN DATA'!S3591","v":0},{"$f":"'SHALA DARPAN DATA'!O3591","v":0},0,0,0,0,0,0,0,0,0,0,0]
[{"$f":"'SHALA DARPAN DATA'!C3592","v":0},{"$f":"'SHALA DARPAN DATA'!A3592","v":0},{"$f":"'SHALA DARPAN DATA'!B3592","v":0},{"$f":"'SHALA DARPAN DATA'!D3592","v":0},{"$f":"'SHALA DARPAN DATA'!J3592","v":0},{"$f":"'SHALA DARPAN DATA'!T3592","v":0},{"$f":"'SHALA DARPAN DATA'!V3592","v":0},{"$f":"'SHALA DARPAN DATA'!K3592","v":0},{"$f":"'SHALA DARPAN DATA'!E3592","v":0},{"$f":"'SHALA DARPAN DATA'!G3592","v":0},{"$f":"'SHALA DARPAN DATA'!H3592","v":0},{"$f":"'SHALA DARPAN DATA'!W3592","v":0},{"$f":"'SHALA DARPAN DATA'!R3592","v":0},{"$f":"'SHALA DARPAN DATA'!S3592","v":0},{"$f":"'SHALA DARPAN DATA'!O3592","v":0},0,0,0,0,0,0,0,0,0,0,0]
[{"$f":"'SHALA DARPAN DATA'!C3597","v":0},{"$f":"'SHALA DARPAN DATA'!A3597","v":0},{"$f":"'SHALA DARPAN DATA'!B3597","v":0},{"$f":"'SHALA DARPAN DATA'!D3597","v":0},{"$f":"'SHALA DARPAN DATA'!J3597","v":0},{"$f":"'SHALA DARPAN DATA'!T3597","v":0},{"$f":"'SHALA DARPAN DATA'!V3597","v":0},{"$f":"'SHALA DARPAN DATA'!K3597","v":0},{"$f":"'SHALA DARPAN DATA'!E3597","v":0},{"$f":"'SHALA DARPAN DATA'!G3597","v":0},{"$f":"'SHALA DARPAN DATA'!H3597","v":0},{"$f":"'SHALA DARPAN DATA'!W3597","v":0},{"$f":"'SHALA DARPAN DATA'!R3597","v":0},{"$f":"'SHALA DARPAN DATA'!S3597","v":0},{"$f":"'SHALA DARPAN DATA'!O3597","v":0},0,0,0,0,0,0,0,0,0,0,0]
[{"$f":"'SHALA DARPAN DATA'!C3601","v":0},{"$f":"'SHALA DARPAN DATA'!A3601","v":0},{"$f":"'SHALA DARPAN DATA'!B3601","v":0},{"$f":"'SHALA DARPAN DATA'!D3601","v":0},{"$f":"'SHALA DARPAN DATA'!J3601","v":0},{"$f":"'SHALA DARPAN DATA'!T3601","v":0},{"$f":"'SHALA DARPAN DATA'!V3601","v":0},{"$f":"'SHALA DARPAN DATA'!K3601","v":0},{"$f":"'SHALA DARPAN DATA'!E3601","v":0},{"$f":"'SHALA DARPAN DATA'!G3601","v":0},{"$f":"'SHALA DARPAN DATA'!H3601","v":0},{"$f":"'SHALA DARPAN DATA'!W3601","v":0},{"$f":"'SHALA DARPAN DATA'!R3601","v":0},{"$f":"'SHALA DARPAN DATA'!S3601","v":0},{"$f":"'SHALA DARPAN DATA'!O3601","v":0},0,0,0,0,0,0,0,0,0,0,0]
[{"$f":"'SHALA DARPAN DATA'!C3606","v":0},{"$f":"'SHALA DARPAN DATA'!A3606","v":0},{"$f":"'SHALA DARPAN DATA'!B3606","v":0},{"$f":"'SHALA DARPAN DATA'!D3606","v":0},{"$f":"'SHALA DARPAN DATA'!J3606","v":0},{"$f":"'SHALA DARPAN DATA'!T3606","v":0},{"$f":"'SHALA DARPAN DATA'!V3606","v":0},{"$f":"'SHALA DARPAN DATA'!K3606","v":0},{"$f":"'SHALA DARPAN DATA'!E3606","v":0},{"$f":"'SHALA DARPAN DATA'!G3606","v":0},{"$f":"'SHALA DARPAN DATA'!H3606","v":0},{"$f":"'SHALA DARPAN DATA'!W3606","v":0},{"$f":"'SHALA DARPAN DATA'!R3606","v":0},{"$f":"'SHALA DARPAN DATA'!S3606","v":0},{"$f":"'SHALA DARPAN DATA'!O3606","v":0},0,0,0,0,0,0,0,0,0,0,0]
[{"$f":"'SHALA DARPAN DATA'!C3607","v":0},{"$f":"'SHALA DARPAN DATA'!A3607","v":0},{"$f":"'SHALA DARPAN DATA'!B3607","v":0},{"$f":"'SHALA DARPAN DATA'!D3607","v":0},{"$f":"'SHALA DARPAN DATA'!J3607","v":0},{"$f":"'SHALA DARPAN DATA'!T3607","v":0},{"$f":"'SHALA DARPAN DATA'!V3607","v":0},{"$f":"'SHALA DARPAN DATA'!K3607","v":0},{"$f":"'SHALA DARPAN DATA'!E3607","v":0},{"$f":"'SHALA DARPAN DATA'!G3607","v":0},{"$f":"'SHALA DARPAN DATA'!H3607","v":0},{"$f":"'SHALA DARPAN DATA'!W3607","v":0},{"$f":"'SHALA DARPAN DATA'!R3607","v":0},{"$f":"'SHALA DARPAN DATA'!S3607","v":0},{"$f":"'SHALA DARPAN DATA'!O3607","v":0},0,0,0,0,0,0,0,0,0,0,0]
[{"$f":"'SHALA DARPAN DATA'!C3613","v":0},{"$f":"'SHALA DARPAN DATA'!A3613","v":0},{"$f":"'SHALA DARPAN DATA'!B3613","v":0},{"$f":"'SHALA DARPAN DATA'!D3613","v":0},{"$f":"'SHALA DARPAN DATA'!J3613","v":0},{"$f":"'SHALA DARPAN DATA'!T3613","v":0},{"$f":"'SHALA DARPAN DATA'!V3613","v":0},{"$f":"'SHALA DARPAN DATA'!K3613","v":0},{"$f":"'SHALA DARPAN DATA'!E3613","v":0},{"$f":"'SHALA DARPAN DATA'!G3613","v":0},{"$f":"'SHALA DARPAN DATA'!H3613","v":0},{"$f":"'SHALA DARPAN DATA'!W3613","v":0},{"$f":"'SHALA DARPAN DATA'!R3613","v":0},{"$f":"'SHALA DARPAN DATA'!S3613","v":0},{"$f":"'SHALA DARPAN DATA'!O3613","v":0},0,0,0,0,0,0,0,0,0,0,0]
[{"$f":"'SHALA DARPAN DATA'!C3616","v":0},{"$f":"'SHALA DARPAN DATA'!A3616","v":0},{"$f":"'SHALA DARPAN DATA'!B3616","v":0},{"$f":"'SHALA DARPAN DATA'!D3616","v":0},{"$f":"'SHALA DARPAN DATA'!J3616","v":0},{"$f":"'SHALA DARPAN DATA'!T3616","v":0},{"$f":"'SHALA DARPAN DATA'!V3616","v":0},{"$f":"'SHALA DARPAN DATA'!K3616","v":0},{"$f":"'SHALA DARPAN DATA'!E3616","v":0},{"$f":"'SHALA DARPAN DATA'!G3616","v":0},{"$f":"'SHALA DARPAN DATA'!H3616","v":0},{"$f":"'SHALA DARPAN DATA'!W3616","v":0},{"$f":"'SHALA DARPAN DATA'!R3616","v":0},{"$f":"'SHALA DARPAN DATA'!S3616","v":0},{"$f":"'SHALA DARPAN DATA'!O3616","v":0},0,0,0,0,0,0,0,0,0,0,0]
[{"$f":"'SHALA DARPAN DATA'!C3621","v":0},{"$f":"'SHALA DARPAN DATA'!A3621","v":0},{"$f":"'SHALA DARPAN DATA'!B3621","v":0},{"$f":"'SHALA DARPAN DATA'!D3621","v":0},{"$f":"'SHALA DARPAN DATA'!J3621","v":0},{"$f":"'SHALA DARPAN DATA'!T3621","v":0},{"$f":"'SHALA DARPAN DATA'!V3621","v":0},{"$f":"'SHALA DARPAN DATA'!K3621","v":0},{"$f":"'SHALA DARPAN DATA'!E3621","v":0},{"$f":"'SHALA DARPAN DATA'!G3621","v":0},{"$f":"'SHALA DARPAN DATA'!H3621","v":0},{"$f":"'SHALA DARPAN DATA'!W3621","v":0},{"$f":"'SHALA DARPAN DATA'!R3621","v":0},{"$f":"'SHALA DARPAN DATA'!S3621","v":0},{"$f":"'SHALA DARPAN DATA'!O3621","v":0},0,0,0,0,0,0,0,0,0,0,0]
[{"$f":"'SHALA DARPAN DATA'!C3622","v":0},{"$f":"'SHALA DARPAN DATA'!A3622","v":0},{"$f":"'SHALA DARPAN DATA'!B3622","v":0},{"$f":"'SHALA DARPAN DATA'!D3622","v":0},{"$f":"'SHALA DARPAN DATA'!J3622","v":0},{"$f":"'SHALA DARPAN DATA'!T3622","v":0},{"$f":"'SHALA DARPAN DATA'!V3622","v":0},{"$f":"'SHALA DARPAN DATA'!K3622","v":0},{"$f":"'SHALA DARPAN DATA'!E3622","v":0},{"$f":"'SHALA DARPAN DATA'!G3622","v":0},{"$f":"'SHALA DARPAN DATA'!H3622","v":0},{"$f":"'SHALA DARPAN DATA'!W3622","v":0},{"$f":"'SHALA DARPAN DATA'!R3622","v":0},{"$f":"'SHALA DARPAN DATA'!S3622","v":0},{"$f":"'SHALA DARPAN DATA'!O3622","v":0},0,0,0,0,0,0,0,0,0,0,0]
[{"$f":"'SHALA DARPAN DATA'!C3627","v":0},{"$f":"'SHALA DARPAN DATA'!A3627","v":0},{"$f":"'SHALA DARPAN DATA'!B3627","v":0},{"$f":"'SHALA DARPAN DATA'!D3627","v":0},{"$f":"'SHALA DARPAN DATA'!J3627","v":0},{"$f":"'SHALA DARPAN DATA'!T3627","v":0},{"$f":"'SHALA DARPAN DATA'!V3627","v":0},{"$f":"'SHALA DARPAN DATA'!K3627","v":0},{"$f":"'SHALA DARPAN DATA'!E3627","v":0},{"$f":"'SHALA DARPAN DATA'!G3627","v":0},{"$f":"'SHALA DARPAN DATA'!H3627","v":0},{"$f":"'SHALA DARPAN DATA'!W3627","v":0},{"$f":"'SHALA DARPAN DATA'!R3627","v":0},{"$f":"'SHALA DARPAN DATA'!S3627","v":0},{"$f":"'SHALA DARPAN DATA'!O3627","v":0},0,0,0,0,0,0,0,0,0,0,0]
[{"$f":"'SHALA DARPAN DATA'!C3631","v":0},{"$f":"'SHALA DARPAN DATA'!A3631","v":0},{"$f":"'SHALA DARPAN DATA'!B3631","v":0},{"$f":"'SHALA DARPAN DATA'!D3631","v":0},{"$f":"'SHALA DARPAN DATA'!J3631","v":0},{"$f":"'SHALA DARPAN DATA'!T3631","v":0},{"$f":"'SHALA DARPAN DATA'!V3631","v":0},{"$f":"'SHALA DARPAN DATA'!K3631","v":0},{"$f":"'SHALA DARPAN DATA'!E3631","v":0},{"$f":"'SHALA DARPAN DATA'!G3631","v":0},{"$f":"'SHALA DARPAN DATA'!H3631","v":0},{"$f":"'SHALA DARPAN DATA'!W3631","v":0},{"$f":"'SHALA DARPAN DATA'!R3631","v":0},{"$f":"'SHALA DARPAN DATA'!S3631","v":0},{"$f":"'SHALA DARPAN DATA'!O3631","v":0},0,0,0,0,0,0,0,0,0,0,0]
[{"$f":"'SHALA DARPAN DATA'!C3636","v":0},{"$f":"'SHALA DARPAN DATA'!A3636","v":0},{"$f":"'SHALA DARPAN DATA'!B3636","v":0},{"$f":"'SHALA DARPAN DATA'!D3636","v":0},{"$f":"'SHALA DARPAN DATA'!J3636","v":0},{"$f":"'SHALA DARPAN DATA'!T3636","v":0},{"$f":"'SHALA DARPAN DATA'!V3636","v":0},{"$f":"'SHALA DARPAN DATA'!K3636","v":0},{"$f":"'SHALA DARPAN DATA'!E3636","v":0},{"$f":"'SHALA DARPAN DATA'!G3636","v":0},{"$f":"'SHALA DARPAN DATA'!H3636","v":0},{"$f":"'SHALA DARPAN DATA'!W3636","v":0},{"$f":"'SHALA DARPAN DATA'!R3636","v":0},{"$f":"'SHALA DARPAN DATA'!S3636","v":0},{"$f":"'SHALA DARPAN DATA'!O3636","v":0},0,0,0,0,0,0,0,0,0,0,0]
[{"$f":"'SHALA DARPAN DATA'!C3637","v":0},{"$f":"'SHALA DARPAN DATA'!A3637","v":0},{"$f":"'SHALA DARPAN DATA'!B3637","v":0},{"$f":"'SHALA DARPAN DATA'!D3637","v":0},{"$f":"'SHALA DARPAN DATA'!J3637","v":0},{"$f":"'SHALA DARPAN DATA'!T3637","v":0},{"$f":"'SHALA DARPAN DATA'!V3637","v":0},{"$f":"'SHALA DARPAN DATA'!K3637","v":0},{"$f":"'SHALA DARPAN DATA'!E3637","v":0},{"$f":"'SHALA DARPAN DATA'!G3637","v":0},{"$f":"'SHALA DARPAN DATA'!H3637","v":0},{"$f":"'SHALA DARPAN DATA'!W3637","v":0},{"$f":"'SHALA DARPAN DATA'!R3637","v":0},{"$f":"'SHALA DARPAN DATA'!S3637","v":0},{"$f":"'SHALA DARPAN DATA'!O3637","v":0},0,0,0,0,0,0,0,0,0,0,0]
[{"$f":"'SHALA DARPAN DATA'!C3643","v":0},{"$f":"'SHALA DARPAN DATA'!A3643","v":0},{"$f":"'SHALA DARPAN DATA'!B3643","v":0},{"$f":"'SHALA DARPAN DATA'!D3643","v":0},{"$f":"'SHALA DARPAN DATA'!J3643","v":0},{"$f":"'SHALA DARPAN DATA'!T3643","v":0},{"$f":"'SHALA DARPAN DATA'!V3643","v":0},{"$f":"'SHALA DARPAN DATA'!K3643","v":0},{"$f":"'SHALA DARPAN DATA'!E3643","v":0},{"$f":"'SHALA DARPAN DATA'!G3643","v":0},{"$f":"'SHALA DARPAN DATA'!H3643","v":0},{"$f":"'SHALA DARPAN DATA'!W3643","v":0},{"$f":"'SHALA DARPAN DATA'!R3643","v":0},{"$f":"'SHALA DARPAN DATA'!S3643","v":0},{"$f":"'SHALA DARPAN DATA'!O3643","v":0},0,0,0,0,0,0,0,0,0,0,0]
[{"$f":"'SHALA DARPAN DATA'!C3646","v":0},{"$f":"'SHALA DARPAN DATA'!A3646","v":0},{"$f":"'SHALA DARPAN DATA'!B3646","v":0},{"$f":"'SHALA DARPAN DATA'!D3646","v":0},{"$f":"'SHALA DARPAN DATA'!J3646","v":0},{"$f":"'SHALA DARPAN DATA'!T3646","v":0},{"$f":"'SHALA DARPAN DATA'!V3646","v":0},{"$f":"'SHALA DARPAN DATA'!K3646","v":0},{"$f":"'SHALA DARPAN DATA'!E3646","v":0},{"$f":"'SHALA DARPAN DATA'!G3646","v":0},{"$f":"'SHALA DARPAN DATA'!H3646","v":0},{"$f":"'SHALA DARPAN DATA'!W3646","v":0},{"$f":"'SHALA DARPAN DATA'!R3646","v":0},{"$f":"'SHALA DARPAN DATA'!S3646","v":0},{"$f":"'SHALA DARPAN DATA'!O3646","v":0},0,0,0,0,0,0,0,0,0,0,0]
[{"$f":"'SHALA DARPAN DATA'!C3651","v":0},{"$f":"'SHALA DARPAN DATA'!A3651","v":0},{"$f":"'SHALA DARPAN DATA'!B3651","v":0},{"$f":"'SHALA DARPAN DATA'!D3651","v":0},{"$f":"'SHALA DARPAN DATA'!J3651","v":0},{"$f":"'SHALA DARPAN DATA'!T3651","v":0},{"$f":"'SHALA DARPAN DATA'!V3651","v":0},{"$f":"'SHALA DARPAN DATA'!K3651","v":0},{"$f":"'SHALA DARPAN DATA'!E3651","v":0},{"$f":"'SHALA DARPAN DATA'!G3651","v":0},{"$f":"'SHALA DARPAN DATA'!H3651","v":0},{"$f":"'SHALA DARPAN DATA'!W3651","v":0},{"$f":"'SHALA DARPAN DATA'!R3651","v":0},{"$f":"'SHALA DARPAN DATA'!S3651","v":0},{"$f":"'SHALA DARPAN DATA'!O3651","v":0},0,0,0,0,0,0,0,0,0,0,0]
[{"$f":"'SHALA DARPAN DATA'!C3652","v":0},{"$f":"'SHALA DARPAN DATA'!A3652","v":0},{"$f":"'SHALA DARPAN DATA'!B3652","v":0},{"$f":"'SHALA DARPAN DATA'!D3652","v":0},{"$f":"'SHALA DARPAN DATA'!J3652","v":0},{"$f":"'SHALA DARPAN DATA'!T3652","v":0},{"$f":"'SHALA DARPAN DATA'!V3652","v":0},{"$f":"'SHALA DARPAN DATA'!K3652","v":0},{"$f":"'SHALA DARPAN DATA'!E3652","v":0},{"$f":"'SHALA DARPAN DATA'!G3652","v":0},{"$f":"'SHALA DARPAN DATA'!H3652","v":0},{"$f":"'SHALA DARPAN DATA'!W3652","v":0},{"$f":"'SHALA DARPAN DATA'!R3652","v":0},{"$f":"'SHALA DARPAN DATA'!S3652","v":0},{"$f":"'SHALA DARPAN DATA'!O3652","v":0},0,0,0,0,0,0,0,0,0,0,0]
[{"$f":"'SHALA DARPAN DATA'!C3657","v":0},{"$f":"'SHALA DARPAN DATA'!A3657","v":0},{"$f":"'SHALA DARPAN DATA'!B3657","v":0},{"$f":"'SHALA DARPAN DATA'!D3657","v":0},{"$f":"'SHALA DARPAN DATA'!J3657","v":0},{"$f":"'SHALA DARPAN DATA'!T3657","v":0},{"$f":"'SHALA DARPAN DATA'!V3657","v":0},{"$f":"'SHALA DARPAN DATA'!K3657","v":0},{"$f":"'SHALA DARPAN DATA'!E3657","v":0},{"$f":"'SHALA DARPAN DATA'!G3657","v":0},{"$f":"'SHALA DARPAN DATA'!H3657","v":0},{"$f":"'SHALA DARPAN DATA'!W3657","v":0},{"$f":"'SHALA DARPAN DATA'!R3657","v":0},{"$f":"'SHALA DARPAN DATA'!S3657","v":0},{"$f":"'SHALA DARPAN DATA'!O3657","v":0},0,0,0,0,0,0,0,0,0,0,0]
[{"$f":"'SHALA DARPAN DATA'!C3661","v":0},{"$f":"'SHALA DARPAN DATA'!A3661","v":0},{"$f":"'SHALA DARPAN DATA'!B3661","v":0},{"$f":"'SHALA DARPAN DATA'!D3661","v":0},{"$f":"'SHALA DARPAN DATA'!J3661","v":0},{"$f":"'SHALA DARPAN DATA'!T3661","v":0},{"$f":"'SHALA DARPAN DATA'!V3661","v":0},{"$f":"'SHALA DARPAN DATA'!K3661","v":0},{"$f":"'SHALA DARPAN DATA'!E3661","v":0},{"$f":"'SHALA DARPAN DATA'!G3661","v":0},{"$f":"'SHALA DARPAN DATA'!H3661","v":0},{"$f":"'SHALA DARPAN DATA'!W3661","v":0},{"$f":"'SHALA DARPAN DATA'!R3661","v":0},{"$f":"'SHALA DARPAN DATA'!S3661","v":0},{"$f":"'SHALA DARPAN DATA'!O3661","v":0},0,0,0,0,0,0,0,0,0,0,0]
[{"$f":"'SHALA DARPAN DATA'!C3666","v":0},{"$f":"'SHALA DARPAN DATA'!A3666","v":0},{"$f":"'SHALA DARPAN DATA'!B3666","v":0},{"$f":"'SHALA DARPAN DATA'!D3666","v":0},{"$f":"'SHALA DARPAN DATA'!J3666","v":0},{"$f":"'SHALA DARPAN DATA'!T3666","v":0},{"$f":"'SHALA DARPAN DATA'!V3666","v":0},{"$f":"'SHALA DARPAN DATA'!K3666","v":0},{"$f":"'SHALA DARPAN DATA'!E3666","v":0},{"$f":"'SHALA DARPAN DATA'!G3666","v":0},{"$f":"'SHALA DARPAN DATA'!H3666","v":0},{"$f":"'SHALA DARPAN DATA'!W3666","v":0},{"$f":"'SHALA DARPAN DATA'!R3666","v":0},{"$f":"'SHALA DARPAN DATA'!S3666","v":0},{"$f":"'SHALA DARPAN DATA'!O3666","v":0},0,0,0,0,0,0,0,0,0,0,0]
[{"$f":"'SHALA DARPAN DATA'!C3667","v":0},{"$f":"'SHALA DARPAN DATA'!A3667","v":0},{"$f":"'SHALA DARPAN DATA'!B3667","v":0},{"$f":"'SHALA DARPAN DATA'!D3667","v":0},{"$f":"'SHALA DARPAN DATA'!J3667","v":0},{"$f":"'SHALA DARPAN DATA'!T3667","v":0},{"$f":"'SHALA DARPAN DATA'!V3667","v":0},{"$f":"'SHALA DARPAN DATA'!K3667","v":0},{"$f":"'SHALA DARPAN DATA'!E3667","v":0},{"$f":"'SHALA DARPAN DATA'!G3667","v":0},{"$f":"'SHALA DARPAN DATA'!H3667","v":0},{"$f":"'SHALA DARPAN DATA'!W3667","v":0},{"$f":"'SHALA DARPAN DATA'!R3667","v":0},{"$f":"'SHALA DARPAN DATA'!S3667","v":0},{"$f":"'SHALA DARPAN DATA'!O3667","v":0},0,0,0,0,0,0,0,0,0,0,0]
[{"$f":"'SHALA DARPAN DATA'!C3673","v":0},{"$f":"'SHALA DARPAN DATA'!A3673","v":0},{"$f":"'SHALA DARPAN DATA'!B3673","v":0},{"$f":"'SHALA DARPAN DATA'!D3673","v":0},{"$f":"'SHALA DARPAN DATA'!J3673","v":0},{"$f":"'SHALA DARPAN DATA'!T3673","v":0},{"$f":"'SHALA DARPAN DATA'!V3673","v":0},{"$f":"'SHALA DARPAN DATA'!K3673","v":0},{"$f":"'SHALA DARPAN DATA'!E3673","v":0},{"$f":"'SHALA DARPAN DATA'!G3673","v":0},{"$f":"'SHALA DARPAN DATA'!H3673","v":0},{"$f":"'SHALA DARPAN DATA'!W3673","v":0},{"$f":"'SHALA DARPAN DATA'!R3673","v":0},{"$f":"'SHALA DARPAN DATA'!S3673","v":0},{"$f":"'SHALA DARPAN DATA'!O3673","v":0},0,0,0,0,0,0,0,0,0,0,0]
[{"$f":"'SHALA DARPAN DATA'!C3676","v":0},{"$f":"'SHALA DARPAN DATA'!A3676","v":0},{"$f":"'SHALA DARPAN DATA'!B3676","v":0},{"$f":"'SHALA DARPAN DATA'!D3676","v":0},{"$f":"'SHALA DARPAN DATA'!J3676","v":0},{"$f":"'SHALA DARPAN DATA'!T3676","v":0},{"$f":"'SHALA DARPAN DATA'!V3676","v":0},{"$f":"'SHALA DARPAN DATA'!K3676","v":0},{"$f":"'SHALA DARPAN DATA'!E3676","v":0},{"$f":"'SHALA DARPAN DATA'!G3676","v":0},{"$f":"'SHALA DARPAN DATA'!H3676","v":0},{"$f":"'SHALA DARPAN DATA'!W3676","v":0},{"$f":"'SHALA DARPAN DATA'!R3676","v":0},{"$f":"'SHALA DARPAN DATA'!S3676","v":0},{"$f":"'SHALA DARPAN DATA'!O3676","v":0},0,0,0,0,0,0,0,0,0,0,0]
[{"$f":"'SHALA DARPAN DATA'!C3681","v":0},{"$f":"'SHALA DARPAN DATA'!A3681","v":0},{"$f":"'SHALA DARPAN DATA'!B3681","v":0},{"$f":"'SHALA DARPAN DATA'!D3681","v":0},{"$f":"'SHALA DARPAN DATA'!J3681","v":0},{"$f":"'SHALA DARPAN DATA'!T3681","v":0},{"$f":"'SHALA DARPAN DATA'!V3681","v":0},{"$f":"'SHALA DARPAN DATA'!K3681","v":0},{"$f":"'SHALA DARPAN DATA'!E3681","v":0},{"$f":"'SHALA DARPAN DATA'!G3681","v":0},{"$f":"'SHALA DARPAN DATA'!H3681","v":0},{"$f":"'SHALA DARPAN DATA'!W3681","v":0},{"$f":"'SHALA DARPAN DATA'!R3681","v":0},{"$f":"'SHALA DARPAN DATA'!S3681","v":0},{"$f":"'SHALA DARPAN DATA'!O3681","v":0},0,0,0,0,0,0,0,0,0,0,0]
[{"$f":"'SHALA DARPAN DATA'!C3682","v":0},{"$f":"'SHALA DARPAN DATA'!A3682","v":0},{"$f":"'SHALA DARPAN DATA'!B3682","v":0},{"$f":"'SHALA DARPAN DATA'!D3682","v":0},{"$f":"'SHALA DARPAN DATA'!J3682","v":0},{"$f":"'SHALA DARPAN DATA'!T3682","v":0},{"$f":"'SHALA DARPAN DATA'!V3682","v":0},{"$f":"'SHALA DARPAN DATA'!K3682","v":0},{"$f":"'SHALA DARPAN DATA'!E3682","v":0},{"$f":"'SHALA DARPAN DATA'!G3682","v":0},{"$f":"'SHALA DARPAN DATA'!H3682","v":0},{"$f":"'SHALA DARPAN DATA'!W3682","v":0},{"$f":"'SHALA DARPAN DATA'!R3682","v":0},{"$f":"'SHALA DARPAN DATA'!S3682","v":0},{"$f":"'SHALA DARPAN DATA'!O3682","v":0},0,0,0,0,0,0,0,0,0,0,0]
[{"$f":"'SHALA DARPAN DATA'!C3687","v":0},{"$f":"'SHALA DARPAN DATA'!A3687","v":0},{"$f":"'SHALA DARPAN DATA'!B3687","v":0},{"$f":"'SHALA DARPAN DATA'!D3687","v":0},{"$f":"'SHALA DARPAN DATA'!J3687","v":0},{"$f":"'SHALA DARPAN DATA'!T3687","v":0},{"$f":"'SHALA DARPAN DATA'!V3687","v":0},{"$f":"'SHALA DARPAN DATA'!K3687","v":0},{"$f":"'SHALA DARPAN DATA'!E3687","v":0},{"$f":"'SHALA DARPAN DATA'!G3687","v":0},{"$f":"'SHALA DARPAN DATA'!H3687","v":0},{"$f":"'SHALA DARPAN DATA'!W3687","v":0},{"$f":"'SHALA DARPAN DATA'!R3687","v":0},{"$f":"'SHALA DARPAN DATA'!S3687","v":0},{"$f":"'SHALA DARPAN DATA'!O3687","v":0},0,0,0,0,0,0,0,0,0,0,0]
[{"$f":"'SHALA DARPAN DATA'!C3691","v":0},{"$f":"'SHALA DARPAN DATA'!A3691","v":0},{"$f":"'SHALA DARPAN DATA'!B3691","v":0},{"$f":"'SHALA DARPAN DATA'!D3691","v":0},{"$f":"'SHALA DARPAN DATA'!J3691","v":0},{"$f":"'SHALA DARPAN DATA'!T3691","v":0},{"$f":"'SHALA DARPAN DATA'!V3691","v":0},{"$f":"'SHALA DARPAN DATA'!K3691","v":0},{"$f":"'SHALA DARPAN DATA'!E3691","v":0},{"$f":"'SHALA DARPAN DATA'!G3691","v":0},{"$f":"'SHALA DARPAN DATA'!H3691","v":0},{"$f":"'SHALA DARPAN DATA'!W3691","v":0},{"$f":"'SHALA DARPAN DATA'!R3691","v":0},{"$f":"'SHALA DARPAN DATA'!S3691","v":0},{"$f":"'SHALA DARPAN DATA'!O3691","v":0},0,0,0,0,0,0,0,0,0,0,0]
[{"$f":"'SHALA DARPAN DATA'!C3696","v":0},{"$f":"'SHALA DARPAN DATA'!A3696","v":0},{"$f":"'SHALA DARPAN DATA'!B3696","v":0},{"$f":"'SHALA DARPAN DATA'!D3696","v":0},{"$f":"'SHALA DARPAN DATA'!J3696","v":0},{"$f":"'SHALA DARPAN DATA'!T3696","v":0},{"$f":"'SHALA DARPAN DATA'!V3696","v":0},{"$f":"'SHALA DARPAN DATA'!K3696","v":0},{"$f":"'SHALA DARPAN DATA'!E3696","v":0},{"$f":"'SHALA DARPAN DATA'!G3696","v":0},{"$f":"'SHALA DARPAN DATA'!H3696","v":0},{"$f":"'SHALA DARPAN DATA'!W3696","v":0},{"$f":"'SHALA DARPAN DATA'!R3696","v":0},{"$f":"'SHALA DARPAN DATA'!S3696","v":0},{"$f":"'SHALA DARPAN DATA'!O3696","v":0},0,0,0,0,0,0,0,0,0,0,0]
[{"$f":"'SHALA DARPAN DATA'!C3697","v":0},{"$f":"'SHALA DARPAN DATA'!A3697","v":0},{"$f":"'SHALA DARPAN DATA'!B3697","v":0},{"$f":"'SHALA DARPAN DATA'!D3697","v":0},{"$f":"'SHALA DARPAN DATA'!J3697","v":0},{"$f":"'SHALA DARPAN DATA'!T3697","v":0},{"$f":"'SHALA DARPAN DATA'!V3697","v":0},{"$f":"'SHALA DARPAN DATA'!K3697","v":0},{"$f":"'SHALA DARPAN DATA'!E3697","v":0},{"$f":"'SHALA DARPAN DATA'!G3697","v":0},{"$f":"'SHALA DARPAN DATA'!H3697","v":0},{"$f":"'SHALA DARPAN DATA'!W3697","v":0},{"$f":"'SHALA DARPAN DATA'!R3697","v":0},{"$f":"'SHALA DARPAN DATA'!S3697","v":0},{"$f":"'SHALA DARPAN DATA'!O3697","v":0},0,0,0,0,0,0,0,0,0,0,0]
[{"$f":"'SHALA DARPAN DATA'!C3701","v":0},{"$f":"'SHALA DARPAN DATA'!A3701","v":0},{"$f":"'SHALA DARPAN DATA'!B3701","v":0},{"$f":"'SHALA DARPAN DATA'!D3701","v":0},{"$f":"'SHALA DARPAN DATA'!J3701","v":0},{"$f":"'SHALA DARPAN DATA'!T3701","v":0},{"$f":"'SHALA DARPAN DATA'!V3701","v":0},{"$f":"'SHALA DARPAN DATA'!K3701","v":0},{"$f":"'SHALA DARPAN DATA'!E3701","v":0},{"$f":"'SHALA DARPAN DATA'!G3701","v":0},{"$f":"'SHALA DARPAN DATA'!H3701","v":0},{"$f":"'SHALA DARPAN DATA'!W3701","v":0},{"$f":"'SHALA DARPAN DATA'!R3701","v":0},{"$f":"'SHALA DARPAN DATA'!S3701","v":0},{"$f":"'SHALA DARPAN DATA'!O3701","v":0},0,0,0,0,0,0,0,0,0,0,0]
[{"$f":"'SHALA DARPAN DATA'!C3706","v":0},{"$f":"'SHALA DARPAN DATA'!A3706","v":0},{"$f":"'SHALA DARPAN DATA'!B3706","v":0},{"$f":"'SHALA DARPAN DATA'!D3706","v":0},{"$f":"'SHALA DARPAN DATA'!J3706","v":0},{"$f":"'SHALA DARPAN DATA'!T3706","v":0},{"$f":"'SHALA DARPAN DATA'!V3706","v":0},{"$f":"'SHALA DARPAN DATA'!K3706","v":0},{"$f":"'SHALA DARPAN DATA'!E3706","v":0},{"$f":"'SHALA DARPAN DATA'!G3706","v":0},{"$f":"'SHALA DARPAN DATA'!H3706","v":0},{"$f":"'SHALA DARPAN DATA'!W3706","v":0},{"$f":"'SHALA DARPAN DATA'!R3706","v":0},{"$f":"'SHALA DARPAN DATA'!S3706","v":0},{"$f":"'SHALA DARPAN DATA'!O3706","v":0},0,0,0,0,0,0,0,0,0,0,0]
[{"$f":"'SHALA DARPAN DATA'!C3711","v":0},{"$f":"'SHALA DARPAN DATA'!A3711","v":0},{"$f":"'SHALA DARPAN DATA'!B3711","v":0},{"$f":"'SHALA DARPAN DATA'!D3711","v":0},{"$f":"'SHALA DARPAN DATA'!J3711","v":0},{"$f":"'SHALA DARPAN DATA'!T3711","v":0},{"$f":"'SHALA DARPAN DATA'!V3711","v":0},{"$f":"'SHALA DARPAN DATA'!K3711","v":0},{"$f":"'SHALA DARPAN DATA'!E3711","v":0},{"$f":"'SHALA DARPAN DATA'!G3711","v":0},{"$f":"'SHALA DARPAN DATA'!H3711","v":0},{"$f":"'SHALA DARPAN DATA'!W3711","v":0},{"$f":"'SHALA DARPAN DATA'!R3711","v":0},{"$f":"'SHALA DARPAN DATA'!S3711","v":0},{"$f":"'SHALA DARPAN DATA'!O3711","v":0},0,0,0,0,0,0,0,0,0,0,0]
[{"$f":"'SHALA DARPAN DATA'!C3712","v":0},{"$f":"'SHALA DARPAN DATA'!A3712","v":0},{"$f":"'SHALA DARPAN DATA'!B3712","v":0},{"$f":"'SHALA DARPAN DATA'!D3712","v":0},{"$f":"'SHALA DARPAN DATA'!J3712","v":0},{"$f":"'SHALA DARPAN DATA'!T3712","v":0},{"$f":"'SHALA DARPAN DATA'!V3712","v":0},{"$f":"'SHALA DARPAN DATA'!K3712","v":0},{"$f":"'SHALA DARPAN DATA'!E3712","v":0},{"$f":"'SHALA DARPAN DATA'!G3712","v":0},{"$f":"'SHALA DARPAN DATA'!H3712","v":0},{"$f":"'SHALA DARPAN DATA'!W3712","v":0},{"$f":"'SHALA DARPAN DATA'!R3712","v":0},{"$f":"'SHALA DARPAN DATA'!S3712","v":0},{"$f":"'SHALA DARPAN DATA'!O3712","v":0},0,0,0,0,0,0,0,0,0,0,0]
[{"$f":"'SHALA DARPAN DATA'!C3717","v":0},{"$f":"'SHALA DARPAN DATA'!A3717","v":0},{"$f":"'SHALA DARPAN DATA'!B3717","v":0},{"$f":"'SHALA DARPAN DATA'!D3717","v":0},{"$f":"'SHALA DARPAN DATA'!J3717","v":0},{"$f":"'SHALA DARPAN DATA'!T3717","v":0},{"$f":"'SHALA DARPAN DATA'!V3717","v":0},{"$f":"'SHALA DARPAN DATA'!K3717","v":0},{"$f":"'SHALA DARPAN DATA'!E3717","v":0},{"$f":"'SHALA DARPAN DATA'!G3717","v":0},{"$f":"'SHALA DARPAN DATA'!H3717","v":0},{"$f":"'SHALA DARPAN DATA'!W3717","v":0},{"$f":"'SHALA DARPAN DATA'!R3717","v":0},{"$f":"'SHALA DARPAN DATA'!S3717","v":0},{"$f":"'SHALA DARPAN DATA'!O3717","v":0},0,0,0,0,0,0,0,0,0,0,0]
[{"$f":"'SHALA DARPAN DATA'!C3721","v":0},{"$f":"'SHALA DARPAN DATA'!A3721","v":0},{"$f":"'SHALA DARPAN DATA'!B3721","v":0},{"$f":"'SHALA DARPAN DATA'!D3721","v":0},{"$f":"'SHALA DARPAN DATA'!J3721","v":0},{"$f":"'SHALA DARPAN DATA'!T3721","v":0},{"$f":"'SHALA DARPAN DATA'!V3721","v":0},{"$f":"'SHALA DARPAN DATA'!K3721","v":0},{"$f":"'SHALA DARPAN DATA'!E3721","v":0},{"$f":"'SHALA DARPAN DATA'!G3721","v":0},{"$f":"'SHALA DARPAN DATA'!H3721","v":0},{"$f":"'SHALA DARPAN DATA'!W3721","v":0},{"$f":"'SHALA DARPAN DATA'!R3721","v":0},{"$f":"'SHALA DARPAN DATA'!S3721","v":0},{"$f":"'SHALA DARPAN DATA'!O3721","v":0},0,0,0,0,0,0,0,0,0,0,0]
[{"$f":"'SHALA DARPAN DATA'!C3726","v":0},{"$f":"'SHALA DARPAN DATA'!A3726","v":0},{"$f":"'SHALA DARPAN DATA'!B3726","v":0},{"$f":"'SHALA DARPAN DATA'!D3726","v":0},{"$f":"'SHALA DARPAN DATA'!J3726","v":0},{"$f":"'SHALA DARPAN DATA'!T3726","v":0},{"$f":"'SHALA DARPAN DATA'!V3726","v":0},{"$f":"'SHALA DARPAN DATA'!K3726","v":0},{"$f":"'SHALA DARPAN DATA'!E3726","v":0},{"$f":"'SHALA DARPAN DATA'!G3726","v":0},{"$f":"'SHALA DARPAN DATA'!H3726","v":0},{"$f":"'SHALA DARPAN DATA'!W3726","v":0},{"$f":"'SHALA DARPAN DATA'!R3726","v":0},{"$f":"'SHALA DARPAN DATA'!S3726","v":0},{"$f":"'SHALA DARPAN DATA'!O3726","v":0},0,0,0,0,0,0,0,0,0,0,0]
[{"$f":"'SHALA DARPAN DATA'!C3727","v":0},{"$f":"'SHALA DARPAN DATA'!A3727","v":0},{"$f":"'SHALA DARPAN DATA'!B3727","v":0},{"$f":"'SHALA DARPAN DATA'!D3727","v":0},{"$f":"'SHALA DARPAN DATA'!J3727","v":0},{"$f":"'SHALA DARPAN DATA'!T3727","v":0},{"$f":"'SHALA DARPAN DATA'!V3727","v":0},{"$f":"'SHALA DARPAN DATA'!K3727","v":0},{"$f":"'SHALA DARPAN DATA'!E3727","v":0},{"$f":"'SHALA DARPAN DATA'!G3727","v":0},{"$f":"'SHALA DARPAN DATA'!H3727","v":0},{"$f":"'SHALA DARPAN DATA'!W3727","v":0},{"$f":"'SHALA DARPAN DATA'!R3727","v":0},{"$f":"'SHALA DARPAN DATA'!S3727","v":0},{"$f":"'SHALA DARPAN DATA'!O3727","v":0},0,0,0,0,0,0,0,0,0,0,0]
[{"$f":"'SHALA DARPAN DATA'!C3731","v":0},{"$f":"'SHALA DARPAN DATA'!A3731","v":0},{"$f":"'SHALA DARPAN DATA'!B3731","v":0},{"$f":"'SHALA DARPAN DATA'!D3731","v":0},{"$f":"'SHALA DARPAN DATA'!J3731","v":0},{"$f":"'SHALA DARPAN DATA'!T3731","v":0},{"$f":"'SHALA DARPAN DATA'!V3731","v":0},{"$f":"'SHALA DARPAN DATA'!K3731","v":0},{"$f":"'SHALA DARPAN DATA'!E3731","v":0},{"$f":"'SHALA DARPAN DATA'!G3731","v":0},{"$f":"'SHALA DARPAN DATA'!H3731","v":0},{"$f":"'SHALA DARPAN DATA'!W3731","v":0},{"$f":"'SHALA DARPAN DATA'!R3731","v":0},{"$f":"'SHALA DARPAN DATA'!S3731","v":0},{"$f":"'SHALA DARPAN DATA'!O3731","v":0},0,0,0,0,0,0,0,0,0,0,0]
[{"$f":"'SHALA DARPAN DATA'!C3736","v":0},{"$f":"'SHALA DARPAN DATA'!A3736","v":0},{"$f":"'SHALA DARPAN DATA'!B3736","v":0},{"$f":"'SHALA DARPAN DATA'!D3736","v":0},{"$f":"'SHALA DARPAN DATA'!J3736","v":0},{"$f":"'SHALA DARPAN DATA'!T3736","v":0},{"$f":"'SHALA DARPAN DATA'!V3736","v":0},{"$f":"'SHALA DARPAN DATA'!K3736","v":0},{"$f":"'SHALA DARPAN DATA'!E3736","v":0},{"$f":"'SHALA DARPAN DATA'!G3736","v":0},{"$f":"'SHALA DARPAN DATA'!H3736","v":0},{"$f":"'SHALA DARPAN DATA'!W3736","v":0},{"$f":"'SHALA DARPAN DATA'!R3736","v":0},{"$f":"'SHALA DARPAN DATA'!S3736","v":0},{"$f":"'SHALA DARPAN DATA'!O3736","v":0},0,0,0,0,0,0,0,0,0,0,0]
[{"$f":"'SHALA DARPAN DATA'!C3741","v":0},{"$f":"'SHALA DARPAN DATA'!A3741","v":0},{"$f":"'SHALA DARPAN DATA'!B3741","v":0},{"$f":"'SHALA DARPAN DATA'!D3741","v":0},{"$f":"'SHALA DARPAN DATA'!J3741","v":0},{"$f":"'SHALA DARPAN DATA'!T3741","v":0},{"$f":"'SHALA DARPAN DATA'!V3741","v":0},{"$f":"'SHALA DARPAN DATA'!K3741","v":0},{"$f":"'SHALA DARPAN DATA'!E3741","v":0},{"$f":"'SHALA DARPAN DATA'!G3741","v":0},{"$f":"'SHALA DARPAN DATA'!H3741","v":0},{"$f":"'SHALA DARPAN DATA'!W3741","v":0},{"$f":"'SHALA DARPAN DATA'!R3741","v":0},{"$f":"'SHALA DARPAN DATA'!S3741","v":0},{"$f":"'SHALA DARPAN DATA'!O3741","v":0},0,0,0,0,0,0,0,0,0,0,0]
[{"$f":"'SHALA DARPAN DATA'!C3742","v":0},{"$f":"'SHALA DARPAN DATA'!A3742","v":0},{"$f":"'SHALA DARPAN DATA'!B3742","v":0},{"$f":"'SHALA DARPAN DATA'!D3742","v":0},{"$f":"'SHALA DARPAN DATA'!J3742","v":0},{"$f":"'SHALA DARPAN DATA'!T3742","v":0},{"$f":"'SHALA DARPAN DATA'!V3742","v":0},{"$f":"'SHALA DARPAN DATA'!K3742","v":0},{"$f":"'SHALA DARPAN DATA'!E3742","v":0},{"$f":"'SHALA DARPAN DATA'!G3742","v":0},{"$f":"'SHALA DARPAN DATA'!H3742","v":0},{"$f":"'SHALA DARPAN DATA'!W3742","v":0},{"$f":"'SHALA DARPAN DATA'!R3742","v":0},{"$f":"'SHALA DARPAN DATA'!S3742","v":0},{"$f":"'SHALA DARPAN DATA'!O3742","v":0},0,0,0,0,0,0,0,0,0,0,0]
[{"$f":"'SHALA DARPAN DATA'!C3747","v":0},{"$f":"'SHALA DARPAN DATA'!A3747","v":0},{"$f":"'SHALA DARPAN DATA'!B3747","v":0},{"$f":"'SHALA DARPAN DATA'!D3747","v":0},{"$f":"'SHALA DARPAN DATA'!J3747","v":0},{"$f":"'SHALA DARPAN DATA'!T3747","v":0},{"$f":"'SHALA DARPAN DATA'!V3747","v":0},{"$f":"'SHALA DARPAN DATA'!K3747","v":0},{"$f":"'SHALA DARPAN DATA'!E3747","v":0},{"$f":"'SHALA DARPAN DATA'!G3747","v":0},{"$f":"'SHALA DARPAN DATA'!H3747","v":0},{"$f":"'SHALA DARPAN DATA'!W3747","v":0},{"$f":"'SHALA DARPAN DATA'!R3747","v":0},{"$f":"'SHALA DARPAN DATA'!S3747","v":0},{"$f":"'SHALA DARPAN DATA'!O3747","v":0},0,0,0,0,0,0,0,0,0,0,0]
[{"$f":"'SHALA DARPAN DATA'!C3751","v":0},{"$f":"'SHALA DARPAN DATA'!A3751","v":0},{"$f":"'SHALA DARPAN DATA'!B3751","v":0},{"$f":"'SHALA DARPAN DATA'!D3751","v":0},{"$f":"'SHALA DARPAN DATA'!J3751","v":0},{"$f":"'SHALA DARPAN DATA'!T3751","v":0},{"$f":"'SHALA DARPAN DATA'!V3751","v":0},{"$f":"'SHALA DARPAN DATA'!K3751","v":0},{"$f":"'SHALA DARPAN DATA'!E3751","v":0},{"$f":"'SHALA DARPAN DATA'!G3751","v":0},{"$f":"'SHALA DARPAN DATA'!H3751","v":0},{"$f":"'SHALA DARPAN DATA'!W3751","v":0},{"$f":"'SHALA DARPAN DATA'!R3751","v":0},{"$f":"'SHALA DARPAN DATA'!S3751","v":0},{"$f":"'SHALA DARPAN DATA'!O3751","v":0},0,0,0,0,0,0,0,0,0,0,0]
[{"$f":"'SHALA DARPAN DATA'!C3756","v":0},{"$f":"'SHALA DARPAN DATA'!A3756","v":0},{"$f":"'SHALA DARPAN DATA'!B3756","v":0},{"$f":"'SHALA DARPAN DATA'!D3756","v":0},{"$f":"'SHALA DARPAN DATA'!J3756","v":0},{"$f":"'SHALA DARPAN DATA'!T3756","v":0},{"$f":"'SHALA DARPAN DATA'!V3756","v":0},{"$f":"'SHALA DARPAN DATA'!K3756","v":0},{"$f":"'SHALA DARPAN DATA'!E3756","v":0},{"$f":"'SHALA DARPAN DATA'!G3756","v":0},{"$f":"'SHALA DARPAN DATA'!H3756","v":0},{"$f":"'SHALA DARPAN DATA'!W3756","v":0},{"$f":"'SHALA DARPAN DATA'!R3756","v":0},{"$f":"'SHALA DARPAN DATA'!S3756","v":0},{"$f":"'SHALA DARPAN DATA'!O3756","v":0},0,0,0,0,0,0,0,0,0,0,0]
[{"$f":"'SHALA DARPAN DATA'!C3757","v":0},{"$f":"'SHALA DARPAN DATA'!A3757","v":0},{"$f":"'SHALA DARPAN DATA'!B3757","v":0},{"$f":"'SHALA DARPAN DATA'!D3757","v":0},{"$f":"'SHALA DARPAN DATA'!J3757","v":0},{"$f":"'SHALA DARPAN DATA'!T3757","v":0},{"$f":"'SHALA DARPAN DATA'!V3757","v":0},{"$f":"'SHALA DARPAN DATA'!K3757","v":0},{"$f":"'SHALA DARPAN DATA'!E3757","v":0},{"$f":"'SHALA DARPAN DATA'!G3757","v":0},{"$f":"'SHALA DARPAN DATA'!H3757","v":0},{"$f":"'SHALA DARPAN DATA'!W3757","v":0},{"$f":"'SHALA DARPAN DATA'!R3757","v":0},{"$f":"'SHALA DARPAN DATA'!S3757","v":0},{"$f":"'SHALA DARPAN DATA'!O3757","v":0},0,0,0,0,0,0,0,0,0,0,0]
[{"$f":"'SHALA DARPAN DATA'!C3761","v":0},{"$f":"'SHALA DARPAN DATA'!A3761","v":0},{"$f":"'SHALA DARPAN DATA'!B3761","v":0},{"$f":"'SHALA DARPAN DATA'!D3761","v":0},{"$f":"'SHALA DARPAN DATA'!J3761","v":0},{"$f":"'SHALA DARPAN DATA'!T3761","v":0},{"$f":"'SHALA DARPAN DATA'!V3761","v":0},{"$f":"'SHALA DARPAN DATA'!K3761","v":0},{"$f":"'SHALA DARPAN DATA'!E3761","v":0},{"$f":"'SHALA DARPAN DATA'!G3761","v":0},{"$f":"'SHALA DARPAN DATA'!H3761","v":0},{"$f":"'SHALA DARPAN DATA'!W3761","v":0},{"$f":"'SHALA DARPAN DATA'!R3761","v":0},{"$f":"'SHALA DARPAN DATA'!S3761","v":0},{"$f":"'SHALA DARPAN DATA'!O3761","v":0},0,0,0,0,0,0,0,0,0,0,0]
[{"$f":"'SHALA DARPAN DATA'!C3766","v":0},{"$f":"'SHALA DARPAN DATA'!A3766","v":0},{"$f":"'SHALA DARPAN DATA'!B3766","v":0},{"$f":"'SHALA DARPAN DATA'!D3766","v":0},{"$f":"'SHALA DARPAN DATA'!J3766","v":0},{"$f":"'SHALA DARPAN DATA'!T3766","v":0},{"$f":"'SHALA DARPAN DATA'!V3766","v":0},{"$f":"'SHALA DARPAN DATA'!K3766","v":0},{"$f":"'SHALA DARPAN DATA'!E3766","v":0},{"$f":"'SHALA DARPAN DATA'!G3766","v":0},{"$f":"'SHALA DARPAN DATA'!H3766","v":0},{"$f":"'SHALA DARPAN DATA'!W3766","v":0},{"$f":"'SHALA DARPAN DATA'!R3766","v":0},{"$f":"'SHALA DARPAN DATA'!S3766","v":0},{"$f":"'SHALA DARPAN DATA'!O3766","v":0},0,0,0,0,0,0,0,0,0,0,0]
[{"$f":"'SHALA DARPAN DATA'!C3771","v":0},{"$f":"'SHALA DARPAN DATA'!A3771","v":0},{"$f":"'SHALA DARPAN DATA'!B3771","v":0},{"$f":"'SHALA DARPAN DATA'!D3771","v":0},{"$f":"'SHALA DARPAN DATA'!J3771","v":0},{"$f":"'SHALA DARPAN DATA'!T3771","v":0},{"$f":"'SHALA DARPAN DATA'!V3771","v":0},{"$f":"'SHALA DARPAN DATA'!K3771","v":0},{"$f":"'SHALA DARPAN DATA'!E3771","v":0},{"$f":"'SHALA DARPAN DATA'!G3771","v":0},{"$f":"'SHALA DARPAN DATA'!H3771","v":0},{"$f":"'SHALA DARPAN DATA'!W3771","v":0},{"$f":"'SHALA DARPAN DATA'!R3771","v":0},{"$f":"'SHALA DARPAN DATA'!S3771","v":0},{"$f":"'SHALA DARPAN DATA'!O3771","v":0},0,0,0,0,0,0,0,0,0,0,0]
[{"$f":"'SHALA DARPAN DATA'!C3772","v":0},{"$f":"'SHALA DARPAN DATA'!A3772","v":0},{"$f":"'SHALA DARPAN DATA'!B3772","v":0},{"$f":"'SHALA DARPAN DATA'!D3772","v":0},{"$f":"'SHALA DARPAN DATA'!J3772","v":0},{"$f":"'SHALA DARPAN DATA'!T3772","v":0},{"$f":"'SHALA DARPAN DATA'!V3772","v":0},{"$f":"'SHALA DARPAN DATA'!K3772","v":0},{"$f":"'SHALA DARPAN DATA'!E3772","v":0},{"$f":"'SHALA DARPAN DATA'!G3772","v":0},{"$f":"'SHALA DARPAN DATA'!H3772","v":0},{"$f":"'SHALA DARPAN DATA'!W3772","v":0},{"$f":"'SHALA DARPAN DATA'!R3772","v":0},{"$f":"'SHALA DARPAN DATA'!S3772","v":0},{"$f":"'SHALA DARPAN DATA'!O3772","v":0},0,0,0,0,0,0,0,0,0,0,0]
[{"$f":"'SHALA DARPAN DATA'!C3777","v":0},{"$f":"'SHALA DARPAN DATA'!A3777","v":0},{"$f":"'SHALA DARPAN DATA'!B3777","v":0},{"$f":"'SHALA DARPAN DATA'!D3777","v":0},{"$f":"'SHALA DARPAN DATA'!J3777","v":0},{"$f":"'SHALA DARPAN DATA'!T3777","v":0},{"$f":"'SHALA DARPAN DATA'!V3777","v":0},{"$f":"'SHALA DARPAN DATA'!K3777","v":0},{"$f":"'SHALA DARPAN DATA'!E3777","v":0},{"$f":"'SHALA DARPAN DATA'!G3777","v":0},{"$f":"'SHALA DARPAN DATA'!H3777","v":0},{"$f":"'SHALA DARPAN DATA'!W3777","v":0},{"$f":"'SHALA DARPAN DATA'!R3777","v":0},{"$f":"'SHALA DARPAN DATA'!S3777","v":0},{"$f":"'SHALA DARPAN DATA'!O3777","v":0},0,0,0,0,0,0,0,0,0,0,0]
[{"$f":"'SHALA DARPAN DATA'!C3781","v":0},{"$f":"'SHALA DARPAN DATA'!A3781","v":0},{"$f":"'SHALA DARPAN DATA'!B3781","v":0},{"$f":"'SHALA DARPAN DATA'!D3781","v":0},{"$f":"'SHALA DARPAN DATA'!J3781","v":0},{"$f":"'SHALA DARPAN DATA'!T3781","v":0},{"$f":"'SHALA DARPAN DATA'!V3781","v":0},{"$f":"'SHALA DARPAN DATA'!K3781","v":0},{"$f":"'SHALA DARPAN DATA'!E3781","v":0},{"$f":"'SHALA DARPAN DATA'!G3781","v":0},{"$f":"'SHALA DARPAN DATA'!H3781","v":0},{"$f":"'SHALA DARPAN DATA'!W3781","v":0},{"$f":"'SHALA DARPAN DATA'!R3781","v":0},{"$f":"'SHALA DARPAN DATA'!S3781","v":0},{"$f":"'SHALA DARPAN DATA'!O3781","v":0},0,0,0,0,0,0,0,0,0,0,0]
[{"$f":"'SHALA DARPAN DATA'!C3786","v":0},{"$f":"'SHALA DARPAN DATA'!A3786","v":0},{"$f":"'SHALA DARPAN DATA'!B3786","v":0},{"$f":"'SHALA DARPAN DATA'!D3786","v":0},{"$f":"'SHALA DARPAN DATA'!J3786","v":0},{"$f":"'SHALA DARPAN DATA'!T3786","v":0},{"$f":"'SHALA DARPAN DATA'!V3786","v":0},{"$f":"'SHALA DARPAN DATA'!K3786","v":0},{"$f":"'SHALA DARPAN DATA'!E3786","v":0},{"$f":"'SHALA DARPAN DATA'!G3786","v":0},{"$f":"'SHALA DARPAN DATA'!H3786","v":0},{"$f":"'SHALA DARPAN DATA'!W3786","v":0},{"$f":"'SHALA DARPAN DATA'!R3786","v":0},{"$f":"'SHALA DARPAN DATA'!S3786","v":0},{"$f":"'SHALA DARPAN DATA'!O3786","v":0},0,0,0,0,0,0,0,0,0,0,0]
[{"$f":"'SHALA DARPAN DATA'!C3787","v":0},{"$f":"'SHALA DARPAN DATA'!A3787","v":0},{"$f":"'SHALA DARPAN DATA'!B3787","v":0},{"$f":"'SHALA DARPAN DATA'!D3787","v":0},{"$f":"'SHALA DARPAN DATA'!J3787","v":0},{"$f":"'SHALA DARPAN DATA'!T3787","v":0},{"$f":"'SHALA DARPAN DATA'!V3787","v":0},{"$f":"'SHALA DARPAN DATA'!K3787","v":0},{"$f":"'SHALA DARPAN DATA'!E3787","v":0},{"$f":"'SHALA DARPAN DATA'!G3787","v":0},{"$f":"'SHALA DARPAN DATA'!H3787","v":0},{"$f":"'SHALA DARPAN DATA'!W3787","v":0},{"$f":"'SHALA DARPAN DATA'!R3787","v":0},{"$f":"'SHALA DARPAN DATA'!S3787","v":0},{"$f":"'SHALA DARPAN DATA'!O3787","v":0},0,0,0,0,0,0,0,0,0,0,0]
[{"$f":"'SHALA DARPAN DATA'!C3791","v":0},{"$f":"'SHALA DARPAN DATA'!A3791","v":0},{"$f":"'SHALA DARPAN DATA'!B3791","v":0},{"$f":"'SHALA DARPAN DATA'!D3791","v":0},{"$f":"'SHALA DARPAN DATA'!J3791","v":0},{"$f":"'SHALA DARPAN DATA'!T3791","v":0},{"$f":"'SHALA DARPAN DATA'!V3791","v":0},{"$f":"'SHALA DARPAN DATA'!K3791","v":0},{"$f":"'SHALA DARPAN DATA'!E3791","v":0},{"$f":"'SHALA DARPAN DATA'!G3791","v":0},{"$f":"'SHALA DARPAN DATA'!H3791","v":0},{"$f":"'SHALA DARPAN DATA'!W3791","v":0},{"$f":"'SHALA DARPAN DATA'!R3791","v":0},{"$f":"'SHALA DARPAN DATA'!S3791","v":0},{"$f":"'SHALA DARPAN DATA'!O3791","v":0},0,0,0,0,0,0,0,0,0,0,0]
[{"$f":"'SHALA DARPAN DATA'!C3796","v":0},{"$f":"'SHALA DARPAN DATA'!A3796","v":0},{"$f":"'SHALA DARPAN DATA'!B3796","v":0},{"$f":"'SHALA DARPAN DATA'!D3796","v":0},{"$f":"'SHALA DARPAN DATA'!J3796","v":0},{"$f":"'SHALA DARPAN DATA'!T3796","v":0},{"$f":"'SHALA DARPAN DATA'!V3796","v":0},{"$f":"'SHALA DARPAN DATA'!K3796","v":0},{"$f":"'SHALA DARPAN DATA'!E3796","v":0},{"$f":"'SHALA DARPAN DATA'!G3796","v":0},{"$f":"'SHALA DARPAN DATA'!H3796","v":0},{"$f":"'SHALA DARPAN DATA'!W3796","v":0},{"$f":"'SHALA DARPAN DATA'!R3796","v":0},{"$f":"'SHALA DARPAN DATA'!S3796","v":0},{"$f":"'SHALA DARPAN DATA'!O3796","v":0},0,0,0,0,0,0,0,0,0,0,0]
[{"$f":"'SHALA DARPAN DATA'!C3801","v":0},{"$f":"'SHALA DARPAN DATA'!A3801","v":0},{"$f":"'SHALA DARPAN DATA'!B3801","v":0},{"$f":"'SHALA DARPAN DATA'!D3801","v":0},{"$f":"'SHALA DARPAN DATA'!J3801","v":0},{"$f":"'SHALA DARPAN DATA'!T3801","v":0},{"$f":"'SHALA DARPAN DATA'!V3801","v":0},{"$f":"'SHALA DARPAN DATA'!K3801","v":0},{"$f":"'SHALA DARPAN DATA'!E3801","v":0},{"$f":"'SHALA DARPAN DATA'!G3801","v":0},{"$f":"'SHALA DARPAN DATA'!H3801","v":0},{"$f":"'SHALA DARPAN DATA'!W3801","v":0},{"$f":"'SHALA DARPAN DATA'!R3801","v":0},{"$f":"'SHALA DARPAN DATA'!S3801","v":0},{"$f":"'SHALA DARPAN DATA'!O3801","v":0},0,0,0,0,0,0,0,0,0,0,0]
[{"$f":"'SHALA DARPAN DATA'!C3802","v":0},{"$f":"'SHALA DARPAN DATA'!A3802","v":0},{"$f":"'SHALA DARPAN DATA'!B3802","v":0},{"$f":"'SHALA DARPAN DATA'!D3802","v":0},{"$f":"'SHALA DARPAN DATA'!J3802","v":0},{"$f":"'SHALA DARPAN DATA'!T3802","v":0},{"$f":"'SHALA DARPAN DATA'!V3802","v":0},{"$f":"'SHALA DARPAN DATA'!K3802","v":0},{"$f":"'SHALA DARPAN DATA'!E3802","v":0},{"$f":"'SHALA DARPAN DATA'!G3802","v":0},{"$f":"'SHALA DARPAN DATA'!H3802","v":0},{"$f":"'SHALA DARPAN DATA'!W3802","v":0},{"$f":"'SHALA DARPAN DATA'!R3802","v":0},{"$f":"'SHALA DARPAN DATA'!S3802","v":0},{"$f":"'SHALA DARPAN DATA'!O3802","v":0},0,0,0,0,0,0,0,0,0,0,0]
[{"$f":"'SHALA DARPAN DATA'!C3807","v":0},{"$f":"'SHALA DARPAN DATA'!A3807","v":0},{"$f":"'SHALA DARPAN DATA'!B3807","v":0},{"$f":"'SHALA DARPAN DATA'!D3807","v":0},{"$f":"'SHALA DARPAN DATA'!J3807","v":0},{"$f":"'SHALA DARPAN DATA'!T3807","v":0},{"$f":"'SHALA DARPAN DATA'!V3807","v":0},{"$f":"'SHALA DARPAN DATA'!K3807","v":0},{"$f":"'SHALA DARPAN DATA'!E3807","v":0},{"$f":"'SHALA DARPAN DATA'!G3807","v":0},{"$f":"'SHALA DARPAN DATA'!H3807","v":0},{"$f":"'SHALA DARPAN DATA'!W3807","v":0},{"$f":"'SHALA DARPAN DATA'!R3807","v":0},{"$f":"'SHALA DARPAN DATA'!S3807","v":0},{"$f":"'SHALA DARPAN DATA'!O3807","v":0},0,0,0,0,0,0,0,0,0,0,0]
[{"$f":"'SHALA DARPAN DATA'!C3811","v":0},{"$f":"'SHALA DARPAN DATA'!A3811","v":0},{"$f":"'SHALA DARPAN DATA'!B3811","v":0},{"$f":"'SHALA DARPAN DATA'!D3811","v":0},{"$f":"'SHALA DARPAN DATA'!J3811","v":0},{"$f":"'SHALA DARPAN DATA'!T3811","v":0},{"$f":"'SHALA DARPAN DATA'!V3811","v":0},{"$f":"'SHALA DARPAN DATA'!K3811","v":0},{"$f":"'SHALA DARPAN DATA'!E3811","v":0},{"$f":"'SHALA DARPAN DATA'!G3811","v":0},{"$f":"'SHALA DARPAN DATA'!H3811","v":0},{"$f":"'SHALA DARPAN DATA'!W3811","v":0},{"$f":"'SHALA DARPAN DATA'!R3811","v":0},{"$f":"'SHALA DARPAN DATA'!S3811","v":0},{"$f":"'SHALA DARPAN DATA'!O3811","v":0},0,0,0,0,0,0,0,0,0,0,0]
[{"$f":"'SHALA DARPAN DATA'!C3816","v":0},{"$f":"'SHALA DARPAN DATA'!A3816","v":0},{"$f":"'SHALA DARPAN DATA'!B3816","v":0},{"$f":"'SHALA DARPAN DATA'!D3816","v":0},{"$f":"'SHALA DARPAN DATA'!J3816","v":0},{"$f":"'SHALA DARPAN DATA'!T3816","v":0},{"$f":"'SHALA DARPAN DATA'!V3816","v":0},{"$f":"'SHALA DARPAN DATA'!K3816","v":0},{"$f":"'SHALA DARPAN DATA'!E3816","v":0},{"$f":"'SHALA DARPAN DATA'!G3816","v":0},{"$f":"'SHALA DARPAN DATA'!H3816","v":0},{"$f":"'SHALA DARPAN DATA'!W3816","v":0},{"$f":"'SHALA DARPAN DATA'!R3816","v":0},{"$f":"'SHALA DARPAN DATA'!S3816","v":0},{"$f":"'SHALA DARPAN DATA'!O3816","v":0},0,0,0,0,0,0,0,0,0,0,0]
[{"$f":"'SHALA DARPAN DATA'!C3817","v":0},{"$f":"'SHALA DARPAN DATA'!A3817","v":0},{"$f":"'SHALA DARPAN DATA'!B3817","v":0},{"$f":"'SHALA DARPAN DATA'!D3817","v":0},{"$f":"'SHALA DARPAN DATA'!J3817","v":0},{"$f":"'SHALA DARPAN DATA'!T3817","v":0},{"$f":"'SHALA DARPAN DATA'!V3817","v":0},{"$f":"'SHALA DARPAN DATA'!K3817","v":0},{"$f":"'SHALA DARPAN DATA'!E3817","v":0},{"$f":"'SHALA DARPAN DATA'!G3817","v":0},{"$f":"'SHALA DARPAN DATA'!H3817","v":0},{"$f":"'SHALA DARPAN DATA'!W3817","v":0},{"$f":"'SHALA DARPAN DATA'!R3817","v":0},{"$f":"'SHALA DARPAN DATA'!S3817","v":0},{"$f":"'SHALA DARPAN DATA'!O3817","v":0},0,0,0,0,0,0,0,0,0,0,0]
[{"$f":"'SHALA DARPAN DATA'!C3821","v":0},{"$f":"'SHALA DARPAN DATA'!A3821","v":0},{"$f":"'SHALA DARPAN DATA'!B3821","v":0},{"$f":"'SHALA DARPAN DATA'!D3821","v":0},{"$f":"'SHALA DARPAN DATA'!J3821","v":0},{"$f":"'SHALA DARPAN DATA'!T3821","v":0},{"$f":"'SHALA DARPAN DATA'!V3821","v":0},{"$f":"'SHALA DARPAN DATA'!K3821","v":0},{"$f":"'SHALA DARPAN DATA'!E3821","v":0},{"$f":"'SHALA DARPAN DATA'!G3821","v":0},{"$f":"'SHALA DARPAN DATA'!H3821","v":0},{"$f":"'SHALA DARPAN DATA'!W3821","v":0},{"$f":"'SHALA DARPAN DATA'!R3821","v":0},{"$f":"'SHALA DARPAN DATA'!S3821","v":0},{"$f":"'SHALA DARPAN DATA'!O3821","v":0},0,0,0,0,0,0,0,0,0,0,0]
[{"$f":"'SHALA DARPAN DATA'!C3826","v":0},{"$f":"'SHALA DARPAN DATA'!A3826","v":0},{"$f":"'SHALA DARPAN DATA'!B3826","v":0},{"$f":"'SHALA DARPAN DATA'!D3826","v":0},{"$f":"'SHALA DARPAN DATA'!J3826","v":0},{"$f":"'SHALA DARPAN DATA'!T3826","v":0},{"$f":"'SHALA DARPAN DATA'!V3826","v":0},{"$f":"'SHALA DARPAN DATA'!K3826","v":0},{"$f":"'SHALA DARPAN DATA'!E3826","v":0},{"$f":"'SHALA DARPAN DATA'!G3826","v":0},{"$f":"'SHALA DARPAN DATA'!H3826","v":0},{"$f":"'SHALA DARPAN DATA'!W3826","v":0},{"$f":"'SHALA DARPAN DATA'!R3826","v":0},{"$f":"'SHALA DARPAN DATA'!S3826","v":0},{"$f":"'SHALA DARPAN DATA'!O3826","v":0},0,0,0,0,0,0,0,0,0,0,0]
[{"$f":"'SHALA DARPAN DATA'!C3831","v":0},{"$f":"'SHALA DARPAN DATA'!A3831","v":0},{"$f":"'SHALA DARPAN DATA'!B3831","v":0},{"$f":"'SHALA DARPAN DATA'!D3831","v":0},{"$f":"'SHALA DARPAN DATA'!J3831","v":0},{"$f":"'SHALA DARPAN DATA'!T3831","v":0},{"$f":"'SHALA DARPAN DATA'!V3831","v":0},{"$f":"'SHALA DARPAN DATA'!K3831","v":0},{"$f":"'SHALA DARPAN DATA'!E3831","v":0},{"$f":"'SHALA DARPAN DATA'!G3831","v":0},{"$f":"'SHALA DARPAN DATA'!H3831","v":0},{"$f":"'SHALA DARPAN DATA'!W3831","v":0},{"$f":"'SHALA DARPAN DATA'!R3831","v":0},{"$f":"'SHALA DARPAN DATA'!S3831","v":0},{"$f":"'SHALA DARPAN DATA'!O3831","v":0},0,0,0,0,0,0,0,0,0,0,0]
[{"$f":"'SHALA DARPAN DATA'!C3832","v":0},{"$f":"'SHALA DARPAN DATA'!A3832","v":0},{"$f":"'SHALA DARPAN DATA'!B3832","v":0},{"$f":"'SHALA DARPAN DATA'!D3832","v":0},{"$f":"'SHALA DARPAN DATA'!J3832","v":0},{"$f":"'SHALA DARPAN DATA'!T3832","v":0},{"$f":"'SHALA DARPAN DATA'!V3832","v":0},{"$f":"'SHALA DARPAN DATA'!K3832","v":0},{"$f":"'SHALA DARPAN DATA'!E3832","v":0},{"$f":"'SHALA DARPAN DATA'!G3832","v":0},{"$f":"'SHALA DARPAN DATA'!H3832","v":0},{"$f":"'SHALA DARPAN DATA'!W3832","v":0},{"$f":"'SHALA DARPAN DATA'!R3832","v":0},{"$f":"'SHALA DARPAN DATA'!S3832","v":0},{"$f":"'SHALA DARPAN DATA'!O3832","v":0},0,0,0,0,0,0,0,0,0,0,0]
[{"$f":"'SHALA DARPAN DATA'!C3837","v":0},{"$f":"'SHALA DARPAN DATA'!A3837","v":0},{"$f":"'SHALA DARPAN DATA'!B3837","v":0},{"$f":"'SHALA DARPAN DATA'!D3837","v":0},{"$f":"'SHALA DARPAN DATA'!J3837","v":0},{"$f":"'SHALA DARPAN DATA'!T3837","v":0},{"$f":"'SHALA DARPAN DATA'!V3837","v":0},{"$f":"'SHALA DARPAN DATA'!K3837","v":0},{"$f":"'SHALA DARPAN DATA'!E3837","v":0},{"$f":"'SHALA DARPAN DATA'!G3837","v":0},{"$f":"'SHALA DARPAN DATA'!H3837","v":0},{"$f":"'SHALA DARPAN DATA'!W3837","v":0},{"$f":"'SHALA DARPAN DATA'!R3837","v":0},{"$f":"'SHALA DARPAN DATA'!S3837","v":0},{"$f":"'SHALA DARPAN DATA'!O3837","v":0},0,0,0,0,0,0,0,0,0,0,0]
[{"$f":"'SHALA DARPAN DATA'!C3841","v":0},{"$f":"'SHALA DARPAN DATA'!A3841","v":0},{"$f":"'SHALA DARPAN DATA'!B3841","v":0},{"$f":"'SHALA DARPAN DATA'!D3841","v":0},{"$f":"'SHALA DARPAN DATA'!J3841","v":0},{"$f":"'SHALA DARPAN DATA'!T3841","v":0},{"$f":"'SHALA DARPAN DATA'!V3841","v":0},{"$f":"'SHALA DARPAN DATA'!K3841","v":0},{"$f":"'SHALA DARPAN DATA'!E3841","v":0},{"$f":"'SHALA DARPAN DATA'!G3841","v":0},{"$f":"'SHALA DARPAN DATA'!H3841","v":0},{"$f":"'SHALA DARPAN DATA'!W3841","v":0},{"$f":"'SHALA DARPAN DATA'!R3841","v":0},{"$f":"'SHALA DARPAN DATA'!S3841","v":0},{"$f":"'SHALA DARPAN DATA'!O3841","v":0},0,0,0,0,0,0,0,0,0,0,0]
[{"$f":"'SHALA DARPAN DATA'!C3846","v":0},{"$f":"'SHALA DARPAN DATA'!A3846","v":0},{"$f":"'SHALA DARPAN DATA'!B3846","v":0},{"$f":"'SHALA DARPAN DATA'!D3846","v":0},{"$f":"'SHALA DARPAN DATA'!J3846","v":0},{"$f":"'SHALA DARPAN DATA'!T3846","v":0},{"$f":"'SHALA DARPAN DATA'!V3846","v":0},{"$f":"'SHALA DARPAN DATA'!K3846","v":0},{"$f":"'SHALA DARPAN DATA'!E3846","v":0},{"$f":"'SHALA DARPAN DATA'!G3846","v":0},{"$f":"'SHALA DARPAN DATA'!H3846","v":0},{"$f":"'SHALA DARPAN DATA'!W3846","v":0},{"$f":"'SHALA DARPAN DATA'!R3846","v":0},{"$f":"'SHALA DARPAN DATA'!S3846","v":0},{"$f":"'SHALA DARPAN DATA'!O3846","v":0},0,0,0,0,0,0,0,0,0,0,0]
[{"$f":"'SHALA DARPAN DATA'!C3847","v":0},{"$f":"'SHALA DARPAN DATA'!A3847","v":0},{"$f":"'SHALA DARPAN DATA'!B3847","v":0},{"$f":"'SHALA DARPAN DATA'!D3847","v":0},{"$f":"'SHALA DARPAN DATA'!J3847","v":0},{"$f":"'SHALA DARPAN DATA'!T3847","v":0},{"$f":"'SHALA DARPAN DATA'!V3847","v":0},{"$f":"'SHALA DARPAN DATA'!K3847","v":0},{"$f":"'SHALA DARPAN DATA'!E3847","v":0},{"$f":"'SHALA DARPAN DATA'!G3847","v":0},{"$f":"'SHALA DARPAN DATA'!H3847","v":0},{"$f":"'SHALA DARPAN DATA'!W3847","v":0},{"$f":"'SHALA DARPAN DATA'!R3847","v":0},{"$f":"'SHALA DARPAN DATA'!S3847","v":0},{"$f":"'SHALA DARPAN DATA'!O3847","v":0},0,0,0,0,0,0,0,0,0,0,0]
[{"$f":"'SHALA DARPAN DATA'!C3851","v":0},{"$f":"'SHALA DARPAN DATA'!A3851","v":0},{"$f":"'SHALA DARPAN DATA'!B3851","v":0},{"$f":"'SHALA DARPAN DATA'!D3851","v":0},{"$f":"'SHALA DARPAN DATA'!J3851","v":0},{"$f":"'SHALA DARPAN DATA'!T3851","v":0},{"$f":"'SHALA DARPAN DATA'!V3851","v":0},{"$f":"'SHALA DARPAN DATA'!K3851","v":0},{"$f":"'SHALA DARPAN DATA'!E3851","v":0},{"$f":"'SHALA DARPAN DATA'!G3851","v":0},{"$f":"'SHALA DARPAN DATA'!H3851","v":0},{"$f":"'SHALA DARPAN DATA'!W3851","v":0},{"$f":"'SHALA DARPAN DATA'!R3851","v":0},{"$f":"'SHALA DARPAN DATA'!S3851","v":0},{"$f":"'SHALA DARPAN DATA'!O3851","v":0},0,0,0,0,0,0,0,0,0,0,0]
[{"$f":"'SHALA DARPAN DATA'!C3856","v":0},{"$f":"'SHALA DARPAN DATA'!A3856","v":0},{"$f":"'SHALA DARPAN DATA'!B3856","v":0},{"$f":"'SHALA DARPAN DATA'!D3856","v":0},{"$f":"'SHALA DARPAN DATA'!J3856","v":0},{"$f":"'SHALA DARPAN DATA'!T3856","v":0},{"$f":"'SHALA DARPAN DATA'!V3856","v":0},{"$f":"'SHALA DARPAN DATA'!K3856","v":0},{"$f":"'SHALA DARPAN DATA'!E3856","v":0},{"$f":"'SHALA DARPAN DATA'!G3856","v":0},{"$f":"'SHALA DARPAN DATA'!H3856","v":0},{"$f":"'SHALA DARPAN DATA'!W3856","v":0},{"$f":"'SHALA DARPAN DATA'!R3856","v":0},{"$f":"'SHALA DARPAN DATA'!S3856","v":0},{"$f":"'SHALA DARPAN DATA'!O3856","v":0},0,0,0,0,0,0,0,0,0,0,0]
[{"$f":"'SHALA DARPAN DATA'!C3861","v":0},{"$f":"'SHALA DARPAN DATA'!A3861","v":0},{"$f":"'SHALA DARPAN DATA'!B3861","v":0},{"$f":"'SHALA DARPAN DATA'!D3861","v":0},{"$f":"'SHALA DARPAN DATA'!J3861","v":0},{"$f":"'SHALA DARPAN DATA'!T3861","v":0},{"$f":"'SHALA DARPAN DATA'!V3861","v":0},{"$f":"'SHALA DARPAN DATA'!K3861","v":0},{"$f":"'SHALA DARPAN DATA'!E3861","v":0},{"$f":"'SHALA DARPAN DATA'!G3861","v":0},{"$f":"'SHALA DARPAN DATA'!H3861","v":0},{"$f":"'SHALA DARPAN DATA'!W3861","v":0},{"$f":"'SHALA DARPAN DATA'!R3861","v":0},{"$f":"'SHALA DARPAN DATA'!S3861","v":0},{"$f":"'SHALA DARPAN DATA'!O3861","v":0},0,0,0,0,0,0,0,0,0,0,0]
[{"$f":"'SHALA DARPAN DATA'!C3862","v":0},{"$f":"'SHALA DARPAN DATA'!A3862","v":0},{"$f":"'SHALA DARPAN DATA'!B3862","v":0},{"$f":"'SHALA DARPAN DATA'!D3862","v":0},{"$f":"'SHALA DARPAN DATA'!J3862","v":0},{"$f":"'SHALA DARPAN DATA'!T3862","v":0},{"$f":"'SHALA DARPAN DATA'!V3862","v":0},{"$f":"'SHALA DARPAN DATA'!K3862","v":0},{"$f":"'SHALA DARPAN DATA'!E3862","v":0},{"$f":"'SHALA DARPAN DATA'!G3862","v":0},{"$f":"'SHALA DARPAN DATA'!H3862","v":0},{"$f":"'SHALA DARPAN DATA'!W3862","v":0},{"$f":"'SHALA DARPAN DATA'!R3862","v":0},{"$f":"'SHALA DARPAN DATA'!S3862","v":0},{"$f":"'SHALA DARPAN DATA'!O3862","v":0},0,0,0,0,0,0,0,0,0,0,0]
[{"$f":"'SHALA DARPAN DATA'!C3867","v":0},{"$f":"'SHALA DARPAN DATA'!A3867","v":0},{"$f":"'SHALA DARPAN DATA'!B3867","v":0},{"$f":"'SHALA DARPAN DATA'!D3867","v":0},{"$f":"'SHALA DARPAN DATA'!J3867","v":0},{"$f":"'SHALA DARPAN DATA'!T3867","v":0},{"$f":"'SHALA DARPAN DATA'!V3867","v":0},{"$f":"'SHALA DARPAN DATA'!K3867","v":0},{"$f":"'SHALA DARPAN DATA'!E3867","v":0},{"$f":"'SHALA DARPAN DATA'!G3867","v":0},{"$f":"'SHALA DARPAN DATA'!H3867","v":0},{"$f":"'SHALA DARPAN DATA'!W3867","v":0},{"$f":"'SHALA DARPAN DATA'!R3867","v":0},{"$f":"'SHALA DARPAN DATA'!S3867","v":0},{"$f":"'SHALA DARPAN DATA'!O3867","v":0},0,0,0,0,0,0,0,0,0,0,0]
[{"$f":"'SHALA DARPAN DATA'!C3871","v":0},{"$f":"'SHALA DARPAN DATA'!A3871","v":0},{"$f":"'SHALA DARPAN DATA'!B3871","v":0},{"$f":"'SHALA DARPAN DATA'!D3871","v":0},{"$f":"'SHALA DARPAN DATA'!J3871","v":0},{"$f":"'SHALA DARPAN DATA'!T3871","v":0},{"$f":"'SHALA DARPAN DATA'!V3871","v":0},{"$f":"'SHALA DARPAN DATA'!K3871","v":0},{"$f":"'SHALA DARPAN DATA'!E3871","v":0},{"$f":"'SHALA DARPAN DATA'!G3871","v":0},{"$f":"'SHALA DARPAN DATA'!H3871","v":0},{"$f":"'SHALA DARPAN DATA'!W3871","v":0},{"$f":"'SHALA DARPAN DATA'!R3871","v":0},{"$f":"'SHALA DARPAN DATA'!S3871","v":0},{"$f":"'SHALA DARPAN DATA'!O3871","v":0},0,0,0,0,0,0,0,0,0,0,0]
[{"$f":"'SHALA DARPAN DATA'!C3876","v":0},{"$f":"'SHALA DARPAN DATA'!A3876","v":0},{"$f":"'SHALA DARPAN DATA'!B3876","v":0},{"$f":"'SHALA DARPAN DATA'!D3876","v":0},{"$f":"'SHALA DARPAN DATA'!J3876","v":0},{"$f":"'SHALA DARPAN DATA'!T3876","v":0},{"$f":"'SHALA DARPAN DATA'!V3876","v":0},{"$f":"'SHALA DARPAN DATA'!K3876","v":0},{"$f":"'SHALA DARPAN DATA'!E3876","v":0},{"$f":"'SHALA DARPAN DATA'!G3876","v":0},{"$f":"'SHALA DARPAN DATA'!H3876","v":0},{"$f":"'SHALA DARPAN DATA'!W3876","v":0},{"$f":"'SHALA DARPAN DATA'!R3876","v":0},{"$f":"'SHALA DARPAN DATA'!S3876","v":0},{"$f":"'SHALA DARPAN DATA'!O3876","v":0},0,0,0,0,0,0,0,0,0,0,0]
[{"$f":"'SHALA DARPAN DATA'!C3877","v":0},{"$f":"'SHALA DARPAN DATA'!A3877","v":0},{"$f":"'SHALA DARPAN DATA'!B3877","v":0},{"$f":"'SHALA DARPAN DATA'!D3877","v":0},{"$f":"'SHALA DARPAN DATA'!J3877","v":0},{"$f":"'SHALA DARPAN DATA'!T3877","v":0},{"$f":"'SHALA DARPAN DATA'!V3877","v":0},{"$f":"'SHALA DARPAN DATA'!K3877","v":0},{"$f":"'SHALA DARPAN DATA'!E3877","v":0},{"$f":"'SHALA DARPAN DATA'!G3877","v":0},{"$f":"'SHALA DARPAN DATA'!H3877","v":0},{"$f":"'SHALA DARPAN DATA'!W3877","v":0},{"$f":"'SHALA DARPAN DATA'!R3877","v":0},{"$f":"'SHALA DARPAN DATA'!S3877","v":0},{"$f":"'SHALA DARPAN DATA'!O3877","v":0},0,0,0,0,0,0,0,0,0,0,0]
[{"$f":"'SHALA DARPAN DATA'!C3881","v":0},{"$f":"'SHALA DARPAN DATA'!A3881","v":0},{"$f":"'SHALA DARPAN DATA'!B3881","v":0},{"$f":"'SHALA DARPAN DATA'!D3881","v":0},{"$f":"'SHALA DARPAN DATA'!J3881","v":0},{"$f":"'SHALA DARPAN DATA'!T3881","v":0},{"$f":"'SHALA DARPAN DATA'!V3881","v":0},{"$f":"'SHALA DARPAN DATA'!K3881","v":0},{"$f":"'SHALA DARPAN DATA'!E3881","v":0},{"$f":"'SHALA DARPAN DATA'!G3881","v":0},{"$f":"'SHALA DARPAN DATA'!H3881","v":0},{"$f":"'SHALA DARPAN DATA'!W3881","v":0},{"$f":"'SHALA DARPAN DATA'!R3881","v":0},{"$f":"'SHALA DARPAN DATA'!S3881","v":0},{"$f":"'SHALA DARPAN DATA'!O3881","v":0},0,0,0,0,0,0,0,0,0,0,0]
[{"$f":"'SHALA DARPAN DATA'!C3886","v":0},{"$f":"'SHALA DARPAN DATA'!A3886","v":0},{"$f":"'SHALA DARPAN DATA'!B3886","v":0},{"$f":"'SHALA DARPAN DATA'!D3886","v":0},{"$f":"'SHALA DARPAN DATA'!J3886","v":0},{"$f":"'SHALA DARPAN DATA'!T3886","v":0},{"$f":"'SHALA DARPAN DATA'!V3886","v":0},{"$f":"'SHALA DARPAN DATA'!K3886","v":0},{"$f":"'SHALA DARPAN DATA'!E3886","v":0},{"$f":"'SHALA DARPAN DATA'!G3886","v":0},{"$f":"'SHALA DARPAN DATA'!H3886","v":0},{"$f":"'SHALA DARPAN DATA'!W3886","v":0},{"$f":"'SHALA DARPAN DATA'!R3886","v":0},{"$f":"'SHALA DARPAN DATA'!S3886","v":0},{"$f":"'SHALA DARPAN DATA'!O3886","v":0},0,0,0,0,0,0,0,0,0,0,0]
[{"$f":"'SHALA DARPAN DATA'!C3891","v":0},{"$f":"'SHALA DARPAN DATA'!A3891","v":0},{"$f":"'SHALA DARPAN DATA'!B3891","v":0},{"$f":"'SHALA DARPAN DATA'!D3891","v":0},{"$f":"'SHALA DARPAN DATA'!J3891","v":0},{"$f":"'SHALA DARPAN DATA'!T3891","v":0},{"$f":"'SHALA DARPAN DATA'!V3891","v":0},{"$f":"'SHALA DARPAN DATA'!K3891","v":0},{"$f":"'SHALA DARPAN DATA'!E3891","v":0},{"$f":"'SHALA DARPAN DATA'!G3891","v":0},{"$f":"'SHALA DARPAN DATA'!H3891","v":0},{"$f":"'SHALA DARPAN DATA'!W3891","v":0},{"$f":"'SHALA DARPAN DATA'!R3891","v":0},{"$f":"'SHALA DARPAN DATA'!S3891","v":0},{"$f":"'SHALA DARPAN DATA'!O3891","v":0},0,0,0,0,0,0,0,0,0,0,0]
[{"$f":"'SHALA DARPAN DATA'!C3892","v":0},{"$f":"'SHALA DARPAN DATA'!A3892","v":0},{"$f":"'SHALA DARPAN DATA'!B3892","v":0},{"$f":"'SHALA DARPAN DATA'!D3892","v":0},{"$f":"'SHALA DARPAN DATA'!J3892","v":0},{"$f":"'SHALA DARPAN DATA'!T3892","v":0},{"$f":"'SHALA DARPAN DATA'!V3892","v":0},{"$f":"'SHALA DARPAN DATA'!K3892","v":0},{"$f":"'SHALA DARPAN DATA'!E3892","v":0},{"$f":"'SHALA DARPAN DATA'!G3892","v":0},{"$f":"'SHALA DARPAN DATA'!H3892","v":0},{"$f":"'SHALA DARPAN DATA'!W3892","v":0},{"$f":"'SHALA DARPAN DATA'!R3892","v":0},{"$f":"'SHALA DARPAN DATA'!S3892","v":0},{"$f":"'SHALA DARPAN DATA'!O3892","v":0},0,0,0,0,0,0,0,0,0,0,0]
[{"$f":"'SHALA DARPAN DATA'!C3897","v":0},{"$f":"'SHALA DARPAN DATA'!A3897","v":0},{"$f":"'SHALA DARPAN DATA'!B3897","v":0},{"$f":"'SHALA DARPAN DATA'!D3897","v":0},{"$f":"'SHALA DARPAN DATA'!J3897","v":0},{"$f":"'SHALA DARPAN DATA'!T3897","v":0},{"$f":"'SHALA DARPAN DATA'!V3897","v":0},{"$f":"'SHALA DARPAN DATA'!K3897","v":0},{"$f":"'SHALA DARPAN DATA'!E3897","v":0},{"$f":"'SHALA DARPAN DATA'!G3897","v":0},{"$f":"'SHALA DARPAN DATA'!H3897","v":0},{"$f":"'SHALA DARPAN DATA'!W3897","v":0},{"$f":"'SHALA DARPAN DATA'!R3897","v":0},{"$f":"'SHALA DARPAN DATA'!S3897","v":0},{"$f":"'SHALA DARPAN DATA'!O3897","v":0},0,0,0,0,0,0,0,0,0,0,0]
[{"$f":"'SHALA DARPAN DATA'!C3901","v":0},{"$f":"'SHALA DARPAN DATA'!A3901","v":0},{"$f":"'SHALA DARPAN DATA'!B3901","v":0},{"$f":"'SHALA DARPAN DATA'!D3901","v":0},{"$f":"'SHALA DARPAN DATA'!J3901","v":0},{"$f":"'SHALA DARPAN DATA'!T3901","v":0},{"$f":"'SHALA DARPAN DATA'!V3901","v":0},{"$f":"'SHALA DARPAN DATA'!K3901","v":0},{"$f":"'SHALA DARPAN DATA'!E3901","v":0},{"$f":"'SHALA DARPAN DATA'!G3901","v":0},{"$f":"'SHALA DARPAN DATA'!H3901","v":0},{"$f":"'SHALA DARPAN DATA'!W3901","v":0},{"$f":"'SHALA DARPAN DATA'!R3901","v":0},{"$f":"'SHALA DARPAN DATA'!S3901","v":0},{"$f":"'SHALA DARPAN DATA'!O3901","v":0},0,0,0,0,0,0,0,0,0,0,0]
[{"$f":"'SHALA DARPAN DATA'!C3906","v":0},{"$f":"'SHALA DARPAN DATA'!A3906","v":0},{"$f":"'SHALA DARPAN DATA'!B3906","v":0},{"$f":"'SHALA DARPAN DATA'!D3906","v":0},{"$f":"'SHALA DARPAN DATA'!J3906","v":0},{"$f":"'SHALA DARPAN DATA'!T3906","v":0},{"$f":"'SHALA DARPAN DATA'!V3906","v":0},{"$f":"'SHALA DARPAN DATA'!K3906","v":0},{"$f":"'SHALA DARPAN DATA'!E3906","v":0},{"$f":"'SHALA DARPAN DATA'!G3906","v":0},{"$f":"'SHALA DARPAN DATA'!H3906","v":0},{"$f":"'SHALA DARPAN DATA'!W3906","v":0},{"$f":"'SHALA DARPAN DATA'!R3906","v":0},{"$f":"'SHALA DARPAN DATA'!S3906","v":0},{"$f":"'SHALA DARPAN DATA'!O3906","v":0},0,0,0,0,0,0,0,0,0,0,0]
[{"$f":"'SHALA DARPAN DATA'!C3907","v":0},{"$f":"'SHALA DARPAN DATA'!A3907","v":0},{"$f":"'SHALA DARPAN DATA'!B3907","v":0},{"$f":"'SHALA DARPAN DATA'!D3907","v":0},{"$f":"'SHALA DARPAN DATA'!J3907","v":0},{"$f":"'SHALA DARPAN DATA'!T3907","v":0},{"$f":"'SHALA DARPAN DATA'!V3907","v":0},{"$f":"'SHALA DARPAN DATA'!K3907","v":0},{"$f":"'SHALA DARPAN DATA'!E3907","v":0},{"$f":"'SHALA DARPAN DATA'!G3907","v":0},{"$f":"'SHALA DARPAN DATA'!H3907","v":0},{"$f":"'SHALA DARPAN DATA'!W3907","v":0},{"$f":"'SHALA DARPAN DATA'!R3907","v":0},{"$f":"'SHALA DARPAN DATA'!S3907","v":0},{"$f":"'SHALA DARPAN DATA'!O3907","v":0},0,0,0,0,0,0,0,0,0,0,0]
[{"$f":"'SHALA DARPAN DATA'!C3911","v":0},{"$f":"'SHALA DARPAN DATA'!A3911","v":0},{"$f":"'SHALA DARPAN DATA'!B3911","v":0},{"$f":"'SHALA DARPAN DATA'!D3911","v":0},{"$f":"'SHALA DARPAN DATA'!J3911","v":0},{"$f":"'SHALA DARPAN DATA'!T3911","v":0},{"$f":"'SHALA DARPAN DATA'!V3911","v":0},{"$f":"'SHALA DARPAN DATA'!K3911","v":0},{"$f":"'SHALA DARPAN DATA'!E3911","v":0},{"$f":"'SHALA DARPAN DATA'!G3911","v":0},{"$f":"'SHALA DARPAN DATA'!H3911","v":0},{"$f":"'SHALA DARPAN DATA'!W3911","v":0},{"$f":"'SHALA DARPAN DATA'!R3911","v":0},{"$f":"'SHALA DARPAN DATA'!S3911","v":0},{"$f":"'SHALA DARPAN DATA'!O3911","v":0},0,0,0,0,0,0,0,0,0,0,0]
[{"$f":"'SHALA DARPAN DATA'!C3916","v":0},{"$f":"'SHALA DARPAN DATA'!A3916","v":0},{"$f":"'SHALA DARPAN DATA'!B3916","v":0},{"$f":"'SHALA DARPAN DATA'!D3916","v":0},{"$f":"'SHALA DARPAN DATA'!J3916","v":0},{"$f":"'SHALA DARPAN DATA'!T3916","v":0},{"$f":"'SHALA DARPAN DATA'!V3916","v":0},{"$f":"'SHALA DARPAN DATA'!K3916","v":0},{"$f":"'SHALA DARPAN DATA'!E3916","v":0},{"$f":"'SHALA DARPAN DATA'!G3916","v":0},{"$f":"'SHALA DARPAN DATA'!H3916","v":0},{"$f":"'SHALA DARPAN DATA'!W3916","v":0},{"$f":"'SHALA DARPAN DATA'!R3916","v":0},{"$f":"'SHALA DARPAN DATA'!S3916","v":0},{"$f":"'SHALA DARPAN DATA'!O3916","v":0},0,0,0,0,0,0,0,0,0,0,0]
[{"$f":"'SHALA DARPAN DATA'!C3921","v":0},{"$f":"'SHALA DARPAN DATA'!A3921","v":0},{"$f":"'SHALA DARPAN DATA'!B3921","v":0},{"$f":"'SHALA DARPAN DATA'!D3921","v":0},{"$f":"'SHALA DARPAN DATA'!J3921","v":0},{"$f":"'SHALA DARPAN DATA'!T3921","v":0},{"$f":"'SHALA DARPAN DATA'!V3921","v":0},{"$f":"'SHALA DARPAN DATA'!K3921","v":0},{"$f":"'SHALA DARPAN DATA'!E3921","v":0},{"$f":"'SHALA DARPAN DATA'!G3921","v":0},{"$f":"'SHALA DARPAN DATA'!H3921","v":0},{"$f":"'SHALA DARPAN DATA'!W3921","v":0},{"$f":"'SHALA DARPAN DATA'!R3921","v":0},{"$f":"'SHALA DARPAN DATA'!S3921","v":0},{"$f":"'SHALA DARPAN DATA'!O3921","v":0},0,0,0,0,0,0,0,0,0,0,0]
[{"$f":"'SHALA DARPAN DATA'!C3922","v":0},{"$f":"'SHALA DARPAN DATA'!A3922","v":0},{"$f":"'SHALA DARPAN DATA'!B3922","v":0},{"$f":"'SHALA DARPAN DATA'!D3922","v":0},{"$f":"'SHALA DARPAN DATA'!J3922","v":0},{"$f":"'SHALA DARPAN DATA'!T3922","v":0},{"$f":"'SHALA DARPAN DATA'!V3922","v":0},{"$f":"'SHALA DARPAN DATA'!K3922","v":0},{"$f":"'SHALA DARPAN DATA'!E3922","v":0},{"$f":"'SHALA DARPAN DATA'!G3922","v":0},{"$f":"'SHALA DARPAN DATA'!H3922","v":0},{"$f":"'SHALA DARPAN DATA'!W3922","v":0},{"$f":"'SHALA DARPAN DATA'!R3922","v":0},{"$f":"'SHALA DARPAN DATA'!S3922","v":0},{"$f":"'SHALA DARPAN DATA'!O3922","v":0},0,0,0,0,0,0,0,0,0,0,0]
[{"$f":"'SHALA DARPAN DATA'!C3927","v":0},{"$f":"'SHALA DARPAN DATA'!A3927","v":0},{"$f":"'SHALA DARPAN DATA'!B3927","v":0},{"$f":"'SHALA DARPAN DATA'!D3927","v":0},{"$f":"'SHALA DARPAN DATA'!J3927","v":0},{"$f":"'SHALA DARPAN DATA'!T3927","v":0},{"$f":"'SHALA DARPAN DATA'!V3927","v":0},{"$f":"'SHALA DARPAN DATA'!K3927","v":0},{"$f":"'SHALA DARPAN DATA'!E3927","v":0},{"$f":"'SHALA DARPAN DATA'!G3927","v":0},{"$f":"'SHALA DARPAN DATA'!H3927","v":0},{"$f":"'SHALA DARPAN DATA'!W3927","v":0},{"$f":"'SHALA DARPAN DATA'!R3927","v":0},{"$f":"'SHALA DARPAN DATA'!S3927","v":0},{"$f":"'SHALA DARPAN DATA'!O3927","v":0},0,0,0,0,0,0,0,0,0,0,0]
[{"$f":"'SHALA DARPAN DATA'!C3931","v":0},{"$f":"'SHALA DARPAN DATA'!A3931","v":0},{"$f":"'SHALA DARPAN DATA'!B3931","v":0},{"$f":"'SHALA DARPAN DATA'!D3931","v":0},{"$f":"'SHALA DARPAN DATA'!J3931","v":0},{"$f":"'SHALA DARPAN DATA'!T3931","v":0},{"$f":"'SHALA DARPAN DATA'!V3931","v":0},{"$f":"'SHALA DARPAN DATA'!K3931","v":0},{"$f":"'SHALA DARPAN DATA'!E3931","v":0},{"$f":"'SHALA DARPAN DATA'!G3931","v":0},{"$f":"'SHALA DARPAN DATA'!H3931","v":0},{"$f":"'SHALA DARPAN DATA'!W3931","v":0},{"$f":"'SHALA DARPAN DATA'!R3931","v":0},{"$f":"'SHALA DARPAN DATA'!S3931","v":0},{"$f":"'SHALA DARPAN DATA'!O3931","v":0},0,0,0,0,0,0,0,0,0,0,0]
[{"$f":"'SHALA DARPAN DATA'!C3936","v":0},{"$f":"'SHALA DARPAN DATA'!A3936","v":0},{"$f":"'SHALA DARPAN DATA'!B3936","v":0},{"$f":"'SHALA DARPAN DATA'!D3936","v":0},{"$f":"'SHALA DARPAN DATA'!J3936","v":0},{"$f":"'SHALA DARPAN DATA'!T3936","v":0},{"$f":"'SHALA DARPAN DATA'!V3936","v":0},{"$f":"'SHALA DARPAN DATA'!K3936","v":0},{"$f":"'SHALA DARPAN DATA'!E3936","v":0},{"$f":"'SHALA DARPAN DATA'!G3936","v":0},{"$f":"'SHALA DARPAN DATA'!H3936","v":0},{"$f":"'SHALA DARPAN DATA'!W3936","v":0},{"$f":"'SHALA DARPAN DATA'!R3936","v":0},{"$f":"'SHALA DARPAN DATA'!S3936","v":0},{"$f":"'SHALA DARPAN DATA'!O3936","v":0},0,0,0,0,0,0,0,0,0,0,0]
[{"$f":"'SHALA DARPAN DATA'!C3937","v":0},{"$f":"'SHALA DARPAN DATA'!A3937","v":0},{"$f":"'SHALA DARPAN DATA'!B3937","v":0},{"$f":"'SHALA DARPAN DATA'!D3937","v":0},{"$f":"'SHALA DARPAN DATA'!J3937","v":0},{"$f":"'SHALA DARPAN DATA'!T3937","v":0},{"$f":"'SHALA DARPAN DATA'!V3937","v":0},{"$f":"'SHALA DARPAN DATA'!K3937","v":0},{"$f":"'SHALA DARPAN DATA'!E3937","v":0},{"$f":"'SHALA DARPAN DATA'!G3937","v":0},{"$f":"'SHALA DARPAN DATA'!H3937","v":0},{"$f":"'SHALA DARPAN DATA'!W3937","v":0},{"$f":"'SHALA DARPAN DATA'!R3937","v":0},{"$f":"'SHALA DARPAN DATA'!S3937","v":0},{"$f":"'SHALA DARPAN DATA'!O3937","v":0},0,0,0,0,0,0,0,0,0,0,0]
[{"$f":"'SHALA DARPAN DATA'!C3941","v":0},{"$f":"'SHALA DARPAN DATA'!A3941","v":0},{"$f":"'SHALA DARPAN DATA'!B3941","v":0},{"$f":"'SHALA DARPAN DATA'!D3941","v":0},{"$f":"'SHALA DARPAN DATA'!J3941","v":0},{"$f":"'SHALA DARPAN DATA'!T3941","v":0},{"$f":"'SHALA DARPAN DATA'!V3941","v":0},{"$f":"'SHALA DARPAN DATA'!K3941","v":0},{"$f":"'SHALA DARPAN DATA'!E3941","v":0},{"$f":"'SHALA DARPAN DATA'!G3941","v":0},{"$f":"'SHALA DARPAN DATA'!H3941","v":0},{"$f":"'SHALA DARPAN DATA'!W3941","v":0},{"$f":"'SHALA DARPAN DATA'!R3941","v":0},{"$f":"'SHALA DARPAN DATA'!S3941","v":0},{"$f":"'SHALA DARPAN DATA'!O3941","v":0},0,0,0,0,0,0,0,0,0,0,0]
[{"$f":"'SHALA DARPAN DATA'!C3946","v":0},{"$f":"'SHALA DARPAN DATA'!A3946","v":0},{"$f":"'SHALA DARPAN DATA'!B3946","v":0},{"$f":"'SHALA DARPAN DATA'!D3946","v":0},{"$f":"'SHALA DARPAN DATA'!J3946","v":0},{"$f":"'SHALA DARPAN DATA'!T3946","v":0},{"$f":"'SHALA DARPAN DATA'!V3946","v":0},{"$f":"'SHALA DARPAN DATA'!K3946","v":0},{"$f":"'SHALA DARPAN DATA'!E3946","v":0},{"$f":"'SHALA DARPAN DATA'!G3946","v":0},{"$f":"'SHALA DARPAN DATA'!H3946","v":0},{"$f":"'SHALA DARPAN DATA'!W3946","v":0},{"$f":"'SHALA DARPAN DATA'!R3946","v":0},{"$f":"'SHALA DARPAN DATA'!S3946","v":0},{"$f":"'SHALA DARPAN DATA'!O3946","v":0},0,0,0,0,0,0,0,0,0,0,0]
[{"$f":"'SHALA DARPAN DATA'!C3951","v":0},{"$f":"'SHALA DARPAN DATA'!A3951","v":0},{"$f":"'SHALA DARPAN DATA'!B3951","v":0},{"$f":"'SHALA DARPAN DATA'!D3951","v":0},{"$f":"'SHALA DARPAN DATA'!J3951","v":0},{"$f":"'SHALA DARPAN DATA'!T3951","v":0},{"$f":"'SHALA DARPAN DATA'!V3951","v":0},{"$f":"'SHALA DARPAN DATA'!K3951","v":0},{"$f":"'SHALA DARPAN DATA'!E3951","v":0},{"$f":"'SHALA DARPAN DATA'!G3951","v":0},{"$f":"'SHALA DARPAN DATA'!H3951","v":0},{"$f":"'SHALA DARPAN DATA'!W3951","v":0},{"$f":"'SHALA DARPAN DATA'!R3951","v":0},{"$f":"'SHALA DARPAN DATA'!S3951","v":0},{"$f":"'SHALA DARPAN DATA'!O3951","v":0},0,0,0,0,0,0,0,0,0,0,0]
[{"$f":"'SHALA DARPAN DATA'!C3952","v":0},{"$f":"'SHALA DARPAN DATA'!A3952","v":0},{"$f":"'SHALA DARPAN DATA'!B3952","v":0},{"$f":"'SHALA DARPAN DATA'!D3952","v":0},{"$f":"'SHALA DARPAN DATA'!J3952","v":0},{"$f":"'SHALA DARPAN DATA'!T3952","v":0},{"$f":"'SHALA DARPAN DATA'!V3952","v":0},{"$f":"'SHALA DARPAN DATA'!K3952","v":0},{"$f":"'SHALA DARPAN DATA'!E3952","v":0},{"$f":"'SHALA DARPAN DATA'!G3952","v":0},{"$f":"'SHALA DARPAN DATA'!H3952","v":0},{"$f":"'SHALA DARPAN DATA'!W3952","v":0},{"$f":"'SHALA DARPAN DATA'!R3952","v":0},{"$f":"'SHALA DARPAN DATA'!S3952","v":0},{"$f":"'SHALA DARPAN DATA'!O3952","v":0},0,0,0,0,0,0,0,0,0,0,0]
[{"$f":"'SHALA DARPAN DATA'!C3957","v":0},{"$f":"'SHALA DARPAN DATA'!A3957","v":0},{"$f":"'SHALA DARPAN DATA'!B3957","v":0},{"$f":"'SHALA DARPAN DATA'!D3957","v":0},{"$f":"'SHALA DARPAN DATA'!J3957","v":0},{"$f":"'SHALA DARPAN DATA'!T3957","v":0},{"$f":"'SHALA DARPAN DATA'!V3957","v":0},{"$f":"'SHALA DARPAN DATA'!K3957","v":0},{"$f":"'SHALA DARPAN DATA'!E3957","v":0},{"$f":"'SHALA DARPAN DATA'!G3957","v":0},{"$f":"'SHALA DARPAN DATA'!H3957","v":0},{"$f":"'SHALA DARPAN DATA'!W3957","v":0},{"$f":"'SHALA DARPAN DATA'!R3957","v":0},{"$f":"'SHALA DARPAN DATA'!S3957","v":0},{"$f":"'SHALA DARPAN DATA'!O3957","v":0},0,0,0,0,0,0,0,0,0,0,0]
[{"$f":"'SHALA DARPAN DATA'!C3961","v":0},{"$f":"'SHALA DARPAN DATA'!A3961","v":0},{"$f":"'SHALA DARPAN DATA'!B3961","v":0},{"$f":"'SHALA DARPAN DATA'!D3961","v":0},{"$f":"'SHALA DARPAN DATA'!J3961","v":0},{"$f":"'SHALA DARPAN DATA'!T3961","v":0},{"$f":"'SHALA DARPAN DATA'!V3961","v":0},{"$f":"'SHALA DARPAN DATA'!K3961","v":0},{"$f":"'SHALA DARPAN DATA'!E3961","v":0},{"$f":"'SHALA DARPAN DATA'!G3961","v":0},{"$f":"'SHALA DARPAN DATA'!H3961","v":0},{"$f":"'SHALA DARPAN DATA'!W3961","v":0},{"$f":"'SHALA DARPAN DATA'!R3961","v":0},{"$f":"'SHALA DARPAN DATA'!S3961","v":0},{"$f":"'SHALA DARPAN DATA'!O3961","v":0},0,0,0,0,0,0,0,0,0,0,0]
[{"$f":"'SHALA DARPAN DATA'!C3966","v":0},{"$f":"'SHALA DARPAN DATA'!A3966","v":0},{"$f":"'SHALA DARPAN DATA'!B3966","v":0},{"$f":"'SHALA DARPAN DATA'!D3966","v":0},{"$f":"'SHALA DARPAN DATA'!J3966","v":0},{"$f":"'SHALA DARPAN DATA'!T3966","v":0},{"$f":"'SHALA DARPAN DATA'!V3966","v":0},{"$f":"'SHALA DARPAN DATA'!K3966","v":0},{"$f":"'SHALA DARPAN DATA'!E3966","v":0},{"$f":"'SHALA DARPAN DATA'!G3966","v":0},{"$f":"'SHALA DARPAN DATA'!H3966","v":0},{"$f":"'SHALA DARPAN DATA'!W3966","v":0},{"$f":"'SHALA DARPAN DATA'!R3966","v":0},{"$f":"'SHALA DARPAN DATA'!S3966","v":0},{"$f":"'SHALA DARPAN DATA'!O3966","v":0},0,0,0,0,0,0,0,0,0,0,0]
[{"$f":"'SHALA DARPAN DATA'!C3967","v":0},{"$f":"'SHALA DARPAN DATA'!A3967","v":0},{"$f":"'SHALA DARPAN DATA'!B3967","v":0},{"$f":"'SHALA DARPAN DATA'!D3967","v":0},{"$f":"'SHALA DARPAN DATA'!J3967","v":0},{"$f":"'SHALA DARPAN DATA'!T3967","v":0},{"$f":"'SHALA DARPAN DATA'!V3967","v":0},{"$f":"'SHALA DARPAN DATA'!K3967","v":0},{"$f":"'SHALA DARPAN DATA'!E3967","v":0},{"$f":"'SHALA DARPAN DATA'!G3967","v":0},{"$f":"'SHALA DARPAN DATA'!H3967","v":0},{"$f":"'SHALA DARPAN DATA'!W3967","v":0},{"$f":"'SHALA DARPAN DATA'!R3967","v":0},{"$f":"'SHALA DARPAN DATA'!S3967","v":0},{"$f":"'SHALA DARPAN DATA'!O3967","v":0},0,0,0,0,0,0,0,0,0,0,0]
[{"$f":"'SHALA DARPAN DATA'!C3971","v":0},{"$f":"'SHALA DARPAN DATA'!A3971","v":0},{"$f":"'SHALA DARPAN DATA'!B3971","v":0},{"$f":"'SHALA DARPAN DATA'!D3971","v":0},{"$f":"'SHALA DARPAN DATA'!J3971","v":0},{"$f":"'SHALA DARPAN DATA'!T3971","v":0},{"$f":"'SHALA DARPAN DATA'!V3971","v":0},{"$f":"'SHALA DARPAN DATA'!K3971","v":0},{"$f":"'SHALA DARPAN DATA'!E3971","v":0},{"$f":"'SHALA DARPAN DATA'!G3971","v":0},{"$f":"'SHALA DARPAN DATA'!H3971","v":0},{"$f":"'SHALA DARPAN DATA'!W3971","v":0},{"$f":"'SHALA DARPAN DATA'!R3971","v":0},{"$f":"'SHALA DARPAN DATA'!S3971","v":0},{"$f":"'SHALA DARPAN DATA'!O3971","v":0},0,0,0,0,0,0,0,0,0,0,0]
[{"$f":"'SHALA DARPAN DATA'!C3976","v":0},{"$f":"'SHALA DARPAN DATA'!A3976","v":0},{"$f":"'SHALA DARPAN DATA'!B3976","v":0},{"$f":"'SHALA DARPAN DATA'!D3976","v":0},{"$f":"'SHALA DARPAN DATA'!J3976","v":0},{"$f":"'SHALA DARPAN DATA'!T3976","v":0},{"$f":"'SHALA DARPAN DATA'!V3976","v":0},{"$f":"'SHALA DARPAN DATA'!K3976","v":0},{"$f":"'SHALA DARPAN DATA'!E3976","v":0},{"$f":"'SHALA DARPAN DATA'!G3976","v":0},{"$f":"'SHALA DARPAN DATA'!H3976","v":0},{"$f":"'SHALA DARPAN DATA'!W3976","v":0},{"$f":"'SHALA DARPAN DATA'!R3976","v":0},{"$f":"'SHALA DARPAN DATA'!S3976","v":0},{"$f":"'SHALA DARPAN DATA'!O3976","v":0},0,0,0,0,0,0,0,0,0,0,0]
[{"$f":"'SHALA DARPAN DATA'!C3981","v":0},{"$f":"'SHALA DARPAN DATA'!A3981","v":0},{"$f":"'SHALA DARPAN DATA'!B3981","v":0},{"$f":"'SHALA DARPAN DATA'!D3981","v":0},{"$f":"'SHALA DARPAN DATA'!J3981","v":0},{"$f":"'SHALA DARPAN DATA'!T3981","v":0},{"$f":"'SHALA DARPAN DATA'!V3981","v":0},{"$f":"'SHALA DARPAN DATA'!K3981","v":0},{"$f":"'SHALA DARPAN DATA'!E3981","v":0},{"$f":"'SHALA DARPAN DATA'!G3981","v":0},{"$f":"'SHALA DARPAN DATA'!H3981","v":0},{"$f":"'SHALA DARPAN DATA'!W3981","v":0},{"$f":"'SHALA DARPAN DATA'!R3981","v":0},{"$f":"'SHALA DARPAN DATA'!S3981","v":0},{"$f":"'SHALA DARPAN DATA'!O3981","v":0},0,0,0,0,0,0,0,0,0,0,0]
[{"$f":"'SHALA DARPAN DATA'!C3982","v":0},{"$f":"'SHALA DARPAN DATA'!A3982","v":0},{"$f":"'SHALA DARPAN DATA'!B3982","v":0},{"$f":"'SHALA DARPAN DATA'!D3982","v":0},{"$f":"'SHALA DARPAN DATA'!J3982","v":0},{"$f":"'SHALA DARPAN DATA'!T3982","v":0},{"$f":"'SHALA DARPAN DATA'!V3982","v":0},{"$f":"'SHALA DARPAN DATA'!K3982","v":0},{"$f":"'SHALA DARPAN DATA'!E3982","v":0},{"$f":"'SHALA DARPAN DATA'!G3982","v":0},{"$f":"'SHALA DARPAN DATA'!H3982","v":0},{"$f":"'SHALA DARPAN DATA'!W3982","v":0},{"$f":"'SHALA DARPAN DATA'!R3982","v":0},{"$f":"'SHALA DARPAN DATA'!S3982","v":0},{"$f":"'SHALA DARPAN DATA'!O3982","v":0},0,0,0,0,0,0,0,0,0,0,0]
[{"$f":"'SHALA DARPAN DATA'!C3988","v":0},{"$f":"'SHALA DARPAN DATA'!A3988","v":0},{"$f":"'SHALA DARPAN DATA'!B3988","v":0},{"$f":"'SHALA DARPAN DATA'!D3988","v":0},{"$f":"'SHALA DARPAN DATA'!J3988","v":0},{"$f":"'SHALA DARPAN DATA'!T3988","v":0},{"$f":"'SHALA DARPAN DATA'!V3988","v":0},{"$f":"'SHALA DARPAN DATA'!K3988","v":0},{"$f":"'SHALA DARPAN DATA'!E3988","v":0},{"$f":"'SHALA DARPAN DATA'!G3988","v":0},{"$f":"'SHALA DARPAN DATA'!H3988","v":0},{"$f":"'SHALA DARPAN DATA'!W3988","v":0},{"$f":"'SHALA DARPAN DATA'!R3988","v":0},{"$f":"'SHALA DARPAN DATA'!S3988","v":0},{"$f":"'SHALA DARPAN DATA'!O3988","v":0},0,0,0,0,0,0,0,0,0,0,0]
[{"$f":"'SHALA DARPAN DATA'!C3991","v":0},{"$f":"'SHALA DARPAN DATA'!A3991","v":0},{"$f":"'SHALA DARPAN DATA'!B3991","v":0},{"$f":"'SHALA DARPAN DATA'!D3991","v":0},{"$f":"'SHALA DARPAN DATA'!J3991","v":0},{"$f":"'SHALA DARPAN DATA'!T3991","v":0},{"$f":"'SHALA DARPAN DATA'!V3991","v":0},{"$f":"'SHALA DARPAN DATA'!K3991","v":0},{"$f":"'SHALA DARPAN DATA'!E3991","v":0},{"$f":"'SHALA DARPAN DATA'!G3991","v":0},{"$f":"'SHALA DARPAN DATA'!H3991","v":0},{"$f":"'SHALA DARPAN DATA'!W3991","v":0},{"$f":"'SHALA DARPAN DATA'!R3991","v":0},{"$f":"'SHALA DARPAN DATA'!S3991","v":0},{"$f":"'SHALA DARPAN DATA'!O3991","v":0},0,0,0,0,0,0,0,0,0,0,0]
[{"$f":"'SHALA DARPAN DATA'!C3996","v":0},{"$f":"'SHALA DARPAN DATA'!A3996","v":0},{"$f":"'SHALA DARPAN DATA'!B3996","v":0},{"$f":"'SHALA DARPAN DATA'!D3996","v":0},{"$f":"'SHALA DARPAN DATA'!J3996","v":0},{"$f":"'SHALA DARPAN DATA'!T3996","v":0},{"$f":"'SHALA DARPAN DATA'!V3996","v":0},{"$f":"'SHALA DARPAN DATA'!K3996","v":0},{"$f":"'SHALA DARPAN DATA'!E3996","v":0},{"$f":"'SHALA DARPAN DATA'!G3996","v":0},{"$f":"'SHALA DARPAN DATA'!H3996","v":0},{"$f":"'SHALA DARPAN DATA'!W3996","v":0},{"$f":"'SHALA DARPAN DATA'!R3996","v":0},{"$f":"'SHALA DARPAN DATA'!S3996","v":0},{"$f":"'SHALA DARPAN DATA'!O3996","v":0},0,0,0,0,0,0,0,0,0,0,0]
[{"$f":"'SHALA DARPAN DATA'!C3997","v":0},{"$f":"'SHALA DARPAN DATA'!A3997","v":0},{"$f":"'SHALA DARPAN DATA'!B3997","v":0},{"$f":"'SHALA DARPAN DATA'!D3997","v":0},{"$f":"'SHALA DARPAN DATA'!J3997","v":0},{"$f":"'SHALA DARPAN DATA'!T3997","v":0},{"$f":"'SHALA DARPAN DATA'!V3997","v":0},{"$f":"'SHALA DARPAN DATA'!K3997","v":0},{"$f":"'SHALA DARPAN DATA'!E3997","v":0},{"$f":"'SHALA DARPAN DATA'!G3997","v":0},{"$f":"'SHALA DARPAN DATA'!H3997","v":0},{"$f":"'SHALA DARPAN DATA'!W3997","v":0},{"$f":"'SHALA DARPAN DATA'!R3997","v":0},{"$f":"'SHALA DARPAN DATA'!S3997","v":0},{"$f":"'SHALA DARPAN DATA'!O3997","v":0},0,0,0,0,0,0,0,0,0,0,0]
[{"$f":"'SHALA DARPAN DATA'!C4001","v":0},{"$f":"'SHALA DARPAN DATA'!A4001","v":0},{"$f":"'SHALA DARPAN DATA'!B4001","v":0},{"$f":"'SHALA DARPAN DATA'!D4001","v":0},{"$f":"'SHALA DARPAN DATA'!J4001","v":0},{"$f":"'SHALA DARPAN DATA'!T4001","v":0},{"$f":"'SHALA DARPAN DATA'!V4001","v":0},{"$f":"'SHALA DARPAN DATA'!K4001","v":0},{"$f":"'SHALA DARPAN DATA'!E4001","v":0},{"$f":"'SHALA DARPAN DATA'!G4001","v":0},{"$f":"'SHALA DARPAN DATA'!H4001","v":0},{"$f":"'SHALA DARPAN DATA'!W4001","v":0},{"$f":"'SHALA DARPAN DATA'!R4001","v":0},{"$f":"'SHALA DARPAN DATA'!S4001","v":0},{"$f":"'SHALA DARPAN DATA'!O4001","v":0},0,0,0,0,0,0,0,0,0,0,0]
[{"$f":"'SHALA DARPAN DATA'!C4006","v":0},{"$f":"'SHALA DARPAN DATA'!A4006","v":0},{"$f":"'SHALA DARPAN DATA'!B4006","v":0},{"$f":"'SHALA DARPAN DATA'!D4006","v":0},{"$f":"'SHALA DARPAN DATA'!J4006","v":0},{"$f":"'SHALA DARPAN DATA'!T4006","v":0},{"$f":"'SHALA DARPAN DATA'!V4006","v":0},{"$f":"'SHALA DARPAN DATA'!K4006","v":0},{"$f":"'SHALA DARPAN DATA'!E4006","v":0},{"$f":"'SHALA DARPAN DATA'!G4006","v":0},{"$f":"'SHALA DARPAN DATA'!H4006","v":0},{"$f":"'SHALA DARPAN DATA'!W4006","v":0},{"$f":"'SHALA DARPAN DATA'!R4006","v":0},{"$f":"'SHALA DARPAN DATA'!S4006","v":0},{"$f":"'SHALA DARPAN DATA'!O4006","v":0},0,0,0,0,0,0,0,0,0,0,0]
[{"$f":"'SHALA DARPAN DATA'!C4011","v":0},{"$f":"'SHALA DARPAN DATA'!A4011","v":0},{"$f":"'SHALA DARPAN DATA'!B4011","v":0},{"$f":"'SHALA DARPAN DATA'!D4011","v":0},{"$f":"'SHALA DARPAN DATA'!J4011","v":0},{"$f":"'SHALA DARPAN DATA'!T4011","v":0},{"$f":"'SHALA DARPAN DATA'!V4011","v":0},{"$f":"'SHALA DARPAN DATA'!K4011","v":0},{"$f":"'SHALA DARPAN DATA'!E4011","v":0},{"$f":"'SHALA DARPAN DATA'!G4011","v":0},{"$f":"'SHALA DARPAN DATA'!H4011","v":0},{"$f":"'SHALA DARPAN DATA'!W4011","v":0},{"$f":"'SHALA DARPAN DATA'!R4011","v":0},{"$f":"'SHALA DARPAN DATA'!S4011","v":0},{"$f":"'SHALA DARPAN DATA'!O4011","v":0},0,0,0,0,0,0,0,0,0,0,0]
[{"$f":"'SHALA DARPAN DATA'!C4012","v":0},{"$f":"'SHALA DARPAN DATA'!A4012","v":0},{"$f":"'SHALA DARPAN DATA'!B4012","v":0},{"$f":"'SHALA DARPAN DATA'!D4012","v":0},{"$f":"'SHALA DARPAN DATA'!J4012","v":0},{"$f":"'SHALA DARPAN DATA'!T4012","v":0},{"$f":"'SHALA DARPAN DATA'!V4012","v":0},{"$f":"'SHALA DARPAN DATA'!K4012","v":0},{"$f":"'SHALA DARPAN DATA'!E4012","v":0},{"$f":"'SHALA DARPAN DATA'!G4012","v":0},{"$f":"'SHALA DARPAN DATA'!H4012","v":0},{"$f":"'SHALA DARPAN DATA'!W4012","v":0},{"$f":"'SHALA DARPAN DATA'!R4012","v":0},{"$f":"'SHALA DARPAN DATA'!S4012","v":0},{"$f":"'SHALA DARPAN DATA'!O4012","v":0},0,0,0,0,0,0,0,0,0,0,0]
[{"$f":"'SHALA DARPAN DATA'!C4018","v":0},{"$f":"'SHALA DARPAN DATA'!A4018","v":0},{"$f":"'SHALA DARPAN DATA'!B4018","v":0},{"$f":"'SHALA DARPAN DATA'!D4018","v":0},{"$f":"'SHALA DARPAN DATA'!J4018","v":0},{"$f":"'SHALA DARPAN DATA'!T4018","v":0},{"$f":"'SHALA DARPAN DATA'!V4018","v":0},{"$f":"'SHALA DARPAN DATA'!K4018","v":0},{"$f":"'SHALA DARPAN DATA'!E4018","v":0},{"$f":"'SHALA DARPAN DATA'!G4018","v":0},{"$f":"'SHALA DARPAN DATA'!H4018","v":0},{"$f":"'SHALA DARPAN DATA'!W4018","v":0},{"$f":"'SHALA DARPAN DATA'!R4018","v":0},{"$f":"'SHALA DARPAN DATA'!S4018","v":0},{"$f":"'SHALA DARPAN DATA'!O4018","v":0},0,0,0,0,0,0,0,0,0,0,0]
[{"$f":"'SHALA DARPAN DATA'!C4021","v":0},{"$f":"'SHALA DARPAN DATA'!A4021","v":0},{"$f":"'SHALA DARPAN DATA'!B4021","v":0},{"$f":"'SHALA DARPAN DATA'!D4021","v":0},{"$f":"'SHALA DARPAN DATA'!J4021","v":0},{"$f":"'SHALA DARPAN DATA'!T4021","v":0},{"$f":"'SHALA DARPAN DATA'!V4021","v":0},{"$f":"'SHALA DARPAN DATA'!K4021","v":0},{"$f":"'SHALA DARPAN DATA'!E4021","v":0},{"$f":"'SHALA DARPAN DATA'!G4021","v":0},{"$f":"'SHALA DARPAN DATA'!H4021","v":0},{"$f":"'SHALA DARPAN DATA'!W4021","v":0},{"$f":"'SHALA DARPAN DATA'!R4021","v":0},{"$f":"'SHALA DARPAN DATA'!S4021","v":0},{"$f":"'SHALA DARPAN DATA'!O4021","v":0},0,0,0,0,0,0,0,0,0,0,0]
[{"$f":"'SHALA DARPAN DATA'!C4026","v":0},{"$f":"'SHALA DARPAN DATA'!A4026","v":0},{"$f":"'SHALA DARPAN DATA'!B4026","v":0},{"$f":"'SHALA DARPAN DATA'!D4026","v":0},{"$f":"'SHALA DARPAN DATA'!J4026","v":0},{"$f":"'SHALA DARPAN DATA'!T4026","v":0},{"$f":"'SHALA DARPAN DATA'!V4026","v":0},{"$f":"'SHALA DARPAN DATA'!K4026","v":0},{"$f":"'SHALA DARPAN DATA'!E4026","v":0},{"$f":"'SHALA DARPAN DATA'!G4026","v":0},{"$f":"'SHALA DARPAN DATA'!H4026","v":0},{"$f":"'SHALA DARPAN DATA'!W4026","v":0},{"$f":"'SHALA DARPAN DATA'!R4026","v":0},{"$f":"'SHALA DARPAN DATA'!S4026","v":0},{"$f":"'SHALA DARPAN DATA'!O4026","v":0},0,0,0,0,0,0,0,0,0,0,0]
[{"$f":"'SHALA DARPAN DATA'!C4027","v":0},{"$f":"'SHALA DARPAN DATA'!A4027","v":0},{"$f":"'SHALA DARPAN DATA'!B4027","v":0},{"$f":"'SHALA DARPAN DATA'!D4027","v":0},{"$f":"'SHALA DARPAN DATA'!J4027","v":0},{"$f":"'SHALA DARPAN DATA'!T4027","v":0},{"$f":"'SHALA DARPAN DATA'!V4027","v":0},{"$f":"'SHALA DARPAN DATA'!K4027","v":0},{"$f":"'SHALA DARPAN DATA'!E4027","v":0},{"$f":"'SHALA DARPAN DATA'!G4027","v":0},{"$f":"'SHALA DARPAN DATA'!H4027","v":0},{"$f":"'SHALA DARPAN DATA'!W4027","v":0},{"$f":"'SHALA DARPAN DATA'!R4027","v":0},{"$f":"'SHALA DARPAN DATA'!S4027","v":0},{"$f":"'SHALA DARPAN DATA'!O4027","v":0},0,0,0,0,0,0,0,0,0,0,0]
[{"$f":"'SHALA DARPAN DATA'!C4031","v":0},{"$f":"'SHALA DARPAN DATA'!A4031","v":0},{"$f":"'SHALA DARPAN DATA'!B4031","v":0},{"$f":"'SHALA DARPAN DATA'!D4031","v":0},{"$f":"'SHALA DARPAN DATA'!J4031","v":0},{"$f":"'SHALA DARPAN DATA'!T4031","v":0},{"$f":"'SHALA DARPAN DATA'!V4031","v":0},{"$f":"'SHALA DARPAN DATA'!K4031","v":0},{"$f":"'SHALA DARPAN DATA'!E4031","v":0},{"$f":"'SHALA DARPAN DATA'!G4031","v":0},{"$f":"'SHALA DARPAN DATA'!H4031","v":0},{"$f":"'SHALA DARPAN DATA'!W4031","v":0},{"$f":"'SHALA DARPAN DATA'!R4031","v":0},{"$f":"'SHALA DARPAN DATA'!S4031","v":0},{"$f":"'SHALA DARPAN DATA'!O4031","v":0},0,0,0,0,0,0,0,0,0,0,0]
[{"$f":"'SHALA DARPAN DATA'!C4036","v":0},{"$f":"'SHALA DARPAN DATA'!A4036","v":0},{"$f":"'SHALA DARPAN DATA'!B4036","v":0},{"$f":"'SHALA DARPAN DATA'!D4036","v":0},{"$f":"'SHALA DARPAN DATA'!J4036","v":0},{"$f":"'SHALA DARPAN DATA'!T4036","v":0},{"$f":"'SHALA DARPAN DATA'!V4036","v":0},{"$f":"'SHALA DARPAN DATA'!K4036","v":0},{"$f":"'SHALA DARPAN DATA'!E4036","v":0},{"$f":"'SHALA DARPAN DATA'!G4036","v":0},{"$f":"'SHALA DARPAN DATA'!H4036","v":0},{"$f":"'SHALA DARPAN DATA'!W4036","v":0},{"$f":"'SHALA DARPAN DATA'!R4036","v":0},{"$f":"'SHALA DARPAN DATA'!S4036","v":0},{"$f":"'SHALA DARPAN DATA'!O4036","v":0},0,0,0,0,0,0,0,0,0,0,0]
[{"$f":"'SHALA DARPAN DATA'!C4041","v":0},{"$f":"'SHALA DARPAN DATA'!A4041","v":0},{"$f":"'SHALA DARPAN DATA'!B4041","v":0},{"$f":"'SHALA DARPAN DATA'!D4041","v":0},{"$f":"'SHALA DARPAN DATA'!J4041","v":0},{"$f":"'SHALA DARPAN DATA'!T4041","v":0},{"$f":"'SHALA DARPAN DATA'!V4041","v":0},{"$f":"'SHALA DARPAN DATA'!K4041","v":0},{"$f":"'SHALA DARPAN DATA'!E4041","v":0},{"$f":"'SHALA DARPAN DATA'!G4041","v":0},{"$f":"'SHALA DARPAN DATA'!H4041","v":0},{"$f":"'SHALA DARPAN DATA'!W4041","v":0},{"$f":"'SHALA DARPAN DATA'!R4041","v":0},{"$f":"'SHALA DARPAN DATA'!S4041","v":0},{"$f":"'SHALA DARPAN DATA'!O4041","v":0},0,0,0,0,0,0,0,0,0,0,0]
[{"$f":"'SHALA DARPAN DATA'!C4042","v":0},{"$f":"'SHALA DARPAN DATA'!A4042","v":0},{"$f":"'SHALA DARPAN DATA'!B4042","v":0},{"$f":"'SHALA DARPAN DATA'!D4042","v":0},{"$f":"'SHALA DARPAN DATA'!J4042","v":0},{"$f":"'SHALA DARPAN DATA'!T4042","v":0},{"$f":"'SHALA DARPAN DATA'!V4042","v":0},{"$f":"'SHALA DARPAN DATA'!K4042","v":0},{"$f":"'SHALA DARPAN DATA'!E4042","v":0},{"$f":"'SHALA DARPAN DATA'!G4042","v":0},{"$f":"'SHALA DARPAN DATA'!H4042","v":0},{"$f":"'SHALA DARPAN DATA'!W4042","v":0},{"$f":"'SHALA DARPAN DATA'!R4042","v":0},{"$f":"'SHALA DARPAN DATA'!S4042","v":0},{"$f":"'SHALA DARPAN DATA'!O4042","v":0},0,0,0,0,0,0,0,0,0,0,0]
[{"$f":"'SHALA DARPAN DATA'!C4048","v":0},{"$f":"'SHALA DARPAN DATA'!A4048","v":0},{"$f":"'SHALA DARPAN DATA'!B4048","v":0},{"$f":"'SHALA DARPAN DATA'!D4048","v":0},{"$f":"'SHALA DARPAN DATA'!J4048","v":0},{"$f":"'SHALA DARPAN DATA'!T4048","v":0},{"$f":"'SHALA DARPAN DATA'!V4048","v":0},{"$f":"'SHALA DARPAN DATA'!K4048","v":0},{"$f":"'SHALA DARPAN DATA'!E4048","v":0},{"$f":"'SHALA DARPAN DATA'!G4048","v":0},{"$f":"'SHALA DARPAN DATA'!H4048","v":0},{"$f":"'SHALA DARPAN DATA'!W4048","v":0},{"$f":"'SHALA DARPAN DATA'!R4048","v":0},{"$f":"'SHALA DARPAN DATA'!S4048","v":0},{"$f":"'SHALA DARPAN DATA'!O4048","v":0},0,0,0,0,0,0,0,0,0,0,0]
[{"$f":"'SHALA DARPAN DATA'!C4051","v":0},{"$f":"'SHALA DARPAN DATA'!A4051","v":0},{"$f":"'SHALA DARPAN DATA'!B4051","v":0},{"$f":"'SHALA DARPAN DATA'!D4051","v":0},{"$f":"'SHALA DARPAN DATA'!J4051","v":0},{"$f":"'SHALA DARPAN DATA'!T4051","v":0},{"$f":"'SHALA DARPAN DATA'!V4051","v":0},{"$f":"'SHALA DARPAN DATA'!K4051","v":0},{"$f":"'SHALA DARPAN DATA'!E4051","v":0},{"$f":"'SHALA DARPAN DATA'!G4051","v":0},{"$f":"'SHALA DARPAN DATA'!H4051","v":0},{"$f":"'SHALA DARPAN DATA'!W4051","v":0},{"$f":"'SHALA DARPAN DATA'!R4051","v":0},{"$f":"'SHALA DARPAN DATA'!S4051","v":0},{"$f":"'SHALA DARPAN DATA'!O4051","v":0},0,0,0,0,0,0,0,0,0,0,0]
[{"$f":"'SHALA DARPAN DATA'!C4056","v":0},{"$f":"'SHALA DARPAN DATA'!A4056","v":0},{"$f":"'SHALA DARPAN DATA'!B4056","v":0},{"$f":"'SHALA DARPAN DATA'!D4056","v":0},{"$f":"'SHALA DARPAN DATA'!J4056","v":0},{"$f":"'SHALA DARPAN DATA'!T4056","v":0},{"$f":"'SHALA DARPAN DATA'!V4056","v":0},{"$f":"'SHALA DARPAN DATA'!K4056","v":0},{"$f":"'SHALA DARPAN DATA'!E4056","v":0},{"$f":"'SHALA DARPAN DATA'!G4056","v":0},{"$f":"'SHALA DARPAN DATA'!H4056","v":0},{"$f":"'SHALA DARPAN DATA'!W4056","v":0},{"$f":"'SHALA DARPAN DATA'!R4056","v":0},{"$f":"'SHALA DARPAN DATA'!S4056","v":0},{"$f":"'SHALA DARPAN DATA'!O4056","v":0},0,0,0,0,0,0,0,0,0,0,0]
[{"$f":"'SHALA DARPAN DATA'!C4057","v":0},{"$f":"'SHALA DARPAN DATA'!A4057","v":0},{"$f":"'SHALA DARPAN DATA'!B4057","v":0},{"$f":"'SHALA DARPAN DATA'!D4057","v":0},{"$f":"'SHALA DARPAN DATA'!J4057","v":0},{"$f":"'SHALA DARPAN DATA'!T4057","v":0},{"$f":"'SHALA DARPAN DATA'!V4057","v":0},{"$f":"'SHALA DARPAN DATA'!K4057","v":0},{"$f":"'SHALA DARPAN DATA'!E4057","v":0},{"$f":"'SHALA DARPAN DATA'!G4057","v":0},{"$f":"'SHALA DARPAN DATA'!H4057","v":0},{"$f":"'SHALA DARPAN DATA'!W4057","v":0},{"$f":"'SHALA DARPAN DATA'!R4057","v":0},{"$f":"'SHALA DARPAN DATA'!S4057","v":0},{"$f":"'SHALA DARPAN DATA'!O4057","v":0},0,0,0,0,0,0,0,0,0,0,0]
[{"$f":"'SHALA DARPAN DATA'!C4061","v":0},{"$f":"'SHALA DARPAN DATA'!A4061","v":0},{"$f":"'SHALA DARPAN DATA'!B4061","v":0},{"$f":"'SHALA DARPAN DATA'!D4061","v":0},{"$f":"'SHALA DARPAN DATA'!J4061","v":0},{"$f":"'SHALA DARPAN DATA'!T4061","v":0},{"$f":"'SHALA DARPAN DATA'!V4061","v":0},{"$f":"'SHALA DARPAN DATA'!K4061","v":0},{"$f":"'SHALA DARPAN DATA'!E4061","v":0},{"$f":"'SHALA DARPAN DATA'!G4061","v":0},{"$f":"'SHALA DARPAN DATA'!H4061","v":0},{"$f":"'SHALA DARPAN DATA'!W4061","v":0},{"$f":"'SHALA DARPAN DATA'!R4061","v":0},{"$f":"'SHALA DARPAN DATA'!S4061","v":0},{"$f":"'SHALA DARPAN DATA'!O4061","v":0},0,0,0,0,0,0,0,0,0,0,0]
[{"$f":"'SHALA DARPAN DATA'!C4066","v":0},{"$f":"'SHALA DARPAN DATA'!A4066","v":0},{"$f":"'SHALA DARPAN DATA'!B4066","v":0},{"$f":"'SHALA DARPAN DATA'!D4066","v":0},{"$f":"'SHALA DARPAN DATA'!J4066","v":0},{"$f":"'SHALA DARPAN DATA'!T4066","v":0},{"$f":"'SHALA DARPAN DATA'!V4066","v":0},{"$f":"'SHALA DARPAN DATA'!K4066","v":0},{"$f":"'SHALA DARPAN DATA'!E4066","v":0},{"$f":"'SHALA DARPAN DATA'!G4066","v":0},{"$f":"'SHALA DARPAN DATA'!H4066","v":0},{"$f":"'SHALA DARPAN DATA'!W4066","v":0},{"$f":"'SHALA DARPAN DATA'!R4066","v":0},{"$f":"'SHALA DARPAN DATA'!S4066","v":0},{"$f":"'SHALA DARPAN DATA'!O4066","v":0},0,0,0,0,0,0,0,0,0,0,0]
[{"$f":"'SHALA DARPAN DATA'!C4071","v":0},{"$f":"'SHALA DARPAN DATA'!A4071","v":0},{"$f":"'SHALA DARPAN DATA'!B4071","v":0},{"$f":"'SHALA DARPAN DATA'!D4071","v":0},{"$f":"'SHALA DARPAN DATA'!J4071","v":0},{"$f":"'SHALA DARPAN DATA'!T4071","v":0},{"$f":"'SHALA DARPAN DATA'!V4071","v":0},{"$f":"'SHALA DARPAN DATA'!K4071","v":0},{"$f":"'SHALA DARPAN DATA'!E4071","v":0},{"$f":"'SHALA DARPAN DATA'!G4071","v":0},{"$f":"'SHALA DARPAN DATA'!H4071","v":0},{"$f":"'SHALA DARPAN DATA'!W4071","v":0},{"$f":"'SHALA DARPAN DATA'!R4071","v":0},{"$f":"'SHALA DARPAN DATA'!S4071","v":0},{"$f":"'SHALA DARPAN DATA'!O4071","v":0},0,0,0,0,0,0,0,0,0,0,0]
[{"$f":"'SHALA DARPAN DATA'!C4072","v":0},{"$f":"'SHALA DARPAN DATA'!A4072","v":0},{"$f":"'SHALA DARPAN DATA'!B4072","v":0},{"$f":"'SHALA DARPAN DATA'!D4072","v":0},{"$f":"'SHALA DARPAN DATA'!J4072","v":0},{"$f":"'SHALA DARPAN DATA'!T4072","v":0},{"$f":"'SHALA DARPAN DATA'!V4072","v":0},{"$f":"'SHALA DARPAN DATA'!K4072","v":0},{"$f":"'SHALA DARPAN DATA'!E4072","v":0},{"$f":"'SHALA DARPAN DATA'!G4072","v":0},{"$f":"'SHALA DARPAN DATA'!H4072","v":0},{"$f":"'SHALA DARPAN DATA'!W4072","v":0},{"$f":"'SHALA DARPAN DATA'!R4072","v":0},{"$f":"'SHALA DARPAN DATA'!S4072","v":0},{"$f":"'SHALA DARPAN DATA'!O4072","v":0},0,0,0,0,0,0,0,0,0,0,0]
[{"$f":"'SHALA DARPAN DATA'!C4078","v":0},{"$f":"'SHALA DARPAN DATA'!A4078","v":0},{"$f":"'SHALA DARPAN DATA'!B4078","v":0},{"$f":"'SHALA DARPAN DATA'!D4078","v":0},{"$f":"'SHALA DARPAN DATA'!J4078","v":0},{"$f":"'SHALA DARPAN DATA'!T4078","v":0},{"$f":"'SHALA DARPAN DATA'!V4078","v":0},{"$f":"'SHALA DARPAN DATA'!K4078","v":0},{"$f":"'SHALA DARPAN DATA'!E4078","v":0},{"$f":"'SHALA DARPAN DATA'!G4078","v":0},{"$f":"'SHALA DARPAN DATA'!H4078","v":0},{"$f":"'SHALA DARPAN DATA'!W4078","v":0},{"$f":"'SHALA DARPAN DATA'!R4078","v":0},{"$f":"'SHALA DARPAN DATA'!S4078","v":0},{"$f":"'SHALA DARPAN DATA'!O4078","v":0},0,0,0,0,0,0,0,0,0,0,0]
[{"$f":"'SHALA DARPAN DATA'!C4081","v":0},{"$f":"'SHALA DARPAN DATA'!A4081","v":0},{"$f":"'SHALA DARPAN DATA'!B4081","v":0},{"$f":"'SHALA DARPAN DATA'!D4081","v":0},{"$f":"'SHALA DARPAN DATA'!J4081","v":0},{"$f":"'SHALA DARPAN DATA'!T4081","v":0},{"$f":"'SHALA DARPAN DATA'!V4081","v":0},{"$f":"'SHALA DARPAN DATA'!K4081","v":0},{"$f":"'SHALA DARPAN DATA'!E4081","v":0},{"$f":"'SHALA DARPAN DATA'!G4081","v":0},{"$f":"'SHALA DARPAN DATA'!H4081","v":0},{"$f":"'SHALA DARPAN DATA'!W4081","v":0},{"$f":"'SHALA DARPAN DATA'!R4081","v":0},{"$f":"'SHALA DARPAN DATA'!S4081","v":0},{"$f":"'SHALA DARPAN DATA'!O4081","v":0},0,0,0,0,0,0,0,0,0,0,0]
[{"$f":"'SHALA DARPAN DATA'!C4086","v":0},{"$f":"'SHALA DARPAN DATA'!A4086","v":0},{"$f":"'SHALA DARPAN DATA'!B4086","v":0},{"$f":"'SHALA DARPAN DATA'!D4086","v":0},{"$f":"'SHALA DARPAN DATA'!J4086","v":0},{"$f":"'SHALA DARPAN DATA'!T4086","v":0},{"$f":"'SHALA DARPAN DATA'!V4086","v":0},{"$f":"'SHALA DARPAN DATA'!K4086","v":0},{"$f":"'SHALA DARPAN DATA'!E4086","v":0},{"$f":"'SHALA DARPAN DATA'!G4086","v":0},{"$f":"'SHALA DARPAN DATA'!H4086","v":0},{"$f":"'SHALA DARPAN DATA'!W4086","v":0},{"$f":"'SHALA DARPAN DATA'!R4086","v":0},{"$f":"'SHALA DARPAN DATA'!S4086","v":0},{"$f":"'SHALA DARPAN DATA'!O4086","v":0},0,0,0,0,0,0,0,0,0,0,0]
[{"$f":"'SHALA DARPAN DATA'!C4087","v":0},{"$f":"'SHALA DARPAN DATA'!A4087","v":0},{"$f":"'SHALA DARPAN DATA'!B4087","v":0},{"$f":"'SHALA DARPAN DATA'!D4087","v":0},{"$f":"'SHALA DARPAN DATA'!J4087","v":0},{"$f":"'SHALA DARPAN DATA'!T4087","v":0},{"$f":"'SHALA DARPAN DATA'!V4087","v":0},{"$f":"'SHALA DARPAN DATA'!K4087","v":0},{"$f":"'SHALA DARPAN DATA'!E4087","v":0},{"$f":"'SHALA DARPAN DATA'!G4087","v":0},{"$f":"'SHALA DARPAN DATA'!H4087","v":0},{"$f":"'SHALA DARPAN DATA'!W4087","v":0},{"$f":"'SHALA DARPAN DATA'!R4087","v":0},{"$f":"'SHALA DARPAN DATA'!S4087","v":0},{"$f":"'SHALA DARPAN DATA'!O4087","v":0},0,0,0,0,0,0,0,0,0,0,0]
[{"$f":"'SHALA DARPAN DATA'!C4091","v":0},{"$f":"'SHALA DARPAN DATA'!A4091","v":0},{"$f":"'SHALA DARPAN DATA'!B4091","v":0},{"$f":"'SHALA DARPAN DATA'!D4091","v":0},{"$f":"'SHALA DARPAN DATA'!J4091","v":0},{"$f":"'SHALA DARPAN DATA'!T4091","v":0},{"$f":"'SHALA DARPAN DATA'!V4091","v":0},{"$f":"'SHALA DARPAN DATA'!K4091","v":0},{"$f":"'SHALA DARPAN DATA'!E4091","v":0},{"$f":"'SHALA DARPAN DATA'!G4091","v":0},{"$f":"'SHALA DARPAN DATA'!H4091","v":0},{"$f":"'SHALA DARPAN DATA'!W4091","v":0},{"$f":"'SHALA DARPAN DATA'!R4091","v":0},{"$f":"'SHALA DARPAN DATA'!S4091","v":0},{"$f":"'SHALA DARPAN DATA'!O4091","v":0},0,0,0,0,0,0,0,0,0,0,0]
[{"$f":"'SHALA DARPAN DATA'!C4096","v":0},{"$f":"'SHALA DARPAN DATA'!A4096","v":0},{"$f":"'SHALA DARPAN DATA'!B4096","v":0},{"$f":"'SHALA DARPAN DATA'!D4096","v":0},{"$f":"'SHALA DARPAN DATA'!J4096","v":0},{"$f":"'SHALA DARPAN DATA'!T4096","v":0},{"$f":"'SHALA DARPAN DATA'!V4096","v":0},{"$f":"'SHALA DARPAN DATA'!K4096","v":0},{"$f":"'SHALA DARPAN DATA'!E4096","v":0},{"$f":"'SHALA DARPAN DATA'!G4096","v":0},{"$f":"'SHALA DARPAN DATA'!H4096","v":0},{"$f":"'SHALA DARPAN DATA'!W4096","v":0},{"$f":"'SHALA DARPAN DATA'!R4096","v":0},{"$f":"'SHALA DARPAN DATA'!S4096","v":0},{"$f":"'SHALA DARPAN DATA'!O4096","v":0},0,0,0,0,0,0,0,0,0,0,0]
[{"$f":"'SHALA DARPAN DATA'!C4101","v":0},{"$f":"'SHALA DARPAN DATA'!A4101","v":0},{"$f":"'SHALA DARPAN DATA'!B4101","v":0},{"$f":"'SHALA DARPAN DATA'!D4101","v":0},{"$f":"'SHALA DARPAN DATA'!J4101","v":0},{"$f":"'SHALA DARPAN DATA'!T4101","v":0},{"$f":"'SHALA DARPAN DATA'!V4101","v":0},{"$f":"'SHALA DARPAN DATA'!K4101","v":0},{"$f":"'SHALA DARPAN DATA'!E4101","v":0},{"$f":"'SHALA DARPAN DATA'!G4101","v":0},{"$f":"'SHALA DARPAN DATA'!H4101","v":0},{"$f":"'SHALA DARPAN DATA'!W4101","v":0},{"$f":"'SHALA DARPAN DATA'!R4101","v":0},{"$f":"'SHALA DARPAN DATA'!S4101","v":0},{"$f":"'SHALA DARPAN DATA'!O4101","v":0},0,0,0,0,0,0,0,0,0,0,0]
[{"$f":"'SHALA DARPAN DATA'!C4102","v":0},{"$f":"'SHALA DARPAN DATA'!A4102","v":0},{"$f":"'SHALA DARPAN DATA'!B4102","v":0},{"$f":"'SHALA DARPAN DATA'!D4102","v":0},{"$f":"'SHALA DARPAN DATA'!J4102","v":0},{"$f":"'SHALA DARPAN DATA'!T4102","v":0},{"$f":"'SHALA DARPAN DATA'!V4102","v":0},{"$f":"'SHALA DARPAN DATA'!K4102","v":0},{"$f":"'SHALA DARPAN DATA'!E4102","v":0},{"$f":"'SHALA DARPAN DATA'!G4102","v":0},{"$f":"'SHALA DARPAN DATA'!H4102","v":0},{"$f":"'SHALA DARPAN DATA'!W4102","v":0},{"$f":"'SHALA DARPAN DATA'!R4102","v":0},{"$f":"'SHALA DARPAN DATA'!S4102","v":0},{"$f":"'SHALA DARPAN DATA'!O4102","v":0},0,0,0,0,0,0,0,0,0,0,0]
[{"$f":"'SHALA DARPAN DATA'!C4108","v":0},{"$f":"'SHALA DARPAN DATA'!A4108","v":0},{"$f":"'SHALA DARPAN DATA'!B4108","v":0},{"$f":"'SHALA DARPAN DATA'!D4108","v":0},{"$f":"'SHALA DARPAN DATA'!J4108","v":0},{"$f":"'SHALA DARPAN DATA'!T4108","v":0},{"$f":"'SHALA DARPAN DATA'!V4108","v":0},{"$f":"'SHALA DARPAN DATA'!K4108","v":0},{"$f":"'SHALA DARPAN DATA'!E4108","v":0},{"$f":"'SHALA DARPAN DATA'!G4108","v":0},{"$f":"'SHALA DARPAN DATA'!H4108","v":0},{"$f":"'SHALA DARPAN DATA'!W4108","v":0},{"$f":"'SHALA DARPAN DATA'!R4108","v":0},{"$f":"'SHALA DARPAN DATA'!S4108","v":0},{"$f":"'SHALA DARPAN DATA'!O4108","v":0},0,0,0,0,0,0,0,0,0,0,0]
[{"$f":"'SHALA DARPAN DATA'!C4111","v":0},{"$f":"'SHALA DARPAN DATA'!A4111","v":0},{"$f":"'SHALA DARPAN DATA'!B4111","v":0},{"$f":"'SHALA DARPAN DATA'!D4111","v":0},{"$f":"'SHALA DARPAN DATA'!J4111","v":0},{"$f":"'SHALA DARPAN DATA'!T4111","v":0},{"$f":"'SHALA DARPAN DATA'!V4111","v":0},{"$f":"'SHALA DARPAN DATA'!K4111","v":0},{"$f":"'SHALA DARPAN DATA'!E4111","v":0},{"$f":"'SHALA DARPAN DATA'!G4111","v":0},{"$f":"'SHALA DARPAN DATA'!H4111","v":0},{"$f":"'SHALA DARPAN DATA'!W4111","v":0},{"$f":"'SHALA DARPAN DATA'!R4111","v":0},{"$f":"'SHALA DARPAN DATA'!S4111","v":0},{"$f":"'SHALA DARPAN DATA'!O4111","v":0},0,0,0,0,0,0,0,0,0,0,0]
[{"$f":"'SHALA DARPAN DATA'!C4116","v":0},{"$f":"'SHALA DARPAN DATA'!A4116","v":0},{"$f":"'SHALA DARPAN DATA'!B4116","v":0},{"$f":"'SHALA DARPAN DATA'!D4116","v":0},{"$f":"'SHALA DARPAN DATA'!J4116","v":0},{"$f":"'SHALA DARPAN DATA'!T4116","v":0},{"$f":"'SHALA DARPAN DATA'!V4116","v":0},{"$f":"'SHALA DARPAN DATA'!K4116","v":0},{"$f":"'SHALA DARPAN DATA'!E4116","v":0},{"$f":"'SHALA DARPAN DATA'!G4116","v":0},{"$f":"'SHALA DARPAN DATA'!H4116","v":0},{"$f":"'SHALA DARPAN DATA'!W4116","v":0},{"$f":"'SHALA DARPAN DATA'!R4116","v":0},{"$f":"'SHALA DARPAN DATA'!S4116","v":0},{"$f":"'SHALA DARPAN DATA'!O4116","v":0},0,0,0,0,0,0,0,0,0,0,0]
[{"$f":"'SHALA DARPAN DATA'!C4117","v":0},{"$f":"'SHALA DARPAN DATA'!A4117","v":0},{"$f":"'SHALA DARPAN DATA'!B4117","v":0},{"$f":"'SHALA DARPAN DATA'!D4117","v":0},{"$f":"'SHALA DARPAN DATA'!J4117","v":0},{"$f":"'SHALA DARPAN DATA'!T4117","v":0},{"$f":"'SHALA DARPAN DATA'!V4117","v":0},{"$f":"'SHALA DARPAN DATA'!K4117","v":0},{"$f":"'SHALA DARPAN DATA'!E4117","v":0},{"$f":"'SHALA DARPAN DATA'!G4117","v":0},{"$f":"'SHALA DARPAN DATA'!H4117","v":0},{"$f":"'SHALA DARPAN DATA'!W4117","v":0},{"$f":"'SHALA DARPAN DATA'!R4117","v":0},{"$f":"'SHALA DARPAN DATA'!S4117","v":0},{"$f":"'SHALA DARPAN DATA'!O4117","v":0},0,0,0,0,0,0,0,0,0,0,0]
[{"$f":"'SHALA DARPAN DATA'!C4121","v":0},{"$f":"'SHALA DARPAN DATA'!A4121","v":0},{"$f":"'SHALA DARPAN DATA'!B4121","v":0},{"$f":"'SHALA DARPAN DATA'!D4121","v":0},{"$f":"'SHALA DARPAN DATA'!J4121","v":0},{"$f":"'SHALA DARPAN DATA'!T4121","v":0},{"$f":"'SHALA DARPAN DATA'!V4121","v":0},{"$f":"'SHALA DARPAN DATA'!K4121","v":0},{"$f":"'SHALA DARPAN DATA'!E4121","v":0},{"$f":"'SHALA DARPAN DATA'!G4121","v":0},{"$f":"'SHALA DARPAN DATA'!H4121","v":0},{"$f":"'SHALA DARPAN DATA'!W4121","v":0},{"$f":"'SHALA DARPAN DATA'!R4121","v":0},{"$f":"'SHALA DARPAN DATA'!S4121","v":0},{"$f":"'SHALA DARPAN DATA'!O4121","v":0},0,0,0,0,0,0,0,0,0,0,0]
[{"$f":"'SHALA DARPAN DATA'!C4126","v":0},{"$f":"'SHALA DARPAN DATA'!A4126","v":0},{"$f":"'SHALA DARPAN DATA'!B4126","v":0},{"$f":"'SHALA DARPAN DATA'!D4126","v":0},{"$f":"'SHALA DARPAN DATA'!J4126","v":0},{"$f":"'SHALA DARPAN DATA'!T4126","v":0},{"$f":"'SHALA DARPAN DATA'!V4126","v":0},{"$f":"'SHALA DARPAN DATA'!K4126","v":0},{"$f":"'SHALA DARPAN DATA'!E4126","v":0},{"$f":"'SHALA DARPAN DATA'!G4126","v":0},{"$f":"'SHALA DARPAN DATA'!H4126","v":0},{"$f":"'SHALA DARPAN DATA'!W4126","v":0},{"$f":"'SHALA DARPAN DATA'!R4126","v":0},{"$f":"'SHALA DARPAN DATA'!S4126","v":0},{"$f":"'SHALA DARPAN DATA'!O4126","v":0},0,0,0,0,0,0,0,0,0,0,0]
[{"$f":"'SHALA DARPAN DATA'!C4131","v":0},{"$f":"'SHALA DARPAN DATA'!A4131","v":0},{"$f":"'SHALA DARPAN DATA'!B4131","v":0},{"$f":"'SHALA DARPAN DATA'!D4131","v":0},{"$f":"'SHALA DARPAN DATA'!J4131","v":0},{"$f":"'SHALA DARPAN DATA'!T4131","v":0},{"$f":"'SHALA DARPAN DATA'!V4131","v":0},{"$f":"'SHALA DARPAN DATA'!K4131","v":0},{"$f":"'SHALA DARPAN DATA'!E4131","v":0},{"$f":"'SHALA DARPAN DATA'!G4131","v":0},{"$f":"'SHALA DARPAN DATA'!H4131","v":0},{"$f":"'SHALA DARPAN DATA'!W4131","v":0},{"$f":"'SHALA DARPAN DATA'!R4131","v":0},{"$f":"'SHALA DARPAN DATA'!S4131","v":0},{"$f":"'SHALA DARPAN DATA'!O4131","v":0},0,0,0,0,0,0,0,0,0,0,0]
[{"$f":"'SHALA DARPAN DATA'!C4132","v":0},{"$f":"'SHALA DARPAN DATA'!A4132","v":0},{"$f":"'SHALA DARPAN DATA'!B4132","v":0},{"$f":"'SHALA DARPAN DATA'!D4132","v":0},{"$f":"'SHALA DARPAN DATA'!J4132","v":0},{"$f":"'SHALA DARPAN DATA'!T4132","v":0},{"$f":"'SHALA DARPAN DATA'!V4132","v":0},{"$f":"'SHALA DARPAN DATA'!K4132","v":0},{"$f":"'SHALA DARPAN DATA'!E4132","v":0},{"$f":"'SHALA DARPAN DATA'!G4132","v":0},{"$f":"'SHALA DARPAN DATA'!H4132","v":0},{"$f":"'SHALA DARPAN DATA'!W4132","v":0},{"$f":"'SHALA DARPAN DATA'!R4132","v":0},{"$f":"'SHALA DARPAN DATA'!S4132","v":0},{"$f":"'SHALA DARPAN DATA'!O4132","v":0},0,0,0,0,0,0,0,0,0,0,0]
[{"$f":"'SHALA DARPAN DATA'!C4138","v":0},{"$f":"'SHALA DARPAN DATA'!A4138","v":0},{"$f":"'SHALA DARPAN DATA'!B4138","v":0},{"$f":"'SHALA DARPAN DATA'!D4138","v":0},{"$f":"'SHALA DARPAN DATA'!J4138","v":0},{"$f":"'SHALA DARPAN DATA'!T4138","v":0},{"$f":"'SHALA DARPAN DATA'!V4138","v":0},{"$f":"'SHALA DARPAN DATA'!K4138","v":0},{"$f":"'SHALA DARPAN DATA'!E4138","v":0},{"$f":"'SHALA DARPAN DATA'!G4138","v":0},{"$f":"'SHALA DARPAN DATA'!H4138","v":0},{"$f":"'SHALA DARPAN DATA'!W4138","v":0},{"$f":"'SHALA DARPAN DATA'!R4138","v":0},{"$f":"'SHALA DARPAN DATA'!S4138","v":0},{"$f":"'SHALA DARPAN DATA'!O4138","v":0},0,0,0,0,0,0,0,0,0,0,0]
[{"$f":"'SHALA DARPAN DATA'!C4141","v":0},{"$f":"'SHALA DARPAN DATA'!A4141","v":0},{"$f":"'SHALA DARPAN DATA'!B4141","v":0},{"$f":"'SHALA DARPAN DATA'!D4141","v":0},{"$f":"'SHALA DARPAN DATA'!J4141","v":0},{"$f":"'SHALA DARPAN DATA'!T4141","v":0},{"$f":"'SHALA DARPAN DATA'!V4141","v":0},{"$f":"'SHALA DARPAN DATA'!K4141","v":0},{"$f":"'SHALA DARPAN DATA'!E4141","v":0},{"$f":"'SHALA DARPAN DATA'!G4141","v":0},{"$f":"'SHALA DARPAN DATA'!H4141","v":0},{"$f":"'SHALA DARPAN DATA'!W4141","v":0},{"$f":"'SHALA DARPAN DATA'!R4141","v":0},{"$f":"'SHALA DARPAN DATA'!S4141","v":0},{"$f":"'SHALA DARPAN DATA'!O4141","v":0},0,0,0,0,0,0,0,0,0,0,0]
[{"$f":"'SHALA DARPAN DATA'!C4146","v":0},{"$f":"'SHALA DARPAN DATA'!A4146","v":0},{"$f":"'SHALA DARPAN DATA'!B4146","v":0},{"$f":"'SHALA DARPAN DATA'!D4146","v":0},{"$f":"'SHALA DARPAN DATA'!J4146","v":0},{"$f":"'SHALA DARPAN DATA'!T4146","v":0},{"$f":"'SHALA DARPAN DATA'!V4146","v":0},{"$f":"'SHALA DARPAN DATA'!K4146","v":0},{"$f":"'SHALA DARPAN DATA'!E4146","v":0},{"$f":"'SHALA DARPAN DATA'!G4146","v":0},{"$f":"'SHALA DARPAN DATA'!H4146","v":0},{"$f":"'SHALA DARPAN DATA'!W4146","v":0},{"$f":"'SHALA DARPAN DATA'!R4146","v":0},{"$f":"'SHALA DARPAN DATA'!S4146","v":0},{"$f":"'SHALA DARPAN DATA'!O4146","v":0},0,0,0,0,0,0,0,0,0,0,0]
[{"$f":"'SHALA DARPAN DATA'!C4147","v":0},{"$f":"'SHALA DARPAN DATA'!A4147","v":0},{"$f":"'SHALA DARPAN DATA'!B4147","v":0},{"$f":"'SHALA DARPAN DATA'!D4147","v":0},{"$f":"'SHALA DARPAN DATA'!J4147","v":0},{"$f":"'SHALA DARPAN DATA'!T4147","v":0},{"$f":"'SHALA DARPAN DATA'!V4147","v":0},{"$f":"'SHALA DARPAN DATA'!K4147","v":0},{"$f":"'SHALA DARPAN DATA'!E4147","v":0},{"$f":"'SHALA DARPAN DATA'!G4147","v":0},{"$f":"'SHALA DARPAN DATA'!H4147","v":0},{"$f":"'SHALA DARPAN DATA'!W4147","v":0},{"$f":"'SHALA DARPAN DATA'!R4147","v":0},{"$f":"'SHALA DARPAN DATA'!S4147","v":0},{"$f":"'SHALA DARPAN DATA'!O4147","v":0},0,0,0,0,0,0,0,0,0,0,0]
[{"$f":"'SHALA DARPAN DATA'!C4151","v":0},{"$f":"'SHALA DARPAN DATA'!A4151","v":0},{"$f":"'SHALA DARPAN DATA'!B4151","v":0},{"$f":"'SHALA DARPAN DATA'!D4151","v":0},{"$f":"'SHALA DARPAN DATA'!J4151","v":0},{"$f":"'SHALA DARPAN DATA'!T4151","v":0},{"$f":"'SHALA DARPAN DATA'!V4151","v":0},{"$f":"'SHALA DARPAN DATA'!K4151","v":0},{"$f":"'SHALA DARPAN DATA'!E4151","v":0},{"$f":"'SHALA DARPAN DATA'!G4151","v":0},{"$f":"'SHALA DARPAN DATA'!H4151","v":0},{"$f":"'SHALA DARPAN DATA'!W4151","v":0},{"$f":"'SHALA DARPAN DATA'!R4151","v":0},{"$f":"'SHALA DARPAN DATA'!S4151","v":0},{"$f":"'SHALA DARPAN DATA'!O4151","v":0},0,0,0,0,0,0,0,0,0,0,0]
[{"$f":"'SHALA DARPAN DATA'!C4156","v":0},{"$f":"'SHALA DARPAN DATA'!A4156","v":0},{"$f":"'SHALA DARPAN DATA'!B4156","v":0},{"$f":"'SHALA DARPAN DATA'!D4156","v":0},{"$f":"'SHALA DARPAN DATA'!J4156","v":0},{"$f":"'SHALA DARPAN DATA'!T4156","v":0},{"$f":"'SHALA DARPAN DATA'!V4156","v":0},{"$f":"'SHALA DARPAN DATA'!K4156","v":0},{"$f":"'SHALA DARPAN DATA'!E4156","v":0},{"$f":"'SHALA DARPAN DATA'!G4156","v":0},{"$f":"'SHALA DARPAN DATA'!H4156","v":0},{"$f":"'SHALA DARPAN DATA'!W4156","v":0},{"$f":"'SHALA DARPAN DATA'!R4156","v":0},{"$f":"'SHALA DARPAN DATA'!S4156","v":0},{"$f":"'SHALA DARPAN DATA'!O4156","v":0},0,0,0,0,0,0,0,0,0,0,0]
[{"$f":"'SHALA DARPAN DATA'!C4161","v":0},{"$f":"'SHALA DARPAN DATA'!A4161","v":0},{"$f":"'SHALA DARPAN DATA'!B4161","v":0},{"$f":"'SHALA DARPAN DATA'!D4161","v":0},{"$f":"'SHALA DARPAN DATA'!J4161","v":0},{"$f":"'SHALA DARPAN DATA'!T4161","v":0},{"$f":"'SHALA DARPAN DATA'!V4161","v":0},{"$f":"'SHALA DARPAN DATA'!K4161","v":0},{"$f":"'SHALA DARPAN DATA'!E4161","v":0},{"$f":"'SHALA DARPAN DATA'!G4161","v":0},{"$f":"'SHALA DARPAN DATA'!H4161","v":0},{"$f":"'SHALA DARPAN DATA'!W4161","v":0},{"$f":"'SHALA DARPAN DATA'!R4161","v":0},{"$f":"'SHALA DARPAN DATA'!S4161","v":0},{"$f":"'SHALA DARPAN DATA'!O4161","v":0},0,0,0,0,0,0,0,0,0,0,0]
[{"$f":"'SHALA DARPAN DATA'!C4162","v":0},{"$f":"'SHALA DARPAN DATA'!A4162","v":0},{"$f":"'SHALA DARPAN DATA'!B4162","v":0},{"$f":"'SHALA DARPAN DATA'!D4162","v":0},{"$f":"'SHALA DARPAN DATA'!J4162","v":0},{"$f":"'SHALA DARPAN DATA'!T4162","v":0},{"$f":"'SHALA DARPAN DATA'!V4162","v":0},{"$f":"'SHALA DARPAN DATA'!K4162","v":0},{"$f":"'SHALA DARPAN DATA'!E4162","v":0},{"$f":"'SHALA DARPAN DATA'!G4162","v":0},{"$f":"'SHALA DARPAN DATA'!H4162","v":0},{"$f":"'SHALA DARPAN DATA'!W4162","v":0},{"$f":"'SHALA DARPAN DATA'!R4162","v":0},{"$f":"'SHALA DARPAN DATA'!S4162","v":0},{"$f":"'SHALA DARPAN DATA'!O4162","v":0},0,0,0,0,0,0,0,0,0,0,0]
[{"$f":"'SHALA DARPAN DATA'!C4168","v":0},{"$f":"'SHALA DARPAN DATA'!A4168","v":0},{"$f":"'SHALA DARPAN DATA'!B4168","v":0},{"$f":"'SHALA DARPAN DATA'!D4168","v":0},{"$f":"'SHALA DARPAN DATA'!J4168","v":0},{"$f":"'SHALA DARPAN DATA'!T4168","v":0},{"$f":"'SHALA DARPAN DATA'!V4168","v":0},{"$f":"'SHALA DARPAN DATA'!K4168","v":0},{"$f":"'SHALA DARPAN DATA'!E4168","v":0},{"$f":"'SHALA DARPAN DATA'!G4168","v":0},{"$f":"'SHALA DARPAN DATA'!H4168","v":0},{"$f":"'SHALA DARPAN DATA'!W4168","v":0},{"$f":"'SHALA DARPAN DATA'!R4168","v":0},{"$f":"'SHALA DARPAN DATA'!S4168","v":0},{"$f":"'SHALA DARPAN DATA'!O4168","v":0},0,0,0,0,0,0,0,0,0,0,0]
[{"$f":"'SHALA DARPAN DATA'!C4171","v":0},{"$f":"'SHALA DARPAN DATA'!A4171","v":0},{"$f":"'SHALA DARPAN DATA'!B4171","v":0},{"$f":"'SHALA DARPAN DATA'!D4171","v":0},{"$f":"'SHALA DARPAN DATA'!J4171","v":0},{"$f":"'SHALA DARPAN DATA'!T4171","v":0},{"$f":"'SHALA DARPAN DATA'!V4171","v":0},{"$f":"'SHALA DARPAN DATA'!K4171","v":0},{"$f":"'SHALA DARPAN DATA'!E4171","v":0},{"$f":"'SHALA DARPAN DATA'!G4171","v":0},{"$f":"'SHALA DARPAN DATA'!H4171","v":0},{"$f":"'SHALA DARPAN DATA'!W4171","v":0},{"$f":"'SHALA DARPAN DATA'!R4171","v":0},{"$f":"'SHALA DARPAN DATA'!S4171","v":0},{"$f":"'SHALA DARPAN DATA'!O4171","v":0},0,0,0,0,0,0,0,0,0,0,0]
[{"$f":"'SHALA DARPAN DATA'!C4176","v":0},{"$f":"'SHALA DARPAN DATA'!A4176","v":0},{"$f":"'SHALA DARPAN DATA'!B4176","v":0},{"$f":"'SHALA DARPAN DATA'!D4176","v":0},{"$f":"'SHALA DARPAN DATA'!J4176","v":0},{"$f":"'SHALA DARPAN DATA'!T4176","v":0},{"$f":"'SHALA DARPAN DATA'!V4176","v":0},{"$f":"'SHALA DARPAN DATA'!K4176","v":0},{"$f":"'SHALA DARPAN DATA'!E4176","v":0},{"$f":"'SHALA DARPAN DATA'!G4176","v":0},{"$f":"'SHALA DARPAN DATA'!H4176","v":0},{"$f":"'SHALA DARPAN DATA'!W4176","v":0},{"$f":"'SHALA DARPAN DATA'!R4176","v":0},{"$f":"'SHALA DARPAN DATA'!S4176","v":0},{"$f":"'SHALA DARPAN DATA'!O4176","v":0},0,0,0,0,0,0,0,0,0,0,0]
[{"$f":"'SHALA DARPAN DATA'!C4177","v":0},{"$f":"'SHALA DARPAN DATA'!A4177","v":0},{"$f":"'SHALA DARPAN DATA'!B4177","v":0},{"$f":"'SHALA DARPAN DATA'!D4177","v":0},{"$f":"'SHALA DARPAN DATA'!J4177","v":0},{"$f":"'SHALA DARPAN DATA'!T4177","v":0},{"$f":"'SHALA DARPAN DATA'!V4177","v":0},{"$f":"'SHALA DARPAN DATA'!K4177","v":0},{"$f":"'SHALA DARPAN DATA'!E4177","v":0},{"$f":"'SHALA DARPAN DATA'!G4177","v":0},{"$f":"'SHALA DARPAN DATA'!H4177","v":0},{"$f":"'SHALA DARPAN DATA'!W4177","v":0},{"$f":"'SHALA DARPAN DATA'!R4177","v":0},{"$f":"'SHALA DARPAN DATA'!S4177","v":0},{"$f":"'SHALA DARPAN DATA'!O4177","v":0},0,0,0,0,0,0,0,0,0,0,0]
[{"$f":"'SHALA DARPAN DATA'!C4181","v":0},{"$f":"'SHALA DARPAN DATA'!A4181","v":0},{"$f":"'SHALA DARPAN DATA'!B4181","v":0},{"$f":"'SHALA DARPAN DATA'!D4181","v":0},{"$f":"'SHALA DARPAN DATA'!J4181","v":0},{"$f":"'SHALA DARPAN DATA'!T4181","v":0},{"$f":"'SHALA DARPAN DATA'!V4181","v":0},{"$f":"'SHALA DARPAN DATA'!K4181","v":0},{"$f":"'SHALA DARPAN DATA'!E4181","v":0},{"$f":"'SHALA DARPAN DATA'!G4181","v":0},{"$f":"'SHALA DARPAN DATA'!H4181","v":0},{"$f":"'SHALA DARPAN DATA'!W4181","v":0},{"$f":"'SHALA DARPAN DATA'!R4181","v":0},{"$f":"'SHALA DARPAN DATA'!S4181","v":0},{"$f":"'SHALA DARPAN DATA'!O4181","v":0},0,0,0,0,0,0,0,0,0,0,0]
[{"$f":"'SHALA DARPAN DATA'!C4186","v":0},{"$f":"'SHALA DARPAN DATA'!A4186","v":0},{"$f":"'SHALA DARPAN DATA'!B4186","v":0},{"$f":"'SHALA DARPAN DATA'!D4186","v":0},{"$f":"'SHALA DARPAN DATA'!J4186","v":0},{"$f":"'SHALA DARPAN DATA'!T4186","v":0},{"$f":"'SHALA DARPAN DATA'!V4186","v":0},{"$f":"'SHALA DARPAN DATA'!K4186","v":0},{"$f":"'SHALA DARPAN DATA'!E4186","v":0},{"$f":"'SHALA DARPAN DATA'!G4186","v":0},{"$f":"'SHALA DARPAN DATA'!H4186","v":0},{"$f":"'SHALA DARPAN DATA'!W4186","v":0},{"$f":"'SHALA DARPAN DATA'!R4186","v":0},{"$f":"'SHALA DARPAN DATA'!S4186","v":0},{"$f":"'SHALA DARPAN DATA'!O4186","v":0},0,0,0,0,0,0,0,0,0,0,0]
[{"$f":"'SHALA DARPAN DATA'!C4191","v":0},{"$f":"'SHALA DARPAN DATA'!A4191","v":0},{"$f":"'SHALA DARPAN DATA'!B4191","v":0},{"$f":"'SHALA DARPAN DATA'!D4191","v":0},{"$f":"'SHALA DARPAN DATA'!J4191","v":0},{"$f":"'SHALA DARPAN DATA'!T4191","v":0},{"$f":"'SHALA DARPAN DATA'!V4191","v":0},{"$f":"'SHALA DARPAN DATA'!K4191","v":0},{"$f":"'SHALA DARPAN DATA'!E4191","v":0},{"$f":"'SHALA DARPAN DATA'!G4191","v":0},{"$f":"'SHALA DARPAN DATA'!H4191","v":0},{"$f":"'SHALA DARPAN DATA'!W4191","v":0},{"$f":"'SHALA DARPAN DATA'!R4191","v":0},{"$f":"'SHALA DARPAN DATA'!S4191","v":0},{"$f":"'SHALA DARPAN DATA'!O4191","v":0},0,0,0,0,0,0,0,0,0,0,0]
[{"$f":"'SHALA DARPAN DATA'!C4192","v":0},{"$f":"'SHALA DARPAN DATA'!A4192","v":0},{"$f":"'SHALA DARPAN DATA'!B4192","v":0},{"$f":"'SHALA DARPAN DATA'!D4192","v":0},{"$f":"'SHALA DARPAN DATA'!J4192","v":0},{"$f":"'SHALA DARPAN DATA'!T4192","v":0},{"$f":"'SHALA DARPAN DATA'!V4192","v":0},{"$f":"'SHALA DARPAN DATA'!K4192","v":0},{"$f":"'SHALA DARPAN DATA'!E4192","v":0},{"$f":"'SHALA DARPAN DATA'!G4192","v":0},{"$f":"'SHALA DARPAN DATA'!H4192","v":0},{"$f":"'SHALA DARPAN DATA'!W4192","v":0},{"$f":"'SHALA DARPAN DATA'!R4192","v":0},{"$f":"'SHALA DARPAN DATA'!S4192","v":0},{"$f":"'SHALA DARPAN DATA'!O4192","v":0},0,0,0,0,0,0,0,0,0,0,0]
[{"$f":"'SHALA DARPAN DATA'!C4198","v":0},{"$f":"'SHALA DARPAN DATA'!A4198","v":0},{"$f":"'SHALA DARPAN DATA'!B4198","v":0},{"$f":"'SHALA DARPAN DATA'!D4198","v":0},{"$f":"'SHALA DARPAN DATA'!J4198","v":0},{"$f":"'SHALA DARPAN DATA'!T4198","v":0},{"$f":"'SHALA DARPAN DATA'!V4198","v":0},{"$f":"'SHALA DARPAN DATA'!K4198","v":0},{"$f":"'SHALA DARPAN DATA'!E4198","v":0},{"$f":"'SHALA DARPAN DATA'!G4198","v":0},{"$f":"'SHALA DARPAN DATA'!H4198","v":0},{"$f":"'SHALA DARPAN DATA'!W4198","v":0},{"$f":"'SHALA DARPAN DATA'!R4198","v":0},{"$f":"'SHALA DARPAN DATA'!S4198","v":0},{"$f":"'SHALA DARPAN DATA'!O4198","v":0},0,0,0,0,0,0,0,0,0,0,0]
[{"$f":"'SHALA DARPAN DATA'!C4201","v":0},{"$f":"'SHALA DARPAN DATA'!A4201","v":0},{"$f":"'SHALA DARPAN DATA'!B4201","v":0},{"$f":"'SHALA DARPAN DATA'!D4201","v":0},{"$f":"'SHALA DARPAN DATA'!J4201","v":0},{"$f":"'SHALA DARPAN DATA'!T4201","v":0},{"$f":"'SHALA DARPAN DATA'!V4201","v":0},{"$f":"'SHALA DARPAN DATA'!K4201","v":0},{"$f":"'SHALA DARPAN DATA'!E4201","v":0},{"$f":"'SHALA DARPAN DATA'!G4201","v":0},{"$f":"'SHALA DARPAN DATA'!H4201","v":0},{"$f":"'SHALA DARPAN DATA'!W4201","v":0},{"$f":"'SHALA DARPAN DATA'!R4201","v":0},{"$f":"'SHALA DARPAN DATA'!S4201","v":0},{"$f":"'SHALA DARPAN DATA'!O4201","v":0},0,0,0,0,0,0,0,0,0,0,0]
[{"$f":"'SHALA DARPAN DATA'!C4206","v":0},{"$f":"'SHALA DARPAN DATA'!A4206","v":0},{"$f":"'SHALA DARPAN DATA'!B4206","v":0},{"$f":"'SHALA DARPAN DATA'!D4206","v":0},{"$f":"'SHALA DARPAN DATA'!J4206","v":0},{"$f":"'SHALA DARPAN DATA'!T4206","v":0},{"$f":"'SHALA DARPAN DATA'!V4206","v":0},{"$f":"'SHALA DARPAN DATA'!K4206","v":0},{"$f":"'SHALA DARPAN DATA'!E4206","v":0},{"$f":"'SHALA DARPAN DATA'!G4206","v":0},{"$f":"'SHALA DARPAN DATA'!H4206","v":0},{"$f":"'SHALA DARPAN DATA'!W4206","v":0},{"$f":"'SHALA DARPAN DATA'!R4206","v":0},{"$f":"'SHALA DARPAN DATA'!S4206","v":0},{"$f":"'SHALA DARPAN DATA'!O4206","v":0},0,0,0,0,0,0,0,0,0,0,0]
[{"$f":"'SHALA DARPAN DATA'!C4207","v":0},{"$f":"'SHALA DARPAN DATA'!A4207","v":0},{"$f":"'SHALA DARPAN DATA'!B4207","v":0},{"$f":"'SHALA DARPAN DATA'!D4207","v":0},{"$f":"'SHALA DARPAN DATA'!J4207","v":0},{"$f":"'SHALA DARPAN DATA'!T4207","v":0},{"$f":"'SHALA DARPAN DATA'!V4207","v":0},{"$f":"'SHALA DARPAN DATA'!K4207","v":0},{"$f":"'SHALA DARPAN DATA'!E4207","v":0},{"$f":"'SHALA DARPAN DATA'!G4207","v":0},{"$f":"'SHALA DARPAN DATA'!H4207","v":0},{"$f":"'SHALA DARPAN DATA'!W4207","v":0},{"$f":"'SHALA DARPAN DATA'!R4207","v":0},{"$f":"'SHALA DARPAN DATA'!S4207","v":0},{"$f":"'SHALA DARPAN DATA'!O4207","v":0},0,0,0,0,0,0,0,0,0,0,0]
[{"$f":"'SHALA DARPAN DATA'!C4211","v":0},{"$f":"'SHALA DARPAN DATA'!A4211","v":0},{"$f":"'SHALA DARPAN DATA'!B4211","v":0},{"$f":"'SHALA DARPAN DATA'!D4211","v":0},{"$f":"'SHALA DARPAN DATA'!J4211","v":0},{"$f":"'SHALA DARPAN DATA'!T4211","v":0},{"$f":"'SHALA DARPAN DATA'!V4211","v":0},{"$f":"'SHALA DARPAN DATA'!K4211","v":0},{"$f":"'SHALA DARPAN DATA'!E4211","v":0},{"$f":"'SHALA DARPAN DATA'!G4211","v":0},{"$f":"'SHALA DARPAN DATA'!H4211","v":0},{"$f":"'SHALA DARPAN DATA'!W4211","v":0},{"$f":"'SHALA DARPAN DATA'!R4211","v":0},{"$f":"'SHALA DARPAN DATA'!S4211","v":0},{"$f":"'SHALA DARPAN DATA'!O4211","v":0},0,0,0,0,0,0,0,0,0,0,0]
[{"$f":"'SHALA DARPAN DATA'!C4216","v":0},{"$f":"'SHALA DARPAN DATA'!A4216","v":0},{"$f":"'SHALA DARPAN DATA'!B4216","v":0},{"$f":"'SHALA DARPAN DATA'!D4216","v":0},{"$f":"'SHALA DARPAN DATA'!J4216","v":0},{"$f":"'SHALA DARPAN DATA'!T4216","v":0},{"$f":"'SHALA DARPAN DATA'!V4216","v":0},{"$f":"'SHALA DARPAN DATA'!K4216","v":0},{"$f":"'SHALA DARPAN DATA'!E4216","v":0},{"$f":"'SHALA DARPAN DATA'!G4216","v":0},{"$f":"'SHALA DARPAN DATA'!H4216","v":0},{"$f":"'SHALA DARPAN DATA'!W4216","v":0},{"$f":"'SHALA DARPAN DATA'!R4216","v":0},{"$f":"'SHALA DARPAN DATA'!S4216","v":0},{"$f":"'SHALA DARPAN DATA'!O4216","v":0},0,0,0,0,0,0,0,0,0,0,0]
[{"$f":"'SHALA DARPAN DATA'!C4221","v":0},{"$f":"'SHALA DARPAN DATA'!A4221","v":0},{"$f":"'SHALA DARPAN DATA'!B4221","v":0},{"$f":"'SHALA DARPAN DATA'!D4221","v":0},{"$f":"'SHALA DARPAN DATA'!J4221","v":0},{"$f":"'SHALA DARPAN DATA'!T4221","v":0},{"$f":"'SHALA DARPAN DATA'!V4221","v":0},{"$f":"'SHALA DARPAN DATA'!K4221","v":0},{"$f":"'SHALA DARPAN DATA'!E4221","v":0},{"$f":"'SHALA DARPAN DATA'!G4221","v":0},{"$f":"'SHALA DARPAN DATA'!H4221","v":0},{"$f":"'SHALA DARPAN DATA'!W4221","v":0},{"$f":"'SHALA DARPAN DATA'!R4221","v":0},{"$f":"'SHALA DARPAN DATA'!S4221","v":0},{"$f":"'SHALA DARPAN DATA'!O4221","v":0},0,0,0,0,0,0,0,0,0,0,0]
[{"$f":"'SHALA DARPAN DATA'!C4222","v":0},{"$f":"'SHALA DARPAN DATA'!A4222","v":0},{"$f":"'SHALA DARPAN DATA'!B4222","v":0},{"$f":"'SHALA DARPAN DATA'!D4222","v":0},{"$f":"'SHALA DARPAN DATA'!J4222","v":0},{"$f":"'SHALA DARPAN DATA'!T4222","v":0},{"$f":"'SHALA DARPAN DATA'!V4222","v":0},{"$f":"'SHALA DARPAN DATA'!K4222","v":0},{"$f":"'SHALA DARPAN DATA'!E4222","v":0},{"$f":"'SHALA DARPAN DATA'!G4222","v":0},{"$f":"'SHALA DARPAN DATA'!H4222","v":0},{"$f":"'SHALA DARPAN DATA'!W4222","v":0},{"$f":"'SHALA DARPAN DATA'!R4222","v":0},{"$f":"'SHALA DARPAN DATA'!S4222","v":0},{"$f":"'SHALA DARPAN DATA'!O4222","v":0},0,0,0,0,0,0,0,0,0,0,0]
[{"$f":"'SHALA DARPAN DATA'!C4228","v":0},{"$f":"'SHALA DARPAN DATA'!A4228","v":0},{"$f":"'SHALA DARPAN DATA'!B4228","v":0},{"$f":"'SHALA DARPAN DATA'!D4228","v":0},{"$f":"'SHALA DARPAN DATA'!J4228","v":0},{"$f":"'SHALA DARPAN DATA'!T4228","v":0},{"$f":"'SHALA DARPAN DATA'!V4228","v":0},{"$f":"'SHALA DARPAN DATA'!K4228","v":0},{"$f":"'SHALA DARPAN DATA'!E4228","v":0},{"$f":"'SHALA DARPAN DATA'!G4228","v":0},{"$f":"'SHALA DARPAN DATA'!H4228","v":0},{"$f":"'SHALA DARPAN DATA'!W4228","v":0},{"$f":"'SHALA DARPAN DATA'!R4228","v":0},{"$f":"'SHALA DARPAN DATA'!S4228","v":0},{"$f":"'SHALA DARPAN DATA'!O4228","v":0},0,0,0,0,0,0,0,0,0,0,0]
[{"$f":"'SHALA DARPAN DATA'!C4231","v":0},{"$f":"'SHALA DARPAN DATA'!A4231","v":0},{"$f":"'SHALA DARPAN DATA'!B4231","v":0},{"$f":"'SHALA DARPAN DATA'!D4231","v":0},{"$f":"'SHALA DARPAN DATA'!J4231","v":0},{"$f":"'SHALA DARPAN DATA'!T4231","v":0},{"$f":"'SHALA DARPAN DATA'!V4231","v":0},{"$f":"'SHALA DARPAN DATA'!K4231","v":0},{"$f":"'SHALA DARPAN DATA'!E4231","v":0},{"$f":"'SHALA DARPAN DATA'!G4231","v":0},{"$f":"'SHALA DARPAN DATA'!H4231","v":0},{"$f":"'SHALA DARPAN DATA'!W4231","v":0},{"$f":"'SHALA DARPAN DATA'!R4231","v":0},{"$f":"'SHALA DARPAN DATA'!S4231","v":0},{"$f":"'SHALA DARPAN DATA'!O4231","v":0},0,0,0,0,0,0,0,0,0,0,0]
[{"$f":"'SHALA DARPAN DATA'!C4236","v":0},{"$f":"'SHALA DARPAN DATA'!A4236","v":0},{"$f":"'SHALA DARPAN DATA'!B4236","v":0},{"$f":"'SHALA DARPAN DATA'!D4236","v":0},{"$f":"'SHALA DARPAN DATA'!J4236","v":0},{"$f":"'SHALA DARPAN DATA'!T4236","v":0},{"$f":"'SHALA DARPAN DATA'!V4236","v":0},{"$f":"'SHALA DARPAN DATA'!K4236","v":0},{"$f":"'SHALA DARPAN DATA'!E4236","v":0},{"$f":"'SHALA DARPAN DATA'!G4236","v":0},{"$f":"'SHALA DARPAN DATA'!H4236","v":0},{"$f":"'SHALA DARPAN DATA'!W4236","v":0},{"$f":"'SHALA DARPAN DATA'!R4236","v":0},{"$f":"'SHALA DARPAN DATA'!S4236","v":0},{"$f":"'SHALA DARPAN DATA'!O4236","v":0},0,0,0,0,0,0,0,0,0,0,0]
[{"$f":"'SHALA DARPAN DATA'!C4237","v":0},{"$f":"'SHALA DARPAN DATA'!A4237","v":0},{"$f":"'SHALA DARPAN DATA'!B4237","v":0},{"$f":"'SHALA DARPAN DATA'!D4237","v":0},{"$f":"'SHALA DARPAN DATA'!J4237","v":0},{"$f":"'SHALA DARPAN DATA'!T4237","v":0},{"$f":"'SHALA DARPAN DATA'!V4237","v":0},{"$f":"'SHALA DARPAN DATA'!K4237","v":0},{"$f":"'SHALA DARPAN DATA'!E4237","v":0},{"$f":"'SHALA DARPAN DATA'!G4237","v":0},{"$f":"'SHALA DARPAN DATA'!H4237","v":0},{"$f":"'SHALA DARPAN DATA'!W4237","v":0},{"$f":"'SHALA DARPAN DATA'!R4237","v":0},{"$f":"'SHALA DARPAN DATA'!S4237","v":0},{"$f":"'SHALA DARPAN DATA'!O4237","v":0},0,0,0,0,0,0,0,0,0,0,0]
[{"$f":"'SHALA DARPAN DATA'!C4242","v":0},{"$f":"'SHALA DARPAN DATA'!A4242","v":0},{"$f":"'SHALA DARPAN DATA'!B4242","v":0},{"$f":"'SHALA DARPAN DATA'!D4242","v":0},{"$f":"'SHALA DARPAN DATA'!J4242","v":0},{"$f":"'SHALA DARPAN DATA'!T4242","v":0},{"$f":"'SHALA DARPAN DATA'!V4242","v":0},{"$f":"'SHALA DARPAN DATA'!K4242","v":0},{"$f":"'SHALA DARPAN DATA'!E4242","v":0},{"$f":"'SHALA DARPAN DATA'!G4242","v":0},{"$f":"'SHALA DARPAN DATA'!H4242","v":0},{"$f":"'SHALA DARPAN DATA'!W4242","v":0},{"$f":"'SHALA DARPAN DATA'!R4242","v":0},{"$f":"'SHALA DARPAN DATA'!S4242","v":0},{"$f":"'SHALA DARPAN DATA'!O4242","v":0},0,0,0,0,0,0,0,0,0,0,0]
[{"$f":"'SHALA DARPAN DATA'!C4246","v":0},{"$f":"'SHALA DARPAN DATA'!A4246","v":0},{"$f":"'SHALA DARPAN DATA'!B4246","v":0},{"$f":"'SHALA DARPAN DATA'!D4246","v":0},{"$f":"'SHALA DARPAN DATA'!J4246","v":0},{"$f":"'SHALA DARPAN DATA'!T4246","v":0},{"$f":"'SHALA DARPAN DATA'!V4246","v":0},{"$f":"'SHALA DARPAN DATA'!K4246","v":0},{"$f":"'SHALA DARPAN DATA'!E4246","v":0},{"$f":"'SHALA DARPAN DATA'!G4246","v":0},{"$f":"'SHALA DARPAN DATA'!H4246","v":0},{"$f":"'SHALA DARPAN DATA'!W4246","v":0},{"$f":"'SHALA DARPAN DATA'!R4246","v":0},{"$f":"'SHALA DARPAN DATA'!S4246","v":0},{"$f":"'SHALA DARPAN DATA'!O4246","v":0},0,0,0,0,0,0,0,0,0,0,0]
[{"$f":"'SHALA DARPAN DATA'!C4251","v":0},{"$f":"'SHALA DARPAN DATA'!A4251","v":0},{"$f":"'SHALA DARPAN DATA'!B4251","v":0},{"$f":"'SHALA DARPAN DATA'!D4251","v":0},{"$f":"'SHALA DARPAN DATA'!J4251","v":0},{"$f":"'SHALA DARPAN DATA'!T4251","v":0},{"$f":"'SHALA DARPAN DATA'!V4251","v":0},{"$f":"'SHALA DARPAN DATA'!K4251","v":0},{"$f":"'SHALA DARPAN DATA'!E4251","v":0},{"$f":"'SHALA DARPAN DATA'!G4251","v":0},{"$f":"'SHALA DARPAN DATA'!H4251","v":0},{"$f":"'SHALA DARPAN DATA'!W4251","v":0},{"$f":"'SHALA DARPAN DATA'!R4251","v":0},{"$f":"'SHALA DARPAN DATA'!S4251","v":0},{"$f":"'SHALA DARPAN DATA'!O4251","v":0},0,0,0,0,0,0,0,0,0,0,0]
[{"$f":"'SHALA DARPAN DATA'!C4252","v":0},{"$f":"'SHALA DARPAN DATA'!A4252","v":0},{"$f":"'SHALA DARPAN DATA'!B4252","v":0},{"$f":"'SHALA DARPAN DATA'!D4252","v":0},{"$f":"'SHALA DARPAN DATA'!J4252","v":0},{"$f":"'SHALA DARPAN DATA'!T4252","v":0},{"$f":"'SHALA DARPAN DATA'!V4252","v":0},{"$f":"'SHALA DARPAN DATA'!K4252","v":0},{"$f":"'SHALA DARPAN DATA'!E4252","v":0},{"$f":"'SHALA DARPAN DATA'!G4252","v":0},{"$f":"'SHALA DARPAN DATA'!H4252","v":0},{"$f":"'SHALA DARPAN DATA'!W4252","v":0},{"$f":"'SHALA DARPAN DATA'!R4252","v":0},{"$f":"'SHALA DARPAN DATA'!S4252","v":0},{"$f":"'SHALA DARPAN DATA'!O4252","v":0},0,0,0,0,0,0,0,0,0,0,0]
[{"$f":"'SHALA DARPAN DATA'!C4258","v":0},{"$f":"'SHALA DARPAN DATA'!A4258","v":0},{"$f":"'SHALA DARPAN DATA'!B4258","v":0},{"$f":"'SHALA DARPAN DATA'!D4258","v":0},{"$f":"'SHALA DARPAN DATA'!J4258","v":0},{"$f":"'SHALA DARPAN DATA'!T4258","v":0},{"$f":"'SHALA DARPAN DATA'!V4258","v":0},{"$f":"'SHALA DARPAN DATA'!K4258","v":0},{"$f":"'SHALA DARPAN DATA'!E4258","v":0},{"$f":"'SHALA DARPAN DATA'!G4258","v":0},{"$f":"'SHALA DARPAN DATA'!H4258","v":0},{"$f":"'SHALA DARPAN DATA'!W4258","v":0},{"$f":"'SHALA DARPAN DATA'!R4258","v":0},{"$f":"'SHALA DARPAN DATA'!S4258","v":0},{"$f":"'SHALA DARPAN DATA'!O4258","v":0},0,0,0,0,0,0,0,0,0,0,0]
[{"$f":"'SHALA DARPAN DATA'!C4261","v":0},{"$f":"'SHALA DARPAN DATA'!A4261","v":0},{"$f":"'SHALA DARPAN DATA'!B4261","v":0},{"$f":"'SHALA DARPAN DATA'!D4261","v":0},{"$f":"'SHALA DARPAN DATA'!J4261","v":0},{"$f":"'SHALA DARPAN DATA'!T4261","v":0},{"$f":"'SHALA DARPAN DATA'!V4261","v":0},{"$f":"'SHALA DARPAN DATA'!K4261","v":0},{"$f":"'SHALA DARPAN DATA'!E4261","v":0},{"$f":"'SHALA DARPAN DATA'!G4261","v":0},{"$f":"'SHALA DARPAN DATA'!H4261","v":0},{"$f":"'SHALA DARPAN DATA'!W4261","v":0},{"$f":"'SHALA DARPAN DATA'!R4261","v":0},{"$f":"'SHALA DARPAN DATA'!S4261","v":0},{"$f":"'SHALA DARPAN DATA'!O4261","v":0},0,0,0,0,0,0,0,0,0,0,0]
[{"$f":"'SHALA DARPAN DATA'!C4266","v":0},{"$f":"'SHALA DARPAN DATA'!A4266","v":0},{"$f":"'SHALA DARPAN DATA'!B4266","v":0},{"$f":"'SHALA DARPAN DATA'!D4266","v":0},{"$f":"'SHALA DARPAN DATA'!J4266","v":0},{"$f":"'SHALA DARPAN DATA'!T4266","v":0},{"$f":"'SHALA DARPAN DATA'!V4266","v":0},{"$f":"'SHALA DARPAN DATA'!K4266","v":0},{"$f":"'SHALA DARPAN DATA'!E4266","v":0},{"$f":"'SHALA DARPAN DATA'!G4266","v":0},{"$f":"'SHALA DARPAN DATA'!H4266","v":0},{"$f":"'SHALA DARPAN DATA'!W4266","v":0},{"$f":"'SHALA DARPAN DATA'!R4266","v":0},{"$f":"'SHALA DARPAN DATA'!S4266","v":0},{"$f":"'SHALA DARPAN DATA'!O4266","v":0},0,0,0,0,0,0,0,0,0,0,0]
[{"$f":"'SHALA DARPAN DATA'!C4267","v":0},{"$f":"'SHALA DARPAN DATA'!A4267","v":0},{"$f":"'SHALA DARPAN DATA'!B4267","v":0},{"$f":"'SHALA DARPAN DATA'!D4267","v":0},{"$f":"'SHALA DARPAN DATA'!J4267","v":0},{"$f":"'SHALA DARPAN DATA'!T4267","v":0},{"$f":"'SHALA DARPAN DATA'!V4267","v":0},{"$f":"'SHALA DARPAN DATA'!K4267","v":0},{"$f":"'SHALA DARPAN DATA'!E4267","v":0},{"$f":"'SHALA DARPAN DATA'!G4267","v":0},{"$f":"'SHALA DARPAN DATA'!H4267","v":0},{"$f":"'SHALA DARPAN DATA'!W4267","v":0},{"$f":"'SHALA DARPAN DATA'!R4267","v":0},{"$f":"'SHALA DARPAN DATA'!S4267","v":0},{"$f":"'SHALA DARPAN DATA'!O4267","v":0},0,0,0,0,0,0,0,0,0,0,0]
[{"$f":"'SHALA DARPAN DATA'!C4272","v":0},{"$f":"'SHALA DARPAN DATA'!A4272","v":0},{"$f":"'SHALA DARPAN DATA'!B4272","v":0},{"$f":"'SHALA DARPAN DATA'!D4272","v":0},{"$f":"'SHALA DARPAN DATA'!J4272","v":0},{"$f":"'SHALA DARPAN DATA'!T4272","v":0},{"$f":"'SHALA DARPAN DATA'!V4272","v":0},{"$f":"'SHALA DARPAN DATA'!K4272","v":0},{"$f":"'SHALA DARPAN DATA'!E4272","v":0},{"$f":"'SHALA DARPAN DATA'!G4272","v":0},{"$f":"'SHALA DARPAN DATA'!H4272","v":0},{"$f":"'SHALA DARPAN DATA'!W4272","v":0},{"$f":"'SHALA DARPAN DATA'!R4272","v":0},{"$f":"'SHALA DARPAN DATA'!S4272","v":0},{"$f":"'SHALA DARPAN DATA'!O4272","v":0},0,0,0,0,0,0,0,0,0,0,0]
[{"$f":"'SHALA DARPAN DATA'!C4276","v":0},{"$f":"'SHALA DARPAN DATA'!A4276","v":0},{"$f":"'SHALA DARPAN DATA'!B4276","v":0},{"$f":"'SHALA DARPAN DATA'!D4276","v":0},{"$f":"'SHALA DARPAN DATA'!J4276","v":0},{"$f":"'SHALA DARPAN DATA'!T4276","v":0},{"$f":"'SHALA DARPAN DATA'!V4276","v":0},{"$f":"'SHALA DARPAN DATA'!K4276","v":0},{"$f":"'SHALA DARPAN DATA'!E4276","v":0},{"$f":"'SHALA DARPAN DATA'!G4276","v":0},{"$f":"'SHALA DARPAN DATA'!H4276","v":0},{"$f":"'SHALA DARPAN DATA'!W4276","v":0},{"$f":"'SHALA DARPAN DATA'!R4276","v":0},{"$f":"'SHALA DARPAN DATA'!S4276","v":0},{"$f":"'SHALA DARPAN DATA'!O4276","v":0},0,0,0,0,0,0,0,0,0,0,0]
[{"$f":"'SHALA DARPAN DATA'!C4281","v":0},{"$f":"'SHALA DARPAN DATA'!A4281","v":0},{"$f":"'SHALA DARPAN DATA'!B4281","v":0},{"$f":"'SHALA DARPAN DATA'!D4281","v":0},{"$f":"'SHALA DARPAN DATA'!J4281","v":0},{"$f":"'SHALA DARPAN DATA'!T4281","v":0},{"$f":"'SHALA DARPAN DATA'!V4281","v":0},{"$f":"'SHALA DARPAN DATA'!K4281","v":0},{"$f":"'SHALA DARPAN DATA'!E4281","v":0},{"$f":"'SHALA DARPAN DATA'!G4281","v":0},{"$f":"'SHALA DARPAN DATA'!H4281","v":0},{"$f":"'SHALA DARPAN DATA'!W4281","v":0},{"$f":"'SHALA DARPAN DATA'!R4281","v":0},{"$f":"'SHALA DARPAN DATA'!S4281","v":0},{"$f":"'SHALA DARPAN DATA'!O4281","v":0},0,0,0,0,0,0,0,0,0,0,0]
[{"$f":"'SHALA DARPAN DATA'!C4282","v":0},{"$f":"'SHALA DARPAN DATA'!A4282","v":0},{"$f":"'SHALA DARPAN DATA'!B4282","v":0},{"$f":"'SHALA DARPAN DATA'!D4282","v":0},{"$f":"'SHALA DARPAN DATA'!J4282","v":0},{"$f":"'SHALA DARPAN DATA'!T4282","v":0},{"$f":"'SHALA DARPAN DATA'!V4282","v":0},{"$f":"'SHALA DARPAN DATA'!K4282","v":0},{"$f":"'SHALA DARPAN DATA'!E4282","v":0},{"$f":"'SHALA DARPAN DATA'!G4282","v":0},{"$f":"'SHALA DARPAN DATA'!H4282","v":0},{"$f":"'SHALA DARPAN DATA'!W4282","v":0},{"$f":"'SHALA DARPAN DATA'!R4282","v":0},{"$f":"'SHALA DARPAN DATA'!S4282","v":0},{"$f":"'SHALA DARPAN DATA'!O4282","v":0},0,0,0,0,0,0,0,0,0,0,0]
[{"$f":"'SHALA DARPAN DATA'!C4288","v":0},{"$f":"'SHALA DARPAN DATA'!A4288","v":0},{"$f":"'SHALA DARPAN DATA'!B4288","v":0},{"$f":"'SHALA DARPAN DATA'!D4288","v":0},{"$f":"'SHALA DARPAN DATA'!J4288","v":0},{"$f":"'SHALA DARPAN DATA'!T4288","v":0},{"$f":"'SHALA DARPAN DATA'!V4288","v":0},{"$f":"'SHALA DARPAN DATA'!K4288","v":0},{"$f":"'SHALA DARPAN DATA'!E4288","v":0},{"$f":"'SHALA DARPAN DATA'!G4288","v":0},{"$f":"'SHALA DARPAN DATA'!H4288","v":0},{"$f":"'SHALA DARPAN DATA'!W4288","v":0},{"$f":"'SHALA DARPAN DATA'!R4288","v":0},{"$f":"'SHALA DARPAN DATA'!S4288","v":0},{"$f":"'SHALA DARPAN DATA'!O4288","v":0},0,0,0,0,0,0,0,0,0,0,0]
[{"$f":"'SHALA DARPAN DATA'!C4291","v":0},{"$f":"'SHALA DARPAN DATA'!A4291","v":0},{"$f":"'SHALA DARPAN DATA'!B4291","v":0},{"$f":"'SHALA DARPAN DATA'!D4291","v":0},{"$f":"'SHALA DARPAN DATA'!J4291","v":0},{"$f":"'SHALA DARPAN DATA'!T4291","v":0},{"$f":"'SHALA DARPAN DATA'!V4291","v":0},{"$f":"'SHALA DARPAN DATA'!K4291","v":0},{"$f":"'SHALA DARPAN DATA'!E4291","v":0},{"$f":"'SHALA DARPAN DATA'!G4291","v":0},{"$f":"'SHALA DARPAN DATA'!H4291","v":0},{"$f":"'SHALA DARPAN DATA'!W4291","v":0},{"$f":"'SHALA DARPAN DATA'!R4291","v":0},{"$f":"'SHALA DARPAN DATA'!S4291","v":0},{"$f":"'SHALA DARPAN DATA'!O4291","v":0},0,0,0,0,0,0,0,0,0,0,0]
[{"$f":"'SHALA DARPAN DATA'!C4296","v":0},{"$f":"'SHALA DARPAN DATA'!A4296","v":0},{"$f":"'SHALA DARPAN DATA'!B4296","v":0},{"$f":"'SHALA DARPAN DATA'!D4296","v":0},{"$f":"'SHALA DARPAN DATA'!J4296","v":0},{"$f":"'SHALA DARPAN DATA'!T4296","v":0},{"$f":"'SHALA DARPAN DATA'!V4296","v":0},{"$f":"'SHALA DARPAN DATA'!K4296","v":0},{"$f":"'SHALA DARPAN DATA'!E4296","v":0},{"$f":"'SHALA DARPAN DATA'!G4296","v":0},{"$f":"'SHALA DARPAN DATA'!H4296","v":0},{"$f":"'SHALA DARPAN DATA'!W4296","v":0},{"$f":"'SHALA DARPAN DATA'!R4296","v":0},{"$f":"'SHALA DARPAN DATA'!S4296","v":0},{"$f":"'SHALA DARPAN DATA'!O4296","v":0},0,0,0,0,0,0,0,0,0,0,0]
[{"$f":"'SHALA DARPAN DATA'!C4297","v":0},{"$f":"'SHALA DARPAN DATA'!A4297","v":0},{"$f":"'SHALA DARPAN DATA'!B4297","v":0},{"$f":"'SHALA DARPAN DATA'!D4297","v":0},{"$f":"'SHALA DARPAN DATA'!J4297","v":0},{"$f":"'SHALA DARPAN DATA'!T4297","v":0},{"$f":"'SHALA DARPAN DATA'!V4297","v":0},{"$f":"'SHALA DARPAN DATA'!K4297","v":0},{"$f":"'SHALA DARPAN DATA'!E4297","v":0},{"$f":"'SHALA DARPAN DATA'!G4297","v":0},{"$f":"'SHALA DARPAN DATA'!H4297","v":0},{"$f":"'SHALA DARPAN DATA'!W4297","v":0},{"$f":"'SHALA DARPAN DATA'!R4297","v":0},{"$f":"'SHALA DARPAN DATA'!S4297","v":0},{"$f":"'SHALA DARPAN DATA'!O4297","v":0},0,0,0,0,0,0,0,0,0,0,0]
[{"$f":"'SHALA DARPAN DATA'!C4302","v":0},{"$f":"'SHALA DARPAN DATA'!A4302","v":0},{"$f":"'SHALA DARPAN DATA'!B4302","v":0},{"$f":"'SHALA DARPAN DATA'!D4302","v":0},{"$f":"'SHALA DARPAN DATA'!J4302","v":0},{"$f":"'SHALA DARPAN DATA'!T4302","v":0},{"$f":"'SHALA DARPAN DATA'!V4302","v":0},{"$f":"'SHALA DARPAN DATA'!K4302","v":0},{"$f":"'SHALA DARPAN DATA'!E4302","v":0},{"$f":"'SHALA DARPAN DATA'!G4302","v":0},{"$f":"'SHALA DARPAN DATA'!H4302","v":0},{"$f":"'SHALA DARPAN DATA'!W4302","v":0},{"$f":"'SHALA DARPAN DATA'!R4302","v":0},{"$f":"'SHALA DARPAN DATA'!S4302","v":0},{"$f":"'SHALA DARPAN DATA'!O4302","v":0},0,0,0,0,0,0,0,0,0,0,0]
[{"$f":"'SHALA DARPAN DATA'!C4306","v":0},{"$f":"'SHALA DARPAN DATA'!A4306","v":0},{"$f":"'SHALA DARPAN DATA'!B4306","v":0},{"$f":"'SHALA DARPAN DATA'!D4306","v":0},{"$f":"'SHALA DARPAN DATA'!J4306","v":0},{"$f":"'SHALA DARPAN DATA'!T4306","v":0},{"$f":"'SHALA DARPAN DATA'!V4306","v":0},{"$f":"'SHALA DARPAN DATA'!K4306","v":0},{"$f":"'SHALA DARPAN DATA'!E4306","v":0},{"$f":"'SHALA DARPAN DATA'!G4306","v":0},{"$f":"'SHALA DARPAN DATA'!H4306","v":0},{"$f":"'SHALA DARPAN DATA'!W4306","v":0},{"$f":"'SHALA DARPAN DATA'!R4306","v":0},{"$f":"'SHALA DARPAN DATA'!S4306","v":0},{"$f":"'SHALA DARPAN DATA'!O4306","v":0},0,0,0,0,0,0,0,0,0,0,0]
[{"$f":"'SHALA DARPAN DATA'!C4311","v":0},{"$f":"'SHALA DARPAN DATA'!A4311","v":0},{"$f":"'SHALA DARPAN DATA'!B4311","v":0},{"$f":"'SHALA DARPAN DATA'!D4311","v":0},{"$f":"'SHALA DARPAN DATA'!J4311","v":0},{"$f":"'SHALA DARPAN DATA'!T4311","v":0},{"$f":"'SHALA DARPAN DATA'!V4311","v":0},{"$f":"'SHALA DARPAN DATA'!K4311","v":0},{"$f":"'SHALA DARPAN DATA'!E4311","v":0},{"$f":"'SHALA DARPAN DATA'!G4311","v":0},{"$f":"'SHALA DARPAN DATA'!H4311","v":0},{"$f":"'SHALA DARPAN DATA'!W4311","v":0},{"$f":"'SHALA DARPAN DATA'!R4311","v":0},{"$f":"'SHALA DARPAN DATA'!S4311","v":0},{"$f":"'SHALA DARPAN DATA'!O4311","v":0},0,0,0,0,0,0,0,0,0,0,0]
[{"$f":"'SHALA DARPAN DATA'!C4312","v":0},{"$f":"'SHALA DARPAN DATA'!A4312","v":0},{"$f":"'SHALA DARPAN DATA'!B4312","v":0},{"$f":"'SHALA DARPAN DATA'!D4312","v":0},{"$f":"'SHALA DARPAN DATA'!J4312","v":0},{"$f":"'SHALA DARPAN DATA'!T4312","v":0},{"$f":"'SHALA DARPAN DATA'!V4312","v":0},{"$f":"'SHALA DARPAN DATA'!K4312","v":0},{"$f":"'SHALA DARPAN DATA'!E4312","v":0},{"$f":"'SHALA DARPAN DATA'!G4312","v":0},{"$f":"'SHALA DARPAN DATA'!H4312","v":0},{"$f":"'SHALA DARPAN DATA'!W4312","v":0},{"$f":"'SHALA DARPAN DATA'!R4312","v":0},{"$f":"'SHALA DARPAN DATA'!S4312","v":0},{"$f":"'SHALA DARPAN DATA'!O4312","v":0},0,0,0,0,0,0,0,0,0,0,0]
[{"$f":"'SHALA DARPAN DATA'!C4318","v":0},{"$f":"'SHALA DARPAN DATA'!A4318","v":0},{"$f":"'SHALA DARPAN DATA'!B4318","v":0},{"$f":"'SHALA DARPAN DATA'!D4318","v":0},{"$f":"'SHALA DARPAN DATA'!J4318","v":0},{"$f":"'SHALA DARPAN DATA'!T4318","v":0},{"$f":"'SHALA DARPAN DATA'!V4318","v":0},{"$f":"'SHALA DARPAN DATA'!K4318","v":0},{"$f":"'SHALA DARPAN DATA'!E4318","v":0},{"$f":"'SHALA DARPAN DATA'!G4318","v":0},{"$f":"'SHALA DARPAN DATA'!H4318","v":0},{"$f":"'SHALA DARPAN DATA'!W4318","v":0},{"$f":"'SHALA DARPAN DATA'!R4318","v":0},{"$f":"'SHALA DARPAN DATA'!S4318","v":0},{"$f":"'SHALA DARPAN DATA'!O4318","v":0},0,0,0,0,0,0,0,0,0,0,0]
[{"$f":"'SHALA DARPAN DATA'!C4321","v":0},{"$f":"'SHALA DARPAN DATA'!A4321","v":0},{"$f":"'SHALA DARPAN DATA'!B4321","v":0},{"$f":"'SHALA DARPAN DATA'!D4321","v":0},{"$f":"'SHALA DARPAN DATA'!J4321","v":0},{"$f":"'SHALA DARPAN DATA'!T4321","v":0},{"$f":"'SHALA DARPAN DATA'!V4321","v":0},{"$f":"'SHALA DARPAN DATA'!K4321","v":0},{"$f":"'SHALA DARPAN DATA'!E4321","v":0},{"$f":"'SHALA DARPAN DATA'!G4321","v":0},{"$f":"'SHALA DARPAN DATA'!H4321","v":0},{"$f":"'SHALA DARPAN DATA'!W4321","v":0},{"$f":"'SHALA DARPAN DATA'!R4321","v":0},{"$f":"'SHALA DARPAN DATA'!S4321","v":0},{"$f":"'SHALA DARPAN DATA'!O4321","v":0},0,0,0,0,0,0,0,0,0,0,0]
[{"$f":"'SHALA DARPAN DATA'!C4326","v":0},{"$f":"'SHALA DARPAN DATA'!A4326","v":0},{"$f":"'SHALA DARPAN DATA'!B4326","v":0},{"$f":"'SHALA DARPAN DATA'!D4326","v":0},{"$f":"'SHALA DARPAN DATA'!J4326","v":0},{"$f":"'SHALA DARPAN DATA'!T4326","v":0},{"$f":"'SHALA DARPAN DATA'!V4326","v":0},{"$f":"'SHALA DARPAN DATA'!K4326","v":0},{"$f":"'SHALA DARPAN DATA'!E4326","v":0},{"$f":"'SHALA DARPAN DATA'!G4326","v":0},{"$f":"'SHALA DARPAN DATA'!H4326","v":0},{"$f":"'SHALA DARPAN DATA'!W4326","v":0},{"$f":"'SHALA DARPAN DATA'!R4326","v":0},{"$f":"'SHALA DARPAN DATA'!S4326","v":0},{"$f":"'SHALA DARPAN DATA'!O4326","v":0},0,0,0,0,0,0,0,0,0,0,0]
[{"$f":"'SHALA DARPAN DATA'!C4327","v":0},{"$f":"'SHALA DARPAN DATA'!A4327","v":0},{"$f":"'SHALA DARPAN DATA'!B4327","v":0},{"$f":"'SHALA DARPAN DATA'!D4327","v":0},{"$f":"'SHALA DARPAN DATA'!J4327","v":0},{"$f":"'SHALA DARPAN DATA'!T4327","v":0},{"$f":"'SHALA DARPAN DATA'!V4327","v":0},{"$f":"'SHALA DARPAN DATA'!K4327","v":0},{"$f":"'SHALA DARPAN DATA'!E4327","v":0},{"$f":"'SHALA DARPAN DATA'!G4327","v":0},{"$f":"'SHALA DARPAN DATA'!H4327","v":0},{"$f":"'SHALA DARPAN DATA'!W4327","v":0},{"$f":"'SHALA DARPAN DATA'!R4327","v":0},{"$f":"'SHALA DARPAN DATA'!S4327","v":0},{"$f":"'SHALA DARPAN DATA'!O4327","v":0},0,0,0,0,0,0,0,0,0,0,0]
[{"$f":"'SHALA DARPAN DATA'!C4332","v":0},{"$f":"'SHALA DARPAN DATA'!A4332","v":0},{"$f":"'SHALA DARPAN DATA'!B4332","v":0},{"$f":"'SHALA DARPAN DATA'!D4332","v":0},{"$f":"'SHALA DARPAN DATA'!J4332","v":0},{"$f":"'SHALA DARPAN DATA'!T4332","v":0},{"$f":"'SHALA DARPAN DATA'!V4332","v":0},{"$f":"'SHALA DARPAN DATA'!K4332","v":0},{"$f":"'SHALA DARPAN DATA'!E4332","v":0},{"$f":"'SHALA DARPAN DATA'!G4332","v":0},{"$f":"'SHALA DARPAN DATA'!H4332","v":0},{"$f":"'SHALA DARPAN DATA'!W4332","v":0},{"$f":"'SHALA DARPAN DATA'!R4332","v":0},{"$f":"'SHALA DARPAN DATA'!S4332","v":0},{"$f":"'SHALA DARPAN DATA'!O4332","v":0},0,0,0,0,0,0,0,0,0,0,0]
[{"$f":"'SHALA DARPAN DATA'!C4336","v":0},{"$f":"'SHALA DARPAN DATA'!A4336","v":0},{"$f":"'SHALA DARPAN DATA'!B4336","v":0},{"$f":"'SHALA DARPAN DATA'!D4336","v":0},{"$f":"'SHALA DARPAN DATA'!J4336","v":0},{"$f":"'SHALA DARPAN DATA'!T4336","v":0},{"$f":"'SHALA DARPAN DATA'!V4336","v":0},{"$f":"'SHALA DARPAN DATA'!K4336","v":0},{"$f":"'SHALA DARPAN DATA'!E4336","v":0},{"$f":"'SHALA DARPAN DATA'!G4336","v":0},{"$f":"'SHALA DARPAN DATA'!H4336","v":0},{"$f":"'SHALA DARPAN DATA'!W4336","v":0},{"$f":"'SHALA DARPAN DATA'!R4336","v":0},{"$f":"'SHALA DARPAN DATA'!S4336","v":0},{"$f":"'SHALA DARPAN DATA'!O4336","v":0},0,0,0,0,0,0,0,0,0,0,0]
[{"$f":"'SHALA DARPAN DATA'!C4341","v":0},{"$f":"'SHALA DARPAN DATA'!A4341","v":0},{"$f":"'SHALA DARPAN DATA'!B4341","v":0},{"$f":"'SHALA DARPAN DATA'!D4341","v":0},{"$f":"'SHALA DARPAN DATA'!J4341","v":0},{"$f":"'SHALA DARPAN DATA'!T4341","v":0},{"$f":"'SHALA DARPAN DATA'!V4341","v":0},{"$f":"'SHALA DARPAN DATA'!K4341","v":0},{"$f":"'SHALA DARPAN DATA'!E4341","v":0},{"$f":"'SHALA DARPAN DATA'!G4341","v":0},{"$f":"'SHALA DARPAN DATA'!H4341","v":0},{"$f":"'SHALA DARPAN DATA'!W4341","v":0},{"$f":"'SHALA DARPAN DATA'!R4341","v":0},{"$f":"'SHALA DARPAN DATA'!S4341","v":0},{"$f":"'SHALA DARPAN DATA'!O4341","v":0},0,0,0,0,0,0,0,0,0,0,0]
[{"$f":"'SHALA DARPAN DATA'!C4342","v":0},{"$f":"'SHALA DARPAN DATA'!A4342","v":0},{"$f":"'SHALA DARPAN DATA'!B4342","v":0},{"$f":"'SHALA DARPAN DATA'!D4342","v":0},{"$f":"'SHALA DARPAN DATA'!J4342","v":0},{"$f":"'SHALA DARPAN DATA'!T4342","v":0},{"$f":"'SHALA DARPAN DATA'!V4342","v":0},{"$f":"'SHALA DARPAN DATA'!K4342","v":0},{"$f":"'SHALA DARPAN DATA'!E4342","v":0},{"$f":"'SHALA DARPAN DATA'!G4342","v":0},{"$f":"'SHALA DARPAN DATA'!H4342","v":0},{"$f":"'SHALA DARPAN DATA'!W4342","v":0},{"$f":"'SHALA DARPAN DATA'!R4342","v":0},{"$f":"'SHALA DARPAN DATA'!S4342","v":0},{"$f":"'SHALA DARPAN DATA'!O4342","v":0},0,0,0,0,0,0,0,0,0,0,0]
[{"$f":"'SHALA DARPAN DATA'!C4348","v":0},{"$f":"'SHALA DARPAN DATA'!A4348","v":0},{"$f":"'SHALA DARPAN DATA'!B4348","v":0},{"$f":"'SHALA DARPAN DATA'!D4348","v":0},{"$f":"'SHALA DARPAN DATA'!J4348","v":0},{"$f":"'SHALA DARPAN DATA'!T4348","v":0},{"$f":"'SHALA DARPAN DATA'!V4348","v":0},{"$f":"'SHALA DARPAN DATA'!K4348","v":0},{"$f":"'SHALA DARPAN DATA'!E4348","v":0},{"$f":"'SHALA DARPAN DATA'!G4348","v":0},{"$f":"'SHALA DARPAN DATA'!H4348","v":0},{"$f":"'SHALA DARPAN DATA'!W4348","v":0},{"$f":"'SHALA DARPAN DATA'!R4348","v":0},{"$f":"'SHALA DARPAN DATA'!S4348","v":0},{"$f":"'SHALA DARPAN DATA'!O4348","v":0},0,0,0,0,0,0,0,0,0,0,0]
[{"$f":"'SHALA DARPAN DATA'!C4351","v":0},{"$f":"'SHALA DARPAN DATA'!A4351","v":0},{"$f":"'SHALA DARPAN DATA'!B4351","v":0},{"$f":"'SHALA DARPAN DATA'!D4351","v":0},{"$f":"'SHALA DARPAN DATA'!J4351","v":0},{"$f":"'SHALA DARPAN DATA'!T4351","v":0},{"$f":"'SHALA DARPAN DATA'!V4351","v":0},{"$f":"'SHALA DARPAN DATA'!K4351","v":0},{"$f":"'SHALA DARPAN DATA'!E4351","v":0},{"$f":"'SHALA DARPAN DATA'!G4351","v":0},{"$f":"'SHALA DARPAN DATA'!H4351","v":0},{"$f":"'SHALA DARPAN DATA'!W4351","v":0},{"$f":"'SHALA DARPAN DATA'!R4351","v":0},{"$f":"'SHALA DARPAN DATA'!S4351","v":0},{"$f":"'SHALA DARPAN DATA'!O4351","v":0},0,0,0,0,0,0,0,0,0,0,0]
[{"$f":"'SHALA DARPAN DATA'!C4356","v":0},{"$f":"'SHALA DARPAN DATA'!A4356","v":0},{"$f":"'SHALA DARPAN DATA'!B4356","v":0},{"$f":"'SHALA DARPAN DATA'!D4356","v":0},{"$f":"'SHALA DARPAN DATA'!J4356","v":0},{"$f":"'SHALA DARPAN DATA'!T4356","v":0},{"$f":"'SHALA DARPAN DATA'!V4356","v":0},{"$f":"'SHALA DARPAN DATA'!K4356","v":0},{"$f":"'SHALA DARPAN DATA'!E4356","v":0},{"$f":"'SHALA DARPAN DATA'!G4356","v":0},{"$f":"'SHALA DARPAN DATA'!H4356","v":0},{"$f":"'SHALA DARPAN DATA'!W4356","v":0},{"$f":"'SHALA DARPAN DATA'!R4356","v":0},{"$f":"'SHALA DARPAN DATA'!S4356","v":0},{"$f":"'SHALA DARPAN DATA'!O4356","v":0},0,0,0,0,0,0,0,0,0,0,0]
[{"$f":"'SHALA DARPAN DATA'!C4357","v":0},{"$f":"'SHALA DARPAN DATA'!A4357","v":0},{"$f":"'SHALA DARPAN DATA'!B4357","v":0},{"$f":"'SHALA DARPAN DATA'!D4357","v":0},{"$f":"'SHALA DARPAN DATA'!J4357","v":0},{"$f":"'SHALA DARPAN DATA'!T4357","v":0},{"$f":"'SHALA DARPAN DATA'!V4357","v":0},{"$f":"'SHALA DARPAN DATA'!K4357","v":0},{"$f":"'SHALA DARPAN DATA'!E4357","v":0},{"$f":"'SHALA DARPAN DATA'!G4357","v":0},{"$f":"'SHALA DARPAN DATA'!H4357","v":0},{"$f":"'SHALA DARPAN DATA'!W4357","v":0},{"$f":"'SHALA DARPAN DATA'!R4357","v":0},{"$f":"'SHALA DARPAN DATA'!S4357","v":0},{"$f":"'SHALA DARPAN DATA'!O4357","v":0},0,0,0,0,0,0,0,0,0,0,0]
[{"$f":"'SHALA DARPAN DATA'!C4362","v":0},{"$f":"'SHALA DARPAN DATA'!A4362","v":0},{"$f":"'SHALA DARPAN DATA'!B4362","v":0},{"$f":"'SHALA DARPAN DATA'!D4362","v":0},{"$f":"'SHALA DARPAN DATA'!J4362","v":0},{"$f":"'SHALA DARPAN DATA'!T4362","v":0},{"$f":"'SHALA DARPAN DATA'!V4362","v":0},{"$f":"'SHALA DARPAN DATA'!K4362","v":0},{"$f":"'SHALA DARPAN DATA'!E4362","v":0},{"$f":"'SHALA DARPAN DATA'!G4362","v":0},{"$f":"'SHALA DARPAN DATA'!H4362","v":0},{"$f":"'SHALA DARPAN DATA'!W4362","v":0},{"$f":"'SHALA DARPAN DATA'!R4362","v":0},{"$f":"'SHALA DARPAN DATA'!S4362","v":0},{"$f":"'SHALA DARPAN DATA'!O4362","v":0},0,0,0,0,0,0,0,0,0,0,0]
[{"$f":"'SHALA DARPAN DATA'!C4366","v":0},{"$f":"'SHALA DARPAN DATA'!A4366","v":0},{"$f":"'SHALA DARPAN DATA'!B4366","v":0},{"$f":"'SHALA DARPAN DATA'!D4366","v":0},{"$f":"'SHALA DARPAN DATA'!J4366","v":0},{"$f":"'SHALA DARPAN DATA'!T4366","v":0},{"$f":"'SHALA DARPAN DATA'!V4366","v":0},{"$f":"'SHALA DARPAN DATA'!K4366","v":0},{"$f":"'SHALA DARPAN DATA'!E4366","v":0},{"$f":"'SHALA DARPAN DATA'!G4366","v":0},{"$f":"'SHALA DARPAN DATA'!H4366","v":0},{"$f":"'SHALA DARPAN DATA'!W4366","v":0},{"$f":"'SHALA DARPAN DATA'!R4366","v":0},{"$f":"'SHALA DARPAN DATA'!S4366","v":0},{"$f":"'SHALA DARPAN DATA'!O4366","v":0},0,0,0,0,0,0,0,0,0,0,0]
[{"$f":"'SHALA DARPAN DATA'!C4371","v":0},{"$f":"'SHALA DARPAN DATA'!A4371","v":0},{"$f":"'SHALA DARPAN DATA'!B4371","v":0},{"$f":"'SHALA DARPAN DATA'!D4371","v":0},{"$f":"'SHALA DARPAN DATA'!J4371","v":0},{"$f":"'SHALA DARPAN DATA'!T4371","v":0},{"$f":"'SHALA DARPAN DATA'!V4371","v":0},{"$f":"'SHALA DARPAN DATA'!K4371","v":0},{"$f":"'SHALA DARPAN DATA'!E4371","v":0},{"$f":"'SHALA DARPAN DATA'!G4371","v":0},{"$f":"'SHALA DARPAN DATA'!H4371","v":0},{"$f":"'SHALA DARPAN DATA'!W4371","v":0},{"$f":"'SHALA DARPAN DATA'!R4371","v":0},{"$f":"'SHALA DARPAN DATA'!S4371","v":0},{"$f":"'SHALA DARPAN DATA'!O4371","v":0},0,0,0,0,0,0,0,0,0,0,0]
[{"$f":"'SHALA DARPAN DATA'!C4372","v":0},{"$f":"'SHALA DARPAN DATA'!A4372","v":0},{"$f":"'SHALA DARPAN DATA'!B4372","v":0},{"$f":"'SHALA DARPAN DATA'!D4372","v":0},{"$f":"'SHALA DARPAN DATA'!J4372","v":0},{"$f":"'SHALA DARPAN DATA'!T4372","v":0},{"$f":"'SHALA DARPAN DATA'!V4372","v":0},{"$f":"'SHALA DARPAN DATA'!K4372","v":0},{"$f":"'SHALA DARPAN DATA'!E4372","v":0},{"$f":"'SHALA DARPAN DATA'!G4372","v":0},{"$f":"'SHALA DARPAN DATA'!H4372","v":0},{"$f":"'SHALA DARPAN DATA'!W4372","v":0},{"$f":"'SHALA DARPAN DATA'!R4372","v":0},{"$f":"'SHALA DARPAN DATA'!S4372","v":0},{"$f":"'SHALA DARPAN DATA'!O4372","v":0},0,0,0,0,0,0,0,0,0,0,0]
[{"$f":"'SHALA DARPAN DATA'!C4378","v":0},{"$f":"'SHALA DARPAN DATA'!A4378","v":0},{"$f":"'SHALA DARPAN DATA'!B4378","v":0},{"$f":"'SHALA DARPAN DATA'!D4378","v":0},{"$f":"'SHALA DARPAN DATA'!J4378","v":0},{"$f":"'SHALA DARPAN DATA'!T4378","v":0},{"$f":"'SHALA DARPAN DATA'!V4378","v":0},{"$f":"'SHALA DARPAN DATA'!K4378","v":0},{"$f":"'SHALA DARPAN DATA'!E4378","v":0},{"$f":"'SHALA DARPAN DATA'!G4378","v":0},{"$f":"'SHALA DARPAN DATA'!H4378","v":0},{"$f":"'SHALA DARPAN DATA'!W4378","v":0},{"$f":"'SHALA DARPAN DATA'!R4378","v":0},{"$f":"'SHALA DARPAN DATA'!S4378","v":0},{"$f":"'SHALA DARPAN DATA'!O4378","v":0},0,0,0,0,0,0,0,0,0,0,0]
[{"$f":"'SHALA DARPAN DATA'!C4381","v":0},{"$f":"'SHALA DARPAN DATA'!A4381","v":0},{"$f":"'SHALA DARPAN DATA'!B4381","v":0},{"$f":"'SHALA DARPAN DATA'!D4381","v":0},{"$f":"'SHALA DARPAN DATA'!J4381","v":0},{"$f":"'SHALA DARPAN DATA'!T4381","v":0},{"$f":"'SHALA DARPAN DATA'!V4381","v":0},{"$f":"'SHALA DARPAN DATA'!K4381","v":0},{"$f":"'SHALA DARPAN DATA'!E4381","v":0},{"$f":"'SHALA DARPAN DATA'!G4381","v":0},{"$f":"'SHALA DARPAN DATA'!H4381","v":0},{"$f":"'SHALA DARPAN DATA'!W4381","v":0},{"$f":"'SHALA DARPAN DATA'!R4381","v":0},{"$f":"'SHALA DARPAN DATA'!S4381","v":0},{"$f":"'SHALA DARPAN DATA'!O4381","v":0},0,0,0,0,0,0,0,0,0,0,0]
[{"$f":"'SHALA DARPAN DATA'!C4386","v":0},{"$f":"'SHALA DARPAN DATA'!A4386","v":0},{"$f":"'SHALA DARPAN DATA'!B4386","v":0},{"$f":"'SHALA DARPAN DATA'!D4386","v":0},{"$f":"'SHALA DARPAN DATA'!J4386","v":0},{"$f":"'SHALA DARPAN DATA'!T4386","v":0},{"$f":"'SHALA DARPAN DATA'!V4386","v":0},{"$f":"'SHALA DARPAN DATA'!K4386","v":0},{"$f":"'SHALA DARPAN DATA'!E4386","v":0},{"$f":"'SHALA DARPAN DATA'!G4386","v":0},{"$f":"'SHALA DARPAN DATA'!H4386","v":0},{"$f":"'SHALA DARPAN DATA'!W4386","v":0},{"$f":"'SHALA DARPAN DATA'!R4386","v":0},{"$f":"'SHALA DARPAN DATA'!S4386","v":0},{"$f":"'SHALA DARPAN DATA'!O4386","v":0},0,0,0,0,0,0,0,0,0,0,0]
[{"$f":"'SHALA DARPAN DATA'!C4387","v":0},{"$f":"'SHALA DARPAN DATA'!A4387","v":0},{"$f":"'SHALA DARPAN DATA'!B4387","v":0},{"$f":"'SHALA DARPAN DATA'!D4387","v":0},{"$f":"'SHALA DARPAN DATA'!J4387","v":0},{"$f":"'SHALA DARPAN DATA'!T4387","v":0},{"$f":"'SHALA DARPAN DATA'!V4387","v":0},{"$f":"'SHALA DARPAN DATA'!K4387","v":0},{"$f":"'SHALA DARPAN DATA'!E4387","v":0},{"$f":"'SHALA DARPAN DATA'!G4387","v":0},{"$f":"'SHALA DARPAN DATA'!H4387","v":0},{"$f":"'SHALA DARPAN DATA'!W4387","v":0},{"$f":"'SHALA DARPAN DATA'!R4387","v":0},{"$f":"'SHALA DARPAN DATA'!S4387","v":0},{"$f":"'SHALA DARPAN DATA'!O4387","v":0},0,0,0,0,0,0,0,0,0,0,0]
[{"$f":"'SHALA DARPAN DATA'!C4392","v":0},{"$f":"'SHALA DARPAN DATA'!A4392","v":0},{"$f":"'SHALA DARPAN DATA'!B4392","v":0},{"$f":"'SHALA DARPAN DATA'!D4392","v":0},{"$f":"'SHALA DARPAN DATA'!J4392","v":0},{"$f":"'SHALA DARPAN DATA'!T4392","v":0},{"$f":"'SHALA DARPAN DATA'!V4392","v":0},{"$f":"'SHALA DARPAN DATA'!K4392","v":0},{"$f":"'SHALA DARPAN DATA'!E4392","v":0},{"$f":"'SHALA DARPAN DATA'!G4392","v":0},{"$f":"'SHALA DARPAN DATA'!H4392","v":0},{"$f":"'SHALA DARPAN DATA'!W4392","v":0},{"$f":"'SHALA DARPAN DATA'!R4392","v":0},{"$f":"'SHALA DARPAN DATA'!S4392","v":0},{"$f":"'SHALA DARPAN DATA'!O4392","v":0},0,0,0,0,0,0,0,0,0,0,0]
[{"$f":"'SHALA DARPAN DATA'!C4396","v":0},{"$f":"'SHALA DARPAN DATA'!A4396","v":0},{"$f":"'SHALA DARPAN DATA'!B4396","v":0},{"$f":"'SHALA DARPAN DATA'!D4396","v":0},{"$f":"'SHALA DARPAN DATA'!J4396","v":0},{"$f":"'SHALA DARPAN DATA'!T4396","v":0},{"$f":"'SHALA DARPAN DATA'!V4396","v":0},{"$f":"'SHALA DARPAN DATA'!K4396","v":0},{"$f":"'SHALA DARPAN DATA'!E4396","v":0},{"$f":"'SHALA DARPAN DATA'!G4396","v":0},{"$f":"'SHALA DARPAN DATA'!H4396","v":0},{"$f":"'SHALA DARPAN DATA'!W4396","v":0},{"$f":"'SHALA DARPAN DATA'!R4396","v":0},{"$f":"'SHALA DARPAN DATA'!S4396","v":0},{"$f":"'SHALA DARPAN DATA'!O4396","v":0},0,0,0,0,0,0,0,0,0,0,0]
[{"$f":"'SHALA DARPAN DATA'!C4401","v":0},{"$f":"'SHALA DARPAN DATA'!A4401","v":0},{"$f":"'SHALA DARPAN DATA'!B4401","v":0},{"$f":"'SHALA DARPAN DATA'!D4401","v":0},{"$f":"'SHALA DARPAN DATA'!J4401","v":0},{"$f":"'SHALA DARPAN DATA'!T4401","v":0},{"$f":"'SHALA DARPAN DATA'!V4401","v":0},{"$f":"'SHALA DARPAN DATA'!K4401","v":0},{"$f":"'SHALA DARPAN DATA'!E4401","v":0},{"$f":"'SHALA DARPAN DATA'!G4401","v":0},{"$f":"'SHALA DARPAN DATA'!H4401","v":0},{"$f":"'SHALA DARPAN DATA'!W4401","v":0},{"$f":"'SHALA DARPAN DATA'!R4401","v":0},{"$f":"'SHALA DARPAN DATA'!S4401","v":0},{"$f":"'SHALA DARPAN DATA'!O4401","v":0},0,0,0,0,0,0,0,0,0,0,0]
[{"$f":"'SHALA DARPAN DATA'!C4402","v":0},{"$f":"'SHALA DARPAN DATA'!A4402","v":0},{"$f":"'SHALA DARPAN DATA'!B4402","v":0},{"$f":"'SHALA DARPAN DATA'!D4402","v":0},{"$f":"'SHALA DARPAN DATA'!J4402","v":0},{"$f":"'SHALA DARPAN DATA'!T4402","v":0},{"$f":"'SHALA DARPAN DATA'!V4402","v":0},{"$f":"'SHALA DARPAN DATA'!K4402","v":0},{"$f":"'SHALA DARPAN DATA'!E4402","v":0},{"$f":"'SHALA DARPAN DATA'!G4402","v":0},{"$f":"'SHALA DARPAN DATA'!H4402","v":0},{"$f":"'SHALA DARPAN DATA'!W4402","v":0},{"$f":"'SHALA DARPAN DATA'!R4402","v":0},{"$f":"'SHALA DARPAN DATA'!S4402","v":0},{"$f":"'SHALA DARPAN DATA'!O4402","v":0},0,0,0,0,0,0,0,0,0,0,0]
[{"$f":"'SHALA DARPAN DATA'!C4408","v":0},{"$f":"'SHALA DARPAN DATA'!A4408","v":0},{"$f":"'SHALA DARPAN DATA'!B4408","v":0},{"$f":"'SHALA DARPAN DATA'!D4408","v":0},{"$f":"'SHALA DARPAN DATA'!J4408","v":0},{"$f":"'SHALA DARPAN DATA'!T4408","v":0},{"$f":"'SHALA DARPAN DATA'!V4408","v":0},{"$f":"'SHALA DARPAN DATA'!K4408","v":0},{"$f":"'SHALA DARPAN DATA'!E4408","v":0},{"$f":"'SHALA DARPAN DATA'!G4408","v":0},{"$f":"'SHALA DARPAN DATA'!H4408","v":0},{"$f":"'SHALA DARPAN DATA'!W4408","v":0},{"$f":"'SHALA DARPAN DATA'!R4408","v":0},{"$f":"'SHALA DARPAN DATA'!S4408","v":0},{"$f":"'SHALA DARPAN DATA'!O4408","v":0},0,0,0,0,0,0,0,0,0,0,0]
[{"$f":"'SHALA DARPAN DATA'!C4411","v":0},{"$f":"'SHALA DARPAN DATA'!A4411","v":0},{"$f":"'SHALA DARPAN DATA'!B4411","v":0},{"$f":"'SHALA DARPAN DATA'!D4411","v":0},{"$f":"'SHALA DARPAN DATA'!J4411","v":0},{"$f":"'SHALA DARPAN DATA'!T4411","v":0},{"$f":"'SHALA DARPAN DATA'!V4411","v":0},{"$f":"'SHALA DARPAN DATA'!K4411","v":0},{"$f":"'SHALA DARPAN DATA'!E4411","v":0},{"$f":"'SHALA DARPAN DATA'!G4411","v":0},{"$f":"'SHALA DARPAN DATA'!H4411","v":0},{"$f":"'SHALA DARPAN DATA'!W4411","v":0},{"$f":"'SHALA DARPAN DATA'!R4411","v":0},{"$f":"'SHALA DARPAN DATA'!S4411","v":0},{"$f":"'SHALA DARPAN DATA'!O4411","v":0},0,0,0,0,0,0,0,0,0,0,0]
[{"$f":"'SHALA DARPAN DATA'!C4416","v":0},{"$f":"'SHALA DARPAN DATA'!A4416","v":0},{"$f":"'SHALA DARPAN DATA'!B4416","v":0},{"$f":"'SHALA DARPAN DATA'!D4416","v":0},{"$f":"'SHALA DARPAN DATA'!J4416","v":0},{"$f":"'SHALA DARPAN DATA'!T4416","v":0},{"$f":"'SHALA DARPAN DATA'!V4416","v":0},{"$f":"'SHALA DARPAN DATA'!K4416","v":0},{"$f":"'SHALA DARPAN DATA'!E4416","v":0},{"$f":"'SHALA DARPAN DATA'!G4416","v":0},{"$f":"'SHALA DARPAN DATA'!H4416","v":0},{"$f":"'SHALA DARPAN DATA'!W4416","v":0},{"$f":"'SHALA DARPAN DATA'!R4416","v":0},{"$f":"'SHALA DARPAN DATA'!S4416","v":0},{"$f":"'SHALA DARPAN DATA'!O4416","v":0},0,0,0,0,0,0,0,0,0,0,0]
[{"$f":"'SHALA DARPAN DATA'!C4417","v":0},{"$f":"'SHALA DARPAN DATA'!A4417","v":0},{"$f":"'SHALA DARPAN DATA'!B4417","v":0},{"$f":"'SHALA DARPAN DATA'!D4417","v":0},{"$f":"'SHALA DARPAN DATA'!J4417","v":0},{"$f":"'SHALA DARPAN DATA'!T4417","v":0},{"$f":"'SHALA DARPAN DATA'!V4417","v":0},{"$f":"'SHALA DARPAN DATA'!K4417","v":0},{"$f":"'SHALA DARPAN DATA'!E4417","v":0},{"$f":"'SHALA DARPAN DATA'!G4417","v":0},{"$f":"'SHALA DARPAN DATA'!H4417","v":0},{"$f":"'SHALA DARPAN DATA'!W4417","v":0},{"$f":"'SHALA DARPAN DATA'!R4417","v":0},{"$f":"'SHALA DARPAN DATA'!S4417","v":0},{"$f":"'SHALA DARPAN DATA'!O4417","v":0},0,0,0,0,0,0,0,0,0,0,0]
[{"$f":"'SHALA DARPAN DATA'!C4422","v":0},{"$f":"'SHALA DARPAN DATA'!A4422","v":0},{"$f":"'SHALA DARPAN DATA'!B4422","v":0},{"$f":"'SHALA DARPAN DATA'!D4422","v":0},{"$f":"'SHALA DARPAN DATA'!J4422","v":0},{"$f":"'SHALA DARPAN DATA'!T4422","v":0},{"$f":"'SHALA DARPAN DATA'!V4422","v":0},{"$f":"'SHALA DARPAN DATA'!K4422","v":0},{"$f":"'SHALA DARPAN DATA'!E4422","v":0},{"$f":"'SHALA DARPAN DATA'!G4422","v":0},{"$f":"'SHALA DARPAN DATA'!H4422","v":0},{"$f":"'SHALA DARPAN DATA'!W4422","v":0},{"$f":"'SHALA DARPAN DATA'!R4422","v":0},{"$f":"'SHALA DARPAN DATA'!S4422","v":0},{"$f":"'SHALA DARPAN DATA'!O4422","v":0},0,0,0,0,0,0,0,0,0,0,0]
[{"$f":"'SHALA DARPAN DATA'!C4426","v":0},{"$f":"'SHALA DARPAN DATA'!A4426","v":0},{"$f":"'SHALA DARPAN DATA'!B4426","v":0},{"$f":"'SHALA DARPAN DATA'!D4426","v":0},{"$f":"'SHALA DARPAN DATA'!J4426","v":0},{"$f":"'SHALA DARPAN DATA'!T4426","v":0},{"$f":"'SHALA DARPAN DATA'!V4426","v":0},{"$f":"'SHALA DARPAN DATA'!K4426","v":0},{"$f":"'SHALA DARPAN DATA'!E4426","v":0},{"$f":"'SHALA DARPAN DATA'!G4426","v":0},{"$f":"'SHALA DARPAN DATA'!H4426","v":0},{"$f":"'SHALA DARPAN DATA'!W4426","v":0},{"$f":"'SHALA DARPAN DATA'!R4426","v":0},{"$f":"'SHALA DARPAN DATA'!S4426","v":0},{"$f":"'SHALA DARPAN DATA'!O4426","v":0},0,0,0,0,0,0,0,0,0,0,0]
[{"$f":"'SHALA DARPAN DATA'!C4431","v":0},{"$f":"'SHALA DARPAN DATA'!A4431","v":0},{"$f":"'SHALA DARPAN DATA'!B4431","v":0},{"$f":"'SHALA DARPAN DATA'!D4431","v":0},{"$f":"'SHALA DARPAN DATA'!J4431","v":0},{"$f":"'SHALA DARPAN DATA'!T4431","v":0},{"$f":"'SHALA DARPAN DATA'!V4431","v":0},{"$f":"'SHALA DARPAN DATA'!K4431","v":0},{"$f":"'SHALA DARPAN DATA'!E4431","v":0},{"$f":"'SHALA DARPAN DATA'!G4431","v":0},{"$f":"'SHALA DARPAN DATA'!H4431","v":0},{"$f":"'SHALA DARPAN DATA'!W4431","v":0},{"$f":"'SHALA DARPAN DATA'!R4431","v":0},{"$f":"'SHALA DARPAN DATA'!S4431","v":0},{"$f":"'SHALA DARPAN DATA'!O4431","v":0},0,0,0,0,0,0,0,0,0,0,0]
[{"$f":"'SHALA DARPAN DATA'!C4432","v":0},{"$f":"'SHALA DARPAN DATA'!A4432","v":0},{"$f":"'SHALA DARPAN DATA'!B4432","v":0},{"$f":"'SHALA DARPAN DATA'!D4432","v":0},{"$f":"'SHALA DARPAN DATA'!J4432","v":0},{"$f":"'SHALA DARPAN DATA'!T4432","v":0},{"$f":"'SHALA DARPAN DATA'!V4432","v":0},{"$f":"'SHALA DARPAN DATA'!K4432","v":0},{"$f":"'SHALA DARPAN DATA'!E4432","v":0},{"$f":"'SHALA DARPAN DATA'!G4432","v":0},{"$f":"'SHALA DARPAN DATA'!H4432","v":0},{"$f":"'SHALA DARPAN DATA'!W4432","v":0},{"$f":"'SHALA DARPAN DATA'!R4432","v":0},{"$f":"'SHALA DARPAN DATA'!S4432","v":0},{"$f":"'SHALA DARPAN DATA'!O4432","v":0},0,0,0,0,0,0,0,0,0,0,0]
[{"$f":"'SHALA DARPAN DATA'!C4438","v":0},{"$f":"'SHALA DARPAN DATA'!A4438","v":0},{"$f":"'SHALA DARPAN DATA'!B4438","v":0},{"$f":"'SHALA DARPAN DATA'!D4438","v":0},{"$f":"'SHALA DARPAN DATA'!J4438","v":0},{"$f":"'SHALA DARPAN DATA'!T4438","v":0},{"$f":"'SHALA DARPAN DATA'!V4438","v":0},{"$f":"'SHALA DARPAN DATA'!K4438","v":0},{"$f":"'SHALA DARPAN DATA'!E4438","v":0},{"$f":"'SHALA DARPAN DATA'!G4438","v":0},{"$f":"'SHALA DARPAN DATA'!H4438","v":0},{"$f":"'SHALA DARPAN DATA'!W4438","v":0},{"$f":"'SHALA DARPAN DATA'!R4438","v":0},{"$f":"'SHALA DARPAN DATA'!S4438","v":0},{"$f":"'SHALA DARPAN DATA'!O4438","v":0},0,0,0,0,0,0,0,0,0,0,0]
[{"$f":"'SHALA DARPAN DATA'!C4441","v":0},{"$f":"'SHALA DARPAN DATA'!A4441","v":0},{"$f":"'SHALA DARPAN DATA'!B4441","v":0},{"$f":"'SHALA DARPAN DATA'!D4441","v":0},{"$f":"'SHALA DARPAN DATA'!J4441","v":0},{"$f":"'SHALA DARPAN DATA'!T4441","v":0},{"$f":"'SHALA DARPAN DATA'!V4441","v":0},{"$f":"'SHALA DARPAN DATA'!K4441","v":0},{"$f":"'SHALA DARPAN DATA'!E4441","v":0},{"$f":"'SHALA DARPAN DATA'!G4441","v":0},{"$f":"'SHALA DARPAN DATA'!H4441","v":0},{"$f":"'SHALA DARPAN DATA'!W4441","v":0},{"$f":"'SHALA DARPAN DATA'!R4441","v":0},{"$f":"'SHALA DARPAN DATA'!S4441","v":0},{"$f":"'SHALA DARPAN DATA'!O4441","v":0},0,0,0,0,0,0,0,0,0,0,0]
[{"$f":"'SHALA DARPAN DATA'!C4446","v":0},{"$f":"'SHALA DARPAN DATA'!A4446","v":0},{"$f":"'SHALA DARPAN DATA'!B4446","v":0},{"$f":"'SHALA DARPAN DATA'!D4446","v":0},{"$f":"'SHALA DARPAN DATA'!J4446","v":0},{"$f":"'SHALA DARPAN DATA'!T4446","v":0},{"$f":"'SHALA DARPAN DATA'!V4446","v":0},{"$f":"'SHALA DARPAN DATA'!K4446","v":0},{"$f":"'SHALA DARPAN DATA'!E4446","v":0},{"$f":"'SHALA DARPAN DATA'!G4446","v":0},{"$f":"'SHALA DARPAN DATA'!H4446","v":0},{"$f":"'SHALA DARPAN DATA'!W4446","v":0},{"$f":"'SHALA DARPAN DATA'!R4446","v":0},{"$f":"'SHALA DARPAN DATA'!S4446","v":0},{"$f":"'SHALA DARPAN DATA'!O4446","v":0},0,0,0,0,0,0,0,0,0,0,0]
[{"$f":"'SHALA DARPAN DATA'!C4447","v":0},{"$f":"'SHALA DARPAN DATA'!A4447","v":0},{"$f":"'SHALA DARPAN DATA'!B4447","v":0},{"$f":"'SHALA DARPAN DATA'!D4447","v":0},{"$f":"'SHALA DARPAN DATA'!J4447","v":0},{"$f":"'SHALA DARPAN DATA'!T4447","v":0},{"$f":"'SHALA DARPAN DATA'!V4447","v":0},{"$f":"'SHALA DARPAN DATA'!K4447","v":0},{"$f":"'SHALA DARPAN DATA'!E4447","v":0},{"$f":"'SHALA DARPAN DATA'!G4447","v":0},{"$f":"'SHALA DARPAN DATA'!H4447","v":0},{"$f":"'SHALA DARPAN DATA'!W4447","v":0},{"$f":"'SHALA DARPAN DATA'!R4447","v":0},{"$f":"'SHALA DARPAN DATA'!S4447","v":0},{"$f":"'SHALA DARPAN DATA'!O4447","v":0},0,0,0,0,0,0,0,0,0,0,0]
[{"$f":"'SHALA DARPAN DATA'!C4452","v":0},{"$f":"'SHALA DARPAN DATA'!A4452","v":0},{"$f":"'SHALA DARPAN DATA'!B4452","v":0},{"$f":"'SHALA DARPAN DATA'!D4452","v":0},{"$f":"'SHALA DARPAN DATA'!J4452","v":0},{"$f":"'SHALA DARPAN DATA'!T4452","v":0},{"$f":"'SHALA DARPAN DATA'!V4452","v":0},{"$f":"'SHALA DARPAN DATA'!K4452","v":0},{"$f":"'SHALA DARPAN DATA'!E4452","v":0},{"$f":"'SHALA DARPAN DATA'!G4452","v":0},{"$f":"'SHALA DARPAN DATA'!H4452","v":0},{"$f":"'SHALA DARPAN DATA'!W4452","v":0},{"$f":"'SHALA DARPAN DATA'!R4452","v":0},{"$f":"'SHALA DARPAN DATA'!S4452","v":0},{"$f":"'SHALA DARPAN DATA'!O4452","v":0},0,0,0,0,0,0,0,0,0,0,0]
[{"$f":"'SHALA DARPAN DATA'!C4456","v":0},{"$f":"'SHALA DARPAN DATA'!A4456","v":0},{"$f":"'SHALA DARPAN DATA'!B4456","v":0},{"$f":"'SHALA DARPAN DATA'!D4456","v":0},{"$f":"'SHALA DARPAN DATA'!J4456","v":0},{"$f":"'SHALA DARPAN DATA'!T4456","v":0},{"$f":"'SHALA DARPAN DATA'!V4456","v":0},{"$f":"'SHALA DARPAN DATA'!K4456","v":0},{"$f":"'SHALA DARPAN DATA'!E4456","v":0},{"$f":"'SHALA DARPAN DATA'!G4456","v":0},{"$f":"'SHALA DARPAN DATA'!H4456","v":0},{"$f":"'SHALA DARPAN DATA'!W4456","v":0},{"$f":"'SHALA DARPAN DATA'!R4456","v":0},{"$f":"'SHALA DARPAN DATA'!S4456","v":0},{"$f":"'SHALA DARPAN DATA'!O4456","v":0},0,0,0,0,0,0,0,0,0,0,0]
[{"$f":"'SHALA DARPAN DATA'!C4461","v":0},{"$f":"'SHALA DARPAN DATA'!A4461","v":0},{"$f":"'SHALA DARPAN DATA'!B4461","v":0},{"$f":"'SHALA DARPAN DATA'!D4461","v":0},{"$f":"'SHALA DARPAN DATA'!J4461","v":0},{"$f":"'SHALA DARPAN DATA'!T4461","v":0},{"$f":"'SHALA DARPAN DATA'!V4461","v":0},{"$f":"'SHALA DARPAN DATA'!K4461","v":0},{"$f":"'SHALA DARPAN DATA'!E4461","v":0},{"$f":"'SHALA DARPAN DATA'!G4461","v":0},{"$f":"'SHALA DARPAN DATA'!H4461","v":0},{"$f":"'SHALA DARPAN DATA'!W4461","v":0},{"$f":"'SHALA DARPAN DATA'!R4461","v":0},{"$f":"'SHALA DARPAN DATA'!S4461","v":0},{"$f":"'SHALA DARPAN DATA'!O4461","v":0},0,0,0,0,0,0,0,0,0,0,0]
[{"$f":"'SHALA DARPAN DATA'!C4462","v":0},{"$f":"'SHALA DARPAN DATA'!A4462","v":0},{"$f":"'SHALA DARPAN DATA'!B4462","v":0},{"$f":"'SHALA DARPAN DATA'!D4462","v":0},{"$f":"'SHALA DARPAN DATA'!J4462","v":0},{"$f":"'SHALA DARPAN DATA'!T4462","v":0},{"$f":"'SHALA DARPAN DATA'!V4462","v":0},{"$f":"'SHALA DARPAN DATA'!K4462","v":0},{"$f":"'SHALA DARPAN DATA'!E4462","v":0},{"$f":"'SHALA DARPAN DATA'!G4462","v":0},{"$f":"'SHALA DARPAN DATA'!H4462","v":0},{"$f":"'SHALA DARPAN DATA'!W4462","v":0},{"$f":"'SHALA DARPAN DATA'!R4462","v":0},{"$f":"'SHALA DARPAN DATA'!S4462","v":0},{"$f":"'SHALA DARPAN DATA'!O4462","v":0},0,0,0,0,0,0,0,0,0,0,0]
[{"$f":"'SHALA DARPAN DATA'!C4468","v":0},{"$f":"'SHALA DARPAN DATA'!A4468","v":0},{"$f":"'SHALA DARPAN DATA'!B4468","v":0},{"$f":"'SHALA DARPAN DATA'!D4468","v":0},{"$f":"'SHALA DARPAN DATA'!J4468","v":0},{"$f":"'SHALA DARPAN DATA'!T4468","v":0},{"$f":"'SHALA DARPAN DATA'!V4468","v":0},{"$f":"'SHALA DARPAN DATA'!K4468","v":0},{"$f":"'SHALA DARPAN DATA'!E4468","v":0},{"$f":"'SHALA DARPAN DATA'!G4468","v":0},{"$f":"'SHALA DARPAN DATA'!H4468","v":0},{"$f":"'SHALA DARPAN DATA'!W4468","v":0},{"$f":"'SHALA DARPAN DATA'!R4468","v":0},{"$f":"'SHALA DARPAN DATA'!S4468","v":0},{"$f":"'SHALA DARPAN DATA'!O4468","v":0},0,0,0,0,0,0,0,0,0,0,0]
[{"$f":"'SHALA DARPAN DATA'!C4471","v":0},{"$f":"'SHALA DARPAN DATA'!A4471","v":0},{"$f":"'SHALA DARPAN DATA'!B4471","v":0},{"$f":"'SHALA DARPAN DATA'!D4471","v":0},{"$f":"'SHALA DARPAN DATA'!J4471","v":0},{"$f":"'SHALA DARPAN DATA'!T4471","v":0},{"$f":"'SHALA DARPAN DATA'!V4471","v":0},{"$f":"'SHALA DARPAN DATA'!K4471","v":0},{"$f":"'SHALA DARPAN DATA'!E4471","v":0},{"$f":"'SHALA DARPAN DATA'!G4471","v":0},{"$f":"'SHALA DARPAN DATA'!H4471","v":0},{"$f":"'SHALA DARPAN DATA'!W4471","v":0},{"$f":"'SHALA DARPAN DATA'!R4471","v":0},{"$f":"'SHALA DARPAN DATA'!S4471","v":0},{"$f":"'SHALA DARPAN DATA'!O4471","v":0},0,0,0,0,0,0,0,0,0,0,0]
[{"$f":"'SHALA DARPAN DATA'!C4476","v":0},{"$f":"'SHALA DARPAN DATA'!A4476","v":0},{"$f":"'SHALA DARPAN DATA'!B4476","v":0},{"$f":"'SHALA DARPAN DATA'!D4476","v":0},{"$f":"'SHALA DARPAN DATA'!J4476","v":0},{"$f":"'SHALA DARPAN DATA'!T4476","v":0},{"$f":"'SHALA DARPAN DATA'!V4476","v":0},{"$f":"'SHALA DARPAN DATA'!K4476","v":0},{"$f":"'SHALA DARPAN DATA'!E4476","v":0},{"$f":"'SHALA DARPAN DATA'!G4476","v":0},{"$f":"'SHALA DARPAN DATA'!H4476","v":0},{"$f":"'SHALA DARPAN DATA'!W4476","v":0},{"$f":"'SHALA DARPAN DATA'!R4476","v":0},{"$f":"'SHALA DARPAN DATA'!S4476","v":0},{"$f":"'SHALA DARPAN DATA'!O4476","v":0},0,0,0,0,0,0,0,0,0,0,0]
[{"$f":"'SHALA DARPAN DATA'!C4477","v":0},{"$f":"'SHALA DARPAN DATA'!A4477","v":0},{"$f":"'SHALA DARPAN DATA'!B4477","v":0},{"$f":"'SHALA DARPAN DATA'!D4477","v":0},{"$f":"'SHALA DARPAN DATA'!J4477","v":0},{"$f":"'SHALA DARPAN DATA'!T4477","v":0},{"$f":"'SHALA DARPAN DATA'!V4477","v":0},{"$f":"'SHALA DARPAN DATA'!K4477","v":0},{"$f":"'SHALA DARPAN DATA'!E4477","v":0},{"$f":"'SHALA DARPAN DATA'!G4477","v":0},{"$f":"'SHALA DARPAN DATA'!H4477","v":0},{"$f":"'SHALA DARPAN DATA'!W4477","v":0},{"$f":"'SHALA DARPAN DATA'!R4477","v":0},{"$f":"'SHALA DARPAN DATA'!S4477","v":0},{"$f":"'SHALA DARPAN DATA'!O4477","v":0},0,0,0,0,0,0,0,0,0,0,0]
[{"$f":"'SHALA DARPAN DATA'!C4482","v":0},{"$f":"'SHALA DARPAN DATA'!A4482","v":0},{"$f":"'SHALA DARPAN DATA'!B4482","v":0},{"$f":"'SHALA DARPAN DATA'!D4482","v":0},{"$f":"'SHALA DARPAN DATA'!J4482","v":0},{"$f":"'SHALA DARPAN DATA'!T4482","v":0},{"$f":"'SHALA DARPAN DATA'!V4482","v":0},{"$f":"'SHALA DARPAN DATA'!K4482","v":0},{"$f":"'SHALA DARPAN DATA'!E4482","v":0},{"$f":"'SHALA DARPAN DATA'!G4482","v":0},{"$f":"'SHALA DARPAN DATA'!H4482","v":0},{"$f":"'SHALA DARPAN DATA'!W4482","v":0},{"$f":"'SHALA DARPAN DATA'!R4482","v":0},{"$f":"'SHALA DARPAN DATA'!S4482","v":0},{"$f":"'SHALA DARPAN DATA'!O4482","v":0},0,0,0,0,0,0,0,0,0,0,0]
[{"$f":"'SHALA DARPAN DATA'!C4486","v":0},{"$f":"'SHALA DARPAN DATA'!A4486","v":0},{"$f":"'SHALA DARPAN DATA'!B4486","v":0},{"$f":"'SHALA DARPAN DATA'!D4486","v":0},{"$f":"'SHALA DARPAN DATA'!J4486","v":0},{"$f":"'SHALA DARPAN DATA'!T4486","v":0},{"$f":"'SHALA DARPAN DATA'!V4486","v":0},{"$f":"'SHALA DARPAN DATA'!K4486","v":0},{"$f":"'SHALA DARPAN DATA'!E4486","v":0},{"$f":"'SHALA DARPAN DATA'!G4486","v":0},{"$f":"'SHALA DARPAN DATA'!H4486","v":0},{"$f":"'SHALA DARPAN DATA'!W4486","v":0},{"$f":"'SHALA DARPAN DATA'!R4486","v":0},{"$f":"'SHALA DARPAN DATA'!S4486","v":0},{"$f":"'SHALA DARPAN DATA'!O4486","v":0},0,0,0,0,0,0,0,0,0,0,0]
[{"$f":"'SHALA DARPAN DATA'!C4491","v":0},{"$f":"'SHALA DARPAN DATA'!A4491","v":0},{"$f":"'SHALA DARPAN DATA'!B4491","v":0},{"$f":"'SHALA DARPAN DATA'!D4491","v":0},{"$f":"'SHALA DARPAN DATA'!J4491","v":0},{"$f":"'SHALA DARPAN DATA'!T4491","v":0},{"$f":"'SHALA DARPAN DATA'!V4491","v":0},{"$f":"'SHALA DARPAN DATA'!K4491","v":0},{"$f":"'SHALA DARPAN DATA'!E4491","v":0},{"$f":"'SHALA DARPAN DATA'!G4491","v":0},{"$f":"'SHALA DARPAN DATA'!H4491","v":0},{"$f":"'SHALA DARPAN DATA'!W4491","v":0},{"$f":"'SHALA DARPAN DATA'!R4491","v":0},{"$f":"'SHALA DARPAN DATA'!S4491","v":0},{"$f":"'SHALA DARPAN DATA'!O4491","v":0},0,0,0,0,0,0,0,0,0,0,0]
[{"$f":"'SHALA DARPAN DATA'!C4492","v":0},{"$f":"'SHALA DARPAN DATA'!A4492","v":0},{"$f":"'SHALA DARPAN DATA'!B4492","v":0},{"$f":"'SHALA DARPAN DATA'!D4492","v":0},{"$f":"'SHALA DARPAN DATA'!J4492","v":0},{"$f":"'SHALA DARPAN DATA'!T4492","v":0},{"$f":"'SHALA DARPAN DATA'!V4492","v":0},{"$f":"'SHALA DARPAN DATA'!K4492","v":0},{"$f":"'SHALA DARPAN DATA'!E4492","v":0},{"$f":"'SHALA DARPAN DATA'!G4492","v":0},{"$f":"'SHALA DARPAN DATA'!H4492","v":0},{"$f":"'SHALA DARPAN DATA'!W4492","v":0},{"$f":"'SHALA DARPAN DATA'!R4492","v":0},{"$f":"'SHALA DARPAN DATA'!S4492","v":0},{"$f":"'SHALA DARPAN DATA'!O4492","v":0},0,0,0,0,0,0,0,0,0,0,0]
[{"$f":"'SHALA DARPAN DATA'!C4498","v":0},{"$f":"'SHALA DARPAN DATA'!A4498","v":0},{"$f":"'SHALA DARPAN DATA'!B4498","v":0},{"$f":"'SHALA DARPAN DATA'!D4498","v":0},{"$f":"'SHALA DARPAN DATA'!J4498","v":0},{"$f":"'SHALA DARPAN DATA'!T4498","v":0},{"$f":"'SHALA DARPAN DATA'!V4498","v":0},{"$f":"'SHALA DARPAN DATA'!K4498","v":0},{"$f":"'SHALA DARPAN DATA'!E4498","v":0},{"$f":"'SHALA DARPAN DATA'!G4498","v":0},{"$f":"'SHALA DARPAN DATA'!H4498","v":0},{"$f":"'SHALA DARPAN DATA'!W4498","v":0},{"$f":"'SHALA DARPAN DATA'!R4498","v":0},{"$f":"'SHALA DARPAN DATA'!S4498","v":0},{"$f":"'SHALA DARPAN DATA'!O4498","v":0},0,0,0,0,0,0,0,0,0,0,0]
[{"$f":"'SHALA DARPAN DATA'!C4501","v":0},{"$f":"'SHALA DARPAN DATA'!A4501","v":0},{"$f":"'SHALA DARPAN DATA'!B4501","v":0},{"$f":"'SHALA DARPAN DATA'!D4501","v":0},{"$f":"'SHALA DARPAN DATA'!J4501","v":0},{"$f":"'SHALA DARPAN DATA'!T4501","v":0},{"$f":"'SHALA DARPAN DATA'!V4501","v":0},{"$f":"'SHALA DARPAN DATA'!K4501","v":0},{"$f":"'SHALA DARPAN DATA'!E4501","v":0},{"$f":"'SHALA DARPAN DATA'!G4501","v":0},{"$f":"'SHALA DARPAN DATA'!H4501","v":0},{"$f":"'SHALA DARPAN DATA'!W4501","v":0},{"$f":"'SHALA DARPAN DATA'!R4501","v":0},{"$f":"'SHALA DARPAN DATA'!S4501","v":0},{"$f":"'SHALA DARPAN DATA'!O4501","v":0},0,0,0,0,0,0,0,0,0,0,0]
[{"$f":"'SHALA DARPAN DATA'!C4506","v":0},{"$f":"'SHALA DARPAN DATA'!A4506","v":0},{"$f":"'SHALA DARPAN DATA'!B4506","v":0},{"$f":"'SHALA DARPAN DATA'!D4506","v":0},{"$f":"'SHALA DARPAN DATA'!J4506","v":0},{"$f":"'SHALA DARPAN DATA'!T4506","v":0},{"$f":"'SHALA DARPAN DATA'!V4506","v":0},{"$f":"'SHALA DARPAN DATA'!K4506","v":0},{"$f":"'SHALA DARPAN DATA'!E4506","v":0},{"$f":"'SHALA DARPAN DATA'!G4506","v":0},{"$f":"'SHALA DARPAN DATA'!H4506","v":0},{"$f":"'SHALA DARPAN DATA'!W4506","v":0},{"$f":"'SHALA DARPAN DATA'!R4506","v":0},{"$f":"'SHALA DARPAN DATA'!S4506","v":0},{"$f":"'SHALA DARPAN DATA'!O4506","v":0},0,0,0,0,0,0,0,0,0,0,0]
[{"$f":"'SHALA DARPAN DATA'!C4507","v":0},{"$f":"'SHALA DARPAN DATA'!A4507","v":0},{"$f":"'SHALA DARPAN DATA'!B4507","v":0},{"$f":"'SHALA DARPAN DATA'!D4507","v":0},{"$f":"'SHALA DARPAN DATA'!J4507","v":0},{"$f":"'SHALA DARPAN DATA'!T4507","v":0},{"$f":"'SHALA DARPAN DATA'!V4507","v":0},{"$f":"'SHALA DARPAN DATA'!K4507","v":0},{"$f":"'SHALA DARPAN DATA'!E4507","v":0},{"$f":"'SHALA DARPAN DATA'!G4507","v":0},{"$f":"'SHALA DARPAN DATA'!H4507","v":0},{"$f":"'SHALA DARPAN DATA'!W4507","v":0},{"$f":"'SHALA DARPAN DATA'!R4507","v":0},{"$f":"'SHALA DARPAN DATA'!S4507","v":0},{"$f":"'SHALA DARPAN DATA'!O4507","v":0},0,0,0,0,0,0,0,0,0,0,0]
[{"$f":"'SHALA DARPAN DATA'!C4512","v":0},{"$f":"'SHALA DARPAN DATA'!A4512","v":0},{"$f":"'SHALA DARPAN DATA'!B4512","v":0},{"$f":"'SHALA DARPAN DATA'!D4512","v":0},{"$f":"'SHALA DARPAN DATA'!J4512","v":0},{"$f":"'SHALA DARPAN DATA'!T4512","v":0},{"$f":"'SHALA DARPAN DATA'!V4512","v":0},{"$f":"'SHALA DARPAN DATA'!K4512","v":0},{"$f":"'SHALA DARPAN DATA'!E4512","v":0},{"$f":"'SHALA DARPAN DATA'!G4512","v":0},{"$f":"'SHALA DARPAN DATA'!H4512","v":0},{"$f":"'SHALA DARPAN DATA'!W4512","v":0},{"$f":"'SHALA DARPAN DATA'!R4512","v":0},{"$f":"'SHALA DARPAN DATA'!S4512","v":0},{"$f":"'SHALA DARPAN DATA'!O4512","v":0},0,0,0,0,0,0,0,0,0,0,0]
[{"$f":"'SHALA DARPAN DATA'!C4516","v":0},{"$f":"'SHALA DARPAN DATA'!A4516","v":0},{"$f":"'SHALA DARPAN DATA'!B4516","v":0},{"$f":"'SHALA DARPAN DATA'!D4516","v":0},{"$f":"'SHALA DARPAN DATA'!J4516","v":0},{"$f":"'SHALA DARPAN DATA'!T4516","v":0},{"$f":"'SHALA DARPAN DATA'!V4516","v":0},{"$f":"'SHALA DARPAN DATA'!K4516","v":0},{"$f":"'SHALA DARPAN DATA'!E4516","v":0},{"$f":"'SHALA DARPAN DATA'!G4516","v":0},{"$f":"'SHALA DARPAN DATA'!H4516","v":0},{"$f":"'SHALA DARPAN DATA'!W4516","v":0},{"$f":"'SHALA DARPAN DATA'!R4516","v":0},{"$f":"'SHALA DARPAN DATA'!S4516","v":0},{"$f":"'SHALA DARPAN DATA'!O4516","v":0},0,0,0,0,0,0,0,0,0,0,0]
[{"$f":"'SHALA DARPAN DATA'!C4521","v":0},{"$f":"'SHALA DARPAN DATA'!A4521","v":0},{"$f":"'SHALA DARPAN DATA'!B4521","v":0},{"$f":"'SHALA DARPAN DATA'!D4521","v":0},{"$f":"'SHALA DARPAN DATA'!J4521","v":0},{"$f":"'SHALA DARPAN DATA'!T4521","v":0},{"$f":"'SHALA DARPAN DATA'!V4521","v":0},{"$f":"'SHALA DARPAN DATA'!K4521","v":0},{"$f":"'SHALA DARPAN DATA'!E4521","v":0},{"$f":"'SHALA DARPAN DATA'!G4521","v":0},{"$f":"'SHALA DARPAN DATA'!H4521","v":0},{"$f":"'SHALA DARPAN DATA'!W4521","v":0},{"$f":"'SHALA DARPAN DATA'!R4521","v":0},{"$f":"'SHALA DARPAN DATA'!S4521","v":0},{"$f":"'SHALA DARPAN DATA'!O4521","v":0},0,0,0,0,0,0,0,0,0,0,0]
[{"$f":"'SHALA DARPAN DATA'!C4522","v":0},{"$f":"'SHALA DARPAN DATA'!A4522","v":0},{"$f":"'SHALA DARPAN DATA'!B4522","v":0},{"$f":"'SHALA DARPAN DATA'!D4522","v":0},{"$f":"'SHALA DARPAN DATA'!J4522","v":0},{"$f":"'SHALA DARPAN DATA'!T4522","v":0},{"$f":"'SHALA DARPAN DATA'!V4522","v":0},{"$f":"'SHALA DARPAN DATA'!K4522","v":0},{"$f":"'SHALA DARPAN DATA'!E4522","v":0},{"$f":"'SHALA DARPAN DATA'!G4522","v":0},{"$f":"'SHALA DARPAN DATA'!H4522","v":0},{"$f":"'SHALA DARPAN DATA'!W4522","v":0},{"$f":"'SHALA DARPAN DATA'!R4522","v":0},{"$f":"'SHALA DARPAN DATA'!S4522","v":0},{"$f":"'SHALA DARPAN DATA'!O4522","v":0},0,0,0,0,0,0,0,0,0,0,0]
[{"$f":"'SHALA DARPAN DATA'!C4526","v":0},{"$f":"'SHALA DARPAN DATA'!A4526","v":0},{"$f":"'SHALA DARPAN DATA'!B4526","v":0},{"$f":"'SHALA DARPAN DATA'!D4526","v":0},{"$f":"'SHALA DARPAN DATA'!J4526","v":0},{"$f":"'SHALA DARPAN DATA'!T4526","v":0},{"$f":"'SHALA DARPAN DATA'!V4526","v":0},{"$f":"'SHALA DARPAN DATA'!K4526","v":0},{"$f":"'SHALA DARPAN DATA'!E4526","v":0},{"$f":"'SHALA DARPAN DATA'!G4526","v":0},{"$f":"'SHALA DARPAN DATA'!H4526","v":0},{"$f":"'SHALA DARPAN DATA'!W4526","v":0},{"$f":"'SHALA DARPAN DATA'!R4526","v":0},{"$f":"'SHALA DARPAN DATA'!S4526","v":0},{"$f":"'SHALA DARPAN DATA'!O4526","v":0},0,0,0,0,0,0,0,0,0,0,0]
[{"$f":"'SHALA DARPAN DATA'!C4531","v":0},{"$f":"'SHALA DARPAN DATA'!A4531","v":0},{"$f":"'SHALA DARPAN DATA'!B4531","v":0},{"$f":"'SHALA DARPAN DATA'!D4531","v":0},{"$f":"'SHALA DARPAN DATA'!J4531","v":0},{"$f":"'SHALA DARPAN DATA'!T4531","v":0},{"$f":"'SHALA DARPAN DATA'!V4531","v":0},{"$f":"'SHALA DARPAN DATA'!K4531","v":0},{"$f":"'SHALA DARPAN DATA'!E4531","v":0},{"$f":"'SHALA DARPAN DATA'!G4531","v":0},{"$f":"'SHALA DARPAN DATA'!H4531","v":0},{"$f":"'SHALA DARPAN DATA'!W4531","v":0},{"$f":"'SHALA DARPAN DATA'!R4531","v":0},{"$f":"'SHALA DARPAN DATA'!S4531","v":0},{"$f":"'SHALA DARPAN DATA'!O4531","v":0},0,0,0,0,0,0,0,0,0,0,0]
[{"$f":"'SHALA DARPAN DATA'!C4536","v":0},{"$f":"'SHALA DARPAN DATA'!A4536","v":0},{"$f":"'SHALA DARPAN DATA'!B4536","v":0},{"$f":"'SHALA DARPAN DATA'!D4536","v":0},{"$f":"'SHALA DARPAN DATA'!J4536","v":0},{"$f":"'SHALA DARPAN DATA'!T4536","v":0},{"$f":"'SHALA DARPAN DATA'!V4536","v":0},{"$f":"'SHALA DARPAN DATA'!K4536","v":0},{"$f":"'SHALA DARPAN DATA'!E4536","v":0},{"$f":"'SHALA DARPAN DATA'!G4536","v":0},{"$f":"'SHALA DARPAN DATA'!H4536","v":0},{"$f":"'SHALA DARPAN DATA'!W4536","v":0},{"$f":"'SHALA DARPAN DATA'!R4536","v":0},{"$f":"'SHALA DARPAN DATA'!S4536","v":0},{"$f":"'SHALA DARPAN DATA'!O4536","v":0},0,0,0,0,0,0,0,0,0,0,0]
[{"$f":"'SHALA DARPAN DATA'!C4537","v":0},{"$f":"'SHALA DARPAN DATA'!A4537","v":0},{"$f":"'SHALA DARPAN DATA'!B4537","v":0},{"$f":"'SHALA DARPAN DATA'!D4537","v":0},{"$f":"'SHALA DARPAN DATA'!J4537","v":0},{"$f":"'SHALA DARPAN DATA'!T4537","v":0},{"$f":"'SHALA DARPAN DATA'!V4537","v":0},{"$f":"'SHALA DARPAN DATA'!K4537","v":0},{"$f":"'SHALA DARPAN DATA'!E4537","v":0},{"$f":"'SHALA DARPAN DATA'!G4537","v":0},{"$f":"'SHALA DARPAN DATA'!H4537","v":0},{"$f":"'SHALA DARPAN DATA'!W4537","v":0},{"$f":"'SHALA DARPAN DATA'!R4537","v":0},{"$f":"'SHALA DARPAN DATA'!S4537","v":0},{"$f":"'SHALA DARPAN DATA'!O4537","v":0},0,0,0,0,0,0,0,0,0,0,0]
[{"$f":"'SHALA DARPAN DATA'!C4542","v":0},{"$f":"'SHALA DARPAN DATA'!A4542","v":0},{"$f":"'SHALA DARPAN DATA'!B4542","v":0},{"$f":"'SHALA DARPAN DATA'!D4542","v":0},{"$f":"'SHALA DARPAN DATA'!J4542","v":0},{"$f":"'SHALA DARPAN DATA'!T4542","v":0},{"$f":"'SHALA DARPAN DATA'!V4542","v":0},{"$f":"'SHALA DARPAN DATA'!K4542","v":0},{"$f":"'SHALA DARPAN DATA'!E4542","v":0},{"$f":"'SHALA DARPAN DATA'!G4542","v":0},{"$f":"'SHALA DARPAN DATA'!H4542","v":0},{"$f":"'SHALA DARPAN DATA'!W4542","v":0},{"$f":"'SHALA DARPAN DATA'!R4542","v":0},{"$f":"'SHALA DARPAN DATA'!S4542","v":0},{"$f":"'SHALA DARPAN DATA'!O4542","v":0},0,0,0,0,0,0,0,0,0,0,0]
[{"$f":"'SHALA DARPAN DATA'!C4546","v":0},{"$f":"'SHALA DARPAN DATA'!A4546","v":0},{"$f":"'SHALA DARPAN DATA'!B4546","v":0},{"$f":"'SHALA DARPAN DATA'!D4546","v":0},{"$f":"'SHALA DARPAN DATA'!J4546","v":0},{"$f":"'SHALA DARPAN DATA'!T4546","v":0},{"$f":"'SHALA DARPAN DATA'!V4546","v":0},{"$f":"'SHALA DARPAN DATA'!K4546","v":0},{"$f":"'SHALA DARPAN DATA'!E4546","v":0},{"$f":"'SHALA DARPAN DATA'!G4546","v":0},{"$f":"'SHALA DARPAN DATA'!H4546","v":0},{"$f":"'SHALA DARPAN DATA'!W4546","v":0},{"$f":"'SHALA DARPAN DATA'!R4546","v":0},{"$f":"'SHALA DARPAN DATA'!S4546","v":0},{"$f":"'SHALA DARPAN DATA'!O4546","v":0},0,0,0,0,0,0,0,0,0,0,0]
[{"$f":"'SHALA DARPAN DATA'!C4551","v":0},{"$f":"'SHALA DARPAN DATA'!A4551","v":0},{"$f":"'SHALA DARPAN DATA'!B4551","v":0},{"$f":"'SHALA DARPAN DATA'!D4551","v":0},{"$f":"'SHALA DARPAN DATA'!J4551","v":0},{"$f":"'SHALA DARPAN DATA'!T4551","v":0},{"$f":"'SHALA DARPAN DATA'!V4551","v":0},{"$f":"'SHALA DARPAN DATA'!K4551","v":0},{"$f":"'SHALA DARPAN DATA'!E4551","v":0},{"$f":"'SHALA DARPAN DATA'!G4551","v":0},{"$f":"'SHALA DARPAN DATA'!H4551","v":0},{"$f":"'SHALA DARPAN DATA'!W4551","v":0},{"$f":"'SHALA DARPAN DATA'!R4551","v":0},{"$f":"'SHALA DARPAN DATA'!S4551","v":0},{"$f":"'SHALA DARPAN DATA'!O4551","v":0},0,0,0,0,0,0,0,0,0,0,0]
[{"$f":"'SHALA DARPAN DATA'!C4552","v":0},{"$f":"'SHALA DARPAN DATA'!A4552","v":0},{"$f":"'SHALA DARPAN DATA'!B4552","v":0},{"$f":"'SHALA DARPAN DATA'!D4552","v":0},{"$f":"'SHALA DARPAN DATA'!J4552","v":0},{"$f":"'SHALA DARPAN DATA'!T4552","v":0},{"$f":"'SHALA DARPAN DATA'!V4552","v":0},{"$f":"'SHALA DARPAN DATA'!K4552","v":0},{"$f":"'SHALA DARPAN DATA'!E4552","v":0},{"$f":"'SHALA DARPAN DATA'!G4552","v":0},{"$f":"'SHALA DARPAN DATA'!H4552","v":0},{"$f":"'SHALA DARPAN DATA'!W4552","v":0},{"$f":"'SHALA DARPAN DATA'!R4552","v":0},{"$f":"'SHALA DARPAN DATA'!S4552","v":0},{"$f":"'SHALA DARPAN DATA'!O4552","v":0},0,0,0,0,0,0,0,0,0,0,0]
[{"$f":"'SHALA DARPAN DATA'!C4556","v":0},{"$f":"'SHALA DARPAN DATA'!A4556","v":0},{"$f":"'SHALA DARPAN DATA'!B4556","v":0},{"$f":"'SHALA DARPAN DATA'!D4556","v":0},{"$f":"'SHALA DARPAN DATA'!J4556","v":0},{"$f":"'SHALA DARPAN DATA'!T4556","v":0},{"$f":"'SHALA DARPAN DATA'!V4556","v":0},{"$f":"'SHALA DARPAN DATA'!K4556","v":0},{"$f":"'SHALA DARPAN DATA'!E4556","v":0},{"$f":"'SHALA DARPAN DATA'!G4556","v":0},{"$f":"'SHALA DARPAN DATA'!H4556","v":0},{"$f":"'SHALA DARPAN DATA'!W4556","v":0},{"$f":"'SHALA DARPAN DATA'!R4556","v":0},{"$f":"'SHALA DARPAN DATA'!S4556","v":0},{"$f":"'SHALA DARPAN DATA'!O4556","v":0},0,0,0,0,0,0,0,0,0,0,0]
[{"$f":"'SHALA DARPAN DATA'!C4561","v":0},{"$f":"'SHALA DARPAN DATA'!A4561","v":0},{"$f":"'SHALA DARPAN DATA'!B4561","v":0},{"$f":"'SHALA DARPAN DATA'!D4561","v":0},{"$f":"'SHALA DARPAN DATA'!J4561","v":0},{"$f":"'SHALA DARPAN DATA'!T4561","v":0},{"$f":"'SHALA DARPAN DATA'!V4561","v":0},{"$f":"'SHALA DARPAN DATA'!K4561","v":0},{"$f":"'SHALA DARPAN DATA'!E4561","v":0},{"$f":"'SHALA DARPAN DATA'!G4561","v":0},{"$f":"'SHALA DARPAN DATA'!H4561","v":0},{"$f":"'SHALA DARPAN DATA'!W4561","v":0},{"$f":"'SHALA DARPAN DATA'!R4561","v":0},{"$f":"'SHALA DARPAN DATA'!S4561","v":0},{"$f":"'SHALA DARPAN DATA'!O4561","v":0},0,0,0,0,0,0,0,0,0,0,0]
[{"$f":"'SHALA DARPAN DATA'!C4566","v":0},{"$f":"'SHALA DARPAN DATA'!A4566","v":0},{"$f":"'SHALA DARPAN DATA'!B4566","v":0},{"$f":"'SHALA DARPAN DATA'!D4566","v":0},{"$f":"'SHALA DARPAN DATA'!J4566","v":0},{"$f":"'SHALA DARPAN DATA'!T4566","v":0},{"$f":"'SHALA DARPAN DATA'!V4566","v":0},{"$f":"'SHALA DARPAN DATA'!K4566","v":0},{"$f":"'SHALA DARPAN DATA'!E4566","v":0},{"$f":"'SHALA DARPAN DATA'!G4566","v":0},{"$f":"'SHALA DARPAN DATA'!H4566","v":0},{"$f":"'SHALA DARPAN DATA'!W4566","v":0},{"$f":"'SHALA DARPAN DATA'!R4566","v":0},{"$f":"'SHALA DARPAN DATA'!S4566","v":0},{"$f":"'SHALA DARPAN DATA'!O4566","v":0},0,0,0,0,0,0,0,0,0,0,0]
[{"$f":"'SHALA DARPAN DATA'!C4567","v":0},{"$f":"'SHALA DARPAN DATA'!A4567","v":0},{"$f":"'SHALA DARPAN DATA'!B4567","v":0},{"$f":"'SHALA DARPAN DATA'!D4567","v":0},{"$f":"'SHALA DARPAN DATA'!J4567","v":0},{"$f":"'SHALA DARPAN DATA'!T4567","v":0},{"$f":"'SHALA DARPAN DATA'!V4567","v":0},{"$f":"'SHALA DARPAN DATA'!K4567","v":0},{"$f":"'SHALA DARPAN DATA'!E4567","v":0},{"$f":"'SHALA DARPAN DATA'!G4567","v":0},{"$f":"'SHALA DARPAN DATA'!H4567","v":0},{"$f":"'SHALA DARPAN DATA'!W4567","v":0},{"$f":"'SHALA DARPAN DATA'!R4567","v":0},{"$f":"'SHALA DARPAN DATA'!S4567","v":0},{"$f":"'SHALA DARPAN DATA'!O4567","v":0},0,0,0,0,0,0,0,0,0,0,0]
[{"$f":"'SHALA DARPAN DATA'!C4572","v":0},{"$f":"'SHALA DARPAN DATA'!A4572","v":0},{"$f":"'SHALA DARPAN DATA'!B4572","v":0},{"$f":"'SHALA DARPAN DATA'!D4572","v":0},{"$f":"'SHALA DARPAN DATA'!J4572","v":0},{"$f":"'SHALA DARPAN DATA'!T4572","v":0},{"$f":"'SHALA DARPAN DATA'!V4572","v":0},{"$f":"'SHALA DARPAN DATA'!K4572","v":0},{"$f":"'SHALA DARPAN DATA'!E4572","v":0},{"$f":"'SHALA DARPAN DATA'!G4572","v":0},{"$f":"'SHALA DARPAN DATA'!H4572","v":0},{"$f":"'SHALA DARPAN DATA'!W4572","v":0},{"$f":"'SHALA DARPAN DATA'!R4572","v":0},{"$f":"'SHALA DARPAN DATA'!S4572","v":0},{"$f":"'SHALA DARPAN DATA'!O4572","v":0},0,0,0,0,0,0,0,0,0,0,0]
[{"$f":"'SHALA DARPAN DATA'!C4576","v":0},{"$f":"'SHALA DARPAN DATA'!A4576","v":0},{"$f":"'SHALA DARPAN DATA'!B4576","v":0},{"$f":"'SHALA DARPAN DATA'!D4576","v":0},{"$f":"'SHALA DARPAN DATA'!J4576","v":0},{"$f":"'SHALA DARPAN DATA'!T4576","v":0},{"$f":"'SHALA DARPAN DATA'!V4576","v":0},{"$f":"'SHALA DARPAN DATA'!K4576","v":0},{"$f":"'SHALA DARPAN DATA'!E4576","v":0},{"$f":"'SHALA DARPAN DATA'!G4576","v":0},{"$f":"'SHALA DARPAN DATA'!H4576","v":0},{"$f":"'SHALA DARPAN DATA'!W4576","v":0},{"$f":"'SHALA DARPAN DATA'!R4576","v":0},{"$f":"'SHALA DARPAN DATA'!S4576","v":0},{"$f":"'SHALA DARPAN DATA'!O4576","v":0},0,0,0,0,0,0,0,0,0,0,0]
[{"$f":"'SHALA DARPAN DATA'!C4581","v":0},{"$f":"'SHALA DARPAN DATA'!A4581","v":0},{"$f":"'SHALA DARPAN DATA'!B4581","v":0},{"$f":"'SHALA DARPAN DATA'!D4581","v":0},{"$f":"'SHALA DARPAN DATA'!J4581","v":0},{"$f":"'SHALA DARPAN DATA'!T4581","v":0},{"$f":"'SHALA DARPAN DATA'!V4581","v":0},{"$f":"'SHALA DARPAN DATA'!K4581","v":0},{"$f":"'SHALA DARPAN DATA'!E4581","v":0},{"$f":"'SHALA DARPAN DATA'!G4581","v":0},{"$f":"'SHALA DARPAN DATA'!H4581","v":0},{"$f":"'SHALA DARPAN DATA'!W4581","v":0},{"$f":"'SHALA DARPAN DATA'!R4581","v":0},{"$f":"'SHALA DARPAN DATA'!S4581","v":0},{"$f":"'SHALA DARPAN DATA'!O4581","v":0},0,0,0,0,0,0,0,0,0,0,0]
[{"$f":"'SHALA DARPAN DATA'!C4582","v":0},{"$f":"'SHALA DARPAN DATA'!A4582","v":0},{"$f":"'SHALA DARPAN DATA'!B4582","v":0},{"$f":"'SHALA DARPAN DATA'!D4582","v":0},{"$f":"'SHALA DARPAN DATA'!J4582","v":0},{"$f":"'SHALA DARPAN DATA'!T4582","v":0},{"$f":"'SHALA DARPAN DATA'!V4582","v":0},{"$f":"'SHALA DARPAN DATA'!K4582","v":0},{"$f":"'SHALA DARPAN DATA'!E4582","v":0},{"$f":"'SHALA DARPAN DATA'!G4582","v":0},{"$f":"'SHALA DARPAN DATA'!H4582","v":0},{"$f":"'SHALA DARPAN DATA'!W4582","v":0},{"$f":"'SHALA DARPAN DATA'!R4582","v":0},{"$f":"'SHALA DARPAN DATA'!S4582","v":0},{"$f":"'SHALA DARPAN DATA'!O4582","v":0},0,0,0,0,0,0,0,0,0,0,0]
[{"$f":"'SHALA DARPAN DATA'!C4586","v":0},{"$f":"'SHALA DARPAN DATA'!A4586","v":0},{"$f":"'SHALA DARPAN DATA'!B4586","v":0},{"$f":"'SHALA DARPAN DATA'!D4586","v":0},{"$f":"'SHALA DARPAN DATA'!J4586","v":0},{"$f":"'SHALA DARPAN DATA'!T4586","v":0},{"$f":"'SHALA DARPAN DATA'!V4586","v":0},{"$f":"'SHALA DARPAN DATA'!K4586","v":0},{"$f":"'SHALA DARPAN DATA'!E4586","v":0},{"$f":"'SHALA DARPAN DATA'!G4586","v":0},{"$f":"'SHALA DARPAN DATA'!H4586","v":0},{"$f":"'SHALA DARPAN DATA'!W4586","v":0},{"$f":"'SHALA DARPAN DATA'!R4586","v":0},{"$f":"'SHALA DARPAN DATA'!S4586","v":0},{"$f":"'SHALA DARPAN DATA'!O4586","v":0},0,0,0,0,0,0,0,0,0,0,0]
[{"$f":"'SHALA DARPAN DATA'!C4591","v":0},{"$f":"'SHALA DARPAN DATA'!A4591","v":0},{"$f":"'SHALA DARPAN DATA'!B4591","v":0},{"$f":"'SHALA DARPAN DATA'!D4591","v":0},{"$f":"'SHALA DARPAN DATA'!J4591","v":0},{"$f":"'SHALA DARPAN DATA'!T4591","v":0},{"$f":"'SHALA DARPAN DATA'!V4591","v":0},{"$f":"'SHALA DARPAN DATA'!K4591","v":0},{"$f":"'SHALA DARPAN DATA'!E4591","v":0},{"$f":"'SHALA DARPAN DATA'!G4591","v":0},{"$f":"'SHALA DARPAN DATA'!H4591","v":0},{"$f":"'SHALA DARPAN DATA'!W4591","v":0},{"$f":"'SHALA DARPAN DATA'!R4591","v":0},{"$f":"'SHALA DARPAN DATA'!S4591","v":0},{"$f":"'SHALA DARPAN DATA'!O4591","v":0},0,0,0,0,0,0,0,0,0,0,0]
[{"$f":"'SHALA DARPAN DATA'!C4596","v":0},{"$f":"'SHALA DARPAN DATA'!A4596","v":0},{"$f":"'SHALA DARPAN DATA'!B4596","v":0},{"$f":"'SHALA DARPAN DATA'!D4596","v":0},{"$f":"'SHALA DARPAN DATA'!J4596","v":0},{"$f":"'SHALA DARPAN DATA'!T4596","v":0},{"$f":"'SHALA DARPAN DATA'!V4596","v":0},{"$f":"'SHALA DARPAN DATA'!K4596","v":0},{"$f":"'SHALA DARPAN DATA'!E4596","v":0},{"$f":"'SHALA DARPAN DATA'!G4596","v":0},{"$f":"'SHALA DARPAN DATA'!H4596","v":0},{"$f":"'SHALA DARPAN DATA'!W4596","v":0},{"$f":"'SHALA DARPAN DATA'!R4596","v":0},{"$f":"'SHALA DARPAN DATA'!S4596","v":0},{"$f":"'SHALA DARPAN DATA'!O4596","v":0},0,0,0,0,0,0,0,0,0,0,0]
[{"$f":"'SHALA DARPAN DATA'!C4597","v":0},{"$f":"'SHALA DARPAN DATA'!A4597","v":0},{"$f":"'SHALA DARPAN DATA'!B4597","v":0},{"$f":"'SHALA DARPAN DATA'!D4597","v":0},{"$f":"'SHALA DARPAN DATA'!J4597","v":0},{"$f":"'SHALA DARPAN DATA'!T4597","v":0},{"$f":"'SHALA DARPAN DATA'!V4597","v":0},{"$f":"'SHALA DARPAN DATA'!K4597","v":0},{"$f":"'SHALA DARPAN DATA'!E4597","v":0},{"$f":"'SHALA DARPAN DATA'!G4597","v":0},{"$f":"'SHALA DARPAN DATA'!H4597","v":0},{"$f":"'SHALA DARPAN DATA'!W4597","v":0},{"$f":"'SHALA DARPAN DATA'!R4597","v":0},{"$f":"'SHALA DARPAN DATA'!S4597","v":0},{"$f":"'SHALA DARPAN DATA'!O4597","v":0},0,0,0,0,0,0,0,0,0,0,0]
[{"$f":"'SHALA DARPAN DATA'!C4602","v":0},{"$f":"'SHALA DARPAN DATA'!A4602","v":0},{"$f":"'SHALA DARPAN DATA'!B4602","v":0},{"$f":"'SHALA DARPAN DATA'!D4602","v":0},{"$f":"'SHALA DARPAN DATA'!J4602","v":0},{"$f":"'SHALA DARPAN DATA'!T4602","v":0},{"$f":"'SHALA DARPAN DATA'!V4602","v":0},{"$f":"'SHALA DARPAN DATA'!K4602","v":0},{"$f":"'SHALA DARPAN DATA'!E4602","v":0},{"$f":"'SHALA DARPAN DATA'!G4602","v":0},{"$f":"'SHALA DARPAN DATA'!H4602","v":0},{"$f":"'SHALA DARPAN DATA'!W4602","v":0},{"$f":"'SHALA DARPAN DATA'!R4602","v":0},{"$f":"'SHALA DARPAN DATA'!S4602","v":0},{"$f":"'SHALA DARPAN DATA'!O4602","v":0},0,0,0,0,0,0,0,0,0,0,0]
[{"$f":"'SHALA DARPAN DATA'!C4606","v":0},{"$f":"'SHALA DARPAN DATA'!A4606","v":0},{"$f":"'SHALA DARPAN DATA'!B4606","v":0},{"$f":"'SHALA DARPAN DATA'!D4606","v":0},{"$f":"'SHALA DARPAN DATA'!J4606","v":0},{"$f":"'SHALA DARPAN DATA'!T4606","v":0},{"$f":"'SHALA DARPAN DATA'!V4606","v":0},{"$f":"'SHALA DARPAN DATA'!K4606","v":0},{"$f":"'SHALA DARPAN DATA'!E4606","v":0},{"$f":"'SHALA DARPAN DATA'!G4606","v":0},{"$f":"'SHALA DARPAN DATA'!H4606","v":0},{"$f":"'SHALA DARPAN DATA'!W4606","v":0},{"$f":"'SHALA DARPAN DATA'!R4606","v":0},{"$f":"'SHALA DARPAN DATA'!S4606","v":0},{"$f":"'SHALA DARPAN DATA'!O4606","v":0},0,0,0,0,0,0,0,0,0,0,0]
[{"$f":"'SHALA DARPAN DATA'!C4611","v":0},{"$f":"'SHALA DARPAN DATA'!A4611","v":0},{"$f":"'SHALA DARPAN DATA'!B4611","v":0},{"$f":"'SHALA DARPAN DATA'!D4611","v":0},{"$f":"'SHALA DARPAN DATA'!J4611","v":0},{"$f":"'SHALA DARPAN DATA'!T4611","v":0},{"$f":"'SHALA DARPAN DATA'!V4611","v":0},{"$f":"'SHALA DARPAN DATA'!K4611","v":0},{"$f":"'SHALA DARPAN DATA'!E4611","v":0},{"$f":"'SHALA DARPAN DATA'!G4611","v":0},{"$f":"'SHALA DARPAN DATA'!H4611","v":0},{"$f":"'SHALA DARPAN DATA'!W4611","v":0},{"$f":"'SHALA DARPAN DATA'!R4611","v":0},{"$f":"'SHALA DARPAN DATA'!S4611","v":0},{"$f":"'SHALA DARPAN DATA'!O4611","v":0},0,0,0,0,0,0,0,0,0,0,0]
[{"$f":"'SHALA DARPAN DATA'!C4612","v":0},{"$f":"'SHALA DARPAN DATA'!A4612","v":0},{"$f":"'SHALA DARPAN DATA'!B4612","v":0},{"$f":"'SHALA DARPAN DATA'!D4612","v":0},{"$f":"'SHALA DARPAN DATA'!J4612","v":0},{"$f":"'SHALA DARPAN DATA'!T4612","v":0},{"$f":"'SHALA DARPAN DATA'!V4612","v":0},{"$f":"'SHALA DARPAN DATA'!K4612","v":0},{"$f":"'SHALA DARPAN DATA'!E4612","v":0},{"$f":"'SHALA DARPAN DATA'!G4612","v":0},{"$f":"'SHALA DARPAN DATA'!H4612","v":0},{"$f":"'SHALA DARPAN DATA'!W4612","v":0},{"$f":"'SHALA DARPAN DATA'!R4612","v":0},{"$f":"'SHALA DARPAN DATA'!S4612","v":0},{"$f":"'SHALA DARPAN DATA'!O4612","v":0},0,0,0,0,0,0,0,0,0,0,0]
[{"$f":"'SHALA DARPAN DATA'!C4616","v":0},{"$f":"'SHALA DARPAN DATA'!A4616","v":0},{"$f":"'SHALA DARPAN DATA'!B4616","v":0},{"$f":"'SHALA DARPAN DATA'!D4616","v":0},{"$f":"'SHALA DARPAN DATA'!J4616","v":0},{"$f":"'SHALA DARPAN DATA'!T4616","v":0},{"$f":"'SHALA DARPAN DATA'!V4616","v":0},{"$f":"'SHALA DARPAN DATA'!K4616","v":0},{"$f":"'SHALA DARPAN DATA'!E4616","v":0},{"$f":"'SHALA DARPAN DATA'!G4616","v":0},{"$f":"'SHALA DARPAN DATA'!H4616","v":0},{"$f":"'SHALA DARPAN DATA'!W4616","v":0},{"$f":"'SHALA DARPAN DATA'!R4616","v":0},{"$f":"'SHALA DARPAN DATA'!S4616","v":0},{"$f":"'SHALA DARPAN DATA'!O4616","v":0},0,0,0,0,0,0,0,0,0,0,0]
[{"$f":"'SHALA DARPAN DATA'!C4621","v":0},{"$f":"'SHALA DARPAN DATA'!A4621","v":0},{"$f":"'SHALA DARPAN DATA'!B4621","v":0},{"$f":"'SHALA DARPAN DATA'!D4621","v":0},{"$f":"'SHALA DARPAN DATA'!J4621","v":0},{"$f":"'SHALA DARPAN DATA'!T4621","v":0},{"$f":"'SHALA DARPAN DATA'!V4621","v":0},{"$f":"'SHALA DARPAN DATA'!K4621","v":0},{"$f":"'SHALA DARPAN DATA'!E4621","v":0},{"$f":"'SHALA DARPAN DATA'!G4621","v":0},{"$f":"'SHALA DARPAN DATA'!H4621","v":0},{"$f":"'SHALA DARPAN DATA'!W4621","v":0},{"$f":"'SHALA DARPAN DATA'!R4621","v":0},{"$f":"'SHALA DARPAN DATA'!S4621","v":0},{"$f":"'SHALA DARPAN DATA'!O4621","v":0},0,0,0,0,0,0,0,0,0,0,0]
[{"$f":"'SHALA DARPAN DATA'!C4626","v":0},{"$f":"'SHALA DARPAN DATA'!A4626","v":0},{"$f":"'SHALA DARPAN DATA'!B4626","v":0},{"$f":"'SHALA DARPAN DATA'!D4626","v":0},{"$f":"'SHALA DARPAN DATA'!J4626","v":0},{"$f":"'SHALA DARPAN DATA'!T4626","v":0},{"$f":"'SHALA DARPAN DATA'!V4626","v":0},{"$f":"'SHALA DARPAN DATA'!K4626","v":0},{"$f":"'SHALA DARPAN DATA'!E4626","v":0},{"$f":"'SHALA DARPAN DATA'!G4626","v":0},{"$f":"'SHALA DARPAN DATA'!H4626","v":0},{"$f":"'SHALA DARPAN DATA'!W4626","v":0},{"$f":"'SHALA DARPAN DATA'!R4626","v":0},{"$f":"'SHALA DARPAN DATA'!S4626","v":0},{"$f":"'SHALA DARPAN DATA'!O4626","v":0},0,0,0,0,0,0,0,0,0,0,0]
[{"$f":"'SHALA DARPAN DATA'!C4627","v":0},{"$f":"'SHALA DARPAN DATA'!A4627","v":0},{"$f":"'SHALA DARPAN DATA'!B4627","v":0},{"$f":"'SHALA DARPAN DATA'!D4627","v":0},{"$f":"'SHALA DARPAN DATA'!J4627","v":0},{"$f":"'SHALA DARPAN DATA'!T4627","v":0},{"$f":"'SHALA DARPAN DATA'!V4627","v":0},{"$f":"'SHALA DARPAN DATA'!K4627","v":0},{"$f":"'SHALA DARPAN DATA'!E4627","v":0},{"$f":"'SHALA DARPAN DATA'!G4627","v":0},{"$f":"'SHALA DARPAN DATA'!H4627","v":0},{"$f":"'SHALA DARPAN DATA'!W4627","v":0},{"$f":"'SHALA DARPAN DATA'!R4627","v":0},{"$f":"'SHALA DARPAN DATA'!S4627","v":0},{"$f":"'SHALA DARPAN DATA'!O4627","v":0},0,0,0,0,0,0,0,0,0,0,0]
[{"$f":"'SHALA DARPAN DATA'!C4632","v":0},{"$f":"'SHALA DARPAN DATA'!A4632","v":0},{"$f":"'SHALA DARPAN DATA'!B4632","v":0},{"$f":"'SHALA DARPAN DATA'!D4632","v":0},{"$f":"'SHALA DARPAN DATA'!J4632","v":0},{"$f":"'SHALA DARPAN DATA'!T4632","v":0},{"$f":"'SHALA DARPAN DATA'!V4632","v":0},{"$f":"'SHALA DARPAN DATA'!K4632","v":0},{"$f":"'SHALA DARPAN DATA'!E4632","v":0},{"$f":"'SHALA DARPAN DATA'!G4632","v":0},{"$f":"'SHALA DARPAN DATA'!H4632","v":0},{"$f":"'SHALA DARPAN DATA'!W4632","v":0},{"$f":"'SHALA DARPAN DATA'!R4632","v":0},{"$f":"'SHALA DARPAN DATA'!S4632","v":0},{"$f":"'SHALA DARPAN DATA'!O4632","v":0},0,0,0,0,0,0,0,0,0,0,0]
[{"$f":"'SHALA DARPAN DATA'!C4636","v":0},{"$f":"'SHALA DARPAN DATA'!A4636","v":0},{"$f":"'SHALA DARPAN DATA'!B4636","v":0},{"$f":"'SHALA DARPAN DATA'!D4636","v":0},{"$f":"'SHALA DARPAN DATA'!J4636","v":0},{"$f":"'SHALA DARPAN DATA'!T4636","v":0},{"$f":"'SHALA DARPAN DATA'!V4636","v":0},{"$f":"'SHALA DARPAN DATA'!K4636","v":0},{"$f":"'SHALA DARPAN DATA'!E4636","v":0},{"$f":"'SHALA DARPAN DATA'!G4636","v":0},{"$f":"'SHALA DARPAN DATA'!H4636","v":0},{"$f":"'SHALA DARPAN DATA'!W4636","v":0},{"$f":"'SHALA DARPAN DATA'!R4636","v":0},{"$f":"'SHALA DARPAN DATA'!S4636","v":0},{"$f":"'SHALA DARPAN DATA'!O4636","v":0},0,0,0,0,0,0,0,0,0,0,0]
[{"$f":"'SHALA DARPAN DATA'!C4641","v":0},{"$f":"'SHALA DARPAN DATA'!A4641","v":0},{"$f":"'SHALA DARPAN DATA'!B4641","v":0},{"$f":"'SHALA DARPAN DATA'!D4641","v":0},{"$f":"'SHALA DARPAN DATA'!J4641","v":0},{"$f":"'SHALA DARPAN DATA'!T4641","v":0},{"$f":"'SHALA DARPAN DATA'!V4641","v":0},{"$f":"'SHALA DARPAN DATA'!K4641","v":0},{"$f":"'SHALA DARPAN DATA'!E4641","v":0},{"$f":"'SHALA DARPAN DATA'!G4641","v":0},{"$f":"'SHALA DARPAN DATA'!H4641","v":0},{"$f":"'SHALA DARPAN DATA'!W4641","v":0},{"$f":"'SHALA DARPAN DATA'!R4641","v":0},{"$f":"'SHALA DARPAN DATA'!S4641","v":0},{"$f":"'SHALA DARPAN DATA'!O4641","v":0},0,0,0,0,0,0,0,0,0,0,0]
[{"$f":"'SHALA DARPAN DATA'!C4642","v":0},{"$f":"'SHALA DARPAN DATA'!A4642","v":0},{"$f":"'SHALA DARPAN DATA'!B4642","v":0},{"$f":"'SHALA DARPAN DATA'!D4642","v":0},{"$f":"'SHALA DARPAN DATA'!J4642","v":0},{"$f":"'SHALA DARPAN DATA'!T4642","v":0},{"$f":"'SHALA DARPAN DATA'!V4642","v":0},{"$f":"'SHALA DARPAN DATA'!K4642","v":0},{"$f":"'SHALA DARPAN DATA'!E4642","v":0},{"$f":"'SHALA DARPAN DATA'!G4642","v":0},{"$f":"'SHALA DARPAN DATA'!H4642","v":0},{"$f":"'SHALA DARPAN DATA'!W4642","v":0},{"$f":"'SHALA DARPAN DATA'!R4642","v":0},{"$f":"'SHALA DARPAN DATA'!S4642","v":0},{"$f":"'SHALA DARPAN DATA'!O4642","v":0},0,0,0,0,0,0,0,0,0,0,0]
[{"$f":"'SHALA DARPAN DATA'!C4646","v":0},{"$f":"'SHALA DARPAN DATA'!A4646","v":0},{"$f":"'SHALA DARPAN DATA'!B4646","v":0},{"$f":"'SHALA DARPAN DATA'!D4646","v":0},{"$f":"'SHALA DARPAN DATA'!J4646","v":0},{"$f":"'SHALA DARPAN DATA'!T4646","v":0},{"$f":"'SHALA DARPAN DATA'!V4646","v":0},{"$f":"'SHALA DARPAN DATA'!K4646","v":0},{"$f":"'SHALA DARPAN DATA'!E4646","v":0},{"$f":"'SHALA DARPAN DATA'!G4646","v":0},{"$f":"'SHALA DARPAN DATA'!H4646","v":0},{"$f":"'SHALA DARPAN DATA'!W4646","v":0},{"$f":"'SHALA DARPAN DATA'!R4646","v":0},{"$f":"'SHALA DARPAN DATA'!S4646","v":0},{"$f":"'SHALA DARPAN DATA'!O4646","v":0},0,0,0,0,0,0,0,0,0,0,0]
[{"$f":"'SHALA DARPAN DATA'!C4651","v":0},{"$f":"'SHALA DARPAN DATA'!A4651","v":0},{"$f":"'SHALA DARPAN DATA'!B4651","v":0},{"$f":"'SHALA DARPAN DATA'!D4651","v":0},{"$f":"'SHALA DARPAN DATA'!J4651","v":0},{"$f":"'SHALA DARPAN DATA'!T4651","v":0},{"$f":"'SHALA DARPAN DATA'!V4651","v":0},{"$f":"'SHALA DARPAN DATA'!K4651","v":0},{"$f":"'SHALA DARPAN DATA'!E4651","v":0},{"$f":"'SHALA DARPAN DATA'!G4651","v":0},{"$f":"'SHALA DARPAN DATA'!H4651","v":0},{"$f":"'SHALA DARPAN DATA'!W4651","v":0},{"$f":"'SHALA DARPAN DATA'!R4651","v":0},{"$f":"'SHALA DARPAN DATA'!S4651","v":0},{"$f":"'SHALA DARPAN DATA'!O4651","v":0},0,0,0,0,0,0,0,0,0,0,0]
[{"$f":"'SHALA DARPAN DATA'!C4656","v":0},{"$f":"'SHALA DARPAN DATA'!A4656","v":0},{"$f":"'SHALA DARPAN DATA'!B4656","v":0},{"$f":"'SHALA DARPAN DATA'!D4656","v":0},{"$f":"'SHALA DARPAN DATA'!J4656","v":0},{"$f":"'SHALA DARPAN DATA'!T4656","v":0},{"$f":"'SHALA DARPAN DATA'!V4656","v":0},{"$f":"'SHALA DARPAN DATA'!K4656","v":0},{"$f":"'SHALA DARPAN DATA'!E4656","v":0},{"$f":"'SHALA DARPAN DATA'!G4656","v":0},{"$f":"'SHALA DARPAN DATA'!H4656","v":0},{"$f":"'SHALA DARPAN DATA'!W4656","v":0},{"$f":"'SHALA DARPAN DATA'!R4656","v":0},{"$f":"'SHALA DARPAN DATA'!S4656","v":0},{"$f":"'SHALA DARPAN DATA'!O4656","v":0},0,0,0,0,0,0,0,0,0,0,0]
[{"$f":"'SHALA DARPAN DATA'!C4657","v":0},{"$f":"'SHALA DARPAN DATA'!A4657","v":0},{"$f":"'SHALA DARPAN DATA'!B4657","v":0},{"$f":"'SHALA DARPAN DATA'!D4657","v":0},{"$f":"'SHALA DARPAN DATA'!J4657","v":0},{"$f":"'SHALA DARPAN DATA'!T4657","v":0},{"$f":"'SHALA DARPAN DATA'!V4657","v":0},{"$f":"'SHALA DARPAN DATA'!K4657","v":0},{"$f":"'SHALA DARPAN DATA'!E4657","v":0},{"$f":"'SHALA DARPAN DATA'!G4657","v":0},{"$f":"'SHALA DARPAN DATA'!H4657","v":0},{"$f":"'SHALA DARPAN DATA'!W4657","v":0},{"$f":"'SHALA DARPAN DATA'!R4657","v":0},{"$f":"'SHALA DARPAN DATA'!S4657","v":0},{"$f":"'SHALA DARPAN DATA'!O4657","v":0},0,0,0,0,0,0,0,0,0,0,0]
[{"$f":"'SHALA DARPAN DATA'!C4662","v":0},{"$f":"'SHALA DARPAN DATA'!A4662","v":0},{"$f":"'SHALA DARPAN DATA'!B4662","v":0},{"$f":"'SHALA DARPAN DATA'!D4662","v":0},{"$f":"'SHALA DARPAN DATA'!J4662","v":0},{"$f":"'SHALA DARPAN DATA'!T4662","v":0},{"$f":"'SHALA DARPAN DATA'!V4662","v":0},{"$f":"'SHALA DARPAN DATA'!K4662","v":0},{"$f":"'SHALA DARPAN DATA'!E4662","v":0},{"$f":"'SHALA DARPAN DATA'!G4662","v":0},{"$f":"'SHALA DARPAN DATA'!H4662","v":0},{"$f":"'SHALA DARPAN DATA'!W4662","v":0},{"$f":"'SHALA DARPAN DATA'!R4662","v":0},{"$f":"'SHALA DARPAN DATA'!S4662","v":0},{"$f":"'SHALA DARPAN DATA'!O4662","v":0},0,0,0,0,0,0,0,0,0,0,0]
[{"$f":"'SHALA DARPAN DATA'!C4666","v":0},{"$f":"'SHALA DARPAN DATA'!A4666","v":0},{"$f":"'SHALA DARPAN DATA'!B4666","v":0},{"$f":"'SHALA DARPAN DATA'!D4666","v":0},{"$f":"'SHALA DARPAN DATA'!J4666","v":0},{"$f":"'SHALA DARPAN DATA'!T4666","v":0},{"$f":"'SHALA DARPAN DATA'!V4666","v":0},{"$f":"'SHALA DARPAN DATA'!K4666","v":0},{"$f":"'SHALA DARPAN DATA'!E4666","v":0},{"$f":"'SHALA DARPAN DATA'!G4666","v":0},{"$f":"'SHALA DARPAN DATA'!H4666","v":0},{"$f":"'SHALA DARPAN DATA'!W4666","v":0},{"$f":"'SHALA DARPAN DATA'!R4666","v":0},{"$f":"'SHALA DARPAN DATA'!S4666","v":0},{"$f":"'SHALA DARPAN DATA'!O4666","v":0},0,0,0,0,0,0,0,0,0,0,0]
[{"$f":"'SHALA DARPAN DATA'!C4671","v":0},{"$f":"'SHALA DARPAN DATA'!A4671","v":0},{"$f":"'SHALA DARPAN DATA'!B4671","v":0},{"$f":"'SHALA DARPAN DATA'!D4671","v":0},{"$f":"'SHALA DARPAN DATA'!J4671","v":0},{"$f":"'SHALA DARPAN DATA'!T4671","v":0},{"$f":"'SHALA DARPAN DATA'!V4671","v":0},{"$f":"'SHALA DARPAN DATA'!K4671","v":0},{"$f":"'SHALA DARPAN DATA'!E4671","v":0},{"$f":"'SHALA DARPAN DATA'!G4671","v":0},{"$f":"'SHALA DARPAN DATA'!H4671","v":0},{"$f":"'SHALA DARPAN DATA'!W4671","v":0},{"$f":"'SHALA DARPAN DATA'!R4671","v":0},{"$f":"'SHALA DARPAN DATA'!S4671","v":0},{"$f":"'SHALA DARPAN DATA'!O4671","v":0},0,0,0,0,0,0,0,0,0,0,0]
[{"$f":"'SHALA DARPAN DATA'!C4672","v":0},{"$f":"'SHALA DARPAN DATA'!A4672","v":0},{"$f":"'SHALA DARPAN DATA'!B4672","v":0},{"$f":"'SHALA DARPAN DATA'!D4672","v":0},{"$f":"'SHALA DARPAN DATA'!J4672","v":0},{"$f":"'SHALA DARPAN DATA'!T4672","v":0},{"$f":"'SHALA DARPAN DATA'!V4672","v":0},{"$f":"'SHALA DARPAN DATA'!K4672","v":0},{"$f":"'SHALA DARPAN DATA'!E4672","v":0},{"$f":"'SHALA DARPAN DATA'!G4672","v":0},{"$f":"'SHALA DARPAN DATA'!H4672","v":0},{"$f":"'SHALA DARPAN DATA'!W4672","v":0},{"$f":"'SHALA DARPAN DATA'!R4672","v":0},{"$f":"'SHALA DARPAN DATA'!S4672","v":0},{"$f":"'SHALA DARPAN DATA'!O4672","v":0},0,0,0,0,0,0,0,0,0,0,0]
[{"$f":"'SHALA DARPAN DATA'!C4676","v":0},{"$f":"'SHALA DARPAN DATA'!A4676","v":0},{"$f":"'SHALA DARPAN DATA'!B4676","v":0},{"$f":"'SHALA DARPAN DATA'!D4676","v":0},{"$f":"'SHALA DARPAN DATA'!J4676","v":0},{"$f":"'SHALA DARPAN DATA'!T4676","v":0},{"$f":"'SHALA DARPAN DATA'!V4676","v":0},{"$f":"'SHALA DARPAN DATA'!K4676","v":0},{"$f":"'SHALA DARPAN DATA'!E4676","v":0},{"$f":"'SHALA DARPAN DATA'!G4676","v":0},{"$f":"'SHALA DARPAN DATA'!H4676","v":0},{"$f":"'SHALA DARPAN DATA'!W4676","v":0},{"$f":"'SHALA DARPAN DATA'!R4676","v":0},{"$f":"'SHALA DARPAN DATA'!S4676","v":0},{"$f":"'SHALA DARPAN DATA'!O4676","v":0},0,0,0,0,0,0,0,0,0,0,0]
[{"$f":"'SHALA DARPAN DATA'!C4681","v":0},{"$f":"'SHALA DARPAN DATA'!A4681","v":0},{"$f":"'SHALA DARPAN DATA'!B4681","v":0},{"$f":"'SHALA DARPAN DATA'!D4681","v":0},{"$f":"'SHALA DARPAN DATA'!J4681","v":0},{"$f":"'SHALA DARPAN DATA'!T4681","v":0},{"$f":"'SHALA DARPAN DATA'!V4681","v":0},{"$f":"'SHALA DARPAN DATA'!K4681","v":0},{"$f":"'SHALA DARPAN DATA'!E4681","v":0},{"$f":"'SHALA DARPAN DATA'!G4681","v":0},{"$f":"'SHALA DARPAN DATA'!H4681","v":0},{"$f":"'SHALA DARPAN DATA'!W4681","v":0},{"$f":"'SHALA DARPAN DATA'!R4681","v":0},{"$f":"'SHALA DARPAN DATA'!S4681","v":0},{"$f":"'SHALA DARPAN DATA'!O4681","v":0},0,0,0,0,0,0,0,0,0,0,0]
[{"$f":"'SHALA DARPAN DATA'!C4686","v":0},{"$f":"'SHALA DARPAN DATA'!A4686","v":0},{"$f":"'SHALA DARPAN DATA'!B4686","v":0},{"$f":"'SHALA DARPAN DATA'!D4686","v":0},{"$f":"'SHALA DARPAN DATA'!J4686","v":0},{"$f":"'SHALA DARPAN DATA'!T4686","v":0},{"$f":"'SHALA DARPAN DATA'!V4686","v":0},{"$f":"'SHALA DARPAN DATA'!K4686","v":0},{"$f":"'SHALA DARPAN DATA'!E4686","v":0},{"$f":"'SHALA DARPAN DATA'!G4686","v":0},{"$f":"'SHALA DARPAN DATA'!H4686","v":0},{"$f":"'SHALA DARPAN DATA'!W4686","v":0},{"$f":"'SHALA DARPAN DATA'!R4686","v":0},{"$f":"'SHALA DARPAN DATA'!S4686","v":0},{"$f":"'SHALA DARPAN DATA'!O4686","v":0},0,0,0,0,0,0,0,0,0,0,0]
[{"$f":"'SHALA DARPAN DATA'!C4687","v":0},{"$f":"'SHALA DARPAN DATA'!A4687","v":0},{"$f":"'SHALA DARPAN DATA'!B4687","v":0},{"$f":"'SHALA DARPAN DATA'!D4687","v":0},{"$f":"'SHALA DARPAN DATA'!J4687","v":0},{"$f":"'SHALA DARPAN DATA'!T4687","v":0},{"$f":"'SHALA DARPAN DATA'!V4687","v":0},{"$f":"'SHALA DARPAN DATA'!K4687","v":0},{"$f":"'SHALA DARPAN DATA'!E4687","v":0},{"$f":"'SHALA DARPAN DATA'!G4687","v":0},{"$f":"'SHALA DARPAN DATA'!H4687","v":0},{"$f":"'SHALA DARPAN DATA'!W4687","v":0},{"$f":"'SHALA DARPAN DATA'!R4687","v":0},{"$f":"'SHALA DARPAN DATA'!S4687","v":0},{"$f":"'SHALA DARPAN DATA'!O4687","v":0},0,0,0,0,0,0,0,0,0,0,0]
[{"$f":"'SHALA DARPAN DATA'!C4692","v":0},{"$f":"'SHALA DARPAN DATA'!A4692","v":0},{"$f":"'SHALA DARPAN DATA'!B4692","v":0},{"$f":"'SHALA DARPAN DATA'!D4692","v":0},{"$f":"'SHALA DARPAN DATA'!J4692","v":0},{"$f":"'SHALA DARPAN DATA'!T4692","v":0},{"$f":"'SHALA DARPAN DATA'!V4692","v":0},{"$f":"'SHALA DARPAN DATA'!K4692","v":0},{"$f":"'SHALA DARPAN DATA'!E4692","v":0},{"$f":"'SHALA DARPAN DATA'!G4692","v":0},{"$f":"'SHALA DARPAN DATA'!H4692","v":0},{"$f":"'SHALA DARPAN DATA'!W4692","v":0},{"$f":"'SHALA DARPAN DATA'!R4692","v":0},{"$f":"'SHALA DARPAN DATA'!S4692","v":0},{"$f":"'SHALA DARPAN DATA'!O4692","v":0},0,0,0,0,0,0,0,0,0,0,0]
[{"$f":"'SHALA DARPAN DATA'!C4696","v":0},{"$f":"'SHALA DARPAN DATA'!A4696","v":0},{"$f":"'SHALA DARPAN DATA'!B4696","v":0},{"$f":"'SHALA DARPAN DATA'!D4696","v":0},{"$f":"'SHALA DARPAN DATA'!J4696","v":0},{"$f":"'SHALA DARPAN DATA'!T4696","v":0},{"$f":"'SHALA DARPAN DATA'!V4696","v":0},{"$f":"'SHALA DARPAN DATA'!K4696","v":0},{"$f":"'SHALA DARPAN DATA'!E4696","v":0},{"$f":"'SHALA DARPAN DATA'!G4696","v":0},{"$f":"'SHALA DARPAN DATA'!H4696","v":0},{"$f":"'SHALA DARPAN DATA'!W4696","v":0},{"$f":"'SHALA DARPAN DATA'!R4696","v":0},{"$f":"'SHALA DARPAN DATA'!S4696","v":0},{"$f":"'SHALA DARPAN DATA'!O4696","v":0},0,0,0,0,0,0,0,0,0,0,0]
[{"$f":"'SHALA DARPAN DATA'!C4701","v":0},{"$f":"'SHALA DARPAN DATA'!A4701","v":0},{"$f":"'SHALA DARPAN DATA'!B4701","v":0},{"$f":"'SHALA DARPAN DATA'!D4701","v":0},{"$f":"'SHALA DARPAN DATA'!J4701","v":0},{"$f":"'SHALA DARPAN DATA'!T4701","v":0},{"$f":"'SHALA DARPAN DATA'!V4701","v":0},{"$f":"'SHALA DARPAN DATA'!K4701","v":0},{"$f":"'SHALA DARPAN DATA'!E4701","v":0},{"$f":"'SHALA DARPAN DATA'!G4701","v":0},{"$f":"'SHALA DARPAN DATA'!H4701","v":0},{"$f":"'SHALA DARPAN DATA'!W4701","v":0},{"$f":"'SHALA DARPAN DATA'!R4701","v":0},{"$f":"'SHALA DARPAN DATA'!S4701","v":0},{"$f":"'SHALA DARPAN DATA'!O4701","v":0},0,0,0,0,0,0,0,0,0,0,0]
[{"$f":"'SHALA DARPAN DATA'!C4702","v":0},{"$f":"'SHALA DARPAN DATA'!A4702","v":0},{"$f":"'SHALA DARPAN DATA'!B4702","v":0},{"$f":"'SHALA DARPAN DATA'!D4702","v":0},{"$f":"'SHALA DARPAN DATA'!J4702","v":0},{"$f":"'SHALA DARPAN DATA'!T4702","v":0},{"$f":"'SHALA DARPAN DATA'!V4702","v":0},{"$f":"'SHALA DARPAN DATA'!K4702","v":0},{"$f":"'SHALA DARPAN DATA'!E4702","v":0},{"$f":"'SHALA DARPAN DATA'!G4702","v":0},{"$f":"'SHALA DARPAN DATA'!H4702","v":0},{"$f":"'SHALA DARPAN DATA'!W4702","v":0},{"$f":"'SHALA DARPAN DATA'!R4702","v":0},{"$f":"'SHALA DARPAN DATA'!S4702","v":0},{"$f":"'SHALA DARPAN DATA'!O4702","v":0},0,0,0,0,0,0,0,0,0,0,0]
[{"$f":"'SHALA DARPAN DATA'!C4706","v":0},{"$f":"'SHALA DARPAN DATA'!A4706","v":0},{"$f":"'SHALA DARPAN DATA'!B4706","v":0},{"$f":"'SHALA DARPAN DATA'!D4706","v":0},{"$f":"'SHALA DARPAN DATA'!J4706","v":0},{"$f":"'SHALA DARPAN DATA'!T4706","v":0},{"$f":"'SHALA DARPAN DATA'!V4706","v":0},{"$f":"'SHALA DARPAN DATA'!K4706","v":0},{"$f":"'SHALA DARPAN DATA'!E4706","v":0},{"$f":"'SHALA DARPAN DATA'!G4706","v":0},{"$f":"'SHALA DARPAN DATA'!H4706","v":0},{"$f":"'SHALA DARPAN DATA'!W4706","v":0},{"$f":"'SHALA DARPAN DATA'!R4706","v":0},{"$f":"'SHALA DARPAN DATA'!S4706","v":0},{"$f":"'SHALA DARPAN DATA'!O4706","v":0},0,0,0,0,0,0,0,0,0,0,0]
[{"$f":"'SHALA DARPAN DATA'!C4711","v":0},{"$f":"'SHALA DARPAN DATA'!A4711","v":0},{"$f":"'SHALA DARPAN DATA'!B4711","v":0},{"$f":"'SHALA DARPAN DATA'!D4711","v":0},{"$f":"'SHALA DARPAN DATA'!J4711","v":0},{"$f":"'SHALA DARPAN DATA'!T4711","v":0},{"$f":"'SHALA DARPAN DATA'!V4711","v":0},{"$f":"'SHALA DARPAN DATA'!K4711","v":0},{"$f":"'SHALA DARPAN DATA'!E4711","v":0},{"$f":"'SHALA DARPAN DATA'!G4711","v":0},{"$f":"'SHALA DARPAN DATA'!H4711","v":0},{"$f":"'SHALA DARPAN DATA'!W4711","v":0},{"$f":"'SHALA DARPAN DATA'!R4711","v":0},{"$f":"'SHALA DARPAN DATA'!S4711","v":0},{"$f":"'SHALA DARPAN DATA'!O4711","v":0},0,0,0,0,0,0,0,0,0,0,0]
[{"$f":"'SHALA DARPAN DATA'!C4716","v":0},{"$f":"'SHALA DARPAN DATA'!A4716","v":0},{"$f":"'SHALA DARPAN DATA'!B4716","v":0},{"$f":"'SHALA DARPAN DATA'!D4716","v":0},{"$f":"'SHALA DARPAN DATA'!J4716","v":0},{"$f":"'SHALA DARPAN DATA'!T4716","v":0},{"$f":"'SHALA DARPAN DATA'!V4716","v":0},{"$f":"'SHALA DARPAN DATA'!K4716","v":0},{"$f":"'SHALA DARPAN DATA'!E4716","v":0},{"$f":"'SHALA DARPAN DATA'!G4716","v":0},{"$f":"'SHALA DARPAN DATA'!H4716","v":0},{"$f":"'SHALA DARPAN DATA'!W4716","v":0},{"$f":"'SHALA DARPAN DATA'!R4716","v":0},{"$f":"'SHALA DARPAN DATA'!S4716","v":0},{"$f":"'SHALA DARPAN DATA'!O4716","v":0},0,0,0,0,0,0,0,0,0,0,0]
[{"$f":"'SHALA DARPAN DATA'!C4717","v":0},{"$f":"'SHALA DARPAN DATA'!A4717","v":0},{"$f":"'SHALA DARPAN DATA'!B4717","v":0},{"$f":"'SHALA DARPAN DATA'!D4717","v":0},{"$f":"'SHALA DARPAN DATA'!J4717","v":0},{"$f":"'SHALA DARPAN DATA'!T4717","v":0},{"$f":"'SHALA DARPAN DATA'!V4717","v":0},{"$f":"'SHALA DARPAN DATA'!K4717","v":0},{"$f":"'SHALA DARPAN DATA'!E4717","v":0},{"$f":"'SHALA DARPAN DATA'!G4717","v":0},{"$f":"'SHALA DARPAN DATA'!H4717","v":0},{"$f":"'SHALA DARPAN DATA'!W4717","v":0},{"$f":"'SHALA DARPAN DATA'!R4717","v":0},{"$f":"'SHALA DARPAN DATA'!S4717","v":0},{"$f":"'SHALA DARPAN DATA'!O4717","v":0},0,0,0,0,0,0,0,0,0,0,0]
[{"$f":"'SHALA DARPAN DATA'!C4722","v":0},{"$f":"'SHALA DARPAN DATA'!A4722","v":0},{"$f":"'SHALA DARPAN DATA'!B4722","v":0},{"$f":"'SHALA DARPAN DATA'!D4722","v":0},{"$f":"'SHALA DARPAN DATA'!J4722","v":0},{"$f":"'SHALA DARPAN DATA'!T4722","v":0},{"$f":"'SHALA DARPAN DATA'!V4722","v":0},{"$f":"'SHALA DARPAN DATA'!K4722","v":0},{"$f":"'SHALA DARPAN DATA'!E4722","v":0},{"$f":"'SHALA DARPAN DATA'!G4722","v":0},{"$f":"'SHALA DARPAN DATA'!H4722","v":0},{"$f":"'SHALA DARPAN DATA'!W4722","v":0},{"$f":"'SHALA DARPAN DATA'!R4722","v":0},{"$f":"'SHALA DARPAN DATA'!S4722","v":0},{"$f":"'SHALA DARPAN DATA'!O4722","v":0},0,0,0,0,0,0,0,0,0,0,0]
[{"$f":"'SHALA DARPAN DATA'!C4726","v":0},{"$f":"'SHALA DARPAN DATA'!A4726","v":0},{"$f":"'SHALA DARPAN DATA'!B4726","v":0},{"$f":"'SHALA DARPAN DATA'!D4726","v":0},{"$f":"'SHALA DARPAN DATA'!J4726","v":0},{"$f":"'SHALA DARPAN DATA'!T4726","v":0},{"$f":"'SHALA DARPAN DATA'!V4726","v":0},{"$f":"'SHALA DARPAN DATA'!K4726","v":0},{"$f":"'SHALA DARPAN DATA'!E4726","v":0},{"$f":"'SHALA DARPAN DATA'!G4726","v":0},{"$f":"'SHALA DARPAN DATA'!H4726","v":0},{"$f":"'SHALA DARPAN DATA'!W4726","v":0},{"$f":"'SHALA DARPAN DATA'!R4726","v":0},{"$f":"'SHALA DARPAN DATA'!S4726","v":0},{"$f":"'SHALA DARPAN DATA'!O4726","v":0},0,0,0,0,0,0,0,0,0,0,0]
[{"$f":"'SHALA DARPAN DATA'!C4731","v":0},{"$f":"'SHALA DARPAN DATA'!A4731","v":0},{"$f":"'SHALA DARPAN DATA'!B4731","v":0},{"$f":"'SHALA DARPAN DATA'!D4731","v":0},{"$f":"'SHALA DARPAN DATA'!J4731","v":0},{"$f":"'SHALA DARPAN DATA'!T4731","v":0},{"$f":"'SHALA DARPAN DATA'!V4731","v":0},{"$f":"'SHALA DARPAN DATA'!K4731","v":0},{"$f":"'SHALA DARPAN DATA'!E4731","v":0},{"$f":"'SHALA DARPAN DATA'!G4731","v":0},{"$f":"'SHALA DARPAN DATA'!H4731","v":0},{"$f":"'SHALA DARPAN DATA'!W4731","v":0},{"$f":"'SHALA DARPAN DATA'!R4731","v":0},{"$f":"'SHALA DARPAN DATA'!S4731","v":0},{"$f":"'SHALA DARPAN DATA'!O4731","v":0},0,0,0,0,0,0,0,0,0,0,0]
[{"$f":"'SHALA DARPAN DATA'!C4732","v":0},{"$f":"'SHALA DARPAN DATA'!A4732","v":0},{"$f":"'SHALA DARPAN DATA'!B4732","v":0},{"$f":"'SHALA DARPAN DATA'!D4732","v":0},{"$f":"'SHALA DARPAN DATA'!J4732","v":0},{"$f":"'SHALA DARPAN DATA'!T4732","v":0},{"$f":"'SHALA DARPAN DATA'!V4732","v":0},{"$f":"'SHALA DARPAN DATA'!K4732","v":0},{"$f":"'SHALA DARPAN DATA'!E4732","v":0},{"$f":"'SHALA DARPAN DATA'!G4732","v":0},{"$f":"'SHALA DARPAN DATA'!H4732","v":0},{"$f":"'SHALA DARPAN DATA'!W4732","v":0},{"$f":"'SHALA DARPAN DATA'!R4732","v":0},{"$f":"'SHALA DARPAN DATA'!S4732","v":0},{"$f":"'SHALA DARPAN DATA'!O4732","v":0},0,0,0,0,0,0,0,0,0,0,0]
[{"$f":"'SHALA DARPAN DATA'!C4736","v":0},{"$f":"'SHALA DARPAN DATA'!A4736","v":0},{"$f":"'SHALA DARPAN DATA'!B4736","v":0},{"$f":"'SHALA DARPAN DATA'!D4736","v":0},{"$f":"'SHALA DARPAN DATA'!J4736","v":0},{"$f":"'SHALA DARPAN DATA'!T4736","v":0},{"$f":"'SHALA DARPAN DATA'!V4736","v":0},{"$f":"'SHALA DARPAN DATA'!K4736","v":0},{"$f":"'SHALA DARPAN DATA'!E4736","v":0},{"$f":"'SHALA DARPAN DATA'!G4736","v":0},{"$f":"'SHALA DARPAN DATA'!H4736","v":0},{"$f":"'SHALA DARPAN DATA'!W4736","v":0},{"$f":"'SHALA DARPAN DATA'!R4736","v":0},{"$f":"'SHALA DARPAN DATA'!S4736","v":0},{"$f":"'SHALA DARPAN DATA'!O4736","v":0},0,0,0,0,0,0,0,0,0,0,0]
[{"$f":"'SHALA DARPAN DATA'!C4741","v":0},{"$f":"'SHALA DARPAN DATA'!A4741","v":0},{"$f":"'SHALA DARPAN DATA'!B4741","v":0},{"$f":"'SHALA DARPAN DATA'!D4741","v":0},{"$f":"'SHALA DARPAN DATA'!J4741","v":0},{"$f":"'SHALA DARPAN DATA'!T4741","v":0},{"$f":"'SHALA DARPAN DATA'!V4741","v":0},{"$f":"'SHALA DARPAN DATA'!K4741","v":0},{"$f":"'SHALA DARPAN DATA'!E4741","v":0},{"$f":"'SHALA DARPAN DATA'!G4741","v":0},{"$f":"'SHALA DARPAN DATA'!H4741","v":0},{"$f":"'SHALA DARPAN DATA'!W4741","v":0},{"$f":"'SHALA DARPAN DATA'!R4741","v":0},{"$f":"'SHALA DARPAN DATA'!S4741","v":0},{"$f":"'SHALA DARPAN DATA'!O4741","v":0},0,0,0,0,0,0,0,0,0,0,0]
[{"$f":"'SHALA DARPAN DATA'!C4746","v":0},{"$f":"'SHALA DARPAN DATA'!A4746","v":0},{"$f":"'SHALA DARPAN DATA'!B4746","v":0},{"$f":"'SHALA DARPAN DATA'!D4746","v":0},{"$f":"'SHALA DARPAN DATA'!J4746","v":0},{"$f":"'SHALA DARPAN DATA'!T4746","v":0},{"$f":"'SHALA DARPAN DATA'!V4746","v":0},{"$f":"'SHALA DARPAN DATA'!K4746","v":0},{"$f":"'SHALA DARPAN DATA'!E4746","v":0},{"$f":"'SHALA DARPAN DATA'!G4746","v":0},{"$f":"'SHALA DARPAN DATA'!H4746","v":0},{"$f":"'SHALA DARPAN DATA'!W4746","v":0},{"$f":"'SHALA DARPAN DATA'!R4746","v":0},{"$f":"'SHALA DARPAN DATA'!S4746","v":0},{"$f":"'SHALA DARPAN DATA'!O4746","v":0},0,0,0,0,0,0,0,0,0,0,0]
[{"$f":"'SHALA DARPAN DATA'!C4747","v":0},{"$f":"'SHALA DARPAN DATA'!A4747","v":0},{"$f":"'SHALA DARPAN DATA'!B4747","v":0},{"$f":"'SHALA DARPAN DATA'!D4747","v":0},{"$f":"'SHALA DARPAN DATA'!J4747","v":0},{"$f":"'SHALA DARPAN DATA'!T4747","v":0},{"$f":"'SHALA DARPAN DATA'!V4747","v":0},{"$f":"'SHALA DARPAN DATA'!K4747","v":0},{"$f":"'SHALA DARPAN DATA'!E4747","v":0},{"$f":"'SHALA DARPAN DATA'!G4747","v":0},{"$f":"'SHALA DARPAN DATA'!H4747","v":0},{"$f":"'SHALA DARPAN DATA'!W4747","v":0},{"$f":"'SHALA DARPAN DATA'!R4747","v":0},{"$f":"'SHALA DARPAN DATA'!S4747","v":0},{"$f":"'SHALA DARPAN DATA'!O4747","v":0},0,0,0,0,0,0,0,0,0,0,0]
[{"$f":"'SHALA DARPAN DATA'!C4751","v":0},{"$f":"'SHALA DARPAN DATA'!A4751","v":0},{"$f":"'SHALA DARPAN DATA'!B4751","v":0},{"$f":"'SHALA DARPAN DATA'!D4751","v":0},{"$f":"'SHALA DARPAN DATA'!J4751","v":0},{"$f":"'SHALA DARPAN DATA'!T4751","v":0},{"$f":"'SHALA DARPAN DATA'!V4751","v":0},{"$f":"'SHALA DARPAN DATA'!K4751","v":0},{"$f":"'SHALA DARPAN DATA'!E4751","v":0},{"$f":"'SHALA DARPAN DATA'!G4751","v":0},{"$f":"'SHALA DARPAN DATA'!H4751","v":0},{"$f":"'SHALA DARPAN DATA'!W4751","v":0},{"$f":"'SHALA DARPAN DATA'!R4751","v":0},{"$f":"'SHALA DARPAN DATA'!S4751","v":0},{"$f":"'SHALA DARPAN DATA'!O4751","v":0},0,0,0,0,0,0,0,0,0,0,0]
[{"$f":"'SHALA DARPAN DATA'!C4752","v":0},{"$f":"'SHALA DARPAN DATA'!A4752","v":0},{"$f":"'SHALA DARPAN DATA'!B4752","v":0},{"$f":"'SHALA DARPAN DATA'!D4752","v":0},{"$f":"'SHALA DARPAN DATA'!J4752","v":0},{"$f":"'SHALA DARPAN DATA'!T4752","v":0},{"$f":"'SHALA DARPAN DATA'!V4752","v":0},{"$f":"'SHALA DARPAN DATA'!K4752","v":0},{"$f":"'SHALA DARPAN DATA'!E4752","v":0},{"$f":"'SHALA DARPAN DATA'!G4752","v":0},{"$f":"'SHALA DARPAN DATA'!H4752","v":0},{"$f":"'SHALA DARPAN DATA'!W4752","v":0},{"$f":"'SHALA DARPAN DATA'!R4752","v":0},{"$f":"'SHALA DARPAN DATA'!S4752","v":0},{"$f":"'SHALA DARPAN DATA'!O4752","v":0},0,0,0,0,0,0,0,0,0,0,0]
[{"$f":"'SHALA DARPAN DATA'!C4753","v":0},{"$f":"'SHALA DARPAN DATA'!A4753","v":0},{"$f":"'SHALA DARPAN DATA'!B4753","v":0},{"$f":"'SHALA DARPAN DATA'!D4753","v":0},{"$f":"'SHALA DARPAN DATA'!J4753","v":0},{"$f":"'SHALA DARPAN DATA'!T4753","v":0},{"$f":"'SHALA DARPAN DATA'!V4753","v":0},{"$f":"'SHALA DARPAN DATA'!K4753","v":0},{"$f":"'SHALA DARPAN DATA'!E4753","v":0},{"$f":"'SHALA DARPAN DATA'!G4753","v":0},{"$f":"'SHALA DARPAN DATA'!H4753","v":0},{"$f":"'SHALA DARPAN DATA'!W4753","v":0},{"$f":"'SHALA DARPAN DATA'!R4753","v":0},{"$f":"'SHALA DARPAN DATA'!S4753","v":0},{"$f":"'SHALA DARPAN DATA'!O4753","v":0},0,0,0,0,0,0,0,0,0,0,0]
[{"$f":"'SHALA DARPAN DATA'!C4754","v":0},{"$f":"'SHALA DARPAN DATA'!A4754","v":0},{"$f":"'SHALA DARPAN DATA'!B4754","v":0},{"$f":"'SHALA DARPAN DATA'!D4754","v":0},{"$f":"'SHALA DARPAN DATA'!J4754","v":0},{"$f":"'SHALA DARPAN DATA'!T4754","v":0},{"$f":"'SHALA DARPAN DATA'!V4754","v":0},{"$f":"'SHALA DARPAN DATA'!K4754","v":0},{"$f":"'SHALA DARPAN DATA'!E4754","v":0},{"$f":"'SHALA DARPAN DATA'!G4754","v":0},{"$f":"'SHALA DARPAN DATA'!H4754","v":0},{"$f":"'SHALA DARPAN DATA'!W4754","v":0},{"$f":"'SHALA DARPAN DATA'!R4754","v":0},{"$f":"'SHALA DARPAN DATA'!S4754","v":0},{"$f":"'SHALA DARPAN DATA'!O4754","v":0},0,0,0,0,0,0,0,0,0,0,0]
[{"$f":"'SHALA DARPAN DATA'!C4755","v":0},{"$f":"'SHALA DARPAN DATA'!A4755","v":0},{"$f":"'SHALA DARPAN DATA'!B4755","v":0},{"$f":"'SHALA DARPAN DATA'!D4755","v":0},{"$f":"'SHALA DARPAN DATA'!J4755","v":0},{"$f":"'SHALA DARPAN DATA'!T4755","v":0},{"$f":"'SHALA DARPAN DATA'!V4755","v":0},{"$f":"'SHALA DARPAN DATA'!K4755","v":0},{"$f":"'SHALA DARPAN DATA'!E4755","v":0},{"$f":"'SHALA DARPAN DATA'!G4755","v":0},{"$f":"'SHALA DARPAN DATA'!H4755","v":0},{"$f":"'SHALA DARPAN DATA'!W4755","v":0},{"$f":"'SHALA DARPAN DATA'!R4755","v":0},{"$f":"'SHALA DARPAN DATA'!S4755","v":0},{"$f":"'SHALA DARPAN DATA'!O4755","v":0},0,0,0,0,0,0,0,0,0,0,0]
[{"$f":"'SHALA DARPAN DATA'!C4756","v":0},{"$f":"'SHALA DARPAN DATA'!A4756","v":0},{"$f":"'SHALA DARPAN DATA'!B4756","v":0},{"$f":"'SHALA DARPAN DATA'!D4756","v":0},{"$f":"'SHALA DARPAN DATA'!J4756","v":0},{"$f":"'SHALA DARPAN DATA'!T4756","v":0},{"$f":"'SHALA DARPAN DATA'!V4756","v":0},{"$f":"'SHALA DARPAN DATA'!K4756","v":0},{"$f":"'SHALA DARPAN DATA'!E4756","v":0},{"$f":"'SHALA DARPAN DATA'!G4756","v":0},{"$f":"'SHALA DARPAN DATA'!H4756","v":0},{"$f":"'SHALA DARPAN DATA'!W4756","v":0},{"$f":"'SHALA DARPAN DATA'!R4756","v":0},{"$f":"'SHALA DARPAN DATA'!S4756","v":0},{"$f":"'SHALA DARPAN DATA'!O4756","v":0},0,0,0,0,0,0,0,0,0,0,0]
[{"$f":"'SHALA DARPAN DATA'!C4757","v":0},{"$f":"'SHALA DARPAN DATA'!A4757","v":0},{"$f":"'SHALA DARPAN DATA'!B4757","v":0},{"$f":"'SHALA DARPAN DATA'!D4757","v":0},{"$f":"'SHALA DARPAN DATA'!J4757","v":0},{"$f":"'SHALA DARPAN DATA'!T4757","v":0},{"$f":"'SHALA DARPAN DATA'!V4757","v":0},{"$f":"'SHALA DARPAN DATA'!K4757","v":0},{"$f":"'SHALA DARPAN DATA'!E4757","v":0},{"$f":"'SHALA DARPAN DATA'!G4757","v":0},{"$f":"'SHALA DARPAN DATA'!H4757","v":0},{"$f":"'SHALA DARPAN DATA'!W4757","v":0},{"$f":"'SHALA DARPAN DATA'!R4757","v":0},{"$f":"'SHALA DARPAN DATA'!S4757","v":0},{"$f":"'SHALA DARPAN DATA'!O4757","v":0},0,0,0,0,0,0,0,0,0,0,0]
[{"$f":"'SHALA DARPAN DATA'!C4758","v":0},{"$f":"'SHALA DARPAN DATA'!A4758","v":0},{"$f":"'SHALA DARPAN DATA'!B4758","v":0},{"$f":"'SHALA DARPAN DATA'!D4758","v":0},{"$f":"'SHALA DARPAN DATA'!J4758","v":0},{"$f":"'SHALA DARPAN DATA'!T4758","v":0},{"$f":"'SHALA DARPAN DATA'!V4758","v":0},{"$f":"'SHALA DARPAN DATA'!K4758","v":0},{"$f":"'SHALA DARPAN DATA'!E4758","v":0},{"$f":"'SHALA DARPAN DATA'!G4758","v":0},{"$f":"'SHALA DARPAN DATA'!H4758","v":0},{"$f":"'SHALA DARPAN DATA'!W4758","v":0},{"$f":"'SHALA DARPAN DATA'!R4758","v":0},{"$f":"'SHALA DARPAN DATA'!S4758","v":0},{"$f":"'SHALA DARPAN DATA'!O4758","v":0},0,0,0,0,0,0,0,0,0,0,0]
[{"$f":"'SHALA DARPAN DATA'!C4759","v":0},{"$f":"'SHALA DARPAN DATA'!A4759","v":0},{"$f":"'SHALA DARPAN DATA'!B4759","v":0},{"$f":"'SHALA DARPAN DATA'!D4759","v":0},{"$f":"'SHALA DARPAN DATA'!J4759","v":0},{"$f":"'SHALA DARPAN DATA'!T4759","v":0},{"$f":"'SHALA DARPAN DATA'!V4759","v":0},{"$f":"'SHALA DARPAN DATA'!K4759","v":0},{"$f":"'SHALA DARPAN DATA'!E4759","v":0},{"$f":"'SHALA DARPAN DATA'!G4759","v":0},{"$f":"'SHALA DARPAN DATA'!H4759","v":0},{"$f":"'SHALA DARPAN DATA'!W4759","v":0},{"$f":"'SHALA DARPAN DATA'!R4759","v":0},{"$f":"'SHALA DARPAN DATA'!S4759","v":0},{"$f":"'SHALA DARPAN DATA'!O4759","v":0},0,0,0,0,0,0,0,0,0,0,0]
[{"$f":"'SHALA DARPAN DATA'!C4760","v":0},{"$f":"'SHALA DARPAN DATA'!A4760","v":0},{"$f":"'SHALA DARPAN DATA'!B4760","v":0},{"$f":"'SHALA DARPAN DATA'!D4760","v":0},{"$f":"'SHALA DARPAN DATA'!J4760","v":0},{"$f":"'SHALA DARPAN DATA'!T4760","v":0},{"$f":"'SHALA DARPAN DATA'!V4760","v":0},{"$f":"'SHALA DARPAN DATA'!K4760","v":0},{"$f":"'SHALA DARPAN DATA'!E4760","v":0},{"$f":"'SHALA DARPAN DATA'!G4760","v":0},{"$f":"'SHALA DARPAN DATA'!H4760","v":0},{"$f":"'SHALA DARPAN DATA'!W4760","v":0},{"$f":"'SHALA DARPAN DATA'!R4760","v":0},{"$f":"'SHALA DARPAN DATA'!S4760","v":0},{"$f":"'SHALA DARPAN DATA'!O4760","v":0},0,0,0,0,0,0,0,0,0,0,0]
[{"$f":"'SHALA DARPAN DATA'!C4761","v":0},{"$f":"'SHALA DARPAN DATA'!A4761","v":0},{"$f":"'SHALA DARPAN DATA'!B4761","v":0},{"$f":"'SHALA DARPAN DATA'!D4761","v":0},{"$f":"'SHALA DARPAN DATA'!J4761","v":0},{"$f":"'SHALA DARPAN DATA'!T4761","v":0},{"$f":"'SHALA DARPAN DATA'!V4761","v":0},{"$f":"'SHALA DARPAN DATA'!K4761","v":0},{"$f":"'SHALA DARPAN DATA'!E4761","v":0},{"$f":"'SHALA DARPAN DATA'!G4761","v":0},{"$f":"'SHALA DARPAN DATA'!H4761","v":0},{"$f":"'SHALA DARPAN DATA'!W4761","v":0},{"$f":"'SHALA DARPAN DATA'!R4761","v":0},{"$f":"'SHALA DARPAN DATA'!S4761","v":0},{"$f":"'SHALA DARPAN DATA'!O4761","v":0},0,0,0,0,0,0,0,0,0,0,0]
[{"$f":"'SHALA DARPAN DATA'!C4762","v":0},{"$f":"'SHALA DARPAN DATA'!A4762","v":0},{"$f":"'SHALA DARPAN DATA'!B4762","v":0},{"$f":"'SHALA DARPAN DATA'!D4762","v":0},{"$f":"'SHALA DARPAN DATA'!J4762","v":0},{"$f":"'SHALA DARPAN DATA'!T4762","v":0},{"$f":"'SHALA DARPAN DATA'!V4762","v":0},{"$f":"'SHALA DARPAN DATA'!K4762","v":0},{"$f":"'SHALA DARPAN DATA'!E4762","v":0},{"$f":"'SHALA DARPAN DATA'!G4762","v":0},{"$f":"'SHALA DARPAN DATA'!H4762","v":0},{"$f":"'SHALA DARPAN DATA'!W4762","v":0},{"$f":"'SHALA DARPAN DATA'!R4762","v":0},{"$f":"'SHALA DARPAN DATA'!S4762","v":0},{"$f":"'SHALA DARPAN DATA'!O4762","v":0},0,0,0,0,0,0,0,0,0,0,0]
[{"$f":"'SHALA DARPAN DATA'!C4763","v":0},{"$f":"'SHALA DARPAN DATA'!A4763","v":0},{"$f":"'SHALA DARPAN DATA'!B4763","v":0},{"$f":"'SHALA DARPAN DATA'!D4763","v":0},{"$f":"'SHALA DARPAN DATA'!J4763","v":0},{"$f":"'SHALA DARPAN DATA'!T4763","v":0},{"$f":"'SHALA DARPAN DATA'!V4763","v":0},{"$f":"'SHALA DARPAN DATA'!K4763","v":0},{"$f":"'SHALA DARPAN DATA'!E4763","v":0},{"$f":"'SHALA DARPAN DATA'!G4763","v":0},{"$f":"'SHALA DARPAN DATA'!H4763","v":0},{"$f":"'SHALA DARPAN DATA'!W4763","v":0},{"$f":"'SHALA DARPAN DATA'!R4763","v":0},{"$f":"'SHALA DARPAN DATA'!S4763","v":0},{"$f":"'SHALA DARPAN DATA'!O4763","v":0},0,0,0,0,0,0,0,0,0,0,0]
[{"$f":"'SHALA DARPAN DATA'!C4764","v":0},{"$f":"'SHALA DARPAN DATA'!A4764","v":0},{"$f":"'SHALA DARPAN DATA'!B4764","v":0},{"$f":"'SHALA DARPAN DATA'!D4764","v":0},{"$f":"'SHALA DARPAN DATA'!J4764","v":0},{"$f":"'SHALA DARPAN DATA'!T4764","v":0},{"$f":"'SHALA DARPAN DATA'!V4764","v":0},{"$f":"'SHALA DARPAN DATA'!K4764","v":0},{"$f":"'SHALA DARPAN DATA'!E4764","v":0},{"$f":"'SHALA DARPAN DATA'!G4764","v":0},{"$f":"'SHALA DARPAN DATA'!H4764","v":0},{"$f":"'SHALA DARPAN DATA'!W4764","v":0},{"$f":"'SHALA DARPAN DATA'!R4764","v":0},{"$f":"'SHALA DARPAN DATA'!S4764","v":0},{"$f":"'SHALA DARPAN DATA'!O4764","v":0},0,0,0,0,0,0,0,0,0,0,0]
[{"$f":"'SHALA DARPAN DATA'!C4765","v":0},{"$f":"'SHALA DARPAN DATA'!A4765","v":0},{"$f":"'SHALA DARPAN DATA'!B4765","v":0},{"$f":"'SHALA DARPAN DATA'!D4765","v":0},{"$f":"'SHALA DARPAN DATA'!J4765","v":0},{"$f":"'SHALA DARPAN DATA'!T4765","v":0},{"$f":"'SHALA DARPAN DATA'!V4765","v":0},{"$f":"'SHALA DARPAN DATA'!K4765","v":0},{"$f":"'SHALA DARPAN DATA'!E4765","v":0},{"$f":"'SHALA DARPAN DATA'!G4765","v":0},{"$f":"'SHALA DARPAN DATA'!H4765","v":0},{"$f":"'SHALA DARPAN DATA'!W4765","v":0},{"$f":"'SHALA DARPAN DATA'!R4765","v":0},{"$f":"'SHALA DARPAN DATA'!S4765","v":0},{"$f":"'SHALA DARPAN DATA'!O4765","v":0},0,0,0,0,0,0,0,0,0,0,0]
[{"$f":"'SHALA DARPAN DATA'!C4766","v":0},{"$f":"'SHALA DARPAN DATA'!A4766","v":0},{"$f":"'SHALA DARPAN DATA'!B4766","v":0},{"$f":"'SHALA DARPAN DATA'!D4766","v":0},{"$f":"'SHALA DARPAN DATA'!J4766","v":0},{"$f":"'SHALA DARPAN DATA'!T4766","v":0},{"$f":"'SHALA DARPAN DATA'!V4766","v":0},{"$f":"'SHALA DARPAN DATA'!K4766","v":0},{"$f":"'SHALA DARPAN DATA'!E4766","v":0},{"$f":"'SHALA DARPAN DATA'!G4766","v":0},{"$f":"'SHALA DARPAN DATA'!H4766","v":0},{"$f":"'SHALA DARPAN DATA'!W4766","v":0},{"$f":"'SHALA DARPAN DATA'!R4766","v":0},{"$f":"'SHALA DARPAN DATA'!S4766","v":0},{"$f":"'SHALA DARPAN DATA'!O4766","v":0},0,0,0,0,0,0,0,0,0,0,0]
[{"$f":"'SHALA DARPAN DATA'!C4767","v":0},{"$f":"'SHALA DARPAN DATA'!A4767","v":0},{"$f":"'SHALA DARPAN DATA'!B4767","v":0},{"$f":"'SHALA DARPAN DATA'!D4767","v":0},{"$f":"'SHALA DARPAN DATA'!J4767","v":0},{"$f":"'SHALA DARPAN DATA'!T4767","v":0},{"$f":"'SHALA DARPAN DATA'!V4767","v":0},{"$f":"'SHALA DARPAN DATA'!K4767","v":0},{"$f":"'SHALA DARPAN DATA'!E4767","v":0},{"$f":"'SHALA DARPAN DATA'!G4767","v":0},{"$f":"'SHALA DARPAN DATA'!H4767","v":0},{"$f":"'SHALA DARPAN DATA'!W4767","v":0},{"$f":"'SHALA DARPAN DATA'!R4767","v":0},{"$f":"'SHALA DARPAN DATA'!S4767","v":0},{"$f":"'SHALA DARPAN DATA'!O4767","v":0},0,0,0,0,0,0,0,0,0,0,0]
[{"$f":"'SHALA DARPAN DATA'!C4768","v":0},{"$f":"'SHALA DARPAN DATA'!A4768","v":0},{"$f":"'SHALA DARPAN DATA'!B4768","v":0},{"$f":"'SHALA DARPAN DATA'!D4768","v":0},{"$f":"'SHALA DARPAN DATA'!J4768","v":0},{"$f":"'SHALA DARPAN DATA'!T4768","v":0},{"$f":"'SHALA DARPAN DATA'!V4768","v":0},{"$f":"'SHALA DARPAN DATA'!K4768","v":0},{"$f":"'SHALA DARPAN DATA'!E4768","v":0},{"$f":"'SHALA DARPAN DATA'!G4768","v":0},{"$f":"'SHALA DARPAN DATA'!H4768","v":0},{"$f":"'SHALA DARPAN DATA'!W4768","v":0},{"$f":"'SHALA DARPAN DATA'!R4768","v":0},{"$f":"'SHALA DARPAN DATA'!S4768","v":0},{"$f":"'SHALA DARPAN DATA'!O4768","v":0},0,0,0,0,0,0,0,0,0,0,0]
[{"$f":"'SHALA DARPAN DATA'!C4769","v":0},{"$f":"'SHALA DARPAN DATA'!A4769","v":0},{"$f":"'SHALA DARPAN DATA'!B4769","v":0},{"$f":"'SHALA DARPAN DATA'!D4769","v":0},{"$f":"'SHALA DARPAN DATA'!J4769","v":0},{"$f":"'SHALA DARPAN DATA'!T4769","v":0},{"$f":"'SHALA DARPAN DATA'!V4769","v":0},{"$f":"'SHALA DARPAN DATA'!K4769","v":0},{"$f":"'SHALA DARPAN DATA'!E4769","v":0},{"$f":"'SHALA DARPAN DATA'!G4769","v":0},{"$f":"'SHALA DARPAN DATA'!H4769","v":0},{"$f":"'SHALA DARPAN DATA'!W4769","v":0},{"$f":"'SHALA DARPAN DATA'!R4769","v":0},{"$f":"'SHALA DARPAN DATA'!S4769","v":0},{"$f":"'SHALA DARPAN DATA'!O4769","v":0},0,0,0,0,0,0,0,0,0,0,0]
[{"$f":"'SHALA DARPAN DATA'!C4770","v":0},{"$f":"'SHALA DARPAN DATA'!A4770","v":0},{"$f":"'SHALA DARPAN DATA'!B4770","v":0},{"$f":"'SHALA DARPAN DATA'!D4770","v":0},{"$f":"'SHALA DARPAN DATA'!J4770","v":0},{"$f":"'SHALA DARPAN DATA'!T4770","v":0},{"$f":"'SHALA DARPAN DATA'!V4770","v":0},{"$f":"'SHALA DARPAN DATA'!K4770","v":0},{"$f":"'SHALA DARPAN DATA'!E4770","v":0},{"$f":"'SHALA DARPAN DATA'!G4770","v":0},{"$f":"'SHALA DARPAN DATA'!H4770","v":0},{"$f":"'SHALA DARPAN DATA'!W4770","v":0},{"$f":"'SHALA DARPAN DATA'!R4770","v":0},{"$f":"'SHALA DARPAN DATA'!S4770","v":0},{"$f":"'SHALA DARPAN DATA'!O4770","v":0},0,0,0,0,0,0,0,0,0,0,0]
[{"$f":"'SHALA DARPAN DATA'!C4771","v":0},{"$f":"'SHALA DARPAN DATA'!A4771","v":0},{"$f":"'SHALA DARPAN DATA'!B4771","v":0},{"$f":"'SHALA DARPAN DATA'!D4771","v":0},{"$f":"'SHALA DARPAN DATA'!J4771","v":0},{"$f":"'SHALA DARPAN DATA'!T4771","v":0},{"$f":"'SHALA DARPAN DATA'!V4771","v":0},{"$f":"'SHALA DARPAN DATA'!K4771","v":0},{"$f":"'SHALA DARPAN DATA'!E4771","v":0},{"$f":"'SHALA DARPAN DATA'!G4771","v":0},{"$f":"'SHALA DARPAN DATA'!H4771","v":0},{"$f":"'SHALA DARPAN DATA'!W4771","v":0},{"$f":"'SHALA DARPAN DATA'!R4771","v":0},{"$f":"'SHALA DARPAN DATA'!S4771","v":0},{"$f":"'SHALA DARPAN DATA'!O4771","v":0},0,0,0,0,0,0,0,0,0,0,0]
[{"$f":"'SHALA DARPAN DATA'!C4772","v":0},{"$f":"'SHALA DARPAN DATA'!A4772","v":0},{"$f":"'SHALA DARPAN DATA'!B4772","v":0},{"$f":"'SHALA DARPAN DATA'!D4772","v":0},{"$f":"'SHALA DARPAN DATA'!J4772","v":0},{"$f":"'SHALA DARPAN DATA'!T4772","v":0},{"$f":"'SHALA DARPAN DATA'!V4772","v":0},{"$f":"'SHALA DARPAN DATA'!K4772","v":0},{"$f":"'SHALA DARPAN DATA'!E4772","v":0},{"$f":"'SHALA DARPAN DATA'!G4772","v":0},{"$f":"'SHALA DARPAN DATA'!H4772","v":0},{"$f":"'SHALA DARPAN DATA'!W4772","v":0},{"$f":"'SHALA DARPAN DATA'!R4772","v":0},{"$f":"'SHALA DARPAN DATA'!S4772","v":0},{"$f":"'SHALA DARPAN DATA'!O4772","v":0},0,0,0,0,0,0,0,0,0,0,0]
[{"$f":"'SHALA DARPAN DATA'!C4773","v":0},{"$f":"'SHALA DARPAN DATA'!A4773","v":0},{"$f":"'SHALA DARPAN DATA'!B4773","v":0},{"$f":"'SHALA DARPAN DATA'!D4773","v":0},{"$f":"'SHALA DARPAN DATA'!J4773","v":0},{"$f":"'SHALA DARPAN DATA'!T4773","v":0},{"$f":"'SHALA DARPAN DATA'!V4773","v":0},{"$f":"'SHALA DARPAN DATA'!K4773","v":0},{"$f":"'SHALA DARPAN DATA'!E4773","v":0},{"$f":"'SHALA DARPAN DATA'!G4773","v":0},{"$f":"'SHALA DARPAN DATA'!H4773","v":0},{"$f":"'SHALA DARPAN DATA'!W4773","v":0},{"$f":"'SHALA DARPAN DATA'!R4773","v":0},{"$f":"'SHALA DARPAN DATA'!S4773","v":0},{"$f":"'SHALA DARPAN DATA'!O4773","v":0},0,0,0,0,0,0,0,0,0,0,0]
[{"$f":"'SHALA DARPAN DATA'!C4774","v":0},{"$f":"'SHALA DARPAN DATA'!A4774","v":0},{"$f":"'SHALA DARPAN DATA'!B4774","v":0},{"$f":"'SHALA DARPAN DATA'!D4774","v":0},{"$f":"'SHALA DARPAN DATA'!J4774","v":0},{"$f":"'SHALA DARPAN DATA'!T4774","v":0},{"$f":"'SHALA DARPAN DATA'!V4774","v":0},{"$f":"'SHALA DARPAN DATA'!K4774","v":0},{"$f":"'SHALA DARPAN DATA'!E4774","v":0},{"$f":"'SHALA DARPAN DATA'!G4774","v":0},{"$f":"'SHALA DARPAN DATA'!H4774","v":0},{"$f":"'SHALA DARPAN DATA'!W4774","v":0},{"$f":"'SHALA DARPAN DATA'!R4774","v":0},{"$f":"'SHALA DARPAN DATA'!S4774","v":0},{"$f":"'SHALA DARPAN DATA'!O4774","v":0},0,0,0,0,0,0,0,0,0,0,0]
[{"$f":"'SHALA DARPAN DATA'!C4775","v":0},{"$f":"'SHALA DARPAN DATA'!A4775","v":0},{"$f":"'SHALA DARPAN DATA'!B4775","v":0},{"$f":"'SHALA DARPAN DATA'!D4775","v":0},{"$f":"'SHALA DARPAN DATA'!J4775","v":0},{"$f":"'SHALA DARPAN DATA'!T4775","v":0},{"$f":"'SHALA DARPAN DATA'!V4775","v":0},{"$f":"'SHALA DARPAN DATA'!K4775","v":0},{"$f":"'SHALA DARPAN DATA'!E4775","v":0},{"$f":"'SHALA DARPAN DATA'!G4775","v":0},{"$f":"'SHALA DARPAN DATA'!H4775","v":0},{"$f":"'SHALA DARPAN DATA'!W4775","v":0},{"$f":"'SHALA DARPAN DATA'!R4775","v":0},{"$f":"'SHALA DARPAN DATA'!S4775","v":0},{"$f":"'SHALA DARPAN DATA'!O4775","v":0},0,0,0,0,0,0,0,0,0,0,0]
[{"$f":"'SHALA DARPAN DATA'!C4776","v":0},{"$f":"'SHALA DARPAN DATA'!A4776","v":0},{"$f":"'SHALA DARPAN DATA'!B4776","v":0},{"$f":"'SHALA DARPAN DATA'!D4776","v":0},{"$f":"'SHALA DARPAN DATA'!J4776","v":0},{"$f":"'SHALA DARPAN DATA'!T4776","v":0},{"$f":"'SHALA DARPAN DATA'!V4776","v":0},{"$f":"'SHALA DARPAN DATA'!K4776","v":0},{"$f":"'SHALA DARPAN DATA'!E4776","v":0},{"$f":"'SHALA DARPAN DATA'!G4776","v":0},{"$f":"'SHALA DARPAN DATA'!H4776","v":0},{"$f":"'SHALA DARPAN DATA'!W4776","v":0},{"$f":"'SHALA DARPAN DATA'!R4776","v":0},{"$f":"'SHALA DARPAN DATA'!S4776","v":0},{"$f":"'SHALA DARPAN DATA'!O4776","v":0},0,0,0,0,0,0,0,0,0,0,0]
[{"$f":"'SHALA DARPAN DATA'!C4777","v":0},{"$f":"'SHALA DARPAN DATA'!A4777","v":0},{"$f":"'SHALA DARPAN DATA'!B4777","v":0},{"$f":"'SHALA DARPAN DATA'!D4777","v":0},{"$f":"'SHALA DARPAN DATA'!J4777","v":0},{"$f":"'SHALA DARPAN DATA'!T4777","v":0},{"$f":"'SHALA DARPAN DATA'!V4777","v":0},{"$f":"'SHALA DARPAN DATA'!K4777","v":0},{"$f":"'SHALA DARPAN DATA'!E4777","v":0},{"$f":"'SHALA DARPAN DATA'!G4777","v":0},{"$f":"'SHALA DARPAN DATA'!H4777","v":0},{"$f":"'SHALA DARPAN DATA'!W4777","v":0},{"$f":"'SHALA DARPAN DATA'!R4777","v":0},{"$f":"'SHALA DARPAN DATA'!S4777","v":0},{"$f":"'SHALA DARPAN DATA'!O4777","v":0},0,0,0,0,0,0,0,0,0,0,0]
[{"$f":"'SHALA DARPAN DATA'!C4778","v":0},{"$f":"'SHALA DARPAN DATA'!A4778","v":0},{"$f":"'SHALA DARPAN DATA'!B4778","v":0},{"$f":"'SHALA DARPAN DATA'!D4778","v":0},{"$f":"'SHALA DARPAN DATA'!J4778","v":0},{"$f":"'SHALA DARPAN DATA'!T4778","v":0},{"$f":"'SHALA DARPAN DATA'!V4778","v":0},{"$f":"'SHALA DARPAN DATA'!K4778","v":0},{"$f":"'SHALA DARPAN DATA'!E4778","v":0},{"$f":"'SHALA DARPAN DATA'!G4778","v":0},{"$f":"'SHALA DARPAN DATA'!H4778","v":0},{"$f":"'SHALA DARPAN DATA'!W4778","v":0},{"$f":"'SHALA DARPAN DATA'!R4778","v":0},{"$f":"'SHALA DARPAN DATA'!S4778","v":0},{"$f":"'SHALA DARPAN DATA'!O4778","v":0},0,0,0,0,0,0,0,0,0,0,0]
[{"$f":"'SHALA DARPAN DATA'!C4779","v":0},{"$f":"'SHALA DARPAN DATA'!A4779","v":0},{"$f":"'SHALA DARPAN DATA'!B4779","v":0},{"$f":"'SHALA DARPAN DATA'!D4779","v":0},{"$f":"'SHALA DARPAN DATA'!J4779","v":0},{"$f":"'SHALA DARPAN DATA'!T4779","v":0},{"$f":"'SHALA DARPAN DATA'!V4779","v":0},{"$f":"'SHALA DARPAN DATA'!K4779","v":0},{"$f":"'SHALA DARPAN DATA'!E4779","v":0},{"$f":"'SHALA DARPAN DATA'!G4779","v":0},{"$f":"'SHALA DARPAN DATA'!H4779","v":0},{"$f":"'SHALA DARPAN DATA'!W4779","v":0},{"$f":"'SHALA DARPAN DATA'!R4779","v":0},{"$f":"'SHALA DARPAN DATA'!S4779","v":0},{"$f":"'SHALA DARPAN DATA'!O4779","v":0},0,0,0,0,0,0,0,0,0,0,0]
[{"$f":"'SHALA DARPAN DATA'!C4780","v":0},{"$f":"'SHALA DARPAN DATA'!A4780","v":0},{"$f":"'SHALA DARPAN DATA'!B4780","v":0},{"$f":"'SHALA DARPAN DATA'!D4780","v":0},{"$f":"'SHALA DARPAN DATA'!J4780","v":0},{"$f":"'SHALA DARPAN DATA'!T4780","v":0},{"$f":"'SHALA DARPAN DATA'!V4780","v":0},{"$f":"'SHALA DARPAN DATA'!K4780","v":0},{"$f":"'SHALA DARPAN DATA'!E4780","v":0},{"$f":"'SHALA DARPAN DATA'!G4780","v":0},{"$f":"'SHALA DARPAN DATA'!H4780","v":0},{"$f":"'SHALA DARPAN DATA'!W4780","v":0},{"$f":"'SHALA DARPAN DATA'!R4780","v":0},{"$f":"'SHALA DARPAN DATA'!S4780","v":0},{"$f":"'SHALA DARPAN DATA'!O4780","v":0},0,0,0,0,0,0,0,0,0,0,0]
[{"$f":"'SHALA DARPAN DATA'!C4781","v":0},{"$f":"'SHALA DARPAN DATA'!A4781","v":0},{"$f":"'SHALA DARPAN DATA'!B4781","v":0},{"$f":"'SHALA DARPAN DATA'!D4781","v":0},{"$f":"'SHALA DARPAN DATA'!J4781","v":0},{"$f":"'SHALA DARPAN DATA'!T4781","v":0},{"$f":"'SHALA DARPAN DATA'!V4781","v":0},{"$f":"'SHALA DARPAN DATA'!K4781","v":0},{"$f":"'SHALA DARPAN DATA'!E4781","v":0},{"$f":"'SHALA DARPAN DATA'!G4781","v":0},{"$f":"'SHALA DARPAN DATA'!H4781","v":0},{"$f":"'SHALA DARPAN DATA'!W4781","v":0},{"$f":"'SHALA DARPAN DATA'!R4781","v":0},{"$f":"'SHALA DARPAN DATA'!S4781","v":0},{"$f":"'SHALA DARPAN DATA'!O4781","v":0},0,0,0,0,0,0,0,0,0,0,0]
[{"$f":"'SHALA DARPAN DATA'!C4782","v":0},{"$f":"'SHALA DARPAN DATA'!A4782","v":0},{"$f":"'SHALA DARPAN DATA'!B4782","v":0},{"$f":"'SHALA DARPAN DATA'!D4782","v":0},{"$f":"'SHALA DARPAN DATA'!J4782","v":0},{"$f":"'SHALA DARPAN DATA'!T4782","v":0},{"$f":"'SHALA DARPAN DATA'!V4782","v":0},{"$f":"'SHALA DARPAN DATA'!K4782","v":0},{"$f":"'SHALA DARPAN DATA'!E4782","v":0},{"$f":"'SHALA DARPAN DATA'!G4782","v":0},{"$f":"'SHALA DARPAN DATA'!H4782","v":0},{"$f":"'SHALA DARPAN DATA'!W4782","v":0},{"$f":"'SHALA DARPAN DATA'!R4782","v":0},{"$f":"'SHALA DARPAN DATA'!S4782","v":0},{"$f":"'SHALA DARPAN DATA'!O4782","v":0},0,0,0,0,0,0,0,0,0,0,0]
[{"$f":"'SHALA DARPAN DATA'!C4783","v":0},{"$f":"'SHALA DARPAN DATA'!A4783","v":0},{"$f":"'SHALA DARPAN DATA'!B4783","v":0},{"$f":"'SHALA DARPAN DATA'!D4783","v":0},{"$f":"'SHALA DARPAN DATA'!J4783","v":0},{"$f":"'SHALA DARPAN DATA'!T4783","v":0},{"$f":"'SHALA DARPAN DATA'!V4783","v":0},{"$f":"'SHALA DARPAN DATA'!K4783","v":0},{"$f":"'SHALA DARPAN DATA'!E4783","v":0},{"$f":"'SHALA DARPAN DATA'!G4783","v":0},{"$f":"'SHALA DARPAN DATA'!H4783","v":0},{"$f":"'SHALA DARPAN DATA'!W4783","v":0},{"$f":"'SHALA DARPAN DATA'!R4783","v":0},{"$f":"'SHALA DARPAN DATA'!S4783","v":0},{"$f":"'SHALA DARPAN DATA'!O4783","v":0},0,0,0,0,0,0,0,0,0,0,0]
[{"$f":"'SHALA DARPAN DATA'!C4784","v":0},{"$f":"'SHALA DARPAN DATA'!A4784","v":0},{"$f":"'SHALA DARPAN DATA'!B4784","v":0},{"$f":"'SHALA DARPAN DATA'!D4784","v":0},{"$f":"'SHALA DARPAN DATA'!J4784","v":0},{"$f":"'SHALA DARPAN DATA'!T4784","v":0},{"$f":"'SHALA DARPAN DATA'!V4784","v":0},{"$f":"'SHALA DARPAN DATA'!K4784","v":0},{"$f":"'SHALA DARPAN DATA'!E4784","v":0},{"$f":"'SHALA DARPAN DATA'!G4784","v":0},{"$f":"'SHALA DARPAN DATA'!H4784","v":0},{"$f":"'SHALA DARPAN DATA'!W4784","v":0},{"$f":"'SHALA DARPAN DATA'!R4784","v":0},{"$f":"'SHALA DARPAN DATA'!S4784","v":0},{"$f":"'SHALA DARPAN DATA'!O4784","v":0},0,0,0,0,0,0,0,0,0,0,0]
[{"$f":"'SHALA DARPAN DATA'!C4785","v":0},{"$f":"'SHALA DARPAN DATA'!A4785","v":0},{"$f":"'SHALA DARPAN DATA'!B4785","v":0},{"$f":"'SHALA DARPAN DATA'!D4785","v":0},{"$f":"'SHALA DARPAN DATA'!J4785","v":0},{"$f":"'SHALA DARPAN DATA'!T4785","v":0},{"$f":"'SHALA DARPAN DATA'!V4785","v":0},{"$f":"'SHALA DARPAN DATA'!K4785","v":0},{"$f":"'SHALA DARPAN DATA'!E4785","v":0},{"$f":"'SHALA DARPAN DATA'!G4785","v":0},{"$f":"'SHALA DARPAN DATA'!H4785","v":0},{"$f":"'SHALA DARPAN DATA'!W4785","v":0},{"$f":"'SHALA DARPAN DATA'!R4785","v":0},{"$f":"'SHALA DARPAN DATA'!S4785","v":0},{"$f":"'SHALA DARPAN DATA'!O4785","v":0},0,0,0,0,0,0,0,0,0,0,0]
[{"$f":"'SHALA DARPAN DATA'!C4786","v":0},{"$f":"'SHALA DARPAN DATA'!A4786","v":0},{"$f":"'SHALA DARPAN DATA'!B4786","v":0},{"$f":"'SHALA DARPAN DATA'!D4786","v":0},{"$f":"'SHALA DARPAN DATA'!J4786","v":0},{"$f":"'SHALA DARPAN DATA'!T4786","v":0},{"$f":"'SHALA DARPAN DATA'!V4786","v":0},{"$f":"'SHALA DARPAN DATA'!K4786","v":0},{"$f":"'SHALA DARPAN DATA'!E4786","v":0},{"$f":"'SHALA DARPAN DATA'!G4786","v":0},{"$f":"'SHALA DARPAN DATA'!H4786","v":0},{"$f":"'SHALA DARPAN DATA'!W4786","v":0},{"$f":"'SHALA DARPAN DATA'!R4786","v":0},{"$f":"'SHALA DARPAN DATA'!S4786","v":0},{"$f":"'SHALA DARPAN DATA'!O4786","v":0},0,0,0,0,0,0,0,0,0,0,0]
[{"$f":"'SHALA DARPAN DATA'!C4787","v":0},{"$f":"'SHALA DARPAN DATA'!A4787","v":0},{"$f":"'SHALA DARPAN DATA'!B4787","v":0},{"$f":"'SHALA DARPAN DATA'!D4787","v":0},{"$f":"'SHALA DARPAN DATA'!J4787","v":0},{"$f":"'SHALA DARPAN DATA'!T4787","v":0},{"$f":"'SHALA DARPAN DATA'!V4787","v":0},{"$f":"'SHALA DARPAN DATA'!K4787","v":0},{"$f":"'SHALA DARPAN DATA'!E4787","v":0},{"$f":"'SHALA DARPAN DATA'!G4787","v":0},{"$f":"'SHALA DARPAN DATA'!H4787","v":0},{"$f":"'SHALA DARPAN DATA'!W4787","v":0},{"$f":"'SHALA DARPAN DATA'!R4787","v":0},{"$f":"'SHALA DARPAN DATA'!S4787","v":0},{"$f":"'SHALA DARPAN DATA'!O4787","v":0},0,0,0,0,0,0,0,0,0,0,0]
[{"$f":"'SHALA DARPAN DATA'!C4788","v":0},{"$f":"'SHALA DARPAN DATA'!A4788","v":0},{"$f":"'SHALA DARPAN DATA'!B4788","v":0},{"$f":"'SHALA DARPAN DATA'!D4788","v":0},{"$f":"'SHALA DARPAN DATA'!J4788","v":0},{"$f":"'SHALA DARPAN DATA'!T4788","v":0},{"$f":"'SHALA DARPAN DATA'!V4788","v":0},{"$f":"'SHALA DARPAN DATA'!K4788","v":0},{"$f":"'SHALA DARPAN DATA'!E4788","v":0},{"$f":"'SHALA DARPAN DATA'!G4788","v":0},{"$f":"'SHALA DARPAN DATA'!H4788","v":0},{"$f":"'SHALA DARPAN DATA'!W4788","v":0},{"$f":"'SHALA DARPAN DATA'!R4788","v":0},{"$f":"'SHALA DARPAN DATA'!S4788","v":0},{"$f":"'SHALA DARPAN DATA'!O4788","v":0},0,0,0,0,0,0,0,0,0,0,0]
[{"$f":"'SHALA DARPAN DATA'!C4789","v":0},{"$f":"'SHALA DARPAN DATA'!A4789","v":0},{"$f":"'SHALA DARPAN DATA'!B4789","v":0},{"$f":"'SHALA DARPAN DATA'!D4789","v":0},{"$f":"'SHALA DARPAN DATA'!J4789","v":0},{"$f":"'SHALA DARPAN DATA'!T4789","v":0},{"$f":"'SHALA DARPAN DATA'!V4789","v":0},{"$f":"'SHALA DARPAN DATA'!K4789","v":0},{"$f":"'SHALA DARPAN DATA'!E4789","v":0},{"$f":"'SHALA DARPAN DATA'!G4789","v":0},{"$f":"'SHALA DARPAN DATA'!H4789","v":0},{"$f":"'SHALA DARPAN DATA'!W4789","v":0},{"$f":"'SHALA DARPAN DATA'!R4789","v":0},{"$f":"'SHALA DARPAN DATA'!S4789","v":0},{"$f":"'SHALA DARPAN DATA'!O4789","v":0},0,0,0,0,0,0,0,0,0,0,0]
[{"$f":"'SHALA DARPAN DATA'!C4790","v":0},{"$f":"'SHALA DARPAN DATA'!A4790","v":0},{"$f":"'SHALA DARPAN DATA'!B4790","v":0},{"$f":"'SHALA DARPAN DATA'!D4790","v":0},{"$f":"'SHALA DARPAN DATA'!J4790","v":0},{"$f":"'SHALA DARPAN DATA'!T4790","v":0},{"$f":"'SHALA DARPAN DATA'!V4790","v":0},{"$f":"'SHALA DARPAN DATA'!K4790","v":0},{"$f":"'SHALA DARPAN DATA'!E4790","v":0},{"$f":"'SHALA DARPAN DATA'!G4790","v":0},{"$f":"'SHALA DARPAN DATA'!H4790","v":0},{"$f":"'SHALA DARPAN DATA'!W4790","v":0},{"$f":"'SHALA DARPAN DATA'!R4790","v":0},{"$f":"'SHALA DARPAN DATA'!S4790","v":0},{"$f":"'SHALA DARPAN DATA'!O4790","v":0},0,0,0,0,0,0,0,0,0,0,0]
[{"$f":"'SHALA DARPAN DATA'!C4791","v":0},{"$f":"'SHALA DARPAN DATA'!A4791","v":0},{"$f":"'SHALA DARPAN DATA'!B4791","v":0},{"$f":"'SHALA DARPAN DATA'!D4791","v":0},{"$f":"'SHALA DARPAN DATA'!J4791","v":0},{"$f":"'SHALA DARPAN DATA'!T4791","v":0},{"$f":"'SHALA DARPAN DATA'!V4791","v":0},{"$f":"'SHALA DARPAN DATA'!K4791","v":0},{"$f":"'SHALA DARPAN DATA'!E4791","v":0},{"$f":"'SHALA DARPAN DATA'!G4791","v":0},{"$f":"'SHALA DARPAN DATA'!H4791","v":0},{"$f":"'SHALA DARPAN DATA'!W4791","v":0},{"$f":"'SHALA DARPAN DATA'!R4791","v":0},{"$f":"'SHALA DARPAN DATA'!S4791","v":0},{"$f":"'SHALA DARPAN DATA'!O4791","v":0},0,0,0,0,0,0,0,0,0,0,0]
[{"$f":"'SHALA DARPAN DATA'!C4792","v":0},{"$f":"'SHALA DARPAN DATA'!A4792","v":0},{"$f":"'SHALA DARPAN DATA'!B4792","v":0},{"$f":"'SHALA DARPAN DATA'!D4792","v":0},{"$f":"'SHALA DARPAN DATA'!J4792","v":0},{"$f":"'SHALA DARPAN DATA'!T4792","v":0},{"$f":"'SHALA DARPAN DATA'!V4792","v":0},{"$f":"'SHALA DARPAN DATA'!K4792","v":0},{"$f":"'SHALA DARPAN DATA'!E4792","v":0},{"$f":"'SHALA DARPAN DATA'!G4792","v":0},{"$f":"'SHALA DARPAN DATA'!H4792","v":0},{"$f":"'SHALA DARPAN DATA'!W4792","v":0},{"$f":"'SHALA DARPAN DATA'!R4792","v":0},{"$f":"'SHALA DARPAN DATA'!S4792","v":0},{"$f":"'SHALA DARPAN DATA'!O4792","v":0},0,0,0,0,0,0,0,0,0,0,0]
[{"$f":"'SHALA DARPAN DATA'!C4793","v":0},{"$f":"'SHALA DARPAN DATA'!A4793","v":0},{"$f":"'SHALA DARPAN DATA'!B4793","v":0},{"$f":"'SHALA DARPAN DATA'!D4793","v":0},{"$f":"'SHALA DARPAN DATA'!J4793","v":0},{"$f":"'SHALA DARPAN DATA'!T4793","v":0},{"$f":"'SHALA DARPAN DATA'!V4793","v":0},{"$f":"'SHALA DARPAN DATA'!K4793","v":0},{"$f":"'SHALA DARPAN DATA'!E4793","v":0},{"$f":"'SHALA DARPAN DATA'!G4793","v":0},{"$f":"'SHALA DARPAN DATA'!H4793","v":0},{"$f":"'SHALA DARPAN DATA'!W4793","v":0},{"$f":"'SHALA DARPAN DATA'!R4793","v":0},{"$f":"'SHALA DARPAN DATA'!S4793","v":0},{"$f":"'SHALA DARPAN DATA'!O4793","v":0},0,0,0,0,0,0,0,0,0,0,0]
[{"$f":"'SHALA DARPAN DATA'!C4794","v":0},{"$f":"'SHALA DARPAN DATA'!A4794","v":0},{"$f":"'SHALA DARPAN DATA'!B4794","v":0},{"$f":"'SHALA DARPAN DATA'!D4794","v":0},{"$f":"'SHALA DARPAN DATA'!J4794","v":0},{"$f":"'SHALA DARPAN DATA'!T4794","v":0},{"$f":"'SHALA DARPAN DATA'!V4794","v":0},{"$f":"'SHALA DARPAN DATA'!K4794","v":0},{"$f":"'SHALA DARPAN DATA'!E4794","v":0},{"$f":"'SHALA DARPAN DATA'!G4794","v":0},{"$f":"'SHALA DARPAN DATA'!H4794","v":0},{"$f":"'SHALA DARPAN DATA'!W4794","v":0},{"$f":"'SHALA DARPAN DATA'!R4794","v":0},{"$f":"'SHALA DARPAN DATA'!S4794","v":0},{"$f":"'SHALA DARPAN DATA'!O4794","v":0},0,0,0,0,0,0,0,0,0,0,0]
[{"$f":"'SHALA DARPAN DATA'!C4795","v":0},{"$f":"'SHALA DARPAN DATA'!A4795","v":0},{"$f":"'SHALA DARPAN DATA'!B4795","v":0},{"$f":"'SHALA DARPAN DATA'!D4795","v":0},{"$f":"'SHALA DARPAN DATA'!J4795","v":0},{"$f":"'SHALA DARPAN DATA'!T4795","v":0},{"$f":"'SHALA DARPAN DATA'!V4795","v":0},{"$f":"'SHALA DARPAN DATA'!K4795","v":0},{"$f":"'SHALA DARPAN DATA'!E4795","v":0},{"$f":"'SHALA DARPAN DATA'!G4795","v":0},{"$f":"'SHALA DARPAN DATA'!H4795","v":0},{"$f":"'SHALA DARPAN DATA'!W4795","v":0},{"$f":"'SHALA DARPAN DATA'!R4795","v":0},{"$f":"'SHALA DARPAN DATA'!S4795","v":0},{"$f":"'SHALA DARPAN DATA'!O4795","v":0},0,0,0,0,0,0,0,0,0,0,0]
[{"$f":"'SHALA DARPAN DATA'!C4796","v":0},{"$f":"'SHALA DARPAN DATA'!A4796","v":0},{"$f":"'SHALA DARPAN DATA'!B4796","v":0},{"$f":"'SHALA DARPAN DATA'!D4796","v":0},{"$f":"'SHALA DARPAN DATA'!J4796","v":0},{"$f":"'SHALA DARPAN DATA'!T4796","v":0},{"$f":"'SHALA DARPAN DATA'!V4796","v":0},{"$f":"'SHALA DARPAN DATA'!K4796","v":0},{"$f":"'SHALA DARPAN DATA'!E4796","v":0},{"$f":"'SHALA DARPAN DATA'!G4796","v":0},{"$f":"'SHALA DARPAN DATA'!H4796","v":0},{"$f":"'SHALA DARPAN DATA'!W4796","v":0},{"$f":"'SHALA DARPAN DATA'!R4796","v":0},{"$f":"'SHALA DARPAN DATA'!S4796","v":0},{"$f":"'SHALA DARPAN DATA'!O4796","v":0},0,0,0,0,0,0,0,0,0,0,0]
[{"$f":"'SHALA DARPAN DATA'!C4797","v":0},{"$f":"'SHALA DARPAN DATA'!A4797","v":0},{"$f":"'SHALA DARPAN DATA'!B4797","v":0},{"$f":"'SHALA DARPAN DATA'!D4797","v":0},{"$f":"'SHALA DARPAN DATA'!J4797","v":0},{"$f":"'SHALA DARPAN DATA'!T4797","v":0},{"$f":"'SHALA DARPAN DATA'!V4797","v":0},{"$f":"'SHALA DARPAN DATA'!K4797","v":0},{"$f":"'SHALA DARPAN DATA'!E4797","v":0},{"$f":"'SHALA DARPAN DATA'!G4797","v":0},{"$f":"'SHALA DARPAN DATA'!H4797","v":0},{"$f":"'SHALA DARPAN DATA'!W4797","v":0},{"$f":"'SHALA DARPAN DATA'!R4797","v":0},{"$f":"'SHALA DARPAN DATA'!S4797","v":0},{"$f":"'SHALA DARPAN DATA'!O4797","v":0},0,0,0,0,0,0,0,0,0,0,0]
[{"$f":"'SHALA DARPAN DATA'!C4798","v":0},{"$f":"'SHALA DARPAN DATA'!A4798","v":0},{"$f":"'SHALA DARPAN DATA'!B4798","v":0},{"$f":"'SHALA DARPAN DATA'!D4798","v":0},{"$f":"'SHALA DARPAN DATA'!J4798","v":0},{"$f":"'SHALA DARPAN DATA'!T4798","v":0},{"$f":"'SHALA DARPAN DATA'!V4798","v":0},{"$f":"'SHALA DARPAN DATA'!K4798","v":0},{"$f":"'SHALA DARPAN DATA'!E4798","v":0},{"$f":"'SHALA DARPAN DATA'!G4798","v":0},{"$f":"'SHALA DARPAN DATA'!H4798","v":0},{"$f":"'SHALA DARPAN DATA'!W4798","v":0},{"$f":"'SHALA DARPAN DATA'!R4798","v":0},{"$f":"'SHALA DARPAN DATA'!S4798","v":0},{"$f":"'SHALA DARPAN DATA'!O4798","v":0},0,0,0,0,0,0,0,0,0,0,0]
[{"$f":"'SHALA DARPAN DATA'!C4799","v":0},{"$f":"'SHALA DARPAN DATA'!A4799","v":0},{"$f":"'SHALA DARPAN DATA'!B4799","v":0},{"$f":"'SHALA DARPAN DATA'!D4799","v":0},{"$f":"'SHALA DARPAN DATA'!J4799","v":0},{"$f":"'SHALA DARPAN DATA'!T4799","v":0},{"$f":"'SHALA DARPAN DATA'!V4799","v":0},{"$f":"'SHALA DARPAN DATA'!K4799","v":0},{"$f":"'SHALA DARPAN DATA'!E4799","v":0},{"$f":"'SHALA DARPAN DATA'!G4799","v":0},{"$f":"'SHALA DARPAN DATA'!H4799","v":0},{"$f":"'SHALA DARPAN DATA'!W4799","v":0},{"$f":"'SHALA DARPAN DATA'!R4799","v":0},{"$f":"'SHALA DARPAN DATA'!S4799","v":0},{"$f":"'SHALA DARPAN DATA'!O4799","v":0},0,0,0,0,0,0,0,0,0,0,0]
[{"$f":"'SHALA DARPAN DATA'!C4800","v":0},{"$f":"'SHALA DARPAN DATA'!A4800","v":0},{"$f":"'SHALA DARPAN DATA'!B4800","v":0},{"$f":"'SHALA DARPAN DATA'!D4800","v":0},{"$f":"'SHALA DARPAN DATA'!J4800","v":0},{"$f":"'SHALA DARPAN DATA'!T4800","v":0},{"$f":"'SHALA DARPAN DATA'!V4800","v":0},{"$f":"'SHALA DARPAN DATA'!K4800","v":0},{"$f":"'SHALA DARPAN DATA'!E4800","v":0},{"$f":"'SHALA DARPAN DATA'!G4800","v":0},{"$f":"'SHALA DARPAN DATA'!H4800","v":0},{"$f":"'SHALA DARPAN DATA'!W4800","v":0},{"$f":"'SHALA DARPAN DATA'!R4800","v":0},{"$f":"'SHALA DARPAN DATA'!S4800","v":0},{"$f":"'SHALA DARPAN DATA'!O4800","v":0},0,0,0,0,0,0,0,0,0,0,0]
[{"$f":"'SHALA DARPAN DATA'!C4801","v":0},{"$f":"'SHALA DARPAN DATA'!A4801","v":0},{"$f":"'SHALA DARPAN DATA'!B4801","v":0},{"$f":"'SHALA DARPAN DATA'!D4801","v":0},{"$f":"'SHALA DARPAN DATA'!J4801","v":0},{"$f":"'SHALA DARPAN DATA'!T4801","v":0},{"$f":"'SHALA DARPAN DATA'!V4801","v":0},{"$f":"'SHALA DARPAN DATA'!K4801","v":0},{"$f":"'SHALA DARPAN DATA'!E4801","v":0},{"$f":"'SHALA DARPAN DATA'!G4801","v":0},{"$f":"'SHALA DARPAN DATA'!H4801","v":0},{"$f":"'SHALA DARPAN DATA'!W4801","v":0},{"$f":"'SHALA DARPAN DATA'!R4801","v":0},{"$f":"'SHALA DARPAN DATA'!S4801","v":0},{"$f":"'SHALA DARPAN DATA'!O4801","v":0},0,0,0,0,0,0,0,0,0,0,0]
[{"$f":"'SHALA DARPAN DATA'!C4802","v":0},{"$f":"'SHALA DARPAN DATA'!A4802","v":0},{"$f":"'SHALA DARPAN DATA'!B4802","v":0},{"$f":"'SHALA DARPAN DATA'!D4802","v":0},{"$f":"'SHALA DARPAN DATA'!J4802","v":0},{"$f":"'SHALA DARPAN DATA'!T4802","v":0},{"$f":"'SHALA DARPAN DATA'!V4802","v":0},{"$f":"'SHALA DARPAN DATA'!K4802","v":0},{"$f":"'SHALA DARPAN DATA'!E4802","v":0},{"$f":"'SHALA DARPAN DATA'!G4802","v":0},{"$f":"'SHALA DARPAN DATA'!H4802","v":0},{"$f":"'SHALA DARPAN DATA'!W4802","v":0},{"$f":"'SHALA DARPAN DATA'!R4802","v":0},{"$f":"'SHALA DARPAN DATA'!S4802","v":0},{"$f":"'SHALA DARPAN DATA'!O4802","v":0},0,0,0,0,0,0,0,0,0,0,0]
[{"$f":"'SHALA DARPAN DATA'!C4803","v":0},{"$f":"'SHALA DARPAN DATA'!A4803","v":0},{"$f":"'SHALA DARPAN DATA'!B4803","v":0},{"$f":"'SHALA DARPAN DATA'!D4803","v":0},{"$f":"'SHALA DARPAN DATA'!J4803","v":0},{"$f":"'SHALA DARPAN DATA'!T4803","v":0},{"$f":"'SHALA DARPAN DATA'!V4803","v":0},{"$f":"'SHALA DARPAN DATA'!K4803","v":0},{"$f":"'SHALA DARPAN DATA'!E4803","v":0},{"$f":"'SHALA DARPAN DATA'!G4803","v":0},{"$f":"'SHALA DARPAN DATA'!H4803","v":0},{"$f":"'SHALA DARPAN DATA'!W4803","v":0},{"$f":"'SHALA DARPAN DATA'!R4803","v":0},{"$f":"'SHALA DARPAN DATA'!S4803","v":0},{"$f":"'SHALA DARPAN DATA'!O4803","v":0},0,0,0,0,0,0,0,0,0,0,0]
[{"$f":"'SHALA DARPAN DATA'!C4804","v":0},{"$f":"'SHALA DARPAN DATA'!A4804","v":0},{"$f":"'SHALA DARPAN DATA'!B4804","v":0},{"$f":"'SHALA DARPAN DATA'!D4804","v":0},{"$f":"'SHALA DARPAN DATA'!J4804","v":0},{"$f":"'SHALA DARPAN DATA'!T4804","v":0},{"$f":"'SHALA DARPAN DATA'!V4804","v":0},{"$f":"'SHALA DARPAN DATA'!K4804","v":0},{"$f":"'SHALA DARPAN DATA'!E4804","v":0},{"$f":"'SHALA DARPAN DATA'!G4804","v":0},{"$f":"'SHALA DARPAN DATA'!H4804","v":0},{"$f":"'SHALA DARPAN DATA'!W4804","v":0},{"$f":"'SHALA DARPAN DATA'!R4804","v":0},{"$f":"'SHALA DARPAN DATA'!S4804","v":0},{"$f":"'SHALA DARPAN DATA'!O4804","v":0},0,0,0,0,0,0,0,0,0,0,0]
[{"$f":"'SHALA DARPAN DATA'!C4805","v":0},{"$f":"'SHALA DARPAN DATA'!A4805","v":0},{"$f":"'SHALA DARPAN DATA'!B4805","v":0},{"$f":"'SHALA DARPAN DATA'!D4805","v":0},{"$f":"'SHALA DARPAN DATA'!J4805","v":0},{"$f":"'SHALA DARPAN DATA'!T4805","v":0},{"$f":"'SHALA DARPAN DATA'!V4805","v":0},{"$f":"'SHALA DARPAN DATA'!K4805","v":0},{"$f":"'SHALA DARPAN DATA'!E4805","v":0},{"$f":"'SHALA DARPAN DATA'!G4805","v":0},{"$f":"'SHALA DARPAN DATA'!H4805","v":0},{"$f":"'SHALA DARPAN DATA'!W4805","v":0},{"$f":"'SHALA DARPAN DATA'!R4805","v":0},{"$f":"'SHALA DARPAN DATA'!S4805","v":0},{"$f":"'SHALA DARPAN DATA'!O4805","v":0},0,0,0,0,0,0,0,0,0,0,0]
[{"$f":"'SHALA DARPAN DATA'!C4806","v":0},{"$f":"'SHALA DARPAN DATA'!A4806","v":0},{"$f":"'SHALA DARPAN DATA'!B4806","v":0},{"$f":"'SHALA DARPAN DATA'!D4806","v":0},{"$f":"'SHALA DARPAN DATA'!J4806","v":0},{"$f":"'SHALA DARPAN DATA'!T4806","v":0},{"$f":"'SHALA DARPAN DATA'!V4806","v":0},{"$f":"'SHALA DARPAN DATA'!K4806","v":0},{"$f":"'SHALA DARPAN DATA'!E4806","v":0},{"$f":"'SHALA DARPAN DATA'!G4806","v":0},{"$f":"'SHALA DARPAN DATA'!H4806","v":0},{"$f":"'SHALA DARPAN DATA'!W4806","v":0},{"$f":"'SHALA DARPAN DATA'!R4806","v":0},{"$f":"'SHALA DARPAN DATA'!S4806","v":0},{"$f":"'SHALA DARPAN DATA'!O4806","v":0},0,0,0,0,0,0,0,0,0,0,0]
[{"$f":"'SHALA DARPAN DATA'!C4807","v":0},{"$f":"'SHALA DARPAN DATA'!A4807","v":0},{"$f":"'SHALA DARPAN DATA'!B4807","v":0},{"$f":"'SHALA DARPAN DATA'!D4807","v":0},{"$f":"'SHALA DARPAN DATA'!J4807","v":0},{"$f":"'SHALA DARPAN DATA'!T4807","v":0},{"$f":"'SHALA DARPAN DATA'!V4807","v":0},{"$f":"'SHALA DARPAN DATA'!K4807","v":0},{"$f":"'SHALA DARPAN DATA'!E4807","v":0},{"$f":"'SHALA DARPAN DATA'!G4807","v":0},{"$f":"'SHALA DARPAN DATA'!H4807","v":0},{"$f":"'SHALA DARPAN DATA'!W4807","v":0},{"$f":"'SHALA DARPAN DATA'!R4807","v":0},{"$f":"'SHALA DARPAN DATA'!S4807","v":0},{"$f":"'SHALA DARPAN DATA'!O4807","v":0},0,0,0,0,0,0,0,0,0,0,0]
[{"$f":"'SHALA DARPAN DATA'!C4808","v":0},{"$f":"'SHALA DARPAN DATA'!A4808","v":0},{"$f":"'SHALA DARPAN DATA'!B4808","v":0},{"$f":"'SHALA DARPAN DATA'!D4808","v":0},{"$f":"'SHALA DARPAN DATA'!J4808","v":0},{"$f":"'SHALA DARPAN DATA'!T4808","v":0},{"$f":"'SHALA DARPAN DATA'!V4808","v":0},{"$f":"'SHALA DARPAN DATA'!K4808","v":0},{"$f":"'SHALA DARPAN DATA'!E4808","v":0},{"$f":"'SHALA DARPAN DATA'!G4808","v":0},{"$f":"'SHALA DARPAN DATA'!H4808","v":0},{"$f":"'SHALA DARPAN DATA'!W4808","v":0},{"$f":"'SHALA DARPAN DATA'!R4808","v":0},{"$f":"'SHALA DARPAN DATA'!S4808","v":0},{"$f":"'SHALA DARPAN DATA'!O4808","v":0},0,0,0,0,0,0,0,0,0,0,0]
[{"$f":"'SHALA DARPAN DATA'!C4809","v":0},{"$f":"'SHALA DARPAN DATA'!A4809","v":0},{"$f":"'SHALA DARPAN DATA'!B4809","v":0},{"$f":"'SHALA DARPAN DATA'!D4809","v":0},{"$f":"'SHALA DARPAN DATA'!J4809","v":0},{"$f":"'SHALA DARPAN DATA'!T4809","v":0},{"$f":"'SHALA DARPAN DATA'!V4809","v":0},{"$f":"'SHALA DARPAN DATA'!K4809","v":0},{"$f":"'SHALA DARPAN DATA'!E4809","v":0},{"$f":"'SHALA DARPAN DATA'!G4809","v":0},{"$f":"'SHALA DARPAN DATA'!H4809","v":0},{"$f":"'SHALA DARPAN DATA'!W4809","v":0},{"$f":"'SHALA DARPAN DATA'!R4809","v":0},{"$f":"'SHALA DARPAN DATA'!S4809","v":0},{"$f":"'SHALA DARPAN DATA'!O4809","v":0},0,0,0,0,0,0,0,0,0,0,0]
[{"$f":"'SHALA DARPAN DATA'!C4810","v":0},{"$f":"'SHALA DARPAN DATA'!A4810","v":0},{"$f":"'SHALA DARPAN DATA'!B4810","v":0},{"$f":"'SHALA DARPAN DATA'!D4810","v":0},{"$f":"'SHALA DARPAN DATA'!J4810","v":0},{"$f":"'SHALA DARPAN DATA'!T4810","v":0},{"$f":"'SHALA DARPAN DATA'!V4810","v":0},{"$f":"'SHALA DARPAN DATA'!K4810","v":0},{"$f":"'SHALA DARPAN DATA'!E4810","v":0},{"$f":"'SHALA DARPAN DATA'!G4810","v":0},{"$f":"'SHALA DARPAN DATA'!H4810","v":0},{"$f":"'SHALA DARPAN DATA'!W4810","v":0},{"$f":"'SHALA DARPAN DATA'!R4810","v":0},{"$f":"'SHALA DARPAN DATA'!S4810","v":0},{"$f":"'SHALA DARPAN DATA'!O4810","v":0},0,0,0,0,0,0,0,0,0,0,0]
[{"$f":"'SHALA DARPAN DATA'!C4811","v":0},{"$f":"'SHALA DARPAN DATA'!A4811","v":0},{"$f":"'SHALA DARPAN DATA'!B4811","v":0},{"$f":"'SHALA DARPAN DATA'!D4811","v":0},{"$f":"'SHALA DARPAN DATA'!J4811","v":0},{"$f":"'SHALA DARPAN DATA'!T4811","v":0},{"$f":"'SHALA DARPAN DATA'!V4811","v":0},{"$f":"'SHALA DARPAN DATA'!K4811","v":0},{"$f":"'SHALA DARPAN DATA'!E4811","v":0},{"$f":"'SHALA DARPAN DATA'!G4811","v":0},{"$f":"'SHALA DARPAN DATA'!H4811","v":0},{"$f":"'SHALA DARPAN DATA'!W4811","v":0},{"$f":"'SHALA DARPAN DATA'!R4811","v":0},{"$f":"'SHALA DARPAN DATA'!S4811","v":0},{"$f":"'SHALA DARPAN DATA'!O4811","v":0},0,0,0,0,0,0,0,0,0,0,0]
[{"$f":"'SHALA DARPAN DATA'!C4812","v":0},{"$f":"'SHALA DARPAN DATA'!A4812","v":0},{"$f":"'SHALA DARPAN DATA'!B4812","v":0},{"$f":"'SHALA DARPAN DATA'!D4812","v":0},{"$f":"'SHALA DARPAN DATA'!J4812","v":0},{"$f":"'SHALA DARPAN DATA'!T4812","v":0},{"$f":"'SHALA DARPAN DATA'!V4812","v":0},{"$f":"'SHALA DARPAN DATA'!K4812","v":0},{"$f":"'SHALA DARPAN DATA'!E4812","v":0},{"$f":"'SHALA DARPAN DATA'!G4812","v":0},{"$f":"'SHALA DARPAN DATA'!H4812","v":0},{"$f":"'SHALA DARPAN DATA'!W4812","v":0},{"$f":"'SHALA DARPAN DATA'!R4812","v":0},{"$f":"'SHALA DARPAN DATA'!S4812","v":0},{"$f":"'SHALA DARPAN DATA'!O4812","v":0},0,0,0,0,0,0,0,0,0,0,0]
[{"$f":"'SHALA DARPAN DATA'!C4813","v":0},{"$f":"'SHALA DARPAN DATA'!A4813","v":0},{"$f":"'SHALA DARPAN DATA'!B4813","v":0},{"$f":"'SHALA DARPAN DATA'!D4813","v":0},{"$f":"'SHALA DARPAN DATA'!J4813","v":0},{"$f":"'SHALA DARPAN DATA'!T4813","v":0},{"$f":"'SHALA DARPAN DATA'!V4813","v":0},{"$f":"'SHALA DARPAN DATA'!K4813","v":0},{"$f":"'SHALA DARPAN DATA'!E4813","v":0},{"$f":"'SHALA DARPAN DATA'!G4813","v":0},{"$f":"'SHALA DARPAN DATA'!H4813","v":0},{"$f":"'SHALA DARPAN DATA'!W4813","v":0},{"$f":"'SHALA DARPAN DATA'!R4813","v":0},{"$f":"'SHALA DARPAN DATA'!S4813","v":0},{"$f":"'SHALA DARPAN DATA'!O4813","v":0},0,0,0,0,0,0,0,0,0,0,0]
[{"$f":"'SHALA DARPAN DATA'!C4814","v":0},{"$f":"'SHALA DARPAN DATA'!A4814","v":0},{"$f":"'SHALA DARPAN DATA'!B4814","v":0},{"$f":"'SHALA DARPAN DATA'!D4814","v":0},{"$f":"'SHALA DARPAN DATA'!J4814","v":0},{"$f":"'SHALA DARPAN DATA'!T4814","v":0},{"$f":"'SHALA DARPAN DATA'!V4814","v":0},{"$f":"'SHALA DARPAN DATA'!K4814","v":0},{"$f":"'SHALA DARPAN DATA'!E4814","v":0},{"$f":"'SHALA DARPAN DATA'!G4814","v":0},{"$f":"'SHALA DARPAN DATA'!H4814","v":0},{"$f":"'SHALA DARPAN DATA'!W4814","v":0},{"$f":"'SHALA DARPAN DATA'!R4814","v":0},{"$f":"'SHALA DARPAN DATA'!S4814","v":0},{"$f":"'SHALA DARPAN DATA'!O4814","v":0},0,0,0,0,0,0,0,0,0,0,0]
[{"$f":"'SHALA DARPAN DATA'!C4815","v":0},{"$f":"'SHALA DARPAN DATA'!A4815","v":0},{"$f":"'SHALA DARPAN DATA'!B4815","v":0},{"$f":"'SHALA DARPAN DATA'!D4815","v":0},{"$f":"'SHALA DARPAN DATA'!J4815","v":0},{"$f":"'SHALA DARPAN DATA'!T4815","v":0},{"$f":"'SHALA DARPAN DATA'!V4815","v":0},{"$f":"'SHALA DARPAN DATA'!K4815","v":0},{"$f":"'SHALA DARPAN DATA'!E4815","v":0},{"$f":"'SHALA DARPAN DATA'!G4815","v":0},{"$f":"'SHALA DARPAN DATA'!H4815","v":0},{"$f":"'SHALA DARPAN DATA'!W4815","v":0},{"$f":"'SHALA DARPAN DATA'!R4815","v":0},{"$f":"'SHALA DARPAN DATA'!S4815","v":0},{"$f":"'SHALA DARPAN DATA'!O4815","v":0},0,0,0,0,0,0,0,0,0,0,0]
[{"$f":"'SHALA DARPAN DATA'!C4816","v":0},{"$f":"'SHALA DARPAN DATA'!A4816","v":0},{"$f":"'SHALA DARPAN DATA'!B4816","v":0},{"$f":"'SHALA DARPAN DATA'!D4816","v":0},{"$f":"'SHALA DARPAN DATA'!J4816","v":0},{"$f":"'SHALA DARPAN DATA'!T4816","v":0},{"$f":"'SHALA DARPAN DATA'!V4816","v":0},{"$f":"'SHALA DARPAN DATA'!K4816","v":0},{"$f":"'SHALA DARPAN DATA'!E4816","v":0},{"$f":"'SHALA DARPAN DATA'!G4816","v":0},{"$f":"'SHALA DARPAN DATA'!H4816","v":0},{"$f":"'SHALA DARPAN DATA'!W4816","v":0},{"$f":"'SHALA DARPAN DATA'!R4816","v":0},{"$f":"'SHALA DARPAN DATA'!S4816","v":0},{"$f":"'SHALA DARPAN DATA'!O4816","v":0},0,0,0,0,0,0,0,0,0,0,0]
[{"$f":"'SHALA DARPAN DATA'!C4817","v":0},{"$f":"'SHALA DARPAN DATA'!A4817","v":0},{"$f":"'SHALA DARPAN DATA'!B4817","v":0},{"$f":"'SHALA DARPAN DATA'!D4817","v":0},{"$f":"'SHALA DARPAN DATA'!J4817","v":0},{"$f":"'SHALA DARPAN DATA'!T4817","v":0},{"$f":"'SHALA DARPAN DATA'!V4817","v":0},{"$f":"'SHALA DARPAN DATA'!K4817","v":0},{"$f":"'SHALA DARPAN DATA'!E4817","v":0},{"$f":"'SHALA DARPAN DATA'!G4817","v":0},{"$f":"'SHALA DARPAN DATA'!H4817","v":0},{"$f":"'SHALA DARPAN DATA'!W4817","v":0},{"$f":"'SHALA DARPAN DATA'!R4817","v":0},{"$f":"'SHALA DARPAN DATA'!S4817","v":0},{"$f":"'SHALA DARPAN DATA'!O4817","v":0},0,0,0,0,0,0,0,0,0,0,0]
[{"$f":"'SHALA DARPAN DATA'!C4818","v":0},{"$f":"'SHALA DARPAN DATA'!A4818","v":0},{"$f":"'SHALA DARPAN DATA'!B4818","v":0},{"$f":"'SHALA DARPAN DATA'!D4818","v":0},{"$f":"'SHALA DARPAN DATA'!J4818","v":0},{"$f":"'SHALA DARPAN DATA'!T4818","v":0},{"$f":"'SHALA DARPAN DATA'!V4818","v":0},{"$f":"'SHALA DARPAN DATA'!K4818","v":0},{"$f":"'SHALA DARPAN DATA'!E4818","v":0},{"$f":"'SHALA DARPAN DATA'!G4818","v":0},{"$f":"'SHALA DARPAN DATA'!H4818","v":0},{"$f":"'SHALA DARPAN DATA'!W4818","v":0},{"$f":"'SHALA DARPAN DATA'!R4818","v":0},{"$f":"'SHALA DARPAN DATA'!S4818","v":0},{"$f":"'SHALA DARPAN DATA'!O4818","v":0},0,0,0,0,0,0,0,0,0,0,0]
[{"$f":"'SHALA DARPAN DATA'!C4819","v":0},{"$f":"'SHALA DARPAN DATA'!A4819","v":0},{"$f":"'SHALA DARPAN DATA'!B4819","v":0},{"$f":"'SHALA DARPAN DATA'!D4819","v":0},{"$f":"'SHALA DARPAN DATA'!J4819","v":0},{"$f":"'SHALA DARPAN DATA'!T4819","v":0},{"$f":"'SHALA DARPAN DATA'!V4819","v":0},{"$f":"'SHALA DARPAN DATA'!K4819","v":0},{"$f":"'SHALA DARPAN DATA'!E4819","v":0},{"$f":"'SHALA DARPAN DATA'!G4819","v":0},{"$f":"'SHALA DARPAN DATA'!H4819","v":0},{"$f":"'SHALA DARPAN DATA'!W4819","v":0},{"$f":"'SHALA DARPAN DATA'!R4819","v":0},{"$f":"'SHALA DARPAN DATA'!S4819","v":0},{"$f":"'SHALA DARPAN DATA'!O4819","v":0},0,0,0,0,0,0,0,0,0,0,0]
[{"$f":"'SHALA DARPAN DATA'!C4820","v":0},{"$f":"'SHALA DARPAN DATA'!A4820","v":0},{"$f":"'SHALA DARPAN DATA'!B4820","v":0},{"$f":"'SHALA DARPAN DATA'!D4820","v":0},{"$f":"'SHALA DARPAN DATA'!J4820","v":0},{"$f":"'SHALA DARPAN DATA'!T4820","v":0},{"$f":"'SHALA DARPAN DATA'!V4820","v":0},{"$f":"'SHALA DARPAN DATA'!K4820","v":0},{"$f":"'SHALA DARPAN DATA'!E4820","v":0},{"$f":"'SHALA DARPAN DATA'!G4820","v":0},{"$f":"'SHALA DARPAN DATA'!H4820","v":0},{"$f":"'SHALA DARPAN DATA'!W4820","v":0},{"$f":"'SHALA DARPAN DATA'!R4820","v":0},{"$f":"'SHALA DARPAN DATA'!S4820","v":0},{"$f":"'SHALA DARPAN DATA'!O4820","v":0},0,0,0,0,0,0,0,0,0,0,0]
[{"$f":"'SHALA DARPAN DATA'!C4821","v":0},{"$f":"'SHALA DARPAN DATA'!A4821","v":0},{"$f":"'SHALA DARPAN DATA'!B4821","v":0},{"$f":"'SHALA DARPAN DATA'!D4821","v":0},{"$f":"'SHALA DARPAN DATA'!J4821","v":0},{"$f":"'SHALA DARPAN DATA'!T4821","v":0},{"$f":"'SHALA DARPAN DATA'!V4821","v":0},{"$f":"'SHALA DARPAN DATA'!K4821","v":0},{"$f":"'SHALA DARPAN DATA'!E4821","v":0},{"$f":"'SHALA DARPAN DATA'!G4821","v":0},{"$f":"'SHALA DARPAN DATA'!H4821","v":0},{"$f":"'SHALA DARPAN DATA'!W4821","v":0},{"$f":"'SHALA DARPAN DATA'!R4821","v":0},{"$f":"'SHALA DARPAN DATA'!S4821","v":0},{"$f":"'SHALA DARPAN DATA'!O4821","v":0},0,0,0,0,0,0,0,0,0,0,0]
[{"$f":"'SHALA DARPAN DATA'!C4822","v":0},{"$f":"'SHALA DARPAN DATA'!A4822","v":0},{"$f":"'SHALA DARPAN DATA'!B4822","v":0},{"$f":"'SHALA DARPAN DATA'!D4822","v":0},{"$f":"'SHALA DARPAN DATA'!J4822","v":0},{"$f":"'SHALA DARPAN DATA'!T4822","v":0},{"$f":"'SHALA DARPAN DATA'!V4822","v":0},{"$f":"'SHALA DARPAN DATA'!K4822","v":0},{"$f":"'SHALA DARPAN DATA'!E4822","v":0},{"$f":"'SHALA DARPAN DATA'!G4822","v":0},{"$f":"'SHALA DARPAN DATA'!H4822","v":0},{"$f":"'SHALA DARPAN DATA'!W4822","v":0},{"$f":"'SHALA DARPAN DATA'!R4822","v":0},{"$f":"'SHALA DARPAN DATA'!S4822","v":0},{"$f":"'SHALA DARPAN DATA'!O4822","v":0},0,0,0,0,0,0,0,0,0,0,0]
[{"$f":"'SHALA DARPAN DATA'!C4823","v":0},{"$f":"'SHALA DARPAN DATA'!A4823","v":0},{"$f":"'SHALA DARPAN DATA'!B4823","v":0},{"$f":"'SHALA DARPAN DATA'!D4823","v":0},{"$f":"'SHALA DARPAN DATA'!J4823","v":0},{"$f":"'SHALA DARPAN DATA'!T4823","v":0},{"$f":"'SHALA DARPAN DATA'!V4823","v":0},{"$f":"'SHALA DARPAN DATA'!K4823","v":0},{"$f":"'SHALA DARPAN DATA'!E4823","v":0},{"$f":"'SHALA DARPAN DATA'!G4823","v":0},{"$f":"'SHALA DARPAN DATA'!H4823","v":0},{"$f":"'SHALA DARPAN DATA'!W4823","v":0},{"$f":"'SHALA DARPAN DATA'!R4823","v":0},{"$f":"'SHALA DARPAN DATA'!S4823","v":0},{"$f":"'SHALA DARPAN DATA'!O4823","v":0},0,0,0,0,0,0,0,0,0,0,0]
[{"$f":"'SHALA DARPAN DATA'!C4824","v":0},{"$f":"'SHALA DARPAN DATA'!A4824","v":0},{"$f":"'SHALA DARPAN DATA'!B4824","v":0},{"$f":"'SHALA DARPAN DATA'!D4824","v":0},{"$f":"'SHALA DARPAN DATA'!J4824","v":0},{"$f":"'SHALA DARPAN DATA'!T4824","v":0},{"$f":"'SHALA DARPAN DATA'!V4824","v":0},{"$f":"'SHALA DARPAN DATA'!K4824","v":0},{"$f":"'SHALA DARPAN DATA'!E4824","v":0},{"$f":"'SHALA DARPAN DATA'!G4824","v":0},{"$f":"'SHALA DARPAN DATA'!H4824","v":0},{"$f":"'SHALA DARPAN DATA'!W4824","v":0},{"$f":"'SHALA DARPAN DATA'!R4824","v":0},{"$f":"'SHALA DARPAN DATA'!S4824","v":0},{"$f":"'SHALA DARPAN DATA'!O4824","v":0},0,0,0,0,0,0,0,0,0,0,0]
[{"$f":"'SHALA DARPAN DATA'!C4825","v":0},{"$f":"'SHALA DARPAN DATA'!A4825","v":0},{"$f":"'SHALA DARPAN DATA'!B4825","v":0},{"$f":"'SHALA DARPAN DATA'!D4825","v":0},{"$f":"'SHALA DARPAN DATA'!J4825","v":0},{"$f":"'SHALA DARPAN DATA'!T4825","v":0},{"$f":"'SHALA DARPAN DATA'!V4825","v":0},{"$f":"'SHALA DARPAN DATA'!K4825","v":0},{"$f":"'SHALA DARPAN DATA'!E4825","v":0},{"$f":"'SHALA DARPAN DATA'!G4825","v":0},{"$f":"'SHALA DARPAN DATA'!H4825","v":0},{"$f":"'SHALA DARPAN DATA'!W4825","v":0},{"$f":"'SHALA DARPAN DATA'!R4825","v":0},{"$f":"'SHALA DARPAN DATA'!S4825","v":0},{"$f":"'SHALA DARPAN DATA'!O4825","v":0},0,0,0,0,0,0,0,0,0,0,0]
[{"$f":"'SHALA DARPAN DATA'!C4826","v":0},{"$f":"'SHALA DARPAN DATA'!A4826","v":0},{"$f":"'SHALA DARPAN DATA'!B4826","v":0},{"$f":"'SHALA DARPAN DATA'!D4826","v":0},{"$f":"'SHALA DARPAN DATA'!J4826","v":0},{"$f":"'SHALA DARPAN DATA'!T4826","v":0},{"$f":"'SHALA DARPAN DATA'!V4826","v":0},{"$f":"'SHALA DARPAN DATA'!K4826","v":0},{"$f":"'SHALA DARPAN DATA'!E4826","v":0},{"$f":"'SHALA DARPAN DATA'!G4826","v":0},{"$f":"'SHALA DARPAN DATA'!H4826","v":0},{"$f":"'SHALA DARPAN DATA'!W4826","v":0},{"$f":"'SHALA DARPAN DATA'!R4826","v":0},{"$f":"'SHALA DARPAN DATA'!S4826","v":0},{"$f":"'SHALA DARPAN DATA'!O4826","v":0},0,0,0,0,0,0,0,0,0,0,0]
[{"$f":"'SHALA DARPAN DATA'!C4827","v":0},{"$f":"'SHALA DARPAN DATA'!A4827","v":0},{"$f":"'SHALA DARPAN DATA'!B4827","v":0},{"$f":"'SHALA DARPAN DATA'!D4827","v":0},{"$f":"'SHALA DARPAN DATA'!J4827","v":0},{"$f":"'SHALA DARPAN DATA'!T4827","v":0},{"$f":"'SHALA DARPAN DATA'!V4827","v":0},{"$f":"'SHALA DARPAN DATA'!K4827","v":0},{"$f":"'SHALA DARPAN DATA'!E4827","v":0},{"$f":"'SHALA DARPAN DATA'!G4827","v":0},{"$f":"'SHALA DARPAN DATA'!H4827","v":0},{"$f":"'SHALA DARPAN DATA'!W4827","v":0},{"$f":"'SHALA DARPAN DATA'!R4827","v":0},{"$f":"'SHALA DARPAN DATA'!S4827","v":0},{"$f":"'SHALA DARPAN DATA'!O4827","v":0},0,0,0,0,0,0,0,0,0,0,0]
[{"$f":"'SHALA DARPAN DATA'!C4828","v":0},{"$f":"'SHALA DARPAN DATA'!A4828","v":0},{"$f":"'SHALA DARPAN DATA'!B4828","v":0},{"$f":"'SHALA DARPAN DATA'!D4828","v":0},{"$f":"'SHALA DARPAN DATA'!J4828","v":0},{"$f":"'SHALA DARPAN DATA'!T4828","v":0},{"$f":"'SHALA DARPAN DATA'!V4828","v":0},{"$f":"'SHALA DARPAN DATA'!K4828","v":0},{"$f":"'SHALA DARPAN DATA'!E4828","v":0},{"$f":"'SHALA DARPAN DATA'!G4828","v":0},{"$f":"'SHALA DARPAN DATA'!H4828","v":0},{"$f":"'SHALA DARPAN DATA'!W4828","v":0},{"$f":"'SHALA DARPAN DATA'!R4828","v":0},{"$f":"'SHALA DARPAN DATA'!S4828","v":0},{"$f":"'SHALA DARPAN DATA'!O4828","v":0},0,0,0,0,0,0,0,0,0,0,0]
[{"$f":"'SHALA DARPAN DATA'!C4829","v":0},{"$f":"'SHALA DARPAN DATA'!A4829","v":0},{"$f":"'SHALA DARPAN DATA'!B4829","v":0},{"$f":"'SHALA DARPAN DATA'!D4829","v":0},{"$f":"'SHALA DARPAN DATA'!J4829","v":0},{"$f":"'SHALA DARPAN DATA'!T4829","v":0},{"$f":"'SHALA DARPAN DATA'!V4829","v":0},{"$f":"'SHALA DARPAN DATA'!K4829","v":0},{"$f":"'SHALA DARPAN DATA'!E4829","v":0},{"$f":"'SHALA DARPAN DATA'!G4829","v":0},{"$f":"'SHALA DARPAN DATA'!H4829","v":0},{"$f":"'SHALA DARPAN DATA'!W4829","v":0},{"$f":"'SHALA DARPAN DATA'!R4829","v":0},{"$f":"'SHALA DARPAN DATA'!S4829","v":0},{"$f":"'SHALA DARPAN DATA'!O4829","v":0},0,0,0,0,0,0,0,0,0,0,0]
[{"$f":"'SHALA DARPAN DATA'!C4830","v":0},{"$f":"'SHALA DARPAN DATA'!A4830","v":0},{"$f":"'SHALA DARPAN DATA'!B4830","v":0},{"$f":"'SHALA DARPAN DATA'!D4830","v":0},{"$f":"'SHALA DARPAN DATA'!J4830","v":0},{"$f":"'SHALA DARPAN DATA'!T4830","v":0},{"$f":"'SHALA DARPAN DATA'!V4830","v":0},{"$f":"'SHALA DARPAN DATA'!K4830","v":0},{"$f":"'SHALA DARPAN DATA'!E4830","v":0},{"$f":"'SHALA DARPAN DATA'!G4830","v":0},{"$f":"'SHALA DARPAN DATA'!H4830","v":0},{"$f":"'SHALA DARPAN DATA'!W4830","v":0},{"$f":"'SHALA DARPAN DATA'!R4830","v":0},{"$f":"'SHALA DARPAN DATA'!S4830","v":0},{"$f":"'SHALA DARPAN DATA'!O4830","v":0},0,0,0,0,0,0,0,0,0,0,0]
[{"$f":"'SHALA DARPAN DATA'!C4831","v":0},{"$f":"'SHALA DARPAN DATA'!A4831","v":0},{"$f":"'SHALA DARPAN DATA'!B4831","v":0},{"$f":"'SHALA DARPAN DATA'!D4831","v":0},{"$f":"'SHALA DARPAN DATA'!J4831","v":0},{"$f":"'SHALA DARPAN DATA'!T4831","v":0},{"$f":"'SHALA DARPAN DATA'!V4831","v":0},{"$f":"'SHALA DARPAN DATA'!K4831","v":0},{"$f":"'SHALA DARPAN DATA'!E4831","v":0},{"$f":"'SHALA DARPAN DATA'!G4831","v":0},{"$f":"'SHALA DARPAN DATA'!H4831","v":0},{"$f":"'SHALA DARPAN DATA'!W4831","v":0},{"$f":"'SHALA DARPAN DATA'!R4831","v":0},{"$f":"'SHALA DARPAN DATA'!S4831","v":0},{"$f":"'SHALA DARPAN DATA'!O4831","v":0},0,0,0,0,0,0,0,0,0,0,0]
[{"$f":"'SHALA DARPAN DATA'!C4832","v":0},{"$f":"'SHALA DARPAN DATA'!A4832","v":0},{"$f":"'SHALA DARPAN DATA'!B4832","v":0},{"$f":"'SHALA DARPAN DATA'!D4832","v":0},{"$f":"'SHALA DARPAN DATA'!J4832","v":0},{"$f":"'SHALA DARPAN DATA'!T4832","v":0},{"$f":"'SHALA DARPAN DATA'!V4832","v":0},{"$f":"'SHALA DARPAN DATA'!K4832","v":0},{"$f":"'SHALA DARPAN DATA'!E4832","v":0},{"$f":"'SHALA DARPAN DATA'!G4832","v":0},{"$f":"'SHALA DARPAN DATA'!H4832","v":0},{"$f":"'SHALA DARPAN DATA'!W4832","v":0},{"$f":"'SHALA DARPAN DATA'!R4832","v":0},{"$f":"'SHALA DARPAN DATA'!S4832","v":0},{"$f":"'SHALA DARPAN DATA'!O4832","v":0},0,0,0,0,0,0,0,0,0,0,0]
[{"$f":"'SHALA DARPAN DATA'!C4833","v":0},{"$f":"'SHALA DARPAN DATA'!A4833","v":0},{"$f":"'SHALA DARPAN DATA'!B4833","v":0},{"$f":"'SHALA DARPAN DATA'!D4833","v":0},{"$f":"'SHALA DARPAN DATA'!J4833","v":0},{"$f":"'SHALA DARPAN DATA'!T4833","v":0},{"$f":"'SHALA DARPAN DATA'!V4833","v":0},{"$f":"'SHALA DARPAN DATA'!K4833","v":0},{"$f":"'SHALA DARPAN DATA'!E4833","v":0},{"$f":"'SHALA DARPAN DATA'!G4833","v":0},{"$f":"'SHALA DARPAN DATA'!H4833","v":0},{"$f":"'SHALA DARPAN DATA'!W4833","v":0},{"$f":"'SHALA DARPAN DATA'!R4833","v":0},{"$f":"'SHALA DARPAN DATA'!S4833","v":0},{"$f":"'SHALA DARPAN DATA'!O4833","v":0},0,0,0,0,0,0,0,0,0,0,0]
[{"$f":"'SHALA DARPAN DATA'!C4834","v":0},{"$f":"'SHALA DARPAN DATA'!A4834","v":0},{"$f":"'SHALA DARPAN DATA'!B4834","v":0},{"$f":"'SHALA DARPAN DATA'!D4834","v":0},{"$f":"'SHALA DARPAN DATA'!J4834","v":0},{"$f":"'SHALA DARPAN DATA'!T4834","v":0},{"$f":"'SHALA DARPAN DATA'!V4834","v":0},{"$f":"'SHALA DARPAN DATA'!K4834","v":0},{"$f":"'SHALA DARPAN DATA'!E4834","v":0},{"$f":"'SHALA DARPAN DATA'!G4834","v":0},{"$f":"'SHALA DARPAN DATA'!H4834","v":0},{"$f":"'SHALA DARPAN DATA'!W4834","v":0},{"$f":"'SHALA DARPAN DATA'!R4834","v":0},{"$f":"'SHALA DARPAN DATA'!S4834","v":0},{"$f":"'SHALA DARPAN DATA'!O4834","v":0},0,0,0,0,0,0,0,0,0,0,0]
[{"$f":"'SHALA DARPAN DATA'!C4835","v":0},{"$f":"'SHALA DARPAN DATA'!A4835","v":0},{"$f":"'SHALA DARPAN DATA'!B4835","v":0},{"$f":"'SHALA DARPAN DATA'!D4835","v":0},{"$f":"'SHALA DARPAN DATA'!J4835","v":0},{"$f":"'SHALA DARPAN DATA'!T4835","v":0},{"$f":"'SHALA DARPAN DATA'!V4835","v":0},{"$f":"'SHALA DARPAN DATA'!K4835","v":0},{"$f":"'SHALA DARPAN DATA'!E4835","v":0},{"$f":"'SHALA DARPAN DATA'!G4835","v":0},{"$f":"'SHALA DARPAN DATA'!H4835","v":0},{"$f":"'SHALA DARPAN DATA'!W4835","v":0},{"$f":"'SHALA DARPAN DATA'!R4835","v":0},{"$f":"'SHALA DARPAN DATA'!S4835","v":0},{"$f":"'SHALA DARPAN DATA'!O4835","v":0},0,0,0,0,0,0,0,0,0,0,0]
[{"$f":"'SHALA DARPAN DATA'!C4836","v":0},{"$f":"'SHALA DARPAN DATA'!A4836","v":0},{"$f":"'SHALA DARPAN DATA'!B4836","v":0},{"$f":"'SHALA DARPAN DATA'!D4836","v":0},{"$f":"'SHALA DARPAN DATA'!J4836","v":0},{"$f":"'SHALA DARPAN DATA'!T4836","v":0},{"$f":"'SHALA DARPAN DATA'!V4836","v":0},{"$f":"'SHALA DARPAN DATA'!K4836","v":0},{"$f":"'SHALA DARPAN DATA'!E4836","v":0},{"$f":"'SHALA DARPAN DATA'!G4836","v":0},{"$f":"'SHALA DARPAN DATA'!H4836","v":0},{"$f":"'SHALA DARPAN DATA'!W4836","v":0},{"$f":"'SHALA DARPAN DATA'!R4836","v":0},{"$f":"'SHALA DARPAN DATA'!S4836","v":0},{"$f":"'SHALA DARPAN DATA'!O4836","v":0},0,0,0,0,0,0,0,0,0,0,0]
[{"$f":"'SHALA DARPAN DATA'!C4837","v":0},{"$f":"'SHALA DARPAN DATA'!A4837","v":0},{"$f":"'SHALA DARPAN DATA'!B4837","v":0},{"$f":"'SHALA DARPAN DATA'!D4837","v":0},{"$f":"'SHALA DARPAN DATA'!J4837","v":0},{"$f":"'SHALA DARPAN DATA'!T4837","v":0},{"$f":"'SHALA DARPAN DATA'!V4837","v":0},{"$f":"'SHALA DARPAN DATA'!K4837","v":0},{"$f":"'SHALA DARPAN DATA'!E4837","v":0},{"$f":"'SHALA DARPAN DATA'!G4837","v":0},{"$f":"'SHALA DARPAN DATA'!H4837","v":0},{"$f":"'SHALA DARPAN DATA'!W4837","v":0},{"$f":"'SHALA DARPAN DATA'!R4837","v":0},{"$f":"'SHALA DARPAN DATA'!S4837","v":0},{"$f":"'SHALA DARPAN DATA'!O4837","v":0},0,0,0,0,0,0,0,0,0,0,0]
[{"$f":"'SHALA DARPAN DATA'!C4838","v":0},{"$f":"'SHALA DARPAN DATA'!A4838","v":0},{"$f":"'SHALA DARPAN DATA'!B4838","v":0},{"$f":"'SHALA DARPAN DATA'!D4838","v":0},{"$f":"'SHALA DARPAN DATA'!J4838","v":0},{"$f":"'SHALA DARPAN DATA'!T4838","v":0},{"$f":"'SHALA DARPAN DATA'!V4838","v":0},{"$f":"'SHALA DARPAN DATA'!K4838","v":0},{"$f":"'SHALA DARPAN DATA'!E4838","v":0},{"$f":"'SHALA DARPAN DATA'!G4838","v":0},{"$f":"'SHALA DARPAN DATA'!H4838","v":0},{"$f":"'SHALA DARPAN DATA'!W4838","v":0},{"$f":"'SHALA DARPAN DATA'!R4838","v":0},{"$f":"'SHALA DARPAN DATA'!S4838","v":0},{"$f":"'SHALA DARPAN DATA'!O4838","v":0},0,0,0,0,0,0,0,0,0,0,0]
[{"$f":"'SHALA DARPAN DATA'!C4839","v":0},{"$f":"'SHALA DARPAN DATA'!A4839","v":0},{"$f":"'SHALA DARPAN DATA'!B4839","v":0},{"$f":"'SHALA DARPAN DATA'!D4839","v":0},{"$f":"'SHALA DARPAN DATA'!J4839","v":0},{"$f":"'SHALA DARPAN DATA'!T4839","v":0},{"$f":"'SHALA DARPAN DATA'!V4839","v":0},{"$f":"'SHALA DARPAN DATA'!K4839","v":0},{"$f":"'SHALA DARPAN DATA'!E4839","v":0},{"$f":"'SHALA DARPAN DATA'!G4839","v":0},{"$f":"'SHALA DARPAN DATA'!H4839","v":0},{"$f":"'SHALA DARPAN DATA'!W4839","v":0},{"$f":"'SHALA DARPAN DATA'!R4839","v":0},{"$f":"'SHALA DARPAN DATA'!S4839","v":0},{"$f":"'SHALA DARPAN DATA'!O4839","v":0},0,0,0,0,0,0,0,0,0,0,0]
[{"$f":"'SHALA DARPAN DATA'!C4840","v":0},{"$f":"'SHALA DARPAN DATA'!A4840","v":0},{"$f":"'SHALA DARPAN DATA'!B4840","v":0},{"$f":"'SHALA DARPAN DATA'!D4840","v":0},{"$f":"'SHALA DARPAN DATA'!J4840","v":0},{"$f":"'SHALA DARPAN DATA'!T4840","v":0},{"$f":"'SHALA DARPAN DATA'!V4840","v":0},{"$f":"'SHALA DARPAN DATA'!K4840","v":0},{"$f":"'SHALA DARPAN DATA'!E4840","v":0},{"$f":"'SHALA DARPAN DATA'!G4840","v":0},{"$f":"'SHALA DARPAN DATA'!H4840","v":0},{"$f":"'SHALA DARPAN DATA'!W4840","v":0},{"$f":"'SHALA DARPAN DATA'!R4840","v":0},{"$f":"'SHALA DARPAN DATA'!S4840","v":0},{"$f":"'SHALA DARPAN DATA'!O4840","v":0},0,0,0,0,0,0,0,0,0,0,0]
[{"$f":"'SHALA DARPAN DATA'!C4841","v":0},{"$f":"'SHALA DARPAN DATA'!A4841","v":0},{"$f":"'SHALA DARPAN DATA'!B4841","v":0},{"$f":"'SHALA DARPAN DATA'!D4841","v":0},{"$f":"'SHALA DARPAN DATA'!J4841","v":0},{"$f":"'SHALA DARPAN DATA'!T4841","v":0},{"$f":"'SHALA DARPAN DATA'!V4841","v":0},{"$f":"'SHALA DARPAN DATA'!K4841","v":0},{"$f":"'SHALA DARPAN DATA'!E4841","v":0},{"$f":"'SHALA DARPAN DATA'!G4841","v":0},{"$f":"'SHALA DARPAN DATA'!H4841","v":0},{"$f":"'SHALA DARPAN DATA'!W4841","v":0},{"$f":"'SHALA DARPAN DATA'!R4841","v":0},{"$f":"'SHALA DARPAN DATA'!S4841","v":0},{"$f":"'SHALA DARPAN DATA'!O4841","v":0},0,0,0,0,0,0,0,0,0,0,0]
[{"$f":"'SHALA DARPAN DATA'!C4842","v":0},{"$f":"'SHALA DARPAN DATA'!A4842","v":0},{"$f":"'SHALA DARPAN DATA'!B4842","v":0},{"$f":"'SHALA DARPAN DATA'!D4842","v":0},{"$f":"'SHALA DARPAN DATA'!J4842","v":0},{"$f":"'SHALA DARPAN DATA'!T4842","v":0},{"$f":"'SHALA DARPAN DATA'!V4842","v":0},{"$f":"'SHALA DARPAN DATA'!K4842","v":0},{"$f":"'SHALA DARPAN DATA'!E4842","v":0},{"$f":"'SHALA DARPAN DATA'!G4842","v":0},{"$f":"'SHALA DARPAN DATA'!H4842","v":0},{"$f":"'SHALA DARPAN DATA'!W4842","v":0},{"$f":"'SHALA DARPAN DATA'!R4842","v":0},{"$f":"'SHALA DARPAN DATA'!S4842","v":0},{"$f":"'SHALA DARPAN DATA'!O4842","v":0},0,0,0,0,0,0,0,0,0,0,0]
[{"$f":"'SHALA DARPAN DATA'!C4843","v":0},{"$f":"'SHALA DARPAN DATA'!A4843","v":0},{"$f":"'SHALA DARPAN DATA'!B4843","v":0},{"$f":"'SHALA DARPAN DATA'!D4843","v":0},{"$f":"'SHALA DARPAN DATA'!J4843","v":0},{"$f":"'SHALA DARPAN DATA'!T4843","v":0},{"$f":"'SHALA DARPAN DATA'!V4843","v":0},{"$f":"'SHALA DARPAN DATA'!K4843","v":0},{"$f":"'SHALA DARPAN DATA'!E4843","v":0},{"$f":"'SHALA DARPAN DATA'!G4843","v":0},{"$f":"'SHALA DARPAN DATA'!H4843","v":0},{"$f":"'SHALA DARPAN DATA'!W4843","v":0},{"$f":"'SHALA DARPAN DATA'!R4843","v":0},{"$f":"'SHALA DARPAN DATA'!S4843","v":0},{"$f":"'SHALA DARPAN DATA'!O4843","v":0},0,0,0,0,0,0,0,0,0,0,0]
[{"$f":"'SHALA DARPAN DATA'!C4844","v":0},{"$f":"'SHALA DARPAN DATA'!A4844","v":0},{"$f":"'SHALA DARPAN DATA'!B4844","v":0},{"$f":"'SHALA DARPAN DATA'!D4844","v":0},{"$f":"'SHALA DARPAN DATA'!J4844","v":0},{"$f":"'SHALA DARPAN DATA'!T4844","v":0},{"$f":"'SHALA DARPAN DATA'!V4844","v":0},{"$f":"'SHALA DARPAN DATA'!K4844","v":0},{"$f":"'SHALA DARPAN DATA'!E4844","v":0},{"$f":"'SHALA DARPAN DATA'!G4844","v":0},{"$f":"'SHALA DARPAN DATA'!H4844","v":0},{"$f":"'SHALA DARPAN DATA'!W4844","v":0},{"$f":"'SHALA DARPAN DATA'!R4844","v":0},{"$f":"'SHALA DARPAN DATA'!S4844","v":0},{"$f":"'SHALA DARPAN DATA'!O4844","v":0},0,0,0,0,0,0,0,0,0,0,0]
[{"$f":"'SHALA DARPAN DATA'!C4845","v":0},{"$f":"'SHALA DARPAN DATA'!A4845","v":0},{"$f":"'SHALA DARPAN DATA'!B4845","v":0},{"$f":"'SHALA DARPAN DATA'!D4845","v":0},{"$f":"'SHALA DARPAN DATA'!J4845","v":0},{"$f":"'SHALA DARPAN DATA'!T4845","v":0},{"$f":"'SHALA DARPAN DATA'!V4845","v":0},{"$f":"'SHALA DARPAN DATA'!K4845","v":0},{"$f":"'SHALA DARPAN DATA'!E4845","v":0},{"$f":"'SHALA DARPAN DATA'!G4845","v":0},{"$f":"'SHALA DARPAN DATA'!H4845","v":0},{"$f":"'SHALA DARPAN DATA'!W4845","v":0},{"$f":"'SHALA DARPAN DATA'!R4845","v":0},{"$f":"'SHALA DARPAN DATA'!S4845","v":0},{"$f":"'SHALA DARPAN DATA'!O4845","v":0},0,0,0,0,0,0,0,0,0,0,0]
[{"$f":"'SHALA DARPAN DATA'!C4846","v":0},{"$f":"'SHALA DARPAN DATA'!A4846","v":0},{"$f":"'SHALA DARPAN DATA'!B4846","v":0},{"$f":"'SHALA DARPAN DATA'!D4846","v":0},{"$f":"'SHALA DARPAN DATA'!J4846","v":0},{"$f":"'SHALA DARPAN DATA'!T4846","v":0},{"$f":"'SHALA DARPAN DATA'!V4846","v":0},{"$f":"'SHALA DARPAN DATA'!K4846","v":0},{"$f":"'SHALA DARPAN DATA'!E4846","v":0},{"$f":"'SHALA DARPAN DATA'!G4846","v":0},{"$f":"'SHALA DARPAN DATA'!H4846","v":0},{"$f":"'SHALA DARPAN DATA'!W4846","v":0},{"$f":"'SHALA DARPAN DATA'!R4846","v":0},{"$f":"'SHALA DARPAN DATA'!S4846","v":0},{"$f":"'SHALA DARPAN DATA'!O4846","v":0},0,0,0,0,0,0,0,0,0,0,0]
[{"$f":"'SHALA DARPAN DATA'!C4847","v":0},{"$f":"'SHALA DARPAN DATA'!A4847","v":0},{"$f":"'SHALA DARPAN DATA'!B4847","v":0},{"$f":"'SHALA DARPAN DATA'!D4847","v":0},{"$f":"'SHALA DARPAN DATA'!J4847","v":0},{"$f":"'SHALA DARPAN DATA'!T4847","v":0},{"$f":"'SHALA DARPAN DATA'!V4847","v":0},{"$f":"'SHALA DARPAN DATA'!K4847","v":0},{"$f":"'SHALA DARPAN DATA'!E4847","v":0},{"$f":"'SHALA DARPAN DATA'!G4847","v":0},{"$f":"'SHALA DARPAN DATA'!H4847","v":0},{"$f":"'SHALA DARPAN DATA'!W4847","v":0},{"$f":"'SHALA DARPAN DATA'!R4847","v":0},{"$f":"'SHALA DARPAN DATA'!S4847","v":0},{"$f":"'SHALA DARPAN DATA'!O4847","v":0},0,0,0,0,0,0,0,0,0,0,0]
[{"$f":"'SHALA DARPAN DATA'!C4848","v":0},{"$f":"'SHALA DARPAN DATA'!A4848","v":0},{"$f":"'SHALA DARPAN DATA'!B4848","v":0},{"$f":"'SHALA DARPAN DATA'!D4848","v":0},{"$f":"'SHALA DARPAN DATA'!J4848","v":0},{"$f":"'SHALA DARPAN DATA'!T4848","v":0},{"$f":"'SHALA DARPAN DATA'!V4848","v":0},{"$f":"'SHALA DARPAN DATA'!K4848","v":0},{"$f":"'SHALA DARPAN DATA'!E4848","v":0},{"$f":"'SHALA DARPAN DATA'!G4848","v":0},{"$f":"'SHALA DARPAN DATA'!H4848","v":0},{"$f":"'SHALA DARPAN DATA'!W4848","v":0},{"$f":"'SHALA DARPAN DATA'!R4848","v":0},{"$f":"'SHALA DARPAN DATA'!S4848","v":0},{"$f":"'SHALA DARPAN DATA'!O4848","v":0},0,0,0,0,0,0,0,0,0,0,0]
[{"$f":"'SHALA DARPAN DATA'!C4849","v":0},{"$f":"'SHALA DARPAN DATA'!A4849","v":0},{"$f":"'SHALA DARPAN DATA'!B4849","v":0},{"$f":"'SHALA DARPAN DATA'!D4849","v":0},{"$f":"'SHALA DARPAN DATA'!J4849","v":0},{"$f":"'SHALA DARPAN DATA'!T4849","v":0},{"$f":"'SHALA DARPAN DATA'!V4849","v":0},{"$f":"'SHALA DARPAN DATA'!K4849","v":0},{"$f":"'SHALA DARPAN DATA'!E4849","v":0},{"$f":"'SHALA DARPAN DATA'!G4849","v":0},{"$f":"'SHALA DARPAN DATA'!H4849","v":0},{"$f":"'SHALA DARPAN DATA'!W4849","v":0},{"$f":"'SHALA DARPAN DATA'!R4849","v":0},{"$f":"'SHALA DARPAN DATA'!S4849","v":0},{"$f":"'SHALA DARPAN DATA'!O4849","v":0},0,0,0,0,0,0,0,0,0,0,0]
[{"$f":"'SHALA DARPAN DATA'!C4850","v":0},{"$f":"'SHALA DARPAN DATA'!A4850","v":0},{"$f":"'SHALA DARPAN DATA'!B4850","v":0},{"$f":"'SHALA DARPAN DATA'!D4850","v":0},{"$f":"'SHALA DARPAN DATA'!J4850","v":0},{"$f":"'SHALA DARPAN DATA'!T4850","v":0},{"$f":"'SHALA DARPAN DATA'!V4850","v":0},{"$f":"'SHALA DARPAN DATA'!K4850","v":0},{"$f":"'SHALA DARPAN DATA'!E4850","v":0},{"$f":"'SHALA DARPAN DATA'!G4850","v":0},{"$f":"'SHALA DARPAN DATA'!H4850","v":0},{"$f":"'SHALA DARPAN DATA'!W4850","v":0},{"$f":"'SHALA DARPAN DATA'!R4850","v":0},{"$f":"'SHALA DARPAN DATA'!S4850","v":0},{"$f":"'SHALA DARPAN DATA'!O4850","v":0},0,0,0,0,0,0,0,0,0,0,0]
[{"$f":"'SHALA DARPAN DATA'!C4851","v":0},{"$f":"'SHALA DARPAN DATA'!A4851","v":0},{"$f":"'SHALA DARPAN DATA'!B4851","v":0},{"$f":"'SHALA DARPAN DATA'!D4851","v":0},{"$f":"'SHALA DARPAN DATA'!J4851","v":0},{"$f":"'SHALA DARPAN DATA'!T4851","v":0},{"$f":"'SHALA DARPAN DATA'!V4851","v":0},{"$f":"'SHALA DARPAN DATA'!K4851","v":0},{"$f":"'SHALA DARPAN DATA'!E4851","v":0},{"$f":"'SHALA DARPAN DATA'!G4851","v":0},{"$f":"'SHALA DARPAN DATA'!H4851","v":0},{"$f":"'SHALA DARPAN DATA'!W4851","v":0},{"$f":"'SHALA DARPAN DATA'!R4851","v":0},{"$f":"'SHALA DARPAN DATA'!S4851","v":0},{"$f":"'SHALA DARPAN DATA'!O4851","v":0},0,0,0,0,0,0,0,0,0,0,0]
[{"$f":"'SHALA DARPAN DATA'!C4852","v":0},{"$f":"'SHALA DARPAN DATA'!A4852","v":0},{"$f":"'SHALA DARPAN DATA'!B4852","v":0},{"$f":"'SHALA DARPAN DATA'!D4852","v":0},{"$f":"'SHALA DARPAN DATA'!J4852","v":0},{"$f":"'SHALA DARPAN DATA'!T4852","v":0},{"$f":"'SHALA DARPAN DATA'!V4852","v":0},{"$f":"'SHALA DARPAN DATA'!K4852","v":0},{"$f":"'SHALA DARPAN DATA'!E4852","v":0},{"$f":"'SHALA DARPAN DATA'!G4852","v":0},{"$f":"'SHALA DARPAN DATA'!H4852","v":0},{"$f":"'SHALA DARPAN DATA'!W4852","v":0},{"$f":"'SHALA DARPAN DATA'!R4852","v":0},{"$f":"'SHALA DARPAN DATA'!S4852","v":0},{"$f":"'SHALA DARPAN DATA'!O4852","v":0},0,0,0,0,0,0,0,0,0,0,0]
[{"$f":"'SHALA DARPAN DATA'!C4853","v":0},{"$f":"'SHALA DARPAN DATA'!A4853","v":0},{"$f":"'SHALA DARPAN DATA'!B4853","v":0},{"$f":"'SHALA DARPAN DATA'!D4853","v":0},{"$f":"'SHALA DARPAN DATA'!J4853","v":0},{"$f":"'SHALA DARPAN DATA'!T4853","v":0},{"$f":"'SHALA DARPAN DATA'!V4853","v":0},{"$f":"'SHALA DARPAN DATA'!K4853","v":0},{"$f":"'SHALA DARPAN DATA'!E4853","v":0},{"$f":"'SHALA DARPAN DATA'!G4853","v":0},{"$f":"'SHALA DARPAN DATA'!H4853","v":0},{"$f":"'SHALA DARPAN DATA'!W4853","v":0},{"$f":"'SHALA DARPAN DATA'!R4853","v":0},{"$f":"'SHALA DARPAN DATA'!S4853","v":0},{"$f":"'SHALA DARPAN DATA'!O4853","v":0},0,0,0,0,0,0,0,0,0,0,0]
[{"$f":"'SHALA DARPAN DATA'!C4854","v":0},{"$f":"'SHALA DARPAN DATA'!A4854","v":0},{"$f":"'SHALA DARPAN DATA'!B4854","v":0},{"$f":"'SHALA DARPAN DATA'!D4854","v":0},{"$f":"'SHALA DARPAN DATA'!J4854","v":0},{"$f":"'SHALA DARPAN DATA'!T4854","v":0},{"$f":"'SHALA DARPAN DATA'!V4854","v":0},{"$f":"'SHALA DARPAN DATA'!K4854","v":0},{"$f":"'SHALA DARPAN DATA'!E4854","v":0},{"$f":"'SHALA DARPAN DATA'!G4854","v":0},{"$f":"'SHALA DARPAN DATA'!H4854","v":0},{"$f":"'SHALA DARPAN DATA'!W4854","v":0},{"$f":"'SHALA DARPAN DATA'!R4854","v":0},{"$f":"'SHALA DARPAN DATA'!S4854","v":0},{"$f":"'SHALA DARPAN DATA'!O4854","v":0},0,0,0,0,0,0,0,0,0,0,0]
[{"$f":"'SHALA DARPAN DATA'!C4855","v":0},{"$f":"'SHALA DARPAN DATA'!A4855","v":0},{"$f":"'SHALA DARPAN DATA'!B4855","v":0},{"$f":"'SHALA DARPAN DATA'!D4855","v":0},{"$f":"'SHALA DARPAN DATA'!J4855","v":0},{"$f":"'SHALA DARPAN DATA'!T4855","v":0},{"$f":"'SHALA DARPAN DATA'!V4855","v":0},{"$f":"'SHALA DARPAN DATA'!K4855","v":0},{"$f":"'SHALA DARPAN DATA'!E4855","v":0},{"$f":"'SHALA DARPAN DATA'!G4855","v":0},{"$f":"'SHALA DARPAN DATA'!H4855","v":0},{"$f":"'SHALA DARPAN DATA'!W4855","v":0},{"$f":"'SHALA DARPAN DATA'!R4855","v":0},{"$f":"'SHALA DARPAN DATA'!S4855","v":0},{"$f":"'SHALA DARPAN DATA'!O4855","v":0},0,0,0,0,0,0,0,0,0,0,0]
[{"$f":"'SHALA DARPAN DATA'!C4856","v":0},{"$f":"'SHALA DARPAN DATA'!A4856","v":0},{"$f":"'SHALA DARPAN DATA'!B4856","v":0},{"$f":"'SHALA DARPAN DATA'!D4856","v":0},{"$f":"'SHALA DARPAN DATA'!J4856","v":0},{"$f":"'SHALA DARPAN DATA'!T4856","v":0},{"$f":"'SHALA DARPAN DATA'!V4856","v":0},{"$f":"'SHALA DARPAN DATA'!K4856","v":0},{"$f":"'SHALA DARPAN DATA'!E4856","v":0},{"$f":"'SHALA DARPAN DATA'!G4856","v":0},{"$f":"'SHALA DARPAN DATA'!H4856","v":0},{"$f":"'SHALA DARPAN DATA'!W4856","v":0},{"$f":"'SHALA DARPAN DATA'!R4856","v":0},{"$f":"'SHALA DARPAN DATA'!S4856","v":0},{"$f":"'SHALA DARPAN DATA'!O4856","v":0},0,0,0,0,0,0,0,0,0,0,0]
[{"$f":"'SHALA DARPAN DATA'!C4857","v":0},{"$f":"'SHALA DARPAN DATA'!A4857","v":0},{"$f":"'SHALA DARPAN DATA'!B4857","v":0},{"$f":"'SHALA DARPAN DATA'!D4857","v":0},{"$f":"'SHALA DARPAN DATA'!J4857","v":0},{"$f":"'SHALA DARPAN DATA'!T4857","v":0},{"$f":"'SHALA DARPAN DATA'!V4857","v":0},{"$f":"'SHALA DARPAN DATA'!K4857","v":0},{"$f":"'SHALA DARPAN DATA'!E4857","v":0},{"$f":"'SHALA DARPAN DATA'!G4857","v":0},{"$f":"'SHALA DARPAN DATA'!H4857","v":0},{"$f":"'SHALA DARPAN DATA'!W4857","v":0},{"$f":"'SHALA DARPAN DATA'!R4857","v":0},{"$f":"'SHALA DARPAN DATA'!S4857","v":0},{"$f":"'SHALA DARPAN DATA'!O4857","v":0},0,0,0,0,0,0,0,0,0,0,0]
[{"$f":"'SHALA DARPAN DATA'!C4858","v":0},{"$f":"'SHALA DARPAN DATA'!A4858","v":0},{"$f":"'SHALA DARPAN DATA'!B4858","v":0},{"$f":"'SHALA DARPAN DATA'!D4858","v":0},{"$f":"'SHALA DARPAN DATA'!J4858","v":0},{"$f":"'SHALA DARPAN DATA'!T4858","v":0},{"$f":"'SHALA DARPAN DATA'!V4858","v":0},{"$f":"'SHALA DARPAN DATA'!K4858","v":0},{"$f":"'SHALA DARPAN DATA'!E4858","v":0},{"$f":"'SHALA DARPAN DATA'!G4858","v":0},{"$f":"'SHALA DARPAN DATA'!H4858","v":0},{"$f":"'SHALA DARPAN DATA'!W4858","v":0},{"$f":"'SHALA DARPAN DATA'!R4858","v":0},{"$f":"'SHALA DARPAN DATA'!S4858","v":0},{"$f":"'SHALA DARPAN DATA'!O4858","v":0},0,0,0,0,0,0,0,0,0,0,0]
[{"$f":"'SHALA DARPAN DATA'!C4859","v":0},{"$f":"'SHALA DARPAN DATA'!A4859","v":0},{"$f":"'SHALA DARPAN DATA'!B4859","v":0},{"$f":"'SHALA DARPAN DATA'!D4859","v":0},{"$f":"'SHALA DARPAN DATA'!J4859","v":0},{"$f":"'SHALA DARPAN DATA'!T4859","v":0},{"$f":"'SHALA DARPAN DATA'!V4859","v":0},{"$f":"'SHALA DARPAN DATA'!K4859","v":0},{"$f":"'SHALA DARPAN DATA'!E4859","v":0},{"$f":"'SHALA DARPAN DATA'!G4859","v":0},{"$f":"'SHALA DARPAN DATA'!H4859","v":0},{"$f":"'SHALA DARPAN DATA'!W4859","v":0},{"$f":"'SHALA DARPAN DATA'!R4859","v":0},{"$f":"'SHALA DARPAN DATA'!S4859","v":0},{"$f":"'SHALA DARPAN DATA'!O4859","v":0},0,0,0,0,0,0,0,0,0,0,0]
[{"$f":"'SHALA DARPAN DATA'!C4860","v":0},{"$f":"'SHALA DARPAN DATA'!A4860","v":0},{"$f":"'SHALA DARPAN DATA'!B4860","v":0},{"$f":"'SHALA DARPAN DATA'!D4860","v":0},{"$f":"'SHALA DARPAN DATA'!J4860","v":0},{"$f":"'SHALA DARPAN DATA'!T4860","v":0},{"$f":"'SHALA DARPAN DATA'!V4860","v":0},{"$f":"'SHALA DARPAN DATA'!K4860","v":0},{"$f":"'SHALA DARPAN DATA'!E4860","v":0},{"$f":"'SHALA DARPAN DATA'!G4860","v":0},{"$f":"'SHALA DARPAN DATA'!H4860","v":0},{"$f":"'SHALA DARPAN DATA'!W4860","v":0},{"$f":"'SHALA DARPAN DATA'!R4860","v":0},{"$f":"'SHALA DARPAN DATA'!S4860","v":0},{"$f":"'SHALA DARPAN DATA'!O4860","v":0},0,0,0,0,0,0,0,0,0,0,0]
[{"$f":"'SHALA DARPAN DATA'!C4861","v":0},{"$f":"'SHALA DARPAN DATA'!A4861","v":0},{"$f":"'SHALA DARPAN DATA'!B4861","v":0},{"$f":"'SHALA DARPAN DATA'!D4861","v":0},{"$f":"'SHALA DARPAN DATA'!J4861","v":0},{"$f":"'SHALA DARPAN DATA'!T4861","v":0},{"$f":"'SHALA DARPAN DATA'!V4861","v":0},{"$f":"'SHALA DARPAN DATA'!K4861","v":0},{"$f":"'SHALA DARPAN DATA'!E4861","v":0},{"$f":"'SHALA DARPAN DATA'!G4861","v":0},{"$f":"'SHALA DARPAN DATA'!H4861","v":0},{"$f":"'SHALA DARPAN DATA'!W4861","v":0},{"$f":"'SHALA DARPAN DATA'!R4861","v":0},{"$f":"'SHALA DARPAN DATA'!S4861","v":0},{"$f":"'SHALA DARPAN DATA'!O4861","v":0},0,0,0,0,0,0,0,0,0,0,0]
[{"$f":"'SHALA DARPAN DATA'!C4862","v":0},{"$f":"'SHALA DARPAN DATA'!A4862","v":0},{"$f":"'SHALA DARPAN DATA'!B4862","v":0},{"$f":"'SHALA DARPAN DATA'!D4862","v":0},{"$f":"'SHALA DARPAN DATA'!J4862","v":0},{"$f":"'SHALA DARPAN DATA'!T4862","v":0},{"$f":"'SHALA DARPAN DATA'!V4862","v":0},{"$f":"'SHALA DARPAN DATA'!K4862","v":0},{"$f":"'SHALA DARPAN DATA'!E4862","v":0},{"$f":"'SHALA DARPAN DATA'!G4862","v":0},{"$f":"'SHALA DARPAN DATA'!H4862","v":0},{"$f":"'SHALA DARPAN DATA'!W4862","v":0},{"$f":"'SHALA DARPAN DATA'!R4862","v":0},{"$f":"'SHALA DARPAN DATA'!S4862","v":0},{"$f":"'SHALA DARPAN DATA'!O4862","v":0},0,0,0,0,0,0,0,0,0,0,0]
[{"$f":"'SHALA DARPAN DATA'!C4863","v":0},{"$f":"'SHALA DARPAN DATA'!A4863","v":0},{"$f":"'SHALA DARPAN DATA'!B4863","v":0},{"$f":"'SHALA DARPAN DATA'!D4863","v":0},{"$f":"'SHALA DARPAN DATA'!J4863","v":0},{"$f":"'SHALA DARPAN DATA'!T4863","v":0},{"$f":"'SHALA DARPAN DATA'!V4863","v":0},{"$f":"'SHALA DARPAN DATA'!K4863","v":0},{"$f":"'SHALA DARPAN DATA'!E4863","v":0},{"$f":"'SHALA DARPAN DATA'!G4863","v":0},{"$f":"'SHALA DARPAN DATA'!H4863","v":0},{"$f":"'SHALA DARPAN DATA'!W4863","v":0},{"$f":"'SHALA DARPAN DATA'!R4863","v":0},{"$f":"'SHALA DARPAN DATA'!S4863","v":0},{"$f":"'SHALA DARPAN DATA'!O4863","v":0},0,0,0,0,0,0,0,0,0,0,0]
[{"$f":"'SHALA DARPAN DATA'!C4864","v":0},{"$f":"'SHALA DARPAN DATA'!A4864","v":0},{"$f":"'SHALA DARPAN DATA'!B4864","v":0},{"$f":"'SHALA DARPAN DATA'!D4864","v":0},{"$f":"'SHALA DARPAN DATA'!J4864","v":0},{"$f":"'SHALA DARPAN DATA'!T4864","v":0},{"$f":"'SHALA DARPAN DATA'!V4864","v":0},{"$f":"'SHALA DARPAN DATA'!K4864","v":0},{"$f":"'SHALA DARPAN DATA'!E4864","v":0},{"$f":"'SHALA DARPAN DATA'!G4864","v":0},{"$f":"'SHALA DARPAN DATA'!H4864","v":0},{"$f":"'SHALA DARPAN DATA'!W4864","v":0},{"$f":"'SHALA DARPAN DATA'!R4864","v":0},{"$f":"'SHALA DARPAN DATA'!S4864","v":0},{"$f":"'SHALA DARPAN DATA'!O4864","v":0},0,0,0,0,0,0,0,0,0,0,0]
[{"$f":"'SHALA DARPAN DATA'!C4865","v":0},{"$f":"'SHALA DARPAN DATA'!A4865","v":0},{"$f":"'SHALA DARPAN DATA'!B4865","v":0},{"$f":"'SHALA DARPAN DATA'!D4865","v":0},{"$f":"'SHALA DARPAN DATA'!J4865","v":0},{"$f":"'SHALA DARPAN DATA'!T4865","v":0},{"$f":"'SHALA DARPAN DATA'!V4865","v":0},{"$f":"'SHALA DARPAN DATA'!K4865","v":0},{"$f":"'SHALA DARPAN DATA'!E4865","v":0},{"$f":"'SHALA DARPAN DATA'!G4865","v":0},{"$f":"'SHALA DARPAN DATA'!H4865","v":0},{"$f":"'SHALA DARPAN DATA'!W4865","v":0},{"$f":"'SHALA DARPAN DATA'!R4865","v":0},{"$f":"'SHALA DARPAN DATA'!S4865","v":0},{"$f":"'SHALA DARPAN DATA'!O4865","v":0},0,0,0,0,0,0,0,0,0,0,0]
[{"$f":"'SHALA DARPAN DATA'!C4866","v":0},{"$f":"'SHALA DARPAN DATA'!A4866","v":0},{"$f":"'SHALA DARPAN DATA'!B4866","v":0},{"$f":"'SHALA DARPAN DATA'!D4866","v":0},{"$f":"'SHALA DARPAN DATA'!J4866","v":0},{"$f":"'SHALA DARPAN DATA'!T4866","v":0},{"$f":"'SHALA DARPAN DATA'!V4866","v":0},{"$f":"'SHALA DARPAN DATA'!K4866","v":0},{"$f":"'SHALA DARPAN DATA'!E4866","v":0},{"$f":"'SHALA DARPAN DATA'!G4866","v":0},{"$f":"'SHALA DARPAN DATA'!H4866","v":0},{"$f":"'SHALA DARPAN DATA'!W4866","v":0},{"$f":"'SHALA DARPAN DATA'!R4866","v":0},{"$f":"'SHALA DARPAN DATA'!S4866","v":0},{"$f":"'SHALA DARPAN DATA'!O4866","v":0},0,0,0,0,0,0,0,0,0,0,0]
[{"$f":"'SHALA DARPAN DATA'!C4867","v":0},{"$f":"'SHALA DARPAN DATA'!A4867","v":0},{"$f":"'SHALA DARPAN DATA'!B4867","v":0},{"$f":"'SHALA DARPAN DATA'!D4867","v":0},{"$f":"'SHALA DARPAN DATA'!J4867","v":0},{"$f":"'SHALA DARPAN DATA'!T4867","v":0},{"$f":"'SHALA DARPAN DATA'!V4867","v":0},{"$f":"'SHALA DARPAN DATA'!K4867","v":0},{"$f":"'SHALA DARPAN DATA'!E4867","v":0},{"$f":"'SHALA DARPAN DATA'!G4867","v":0},{"$f":"'SHALA DARPAN DATA'!H4867","v":0},{"$f":"'SHALA DARPAN DATA'!W4867","v":0},{"$f":"'SHALA DARPAN DATA'!R4867","v":0},{"$f":"'SHALA DARPAN DATA'!S4867","v":0},{"$f":"'SHALA DARPAN DATA'!O4867","v":0},0,0,0,0,0,0,0,0,0,0,0]
[{"$f":"'SHALA DARPAN DATA'!C4868","v":0},{"$f":"'SHALA DARPAN DATA'!A4868","v":0},{"$f":"'SHALA DARPAN DATA'!B4868","v":0},{"$f":"'SHALA DARPAN DATA'!D4868","v":0},{"$f":"'SHALA DARPAN DATA'!J4868","v":0},{"$f":"'SHALA DARPAN DATA'!T4868","v":0},{"$f":"'SHALA DARPAN DATA'!V4868","v":0},{"$f":"'SHALA DARPAN DATA'!K4868","v":0},{"$f":"'SHALA DARPAN DATA'!E4868","v":0},{"$f":"'SHALA DARPAN DATA'!G4868","v":0},{"$f":"'SHALA DARPAN DATA'!H4868","v":0},{"$f":"'SHALA DARPAN DATA'!W4868","v":0},{"$f":"'SHALA DARPAN DATA'!R4868","v":0},{"$f":"'SHALA DARPAN DATA'!S4868","v":0},{"$f":"'SHALA DARPAN DATA'!O4868","v":0},0,0,0,0,0,0,0,0,0,0,0]
[{"$f":"'SHALA DARPAN DATA'!C4869","v":0},{"$f":"'SHALA DARPAN DATA'!A4869","v":0},{"$f":"'SHALA DARPAN DATA'!B4869","v":0},{"$f":"'SHALA DARPAN DATA'!D4869","v":0},{"$f":"'SHALA DARPAN DATA'!J4869","v":0},{"$f":"'SHALA DARPAN DATA'!T4869","v":0},{"$f":"'SHALA DARPAN DATA'!V4869","v":0},{"$f":"'SHALA DARPAN DATA'!K4869","v":0},{"$f":"'SHALA DARPAN DATA'!E4869","v":0},{"$f":"'SHALA DARPAN DATA'!G4869","v":0},{"$f":"'SHALA DARPAN DATA'!H4869","v":0},{"$f":"'SHALA DARPAN DATA'!W4869","v":0},{"$f":"'SHALA DARPAN DATA'!R4869","v":0},{"$f":"'SHALA DARPAN DATA'!S4869","v":0},{"$f":"'SHALA DARPAN DATA'!O4869","v":0},0,0,0,0,0,0,0,0,0,0,0]
[{"$f":"'SHALA DARPAN DATA'!C4870","v":0},{"$f":"'SHALA DARPAN DATA'!A4870","v":0},{"$f":"'SHALA DARPAN DATA'!B4870","v":0},{"$f":"'SHALA DARPAN DATA'!D4870","v":0},{"$f":"'SHALA DARPAN DATA'!J4870","v":0},{"$f":"'SHALA DARPAN DATA'!T4870","v":0},{"$f":"'SHALA DARPAN DATA'!V4870","v":0},{"$f":"'SHALA DARPAN DATA'!K4870","v":0},{"$f":"'SHALA DARPAN DATA'!E4870","v":0},{"$f":"'SHALA DARPAN DATA'!G4870","v":0},{"$f":"'SHALA DARPAN DATA'!H4870","v":0},{"$f":"'SHALA DARPAN DATA'!W4870","v":0},{"$f":"'SHALA DARPAN DATA'!R4870","v":0},{"$f":"'SHALA DARPAN DATA'!S4870","v":0},{"$f":"'SHALA DARPAN DATA'!O4870","v":0},0,0,0,0,0,0,0,0,0,0,0]
[{"$f":"'SHALA DARPAN DATA'!C4871","v":0},{"$f":"'SHALA DARPAN DATA'!A4871","v":0},{"$f":"'SHALA DARPAN DATA'!B4871","v":0},{"$f":"'SHALA DARPAN DATA'!D4871","v":0},{"$f":"'SHALA DARPAN DATA'!J4871","v":0},{"$f":"'SHALA DARPAN DATA'!T4871","v":0},{"$f":"'SHALA DARPAN DATA'!V4871","v":0},{"$f":"'SHALA DARPAN DATA'!K4871","v":0},{"$f":"'SHALA DARPAN DATA'!E4871","v":0},{"$f":"'SHALA DARPAN DATA'!G4871","v":0},{"$f":"'SHALA DARPAN DATA'!H4871","v":0},{"$f":"'SHALA DARPAN DATA'!W4871","v":0},{"$f":"'SHALA DARPAN DATA'!R4871","v":0},{"$f":"'SHALA DARPAN DATA'!S4871","v":0},{"$f":"'SHALA DARPAN DATA'!O4871","v":0},0,0,0,0,0,0,0,0,0,0,0]
[{"$f":"'SHALA DARPAN DATA'!C4872","v":0},{"$f":"'SHALA DARPAN DATA'!A4872","v":0},{"$f":"'SHALA DARPAN DATA'!B4872","v":0},{"$f":"'SHALA DARPAN DATA'!D4872","v":0},{"$f":"'SHALA DARPAN DATA'!J4872","v":0},{"$f":"'SHALA DARPAN DATA'!T4872","v":0},{"$f":"'SHALA DARPAN DATA'!V4872","v":0},{"$f":"'SHALA DARPAN DATA'!K4872","v":0},{"$f":"'SHALA DARPAN DATA'!E4872","v":0},{"$f":"'SHALA DARPAN DATA'!G4872","v":0},{"$f":"'SHALA DARPAN DATA'!H4872","v":0},{"$f":"'SHALA DARPAN DATA'!W4872","v":0},{"$f":"'SHALA DARPAN DATA'!R4872","v":0},{"$f":"'SHALA DARPAN DATA'!S4872","v":0},{"$f":"'SHALA DARPAN DATA'!O4872","v":0},0,0,0,0,0,0,0,0,0,0,0]
[{"$f":"'SHALA DARPAN DATA'!C4873","v":0},{"$f":"'SHALA DARPAN DATA'!A4873","v":0},{"$f":"'SHALA DARPAN DATA'!B4873","v":0},{"$f":"'SHALA DARPAN DATA'!D4873","v":0},{"$f":"'SHALA DARPAN DATA'!J4873","v":0},{"$f":"'SHALA DARPAN DATA'!T4873","v":0},{"$f":"'SHALA DARPAN DATA'!V4873","v":0},{"$f":"'SHALA DARPAN DATA'!K4873","v":0},{"$f":"'SHALA DARPAN DATA'!E4873","v":0},{"$f":"'SHALA DARPAN DATA'!G4873","v":0},{"$f":"'SHALA DARPAN DATA'!H4873","v":0},{"$f":"'SHALA DARPAN DATA'!W4873","v":0},{"$f":"'SHALA DARPAN DATA'!R4873","v":0},{"$f":"'SHALA DARPAN DATA'!S4873","v":0},{"$f":"'SHALA DARPAN DATA'!O4873","v":0},0,0,0,0,0,0,0,0,0,0,0]
[{"$f":"'SHALA DARPAN DATA'!C4874","v":0},{"$f":"'SHALA DARPAN DATA'!A4874","v":0},{"$f":"'SHALA DARPAN DATA'!B4874","v":0},{"$f":"'SHALA DARPAN DATA'!D4874","v":0},{"$f":"'SHALA DARPAN DATA'!J4874","v":0},{"$f":"'SHALA DARPAN DATA'!T4874","v":0},{"$f":"'SHALA DARPAN DATA'!V4874","v":0},{"$f":"'SHALA DARPAN DATA'!K4874","v":0},{"$f":"'SHALA DARPAN DATA'!E4874","v":0},{"$f":"'SHALA DARPAN DATA'!G4874","v":0},{"$f":"'SHALA DARPAN DATA'!H4874","v":0},{"$f":"'SHALA DARPAN DATA'!W4874","v":0},{"$f":"'SHALA DARPAN DATA'!R4874","v":0},{"$f":"'SHALA DARPAN DATA'!S4874","v":0},{"$f":"'SHALA DARPAN DATA'!O4874","v":0},0,0,0,0,0,0,0,0,0,0,0]
[{"$f":"'SHALA DARPAN DATA'!C4875","v":0},{"$f":"'SHALA DARPAN DATA'!A4875","v":0},{"$f":"'SHALA DARPAN DATA'!B4875","v":0},{"$f":"'SHALA DARPAN DATA'!D4875","v":0},{"$f":"'SHALA DARPAN DATA'!J4875","v":0},{"$f":"'SHALA DARPAN DATA'!T4875","v":0},{"$f":"'SHALA DARPAN DATA'!V4875","v":0},{"$f":"'SHALA DARPAN DATA'!K4875","v":0},{"$f":"'SHALA DARPAN DATA'!E4875","v":0},{"$f":"'SHALA DARPAN DATA'!G4875","v":0},{"$f":"'SHALA DARPAN DATA'!H4875","v":0},{"$f":"'SHALA DARPAN DATA'!W4875","v":0},{"$f":"'SHALA DARPAN DATA'!R4875","v":0},{"$f":"'SHALA DARPAN DATA'!S4875","v":0},{"$f":"'SHALA DARPAN DATA'!O4875","v":0},0,0,0,0,0,0,0,0,0,0,0]
[{"$f":"'SHALA DARPAN DATA'!C4876","v":0},{"$f":"'SHALA DARPAN DATA'!A4876","v":0},{"$f":"'SHALA DARPAN DATA'!B4876","v":0},{"$f":"'SHALA DARPAN DATA'!D4876","v":0},{"$f":"'SHALA DARPAN DATA'!J4876","v":0},{"$f":"'SHALA DARPAN DATA'!T4876","v":0},{"$f":"'SHALA DARPAN DATA'!V4876","v":0},{"$f":"'SHALA DARPAN DATA'!K4876","v":0},{"$f":"'SHALA DARPAN DATA'!E4876","v":0},{"$f":"'SHALA DARPAN DATA'!G4876","v":0},{"$f":"'SHALA DARPAN DATA'!H4876","v":0},{"$f":"'SHALA DARPAN DATA'!W4876","v":0},{"$f":"'SHALA DARPAN DATA'!R4876","v":0},{"$f":"'SHALA DARPAN DATA'!S4876","v":0},{"$f":"'SHALA DARPAN DATA'!O4876","v":0},0,0,0,0,0,0,0,0,0,0,0]
[{"$f":"'SHALA DARPAN DATA'!C4877","v":0},{"$f":"'SHALA DARPAN DATA'!A4877","v":0},{"$f":"'SHALA DARPAN DATA'!B4877","v":0},{"$f":"'SHALA DARPAN DATA'!D4877","v":0},{"$f":"'SHALA DARPAN DATA'!J4877","v":0},{"$f":"'SHALA DARPAN DATA'!T4877","v":0},{"$f":"'SHALA DARPAN DATA'!V4877","v":0},{"$f":"'SHALA DARPAN DATA'!K4877","v":0},{"$f":"'SHALA DARPAN DATA'!E4877","v":0},{"$f":"'SHALA DARPAN DATA'!G4877","v":0},{"$f":"'SHALA DARPAN DATA'!H4877","v":0},{"$f":"'SHALA DARPAN DATA'!W4877","v":0},{"$f":"'SHALA DARPAN DATA'!R4877","v":0},{"$f":"'SHALA DARPAN DATA'!S4877","v":0},{"$f":"'SHALA DARPAN DATA'!O4877","v":0},0,0,0,0,0,0,0,0,0,0,0]
[{"$f":"'SHALA DARPAN DATA'!C4878","v":0},{"$f":"'SHALA DARPAN DATA'!A4878","v":0},{"$f":"'SHALA DARPAN DATA'!B4878","v":0},{"$f":"'SHALA DARPAN DATA'!D4878","v":0},{"$f":"'SHALA DARPAN DATA'!J4878","v":0},{"$f":"'SHALA DARPAN DATA'!T4878","v":0},{"$f":"'SHALA DARPAN DATA'!V4878","v":0},{"$f":"'SHALA DARPAN DATA'!K4878","v":0},{"$f":"'SHALA DARPAN DATA'!E4878","v":0},{"$f":"'SHALA DARPAN DATA'!G4878","v":0},{"$f":"'SHALA DARPAN DATA'!H4878","v":0},{"$f":"'SHALA DARPAN DATA'!W4878","v":0},{"$f":"'SHALA DARPAN DATA'!R4878","v":0},{"$f":"'SHALA DARPAN DATA'!S4878","v":0},{"$f":"'SHALA DARPAN DATA'!O4878","v":0},0,0,0,0,0,0,0,0,0,0,0]
[{"$f":"'SHALA DARPAN DATA'!C4879","v":0},{"$f":"'SHALA DARPAN DATA'!A4879","v":0},{"$f":"'SHALA DARPAN DATA'!B4879","v":0},{"$f":"'SHALA DARPAN DATA'!D4879","v":0},{"$f":"'SHALA DARPAN DATA'!J4879","v":0},{"$f":"'SHALA DARPAN DATA'!T4879","v":0},{"$f":"'SHALA DARPAN DATA'!V4879","v":0},{"$f":"'SHALA DARPAN DATA'!K4879","v":0},{"$f":"'SHALA DARPAN DATA'!E4879","v":0},{"$f":"'SHALA DARPAN DATA'!G4879","v":0},{"$f":"'SHALA DARPAN DATA'!H4879","v":0},{"$f":"'SHALA DARPAN DATA'!W4879","v":0},{"$f":"'SHALA DARPAN DATA'!R4879","v":0},{"$f":"'SHALA DARPAN DATA'!S4879","v":0},{"$f":"'SHALA DARPAN DATA'!O4879","v":0},0,0,0,0,0,0,0,0,0,0,0]
[{"$f":"'SHALA DARPAN DATA'!C4880","v":0},{"$f":"'SHALA DARPAN DATA'!A4880","v":0},{"$f":"'SHALA DARPAN DATA'!B4880","v":0},{"$f":"'SHALA DARPAN DATA'!D4880","v":0},{"$f":"'SHALA DARPAN DATA'!J4880","v":0},{"$f":"'SHALA DARPAN DATA'!T4880","v":0},{"$f":"'SHALA DARPAN DATA'!V4880","v":0},{"$f":"'SHALA DARPAN DATA'!K4880","v":0},{"$f":"'SHALA DARPAN DATA'!E4880","v":0},{"$f":"'SHALA DARPAN DATA'!G4880","v":0},{"$f":"'SHALA DARPAN DATA'!H4880","v":0},{"$f":"'SHALA DARPAN DATA'!W4880","v":0},{"$f":"'SHALA DARPAN DATA'!R4880","v":0},{"$f":"'SHALA DARPAN DATA'!S4880","v":0},{"$f":"'SHALA DARPAN DATA'!O4880","v":0},0,0,0,0,0,0,0,0,0,0,0]
[{"$f":"'SHALA DARPAN DATA'!C4881","v":0},{"$f":"'SHALA DARPAN DATA'!A4881","v":0},{"$f":"'SHALA DARPAN DATA'!B4881","v":0},{"$f":"'SHALA DARPAN DATA'!D4881","v":0},{"$f":"'SHALA DARPAN DATA'!J4881","v":0},{"$f":"'SHALA DARPAN DATA'!T4881","v":0},{"$f":"'SHALA DARPAN DATA'!V4881","v":0},{"$f":"'SHALA DARPAN DATA'!K4881","v":0},{"$f":"'SHALA DARPAN DATA'!E4881","v":0},{"$f":"'SHALA DARPAN DATA'!G4881","v":0},{"$f":"'SHALA DARPAN DATA'!H4881","v":0},{"$f":"'SHALA DARPAN DATA'!W4881","v":0},{"$f":"'SHALA DARPAN DATA'!R4881","v":0},{"$f":"'SHALA DARPAN DATA'!S4881","v":0},{"$f":"'SHALA DARPAN DATA'!O4881","v":0},0,0,0,0,0,0,0,0,0,0,0]
[{"$f":"'SHALA DARPAN DATA'!C4882","v":0},{"$f":"'SHALA DARPAN DATA'!A4882","v":0},{"$f":"'SHALA DARPAN DATA'!B4882","v":0},{"$f":"'SHALA DARPAN DATA'!D4882","v":0},{"$f":"'SHALA DARPAN DATA'!J4882","v":0},{"$f":"'SHALA DARPAN DATA'!T4882","v":0},{"$f":"'SHALA DARPAN DATA'!V4882","v":0},{"$f":"'SHALA DARPAN DATA'!K4882","v":0},{"$f":"'SHALA DARPAN DATA'!E4882","v":0},{"$f":"'SHALA DARPAN DATA'!G4882","v":0},{"$f":"'SHALA DARPAN DATA'!H4882","v":0},{"$f":"'SHALA DARPAN DATA'!W4882","v":0},{"$f":"'SHALA DARPAN DATA'!R4882","v":0},{"$f":"'SHALA DARPAN DATA'!S4882","v":0},{"$f":"'SHALA DARPAN DATA'!O4882","v":0},0,0,0,0,0,0,0,0,0,0,0]
[{"$f":"'SHALA DARPAN DATA'!C4883","v":0},{"$f":"'SHALA DARPAN DATA'!A4883","v":0},{"$f":"'SHALA DARPAN DATA'!B4883","v":0},{"$f":"'SHALA DARPAN DATA'!D4883","v":0},{"$f":"'SHALA DARPAN DATA'!J4883","v":0},{"$f":"'SHALA DARPAN DATA'!T4883","v":0},{"$f":"'SHALA DARPAN DATA'!V4883","v":0},{"$f":"'SHALA DARPAN DATA'!K4883","v":0},{"$f":"'SHALA DARPAN DATA'!E4883","v":0},{"$f":"'SHALA DARPAN DATA'!G4883","v":0},{"$f":"'SHALA DARPAN DATA'!H4883","v":0},{"$f":"'SHALA DARPAN DATA'!W4883","v":0},{"$f":"'SHALA DARPAN DATA'!R4883","v":0},{"$f":"'SHALA DARPAN DATA'!S4883","v":0},{"$f":"'SHALA DARPAN DATA'!O4883","v":0},0,0,0,0,0,0,0,0,0,0,0]
[{"$f":"'SHALA DARPAN DATA'!C4884","v":0},{"$f":"'SHALA DARPAN DATA'!A4884","v":0},{"$f":"'SHALA DARPAN DATA'!B4884","v":0},{"$f":"'SHALA DARPAN DATA'!D4884","v":0},{"$f":"'SHALA DARPAN DATA'!J4884","v":0},{"$f":"'SHALA DARPAN DATA'!T4884","v":0},{"$f":"'SHALA DARPAN DATA'!V4884","v":0},{"$f":"'SHALA DARPAN DATA'!K4884","v":0},{"$f":"'SHALA DARPAN DATA'!E4884","v":0},{"$f":"'SHALA DARPAN DATA'!G4884","v":0},{"$f":"'SHALA DARPAN DATA'!H4884","v":0},{"$f":"'SHALA DARPAN DATA'!W4884","v":0},{"$f":"'SHALA DARPAN DATA'!R4884","v":0},{"$f":"'SHALA DARPAN DATA'!S4884","v":0},{"$f":"'SHALA DARPAN DATA'!O4884","v":0},0,0,0,0,0,0,0,0,0,0,0]
[{"$f":"'SHALA DARPAN DATA'!C4885","v":0},{"$f":"'SHALA DARPAN DATA'!A4885","v":0},{"$f":"'SHALA DARPAN DATA'!B4885","v":0},{"$f":"'SHALA DARPAN DATA'!D4885","v":0},{"$f":"'SHALA DARPAN DATA'!J4885","v":0},{"$f":"'SHALA DARPAN DATA'!T4885","v":0},{"$f":"'SHALA DARPAN DATA'!V4885","v":0},{"$f":"'SHALA DARPAN DATA'!K4885","v":0},{"$f":"'SHALA DARPAN DATA'!E4885","v":0},{"$f":"'SHALA DARPAN DATA'!G4885","v":0},{"$f":"'SHALA DARPAN DATA'!H4885","v":0},{"$f":"'SHALA DARPAN DATA'!W4885","v":0},{"$f":"'SHALA DARPAN DATA'!R4885","v":0},{"$f":"'SHALA DARPAN DATA'!S4885","v":0},{"$f":"'SHALA DARPAN DATA'!O4885","v":0},0,0,0,0,0,0,0,0,0,0,0]
[{"$f":"'SHALA DARPAN DATA'!C4886","v":0},{"$f":"'SHALA DARPAN DATA'!A4886","v":0},{"$f":"'SHALA DARPAN DATA'!B4886","v":0},{"$f":"'SHALA DARPAN DATA'!D4886","v":0},{"$f":"'SHALA DARPAN DATA'!J4886","v":0},{"$f":"'SHALA DARPAN DATA'!T4886","v":0},{"$f":"'SHALA DARPAN DATA'!V4886","v":0},{"$f":"'SHALA DARPAN DATA'!K4886","v":0},{"$f":"'SHALA DARPAN DATA'!E4886","v":0},{"$f":"'SHALA DARPAN DATA'!G4886","v":0},{"$f":"'SHALA DARPAN DATA'!H4886","v":0},{"$f":"'SHALA DARPAN DATA'!W4886","v":0},{"$f":"'SHALA DARPAN DATA'!R4886","v":0},{"$f":"'SHALA DARPAN DATA'!S4886","v":0},{"$f":"'SHALA DARPAN DATA'!O4886","v":0},0,0,0,0,0,0,0,0,0,0,0]
[{"$f":"'SHALA DARPAN DATA'!C4887","v":0},{"$f":"'SHALA DARPAN DATA'!A4887","v":0},{"$f":"'SHALA DARPAN DATA'!B4887","v":0},{"$f":"'SHALA DARPAN DATA'!D4887","v":0},{"$f":"'SHALA DARPAN DATA'!J4887","v":0},{"$f":"'SHALA DARPAN DATA'!T4887","v":0},{"$f":"'SHALA DARPAN DATA'!V4887","v":0},{"$f":"'SHALA DARPAN DATA'!K4887","v":0},{"$f":"'SHALA DARPAN DATA'!E4887","v":0},{"$f":"'SHALA DARPAN DATA'!G4887","v":0},{"$f":"'SHALA DARPAN DATA'!H4887","v":0},{"$f":"'SHALA DARPAN DATA'!W4887","v":0},{"$f":"'SHALA DARPAN DATA'!R4887","v":0},{"$f":"'SHALA DARPAN DATA'!S4887","v":0},{"$f":"'SHALA DARPAN DATA'!O4887","v":0},0,0,0,0,0,0,0,0,0,0,0]
[{"$f":"'SHALA DARPAN DATA'!C4888","v":0},{"$f":"'SHALA DARPAN DATA'!A4888","v":0},{"$f":"'SHALA DARPAN DATA'!B4888","v":0},{"$f":"'SHALA DARPAN DATA'!D4888","v":0},{"$f":"'SHALA DARPAN DATA'!J4888","v":0},{"$f":"'SHALA DARPAN DATA'!T4888","v":0},{"$f":"'SHALA DARPAN DATA'!V4888","v":0},{"$f":"'SHALA DARPAN DATA'!K4888","v":0},{"$f":"'SHALA DARPAN DATA'!E4888","v":0},{"$f":"'SHALA DARPAN DATA'!G4888","v":0},{"$f":"'SHALA DARPAN DATA'!H4888","v":0},{"$f":"'SHALA DARPAN DATA'!W4888","v":0},{"$f":"'SHALA DARPAN DATA'!R4888","v":0},{"$f":"'SHALA DARPAN DATA'!S4888","v":0},{"$f":"'SHALA DARPAN DATA'!O4888","v":0},0,0,0,0,0,0,0,0,0,0,0]
[{"$f":"'SHALA DARPAN DATA'!C4889","v":0},{"$f":"'SHALA DARPAN DATA'!A4889","v":0},{"$f":"'SHALA DARPAN DATA'!B4889","v":0},{"$f":"'SHALA DARPAN DATA'!D4889","v":0},{"$f":"'SHALA DARPAN DATA'!J4889","v":0},{"$f":"'SHALA DARPAN DATA'!T4889","v":0},{"$f":"'SHALA DARPAN DATA'!V4889","v":0},{"$f":"'SHALA DARPAN DATA'!K4889","v":0},{"$f":"'SHALA DARPAN DATA'!E4889","v":0},{"$f":"'SHALA DARPAN DATA'!G4889","v":0},{"$f":"'SHALA DARPAN DATA'!H4889","v":0},{"$f":"'SHALA DARPAN DATA'!W4889","v":0},{"$f":"'SHALA DARPAN DATA'!R4889","v":0},{"$f":"'SHALA DARPAN DATA'!S4889","v":0},{"$f":"'SHALA DARPAN DATA'!O4889","v":0},0,0,0,0,0,0,0,0,0,0,0]
[{"$f":"'SHALA DARPAN DATA'!C4890","v":0},{"$f":"'SHALA DARPAN DATA'!A4890","v":0},{"$f":"'SHALA DARPAN DATA'!B4890","v":0},{"$f":"'SHALA DARPAN DATA'!D4890","v":0},{"$f":"'SHALA DARPAN DATA'!J4890","v":0},{"$f":"'SHALA DARPAN DATA'!T4890","v":0},{"$f":"'SHALA DARPAN DATA'!V4890","v":0},{"$f":"'SHALA DARPAN DATA'!K4890","v":0},{"$f":"'SHALA DARPAN DATA'!E4890","v":0},{"$f":"'SHALA DARPAN DATA'!G4890","v":0},{"$f":"'SHALA DARPAN DATA'!H4890","v":0},{"$f":"'SHALA DARPAN DATA'!W4890","v":0},{"$f":"'SHALA DARPAN DATA'!R4890","v":0},{"$f":"'SHALA DARPAN DATA'!S4890","v":0},{"$f":"'SHALA DARPAN DATA'!O4890","v":0},0,0,0,0,0,0,0,0,0,0,0]
[{"$f":"'SHALA DARPAN DATA'!C4891","v":0},{"$f":"'SHALA DARPAN DATA'!A4891","v":0},{"$f":"'SHALA DARPAN DATA'!B4891","v":0},{"$f":"'SHALA DARPAN DATA'!D4891","v":0},{"$f":"'SHALA DARPAN DATA'!J4891","v":0},{"$f":"'SHALA DARPAN DATA'!T4891","v":0},{"$f":"'SHALA DARPAN DATA'!V4891","v":0},{"$f":"'SHALA DARPAN DATA'!K4891","v":0},{"$f":"'SHALA DARPAN DATA'!E4891","v":0},{"$f":"'SHALA DARPAN DATA'!G4891","v":0},{"$f":"'SHALA DARPAN DATA'!H4891","v":0},{"$f":"'SHALA DARPAN DATA'!W4891","v":0},{"$f":"'SHALA DARPAN DATA'!R4891","v":0},{"$f":"'SHALA DARPAN DATA'!S4891","v":0},{"$f":"'SHALA DARPAN DATA'!O4891","v":0},0,0,0,0,0,0,0,0,0,0,0]
[{"$f":"'SHALA DARPAN DATA'!C4892","v":0},{"$f":"'SHALA DARPAN DATA'!A4892","v":0},{"$f":"'SHALA DARPAN DATA'!B4892","v":0},{"$f":"'SHALA DARPAN DATA'!D4892","v":0},{"$f":"'SHALA DARPAN DATA'!J4892","v":0},{"$f":"'SHALA DARPAN DATA'!T4892","v":0},{"$f":"'SHALA DARPAN DATA'!V4892","v":0},{"$f":"'SHALA DARPAN DATA'!K4892","v":0},{"$f":"'SHALA DARPAN DATA'!E4892","v":0},{"$f":"'SHALA DARPAN DATA'!G4892","v":0},{"$f":"'SHALA DARPAN DATA'!H4892","v":0},{"$f":"'SHALA DARPAN DATA'!W4892","v":0},{"$f":"'SHALA DARPAN DATA'!R4892","v":0},{"$f":"'SHALA DARPAN DATA'!S4892","v":0},{"$f":"'SHALA DARPAN DATA'!O4892","v":0},0,0,0,0,0,0,0,0,0,0,0]
[{"$f":"'SHALA DARPAN DATA'!C4893","v":0},{"$f":"'SHALA DARPAN DATA'!A4893","v":0},{"$f":"'SHALA DARPAN DATA'!B4893","v":0},{"$f":"'SHALA DARPAN DATA'!D4893","v":0},{"$f":"'SHALA DARPAN DATA'!J4893","v":0},{"$f":"'SHALA DARPAN DATA'!T4893","v":0},{"$f":"'SHALA DARPAN DATA'!V4893","v":0},{"$f":"'SHALA DARPAN DATA'!K4893","v":0},{"$f":"'SHALA DARPAN DATA'!E4893","v":0},{"$f":"'SHALA DARPAN DATA'!G4893","v":0},{"$f":"'SHALA DARPAN DATA'!H4893","v":0},{"$f":"'SHALA DARPAN DATA'!W4893","v":0},{"$f":"'SHALA DARPAN DATA'!R4893","v":0},{"$f":"'SHALA DARPAN DATA'!S4893","v":0},{"$f":"'SHALA DARPAN DATA'!O4893","v":0},0,0,0,0,0,0,0,0,0,0,0]
[{"$f":"'SHALA DARPAN DATA'!C4894","v":0},{"$f":"'SHALA DARPAN DATA'!A4894","v":0},{"$f":"'SHALA DARPAN DATA'!B4894","v":0},{"$f":"'SHALA DARPAN DATA'!D4894","v":0},{"$f":"'SHALA DARPAN DATA'!J4894","v":0},{"$f":"'SHALA DARPAN DATA'!T4894","v":0},{"$f":"'SHALA DARPAN DATA'!V4894","v":0},{"$f":"'SHALA DARPAN DATA'!K4894","v":0},{"$f":"'SHALA DARPAN DATA'!E4894","v":0},{"$f":"'SHALA DARPAN DATA'!G4894","v":0},{"$f":"'SHALA DARPAN DATA'!H4894","v":0},{"$f":"'SHALA DARPAN DATA'!W4894","v":0},{"$f":"'SHALA DARPAN DATA'!R4894","v":0},{"$f":"'SHALA DARPAN DATA'!S4894","v":0},{"$f":"'SHALA DARPAN DATA'!O4894","v":0},0,0,0,0,0,0,0,0,0,0,0]
[{"$f":"'SHALA DARPAN DATA'!C4895","v":0},{"$f":"'SHALA DARPAN DATA'!A4895","v":0},{"$f":"'SHALA DARPAN DATA'!B4895","v":0},{"$f":"'SHALA DARPAN DATA'!D4895","v":0},{"$f":"'SHALA DARPAN DATA'!J4895","v":0},{"$f":"'SHALA DARPAN DATA'!T4895","v":0},{"$f":"'SHALA DARPAN DATA'!V4895","v":0},{"$f":"'SHALA DARPAN DATA'!K4895","v":0},{"$f":"'SHALA DARPAN DATA'!E4895","v":0},{"$f":"'SHALA DARPAN DATA'!G4895","v":0},{"$f":"'SHALA DARPAN DATA'!H4895","v":0},{"$f":"'SHALA DARPAN DATA'!W4895","v":0},{"$f":"'SHALA DARPAN DATA'!R4895","v":0},{"$f":"'SHALA DARPAN DATA'!S4895","v":0},{"$f":"'SHALA DARPAN DATA'!O4895","v":0},0,0,0,0,0,0,0,0,0,0,0]
[{"$f":"'SHALA DARPAN DATA'!C4896","v":0},{"$f":"'SHALA DARPAN DATA'!A4896","v":0},{"$f":"'SHALA DARPAN DATA'!B4896","v":0},{"$f":"'SHALA DARPAN DATA'!D4896","v":0},{"$f":"'SHALA DARPAN DATA'!J4896","v":0},{"$f":"'SHALA DARPAN DATA'!T4896","v":0},{"$f":"'SHALA DARPAN DATA'!V4896","v":0},{"$f":"'SHALA DARPAN DATA'!K4896","v":0},{"$f":"'SHALA DARPAN DATA'!E4896","v":0},{"$f":"'SHALA DARPAN DATA'!G4896","v":0},{"$f":"'SHALA DARPAN DATA'!H4896","v":0},{"$f":"'SHALA DARPAN DATA'!W4896","v":0},{"$f":"'SHALA DARPAN DATA'!R4896","v":0},{"$f":"'SHALA DARPAN DATA'!S4896","v":0},{"$f":"'SHALA DARPAN DATA'!O4896","v":0},0,0,0,0,0,0,0,0,0,0,0]
[{"$f":"'SHALA DARPAN DATA'!C4897","v":0},{"$f":"'SHALA DARPAN DATA'!A4897","v":0},{"$f":"'SHALA DARPAN DATA'!B4897","v":0},{"$f":"'SHALA DARPAN DATA'!D4897","v":0},{"$f":"'SHALA DARPAN DATA'!J4897","v":0},{"$f":"'SHALA DARPAN DATA'!T4897","v":0},{"$f":"'SHALA DARPAN DATA'!V4897","v":0},{"$f":"'SHALA DARPAN DATA'!K4897","v":0},{"$f":"'SHALA DARPAN DATA'!E4897","v":0},{"$f":"'SHALA DARPAN DATA'!G4897","v":0},{"$f":"'SHALA DARPAN DATA'!H4897","v":0},{"$f":"'SHALA DARPAN DATA'!W4897","v":0},{"$f":"'SHALA DARPAN DATA'!R4897","v":0},{"$f":"'SHALA DARPAN DATA'!S4897","v":0},{"$f":"'SHALA DARPAN DATA'!O4897","v":0},0,0,0,0,0,0,0,0,0,0,0]
[{"$f":"'SHALA DARPAN DATA'!C4898","v":0},{"$f":"'SHALA DARPAN DATA'!A4898","v":0},{"$f":"'SHALA DARPAN DATA'!B4898","v":0},{"$f":"'SHALA DARPAN DATA'!D4898","v":0},{"$f":"'SHALA DARPAN DATA'!J4898","v":0},{"$f":"'SHALA DARPAN DATA'!T4898","v":0},{"$f":"'SHALA DARPAN DATA'!V4898","v":0},{"$f":"'SHALA DARPAN DATA'!K4898","v":0},{"$f":"'SHALA DARPAN DATA'!E4898","v":0},{"$f":"'SHALA DARPAN DATA'!G4898","v":0},{"$f":"'SHALA DARPAN DATA'!H4898","v":0},{"$f":"'SHALA DARPAN DATA'!W4898","v":0},{"$f":"'SHALA DARPAN DATA'!R4898","v":0},{"$f":"'SHALA DARPAN DATA'!S4898","v":0},{"$f":"'SHALA DARPAN DATA'!O4898","v":0},0,0,0,0,0,0,0,0,0,0,0]
[{"$f":"'SHALA DARPAN DATA'!C4899","v":0},{"$f":"'SHALA DARPAN DATA'!A4899","v":0},{"$f":"'SHALA DARPAN DATA'!B4899","v":0},{"$f":"'SHALA DARPAN DATA'!D4899","v":0},{"$f":"'SHALA DARPAN DATA'!J4899","v":0},{"$f":"'SHALA DARPAN DATA'!T4899","v":0},{"$f":"'SHALA DARPAN DATA'!V4899","v":0},{"$f":"'SHALA DARPAN DATA'!K4899","v":0},{"$f":"'SHALA DARPAN DATA'!E4899","v":0},{"$f":"'SHALA DARPAN DATA'!G4899","v":0},{"$f":"'SHALA DARPAN DATA'!H4899","v":0},{"$f":"'SHALA DARPAN DATA'!W4899","v":0},{"$f":"'SHALA DARPAN DATA'!R4899","v":0},{"$f":"'SHALA DARPAN DATA'!S4899","v":0},{"$f":"'SHALA DARPAN DATA'!O4899","v":0},0,0,0,0,0,0,0,0,0,0,0]
[{"$f":"'SHALA DARPAN DATA'!C4900","v":0},{"$f":"'SHALA DARPAN DATA'!A4900","v":0},{"$f":"'SHALA DARPAN DATA'!B4900","v":0},{"$f":"'SHALA DARPAN DATA'!D4900","v":0},{"$f":"'SHALA DARPAN DATA'!J4900","v":0},{"$f":"'SHALA DARPAN DATA'!T4900","v":0},{"$f":"'SHALA DARPAN DATA'!V4900","v":0},{"$f":"'SHALA DARPAN DATA'!K4900","v":0},{"$f":"'SHALA DARPAN DATA'!E4900","v":0},{"$f":"'SHALA DARPAN DATA'!G4900","v":0},{"$f":"'SHALA DARPAN DATA'!H4900","v":0},{"$f":"'SHALA DARPAN DATA'!W4900","v":0},{"$f":"'SHALA DARPAN DATA'!R4900","v":0},{"$f":"'SHALA DARPAN DATA'!S4900","v":0},{"$f":"'SHALA DARPAN DATA'!O4900","v":0},0,0,0,0,0,0,0,0,0,0,0]
[{"$f":"'SHALA DARPAN DATA'!C4901","v":0},{"$f":"'SHALA DARPAN DATA'!A4901","v":0},{"$f":"'SHALA DARPAN DATA'!B4901","v":0},{"$f":"'SHALA DARPAN DATA'!D4901","v":0},{"$f":"'SHALA DARPAN DATA'!J4901","v":0},{"$f":"'SHALA DARPAN DATA'!T4901","v":0},{"$f":"'SHALA DARPAN DATA'!V4901","v":0},{"$f":"'SHALA DARPAN DATA'!K4901","v":0},{"$f":"'SHALA DARPAN DATA'!E4901","v":0},{"$f":"'SHALA DARPAN DATA'!G4901","v":0},{"$f":"'SHALA DARPAN DATA'!H4901","v":0},{"$f":"'SHALA DARPAN DATA'!W4901","v":0},{"$f":"'SHALA DARPAN DATA'!R4901","v":0},{"$f":"'SHALA DARPAN DATA'!S4901","v":0},{"$f":"'SHALA DARPAN DATA'!O4901","v":0},0,0,0,0,0,0,0,0,0,0,0]
[{"$f":"'SHALA DARPAN DATA'!C4902","v":0},{"$f":"'SHALA DARPAN DATA'!A4902","v":0},{"$f":"'SHALA DARPAN DATA'!B4902","v":0},{"$f":"'SHALA DARPAN DATA'!D4902","v":0},{"$f":"'SHALA DARPAN DATA'!J4902","v":0},{"$f":"'SHALA DARPAN DATA'!T4902","v":0},{"$f":"'SHALA DARPAN DATA'!V4902","v":0},{"$f":"'SHALA DARPAN DATA'!K4902","v":0},{"$f":"'SHALA DARPAN DATA'!E4902","v":0},{"$f":"'SHALA DARPAN DATA'!G4902","v":0},{"$f":"'SHALA DARPAN DATA'!H4902","v":0},{"$f":"'SHALA DARPAN DATA'!W4902","v":0},{"$f":"'SHALA DARPAN DATA'!R4902","v":0},{"$f":"'SHALA DARPAN DATA'!S4902","v":0},{"$f":"'SHALA DARPAN DATA'!O4902","v":0},0,0,0,0,0,0,0,0,0,0,0]
[{"$f":"'SHALA DARPAN DATA'!C4903","v":0},{"$f":"'SHALA DARPAN DATA'!A4903","v":0},{"$f":"'SHALA DARPAN DATA'!B4903","v":0},{"$f":"'SHALA DARPAN DATA'!D4903","v":0},{"$f":"'SHALA DARPAN DATA'!J4903","v":0},{"$f":"'SHALA DARPAN DATA'!T4903","v":0},{"$f":"'SHALA DARPAN DATA'!V4903","v":0},{"$f":"'SHALA DARPAN DATA'!K4903","v":0},{"$f":"'SHALA DARPAN DATA'!E4903","v":0},{"$f":"'SHALA DARPAN DATA'!G4903","v":0},{"$f":"'SHALA DARPAN DATA'!H4903","v":0},{"$f":"'SHALA DARPAN DATA'!W4903","v":0},{"$f":"'SHALA DARPAN DATA'!R4903","v":0},{"$f":"'SHALA DARPAN DATA'!S4903","v":0},{"$f":"'SHALA DARPAN DATA'!O4903","v":0},0,0,0,0,0,0,0,0,0,0,0]
[{"$f":"'SHALA DARPAN DATA'!C4904","v":0},{"$f":"'SHALA DARPAN DATA'!A4904","v":0},{"$f":"'SHALA DARPAN DATA'!B4904","v":0},{"$f":"'SHALA DARPAN DATA'!D4904","v":0},{"$f":"'SHALA DARPAN DATA'!J4904","v":0},{"$f":"'SHALA DARPAN DATA'!T4904","v":0},{"$f":"'SHALA DARPAN DATA'!V4904","v":0},{"$f":"'SHALA DARPAN DATA'!K4904","v":0},{"$f":"'SHALA DARPAN DATA'!E4904","v":0},{"$f":"'SHALA DARPAN DATA'!G4904","v":0},{"$f":"'SHALA DARPAN DATA'!H4904","v":0},{"$f":"'SHALA DARPAN DATA'!W4904","v":0},{"$f":"'SHALA DARPAN DATA'!R4904","v":0},{"$f":"'SHALA DARPAN DATA'!S4904","v":0},{"$f":"'SHALA DARPAN DATA'!O4904","v":0},0,0,0,0,0,0,0,0,0,0,0]
[{"$f":"'SHALA DARPAN DATA'!C4905","v":0},{"$f":"'SHALA DARPAN DATA'!A4905","v":0},{"$f":"'SHALA DARPAN DATA'!B4905","v":0},{"$f":"'SHALA DARPAN DATA'!D4905","v":0},{"$f":"'SHALA DARPAN DATA'!J4905","v":0},{"$f":"'SHALA DARPAN DATA'!T4905","v":0},{"$f":"'SHALA DARPAN DATA'!V4905","v":0},{"$f":"'SHALA DARPAN DATA'!K4905","v":0},{"$f":"'SHALA DARPAN DATA'!E4905","v":0},{"$f":"'SHALA DARPAN DATA'!G4905","v":0},{"$f":"'SHALA DARPAN DATA'!H4905","v":0},{"$f":"'SHALA DARPAN DATA'!W4905","v":0},{"$f":"'SHALA DARPAN DATA'!R4905","v":0},{"$f":"'SHALA DARPAN DATA'!S4905","v":0},{"$f":"'SHALA DARPAN DATA'!O4905","v":0},0,0,0,0,0,0,0,0,0,0,0]
[{"$f":"'SHALA DARPAN DATA'!C4906","v":0},{"$f":"'SHALA DARPAN DATA'!A4906","v":0},{"$f":"'SHALA DARPAN DATA'!B4906","v":0},{"$f":"'SHALA DARPAN DATA'!D4906","v":0},{"$f":"'SHALA DARPAN DATA'!J4906","v":0},{"$f":"'SHALA DARPAN DATA'!T4906","v":0},{"$f":"'SHALA DARPAN DATA'!V4906","v":0},{"$f":"'SHALA DARPAN DATA'!K4906","v":0},{"$f":"'SHALA DARPAN DATA'!E4906","v":0},{"$f":"'SHALA DARPAN DATA'!G4906","v":0},{"$f":"'SHALA DARPAN DATA'!H4906","v":0},{"$f":"'SHALA DARPAN DATA'!W4906","v":0},{"$f":"'SHALA DARPAN DATA'!R4906","v":0},{"$f":"'SHALA DARPAN DATA'!S4906","v":0},{"$f":"'SHALA DARPAN DATA'!O4906","v":0},0,0,0,0,0,0,0,0,0,0,0]
[{"$f":"'SHALA DARPAN DATA'!C4907","v":0},{"$f":"'SHALA DARPAN DATA'!A4907","v":0},{"$f":"'SHALA DARPAN DATA'!B4907","v":0},{"$f":"'SHALA DARPAN DATA'!D4907","v":0},{"$f":"'SHALA DARPAN DATA'!J4907","v":0},{"$f":"'SHALA DARPAN DATA'!T4907","v":0},{"$f":"'SHALA DARPAN DATA'!V4907","v":0},{"$f":"'SHALA DARPAN DATA'!K4907","v":0},{"$f":"'SHALA DARPAN DATA'!E4907","v":0},{"$f":"'SHALA DARPAN DATA'!G4907","v":0},{"$f":"'SHALA DARPAN DATA'!H4907","v":0},{"$f":"'SHALA DARPAN DATA'!W4907","v":0},{"$f":"'SHALA DARPAN DATA'!R4907","v":0},{"$f":"'SHALA DARPAN DATA'!S4907","v":0},{"$f":"'SHALA DARPAN DATA'!O4907","v":0},0,0,0,0,0,0,0,0,0,0,0]
[{"$f":"'SHALA DARPAN DATA'!C4908","v":0},{"$f":"'SHALA DARPAN DATA'!A4908","v":0},{"$f":"'SHALA DARPAN DATA'!B4908","v":0},{"$f":"'SHALA DARPAN DATA'!D4908","v":0},{"$f":"'SHALA DARPAN DATA'!J4908","v":0},{"$f":"'SHALA DARPAN DATA'!T4908","v":0},{"$f":"'SHALA DARPAN DATA'!V4908","v":0},{"$f":"'SHALA DARPAN DATA'!K4908","v":0},{"$f":"'SHALA DARPAN DATA'!E4908","v":0},{"$f":"'SHALA DARPAN DATA'!G4908","v":0},{"$f":"'SHALA DARPAN DATA'!H4908","v":0},{"$f":"'SHALA DARPAN DATA'!W4908","v":0},{"$f":"'SHALA DARPAN DATA'!R4908","v":0},{"$f":"'SHALA DARPAN DATA'!S4908","v":0},{"$f":"'SHALA DARPAN DATA'!O4908","v":0},0,0,0,0,0,0,0,0,0,0,0]
[{"$f":"'SHALA DARPAN DATA'!C4909","v":0},{"$f":"'SHALA DARPAN DATA'!A4909","v":0},{"$f":"'SHALA DARPAN DATA'!B4909","v":0},{"$f":"'SHALA DARPAN DATA'!D4909","v":0},{"$f":"'SHALA DARPAN DATA'!J4909","v":0},{"$f":"'SHALA DARPAN DATA'!T4909","v":0},{"$f":"'SHALA DARPAN DATA'!V4909","v":0},{"$f":"'SHALA DARPAN DATA'!K4909","v":0},{"$f":"'SHALA DARPAN DATA'!E4909","v":0},{"$f":"'SHALA DARPAN DATA'!G4909","v":0},{"$f":"'SHALA DARPAN DATA'!H4909","v":0},{"$f":"'SHALA DARPAN DATA'!W4909","v":0},{"$f":"'SHALA DARPAN DATA'!R4909","v":0},{"$f":"'SHALA DARPAN DATA'!S4909","v":0},{"$f":"'SHALA DARPAN DATA'!O4909","v":0},0,0,0,0,0,0,0,0,0,0,0]
[{"$f":"'SHALA DARPAN DATA'!C4910","v":0},{"$f":"'SHALA DARPAN DATA'!A4910","v":0},{"$f":"'SHALA DARPAN DATA'!B4910","v":0},{"$f":"'SHALA DARPAN DATA'!D4910","v":0},{"$f":"'SHALA DARPAN DATA'!J4910","v":0},{"$f":"'SHALA DARPAN DATA'!T4910","v":0},{"$f":"'SHALA DARPAN DATA'!V4910","v":0},{"$f":"'SHALA DARPAN DATA'!K4910","v":0},{"$f":"'SHALA DARPAN DATA'!E4910","v":0},{"$f":"'SHALA DARPAN DATA'!G4910","v":0},{"$f":"'SHALA DARPAN DATA'!H4910","v":0},{"$f":"'SHALA DARPAN DATA'!W4910","v":0},{"$f":"'SHALA DARPAN DATA'!R4910","v":0},{"$f":"'SHALA DARPAN DATA'!S4910","v":0},{"$f":"'SHALA DARPAN DATA'!O4910","v":0},0,0,0,0,0,0,0,0,0,0,0]
[{"$f":"'SHALA DARPAN DATA'!C4911","v":0},{"$f":"'SHALA DARPAN DATA'!A4911","v":0},{"$f":"'SHALA DARPAN DATA'!B4911","v":0},{"$f":"'SHALA DARPAN DATA'!D4911","v":0},{"$f":"'SHALA DARPAN DATA'!J4911","v":0},{"$f":"'SHALA DARPAN DATA'!T4911","v":0},{"$f":"'SHALA DARPAN DATA'!V4911","v":0},{"$f":"'SHALA DARPAN DATA'!K4911","v":0},{"$f":"'SHALA DARPAN DATA'!E4911","v":0},{"$f":"'SHALA DARPAN DATA'!G4911","v":0},{"$f":"'SHALA DARPAN DATA'!H4911","v":0},{"$f":"'SHALA DARPAN DATA'!W4911","v":0},{"$f":"'SHALA DARPAN DATA'!R4911","v":0},{"$f":"'SHALA DARPAN DATA'!S4911","v":0},{"$f":"'SHALA DARPAN DATA'!O4911","v":0},0,0,0,0,0,0,0,0,0,0,0]
[{"$f":"'SHALA DARPAN DATA'!C4912","v":0},{"$f":"'SHALA DARPAN DATA'!A4912","v":0},{"$f":"'SHALA DARPAN DATA'!B4912","v":0},{"$f":"'SHALA DARPAN DATA'!D4912","v":0},{"$f":"'SHALA DARPAN DATA'!J4912","v":0},{"$f":"'SHALA DARPAN DATA'!T4912","v":0},{"$f":"'SHALA DARPAN DATA'!V4912","v":0},{"$f":"'SHALA DARPAN DATA'!K4912","v":0},{"$f":"'SHALA DARPAN DATA'!E4912","v":0},{"$f":"'SHALA DARPAN DATA'!G4912","v":0},{"$f":"'SHALA DARPAN DATA'!H4912","v":0},{"$f":"'SHALA DARPAN DATA'!W4912","v":0},{"$f":"'SHALA DARPAN DATA'!R4912","v":0},{"$f":"'SHALA DARPAN DATA'!S4912","v":0},{"$f":"'SHALA DARPAN DATA'!O4912","v":0},0,0,0,0,0,0,0,0,0,0,0]
[{"$f":"'SHALA DARPAN DATA'!C4913","v":0},{"$f":"'SHALA DARPAN DATA'!A4913","v":0},{"$f":"'SHALA DARPAN DATA'!B4913","v":0},{"$f":"'SHALA DARPAN DATA'!D4913","v":0},{"$f":"'SHALA DARPAN DATA'!J4913","v":0},{"$f":"'SHALA DARPAN DATA'!T4913","v":0},{"$f":"'SHALA DARPAN DATA'!V4913","v":0},{"$f":"'SHALA DARPAN DATA'!K4913","v":0},{"$f":"'SHALA DARPAN DATA'!E4913","v":0},{"$f":"'SHALA DARPAN DATA'!G4913","v":0},{"$f":"'SHALA DARPAN DATA'!H4913","v":0},{"$f":"'SHALA DARPAN DATA'!W4913","v":0},{"$f":"'SHALA DARPAN DATA'!R4913","v":0},{"$f":"'SHALA DARPAN DATA'!S4913","v":0},{"$f":"'SHALA DARPAN DATA'!O4913","v":0},0,0,0,0,0,0,0,0,0,0,0]
[{"$f":"'SHALA DARPAN DATA'!C4914","v":0},{"$f":"'SHALA DARPAN DATA'!A4914","v":0},{"$f":"'SHALA DARPAN DATA'!B4914","v":0},{"$f":"'SHALA DARPAN DATA'!D4914","v":0},{"$f":"'SHALA DARPAN DATA'!J4914","v":0},{"$f":"'SHALA DARPAN DATA'!T4914","v":0},{"$f":"'SHALA DARPAN DATA'!V4914","v":0},{"$f":"'SHALA DARPAN DATA'!K4914","v":0},{"$f":"'SHALA DARPAN DATA'!E4914","v":0},{"$f":"'SHALA DARPAN DATA'!G4914","v":0},{"$f":"'SHALA DARPAN DATA'!H4914","v":0},{"$f":"'SHALA DARPAN DATA'!W4914","v":0},{"$f":"'SHALA DARPAN DATA'!R4914","v":0},{"$f":"'SHALA DARPAN DATA'!S4914","v":0},{"$f":"'SHALA DARPAN DATA'!O4914","v":0},0,0,0,0,0,0,0,0,0,0,0]
[{"$f":"'SHALA DARPAN DATA'!C4915","v":0},{"$f":"'SHALA DARPAN DATA'!A4915","v":0},{"$f":"'SHALA DARPAN DATA'!B4915","v":0},{"$f":"'SHALA DARPAN DATA'!D4915","v":0},{"$f":"'SHALA DARPAN DATA'!J4915","v":0},{"$f":"'SHALA DARPAN DATA'!T4915","v":0},{"$f":"'SHALA DARPAN DATA'!V4915","v":0},{"$f":"'SHALA DARPAN DATA'!K4915","v":0},{"$f":"'SHALA DARPAN DATA'!E4915","v":0},{"$f":"'SHALA DARPAN DATA'!G4915","v":0},{"$f":"'SHALA DARPAN DATA'!H4915","v":0},{"$f":"'SHALA DARPAN DATA'!W4915","v":0},{"$f":"'SHALA DARPAN DATA'!R4915","v":0},{"$f":"'SHALA DARPAN DATA'!S4915","v":0},{"$f":"'SHALA DARPAN DATA'!O4915","v":0},0,0,0,0,0,0,0,0,0,0,0]
[{"$f":"'SHALA DARPAN DATA'!C4916","v":0},{"$f":"'SHALA DARPAN DATA'!A4916","v":0},{"$f":"'SHALA DARPAN DATA'!B4916","v":0},{"$f":"'SHALA DARPAN DATA'!D4916","v":0},{"$f":"'SHALA DARPAN DATA'!J4916","v":0},{"$f":"'SHALA DARPAN DATA'!T4916","v":0},{"$f":"'SHALA DARPAN DATA'!V4916","v":0},{"$f":"'SHALA DARPAN DATA'!K4916","v":0},{"$f":"'SHALA DARPAN DATA'!E4916","v":0},{"$f":"'SHALA DARPAN DATA'!G4916","v":0},{"$f":"'SHALA DARPAN DATA'!H4916","v":0},{"$f":"'SHALA DARPAN DATA'!W4916","v":0},{"$f":"'SHALA DARPAN DATA'!R4916","v":0},{"$f":"'SHALA DARPAN DATA'!S4916","v":0},{"$f":"'SHALA DARPAN DATA'!O4916","v":0},0,0,0,0,0,0,0,0,0,0,0]
[{"$f":"'SHALA DARPAN DATA'!C4917","v":0},{"$f":"'SHALA DARPAN DATA'!A4917","v":0},{"$f":"'SHALA DARPAN DATA'!B4917","v":0},{"$f":"'SHALA DARPAN DATA'!D4917","v":0},{"$f":"'SHALA DARPAN DATA'!J4917","v":0},{"$f":"'SHALA DARPAN DATA'!T4917","v":0},{"$f":"'SHALA DARPAN DATA'!V4917","v":0},{"$f":"'SHALA DARPAN DATA'!K4917","v":0},{"$f":"'SHALA DARPAN DATA'!E4917","v":0},{"$f":"'SHALA DARPAN DATA'!G4917","v":0},{"$f":"'SHALA DARPAN DATA'!H4917","v":0},{"$f":"'SHALA DARPAN DATA'!W4917","v":0},{"$f":"'SHALA DARPAN DATA'!R4917","v":0},{"$f":"'SHALA DARPAN DATA'!S4917","v":0},{"$f":"'SHALA DARPAN DATA'!O4917","v":0},0,0,0,0,0,0,0,0,0,0,0]
[{"$f":"'SHALA DARPAN DATA'!C4918","v":0},{"$f":"'SHALA DARPAN DATA'!A4918","v":0},{"$f":"'SHALA DARPAN DATA'!B4918","v":0},{"$f":"'SHALA DARPAN DATA'!D4918","v":0},{"$f":"'SHALA DARPAN DATA'!J4918","v":0},{"$f":"'SHALA DARPAN DATA'!T4918","v":0},{"$f":"'SHALA DARPAN DATA'!V4918","v":0},{"$f":"'SHALA DARPAN DATA'!K4918","v":0},{"$f":"'SHALA DARPAN DATA'!E4918","v":0},{"$f":"'SHALA DARPAN DATA'!G4918","v":0},{"$f":"'SHALA DARPAN DATA'!H4918","v":0},{"$f":"'SHALA DARPAN DATA'!W4918","v":0},{"$f":"'SHALA DARPAN DATA'!R4918","v":0},{"$f":"'SHALA DARPAN DATA'!S4918","v":0},{"$f":"'SHALA DARPAN DATA'!O4918","v":0},0,0,0,0,0,0,0,0,0,0,0]
[{"$f":"'SHALA DARPAN DATA'!C4919","v":0},{"$f":"'SHALA DARPAN DATA'!A4919","v":0},{"$f":"'SHALA DARPAN DATA'!B4919","v":0},{"$f":"'SHALA DARPAN DATA'!D4919","v":0},{"$f":"'SHALA DARPAN DATA'!J4919","v":0},{"$f":"'SHALA DARPAN DATA'!T4919","v":0},{"$f":"'SHALA DARPAN DATA'!V4919","v":0},{"$f":"'SHALA DARPAN DATA'!K4919","v":0},{"$f":"'SHALA DARPAN DATA'!E4919","v":0},{"$f":"'SHALA DARPAN DATA'!G4919","v":0},{"$f":"'SHALA DARPAN DATA'!H4919","v":0},{"$f":"'SHALA DARPAN DATA'!W4919","v":0},{"$f":"'SHALA DARPAN DATA'!R4919","v":0},{"$f":"'SHALA DARPAN DATA'!S4919","v":0},{"$f":"'SHALA DARPAN DATA'!O4919","v":0},0,0,0,0,0,0,0,0,0,0,0]
[{"$f":"'SHALA DARPAN DATA'!C4920","v":0},{"$f":"'SHALA DARPAN DATA'!A4920","v":0},{"$f":"'SHALA DARPAN DATA'!B4920","v":0},{"$f":"'SHALA DARPAN DATA'!D4920","v":0},{"$f":"'SHALA DARPAN DATA'!J4920","v":0},{"$f":"'SHALA DARPAN DATA'!T4920","v":0},{"$f":"'SHALA DARPAN DATA'!V4920","v":0},{"$f":"'SHALA DARPAN DATA'!K4920","v":0},{"$f":"'SHALA DARPAN DATA'!E4920","v":0},{"$f":"'SHALA DARPAN DATA'!G4920","v":0},{"$f":"'SHALA DARPAN DATA'!H4920","v":0},{"$f":"'SHALA DARPAN DATA'!W4920","v":0},{"$f":"'SHALA DARPAN DATA'!R4920","v":0},{"$f":"'SHALA DARPAN DATA'!S4920","v":0},{"$f":"'SHALA DARPAN DATA'!O4920","v":0},0,0,0,0,0,0,0,0,0,0,0]
[{"$f":"'SHALA DARPAN DATA'!C4921","v":0},{"$f":"'SHALA DARPAN DATA'!A4921","v":0},{"$f":"'SHALA DARPAN DATA'!B4921","v":0},{"$f":"'SHALA DARPAN DATA'!D4921","v":0},{"$f":"'SHALA DARPAN DATA'!J4921","v":0},{"$f":"'SHALA DARPAN DATA'!T4921","v":0},{"$f":"'SHALA DARPAN DATA'!V4921","v":0},{"$f":"'SHALA DARPAN DATA'!K4921","v":0},{"$f":"'SHALA DARPAN DATA'!E4921","v":0},{"$f":"'SHALA DARPAN DATA'!G4921","v":0},{"$f":"'SHALA DARPAN DATA'!H4921","v":0},{"$f":"'SHALA DARPAN DATA'!W4921","v":0},{"$f":"'SHALA DARPAN DATA'!R4921","v":0},{"$f":"'SHALA DARPAN DATA'!S4921","v":0},{"$f":"'SHALA DARPAN DATA'!O4921","v":0},0,0,0,0,0,0,0,0,0,0,0]
[{"$f":"'SHALA DARPAN DATA'!C4922","v":0},{"$f":"'SHALA DARPAN DATA'!A4922","v":0},{"$f":"'SHALA DARPAN DATA'!B4922","v":0},{"$f":"'SHALA DARPAN DATA'!D4922","v":0},{"$f":"'SHALA DARPAN DATA'!J4922","v":0},{"$f":"'SHALA DARPAN DATA'!T4922","v":0},{"$f":"'SHALA DARPAN DATA'!V4922","v":0},{"$f":"'SHALA DARPAN DATA'!K4922","v":0},{"$f":"'SHALA DARPAN DATA'!E4922","v":0},{"$f":"'SHALA DARPAN DATA'!G4922","v":0},{"$f":"'SHALA DARPAN DATA'!H4922","v":0},{"$f":"'SHALA DARPAN DATA'!W4922","v":0},{"$f":"'SHALA DARPAN DATA'!R4922","v":0},{"$f":"'SHALA DARPAN DATA'!S4922","v":0},{"$f":"'SHALA DARPAN DATA'!O4922","v":0},0,0,0,0,0,0,0,0,0,0,0]
[{"$f":"'SHALA DARPAN DATA'!C4923","v":0},{"$f":"'SHALA DARPAN DATA'!A4923","v":0},{"$f":"'SHALA DARPAN DATA'!B4923","v":0},{"$f":"'SHALA DARPAN DATA'!D4923","v":0},{"$f":"'SHALA DARPAN DATA'!J4923","v":0},{"$f":"'SHALA DARPAN DATA'!T4923","v":0},{"$f":"'SHALA DARPAN DATA'!V4923","v":0},{"$f":"'SHALA DARPAN DATA'!K4923","v":0},{"$f":"'SHALA DARPAN DATA'!E4923","v":0},{"$f":"'SHALA DARPAN DATA'!G4923","v":0},{"$f":"'SHALA DARPAN DATA'!H4923","v":0},{"$f":"'SHALA DARPAN DATA'!W4923","v":0},{"$f":"'SHALA DARPAN DATA'!R4923","v":0},{"$f":"'SHALA DARPAN DATA'!S4923","v":0},{"$f":"'SHALA DARPAN DATA'!O4923","v":0},0,0,0,0,0,0,0,0,0,0,0]
[{"$f":"'SHALA DARPAN DATA'!C4924","v":0},{"$f":"'SHALA DARPAN DATA'!A4924","v":0},{"$f":"'SHALA DARPAN DATA'!B4924","v":0},{"$f":"'SHALA DARPAN DATA'!D4924","v":0},{"$f":"'SHALA DARPAN DATA'!J4924","v":0},{"$f":"'SHALA DARPAN DATA'!T4924","v":0},{"$f":"'SHALA DARPAN DATA'!V4924","v":0},{"$f":"'SHALA DARPAN DATA'!K4924","v":0},{"$f":"'SHALA DARPAN DATA'!E4924","v":0},{"$f":"'SHALA DARPAN DATA'!G4924","v":0},{"$f":"'SHALA DARPAN DATA'!H4924","v":0},{"$f":"'SHALA DARPAN DATA'!W4924","v":0},{"$f":"'SHALA DARPAN DATA'!R4924","v":0},{"$f":"'SHALA DARPAN DATA'!S4924","v":0},{"$f":"'SHALA DARPAN DATA'!O4924","v":0},0,0,0,0,0,0,0,0,0,0,0]
[{"$f":"'SHALA DARPAN DATA'!C4925","v":0},{"$f":"'SHALA DARPAN DATA'!A4925","v":0},{"$f":"'SHALA DARPAN DATA'!B4925","v":0},{"$f":"'SHALA DARPAN DATA'!D4925","v":0},{"$f":"'SHALA DARPAN DATA'!J4925","v":0},{"$f":"'SHALA DARPAN DATA'!T4925","v":0},{"$f":"'SHALA DARPAN DATA'!V4925","v":0},{"$f":"'SHALA DARPAN DATA'!K4925","v":0},{"$f":"'SHALA DARPAN DATA'!E4925","v":0},{"$f":"'SHALA DARPAN DATA'!G4925","v":0},{"$f":"'SHALA DARPAN DATA'!H4925","v":0},{"$f":"'SHALA DARPAN DATA'!W4925","v":0},{"$f":"'SHALA DARPAN DATA'!R4925","v":0},{"$f":"'SHALA DARPAN DATA'!S4925","v":0},{"$f":"'SHALA DARPAN DATA'!O4925","v":0},0,0,0,0,0,0,0,0,0,0,0]
[{"$f":"'SHALA DARPAN DATA'!C4926","v":0},{"$f":"'SHALA DARPAN DATA'!A4926","v":0},{"$f":"'SHALA DARPAN DATA'!B4926","v":0},{"$f":"'SHALA DARPAN DATA'!D4926","v":0},{"$f":"'SHALA DARPAN DATA'!J4926","v":0},{"$f":"'SHALA DARPAN DATA'!T4926","v":0},{"$f":"'SHALA DARPAN DATA'!V4926","v":0},{"$f":"'SHALA DARPAN DATA'!K4926","v":0},{"$f":"'SHALA DARPAN DATA'!E4926","v":0},{"$f":"'SHALA DARPAN DATA'!G4926","v":0},{"$f":"'SHALA DARPAN DATA'!H4926","v":0},{"$f":"'SHALA DARPAN DATA'!W4926","v":0},{"$f":"'SHALA DARPAN DATA'!R4926","v":0},{"$f":"'SHALA DARPAN DATA'!S4926","v":0},{"$f":"'SHALA DARPAN DATA'!O4926","v":0},0,0,0,0,0,0,0,0,0,0,0]
[{"$f":"'SHALA DARPAN DATA'!C4927","v":0},{"$f":"'SHALA DARPAN DATA'!A4927","v":0},{"$f":"'SHALA DARPAN DATA'!B4927","v":0},{"$f":"'SHALA DARPAN DATA'!D4927","v":0},{"$f":"'SHALA DARPAN DATA'!J4927","v":0},{"$f":"'SHALA DARPAN DATA'!T4927","v":0},{"$f":"'SHALA DARPAN DATA'!V4927","v":0},{"$f":"'SHALA DARPAN DATA'!K4927","v":0},{"$f":"'SHALA DARPAN DATA'!E4927","v":0},{"$f":"'SHALA DARPAN DATA'!G4927","v":0},{"$f":"'SHALA DARPAN DATA'!H4927","v":0},{"$f":"'SHALA DARPAN DATA'!W4927","v":0},{"$f":"'SHALA DARPAN DATA'!R4927","v":0},{"$f":"'SHALA DARPAN DATA'!S4927","v":0},{"$f":"'SHALA DARPAN DATA'!O4927","v":0},0,0,0,0,0,0,0,0,0,0,0]
[{"$f":"'SHALA DARPAN DATA'!C4928","v":0},{"$f":"'SHALA DARPAN DATA'!A4928","v":0},{"$f":"'SHALA DARPAN DATA'!B4928","v":0},{"$f":"'SHALA DARPAN DATA'!D4928","v":0},{"$f":"'SHALA DARPAN DATA'!J4928","v":0},{"$f":"'SHALA DARPAN DATA'!T4928","v":0},{"$f":"'SHALA DARPAN DATA'!V4928","v":0},{"$f":"'SHALA DARPAN DATA'!K4928","v":0},{"$f":"'SHALA DARPAN DATA'!E4928","v":0},{"$f":"'SHALA DARPAN DATA'!G4928","v":0},{"$f":"'SHALA DARPAN DATA'!H4928","v":0},{"$f":"'SHALA DARPAN DATA'!W4928","v":0},{"$f":"'SHALA DARPAN DATA'!R4928","v":0},{"$f":"'SHALA DARPAN DATA'!S4928","v":0},{"$f":"'SHALA DARPAN DATA'!O4928","v":0},0,0,0,0,0,0,0,0,0,0,0]
[{"$f":"'SHALA DARPAN DATA'!C4929","v":0},{"$f":"'SHALA DARPAN DATA'!A4929","v":0},{"$f":"'SHALA DARPAN DATA'!B4929","v":0},{"$f":"'SHALA DARPAN DATA'!D4929","v":0},{"$f":"'SHALA DARPAN DATA'!J4929","v":0},{"$f":"'SHALA DARPAN DATA'!T4929","v":0},{"$f":"'SHALA DARPAN DATA'!V4929","v":0},{"$f":"'SHALA DARPAN DATA'!K4929","v":0},{"$f":"'SHALA DARPAN DATA'!E4929","v":0},{"$f":"'SHALA DARPAN DATA'!G4929","v":0},{"$f":"'SHALA DARPAN DATA'!H4929","v":0},{"$f":"'SHALA DARPAN DATA'!W4929","v":0},{"$f":"'SHALA DARPAN DATA'!R4929","v":0},{"$f":"'SHALA DARPAN DATA'!S4929","v":0},{"$f":"'SHALA DARPAN DATA'!O4929","v":0},0,0,0,0,0,0,0,0,0,0,0]
[{"$f":"'SHALA DARPAN DATA'!C4930","v":0},{"$f":"'SHALA DARPAN DATA'!A4930","v":0},{"$f":"'SHALA DARPAN DATA'!B4930","v":0},{"$f":"'SHALA DARPAN DATA'!D4930","v":0},{"$f":"'SHALA DARPAN DATA'!J4930","v":0},{"$f":"'SHALA DARPAN DATA'!T4930","v":0},{"$f":"'SHALA DARPAN DATA'!V4930","v":0},{"$f":"'SHALA DARPAN DATA'!K4930","v":0},{"$f":"'SHALA DARPAN DATA'!E4930","v":0},{"$f":"'SHALA DARPAN DATA'!G4930","v":0},{"$f":"'SHALA DARPAN DATA'!H4930","v":0},{"$f":"'SHALA DARPAN DATA'!W4930","v":0},{"$f":"'SHALA DARPAN DATA'!R4930","v":0},{"$f":"'SHALA DARPAN DATA'!S4930","v":0},{"$f":"'SHALA DARPAN DATA'!O4930","v":0},0,0,0,0,0,0,0,0,0,0,0]
[{"$f":"'SHALA DARPAN DATA'!C4931","v":0},{"$f":"'SHALA DARPAN DATA'!A4931","v":0},{"$f":"'SHALA DARPAN DATA'!B4931","v":0},{"$f":"'SHALA DARPAN DATA'!D4931","v":0},{"$f":"'SHALA DARPAN DATA'!J4931","v":0},{"$f":"'SHALA DARPAN DATA'!T4931","v":0},{"$f":"'SHALA DARPAN DATA'!V4931","v":0},{"$f":"'SHALA DARPAN DATA'!K4931","v":0},{"$f":"'SHALA DARPAN DATA'!E4931","v":0},{"$f":"'SHALA DARPAN DATA'!G4931","v":0},{"$f":"'SHALA DARPAN DATA'!H4931","v":0},{"$f":"'SHALA DARPAN DATA'!W4931","v":0},{"$f":"'SHALA DARPAN DATA'!R4931","v":0},{"$f":"'SHALA DARPAN DATA'!S4931","v":0},{"$f":"'SHALA DARPAN DATA'!O4931","v":0},0,0,0,0,0,0,0,0,0,0,0]
[{"$f":"'SHALA DARPAN DATA'!C4932","v":0},{"$f":"'SHALA DARPAN DATA'!A4932","v":0},{"$f":"'SHALA DARPAN DATA'!B4932","v":0},{"$f":"'SHALA DARPAN DATA'!D4932","v":0},{"$f":"'SHALA DARPAN DATA'!J4932","v":0},{"$f":"'SHALA DARPAN DATA'!T4932","v":0},{"$f":"'SHALA DARPAN DATA'!V4932","v":0},{"$f":"'SHALA DARPAN DATA'!K4932","v":0},{"$f":"'SHALA DARPAN DATA'!E4932","v":0},{"$f":"'SHALA DARPAN DATA'!G4932","v":0},{"$f":"'SHALA DARPAN DATA'!H4932","v":0},{"$f":"'SHALA DARPAN DATA'!W4932","v":0},{"$f":"'SHALA DARPAN DATA'!R4932","v":0},{"$f":"'SHALA DARPAN DATA'!S4932","v":0},{"$f":"'SHALA DARPAN DATA'!O4932","v":0},0,0,0,0,0,0,0,0,0,0,0]
[{"$f":"'SHALA DARPAN DATA'!C4933","v":0},{"$f":"'SHALA DARPAN DATA'!A4933","v":0},{"$f":"'SHALA DARPAN DATA'!B4933","v":0},{"$f":"'SHALA DARPAN DATA'!D4933","v":0},{"$f":"'SHALA DARPAN DATA'!J4933","v":0},{"$f":"'SHALA DARPAN DATA'!T4933","v":0},{"$f":"'SHALA DARPAN DATA'!V4933","v":0},{"$f":"'SHALA DARPAN DATA'!K4933","v":0},{"$f":"'SHALA DARPAN DATA'!E4933","v":0},{"$f":"'SHALA DARPAN DATA'!G4933","v":0},{"$f":"'SHALA DARPAN DATA'!H4933","v":0},{"$f":"'SHALA DARPAN DATA'!W4933","v":0},{"$f":"'SHALA DARPAN DATA'!R4933","v":0},{"$f":"'SHALA DARPAN DATA'!S4933","v":0},{"$f":"'SHALA DARPAN DATA'!O4933","v":0},0,0,0,0,0,0,0,0,0,0,0]
[{"$f":"'SHALA DARPAN DATA'!C4934","v":0},{"$f":"'SHALA DARPAN DATA'!A4934","v":0},{"$f":"'SHALA DARPAN DATA'!B4934","v":0},{"$f":"'SHALA DARPAN DATA'!D4934","v":0},{"$f":"'SHALA DARPAN DATA'!J4934","v":0},{"$f":"'SHALA DARPAN DATA'!T4934","v":0},{"$f":"'SHALA DARPAN DATA'!V4934","v":0},{"$f":"'SHALA DARPAN DATA'!K4934","v":0},{"$f":"'SHALA DARPAN DATA'!E4934","v":0},{"$f":"'SHALA DARPAN DATA'!G4934","v":0},{"$f":"'SHALA DARPAN DATA'!H4934","v":0},{"$f":"'SHALA DARPAN DATA'!W4934","v":0},{"$f":"'SHALA DARPAN DATA'!R4934","v":0},{"$f":"'SHALA DARPAN DATA'!S4934","v":0},{"$f":"'SHALA DARPAN DATA'!O4934","v":0},0,0,0,0,0,0,0,0,0,0,0]
[{"$f":"'SHALA DARPAN DATA'!C4935","v":0},{"$f":"'SHALA DARPAN DATA'!A4935","v":0},{"$f":"'SHALA DARPAN DATA'!B4935","v":0},{"$f":"'SHALA DARPAN DATA'!D4935","v":0},{"$f":"'SHALA DARPAN DATA'!J4935","v":0},{"$f":"'SHALA DARPAN DATA'!T4935","v":0},{"$f":"'SHALA DARPAN DATA'!V4935","v":0},{"$f":"'SHALA DARPAN DATA'!K4935","v":0},{"$f":"'SHALA DARPAN DATA'!E4935","v":0},{"$f":"'SHALA DARPAN DATA'!G4935","v":0},{"$f":"'SHALA DARPAN DATA'!H4935","v":0},{"$f":"'SHALA DARPAN DATA'!W4935","v":0},{"$f":"'SHALA DARPAN DATA'!R4935","v":0},{"$f":"'SHALA DARPAN DATA'!S4935","v":0},{"$f":"'SHALA DARPAN DATA'!O4935","v":0},0,0,0,0,0,0,0,0,0,0,0]
[{"$f":"'SHALA DARPAN DATA'!C4936","v":0},{"$f":"'SHALA DARPAN DATA'!A4936","v":0},{"$f":"'SHALA DARPAN DATA'!B4936","v":0},{"$f":"'SHALA DARPAN DATA'!D4936","v":0},{"$f":"'SHALA DARPAN DATA'!J4936","v":0},{"$f":"'SHALA DARPAN DATA'!T4936","v":0},{"$f":"'SHALA DARPAN DATA'!V4936","v":0},{"$f":"'SHALA DARPAN DATA'!K4936","v":0},{"$f":"'SHALA DARPAN DATA'!E4936","v":0},{"$f":"'SHALA DARPAN DATA'!G4936","v":0},{"$f":"'SHALA DARPAN DATA'!H4936","v":0},{"$f":"'SHALA DARPAN DATA'!W4936","v":0},{"$f":"'SHALA DARPAN DATA'!R4936","v":0},{"$f":"'SHALA DARPAN DATA'!S4936","v":0},{"$f":"'SHALA DARPAN DATA'!O4936","v":0},0,0,0,0,0,0,0,0,0,0,0]
[{"$f":"'SHALA DARPAN DATA'!C4937","v":0},{"$f":"'SHALA DARPAN DATA'!A4937","v":0},{"$f":"'SHALA DARPAN DATA'!B4937","v":0},{"$f":"'SHALA DARPAN DATA'!D4937","v":0},{"$f":"'SHALA DARPAN DATA'!J4937","v":0},{"$f":"'SHALA DARPAN DATA'!T4937","v":0},{"$f":"'SHALA DARPAN DATA'!V4937","v":0},{"$f":"'SHALA DARPAN DATA'!K4937","v":0},{"$f":"'SHALA DARPAN DATA'!E4937","v":0},{"$f":"'SHALA DARPAN DATA'!G4937","v":0},{"$f":"'SHALA DARPAN DATA'!H4937","v":0},{"$f":"'SHALA DARPAN DATA'!W4937","v":0},{"$f":"'SHALA DARPAN DATA'!R4937","v":0},{"$f":"'SHALA DARPAN DATA'!S4937","v":0},{"$f":"'SHALA DARPAN DATA'!O4937","v":0},0,0,0,0,0,0,0,0,0,0,0]
[{"$f":"'SHALA DARPAN DATA'!C4938","v":0},{"$f":"'SHALA DARPAN DATA'!A4938","v":0},{"$f":"'SHALA DARPAN DATA'!B4938","v":0},{"$f":"'SHALA DARPAN DATA'!D4938","v":0},{"$f":"'SHALA DARPAN DATA'!J4938","v":0},{"$f":"'SHALA DARPAN DATA'!T4938","v":0},{"$f":"'SHALA DARPAN DATA'!V4938","v":0},{"$f":"'SHALA DARPAN DATA'!K4938","v":0},{"$f":"'SHALA DARPAN DATA'!E4938","v":0},{"$f":"'SHALA DARPAN DATA'!G4938","v":0},{"$f":"'SHALA DARPAN DATA'!H4938","v":0},{"$f":"'SHALA DARPAN DATA'!W4938","v":0},{"$f":"'SHALA DARPAN DATA'!R4938","v":0},{"$f":"'SHALA DARPAN DATA'!S4938","v":0},{"$f":"'SHALA DARPAN DATA'!O4938","v":0},0,0,0,0,0,0,0,0,0,0,0]
[{"$f":"'SHALA DARPAN DATA'!C4939","v":0},{"$f":"'SHALA DARPAN DATA'!A4939","v":0},{"$f":"'SHALA DARPAN DATA'!B4939","v":0},{"$f":"'SHALA DARPAN DATA'!D4939","v":0},{"$f":"'SHALA DARPAN DATA'!J4939","v":0},{"$f":"'SHALA DARPAN DATA'!T4939","v":0},{"$f":"'SHALA DARPAN DATA'!V4939","v":0},{"$f":"'SHALA DARPAN DATA'!K4939","v":0},{"$f":"'SHALA DARPAN DATA'!E4939","v":0},{"$f":"'SHALA DARPAN DATA'!G4939","v":0},{"$f":"'SHALA DARPAN DATA'!H4939","v":0},{"$f":"'SHALA DARPAN DATA'!W4939","v":0},{"$f":"'SHALA DARPAN DATA'!R4939","v":0},{"$f":"'SHALA DARPAN DATA'!S4939","v":0},{"$f":"'SHALA DARPAN DATA'!O4939","v":0},0,0,0,0,0,0,0,0,0,0,0]
[{"$f":"'SHALA DARPAN DATA'!C4940","v":0},{"$f":"'SHALA DARPAN DATA'!A4940","v":0},{"$f":"'SHALA DARPAN DATA'!B4940","v":0},{"$f":"'SHALA DARPAN DATA'!D4940","v":0},{"$f":"'SHALA DARPAN DATA'!J4940","v":0},{"$f":"'SHALA DARPAN DATA'!T4940","v":0},{"$f":"'SHALA DARPAN DATA'!V4940","v":0},{"$f":"'SHALA DARPAN DATA'!K4940","v":0},{"$f":"'SHALA DARPAN DATA'!E4940","v":0},{"$f":"'SHALA DARPAN DATA'!G4940","v":0},{"$f":"'SHALA DARPAN DATA'!H4940","v":0},{"$f":"'SHALA DARPAN DATA'!W4940","v":0},{"$f":"'SHALA DARPAN DATA'!R4940","v":0},{"$f":"'SHALA DARPAN DATA'!S4940","v":0},{"$f":"'SHALA DARPAN DATA'!O4940","v":0},0,0,0,0,0,0,0,0,0,0,0]
[{"$f":"'SHALA DARPAN DATA'!C4941","v":0},{"$f":"'SHALA DARPAN DATA'!A4941","v":0},{"$f":"'SHALA DARPAN DATA'!B4941","v":0},{"$f":"'SHALA DARPAN DATA'!D4941","v":0},{"$f":"'SHALA DARPAN DATA'!J4941","v":0},{"$f":"'SHALA DARPAN DATA'!T4941","v":0},{"$f":"'SHALA DARPAN DATA'!V4941","v":0},{"$f":"'SHALA DARPAN DATA'!K4941","v":0},{"$f":"'SHALA DARPAN DATA'!E4941","v":0},{"$f":"'SHALA DARPAN DATA'!G4941","v":0},{"$f":"'SHALA DARPAN DATA'!H4941","v":0},{"$f":"'SHALA DARPAN DATA'!W4941","v":0},{"$f":"'SHALA DARPAN DATA'!R4941","v":0},{"$f":"'SHALA DARPAN DATA'!S4941","v":0},{"$f":"'SHALA DARPAN DATA'!O4941","v":0},0,0,0,0,0,0,0,0,0,0,0]
[{"$f":"'SHALA DARPAN DATA'!C4942","v":0},{"$f":"'SHALA DARPAN DATA'!A4942","v":0},{"$f":"'SHALA DARPAN DATA'!B4942","v":0},{"$f":"'SHALA DARPAN DATA'!D4942","v":0},{"$f":"'SHALA DARPAN DATA'!J4942","v":0},{"$f":"'SHALA DARPAN DATA'!T4942","v":0},{"$f":"'SHALA DARPAN DATA'!V4942","v":0},{"$f":"'SHALA DARPAN DATA'!K4942","v":0},{"$f":"'SHALA DARPAN DATA'!E4942","v":0},{"$f":"'SHALA DARPAN DATA'!G4942","v":0},{"$f":"'SHALA DARPAN DATA'!H4942","v":0},{"$f":"'SHALA DARPAN DATA'!W4942","v":0},{"$f":"'SHALA DARPAN DATA'!R4942","v":0},{"$f":"'SHALA DARPAN DATA'!S4942","v":0},{"$f":"'SHALA DARPAN DATA'!O4942","v":0},0,0,0,0,0,0,0,0,0,0,0]
[{"$f":"'SHALA DARPAN DATA'!C4943","v":0},{"$f":"'SHALA DARPAN DATA'!A4943","v":0},{"$f":"'SHALA DARPAN DATA'!B4943","v":0},{"$f":"'SHALA DARPAN DATA'!D4943","v":0},{"$f":"'SHALA DARPAN DATA'!J4943","v":0},{"$f":"'SHALA DARPAN DATA'!T4943","v":0},{"$f":"'SHALA DARPAN DATA'!V4943","v":0},{"$f":"'SHALA DARPAN DATA'!K4943","v":0},{"$f":"'SHALA DARPAN DATA'!E4943","v":0},{"$f":"'SHALA DARPAN DATA'!G4943","v":0},{"$f":"'SHALA DARPAN DATA'!H4943","v":0},{"$f":"'SHALA DARPAN DATA'!W4943","v":0},{"$f":"'SHALA DARPAN DATA'!R4943","v":0},{"$f":"'SHALA DARPAN DATA'!S4943","v":0},{"$f":"'SHALA DARPAN DATA'!O4943","v":0},0,0,0,0,0,0,0,0,0,0,0]
[{"$f":"'SHALA DARPAN DATA'!C4944","v":0},{"$f":"'SHALA DARPAN DATA'!A4944","v":0},{"$f":"'SHALA DARPAN DATA'!B4944","v":0},{"$f":"'SHALA DARPAN DATA'!D4944","v":0},{"$f":"'SHALA DARPAN DATA'!J4944","v":0},{"$f":"'SHALA DARPAN DATA'!T4944","v":0},{"$f":"'SHALA DARPAN DATA'!V4944","v":0},{"$f":"'SHALA DARPAN DATA'!K4944","v":0},{"$f":"'SHALA DARPAN DATA'!E4944","v":0},{"$f":"'SHALA DARPAN DATA'!G4944","v":0},{"$f":"'SHALA DARPAN DATA'!H4944","v":0},{"$f":"'SHALA DARPAN DATA'!W4944","v":0},{"$f":"'SHALA DARPAN DATA'!R4944","v":0},{"$f":"'SHALA DARPAN DATA'!S4944","v":0},{"$f":"'SHALA DARPAN DATA'!O4944","v":0},0,0,0,0,0,0,0,0,0,0,0]
[{"$f":"'SHALA DARPAN DATA'!C4945","v":0},{"$f":"'SHALA DARPAN DATA'!A4945","v":0},{"$f":"'SHALA DARPAN DATA'!B4945","v":0},{"$f":"'SHALA DARPAN DATA'!D4945","v":0},{"$f":"'SHALA DARPAN DATA'!J4945","v":0},{"$f":"'SHALA DARPAN DATA'!T4945","v":0},{"$f":"'SHALA DARPAN DATA'!V4945","v":0},{"$f":"'SHALA DARPAN DATA'!K4945","v":0},{"$f":"'SHALA DARPAN DATA'!E4945","v":0},{"$f":"'SHALA DARPAN DATA'!G4945","v":0},{"$f":"'SHALA DARPAN DATA'!H4945","v":0},{"$f":"'SHALA DARPAN DATA'!W4945","v":0},{"$f":"'SHALA DARPAN DATA'!R4945","v":0},{"$f":"'SHALA DARPAN DATA'!S4945","v":0},{"$f":"'SHALA DARPAN DATA'!O4945","v":0},0,0,0,0,0,0,0,0,0,0,0]
[{"$f":"'SHALA DARPAN DATA'!C4946","v":0},{"$f":"'SHALA DARPAN DATA'!A4946","v":0},{"$f":"'SHALA DARPAN DATA'!B4946","v":0},{"$f":"'SHALA DARPAN DATA'!D4946","v":0},{"$f":"'SHALA DARPAN DATA'!J4946","v":0},{"$f":"'SHALA DARPAN DATA'!T4946","v":0},{"$f":"'SHALA DARPAN DATA'!V4946","v":0},{"$f":"'SHALA DARPAN DATA'!K4946","v":0},{"$f":"'SHALA DARPAN DATA'!E4946","v":0},{"$f":"'SHALA DARPAN DATA'!G4946","v":0},{"$f":"'SHALA DARPAN DATA'!H4946","v":0},{"$f":"'SHALA DARPAN DATA'!W4946","v":0},{"$f":"'SHALA DARPAN DATA'!R4946","v":0},{"$f":"'SHALA DARPAN DATA'!S4946","v":0},{"$f":"'SHALA DARPAN DATA'!O4946","v":0},0,0,0,0,0,0,0,0,0,0,0]
[{"$f":"'SHALA DARPAN DATA'!C4947","v":0},{"$f":"'SHALA DARPAN DATA'!A4947","v":0},{"$f":"'SHALA DARPAN DATA'!B4947","v":0},{"$f":"'SHALA DARPAN DATA'!D4947","v":0},{"$f":"'SHALA DARPAN DATA'!J4947","v":0},{"$f":"'SHALA DARPAN DATA'!T4947","v":0},{"$f":"'SHALA DARPAN DATA'!V4947","v":0},{"$f":"'SHALA DARPAN DATA'!K4947","v":0},{"$f":"'SHALA DARPAN DATA'!E4947","v":0},{"$f":"'SHALA DARPAN DATA'!G4947","v":0},{"$f":"'SHALA DARPAN DATA'!H4947","v":0},{"$f":"'SHALA DARPAN DATA'!W4947","v":0},{"$f":"'SHALA DARPAN DATA'!R4947","v":0},{"$f":"'SHALA DARPAN DATA'!S4947","v":0},{"$f":"'SHALA DARPAN DATA'!O4947","v":0},0,0,0,0,0,0,0,0,0,0,0]
[{"$f":"'SHALA DARPAN DATA'!C4948","v":0},{"$f":"'SHALA DARPAN DATA'!A4948","v":0},{"$f":"'SHALA DARPAN DATA'!B4948","v":0},{"$f":"'SHALA DARPAN DATA'!D4948","v":0},{"$f":"'SHALA DARPAN DATA'!J4948","v":0},{"$f":"'SHALA DARPAN DATA'!T4948","v":0},{"$f":"'SHALA DARPAN DATA'!V4948","v":0},{"$f":"'SHALA DARPAN DATA'!K4948","v":0},{"$f":"'SHALA DARPAN DATA'!E4948","v":0},{"$f":"'SHALA DARPAN DATA'!G4948","v":0},{"$f":"'SHALA DARPAN DATA'!H4948","v":0},{"$f":"'SHALA DARPAN DATA'!W4948","v":0},{"$f":"'SHALA DARPAN DATA'!R4948","v":0},{"$f":"'SHALA DARPAN DATA'!S4948","v":0},{"$f":"'SHALA DARPAN DATA'!O4948","v":0},0,0,0,0,0,0,0,0,0,0,0]
[{"$f":"'SHALA DARPAN DATA'!C4949","v":0},{"$f":"'SHALA DARPAN DATA'!A4949","v":0},{"$f":"'SHALA DARPAN DATA'!B4949","v":0},{"$f":"'SHALA DARPAN DATA'!D4949","v":0},{"$f":"'SHALA DARPAN DATA'!J4949","v":0},{"$f":"'SHALA DARPAN DATA'!T4949","v":0},{"$f":"'SHALA DARPAN DATA'!V4949","v":0},{"$f":"'SHALA DARPAN DATA'!K4949","v":0},{"$f":"'SHALA DARPAN DATA'!E4949","v":0},{"$f":"'SHALA DARPAN DATA'!G4949","v":0},{"$f":"'SHALA DARPAN DATA'!H4949","v":0},{"$f":"'SHALA DARPAN DATA'!W4949","v":0},{"$f":"'SHALA DARPAN DATA'!R4949","v":0},{"$f":"'SHALA DARPAN DATA'!S4949","v":0},{"$f":"'SHALA DARPAN DATA'!O4949","v":0},0,0,0,0,0,0,0,0,0,0,0]
[{"$f":"'SHALA DARPAN DATA'!C4950","v":0},{"$f":"'SHALA DARPAN DATA'!A4950","v":0},{"$f":"'SHALA DARPAN DATA'!B4950","v":0},{"$f":"'SHALA DARPAN DATA'!D4950","v":0},{"$f":"'SHALA DARPAN DATA'!J4950","v":0},{"$f":"'SHALA DARPAN DATA'!T4950","v":0},{"$f":"'SHALA DARPAN DATA'!V4950","v":0},{"$f":"'SHALA DARPAN DATA'!K4950","v":0},{"$f":"'SHALA DARPAN DATA'!E4950","v":0},{"$f":"'SHALA DARPAN DATA'!G4950","v":0},{"$f":"'SHALA DARPAN DATA'!H4950","v":0},{"$f":"'SHALA DARPAN DATA'!W4950","v":0},{"$f":"'SHALA DARPAN DATA'!R4950","v":0},{"$f":"'SHALA DARPAN DATA'!S4950","v":0},{"$f":"'SHALA DARPAN DATA'!O4950","v":0},0,0,0,0,0,0,0,0,0,0,0]
[{"$f":"'SHALA DARPAN DATA'!C4951","v":0},{"$f":"'SHALA DARPAN DATA'!A4951","v":0},{"$f":"'SHALA DARPAN DATA'!B4951","v":0},{"$f":"'SHALA DARPAN DATA'!D4951","v":0},{"$f":"'SHALA DARPAN DATA'!J4951","v":0},{"$f":"'SHALA DARPAN DATA'!T4951","v":0},{"$f":"'SHALA DARPAN DATA'!V4951","v":0},{"$f":"'SHALA DARPAN DATA'!K4951","v":0},{"$f":"'SHALA DARPAN DATA'!E4951","v":0},{"$f":"'SHALA DARPAN DATA'!G4951","v":0},{"$f":"'SHALA DARPAN DATA'!H4951","v":0},{"$f":"'SHALA DARPAN DATA'!W4951","v":0},{"$f":"'SHALA DARPAN DATA'!R4951","v":0},{"$f":"'SHALA DARPAN DATA'!S4951","v":0},{"$f":"'SHALA DARPAN DATA'!O4951","v":0},0,0,0,0,0,0,0,0,0,0,0]
[{"$f":"'SHALA DARPAN DATA'!C4952","v":0},{"$f":"'SHALA DARPAN DATA'!A4952","v":0},{"$f":"'SHALA DARPAN DATA'!B4952","v":0},{"$f":"'SHALA DARPAN DATA'!D4952","v":0},{"$f":"'SHALA DARPAN DATA'!J4952","v":0},{"$f":"'SHALA DARPAN DATA'!T4952","v":0},{"$f":"'SHALA DARPAN DATA'!V4952","v":0},{"$f":"'SHALA DARPAN DATA'!K4952","v":0},{"$f":"'SHALA DARPAN DATA'!E4952","v":0},{"$f":"'SHALA DARPAN DATA'!G4952","v":0},{"$f":"'SHALA DARPAN DATA'!H4952","v":0},{"$f":"'SHALA DARPAN DATA'!W4952","v":0},{"$f":"'SHALA DARPAN DATA'!R4952","v":0},{"$f":"'SHALA DARPAN DATA'!S4952","v":0},{"$f":"'SHALA DARPAN DATA'!O4952","v":0},0,0,0,0,0,0,0,0,0,0,0]
[{"$f":"'SHALA DARPAN DATA'!C4953","v":0},{"$f":"'SHALA DARPAN DATA'!A4953","v":0},{"$f":"'SHALA DARPAN DATA'!B4953","v":0},{"$f":"'SHALA DARPAN DATA'!D4953","v":0},{"$f":"'SHALA DARPAN DATA'!J4953","v":0},{"$f":"'SHALA DARPAN DATA'!T4953","v":0},{"$f":"'SHALA DARPAN DATA'!V4953","v":0},{"$f":"'SHALA DARPAN DATA'!K4953","v":0},{"$f":"'SHALA DARPAN DATA'!E4953","v":0},{"$f":"'SHALA DARPAN DATA'!G4953","v":0},{"$f":"'SHALA DARPAN DATA'!H4953","v":0},{"$f":"'SHALA DARPAN DATA'!W4953","v":0},{"$f":"'SHALA DARPAN DATA'!R4953","v":0},{"$f":"'SHALA DARPAN DATA'!S4953","v":0},{"$f":"'SHALA DARPAN DATA'!O4953","v":0},0,0,0,0,0,0,0,0,0,0,0]
[{"$f":"'SHALA DARPAN DATA'!C4954","v":0},{"$f":"'SHALA DARPAN DATA'!A4954","v":0},{"$f":"'SHALA DARPAN DATA'!B4954","v":0},{"$f":"'SHALA DARPAN DATA'!D4954","v":0},{"$f":"'SHALA DARPAN DATA'!J4954","v":0},{"$f":"'SHALA DARPAN DATA'!T4954","v":0},{"$f":"'SHALA DARPAN DATA'!V4954","v":0},{"$f":"'SHALA DARPAN DATA'!K4954","v":0},{"$f":"'SHALA DARPAN DATA'!E4954","v":0},{"$f":"'SHALA DARPAN DATA'!G4954","v":0},{"$f":"'SHALA DARPAN DATA'!H4954","v":0},{"$f":"'SHALA DARPAN DATA'!W4954","v":0},{"$f":"'SHALA DARPAN DATA'!R4954","v":0},{"$f":"'SHALA DARPAN DATA'!S4954","v":0},{"$f":"'SHALA DARPAN DATA'!O4954","v":0},0,0,0,0,0,0,0,0,0,0,0]
[{"$f":"'SHALA DARPAN DATA'!C4955","v":0},{"$f":"'SHALA DARPAN DATA'!A4955","v":0},{"$f":"'SHALA DARPAN DATA'!B4955","v":0},{"$f":"'SHALA DARPAN DATA'!D4955","v":0},{"$f":"'SHALA DARPAN DATA'!J4955","v":0},{"$f":"'SHALA DARPAN DATA'!T4955","v":0},{"$f":"'SHALA DARPAN DATA'!V4955","v":0},{"$f":"'SHALA DARPAN DATA'!K4955","v":0},{"$f":"'SHALA DARPAN DATA'!E4955","v":0},{"$f":"'SHALA DARPAN DATA'!G4955","v":0},{"$f":"'SHALA DARPAN DATA'!H4955","v":0},{"$f":"'SHALA DARPAN DATA'!W4955","v":0},{"$f":"'SHALA DARPAN DATA'!R4955","v":0},{"$f":"'SHALA DARPAN DATA'!S4955","v":0},{"$f":"'SHALA DARPAN DATA'!O4955","v":0},0,0,0,0,0,0,0,0,0,0,0]
[{"$f":"'SHALA DARPAN DATA'!C4956","v":0},{"$f":"'SHALA DARPAN DATA'!A4956","v":0},{"$f":"'SHALA DARPAN DATA'!B4956","v":0},{"$f":"'SHALA DARPAN DATA'!D4956","v":0},{"$f":"'SHALA DARPAN DATA'!J4956","v":0},{"$f":"'SHALA DARPAN DATA'!T4956","v":0},{"$f":"'SHALA DARPAN DATA'!V4956","v":0},{"$f":"'SHALA DARPAN DATA'!K4956","v":0},{"$f":"'SHALA DARPAN DATA'!E4956","v":0},{"$f":"'SHALA DARPAN DATA'!G4956","v":0},{"$f":"'SHALA DARPAN DATA'!H4956","v":0},{"$f":"'SHALA DARPAN DATA'!W4956","v":0},{"$f":"'SHALA DARPAN DATA'!R4956","v":0},{"$f":"'SHALA DARPAN DATA'!S4956","v":0},{"$f":"'SHALA DARPAN DATA'!O4956","v":0},0,0,0,0,0,0,0,0,0,0,0]
[{"$f":"'SHALA DARPAN DATA'!C4957","v":0},{"$f":"'SHALA DARPAN DATA'!A4957","v":0},{"$f":"'SHALA DARPAN DATA'!B4957","v":0},{"$f":"'SHALA DARPAN DATA'!D4957","v":0},{"$f":"'SHALA DARPAN DATA'!J4957","v":0},{"$f":"'SHALA DARPAN DATA'!T4957","v":0},{"$f":"'SHALA DARPAN DATA'!V4957","v":0},{"$f":"'SHALA DARPAN DATA'!K4957","v":0},{"$f":"'SHALA DARPAN DATA'!E4957","v":0},{"$f":"'SHALA DARPAN DATA'!G4957","v":0},{"$f":"'SHALA DARPAN DATA'!H4957","v":0},{"$f":"'SHALA DARPAN DATA'!W4957","v":0},{"$f":"'SHALA DARPAN DATA'!R4957","v":0},{"$f":"'SHALA DARPAN DATA'!S4957","v":0},{"$f":"'SHALA DARPAN DATA'!O4957","v":0},0,0,0,0,0,0,0,0,0,0,0]
[{"$f":"'SHALA DARPAN DATA'!C4958","v":0},{"$f":"'SHALA DARPAN DATA'!A4958","v":0},{"$f":"'SHALA DARPAN DATA'!B4958","v":0},{"$f":"'SHALA DARPAN DATA'!D4958","v":0},{"$f":"'SHALA DARPAN DATA'!J4958","v":0},{"$f":"'SHALA DARPAN DATA'!T4958","v":0},{"$f":"'SHALA DARPAN DATA'!V4958","v":0},{"$f":"'SHALA DARPAN DATA'!K4958","v":0},{"$f":"'SHALA DARPAN DATA'!E4958","v":0},{"$f":"'SHALA DARPAN DATA'!G4958","v":0},{"$f":"'SHALA DARPAN DATA'!H4958","v":0},{"$f":"'SHALA DARPAN DATA'!W4958","v":0},{"$f":"'SHALA DARPAN DATA'!R4958","v":0},{"$f":"'SHALA DARPAN DATA'!S4958","v":0},{"$f":"'SHALA DARPAN DATA'!O4958","v":0},0,0,0,0,0,0,0,0,0,0,0]
[{"$f":"'SHALA DARPAN DATA'!C4959","v":0},{"$f":"'SHALA DARPAN DATA'!A4959","v":0},{"$f":"'SHALA DARPAN DATA'!B4959","v":0},{"$f":"'SHALA DARPAN DATA'!D4959","v":0},{"$f":"'SHALA DARPAN DATA'!J4959","v":0},{"$f":"'SHALA DARPAN DATA'!T4959","v":0},{"$f":"'SHALA DARPAN DATA'!V4959","v":0},{"$f":"'SHALA DARPAN DATA'!K4959","v":0},{"$f":"'SHALA DARPAN DATA'!E4959","v":0},{"$f":"'SHALA DARPAN DATA'!G4959","v":0},{"$f":"'SHALA DARPAN DATA'!H4959","v":0},{"$f":"'SHALA DARPAN DATA'!W4959","v":0},{"$f":"'SHALA DARPAN DATA'!R4959","v":0},{"$f":"'SHALA DARPAN DATA'!S4959","v":0},{"$f":"'SHALA DARPAN DATA'!O4959","v":0},0,0,0,0,0,0,0,0,0,0,0]
[{"$f":"'SHALA DARPAN DATA'!C4960","v":0},{"$f":"'SHALA DARPAN DATA'!A4960","v":0},{"$f":"'SHALA DARPAN DATA'!B4960","v":0},{"$f":"'SHALA DARPAN DATA'!D4960","v":0},{"$f":"'SHALA DARPAN DATA'!J4960","v":0},{"$f":"'SHALA DARPAN DATA'!T4960","v":0},{"$f":"'SHALA DARPAN DATA'!V4960","v":0},{"$f":"'SHALA DARPAN DATA'!K4960","v":0},{"$f":"'SHALA DARPAN DATA'!E4960","v":0},{"$f":"'SHALA DARPAN DATA'!G4960","v":0},{"$f":"'SHALA DARPAN DATA'!H4960","v":0},{"$f":"'SHALA DARPAN DATA'!W4960","v":0},{"$f":"'SHALA DARPAN DATA'!R4960","v":0},{"$f":"'SHALA DARPAN DATA'!S4960","v":0},{"$f":"'SHALA DARPAN DATA'!O4960","v":0},0,0,0,0,0,0,0,0,0,0,0]
[{"$f":"'SHALA DARPAN DATA'!C4961","v":0},{"$f":"'SHALA DARPAN DATA'!A4961","v":0},{"$f":"'SHALA DARPAN DATA'!B4961","v":0},{"$f":"'SHALA DARPAN DATA'!D4961","v":0},{"$f":"'SHALA DARPAN DATA'!J4961","v":0},{"$f":"'SHALA DARPAN DATA'!T4961","v":0},{"$f":"'SHALA DARPAN DATA'!V4961","v":0},{"$f":"'SHALA DARPAN DATA'!K4961","v":0},{"$f":"'SHALA DARPAN DATA'!E4961","v":0},{"$f":"'SHALA DARPAN DATA'!G4961","v":0},{"$f":"'SHALA DARPAN DATA'!H4961","v":0},{"$f":"'SHALA DARPAN DATA'!W4961","v":0},{"$f":"'SHALA DARPAN DATA'!R4961","v":0},{"$f":"'SHALA DARPAN DATA'!S4961","v":0},{"$f":"'SHALA DARPAN DATA'!O4961","v":0},0,0,0,0,0,0,0,0,0,0,0]
[{"$f":"'SHALA DARPAN DATA'!C4962","v":0},{"$f":"'SHALA DARPAN DATA'!A4962","v":0},{"$f":"'SHALA DARPAN DATA'!B4962","v":0},{"$f":"'SHALA DARPAN DATA'!D4962","v":0},{"$f":"'SHALA DARPAN DATA'!J4962","v":0},{"$f":"'SHALA DARPAN DATA'!T4962","v":0},{"$f":"'SHALA DARPAN DATA'!V4962","v":0},{"$f":"'SHALA DARPAN DATA'!K4962","v":0},{"$f":"'SHALA DARPAN DATA'!E4962","v":0},{"$f":"'SHALA DARPAN DATA'!G4962","v":0},{"$f":"'SHALA DARPAN DATA'!H4962","v":0},{"$f":"'SHALA DARPAN DATA'!W4962","v":0},{"$f":"'SHALA DARPAN DATA'!R4962","v":0},{"$f":"'SHALA DARPAN DATA'!S4962","v":0},{"$f":"'SHALA DARPAN DATA'!O4962","v":0},0,0,0,0,0,0,0,0,0,0,0]
[{"$f":"'SHALA DARPAN DATA'!C4963","v":0},{"$f":"'SHALA DARPAN DATA'!A4963","v":0},{"$f":"'SHALA DARPAN DATA'!B4963","v":0},{"$f":"'SHALA DARPAN DATA'!D4963","v":0},{"$f":"'SHALA DARPAN DATA'!J4963","v":0},{"$f":"'SHALA DARPAN DATA'!T4963","v":0},{"$f":"'SHALA DARPAN DATA'!V4963","v":0},{"$f":"'SHALA DARPAN DATA'!K4963","v":0},{"$f":"'SHALA DARPAN DATA'!E4963","v":0},{"$f":"'SHALA DARPAN DATA'!G4963","v":0},{"$f":"'SHALA DARPAN DATA'!H4963","v":0},{"$f":"'SHALA DARPAN DATA'!W4963","v":0},{"$f":"'SHALA DARPAN DATA'!R4963","v":0},{"$f":"'SHALA DARPAN DATA'!S4963","v":0},{"$f":"'SHALA DARPAN DATA'!O4963","v":0},0,0,0,0,0,0,0,0,0,0,0]
[{"$f":"'SHALA DARPAN DATA'!C4964","v":0},{"$f":"'SHALA DARPAN DATA'!A4964","v":0},{"$f":"'SHALA DARPAN DATA'!B4964","v":0},{"$f":"'SHALA DARPAN DATA'!D4964","v":0},{"$f":"'SHALA DARPAN DATA'!J4964","v":0},{"$f":"'SHALA DARPAN DATA'!T4964","v":0},{"$f":"'SHALA DARPAN DATA'!V4964","v":0},{"$f":"'SHALA DARPAN DATA'!K4964","v":0},{"$f":"'SHALA DARPAN DATA'!E4964","v":0},{"$f":"'SHALA DARPAN DATA'!G4964","v":0},{"$f":"'SHALA DARPAN DATA'!H4964","v":0},{"$f":"'SHALA DARPAN DATA'!W4964","v":0},{"$f":"'SHALA DARPAN DATA'!R4964","v":0},{"$f":"'SHALA DARPAN DATA'!S4964","v":0},{"$f":"'SHALA DARPAN DATA'!O4964","v":0},0,0,0,0,0,0,0,0,0,0,0]
[{"$f":"'SHALA DARPAN DATA'!C4965","v":0},{"$f":"'SHALA DARPAN DATA'!A4965","v":0},{"$f":"'SHALA DARPAN DATA'!B4965","v":0},{"$f":"'SHALA DARPAN DATA'!D4965","v":0},{"$f":"'SHALA DARPAN DATA'!J4965","v":0},{"$f":"'SHALA DARPAN DATA'!T4965","v":0},{"$f":"'SHALA DARPAN DATA'!V4965","v":0},{"$f":"'SHALA DARPAN DATA'!K4965","v":0},{"$f":"'SHALA DARPAN DATA'!E4965","v":0},{"$f":"'SHALA DARPAN DATA'!G4965","v":0},{"$f":"'SHALA DARPAN DATA'!H4965","v":0},{"$f":"'SHALA DARPAN DATA'!W4965","v":0},{"$f":"'SHALA DARPAN DATA'!R4965","v":0},{"$f":"'SHALA DARPAN DATA'!S4965","v":0},{"$f":"'SHALA DARPAN DATA'!O4965","v":0},0,0,0,0,0,0,0,0,0,0,0]
[{"$f":"'SHALA DARPAN DATA'!C4966","v":0},{"$f":"'SHALA DARPAN DATA'!A4966","v":0},{"$f":"'SHALA DARPAN DATA'!B4966","v":0},{"$f":"'SHALA DARPAN DATA'!D4966","v":0},{"$f":"'SHALA DARPAN DATA'!J4966","v":0},{"$f":"'SHALA DARPAN DATA'!T4966","v":0},{"$f":"'SHALA DARPAN DATA'!V4966","v":0},{"$f":"'SHALA DARPAN DATA'!K4966","v":0},{"$f":"'SHALA DARPAN DATA'!E4966","v":0},{"$f":"'SHALA DARPAN DATA'!G4966","v":0},{"$f":"'SHALA DARPAN DATA'!H4966","v":0},{"$f":"'SHALA DARPAN DATA'!W4966","v":0},{"$f":"'SHALA DARPAN DATA'!R4966","v":0},{"$f":"'SHALA DARPAN DATA'!S4966","v":0},{"$f":"'SHALA DARPAN DATA'!O4966","v":0},0,0,0,0,0,0,0,0,0,0,0]
[{"$f":"'SHALA DARPAN DATA'!C4967","v":0},{"$f":"'SHALA DARPAN DATA'!A4967","v":0},{"$f":"'SHALA DARPAN DATA'!B4967","v":0},{"$f":"'SHALA DARPAN DATA'!D4967","v":0},{"$f":"'SHALA DARPAN DATA'!J4967","v":0},{"$f":"'SHALA DARPAN DATA'!T4967","v":0},{"$f":"'SHALA DARPAN DATA'!V4967","v":0},{"$f":"'SHALA DARPAN DATA'!K4967","v":0},{"$f":"'SHALA DARPAN DATA'!E4967","v":0},{"$f":"'SHALA DARPAN DATA'!G4967","v":0},{"$f":"'SHALA DARPAN DATA'!H4967","v":0},{"$f":"'SHALA DARPAN DATA'!W4967","v":0},{"$f":"'SHALA DARPAN DATA'!R4967","v":0},{"$f":"'SHALA DARPAN DATA'!S4967","v":0},{"$f":"'SHALA DARPAN DATA'!O4967","v":0},0,0,0,0,0,0,0,0,0,0,0]
[{"$f":"'SHALA DARPAN DATA'!C4968","v":0},{"$f":"'SHALA DARPAN DATA'!A4968","v":0},{"$f":"'SHALA DARPAN DATA'!B4968","v":0},{"$f":"'SHALA DARPAN DATA'!D4968","v":0},{"$f":"'SHALA DARPAN DATA'!J4968","v":0},{"$f":"'SHALA DARPAN DATA'!T4968","v":0},{"$f":"'SHALA DARPAN DATA'!V4968","v":0},{"$f":"'SHALA DARPAN DATA'!K4968","v":0},{"$f":"'SHALA DARPAN DATA'!E4968","v":0},{"$f":"'SHALA DARPAN DATA'!G4968","v":0},{"$f":"'SHALA DARPAN DATA'!H4968","v":0},{"$f":"'SHALA DARPAN DATA'!W4968","v":0},{"$f":"'SHALA DARPAN DATA'!R4968","v":0},{"$f":"'SHALA DARPAN DATA'!S4968","v":0},{"$f":"'SHALA DARPAN DATA'!O4968","v":0},0,0,0,0,0,0,0,0,0,0,0]
[{"$f":"'SHALA DARPAN DATA'!C4969","v":0},{"$f":"'SHALA DARPAN DATA'!A4969","v":0},{"$f":"'SHALA DARPAN DATA'!B4969","v":0},{"$f":"'SHALA DARPAN DATA'!D4969","v":0},{"$f":"'SHALA DARPAN DATA'!J4969","v":0},{"$f":"'SHALA DARPAN DATA'!T4969","v":0},{"$f":"'SHALA DARPAN DATA'!V4969","v":0},{"$f":"'SHALA DARPAN DATA'!K4969","v":0},{"$f":"'SHALA DARPAN DATA'!E4969","v":0},{"$f":"'SHALA DARPAN DATA'!G4969","v":0},{"$f":"'SHALA DARPAN DATA'!H4969","v":0},{"$f":"'SHALA DARPAN DATA'!W4969","v":0},{"$f":"'SHALA DARPAN DATA'!R4969","v":0},{"$f":"'SHALA DARPAN DATA'!S4969","v":0},{"$f":"'SHALA DARPAN DATA'!O4969","v":0},0,0,0,0,0,0,0,0,0,0,0]
[{"$f":"'SHALA DARPAN DATA'!C4970","v":0},{"$f":"'SHALA DARPAN DATA'!A4970","v":0},{"$f":"'SHALA DARPAN DATA'!B4970","v":0},{"$f":"'SHALA DARPAN DATA'!D4970","v":0},{"$f":"'SHALA DARPAN DATA'!J4970","v":0},{"$f":"'SHALA DARPAN DATA'!T4970","v":0},{"$f":"'SHALA DARPAN DATA'!V4970","v":0},{"$f":"'SHALA DARPAN DATA'!K4970","v":0},{"$f":"'SHALA DARPAN DATA'!E4970","v":0},{"$f":"'SHALA DARPAN DATA'!G4970","v":0},{"$f":"'SHALA DARPAN DATA'!H4970","v":0},{"$f":"'SHALA DARPAN DATA'!W4970","v":0},{"$f":"'SHALA DARPAN DATA'!R4970","v":0},{"$f":"'SHALA DARPAN DATA'!S4970","v":0},{"$f":"'SHALA DARPAN DATA'!O4970","v":0},0,0,0,0,0,0,0,0,0,0,0]
[{"$f":"'SHALA DARPAN DATA'!C4971","v":0},{"$f":"'SHALA DARPAN DATA'!A4971","v":0},{"$f":"'SHALA DARPAN DATA'!B4971","v":0},{"$f":"'SHALA DARPAN DATA'!D4971","v":0},{"$f":"'SHALA DARPAN DATA'!J4971","v":0},{"$f":"'SHALA DARPAN DATA'!T4971","v":0},{"$f":"'SHALA DARPAN DATA'!V4971","v":0},{"$f":"'SHALA DARPAN DATA'!K4971","v":0},{"$f":"'SHALA DARPAN DATA'!E4971","v":0},{"$f":"'SHALA DARPAN DATA'!G4971","v":0},{"$f":"'SHALA DARPAN DATA'!H4971","v":0},{"$f":"'SHALA DARPAN DATA'!W4971","v":0},{"$f":"'SHALA DARPAN DATA'!R4971","v":0},{"$f":"'SHALA DARPAN DATA'!S4971","v":0},{"$f":"'SHALA DARPAN DATA'!O4971","v":0},0,0,0,0,0,0,0,0,0,0,0]
[{"$f":"'SHALA DARPAN DATA'!C4972","v":0},{"$f":"'SHALA DARPAN DATA'!A4972","v":0},{"$f":"'SHALA DARPAN DATA'!B4972","v":0},{"$f":"'SHALA DARPAN DATA'!D4972","v":0},{"$f":"'SHALA DARPAN DATA'!J4972","v":0},{"$f":"'SHALA DARPAN DATA'!T4972","v":0},{"$f":"'SHALA DARPAN DATA'!V4972","v":0},{"$f":"'SHALA DARPAN DATA'!K4972","v":0},{"$f":"'SHALA DARPAN DATA'!E4972","v":0},{"$f":"'SHALA DARPAN DATA'!G4972","v":0},{"$f":"'SHALA DARPAN DATA'!H4972","v":0},{"$f":"'SHALA DARPAN DATA'!W4972","v":0},{"$f":"'SHALA DARPAN DATA'!R4972","v":0},{"$f":"'SHALA DARPAN DATA'!S4972","v":0},{"$f":"'SHALA DARPAN DATA'!O4972","v":0},0,0,0,0,0,0,0,0,0,0,0]
[{"$f":"'SHALA DARPAN DATA'!C4973","v":0},{"$f":"'SHALA DARPAN DATA'!A4973","v":0},{"$f":"'SHALA DARPAN DATA'!B4973","v":0},{"$f":"'SHALA DARPAN DATA'!D4973","v":0},{"$f":"'SHALA DARPAN DATA'!J4973","v":0},{"$f":"'SHALA DARPAN DATA'!T4973","v":0},{"$f":"'SHALA DARPAN DATA'!V4973","v":0},{"$f":"'SHALA DARPAN DATA'!K4973","v":0},{"$f":"'SHALA DARPAN DATA'!E4973","v":0},{"$f":"'SHALA DARPAN DATA'!G4973","v":0},{"$f":"'SHALA DARPAN DATA'!H4973","v":0},{"$f":"'SHALA DARPAN DATA'!W4973","v":0},{"$f":"'SHALA DARPAN DATA'!R4973","v":0},{"$f":"'SHALA DARPAN DATA'!S4973","v":0},{"$f":"'SHALA DARPAN DATA'!O4973","v":0},0,0,0,0,0,0,0,0,0,0,0]
[{"$f":"'SHALA DARPAN DATA'!C4974","v":0},{"$f":"'SHALA DARPAN DATA'!A4974","v":0},{"$f":"'SHALA DARPAN DATA'!B4974","v":0},{"$f":"'SHALA DARPAN DATA'!D4974","v":0},{"$f":"'SHALA DARPAN DATA'!J4974","v":0},{"$f":"'SHALA DARPAN DATA'!T4974","v":0},{"$f":"'SHALA DARPAN DATA'!V4974","v":0},{"$f":"'SHALA DARPAN DATA'!K4974","v":0},{"$f":"'SHALA DARPAN DATA'!E4974","v":0},{"$f":"'SHALA DARPAN DATA'!G4974","v":0},{"$f":"'SHALA DARPAN DATA'!H4974","v":0},{"$f":"'SHALA DARPAN DATA'!W4974","v":0},{"$f":"'SHALA DARPAN DATA'!R4974","v":0},{"$f":"'SHALA DARPAN DATA'!S4974","v":0},{"$f":"'SHALA DARPAN DATA'!O4974","v":0},0,0,0,0,0,0,0,0,0,0,0]
[{"$f":"'SHALA DARPAN DATA'!C4975","v":0},{"$f":"'SHALA DARPAN DATA'!A4975","v":0},{"$f":"'SHALA DARPAN DATA'!B4975","v":0},{"$f":"'SHALA DARPAN DATA'!D4975","v":0},{"$f":"'SHALA DARPAN DATA'!J4975","v":0},{"$f":"'SHALA DARPAN DATA'!T4975","v":0},{"$f":"'SHALA DARPAN DATA'!V4975","v":0},{"$f":"'SHALA DARPAN DATA'!K4975","v":0},{"$f":"'SHALA DARPAN DATA'!E4975","v":0},{"$f":"'SHALA DARPAN DATA'!G4975","v":0},{"$f":"'SHALA DARPAN DATA'!H4975","v":0},{"$f":"'SHALA DARPAN DATA'!W4975","v":0},{"$f":"'SHALA DARPAN DATA'!R4975","v":0},{"$f":"'SHALA DARPAN DATA'!S4975","v":0},{"$f":"'SHALA DARPAN DATA'!O4975","v":0},0,0,0,0,0,0,0,0,0,0,0]
[{"$f":"'SHALA DARPAN DATA'!C4976","v":0},{"$f":"'SHALA DARPAN DATA'!A4976","v":0},{"$f":"'SHALA DARPAN DATA'!B4976","v":0},{"$f":"'SHALA DARPAN DATA'!D4976","v":0},{"$f":"'SHALA DARPAN DATA'!J4976","v":0},{"$f":"'SHALA DARPAN DATA'!T4976","v":0},{"$f":"'SHALA DARPAN DATA'!V4976","v":0},{"$f":"'SHALA DARPAN DATA'!K4976","v":0},{"$f":"'SHALA DARPAN DATA'!E4976","v":0},{"$f":"'SHALA DARPAN DATA'!G4976","v":0},{"$f":"'SHALA DARPAN DATA'!H4976","v":0},{"$f":"'SHALA DARPAN DATA'!W4976","v":0},{"$f":"'SHALA DARPAN DATA'!R4976","v":0},{"$f":"'SHALA DARPAN DATA'!S4976","v":0},{"$f":"'SHALA DARPAN DATA'!O4976","v":0},0,0,0,0,0,0,0,0,0,0,0]
[{"$f":"'SHALA DARPAN DATA'!C4977","v":0},{"$f":"'SHALA DARPAN DATA'!A4977","v":0},{"$f":"'SHALA DARPAN DATA'!B4977","v":0},{"$f":"'SHALA DARPAN DATA'!D4977","v":0},{"$f":"'SHALA DARPAN DATA'!J4977","v":0},{"$f":"'SHALA DARPAN DATA'!T4977","v":0},{"$f":"'SHALA DARPAN DATA'!V4977","v":0},{"$f":"'SHALA DARPAN DATA'!K4977","v":0},{"$f":"'SHALA DARPAN DATA'!E4977","v":0},{"$f":"'SHALA DARPAN DATA'!G4977","v":0},{"$f":"'SHALA DARPAN DATA'!H4977","v":0},{"$f":"'SHALA DARPAN DATA'!W4977","v":0},{"$f":"'SHALA DARPAN DATA'!R4977","v":0},{"$f":"'SHALA DARPAN DATA'!S4977","v":0},{"$f":"'SHALA DARPAN DATA'!O4977","v":0},0,0,0,0,0,0,0,0,0,0,0]
[{"$f":"'SHALA DARPAN DATA'!C4978","v":0},{"$f":"'SHALA DARPAN DATA'!A4978","v":0},{"$f":"'SHALA DARPAN DATA'!B4978","v":0},{"$f":"'SHALA DARPAN DATA'!D4978","v":0},{"$f":"'SHALA DARPAN DATA'!J4978","v":0},{"$f":"'SHALA DARPAN DATA'!T4978","v":0},{"$f":"'SHALA DARPAN DATA'!V4978","v":0},{"$f":"'SHALA DARPAN DATA'!K4978","v":0},{"$f":"'SHALA DARPAN DATA'!E4978","v":0},{"$f":"'SHALA DARPAN DATA'!G4978","v":0},{"$f":"'SHALA DARPAN DATA'!H4978","v":0},{"$f":"'SHALA DARPAN DATA'!W4978","v":0},{"$f":"'SHALA DARPAN DATA'!R4978","v":0},{"$f":"'SHALA DARPAN DATA'!S4978","v":0},{"$f":"'SHALA DARPAN DATA'!O4978","v":0},0,0,0,0,0,0,0,0,0,0,0]
[{"$f":"'SHALA DARPAN DATA'!C4979","v":0},{"$f":"'SHALA DARPAN DATA'!A4979","v":0},{"$f":"'SHALA DARPAN DATA'!B4979","v":0},{"$f":"'SHALA DARPAN DATA'!D4979","v":0},{"$f":"'SHALA DARPAN DATA'!J4979","v":0},{"$f":"'SHALA DARPAN DATA'!T4979","v":0},{"$f":"'SHALA DARPAN DATA'!V4979","v":0},{"$f":"'SHALA DARPAN DATA'!K4979","v":0},{"$f":"'SHALA DARPAN DATA'!E4979","v":0},{"$f":"'SHALA DARPAN DATA'!G4979","v":0},{"$f":"'SHALA DARPAN DATA'!H4979","v":0},{"$f":"'SHALA DARPAN DATA'!W4979","v":0},{"$f":"'SHALA DARPAN DATA'!R4979","v":0},{"$f":"'SHALA DARPAN DATA'!S4979","v":0},{"$f":"'SHALA DARPAN DATA'!O4979","v":0},0,0,0,0,0,0,0,0,0,0,0]
[{"$f":"'SHALA DARPAN DATA'!C4980","v":0},{"$f":"'SHALA DARPAN DATA'!A4980","v":0},{"$f":"'SHALA DARPAN DATA'!B4980","v":0},{"$f":"'SHALA DARPAN DATA'!D4980","v":0},{"$f":"'SHALA DARPAN DATA'!J4980","v":0},{"$f":"'SHALA DARPAN DATA'!T4980","v":0},{"$f":"'SHALA DARPAN DATA'!V4980","v":0},{"$f":"'SHALA DARPAN DATA'!K4980","v":0},{"$f":"'SHALA DARPAN DATA'!E4980","v":0},{"$f":"'SHALA DARPAN DATA'!G4980","v":0},{"$f":"'SHALA DARPAN DATA'!H4980","v":0},{"$f":"'SHALA DARPAN DATA'!W4980","v":0},{"$f":"'SHALA DARPAN DATA'!R4980","v":0},{"$f":"'SHALA DARPAN DATA'!S4980","v":0},{"$f":"'SHALA DARPAN DATA'!O4980","v":0},0,0,0,0,0,0,0,0,0,0,0]
[{"$f":"'SHALA DARPAN DATA'!C4981","v":0},{"$f":"'SHALA DARPAN DATA'!A4981","v":0},{"$f":"'SHALA DARPAN DATA'!B4981","v":0},{"$f":"'SHALA DARPAN DATA'!D4981","v":0},{"$f":"'SHALA DARPAN DATA'!J4981","v":0},{"$f":"'SHALA DARPAN DATA'!T4981","v":0},{"$f":"'SHALA DARPAN DATA'!V4981","v":0},{"$f":"'SHALA DARPAN DATA'!K4981","v":0},{"$f":"'SHALA DARPAN DATA'!E4981","v":0},{"$f":"'SHALA DARPAN DATA'!G4981","v":0},{"$f":"'SHALA DARPAN DATA'!H4981","v":0},{"$f":"'SHALA DARPAN DATA'!W4981","v":0},{"$f":"'SHALA DARPAN DATA'!R4981","v":0},{"$f":"'SHALA DARPAN DATA'!S4981","v":0},{"$f":"'SHALA DARPAN DATA'!O4981","v":0},0,0,0,0,0,0,0,0,0,0,0]
[{"$f":"'SHALA DARPAN DATA'!C4982","v":0},{"$f":"'SHALA DARPAN DATA'!A4982","v":0},{"$f":"'SHALA DARPAN DATA'!B4982","v":0},{"$f":"'SHALA DARPAN DATA'!D4982","v":0},{"$f":"'SHALA DARPAN DATA'!J4982","v":0},{"$f":"'SHALA DARPAN DATA'!T4982","v":0},{"$f":"'SHALA DARPAN DATA'!V4982","v":0},{"$f":"'SHALA DARPAN DATA'!K4982","v":0},{"$f":"'SHALA DARPAN DATA'!E4982","v":0},{"$f":"'SHALA DARPAN DATA'!G4982","v":0},{"$f":"'SHALA DARPAN DATA'!H4982","v":0},{"$f":"'SHALA DARPAN DATA'!W4982","v":0},{"$f":"'SHALA DARPAN DATA'!R4982","v":0},{"$f":"'SHALA DARPAN DATA'!S4982","v":0},{"$f":"'SHALA DARPAN DATA'!O4982","v":0},0,0,0,0,0,0,0,0,0,0,0]
[{"$f":"'SHALA DARPAN DATA'!C4983","v":0},{"$f":"'SHALA DARPAN DATA'!A4983","v":0},{"$f":"'SHALA DARPAN DATA'!B4983","v":0},{"$f":"'SHALA DARPAN DATA'!D4983","v":0},{"$f":"'SHALA DARPAN DATA'!J4983","v":0},{"$f":"'SHALA DARPAN DATA'!T4983","v":0},{"$f":"'SHALA DARPAN DATA'!V4983","v":0},{"$f":"'SHALA DARPAN DATA'!K4983","v":0},{"$f":"'SHALA DARPAN DATA'!E4983","v":0},{"$f":"'SHALA DARPAN DATA'!G4983","v":0},{"$f":"'SHALA DARPAN DATA'!H4983","v":0},{"$f":"'SHALA DARPAN DATA'!W4983","v":0},{"$f":"'SHALA DARPAN DATA'!R4983","v":0},{"$f":"'SHALA DARPAN DATA'!S4983","v":0},{"$f":"'SHALA DARPAN DATA'!O4983","v":0},0,0,0,0,0,0,0,0,0,0,0]
[{"$f":"'SHALA DARPAN DATA'!C4984","v":0},{"$f":"'SHALA DARPAN DATA'!A4984","v":0},{"$f":"'SHALA DARPAN DATA'!B4984","v":0},{"$f":"'SHALA DARPAN DATA'!D4984","v":0},{"$f":"'SHALA DARPAN DATA'!J4984","v":0},{"$f":"'SHALA DARPAN DATA'!T4984","v":0},{"$f":"'SHALA DARPAN DATA'!V4984","v":0},{"$f":"'SHALA DARPAN DATA'!K4984","v":0},{"$f":"'SHALA DARPAN DATA'!E4984","v":0},{"$f":"'SHALA DARPAN DATA'!G4984","v":0},{"$f":"'SHALA DARPAN DATA'!H4984","v":0},{"$f":"'SHALA DARPAN DATA'!W4984","v":0},{"$f":"'SHALA DARPAN DATA'!R4984","v":0},{"$f":"'SHALA DARPAN DATA'!S4984","v":0},{"$f":"'SHALA DARPAN DATA'!O4984","v":0},0,0,0,0,0,0,0,0,0,0,0]
[{"$f":"'SHALA DARPAN DATA'!C4985","v":0},{"$f":"'SHALA DARPAN DATA'!A4985","v":0},{"$f":"'SHALA DARPAN DATA'!B4985","v":0},{"$f":"'SHALA DARPAN DATA'!D4985","v":0},{"$f":"'SHALA DARPAN DATA'!J4985","v":0},{"$f":"'SHALA DARPAN DATA'!T4985","v":0},{"$f":"'SHALA DARPAN DATA'!V4985","v":0},{"$f":"'SHALA DARPAN DATA'!K4985","v":0},{"$f":"'SHALA DARPAN DATA'!E4985","v":0},{"$f":"'SHALA DARPAN DATA'!G4985","v":0},{"$f":"'SHALA DARPAN DATA'!H4985","v":0},{"$f":"'SHALA DARPAN DATA'!W4985","v":0},{"$f":"'SHALA DARPAN DATA'!R4985","v":0},{"$f":"'SHALA DARPAN DATA'!S4985","v":0},{"$f":"'SHALA DARPAN DATA'!O4985","v":0},0,0,0,0,0,0,0,0,0,0,0]
[{"$f":"'SHALA DARPAN DATA'!C4986","v":0},{"$f":"'SHALA DARPAN DATA'!A4986","v":0},{"$f":"'SHALA DARPAN DATA'!B4986","v":0},{"$f":"'SHALA DARPAN DATA'!D4986","v":0},{"$f":"'SHALA DARPAN DATA'!J4986","v":0},{"$f":"'SHALA DARPAN DATA'!T4986","v":0},{"$f":"'SHALA DARPAN DATA'!V4986","v":0},{"$f":"'SHALA DARPAN DATA'!K4986","v":0},{"$f":"'SHALA DARPAN DATA'!E4986","v":0},{"$f":"'SHALA DARPAN DATA'!G4986","v":0},{"$f":"'SHALA DARPAN DATA'!H4986","v":0},{"$f":"'SHALA DARPAN DATA'!W4986","v":0},{"$f":"'SHALA DARPAN DATA'!R4986","v":0},{"$f":"'SHALA DARPAN DATA'!S4986","v":0},{"$f":"'SHALA DARPAN DATA'!O4986","v":0},0,0,0,0,0,0,0,0,0,0,0]
[{"$f":"'SHALA DARPAN DATA'!C4987","v":0},{"$f":"'SHALA DARPAN DATA'!A4987","v":0},{"$f":"'SHALA DARPAN DATA'!B4987","v":0},{"$f":"'SHALA DARPAN DATA'!D4987","v":0},{"$f":"'SHALA DARPAN DATA'!J4987","v":0},{"$f":"'SHALA DARPAN DATA'!T4987","v":0},{"$f":"'SHALA DARPAN DATA'!V4987","v":0},{"$f":"'SHALA DARPAN DATA'!K4987","v":0},{"$f":"'SHALA DARPAN DATA'!E4987","v":0},{"$f":"'SHALA DARPAN DATA'!G4987","v":0},{"$f":"'SHALA DARPAN DATA'!H4987","v":0},{"$f":"'SHALA DARPAN DATA'!W4987","v":0},{"$f":"'SHALA DARPAN DATA'!R4987","v":0},{"$f":"'SHALA DARPAN DATA'!S4987","v":0},{"$f":"'SHALA DARPAN DATA'!O4987","v":0},0,0,0,0,0,0,0,0,0,0,0]
[{"$f":"'SHALA DARPAN DATA'!C4988","v":0},{"$f":"'SHALA DARPAN DATA'!A4988","v":0},{"$f":"'SHALA DARPAN DATA'!B4988","v":0},{"$f":"'SHALA DARPAN DATA'!D4988","v":0},{"$f":"'SHALA DARPAN DATA'!J4988","v":0},{"$f":"'SHALA DARPAN DATA'!T4988","v":0},{"$f":"'SHALA DARPAN DATA'!V4988","v":0},{"$f":"'SHALA DARPAN DATA'!K4988","v":0},{"$f":"'SHALA DARPAN DATA'!E4988","v":0},{"$f":"'SHALA DARPAN DATA'!G4988","v":0},{"$f":"'SHALA DARPAN DATA'!H4988","v":0},{"$f":"'SHALA DARPAN DATA'!W4988","v":0},{"$f":"'SHALA DARPAN DATA'!R4988","v":0},{"$f":"'SHALA DARPAN DATA'!S4988","v":0},{"$f":"'SHALA DARPAN DATA'!O4988","v":0},0,0,0,0,0,0,0,0,0,0,0]
[{"$f":"'SHALA DARPAN DATA'!C4989","v":0},{"$f":"'SHALA DARPAN DATA'!A4989","v":0},{"$f":"'SHALA DARPAN DATA'!B4989","v":0},{"$f":"'SHALA DARPAN DATA'!D4989","v":0},{"$f":"'SHALA DARPAN DATA'!J4989","v":0},{"$f":"'SHALA DARPAN DATA'!T4989","v":0},{"$f":"'SHALA DARPAN DATA'!V4989","v":0},{"$f":"'SHALA DARPAN DATA'!K4989","v":0},{"$f":"'SHALA DARPAN DATA'!E4989","v":0},{"$f":"'SHALA DARPAN DATA'!G4989","v":0},{"$f":"'SHALA DARPAN DATA'!H4989","v":0},{"$f":"'SHALA DARPAN DATA'!W4989","v":0},{"$f":"'SHALA DARPAN DATA'!R4989","v":0},{"$f":"'SHALA DARPAN DATA'!S4989","v":0},{"$f":"'SHALA DARPAN DATA'!O4989","v":0},0,0,0,0,0,0,0,0,0,0,0]
[{"$f":"'SHALA DARPAN DATA'!C4990","v":0},{"$f":"'SHALA DARPAN DATA'!A4990","v":0},{"$f":"'SHALA DARPAN DATA'!B4990","v":0},{"$f":"'SHALA DARPAN DATA'!D4990","v":0},{"$f":"'SHALA DARPAN DATA'!J4990","v":0},{"$f":"'SHALA DARPAN DATA'!T4990","v":0},{"$f":"'SHALA DARPAN DATA'!V4990","v":0},{"$f":"'SHALA DARPAN DATA'!K4990","v":0},{"$f":"'SHALA DARPAN DATA'!E4990","v":0},{"$f":"'SHALA DARPAN DATA'!G4990","v":0},{"$f":"'SHALA DARPAN DATA'!H4990","v":0},{"$f":"'SHALA DARPAN DATA'!W4990","v":0},{"$f":"'SHALA DARPAN DATA'!R4990","v":0},{"$f":"'SHALA DARPAN DATA'!S4990","v":0},{"$f":"'SHALA DARPAN DATA'!O4990","v":0},0,0,0,0,0,0,0,0,0,0,0]
[{"$f":"'SHALA DARPAN DATA'!C4991","v":0},{"$f":"'SHALA DARPAN DATA'!A4991","v":0},{"$f":"'SHALA DARPAN DATA'!B4991","v":0},{"$f":"'SHALA DARPAN DATA'!D4991","v":0},{"$f":"'SHALA DARPAN DATA'!J4991","v":0},{"$f":"'SHALA DARPAN DATA'!T4991","v":0},{"$f":"'SHALA DARPAN DATA'!V4991","v":0},{"$f":"'SHALA DARPAN DATA'!K4991","v":0},{"$f":"'SHALA DARPAN DATA'!E4991","v":0},{"$f":"'SHALA DARPAN DATA'!G4991","v":0},{"$f":"'SHALA DARPAN DATA'!H4991","v":0},{"$f":"'SHALA DARPAN DATA'!W4991","v":0},{"$f":"'SHALA DARPAN DATA'!R4991","v":0},{"$f":"'SHALA DARPAN DATA'!S4991","v":0},{"$f":"'SHALA DARPAN DATA'!O4991","v":0},0,0,0,0,0,0,0,0,0,0,0]
[{"$f":"'SHALA DARPAN DATA'!C4992","v":0},{"$f":"'SHALA DARPAN DATA'!A4992","v":0},{"$f":"'SHALA DARPAN DATA'!B4992","v":0},{"$f":"'SHALA DARPAN DATA'!D4992","v":0},{"$f":"'SHALA DARPAN DATA'!J4992","v":0},{"$f":"'SHALA DARPAN DATA'!T4992","v":0},{"$f":"'SHALA DARPAN DATA'!V4992","v":0},{"$f":"'SHALA DARPAN DATA'!K4992","v":0},{"$f":"'SHALA DARPAN DATA'!E4992","v":0},{"$f":"'SHALA DARPAN DATA'!G4992","v":0},{"$f":"'SHALA DARPAN DATA'!H4992","v":0},{"$f":"'SHALA DARPAN DATA'!W4992","v":0},{"$f":"'SHALA DARPAN DATA'!R4992","v":0},{"$f":"'SHALA DARPAN DATA'!S4992","v":0},{"$f":"'SHALA DARPAN DATA'!O4992","v":0},0,0,0,0,0,0,0,0,0,0,0]
[{"$f":"'SHALA DARPAN DATA'!C4993","v":0},{"$f":"'SHALA DARPAN DATA'!A4993","v":0},{"$f":"'SHALA DARPAN DATA'!B4993","v":0},{"$f":"'SHALA DARPAN DATA'!D4993","v":0},{"$f":"'SHALA DARPAN DATA'!J4993","v":0},{"$f":"'SHALA DARPAN DATA'!T4993","v":0},{"$f":"'SHALA DARPAN DATA'!V4993","v":0},{"$f":"'SHALA DARPAN DATA'!K4993","v":0},{"$f":"'SHALA DARPAN DATA'!E4993","v":0},{"$f":"'SHALA DARPAN DATA'!G4993","v":0},{"$f":"'SHALA DARPAN DATA'!H4993","v":0},{"$f":"'SHALA DARPAN DATA'!W4993","v":0},{"$f":"'SHALA DARPAN DATA'!R4993","v":0},{"$f":"'SHALA DARPAN DATA'!S4993","v":0},{"$f":"'SHALA DARPAN DATA'!O4993","v":0},0,0,0,0,0,0,0,0,0,0,0]
[{"$f":"'SHALA DARPAN DATA'!C4994","v":0},{"$f":"'SHALA DARPAN DATA'!A4994","v":0},{"$f":"'SHALA DARPAN DATA'!B4994","v":0},{"$f":"'SHALA DARPAN DATA'!D4994","v":0},{"$f":"'SHALA DARPAN DATA'!J4994","v":0},{"$f":"'SHALA DARPAN DATA'!T4994","v":0},{"$f":"'SHALA DARPAN DATA'!V4994","v":0},{"$f":"'SHALA DARPAN DATA'!K4994","v":0},{"$f":"'SHALA DARPAN DATA'!E4994","v":0},{"$f":"'SHALA DARPAN DATA'!G4994","v":0},{"$f":"'SHALA DARPAN DATA'!H4994","v":0},{"$f":"'SHALA DARPAN DATA'!W4994","v":0},{"$f":"'SHALA DARPAN DATA'!R4994","v":0},{"$f":"'SHALA DARPAN DATA'!S4994","v":0},{"$f":"'SHALA DARPAN DATA'!O4994","v":0},0,0,0,0,0,0,0,0,0,0,0]
[{"$f":"'SHALA DARPAN DATA'!C4995","v":0},{"$f":"'SHALA DARPAN DATA'!A4995","v":0},{"$f":"'SHALA DARPAN DATA'!B4995","v":0},{"$f":"'SHALA DARPAN DATA'!D4995","v":0},{"$f":"'SHALA DARPAN DATA'!J4995","v":0},{"$f":"'SHALA DARPAN DATA'!T4995","v":0},{"$f":"'SHALA DARPAN DATA'!V4995","v":0},{"$f":"'SHALA DARPAN DATA'!K4995","v":0},{"$f":"'SHALA DARPAN DATA'!E4995","v":0},{"$f":"'SHALA DARPAN DATA'!G4995","v":0},{"$f":"'SHALA DARPAN DATA'!H4995","v":0},{"$f":"'SHALA DARPAN DATA'!W4995","v":0},{"$f":"'SHALA DARPAN DATA'!R4995","v":0},{"$f":"'SHALA DARPAN DATA'!S4995","v":0},{"$f":"'SHALA DARPAN DATA'!O4995","v":0},0,0,0,0,0,0,0,0,0,0,0]
[{"$f":"'SHALA DARPAN DATA'!C4996","v":0},{"$f":"'SHALA DARPAN DATA'!A4996","v":0},{"$f":"'SHALA DARPAN DATA'!B4996","v":0},{"$f":"'SHALA DARPAN DATA'!D4996","v":0},{"$f":"'SHALA DARPAN DATA'!J4996","v":0},{"$f":"'SHALA DARPAN DATA'!T4996","v":0},{"$f":"'SHALA DARPAN DATA'!V4996","v":0},{"$f":"'SHALA DARPAN DATA'!K4996","v":0},{"$f":"'SHALA DARPAN DATA'!E4996","v":0},{"$f":"'SHALA DARPAN DATA'!G4996","v":0},{"$f":"'SHALA DARPAN DATA'!H4996","v":0},{"$f":"'SHALA DARPAN DATA'!W4996","v":0},{"$f":"'SHALA DARPAN DATA'!R4996","v":0},{"$f":"'SHALA DARPAN DATA'!S4996","v":0},{"$f":"'SHALA DARPAN DATA'!O4996","v":0},0,0,0,0,0,0,0,0,0,0,0]
[{"$f":"'SHALA DARPAN DATA'!C4997","v":0},{"$f":"'SHALA DARPAN DATA'!A4997","v":0},{"$f":"'SHALA DARPAN DATA'!B4997","v":0},{"$f":"'SHALA DARPAN DATA'!D4997","v":0},{"$f":"'SHALA DARPAN DATA'!J4997","v":0},{"$f":"'SHALA DARPAN DATA'!T4997","v":0},{"$f":"'SHALA DARPAN DATA'!V4997","v":0},{"$f":"'SHALA DARPAN DATA'!K4997","v":0},{"$f":"'SHALA DARPAN DATA'!E4997","v":0},{"$f":"'SHALA DARPAN DATA'!G4997","v":0},{"$f":"'SHALA DARPAN DATA'!H4997","v":0},{"$f":"'SHALA DARPAN DATA'!W4997","v":0},{"$f":"'SHALA DARPAN DATA'!R4997","v":0},{"$f":"'SHALA DARPAN DATA'!S4997","v":0},{"$f":"'SHALA DARPAN DATA'!O4997","v":0},0,0,0,0,0,0,0,0,0,0,0]
[{"$f":"'SHALA DARPAN DATA'!C4998","v":0},{"$f":"'SHALA DARPAN DATA'!A4998","v":0},{"$f":"'SHALA DARPAN DATA'!B4998","v":0},{"$f":"'SHALA DARPAN DATA'!D4998","v":0},{"$f":"'SHALA DARPAN DATA'!J4998","v":0},{"$f":"'SHALA DARPAN DATA'!T4998","v":0},{"$f":"'SHALA DARPAN DATA'!V4998","v":0},{"$f":"'SHALA DARPAN DATA'!K4998","v":0},{"$f":"'SHALA DARPAN DATA'!E4998","v":0},{"$f":"'SHALA DARPAN DATA'!G4998","v":0},{"$f":"'SHALA DARPAN DATA'!H4998","v":0},{"$f":"'SHALA DARPAN DATA'!W4998","v":0},{"$f":"'SHALA DARPAN DATA'!R4998","v":0},{"$f":"'SHALA DARPAN DATA'!S4998","v":0},{"$f":"'SHALA DARPAN DATA'!O4998","v":0},0,0,0,0,0,0,0,0,0,0,0]
[{"$f":"'SHALA DARPAN DATA'!C4999","v":0},{"$f":"'SHALA DARPAN DATA'!A4999","v":0},{"$f":"'SHALA DARPAN DATA'!B4999","v":0},{"$f":"'SHALA DARPAN DATA'!D4999","v":0},{"$f":"'SHALA DARPAN DATA'!J4999","v":0},{"$f":"'SHALA DARPAN DATA'!T4999","v":0},{"$f":"'SHALA DARPAN DATA'!V4999","v":0},{"$f":"'SHALA DARPAN DATA'!K4999","v":0},{"$f":"'SHALA DARPAN DATA'!E4999","v":0},{"$f":"'SHALA DARPAN DATA'!G4999","v":0},{"$f":"'SHALA DARPAN DATA'!H4999","v":0},{"$f":"'SHALA DARPAN DATA'!W4999","v":0},{"$f":"'SHALA DARPAN DATA'!R4999","v":0},{"$f":"'SHALA DARPAN DATA'!S4999","v":0},{"$f":"'SHALA DARPAN DATA'!O4999","v":0},0,0,0,0,0,0,0,0,0,0,0]
[{"$f":"'SHALA DARPAN DATA'!C5000","v":0},{"$f":"'SHALA DARPAN DATA'!A5000","v":0},{"$f":"'SHALA DARPAN DATA'!B5000","v":0},{"$f":"'SHALA DARPAN DATA'!D5000","v":0},{"$f":"'SHALA DARPAN DATA'!J5000","v":0},{"$f":"'SHALA DARPAN DATA'!T5000","v":0},{"$f":"'SHALA DARPAN DATA'!V5000","v":0},{"$f":"'SHALA DARPAN DATA'!K5000","v":0},{"$f":"'SHALA DARPAN DATA'!E5000","v":0},{"$f":"'SHALA DARPAN DATA'!G5000","v":0},{"$f":"'SHALA DARPAN DATA'!H5000","v":0},{"$f":"'SHALA DARPAN DATA'!W5000","v":0},{"$f":"'SHALA DARPAN DATA'!R5000","v":0},{"$f":"'SHALA DARPAN DATA'!S5000","v":0},{"$f":"'SHALA DARPAN DATA'!O5000","v":0},0,0,0,0,0,0,0,0,0,0,0]

{"sheet":"letter of consent","index":4,"n_rows":56,"n_cols":13,"rows_kept":56,"cut":false,"hidden":false,"merged":[[17,11,17,12],[26,2,26,9],[8,5,8,6],[9,5,9,6],[24,3,24,5],[10,2,10,7],[10,8,10,10],[5,1,5,12],[6,1,6,12],[7,5,7,6],[7,8,7,9],[16,2,16,12],[59,2,59,3],[59,4,59,5],[59,7,59,8],[59,11,59,12],[54,10,54,12],[54,2,54,9],[39,2,39,5],[40,10,40,12],[44,2,44,12],[45,11,45,12],[46,3,46,5],[46,7,46,9],[40,2,40,9],[56,2,56,3],[56,4,57,9],[56,10,56,12],[52,3,52,5],[53,2,53,5],[18,3,18,5],[18,7,18,9],[25,2,25,5],[26,10,26,12],[38,3,38,5],[30,2,30,12],[31,11,31,12],[32,3,32,5],[32,7,32,9]]}
[]
[]
[]
[]
[]
[null,{"$f":"[1]PROFILE!E4","v":"Ravi Jakhar +918696666604"}]
[null,"Scholar Register No. Of three students"]
[null,null,null,null,null,5437]
[null,null,null,null,null,5437]
[null,null,null,null,null,5437]
[null,null,"दिनांक (जिससे सहमति लेनी है)-",null,null,null,null,null,"2021-09-01"]
[]
[]
[]
[]
[]
[null,null,":- अभिभावक सहमति पत्र :- "]
[null,null,null,null,"  श्रीमान प्रधानाचार्य/प्रधानाध्यापक/संस्था प्रधान महोदय में छात्र/छात्रा-",null,null,null,null,null,null,{"$f":"VLOOKUP(F8,'.'!1:1048576,9,0)","v":{"$error":"#N/A"}}]
[null,null,"पिता/अभिभावक ",{"$f":"VLOOKUP(F8,'.'!1:1048576,10,0)","v":{"$error":"#N/A"}},null,null,"माता-",{"$f":"VLOOKUP(F8,'.'!1:1048576,11,0)","v":{"$error":"#N/A"}},null,null,"कक्षा-",{"$f":"VLOOKUP(F8,'.'!1:1048576,2,0)","v":{"$error":"#N/A"}},"को दिनांक "]
[null,null,{"$f":"I11","v":"2021-09-01"},"से नियमित रूप से अध्ययन हेतु विद्यालय भिजवाने की सहमति देता हूँ/देती हूँ !"]
[null,null,null,"में अभिभावक के रूप में विश्वास दिलाता/दिलाती हूँ कि मेरा पुत्र/पुत्री विभाग द्वारा जारी की गई Covid-19 "]
[null,null,"की गाइडलाइन एव सबंधित सुरक्षा प्रबंध का पालन करेगा/करेगी किसी भी प्रावधान या गाइडलाइन का उल्लंघन करने"]
[null,null,"पर मेरे पुत्र/पुत्री को विद्यालय में अध्ययन हेतु अनुमति नही दी जावे !"]
[]
[null,null,"Mobile No-",{"$f":"VLOOKUP(F8,'.'!1:1048576,7,0)","v":{"$error":"#N/A"}}]
[null,null,{"$f":"TODAY()","v":"2021-08-27"}]
[null,null,{"$f":"VLOOKUP(F8,'.'!1:1048576,13,0)","v":{"$error":"#N/A"}},null,null,null,null,null,null,null,"हस्ताक्षर अभिभावक "]
[null,null,{"$f":"'HOW TO USE'!B38","v":"https://rajsevak.com/"},null,null,null,null,null,null,null,null,null,{"$f":"[1]PROFILE!I3","v":"https://ravijakhar7.weebly.com/"}]
[]
[]
[null,null,":- अभिभावक सहमति पत्र :- "]
[null,null,null,null,"  श्रीमान प्रधानाचार्य/प्रधानाध्यापक/संस्था प्रधान महोदय में छात्र/छात्रा-",null,null,null,null,null,null,{"$f":"VLOOKUP(F9,'.'!1:1048576,9,0)","v":{"$error":"#N/A"}}]
[null,null,"पिता/अभिभावक ",{"$f":"VLOOKUP(F9,'.'!1:1048576,10,0)","v":{"$error":"#N/A"}},null,null,"माता-",{"$f":"VLOOKUP(F9,'.'!1:1048576,11,0)","v":{"$error":"#N/A"}},null,null,"कक्षा-",{"$f":"VLOOKUP(F9,'.'!1:1048576,2,0)","v":{"$error":"#N/A"}},"को दिनांक "]
[null,null,{"$f":"I11","v":"2021-09-01"},"से नियमित रूप से अध्ययन हेतु विद्यालय भिजवाने की सहमति देता हूँ/देती हूँ !"]
[null,null,null,"में अभिभावक के रूप में विश्वास दिलाता/दिलाती हूँ कि मेरा पुत्र/पुत्री विभाग द्वारा जारी की गई Covid-19 "]
[null,null,"की गाइडलाइन एव सबंधित सुरक्षा प्रबंध का पालन करेगा/करेगी किसी भी प्रावधान या गाइडलाइन का उल्लंघन करने"]
[null,null,"पर मेरे पुत्र/पुत्री को विद्यालय में अध्ययन हेतु अनुमति नही दी जावे !"]
[]
[null,null,"Mobile No-",{"$f":"VLOOKUP(F9,'.'!1:1048576,7,0)","v":{"$error":"#N/A"}}]
[null,null,{"$f":"TODAY()","v":"2021-08-27"}]
[null,null,{"$f":"VLOOKUP(F9,'.'!1:1048576,13,0)","v":{"$error":"#N/A"}},null,null,null,null,null,null,null,"हस्ताक्षर अभिभावक "]
[null,null,{"$f":"C28","v":"https://rajsevak.com/"},null,null,null,null,null,null,null,null,null,{"$f":"M28","v":"https://ravijakhar7.weebly.com/"}]
[]
[]
[null,null,":- अभिभावक सहमति पत्र :- "]
[null,null,null,null,"  श्रीमान प्रधानाचार्य/प्रधानाध्यापक/संस्था प्रधान महोदय में छात्र/छात्रा-",null,null,null,null,null,null,{"$f":"VLOOKUP(F10,'.'!1:1048576,9,0)","v":{"$error":"#N/A"}}]
[null,null,"पिता/अभिभावक ",{"$f":"VLOOKUP(F10,'.'!1:1048576,10,0)","v":{"$error":"#N/A"}},null,null,"माता-",{"$f":"VLOOKUP(F10,'.'!1:1048576,11,0)","v":{"$error":"#N/A"}},null,null,"कक्षा-",{"$f":"VLOOKUP(F10,'.'!1:1048576,2,0)","v":{"$error":"#N/A"}},"को दिनांक "]
[null,null,{"$f":"I11","v":"2021-09-01"},"से नियमित रूप से अध्ययन हेतु विद्यालय भिजवाने की सहमति देता हूँ/देती हूँ !"]
[null,null,null,"में अभिभावक के रूप में विश्वास दिलाता/दिलाती हूँ कि मेरा पुत्र/पुत्री विभाग द्वारा जारी की गई Covid-19 "]
[null,null,"की गाइडलाइन एव सबंधित सुरक्षा प्रबंध का पालन करेगा/करेगी किसी भी प्रावधान या गाइडलाइन का उल्लंघन करने"]
[null,null,"पर मेरे पुत्र/पुत्री को विद्यालय में अध्ययन हेतु अनुमति नही दी जावे !"]
[]
[null,null,"Mobile No-",{"$f":"VLOOKUP(F10,'.'!1:1048576,7,0)","v":{"$error":"#N/A"}}]
[null,null,{"$f":"TODAY()","v":"2021-08-27"}]
[null,null,{"$f":"VLOOKUP(F10,'.'!1:1048576,13,0)","v":{"$error":"#N/A"}},null,null,null,null,null,null,null,"हस्ताक्षर अभिभावक "]
[null,null,{"$f":"C42","v":"https://rajsevak.com/"},null,null,null,null,null,null,null,null,null,{"$f":"M42","v":"https://ravijakhar7.weebly.com/"}]