{"text_format":"1","workbook":"xlsx","n_sheets":13,"sheets":["Profile","rrr 08","rrr 09","rrr10","P1","P3","L-1-2","retierment","FIX PAY","CHALAN","bank ac SCHOOL","R01","Sheet1"],"not_rendered":{"charts":0,"images":0,"macros":0,"external_links":0,"defined_names":9,"comments":2,"pivot_tables":0},"unopened":[],"bounds":{"document_bytes":16777216,"sheet_cells":100000,"rows_first":2000,"rows_last":500,"rows_between":2000,"halvings":0,"cell_chars":16384,"cell_head_chars":4096},"cells_cut":0,"cells_raw":0,"read":"whole","date_system":"1900"}

{"sheet":"Profile","index":0,"n_rows":132,"n_cols":38,"rows_kept":132,"cut":false,"hidden":false,"merged":[[33,0,33,1],[20,36,21,36],[20,37,21,37],[20,14,21,14],[20,15,21,15],[20,16,21,16],[20,35,21,35],[20,5,20,7],[20,8,20,9],[20,13,21,13],[34,13,34,14],[35,14,35,15],[37,0,38,0],[37,1,38,1],[37,2,38,3],[37,5,38,5],[37,6,38,6],[37,4,38,4],[34,0,34,4],[35,3,35,6],[35,0,35,2],[36,0,36,17],[37,17,37,21],[118,1,118,7],[118,8,118,12],[117,1,117,7],[117,8,117,12],[108,1,108,7],[108,8,108,12],[111,1,111,7],[111,8,111,12],[109,1,109,7],[109,8,109,12],[116,1,116,7],[116,8,116,12],[114,1,114,7],[114,8,114,12],[112,1,112,7],[115,1,115,7],[104,17,106,17],[101,1,101,7],[102,1,102,7],[37,13,38,13],[37,14,38,14],[37,15,38,15],[37,7,37,8],[37,9,38,9],[37,10,38,10],[37,11,37,12],[38,7,38,8],[115,8,115,12],[105,8,105,12],[103,1,103,7],[104,1,104,7],[104,8,104,12],[105,1,105,7],[106,1,106,7],[106,8,106,12],[107,1,107,7],[107,8,107,12],[112,8,112,12],[113,1,113,7],[113,8,113,12],[110,1,110,7],[110,8,110,12],[0,0,0,1],[0,2,0,8],[1,2,1,4],[12,1,12,4],[12,5,13,5],[12,6,13,6],[12,7,13,7],[12,8,13,8],[6,5,6,6],[7,5,7,6],[8,5,8,6],[9,5,9,6],[10,2,10,3],[9,2,9,3],[11,2,11,3],[8,2,8,3],[2,0,2,1],[3,0,3,1],[4,0,4,1],[12,9,13,9],[12,10,13,10],[2,2,2,4],[6,2,6,4],[12,11,13,11],[20,2,20,4],[3,6,3,7],[5,6,5,7],[20,10,20,11],[10,5,10,6],[8,4,9,4]]}
["dk;kZy;&",null,"15tSM Jhxaxkuxj"]
["eksgj&",null,"Budget Estemate",null,null,"foHkkx dk uke","f'k{kk foHkkx"]
["ihbZbZvks 10tSM ,oa iz/kkukpk;Z",null,"2202-02-109-27-01",null,null,"vkWfQl vkbZMh","uke MhMhvks",null,"eks0 uEcj"]
["jktdh; mPp ek/;fed fo|ky;",null,null,null,null,2405,"izHkkr 'kekZ"]
["15tSM Jhxaxkuxj",null,null,"ctV o\"kZ","2022&2023",null,"rS;kj drkZ ",null,"eks0 uEcj"]
["ctV en        eq[; 'kh\"kZ",null,null,null,null,null,"lqfer fxjh",null,9414631519]
[null,null,"UnProtect All Worksheet PASSWORD -   sumit",null,null,"onhZ HkRrk iq:\"k dkfeZd la[;k",null,0,null,1650,{"$f":"J7*H7","v":0},{"$f":"K7+K8","v":0}]
[null,null,null,null,null,"onhZ HkRrk efgyk dkfeZd la[;k",null,0,null,1950,{"$f":"J8*H8","v":0}]
["vkxkeh osru o`f} fnukad",null,"2022-07-01",null,"fnO;kaxHkrk dh jkf'k izR;sd ekg","cksul dkfeZdks dh la[;k",null,0]
["Ldhe dk uke",null,"LVsV Q.M",null,null,"dSf'k;j HkRrk dkfeZd dh la[;k",null,0]
["ekax la[;k",null,24,null,600,"fodykax Hkrk dkfeZd dh la[;k",null,0]
["ctV Lohd`fr esa fo|ky; dh Ø-la-",null,25,null,"Arear Month",2,"egaxkbZ HkÙkk nj",0.28000000000000003,"DA Arr.",0,"HRA",0.09]
["xr rhu o\"ksksZa ds vk; ,oa O;; dk fooj.k","gsM",null,null,null,"2018-19","2019-20","2020-21","08/20 to 03/21","04/21 to 07/21","la'kksf/kr vuqeku 08@2021 ls 03@2022","vk; vuqeku 2022&2023"]
["vk;"]
["f'k{k.k 'kqYd","0202&02",102,1,0,0,0,0,0,0,0,0]
["Vh-lh-","0202&02",null,null,null,85,95,50,0,45,15,60]
["izos'k 'kqYd","0202&02",null,null,null,50,70,40,0,30,10,50]
["vuqi;ksxh lkeku ds fuLrkj.k ls vk;","0202&02"]
["fofo/k","0202&02"]
["vU;","0202&02",null,null,null,null,null,5]
["O;;",null,"Lohd`r ctV 2021&2022",null,null,"[kpksZa dk fooj.k",null,null," O;; 08@20 ls 03@21",null," O;; 04@21 ls 07@21",null,null,"lEHkkfor O;; ","vk; vuqeku 2022&2023","08/20 to 03/21","04/21 to 07/21",null,null,null,null,null,null,null,null,null,null,null,null,null,null,null,null,null,null,"dqy ;ksx","la'kksf/kr vuqeku ¼pkyw o\"kZ½ ","vk;&O;; vuqeku ¼vkxkeh o\"kZ½ "]
["en","lc gsM","dqy ;ksx","jkT; fuf/k","dsUnzh; lgk;rk","2018-19","2019-20","20&21 esa ekpZ2021 dk th-,-19","jkT; fuf/k","dsUnzh; lgk;rk","jkT; fuf/k","dsUnzh; lgk;rk"]
["laosru",1,{"$f":"SUM(D23+E23)","v":7373000},7373000,0,5555511,6303330,7837900,5559492,0,2558795,0,null,{"$f":"$O$115","v":10611804},{"$f":"N115","v":10903872},{"$f":"I23+J23","v":5559492},{"$f":"K23+L23","v":2558795},null,null,null,null,null,null,null,null,null,null,null,null,null,null,null,null,null,null,{"$f":"SUM(Q23+N23)","v":13170599},{"$f":"$O$115","v":10611804},{"$f":"$N$115","v":10903872}]
[";k=k O;;",3,{"$f":"SUM(D24+E24)","v":0},0,0,0,30000,22910,22910,0,0,0,null,null,null,22910,0,null,null,null,null,null,null,null,null,null,null,null,null,null,null,null,null,null,null,{"$f":"SUM(Q24+N24)","v":0},0,0]
["fpfdRlk O;;",4,0,0,0,0,0,0,0,0,0,0,null,null,null,0,0,null,null,null,null,null,null,null,null,null,null,null,null,null,null,null,null,null,null,0,0,0]
["dk;kZy; O;;",5,0,0,0,0,0,0,0,0,0,0,null,null,null,0,0,null,null,null,null,null,null,null,null,null,null,null,null,null,null,null,null,null,null,{"$f":"SUM(Q26+N26)","v":0},0,0]
["fdjk;k dj jk;fYV",9,0,0,0,0,0,0,0,0,0,0,null,null,null,0,0,null,null,null,null,null,null,null,null,null,null,null,null,null,null,null,null,null,null,0,0,0]
["e'khujh lkt lkeku",20,0,0,0,0,0,0,0,0,0,0,null,null,null,0,0,null,null,null,null,null,null,null,null,null,null,null,null,null,null,null,null,null,null,0,0,0]
["iqLrdky;",31,0,0,0,0,0,0,0,0,800,0,null,null,null,0,800,null,null,null,null,null,null,null,null,null,null,null,null,null,null,null,null,null,null,800,800,0]
["iz;ksx'kkyk",33,0,0,0,0,0,0,0,0,0,0,null,null,null,0,0,null,null,null,null,null,null,null,null,null,null,null,null,null,null,null,null,null,null,0,0,0]
["ofnZ;ka",37,3600,3600,0,3600,3600,1950,1950,0,0,0,null,{"$f":"$L$7","v":0},null,1950,0,null,null,null,null,null,null,null,null,null,null,null,null,null,null,null,null,null,null,0,{"$f":"$L$7","v":0},{"$f":"$L$7","v":0}]
["vU; izHkkj",28,0,0,0,0,0,0,0,0,0,0,null,null,null,0,0,null,null,null,null,null,null,null,null,null,null,null,null,null,null,null,null,null,null,0,0,0]
["foHkkxh;lsokvksa ij fof'k\"V O;;",57,0,0,0,0,0,0,0,0,0,0,null,null,null,0,0,null,null,null,null,null,null,null,null,null,null,null,null,null,null,null,null,null,null,0,0,0]
[";ksx ",null,{"$f":"SUM(C23:C33)","v":7376600},{"$f":"SUM(D23:D33)","v":7376600},0,5559111,6336930,7862760,5584352,0,2559595,0,null,null,null,null,null,null,null,null,null,null,null,null,null,null,null,null,null,null,null,null,null,null,null,null,{"$f":"SUM(AK23:AK33)","v":10612604},10903872]
["o\"kZ 2022&2023 ds fy, jsUt ds vuqlkj laosru dh jkf'k ",null,null,null,null,"OID",{"$f":"$F$4","v":2405},null,null,null,null,null,null,"BE 2022-2023"]
["dk;kZy; %&",null,null,{"$f":"$C$1","v":"15tSM Jhxaxkuxj"},null,null,null,{"$f":"$C$3","v":"2202-02-109-27-01"},null,null,{"$f":"$C$10","v":"LVsV Q.M"},null,{"$f":"$E$5","v":"2022&2023"},null,"RE 2021-2022"]
[]
["ys[kk 'kh\"kZd ¼foLr`r 'kh\"kZ½","Øe la[;k","dkfeZd dk uke",null,"deZpkjh vkbZ Mh","thih,Q@,uih,l uEcj","in","in dk Lohd`r osru",null,"ctV dh izkjfEHkd frfFk ;kfu 1ekpZ2022 dks deZpkjh dk osru","igyh ekpZ ls vfUre Qjojh ds fy;s fu/kkZfjr jde","o`f) tks bl vof/k esa gksxh",null,"vkxkeh o\"kZ 2022&23 ds fy;s jde ¼dkye 8$10½","pkyw o\"kZ ds fy;s la'kksf/kr vuqeku 2021&22","fo'ks\"k fooj.k",null,"vkxkeh  osru o`f) fnukad"]
[null,null,null,null,null,null,null,"xzsM is@ ysoy",null,null,null,"frfFk o`f)","jde o`f)",null,null,null,null,{"$f":"$C$9","v":"2022-07-01"}]
[]
[]
[]
[null,1,null,2,3,14,4,5,6,7,8,9,10,11,12,13]
["jktif=r",1,"Jh ","lqfer fxjh",null,null,"iz/kkukpk;Z","ysoy",16,11000,{"$f":"J44*12","v":132000},{"$f":"R39","v":"2022-07-01"},{"$f":"P44*8","v":2400},{"$f":"K44+M44","v":134400},{"$f":"N44-P44*12","v":130800},{"$f":"S44","v":300},null,null,{"$f":"ROUND(T44,-2)","v":300},{"$f":"J44*3/100","v":330},null,{"$f":"Y44-X44","v":10984},{"$f":"IF(R39>=DATE(2017,7,1),CEILING(Y44*3%,10)+V44,V44)","v":11314},{"$f":"I44","v":16},{"$f":"J44","v":11000},{"$f":"SUM(W44:X44)","v":11330},{"$f":"Z44-Y44","v":330},null,{"$f":"J44","v":11000},{"$f":"AC44*3/100","v":330},{"$f":"ROUNDUP(AD44,-10)","v":10000000000},{"$f":"AC44+AE44","v":10000011000},null,null,{"$f":"AF44-J44","v":10000000000}]
["jktif=r",1,null,null,null,null,"O;k[;krk","ysoy",16,11000,{"$f":"J45*12","v":132000},{"$f":"L44","v":"2022-07-01"},{"$f":"P45*8","v":2400},{"$f":"K45+M45","v":134400},{"$f":"N45-P45*12","v":130800},{"$f":"S45","v":300},null,null,{"$f":"ROUND(T45,-2)","v":300},{"$f":"J45*3/100","v":330},null,{"$f":"Y45-X45","v":10984},{"$f":"IF(R39>=DATE(2017,7,1),CEILING(Y45*3%,10)+V45,V45)","v":11314},{"$f":"I45","v":16},{"$f":"J45","v":11000},{"$f":"SUM(W45:X45)","v":11330},{"$f":"Z45-Y45","v":330},null,{"$f":"J45","v":11000},{"$f":"AC45*3/100","v":330},{"$f":"ROUNDUP(AD45,-1)","v":330},{"$f":"AC45+AE45","v":11330},null,null,{"$f":"AF45-J45","v":330}]
["jktif=r",2,null,null,null,null,"O;k[;krk","ysoy",16,11000,132000,{"$f":"L44","v":"2022-07-01"},2400,134400,{"$f":"N46-P46*12","v":130800},300,null,null,300,330,null,10984,{"$f":"IF(R39>=DATE(2017,7,1),CEILING(Y46*3%,10)+V46,V46)","v":11314},16,11000,11330,330,null,11000,330,330,11330,null,null,330]
["jktif=r",3,null,null,null,null,"O;k[;krk","ysoy",16,11000,132000,{"$f":"L46","v":"2022-07-01"},{"$f":"P47*8","v":2400},{"$f":"K47+M47","v":134400},130800,300,null,null,300,330,null,10984,{"$f":"IF(R39>=DATE(2017,7,1),CEILING(Y47*3%,10)+V47,V47)","v":11314},16,11000,11330,330,null,11000,330,330,11330,null,null,330]
["jktif=r",4,null,null,null,null,"O;k[;krk","ysoy",16,11000,132000,{"$f":"L46","v":"2022-07-01"},2400,134400,130800,300,null,null,300,330,null,10984,{"$f":"IF(R39>=DATE(2017,7,1),CEILING(Y48*3%,10)+V48,V48)","v":11314},16,11000,11330,{"$f":"Z48-Y48","v":330},null,11000,330,330,11330,null,null,330]
["jktif=r",5,null,null,null,null,"O;k[;krk","ysoy",6,11000,132000,{"$f":"L48","v":"2022-07-01"},2400,134400,130800,300,null,null,300,330,null,10994,{"$f":"IF(R39>=DATE(2017,7,1),CEILING(Y49*3%,10)+V49,V49)","v":11324},6,{"$f":"J49","v":11000},{"$f":"SUM(W49:X49)","v":11330},330,null,11000,330,330,11330,null,null,330]
["jktif=r",6,null,null,null,null,"O;k[;krk","ysoy",7,11000,132000,{"$f":"L48","v":"2022-07-01"},2400,134400,130800,300,null,null,300,330,null,{"$f":"Y50-X50","v":10993},{"$f":"IF(R39>=DATE(2017,7,1),CEILING(Y50*3%,10)+V50,V50)","v":11323},{"$f":"I50","v":7},11000,11330,330,null,11000,330,330,11330,null,null,330]
["jktif=r",7,null,null,null,null,"O;k[;krk","ysoy",8,11000,{"$f":"J51*12","v":132000},"2022-07-01",{"$f":"P51*8","v":2400},{"$f":"K51+M51","v":134400},{"$f":"N51-P51*12","v":130800},{"$f":"S51","v":300},null,null,{"$f":"ROUND(T51,-2)","v":300},{"$f":"J51*3/100","v":330},null,{"$f":"Y51-X51","v":10992},{"$f":"IF(R40>=DATE(2017,7,1),CEILING(Y51*3%,10)+V51,V51)","v":10992},{"$f":"I51","v":8},{"$f":"J51","v":11000},{"$f":"SUM(W51:X51)","v":11000},{"$f":"Z51-Y51","v":0},null,{"$f":"J51","v":11000},{"$f":"AC51*3/100","v":330},{"$f":"ROUNDUP(AD51,-1)","v":330},{"$f":"AC51+AE51","v":11330},null,null,{"$f":"AF51-J51","v":330}]
["jktif=r",8,null,null,null,null,"O;k[;krk","ysoy",9,11000,132000,"2022-07-01",2400,134400,130800,300,null,null,300,330,null,10991,10991,9,11000,11000,0,null,11000,330,330,11330,null,null,330]
["jktif=r",9,null,null,null,null,"O;k[;krk","ysoy",10,11000,132000,"2022-07-01",2400,134400,130800,300,null,null,300,330,null,10990,10990,10,11000,11000,0,null,11000,330,330,11330,null,null,330]
["jktif=r",10,null,null,null,null,"O;k[;krk","ysoy",11,11000,132000,"2022-07-01",2400,134400,130800,300,null,null,300,330,null,10989,10989,11,11000,11000,0,null,11000,330,330,11330,null,null,330]
["jktif=r",11,null,null,null,null,"O;k[;krk","ysoy",12,11000,132000,"2022-07-01",2400,134400,130800,300,null,null,300,330,null,10988,10988,12,11000,11000,0,null,11000,330,330,11330,null,null,330]
["jktif=r",12,null,null,null,null,"O;k[;krk","ysoy",13,11000,132000,"2022-07-01",2400,134400,130800,300,null,null,300,330,null,10987,10987,13,11000,11000,0,null,11000,330,330,11330,null,null,330]
["jktif=r",13,null,null,null,null,"O;k[;krk","ysoy",14,11000,132000,"2022-07-01",2400,134400,130800,300,null,null,300,330,null,10986,10986,14,11000,11000,0,null,11000,330,330,11330,null,null,330]
["jktif=r",14,null,null,null,null,"O;k[;krk","ysoy",15,11000,132000,"2022-07-01",2400,134400,130800,300,null,null,300,330,null,10985,10985,15,11000,11000,0,null,11000,330,330,11330,null,null,330]
["jktif=r",15,null,null,null,null,"O;k[;krk","ysoy",16,11000,132000,"2022-07-01",2400,134400,130800,300,null,null,300,330,null,10984,10984,16,11000,11000,0,null,11000,330,330,11330,null,null,330]
["jktif=r",16,null,null,null,null,"O;k[;krk","ysoy",17,11000,132000,"2022-07-01",2400,134400,130800,300,null,null,300,330,null,10983,10983,17,11000,11000,0,null,11000,330,330,11330,null,null,330]
["jktif=r",17,null,null,null,null,"O;k[;krk","ysoy",18,11000,132000,"2022-07-01",2400,134400,130800,300,null,null,300,330,null,10982,10982,18,11000,11000,0,null,11000,330,330,11330,null,null,330]
["jktif=r",18,null,null,null,null,"O;k[;krk","ysoy",19,11000,132000,"2022-07-01",2400,134400,130800,300,null,null,300,330,null,10981,10981,19,11000,11000,0,null,11000,330,330,11330,null,null,330]
["jktif=r",19,null,null,null,null,"O;k[;krk","ysoy",20,11000,132000,"2022-07-01",2400,134400,130800,300,null,null,300,330,null,10980,10980,20,11000,11000,0,null,11000,330,330,11330,null,null,330]
["jktif=r",20,null,null,null,null,"O;k[;krk","ysoy",21,11000,132000,"2022-07-01",2400,134400,130800,300,null,null,300,330,null,10979,10979,21,11000,11000,0,null,11000,330,330,11330,null,null,330]
["jktif=r",21,null,null,null,null,"O;k[;krk","ysoy",22,11000,132000,"2022-07-01",2400,134400,130800,300,null,null,300,330,null,10978,10978,22,11000,11000,0,null,11000,330,330,11330,null,null,330]
["vjktif=r",1,"Jherh","eUtq ukxiky","RJGA200535013285",110061722142,"ofj\"B v/;kid","ysoy",11,11000,132000,{"$f":"L50","v":"2022-07-01"},{"$f":"P66*8","v":2400},{"$f":"K66+M66","v":134400},{"$f":"N66-P66*12","v":130800},300,null,null,300,330,null,10989,{"$f":"IF(R39>=DATE(2017,7,1),CEILING(Y66*3%,10)+V66,V66)","v":11319},11,11000,11330,330,null,11000,330,330,11330,null,null,330]
["vjktif=r",2,"Jherh","dkS'kY;k","RJGA201435027389",110191483960,"ofj\"B v/;kid","ysoy",11,11000,132000,{"$f":"L66","v":"2022-07-01"},2400,134400,130800,300,null,null,300,330,null,10989,{"$f":"IF(R39>=DATE(2017,7,1),CEILING(Y67*3%,10)+V67,V67)","v":11319},11,11000,11330,330,null,11000,330,330,11330,null,null,330]
["vjktif=r",3,null,null,null,null,"ofj\"B v/;kid","ysoy",11,11000,132000,"2022-07-01",2400,134400,130800,300,null,null,300,330,null,10989,{"$f":"IF(R39>=DATE(2017,7,1),CEILING(Y68*3%,10)+V68,V68)","v":11319},11,11000,11330,330,null,11000,330,330,11330,null,null,330]
["vjktif=r",4,null,null,null,null,"ofj\"B v/;kid","ysoy",11,11000,132000,"2022-07-01",2400,134400,130800,300,null,null,300,330,null,{"$f":"Y69-X69","v":10989},{"$f":"IF(R39>=DATE(2017,7,1),CEILING(Y69*3%,10)+V69,V69)","v":11319},11,11000,{"$f":"SUM(W69:X69)","v":11330},330,null,11000,330,330,11330,null,null,330]
["vjktif=r",5,null,null,null,null,"ofj\"B v/;kid","ysoy",11,11000,132000,"2022-07-01",2400,134400,130800,300,null,null,300,330,null,{"$f":"Y70-X70","v":10989},{"$f":"IF(R39>=DATE(2017,7,1),CEILING(Y70*3%,10)+V70,V70)","v":11319},11,11000,{"$f":"SUM(W70:X70)","v":11330},330,null,11000,330,330,11330,null,null,330]
["vjktif=r",6,null,null,null,null,"ofj\"B v/;kid","ysoy",11,11000,132000,"2022-07-01",2400,134400,130800,300,null,null,300,330,null,{"$f":"Y71-X71","v":10989},{"$f":"IF(R39>=DATE(2017,7,1),CEILING(Y71*3%,10)+V71,V71)","v":11319},11,11000,{"$f":"SUM(W71:X71)","v":11330},330,null,11000,330,330,11330,null,null,330]
["vjktif=r",7,null,null,null,null,"ofj\"B v/;kid","ysoy",7,11000,{"$f":"J72*12","v":132000},"2022-07-01",{"$f":"P72*8","v":2400},{"$f":"K72+M72","v":134400},{"$f":"N72-P72*12","v":130800},{"$f":"S72","v":300},null,null,{"$f":"ROUND(T72,-2)","v":300},{"$f":"J72*3/100","v":330},null,{"$f":"Y72-X72","v":10993},{"$f":"IF(R40>=DATE(2017,7,1),CEILING(Y72*3%,10)+V72,V72)","v":10993},{"$f":"I72","v":7},{"$f":"J72","v":11000},{"$f":"SUM(W72:X72)","v":11000},{"$f":"Z72-Y72","v":0},null,{"$f":"J72","v":11000},{"$f":"AC72*3/100","v":330},{"$f":"ROUNDUP(AD72,-1)","v":330},{"$f":"AC72+AE72","v":11330},null,null,{"$f":"AF72-J72","v":330}]
["vjktif=r",8,null,null,null,null,"ofj\"B v/;kid","ysoy",8,11000,132000,"2022-07-01",2400,134400,130800,300,null,null,300,330,null,10992,10992,8,11000,11000,0,null,11000,330,330,11330,null,null,330]
["vjktif=r",9,null,null,null,null,"ofj\"B v/;kid","ysoy",9,11000,132000,"2022-07-01",2400,134400,130800,300,null,null,300,330,null,10991,10991,9,11000,11000,0,null,11000,330,330,11330,null,null,330]
["vjktif=r",10,null,null,null,null,"ofj\"B v/;kid","ysoy",10,11000,132000,"2022-07-01",2400,134400,130800,300,null,null,300,330,null,10990,10990,10,11000,11000,0,null,11000,330,330,11330,null,null,330]
["vjktif=r",11,null,null,null,null,"ofj\"B v/;kid","ysoy",11,11000,132000,"2022-07-01",2400,134400,130800,300,null,null,300,330,null,10989,10989,11,11000,11000,0,null,11000,330,330,11330,null,null,330]
["vjktif=r",12,null,null,null,null,"ofj\"B v/;kid","ysoy",12,11000,132000,"2022-07-01",2400,134400,130800,300,null,null,300,330,null,10988,10988,12,11000,11000,0,null,11000,330,330,11330,null,null,330]
["vjktif=r",13,null,null,null,null,"ofj\"B v/;kid","ysoy",13,11000,132000,"2022-07-01",2400,134400,130800,300,null,null,300,330,null,10987,10987,13,11000,11000,0,null,11000,330,330,11330,null,null,330]
["vjktif=r",14,null,null,null,null,"ofj\"B v/;kid","ysoy",14,11000,132000,"2022-07-01",2400,134400,130800,300,null,null,300,330,null,10986,10986,14,11000,11000,0,null,11000,330,330,11330,null,null,330]
["vjktif=r",15,null,null,null,null,"ofj\"B v/;kid","ysoy",15,11000,132000,"2022-07-01",2400,134400,130800,300,null,null,300,330,null,10985,10985,15,11000,11000,0,null,11000,330,330,11330,null,null,330]
["vjktif=r",16,null,null,null,null,"ofj\"B v/;kid","ysoy",16,11000,132000,"2022-07-01",2400,134400,130800,300,null,null,300,330,null,10984,10984,16,11000,11000,0,null,11000,330,330,11330,null,null,330]
["vjktif=r",17,null,null,null,null,"ofj\"B v/;kid","ysoy",17,11000,132000,"2022-07-01",2400,134400,130800,300,null,null,300,330,null,10983,10983,17,11000,11000,0,null,11000,330,330,11330,null,null,330]
["vjktif=r",18,null,null,null,null,"ofj\"B v/;kid","ysoy",18,11000,132000,"2022-07-01",2400,134400,130800,300,null,null,300,330,null,10982,10982,18,11000,11000,0,null,11000,330,330,11330,null,null,330]
["vjktif=r",19,null,null,null,null,"ofj\"B v/;kid","ysoy",19,11000,132000,"2022-07-01",2400,134400,130800,300,null,null,300,330,null,10981,10981,19,11000,11000,0,null,11000,330,330,11330,null,null,330]
["vjktif=r",20,null,null,null,null,"ofj\"B v/;kid","ysoy",20,11000,132000,"2022-07-01",2400,134400,130800,300,null,null,300,330,null,10980,10980,20,11000,11000,0,null,11000,330,330,11330,null,null,330]
["vjktif=r",21,null,null,null,null,"ofj\"B v/;kid","ysoy",21,11000,132000,"2022-07-01",2400,134400,130800,300,null,null,300,330,null,10979,10979,21,11000,11000,0,null,11000,330,330,11330,null,null,330]
["vjktif=r",22,null,null,null,null,"ofj\"B v/;kid","ysoy",22,11000,132000,"2022-07-01",2400,134400,130800,300,null,null,300,330,null,10978,10978,22,11000,11000,0,null,11000,330,330,11330,null,null,330]
["vjktif=r",1,"Jh","nsosUnz dqekj lqFkkj","RJBI200509033977",110041738889,"v/;kid&2","ysoy",23,11000,132000,{"$f":"L71","v":"2022-07-01"},2400,134400,130800,300,null,null,300,330,null,{"$f":"Y88-X88","v":10977},{"$f":"IF(R39>=DATE(2017,7,1),CEILING(Y88*3%,10)+V88,V88)","v":11307},23,11000,{"$f":"SUM(W88:X88)","v":11330},{"$f":"Z88-Y88","v":330},null,11000,330,330,11330,null,null,330]
["vjktif=r",2,"Jh ","euftUnz flag",null,null,"v/;kid&2","ysoy",24,11000,{"$f":"J89*12","v":132000},"2022-07-01",{"$f":"P89*8","v":2400},{"$f":"K89+M89","v":134400},{"$f":"N89-P89*12","v":130800},300,null,null,300,330,null,{"$f":"Y89-X89","v":10976},{"$f":"IF(R39>=DATE(2017,7,1),CEILING(Y89*3%,10)+V89,V89)","v":11306},{"$f":"I89","v":24},{"$f":"J89","v":11000},{"$f":"SUM(W89:X89)","v":11330},{"$f":"Z89-Y89","v":330},null,{"$f":"J89","v":11000},{"$f":"AC89*3/100","v":330},{"$f":"ROUNDUP(AD89,-1)","v":330},{"$f":"AC89+AE89","v":11330},null,null,{"$f":"AF89-J89","v":330}]
["vjktif=r",3,"Jherh","jf'e dVkfj;k",null,null,"v/;kid&2","ysoy",25,11000,132000,"2022-07-01",{"$f":"P90*8","v":2400},134400,{"$f":"N90-P90*12","v":130800},300,null,null,300,330,null,10975,{"$f":"IF(R39>=DATE(2017,7,1),CEILING(Y90*3%,10)+V90,V90)","v":11305},25,11000,11330,330,null,11000,330,330,11330,null,null,330]
["vjktif=r",4,"Jherh","js[kk jkuh",null,null,"v/;kid&1","ysoy",26,11000,{"$f":"J91*12","v":132000},"2022-07-01",{"$f":"P91*8","v":2400},{"$f":"K91+M91","v":134400},{"$f":"N91-P91*12","v":130800},300,null,null,300,330,null,{"$f":"Y91-X91","v":10974},{"$f":"IF(R39>=DATE(2017,7,1),CEILING(Y91*3%,10)+V91,V91)","v":11304},{"$f":"I91","v":26},{"$f":"J91","v":11000},{"$f":"SUM(W91:X91)","v":11330},{"$f":"Z91-Y91","v":330},null,{"$f":"J91","v":11000},{"$f":"AC91*3/100","v":330},{"$f":"ROUNDUP(AD91,-1)","v":330},{"$f":"AC91+AE91","v":11330},null,null,{"$f":"AF91-J91","v":330}]
["vjktif=r",5,"Jherh","lqq\"kek jkuh",null,null,"v/;kid&1","ysoy",27,11000,132000,"2022-07-01",2400,134400,130800,300,null,null,300,330,null,{"$f":"Y92-X92","v":10973},{"$f":"IF(R39>=DATE(2017,7,1),CEILING(Y92*3%,10)+V92,V92)","v":11303},27,11000,{"$f":"SUM(W92:X92)","v":11330},330,null,11000,330,330,11330,null,null,330]
["vjktif=r",6,null,null,null,null,"v/;kid&1","ysoy",28,11000,{"$f":"J93*12","v":132000},"2022-07-01",{"$f":"P93*8","v":2400},{"$f":"K93+M93","v":134400},{"$f":"N93-P93*12","v":130800},300,null,null,300,330,null,{"$f":"Y93-X93","v":10972},{"$f":"IF(R39>=DATE(2017,7,1),CEILING(Y93*3%,10)+V93,V93)","v":11302},{"$f":"I93","v":28},{"$f":"J93","v":11000},{"$f":"SUM(W93:X93)","v":11330},{"$f":"Z93-Y93","v":330},null,{"$f":"J93","v":11000},{"$f":"AC93*3/100","v":330},{"$f":"ROUNDUP(AD93,-1)","v":330},{"$f":"AC93+AE93","v":11330},null,null,{"$f":"AF93-J93","v":330}]
["vjktif=r",1,"Jh ","iou dqekj xksnkjk",null,null," 'kk-f'k{kd","ysoy",29,11000,{"$f":"J94*12","v":132000},"2022-07-01",{"$f":"P94*8","v":2400},{"$f":"K94+M94","v":134400},{"$f":"N94-P94*12","v":130800},300,null,null,300,330,null,{"$f":"Y94-X94","v":10971},{"$f":"IF(R39>=DATE(2017,7,1),CEILING(Y94*3%,10)+V94,V94)","v":11301},{"$f":"I94","v":29},{"$f":"J94","v":11000},{"$f":"SUM(W94:X94)","v":11330},{"$f":"Z94-Y94","v":330},null,{"$f":"J94","v":11000},{"$f":"AC94*3/100","v":330},{"$f":"ROUNDUP(AD94,-1)","v":330},{"$f":"AC94+AE94","v":11330},null,null,{"$f":"AF94-J94","v":330}]
["vjktif=r",1,null,null,null,null,"dk;kZy; lgk;d","ysoy",30,11000,132000,"2022-07-01",2400,134400,130800,300,null,null,300,330,null,10970,{"$f":"IF(R39>=DATE(2017,7,1),CEILING(Y95*3%,10)+V95,V95)","v":11300},30,11000,11330,330,null,11000,330,330,11330,null,null,330]
["vjktif=r",1,"Jh ","lqfer fxjh",null,null,"ofj\"B fyfid","ysoy",31,11000,132000,"2022-07-01",2400,134400,130800,300,null,null,300,330,null,10969,{"$f":"IF(R39>=DATE(2017,7,1),CEILING(Y96*3%,10)+V96,V96)","v":11299},31,11000,11330,330,null,11000,330,330,11330,null,null,330]
["vjktif=r",1,null,null,null,null,"dfu\"B fyfid","ysoy",32,11000,132000,"2022-07-01",2400,134400,130800,300,null,null,300,330,null,10968,{"$f":"IF(R39>=DATE(2017,7,1),CEILING(Y97*3%,10)+V97,V97)","v":11298},32,11000,11330,330,null,11000,330,330,11330,null,null,330]
["vjktif=r",1,"Jherh","y{eh nsoh",null,null,"lgk;d deZpkjh","ysoy",33,11000,132000,"2022-07-01",2400,134400,130800,300,null,null,300,330,null,10967,{"$f":"IF(R39>=DATE(2017,7,1),CEILING(Y98*3%,10)+V98,V98)","v":11297},33,11000,11330,330,null,11000,330,330,11330,null,null,330]
["vjktif=r",2,"Jh","cyoUr jk;",null,null,"lgk;d deZpkjh","ysoy",34,11000,{"$f":"J99*12","v":132000},"2022-07-01",{"$f":"P99*8","v":2400},{"$f":"K99+M99","v":134400},{"$f":"N99-P99*12","v":130800},300,null,null,300,330,null,{"$f":"Y99-X99","v":10966},{"$f":"IF(R39>=DATE(2017,7,1),CEILING(Y99*3%,10)+V99,V99)","v":11296},{"$f":"I99","v":34},{"$f":"J99","v":11000},{"$f":"SUM(W99:X99)","v":11330},{"$f":"Z99-Y99","v":330},null,{"$f":"J99","v":11000},{"$f":"AC99*3/100","v":330},{"$f":"ROUNDUP(AD99,-1)","v":330},{"$f":"AC99+AE99","v":11330},null,null,{"$f":"AF99-J99","v":330}]
["vjktif=r",3,null,null," ",null,"lgk;d deZpkjh","ysoy",35,11000,132000,"2022-07-01",2400,134400,130800,300,null,null,300,330,null,10965,{"$f":"IF(R39>=DATE(2017,7,1),CEILING(Y100*3%,10)+V100,V100)","v":11295},35,11000,11330,330,null,11000,330,330,11330,null,null,330]
[]
[null,"jktif=r ;ksx",null,null,null,null,null,null,null,{"$f":"SUM(J44:J65)","v":242000},{"$f":"SUM(K44:K65)","v":2904000},null,{"$f":"SUM(M44:M65)","v":52800},2956800,2877600]
[null,"vjktif=r ;ksx",null,null,null,null,null,null,null,{"$f":"SUM(J66:J100)","v":385000},{"$f":"SUM(K66:K100)","v":4620000},null,{"$f":"SUM(M66:M100)","v":84000},4704000,4578000]
[null,";ksx jktif=r$vjktif=r ",null,null,null,null,null,null,null,{"$f":"J102+J103","v":627000},{"$f":"K102+K103","v":7524000},null,{"$f":"M102+M103","v":136800},{"$f":"N102+N103","v":7660800},{"$f":"O102+O103","v":7455600}]
[{"$f":"$H$12","v":0.28000000000000003},"egaxkbZ HkRrk 28izfr'kr",null,null,null,null,null,null,null,null,null,null,null,{"$f":"ROUND(N104*A105,0)","v":2145024},{"$f":"ROUND(O104*A105,0)","v":2087568},null,null,"deZpkjh dh la[;k"]
[{"$f":"$L$12","v":0.09},"edku fdjk;k 9izfr'kr",null,null,null,null,null,null,null,null,null,null,null,{"$f":"ROUND(N104*A106,0)","v":689472},{"$f":"ROUND(O104*A106,0)","v":671004}]
[{"$f":"$J$12","v":0},"egaxkbZ HkRRkk ,sfj;j¼----izfr'kr½",null,null,null,null,null,null,null,null,null,null,null,null,{"$f":"ROUND((O104*A107*F12)/12,0)","v":0}]
[null,"cksul",null,null,null,null,null,null,null,null,null,null,null,{"$f":"P108*R108","v":0},{"$f":"P108*R108","v":0},6774,null,{"$f":"$H$9","v":0}]
[null,"lefiZr vodk'k",null,null,null,null,null,null,null,null,null,null,null,{"$f":"ROUND((N104+N105)/24,0)","v":408576},{"$f":"ROUND((O104+O105)/24,0)","v":397632}]
[null,"dSf'k;j HkRrk",null,null,null,null,null,null,null,null,null,null,null,{"$f":"P110*R110*12","v":0},{"$f":"P110*R110*12","v":0},50,null,{"$f":"$H$10","v":0}]
[null,"fnO;kax Hkrk ",null,null,null,null,null,null,null,null,null,null,null,{"$f":"P111*R111*12","v":0},{"$f":"P111*R111*12","v":0},{"$f":"$E$11","v":600},null,{"$f":"$H$11","v":0}]
[null,"/kqykbZ HkRrkk",null,null,null,null,null,null,null,null,null,null,null,{"$f":"P112*R112*12","v":0},{"$f":"P112*R112*12","v":0},150,null,{"$f":"H7+H8","v":0}]
[null,"¼fQDl is½ vU; HkRRkk",null,null,null,null,null,null,null,null,null,null,null,{"$f":"$J$132","v":0},{"$f":"$I$132","v":0}]
[null,"dqqy HkRrk ;ksx",null,null,null,null,null,null,null,null,null,null,null,{"$f":"SUM(N105:N113)","v":3243072},{"$f":"SUM(O105:O113)","v":3156204}]
[null,";ksx laosru",null,null,null,null,null,null,null,null,null,null,null,{"$f":"N114+N104","v":10903872},{"$f":"O114+O104","v":10611804}]
[null,";k=k HkRrk",null,null,null,null,null,null,null,null,null,null,null,{"$f":"O24","v":0},{"$f":"N24","v":0}]
[null,"esfMdy HkRrk",null,null,null,null,null,null,null,null,null,null,null,{"$f":"O25","v":0},{"$f":"N25","v":0}]
[null,";ksx ;k=k HkRrk$esfMdy HkRRkk",null,null,null,null,null,null,null,null,null,null,null,{"$f":"N116+N117","v":0},{"$f":"O116+O117","v":0}]
[null,"egk;ksx",null,null,null,null,null,null,null,null,null,null,null,{"$f":"N115+N118","v":10903872},{"$f":"O115+O118","v":10611804}]
[null,null,"Ø-la-","uke dkfeZd","in uke","tUe frfFk","fu;qfä frfFk","ekfld ekuns;","12 ekg dk ekuns;","vkxkeh o\"kZ es 12 ekg dk ekuns;"]
[null,null,1,2,3,4,5,6,7,8]
[null,null,1,null,null,null,null,0,{"$f":"H122*12","v":0},{"$f":"H122*12","v":0}]
[null,null,2,"","","","",0,{"$f":"H123*12","v":0},{"$f":"H123*12","v":0}]
[null,null,3,"","","","",0,0,0]
[null,null,4,"","","","",0,0,0]
[null,null,5,"","","","",0,0,0]
[null,null,6,"","","","",0,0,0]
[null,null,7,"","","","",0,0,0]
[null,null,8,"","","",null,0,0,0]
[null,null,9,"","","","",0,0,0]
[null,null,10,"","","","",0,0,0]
[null,null,null,null,"TOTAL",null,null,null,{"$f":"SUM(I122:I131)","v":0},{"$f":"SUM(J122:J131)","v":0}]

{"sheet":"rrr 08","index":1,"n_rows":91,"n_cols":16,"rows_kept":91,"cut":false,"hidden":false,"merged":[[0,0,0,10],[0,12,0,15],[89,9,89,10],[4,1,4,3],[4,5,4,7],[4,8,4,9],[4,10,4,11],[81,7,81,11],[82,1,82,6],[82,7,82,11],[79,1,79,6],[79,7,79,11],[80,1,80,6],[80,7,80,11],[85,3,85,15],[3,12,4,12],[1,15,2,15],[88,9,88,10],[74,1,74,6],[76,1,76,6],[77,1,77,6],[72,1,72,6],[73,1,73,6],[83,7,83,11],[81,1,81,6],[78,7,78,11],[78,1,78,6],[83,1,83,6],[69,7,69,11],[69,1,69,6],[70,1,70,6],[71,1,71,6],[1,0,1,14],[2,0,2,14],[3,0,3,2],[4,13,4,14],[5,10,5,11],[5,12,6,12],[5,13,6,13],[5,14,6,14],[5,0,6,0],[5,8,6,8],[5,9,6,9],[5,2,6,3],[5,4,6,4],[3,3,3,7],[75,1,75,6],[3,15,4,15],[66,1,66,6],[68,1,68,6],[67,1,67,6],[7,2,7,3],[5,5,6,5],[5,6,5,7],[6,6,6,7],[5,1,6,1],[3,8,3,9],[3,10,3,11],[5,15,6,15]]}
["izi= 8",null,null,null,null,null,null,null,null,null,null,"ctV gSM",{"$f":"Profile!$C$3","v":"2202-02-109-27-01"}]
["fuf'pr O;;ksa ds foLr`r vuqeku vFkkZr~ vf/kdkfj;ksa o deZpkfj;ksa ds osru vuqeku o\"kZ ¼vizSy ls ekpZ rd½",null,null,null,null,null,null,null,null,null,null,null,null,null,null,{"$f":"Profile!$M$36","v":"2022&2023"}]
["¼ctV vuqeku vf/kdkfj;ksa }kjk foHkkxk/;{k dks izLrqr djus gsrq½ ys[kk dk 'kh\"kZ % eq[; 'kh\"kZ@minh?kZ 'kh\"kZ@y?kq'kh\"kZ@mi'kh\"kZ xzqi 'kh\"kZ--------------------vk;kstuk fHkUu@vk;kstuk@dsUnz izofrZr ;kstuk"]
["dk;kZy; %&",null,null,{"$f":"Profile!$D$36","v":"15tSM Jhxaxkuxj"},null,null,null,null,"foHkkx dk uke %&",null,{"$f":"Profile!$G$2","v":"f'k{kk foHkkx"},null,{"$f":"Profile!$K$36","v":"LVsV Q.M"},"ekax la[;k&",{"$f":"Profile!$C$11","v":24},{"$f":"Profile!$G$35","v":2405}]
[null,"ctV Lohd`fr esa fo|ky; dh Ø-la- %&",null,null,{"$f":"Profile!$C$12","v":25},"dk;kZy; v/;{k MhMhvks uke %&",null,null,{"$f":"Profile!$G$4","v":"izHkkr 'kekZ"},null,{"$f":"Profile!$I$4","v":0},null,null,"j   lgL=ksa esa"]
[null,"Øe la[;k","uke",null,"thih,Q @ ,uih,l uEcj","in","in dk Lohd`r osru",null,{"$f":"Profile!$J$38","v":"ctV dh izkjfEHkd frfFk ;kfu 1ekpZ2022 dks deZpkjh dk osru"},"igyh ekpZ ls vfUre Qjojh ds fy;s fu/kkZfjr jde","o`f) tks bl vof/k esa gksxh",null,{"$f":"Profile!$N$38","v":"vkxkeh o\"kZ 2022&23 ds fy;s jde ¼dkye 8$10½"},{"$f":"Profile!$O$38","v":"pkyw o\"kZ ds fy;s la'kksf/kr vuqeku 2021&22"},"fo'ks\"k fooj.k ¼osru o`f)½","deZpkjh vkbZ Mh"]
[null,null,null,null,null,null,{"$f":"Profile!$H$39","v":"xzsM is@ ysoy"},null,null,null,"frfFk o`f)","jde o`f)"]
[null,1,2,null,3,4,5,6,7,8,9,10,11,12,13,14]
[{"$f":"Profile!A44","v":"jktif=r"},{"$f":"Profile!B44","v":1},{"$f":"Profile!C44","v":"Jh "},{"$f":"Profile!D44","v":"lqfer fxjh"},{"$f":"Profile!F44","v":0},{"$f":"Profile!G44","v":"iz/kkukpk;Z"},{"$f":"Profile!H44","v":"ysoy"},{"$f":"Profile!I44","v":16},{"$f":"Profile!J44","v":11000},{"$f":"I9*12","v":132000},{"$f":"Profile!L44","v":"2022-07-01"},{"$f":"O9*8","v":2400},{"$f":"J9+L9","v":134400},{"$f":"M9-O9*12","v":130800},{"$f":"Profile!P44","v":300},{"$f":"Profile!E44","v":0}]
[{"$f":"Profile!A45","v":"jktif=r"},{"$f":"Profile!B45","v":1},{"$f":"Profile!C45","v":0},{"$f":"Profile!D45","v":0},{"$f":"Profile!F45","v":0},{"$f":"Profile!G45","v":"O;k[;krk"},{"$f":"Profile!H45","v":"ysoy"},{"$f":"Profile!I45","v":16},{"$f":"Profile!J45","v":11000},{"$f":"I10*12","v":132000},{"$f":"Profile!L45","v":"2022-07-01"},{"$f":"O10*8","v":2400},{"$f":"J10+L10","v":134400},{"$f":"M10-O10*12","v":130800},{"$f":"Profile!P45","v":300},{"$f":"Profile!E45","v":0}]
[{"$f":"Profile!A46","v":"jktif=r"},{"$f":"Profile!B46","v":2},{"$f":"Profile!C46","v":0},{"$f":"Profile!D46","v":0},{"$f":"Profile!F46","v":0},{"$f":"Profile!G46","v":"O;k[;krk"},{"$f":"Profile!H46","v":"ysoy"},{"$f":"Profile!I46","v":16},{"$f":"Profile!J46","v":11000},132000,{"$f":"Profile!L46","v":"2022-07-01"},2400,134400,{"$f":"M11-O11*12","v":130800},{"$f":"Profile!P46","v":300},{"$f":"Profile!E46","v":0}]
[{"$f":"Profile!A47","v":"jktif=r"},{"$f":"Profile!B47","v":3},{"$f":"Profile!C47","v":0},{"$f":"Profile!D47","v":0},{"$f":"Profile!F47","v":0},{"$f":"Profile!G47","v":"O;k[;krk"},{"$f":"Profile!H47","v":"ysoy"},{"$f":"Profile!I47","v":16},{"$f":"Profile!J47","v":11000},132000,{"$f":"Profile!L47","v":"2022-07-01"},2400,134400,130800,{"$f":"Profile!P47","v":300},{"$f":"Profile!E47","v":0}]
[{"$f":"Profile!A48","v":"jktif=r"},{"$f":"Profile!B48","v":4},{"$f":"Profile!C48","v":0},{"$f":"Profile!D48","v":0},{"$f":"Profile!F48","v":0},{"$f":"Profile!G48","v":"O;k[;krk"},{"$f":"Profile!H48","v":"ysoy"},{"$f":"Profile!I48","v":16},{"$f":"Profile!J48","v":11000},132000,{"$f":"Profile!L48","v":"2022-07-01"},2400,134400,130800,{"$f":"Profile!P48","v":300},{"$f":"Profile!E48","v":0}]
[{"$f":"Profile!A49","v":"jktif=r"},{"$f":"Profile!B49","v":5},{"$f":"Profile!C49","v":0},{"$f":"Profile!D49","v":0},{"$f":"Profile!F49","v":0},{"$f":"Profile!G49","v":"O;k[;krk"},{"$f":"Profile!H49","v":"ysoy"},{"$f":"Profile!I49","v":6},{"$f":"Profile!J49","v":11000},132000,{"$f":"Profile!L49","v":"2022-07-01"},2400,134400,130800,{"$f":"Profile!P49","v":300},{"$f":"Profile!E49","v":0}]
[{"$f":"Profile!A50","v":"jktif=r"},{"$f":"Profile!B50","v":6},{"$f":"Profile!C50","v":0},{"$f":"Profile!D50","v":0},{"$f":"Profile!F50","v":0},{"$f":"Profile!G50","v":"O;k[;krk"},{"$f":"Profile!H50","v":"ysoy"},{"$f":"Profile!I50","v":7},{"$f":"Profile!J50","v":11000},132000,{"$f":"Profile!L50","v":"2022-07-01"},2400,134400,130800,{"$f":"Profile!P50","v":300},{"$f":"Profile!E50","v":0}]
[{"$f":"Profile!A51","v":"jktif=r"},{"$f":"Profile!B51","v":7},{"$f":"Profile!C51","v":0},{"$f":"Profile!D51","v":0},{"$f":"Profile!F51","v":0},{"$f":"Profile!G51","v":"O;k[;krk"},{"$f":"Profile!H51","v":"ysoy"},{"$f":"Profile!I51","v":8},{"$f":"Profile!J51","v":11000},{"$f":"I16*12","v":132000},{"$f":"Profile!L51","v":"2022-07-01"},{"$f":"O16*8","v":2400},{"$f":"J16+L16","v":134400},{"$f":"M16-O16*12","v":130800},{"$f":"Profile!P51","v":300},{"$f":"Profile!E51","v":0}]
[{"$f":"Profile!A52","v":"jktif=r"},{"$f":"Profile!B52","v":8},{"$f":"Profile!C52","v":0},{"$f":"Profile!D52","v":0},{"$f":"Profile!F52","v":0},{"$f":"Profile!G52","v":"O;k[;krk"},{"$f":"Profile!H52","v":"ysoy"},{"$f":"Profile!I52","v":9},{"$f":"Profile!J52","v":11000},132000,{"$f":"Profile!L52","v":"2022-07-01"},2400,134400,130800,{"$f":"Profile!P52","v":300},{"$f":"Profile!E52","v":0}]
[{"$f":"Profile!A53","v":"jktif=r"},{"$f":"Profile!B53","v":9},{"$f":"Profile!C53","v":0},{"$f":"Profile!D53","v":0},{"$f":"Profile!F53","v":0},{"$f":"Profile!G53","v":"O;k[;krk"},{"$f":"Profile!H53","v":"ysoy"},{"$f":"Profile!I53","v":10},{"$f":"Profile!J53","v":11000},132000,{"$f":"Profile!L53","v":"2022-07-01"},2400,134400,130800,{"$f":"Profile!P53","v":300},{"$f":"Profile!E53","v":0}]
[{"$f":"Profile!A54","v":"jktif=r"},{"$f":"Profile!B54","v":10},{"$f":"Profile!C54","v":0},{"$f":"Profile!D54","v":0},{"$f":"Profile!F54","v":0},{"$f":"Profile!G54","v":"O;k[;krk"},{"$f":"Profile!H54","v":"ysoy"},{"$f":"Profile!I54","v":11},{"$f":"Profile!J54","v":11000},132000,{"$f":"Profile!L54","v":"2022-07-01"},2400,134400,130800,{"$f":"Profile!P54","v":300},{"$f":"Profile!E54","v":0}]
[{"$f":"Profile!A55","v":"jktif=r"},{"$f":"Profile!B55","v":11},{"$f":"Profile!C55","v":0},{"$f":"Profile!D55","v":0},{"$f":"Profile!F55","v":0},{"$f":"Profile!G55","v":"O;k[;krk"},{"$f":"Profile!H55","v":"ysoy"},{"$f":"Profile!I55","v":12},{"$f":"Profile!J55","v":11000},132000,{"$f":"Profile!L55","v":"2022-07-01"},2400,134400,130800,{"$f":"Profile!P55","v":300},{"$f":"Profile!E55","v":0}]
[{"$f":"Profile!A56","v":"jktif=r"},{"$f":"Profile!B56","v":12},{"$f":"Profile!C56","v":0},{"$f":"Profile!D56","v":0},{"$f":"Profile!F56","v":0},{"$f":"Profile!G56","v":"O;k[;krk"},{"$f":"Profile!H56","v":"ysoy"},{"$f":"Profile!I56","v":13},{"$f":"Profile!J56","v":11000},132000,{"$f":"Profile!L56","v":"2022-07-01"},2400,134400,130800,{"$f":"Profile!P56","v":300},{"$f":"Profile!E56","v":0}]
[{"$f":"Profile!A57","v":"jktif=r"},{"$f":"Profile!B57","v":13},{"$f":"Profile!C57","v":0},{"$f":"Profile!D57","v":0},{"$f":"Profile!F57","v":0},{"$f":"Profile!G57","v":"O;k[;krk"},{"$f":"Profile!H57","v":"ysoy"},{"$f":"Profile!I57","v":14},{"$f":"Profile!J57","v":11000},132000,{"$f":"Profile!L57","v":"2022-07-01"},2400,134400,130800,{"$f":"Profile!P57","v":300},{"$f":"Profile!E57","v":0}]
[{"$f":"Profile!A58","v":"jktif=r"},{"$f":"Profile!B58","v":14},{"$f":"Profile!C58","v":0},{"$f":"Profile!D58","v":0},{"$f":"Profile!F58","v":0},{"$f":"Profile!G58","v":"O;k[;krk"},{"$f":"Profile!H58","v":"ysoy"},{"$f":"Profile!I58","v":15},{"$f":"Profile!J58","v":11000},132000,{"$f":"Profile!L58","v":"2022-07-01"},2400,134400,130800,{"$f":"Profile!P58","v":300},{"$f":"Profile!E58","v":0}]
[{"$f":"Profile!A59","v":"jktif=r"},{"$f":"Profile!B59","v":15},{"$f":"Profile!C59","v":0},{"$f":"Profile!D59","v":0},{"$f":"Profile!F59","v":0},{"$f":"Profile!G59","v":"O;k[;krk"},{"$f":"Profile!H59","v":"ysoy"},{"$f":"Profile!I59","v":16},{"$f":"Profile!J59","v":11000},132000,{"$f":"Profile!L59","v":"2022-07-01"},2400,134400,130800,{"$f":"Profile!P59","v":300},{"$f":"Profile!E59","v":0}]
[{"$f":"Profile!A60","v":"jktif=r"},{"$f":"Profile!B60","v":16},{"$f":"Profile!C60","v":0},{"$f":"Profile!D60","v":0},{"$f":"Profile!F60","v":0},{"$f":"Profile!G60","v":"O;k[;krk"},{"$f":"Profile!H60","v":"ysoy"},{"$f":"Profile!I60","v":17},{"$f":"Profile!J60","v":11000},132000,{"$f":"Profile!L60","v":"2022-07-01"},2400,134400,130800,{"$f":"Profile!P60","v":300},{"$f":"Profile!E60","v":0}]
[{"$f":"Profile!A61","v":"jktif=r"},{"$f":"Profile!B61","v":17},{"$f":"Profile!C61","v":0},{"$f":"Profile!D61","v":0},{"$f":"Profile!F61","v":0},{"$f":"Profile!G61","v":"O;k[;krk"},{"$f":"Profile!H61","v":"ysoy"},{"$f":"Profile!I61","v":18},{"$f":"Profile!J61","v":11000},132000,{"$f":"Profile!L61","v":"2022-07-01"},2400,134400,130800,{"$f":"Profile!P61","v":300},{"$f":"Profile!E61","v":0}]
[{"$f":"Profile!A62","v":"jktif=r"},{"$f":"Profile!B62","v":18},{"$f":"Profile!C62","v":0},{"$f":"Profile!D62","v":0},{"$f":"Profile!F62","v":0},{"$f":"Profile!G62","v":"O;k[;krk"},{"$f":"Profile!H62","v":"ysoy"},{"$f":"Profile!I62","v":19},{"$f":"Profile!J62","v":11000},132000,{"$f":"Profile!L62","v":"2022-07-01"},2400,134400,130800,{"$f":"Profile!P62","v":300},{"$f":"Profile!E62","v":0}]
[{"$f":"Profile!A63","v":"jktif=r"},{"$f":"Profile!B63","v":19},{"$f":"Profile!C63","v":0},{"$f":"Profile!D63","v":0},{"$f":"Profile!F63","v":0},{"$f":"Profile!G63","v":"O;k[;krk"},{"$f":"Profile!H63","v":"ysoy"},{"$f":"Profile!I63","v":20},{"$f":"Profile!J63","v":11000},132000,{"$f":"Profile!L63","v":"2022-07-01"},2400,134400,130800,{"$f":"Profile!P63","v":300},{"$f":"Profile!E63","v":0}]
[{"$f":"Profile!A64","v":"jktif=r"},{"$f":"Profile!B64","v":20},{"$f":"Profile!C64","v":0},{"$f":"Profile!D64","v":0},{"$f":"Profile!F64","v":0},{"$f":"Profile!G64","v":"O;k[;krk"},{"$f":"Profile!H64","v":"ysoy"},{"$f":"Profile!I64","v":21},{"$f":"Profile!J64","v":11000},132000,{"$f":"Profile!L64","v":"2022-07-01"},2400,134400,130800,{"$f":"Profile!P64","v":300},{"$f":"Profile!E64","v":0}]
[{"$f":"Profile!A65","v":"jktif=r"},{"$f":"Profile!B65","v":21},{"$f":"Profile!C65","v":0},{"$f":"Profile!D65","v":0},{"$f":"Profile!F65","v":0},{"$f":"Profile!G65","v":"O;k[;krk"},{"$f":"Profile!H65","v":"ysoy"},{"$f":"Profile!I65","v":22},{"$f":"Profile!J65","v":11000},132000,{"$f":"Profile!L65","v":"2022-07-01"},2400,134400,130800,{"$f":"Profile!P65","v":300},{"$f":"Profile!E65","v":0}]
[{"$f":"Profile!A66","v":"vjktif=r"},{"$f":"Profile!B66","v":1},{"$f":"Profile!C66","v":"Jherh"},{"$f":"Profile!D66","v":"eUtq ukxiky"},{"$f":"Profile!F66","v":110061722142},{"$f":"Profile!G66","v":"ofj\"B v/;kid"},{"$f":"Profile!H66","v":"ysoy"},{"$f":"Profile!I66","v":11},{"$f":"Profile!J66","v":11000},132000,{"$f":"Profile!L66","v":"2022-07-01"},2400,134400,130800,{"$f":"Profile!P66","v":300},{"$f":"Profile!E66","v":"RJGA200535013285"}]
[{"$f":"Profile!A67","v":"vjktif=r"},{"$f":"Profile!B67","v":2},{"$f":"Profile!C67","v":"Jherh"},{"$f":"Profile!D67","v":"dkS'kY;k"},{"$f":"Profile!F67","v":110191483960},{"$f":"Profile!G67","v":"ofj\"B v/;kid"},{"$f":"Profile!H67","v":"ysoy"},{"$f":"Profile!I67","v":11},{"$f":"Profile!J67","v":11000},{"$f":"I32*12","v":132000},{"$f":"Profile!L67","v":"2022-07-01"},2400,134400,130800,{"$f":"Profile!P67","v":300},{"$f":"Profile!E67","v":"RJGA201435027389"}]
[{"$f":"Profile!A68","v":"vjktif=r"},{"$f":"Profile!B68","v":3},{"$f":"Profile!C68","v":0},{"$f":"Profile!D68","v":0},{"$f":"Profile!F68","v":0},{"$f":"Profile!G68","v":"ofj\"B v/;kid"},{"$f":"Profile!H68","v":"ysoy"},{"$f":"Profile!I68","v":11},{"$f":"Profile!J68","v":11000},132000,{"$f":"Profile!L68","v":"2022-07-01"},2400,134400,130800,{"$f":"Profile!P68","v":300},{"$f":"Profile!E68","v":0}]
[{"$f":"Profile!A69","v":"vjktif=r"},{"$f":"Profile!B69","v":4},{"$f":"Profile!C69","v":0},{"$f":"Profile!D69","v":0},{"$f":"Profile!F69","v":0},{"$f":"Profile!G69","v":"ofj\"B v/;kid"},{"$f":"Profile!H69","v":"ysoy"},{"$f":"Profile!I69","v":11},{"$f":"Profile!J69","v":11000},132000,{"$f":"Profile!L69","v":"2022-07-01"},2400,134400,130800,{"$f":"Profile!P69","v":300},{"$f":"Profile!E69","v":0}]
[{"$f":"Profile!A70","v":"vjktif=r"},{"$f":"Profile!B70","v":5},{"$f":"Profile!C70","v":0},{"$f":"Profile!D70","v":0},{"$f":"Profile!F70","v":0},{"$f":"Profile!G70","v":"ofj\"B v/;kid"},{"$f":"Profile!H70","v":"ysoy"},{"$f":"Profile!I70","v":11},{"$f":"Profile!J70","v":11000},132000,{"$f":"Profile!L70","v":"2022-07-01"},2400,134400,130800,{"$f":"Profile!P70","v":300},{"$f":"Profile!E70","v":0}]
[{"$f":"Profile!A71","v":"vjktif=r"},{"$f":"Profile!B71","v":6},{"$f":"Profile!C71","v":0},{"$f":"Profile!D71","v":0},{"$f":"Profile!F71","v":0},{"$f":"Profile!G71","v":"ofj\"B v/;kid"},{"$f":"Profile!H71","v":"ysoy"},{"$f":"Profile!I71","v":11},{"$f":"Profile!J71","v":11000},{"$f":"I36*12","v":132000},{"$f":"Profile!L71","v":"2022-07-01"},{"$f":"O36*8","v":2400},{"$f":"J36+L36","v":134400},{"$f":"M36-O36*12","v":130800},{"$f":"Profile!P71","v":300},{"$f":"Profile!E71","v":0}]
[{"$f":"Profile!A72","v":"vjktif=r"},{"$f":"Profile!B72","v":7},{"$f":"Profile!C72","v":0},{"$f":"Profile!D72","v":0},{"$f":"Profile!F72","v":0},{"$f":"Profile!G72","v":"ofj\"B v/;kid"},{"$f":"Profile!H72","v":"ysoy"},{"$f":"Profile!I72","v":7},{"$f":"Profile!J72","v":11000},{"$f":"I37*12","v":132000},{"$f":"Profile!L72","v":"2022-07-01"},{"$f":"O37*8","v":2400},{"$f":"J37+L37","v":134400},{"$f":"M37-O37*12","v":130800},{"$f":"Profile!P72","v":300},{"$f":"Profile!E72","v":0}]
[{"$f":"Profile!A73","v":"vjktif=r"},{"$f":"Profile!B73","v":8},{"$f":"Profile!C73","v":0},{"$f":"Profile!D73","v":0},{"$f":"Profile!F73","v":0},{"$f":"Profile!G73","v":"ofj\"B v/;kid"},{"$f":"Profile!H73","v":"ysoy"},{"$f":"Profile!I73","v":8},{"$f":"Profile!J73","v":11000},132000,{"$f":"Profile!L73","v":"2022-07-01"},2400,134400,130800,{"$f":"Profile!P73","v":300},{"$f":"Profile!E73","v":0}]
[{"$f":"Profile!A74","v":"vjktif=r"},{"$f":"Profile!B74","v":9},{"$f":"Profile!C74","v":0},{"$f":"Profile!D74","v":0},{"$f":"Profile!F74","v":0},{"$f":"Profile!G74","v":"ofj\"B v/;kid"},{"$f":"Profile!H74","v":"ysoy"},{"$f":"Profile!I74","v":9},{"$f":"Profile!J74","v":11000},132000,{"$f":"Profile!L74","v":"2022-07-01"},2400,134400,130800,{"$f":"Profile!P74","v":300},{"$f":"Profile!E74","v":0}]
[{"$f":"Profile!A75","v":"vjktif=r"},{"$f":"Profile!B75","v":10},{"$f":"Profile!C75","v":0},{"$f":"Profile!D75","v":0},{"$f":"Profile!F75","v":0},{"$f":"Profile!G75","v":"ofj\"B v/;kid"},{"$f":"Profile!H75","v":"ysoy"},{"$f":"Profile!I75","v":10},{"$f":"Profile!J75","v":11000},132000,{"$f":"Profile!L75","v":"2022-07-01"},2400,134400,130800,{"$f":"Profile!P75","v":300},{"$f":"Profile!E75","v":0}]
[{"$f":"Profile!A76","v":"vjktif=r"},{"$f":"Profile!B76","v":11},{"$f":"Profile!C76","v":0},{"$f":"Profile!D76","v":0},{"$f":"Profile!F76","v":0},{"$f":"Profile!G76","v":"ofj\"B v/;kid"},{"$f":"Profile!H76","v":"ysoy"},{"$f":"Profile!I76","v":11},{"$f":"Profile!J76","v":11000},132000,{"$f":"Profile!L76","v":"2022-07-01"},2400,134400,130800,{"$f":"Profile!P76","v":300},{"$f":"Profile!E76","v":0}]
[{"$f":"Profile!A77","v":"vjktif=r"},{"$f":"Profile!B77","v":12},{"$f":"Profile!C77","v":0},{"$f":"Profile!D77","v":0},{"$f":"Profile!F77","v":0},{"$f":"Profile!G77","v":"ofj\"B v/;kid"},{"$f":"Profile!H77","v":"ysoy"},{"$f":"Profile!I77","v":12},{"$f":"Profile!J77","v":11000},132000,{"$f":"Profile!L77","v":"2022-07-01"},2400,134400,130800,{"$f":"Profile!P77","v":300},{"$f":"Profile!E77","v":0}]
[{"$f":"Profile!A78","v":"vjktif=r"},{"$f":"Profile!B78","v":13},{"$f":"Profile!C78","v":0},{"$f":"Profile!D78","v":0},{"$f":"Profile!F78","v":0},{"$f":"Profile!G78","v":"ofj\"B v/;kid"},{"$f":"Profile!H78","v":"ysoy"},{"$f":"Profile!I78","v":13},{"$f":"Profile!J78","v":11000},132000,{"$f":"Profile!L78","v":"2022-07-01"},2400,134400,130800,{"$f":"Profile!P78","v":300},{"$f":"Profile!E78","v":0}]
[{"$f":"Profile!A79","v":"vjktif=r"},{"$f":"Profile!B79","v":14},{"$f":"Profile!C79","v":0},{"$f":"Profile!D79","v":0},{"$f":"Profile!F79","v":0},{"$f":"Profile!G79","v":"ofj\"B v/;kid"},{"$f":"Profile!H79","v":"ysoy"},{"$f":"Profile!I79","v":14},{"$f":"Profile!J79","v":11000},132000,{"$f":"Profile!L79","v":"2022-07-01"},2400,134400,130800,{"$f":"Profile!P79","v":300},{"$f":"Profile!E79","v":0}]
[{"$f":"Profile!A80","v":"vjktif=r"},{"$f":"Profile!B80","v":15},{"$f":"Profile!C80","v":0},{"$f":"Profile!D80","v":0},{"$f":"Profile!F80","v":0},{"$f":"Profile!G80","v":"ofj\"B v/;kid"},{"$f":"Profile!H80","v":"ysoy"},{"$f":"Profile!I80","v":15},{"$f":"Profile!J80","v":11000},132000,{"$f":"Profile!L80","v":"2022-07-01"},2400,134400,130800,{"$f":"Profile!P80","v":300},{"$f":"Profile!E80","v":0}]
[{"$f":"Profile!A81","v":"vjktif=r"},{"$f":"Profile!B81","v":16},{"$f":"Profile!C81","v":0},{"$f":"Profile!D81","v":0},{"$f":"Profile!F81","v":0},{"$f":"Profile!G81","v":"ofj\"B v/;kid"},{"$f":"Profile!H81","v":"ysoy"},{"$f":"Profile!I81","v":16},{"$f":"Profile!J81","v":11000},132000,{"$f":"Profile!L81","v":"2022-07-01"},2400,134400,130800,{"$f":"Profile!P81","v":300},{"$f":"Profile!E81","v":0}]
[{"$f":"Profile!A82","v":"vjktif=r"},{"$f":"Profile!B82","v":17},{"$f":"Profile!C82","v":0},{"$f":"Profile!D82","v":0},{"$f":"Profile!F82","v":0},{"$f":"Profile!G82","v":"ofj\"B v/;kid"},{"$f":"Profile!H82","v":"ysoy"},{"$f":"Profile!I82","v":17},{"$f":"Profile!J82","v":11000},132000,{"$f":"Profile!L82","v":"2022-07-01"},2400,134400,130800,{"$f":"Profile!P82","v":300},{"$f":"Profile!E82","v":0}]
[{"$f":"Profile!A83","v":"vjktif=r"},{"$f":"Profile!B83","v":18},{"$f":"Profile!C83","v":0},{"$f":"Profile!D83","v":0},{"$f":"Profile!F83","v":0},{"$f":"Profile!G83","v":"ofj\"B v/;kid"},{"$f":"Profile!H83","v":"ysoy"},{"$f":"Profile!I83","v":18},{"$f":"Profile!J83","v":11000},132000,{"$f":"Profile!L83","v":"2022-07-01"},2400,134400,130800,{"$f":"Profile!P83","v":300},{"$f":"Profile!E83","v":0}]
[{"$f":"Profile!A84","v":"vjktif=r"},{"$f":"Profile!B84","v":19},{"$f":"Profile!C84","v":0},{"$f":"Profile!D84","v":0},{"$f":"Profile!F84","v":0},{"$f":"Profile!G84","v":"ofj\"B v/;kid"},{"$f":"Profile!H84","v":"ysoy"},{"$f":"Profile!I84","v":19},{"$f":"Profile!J84","v":11000},132000,{"$f":"Profile!L84","v":"2022-07-01"},2400,134400,130800,{"$f":"Profile!P84","v":300},{"$f":"Profile!E84","v":0}]
[{"$f":"Profile!A85","v":"vjktif=r"},{"$f":"Profile!B85","v":20},{"$f":"Profile!C85","v":0},{"$f":"Profile!D85","v":0},{"$f":"Profile!F85","v":0},{"$f":"Profile!G85","v":"ofj\"B v/;kid"},{"$f":"Profile!H85","v":"ysoy"},{"$f":"Profile!I85","v":20},{"$f":"Profile!J85","v":11000},132000,{"$f":"Profile!L85","v":"2022-07-01"},2400,134400,130800,{"$f":"Profile!P85","v":300},{"$f":"Profile!E85","v":0}]
[{"$f":"Profile!A86","v":"vjktif=r"},{"$f":"Profile!B86","v":21},{"$f":"Profile!C86","v":0},{"$f":"Profile!D86","v":0},{"$f":"Profile!F86","v":0},{"$f":"Profile!G86","v":"ofj\"B v/;kid"},{"$f":"Profile!H86","v":"ysoy"},{"$f":"Profile!I86","v":21},{"$f":"Profile!J86","v":11000},132000,{"$f":"Profile!L86","v":"2022-07-01"},2400,134400,130800,{"$f":"Profile!P86","v":300},{"$f":"Profile!E86","v":0}]
[{"$f":"Profile!A87","v":"vjktif=r"},{"$f":"Profile!B87","v":22},{"$f":"Profile!C87","v":0},{"$f":"Profile!D87","v":0},{"$f":"Profile!F87","v":0},{"$f":"Profile!G87","v":"ofj\"B v/;kid"},{"$f":"Profile!H87","v":"ysoy"},{"$f":"Profile!I87","v":22},{"$f":"Profile!J87","v":11000},132000,{"$f":"Profile!L87","v":"2022-07-01"},2400,134400,130800,{"$f":"Profile!P87","v":300},{"$f":"Profile!E87","v":0}]
[{"$f":"Profile!A88","v":"vjktif=r"},{"$f":"Profile!B88","v":1},{"$f":"Profile!C88","v":"Jh"},{"$f":"Profile!D88","v":"nsosUnz dqekj lqFkkj"},{"$f":"Profile!F88","v":110041738889},{"$f":"Profile!G88","v":"v/;kid&2"},{"$f":"Profile!H88","v":"ysoy"},{"$f":"Profile!I88","v":23},{"$f":"Profile!J88","v":11000},132000,{"$f":"Profile!L88","v":"2022-07-01"},2400,134400,130800,{"$f":"Profile!P88","v":300},{"$f":"Profile!E88","v":"RJBI200509033977"}]
[{"$f":"Profile!A89","v":"vjktif=r"},{"$f":"Profile!B89","v":2},{"$f":"Profile!C89","v":"Jh "},{"$f":"Profile!D89","v":"euftUnz flag"},{"$f":"Profile!F89","v":0},{"$f":"Profile!G89","v":"v/;kid&2"},{"$f":"Profile!H89","v":"ysoy"},{"$f":"Profile!I89","v":24},{"$f":"Profile!J89","v":11000},132000,{"$f":"Profile!L89","v":"2022-07-01"},2400,134400,130800,{"$f":"Profile!P89","v":300},{"$f":"Profile!E89","v":0}]
[{"$f":"Profile!A90","v":"vjktif=r"},{"$f":"Profile!B90","v":3},{"$f":"Profile!C90","v":"Jherh"},{"$f":"Profile!D90","v":"jf'e dVkfj;k"},{"$f":"Profile!F90","v":0},{"$f":"Profile!G90","v":"v/;kid&2"},{"$f":"Profile!H90","v":"ysoy"},{"$f":"Profile!I90","v":25},{"$f":"Profile!J90","v":11000},132000,{"$f":"Profile!L90","v":"2022-07-01"},2400,134400,{"$f":"M55-O55*12","v":130800},{"$f":"Profile!P90","v":300},{"$f":"Profile!E90","v":0}]
[{"$f":"Profile!A91","v":"vjktif=r"},{"$f":"Profile!B91","v":4},{"$f":"Profile!C91","v":"Jherh"},{"$f":"Profile!D91","v":"js[kk jkuh"},{"$f":"Profile!F91","v":0},{"$f":"Profile!G91","v":"v/;kid&1"},{"$f":"Profile!H91","v":"ysoy"},{"$f":"Profile!I91","v":26},{"$f":"Profile!J91","v":11000},132000,{"$f":"Profile!L91","v":"2022-07-01"},2400,134400,130800,{"$f":"Profile!P91","v":300},{"$f":"Profile!E91","v":0}]
[{"$f":"Profile!A92","v":"vjktif=r"},{"$f":"Profile!B92","v":5},{"$f":"Profile!C92","v":"Jherh"},{"$f":"Profile!D92","v":"lqq\"kek jkuh"},{"$f":"Profile!F92","v":0},{"$f":"Profile!G92","v":"v/;kid&1"},{"$f":"Profile!H92","v":"ysoy"},{"$f":"Profile!I92","v":27},{"$f":"Profile!J92","v":11000},132000,{"$f":"Profile!L92","v":"2022-07-01"},2400,134400,130800,{"$f":"Profile!P92","v":300},{"$f":"Profile!E92","v":0}]
[{"$f":"Profile!A93","v":"vjktif=r"},{"$f":"Profile!B93","v":6},{"$f":"Profile!C93","v":0},{"$f":"Profile!D93","v":0},{"$f":"Profile!F93","v":0},{"$f":"Profile!G93","v":"v/;kid&1"},{"$f":"Profile!H93","v":"ysoy"},{"$f":"Profile!I93","v":28},{"$f":"Profile!J93","v":11000},132000,{"$f":"Profile!L93","v":"2022-07-01"},2400,134400,130800,{"$f":"Profile!P93","v":300},{"$f":"Profile!E93","v":0}]
[{"$f":"Profile!A94","v":"vjktif=r"},{"$f":"Profile!B94","v":1},{"$f":"Profile!C94","v":"Jh "},{"$f":"Profile!D94","v":"iou dqekj xksnkjk"},{"$f":"Profile!F94","v":0},{"$f":"Profile!G94","v":" 'kk-f'k{kd"},{"$f":"Profile!H94","v":"ysoy"},{"$f":"Profile!I94","v":29},{"$f":"Profile!J94","v":11000},132000,{"$f":"Profile!L94","v":"2022-07-01"},2400,134400,130800,{"$f":"Profile!P94","v":300},{"$f":"Profile!E94","v":0}]
[{"$f":"Profile!A95","v":"vjktif=r"},{"$f":"Profile!B95","v":1},{"$f":"Profile!C95","v":0},{"$f":"Profile!D95","v":0},{"$f":"Profile!F95","v":0},{"$f":"Profile!G95","v":"dk;kZy; lgk;d"},{"$f":"Profile!H95","v":"ysoy"},{"$f":"Profile!I95","v":30},{"$f":"Profile!J95","v":11000},132000,{"$f":"Profile!L95","v":"2022-07-01"},2400,134400,130800,{"$f":"Profile!P95","v":300},{"$f":"Profile!E95","v":0}]
[{"$f":"Profile!A96","v":"vjktif=r"},{"$f":"Profile!B96","v":1},{"$f":"Profile!C96","v":"Jh "},{"$f":"Profile!D96","v":"lqfer fxjh"},{"$f":"Profile!F96","v":0},{"$f":"Profile!G96","v":"ofj\"B fyfid"},{"$f":"Profile!H96","v":"ysoy"},{"$f":"Profile!I96","v":31},{"$f":"Profile!J96","v":11000},132000,{"$f":"Profile!L96","v":"2022-07-01"},2400,134400,130800,{"$f":"Profile!P96","v":300},{"$f":"Profile!E96","v":0}]
[{"$f":"Profile!A97","v":"vjktif=r"},{"$f":"Profile!B97","v":1},{"$f":"Profile!C97","v":0},{"$f":"Profile!D97","v":0},{"$f":"Profile!F97","v":0},{"$f":"Profile!G97","v":"dfu\"B fyfid"},{"$f":"Profile!H97","v":"ysoy"},{"$f":"Profile!I97","v":32},{"$f":"Profile!J97","v":11000},132000,{"$f":"Profile!L97","v":"2022-07-01"},2400,134400,130800,{"$f":"Profile!P97","v":300},{"$f":"Profile!E97","v":0}]
[{"$f":"Profile!A98","v":"vjktif=r"},{"$f":"Profile!B98","v":1},{"$f":"Profile!C98","v":"Jherh"},{"$f":"Profile!D98","v":"y{eh nsoh"},{"$f":"Profile!F98","v":0},{"$f":"Profile!G98","v":"lgk;d deZpkjh"},{"$f":"Profile!H98","v":"ysoy"},{"$f":"Profile!I98","v":33},{"$f":"Profile!J98","v":11000},132000,{"$f":"Profile!L98","v":"2022-07-01"},2400,134400,130800,{"$f":"Profile!P98","v":300},{"$f":"Profile!E98","v":0}]
[{"$f":"Profile!A99","v":"vjktif=r"},{"$f":"Profile!B99","v":2},{"$f":"Profile!C99","v":"Jh"},{"$f":"Profile!D99","v":"cyoUr jk;"},{"$f":"Profile!F99","v":0},{"$f":"Profile!G99","v":"lgk;d deZpkjh"},{"$f":"Profile!H99","v":"ysoy"},{"$f":"Profile!I99","v":34},{"$f":"Profile!J99","v":11000},132000,{"$f":"Profile!L99","v":"2022-07-01"},2400,134400,130800,{"$f":"Profile!P99","v":300},{"$f":"Profile!E99","v":0}]
[{"$f":"Profile!A100","v":"vjktif=r"},{"$f":"Profile!B100","v":3},{"$f":"Profile!C100","v":0},{"$f":"Profile!D100","v":0},{"$f":"Profile!F100","v":0},{"$f":"Profile!G100","v":"lgk;d deZpkjh"},{"$f":"Profile!H100","v":"ysoy"},{"$f":"Profile!I100","v":35},{"$f":"Profile!J100","v":11000},132000,{"$f":"Profile!L100","v":"2022-07-01"},2400,134400,130800,{"$f":"Profile!P100","v":300},{"$f":"Profile!E100","v":" "}]
[]
[null,"jktif=r ;ksx",null,null,null,null,null,null,{"$f":"Profile!J102","v":242000},{"$f":"Profile!K102","v":2904000},null,{"$f":"Profile!M102","v":52800},{"$f":"Profile!N102","v":2956800},{"$f":"Profile!O102","v":2877600}]
[null,"vjktif=r ;ksx",null,null,null,null,null,null,{"$f":"Profile!J103","v":385000},{"$f":"Profile!K103","v":4620000},null,{"$f":"Profile!M103","v":84000},{"$f":"Profile!N103","v":4704000},{"$f":"Profile!O103","v":4578000}]
[null,";ksx jktif=r$vjktif=r ",null,null,null,null,null,null,{"$f":"Profile!J104","v":627000},{"$f":"Profile!K104","v":7524000},null,{"$f":"Profile!M104","v":136800},{"$f":"Profile!N104","v":7660800},{"$f":"Profile!O104","v":7455600}]
[null,{"$f":"Profile!$B$105","v":"egaxkbZ HkRrk 28izfr'kr"},null,null,null,null,null,null,null,null,null,null,{"$f":"Profile!N105","v":2145024},{"$f":"Profile!O105","v":2087568}]
[null,{"$f":"Profile!$B$106","v":"edku fdjk;k 9izfr'kr"},null,null,null,null,null,null,null,null,null,null,{"$f":"Profile!N106","v":689472},{"$f":"Profile!O106","v":671004}]
[null,{"$f":"Profile!$B$107","v":"egaxkbZ HkRRkk ,sfj;j¼----izfr'kr½"},null,null,null,null,null,null,null,null,null,null,{"$f":"Profile!N107","v":0},{"$f":"Profile!O107","v":0}]
[null,{"$f":"Profile!$B$108","v":"cksul"},null,null,null,null,null,null,null,null,null,null,{"$f":"Profile!N108","v":0},{"$f":"Profile!O108","v":0}]
[null,{"$f":"Profile!B109","v":"lefiZr vodk'k"},null,null,null,null,null,null,null,null,null,null,{"$f":"Profile!N109","v":408576},{"$f":"Profile!O109","v":397632}]
[null,{"$f":"Profile!B110","v":"dSf'k;j HkRrk"},null,null,null,null,null,null,null,null,null,null,{"$f":"Profile!N110","v":0},{"$f":"Profile!O110","v":0}]
[null,{"$f":"Profile!B111","v":"fnO;kax Hkrk "},null,null,null,null,null,null,null,null,null,null,{"$f":"Profile!N111","v":0},{"$f":"Profile!O111","v":0}]
[null,{"$f":"Profile!B112","v":"/kqykbZ HkRrkk"},null,null,null,null,null,null,null,null,null,null,{"$f":"Profile!N112","v":0},{"$f":"Profile!O112","v":0}]
[null,{"$f":"Profile!B113","v":"¼fQDl is½ vU; HkRRkk"},null,null,null,null,null,null,null,null,null,null,{"$f":"Profile!N113","v":0},{"$f":"Profile!O113","v":0}]
[null,{"$f":"Profile!$B$114","v":"dqqy HkRrk ;ksx"},null,null,null,null,null,null,null,null,null,null,{"$f":"Profile!N114","v":3243072},{"$f":"Profile!O114","v":3156204}]
[null,{"$f":"Profile!B115","v":";ksx laosru"},null,null,null,null,null,null,null,null,null,null,{"$f":"Profile!N115","v":10903872},{"$f":"Profile!O115","v":10611804}]
[null,{"$f":"Profile!B116","v":";k=k HkRrk"},null,null,null,null,null,null,null,null,null,null,{"$f":"Profile!N116","v":0},{"$f":"Profile!O116","v":0}]
[null,{"$f":"Profile!B117","v":"esfMdy HkRrk"},null,null,null,null,null,null,null,null,null,null,{"$f":"Profile!N117","v":0},{"$f":"Profile!O117","v":0}]
[null,{"$f":"Profile!B118","v":";ksx ;k=k HkRrk$esfMdy HkRRkk"},null,null,null,null,null,null,null,null,null,null,{"$f":"Profile!N118","v":0},{"$f":"Profile!O118","v":0}]
[null,{"$f":"Profile!B119","v":"egk;ksx"},null,null,null,null,null,null,null,null,null,null,{"$f":"Profile!N119","v":10903872},{"$f":"Profile!O119","v":10611804}]
[]
[null,null,null,"izekf.kr fd;k tkrk gS fd mi;qZDr lwpuk dh esjs }kjk O;fDrxr :Ik ls tkap dj yh xbZ gS vksj bls lgh ik;k x;k gSA"]
[]
[null,null,null,null,null,null,null,null,null,null,null,null,{"$f":"Profile!A3","v":"ihbZbZvks 10tSM ,oa iz/kkukpk;Z"}]
[null,null,null,null,null,null,null,null,"rS;kj drkZ %&",{"$f":"Profile!G6","v":"lqfer fxjh"},null,null,{"$f":"Profile!A4","v":"jktdh; mPp ek/;fed fo|ky;"}]
[null,null,null,null,null,null,null,null,null,{"$f":"Profile!$I$6","v":9414631519},null,null,{"$f":"Profile!A5","v":"15tSM Jhxaxkuxj"}]
[null,null,null,null,null,null,null,null,null,null,null,null,{"$f":"Profile!$F$4","v":2405}]

{"sheet":"rrr 09","index":2,"n_rows":62,"n_cols":20,"rows_kept":62,"cut":false,"hidden":false,"merged":[[0,13,0,16],[38,14,38,17],[5,0,6,0],[5,1,6,1],[5,6,6,6],[5,3,5,5],[5,7,5,9],[5,11,6,11],[5,10,6,10],[5,2,6,2],[5,12,5,14],[4,1,4,4],[4,5,4,6],[3,11,3,13],[3,14,3,17],[5,15,5,17],[4,7,4,9],[4,10,4,12],[4,13,4,14],[0,0,0,8],[0,9,0,11],[1,18,2,19],[1,0,1,17],[2,0,2,17],[3,0,3,3],[3,4,3,10],[5,19,6,19],[3,18,3,19],[4,18,4,19],[42,14,42,17],[35,14,35,17],[36,14,36,17],[37,14,37,17],[34,8,34,9],[35,8,35,9],[40,1,40,5],[41,2,41,4],[41,5,41,6],[41,7,41,9],[41,10,41,11],[41,12,41,13],[41,14,41,17],[43,2,43,4],[43,5,43,6],[43,7,43,9],[43,10,43,11],[43,12,43,13],[43,14,43,17],[42,2,42,4],[42,5,42,6],[42,7,42,9],[42,10,42,11],[42,12,42,13],[44,14,44,17],[45,2,45,4],[45,5,45,6],[45,7,45,9],[45,10,45,11],[45,12,45,13],[45,14,45,17],[44,2,44,4],[44,5,44,6],[44,7,44,9],[44,10,44,11],[44,12,44,13],[46,14,46,17],[47,2,47,4],[47,5,47,6],[47,7,47,9],[47,10,47,11],[47,12,47,13],[47,14,47,17],[46,2,46,4],[46,5,46,6],[46,7,46,9],[46,10,46,11],[46,12,46,13],[48,14,48,17],[49,2,49,4],[49,5,49,6],[49,7,49,9],[49,10,49,11],[49,12,49,13],[49,14,49,17],[48,2,48,4],[48,5,48,6],[48,7,48,9],[48,10,48,11],[48,12,48,13],[53,12,53,13],[53,14,53,16],[53,17,53,18],[54,2,54,3],[54,4,54,5],[54,6,54,7],[54,8,54,9],[54,10,54,11],[54,12,54,13],[54,14,54,16],[54,17,54,18],[53,2,53,3],[53,4,53,5],[53,6,53,7],[53,8,53,9],[53,10,53,11],[55,12,55,13],[55,14,55,16],[55,17,55,18],[56,2,56,3],[56,4,56,5],[56,6,56,7],[56,8,56,9],[56,10,56,11],[56,12,56,13],[56,14,56,16],[56,17,56,18],[55,2,55,3],[55,4,55,5],[55,6,55,7],[55,8,55,9],[55,10,55,11],[59,12,59,13],[59,14,59,16],[59,17,59,18],[61,1,61,16],[59,2,59,3],[59,4,59,5],[59,6,59,7],[59,8,59,9],[59,10,59,11],[58,2,58,3],[58,4,58,5],[58,6,58,7],[58,8,58,9],[58,10,58,11],[58,12,58,13],[58,14,58,16],[58,17,58,18],[57,2,57,3],[57,4,57,5],[57,6,57,7],[57,8,57,9],[57,10,57,11],[57,12,57,13],[57,14,57,16],[57,17,57,18]]}
["izi= 9",null,null,null,null,null,null,null,null,{"$f":"'rrr 08'!$P$2","v":"2022&2023"},null,null,"ctV gSM",{"$f":"Profile!$C$3","v":"2202-02-109-27-01"}]
["fuf'pr O;;ksa ds foLr`r vuqeku vFkkZr~ vf/kdkfj;ksa o deZpkfj;ksa ds osru vuqeku o\"kZ ¼vizSy ls ekpZ rd½",null,null,null,null,null,null,null,null,null,null,null,null,null,null,null,null,null,{"$f":"Profile!$K$36","v":"LVsV Q.M"}]
["¼ctV vuqeku vf/kdkfj;ksa }kjk foHkkxk/;{k dks izLrqr djus gsrq½ ys[kk dk 'kh\"kZ % eq[; 'kh\"kZ@minh?kZ 'kh\"kZ@y?kq'kh\"kZ@mi'kh\"kZ xzqi 'kh\"kZ--------------------vk;kstuk fHkUu@vk;kstuk@dsUnz izofrZr ;kstuk"]
["dk;kZy; &",null,null,null,{"$f":"Profile!$D$36","v":"15tSM Jhxaxkuxj"},null,null,null,null,null,null,"foHkkx dk uke %&",null,null,{"$f":"Profile!$G$2","v":"f'k{kk foHkkx"},null,null,null,{"$f":"Profile!$G$35","v":2405}]
[null,"ctV Lohd`fr esa fo|ky; dh Ø-la- %&",null,null,null,{"$f":"Profile!$C$12","v":25},null,"dk;kZy; v/;{k MhMhvks uke %&",null,null,{"$f":"Profile!$G$4","v":"izHkkr 'kekZ"},null,null,{"$f":"Profile!$I$4","v":0},null,null,null,null,"j   lgL=ksa esa"]
["Øe l[;k","ys[kk 'kh\"kZd ¼foLr`r 'kh\"kZ½","nrer@ ize`r","okLrfod O;; vkadM+s¼xr iwoZ rhu o\"kksZ ds½",null,null,"vk; O;; ds vuqeku ckcr~ pkyw o\"kZ 21&22","okLrfod O;; vkadM+s",null,null,"vxLr ls ekpZ rd dk laHkkfor O;; ¼pkyw o\"kZ½","la'kksf/kr vuqeku 2021&22 ¼pkyw o\"kZ½ 9$11","vk; O;; ds vuqeku ckcr 2022&23¼vkxkeh o\"kZ½",null,null,"o`f)¼$½ ;k deh¼&½",null,null,"uohu vkbVe","fo'ks\"k fooj.k"]
[null,null,null,{"$f":"Profile!F22","v":"2018-19"},{"$f":"Profile!G22","v":"2019-20"},{"$f":"Profile!H22","v":"20&21 esa ekpZ2021 dk th-,-19"},null,"vxLr ls ekpZ rd ¼xr o\"kZ½","viszy ls tqykbZ rd ¼pkyw o\"kZ½","dkye 8 o 9 dk ;ksx",null,null,"dfeVsM","uohu","dqy ¼13+14½","7 vkSj 12 esa","10 vkSj 12 esa","12 vkSj 15 esa","gka @ ugha"]
[1,2,3,4,5,6,7,8,9,10,11,12,13,14,15,16,17,18,19,20]
[null,";ksx jk$vjk",null,null,null,null,null,null,null,null,null,{"$f":"'rrr 08'!$N$69","v":7455600},{"$f":"'rrr 08'!$M$69","v":7660800},null,{"$f":"M9+N9","v":7660800}]
[{"$f":"Profile!A105","v":0.28000000000000003},{"$f":"Profile!$B$105","v":"egaxkbZ HkRrk 28izfr'kr"},null,null,null,null,null,null,null,null,null,{"$f":"'rrr 08'!N70","v":2087568},{"$f":"'rrr 08'!M70","v":2145024},null,{"$f":"M10+N10","v":2145024}]
[{"$f":"Profile!A106","v":0.09},{"$f":"Profile!$B$106","v":"edku fdjk;k 9izfr'kr"},null,null,null,null,null,null,null,null,null,{"$f":"'rrr 08'!N71","v":671004},{"$f":"'rrr 08'!M71","v":689472},null,689472]
[{"$f":"Profile!A107","v":0},{"$f":"Profile!$B$107","v":"egaxkbZ HkRRkk ,sfj;j¼----izfr'kr½"},null,null,null,null,null,null,null,null,null,{"$f":"'rrr 08'!N72","v":0},{"$f":"'rrr 08'!M72","v":0},null,0]
[null,"cksul",null,null,null,null,null,null,null,null,null,{"$f":"'rrr 08'!N73","v":0},{"$f":"'rrr 08'!M73","v":0},null,0]
[null,"lefiZr vodk'k",null,null,null,null,null,null,null,null,null,{"$f":"'rrr 08'!N74","v":397632},{"$f":"'rrr 08'!M74","v":408576},null,408576]
[null,"dSf'k;j HkRrk",null,null,null,null,null,null,null,null,null,{"$f":"'rrr 08'!N75","v":0},{"$f":"'rrr 08'!M75","v":0},null,0]
[null,"fnO;kax HkRRkk",null,null,null,null,null,null,null,null,null,{"$f":"'rrr 08'!N76","v":0},{"$f":"'rrr 08'!M76","v":0},null,0]
[null,{"$f":"'rrr 08'!B77","v":"/kqykbZ HkRrkk"},null,null,null,null,null,null,null,null,null,{"$f":"'rrr 08'!N77","v":0},{"$f":"'rrr 08'!M77","v":0},null,0]
[null,{"$f":"'rrr 08'!B78","v":"¼fQDl is½ vU; HkRRkk"},null,null,null,null,null,null,null,null,null,{"$f":"'rrr 08'!$N$78","v":0},{"$f":"'rrr 08'!$M$78","v":0},null,0]
[null,";ksx HkRrs",null,null,null,null,null,null,null,null,null,{"$f":"'rrr 08'!N79","v":3156204},{"$f":"'rrr 08'!M79","v":3243072},null,3243072]
[null,";ksx laosru",null,{"$f":"Profile!F23","v":5555511},{"$f":"Profile!G23","v":6303330},{"$f":"Profile!H23","v":7837900},{"$f":"Profile!$C$23","v":7373000},{"$f":"Profile!P23","v":5559492},{"$f":"Profile!Q23","v":2558795},{"$f":"H20+I20","v":8118287},{"$f":"L20-I20","v":8053009},{"$f":"'rrr 08'!N80","v":10611804},{"$f":"'rrr 08'!M80","v":10903872},null,10903872]
[null,";k=k HkRrk",null,{"$f":"Profile!F24","v":0},{"$f":"Profile!G24","v":30000},{"$f":"Profile!H24","v":22910},{"$f":"Profile!C24","v":0},{"$f":"Profile!P24","v":22910},{"$f":"Profile!Q24","v":0},{"$f":"H21+I21","v":22910},{"$f":"L21-I21","v":0},{"$f":"'rrr 08'!N81","v":0},{"$f":"'rrr 08'!M81","v":0},null,0]
[null,"esfMdy HkRrk",null,{"$f":"Profile!F25","v":0},{"$f":"Profile!G25","v":0},{"$f":"Profile!H25","v":0},{"$f":"Profile!C25","v":0},{"$f":"Profile!P25","v":0},{"$f":"Profile!Q25","v":0},0,{"$f":"L22-I22","v":0},{"$f":"'rrr 08'!N82","v":0},{"$f":"'rrr 08'!M82","v":0},null,0]
[null,";ksx ;k=k esfMdy",null,{"$f":"D21+D22","v":0},{"$f":"E21+E22","v":30000},22910,{"$f":"G21+G22","v":0},{"$f":"H21+H22","v":22910},0,22910,0,{"$f":"'rrr 08'!N83","v":0},{"$f":"'rrr 08'!M83","v":0},null,0]
[null,";ksx loZ;ksx",null,{"$f":"D23+D20","v":5555511},6333330,7860810,{"$f":"G23+G20","v":7373000},{"$f":"H23+H20","v":5582402},{"$f":"I23+I20","v":2558795},{"$f":"J23+J20","v":8141197},{"$f":"K23+K20","v":8053009},{"$f":"L20+L23","v":10611804},{"$f":"M20+M23","v":10903872},null,10903872]
[null,{"$f":"Profile!A26","v":"dk;kZy; O;;"},null,{"$f":"Profile!F26","v":0},{"$f":"Profile!G26","v":0},{"$f":"Profile!H26","v":0},{"$f":"Profile!C26","v":0},{"$f":"Profile!P26","v":0},{"$f":"Profile!Q26","v":0},{"$f":"H25+I25","v":0},{"$f":"L25-I25","v":0},{"$f":"Profile!AK26","v":0},{"$f":"Profile!AL24","v":0},null,0]
[null,{"$f":"Profile!A27","v":"fdjk;k dj jk;fYV"},null,{"$f":"Profile!F27","v":0},{"$f":"Profile!G27","v":0},{"$f":"Profile!H27","v":0},{"$f":"Profile!C27","v":0},{"$f":"Profile!P27","v":0},{"$f":"Profile!Q27","v":0},{"$f":"H26+I26","v":0},{"$f":"L26-I26","v":0},{"$f":"Profile!AK27","v":0},{"$f":"Profile!AL25","v":0},null,0]
[null,{"$f":"Profile!A28","v":"e'khujh lkt lkeku"},null,{"$f":"Profile!F28","v":0},{"$f":"Profile!G28","v":0},{"$f":"Profile!H28","v":0},{"$f":"Profile!C28","v":0},{"$f":"Profile!P28","v":0},{"$f":"Profile!Q28","v":0},0,0,{"$f":"Profile!AK28","v":0},{"$f":"Profile!AL26","v":0},null,0]
[null,{"$f":"Profile!A29","v":"iqLrdky;"},null,{"$f":"Profile!F29","v":0},{"$f":"Profile!G29","v":0},{"$f":"Profile!H29","v":0},{"$f":"Profile!C29","v":0},{"$f":"Profile!P29","v":0},{"$f":"Profile!Q29","v":800},800,{"$f":"L28-I28","v":0},{"$f":"Profile!AK29","v":800},{"$f":"Profile!AL27","v":0},null,0]
[null,{"$f":"Profile!A30","v":"iz;ksx'kkyk"},null,{"$f":"Profile!F30","v":0},{"$f":"Profile!G30","v":0},{"$f":"Profile!H30","v":0},{"$f":"Profile!C30","v":0},{"$f":"Profile!P30","v":0},{"$f":"Profile!Q30","v":0},0,0,{"$f":"Profile!AK30","v":0},{"$f":"Profile!AL28","v":0},null,0]
[null,{"$f":"Profile!A31","v":"ofnZ;ka"},null,{"$f":"Profile!F31","v":3600},{"$f":"Profile!G31","v":3600},{"$f":"Profile!H31","v":1950},{"$f":"Profile!C31","v":3600},{"$f":"Profile!P31","v":1950},{"$f":"Profile!Q31","v":0},1950,0,{"$f":"Profile!N31","v":0},{"$f":"Profile!AL31","v":0},null,0]
[null,{"$f":"Profile!A32","v":"vU; izHkkj"},null,{"$f":"Profile!F32","v":0},{"$f":"Profile!G32","v":0},{"$f":"Profile!H32","v":0},{"$f":"Profile!C32","v":0},{"$f":"Profile!P32","v":0},{"$f":"Profile!Q32","v":0},0,0,{"$f":"Profile!AK32","v":0},{"$f":"Profile!AL32","v":0},null,0]
[null,{"$f":"Profile!A33","v":"foHkkxh;lsokvksa ij fof'k\"V O;;"},null,{"$f":"Profile!F33","v":0},{"$f":"Profile!G33","v":0},{"$f":"Profile!H33","v":0},{"$f":"Profile!C33","v":0},{"$f":"Profile!P33","v":0},{"$f":"Profile!Q33","v":0},0,0,{"$f":"Profile!AK33","v":0},{"$f":"Profile!AL33","v":0},null,0]
[null,";ksx",null,{"$f":"D32+D29+D28+D27+D26+D25+D30+D31","v":3600},{"$f":"E32+E29+E28+E27+E26+E25+E30+E31","v":3600},1950,3600,1950,800,{"$f":"J32+J29+J28+J27+J26+J25+J30+J31","v":2750},{"$f":"K32+K29+K28+K27+K26+K25+K30+K31","v":0},{"$f":"L32+L29+L28+L27+L26+L25+L30+L31","v":800},{"$f":"M32+M29+M28+M27+M26+M25+M30+M31","v":0},null,{"$f":"M33+N33","v":0}]
[null,";ksx egk;ksx",null,{"$f":"D33+D24","v":5559111},6336930,7862760,7376600,5584352,2559595,8143947,8053009,10612604,10903872,null,10903872]
[null,null,null,null,null,null,null,"rS;kj drkZ %&",{"$f":"Profile!G6","v":"lqfer fxjh"}]
[null,null,null,null,null,null,null,null,{"$f":"Profile!$I$6","v":9414631519},null,null,null,null,null,{"$f":"Profile!A3","v":"ihbZbZvks 10tSM ,oa iz/kkukpk;Z"}]
[null,null,null,null,null,null,null,null,null,null,null,null,null,null,{"$f":"Profile!A4","v":"jktdh; mPp ek/;fed fo|ky;"},{"$f":"Profile!B4","v":0}]
[null,null,null,null,null,null,null,null,null,null,null,null,null,null,{"$f":"Profile!A5","v":"15tSM Jhxaxkuxj"},{"$f":"Profile!B5","v":0}]
[null,null,null,null,null,null,null,null,null,null,null,null,null,null,{"$f":"Profile!$F$4","v":2405}]
[]
[]
[null,"Øekad","in uke",null,null,"u;k@ØekssUu;u",null,"is cSaM",null,null,"xzsM is",null,"dqy in",null,"fooj.k"]
[null,1,2,null,null,3,null,4,null,null,5,null,6,null,7]
[null,1]
[null,2]
[null,3]
[null,4]
[null,5]
[null,6]
[null,7]
[]
[]
[null,"vU; uohu vkbVe ds fy, izi="]
[null,"Øekad","uohu vkbVe izdkj",null,"Ø; @ fdjk;k",null,"vkbVe dk uke",null,"la[;k",null,"vkorhZ O;; ekfld",null,"vukorhZ Hkkj",null,"dqy okf\"kZd Hkkj",null,null,"vU; fooj.k "]
[null,1]
[null,2]
[null,3]
[null,4]
[null,5]
[null,6]
[]
[null,"izekf.kr fd;k tkrk gS fd mi;qZDr lwpuk dh esjs }kjk O;fDrxr :Ik ls tkap dj yh xbZ gS vksj bls lgh ik;k x;k gSA"]

{"sheet":"rrr10","index":3,"n_rows":21,"n_cols":15,"rows_kept":21,"cut":false,"hidden":false,"merged":[[19,7,19,8],[20,7,20,8],[3,7,3,8],[3,0,3,2],[3,3,3,6],[4,0,5,0],[4,1,5,1],[4,2,4,4],[4,5,5,5],[4,6,4,8],[4,10,5,10],[4,11,5,11],[4,12,4,14],[4,9,5,9],[0,10,0,13],[3,13,3,14],[1,12,1,14],[1,0,1,9],[3,9,3,10],[3,11,3,12],[2,2,2,11],[0,0,0,5],[0,6,0,8],[2,0,2,1]]}
["izi= 10",null,null,null,null,null,{"$f":"'rrr 09'!$J$1","v":"2022&2023"},null,null,"ctV gSM",{"$f":"Profile!$C$3","v":"2202-02-109-27-01"}]
["vk; dk foLr`r ctV vuqeku forh; o\"kZ ---------------------¼1vizSy ls 31ekpZ rd½ dk",null,null,null,null,null,null,null,null,null,"MhMhvks dksM",{"$f":"Profile!$G$35","v":2405},{"$f":"Profile!$K$36","v":"LVsV Q.M"}]
["dk;kZy; &",null,{"$f":"Profile!$D$36","v":"15tSM Jhxaxkuxj"}]
["dk;kZy; v/;{k MhMhvks uke %&",null,null,{"$f":"Profile!$G$4","v":"izHkkr 'kekZ"},null,null,null,{"$f":"Profile!$I$4","v":0},null,"foHkkx dk uke %& ",null,{"$f":"Profile!$G$2","v":"f'k{kk foHkkx"},null,"j  lgL=ksa esa"]
["Øe l[;k","ys[kk dk 'kh\"kZ nh?kZ 'kh\"kZ@ minh?kZ 'kh\"kZ@ y?kq'kh\"kZ@ mi'kh\"kZ ","okLrfod O;; vkadM+s    ¼xr iwoZ rhu o\"kksZ ds½",null,null,{"$f":"'rrr 09'!$G$6","v":"vk; O;; ds vuqeku ckcr~ pkyw o\"kZ 21&22"},"okLrfod vk; vkadM+s",null,null,"vxLr ls ekpZ rd dk laHkkfor vk; ¼pkyw o\"kZ½","la'kksf/kr vuqeku ¼pkyw o\"kZ½ 8$10","vk; O;; ds vuqeku ckcr ¼vkxkeh o\"kZ½","o`f)¼$½ ;k deh¼&½"]
[null,null,{"$f":"'rrr 09'!D7","v":"2018-19"},{"$f":"'rrr 09'!E7","v":"2019-20"},{"$f":"'rrr 09'!$F$7","v":"20&21 esa ekpZ2021 dk th-,-19"},null,"vxLr ls ekpZ rd ¼xr o\"kZ½","viszy ls tqykbZ rd ¼pkyw o\"kZ½","dkye 7 o 8 dk ;ksx",null,null,null,"6 vkSj 11 esa","9 vkSj 11 esa","11 vkSj 12 esa"]
[1,2,3,4,5,6,7,8,9,10,11,12,13,14,15]
[null,"f'k{k.k 'kqYd",{"$f":"Profile!F15","v":0},{"$f":"Profile!G15","v":0},{"$f":"Profile!H15","v":0},{"$f":"K8","v":0},{"$f":"Profile!I15","v":0},{"$f":"Profile!J15","v":0},{"$f":"G8+H8","v":0},{"$f":"Profile!K15","v":0},{"$f":"H8+J8","v":0},{"$f":"Profile!L15","v":0}]
[null,"Vh-lh-",{"$f":"Profile!F16","v":85},{"$f":"Profile!G16","v":95},{"$f":"Profile!H16","v":50},{"$f":"K9","v":60},{"$f":"Profile!I16","v":0},{"$f":"Profile!J16","v":45},{"$f":"G9+H9","v":45},{"$f":"Profile!K16","v":15},{"$f":"H9+J9","v":60},{"$f":"Profile!L16","v":60}]
[null,"izos'k 'kqYd",{"$f":"Profile!F17","v":50},{"$f":"Profile!G17","v":70},{"$f":"Profile!H17","v":40},40,{"$f":"Profile!I17","v":0},{"$f":"Profile!J17","v":30},30,{"$f":"Profile!K17","v":10},40,{"$f":"Profile!L17","v":50}]
[null,"vuqi;ksxh lkeku ds fuLrkj.k ls vk;",{"$f":"Profile!F18","v":0},{"$f":"Profile!G18","v":0},{"$f":"Profile!H18","v":0},0,{"$f":"Profile!I18","v":0},{"$f":"Profile!J18","v":0},0,{"$f":"Profile!K18","v":0},0,{"$f":"Profile!L18","v":0}]
[null,"fofo/k",{"$f":"Profile!F19","v":0},{"$f":"Profile!G19","v":0},{"$f":"Profile!H19","v":0},0,{"$f":"Profile!I19","v":0},{"$f":"Profile!J19","v":0},0,{"$f":"Profile!K19","v":0},0,{"$f":"Profile!L19","v":0}]
[null,"vU;",{"$f":"Profile!F20","v":0},{"$f":"Profile!G20","v":0},{"$f":"Profile!H20","v":5},0,{"$f":"Profile!I20","v":0},{"$f":"Profile!J20","v":0},0,{"$f":"Profile!K20","v":0},0,{"$f":"Profile!L20","v":0}]
[null,";ksx",{"$f":"C13+C10+C9+C8+C11+C12","v":135},{"$f":"D13+D10+D9+D8+D11+D12","v":165},95,{"$f":"F13+F10+F9+F8+F11+F12","v":100},{"$f":"G13+G10+G9+G8+G11+G12","v":0},{"$f":"H13+H10+H9+H8+H11+H12","v":75},{"$f":"I13+I10+I9+I8+I11+I12","v":75},{"$f":"J13+J10+J9+J8+J11+J12","v":25},{"$f":"K13+K10+K9+K8+K11+K12","v":100},{"$f":"L13+L10+L9+L8+L11+L12","v":110}]
[]
[]
[]
[null,null,null,null,null,null,null,null,null,null,null,{"$f":"Profile!A3","v":"ihbZbZvks 10tSM ,oa iz/kkukpk;Z"}]
[null,null,null,null,null,null,null,null,null,null,null,{"$f":"Profile!A4","v":"jktdh; mPp ek/;fed fo|ky;"}]
[null,null,null,null,null,null,"rS;kj drkZ %&",{"$f":"Profile!G6","v":"lqfer fxjh"},null,null,null,{"$f":"Profile!A5","v":"15tSM Jhxaxkuxj"}]
[null,null,null,null,null,null,null,{"$f":"Profile!$I$6","v":9414631519},null,null,null,{"$f":"Profile!$F$4","v":2405}]

{"sheet":"P1","index":4,"n_rows":14,"n_cols":8,"rows_kept":14,"cut":false,"hidden":false,"merged":[[13,6,13,7],[10,6,10,7],[11,6,11,7],[1,0,1,4],[1,6,1,7],[12,6,12,7],[0,0,0,1],[0,2,0,7],[4,5,5,5],[4,0,5,0],[4,1,5,1],[4,2,5,2],[4,3,5,3],[4,4,5,4],[3,0,3,1],[3,2,3,4],[3,5,3,6],[2,0,2,2],[2,3,2,4],[2,5,2,6]]}
[{"$f":"Profile!$A$36","v":"dk;kZy; %&"},null,{"$f":"Profile!$D$36","v":"15tSM Jhxaxkuxj"}]
["izi= 1",null,null,null,null,"ctV gSM",{"$f":"Profile!$C$3","v":"2202-02-109-27-01"}]
["dk;kZy; v/;{k MhMhvks uke %&",null,null,{"$f":"Profile!$G$4","v":"izHkkr 'kekZ"},null,{"$f":"Profile!$I$4","v":0},null,{"$f":"'rrr 08'!$P$2","v":"2022&2023"}]
["ys[kk en ",null,"01 laosru dk x.ku @ ekax izi=",null,null,{"$f":"Profile!$K$36","v":"LVsV Q.M"},null,"jkf'k yk[kksa esa"]
["Ø-la-","vkWfQl vkbZ-Mh-","fo|ky; dk uke","forh; o\"kZ 2021&22 esa laosru esa vkaCkfVr jkf'k","07@21 rd dk okLrfod O;;","08@21 ls 03@22 rd gksus okyk vuqekfur O;;","forh; o\"kZ esa gksus okyk dqy O;;","o\"kZ 2021&22 vfrfjDr ds fy, vko';drk"]
[null,null,null,null,null,null,";ksx dkWye ¼5$6½",";ksx dkWye ¼4&7½"]
[1,2,3,4,5,6,7,8]
[1,{"$f":"Profile!$G$35","v":2405},{"$f":"Profile!$D$36","v":"15tSM Jhxaxkuxj"},{"$f":"'rrr 09'!$G$20","v":7373000},{"$f":"'rrr 09'!$I$20","v":2558795},{"$f":"'rrr 09'!$K$20","v":8053009},{"$f":"E8+F8","v":10611804},{"$f":"D8-G8","v":-3238804}]
[]
[null,null,null,null,"rS;kj drkZ %&",{"$f":"Profile!$G$6","v":"lqfer fxjh"}]
[null,null,null,null,null,{"$f":"Profile!$I$6","v":9414631519},{"$f":"Profile!A3","v":"ihbZbZvks 10tSM ,oa iz/kkukpk;Z"}]
[null,null,null,null,null,null,{"$f":"Profile!A4","v":"jktdh; mPp ek/;fed fo|ky;"},{"$f":"Profile!B4","v":0}]
[null,null,null,null,null,null,{"$f":"Profile!A5","v":"15tSM Jhxaxkuxj"},{"$f":"Profile!B5","v":0}]
[null,null,null,null,null,null,{"$f":"Profile!$F$4","v":2405}]

{"sheet":"P3","index":5,"n_rows":38,"n_cols":12,"rows_kept":38,"cut":false,"hidden":false,"merged":[[37,9,37,11],[34,9,34,11],[35,9,35,11],[36,9,36,11],[1,9,1,11],[2,10,3,10],[2,11,3,11],[2,7,3,7],[2,6,3,6],[0,10,0,11],[0,0,0,2],[2,2,3,2],[2,1,3,1],[2,0,3,0],[2,4,3,4],[2,3,3,3],[0,3,0,9],[1,0,1,7],[2,5,3,5],[2,8,2,9]]}
[{"$f":"Profile!A36","v":"dk;kZy; %&"},null,null,{"$f":"Profile!D36","v":"15tSM Jhxaxkuxj"},null,null,null,null,null,null,{"$f":"'rrr 08'!$P$2","v":"2022&2023"}]
["¼v½ fu;fer Lohd`r inks dk fooj.k",null,null,null,null,null,null,null,"ctV gSM",{"$f":"Profile!$C$3","v":"2202-02-109-27-01"}]
["ys[kk dk 'kh\"kZ nh?kZ 'kh\"kZ@ minh?kZ 'kh\"kZ@ y?kq'kh\"kZ@ mi'kh\"kZ ","ukWuIyku @ Iyku @ lh-,l-,l-","in uke","ysoy@ xzsM is","Lohd`r inksa dh la[;k ¼fnukad \n01-04-2021 dh fLFkfr½","pkyw o\"kZ 2021&2022 esa Lohd`r u;s inksa dh la[;k","pkyw o\"kZ 2021&2022 esa lekIr fd;s x;s inksa dh la[;k","orZeku inkas dh la[;k ¼dkWye la[;k 5+6-7½","fu;fer dk;Zjr",null,"31-08-2021 dks fjDr inksa dh la[;k","fnukad ftlls in fjDr gS"]
[null,null,null,null,null,null,null,null,"1tuojh 2004 ls iwoZ fu;qfDr","1tuojh 2004 ds Ik'pkr fu;qfDr"]
[1,2,3,4,5,6,7,8,9,10,11,12]
[{"$f":"Profile!A44","v":"jktif=r"},{"$f":"Profile!$K$36","v":"LVsV Q.M"},{"$f":"Profile!G44","v":"iz/kkukpk;Z"},{"$f":"Profile!I44","v":16},0,0,0,{"$f":"E6+F6-G6","v":0}]
[{"$f":"Profile!A45","v":"jktif=r"},{"$f":"Profile!$K$36","v":"LVsV Q.M"},{"$f":"Profile!G45","v":"O;k[;krk"},{"$f":"Profile!I45","v":16},0,0,0,{"$f":"E7+F7-G7","v":0}]
[{"$f":"Profile!A46","v":"jktif=r"},{"$f":"Profile!$K$36","v":"LVsV Q.M"},{"$f":"Profile!G46","v":"O;k[;krk"},{"$f":"Profile!I46","v":16},0,0,0,0]
[{"$f":"Profile!A47","v":"jktif=r"},{"$f":"Profile!$K$36","v":"LVsV Q.M"},{"$f":"Profile!G47","v":"O;k[;krk"},{"$f":"Profile!I47","v":16},0,0,0,0]
[{"$f":"Profile!A48","v":"jktif=r"},{"$f":"Profile!$K$36","v":"LVsV Q.M"},{"$f":"Profile!G48","v":"O;k[;krk"},{"$f":"Profile!I48","v":16},0,0,0,0]
[{"$f":"Profile!A49","v":"jktif=r"},{"$f":"Profile!$K$36","v":"LVsV Q.M"},{"$f":"Profile!G49","v":"O;k[;krk"},{"$f":"Profile!I49","v":6},0,0,0,0]
[{"$f":"Profile!A50","v":"jktif=r"},{"$f":"Profile!$K$36","v":"LVsV Q.M"},{"$f":"Profile!G50","v":"O;k[;krk"},{"$f":"Profile!I50","v":7},0,0,0,0]
[{"$f":"Profile!A66","v":"vjktif=r"},{"$f":"Profile!$K$36","v":"LVsV Q.M"},{"$f":"Profile!G66","v":"ofj\"B v/;kid"},{"$f":"Profile!I66","v":11},1,0,0,1,null,1]
[{"$f":"Profile!A67","v":"vjktif=r"},{"$f":"Profile!$K$36","v":"LVsV Q.M"},{"$f":"Profile!G67","v":"ofj\"B v/;kid"},{"$f":"Profile!I67","v":11},1,0,0,1,null,1]
[{"$f":"Profile!A68","v":"vjktif=r"},{"$f":"Profile!$K$36","v":"LVsV Q.M"},{"$f":"Profile!G68","v":"ofj\"B v/;kid"},{"$f":"Profile!I68","v":11},0,0,0,0]
[{"$f":"Profile!A69","v":"vjktif=r"},{"$f":"Profile!$K$36","v":"LVsV Q.M"},{"$f":"Profile!G69","v":"ofj\"B v/;kid"},{"$f":"Profile!I69","v":11},0,0,0,0]
[{"$f":"Profile!A70","v":"vjktif=r"},{"$f":"Profile!$K$36","v":"LVsV Q.M"},{"$f":"Profile!G70","v":"ofj\"B v/;kid"},{"$f":"Profile!I70","v":11},0,0,0,0]
[{"$f":"Profile!A71","v":"vjktif=r"},{"$f":"Profile!$K$36","v":"LVsV Q.M"},{"$f":"Profile!G71","v":"ofj\"B v/;kid"},{"$f":"Profile!I71","v":11},0,0,0,0]
[{"$f":"Profile!A88","v":"vjktif=r"},{"$f":"Profile!$K$36","v":"LVsV Q.M"},{"$f":"Profile!G88","v":"v/;kid&2"},{"$f":"Profile!I88","v":23},1,0,0,1,null,null,1]
[{"$f":"Profile!A89","v":"vjktif=r"},{"$f":"Profile!$K$36","v":"LVsV Q.M"},{"$f":"Profile!G89","v":"v/;kid&2"},{"$f":"Profile!I89","v":24},1,0,0,1,null,1]
[{"$f":"Profile!A90","v":"vjktif=r"},{"$f":"Profile!$K$36","v":"LVsV Q.M"},{"$f":"Profile!G90","v":"v/;kid&2"},{"$f":"Profile!I90","v":25},1,0,0,1,null,1]
[{"$f":"Profile!A91","v":"vjktif=r"},{"$f":"Profile!$K$36","v":"LVsV Q.M"},{"$f":"Profile!G91","v":"v/;kid&1"},{"$f":"Profile!I91","v":26},1,0,0,1,1]
[{"$f":"Profile!A92","v":"vjktif=r"},{"$f":"Profile!$K$36","v":"LVsV Q.M"},{"$f":"Profile!G92","v":"v/;kid&1"},{"$f":"Profile!I92","v":27},1,0,0,1,1]
[{"$f":"Profile!A93","v":"vjktif=r"},{"$f":"Profile!$K$36","v":"LVsV Q.M"},{"$f":"Profile!G93","v":"v/;kid&1"},{"$f":"Profile!I93","v":28},0,0,0,0]
[{"$f":"Profile!A94","v":"vjktif=r"},{"$f":"Profile!$K$36","v":"LVsV Q.M"},{"$f":"Profile!G94","v":" 'kk-f'k{kd"},{"$f":"Profile!I94","v":29},1,0,0,1,1]
[{"$f":"Profile!A95","v":"vjktif=r"},{"$f":"Profile!$K$36","v":"LVsV Q.M"},{"$f":"Profile!G95","v":"dk;kZy; lgk;d"},{"$f":"Profile!I95","v":30},0,0,0,0]
[{"$f":"Profile!A96","v":"vjktif=r"},{"$f":"Profile!$K$36","v":"LVsV Q.M"},{"$f":"Profile!G96","v":"ofj\"B fyfid"},{"$f":"Profile!I96","v":31},1,0,0,{"$f":"E27+F27-G27","v":1},null,1]
[{"$f":"Profile!A97","v":"vjktif=r"},{"$f":"Profile!$K$36","v":"LVsV Q.M"},{"$f":"Profile!G97","v":"dfu\"B fyfid"},{"$f":"Profile!I97","v":32},0,0,0,{"$f":"E28+F28-G28","v":0}]
[{"$f":"Profile!A98","v":"vjktif=r"},{"$f":"Profile!$K$36","v":"LVsV Q.M"},{"$f":"Profile!G98","v":"lgk;d deZpkjh"},{"$f":"Profile!I98","v":33},1,0,0,1,1]
[{"$f":"Profile!A99","v":"vjktif=r"},{"$f":"Profile!$K$36","v":"LVsV Q.M"},{"$f":"Profile!G99","v":"lgk;d deZpkjh"},{"$f":"Profile!I99","v":34},1,0,0,1,null,null,1]
[{"$f":"Profile!A100","v":"vjktif=r"},{"$f":"Profile!$K$36","v":"LVsV Q.M"},{"$f":"Profile!G100","v":"lgk;d deZpkjh"},{"$f":"Profile!I100","v":35},0,0,0,0,0]
[]
[null,null,"dqy ",null,{"$f":"SUM(E6:E32)","v":11},{"$f":"SUM(F6:F32)","v":0},{"$f":"SUM(G6:G32)","v":0},{"$f":"SUM(H6:H32)","v":11},{"$f":"SUM(I13:I32)","v":4},{"$f":"SUM(J6:J32)","v":5},{"$f":"SUM(K6:K32)","v":2}]
[]
[null,null,null,null,null,null,null,null,null,{"$f":"Profile!A3","v":"ihbZbZvks 10tSM ,oa iz/kkukpk;Z"}]
[null,null,null,null,null,null,null,null,null,{"$f":"Profile!A4","v":"jktdh; mPp ek/;fed fo|ky;"},{"$f":"Profile!B4","v":0}]
[null,null,null,null,null,null,null,null,null,{"$f":"Profile!A5","v":"15tSM Jhxaxkuxj"},{"$f":"Profile!B5","v":0}]
[null,null,null,null,null,null,null,null,null,{"$f":"'P1'!$G$14","v":2405}]

{"sheet":"L-1-2","index":6,"n_rows":18,"n_cols":8,"rows_kept":18,"cut":false,"hidden":false,"merged":[[0,2,0,7],[7,2,12,2],[4,7,6,7],[7,7,12,7],[15,5,15,7],[1,5,1,7],[1,0,1,4],[16,5,16,7],[17,5,17,7],[13,0,13,3],[2,0,2,1],[2,4,2,5],[2,6,2,7]]}
[null,{"$f":"Profile!A36","v":"dk;kZy; %&"},{"$f":"Profile!D36","v":"15tSM Jhxaxkuxj"}]
["v/;kid ysoy&1 o ysoy&2 Lohd`r] dk;Zjr o fjDr inks dk fooj.k",null,null,null,null,"2202-02-109-27-01"]
["en 2202   ukWu Iyku  ",null,"o\"kZ ",{"$f":"Profile!O36","v":"RE 2021-2022"},"o vkxkeh o\"kZ",null,{"$f":"Profile!N35","v":"BE 2022-2023"}]
["ys[kk 'kh\"kZd ¼foLr`r 'kh\"kZ½","en","in uke","fo\"k; ","Lohd`r","dk;Zjr","fjDr","Lohd`r ;ksx"]
["vjktif=r","2202-02-109-27-01","v/;kid ysoy&1","&",2,2,{"$f":"E5-F5","v":0},{"$f":"E5+E7+E6","v":3}]
["vjktif=r","2202-02-109-01-00","v/;kid ysoy&1","&",1,1,{"$f":"E6-F6","v":0}]
["vjktif=r",null,"v/;kid ysoy&1","&",null,0,{"$f":"E7-F7","v":0}]
["vjktif=r","2202-02-109-27-01","v/;kid ysoy&2","vaxzsth",1,0,{"$f":"E8-F8","v":1},{"$f":"E8+E9+E10+E11+E12+E13","v":3}]
["vjktif=r","2202-02-109-27-01",null,"fgUnh",1,1,0]
["vjktif=r",null,null,"xf.kr@foKku",0,0,0]
["vjktif=r","2202-02-109-27-01",null,"lkekftd foKku",1,1,0]
["vjktif=r",null,null,"iatkch",0,0,0]
["vjktif=r",null,null,"laLd`r",0,0,0]
["dqy",null,null,null,{"$f":"E5+E7+E8+E9+E10+E11+E12+E13+E6","v":6},{"$f":"F5+F7+F8+F9+F10+F11+F12+F13+F6","v":5},1,6]
[]
[null,{"$f":"Profile!C3","v":"2202-02-109-27-01"},null,null,null,{"$f":"'P3'!J35","v":"ihbZbZvks 10tSM ,oa iz/kkukpk;Z"}]
[null,null,null,null,null,{"$f":"'P3'!J36","v":"jktdh; mPp ek/;fed fo|ky;"},{"$f":"'P3'!K36","v":0},{"$f":"'P3'!L36","v":0}]
[null,null,null,null,null,{"$f":"'P3'!J37","v":"15tSM Jhxaxkuxj"},{"$f":"'P3'!K37","v":0},{"$f":"'P3'!L37","v":0}]

{"sheet":"retierment","index":7,"n_rows":14,"n_cols":10,"rows_kept":14,"cut":false,"hidden":false,"merged":[[13,7,13,8],[10,7,10,8],[11,7,11,8],[12,7,12,8],[0,3,0,9],[2,0,2,9],[0,0,0,2],[3,5,3,6],[3,0,3,2],[1,0,1,5],[1,7,1,9],[3,7,3,9]]}
[{"$f":"Profile!A36","v":"dk;kZy; %&"},null,null,{"$f":"Profile!D36","v":"15tSM Jhxaxkuxj"}]
["izi= 12 ,",null,null,null,null,null,"ctV gSM",{"$f":"Profile!$C$3","v":"2202-02-109-27-01"}]
["osru J`a[kyk 1 ls 6 rd lsokfuo`r gksus okys dkfeZd dk fooj.k"]
["en 2202   ukWu Iyku  ",null,null,"o\"kZ ",{"$f":"Profile!O36","v":"RE 2021-2022"},"o vkxkeh o\"kZ",null,{"$f":"Profile!M36","v":"2022&2023"}]
["Ø-la","ctV en","deZpkjh dk uke","osru Ja`[kyk","ossru ysoy","in uke","lsokfuo`r fnukad","lsokfuo`r deZpkjh dh lsokfuo`fr ds le; ns; mikftZr vodk'k","dkfeZd dk lsokfuo`fr ds le; ewy osru","lsokfuo`r deZpkjh dh jde "]
[1,"ukWu Iyku ",null,null,null,null,null,null,null,{"$f":"H6*I6/30","v":0}]
[2,"ukWu Iyku ckfydk",null,null,null,null,null,null,null,{"$f":"H7*I7/30","v":0}]
[3,"ukWu Iyku ",null,null,null,null,null,null,null,0]
[4,"ukWu Iyku ",null,null,null,null,null,null,null,0]
[]
[null,null,{"$f":"Profile!C3","v":"2202-02-109-27-01"},null,null,null,null,{"$f":"Profile!A3","v":"ihbZbZvks 10tSM ,oa iz/kkukpk;Z"}]
[null,null,null,null,null,null,null,{"$f":"Profile!A4","v":"jktdh; mPp ek/;fed fo|ky;"},{"$f":"Profile!B4","v":0}]
[null,null,null,null,null,null,null,{"$f":"Profile!A5","v":"15tSM Jhxaxkuxj"},{"$f":"Profile!B5","v":0}]
[null,null,null,null,null,null,null,{"$f":"Profile!$F$4","v":2405}]

{"sheet":"FIX PAY","index":8,"n_rows":25,"n_cols":9,"rows_kept":25,"cut":false,"hidden":false,"merged":[[2,3,2,5],[3,6,3,7]]}
[null,null,"uke dk;kZy;&",{"$f":"Profile!$C$1","v":"15tSM Jhxaxkuxj"}]
[null,null,null,null,"lafonk osru ij fu;qä dkfeZdksa dk fooj.k",null,"vkWfQl vkbZMh&",{"$f":"Profile!$F$4","v":2405}]
[null,null,"ys[kk 'kh\"kZd&",{"$f":"Profile!C3","v":"2202-02-109-27-01"}]
[null,null,null,null,"laosru",null,{"$f":"'rrr 08'!$P$2","v":"2022&2023"}]
[null,null,"ekax la[;k",{"$f":"Profile!$C$11","v":24},null,"Ldhe dk uke",{"$f":"Profile!$C$10","v":"LVsV Q.M"}]
[]
[null,"Ø-la-","uke dkfeZd","in uke","tUe frfFk","fu;qfä frfFk","ekfld ekuns;","12 ekg dk ekuns;","vkxkeh o\"kZ es 12 ekg dk ekuns;"]
[null,1,2,3,4,5,6,7,8]
[null,{"$f":"Profile!C122","v":1},{"$f":"Profile!D122","v":0},{"$f":"Profile!E122","v":0},{"$f":"Profile!F122","v":"00:00:00"},{"$f":"Profile!G122","v":"00:00:00"},{"$f":"Profile!H122","v":0},{"$f":"Profile!I122","v":0},{"$f":"Profile!J122","v":0}]
[null,{"$f":"Profile!C123","v":2},{"$f":"Profile!D123","v":""},{"$f":"Profile!E123","v":""},{"$f":"Profile!F123","v":""},{"$f":"Profile!G123","v":""},{"$f":"Profile!H123","v":0},{"$f":"Profile!I123","v":0},{"$f":"Profile!J123","v":0}]
[null,{"$f":"Profile!C124","v":3},{"$f":"Profile!D124","v":""},{"$f":"Profile!E124","v":""},{"$f":"Profile!F124","v":""},{"$f":"Profile!G124","v":""},{"$f":"Profile!H124","v":0},{"$f":"Profile!I124","v":0},{"$f":"Profile!J124","v":0}]
[null,{"$f":"Profile!C125","v":4},{"$f":"Profile!D125","v":""},{"$f":"Profile!E125","v":""},{"$f":"Profile!F125","v":""},{"$f":"Profile!G125","v":""},{"$f":"Profile!H125","v":0},{"$f":"Profile!I125","v":0},{"$f":"Profile!J125","v":0}]
[null,{"$f":"Profile!C126","v":5},{"$f":"Profile!D126","v":""},{"$f":"Profile!E126","v":""},{"$f":"Profile!F126","v":""},{"$f":"Profile!G126","v":""},{"$f":"Profile!H126","v":0},{"$f":"Profile!I126","v":0},{"$f":"Profile!J126","v":0}]
[null,{"$f":"Profile!C127","v":6},{"$f":"Profile!D127","v":""},{"$f":"Profile!E127","v":""},{"$f":"Profile!F127","v":""},{"$f":"Profile!G127","v":""},{"$f":"Profile!H127","v":0},{"$f":"Profile!I127","v":0},{"$f":"Profile!J127","v":0}]
[null,{"$f":"Profile!C128","v":7},{"$f":"Profile!D128","v":""},{"$f":"Profile!E128","v":""},{"$f":"Profile!F128","v":""},{"$f":"Profile!G128","v":""},{"$f":"Profile!H128","v":0},{"$f":"Profile!I128","v":0},{"$f":"Profile!J128","v":0}]
[null,{"$f":"Profile!C129","v":8},{"$f":"Profile!D129","v":""},{"$f":"Profile!E129","v":""},{"$f":"Profile!F129","v":""},{"$f":"Profile!G129","v":"00:00:00"},{"$f":"Profile!H129","v":0},{"$f":"Profile!I129","v":0},{"$f":"Profile!J129","v":0}]
[null,{"$f":"Profile!C130","v":9},{"$f":"Profile!D130","v":""},{"$f":"Profile!E130","v":""},{"$f":"Profile!F130","v":""},{"$f":"Profile!G130","v":""},{"$f":"Profile!H130","v":0},{"$f":"Profile!I130","v":0},{"$f":"Profile!J130","v":0}]
[null,{"$f":"Profile!C131","v":10},{"$f":"Profile!D131","v":""},{"$f":"Profile!E131","v":""},{"$f":"Profile!F131","v":""},{"$f":"Profile!G131","v":""},{"$f":"Profile!H131","v":0},{"$f":"Profile!I131","v":0},{"$f":"Profile!J131","v":0}]
[null,null,null,{"$f":"Profile!E132","v":"TOTAL"},null,null,{"$f":"Profile!H132","v":0},{"$f":"Profile!I132","v":0},{"$f":"Profile!J132","v":0}]
[]
[]
[null,null,null,null,null,{"$f":"Profile!A3","v":"ihbZbZvks 10tSM ,oa iz/kkukpk;Z"}]
[null,"rS;kj drkZ %&",{"$f":"Profile!G6","v":"lqfer fxjh"},null,null,{"$f":"Profile!A4","v":"jktdh; mPp ek/;fed fo|ky;"}]
[null,null,null,null,null,{"$f":"Profile!A5","v":"15tSM Jhxaxkuxj"}]
[null,null,null,null,null,{"$f":"Profile!$F$4","v":2405}]

{"sheet":"CHALAN","index":9,"n_rows":33,"n_cols":16,"rows_kept":33,"cut":false,"hidden":false,"merged":[[10,12,10,15],[0,6,0,7],[10,0,11,0],[10,1,11,1],[10,2,10,5],[10,6,11,6],[10,7,10,10],[10,11,11,11],[8,7,8,8],[8,0,8,1]]}
[null,null,null,null,null,null,"pkyku fooj.k"]
["fo|ky; dk uke &",null,null,"jktdh; mPp ek/;fed fo|ky; pkSxkbZa Vksad"]
["ys[kk 'kh\"kZd&",null,2202,"lkekU; f'k{kk",null,null,"vkWfQl vkbZMh&",27306]
[null,null,2,"ek/;fed f'k{kk"]
[null,null,109,"jktdh; mPp ek/;fed fo|ky;"]
[null,null,27,"yM+dksa ds fo|ky;"]
[null,null,1,"yM+dksa ds fo|ky;"]
[]
["ekax la[;k",null,24,null,null,null,"Ldhe dk uke","LVsV Q.M"]
[]
["Ø- la-","pkyu uEcj o fnukad","vizsy 20 ls ekpZ 21",null,null,null,"pkyu uEcj o fnukad","vxLr 20 ls ekpZ 21",null,null,null,"pkyu uEcj o fnukad","vizsy 21 ls tqykbZ 21"]
[null,null,"f'k{k.k Qhl ,oa vU; Qhlsa","vuqi;ksxh lkekuksa ls vk;","vf/kd Hkqxrku ls olwyh","fofo/k",null,"f'k{k.k Qhl ,oa vU; Qhlsa","vuqi;ksxh lkekuksa ls vk;","vf/kd Hkqxrku ls olwyh","fofo/k",null,"f'k{k.k Qhl ,oa vU; Qhlsa","vuqi;ksxh lkekuksa ls vk;","vf/kd Hkqxrku ls olwyh","fofo/k"]
["",null,10,20,30,40,null,50,60,70,80,null,90,100,110,120]
[""]
[""]
[""]
[""]
[""]
[""]
[""]
[""]
[""]
[""]
[""]
[""]
[""]
[""]
[null,"TOTAL",10,20,30,40,null,50,60,70,80,null,90,100,110,120]
[]
[null,null,null,null,null,null,null,null,null,null,null,null,{"$f":"Profile!A3","v":"ihbZbZvks 10tSM ,oa iz/kkukpk;Z"}]
[null,null,null,null,null,null,null,null,null,null,null,null,{"$f":"Profile!A4","v":"jktdh; mPp ek/;fed fo|ky;"}]
[null,null,null,null,null,null,null,null,null,null,null,null,{"$f":"Profile!A5","v":"15tSM Jhxaxkuxj"}]
[null,null,null,null,null,null,null,null,null,null,null,null,{"$f":"Profile!$F$4","v":2405}]

{"sheet":"bank ac SCHOOL","index":10,"n_rows":20,"n_cols":10,"rows_kept":20,"cut":false,"hidden":false,"merged":[[6,0,9,0],[6,1,9,1],[6,2,9,2],[6,3,9,3],[0,0,0,9],[1,0,1,4],[3,4,4,5],[5,4,5,5],[3,9,4,9],[3,6,3,7],[3,0,4,0],[3,1,4,1],[3,2,4,2],[3,3,4,3],[1,5,1,9],[16,6,16,9],[17,6,17,9],[18,6,18,9],[19,6,19,9],[10,0,13,0],[10,1,13,1],[10,2,13,2],[10,3,13,3]]}
["¼c½ cSad [kkrks fLFkfr dk fooj.k"]
[{"$f":"'P3'!$D$1","v":"15tSM Jhxaxkuxj"},null,null,null,null,"foHkkx dk uke %& f'k{kk foHkkx"]
[]
["cSd rFkk 'kk[kk dk uke ¼bZ,Qlh dksM½","cSd [kkrs dk uke e; [kkrk la[;k","in uke ftlds uke ls [kkrk gS ","foHkkxh; @ xSj foHkkxh;","01-04-2021 dks vo'ks\"k jkf'k",null,"2021&2022",null,null,"31-08-2021  dks 'ks\"k jkf'k  ¼5$6&7½"]
[null,null,null,null,null,null,"gLrkUrfjr jkf'k","fnukad 31 vxLr rd O;; jkf'k"]
[1,2,3,4,5,null,6,7,null,8]
["vkS-ch-lh 15tSM vksvkjchlh01100506","RAJKIYE MADHYAMIK VIDHALYA 15Z 0506204 0000210","iz/kkukpk;Z","foHkkxh; fo|kFkhZ dks\"k ","cash",0,205,0,null,{"$f":"F7+G7-H7","v":205}]
[null,null,null,null,"bank",2991.65,{"$f":"11432-205","v":11227},1265,null,{"$f":"F8+G8-H8","v":12953.65}]
[null,null,null,null,"F.D.",0,0,0,null,0]
[null,null,null,null,"Total",{"$f":"F9+F8+F7","v":2991.65},{"$f":"G9+G8+G7","v":11432},1265,0,13158.65]
["vkS-ch-lh 15tSM vksvkjchlh01100506","RA.MA.VIDYALA VKASH KOSH 0506204 0000080","iz/kkukpk;Z","foHkkxh; fodkl dks\"k  ","cash",0,0,0,null,{"$f":"F11+G11-H11","v":0}]
[null,null,null,null,"bank",26604,15234,9990,null,31848]
[null,null,null,null,"F.D.",0,0,0,null,0]
[null,null,null,null,"Total",{"$f":"F13+F12+F11","v":26604},{"$f":"G13+G12+G11","v":15234},{"$f":"H13+H12+H11","v":9990},{"$f":"I13+I12+I11","v":0},31848]
[]
[]
[null,null,null,null,null,null,{"$f":"Profile!A3","v":"ihbZbZvks 10tSM ,oa iz/kkukpk;Z"}]
[null,null,null,null,null,null,{"$f":"Profile!A4","v":"jktdh; mPp ek/;fed fo|ky;"},{"$f":"Profile!B4","v":0}]
[null,null,null,null,null,null,{"$f":"Profile!A5","v":"15tSM Jhxaxkuxj"},{"$f":"Profile!B5","v":0}]
[null,null,null,null,null,null,{"$f":"Profile!$F$4","v":2405}]

{"sheet":"R01","index":11,"n_rows":40,"n_cols":8,"rows_kept":40,"cut":false,"hidden":false,"merged":[[39,4,39,6],[0,0,0,7],[1,0,1,7],[33,1,33,2],[35,1,35,2],[37,1,37,2],[35,4,35,6],[33,4,33,6],[37,4,37,6],[2,0,2,3]]}
[{"$f":"'P3'!$D$1","v":"15tSM Jhxaxkuxj"}]
["izi="]
[{"$f":"Profile!$A$35","v":"o\"kZ 2022&2023 ds fy, jsUt ds vuqlkj laosru dh jkf'k "}]
["Ø-la-","in dk uke",",u-ih-,l-] lkekU;] fjDr","xzsM is",",d ekg dh jkf'k","12 ekg dh jkf'k","3 izfr'kr osru o`f)","x.kuk osru o`f)"]
[1,{"$f":"Profile!G44","v":"iz/kkukpk;Z"},"lkekU;",{"$f":"Profile!I44","v":16},{"$f":"Profile!J44","v":11000},{"$f":"E5*12","v":132000},{"$f":"Profile!P44","v":300},{"$f":"ROUNDUP((E5)*(3%),0)","v":330}]
[2,{"$f":"Profile!G45","v":"O;k[;krk"},"lkekU;",{"$f":"Profile!I45","v":16},{"$f":"Profile!J45","v":11000},{"$f":"E6*12","v":132000},{"$f":"Profile!P45","v":300},{"$f":"ROUNDUP((E6)*(3%),0)","v":330}]
[3,{"$f":"Profile!G46","v":"O;k[;krk"},"lkekU;",{"$f":"Profile!I46","v":16},{"$f":"Profile!J46","v":11000},132000,{"$f":"Profile!P46","v":300},330]
[4,{"$f":"Profile!G47","v":"O;k[;krk"},",uih,l",{"$f":"Profile!I47","v":16},{"$f":"Profile!J47","v":11000},132000,{"$f":"Profile!P47","v":300},330]
[5,{"$f":"Profile!G48","v":"O;k[;krk"},null,{"$f":"Profile!I48","v":16},{"$f":"Profile!J48","v":11000},132000,{"$f":"Profile!P48","v":300},330]
[6,{"$f":"Profile!G49","v":"O;k[;krk"},null,{"$f":"Profile!I49","v":6},{"$f":"Profile!J49","v":11000},132000,{"$f":"Profile!P49","v":300},330]
[7,{"$f":"Profile!G50","v":"O;k[;krk"},null,{"$f":"Profile!I50","v":7},{"$f":"Profile!J50","v":11000},132000,{"$f":"Profile!P50","v":300},330]
[1,{"$f":"Profile!G66","v":"ofj\"B v/;kid"},"lkekU;",{"$f":"Profile!I66","v":11},{"$f":"Profile!J66","v":11000},132000,{"$f":"Profile!P66","v":300},330]
[2,{"$f":"Profile!G67","v":"ofj\"B v/;kid"},",u-ih-,l- fQDl",{"$f":"Profile!I67","v":11},{"$f":"Profile!J67","v":11000},132000,{"$f":"Profile!P67","v":300},330]
[3,{"$f":"Profile!G68","v":"ofj\"B v/;kid"},"fjDr",{"$f":"Profile!I68","v":11},{"$f":"Profile!J68","v":11000},132000,{"$f":"Profile!P68","v":300},330]
[4,{"$f":"Profile!G69","v":"ofj\"B v/;kid"},"fjDr",{"$f":"Profile!I69","v":11},{"$f":"Profile!J69","v":11000},{"$f":"E15*12","v":132000},{"$f":"Profile!P69","v":300}]
[12,{"$f":"Profile!G70","v":"ofj\"B v/;kid"},null,{"$f":"Profile!I70","v":11},{"$f":"Profile!J70","v":11000},132000,{"$f":"Profile!P70","v":300}]
[13,{"$f":"Profile!G71","v":"ofj\"B v/;kid"},null,{"$f":"Profile!I71","v":11},{"$f":"Profile!J71","v":11000},132000,{"$f":"Profile!P71","v":300}]
[5,{"$f":"Profile!G88","v":"v/;kid&2"},"lkekU;",{"$f":"Profile!I88","v":23},{"$f":"Profile!J88","v":11000},132000,{"$f":"Profile!P88","v":300}]
[6,{"$f":"Profile!G89","v":"v/;kid&2"},",u-ih-,l-",{"$f":"Profile!I89","v":24},{"$f":"Profile!J89","v":11000},{"$f":"E19*12","v":132000},{"$f":"Profile!P89","v":300}]
[7,{"$f":"Profile!G90","v":"v/;kid&2"},"fjDr",{"$f":"Profile!I90","v":25},{"$f":"Profile!J90","v":11000},132000,{"$f":"Profile!P90","v":300}]
[8,{"$f":"Profile!G91","v":"v/;kid&1"},"lkekU;",{"$f":"Profile!I91","v":26},{"$f":"Profile!J91","v":11000},132000,{"$f":"Profile!P91","v":300}]
[9,{"$f":"Profile!G92","v":"v/;kid&1"},",u-ih-,l-",{"$f":"Profile!I92","v":27},{"$f":"Profile!J92","v":11000},132000,{"$f":"Profile!P92","v":300}]
[19,{"$f":"Profile!G93","v":"v/;kid&1"},null,{"$f":"Profile!I93","v":28},{"$f":"Profile!J93","v":11000},132000,{"$f":"Profile!P93","v":300},330]
[10,{"$f":"Profile!G94","v":" 'kk-f'k{kd"},"lkekU;",{"$f":"Profile!I94","v":29},{"$f":"Profile!J94","v":11000},132000,{"$f":"Profile!P94","v":300},330]
[21,{"$f":"Profile!G95","v":"dk;kZy; lgk;d"},null,{"$f":"Profile!I95","v":30},{"$f":"Profile!J95","v":11000},132000,{"$f":"Profile!P95","v":300},330]
[11,{"$f":"Profile!G96","v":"ofj\"B fyfid"},",u-ih-,l-",{"$f":"Profile!I96","v":31},{"$f":"Profile!J96","v":11000},132000,{"$f":"Profile!P96","v":300}]
[12,{"$f":"Profile!G97","v":"dfu\"B fyfid"},",u-ih-,l-",{"$f":"Profile!I97","v":32},{"$f":"Profile!J97","v":11000},132000,{"$f":"Profile!P97","v":300}]
[13,{"$f":"Profile!G98","v":"lgk;d deZpkjh"},"lkekU;",{"$f":"Profile!I98","v":33},{"$f":"Profile!J98","v":11000},132000,{"$f":"Profile!P98","v":300}]
[14,{"$f":"Profile!G99","v":"lgk;d deZpkjh"},",u-ih-,l-",{"$f":"Profile!I99","v":34},{"$f":"Profile!J99","v":11000},132000,{"$f":"Profile!P99","v":300}]
[null,{"$f":"Profile!G100","v":"lgk;d deZpkjh"},null,{"$f":"Profile!I100","v":35},{"$f":"Profile!J100","v":11000},132000,{"$f":"Profile!P100","v":300}]
[null,null,"dqy ",null,{"$f":"SUM(E5:E30)","v":286000},{"$f":"SUM(F5:F30)","v":3432000},{"$f":"SUM(G5:G30)","v":7800}]
[]
[null,null,"lkekU;",null,{"$f":"E12+E18+E21+E24+E28","v":55000},660000,{"$f":"G12+G18+G21+G24+G28","v":1500}]
[null,"lk0osru o`f) 8 ekg",null,null,{"$f":"G33*8","v":12000}]
[null,null,",uih,l",null,{"$f":"E13+E19+E22+E26+E27+E29","v":66000},792000,{"$f":"G13+G19+G22+G26+G27+G29","v":1800}]
[null,"lk0osru o`f) 8 ekg ,uih,l",null,null,{"$f":"G35*8","v":14400}]
[null,null,"dqy",null,{"$f":"E33+E35","v":121000},1452000,{"$f":"G33+G35","v":3300}]
[null,"lk0osru o`f) 8 ekg dqy",null,null,{"$f":"E36+E34","v":26400}]
[]
[null,null,"egk;ksx",null,{"$f":"F37+E38","v":1478400}]

{"sheet":"Sheet1","index":12,"n_rows":74,"n_cols":14,"rows_kept":74,"cut":false,"hidden":true,"merged":[[22,12,22,13],[0,0,0,1],[0,2,0,8],[1,2,1,4],[15,1,15,4],[15,5,16,5],[15,6,16,6],[15,7,16,7],[15,8,16,8],[15,9,16,9],[15,10,16,10],[15,11,16,11],[22,2,22,4],[22,5,22,11]]}
["dk;kZy;&",null,"jktdh; mPp ek/;fed fo|ky; pkSxkbZa Vksad"]
["eksgj&",null,"Budget Estemate"]
["ihZbZbZvks 10tSM ,oa iz/kkukpk;Z",null,null,null,null,"vkWfQl vkbZMh","uke MhMhvks",null,"uEcj"]
["jktdh; mPp ek/;fed fo|ky;",null,null,null,null,2405,"izHkkr 'kekZ",null,9414318727]
["15tSM Jhxaxkuxj",null,null,null,null,"rS;kj drkZ ","lqfer fxjh",null,9414631519]
["ctV en        eq[; 'kh\"kZ",null,2202,"lkekU; f'k{kk"]
[null,null,2,"ek/;fed f'k{kk"]
[null,null,109,"jktdh; mPp ek/;fed fo|ky;"]
[null,null,27,"yM+dksa ds fo|ky;"]
[null,null,1,"yM+dksa ds fo|ky;"]
[]
[]
["Ldhe dk uke",null,null,null,null,"LVsV Q.M"]
["ekax la[;k",null,24,null,null,null,null,"Arear Month",8]
["ctV Lohd`fr esa fo|ky; dh Ø-la-",null,null,null,null,14,"egakbZ HkÙk nj",17,"DA Arr.",0,"HRA",8]
["xr rhu o\"ksksZa ds vk; ,oa O;; dk fooj.k","gsM",null,null,null,"2017-18","2018-19","2019-20","08/19 to 03/20","04/20 to 07/20","la'kksf/kr vuqeku 2020&21","vk; vuqeku 2021&2022"]
["vk;"]
["f'k{k.k Qhl o vU; Qhl","0202&02",102,1,0,110,200,210,150,90,220,230]
["ikB~; iqLrdksa ls vk;","0202&02",102,2]
["fofo/k","0202&02",102,3,1]
["vf/kd Hkqxrku dh olwyh","0202&02",102,3,2]
["vuqi;ksxh lkeku ds fuLrkj.k ls vk;","0202&02",102,5,2]
["O;;",null,"Lohd`r ctV 20&21",null,null,"[kpksZa dk fooj.k",null,null,null,null,null,null," O;; 04@20 ls 07@20"]
["en","gsM","dqy ;ksx","jkT; fuf/k","dsUnzh; lgk;rk","2017-18","2018-19","2019-20","08/19 to 03/20","04/20 to 07/20","lEHkkfor O;; 2020&21","dqy ;ksx","jkT; fuf/k","dsUnzh; lgk;rk"]
["laosru",1,{"$f":"SUM(D25+E25)","v":2384000},2384000,0,3783379,4658460,4432536,2925894,289407,4652816,{"$f":"SUM(J25+K25)","v":4942223},289407,0]
[";k=k O;;",3,0,0,0,0,0,18750,18750,0,0,0,0,0]
["fpfdRlk O;;",4,0,null,null,null,null,null,null,null,null,0,null,0]
[" dk;kZy; O;;",5,0,null,null,null,null,null,null,null,null,0,null,0]
["fdjk;k dj jk;fYV",9,0,null,null,null,null,null,null,null,null,0,null,0]
["e'khujh lkt lkeku",20,0,null,null,null,null,null,null,null,null,0,null,0]
["iqLrdky;",31,0,null,null,null,null,null,null,null,null,0,null,0]
["iz;ksx'kkyk",33,0,null,null,null,null,null,null,null,null,0,null,0]
["ofnZ;ka",37,0,null,null,null,null,null,null,null,null,0,null,0]
["vU; izHkkj",28,0,null,null,null,null,null,null,null,null,0,null,0]
["foHkkxh;lsokvksa ij fof'k\"V O;;",57,0,null,null,null,null,null,null,null,null,0,null,0]
[]
[null,"Developed by-",null,null,null,null,null,null,null,null,null,null,null,"L-1"]
[null,"Chaturbhuj Jat",null,null,null,"प्रधानाचार्य",null,null,null,null,null,null,null,"L-2"]
[null,"Teacher GSSS Chogai",null,null,null,"प्रधानाध्यापक",null,null,"G","M","R","C","S","L-3"]
[null,null,null,null,null,"व्याख्याता",null,null,"NG","F","F","W","M","L-4"]
[null,null,null,null,null,"व्याख्याता शारीरिक शिक्षा",null,null,null,null,null,"H",null,"L-5"]
[null,null,null,null,null,"पुस्तकालय अध्यक्ष ग्रेड I",null,null,null,null,null,null,null,"L-6"]
[null,null,null,null,null,"वरिष्ठ अध्यापक",null,null,null,null,null,null,null,"L-7"]
[null,null,null,null,null,"वरिष्ठ शारीरिक शिक्षक",null,null,null,null,null,null,null,"L-8"]
[null,null,null,null,null,"पुस्तकालय अध्यक्ष ग्रेड II",null,null,null,null,null,null,null,"L-9"]
[null,null,null,null,null,"अध्यापक ग्रेड III",null,null,null,null,null,null,null,"L-10"]
[null,null,null,null,null,"प्रबोधक",null,null,null,null,null,null,null,"L-11"]
[null,null,null,null,null,"शारीरिक शिक्षक",null,null,null,null,null,null,null,"L-12"]
[null,null,null,null,null,"पुस्तकालय अध्यक्ष ग्रेड III",null,null,null,null,null,null,null,"L-13"]
[null,null,null,null,null,"संस्थापन अधिकारी",null,null,null,null,null,null,null,"L-14"]
[null,null,null,null,null,"प्रशासनिक अधिकारी",null,null,null,null,null,null,null,"L-15"]
[null,null,null,null,null,"अतिरिक्त प्रशासनिक अधिकारी",null,null,null,null,null,null,null,"L-16"]
[null,null,null,null,null,"सहायक प्रशासनिक अधिकारी",null,null,null,null,null,null,null,"L-17"]
[null,null,null,null,null,"वरिष्ठ सहायक",null,null,null,null,null,null,null,"L-18"]
[null,null,null,null,null,"कनिष्ठ सहायक",null,null,null,null,null,null,null,"L-19"]
[null,null,null,null,null,"प्रयोग शाला सहायक",null,null,null,null,null,null,null,"L-20"]
[null,null,null,null,null,"प्रयोग शाला सेवक",null,null,null,null,null,null,null,"L-21"]
[null,null,null,null,null,"जमादार",null,null,null,null,null,null,null,"L-22"]
[null,null,null,null,null,"सहायक कर्मचारी",null,null,null,null,null,null,null,"L-23"]
[null,null,null,null,null,"ए सी बी ई ओ प्रथम",null,null,null,null,null,null,null,"L-24"]
[null,null,null,null,null,"सहायक लेखाधिकारी प्रथम "]
[null,null,null,null,null,"सहायक लेखाधिकारी द्वितीय "]
[null,null,null,null,null,"कनिष्ठ लेखाकार"]
[null,null,null,null,null,"अतिरिक्त जिला शिक्षा अधिकारी"]
[null,null,null,null,null,"मुख्य जिला शिक्षा अधिकारी "]
[null,null,null,null,null,"संयुक्त  निदेशक स्कूल शिक्षा"]
[null,null,null,null,null,"सी बी ई ओ"]
[null,null,null,null,null,"प्रबोधक शारीरिक शिक्षक"]
[null,null,null,null,null,"प्रशिक्षु शिक्षक"]
[null,null,null,null,null,"व्याख्याता कृषि"]
[null,null,null,null,null,"कृषि अध्यापक"]
[null,null,null,null,null,"कृषि प्रमुख"]
[null,null,null,null,null,"विशेष शिक्षक"]
[null,null,null,null,null,"ए सी बी ई ओ दवितीय"]