{"text_format":"1","workbook":"xlsx","n_sheets":13,"sheets":["Profile","rrr 08","rrr 09","rrr10","P1","L-1-2","P3","retierment","FIX PAY","CHALAN","bank ac SCHOOL","R01","Sheet1"],"not_rendered":{"charts":0,"images":0,"macros":0,"external_links":0,"defined_names":9,"comments":2,"pivot_tables":0},"unopened":[],"bounds":{"document_bytes":16777216,"sheet_cells":100000,"rows_first":2000,"rows_last":500,"rows_between":2000,"halvings":0,"cell_chars":16384,"cell_head_chars":4096},"cells_cut":0,"cells_raw":0,"read":"whole","date_system":"1900"}

{"sheet":"Profile","index":0,"n_rows":104,"n_cols":38,"rows_kept":104,"cut":false,"hidden":false,"merged":[[36,0,36,1],[23,36,24,36],[23,37,24,37],[23,14,24,14],[23,15,24,15],[23,16,24,16],[23,35,24,35],[23,5,23,7],[23,8,23,9],[23,13,24,13],[23,10,23,11],[23,2,23,3],[37,0,37,4],[38,3,38,6],[38,0,38,2],[39,0,39,17],[40,17,40,21],[38,12,38,13],[38,14,38,15],[40,0,41,0],[40,1,41,1],[40,2,41,3],[40,5,41,5],[40,6,41,6],[40,4,41,4],[90,1,90,7],[90,8,90,12],[89,1,89,7],[89,8,89,12],[80,1,80,7],[80,8,80,12],[83,1,83,7],[83,8,83,12],[81,1,81,7],[81,8,81,12],[88,1,88,7],[88,8,88,12],[86,1,86,7],[86,8,86,12],[84,1,84,7],[87,1,87,7],[76,17,78,17],[73,1,73,7],[74,1,74,7],[40,13,41,13],[40,14,41,14],[40,15,41,15],[40,7,40,8],[40,9,41,9],[40,10,41,10],[40,11,40,12],[41,7,41,8],[87,8,87,12],[77,8,77,12],[75,1,75,7],[76,1,76,7],[76,8,76,12],[77,1,77,7],[78,1,78,7],[78,8,78,12],[79,1,79,7],[79,8,79,12],[84,8,84,12],[85,1,85,7],[85,8,85,12],[82,1,82,7],[82,8,82,12],[0,0,0,1],[0,2,0,8],[1,2,1,4],[14,1,14,4],[14,5,15,5],[14,6,15,6],[14,7,15,7],[14,8,15,8],[6,5,6,6],[7,5,7,6],[8,5,8,6],[9,5,9,6],[10,2,10,3],[9,2,9,3],[8,2,8,3],[2,0,2,1],[2,2,2,4],[6,2,6,4],[10,5,10,6],[11,2,11,3],[3,6,3,7],[5,6,5,7],[3,0,3,1],[4,0,4,1],[14,9,15,9],[14,10,15,10],[11,0,12,1],[12,14,12,15],[10,10,10,13],[13,14,13,15],[14,14,14,15],[14,11,15,11],[13,0,13,11]]}
["dk;kZy;&",null,"lhchbZvks chdkusj"]
["eksgj& ",null,"Budget Estemate",null,null,"foHkkx dk uke","f'k{kk foHkkx"]
["lhchbZvks ",null,"2202-02-109-01-00",null,null,"vkWfQl vkbZMh","uke MhMhvks",null,"uEcj"]
["lexz f'k{kk",null,null,null,null,2405,"izHkkr 'kekZ",null,9414318727]
["chdkusj",null,null,"2025&2026",null,null,"rS;kj drkZ "]
["ctV en        eq[; 'kh\"kZ",null,null,null,null,null,"dqynhi dqekj",null,9799001169]
[null,null,"UnProtect All Worksheet PASSWORD -   sumit",null,null,"onhZ HkRrk iq:\"k dkfeZd la[;k",null,0,null,2000,{"$f":"J7*H7","v":0},{"$f":"K7+K8","v":0}]
[null,null,null,null,null,"onhZ HkRrk efgyk dkfeZd la[;k",null,0,null,2350,{"$f":"J8*H8","v":0}]
["vkxkeh osru o`f} fnukad",null,"2025-07-01",null,null,"cksul dkfeZdks dh la[;k",null,0,null,null,"vf/kd tkudkjh ds fy, bl youtube link ;k JOURNEY SUMIT GIRI youtube channel dk bLrseky djsa"]
["Ldhe dk uke",null,"LVsV Q.M",null,null,"dSf'k;j HkRrk dkfeZd dh la[;k",null,0,null,null,null,null,"bl fyax dks dkWih djds xaqxy esa vkWiu djus ds ckn ;wV~;wc pSuy ij fofM;ks ns[kss "]
["ekax la[;k",null,20,null,null,"f};kax dkfeZdksa dh la[;k",null,0,null,null,"https://youtu.be/dN7M4uHGLqE"]
["ctV Lohd`fr esa dk;kZy; @ fo|ky; dh Ø-la-",null,25]
[null,null,null,null,"Arear Month",2,"egaxkbZ HkÙkk nj",0.5,"DA Arr.",0,"HRA",0.09,null,null,"JOUREY SUMIT GIRI"]
[]
["xr rhu o\"ksksZa ds vk; ,oa O;; dk fooj.k","gsM",null,null,null,"2021-22","2022-23","2023-24","08/23 to 03/24","04/24 to 07/24","la'kksf/kr vuqeku 08@2024 ls 03@2025","vk; vuqeku 2025&2026",null,null,"sumitgiri777"]
["vk;"]
["f'k{k.k 'kqYd","0202&02",0,0,0,0,0,0,0,0,0,0]
["Vh-lh-","0202&02",null,null,null,0,0,0,0,0,0,0]
["izos'k 'kqYd","0202&02",null,null,null,0,0,0,0,0,0,0]
["vuqi;ksxh lkeku ds fuLrkj.k ls vk;","0202&02"]
["fofo/k","0202&02"]
["vU;","0202&02",null,null,null,null,null,0]
[]
["O;;",null,"Lohd`r ctV ",null,"2024&2025","[kpksZa dk fooj.k",null,null," O;; 08@23 ls 03@24",null," O;; 04@24 ls 07@24",null,null,"lEHkkfor O;; ","vk; vuqeku 2024&2025","08/23 to 03/24","04/24 to 07/24",null,null,null,null,null,null,null,null,null,null,null,null,null,null,null,null,null,null,"dqy ;ksx","la'kksf/kr vuqeku ¼pkyw o\"kZ½ ","vk;&O;; vuqeku ¼vkxkeh o\"kZ½ "]
["en","lc gsM","dqy ;ksx","jkT; fuf/k","dsUnzh; lgk;rk","2021-22","2022-23","23&24 esa ekpZ2024 dk th-,-19","jkT; fuf/k","dsUnzh; lgk;rk","jkT; fuf/k","dsUnzh; lgk;rk"]
["laosru",1,{"$f":"SUM(D26+E26)","v":0},0,0,0,0,0,0,0,155000,0,null,{"$f":"$O$87","v":834182},{"$f":"N87","v":859961},{"$f":"I26+J26","v":0},{"$f":"K26+L26","v":155000},null,null,null,null,null,null,null,null,null,null,null,null,null,null,null,null,null,null,{"$f":"SUM(Q26+N26)","v":989182},{"$f":"$O$87","v":834182},{"$f":"$N$87","v":859961}]
[";k=k O;;",3,{"$f":"SUM(D27+E27)","v":0},0,0,0,0,0,0,0,0,0,null,null,null,{"$f":"I27+J27","v":0},0,null,null,null,null,null,null,null,null,null,null,null,null,null,null,null,null,null,null,0,0,0]
["fpfdRlk O;;",4,0,0,0,0,0,0,0,0,0,0,null,null,null,0,0,null,null,null,null,null,null,null,null,null,null,null,null,null,null,null,null,null,null,0,0,0]
["dk;kZy; O;;",5,0,0,0,0,0,0,0,0,0,0,null,null,null,0,0,null,null,null,null,null,null,null,null,null,null,null,null,null,null,null,null,null,null,0,0,0]
["fdjk;k dj jk;fYV",9,0,0,0,0,0,0,0,0,0,0,null,null,null,0,0,null,null,null,null,null,null,null,null,null,null,null,null,null,null,null,null,null,null,0,0,0]
["e'khujh lkt lkeku",20,0,0,0,0,0,0,0,0,0,0,null,null,null,0,0,null,null,null,null,null,null,null,null,null,null,null,null,null,null,null,null,null,null,0,0,0]
["iqLrdky;",31,0,0,0,0,0,0,0,0,0,0,null,null,null,0,0,null,null,null,null,null,null,null,null,null,null,null,null,null,null,null,null,null,null,0,0,0]
["iz;ksx'kkyk",33,0,0,0,0,0,0,0,0,0,0,null,null,null,0,0,null,null,null,null,null,null,null,null,null,null,null,null,null,null,null,null,null,null,0,0,0]
["ofnZ;ka",37,0,null,0,0,0,null,null,0,0,0,null,{"$f":"$L$7","v":0},null,0,0,null,null,null,null,null,null,null,null,null,null,null,null,null,null,null,null,null,null,0,{"$f":"$L$7","v":0},{"$f":"$L$7","v":0}]
["vU; izHkkj",28,0,0,0,0,0,0,0,0,0,0,null,null,null,0,0,null,null,null,null,null,null,null,null,null,null,null,null,null,null,null,null,null,null,0,0,0]
["foHkkxh;lsokvksa ij fof'k\"V O;;",57,0,0,0,0,0,0,0,0,0,0,null,null,null,0,0,null,null,null,null,null,null,null,null,null,null,null,null,null,null,null,null,null,null,0,0,0]
[";ksx ",null,{"$f":"SUM(C26:C36)","v":0},{"$f":"SUM(D26:D36)","v":0},0,0,0,0,0,0,155000,0,null,null,null,null,null,null,null,null,null,null,null,null,null,null,null,null,null,null,null,null,null,null,null,null,{"$f":"SUM(AK26:AK36)","v":834182},859961]
["o\"kZ 2025&2026 ds fy, jsUt ds vuqlkj laosru dh jkf'k ",null,null,null,null,"OID",{"$f":"$F$4","v":2405},null,null,null,null,null,null,"BE 2025-2026"]
["dk;kZy; %&",null,null,{"$f":"$C$1","v":"lhchbZvks chdkusj"},null,null,null,{"$f":"$C$3","v":"2202-02-109-01-00"},null,null,{"$f":"$C$10","v":"LVsV Q.M"},null,{"$f":"$D$5","v":"2025&2026"},null,"RE 2024-2025"]
[]
["ys[kk 'kh\"kZd ¼foLr`r 'kh\"kZ½","Øe la[;k","dkfeZd dk uke",null,"deZpkjh vkbZ Mh","thih,Q@,uih,l@izku uEcj","in","in dk Lohd`r osru",null,"ctV dh izkjfEHkd frfFk ;kfu 1ekpZ2025 dks deZpkjh dk osru","igyh ekpZ ls vfUre Qjojh ds fy;s fu/kkZfjr jde","o`f) tks bl vof/k esa gksxh",null,"vkxkeh o\"kZ 2025&26 ds fy;s jde ¼dkye 8$10½","pkyw o\"kZ ds fy;s la'kksf/kr vuqeku 2024&25","fo'ks\"k fooj.k",null,"vkxkeh  osru o`f) fnukad"]
[null,null,null,null,null,null,null,"xzsM is@ ysoy",null,null,null,"frfFk o`f)","jde o`f)",null,null,null,null,{"$f":"$C$9","v":"2025-07-01"}]
[]
[]
[]
[null,1,null,2,3,14,4,5,6,7,8,9,10,11,12,13]
["jktif=r",1,"Jh","izHkkr 'kekZ","RJGA198635002357",543895,"iz/kkukpk;Z","ysoy",16,42500,{"$f":"J47*12","v":510000},{"$f":"R42","v":"2025-07-01"},{"$f":"P47*8","v":10400},{"$f":"K47+M47","v":520400},{"$f":"N47-P47*12","v":504800},{"$f":"S47","v":1300},null,null,{"$f":"ROUND(T47,-2)","v":1300},{"$f":"J47*3/100","v":1275},null,{"$f":"Y47-X47","v":42484},{"$f":"IF(R42>=DATE(2017,7,1),CEILING(Y47*3%,10)+V47,V47)","v":43764},{"$f":"I47","v":16},{"$f":"J47","v":42500},{"$f":"SUM(W47:X47)","v":43780},{"$f":"Z47-Y47","v":1280},null,{"$f":"J47","v":42500},{"$f":"AC47*3/100","v":1275},{"$f":"ROUNDUP(AD47,-10)","v":10000000000},{"$f":"AC47+AE47","v":10000042500},null,null,{"$f":"AF47-J47","v":10000000000}]
["jktif=r",1,"Jh",null,null,null,"O;k[;krk","ysoy",12,0,{"$f":"J48*12","v":0},{"$f":"L47","v":"2025-07-01"},{"$f":"P48*8","v":0},{"$f":"K48+M48","v":0},{"$f":"N48-P48*12","v":0},{"$f":"S48","v":0},null,null,{"$f":"ROUND(T48,-2)","v":0},{"$f":"J48*3/100","v":0},null,{"$f":"Y48-X48","v":-12},{"$f":"IF(R42>=DATE(2017,7,1),CEILING(Y48*3%,10)+V48,V48)","v":-12},{"$f":"I48","v":12},{"$f":"J48","v":0},{"$f":"SUM(W48:X48)","v":0},{"$f":"Z48-Y48","v":0},null,{"$f":"J48","v":0},{"$f":"AC48*3/100","v":0},{"$f":"ROUNDUP(AD48,-1)","v":0},{"$f":"AC48+AE48","v":0},null,null,{"$f":"AF48-J48","v":0}]
["jktif=r",2,"Jherh ",null,null,null,"O;k[;krk","ysoy",12,0,0,{"$f":"L47","v":"2025-07-01"},0,0,{"$f":"N49-P49*12","v":0},0,null,null,0,0,null,-12,{"$f":"IF(R42>=DATE(2017,7,1),CEILING(Y49*3%,10)+V49,V49)","v":-12},12,0,0,0,null,0,0,0,0,null,null,0]
["jktif=r",3,"Jh",null,null,null,"O;k[;krk","ysoy",12,0,0,{"$f":"L49","v":"2025-07-01"},{"$f":"P50*8","v":0},{"$f":"K50+M50","v":0},0,0,null,null,0,0,null,-12,{"$f":"IF(R42>=DATE(2017,7,1),CEILING(Y50*3%,10)+V50,V50)","v":-12},12,0,0,0,null,0,0,0,0,null,null,0]
["jktif=r",4,"Jh",null,null,null,"O;k[;krk","ysoy",12,0,0,{"$f":"L49","v":"2025-07-01"},0,0,0,0,null,null,0,0,null,-12,{"$f":"IF(R42>=DATE(2017,7,1),CEILING(Y51*3%,10)+V51,V51)","v":-12},12,0,0,{"$f":"Z51-Y51","v":0},null,0,0,0,0,null,null,0]
["jktif=r",5,"Jh",null,null,null,"O;k[;krk","ysoy",12,0,0,{"$f":"L51","v":"2025-07-01"},0,0,0,0,null,null,0,0,null,-12,{"$f":"IF(R42>=DATE(2017,7,1),CEILING(Y52*3%,10)+V52,V52)","v":-12},12,{"$f":"J52","v":0},{"$f":"SUM(W52:X52)","v":0},0,null,0,0,0,0,null,null,0]
["jktif=r",6,"Jh",null,null,null,"O;k[;krk","ysoy",12,0,0,{"$f":"L51","v":"2025-07-01"},0,0,0,0,null,null,0,0,null,{"$f":"Y53-X53","v":-12},{"$f":"IF(R42>=DATE(2017,7,1),CEILING(Y53*3%,10)+V53,V53)","v":-12},{"$f":"I53","v":12},0,0,0,null,0,0,0,0,null,null,0]
["vjktif=r",1,"Jh",null,null,null,"ofj\"B v/;kid","ysoy",11,0,0,{"$f":"L53","v":"2025-07-01"},{"$f":"P54*8","v":0},{"$f":"K54+M54","v":0},{"$f":"N54-P54*12","v":0},0,null,null,0,0,null,-11,{"$f":"IF(R42>=DATE(2017,7,1),CEILING(Y54*3%,10)+V54,V54)","v":-11},11,0,0,0,null,0,0,0,0,null,null,0]
["vjktif=r",2,"Jh",null,null,null,"ofj\"B v/;kid","ysoy",11,0,0,"2025-07-01",0,0,0,0,null,null,0,0,null,-11,{"$f":"IF(R42>=DATE(2017,7,1),CEILING(Y55*3%,10)+V55,V55)","v":-11},11,0,0,0,null,0,0,0,0,null,null,0]
["vjktif=r",3,"Jh",null,null,null,"ofj\"B v/;kid","ysoy",11,0,0,"2025-07-01",0,0,0,0,null,null,0,0,null,-11,{"$f":"IF(R42>=DATE(2017,7,1),CEILING(Y56*3%,10)+V56,V56)","v":-11},11,0,0,0,null,0,0,0,0,null,null,0]
["vjktif=r",4,"Jh",null,null,null,"ofj\"B v/;kid","ysoy",11,0,0,"2025-07-01",0,0,0,0,null,null,0,0,null,{"$f":"Y57-X57","v":-11},{"$f":"IF(R42>=DATE(2017,7,1),CEILING(Y57*3%,10)+V57,V57)","v":-11},11,0,{"$f":"SUM(W57:X57)","v":0},0,null,0,0,0,0,null,null,0]
["vjktif=r",5,"Jh",null,null,null,"ofj\"B v/;kid","ysoy",11,0,0,"2025-07-01",0,0,0,0,null,null,0,0,null,{"$f":"Y58-X58","v":-11},{"$f":"IF(R42>=DATE(2017,7,1),CEILING(Y58*3%,10)+V58,V58)","v":-11},11,0,{"$f":"SUM(W58:X58)","v":0},0,null,0,0,0,0,null,null,0]
["vjktif=r",6,"Jh",null,null,null,"ofj\"B v/;kid","ysoy",11,0,0,"2025-07-01",0,0,0,0,null,null,0,0,null,{"$f":"Y59-X59","v":-11},{"$f":"IF(R42>=DATE(2017,7,1),CEILING(Y59*3%,10)+V59,V59)","v":-11},11,0,{"$f":"SUM(W59:X59)","v":0},0,null,0,0,0,0,null,null,0]
["vjktif=r","a1","Jh",null,null,null,"v/;kid","ysoy",10,0,0,"2025-07-01",0,0,0,0,null,null,0,0,null,{"$f":"Y60-X60","v":-10},{"$f":"IF(R42>=DATE(2017,7,1),CEILING(Y60*3%,10)+V60,V60)","v":-10},10,0,{"$f":"SUM(W60:X60)","v":0},{"$f":"Z60-Y60","v":0},null,0,0,0,0,null,null,0]
["vjktif=r",2,"Jh",null,null,null,"v/;kid","ysoy",10,0,{"$f":"J61*12","v":0},"2025-07-01",{"$f":"P61*8","v":0},{"$f":"K61+M61","v":0},{"$f":"N61-P61*12","v":0},0,null,null,0,0,null,{"$f":"Y61-X61","v":-10},{"$f":"IF(R42>=DATE(2017,7,1),CEILING(Y61*3%,10)+V61,V61)","v":-10},{"$f":"I61","v":10},{"$f":"J61","v":0},{"$f":"SUM(W61:X61)","v":0},{"$f":"Z61-Y61","v":0},null,{"$f":"J61","v":0},{"$f":"AC61*3/100","v":0},{"$f":"ROUNDUP(AD61,-1)","v":0},{"$f":"AC61+AE61","v":0},null,null,{"$f":"AF61-J61","v":0}]
["vjktif=r",3,"Jh",null,null,null,"v/;kid","ysoy",10,0,0,"2025-07-01",{"$f":"P62*8","v":0},0,{"$f":"N62-P62*12","v":0},0,null,null,0,0,null,-10,{"$f":"IF(R42>=DATE(2017,7,1),CEILING(Y62*3%,10)+V62,V62)","v":-10},10,0,0,0,null,0,0,0,0,null,null,0]
["vjktif=r",1,"Jh",null,null,null," 'kk0f'k{kd","ysoy",10,0,{"$f":"J63*12","v":0},"2025-07-01",{"$f":"P63*8","v":0},{"$f":"K63+M63","v":0},{"$f":"N63-P63*12","v":0},0,null,null,0,0,null,{"$f":"Y63-X63","v":-10},{"$f":"IF(R42>=DATE(2017,7,1),CEILING(Y63*3%,10)+V63,V63)","v":-10},{"$f":"I63","v":10},{"$f":"J63","v":0},{"$f":"SUM(W63:X63)","v":0},{"$f":"Z63-Y63","v":0},null,{"$f":"J63","v":0},{"$f":"AC63*3/100","v":0},{"$f":"ROUNDUP(AD63,-1)","v":0},{"$f":"AC63+AE63","v":0},null,null,{"$f":"AF63-J63","v":0}]
["vjktif=r",1,"Jh",null,null,null,"dEi;wVj vuqns'kd","ysoy",8,0,0,"2025-07-01",0,0,0,0,null,null,0,0,null,{"$f":"Y64-X64","v":-8},{"$f":"IF(R42>=DATE(2017,7,1),CEILING(Y64*3%,10)+V64,V64)","v":-8},8,0,{"$f":"SUM(W64:X64)","v":0},0,null,0,0,0,0,null,null,0]
["vjktif=r",1,"Jh",null,null,null,"iz'kklfud vf/kdkjh","ysoy",15,0,{"$f":"J65*12","v":0},"2025-07-01",{"$f":"P65*8","v":0},{"$f":"K65+M65","v":0},{"$f":"N65-P65*12","v":0},0,null,null,0,0,null,{"$f":"Y65-X65","v":-15},{"$f":"IF(R42>=DATE(2017,7,1),CEILING(Y65*3%,10)+V65,V65)","v":-15},{"$f":"I65","v":15},{"$f":"J65","v":0},{"$f":"SUM(W65:X65)","v":0},{"$f":"Z65-Y65","v":0},null,{"$f":"J65","v":0},{"$f":"AC65*3/100","v":0},{"$f":"ROUNDUP(AD65,-1)","v":0},{"$f":"AC65+AE65","v":0},null,null,{"$f":"AF65-J65","v":0}]
["vjktif=r",1,"Jh",null,null,null,"vfrfjDr iz0v0","ysoy",11,0,{"$f":"J66*12","v":0},"2025-07-01",{"$f":"P66*8","v":0},{"$f":"K66+M66","v":0},{"$f":"N66-P66*12","v":0},0,null,null,0,0,null,{"$f":"Y66-X66","v":-11},{"$f":"IF(R42>=DATE(2017,7,1),CEILING(Y66*3%,10)+V66,V66)","v":-11},{"$f":"I66","v":11},{"$f":"J66","v":0},{"$f":"SUM(W66:X66)","v":0},{"$f":"Z66-Y66","v":0},null,{"$f":"J66","v":0},{"$f":"AC66*3/100","v":0},{"$f":"ROUNDUP(AD66,-1)","v":0},{"$f":"AC66+AE66","v":0},null,null,{"$f":"AF66-J66","v":0}]
["vjktif=r",1,"Jh",null,null,null,"lgk;d iz0v0","ysoy",10,0,0,"2025-07-01",0,0,0,0,null,null,0,0,null,-10,{"$f":"IF(R42>=DATE(2017,7,1),CEILING(Y67*3%,10)+V67,V67)","v":-10},10,0,0,0,null,0,0,0,0,null,null,0]
["vjktif=r",1,"Jh",null,null,null,"ofj\"B lgk;d","ysoy",8,0,0,"2025-07-01",0,0,0,0,null,null,0,0,null,-8,{"$f":"IF(R42>=DATE(2017,7,1),CEILING(Y68*3%,10)+V68,V68)","v":-8},8,0,0,0,null,0,0,0,0,null,null,0]
["vjktif=r",1,"Jh",null,null,null,"dfu\"B lgk;d","ysoy",5,0,0,"2025-07-01",0,0,0,0,null,null,0,0,null,-5,{"$f":"IF(R42>=DATE(2017,7,1),CEILING(Y69*3%,10)+V69,V69)","v":-5},5,0,0,0,null,0,0,0,0,null,null,0]
["vjktif=r",1,"Jh",null,null,null,"lgk;d deZpkjh","ysoy",1,0,0,"2025-07-01",0,0,0,0,null,null,0,0,null,-1,{"$f":"IF(R42>=DATE(2017,7,1),CEILING(Y70*3%,10)+V70,V70)","v":-1},1,0,0,0,null,0,0,0,0,null,null,0]
["vjktif=r",2,"Jh",null,null,null,"lgk;d deZpkjh","ysoy",1,0,{"$f":"J71*12","v":0},"2025-07-01",{"$f":"P71*8","v":0},{"$f":"K71+M71","v":0},{"$f":"N71-P71*12","v":0},0,null,null,0,0,null,{"$f":"Y71-X71","v":-1},{"$f":"IF(R42>=DATE(2017,7,1),CEILING(Y71*3%,10)+V71,V71)","v":-1},{"$f":"I71","v":1},{"$f":"J71","v":0},{"$f":"SUM(W71:X71)","v":0},{"$f":"Z71-Y71","v":0},null,{"$f":"J71","v":0},{"$f":"AC71*3/100","v":0},{"$f":"ROUNDUP(AD71,-1)","v":0},{"$f":"AC71+AE71","v":0},null,null,{"$f":"AF71-J71","v":0}]
["vjktif=r",3,"Jh",null,null,null,"lgk;d deZpkjh","ysoy",1,0,0,"2025-07-01",0,0,0,0,null,null,0,0,null,-1,{"$f":"IF(R42>=DATE(2017,7,1),CEILING(Y72*3%,10)+V72,V72)","v":-1},1,0,0,0,null,0,0,0,0,null,null,0]
[]
[null,"jktif=r ;ksx",null,null,null,null,null,null,null,{"$f":"J47+J48+J49+J50+J51+J52+J53","v":42500},{"$f":"K47+K48+K49+K50+K51+K52+K53","v":510000},null,10400,{"$f":"N47+N48+N49+N50+N51+N52+N53","v":520400},504800]
[null,"vjktif=r ;ksx",null,null,null,null,null,null,null,{"$f":"SUM(J54:J72)","v":0},{"$f":"SUM(K54:K72)","v":0},null,{"$f":"M54+M55+M56+M57+M58+M59+M60+M64+M65+M67+M68+M69+M70+M72+M61+M62+M63+M71+M66","v":0},{"$f":"N54+N55+N56+N57+N58+N59+N60+N61+N62+N63+N64+N65+N66+N67+N68+N69+N70+N71+N72","v":0},{"$f":"O54+O55+O56+O57+O58+O59+O60+O61+O62+O63+O64+O65+O66+O67+O68+O69+O70+O71+O72","v":0}]
[null,";ksx jktif=r$vjktif=r ",null,null,null,null,null,null,null,{"$f":"J74+J75","v":42500},{"$f":"K74+K75","v":510000},null,{"$f":"M74+M75","v":10400},{"$f":"N74+N75","v":520400},{"$f":"O74+O75","v":504800}]
[{"$f":"$H$13","v":0.5},"egaxkbZ HkRrk -------izfr'kr",null,null,null,null,null,null,null,null,null,null,null,{"$f":"ROUND(N76*A77,0)","v":260200},{"$f":"ROUND(O76*A77,0)","v":252400},null,null,"deZpkjh dh la[;k"]
[{"$f":"$L$13","v":0.09},"edku fdjk;k 9@18 izfr'kr",null,null,null,null,null,null,null,null,null,null,null,{"$f":"ROUND(N76*A78,0)","v":46836},{"$f":"ROUND(O76*A78,0)","v":45432}]
[{"$f":"$J$13","v":0},"egaxkbZ HkRRkk ,sfj;j¼----izfr'kr½",null,null,null,null,null,null,null,null,null,null,null,null,{"$f":"ROUND((O76*A79*F13)/12,0)","v":0}]
[null,"cksul",null,null,null,null,null,null,null,null,null,null,null,{"$f":"P80*R80","v":0},{"$f":"P80*R80","v":0},6774,null,{"$f":"$H$9","v":0}]
[null,"lefiZr vodk'k",null,null,null,null,null,null,null,null,null,null,null,{"$f":"ROUND((N76+N77)/24,0)","v":32525},{"$f":"ROUND((O76+O77)/24,0)","v":31550}]
[null,"dSf'k;j HkRrk",null,null,null,null,null,null,null,null,null,null,null,{"$f":"P82*R82*12","v":0},{"$f":"P82*R82*12","v":0},50,null,{"$f":"$H$10","v":0}]
[null,"f};kax HkRrk",null,null,null,null,null,null,null,null,null,null,null,{"$f":"P83*R83*12","v":0},{"$f":"P83*R83*12","v":0},1200,null,{"$f":"$H$11","v":0}]
[null,"/kqykbZ HkRrkk",null,null,null,null,null,null,null,null,null,null,null,{"$f":"P84*R84*12","v":0},{"$f":"P84*R84*12","v":0},200,null,{"$f":"H7+H8","v":0}]
[null,"¼fQDl is½ vU; HkRRkk",null,null,null,null,null,null,null,null,null,null,null,{"$f":"$J$104","v":0},{"$f":"$I$104","v":0},14660,null,0]
[null,"dqqy HkRrk ;ksx",null,null,null,null,null,null,null,null,null,null,null,{"$f":"SUM(N77+N78+N79+N80+N81+N85+N82+N84+N83)","v":339561},{"$f":"SUM(O77+O78+O79+O80+O81+O85+O84+O82+O83)","v":329382}]
[null,";ksx laosru",null,null,null,null,null,null,null,null,null,null,null,{"$f":"N86+N76","v":859961},{"$f":"O86+O76","v":834182}]
[null,";k=k HkRrk",null,null,null,null,null,null,null,null,null,null,null,{"$f":"O27","v":0},{"$f":"N27","v":0}]
[null,"esfMdy HkRrk",null,null,null,null,null,null,null,null,null,null,null,{"$f":"O28","v":0},{"$f":"N28","v":0}]
[null,";ksx ;k=k HkRrk$esfMdy HkRRkk",null,null,null,null,null,null,null,null,null,null,null,{"$f":"N88+N89","v":0},{"$f":"O88+O89","v":0}]
[null,"egk;ksx",null,null,null,null,null,null,null,null,null,null,null,{"$f":"N87+N90","v":859961},{"$f":"O87+O90","v":834182}]
[null,null,"Ø-la-","uke dkfeZd","in uke","tUe frfFk","fu;qfä frfFk","ekfld ekuns;","12 ekg dk ekuns;","vkxkeh o\"kZ es 12 ekg dk ekuns;"]
[null,null,1,2,3,4,5,6,7,8]
[null,null,1,"","","","",0,{"$f":"H94*12","v":0},{"$f":"H94*12","v":0}]
[null,null,2,"","","","",0,{"$f":"H95*12","v":0},{"$f":"H95*12","v":0}]
[null,null,3,"","","","",0,0,0]
[null,null,4,"","","","",0,0,0]
[null,null,5,"","","","",0,0,0]
[null,null,6,"","","","",0,0,0]
[null,null,7,"","","","",0,0,0]
[null,null,8,"","","","",0,0,0]
[null,null,9,"","","","",0,0,0]
[null,null,10,"","","","",0,0,0]
[null,null,null,null,"TOTAL",null,null,null,{"$f":"SUM(I94:I103)","v":0},{"$f":"SUM(J94:J103)","v":0}]

{"sheet":"rrr 08","index":1,"n_rows":60,"n_cols":17,"rows_kept":60,"cut":false,"hidden":false,"merged":[[0,0,0,10],[0,12,0,15],[58,9,58,10],[4,1,4,3],[4,5,4,7],[4,8,4,9],[4,10,4,11],[50,7,50,11],[51,1,51,6],[51,7,51,11],[48,1,48,6],[48,7,48,11],[49,1,49,6],[49,7,49,11],[54,3,54,15],[1,15,2,15],[57,9,57,10],[43,1,43,6],[45,1,45,6],[46,1,46,6],[41,1,41,6],[42,1,42,6],[52,7,52,11],[50,1,50,6],[47,7,47,11],[47,1,47,6],[52,1,52,6],[38,7,38,11],[38,1,38,6],[39,1,39,6],[44,1,44,6],[40,1,40,6],[1,0,1,14],[2,0,2,14],[3,0,3,2],[4,13,4,14],[5,10,5,11],[5,12,6,12],[5,13,6,13],[5,14,6,14],[5,0,6,0],[5,8,6,8],[5,9,6,9],[5,2,6,3],[5,4,6,4],[3,3,3,7],[3,12,4,12],[3,15,4,15],[35,1,35,6],[37,1,37,6],[36,1,36,6],[7,2,7,3],[5,5,6,5],[5,6,5,7],[6,6,6,7],[5,1,6,1],[3,8,3,9],[3,10,3,11],[5,15,6,15]]}
["izi= 8",null,null,null,null,null,null,null,null,null,null,"ctV gSM",{"$f":"Profile!$C$3","v":"2202-02-109-01-00"}]
["fuf'pr O;;ksa ds foLr`r vuqeku vFkkZr~ vf/kdkfj;ksa o deZpkfj;ksa ds osru vuqeku o\"kZ ¼vizSy ls ekpZ rd½",null,null,null,null,null,null,null,null,null,null,null,null,null,null,{"$f":"Profile!$M$39","v":"2025&2026"}]
["¼ctV vuqeku vf/kdkfj;ksa }kjk foHkkxk/;{k dks izLrqr djus gsrq½ ys[kk dk 'kh\"kZ % eq[; 'kh\"kZ@minh?kZ 'kh\"kZ@y?kq'kh\"kZ@mi'kh\"kZ xzqi 'kh\"kZ--------------------vk;kstuk fHkUu@vk;kstuk@dsUnz izofrZr ;kstuk"]
["dk;kZy; %&",null,null,{"$f":"Profile!$D$39","v":"lhchbZvks chdkusj"},null,null,null,null,"foHkkx dk uke %&",null,{"$f":"Profile!$G$2","v":"f'k{kk foHkkx"},null,{"$f":"Profile!$K$39","v":"LVsV Q.M"},"ekax la[;k&",{"$f":"Profile!$C$11","v":20},{"$f":"Profile!$G$38","v":2405}]
[null,"ctV Lohd`fr esa fo|ky; dh Ø-la- %&",null,null,{"$f":"Profile!$C$12","v":25},"dk;kZy; v/;{k MhMhvks uke %&",null,null,{"$f":"Profile!$G$4","v":"izHkkr 'kekZ"},null,{"$f":"Profile!$I$4","v":9414318727},null,null,"j   lgL=ksa esa"]
[null,"Øe la[;k","uke",null,{"$f":"Profile!$F$41","v":"thih,Q@,uih,l@izku uEcj"},"in","in dk Lohd`r osru",null,{"$f":"Profile!$J$41","v":"ctV dh izkjfEHkd frfFk ;kfu 1ekpZ2025 dks deZpkjh dk osru"},"igyh ekpZ ls vfUre Qjojh ds fy;s fu/kkZfjr jde","o`f) tks bl vof/k esa gksxh",null,{"$f":"Profile!$N$41","v":"vkxkeh o\"kZ 2025&26 ds fy;s jde ¼dkye 8$10½"},{"$f":"Profile!$O$41","v":"pkyw o\"kZ ds fy;s la'kksf/kr vuqeku 2024&25"},"fo'ks\"k fooj.k ¼osru o`f)½","deZpkjh vkbZ Mh"]
[null,null,null,null,null,null,{"$f":"Profile!$H$42","v":"xzsM is@ ysoy"},null,null,null,"frfFk o`f)","jde o`f)"]
[null,1,2,null,3,4,5,6,7,8,9,10,11,12,13,14]
[{"$f":"Profile!A47","v":"jktif=r"},{"$f":"Profile!B47","v":1},{"$f":"Profile!C47","v":"Jh"},{"$f":"Profile!D47","v":"izHkkr 'kekZ"},{"$f":"Profile!F47","v":543895},{"$f":"Profile!G47","v":"iz/kkukpk;Z"},{"$f":"Profile!H47","v":"ysoy"},{"$f":"Profile!I47","v":16},{"$f":"Profile!J47","v":42500},{"$f":"I9*12","v":510000},{"$f":"Profile!L47","v":"2025-07-01"},{"$f":"O9*8","v":10400},{"$f":"J9+L9","v":520400},{"$f":"M9-O9*12","v":504800},{"$f":"Profile!P47","v":1300},{"$f":"Profile!E47","v":"RJGA198635002357"}]
[{"$f":"Profile!A48","v":"jktif=r"},{"$f":"Profile!B48","v":1},{"$f":"Profile!C48","v":"Jh"},{"$f":"Profile!D48","v":0},{"$f":"Profile!F48","v":0},{"$f":"Profile!G48","v":"O;k[;krk"},{"$f":"Profile!H48","v":"ysoy"},{"$f":"Profile!I48","v":12},{"$f":"Profile!J48","v":0},{"$f":"I10*12","v":0},{"$f":"Profile!L48","v":"2025-07-01"},{"$f":"O10*8","v":0},{"$f":"J10+L10","v":0},{"$f":"M10-O10*12","v":0},{"$f":"Profile!P48","v":0},{"$f":"Profile!E48","v":0}]
[{"$f":"Profile!A49","v":"jktif=r"},{"$f":"Profile!B49","v":2},{"$f":"Profile!C49","v":"Jherh "},{"$f":"Profile!D49","v":0},{"$f":"Profile!F49","v":0},{"$f":"Profile!G49","v":"O;k[;krk"},{"$f":"Profile!H49","v":"ysoy"},{"$f":"Profile!I49","v":12},{"$f":"Profile!J49","v":0},0,{"$f":"Profile!L49","v":"2025-07-01"},0,0,{"$f":"M11-O11*12","v":0},{"$f":"Profile!P49","v":0},{"$f":"Profile!E49","v":0}]
[{"$f":"Profile!A50","v":"jktif=r"},{"$f":"Profile!B50","v":3},{"$f":"Profile!C50","v":"Jh"},{"$f":"Profile!D50","v":0},{"$f":"Profile!F50","v":0},{"$f":"Profile!G50","v":"O;k[;krk"},{"$f":"Profile!H50","v":"ysoy"},{"$f":"Profile!I50","v":12},{"$f":"Profile!J50","v":0},0,{"$f":"Profile!L50","v":"2025-07-01"},0,0,0,{"$f":"Profile!P50","v":0},{"$f":"Profile!E50","v":0}]
[{"$f":"Profile!A51","v":"jktif=r"},{"$f":"Profile!B51","v":4},{"$f":"Profile!C51","v":"Jh"},{"$f":"Profile!D51","v":0},{"$f":"Profile!F51","v":0},{"$f":"Profile!G51","v":"O;k[;krk"},{"$f":"Profile!H51","v":"ysoy"},{"$f":"Profile!I51","v":12},{"$f":"Profile!J51","v":0},0,{"$f":"Profile!L51","v":"2025-07-01"},0,0,0,{"$f":"Profile!P51","v":0},{"$f":"Profile!E51","v":0}]
[{"$f":"Profile!A52","v":"jktif=r"},{"$f":"Profile!B52","v":5},{"$f":"Profile!C52","v":"Jh"},{"$f":"Profile!D52","v":0},{"$f":"Profile!F52","v":0},{"$f":"Profile!G52","v":"O;k[;krk"},{"$f":"Profile!H52","v":"ysoy"},{"$f":"Profile!I52","v":12},{"$f":"Profile!J52","v":0},0,{"$f":"Profile!L52","v":"2025-07-01"},0,0,0,{"$f":"Profile!P52","v":0},{"$f":"Profile!E52","v":0}]
[{"$f":"Profile!A53","v":"jktif=r"},{"$f":"Profile!B53","v":6},{"$f":"Profile!C53","v":"Jh"},{"$f":"Profile!D53","v":0},{"$f":"Profile!F53","v":0},{"$f":"Profile!G53","v":"O;k[;krk"},{"$f":"Profile!H53","v":"ysoy"},{"$f":"Profile!I53","v":12},{"$f":"Profile!J53","v":0},0,{"$f":"Profile!L53","v":"2025-07-01"},0,0,0,{"$f":"Profile!P53","v":0},{"$f":"Profile!E53","v":0}]
[{"$f":"Profile!A54","v":"vjktif=r"},{"$f":"Profile!B54","v":1},{"$f":"Profile!C54","v":"Jh"},{"$f":"Profile!D54","v":0},{"$f":"Profile!F54","v":0},{"$f":"Profile!G54","v":"ofj\"B v/;kid"},{"$f":"Profile!H54","v":"ysoy"},{"$f":"Profile!I54","v":11},{"$f":"Profile!J54","v":0},0,{"$f":"Profile!L54","v":"2025-07-01"},0,0,0,{"$f":"Profile!P54","v":0},{"$f":"Profile!E54","v":0}]
[{"$f":"Profile!A55","v":"vjktif=r"},{"$f":"Profile!B55","v":2},{"$f":"Profile!C55","v":"Jh"},{"$f":"Profile!D55","v":0},{"$f":"Profile!F55","v":0},{"$f":"Profile!G55","v":"ofj\"B v/;kid"},{"$f":"Profile!H55","v":"ysoy"},{"$f":"Profile!I55","v":11},{"$f":"Profile!J55","v":0},{"$f":"I17*12","v":0},{"$f":"Profile!L55","v":"2025-07-01"},0,0,0,{"$f":"Profile!P55","v":0},{"$f":"Profile!E55","v":0}]
[{"$f":"Profile!A56","v":"vjktif=r"},{"$f":"Profile!B56","v":3},{"$f":"Profile!C56","v":"Jh"},{"$f":"Profile!D56","v":0},{"$f":"Profile!F56","v":0},{"$f":"Profile!G56","v":"ofj\"B v/;kid"},{"$f":"Profile!H56","v":"ysoy"},{"$f":"Profile!I56","v":11},{"$f":"Profile!J56","v":0},0,{"$f":"Profile!L56","v":"2025-07-01"},0,0,0,{"$f":"Profile!P56","v":0},{"$f":"Profile!E56","v":0}]
[{"$f":"Profile!A57","v":"vjktif=r"},{"$f":"Profile!B57","v":4},{"$f":"Profile!C57","v":"Jh"},{"$f":"Profile!D57","v":0},{"$f":"Profile!F57","v":0},{"$f":"Profile!G57","v":"ofj\"B v/;kid"},{"$f":"Profile!H57","v":"ysoy"},{"$f":"Profile!I57","v":11},{"$f":"Profile!J57","v":0},0,{"$f":"Profile!L57","v":"2025-07-01"},0,0,0,{"$f":"Profile!P57","v":0},{"$f":"Profile!E57","v":0}]
[{"$f":"Profile!A58","v":"vjktif=r"},{"$f":"Profile!B58","v":5},{"$f":"Profile!C58","v":"Jh"},{"$f":"Profile!D58","v":0},{"$f":"Profile!F58","v":0},{"$f":"Profile!G58","v":"ofj\"B v/;kid"},{"$f":"Profile!H58","v":"ysoy"},{"$f":"Profile!I58","v":11},{"$f":"Profile!J58","v":0},0,{"$f":"Profile!L58","v":"2025-07-01"},0,0,0,{"$f":"Profile!P58","v":0},{"$f":"Profile!E58","v":0}]
[{"$f":"Profile!A59","v":"vjktif=r"},{"$f":"Profile!B59","v":6},{"$f":"Profile!C59","v":"Jh"},{"$f":"Profile!D59","v":0},{"$f":"Profile!F59","v":0},{"$f":"Profile!G59","v":"ofj\"B v/;kid"},{"$f":"Profile!H59","v":"ysoy"},{"$f":"Profile!I59","v":11},{"$f":"Profile!J59","v":0},{"$f":"I21*12","v":0},{"$f":"Profile!L59","v":"2025-07-01"},{"$f":"O21*8","v":0},{"$f":"J21+L21","v":0},{"$f":"M21-O21*12","v":0},{"$f":"Profile!P59","v":0},{"$f":"Profile!E59","v":0}]
[{"$f":"Profile!A60","v":"vjktif=r"},{"$f":"Profile!B60","v":"a1"},{"$f":"Profile!C60","v":"Jh"},{"$f":"Profile!D60","v":0},{"$f":"Profile!F60","v":0},{"$f":"Profile!G60","v":"v/;kid"},{"$f":"Profile!H60","v":"ysoy"},{"$f":"Profile!I60","v":10},{"$f":"Profile!J60","v":0},0,{"$f":"Profile!L60","v":"2025-07-01"},0,0,0,{"$f":"Profile!P60","v":0},{"$f":"Profile!E60","v":0}]
[{"$f":"Profile!A61","v":"vjktif=r"},{"$f":"Profile!B61","v":2},{"$f":"Profile!C61","v":"Jh"},{"$f":"Profile!D61","v":0},{"$f":"Profile!F61","v":0},{"$f":"Profile!G61","v":"v/;kid"},{"$f":"Profile!H61","v":"ysoy"},{"$f":"Profile!I61","v":10},{"$f":"Profile!J61","v":0},0,{"$f":"Profile!L61","v":"2025-07-01"},0,0,0,{"$f":"Profile!P61","v":0},{"$f":"Profile!E61","v":0}]
[{"$f":"Profile!A62","v":"vjktif=r"},{"$f":"Profile!B62","v":3},{"$f":"Profile!C62","v":"Jh"},{"$f":"Profile!D62","v":0},{"$f":"Profile!F62","v":0},{"$f":"Profile!G62","v":"v/;kid"},{"$f":"Profile!H62","v":"ysoy"},{"$f":"Profile!I62","v":10},{"$f":"Profile!J62","v":0},0,{"$f":"Profile!L62","v":"2025-07-01"},0,0,{"$f":"M24-O24*12","v":0},{"$f":"Profile!P62","v":0},{"$f":"Profile!E62","v":0}]
[{"$f":"Profile!A63","v":"vjktif=r"},{"$f":"Profile!B63","v":1},{"$f":"Profile!C63","v":"Jh"},{"$f":"Profile!D63","v":0},{"$f":"Profile!F63","v":0},{"$f":"Profile!G63","v":" 'kk0f'k{kd"},{"$f":"Profile!H63","v":"ysoy"},{"$f":"Profile!I63","v":10},{"$f":"Profile!J63","v":0},0,{"$f":"Profile!L63","v":"2025-07-01"},0,0,0,{"$f":"Profile!P63","v":0},{"$f":"Profile!E63","v":0}]
[{"$f":"Profile!A64","v":"vjktif=r"},{"$f":"Profile!B64","v":1},{"$f":"Profile!C64","v":"Jh"},{"$f":"Profile!D64","v":0},{"$f":"Profile!F64","v":0},{"$f":"Profile!G64","v":"dEi;wVj vuqns'kd"},{"$f":"Profile!H64","v":"ysoy"},{"$f":"Profile!I64","v":8},{"$f":"Profile!J64","v":0},0,{"$f":"Profile!L64","v":"2025-07-01"},0,0,0,{"$f":"Profile!P64","v":0},{"$f":"Profile!E64","v":0}]
[{"$f":"Profile!A65","v":"vjktif=r"},{"$f":"Profile!B65","v":1},{"$f":"Profile!C65","v":"Jh"},{"$f":"Profile!D65","v":0},{"$f":"Profile!F65","v":0},{"$f":"Profile!G65","v":"iz'kklfud vf/kdkjh"},{"$f":"Profile!H65","v":"ysoy"},{"$f":"Profile!I65","v":15},{"$f":"Profile!J65","v":0},0,{"$f":"Profile!L65","v":"2025-07-01"},0,0,0,{"$f":"Profile!P65","v":0},{"$f":"Profile!E65","v":0}]
[{"$f":"Profile!A66","v":"vjktif=r"},{"$f":"Profile!B66","v":1},{"$f":"Profile!C66","v":"Jh"},{"$f":"Profile!D66","v":0},{"$f":"Profile!F66","v":0},{"$f":"Profile!G66","v":"vfrfjDr iz0v0"},{"$f":"Profile!H66","v":"ysoy"},{"$f":"Profile!I66","v":11},{"$f":"Profile!J66","v":0},0,{"$f":"Profile!L66","v":"2025-07-01"},0,0,0,{"$f":"Profile!P66","v":0},{"$f":"Profile!E66","v":0}]
[{"$f":"Profile!A67","v":"vjktif=r"},{"$f":"Profile!B67","v":1},{"$f":"Profile!C67","v":"Jh"},{"$f":"Profile!D67","v":0},{"$f":"Profile!F67","v":0},{"$f":"Profile!G67","v":"lgk;d iz0v0"},{"$f":"Profile!H67","v":"ysoy"},{"$f":"Profile!I67","v":10},{"$f":"Profile!J67","v":0},0,{"$f":"Profile!L67","v":"2025-07-01"},0,0,0,{"$f":"Profile!P67","v":0},{"$f":"Profile!E67","v":0}]
[{"$f":"Profile!A68","v":"vjktif=r"},{"$f":"Profile!B68","v":1},{"$f":"Profile!C68","v":"Jh"},{"$f":"Profile!D68","v":0},{"$f":"Profile!F68","v":0},{"$f":"Profile!G68","v":"ofj\"B lgk;d"},{"$f":"Profile!H68","v":"ysoy"},{"$f":"Profile!I68","v":8},{"$f":"Profile!J68","v":0},0,{"$f":"Profile!L68","v":"2025-07-01"},0,0,0,{"$f":"Profile!P68","v":0},{"$f":"Profile!E68","v":0}]
[{"$f":"Profile!A69","v":"vjktif=r"},{"$f":"Profile!B69","v":1},{"$f":"Profile!C69","v":"Jh"},{"$f":"Profile!D69","v":0},{"$f":"Profile!F69","v":0},{"$f":"Profile!G69","v":"dfu\"B lgk;d"},{"$f":"Profile!H69","v":"ysoy"},{"$f":"Profile!I69","v":5},{"$f":"Profile!J69","v":0},0,{"$f":"Profile!L69","v":"2025-07-01"},0,0,0,{"$f":"Profile!P69","v":0},{"$f":"Profile!E69","v":0}]
[{"$f":"Profile!A70","v":"vjktif=r"},{"$f":"Profile!B70","v":1},{"$f":"Profile!C70","v":"Jh"},{"$f":"Profile!D70","v":0},{"$f":"Profile!F70","v":0},{"$f":"Profile!G70","v":"lgk;d deZpkjh"},{"$f":"Profile!H70","v":"ysoy"},{"$f":"Profile!I70","v":1},{"$f":"Profile!J70","v":0},0,{"$f":"Profile!L70","v":"2025-07-01"},0,0,0,{"$f":"Profile!P70","v":0},{"$f":"Profile!E70","v":0}]
[{"$f":"Profile!A71","v":"vjktif=r"},{"$f":"Profile!B71","v":2},{"$f":"Profile!C71","v":"Jh"},{"$f":"Profile!D71","v":0},{"$f":"Profile!F71","v":0},{"$f":"Profile!G71","v":"lgk;d deZpkjh"},{"$f":"Profile!H71","v":"ysoy"},{"$f":"Profile!I71","v":1},{"$f":"Profile!J71","v":0},0,{"$f":"Profile!L71","v":"2025-07-01"},0,0,0,{"$f":"Profile!P71","v":0},{"$f":"Profile!E71","v":0}]
[{"$f":"Profile!A72","v":"vjktif=r"},{"$f":"Profile!B72","v":3},{"$f":"Profile!C72","v":"Jh"},{"$f":"Profile!D72","v":0},{"$f":"Profile!F72","v":0},{"$f":"Profile!G72","v":"lgk;d deZpkjh"},{"$f":"Profile!H72","v":"ysoy"},{"$f":"Profile!I72","v":1},{"$f":"Profile!J72","v":0},0,{"$f":"Profile!L72","v":"2025-07-01"},0,0,0,{"$f":"Profile!P72","v":0},{"$f":"Profile!E72","v":0}]
[]
[null,"jktif=r ;ksx",null,null,null,null,null,null,{"$f":"Profile!J74","v":42500},{"$f":"Profile!K74","v":510000},null,{"$f":"Profile!M74","v":10400},{"$f":"Profile!N74","v":520400},{"$f":"Profile!O74","v":504800}]
[null,"vjktif=r ;ksx",null,null,null,null,null,null,{"$f":"Profile!J75","v":0},{"$f":"Profile!K75","v":0},null,{"$f":"Profile!M75","v":0},{"$f":"Profile!N75","v":0},{"$f":"Profile!O75","v":0}]
[null,";ksx jktif=r$vjktif=r ",null,null,null,null,null,null,{"$f":"Profile!J76","v":42500},{"$f":"Profile!K76","v":510000},null,{"$f":"Profile!M76","v":10400},{"$f":"Profile!N76","v":520400},{"$f":"Profile!O76","v":504800}]
[{"$f":"Profile!A77","v":0.5},{"$f":"Profile!$B$77","v":"egaxkbZ HkRrk -------izfr'kr"},null,null,null,null,null,null,null,null,null,null,{"$f":"Profile!N77","v":260200},{"$f":"Profile!O77","v":252400}]
[{"$f":"Profile!A78","v":0.09},{"$f":"Profile!$B$78","v":"edku fdjk;k 9@18 izfr'kr"},null,null,null,null,null,null,null,null,null,null,{"$f":"Profile!N78","v":46836},{"$f":"Profile!O78","v":45432}]
[{"$f":"Profile!A79","v":0},{"$f":"Profile!$B$79","v":"egaxkbZ HkRRkk ,sfj;j¼----izfr'kr½"},null,null,null,null,null,null,null,null,null,null,{"$f":"Profile!N79","v":0},{"$f":"Profile!O79","v":0},null,null,"deZpkjh dh la[;k"]
[null,{"$f":"Profile!$B$80","v":"cksul"},null,null,null,null,null,null,null,null,null,null,{"$f":"Profile!N80","v":0},{"$f":"Profile!O80","v":0},null,null,{"$f":"Profile!$R$80","v":0}]
[null,{"$f":"Profile!B81","v":"lefiZr vodk'k"},null,null,null,null,null,null,null,null,null,null,{"$f":"Profile!N81","v":32525},{"$f":"Profile!O81","v":31550}]
[null,{"$f":"Profile!B82","v":"dSf'k;j HkRrk"},null,null,null,null,null,null,null,null,null,null,{"$f":"Profile!N82","v":0},{"$f":"Profile!O82","v":0}]
[null,{"$f":"Profile!B83","v":"f};kax HkRrk"},null,null,null,null,null,null,null,null,null,null,{"$f":"Profile!N83","v":0},{"$f":"Profile!O83","v":0}]
[null,{"$f":"Profile!B84","v":"/kqykbZ HkRrkk"},null,null,null,null,null,null,null,null,null,null,{"$f":"Profile!N84","v":0},{"$f":"Profile!O84","v":0}]
[null,{"$f":"Profile!B85","v":"¼fQDl is½ vU; HkRRkk"},null,null,null,null,null,null,null,null,null,null,{"$f":"Profile!N85","v":0},{"$f":"Profile!O85","v":0}]
[null,{"$f":"Profile!$B$86","v":"dqqy HkRrk ;ksx"},null,null,null,null,null,null,null,null,null,null,{"$f":"Profile!N86","v":339561},{"$f":"Profile!O86","v":329382}]
[null,{"$f":"Profile!B87","v":";ksx laosru"},null,null,null,null,null,null,null,null,null,null,{"$f":"Profile!N87","v":859961},{"$f":"Profile!O87","v":834182}]
[null,{"$f":"Profile!B88","v":";k=k HkRrk"},null,null,null,null,null,null,null,null,null,null,{"$f":"Profile!N88","v":0},{"$f":"Profile!O88","v":0}]
[null,{"$f":"Profile!B89","v":"esfMdy HkRrk"},null,null,null,null,null,null,null,null,null,null,{"$f":"Profile!N89","v":0},{"$f":"Profile!O89","v":0}]
[null,{"$f":"Profile!B90","v":";ksx ;k=k HkRrk$esfMdy HkRRkk"},null,null,null,null,null,null,null,null,null,null,{"$f":"Profile!N90","v":0},{"$f":"Profile!O90","v":0}]
[null,{"$f":"Profile!B91","v":"egk;ksx"},null,null,null,null,null,null,null,null,null,null,{"$f":"Profile!N91","v":859961},{"$f":"Profile!O91","v":834182}]
[]
[null,null,null,"izekf.kr fd;k tkrk gS fd mi;qZDr lwpuk dh esjs }kjk O;fDrxr :Ik ls tkap dj yh xbZ gS vksj bls lgh ik;k x;k gSA"]
[]
[null,null,null,null,null,null,null,null,null,null,null,null,{"$f":"Profile!A3","v":"lhchbZvks "}]
[null,null,null,null,null,null,null,null,"rS;kj drkZ %&",{"$f":"Profile!G6","v":"dqynhi dqekj"},null,null,{"$f":"Profile!A4","v":"lexz f'k{kk"}]
[null,null,null,null,null,null,null,null,null,{"$f":"Profile!$I$6","v":9799001169},null,null,{"$f":"Profile!A5","v":"chdkusj"}]
[null,null,null,null,null,null,null,null,null,null,null,null,{"$f":"Profile!$F$4","v":2405}]

{"sheet":"rrr 09","index":2,"n_rows":61,"n_cols":20,"rows_kept":61,"cut":false,"hidden":false,"merged":[[0,0,0,11],[0,13,0,16],[37,14,37,17],[5,0,6,0],[5,1,6,1],[5,3,5,5],[5,7,5,9],[5,11,6,11],[5,10,6,10],[5,2,6,2],[5,12,5,14],[4,1,4,4],[4,5,4,6],[3,11,3,13],[3,14,3,17],[5,15,5,17],[4,7,4,9],[4,10,4,12],[4,13,4,14],[1,18,2,19],[1,0,1,17],[2,0,2,17],[3,0,3,3],[3,4,3,10],[5,19,6,19],[3,18,3,19],[4,18,4,19],[41,14,41,17],[34,14,34,17],[35,14,35,17],[36,14,36,17],[33,8,33,9],[34,8,34,9],[39,1,39,5],[40,2,40,4],[40,5,40,6],[40,7,40,9],[40,10,40,11],[40,12,40,13],[40,14,40,17],[42,2,42,4],[42,5,42,6],[42,7,42,9],[42,10,42,11],[42,12,42,13],[42,14,42,17],[41,2,41,4],[41,5,41,6],[41,7,41,9],[41,10,41,11],[41,12,41,13],[43,14,43,17],[44,2,44,4],[44,5,44,6],[44,7,44,9],[44,10,44,11],[44,12,44,13],[44,14,44,17],[43,2,43,4],[43,5,43,6],[43,7,43,9],[43,10,43,11],[43,12,43,13],[45,14,45,17],[46,2,46,4],[46,5,46,6],[46,7,46,9],[46,10,46,11],[46,12,46,13],[46,14,46,17],[45,2,45,4],[45,5,45,6],[45,7,45,9],[45,10,45,11],[45,12,45,13],[47,14,47,17],[48,2,48,4],[48,5,48,6],[48,7,48,9],[48,10,48,11],[48,12,48,13],[48,14,48,17],[47,2,47,4],[47,5,47,6],[47,7,47,9],[47,10,47,11],[47,12,47,13],[52,12,52,13],[52,14,52,16],[52,17,52,18],[53,2,53,3],[53,4,53,5],[53,6,53,7],[53,8,53,9],[53,10,53,11],[53,12,53,13],[53,14,53,16],[53,17,53,18],[52,2,52,3],[52,4,52,5],[52,6,52,7],[52,8,52,9],[52,10,52,11],[55,10,55,11],[55,12,55,13],[55,14,55,16],[55,17,55,18],[54,2,54,3],[54,4,54,5],[54,6,54,7],[54,8,54,9],[54,10,54,11],[58,12,58,13],[58,14,58,16],[58,17,58,18],[60,1,60,16],[58,2,58,3],[58,4,58,5],[58,6,58,7],[58,8,58,9],[58,10,58,11],[0,18,0,19],[57,2,57,3],[57,4,57,5],[57,6,57,7],[57,8,57,9],[57,10,57,11],[57,12,57,13],[57,14,57,16],[57,17,57,18],[56,2,56,3],[56,4,56,5],[56,6,56,7],[56,8,56,9],[56,10,56,11],[56,12,56,13],[56,14,56,16],[56,17,56,18],[54,12,54,13],[54,14,54,16],[54,17,54,18],[55,2,55,3],[55,4,55,5],[55,6,55,7],[55,8,55,9]]}
["izi= 9",null,null,null,null,null,null,null,null,null,null,null,"ctV gSM",{"$f":"Profile!$C$3","v":"2202-02-109-01-00"},null,null,null,null,{"$f":"'rrr 08'!$P$2","v":"2025&2026"}]
["fuf'pr O;;ksa ds foLr`r vuqeku vFkkZr~ vf/kdkfj;ksa o deZpkfj;ksa ds osru vuqeku o\"kZ ¼vizSy ls ekpZ rd½",null,null,null,null,null,null,null,null,null,null,null,null,null,null,null,null,null,{"$f":"Profile!$K$39","v":"LVsV Q.M"}]
["¼ctV vuqeku vf/kdkfj;ksa }kjk foHkkxk/;{k dks izLrqr djus gsrq½ ys[kk dk 'kh\"kZ % eq[; 'kh\"kZ@minh?kZ 'kh\"kZ@y?kq'kh\"kZ@mi'kh\"kZ xzqi 'kh\"kZ--------------------vk;kstuk fHkUu@vk;kstuk@dsUnz izofrZr ;kstuk"]
["dk;kZy; &",null,null,null,{"$f":"Profile!$D$39","v":"lhchbZvks chdkusj"},null,null,null,null,null,null,"foHkkx dk uke %&",null,null,{"$f":"Profile!$G$2","v":"f'k{kk foHkkx"},null,null,null,{"$f":"Profile!$G$38","v":2405}]
[null,"ctV Lohd`fr esa fo|ky; dh Ø-la- %&",null,null,null,{"$f":"Profile!$C$12","v":25},null,"dk;kZy; v/;{k MhMhvks uke %&",null,null,{"$f":"Profile!$G$4","v":"izHkkr 'kekZ"},null,null,{"$f":"Profile!$I$4","v":9414318727},null,null,null,null,"j   lgL=ksa esa"]
["Øe l[;k","ys[kk 'kh\"kZd ¼foLr`r 'kh\"kZ½","nrer@ ize`r","okLrfod O;; vkadM+s¼xr iwoZ rhu o\"kksZ ds½",null,null,{"$f":"Profile!$E$24","v":"2024&2025"},"okLrfod O;; vkadM+s",null,null,"vxLr ls ekpZ rd dk laHkkfor O;; ¼pkyw o\"kZ½","la'kksf/kr vuqeku ¼pkyw o\"kZ½ 9$11","vk; O;; ds vuqeku ckcr ¼vkxkeh o\"kZ½",null,null,"o`f)¼$½ ;k deh¼&½",null,null,"uohu vkbVe","fo'ks\"k fooj.k"]
[null,null,null,{"$f":"Profile!$F$25","v":"2021-22"},{"$f":"Profile!$G$25","v":"2022-23"},{"$f":"Profile!$H$25","v":"23&24 esa ekpZ2024 dk th-,-19"},"vk; O;; ds vuqeku ckcr~ pkyw o\"kZ ","vxLr ls ekpZ rd ¼xr o\"kZ½","viszy ls tqykbZ rd ¼pkyw o\"kZ½","dkye 8 o 9 dk ;ksx",null,null,"dfeVsM","uohu","dqy ¼13+14½","7 vkSj 12 esa","10 vkSj 12 esa","12 vkSj 15 esa","gka @ ugha"]
[1,2,3,4,5,6,7,8,9,10,11,12,13,14,15,16,17,18,19,20]
[null,";ksx jk$vjk",null,null,null,null,null,null,null,null,null,{"$f":"'rrr 08'!$N$38","v":504800},{"$f":"'rrr 08'!$M$38","v":520400},null,{"$f":"M9+N9","v":520400}]
[{"$f":"Profile!A77","v":0.5},{"$f":"Profile!$B$77","v":"egaxkbZ HkRrk -------izfr'kr"},null,null,null,null,null,null,null,null,null,{"$f":"'rrr 08'!N39","v":252400},{"$f":"'rrr 08'!M39","v":260200},null,{"$f":"M10+N10","v":260200}]
[{"$f":"Profile!A78","v":0.09},"edku fdjk;k",null,null,null,null,null,null,null,null,null,{"$f":"'rrr 08'!N40","v":45432},{"$f":"'rrr 08'!M40","v":46836},null,46836]
[{"$f":"Profile!A79","v":0},{"$f":"Profile!$B$79","v":"egaxkbZ HkRRkk ,sfj;j¼----izfr'kr½"},null,null,null,null,null,null,null,null,null,{"$f":"'rrr 08'!N41","v":0},{"$f":"'rrr 08'!M41","v":0},null,0]
[null,"cksul",null,null,null,null,null,null,null,null,null,{"$f":"'rrr 08'!N42","v":0},{"$f":"'rrr 08'!M42","v":0},null,0]
[null,"lefiZr vodk'k",null,null,null,null,null,null,null,null,null,{"$f":"'rrr 08'!N43","v":31550},{"$f":"'rrr 08'!M43","v":32525},null,32525]
[null,"dSf'k;j HkRrk",null,null,null,null,null,null,null,null,null,{"$f":"'rrr 08'!N44","v":0},{"$f":"'rrr 08'!M44","v":0},null,0]
[null,"o`f) HkRrk",null,null,null,null,null,null,null,null,null,{"$f":"'rrr 08'!N46","v":0},{"$f":"'rrr 08'!M46","v":0},null,0]
[null,"vU; Hkrs",null,null,null,null,null,null,null,null,null,{"$f":"'rrr 08'!$N$47","v":0},{"$f":"'rrr 08'!$M$47","v":0},null,0]
[null,";ksx HkRrs",null,null,null,null,null,null,null,null,null,{"$f":"'rrr 08'!N48","v":329382},{"$f":"'rrr 08'!M48","v":339561},null,339561]
[null,";ksx laosru",null,{"$f":"Profile!F26","v":0},{"$f":"Profile!G26","v":0},{"$f":"Profile!H26","v":0},{"$f":"Profile!$C$26","v":0},{"$f":"Profile!P26","v":0},{"$f":"Profile!Q26","v":155000},{"$f":"H19+I19","v":155000},{"$f":"L19-I19","v":679182},{"$f":"'rrr 08'!N49","v":834182},{"$f":"'rrr 08'!M49","v":859961},null,859961]
[null,";k=k HkRrk",null,{"$f":"Profile!F27","v":0},{"$f":"Profile!G27","v":0},{"$f":"Profile!H27","v":0},{"$f":"Profile!C27","v":0},{"$f":"Profile!P27","v":0},{"$f":"Profile!Q27","v":0},{"$f":"H20+I20","v":0},{"$f":"L20-I20","v":0},{"$f":"'rrr 08'!N50","v":0},{"$f":"'rrr 08'!M50","v":0},null,0]
[null,"esfMdy HkRrk",null,{"$f":"Profile!F28","v":0},{"$f":"Profile!G28","v":0},{"$f":"Profile!H28","v":0},{"$f":"Profile!C28","v":0},{"$f":"Profile!P28","v":0},{"$f":"Profile!Q28","v":0},0,{"$f":"L21-I21","v":0},{"$f":"'rrr 08'!N51","v":0},{"$f":"'rrr 08'!M51","v":0},null,0]
[null,";ksx ;k=k esfMdy",null,{"$f":"D20+D21","v":0},{"$f":"E20+E21","v":0},0,{"$f":"G20+G21","v":0},{"$f":"H20+H21","v":0},0,0,0,{"$f":"'rrr 08'!N52","v":0},{"$f":"'rrr 08'!M52","v":0},null,0]
[null,";ksx loZ;ksx",null,{"$f":"D22+D19","v":0},0,0,{"$f":"G22+G19","v":0},{"$f":"H22+H19","v":0},{"$f":"I22+I19","v":155000},{"$f":"J22+J19","v":155000},{"$f":"K22+K19","v":679182},{"$f":"L19+L22","v":834182},{"$f":"M19+M22","v":859961},null,859961]
[null,{"$f":"Profile!A29","v":"dk;kZy; O;;"},null,{"$f":"Profile!F29","v":0},{"$f":"Profile!G29","v":0},{"$f":"Profile!H29","v":0},{"$f":"Profile!C29","v":0},{"$f":"Profile!P29","v":0},{"$f":"Profile!Q29","v":0},{"$f":"H24+I24","v":0},{"$f":"L24-I24","v":0},{"$f":"Profile!AK29","v":0},{"$f":"Profile!AL27","v":0},null,0]
[null,{"$f":"Profile!A30","v":"fdjk;k dj jk;fYV"},null,{"$f":"Profile!F30","v":0},{"$f":"Profile!G30","v":0},{"$f":"Profile!H30","v":0},{"$f":"Profile!C30","v":0},{"$f":"Profile!P30","v":0},{"$f":"Profile!Q30","v":0},{"$f":"H25+I25","v":0},{"$f":"L25-I25","v":0},{"$f":"Profile!AK30","v":0},{"$f":"Profile!AL28","v":0},null,0]
[null,{"$f":"Profile!A31","v":"e'khujh lkt lkeku"},null,{"$f":"Profile!F31","v":0},{"$f":"Profile!G31","v":0},{"$f":"Profile!H31","v":0},{"$f":"Profile!C31","v":0},{"$f":"Profile!P31","v":0},{"$f":"Profile!Q31","v":0},0,0,{"$f":"Profile!AK31","v":0},{"$f":"Profile!AL29","v":0},null,0]
[null,{"$f":"Profile!A32","v":"iqLrdky;"},null,{"$f":"Profile!F32","v":0},{"$f":"Profile!G32","v":0},{"$f":"Profile!H32","v":0},{"$f":"Profile!C32","v":0},{"$f":"Profile!P32","v":0},{"$f":"Profile!Q32","v":0},0,{"$f":"L27-I27","v":0},{"$f":"Profile!AK32","v":0},{"$f":"Profile!AL30","v":0},null,0]
[null,{"$f":"Profile!A33","v":"iz;ksx'kkyk"},null,{"$f":"Profile!F33","v":0},{"$f":"Profile!G33","v":0},{"$f":"Profile!H33","v":0},{"$f":"Profile!C33","v":0},{"$f":"Profile!P33","v":0},{"$f":"Profile!Q33","v":0},0,0,{"$f":"Profile!AK33","v":0},{"$f":"Profile!AL31","v":0},null,0]
[null,{"$f":"Profile!A34","v":"ofnZ;ka"},null,{"$f":"Profile!F34","v":0},{"$f":"Profile!G34","v":0},{"$f":"Profile!H34","v":0},{"$f":"Profile!C34","v":0},{"$f":"Profile!P34","v":0},{"$f":"Profile!Q34","v":0},0,0,{"$f":"Profile!N34","v":0},{"$f":"Profile!AL34","v":0},null,0]
[null,{"$f":"Profile!A35","v":"vU; izHkkj"},null,{"$f":"Profile!F35","v":0},{"$f":"Profile!G35","v":0},{"$f":"Profile!H35","v":0},{"$f":"Profile!C35","v":0},{"$f":"Profile!P35","v":0},{"$f":"Profile!Q35","v":0},0,0,{"$f":"Profile!AK35","v":0},{"$f":"Profile!AL35","v":0},null,0]
[null,{"$f":"Profile!A36","v":"foHkkxh;lsokvksa ij fof'k\"V O;;"},null,{"$f":"Profile!F36","v":0},{"$f":"Profile!G36","v":0},{"$f":"Profile!H36","v":0},{"$f":"Profile!C36","v":0},{"$f":"Profile!P36","v":0},{"$f":"Profile!Q36","v":0},0,0,{"$f":"Profile!AK36","v":0},{"$f":"Profile!AL36","v":0},null,0]
[null,";ksx",null,{"$f":"D31+D28+D27+D26+D25+D24+D29+D30","v":0},{"$f":"E31+E28+E27+E26+E25+E24+E29+E30","v":0},0,0,0,0,{"$f":"J31+J28+J27+J26+J25+J24+J29+J30","v":0},{"$f":"K31+K28+K27+K26+K25+K24+K29+K30","v":0},{"$f":"L31+L28+L27+L26+L25+L24+L29+L30","v":0},{"$f":"M31+M28+M27+M26+M25+M24+M29+M30","v":0},null,{"$f":"M32+N32","v":0}]
[null,";ksx egk;ksx",null,{"$f":"D32+D23","v":0},0,0,0,0,155000,155000,679182,834182,859961,null,859961]
[null,null,null,null,null,null,null,"rS;kj drkZ %&",{"$f":"Profile!G6","v":"dqynhi dqekj"}]
[null,null,null,null,null,null,null,null,{"$f":"Profile!$I$6","v":9799001169},null,null,null,null,null,{"$f":"Profile!A3","v":"lhchbZvks "}]
[null,null,null,null,null,null,null,null,null,null,null,null,null,null,{"$f":"Profile!A4","v":"lexz f'k{kk"},{"$f":"Profile!B4","v":0}]
[null,null,null,null,null,null,null,null,null,null,null,null,null,null,{"$f":"Profile!A5","v":"chdkusj"},{"$f":"Profile!B5","v":0}]
[null,null,null,null,null,null,null,null,null,null,null,null,null,null,{"$f":"Profile!$F$4","v":2405}]
[]
[]
[null,"Øekad","in uke",null,null,"u;k@ØekssUu;u",null,"is cSaM",null,null,"xzsM is",null,"dqy in",null,"fooj.k"]
[null,1,2,null,null,3,null,4,null,null,5,null,6,null,7]
[null,1]
[null,2]
[null,3]
[null,4]
[null,5]
[null,6]
[null,7]
[]
[]
[null,"vU; uohu vkbVe ds fy, izi="]
[null,"Øekad","uohu vkbVe izdkj",null,"Ø; @ fdjk;k",null,"vkbVe dk uke",null,"la[;k",null,"vkorhZ O;; ekfld",null,"vukorhZ Hkkj",null,"dqy okf\"kZd Hkkj",null,null,"vU; fooj.k "]
[null,1]
[null,2]
[null,3]
[null,4]
[null,5]
[null,6]
[]
[null,"izekf.kr fd;k tkrk gS fd mi;qZDr lwpuk dh esjs }kjk O;fDrxr :Ik ls tkap dj yh xbZ gS vksj bls lgh ik;k x;k gSA"]

{"sheet":"rrr10","index":3,"n_rows":21,"n_cols":15,"rows_kept":21,"cut":false,"hidden":false,"merged":[[19,7,19,8],[20,7,20,8],[3,7,3,8],[3,0,3,2],[3,3,3,6],[4,0,5,0],[4,1,5,1],[4,2,4,4],[4,6,4,8],[4,10,5,10],[4,11,5,11],[4,12,4,14],[4,9,5,9],[0,0,0,8],[0,10,0,13],[3,13,3,14],[2,0,2,1],[1,12,1,14],[1,0,1,9],[3,9,3,10],[3,11,3,12],[2,2,2,11]]}
["izi= 10",null,null,null,null,null,null,null,null,"ctV gSM",{"$f":"Profile!$C$3","v":"2202-02-109-01-00"}]
["vk; dk foLr`r ctV vuqeku forh; o\"kZ ---------------------¼1vizSy ls 31ekpZ rd½ dk",null,null,null,null,null,null,null,null,null,"MhMhvks dksM",{"$f":"Profile!$G$38","v":2405},{"$f":"Profile!$K$39","v":"LVsV Q.M"}]
["dk;kZy; &",null,{"$f":"Profile!$D$39","v":"lhchbZvks chdkusj"}]
["dk;kZy; v/;{k MhMhvks uke %&",null,null,{"$f":"Profile!$G$4","v":"izHkkr 'kekZ"},null,null,null,{"$f":"Profile!$I$4","v":9414318727},null,"foHkkx dk uke %& ",null,{"$f":"Profile!$G$2","v":"f'k{kk foHkkx"},null,"j  lgL=ksa esa"]
["Øe l[;k","ys[kk dk 'kh\"kZ nh?kZ 'kh\"kZ@ minh?kZ 'kh\"kZ@ y?kq'kh\"kZ@ mi'kh\"kZ ","okLrfod O;; vkadM+s    ¼xr iwoZ rhu o\"kksZ ds½",null,null,{"$f":"'rrr 09'!$G$6","v":"2024&2025"},"okLrfod vk; vkadM+s",null,null,"vxLr ls ekpZ rd dk laHkkfor vk; ¼pkyw o\"kZ½","la'kksf/kr vuqeku ¼pkyw o\"kZ½ 8$10","vk; O;; ds vuqeku ckcr ¼vkxkeh o\"kZ½","o`f)¼$½ ;k deh¼&½"]
[null,null,{"$f":"'rrr 09'!D7","v":"2021-22"},{"$f":"'rrr 09'!E7","v":"2022-23"},{"$f":"'rrr 09'!$F$7","v":"23&24 esa ekpZ2024 dk th-,-19"},{"$f":"'rrr 09'!$G$7","v":"vk; O;; ds vuqeku ckcr~ pkyw o\"kZ "},"vxLr ls ekpZ rd ¼xr o\"kZ½","viszy ls tqykbZ rd ¼pkyw o\"kZ½","dkye 7 o 8 dk ;ksx",null,null,null,"6 vkSj 11 esa","9 vkSj 11 esa","11 vkSj 12 esa"]
[1,2,3,4,5,6,7,8,9,10,11,12,13,14,15]
[null,"f'k{k.k 'kqYd",{"$f":"Profile!F17","v":0},{"$f":"Profile!G17","v":0},{"$f":"Profile!H17","v":0},{"$f":"K8","v":0},{"$f":"Profile!I17","v":0},{"$f":"Profile!J17","v":0},{"$f":"G8+H8","v":0},{"$f":"Profile!K17","v":0},{"$f":"H8+J8","v":0},{"$f":"Profile!L17","v":0}]
[null,"Vh-lh-",{"$f":"Profile!F18","v":0},{"$f":"Profile!G18","v":0},{"$f":"Profile!H18","v":0},{"$f":"K9","v":0},{"$f":"Profile!I18","v":0},{"$f":"Profile!J18","v":0},{"$f":"G9+H9","v":0},{"$f":"Profile!K18","v":0},{"$f":"H9+J9","v":0},{"$f":"Profile!L18","v":0}]
[null,"izos'k 'kqYd",{"$f":"Profile!F19","v":0},{"$f":"Profile!G19","v":0},{"$f":"Profile!H19","v":0},0,{"$f":"Profile!I19","v":0},{"$f":"Profile!J19","v":0},0,{"$f":"Profile!K19","v":0},0,{"$f":"Profile!L19","v":0}]
[null,"vuqi;ksxh lkeku ds fuLrkj.k ls vk;",{"$f":"Profile!F20","v":0},{"$f":"Profile!G20","v":0},{"$f":"Profile!H20","v":0},0,{"$f":"Profile!I20","v":0},{"$f":"Profile!J20","v":0},0,{"$f":"Profile!K20","v":0},0,{"$f":"Profile!L20","v":0}]
[null,"fofo/k",{"$f":"Profile!F21","v":0},{"$f":"Profile!G21","v":0},{"$f":"Profile!H21","v":0},0,{"$f":"Profile!I21","v":0},{"$f":"Profile!J21","v":0},0,{"$f":"Profile!K21","v":0},0,{"$f":"Profile!L21","v":0}]
[null,"vU;",{"$f":"Profile!F22","v":0},{"$f":"Profile!G22","v":0},{"$f":"Profile!H22","v":0},0,{"$f":"Profile!I22","v":0},{"$f":"Profile!J22","v":0},0,{"$f":"Profile!K22","v":0},0,{"$f":"Profile!L22","v":0}]
[null,";ksx",{"$f":"C13+C10+C9+C8+C11+C12","v":0},{"$f":"D13+D10+D9+D8+D11+D12","v":0},0,{"$f":"F13+F10+F9+F8+F11+F12","v":0},{"$f":"G13+G10+G9+G8+G11+G12","v":0},{"$f":"H13+H10+H9+H8+H11+H12","v":0},{"$f":"I13+I10+I9+I8+I11+I12","v":0},{"$f":"J13+J10+J9+J8+J11+J12","v":0},{"$f":"K13+K10+K9+K8+K11+K12","v":0},{"$f":"L13+L10+L9+L8+L11+L12","v":0}]
[]
[]
[]
[null,null,null,null,null,null,null,null,null,null,null,{"$f":"Profile!A3","v":"lhchbZvks "}]
[null,null,null,null,null,null,null,null,null,null,null,{"$f":"Profile!A4","v":"lexz f'k{kk"}]
[null,null,null,null,null,null,"rS;kj drkZ %&",{"$f":"Profile!G6","v":"dqynhi dqekj"},null,null,null,{"$f":"Profile!A5","v":"chdkusj"}]
[null,null,null,null,null,null,null,{"$f":"Profile!$I$6","v":9799001169},null,null,null,{"$f":"Profile!$F$4","v":2405}]

{"sheet":"P1","index":4,"n_rows":14,"n_cols":8,"rows_kept":14,"cut":false,"hidden":false,"merged":[[13,6,13,7],[10,6,10,7],[11,6,11,7],[1,0,1,4],[1,6,1,7],[12,6,12,7],[0,0,0,1],[0,2,0,7],[4,5,5,5],[4,0,5,0],[4,1,5,1],[4,2,5,2],[4,3,5,3],[4,4,5,4],[3,0,3,1],[3,2,3,4],[3,5,3,6],[2,0,2,2],[2,3,2,4],[2,5,2,6]]}
[{"$f":"Profile!$A$39","v":"dk;kZy; %&"},null,{"$f":"Profile!$D$39","v":"lhchbZvks chdkusj"}]
["izi= 1",null,null,null,null,"ctV gSM",{"$f":"Profile!$C$3","v":"2202-02-109-01-00"}]
["dk;kZy; v/;{k MhMhvks uke %&",null,null,{"$f":"Profile!$G$4","v":"izHkkr 'kekZ"},null,{"$f":"Profile!$I$4","v":9414318727}]
["ys[kk en ",null,"01 laosru dk x.ku @ ekax izi=",null,null,{"$f":"Profile!$K$39","v":"LVsV Q.M"},null,"jkf'k yk[kksa esa"]
["Ø-la-","vkWfQl vkbZ-Mh-","fo|ky; dk uke","forh; o\"kZ 2024&25 esa laosru esa vkaCkfVr jkf'k","07@24 rd dk okLrfod O;;","08@24 ls 03@25 rd gksus okyk vuqekfur O;;","forh; o\"kZ esa gksus okyk dqy O;;","o\"kZ 2024&54 vfrfjDr ds fy, vko';drk"]
[null,null,null,null,null,null,";ksx dkWye ¼5$6½",";ksx dkWye ¼4&7½"]
[1,2,3,4,5,6,7,8]
[1,{"$f":"Profile!$G$38","v":2405},{"$f":"Profile!$D$39","v":"lhchbZvks chdkusj"},{"$f":"'rrr 09'!$G$19","v":0},{"$f":"'rrr 09'!$I$19","v":155000},{"$f":"'rrr 09'!$K$19","v":679182},{"$f":"E8+F8","v":834182},{"$f":"-(D8+E8-G8)","v":679182}]
[]
[null,null,null,null,"rS;kj drkZ %&",{"$f":"Profile!$G$6","v":"dqynhi dqekj"}]
[null,null,null,null,null,{"$f":"Profile!$I$6","v":9799001169},{"$f":"Profile!A3","v":"lhchbZvks "}]
[null,null,null,null,null,null,{"$f":"Profile!A4","v":"lexz f'k{kk"},{"$f":"Profile!B4","v":0}]
[null,null,null,null,null,null,{"$f":"Profile!A5","v":"chdkusj"},{"$f":"Profile!B5","v":0}]
[null,null,null,null,null,null,{"$f":"Profile!$F$4","v":2405}]

{"sheet":"L-1-2","index":5,"n_rows":18,"n_cols":8,"rows_kept":18,"cut":false,"hidden":false,"merged":[[0,2,0,7],[7,2,12,2],[4,7,6,7],[7,7,12,7],[15,5,15,7],[1,5,1,7],[1,0,1,4],[16,5,16,7],[17,5,17,7],[13,0,13,3],[2,0,2,1],[2,4,2,5],[2,6,2,7]]}
[null,{"$f":"Profile!A39","v":"dk;kZy; %&"},{"$f":"Profile!D39","v":"lhchbZvks chdkusj"}]
["v/;kid ysoy&1 o ysoy&2 Lohd`r] dk;Zjr o fjDr inks dk fooj.k",null,null,null,null,{"$f":"Profile!C3","v":"2202-02-109-01-00"}]
["en 2202   ukWu Iyku  ",null,"o\"kZ ",{"$f":"Profile!O39","v":"RE 2024-2025"},"o vkxkeh o\"kZ",null,{"$f":"Profile!N38","v":"BE 2025-2026"}]
["ys[kk 'kh\"kZd ¼foLr`r 'kh\"kZ½","en","in uke","fo\"k; ","Lohd`r","dk;Zjr","fjDr","Lohd`r ;ksx"]
["vjktif=r",{"$f":"F2","v":"2202-02-109-01-00"},"v/;kid ysoy&1","&",1,1,{"$f":"E5-F5","v":0},{"$f":"E5+E7+E6","v":1}]
["vjktif=r","2202-02-109-01-00","v/;kid ysoy&1","&",0,0,{"$f":"E6-F6","v":0}]
["vjktif=r",{"$f":"B6","v":"2202-02-109-01-00"},"v/;kid ysoy&1","&",null,0,{"$f":"E7-F7","v":0}]
["vjktif=r",{"$f":"B5","v":"2202-02-109-01-00"},"v/;kid ysoy&2","vaxzsth",0,0,{"$f":"E8-F8","v":0},{"$f":"E8+E9+E10+E11+E12+E13","v":0}]
["vjktif=r",{"$f":"B5","v":"2202-02-109-01-00"},null,"fgUnh",0,0,0]
["vjktif=r",{"$f":"B9","v":"2202-02-109-01-00"},null,"xf.kr@foKku",0,0,0]
["vjktif=r",{"$f":"B10","v":"2202-02-109-01-00"},null,"lkekftd foKku",0,0,0]
["vjktif=r",{"$f":"B11","v":"2202-02-109-01-00"},null,"iatkch",0,0,0]
["vjktif=r",{"$f":"B12","v":"2202-02-109-01-00"},null,"laLd`r",0,0,0]
["dqy",null,null,null,{"$f":"E5+E7+E8+E9+E10+E11+E12+E13+E6","v":1},{"$f":"F5+F7+F8+F9+F10+F11+F12+F13+F6","v":1},0,1]
[]
[null,{"$f":"Profile!C3","v":"2202-02-109-01-00"},null,null,null,{"$f":"'P3'!J35","v":"lhchbZvks "}]
[null,null,null,null,null,{"$f":"'P3'!J36","v":"lexz f'k{kk"},{"$f":"'P3'!K36","v":0},{"$f":"'P3'!L36","v":0}]
[null,null,null,null,null,{"$f":"'P3'!J37","v":"chdkusj"},{"$f":"'P3'!K37","v":0},{"$f":"'P3'!L37","v":0}]

{"sheet":"P3","index":6,"n_rows":38,"n_cols":12,"rows_kept":38,"cut":false,"hidden":false,"merged":[[37,9,37,11],[34,9,34,11],[35,9,35,11],[36,9,36,11],[1,0,1,7],[1,9,1,11],[0,0,0,2],[0,3,0,11],[2,2,3,2],[2,1,3,1],[2,0,3,0],[2,4,3,4],[2,5,3,5],[2,8,2,9],[2,10,3,10],[2,11,3,11],[2,7,3,7],[2,3,3,3],[2,6,3,6]]}
[{"$f":"Profile!A39","v":"dk;kZy; %&"},null,null,{"$f":"Profile!D39","v":"lhchbZvks chdkusj"}]
["¼v½ fu;fer Lohd`r inks dk fooj.k",null,null,null,null,null,null,null,"ctV gSM",{"$f":"Profile!$C$3","v":"2202-02-109-01-00"}]
["ys[kk dk 'kh\"kZ nh?kZ 'kh\"kZ@ minh?kZ 'kh\"kZ@ y?kq'kh\"kZ@ mi'kh\"kZ ","ukWuIyku @ Iyku @ lh-,l-,l-","in uke","ysoy@ xzsM is","Lohd`r inksa dh la[;k ¼fnukad \n01-04-2023 dh fLFkfr½","pkyw o\"kZ 2020&2021 esa Lohd`r u;s inksa dh la[;k","pkyw o\"kZ 2020&2021 esa lekIr fd;s x;s inksa dh la[;k","orZeku inkas dh la[;k ¼dkWye la[;k 5+6-7½","fu;fer dk;Zjr",null,"31-08-2023 dks fjDr inksa dh la[;k","fnukad ftlls in fjDr gS"]
[null,null,null,null,null,null,null,null,"1tuojh 2004 ls iwoZ fu;qfDr","1tuojh 2004 ds Ik'pkr fu;qfDr"]
[1,2,3,4,5,6,7,8,9,10,11,12]
[{"$f":"Profile!A47","v":"jktif=r"},{"$f":"Profile!$K$39","v":"LVsV Q.M"},{"$f":"Profile!G47","v":"iz/kkukpk;Z"},{"$f":"Profile!I47","v":16},1,0,0,{"$f":"SUM(E6:G6)","v":1},1,0,{"$f":"H6-I6-J6","v":0}]
[{"$f":"Profile!A48","v":"jktif=r"},{"$f":"Profile!$K$39","v":"LVsV Q.M"},{"$f":"Profile!G48","v":"O;k[;krk"},{"$f":"Profile!I48","v":12},1,0,0,{"$f":"SUM(E7:G7)","v":1},1,0,{"$f":"H7-I7-J7","v":0}]
[{"$f":"Profile!A49","v":"jktif=r"},{"$f":"Profile!$K$39","v":"LVsV Q.M"},{"$f":"Profile!G49","v":"O;k[;krk"},{"$f":"Profile!I49","v":12},1,0,0,{"$f":"SUM(E8:G8)","v":1},1,0,0]
[{"$f":"Profile!A50","v":"jktif=r"},{"$f":"Profile!$K$39","v":"LVsV Q.M"},{"$f":"Profile!G50","v":"O;k[;krk"},{"$f":"Profile!I50","v":12},1,0,0,1,1,0,0]
[{"$f":"Profile!A51","v":"jktif=r"},{"$f":"Profile!$K$39","v":"LVsV Q.M"},{"$f":"Profile!G51","v":"O;k[;krk"},{"$f":"Profile!I51","v":12},0,0,0,0,0,0,0]
[{"$f":"Profile!A52","v":"jktif=r"},{"$f":"Profile!$K$39","v":"LVsV Q.M"},{"$f":"Profile!G52","v":"O;k[;krk"},{"$f":"Profile!I52","v":12},0,0,0,0,0,0,0]
[{"$f":"Profile!A53","v":"jktif=r"},{"$f":"Profile!$K$39","v":"LVsV Q.M"},{"$f":"Profile!G53","v":"O;k[;krk"},{"$f":"Profile!I53","v":12},1,1,1,3,0,0,3]
[{"$f":"Profile!A54","v":"vjktif=r"},{"$f":"Profile!$K$39","v":"LVsV Q.M"},{"$f":"Profile!G54","v":"ofj\"B v/;kid"},{"$f":"Profile!I54","v":11},0,0,0,0,0,0,0]
[{"$f":"Profile!A55","v":"vjktif=r"},{"$f":"Profile!$K$39","v":"LVsV Q.M"},{"$f":"Profile!G55","v":"ofj\"B v/;kid"},{"$f":"Profile!I55","v":11},0,0,0,0,0,0,0]
[{"$f":"Profile!A56","v":"vjktif=r"},{"$f":"Profile!$K$39","v":"LVsV Q.M"},{"$f":"Profile!G56","v":"ofj\"B v/;kid"},{"$f":"Profile!I56","v":11},0,0,0,0,0,0,0]
[{"$f":"Profile!A57","v":"vjktif=r"},{"$f":"Profile!$K$39","v":"LVsV Q.M"},{"$f":"Profile!G57","v":"ofj\"B v/;kid"},{"$f":"Profile!I57","v":11},0,0,0,0,0,0,0]
[{"$f":"Profile!A58","v":"vjktif=r"},{"$f":"Profile!$K$39","v":"LVsV Q.M"},{"$f":"Profile!G58","v":"ofj\"B v/;kid"},{"$f":"Profile!I58","v":11},0,0,0,0,0,0,0]
[{"$f":"Profile!A59","v":"vjktif=r"},{"$f":"Profile!$K$39","v":"LVsV Q.M"},{"$f":"Profile!G59","v":"ofj\"B v/;kid"},{"$f":"Profile!I59","v":11},0,0,0,0,0,0,0]
[{"$f":"Profile!A60","v":"vjktif=r"},{"$f":"Profile!$K$39","v":"LVsV Q.M"},{"$f":"Profile!G60","v":"v/;kid"},{"$f":"Profile!I60","v":10},1,0,0,1,1,0,0]
[{"$f":"Profile!A61","v":"vjktif=r"},{"$f":"Profile!$K$39","v":"LVsV Q.M"},{"$f":"Profile!G61","v":"v/;kid"},{"$f":"Profile!I61","v":10},0,0,0,0,0,0,0]
[{"$f":"Profile!A62","v":"vjktif=r"},{"$f":"Profile!$K$39","v":"LVsV Q.M"},{"$f":"Profile!G62","v":"v/;kid"},{"$f":"Profile!I62","v":10},0,0,0,0,0,0,0]
[{"$f":"Profile!A63","v":"vjktif=r"},{"$f":"Profile!$K$39","v":"LVsV Q.M"},{"$f":"Profile!G63","v":" 'kk0f'k{kd"},{"$f":"Profile!I63","v":10},0,0,0,0,0,0,0]
[{"$f":"Profile!A64","v":"vjktif=r"},{"$f":"Profile!$K$39","v":"LVsV Q.M"},{"$f":"Profile!G64","v":"dEi;wVj vuqns'kd"},{"$f":"Profile!I64","v":8},0,0,0,0,0,0,0]
[{"$f":"Profile!A65","v":"vjktif=r"},{"$f":"Profile!$K$39","v":"LVsV Q.M"},{"$f":"Profile!G65","v":"iz'kklfud vf/kdkjh"},{"$f":"Profile!I65","v":15},1,0,0,1,0,1,0]
[{"$f":"Profile!A66","v":"vjktif=r"},{"$f":"Profile!$K$39","v":"LVsV Q.M"},{"$f":"Profile!G66","v":"vfrfjDr iz0v0"},{"$f":"Profile!I66","v":11},0,0,0,0,0,0,0]
[{"$f":"Profile!A67","v":"vjktif=r"},{"$f":"Profile!$K$39","v":"LVsV Q.M"},{"$f":"Profile!G67","v":"lgk;d iz0v0"},{"$f":"Profile!I67","v":10},0,0,0,0,0,0,0]
[{"$f":"Profile!A68","v":"vjktif=r"},{"$f":"Profile!$K$39","v":"LVsV Q.M"},{"$f":"Profile!G68","v":"ofj\"B lgk;d"},{"$f":"Profile!I68","v":8},0,0,0,0,0,0,0]
[{"$f":"Profile!A69","v":"vjktif=r"},{"$f":"Profile!$K$39","v":"LVsV Q.M"},{"$f":"Profile!G69","v":"dfu\"B lgk;d"},{"$f":"Profile!I69","v":5},0,0,0,0,0,0,0]
[{"$f":"Profile!A70","v":"vjktif=r"},{"$f":"Profile!$K$39","v":"LVsV Q.M"},{"$f":"Profile!G70","v":"lgk;d deZpkjh"},{"$f":"Profile!I70","v":1},0,0,0,0,0,0,0]
[{"$f":"Profile!A71","v":"vjktif=r"},{"$f":"Profile!$K$39","v":"LVsV Q.M"},{"$f":"Profile!G71","v":"lgk;d deZpkjh"},{"$f":"Profile!I71","v":1},0,0,0,0,0,0,{"$f":"H130-I130-J30","v":0}]
[{"$f":"Profile!A72","v":"vjktif=r"},{"$f":"Profile!$K$39","v":"LVsV Q.M"},{"$f":"Profile!G72","v":"lgk;d deZpkjh"},{"$f":"Profile!I72","v":1},0,0,0,0,0,0,0]
[]
[null,null,"dqy ",null,{"$f":"SUM(E6:E32)","v":7},{"$f":"SUM(F6:F32)","v":1},1,9,5,1,3]
[]
[null,null,null,null,null,null,null,null,null,{"$f":"Profile!A3","v":"lhchbZvks "}]
[null,null,null,null,null,null,null,null,null,{"$f":"Profile!A4","v":"lexz f'k{kk"},{"$f":"Profile!B4","v":0}]
[null,null,null,null,null,null,null,null,null,{"$f":"Profile!A5","v":"chdkusj"},{"$f":"Profile!B5","v":0}]
[null,null,null,null,null,null,null,null,null,{"$f":"'P1'!$G$14","v":2405}]

{"sheet":"retierment","index":7,"n_rows":14,"n_cols":10,"rows_kept":14,"cut":false,"hidden":false,"merged":[[13,7,13,8],[10,7,10,8],[11,7,11,8],[12,7,12,8],[0,3,0,9],[2,0,2,9],[0,0,0,2],[3,5,3,6],[3,0,3,2],[1,0,1,5],[1,7,1,9]]}
[{"$f":"Profile!A39","v":"dk;kZy; %&"},null,null,{"$f":"Profile!D39","v":"lhchbZvks chdkusj"}]
["izi= 12 ,",null,null,null,null,null,"ctV gSM",{"$f":"Profile!$C$3","v":"2202-02-109-01-00"}]
["osru J`a[kyk 1 ls 6 rd lsokfuo`r gksus okys dkfeZd dk fooj.k"]
["en 2202   ukWu Iyku  ",null,null,"o\"kZ ",{"$f":"Profile!O39","v":"RE 2024-2025"},"o vkxkeh o\"kZ",null,{"$f":"Profile!M39","v":"2025&2026"}]
["Ø-la","ctV en","deZpkjh dk uke","osru Ja`[kyk","ossru ysoy","in uke","lsokfuo`r fnukad","lsokfuo`r deZpkjh dh lsokfuo`fr ds le; ns; mikftZr vodk'k","dkfeZd dk lsokfuo`fr ds le; ewy osru","lsokfuo`r deZpkjh dh jde "]
[1," Iyku ","izHkkr 'kekZ",null,"ysoy&17","iz/kkukpk;Z","31-12-2021",300,110500,{"$f":"H6*I6/30","v":1105000}]
[2,"ukWu Iyku ckfydk",null,null,null,null,null,null,null,{"$f":"H7*I7/30","v":0}]
[3,"ukWu Iyku ",null,null,null,null,null,null,null,0]
[4,"ukWu Iyku ",null,null,null,null,null,null,null,0]
[]
[null,null,{"$f":"Profile!C3","v":"2202-02-109-01-00"},null,null,null,null,{"$f":"Profile!A3","v":"lhchbZvks "}]
[null,null,null,null,null,null,null,{"$f":"Profile!A4","v":"lexz f'k{kk"},{"$f":"Profile!B4","v":0}]
[null,null,null,null,null,null,null,{"$f":"Profile!A5","v":"chdkusj"},{"$f":"Profile!B5","v":0}]
[null,null,null,null,null,null,null,{"$f":"Profile!$F$4","v":2405}]

{"sheet":"FIX PAY","index":8,"n_rows":25,"n_cols":9,"rows_kept":25,"cut":false,"hidden":false,"merged":[[2,3,2,5]]}
[null,null,"uke dk;kZy;&",{"$f":"Profile!$C$1","v":"lhchbZvks chdkusj"}]
[null,null,null,null,"lafonk osru ij fu;qä dkfeZdksa dk fooj.k",null,"vkWfQl vkbZMh&",{"$f":"Profile!$F$4","v":2405}]
[null,null,"ys[kk 'kh\"kZd&",{"$f":"Profile!C3","v":"2202-02-109-01-00"}]
[null,null,null,null,"laosru"]
[null,null,"ekax la[;k",{"$f":"Profile!$C$11","v":20},null,"Ldhe dk uke",{"$f":"Profile!$C$10","v":"LVsV Q.M"}]
[]
[null,"Ø-la-","uke dkfeZd","in uke","tUe frfFk","fu;qfä frfFk","ekfld ekuns;","12 ekg dk ekuns;","vkxkeh o\"kZ es 12 ekg dk ekuns;"]
[null,1,2,3,4,5,6,7,8]
[null,{"$f":"Profile!C94","v":1},{"$f":"Profile!D94","v":""},{"$f":"Profile!E94","v":""},{"$f":"Profile!F94","v":""},{"$f":"Profile!G94","v":""},{"$f":"Profile!H94","v":0},{"$f":"Profile!I94","v":0},{"$f":"Profile!J94","v":0}]
[null,{"$f":"Profile!C95","v":2},{"$f":"Profile!D95","v":""},{"$f":"Profile!E95","v":""},{"$f":"Profile!F95","v":""},{"$f":"Profile!G95","v":""},{"$f":"Profile!H95","v":0},{"$f":"Profile!I95","v":0},{"$f":"Profile!J95","v":0}]
[null,{"$f":"Profile!C96","v":3},{"$f":"Profile!D96","v":""},{"$f":"Profile!E96","v":""},{"$f":"Profile!F96","v":""},{"$f":"Profile!G96","v":""},{"$f":"Profile!H96","v":0},{"$f":"Profile!I96","v":0},{"$f":"Profile!J96","v":0}]
[null,{"$f":"Profile!C97","v":4},{"$f":"Profile!D97","v":""},{"$f":"Profile!E97","v":""},{"$f":"Profile!F97","v":""},{"$f":"Profile!G97","v":""},{"$f":"Profile!H97","v":0},{"$f":"Profile!I97","v":0},{"$f":"Profile!J97","v":0}]
[null,{"$f":"Profile!C98","v":5},{"$f":"Profile!D98","v":""},{"$f":"Profile!E98","v":""},{"$f":"Profile!F98","v":""},{"$f":"Profile!G98","v":""},{"$f":"Profile!H98","v":0},{"$f":"Profile!I98","v":0},{"$f":"Profile!J98","v":0}]
[null,{"$f":"Profile!C99","v":6},{"$f":"Profile!D99","v":""},{"$f":"Profile!E99","v":""},{"$f":"Profile!F99","v":""},{"$f":"Profile!G99","v":""},{"$f":"Profile!H99","v":0},{"$f":"Profile!I99","v":0},{"$f":"Profile!J99","v":0}]
[null,{"$f":"Profile!C100","v":7},{"$f":"Profile!D100","v":""},{"$f":"Profile!E100","v":""},{"$f":"Profile!F100","v":""},{"$f":"Profile!G100","v":""},{"$f":"Profile!H100","v":0},{"$f":"Profile!I100","v":0},{"$f":"Profile!J100","v":0}]
[null,{"$f":"Profile!C101","v":8},{"$f":"Profile!D101","v":""},{"$f":"Profile!E101","v":""},{"$f":"Profile!F101","v":""},{"$f":"Profile!G101","v":""},{"$f":"Profile!H101","v":0},{"$f":"Profile!I101","v":0},{"$f":"Profile!J101","v":0}]
[null,{"$f":"Profile!C102","v":9},{"$f":"Profile!D102","v":""},{"$f":"Profile!E102","v":""},{"$f":"Profile!F102","v":""},{"$f":"Profile!G102","v":""},{"$f":"Profile!H102","v":0},{"$f":"Profile!I102","v":0},{"$f":"Profile!J102","v":0}]
[null,{"$f":"Profile!C103","v":10},{"$f":"Profile!D103","v":""},{"$f":"Profile!E103","v":""},{"$f":"Profile!F103","v":""},{"$f":"Profile!G103","v":""},{"$f":"Profile!H103","v":0},{"$f":"Profile!I103","v":0},{"$f":"Profile!J103","v":0}]
[null,null,null,{"$f":"Profile!E104","v":"TOTAL"},null,null,{"$f":"Profile!H104","v":0},{"$f":"Profile!I104","v":0},{"$f":"Profile!J104","v":0}]
[]
[]
[null,null,null,null,null,{"$f":"Profile!A3","v":"lhchbZvks "}]
[null,"rS;kj drkZ %&",{"$f":"Profile!G6","v":"dqynhi dqekj"},null,null,{"$f":"Profile!A4","v":"lexz f'k{kk"}]
[null,null,null,null,null,{"$f":"Profile!A5","v":"chdkusj"}]
[null,null,null,null,null,{"$f":"Profile!$F$4","v":2405}]

{"sheet":"CHALAN","index":9,"n_rows":33,"n_cols":16,"rows_kept":33,"cut":false,"hidden":false,"merged":[[10,12,10,15],[0,6,0,7],[10,0,11,0],[10,1,11,1],[10,2,10,5],[10,6,11,6],[10,7,10,10],[10,11,11,11],[8,7,8,8],[8,0,8,1]]}
[null,null,null,null,null,null,"pkyku fooj.k"]
["fo|ky; dk uke &",null,null,"jktdh; mPp ek/;fed fo|ky; pkSxkbZa Vksad"]
["ys[kk 'kh\"kZd&",null,2202,"lkekU; f'k{kk",null,null,"vkWfQl vkbZMh&",27306]
[null,null,2,"ek/;fed f'k{kk"]
[null,null,109,"jktdh; mPp ek/;fed fo|ky;"]
[null,null,27,"yM+dksa ds fo|ky;"]
[null,null,1,"yM+dksa ds fo|ky;"]
[]
["ekax la[;k",null,24,null,null,null,"Ldhe dk uke","LVsV Q.M"]
[]
["Ø- la-","pkyu uEcj o fnukad","vizsy 19 ls ekpZ 20",null,null,null,"pkyu uEcj o fnukad","vxLr 19 ls ekpZ 20",null,null,null,"pkyu uEcj o fnukad","vizsy 20 ls tqykbZ 20"]
[null,null,"f'k{k.k Qhl ,oa vU; Qhlsa","vuqi;ksxh lkekuksa ls vk;","vf/kd Hkqxrku ls olwyh","fofo/k",null,"f'k{k.k Qhl ,oa vU; Qhlsa","vuqi;ksxh lkekuksa ls vk;","vf/kd Hkqxrku ls olwyh","fofo/k",null,"f'k{k.k Qhl ,oa vU; Qhlsa","vuqi;ksxh lkekuksa ls vk;","vf/kd Hkqxrku ls olwyh","fofo/k"]
["",null,10,20,30,40,null,50,60,70,80,null,90,100,110,120]
[""]
[""]
[""]
[""]
[""]
[""]
[""]
[""]
[""]
[""]
[""]
[""]
[""]
[""]
[null,"TOTAL",10,20,30,40,null,50,60,70,80,null,90,100,110,120]
[]
[null,null,null,null,null,null,null,null,null,null,null,null,{"$f":"Profile!A3","v":"lhchbZvks "}]
[null,null,null,null,null,null,null,null,null,null,null,null,{"$f":"Profile!A4","v":"lexz f'k{kk"}]
[null,null,null,null,null,null,null,null,null,null,null,null,{"$f":"Profile!A5","v":"chdkusj"}]
[null,null,null,null,null,null,null,null,null,null,null,null,{"$f":"Profile!$F$4","v":2405}]

{"sheet":"bank ac SCHOOL","index":10,"n_rows":20,"n_cols":10,"rows_kept":20,"cut":false,"hidden":false,"merged":[[6,0,9,0],[6,1,9,1],[6,2,9,2],[6,3,9,3],[0,0,0,9],[1,0,1,4],[3,4,4,5],[5,4,5,5],[3,9,4,9],[3,6,3,7],[3,0,4,0],[3,1,4,1],[3,2,4,2],[3,3,4,3],[1,5,1,9],[16,6,16,9],[17,6,17,9],[18,6,18,9],[19,6,19,9],[10,0,13,0],[10,1,13,1],[10,2,13,2],[10,3,13,3]]}
["¼c½ cSad [kkrks fLFkfr dk fooj.k"]
[{"$f":"'P3'!$D$1","v":"lhchbZvks chdkusj"},null,null,null,null,"foHkkx dk uke %& f'k{kk foHkkx"]
[]
["cSd rFkk 'kk[kk dk uke ¼bZ,Qlh dksM½","cSd [kkrs dk uke e; [kkrk la[;k","in uke ftlds uke ls [kkrk gS ","foHkkxh; @ xSj foHkkxh;","01-04-2019 dks vo'ks\"k jkf'k",null,"2019&2020",null,null,"31-08-2019  dks 'ks\"k jkf'k  ¼5$6&7½"]
[null,null,null,null,null,null,"gLrkUrfjr jkf'k","fnukad 31 vxLr rd O;; jkf'k"]
[1,2,3,4,5,null,6,7,null,8]
["vkS-ch-lh 15tSM vksvkjchlh01100506","RAJKIYE MADHYAMIK VIDHALYA 15Z 0506204 0000210","iz/kkukpk;Z","foHkkxh; fo|kFkhZ dks\"k ","cash",0,205,0,null,{"$f":"F7+G7-H7","v":205}]
[null,null,null,null,"bank",2991.65,{"$f":"11432-205","v":11227},1265,null,{"$f":"F8+G8-H8","v":12953.65}]
[null,null,null,null,"F.D.",0,0,0,null,0]
[null,null,null,null,"Total",{"$f":"F9+F8+F7","v":2991.65},{"$f":"G9+G8+G7","v":11432},1265,0,13158.65]
["vkS-ch-lh 15tSM vksvkjchlh01100506","RA.MA.VIDYALA VKASH KOSH 0506204 0000080","iz/kkukpk;Z","foHkkxh; fodkl dks\"k  ","cash",0,0,0,null,{"$f":"F11+G11-H11","v":0}]
[null,null,null,null,"bank",26604,15234,9990,null,31848]
[null,null,null,null,"F.D.",0,0,0,null,0]
[null,null,null,null,"Total",{"$f":"F13+F12+F11","v":26604},{"$f":"G13+G12+G11","v":15234},{"$f":"H13+H12+H11","v":9990},{"$f":"I13+I12+I11","v":0},31848]
[]
[]
[null,null,null,null,null,null,{"$f":"Profile!A3","v":"lhchbZvks "}]
[null,null,null,null,null,null,{"$f":"Profile!A4","v":"lexz f'k{kk"},{"$f":"Profile!B4","v":0}]
[null,null,null,null,null,null,{"$f":"Profile!A5","v":"chdkusj"},{"$f":"Profile!B5","v":0}]
[null,null,null,null,null,null,{"$f":"Profile!$F$4","v":2405}]

{"sheet":"R01","index":11,"n_rows":40,"n_cols":8,"rows_kept":40,"cut":false,"hidden":false,"merged":[[39,4,39,6],[0,0,0,7],[1,0,1,7],[33,1,33,2],[35,1,35,2],[37,1,37,2],[35,4,35,6],[33,4,33,6],[37,4,37,6],[2,0,2,3]]}
[{"$f":"'P3'!$D$1","v":"lhchbZvks chdkusj"}]
["izi="]
[{"$f":"Profile!$A$38","v":"o\"kZ 2025&2026 ds fy, jsUt ds vuqlkj laosru dh jkf'k "}]
["Ø-la-","in dk uke",",u-ih-,l-] lkekU;] fjDr","xzsM is",",d ekg dh jkf'k","12 ekg dh jkf'k","3 izfr'kr osru o`f)","x.kuk osru o`f)"]
[1,{"$f":"Profile!G47","v":"iz/kkukpk;Z"},"lkekU;",{"$f":"Profile!I47","v":16},{"$f":"Profile!J47","v":42500},{"$f":"E5*12","v":510000},{"$f":"Profile!P47","v":1300},{"$f":"ROUNDUP((E5)*(3%),0)","v":1275}]
[2,{"$f":"Profile!G48","v":"O;k[;krk"},"lkekU;",{"$f":"Profile!I48","v":12},{"$f":"Profile!J48","v":0},{"$f":"E6*12","v":0},{"$f":"Profile!P48","v":0},{"$f":"ROUNDUP((E6)*(3%),0)","v":0}]
[3,{"$f":"Profile!G49","v":"O;k[;krk"},"lkekU;",{"$f":"Profile!I49","v":12},{"$f":"Profile!J49","v":0},0,{"$f":"Profile!P49","v":0},0]
[4,{"$f":"Profile!G50","v":"O;k[;krk"},",uih,l",{"$f":"Profile!I50","v":12},{"$f":"Profile!J50","v":0},0,{"$f":"Profile!P50","v":0},0]
[5,{"$f":"Profile!G51","v":"O;k[;krk"},null,{"$f":"Profile!I51","v":12},{"$f":"Profile!J51","v":0},0,{"$f":"Profile!P51","v":0},0]
[6,{"$f":"Profile!G52","v":"O;k[;krk"},null,{"$f":"Profile!I52","v":12},{"$f":"Profile!J52","v":0},0,{"$f":"Profile!P52","v":0},0]
[7,{"$f":"Profile!G53","v":"O;k[;krk"},null,{"$f":"Profile!I53","v":12},{"$f":"Profile!J53","v":0},0,{"$f":"Profile!P53","v":0},0]
[1,{"$f":"Profile!G54","v":"ofj\"B v/;kid"},"lkekU;",{"$f":"Profile!I54","v":11},{"$f":"Profile!J54","v":0},0,{"$f":"Profile!P54","v":0},0]
[2,{"$f":"Profile!G55","v":"ofj\"B v/;kid"},",u-ih-,l- fQDl",{"$f":"Profile!I55","v":11},{"$f":"Profile!J55","v":0},0,{"$f":"Profile!P55","v":0},0]
[3,{"$f":"Profile!G56","v":"ofj\"B v/;kid"},"fjDr",{"$f":"Profile!I56","v":11},{"$f":"Profile!J56","v":0},0,{"$f":"Profile!P56","v":0},0]
[4,{"$f":"Profile!G57","v":"ofj\"B v/;kid"},"fjDr",{"$f":"Profile!I57","v":11},{"$f":"Profile!J57","v":0},{"$f":"E15*12","v":0},{"$f":"Profile!P57","v":0}]
[12,{"$f":"Profile!G58","v":"ofj\"B v/;kid"},null,{"$f":"Profile!I58","v":11},{"$f":"Profile!J58","v":0},0,{"$f":"Profile!P58","v":0}]
[13,{"$f":"Profile!G59","v":"ofj\"B v/;kid"},null,{"$f":"Profile!I59","v":11},{"$f":"Profile!J59","v":0},0,{"$f":"Profile!P59","v":0}]
[5,{"$f":"Profile!G60","v":"v/;kid"},"lkekU;",{"$f":"Profile!I60","v":10},{"$f":"Profile!J60","v":0},0,{"$f":"Profile!P60","v":0}]
[6,{"$f":"Profile!G61","v":"v/;kid"},",u-ih-,l-",{"$f":"Profile!I61","v":10},{"$f":"Profile!J61","v":0},{"$f":"E19*12","v":0},{"$f":"Profile!P61","v":0}]
[7,{"$f":"Profile!G62","v":"v/;kid"},"fjDr",{"$f":"Profile!I62","v":10},{"$f":"Profile!J62","v":0},0,{"$f":"Profile!P62","v":0}]
[8,{"$f":"Profile!G63","v":" 'kk0f'k{kd"},"lkekU;",{"$f":"Profile!I63","v":10},{"$f":"Profile!J63","v":0},0,{"$f":"Profile!P63","v":0}]
[9,{"$f":"Profile!G64","v":"dEi;wVj vuqns'kd"},",u-ih-,l-",{"$f":"Profile!I64","v":8},{"$f":"Profile!J64","v":0},0,{"$f":"Profile!P64","v":0}]
[19,{"$f":"Profile!G65","v":"iz'kklfud vf/kdkjh"},null,{"$f":"Profile!I65","v":15},{"$f":"Profile!J65","v":0},0,{"$f":"Profile!P65","v":0},0]
[10,{"$f":"Profile!G66","v":"vfrfjDr iz0v0"},"lkekU;",{"$f":"Profile!I66","v":11},{"$f":"Profile!J66","v":0},0,{"$f":"Profile!P66","v":0},0]
[21,{"$f":"Profile!G67","v":"lgk;d iz0v0"},null,{"$f":"Profile!I67","v":10},{"$f":"Profile!J67","v":0},0,{"$f":"Profile!P67","v":0},0]
[11,{"$f":"Profile!G68","v":"ofj\"B lgk;d"},",u-ih-,l-",{"$f":"Profile!I68","v":8},{"$f":"Profile!J68","v":0},0,{"$f":"Profile!P68","v":0}]
[12,{"$f":"Profile!G69","v":"dfu\"B lgk;d"},",u-ih-,l-",{"$f":"Profile!I69","v":5},{"$f":"Profile!J69","v":0},0,{"$f":"Profile!P69","v":0}]
[13,{"$f":"Profile!G70","v":"lgk;d deZpkjh"},"lkekU;",{"$f":"Profile!I70","v":1},{"$f":"Profile!J70","v":0},0,{"$f":"Profile!P70","v":0}]
[14,{"$f":"Profile!G71","v":"lgk;d deZpkjh"},",u-ih-,l-",{"$f":"Profile!I71","v":1},{"$f":"Profile!J71","v":0},0,{"$f":"Profile!P71","v":0}]
[null,{"$f":"Profile!G72","v":"lgk;d deZpkjh"},null,{"$f":"Profile!I72","v":1},{"$f":"Profile!J72","v":0},0,{"$f":"Profile!P72","v":0}]
[null,null,"dqy ",null,{"$f":"SUM(E5:E30)","v":42500},{"$f":"SUM(F5:F30)","v":510000},{"$f":"SUM(G5:G30)","v":1300}]
[]
[null,null,"lkekU;",null,{"$f":"E12+E18+E21+E24+E28","v":0},0,{"$f":"G12+G18+G21+G24+G28","v":0}]
[null,"lk0osru o`f) 8 ekg",null,null,{"$f":"G33*8","v":0}]
[null,null,",uih,l",null,{"$f":"E13+E19+E22+E26+E27+E29","v":0},0,{"$f":"G13+G19+G22+G26+G27+G29","v":0}]
[null,"lk0osru o`f) 8 ekg ,uih,l",null,null,{"$f":"G35*8","v":0}]
[null,null,"dqy",null,{"$f":"E33+E35","v":0},0,{"$f":"G33+G35","v":0}]
[null,"lk0osru o`f) 8 ekg dqy",null,null,{"$f":"E36+E34","v":0}]
[]
[null,null,"egk;ksx",null,{"$f":"F37+E38","v":0}]

{"sheet":"Sheet1","index":12,"n_rows":74,"n_cols":14,"rows_kept":74,"cut":false,"hidden":true,"merged":[[22,12,22,13],[0,0,0,1],[0,2,0,8],[1,2,1,4],[15,1,15,4],[15,5,16,5],[15,6,16,6],[15,7,16,7],[15,8,16,8],[15,9,16,9],[15,10,16,10],[15,11,16,11],[22,2,22,4],[22,5,22,11]]}
["dk;kZy;&",null,"jktdh; mPp ek/;fed fo|ky; pkSxkbZa Vksad"]
["eksgj&",null,"Budget Estemate"]
["ihZbZbZvks 10tSM ,oa iz/kkukpk;Z",null,null,null,null,"vkWfQl vkbZMh","uke MhMhvks",null,"uEcj"]
["jktdh; mPp ek/;fed fo|ky;",null,null,null,null,2405,"izHkkr 'kekZ",null,9414318727]
["15tSM Jhxaxkuxj",null,null,null,null,"rS;kj drkZ ","lqfer fxjh",null,9414631519]
["ctV en        eq[; 'kh\"kZ",null,2202,"lkekU; f'k{kk"]
[null,null,2,"ek/;fed f'k{kk"]
[null,null,109,"jktdh; mPp ek/;fed fo|ky;"]
[null,null,27,"yM+dksa ds fo|ky;"]
[null,null,1,"yM+dksa ds fo|ky;"]
[]
[]
["Ldhe dk uke",null,null,null,null,"LVsV Q.M"]
["ekax la[;k",null,24,null,null,null,null,"Arear Month",8]
["ctV Lohd`fr esa fo|ky; dh Ø-la-",null,null,null,null,14,"egakbZ HkÙk nj",17,"DA Arr.",0,"HRA",8]
["xr rhu o\"ksksZa ds vk; ,oa O;; dk fooj.k","gsM",null,null,null,"2017-18","2018-19","2019-20","08/19 to 03/20","04/20 to 07/20","la'kksf/kr vuqeku 2020&21","vk; vuqeku 2021&2022"]
["vk;"]
["f'k{k.k Qhl o vU; Qhl","0202&02",102,1,0,110,200,210,150,90,220,230]
["ikB~; iqLrdksa ls vk;","0202&02",102,2]
["fofo/k","0202&02",102,3,1]
["vf/kd Hkqxrku dh olwyh","0202&02",102,3,2]
["vuqi;ksxh lkeku ds fuLrkj.k ls vk;","0202&02",102,5,2]
["O;;",null,"Lohd`r ctV 20&21",null,null,"[kpksZa dk fooj.k",null,null,null,null,null,null," O;; 04@20 ls 07@20"]
["en","gsM","dqy ;ksx","jkT; fuf/k","dsUnzh; lgk;rk","2017-18","2018-19","2019-20","08/19 to 03/20","04/20 to 07/20","lEHkkfor O;; 2020&21","dqy ;ksx","jkT; fuf/k","dsUnzh; lgk;rk"]
["laosru",1,{"$f":"SUM(D25+E25)","v":2384000},2384000,0,3783379,4658460,4432536,2925894,289407,4652816,{"$f":"SUM(J25+K25)","v":4942223},289407,0]
[";k=k O;;",3,0,0,0,0,0,18750,18750,0,0,0,0,0]
["fpfdRlk O;;",4,0,null,null,null,null,null,null,null,null,0,null,0]
[" dk;kZy; O;;",5,0,null,null,null,null,null,null,null,null,0,null,0]
["fdjk;k dj jk;fYV",9,0,null,null,null,null,null,null,null,null,0,null,0]
["e'khujh lkt lkeku",20,0,null,null,null,null,null,null,null,null,0,null,0]
["iqLrdky;",31,0,null,null,null,null,null,null,null,null,0,null,0]
["iz;ksx'kkyk",33,0,null,null,null,null,null,null,null,null,0,null,0]
["ofnZ;ka",37,0,null,null,null,null,null,null,null,null,0,null,0]
["vU; izHkkj",28,0,null,null,null,null,null,null,null,null,0,null,0]
["foHkkxh;lsokvksa ij fof'k\"V O;;",57,0,null,null,null,null,null,null,null,null,0,null,0]
[]
[null,"Developed by-",null,null,null,null,null,null,null,null,null,null,null,"L-1"]
[null,"Chaturbhuj Jat",null,null,null,"प्रधानाचार्य",null,null,null,null,null,null,null,"L-2"]
[null,"Teacher GSSS Chogai",null,null,null,"प्रधानाध्यापक",null,null,"G","M","R","C","S","L-3"]
[null,null,null,null,null,"व्याख्याता",null,null,"NG","F","F","W","M","L-4"]
[null,null,null,null,null,"व्याख्याता शारीरिक शिक्षा",null,null,null,null,null,"H",null,"L-5"]
[null,null,null,null,null,"पुस्तकालय अध्यक्ष ग्रेड I",null,null,null,null,null,null,null,"L-6"]
[null,null,null,null,null,"वरिष्ठ अध्यापक",null,null,null,null,null,null,null,"L-7"]
[null,null,null,null,null,"वरिष्ठ शारीरिक शिक्षक",null,null,null,null,null,null,null,"L-8"]
[null,null,null,null,null,"पुस्तकालय अध्यक्ष ग्रेड II",null,null,null,null,null,null,null,"L-9"]
[null,null,null,null,null,"अध्यापक ग्रेड III",null,null,null,null,null,null,null,"L-10"]
[null,null,null,null,null,"प्रबोधक",null,null,null,null,null,null,null,"L-11"]
[null,null,null,null,null,"शारीरिक शिक्षक",null,null,null,null,null,null,null,"L-12"]
[null,null,null,null,null,"पुस्तकालय अध्यक्ष ग्रेड III",null,null,null,null,null,null,null,"L-13"]
[null,null,null,null,null,"संस्थापन अधिकारी",null,null,null,null,null,null,null,"L-14"]
[null,null,null,null,null,"प्रशासनिक अधिकारी",null,null,null,null,null,null,null,"L-15"]
[null,null,null,null,null,"अतिरिक्त प्रशासनिक अधिकारी",null,null,null,null,null,null,null,"L-16"]
[null,null,null,null,null,"सहायक प्रशासनिक अधिकारी",null,null,null,null,null,null,null,"L-17"]
[null,null,null,null,null,"वरिष्ठ सहायक",null,null,null,null,null,null,null,"L-18"]
[null,null,null,null,null,"कनिष्ठ सहायक",null,null,null,null,null,null,null,"L-19"]
[null,null,null,null,null,"प्रयोग शाला सहायक",null,null,null,null,null,null,null,"L-20"]
[null,null,null,null,null,"प्रयोग शाला सेवक",null,null,null,null,null,null,null,"L-21"]
[null,null,null,null,null,"जमादार",null,null,null,null,null,null,null,"L-22"]
[null,null,null,null,null,"सहायक कर्मचारी",null,null,null,null,null,null,null,"L-23"]
[null,null,null,null,null,"ए सी बी ई ओ प्रथम",null,null,null,null,null,null,null,"L-24"]
[null,null,null,null,null,"सहायक लेखाधिकारी प्रथम "]
[null,null,null,null,null,"सहायक लेखाधिकारी द्वितीय "]
[null,null,null,null,null,"कनिष्ठ लेखाकार"]
[null,null,null,null,null,"अतिरिक्त जिला शिक्षा अधिकारी"]
[null,null,null,null,null,"मुख्य जिला शिक्षा अधिकारी "]
[null,null,null,null,null,"संयुक्त  निदेशक स्कूल शिक्षा"]
[null,null,null,null,null,"सी बी ई ओ"]
[null,null,null,null,null,"प्रबोधक शारीरिक शिक्षक"]
[null,null,null,null,null,"प्रशिक्षु शिक्षक"]
[null,null,null,null,null,"व्याख्याता कृषि"]
[null,null,null,null,null,"कृषि अध्यापक"]
[null,null,null,null,null,"कृषि प्रमुख"]
[null,null,null,null,null,"विशेष शिक्षक"]
[null,null,null,null,null,"ए सी बी ई ओ दवितीय"]